BOTTLE,20150626SIOCCHRJL
EXPOCODE,SECT_ID,STNNBR,CASTNO,SAMPNO,BTLNBR,BTLNBR_FLAG_W,DATE,TIME,LATITUDE,LONGITUDE,DEPTH,CTDPRS,CTDTMP,CTDSAL,CTDSAL_FLAG_W,SALNTY,SALNTY_FLAG_W,CTDOXY,CTDOXY_FLAG_W,OXYGEN,OXYGEN_FLAG_W,SILCAT,SILCAT_FLAG_W,NITRAT,NITRAT_FLAG_W,NITRIT,NITRIT_FLAG_W,PHSPHT,PHSPHT_FLAG_W,CFC-11,CFC-11_FLAG_W,CFC-12,CFC-12_FLAG_W,CFC113,CFC113_FLAG_W,TCARBN,TCARBN_FLAG_W,ALKALI,ALKALI_FLAG_W,DOC,DOC_FLAG_W,TDN,TDN_FLAG_W,TRITUM,TRITUM_FLAG_W,TRITER,HELIUM,HELIUM_FLAG_W,HELIER,DELHE3,DELHE3_FLAG_W,DELHER,NEON,NEON_FLAG_W,NEONER,DELC14,DELC14_FLAG_W,C14ERR,DELC13,DELC13_FLAG_W,CDOM325,CDOM325_FLAG_W,CDOM340,CDOM340_FLAG_W,CDOM380,CDOM380_FLAG_W,CDOM412,CDOM412_FLAG_W,CDOMSL,CDOMSL_FLAG_W,CDOMSN,CDOMSN_FLAG_W
,,,,,,,,,,,METERS,DBAR,ITS-90,PSS-78,,PSS-78,,UMOL/KG,,UMOL/KG,,UMOL/KG,,UMOL/KG,,UMOL/KG,,UMOL/KG,,PMOL/KG,,PMOL/KG,,PMOL/KG,,UMOL/KG,,UMOL/KG,,UMOL/KG,,UMOL/KG,,TU,,TU,NMOL/KG,,NMOL/KG,PERCNT,,PERCNT,NMOL/KG,,NMOL/KG,/MILLE,,/MILLE,/MILLE,,1/M,,1/M,,1/M,,1/M,,1/NM,,1/NM,
  33RR20070204,  I08S,    65,  1,     35,     35,2,20070307,0017,-39.9970,  94.9953, 3633,      5.0,  13.8330,  34.7439,2,  34.7443,2,    256.1,2,    258.2,2,     0.00,2,     5.18,2,     0.11,2,     0.53,2,    3.022,2,    1.781,2, -999.000,5,   2063.9,6,   2296.0,2,     53.6,2,     9.84,2,    0.632,2,    0.012,   1.7516,2,   0.0006,    -1.72,2,     0.18,    7.311,2,    0.008,   -999.0,9,   -999.0,  -999.00,9,   0.1038,2,   0.0717,2,   0.0334,2,   0.0243,2,   0.0146,3,   0.0179,3
  33RR20070204,  I08S,    65,  1,     34,   9419,2,20070307,0017,-39.9970,  94.9953, 3633,     40.7,  13.7698,  34.7468,2,  34.7457,2,    258.4,2,    258.1,2,     0.00,2,     5.22,2,     0.12,2,     0.54,2,    3.007,2,    1.802,2, -999.000,5,   2066.2,2,   2293.9,2,     51.9,2,     9.23,2, -999.000,9, -999.000,-999.0000,9,-999.0000,  -999.00,9,  -999.00, -999.000,9, -999.000,     44.5,2,      3.0,     1.62,2,   0.1037,2,   0.0715,2,   0.0335,2,   0.0242,2,   0.0148,3,   0.0180,3
  33RR20070204,  I08S,    65,  1,     33,     33,2,20070307,0017,-39.9970,  94.9953, 3633,     75.4,  11.7477,  34.8859,2,  34.8841,2,    255.4,2,    255.3,2,     1.72,2,     8.54,2,     0.47,2,     0.74,2,    3.342,2,    1.965,2, -999.000,5,   2100.6,2,   2298.4,2,     49.2,2,    13.66,2, -999.000,9, -999.000,-999.0000,9,-999.0000,  -999.00,9,  -999.00, -999.000,9, -999.000,     50.2,2,      4.0,     1.30,2,   0.0866,2,   0.0618,2,   0.0340,2,   0.0267,2,   0.0131,2,   0.0144,2
  33RR20070204,  I08S,    65,  1,     32,     37,2,20070307,0017,-39.9970,  94.9953, 3633,     95.8,  11.3736,  34.9012,2,  34.9014,2,    253.4,2,    254.7,2,     2.13,2,     9.82,2,     0.08,2,     0.78,2,    3.370,2,    1.975,2, -999.000,5,   2104.7,2,   2298.3,2,     48.7,2,    14.73,2,    0.350,2,    0.008,   1.8087,2,   0.0006,    -1.48,2,     0.19,    7.668,2,    0.009,   -999.0,9,   -999.0,  -999.00,9,   0.0748,2,   0.0516,2,   0.0282,2,   0.0227,2,   0.0128,2,   0.0147,3
  33RR20070204,  I08S,    65,  1,     31,     31,2,20070307,0017,-39.9970,  94.9953, 3633,    125.8,  11.1412,  34.8697,2,  34.8725,2,    255.0,2,    255.6,2,     2.15,2,    10.29,2,     0.03,2,     0.80,2,    3.419,2,    2.007,2, -999.000,5,   2105.7,2,   2297.4,2,     47.5,2,    14.14,2, -999.000,9, -999.000,-999.0000,9,-999.0000,  -999.00,9,  -999.00, -999.000,9, -999.000,     51.1,2,      3.2,     1.21,2,   0.0778,2,   0.0544,2,   0.0311,2,   0.0252,2,   0.0121,2,   0.0135,3
  33RR20070204,  I08S,    65,  1,     30,     30,2,20070307,0017,-39.9970,  94.9953, 3633,    145.8,  10.9735,  34.8442,2,  34.8449,2,    256.8,2,    256.7,2,     1.97,2,    10.68,2,     0.02,2,     0.82,2, -999.000,5, -999.000,5, -999.000,5,   2104.7,2,   2298.1,2,     46.6,2,    14.29,2, -999.000,9, -999.000,-999.0000,9,-999.0000,  -999.00,9,  -999.00, -999.000,9, -999.000,   -999.0,9,   -999.0,  -999.00,9,   0.0741,2,   0.0509,2,   0.0287,2,   0.0232,2,   0.0123,2,   0.0140,3
  33RR20070204,  I08S,    65,  1,     29,     29,2,20070307,0017,-39.9970,  94.9953, 3633,    175.9,  10.8579,  34.8280,2,  34.8274,2,    258.2,2,    259.4,2,     2.58,2,    10.81,2,     0.01,2,     0.84,2,    3.449,2,    2.022,2, -999.000,5,   2104.6,2,   2298.0,2,     45.8,2,    14.09,2,    0.387,2,    0.008,   1.7573,2,   0.0006,    -1.76,2,     0.17,    7.472,2,    0.008,   -999.0,9,   -999.0,  -999.00,9,   0.0727,2,   0.0501,2,   0.0284,2,   0.0231,2,   0.0122,2,   0.0139,3
  33RR20070204,  I08S,    65,  1,     28,     28,2,20070307,0017,-39.9970,  94.9953, 3633,    225.9,  10.8628,  34.8456,2,  34.8430,2,    256.9,2,    257.1,2,     2.60,2,    11.11,2,     0.01,2,     0.85,2,    3.446,2,    1.991,2, -999.000,5,   2106.9,2,   2295.7,2,     45.5,2,    14.74,2, -999.000,9, -999.000,-999.0000,9,-999.0000,  -999.00,9,  -999.00, -999.000,9, -999.000,     49.6,2,      2.9,     1.22,2,   0.0700,2,   0.0480,2,   0.0262,2,   0.0210,2,   0.0127,3,   0.0148,4
  33RR20070204,  I08S,    65,  1,     27,     27,2,20070307,0017,-39.9970,  94.9953, 3633,    275.9,  10.7712,  34.8450,2,  34.8461,2,    255.3,2,    254.4,2,     3.02,2,    11.66,2,     0.01,2,     0.88,2,    3.468,2,    2.014,2, -999.000,5,   2108.7,2,   2294.6,2,     44.7,2,    15.28,2,    0.523,2,    0.010,-999.0000,9,-999.0000,  -999.00,9,  -999.00, -999.000,9, -999.000,   -999.0,9,   -999.0,  -999.00,9,   0.0719,2,   0.0491,2,   0.0278,2,   0.0224,2,   0.0125,2,   0.0143,3
  33RR20070204,  I08S,    65,  1,     26,     26,2,20070307,0017,-39.9970,  94.9953, 3633,    326.3,  10.7416,  34.8543,2,  34.8544,2,    251.6,2,    251.5,2,     3.23,2,    11.90,2,     0.01,2,     0.90,2,    3.451,2,    1.973,2, -999.000,5,   2110.7,2,   2296.8,2,     44.2,2,    15.55,2, -999.000,9, -999.000,-999.0000,9,-999.0000,  -999.00,9,  -999.00, -999.000,9, -999.000,     46.8,2,      2.9,     1.17,2,   0.0731,2,   0.0502,2,   0.0282,2,   0.0225,2,   0.0125,3,   0.0143,4
  33RR20070204,  I08S,    65,  1,     25,     25,2,20070307,0017,-39.9970,  94.9953, 3633,    376.2,  10.5409,  34.8276,2,  34.8284,2,    250.6,2,    252.4,2,     3.25,2,    12.28,2,     0.01,2,     0.92,2,    3.490,2,    1.985,2, -999.000,5,   2112.1,2,   2295.4,2,     43.6,2,    15.78,2,    0.349,2,    0.008,   1.8153,2,   0.0003,    -1.52,2,     0.18,    7.613,2,    0.011,   -999.0,9,   -999.0,  -999.00,9,   0.0817,2,   0.0579,2,   0.0340,2,   0.0273,2,   0.0118,3,   0.0129,3
  33RR20070204,  I08S,    65,  1,     24,     24,2,20070307,0017,-39.9970,  94.9953, 3633,    426.2,  10.4890,  34.8315,2,  34.8310,2,    248.9,2,    249.5,2,     3.66,2,    12.70,2,     0.00,2,     0.94,2,    3.487,2,    1.986,2, -999.000,5,   2113.3,2,   2294.4,2,     43.0,2,    15.93,2, -999.000,9, -999.000,-999.0000,9,-999.0000,  -999.00,9,  -999.00, -999.000,9, -999.000,     40.8,2,      3.2,     1.16,2,   0.0700,2,   0.0475,2,   0.0261,2,   0.0207,2,   0.0129,2,   0.0151,3
  33RR20070204,  I08S,    65,  1,     23,     23,2,20070307,0017,-39.9970,  94.9953, 3633,    476.4,  10.2723,  34.8047,2,  34.8056,2,    248.1,2,    248.5,2,     3.49,2,    13.26,2,     0.00,2,     0.98,2,    3.512,2,    1.993,2, -999.000,5,   2115.7,2,   2293.3,2,     42.5,2,    16.84,2,    0.321,2,    0.008,   1.8027,2,   0.0005,    -0.86,2,     0.17,    7.627,2,    0.008,   -999.0,9,   -999.0,  -999.00,9,   0.0713,2,   0.0485,2,   0.0268,2,   0.0212,2,   0.0128,2,   0.0149,3
  33RR20070204,  I08S,    65,  1,     22,     22,2,20070307,0017,-39.9970,  94.9953, 3633,    526.7,  10.0526,  34.7766,2,  34.7777,2,    247.5,2,    247.5,2,     3.90,2,    13.78,2,     0.00,2,     1.01,2,    3.551,2,    2.019,2, -999.000,5,   2118.0,2,   2292.3,2,     42.0,2,    16.72,2, -999.000,9, -999.000,-999.0000,9,-999.0000,  -999.00,9,  -999.00, -999.000,9, -999.000,   -999.0,9,   -999.0,  -999.00,9,   0.0692,2,   0.0466,2,   0.0253,2,   0.0199,2,   0.0129,3,   0.0154,4
  33RR20070204,  I08S,    65,  1,     21,     21,2,20070307,0017,-39.9970,  94.9953, 3633,    646.9,   9.3670,  34.6867,2,  34.6861,2,    241.5,2,    236.5,2,     4.89,2,    16.45,2,     0.00,2,     1.17,2,    3.498,2,    1.913,2, -999.000,5,   2128.3,2,   2287.6,2,     41.6,2,    19.12,2, -999.000,9, -999.000,-999.0000,9,-999.0000,  -999.00,9,  -999.00, -999.000,9, -999.000,     34.4,2,      2.8,     1.20,2,   0.0810,2,   0.0564,2,   0.0321,2,   0.0255,2,   0.0119,2,   0.0135,3
  33RR20070204,  I08S,    65,  1,     20,     20,2,20070307,0017,-39.9970,  94.9953, 3633,    747.5,   8.4705,  34.5861,2,  34.5898,2,    221.1,2,    220.6,2,     8.26,2,    19.93,2,     0.00,2,     1.39,2,    3.170,2,    1.682,2, -999.000,5,   2141.5,2,   2285.2,2,     41.2,2,    22.37,2,    0.315,2,    0.011,   1.8334,2,   0.0003,     0.58,2,     0.17,    7.802,2,    0.009,   -999.0,9,   -999.0,  -999.00,9,   0.0788,2,   0.0534,2,   0.0294,2,   0.0230,2,   0.0130,2,   0.0150,3
  33RR20070204,  I08S,    65,  1,     19,     19,2,20070307,0017,-39.9970,  94.9953, 3633,    847.5,   7.0893,  34.4717,2,  34.4735,2,    207.4,2,    207.5,2,    14.18,2,    24.33,2,     0.00,2,     1.68,2,    2.603,2,    1.347,2, -999.000,5,   2161.3,2,   2285.0,2,     41.0,2,    27.09,2, -999.000,9, -999.000,-999.0000,9,-999.0000,  -999.00,9,  -999.00, -999.000,9, -999.000,     -8.7,2,      3.1,     1.10,2,   0.0881,2,   0.0605,2,   0.0345,2,   0.0269,2,   0.0127,2,   0.0142,3
  33RR20070204,  I08S,    65,  1,     18,     18,2,20070307,0017,-39.9970,  94.9953, 3633,    948.4,   5.8339,  34.3784,2,  34.3803,2,    212.5,2,    212.6,2,    19.52,2,    26.82,2,     0.00,2,     1.85,2,    2.705,2,    1.397,2, -999.000,5,   2171.5,2,   2286.1,2,     40.9,2,    29.12,2, -999.000,9, -999.000,-999.0000,9,-999.0000,  -999.00,9,  -999.00, -999.000,9, -999.000,   -999.0,9,   -999.0,  -999.00,9,   0.0905,2,   0.0618,2,   0.0361,2,   0.0283,2,   0.0128,4,   0.0140,4
  33RR20070204,  I08S,    65,  1,     17,     17,2,20070307,0017,-39.9970,  94.9953, 3633,   1048.9,   4.7654,  34.3314,2,  34.3324,2,    214.3,2,    214.3,2,    25.46,2,    28.96,2,     0.00,2,     2.00,2,    2.509,2,    1.281,2, -999.000,5,   2184.1,2,   2289.7,2,     40.4,2,    30.25,2, -999.000,9, -999.000,-999.0000,9,-999.0000,  -999.00,9,  -999.00, -999.000,9, -999.000,    -53.7,2,      3.7,     1.09,2,   0.1018,2,   0.0709,2,   0.0427,2,   0.0340,2,   0.0123,4,   0.0129,4
  33RR20070204,  I08S,    65,  1,     16,     16,2,20070307,0017,-39.9970,  94.9953, 3633,   1149.6,   4.1206,  34.3378,2,  34.3379,2,    207.5,2,    207.1,2,    33.38,2,    30.64,2,     0.00,2,     2.12,2,    2.013,2,    1.016,2, -999.000,5,   2198.0,2,   2294.4,2,     40.4,2,    31.65,2, -999.000,9, -999.000,-999.0000,9,-999.0000,  -999.00,9,  -999.00, -999.000,9, -999.000,   -999.0,9,   -999.0,  -999.00,9,   0.0999,2,   0.0683,2,   0.0398,2,   0.0309,2,   0.0126,4,   0.0139,4
  33RR20070204,  I08S,    65,  1,     15,     15,2,20070307,0017,-39.9970,  94.9953, 3633,   1250.3,   3.6797,  34.3618,2,  34.3624,2,    200.5,2,    200.6,2,    41.13,2,    31.79,2,     0.00,2,     2.21,2,    1.678,2,    0.849,2, -999.000,5,   2209.0,2,   2300.7,2,     40.3,2,    32.95,2, -999.000,9, -999.000,-999.0000,9,-999.0000,  -999.00,9,  -999.00, -999.000,9, -999.000,    -83.1,2,      3.4,     0.90,2,   0.1020,2,   0.0700,2,   0.0405,2,   0.0314,2,   0.0130,4,   0.0141,4
  33RR20070204,  I08S,    65,  1,     14,     14,2,20070307,0017,-39.9970,  94.9953, 3633,   1350.9,   3.3713,  34.4136,2,  34.4146,2,    188.8,2,    187.6,2,    50.48,2,    32.85,2,     0.00,2,     2.29,2, -999.000,9, -999.000,9, -999.000,9,   2226.0,2,   2314.5,2,     40.3,2,    34.38,2, -999.000,9, -999.000,   1.8560,2,   0.0006,     5.56,2,     0.18,    8.082,2,    0.009,   -999.0,9,   -999.0,  -999.00,9,   0.1107,2,   0.0766,2,   0.0446,2,   0.0344,2,   0.0130,3,   0.0139,3
  33RR20070204,  I08S,    65,  1,     13,     13,2,20070307,0017,-39.9970,  94.9953, 3633,   1451.5,   3.1424,  34.4603,2,  34.4615,2,    179.1,2,    179.2,2,    57.27,2,    33.38,2,     0.00,2,     2.33,2,    0.813,2,    0.415,2, -999.000,5,   2234.6,2,   2318.7,2,     40.8,2,    34.48,2, -999.000,9, -999.000,-999.0000,9,-999.0000,  -999.00,9,  -999.00, -999.000,9, -999.000,   -117.4,2,      3.0,     0.69,2,   0.1148,2,   0.0795,2,   0.0458,2,   0.0351,2,   0.0131,3,   0.0140,3
  33RR20070204,  I08S,    65,  1,     12,     12,2,20070307,0017,-39.9970,  94.9953, 3633,   1551.8,   2.9590,  34.5079,2,  34.5080,2,    176.6,2,    174.9,2,    62.29,2,    33.48,2,     0.00,2,     2.34,2,    0.606,2,    0.306,2, -999.000,5,   2239.7,2,   2322.6,2,     40.3,2,    34.88,2, -999.000,9, -999.000,   1.8429,2,   0.0006,     7.40,2,     0.19,    7.983,2,    0.009,   -999.0,9,   -999.0,  -999.00,9,   0.1177,2,   0.0816,2,   0.0465,2,   0.0352,2,   0.0133,3,   0.0142,3
  33RR20070204,  I08S,    65,  1,     11,     11,2,20070307,0017,-39.9970,  94.9953, 3633,   1653.2,   2.8038,  34.5495,2,  34.5508,2,    174.2,2,    173.7,2,    65.90,2,    33.39,2,     0.00,2,     2.33,2,    0.442,2,    0.222,2, -999.000,5,   2245.2,2,   2326.8,2,     40.0,2,    35.28,2, -999.000,9, -999.000,-999.0000,9,-999.0000,  -999.00,9,  -999.00, -999.000,9, -999.000,   -130.6,2,      2.4,     0.60,2,   0.1211,2,   0.0842,2,   0.0479,2,   0.0361,2,   0.0135,4,   0.0143,4
  33RR20070204,  I08S,    65,  1,     10,     10,2,20070307,0017,-39.9970,  94.9953, 3633,   1753.6,   2.7019,  34.5933,2,  34.5934,2,    173.7,2,    173.7,2,    69.33,2,    33.09,2,     0.00,2,     2.30,2,    0.316,2,    0.156,2, -999.000,5,   2248.5,6,   2330.9,2,     40.8,2,    34.84,2, -999.000,9, -999.000,   1.8523,2,   0.0006,     8.57,2,     0.19,    7.986,2,    0.009,   -999.0,9,   -999.0,  -999.00,9,   0.1222,2,   0.0850,2,   0.0475,2,   0.0355,2,   0.0137,3,   0.0147,3
  33RR20070204,  I08S,    65,  1,      9,      9,2,20070307,0017,-39.9970,  94.9953, 3633,   1855.2,   2.6055,  34.6346,2,  34.6349,2,    174.5,2,    174.1,2,    72.76,2,    32.66,2,     0.00,2,     2.28,2,    0.219,2,    0.106,2, -999.000,5,   2249.5,2,   2334.7,2,     40.8,2,    34.49,2, -999.000,9, -999.000,-999.0000,9,-999.0000,  -999.00,9,  -999.00, -999.000,9, -999.000,   -138.4,2,      2.9,     0.60,2,   0.1284,2,   0.0904,2,   0.0516,2,   0.0394,2,   0.0133,3,   0.0140,3
  33RR20070204,  I08S,    65,  1,      8,      8,2,20070307,0017,-39.9970,  94.9953, 3633,   1955.6,   2.5200,  34.6693,2,  34.6707,2,    177.3,2,    177.9,2,    74.20,2,    32.00,2,     0.00,2,     2.22,2, -999.000,9, -999.000,9, -999.000,9,   2246.8,2,   2338.4,2,     40.2,2,    33.63,2,    0.001,2,    0.005,   1.8707,2,   0.0006,     8.49,2,     0.18,    8.095,2,    0.009,   -999.0,9,   -999.0,  -999.00,9,   0.1231,2,   0.0858,2,   0.0476,2,   0.0352,2,   0.0138,2,   0.0149,3
  33RR20070204,  I08S,    65,  1,      7,      7,2,20070307,0017,-39.9970,  94.9953, 3633,   2117.4,   2.4076,  34.7079,2,  34.7086,2,    182.7,2,    183.5,2,    75.84,2,    31.13,2,     0.00,2,     2.16,2,    0.116,2,    0.056,2, -999.000,5,   2245.8,2,   2340.0,2,     40.6,2,    32.30,2, -999.000,9, -999.000,-999.0000,9,-999.0000,  -999.00,9,  -999.00, -999.000,9, -999.000,   -142.2,2,      2.6,     0.62,2,   0.1242,2,   0.0869,2,   0.0489,2,   0.0364,2,   0.0137,2,   0.0146,3
  33RR20070204,  I08S,    65,  1,      6,      6,2,20070307,0017,-39.9970,  94.9953, 3633,   2370.8,   2.2172,  34.7416,2,  34.7424,2,    191.4,2,    195.9,0,    79.88,2,    30.22,2,     0.00,2,     2.09,2,    0.078,2,    0.037,2, -999.000,5,   2243.4,2,   2345.6,2,     41.1,2,    31.55,2,    0.001,2,    0.004,   1.8819,2,   0.0007,     9.31,2,     0.19,    8.163,2,    0.009,   -999.0,9,   -999.0,  -999.00,9,   0.1236,2,   0.0863,2,   0.0477,2,   0.0351,2,   0.0139,2,   0.0149,3
  33RR20070204,  I08S,    65,  1,      5,      5,2,20070307,0017,-39.9970,  94.9953, 3633,   2623.6,   1.9578,  34.7510,2,  34.7514,2,    196.3,2,    197.1,2,    86.94,2,    30.08,2,     0.00,2,     2.08,2,    0.054,2,    0.025,2, -999.000,5,   2246.9,6,   2348.7,2,     40.8,2,    31.41,2, -999.000,9, -999.000,-999.0000,9,-999.0000,  -999.00,9,  -999.00, -999.000,9, -999.000,   -999.0,9,   -999.0,  -999.00,9,   0.1281,2,   0.0907,2,   0.0511,2,   0.0378,2,   0.0135,2,   0.0144,3
  33RR20070204,  I08S,    65,  1,      4,      4,2,20070307,0017,-39.9970,  94.9953, 3633,   2877.0,   1.6400,  34.7437,2,  34.7459,0,    199.7,2,    199.7,2,    97.44,2,    30.46,2,     0.00,2,     2.11,2,    0.048,2,    0.022,2, -999.000,5,   2251.1,2,   2354.2,2,     40.9,2,    32.06,2, -999.000,9, -999.000,-999.0000,9,-999.0000,  -999.00,9,  -999.00, -999.000,9, -999.000,   -153.3,2,      2.3,     0.61,2,   0.1230,2,   0.0861,2,   0.0474,2,   0.0347,2,   0.0139,3,   0.0150,4
  33RR20070204,  I08S,    65,  1,      3,      3,2,20070307,0017,-39.9970,  94.9953, 3633,   3131.0,   1.3989,  34.7339,2,  34.7343,2,    202.6,2,    202.4,2,   105.35,2,    30.94,2,     0.00,2,     2.14,2,    0.061,2,    0.029,2, -999.000,5,   2254.8,2,   2355.9,2,     40.9,2,    32.68,2, -999.000,9, -999.000,   1.9008,2,   0.0009,    10.96,2,     0.17,    8.293,2,    0.009,   -999.0,9,   -999.0,  -999.00,9,   0.1228,2,   0.0858,2,   0.0472,2,   0.0344,2,   0.0139,2,   0.0151,3
  33RR20070204,  I08S,    65,  1,      2,      2,2,20070307,0017,-39.9970,  94.9953, 3633,   3436.2,   1.1993,  34.7238,2,  34.7239,2,    204.9,2,    204.7,2,   112.28,2,    31.33,2,     0.00,2,     2.17,2,    0.082,2,    0.041,2, -999.000,5,   2258.4,6,   2360.9,2,     41.0,2,    33.05,2,    0.001,2,    0.004,   1.9401,2,   0.0007,    10.51,2,     0.18,    8.405,2,    0.010,   -999.0,9,   -999.0,  -999.00,9,   0.1234,2,   0.0864,2,   0.0478,2,   0.0347,2,   0.0140,2,   0.0151,3
  33RR20070204,  I08S,    65,  1,      1,      1,2,20070307,0017,-39.9970,  94.9953, 3633,   3682.3,   1.1263,  34.7196,2,  34.7203,2,    205.4,2,    205.3,2,   115.16,2,    31.58,2,     0.00,2,     2.19,2,    0.080,2,    0.040,2, -999.000,5,   2266.8,3,   2363.8,2,     40.4,2,    32.59,2, -999.000,9, -999.000,-999.0000,9,-999.0000,  -999.00,9,  -999.00, -999.000,9, -999.000,   -155.6,2,      2.3,     0.57,2,   0.1252,2,   0.0875,2,   0.0486,2,   0.0355,2,   0.0139,2,   0.0149,3