BOTTLE,20150626SIOCCHRJL
EXPOCODE,SECT_ID,STNNBR,CASTNO,SAMPNO,BTLNBR,BTLNBR_FLAG_W,DATE,TIME,LATITUDE,LONGITUDE,DEPTH,CTDPRS,CTDTMP,CTDSAL,CTDSAL_FLAG_W,SALNTY,SALNTY_FLAG_W,CTDOXY,CTDOXY_FLAG_W,OXYGEN,OXYGEN_FLAG_W,SILCAT,SILCAT_FLAG_W,NITRAT,NITRAT_FLAG_W,NITRIT,NITRIT_FLAG_W,PHSPHT,PHSPHT_FLAG_W,CFC-11,CFC-11_FLAG_W,CFC-12,CFC-12_FLAG_W,CFC113,CFC113_FLAG_W,TCARBN,TCARBN_FLAG_W,ALKALI,ALKALI_FLAG_W,DOC,DOC_FLAG_W,TDN,TDN_FLAG_W,TRITUM,TRITUM_FLAG_W,TRITER,HELIUM,HELIUM_FLAG_W,HELIER,DELHE3,DELHE3_FLAG_W,DELHER,NEON,NEON_FLAG_W,NEONER,DELC14,DELC14_FLAG_W,C14ERR,DELC13,DELC13_FLAG_W,CDOM325,CDOM325_FLAG_W,CDOM340,CDOM340_FLAG_W,CDOM380,CDOM380_FLAG_W,CDOM412,CDOM412_FLAG_W,CDOMSL,CDOMSL_FLAG_W,CDOMSN,CDOMSN_FLAG_W
,,,,,,,,,,,METERS,DBAR,ITS-90,PSS-78,,PSS-78,,UMOL/KG,,UMOL/KG,,UMOL/KG,,UMOL/KG,,UMOL/KG,,UMOL/KG,,PMOL/KG,,PMOL/KG,,PMOL/KG,,UMOL/KG,,UMOL/KG,,UMOL/KG,,UMOL/KG,,TU,,TU,NMOL/KG,,NMOL/KG,PERCNT,,PERCNT,NMOL/KG,,NMOL/KG,/MILLE,,/MILLE,/MILLE,,1/M,,1/M,,1/M,,1/M,,1/NM,,1/NM,
  33RR20070204,  I08S,    52,  1,     33,     33,2,20070303,0408,-46.2792,  93.8832, 3217,      4.2,   8.5056,  33.9594,2,  33.9590,2,    268.0,2,    291.6,2,     1.19,2,    16.32,2,     0.24,2,     1.21,2, -999.000,9, -999.000,9, -999.000,9,   2098.5,6,   2269.6,2,   -999.0,9,  -999.00,9, -999.000,9, -999.000,-999.0000,9,-999.0000,  -999.00,9,  -999.00, -999.000,9, -999.000,   -999.0,9,   -999.0,  -999.00,9,   0.0846,2,   0.0578,2,   0.0298,2,   0.0228,2,   0.0133,3,   0.0160,3
  33RR20070204,  I08S,    52,  1,     32,     37,2,20070303,0408,-46.2792,  93.8832, 3217,     29.7,   8.3655,  33.9600,2,  33.9604,2,    273.0,2,    291.8,2,     1.15,2,    16.32,2,     0.23,2,     1.22,2, -999.000,9, -999.000,9, -999.000,9,   2097.7,2,   2270.6,2,   -999.0,9,  -999.00,9, -999.000,9, -999.000,-999.0000,9,-999.0000,  -999.00,9,  -999.00, -999.000,9, -999.000,   -999.0,9,   -999.0,  -999.00,9,   0.0871,2,   0.0592,2,   0.0275,2,   0.0210,2,   0.0105,3,   0.0182,3
  33RR20070204,  I08S,    52,  1,     31,     31,2,20070303,0408,-46.2792,  93.8832, 3217,     54.6,   8.7588,  34.1104,2,  34.1107,2,    267.6,2,    286.7,2,     1.31,2,    14.94,2,     0.20,2,     1.12,2, -999.000,9, -999.000,9, -999.000,9,   2094.6,2,   2275.8,2,   -999.0,9,  -999.00,9, -999.000,9, -999.000,-999.0000,9,-999.0000,  -999.00,9,  -999.00, -999.000,9, -999.000,   -999.0,9,   -999.0,  -999.00,9,   0.0824,2,   0.0561,2,   0.0284,2,   0.0213,2,   0.0139,3,   0.0167,3
  33RR20070204,  I08S,    52,  1,     30,     30,2,20070303,0408,-46.2792,  93.8832, 3217,     79.8,   8.4469,  34.1255,2,  34.1197,2,    282.9,2,    283.8,2,     1.48,2,    15.28,2,     0.25,2,     1.17,2, -999.000,9, -999.000,9, -999.000,9,   2095.1,2,   2274.3,2,   -999.0,9,  -999.00,9, -999.000,9, -999.000,-999.0000,9,-999.0000,  -999.00,9,  -999.00, -999.000,9, -999.000,   -999.0,9,   -999.0,  -999.00,9,   0.0891,2,   0.0616,2,   0.0340,2,   0.0261,2,   0.0128,3,   0.0146,3
  33RR20070204,  I08S,    52,  1,     29,     29,2,20070303,0408,-46.2792,  93.8832, 3217,    104.9,   6.9209,  34.0203,2,  34.0129,2,    282.6,2,    285.3,2,     2.05,2,    18.84,2,     0.62,2,     1.41,2, -999.000,9, -999.000,9, -999.000,9,   2113.8,2,   2270.1,2,   -999.0,9,  -999.00,9, -999.000,9, -999.000,-999.0000,9,-999.0000,  -999.00,9,  -999.00, -999.000,9, -999.000,   -999.0,9,   -999.0,  -999.00,9,   0.0956,2,   0.0674,2,   0.0373,2,   0.0282,2,   0.0137,2,   0.0148,2
  33RR20070204,  I08S,    52,  1,     28,     28,2,20070303,0408,-46.2792,  93.8832, 3217,    154.9,   6.4487,  34.0970,2,  34.0969,2,    257.0,2,    277.5,2,     3.86,2,    20.57,2,     0.01,2,     1.48,2, -999.000,9, -999.000,9, -999.000,9,   2125.8,2,   2272.2,2,   -999.0,9,  -999.00,9, -999.000,9, -999.000,-999.0000,9,-999.0000,  -999.00,9,  -999.00, -999.000,9, -999.000,   -999.0,9,   -999.0,  -999.00,9,   0.0851,2,   0.0575,2,   0.0323,2,   0.0253,2,   0.0133,3,   0.0150,3
  33RR20070204,  I08S,    52,  1,     27,     27,2,20070303,0408,-46.2792,  93.8832, 3217,    204.7,   6.6938,  34.2234,2,  34.2263,2,    265.6,2,    260.8,2,     6.51,2,    21.19,2,     0.01,2,     1.50,2, -999.000,9, -999.000,9, -999.000,9,   2133.8,2,   2276.6,2,   -999.0,9,  -999.00,9, -999.000,9, -999.000,-999.0000,9,-999.0000,  -999.00,9,  -999.00, -999.000,9, -999.000,   -999.0,9,   -999.0,  -999.00,9,   0.0853,2,   0.0577,2,   0.0325,2,   0.0256,2,   0.0131,3,   0.0148,3
  33RR20070204,  I08S,    52,  1,     26,     26,2,20070303,0408,-46.2792,  93.8832, 3217,    254.7,   6.5352,  34.2690,2,  34.2671,2,    252.3,2,    251.1,2,     9.16,2,    22.40,2,     0.01,2,     1.57,2, -999.000,9, -999.000,9, -999.000,9,   -999.0,9,   -999.0,9,   -999.0,9,  -999.00,9, -999.000,9, -999.000,-999.0000,9,-999.0000,  -999.00,9,  -999.00, -999.000,9, -999.000,   -999.0,9,   -999.0,  -999.00,9,   0.0862,2,   0.0583,2,   0.0326,2,   0.0255,2,   0.0132,3,   0.0150,3
  33RR20070204,  I08S,    52,  1,     25,     25,2,20070303,0408,-46.2792,  93.8832, 3217,    305.2,   5.7726,  34.2048,2,  34.2030,2,    226.3,2,    255.5,2,    11.18,2,    24.00,2,     0.01,2,     1.67,2, -999.000,9, -999.000,9, -999.000,9,   -999.0,9,   -999.0,9,   -999.0,9,  -999.00,9, -999.000,9, -999.000,-999.0000,9,-999.0000,  -999.00,9,  -999.00, -999.000,9, -999.000,   -999.0,9,   -999.0,  -999.00,9,   0.0920,2,   0.0631,2,   0.0369,2,   0.0291,2,   0.0125,3,   0.0137,3
  33RR20070204,  I08S,    52,  1,     24,     24,2,20070303,0408,-46.2792,  93.8832, 3217,    355.3,   5.8103,  34.2897,2,  34.2882,2,    226.9,2,    235.2,2,    14.66,2,    25.47,2,     0.01,2,     1.77,2, -999.000,9, -999.000,9, -999.000,9,   2159.7,2,   2279.9,2,   -999.0,9,  -999.00,9, -999.000,9, -999.000,-999.0000,9,-999.0000,  -999.00,9,  -999.00, -999.000,9, -999.000,   -999.0,9,   -999.0,  -999.00,9,   0.0906,2,   0.0614,2,   0.0350,2,   0.0274,2,   0.0130,3,   0.0145,3
  33RR20070204,  I08S,    52,  1,     23,     23,2,20070303,0408,-46.2792,  93.8832, 3217,    405.1,   5.4669,  34.2947,2,  34.2957,2,    221.8,2,    229.6,2,    17.11,2,    26.58,2,     0.00,2,     1.85,2, -999.000,9, -999.000,9, -999.000,9,   -999.0,9,   -999.0,9,   -999.0,9,  -999.00,9, -999.000,9, -999.000,-999.0000,9,-999.0000,  -999.00,9,  -999.00, -999.000,9, -999.000,   -999.0,9,   -999.0,  -999.00,9,   0.0892,2,   0.0600,2,   0.0339,2,   0.0262,2,   0.0133,3,   0.0150,3
  33RR20070204,  I08S,    52,  1,     22,     22,2,20070303,0408,-46.2792,  93.8832, 3217,    456.0,   4.8350,  34.2425,2,  34.2416,2,    235.5,2,    237.6,2,    19.15,2,    27.56,2,     0.00,2,     1.92,2, -999.000,9, -999.000,9, -999.000,9,   -999.0,9,   -999.0,9,   -999.0,9,  -999.00,9, -999.000,9, -999.000,-999.0000,9,-999.0000,  -999.00,9,  -999.00, -999.000,9, -999.000,   -999.0,9,   -999.0,  -999.00,9,   0.0916,2,   0.0620,2,   0.0358,2,   0.0278,2,   0.0129,3,   0.0143,3
  33RR20070204,  I08S,    52,  1,     21,     21,2,20070303,0408,-46.2792,  93.8832, 3217,    506.2,   4.5220,  34.2358,2,  34.2359,2,    237.2,2,    237.1,2,    20.97,2,    28.34,2,     0.00,2,     1.96,2, -999.000,9, -999.000,9, -999.000,9,   2173.0,2,   2281.2,2,   -999.0,9,  -999.00,9, -999.000,9, -999.000,-999.0000,9,-999.0000,  -999.00,9,  -999.00, -999.000,9, -999.000,   -999.0,9,   -999.0,  -999.00,9,   0.0919,2,   0.0622,2,   0.0356,2,   0.0275,2,   0.0131,3,   0.0146,3
  33RR20070204,  I08S,    52,  1,     20,     20,2,20070303,0408,-46.2792,  93.8832, 3217,    606.4,   3.9085,  34.2464,2,  34.2463,2,    229.5,2,    231.4,2,    27.38,2,    29.81,2,     0.00,2,     2.08,2, -999.000,9, -999.000,9, -999.000,9,   -999.0,9,   -999.0,9,   -999.0,9,  -999.00,9, -999.000,9, -999.000,-999.0000,9,-999.0000,  -999.00,9,  -999.00, -999.000,9, -999.000,   -999.0,9,   -999.0,  -999.00,9,   0.0899,2,   0.0600,2,   0.0339,2,   0.0259,2,   0.0134,3,   0.0152,3
  33RR20070204,  I08S,    52,  1,     19,     19,2,20070303,0408,-46.2792,  93.8832, 3217,    706.8,   3.5282,  34.2845,2,  34.2837,2,    219.5,2,    219.5,2,    34.62,2,    31.28,2,     0.00,2,     2.19,2, -999.000,9, -999.000,9, -999.000,9,   -999.0,9,   -999.0,9,   -999.0,9,  -999.00,9, -999.000,9, -999.000,-999.0000,9,-999.0000,  -999.00,9,  -999.00, -999.000,9, -999.000,   -999.0,9,   -999.0,  -999.00,9,   0.0955,2,   0.0642,2,   0.0363,2,   0.0276,2,   0.0134,3,   0.0150,3
  33RR20070204,  I08S,    52,  1,     18,     18,2,20070303,0408,-46.2792,  93.8832, 3217,    806.3,   3.1726,  34.3057,2,  34.4804,0,    211.6,2,    212.1,2,    41.25,2,    32.31,2,     0.00,2,     2.26,2, -999.000,9, -999.000,9, -999.000,9,   -999.0,9,   -999.0,9,   -999.0,9,  -999.00,9, -999.000,9, -999.000,-999.0000,9,-999.0000,  -999.00,9,  -999.00, -999.000,9, -999.000,   -999.0,9,   -999.0,  -999.00,9,   0.1005,2,   0.0681,2,   0.0387,2,   0.0295,2,   0.0134,3,   0.0148,3
  33RR20070204,  I08S,    52,  1,     17,     17,2,20070303,0408,-46.2792,  93.8832, 3217,    907.4,   2.7402,  34.3300,2,  34.3316,2,    204.5,2,    205.2,2,    49.36,2,    33.39,2,     0.00,2,     2.34,2,    2.111,2,    1.083,2, -999.000,5,   2220.5,2,   2303.7,2,   -999.0,9,  -999.00,9, -999.000,9, -999.000,-999.0000,9,-999.0000,  -999.00,9,  -999.00, -999.000,9, -999.000,   -999.0,9,   -999.0,  -999.00,9,   0.1131,2,   0.0782,2,   0.0453,2,   0.0347,2,   0.0131,3,   0.0140,3
  33RR20070204,  I08S,    52,  1,     16,     16,2,20070303,0408,-46.2792,  93.8832, 3217,   1008.4,   2.7301,  34.4157,2,  34.4169,2,    191.1,2,    189.1,2,    57.48,2,    33.87,2,     0.00,2,     2.37,2, -999.000,9, -999.000,9, -999.000,9,   -999.0,9,   -999.0,9,   -999.0,9,  -999.00,9, -999.000,9, -999.000,-999.0000,9,-999.0000,  -999.00,9,  -999.00, -999.000,9, -999.000,   -999.0,9,   -999.0,  -999.00,9,   0.1132,2,   0.0776,2,   0.0435,2,   0.0326,2,   0.0138,3,   0.0150,3
  33RR20070204,  I08S,    52,  1,     15,     15,2,20070303,0408,-46.2792,  93.8832, 3217,   1108.7,   2.7916,  34.4974,2,  34.4972,2,    178.7,2,    179.0,2,    62.68,2,    33.87,2,     0.00,2,     2.36,2,    0.815,2,    0.421,2, -999.000,5,   -999.0,9,   -999.0,9,   -999.0,9,  -999.00,9, -999.000,9, -999.000,-999.0000,9,-999.0000,  -999.00,9,  -999.00, -999.000,9, -999.000,   -999.0,9,   -999.0,  -999.00,9,   0.1197,2,   0.0827,2,   0.0466,2,   0.0346,2,   0.0137,2,   0.0148,3
  33RR20070204,  I08S,    52,  1,     14,     14,2,20070303,0408,-46.2792,  93.8832, 3217,   1209.7,   2.7532,  34.5457,2,  34.5459,2,    176.0,2,    176.0,2,    66.00,2,    33.55,2,     0.00,2,     2.35,2, -999.000,9, -999.000,9, -999.000,9,   -999.0,9,   -999.0,9,   -999.0,9,  -999.00,9, -999.000,9, -999.000,-999.0000,9,-999.0000,  -999.00,9,  -999.00, -999.000,9, -999.000,   -999.0,9,   -999.0,  -999.00,9,   0.1203,2,   0.0831,2,   0.0464,2,   0.0343,2,   0.0138,3,   0.0150,3
  33RR20070204,  I08S,    52,  1,     13,     13,2,20070303,0408,-46.2792,  93.8832, 3217,   1310.9,   2.6871,  34.5868,2,  34.5870,2,    175.3,2,    175.5,2,    68.28,2,    33.20,2,     0.00,2,     2.32,2,    0.410,2,    0.204,2, -999.000,5,   2245.6,2,   2329.2,2,   -999.0,9,  -999.00,9, -999.000,9, -999.000,-999.0000,9,-999.0000,  -999.00,9,  -999.00, -999.000,9, -999.000,   -999.0,9,   -999.0,  -999.00,9,   0.1224,2,   0.0847,2,   0.0472,2,   0.0349,2,   0.0138,2,   0.0150,3
  33RR20070204,  I08S,    52,  1,     12,     12,2,20070303,0408,-46.2792,  93.8832, 3217,   1411.6,   2.5884,  34.6236,2,  34.6241,2,    177.1,2,    176.9,2,    70.55,2,    32.75,2,     0.00,2,     2.29,2, -999.000,9, -999.000,9, -999.000,9,   -999.0,9,   -999.0,9,   -999.0,9,  -999.00,9, -999.000,9, -999.000,-999.0000,9,-999.0000,  -999.00,9,  -999.00, -999.000,9, -999.000,   -999.0,9,   -999.0,  -999.00,9,   0.1224,2,   0.0847,2,   0.0466,2,   0.0340,2,   0.0140,2,   0.0153,3
  33RR20070204,  I08S,    52,  1,     11,     11,2,20070303,0408,-46.2792,  93.8832, 3217,   1513.0,   2.5304,  34.6621,2,  34.6620,2,    179.5,2,    179.5,2,    72.00,2,    31.85,2,     0.00,2,     2.24,2,    0.249,2,    0.119,2, -999.000,5,   -999.0,9,   -999.0,9,   -999.0,9,  -999.00,9, -999.000,9, -999.000,-999.0000,9,-999.0000,  -999.00,9,  -999.00, -999.000,9, -999.000,   -999.0,9,   -999.0,  -999.00,9,   0.1240,2,   0.0859,2,   0.0470,2,   0.0344,2,   0.0139,3,   0.0153,3
  33RR20070204,  I08S,    52,  1,     10,     10,2,20070303,0408,-46.2792,  93.8832, 3217,   1613.4,   2.4792,  34.6874,2,  34.6875,2,    182.7,2,    182.8,2,    72.81,2,    31.40,2,     0.00,2,     2.19,2, -999.000,9, -999.000,9, -999.000,9,   -999.0,9,   -999.0,9,   -999.0,9,  -999.00,9, -999.000,9, -999.000,-999.0000,9,-999.0000,  -999.00,9,  -999.00, -999.000,9, -999.000,   -999.0,9,   -999.0,  -999.00,9,   0.1230,2,   0.0850,2,   0.0464,2,   0.0335,2,   0.0141,2,   0.0155,3
  33RR20070204,  I08S,    52,  1,      9,      9,2,20070303,0408,-46.2792,  93.8832, 3217,   1714.5,   2.4299,  34.7071,2,  34.7072,2,    185.5,2,    185.9,2,    73.82,2,    31.00,2,     0.00,2,     2.16,2,    0.164,2,    0.079,2, -999.000,5,   2242.9,2,   2422.9,4,   -999.0,9,  -999.00,9, -999.000,9, -999.000,-999.0000,9,-999.0000,  -999.00,9,  -999.00, -999.000,9, -999.000,   -999.0,9,   -999.0,  -999.00,9,   0.1294,2,   0.0906,2,   0.0502,2,   0.0366,2,   0.0138,2,   0.0149,3
  33RR20070204,  I08S,    52,  1,      8,      8,2,20070303,0408,-46.2792,  93.8832, 3217,   1815.5,   2.3543,  34.7251,2,  34.7251,2,    188.5,2,    189.0,2,    74.63,2,    30.59,2,     0.00,2,     2.12,2,    0.138,2,    0.066,2, -999.000,5,   -999.0,9,   -999.0,9,   -999.0,9,  -999.00,9, -999.000,9, -999.000,-999.0000,9,-999.0000,  -999.00,9,  -999.00, -999.000,9, -999.000,   -999.0,9,   -999.0,  -999.00,9,   0.1333,2,   0.0911,2,   0.0494,2,   0.0363,2,   0.0144,3,   0.0157,3
  33RR20070204,  I08S,    52,  1,      7,      7,2,20070303,0408,-46.2792,  93.8832, 3217,   1915.7,   2.2874,  34.7397,2,  34.7398,2,    191.9,2,    192.2,2,    76.29,2,    30.19,2,     0.00,2,     2.09,2,    0.110,2,    0.051,2, -999.000,5,   -999.0,9,   -999.0,9,   -999.0,9,  -999.00,9, -999.000,9, -999.000,-999.0000,9,-999.0000,  -999.00,9,  -999.00, -999.000,9, -999.000,   -999.0,9,   -999.0,  -999.00,9,   0.1258,2,   0.0876,2,   0.0476,2,   0.0344,2,   0.0141,2,   0.0154,3
  33RR20070204,  I08S,    52,  1,      6,      6,2,20070303,0408,-46.2792,  93.8832, 3217,   2017.1,   2.2244,  34.7479,2,  34.7484,2,    194.2,2,    194.1,2,    77.94,2,    29.94,2,     0.00,2,     2.08,2,    0.090,2,    0.043,2, -999.000,5,   -999.0,9,   -999.0,9,   -999.0,9,  -999.00,9, -999.000,9, -999.000,-999.0000,9,-999.0000,  -999.00,9,  -999.00, -999.000,9, -999.000,   -999.0,9,   -999.0,  -999.00,9,   0.1265,2,   0.0881,2,   0.0479,2,   0.0346,2,   0.0141,2,   0.0153,3
  33RR20070204,  I08S,    52,  1,      5,      5,2,20070303,0408,-46.2792,  93.8832, 3217,   2270.8,   1.9811,  34.7557,2,  34.7563,2,    198.8,2,    197.9,2,    85.51,2,    29.93,2,     0.00,2,     2.08,2,    0.071,2,    0.032,2, -999.000,5,   2244.5,2,   2346.7,2,   -999.0,9,  -999.00,9, -999.000,9, -999.000,-999.0000,9,-999.0000,  -999.00,9,  -999.00, -999.000,9, -999.000,   -999.0,9,   -999.0,  -999.00,9,   0.1296,2,   0.0907,2,   0.0498,2,   0.0362,2,   0.0139,2,   0.0151,3
  33RR20070204,  I08S,    52,  1,      4,      4,2,20070303,0408,-46.2792,  93.8832, 3217,   2523.7,   1.7333,  34.7499,2,  34.7498,2,    200.7,2,    199.5,2,    93.94,2,    30.32,2,     0.00,2,     2.11,2,    0.068,2,    0.032,2, -999.000,5,   -999.0,9,   -999.0,9,   -999.0,9,  -999.00,9, -999.000,9, -999.000,-999.0000,9,-999.0000,  -999.00,9,  -999.00, -999.000,9, -999.000,   -999.0,9,   -999.0,  -999.00,9,   0.1246,2,   0.0865,2,   0.0470,2,   0.0340,2,   0.0142,2,   0.0155,3
  33RR20070204,  I08S,    52,  1,      3,      3,2,20070303,0408,-46.2792,  93.8832, 3217,   2777.2,   1.4436,  34.7379,2,  34.7380,2,    203.6,2,    202.4,2,   103.02,2,    30.85,2,     0.00,2,     2.15,2,    0.083,2,    0.039,2, -999.000,5,   -999.0,9,   -999.0,9,   -999.0,9,  -999.00,9, -999.000,9, -999.000,-999.0000,9,-999.0000,  -999.00,9,  -999.00, -999.000,9, -999.000,   -999.0,9,   -999.0,  -999.00,9,   0.1249,2,   0.0868,2,   0.0473,2,   0.0344,2,   0.0140,2,   0.0153,3
  33RR20070204,  I08S,    52,  1,      2,      2,2,20070303,0408,-46.2792,  93.8832, 3217,   3030.7,   1.1748,  34.7250,2,  34.7254,2,    206.8,2,    205.6,2,   110.65,2,    31.28,2,     0.00,2,     2.19,2,    0.144,2,    0.068,2, -999.000,5,   -999.0,9,   -999.0,9,   -999.0,9,  -999.00,9, -999.000,9, -999.000,-999.0000,9,-999.0000,  -999.00,9,  -999.00, -999.000,9, -999.000,   -999.0,9,   -999.0,  -999.00,9,   0.1250,2,   0.0867,2,   0.0470,2,   0.0338,2,   0.0142,2,   0.0156,3
  33RR20070204,  I08S,    52,  1,      1,      1,2,20070303,0408,-46.2792,  93.8832, 3217,   3256.6,   1.0312,  34.7174,2,  34.7179,2,    207.5,2,    208.0,2,   115.52,2,    31.76,2,     0.00,2,     2.20,2,    0.213,2,    0.101,2, -999.000,5,   2257.9,2,   2358.3,2,   -999.0,9,  -999.00,9, -999.000,9, -999.000,-999.0000,9,-999.0000,  -999.00,9,  -999.00, -999.000,9, -999.000,   -999.0,9,   -999.0,  -999.00,9,   0.1265,2,   0.0877,2,   0.0480,2,   0.0347,2,   0.0141,2,   0.0154,3