BOTTLE,20150626SIOCCHRJL
EXPOCODE,SECT_ID,STNNBR,CASTNO,SAMPNO,BTLNBR,BTLNBR_FLAG_W,DATE,TIME,LATITUDE,LONGITUDE,DEPTH,CTDPRS,CTDTMP,CTDSAL,CTDSAL_FLAG_W,SALNTY,SALNTY_FLAG_W,CTDOXY,CTDOXY_FLAG_W,OXYGEN,OXYGEN_FLAG_W,SILCAT,SILCAT_FLAG_W,NITRAT,NITRAT_FLAG_W,NITRIT,NITRIT_FLAG_W,PHSPHT,PHSPHT_FLAG_W,CFC-11,CFC-11_FLAG_W,CFC-12,CFC-12_FLAG_W,CFC113,CFC113_FLAG_W,TCARBN,TCARBN_FLAG_W,ALKALI,ALKALI_FLAG_W,DOC,DOC_FLAG_W,TDN,TDN_FLAG_W,TRITUM,TRITUM_FLAG_W,TRITER,HELIUM,HELIUM_FLAG_W,HELIER,DELHE3,DELHE3_FLAG_W,DELHER,NEON,NEON_FLAG_W,NEONER,DELC14,DELC14_FLAG_W,C14ERR,DELC13,DELC13_FLAG_W,CDOM325,CDOM325_FLAG_W,CDOM340,CDOM340_FLAG_W,CDOM380,CDOM380_FLAG_W,CDOM412,CDOM412_FLAG_W,CDOMSL,CDOMSL_FLAG_W,CDOMSN,CDOMSN_FLAG_W
,,,,,,,,,,,METERS,DBAR,ITS-90,PSS-78,,PSS-78,,UMOL/KG,,UMOL/KG,,UMOL/KG,,UMOL/KG,,UMOL/KG,,UMOL/KG,,PMOL/KG,,PMOL/KG,,PMOL/KG,,UMOL/KG,,UMOL/KG,,UMOL/KG,,UMOL/KG,,TU,,TU,NMOL/KG,,NMOL/KG,PERCNT,,PERCNT,NMOL/KG,,NMOL/KG,/MILLE,,/MILLE,/MILLE,,1/M,,1/M,,1/M,,1/M,,1/NM,,1/NM,
  33RR20070204,  I08S,    23,  1,     28,     28,2,20070221,0216,-57.9162,  82.2285, 1968,      5.3,   1.3962,  33.8770,2,  33.8777,2,    328.3,2,    332.0,2,    32.99,2,    24.59,2,     0.19,2,     1.65,2,    5.610,2,    3.036,2, -999.000,5,   2154.6,2,   2294.5,2,     49.6,2,    29.29,2, -999.000,9, -999.000,-999.0000,9,-999.0000,  -999.00,9,  -999.00, -999.000,9, -999.000,   -999.0,9,   -999.0,  -999.00,9,   0.1118,2,   0.0775,2,   0.0366,2,   0.0272,2,   0.0151,3,   0.0178,3
  33RR20070204,  I08S,    23,  1,     27,     27,2,20070221,0216,-57.9162,  82.2285, 1968,     39.4,   1.3306,  33.8808,2,  33.8864,2,    331.2,2,    331.8,2,    33.15,2,    24.64,2,     0.19,2,     1.65,2, -999.000,9, -999.000,9, -999.000,9,   2156.9,2,   2293.2,2,     48.9,2,    28.80,2, -999.000,9, -999.000,-999.0000,9,-999.0000,  -999.00,9,  -999.00, -999.000,9, -999.000,   -999.0,9,   -999.0,  -999.00,9,   0.1072,2,   0.0734,2,   0.0369,2,   0.0277,2,   0.0147,3,   0.0169,3
  33RR20070204,  I08S,    23,  1,     26,     26,2,20070221,0216,-57.9162,  82.2285, 1968,     74.1,  -0.0566,  34.1402,2,  34.1255,2,    289.5,2,    288.3,2,    56.21,2,    29.57,2,     0.16,2,     2.19,2, -999.000,9, -999.000,9, -999.000,9,   2204.1,2,   2305.7,2,     47.0,2,    34.42,2, -999.000,9, -999.000,-999.0000,9,-999.0000,  -999.00,9,  -999.00, -999.000,9, -999.000,   -999.0,9,   -999.0,  -999.00,9,   0.1143,2,   0.0779,2,   0.0416,2,   0.0320,2,   0.0142,3,   0.0157,3
  33RR20070204,  I08S,    23,  1,     25,     25,2,20070221,0216,-57.9162,  82.2285, 1968,     85.8,  -0.1711,  34.2512,2,  34.2461,2,    260.5,2,    261.4,2,    64.56,2,    31.65,2,     0.15,2,     2.29,2,    3.540,2,    1.800,2, -999.000,5,   2223.1,2,   2312.0,2,     45.9,2,    36.67,2, -999.000,9, -999.000,-999.0000,9,-999.0000,  -999.00,9,  -999.00, -999.000,9, -999.000,   -999.0,9,   -999.0,  -999.00,9,   0.1166,2,   0.0797,2,   0.0435,2,   0.0335,2,   0.0142,3,   0.0154,3
  33RR20070204,  I08S,    23,  1,     24,     24,2,20070221,0216,-57.9162,  82.2285, 1968,    125.0,   0.7239,  34.4534,2,  34.4486,2,    217.0,2,    215.9,2,    73.92,2,    33.52,2,     0.15,2,     2.33,2, -999.000,9, -999.000,9, -999.000,9,   2243.6,2,   2322.9,2,     45.1,2,    38.02,2, -999.000,9, -999.000,-999.0000,9,-999.0000,  -999.00,9,  -999.00, -999.000,9, -999.000,   -999.0,9,   -999.0,  -999.00,9,   0.1204,2,   0.0819,2,   0.0443,2,   0.0333,2,   0.0144,3,   0.0157,3
  33RR20070204,  I08S,    23,  1,     23,     23,2,20070221,0216,-57.9162,  82.2285, 1968,    144.5,   1.1449,  34.5265,2,  34.5126,2,    201.1,2,    202.6,2,    77.50,2,    33.78,2,     0.09,2,     2.33,2,    1.686,2,    0.896,2, -999.000,5,   2249.1,2,   2327.9,2,     44.2,2,    37.72,2, -999.000,9, -999.000,-999.0000,9,-999.0000,  -999.00,9,  -999.00, -999.000,9, -999.000,   -999.0,9,   -999.0,  -999.00,9,   0.1257,2,   0.0864,2,   0.0473,2,   0.0356,2,   0.0141,3,   0.0153,3
  33RR20070204,  I08S,    23,  1,     22,     22,2,20070221,0216,-57.9162,  82.2285, 1968,    175.4,   1.0954,  34.5534,2,  34.5528,2,    199.5,2,    198.6,2,    79.26,2,    33.71,2,     0.06,2,     2.32,2, -999.000,9, -999.000,9, -999.000,9,   2257.0,2,   2330.5,2,     43.8,2,    37.31,2, -999.000,9, -999.000,-999.0000,9,-999.0000,  -999.00,9,  -999.00, -999.000,9, -999.000,   -999.0,9,   -999.0,  -999.00,9,   0.1222,2,   0.0833,2,   0.0448,2,   0.0332,2,   0.0145,3,   0.0159,3
  33RR20070204,  I08S,    23,  1,     21,     21,2,20070221,0216,-57.9162,  82.2285, 1968,    225.3,   1.5460,  34.6351,2,  34.6357,2,    187.5,2,    187.6,2,    83.63,2,    33.20,2,     0.03,2,     2.29,2,    0.841,2,    0.467,2, -999.000,5,   2254.0,6,   2337.7,2,     43.2,2,    36.35,2, -999.000,9, -999.000,-999.0000,9,-999.0000,  -999.00,9,  -999.00, -999.000,9, -999.000,   -999.0,9,   -999.0,  -999.00,9,   0.1243,2,   0.0850,2,   0.0458,2,   0.0335,2,   0.0146,3,   0.0159,3
  33RR20070204,  I08S,    23,  1,     20,     20,2,20070221,0216,-57.9162,  82.2285, 1968,    275.7,   1.4286,  34.6477,2,  34.6471,2,    186.6,2,    192.4,2,    85.41,2,    32.80,2,     0.03,2,     2.27,2, -999.000,9, -999.000,9, -999.000,9,   2253.1,2,   2338.8,2,     42.6,2,    36.39,2, -999.000,9, -999.000,-999.0000,9,-999.0000,  -999.00,9,  -999.00, -999.000,9, -999.000,   -999.0,9,   -999.0,  -999.00,9,   0.1220,2,   0.0831,2,   0.0445,2,   0.0323,2,   0.0146,3,   0.0161,3
  33RR20070204,  I08S,    23,  1,     19,     19,2,20070221,0216,-57.9162,  82.2285, 1968,    326.1,   1.5558,  34.6776,2,  34.6787,2,    186.3,2,    190.4,2,    86.57,2,    32.36,2,     0.01,2,     2.23,2,    0.610,2,    0.322,2, -999.000,5,   2253.5,2,   2341.9,2,     42.1,2,    36.26,2, -999.000,9, -999.000,-999.0000,9,-999.0000,  -999.00,9,  -999.00, -999.000,9, -999.000,   -999.0,9,   -999.0,  -999.00,9,   0.1254,2,   0.0857,2,   0.0463,2,   0.0337,2,   0.0146,3,   0.0159,3
  33RR20070204,  I08S,    23,  1,     18,     18,2,20070221,0216,-57.9162,  82.2285, 1968,    376.4,   1.6239,  34.6993,2,  34.6999,2,    188.9,2,    190.6,2,    86.93,2,    31.96,2,     0.01,2,     2.21,2, -999.000,9, -999.000,9, -999.000,9,   2252.1,2,   2341.5,2,     42.0,2,    35.05,2, -999.000,9, -999.000,-999.0000,9,-999.0000,  -999.00,9,  -999.00, -999.000,9, -999.000,   -999.0,9,   -999.0,  -999.00,9,   0.1230,2,   0.0841,2,   0.0445,2,   0.0318,2,   0.0148,2,   0.0164,3
  33RR20070204,  I08S,    23,  1,     17,     17,2,20070221,0216,-57.9162,  82.2285, 1968,    426.5,   1.7265,  34.7197,2,  34.7199,2,    190.7,2,    189.6,2,    87.09,2,    31.62,2,     0.01,2,     2.18,2,    0.347,2,    0.179,2, -999.000,5,   2252.5,2,   2334.4,4,     41.8,2,    35.18,2, -999.000,9, -999.000,-999.0000,9,-999.0000,  -999.00,9,  -999.00, -999.000,9, -999.000,   -999.0,9,   -999.0,  -999.00,9,   0.1229,2,   0.0843,2,   0.0451,2,   0.0323,2,   0.0146,2,   0.0161,3
  33RR20070204,  I08S,    23,  1,     16,     16,2,20070221,0216,-57.9162,  82.2285, 1968,    477.2,   1.6743,  34.7215,2,  34.7227,2,    192.8,2,    191.9,2,    88.27,2,    31.52,2,     0.01,2,     2.17,2, -999.000,9, -999.000,9, -999.000,9,   2252.1,2,   2344.7,2,     41.8,2,    34.63,2, -999.000,9, -999.000,-999.0000,9,-999.0000,  -999.00,9,  -999.00, -999.000,9, -999.000,   -999.0,9,   -999.0,  -999.00,9,   0.1226,2,   0.0839,2,   0.0446,2,   0.0321,2,   0.0146,3,   0.0162,3
  33RR20070204,  I08S,    23,  1,     15,     15,2,20070221,0216,-57.9162,  82.2285, 1968,    527.3,   1.6582,  34.7285,2,  34.7533,0,    193.3,2,    193.6,2,    88.42,2,    31.27,2,     0.01,2,     2.15,2,    0.324,2,    0.160,2, -999.000,5,   2250.0,2,   2343.8,2,     41.8,2,    33.57,2, -999.000,9, -999.000,-999.0000,9,-999.0000,  -999.00,9,  -999.00, -999.000,9, -999.000,   -999.0,9,   -999.0,  -999.00,9,   0.1238,2,   0.0847,2,   0.0451,2,   0.0324,2,   0.0148,2,   0.0162,3
  33RR20070204,  I08S,    23,  1,     14,     14,2,20070221,0216,-57.9162,  82.2285, 1968,    648.7,   1.5110,  34.7290,2,  34.7299,2,    197.1,2,    197.2,2,    90.60,2,    31.17,2,     0.01,2,     2.15,2, -999.000,9, -999.000,9, -999.000,9,   2250.1,2,   2346.8,2,     41.5,2,    33.42,2, -999.000,9, -999.000,-999.0000,9,-999.0000,  -999.00,9,  -999.00, -999.000,9, -999.000,   -999.0,9,   -999.0,  -999.00,9,   0.1224,2,   0.0836,2,   0.0448,2,   0.0322,2,   0.0148,2,   0.0162,3
  33RR20070204,  I08S,    23,  1,     13,     13,2,20070221,0216,-57.9162,  82.2285, 1968,    748.8,   1.4034,  34.7299,2,  34.7309,2,    199.6,2,    200.0,2,    93.59,2,    31.08,2,     0.01,2,     2.14,2,    0.322,2,    0.163,2, -999.000,5,   2248.4,2,   2348.7,2,     41.6,2,    33.97,2, -999.000,9, -999.000,-999.0000,9,-999.0000,  -999.00,9,  -999.00, -999.000,9, -999.000,   -999.0,9,   -999.0,  -999.00,9,   0.1229,2,   0.0838,2,   0.0451,2,   0.0326,2,   0.0146,3,   0.0160,3
  33RR20070204,  I08S,    23,  1,     12,     12,2,20070221,0216,-57.9162,  82.2285, 1968,    849.7,   1.3807,  34.7374,2,  34.7389,2,    202.1,2,    201.2,2,    95.57,2,    30.88,2,     0.01,2,     2.13,2, -999.000,9, -999.000,9, -999.000,9,   2249.8,2,   2349.9,2,     41.5,2,    33.18,2, -999.000,9, -999.000,-999.0000,9,-999.0000,  -999.00,9,  -999.00, -999.000,9, -999.000,   -999.0,9,   -999.0,  -999.00,9,   0.1191,2,   0.0815,2,   0.0434,2,   0.0312,2,   0.0145,2,   0.0161,3
  33RR20070204,  I08S,    23,  1,     11,     11,2,20070221,0216,-57.9162,  82.2285, 1968,    951.4,   1.2591,  34.7333,2,  34.7348,2,    203.5,2,    202.6,2,    98.56,2,    31.03,2,     0.01,2,     2.14,2,    0.207,3,    0.099,3, -999.000,5,   2251.7,2,   2350.8,2,     41.4,2,    33.18,2, -999.000,9, -999.000,-999.0000,9,-999.0000,  -999.00,9,  -999.00, -999.000,9, -999.000,   -999.0,9,   -999.0,  -999.00,9,   0.1187,2,   0.0816,2,   0.0438,2,   0.0313,2,   0.0146,3,   0.0161,4
  33RR20070204,  I08S,    23,  1,     10,     10,2,20070221,0216,-57.9162,  82.2285, 1968,   1051.2,   1.1343,  34.7265,2,  34.7279,2,    204.1,2,    203.7,2,   102.16,2,    31.27,2,     0.01,2,     2.16,2, -999.000,9, -999.000,9, -999.000,9,   2251.8,2,   2351.7,2,     41.5,2,    32.57,2, -999.000,9, -999.000,-999.0000,9,-999.0000,  -999.00,9,  -999.00, -999.000,9, -999.000,   -999.0,9,   -999.0,  -999.00,9,   0.1175,2,   0.0806,2,   0.0433,2,   0.0309,2,   0.0146,2,   0.0161,3
  33RR20070204,  I08S,    23,  1,      9,      9,2,20070221,0216,-57.9162,  82.2285, 1968,   1153.4,   1.0123,  34.7190,2,  34.7210,2,    204.9,2,    205.7,2,   104.76,2,    31.52,2,     0.01,2,     2.17,2,    0.267,2,    0.131,2, -999.000,5,   2253.2,2,   2352.5,2,     40.6,2,    33.11,2, -999.000,9, -999.000,-999.0000,9,-999.0000,  -999.00,9,  -999.00, -999.000,9, -999.000,   -999.0,9,   -999.0,  -999.00,9,   0.1485,2,   0.1084,2,   0.0669,2,   0.0516,2,   0.0117,2,   0.0120,3
  33RR20070204,  I08S,    23,  1,      8,      8,2,20070221,0216,-57.9162,  82.2285, 1968,   1253.7,   0.9113,  34.7144,2,  34.7156,2,    205.3,2,    205.8,2,   108.17,2,    31.47,2,     0.00,2,     2.18,2, -999.000,9, -999.000,9, -999.000,9,   2255.1,2,   2353.2,2,     41.6,2,    33.13,2, -999.000,9, -999.000,-999.0000,9,-999.0000,  -999.00,9,  -999.00, -999.000,9, -999.000,   -999.0,9,   -999.0,  -999.00,9,   0.1189,2,   0.0820,2,   0.0441,2,   0.0319,2,   0.0142,2,   0.0157,3
  33RR20070204,  I08S,    23,  1,      7,      7,2,20070221,0216,-57.9162,  82.2285, 1968,   1354.9,   0.8418,  34.7115,2,  34.7123,2,    206.2,2,    206.8,2,   110.36,2,    31.86,2,     0.00,2,     2.20,2,    0.226,2,    0.109,2, -999.000,5,   2256.2,2,   2356.5,2,     41.6,2,    33.33,2, -999.000,9, -999.000,-999.0000,9,-999.0000,  -999.00,9,  -999.00, -999.000,9, -999.000,   -999.0,9,   -999.0,  -999.00,9,   0.1198,2,   0.0824,2,   0.0450,2,   0.0330,2,   0.0142,2,   0.0155,3
  33RR20070204,  I08S,    23,  1,      6,      6,2,20070221,0216,-57.9162,  82.2285, 1968,   1455.9,   0.7775,  34.7076,2,  34.7101,2,    207.0,2,    207.0,2,   112.55,2,    32.00,2,     0.00,2,     2.21,2, -999.000,9, -999.000,9, -999.000,9,   2256.0,2,   2354.6,2,     41.2,2,    33.88,2, -999.000,9, -999.000,-999.0000,9,-999.0000,  -999.00,9,  -999.00, -999.000,9, -999.000,   -999.0,9,   -999.0,  -999.00,9,   0.1190,2,   0.0821,2,   0.0447,2,   0.0330,2,   0.0141,2,   0.0154,3
  33RR20070204,  I08S,    23,  1,      5,      5,2,20070221,0216,-57.9162,  82.2285, 1968,   1557.6,   0.6715,  34.7015,2,  34.7034,2,    207.3,2,    208.0,2,   115.97,2,    32.26,2,     0.00,2,     2.23,2,    0.219,2,    0.103,2, -999.000,5,   2257.3,2,   2355.0,2,     41.5,2,    34.24,2, -999.000,9, -999.000,-999.0000,9,-999.0000,  -999.00,9,  -999.00, -999.000,9, -999.000,   -999.0,9,   -999.0,  -999.00,9,   0.1165,2,   0.0806,2,   0.0439,2,   0.0322,2,   0.0141,2,   0.0154,3
  33RR20070204,  I08S,    23,  1,      4,      4,2,20070221,0216,-57.9162,  82.2285, 1968,   1658.9,   0.6016,  34.6986,2,  34.6999,2,    208.2,2,    209.0,2,   120.62,2,    32.36,2,     0.00,2,     2.24,2, -999.000,9, -999.000,9, -999.000,9,   2258.0,2,   2355.5,2,     41.6,2,    33.62,2, -999.000,9, -999.000,-999.0000,9,-999.0000,  -999.00,9,  -999.00, -999.000,9, -999.000,   -999.0,9,   -999.0,  -999.00,9,   0.1153,2,   0.0796,2,   0.0433,2,   0.0316,2,   0.0143,2,   0.0156,3
  33RR20070204,  I08S,    23,  1,      3,      3,2,20070221,0216,-57.9162,  82.2285, 1968,   1760.1,   0.5498,  34.6960,2,  34.6975,2,    209.7,2,    209.4,2,   124.05,2,    32.50,2,     0.00,2,     2.25,2,    0.187,2,    0.087,2, -999.000,5,   2259.1,2,   2354.6,2,     41.8,2,    33.58,2, -999.000,9, -999.000,-999.0000,9,-999.0000,  -999.00,9,  -999.00, -999.000,9, -999.000,   -999.0,9,   -999.0,  -999.00,9,   0.1191,2,   0.0827,2,   0.0455,2,   0.0337,2,   0.0139,2,   0.0151,3
  33RR20070204,  I08S,    23,  1,      2,      2,2,20070221,0216,-57.9162,  82.2285, 1968,   1861.7,   0.5334,  34.6949,2,  34.6967,2,    210.8,2,    209.9,2,   124.22,2,    32.55,2,     0.00,2,     2.25,2, -999.000,9, -999.000,9, -999.000,9,   2258.7,2,   2355.1,2,     41.7,2,    33.97,2, -999.000,9, -999.000,-999.0000,9,-999.0000,  -999.00,9,  -999.00, -999.000,9, -999.000,   -999.0,9,   -999.0,  -999.00,9,   0.1171,2,   0.0814,2,   0.0444,2,   0.0323,2,   0.0143,2,   0.0155,3
  33RR20070204,  I08S,    23,  1,      1,      1,2,20070221,0216,-57.9162,  82.2285, 1968,   1981.2,   0.4916,  34.6922,2,  34.6930,2,    211.1,2,    210.7,2,   125.40,2,    32.65,2,     0.00,2,     2.26,2,    0.202,2,    0.097,2, -999.000,5,   2262.5,6,   2354.5,2,     41.6,2,    33.90,2, -999.000,9, -999.000,-999.0000,9,-999.0000,  -999.00,9,  -999.00, -999.000,9, -999.000,   -999.0,9,   -999.0,  -999.00,9,   0.1192,2,   0.0828,2,   0.0457,2,   0.0334,2,   0.0141,2,   0.0153,3