BOTTLE,20150626SIOCCHRJL
EXPOCODE,SECT_ID,STNNBR,CASTNO,SAMPNO,BTLNBR,BTLNBR_FLAG_W,DATE,TIME,LATITUDE,LONGITUDE,DEPTH,CTDPRS,CTDTMP,CTDSAL,CTDSAL_FLAG_W,SALNTY,SALNTY_FLAG_W,CTDOXY,CTDOXY_FLAG_W,OXYGEN,OXYGEN_FLAG_W,SILCAT,SILCAT_FLAG_W,NITRAT,NITRAT_FLAG_W,NITRIT,NITRIT_FLAG_W,PHSPHT,PHSPHT_FLAG_W,CFC-11,CFC-11_FLAG_W,CFC-12,CFC-12_FLAG_W,CFC113,CFC113_FLAG_W,TCARBN,TCARBN_FLAG_W,ALKALI,ALKALI_FLAG_W,DOC,DOC_FLAG_W,TDN,TDN_FLAG_W,TRITUM,TRITUM_FLAG_W,TRITER,HELIUM,HELIUM_FLAG_W,HELIER,DELHE3,DELHE3_FLAG_W,DELHER,NEON,NEON_FLAG_W,NEONER,DELC14,DELC14_FLAG_W,C14ERR,DELC13,DELC13_FLAG_W,CDOM325,CDOM325_FLAG_W,CDOM340,CDOM340_FLAG_W,CDOM380,CDOM380_FLAG_W,CDOM412,CDOM412_FLAG_W,CDOMSL,CDOMSL_FLAG_W,CDOMSN,CDOMSN_FLAG_W
,,,,,,,,,,,METERS,DBAR,ITS-90,PSS-78,,PSS-78,,UMOL/KG,,UMOL/KG,,UMOL/KG,,UMOL/KG,,UMOL/KG,,UMOL/KG,,PMOL/KG,,PMOL/KG,,PMOL/KG,,UMOL/KG,,UMOL/KG,,UMOL/KG,,UMOL/KG,,TU,,TU,NMOL/KG,,NMOL/KG,PERCNT,,PERCNT,NMOL/KG,,NMOL/KG,/MILLE,,/MILLE,/MILLE,,1/M,,1/M,,1/M,,1/M,,1/NM,,1/NM,
  33RR20070204,  I08S,    62,  1,     34,   9419,2,20070305,2117,-41.5052,  94.9858, 3371,      3.9,  13.7924,  34.7758,2,  34.7757,2,    256.3,2,    260.2,2,     0.00,2,     5.26,2,     0.11,2,     0.52,2, -999.000,9, -999.000,9, -999.000,9,   2072.8,2,   2297.1,2,   -999.0,9,  -999.00,9, -999.000,9, -999.000,-999.0000,9,-999.0000,  -999.00,9,  -999.00, -999.000,9, -999.000,   -999.0,9,   -999.0,  -999.00,9,-999.0000,9,-999.0000,9,-999.0000,9,-999.0000,9,-999.0000,9,-999.0000,9
  33RR20070204,  I08S,    62,  1,     33,     33,2,20070305,2117,-41.5052,  94.9858, 3371,     40.6,  13.7445,  34.7671,2,  34.7627,2,    260.3,2,    259.9,2,    -0.04,2,     5.39,2,     0.11,2,     0.53,2, -999.000,9, -999.000,9, -999.000,9,   2073.2,2,   2295.8,2,   -999.0,9,  -999.00,9, -999.000,9, -999.000,-999.0000,9,-999.0000,  -999.00,9,  -999.00, -999.000,9, -999.000,   -999.0,9,   -999.0,  -999.00,9,-999.0000,9,-999.0000,9,-999.0000,9,-999.0000,9,-999.0000,9,-999.0000,9
  33RR20070204,  I08S,    62,  1,     32,     37,2,20070305,2117,-41.5052,  94.9858, 3371,     76.0,  11.7626,  34.7118,2,  34.7097,2,    261.4,2,    260.4,2,     1.52,2,     8.08,2,     0.32,2,     0.78,2, -999.000,9, -999.000,9, -999.000,9,   2100.9,2,   2292.9,2,   -999.0,9,  -999.00,9, -999.000,9, -999.000,-999.0000,9,-999.0000,  -999.00,9,  -999.00, -999.000,9, -999.000,   -999.0,9,   -999.0,  -999.00,9,-999.0000,9,-999.0000,9,-999.0000,9,-999.0000,9,-999.0000,9,-999.0000,9
  33RR20070204,  I08S,    62,  1,     31,     31,2,20070305,2117,-41.5052,  94.9858, 3371,     95.9,  10.8261,  34.7153,2,  34.7106,2,    260.6,2,    260.8,2,     2.29,2,     9.67,2,     0.80,2,     0.86,2, -999.000,9, -999.000,9, -999.000,9,   2104.3,2,   2291.4,2,   -999.0,9,  -999.00,9, -999.000,9, -999.000,-999.0000,9,-999.0000,  -999.00,9,  -999.00, -999.000,9, -999.000,   -999.0,9,   -999.0,  -999.00,9,-999.0000,9,-999.0000,9,-999.0000,9,-999.0000,9,-999.0000,9,-999.0000,9
  33RR20070204,  I08S,    62,  1,     30,     30,2,20070305,2117,-41.5052,  94.9858, 3371,    125.7,  10.4315,  34.7377,2,  34.7391,2,    258.4,2,    260.2,2,     2.65,2,    11.83,2,     0.02,2,     0.91,2, -999.000,9, -999.000,9, -999.000,9,   -999.0,9,   2290.1,2,   -999.0,9,  -999.00,9, -999.000,9, -999.000,-999.0000,9,-999.0000,  -999.00,9,  -999.00, -999.000,9, -999.000,   -999.0,9,   -999.0,  -999.00,9,-999.0000,9,-999.0000,9,-999.0000,9,-999.0000,9,-999.0000,9,-999.0000,9
  33RR20070204,  I08S,    62,  1,     29,     29,2,20070305,2117,-41.5052,  94.9858, 3371,    145.2,  10.2429,  34.7183,2,  34.7220,2,    259.8,2,    262.0,2,     2.80,2,    12.26,2,     0.02,2,     0.93,2, -999.000,9, -999.000,9, -999.000,9,   2110.5,2,   2289.7,2,   -999.0,9,  -999.00,9, -999.000,9, -999.000,-999.0000,9,-999.0000,  -999.00,9,  -999.00, -999.000,9, -999.000,   -999.0,9,   -999.0,  -999.00,9,-999.0000,9,-999.0000,9,-999.0000,9,-999.0000,9,-999.0000,9,-999.0000,9
  33RR20070204,  I08S,    62,  1,     28,     28,2,20070305,2117,-41.5052,  94.9858, 3371,    175.5,  10.2094,  34.7222,2,  34.7210,2,    259.8,2,    262.8,2,     2.97,2,    12.17,2,     0.01,2,     0.93,2, -999.000,9, -999.000,9, -999.000,9,   -999.0,9,   -999.0,9,   -999.0,9,  -999.00,9, -999.000,9, -999.000,-999.0000,9,-999.0000,  -999.00,9,  -999.00, -999.000,9, -999.000,   -999.0,9,   -999.0,  -999.00,9,-999.0000,9,-999.0000,9,-999.0000,9,-999.0000,9,-999.0000,9,-999.0000,9
  33RR20070204,  I08S,    62,  1,     27,     27,2,20070305,2117,-41.5052,  94.9858, 3371,    226.0,  10.2244,  34.7408,2,  34.7432,2,    261.4,2,    262.2,2,     2.93,2,    12.11,2,     0.01,2,     0.92,2, -999.000,9, -999.000,9, -999.000,9,   2110.9,2,   2290.7,2,   -999.0,9,  -999.00,9, -999.000,9, -999.000,-999.0000,9,-999.0000,  -999.00,9,  -999.00, -999.000,9, -999.000,   -999.0,9,   -999.0,  -999.00,9,-999.0000,9,-999.0000,9,-999.0000,9,-999.0000,9,-999.0000,9,-999.0000,9
  33RR20070204,  I08S,    62,  1,     26,     26,2,20070305,2117,-41.5052,  94.9858, 3371,    274.7,  10.7528,  34.8723,2,  34.8706,2,    258.3,2,    258.6,2,     2.49,2,    10.74,2,     0.01,2,     0.84,2, -999.000,9, -999.000,9, -999.000,9,   -999.0,9,   -999.0,9,   -999.0,9,  -999.00,9, -999.000,9, -999.000,-999.0000,9,-999.0000,  -999.00,9,  -999.00, -999.000,9, -999.000,   -999.0,9,   -999.0,  -999.00,9,-999.0000,9,-999.0000,9,-999.0000,9,-999.0000,9,-999.0000,9,-999.0000,9
  33RR20070204,  I08S,    62,  1,     25,     25,2,20070305,2117,-41.5052,  94.9858, 3371,    326.2,  10.4182,  34.8053,2,  34.8069,2,    258.7,2,    258.7,2,     2.85,2,    11.68,2,     0.01,2,     0.89,2, -999.000,9, -999.000,9, -999.000,9,   2112.0,2,   2294.6,2,   -999.0,9,  -999.00,9, -999.000,9, -999.000,-999.0000,9,-999.0000,  -999.00,9,  -999.00, -999.000,9, -999.000,   -999.0,9,   -999.0,  -999.00,9,-999.0000,9,-999.0000,9,-999.0000,9,-999.0000,9,-999.0000,9,-999.0000,9
  33RR20070204,  I08S,    62,  1,     24,     24,2,20070305,2117,-41.5052,  94.9858, 3371,    376.1,  10.1246,  34.7664,2,  34.7656,2,    251.2,2,    250.4,2,     3.81,2,    13.63,2,     0.01,2,     1.00,2, -999.000,9, -999.000,9, -999.000,9,   -999.0,9,   -999.0,9,   -999.0,9,  -999.00,9, -999.000,9, -999.000,-999.0000,9,-999.0000,  -999.00,9,  -999.00, -999.000,9, -999.000,   -999.0,9,   -999.0,  -999.00,9,-999.0000,9,-999.0000,9,-999.0000,9,-999.0000,9,-999.0000,9,-999.0000,9
  33RR20070204,  I08S,    62,  1,     23,     23,2,20070305,2117,-41.5052,  94.9858, 3371,    427.1,   9.9852,  34.7574,2,  34.7548,2,    248.6,2,    248.9,2,     4.17,2,    14.06,2,     0.00,2,     1.03,2, -999.000,9, -999.000,9, -999.000,9,   2121.0,2,   2291.8,2,   -999.0,9,  -999.00,9, -999.000,9, -999.000,-999.0000,9,-999.0000,  -999.00,9,  -999.00, -999.000,9, -999.000,   -999.0,9,   -999.0,  -999.00,9,-999.0000,9,-999.0000,9,-999.0000,9,-999.0000,9,-999.0000,9,-999.0000,9
  33RR20070204,  I08S,    62,  1,     22,     22,2,20070305,2117,-41.5052,  94.9858, 3371,    476.2,   9.7583,  34.7287,2,  34.7279,2,    245.4,2,    245.3,2,     4.53,2,    14.91,2,     0.00,2,     1.07,2, -999.000,9, -999.000,9, -999.000,9,   -999.0,9,   -999.0,9,   -999.0,9,  -999.00,9, -999.000,9, -999.000,-999.0000,9,-999.0000,  -999.00,9,  -999.00, -999.000,9, -999.000,   -999.0,9,   -999.0,  -999.00,9,-999.0000,9,-999.0000,9,-999.0000,9,-999.0000,9,-999.0000,9,-999.0000,9
  33RR20070204,  I08S,    62,  1,     21,     21,2,20070305,2117,-41.5052,  94.9858, 3371,    526.9,   9.3530,  34.6780,2,  34.6750,2,    240.4,2,    239.3,2,     5.30,2,    16.37,2,     0.00,2,     1.17,2, -999.000,9, -999.000,9, -999.000,9,   2129.2,2,   2288.8,2,   -999.0,9,  -999.00,9, -999.000,9, -999.000,-999.0000,9,-999.0000,  -999.00,9,  -999.00, -999.000,9, -999.000,   -999.0,9,   -999.0,  -999.00,9,-999.0000,9,-999.0000,9,-999.0000,9,-999.0000,9,-999.0000,9,-999.0000,9
  33RR20070204,  I08S,    62,  1,     20,     20,2,20070305,2117,-41.5052,  94.9858, 3371,    647.1,   8.1390,  34.5505,2,  34.5497,2,    219.1,2,    217.2,2,     9.87,2,    21.28,2,     0.00,2,     1.48,2, -999.000,9, -999.000,9, -999.000,9,   -999.0,9,   -999.0,9,   -999.0,9,  -999.00,9, -999.000,9, -999.000,-999.0000,9,-999.0000,  -999.00,9,  -999.00, -999.000,9, -999.000,   -999.0,9,   -999.0,  -999.00,9,-999.0000,9,-999.0000,9,-999.0000,9,-999.0000,9,-999.0000,9,-999.0000,9
  33RR20070204,  I08S,    62,  1,     19,     19,2,20070305,2117,-41.5052,  94.9858, 3371,    747.8,   6.8682,  34.4514,2,  34.4499,2,    210.3,2,    208.6,2,    15.64,2,    25.01,2,     0.00,2,     1.72,2, -999.000,9, -999.000,9, -999.000,9,   -999.0,9,   -999.0,9,   -999.0,9,  -999.00,9, -999.000,9, -999.000,-999.0000,9,-999.0000,  -999.00,9,  -999.00, -999.000,9, -999.000,   -999.0,9,   -999.0,  -999.00,9,-999.0000,9,-999.0000,9,-999.0000,9,-999.0000,9,-999.0000,9,-999.0000,9
  33RR20070204,  I08S,    62,  1,     18,     18,2,20070305,2117,-41.5052,  94.9858, 3371,    847.8,   5.7209,  34.3741,2,  34.3728,2,    209.1,2,    211.0,2,    20.42,2,    27.46,2,     0.00,2,     1.89,2, -999.000,9, -999.000,9, -999.000,9,   -999.0,9,   -999.0,9,   -999.0,9,  -999.00,9, -999.000,9, -999.000,-999.0000,9,-999.0000,  -999.00,9,  -999.00, -999.000,9, -999.000,   -999.0,9,   -999.0,  -999.00,9,-999.0000,9,-999.0000,9,-999.0000,9,-999.0000,9,-999.0000,9,-999.0000,9
  33RR20070204,  I08S,    62,  1,     17,     17,2,20070305,2117,-41.5052,  94.9858, 3371,    948.5,   4.6981,  34.3292,2,  34.3286,2,    213.4,2,    212.9,2,    26.62,2,    29.48,2,     0.00,2,     2.02,2, -999.000,9, -999.000,9, -999.000,9,   -999.0,9,   -999.0,9,   -999.0,9,  -999.00,9, -999.000,9, -999.000,-999.0000,9,-999.0000,  -999.00,9,  -999.00, -999.000,9, -999.000,   -999.0,9,   -999.0,  -999.00,9,-999.0000,9,-999.0000,9,-999.0000,9,-999.0000,9,-999.0000,9,-999.0000,9
  33RR20070204,  I08S,    62,  1,     16,     16,2,20070305,2117,-41.5052,  94.9858, 3371,   1048.3,   4.0544,  34.3316,2,  34.3314,2,    204.5,2,    208.6,2,    34.23,2,    30.92,2,     0.00,2,     2.14,2, -999.000,9, -999.000,9, -999.000,9,   -999.0,9,   -999.0,9,   -999.0,9,  -999.00,9, -999.000,9, -999.000,-999.0000,9,-999.0000,  -999.00,9,  -999.00, -999.000,9, -999.000,   -999.0,9,   -999.0,  -999.00,9,-999.0000,9,-999.0000,9,-999.0000,9,-999.0000,9,-999.0000,9,-999.0000,9
  33RR20070204,  I08S,    62,  1,     15,     15,2,20070305,2117,-41.5052,  94.9858, 3371,   1149.6,   3.6340,  34.3708,2,  34.3698,2,    198.8,2,    197.1,2,    42.86,2,    32.32,2,     0.00,2,     2.24,2, -999.000,9, -999.000,9, -999.000,9,   -999.0,9,   2302.5,2,   -999.0,9,  -999.00,9, -999.000,9, -999.000,-999.0000,9,-999.0000,  -999.00,9,  -999.00, -999.000,9, -999.000,   -999.0,9,   -999.0,  -999.00,9,-999.0000,9,-999.0000,9,-999.0000,9,-999.0000,9,-999.0000,9,-999.0000,9
  33RR20070204,  I08S,    62,  1,     14,     14,2,20070305,2117,-41.5052,  94.9858, 3371,   1247.9,   3.3924,  34.4210,2,  34.4205,2,    184.9,2,    183.2,2,    51.91,2,    33.37,2,     0.00,2,     2.32,2, -999.000,9, -999.000,9, -999.000,9,   -999.0,9,   -999.0,9,   -999.0,9,  -999.00,9, -999.000,9, -999.000,-999.0000,9,-999.0000,  -999.00,9,  -999.00, -999.000,9, -999.000,   -999.0,9,   -999.0,  -999.00,9,-999.0000,9,-999.0000,9,-999.0000,9,-999.0000,9,-999.0000,9,-999.0000,9
  33RR20070204,  I08S,    62,  1,     13,     13,2,20070305,2117,-41.5052,  94.9858, 3371,   1350.7,   3.1332,  34.4533,2,  34.4536,2,    179.9,2,    180.4,2,    56.71,2,    33.70,2,     0.00,2,     2.35,2, -999.000,9, -999.000,9, -999.000,9,   -999.0,9,   -999.0,9,   -999.0,9,  -999.00,9, -999.000,9, -999.000,-999.0000,9,-999.0000,  -999.00,9,  -999.00, -999.000,9, -999.000,   -999.0,9,   -999.0,  -999.00,9,-999.0000,9,-999.0000,9,-999.0000,9,-999.0000,9,-999.0000,9,-999.0000,9
  33RR20070204,  I08S,    62,  1,     12,     12,2,20070305,2117,-41.5052,  94.9858, 3371,   1450.7,   2.9831,  34.5064,2,  34.5068,2,    172.1,2,    171.6,2,    64.57,2,    34.08,2,     0.00,2,     2.37,2, -999.000,9, -999.000,9, -999.000,9,   -999.0,9,   -999.0,9,   -999.0,9,  -999.00,9, -999.000,9, -999.000,-999.0000,9,-999.0000,  -999.00,9,  -999.00, -999.000,9, -999.000,   -999.0,9,   -999.0,  -999.00,9,-999.0000,9,-999.0000,9,-999.0000,9,-999.0000,9,-999.0000,9,-999.0000,9
  33RR20070204,  I08S,    62,  1,     11,     11,2,20070305,2117,-41.5052,  94.9858, 3371,   1552.3,   2.8570,  34.5464,2,  34.5463,2,    169.2,2,    168.9,2,    68.99,2,    34.07,2,     0.00,2,     2.37,2, -999.000,9, -999.000,9, -999.000,9,   2251.5,2,   2328.3,2,   -999.0,9,  -999.00,9, -999.000,9, -999.000,-999.0000,9,-999.0000,  -999.00,9,  -999.00, -999.000,9, -999.000,   -999.0,9,   -999.0,  -999.00,9,-999.0000,9,-999.0000,9,-999.0000,9,-999.0000,9,-999.0000,9,-999.0000,9
  33RR20070204,  I08S,    62,  1,     10,     10,2,20070305,2117,-41.5052,  94.9858, 3371,   1652.8,   2.6996,  34.5815,2,  34.5820,2,    173.8,2,    175.6,2,    68.33,2,    33.28,2,     0.00,2,     2.31,2, -999.000,9, -999.000,9, -999.000,9,   -999.0,9,   -999.0,9,   -999.0,9,  -999.00,9, -999.000,9, -999.000,-999.0000,9,-999.0000,  -999.00,9,  -999.00, -999.000,9, -999.000,   -999.0,9,   -999.0,  -999.00,9,-999.0000,9,-999.0000,9,-999.0000,9,-999.0000,9,-999.0000,9,-999.0000,9
  33RR20070204,  I08S,    62,  1,      9,      9,2,20070305,2117,-41.5052,  94.9858, 3371,   1753.1,   2.6062,  34.6194,2,  34.6198,2,    176.1,2,    176.3,2,    70.32,2,    32.83,2,     0.00,2,     2.27,2, -999.000,9, -999.000,9, -999.000,9,   -999.0,9,   -999.0,9,   -999.0,9,  -999.00,9, -999.000,9, -999.000,-999.0000,9,-999.0000,  -999.00,9,  -999.00, -999.000,9, -999.000,   -999.0,9,   -999.0,  -999.00,9,-999.0000,9,-999.0000,9,-999.0000,9,-999.0000,9,-999.0000,9,-999.0000,9
  33RR20070204,  I08S,    62,  1,      8,      8,2,20070305,2117,-41.5052,  94.9858, 3371,   1853.8,   2.5368,  34.6555,2,  34.6561,2,    178.3,2,    178.9,2,    72.10,2,    32.24,2,     0.00,2,     2.23,2, -999.000,9, -999.000,9, -999.000,9,   -999.0,9,   -999.0,9,   -999.0,9,  -999.00,9, -999.000,9, -999.000,-999.0000,9,-999.0000,  -999.00,9,  -999.00, -999.000,9, -999.000,   -999.0,9,   -999.0,  -999.00,9,-999.0000,9,-999.0000,9,-999.0000,9,-999.0000,9,-999.0000,9,-999.0000,9
  33RR20070204,  I08S,    62,  1,      7,      7,2,20070305,2117,-41.5052,  94.9858, 3371,   1955.1,   2.4748,  34.6826,2,  34.6832,2,    181.6,2,    181.8,2,    73.28,2,    31.69,2,     0.00,2,     2.19,2, -999.000,9, -999.000,9, -999.000,9,   -999.0,9,   2336.0,2,   -999.0,9,  -999.00,9, -999.000,9, -999.000,-999.0000,9,-999.0000,  -999.00,9,  -999.00, -999.000,9, -999.000,   -999.0,9,   -999.0,  -999.00,9,-999.0000,9,-999.0000,9,-999.0000,9,-999.0000,9,-999.0000,9,-999.0000,9
  33RR20070204,  I08S,    62,  1,      6,      6,2,20070305,2117,-41.5052,  94.9858, 3371,   2116.1,   2.3707,  34.7183,2,  34.7182,2,    187.3,2,    187.4,2,    75.26,2,    30.81,2,     0.00,2,     2.12,2, -999.000,9, -999.000,9, -999.000,9,   -999.0,9,   -999.0,9,   -999.0,9,  -999.00,9, -999.000,9, -999.000,-999.0000,9,-999.0000,  -999.00,9,  -999.00, -999.000,9, -999.000,   -999.0,9,   -999.0,  -999.00,9,-999.0000,9,-999.0000,9,-999.0000,9,-999.0000,9,-999.0000,9,-999.0000,9
  33RR20070204,  I08S,    62,  1,      5,      5,2,20070305,2117,-41.5052,  94.9858, 3371,   2368.2,   2.1657,  34.7457,2,  34.7459,2,    193.3,2,    194.0,2,    80.71,2,    30.23,2,     0.00,2,     2.09,2, -999.000,9, -999.000,9, -999.000,9,   2246.3,2,   2344.0,2,   -999.0,9,  -999.00,9, -999.000,9, -999.000,-999.0000,9,-999.0000,  -999.00,9,  -999.00, -999.000,9, -999.000,   -999.0,9,   -999.0,  -999.00,9,-999.0000,9,-999.0000,9,-999.0000,9,-999.0000,9,-999.0000,9,-999.0000,9
  33RR20070204,  I08S,    62,  1,      4,      4,2,20070305,2117,-41.5052,  94.9858, 3371,   2619.9,   1.9081,  34.7510,2,  34.7449,0,    197.9,2,    197.2,2,    89.22,2,    30.17,2,     0.00,2,     2.09,2, -999.000,9, -999.000,9, -999.000,9,   -999.0,9,   -999.0,9,   -999.0,9,  -999.00,9, -999.000,9, -999.000,-999.0000,9,-999.0000,  -999.00,9,  -999.00, -999.000,9, -999.000,   -999.0,9,   -999.0,  -999.00,9,-999.0000,9,-999.0000,9,-999.0000,9,-999.0000,9,-999.0000,9,-999.0000,9
  33RR20070204,  I08S,    62,  1,      3,      3,2,20070305,2117,-41.5052,  94.9858, 3371,   2874.5,   1.6144,  34.7431,2,  34.7437,2,    201.0,2,    200.6,2,    98.57,2,    30.64,2,     0.00,2,     2.12,2, -999.000,9, -999.000,9, -999.000,9,   -999.0,9,   2354.1,2,   -999.0,9,  -999.00,9, -999.000,9, -999.000,-999.0000,9,-999.0000,  -999.00,9,  -999.00, -999.000,9, -999.000,   -999.0,9,   -999.0,  -999.00,9,-999.0000,9,-999.0000,9,-999.0000,9,-999.0000,9,-999.0000,9,-999.0000,9
  33RR20070204,  I08S,    62,  1,      2,      2,2,20070305,2117,-41.5052,  94.9858, 3371,   3127.2,   1.3923,  34.7338,2,  34.7343,2,    203.1,2,    203.1,2,   105.89,2,    30.97,2,     0.00,2,     2.15,2, -999.000,9, -999.000,9, -999.000,9,   -999.0,9,   -999.0,9,   -999.0,9,  -999.00,9, -999.000,9, -999.000,-999.0000,9,-999.0000,  -999.00,9,  -999.00, -999.000,9, -999.000,   -999.0,9,   -999.0,  -999.00,9,-999.0000,9,-999.0000,9,-999.0000,9,-999.0000,9,-999.0000,9,-999.0000,9
  33RR20070204,  I08S,    62,  1,      1,      1,2,20070305,2117,-41.5052,  94.9858, 3371,   3434.5,   1.2526,  34.7258,2,  34.7264,2,    203.5,2,    204.0,2,   112.20,2,    31.34,2,     0.00,2,     2.17,2, -999.000,9, -999.000,9, -999.000,9,   2261.9,2,   2359.8,2,   -999.0,9,  -999.00,9, -999.000,9, -999.000,-999.0000,9,-999.0000,  -999.00,9,  -999.00, -999.000,9, -999.000,   -999.0,9,   -999.0,  -999.00,9,-999.0000,9,-999.0000,9,-999.0000,9,-999.0000,9,-999.0000,9,-999.0000,9