BOTTLE,20150626SIOCCHRJL
EXPOCODE,SECT_ID,STNNBR,CASTNO,SAMPNO,BTLNBR,BTLNBR_FLAG_W,DATE,TIME,LATITUDE,LONGITUDE,DEPTH,CTDPRS,CTDTMP,CTDSAL,CTDSAL_FLAG_W,SALNTY,SALNTY_FLAG_W,CTDOXY,CTDOXY_FLAG_W,OXYGEN,OXYGEN_FLAG_W,SILCAT,SILCAT_FLAG_W,NITRAT,NITRAT_FLAG_W,NITRIT,NITRIT_FLAG_W,PHSPHT,PHSPHT_FLAG_W,CFC-11,CFC-11_FLAG_W,CFC-12,CFC-12_FLAG_W,CFC113,CFC113_FLAG_W,TCARBN,TCARBN_FLAG_W,ALKALI,ALKALI_FLAG_W,DOC,DOC_FLAG_W,TDN,TDN_FLAG_W,TRITUM,TRITUM_FLAG_W,TRITER,HELIUM,HELIUM_FLAG_W,HELIER,DELHE3,DELHE3_FLAG_W,DELHER,NEON,NEON_FLAG_W,NEONER,DELC14,DELC14_FLAG_W,C14ERR,DELC13,DELC13_FLAG_W,CDOM325,CDOM325_FLAG_W,CDOM340,CDOM340_FLAG_W,CDOM380,CDOM380_FLAG_W,CDOM412,CDOM412_FLAG_W,CDOMSL,CDOMSL_FLAG_W,CDOMSN,CDOMSN_FLAG_W
,,,,,,,,,,,METERS,DBAR,ITS-90,PSS-78,,PSS-78,,UMOL/KG,,UMOL/KG,,UMOL/KG,,UMOL/KG,,UMOL/KG,,UMOL/KG,,PMOL/KG,,PMOL/KG,,PMOL/KG,,UMOL/KG,,UMOL/KG,,UMOL/KG,,UMOL/KG,,TU,,TU,NMOL/KG,,NMOL/KG,PERCNT,,PERCNT,NMOL/KG,,NMOL/KG,/MILLE,,/MILLE,/MILLE,,1/M,,1/M,,1/M,,1/M,,1/NM,,1/NM,
  33RR20070204,  I08S,     5,  2,     35,     35,2,20070216,0848,-65.1672,  84.3120, 3108,      2.7,  -0.4926,  33.3702,2,  33.3719,2,    344.6,2,    361.4,2,    36.25,2,    21.67,2,     0.18,2,     1.37,2,    6.069,2,    3.337,2, -999.000,5,   2109.9,6,   2260.0,2,     45.9,2,    25.91,2, -999.000,9, -999.000,-999.0000,9,-999.0000,  -999.00,9,  -999.00, -999.000,9, -999.000,   -999.0,9,   -999.0,  -999.00,9,   0.1603,2,   0.1174,2,   0.0397,2,   0.0283,2,   0.0172,3,   0.0228,3
  33RR20070204,  I08S,     5,  2,     34,   9433,2,20070216,0848,-65.1672,  84.3120, 3108,     29.9,  -1.2590,  33.7132,2,  33.7334,2,    334.8,2,    336.0,2,    54.59,2,    26.87,2,     0.14,2,     1.82,2, -999.000,9, -999.000,9, -999.000,9,   2159.2,2,   2281.5,2,     44.9,2,    31.37,2, -999.000,9, -999.000,-999.0000,9,-999.0000,  -999.00,9,  -999.00, -999.000,9, -999.000,   -999.0,9,   -999.0,  -999.00,9,   0.1045,2,   0.0710,2,   0.0378,2,   0.0272,2,   0.0145,3,   0.0164,3
  33RR20070204,  I08S,     5,  2,     33,     33,2,20070216,0848,-65.1672,  84.3120, 3108,     40.0,  -1.5898,  33.9767,2,  33.9663,2,    328.4,2,    326.6,2,    60.18,2,    28.58,2,     0.13,2,     1.96,2,    5.074,2,    2.774,2, -999.000,5,   2180.5,2,   2295.0,2,     45.3,2,    33.20,2, -999.000,9, -999.000,-999.0000,9,-999.0000,  -999.00,9,  -999.00, -999.000,9, -999.000,   -999.0,9,   -999.0,  -999.00,9,   0.1092,2,   0.0727,2,   0.0414,2,   0.0315,2,   0.0134,3,   0.0150,3
  33RR20070204,  I08S,     5,  2,     32,     32,2,20070216,0848,-65.1672,  84.3120, 3108,     75.2,  -1.7730,  34.1970,2,  34.2034,2,    312.7,2,    306.6,2,    65.58,2,    30.07,2,     0.13,2,     2.10,2, -999.000,9, -999.000,9, -999.000,9,   2203.2,2,   2308.6,2,     44.0,2,    34.86,2, -999.000,9, -999.000,-999.0000,9,-999.0000,  -999.00,9,  -999.00, -999.000,9, -999.000,   -999.0,9,   -999.0,  -999.00,9,   0.0996,2,   0.0654,2,   0.0359,2,   0.0275,2,   0.0139,3,   0.0159,3
  33RR20070204,  I08S,     5,  2,     31,     31,2,20070216,0848,-65.1672,  84.3120, 3108,     95.3,  -1.7876,  34.2716,2,  34.2772,2,    304.6,2,    303.4,2,    66.17,2,    30.62,2,     0.10,2,     2.12,2,    4.854,2,    2.619,2, -999.000,5,   2208.9,2,   2312.7,2,     44.4,2,    36.07,2, -999.000,9, -999.000,-999.0000,9,-999.0000,  -999.00,9,  -999.00, -999.000,9, -999.000,   -999.0,9,   -999.0,  -999.00,9,   0.1087,2,   0.0729,2,   0.0425,2,   0.0315,2,   0.0135,3,   0.0147,3
  33RR20070204,  I08S,     5,  2,     30,     30,2,20070216,0848,-65.1672,  84.3120, 3108,    125.4,  -1.7649,  34.3161,2,  34.3184,2,    307.1,2,    308.2,2,    65.58,2,    30.60,2,     0.02,2,     2.11,2, -999.000,9, -999.000,9, -999.000,9,   2210.7,2,   2316.3,2,     44.5,2,    34.51,2, -999.000,9, -999.000,-999.0000,9,-999.0000,  -999.00,9,  -999.00, -999.000,9, -999.000,   -999.0,9,   -999.0,  -999.00,9,   0.1026,2,   0.0679,2,   0.0392,2,   0.0292,2,   0.0137,3,   0.0151,3
  33RR20070204,  I08S,     5,  2,     29,     29,2,20070216,0848,-65.1672,  84.3120, 3108,    145.7,  -1.7579,  34.3304,2,  34.3345,2,    308.2,2,    311.5,2,    65.38,2,    30.65,2,     0.01,2,     2.11,2, -999.000,9, -999.000,9, -999.000,9,   2211.5,2,   2316.0,2,     44.2,2,    33.89,2, -999.000,9, -999.000,-999.0000,9,-999.0000,  -999.00,9,  -999.00, -999.000,9, -999.000,   -999.0,9,   -999.0,  -999.00,9,   0.0992,2,   0.0647,2,   0.0367,2,   0.0277,2,   0.0139,3,   0.0156,3
  33RR20070204,  I08S,     5,  2,     28,     28,2,20070216,0848,-65.1672,  84.3120, 3108,    175.8,  -1.7229,  34.3486,2,  34.3520,2,    307.2,2,    311.2,2,    65.98,2,    30.55,2,     0.01,2,     2.11,2, -999.000,9, -999.000,9, -999.000,9,   2214.1,2,   2318.7,2,     44.4,2,    33.76,2, -999.000,9, -999.000,-999.0000,9,-999.0000,  -999.00,9,  -999.00, -999.000,9, -999.000,   -999.0,9,   -999.0,  -999.00,9,   0.0967,2,   0.0635,2,   0.0355,2,   0.0266,2,   0.0139,3,   0.0158,3
  33RR20070204,  I08S,     5,  2,     27,     27,2,20070216,0848,-65.1672,  84.3120, 3108,    226.1,  -1.5559,  34.3823,2,  34.3875,2,    305.8,2,    303.5,2,    68.59,2,    30.85,2,     0.01,2,     2.12,2,    4.842,2,    2.623,2, -999.000,5,   2218.1,2,   2319.3,2,     43.2,2,    34.58,2, -999.000,9, -999.000,-999.0000,9,-999.0000,  -999.00,9,  -999.00, -999.000,9, -999.000,   -999.0,9,   -999.0,  -999.00,9,   0.1023,2,   0.0677,2,   0.0387,2,   0.0289,2,   0.0139,3,   0.0154,3
  33RR20070204,  I08S,     5,  2,     26,     26,2,20070216,0848,-65.1672,  84.3120, 3108,    276.6,  -1.2034,  34.4278,2,  34.4285,2,    287.6,2,    293.1,2,    71.20,2,    30.98,2,     0.01,2,     2.14,2, -999.000,9, -999.000,9, -999.000,9,   2222.6,2,   2324.1,2,     43.4,2,    34.90,2, -999.000,9, -999.000,-999.0000,9,-999.0000,  -999.00,9,  -999.00, -999.000,9, -999.000,   -999.0,9,   -999.0,  -999.00,9,   0.1044,2,   0.0702,2,   0.0416,2,   0.0296,2,   0.0140,2,   0.0151,3
  33RR20070204,  I08S,     5,  2,     25,     25,2,20070216,0848,-65.1672,  84.3120, 3108,    326.9,  -0.2212,  34.5317,2,  34.5339,2,    266.3,2,    251.8,2,    80.23,2,    31.52,2,     0.01,2,     2.16,2,    2.881,2,    1.519,2, -999.000,5,   2235.1,2,   2331.2,2,     43.4,2,    34.87,2, -999.000,9, -999.000,-999.0000,9,-999.0000,  -999.00,9,  -999.00, -999.000,9, -999.000,   -999.0,9,   -999.0,  -999.00,9,   0.1126,2,   0.0763,2,   0.0442,2,   0.0327,2,   0.0142,3,   0.0150,3
  33RR20070204,  I08S,     5,  2,     24,     24,2,20070216,0848,-65.1672,  84.3120, 3108,    377.1,   0.2342,  34.5942,2,  34.5964,2,    236.6,2,    236.1,2,    85.67,2,    31.65,2,     0.01,2,     2.18,2, -999.000,9, -999.000,9, -999.000,9,   2239.7,2,   2336.6,2,     43.1,2,    34.89,2, -999.000,9, -999.000,-999.0000,9,-999.0000,  -999.00,9,  -999.00, -999.000,9, -999.000,   -999.0,9,   -999.0,  -999.00,9,   0.1210,2,   0.0824,2,   0.0457,2,   0.0330,2,   0.0145,2,   0.0157,3
  33RR20070204,  I08S,     5,  2,     23,     23,2,20070216,0848,-65.1672,  84.3120, 3108,    427.6,   0.7066,  34.6561,2,  34.6595,2,    221.2,2,    218.4,2,    91.31,2,    31.65,2,     0.00,2,     2.18,2, -999.000,9, -999.000,9, -999.000,9,   2245.6,2,   2341.1,2,     43.8,2,    35.39,2, -999.000,9, -999.000,-999.0000,9,-999.0000,  -999.00,9,  -999.00, -999.000,9, -999.000,   -999.0,9,   -999.0,  -999.00,9,   0.1334,2,   0.0914,2,   0.0511,2,   0.0371,2,   0.0144,3,   0.0154,3
  33RR20070204,  I08S,     5,  2,     22,     22,2,20070216,0848,-65.1672,  84.3120, 3108,    478.1,   0.7444,  34.6698,2,  34.6715,2,    212.9,2,    216.5,2,    93.13,2,    31.55,2,     0.00,2,     2.19,2, -999.000,9, -999.000,9, -999.000,9,   2248.5,2,   2343.9,2,     43.5,2,    35.08,2, -999.000,9, -999.000,-999.0000,9,-999.0000,  -999.00,9,  -999.00, -999.000,9, -999.000,   -999.0,9,   -999.0,  -999.00,9,   0.1258,2,   0.0860,2,   0.0476,2,   0.0341,2,   0.0145,2,   0.0157,3
  33RR20070204,  I08S,     5,  2,     21,     21,2,20070216,0848,-65.1672,  84.3120, 3108,    528.4,   0.8629,  34.6895,2,  34.6897,2,    211.3,2,    211.4,2,    96.36,2,    31.49,2,     0.00,2,     2.18,2,    0.881,2,    0.466,2, -999.000,5,   2250.2,2,   2345.5,2,     43.1,2,    34.20,2, -999.000,9, -999.000,-999.0000,9,-999.0000,  -999.00,9,  -999.00, -999.000,9, -999.000,   -999.0,9,   -999.0,  -999.00,9,   0.1211,2,   0.0834,2,   0.0476,2,   0.0325,2,   0.0150,2,   0.0157,2
  33RR20070204,  I08S,     5,  2,     20,     20,2,20070216,0848,-65.1672,  84.3120, 3108,    639.4,   0.8433,  34.6966,2,  34.6982,2,    210.4,2,    210.2,2,   100.61,2,    31.54,2,     0.00,2,     2.19,2, -999.000,9, -999.000,9, -999.000,9,   2252.2,2,   2347.0,2,     43.5,2,    34.41,2, -999.000,9, -999.000,-999.0000,9,-999.0000,  -999.00,9,  -999.00, -999.000,9, -999.000,   -999.0,9,   -999.0,  -999.00,9,   0.1187,2,   0.0812,2,   0.0448,2,   0.0318,2,   0.0147,2,   0.0159,3
  33RR20070204,  I08S,     5,  2,     19,     19,2,20070216,0848,-65.1672,  84.3120, 3108,    750.3,   0.7642,  34.6962,2,  34.6978,2,    210.5,2,    210.3,2,   104.66,2,    31.74,2,     0.00,2,     2.20,2,    0.657,2,    0.348,2, -999.000,5,   2252.1,2,   2349.0,2,     43.2,2,    34.24,2, -999.000,9, -999.000,-999.0000,9,-999.0000,  -999.00,9,  -999.00, -999.000,9, -999.000,   -999.0,9,   -999.0,  -999.00,9,   0.1220,2,   0.0845,2,   0.0491,2,   0.0329,2,   0.0149,2,   0.0155,2
  33RR20070204,  I08S,     5,  2,     18,     18,2,20070216,0848,-65.1672,  84.3120, 3108,    851.3,   0.7086,  34.6968,2,  34.6990,2,    210.4,2,    210.5,2,   107.90,2,    31.87,2,     0.00,2,     2.21,2, -999.000,9, -999.000,9, -999.000,9,   2255.2,2,   2349.8,2,     42.1,2,    34.52,2, -999.000,9, -999.000,-999.0000,9,-999.0000,  -999.00,9,  -999.00, -999.000,9, -999.000,   -999.0,9,   -999.0,  -999.00,9,   0.1227,2,   0.0839,2,   0.0461,2,   0.0328,2,   0.0147,2,   0.0159,3
  33RR20070204,  I08S,     5,  2,     17,     17,2,20070216,0848,-65.1672,  84.3120, 3108,    952.3,   0.6242,  34.6940,2,  34.6964,2,    211.6,2,    211.6,2,   110.95,2,    32.07,2,     0.00,2,     2.22,2,    0.548,2,    0.286,2, -999.000,5,   2254.1,6,   2351.1,2,     41.4,2,    34.34,2, -999.000,9, -999.000,-999.0000,9,-999.0000,  -999.00,9,  -999.00, -999.000,9, -999.000,   -999.0,9,   -999.0,  -999.00,9,   0.1225,2,   0.0839,2,   0.0470,2,   0.0329,2,   0.0147,2,   0.0157,2
  33RR20070204,  I08S,     5,  2,     16,     16,2,20070216,0848,-65.1672,  84.3120, 3108,   1053.2,   0.5420,  34.6911,2,  34.6935,2,    213.2,2,    212.9,2,   113.60,2,    32.16,2,     0.00,2,     2.23,2, -999.000,9, -999.000,9, -999.000,9,   2256.6,2,   2352.2,2,     42.2,2,    33.77,2, -999.000,9, -999.000,-999.0000,9,-999.0000,  -999.00,9,  -999.00, -999.000,9, -999.000,   -999.0,9,   -999.0,  -999.00,9,   0.1215,2,   0.0829,2,   0.0450,2,   0.0327,2,   0.0145,3,   0.0159,3
  33RR20070204,  I08S,     5,  2,     15,     15,2,20070216,0848,-65.1672,  84.3120, 3108,   1154.5,   0.4779,  34.6903,2,  34.6919,2,    213.3,2,    213.1,2,   116.85,2,    32.35,2,     0.00,2,     2.25,2, -999.000,9, -999.000,9, -999.000,9,   2258.1,2,   2352.1,2,     41.7,2,    33.59,2, -999.000,9, -999.000,-999.0000,9,-999.0000,  -999.00,9,  -999.00, -999.000,9, -999.000,   -999.0,9,   -999.0,  -999.00,9,   0.1396,2,   0.0957,2,   0.0524,2,   0.0382,2,   0.0144,3,   0.0155,3
  33RR20070204,  I08S,     5,  2,     14,     14,2,20070216,0848,-65.1672,  84.3120, 3108,   1255.5,   0.4377,  34.6899,2,  34.6921,2,    212.3,2,    212.2,2,   119.10,2,    32.49,2,     0.00,2,     2.25,2, -999.000,9, -999.000,9, -999.000,9,   2257.7,2,   2353.5,2,     41.7,2,    34.03,2, -999.000,9, -999.000,-999.0000,9,-999.0000,  -999.00,9,  -999.00, -999.000,9, -999.000,   -999.0,9,   -999.0,  -999.00,9,   0.1210,2,   0.0825,2,   0.0452,2,   0.0331,2,   0.0144,3,   0.0157,3
  33RR20070204,  I08S,     5,  2,     13,     13,2,20070216,0848,-65.1672,  84.3120, 3108,   1356.7,   0.3696,  34.6864,2,  34.6892,2,    214.6,2,    214.1,2,   120.32,2,    32.49,2,     0.00,2,     2.26,2,    0.413,2,    0.210,2, -999.000,5,   2258.4,2,   2352.6,2,     42.1,2,    34.27,2, -999.000,9, -999.000,-999.0000,9,-999.0000,  -999.00,9,  -999.00, -999.000,9, -999.000,   -999.0,9,   -999.0,  -999.00,9,   0.1218,2,   0.0826,2,   0.0453,2,   0.0331,2,   0.0144,3,   0.0158,3
  33RR20070204,  I08S,     5,  2,     12,     12,2,20070216,0848,-65.1672,  84.3120, 3108,   1458.0,   0.2833,  34.6819,2,  34.6849,2,    217.8,2,    217.8,2,   120.13,2,    32.49,2,     0.00,2,     2.25,2, -999.000,9, -999.000,9, -999.000,9,   2258.4,2,   2352.5,2,     41.5,2,    34.11,2, -999.000,9, -999.000,-999.0000,9,-999.0000,  -999.00,9,  -999.00, -999.000,9, -999.000,   -999.0,9,   -999.0,  -999.00,9,   0.1176,2,   0.0799,2,   0.0438,2,   0.0319,2,   0.0143,2,   0.0158,3
  33RR20070204,  I08S,     5,  2,     11,     11,2,20070216,0848,-65.1672,  84.3120, 3108,   1559.3,   0.2360,  34.6805,2,  34.6835,2,    218.9,2,    218.9,2,   121.35,2,    32.48,2,     0.00,2,     2.25,2,    0.577,2,    0.298,2, -999.000,5,   2259.1,2,   2352.1,2,     41.6,2,    33.86,2, -999.000,9, -999.000,-999.0000,9,-999.0000,  -999.00,9,  -999.00, -999.000,9, -999.000,   -999.0,9,   -999.0,  -999.00,9,   0.1179,2,   0.0806,2,   0.0443,2,   0.0324,2,   0.0143,2,   0.0156,3
  33RR20070204,  I08S,     5,  2,     10,     10,2,20070216,0848,-65.1672,  84.3120, 3108,   1660.5,   0.1876,  34.6792,2,  34.6817,2,    220.3,2,    220.5,2,   122.17,2,    32.48,2,     0.00,2,     2.26,2, -999.000,9, -999.000,9, -999.000,9,   2260.8,3,   2351.8,2,     41.6,2,    34.43,2, -999.000,9, -999.000,-999.0000,9,-999.0000,  -999.00,9,  -999.00, -999.000,9, -999.000,   -999.0,9,   -999.0,  -999.00,9,   0.1271,2,   0.0862,2,   0.0485,2,   0.0362,2,   0.0143,3,   0.0153,3
  33RR20070204,  I08S,     5,  2,      9,      9,2,20070216,0848,-65.1672,  84.3120, 3108,   1761.9,   0.1305,  34.6776,2,  34.6798,2,    222.1,2,    222.3,2,   122.59,2,    32.48,2,     0.00,2,     2.25,2,    0.663,2,    0.341,2, -999.000,5,   2247.1,3,   2352.0,2,     42.2,2,    34.29,2, -999.000,9, -999.000,-999.0000,9,-999.0000,  -999.00,9,  -999.00, -999.000,9, -999.000,   -999.0,9,   -999.0,  -999.00,9,   0.1194,2,   0.0816,2,   0.0446,2,   0.0326,2,   0.0143,3,   0.0157,3
  33RR20070204,  I08S,     5,  2,      8,      8,2,20070216,0848,-65.1672,  84.3120, 3108,   1863.4,   0.0960,  34.6761,2,  34.6786,2,    223.6,2,    223.7,2,   123.20,2,    32.42,2,     0.00,2,     2.24,2, -999.000,9, -999.000,9, -999.000,9,   2257.3,2,   2351.9,2,     41.9,2,    34.35,2, -999.000,9, -999.000,-999.0000,9,-999.0000,  -999.00,9,  -999.00, -999.000,9, -999.000,   -999.0,9,   -999.0,  -999.00,9,   0.1264,2,   0.0861,2,   0.0463,2,   0.0333,2,   0.0147,2,   0.0161,3
  33RR20070204,  I08S,     5,  2,      7,      7,2,20070216,0848,-65.1672,  84.3120, 3108,   1964.6,   0.0517,  34.6747,2,  34.6767,2,    225.2,2,    225.2,2,   122.80,2,    32.37,2,     0.00,2,     2.24,2,    0.794,2,    0.415,2, -999.000,5,   2256.7,2,   2351.3,2,     41.8,2,    34.29,2, -999.000,9, -999.000,-999.0000,9,-999.0000,  -999.00,9,  -999.00, -999.000,9, -999.000,   -999.0,9,   -999.0,  -999.00,9,   0.1265,2,   0.0868,2,   0.0494,2,   0.0371,2,   0.0144,3,   0.0150,3
  33RR20070204,  I08S,     5,  2,      6,      6,2,20070216,0848,-65.1672,  84.3120, 3108,   2127.2,  -0.0124,  34.6717,2,  34.6737,2,    227.8,2,    227.8,2,   121.99,2,    32.28,2,     0.00,2,     2.24,2, -999.000,9, -999.000,9, -999.000,9,   2256.2,2,   2351.6,2,     41.4,2,    33.81,2, -999.000,9, -999.000,-999.0000,9,-999.0000,  -999.00,9,  -999.00, -999.000,9, -999.000,   -999.0,9,   -999.0,  -999.00,9,   0.1205,2,   0.0821,2,   0.0445,2,   0.0323,2,   0.0145,2,   0.0159,3
  33RR20070204,  I08S,     5,  2,      5,      5,2,20070216,0848,-65.1672,  84.3120, 3108,   2381.1,  -0.0758,  34.6682,2,  34.6698,2,    230.9,2,    231.5,2,   120.77,2,    32.27,2,     0.00,2,     2.24,2,    1.125,2,    0.589,2, -999.000,5,   2254.0,2,   2349.4,2,     41.7,2,    33.32,2, -999.000,9, -999.000,-999.0000,9,-999.0000,  -999.00,9,  -999.00, -999.000,9, -999.000,   -999.0,9,   -999.0,  -999.00,9,   0.1407,2,   0.0956,2,   0.0542,2,   0.0388,2,   0.0149,3,   0.0156,3
  33RR20070204,  I08S,     5,  2,      4,      4,2,20070216,0848,-65.1672,  84.3120, 3108,   2635.3,  -0.1172,  34.6659,2,  34.6674,2,    233.1,2,    232.6,2,   120.37,2,    32.17,2,     0.00,2,     2.23,2, -999.000,9, -999.000,9, -999.000,9,   2254.4,2,   2351.0,2,     41.6,2,    33.87,2, -999.000,9, -999.000,-999.0000,9,-999.0000,  -999.00,9,  -999.00, -999.000,9, -999.000,   -999.0,9,   -999.0,  -999.00,9,   0.1177,2,   0.0806,2,   0.0443,2,   0.0326,2,   0.0144,2,   0.0156,3
  33RR20070204,  I08S,     5,  2,      3,      3,2,20070216,0848,-65.1672,  84.3120, 3108,   2889.9,  -0.1390,  34.6644,2,  34.6653,2,    234.6,2,    234.6,2,   120.59,2,    32.17,2,     0.00,2,     2.23,2,    1.393,2,    0.716,2, -999.000,5,   2255.8,2,   -999.0,2,     41.8,2,    34.09,2, -999.000,9, -999.000,-999.0000,9,-999.0000,  -999.00,9,  -999.00, -999.000,9, -999.000,   -999.0,9,   -999.0,  -999.00,9,   0.1188,2,   0.0813,2,   0.0446,2,   0.0327,2,   0.0144,2,   0.0156,3
  33RR20070204,  I08S,     5,  2,      2,      2,2,20070216,0848,-65.1672,  84.3120, 3108,   3042.6,  -0.1702,  34.6633,2,  34.6645,2,    235.3,2,    235.0,2,   125.69,2,    32.21,2,     0.00,2,     2.23,2,    1.490,2,    0.759,2, -999.000,5,   2255.7,2,   2349.0,2,     41.3,2,    33.79,2, -999.000,9, -999.000,-999.0000,9,-999.0000,  -999.00,9,  -999.00, -999.000,9, -999.000,   -999.0,9,   -999.0,  -999.00,9,   0.1193,2,   0.0828,2,   0.0467,2,   0.0345,2,   0.0142,2,   0.0150,3
  33RR20070204,  I08S,     5,  2,      1,      1,2,20070216,0848,-65.1672,  84.3120, 3108,   3136.2,  -0.1853,  34.6626,2,  34.6643,2,    235.2,2,    235.7,2,   126.92,2,    32.31,2,     0.00,2,     2.23,2,    1.546,2,    0.778,2, -999.000,5,   2254.7,6,   2350.3,2,     41.9,2,    33.39,2, -999.000,9, -999.000,-999.0000,9,-999.0000,  -999.00,9,  -999.00, -999.000,9, -999.000,   -999.0,9,   -999.0,  -999.00,9,   0.1265,2,   0.0876,2,   0.0514,2,   0.0362,2,   0.0146,2,   0.0150,2