BOTTLE,20150626SIOCCHRJL
EXPOCODE,SECT_ID,STNNBR,CASTNO,SAMPNO,BTLNBR,BTLNBR_FLAG_W,DATE,TIME,LATITUDE,LONGITUDE,DEPTH,CTDPRS,CTDTMP,CTDSAL,CTDSAL_FLAG_W,SALNTY,SALNTY_FLAG_W,CTDOXY,CTDOXY_FLAG_W,OXYGEN,OXYGEN_FLAG_W,SILCAT,SILCAT_FLAG_W,NITRAT,NITRAT_FLAG_W,NITRIT,NITRIT_FLAG_W,PHSPHT,PHSPHT_FLAG_W,CFC-11,CFC-11_FLAG_W,CFC-12,CFC-12_FLAG_W,CFC113,CFC113_FLAG_W,TCARBN,TCARBN_FLAG_W,ALKALI,ALKALI_FLAG_W,DOC,DOC_FLAG_W,TDN,TDN_FLAG_W,TRITUM,TRITUM_FLAG_W,TRITER,HELIUM,HELIUM_FLAG_W,HELIER,DELHE3,DELHE3_FLAG_W,DELHER,NEON,NEON_FLAG_W,NEONER,DELC14,DELC14_FLAG_W,C14ERR,DELC13,DELC13_FLAG_W,CDOM325,CDOM325_FLAG_W,CDOM340,CDOM340_FLAG_W,CDOM380,CDOM380_FLAG_W,CDOM412,CDOM412_FLAG_W,CDOMSL,CDOMSL_FLAG_W,CDOMSN,CDOMSN_FLAG_W
,,,,,,,,,,,METERS,DBAR,ITS-90,PSS-78,,PSS-78,,UMOL/KG,,UMOL/KG,,UMOL/KG,,UMOL/KG,,UMOL/KG,,UMOL/KG,,PMOL/KG,,PMOL/KG,,PMOL/KG,,UMOL/KG,,UMOL/KG,,UMOL/KG,,UMOL/KG,,TU,,TU,NMOL/KG,,NMOL/KG,PERCNT,,PERCNT,NMOL/KG,,NMOL/KG,/MILLE,,/MILLE,/MILLE,,1/M,,1/M,,1/M,,1/M,,1/NM,,1/NM,
  33RR20070204,  I08S,    76,  1,     35,     35,2,20070310,0342,-34.5038,  95.0050, 4533,      3.8,  18.6371,  35.3607,2,  35.3608,2,    231.9,2,    235.3,2,     0.56,2,     0.60,2,     0.01,2,     0.21,2, -999.000,9, -999.000,9, -999.000,9,   2060.1,6,   2329.8,2,     64.4,2,     6.07,2, -999.000,9, -999.000,-999.0000,9,-999.0000,  -999.00,9,  -999.00, -999.000,9, -999.000,   -999.0,9,   -999.0,  -999.00,9,   0.1012,2,   0.0709,2,   0.0335,2,   0.0236,2,   0.0117,3,   0.0177,3
  33RR20070204,  I08S,    76,  1,     34,   9419,2,20070310,0342,-34.5038,  95.0050, 4533,     31.9,  18.6050,  35.3593,2,  35.3592,2,    236.0,2,    235.4,2,     0.36,2,     0.60,2,     0.01,2,     0.21,2, -999.000,9, -999.000,9, -999.000,9,   2059.1,2,   2329.6,2,     63.8,2,     6.31,2, -999.000,9, -999.000,-999.0000,9,-999.0000,  -999.00,9,  -999.00, -999.000,9, -999.000,   -999.0,9,   -999.0,  -999.00,9,   0.1009,2,   0.0702,2,   0.0336,2,   0.0238,2,   0.0116,3,   0.0175,3
  33RR20070204,  I08S,    76,  1,     33,     33,2,20070310,0342,-34.5038,  95.0050, 4533,     56.7,  18.0113,  35.2876,2,  35.3105,2,    239.4,2,    238.1,2,     0.36,2,     0.87,2,     0.02,2,     0.23,2, -999.000,9, -999.000,9, -999.000,9,   2059.3,2,   2326.4,2,     62.7,2,     6.22,2, -999.000,9, -999.000,-999.0000,9,-999.0000,  -999.00,9,  -999.00, -999.000,9, -999.000,   -999.0,9,   -999.0,  -999.00,9,   0.1037,2,   0.0727,2,   0.0358,2,   0.0253,2,   0.0116,3,   0.0170,3
  33RR20070204,  I08S,    76,  1,     32,     37,2,20070310,0342,-34.5038,  95.0050, 4533,     81.7,  13.7834,  35.2468,2,  35.2514,2,    250.4,2,    250.5,2,     1.35,2,     3.71,2,     0.44,2,     0.48,2, -999.000,9, -999.000,9, -999.000,9,   2093.7,2,   2320.5,2,     55.3,2,     8.04,2, -999.000,9, -999.000,-999.0000,9,-999.0000,  -999.00,9,  -999.00, -999.000,9, -999.000,   -999.0,9,   -999.0,  -999.00,9,   0.1008,2,   0.0724,2,   0.0376,2,   0.0281,2,   0.0115,3,   0.0157,3
  33RR20070204,  I08S,    76,  1,     31,     31,2,20070310,0342,-34.5038,  95.0050, 4533,    106.9,  13.3179,  35.2056,2,  35.2067,2,    247.0,2,    246.8,2,     1.35,2,     5.08,2,     0.87,2,     0.55,2, -999.000,9, -999.000,9, -999.000,9,   2097.8,2,   2316.0,2,     53.7,2,    10.03,2, -999.000,9, -999.000,-999.0000,9,-999.0000,  -999.00,9,  -999.00, -999.000,9, -999.000,   -999.0,9,   -999.0,  -999.00,9,   0.0866,2,   0.0629,2,   0.0332,2,   0.0246,2,   0.0109,3,   0.0155,2
  33RR20070204,  I08S,    76,  1,     30,     30,2,20070310,0342,-34.5038,  95.0050, 4533,    156.9,  12.8980,  35.1894,2,  35.1828,2,    242.2,2,    243.2,2,     1.54,2,     7.03,2,     0.02,2,     0.60,2, -999.000,9, -999.000,9, -999.000,9,   2103.8,2,   2312.8,2,     51.5,2,    10.76,2, -999.000,9, -999.000,-999.0000,9,-999.0000,  -999.00,9,  -999.00, -999.000,9, -999.000,   -999.0,9,   -999.0,  -999.00,9,   0.0761,2,   0.0529,2,   0.0284,2,   0.0222,2,   0.0099,3,   0.0153,3
  33RR20070204,  I08S,    76,  1,     29,     29,2,20070310,0342,-34.5038,  95.0050, 4533,    206.9,  12.2950,  35.1493,2,  35.1507,2,    236.4,2,    238.1,2,     1.93,2,     8.47,2,     0.01,2,     0.68,2, -999.000,9, -999.000,9, -999.000,9,   2111.0,2,   2312.0,2,     50.0,2,    12.01,2, -999.000,9, -999.000,-999.0000,9,-999.0000,  -999.00,9,  -999.00, -999.000,9, -999.000,   -999.0,9,   -999.0,  -999.00,9,   0.0772,2,   0.0541,2,   0.0293,2,   0.0230,2,   0.0132,2,   0.0150,2
  33RR20070204,  I08S,    76,  1,     28,     28,2,20070310,0342,-34.5038,  95.0050, 4533,    256.8,  11.8669,  35.0865,2,  35.0842,2,    238.0,2,    239.7,2,     2.33,2,     9.51,2,     0.01,2,     0.74,2, -999.000,9, -999.000,9, -999.000,9,   -999.0,9,   -999.0,9,     49.2,2,    12.74,2, -999.000,9, -999.000,-999.0000,9,-999.0000,  -999.00,9,  -999.00, -999.000,9, -999.000,   -999.0,9,   -999.0,  -999.00,9,   0.0730,2,   0.0506,2,   0.0270,2,   0.0208,2,   0.0134,2,   0.0156,3
  33RR20070204,  I08S,    76,  1,     27,     27,2,20070310,0342,-34.5038,  95.0050, 4533,    306.7,  11.2392,  34.9872,2,  34.9800,2,    241.4,2,    243.4,2,     2.72,2,    10.75,2,     0.00,2,     0.82,2, -999.000,9, -999.000,9, -999.000,9,   2114.1,2,   2302.2,2,     48.3,2,    14.11,2, -999.000,9, -999.000,-999.0000,9,-999.0000,  -999.00,9,  -999.00, -999.000,9, -999.000,   -999.0,9,   -999.0,  -999.00,9,   0.0705,2,   0.0481,2,   0.0258,2,   0.0199,2,   0.0133,2,   0.0157,3
  33RR20070204,  I08S,    76,  1,     26,     26,2,20070310,0342,-34.5038,  95.0050, 4533,    357.0,  10.7668,  34.9092,2,  34.9124,2,    243.4,2,    244.2,2,     3.13,2,    11.85,2,     0.00,2,     0.88,2, -999.000,9, -999.000,9, -999.000,9,   -999.0,9,   -999.0,9,     46.7,2,    15.18,2, -999.000,9, -999.000,-999.0000,9,-999.0000,  -999.00,9,  -999.00, -999.000,9, -999.000,   -999.0,9,   -999.0,  -999.00,9,   0.0706,2,   0.0480,2,   0.0264,2,   0.0206,2,   0.0131,2,   0.0153,3
  33RR20070204,  I08S,    76,  1,     25,     25,2,20070310,0342,-34.5038,  95.0050, 4533,    407.3,  10.4379,  34.8564,2,  34.8506,0,    243.7,2,    243.8,2,     3.52,2,    12.89,2,     0.00,2,     0.95,2, -999.000,9, -999.000,9, -999.000,9,   2118.5,2,   2294.5,2,     45.9,2,    16.04,2, -999.000,9, -999.000,-999.0000,9,-999.0000,  -999.00,9,  -999.00, -999.000,9, -999.000,   -999.0,9,   -999.0,  -999.00,9,   0.0706,2,   0.0483,2,   0.0261,2,   0.0202,2,   0.0131,2,   0.0154,3
  33RR20070204,  I08S,    76,  1,     24,     24,2,20070310,0342,-34.5038,  95.0050, 4533,    507.4,   9.8744,  34.7665,2,  34.7674,2,    245.0,2,    245.2,2,     3.92,2,    14.39,2,     0.00,2,     1.04,2, -999.000,9, -999.000,9, -999.000,9,   -999.0,9,   -999.0,9,     45.2,2,    16.65,2, -999.000,9, -999.000,-999.0000,9,-999.0000,  -999.00,9,  -999.00, -999.000,9, -999.000,   -999.0,9,   -999.0,  -999.00,9,   0.0675,2,   0.0451,2,   0.0243,2,   0.0186,2,   0.0134,2,   0.0161,3
  33RR20070204,  I08S,    76,  1,     23,     23,2,20070310,0342,-34.5038,  95.0050, 4533,    607.4,   9.3670,  34.6883,2,  34.6900,2,    243.7,2,    243.4,2,     4.50,2,    15.93,2,     0.00,2,     1.13,2, -999.000,9, -999.000,9, -999.000,9,   -999.0,9,   -999.0,9,     44.1,2,    18.85,2, -999.000,9, -999.000,-999.0000,9,-999.0000,  -999.00,9,  -999.00, -999.000,9, -999.000,   -999.0,9,   -999.0,  -999.00,9,   0.0679,2,   0.0454,2,   0.0244,2,   0.0187,2,   0.0134,2,   0.0161,3
  33RR20070204,  I08S,    76,  1,     22,     22,2,20070310,0342,-34.5038,  95.0050, 4533,    707.8,   8.7752,  34.6103,2,  34.6139,2,    232.4,2,    232.5,2,     6.28,2,    18.56,2,     0.00,2,     1.29,2, -999.000,9, -999.000,9, -999.000,9,   2133.1,2,   2286.3,2,     42.9,2,    20.67,2, -999.000,9, -999.000,-999.0000,9,-999.0000,  -999.00,9,  -999.00, -999.000,9, -999.000,   -999.0,9,   -999.0,  -999.00,9,   0.0770,2,   0.0525,2,   0.0294,2,   0.0225,2,   0.0129,2,   0.0149,3
  33RR20070204,  I08S,    76,  1,     21,     21,2,20070310,0342,-34.5038,  95.0050, 4533,    808.3,   7.6521,  34.5101,2,  34.5118,2,    212.8,2,    210.4,2,    12.01,2,    23.11,2,     0.00,2,     1.58,2, -999.000,9, -999.000,9, -999.000,9,   -999.0,9,   -999.0,9,     41.9,2,    25.55,2, -999.000,9, -999.000,-999.0000,9,-999.0000,  -999.00,9,  -999.00, -999.000,9, -999.000,   -999.0,9,   -999.0,  -999.00,9,   0.0815,2,   0.0547,2,   0.0304,2,   0.0229,2,   0.0134,2,   0.0154,3
  33RR20070204,  I08S,    76,  1,     20,     20,2,20070310,0342,-34.5038,  95.0050, 4533,    908.5,   6.1075,  34.4146,2,  34.4154,2,    200.2,2,    199.4,2,    21.11,2,    27.49,2,     0.00,2,     1.89,2, -999.000,9, -999.000,9, -999.000,9,   -999.0,9,   -999.0,9,     41.1,2,    29.86,2, -999.000,9, -999.000,-999.0000,9,-999.0000,  -999.00,9,  -999.00, -999.000,9, -999.000,   -999.0,9,   -999.0,  -999.00,9,   0.0905,2,   0.0614,2,   0.0347,2,   0.0259,2,   0.0134,2,   0.0150,3
  33RR20070204,  I08S,    76,  1,     19,     19,2,20070310,0342,-34.5038,  95.0050, 4533,   1008.8,   4.8437,  34.3746,2,  34.3742,2,    196.9,2,    196.5,2,    31.40,2,    30.15,2,     0.00,2,     2.09,2, -999.000,9, -999.000,9, -999.000,9,   -999.0,9,   -999.0,9,     41.9,2,    31.26,2, -999.000,9, -999.000,-999.0000,9,-999.0000,  -999.00,9,  -999.00, -999.000,9, -999.000,   -999.0,9,   -999.0,  -999.00,9,   0.0953,2,   0.0644,2,   0.0363,2,   0.0271,2,   0.0134,2,   0.0151,3
  33RR20070204,  I08S,    76,  1,     18,     18,2,20070310,0342,-34.5038,  95.0050, 4533,   1109.8,   4.1737,  34.3990,2,  34.3993,2,    188.5,2,    184.5,2,    43.69,2,    32.14,2,     0.00,2,     2.24,2, -999.000,9, -999.000,9, -999.000,9,   2214.0,2,   2308.0,2,   -999.0,9,  -999.00,9, -999.000,9, -999.000,-999.0000,9,-999.0000,  -999.00,9,  -999.00, -999.000,9, -999.000,   -999.0,9,   -999.0,  -999.00,9,   0.1055,2,   0.0724,2,   0.0416,2,   0.0312,2,   0.0132,2,   0.0145,3
  33RR20070204,  I08S,    76,  1,     17,     17,2,20070310,0342,-34.5038,  95.0050, 4533,   1210.6,   3.8067,  34.4302,2,  34.4317,2,    178.0,2,    175.1,2,    52.82,2,    33.25,2,     0.00,2,     2.34,2, -999.000,9, -999.000,9, -999.000,9,   -999.0,9,   -999.0,9,   -999.0,9,  -999.00,9, -999.000,9, -999.000,-999.0000,9,-999.0000,  -999.00,9,  -999.00, -999.000,9, -999.000,   -999.0,9,   -999.0,  -999.00,9,   0.1110,2,   0.0762,2,   0.0432,2,   0.0321,2,   0.0135,2,   0.0148,3
  33RR20070204,  I08S,    76,  1,     16,     16,2,20070310,0342,-34.5038,  95.0050, 4533,   1310.8,   3.4995,  34.4761,2,  34.4762,2,    167.2,2,    165.5,2,    62.17,2,    34.13,2,     0.00,2,     2.39,2, -999.000,9, -999.000,9, -999.000,9,   -999.0,9,   -999.0,9,   -999.0,9,  -999.00,9, -999.000,9, -999.000,-999.0000,9,-999.0000,  -999.00,9,  -999.00, -999.000,9, -999.000,   -999.0,9,   -999.0,  -999.00,9,   0.1164,2,   0.0802,2,   0.0456,2,   0.0338,2,   0.0136,3,   0.0147,3
  33RR20070204,  I08S,    76,  1,     15,     15,2,20070310,0342,-34.5038,  95.0050, 4533,   1411.5,   3.3071,  34.5177,2,  34.5174,2,    159.7,2,    159.5,2,    68.95,2,    34.44,2,     0.00,2,     2.43,2, -999.000,9, -999.000,9, -999.000,9,   -999.0,9,   -999.0,9,   -999.0,9,  -999.00,9, -999.000,9, -999.000,-999.0000,9,-999.0000,  -999.00,9,  -999.00, -999.000,9, -999.000,   -999.0,9,   -999.0,  -999.00,9,   0.1219,2,   0.0846,2,   0.0479,2,   0.0353,2,   0.0137,2,   0.0147,3
  33RR20070204,  I08S,    76,  1,     14,     14,2,20070310,0342,-34.5038,  95.0050, 4533,   1512.1,   3.1456,  34.5563,2,  34.5569,2,    156.3,2,    156.2,2,    74.54,2,    34.58,2,     0.00,2,     2.44,2, -999.000,9, -999.000,9, -999.000,9,   -999.0,9,   -999.0,9,   -999.0,9,  -999.00,9, -999.000,9, -999.000,-999.0000,9,-999.0000,  -999.00,9,  -999.00, -999.000,9, -999.000,   -999.0,9,   -999.0,  -999.00,9,   0.1272,2,   0.0890,2,   0.0512,2,   0.0378,2,   0.0136,2,   0.0143,3
  33RR20070204,  I08S,    76,  1,     13,     13,2,20070310,0342,-34.5038,  95.0050, 4533,   1612.9,   3.0115,  34.5892,2,  34.5897,2,    155.5,2,    155.7,2,    78.74,2,    34.42,2,     0.00,2,     2.43,2, -999.000,9, -999.000,9, -999.000,9,   2262.3,6,   2348.6,2,   -999.0,9,  -999.00,9, -999.000,9, -999.000,-999.0000,9,-999.0000,  -999.00,9,  -999.00, -999.000,9, -999.000,   -999.0,9,   -999.0,  -999.00,9,   0.1271,2,   0.0887,2,   0.0500,2,   0.0367,2,   0.0137,2,   0.0147,3
  33RR20070204,  I08S,    76,  1,     12,     12,2,20070310,0342,-34.5038,  95.0050, 4533,   1815.0,   2.7424,  34.6467,2,  34.6492,2,    158.4,2,    159.4,2,    85.56,2,    33.85,2,     0.00,2,     2.38,2, -999.000,9, -999.000,9, -999.000,9,   -999.0,9,   -999.0,9,   -999.0,9,  -999.00,9, -999.000,9, -999.000,-999.0000,9,-999.0000,  -999.00,9,  -999.00, -999.000,9, -999.000,   -999.0,9,   -999.0,  -999.00,9,   0.1303,2,   0.0910,2,   0.0513,2,   0.0373,2,   0.0138,2,   0.0148,3
  33RR20070204,  I08S,    76,  1,     11,     11,2,20070310,0342,-34.5038,  95.0050, 4533,   2016.8,   2.5253,  34.6860,2,  34.6868,2,    165.7,2,    166.1,2,    88.77,2,    33.01,2,     0.00,2,     2.33,2,    0.023,2,    0.011,4, -999.000,5,   -999.0,9,   -999.0,9,   -999.0,9,  -999.00,9, -999.000,9, -999.000,-999.0000,9,-999.0000,  -999.00,9,  -999.00, -999.000,9, -999.000,   -999.0,9,   -999.0,  -999.00,9,   0.1270,2,   0.0883,2,   0.0492,2,   0.0357,2,   0.0140,2,   0.0150,3
  33RR20070204,  I08S,    76,  1,     10,     10,2,20070310,0342,-34.5038,  95.0050, 4533,   2269.5,   2.2832,  34.7199,2,  34.7206,2,    178.2,2,    179.0,2,    87.98,2,    31.75,2,     0.00,2,     2.21,2, -999.000,9, -999.000,9, -999.000,9,   -999.0,9,   -999.0,9,   -999.0,9,  -999.00,9, -999.000,9, -999.000,-999.0000,9,-999.0000,  -999.00,9,  -999.00, -999.000,9, -999.000,   -999.0,9,   -999.0,  -999.00,9,   0.1260,2,   0.0875,2,   0.0486,2,   0.0352,2,   0.0140,2,   0.0151,3
  33RR20070204,  I08S,    76,  1,      9,      9,2,20070310,0342,-34.5038,  95.0050, 4533,   2522.5,   2.0373,  34.7411,2,  34.7422,2,    188.6,2,    190.2,2,    90.40,2,    30.86,2,     0.00,2,     2.14,2,    0.016,2,    0.008,2, -999.000,5,   2253.4,2,   2352.4,2,   -999.0,9,  -999.00,9, -999.000,9, -999.000,-999.0000,9,-999.0000,  -999.00,9,  -999.00, -999.000,9, -999.000,   -999.0,9,   -999.0,  -999.00,9,   0.1260,2,   0.0874,2,   0.0479,2,   0.0343,2,   0.0140,2,   0.0154,3
  33RR20070204,  I08S,    76,  1,      8,      8,2,20070310,0342,-34.5038,  95.0050, 4533,   2775.9,   1.7931,  34.7441,2,  34.7451,2,    195.3,2,    195.3,2,    95.83,2,    30.71,2,     0.00,2,     2.13,2, -999.000,9, -999.000,9, -999.000,9,   2253.9,2,   2353.0,2,   -999.0,9,  -999.00,9, -999.000,9, -999.000,-999.0000,9,-999.0000,  -999.00,9,  -999.00, -999.000,9, -999.000,   -999.0,9,   -999.0,  -999.00,9,   0.1225,2,   0.0846,2,   0.0458,2,   0.0326,2,   0.0141,2,   0.0157,3
  33RR20070204,  I08S,    76,  1,      7,      7,2,20070310,0342,-34.5038,  95.0050, 4533,   3029.6,   1.5494,  34.7391,2,  34.7400,2,    199.0,2,    199.4,2,   102.28,2,    30.90,2,     0.00,2,     2.15,2,    0.037,2,    0.000,4, -999.000,5,   -999.0,9,   -999.0,9,   -999.0,9,  -999.00,9, -999.000,9, -999.000,-999.0000,9,-999.0000,  -999.00,9,  -999.00, -999.000,9, -999.000,   -999.0,9,   -999.0,  -999.00,9,   0.1229,2,   0.0848,2,   0.0460,2,   0.0328,2,   0.0142,2,   0.0157,3
  33RR20070204,  I08S,    76,  1,      6,      6,2,20070310,0342,-34.5038,  95.0050, 4533,   3283.1,   1.3053,  34.7296,2,  34.7298,2,    202.6,2,    202.7,2,   109.56,2,    31.21,2,     0.00,2,     2.17,2, -999.000,9, -999.000,9, -999.000,9,   -999.0,9,   -999.0,9,   -999.0,9,  -999.00,9, -999.000,9, -999.000,-999.0000,9,-999.0000,  -999.00,9,  -999.00, -999.000,9, -999.000,   -999.0,9,   -999.0,  -999.00,9,   0.1261,2,   0.0875,2,   0.0477,2,   0.0343,2,   0.0140,2,   0.0153,3
  33RR20070204,  I08S,    76,  1,      5,      5,2,20070310,0342,-34.5038,  95.0050, 4533,   3537.5,   1.1381,  34.7213,2,  34.7217,2,    204.9,2,    204.8,2,   115.03,2,    31.57,2,     0.00,2,     2.20,2,    0.050,2,    0.027,2, -999.000,5,   -999.0,9,   -999.0,9,   -999.0,9,  -999.00,9, -999.000,9, -999.000,-999.0000,9,-999.0000,  -999.00,9,  -999.00, -999.000,9, -999.000,   -999.0,9,   -999.0,  -999.00,9,   0.1241,2,   0.0856,2,   0.0464,2,   0.0331,2,   0.0140,2,   0.0156,3
  33RR20070204,  I08S,    76,  1,      4,      4,2,20070310,0342,-34.5038,  95.0050, 4533,   3792.1,   1.0650,  34.7167,2,  34.7172,2,    205.5,2,    205.4,2,   117.67,2,    31.75,2,     0.00,2,     2.21,2,    0.038,2,    0.021,2, -999.000,5,   -999.0,9,   -999.0,9,   -999.0,9,  -999.00,9, -999.000,9, -999.000,-999.0000,9,-999.0000,  -999.00,9,  -999.00, -999.000,9, -999.000,   -999.0,9,   -999.0,  -999.00,9,   0.1216,2,   0.0835,2,   0.0452,2,   0.0320,2,   0.0142,2,   0.0158,3
  33RR20070204,  I08S,    76,  1,      3,      3,2,20070310,0342,-34.5038,  95.0050, 4533,   4046.8,   1.0300,  34.7141,2,  34.7144,2,    206.0,2,    205.8,2,   119.72,2,    31.97,2,     0.00,2,     2.22,2,    0.033,2,    0.019,2, -999.000,5,   2267.1,2,   2369.6,2,   -999.0,9,  -999.00,9, -999.000,9, -999.000,-999.0000,9,-999.0000,  -999.00,9,  -999.00, -999.000,9, -999.000,   -999.0,9,   -999.0,  -999.00,9,   0.1220,2,   0.0838,2,   0.0453,2,   0.0320,2,   0.0141,2,   0.0158,3
  33RR20070204,  I08S,    76,  1,      2,      2,2,20070310,0342,-34.5038,  95.0050, 4533,   4301.5,   1.0215,  34.7125,2,  34.7131,2,    206.3,2,    206.2,2,   120.74,2,    32.06,2,     0.00,2,     2.22,2,    0.031,2,    0.020,2, -999.000,5,   2268.2,2,   2371.1,2,   -999.0,9,  -999.00,9, -999.000,9, -999.000,-999.0000,9,-999.0000,  -999.00,9,  -999.00, -999.000,9, -999.000,   -999.0,9,   -999.0,  -999.00,9,   0.1238,2,   0.0851,2,   0.0460,2,   0.0328,2,   0.0142,2,   0.0157,3
  33RR20070204,  I08S,    76,  1,      1,      1,2,20070310,0342,-34.5038,  95.0050, 4533,   4608.1,   1.0409,  34.7116,2,  34.7129,2,    205.5,2,    206.0,2,   120.76,2,    32.38,2,     0.00,2,     2.23,2,    0.032,2,    0.020,2, -999.000,5,   2267.4,6,   2373.3,2,   -999.0,9,  -999.00,9, -999.000,9, -999.000,-999.0000,9,-999.0000,  -999.00,9,  -999.00, -999.000,9, -999.000,   -999.0,9,   -999.0,  -999.00,9,   0.1237,2,   0.0852,2,   0.0462,2,   0.0325,2,   0.0142,2,   0.0158,3