BOTTLE,20150626SIOCCHRJL
EXPOCODE,SECT_ID,STNNBR,CASTNO,SAMPNO,BTLNBR,BTLNBR_FLAG_W,DATE,TIME,LATITUDE,LONGITUDE,DEPTH,CTDPRS,CTDTMP,CTDSAL,CTDSAL_FLAG_W,SALNTY,SALNTY_FLAG_W,CTDOXY,CTDOXY_FLAG_W,OXYGEN,OXYGEN_FLAG_W,SILCAT,SILCAT_FLAG_W,NITRAT,NITRAT_FLAG_W,NITRIT,NITRIT_FLAG_W,PHSPHT,PHSPHT_FLAG_W,CFC-11,CFC-11_FLAG_W,CFC-12,CFC-12_FLAG_W,CFC113,CFC113_FLAG_W,TCARBN,TCARBN_FLAG_W,ALKALI,ALKALI_FLAG_W,DOC,DOC_FLAG_W,TDN,TDN_FLAG_W,TRITUM,TRITUM_FLAG_W,TRITER,HELIUM,HELIUM_FLAG_W,HELIER,DELHE3,DELHE3_FLAG_W,DELHER,NEON,NEON_FLAG_W,NEONER,DELC14,DELC14_FLAG_W,C14ERR,DELC13,DELC13_FLAG_W,CDOM325,CDOM325_FLAG_W,CDOM340,CDOM340_FLAG_W,CDOM380,CDOM380_FLAG_W,CDOM412,CDOM412_FLAG_W,CDOMSL,CDOMSL_FLAG_W,CDOMSN,CDOMSN_FLAG_W
,,,,,,,,,,,METERS,DBAR,ITS-90,PSS-78,,PSS-78,,UMOL/KG,,UMOL/KG,,UMOL/KG,,UMOL/KG,,UMOL/KG,,UMOL/KG,,PMOL/KG,,PMOL/KG,,PMOL/KG,,UMOL/KG,,UMOL/KG,,UMOL/KG,,UMOL/KG,,TU,,TU,NMOL/KG,,NMOL/KG,PERCNT,,PERCNT,NMOL/KG,,NMOL/KG,/MILLE,,/MILLE,/MILLE,,1/M,,1/M,,1/M,,1/M,,1/NM,,1/NM,
  33RR20070204,  I08S,    16,  1,     26,     26,2,20070219,1323,-60.9930,  82.0000, 1848,      4.0,   0.9443,  33.8842,2,  33.8879,2,    330.5,2,    330.1,2,    35.19,2,    24.89,2,     0.19,2,     1.63,2,    6.935,2,    3.738,2, -999.000,5,   2154.9,6,   2293.6,2,   -999.0,9,  -999.00,9,    0.081,2,    0.005,   1.8157,2,   0.0006,    -0.91,2,     0.18,    8.085,2,    0.009,   -999.0,9,   -999.0,  -999.00,9,-999.0000,9,-999.0000,9,-999.0000,9,-999.0000,9,-999.0000,9,-999.0000,9
  33RR20070204,  I08S,    16,  1,     25,     25,2,20070219,1323,-60.9930,  82.0000, 1848,     29.4,   0.9496,  33.8933,2,  33.8934,2,    328.3,2,    328.6,2,    35.17,2,    24.89,2,     0.19,2,     1.64,2,    6.098,2,    3.263,2, -999.000,5,   2157.0,2,   2292.9,2,   -999.0,9,  -999.00,9,    0.251,2,    0.008,   1.8022,2,   0.0010,    -1.32,2,     0.18,    8.043,2,    0.012,   -999.0,9,   -999.0,  -999.00,9,-999.0000,9,-999.0000,9,-999.0000,9,-999.0000,9,-999.0000,9,-999.0000,9
  33RR20070204,  I08S,    16,  1,     24,     24,2,20070219,1323,-60.9930,  82.0000, 1848,     54.9,   0.5872,  34.0229,2,  34.0244,2,    291.3,2,    291.7,2,    47.29,2,    27.86,2,     0.17,2,     1.96,2,    5.733,2,    3.067,2, -999.000,5,   2188.7,2,   2301.2,2,   -999.0,9,  -999.00,9,    0.070,2,    0.005,   1.8263,2,   0.0005,     0.44,2,     0.18,    8.103,2,    0.012,   -999.0,9,   -999.0,  -999.00,9,-999.0000,9,-999.0000,9,-999.0000,9,-999.0000,9,-999.0000,9,-999.0000,9
  33RR20070204,  I08S,    16,  1,     23,     23,2,20070219,1323,-60.9930,  82.0000, 1848,     79.1,   0.8131,  34.3864,2,  34.3703,2,    214.6,2,    213.8,2,    70.64,2,    33.78,2,     0.14,2,     2.36,2,    3.064,2,    1.598,2, -999.000,5,   2242.6,2,   2318.0,2,   -999.0,9,  -999.00,9,    0.021,2,    0.004,   1.8484,2,   0.0009,     4.83,2,     0.18,    8.149,2,    0.012,   -999.0,9,   -999.0,  -999.00,9,-999.0000,9,-999.0000,9,-999.0000,9,-999.0000,9,-999.0000,9,-999.0000,9
  33RR20070204,  I08S,    16,  1,     22,     22,2,20070219,1323,-60.9930,  82.0000, 1848,    104.7,   1.3337,  34.4935,2,  34.4904,2,    189.9,2,    190.1,2,    76.65,2,    34.60,2,     0.11,2,     2.41,2,    1.871,2,    0.980,2, -999.000,5,   2254.6,2,   2326.4,2,   -999.0,9,  -999.00,9, -999.000,9, -999.000,   1.9111,2,   0.0014,     6.90,2,     0.19,    8.366,2,    0.013,   -999.0,9,   -999.0,  -999.00,9,-999.0000,9,-999.0000,9,-999.0000,9,-999.0000,9,-999.0000,9,-999.0000,9
  33RR20070204,  I08S,    16,  1,     21,     21,2,20070219,1323,-60.9930,  82.0000, 1848,    155.7,   1.7786,  34.5886,2,  34.5876,2,    176.0,2,    176.2,2,    81.85,2,    34.51,2,     0.04,2,     2.40,2,    1.034,2,    0.541,2, -999.000,5,   2260.5,2,   2331.8,2,   -999.0,9,  -999.00,9,    0.172,2,    0.007,   1.8923,2,   0.0010,     7.83,2,     0.18,    8.229,2,    0.013,   -999.0,9,   -999.0,  -999.00,9,-999.0000,9,-999.0000,9,-999.0000,9,-999.0000,9,-999.0000,9,-999.0000,9
  33RR20070204,  I08S,    16,  1,     20,     20,2,20070219,1323,-60.9930,  82.0000, 1848,    205.7,   1.8884,  34.6344,2,  34.6328,2,    175.0,2,    174.7,2,    83.04,2,    34.03,2,     0.02,2,     2.36,2,    0.836,2,    0.443,2, -999.000,5,   2259.8,6,   2336.7,2,   -999.0,9,  -999.00,9, -999.000,9, -999.000,   1.8663,2,   0.0006,     9.11,2,     0.19,    8.101,2,    0.009,   -999.0,9,   -999.0,  -999.00,9,-999.0000,9,-999.0000,9,-999.0000,9,-999.0000,9,-999.0000,9,-999.0000,9
  33RR20070204,  I08S,    16,  1,     19,     19,2,20070219,1323,-60.9930,  82.0000, 1848,    256.2,   1.9119,  34.6587,2,  34.6623,0,    175.9,2,    175.5,2,    83.84,2,    33.53,2,     0.02,2,     2.33,2,    0.681,2,    0.358,2, -999.000,5,   2259.3,2,   2340.6,2,   -999.0,9,  -999.00,9,    0.001,2,    0.005,   1.8574,2,   0.0006,     9.23,2,     0.18,    8.102,2,    0.011,   -999.0,9,   -999.0,  -999.00,9,-999.0000,9,-999.0000,9,-999.0000,9,-999.0000,9,-999.0000,9,-999.0000,9
  33RR20070204,  I08S,    16,  1,     18,     18,2,20070219,1323,-60.9930,  82.0000, 1848,    305.9,   1.9151,  34.6775,2,  34.6766,2,    178.0,2,    177.7,2,    84.03,2,    33.03,2,     0.02,2,     2.30,2,    0.459,2,    0.240,2, -999.000,5,   2258.1,2,   2339.7,2,   -999.0,9,  -999.00,9,    0.100,2,    0.006,   1.8665,2,   0.0008,     9.42,2,     0.21,    8.390,2,    0.011,   -999.0,9,   -999.0,  -999.00,9,-999.0000,9,-999.0000,9,-999.0000,9,-999.0000,9,-999.0000,9,-999.0000,9
  33RR20070204,  I08S,    16,  1,     17,     17,2,20070219,1323,-60.9930,  82.0000, 1848,    356.2,   1.9483,  34.6949,2,  34.6945,2,    179.6,2,    179.5,2,    84.22,2,    32.62,2,     0.01,2,     2.27,2,    0.376,2,    0.188,2, -999.000,5,   -999.0,9,   -999.0,9,   -999.0,9,  -999.00,9,    0.001,2,    0.004,   1.8703,2,   0.0006,     9.52,2,     0.20,    8.147,2,    0.016,   -999.0,9,   -999.0,  -999.00,9,-999.0000,9,-999.0000,9,-999.0000,9,-999.0000,9,-999.0000,9,-999.0000,9
  33RR20070204,  I08S,    16,  1,     16,     16,2,20070219,1323,-60.9930,  82.0000, 1848,    406.1,   1.9312,  34.7051,2,  34.7049,2,    182.1,2,    181.7,2,    84.21,2,    32.23,2,     0.01,2,     2.23,2,    0.343,2,    0.172,2, -999.000,5,   2253.8,2,   2341.1,2,   -999.0,9,  -999.00,9,    0.001,2,    0.003,   1.8739,2,   0.0006,     9.53,2,     0.21,    8.225,2,    0.014,   -999.0,9,   -999.0,  -999.00,9,-999.0000,9,-999.0000,9,-999.0000,9,-999.0000,9,-999.0000,9,-999.0000,9
  33RR20070204,  I08S,    16,  1,     15,     15,2,20070219,1323,-60.9930,  82.0000, 1848,    455.8,   1.9129,  34.7151,2,  34.7149,2,    183.7,2,    183.7,2,    84.61,2,    31.88,2,     0.01,2,     2.21,2,    0.308,2,    0.153,2, -999.000,5,   -999.0,9,   -999.0,9,   -999.0,9,  -999.00,9,    0.001,2,    0.003,   1.8374,2,   0.0007,     9.85,2,     0.21,    7.989,2,    0.010,   -999.0,9,   -999.0,  -999.00,9,-999.0000,9,-999.0000,9,-999.0000,9,-999.0000,9,-999.0000,9,-999.0000,9
  33RR20070204,  I08S,    16,  1,     14,     14,2,20070219,1323,-60.9930,  82.0000, 1848,    506.2,   1.8908,  34.7235,2,  34.7234,2,    185.0,2,    186.4,2,    85.21,2,    31.52,2,     0.01,2,     2.19,2,    0.282,2,    0.138,2, -999.000,5,   2251.9,2,   2343.7,2,   -999.0,9,  -999.00,9,    0.001,2,    0.003,   1.8886,2,   0.0008,     9.57,2,     0.21,    8.465,2,    0.011,   -999.0,9,   -999.0,  -999.00,9,-999.0000,9,-999.0000,9,-999.0000,9,-999.0000,9,-999.0000,9,-999.0000,9
  33RR20070204,  I08S,    16,  1,     13,     13,2,20070219,1323,-60.9930,  82.0000, 1848,    606.9,   1.8181,  34.7358,2,  34.7347,2,    190.3,2,    190.5,2,    86.20,2,    30.98,2,     0.01,2,     2.15,2,    0.247,4,    0.120,4, -999.000,5,   2249.4,2,   2344.8,2,   -999.0,9,  -999.00,9,    0.001,2,    0.003,   1.8582,2,   0.0005,     9.43,2,     0.21,    8.036,2,    0.014,   -999.0,9,   -999.0,  -999.00,9,-999.0000,9,-999.0000,9,-999.0000,9,-999.0000,9,-999.0000,9,-999.0000,9
  33RR20070204,  I08S,    16,  1,     12,     12,2,20070219,1323,-60.9930,  82.0000, 1848,    709.2,   1.7361,  34.7416,2,  34.7416,2,    193.4,2,    193.9,2,    87.61,2,    30.72,2,     0.01,2,     2.13,2,    0.238,2,    0.115,2, -999.000,5,   -999.0,9,   -999.0,9,   -999.0,9,  -999.00,9,    0.001,2,    0.002,   1.8638,2,   0.0008,     9.59,2,     0.22,    8.522,2,    0.021,   -999.0,9,   -999.0,  -999.00,9,-999.0000,9,-999.0000,9,-999.0000,9,-999.0000,9,-999.0000,9,-999.0000,9
  33RR20070204,  I08S,    16,  1,     11,     11,2,20070219,1323,-60.9930,  82.0000, 1848,    809.4,   1.6272,  34.7439,2,  34.7448,2,    195.0,2,    195.0,2,    90.62,2,    30.52,2,     0.01,2,     2.12,2,    0.207,2,    0.095,2, -999.000,5,   2248.7,2,   2347.8,2,   -999.0,9,  -999.00,9,    0.001,2,    0.003,   1.8782,2,   0.0008,     9.39,2,     0.21,    8.434,2,    0.011,   -999.0,9,   -999.0,  -999.00,9,-999.0000,9,-999.0000,9,-999.0000,9,-999.0000,9,-999.0000,9,-999.0000,9
  33RR20070204,  I08S,    16,  1,     10,     10,2,20070219,1323,-60.9930,  82.0000, 1848,    910.9,   1.5363,  34.7445,2,  34.7448,2,    198.5,2,    198.4,2,    92.23,2,    30.57,2,     0.00,2,     2.11,2,    0.195,4,    0.088,4, -999.000,5,   -999.0,9,   -999.0,9,   -999.0,9,  -999.00,9,    0.001,2,    0.003,   1.8563,2,   0.0008,     8.80,2,     0.21,    8.375,2,    0.011,   -999.0,9,   -999.0,  -999.00,9,-999.0000,9,-999.0000,9,-999.0000,9,-999.0000,9,-999.0000,9,-999.0000,9
  33RR20070204,  I08S,    16,  1,      9,      9,2,20070219,1323,-60.9930,  82.0000, 1848,   1011.2,   1.4596,  34.7428,2,  34.7424,2,    200.6,2,    200.3,2,    94.04,2,    30.62,2,     0.00,2,     2.12,2,    0.191,2,    0.087,2, -999.000,5,   2248.2,2,   2349.7,2,   -999.0,9,  -999.00,9,    0.001,2,    0.003,   1.8811,2,   0.0006,     9.35,2,     0.21,    8.231,2,    0.015,   -999.0,9,   -999.0,  -999.00,9,-999.0000,9,-999.0000,9,-999.0000,9,-999.0000,9,-999.0000,9,-999.0000,9
  33RR20070204,  I08S,    16,  1,      8,      8,2,20070219,1323,-60.9930,  82.0000, 1848,   1112.8,   1.3232,  34.7376,2,  34.7383,2,    202.2,2,    201.2,2,    98.28,2,    30.86,2,     0.00,2,     2.13,2, -999.000,9, -999.000,9, -999.000,9,   -999.0,9,   -999.0,9,   -999.0,9,  -999.00,9, -999.000,9, -999.000,-999.0000,9,-999.0000,  -999.00,9,  -999.00, -999.000,9, -999.000,   -999.0,9,   -999.0,  -999.00,9,-999.0000,9,-999.0000,9,-999.0000,9,-999.0000,9,-999.0000,9,-999.0000,9
  33RR20070204,  I08S,    16,  1,      7,      7,2,20070219,1323,-60.9930,  82.0000, 1848,   1213.7,   1.2170,  34.7328,2,  34.7335,2,    203.2,2,    203.1,2,   101.32,2,    30.95,2,     0.00,2,     2.14,2,    0.192,2,    0.087,2, -999.000,5,   -999.0,9,   -999.0,9,   -999.0,9,  -999.00,9,    0.001,2,    0.004,   1.9121,2,   0.0006,     8.83,2,     0.21,    8.387,2,    0.014,   -999.0,9,   -999.0,  -999.00,9,-999.0000,9,-999.0000,9,-999.0000,9,-999.0000,9,-999.0000,9,-999.0000,9
  33RR20070204,  I08S,    16,  1,      6,      6,2,20070219,1323,-60.9930,  82.0000, 1848,   1313.6,   1.1071,  34.7274,2,  34.7276,2,    204.2,2,    204.0,2,   105.16,2,    31.29,2,     0.00,2,     2.17,2, -999.000,9, -999.000,9, -999.000,9,   -999.0,9,   -999.0,9,   -999.0,9,  -999.00,9, -999.000,9, -999.000,-999.0000,9,-999.0000,  -999.00,9,  -999.00, -999.000,9, -999.000,   -999.0,9,   -999.0,  -999.00,9,-999.0000,9,-999.0000,9,-999.0000,9,-999.0000,9,-999.0000,9,-999.0000,9
  33RR20070204,  I08S,    16,  1,      5,      5,2,20070219,1323,-60.9930,  82.0000, 1848,   1416.8,   1.0236,  34.7225,2,  34.7229,2,    204.5,2,    204.5,2,   108.00,2,    31.48,2,     0.00,2,     2.18,2,    0.187,2,    0.085,2, -999.000,5,   2254.4,2,   2353.9,2,   -999.0,9,  -999.00,9, -999.000,9, -999.000,   1.9085,2,   0.0008,     8.98,2,     0.21,    8.578,2,    0.012,   -999.0,9,   -999.0,  -999.00,9,-999.0000,9,-999.0000,9,-999.0000,9,-999.0000,9,-999.0000,9,-999.0000,9
  33RR20070204,  I08S,    16,  1,      4,      4,2,20070219,1323,-60.9930,  82.0000, 1848,   1517.8,   0.9394,  34.7177,2,  34.7186,2,    205.5,2,    205.6,2,   111.24,2,    31.68,2,     0.00,2,     2.20,2,    0.187,2,    0.087,2, -999.000,5,   2255.5,2,   2354.2,2,   -999.0,9,  -999.00,9, -999.000,9, -999.000,   1.8929,2,   0.0006,     8.76,2,     0.22,    8.313,2,    0.016,   -999.0,9,   -999.0,  -999.00,9,-999.0000,9,-999.0000,9,-999.0000,9,-999.0000,9,-999.0000,9,-999.0000,9
  33RR20070204,  I08S,    16,  1,      3,      3,2,20070219,1323,-60.9930,  82.0000, 1848,   1618.0,   0.8743,  34.7140,2,  34.7154,2,    206.3,2,    205.7,2,   113.68,2,    31.88,2,     0.00,2,     2.21,2,    0.188,2,    0.087,2, -999.000,5,   2256.2,2,   2355.4,2,   -999.0,9,  -999.00,9, -999.000,9, -999.000,   1.9531,2,   0.0009,     7.98,2,     0.20,    8.770,3,    0.013,   -999.0,9,   -999.0,  -999.00,9,-999.0000,9,-999.0000,9,-999.0000,9,-999.0000,9,-999.0000,9,-999.0000,9
  33RR20070204,  I08S,    16,  1,      2,      2,2,20070219,1323,-60.9930,  82.0000, 1848,   1758.7,   0.7742,  34.7086,2,  34.7093,2,    206.4,2,    205.1,2,   124.49,2,    32.22,2,     0.00,2,     2.24,2,    0.181,2,    0.081,2, -999.000,5,   2259.6,2,   2357.2,2,   -999.0,9,  -999.00,9,    0.001,2,    0.003,   1.9943,3,   0.0009,     7.66,2,     0.20,    8.869,3,    0.013,   -999.0,9,   -999.0,  -999.00,9,-999.0000,9,-999.0000,9,-999.0000,9,-999.0000,9,-999.0000,9,-999.0000,9
  33RR20070204,  I08S,    16,  1,      1,      1,2,20070219,1323,-60.9930,  82.0000, 1848,   1862.7,   0.5169,  34.6949,2,  34.6956,2,    206.8,2,    209.2,2,   133.69,2,    32.70,2,     0.02,2,     2.27,2,    0.176,2,    0.084,2, -999.000,5,   2263.6,6,   2356.1,2,   -999.0,9,  -999.00,9, -999.000,9, -999.000,   1.8749,2,   0.0006,     7.62,2,     0.21,    8.239,2,    0.013,   -999.0,9,   -999.0,  -999.00,9,-999.0000,9,-999.0000,9,-999.0000,9,-999.0000,9,-999.0000,9,-999.0000,9