BOTTLE,20150626SIOCCHRJL
EXPOCODE,SECT_ID,STNNBR,CASTNO,SAMPNO,BTLNBR,BTLNBR_FLAG_W,DATE,TIME,LATITUDE,LONGITUDE,DEPTH,CTDPRS,CTDTMP,CTDSAL,CTDSAL_FLAG_W,SALNTY,SALNTY_FLAG_W,CTDOXY,CTDOXY_FLAG_W,OXYGEN,OXYGEN_FLAG_W,SILCAT,SILCAT_FLAG_W,NITRAT,NITRAT_FLAG_W,NITRIT,NITRIT_FLAG_W,PHSPHT,PHSPHT_FLAG_W,CFC-11,CFC-11_FLAG_W,CFC-12,CFC-12_FLAG_W,CFC113,CFC113_FLAG_W,TCARBN,TCARBN_FLAG_W,ALKALI,ALKALI_FLAG_W,DOC,DOC_FLAG_W,TDN,TDN_FLAG_W,TRITUM,TRITUM_FLAG_W,TRITER,HELIUM,HELIUM_FLAG_W,HELIER,DELHE3,DELHE3_FLAG_W,DELHER,NEON,NEON_FLAG_W,NEONER,DELC14,DELC14_FLAG_W,C14ERR,DELC13,DELC13_FLAG_W,CDOM325,CDOM325_FLAG_W,CDOM340,CDOM340_FLAG_W,CDOM380,CDOM380_FLAG_W,CDOM412,CDOM412_FLAG_W,CDOMSL,CDOMSL_FLAG_W,CDOMSN,CDOMSN_FLAG_W
,,,,,,,,,,,METERS,DBAR,ITS-90,PSS-78,,PSS-78,,UMOL/KG,,UMOL/KG,,UMOL/KG,,UMOL/KG,,UMOL/KG,,UMOL/KG,,PMOL/KG,,PMOL/KG,,PMOL/KG,,UMOL/KG,,UMOL/KG,,UMOL/KG,,UMOL/KG,,TU,,TU,NMOL/KG,,NMOL/KG,PERCNT,,PERCNT,NMOL/KG,,NMOL/KG,/MILLE,,/MILLE,/MILLE,,1/M,,1/M,,1/M,,1/M,,1/NM,,1/NM,
  33RR20070204,  I08S,    32,  1,     36,     36,2,20070224,2238,-54.7860,  85.6640, 4652,      4.1,   2.8007,  33.8486,2,  33.8490,2,    318.3,2,    323.8,2,    11.50,2,    24.04,2,     0.24,2,     1.64,2,    5.512,2,    3.041,2, -999.000,5,   2144.1,2,   2278.2,2,   -999.0,9,  -999.00,9, -999.000,9, -999.000,-999.0000,9,-999.0000,  -999.00,9,  -999.00, -999.000,9, -999.000,   -999.0,9,   -999.0,  -999.00,9,-999.0000,9,-999.0000,9,-999.0000,9,-999.0000,9,-999.0000,9,-999.0000,9
  33RR20070204,  I08S,    32,  1,     35,     35,2,20070224,2238,-54.7860,  85.6640, 4652,     43.3,   2.7999,  33.8485,2,  33.8489,2,    322.7,2,    323.7,2,    11.49,2,    24.04,2,     0.24,2,     1.64,2, -999.000,9, -999.000,9, -999.000,9,   2144.3,2,   2278.4,2,   -999.0,9,  -999.00,9, -999.000,9, -999.000,-999.0000,9,-999.0000,  -999.00,9,  -999.00, -999.000,9, -999.000,   -999.0,9,   -999.0,  -999.00,9,-999.0000,9,-999.0000,9,-999.0000,9,-999.0000,9,-999.0000,9,-999.0000,9
  33RR20070204,  I08S,    32,  1,     34,   9433,2,20070224,2238,-54.7860,  85.6640, 4652,     78.8,   2.7643,  33.8502,2,  33.8505,2,    323.6,2,    323.7,2,    11.69,2,    24.08,2,     0.24,2,     1.64,2,    5.525,2,    3.006,2, -999.000,5,   2145.7,2,   2276.1,2,   -999.0,9,  -999.00,9, -999.000,9, -999.000,-999.0000,9,-999.0000,  -999.00,9,  -999.00, -999.000,9, -999.000,   -999.0,9,   -999.0,  -999.00,9,-999.0000,9,-999.0000,9,-999.0000,9,-999.0000,9,-999.0000,9,-999.0000,9
  33RR20070204,  I08S,    32,  1,     33,     33,2,20070224,2238,-54.7860,  85.6640, 4652,     99.1,   2.5927,  33.8560,2,  33.8552,2,    324.7,2,    324.4,2,    12.29,2,    24.27,2,     0.24,2,     1.65,2, -999.000,9, -999.000,9, -999.000,9,   2147.8,2,   2279.2,2,   -999.0,9,  -999.00,9, -999.000,9, -999.000,-999.0000,9,-999.0000,  -999.00,9,  -999.00, -999.000,9, -999.000,   -999.0,9,   -999.0,  -999.00,9,-999.0000,9,-999.0000,9,-999.0000,9,-999.0000,9,-999.0000,9,-999.0000,9
  33RR20070204,  I08S,    32,  1,     32,     32,2,20070224,2238,-54.7860,  85.6640, 4652,    128.0,   0.7314,  33.8631,2,  33.8626,2,    333.8,2,    333.6,2,    28.01,2,    26.78,2,     0.27,2,     1.92,2, -999.000,9, -999.000,9, -999.000,9,   2167.8,2,   2280.8,2,   -999.0,9,  -999.00,9, -999.000,9, -999.000,-999.0000,9,-999.0000,  -999.00,9,  -999.00, -999.000,9, -999.000,   -999.0,9,   -999.0,  -999.00,9,-999.0000,9,-999.0000,9,-999.0000,9,-999.0000,9,-999.0000,9,-999.0000,9
  33RR20070204,  I08S,    32,  1,     31,     31,2,20070224,2238,-54.7860,  85.6640, 4652,    149.2,   0.9563,  33.9389,2,  33.9380,2,    327.3,2,    318.7,2,    28.41,2,    28.12,2,     0.28,2,     2.00,2,    5.742,2,    3.080,2, -999.000,5,   -999.0,9,   -999.0,9,   -999.0,9,  -999.00,9, -999.000,9, -999.000,-999.0000,9,-999.0000,  -999.00,9,  -999.00, -999.000,9, -999.000,   -999.0,9,   -999.0,  -999.00,9,-999.0000,9,-999.0000,9,-999.0000,9,-999.0000,9,-999.0000,9,-999.0000,9
  33RR20070204,  I08S,    32,  1,     30,     30,2,20070224,2238,-54.7860,  85.6640, 4652,    177.9,   0.8660,  33.9789,2,  33.9789,2,    309.1,2,    309.7,2,    32.08,2,    29.29,2,     0.22,2,     2.05,2, -999.000,9, -999.000,9, -999.000,9,   -999.0,9,   -999.0,9,   -999.0,9,  -999.00,9, -999.000,9, -999.000,-999.0000,9,-999.0000,  -999.00,9,  -999.00, -999.000,9, -999.000,   -999.0,9,   -999.0,  -999.00,9,-999.0000,9,-999.0000,9,-999.0000,9,-999.0000,9,-999.0000,9,-999.0000,9
  33RR20070204,  I08S,    32,  1,     29,     29,2,20070224,2238,-54.7860,  85.6640, 4652,    229.9,   1.2817,  34.0921,2,  34.0797,2,    279.7,2,    279.8,2,    38.83,2,    31.15,2,     0.04,2,     2.14,2,    4.618,2,    2.442,2, -999.000,5,   2194.7,2,   2287.9,2,   -999.0,9,  -999.00,9, -999.000,9, -999.000,-999.0000,9,-999.0000,  -999.00,9,  -999.00, -999.000,9, -999.000,   -999.0,9,   -999.0,  -999.00,9,-999.0000,9,-999.0000,9,-999.0000,9,-999.0000,9,-999.0000,9,-999.0000,9
  33RR20070204,  I08S,    32,  1,     28,     28,2,20070224,2238,-54.7860,  85.6640, 4652,    279.7,   1.4179,  34.1952,2,  34.1975,2,    250.8,2,    247.9,2,    48.24,2,    32.57,2,     0.04,2,     2.24,2, -999.000,9, -999.000,9, -999.000,9,   -999.0,9,   -999.0,9,   -999.0,9,  -999.00,9, -999.000,9, -999.000,-999.0000,9,-999.0000,  -999.00,9,  -999.00, -999.000,9, -999.000,   -999.0,9,   -999.0,  -999.00,9,-999.0000,9,-999.0000,9,-999.0000,9,-999.0000,9,-999.0000,9,-999.0000,9
  33RR20070204,  I08S,    32,  1,     27,     27,2,20070224,2238,-54.7860,  85.6640, 4652,    328.8,   1.9155,  34.3149,2,  34.3134,2,    215.0,2,    214.7,2,    55.01,2,    33.75,2,     0.01,2,     2.32,2,    2.510,2,    1.301,2, -999.000,5,   2230.2,2,   2304.6,2,   -999.0,9,  -999.00,9, -999.000,9, -999.000,-999.0000,9,-999.0000,  -999.00,9,  -999.00, -999.000,9, -999.000,   -999.0,9,   -999.0,  -999.00,9,-999.0000,9,-999.0000,9,-999.0000,9,-999.0000,9,-999.0000,9,-999.0000,9
  33RR20070204,  I08S,    32,  1,     26,     26,2,20070224,2238,-54.7860,  85.6640, 4652,    380.6,   1.8875,  34.3622,2,  34.3624,2,    201.7,2,    204.8,2,    60.56,2,    34.26,2,     0.01,2,     2.36,2, -999.000,9, -999.000,9, -999.000,9,   -999.0,9,   -999.0,9,   -999.0,9,  -999.00,9, -999.000,9, -999.000,-999.0000,9,-999.0000,  -999.00,9,  -999.00, -999.000,9, -999.000,   -999.0,9,   -999.0,  -999.00,9,-999.0000,9,-999.0000,9,-999.0000,9,-999.0000,9,-999.0000,9,-999.0000,9
  33RR20070204,  I08S,    32,  1,     25,     25,2,20070224,2238,-54.7860,  85.6640, 4652,    430.6,   2.0853,  34.4409,2,  34.4395,2,    193.5,2,    190.4,2,    65.07,2,    34.35,2,     0.01,2,     2.37,2,    1.571,2,    0.829,2, -999.000,5,   2244.9,2,   2316.0,2,   -999.0,9,  -999.00,9, -999.000,9, -999.000,-999.0000,9,-999.0000,  -999.00,9,  -999.00, -999.000,9, -999.000,   -999.0,9,   -999.0,  -999.00,9,-999.0000,9,-999.0000,9,-999.0000,9,-999.0000,9,-999.0000,9,-999.0000,9
  33RR20070204,  I08S,    32,  1,     24,     24,2,20070224,2238,-54.7860,  85.6640, 4652,    478.9,   2.1373,  34.4750,2,  34.4753,2,    185.3,2,    185.6,2,    67.74,2,    34.34,2,     0.01,2,     2.37,2, -999.000,9, -999.000,9, -999.000,9,   -999.0,9,   -999.0,9,   -999.0,9,  -999.00,9, -999.000,9, -999.000,-999.0000,9,-999.0000,  -999.00,9,  -999.00, -999.000,9, -999.000,   -999.0,9,   -999.0,  -999.00,9,-999.0000,9,-999.0000,9,-999.0000,9,-999.0000,9,-999.0000,9,-999.0000,9
  33RR20070204,  I08S,    32,  1,     23,     23,2,20070224,2238,-54.7860,  85.6640, 4652,    529.6,   2.2063,  34.5145,2,  34.5141,2,    180.2,2,    180.7,2,    69.57,2,    34.28,2,     0.01,2,     2.36,2,    1.025,2,    0.537,2, -999.000,5,   2250.8,2,   2322.6,2,   -999.0,9,  -999.00,9, -999.000,9, -999.000,-999.0000,9,-999.0000,  -999.00,9,  -999.00, -999.000,9, -999.000,   -999.0,9,   -999.0,  -999.00,9,-999.0000,9,-999.0000,9,-999.0000,9,-999.0000,9,-999.0000,9,-999.0000,9
  33RR20070204,  I08S,    32,  1,     22,     22,2,20070224,2238,-54.7860,  85.6640, 4652,    652.0,   2.0211,  34.5712,2,  34.5701,2,    176.3,2,    176.9,2,    76.38,2,    34.27,2,     0.01,2,     2.35,2, -999.000,9, -999.000,9, -999.000,9,   2257.5,2,   2326.5,2,   -999.0,9,  -999.00,9, -999.000,9, -999.000,-999.0000,9,-999.0000,  -999.00,9,  -999.00, -999.000,9, -999.000,   -999.0,9,   -999.0,  -999.00,9,-999.0000,9,-999.0000,9,-999.0000,9,-999.0000,9,-999.0000,9,-999.0000,9
  33RR20070204,  I08S,    32,  1,     21,     21,2,20070224,2238,-54.7860,  85.6640, 4652,    751.2,   2.1658,  34.6415,2,  34.6416,2,    177.0,2,    177.5,2,    75.95,2,    32.94,2,     0.01,2,     2.27,2, -999.000,9, -999.000,9, -999.000,9,   2255.3,6,   2331.5,2,   -999.0,9,  -999.00,9, -999.000,9, -999.000,-999.0000,9,-999.0000,  -999.00,9,  -999.00, -999.000,9, -999.000,   -999.0,9,   -999.0,  -999.00,9,-999.0000,9,-999.0000,9,-999.0000,9,-999.0000,9,-999.0000,9,-999.0000,9
  33RR20070204,  I08S,    32,  1,     20,     20,2,20070224,2238,-54.7860,  85.6640, 4652,    853.5,   2.1819,  34.6755,2,  34.6762,2,    178.4,2,    179.8,2,    77.79,2,    32.12,2,     0.01,2,     2.22,2,    0.357,2,    0.190,2, -999.000,5,   2253.7,2,   2335.9,2,   -999.0,9,  -999.00,9, -999.000,9, -999.000,-999.0000,9,-999.0000,  -999.00,9,  -999.00, -999.000,9, -999.000,   -999.0,9,   -999.0,  -999.00,9,-999.0000,9,-999.0000,9,-999.0000,9,-999.0000,9,-999.0000,9,-999.0000,9
  33RR20070204,  I08S,    32,  1,     19,     19,2,20070224,2238,-54.7860,  85.6640, 4652,    951.4,   2.1520,  34.7126,2,  34.7131,2,    184.9,2,    185.7,2,    78.40,2,    31.20,2,     0.01,2,     2.14,2, -999.000,9, -999.000,9, -999.000,9,   -999.0,9,   -999.0,9,   -999.0,9,  -999.00,9, -999.000,9, -999.000,-999.0000,9,-999.0000,  -999.00,9,  -999.00, -999.000,9, -999.000,   -999.0,9,   -999.0,  -999.00,9,-999.0000,9,-999.0000,9,-999.0000,9,-999.0000,9,-999.0000,9,-999.0000,9
  33RR20070204,  I08S,    32,  1,     18,     18,2,20070224,2238,-54.7860,  85.6640, 4652,   1052.9,   2.1345,  34.7217,2,  34.7226,2,    187.3,2,    187.7,2,    78.60,2,    30.89,2,     0.00,2,     2.12,2, -999.000,9, -999.000,9, -999.000,9,   -999.0,9,   -999.0,9,   -999.0,9,  -999.00,9, -999.000,9, -999.000,-999.0000,9,-999.0000,  -999.00,9,  -999.00, -999.000,9, -999.000,   -999.0,9,   -999.0,  -999.00,9,-999.0000,9,-999.0000,9,-999.0000,9,-999.0000,9,-999.0000,9,-999.0000,9
  33RR20070204,  I08S,    32,  1,     17,     17,2,20070224,2238,-54.7860,  85.6640, 4652,   1155.3,   2.1007,  34.7304,2,  34.7308,2,    191.2,2,    189.6,2,    79.20,2,    30.68,2,     0.00,2,     2.11,2,    0.193,2,    0.099,2, -999.000,5,   -999.0,9,   -999.0,9,   -999.0,9,  -999.00,9, -999.000,9, -999.000,-999.0000,9,-999.0000,  -999.00,9,  -999.00, -999.000,9, -999.000,   -999.0,9,   -999.0,  -999.00,9,-999.0000,9,-999.0000,9,-999.0000,9,-999.0000,9,-999.0000,9,-999.0000,9
  33RR20070204,  I08S,    32,  1,     16,     16,2,20070224,2238,-54.7860,  85.6640, 4652,   1254.8,   1.9955,  34.7437,2,  34.7438,2,    193.4,2,    193.5,2,    81.26,2,    30.26,2,     0.00,2,     2.08,2, -999.000,9, -999.000,9, -999.000,9,   -999.0,9,   -999.0,9,   -999.0,9,  -999.00,9, -999.000,9, -999.000,-999.0000,9,-999.0000,  -999.00,9,  -999.00, -999.000,9, -999.000,   -999.0,9,   -999.0,  -999.00,9,-999.0000,9,-999.0000,9,-999.0000,9,-999.0000,9,-999.0000,9,-999.0000,9
  33RR20070204,  I08S,    32,  1,     15,     15,2,20070224,2238,-54.7860,  85.6640, 4652,   1354.3,   1.9375,  34.7453,2,  34.7454,2,    196.9,2,    194.6,2,    82.70,2,    30.25,2,     0.00,2,     2.08,2, -999.000,9, -999.000,9, -999.000,9,   2248.2,2,   2342.2,2,   -999.0,9,  -999.00,9, -999.000,9, -999.000,-999.0000,9,-999.0000,  -999.00,9,  -999.00, -999.000,9, -999.000,   -999.0,9,   -999.0,  -999.00,9,-999.0000,9,-999.0000,9,-999.0000,9,-999.0000,9,-999.0000,9,-999.0000,9
  33RR20070204,  I08S,    32,  1,     14,     14,2,20070224,2238,-54.7860,  85.6640, 4652,   1454.5,   1.8535,  34.7488,2,  34.7491,2,    197.8,2,    196.8,2,    85.37,2,    30.10,2,     0.00,2,     2.07,2,    0.149,2,    0.071,2, -999.000,5,   -999.0,9,   -999.0,9,   -999.0,9,  -999.00,9, -999.000,9, -999.000,-999.0000,9,-999.0000,  -999.00,9,  -999.00, -999.000,9, -999.000,   -999.0,9,   -999.0,  -999.00,9,-999.0000,9,-999.0000,9,-999.0000,9,-999.0000,9,-999.0000,9,-999.0000,9
  33RR20070204,  I08S,    32,  1,     13,     13,2,20070224,2238,-54.7860,  85.6640, 4652,   1552.3,   1.7584,  34.7481,2,  34.7485,2,    198.5,2,    198.3,2,    87.64,2,    30.20,2,     0.00,2,     2.07,2, -999.000,9, -999.000,9, -999.000,9,   -999.0,9,   -999.0,9,   -999.0,9,  -999.00,9, -999.000,9, -999.000,-999.0000,9,-999.0000,  -999.00,9,  -999.00, -999.000,9, -999.000,   -999.0,9,   -999.0,  -999.00,9,-999.0000,9,-999.0000,9,-999.0000,9,-999.0000,9,-999.0000,9,-999.0000,9
  33RR20070204,  I08S,    32,  1,     12,     12,2,20070224,2238,-54.7860,  85.6640, 4652,   1751.8,   1.5769,  34.7448,2,  34.7453,2,    201.2,2,    200.6,2,    92.18,2,    30.24,2,     0.00,2,     2.08,2, -999.000,9, -999.000,9, -999.000,9,   -999.0,9,   -999.0,9,   -999.0,9,  -999.00,9, -999.000,9, -999.000,-999.0000,9,-999.0000,  -999.00,9,  -999.00, -999.000,9, -999.000,   -999.0,9,   -999.0,  -999.00,9,-999.0000,9,-999.0000,9,-999.0000,9,-999.0000,9,-999.0000,9,-999.0000,9
  33RR20070204,  I08S,    32,  1,     11,     11,2,20070224,2238,-54.7860,  85.6640, 4652,   1953.3,   1.3823,  34.7377,2,  34.7379,2,    203.5,2,    202.6,2,    97.97,2,    30.64,2,     0.00,2,     2.10,2,    0.174,2,    0.084,2, -999.000,5,   2252.6,2,   2347.6,2,   -999.0,9,  -999.00,9, -999.000,9, -999.000,-999.0000,9,-999.0000,  -999.00,9,  -999.00, -999.000,9, -999.000,   -999.0,9,   -999.0,  -999.00,9,-999.0000,9,-999.0000,9,-999.0000,9,-999.0000,9,-999.0000,9,-999.0000,9
  33RR20070204,  I08S,    32,  1,     10,     10,2,20070224,2238,-54.7860,  85.6640, 4652,   2115.3,   1.2523,  34.7317,2,  34.7320,2,    204.5,2,    203.9,2,   101.91,2,    30.83,2,     0.00,2,     2.12,2, -999.000,9, -999.000,9, -999.000,9,   -999.0,9,   -999.0,9,   -999.0,9,  -999.00,9, -999.000,9, -999.000,-999.0000,9,-999.0000,  -999.00,9,  -999.00, -999.000,9, -999.000,   -999.0,9,   -999.0,  -999.00,9,-999.0000,9,-999.0000,9,-999.0000,9,-999.0000,9,-999.0000,9,-999.0000,9
  33RR20070204,  I08S,    32,  1,      9,      9,2,20070224,2238,-54.7860,  85.6640, 4652,   2363.8,   1.0877,  34.7226,2,  34.7227,2,    206.0,2,    205.8,2,   106.06,2,    31.23,2,     0.00,2,     2.14,2, -999.000,9, -999.000,9, -999.000,9,   -999.0,9,   -999.0,9,   -999.0,9,  -999.00,9, -999.000,9, -999.000,-999.0000,9,-999.0000,  -999.00,9,  -999.00, -999.000,9, -999.000,   -999.0,9,   -999.0,  -999.00,9,-999.0000,9,-999.0000,9,-999.0000,9,-999.0000,9,-999.0000,9,-999.0000,9
  33RR20070204,  I08S,    32,  1,      8,      8,2,20070224,2238,-54.7860,  85.6640, 4652,   2612.8,   0.8626,  34.7106,2,  34.7107,2,    208.1,2,    208.1,2,   113.54,2,    31.38,2,     0.00,2,     2.18,2,    0.221,2,    0.113,2, -999.000,5,   -999.0,9,   -999.0,9,   -999.0,9,  -999.00,9, -999.000,9, -999.000,-999.0000,9,-999.0000,  -999.00,9,  -999.00, -999.000,9, -999.000,   -999.0,9,   -999.0,  -999.00,9,-999.0000,9,-999.0000,9,-999.0000,9,-999.0000,9,-999.0000,9,-999.0000,9
  33RR20070204,  I08S,    32,  1,      7,      7,2,20070224,2238,-54.7860,  85.6640, 4652,   2867.2,   0.6853,  34.7008,2,  34.7007,2,    210.6,2,    210.7,2,   118.11,2,    32.03,2,     0.00,2,     2.21,2, -999.000,9, -999.000,9, -999.000,9,   2260.3,2,   2351.8,2,   -999.0,9,  -999.00,9, -999.000,9, -999.000,-999.0000,9,-999.0000,  -999.00,9,  -999.00, -999.000,9, -999.000,   -999.0,9,   -999.0,  -999.00,9,-999.0000,9,-999.0000,9,-999.0000,9,-999.0000,9,-999.0000,9,-999.0000,9
  33RR20070204,  I08S,    32,  1,      6,      6,2,20070224,2238,-54.7860,  85.6640, 4652,   3119.0,   0.5897,  34.6952,2,  34.6956,2,    212.2,2,    212.9,2,   120.82,2,    32.13,2,     0.00,2,     2.22,2, -999.000,9, -999.000,9, -999.000,9,   -999.0,9,   -999.0,9,   -999.0,9,  -999.00,9, -999.000,9, -999.000,-999.0000,9,-999.0000,  -999.00,9,  -999.00, -999.000,9, -999.000,   -999.0,9,   -999.0,  -999.00,9,-999.0000,9,-999.0000,9,-999.0000,9,-999.0000,9,-999.0000,9,-999.0000,9
  33RR20070204,  I08S,    32,  1,      5,      5,2,20070224,2238,-54.7860,  85.6640, 4652,   3421.5,   0.4043,  34.6867,2,  34.6956,0,    216.7,2,    217.7,2,   123.94,2,    32.17,2,     0.00,2,     2.22,2,    0.446,2,    0.229,2, -999.000,5,   -999.0,9,   2350.6,2,   -999.0,9,  -999.00,9, -999.000,9, -999.000,-999.0000,9,-999.0000,  -999.00,9,  -999.00, -999.000,9, -999.000,   -999.0,9,   -999.0,  -999.00,9,-999.0000,9,-999.0000,9,-999.0000,9,-999.0000,9,-999.0000,9,-999.0000,9
  33RR20070204,  I08S,    32,  1,      4,      4,2,20070224,2238,-54.7860,  85.6640, 4652,   3727.9,   0.2890,  34.6813,2,  34.6810,2,    221.3,2,    221.9,2,   125.18,2,    32.11,2,     0.00,2,     2.22,2, -999.000,9, -999.000,9, -999.000,9,   2259.5,2,   2350.2,2,   -999.0,9,  -999.00,9, -999.000,9, -999.000,-999.0000,9,-999.0000,  -999.00,9,  -999.00, -999.000,9, -999.000,   -999.0,9,   -999.0,  -999.00,9,-999.0000,9,-999.0000,9,-999.0000,9,-999.0000,9,-999.0000,9,-999.0000,9
  33RR20070204,  I08S,    32,  1,      3,      3,2,20070224,2238,-54.7860,  85.6640, 4652,   4085.8,   0.1810,  34.6762,2,  34.6763,2,    225.0,2,    226.2,2,   126.63,2,    32.16,2,     0.00,2,     2.22,2, -999.000,9, -999.000,9, -999.000,9,   -999.0,9,   -999.0,9,   -999.0,9,  -999.00,9, -999.000,9, -999.000,-999.0000,9,-999.0000,  -999.00,9,  -999.00, -999.000,9, -999.000,   -999.0,9,   -999.0,  -999.00,9,-999.0000,9,-999.0000,9,-999.0000,9,-999.0000,9,-999.0000,9,-999.0000,9
  33RR20070204,  I08S,    32,  1,      2,      2,2,20070224,2238,-54.7860,  85.6640, 4652,   4445.3,   0.1737,  34.6744,2,  34.6743,2,    228.2,2,    227.4,2,   127.25,2,    32.10,2,     0.00,2,     2.22,2,    0.885,2,    0.450,2, -999.000,5,   2258.9,2,   2349.8,2,   -999.0,9,  -999.00,9, -999.000,9, -999.000,-999.0000,9,-999.0000,  -999.00,9,  -999.00, -999.000,9, -999.000,   -999.0,9,   -999.0,  -999.00,9,-999.0000,9,-999.0000,9,-999.0000,9,-999.0000,9,-999.0000,9,-999.0000,9
  33RR20070204,  I08S,    32,  1,      1,      1,2,20070224,2238,-54.7860,  85.6640, 4652,   4738.8,   0.1361,  34.6717,2,  34.6722,2,    229.7,2,    229.4,2,   128.28,2,    32.14,2,     0.00,2,     2.22,2,    1.053,2,    0.537,2, -999.000,5,   2259.8,6,   2349.5,2,   -999.0,9,  -999.00,9, -999.000,9, -999.000,-999.0000,9,-999.0000,  -999.00,9,  -999.00, -999.000,9, -999.000,   -999.0,9,   -999.0,  -999.00,9,-999.0000,9,-999.0000,9,-999.0000,9,-999.0000,9,-999.0000,9,-999.0000,9