BOTTLE,20150626SIOCCHRJL
EXPOCODE,SECT_ID,STNNBR,CASTNO,SAMPNO,BTLNBR,BTLNBR_FLAG_W,DATE,TIME,LATITUDE,LONGITUDE,DEPTH,CTDPRS,CTDTMP,CTDSAL,CTDSAL_FLAG_W,SALNTY,SALNTY_FLAG_W,CTDOXY,CTDOXY_FLAG_W,OXYGEN,OXYGEN_FLAG_W,SILCAT,SILCAT_FLAG_W,NITRAT,NITRAT_FLAG_W,NITRIT,NITRIT_FLAG_W,PHSPHT,PHSPHT_FLAG_W,CFC-11,CFC-11_FLAG_W,CFC-12,CFC-12_FLAG_W,CFC113,CFC113_FLAG_W,TCARBN,TCARBN_FLAG_W,ALKALI,ALKALI_FLAG_W,DOC,DOC_FLAG_W,TDN,TDN_FLAG_W,TRITUM,TRITUM_FLAG_W,TRITER,HELIUM,HELIUM_FLAG_W,HELIER,DELHE3,DELHE3_FLAG_W,DELHER,NEON,NEON_FLAG_W,NEONER,DELC14,DELC14_FLAG_W,C14ERR,DELC13,DELC13_FLAG_W,CDOM325,CDOM325_FLAG_W,CDOM340,CDOM340_FLAG_W,CDOM380,CDOM380_FLAG_W,CDOM412,CDOM412_FLAG_W,CDOMSL,CDOMSL_FLAG_W,CDOMSN,CDOMSN_FLAG_W
,,,,,,,,,,,METERS,DBAR,ITS-90,PSS-78,,PSS-78,,UMOL/KG,,UMOL/KG,,UMOL/KG,,UMOL/KG,,UMOL/KG,,UMOL/KG,,PMOL/KG,,PMOL/KG,,PMOL/KG,,UMOL/KG,,UMOL/KG,,UMOL/KG,,UMOL/KG,,TU,,TU,NMOL/KG,,NMOL/KG,PERCNT,,PERCNT,NMOL/KG,,NMOL/KG,/MILLE,,/MILLE,/MILLE,,1/M,,1/M,,1/M,,1/M,,1/NM,,1/NM,
  33RR20070204,  I08S,    33,  2,     35,     35,2,20070225,1002,-54.3702,  86.1297, 4744,      6.1,   2.4332,  33.8445,2,  33.8444,2,    328.8,2,    330.4,2,    23.93,2,    25.44,2,     0.29,2,     1.65,2,    5.735,2,    3.169,2, -999.000,5,   2155.6,2,   2281.2,2,     49.4,2,    30.53,2, -999.000,9, -999.000,-999.0000,9,-999.0000,  -999.00,9,  -999.00, -999.000,9, -999.000,   -999.0,9,   -999.0,  -999.00,9,   0.0794,2,   0.0518,2,   0.0271,2,   0.0205,2,   0.0137,3,   0.0170,3
  33RR20070204,  I08S,    33,  2,     33,     33,2,20070225,1002,-54.3702,  86.1297, 4744,     25.8,   2.1003,  33.8538,2,  33.8542,2,    332.0,2,    331.0,2,    25.89,2,    25.54,2,     0.28,2,     1.67,2,    5.785,2,    3.171,2, -999.000,5,   2156.6,6,   2282.4,2,     49.0,2,    29.71,2, -999.000,9, -999.000,-999.0000,9,-999.0000,  -999.00,9,  -999.00, -999.000,9, -999.000,   -999.0,9,   -999.0,  -999.00,9,   0.0791,2,   0.0507,2,   0.0270,2,   0.0206,2,   0.0135,3,   0.0168,3
  33RR20070204,  I08S,    33,  2,     34,   9433,9,20070225,1002,-54.3702,  86.1297, 4744,     26.6,   2.1001,  33.8537,2,-999.0000,9,   -999.0,9,   -999.0,9,  -999.00,9,  -999.00,9,  -999.00,9,  -999.00,9, -999.000,9, -999.000,9, -999.000,9,   -999.0,9,   -999.0,9,   -999.0,9,  -999.00,9, -999.000,9, -999.000,-999.0000,9,-999.0000,  -999.00,9,  -999.00, -999.000,9, -999.000,   -999.0,9,   -999.0,  -999.00,9,-999.0000,9,-999.0000,9,-999.0000,9,-999.0000,9,-999.0000,9,-999.0000,9
  33RR20070204,  I08S,    33,  2,     32,     32,2,20070225,1002,-54.3702,  86.1297, 4744,     81.2,   1.9970,  33.8657,2,  33.8650,2,    330.5,2,    330.2,2,    26.61,2,    25.72,2,     0.28,2,     1.69,2,    5.831,2,    3.190,2, -999.000,5,   2158.1,2,   2283.2,2,     46.8,2,    30.47,2, -999.000,9, -999.000,-999.0000,9,-999.0000,  -999.00,9,  -999.00, -999.000,9, -999.000,   -999.0,9,   -999.0,  -999.00,9,   0.0796,2,   0.0511,2,   0.0278,2,   0.0213,2,   0.0134,3,   0.0163,3
  33RR20070204,  I08S,    33,  2,     31,     31,2,20070225,1002,-54.3702,  86.1297, 4744,    116.6,   1.3798,  33.9387,2,  33.8655,0,    335.4,2,    325.9,2,    32.26,2,    26.76,2,     0.27,2,     1.82,2,    5.793,2,    3.168,2, -999.000,5,   2169.9,2,   2287.9,2,     45.9,2,    31.04,2, -999.000,9, -999.000,-999.0000,9,-999.0000,  -999.00,9,  -999.00, -999.000,9, -999.000,   -999.0,9,   -999.0,  -999.00,9,   0.0901,2,   0.0590,2,   0.0320,2,   0.0239,2,   0.0138,3,   0.0163,3
  33RR20070204,  I08S,    33,  2,     30,     30,9,20070225,1002,-54.3702,  86.1297, 4744,    165.6,   0.7142,  34.0834,2,-999.0000,9,   -999.0,9,   -999.0,9,  -999.00,9,  -999.00,9,  -999.00,9,  -999.00,9, -999.000,9, -999.000,9, -999.000,9,   -999.0,9,   -999.0,9,   -999.0,9,  -999.00,9, -999.000,9, -999.000,-999.0000,9,-999.0000,  -999.00,9,  -999.00, -999.000,9, -999.000,   -999.0,9,   -999.0,  -999.00,9,-999.0000,9,-999.0000,9,-999.0000,9,-999.0000,9,-999.0000,9,-999.0000,9
  33RR20070204,  I08S,    33,  2,     29,     29,2,20070225,1002,-54.3702,  86.1297, 4744,    165.7,   0.7155,  34.0836,2,  34.0776,2,    294.7,2,    295.5,2,    46.11,2,    29.70,2,     0.20,2,     2.10,2,    4.984,2,    2.683,2, -999.000,5,   2196.1,2,   2294.1,2,     44.6,2,    33.17,2, -999.000,9, -999.000,-999.0000,9,-999.0000,  -999.00,9,  -999.00, -999.000,9, -999.000,   -999.0,9,   -999.0,  -999.00,9,   0.0971,2,   0.0638,2,   0.0348,2,   0.0266,2,   0.0139,3,   0.0160,3
  33RR20070204,  I08S,    33,  2,     27,     27,2,20070225,1002,-54.3702,  86.1297, 4744,    200.9,   0.8834,  34.1949,2,  34.1921,2,    263.1,2,    261.7,2,    53.22,2,    31.91,2,     0.14,2,     2.24,2,    4.026,2,    2.163,2, -999.000,5,   2215.8,2,   2299.5,2,     44.3,2,    35.37,2, -999.000,9, -999.000,-999.0000,9,-999.0000,  -999.00,9,  -999.00, -999.000,9, -999.000,   -999.0,9,   -999.0,  -999.00,9,   0.1044,2,   0.0696,2,   0.0386,2,   0.0297,2,   0.0137,3,   0.0154,3
  33RR20070204,  I08S,    33,  2,     28,     28,9,20070225,1002,-54.3702,  86.1297, 4744,    201.5,   0.8877,  34.1955,2,-999.0000,9,   -999.0,9,   -999.0,9,  -999.00,9,  -999.00,9,  -999.00,9,  -999.00,9, -999.000,9, -999.000,9, -999.000,9,   -999.0,9,   -999.0,9,   -999.0,9,  -999.00,9, -999.000,9, -999.000,-999.0000,9,-999.0000,  -999.00,9,  -999.00, -999.000,9, -999.000,   -999.0,9,   -999.0,  -999.00,9,-999.0000,9,-999.0000,9,-999.0000,9,-999.0000,9,-999.0000,9,-999.0000,9
  33RR20070204,  I08S,    33,  2,     26,     26,2,20070225,1002,-54.3702,  86.1297, 4744,    256.1,   1.5080,  34.3894,2,  34.3873,2,    217.1,2,    210.0,2,    65.30,2,    33.89,2,     0.06,2,     2.34,2,    2.294,2,    1.222,2, -999.000,5,   2240.6,2,   2312.1,2,     44.2,2,    37.11,2, -999.000,9, -999.000,-999.0000,9,-999.0000,  -999.00,9,  -999.00, -999.000,9, -999.000,   -999.0,9,   -999.0,  -999.00,9,   0.1151,2,   0.0771,2,   0.0420,2,   0.0315,2,   0.0142,3,   0.0158,3
  33RR20070204,  I08S,    33,  2,     25,     25,2,20070225,1002,-54.3702,  86.1297, 4744,    346.5,   1.7791,  34.5950,2,  34.5943,2,    181.5,2,    183.1,2,    78.23,2,    33.56,2,     0.04,2,     2.31,2,    0.937,2,    0.503,2, -999.000,5,   2256.2,2,   2329.4,2,     43.7,2,    37.37,2, -999.000,9, -999.000,-999.0000,9,-999.0000,  -999.00,9,  -999.00, -999.000,9, -999.000,   -999.0,9,   -999.0,  -999.00,9,   0.1294,2,   0.0883,2,   0.0475,2,   0.0349,2,   0.0146,3,   0.0159,3
  33RR20070204,  I08S,    33,  2,     23,     23,2,20070225,1002,-54.3702,  86.1297, 4744,    437.5,   2.0245,  34.6630,2,  34.6634,2,    180.8,2,    178.2,2,    80.22,2,    32.84,2,     0.02,2,     2.26,2,    0.474,2,    0.252,2, -999.000,5,   2255.8,6,   2334.7,2,     43.6,2,    35.88,2, -999.000,9, -999.000,-999.0000,9,-999.0000,  -999.00,9,  -999.00, -999.000,9, -999.000,   -999.0,9,   -999.0,  -999.00,9,   0.1269,2,   0.0867,2,   0.0463,2,   0.0334,2,   0.0147,3,   0.0162,3
  33RR20070204,  I08S,    33,  2,     24,     24,9,20070225,1002,-54.3702,  86.1297, 4744,    437.6,   2.0249,  34.6629,2,-999.0000,9,   -999.0,9,   -999.0,9,  -999.00,9,  -999.00,9,  -999.00,9,  -999.00,9, -999.000,9, -999.000,9, -999.000,9,   -999.0,9,   -999.0,9,   -999.0,9,  -999.00,9, -999.000,9, -999.000,-999.0000,9,-999.0000,  -999.00,9,  -999.00, -999.000,9, -999.000,   -999.0,9,   -999.0,  -999.00,9,-999.0000,9,-999.0000,9,-999.0000,9,-999.0000,9,-999.0000,9,-999.0000,9
  33RR20070204,  I08S,    33,  2,     22,     22,9,20070225,1002,-54.3702,  86.1297, 4744,    558.1,   1.8975,  34.6882,2,-999.0000,9,   -999.0,9,   -999.0,9,  -999.00,9,  -999.00,9,  -999.00,9,  -999.00,9, -999.000,9, -999.000,9, -999.000,9,   -999.0,9,   -999.0,9,   -999.0,9,  -999.00,9, -999.000,9, -999.000,-999.0000,9,-999.0000,  -999.00,9,  -999.00, -999.000,9, -999.000,   -999.0,9,   -999.0,  -999.00,9,-999.0000,9,-999.0000,9,-999.0000,9,-999.0000,9,-999.0000,9,-999.0000,9
  33RR20070204,  I08S,    33,  2,     21,     21,2,20070225,1002,-54.3702,  86.1297, 4744,    559.1,   1.8972,  34.6886,2,  34.6883,2,    181.3,2,    182.6,2,    82.00,2,    32.15,2,     0.01,2,     2.22,2,    0.452,2,    0.238,2, -999.000,5,   2253.5,2,   2334.8,2,     43.0,2,    34.98,2, -999.000,9, -999.000,-999.0000,9,-999.0000,  -999.00,9,  -999.00, -999.000,9, -999.000,   -999.0,9,   -999.0,  -999.00,9,   0.1279,2,   0.0873,2,   0.0463,2,   0.0334,2,   0.0148,3,   0.0163,3
  33RR20070204,  I08S,    33,  2,     20,     20,2,20070225,1002,-54.3702,  86.1297, 4744,    709.3,   1.9773,  34.7288,2,  34.7288,2,    188.9,2,    189.2,2,    80.89,2,    30.82,2,     0.01,2,     2.12,2,    0.230,2,    0.117,2, -999.000,5,   2248.3,2,   2340.4,2,     42.6,2,    33.80,2, -999.000,9, -999.000,-999.0000,9,-999.0000,  -999.00,9,  -999.00, -999.000,9, -999.000,   -999.0,9,   -999.0,  -999.00,9,   0.1240,2,   0.0849,2,   0.0451,2,   0.0320,2,   0.0149,2,   0.0163,3
  33RR20070204,  I08S,    33,  2,     19,     19,2,20070225,1002,-54.3702,  86.1297, 4744,    911.8,   1.8216,  34.7401,2,  34.7406,2,    193.6,2,    193.5,2,    84.75,2,    30.48,2,     0.01,2,     2.09,2,    0.213,2,    0.108,2, -999.000,5,   2247.1,2,   2341.0,2,     42.1,2,    33.27,2, -999.000,9, -999.000,-999.0000,9,-999.0000,  -999.00,9,  -999.00, -999.000,9, -999.000,   -999.0,9,   -999.0,  -999.00,9,   0.2378,2,   0.1746,2,   0.0887,2,   0.0585,2,   0.0153,2,   0.0164,3
  33RR20070204,  I08S,    33,  2,     18,     18,9,20070225,1002,-54.3702,  86.1297, 4744,   1113.1,   1.6740,  34.7407,2,-999.0000,9,   -999.0,9,   -999.0,9,  -999.00,9,  -999.00,9,  -999.00,9,  -999.00,9, -999.000,9, -999.000,9, -999.000,9,   -999.0,9,   -999.0,9,   -999.0,9,  -999.00,9, -999.000,9, -999.000,-999.0000,9,-999.0000,  -999.00,9,  -999.00, -999.000,9, -999.000,   -999.0,9,   -999.0,  -999.00,9,-999.0000,9,-999.0000,9,-999.0000,9,-999.0000,9,-999.0000,9,-999.0000,9
  33RR20070204,  I08S,    33,  2,     17,     17,2,20070225,1002,-54.3702,  86.1297, 4744,   1113.8,   1.6740,  34.7408,2,  34.7414,2,    196.1,2,    196.1,2,    88.20,2,    30.57,2,     0.01,2,     2.10,2,    0.226,2,    0.114,2, -999.000,5,   2248.1,2,   2343.4,2,     41.4,2,    32.26,2, -999.000,9, -999.000,-999.0000,9,-999.0000,  -999.00,9,  -999.00, -999.000,9, -999.000,   -999.0,9,   -999.0,  -999.00,9,   0.1272,2,   0.0867,2,   0.0454,2,   0.0322,2,   0.0151,2,   0.0167,3
  33RR20070204,  I08S,    33,  2,     15,     15,2,20070225,1002,-54.3702,  86.1297, 4744,   1314.4,   1.5419,  34.7434,2,  34.7440,2,    200.8,2,    200.6,2,    92.08,2,    30.33,2,     0.01,2,     2.09,2,    0.185,2,    0.092,2, -999.000,5,   2250.5,2,   2345.7,2,     41.5,2,    32.24,2, -999.000,9, -999.000,-999.0000,9,-999.0000,  -999.00,9,  -999.00, -999.000,9, -999.000,   -999.0,9,   -999.0,  -999.00,9,   0.1236,2,   0.0843,2,   0.0445,2,   0.0316,2,   0.0150,2,   0.0166,3
  33RR20070204,  I08S,    33,  2,     16,     16,9,20070225,1002,-54.3702,  86.1297, 4744,   1316.0,   1.5418,  34.7435,2,-999.0000,9,   -999.0,9,   -999.0,9,  -999.00,9,  -999.00,9,  -999.00,9,  -999.00,9, -999.000,9, -999.000,9, -999.000,9,   -999.0,9,   -999.0,9,   -999.0,9,  -999.00,9, -999.000,9, -999.000,-999.0000,9,-999.0000,  -999.00,9,  -999.00, -999.000,9, -999.000,   -999.0,9,   -999.0,  -999.00,9,-999.0000,9,-999.0000,9,-999.0000,9,-999.0000,9,-999.0000,9,-999.0000,9
  33RR20070204,  I08S,    33,  2,     14,     14,2,20070225,1002,-54.3702,  86.1297, 4744,   1567.0,   1.3298,  34.7365,2,  34.7369,2,    203.1,2,    202.8,2,    98.47,2,    30.56,2,     0.01,2,     2.10,2,    0.177,2,    0.086,2, -999.000,5,   2251.1,2,   2348.3,2,     41.4,2,    32.04,2, -999.000,9, -999.000,-999.0000,9,-999.0000,  -999.00,9,  -999.00, -999.000,9, -999.000,   -999.0,9,   -999.0,  -999.00,9,   0.1254,2,   0.0853,2,   0.0445,2,   0.0311,2,   0.0152,2,   0.0169,3
  33RR20070204,  I08S,    33,  2,     13,     13,2,20070225,1002,-54.3702,  86.1297, 4744,   1819.7,   1.1233,  34.7260,2,  34.7259,2,    205.4,2,    204.4,2,   104.24,2,    31.00,2,     0.01,2,     2.14,2,    0.196,2,    0.097,2, -999.000,5,   2253.8,2,   2350.4,2,     41.2,2,    32.89,2, -999.000,9, -999.000,-999.0000,9,-999.0000,  -999.00,9,  -999.00, -999.000,9, -999.000,   -999.0,9,   -999.0,  -999.00,9,   0.1217,2,   0.0830,2,   0.0442,2,   0.0317,2,   0.0148,2,   0.0163,3
  33RR20070204,  I08S,    33,  2,     11,     11,2,20070225,1002,-54.3702,  86.1297, 4744,   2072.3,   0.9228,  34.7156,2,  34.7170,2,    206.6,2,    206.8,2,   110.86,2,    31.49,2,     0.01,2,     2.16,2,    0.203,2,    0.100,2, -999.000,5,   2255.7,2,   2350.9,2,     41.4,2,    33.22,2, -999.000,9, -999.000,-999.0000,9,-999.0000,  -999.00,9,  -999.00, -999.000,9, -999.000,   -999.0,9,   -999.0,  -999.00,9,   0.1326,2,   0.0908,2,   0.0476,2,   0.0339,2,   0.0150,2,   0.0166,3
  33RR20070204,  I08S,    33,  2,     12,     12,9,20070225,1002,-54.3702,  86.1297, 4744,   2073.0,   0.9230,  34.7156,2,-999.0000,9,   -999.0,9,   -999.0,9,  -999.00,9,  -999.00,9,  -999.00,9,  -999.00,9, -999.000,9, -999.000,9, -999.000,9,   -999.0,9,   -999.0,9,   -999.0,9,  -999.00,9, -999.000,9, -999.000,-999.0000,9,-999.0000,  -999.00,9,  -999.00, -999.000,9, -999.000,   -999.0,9,   -999.0,  -999.00,9,-999.0000,9,-999.0000,9,-999.0000,9,-999.0000,9,-999.0000,9,-999.0000,9
  33RR20070204,  I08S,    33,  2,     10,     10,9,20070225,1002,-54.3702,  86.1297, 4744,   2425.2,   0.6963,  34.7032,2,-999.0000,9,   -999.0,9,   -999.0,9,  -999.00,9,  -999.00,9,  -999.00,9,  -999.00,9, -999.000,9, -999.000,9, -999.000,9,   -999.0,9,   -999.0,9,   -999.0,9,  -999.00,9, -999.000,9, -999.000,-999.0000,9,-999.0000,  -999.00,9,  -999.00, -999.000,9, -999.000,   -999.0,9,   -999.0,  -999.00,9,-999.0000,9,-999.0000,9,-999.0000,9,-999.0000,9,-999.0000,9,-999.0000,9
  33RR20070204,  I08S,    33,  2,      9,      9,2,20070225,1002,-54.3702,  86.1297, 4744,   2427.3,   0.6908,  34.7029,2,  34.7029,2,    209.4,2,    210.3,2,   117.09,2,    31.82,2,     0.00,2,     2.20,2,    0.248,2,    0.124,2, -999.000,5,   2258.6,2,   2350.9,2,     41.5,2,    33.00,2, -999.000,9, -999.000,-999.0000,9,-999.0000,  -999.00,9,  -999.00, -999.000,9, -999.000,   -999.0,9,   -999.0,  -999.00,9,   0.1665,2,   0.1177,2,   0.0602,2,   0.0413,2,   0.0156,2,   0.0167,3
  33RR20070204,  I08S,    33,  2,      8,      8,2,20070225,1002,-54.3702,  86.1297, 4744,   2779.4,   0.4932,  34.6928,2,  34.6928,2,    213.5,2,    214.0,2,   122.06,2,    32.07,2,     0.00,2,     2.22,2,    0.344,2,    0.176,2, -999.000,5,   2258.1,2,   2350.8,2,     41.5,2,    33.80,2, -999.000,9, -999.000,-999.0000,9,-999.0000,  -999.00,9,  -999.00, -999.000,9, -999.000,   -999.0,9,   -999.0,  -999.00,9,   0.1687,2,   0.1191,2,   0.0599,2,   0.0406,2,   0.0158,2,   0.0171,3
  33RR20070204,  I08S,    33,  2,      7,      7,2,20070225,1002,-54.3702,  86.1297, 4744,   3034.6,   0.3556,  34.6861,2,  34.6859,2,    217.4,2,    217.7,2,   123.88,2,    32.11,2,     0.00,2,     2.22,2,    0.456,2,    0.236,2, -999.000,5,   2257.5,2,   2350.6,2,     41.2,2,    33.26,2, -999.000,9, -999.000,-999.0000,9,-999.0000,  -999.00,9,  -999.00, -999.000,9, -999.000,   -999.0,9,   -999.0,  -999.00,9,   0.1934,2,   0.1399,2,   0.0731,2,   0.0489,2,   0.0157,2,   0.0163,2
  33RR20070204,  I08S,    33,  2,      6,      6,9,20070225,1002,-54.3702,  86.1297, 4744,   3542.9,   0.2125,  34.6793,2,-999.0000,9,   -999.0,9,   -999.0,9,  -999.00,9,  -999.00,9,  -999.00,9,  -999.00,9, -999.000,9, -999.000,9, -999.000,9,   -999.0,9,   -999.0,9,   -999.0,9,  -999.00,9, -999.000,9, -999.000,-999.0000,9,-999.0000,  -999.00,9,  -999.00, -999.000,9, -999.000,   -999.0,9,   -999.0,  -999.00,9,-999.0000,9,-999.0000,9,-999.0000,9,-999.0000,9,-999.0000,9,-999.0000,9
  33RR20070204,  I08S,    33,  2,      5,      5,2,20070225,1002,-54.3702,  86.1297, 4744,   3544.1,   0.2128,  34.6795,2,  34.6797,2,    223.6,2,    224.0,2,   126.34,2,    32.20,2,     0.00,2,     2.23,2,    0.683,2,    0.351,2, -999.000,5,   2256.6,2,   2349.6,2,     41.0,2,    33.22,2, -999.000,9, -999.000,-999.0000,9,-999.0000,  -999.00,9,  -999.00, -999.000,9, -999.000,   -999.0,9,   -999.0,  -999.00,9,   0.1254,2,   0.0855,2,   0.0460,2,   0.0336,2,   0.0146,3,   0.0160,3
  33RR20070204,  I08S,    33,  2,      3,      3,2,20070225,1002,-54.3702,  86.1297, 4744,   4053.7,   0.1361,  34.6747,2,  34.6743,2,    227.6,2,    226.9,2,   127.54,2,    32.15,2,     0.00,2,     2.22,2,    0.896,2,    0.461,2, -999.000,5,   2256.3,2,   2349.6,2,     41.5,2,    33.62,2, -999.000,9, -999.000,-999.0000,9,-999.0000,  -999.00,9,  -999.00, -999.000,9, -999.000,   -999.0,9,   -999.0,  -999.00,9,   0.1182,2,   0.0809,2,   0.0433,2,   0.0315,2,   0.0146,2,   0.0160,3
  33RR20070204,  I08S,    33,  2,      4,      4,9,20070225,1002,-54.3702,  86.1297, 4744,   4053.9,   0.1356,  34.6747,2,-999.0000,9,   -999.0,9,   -999.0,9,  -999.00,9,  -999.00,9,  -999.00,9,  -999.00,9, -999.000,9, -999.000,9, -999.000,9,   -999.0,9,   -999.0,9,   -999.0,9,  -999.00,9, -999.000,9, -999.000,-999.0000,9,-999.0000,  -999.00,9,  -999.00, -999.000,9, -999.000,   -999.0,9,   -999.0,  -999.00,9,-999.0000,9,-999.0000,9,-999.0000,9,-999.0000,9,-999.0000,9,-999.0000,9
  33RR20070204,  I08S,    33,  2,      2,      2,2,20070225,1002,-54.3702,  86.1297, 4744,   4566.9,   0.0902,  34.6707,2,  34.6706,2,    230.5,2,    230.4,2,   127.89,2,    32.09,2,     0.00,2,     2.22,2,    1.111,2,    0.567,2, -999.000,5,   2256.5,6,   2348.2,2,     40.7,2,    33.87,2, -999.000,9, -999.000,-999.0000,9,-999.0000,  -999.00,9,  -999.00, -999.000,9, -999.000,   -999.0,9,   -999.0,  -999.00,9,   0.1197,2,   0.0814,2,   0.0447,2,   0.0328,2,   0.0143,3,   0.0156,3
  33RR20070204,  I08S,    33,  2,      1,      1,2,20070225,1002,-54.3702,  86.1297, 4744,   4823.3,   0.1184,  34.6704,2,  34.6704,2,    230.5,2,    230.5,2,   128.25,2,    32.19,2,     0.00,2,     2.22,2,    1.111,2,    0.571,2, -999.000,5,   2255.9,2,   2349.6,2,     40.6,2,    33.79,2, -999.000,9, -999.000,-999.0000,9,-999.0000,  -999.00,9,  -999.00, -999.000,9, -999.000,   -999.0,9,   -999.0,  -999.00,9,   0.1246,2,   0.0853,2,   0.0468,2,   0.0343,2,   0.0145,2,   0.0156,3