BOTTLE,20150626SIOCCHRJL
EXPOCODE,SECT_ID,STNNBR,CASTNO,SAMPNO,BTLNBR,BTLNBR_FLAG_W,DATE,TIME,LATITUDE,LONGITUDE,DEPTH,CTDPRS,CTDTMP,CTDSAL,CTDSAL_FLAG_W,SALNTY,SALNTY_FLAG_W,CTDOXY,CTDOXY_FLAG_W,OXYGEN,OXYGEN_FLAG_W,SILCAT,SILCAT_FLAG_W,NITRAT,NITRAT_FLAG_W,NITRIT,NITRIT_FLAG_W,PHSPHT,PHSPHT_FLAG_W,CFC-11,CFC-11_FLAG_W,CFC-12,CFC-12_FLAG_W,CFC113,CFC113_FLAG_W,TCARBN,TCARBN_FLAG_W,ALKALI,ALKALI_FLAG_W,DOC,DOC_FLAG_W,TDN,TDN_FLAG_W,TRITUM,TRITUM_FLAG_W,TRITER,HELIUM,HELIUM_FLAG_W,HELIER,DELHE3,DELHE3_FLAG_W,DELHER,NEON,NEON_FLAG_W,NEONER,DELC14,DELC14_FLAG_W,C14ERR,DELC13,DELC13_FLAG_W,CDOM325,CDOM325_FLAG_W,CDOM340,CDOM340_FLAG_W,CDOM380,CDOM380_FLAG_W,CDOM412,CDOM412_FLAG_W,CDOMSL,CDOMSL_FLAG_W,CDOMSN,CDOMSN_FLAG_W
,,,,,,,,,,,METERS,DBAR,ITS-90,PSS-78,,PSS-78,,UMOL/KG,,UMOL/KG,,UMOL/KG,,UMOL/KG,,UMOL/KG,,UMOL/KG,,PMOL/KG,,PMOL/KG,,PMOL/KG,,UMOL/KG,,UMOL/KG,,UMOL/KG,,UMOL/KG,,TU,,TU,NMOL/KG,,NMOL/KG,PERCNT,,PERCNT,NMOL/KG,,NMOL/KG,/MILLE,,/MILLE,/MILLE,,1/M,,1/M,,1/M,,1/M,,1/NM,,1/NM,
  33RR20070204,  I08S,    38,  1,     36,     36,2,20070227,0007,-52.2513,  88.3035, 4306,      3.1,   4.1860,  33.8160,2,  33.8153,2,    315.4,2,    313.2,2,     8.80,2,    22.66,2,     0.23,2,     1.63,2, -999.000,9, -999.000,9, -999.000,9,   2127.8,6,   2273.3,2,   -999.0,9,  -999.00,9, -999.000,9, -999.000,-999.0000,9,-999.0000,  -999.00,9,  -999.00, -999.000,9, -999.000,   -999.0,9,   -999.0,  -999.00,9,-999.0000,9,-999.0000,9,-999.0000,9,-999.0000,9,-999.0000,9,-999.0000,9
  33RR20070204,  I08S,    38,  1,     35,     35,2,20070227,0007,-52.2513,  88.3035, 4306,     41.5,   3.5811,  33.7940,2,  33.7947,2,    319.7,2,    319.0,2,    12.03,2,    23.80,2,     0.24,2,     1.65,2, -999.000,9, -999.000,9, -999.000,9,   2134.5,2,   2272.0,2,   -999.0,9,  -999.00,9, -999.000,9, -999.000,-999.0000,9,-999.0000,  -999.00,9,  -999.00, -999.000,9, -999.000,   -999.0,9,   -999.0,  -999.00,9,-999.0000,9,-999.0000,9,-999.0000,9,-999.0000,9,-999.0000,9,-999.0000,9
  33RR20070204,  I08S,    38,  1,     34,   9433,2,20070227,0007,-52.2513,  88.3035, 4306,     76.3,   3.0865,  33.7770,2,  33.7763,2,    322.2,2,    322.8,2,    14.06,2,    24.47,2,     0.24,2,     1.67,2, -999.000,9, -999.000,9, -999.000,9,   2138.7,2,   2273.4,2,   -999.0,9,  -999.00,9, -999.000,9, -999.000,-999.0000,9,-999.0000,  -999.00,9,  -999.00, -999.000,9, -999.000,   -999.0,9,   -999.0,  -999.00,9,-999.0000,9,-999.0000,9,-999.0000,9,-999.0000,9,-999.0000,9,-999.0000,9
  33RR20070204,  I08S,    38,  1,     33,     33,2,20070227,0007,-52.2513,  88.3035, 4306,     96.5,   2.9409,  33.7934,2,  33.7926,2,    331.6,2,    320.0,2,    14.65,2,    25.05,2,     0.23,2,     1.70,2, -999.000,9, -999.000,9, -999.000,9,   2141.0,2,   2271.9,2,   -999.0,9,  -999.00,9, -999.000,9, -999.000,-999.0000,9,-999.0000,  -999.00,9,  -999.00, -999.000,9, -999.000,   -999.0,9,   -999.0,  -999.00,9,-999.0000,9,-999.0000,9,-999.0000,9,-999.0000,9,-999.0000,9,-999.0000,9
  33RR20070204,  I08S,    38,  1,     32,     32,2,20070227,0007,-52.2513,  88.3035, 4306,    126.2,   2.4343,  33.8160,2,  33.8137,2,    333.9,2,    320.1,2,    17.49,2,    26.31,2,     0.23,2,     1.78,2, -999.000,9, -999.000,9, -999.000,9,   2149.0,2,   2266.6,2,   -999.0,9,  -999.00,9, -999.000,9, -999.000,-999.0000,9,-999.0000,  -999.00,9,  -999.00, -999.000,9, -999.000,   -999.0,9,   -999.0,  -999.00,9,-999.0000,9,-999.0000,9,-999.0000,9,-999.0000,9,-999.0000,9,-999.0000,9
  33RR20070204,  I08S,    38,  1,     31,     31,2,20070227,0007,-52.2513,  88.3035, 4306,    146.8,   2.7595,  33.9059,2,  33.9061,2,    329.2,2,    301.2,2,    18.09,2,    27.95,2,     0.08,2,     1.93,2, -999.000,9, -999.000,9, -999.000,9,   -999.0,9,   -999.0,9,   -999.0,9,  -999.00,9, -999.000,9, -999.000,-999.0000,9,-999.0000,  -999.00,9,  -999.00, -999.000,9, -999.000,   -999.0,9,   -999.0,  -999.00,9,-999.0000,9,-999.0000,9,-999.0000,9,-999.0000,9,-999.0000,9,-999.0000,9
  33RR20070204,  I08S,    38,  1,     30,     30,2,20070227,0007,-52.2513,  88.3035, 4306,    176.7,   1.6446,  33.8676,2,  33.8706,2,    327.7,2,    321.1,2,    22.35,2,    27.34,2,     0.25,2,     1.93,2, -999.000,9, -999.000,9, -999.000,9,   2158.6,2,   2277.0,2,   -999.0,9,  -999.00,9, -999.000,9, -999.000,-999.0000,9,-999.0000,  -999.00,9,  -999.00, -999.000,9, -999.000,   -999.0,9,   -999.0,  -999.00,9,-999.0000,9,-999.0000,9,-999.0000,9,-999.0000,9,-999.0000,9,-999.0000,9
  33RR20070204,  I08S,    38,  1,     29,     29,2,20070227,0007,-52.2513,  88.3035, 4306,    226.6,   0.4541,  33.9064,2,  33.9071,2,    327.2,2,    329.6,2,    29.86,2,    28.19,2,     0.27,2,     2.01,2, -999.000,9, -999.000,9, -999.000,9,   2167.1,2,   2281.8,2,   -999.0,9,  -999.00,9, -999.000,9, -999.000,-999.0000,9,-999.0000,  -999.00,9,  -999.00, -999.000,9, -999.000,   -999.0,9,   -999.0,  -999.00,9,-999.0000,9,-999.0000,9,-999.0000,9,-999.0000,9,-999.0000,9,-999.0000,9
  33RR20070204,  I08S,    38,  1,     28,     28,2,20070227,0007,-52.2513,  88.3035, 4306,    276.7,   0.4900,  33.9957,2,  33.9946,2,    298.9,2,    310.2,2,    35.14,2,    29.96,2,     0.19,2,     2.08,2, -999.000,9, -999.000,9, -999.000,9,   -999.0,9,   -999.0,9,   -999.0,9,  -999.00,9, -999.000,9, -999.000,-999.0000,9,-999.0000,  -999.00,9,  -999.00, -999.000,9, -999.000,   -999.0,9,   -999.0,  -999.00,9,-999.0000,9,-999.0000,9,-999.0000,9,-999.0000,9,-999.0000,9,-999.0000,9
  33RR20070204,  I08S,    38,  1,     27,     27,2,20070227,0007,-52.2513,  88.3035, 4306,    326.2,   0.9907,  34.0912,2,  34.0857,2,    267.4,2,    279.8,2,    40.63,2,    31.46,2,     0.03,2,     2.17,2, -999.000,9, -999.000,9, -999.000,9,   2193.0,2,   2288.6,2,   -999.0,9,  -999.00,9, -999.000,9, -999.000,-999.0000,9,-999.0000,  -999.00,9,  -999.00, -999.000,9, -999.000,   -999.0,9,   -999.0,  -999.00,9,-999.0000,9,-999.0000,9,-999.0000,9,-999.0000,9,-999.0000,9,-999.0000,9
  33RR20070204,  I08S,    38,  1,     26,     26,2,20070227,0007,-52.2513,  88.3035, 4306,    376.0,   1.2226,  34.1729,2,  34.1712,2,    228.1,2,    253.1,2,    47.54,2,    32.64,2,     0.02,2,     2.26,2, -999.000,9, -999.000,9, -999.000,9,   -999.0,9,   -999.0,9,   -999.0,9,  -999.00,9, -999.000,9, -999.000,-999.0000,9,-999.0000,  -999.00,9,  -999.00, -999.000,9, -999.000,   -999.0,9,   -999.0,  -999.00,9,-999.0000,9,-999.0000,9,-999.0000,9,-999.0000,9,-999.0000,9,-999.0000,9
  33RR20070204,  I08S,    38,  1,     25,     25,2,20070227,0007,-52.2513,  88.3035, 4306,    426.3,   2.1154,  34.3060,2,  34.3049,2,    207.1,2,    211.4,2,    54.68,2,    33.86,2,     0.01,2,     2.35,2, -999.000,9, -999.000,9, -999.000,9,   2223.6,2,   2301.5,2,   -999.0,9,  -999.00,9, -999.000,9, -999.000,-999.0000,9,-999.0000,  -999.00,9,  -999.00, -999.000,9, -999.000,   -999.0,9,   -999.0,  -999.00,9,-999.0000,9,-999.0000,9,-999.0000,9,-999.0000,9,-999.0000,9,-999.0000,9
  33RR20070204,  I08S,    38,  1,     24,     24,2,20070227,0007,-52.2513,  88.3035, 4306,    476.7,   2.3458,  34.3671,2,  34.3640,2,    196.5,2,    200.2,2,    56.51,2,    33.90,2,     0.01,2,     2.34,2, -999.000,9, -999.000,9, -999.000,9,   -999.0,9,   -999.0,9,   -999.0,9,  -999.00,9, -999.000,9, -999.000,-999.0000,9,-999.0000,  -999.00,9,  -999.00, -999.000,9, -999.000,   -999.0,9,   -999.0,  -999.00,9,-999.0000,9,-999.0000,9,-999.0000,9,-999.0000,9,-999.0000,9,-999.0000,9
  33RR20070204,  I08S,    38,  1,     23,     23,2,20070227,0007,-52.2513,  88.3035, 4306,    526.4,   2.4300,  34.4023,2,  34.4019,2,    193.1,2,    191.9,2,    58.95,2,    34.09,2,     0.01,2,     2.35,2, -999.000,9, -999.000,9, -999.000,9,   2233.9,2,   2310.0,2,   -999.0,9,  -999.00,9, -999.000,9, -999.000,-999.0000,9,-999.0000,  -999.00,9,  -999.00, -999.000,9, -999.000,   -999.0,9,   -999.0,  -999.00,9,-999.0000,9,-999.0000,9,-999.0000,9,-999.0000,9,-999.0000,9,-999.0000,9
  33RR20070204,  I08S,    38,  1,     22,     22,2,20070227,0007,-52.2513,  88.3035, 4306,    647.8,   2.3503,  34.4710,2,  34.4696,2,    183.1,2,    184.5,2,    65.07,2,    34.14,2,     0.01,2,     2.36,2, -999.000,9, -999.000,9, -999.000,9,   -999.0,9,   -999.0,9,   -999.0,9,  -999.00,9, -999.000,9, -999.000,-999.0000,9,-999.0000,  -999.00,9,  -999.00, -999.000,9, -999.000,   -999.0,9,   -999.0,  -999.00,9,-999.0000,9,-999.0000,9,-999.0000,9,-999.0000,9,-999.0000,9,-999.0000,9
  33RR20070204,  I08S,    38,  1,     21,     21,2,20070227,0007,-52.2513,  88.3035, 4306,    748.8,   2.4340,  34.5482,2,  34.5459,2,    177.8,2,    177.4,2,    68.14,2,    33.84,2,     0.01,2,     2.34,2, -999.000,9, -999.000,9, -999.000,9,   -999.0,9,   -999.0,9,   -999.0,9,  -999.00,9, -999.000,9, -999.000,-999.0000,9,-999.0000,  -999.00,9,  -999.00, -999.000,9, -999.000,   -999.0,9,   -999.0,  -999.00,9,-999.0000,9,-999.0000,9,-999.0000,9,-999.0000,9,-999.0000,9,-999.0000,9
  33RR20070204,  I08S,    38,  1,     20,     20,2,20070227,0007,-52.2513,  88.3035, 4306,    849.3,   2.4071,  34.5975,2,  34.5974,2,    176.8,2,    176.0,2,    71.81,2,    33.25,2,     0.01,2,     2.31,2, -999.000,9, -999.000,9, -999.000,9,   2248.9,6,   2326.6,2,   -999.0,9,  -999.00,9, -999.000,9, -999.000,-999.0000,9,-999.0000,  -999.00,9,  -999.00, -999.000,9, -999.000,   -999.0,9,   -999.0,  -999.00,9,-999.0000,9,-999.0000,9,-999.0000,9,-999.0000,9,-999.0000,9,-999.0000,9
  33RR20070204,  I08S,    38,  1,     19,     19,2,20070227,0007,-52.2513,  88.3035, 4306,    949.9,   2.4000,  34.6442,2,  34.6438,2,    177.9,2,    177.6,2,    73.44,2,    32.46,2,     0.01,2,     2.25,2, -999.000,9, -999.000,9, -999.000,9,   -999.0,9,   -999.0,9,   -999.0,9,  -999.00,9, -999.000,9, -999.000,-999.0000,9,-999.0000,  -999.00,9,  -999.00, -999.000,9, -999.000,   -999.0,9,   -999.0,  -999.00,9,-999.0000,9,-999.0000,9,-999.0000,9,-999.0000,9,-999.0000,9,-999.0000,9
  33RR20070204,  I08S,    38,  1,     18,     18,2,20070227,0007,-52.2513,  88.3035, 4306,   1050.9,   2.2445,  34.6573,2,  34.6591,2,    179.7,2,    178.7,2,    76.30,2,    32.46,2,     0.01,2,     2.25,2, -999.000,9, -999.000,9, -999.000,9,   -999.0,9,   -999.0,9,   -999.0,9,  -999.00,9, -999.000,9, -999.000,-999.0000,9,-999.0000,  -999.00,9,  -999.00, -999.000,9, -999.000,   -999.0,9,   -999.0,  -999.00,9,-999.0000,9,-999.0000,9,-999.0000,9,-999.0000,9,-999.0000,9,-999.0000,9
  33RR20070204,  I08S,    38,  1,     17,     17,2,20070227,0007,-52.2513,  88.3035, 4306,   1151.4,   2.2439,  34.6958,2,  34.6954,2,    182.6,2,    183.3,2,    76.70,2,    31.63,2,     0.00,2,     2.18,2, -999.000,9, -999.000,9, -999.000,9,   2246.3,2,   2335.3,2,   -999.0,9,  -999.00,9, -999.000,9, -999.000,-999.0000,9,-999.0000,  -999.00,9,  -999.00, -999.000,9, -999.000,   -999.0,9,   -999.0,  -999.00,9,-999.0000,9,-999.0000,9,-999.0000,9,-999.0000,9,-999.0000,9,-999.0000,9
  33RR20070204,  I08S,    38,  1,     16,     16,2,20070227,0007,-52.2513,  88.3035, 4306,   1252.1,   2.1691,  34.7128,2,  34.7129,2,    185.9,2,    185.9,2,    78.32,2,    31.34,2,     0.00,2,     2.16,2, -999.000,9, -999.000,9, -999.000,9,   -999.0,9,   -999.0,9,   -999.0,9,  -999.00,9, -999.000,9, -999.000,-999.0000,9,-999.0000,  -999.00,9,  -999.00, -999.000,9, -999.000,   -999.0,9,   -999.0,  -999.00,9,-999.0000,9,-999.0000,9,-999.0000,9,-999.0000,9,-999.0000,9,-999.0000,9
  33RR20070204,  I08S,    38,  1,     15,     15,2,20070227,0007,-52.2513,  88.3035, 4306,   1353.2,   2.1053,  34.7251,2,  34.7243,2,    188.6,2,    188.4,2,    79.74,2,    31.00,2,     0.00,2,     2.13,2, -999.000,9, -999.000,9, -999.000,9,   -999.0,9,   2337.7,2,   -999.0,9,  -999.00,9, -999.000,9, -999.000,-999.0000,9,-999.0000,  -999.00,9,  -999.00, -999.000,9, -999.000,   -999.0,9,   -999.0,  -999.00,9,-999.0000,9,-999.0000,9,-999.0000,9,-999.0000,9,-999.0000,9,-999.0000,9
  33RR20070204,  I08S,    38,  1,     14,     14,2,20070227,0007,-52.2513,  88.3035, 4306,   1453.9,   2.0127,  34.7358,2,  34.7357,2,    190.3,2,    191.1,2,    81.58,2,    30.70,2,     0.00,2,     2.11,2, -999.000,9, -999.000,9, -999.000,9,   -999.0,9,   -999.0,9,   -999.0,9,  -999.00,9, -999.000,9, -999.000,-999.0000,9,-999.0000,  -999.00,9,  -999.00, -999.000,9, -999.000,   -999.0,9,   -999.0,  -999.00,9,-999.0000,9,-999.0000,9,-999.0000,9,-999.0000,9,-999.0000,9,-999.0000,9
  33RR20070204,  I08S,    38,  1,     13,     13,2,20070227,0007,-52.2513,  88.3035, 4306,   1555.4,   1.9659,  34.7465,2,  34.7467,2,    194.4,2,    195.1,2,    82.80,2,    30.31,2,     0.00,2,     2.08,2, -999.000,9, -999.000,9, -999.000,9,   2243.7,2,   2341.9,2,   -999.0,9,  -999.00,9, -999.000,9, -999.000,-999.0000,9,-999.0000,  -999.00,9,  -999.00, -999.000,9, -999.000,   -999.0,9,   -999.0,  -999.00,9,-999.0000,9,-999.0000,9,-999.0000,9,-999.0000,9,-999.0000,9,-999.0000,9
  33RR20070204,  I08S,    38,  1,     12,     12,2,20070227,0007,-52.2513,  88.3035, 4306,   1656.5,   1.8764,  34.7495,2,  34.7501,2,    195.9,2,    196.8,2,    85.25,2,    30.17,2,     0.00,2,     2.08,2, -999.000,9, -999.000,9, -999.000,9,   -999.0,9,   -999.0,9,   -999.0,9,  -999.00,9, -999.000,9, -999.000,-999.0000,9,-999.0000,  -999.00,9,  -999.00, -999.000,9, -999.000,   -999.0,9,   -999.0,  -999.00,9,-999.0000,9,-999.0000,9,-999.0000,9,-999.0000,9,-999.0000,9,-999.0000,9
  33RR20070204,  I08S,    38,  1,     11,     11,2,20070227,0007,-52.2513,  88.3035, 4306,   1757.7,   1.7826,  34.7486,2,  34.7483,2,    197.8,2,    197.6,2,    87.30,2,    30.25,2,     0.00,2,     2.08,2, -999.000,9, -999.000,9, -999.000,9,   -999.0,9,   2343.2,2,   -999.0,9,  -999.00,9, -999.000,9, -999.000,-999.0000,9,-999.0000,  -999.00,9,  -999.00, -999.000,9, -999.000,   -999.0,9,   -999.0,  -999.00,9,-999.0000,9,-999.0000,9,-999.0000,9,-999.0000,9,-999.0000,9,-999.0000,9
  33RR20070204,  I08S,    38,  1,     10,     10,2,20070227,0007,-52.2513,  88.3035, 4306,   1959.7,   1.5993,  34.7451,2,  34.7451,2,    200.7,2,    200.2,2,    92.43,2,    30.45,2,     0.00,2,     2.09,2, -999.000,9, -999.000,9, -999.000,9,   -999.0,9,   -999.0,9,   -999.0,9,  -999.00,9, -999.000,9, -999.000,-999.0000,9,-999.0000,  -999.00,9,  -999.00, -999.000,9, -999.000,   -999.0,9,   -999.0,  -999.00,9,-999.0000,9,-999.0000,9,-999.0000,9,-999.0000,9,-999.0000,9,-999.0000,9
  33RR20070204,  I08S,    38,  1,      9,      9,2,20070227,0007,-52.2513,  88.3035, 4306,   2122.0,   1.4545,  34.7401,2,  34.7416,2,    202.2,2,    201.8,2,    95.51,2,    30.44,2,     0.00,2,     2.10,2,    0.168,2,    0.079,2, -999.000,5,   2248.7,2,   2345.0,9,   -999.0,9,  -999.00,9, -999.000,9, -999.000,-999.0000,9,-999.0000,  -999.00,9,  -999.00, -999.000,9, -999.000,   -999.0,9,   -999.0,  -999.00,9,-999.0000,9,-999.0000,9,-999.0000,9,-999.0000,9,-999.0000,9,-999.0000,9
  33RR20070204,  I08S,    38,  1,      8,      8,2,20070227,0007,-52.2513,  88.3035, 4306,   2375.1,   1.2366,  34.7306,2,  34.7302,2,    204.3,2,    204.6,2,   103.96,2,    30.98,2,     0.00,2,     2.13,2, -999.000,9, -999.000,9, -999.000,9,   -999.0,9,   -999.0,9,   -999.0,9,  -999.00,9, -999.000,9, -999.000,-999.0000,9,-999.0000,  -999.00,9,  -999.00, -999.000,9, -999.000,   -999.0,9,   -999.0,  -999.00,9,-999.0000,9,-999.0000,9,-999.0000,9,-999.0000,9,-999.0000,9,-999.0000,9
  33RR20070204,  I08S,    38,  1,      7,      7,2,20070227,0007,-52.2513,  88.3035, 4306,   2629.0,   1.0241,  34.7188,2,  34.7188,2,    206.7,2,    206.8,2,   109.95,2,    31.41,2,     0.00,2,     2.17,2,    0.197,2,    0.094,2, -999.000,5,   -999.0,9,   -999.0,9,   -999.0,9,  -999.00,9, -999.000,9, -999.000,-999.0000,9,-999.0000,  -999.00,9,  -999.00, -999.000,9, -999.000,   -999.0,9,   -999.0,  -999.00,9,-999.0000,9,-999.0000,9,-999.0000,9,-999.0000,9,-999.0000,9,-999.0000,9
  33RR20070204,  I08S,    38,  1,      6,      6,2,20070227,0007,-52.2513,  88.3035, 4306,   2882.7,   0.8091,  34.7073,2,  34.7072,2,    209.8,2,    209.4,2,   115.94,2,    31.89,2,     0.00,2,     2.19,2, -999.000,9, -999.000,9, -999.000,9,   2257.3,2,   2351.2,2,   -999.0,9,  -999.00,9, -999.000,9, -999.000,-999.0000,9,-999.0000,  -999.00,9,  -999.00, -999.000,9, -999.000,   -999.0,9,   -999.0,  -999.00,9,-999.0000,9,-999.0000,9,-999.0000,9,-999.0000,9,-999.0000,9,-999.0000,9
  33RR20070204,  I08S,    38,  1,      5,      5,2,20070227,0007,-52.2513,  88.3035, 4306,   3137.0,   0.6241,  34.6982,2,  34.6974,2,    213.4,2,    213.1,2,   120.69,2,    32.12,2,     0.00,2,     2.21,2,    0.351,2,    0.174,2, -999.000,5,   -999.0,9,   -999.0,9,   -999.0,9,  -999.00,9, -999.000,9, -999.000,-999.0000,9,-999.0000,  -999.00,9,  -999.00, -999.000,9, -999.000,   -999.0,9,   -999.0,  -999.00,9,-999.0000,9,-999.0000,9,-999.0000,9,-999.0000,9,-999.0000,9,-999.0000,9
  33RR20070204,  I08S,    38,  1,      4,      4,2,20070227,0007,-52.2513,  88.3035, 4306,   3442.1,   0.4533,  34.6896,2,  34.6891,2,    217.5,2,    217.4,2,   124.01,2,    32.27,2,     0.00,2,     2.23,2,    0.472,2,    0.234,2, -999.000,5,   -999.0,9,   -999.0,9,   -999.0,9,  -999.00,9, -999.000,9, -999.000,-999.0000,9,-999.0000,  -999.00,9,  -999.00, -999.000,9, -999.000,   -999.0,9,   -999.0,  -999.00,9,-999.0000,9,-999.0000,9,-999.0000,9,-999.0000,9,-999.0000,9,-999.0000,9
  33RR20070204,  I08S,    38,  1,      3,      3,2,20070227,0007,-52.2513,  88.3035, 4306,   3748.3,   0.3313,  34.6835,2,  34.6824,2,    221.4,2,    221.0,2,   125.65,2,    32.31,2,     0.00,2,     2.23,2,    0.617,2,    0.308,2, -999.000,5,   2257.5,2,   2349.9,2,   -999.0,9,  -999.00,9, -999.000,9, -999.000,-999.0000,9,-999.0000,  -999.00,9,  -999.00, -999.000,9, -999.000,   -999.0,9,   -999.0,  -999.00,9,-999.0000,9,-999.0000,9,-999.0000,9,-999.0000,9,-999.0000,9,-999.0000,9
  33RR20070204,  I08S,    38,  1,      2,      2,2,20070227,0007,-52.2513,  88.3035, 4306,   4105.4,   0.2282,  34.6780,2,  34.6771,2,    225.0,2,    225.0,2,   127.30,2,    32.36,2,     0.00,2,     2.23,2,    0.796,2,    0.398,2, -999.000,5,   2257.5,2,   2349.6,2,   -999.0,9,  -999.00,9, -999.000,9, -999.000,-999.0000,9,-999.0000,  -999.00,9,  -999.00, -999.000,9, -999.000,   -999.0,9,   -999.0,  -999.00,9,-999.0000,9,-999.0000,9,-999.0000,9,-999.0000,9,-999.0000,9,-999.0000,9
  33RR20070204,  I08S,    38,  1,      1,      1,2,20070227,0007,-52.2513,  88.3035, 4306,   4381.8,   0.1675,  34.6744,2,  34.6745,2,    226.8,2,    227.6,2,   128.11,2,    32.36,2,     0.00,2,     2.23,2,    0.936,2,    0.473,2, -999.000,5,   2258.8,2,   2350.1,2,   -999.0,9,  -999.00,9, -999.000,9, -999.000,-999.0000,9,-999.0000,  -999.00,9,  -999.00, -999.000,9, -999.000,   -999.0,9,   -999.0,  -999.00,9,-999.0000,9,-999.0000,9,-999.0000,9,-999.0000,9,-999.0000,9,-999.0000,9