BOTTLE,20150626SIOCCHRJL
EXPOCODE,SECT_ID,STNNBR,CASTNO,SAMPNO,BTLNBR,BTLNBR_FLAG_W,DATE,TIME,LATITUDE,LONGITUDE,DEPTH,CTDPRS,CTDTMP,CTDSAL,CTDSAL_FLAG_W,SALNTY,SALNTY_FLAG_W,CTDOXY,CTDOXY_FLAG_W,OXYGEN,OXYGEN_FLAG_W,SILCAT,SILCAT_FLAG_W,NITRAT,NITRAT_FLAG_W,NITRIT,NITRIT_FLAG_W,PHSPHT,PHSPHT_FLAG_W,CFC-11,CFC-11_FLAG_W,CFC-12,CFC-12_FLAG_W,CFC113,CFC113_FLAG_W,TCARBN,TCARBN_FLAG_W,ALKALI,ALKALI_FLAG_W,DOC,DOC_FLAG_W,TDN,TDN_FLAG_W,TRITUM,TRITUM_FLAG_W,TRITER,HELIUM,HELIUM_FLAG_W,HELIER,DELHE3,DELHE3_FLAG_W,DELHER,NEON,NEON_FLAG_W,NEONER,DELC14,DELC14_FLAG_W,C14ERR,DELC13,DELC13_FLAG_W,CDOM325,CDOM325_FLAG_W,CDOM340,CDOM340_FLAG_W,CDOM380,CDOM380_FLAG_W,CDOM412,CDOM412_FLAG_W,CDOMSL,CDOMSL_FLAG_W,CDOMSN,CDOMSN_FLAG_W
,,,,,,,,,,,METERS,DBAR,ITS-90,PSS-78,,PSS-78,,UMOL/KG,,UMOL/KG,,UMOL/KG,,UMOL/KG,,UMOL/KG,,UMOL/KG,,PMOL/KG,,PMOL/KG,,PMOL/KG,,UMOL/KG,,UMOL/KG,,UMOL/KG,,UMOL/KG,,TU,,TU,NMOL/KG,,NMOL/KG,PERCNT,,PERCNT,NMOL/KG,,NMOL/KG,/MILLE,,/MILLE,/MILLE,,1/M,,1/M,,1/M,,1/M,,1/NM,,1/NM,
  33RR20070204,  I08S,    44,  1,     36,     38,2,20070228,2058,-49.6980,  90.8160, 3847,      6.8,   6.8314,  33.8315,2,  33.8310,2,    296.8,2,    302.5,2,     1.76,2,    18.02,2,     0.25,2,     1.37,2,    4.436,2,    2.503,2, -999.000,5,   2107.0,2,   2270.2,2,     49.4,2,    22.33,2, -999.000,9, -999.000,-999.0000,9,-999.0000,  -999.00,9,  -999.00, -999.000,9, -999.000,   -999.0,9,   -999.0,  -999.00,9,-999.0000,9,-999.0000,9,-999.0000,9,-999.0000,9,-999.0000,9,-999.0000,9
  33RR20070204,  I08S,    44,  1,     35,     35,2,20070228,2058,-49.6980,  90.8160, 3847,     41.5,   6.7611,  33.9120,2,  33.8948,2,    299.2,2,    300.0,2,     2.16,2,    18.08,2,     0.24,2,     1.38,2,    4.326,2,    2.425,2, -999.000,5,   2108.9,2,   2272.1,2,     48.6,2,    22.39,2, -999.000,9, -999.000,-999.0000,9,-999.0000,  -999.00,9,  -999.00, -999.000,9, -999.000,   -999.0,9,   -999.0,  -999.00,9,-999.0000,9,-999.0000,9,-999.0000,9,-999.0000,9,-999.0000,9,-999.0000,9
  33RR20070204,  I08S,    44,  1,     34,   9433,2,20070228,2058,-49.6980,  90.8160, 3847,     75.5,   6.4687,  33.9663,2,  33.9651,2,    298.3,2,    297.4,2,     2.57,2,    18.45,2,     0.21,2,     1.41,2,    4.474,2,    2.529,2, -999.000,5,   2111.6,6,   2274.5,2,     46.8,2,    22.58,2, -999.000,9, -999.000,-999.0000,9,-999.0000,  -999.00,9,  -999.00, -999.000,9, -999.000,   -999.0,9,   -999.0,  -999.00,9,-999.0000,9,-999.0000,9,-999.0000,9,-999.0000,9,-999.0000,9,-999.0000,9
  33RR20070204,  I08S,    44,  1,     33,     33,2,20070228,2058,-49.6980,  90.8160, 3847,     96.1,   6.3812,  33.9663,2,  33.9663,2,    297.5,2,    296.7,2,     2.77,2,    18.45,2,     0.21,2,     1.42,2,    4.380,2,    2.444,2, -999.000,5,   2114.7,2,   2273.3,2,     46.2,2,    22.41,2, -999.000,9, -999.000,-999.0000,9,-999.0000,  -999.00,9,  -999.00, -999.000,9, -999.000,   -999.0,9,   -999.0,  -999.00,9,-999.0000,9,-999.0000,9,-999.0000,9,-999.0000,9,-999.0000,9,-999.0000,9
  33RR20070204,  I08S,    44,  1,     32,     37,2,20070228,2058,-49.6980,  90.8160, 3847,    126.1,   5.7278,  33.9289,2,  33.9240,2,    296.8,2,    299.0,2,     3.18,2,    19.87,2,     0.24,2,     1.51,2,    4.618,2,    2.590,2, -999.000,5,   2119.4,2,   2273.6,2,     45.2,2,    23.98,2, -999.000,9, -999.000,-999.0000,9,-999.0000,  -999.00,9,  -999.00, -999.000,9, -999.000,   -999.0,9,   -999.0,  -999.00,9,-999.0000,9,-999.0000,9,-999.0000,9,-999.0000,9,-999.0000,9,-999.0000,9
  33RR20070204,  I08S,    44,  1,     31,     31,2,20070228,2058,-49.6980,  90.8160, 3847,    145.7,   5.3155,  33.9077,2,  33.9060,2,    292.4,2,    299.8,2,     3.78,2,    20.82,2,     0.31,2,     1.56,2,    4.740,2,    2.644,2, -999.000,5,   2122.5,2,   2271.6,2,     44.6,2,    24.72,2, -999.000,9, -999.000,-999.0000,9,-999.0000,  -999.00,9,  -999.00, -999.000,9, -999.000,   -999.0,9,   -999.0,  -999.00,9,-999.0000,9,-999.0000,9,-999.0000,9,-999.0000,9,-999.0000,9,-999.0000,9
  33RR20070204,  I08S,    44,  1,     30,     30,2,20070228,2058,-49.6980,  90.8160, 3847,    177.1,   4.6373,  33.9174,2,  33.9152,2,    295.4,2,    296.3,2,     6.44,2,    23.80,2,     0.10,2,     1.68,2,    4.890,2,    2.723,2, -999.000,5,   2134.2,2,   2270.8,2,     44.1,2,    26.96,2, -999.000,9, -999.000,-999.0000,9,-999.0000,  -999.00,9,  -999.00, -999.000,9, -999.000,   -999.0,9,   -999.0,  -999.00,9,-999.0000,9,-999.0000,9,-999.0000,9,-999.0000,9,-999.0000,9,-999.0000,9
  33RR20070204,  I08S,    44,  1,     29,     29,2,20070228,2058,-49.6980,  90.8160, 3847,    225.5,   6.0597,  34.2517,2,  34.2464,2,    283.2,2,    249.8,2,    11.56,2,    23.87,2,     0.01,2,     1.66,2,    3.789,2,    2.043,2, -999.000,5,   2149.8,2,   2278.7,2,     43.6,2,    27.47,2, -999.000,9, -999.000,-999.0000,9,-999.0000,  -999.00,9,  -999.00, -999.000,9, -999.000,   -999.0,9,   -999.0,  -999.00,9,-999.0000,9,-999.0000,9,-999.0000,9,-999.0000,9,-999.0000,9,-999.0000,9
  33RR20070204,  I08S,    44,  1,     28,     28,2,20070228,2058,-49.6980,  90.8160, 3847,    276.2,   4.9039,  34.1397,2,  34.1370,2,    259.0,2,    259.5,2,    14.01,2,    25.88,2,     0.01,2,     1.80,2,    4.251,2,    2.306,2, -999.000,5,   2156.6,2,   2277.0,2,     43.3,2,    29.88,2, -999.000,9, -999.000,-999.0000,9,-999.0000,  -999.00,9,  -999.00, -999.000,9, -999.000,   -999.0,9,   -999.0,  -999.00,9,-999.0000,9,-999.0000,9,-999.0000,9,-999.0000,9,-999.0000,9,-999.0000,9
  33RR20070204,  I08S,    44,  1,     27,     27,2,20070228,2058,-49.6980,  90.8160, 3847,    325.2,   3.8796,  34.0770,2,  34.0758,2,    266.4,2,    274.7,0,    17.49,2,    27.59,2,     0.01,2,     1.90,2,    4.540,2,    2.468,2, -999.000,5,   2162.3,2,   2277.7,2,     42.8,2,    31.20,2, -999.000,9, -999.000,-999.0000,9,-999.0000,  -999.00,9,  -999.00, -999.000,9, -999.000,   -999.0,9,   -999.0,  -999.00,9,-999.0000,9,-999.0000,9,-999.0000,9,-999.0000,9,-999.0000,9,-999.0000,9
  33RR20070204,  I08S,    44,  1,     26,     26,2,20070228,2058,-49.6980,  90.8160, 3847,    375.3,   3.8141,  34.1420,2,  34.1399,2,    262.1,2,    256.0,2,    20.97,2,    28.52,2,     0.01,2,     1.97,2, -999.000,9, -999.000,9, -999.000,9,   2170.3,2,   2280.7,2,     42.6,2,    31.67,2, -999.000,9, -999.000,-999.0000,9,-999.0000,  -999.00,9,  -999.00, -999.000,9, -999.000,   -999.0,9,   -999.0,  -999.00,9,-999.0000,9,-999.0000,9,-999.0000,9,-999.0000,9,-999.0000,9,-999.0000,9
  33RR20070204,  I08S,    44,  1,     25,     25,2,20070228,2058,-49.6980,  90.8160, 3847,    426.9,   3.5978,  34.1606,2,  34.1587,2,    252.6,2,    251.3,2,    23.42,2,    29.20,2,     0.01,2,     2.02,2,    3.965,2,    2.113,2, -999.000,5,   2175.6,2,   2281.8,2,     42.6,2,    32.32,2, -999.000,9, -999.000,-999.0000,9,-999.0000,  -999.00,9,  -999.00, -999.000,9, -999.000,   -999.0,9,   -999.0,  -999.00,9,-999.0000,9,-999.0000,9,-999.0000,9,-999.0000,9,-999.0000,9,-999.0000,9
  33RR20070204,  I08S,    44,  1,     24,     24,2,20070228,2058,-49.6980,  90.8160, 3847,    477.8,   3.3884,  34.1771,2,  34.1744,2,    249.5,2,    246.6,2,    26.91,2,    30.03,2,     0.01,2,     2.07,2, -999.000,9, -999.000,9, -999.000,9,   2181.5,2,   2282.9,2,     42.1,2,    33.40,2, -999.000,9, -999.000,-999.0000,9,-999.0000,  -999.00,9,  -999.00, -999.000,9, -999.000,   -999.0,9,   -999.0,  -999.00,9,-999.0000,9,-999.0000,9,-999.0000,9,-999.0000,9,-999.0000,9,-999.0000,9
  33RR20070204,  I08S,    44,  1,     23,     23,2,20070228,2058,-49.6980,  90.8160, 3847,    527.5,   3.2943,  34.2032,2,  34.1975,2,    239.4,2,    240.1,2,    29.99,2,    30.62,2,     0.01,2,     2.12,2,    3.512,2,    1.837,2, -999.000,5,   2189.5,2,   2287.6,2,     41.6,2,    32.80,2, -999.000,9, -999.000,-999.0000,9,-999.0000,  -999.00,9,  -999.00, -999.000,9, -999.000,   -999.0,9,   -999.0,  -999.00,9,-999.0000,9,-999.0000,9,-999.0000,9,-999.0000,9,-999.0000,9,-999.0000,9
  33RR20070204,  I08S,    44,  1,     22,     22,2,20070228,2058,-49.6980,  90.8160, 3847,    647.7,   2.8481,  34.2636,2,  34.2613,2,    222.4,2,    221.8,2,    41.09,2,    32.39,2,     0.00,2,     2.24,2, -999.000,9, -999.000,9, -999.000,9,   2206.1,2,   2296.8,2,     41.2,2,    35.25,2, -999.000,9, -999.000,-999.0000,9,-999.0000,  -999.00,9,  -999.00, -999.000,9, -999.000,   -999.0,9,   -999.0,  -999.00,9,-999.0000,9,-999.0000,9,-999.0000,9,-999.0000,9,-999.0000,9,-999.0000,9
  33RR20070204,  I08S,    44,  1,     21,     21,2,20070228,2058,-49.6980,  90.8160, 3847,    747.8,   2.9067,  34.3485,2,  34.3466,2,    204.5,2,    201.5,2,    49.11,2,    33.32,2,     0.00,2,     2.31,2,    1.929,2,    0.989,2, -999.000,5,   2220.1,2,   2304.4,2,     40.8,2,    35.94,2, -999.000,9, -999.000,-999.0000,9,-999.0000,  -999.00,9,  -999.00, -999.000,9, -999.000,   -999.0,9,   -999.0,  -999.00,9,-999.0000,9,-999.0000,9,-999.0000,9,-999.0000,9,-999.0000,9,-999.0000,9
  33RR20070204,  I08S,    44,  1,     20,     20,2,20070228,2058,-49.6980,  90.8160, 3847,    849.3,   2.7584,  34.4105,2,  34.4069,2,    189.9,2,    191.1,2,    56.53,2,    33.81,2,     0.00,2,     2.34,2, -999.000,9, -999.000,9, -999.000,9,   2232.1,2,   2312.8,2,     41.2,2,    36.18,2, -999.000,9, -999.000,-999.0000,9,-999.0000,  -999.00,9,  -999.00, -999.000,9, -999.000,   -999.0,9,   -999.0,  -999.00,9,-999.0000,9,-999.0000,9,-999.0000,9,-999.0000,9,-999.0000,9,-999.0000,9
  33RR20070204,  I08S,    44,  1,     19,     19,2,20070228,2058,-49.6980,  90.8160, 3847,    949.7,   2.8068,  34.4790,2,  34.4773,2,    181.8,2,    180.8,2,    61.48,2,    33.90,2,     0.00,2,     2.35,2,    0.920,2,    0.475,2, -999.000,5,   2242.4,2,   2319.7,2,     41.1,2,    36.88,2, -999.000,9, -999.000,-999.0000,9,-999.0000,  -999.00,9,  -999.00, -999.000,9, -999.000,   -999.0,9,   -999.0,  -999.00,9,-999.0000,9,-999.0000,9,-999.0000,9,-999.0000,9,-999.0000,9,-999.0000,9
  33RR20070204,  I08S,    44,  1,     18,     18,2,20070228,2058,-49.6980,  90.8160, 3847,   1050.9,   2.7189,  34.5250,2,  34.5235,2,    178.1,2,    177.0,2,    65.19,2,    33.75,2,     0.00,2,     2.34,2, -999.000,9, -999.000,9, -999.000,9,   2244.9,6,   2323.0,2,     40.5,2,    34.94,2, -999.000,9, -999.000,-999.0000,9,-999.0000,  -999.00,9,  -999.00, -999.000,9, -999.000,   -999.0,9,   -999.0,  -999.00,9,-999.0000,9,-999.0000,9,-999.0000,9,-999.0000,9,-999.0000,9,-999.0000,9
  33RR20070204,  I08S,    44,  1,     17,     17,2,20070228,2058,-49.6980,  90.8160, 3847,   1151.0,   2.6260,  34.5668,2,  34.5661,2,    176.7,2,    175.7,2,    68.49,2,    33.50,2,     0.00,2,     2.33,2,    0.534,2,    0.269,2, -999.000,5,   2246.5,2,   2328.2,2,     40.7,2,    34.82,2, -999.000,9, -999.000,-999.0000,9,-999.0000,  -999.00,9,  -999.00, -999.000,9, -999.000,   -999.0,9,   -999.0,  -999.00,9,-999.0000,9,-999.0000,9,-999.0000,9,-999.0000,9,-999.0000,9,-999.0000,9
  33RR20070204,  I08S,    44,  1,     16,     16,2,20070228,2058,-49.6980,  90.8160, 3847,   1250.3,   2.5984,  34.6089,2,  34.6069,2,    177.0,2,    176.2,2,    70.35,2,    32.96,2,     0.00,2,     2.29,2, -999.000,9, -999.000,9, -999.000,9,   2248.8,2,   2331.5,2,     41.0,2,    34.52,2, -999.000,9, -999.000,-999.0000,9,-999.0000,  -999.00,9,  -999.00, -999.000,9, -999.000,   -999.0,9,   -999.0,  -999.00,9,-999.0000,9,-999.0000,9,-999.0000,9,-999.0000,9,-999.0000,9,-999.0000,9
  33RR20070204,  I08S,    44,  1,     15,     15,2,20070228,2058,-49.6980,  90.8160, 3847,   1353.3,   2.5186,  34.6403,2,  34.6382,2,    178.4,2,    178.1,2,    71.78,2,    32.51,2,     0.00,2,     2.26,2,    0.325,2,    0.162,2, -999.000,5,   2246.0,2,   2332.5,2,     40.9,2,    34.15,2, -999.000,9, -999.000,-999.0000,9,-999.0000,  -999.00,9,  -999.00, -999.000,9, -999.000,   -999.0,9,   -999.0,  -999.00,9,-999.0000,9,-999.0000,9,-999.0000,9,-999.0000,9,-999.0000,9,-999.0000,9
  33RR20070204,  I08S,    44,  1,     14,     14,2,20070228,2058,-49.6980,  90.8160, 3847,   1454.8,   2.4999,  34.6739,2,  34.6716,2,    180.1,2,    181.4,2,    72.60,2,    31.77,2,     0.00,2,     2.20,2, -999.000,9, -999.000,9, -999.000,9,   2242.1,2,   2336.2,2,     41.2,2,    33.18,2, -999.000,9, -999.000,-999.0000,9,-999.0000,  -999.00,9,  -999.00, -999.000,9, -999.000,   -999.0,9,   -999.0,  -999.00,9,-999.0000,9,-999.0000,9,-999.0000,9,-999.0000,9,-999.0000,9,-999.0000,9
  33RR20070204,  I08S,    44,  1,     13,     13,2,20070228,2058,-49.6980,  90.8160, 3847,   1554.8,   2.4394,  34.6910,2,  34.6893,2,    183.4,2,    183.0,2,    73.84,2,    31.42,2,     0.00,2,     2.17,2,    0.209,2,    0.102,2, -999.000,5,   2244.0,2,   2336.2,2,     40.8,2,    33.40,2, -999.000,9, -999.000,-999.0000,9,-999.0000,  -999.00,9,  -999.00, -999.000,9, -999.000,   -999.0,9,   -999.0,  -999.00,9,-999.0000,9,-999.0000,9,-999.0000,9,-999.0000,9,-999.0000,9,-999.0000,9
  33RR20070204,  I08S,    44,  1,     12,     12,2,20070228,2058,-49.6980,  90.8160, 3847,   1655.2,   2.3881,  34.7143,2,  34.7121,2,    186.4,2,    186.9,2,    74.66,2,    30.83,2,     0.00,2,     2.13,2, -999.000,9, -999.000,9, -999.000,9,   2245.6,2,   2337.0,2,     40.8,2,    32.37,2, -999.000,9, -999.000,-999.0000,9,-999.0000,  -999.00,9,  -999.00, -999.000,9, -999.000,   -999.0,9,   -999.0,  -999.00,9,-999.0000,9,-999.0000,9,-999.0000,9,-999.0000,9,-999.0000,9,-999.0000,9
  33RR20070204,  I08S,    44,  1,     11,     11,2,20070228,2058,-49.6980,  90.8160, 3847,   1756.7,   2.3202,  34.7298,2,  34.7272,2,    189.0,2,    189.9,2,    75.48,2,    30.48,2,     0.00,2,     2.10,2,    0.144,2,    0.069,2, -999.000,5,   2244.9,2,   2340.3,2,     41.0,2,    31.78,2, -999.000,9, -999.000,-999.0000,9,-999.0000,  -999.00,9,  -999.00, -999.000,9, -999.000,   -999.0,9,   -999.0,  -999.00,9,-999.0000,9,-999.0000,9,-999.0000,9,-999.0000,9,-999.0000,9,-999.0000,9
  33RR20070204,  I08S,    44,  1,     10,     10,2,20070228,2058,-49.6980,  90.8160, 3847,   1857.9,   2.2572,  34.7409,2,  34.7390,2,    191.8,2,    192.7,2,    77.13,2,    30.13,2,     0.00,2,     2.08,2, -999.000,9, -999.000,9, -999.000,9,   2242.8,2,   2335.4,3,     40.4,2,    31.41,2, -999.000,9, -999.000,-999.0000,9,-999.0000,  -999.00,9,  -999.00, -999.000,9, -999.000,   -999.0,9,   -999.0,  -999.00,9,-999.0000,9,-999.0000,9,-999.0000,9,-999.0000,9,-999.0000,9,-999.0000,9
  33RR20070204,  I08S,    44,  1,      9,      9,2,20070228,2058,-49.6980,  90.8160, 3847,   1958.9,   2.1816,  34.7484,2,  34.7459,2,    193.9,2,    194.7,2,    78.77,2,    29.99,2,     0.00,2,     2.07,2,    0.111,2,    0.052,2, -999.000,5,   2241.5,2,   2343.3,2,     40.7,2,    31.94,2, -999.000,9, -999.000,-999.0000,9,-999.0000,  -999.00,9,  -999.00, -999.000,9, -999.000,   -999.0,9,   -999.0,  -999.00,9,-999.0000,9,-999.0000,9,-999.0000,9,-999.0000,9,-999.0000,9,-999.0000,9
  33RR20070204,  I08S,    44,  1,      8,      8,2,20070228,2058,-49.6980,  90.8160, 3847,   2119.9,   2.0728,  34.7580,2,  34.7559,2,    197.3,2,    198.4,2,    81.25,2,    29.69,2,     0.00,2,     2.04,2, -999.000,9, -999.000,9, -999.000,9,   2241.1,6,   2346.3,2,     40.4,2,    31.20,2, -999.000,9, -999.000,-999.0000,9,-999.0000,  -999.00,9,  -999.00, -999.000,9, -999.000,   -999.0,9,   -999.0,  -999.00,9,-999.0000,9,-999.0000,9,-999.0000,9,-999.0000,9,-999.0000,9,-999.0000,9
  33RR20070204,  I08S,    44,  1,      7,      7,2,20070228,2058,-49.6980,  90.8160, 3847,   2374.7,   1.8491,  34.7550,2,  34.7535,2,    199.4,2,    200.1,2,    88.10,2,    29.93,2,     0.00,2,     2.07,2,    0.096,2,    0.045,2, -999.000,5,   2244.9,2,   2349.6,2,     40.3,2,    31.89,2, -999.000,9, -999.000,-999.0000,9,-999.0000,  -999.00,9,  -999.00, -999.000,9, -999.000,   -999.0,9,   -999.0,  -999.00,9,-999.0000,9,-999.0000,9,-999.0000,9,-999.0000,9,-999.0000,9,-999.0000,9
  33RR20070204,  I08S,    44,  1,      6,      6,2,20070228,2058,-49.6980,  90.8160, 3847,   2626.5,   1.6104,  34.7465,2,  34.7449,0,    201.8,2,    202.0,2,    95.99,2,    30.37,2,     0.00,2,     2.10,2, -999.000,9, -999.000,9, -999.000,9,   2248.4,2,   2352.4,2,     40.0,2,    31.95,2, -999.000,9, -999.000,-999.0000,9,-999.0000,  -999.00,9,  -999.00, -999.000,9, -999.000,   -999.0,9,   -999.0,  -999.00,9,-999.0000,9,-999.0000,9,-999.0000,9,-999.0000,9,-999.0000,9,-999.0000,9
  33RR20070204,  I08S,    44,  1,      5,      5,2,20070228,2058,-49.6980,  90.8160, 3847,   2880.4,   1.3484,  34.7339,2,  34.7321,0,    203.8,2,    204.1,2,   104.12,2,    30.86,2,     0.00,2,     2.14,2,    0.132,2,    0.065,2, -999.000,5,   2250.9,2,   2353.1,2,     40.6,2,    31.89,2, -999.000,9, -999.000,-999.0000,9,-999.0000,  -999.00,9,  -999.00, -999.000,9, -999.000,   -999.0,9,   -999.0,  -999.00,9,-999.0000,9,-999.0000,9,-999.0000,9,-999.0000,9,-999.0000,9,-999.0000,9
  33RR20070204,  I08S,    44,  1,      4,      4,2,20070228,2058,-49.6980,  90.8160, 3847,   3135.2,   1.1546,  34.7236,2,  34.7219,0,    206.3,2,    206.7,2,   110.17,2,    31.30,2,     0.00,2,     2.17,2,    0.158,2,    0.076,2, -999.000,5,   2253.1,2,   2355.3,2,     40.9,2,    32.52,2, -999.000,9, -999.000,-999.0000,9,-999.0000,  -999.00,9,  -999.00, -999.000,9, -999.000,   -999.0,9,   -999.0,  -999.00,9,-999.0000,9,-999.0000,9,-999.0000,9,-999.0000,9,-999.0000,9,-999.0000,9
  33RR20070204,  I08S,    44,  1,      3,      3,2,20070228,2058,-49.6980,  90.8160, 3847,   3389.8,   0.8939,  34.7101,2,  34.7081,0,    209.4,2,    209.9,2,   116.85,2,    31.69,2,     0.00,2,     2.20,2,    0.257,2,    0.124,2, -999.000,5,   2253.0,2,   2354.6,2,     40.5,2,    33.49,2, -999.000,9, -999.000,-999.0000,9,-999.0000,  -999.00,9,  -999.00, -999.000,9, -999.000,   -999.0,9,   -999.0,  -999.00,9,-999.0000,9,-999.0000,9,-999.0000,9,-999.0000,9,-999.0000,9,-999.0000,9
  33RR20070204,  I08S,    44,  1,      2,      2,2,20070228,2058,-49.6980,  90.8160, 3847,   3644.9,   0.6570,  34.6990,2,  34.6969,0,    214.3,2,    214.6,2,   123.34,2,    31.92,2,     0.00,2,     2.22,2,    0.432,2,    0.214,2, -999.000,5,   2255.8,2,   2356.8,2,     40.7,2,    33.32,2, -999.000,9, -999.000,-999.0000,9,-999.0000,  -999.00,9,  -999.00, -999.000,9, -999.000,   -999.0,9,   -999.0,  -999.00,9,-999.0000,9,-999.0000,9,-999.0000,9,-999.0000,9,-999.0000,9,-999.0000,9
  33RR20070204,  I08S,    44,  1,      1,      1,2,20070228,2058,-49.6980,  90.8160, 3847,   3891.2,   0.5081,  34.6908,2,  34.6893,2,    218.0,2,    217.5,2,   125.84,2,    32.12,2,     0.00,2,     2.24,2,    0.538,2,    0.269,2, -999.000,5,   2258.7,6,   2355.5,2,     40.4,2,    33.23,2, -999.000,9, -999.000,-999.0000,9,-999.0000,  -999.00,9,  -999.00, -999.000,9, -999.000,   -999.0,9,   -999.0,  -999.00,9,-999.0000,9,-999.0000,9,-999.0000,9,-999.0000,9,-999.0000,9,-999.0000,9