BOTTLE,20150626SIOCCHRJL
EXPOCODE,SECT_ID,STNNBR,CASTNO,SAMPNO,BTLNBR,BTLNBR_FLAG_W,DATE,TIME,LATITUDE,LONGITUDE,DEPTH,CTDPRS,CTDTMP,CTDSAL,CTDSAL_FLAG_W,SALNTY,SALNTY_FLAG_W,CTDOXY,CTDOXY_FLAG_W,OXYGEN,OXYGEN_FLAG_W,SILCAT,SILCAT_FLAG_W,NITRAT,NITRAT_FLAG_W,NITRIT,NITRIT_FLAG_W,PHSPHT,PHSPHT_FLAG_W,CFC-11,CFC-11_FLAG_W,CFC-12,CFC-12_FLAG_W,CFC113,CFC113_FLAG_W,TCARBN,TCARBN_FLAG_W,ALKALI,ALKALI_FLAG_W,DOC,DOC_FLAG_W,TDN,TDN_FLAG_W,TRITUM,TRITUM_FLAG_W,TRITER,HELIUM,HELIUM_FLAG_W,HELIER,DELHE3,DELHE3_FLAG_W,DELHER,NEON,NEON_FLAG_W,NEONER,DELC14,DELC14_FLAG_W,C14ERR,DELC13,DELC13_FLAG_W,CDOM325,CDOM325_FLAG_W,CDOM340,CDOM340_FLAG_W,CDOM380,CDOM380_FLAG_W,CDOM412,CDOM412_FLAG_W,CDOMSL,CDOMSL_FLAG_W,CDOMSN,CDOMSN_FLAG_W
,,,,,,,,,,,METERS,DBAR,ITS-90,PSS-78,,PSS-78,,UMOL/KG,,UMOL/KG,,UMOL/KG,,UMOL/KG,,UMOL/KG,,UMOL/KG,,PMOL/KG,,PMOL/KG,,PMOL/KG,,UMOL/KG,,UMOL/KG,,UMOL/KG,,UMOL/KG,,TU,,TU,NMOL/KG,,NMOL/KG,PERCNT,,PERCNT,NMOL/KG,,NMOL/KG,/MILLE,,/MILLE,/MILLE,,1/M,,1/M,,1/M,,1/M,,1/NM,,1/NM,
  33RR20070204,  I08S,    43,  1,     36,     38,2,20070228,1338,-50.1248,  90.4248, 4025,      4.7,   6.7490,  33.7604,2,  33.7603,2,    300.2,2,    300.8,2,     1.55,2,    17.68,2,     0.22,2,     1.39,2,    4.494,2,    2.538,2, -999.000,5,   2101.9,2,   2271.2,2,   -999.0,9,  -999.00,9,    0.132,2,    0.006,   1.8211,2,   0.0007,    -1.32,2,     0.20,    7.896,2,    0.009,   -999.0,9,   -999.0,  -999.00,9,-999.0000,9,-999.0000,9,-999.0000,9,-999.0000,9,-999.0000,9,-999.0000,9
  33RR20070204,  I08S,    43,  1,     35,     35,2,20070228,1338,-50.1248,  90.4248, 4025,     30.9,   6.7508,  33.7602,2,  33.7595,2,    301.0,2,    300.1,2,     1.55,2,    17.73,2,     0.22,2,     1.39,2,    4.483,2,    2.533,2, -999.000,5,   2102.2,2,   2272.7,2,   -999.0,9,  -999.00,9,    0.001,2,    0.003,   1.8457,2,   0.0007,    -1.42,2,     0.19,    8.021,2,    0.009,   -999.0,9,   -999.0,  -999.00,9,-999.0000,9,-999.0000,9,-999.0000,9,-999.0000,9,-999.0000,9,-999.0000,9
  33RR20070204,  I08S,    43,  1,     34,   9433,2,20070228,1338,-50.1248,  90.4248, 4025,     56.0,   6.3758,  33.7580,2,  33.7575,2,    299.9,2,    299.5,2,     1.95,2,    17.91,2,     0.23,2,     1.41,2,    4.551,2,    2.573,2, -999.000,5,   2105.2,2,   2271.7,2,   -999.0,9,  -999.00,9,    0.143,2,    0.006,   1.7898,2,   0.0005,    -1.93,2,     0.20,    7.780,2,    0.009,   -999.0,9,   -999.0,  -999.00,9,-999.0000,9,-999.0000,9,-999.0000,9,-999.0000,9,-999.0000,9,-999.0000,9
  33RR20070204,  I08S,    43,  1,     33,     33,2,20070228,1338,-50.1248,  90.4248, 4025,     80.6,   5.7916,  33.7688,2,  33.7667,2,    311.9,2,    303.3,2,     3.19,2,    18.86,2,     0.27,2,     1.48,2,    4.710,2,    2.657,2, -999.000,5,   2112.1,2,   2273.7,2,   -999.0,9,  -999.00,9,    0.114,2,    0.005,   1.8036,2,   0.0005,    -1.64,2,     0.20,    7.840,2,    0.009,   -999.0,9,   -999.0,  -999.00,9,-999.0000,9,-999.0000,9,-999.0000,9,-999.0000,9,-999.0000,9,-999.0000,9
  33RR20070204,  I08S,    43,  1,     32,     37,2,20070228,1338,-50.1248,  90.4248, 4025,    106.4,   5.5314,  33.7887,2,  33.8025,2,    299.9,2,    299.5,2,     3.79,2,    19.99,2,     0.34,2,     1.54,2,    4.804,2,    2.692,2, -999.000,5,   2118.7,2,   2273.0,2,   -999.0,9,  -999.00,9,    0.138,2,    0.006,   1.8067,2,   0.0006,    -1.32,2,     0.20,    7.877,2,    0.010,   -999.0,9,   -999.0,  -999.00,9,-999.0000,9,-999.0000,9,-999.0000,9,-999.0000,9,-999.0000,9,-999.0000,9
  33RR20070204,  I08S,    43,  1,     31,     31,2,20070228,1338,-50.1248,  90.4248, 4025,    155.9,   5.2400,  34.0214,2,  34.0174,2,    276.7,2,    277.0,2,     7.48,2,    23.42,2,     0.01,2,     1.64,2,    4.639,2,    2.571,2, -999.000,5,   2139.2,2,   2272.0,2,   -999.0,9,  -999.00,9,    0.175,2,    0.006,   1.8597,2,   0.0007,    -1.23,2,     0.19,    8.067,2,    0.010,   -999.0,9,   -999.0,  -999.00,9,-999.0000,9,-999.0000,9,-999.0000,9,-999.0000,9,-999.0000,9,-999.0000,9
  33RR20070204,  I08S,    43,  1,     30,     30,2,20070228,1338,-50.1248,  90.4248, 4025,    206.5,   5.3124,  34.1288,2,  34.1279,2,    276.1,2,    265.0,2,    11.16,2,    24.37,2,     0.01,2,     1.69,2,    4.315,2,    2.368,2, -999.000,5,   2147.5,2,   2276.2,2,   -999.0,9,  -999.00,9, -999.000,9, -999.000,   1.8113,2,   0.0007,    -0.71,2,     0.20,    7.901,2,    0.009,   -999.0,9,   -999.0,  -999.00,9,-999.0000,9,-999.0000,9,-999.0000,9,-999.0000,9,-999.0000,9,-999.0000,9
  33RR20070204,  I08S,    43,  1,     29,     29,2,20070228,1338,-50.1248,  90.4248, 4025,    256.6,   5.1527,  34.1617,2,  34.1569,2,    269.4,2,    257.5,2,    13.61,2,    25.42,2,     0.01,2,     1.76,2,    4.182,2,    2.287,2, -999.000,5,   -999.0,9,   -999.0,9,   -999.0,9,  -999.00,9,    0.131,2,    0.006,   1.8243,2,   0.0005,    -0.64,2,     0.20,    8.015,2,    0.007,   -999.0,9,   -999.0,  -999.00,9,-999.0000,9,-999.0000,9,-999.0000,9,-999.0000,9,-999.0000,9,-999.0000,9
  33RR20070204,  I08S,    43,  1,     28,     28,2,20070228,1338,-50.1248,  90.4248, 4025,    306.5,   4.3607,  34.1060,2,  34.1049,2,    261.2,2,    264.1,2,    16.06,2,    26.68,2,     0.00,2,     1.86,2,    4.396,2,    2.415,2, -999.000,5,   2159.6,2,   2277.5,2,   -999.0,9,  -999.00,9,    0.100,2,    0.007,   1.8232,2,   0.0007,    -0.29,2,     0.19,    8.061,2,    0.007,   -999.0,9,   -999.0,  -999.00,9,-999.0000,9,-999.0000,9,-999.0000,9,-999.0000,9,-999.0000,9,-999.0000,9
  33RR20070204,  I08S,    43,  1,     27,     27,2,20070228,1338,-50.1248,  90.4248, 4025,    356.3,   4.6492,  34.2174,2,  34.2300,2,    233.4,2,    239.8,2,    19.14,2,    27.45,2,     0.00,2,     1.91,2,    3.681,2,    1.970,2, -999.000,5,   -999.0,9,   -999.0,9,   -999.0,9,  -999.00,9,    0.112,2,    0.006,   1.8075,2,   0.0006,     0.15,2,     0.19,    7.908,2,    0.007,   -999.0,9,   -999.0,  -999.00,9,-999.0000,9,-999.0000,9,-999.0000,9,-999.0000,9,-999.0000,9,-999.0000,9
  33RR20070204,  I08S,    43,  1,     26,     26,2,20070228,1338,-50.1248,  90.4248, 4025,    406.1,   3.3753,  34.0973,2,  34.0929,2,    256.6,2,    268.6,2,    21.80,2,    28.41,2,     0.00,2,     1.96,2,    4.476,2,    2.434,2, -999.000,5,   2169.5,2,   2280.5,2,   -999.0,9,  -999.00,9,    0.099,2,    0.005,   1.8171,2,   0.0004,     0.56,2,     0.19,    8.036,2,    0.010,   -999.0,9,   -999.0,  -999.00,9,-999.0000,9,-999.0000,9,-999.0000,9,-999.0000,9,-999.0000,9,-999.0000,9
  33RR20070204,  I08S,    43,  1,     25,     25,2,20070228,1338,-50.1248,  90.4248, 4025,    456.4,   3.5386,  34.1722,2,  34.1725,2,    249.2,2,    248.7,2,    25.08,2,    29.23,2,     0.00,2,     2.02,2,    3.843,2,    2.041,2, -999.000,5,   -999.0,9,   -999.0,9,   -999.0,9,  -999.00,9,    0.083,2,    0.005,   1.8112,2,   0.0006,     0.73,2,     0.21,    7.968,2,    0.007,   -999.0,9,   -999.0,  -999.00,9,-999.0000,9,-999.0000,9,-999.0000,9,-999.0000,9,-999.0000,9,-999.0000,9
  33RR20070204,  I08S,    43,  1,     24,     24,2,20070228,1338,-50.1248,  90.4248, 4025,    507.5,   2.8128,  34.1211,2,  34.1219,2,    247.6,2,    262.1,2,    27.75,2,    29.80,2,     0.00,2,     2.07,2,    4.178,2,    2.244,2, -999.000,5,   2180.6,2,   2283.7,2,   -999.0,9,  -999.00,9,    0.066,2,    0.005,   1.8074,2,   0.0006,     0.10,2,     0.19,    8.051,2,    0.008,   -999.0,9,   -999.0,  -999.00,9,-999.0000,9,-999.0000,9,-999.0000,9,-999.0000,9,-999.0000,9,-999.0000,9
  33RR20070204,  I08S,    43,  1,     23,     23,2,20070228,1338,-50.1248,  90.4248, 4025,    608.1,   3.0591,  34.2420,2,  34.2416,2,    232.7,2,    229.7,2,    36.38,2,    31.34,2,     0.00,2,     2.18,2,    3.005,2,    1.557,2, -999.000,5,   2197.6,2,   2292.5,2,   -999.0,9,  -999.00,9,    0.036,2,    0.005,   1.8359,2,   0.0007,     2.07,2,     0.19,    8.067,2,    0.009,   -999.0,9,   -999.0,  -999.00,9,-999.0000,9,-999.0000,9,-999.0000,9,-999.0000,9,-999.0000,9,-999.0000,9
  33RR20070204,  I08S,    43,  1,     22,     22,2,20070228,1338,-50.1248,  90.4248, 4025,    706.8,   2.8916,  34.3022,2,  34.2995,2,    210.6,2,    213.0,2,    44.19,2,    32.55,2,     0.00,2,     2.26,2,    2.403,2,    1.241,2, -999.000,5,   -999.0,9,   -999.0,9,   -999.0,9,  -999.00,9,    0.047,2,    0.005,   1.8345,2,   0.0006,     3.41,2,     0.20,    8.106,2,    0.007,   -999.0,9,   -999.0,  -999.00,9,-999.0000,9,-999.0000,9,-999.0000,9,-999.0000,9,-999.0000,9,-999.0000,9
  33RR20070204,  I08S,    43,  1,     21,     21,2,20070228,1338,-50.1248,  90.4248, 4025,    807.7,   2.7751,  34.3733,2,  34.3724,2,    197.4,2,    197.5,2,    52.43,2,    33.32,2,     0.00,2,     2.33,2,    1.751,2,    0.910,2, -999.000,5,   2224.9,2,   2309.1,2,   -999.0,9,  -999.00,9,    0.041,2,    0.004,   1.8444,2,   0.0006,     3.83,2,     0.20,    8.095,2,    0.007,   -999.0,9,   -999.0,  -999.00,9,-999.0000,9,-999.0000,9,-999.0000,9,-999.0000,9,-999.0000,9,-999.0000,9
  33RR20070204,  I08S,    43,  1,     20,     20,2,20070228,1338,-50.1248,  90.4248, 4025,    909.2,   2.6369,  34.4307,2,  34.4413,0,    188.2,2,    188.4,2,    59.24,2,    33.71,2,     0.00,2,     2.35,2,    1.332,2,    0.698,2, -999.000,5,   -999.0,9,   -999.0,9,   -999.0,9,  -999.00,9,    0.044,2,    0.004,   1.8404,2,   0.0004,     5.14,2,     0.20,    8.056,2,    0.009,   -999.0,9,   -999.0,  -999.00,9,-999.0000,9,-999.0000,9,-999.0000,9,-999.0000,9,-999.0000,9,-999.0000,9
  33RR20070204,  I08S,    43,  1,     19,     19,2,20070228,1338,-50.1248,  90.4248, 4025,   1009.7,   2.5984,  34.4895,2,  34.4889,2,    182.2,2,    181.0,2,    64.40,2,    33.76,2,     0.00,2,     2.36,2,    0.973,2,    0.508,2, -999.000,5,   2239.4,2,   2321.0,2,   -999.0,9,  -999.00,9, -999.000,9, -999.000,-999.0000,9,-999.0000,  -999.00,9,  -999.00, -999.000,9, -999.000,   -999.0,9,   -999.0,  -999.00,9,-999.0000,9,-999.0000,9,-999.0000,9,-999.0000,9,-999.0000,9,-999.0000,9
  33RR20070204,  I08S,    43,  1,     18,     18,2,20070228,1338,-50.1248,  90.4248, 4025,   1110.8,   2.5280,  34.5406,2,  34.5404,2,    178.2,2,    177.6,2,    68.53,2,    33.55,2,     0.00,2,     2.34,2,    0.731,2,    0.379,2, -999.000,5,   2243.4,2,   2326.5,2,   -999.0,9,  -999.00,9,    0.001,2,    0.003,   1.8365,2,   0.0008,     7.76,2,     0.20,    8.055,2,    0.009,   -999.0,9,   -999.0,  -999.00,9,-999.0000,9,-999.0000,9,-999.0000,9,-999.0000,9,-999.0000,9,-999.0000,9
  33RR20070204,  I08S,    43,  1,     17,     17,2,20070228,1338,-50.1248,  90.4248, 4025,   1211.1,   2.4901,  34.5835,2,  34.5829,2,    177.0,2,    176.6,2,    70.79,2,    33.16,2,     0.00,2,     2.32,2,    0.558,2,    0.287,2, -999.000,5,   2247.1,6,   2329.4,2,   -999.0,9,  -999.00,9,    0.025,2,    0.004,   1.8627,2,   0.0004,     8.34,2,     0.20,    8.095,2,    0.008,   -999.0,9,   -999.0,  -999.00,9,-999.0000,9,-999.0000,9,-999.0000,9,-999.0000,9,-999.0000,9,-999.0000,9
  33RR20070204,  I08S,    43,  1,     16,     16,2,20070228,1338,-50.1248,  90.4248, 4025,   1311.9,   2.4753,  34.6382,2,  34.6377,2,    178.1,2,    178.1,2,    72.64,2,    32.39,2,     0.00,2,     2.26,2, -999.000,9, -999.000,9, -999.000,9,   2244.3,2,   2332.3,2,   -999.0,9,  -999.00,9, -999.000,9, -999.000,-999.0000,9,-999.0000,  -999.00,9,  -999.00, -999.000,9, -999.000,   -999.0,9,   -999.0,  -999.00,9,-999.0000,9,-999.0000,9,-999.0000,9,-999.0000,9,-999.0000,9,-999.0000,9
  33RR20070204,  I08S,    43,  1,     15,     15,2,20070228,1338,-50.1248,  90.4248, 4025,   1414.4,   2.3796,  34.6649,2,  34.6642,2,    179.8,2,    180.6,2,    74.91,2,    31.95,2,     0.00,2,     2.23,2,    0.324,2,    0.161,2, -999.000,5,   -999.0,9,   -999.0,9,   -999.0,9,  -999.00,9,    0.001,2,    0.003,   1.8657,2,   0.0006,     8.90,2,     0.21,    8.173,2,    0.007,   -999.0,9,   -999.0,  -999.00,9,-999.0000,9,-999.0000,9,-999.0000,9,-999.0000,9,-999.0000,9,-999.0000,9
  33RR20070204,  I08S,    43,  1,     14,     14,2,20070228,1338,-50.1248,  90.4248, 4025,   1514.5,   2.3240,  34.6903,2,  34.6901,2,    182.6,2,    182.7,2,    76.14,2,    31.46,2,     0.00,2,     2.19,2, -999.000,9, -999.000,9, -999.000,9,   -999.0,9,   -999.0,9,   -999.0,9,  -999.00,9, -999.000,9, -999.000,-999.0000,9,-999.0000,  -999.00,9,  -999.00, -999.000,9, -999.000,   -999.0,9,   -999.0,  -999.00,9,-999.0000,9,-999.0000,9,-999.0000,9,-999.0000,9,-999.0000,9,-999.0000,9
  33RR20070204,  I08S,    43,  1,     13,     13,2,20070228,1338,-50.1248,  90.4248, 4025,   1615.5,   2.2806,  34.7119,2,  34.7111,2,    185.3,2,    185.7,2,    76.75,2,    30.92,2,     0.00,2,     2.15,2,    0.216,2,    0.110,2, -999.000,5,   -999.0,9,   -999.0,9,   -999.0,9,  -999.00,9,    0.001,2,    0.007,   1.8518,2,   0.0004,     8.77,2,     0.20,    8.090,2,    0.009,   -999.0,9,   -999.0,  -999.00,9,-999.0000,9,-999.0000,9,-999.0000,9,-999.0000,9,-999.0000,9,-999.0000,9
  33RR20070204,  I08S,    43,  1,     12,     12,2,20070228,1338,-50.1248,  90.4248, 4025,   1716.4,   2.2222,  34.7269,2,  34.7264,2,    188.8,2,    189.1,2,    77.98,2,    30.54,2,     0.00,2,     2.12,2,    0.185,2,    0.090,2, -999.000,5,   -999.0,9,   -999.0,9,   -999.0,9,  -999.00,9,    0.001,2,    0.004,   1.8716,2,   0.0005,     8.42,2,     0.16,    8.228,2,    0.013,   -999.0,9,   -999.0,  -999.00,9,-999.0000,9,-999.0000,9,-999.0000,9,-999.0000,9,-999.0000,9,-999.0000,9
  33RR20070204,  I08S,    43,  1,     11,     11,2,20070228,1338,-50.1248,  90.4248, 4025,   1817.5,   2.1797,  34.7439,2,  34.7441,2,    192.5,2,    193.2,2,    78.60,2,    29.91,2,     0.00,2,     2.08,2,    0.130,2,    0.063,2, -999.000,5,   -999.0,9,   2342.7,2,   -999.0,9,  -999.00,9, -999.000,9, -999.000,   1.8807,2,   0.0004,     8.65,2,     0.19,    8.218,2,    0.009,   -999.0,9,   -999.0,  -999.00,9,-999.0000,9,-999.0000,9,-999.0000,9,-999.0000,9,-999.0000,9,-999.0000,9
  33RR20070204,  I08S,    43,  1,     10,     10,2,20070228,1338,-50.1248,  90.4248, 4025,   1918.8,   2.1151,  34.7487,2,  34.7490,2,    194.9,2,    194.9,2,    79.83,2,    29.76,2,     0.00,2,     2.07,2,    0.123,2,    0.060,2, -999.000,5,   -999.0,9,   -999.0,9,   -999.0,9,  -999.00,9,    0.001,2,    0.004,   1.8666,2,   0.0005,     9.07,2,     0.19,    8.143,2,    0.009,   -999.0,9,   -999.0,  -999.00,9,-999.0000,9,-999.0000,9,-999.0000,9,-999.0000,9,-999.0000,9,-999.0000,9
  33RR20070204,  I08S,    43,  1,      9,      9,2,20070228,1338,-50.1248,  90.4248, 4025,   2019.7,   2.0629,  34.7551,2,  34.7548,2,    197.6,2,    197.2,2,    81.48,2,    29.61,2,     0.00,2,     2.05,2,    0.098,2,    0.045,2, -999.000,5,   2241.3,6,   2345.4,2,   -999.0,9,  -999.00,9,    0.008,2,    0.006,   1.9124,2,   0.0005,     8.66,2,     0.17,    8.379,2,    0.014,   -999.0,9,   -999.0,  -999.00,9,-999.0000,9,-999.0000,9,-999.0000,9,-999.0000,9,-999.0000,9,-999.0000,9
  33RR20070204,  I08S,    43,  1,      8,      8,2,20070228,1338,-50.1248,  90.4248, 4025,   2272.8,   1.8509,  34.7563,2,  34.7558,2,    200.4,2,    200.0,2,    88.12,2,    29.71,2,     0.00,2,     2.06,2,    0.086,2,    0.040,2, -999.000,5,   -999.0,9,   -999.0,9,   -999.0,9,  -999.00,9,    0.001,2,    0.004,   1.8956,2,   0.0004,     8.36,2,     0.19,    8.213,2,    0.012,   -999.0,9,   -999.0,  -999.00,9,-999.0000,9,-999.0000,9,-999.0000,9,-999.0000,9,-999.0000,9,-999.0000,9
  33RR20070204,  I08S,    43,  1,      7,      7,2,20070228,1338,-50.1248,  90.4248, 4025,   2526.3,   1.5407,  34.7437,2,  34.7435,2,    202.5,2,    202.0,2,    97.47,2,    30.24,2,     0.00,2,     2.10,2,    0.108,2,    0.050,2, -999.000,5,   -999.0,9,   2352.2,2,   -999.0,9,  -999.00,9,    0.001,2,    0.003,   1.9289,2,   0.0005,     8.92,2,     0.17,    8.386,2,    0.017,   -999.0,9,   -999.0,  -999.00,9,-999.0000,9,-999.0000,9,-999.0000,9,-999.0000,9,-999.0000,9,-999.0000,9
  33RR20070204,  I08S,    43,  1,      6,      6,2,20070228,1338,-50.1248,  90.4248, 4025,   2778.8,   1.3034,  34.7325,2,  34.7323,2,    204.8,2,    204.2,2,   104.97,2,    30.77,2,     0.00,2,     2.14,2, -999.000,9, -999.000,9, -999.000,9,   -999.0,9,   -999.0,9,   -999.0,9,  -999.00,9, -999.000,9, -999.000,-999.0000,9,-999.0000,  -999.00,9,  -999.00, -999.000,9, -999.000,   -999.0,9,   -999.0,  -999.00,9,-999.0000,9,-999.0000,9,-999.0000,9,-999.0000,9,-999.0000,9,-999.0000,9
  33RR20070204,  I08S,    43,  1,      5,      5,2,20070228,1338,-50.1248,  90.4248, 4025,   3034.0,   1.0541,  34.7194,2,  34.7191,2,    207.3,2,    207.8,2,   112.26,2,    31.20,2,     0.00,2,     2.18,2,    0.175,2,    0.086,2, -999.000,5,   2254.1,2,   2356.7,2,   -999.0,9,  -999.00,9, -999.000,9, -999.000,   1.8925,2,   0.0005,     8.13,2,     0.17,    8.254,2,    0.014,   -999.0,9,   -999.0,  -999.00,9,-999.0000,9,-999.0000,9,-999.0000,9,-999.0000,9,-999.0000,9,-999.0000,9
  33RR20070204,  I08S,    43,  1,      4,      4,2,20070228,1338,-50.1248,  90.4248, 4025,   3288.8,   0.8089,  34.7070,2,  34.7065,2,    211.3,2,    211.1,2,   118.54,2,    31.54,2,     0.00,2,     2.20,2, -999.000,9, -999.000,9, -999.000,9,   -999.0,9,   -999.0,9,   -999.0,9,  -999.00,9, -999.000,9, -999.000,-999.0000,9,-999.0000,  -999.00,9,  -999.00, -999.000,9, -999.000,   -999.0,9,   -999.0,  -999.00,9,-999.0000,9,-999.0000,9,-999.0000,9,-999.0000,9,-999.0000,9,-999.0000,9
  33RR20070204,  I08S,    43,  1,      3,      3,2,20070228,1338,-50.1248,  90.4248, 4025,   3542.7,   0.4931,  34.6920,2,  34.6919,2,    216.9,2,    217.3,2,   125.44,2,    31.87,2,     0.00,2,     2.22,2,    0.517,2,    0.259,2, -999.000,5,   2255.7,2,   2353.7,2,   -999.0,9,  -999.00,9,    0.017,2,    0.005,   1.9487,2,   0.0004,     7.00,2,     0.17,    8.507,2,    0.010,   -999.0,9,   -999.0,  -999.00,9,-999.0000,9,-999.0000,9,-999.0000,9,-999.0000,9,-999.0000,9,-999.0000,9
  33RR20070204,  I08S,    43,  1,      2,      2,2,20070228,1338,-50.1248,  90.4248, 4025,   3848.0,   0.4074,  34.6867,2,  34.6858,2,    219.8,2,    219.6,2,   127.31,2,    31.92,2,     0.00,2,     2.23,2,    0.605,2,    0.309,2, -999.000,5,   2255.4,2,   2353.6,2,   -999.0,9,  -999.00,9,    0.001,2,    0.004,   1.9168,2,   0.0005,     7.30,2,     0.17,    8.435,2,    0.014,   -999.0,9,   -999.0,  -999.00,9,-999.0000,9,-999.0000,9,-999.0000,9,-999.0000,9,-999.0000,9,-999.0000,9
  33RR20070204,  I08S,    43,  1,      1,      1,2,20070228,1338,-50.1248,  90.4248, 4025,   4086.2,   0.3891,  34.6847,2,  34.6840,2,    219.9,2,    220.4,2,   127.72,2,    32.01,2,     0.00,2,     2.23,2,    0.640,2,    0.328,2, -999.000,5,   2257.7,6,   2355.0,2,   -999.0,9,  -999.00,9,    0.001,2,    0.005,   1.8975,2,   0.0005,     6.88,2,     0.17,    8.394,2,    0.015,   -999.0,9,   -999.0,  -999.00,9,-999.0000,9,-999.0000,9,-999.0000,9,-999.0000,9,-999.0000,9,-999.0000,9