BOTTLE,20150626SIOCCHRJL
EXPOCODE,SECT_ID,STNNBR,CASTNO,SAMPNO,BTLNBR,BTLNBR_FLAG_W,DATE,TIME,LATITUDE,LONGITUDE,DEPTH,CTDPRS,CTDTMP,CTDSAL,CTDSAL_FLAG_W,SALNTY,SALNTY_FLAG_W,CTDOXY,CTDOXY_FLAG_W,OXYGEN,OXYGEN_FLAG_W,SILCAT,SILCAT_FLAG_W,NITRAT,NITRAT_FLAG_W,NITRIT,NITRIT_FLAG_W,PHSPHT,PHSPHT_FLAG_W,CFC-11,CFC-11_FLAG_W,CFC-12,CFC-12_FLAG_W,CFC113,CFC113_FLAG_W,TCARBN,TCARBN_FLAG_W,ALKALI,ALKALI_FLAG_W,DOC,DOC_FLAG_W,TDN,TDN_FLAG_W,TRITUM,TRITUM_FLAG_W,TRITER,HELIUM,HELIUM_FLAG_W,HELIER,DELHE3,DELHE3_FLAG_W,DELHER,NEON,NEON_FLAG_W,NEONER,DELC14,DELC14_FLAG_W,C14ERR,DELC13,DELC13_FLAG_W,CDOM325,CDOM325_FLAG_W,CDOM340,CDOM340_FLAG_W,CDOM380,CDOM380_FLAG_W,CDOM412,CDOM412_FLAG_W,CDOMSL,CDOMSL_FLAG_W,CDOMSN,CDOMSN_FLAG_W
,,,,,,,,,,,METERS,DBAR,ITS-90,PSS-78,,PSS-78,,UMOL/KG,,UMOL/KG,,UMOL/KG,,UMOL/KG,,UMOL/KG,,UMOL/KG,,PMOL/KG,,PMOL/KG,,PMOL/KG,,UMOL/KG,,UMOL/KG,,UMOL/KG,,UMOL/KG,,TU,,TU,NMOL/KG,,NMOL/KG,PERCNT,,PERCNT,NMOL/KG,,NMOL/KG,/MILLE,,/MILLE,/MILLE,,1/M,,1/M,,1/M,,1/M,,1/NM,,1/NM,
  33RR20070204,  I08S,    84,  3,     25,     25,2,20070312,0809,-30.6988,  95.0042, 1607,      3.1,  20.7512,  35.7231,2,  35.7224,2,    226.6,2,    227.1,2,     0.54,2,     0.14,2,     0.00,2,     0.15,2,    2.176,2,    1.360,2, -999.000,5,   2068.5,6,   2347.5,2,     67.1,2,     4.29,2, -999.000,9, -999.000,-999.0000,9,-999.0000,  -999.00,9,  -999.00, -999.000,9, -999.000,   -999.0,9,   -999.0,  -999.00,9,   0.0677,2,   0.0460,2,   0.0213,2,   0.0162,2,   0.0140,3,   0.0182,3
  33RR20070204,  I08S,    84,  3,     24,     24,2,20070312,0809,-30.6988,  95.0042, 1607,     19.4,  20.6210,  35.7205,2,  35.7206,2,    227.6,2,    227.4,2,     0.54,2,     0.14,2,     0.00,2,     0.16,2,    2.178,2,    1.346,2, -999.000,5,   2070.1,2,   2347.4,2,     65.4,2,     4.18,2, -999.000,9, -999.000,-999.0000,9,-999.0000,  -999.00,9,  -999.00, -999.000,9, -999.000,   -999.0,9,   -999.0,  -999.00,9,   0.0664,2,   0.0433,2,   0.0193,2,   0.0144,2,   0.0155,3,   0.0205,3
  33RR20070204,  I08S,    84,  3,     23,     23,2,20070312,0809,-30.6988,  95.0042, 1607,     44.1,  20.3737,  35.7097,2,  35.7254,2,    230.3,2,    228.0,2,     0.54,2,     0.14,2,     0.00,2,     0.15,2,    2.218,2,    1.350,2, -999.000,5,   2072.7,2,   2349.7,2,     63.1,2,     4.48,2, -999.000,9, -999.000,-999.0000,9,-999.0000,  -999.00,9,  -999.00, -999.000,9, -999.000,   -999.0,9,   -999.0,  -999.00,9,   0.0690,2,   0.0459,2,   0.0220,2,   0.0167,2,   0.0141,3,   0.0180,3
  33RR20070204,  I08S,    84,  3,     22,     22,2,20070312,0809,-30.6988,  95.0042, 1607,     58.2,  17.1001,  35.3758,2,  35.3752,2,    268.5,2,    268.6,2,     0.54,2,     0.18,2,     0.01,2,     0.19,2,    2.756,2,    1.647,2, -999.000,5,   2063.4,2,   2331.5,2,     61.1,2,     4.57,2, -999.000,9, -999.000,-999.0000,9,-999.0000,  -999.00,9,  -999.00, -999.000,9, -999.000,   -999.0,9,   -999.0,  -999.00,9,   0.1491,2,   0.1055,2,   0.0517,2,   0.0359,2,   0.0144,3,   0.0168,3
  33RR20070204,  I08S,    84,  3,     21,     21,2,20070312,0809,-30.6988,  95.0042, 1607,     89.1,  14.3584,  35.3551,2,  35.3567,2,    247.3,2,    244.3,2,     1.10,2,     2.77,2,     0.64,2,     0.40,2,    2.971,2,    1.756,2, -999.000,5,   2095.7,2,   2324.2,2,     58.7,2,     7.18,2, -999.000,9, -999.000,-999.0000,9,-999.0000,  -999.00,9,  -999.00, -999.000,9, -999.000,   -999.0,9,   -999.0,  -999.00,9,   0.1027,2,   0.0748,2,   0.0394,2,   0.0299,2,   0.0140,2,   0.0151,2
  33RR20070204,  I08S,    84,  3,     20,     20,2,20070312,0809,-30.6988,  95.0042, 1607,    139.2,  13.5318,  35.3045,2,  35.3052,2,    238.6,2,    238.3,2,     1.30,2,     5.74,2,     0.04,2,     0.52,2, -999.000,5, -999.000,5, -999.000,5,   2105.3,2,   2323.9,2,     54.0,2,     8.98,2, -999.000,9, -999.000,-999.0000,9,-999.0000,  -999.00,9,  -999.00, -999.000,9, -999.000,   -999.0,9,   -999.0,  -999.00,9,   0.0824,2,   0.0581,2,   0.0311,2,   0.0247,2,   0.0131,2,   0.0148,3
  33RR20070204,  I08S,    84,  3,     19,     19,2,20070312,0809,-30.6988,  95.0042, 1607,    164.2,  13.3764,  35.2934,2,  35.2897,2,    237.0,2,    237.2,2,     1.48,2,     6.22,2,     0.01,2,     0.54,2,    3.137,2,    1.818,2, -999.000,5,   2107.6,2,   2319.6,2,     51.6,2,     9.86,2, -999.000,9, -999.000,-999.0000,9,-999.0000,  -999.00,9,  -999.00, -999.000,9, -999.000,   -999.0,9,   -999.0,  -999.00,9,   0.0816,2,   0.0573,2,   0.0306,2,   0.0243,2,   0.0131,2,   0.0148,3
  33RR20070204,  I08S,    84,  3,     18,     18,2,20070312,0809,-30.6988,  95.0042, 1607,    189.3,  13.0679,  35.2739,2,  35.2755,2,    234.7,2,    234.2,2,     1.68,2,     6.95,2,     0.01,2,     0.59,2,    3.198,2,    1.846,2, -999.000,5,   2110.0,2,   2316.8,2,     51.0,2,    10.88,2, -999.000,9, -999.000,-999.0000,9,-999.0000,  -999.00,9,  -999.00, -999.000,9, -999.000,   -999.0,9,   -999.0,  -999.00,9,   0.0820,2,   0.0576,2,   0.0307,2,   0.0241,2,   0.0134,2,   0.0151,3
  33RR20070204,  I08S,    84,  3,     17,     17,2,20070312,0809,-30.6988,  95.0042, 1607,    239.4,  12.5331,  35.2097,2,  35.1973,2,    235.9,2,    235.2,2,     1.87,2,     8.05,2,     0.01,2,     0.64,2,    3.146,2,    1.778,2, -999.000,5,   2111.9,2,   2313.4,2,     48.9,2,    11.96,2, -999.000,9, -999.000,-999.0000,9,-999.0000,  -999.00,9,  -999.00, -999.000,9, -999.000,   -999.0,9,   -999.0,  -999.00,9,   0.0843,2,   0.0597,2,   0.0327,2,   0.0256,2,   0.0127,2,   0.0143,3
  33RR20070204,  I08S,    84,  3,     16,     16,2,20070312,0809,-30.6988,  95.0042, 1607,    289.4,  11.7328,  35.0710,2,  35.0666,2,    238.8,2,    239.3,2,     2.44,2,     9.67,2,     0.00,2,     0.74,2,    3.350,2,    1.882,2, -999.000,5,   2113.5,2,   2306.2,2,     46.8,2,    13.23,2, -999.000,9, -999.000,-999.0000,9,-999.0000,  -999.00,9,  -999.00, -999.000,9, -999.000,   -999.0,9,   -999.0,  -999.00,9,   0.0781,2,   0.0530,2,   0.0279,2,   0.0216,2,   0.0135,3,   0.0159,3
  33RR20070204,  I08S,    84,  3,     15,     15,2,20070312,0809,-30.6988,  95.0042, 1607,    339.4,  11.1175,  34.9636,2,  34.9617,2,    241.6,2,    242.0,2,     3.01,2,    11.20,2,     0.00,2,     0.83,2,    3.467,2,    1.942,2, -999.000,5,   2115.8,2,   2302.2,2,     45.5,2,    14.58,2, -999.000,9, -999.000,-999.0000,9,-999.0000,  -999.00,9,  -999.00, -999.000,9, -999.000,   -999.0,9,   -999.0,  -999.00,9,   0.0786,2,   0.0545,2,   0.0300,2,   0.0235,2,   0.0127,2,   0.0146,3
  33RR20070204,  I08S,    84,  3,     14,     14,2,20070312,0809,-30.6988,  95.0042, 1607,    389.4,  10.6752,  34.8942,2,  34.8948,2,    241.9,2,    243.0,2,     3.39,2,    12.34,2,     0.00,2,     0.91,2,    3.543,2,    1.989,2, -999.000,5,   2117.6,2,   2297.5,2,     45.2,2,    15.52,2, -999.000,9, -999.000,-999.0000,9,-999.0000,  -999.00,9,  -999.00, -999.000,9, -999.000,   -999.0,9,   -999.0,  -999.00,9,   0.0754,2,   0.0514,2,   0.0275,2,   0.0213,2,   0.0131,2,   0.0154,3
  33RR20070204,  I08S,    84,  3,     13,     13,2,20070312,0809,-30.6988,  95.0042, 1607,    439.6,  10.4330,  34.8561,2,  34.8541,2,    242.8,2,    243.0,2,     3.39,2,    12.87,2,     0.00,2,     0.94,2,    3.521,2,    1.952,2, -999.000,5,   2117.3,2,   2295.9,2,     44.7,2,    16.25,2, -999.000,9, -999.000,-999.0000,9,-999.0000,  -999.00,9,  -999.00, -999.000,9, -999.000,   -999.0,9,   -999.0,  -999.00,9,   0.0743,2,   0.0504,2,   0.0271,2,   0.0212,2,   0.0130,2,   0.0153,3
  33RR20070204,  I08S,    84,  3,     12,     12,2,20070312,0809,-30.6988,  95.0042, 1607,    489.2,  10.0884,  34.8014,2,  34.8006,2,    243.7,2,    243.9,2,     3.59,2,    13.72,2,     0.00,2,     0.99,2,    3.629,2,    2.024,2, -999.000,5,   2118.8,2,   2286.2,3,     43.5,2,    17.51,2, -999.000,9, -999.000,-999.0000,9,-999.0000,  -999.00,9,  -999.00, -999.000,9, -999.000,   -999.0,9,   -999.0,  -999.00,9,   0.0734,2,   0.0498,2,   0.0268,2,   0.0209,2,   0.0129,2,   0.0153,3
  33RR20070204,  I08S,    84,  3,     11,     11,2,20070312,0809,-30.6988,  95.0042, 1607,    574.4,   9.5484,  34.7165,2,  34.7161,2,    243.7,2,    243.4,2,     4.15,2,    15.20,2,     0.00,2,     1.07,2, -999.000,5, -999.000,5, -999.000,5,   2121.8,2,   2289.1,2,     42.7,2,    17.71,2, -999.000,9, -999.000,-999.0000,9,-999.0000,  -999.00,9,  -999.00, -999.000,9, -999.000,   -999.0,9,   -999.0,  -999.00,9,   0.0757,2,   0.0510,2,   0.0279,2,   0.0221,2,   0.0127,3,   0.0149,3
  33RR20070204,  I08S,    84,  3,     10,     10,2,20070312,0809,-30.6988,  95.0042, 1607,    675.0,   8.9627,  34.6373,2,  34.6382,2,    234.0,2,    233.0,2,     5.68,2,    17.85,2,     0.00,2,     1.24,2,    3.479,2,    1.853,2, -999.000,5,   2130.0,2,   2287.1,2,     42.1,2,    20.52,2, -999.000,9, -999.000,-999.0000,9,-999.0000,  -999.00,9,  -999.00, -999.000,9, -999.000,   -999.0,9,   -999.0,  -999.00,9,   0.0773,2,   0.0520,2,   0.0283,2,   0.0221,2,   0.0128,3,   0.0151,3
  33RR20070204,  I08S,    84,  3,      9,      9,2,20070312,0809,-30.6988,  95.0042, 1607,    775.1,   7.9091,  34.5311,2,  34.5316,2,    216.4,2,    214.4,2,    10.43,2,    21.94,2,     0.00,2,     1.50,2,    2.782,2,    1.407,2, -999.000,5,   2147.4,2,   2284.4,2,     41.4,2,    24.79,2, -999.000,9, -999.000,-999.0000,9,-999.0000,  -999.00,9,  -999.00, -999.000,9, -999.000,   -999.0,9,   -999.0,  -999.00,9,   0.0873,2,   0.0591,2,   0.0328,2,   0.0254,2,   0.0127,3,   0.0147,3
  33RR20070204,  I08S,    84,  3,      8,      8,2,20070312,0809,-30.6988,  95.0042, 1607,    875.8,   6.4209,  34.4356,2,  34.4350,2,    202.3,2,    204.3,2,    19.39,2,    26.45,2,     0.00,2,     1.82,2,    1.861,2,    0.944,2, -999.000,5,   2170.3,2,   2287.0,2,     40.7,2,    29.02,2, -999.000,9, -999.000,-999.0000,9,-999.0000,  -999.00,9,  -999.00, -999.000,9, -999.000,   -999.0,9,   -999.0,  -999.00,9,   0.0904,2,   0.0603,2,   0.0331,2,   0.0252,2,   0.0132,3,   0.0153,3
  33RR20070204,  I08S,    84,  3,      7,      7,2,20070312,0809,-30.6988,  95.0042, 1607,    976.0,   5.1644,  34.3950,2,  34.3961,2,    193.5,2,    193.5,2,    30.26,2,    29.50,2,     0.00,2,     2.03,2,    1.318,2,    0.680,2, -999.000,5,   2188.3,2,   2295.1,2,     40.5,2,    32.00,2, -999.000,9, -999.000,-999.0000,9,-999.0000,  -999.00,9,  -999.00, -999.000,9, -999.000,   -999.0,9,   -999.0,  -999.00,9,   0.1002,2,   0.0679,2,   0.0387,2,   0.0295,2,   0.0131,3,   0.0145,3
  33RR20070204,  I08S,    84,  3,      6,      6,2,20070312,0809,-30.6988,  95.0042, 1607,   1076.6,   4.2686,  34.4073,2,  34.4087,2,    181.7,2,    181.8,2,    43.63,2,    31.74,2,     0.00,2,     2.21,2,    0.806,2,    0.416,2, -999.000,5,   2216.6,2,   2308.1,2,     40.7,2,    33.19,2, -999.000,9, -999.000,-999.0000,9,-999.0000,  -999.00,9,  -999.00, -999.000,9, -999.000,   -999.0,9,   -999.0,  -999.00,9,   0.1098,2,   0.0749,2,   0.0423,2,   0.0320,2,   0.0132,3,   0.0146,3
  33RR20070204,  I08S,    84,  3,      5,      5,2,20070312,0809,-30.6988,  95.0042, 1607,   1177.0,   3.8026,  34.4587,2,  34.4601,2,    167.3,2,    166.8,2,    57.03,2,    33.30,2,     0.00,2,     2.34,2,    0.391,2,    0.209,2, -999.000,5,   2233.5,2,   2322.3,2,     41.0,2,    34.35,2, -999.000,9, -999.000,-999.0000,9,-999.0000,  -999.00,9,  -999.00, -999.000,9, -999.000,   -999.0,9,   -999.0,  -999.00,9,   0.1207,2,   0.0836,2,   0.0477,2,   0.0361,2,   0.0133,3,   0.0142,3
  33RR20070204,  I08S,    84,  3,      4,      4,2,20070312,0809,-30.6988,  95.0042, 1607,   1277.5,   3.5349,  34.5113,2,  34.5124,2,    156.6,2,    156.1,2,    67.20,2,    34.08,2,     0.00,2,     2.39,2,    0.177,2,    0.097,2, -999.000,5,   2247.2,2,   2333.5,2,     40.9,2,    35.58,2, -999.000,9, -999.000,-999.0000,9,-999.0000,  -999.00,9,  -999.00, -999.000,9, -999.000,   -999.0,9,   -999.0,  -999.00,9,   0.1271,2,   0.0883,2,   0.0502,2,   0.0373,2,   0.0135,3,   0.0144,3
  33RR20070204,  I08S,    84,  3,      3,      3,2,20070312,0809,-30.6988,  95.0042, 1607,   1378.2,   3.2851,  34.5598,2,  34.5605,2,    151.8,2,    151.8,2,    75.28,2,    34.25,2,     0.00,2,     2.41,2, -999.000,5, -999.000,5, -999.000,5,   2255.6,2,   2341.3,2,     41.6,2,    35.66,2, -999.000,9, -999.000,-999.0000,9,-999.0000,  -999.00,9,  -999.00, -999.000,9, -999.000,   -999.0,9,   -999.0,  -999.00,9,   0.1330,2,   0.0933,2,   0.0530,2,   0.0397,2,   0.0135,3,   0.0143,3
  33RR20070204,  I08S,    84,  3,      2,      2,2,20070312,0809,-30.6988,  95.0042, 1607,   1509.3,   3.0150,  34.6118,2,  34.6133,2,    151.6,2,    151.2,2,    82.80,2,    34.12,2,     0.00,2,     2.40,2,    0.034,2,    0.018,2, -999.000,5,   2265.4,6,   2348.4,2,     41.2,2,    35.48,2, -999.000,9, -999.000,-999.0000,9,-999.0000,  -999.00,9,  -999.00, -999.000,9, -999.000,   -999.0,9,   -999.0,  -999.00,9,   0.1358,2,   0.0956,2,   0.0543,2,   0.0404,2,   0.0137,3,   0.0144,3
  33RR20070204,  I08S,    84,  3,      1,      1,2,20070312,0809,-30.6988,  95.0042, 1607,   1611.9,   2.8740,  34.6374,2,  34.6430,2,    153.0,2,    153.9,2,    86.67,2,    33.83,2,     0.00,2,     2.38,2,    0.025,2,    0.011,2, -999.000,5,   2270.6,2,   2354.7,2,     41.3,2,    34.85,2, -999.000,9, -999.000,-999.0000,9,-999.0000,  -999.00,9,  -999.00, -999.000,9, -999.000,   -999.0,9,   -999.0,  -999.00,9,   0.1379,2,   0.0968,2,   0.0548,2,   0.0403,2,   0.0137,2,   0.0145,3