BOTTLE,20150626SIOCCHRJL
EXPOCODE,SECT_ID,STNNBR,CASTNO,SAMPNO,BTLNBR,BTLNBR_FLAG_W,DATE,TIME,LATITUDE,LONGITUDE,DEPTH,CTDPRS,CTDTMP,CTDSAL,CTDSAL_FLAG_W,SALNTY,SALNTY_FLAG_W,CTDOXY,CTDOXY_FLAG_W,OXYGEN,OXYGEN_FLAG_W,SILCAT,SILCAT_FLAG_W,NITRAT,NITRAT_FLAG_W,NITRIT,NITRIT_FLAG_W,PHSPHT,PHSPHT_FLAG_W,CFC-11,CFC-11_FLAG_W,CFC-12,CFC-12_FLAG_W,CFC113,CFC113_FLAG_W,TCARBN,TCARBN_FLAG_W,ALKALI,ALKALI_FLAG_W,DOC,DOC_FLAG_W,TDN,TDN_FLAG_W,TRITUM,TRITUM_FLAG_W,TRITER,HELIUM,HELIUM_FLAG_W,HELIER,DELHE3,DELHE3_FLAG_W,DELHER,NEON,NEON_FLAG_W,NEONER,DELC14,DELC14_FLAG_W,C14ERR,DELC13,DELC13_FLAG_W,CDOM325,CDOM325_FLAG_W,CDOM340,CDOM340_FLAG_W,CDOM380,CDOM380_FLAG_W,CDOM412,CDOM412_FLAG_W,CDOMSL,CDOMSL_FLAG_W,CDOMSN,CDOMSN_FLAG_W
,,,,,,,,,,,METERS,DBAR,ITS-90,PSS-78,,PSS-78,,UMOL/KG,,UMOL/KG,,UMOL/KG,,UMOL/KG,,UMOL/KG,,UMOL/KG,,PMOL/KG,,PMOL/KG,,PMOL/KG,,UMOL/KG,,UMOL/KG,,UMOL/KG,,UMOL/KG,,TU,,TU,NMOL/KG,,NMOL/KG,PERCNT,,PERCNT,NMOL/KG,,NMOL/KG,/MILLE,,/MILLE,/MILLE,,1/M,,1/M,,1/M,,1/M,,1/NM,,1/NM,
  33RR20070204,  I08S,    85,  1,     28,     28,2,20070312,1242,-30.1153,  94.9997, 2052,      3.5,  21.8272,  36.1483,2,  36.1482,2,    219.6,2,    220.7,2,     1.68,2,     0.15,2,     0.00,2,     0.11,2,    2.025,2,    1.276,2, -999.000,5,   2068.0,6,   2367.3,2,   -999.0,9,  -999.00,9, -999.000,9, -999.000,-999.0000,9,-999.0000,  -999.00,9,  -999.00, -999.000,9, -999.000,   -999.0,9,   -999.0,  -999.00,9,-999.0000,9,-999.0000,9,-999.0000,9,-999.0000,9,-999.0000,9,-999.0000,9
  33RR20070204,  I08S,    85,  1,     27,     27,2,20070312,1242,-30.1153,  94.9997, 2052,     28.8,  21.6114,  36.1391,2,  36.1393,2,    221.5,2,    221.2,2,     1.68,2,     0.15,2,     0.00,2,     0.10,2, -999.000,9, -999.000,9, -999.000,9,   -999.0,9,   2367.1,2,   -999.0,9,  -999.00,9, -999.000,9, -999.000,-999.0000,9,-999.0000,  -999.00,9,  -999.00, -999.000,9, -999.000,   -999.0,9,   -999.0,  -999.00,9,-999.0000,9,-999.0000,9,-999.0000,9,-999.0000,9,-999.0000,9,-999.0000,9
  33RR20070204,  I08S,    85,  1,     26,     26,2,20070312,1242,-30.1153,  94.9997, 2052,     54.1,  21.5753,  36.1336,2,  36.1342,2,    222.8,2,    221.4,2,     1.67,2,     0.15,2,     0.00,2,     0.10,2,    2.025,2,    1.285,2, -999.000,5,   -999.0,9,   2366.4,2,   -999.0,9,  -999.00,9, -999.000,9, -999.000,-999.0000,9,-999.0000,  -999.00,9,  -999.00, -999.000,9, -999.000,   -999.0,9,   -999.0,  -999.00,9,-999.0000,9,-999.0000,9,-999.0000,9,-999.0000,9,-999.0000,9,-999.0000,9
  33RR20070204,  I08S,    85,  1,     25,     25,2,20070312,1242,-30.1153,  94.9997, 2052,     79.1,  17.8539,  35.8685,2,  35.8750,2,    241.3,2,    241.3,2,     1.47,2,     0.10,2,     0.00,2,     0.14,2, -999.000,9, -999.000,9, -999.000,9,   -999.0,9,   2350.5,2,   -999.0,9,  -999.00,9, -999.000,9, -999.000,-999.0000,9,-999.0000,  -999.00,9,  -999.00, -999.000,9, -999.000,   -999.0,9,   -999.0,  -999.00,9,-999.0000,9,-999.0000,9,-999.0000,9,-999.0000,9,-999.0000,9,-999.0000,9
  33RR20070204,  I08S,    85,  1,     24,     24,2,20070312,1242,-30.1153,  94.9997, 2052,    104.2,  16.9212,  35.8106,2,  35.8096,2,    238.3,2,    235.1,2,     1.46,2,     0.15,2,     0.01,2,     0.19,2,    2.573,2,    1.543,2, -999.000,5,   2082.4,2,   2347.8,2,   -999.0,9,  -999.00,9, -999.000,9, -999.000,-999.0000,9,-999.0000,  -999.00,9,  -999.00, -999.000,9, -999.000,   -999.0,9,   -999.0,  -999.00,9,-999.0000,9,-999.0000,9,-999.0000,9,-999.0000,9,-999.0000,9,-999.0000,9
  33RR20070204,  I08S,    85,  1,     23,     23,2,20070312,1242,-30.1153,  94.9997, 2052,    154.2,  15.1094,  35.6046,2,  35.6076,2,    228.6,2,    226.2,2,     1.66,2,     3.49,2,     0.03,2,     0.38,2,    2.790,2,    1.670,2, -999.000,5,   -999.0,9,   -999.0,9,   -999.0,9,  -999.00,9, -999.000,9, -999.000,-999.0000,9,-999.0000,  -999.00,9,  -999.00, -999.000,9, -999.000,   -999.0,9,   -999.0,  -999.00,9,-999.0000,9,-999.0000,9,-999.0000,9,-999.0000,9,-999.0000,9,-999.0000,9
  33RR20070204,  I08S,    85,  1,     22,     22,2,20070312,1242,-30.1153,  94.9997, 2052,    203.8,  13.8558,  35.4258,2,  35.4145,2,    229.2,2,    229.6,2,     1.85,2,     5.65,2,     0.01,2,     0.50,2, -999.000,9, -999.000,9, -999.000,9,   2105.7,2,   2324.8,2,   -999.0,9,  -999.00,9, -999.000,9, -999.000,-999.0000,9,-999.0000,  -999.00,9,  -999.00, -999.000,9, -999.000,   -999.0,9,   -999.0,  -999.00,9,-999.0000,9,-999.0000,9,-999.0000,9,-999.0000,9,-999.0000,9,-999.0000,9
  33RR20070204,  I08S,    85,  1,     21,     21,2,20070312,1242,-30.1153,  94.9997, 2052,    254.4,  12.7135,  35.2394,2,  35.2409,2,    234.6,2,    233.8,2,     2.04,2,     7.70,2,     0.01,2,     0.62,2,    3.237,2,    1.848,2, -999.000,5,   -999.0,9,   -999.0,9,   -999.0,9,  -999.00,9, -999.000,9, -999.000,-999.0000,9,-999.0000,  -999.00,9,  -999.00, -999.000,9, -999.000,   -999.0,9,   -999.0,  -999.00,9,-999.0000,9,-999.0000,9,-999.0000,9,-999.0000,9,-999.0000,9,-999.0000,9
  33RR20070204,  I08S,    85,  1,     20,     20,2,20070312,1242,-30.1153,  94.9997, 2052,    303.7,  11.8887,  35.0925,2,  35.0957,2,    237.3,2,    237.9,2,     2.62,2,     9.42,2,     0.01,2,     0.73,2, -999.000,9, -999.000,9, -999.000,9,   -999.0,9,   2307.7,2,   -999.0,9,  -999.00,9, -999.000,9, -999.000,-999.0000,9,-999.0000,  -999.00,9,  -999.00, -999.000,9, -999.000,   -999.0,9,   -999.0,  -999.00,9,-999.0000,9,-999.0000,9,-999.0000,9,-999.0000,9,-999.0000,9,-999.0000,9
  33RR20070204,  I08S,    85,  1,     19,     19,2,20070312,1242,-30.1153,  94.9997, 2052,    354.1,  11.1866,  34.9798,2,  34.9762,2,    240.8,2,    241.2,2,     3.01,2,    10.97,2,     0.00,2,     0.83,2,    3.455,2,    1.949,2, -999.000,5,   -999.0,9,   -999.0,9,   -999.0,9,  -999.00,9, -999.000,9, -999.000,-999.0000,9,-999.0000,  -999.00,9,  -999.00, -999.000,9, -999.000,   -999.0,9,   -999.0,  -999.00,9,-999.0000,9,-999.0000,9,-999.0000,9,-999.0000,9,-999.0000,9,-999.0000,9
  33RR20070204,  I08S,    85,  1,     18,     18,2,20070312,1242,-30.1153,  94.9997, 2052,    404.1,  10.6608,  34.8940,2,  34.8942,2,    242.5,2,    242.1,2,     3.39,2,    12.28,2,     0.00,2,     0.90,2, -999.000,9, -999.000,9, -999.000,9,   2116.1,2,   2297.2,2,   -999.0,9,  -999.00,9, -999.000,9, -999.000,-999.0000,9,-999.0000,  -999.00,9,  -999.00, -999.000,9, -999.000,   -999.0,9,   -999.0,  -999.00,9,-999.0000,9,-999.0000,9,-999.0000,9,-999.0000,9,-999.0000,9,-999.0000,9
  33RR20070204,  I08S,    85,  1,     17,     17,2,20070312,1242,-30.1153,  94.9997, 2052,    454.5,  10.2479,  34.8270,2,  34.8295,2,    243.5,2,    243.4,2,     3.78,2,    13.40,2,     0.00,2,     0.98,2,    3.692,2,    2.012,2, -999.000,5,   -999.0,9,   -999.0,9,   -999.0,9,  -999.00,9, -999.000,9, -999.000,-999.0000,9,-999.0000,  -999.00,9,  -999.00, -999.000,9, -999.000,   -999.0,9,   -999.0,  -999.00,9,-999.0000,9,-999.0000,9,-999.0000,9,-999.0000,9,-999.0000,9,-999.0000,9
  33RR20070204,  I08S,    85,  1,     16,     16,2,20070312,1242,-30.1153,  94.9997, 2052,    504.6,   9.9013,  34.7720,2,  34.7717,2,    243.7,2,    243.6,2,     3.97,2,    14.26,2,     0.00,2,     1.03,2, -999.000,9, -999.000,9, -999.000,9,   2119.6,2,   2291.9,2,   -999.0,9,  -999.00,9, -999.000,9, -999.000,-999.0000,9,-999.0000,  -999.00,9,  -999.00, -999.000,9, -999.000,   -999.0,9,   -999.0,  -999.00,9,-999.0000,9,-999.0000,9,-999.0000,9,-999.0000,9,-999.0000,9,-999.0000,9
  33RR20070204,  I08S,    85,  1,     15,     15,2,20070312,1242,-30.1153,  94.9997, 2052,    604.7,   9.3720,  34.6899,2,  34.6880,2,    241.2,2,    241.7,2,     4.55,2,    16.06,2,     0.00,2,     1.13,2,    3.730,2,    2.004,2, -999.000,5,   -999.0,9,   -999.0,9,   -999.0,9,  -999.00,9, -999.000,9, -999.000,-999.0000,9,-999.0000,  -999.00,9,  -999.00, -999.000,9, -999.000,   -999.0,9,   -999.0,  -999.00,9,-999.0000,9,-999.0000,9,-999.0000,9,-999.0000,9,-999.0000,9,-999.0000,9
  33RR20070204,  I08S,    85,  1,     14,     14,2,20070312,1242,-30.1153,  94.9997, 2052,    704.7,   8.6062,  34.5949,2,  34.5966,2,    227.2,2,    227.2,2,     7.08,2,    19.33,2,     0.00,2,     1.34,2, -999.000,9, -999.000,9, -999.000,9,   -999.0,9,   -999.0,9,   -999.0,9,  -999.00,9, -999.000,9, -999.000,-999.0000,9,-999.0000,  -999.00,9,  -999.00, -999.000,9, -999.000,   -999.0,9,   -999.0,  -999.00,9,-999.0000,9,-999.0000,9,-999.0000,9,-999.0000,9,-999.0000,9,-999.0000,9
  33RR20070204,  I08S,    85,  1,     13,     13,2,20070312,1242,-30.1153,  94.9997, 2052,    805.5,   7.2850,  34.4850,2,  34.4831,2,    207.1,2,    205.4,2,    14.30,2,    24.39,2,     0.00,2,     1.67,2,    2.379,2,    1.212,2, -999.000,5,   -999.0,9,   -999.0,9,   -999.0,9,  -999.00,9, -999.000,9, -999.000,-999.0000,9,-999.0000,  -999.00,9,  -999.00, -999.000,9, -999.000,   -999.0,9,   -999.0,  -999.00,9,-999.0000,9,-999.0000,9,-999.0000,9,-999.0000,9,-999.0000,9,-999.0000,9
  33RR20070204,  I08S,    85,  1,     12,     12,2,20070312,1242,-30.1153,  94.9997, 2052,    905.5,   5.8876,  34.4135,2,  34.4111,2,    197.2,2,    196.4,2,    24.65,2,    28.25,2,     0.00,2,     1.94,2,    1.645,2,    0.826,2, -999.000,5,   -999.0,9,   -999.0,9,   -999.0,9,  -999.00,9, -999.000,9, -999.000,-999.0000,9,-999.0000,  -999.00,9,  -999.00, -999.000,9, -999.000,   -999.0,9,   -999.0,  -999.00,9,-999.0000,9,-999.0000,9,-999.0000,9,-999.0000,9,-999.0000,9,-999.0000,9
  33RR20070204,  I08S,    85,  1,     11,     11,2,20070312,1242,-30.1153,  94.9997, 2052,   1005.7,   4.6748,  34.3906,2,  34.3918,2,    190.7,2,    189.0,2,    36.39,2,    30.85,2,     0.00,2,     2.15,2,    1.086,2,    0.543,2, -999.000,5,   -999.0,9,   2300.6,2,   -999.0,9,  -999.00,9, -999.000,9, -999.000,-999.0000,9,-999.0000,  -999.00,9,  -999.00, -999.000,9, -999.000,   -999.0,9,   -999.0,  -999.00,9,-999.0000,9,-999.0000,9,-999.0000,9,-999.0000,9,-999.0000,9,-999.0000,9
  33RR20070204,  I08S,    85,  1,     10,     10,2,20070312,1242,-30.1153,  94.9997, 2052,   1106.6,   4.0284,  34.4280,2,  34.4289,2,    177.5,2,    174.6,2,    50.50,2,    32.73,2,     0.00,2,     2.30,2, -999.000,9, -999.000,9, -999.000,9,   -999.0,9,   -999.0,9,   -999.0,9,  -999.00,9, -999.000,9, -999.000,-999.0000,9,-999.0000,  -999.00,9,  -999.00, -999.000,9, -999.000,   -999.0,9,   -999.0,  -999.00,9,-999.0000,9,-999.0000,9,-999.0000,9,-999.0000,9,-999.0000,9,-999.0000,9
  33RR20070204,  I08S,    85,  1,      9,      9,2,20070312,1242,-30.1153,  94.9997, 2052,   1206.9,   3.7020,  34.4778,2,  34.4798,2,    165.1,2,    162.5,2,    61.70,2,    33.85,2,     0.00,2,     2.38,2, -999.000,9, -999.000,9, -999.000,9,   -999.0,9,   -999.0,9,   -999.0,9,  -999.00,9, -999.000,9, -999.000,-999.0000,9,-999.0000,  -999.00,9,  -999.00, -999.000,9, -999.000,   -999.0,9,   -999.0,  -999.00,9,-999.0000,9,-999.0000,9,-999.0000,9,-999.0000,9,-999.0000,9,-999.0000,9
  33RR20070204,  I08S,    85,  1,      8,      8,2,20070312,1242,-30.1153,  94.9997, 2052,   1307.6,   3.5460,  34.5305,2,  34.5316,2,    154.3,2,    151.0,2,    71.34,2,    34.49,2,     0.00,2,     2.44,2, -999.000,9, -999.000,9, -999.000,9,   -999.0,9,   -999.0,9,   -999.0,9,  -999.00,9, -999.000,9, -999.000,-999.0000,9,-999.0000,  -999.00,9,  -999.00, -999.000,9, -999.000,   -999.0,9,   -999.0,  -999.00,9,-999.0000,9,-999.0000,9,-999.0000,9,-999.0000,9,-999.0000,9,-999.0000,9
  33RR20070204,  I08S,    85,  1,      7,      7,2,20070312,1242,-30.1153,  94.9997, 2052,   1408.6,   3.2901,  34.5706,2,  34.5721,2,    149.9,2,    149.2,2,    78.05,2,    34.62,2,     0.00,2,     2.45,2, -999.000,9, -999.000,9, -999.000,9,   -999.0,9,   -999.0,9,   -999.0,9,  -999.00,9, -999.000,9, -999.000,-999.0000,9,-999.0000,  -999.00,9,  -999.00, -999.000,9, -999.000,   -999.0,9,   -999.0,  -999.00,9,-999.0000,9,-999.0000,9,-999.0000,9,-999.0000,9,-999.0000,9,-999.0000,9
  33RR20070204,  I08S,    85,  1,      6,      6,2,20070312,1242,-30.1153,  94.9997, 2052,   1509.0,   3.1158,  34.6044,2,  34.6059,2,    148.6,2,    148.8,2,    82.80,2,    34.49,2,     0.00,2,     2.45,2, -999.000,9, -999.000,9, -999.000,9,   -999.0,9,   -999.0,9,   -999.0,9,  -999.00,9, -999.000,9, -999.000,-999.0000,9,-999.0000,  -999.00,9,  -999.00, -999.000,9, -999.000,   -999.0,9,   -999.0,  -999.00,9,-999.0000,9,-999.0000,9,-999.0000,9,-999.0000,9,-999.0000,9,-999.0000,9
  33RR20070204,  I08S,    85,  1,      5,      5,2,20070312,1242,-30.1153,  94.9997, 2052,   1609.8,   2.9095,  34.6360,2,  34.6377,2,    151.2,2,    151.8,2,    87.16,2,    34.15,2,     0.00,2,     2.42,2, -999.000,9, -999.000,9, -999.000,9,   -999.0,9,   2352.8,2,   -999.0,9,  -999.00,9, -999.000,9, -999.000,-999.0000,9,-999.0000,  -999.00,9,  -999.00, -999.000,9, -999.000,   -999.0,9,   -999.0,  -999.00,9,-999.0000,9,-999.0000,9,-999.0000,9,-999.0000,9,-999.0000,9,-999.0000,9
  33RR20070204,  I08S,    85,  1,      4,      4,2,20070312,1242,-30.1153,  94.9997, 2052,   1710.6,   2.7798,  34.6649,2,  34.6676,2,    152.0,2,    152.8,2,    92.32,2,    34.02,2,     0.00,2,     2.40,2, -999.000,9, -999.000,9, -999.000,9,   -999.0,9,   -999.0,9,   -999.0,9,  -999.00,9, -999.000,9, -999.000,-999.0000,9,-999.0000,  -999.00,9,  -999.00, -999.000,9, -999.000,   -999.0,9,   -999.0,  -999.00,9,-999.0000,9,-999.0000,9,-999.0000,9,-999.0000,9,-999.0000,9,-999.0000,9
  33RR20070204,  I08S,    85,  1,      3,      3,2,20070312,1242,-30.1153,  94.9997, 2052,   1811.0,   2.6020,  34.6868,2,  34.6882,2,    155.9,2,    156.2,2,    95.89,2,    33.69,2,     0.00,2,     2.38,2, -999.000,9, -999.000,9, -999.000,9,   -999.0,9,   -999.0,9,   -999.0,9,  -999.00,9, -999.000,9, -999.000,-999.0000,9,-999.0000,  -999.00,9,  -999.00, -999.000,9, -999.000,   -999.0,9,   -999.0,  -999.00,9,-999.0000,9,-999.0000,9,-999.0000,9,-999.0000,9,-999.0000,9,-999.0000,9
  33RR20070204,  I08S,    85,  1,      2,      2,2,20070312,1242,-30.1153,  94.9997, 2052,   1962.7,   2.4517,  34.7027,2,  34.7047,2,    159.7,2,    159.2,2,   100.07,2,    33.41,2,     0.00,2,     2.38,2, -999.000,9, -999.000,9, -999.000,9,   -999.0,9,   2367.3,2,   -999.0,9,  -999.00,9, -999.000,9, -999.000,-999.0000,9,-999.0000,  -999.00,9,  -999.00, -999.000,9, -999.000,   -999.0,9,   -999.0,  -999.00,9,-999.0000,9,-999.0000,9,-999.0000,9,-999.0000,9,-999.0000,9,-999.0000,9
  33RR20070204,  I08S,    85,  1,      1,      1,2,20070312,1242,-30.1153,  94.9997, 2052,   2063.4,   2.3406,  34.7111,2,  34.7136,0,    162.2,2,    162.2,2,   102.47,2,    33.22,2,     0.00,2,     2.35,2, -999.000,9, -999.000,9, -999.000,9,   2277.2,6,   2370.8,2,   -999.0,9,  -999.00,9, -999.000,9, -999.000,-999.0000,9,-999.0000,  -999.00,9,  -999.00, -999.000,9, -999.000,   -999.0,9,   -999.0,  -999.00,9,-999.0000,9,-999.0000,9,-999.0000,9,-999.0000,9,-999.0000,9,-999.0000,9