BOTTLE,20150626SIOCCHRJL
EXPOCODE,SECT_ID,STNNBR,CASTNO,SAMPNO,BTLNBR,BTLNBR_FLAG_W,DATE,TIME,LATITUDE,LONGITUDE,DEPTH,CTDPRS,CTDTMP,CTDSAL,CTDSAL_FLAG_W,SALNTY,SALNTY_FLAG_W,CTDOXY,CTDOXY_FLAG_W,OXYGEN,OXYGEN_FLAG_W,SILCAT,SILCAT_FLAG_W,NITRAT,NITRAT_FLAG_W,NITRIT,NITRIT_FLAG_W,PHSPHT,PHSPHT_FLAG_W,CFC-11,CFC-11_FLAG_W,CFC-12,CFC-12_FLAG_W,CFC113,CFC113_FLAG_W,TCARBN,TCARBN_FLAG_W,ALKALI,ALKALI_FLAG_W,DOC,DOC_FLAG_W,TDN,TDN_FLAG_W,TRITUM,TRITUM_FLAG_W,TRITER,HELIUM,HELIUM_FLAG_W,HELIER,DELHE3,DELHE3_FLAG_W,DELHER,NEON,NEON_FLAG_W,NEONER,DELC14,DELC14_FLAG_W,C14ERR,DELC13,DELC13_FLAG_W,CDOM325,CDOM325_FLAG_W,CDOM340,CDOM340_FLAG_W,CDOM380,CDOM380_FLAG_W,CDOM412,CDOM412_FLAG_W,CDOMSL,CDOMSL_FLAG_W,CDOMSN,CDOMSN_FLAG_W
,,,,,,,,,,,METERS,DBAR,ITS-90,PSS-78,,PSS-78,,UMOL/KG,,UMOL/KG,,UMOL/KG,,UMOL/KG,,UMOL/KG,,UMOL/KG,,PMOL/KG,,PMOL/KG,,PMOL/KG,,UMOL/KG,,UMOL/KG,,UMOL/KG,,UMOL/KG,,TU,,TU,NMOL/KG,,NMOL/KG,PERCNT,,PERCNT,NMOL/KG,,NMOL/KG,/MILLE,,/MILLE,/MILLE,,1/M,,1/M,,1/M,,1/M,,1/NM,,1/NM,
  33RR20070204,  I08S,    78,  2,     36,     38,2,20070310,1810,-33.5080,  95.0008, 4369,      3.7,  19.0646,  35.3679,2,  35.3679,2,    235.4,2,    235.2,2,     0.53,2,     0.31,2,     0.01,2,     0.21,2, -999.000,9, -999.000,9, -999.000,9,   2060.0,6,   2328.7,2,   -999.0,9,  -999.00,9, -999.000,9, -999.000,-999.0000,9,-999.0000,  -999.00,9,  -999.00, -999.000,9, -999.000,   -999.0,9,   -999.0,  -999.00,9,-999.0000,9,-999.0000,9,-999.0000,9,-999.0000,9,-999.0000,9,-999.0000,9
  33RR20070204,  I08S,    78,  2,     35,     35,2,20070310,1810,-33.5080,  95.0008, 4369,     21.4,  19.0633,  35.3700,2,  35.3707,2,    235.5,2,    235.6,2,     0.32,2,     0.31,2,     0.01,2,     0.21,2, -999.000,9, -999.000,9, -999.000,9,   2060.1,2,   2329.4,2,   -999.0,9,  -999.00,9, -999.000,9, -999.000,-999.0000,9,-999.0000,  -999.00,9,  -999.00, -999.000,9, -999.000,   -999.0,9,   -999.0,  -999.00,9,-999.0000,9,-999.0000,9,-999.0000,9,-999.0000,9,-999.0000,9,-999.0000,9
  33RR20070204,  I08S,    78,  2,     34,   9419,2,20070310,1810,-33.5080,  95.0008, 4369,     45.8,  19.0773,  35.5380,2,  35.5186,2,    233.8,2,    233.5,2,     0.52,2,     0.19,2,     0.01,2,     0.18,2, -999.000,9, -999.000,9, -999.000,9,   2066.2,2,   2336.2,2,   -999.0,9,  -999.00,9, -999.000,9, -999.000,-999.0000,9,-999.0000,  -999.00,9,  -999.00, -999.000,9, -999.000,   -999.0,9,   -999.0,  -999.00,9,-999.0000,9,-999.0000,9,-999.0000,9,-999.0000,9,-999.0000,9,-999.0000,9
  33RR20070204,  I08S,    78,  2,     33,     33,2,20070310,1810,-33.5080,  95.0008, 4369,     91.2,  14.2020,  35.3580,2,  35.3583,2,    241.8,2,    241.6,2,     1.10,2,     3.07,2,     1.03,2,     0.44,2, -999.000,9, -999.000,9, -999.000,9,   2099.6,2,   2324.0,2,   -999.0,9,  -999.00,9, -999.000,9, -999.000,-999.0000,9,-999.0000,  -999.00,9,  -999.00, -999.000,9, -999.000,   -999.0,9,   -999.0,  -999.00,9,-999.0000,9,-999.0000,9,-999.0000,9,-999.0000,9,-999.0000,9,-999.0000,9
  33RR20070204,  I08S,    78,  2,     32,     37,2,20070310,1810,-33.5080,  95.0008, 4369,    141.3,  13.6969,  35.3636,2,  35.3603,2,    239.3,2,    239.4,2,     1.30,2,     5.15,2,     0.02,2,     0.49,2, -999.000,9, -999.000,9, -999.000,9,   2104.5,2,   2323.1,2,   -999.0,9,  -999.00,9, -999.000,9, -999.000,-999.0000,9,-999.0000,  -999.00,9,  -999.00, -999.000,9, -999.000,   -999.0,9,   -999.0,  -999.00,9,-999.0000,9,-999.0000,9,-999.0000,9,-999.0000,9,-999.0000,9,-999.0000,9
  33RR20070204,  I08S,    78,  2,     31,     31,2,20070310,1810,-33.5080,  95.0008, 4369,    166.1,  13.3526,  35.3158,2,  35.3177,2,    238.6,2,    239.1,2,     1.30,2,     5.75,2,     0.02,2,     0.53,2, -999.000,9, -999.000,9, -999.000,9,   2105.7,2,   2320.2,2,   -999.0,9,  -999.00,9, -999.000,9, -999.000,-999.0000,9,-999.0000,  -999.00,9,  -999.00, -999.000,9, -999.000,   -999.0,9,   -999.0,  -999.00,9,-999.0000,9,-999.0000,9,-999.0000,9,-999.0000,9,-999.0000,9,-999.0000,9
  33RR20070204,  I08S,    78,  2,     30,     30,2,20070310,1810,-33.5080,  95.0008, 4369,    192.0,  12.8874,  35.2404,2,  35.2434,2,    233.7,2,    234.7,2,     1.88,2,     7.45,2,     0.01,2,     0.62,2, -999.000,9, -999.000,9, -999.000,9,   -999.0,9,   -999.0,9,   -999.0,9,  -999.00,9, -999.000,9, -999.000,-999.0000,9,-999.0000,  -999.00,9,  -999.00, -999.000,9, -999.000,   -999.0,9,   -999.0,  -999.00,9,-999.0000,9,-999.0000,9,-999.0000,9,-999.0000,9,-999.0000,9,-999.0000,9
  33RR20070204,  I08S,    78,  2,     29,     29,2,20070310,1810,-33.5080,  95.0008, 4369,    241.8,  12.2432,  35.1537,2,  35.1488,2,    237.4,2,    237.1,2,     2.08,2,     8.65,2,     0.01,2,     0.69,2, -999.000,9, -999.000,9, -999.000,9,   2114.0,2,   2310.9,2,   -999.0,9,  -999.00,9, -999.000,9, -999.000,-999.0000,9,-999.0000,  -999.00,9,  -999.00, -999.000,9, -999.000,   -999.0,9,   -999.0,  -999.00,9,-999.0000,9,-999.0000,9,-999.0000,9,-999.0000,9,-999.0000,9,-999.0000,9
  33RR20070204,  I08S,    78,  2,     28,     28,2,20070310,1810,-33.5080,  95.0008, 4369,    291.6,  11.5251,  35.0354,2,  35.0327,2,    240.8,2,    241.1,2,     2.47,2,     9.93,2,     0.01,2,     0.77,2, -999.000,9, -999.000,9, -999.000,9,   -999.0,9,   -999.0,9,   -999.0,9,  -999.00,9, -999.000,9, -999.000,-999.0000,9,-999.0000,  -999.00,9,  -999.00, -999.000,9, -999.000,   -999.0,9,   -999.0,  -999.00,9,-999.0000,9,-999.0000,9,-999.0000,9,-999.0000,9,-999.0000,9,-999.0000,9
  33RR20070204,  I08S,    78,  2,     27,     27,2,20070310,1810,-33.5080,  95.0008, 4369,    341.7,  10.9926,  34.9447,2,  34.9461,2,    243.2,2,    244.1,2,     2.87,2,    11.12,2,     0.01,2,     0.84,2, -999.000,9, -999.000,9, -999.000,9,   2116.5,2,   2300.4,2,   -999.0,9,  -999.00,9, -999.000,9, -999.000,-999.0000,9,-999.0000,  -999.00,9,  -999.00, -999.000,9, -999.000,   -999.0,9,   -999.0,  -999.00,9,-999.0000,9,-999.0000,9,-999.0000,9,-999.0000,9,-999.0000,9,-999.0000,9
  33RR20070204,  I08S,    78,  2,     26,     26,2,20070310,1810,-33.5080,  95.0008, 4369,    391.7,  10.5266,  34.8715,2,  34.8731,2,    242.3,2,    243.1,2,     3.26,2,    12.44,2,     0.01,2,     0.92,2, -999.000,9, -999.000,9, -999.000,9,   -999.0,9,   -999.0,9,   -999.0,9,  -999.00,9, -999.000,9, -999.000,-999.0000,9,-999.0000,  -999.00,9,  -999.00, -999.000,9, -999.000,   -999.0,9,   -999.0,  -999.00,9,-999.0000,9,-999.0000,9,-999.0000,9,-999.0000,9,-999.0000,9,-999.0000,9
  33RR20070204,  I08S,    78,  2,     25,     25,2,20070310,1810,-33.5080,  95.0008, 4369,    441.6,  10.1643,  34.8127,2,  34.8149,2,    244.2,2,    244.9,2,     3.65,2,    13.40,2,     0.01,2,     0.98,2, -999.000,9, -999.000,9, -999.000,9,   2118.9,2,   2294.6,2,   -999.0,9,  -999.00,9, -999.000,9, -999.000,-999.0000,9,-999.0000,  -999.00,9,  -999.00, -999.000,9, -999.000,   -999.0,9,   -999.0,  -999.00,9,-999.0000,9,-999.0000,9,-999.0000,9,-999.0000,9,-999.0000,9,-999.0000,9
  33RR20070204,  I08S,    78,  2,     24,     24,2,20070310,1810,-33.5080,  95.0008, 4369,    491.7,   9.9247,  34.7743,2,  34.7695,2,    245.4,2,    245.4,2,     3.85,2,    14.18,2,     0.01,2,     1.03,2, -999.000,9, -999.000,9, -999.000,9,   -999.0,9,   -999.0,9,   -999.0,9,  -999.00,9, -999.000,9, -999.000,-999.0000,9,-999.0000,  -999.00,9,  -999.00, -999.000,9, -999.000,   -999.0,9,   -999.0,  -999.00,9,-999.0000,9,-999.0000,9,-999.0000,9,-999.0000,9,-999.0000,9,-999.0000,9
  33RR20070204,  I08S,    78,  2,     23,     23,2,20070310,1810,-33.5080,  95.0008, 4369,    577.4,   9.4333,  34.6986,2,  34.6993,2,    244.1,2,    243.6,2,     4.24,2,    15.63,2,     0.01,2,     1.11,2, -999.000,9, -999.000,9, -999.000,9,   2123.6,2,   2289.3,2,   -999.0,9,  -999.00,9, -999.000,9, -999.000,-999.0000,9,-999.0000,  -999.00,9,  -999.00, -999.000,9, -999.000,   -999.0,9,   -999.0,  -999.00,9,-999.0000,9,-999.0000,9,-999.0000,9,-999.0000,9,-999.0000,9,-999.0000,9
  33RR20070204,  I08S,    78,  2,     22,     22,2,20070310,1810,-33.5080,  95.0008, 4369,    677.2,   8.9156,  34.6274,2,  34.6293,2,    237.5,2,    235.3,2,     5.63,2,    17.72,2,     0.01,2,     1.25,2, -999.000,9, -999.000,9, -999.000,9,   -999.0,9,   -999.0,9,   -999.0,9,  -999.00,9, -999.000,9, -999.000,-999.0000,9,-999.0000,  -999.00,9,  -999.00, -999.000,9, -999.000,   -999.0,9,   -999.0,  -999.00,9,-999.0000,9,-999.0000,9,-999.0000,9,-999.0000,9,-999.0000,9,-999.0000,9
  33RR20070204,  I08S,    78,  2,     21,     21,2,20070310,1810,-33.5080,  95.0008, 4369,    777.6,   7.8175,  34.5229,2,  34.5270,2,    216.1,2,    213.6,2,    10.77,2,    22.19,2,     0.01,2,     1.52,2, -999.000,9, -999.000,9, -999.000,9,   -999.0,9,   -999.0,9,   -999.0,9,  -999.00,9, -999.000,9, -999.000,-999.0000,9,-999.0000,  -999.00,9,  -999.00, -999.000,9, -999.000,   -999.0,9,   -999.0,  -999.00,9,-999.0000,9,-999.0000,9,-999.0000,9,-999.0000,9,-999.0000,9,-999.0000,9
  33RR20070204,  I08S,    78,  2,     20,     20,2,20070310,1810,-33.5080,  95.0008, 4369,    878.2,   6.5191,  34.4385,2,  34.4385,2,    202.0,2,    200.1,2,    18.90,2,    26.35,2,     0.01,2,     1.81,2, -999.000,9, -999.000,9, -999.000,9,   -999.0,9,   -999.0,9,   -999.0,9,  -999.00,9, -999.000,9, -999.000,-999.0000,9,-999.0000,  -999.00,9,  -999.00, -999.000,9, -999.000,   -999.0,9,   -999.0,  -999.00,9,-999.0000,9,-999.0000,9,-999.0000,9,-999.0000,9,-999.0000,9,-999.0000,9
  33RR20070204,  I08S,    78,  2,     19,     19,2,20070310,1810,-33.5080,  95.0008, 4369,    978.3,   5.2638,  34.3857,2,  34.3862,2,    198.3,2,    196.7,2,    27.82,2,    29.20,2,     0.01,2,     2.01,2, -999.000,9, -999.000,9, -999.000,9,   2187.7,2,   2292.9,2,   -999.0,9,  -999.00,9, -999.000,9, -999.000,-999.0000,9,-999.0000,  -999.00,9,  -999.00, -999.000,9, -999.000,   -999.0,9,   -999.0,  -999.00,9,-999.0000,9,-999.0000,9,-999.0000,9,-999.0000,9,-999.0000,9,-999.0000,9
  33RR20070204,  I08S,    78,  2,     18,     18,2,20070310,1810,-33.5080,  95.0008, 4369,   1079.0,   4.4330,  34.3843,2,  34.3868,2,    190.3,2,    189.3,2,    38.55,2,    31.20,2,     0.00,2,     2.17,2, -999.000,9, -999.000,9, -999.000,9,   -999.0,9,   -999.0,9,   -999.0,9,  -999.00,9, -999.000,9, -999.000,-999.0000,9,-999.0000,  -999.00,9,  -999.00, -999.000,9, -999.000,   -999.0,9,   -999.0,  -999.00,9,-999.0000,9,-999.0000,9,-999.0000,9,-999.0000,9,-999.0000,9,-999.0000,9
  33RR20070204,  I08S,    78,  2,     17,     17,2,20070310,1810,-33.5080,  95.0008, 4369,   1179.5,   3.8768,  34.4209,2,  34.4194,2,    178.3,2,    178.1,2,    49.89,2,    32.68,2,     0.00,2,     2.28,2, -999.000,9, -999.000,9, -999.000,9,   -999.0,9,   -999.0,9,   -999.0,9,  -999.00,9, -999.000,9, -999.000,-999.0000,9,-999.0000,  -999.00,9,  -999.00, -999.000,9, -999.000,   -999.0,9,   -999.0,  -999.00,9,-999.0000,9,-999.0000,9,-999.0000,9,-999.0000,9,-999.0000,9,-999.0000,9
  33RR20070204,  I08S,    78,  2,     16,     16,2,20070310,1810,-33.5080,  95.0008, 4369,   1280.5,   3.5978,  34.4704,2,  34.4714,2,    164.3,2,    165.6,2,    60.65,2,    33.71,2,     0.00,2,     2.36,2, -999.000,9, -999.000,9, -999.000,9,   -999.0,9,   -999.0,9,   -999.0,9,  -999.00,9, -999.000,9, -999.000,-999.0000,9,-999.0000,  -999.00,9,  -999.00, -999.000,9, -999.000,   -999.0,9,   -999.0,  -999.00,9,-999.0000,9,-999.0000,9,-999.0000,9,-999.0000,9,-999.0000,9,-999.0000,9
  33RR20070204,  I08S,    78,  2,     15,     15,2,20070310,1810,-33.5080,  95.0008, 4369,   1380.9,   3.4178,  34.5201,2,  34.5194,2,    156.7,2,    156.7,2,    69.04,2,    34.21,2,     0.00,2,     2.40,2, -999.000,9, -999.000,9, -999.000,9,   -999.0,9,   -999.0,9,   -999.0,9,  -999.00,9, -999.000,9, -999.000,-999.0000,9,-999.0000,  -999.00,9,  -999.00, -999.000,9, -999.000,   -999.0,9,   -999.0,  -999.00,9,-999.0000,9,-999.0000,9,-999.0000,9,-999.0000,9,-999.0000,9,-999.0000,9
  33RR20070204,  I08S,    78,  2,     14,     14,2,20070310,1810,-33.5080,  95.0008, 4369,   1482.1,   3.2114,  34.5606,2,  34.5608,2,    154.5,2,    154.2,2,    75.05,2,    34.31,2,     0.00,2,     2.41,2, -999.000,9, -999.000,9, -999.000,9,   -999.0,9,   -999.0,9,   -999.0,9,  -999.00,9, -999.000,9, -999.000,-999.0000,9,-999.0000,  -999.00,9,  -999.00, -999.000,9, -999.000,   -999.0,9,   -999.0,  -999.00,9,-999.0000,9,-999.0000,9,-999.0000,9,-999.0000,9,-999.0000,9,-999.0000,9
  33RR20070204,  I08S,    78,  2,     13,     13,2,20070310,1810,-33.5080,  95.0008, 4369,   1582.8,   3.0454,  34.5979,2,  34.5979,2,    153.9,2,    153.7,2,    79.86,2,    34.21,2,     0.00,2,     2.40,2, -999.000,9, -999.000,9, -999.000,9,   2263.1,2,   2345.1,2,   -999.0,9,  -999.00,9, -999.000,9, -999.000,-999.0000,9,-999.0000,  -999.00,9,  -999.00, -999.000,9, -999.000,   -999.0,9,   -999.0,  -999.00,9,-999.0000,9,-999.0000,9,-999.0000,9,-999.0000,9,-999.0000,9,-999.0000,9
  33RR20070204,  I08S,    78,  2,     12,     12,2,20070310,1810,-33.5080,  95.0008, 4369,   1784.5,   2.7308,  34.6527,2,  34.6539,2,    158.5,2,    159.3,2,    85.49,2,    33.46,2,     0.00,2,     2.35,2, -999.000,9, -999.000,9, -999.000,9,   -999.0,9,   2351.1,2,   -999.0,9,  -999.00,9, -999.000,9, -999.000,-999.0000,9,-999.0000,  -999.00,9,  -999.00, -999.000,9, -999.000,   -999.0,9,   -999.0,  -999.00,9,-999.0000,9,-999.0000,9,-999.0000,9,-999.0000,9,-999.0000,9,-999.0000,9
  33RR20070204,  I08S,    78,  2,     11,     11,2,20070310,1810,-33.5080,  95.0008, 4369,   1986.4,   2.4792,  34.6916,2,  34.6922,2,    167.6,2,    168.9,2,    86.69,2,    32.48,2,     0.00,2,     2.28,2, -999.000,9, -999.000,9, -999.000,9,   -999.0,9,   2352.3,2,   -999.0,9,  -999.00,9, -999.000,9, -999.000,-999.0000,9,-999.0000,  -999.00,9,  -999.00, -999.000,9, -999.000,   -999.0,9,   -999.0,  -999.00,9,-999.0000,9,-999.0000,9,-999.0000,9,-999.0000,9,-999.0000,9,-999.0000,9
  33RR20070204,  I08S,    78,  2,     10,     10,2,20070310,1810,-33.5080,  95.0008, 4369,   2188.1,   2.2743,  34.7197,2,  34.7207,2,    177.0,2,    178.9,2,    88.11,2,    31.54,2,     0.00,2,     2.20,2, -999.000,9, -999.000,9, -999.000,9,   -999.0,9,   2351.1,2,   -999.0,9,  -999.00,9, -999.000,9, -999.000,-999.0000,9,-999.0000,  -999.00,9,  -999.00, -999.000,9, -999.000,   -999.0,9,   -999.0,  -999.00,9,-999.0000,9,-999.0000,9,-999.0000,9,-999.0000,9,-999.0000,9,-999.0000,9
  33RR20070204,  I08S,    78,  2,      9,      9,2,20070310,1810,-33.5080,  95.0008, 4369,   2440.9,   2.0344,  34.7393,2,  34.7400,2,    188.2,2,    189.1,2,    89.51,2,    30.71,2,     0.00,2,     2.13,2, -999.000,9, -999.000,9, -999.000,9,   2253.1,2,   2352.7,2,   -999.0,9,  -999.00,9, -999.000,9, -999.000,-999.0000,9,-999.0000,  -999.00,9,  -999.00, -999.000,9, -999.000,   -999.0,9,   -999.0,  -999.00,9,-999.0000,9,-999.0000,9,-999.0000,9,-999.0000,9,-999.0000,9,-999.0000,9
  33RR20070204,  I08S,    78,  2,      8,      8,2,20070310,1810,-33.5080,  95.0008, 4369,   2694.3,   1.7945,  34.7438,2,  34.7445,2,    194.8,2,    195.1,2,    94.76,2,    30.53,2,     0.00,2,     2.12,2, -999.000,9, -999.000,9, -999.000,9,   -999.0,9,   2354.2,2,   -999.0,9,  -999.00,9, -999.000,9, -999.000,-999.0000,9,-999.0000,  -999.00,9,  -999.00, -999.000,9, -999.000,   -999.0,9,   -999.0,  -999.00,9,-999.0000,9,-999.0000,9,-999.0000,9,-999.0000,9,-999.0000,9,-999.0000,9
  33RR20070204,  I08S,    78,  2,      7,      7,2,20070310,1810,-33.5080,  95.0008, 4369,   2947.3,   1.5518,  34.7388,2,  34.7394,2,    198.7,2,    198.6,2,   101.82,2,    30.75,2,     0.00,2,     2.13,2, -999.000,9, -999.000,9, -999.000,9,   -999.0,9,   -999.0,9,   -999.0,9,  -999.00,9, -999.000,9, -999.000,-999.0000,9,-999.0000,  -999.00,9,  -999.00, -999.000,9, -999.000,   -999.0,9,   -999.0,  -999.00,9,-999.0000,9,-999.0000,9,-999.0000,9,-999.0000,9,-999.0000,9,-999.0000,9
  33RR20070204,  I08S,    78,  2,      6,      6,2,20070310,1810,-33.5080,  95.0008, 4369,   3201.1,   1.3803,  34.7317,2,  34.7325,2,    200.8,2,    200.6,2,   107.69,2,    31.17,2,     0.00,2,     2.15,2, -999.000,9, -999.000,9, -999.000,9,   -999.0,9,   -999.0,9,   -999.0,9,  -999.00,9, -999.000,9, -999.000,-999.0000,9,-999.0000,  -999.00,9,  -999.00, -999.000,9, -999.000,   -999.0,9,   -999.0,  -999.00,9,-999.0000,9,-999.0000,9,-999.0000,9,-999.0000,9,-999.0000,9,-999.0000,9
  33RR20070204,  I08S,    78,  2,      5,      5,2,20070310,1810,-33.5080,  95.0008, 4369,   3455.4,   1.2349,  34.7253,2,  34.7260,2,    202.8,2,    202.5,2,   112.36,2,    31.39,2,     0.00,2,     2.17,2, -999.000,9, -999.000,9, -999.000,9,   2260.6,2,   2363.1,2,   -999.0,9,  -999.00,9, -999.000,9, -999.000,-999.0000,9,-999.0000,  -999.00,9,  -999.00, -999.000,9, -999.000,   -999.0,9,   -999.0,  -999.00,9,-999.0000,9,-999.0000,9,-999.0000,9,-999.0000,9,-999.0000,9,-999.0000,9
  33RR20070204,  I08S,    78,  2,      4,      4,2,20070310,1810,-33.5080,  95.0008, 4369,   3709.8,   1.1510,  34.7206,2,  34.7211,2,    203.5,2,    203.4,2,   115.22,2,    31.53,2,     0.00,2,     2.19,2, -999.000,9, -999.000,9, -999.000,9,   -999.0,9,   -999.0,9,   -999.0,9,  -999.00,9, -999.000,9, -999.000,-999.0000,9,-999.0000,  -999.00,9,  -999.00, -999.000,9, -999.000,   -999.0,9,   -999.0,  -999.00,9,-999.0000,9,-999.0000,9,-999.0000,9,-999.0000,9,-999.0000,9,-999.0000,9
  33RR20070204,  I08S,    78,  2,      3,      3,2,20070310,1810,-33.5080,  95.0008, 4369,   3964.0,   1.1040,  34.7173,2,  34.7178,2,    204.7,2,    204.5,2,   117.25,2,    31.77,2,     0.00,2,     2.19,2, -999.000,9, -999.000,9, -999.000,9,   -999.0,9,   -999.0,9,   -999.0,9,  -999.00,9, -999.000,9, -999.000,-999.0000,9,-999.0000,  -999.00,9,  -999.00, -999.000,9, -999.000,   -999.0,9,   -999.0,  -999.00,9,-999.0000,9,-999.0000,9,-999.0000,9,-999.0000,9,-999.0000,9,-999.0000,9
  33RR20070204,  I08S,    78,  2,      2,      2,2,20070310,1810,-33.5080,  95.0008, 4369,   4219.6,   1.0924,  34.7158,2,  34.7160,2,    205.1,2,    204.8,2,   117.87,2,    31.72,2,     0.00,2,     2.20,2, -999.000,9, -999.000,9, -999.000,9,   2267.9,2,   2371.7,2,   -999.0,9,  -999.00,9, -999.000,9, -999.000,-999.0000,9,-999.0000,  -999.00,9,  -999.00, -999.000,9, -999.000,   -999.0,9,   -999.0,  -999.00,9,-999.0000,9,-999.0000,9,-999.0000,9,-999.0000,9,-999.0000,9,-999.0000,9
  33RR20070204,  I08S,    78,  2,      1,      1,2,20070310,1810,-33.5080,  95.0008, 4369,   4425.4,   1.0711,  34.7138,2,  34.7144,2,    204.7,2,    205.5,2,   119.09,2,    31.85,2,     0.00,2,     2.20,2, -999.000,9, -999.000,9, -999.000,9,   2268.4,2,   2370.9,2,   -999.0,9,  -999.00,9, -999.000,9, -999.000,-999.0000,9,-999.0000,  -999.00,9,  -999.00, -999.000,9, -999.000,   -999.0,9,   -999.0,  -999.00,9,-999.0000,9,-999.0000,9,-999.0000,9,-999.0000,9,-999.0000,9,-999.0000,9