BOTTLE,20150626SIOCCHRJL
EXPOCODE,SECT_ID,STNNBR,CASTNO,SAMPNO,BTLNBR,BTLNBR_FLAG_W,DATE,TIME,LATITUDE,LONGITUDE,DEPTH,CTDPRS,CTDTMP,CTDSAL,CTDSAL_FLAG_W,SALNTY,SALNTY_FLAG_W,CTDOXY,CTDOXY_FLAG_W,OXYGEN,OXYGEN_FLAG_W,SILCAT,SILCAT_FLAG_W,NITRAT,NITRAT_FLAG_W,NITRIT,NITRIT_FLAG_W,PHSPHT,PHSPHT_FLAG_W,CFC-11,CFC-11_FLAG_W,CFC-12,CFC-12_FLAG_W,CFC113,CFC113_FLAG_W,TCARBN,TCARBN_FLAG_W,ALKALI,ALKALI_FLAG_W,DOC,DOC_FLAG_W,TDN,TDN_FLAG_W,TRITUM,TRITUM_FLAG_W,TRITER,HELIUM,HELIUM_FLAG_W,HELIER,DELHE3,DELHE3_FLAG_W,DELHER,NEON,NEON_FLAG_W,NEONER,DELC14,DELC14_FLAG_W,C14ERR,DELC13,DELC13_FLAG_W,CDOM325,CDOM325_FLAG_W,CDOM340,CDOM340_FLAG_W,CDOM380,CDOM380_FLAG_W,CDOM412,CDOM412_FLAG_W,CDOMSL,CDOMSL_FLAG_W,CDOMSN,CDOMSN_FLAG_W
,,,,,,,,,,,METERS,DBAR,ITS-90,PSS-78,,PSS-78,,UMOL/KG,,UMOL/KG,,UMOL/KG,,UMOL/KG,,UMOL/KG,,UMOL/KG,,PMOL/KG,,PMOL/KG,,PMOL/KG,,UMOL/KG,,UMOL/KG,,UMOL/KG,,UMOL/KG,,TU,,TU,NMOL/KG,,NMOL/KG,PERCNT,,PERCNT,NMOL/KG,,NMOL/KG,/MILLE,,/MILLE,/MILLE,,1/M,,1/M,,1/M,,1/M,,1/NM,,1/NM,
  33RR20070204,  I08S,    40,  1,     36,     36,2,20070227,1514,-51.4353,  89.1982, 3871,      3.7,   6.2504,  33.7652,2,  33.7639,2,    300.9,2,    303.6,2,     2.47,2,    18.48,2,     0.25,2,     1.43,2,    4.593,2,    2.605,2, -999.000,5,   2107.9,2,   2271.0,2,     48.6,2,    23.38,2, -999.000,9, -999.000,-999.0000,9,-999.0000,  -999.00,9,  -999.00, -999.000,9, -999.000,   -999.0,9,   -999.0,  -999.00,9,-999.0000,9,-999.0000,9,-999.0000,9,-999.0000,9,-999.0000,9,-999.0000,9
  33RR20070204,  I08S,    40,  1,     35,     35,2,20070227,1514,-51.4353,  89.1982, 3871,     31.2,   6.2485,  33.7658,2,  33.7649,2,    302.3,2,    302.9,2,     2.52,2,    18.39,2,     0.25,2,     1.43,2,    4.592,2,    2.615,2, -999.000,5,   2107.9,2,   2269.8,2,     47.7,2,    22.42,2, -999.000,9, -999.000,-999.0000,9,-999.0000,  -999.00,9,  -999.00, -999.000,9, -999.000,   -999.0,9,   -999.0,  -999.00,9,-999.0000,9,-999.0000,9,-999.0000,9,-999.0000,9,-999.0000,9,-999.0000,9
  33RR20070204,  I08S,    40,  1,     34,   9433,2,20070227,1514,-51.4353,  89.1982, 3871,     55.9,   5.4073,  33.7905,2,  33.7899,2,    306.1,2,    304.5,2,     3.80,2,    19.83,2,     0.30,2,     1.53,2,    4.814,2,    2.729,2, -999.000,5,   2118.0,2,   2271.6,2,     46.3,2,    24.70,2, -999.000,9, -999.000,-999.0000,9,-999.0000,  -999.00,9,  -999.00, -999.000,9, -999.000,   -999.0,9,   -999.0,  -999.00,9,-999.0000,9,-999.0000,9,-999.0000,9,-999.0000,9,-999.0000,9,-999.0000,9
  33RR20070204,  I08S,    40,  1,     33,     33,2,20070227,1514,-51.4353,  89.1982, 3871,     81.3,   4.9579,  33.8134,2,  33.8142,2,    300.2,2,    301.7,2,     4.06,2,    20.96,2,     0.38,2,     1.60,2,    4.901,2,    2.777,2, -999.000,5,   2124.4,2,   2271.8,2,     45.7,2,    25.64,2, -999.000,9, -999.000,-999.0000,9,-999.0000,  -999.00,9,  -999.00, -999.000,9, -999.000,   -999.0,9,   -999.0,  -999.00,9,-999.0000,9,-999.0000,9,-999.0000,9,-999.0000,9,-999.0000,9,-999.0000,9
  33RR20070204,  I08S,    40,  1,     32,     32,2,20070227,1514,-51.4353,  89.1982, 3871,    106.1,   4.4646,  33.8378,2,  33.8373,2,    298.5,2,    297.4,2,     5.34,2,    23.15,2,     0.34,2,     1.71,2,    5.025,2,    2.848,2, -999.000,5,   2133.4,2,   2268.1,2,     45.2,2,    28.28,2, -999.000,9, -999.000,-999.0000,9,-999.0000,  -999.00,9,  -999.00, -999.000,9, -999.000,   -999.0,9,   -999.0,  -999.00,9,-999.0000,9,-999.0000,9,-999.0000,9,-999.0000,9,-999.0000,9,-999.0000,9
  33RR20070204,  I08S,    40,  1,     31,     31,2,20070227,1514,-51.4353,  89.1982, 3871,    156.4,   3.2507,  33.8507,2,  33.8477,2,    296.9,2,    302.9,2,    12.93,2,    26.85,2,     0.02,2,     1.87,2,    5.214,2,    2.924,2, -999.000,5,   2148.9,2,   2269.4,2,     44.1,2,    30.32,2, -999.000,9, -999.000,-999.0000,9,-999.0000,  -999.00,9,  -999.00, -999.000,9, -999.000,   -999.0,9,   -999.0,  -999.00,9,-999.0000,9,-999.0000,9,-999.0000,9,-999.0000,9,-999.0000,9,-999.0000,9
  33RR20070204,  I08S,    40,  1,     30,     30,2,20070227,1514,-51.4353,  89.1982, 3871,    206.4,   3.0204,  33.9133,2,  33.9099,2,    297.7,2,    299.6,2,    16.66,2,    27.50,2,     0.08,2,     1.90,2,    5.264,2,    2.920,2, -999.000,5,   2156.3,2,   2272.4,2,     44.0,2,    30.59,2, -999.000,9, -999.000,-999.0000,9,-999.0000,  -999.00,9,  -999.00, -999.000,9, -999.000,   -999.0,9,   -999.0,  -999.00,9,-999.0000,9,-999.0000,9,-999.0000,9,-999.0000,9,-999.0000,9,-999.0000,9
  33RR20070204,  I08S,    40,  1,     29,     29,2,20070227,1514,-51.4353,  89.1982, 3871,    256.2,   2.9556,  33.9981,2,  33.9967,2,    290.3,2,    288.4,2,    20.39,2,    28.17,2,     0.02,2,     1.95,2,    4.986,2,    2.745,2, -999.000,5,   2164.6,2,   2275.5,2,     43.7,2,    31.59,2, -999.000,9, -999.000,-999.0000,9,-999.0000,  -999.00,9,  -999.00, -999.000,9, -999.000,   -999.0,9,   -999.0,  -999.00,9,-999.0000,9,-999.0000,9,-999.0000,9,-999.0000,9,-999.0000,9,-999.0000,9
  33RR20070204,  I08S,    40,  1,     28,     28,2,20070227,1514,-51.4353,  89.1982, 3871,    307.1,   2.6170,  34.0320,2,  34.0267,2,    286.4,2,    282.2,2,    24.54,2,    29.55,2,     0.01,2,     2.04,2,    4.800,2,    2.580,2, -999.000,5,   2173.2,2,   2278.9,2,     43.1,2,    33.34,2, -999.000,9, -999.000,-999.0000,9,-999.0000,  -999.00,9,  -999.00, -999.000,9, -999.000,   -999.0,9,   -999.0,  -999.00,9,-999.0000,9,-999.0000,9,-999.0000,9,-999.0000,9,-999.0000,9,-999.0000,9
  33RR20070204,  I08S,    40,  1,     27,     27,2,20070227,1514,-51.4353,  89.1982, 3871,    356.9,   2.6810,  34.0984,2,  34.0861,2,    259.7,2,    266.2,2,    27.26,2,    30.40,2,     0.01,2,     2.10,2,    4.364,2,    2.352,2, -999.000,5,   2183.0,2,   2281.7,2,     42.9,2,    33.42,2, -999.000,9, -999.000,-999.0000,9,-999.0000,  -999.00,9,  -999.00, -999.000,9, -999.000,   -999.0,9,   -999.0,  -999.00,9,-999.0000,9,-999.0000,9,-999.0000,9,-999.0000,9,-999.0000,9,-999.0000,9
  33RR20070204,  I08S,    40,  1,     26,     26,2,20070227,1514,-51.4353,  89.1982, 3871,    407.1,   2.8565,  34.1694,2,  34.1682,2,    242.0,2,    243.3,2,    32.03,2,    31.21,2,     0.01,2,     2.15,2,    3.656,2,    1.922,2, -999.000,5,   2192.4,2,   2286.6,2,     42.8,2,    35.00,2, -999.000,9, -999.000,-999.0000,9,-999.0000,  -999.00,9,  -999.00, -999.000,9, -999.000,   -999.0,9,   -999.0,  -999.00,9,-999.0000,9,-999.0000,9,-999.0000,9,-999.0000,9,-999.0000,9,-999.0000,9
  33RR20070204,  I08S,    40,  1,     25,     25,2,20070227,1514,-51.4353,  89.1982, 3871,    457.2,   2.5668,  34.1831,2,  34.1811,2,    231.1,2,    243.3,2,    34.14,2,    31.44,2,     0.01,2,     2.17,2,    3.579,2,    1.863,2, -999.000,5,   2197.3,2,   2287.6,2,     43.0,2,    34.59,2, -999.000,9, -999.000,-999.0000,9,-999.0000,  -999.00,9,  -999.00, -999.000,9, -999.000,   -999.0,9,   -999.0,  -999.00,9,-999.0000,9,-999.0000,9,-999.0000,9,-999.0000,9,-999.0000,9,-999.0000,9
  33RR20070204,  I08S,    40,  1,     24,     24,2,20070227,1514,-51.4353,  89.1982, 3871,    506.7,   2.6395,  34.2359,2,  34.2319,2,    221.1,2,    228.9,2,    40.15,2,    32.20,2,     0.01,2,     2.23,2,    3.053,2,    1.589,2, -999.000,5,   2205.7,2,   2292.7,2,     42.5,2,    34.72,2, -999.000,9, -999.000,-999.0000,9,-999.0000,  -999.00,9,  -999.00, -999.000,9, -999.000,   -999.0,9,   -999.0,  -999.00,9,-999.0000,9,-999.0000,9,-999.0000,9,-999.0000,9,-999.0000,9,-999.0000,9
  33RR20070204,  I08S,    40,  1,     23,     23,2,20070227,1514,-51.4353,  89.1982, 3871,    608.1,   2.7609,  34.3336,2,  34.3284,2,    207.6,2,    206.5,2,    49.05,2,    33.20,2,     0.01,2,     2.30,2,    2.154,2,    1.102,2, -999.000,5,   2221.4,2,   2302.5,2,     41.9,2,    35.62,2, -999.000,9, -999.000,-999.0000,9,-999.0000,  -999.00,9,  -999.00, -999.000,9, -999.000,   -999.0,9,   -999.0,  -999.00,9,-999.0000,9,-999.0000,9,-999.0000,9,-999.0000,9,-999.0000,9,-999.0000,9
  33RR20070204,  I08S,    40,  1,     22,     22,2,20070227,1514,-51.4353,  89.1982, 3871,    708.5,   2.3791,  34.3722,2,  34.3657,2,    199.2,2,    199.2,2,    56.94,2,    33.97,2,     0.01,2,     2.35,2,    1.923,2,    0.984,2, -999.000,5,   2231.6,2,   2308.8,2,     41.8,2,    36.19,2, -999.000,9, -999.000,-999.0000,9,-999.0000,  -999.00,9,  -999.00, -999.000,9, -999.000,   -999.0,9,   -999.0,  -999.00,9,-999.0000,9,-999.0000,9,-999.0000,9,-999.0000,9,-999.0000,9,-999.0000,9
  33RR20070204,  I08S,    40,  1,     21,     21,2,20070227,1514,-51.4353,  89.1982, 3871,    808.8,   2.4839,  34.4620,2,  34.4605,2,    183.8,2,    183.9,2,    63.40,2,    34.11,2,     0.01,2,     2.36,2,    1.201,2,    0.621,2, -999.000,5,   2241.0,2,   2317.0,2,     41.9,2,    36.66,2, -999.000,9, -999.000,-999.0000,9,-999.0000,  -999.00,9,  -999.00, -999.000,9, -999.000,   -999.0,9,   -999.0,  -999.00,9,-999.0000,9,-999.0000,9,-999.0000,9,-999.0000,9,-999.0000,9,-999.0000,9
  33RR20070204,  I08S,    40,  1,     20,     20,2,20070227,1514,-51.4353,  89.1982, 3871,    908.9,   2.3565,  34.5029,2,  34.5029,2,    182.6,2,    181.3,2,    67.80,2,    34.11,2,     0.01,2,     2.35,2,    1.039,2,    0.541,2, -999.000,5,   2245.8,2,   2321.6,2,     41.2,2,    36.24,2, -999.000,9, -999.000,-999.0000,9,-999.0000,  -999.00,9,  -999.00, -999.000,9, -999.000,   -999.0,9,   -999.0,  -999.00,9,-999.0000,9,-999.0000,9,-999.0000,9,-999.0000,9,-999.0000,9,-999.0000,9
  33RR20070204,  I08S,    40,  1,     19,     19,2,20070227,1514,-51.4353,  89.1982, 3871,   1008.7,   2.4405,  34.5727,2,  34.5725,2,    176.2,2,    176.2,2,    70.97,2,    33.58,2,     0.00,2,     2.33,2,    0.631,2,    0.323,2, -999.000,5,   2249.7,6,   2327.6,2,     41.0,2,    35.07,2, -999.000,9, -999.000,-999.0000,9,-999.0000,  -999.00,9,  -999.00, -999.000,9, -999.000,   -999.0,9,   -999.0,  -999.00,9,-999.0000,9,-999.0000,9,-999.0000,9,-999.0000,9,-999.0000,9,-999.0000,9
  33RR20070204,  I08S,    40,  1,     18,     18,2,20070227,1514,-51.4353,  89.1982, 3871,   1107.8,   2.3802,  34.6073,2,  34.6065,2,    176.4,2,    175.9,2,    73.32,2,    33.16,2,     0.00,2,     2.31,2, -999.000,9, -999.000,9, -999.000,9,   -999.0,9,   -999.0,9,     41.2,2,    34.60,2, -999.000,9, -999.000,-999.0000,9,-999.0000,  -999.00,9,  -999.00, -999.000,9, -999.000,   -999.0,9,   -999.0,  -999.00,9,-999.0000,9,-999.0000,9,-999.0000,9,-999.0000,9,-999.0000,9,-999.0000,9
  33RR20070204,  I08S,    40,  1,     17,     17,2,20070227,1514,-51.4353,  89.1982, 3871,   1208.1,   2.3726,  34.6486,2,  34.6485,2,    178.3,2,    178.4,2,    74.43,2,    32.50,2,     0.00,2,     2.25,2, -999.000,9, -999.000,9, -999.000,9,   -999.0,9,   -999.0,9,     40.4,2,    33.84,2, -999.000,9, -999.000,-999.0000,9,-999.0000,  -999.00,9,  -999.00, -999.000,9, -999.000,   -999.0,9,   -999.0,  -999.00,9,-999.0000,9,-999.0000,9,-999.0000,9,-999.0000,9,-999.0000,9,-999.0000,9
  33RR20070204,  I08S,    40,  1,     16,     16,2,20070227,1514,-51.4353,  89.1982, 3871,   1308.9,   2.3641,  34.6812,2,  34.6803,2,    180.9,2,    181.2,2,    75.33,2,    31.68,2,     0.00,2,     2.19,2, -999.000,9, -999.000,9, -999.000,9,   -999.0,9,   2334.4,2,     41.2,2,    32.69,2, -999.000,9, -999.000,-999.0000,9,-999.0000,  -999.00,9,  -999.00, -999.000,9, -999.000,   -999.0,9,   -999.0,  -999.00,9,-999.0000,9,-999.0000,9,-999.0000,9,-999.0000,9,-999.0000,9,-999.0000,9
  33RR20070204,  I08S,    40,  1,     15,     15,2,20070227,1514,-51.4353,  89.1982, 3871,   1409.0,   2.3166,  34.7014,2,  34.7008,2,    183.6,2,    185.0,2,    76.02,2,    31.17,2,     0.00,2,     2.15,2, -999.000,9, -999.000,9, -999.000,9,   -999.0,9,   -999.0,9,     41.1,2,    32.75,2, -999.000,9, -999.000,-999.0000,9,-999.0000,  -999.00,9,  -999.00, -999.000,9, -999.000,   -999.0,9,   -999.0,  -999.00,9,-999.0000,9,-999.0000,9,-999.0000,9,-999.0000,9,-999.0000,9,-999.0000,9
  33RR20070204,  I08S,    40,  1,     14,     14,2,20070227,1514,-51.4353,  89.1982, 3871,   1511.2,   2.2716,  34.7218,2,  34.7216,2,    187.4,2,    187.9,2,    76.51,2,    30.64,2,     0.00,2,     2.12,2,    0.177,2,    0.086,2, -999.000,5,   2245.3,2,   2336.8,2,     40.7,2,    31.78,2, -999.000,9, -999.000,-999.0000,9,-999.0000,  -999.00,9,  -999.00, -999.000,9, -999.000,   -999.0,9,   -999.0,  -999.00,9,-999.0000,9,-999.0000,9,-999.0000,9,-999.0000,9,-999.0000,9,-999.0000,9
  33RR20070204,  I08S,    40,  1,     13,     13,2,20070227,1514,-51.4353,  89.1982, 3871,   1612.6,   2.2047,  34.7334,2,  34.7332,2,    190.2,2,    190.3,2,    77.82,2,    30.40,2,     0.00,2,     2.09,2, -999.000,9, -999.000,9, -999.000,9,   -999.0,9,   -999.0,9,     40.3,2,    31.95,2, -999.000,9, -999.000,-999.0000,9,-999.0000,  -999.00,9,  -999.00, -999.000,9, -999.000,   -999.0,9,   -999.0,  -999.00,9,-999.0000,9,-999.0000,9,-999.0000,9,-999.0000,9,-999.0000,9,-999.0000,9
  33RR20070204,  I08S,    40,  1,     12,     12,2,20070227,1514,-51.4353,  89.1982, 3871,   1714.1,   2.1416,  34.7427,2,  34.7425,2,    192.5,2,    192.9,2,    79.14,2,    30.17,2,     0.00,2,     2.08,2, -999.000,9, -999.000,9, -999.000,9,   -999.0,9,   -999.0,9,     40.5,2,    31.21,2, -999.000,9, -999.000,-999.0000,9,-999.0000,  -999.00,9,  -999.00, -999.000,9, -999.000,   -999.0,9,   -999.0,  -999.00,9,-999.0000,9,-999.0000,9,-999.0000,9,-999.0000,9,-999.0000,9,-999.0000,9
  33RR20070204,  I08S,    40,  1,     11,     11,2,20070227,1514,-51.4353,  89.1982, 3871,   1815.5,   2.0401,  34.7460,2,  34.7458,2,    194.4,2,    194.3,2,    82.53,2,    30.08,2,     0.00,2,     2.07,2, -999.000,9, -999.000,9, -999.000,9,   -999.0,9,   2340.8,2,     41.2,2,    31.31,2, -999.000,9, -999.000,-999.0000,9,-999.0000,  -999.00,9,  -999.00, -999.000,9, -999.000,   -999.0,9,   -999.0,  -999.00,9,-999.0000,9,-999.0000,9,-999.0000,9,-999.0000,9,-999.0000,9,-999.0000,9
  33RR20070204,  I08S,    40,  1,     10,     10,2,20070227,1514,-51.4353,  89.1982, 3871,   1917.3,   1.9465,  34.7497,2,  34.7496,2,    196.2,2,    196.3,2,    84.90,2,    30.08,2,     0.00,2,     2.07,2, -999.000,9, -999.000,9, -999.000,9,   -999.0,9,   -999.0,9,     41.3,2,    31.77,2, -999.000,9, -999.000,-999.0000,9,-999.0000,  -999.00,9,  -999.00, -999.000,9, -999.000,   -999.0,9,   -999.0,  -999.00,9,-999.0000,9,-999.0000,9,-999.0000,9,-999.0000,9,-999.0000,9,-999.0000,9
  33RR20070204,  I08S,    40,  1,      9,      9,2,20070227,1514,-51.4353,  89.1982, 3871,   2017.7,   1.8415,  34.7498,2,  34.7502,2,    197.6,2,    198.0,2,    87.47,2,    30.08,2,     0.00,2,     2.07,2,    0.143,2,    0.069,2, -999.000,5,   2246.7,2,   2343.6,2,     40.6,2,    31.20,2, -999.000,9, -999.000,-999.0000,9,-999.0000,  -999.00,9,  -999.00, -999.000,9, -999.000,   -999.0,9,   -999.0,  -999.00,9,-999.0000,9,-999.0000,9,-999.0000,9,-999.0000,9,-999.0000,9,-999.0000,9
  33RR20070204,  I08S,    40,  1,      8,      8,2,20070227,1514,-51.4353,  89.1982, 3871,   2271.6,   1.6253,  34.7458,2,  34.7458,2,    201.1,2,    201.1,2,    93.59,2,    30.27,2,     0.00,2,     2.09,2, -999.000,9, -999.000,9, -999.000,9,   -999.0,9,   -999.0,9,     41.0,2,    31.90,2, -999.000,9, -999.000,-999.0000,9,-999.0000,  -999.00,9,  -999.00, -999.000,9, -999.000,   -999.0,9,   -999.0,  -999.00,9,-999.0000,9,-999.0000,9,-999.0000,9,-999.0000,9,-999.0000,9,-999.0000,9
  33RR20070204,  I08S,    40,  1,      7,      7,2,20070227,1514,-51.4353,  89.1982, 3871,   2524.8,   1.3818,  34.7369,2,  34.7368,2,    204.2,2,    203.2,2,   102.65,2,    30.65,2,     0.00,2,     2.12,2,    0.112,2,    0.053,2, -999.000,5,   2253.8,2,   2353.3,2,     40.9,2,    31.77,2, -999.000,9, -999.000,-999.0000,9,-999.0000,  -999.00,9,  -999.00, -999.000,9, -999.000,   -999.0,9,   -999.0,  -999.00,9,-999.0000,9,-999.0000,9,-999.0000,9,-999.0000,9,-999.0000,9,-999.0000,9
  33RR20070204,  I08S,    40,  1,      6,      6,2,20070227,1514,-51.4353,  89.1982, 3871,   2778.4,   1.1869,  34.7267,2,  34.7264,2,    206.5,2,    205.3,2,   107.53,2,    31.03,2,     0.00,2,     2.15,2,    0.149,2,    0.071,2, -999.000,5,   -999.0,9,   -999.0,9,     41.0,2,    32.13,2, -999.000,9, -999.000,-999.0000,9,-999.0000,  -999.00,9,  -999.00, -999.000,9, -999.000,   -999.0,9,   -999.0,  -999.00,9,-999.0000,9,-999.0000,9,-999.0000,9,-999.0000,9,-999.0000,9,-999.0000,9
  33RR20070204,  I08S,    40,  1,      5,      5,2,20070227,1514,-51.4353,  89.1982, 3871,   3032.7,   0.9921,  34.7165,2,  34.7160,2,    208.8,2,    208.5,2,   113.91,2,    31.36,2,     0.00,2,     2.17,2,    0.205,2,    0.099,2, -999.000,5,   2256.4,2,   2353.9,2,     41.2,2,    32.80,2, -999.000,9, -999.000,-999.0000,9,-999.0000,  -999.00,9,  -999.00, -999.000,9, -999.000,   -999.0,9,   -999.0,  -999.00,9,-999.0000,9,-999.0000,9,-999.0000,9,-999.0000,9,-999.0000,9,-999.0000,9
  33RR20070204,  I08S,    40,  1,      4,      4,2,20070227,1514,-51.4353,  89.1982, 3871,   3287.5,   0.7361,  34.7034,2,  34.7038,2,    212.6,2,    212.2,2,   119.66,2,    31.69,2,     0.00,2,     2.19,2,    0.332,2,    0.163,2, -999.000,5,   -999.0,9,   -999.0,9,     41.3,2,    32.70,2, -999.000,9, -999.000,-999.0000,9,-999.0000,  -999.00,9,  -999.00, -999.000,9, -999.000,   -999.0,9,   -999.0,  -999.00,9,-999.0000,9,-999.0000,9,-999.0000,9,-999.0000,9,-999.0000,9,-999.0000,9
  33RR20070204,  I08S,    40,  1,      3,      3,2,20070227,1514,-51.4353,  89.1982, 3871,   3542.1,   0.5268,  34.6931,2,  34.6936,2,    217.0,2,    216.4,2,   124.59,2,    31.94,2,     0.00,2,     2.21,2,    0.485,2,    0.243,2, -999.000,5,   2257.4,2,   2352.6,2,     40.5,2,    33.31,2, -999.000,9, -999.000,-999.0000,9,-999.0000,  -999.00,9,  -999.00, -999.000,9, -999.000,   -999.0,9,   -999.0,  -999.00,9,-999.0000,9,-999.0000,9,-999.0000,9,-999.0000,9,-999.0000,9,-999.0000,9
  33RR20070204,  I08S,    40,  1,      2,      2,2,20070227,1514,-51.4353,  89.1982, 3871,   3746.2,   0.3892,  34.6864,2,  34.6849,2,    220.2,2,    219.9,2,   126.57,2,    32.08,2,     0.00,2,     2.22,2,    0.610,2,    0.303,2, -999.000,5,   2257.0,2,   2352.1,2,     40.5,2,    33.21,2, -999.000,9, -999.000,-999.0000,9,-999.0000,  -999.00,9,  -999.00, -999.000,9, -999.000,   -999.0,9,   -999.0,  -999.00,9,-999.0000,9,-999.0000,9,-999.0000,9,-999.0000,9,-999.0000,9,-999.0000,9
  33RR20070204,  I08S,    40,  1,      1,      1,2,20070227,1514,-51.4353,  89.1982, 3871,   3873.8,   0.3580,  34.6844,2,  34.6840,2,    220.2,2,    220.8,2,   127.70,2,    32.12,2,     0.00,2,     2.22,2,    0.652,2,    0.322,2, -999.000,5,   2258.7,6,   2352.9,2,     41.4,2,    33.27,2, -999.000,9, -999.000,-999.0000,9,-999.0000,  -999.00,9,  -999.00, -999.000,9, -999.000,   -999.0,9,   -999.0,  -999.00,9,-999.0000,9,-999.0000,9,-999.0000,9,-999.0000,9,-999.0000,9,-999.0000,9