BOTTLE,20150626SIOCCHRJL
EXPOCODE,SECT_ID,STNNBR,CASTNO,SAMPNO,BTLNBR,BTLNBR_FLAG_W,DATE,TIME,LATITUDE,LONGITUDE,DEPTH,CTDPRS,CTDTMP,CTDSAL,CTDSAL_FLAG_W,SALNTY,SALNTY_FLAG_W,CTDOXY,CTDOXY_FLAG_W,OXYGEN,OXYGEN_FLAG_W,SILCAT,SILCAT_FLAG_W,NITRAT,NITRAT_FLAG_W,NITRIT,NITRIT_FLAG_W,PHSPHT,PHSPHT_FLAG_W,CFC-11,CFC-11_FLAG_W,CFC-12,CFC-12_FLAG_W,CFC113,CFC113_FLAG_W,TCARBN,TCARBN_FLAG_W,ALKALI,ALKALI_FLAG_W,DOC,DOC_FLAG_W,TDN,TDN_FLAG_W,TRITUM,TRITUM_FLAG_W,TRITER,HELIUM,HELIUM_FLAG_W,HELIER,DELHE3,DELHE3_FLAG_W,DELHER,NEON,NEON_FLAG_W,NEONER,DELC14,DELC14_FLAG_W,C14ERR,DELC13,DELC13_FLAG_W,CDOM325,CDOM325_FLAG_W,CDOM340,CDOM340_FLAG_W,CDOM380,CDOM380_FLAG_W,CDOM412,CDOM412_FLAG_W,CDOMSL,CDOMSL_FLAG_W,CDOMSN,CDOMSN_FLAG_W
,,,,,,,,,,,METERS,DBAR,ITS-90,PSS-78,,PSS-78,,UMOL/KG,,UMOL/KG,,UMOL/KG,,UMOL/KG,,UMOL/KG,,UMOL/KG,,PMOL/KG,,PMOL/KG,,PMOL/KG,,UMOL/KG,,UMOL/KG,,UMOL/KG,,UMOL/KG,,TU,,TU,NMOL/KG,,NMOL/KG,PERCNT,,PERCNT,NMOL/KG,,NMOL/KG,/MILLE,,/MILLE,/MILLE,,1/M,,1/M,,1/M,,1/M,,1/NM,,1/NM,
  33RR20070204,  I08S,    54,  2,     33,     33,2,20070303,1821,-45.4372,  94.6367, 3133,      3.0,  10.6751,  34.2874,2,  34.2867,2,    275.9,2,    276.4,2,     1.33,2,    12.59,2,     0.20,2,     1.00,2, -999.000,9, -999.000,9, -999.000,9,   2089.8,2,   2280.2,2,   -999.0,9,  -999.00,9, -999.000,9, -999.000,-999.0000,9,-999.0000,  -999.00,9,  -999.00, -999.000,9, -999.000,   -999.0,9,   -999.0,  -999.00,9,-999.0000,9,-999.0000,9,-999.0000,9,-999.0000,9,-999.0000,9,-999.0000,9
  33RR20070204,  I08S,    54,  2,     32,     37,2,20070303,1821,-45.4372,  94.6367, 3133,     20.3,  10.5688,  34.2712,2,  34.2722,2,    278.2,2,    277.7,2,     1.30,2,    12.73,2,     0.20,2,     1.00,2, -999.000,9, -999.000,9, -999.000,9,   2090.1,2,   2278.2,2,   -999.0,9,  -999.00,9, -999.000,9, -999.000,-999.0000,9,-999.0000,  -999.00,9,  -999.00, -999.000,9, -999.000,   -999.0,9,   -999.0,  -999.00,9,-999.0000,9,-999.0000,9,-999.0000,9,-999.0000,9,-999.0000,9,-999.0000,9
  33RR20070204,  I08S,    54,  2,     31,     31,2,20070303,1821,-45.4372,  94.6367, 3133,     45.7,  10.3947,  34.2553,2,  34.2549,2,    279.2,2,    278.8,2,     1.27,2,    13.02,2,     0.19,2,     1.01,2, -999.000,9, -999.000,9, -999.000,9,   2091.2,2,   2277.2,2,   -999.0,9,  -999.00,9, -999.000,9, -999.000,-999.0000,9,-999.0000,  -999.00,9,  -999.00, -999.000,9, -999.000,   -999.0,9,   -999.0,  -999.00,9,-999.0000,9,-999.0000,9,-999.0000,9,-999.0000,9,-999.0000,9,-999.0000,9
  33RR20070204,  I08S,    54,  2,     30,     30,2,20070303,1821,-45.4372,  94.6367, 3133,     90.3,   9.8275,  34.4211,2,  34.4190,2,    275.3,2,    275.0,2,     1.86,2,    12.58,2,     0.29,2,     1.02,2, -999.000,9, -999.000,9, -999.000,9,   2099.6,2,   2282.6,2,   -999.0,9,  -999.00,9, -999.000,9, -999.000,-999.0000,9,-999.0000,  -999.00,9,  -999.00, -999.000,9, -999.000,   -999.0,9,   -999.0,  -999.00,9,-999.0000,9,-999.0000,9,-999.0000,9,-999.0000,9,-999.0000,9,-999.0000,9
  33RR20070204,  I08S,    54,  2,     29,     29,2,20070303,1821,-45.4372,  94.6367, 3133,    140.5,   8.9555,  34.5196,2,  34.5188,2,    261.4,2,    261.4,2,     4.28,2,    15.99,2,     0.02,2,     1.15,2, -999.000,9, -999.000,9, -999.000,9,   2119.0,2,   2284.1,2,   -999.0,9,  -999.00,9, -999.000,9, -999.000,-999.0000,9,-999.0000,  -999.00,9,  -999.00, -999.000,9, -999.000,   -999.0,9,   -999.0,  -999.00,9,-999.0000,9,-999.0000,9,-999.0000,9,-999.0000,9,-999.0000,9,-999.0000,9
  33RR20070204,  I08S,    54,  2,     28,     28,2,20070303,1821,-45.4372,  94.6367, 3133,    165.8,   8.7053,  34.4923,2,  34.4915,2,    262.9,2,    262.2,2,     4.66,2,    16.57,2,     0.02,2,     1.17,2, -999.000,9, -999.000,9, -999.000,9,   2120.9,2,   2282.6,2,   -999.0,9,  -999.00,9, -999.000,9, -999.000,-999.0000,9,-999.0000,  -999.00,9,  -999.00, -999.000,9, -999.000,   -999.0,9,   -999.0,  -999.00,9,-999.0000,9,-999.0000,9,-999.0000,9,-999.0000,9,-999.0000,9,-999.0000,9
  33RR20070204,  I08S,    54,  2,     27,     27,2,20070303,1821,-45.4372,  94.6367, 3133,    190.9,   8.5129,  34.4706,2,  34.4704,2,    261.4,2,    262.4,2,     4.84,2,    16.95,2,     0.01,2,     1.21,2, -999.000,9, -999.000,9, -999.000,9,   2121.6,2,   2282.3,2,   -999.0,9,  -999.00,9, -999.000,9, -999.000,-999.0000,9,-999.0000,  -999.00,9,  -999.00, -999.000,9, -999.000,   -999.0,9,   -999.0,  -999.00,9,-999.0000,9,-999.0000,9,-999.0000,9,-999.0000,9,-999.0000,9,-999.0000,9
  33RR20070204,  I08S,    54,  2,     26,     26,2,20070303,1821,-45.4372,  94.6367, 3133,    240.9,   8.2825,  34.4645,2,  34.4641,2,    262.5,2,    260.6,2,     5.42,2,    17.57,2,     0.01,2,     1.24,2, -999.000,9, -999.000,9, -999.000,9,   -999.0,9,   -999.0,9,   -999.0,9,  -999.00,9, -999.000,9, -999.000,-999.0000,9,-999.0000,  -999.00,9,  -999.00, -999.000,9, -999.000,   -999.0,9,   -999.0,  -999.00,9,-999.0000,9,-999.0000,9,-999.0000,9,-999.0000,9,-999.0000,9,-999.0000,9
  33RR20070204,  I08S,    54,  2,     25,     25,2,20070303,1821,-45.4372,  94.6367, 3133,    291.0,   7.9246,  34.4259,2,  34.4256,2,    257.3,2,    257.3,2,     6.22,2,    18.69,2,     0.01,2,     1.31,2, -999.000,9, -999.000,9, -999.000,9,   2129.2,2,   2280.4,2,   -999.0,9,  -999.00,9, -999.000,9, -999.000,-999.0000,9,-999.0000,  -999.00,9,  -999.00, -999.000,9, -999.000,   -999.0,9,   -999.0,  -999.00,9,-999.0000,9,-999.0000,9,-999.0000,9,-999.0000,9,-999.0000,9,-999.0000,9
  33RR20070204,  I08S,    54,  2,     24,     24,2,20070303,1821,-45.4372,  94.6367, 3133,    341.0,   7.6221,  34.4186,2,  34.4175,2,    243.5,2,    243.8,2,     8.03,2,    20.53,2,     0.01,2,     1.42,2, -999.000,9, -999.000,9, -999.000,9,   -999.0,9,   -999.0,9,   -999.0,9,  -999.00,9, -999.000,9, -999.000,-999.0000,9,-999.0000,  -999.00,9,  -999.00, -999.000,9, -999.000,   -999.0,9,   -999.0,  -999.00,9,-999.0000,9,-999.0000,9,-999.0000,9,-999.0000,9,-999.0000,9,-999.0000,9
  33RR20070204,  I08S,    54,  2,     23,     23,2,20070303,1821,-45.4372,  94.6367, 3133,    391.4,   7.2375,  34.4283,2,  34.4276,2,    226.9,2,    224.3,2,    11.48,2,    22.95,2,     0.01,2,     1.57,2, -999.000,9, -999.000,9, -999.000,9,   2152.9,2,   2281.5,2,   -999.0,9,  -999.00,9, -999.000,9, -999.000,-999.0000,9,-999.0000,  -999.00,9,  -999.00, -999.000,9, -999.000,   -999.0,9,   -999.0,  -999.00,9,-999.0000,9,-999.0000,9,-999.0000,9,-999.0000,9,-999.0000,9,-999.0000,9
  33RR20070204,  I08S,    54,  2,     22,     22,2,20070303,1821,-45.4372,  94.6367, 3133,    441.4,   6.5952,  34.3798,2,  34.3814,2,    222.9,2,    223.8,2,    13.92,2,    24.60,2,     0.00,2,     1.68,2, -999.000,9, -999.000,9, -999.000,9,   -999.0,9,   -999.0,9,   -999.0,9,  -999.00,9, -999.000,9, -999.000,-999.0000,9,-999.0000,  -999.00,9,  -999.00, -999.000,9, -999.000,   -999.0,9,   -999.0,  -999.00,9,-999.0000,9,-999.0000,9,-999.0000,9,-999.0000,9,-999.0000,9,-999.0000,9
  33RR20070204,  I08S,    54,  2,     21,     21,2,20070303,1821,-45.4372,  94.6367, 3133,    491.5,   6.1509,  34.3844,2,  34.3843,2,    215.4,2,    215.5,2,    17.17,2,    26.16,2,     0.00,2,     1.79,2, -999.000,9, -999.000,9, -999.000,9,   2168.7,2,   2282.6,2,   -999.0,9,  -999.00,9, -999.000,9, -999.000,-999.0000,9,-999.0000,  -999.00,9,  -999.00, -999.000,9, -999.000,   -999.0,9,   -999.0,  -999.00,9,-999.0000,9,-999.0000,9,-999.0000,9,-999.0000,9,-999.0000,9,-999.0000,9
  33RR20070204,  I08S,    54,  2,     20,     20,2,20070303,1821,-45.4372,  94.6367, 3133,    577.3,   5.2932,  34.3307,2,  34.3246,2,    219.2,2,    219.4,2,    21.06,2,    27.91,2,     0.00,2,     1.92,2,    3.023,2,    1.573,2, -999.000,5,   -999.0,9,   -999.0,9,   -999.0,9,  -999.00,9, -999.000,9, -999.000,-999.0000,9,-999.0000,  -999.00,9,  -999.00, -999.000,9, -999.000,   -999.0,9,   -999.0,  -999.00,9,-999.0000,9,-999.0000,9,-999.0000,9,-999.0000,9,-999.0000,9,-999.0000,9
  33RR20070204,  I08S,    54,  2,     19,     19,2,20070303,1821,-45.4372,  94.6367, 3133,    677.3,   4.4334,  34.2948,2,  34.2939,2,    220.8,2,    222.0,2,    25.96,2,    29.41,2,     0.00,2,     2.02,2, -999.000,9, -999.000,9, -999.000,9,   -999.0,9,   -999.0,9,   -999.0,9,  -999.00,9, -999.000,9, -999.000,-999.0000,9,-999.0000,  -999.00,9,  -999.00, -999.000,9, -999.000,   -999.0,9,   -999.0,  -999.00,9,-999.0000,9,-999.0000,9,-999.0000,9,-999.0000,9,-999.0000,9,-999.0000,9
  33RR20070204,  I08S,    54,  2,     18,     18,2,20070303,1821,-45.4372,  94.6367, 3133,    777.7,   3.8879,  34.3073,2,  34.3069,2,    215.3,2,    215.4,2,    33.14,2,    30.93,2,     0.00,2,     2.12,2,    2.525,2,    1.293,2, -999.000,5,   -999.0,9,   -999.0,9,   -999.0,9,  -999.00,9, -999.000,9, -999.000,-999.0000,9,-999.0000,  -999.00,9,  -999.00, -999.000,9, -999.000,   -999.0,9,   -999.0,  -999.00,9,-999.0000,9,-999.0000,9,-999.0000,9,-999.0000,9,-999.0000,9,-999.0000,9
  33RR20070204,  I08S,    54,  2,     17,     17,2,20070303,1821,-45.4372,  94.6367, 3133,    878.1,   3.5510,  34.3415,2,  34.3418,2,    205.4,2,    204.6,2,    40.53,2,    32.05,2,     0.00,2,     2.21,2, -999.000,9, -999.000,9, -999.000,9,   2208.2,2,   2299.8,2,   -999.0,9,  -999.00,9, -999.000,9, -999.000,-999.0000,9,-999.0000,  -999.00,9,  -999.00, -999.000,9, -999.000,   -999.0,9,   -999.0,  -999.00,9,-999.0000,9,-999.0000,9,-999.0000,9,-999.0000,9,-999.0000,9,-999.0000,9
  33RR20070204,  I08S,    54,  2,     16,     16,2,20070303,1821,-45.4372,  94.6367, 3133,    978.7,   3.3360,  34.3917,2,  34.3915,2,    194.8,2,    193.4,2,    47.73,2,    32.92,2,     0.00,2,     2.28,2,    1.449,2,    0.730,2, -999.000,5,   -999.0,9,   -999.0,9,   -999.0,9,  -999.00,9, -999.000,9, -999.000,-999.0000,9,-999.0000,  -999.00,9,  -999.00, -999.000,9, -999.000,   -999.0,9,   -999.0,  -999.00,9,-999.0000,9,-999.0000,9,-999.0000,9,-999.0000,9,-999.0000,9,-999.0000,9
  33RR20070204,  I08S,    54,  2,     15,     15,2,20070303,1821,-45.4372,  94.6367, 3133,   1080.1,   3.1699,  34.4358,2,  34.4367,2,    185.8,2,    184.4,2,    54.11,2,    33.50,2,     0.00,2,     2.32,2, -999.000,9, -999.000,9, -999.000,9,   -999.0,9,   -999.0,5,   -999.0,9,  -999.00,9, -999.000,9, -999.000,-999.0000,9,-999.0000,  -999.00,9,  -999.00, -999.000,9, -999.000,   -999.0,9,   -999.0,  -999.00,9,-999.0000,9,-999.0000,9,-999.0000,9,-999.0000,9,-999.0000,9,-999.0000,9
  33RR20070204,  I08S,    54,  2,     14,     14,2,20070303,1821,-45.4372,  94.6367, 3133,   1180.5,   2.9831,  34.4809,2,  34.4806,2,    179.7,2,    178.9,2,    59.26,2,    33.83,2,     0.00,2,     2.34,2,    0.806,2,    0.408,2, -999.000,5,   -999.0,9,   -999.0,9,   -999.0,9,  -999.00,9, -999.000,9, -999.000,-999.0000,9,-999.0000,  -999.00,9,  -999.00, -999.000,9, -999.000,   -999.0,9,   -999.0,  -999.00,9,-999.0000,9,-999.0000,9,-999.0000,9,-999.0000,9,-999.0000,9,-999.0000,9
  33RR20070204,  I08S,    54,  2,     13,     13,2,20070303,1821,-45.4372,  94.6367, 3133,   1281.2,   2.7918,  34.5229,2,  34.5221,2,    177.4,2,    176.9,2,    64.01,2,    33.77,2,     0.00,2,     2.33,2, -999.000,9, -999.000,9, -999.000,9,   2243.2,6,   2323.0,2,   -999.0,9,  -999.00,9, -999.000,9, -999.000,-999.0000,9,-999.0000,  -999.00,9,  -999.00, -999.000,9, -999.000,   -999.0,9,   -999.0,  -999.00,9,-999.0000,9,-999.0000,9,-999.0000,9,-999.0000,9,-999.0000,9,-999.0000,9
  33RR20070204,  I08S,    54,  2,     12,     12,2,20070303,1821,-45.4372,  94.6367, 3133,   1381.8,   2.7141,  34.5704,2,  34.5704,2,    175.7,2,    175.6,2,    67.30,2,    33.36,2,     0.00,2,     2.31,2,    0.476,2,    0.237,2, -999.000,5,   -999.0,9,   -999.0,9,   -999.0,9,  -999.00,9, -999.000,9, -999.000,-999.0000,9,-999.0000,  -999.00,9,  -999.00, -999.000,9, -999.000,   -999.0,9,   -999.0,  -999.00,9,-999.0000,9,-999.0000,9,-999.0000,9,-999.0000,9,-999.0000,9,-999.0000,9
  33RR20070204,  I08S,    54,  2,     11,     11,2,20070303,1821,-45.4372,  94.6367, 3133,   1482.7,   2.6410,  34.6070,2,  34.6056,2,    176.0,2,    176.1,2,    68.73,2,    32.85,2,     0.00,2,     2.27,2, -999.000,9, -999.000,9, -999.000,9,   -999.0,9,   -999.0,5,   -999.0,9,  -999.00,9, -999.000,9, -999.000,-999.0000,9,-999.0000,  -999.00,9,  -999.00, -999.000,9, -999.000,   -999.0,9,   -999.0,  -999.00,9,-999.0000,9,-999.0000,9,-999.0000,9,-999.0000,9,-999.0000,9,-999.0000,9
  33RR20070204,  I08S,    54,  2,     10,     10,2,20070303,1821,-45.4372,  94.6367, 3133,   1583.4,   2.5643,  34.6472,2,  34.6467,2,    177.9,2,    178.7,2,    70.99,2,    32.29,2,     0.00,2,     2.23,2,    0.283,2,    0.134,2, -999.000,5,   -999.0,9,   -999.0,9,   -999.0,9,  -999.00,9, -999.000,9, -999.000,-999.0000,9,-999.0000,  -999.00,9,  -999.00, -999.000,9, -999.000,   -999.0,9,   -999.0,  -999.00,9,-999.0000,9,-999.0000,9,-999.0000,9,-999.0000,9,-999.0000,9,-999.0000,9
  33RR20070204,  I08S,    54,  2,      9,      9,2,20070303,1821,-45.4372,  94.6367, 3133,   1684.7,   2.4931,  34.6800,2,  34.6797,2,    181.1,2,    181.7,2,    72.22,2,    31.68,2,     0.00,2,     2.18,2, -999.000,9, -999.000,9, -999.000,9,   2245.3,2,   2334.6,2,   -999.0,9,  -999.00,9, -999.000,9, -999.000,-999.0000,9,-999.0000,  -999.00,9,  -999.00, -999.000,9, -999.000,   -999.0,9,   -999.0,  -999.00,9,-999.0000,9,-999.0000,9,-999.0000,9,-999.0000,9,-999.0000,9,-999.0000,9
  33RR20070204,  I08S,    54,  2,      8,      8,2,20070303,1821,-45.4372,  94.6367, 3133,   1785.4,   2.4309,  34.7033,2,  34.7034,2,    183.7,2,    185.2,2,    73.23,2,    31.08,2,     0.00,2,     2.14,2,    0.172,2,    0.081,2, -999.000,5,   -999.0,9,   -999.0,9,   -999.0,9,  -999.00,9, -999.000,9, -999.000,-999.0000,9,-999.0000,  -999.00,9,  -999.00, -999.000,9, -999.000,   -999.0,9,   -999.0,  -999.00,9,-999.0000,9,-999.0000,9,-999.0000,9,-999.0000,9,-999.0000,9,-999.0000,9
  33RR20070204,  I08S,    54,  2,      7,      7,2,20070303,1821,-45.4372,  94.6367, 3133,   1886.7,   2.3746,  34.7188,2,  34.7189,2,    186.4,2,    187.5,2,    74.46,2,    30.72,2,     0.00,2,     2.11,2, -999.000,9, -999.000,9, -999.000,9,   -999.0,9,   2336.3,2,   -999.0,9,  -999.00,9, -999.000,9, -999.000,-999.0000,9,-999.0000,  -999.00,9,  -999.00, -999.000,9, -999.000,   -999.0,9,   -999.0,  -999.00,9,-999.0000,9,-999.0000,9,-999.0000,9,-999.0000,9,-999.0000,9,-999.0000,9
  33RR20070204,  I08S,    54,  2,      6,      6,2,20070303,1821,-45.4372,  94.6367, 3133,   1987.6,   2.2984,  34.7346,2,  34.7344,2,    189.6,2,    191.0,2,    76.11,2,    30.23,2,     0.00,2,     2.08,2,    0.120,2,    0.057,2, -999.000,5,   -999.0,9,   -999.0,9,   -999.0,9,  -999.00,9, -999.000,9, -999.000,-999.0000,9,-999.0000,  -999.00,9,  -999.00, -999.000,9, -999.000,   -999.0,9,   -999.0,  -999.00,9,-999.0000,9,-999.0000,9,-999.0000,9,-999.0000,9,-999.0000,9,-999.0000,9
  33RR20070204,  I08S,    54,  2,      5,      5,2,20070303,1821,-45.4372,  94.6367, 3133,   2189.8,   2.1563,  34.7503,2,  34.7506,2,    194.5,2,    194.9,2,    79.62,2,    29.92,2,     0.00,2,     2.06,2,    0.087,2,    0.040,2, -999.000,5,   2242.5,2,   2342.9,2,   -999.0,9,  -999.00,9, -999.000,9, -999.000,-999.0000,9,-999.0000,  -999.00,9,  -999.00, -999.000,9, -999.000,   -999.0,9,   -999.0,  -999.00,9,-999.0000,9,-999.0000,9,-999.0000,9,-999.0000,9,-999.0000,9,-999.0000,9
  33RR20070204,  I08S,    54,  2,      4,      4,2,20070303,1821,-45.4372,  94.6367, 3133,   2442.9,   1.8937,  34.7525,2,  34.7527,2,    197.8,2,    197.3,2,    88.15,2,    30.10,2,     0.00,2,     2.08,2,    0.074,2,    0.033,2, -999.000,5,   -999.0,9,   -999.0,9,   -999.0,9,  -999.00,9, -999.000,9, -999.000,-999.0000,9,-999.0000,  -999.00,9,  -999.00, -999.000,9, -999.000,   -999.0,9,   -999.0,  -999.00,9,-999.0000,9,-999.0000,9,-999.0000,9,-999.0000,9,-999.0000,9,-999.0000,9
  33RR20070204,  I08S,    54,  2,      3,      3,2,20070303,1821,-45.4372,  94.6367, 3133,   2697.0,   1.5696,  34.7416,2,  34.7419,2,    200.2,2,    200.4,2,    99.42,2,    30.63,2,     0.00,2,     2.12,2, -999.000,5, -999.000,5, -999.000,5,   -999.0,9,   2352.8,2,   -999.0,9,  -999.00,9, -999.000,9, -999.000,-999.0000,9,-999.0000,  -999.00,9,  -999.00, -999.000,9, -999.000,   -999.0,9,   -999.0,  -999.00,9,-999.0000,9,-999.0000,9,-999.0000,9,-999.0000,9,-999.0000,9,-999.0000,9
  33RR20070204,  I08S,    54,  2,      2,      2,2,20070303,1821,-45.4372,  94.6367, 3133,   2950.8,   1.3784,  34.7330,2,  34.7330,2,    202.6,2,    202.5,2,   106.12,2,    31.01,2,     0.00,2,     2.14,2,    0.107,2,    0.047,2, -999.000,5,   -999.0,9,   2356.9,2,   -999.0,9,  -999.00,9, -999.000,9, -999.000,-999.0000,9,-999.0000,  -999.00,9,  -999.00, -999.000,9, -999.000,   -999.0,9,   -999.0,  -999.00,9,-999.0000,9,-999.0000,9,-999.0000,9,-999.0000,9,-999.0000,9,-999.0000,9
  33RR20070204,  I08S,    54,  2,      1,      1,2,20070303,1821,-45.4372,  94.6367, 3133,   3177.4,   1.3102,  34.7295,2,  34.7301,2,    203.5,2,    207.6,2,   107.36,2,    31.13,2,     0.00,2,     2.15,2,    0.128,2,    0.058,2, -999.000,5,   2258.2,2,   2357.3,2,   -999.0,9,  -999.00,9, -999.000,9, -999.000,-999.0000,9,-999.0000,  -999.00,9,  -999.00, -999.000,9, -999.000,   -999.0,9,   -999.0,  -999.00,9,-999.0000,9,-999.0000,9,-999.0000,9,-999.0000,9,-999.0000,9,-999.0000,9