BOTTLE,20150626SIOCCHRJL
EXPOCODE,SECT_ID,STNNBR,CASTNO,SAMPNO,BTLNBR,BTLNBR_FLAG_W,DATE,TIME,LATITUDE,LONGITUDE,DEPTH,CTDPRS,CTDTMP,CTDSAL,CTDSAL_FLAG_W,SALNTY,SALNTY_FLAG_W,CTDOXY,CTDOXY_FLAG_W,OXYGEN,OXYGEN_FLAG_W,SILCAT,SILCAT_FLAG_W,NITRAT,NITRAT_FLAG_W,NITRIT,NITRIT_FLAG_W,PHSPHT,PHSPHT_FLAG_W,CFC-11,CFC-11_FLAG_W,CFC-12,CFC-12_FLAG_W,CFC113,CFC113_FLAG_W,TCARBN,TCARBN_FLAG_W,ALKALI,ALKALI_FLAG_W,DOC,DOC_FLAG_W,TDN,TDN_FLAG_W,TRITUM,TRITUM_FLAG_W,TRITER,HELIUM,HELIUM_FLAG_W,HELIER,DELHE3,DELHE3_FLAG_W,DELHER,NEON,NEON_FLAG_W,NEONER,DELC14,DELC14_FLAG_W,C14ERR,DELC13,DELC13_FLAG_W,CDOM325,CDOM325_FLAG_W,CDOM340,CDOM340_FLAG_W,CDOM380,CDOM380_FLAG_W,CDOM412,CDOM412_FLAG_W,CDOMSL,CDOMSL_FLAG_W,CDOMSN,CDOMSN_FLAG_W
,,,,,,,,,,,METERS,DBAR,ITS-90,PSS-78,,PSS-78,,UMOL/KG,,UMOL/KG,,UMOL/KG,,UMOL/KG,,UMOL/KG,,UMOL/KG,,PMOL/KG,,PMOL/KG,,PMOL/KG,,UMOL/KG,,UMOL/KG,,UMOL/KG,,UMOL/KG,,TU,,TU,NMOL/KG,,NMOL/KG,PERCNT,,PERCNT,NMOL/KG,,NMOL/KG,/MILLE,,/MILLE,/MILLE,,1/M,,1/M,,1/M,,1/M,,1/NM,,1/NM,
  33RR20070204,  I08S,     8,  1,     36,     36,2,20070217,0909,-63.9457,  83.1313, 3655,      4.2,   0.7388,  33.7279,2,  33.7230,2,    339.8,2,    342.2,2,    27.91,2,    23.19,2,     0.23,2,     1.51,2,    5.913,2,    3.209,2, -999.000,5,   -999.0,9,   2284.9,2,   -999.0,9,  -999.00,9,    0.287,2,    0.006,   1.7771,4,   0.0004,    -0.66,3,     0.20,    8.004,2,    0.007,   -999.0,9,   -999.0,  -999.00,9,-999.0000,9,-999.0000,9,-999.0000,9,-999.0000,9,-999.0000,9,-999.0000,9
  33RR20070204,  I08S,     8,  1,     35,     35,2,20070217,0909,-63.9457,  83.1313, 3655,     32.4,   0.7415,  33.7278,2,  33.7289,2,    341.0,2,    341.1,2,    27.90,2,    23.19,2,     0.22,2,     1.51,2,    5.893,2,    3.206,2, -999.000,5,   2140.3,6,   2284.2,2,   -999.0,9,  -999.00,9, -999.000,9, -999.000,   1.8050,2,   0.0004,    -2.29,2,     0.22,    8.095,2,    0.007,   -999.0,9,   -999.0,  -999.00,9,-999.0000,9,-999.0000,9,-999.0000,9,-999.0000,9,-999.0000,9,-999.0000,9
  33RR20070204,  I08S,     8,  1,     34,   9433,2,20070217,0909,-63.9457,  83.1313, 3655,     67.6,  -0.6971,  34.1645,2,  34.1607,2,    260.1,2,    260.1,2,    60.32,2,    32.09,2,     0.17,2,     2.29,2,    3.994,2,    2.125,2, -999.000,5,   -999.0,9,   2305.3,2,   -999.0,9,  -999.00,9,    0.193,2,    0.005,   1.8346,2,   0.0004,     2.85,2,     0.21,    8.179,2,    0.006,   -999.0,9,   -999.0,  -999.00,9,-999.0000,9,-999.0000,9,-999.0000,9,-999.0000,9,-999.0000,9,-999.0000,9
  33RR20070204,  I08S,     8,  1,     33,     33,2,20070217,0909,-63.9457,  83.1313, 3655,     87.7,   0.2082,  34.3225,2,  34.3198,2,    227.3,2,    226.1,2,    68.55,2,    33.56,2,     0.20,2,     2.36,2,    2.924,2,    1.521,2, -999.000,5,   2238.8,2,   2315.1,2,   -999.0,9,  -999.00,9,    0.094,2,    0.004,   1.9552,3,   0.0005,     5.00,2,     0.19,    8.570,2,    0.007,   -999.0,9,   -999.0,  -999.00,9,-999.0000,9,-999.0000,9,-999.0000,9,-999.0000,9,-999.0000,9,-999.0000,9
  33RR20070204,  I08S,     8,  1,     32,     32,2,20070217,0909,-63.9457,  83.1313, 3655,    118.0,   1.4093,  34.5090,2,  34.5090,2,    185.7,2,    186.7,2,    78.00,2,    34.87,2,     0.06,2,     2.42,2, -999.000,9, -999.000,9, -999.000,9,   2254.6,2,   2327.5,2,   -999.0,9,  -999.00,9, -999.000,9, -999.000,-999.0000,9,-999.0000,  -999.00,9,  -999.00, -999.000,9, -999.000,   -999.0,9,   -999.0,  -999.00,9,-999.0000,9,-999.0000,9,-999.0000,9,-999.0000,9,-999.0000,9,-999.0000,9
  33RR20070204,  I08S,     8,  1,     31,     31,2,20070217,0909,-63.9457,  83.1313, 3655,    138.0,   1.6040,  34.5481,2,  34.5465,2,    181.7,2,    181.0,2,    80.01,2,    34.88,2,     0.04,2,     2.41,2,    1.209,2,    0.631,2, -999.000,5,   2256.2,2,   2330.3,2,   -999.0,9,  -999.00,9,    0.171,2,    0.005,   1.9014,2,   0.0004,     8.36,2,     0.19,    8.309,2,    0.007,   -999.0,9,   -999.0,  -999.00,9,-999.0000,9,-999.0000,9,-999.0000,9,-999.0000,9,-999.0000,9,-999.0000,9
  33RR20070204,  I08S,     8,  1,     30,     30,2,20070217,0909,-63.9457,  83.1313, 3655,    168.2,   1.7979,  34.5924,2,  34.5915,2,    177.0,2,    176.1,2,    82.23,2,    34.59,2,     0.03,2,     2.40,2,    0.901,2,    0.468,2, -999.000,5,   2258.9,2,   2334.0,2,   -999.0,9,  -999.00,9,    0.147,2,    0.005,   1.8741,2,   0.0004,     8.54,2,     0.20,    8.204,2,    0.007,   -999.0,9,   -999.0,  -999.00,9,-999.0000,9,-999.0000,9,-999.0000,9,-999.0000,9,-999.0000,9,-999.0000,9
  33RR20070204,  I08S,     8,  1,     29,     29,2,20070217,0909,-63.9457,  83.1313, 3655,    218.9,   1.9300,  34.6362,2,  34.6359,2,    175.1,2,    175.2,2,    83.43,2,    34.03,2,     0.01,2,     2.37,2,    0.625,2,    0.322,2, -999.000,5,   2259.3,6,   2337.5,2,   -999.0,9,  -999.00,9,    0.113,2,    0.004,   1.8910,2,   0.0005,    10.20,2,     0.20,    8.255,2,    0.007,   -999.0,9,   -999.0,  -999.00,9,-999.0000,9,-999.0000,9,-999.0000,9,-999.0000,9,-999.0000,9,-999.0000,9
  33RR20070204,  I08S,     8,  1,     28,     28,2,20070217,0909,-63.9457,  83.1313, 3655,    268.8,   1.9303,  34.6575,2,  34.6571,2,    175.7,2,    175.6,2,    84.24,2,    33.54,2,     0.01,2,     2.33,2,    0.541,2,    0.276,2, -999.000,5,   2258.9,2,   2339.7,2,   -999.0,9,  -999.00,9,    0.059,2,    0.003,   1.8688,2,   0.0004,     9.96,2,     0.20,    8.135,2,    0.007,   -999.0,9,   -999.0,  -999.00,9,-999.0000,9,-999.0000,9,-999.0000,9,-999.0000,9,-999.0000,9,-999.0000,9
  33RR20070204,  I08S,     8,  1,     27,     27,2,20070217,0909,-63.9457,  83.1313, 3655,    319.0,   1.9368,  34.6791,2,  34.6786,2,    177.3,2,    178.2,2,    84.63,2,    33.01,2,     0.01,2,     2.30,2,    0.449,2,    0.228,2, -999.000,5,   2256.4,2,   2340.3,2,   -999.0,9,  -999.00,9,    0.163,2,    0.006,   1.8629,2,   0.0004,     9.42,2,     0.20,    8.128,2,    0.007,   -999.0,9,   -999.0,  -999.00,9,-999.0000,9,-999.0000,9,-999.0000,9,-999.0000,9,-999.0000,9,-999.0000,9
  33RR20070204,  I08S,     8,  1,     26,     26,2,20070217,0909,-63.9457,  83.1313, 3655,    369.3,   1.9320,  34.6942,2,  34.6941,2,    179.8,2,    180.3,2,    84.63,2,    32.61,2,     0.01,2,     2.27,2,    0.390,2,    0.196,2, -999.000,5,   2254.4,2,   2341.6,2,   -999.0,9,  -999.00,9,    0.052,2,    0.002,   1.8911,2,   0.0006,     9.07,2,     0.21,    8.304,2,    0.007,   -999.0,9,   -999.0,  -999.00,9,-999.0000,9,-999.0000,9,-999.0000,9,-999.0000,9,-999.0000,9,-999.0000,9
  33RR20070204,  I08S,     8,  1,     25,     25,2,20070217,0909,-63.9457,  83.1313, 3655,    419.1,   1.9126,  34.7061,2,  34.7063,2,    182.0,2,    182.5,2,    85.22,2,    32.22,2,     0.01,2,     2.25,2,    0.339,2,    0.174,2, -999.000,5,   2251.9,2,   2342.4,2,   -999.0,9,  -999.00,9, -999.000,9, -999.000,-999.0000,9,-999.0000,  -999.00,9,  -999.00, -999.000,9, -999.000,   -999.0,9,   -999.0,  -999.00,9,-999.0000,9,-999.0000,9,-999.0000,9,-999.0000,9,-999.0000,9,-999.0000,9
  33RR20070204,  I08S,     8,  1,     24,     24,2,20070217,0909,-63.9457,  83.1313, 3655,    469.8,   1.8889,  34.7144,2,  34.7146,2,    184.6,2,    185.2,2,    85.83,2,    31.93,2,     0.01,2,     2.23,2,    0.323,2,    0.161,2, -999.000,5,   -999.0,9,   -999.0,9,   -999.0,9,  -999.00,9,    0.019,2,    0.003,   1.8992,2,   0.0004,     9.88,2,     0.20,    8.272,2,    0.007,   -999.0,9,   -999.0,  -999.00,9,-999.0000,9,-999.0000,9,-999.0000,9,-999.0000,9,-999.0000,9,-999.0000,9
  33RR20070204,  I08S,     8,  1,     23,     23,2,20070217,0909,-63.9457,  83.1313, 3655,    530.5,   1.8412,  34.7225,2,  34.7224,2,    186.5,2,    187.2,2,    86.43,2,    31.69,2,     0.01,2,     2.21,2,    0.300,2,    0.146,2, -999.000,5,   -999.0,9,   -999.0,9,   -999.0,9,  -999.00,9,    0.041,2,    0.004,   1.8676,2,   0.0004,     8.85,2,     0.20,    8.133,2,    0.007,   -999.0,9,   -999.0,  -999.00,9,-999.0000,9,-999.0000,9,-999.0000,9,-999.0000,9,-999.0000,9,-999.0000,9
  33RR20070204,  I08S,     8,  1,     22,     22,2,20070217,0909,-63.9457,  83.1313, 3655,    641.6,   1.7605,  34.7339,2,  34.7342,2,    191.8,2,    191.5,2,    87.84,2,    31.25,2,     0.01,2,     2.18,2,    0.257,2,    0.125,2, -999.000,5,   -999.0,9,   -999.0,9,   -999.0,9,  -999.00,9, -999.000,9, -999.000,   1.8513,2,   0.0005,     9.99,2,     0.23,    8.089,2,    0.006,   -999.0,9,   -999.0,  -999.00,9,-999.0000,9,-999.0000,9,-999.0000,9,-999.0000,9,-999.0000,9,-999.0000,9
  33RR20070204,  I08S,     8,  1,     21,     21,2,20070217,0909,-63.9457,  83.1313, 3655,    742.6,   1.6903,  34.7408,2,  34.7412,2,    195.4,2,    194.4,2,    89.05,2,    30.86,2,     0.01,2,     2.15,2,    0.234,2,    0.112,2, -999.000,5,   -999.0,9,   -999.0,9,   -999.0,9,  -999.00,9, -999.000,9, -999.000,   1.8412,2,   0.0004,     9.64,2,     0.21,    8.097,2,    0.007,   -999.0,9,   -999.0,  -999.00,9,-999.0000,9,-999.0000,9,-999.0000,9,-999.0000,9,-999.0000,9,-999.0000,9
  33RR20070204,  I08S,     8,  1,     20,     20,2,20070217,0909,-63.9457,  83.1313, 3655,    844.1,   1.6058,  34.7429,2,  34.7431,2,    198.3,2,    197.2,2,    90.87,2,    30.62,2,     0.00,2,     2.14,2,    0.214,3,    0.103,2, -999.000,5,   -999.0,9,   -999.0,9,   -999.0,9,  -999.00,9, -999.000,9, -999.000,   1.8690,2,   0.0004,     7.57,3,     0.19,    8.172,2,    0.008,   -999.0,9,   -999.0,  -999.00,9,-999.0000,9,-999.0000,9,-999.0000,9,-999.0000,9,-999.0000,9,-999.0000,9
  33RR20070204,  I08S,     8,  1,     19,     19,2,20070217,0909,-63.9457,  83.1313, 3655,    945.1,   1.5136,  34.7423,2,  34.7361,0,    200.8,2,    201.2,2,    97.96,2,    30.86,2,     0.00,2,     2.15,2,    0.207,2,    0.098,2, -999.000,5,   -999.0,9,   -999.0,9,   -999.0,9,  -999.00,9,    0.001,2,    0.004,   1.8946,2,   0.0005,     6.90,3,     0.22,    8.270,2,    0.007,   -999.0,9,   -999.0,  -999.00,9,-999.0000,9,-999.0000,9,-999.0000,9,-999.0000,9,-999.0000,9,-999.0000,9
  33RR20070204,  I08S,     8,  1,     18,     18,2,20070217,0909,-63.9457,  83.1313, 3655,   1046.1,   1.4135,  34.7400,2,  34.7410,2,    202.9,2,    201.1,2,    95.11,2,    30.71,2,     0.01,2,     2.14,2,    0.203,2,    0.095,2, -999.000,5,   2248.0,2,   2352.0,2,   -999.0,9,  -999.00,9,    0.001,2,    0.004,   1.8998,2,   0.0006,     9.19,2,     0.18,    8.246,2,    0.010,   -999.0,9,   -999.0,  -999.00,9,-999.0000,9,-999.0000,9,-999.0000,9,-999.0000,9,-999.0000,9,-999.0000,9
  33RR20070204,  I08S,     8,  1,     17,     17,2,20070217,0909,-63.9457,  83.1313, 3655,   1146.8,   1.3302,  34.7378,2,  34.7388,2,    203.5,2,    202.7,2,    97.55,2,    30.76,2,     0.00,2,     2.14,2,    0.200,2,    0.091,2, -999.000,5,   -999.0,9,   -999.0,9,   -999.0,9,  -999.00,9,    0.001,2,    0.004,   1.9046,2,   0.0004,     8.80,2,     0.17,    8.284,2,    0.010,   -999.0,9,   -999.0,  -999.00,9,-999.0000,9,-999.0000,9,-999.0000,9,-999.0000,9,-999.0000,9,-999.0000,9
  33RR20070204,  I08S,     8,  1,     16,     16,2,20070217,0909,-63.9457,  83.1313, 3655,   1248.0,   1.2315,  34.7325,2,  34.7322,2,    204.4,2,    203.4,2,   100.59,2,    30.96,2,     0.00,2,     2.16,2,    0.205,2,    0.096,2, -999.000,5,   -999.0,9,   -999.0,9,   -999.0,9,  -999.00,9,    0.001,2,    0.003,   1.8836,2,   0.0006,     8.49,2,     0.18,    8.222,2,    0.009,   -999.0,9,   -999.0,  -999.00,9,-999.0000,9,-999.0000,9,-999.0000,9,-999.0000,9,-999.0000,9,-999.0000,9
  33RR20070204,  I08S,     8,  1,     15,     15,2,20070217,0909,-63.9457,  83.1313, 3655,   1348.4,   1.1325,  34.7276,2,  34.7281,2,    204.4,2,    205.1,2,   103.03,2,    31.04,2,     0.00,2,     2.16,2,    0.210,2,    0.096,2, -999.000,5,   -999.0,9,   -999.0,9,   -999.0,9,  -999.00,9,    0.001,2,    0.003,   1.8907,2,   0.0006,     8.70,2,     0.18,    8.191,2,    0.009,   -999.0,9,   -999.0,  -999.00,9,-999.0000,9,-999.0000,9,-999.0000,9,-999.0000,9,-999.0000,9,-999.0000,9
  33RR20070204,  I08S,     8,  1,     14,     14,2,20070217,0909,-63.9457,  83.1313, 3655,   1449.2,   1.0583,  34.7245,2,  34.7247,2,    205.6,2,    205.6,2,   105.67,2,    31.19,2,     0.00,2,     2.18,2, -999.000,9, -999.000,9, -999.000,9,   -999.0,9,   -999.0,9,   -999.0,9,  -999.00,9, -999.000,9, -999.000,-999.0000,9,-999.0000,  -999.00,9,  -999.00, -999.000,9, -999.000,   -999.0,9,   -999.0,  -999.00,9,-999.0000,9,-999.0000,9,-999.0000,9,-999.0000,9,-999.0000,9,-999.0000,9
  33RR20070204,  I08S,     8,  1,     13,     13,2,20070217,0909,-63.9457,  83.1313, 3655,   1549.0,   0.9796,  34.7200,2,  34.7212,2,    206.0,2,    206.2,2,   108.52,2,    31.39,2,     0.00,2,     2.19,2,    0.196,2,    0.089,2, -999.000,5,   -999.0,9,   -999.0,9,   -999.0,9,  -999.00,9,    0.001,2,    0.003,   1.9008,2,   0.0007,     8.75,2,     0.18,    8.369,2,    0.010,   -999.0,9,   -999.0,  -999.00,9,-999.0000,9,-999.0000,9,-999.0000,9,-999.0000,9,-999.0000,9,-999.0000,9
  33RR20070204,  I08S,     8,  1,     12,     12,2,20070217,0909,-63.9457,  83.1313, 3655,   1654.4,   0.8844,  34.7146,2,  34.7153,2,    206.3,2,    207.2,2,   111.16,2,    31.58,2,     0.00,2,     2.20,2,    0.196,2,    0.093,2, -999.000,5,   -999.0,9,   -999.0,9,   -999.0,9,  -999.00,9, -999.000,9, -999.000,   1.8938,2,   0.0006,     8.43,2,     0.19,    8.288,2,    0.010,   -999.0,9,   -999.0,  -999.00,9,-999.0000,9,-999.0000,9,-999.0000,9,-999.0000,9,-999.0000,9,-999.0000,9
  33RR20070204,  I08S,     8,  1,     11,     11,2,20070217,0909,-63.9457,  83.1313, 3655,   1754.8,   0.8100,  34.7100,2,  34.7094,2,    207.1,2,    207.3,2,   112.99,2,    31.77,2,     0.00,2,     2.22,2,    0.203,2,    0.094,2, -999.000,5,   -999.0,9,   -999.0,9,   -999.0,9,  -999.00,9,    0.001,2,    0.004,   1.9393,2,   0.0008,     8.23,2,     0.18,    8.434,2,    0.010,   -999.0,9,   -999.0,  -999.00,9,-999.0000,9,-999.0000,9,-999.0000,9,-999.0000,9,-999.0000,9,-999.0000,9
  33RR20070204,  I08S,     8,  1,     10,     10,2,20070217,0909,-63.9457,  83.1313, 3655,   1855.6,   0.7443,  34.7061,2,  34.7065,2,    207.8,2,    208.0,2,   115.04,2,    31.91,2,     0.00,2,     2.23,2,    0.203,2,    0.096,2, -999.000,5,   2256.7,2,   2355.0,2,   -999.0,9,  -999.00,9,    0.001,2,    0.004,   1.8948,2,   0.0006,     8.32,2,     0.19,    8.240,2,    0.010,   -999.0,9,   -999.0,  -999.00,9,-999.0000,9,-999.0000,9,-999.0000,9,-999.0000,9,-999.0000,9,-999.0000,9
  33RR20070204,  I08S,     8,  1,      9,      9,2,20070217,0909,-63.9457,  83.1313, 3655,   1957.0,   0.6732,  34.7019,2,  34.7010,2,    208.1,2,    208.5,2,   117.68,2,    32.15,2,     0.00,2,     2.24,2,    0.204,2,    0.094,2, -999.000,5,   -999.0,9,   -999.0,9,   -999.0,9,  -999.00,9,    0.001,2,    0.004,   1.9154,2,   0.0007,     8.25,2,     0.19,    8.388,2,    0.010,   -999.0,9,   -999.0,  -999.00,9,-999.0000,9,-999.0000,9,-999.0000,9,-999.0000,9,-999.0000,9,-999.0000,9
  33RR20070204,  I08S,     8,  1,      8,      8,2,20070217,0909,-63.9457,  83.1313, 3655,   2120.7,   0.5668,  34.6954,2,  34.6957,2,    208.5,2,    209.4,2,   120.55,2,    32.39,2,     0.00,2,     2.26,2,    0.215,2,    0.103,2, -999.000,5,   -999.0,9,   -999.0,9,   -999.0,9,  -999.00,9, -999.000,9, -999.000,-999.0000,9,-999.0000,  -999.00,9,  -999.00, -999.000,9, -999.000,   -999.0,9,   -999.0,  -999.00,9,-999.0000,9,-999.0000,9,-999.0000,9,-999.0000,9,-999.0000,9,-999.0000,9
  33RR20070204,  I08S,     8,  1,      7,      7,2,20070217,0909,-63.9457,  83.1313, 3655,   2375.6,   0.4395,  34.6886,2,  34.6886,2,    211.0,2,    211.8,2,   123.82,2,    32.64,2,     0.00,2,     2.28,2,    0.206,2,    0.098,2, -999.000,5,   2258.7,2,   2354.7,2,   -999.0,9,  -999.00,9,    0.001,2,    0.004,   1.9512,3,   0.0006,     7.56,2,     0.18,    8.444,2,    0.010,   -999.0,9,   -999.0,  -999.00,9,-999.0000,9,-999.0000,9,-999.0000,9,-999.0000,9,-999.0000,9,-999.0000,9
  33RR20070204,  I08S,     8,  1,      6,      6,2,20070217,0909,-63.9457,  83.1313, 3655,   2627.7,   0.3085,  34.6820,2,  34.6822,2,    214.8,2,    215.3,2,   125.25,2,    32.68,2,     0.00,2,     2.28,2,    0.243,2,    0.121,2, -999.000,5,   -999.0,9,   -999.0,9,   -999.0,9,  -999.00,9,    0.001,2,    0.005,   1.9077,2,   0.0008,     7.35,2,     0.18,    8.359,2,    0.010,   -999.0,9,   -999.0,  -999.00,9,-999.0000,9,-999.0000,9,-999.0000,9,-999.0000,9,-999.0000,9,-999.0000,9
  33RR20070204,  I08S,     8,  1,      5,      5,2,20070217,0909,-63.9457,  83.1313, 3655,   2881.1,   0.2142,  34.6777,2,  34.6780,2,    219.2,2,    220.2,2,   126.48,2,    32.63,2,     0.00,2,     2.29,2,    0.346,2,    0.175,2, -999.000,5,   -999.0,9,   -999.0,9,   -999.0,9,  -999.00,9,    0.001,2,    0.004,   1.9417,2,   0.0007,     6.91,2,     0.18,    8.469,2,    0.010,   -999.0,9,   -999.0,  -999.00,9,-999.0000,9,-999.0000,9,-999.0000,9,-999.0000,9,-999.0000,9,-999.0000,9
  33RR20070204,  I08S,     8,  1,      4,      4,2,20070217,0909,-63.9457,  83.1313, 3655,   3135.1,   0.1417,  34.6744,2,  34.6739,2,    222.8,2,    222.3,2,   129.13,2,    32.68,2,     0.00,2,     2.28,2,    0.336,2,    0.170,2, -999.000,5,   -999.0,9,   -999.0,2,   -999.0,9,  -999.00,9, -999.000,9, -999.000,   1.9865,3,   0.0007,     6.89,2,     0.17,    8.656,3,    0.010,   -999.0,9,   -999.0,  -999.00,9,-999.0000,9,-999.0000,9,-999.0000,9,-999.0000,9,-999.0000,9,-999.0000,9
  33RR20070204,  I08S,     8,  1,      3,      3,2,20070217,0909,-63.9457,  83.1313, 3655,   3337.8,   0.0777,  34.6716,2,  34.6712,2,    225.8,2,    224.8,2,   129.55,2,    32.63,2,     0.00,2,     2.29,2,    0.419,2,    0.216,2, -999.000,5,   2256.8,6,   2353.0,2,   -999.0,9,  -999.00,9,    0.011,2,    0.004,-999.0000,9,-999.0000,  -999.00,9,  -999.00, -999.000,9, -999.000,   -999.0,9,   -999.0,  -999.00,9,-999.0000,9,-999.0000,9,-999.0000,9,-999.0000,9,-999.0000,9,-999.0000,9
  33RR20070204,  I08S,     8,  1,      2,      2,2,20070217,0909,-63.9457,  83.1313, 3655,   3545.9,  -0.0095,  34.6686,2,  34.6686,2,    230.2,2,    229.3,2,   129.75,2,    32.48,2,     0.00,2,     2.27,2,    0.670,2,    0.347,2, -999.000,5,   2255.7,6,   2352.7,2,   -999.0,9,  -999.00,9, -999.000,9, -999.000,   1.9251,2,   0.0005,     6.48,2,     0.20,    8.416,2,    0.009,   -999.0,9,   -999.0,  -999.00,9,-999.0000,9,-999.0000,9,-999.0000,9,-999.0000,9,-999.0000,9,-999.0000,9
  33RR20070204,  I08S,     8,  1,      1,      1,2,20070217,0909,-63.9457,  83.1313, 3655,   3706.9,  -0.1116,  34.6643,2,  34.6651,2,    232.1,2,    232.2,2,   137.15,2,    32.58,2,     0.00,2,     2.28,2,    0.730,2,    0.377,2, -999.000,5,   2254.9,2,   2354.4,2,   -999.0,9,  -999.00,9, -999.000,9, -999.000,   1.9543,2,   0.0006,     5.35,2,     0.18,    8.512,2,    0.010,   -999.0,9,   -999.0,  -999.00,9,-999.0000,9,-999.0000,9,-999.0000,9,-999.0000,9,-999.0000,9,-999.0000,9