BOTTLE,20150626SIOCCHRJL
EXPOCODE,SECT_ID,STNNBR,CASTNO,SAMPNO,BTLNBR,BTLNBR_FLAG_W,DATE,TIME,LATITUDE,LONGITUDE,DEPTH,CTDPRS,CTDTMP,CTDSAL,CTDSAL_FLAG_W,SALNTY,SALNTY_FLAG_W,CTDOXY,CTDOXY_FLAG_W,OXYGEN,OXYGEN_FLAG_W,SILCAT,SILCAT_FLAG_W,NITRAT,NITRAT_FLAG_W,NITRIT,NITRIT_FLAG_W,PHSPHT,PHSPHT_FLAG_W,CFC-11,CFC-11_FLAG_W,CFC-12,CFC-12_FLAG_W,CFC113,CFC113_FLAG_W,TCARBN,TCARBN_FLAG_W,ALKALI,ALKALI_FLAG_W,DOC,DOC_FLAG_W,TDN,TDN_FLAG_W,TRITUM,TRITUM_FLAG_W,TRITER,HELIUM,HELIUM_FLAG_W,HELIER,DELHE3,DELHE3_FLAG_W,DELHER,NEON,NEON_FLAG_W,NEONER,DELC14,DELC14_FLAG_W,C14ERR,DELC13,DELC13_FLAG_W,CDOM325,CDOM325_FLAG_W,CDOM340,CDOM340_FLAG_W,CDOM380,CDOM380_FLAG_W,CDOM412,CDOM412_FLAG_W,CDOMSL,CDOMSL_FLAG_W,CDOMSN,CDOMSN_FLAG_W
,,,,,,,,,,,METERS,DBAR,ITS-90,PSS-78,,PSS-78,,UMOL/KG,,UMOL/KG,,UMOL/KG,,UMOL/KG,,UMOL/KG,,UMOL/KG,,PMOL/KG,,PMOL/KG,,PMOL/KG,,UMOL/KG,,UMOL/KG,,UMOL/KG,,UMOL/KG,,TU,,TU,NMOL/KG,,NMOL/KG,PERCNT,,PERCNT,NMOL/KG,,NMOL/KG,/MILLE,,/MILLE,/MILLE,,1/M,,1/M,,1/M,,1/M,,1/NM,,1/NM,
  33RR20070204,  I08S,    35,  1,     36,     36,2,20070226,0347,-53.5267,  87.0230, 4579,      4.2,   4.6306,  33.8068,2,  33.8067,2,    306.2,2,    311.2,2,     6.25,2,    21.18,2,     0.23,2,     1.57,2,    4.894,2,    2.730,2, -999.000,5,   2124.3,2,   2275.0,2,     48.5,2,    25.85,2, -999.000,9, -999.000,-999.0000,9,-999.0000,  -999.00,9,  -999.00, -999.000,9, -999.000,   -999.0,9,   -999.0,  -999.00,9,   0.0924,2,   0.0624,2,   0.0327,2,   0.0251,2,   0.0138,3,   0.0161,3
  33RR20070204,  I08S,    35,  1,     35,     35,2,20070226,0347,-53.5267,  87.0230, 4579,     42.1,   4.5600,  33.8073,2,  33.8067,2,    310.1,2,    310.9,2,     6.25,2,    21.23,2,     0.22,2,     1.58,2,    4.861,2,    2.695,2, -999.000,5,   2125.8,6,   2273.5,2,     48.2,2,    25.11,2, -999.000,9, -999.000,-999.0000,9,-999.0000,  -999.00,9,  -999.00, -999.000,9, -999.000,   -999.0,9,   -999.0,  -999.00,9,   0.0938,2,   0.0635,2,   0.0334,2,   0.0256,2,   0.0140,3,   0.0161,3
  33RR20070204,  I08S,    35,  1,     34,   9433,2,20070226,0347,-53.5267,  87.0230, 4579,     76.7,   4.5412,  33.8084,2,  33.8083,2,    309.9,2,    309.4,2,     6.25,2,    21.27,2,     0.23,2,     1.59,2,    4.955,2,    2.793,2, -999.000,5,   2124.0,2,   2275.8,2,     46.1,2,    26.74,2, -999.000,9, -999.000,-999.0000,9,-999.0000,  -999.00,9,  -999.00, -999.000,9, -999.000,   -999.0,9,   -999.0,  -999.00,9,   0.0954,2,   0.0643,2,   0.0348,2,   0.0268,2,   0.0135,3,   0.0154,3
  33RR20070204,  I08S,    35,  1,     33,     33,2,20070226,0347,-53.5267,  87.0230, 4579,     96.6,   4.4870,  33.8105,2,  33.8155,2,    309.2,2,    309.1,2,     6.45,2,    21.46,2,     0.23,2,     1.60,2,    5.009,2,    2.806,2, -999.000,5,   2127.2,2,   2275.0,2,     45.4,2,    25.49,2, -999.000,9, -999.000,-999.0000,9,-999.0000,  -999.00,9,  -999.00, -999.000,9, -999.000,   -999.0,9,   -999.0,  -999.00,9,   0.0964,2,   0.0659,2,   0.0365,2,   0.0281,2,   0.0135,3,   0.0150,3
  33RR20070204,  I08S,    35,  1,     32,     32,2,20070226,0347,-53.5267,  87.0230, 4579,    126.8,   3.2765,  33.8763,2,  33.8758,2,    302.7,2,    303.2,2,    13.93,2,    26.39,2,     0.23,2,     1.85,2,    5.063,2,    2.746,2, -999.000,5,   2151.1,2,   2274.0,2,     44.7,2,    30.13,2, -999.000,9, -999.000,-999.0000,9,-999.0000,  -999.00,9,  -999.00, -999.000,9, -999.000,    -61.5,2,      2.3,     1.13,2,   0.0855,2,   0.0562,2,   0.0314,2,   0.0247,2,   0.0132,3,   0.0153,3
  33RR20070204,  I08S,    35,  1,     31,     31,2,20070226,0347,-53.5267,  87.0230, 4579,    146.6,   3.1207,  33.9101,2,  33.9085,2,    293.6,2,    299.2,2,    15.75,2,    27.22,2,     0.21,2,     1.90,2,    5.247,2,    2.899,2, -999.000,5,   2155.8,2,   2273.0,2,     44.3,2,    30.88,2, -999.000,9, -999.000,-999.0000,9,-999.0000,  -999.00,9,  -999.00, -999.000,9, -999.000,    -51.9,2,      3.3,     1.41,2,   0.0873,2,   0.0578,2,   0.0329,2,   0.0262,2,   0.0130,3,   0.0148,3
  33RR20070204,  I08S,    35,  1,     30,     30,2,20070226,0347,-53.5267,  87.0230, 4579,    176.2,   2.8447,  33.9547,2,  33.9820,2,    286.5,2,    294.0,2,    19.38,2,    28.31,2,     0.04,2,     1.96,2,    5.152,2,    2.830,2, -999.000,5,   2163.7,2,   2275.9,2,     44.0,2,    31.93,2, -999.000,9, -999.000,-999.0000,9,-999.0000,  -999.00,9,  -999.00, -999.000,9, -999.000,    -63.0,2,      2.8,     1.30,2,   0.0856,2,   0.0557,2,   0.0314,2,   0.0254,2,   0.0128,3,   0.0149,3
  33RR20070204,  I08S,    35,  1,     29,     29,2,20070226,0347,-53.5267,  87.0230, 4579,    226.4,   2.8456,  34.0460,2,  34.0423,2,    280.2,2,    279.2,2,    23.23,2,    29.20,2,     0.01,2,     2.00,2,    4.555,2,    2.414,2, -999.000,5,   2170.7,2,   2278.6,2,     43.4,2,    32.29,2, -999.000,9, -999.000,-999.0000,9,-999.0000,  -999.00,9,  -999.00, -999.000,9, -999.000,    -78.6,2,      3.9,     1.19,2,   0.0834,2,   0.0543,2,   0.0309,2,   0.0246,2,   0.0128,3,   0.0149,3
  33RR20070204,  I08S,    35,  1,     28,     28,2,20070226,0347,-53.5267,  87.0230, 4579,    276.4,   3.0315,  34.1467,2,  34.1456,2,    263.3,2,    252.0,2,    27.88,2,    30.35,2,     0.01,2,     2.09,2,    3.863,2,    2.017,2, -999.000,5,   2183.0,2,   2282.6,2,     42.6,2,    34.01,2, -999.000,9, -999.000,-999.0000,9,-999.0000,  -999.00,9,  -999.00, -999.000,9, -999.000,    -61.9,2,      2.9,     1.08,2,   0.0834,2,   0.0537,2,   0.0295,2,   0.0233,2,   0.0132,3,   0.0158,3
  33RR20070204,  I08S,    35,  1,     27,     27,2,20070226,0347,-53.5267,  87.0230, 4579,    326.1,   2.9535,  34.1856,2,  34.1844,2,    248.3,2,    242.1,2,    31.93,2,    31.08,2,     0.01,2,     2.14,2,    3.540,2,    1.837,2, -999.000,5,   2190.7,2,   2284.7,2,     42.2,2,    34.25,2, -999.000,9, -999.000,-999.0000,9,-999.0000,  -999.00,9,  -999.00, -999.000,9, -999.000,    -64.6,2,      2.6,     1.01,2,   0.0866,2,   0.0564,2,   0.0316,2,   0.0247,2,   0.0132,3,   0.0154,3
  33RR20070204,  I08S,    35,  1,     26,     26,2,20070226,0347,-53.5267,  87.0230, 4579,    377.1,   2.5320,  34.1831,2,  34.1856,2,    238.9,2,    243.2,2,    35.98,2,    31.66,2,     0.01,2,     2.18,2,    3.567,2,    1.872,2, -999.000,5,   2195.9,2,   2288.4,2,     42.1,2,    35.11,2, -999.000,9, -999.000,-999.0000,9,-999.0000,  -999.00,9,  -999.00, -999.000,9, -999.000,    -76.8,2,      2.6,     0.99,2,   0.0889,2,   0.0580,2,   0.0325,2,   0.0255,2,   0.0131,3,   0.0152,3
  33RR20070204,  I08S,    35,  1,     25,     25,2,20070226,0347,-53.5267,  87.0230, 4579,    427.2,   2.4701,  34.2339,2,  34.2338,2,    228.7,2,    227.8,2,    42.47,2,    32.68,2,     0.01,2,     2.25,2,    3.073,2,    1.604,2, -999.000,5,   2209.1,2,   2294.5,2,     42.6,2,    36.34,2, -999.000,9, -999.000,-999.0000,9,-999.0000,  -999.00,9,  -999.00, -999.000,9, -999.000,    -94.5,2,      2.8,     0.86,2,   0.0973,2,   0.0645,2,   0.0363,2,   0.0283,2,   0.0132,3,   0.0149,3
  33RR20070204,  I08S,    35,  1,     24,     24,2,20070226,0347,-53.5267,  87.0230, 4579,    476.8,   2.5542,  34.3039,2,  34.3032,2,    211.1,2,    211.9,2,    48.16,2,    33.25,2,     0.01,2,     2.30,2,    2.322,2,    1.189,2, -999.000,5,   2219.0,2,   2300.2,2,     42.2,2,    36.83,2, -999.000,9, -999.000,-999.0000,9,-999.0000,  -999.00,9,  -999.00, -999.000,9, -999.000,    -98.4,2,      2.6,     0.78,2,   0.0994,2,   0.0655,2,   0.0360,2,   0.0274,2,   0.0138,3,   0.0157,3
  33RR20070204,  I08S,    35,  1,     23,     23,2,20070226,0347,-53.5267,  87.0230, 4579,    538.2,   2.6474,  34.3836,2,  34.3823,2,    199.2,2,    194.3,2,    55.27,2,    33.94,2,     0.01,2,     2.35,2,    1.682,2,    0.874,2, -999.000,5,   2232.6,2,   2309.4,2,     41.8,2,    35.99,2, -999.000,9, -999.000,-999.0000,9,-999.0000,  -999.00,9,  -999.00, -999.000,9, -999.000,   -120.6,2,      2.9,     0.70,2,   0.1110,2,   0.0757,2,   0.0425,2,   0.0323,2,   0.0134,3,   0.0148,3
  33RR20070204,  I08S,    35,  1,     22,     22,2,20070226,0347,-53.5267,  87.0230, 4579,    648.2,   2.4420,  34.4380,2,  34.4367,2,    185.1,2,    186.0,2,    62.39,2,    34.52,2,     0.01,2,     2.38,2, -999.000,9, -999.000,9, -999.000,9,   2240.2,2,   2314.2,2,     41.2,2,    37.22,2, -999.000,9, -999.000,-999.0000,9,-999.0000,  -999.00,9,  -999.00, -999.000,9, -999.000,   -123.8,2,      2.5,     0.59,2,   0.1144,2,   0.0774,2,   0.0428,2,   0.0321,2,   0.0138,3,   0.0153,3
  33RR20070204,  I08S,    35,  1,     21,     21,2,20070226,0347,-53.5267,  87.0230, 4579,    748.6,   2.4553,  34.5100,2,  34.5084,2,    178.2,2,    178.2,2,    66.86,2,    34.13,2,     0.01,2,     2.37,2,    0.738,2,    0.387,2, -999.000,5,   2247.8,2,   2322.1,2,     41.4,2,    36.76,2, -999.000,9, -999.000,-999.0000,9,-999.0000,  -999.00,9,  -999.00, -999.000,9, -999.000,   -132.2,2,      3.0,     0.56,2,   0.1142,2,   0.0771,2,   0.0420,2,   0.0312,2,   0.0142,3,   0.0157,3
  33RR20070204,  I08S,    35,  1,     20,     20,2,20070226,0347,-53.5267,  87.0230, 4579,    849.5,   2.5635,  34.5846,2,  34.5846,2,    177.0,2,    175.5,2,    69.09,2,    33.34,2,     0.01,2,     2.32,2, -999.000,9, -999.000,9, -999.000,9,   2248.6,6,   2327.9,2,     40.4,2,    35.70,2, -999.000,9, -999.000,-999.0000,9,-999.0000,  -999.00,9,  -999.00, -999.000,9, -999.000,   -127.1,2,      2.5,     0.56,2,   0.1142,2,   0.0773,2,   0.0418,2,   0.0305,2,   0.0145,3,   0.0160,3
  33RR20070204,  I08S,    35,  1,     19,     19,2,20070226,0347,-53.5267,  87.0230, 4579,    950.2,   2.5370,  34.6346,2,  34.6343,2,    178.5,2,    177.5,2,    70.52,2,    32.61,2,     0.01,2,     2.26,2, -999.000,9, -999.000,9, -999.000,9,   2247.1,2,   2331.0,2,     40.9,2,    35.14,2, -999.000,9, -999.000,-999.0000,9,-999.0000,  -999.00,9,  -999.00, -999.000,9, -999.000,   -135.6,2,      2.6,     0.59,2,   0.1174,2,   0.0799,2,   0.0432,2,   0.0313,2,   0.0145,2,   0.0160,3
  33RR20070204,  I08S,    35,  1,     18,     18,2,20070226,0347,-53.5267,  87.0230, 4579,   1051.7,   2.4692,  34.6660,2,  34.7309,4,    180.6,2,    180.3,2,    71.93,2,    32.03,2,     0.01,2,     2.21,2,    0.246,2,    0.121,2, -999.000,5,   2246.7,2,   2333.7,2,     41.2,2,    33.67,2, -999.000,9, -999.000,-999.0000,9,-999.0000,  -999.00,9,  -999.00, -999.000,9, -999.000,   -151.9,2,      2.6,     0.59,2,   0.1206,2,   0.0824,2,   0.0445,2,   0.0325,2,   0.0144,2,   0.0158,3
  33RR20070204,  I08S,    35,  1,     17,     17,2,20070226,0347,-53.5267,  87.0230, 4579,   1152.2,   2.4095,  34.6937,2,  34.6932,2,    183.4,2,    183.6,2,    73.15,2,    31.41,2,     0.00,2,     2.17,2, -999.000,9, -999.000,9, -999.000,9,   2245.7,2,   2334.3,2,     40.7,2,    32.95,2, -999.000,9, -999.000,-999.0000,9,-999.0000,  -999.00,9,  -999.00, -999.000,9, -999.000,   -148.8,2,      2.4,     0.61,2,   0.1198,2,   0.0820,2,   0.0442,2,   0.0317,2,   0.0145,2,   0.0160,3
  33RR20070204,  I08S,    35,  1,     16,     16,2,20070226,0347,-53.5267,  87.0230, 4579,   1253.0,   2.3520,  34.7107,2,  34.7103,2,    186.4,2,    185.9,2,    74.37,2,    31.02,2,     0.01,2,     2.14,2, -999.000,9, -999.000,9, -999.000,9,   2245.8,2,   2336.7,2,     41.5,2,    32.45,2, -999.000,9, -999.000,-999.0000,9,-999.0000,  -999.00,9,  -999.00, -999.000,9, -999.000,   -134.4,2,      2.9,     0.56,2,   0.1202,2,   0.0817,2,   0.0433,2,   0.0313,2,   0.0146,3,   0.0163,3
  33RR20070204,  I08S,    35,  1,     15,     15,2,20070226,0347,-53.5267,  87.0230, 4579,   1354.1,   2.2969,  34.7263,2,  34.7260,2,    189.5,2,    189.0,2,    74.98,2,    30.53,2,     0.01,2,     2.11,2,    0.141,2,    0.071,2, -999.000,5,   2245.3,2,   2338.2,2,     41.1,2,    32.04,2, -999.000,9, -999.000,-999.0000,9,-999.0000,  -999.00,9,  -999.00, -999.000,9, -999.000,   -137.3,2,      3.0,     0.58,2,   0.1234,2,   0.0850,2,   0.0459,2,   0.0331,2,   0.0143,2,   0.0157,3
  33RR20070204,  I08S,    35,  1,     14,     14,2,20070226,0347,-53.5267,  87.0230, 4579,   1455.6,   2.1397,  34.7283,2,  34.7282,2,    189.6,2,    189.2,2,    79.25,2,    30.87,2,     0.00,2,     2.13,2, -999.000,9, -999.000,9, -999.000,9,   2246.7,2,   2339.5,2,     41.2,2,    32.14,2, -999.000,9, -999.000,-999.0000,9,-999.0000,  -999.00,9,  -999.00, -999.000,9, -999.000,   -146.5,2,      2.7,     0.55,2,   0.1193,2,   0.0816,2,   0.0433,2,   0.0310,2,   0.0146,2,   0.0162,3
  33RR20070204,  I08S,    35,  1,     13,     13,2,20070226,0347,-53.5267,  87.0230, 4579,   1556.9,   2.0703,  34.7380,2,  34.7376,2,    191.4,2,    192.1,2,    81.09,2,    30.58,2,     0.00,2,     2.11,2, -999.000,9, -999.000,9, -999.000,9,   2245.8,2,   2340.6,2,     40.8,2,    32.09,2, -999.000,9, -999.000,-999.0000,9,-999.0000,  -999.00,9,  -999.00, -999.000,9, -999.000,   -142.4,2,      3.2,     0.57,2,   0.1184,2,   0.0805,2,   0.0427,2,   0.0307,2,   0.0146,2,   0.0163,3
  33RR20070204,  I08S,    35,  1,     12,     12,2,20070226,0347,-53.5267,  87.0230, 4579,   1758.5,   1.8957,  34.7510,2,  34.7508,2,    196.7,2,    197.4,2,    84.97,2,    30.19,2,     0.00,2,     2.07,2,    0.137,2,    0.068,2, -999.000,5,   2245.6,2,   2344.5,2,     40.5,2,    31.80,2, -999.000,9, -999.000,-999.0000,9,-999.0000,  -999.00,9,  -999.00, -999.000,9, -999.000,   -141.9,2,      2.8,     0.60,2,   0.1160,2,   0.0786,2,   0.0410,2,   0.0289,2,   0.0149,2,   0.0168,3
  33RR20070204,  I08S,    35,  1,     11,     11,2,20070226,0347,-53.5267,  87.0230, 4579,   1961.1,   1.7147,  34.7507,2,  34.7506,2,    199.8,2,    200.1,2,    90.08,2,    30.15,2,     0.00,2,     2.07,2, -999.000,9, -999.000,9, -999.000,9,   2247.0,2,   2347.8,2,     41.6,2,    31.80,2, -999.000,9, -999.000,-999.0000,9,-999.0000,  -999.00,9,  -999.00, -999.000,9, -999.000,   -149.8,2,      2.8,     0.73,3,   0.1148,2,   0.0776,2,   0.0406,2,   0.0288,2,   0.0149,2,   0.0167,3
  33RR20070204,  I08S,    35,  1,     10,     10,2,20070226,0347,-53.5267,  87.0230, 4579,   2122.7,   1.5605,  34.7449,2,  34.7449,2,    200.9,2,    201.6,2,    94.58,2,    30.38,2,     0.00,2,     2.07,2, -999.000,9, -999.000,9, -999.000,9,   2249.6,2,   2348.9,2,     40.8,2,    32.20,2, -999.000,9, -999.000,-999.0000,9,-999.0000,  -999.00,9,  -999.00, -999.000,9, -999.000,   -148.9,2,      2.6,     0.58,2,   0.1178,2,   0.0799,2,   0.0421,2,   0.0302,2,   0.0147,2,   0.0165,3
  33RR20070204,  I08S,    35,  1,      9,      9,2,20070226,0347,-53.5267,  87.0230, 4579,   2375.2,   1.3477,  34.7357,2,  34.7357,2,    203.3,2,    204.3,2,   100.73,2,    30.77,2,     0.00,2,     2.11,2,    0.148,2,    0.070,2, -999.000,5,   2253.6,2,   2350.0,2,     41.0,2,    32.25,2, -999.000,9, -999.000,-999.0000,9,-999.0000,  -999.00,9,  -999.00, -999.000,9, -999.000,   -148.1,2,      2.4,     0.58,2,   0.1147,2,   0.0775,2,   0.0406,2,   0.0289,2,   0.0148,2,   0.0167,3
  33RR20070204,  I08S,    35,  1,      8,      8,2,20070226,0347,-53.5267,  87.0230, 4579,   2628.8,   1.1508,  34.7254,2,  34.7258,2,    205.1,2,    205.8,2,   105.65,2,    31.15,2,     0.00,2,     2.14,2, -999.000,9, -999.000,9, -999.000,9,   2256.3,6,   2352.1,2,     40.6,2,    32.44,2, -999.000,9, -999.000,-999.0000,9,-999.0000,  -999.00,9,  -999.00, -999.000,9, -999.000,   -155.1,2,      2.6,     0.56,2,   0.1136,2,   0.0762,2,   0.0396,2,   0.0281,2,   0.0150,2,   0.0170,3
  33RR20070204,  I08S,    35,  1,      7,      7,2,20070226,0347,-53.5267,  87.0230, 4579,   2881.9,   0.9768,  34.7159,2,  34.7154,2,    207.1,2,    207.7,2,   112.02,2,    31.54,2,     0.00,2,     2.17,2,    0.192,2,    0.096,2, -999.000,5,   2255.1,2,   2353.0,2,     41.3,2,    33.53,2, -999.000,9, -999.000,-999.0000,9,-999.0000,  -999.00,9,  -999.00, -999.000,9, -999.000,   -158.9,2,      2.6,     0.55,2,   0.1157,2,   0.0780,2,   0.0410,2,   0.0294,2,   0.0149,2,   0.0167,3
  33RR20070204,  I08S,    35,  1,      6,      6,2,20070226,0347,-53.5267,  87.0230, 4579,   3135.5,   0.7987,  34.7064,2,  34.7062,2,    209.9,2,    210.7,2,   117.36,2,    31.73,2,     0.00,2,     2.19,2, -999.000,9, -999.000,9, -999.000,9,   2256.1,2,   2354.0,2,     40.7,2,    32.98,2, -999.000,9, -999.000,-999.0000,9,-999.0000,  -999.00,9,  -999.00, -999.000,9, -999.000,   -159.9,2,      2.6,     0.54,2,   0.1153,2,   0.0781,2,   0.0419,2,   0.0304,2,   0.0146,2,   0.0162,3
  33RR20070204,  I08S,    35,  1,      5,      5,2,20070226,0347,-53.5267,  87.0230, 4579,   3439.3,   0.5713,  34.6949,2,  34.6942,2,    214.7,2,    215.1,2,   122.10,2,    32.07,2,     0.00,2,     2.21,2,    0.392,2,    0.197,2, -999.000,5,   2257.6,2,   2352.8,2,     39.7,2,    34.04,2, -999.000,9, -999.000,-999.0000,9,-999.0000,  -999.00,9,  -999.00, -999.000,9, -999.000,   -158.2,2,      2.6,     0.54,2,   0.1159,2,   0.0784,2,   0.0425,2,   0.0310,2,   0.0145,3,   0.0160,3
  33RR20070204,  I08S,    35,  1,      4,      4,2,20070226,0347,-53.5267,  87.0230, 4579,   3744.1,   0.3799,  34.6852,2,  34.6846,2,    219.0,2,    219.7,2,   125.81,2,    32.27,2,     0.00,2,     2.23,2,    0.547,2,    0.279,2, -999.000,5,   2258.0,2,   2352.1,2,     40.1,2,    33.45,2, -999.000,9, -999.000,-999.0000,9,-999.0000,  -999.00,9,  -999.00, -999.000,9, -999.000,   -153.9,2,      2.6,     0.55,2,   0.1123,2,   0.0756,2,   0.0404,2,   0.0293,2,   0.0146,3,   0.0164,3
  33RR20070204,  I08S,    35,  1,      3,      3,2,20070226,0347,-53.5267,  87.0230, 4579,   4100.7,   0.2728,  34.6795,2,  34.6783,2,    223.4,2,    223.4,2,   126.83,2,    32.27,2,     0.00,2,     2.23,2,    0.716,2,    0.370,2, -999.000,5,   2257.2,2,   2348.9,2,     41.0,2,    34.18,2, -999.000,9, -999.000,-999.0000,9,-999.0000,  -999.00,9,  -999.00, -999.000,9, -999.000,   -153.8,2,      2.9,     0.56,2,   0.1129,2,   0.0756,2,   0.0400,2,   0.0292,2,   0.0147,3,   0.0166,3
  33RR20070204,  I08S,    35,  1,      2,      2,2,20070226,0347,-53.5267,  87.0230, 4579,   4458.7,   0.2190,  34.6761,2,  34.6753,2,    227.5,2,    226.0,2,   128.05,2,    32.27,2,     0.00,2,     2.23,2,    0.833,2,    0.430,2, -999.000,5,   2257.5,2,   2350.7,2,     41.0,2,    34.26,2, -999.000,9, -999.000,-999.0000,9,-999.0000,  -999.00,9,  -999.00, -999.000,9, -999.000,   -157.9,2,      2.6,     0.58,2,   0.1114,2,   0.0745,2,   0.0392,2,   0.0285,2,   0.0148,3,   0.0167,3
  33RR20070204,  I08S,    35,  1,      1,      1,2,20070226,0347,-53.5267,  87.0230, 4579,   4695.4,   0.2072,  34.6742,2,  34.6737,2,    228.1,2,    227.0,2,   127.63,2,    32.31,2,     0.00,2,     2.23,2,    0.883,2,    0.451,2, -999.000,5,   2257.8,6,   2352.3,2,     40.0,2,    33.34,2, -999.000,9, -999.000,-999.0000,9,-999.0000,  -999.00,9,  -999.00, -999.000,9, -999.000,   -156.7,2,      2.6,     0.59,2,   0.1149,2,   0.0776,2,   0.0413,2,   0.0299,2,   0.0146,2,   0.0163,3