BOTTLE,20150626SIOCCHRJL
EXPOCODE,SECT_ID,STNNBR,CASTNO,SAMPNO,BTLNBR,BTLNBR_FLAG_W,DATE,TIME,LATITUDE,LONGITUDE,DEPTH,CTDPRS,CTDTMP,CTDSAL,CTDSAL_FLAG_W,SALNTY,SALNTY_FLAG_W,CTDOXY,CTDOXY_FLAG_W,OXYGEN,OXYGEN_FLAG_W,SILCAT,SILCAT_FLAG_W,NITRAT,NITRAT_FLAG_W,NITRIT,NITRIT_FLAG_W,PHSPHT,PHSPHT_FLAG_W,CFC-11,CFC-11_FLAG_W,CFC-12,CFC-12_FLAG_W,CFC113,CFC113_FLAG_W,TCARBN,TCARBN_FLAG_W,ALKALI,ALKALI_FLAG_W,DOC,DOC_FLAG_W,TDN,TDN_FLAG_W,TRITUM,TRITUM_FLAG_W,TRITER,HELIUM,HELIUM_FLAG_W,HELIER,DELHE3,DELHE3_FLAG_W,DELHER,NEON,NEON_FLAG_W,NEONER,DELC14,DELC14_FLAG_W,C14ERR,DELC13,DELC13_FLAG_W,CDOM325,CDOM325_FLAG_W,CDOM340,CDOM340_FLAG_W,CDOM380,CDOM380_FLAG_W,CDOM412,CDOM412_FLAG_W,CDOMSL,CDOMSL_FLAG_W,CDOMSN,CDOMSN_FLAG_W
,,,,,,,,,,,METERS,DBAR,ITS-90,PSS-78,,PSS-78,,UMOL/KG,,UMOL/KG,,UMOL/KG,,UMOL/KG,,UMOL/KG,,UMOL/KG,,PMOL/KG,,PMOL/KG,,PMOL/KG,,UMOL/KG,,UMOL/KG,,UMOL/KG,,UMOL/KG,,TU,,TU,NMOL/KG,,NMOL/KG,PERCNT,,PERCNT,NMOL/KG,,NMOL/KG,/MILLE,,/MILLE,/MILLE,,1/M,,1/M,,1/M,,1/M,,1/NM,,1/NM,
  33RR20070204,  I08S,    68,  1,     36,     38,2,20070307,2141,-38.4925,  94.9998, 3848,      8.3,  13.9986,  34.7145,2,  34.7142,2,    255.9,2,    256.7,2,     0.00,2,     5.22,2,     0.13,2,     0.52,2,    3.008,2,    1.786,2, -999.000,5,   2063.8,6,   2294.5,2,   -999.0,9,  -999.00,9, -999.000,9, -999.000,-999.0000,9,-999.0000,  -999.00,9,  -999.00, -999.000,9, -999.000,   -999.0,9,   -999.0,  -999.00,9,-999.0000,9,-999.0000,9,-999.0000,9,-999.0000,9,-999.0000,9,-999.0000,9
  33RR20070204,  I08S,    68,  1,     35,     35,2,20070307,2141,-38.4925,  94.9998, 3848,     39.2,  13.9560,  34.7271,2,  34.7223,2,    256.8,2,    256.1,2,     0.00,2,     5.26,2,     0.14,2,     0.53,2, -999.000,9, -999.000,9, -999.000,9,   2064.5,2,   2294.3,2,   -999.0,9,  -999.00,9, -999.000,9, -999.000,-999.0000,9,-999.0000,  -999.00,9,  -999.00, -999.000,9, -999.000,   -999.0,9,   -999.0,  -999.00,9,-999.0000,9,-999.0000,9,-999.0000,9,-999.0000,9,-999.0000,9,-999.0000,9
  33RR20070204,  I08S,    68,  1,     34,   9419,2,20070307,2141,-38.4925,  94.9998, 3848,     72.2,  11.4209,  34.7958,2,  34.7930,2,    259.6,2,    259.6,2,     1.43,2,     8.59,2,     0.73,2,     0.79,2, -999.000,9, -999.000,9, -999.000,9,   2098.9,2,   2294.9,2,   -999.0,9,  -999.00,9, -999.000,9, -999.000,-999.0000,9,-999.0000,  -999.00,9,  -999.00, -999.000,9, -999.000,   -999.0,9,   -999.0,  -999.00,9,-999.0000,9,-999.0000,9,-999.0000,9,-999.0000,9,-999.0000,9,-999.0000,9
  33RR20070204,  I08S,    68,  1,     33,     33,2,20070307,2141,-38.4925,  94.9998, 3848,     93.1,  11.2666,  34.8637,2,  34.8620,2,    256.1,2,    255.5,2,     1.38,2,     9.99,2,     0.29,2,     0.80,2, -999.000,9, -999.000,9, -999.000,9,   2105.3,2,   2298.2,2,   -999.0,9,  -999.00,9, -999.000,9, -999.000,-999.0000,9,-999.0000,  -999.00,9,  -999.00, -999.000,9, -999.000,   -999.0,9,   -999.0,  -999.00,9,-999.0000,9,-999.0000,9,-999.0000,9,-999.0000,9,-999.0000,9,-999.0000,9
  33RR20070204,  I08S,    68,  1,     32,     37,2,20070307,2141,-38.4925,  94.9998, 3848,    124.9,  11.0459,  34.8722,2,  34.8807,2,    255.7,2,    256.0,2,     1.34,2,    10.27,2,     0.02,2,     0.80,2, -999.000,9, -999.000,9, -999.000,9,   2105.9,2,   2299.2,2,   -999.0,9,  -999.00,9, -999.000,9, -999.000,-999.0000,9,-999.0000,  -999.00,9,  -999.00, -999.000,9, -999.000,   -999.0,9,   -999.0,  -999.00,9,-999.0000,9,-999.0000,9,-999.0000,9,-999.0000,9,-999.0000,9,-999.0000,9
  33RR20070204,  I08S,    68,  1,     31,     31,2,20070307,2141,-38.4925,  94.9998, 3848,    144.9,  10.9038,  34.8401,2,  34.8402,2,    257.3,2,    257.6,2,     1.48,2,    10.74,2,     0.02,2,     0.82,2, -999.000,9, -999.000,9, -999.000,9,   2105.8,2,   2296.7,2,   -999.0,9,  -999.00,9, -999.000,9, -999.000,-999.0000,9,-999.0000,  -999.00,9,  -999.00, -999.000,9, -999.000,   -999.0,9,   -999.0,  -999.00,9,-999.0000,9,-999.0000,9,-999.0000,9,-999.0000,9,-999.0000,9,-999.0000,9
  33RR20070204,  I08S,    68,  1,     30,     30,2,20070307,2141,-38.4925,  94.9998, 3848,    174.4,  10.8787,  34.8462,2,  34.8447,2,    258.6,2,    258.5,2,     1.45,2,    10.69,2,     0.02,2,     0.82,2, -999.000,9, -999.000,9, -999.000,9,   2105.3,2,   2297.2,2,   -999.0,9,  -999.00,9, -999.000,9, -999.000,-999.0000,9,-999.0000,  -999.00,9,  -999.00, -999.000,9, -999.000,   -999.0,9,   -999.0,  -999.00,9,-999.0000,9,-999.0000,9,-999.0000,9,-999.0000,9,-999.0000,9,-999.0000,9
  33RR20070204,  I08S,    68,  1,     29,     29,2,20070307,2141,-38.4925,  94.9998, 3848,    224.7,  10.6429,  34.8010,2,  34.8004,2,    260.7,2,    261.4,2,     1.59,2,    11.29,2,     0.02,2,     0.86,2, -999.000,9, -999.000,9, -999.000,9,   2104.6,2,   2294.2,2,   -999.0,9,  -999.00,9, -999.000,9, -999.000,-999.0000,9,-999.0000,  -999.00,9,  -999.00, -999.000,9, -999.000,   -999.0,9,   -999.0,  -999.00,9,-999.0000,9,-999.0000,9,-999.0000,9,-999.0000,9,-999.0000,9,-999.0000,9
  33RR20070204,  I08S,    68,  1,     28,     28,2,20070307,2141,-38.4925,  94.9998, 3848,    276.2,  10.4774,  34.7827,2,  34.7825,2,    259.1,2,    259.0,2,     1.94,2,    12.05,2,     0.01,2,     0.90,2, -999.000,9, -999.000,9, -999.000,9,   2108.2,2,   2293.4,2,   -999.0,9,  -999.00,9, -999.000,9, -999.000,-999.0000,9,-999.0000,  -999.00,9,  -999.00, -999.000,9, -999.000,   -999.0,9,   -999.0,  -999.00,9,-999.0000,9,-999.0000,9,-999.0000,9,-999.0000,9,-999.0000,9,-999.0000,9
  33RR20070204,  I08S,    68,  1,     27,     27,2,20070307,2141,-38.4925,  94.9998, 3848,    325.5,  10.7667,  34.8757,2,  34.8677,2,    250.1,2,    251.0,2,     2.09,2,    11.77,2,     0.01,2,     0.88,2, -999.000,9, -999.000,9, -999.000,9,   2111.6,2,   2296.8,2,   -999.0,9,  -999.00,9, -999.000,9, -999.000,-999.0000,9,-999.0000,  -999.00,9,  -999.00, -999.000,9, -999.000,   -999.0,9,   -999.0,  -999.00,9,-999.0000,9,-999.0000,9,-999.0000,9,-999.0000,9,-999.0000,9,-999.0000,9
  33RR20070204,  I08S,    68,  1,     26,     26,2,20070307,2141,-38.4925,  94.9998, 3848,    374.7,  10.6749,  34.8754,2,  34.8742,2,    248.2,2,    247.9,2,     2.25,2,    12.01,2,     0.01,2,     0.89,2, -999.000,9, -999.000,9, -999.000,9,   -999.0,9,   -999.0,9,   -999.0,9,  -999.00,9, -999.000,9, -999.000,-999.0000,9,-999.0000,  -999.00,9,  -999.00, -999.000,9, -999.000,   -999.0,9,   -999.0,  -999.00,9,-999.0000,9,-999.0000,9,-999.0000,9,-999.0000,9,-999.0000,9,-999.0000,9
  33RR20070204,  I08S,    68,  1,     25,     25,2,20070307,2141,-38.4925,  94.9998, 3848,    425.9,  10.3049,  34.8222,2,  34.8205,2,    248.5,2,    247.4,2,     2.60,2,    13.03,2,     0.01,2,     0.96,2, -999.000,9, -999.000,9, -999.000,9,   2115.6,2,   2294.5,2,   -999.0,9,  -999.00,9, -999.000,9, -999.000,-999.0000,9,-999.0000,  -999.00,9,  -999.00, -999.000,9, -999.000,   -999.0,9,   -999.0,  -999.00,9,-999.0000,9,-999.0000,9,-999.0000,9,-999.0000,9,-999.0000,9,-999.0000,9
  33RR20070204,  I08S,    68,  1,     24,     24,2,20070307,2141,-38.4925,  94.9998, 3848,    475.6,  10.0389,  34.7790,2,  34.7786,2,    249.6,2,    248.9,2,     2.75,2,    13.82,2,     0.01,2,     1.01,2, -999.000,9, -999.000,9, -999.000,9,   -999.0,9,   -999.0,9,   -999.0,9,  -999.00,9, -999.000,9, -999.000,-999.0000,9,-999.0000,  -999.00,9,  -999.00, -999.000,9, -999.000,   -999.0,9,   -999.0,  -999.00,9,-999.0000,9,-999.0000,9,-999.0000,9,-999.0000,9,-999.0000,9,-999.0000,9
  33RR20070204,  I08S,    68,  1,     23,     23,2,20070307,2141,-38.4925,  94.9998, 3848,    524.4,   9.8944,  34.7667,2,  34.7664,2,    245.6,2,    245.7,2,     2.51,2,    14.29,2,     0.01,2,     1.03,2, -999.000,9, -999.000,9, -999.000,9,   2119.2,2,   2291.2,2,   -999.0,9,  -999.00,9, -999.000,9, -999.000,-999.0000,9,-999.0000,  -999.00,9,  -999.00, -999.000,9, -999.000,   -999.0,9,   -999.0,  -999.00,9,-999.0000,9,-999.0000,9,-999.0000,9,-999.0000,9,-999.0000,9,-999.0000,9
  33RR20070204,  I08S,    68,  1,     22,     22,2,20070307,2141,-38.4925,  94.9998, 3848,    644.6,   9.0490,  34.6486,2,  34.6496,2,    234.0,2,    234.7,2,     4.04,2,    17.39,2,     0.01,2,     1.22,2, -999.000,9, -999.000,9, -999.000,9,   -999.0,9,   -999.0,9,   -999.0,9,  -999.00,9, -999.000,9, -999.000,-999.0000,9,-999.0000,  -999.00,9,  -999.00, -999.000,9, -999.000,   -999.0,9,   -999.0,  -999.00,9,-999.0000,9,-999.0000,9,-999.0000,9,-999.0000,9,-999.0000,9,-999.0000,9
  33RR20070204,  I08S,    68,  1,     21,     21,2,20070307,2141,-38.4925,  94.9998, 3848,    746.3,   7.9014,  34.5325,2,  34.5345,2,    212.8,2,    213.3,2,     9.90,2,    22.10,2,     0.01,2,     1.51,2, -999.000,9, -999.000,9, -999.000,9,   -999.0,9,   -999.0,9,   -999.0,9,  -999.00,9, -999.000,9, -999.000,-999.0000,9,-999.0000,  -999.00,9,  -999.00, -999.000,9, -999.000,   -999.0,9,   -999.0,  -999.00,9,-999.0000,9,-999.0000,9,-999.0000,9,-999.0000,9,-999.0000,9,-999.0000,9
  33RR20070204,  I08S,    68,  1,     20,     20,2,20070307,2141,-38.4925,  94.9998, 3848,    846.4,   6.6521,  34.4416,2,  34.4416,2,    206.7,2,    205.7,2,    15.57,2,    25.65,2,     0.00,2,     1.76,2, -999.000,9, -999.000,9, -999.000,9,   -999.0,9,   -999.0,9,   -999.0,9,  -999.00,9, -999.000,9, -999.000,-999.0000,9,-999.0000,  -999.00,9,  -999.00, -999.000,9, -999.000,   -999.0,9,   -999.0,  -999.00,9,-999.0000,9,-999.0000,9,-999.0000,9,-999.0000,9,-999.0000,9,-999.0000,9
  33RR20070204,  I08S,    68,  1,     19,     19,2,20070307,2141,-38.4925,  94.9998, 3848,    947.1,   5.4991,  34.3719,2,  34.3715,2,    206.7,2,    207.1,2,    21.05,2,    28.08,2,     0.00,2,     1.93,2, -999.000,9, -999.000,9, -999.000,9,   -999.0,9,   -999.0,9,   -999.0,9,  -999.00,9, -999.000,9, -999.000,-999.0000,9,-999.0000,  -999.00,9,  -999.00, -999.000,9, -999.000,   -999.0,9,   -999.0,  -999.00,9,-999.0000,9,-999.0000,9,-999.0000,9,-999.0000,9,-999.0000,9,-999.0000,9
  33RR20070204,  I08S,    68,  1,     18,     18,2,20070307,2141,-38.4925,  94.9998, 3848,   1047.9,   4.5005,  34.3491,2,  34.3492,2,    203.9,2,    203.9,2,    30.10,2,    30.37,2,     0.00,2,     2.09,2, -999.000,9, -999.000,9, -999.000,9,   2192.2,2,   2293.3,2,   -999.0,9,  -999.00,9, -999.000,9, -999.000,-999.0000,9,-999.0000,  -999.00,9,  -999.00, -999.000,9, -999.000,   -999.0,9,   -999.0,  -999.00,9,-999.0000,9,-999.0000,9,-999.0000,9,-999.0000,9,-999.0000,9,-999.0000,9
  33RR20070204,  I08S,    68,  1,     17,     17,2,20070307,2141,-38.4925,  94.9998, 3848,   1148.8,   3.9402,  34.3663,2,  34.3664,2,    195.3,2,    196.8,2,    38.18,2,    31.76,2,     0.00,2,     2.20,2, -999.000,9, -999.000,9, -999.000,9,   2204.8,2,   2301.3,2,   -999.0,9,  -999.00,9, -999.000,9, -999.000,-999.0000,9,-999.0000,  -999.00,9,  -999.00, -999.000,9, -999.000,   -999.0,9,   -999.0,  -999.00,9,-999.0000,9,-999.0000,9,-999.0000,9,-999.0000,9,-999.0000,9,-999.0000,9
  33RR20070204,  I08S,    68,  1,     16,     16,2,20070307,2141,-38.4925,  94.9998, 3848,   1248.8,   3.5785,  34.3946,2,  34.3949,2,    189.7,2,    189.2,2,    45.68,2,    32.67,2,     0.00,2,     2.27,2, -999.000,9, -999.000,9, -999.000,9,   -999.0,9,   -999.0,9,   -999.0,9,  -999.00,9, -999.000,9, -999.000,-999.0000,9,-999.0000,  -999.00,9,  -999.00, -999.000,9, -999.000,   -999.0,9,   -999.0,  -999.00,9,-999.0000,9,-999.0000,9,-999.0000,9,-999.0000,9,-999.0000,9,-999.0000,9
  33RR20070204,  I08S,    68,  1,     15,     15,2,20070307,2141,-38.4925,  94.9998, 3848,   1348.1,   3.2885,  34.4428,2,  34.4429,2,    179.8,2,    180.0,2,    54.00,2,    33.54,2,     0.00,2,     2.34,2, -999.000,9, -999.000,9, -999.000,9,   -999.0,9,   -999.0,9,   -999.0,9,  -999.00,9, -999.000,9, -999.000,-999.0000,9,-999.0000,  -999.00,9,  -999.00, -999.000,9, -999.000,   -999.0,9,   -999.0,  -999.00,9,-999.0000,9,-999.0000,9,-999.0000,9,-999.0000,9,-999.0000,9,-999.0000,9
  33RR20070204,  I08S,    68,  1,     14,     14,2,20070307,2141,-38.4925,  94.9998, 3848,   1448.8,   3.0798,  34.4852,2,  34.4851,2,    175.5,2,    174.6,2,    59.34,2,    33.82,2,     0.00,2,     2.35,2, -999.000,9, -999.000,9, -999.000,9,   -999.0,9,   -999.0,9,   -999.0,9,  -999.00,9, -999.000,9, -999.000,-999.0000,9,-999.0000,  -999.00,9,  -999.00, -999.000,9, -999.000,   -999.0,9,   -999.0,  -999.00,9,-999.0000,9,-999.0000,9,-999.0000,9,-999.0000,9,-999.0000,9,-999.0000,9
  33RR20070204,  I08S,    68,  1,     13,     13,2,20070307,2141,-38.4925,  94.9998, 3848,   1548.8,   2.8802,  34.5312,2,  34.5322,2,    173.4,2,    173.3,2,    63.50,2,    33.67,2,     0.00,2,     2.34,2, -999.000,9, -999.000,9, -999.000,9,   -999.0,9,   -999.0,9,   -999.0,9,  -999.00,9, -999.000,9, -999.000,-999.0000,9,-999.0000,  -999.00,9,  -999.00, -999.000,9, -999.000,   -999.0,9,   -999.0,  -999.00,9,-999.0000,9,-999.0000,9,-999.0000,9,-999.0000,9,-999.0000,9,-999.0000,9
  33RR20070204,  I08S,    68,  1,     12,     12,2,20070307,2141,-38.4925,  94.9998, 3848,   1649.0,   2.7824,  34.5822,2,  34.5823,2,    166.5,2,    167.0,2,    70.26,2,    33.72,2,     0.00,2,     2.35,2, -999.000,9, -999.000,9, -999.000,9,   2250.5,2,   2334.5,2,   -999.0,9,  -999.00,9, -999.000,9, -999.000,-999.0000,9,-999.0000,  -999.00,9,  -999.00, -999.000,9, -999.000,   -999.0,9,   -999.0,  -999.00,9,-999.0000,9,-999.0000,9,-999.0000,9,-999.0000,9,-999.0000,9,-999.0000,9
  33RR20070204,  I08S,    68,  1,     11,     11,2,20070307,2141,-38.4925,  94.9998, 3848,   1750.4,   2.6912,  34.6213,2,  34.6218,2,    166.1,2,    166.4,2,    74.83,2,    33.33,2,     0.00,2,     2.34,2,    0.141,2,    0.070,2, -999.000,5,   2254.5,6,   -999.0,5,   -999.0,9,  -999.00,9, -999.000,9, -999.000,-999.0000,9,-999.0000,  -999.00,9,  -999.00, -999.000,9, -999.000,   -999.0,9,   -999.0,  -999.00,9,-999.0000,9,-999.0000,9,-999.0000,9,-999.0000,9,-999.0000,9,-999.0000,9
  33RR20070204,  I08S,    68,  1,     10,     10,2,20070307,2141,-38.4925,  94.9998, 3848,   1851.8,   2.5883,  34.6514,2,  34.6511,2,    170.2,2,    170.2,2,    76.41,2,    32.80,2,     0.00,2,     2.29,2, -999.000,9, -999.000,9, -999.000,9,   2252.3,2,   -999.0,5,   -999.0,9,  -999.00,9, -999.000,9, -999.000,-999.0000,9,-999.0000,  -999.00,9,  -999.00, -999.000,9, -999.000,   -999.0,9,   -999.0,  -999.00,9,-999.0000,9,-999.0000,9,-999.0000,9,-999.0000,9,-999.0000,9,-999.0000,9
  33RR20070204,  I08S,    68,  1,      9,      9,2,20070307,2141,-38.4925,  94.9998, 3848,   1952.8,   2.5132,  34.6795,2,  34.6793,2,    171.8,2,    171.4,2,    79.79,2,    32.47,2,     0.00,2,     2.27,2,    0.068,2,    0.033,2, -999.000,5,   -999.0,9,   -999.0,9,   -999.0,9,  -999.00,9, -999.000,9, -999.000,-999.0000,9,-999.0000,  -999.00,9,  -999.00, -999.000,9, -999.000,   -999.0,9,   -999.0,  -999.00,9,-999.0000,9,-999.0000,9,-999.0000,9,-999.0000,9,-999.0000,9,-999.0000,9
  33RR20070204,  I08S,    68,  1,      8,      8,2,20070307,2141,-38.4925,  94.9998, 3848,   2115.1,   2.3752,  34.7095,2,  34.7094,2,    177.7,2,    178.4,2,    80.57,2,    31.64,2,     0.00,2,     2.20,2, -999.000,9, -999.000,9, -999.000,9,   -999.0,9,   -999.0,9,   -999.0,9,  -999.00,9, -999.000,9, -999.000,-999.0000,9,-999.0000,  -999.00,9,  -999.00, -999.000,9, -999.000,   -999.0,9,   -999.0,  -999.00,9,-999.0000,9,-999.0000,9,-999.0000,9,-999.0000,9,-999.0000,9,-999.0000,9
  33RR20070204,  I08S,    68,  1,      7,      7,2,20070307,2141,-38.4925,  94.9998, 3848,   2369.3,   2.1575,  34.7410,2,  34.7412,2,    188.8,2,    189.1,2,    81.55,2,    30.59,2,     0.00,2,     2.11,2,    0.045,2,    0.021,2, -999.000,5,   2246.1,2,   2347.7,2,   -999.0,9,  -999.00,9, -999.000,9, -999.000,-999.0000,9,-999.0000,  -999.00,9,  -999.00, -999.000,9, -999.000,   -999.0,9,   -999.0,  -999.00,9,-999.0000,9,-999.0000,9,-999.0000,9,-999.0000,9,-999.0000,9,-999.0000,9
  33RR20070204,  I08S,    68,  1,      6,      6,2,20070307,2141,-38.4925,  94.9998, 3848,   2621.2,   1.8930,  34.7490,2,  34.7487,2,    195.7,2,    195.4,2,    89.17,2,    30.35,2,     0.00,2,     2.09,2, -999.000,9, -999.000,9, -999.000,9,   2246.8,2,   2351.3,2,   -999.0,9,  -999.00,9, -999.000,9, -999.000,-999.0000,9,-999.0000,  -999.00,9,  -999.00, -999.000,9, -999.000,   -999.0,9,   -999.0,  -999.00,9,-999.0000,9,-999.0000,9,-999.0000,9,-999.0000,9,-999.0000,9,-999.0000,9
  33RR20070204,  I08S,    68,  1,      5,      5,2,20070307,2141,-38.4925,  94.9998, 3848,   2875.0,   1.6064,  34.7420,2,  34.7420,2,    199.2,2,    199.8,2,    98.82,2,    30.64,2,     0.00,2,     2.11,2,    0.031,2,    0.015,2, -999.000,5,   -999.0,9,   -999.0,9,   -999.0,9,  -999.00,9, -999.000,9, -999.000,-999.0000,9,-999.0000,  -999.00,9,  -999.00, -999.000,9, -999.000,   -999.0,9,   -999.0,  -999.00,9,-999.0000,9,-999.0000,9,-999.0000,9,-999.0000,9,-999.0000,9,-999.0000,9
  33RR20070204,  I08S,    68,  1,      4,      4,2,20070307,2141,-38.4925,  94.9998, 3848,   3129.1,   1.3424,  34.7317,2,  34.7316,2,    202.6,2,    202.5,2,   106.89,2,    31.12,2,     0.00,2,     2.14,2, -999.000,9, -999.000,9, -999.000,9,   -999.0,9,   2358.2,2,   -999.0,9,  -999.00,9, -999.000,9, -999.000,-999.0000,9,-999.0000,  -999.00,9,  -999.00, -999.000,9, -999.000,   -999.0,9,   -999.0,  -999.00,9,-999.0000,9,-999.0000,9,-999.0000,9,-999.0000,9,-999.0000,9,-999.0000,9
  33RR20070204,  I08S,    68,  1,      3,      3,2,20070307,2141,-38.4925,  94.9998, 3848,   3382.9,   1.1521,  34.7224,2,  34.7223,2,    204.8,2,    204.7,2,   113.36,2,    31.40,2,     0.00,2,     2.16,2,    0.075,2,    0.036,2, -999.000,5,   -999.0,9,   -999.0,9,   -999.0,9,  -999.00,9, -999.000,9, -999.000,-999.0000,9,-999.0000,  -999.00,9,  -999.00, -999.000,9, -999.000,   -999.0,9,   -999.0,  -999.00,9,-999.0000,9,-999.0000,9,-999.0000,9,-999.0000,9,-999.0000,9,-999.0000,9
  33RR20070204,  I08S,    68,  1,      2,      2,2,20070307,2141,-38.4925,  94.9998, 3848,   3637.6,   1.0273,  34.7158,2,  34.7154,2,    206.1,2,    205.7,2,   117.40,2,    31.73,2,     0.00,2,     2.19,2, -999.000,9, -999.000,9, -999.000,9,   2261.9,6,   2365.6,2,   -999.0,9,  -999.00,9, -999.000,9, -999.000,-999.0000,9,-999.0000,  -999.00,9,  -999.00, -999.000,9, -999.000,   -999.0,9,   -999.0,  -999.00,9,-999.0000,9,-999.0000,9,-999.0000,9,-999.0000,9,-999.0000,9,-999.0000,9
  33RR20070204,  I08S,    68,  1,      1,      1,2,20070307,2141,-38.4925,  94.9998, 3848,   3900.9,   1.0025,  34.7133,2,  34.7135,2,    205.5,2,    206.0,2,   118.40,2,    31.83,2,     0.00,2,     2.20,2,    0.053,2,    0.028,2, -999.000,5,   2264.5,2,   2368.4,2,   -999.0,9,  -999.00,9, -999.000,9, -999.000,-999.0000,9,-999.0000,  -999.00,9,  -999.00, -999.000,9, -999.000,   -999.0,9,   -999.0,  -999.00,9,-999.0000,9,-999.0000,9,-999.0000,9,-999.0000,9,-999.0000,9,-999.0000,9