BOTTLE,20150626SIOCCHRJL
EXPOCODE,SECT_ID,STNNBR,CASTNO,SAMPNO,BTLNBR,BTLNBR_FLAG_W,DATE,TIME,LATITUDE,LONGITUDE,DEPTH,CTDPRS,CTDTMP,CTDSAL,CTDSAL_FLAG_W,SALNTY,SALNTY_FLAG_W,CTDOXY,CTDOXY_FLAG_W,OXYGEN,OXYGEN_FLAG_W,SILCAT,SILCAT_FLAG_W,NITRAT,NITRAT_FLAG_W,NITRIT,NITRIT_FLAG_W,PHSPHT,PHSPHT_FLAG_W,CFC-11,CFC-11_FLAG_W,CFC-12,CFC-12_FLAG_W,CFC113,CFC113_FLAG_W,TCARBN,TCARBN_FLAG_W,ALKALI,ALKALI_FLAG_W,DOC,DOC_FLAG_W,TDN,TDN_FLAG_W,TRITUM,TRITUM_FLAG_W,TRITER,HELIUM,HELIUM_FLAG_W,HELIER,DELHE3,DELHE3_FLAG_W,DELHER,NEON,NEON_FLAG_W,NEONER,DELC14,DELC14_FLAG_W,C14ERR,DELC13,DELC13_FLAG_W,CDOM325,CDOM325_FLAG_W,CDOM340,CDOM340_FLAG_W,CDOM380,CDOM380_FLAG_W,CDOM412,CDOM412_FLAG_W,CDOMSL,CDOMSL_FLAG_W,CDOMSN,CDOMSN_FLAG_W
,,,,,,,,,,,METERS,DBAR,ITS-90,PSS-78,,PSS-78,,UMOL/KG,,UMOL/KG,,UMOL/KG,,UMOL/KG,,UMOL/KG,,UMOL/KG,,PMOL/KG,,PMOL/KG,,PMOL/KG,,UMOL/KG,,UMOL/KG,,UMOL/KG,,UMOL/KG,,TU,,TU,NMOL/KG,,NMOL/KG,PERCNT,,PERCNT,NMOL/KG,,NMOL/KG,/MILLE,,/MILLE,/MILLE,,1/M,,1/M,,1/M,,1/M,,1/NM,,1/NM,
  33RR20070204,  I08S,     7,  1,     34,   9433,2,20070216,2323,-64.4125,  83.5450, 3571,      7.8,  -0.5621,  33.0593,2,  33.0600,2,    359.1,2,    359.3,2,    25.86,2,    19.41,2,     0.20,2,     1.22,2,    6.060,2,    3.292,2, -999.000,5,   2080.7,6,   2242.0,2,     45.2,2,    23.95,2, -999.000,9, -999.000,-999.0000,9,-999.0000,  -999.00,9,  -999.00, -999.000,9, -999.000,   -999.0,9,   -999.0,  -999.00,9,   0.1723,2,   0.1287,2,   0.0436,2,   0.0309,2,   0.0174,3,   0.0224,3
  33RR20070204,  I08S,     7,  1,     33,     33,2,20070216,2323,-64.4125,  83.5450, 3571,     28.4,  -1.3821,  33.8516,2,  33.8983,2,    307.0,2,    306.5,2,    54.27,2,    28.16,2,     0.15,2,     2.02,2,    4.896,2,    2.643,2, -999.000,5,   2180.6,2,   2291.5,2,     46.0,2,    32.50,2, -999.000,9, -999.000,-999.0000,9,-999.0000,  -999.00,9,  -999.00, -999.000,9, -999.000,   -999.0,9,   -999.0,  -999.00,9,   0.1279,2,   0.0897,2,   0.0408,2,   0.0317,2,   0.0148,3,   0.0177,3
  33RR20070204,  I08S,     7,  1,     32,     32,2,20070216,2323,-64.4125,  83.5450, 3571,     53.6,  -1.5215,  34.1841,2,  34.1867,2,    297.9,2,    288.7,2,    62.70,2,    30.84,2,     0.14,2,     2.17,2, -999.000,9, -999.000,9, -999.000,9,   2208.4,2,   2307.5,2,     45.7,2,    35.26,2, -999.000,9, -999.000,-999.0000,9,-999.0000,  -999.00,9,  -999.00, -999.000,9, -999.000,   -999.0,9,   -999.0,  -999.00,9,   0.0991,2,   0.0656,2,   0.0354,2,   0.0277,2,   0.0139,3,   0.0159,3
  33RR20070204,  I08S,     7,  1,     31,     31,2,20070216,2323,-64.4125,  83.5450, 3571,     78.5,  -1.4552,  34.2818,2,  34.2820,2,    287.5,2,    287.4,2,    65.72,2,    31.30,2,     0.06,2,     2.16,2,    4.436,2,    2.373,2, -999.000,5,   2213.7,2,   2312.2,2,     45.3,2,    35.76,2, -999.000,9, -999.000,-999.0000,9,-999.0000,  -999.00,9,  -999.00, -999.000,9, -999.000,   -999.0,9,   -999.0,  -999.00,9,   0.0994,2,   0.0654,2,   0.0362,2,   0.0279,2,   0.0139,3,   0.0157,3
  33RR20070204,  I08S,     7,  1,     30,     30,2,20070216,2323,-64.4125,  83.5450, 3571,    108.7,  -1.2473,  34.3321,2,  34.3311,2,    289.0,2,    284.8,2,    66.93,2,    31.43,2,     0.04,2,     2.17,2,    4.344,2,    2.305,2, -999.000,5,   2218.0,2,   2316.6,2,     44.4,2,    35.76,2, -999.000,9, -999.000,-999.0000,9,-999.0000,  -999.00,9,  -999.00, -999.000,9, -999.000,   -999.0,9,   -999.0,  -999.00,9,   0.1020,2,   0.0670,2,   0.0365,2,   0.0279,2,   0.0141,3,   0.0161,3
  33RR20070204,  I08S,     7,  1,     29,     29,2,20070216,2323,-64.4125,  83.5450, 3571,    159.1,  -1.4377,  34.3533,2,  34.3554,2,    277.0,2,    297.6,2,    66.11,2,    30.97,2,     0.02,2,     2.13,2,    4.742,2,    2.529,2, -999.000,5,   2215.6,2,   2318.8,2,     43.7,2,    34.65,2, -999.000,9, -999.000,-999.0000,9,-999.0000,  -999.00,9,  -999.00, -999.000,9, -999.000,   -999.0,9,   -999.0,  -999.00,9,   0.0986,2,   0.0645,2,   0.0353,2,   0.0271,2,   0.0139,3,   0.0160,3
  33RR20070204,  I08S,     7,  1,     28,     28,2,20070216,2323,-64.4125,  83.5450, 3571,    209.5,  -0.4874,  34.4467,2,  34.4488,2,    260.5,2,    260.3,2,    72.96,2,    31.77,2,     0.02,2,     2.20,2, -999.000,9, -999.000,9, -999.000,9,   2228.9,2,   2324.0,2,     43.3,2,    35.28,2, -999.000,9, -999.000,-999.0000,9,-999.0000,  -999.00,9,  -999.00, -999.000,9, -999.000,   -999.0,9,   -999.0,  -999.00,9,   0.1058,2,   0.0705,2,   0.0385,2,   0.0289,2,   0.0142,3,   0.0160,3
  33RR20070204,  I08S,     7,  1,     27,     27,2,20070216,2323,-64.4125,  83.5450, 3571,    259.8,   1.3158,  34.6279,2,  34.6256,2,    207.5,2,    194.3,2,    84.87,2,    32.87,2,     0.02,2,     2.29,2,    1.057,2,    0.571,2, -999.000,5,   2251.0,2,   2336.3,2,     43.5,2,    36.34,2, -999.000,9, -999.000,-999.0000,9,-999.0000,  -999.00,9,  -999.00, -999.000,9, -999.000,   -999.0,9,   -999.0,  -999.00,9,   0.1250,2,   0.0861,2,   0.0480,2,   0.0357,2,   0.0145,3,   0.0153,3
  33RR20070204,  I08S,     7,  1,     26,     26,2,20070216,2323,-64.4125,  83.5450, 3571,    309.9,   1.6561,  34.6879,2,  34.6881,2,    188.3,2,    186.4,2,    87.69,2,    32.49,2,     0.01,2,     2.25,2,    0.542,2,    0.286,2, -999.000,5,   2253.3,2,   2343.0,2,     43.1,2,    36.48,2, -999.000,9, -999.000,-999.0000,9,-999.0000,  -999.00,9,  -999.00, -999.000,9, -999.000,   -999.0,9,   -999.0,  -999.00,9,   0.1251,2,   0.0855,2,   0.0460,2,   0.0333,2,   0.0148,2,   0.0161,3
  33RR20070204,  I08S,     7,  1,     25,     25,2,20070216,2323,-64.4125,  83.5450, 3571,    360.4,   1.5938,  34.6978,2,  34.6973,2,    187.2,2,    189.7,2,    88.70,2,    32.01,2,     0.01,2,     2.23,2,    0.539,2,    0.282,2, -999.000,5,   2252.6,2,   2338.4,2,     43.2,2,    35.13,2, -999.000,9, -999.000,-999.0000,9,-999.0000,  -999.00,9,  -999.00, -999.000,9, -999.000,   -999.0,9,   -999.0,  -999.00,9,   0.1236,2,   0.0845,2,   0.0457,2,   0.0331,2,   0.0147,2,   0.0160,3
  33RR20070204,  I08S,     7,  1,     24,     24,2,20070216,2323,-64.4125,  83.5450, 3571,    410.2,   1.5947,  34.7125,2,  34.7120,2,    190.5,2,    191.0,2,    90.12,2,    31.87,2,     0.01,2,     2.20,2, -999.000,9, -999.000,9, -999.000,9,   2251.9,2,   2341.2,2,     43.2,2,    35.74,2, -999.000,9, -999.000,-999.0000,9,-999.0000,  -999.00,9,  -999.00, -999.000,9, -999.000,   -999.0,9,   -999.0,  -999.00,9,   0.1217,2,   0.0834,2,   0.0451,2,   0.0329,2,   0.0146,2,   0.0159,3
  33RR20070204,  I08S,     7,  1,     23,     23,2,20070216,2323,-64.4125,  83.5450, 3571,    460.1,   1.5793,  34.7215,2,  34.7220,2,    192.8,2,    193.4,2,    90.31,2,    31.48,2,     0.01,2,     2.17,2,    0.376,2,    0.193,2, -999.000,5,   2250.3,2,   2344.6,2,     43.3,2,    34.56,2, -999.000,9, -999.000,-999.0000,9,-999.0000,  -999.00,9,  -999.00, -999.000,9, -999.000,   -999.0,9,   -999.0,  -999.00,9,   0.1236,2,   0.0847,2,   0.0459,2,   0.0333,2,   0.0146,3,   0.0159,4
  33RR20070204,  I08S,     7,  1,     22,     22,2,20070216,2323,-64.4125,  83.5450, 3571,    510.3,   1.5263,  34.7251,2,  34.7230,2,    197.1,2,    195.6,2,    90.72,2,    31.15,2,     0.01,2,     2.16,2,    0.363,2,    0.185,2, -999.000,5,   2250.3,6,   2346.4,2,     43.5,2,    33.41,2, -999.000,9, -999.000,-999.0000,9,-999.0000,  -999.00,9,  -999.00, -999.000,9, -999.000,   -999.0,9,   -999.0,  -999.00,9,   0.1210,2,   0.0827,2,   0.0443,2,   0.0319,2,   0.0147,2,   0.0162,3
  33RR20070204,  I08S,     7,  1,     21,     21,2,20070216,2323,-64.4125,  83.5450, 3571,    610.3,   1.4415,  34.7316,2,  34.7307,2,    198.8,2,    197.9,2,    93.76,2,    31.15,2,     0.01,2,     2.15,2,    0.314,2,    0.154,2, -999.000,5,   2249.4,2,   2348.5,2,     42.9,2,    33.74,2, -999.000,9, -999.000,-999.0000,9,-999.0000,  -999.00,9,  -999.00, -999.000,9, -999.000,   -999.0,9,   -999.0,  -999.00,9,   0.1185,2,   0.0808,2,   0.0430,2,   0.0305,2,   0.0149,2,   0.0165,3
  33RR20070204,  I08S,     7,  1,     20,     20,2,20070216,2323,-64.4125,  83.5450, 3571,    710.7,   1.3114,  34.7297,2,  34.7301,2,    201.4,2,    200.6,2,    96.39,2,    31.05,2,     0.01,2,     2.15,2,    0.310,2,    0.153,2, -999.000,5,   2249.6,2,   2349.7,2,     43.1,2,    33.44,2, -999.000,9, -999.000,-999.0000,9,-999.0000,  -999.00,9,  -999.00, -999.000,9, -999.000,   -999.0,9,   -999.0,  -999.00,9,   0.1176,2,   0.0799,2,   0.0423,2,   0.0300,2,   0.0150,2,   0.0166,3
  33RR20070204,  I08S,     7,  1,     19,     19,2,20070216,2323,-64.4125,  83.5450, 3571,    810.4,   1.1689,  34.7244,2,  34.7246,2,    202.5,2,    202.5,2,   100.04,2,    31.30,2,     0.01,2,     2.16,2,    0.322,2,    0.153,2, -999.000,5,   2251.1,2,   2348.1,2,     42.9,2,    34.00,2, -999.000,9, -999.000,-999.0000,9,-999.0000,  -999.00,9,  -999.00, -999.000,9, -999.000,   -999.0,9,   -999.0,  -999.00,9,   0.1211,2,   0.0831,2,   0.0454,2,   0.0326,2,   0.0147,2,   0.0159,3
  33RR20070204,  I08S,     7,  1,     18,     18,2,20070216,2323,-64.4125,  83.5450, 3571,    912.1,   1.0682,  34.7200,2,  34.7206,2,    203.9,2,    203.3,2,   102.47,2,    31.49,2,     0.01,2,     2.17,2, -999.000,9, -999.000,9, -999.000,9,   2251.7,2,   2350.8,2,     42.3,2,    34.02,2, -999.000,9, -999.000,-999.0000,9,-999.0000,  -999.00,9,  -999.00, -999.000,9, -999.000,   -999.0,9,   -999.0,  -999.00,9,   0.1260,2,   0.0865,2,   0.0466,2,   0.0338,2,   0.0146,2,   0.0159,3
  33RR20070204,  I08S,     7,  1,     17,     17,2,20070216,2323,-64.4125,  83.5450, 3571,   1012.1,   0.9767,  34.7182,2,  34.7184,2,    203.8,2,    204.5,2,   106.34,2,    31.64,2,     0.00,2,     2.18,2,    0.259,2,    0.122,2, -999.000,5,   2254.5,2,   2352.3,2,     41.8,2,    33.06,2, -999.000,9, -999.000,-999.0000,9,-999.0000,  -999.00,9,  -999.00, -999.000,9, -999.000,   -999.0,9,   -999.0,  -999.00,9,   0.1204,2,   0.0824,2,   0.0448,2,   0.0323,2,   0.0146,2,   0.0159,3
  33RR20070204,  I08S,     7,  1,     16,     16,2,20070216,2323,-64.4125,  83.5450, 3571,   1114.1,   0.8695,  34.7123,2,  34.7135,2,    205.1,2,    205.3,2,   109.60,2,    31.74,2,     0.00,2,     2.20,2,    0.260,2,    0.120,2, -999.000,5,   2254.3,2,   2353.6,2,     42.0,2,    33.27,2, -999.000,9, -999.000,-999.0000,9,-999.0000,  -999.00,9,  -999.00, -999.000,9, -999.000,   -999.0,9,   -999.0,  -999.00,9,   0.1169,2,   0.0792,2,   0.0423,2,   0.0305,2,   0.0147,2,   0.0164,3
  33RR20070204,  I08S,     7,  1,     15,     15,2,20070216,2323,-64.4125,  83.5450, 3571,   1217.0,   0.7893,  34.7081,2,  34.7086,2,    205.7,2,    206.3,2,   111.83,2,    32.02,2,     0.00,2,     2.23,2,    0.255,2,    0.120,2, -999.000,5,   2256.3,2,   2353.3,2,     42.5,2,    33.49,2, -999.000,9, -999.000,-999.0000,9,-999.0000,  -999.00,9,  -999.00, -999.000,9, -999.000,   -999.0,9,   -999.0,  -999.00,9,   0.1177,2,   0.0801,2,   0.0437,2,   0.0318,2,   0.0146,2,   0.0159,3
  33RR20070204,  I08S,     7,  1,     14,     14,2,20070216,2323,-64.4125,  83.5450, 3571,   1315.8,   0.7222,  34.7050,2,  34.7057,2,    207.0,2,    207.6,2,   114.07,2,    32.17,2,     0.00,2,     2.23,2,    0.245,2,    0.113,2, -999.000,5,   2257.8,2,   2353.3,2,     42.4,2,    33.22,2, -999.000,9, -999.000,-999.0000,9,-999.0000,  -999.00,9,  -999.00, -999.000,9, -999.000,   -999.0,9,   -999.0,  -999.00,9,   0.1181,2,   0.0804,2,   0.0442,2,   0.0323,2,   0.0145,3,   0.0157,3
  33RR20070204,  I08S,     7,  1,     13,     13,2,20070216,2323,-64.4125,  83.5450, 3571,   1417.8,   0.6431,  34.7007,2,  34.7017,2,    207.9,2,    208.0,2,   116.32,2,    32.36,2,     0.00,2,     2.25,2,    0.241,2,    0.113,2, -999.000,5,   2258.5,2,   2355.3,2,     42.3,2,    34.03,2, -999.000,9, -999.000,-999.0000,9,-999.0000,  -999.00,9,  -999.00, -999.000,9, -999.000,   -999.0,9,   -999.0,  -999.00,9,   0.1227,2,   0.0837,2,   0.0465,2,   0.0345,2,   0.0143,3,   0.0154,3
  33RR20070204,  I08S,     7,  1,     12,     12,2,20070216,2323,-64.4125,  83.5450, 3571,   1521.2,   0.5652,  34.6968,2,  34.6982,2,    209.4,2,    208.9,2,   118.76,2,    32.36,2,     0.00,2,     2.26,2,    0.224,2,    0.104,2, -999.000,5,   2259.8,2,   2354.9,2,     42.6,2,    34.32,2, -999.000,9, -999.000,-999.0000,9,-999.0000,  -999.00,9,  -999.00, -999.000,9, -999.000,   -999.0,9,   -999.0,  -999.00,9,   0.1162,2,   0.0787,2,   0.0431,2,   0.0317,2,   0.0143,3,   0.0157,3
  33RR20070204,  I08S,     7,  1,     11,     11,2,20070216,2323,-64.4125,  83.5450, 3571,   1624.5,   0.4918,  34.6927,2,  34.6933,2,    210.4,2,    209.6,2,   121.01,2,    32.65,2,     0.00,2,     2.27,2,    0.227,2,    0.105,2, -999.000,5,   2259.3,2,   2354.9,2,     42.5,2,    34.65,2, -999.000,9, -999.000,-999.0000,9,-999.0000,  -999.00,9,  -999.00, -999.000,9, -999.000,   -999.0,9,   -999.0,  -999.00,9,   0.1215,2,   0.0836,2,   0.0463,2,   0.0343,2,   0.0141,3,   0.0153,3
  33RR20070204,  I08S,     7,  1,     10,     10,2,20070216,2323,-64.4125,  83.5450, 3571,   1726.2,   0.4173,  34.6886,2,  34.6891,2,    211.5,2,    212.3,2,   121.41,2,    32.65,2,     0.00,2,     2.27,2, -999.000,9, -999.000,9, -999.000,9,   2259.9,2,   2354.8,2,     42.6,2,    34.38,2, -999.000,9, -999.000,-999.0000,9,-999.0000,  -999.00,9,  -999.00, -999.000,9, -999.000,   -999.0,9,   -999.0,  -999.00,9,   0.1191,2,   0.0813,2,   0.0453,2,   0.0339,2,   0.0141,3,   0.0152,3
  33RR20070204,  I08S,     7,  1,      9,      9,2,20070216,2323,-64.4125,  83.5450, 3571,   1826.7,   0.3605,  34.6859,2,  34.6862,2,    212.9,2,    213.4,2,   122.64,2,    32.65,2,     0.00,2,     2.28,2,    0.307,2,    0.145,2, -999.000,5,   2259.5,2,   2354.6,2,     42.3,2,    33.84,2, -999.000,9, -999.000,-999.0000,9,-999.0000,  -999.00,9,  -999.00, -999.000,9, -999.000,   -999.0,9,   -999.0,  -999.00,9,   0.1164,2,   0.0795,2,   0.0439,2,   0.0324,2,   0.0141,3,   0.0154,3
  33RR20070204,  I08S,     7,  1,      8,      8,2,20070216,2323,-64.4125,  83.5450, 3571,   1928.2,   0.3046,  34.6835,2,  34.6828,0,    214.5,2,    215.2,2,   123.45,2,    32.75,2,     0.00,2,     2.28,2,    0.332,2,    0.162,2, -999.000,5,   2258.7,2,   2354.1,2,     41.9,2,    34.15,2, -999.000,9, -999.000,-999.0000,9,-999.0000,  -999.00,9,  -999.00, -999.000,9, -999.000,   -999.0,9,   -999.0,  -999.00,9,   0.1173,2,   0.0799,2,   0.0438,2,   0.0325,2,   0.0141,3,   0.0155,3
  33RR20070204,  I08S,     7,  1,      7,      7,2,20070216,2323,-64.4125,  83.5450, 3571,   2032.0,   0.2527,  34.6812,2,  34.6809,2,    216.2,2,    216.7,2,   124.88,2,    32.79,2,     0.00,2,     2.28,2,    0.347,2,    0.168,2, -999.000,5,   2258.9,2,   2352.8,2,     41.6,2,    34.44,2, -999.000,9, -999.000,-999.0000,9,-999.0000,  -999.00,9,  -999.00, -999.000,9, -999.000,   -999.0,9,   -999.0,  -999.00,9,   0.1169,2,   0.0800,2,   0.0448,2,   0.0336,2,   0.0140,3,   0.0151,3
  33RR20070204,  I08S,     7,  1,      6,      6,2,20070216,2323,-64.4125,  83.5450, 3571,   2286.7,   0.1488,  34.6770,2,  34.6775,2,    221.2,2,    220.8,2,   125.29,2,    32.70,2,     0.00,2,     2.28,2, -999.000,9, -999.000,9, -999.000,9,   2257.2,2,   2353.5,2,     41.5,2,    33.92,2, -999.000,9, -999.000,-999.0000,9,-999.0000,  -999.00,9,  -999.00, -999.000,9, -999.000,   -999.0,9,   -999.0,  -999.00,9,   0.1173,2,   0.0799,2,   0.0443,2,   0.0331,2,   0.0141,3,   0.0153,3
  33RR20070204,  I08S,     7,  1,      5,      5,2,20070216,2323,-64.4125,  83.5450, 3571,   2543.8,   0.0521,  34.6736,2,  34.6740,2,    226.0,2,    225.5,2,   124.06,2,    32.46,2,     0.00,2,     2.25,2,    0.712,2,    0.364,2, -999.000,5,   2255.8,2,   2352.4,2,     41.8,2,    34.07,2, -999.000,9, -999.000,-999.0000,9,-999.0000,  -999.00,9,  -999.00, -999.000,9, -999.000,   -999.0,9,   -999.0,  -999.00,9,   0.1220,2,   0.0843,2,   0.0474,2,   0.0360,2,   0.0138,3,   0.0148,3
  33RR20070204,  I08S,     7,  1,      4,      4,2,20070216,2323,-64.4125,  83.5450, 3571,   2797.1,  -0.0034,  34.6727,2,  34.6736,2,    228.7,2,    228.2,2,   123.85,2,    32.36,2,     0.00,2,     2.25,2,    0.879,2,    0.467,2, -999.000,5,   2254.7,2,   2351.9,2,     41.9,2,    33.52,2, -999.000,9, -999.000,-999.0000,9,-999.0000,  -999.00,9,  -999.00, -999.000,9, -999.000,   -999.0,9,   -999.0,  -999.00,9,   0.1193,2,   0.0820,2,   0.0460,2,   0.0346,2,   0.0139,3,   0.0150,3
  33RR20070204,  I08S,     7,  1,      3,      3,2,20070216,2323,-64.4125,  83.5450, 3571,   3055.8,  -0.0572,  34.6700,2,  34.6710,2,    231.2,2,    230.8,2,   124.06,2,    32.27,2,     0.00,2,     2.24,2,    1.071,2,    0.533,2, -999.000,5,   2254.9,2,   2350.2,2,     42.1,2,    34.05,2, -999.000,9, -999.000,-999.0000,9,-999.0000,  -999.00,9,  -999.00, -999.000,9, -999.000,   -999.0,9,   -999.0,  -999.00,9,   0.1218,2,   0.0830,2,   0.0455,2,   0.0339,2,   0.0140,3,   0.0154,3
  33RR20070204,  I08S,     7,  1,      2,      2,2,20070216,2323,-64.4125,  83.5450, 3571,   3360.5,  -0.1049,  34.6670,2,  34.6673,2,    234.0,2,    233.3,2,   124.05,2,    32.22,2,     0.00,2,     2.24,2,    1.285,2,    0.646,2, -999.000,5,   2254.8,2,   2350.1,2,     42.8,2,    33.89,2, -999.000,9, -999.000,-999.0000,9,-999.0000,  -999.00,9,  -999.00, -999.000,9, -999.000,   -999.0,9,   -999.0,  -999.00,9,   0.1225,2,   0.0838,2,   0.0460,2,   0.0342,2,   0.0142,3,   0.0155,3
  33RR20070204,  I08S,     7,  1,      1,      1,2,20070216,2323,-64.4125,  83.5450, 3571,   3615.1,  -0.1703,  34.6616,2,  34.6624,2,    234.3,2,    235.3,2,   132.85,2,    32.46,2,     0.00,2,     2.26,2,    1.478,2,    0.738,2, -999.000,5,   2255.4,6,   2352.8,2,     42.2,2,    33.99,2, -999.000,9, -999.000,-999.0000,9,-999.0000,  -999.00,9,  -999.00, -999.000,9, -999.000,   -999.0,9,   -999.0,  -999.00,9,   0.1246,2,   0.0860,2,   0.0480,2,   0.0357,2,   0.0140,3,   0.0151,3