BOTTLE,20150626SIOCCHRJL
EXPOCODE,SECT_ID,STNNBR,CASTNO,SAMPNO,BTLNBR,BTLNBR_FLAG_W,DATE,TIME,LATITUDE,LONGITUDE,DEPTH,CTDPRS,CTDTMP,CTDSAL,CTDSAL_FLAG_W,SALNTY,SALNTY_FLAG_W,CTDOXY,CTDOXY_FLAG_W,OXYGEN,OXYGEN_FLAG_W,SILCAT,SILCAT_FLAG_W,NITRAT,NITRAT_FLAG_W,NITRIT,NITRIT_FLAG_W,PHSPHT,PHSPHT_FLAG_W,CFC-11,CFC-11_FLAG_W,CFC-12,CFC-12_FLAG_W,CFC113,CFC113_FLAG_W,TCARBN,TCARBN_FLAG_W,ALKALI,ALKALI_FLAG_W,DOC,DOC_FLAG_W,TDN,TDN_FLAG_W,TRITUM,TRITUM_FLAG_W,TRITER,HELIUM,HELIUM_FLAG_W,HELIER,DELHE3,DELHE3_FLAG_W,DELHER,NEON,NEON_FLAG_W,NEONER,DELC14,DELC14_FLAG_W,C14ERR,DELC13,DELC13_FLAG_W,CDOM325,CDOM325_FLAG_W,CDOM340,CDOM340_FLAG_W,CDOM380,CDOM380_FLAG_W,CDOM412,CDOM412_FLAG_W,CDOMSL,CDOMSL_FLAG_W,CDOMSN,CDOMSN_FLAG_W
,,,,,,,,,,,METERS,DBAR,ITS-90,PSS-78,,PSS-78,,UMOL/KG,,UMOL/KG,,UMOL/KG,,UMOL/KG,,UMOL/KG,,UMOL/KG,,PMOL/KG,,PMOL/KG,,PMOL/KG,,UMOL/KG,,UMOL/KG,,UMOL/KG,,UMOL/KG,,TU,,TU,NMOL/KG,,NMOL/KG,PERCNT,,PERCNT,NMOL/KG,,NMOL/KG,/MILLE,,/MILLE,/MILLE,,1/M,,1/M,,1/M,,1/M,,1/NM,,1/NM,
  33RR20070204,  I08S,    79,  1,     36,     38,2,20070311,0011,-33.0183,  94.9742, 4178,      4.3,  19.0239,  35.2644,2,  35.2640,2,    234.4,2,    236.3,2,     0.33,2,     0.63,2,     0.02,2,     0.23,2,    2.384,2,    1.449,2, -999.000,5,   2054.0,6,   2321.9,2,     66.4,2,     5.07,2, -999.000,9, -999.000,-999.0000,9,-999.0000,  -999.00,9,  -999.00, -999.000,9, -999.000,   -999.0,9,   -999.0,  -999.00,9,   0.0944,2,   0.0644,2,   0.0295,2,   0.0208,2,   0.0151,3,   0.0188,3
  33RR20070204,  I08S,    79,  1,     35,     35,2,20070311,0011,-33.0183,  94.9742, 4178,     31.1,  19.0253,  35.2642,2,  35.2640,2,    237.0,2,    236.2,2,     0.32,2,     0.63,2,     0.02,2,     0.23,2,    2.340,2,    1.438,2, -999.000,5,   2054.7,2,   2323.6,2,     64.4,2,     5.76,2, -999.000,9, -999.000,-999.0000,9,-999.0000,  -999.00,9,  -999.00, -999.000,9, -999.000,     47.1,2,      3.0,     1.80,2,   0.0954,2,   0.0655,2,   0.0300,2,   0.0218,2,   0.0147,3,   0.0183,3
  33RR20070204,  I08S,    79,  1,     34,   9419,2,20070311,0011,-33.0183,  94.9742, 4178,     55.9,  18.6007,  35.2361,2,  35.2356,2,    238.9,2,    239.5,2,     0.13,2,     0.92,2,     0.03,2,     0.25,2,    2.403,2,    1.479,2, -999.000,5,   2057.3,2,   2321.5,2,     57.6,2,     4.90,2, -999.000,9, -999.000,-999.0000,9,-999.0000,  -999.00,9,  -999.00, -999.000,9, -999.000,     54.5,2,      2.9,     1.76,2,   0.1050,2,   0.0737,2,   0.0369,2,   0.0266,2,   0.0134,3,   0.0161,3
  33RR20070204,  I08S,    79,  1,     33,     33,2,20070311,0011,-33.0183,  94.9742, 4178,     81.3,  13.5766,  35.0396,2,  35.0316,2,    264.6,2,    264.7,2,     1.31,2,     4.84,2,     0.11,2,     0.51,2,    3.142,2,    1.866,2, -999.000,5,   2084.2,2,   2307.3,2,     56.4,2,     8.92,2, -999.000,9, -999.000,-999.0000,9,-999.0000,  -999.00,9,  -999.00, -999.000,9, -999.000,     56.7,2,      3.3,     1.50,2,   0.1194,2,   0.0848,2,   0.0441,2,   0.0327,2,   0.0139,2,   0.0155,3
  33RR20070204,  I08S,    79,  1,     32,     37,2,20070311,0011,-33.0183,  94.9742, 4178,    106.0,  12.6673,  35.0869,2,  35.0863,2,    253.9,2,    253.8,2,     1.70,2,     6.07,2,     0.73,2,     0.60,2,    3.196,2,    1.903,2, -999.000,5,   2098.3,2,   2309.3,2,     52.5,2,    10.71,2, -999.000,9, -999.000,-999.0000,9,-999.0000,  -999.00,9,  -999.00, -999.000,9, -999.000,     31.7,2,      3.4,     1.34,2,   0.0848,2,   0.0599,2,   0.0306,2,   0.0229,2,   0.0143,2,   0.0162,2
  33RR20070204,  I08S,    79,  1,     31,     31,2,20070311,0011,-33.0183,  94.9742, 4178,    156.1,  12.2281,  35.0977,2,  35.0930,2,    243.6,2,    244.2,2,     1.89,2,     8.26,2,     0.02,2,     0.67,2,    3.230,2,    1.913,2, -999.000,5,   2105.9,2,   2308.2,2,     48.3,2,    11.94,2, -999.000,9, -999.000,-999.0000,9,-999.0000,  -999.00,9,  -999.00, -999.000,9, -999.000,     52.6,2,      3.2,     1.23,2,   0.0703,2,   0.0476,2,   0.0247,2,   0.0193,2,   0.0136,2,   0.0163,3
  33RR20070204,  I08S,    79,  1,     30,     30,2,20070311,0011,-33.0183,  94.9742, 4178,    205.9,  11.7705,  35.0595,2,  35.0636,2,    241.5,2,    241.1,2,     2.29,2,     9.55,2,     0.01,2,     0.74,2,    3.326,2,    1.953,2, -999.000,5,   2112.9,2,   2306.7,2,     47.1,2,    13.44,2, -999.000,9, -999.000,-999.0000,9,-999.0000,  -999.00,9,  -999.00, -999.000,9, -999.000,     46.1,2,      3.4,     1.20,2,   0.0707,2,   0.0477,2,   0.0248,2,   0.0192,2,   0.0136,2,   0.0163,3
  33RR20070204,  I08S,    79,  1,     29,     29,2,20070311,0011,-33.0183,  94.9742, 4178,    256.3,  11.2714,  34.9807,2,  34.9816,2,    244.0,2,    244.1,2,     2.87,2,    10.75,2,     0.01,2,     0.81,2,    3.415,2,    1.981,2, -999.000,5,   2114.4,2,   2303.4,2,     46.0,2,    14.33,2, -999.000,9, -999.000,-999.0000,9,-999.0000,  -999.00,9,  -999.00, -999.000,9, -999.000,   -999.0,9,   -999.0,  -999.00,9,   0.0778,2,   0.0544,2,   0.0302,2,   0.0235,2,   0.0124,2,   0.0142,3
  33RR20070204,  I08S,    79,  1,     28,     28,2,20070311,0011,-33.0183,  94.9742, 4178,    306.3,  10.8442,  34.9110,2,  34.9111,2,    247.2,2,    246.6,2,     3.26,2,    11.76,2,     0.01,2,     0.87,2,    3.429,2,    2.024,2, -999.000,5,   2115.6,2,   2297.9,2,     45.2,2,    14.81,2, -999.000,9, -999.000,-999.0000,9,-999.0000,  -999.00,9,  -999.00, -999.000,9, -999.000,     44.0,2,      3.2,     1.20,2,   0.0715,2,   0.0487,2,   0.0262,2,   0.0202,2,   0.0131,2,   0.0155,3
  33RR20070204,  I08S,    79,  1,     27,     27,2,20070311,0011,-33.0183,  94.9742, 4178,    356.4,  10.6018,  34.8725,2,  34.8726,2,    246.5,2,    247.0,2,     3.46,2,    12.35,2,     0.01,2,     0.91,2,    3.501,2,    2.035,2, -999.000,5,   2116.0,2,   2296.6,2,     44.4,2,    16.08,2, -999.000,9, -999.000,-999.0000,9,-999.0000,  -999.00,9,  -999.00, -999.000,9, -999.000,   -999.0,9,   -999.0,  -999.00,9,   0.0669,2,   0.0446,2,   0.0235,2,   0.0181,2,   0.0136,2,   0.0164,3
  33RR20070204,  I08S,    79,  1,     26,     26,2,20070311,0011,-33.0183,  94.9742, 4178,    406.6,  10.3740,  34.8420,2,  34.8433,2,    244.9,2,    245.5,2,     3.65,2,    13.03,2,     0.01,2,     0.95,2, -999.000,9, -999.000,9, -999.000,9,   2117.3,2,   2294.6,2,     44.1,2,    16.44,2, -999.000,9, -999.000,-999.0000,9,-999.0000,  -999.00,9,  -999.00, -999.000,9, -999.000,     35.6,2,      3.1,     1.29,2,   0.0678,2,   0.0455,2,   0.0241,2,   0.0186,2,   0.0133,2,   0.0161,3
  33RR20070204,  I08S,    79,  1,     25,     25,2,20070311,0011,-33.0183,  94.9742, 4178,    456.1,  10.0722,  34.7941,2,  34.7937,2,    244.8,2,    247.3,2,     4.04,2,    13.81,2,     0.00,2,     1.00,2,    3.588,2,    2.057,2, -999.000,5,   2117.8,2,   2294.8,2,     43.6,2,    16.85,2, -999.000,9, -999.000,-999.0000,9,-999.0000,  -999.00,9,  -999.00, -999.000,9, -999.000,   -999.0,9,   -999.0,  -999.00,9,   0.0678,2,   0.0452,2,   0.0240,2,   0.0186,2,   0.0132,3,   0.0160,3
  33RR20070204,  I08S,    79,  1,     24,     24,2,20070311,0011,-33.0183,  94.9742, 4178,    506.4,   9.8578,  34.7613,2,  34.7611,2,    244.0,2,    245.9,2,     4.24,2,    14.50,2,     0.00,2,     1.05,2,    3.618,2,    2.047,2, -999.000,5,   2119.4,2,   2293.7,2,     43.0,2,    16.99,2, -999.000,9, -999.000,-999.0000,9,-999.0000,  -999.00,9,  -999.00, -999.000,9, -999.000,     46.7,2,      3.2,     1.25,2,   0.0683,2,   0.0453,2,   0.0239,2,   0.0183,2,   0.0135,2,   0.0164,3
  33RR20070204,  I08S,    79,  1,     23,     23,2,20070311,0011,-33.0183,  94.9742, 4178,    606.5,   9.3012,  34.6808,2,  34.6817,2,    240.0,2,    240.3,2,     4.84,2,    16.41,2,     0.00,2,     1.16,2,    3.653,2,    2.025,2, -999.000,5,   2125.3,2,   2288.2,2,     42.5,2,    18.93,2, -999.000,9, -999.000,-999.0000,9,-999.0000,  -999.00,9,  -999.00, -999.000,9, -999.000,     30.3,2,      3.6,     1.27,2,   0.0656,2,   0.0427,2,   0.0220,2,   0.0168,2,   0.0140,3,   0.0175,3
  33RR20070204,  I08S,    79,  1,     22,     22,2,20070311,0011,-33.0183,  94.9742, 4178,    706.8,   8.4083,  34.5763,2,  34.5771,2,    225.2,2,    222.4,2,     8.00,2,    20.28,2,     0.00,2,     1.41,2,    3.179,2,    1.702,2, -999.000,5,   2140.1,2,   2284.1,2,     42.2,2,    23.23,2, -999.000,9, -999.000,-999.0000,9,-999.0000,  -999.00,9,  -999.00, -999.000,9, -999.000,     19.7,2,      3.6,     1.23,2,   0.0733,2,   0.0480,2,   0.0255,2,   0.0191,2,   0.0139,3,   0.0168,3
  33RR20070204,  I08S,    79,  1,     21,     21,2,20070311,0011,-33.0183,  94.9742, 4178,    807.5,   7.2105,  34.4801,2,  34.4823,2,    208.2,2,    206.4,2,    14.33,2,    24.40,2,     0.00,2,     1.67,2,    2.490,2,    1.298,2, -999.000,5,   2159.5,2,   2285.3,2,     41.4,2,    26.68,2, -999.000,9, -999.000,-999.0000,9,-999.0000,  -999.00,9,  -999.00, -999.000,9, -999.000,      2.9,2,      2.9,     1.08,2,   0.0843,2,   0.0564,2,   0.0307,2,   0.0232,2,   0.0134,3,   0.0157,3
  33RR20070204,  I08S,    79,  1,     20,     20,2,20070311,0011,-33.0183,  94.9742, 4178,    907.8,   5.8151,  34.4045,2,  34.4040,2,    199.3,2,    198.6,2,    23.26,2,    28.12,2,     0.00,2,     1.92,2, -999.000,9, -999.000,9, -999.000,9,   2179.0,2,   2288.3,2,     40.8,2,    30.60,2, -999.000,9, -999.000,-999.0000,9,-999.0000,  -999.00,9,  -999.00, -999.000,9, -999.000,    -37.7,2,      2.3,     1.05,2,   0.0891,2,   0.0596,2,   0.0328,2,   0.0244,2,   0.0134,3,   0.0155,3
  33RR20070204,  I08S,    79,  1,     19,     19,2,20070311,0011,-33.0183,  94.9742, 4178,   1008.4,   4.7802,  34.3780,2,  34.3779,2,    195.0,2,    194.8,2,    32.77,2,    30.38,2,     0.00,2,     2.10,2,    1.334,2,    0.677,2, -999.000,5,   2194.7,2,   2295.5,2,     41.0,2,    31.61,2, -999.000,9, -999.000,-999.0000,9,-999.0000,  -999.00,9,  -999.00, -999.000,9, -999.000,    -74.2,2,      2.0,     0.94,2,   0.0963,2,   0.0648,2,   0.0365,2,   0.0272,2,   0.0132,3,   0.0150,3
  33RR20070204,  I08S,    79,  1,     18,     18,2,20070311,0011,-33.0183,  94.9742, 4178,   1108.7,   4.0635,  34.4051,2,  34.4055,2,    185.2,2,    182.2,2,    46.09,2,    32.10,2,     0.00,2,     2.26,2,    0.805,2,    0.406,2, -999.000,5,   2216.0,2,   2308.8,2,     40.3,2,    33.71,2, -999.000,9, -999.000,-999.0000,9,-999.0000,  -999.00,9,  -999.00, -999.000,9, -999.000,    -94.3,2,      2.1,     0.81,2,   0.1091,2,   0.0750,2,   0.0430,2,   0.0322,2,   0.0131,3,   0.0144,3
  33RR20070204,  I08S,    79,  1,     17,     17,2,20070311,0011,-33.0183,  94.9742, 4178,   1209.0,   3.6787,  34.4503,2,  34.4495,2,    172.2,2,    170.4,2,    56.64,2,    33.58,2,     0.00,2,     2.35,2,    0.465,2,    0.238,2, -999.000,5,   2233.1,2,   2326.6,2,     40.5,2,    35.41,2, -999.000,9, -999.000,-999.0000,9,-999.0000,  -999.00,9,  -999.00, -999.000,9, -999.000,   -126.4,2,      1.9,     0.69,2,   0.1161,2,   0.0802,2,   0.0459,2,   0.0341,2,   0.0133,3,   0.0144,3
  33RR20070204,  I08S,    79,  1,     16,     16,2,20070311,0011,-33.0183,  94.9742, 4178,   1310.0,   3.4462,  34.4914,2,  34.4915,2,    165.1,2,    162.3,2,    64.62,2,    34.14,2,     0.00,2,     2.40,2,    0.264,2,    0.140,2, -999.000,5,   2246.7,2,   2258.6,4,     40.3,2,    35.17,2, -999.000,9, -999.000,-999.0000,9,-999.0000,  -999.00,9,  -999.00, -999.000,9, -999.000,   -140.7,2,      3.0,     0.59,2,   0.1166,2,   0.0799,2,   0.0446,2,   0.0328,2,   0.0138,2,   0.0151,3
  33RR20070204,  I08S,    79,  1,     15,     15,2,20070311,0011,-33.0183,  94.9742, 4178,   1410.5,   3.3094,  34.5368,2,  34.5382,2,    154.4,2,    155.0,2,    72.42,2,    34.46,2,     0.00,2,     2.44,2,    0.124,2,    0.069,2, -999.000,5,   2255.8,6,   2335.4,2,     40.5,2,    35.56,2, -999.000,9, -999.000,-999.0000,9,-999.0000,  -999.00,9,  -999.00, -999.000,9, -999.000,   -148.6,2,      2.9,     0.53,2,   0.1231,2,   0.0855,2,   0.0484,2,   0.0356,2,   0.0137,2,   0.0147,3
  33RR20070204,  I08S,    79,  1,     14,     14,2,20070311,0011,-33.0183,  94.9742, 4178,   1511.4,   3.1530,  34.5769,2,  34.5769,2,    153.2,2,    152.9,2,    77.82,2,    34.45,2,     0.00,2,     2.43,2,    0.072,2,    0.038,2, -999.000,5,   2266.0,2,   2341.8,2,     40.7,2,    36.13,2, -999.000,9, -999.000,-999.0000,9,-999.0000,  -999.00,9,  -999.00, -999.000,9, -999.000,   -165.4,2,      2.6,     0.49,2,   0.1311,2,   0.0924,2,   0.0527,2,   0.0389,2,   0.0134,2,   0.0142,3
  33RR20070204,  I08S,    79,  1,     13,     13,2,20070311,0011,-33.0183,  94.9742, 4178,   1612.6,   2.9975,  34.6018,2,  34.6017,2,    154.5,2,    154.7,2,    80.83,2,    34.30,2,     0.00,2,     2.41,2,    0.055,2,    0.031,2, -999.000,5,   2266.6,2,   2346.6,2,     40.1,2,    35.75,2, -999.000,9, -999.000,-999.0000,9,-999.0000,  -999.00,9,  -999.00, -999.000,9, -999.000,   -159.5,2,      2.6,     0.47,2,   0.1298,2,   0.0909,2,   0.0516,2,   0.0377,2,   0.0136,2,   0.0145,3
  33RR20070204,  I08S,    79,  1,     12,     12,2,20070311,0011,-33.0183,  94.9742, 4178,   1713.5,   2.8604,  34.6298,2,  34.6302,2,    156.7,2,    156.7,2,    83.83,2,    34.01,2,     0.00,2,     2.39,2,    0.043,2,    0.023,2, -999.000,5,   2268.4,2,   2347.8,2,     40.3,2,    35.29,2, -999.000,9, -999.000,-999.0000,9,-999.0000,  -999.00,9,  -999.00, -999.000,9, -999.000,   -168.3,2,      2.4,     0.48,2,   0.1262,2,   0.0878,2,   0.0490,2,   0.0355,2,   0.0140,2,   0.0150,3
  33RR20070204,  I08S,    79,  1,     11,     11,2,20070311,0011,-33.0183,  94.9742, 4178,   1813.8,   2.7100,  34.6564,2,  34.6577,2,    160.2,2,    160.2,2,    86.24,2,    33.54,2,     0.00,2,     2.35,2,    0.037,2,    0.020,2, -999.000,5,   2268.4,2,   2350.5,2,     40.5,2,    34.59,2, -999.000,9, -999.000,-999.0000,9,-999.0000,  -999.00,9,  -999.00, -999.000,9, -999.000,   -170.5,2,      2.4,     0.47,2,   0.1314,2,   0.0922,2,   0.0516,2,   0.0379,2,   0.0137,2,   0.0146,3
  33RR20070204,  I08S,    79,  1,     10,     10,2,20070311,0011,-33.0183,  94.9742, 4178,   2015.5,   2.4486,  34.6967,2,  34.6968,2,    169.6,2,    170.3,2,    88.05,2,    32.50,2,     0.00,2,     2.28,2,    0.028,2,    0.016,2, -999.000,5,   2262.6,2,   2352.0,2,     40.3,2,    34.19,2, -999.000,9, -999.000,-999.0000,9,-999.0000,  -999.00,9,  -999.00, -999.000,9, -999.000,   -166.1,2,      2.3,     0.48,2,   0.1267,2,   0.0882,2,   0.0483,2,   0.0348,2,   0.0140,2,   0.0153,3
  33RR20070204,  I08S,    79,  1,      9,      9,2,20070311,0011,-33.0183,  94.9742, 4178,   2269.0,   2.1979,  34.7278,2,  34.7282,2,    181.7,2,    183.0,2,    88.45,2,    31.33,2,     0.00,2,     2.18,2,    0.021,2,    0.011,2, -999.000,5,   2257.7,2,   2351.0,2,     40.3,2,    32.95,2, -999.000,9, -999.000,-999.0000,9,-999.0000,  -999.00,9,  -999.00, -999.000,9, -999.000,   -162.7,2,      2.8,     0.54,2,   0.1255,2,   0.0874,2,   0.0477,2,   0.0343,2,   0.0140,2,   0.0153,3
  33RR20070204,  I08S,    79,  1,      8,      8,2,20070311,0011,-33.0183,  94.9742, 4178,   2521.8,   1.9777,  34.7407,2,  34.7412,2,    189.9,2,    190.4,2,    91.47,2,    30.82,2,     0.00,2,     2.14,2,    0.018,2,    0.009,2, -999.000,5,   2255.6,2,   2354.3,2,     40.3,2,    31.96,2, -999.000,9, -999.000,-999.0000,9,-999.0000,  -999.00,9,  -999.00, -999.000,9, -999.000,   -158.7,2,      2.3,     0.54,2,   0.1225,2,   0.0848,2,   0.0457,2,   0.0325,2,   0.0142,2,   0.0157,3
  33RR20070204,  I08S,    79,  1,      7,      7,2,20070311,0011,-33.0183,  94.9742, 4178,   2774.6,   1.7350,  34.7415,2,  34.7416,2,    195.0,2,    195.3,2,    97.91,2,    30.86,2,     0.00,2,     2.14,2,    0.017,2,    0.009,2, -999.000,5,   2257.3,2,   2356.0,2,     40.5,2,    32.71,2, -999.000,9, -999.000,-999.0000,9,-999.0000,  -999.00,9,  -999.00, -999.000,9, -999.000,   -163.6,2,      2.8,     0.58,2,   0.1227,2,   0.0846,2,   0.0459,2,   0.0329,2,   0.0143,2,   0.0157,3
  33RR20070204,  I08S,    79,  1,      6,      6,2,20070311,0011,-33.0183,  94.9742, 4178,   3028.3,   1.5323,  34.7370,2,  34.7378,2,    198.5,2,    198.3,2,   104.37,2,    30.99,2,     0.00,2,     2.15,2,    0.016,2,    0.009,2, -999.000,5,   2259.2,6,   2358.5,2,     40.6,2,    32.94,2, -999.000,9, -999.000,-999.0000,9,-999.0000,  -999.00,9,  -999.00, -999.000,9, -999.000,   -156.7,2,      2.8,     0.55,2,   0.1223,2,   0.0843,2,   0.0454,2,   0.0321,2,   0.0143,2,   0.0159,3
  33RR20070204,  I08S,    79,  1,      5,      5,2,20070311,0011,-33.0183,  94.9742, 4178,   3282.2,   1.3878,  34.7314,2,  34.7268,0,    200.5,2,    200.4,2,   108.22,2,    31.21,2,     0.00,2,     2.16,2,    0.016,2,    0.009,2, -999.000,5,   2262.6,2,   2361.4,2,     40.6,2,    32.22,2, -999.000,9, -999.000,-999.0000,9,-999.0000,  -999.00,9,  -999.00, -999.000,9, -999.000,   -160.0,2,      2.3,     0.55,2,   0.1213,2,   0.0839,2,   0.0456,2,   0.0326,2,   0.0140,2,   0.0155,3
  33RR20070204,  I08S,    79,  1,      4,      4,2,20070311,0011,-33.0183,  94.9742, 4178,   3536.5,   1.2677,  34.7261,2,  34.7247,2,    202.2,2,    201.9,2,   112.28,2,    31.40,2,     0.00,2,     2.18,2,    0.017,2,    0.009,2, -999.000,5,   2263.4,2,   2363.8,2,     40.5,2,    32.94,2, -999.000,9, -999.000,-999.0000,9,-999.0000,  -999.00,9,  -999.00, -999.000,9, -999.000,   -164.7,2,      2.3,     0.54,2,   0.1195,2,   0.0821,2,   0.0440,2,   0.0309,2,   0.0143,2,   0.0160,3
  33RR20070204,  I08S,    79,  1,      3,      3,2,20070311,0011,-33.0183,  94.9742, 4178,   3790.7,   1.1735,  34.7210,2,  34.7191,0,    203.2,2,    203.3,2,   115.92,2,    31.62,2,     0.00,2,     2.19,2,    0.018,2,    0.011,2, -999.000,5,   2265.3,2,   2368.2,2,     41.4,2,    32.78,2, -999.000,9, -999.000,-999.0000,9,-999.0000,  -999.00,9,  -999.00, -999.000,9, -999.000,   -163.0,2,      2.5,     0.52,2,   0.1231,2,   0.0851,2,   0.0462,2,   0.0328,2,   0.0140,2,   0.0156,3
  33RR20070204,  I08S,    79,  1,      2,      2,2,20070311,0011,-33.0183,  94.9742, 4178,   4045.2,   1.1199,  34.7175,2,  34.7148,0,    204.2,2,    204.2,2,   117.14,2,    31.75,2,     0.00,2,     2.20,2,    0.018,2,    0.011,2, -999.000,5,   2268.4,2,   2368.7,2,     41.3,2,    33.23,2, -999.000,9, -999.000,-999.0000,9,-999.0000,  -999.00,9,  -999.00, -999.000,9, -999.000,   -162.7,2,      2.4,     0.52,2,   0.1231,2,   0.0850,2,   0.0457,2,   0.0322,2,   0.0143,2,   0.0159,3
  33RR20070204,  I08S,    79,  1,      1,      1,2,20070311,0011,-33.0183,  94.9742, 4178,   4226.5,   1.1154,  34.7166,2,  34.7160,2,    204.0,2,    204.4,2,   117.96,2,    31.80,2,     0.00,2,     2.20,2,    0.020,2,    0.012,2, -999.000,5,   2268.0,6,   2371.6,2,     41.0,2,    32.85,2, -999.000,9, -999.000,-999.0000,9,-999.0000,  -999.00,9,  -999.00, -999.000,9, -999.000,   -166.3,2,      2.8,     0.54,2,   0.1253,2,   0.0873,2,   0.0475,2,   0.0335,2,   0.0141,2,   0.0155,3