BOTTLE,20150626SIOCCHRJL
EXPOCODE,SECT_ID,STNNBR,CASTNO,SAMPNO,BTLNBR,BTLNBR_FLAG_W,DATE,TIME,LATITUDE,LONGITUDE,DEPTH,CTDPRS,CTDTMP,CTDSAL,CTDSAL_FLAG_W,SALNTY,SALNTY_FLAG_W,CTDOXY,CTDOXY_FLAG_W,OXYGEN,OXYGEN_FLAG_W,SILCAT,SILCAT_FLAG_W,NITRAT,NITRAT_FLAG_W,NITRIT,NITRIT_FLAG_W,PHSPHT,PHSPHT_FLAG_W,CFC-11,CFC-11_FLAG_W,CFC-12,CFC-12_FLAG_W,CFC113,CFC113_FLAG_W,TCARBN,TCARBN_FLAG_W,ALKALI,ALKALI_FLAG_W,DOC,DOC_FLAG_W,TDN,TDN_FLAG_W,TRITUM,TRITUM_FLAG_W,TRITER,HELIUM,HELIUM_FLAG_W,HELIER,DELHE3,DELHE3_FLAG_W,DELHER,NEON,NEON_FLAG_W,NEONER,DELC14,DELC14_FLAG_W,C14ERR,DELC13,DELC13_FLAG_W,CDOM325,CDOM325_FLAG_W,CDOM340,CDOM340_FLAG_W,CDOM380,CDOM380_FLAG_W,CDOM412,CDOM412_FLAG_W,CDOMSL,CDOMSL_FLAG_W,CDOMSN,CDOMSN_FLAG_W
,,,,,,,,,,,METERS,DBAR,ITS-90,PSS-78,,PSS-78,,UMOL/KG,,UMOL/KG,,UMOL/KG,,UMOL/KG,,UMOL/KG,,UMOL/KG,,PMOL/KG,,PMOL/KG,,PMOL/KG,,UMOL/KG,,UMOL/KG,,UMOL/KG,,UMOL/KG,,TU,,TU,NMOL/KG,,NMOL/KG,PERCNT,,PERCNT,NMOL/KG,,NMOL/KG,/MILLE,,/MILLE,/MILLE,,1/M,,1/M,,1/M,,1/M,,1/NM,,1/NM,
  33RR20070204,  I08S,    41,  1,     36,     36,2,20070227,2258,-51.0035,  89.5875, 4091,      5.1,   6.2661,  33.7669,2,  33.7660,2,    306.1,2,   -999.0,9,     2.38,2,    18.54,2,     0.24,2,     1.45,2, -999.000,9, -999.000,9, -999.000,9,   2108.0,6,   2271.2,2,   -999.0,9,  -999.00,9, -999.000,9, -999.000,-999.0000,9,-999.0000,  -999.00,9,  -999.00, -999.000,9, -999.000,   -999.0,9,   -999.0,  -999.00,9,-999.0000,9,-999.0000,9,-999.0000,9,-999.0000,9,-999.0000,9,-999.0000,9
  33RR20070204,  I08S,    41,  1,     35,     35,2,20070227,2258,-51.0035,  89.5875, 4091,     42.1,   5.6771,  33.7841,2,  33.7825,2,    307.6,2,    306.4,2,     3.60,2,    19.45,2,     0.28,2,     1.50,2, -999.000,9, -999.000,9, -999.000,9,   2112.4,2,   2271.6,2,   -999.0,9,  -999.00,9, -999.000,9, -999.000,-999.0000,9,-999.0000,  -999.00,9,  -999.00, -999.000,9, -999.000,   -999.0,9,   -999.0,  -999.00,9,-999.0000,9,-999.0000,9,-999.0000,9,-999.0000,9,-999.0000,9,-999.0000,9
  33RR20070204,  I08S,    41,  1,     34,   9433,2,20070227,2258,-51.0035,  89.5875, 4091,     76.8,   5.3082,  33.7978,2,  33.7966,2,    305.0,2,    307.2,2,     4.42,2,    20.19,2,     0.28,2,     1.53,2, -999.000,9, -999.000,9, -999.000,9,   2116.0,2,   2272.0,2,   -999.0,9,  -999.00,9, -999.000,9, -999.000,-999.0000,9,-999.0000,  -999.00,9,  -999.00, -999.000,9, -999.000,   -999.0,9,   -999.0,  -999.00,9,-999.0000,9,-999.0000,9,-999.0000,9,-999.0000,9,-999.0000,9,-999.0000,9
  33RR20070204,  I08S,    41,  1,     33,     33,2,20070227,2258,-51.0035,  89.5875, 4091,     97.1,   5.0957,  33.8427,2,  33.8412,2,    303.4,2,    301.7,2,     2.98,2,    20.67,2,     0.38,2,     1.59,2, -999.000,9, -999.000,9, -999.000,9,   2119.5,2,   2271.7,2,   -999.0,9,  -999.00,9, -999.000,9, -999.000,-999.0000,9,-999.0000,  -999.00,9,  -999.00, -999.000,9, -999.000,   -999.0,9,   -999.0,  -999.00,9,-999.0000,9,-999.0000,9,-999.0000,9,-999.0000,9,-999.0000,9,-999.0000,9
  33RR20070204,  I08S,    41,  1,     32,     32,2,20070227,2258,-51.0035,  89.5875, 4091,    127.1,   4.2258,  33.8863,2,  33.8868,2,    293.5,2,    293.1,2,     8.51,2,    25.01,2,     0.02,2,     1.74,2, -999.000,9, -999.000,9, -999.000,9,   2139.4,2,   2268.1,2,   -999.0,9,  -999.00,9, -999.000,9, -999.000,-999.0000,9,-999.0000,  -999.00,9,  -999.00, -999.000,9, -999.000,   -999.0,9,   -999.0,  -999.00,9,-999.0000,9,-999.0000,9,-999.0000,9,-999.0000,9,-999.0000,9,-999.0000,9
  33RR20070204,  I08S,    41,  1,     31,     31,2,20070227,2258,-51.0035,  89.5875, 4091,    147.4,   3.7249,  33.8576,2,  33.8557,2,    296.5,2,    298.5,2,    10.76,2,    26.15,2,     0.02,2,     1.82,2, -999.000,9, -999.000,9, -999.000,9,   2143.3,2,   2268.8,2,   -999.0,9,  -999.00,9, -999.000,9, -999.000,-999.0000,9,-999.0000,  -999.00,9,  -999.00, -999.000,9, -999.000,   -999.0,9,   -999.0,  -999.00,9,-999.0000,9,-999.0000,9,-999.0000,9,-999.0000,9,-999.0000,9,-999.0000,9
  33RR20070204,  I08S,    41,  1,     30,     30,2,20070227,2258,-51.0035,  89.5875, 4091,    177.5,   3.4690,  33.8978,2,  33.8976,2,    298.1,2,    297.1,2,    13.84,2,    26.73,2,     0.01,2,     1.85,2, -999.000,9, -999.000,9, -999.000,9,   2150.2,2,   2270.2,2,   -999.0,9,  -999.00,9, -999.000,9, -999.000,-999.0000,9,-999.0000,  -999.00,9,  -999.00, -999.000,9, -999.000,   -999.0,9,   -999.0,  -999.00,9,-999.0000,9,-999.0000,9,-999.0000,9,-999.0000,9,-999.0000,9,-999.0000,9
  33RR20070204,  I08S,    41,  1,     29,     29,2,20070227,2258,-51.0035,  89.5875, 4091,    226.9,   3.0762,  33.9311,2,  33.9268,2,    295.6,2,    295.5,2,    16.91,2,    27.72,2,     0.01,2,     1.92,2, -999.000,9, -999.000,9, -999.000,9,   2154.7,2,   2273.5,2,   -999.0,9,  -999.00,9, -999.000,9, -999.000,-999.0000,9,-999.0000,  -999.00,9,  -999.00, -999.000,9, -999.000,   -999.0,9,   -999.0,  -999.00,9,-999.0000,9,-999.0000,9,-999.0000,9,-999.0000,9,-999.0000,9,-999.0000,9
  33RR20070204,  I08S,    41,  1,     28,     28,2,20070227,2258,-51.0035,  89.5875, 4091,    276.4,   3.3061,  34.0386,2,  34.0376,2,    281.7,2,    273.8,2,    19.99,2,    28.63,2,     0.01,2,     1.96,2, -999.000,9, -999.000,9, -999.000,9,   -999.0,9,   -999.0,9,   -999.0,9,  -999.00,9, -999.000,9, -999.000,-999.0000,9,-999.0000,  -999.00,9,  -999.00, -999.000,9, -999.000,   -999.0,9,   -999.0,  -999.00,9,-999.0000,9,-999.0000,9,-999.0000,9,-999.0000,9,-999.0000,9,-999.0000,9
  33RR20070204,  I08S,    41,  1,     27,     27,2,20070227,2258,-51.0035,  89.5875, 4091,    327.2,   3.2777,  34.0911,2,  34.0906,2,    262.7,2,    263.8,2,    22.25,2,    29.26,2,     0.01,2,     2.01,2, -999.000,9, -999.000,9, -999.000,9,   2170.2,2,   2276.9,2,   -999.0,9,  -999.00,9, -999.000,9, -999.000,-999.0000,9,-999.0000,  -999.00,9,  -999.00, -999.000,9, -999.000,   -999.0,9,   -999.0,  -999.00,9,-999.0000,9,-999.0000,9,-999.0000,9,-999.0000,9,-999.0000,9,-999.0000,9
  33RR20070204,  I08S,    41,  1,     26,     26,2,20070227,2258,-51.0035,  89.5875, 4091,    377.3,   2.8179,  34.0951,2,  34.0902,2,    262.9,2,    263.7,2,    26.77,2,    30.36,2,     0.01,2,     2.08,2, -999.000,9, -999.000,9, -999.000,9,   -999.0,9,   -999.0,9,   -999.0,9,  -999.00,9, -999.000,9, -999.000,-999.0000,9,-999.0000,  -999.00,9,  -999.00, -999.000,9, -999.000,   -999.0,9,   -999.0,  -999.00,9,-999.0000,9,-999.0000,9,-999.0000,9,-999.0000,9,-999.0000,9,-999.0000,9
  33RR20070204,  I08S,    41,  1,     25,     25,2,20070227,2258,-51.0035,  89.5875, 4091,    427.1,   2.8349,  34.1396,2,  34.1374,2,    253.3,2,    252.0,2,    29.85,2,    30.94,2,     0.01,2,     2.13,2, -999.000,9, -999.000,9, -999.000,9,   2184.7,2,   2284.4,2,   -999.0,9,  -999.00,9, -999.000,9, -999.000,-999.0000,9,-999.0000,  -999.00,9,  -999.00, -999.000,9, -999.000,   -999.0,9,   -999.0,  -999.00,9,-999.0000,9,-999.0000,9,-999.0000,9,-999.0000,9,-999.0000,9,-999.0000,9
  33RR20070204,  I08S,    41,  1,     24,     24,2,20070227,2258,-51.0035,  89.5875, 4091,    478.1,   2.6205,  34.1677,2,  34.1670,2,    243.3,2,    243.5,2,    35.21,2,    31.89,2,     0.01,2,     2.19,2, -999.000,9, -999.000,9, -999.000,9,   -999.0,9,   -999.0,9,   -999.0,9,  -999.00,9, -999.000,9, -999.000,-999.0000,9,-999.0000,  -999.00,9,  -999.00, -999.000,9, -999.000,   -999.0,9,   -999.0,  -999.00,9,-999.0000,9,-999.0000,9,-999.0000,9,-999.0000,9,-999.0000,9,-999.0000,9
  33RR20070204,  I08S,    41,  1,     23,     23,2,20070227,2258,-51.0035,  89.5875, 4091,    528.4,   2.5916,  34.2144,2,  34.2111,2,    227.3,2,    232.5,2,    39.52,2,    32.37,2,     0.01,2,     2.24,2, -999.000,9, -999.000,9, -999.000,9,   -999.0,9,   -999.0,9,   -999.0,9,  -999.00,9, -999.000,9, -999.000,-999.0000,9,-999.0000,  -999.00,9,  -999.00, -999.000,9, -999.000,   -999.0,9,   -999.0,  -999.00,9,-999.0000,9,-999.0000,9,-999.0000,9,-999.0000,9,-999.0000,9,-999.0000,9
  33RR20070204,  I08S,    41,  1,     22,     22,2,20070227,2258,-51.0035,  89.5875, 4091,    648.8,   2.9734,  34.3704,2,  34.3681,2,    204.5,2,    197.0,2,    50.25,2,    33.47,2,     0.01,2,     2.33,2, -999.000,9, -999.000,9, -999.000,9,   2221.5,2,   2305.9,2,   -999.0,9,  -999.00,9, -999.000,9, -999.000,-999.0000,9,-999.0000,  -999.00,9,  -999.00, -999.000,9, -999.000,   -999.0,9,   -999.0,  -999.00,9,-999.0000,9,-999.0000,9,-999.0000,9,-999.0000,9,-999.0000,9,-999.0000,9
  33RR20070204,  I08S,    41,  1,     21,     21,2,20070227,2258,-51.0035,  89.5875, 4091,    749.9,   2.7066,  34.4081,2,  34.4061,2,    189.7,2,    190.3,2,    56.44,2,    34.06,2,     0.01,2,     2.36,2, -999.000,9, -999.000,9, -999.000,9,   -999.0,9,   -999.0,9,   -999.0,9,  -999.00,9, -999.000,9, -999.000,-999.0000,9,-999.0000,  -999.00,9,  -999.00, -999.000,9, -999.000,   -999.0,9,   -999.0,  -999.00,9,-999.0000,9,-999.0000,9,-999.0000,9,-999.0000,9,-999.0000,9,-999.0000,9
  33RR20070204,  I08S,    41,  1,     20,     20,2,20070227,2258,-51.0035,  89.5875, 4091,    849.3,   2.6120,  34.4729,2,  34.4727,2,    184.1,2,    182.1,2,    63.27,2,    34.25,2,     0.01,2,     2.36,2, -999.000,9, -999.000,9, -999.000,9,   2240.1,2,   2318.5,2,   -999.0,9,  -999.00,9, -999.000,9, -999.000,-999.0000,9,-999.0000,  -999.00,9,  -999.00, -999.000,9, -999.000,   -999.0,9,   -999.0,  -999.00,9,-999.0000,9,-999.0000,9,-999.0000,9,-999.0000,9,-999.0000,9,-999.0000,9
  33RR20070204,  I08S,    41,  1,     19,     19,2,20070227,2258,-51.0035,  89.5875, 4091,    949.2,   2.4277,  34.5128,2,  34.5114,2,    180.2,2,    179.6,2,    68.24,2,    34.30,2,     0.00,2,     2.37,2, -999.000,9, -999.000,9, -999.000,9,   -999.0,9,   -999.0,9,   -999.0,9,  -999.00,9, -999.000,9, -999.000,-999.0000,9,-999.0000,  -999.00,9,  -999.00, -999.000,9, -999.000,   -999.0,9,   -999.0,  -999.00,9,-999.0000,9,-999.0000,9,-999.0000,9,-999.0000,9,-999.0000,9,-999.0000,9
  33RR20070204,  I08S,    41,  1,     18,     18,2,20070227,2258,-51.0035,  89.5875, 4091,   1051.0,   2.4359,  34.5681,2,  34.5676,2,    176.4,2,    175.8,2,    71.35,2,    33.91,2,     0.01,2,     2.34,2, -999.000,9, -999.000,9, -999.000,9,   2249.5,2,   2325.8,2,   -999.0,9,  -999.00,9, -999.000,9, -999.000,-999.0000,9,-999.0000,  -999.00,9,  -999.00, -999.000,9, -999.000,   -999.0,9,   -999.0,  -999.00,9,-999.0000,9,-999.0000,9,-999.0000,9,-999.0000,9,-999.0000,9,-999.0000,9
  33RR20070204,  I08S,    41,  1,     17,     17,2,20070227,2258,-51.0035,  89.5875, 4091,   1152.0,   2.4032,  34.6078,2,  34.6067,2,    176.3,2,    176.0,2,    73.84,2,    33.51,2,     0.01,2,     2.32,2, -999.000,9, -999.000,9, -999.000,9,   2250.6,6,   2329.6,2,   -999.0,9,  -999.00,9, -999.000,9, -999.000,-999.0000,9,-999.0000,  -999.00,9,  -999.00, -999.000,9, -999.000,   -999.0,9,   -999.0,  -999.00,9,-999.0000,9,-999.0000,9,-999.0000,9,-999.0000,9,-999.0000,9,-999.0000,9
  33RR20070204,  I08S,    41,  1,     16,     16,2,20070227,2258,-51.0035,  89.5875, 4091,   1253.0,   2.3453,  34.6458,2,  34.6454,2,    178.2,2,    178.0,2,    75.69,2,    32.79,2,     0.01,2,     2.27,2, -999.000,9, -999.000,9, -999.000,9,   -999.0,9,   -999.0,9,   -999.0,9,  -999.00,9, -999.000,9, -999.000,-999.0000,9,-999.0000,  -999.00,9,  -999.00, -999.000,9, -999.000,   -999.0,9,   -999.0,  -999.00,9,-999.0000,9,-999.0000,9,-999.0000,9,-999.0000,9,-999.0000,9,-999.0000,9
  33RR20070204,  I08S,    41,  1,     15,     15,2,20070227,2258,-51.0035,  89.5875, 4091,   1354.2,   2.3516,  34.6826,2,  34.6823,2,    180.9,2,    181.6,2,    75.69,2,    31.93,2,     0.00,2,     2.21,2, -999.000,9, -999.000,9, -999.000,9,   -999.0,9,   2334.8,2,   -999.0,9,  -999.00,9, -999.000,9, -999.000,-999.0000,9,-999.0000,  -999.00,9,  -999.00, -999.000,9, -999.000,   -999.0,9,   -999.0,  -999.00,9,-999.0000,9,-999.0000,9,-999.0000,9,-999.0000,9,-999.0000,9,-999.0000,9
  33RR20070204,  I08S,    41,  1,     14,     14,2,20070227,2258,-51.0035,  89.5875, 4091,   1455.2,   2.2806,  34.7000,2,  34.6998,2,    183.9,2,    185.0,2,    77.14,2,    31.64,2,     0.00,2,     2.18,2, -999.000,9, -999.000,9, -999.000,9,   -999.0,9,   -999.0,9,   -999.0,9,  -999.00,9, -999.000,9, -999.000,-999.0000,9,-999.0000,  -999.00,9,  -999.00, -999.000,9, -999.000,   -999.0,9,   -999.0,  -999.00,9,-999.0000,9,-999.0000,9,-999.0000,9,-999.0000,9,-999.0000,9,-999.0000,9
  33RR20070204,  I08S,    41,  1,     13,     13,2,20070227,2258,-51.0035,  89.5875, 4091,   1555.2,   2.2404,  34.7197,2,  34.7195,2,    186.9,2,    187.8,2,    76.92,2,    31.06,2,     0.00,2,     2.14,2,    0.201,2,    0.098,2, -999.000,5,   2247.4,2,   2339.2,2,   -999.0,9,  -999.00,9, -999.000,9, -999.000,-999.0000,9,-999.0000,  -999.00,9,  -999.00, -999.000,9, -999.000,   -999.0,9,   -999.0,  -999.00,9,-999.0000,9,-999.0000,9,-999.0000,9,-999.0000,9,-999.0000,9,-999.0000,9
  33RR20070204,  I08S,    41,  1,     12,     12,2,20070227,2258,-51.0035,  89.5875, 4091,   1655.7,   2.1916,  34.7342,2,  34.7342,2,    189.5,2,    190.9,2,    79.00,2,    30.63,2,     0.00,2,     2.11,2, -999.000,9, -999.000,9, -999.000,9,   -999.0,9,   -999.0,9,   -999.0,9,  -999.00,9, -999.000,9, -999.000,-999.0000,9,-999.0000,  -999.00,9,  -999.00, -999.000,9, -999.000,   -999.0,9,   -999.0,  -999.00,9,-999.0000,9,-999.0000,9,-999.0000,9,-999.0000,9,-999.0000,9,-999.0000,9
  33RR20070204,  I08S,    41,  1,     11,     11,2,20070227,2258,-51.0035,  89.5875, 4091,   1755.7,   2.1145,  34.7421,2,  34.7413,2,    193.1,2,    193.0,2,    80.65,2,    30.38,2,     0.00,2,     2.10,2,    0.153,2,    0.074,2, -999.000,5,   -999.0,9,   2342.7,2,   -999.0,9,  -999.00,9, -999.000,9, -999.000,-999.0000,9,-999.0000,  -999.00,9,  -999.00, -999.000,9, -999.000,   -999.0,9,   -999.0,  -999.00,9,-999.0000,9,-999.0000,9,-999.0000,9,-999.0000,9,-999.0000,9,-999.0000,9
  33RR20070204,  I08S,    41,  1,     10,     10,2,20070227,2258,-51.0035,  89.5875, 4091,   1856.1,   2.0155,  34.7475,2,  34.7470,2,    195.1,2,    195.0,2,    82.52,2,    30.19,2,     0.00,2,     2.08,2, -999.000,9, -999.000,9, -999.000,9,   -999.0,9,   -999.0,9,   -999.0,9,  -999.00,9, -999.000,9, -999.000,-999.0000,9,-999.0000,  -999.00,9,  -999.00, -999.000,9, -999.000,   -999.0,9,   -999.0,  -999.00,9,-999.0000,9,-999.0000,9,-999.0000,9,-999.0000,9,-999.0000,9,-999.0000,9
  33RR20070204,  I08S,    41,  1,      9,      9,2,20070227,2258,-51.0035,  89.5875, 4091,   1956.2,   1.9329,  34.7512,2,  34.7507,2,    196.7,2,    197.0,2,    85.43,2,    30.05,2,     0.00,2,     2.08,2,    0.136,2,    0.063,2, -999.000,5,   2247.8,2,   2344.9,2,   -999.0,9,  -999.00,9, -999.000,9, -999.000,-999.0000,9,-999.0000,  -999.00,9,  -999.00, -999.000,9, -999.000,   -999.0,9,   -999.0,  -999.00,9,-999.0000,9,-999.0000,9,-999.0000,9,-999.0000,9,-999.0000,9,-999.0000,9
  33RR20070204,  I08S,    41,  1,      8,      8,2,20070227,2258,-51.0035,  89.5875, 4091,   2117.7,   1.8047,  34.7496,2,  34.7494,2,    198.6,2,    198.5,2,    88.96,2,    30.34,2,     0.00,2,     2.09,2, -999.000,9, -999.000,9, -999.000,9,   2250.0,2,   2345.6,2,   -999.0,9,  -999.00,9, -999.000,9, -999.000,-999.0000,9,-999.0000,  -999.00,9,  -999.00, -999.000,9, -999.000,   -999.0,9,   -999.0,  -999.00,9,-999.0000,9,-999.0000,9,-999.0000,9,-999.0000,9,-999.0000,9,-999.0000,9
  33RR20070204,  I08S,    41,  1,      7,      7,2,20070227,2258,-51.0035,  89.5875, 4091,   2370.2,   1.5803,  34.7445,2,  34.7445,2,    201.6,2,    201.3,2,    95.22,2,    30.53,2,     0.00,2,     2.11,2,    0.150,2,    0.071,2, -999.000,5,   -999.0,9,   -999.0,9,   -999.0,9,  -999.00,9, -999.000,9, -999.000,-999.0000,9,-999.0000,  -999.00,9,  -999.00, -999.000,9, -999.000,   -999.0,9,   -999.0,  -999.00,9,-999.0000,9,-999.0000,9,-999.0000,9,-999.0000,9,-999.0000,9,-999.0000,9
  33RR20070204,  I08S,    41,  1,      6,      6,2,20070227,2258,-51.0035,  89.5875, 4091,   2623.7,   1.3458,  34.7346,2,  34.7343,2,    204.3,2,    204.0,2,   102.74,2,    30.81,2,     0.00,2,     2.14,2, -999.000,9, -999.000,9, -999.000,9,   2255.1,2,   2348.9,2,   -999.0,9,  -999.00,9, -999.000,9, -999.000,-999.0000,9,-999.0000,  -999.00,9,  -999.00, -999.000,9, -999.000,   -999.0,9,   -999.0,  -999.00,9,-999.0000,9,-999.0000,9,-999.0000,9,-999.0000,9,-999.0000,9,-999.0000,9
  33RR20070204,  I08S,    41,  1,      5,      5,2,20070227,2258,-51.0035,  89.5875, 4091,   2876.3,   1.1279,  34.7233,2,  34.7231,2,    206.4,2,    206.2,2,   109.64,2,    31.44,2,     0.00,2,     2.17,2,    0.176,2,    0.082,2, -999.000,5,   -999.0,9,   -999.0,9,   -999.0,9,  -999.00,9, -999.000,9, -999.000,-999.0000,9,-999.0000,  -999.00,9,  -999.00, -999.000,9, -999.000,   -999.0,9,   -999.0,  -999.00,9,-999.0000,9,-999.0000,9,-999.0000,9,-999.0000,9,-999.0000,9,-999.0000,9
  33RR20070204,  I08S,    41,  1,      4,      4,2,20070227,2258,-51.0035,  89.5875, 4091,   3127.5,   0.9492,  34.7141,2,  34.7138,2,    208.9,2,    208.7,2,   114.88,2,    31.67,2,     0.00,2,     2.20,2, -999.000,9, -999.000,9, -999.000,9,   -999.0,9,   2354.9,2,   -999.0,9,  -999.00,9, -999.000,9, -999.000,-999.0000,9,-999.0000,  -999.00,9,  -999.00, -999.000,9, -999.000,   -999.0,9,   -999.0,  -999.00,9,-999.0000,9,-999.0000,9,-999.0000,9,-999.0000,9,-999.0000,9,-999.0000,9
  33RR20070204,  I08S,    41,  1,      3,      3,2,20070227,2258,-51.0035,  89.5875, 4091,   3430.3,   0.6735,  34.6998,2,  34.6999,2,    213.5,2,    213.7,2,   122.01,2,    32.11,2,     0.00,2,     2.23,2,    0.378,2,    0.187,2, -999.000,5,   2259.9,2,   2354.9,2,   -999.0,9,  -999.00,9, -999.000,9, -999.000,-999.0000,9,-999.0000,  -999.00,9,  -999.00, -999.000,9, -999.000,   -999.0,9,   -999.0,  -999.00,9,-999.0000,9,-999.0000,9,-999.0000,9,-999.0000,9,-999.0000,9,-999.0000,9
  33RR20070204,  I08S,    41,  1,      2,      2,2,20070227,2258,-51.0035,  89.5875, 4091,   3733.4,   0.4471,  34.6889,2,  34.6879,2,    218.7,2,    218.3,2,   126.43,2,    32.40,2,     0.00,2,     2.24,2, -999.000,9, -999.000,9, -999.000,9,   2259.8,2,   2353.1,2,   -999.0,9,  -999.00,9, -999.000,9, -999.000,-999.0000,9,-999.0000,  -999.00,9,  -999.00, -999.000,9, -999.000,   -999.0,9,   -999.0,  -999.00,9,-999.0000,9,-999.0000,9,-999.0000,9,-999.0000,9,-999.0000,9,-999.0000,9
  33RR20070204,  I08S,    41,  1,      1,      1,2,20070227,2258,-51.0035,  89.5875, 4091,   4166.5,   0.3309,  34.6819,2,  34.6820,2,    222.0,2,    222.1,2,   128.95,2,    32.45,2,     0.00,2,     2.25,2,    0.691,2,    0.348,2, -999.000,5,   2258.3,6,   2352.4,2,   -999.0,9,  -999.00,9, -999.000,9, -999.000,-999.0000,9,-999.0000,  -999.00,9,  -999.00, -999.000,9, -999.000,   -999.0,9,   -999.0,  -999.00,9,-999.0000,9,-999.0000,9,-999.0000,9,-999.0000,9,-999.0000,9,-999.0000,9