BOTTLE,20150626SIOCCHRJL
EXPOCODE,SECT_ID,STNNBR,CASTNO,SAMPNO,BTLNBR,BTLNBR_FLAG_W,DATE,TIME,LATITUDE,LONGITUDE,DEPTH,CTDPRS,CTDTMP,CTDSAL,CTDSAL_FLAG_W,SALNTY,SALNTY_FLAG_W,CTDOXY,CTDOXY_FLAG_W,OXYGEN,OXYGEN_FLAG_W,SILCAT,SILCAT_FLAG_W,NITRAT,NITRAT_FLAG_W,NITRIT,NITRIT_FLAG_W,PHSPHT,PHSPHT_FLAG_W,CFC-11,CFC-11_FLAG_W,CFC-12,CFC-12_FLAG_W,CFC113,CFC113_FLAG_W,TCARBN,TCARBN_FLAG_W,ALKALI,ALKALI_FLAG_W,DOC,DOC_FLAG_W,TDN,TDN_FLAG_W,TRITUM,TRITUM_FLAG_W,TRITER,HELIUM,HELIUM_FLAG_W,HELIER,DELHE3,DELHE3_FLAG_W,DELHER,NEON,NEON_FLAG_W,NEONER,DELC14,DELC14_FLAG_W,C14ERR,DELC13,DELC13_FLAG_W,CDOM325,CDOM325_FLAG_W,CDOM340,CDOM340_FLAG_W,CDOM380,CDOM380_FLAG_W,CDOM412,CDOM412_FLAG_W,CDOMSL,CDOMSL_FLAG_W,CDOMSN,CDOMSN_FLAG_W
,,,,,,,,,,,METERS,DBAR,ITS-90,PSS-78,,PSS-78,,UMOL/KG,,UMOL/KG,,UMOL/KG,,UMOL/KG,,UMOL/KG,,UMOL/KG,,PMOL/KG,,PMOL/KG,,PMOL/KG,,UMOL/KG,,UMOL/KG,,UMOL/KG,,UMOL/KG,,TU,,TU,NMOL/KG,,NMOL/KG,PERCNT,,PERCNT,NMOL/KG,,NMOL/KG,/MILLE,,/MILLE,/MILLE,,1/M,,1/M,,1/M,,1/M,,1/NM,,1/NM,
  33RR20070204,  I08S,    82,  1,     32,     37,2,20070311,1901,-31.7003,  95.0000, 3020,      3.6,  20.2008,  35.8600,2,  35.8608,2,    225.3,2,    227.4,2,     0.82,2,     0.10,2,     0.00,2,     0.15,2, -999.000,9, -999.000,9, -999.000,9,   2073.2,2,   2354.0,2,   -999.0,9,  -999.00,9, -999.000,9, -999.000,-999.0000,9,-999.0000,  -999.00,9,  -999.00, -999.000,9, -999.000,   -999.0,9,   -999.0,  -999.00,9,-999.0000,9,-999.0000,9,-999.0000,9,-999.0000,9,-999.0000,9,-999.0000,9
  33RR20070204,  I08S,    82,  1,     31,     31,2,20070311,1901,-31.7003,  95.0000, 3020,     29.9,  20.2209,  35.8589,2,  35.8598,2,    227.5,2,    227.5,2,     0.81,2,     0.10,2,     0.00,2,     0.15,2, -999.000,9, -999.000,9, -999.000,9,   2072.5,2,   2352.0,2,   -999.0,9,  -999.00,9, -999.000,9, -999.000,-999.0000,9,-999.0000,  -999.00,9,  -999.00, -999.000,9, -999.000,   -999.0,9,   -999.0,  -999.00,9,-999.0000,9,-999.0000,9,-999.0000,9,-999.0000,9,-999.0000,9,-999.0000,9
  33RR20070204,  I08S,    82,  1,     30,     30,2,20070311,1901,-31.7003,  95.0000, 3020,     54.7,  20.2073,  35.8588,2,  35.8602,2,    228.8,2,    227.7,2,     0.80,2,     0.10,2,     0.00,2,     0.15,2, -999.000,9, -999.000,9, -999.000,9,   2073.2,2,   2353.2,2,   -999.0,9,  -999.00,9, -999.000,9, -999.000,-999.0000,9,-999.0000,  -999.00,9,  -999.00, -999.000,9, -999.000,   -999.0,9,   -999.0,  -999.00,9,-999.0000,9,-999.0000,9,-999.0000,9,-999.0000,9,-999.0000,9,-999.0000,9
  33RR20070204,  I08S,    82,  1,     29,     29,2,20070311,1901,-31.7003,  95.0000, 3020,     79.9,  17.1760,  35.6972,2,  35.7120,2,    259.2,2,    255.9,2,     0.79,2,     0.11,2,     0.00,2,     0.16,2, -999.000,9, -999.000,9, -999.000,9,   2072.2,2,   2343.7,2,   -999.0,9,  -999.00,9, -999.000,9, -999.000,-999.0000,9,-999.0000,  -999.00,9,  -999.00, -999.000,9, -999.000,   -999.0,9,   -999.0,  -999.00,9,-999.0000,9,-999.0000,9,-999.0000,9,-999.0000,9,-999.0000,9,-999.0000,9
  33RR20070204,  I08S,    82,  1,     28,     28,2,20070311,1901,-31.7003,  95.0000, 3020,    104.5,  15.6215,  35.6251,2,  35.6262,2,    244.3,2,    244.5,2,     0.97,2,     0.62,2,     0.10,2,     0.24,2, -999.000,9, -999.000,9, -999.000,9,   -999.0,9,   -999.0,9,   -999.0,9,  -999.00,9, -999.000,9, -999.000,-999.0000,9,-999.0000,  -999.00,9,  -999.00, -999.000,9, -999.000,   -999.0,9,   -999.0,  -999.00,9,-999.0000,9,-999.0000,9,-999.0000,9,-999.0000,9,-999.0000,9,-999.0000,9
  33RR20070204,  I08S,    82,  1,     27,     27,2,20070311,1901,-31.7003,  95.0000, 3020,    154.9,  14.6645,  35.5628,2,  35.5654,2,    234.9,2,    233.6,2,     1.34,2,     3.53,2,     0.04,2,     0.38,2, -999.000,9, -999.000,9, -999.000,9,   2099.8,2,   2333.3,2,   -999.0,9,  -999.00,9, -999.000,9, -999.000,-999.0000,9,-999.0000,  -999.00,9,  -999.00, -999.000,9, -999.000,   -999.0,9,   -999.0,  -999.00,9,-999.0000,9,-999.0000,9,-999.0000,9,-999.0000,9,-999.0000,9,-999.0000,9
  33RR20070204,  I08S,    82,  1,     26,     26,2,20070311,1901,-31.7003,  95.0000, 3020,    204.8,  13.8481,  35.4309,2,  35.4279,2,    233.4,2,    232.7,2,     1.52,2,     5.27,2,     0.01,2,     0.49,2, -999.000,9, -999.000,9, -999.000,9,   -999.0,9,   -999.0,9,   -999.0,9,  -999.00,9, -999.000,9, -999.000,-999.0000,9,-999.0000,  -999.00,9,  -999.00, -999.000,9, -999.000,   -999.0,9,   -999.0,  -999.00,9,-999.0000,9,-999.0000,9,-999.0000,9,-999.0000,9,-999.0000,9,-999.0000,9
  33RR20070204,  I08S,    82,  1,     25,     25,2,20070311,1901,-31.7003,  95.0000, 3020,    254.7,  13.0448,  35.2986,2,  35.2988,2,    233.8,2,    234.0,2,     1.89,2,     6.88,2,     0.01,2,     0.58,2, -999.000,9, -999.000,9, -999.000,9,   2108.1,2,   2317.2,2,   -999.0,9,  -999.00,9, -999.000,9, -999.000,-999.0000,9,-999.0000,  -999.00,9,  -999.00, -999.000,9, -999.000,   -999.0,9,   -999.0,  -999.00,9,-999.0000,9,-999.0000,9,-999.0000,9,-999.0000,9,-999.0000,9,-999.0000,9
  33RR20070204,  I08S,    82,  1,     24,     24,2,20070311,1901,-31.7003,  95.0000, 3020,    304.8,  12.3307,  35.1793,2,  35.1713,2,    236.1,2,    236.5,2,     2.08,2,     8.34,2,     0.00,2,     0.67,2, -999.000,9, -999.000,9, -999.000,9,   -999.0,9,   -999.0,9,   -999.0,9,  -999.00,9, -999.000,9, -999.000,-999.0000,9,-999.0000,  -999.00,9,  -999.00, -999.000,9, -999.000,   -999.0,9,   -999.0,  -999.00,9,-999.0000,9,-999.0000,9,-999.0000,9,-999.0000,9,-999.0000,9,-999.0000,9
  33RR20070204,  I08S,    82,  1,     23,     23,2,20070311,1901,-31.7003,  95.0000, 3020,    354.9,  11.5494,  35.0455,2,  35.0483,2,    238.0,2,    238.5,2,     2.26,2,     9.90,2,     0.00,2,     0.77,2, -999.000,9, -999.000,9, -999.000,9,   2112.6,2,   2303.9,2,   -999.0,9,  -999.00,9, -999.000,9, -999.000,-999.0000,9,-999.0000,  -999.00,9,  -999.00, -999.000,9, -999.000,   -999.0,9,   -999.0,  -999.00,9,-999.0000,9,-999.0000,9,-999.0000,9,-999.0000,9,-999.0000,9,-999.0000,9
  33RR20070204,  I08S,    82,  1,     22,     22,2,20070311,1901,-31.7003,  95.0000, 3020,    404.9,  10.8155,  34.9224,2,  34.9267,2,    239.2,2,    240.7,2,     2.82,2,    11.75,2,     0.00,2,     0.88,2, -999.000,9, -999.000,9, -999.000,9,   -999.0,9,   -999.0,9,   -999.0,9,  -999.00,9, -999.000,9, -999.000,-999.0000,9,-999.0000,  -999.00,9,  -999.00, -999.000,9, -999.000,   -999.0,9,   -999.0,  -999.00,9,-999.0000,9,-999.0000,9,-999.0000,9,-999.0000,9,-999.0000,9,-999.0000,9
  33RR20070204,  I08S,    82,  1,     21,     21,2,20070311,1901,-31.7003,  95.0000, 3020,    455.2,  10.4086,  34.8550,2,  34.8549,2,    240.8,2,    242.2,2,     3.20,2,    12.85,2,     0.00,2,     0.95,2, -999.000,9, -999.000,9, -999.000,9,   -999.0,9,   2294.6,2,   -999.0,9,  -999.00,9, -999.000,9, -999.000,-999.0000,9,-999.0000,  -999.00,9,  -999.00, -999.000,9, -999.000,   -999.0,9,   -999.0,  -999.00,9,-999.0000,9,-999.0000,9,-999.0000,9,-999.0000,9,-999.0000,9,-999.0000,9
  33RR20070204,  I08S,    82,  1,     20,     20,2,20070311,1901,-31.7003,  95.0000, 3020,    505.5,  10.0506,  34.7966,2,  34.7963,2,    242.2,2,    243.0,2,     3.58,2,    13.83,2,     0.00,2,     1.01,2, -999.000,9, -999.000,9, -999.000,9,   -999.0,9,   -999.0,9,   -999.0,9,  -999.00,9, -999.000,9, -999.000,-999.0000,9,-999.0000,  -999.00,9,  -999.00, -999.000,9, -999.000,   -999.0,9,   -999.0,  -999.00,9,-999.0000,9,-999.0000,9,-999.0000,9,-999.0000,9,-999.0000,9,-999.0000,9
  33RR20070204,  I08S,    82,  1,     19,     19,2,20070311,1901,-31.7003,  95.0000, 3020,    605.4,   9.3587,  34.6881,2,  34.6870,2,    242.0,2,    242.5,2,     4.34,2,    15.92,2,     0.00,2,     1.13,2, -999.000,9, -999.000,9, -999.000,9,   2124.1,2,   2287.4,2,   -999.0,9,  -999.00,9, -999.000,9, -999.000,-999.0000,9,-999.0000,  -999.00,9,  -999.00, -999.000,9, -999.000,   -999.0,9,   -999.0,  -999.00,9,-999.0000,9,-999.0000,9,-999.0000,9,-999.0000,9,-999.0000,9,-999.0000,9
  33RR20070204,  I08S,    82,  1,     18,     18,2,20070311,1901,-31.7003,  95.0000, 3020,    705.6,   8.7473,  34.6122,2,  34.6113,2,    229.8,2,    229.2,2,     6.45,2,    18.81,2,     0.00,2,     1.32,2, -999.000,9, -999.000,9, -999.000,9,   -999.0,9,   -999.0,9,   -999.0,9,  -999.00,9, -999.000,9, -999.000,-999.0000,9,-999.0000,  -999.00,9,  -999.00, -999.000,9, -999.000,   -999.0,9,   -999.0,  -999.00,9,-999.0000,9,-999.0000,9,-999.0000,9,-999.0000,9,-999.0000,9,-999.0000,9
  33RR20070204,  I08S,    82,  1,     17,     17,2,20070311,1901,-31.7003,  95.0000, 3020,    806.0,   7.5628,  34.5071,2,  34.5055,2,    212.0,2,    208.9,2,    12.61,2,    23.43,2,     0.00,2,     1.61,2, -999.000,9, -999.000,9, -999.000,9,   -999.0,9,   -999.0,9,   -999.0,9,  -999.00,9, -999.000,9, -999.000,-999.0000,9,-999.0000,  -999.00,9,  -999.00, -999.000,9, -999.000,   -999.0,9,   -999.0,  -999.00,9,-999.0000,9,-999.0000,9,-999.0000,9,-999.0000,9,-999.0000,9,-999.0000,9
  33RR20070204,  I08S,    82,  1,     16,     16,2,20070311,1901,-31.7003,  95.0000, 3020,    906.6,   6.3360,  34.4366,2,  34.4375,2,    199.1,2,    198.8,2,    20.71,2,    26.89,2,     0.00,2,     1.85,2, -999.000,9, -999.000,9, -999.000,9,   -999.0,9,   -999.0,9,   -999.0,9,  -999.00,9, -999.000,9, -999.000,-999.0000,9,-999.0000,  -999.00,9,  -999.00, -999.000,9, -999.000,   -999.0,9,   -999.0,  -999.00,9,-999.0000,9,-999.0000,9,-999.0000,9,-999.0000,9,-999.0000,9,-999.0000,9
  33RR20070204,  I08S,    82,  1,     15,     15,2,20070311,1901,-31.7003,  95.0000, 3020,   1006.8,   5.1202,  34.3914,2,  34.3916,2,    193.1,2,    193.2,2,    30.94,2,    29.82,2,     0.00,2,     2.06,2, -999.000,9, -999.000,9, -999.000,9,   2193.2,2,   2293.8,2,   -999.0,9,  -999.00,9, -999.000,9, -999.000,-999.0000,9,-999.0000,  -999.00,9,  -999.00, -999.000,9, -999.000,   -999.0,9,   -999.0,  -999.00,9,-999.0000,9,-999.0000,9,-999.0000,9,-999.0000,9,-999.0000,9,-999.0000,9
  33RR20070204,  I08S,    82,  1,     14,     14,2,20070311,1901,-31.7003,  95.0000, 3020,   1107.6,   4.3847,  34.4089,2,  34.4093,2,    183.0,2,    181.6,2,    42.93,2,    31.80,2,     0.00,2,     2.21,2, -999.000,9, -999.000,9, -999.000,9,   -999.0,9,   -999.0,9,   -999.0,9,  -999.00,9, -999.000,9, -999.000,-999.0000,9,-999.0000,  -999.00,9,  -999.00, -999.000,9, -999.000,   -999.0,9,   -999.0,  -999.00,9,-999.0000,9,-999.0000,9,-999.0000,9,-999.0000,9,-999.0000,9,-999.0000,9
  33RR20070204,  I08S,    82,  1,     13,     13,2,20070311,1901,-31.7003,  95.0000, 3020,   1207.9,   3.8935,  34.4603,2,  34.4601,2,    167.5,2,    166.4,2,    57.09,2,    33.37,2,     0.00,2,     2.35,2, -999.000,9, -999.000,9, -999.000,9,   2235.6,2,   2317.4,2,   -999.0,9,  -999.00,9, -999.000,9, -999.000,-999.0000,9,-999.0000,  -999.00,9,  -999.00, -999.000,9, -999.000,   -999.0,9,   -999.0,  -999.00,9,-999.0000,9,-999.0000,9,-999.0000,9,-999.0000,9,-999.0000,9,-999.0000,9
  33RR20070204,  I08S,    82,  1,     12,     12,2,20070311,1901,-31.7003,  95.0000, 3020,   1308.4,   3.5731,  34.5132,2,  34.5137,2,    157.4,2,    155.6,2,    67.58,2,    34.21,2,     0.00,2,     2.41,2, -999.000,9, -999.000,9, -999.000,9,   -999.0,9,   -999.0,9,   -999.0,9,  -999.00,9, -999.000,9, -999.000,-999.0000,9,-999.0000,  -999.00,9,  -999.00, -999.000,9, -999.000,   -999.0,9,   -999.0,  -999.00,9,-999.0000,9,-999.0000,9,-999.0000,9,-999.0000,9,-999.0000,9,-999.0000,9
  33RR20070204,  I08S,    82,  1,     11,     11,2,20070311,1901,-31.7003,  95.0000, 3020,   1409.1,   3.3928,  34.5438,2,  34.5446,2,    153.4,2,    152.2,2,    72.84,2,    34.40,2,     0.00,2,     2.42,2, -999.000,9, -999.000,9, -999.000,9,   -999.0,9,   -999.0,9,   -999.0,9,  -999.00,9, -999.000,9, -999.000,-999.0000,9,-999.0000,  -999.00,9,  -999.00, -999.000,9, -999.000,   -999.0,9,   -999.0,  -999.00,9,-999.0000,9,-999.0000,9,-999.0000,9,-999.0000,9,-999.0000,9,-999.0000,9
  33RR20070204,  I08S,    82,  1,     10,     10,2,20070311,1901,-31.7003,  95.0000, 3020,   1509.9,   3.2164,  34.5727,2,  34.5728,2,    152.4,2,    152.0,2,    76.93,2,    34.39,2,     0.00,2,     2.42,2, -999.000,9, -999.000,9, -999.000,9,   2262.3,6,   2339.8,2,   -999.0,9,  -999.00,9, -999.000,9, -999.000,-999.0000,9,-999.0000,  -999.00,9,  -999.00, -999.000,9, -999.000,   -999.0,9,   -999.0,  -999.00,9,-999.0000,9,-999.0000,9,-999.0000,9,-999.0000,9,-999.0000,9,-999.0000,9
  33RR20070204,  I08S,    82,  1,      9,      9,2,20070311,1901,-31.7003,  95.0000, 3020,   1610.7,   3.0418,  34.6011,2,  34.6025,2,    152.8,2,    153.3,2,    77.31,4,    34.20,2,     0.00,2,     2.42,2, -999.000,9, -999.000,9, -999.000,9,   2267.9,2,   2344.6,2,   -999.0,9,  -999.00,9, -999.000,9, -999.000,-999.0000,9,-999.0000,  -999.00,9,  -999.00, -999.000,9, -999.000,   -999.0,9,   -999.0,  -999.00,9,-999.0000,9,-999.0000,9,-999.0000,9,-999.0000,9,-999.0000,9,-999.0000,9
  33RR20070204,  I08S,    82,  1,      8,      8,2,20070311,1901,-31.7003,  95.0000, 3020,   1708.3,   2.9005,  34.6277,2,  34.6282,2,    154.5,2,    155.3,2,    78.28,4,    33.96,2,     0.00,2,     2.39,2, -999.000,9, -999.000,9, -999.000,9,   -999.0,9,   -999.0,9,   -999.0,9,  -999.00,9, -999.000,9, -999.000,-999.0000,9,-999.0000,  -999.00,9,  -999.00, -999.000,9, -999.000,   -999.0,9,   -999.0,  -999.00,9,-999.0000,9,-999.0000,9,-999.0000,9,-999.0000,9,-999.0000,9,-999.0000,9
  33RR20070204,  I08S,    82,  1,      7,      7,2,20070311,1901,-31.7003,  95.0000, 3020,   1805.5,   2.7583,  34.6514,2,  34.6524,2,    157.9,2,    158.5,2,    76.32,4,    33.59,2,     0.00,2,     2.36,2, -999.000,9, -999.000,9, -999.000,9,   -999.0,9,   -999.0,9,   -999.0,9,  -999.00,9, -999.000,9, -999.000,-999.0000,9,-999.0000,  -999.00,9,  -999.00, -999.000,9, -999.000,   -999.0,9,   -999.0,  -999.00,9,-999.0000,9,-999.0000,9,-999.0000,9,-999.0000,9,-999.0000,9,-999.0000,9
  33RR20070204,  I08S,    82,  1,      6,      6,2,20070311,1901,-31.7003,  95.0000, 3020,   1911.1,   2.6381,  34.6703,2,  34.6707,2,    161.2,2,    162.1,2,    88.10,2,    33.22,2,     0.00,2,     2.34,2, -999.000,9, -999.000,9, -999.000,9,   2268.2,2,   2352.7,2,   -999.0,9,  -999.00,9, -999.000,9, -999.000,-999.0000,9,-999.0000,  -999.00,9,  -999.00, -999.000,9, -999.000,   -999.0,9,   -999.0,  -999.00,9,-999.0000,9,-999.0000,9,-999.0000,9,-999.0000,9,-999.0000,9,-999.0000,9
  33RR20070204,  I08S,    82,  1,      5,      5,2,20070311,1901,-31.7003,  95.0000, 3020,   2011.7,   2.5054,  34.6895,2,  34.6900,2,    165.8,2,    167.2,2,    90.03,2,    32.80,2,     0.00,2,     2.30,2, -999.000,9, -999.000,9, -999.000,9,   -999.0,9,   -999.0,9,   -999.0,9,  -999.00,9, -999.000,9, -999.000,-999.0000,9,-999.0000,  -999.00,9,  -999.00, -999.000,9, -999.000,   -999.0,9,   -999.0,  -999.00,9,-999.0000,9,-999.0000,9,-999.0000,9,-999.0000,9,-999.0000,9,-999.0000,9
  33RR20070204,  I08S,    82,  1,      4,      4,2,20070311,1901,-31.7003,  95.0000, 3020,   2262.9,   2.2285,  34.7239,2,  34.7240,2,    180.3,2,    180.5,2,    90.18,2,    31.41,2,     0.00,2,     2.19,2, -999.000,9, -999.000,9, -999.000,9,   -999.0,9,   -999.0,9,   -999.0,9,  -999.00,9, -999.000,9, -999.000,-999.0000,9,-999.0000,  -999.00,9,  -999.00, -999.000,9, -999.000,   -999.0,9,   -999.0,  -999.00,9,-999.0000,9,-999.0000,9,-999.0000,9,-999.0000,9,-999.0000,9,-999.0000,9
  33RR20070204,  I08S,    82,  1,      3,      3,2,20070311,1901,-31.7003,  95.0000, 3020,   2519.2,   2.0000,  34.7386,2,  34.7393,2,    189.4,2,    189.6,2,    92.50,2,    30.81,2,     0.00,2,     2.13,2, -999.000,9, -999.000,9, -999.000,9,   2255.3,2,   2351.8,2,   -999.0,9,  -999.00,9, -999.000,9, -999.000,-999.0000,9,-999.0000,  -999.00,9,  -999.00, -999.000,9, -999.000,   -999.0,9,   -999.0,  -999.00,9,-999.0000,9,-999.0000,9,-999.0000,9,-999.0000,9,-999.0000,9,-999.0000,9
  33RR20070204,  I08S,    82,  1,      2,      2,2,20070311,1901,-31.7003,  95.0000, 3020,   2772.6,   1.7583,  34.7410,2,  34.7413,2,    195.2,2,    194.8,2,    98.82,2,    30.44,2,     0.00,2,     2.13,2, -999.000,9, -999.000,9, -999.000,9,   2257.6,2,   2354.6,2,   -999.0,9,  -999.00,9, -999.000,9, -999.000,-999.0000,9,-999.0000,  -999.00,9,  -999.00, -999.000,9, -999.000,   -999.0,9,   -999.0,  -999.00,9,-999.0000,9,-999.0000,9,-999.0000,9,-999.0000,9,-999.0000,9,-999.0000,9
  33RR20070204,  I08S,    82,  1,      1,      1,2,20070311,1901,-31.7003,  95.0000, 3020,   3049.6,   1.4966,  34.7345,2,  34.7354,2,    198.4,2,    198.7,2,   105.51,2,    31.04,2,     0.00,2,     2.15,2, -999.000,9, -999.000,9, -999.000,9,   2259.1,6,   2358.7,2,   -999.0,9,  -999.00,9, -999.000,9, -999.000,-999.0000,9,-999.0000,  -999.00,9,  -999.00, -999.000,9, -999.000,   -999.0,9,   -999.0,  -999.00,9,-999.0000,9,-999.0000,9,-999.0000,9,-999.0000,9,-999.0000,9,-999.0000,9