BOTTLE,20150626SIOCCHRJL
EXPOCODE,SECT_ID,STNNBR,CASTNO,SAMPNO,BTLNBR,BTLNBR_FLAG_W,DATE,TIME,LATITUDE,LONGITUDE,DEPTH,CTDPRS,CTDTMP,CTDSAL,CTDSAL_FLAG_W,SALNTY,SALNTY_FLAG_W,CTDOXY,CTDOXY_FLAG_W,OXYGEN,OXYGEN_FLAG_W,SILCAT,SILCAT_FLAG_W,NITRAT,NITRAT_FLAG_W,NITRIT,NITRIT_FLAG_W,PHSPHT,PHSPHT_FLAG_W,CFC-11,CFC-11_FLAG_W,CFC-12,CFC-12_FLAG_W,CFC113,CFC113_FLAG_W,TCARBN,TCARBN_FLAG_W,ALKALI,ALKALI_FLAG_W,DOC,DOC_FLAG_W,TDN,TDN_FLAG_W,TRITUM,TRITUM_FLAG_W,TRITER,HELIUM,HELIUM_FLAG_W,HELIER,DELHE3,DELHE3_FLAG_W,DELHER,NEON,NEON_FLAG_W,NEONER,DELC14,DELC14_FLAG_W,C14ERR,DELC13,DELC13_FLAG_W,CDOM325,CDOM325_FLAG_W,CDOM340,CDOM340_FLAG_W,CDOM380,CDOM380_FLAG_W,CDOM412,CDOM412_FLAG_W,CDOMSL,CDOMSL_FLAG_W,CDOMSN,CDOMSN_FLAG_W
,,,,,,,,,,,METERS,DBAR,ITS-90,PSS-78,,PSS-78,,UMOL/KG,,UMOL/KG,,UMOL/KG,,UMOL/KG,,UMOL/KG,,UMOL/KG,,PMOL/KG,,PMOL/KG,,PMOL/KG,,UMOL/KG,,UMOL/KG,,UMOL/KG,,UMOL/KG,,TU,,TU,NMOL/KG,,NMOL/KG,PERCNT,,PERCNT,NMOL/KG,,NMOL/KG,/MILLE,,/MILLE,/MILLE,,1/M,,1/M,,1/M,,1/M,,1/NM,,1/NM,
  33RR20070204,  I08S,    48,  1,     34,   9419,2,20070302,0040,-47.9957,  92.3523, 3442,      4.5,   7.7634,  33.9070,2,  33.9089,2,    290.1,2,    293.6,2,     1.32,2,    16.98,2,     0.24,2,     1.26,2, -999.000,9, -999.000,9, -999.000,9,   2102.5,2,   2270.7,2,   -999.0,9,  -999.00,9, -999.000,9, -999.000,-999.0000,9,-999.0000,  -999.00,9,  -999.00, -999.000,9, -999.000,   -999.0,9,   -999.0,  -999.00,9,-999.0000,9,-999.0000,9,-999.0000,9,-999.0000,9,-999.0000,9,-999.0000,9
  33RR20070204,  I08S,    48,  1,     33,     33,2,20070302,0040,-47.9957,  92.3523, 3442,     20.3,   7.7484,  33.9086,2,  33.9105,2,    293.6,2,    293.6,2,     1.31,2,    16.90,2,     0.24,2,     1.27,2, -999.000,9, -999.000,9, -999.000,9,   2101.1,6,   2271.9,2,   -999.0,9,  -999.00,9, -999.000,9, -999.000,-999.0000,9,-999.0000,  -999.00,9,  -999.00, -999.000,9, -999.000,   -999.0,9,   -999.0,  -999.00,9,-999.0000,9,-999.0000,9,-999.0000,9,-999.0000,9,-999.0000,9,-999.0000,9
  33RR20070204,  I08S,    48,  1,     32,     37,2,20070302,0040,-47.9957,  92.3523, 3442,     45.5,   7.7316,  33.9066,2,  33.9074,2,    293.2,2,    293.9,2,     1.30,2,    17.03,2,     0.24,2,     1.28,2, -999.000,9, -999.000,9, -999.000,9,   2099.6,2,   2271.7,2,   -999.0,9,  -999.00,9, -999.000,9, -999.000,-999.0000,9,-999.0000,  -999.00,9,  -999.00, -999.000,9, -999.000,   -999.0,9,   -999.0,  -999.00,9,-999.0000,9,-999.0000,9,-999.0000,9,-999.0000,9,-999.0000,9,-999.0000,9
  33RR20070204,  I08S,    48,  1,     31,     31,2,20070302,0040,-47.9957,  92.3523, 3442,     90.3,   7.3513,  34.0002,2,  34.0022,2,    291.2,2,    291.3,2,     1.92,2,    17.28,2,     0.20,2,     1.32,2, -999.000,9, -999.000,9, -999.000,9,   2105.0,2,   2272.8,2,   -999.0,9,  -999.00,9, -999.000,9, -999.000,-999.0000,9,-999.0000,  -999.00,9,  -999.00, -999.000,9, -999.000,   -999.0,9,   -999.0,  -999.00,9,-999.0000,9,-999.0000,9,-999.0000,9,-999.0000,9,-999.0000,9,-999.0000,9
  33RR20070204,  I08S,    48,  1,     30,     30,2,20070302,0040,-47.9957,  92.3523, 3442,    141.1,   6.9136,  34.1648,2,  34.1593,2,    279.0,2,    279.3,2,     4.23,2,    20.07,2,     0.02,2,     1.42,2, -999.000,9, -999.000,9, -999.000,9,   2124.9,2,   2276.1,2,   -999.0,9,  -999.00,9, -999.000,9, -999.000,-999.0000,9,-999.0000,  -999.00,9,  -999.00, -999.000,9, -999.000,   -999.0,9,   -999.0,  -999.00,9,-999.0000,9,-999.0000,9,-999.0000,9,-999.0000,9,-999.0000,9,-999.0000,9
  33RR20070204,  I08S,    48,  1,     29,     29,2,20070302,0040,-47.9957,  92.3523, 3442,    165.0,   6.8583,  34.2212,2,  34.2248,2,    274.6,2,    273.1,2,     5.90,2,    20.23,2,     0.01,2,     1.43,2, -999.000,9, -999.000,9, -999.000,9,   2128.4,2,   2275.8,2,   -999.0,9,  -999.00,9, -999.000,9, -999.000,-999.0000,9,-999.0000,  -999.00,9,  -999.00, -999.000,9, -999.000,   -999.0,9,   -999.0,  -999.00,9,-999.0000,9,-999.0000,9,-999.0000,9,-999.0000,9,-999.0000,9,-999.0000,9
  33RR20070204,  I08S,    48,  1,     28,     28,2,20070302,0040,-47.9957,  92.3523, 3442,    189.8,   6.8110,  34.2413,2,  34.2420,2,    271.5,2,    272.3,2,     6.53,2,    20.42,2,     0.01,2,     1.43,2, -999.000,9, -999.000,9, -999.000,9,   2129.2,2,   2278.5,2,   -999.0,9,  -999.00,9, -999.000,9, -999.000,-999.0000,9,-999.0000,  -999.00,9,  -999.00, -999.000,9, -999.000,   -999.0,9,   -999.0,  -999.00,9,-999.0000,9,-999.0000,9,-999.0000,9,-999.0000,9,-999.0000,9,-999.0000,9
  33RR20070204,  I08S,    48,  1,     27,     27,2,20070302,0040,-47.9957,  92.3523, 3442,    239.7,   6.1237,  34.1865,2,  34.1873,0,    270.9,2,    272.0,2,     8.42,2,    22.03,2,     0.00,2,     1.53,2, -999.000,9, -999.000,9, -999.000,9,   2136.0,2,   2276.4,2,   -999.0,9,  -999.00,9, -999.000,9, -999.000,-999.0000,9,-999.0000,  -999.00,9,  -999.00, -999.000,9, -999.000,   -999.0,9,   -999.0,  -999.00,9,-999.0000,9,-999.0000,9,-999.0000,9,-999.0000,9,-999.0000,9,-999.0000,9
  33RR20070204,  I08S,    48,  1,     26,     26,2,20070302,0040,-47.9957,  92.3523, 3442,    289.8,   5.9415,  34.1998,2,  34.2024,0,    269.3,2,    269.4,2,     9.67,2,    22.56,2,     0.01,2,     1.57,2, -999.000,9, -999.000,9, -999.000,9,   2139.2,2,   2277.9,2,   -999.0,9,  -999.00,9, -999.000,9, -999.000,-999.0000,9,-999.0000,  -999.00,9,  -999.00, -999.000,9, -999.000,   -999.0,9,   -999.0,  -999.00,9,-999.0000,9,-999.0000,9,-999.0000,9,-999.0000,9,-999.0000,9,-999.0000,9
  33RR20070204,  I08S,    48,  1,     25,     25,2,20070302,0040,-47.9957,  92.3523, 3442,    340.4,   5.5417,  34.1982,2,  34.2002,2,    254.8,2,    259.3,2,    12.19,2,    24.32,2,     0.01,2,     1.68,2, -999.000,9, -999.000,9, -999.000,9,   2148.9,2,   2276.0,2,   -999.0,9,  -999.00,9, -999.000,9, -999.000,-999.0000,9,-999.0000,  -999.00,9,  -999.00, -999.000,9, -999.000,   -999.0,9,   -999.0,  -999.00,9,-999.0000,9,-999.0000,9,-999.0000,9,-999.0000,9,-999.0000,9,-999.0000,9
  33RR20070204,  I08S,    48,  1,     24,     24,2,20070302,0040,-47.9957,  92.3523, 3442,    391.5,   5.4334,  34.2419,2,  34.2475,2,    249.8,2,    242.8,2,    15.35,2,    25.69,2,     0.00,2,     1.77,2, -999.000,9, -999.000,9, -999.000,9,   -999.0,9,   -999.0,9,   -999.0,9,  -999.00,9, -999.000,9, -999.000,-999.0000,9,-999.0000,  -999.00,9,  -999.00, -999.000,9, -999.000,   -999.0,9,   -999.0,  -999.00,9,-999.0000,9,-999.0000,9,-999.0000,9,-999.0000,9,-999.0000,9,-999.0000,9
  33RR20070204,  I08S,    48,  1,     23,     23,2,20070302,0040,-47.9957,  92.3523, 3442,    441.1,   5.4912,  34.3066,2,  34.3081,2,    227.9,2,    226.9,2,    18.08,2,    26.72,2,     0.00,2,     1.84,2, -999.000,9, -999.000,9, -999.000,9,   2167.6,2,   2283.0,2,   -999.0,9,  -999.00,9, -999.000,9, -999.000,-999.0000,9,-999.0000,  -999.00,9,  -999.00, -999.000,9, -999.000,   -999.0,9,   -999.0,  -999.00,9,-999.0000,9,-999.0000,9,-999.0000,9,-999.0000,9,-999.0000,9,-999.0000,9
  33RR20070204,  I08S,    48,  1,     22,     22,2,20070302,0040,-47.9957,  92.3523, 3442,    491.6,   5.0116,  34.2888,2,  34.2902,2,    229.4,2,    227.8,2,    20.39,2,    27.74,2,     0.01,2,     1.92,2, -999.000,9, -999.000,9, -999.000,9,   -999.0,9,   -999.0,9,   -999.0,9,  -999.00,9, -999.000,9, -999.000,-999.0000,9,-999.0000,  -999.00,9,  -999.00, -999.000,9, -999.000,   -999.0,9,   -999.0,  -999.00,9,-999.0000,9,-999.0000,9,-999.0000,9,-999.0000,9,-999.0000,9,-999.0000,9
  33RR20070204,  I08S,    48,  1,     21,     21,2,20070302,0040,-47.9957,  92.3523, 3442,    576.6,   4.4573,  34.2872,2,  34.2890,2,    223.5,2,    225.1,2,    25.66,2,    29.03,2,     0.00,2,     2.00,2, -999.000,9, -999.000,9, -999.000,9,   2182.3,2,   2283.2,2,   -999.0,9,  -999.00,9, -999.000,9, -999.000,-999.0000,9,-999.0000,  -999.00,9,  -999.00, -999.000,9, -999.000,   -999.0,9,   -999.0,  -999.00,9,-999.0000,9,-999.0000,9,-999.0000,9,-999.0000,9,-999.0000,9,-999.0000,9
  33RR20070204,  I08S,    48,  1,     20,     20,2,20070302,0040,-47.9957,  92.3523, 3442,    677.9,   3.9084,  34.2972,2,  34.2990,2,    218.8,2,    218.7,2,    31.99,2,    30.56,2,     0.01,2,     2.11,2, -999.000,9, -999.000,9, -999.000,9,   -999.0,9,   -999.0,9,   -999.0,9,  -999.00,9, -999.000,9, -999.000,-999.0000,9,-999.0000,  -999.00,9,  -999.00, -999.000,9, -999.000,   -999.0,9,   -999.0,  -999.00,9,-999.0000,9,-999.0000,9,-999.0000,9,-999.0000,9,-999.0000,9,-999.0000,9
  33RR20070204,  I08S,    48,  1,     19,     19,2,20070302,0040,-47.9957,  92.3523, 3442,    777.6,   3.3150,  34.2905,2,  34.2925,2,    217.2,2,    216.7,2,    38.76,2,    31.69,2,     0.01,2,     2.20,2, -999.000,9, -999.000,9, -999.000,9,   2203.8,2,   2296.1,2,   -999.0,9,  -999.00,9, -999.000,9, -999.000,-999.0000,9,-999.0000,  -999.00,9,  -999.00, -999.000,9, -999.000,   -999.0,9,   -999.0,  -999.00,9,-999.0000,9,-999.0000,9,-999.0000,9,-999.0000,9,-999.0000,9,-999.0000,9
  33RR20070204,  I08S,    48,  1,     18,     18,2,20070302,0040,-47.9957,  92.3523, 3442,    878.4,   3.1449,  34.3476,2,  34.3488,2,    200.9,2,    202.5,2,    46.37,2,    32.74,2,     0.00,2,     2.27,2, -999.000,9, -999.000,9, -999.000,9,   -999.0,9,   -999.0,9,   -999.0,9,  -999.00,9, -999.000,9, -999.000,-999.0000,9,-999.0000,  -999.00,9,  -999.00, -999.000,9, -999.000,   -999.0,9,   -999.0,  -999.00,9,-999.0000,9,-999.0000,9,-999.0000,9,-999.0000,9,-999.0000,9,-999.0000,9
  33RR20070204,  I08S,    48,  1,     17,     17,2,20070302,0040,-47.9957,  92.3523, 3442,    978.0,   2.9614,  34.4046,2,  34.4069,2,    190.3,2,    190.7,2,    53.78,2,    33.54,2,     0.00,2,     2.33,2, -999.000,9, -999.000,9, -999.000,9,   -999.0,9,   -999.0,9,   -999.0,9,  -999.00,9, -999.000,9, -999.000,-999.0000,9,-999.0000,  -999.00,9,  -999.00, -999.000,9, -999.000,   -999.0,9,   -999.0,  -999.00,9,-999.0000,9,-999.0000,9,-999.0000,9,-999.0000,9,-999.0000,9,-999.0000,9
  33RR20070204,  I08S,    48,  1,     16,     16,2,20070302,0040,-47.9957,  92.3523, 3442,   1079.1,   2.8496,  34.4694,2,  34.4716,2,    181.9,2,    181.8,2,    60.77,2,    33.78,2,     0.00,2,     2.35,2, -999.000,9, -999.000,9, -999.000,9,   -999.0,9,   -999.0,9,   -999.0,9,  -999.00,9, -999.000,9, -999.000,-999.0000,9,-999.0000,  -999.00,9,  -999.00, -999.000,9, -999.000,   -999.0,9,   -999.0,  -999.00,9,-999.0000,9,-999.0000,9,-999.0000,9,-999.0000,9,-999.0000,9,-999.0000,9
  33RR20070204,  I08S,    48,  1,     15,     15,2,20070302,0040,-47.9957,  92.3523, 3442,   1180.7,   2.7858,  34.5271,2,  34.5282,2,    177.2,2,    176.9,2,    65.00,2,    33.58,2,     0.00,2,     2.34,2, -999.000,9, -999.000,9, -999.000,9,   2242.3,2,   2323.4,2,   -999.0,9,  -999.00,9, -999.000,9, -999.000,-999.0000,9,-999.0000,  -999.00,9,  -999.00, -999.000,9, -999.000,   -999.0,9,   -999.0,  -999.00,9,-999.0000,9,-999.0000,9,-999.0000,9,-999.0000,9,-999.0000,9,-999.0000,9
  33RR20070204,  I08S,    48,  1,     14,     14,2,20070302,0040,-47.9957,  92.3523, 3442,   1280.7,   2.6876,  34.5672,2,  34.5688,2,    175.3,2,    175.9,2,    67.74,2,    33.38,2,     0.00,2,     2.32,2, -999.000,9, -999.000,9, -999.000,9,   2246.1,6,   2326.4,2,   -999.0,9,  -999.00,9, -999.000,9, -999.000,-999.0000,9,-999.0000,  -999.00,9,  -999.00, -999.000,9, -999.000,   -999.0,9,   -999.0,  -999.00,9,-999.0000,9,-999.0000,9,-999.0000,9,-999.0000,9,-999.0000,9,-999.0000,9
  33RR20070204,  I08S,    48,  1,     13,     13,2,20070302,0040,-47.9957,  92.3523, 3442,   1382.1,   2.6089,  34.6059,2,  34.6067,2,    176.0,2,    176.2,2,    70.26,2,    32.94,2,     0.00,2,     2.29,2, -999.000,9, -999.000,9, -999.000,9,   -999.0,9,   -999.0,9,   -999.0,9,  -999.00,9, -999.000,9, -999.000,-999.0000,9,-999.0000,  -999.00,9,  -999.00, -999.000,9, -999.000,   -999.0,9,   -999.0,  -999.00,9,-999.0000,9,-999.0000,9,-999.0000,9,-999.0000,9,-999.0000,9,-999.0000,9
  33RR20070204,  I08S,    48,  1,     12,     12,2,20070302,0040,-47.9957,  92.3523, 3442,   1483.5,   2.5373,  34.6421,2,  34.6435,2,    178.2,2,    178.4,2,    71.93,2,    32.35,2,     0.00,2,     2.24,2, -999.000,9, -999.000,9, -999.000,9,   2245.8,2,   2333.1,2,   -999.0,9,  -999.00,9, -999.000,9, -999.000,-999.0000,9,-999.0000,  -999.00,9,  -999.00, -999.000,9, -999.000,   -999.0,9,   -999.0,  -999.00,9,-999.0000,9,-999.0000,9,-999.0000,9,-999.0000,9,-999.0000,9,-999.0000,9
  33RR20070204,  I08S,    48,  1,     11,     11,2,20070302,0040,-47.9957,  92.3523, 3442,   1584.1,   2.4779,  34.6721,2,  34.6743,2,    181.0,2,    180.5,2,    73.17,2,    31.75,2,     0.00,2,     2.20,2, -999.000,9, -999.000,9, -999.000,9,   -999.0,9,   -999.0,9,   -999.0,9,  -999.00,9, -999.000,9, -999.000,-999.0000,9,-999.0000,  -999.00,9,  -999.00, -999.000,9, -999.000,   -999.0,9,   -999.0,  -999.00,9,-999.0000,9,-999.0000,9,-999.0000,9,-999.0000,9,-999.0000,9,-999.0000,9
  33RR20070204,  I08S,    48,  1,     10,     10,2,20070302,0040,-47.9957,  92.3523, 3442,   1683.8,   2.4316,  34.6963,2,  34.6981,2,    184.1,2,    184.1,2,    73.79,2,    31.20,2,     0.00,2,     2.16,2, -999.000,9, -999.000,9, -999.000,9,   -999.0,9,   -999.0,9,   -999.0,9,  -999.00,9, -999.000,9, -999.000,-999.0000,9,-999.0000,  -999.00,9,  -999.00, -999.000,9, -999.000,   -999.0,9,   -999.0,  -999.00,9,-999.0000,9,-999.0000,9,-999.0000,9,-999.0000,9,-999.0000,9,-999.0000,9
  33RR20070204,  I08S,    48,  1,      9,      9,2,20070302,0040,-47.9957,  92.3523, 3442,   1786.5,   2.3464,  34.7131,2,  34.7148,2,    186.7,2,    187.4,2,    75.67,2,    30.86,2,     0.01,2,     2.13,2,    0.182,2,    0.090,2, -999.000,5,   2243.5,2,   2337.5,2,   -999.0,9,  -999.00,9, -999.000,9, -999.000,-999.0000,9,-999.0000,  -999.00,9,  -999.00, -999.000,9, -999.000,   -999.0,9,   -999.0,  -999.00,9,-999.0000,9,-999.0000,9,-999.0000,9,-999.0000,9,-999.0000,9,-999.0000,9
  33RR20070204,  I08S,    48,  1,      8,      8,2,20070302,0040,-47.9957,  92.3523, 3442,   1887.2,   2.2841,  34.7273,2,  34.7285,2,    189.8,2,    189.5,2,    76.91,2,    30.31,2,     0.00,2,     2.10,2, -999.000,9, -999.000,9, -999.000,9,   -999.0,9,   -999.0,9,   -999.0,9,  -999.00,9, -999.000,9, -999.000,-999.0000,9,-999.0000,  -999.00,9,  -999.00, -999.000,9, -999.000,   -999.0,9,   -999.0,  -999.00,9,-999.0000,9,-999.0000,9,-999.0000,9,-999.0000,9,-999.0000,9,-999.0000,9
  33RR20070204,  I08S,    48,  1,      7,      7,2,20070302,0040,-47.9957,  92.3523, 3442,   1988.8,   2.2344,  34.7388,2,  34.7399,2,    192.6,2,    192.1,2,    78.37,2,    30.07,2,     0.00,2,     2.07,2,    0.134,2,    0.066,2, -999.000,5,   -999.0,9,   -999.0,9,   -999.0,9,  -999.00,9, -999.000,9, -999.000,-999.0000,9,-999.0000,  -999.00,9,  -999.00, -999.000,9, -999.000,   -999.0,9,   -999.0,  -999.00,9,-999.0000,9,-999.0000,9,-999.0000,9,-999.0000,9,-999.0000,9,-999.0000,9
  33RR20070204,  I08S,    48,  1,      6,      6,2,20070302,0040,-47.9957,  92.3523, 3442,   2189.8,   2.0845,  34.7537,2,  34.7548,2,    197.1,2,    196.5,2,    81.53,2,    29.73,2,     0.00,2,     2.05,2, -999.000,9, -999.000,9, -999.000,9,   2241.6,2,   2345.4,2,   -999.0,9,  -999.00,9, -999.000,9, -999.000,-999.0000,9,-999.0000,  -999.00,9,  -999.00, -999.000,9, -999.000,   -999.0,9,   -999.0,  -999.00,9,-999.0000,9,-999.0000,9,-999.0000,9,-999.0000,9,-999.0000,9,-999.0000,9
  33RR20070204,  I08S,    48,  1,      5,      5,2,20070302,0040,-47.9957,  92.3523, 3442,   2443.2,   1.8638,  34.7545,2,  34.7552,2,    199.8,2,    199.4,2,    88.76,2,    29.83,2,     0.00,2,     2.06,2,    0.083,2,    0.040,2, -999.000,5,   -999.0,9,   -999.0,9,   -999.0,9,  -999.00,9, -999.000,9, -999.000,-999.0000,9,-999.0000,  -999.00,9,  -999.00, -999.000,9, -999.000,   -999.0,9,   -999.0,  -999.00,9,-999.0000,9,-999.0000,9,-999.0000,9,-999.0000,9,-999.0000,9,-999.0000,9
  33RR20070204,  I08S,    48,  1,      4,      4,2,20070302,0040,-47.9957,  92.3523, 3442,   2695.9,   1.5887,  34.7441,2,  34.7448,2,    200.9,2,    201.2,2,    98.13,2,    30.47,2,     0.00,2,     2.11,2,    0.075,2,    0.036,2, -999.000,5,   -999.0,9,   -999.0,9,   -999.0,9,  -999.00,9, -999.000,9, -999.000,-999.0000,9,-999.0000,  -999.00,9,  -999.00, -999.000,9, -999.000,   -999.0,9,   -999.0,  -999.00,9,-999.0000,9,-999.0000,9,-999.0000,9,-999.0000,9,-999.0000,9,-999.0000,9
  33RR20070204,  I08S,    48,  1,      3,      3,2,20070302,0040,-47.9957,  92.3523, 3442,   2951.8,   1.3038,  34.7312,2,  34.7318,2,    203.7,2,    204.2,2,   107.09,2,    30.92,2,     0.00,2,     2.15,2,    0.110,2,    0.054,2, -999.000,5,   2254.8,2,   2358.4,2,   -999.0,9,  -999.00,9, -999.000,9, -999.000,-999.0000,9,-999.0000,  -999.00,9,  -999.00, -999.000,9, -999.000,   -999.0,9,   -999.0,  -999.00,9,-999.0000,9,-999.0000,9,-999.0000,9,-999.0000,9,-999.0000,9,-999.0000,9
  33RR20070204,  I08S,    48,  1,      2,      2,2,20070302,0040,-47.9957,  92.3523, 3442,   3204.8,   1.0559,  34.7189,2,  34.7194,2,    206.8,2,    207.6,2,   114.34,2,    31.36,2,     0.00,2,     2.18,2,    0.197,2,    0.095,2, -999.000,5,   2257.2,2,   2357.5,2,   -999.0,9,  -999.00,9, -999.000,9, -999.000,-999.0000,9,-999.0000,  -999.00,9,  -999.00, -999.000,9, -999.000,   -999.0,9,   -999.0,  -999.00,9,-999.0000,9,-999.0000,9,-999.0000,9,-999.0000,9,-999.0000,9,-999.0000,9
  33RR20070204,  I08S,    48,  1,      1,      1,2,20070302,0040,-47.9957,  92.3523, 3442,   3480.3,   0.9446,  34.7127,2,  34.7125,2,    209.2,2,    209.2,2,   118.38,2,    31.56,2,     0.00,2,     2.19,2,    0.262,2,    0.130,2, -999.000,5,   2258.7,6,   2357.3,2,   -999.0,9,  -999.00,9, -999.000,9, -999.000,-999.0000,9,-999.0000,  -999.00,9,  -999.00, -999.000,9, -999.000,   -999.0,9,   -999.0,  -999.00,9,-999.0000,9,-999.0000,9,-999.0000,9,-999.0000,9,-999.0000,9,-999.0000,9