BOTTLE,20150626SIOCCHRJL
EXPOCODE,SECT_ID,STNNBR,CASTNO,SAMPNO,BTLNBR,BTLNBR_FLAG_W,DATE,TIME,LATITUDE,LONGITUDE,DEPTH,CTDPRS,CTDTMP,CTDSAL,CTDSAL_FLAG_W,SALNTY,SALNTY_FLAG_W,CTDOXY,CTDOXY_FLAG_W,OXYGEN,OXYGEN_FLAG_W,SILCAT,SILCAT_FLAG_W,NITRAT,NITRAT_FLAG_W,NITRIT,NITRIT_FLAG_W,PHSPHT,PHSPHT_FLAG_W,CFC-11,CFC-11_FLAG_W,CFC-12,CFC-12_FLAG_W,CFC113,CFC113_FLAG_W,TCARBN,TCARBN_FLAG_W,ALKALI,ALKALI_FLAG_W,DOC,DOC_FLAG_W,TDN,TDN_FLAG_W,TRITUM,TRITUM_FLAG_W,TRITER,HELIUM,HELIUM_FLAG_W,HELIER,DELHE3,DELHE3_FLAG_W,DELHER,NEON,NEON_FLAG_W,NEONER,DELC14,DELC14_FLAG_W,C14ERR,DELC13,DELC13_FLAG_W,CDOM325,CDOM325_FLAG_W,CDOM340,CDOM340_FLAG_W,CDOM380,CDOM380_FLAG_W,CDOM412,CDOM412_FLAG_W,CDOMSL,CDOMSL_FLAG_W,CDOMSN,CDOMSN_FLAG_W
,,,,,,,,,,,METERS,DBAR,ITS-90,PSS-78,,PSS-78,,UMOL/KG,,UMOL/KG,,UMOL/KG,,UMOL/KG,,UMOL/KG,,UMOL/KG,,PMOL/KG,,PMOL/KG,,PMOL/KG,,UMOL/KG,,UMOL/KG,,UMOL/KG,,UMOL/KG,,TU,,TU,NMOL/KG,,NMOL/KG,PERCNT,,PERCNT,NMOL/KG,,NMOL/KG,/MILLE,,/MILLE,/MILLE,,1/M,,1/M,,1/M,,1/M,,1/NM,,1/NM,
  33RR20070204,  I08S,    39,  2,     36,     36,2,20070227,0808,-51.8205,  88.7805, 4222,      5.8,   5.3100,  33.8068,2,  33.8061,2,    309.3,2,    309.9,2,     4.37,2,    20.67,2,     0.22,2,     1.54,2,    4.623,2,    2.575,2, -999.000,5,   2118.0,6,   2271.8,2,     47.9,2,    25.65,2, -999.000,9, -999.000,-999.0000,9,-999.0000,  -999.00,9,  -999.00, -999.000,9, -999.000,    -44.9,2,      2.9,     1.76,2,   0.1028,2,   0.0710,2,   0.0374,2,   0.0281,2,   0.0139,3,   0.0158,3
  33RR20070204,  I08S,    39,  2,     35,     35,2,20070227,0808,-51.8205,  88.7805, 4222,     23.1,   5.3119,  33.8068,2,  33.8065,2,    308.6,2,    309.1,2,     4.47,2,    20.67,2,     0.22,2,     1.54,2,    4.722,2,    2.641,2, -999.000,5,   2118.5,2,   2273.0,2,     47.4,2,    25.31,2, -999.000,9, -999.000,-999.0000,9,-999.0000,  -999.00,9,  -999.00, -999.000,9, -999.000,   -999.0,9,   -999.0,  -999.00,9,   0.1026,2,   0.0707,2,   0.0369,2,   0.0281,2,   0.0138,3,   0.0158,3
  33RR20070204,  I08S,    39,  2,     34,   9433,2,20070227,0808,-51.8205,  88.7805, 4222,     48.2,   5.3018,  33.8065,2,  33.8060,2,    309.7,2,    308.9,2,     4.37,2,    20.67,2,     0.22,2,     1.54,2, -999.000,9, -999.000,9, -999.000,9,   2118.1,2,   2272.0,2,     46.1,2,    25.44,2, -999.000,9, -999.000,-999.0000,9,-999.0000,  -999.00,9,  -999.00, -999.000,9, -999.000,   -999.0,9,   -999.0,  -999.00,9,   0.1013,2,   0.0695,2,   0.0364,2,   0.0276,2,   0.0140,3,   0.0160,3
  33RR20070204,  I08S,    39,  2,     33,     33,2,20070227,0808,-51.8205,  88.7805, 4222,     93.1,   4.6076,  33.8095,2,  33.8078,2,    303.7,2,    304.2,2,     6.32,2,    21.96,2,     0.31,2,     1.65,2,    4.783,2,    2.648,2, -999.000,5,   2129.0,2,   2271.3,2,     45.7,2,    27.83,2, -999.000,9, -999.000,-999.0000,9,-999.0000,  -999.00,9,  -999.00, -999.000,9, -999.000,   -999.0,9,   -999.0,  -999.00,9,   0.0973,2,   0.0667,2,   0.0369,2,   0.0286,2,   0.0134,3,   0.0149,3
  33RR20070204,  I08S,    39,  2,     32,     32,2,20070227,0808,-51.8205,  88.7805, 4222,    113.2,   3.9351,  33.8363,2,  33.8403,2,    303.7,2,    302.9,2,     9.49,2,    24.85,2,     0.29,2,     1.78,2, -999.000,9, -999.000,9, -999.000,9,   2141.3,2,   2270.2,2,     45.6,2,    29.76,2, -999.000,9, -999.000,-999.0000,9,-999.0000,  -999.00,9,  -999.00, -999.000,9, -999.000,   -999.0,9,   -999.0,  -999.00,9,   0.0983,2,   0.0673,2,   0.0383,2,   0.0301,2,   0.0131,3,   0.0143,3
  33RR20070204,  I08S,    39,  2,     31,     31,2,20070227,0808,-51.8205,  88.7805, 4222,    143.2,   3.4438,  33.8497,2,  33.8483,2,    300.1,2,    300.2,2,    11.64,2,    26.85,2,     0.02,2,     1.87,2,    5.146,2,    2.893,2, -999.000,5,   2147.8,2,   2269.4,2,     44.2,2,    30.62,2, -999.000,9, -999.000,-999.0000,9,-999.0000,  -999.00,9,  -999.00, -999.000,9, -999.000,   -999.0,9,   -999.0,  -999.00,9,   0.0958,2,   0.0650,2,   0.0378,2,   0.0303,2,   0.0126,3,   0.0139,3
  33RR20070204,  I08S,    39,  2,     30,     30,2,20070227,0808,-51.8205,  88.7805, 4222,    193.7,   2.9874,  33.9118,2,  33.9101,2,    298.7,2,    298.0,2,    16.67,2,    27.91,2,     0.01,2,     1.93,2, -999.000,9, -999.000,9, -999.000,9,   2156.8,2,   2272.9,2,     43.8,2,    31.13,2, -999.000,9, -999.000,-999.0000,9,-999.0000,  -999.00,9,  -999.00, -999.000,9, -999.000,   -999.0,9,   -999.0,  -999.00,9,   0.0966,2,   0.0653,2,   0.0390,2,   0.0315,2,   0.0121,3,   0.0133,3
  33RR20070204,  I08S,    39,  2,     29,     29,2,20070227,0808,-51.8205,  88.7805, 4222,    243.9,   2.8888,  33.9919,2,  33.9920,2,    293.2,2,    287.4,2,    20.26,2,    28.77,2,     0.01,2,     1.98,2,    4.903,2,    2.671,2, -999.000,5,   2166.4,2,   2276.0,2,     43.4,2,    32.68,2, -999.000,9, -999.000,-999.0000,9,-999.0000,  -999.00,9,  -999.00, -999.000,9, -999.000,   -999.0,9,   -999.0,  -999.00,9,   0.0909,2,   0.0606,2,   0.0353,2,   0.0280,2,   0.0127,3,   0.0142,3
  33RR20070204,  I08S,    39,  2,     28,     28,2,20070227,0808,-51.8205,  88.7805, 4222,    293.8,   2.7910,  34.0536,2,  34.0547,2,    277.7,2,    277.3,2,    23.44,2,    29.30,2,     0.02,2,     2.01,2,    4.582,2,    2.456,2, -999.000,5,   2171.5,2,   2280.3,2,     43.0,2,    33.19,2, -999.000,9, -999.000,-999.0000,9,-999.0000,  -999.00,9,  -999.00, -999.000,9, -999.000,   -999.0,9,   -999.0,  -999.00,9,   0.0863,2,   0.0563,2,   0.0319,2,   0.0255,2,   0.0129,3,   0.0149,3
  33RR20070204,  I08S,    39,  2,     27,     27,2,20070227,0808,-51.8205,  88.7805, 4222,    344.1,   1.9004,  34.0138,2,  34.0121,2,    289.0,2,    290.2,2,    28.48,2,    29.97,2,     0.02,2,     2.07,2,    4.960,2,    2.678,2, -999.000,5,   2176.2,2,   2281.2,2,     42.7,2,    33.09,2, -999.000,9, -999.000,-999.0000,9,-999.0000,  -999.00,9,  -999.00, -999.000,9, -999.000,   -999.0,9,   -999.0,  -999.00,9,   0.0903,2,   0.0598,2,   0.0344,2,   0.0273,2,   0.0128,3,   0.0144,3
  33RR20070204,  I08S,    39,  2,     26,     26,2,20070227,0808,-51.8205,  88.7805, 4222,    394.2,   2.2493,  34.1100,2,  34.1101,2,    261.8,2,    264.0,2,    31.66,2,    30.84,2,     0.01,2,     2.12,2,    4.216,2,    2.252,2, -999.000,5,   2185.6,2,   2284.5,2,     42.2,2,    34.77,2, -999.000,9, -999.000,-999.0000,9,-999.0000,  -999.00,9,  -999.00, -999.000,9, -999.000,   -999.0,9,   -999.0,  -999.00,9,   0.0915,2,   0.0605,2,   0.0346,2,   0.0274,2,   0.0129,4,   0.0145,4
  33RR20070204,  I08S,    39,  2,     25,     25,2,20070227,0808,-51.8205,  88.7805, 4222,    444.7,   2.4329,  34.1815,2,  34.1799,2,    252.3,2,    245.0,2,    36.50,2,    31.71,2,     0.01,2,     2.19,2,    3.582,2,    1.887,2, -999.000,5,   2196.6,2,   2289.8,2,     42.0,2,    34.76,2, -999.000,9, -999.000,-999.0000,9,-999.0000,  -999.00,9,  -999.00, -999.000,9, -999.000,   -999.0,9,   -999.0,  -999.00,9,   0.0950,2,   0.0630,2,   0.0357,2,   0.0279,2,   0.0131,3,   0.0148,3
  33RR20070204,  I08S,    39,  2,     24,     24,2,20070227,0808,-51.8205,  88.7805, 4222,    494.5,   2.5330,  34.2354,2,  34.2334,2,    232.2,2,    230.7,2,    40.72,2,    32.34,2,     0.01,2,     2.23,2,    3.062,2,    1.596,2, -999.000,5,   2205.3,2,   2294.5,2,     42.1,2,    35.78,2, -999.000,9, -999.000,-999.0000,9,-999.0000,  -999.00,9,  -999.00, -999.000,9, -999.000,   -999.0,9,   -999.0,  -999.00,9,   0.0979,2,   0.0650,2,   0.0368,2,   0.0287,2,   0.0132,3,   0.0149,3
  33RR20070204,  I08S,    39,  2,     23,     23,2,20070227,0808,-51.8205,  88.7805, 4222,    580.2,   2.4763,  34.2943,2,  34.2967,2,    215.7,2,    214.1,2,    47.42,2,    33.31,2,     0.01,2,     2.31,2,    2.466,2,    1.272,2, -999.000,5,   2217.6,2,   2300.6,2,     41.7,2,    36.15,2, -999.000,9, -999.000,-999.0000,9,-999.0000,  -999.00,9,  -999.00, -999.000,9, -999.000,   -999.0,9,   -999.0,  -999.00,9,   0.1031,2,   0.0688,2,   0.0384,2,   0.0293,2,   0.0137,3,   0.0153,3
  33RR20070204,  I08S,    39,  2,     22,     22,2,20070227,0808,-51.8205,  88.7805, 4222,    680.5,   2.5927,  34.4175,2,  34.4158,2,    193.1,2,    189.2,2,    58.06,2,    34.14,2,     0.01,2,     2.37,2,    1.401,2,    0.748,2, -999.000,5,   2234.5,2,   2312.5,2,     41.7,2,    36.82,2, -999.000,9, -999.000,-999.0000,9,-999.0000,  -999.00,9,  -999.00, -999.000,9, -999.000,   -999.0,9,   -999.0,  -999.00,9,   0.1134,2,   0.0772,2,   0.0433,2,   0.0327,2,   0.0137,4,   0.0150,4
  33RR20070204,  I08S,    39,  2,     21,     21,2,20070227,0808,-51.8205,  88.7805, 4222,    781.4,   2.5686,  34.4895,2,  34.4894,2,    186.7,2,    180.1,2,    63.75,2,    34.23,2,     0.01,2,     2.36,2,    0.959,2,    0.493,2, -999.000,5,   2243.0,2,   2320.1,2,     41.4,2,    36.53,2, -999.000,9, -999.000,-999.0000,9,-999.0000,  -999.00,9,  -999.00, -999.000,9, -999.000,   -999.0,9,   -999.0,  -999.00,9,   0.1198,2,   0.0825,2,   0.0461,2,   0.0341,2,   0.0140,2,   0.0151,3
  33RR20070204,  I08S,    39,  2,     20,     20,2,20070227,0808,-51.8205,  88.7805, 4222,    881.8,   2.4408,  34.5333,2,  34.5333,2,    178.5,2,    177.3,2,    68.20,2,    34.09,2,     0.01,2,     2.36,2,    0.807,2,    0.419,2, -999.000,5,   2248.6,2,   2323.5,2,     41.2,2,    36.82,2, -999.000,9, -999.000,-999.0000,9,-999.0000,  -999.00,9,  -999.00, -999.000,9, -999.000,   -999.0,9,   -999.0,  -999.00,9,   0.1186,2,   0.0811,2,   0.0449,2,   0.0332,2,   0.0142,3,   0.0154,3
  33RR20070204,  I08S,    39,  2,     19,     19,2,20070227,0808,-51.8205,  88.7805, 4222,    982.3,   2.4840,  34.5910,2,  34.5889,2,    175.4,2,    175.7,2,    70.17,2,    33.55,2,     0.01,2,     2.32,2,    0.521,2,    0.269,2, -999.000,5,   2247.4,6,   2328.4,2,     41.1,2,    36.30,2, -999.000,9, -999.000,-999.0000,9,-999.0000,  -999.00,9,  -999.00, -999.000,9, -999.000,   -999.0,9,   -999.0,  -999.00,9,   0.1242,2,   0.0855,2,   0.0475,2,   0.0351,2,   0.0140,3,   0.0137,3
  33RR20070204,  I08S,    39,  2,     18,     18,2,20070227,0808,-51.8205,  88.7805, 4222,   1083.5,   2.4316,  34.6275,2,  34.6260,2,    176.6,2,    176.8,2,    72.36,2,    33.01,2,     0.01,2,     2.28,2,    0.411,2,    0.207,2, -999.000,5,   2247.7,2,   2332.2,2,     41.0,2,    34.14,2, -999.000,9, -999.000,-999.0000,9,-999.0000,  -999.00,9,  -999.00, -999.000,9, -999.000,   -999.0,9,   -999.0,  -999.00,9,   0.1241,2,   0.0855,2,   0.0470,2,   0.0346,2,   0.0141,4,   0.0153,4
  33RR20070204,  I08S,    39,  2,     17,     17,2,20070227,0808,-51.8205,  88.7805, 4222,   1183.9,   2.3928,  34.6589,2,  34.6578,2,    178.4,2,    178.8,2,    73.70,2,    32.42,2,     0.01,2,     2.24,2,    0.317,2,    0.158,2, -999.000,5,   2247.8,2,   2333.8,2,     40.7,2,    33.89,2, -999.000,9, -999.000,-999.0000,9,-999.0000,  -999.00,9,  -999.00, -999.000,9, -999.000,   -999.0,9,   -999.0,  -999.00,9,   0.1261,2,   0.0869,2,   0.0478,2,   0.0349,2,   0.0142,2,   0.0154,3
  33RR20070204,  I08S,    39,  2,     16,     16,2,20070227,0808,-51.8205,  88.7805, 4222,   1285.1,   2.3494,  34.6870,2,  34.6865,2,    181.6,2,    181.9,2,    74.23,2,    31.79,2,     0.01,2,     2.19,2, -999.000,9, -999.000,9, -999.000,9,   2247.3,2,   2335.8,2,     40.8,2,    32.97,2, -999.000,9, -999.000,-999.0000,9,-999.0000,  -999.00,9,  -999.00, -999.000,9, -999.000,   -999.0,9,   -999.0,  -999.00,9,   0.1243,2,   0.0852,2,   0.0462,2,   0.0339,2,   0.0143,3,   0.0157,3
  33RR20070204,  I08S,    39,  2,     15,     15,2,20070227,0808,-51.8205,  88.7805, 4222,   1385.7,   2.2973,  34.7063,2,  34.7047,2,    184.6,2,    185.5,2,    75.37,2,    31.31,2,     0.00,2,     2.16,2,    0.219,2,    0.106,2, -999.000,5,   2246.0,2,   2337.6,2,     41.0,2,    33.29,2, -999.000,9, -999.000,-999.0000,9,-999.0000,  -999.00,9,  -999.00, -999.000,9, -999.000,   -999.0,9,   -999.0,  -999.00,9,   0.1225,2,   0.0841,2,   0.0453,2,   0.0324,2,   0.0147,2,   0.0160,3
  33RR20070204,  I08S,    39,  2,     14,     14,2,20070227,0808,-51.8205,  88.7805, 4222,   1486.5,   2.2357,  34.7259,2,  34.7322,2,    188.5,2,    188.4,2,    76.52,2,    30.77,2,     0.00,2,     2.12,2, -999.000,9, -999.000,9, -999.000,9,   2244.0,2,   2338.1,2,     40.7,2,    32.53,2, -999.000,9, -999.000,-999.0000,9,-999.0000,  -999.00,9,  -999.00, -999.000,9, -999.000,   -999.0,9,   -999.0,  -999.00,9,   0.1248,2,   0.0859,2,   0.0466,2,   0.0337,2,   0.0143,2,   0.0157,3
  33RR20070204,  I08S,    39,  2,     13,     13,2,20070227,0808,-51.8205,  88.7805, 4222,   1587.8,   2.1578,  34.7372,2,  34.7367,2,    191.1,2,    191.2,2,    78.09,2,    30.52,2,     0.00,2,     2.10,2,    0.163,2,    0.079,2, -999.000,5,   2244.5,2,   2340.0,2,     41.3,2,    32.37,2, -999.000,9, -999.000,-999.0000,9,-999.0000,  -999.00,9,  -999.00, -999.000,9, -999.000,   -999.0,9,   -999.0,  -999.00,9,   0.1242,2,   0.0854,2,   0.0458,2,   0.0329,2,   0.0144,2,   0.0159,3
  33RR20070204,  I08S,    39,  2,     12,     12,2,20070227,0808,-51.8205,  88.7805, 4222,   1689.0,   2.0884,  34.7459,2,  34.7457,2,    193.6,2,    193.8,2,    79.86,2,    30.24,2,     0.00,2,     2.08,2, -999.000,9, -999.000,9, -999.000,9,   2244.5,2,   2342.5,2,     41.1,2,    31.68,2, -999.000,9, -999.000,-999.0000,9,-999.0000,  -999.00,9,  -999.00, -999.000,9, -999.000,   -999.0,9,   -999.0,  -999.00,9,   0.1260,2,   0.0870,2,   0.0474,2,   0.0344,2,   0.0143,2,   0.0156,3
  33RR20070204,  I08S,    39,  2,     11,     11,2,20070227,0808,-51.8205,  88.7805, 4222,   1790.0,   2.0134,  34.7522,2,  34.7518,2,    195.3,2,    196.3,2,    81.84,2,    30.04,2,     0.00,2,     2.06,2,    0.123,2,    0.057,2, -999.000,5,   2243.6,2,   2343.6,2,     41.0,2,    31.07,2, -999.000,9, -999.000,-999.0000,9,-999.0000,  -999.00,9,  -999.00, -999.000,9, -999.000,   -999.0,9,   -999.0,  -999.00,9,   0.1293,2,   0.0900,2,   0.0492,2,   0.0359,2,   0.0140,2,   0.0152,3
  33RR20070204,  I08S,    39,  2,     10,     10,2,20070227,0808,-51.8205,  88.7805, 4222,   1992.4,   1.8645,  34.7535,2,  34.7526,2,    198.0,2,    198.6,2,    85.89,2,    30.08,2,     0.00,2,     2.07,2, -999.000,9, -999.000,9, -999.000,9,   2245.7,2,   2345.6,2,     41.0,2,    31.66,2, -999.000,9, -999.000,-999.0000,9,-999.0000,  -999.00,9,  -999.00, -999.000,9, -999.000,   -999.0,9,   -999.0,  -999.00,9,   0.1236,2,   0.0852,2,   0.0455,2,   0.0326,2,   0.0144,2,   0.0159,3
  33RR20070204,  I08S,    39,  2,      9,      9,2,20070227,0808,-51.8205,  88.7805, 4222,   2194.8,   1.6951,  34.7502,2,  34.7496,2,    200.5,2,    200.6,2,    91.42,2,    30.33,2,     0.00,2,     2.09,2,    0.104,2,    0.047,2, -999.000,5,   2247.3,2,   2347.6,2,     40.9,2,    32.09,2, -999.000,9, -999.000,-999.0000,9,-999.0000,  -999.00,9,  -999.00, -999.000,9, -999.000,   -999.0,9,   -999.0,  -999.00,9,   0.1286,2,   0.0892,2,   0.0485,2,   0.0351,2,   0.0142,2,   0.0155,3
  33RR20070204,  I08S,    39,  2,      8,      8,2,20070227,0808,-51.8205,  88.7805, 4222,   2448.1,   1.4131,  34.7386,2,  34.7378,2,    202.9,2,    203.1,2,    99.67,2,    30.76,2,     0.00,2,     2.12,2, -999.000,9, -999.000,9, -999.000,9,   2251.6,2,   2350.9,2,     41.1,2,    31.78,2, -999.000,9, -999.000,-999.0000,9,-999.0000,  -999.00,9,  -999.00, -999.000,9, -999.000,   -999.0,9,   -999.0,  -999.00,9,   0.1301,2,   0.0894,2,   0.0475,2,   0.0342,2,   0.0146,3,   0.0161,3
  33RR20070204,  I08S,    39,  2,      7,      7,2,20070227,0808,-51.8205,  88.7805, 4222,   2701.6,   1.2399,  34.7297,2,  34.7287,2,    205.0,2,    204.7,2,   104.38,2,    31.15,2,     0.00,2,     2.15,2,    0.146,2,    0.068,2, -999.000,5,   2254.1,2,   2352.1,2,     40.8,2,    32.40,2, -999.000,9, -999.000,-999.0000,9,-999.0000,  -999.00,9,  -999.00, -999.000,9, -999.000,   -999.0,9,   -999.0,  -999.00,9,   0.1236,2,   0.0847,2,   0.0454,2,   0.0328,2,   0.0145,3,   0.0160,4
  33RR20070204,  I08S,    39,  2,      6,      6,2,20070227,0808,-51.8205,  88.7805, 4222,   2955.4,   1.0261,  34.7187,2,  34.7177,2,    207.1,2,    207.4,2,   111.61,2,    31.58,2,     0.00,2,     2.18,2,    0.187,2,    0.089,2, -999.000,5,   2255.8,2,   2355.1,2,     40.2,2,    33.36,2, -999.000,9, -999.000,-999.0000,9,-999.0000,  -999.00,9,  -999.00, -999.000,9, -999.000,   -999.0,9,   -999.0,  -999.00,9,   0.1243,2,   0.0855,2,   0.0465,2,   0.0339,2,   0.0142,3,   0.0156,3
  33RR20070204,  I08S,    39,  2,      5,      5,2,20070227,0808,-51.8205,  88.7805, 4222,   3209.7,   0.7566,  34.7050,2,  34.7033,2,    211.0,2,    212.4,2,   118.23,2,    31.87,2,     0.00,2,     2.20,2,    0.320,2,    0.156,2, -999.000,5,   2256.7,2,   2353.5,2,     40.8,2,    33.43,2, -999.000,9, -999.000,-999.0000,9,-999.0000,  -999.00,9,  -999.00, -999.000,9, -999.000,   -999.0,9,   -999.0,  -999.00,9,   0.1245,2,   0.0854,2,   0.0464,2,   0.0340,2,   0.0142,3,   0.0156,3
  33RR20070204,  I08S,    39,  2,      4,      4,2,20070227,0808,-51.8205,  88.7805, 4222,   3463.8,   0.5688,  34.6956,2,  34.6947,2,    216.0,2,    215.7,2,   122.34,2,    32.16,2,     0.00,2,     2.22,2,    0.447,2,    0.219,2, -999.000,5,   2257.8,2,   2353.8,2,     40.9,2,    33.98,2, -999.000,9, -999.000,-999.0000,9,-999.0000,  -999.00,9,  -999.00, -999.000,9, -999.000,   -999.0,9,   -999.0,  -999.00,9,   0.1228,2,   0.0842,2,   0.0456,2,   0.0334,2,   0.0142,3,   0.0157,3
  33RR20070204,  I08S,    39,  2,      3,      3,2,20070227,0808,-51.8205,  88.7805, 4222,   3718.6,   0.4367,  34.6886,2,  34.6876,2,    219.2,2,    218.7,2,   125.39,2,    32.16,2,     0.00,2,     2.22,2,    0.567,2,    0.283,2, -999.000,5,   2258.4,2,   2353.4,2,     41.4,2,    33.34,2, -999.000,9, -999.000,-999.0000,9,-999.0000,  -999.00,9,  -999.00, -999.000,9, -999.000,   -999.0,9,   -999.0,  -999.00,9,   0.1246,2,   0.0860,2,   0.0470,2,   0.0346,2,   0.0140,3,   0.0153,3
  33RR20070204,  I08S,    39,  2,      2,      2,2,20070227,0808,-51.8205,  88.7805, 4222,   4055.6,   0.3795,  34.6846,2,  34.6836,2,    221.4,2,    220.5,2,   126.14,2,    32.35,2,     0.00,2,     2.23,2,    0.645,2,    0.322,2, -999.000,5,   2257.6,2,   2353.3,2,     41.0,2,    33.95,2, -999.000,9, -999.000,-999.0000,9,-999.0000,  -999.00,9,  -999.00, -999.000,9, -999.000,   -999.0,9,   -999.0,  -999.00,9,   0.1254,2,   0.0863,2,   0.0469,2,   0.0346,2,   0.0141,3,   0.0154,3
  33RR20070204,  I08S,    39,  2,      1,      1,2,20070227,0808,-51.8205,  88.7805, 4222,   4292.5,   0.3057,  34.6804,2,  34.6789,2,    222.6,2,    223.0,2,   128.15,2,    32.44,2,     0.00,2,     2.24,2,    0.742,2,    0.374,2, -999.000,5,   2257.7,6,   2351.2,2,     40.9,2,    34.04,2, -999.000,9, -999.000,-999.0000,9,-999.0000,  -999.00,9,  -999.00, -999.000,9, -999.000,   -999.0,9,   -999.0,  -999.00,9,   0.1256,2,   0.0866,2,   0.0476,2,   0.0354,2,   0.0139,3,   0.0152,3