BOTTLE,20150626SIOCCHRJL
EXPOCODE,SECT_ID,STNNBR,CASTNO,SAMPNO,BTLNBR,BTLNBR_FLAG_W,DATE,TIME,LATITUDE,LONGITUDE,DEPTH,CTDPRS,CTDTMP,CTDSAL,CTDSAL_FLAG_W,SALNTY,SALNTY_FLAG_W,CTDOXY,CTDOXY_FLAG_W,OXYGEN,OXYGEN_FLAG_W,SILCAT,SILCAT_FLAG_W,NITRAT,NITRAT_FLAG_W,NITRIT,NITRIT_FLAG_W,PHSPHT,PHSPHT_FLAG_W,CFC-11,CFC-11_FLAG_W,CFC-12,CFC-12_FLAG_W,CFC113,CFC113_FLAG_W,TCARBN,TCARBN_FLAG_W,ALKALI,ALKALI_FLAG_W,DOC,DOC_FLAG_W,TDN,TDN_FLAG_W,TRITUM,TRITUM_FLAG_W,TRITER,HELIUM,HELIUM_FLAG_W,HELIER,DELHE3,DELHE3_FLAG_W,DELHER,NEON,NEON_FLAG_W,NEONER,DELC14,DELC14_FLAG_W,C14ERR,DELC13,DELC13_FLAG_W,CDOM325,CDOM325_FLAG_W,CDOM340,CDOM340_FLAG_W,CDOM380,CDOM380_FLAG_W,CDOM412,CDOM412_FLAG_W,CDOMSL,CDOMSL_FLAG_W,CDOMSN,CDOMSN_FLAG_W
,,,,,,,,,,,METERS,DBAR,ITS-90,PSS-78,,PSS-78,,UMOL/KG,,UMOL/KG,,UMOL/KG,,UMOL/KG,,UMOL/KG,,UMOL/KG,,PMOL/KG,,PMOL/KG,,PMOL/KG,,UMOL/KG,,UMOL/KG,,UMOL/KG,,UMOL/KG,,TU,,TU,NMOL/KG,,NMOL/KG,PERCNT,,PERCNT,NMOL/KG,,NMOL/KG,/MILLE,,/MILLE,/MILLE,,1/M,,1/M,,1/M,,1/M,,1/NM,,1/NM,
  33RR20070204,  I08S,    58,  1,     33,     33,2,20070304,1927,-43.5088,  95.0047, 3169,      3.2,  13.0136,  34.4894,2,  34.4897,2,    263.2,2,    266.7,2,     0.83,2,     8.31,2,     0.14,2,     0.69,2, -999.000,9, -999.000,9, -999.000,9,   2071.3,2,   2286.7,2,   -999.0,9,  -999.00,9, -999.000,9, -999.000,-999.0000,9,-999.0000,  -999.00,9,  -999.00, -999.000,9, -999.000,     29.5,2,      3.2,     1.74,2,-999.0000,9,-999.0000,9,-999.0000,9,-999.0000,9,-999.0000,9,-999.0000,9
  33RR20070204,  I08S,    58,  1,     32,     37,2,20070304,1927,-43.5088,  95.0047, 3169,     29.4,  13.0240,  34.4900,2,  34.4907,2,    265.6,2,    265.5,2,     0.79,2,     8.25,2,     0.14,2,     0.68,2, -999.000,9, -999.000,9, -999.000,9,   2078.5,2,   2285.9,2,   -999.0,9,  -999.00,9, -999.000,9, -999.000,-999.0000,9,-999.0000,  -999.00,9,  -999.00, -999.000,9, -999.000,   -999.0,9,   -999.0,  -999.00,9,-999.0000,9,-999.0000,9,-999.0000,9,-999.0000,9,-999.0000,9,-999.0000,9
  33RR20070204,  I08S,    58,  1,     31,     31,2,20070304,1927,-43.5088,  95.0047, 3169,     53.6,  11.8149,  34.3968,2,  34.3988,2,    272.7,2,    272.5,2,     0.74,2,    10.07,2,     0.18,2,     0.80,2, -999.000,9, -999.000,9, -999.000,9,   2086.2,2,   2282.2,2,   -999.0,9,  -999.00,9, -999.000,9, -999.000,-999.0000,9,-999.0000,  -999.00,9,  -999.00, -999.000,9, -999.000,   -999.0,9,   -999.0,  -999.00,9,-999.0000,9,-999.0000,9,-999.0000,9,-999.0000,9,-999.0000,9,-999.0000,9
  33RR20070204,  I08S,    58,  1,     30,     30,2,20070304,1927,-43.5088,  95.0047, 3169,     78.3,  11.0040,  34.5915,2,  34.5600,2,    264.1,2,    266.1,2,     1.75,2,    10.90,2,     0.50,2,     0.89,2, -999.000,9, -999.000,9, -999.000,9,   2101.9,2,   2287.0,2,   -999.0,9,  -999.00,9, -999.000,9, -999.000,-999.0000,9,-999.0000,  -999.00,9,  -999.00, -999.000,9, -999.000,   -999.0,9,   -999.0,  -999.00,9,-999.0000,9,-999.0000,9,-999.0000,9,-999.0000,9,-999.0000,9,-999.0000,9
  33RR20070204,  I08S,    58,  1,     29,     29,2,20070304,1927,-43.5088,  95.0047, 3169,    102.7,  11.0243,  34.7802,2,  34.7792,2,    255.2,2,    256.7,2,     2.54,2,    11.20,2,     0.05,2,     0.87,2, -999.000,9, -999.000,9, -999.000,9,   2106.5,2,   2292.9,2,   -999.0,9,  -999.00,9, -999.000,9, -999.000,-999.0000,9,-999.0000,  -999.00,9,  -999.00, -999.000,9, -999.000,   -999.0,9,   -999.0,  -999.00,9,-999.0000,9,-999.0000,9,-999.0000,9,-999.0000,9,-999.0000,9,-999.0000,9
  33RR20070204,  I08S,    58,  1,     28,     28,2,20070304,1927,-43.5088,  95.0047, 3169,    151.6,  11.3363,  34.9326,2,  34.9345,2,    253.8,2,    249.2,0,     3.75,2,    10.95,2,     0.01,2,     0.84,2, -999.000,9, -999.000,9, -999.000,9,   2111.0,2,   2298.9,2,   -999.0,9,  -999.00,9, -999.000,9, -999.000,-999.0000,9,-999.0000,  -999.00,9,  -999.00, -999.000,9, -999.000,   -999.0,9,   -999.0,  -999.00,9,-999.0000,9,-999.0000,9,-999.0000,9,-999.0000,9,-999.0000,9,-999.0000,9
  33RR20070204,  I08S,    58,  1,     27,     27,2,20070304,1927,-43.5088,  95.0047, 3169,    200.8,  10.8334,  34.8399,2,  34.8407,2,    251.8,2,    252.1,2,     3.93,2,    11.96,2,     0.01,2,     0.91,2, -999.000,9, -999.000,9, -999.000,9,   2111.3,2,   2295.3,2,   -999.0,9,  -999.00,9, -999.000,9, -999.000,-999.0000,9,-999.0000,  -999.00,9,  -999.00, -999.000,9, -999.000,   -999.0,9,   -999.0,  -999.00,9,-999.0000,9,-999.0000,9,-999.0000,9,-999.0000,9,-999.0000,9,-999.0000,9
  33RR20070204,  I08S,    58,  1,     26,     26,2,20070304,1927,-43.5088,  95.0047, 3169,    250.2,  10.5249,  34.7962,2,  34.7975,2,    248.9,2,    252.8,2,     4.09,2,    12.67,2,     0.01,2,     0.95,2, -999.000,9, -999.000,9, -999.000,9,   -999.0,9,   -999.0,9,   -999.0,9,  -999.00,9, -999.000,9, -999.000,-999.0000,9,-999.0000,  -999.00,9,  -999.00, -999.000,9, -999.000,   -999.0,9,   -999.0,  -999.00,9,-999.0000,9,-999.0000,9,-999.0000,9,-999.0000,9,-999.0000,9,-999.0000,9
  33RR20070204,  I08S,    58,  1,     25,     25,2,20070304,1927,-43.5088,  95.0047, 3169,    299.7,  10.4427,  34.7996,2,  34.8047,2,    245.5,2,    250.8,2,     4.26,2,    12.91,2,     0.01,2,     0.96,2, -999.000,9, -999.000,9, -999.000,9,   2116.5,2,   2294.2,2,   -999.0,9,  -999.00,9, -999.000,9, -999.000,-999.0000,9,-999.0000,  -999.00,9,  -999.00, -999.000,9, -999.000,   -999.0,9,   -999.0,  -999.00,9,-999.0000,9,-999.0000,9,-999.0000,9,-999.0000,9,-999.0000,9,-999.0000,9
  33RR20070204,  I08S,    58,  1,     24,     24,2,20070304,1927,-43.5088,  95.0047, 3169,    348.7,  10.4328,  34.8143,2,  34.8154,2,    247.9,2,    252.2,2,     4.43,2,    13.15,2,     0.01,2,     0.97,2, -999.000,9, -999.000,9, -999.000,9,   -999.0,9,   -999.0,9,   -999.0,9,  -999.00,9, -999.000,9, -999.000,-999.0000,9,-999.0000,  -999.00,9,  -999.00, -999.000,9, -999.000,   -999.0,9,   -999.0,  -999.00,9,-999.0000,9,-999.0000,9,-999.0000,9,-999.0000,9,-999.0000,9,-999.0000,9
  33RR20070204,  I08S,    58,  1,     23,     23,2,20070304,1927,-43.5088,  95.0047, 3169,    397.6,  10.0847,  34.7624,2,  34.7660,2,    244.1,2,    241.7,2,     4.81,2,    14.16,2,     0.01,2,     1.04,2, -999.000,9, -999.000,9, -999.000,9,   2121.3,2,   2292.6,2,   -999.0,9,  -999.00,9, -999.000,9, -999.000,-999.0000,9,-999.0000,  -999.00,9,  -999.00, -999.000,9, -999.000,   -999.0,9,   -999.0,  -999.00,9,-999.0000,9,-999.0000,9,-999.0000,9,-999.0000,9,-999.0000,9,-999.0000,9
  33RR20070204,  I08S,    58,  1,     22,     22,2,20070304,1927,-43.5088,  95.0047, 3169,    447.0,   9.4887,  34.6626,2,  34.6638,2,    242.2,2,    236.4,2,     5.60,2,    15.88,2,     0.01,2,     1.14,2, -999.000,9, -999.000,9, -999.000,9,   -999.0,9,   -999.0,9,   -999.0,9,  -999.00,9, -999.000,9, -999.000,-999.0000,9,-999.0000,  -999.00,9,  -999.00, -999.000,9, -999.000,   -999.0,9,   -999.0,  -999.00,9,-999.0000,9,-999.0000,9,-999.0000,9,-999.0000,9,-999.0000,9,-999.0000,9
  33RR20070204,  I08S,    58,  1,     21,     21,2,20070304,1927,-43.5088,  95.0047, 3169,    497.4,   9.1545,  34.6263,2,  34.6267,2,    243.8,2,    245.5,2,     5.56,2,    16.35,2,     0.00,2,     1.17,2, -999.000,9, -999.000,9, -999.000,9,   2125.2,2,   2285.6,2,   -999.0,9,  -999.00,9, -999.000,9, -999.000,-999.0000,9,-999.0000,  -999.00,9,  -999.00, -999.000,9, -999.000,   -999.0,9,   -999.0,  -999.00,9,-999.0000,9,-999.0000,9,-999.0000,9,-999.0000,9,-999.0000,9,-999.0000,9
  33RR20070204,  I08S,    58,  1,     20,     20,2,20070304,1927,-43.5088,  95.0047, 3169,    597.5,   8.5630,  34.5890,2,  34.5906,2,    227.4,2,    220.7,2,     9.49,2,    19.92,2,     0.00,2,     1.40,2, -999.000,9, -999.000,9, -999.000,9,   -999.0,9,   -999.0,9,   -999.0,9,  -999.00,9, -999.000,9, -999.000,-999.0000,9,-999.0000,  -999.00,9,  -999.00, -999.000,9, -999.000,   -999.0,9,   -999.0,  -999.00,9,-999.0000,9,-999.0000,9,-999.0000,9,-999.0000,9,-999.0000,9,-999.0000,9
  33RR20070204,  I08S,    58,  1,     19,     19,2,20070304,1927,-43.5088,  95.0047, 3169,    698.2,   7.4547,  34.4891,2,  34.4890,2,    215.5,2,    213.7,2,    13.22,2,    23.20,2,     0.00,2,     1.61,2, -999.000,9, -999.000,9, -999.000,9,   2157.5,2,   2284.3,2,   -999.0,9,  -999.00,9, -999.000,9, -999.000,-999.0000,9,-999.0000,  -999.00,9,  -999.00, -999.000,9, -999.000,   -999.0,9,   -999.0,  -999.00,9,-999.0000,9,-999.0000,9,-999.0000,9,-999.0000,9,-999.0000,9,-999.0000,9
  33RR20070204,  I08S,    58,  1,     18,     18,2,20070304,1927,-43.5088,  95.0047, 3169,    799.3,   6.0977,  34.3908,2,  34.3907,2,    214.6,2,    214.7,2,    18.62,2,    26.40,2,     0.00,2,     1.83,2, -999.000,9, -999.000,9, -999.000,9,   -999.0,9,   -999.0,9,   -999.0,9,  -999.00,9, -999.000,9, -999.000,-999.0000,9,-999.0000,  -999.00,9,  -999.00, -999.000,9, -999.000,   -999.0,9,   -999.0,  -999.00,9,-999.0000,9,-999.0000,9,-999.0000,9,-999.0000,9,-999.0000,9,-999.0000,9
  33RR20070204,  I08S,    58,  1,     17,     17,2,20070304,1927,-43.5088,  95.0047, 3169,    900.5,   5.1616,  34.3388,2,  34.3381,2,    215.2,2,    217.5,2,    23.20,2,    28.25,2,     0.00,2,     1.95,2, -999.000,9, -999.000,9, -999.000,9,   2179.8,2,   2285.1,2,   -999.0,9,  -999.00,9, -999.000,9, -999.000,-999.0000,9,-999.0000,  -999.00,9,  -999.00, -999.000,9, -999.000,   -999.0,9,   -999.0,  -999.00,9,-999.0000,9,-999.0000,9,-999.0000,9,-999.0000,9,-999.0000,9,-999.0000,9
  33RR20070204,  I08S,    58,  1,     16,     16,2,20070304,1927,-43.5088,  95.0047, 3169,   1001.2,   4.3886,  34.3151,2,  34.3148,2,    215.1,2,    217.3,2,    28.83,2,    29.86,2,     0.00,2,     2.06,2, -999.000,9, -999.000,9, -999.000,9,   -999.0,9,   -999.0,9,   -999.0,9,  -999.00,9, -999.000,9, -999.000,-999.0000,9,-999.0000,  -999.00,9,  -999.00, -999.000,9, -999.000,   -999.0,9,   -999.0,  -999.00,9,-999.0000,9,-999.0000,9,-999.0000,9,-999.0000,9,-999.0000,9,-999.0000,9
  33RR20070204,  I08S,    58,  1,     15,     15,2,20070304,1927,-43.5088,  95.0047, 3169,   1102.0,   3.7809,  34.3255,2,  34.3264,2,    210.0,2,    210.3,2,    36.57,2,    31.43,2,     0.00,2,     2.17,2, -999.000,9, -999.000,9, -999.000,9,   2202.0,2,   2295.7,2,   -999.0,9,  -999.00,9, -999.000,9, -999.000,-999.0000,9,-999.0000,  -999.00,9,  -999.00, -999.000,9, -999.000,   -999.0,9,   -999.0,  -999.00,9,-999.0000,9,-999.0000,9,-999.0000,9,-999.0000,9,-999.0000,9,-999.0000,9
  33RR20070204,  I08S,    58,  1,     14,     14,2,20070304,1927,-43.5088,  95.0047, 3169,   1203.2,   3.4985,  34.3763,2,  34.3772,2,    195.6,2,    194.8,2,    44.94,2,    32.60,2,     0.00,2,     2.27,2, -999.000,9, -999.000,9, -999.000,9,   -999.0,9,   -999.0,9,   -999.0,9,  -999.00,9, -999.000,9, -999.000,-999.0000,9,-999.0000,  -999.00,9,  -999.00, -999.000,9, -999.000,   -999.0,9,   -999.0,  -999.00,9,-999.0000,9,-999.0000,9,-999.0000,9,-999.0000,9,-999.0000,9,-999.0000,9
  33RR20070204,  I08S,    58,  1,     13,     13,2,20070304,1927,-43.5088,  95.0047, 3169,   1304.5,   3.2638,  34.4255,2,  34.4267,2,    187.0,2,    187.3,2,    52.28,2,    33.28,2,     0.00,2,     2.32,2, -999.000,9, -999.000,9, -999.000,9,   -999.0,9,   -999.0,9,   -999.0,9,  -999.00,9, -999.000,9, -999.000,-999.0000,9,-999.0000,  -999.00,9,  -999.00, -999.000,9, -999.000,   -999.0,9,   -999.0,  -999.00,9,-999.0000,9,-999.0000,9,-999.0000,9,-999.0000,9,-999.0000,9,-999.0000,9
  33RR20070204,  I08S,    58,  1,     12,     12,2,20070304,1927,-43.5088,  95.0047, 3169,   1405.5,   3.0998,  34.4722,2,  34.4730,2,    179.5,2,    180.0,2,    57.94,2,    33.72,2,     0.00,2,     2.35,2, -999.000,9, -999.000,9, -999.000,9,   -999.0,9,   -999.0,9,   -999.0,9,  -999.00,9, -999.000,9, -999.000,-999.0000,9,-999.0000,  -999.00,9,  -999.00, -999.000,9, -999.000,   -999.0,9,   -999.0,  -999.00,9,-999.0000,9,-999.0000,9,-999.0000,9,-999.0000,9,-999.0000,9,-999.0000,9
  33RR20070204,  I08S,    58,  1,     11,     11,2,20070304,1927,-43.5088,  95.0047, 3169,   1506.9,   2.9437,  34.5183,2,  34.5189,2,    176.2,2,    175.8,2,    62.97,2,    33.71,2,     0.00,2,     2.34,2, -999.000,9, -999.000,9, -999.000,9,   -999.0,9,   -999.0,9,   -999.0,9,  -999.00,9, -999.000,9, -999.000,-999.0000,9,-999.0000,  -999.00,9,  -999.00, -999.000,9, -999.000,   -999.0,9,   -999.0,  -999.00,9,-999.0000,9,-999.0000,9,-999.0000,9,-999.0000,9,-999.0000,9,-999.0000,9
  33RR20070204,  I08S,    58,  1,     10,     10,2,20070304,1927,-43.5088,  95.0047, 3169,   1607.7,   2.8015,  34.5634,2,  34.5639,2,    174.8,2,    174.7,2,    66.53,2,    33.46,2,     0.00,2,     2.34,2, -999.000,9, -999.000,9, -999.000,9,   2244.6,2,   2326.3,2,   -999.0,9,  -999.00,9, -999.000,9, -999.000,-999.0000,9,-999.0000,  -999.00,9,  -999.00, -999.000,9, -999.000,   -132.7,6,      1.5,     0.59,6,-999.0000,9,-999.0000,9,-999.0000,9,-999.0000,9,-999.0000,9,-999.0000,9
  33RR20070204,  I08S,    58,  1,      9,      9,2,20070304,1927,-43.5088,  95.0047, 3169,   1708.6,   2.7013,  34.6023,2,  34.6024,2,    175.3,2,    175.4,2,    69.23,2,    33.01,2,     0.00,2,     2.30,2, -999.000,9, -999.000,9, -999.000,9,   -999.0,9,   -999.0,9,   -999.0,9,  -999.00,9, -999.000,9, -999.000,-999.0000,9,-999.0000,  -999.00,9,  -999.00, -999.000,9, -999.000,   -999.0,9,   -999.0,  -999.00,9,-999.0000,9,-999.0000,9,-999.0000,9,-999.0000,9,-999.0000,9,-999.0000,9
  33RR20070204,  I08S,    58,  1,      8,      8,2,20070304,1927,-43.5088,  95.0047, 3169,   1810.0,   2.6163,  34.6424,2,  34.6427,2,    177.5,2,    177.8,2,    70.46,2,    32.42,2,     0.00,2,     2.25,2, -999.000,9, -999.000,9, -999.000,9,   -999.0,9,   -999.0,9,   -999.0,9,  -999.00,9, -999.000,9, -999.000,-999.0000,9,-999.0000,  -999.00,9,  -999.00, -999.000,9, -999.000,   -999.0,9,   -999.0,  -999.00,9,-999.0000,9,-999.0000,9,-999.0000,9,-999.0000,9,-999.0000,9,-999.0000,9
  33RR20070204,  I08S,    58,  1,      7,      7,2,20070304,1927,-43.5088,  95.0047, 3169,   1911.2,   2.5477,  34.6731,2,  34.6742,2,    180.5,2,    180.7,2,    71.90,2,    31.83,2,     0.00,2,     2.21,2, -999.000,9, -999.000,9, -999.000,9,   2244.5,2,   2333.6,2,   -999.0,9,  -999.00,9, -999.000,9, -999.000,-999.0000,9,-999.0000,  -999.00,9,  -999.00, -999.000,9, -999.000,   -999.0,9,   -999.0,  -999.00,9,-999.0000,9,-999.0000,9,-999.0000,9,-999.0000,9,-999.0000,9,-999.0000,9
  33RR20070204,  I08S,    58,  1,      6,      6,2,20070304,1927,-43.5088,  95.0047, 3169,   2012.7,   2.4823,  34.6979,2,  34.6985,2,    183.9,2,    184.1,2,    73.13,2,    31.28,2,     0.00,2,     2.17,2, -999.000,9, -999.000,9, -999.000,9,   -999.0,9,   -999.0,9,   -999.0,9,  -999.00,9, -999.000,9, -999.000,-999.0000,9,-999.0000,  -999.00,9,  -999.00, -999.000,9, -999.000,   -999.0,9,   -999.0,  -999.00,9,-999.0000,9,-999.0000,9,-999.0000,9,-999.0000,9,-999.0000,9,-999.0000,9
  33RR20070204,  I08S,    58,  1,      5,      5,2,20070304,1927,-43.5088,  95.0047, 3169,   2265.2,   2.2718,  34.7409,2,  34.7422,2,    191.9,2,    192.2,2,    77.33,2,    30.16,2,     0.00,2,     2.09,2, -999.000,9, -999.000,9, -999.000,9,   -999.0,9,   -999.0,9,   -999.0,9,  -999.00,9, -999.000,9, -999.000,-999.0000,9,-999.0000,  -999.00,9,  -999.00, -999.000,9, -999.000,   -999.0,9,   -999.0,  -999.00,9,-999.0000,9,-999.0000,9,-999.0000,9,-999.0000,9,-999.0000,9,-999.0000,9
  33RR20070204,  I08S,    58,  1,      4,      4,2,20070304,1927,-43.5088,  95.0047, 3169,   2519.1,   2.0406,  34.7508,2,  34.7522,2,    195.8,2,    195.9,2,    84.93,2,    30.05,2,     0.00,2,     2.08,2, -999.000,9, -999.000,9, -999.000,9,   2245.5,2,   2346.4,2,   -999.0,9,  -999.00,9, -999.000,9, -999.000,-999.0000,9,-999.0000,  -999.00,9,  -999.00, -999.000,9, -999.000,   -999.0,9,   -999.0,  -999.00,9,-999.0000,9,-999.0000,9,-999.0000,9,-999.0000,9,-999.0000,9,-999.0000,9
  33RR20070204,  I08S,    58,  1,      3,      3,2,20070304,1927,-43.5088,  95.0047, 3169,   2772.2,   1.7183,  34.7447,2,  34.7459,2,    199.0,2,    198.8,2,    95.96,2,    30.54,2,     0.00,2,     2.12,2, -999.000,9, -999.000,9, -999.000,9,   -999.0,9,   -999.0,9,   -999.0,9,  -999.00,9, -999.000,9, -999.000,-999.0000,9,-999.0000,  -999.00,9,  -999.00, -999.000,9, -999.000,   -999.0,9,   -999.0,  -999.00,9,-999.0000,9,-999.0000,9,-999.0000,9,-999.0000,9,-999.0000,9,-999.0000,9
  33RR20070204,  I08S,    58,  1,      2,      2,2,20070304,1927,-43.5088,  95.0047, 3169,   3025.8,   1.6090,  34.7413,2,  34.7424,2,    200.5,2,    200.2,2,   100.19,2,    30.73,2,     0.00,2,     2.12,2, -999.000,9, -999.000,9, -999.000,9,   2252.5,2,   2355.4,2,   -999.0,9,  -999.00,9, -999.000,9, -999.000,-999.0000,9,-999.0000,  -999.00,9,  -999.00, -999.000,9, -999.000,   -999.0,9,   -999.0,  -999.00,9,-999.0000,9,-999.0000,9,-999.0000,9,-999.0000,9,-999.0000,9,-999.0000,9
  33RR20070204,  I08S,    58,  1,      1,      1,2,20070304,1927,-43.5088,  95.0047, 3169,   3224.4,   1.5809,  34.7397,2,  34.7412,2,    200.6,2,    200.7,2,   101.00,2,    30.72,2,     0.00,2,     2.13,2, -999.000,9, -999.000,9, -999.000,9,   2256.0,6,   2353.3,2,   -999.0,9,  -999.00,9, -999.000,9, -999.000,-999.0000,9,-999.0000,  -999.00,9,  -999.00, -999.000,9, -999.000,   -999.0,9,   -999.0,  -999.00,9,-999.0000,9,-999.0000,9,-999.0000,9,-999.0000,9,-999.0000,9,-999.0000,9