BOTTLE,20150626SIOCCHRJL
EXPOCODE,SECT_ID,STNNBR,CASTNO,SAMPNO,BTLNBR,BTLNBR_FLAG_W,DATE,TIME,LATITUDE,LONGITUDE,DEPTH,CTDPRS,CTDTMP,CTDSAL,CTDSAL_FLAG_W,SALNTY,SALNTY_FLAG_W,CTDOXY,CTDOXY_FLAG_W,OXYGEN,OXYGEN_FLAG_W,SILCAT,SILCAT_FLAG_W,NITRAT,NITRAT_FLAG_W,NITRIT,NITRIT_FLAG_W,PHSPHT,PHSPHT_FLAG_W,CFC-11,CFC-11_FLAG_W,CFC-12,CFC-12_FLAG_W,CFC113,CFC113_FLAG_W,TCARBN,TCARBN_FLAG_W,ALKALI,ALKALI_FLAG_W,DOC,DOC_FLAG_W,TDN,TDN_FLAG_W,TRITUM,TRITUM_FLAG_W,TRITER,HELIUM,HELIUM_FLAG_W,HELIER,DELHE3,DELHE3_FLAG_W,DELHER,NEON,NEON_FLAG_W,NEONER,DELC14,DELC14_FLAG_W,C14ERR,DELC13,DELC13_FLAG_W,CDOM325,CDOM325_FLAG_W,CDOM340,CDOM340_FLAG_W,CDOM380,CDOM380_FLAG_W,CDOM412,CDOM412_FLAG_W,CDOMSL,CDOMSL_FLAG_W,CDOMSN,CDOMSN_FLAG_W
,,,,,,,,,,,METERS,DBAR,ITS-90,PSS-78,,PSS-78,,UMOL/KG,,UMOL/KG,,UMOL/KG,,UMOL/KG,,UMOL/KG,,UMOL/KG,,PMOL/KG,,PMOL/KG,,PMOL/KG,,UMOL/KG,,UMOL/KG,,UMOL/KG,,UMOL/KG,,TU,,TU,NMOL/KG,,NMOL/KG,PERCNT,,PERCNT,NMOL/KG,,NMOL/KG,/MILLE,,/MILLE,/MILLE,,1/M,,1/M,,1/M,,1/M,,1/NM,,1/NM,
  33RR20070204,  I08S,    24,  1,     33,     33,2,20070221,0855,-57.6123,  82.3813, 3031,      4.2,   1.3590,  33.8746,2,  33.8754,2,    333.5,2,    333.7,2,    34.76,2,    24.71,2,     0.19,2,     1.67,2,    5.771,2,    3.084,2, -999.000,5,   2154.2,2,   2277.8,4,   -999.0,9,  -999.00,9,    0.098,2,    0.005,   1.8468,2,   0.0005,    -1.24,2,     0.17,    8.237,2,    0.009,   -999.0,9,   -999.0,  -999.00,9,-999.0000,9,-999.0000,9,-999.0000,9,-999.0000,9,-999.0000,9,-999.0000,9
  33RR20070204,  I08S,    24,  1,     32,     32,2,20070221,0855,-57.6123,  82.3813, 3031,     20.4,   1.3584,  33.8743,2,  33.8750,2,    334.0,2,    333.6,2,    35.10,2,    24.60,2,     0.19,2,     1.68,2,    5.809,2,    3.115,2, -999.000,5,   2156.0,2,   2292.6,2,   -999.0,9,  -999.00,9,    0.079,2,    0.004,   1.8487,2,   0.0005,    -1.48,2,     0.16,    8.253,2,    0.009,   -999.0,9,   -999.0,  -999.00,9,-999.0000,9,-999.0000,9,-999.0000,9,-999.0000,9,-999.0000,9,-999.0000,9
  33RR20070204,  I08S,    24,  1,     31,     31,2,20070221,0855,-57.6123,  82.3813, 3031,     45.2,   1.1040,  33.9503,2,  33.9457,2,    328.9,2,    329.6,2,    37.97,2,    25.90,2,     0.20,2,     1.80,2,    5.808,2,    3.080,2, -999.000,5,   2166.1,2,   2297.1,2,   -999.0,9,  -999.00,9,    0.242,2,    0.007,   1.8607,2,   0.0004,    -1.03,2,     0.16,    8.317,2,    0.011,   -999.0,9,   -999.0,  -999.00,9,-999.0000,9,-999.0000,9,-999.0000,9,-999.0000,9,-999.0000,9,-999.0000,9
  33RR20070204,  I08S,    24,  1,     30,     30,2,20070221,0855,-57.6123,  82.3813, 3031,     90.5,   0.1232,  34.2227,2,  34.2273,2,    278.1,2,    278.0,2,    61.60,2,    31.51,2,     0.21,2,     2.25,2,    4.439,2,    2.343,2, -999.000,5,   2213.3,2,   2309.2,2,   -999.0,9,  -999.00,9,    0.160,2,    0.005,   1.8715,2,   0.0005,     1.82,2,     0.17,    8.329,2,    0.009,   -999.0,9,   -999.0,  -999.00,9,-999.0000,9,-999.0000,9,-999.0000,9,-999.0000,9,-999.0000,9,-999.0000,9
  33RR20070204,  I08S,    24,  1,     29,     29,2,20070221,0855,-57.6123,  82.3813, 3031,    115.5,   0.4522,  34.3531,2,  34.3481,2,    246.2,2,    245.2,2,    68.52,2,    32.88,2,     0.17,2,     2.32,2,    3.303,2,    1.741,2, -999.000,5,   2229.8,2,   2316.0,2,   -999.0,9,  -999.00,9,    0.087,2,    0.004,   1.8858,2,   0.0006,     4.34,2,     0.17,    8.393,2,    0.010,   -999.0,9,   -999.0,  -999.00,9,-999.0000,9,-999.0000,9,-999.0000,9,-999.0000,9,-999.0000,9,-999.0000,9
  33RR20070204,  I08S,    24,  1,     28,     28,2,20070221,0855,-57.6123,  82.3813, 3031,    140.9,   1.6494,  34.5312,2,  34.5334,2,    199.7,2,    188.8,2,    75.66,2,    34.22,2,     0.04,2,     2.38,2,    1.308,2,    0.696,2, -999.000,5,   2249.5,2,   2326.3,2,   -999.0,9,  -999.00,9,    0.011,2,    0.003,   1.8572,2,   0.0004,     7.50,2,     0.17,    8.208,2,    0.010,   -999.0,9,   -999.0,  -999.00,9,-999.0000,9,-999.0000,9,-999.0000,9,-999.0000,9,-999.0000,9,-999.0000,9
  33RR20070204,  I08S,    24,  1,     27,     27,2,20070221,0855,-57.6123,  82.3813, 3031,    191.3,   1.8963,  34.6323,2,  34.6330,2,    177.8,2,    178.0,2,    79.82,2,    33.44,2,     0.02,2,     2.32,2,    0.647,2,    0.346,2, -999.000,5,   2254.8,6,   2335.4,2,   -999.0,9,  -999.00,9,    0.001,2,    0.003,   1.8675,2,   0.0004,     8.73,2,     0.17,    8.143,2,    0.010,   -999.0,9,   -999.0,  -999.00,9,-999.0000,9,-999.0000,9,-999.0000,9,-999.0000,9,-999.0000,9,-999.0000,9
  33RR20070204,  I08S,    24,  1,     26,     26,2,20070221,0855,-57.6123,  82.3813, 3031,    241.3,   1.9745,  34.6623,2,  34.6632,2,    181.0,2,    180.5,2,    79.96,2,    32.73,2,     0.02,2,     2.27,2,    0.494,2,    0.263,2, -999.000,5,   -999.0,9,   -999.0,9,   -999.0,9,  -999.00,9,    0.078,2,    0.004,   1.8656,2,   0.0004,     8.55,2,     0.17,    8.117,2,    0.011,   -999.0,9,   -999.0,  -999.00,9,-999.0000,9,-999.0000,9,-999.0000,9,-999.0000,9,-999.0000,9,-999.0000,9
  33RR20070204,  I08S,    24,  1,     25,     25,2,20070221,0855,-57.6123,  82.3813, 3031,    291.9,   1.9374,  34.6868,2,  34.6872,2,    182.0,2,    182.7,2,    81.37,2,    32.31,2,     0.01,2,     2.24,2,    0.426,2,    0.226,2, -999.000,5,   2250.6,2,   2339.5,2,   -999.0,9,  -999.00,9,    0.052,2,    0.004,   1.8604,2,   0.0004,     9.11,2,     0.18,    8.109,2,    0.012,   -999.0,9,   -999.0,  -999.00,9,-999.0000,9,-999.0000,9,-999.0000,9,-999.0000,9,-999.0000,9,-999.0000,9
  33RR20070204,  I08S,    24,  1,     24,     24,2,20070221,0855,-57.6123,  82.3813, 3031,    342.0,   1.9667,  34.7057,2,  34.7051,2,    184.3,2,    185.0,2,    80.22,2,    31.76,2,     0.01,2,     2.20,2,    0.342,2,    0.178,2, -999.000,5,   -999.0,9,   -999.0,9,   -999.0,9,  -999.00,9,    0.001,2,    0.004,   1.8762,2,   0.0004,     9.20,2,     0.17,    8.072,2,    0.013,   -999.0,9,   -999.0,  -999.00,9,-999.0000,9,-999.0000,9,-999.0000,9,-999.0000,9,-999.0000,9,-999.0000,9
  33RR20070204,  I08S,    24,  1,     23,     23,2,20070221,0855,-57.6123,  82.3813, 3031,    392.6,   1.9101,  34.7144,2,  34.7157,2,    187.0,2,    186.9,2,    82.70,2,    31.52,2,     0.01,2,     2.19,2,    0.319,2,    0.164,2, -999.000,5,   -999.0,9,   -999.0,9,   -999.0,9,  -999.00,9,    0.043,2,    0.004,   1.8865,2,   0.0004,     9.08,2,     0.17,    8.191,2,    0.012,   -999.0,9,   -999.0,  -999.00,9,-999.0000,9,-999.0000,9,-999.0000,9,-999.0000,9,-999.0000,9,-999.0000,9
  33RR20070204,  I08S,    24,  1,     22,     22,2,20070221,0855,-57.6123,  82.3813, 3031,    443.1,   1.8768,  34.7257,2,  34.7261,2,    188.9,2,    188.7,2,    83.68,2,    31.16,2,     0.01,2,     2.16,2,    0.283,2,    0.141,2, -999.000,5,   -999.0,9,   -999.0,9,   -999.0,9,  -999.00,9,    0.057,2,    0.003,   1.8621,2,   0.0004,     9.10,2,     0.17,    8.077,2,    0.014,   -999.0,9,   -999.0,  -999.00,9,-999.0000,9,-999.0000,9,-999.0000,9,-999.0000,9,-999.0000,9,-999.0000,9
  33RR20070204,  I08S,    24,  1,     21,     21,2,20070221,0855,-57.6123,  82.3813, 3031,    493.1,   1.8494,  34.7298,2,  34.7302,2,    191.3,2,    190.1,2,    84.45,2,    31.10,2,     0.01,2,     2.16,2,    0.272,2,    0.135,2, -999.000,5,   -999.0,9,   -999.0,9,   -999.0,9,  -999.00,9,    0.131,2,    0.005,   1.8688,2,   0.0004,     9.21,2,     0.17,    8.179,2,    0.011,   -999.0,9,   -999.0,  -999.00,9,-999.0000,9,-999.0000,9,-999.0000,9,-999.0000,9,-999.0000,9,-999.0000,9
  33RR20070204,  I08S,    24,  1,     20,     20,2,20070221,0855,-57.6123,  82.3813, 3031,    579.4,   1.7921,  34.7399,2,  34.7406,2,    194.6,2,    194.1,2,    85.44,2,    30.74,2,     0.01,2,     2.12,2,    0.224,2,    0.110,2, -999.000,5,   -999.0,9,   -999.0,9,   -999.0,9,  -999.00,9,    0.001,2,    0.005,   1.9006,2,   0.0004,     8.98,2,     0.17,    8.300,2,    0.010,   -999.0,9,   -999.0,  -999.00,9,-999.0000,9,-999.0000,9,-999.0000,9,-999.0000,9,-999.0000,9,-999.0000,9
  33RR20070204,  I08S,    24,  1,     19,     19,2,20070221,0855,-57.6123,  82.3813, 3031,    679.4,   1.6844,  34.7404,2,  34.7406,2,    196.8,2,    195.6,2,    87.70,2,    30.80,2,     0.01,2,     2.13,2,    0.242,2,    0.119,2, -999.000,5,   -999.0,9,   -999.0,9,   -999.0,9,  -999.00,9,    0.001,2,    0.004,   1.8682,2,   0.0004,     9.02,2,     0.17,    8.171,2,    0.010,   -999.0,9,   -999.0,  -999.00,9,-999.0000,9,-999.0000,9,-999.0000,9,-999.0000,9,-999.0000,9,-999.0000,9
  33RR20070204,  I08S,    24,  1,     18,     18,2,20070221,0855,-57.6123,  82.3813, 3031,    780.5,   1.5851,  34.7418,2,  34.7428,2,    198.4,2,    197.8,2,    90.61,2,    30.62,2,     0.01,2,     2.13,2,    0.224,2,    0.108,2, -999.000,5,   2246.8,2,   2348.9,2,   -999.0,9,  -999.00,9,    0.001,2,    0.003,   1.8651,2,   0.0004,     8.92,2,     0.16,    8.196,2,    0.009,   -999.0,9,   -999.0,  -999.00,9,-999.0000,9,-999.0000,9,-999.0000,9,-999.0000,9,-999.0000,9,-999.0000,9
  33RR20070204,  I08S,    24,  1,     17,     17,2,20070221,0855,-57.6123,  82.3813, 3031,    881.3,   1.4627,  34.7384,2,  34.7400,2,    200.9,2,    199.9,2,    93.32,2,    30.81,2,     0.00,2,     2.13,2,    0.232,2,    0.112,2, -999.000,5,   2247.3,2,   2349.6,2,   -999.0,9,  -999.00,9,    0.001,2,    0.004,-999.0000,9,-999.0000,  -999.00,9,  -999.00, -999.000,9, -999.000,   -999.0,9,   -999.0,  -999.00,9,-999.0000,9,-999.0000,9,-999.0000,9,-999.0000,9,-999.0000,9,-999.0000,9
  33RR20070204,  I08S,    24,  1,     16,     16,2,20070221,0855,-57.6123,  82.3813, 3031,    982.2,   1.3300,  34.7328,2,  34.7337,2,    201.9,2,    201.4,2,    96.23,2,    31.00,2,     0.00,2,     2.14,2,    0.265,2,    0.129,2, -999.000,5,   -999.0,9,   -999.0,9,   -999.0,9,  -999.00,9,    0.001,2,    0.004,   1.8756,2,   0.0004,     9.29,2,     0.17,    8.214,2,    0.012,   -999.0,9,   -999.0,  -999.00,9,-999.0000,9,-999.0000,9,-999.0000,9,-999.0000,9,-999.0000,9,-999.0000,9
  33RR20070204,  I08S,    24,  1,     15,     15,2,20070221,0855,-57.6123,  82.3813, 3031,   1083.1,   1.2546,  34.7322,2,  34.7423,0,    202.5,2,    203.5,2,    99.15,2,    31.00,2,     0.00,2,     2.15,2,    0.223,2,    0.108,2, -999.000,5,   -999.0,9,   -999.0,9,   -999.0,9,  -999.00,9,    0.001,2,    0.004,   1.8804,2,   0.0010,     9.87,2,     0.25,    8.264,2,    0.007,   -999.0,9,   -999.0,  -999.00,9,-999.0000,9,-999.0000,9,-999.0000,9,-999.0000,9,-999.0000,9,-999.0000,9
  33RR20070204,  I08S,    24,  1,     14,     14,2,20070221,0855,-57.6123,  82.3813, 3031,   1184.1,   1.1638,  34.7276,2,  34.7289,2,    203.3,2,    203.4,2,   101.64,2,    31.05,2,     0.00,2,     2.16,2,    0.231,2,    0.111,2, -999.000,5,   -999.0,9,   -999.0,9,   -999.0,9,  -999.00,9,    0.001,2,    0.005,   1.8843,2,   0.0004,     8.65,2,     0.17,    8.179,2,    0.012,   -999.0,9,   -999.0,  -999.00,9,-999.0000,9,-999.0000,9,-999.0000,9,-999.0000,9,-999.0000,9,-999.0000,9
  33RR20070204,  I08S,    24,  1,     13,     13,2,20070221,0855,-57.6123,  82.3813, 3031,   1284.2,   1.0378,  34.7203,2,  34.7232,2,    203.8,2,    204.4,2,   104.56,2,    31.48,2,     0.00,2,     2.18,2,    0.259,2,    0.124,2, -999.000,5,   -999.0,9,   -999.0,9,   -999.0,9,  -999.00,9,    0.001,2,    0.004,   1.8678,2,   0.0009,     9.51,2,     0.25,    8.202,2,    0.007,   -999.0,9,   -999.0,  -999.00,9,-999.0000,9,-999.0000,9,-999.0000,9,-999.0000,9,-999.0000,9,-999.0000,9
  33RR20070204,  I08S,    24,  1,     12,     12,2,20070221,0855,-57.6123,  82.3813, 3031,   1385.2,   0.9509,  34.7154,2,  34.7161,2,    204.5,2,    205.6,2,   106.85,2,    31.60,2,     0.00,2,     2.19,2,    0.272,2,    0.134,2, -999.000,5,   -999.0,9,   -999.0,9,   -999.0,9,  -999.00,9,    0.001,2,    0.004,   1.9324,2,   0.0011,     8.67,2,     0.25,    8.390,2,    0.008,   -999.0,9,   -999.0,  -999.00,9,-999.0000,9,-999.0000,9,-999.0000,9,-999.0000,9,-999.0000,9,-999.0000,9
  33RR20070204,  I08S,    24,  1,     11,     11,2,20070221,0855,-57.6123,  82.3813, 3031,   1486.1,   0.8594,  34.7105,2,  34.7116,2,    205.6,2,    206.1,2,   109.34,2,    31.85,2,     0.00,2,     2.21,2, -999.000,9, -999.000,9, -999.000,9,   -999.0,9,   -999.0,9,   -999.0,9,  -999.00,9, -999.000,9, -999.000,-999.0000,9,-999.0000,  -999.00,9,  -999.00, -999.000,9, -999.000,   -999.0,9,   -999.0,  -999.00,9,-999.0000,9,-999.0000,9,-999.0000,9,-999.0000,9,-999.0000,9,-999.0000,9
  33RR20070204,  I08S,    24,  1,     10,     10,2,20070221,0855,-57.6123,  82.3813, 3031,   1587.4,   0.7970,  34.7075,2,  34.7080,2,    205.7,2,    207.1,2,   111.84,2,    31.91,2,     0.00,2,     2.21,2,    0.260,2,    0.126,2, -999.000,5,   2255.1,2,   2355.0,2,   -999.0,9,  -999.00,9,    0.001,2,    0.004,   1.8745,2,   0.0004,     8.34,2,     0.17,    8.191,2,    0.012,   -999.0,9,   -999.0,  -999.00,9,-999.0000,9,-999.0000,9,-999.0000,9,-999.0000,9,-999.0000,9,-999.0000,9
  33RR20070204,  I08S,    24,  1,      9,      9,2,20070221,0855,-57.6123,  82.3813, 3031,   1687.6,   0.7520,  34.7059,2,  34.7133,0,    206.6,2,    207.7,2,   114.12,2,    31.91,2,     0.00,2,     2.22,2,    0.250,2,    0.122,2, -999.000,5,   -999.0,9,   -999.0,9,   -999.0,9,  -999.00,9,    0.001,2,    0.004,   1.8841,2,   0.0015,     8.83,2,     0.27,    8.349,2,    0.008,   -999.0,9,   -999.0,  -999.00,9,-999.0000,9,-999.0000,9,-999.0000,9,-999.0000,9,-999.0000,9,-999.0000,9
  33RR20070204,  I08S,    24,  1,      8,      8,2,20070221,0855,-57.6123,  82.3813, 3031,   1789.0,   0.6786,  34.7026,2,  34.7033,2,   -999.0,9,   -999.0,9,   116.41,2,    32.16,2,     0.00,2,     2.22,2,    0.248,2,    0.120,2, -999.000,5,   -999.0,9,   -999.0,9,   -999.0,9,  -999.00,9,    0.001,2,    0.004,   1.9408,2,   0.0011,     8.35,2,     0.21,    8.300,2,    0.013,   -999.0,9,   -999.0,  -999.00,9,-999.0000,9,-999.0000,9,-999.0000,9,-999.0000,9,-999.0000,9,-999.0000,9
  33RR20070204,  I08S,    24,  1,      7,      7,2,20070221,0855,-57.6123,  82.3813, 3031,   1889.9,   0.6121,  34.6994,2,  34.6995,2,    209.7,2,    210.4,2,   118.49,2,    32.22,2,     0.00,2,     2.23,2,    0.257,2,    0.124,2, -999.000,5,   -999.0,9,   -999.0,9,   -999.0,9,  -999.00,9,    0.001,2,    0.004,-999.0000,9,-999.0000,  -999.00,9,  -999.00, -999.000,9, -999.000,   -999.0,9,   -999.0,  -999.00,9,-999.0000,9,-999.0000,9,-999.0000,9,-999.0000,9,-999.0000,9,-999.0000,9
  33RR20070204,  I08S,    24,  1,      6,      6,2,20070221,0855,-57.6123,  82.3813, 3031,   1990.4,   0.5492,  34.6961,2,  34.6970,2,    210.9,2,    211.3,2,   119.92,2,    32.28,2,     0.00,2,     2.23,2,    0.271,2,    0.131,2, -999.000,5,   -999.0,9,   -999.0,9,   -999.0,9,  -999.00,9,    0.008,2,    0.004,   1.9167,2,   0.0010,     7.85,2,     0.20,    8.336,2,    0.015,   -999.0,9,   -999.0,  -999.00,9,-999.0000,9,-999.0000,9,-999.0000,9,-999.0000,9,-999.0000,9,-999.0000,9
  33RR20070204,  I08S,    24,  1,      5,      5,2,20070221,0855,-57.6123,  82.3813, 3031,   2191.2,   0.4103,  34.6871,2,  34.6873,2,    212.3,2,    213.4,2,   122.21,2,    32.58,2,     0.00,2,     2.26,2,    0.268,2,    0.132,2, -999.000,5,   -999.0,9,   -999.0,9,   -999.0,9,  -999.00,9,    0.008,2,    0.004,   1.9363,2,   0.0005,     7.83,2,     0.18,    8.410,2,    0.010,   -999.0,9,   -999.0,  -999.00,9,-999.0000,9,-999.0000,9,-999.0000,9,-999.0000,9,-999.0000,9,-999.0000,9
  33RR20070204,  I08S,    24,  1,      4,      4,2,20070221,0855,-57.6123,  82.3813, 3031,   2445.2,   0.2994,  34.6818,2,  34.6818,2,    216.6,2,    216.0,2,   124.51,2,    32.65,2,     0.00,2,     2.26,2,    0.313,2,    0.160,2, -999.000,5,   -999.0,9,   -999.0,9,   -999.0,9,  -999.00,9,    0.001,2,    0.004,   1.8777,2,   0.0006,     7.65,2,     0.18,    8.206,2,    0.011,   -999.0,9,   -999.0,  -999.00,9,-999.0000,9,-999.0000,9,-999.0000,9,-999.0000,9,-999.0000,9,-999.0000,9
  33RR20070204,  I08S,    24,  1,      3,      3,2,20070221,0855,-57.6123,  82.3813, 3031,   2700.7,   0.1928,  34.6771,2,  34.6773,2,    220.9,2,    219.9,2,   127.45,2,    32.65,2,     0.00,2,     2.27,2,    0.340,2,    0.173,2, -999.000,5,   -999.0,9,   -999.0,9,   -999.0,9,  -999.00,9,    0.001,2,    0.004,   1.9068,2,   0.0006,     7.32,2,     0.19,    8.371,2,    0.011,   -999.0,9,   -999.0,  -999.00,9,-999.0000,9,-999.0000,9,-999.0000,9,-999.0000,9,-999.0000,9,-999.0000,9
  33RR20070204,  I08S,    24,  1,      2,      2,2,20070221,0855,-57.6123,  82.3813, 3031,   2955.8,   0.1213,  34.6744,2,  34.6753,2,    225.7,2,    223.5,2,   126.50,2,    32.59,2,     0.00,2,     2.26,2,    0.488,2,    0.254,2, -999.000,5,   2256.2,2,   2354.3,2,   -999.0,9,  -999.00,9,    0.001,2,    0.004,   1.9161,2,   0.0010,     7.04,2,     0.19,    8.424,2,    0.012,   -999.0,9,   -999.0,  -999.00,9,-999.0000,9,-999.0000,9,-999.0000,9,-999.0000,9,-999.0000,9,-999.0000,9
  33RR20070204,  I08S,    24,  1,      1,      1,2,20070221,0855,-57.6123,  82.3813, 3031,   3061.4,   0.1141,  34.6739,2,  34.6739,2,    225.9,2,    224.4,2,   127.29,2,    32.82,2,     0.00,2,     2.26,2,    0.513,2,    0.268,2, -999.000,5,   2256.6,6,   2354.4,2,   -999.0,9,  -999.00,9,    0.001,2,    0.005,   1.9160,2,   0.0005,     6.80,2,     0.18,    8.487,2,    0.014,   -999.0,9,   -999.0,  -999.00,9,-999.0000,9,-999.0000,9,-999.0000,9,-999.0000,9,-999.0000,9,-999.0000,9