BOTTLE,20150626SIOCCHRJL
EXPOCODE,SECT_ID,STNNBR,CASTNO,SAMPNO,BTLNBR,BTLNBR_FLAG_W,DATE,TIME,LATITUDE,LONGITUDE,DEPTH,CTDPRS,CTDTMP,CTDSAL,CTDSAL_FLAG_W,SALNTY,SALNTY_FLAG_W,CTDOXY,CTDOXY_FLAG_W,OXYGEN,OXYGEN_FLAG_W,SILCAT,SILCAT_FLAG_W,NITRAT,NITRAT_FLAG_W,NITRIT,NITRIT_FLAG_W,PHSPHT,PHSPHT_FLAG_W,CFC-11,CFC-11_FLAG_W,CFC-12,CFC-12_FLAG_W,CFC113,CFC113_FLAG_W,TCARBN,TCARBN_FLAG_W,ALKALI,ALKALI_FLAG_W,DOC,DOC_FLAG_W,TDN,TDN_FLAG_W,TRITUM,TRITUM_FLAG_W,TRITER,HELIUM,HELIUM_FLAG_W,HELIER,DELHE3,DELHE3_FLAG_W,DELHER,NEON,NEON_FLAG_W,NEONER,DELC14,DELC14_FLAG_W,C14ERR,DELC13,DELC13_FLAG_W,CDOM325,CDOM325_FLAG_W,CDOM340,CDOM340_FLAG_W,CDOM380,CDOM380_FLAG_W,CDOM412,CDOM412_FLAG_W,CDOMSL,CDOMSL_FLAG_W,CDOMSN,CDOMSN_FLAG_W
,,,,,,,,,,,METERS,DBAR,ITS-90,PSS-78,,PSS-78,,UMOL/KG,,UMOL/KG,,UMOL/KG,,UMOL/KG,,UMOL/KG,,UMOL/KG,,PMOL/KG,,PMOL/KG,,PMOL/KG,,UMOL/KG,,UMOL/KG,,UMOL/KG,,UMOL/KG,,TU,,TU,NMOL/KG,,NMOL/KG,PERCNT,,PERCNT,NMOL/KG,,NMOL/KG,/MILLE,,/MILLE,/MILLE,,1/M,,1/M,,1/M,,1/M,,1/NM,,1/NM,
  33RR20070204,  I08S,    27,  1,     36,     36,2,20070222,0401,-56.8970,  83.3053, 4535,      6.2,   2.0810,  33.8901,2,  33.8897,2,    330.6,2,    330.2,2,    21.21,2,    25.79,2,     0.28,2,     1.68,2,    5.711,2,    3.067,2, -999.000,5,   2154.0,6,   2287.1,2,     49.5,2,    31.05,2, -999.000,9, -999.000,-999.0000,9,-999.0000,  -999.00,9,  -999.00, -999.000,9, -999.000,   -999.0,9,   -999.0,  -999.00,9,   0.0795,2,   0.0517,2,   0.0280,2,   0.0215,2,   0.0134,3,   0.0162,3
  33RR20070204,  I08S,    27,  1,     35,     35,2,20070222,0401,-56.8970,  83.3053, 4535,     25.1,   2.0661,  33.8908,2,  33.8914,2,    328.3,2,    329.0,2,    21.20,2,    25.79,2,     0.28,2,     1.68,2, -999.000,9, -999.000,9, -999.000,9,   2154.7,2,   2287.3,2,     48.7,2,    30.43,2, -999.000,9, -999.000,-999.0000,9,-999.0000,  -999.00,9,  -999.00, -999.000,9, -999.000,   -999.0,9,   -999.0,  -999.00,9,   0.0813,2,   0.0533,2,   0.0292,2,   0.0226,2,   0.0132,3,   0.0158,3
  33RR20070204,  I08S,    27,  1,     34,   9433,2,20070222,0401,-56.8970,  83.3053, 4535,     50.4,   1.9569,  33.9136,2,  33.9141,2,    330.1,2,    330.1,2,    22.02,2,    25.79,2,     0.26,2,     1.66,2,    5.855,2,    3.172,2, -999.000,5,   2156.1,2,   2290.6,2,     46.7,2,    30.05,2, -999.000,9, -999.000,-999.0000,9,-999.0000,  -999.00,9,  -999.00, -999.000,9, -999.000,   -999.0,9,   -999.0,  -999.00,9,   0.0863,2,   0.0574,2,   0.0311,2,   0.0242,2,   0.0131,3,   0.0154,3
  33RR20070204,  I08S,    27,  1,     33,     33,2,20070222,0401,-56.8970,  83.3053, 4535,     95.7,   1.4397,  33.9813,2,  33.9801,2,    330.9,2,    330.1,2,    35.53,2,    27.04,2,     0.28,2,     1.86,2,    5.880,2,    3.148,2, -999.000,5,   2171.1,2,   2295.5,2,     45.5,2,    31.54,2, -999.000,9, -999.000,-999.0000,9,-999.0000,  -999.00,9,  -999.00, -999.000,9, -999.000,   -999.0,9,   -999.0,  -999.00,9,   0.0894,2,   0.0594,2,   0.0336,2,   0.0258,2,   0.0131,3,   0.0150,3
  33RR20070204,  I08S,    27,  1,     32,     32,2,20070222,0401,-56.8970,  83.3053, 4535,    145.4,   0.8238,  34.2473,2,  34.2394,2,    253.3,2,    253.2,2,    59.75,2,    32.56,2,     0.14,2,     2.29,2,    3.750,2,    1.973,2, -999.000,5,   2220.3,2,   2308.5,2,     44.2,2,    36.26,2, -999.000,9, -999.000,-999.0000,9,-999.0000,  -999.00,9,  -999.00, -999.000,9, -999.000,   -999.0,9,   -999.0,  -999.00,9,   0.1066,2,   0.0721,2,   0.0403,2,   0.0308,2,   0.0137,3,   0.0151,3
  33RR20070204,  I08S,    27,  1,     31,     31,2,20070222,0401,-56.8970,  83.3053, 4535,    170.1,   1.2814,  34.3590,2,  34.3598,2,    223.8,2,    218.1,2,    66.02,2,    34.23,2,     0.12,2,     2.37,2,    2.583,2,    1.360,2, -999.000,5,   2236.1,2,   2316.0,2,     43.9,2,    37.99,2, -999.000,9, -999.000,-999.0000,9,-999.0000,  -999.00,9,  -999.00, -999.000,9, -999.000,   -999.0,9,   -999.0,  -999.00,9,   0.1144,2,   0.0786,2,   0.0435,2,   0.0331,2,   0.0139,3,   0.0151,3
  33RR20070204,  I08S,    27,  1,     30,     30,2,20070222,0401,-56.8970,  83.3053, 4535,    195.8,   1.6710,  34.4636,2,  34.4634,2,    193.9,2,    193.5,2,    69.36,2,    34.87,2,     0.04,2,     2.40,2,    1.675,2,    0.891,2, -999.000,5,   2249.3,2,   2322.1,2,     43.5,2,    38.08,2, -999.000,9, -999.000,-999.0000,9,-999.0000,  -999.00,9,  -999.00, -999.000,9, -999.000,   -999.0,9,   -999.0,  -999.00,9,   0.1196,2,   0.0817,2,   0.0453,2,   0.0343,2,   0.0140,3,   0.0152,3
  33RR20070204,  I08S,    27,  1,     29,     29,2,20070222,0401,-56.8970,  83.3053, 4535,    245.4,   2.0106,  34.5649,2,  34.5647,2,    173.8,2,    177.0,2,    76.91,2,    34.73,2,     0.02,2,     2.39,2,    0.864,2,    0.470,2, -999.000,5,   2256.6,2,   2328.7,2,     43.0,2,    37.96,2, -999.000,9, -999.000,-999.0000,9,-999.0000,  -999.00,9,  -999.00, -999.000,9, -999.000,   -999.0,9,   -999.0,  -999.00,9,   0.1238,2,   0.0853,2,   0.0474,2,   0.0356,2,   0.0140,3,   0.0151,3
  33RR20070204,  I08S,    27,  1,     28,     28,2,20070222,0401,-56.8970,  83.3053, 4535,    296.0,   1.9146,  34.5938,2,  34.5936,2,    178.3,2,    178.3,2,    79.21,2,    34.26,2,     0.02,2,     2.36,2,    0.815,2,    0.446,2, -999.000,5,   2256.4,2,   2332.8,2,     42.6,2,    37.76,2, -999.000,9, -999.000,-999.0000,9,-999.0000,  -999.00,9,  -999.00, -999.000,9, -999.000,   -999.0,9,   -999.0,  -999.00,9,   0.1204,2,   0.0825,2,   0.0446,2,   0.0328,2,   0.0143,3,   0.0157,3
  33RR20070204,  I08S,    27,  1,     27,     27,2,20070222,0401,-56.8970,  83.3053, 4535,    346.2,   1.8165,  34.6209,2,  34.6151,2,    183.3,2,    180.1,2,    81.51,2,    34.05,2,     0.02,2,     2.34,2,    0.801,2,    0.439,2, -999.000,5,   2256.4,6,   2335.6,2,     42.5,2,    37.52,2, -999.000,9, -999.000,-999.0000,9,-999.0000,  -999.00,9,  -999.00, -999.000,9, -999.000,   -999.0,9,   -999.0,  -999.00,9,   0.1244,2,   0.0859,2,   0.0473,2,   0.0357,2,   0.0141,3,   0.0137,3
  33RR20070204,  I08S,    27,  1,     26,     26,2,20070222,0401,-56.8970,  83.3053, 4535,    397.4,   2.0469,  34.6727,2,  34.6737,2,    179.9,2,    180.3,2,    80.03,2,    32.78,2,     0.01,2,     2.27,2,    0.417,2,    0.216,2, -999.000,5,   2252.3,2,   2337.5,2,     42.4,2,    36.66,2, -999.000,9, -999.000,-999.0000,9,-999.0000,  -999.00,9,  -999.00, -999.000,9, -999.000,   -999.0,9,   -999.0,  -999.00,9,   0.1212,2,   0.0834,2,   0.0451,2,   0.0331,2,   0.0144,2,   0.0157,3
  33RR20070204,  I08S,    27,  1,     25,     25,2,20070222,0401,-56.8970,  83.3053, 4535,    447.5,   2.0605,  34.6944,2,  34.6927,2,    183.8,2,    182.5,2,    80.43,2,    32.31,2,     0.01,2,     2.23,2,    0.337,2,    0.179,2, -999.000,5,   2250.3,2,   2341.0,2,     42.2,2,    36.23,2, -999.000,9, -999.000,-999.0000,9,-999.0000,  -999.00,9,  -999.00, -999.000,9, -999.000,   -999.0,9,   -999.0,  -999.00,9,   0.1228,2,   0.0851,2,   0.0473,2,   0.0346,2,   0.0142,2,   0.0152,3
  33RR20070204,  I08S,    27,  1,     24,     24,2,20070222,0401,-56.8970,  83.3053, 4535,    497.9,   1.9992,  34.7034,2,  34.7175,2,    185.0,2,    184.5,2,    81.90,2,    32.12,2,     0.01,2,     2.22,2,    0.327,2,    0.172,2, -999.000,5,   2250.4,2,   2339.2,2,     42.1,2,    35.46,2, -999.000,9, -999.000,-999.0000,9,-999.0000,  -999.00,9,  -999.00, -999.000,9, -999.000,   -999.0,9,   -999.0,  -999.00,9,   0.1225,2,   0.0847,2,   0.0463,2,   0.0338,2,   0.0143,2,   0.0155,3
  33RR20070204,  I08S,    27,  1,     23,     23,2,20070222,0401,-56.8970,  83.3053, 4535,    583.2,   1.9729,  34.7233,2,  34.7229,2,    187.6,2,    188.5,2,    82.52,2,    31.44,2,     0.01,2,     2.17,2,    0.245,2,    0.129,2, -999.000,5,   2248.8,2,   2342.0,2,     42.1,2,    34.25,2, -999.000,9, -999.000,-999.0000,9,-999.0000,  -999.00,9,  -999.00, -999.000,9, -999.000,   -999.0,9,   -999.0,  -999.00,9,   0.1225,2,   0.0844,2,   0.0456,2,   0.0332,2,   0.0144,2,   0.0158,3
  33RR20070204,  I08S,    27,  1,     22,     22,2,20070222,0401,-56.8970,  83.3053, 4535,    684.1,   1.8804,  34.7327,2,  34.7349,2,    190.1,2,    190.7,2,    84.20,2,    31.19,2,     0.00,2,     2.15,2, -999.000,9, -999.000,9, -999.000,9,   2250.1,2,   2344.4,2,     42.4,2,    33.88,2, -999.000,9, -999.000,-999.0000,9,-999.0000,  -999.00,9,  -999.00, -999.000,9, -999.000,   -999.0,9,   -999.0,  -999.00,9,   0.1185,2,   0.0815,2,   0.0435,2,   0.0311,2,   0.0148,2,   0.0162,3
  33RR20070204,  I08S,    27,  1,     21,     21,2,20070222,0401,-56.8970,  83.3053, 4535,    784.8,   1.8003,  34.7394,2,  34.7380,2,    193.5,2,    193.5,2,    86.51,2,    30.93,2,     0.00,2,     2.13,2,    0.213,2,    0.110,2, -999.000,5,   2247.7,2,   2346.4,2,     42.0,2,    33.16,2, -999.000,9, -999.000,-999.0000,9,-999.0000,  -999.00,9,  -999.00, -999.000,9, -999.000,   -999.0,9,   -999.0,  -999.00,9,   0.1208,2,   0.0834,2,   0.0446,2,   0.0325,2,   0.0145,2,   0.0159,3
  33RR20070204,  I08S,    27,  1,     20,     20,2,20070222,0401,-56.8970,  83.3053, 4535,    886.0,   1.7194,  34.7435,2,  34.7437,2,    196.5,2,    196.1,2,    88.60,2,    30.89,2,     0.00,2,     2.12,2, -999.000,9, -999.000,9, -999.000,9,   2247.9,2,   2346.7,2,     42.1,2,    33.27,2, -999.000,9, -999.000,-999.0000,9,-999.0000,  -999.00,9,  -999.00, -999.000,9, -999.000,   -999.0,9,   -999.0,  -999.00,9,   0.1177,2,   0.0807,2,   0.0435,2,   0.0313,2,   0.0147,2,   0.0160,3
  33RR20070204,  I08S,    27,  1,     19,     19,2,20070222,0401,-56.8970,  83.3053, 4535,    987.2,   1.6233,  34.7430,2,  34.7423,2,    198.3,2,    197.8,2,    90.28,2,    30.89,2,     0.00,2,     2.12,2,    0.200,2,    0.102,2, -999.000,5,   2248.9,2,   2348.0,2,     42.3,2,    33.62,2, -999.000,9, -999.000,-999.0000,9,-999.0000,  -999.00,9,  -999.00, -999.000,9, -999.000,   -999.0,9,   -999.0,  -999.00,9,   0.1199,2,   0.0826,2,   0.0450,2,   0.0330,2,   0.0143,2,   0.0156,3
  33RR20070204,  I08S,    27,  1,     18,     18,2,20070222,0401,-56.8970,  83.3053, 4535,   1088.0,   1.5306,  34.7414,2,  34.7409,2,    199.5,2,    199.2,2,    93.02,2,    30.89,2,     0.00,2,     2.12,2, -999.000,9, -999.000,9, -999.000,9,   2247.4,2,   2348.6,2,     41.5,2,    31.98,2, -999.000,9, -999.000,-999.0000,9,-999.0000,  -999.00,9,  -999.00, -999.000,9, -999.000,   -999.0,9,   -999.0,  -999.00,9,   0.1194,2,   0.0826,2,   0.0444,2,   0.0321,2,   0.0145,2,   0.0159,3
  33RR20070204,  I08S,    27,  1,     17,     17,2,20070222,0401,-56.8970,  83.3053, 4535,   1188.5,   1.4506,  34.7402,2,  34.7396,2,    201.5,2,    200.6,2,    94.91,2,    30.98,2,     0.00,2,     2.12,2,    0.200,2,    0.102,2, -999.000,5,   2248.1,2,   2348.8,2,     40.8,2,    32.82,2, -999.000,9, -999.000,-999.0000,9,-999.0000,  -999.00,9,  -999.00, -999.000,9, -999.000,   -999.0,9,   -999.0,  -999.00,9,   0.1189,2,   0.0820,2,   0.0440,2,   0.0320,2,   0.0143,2,   0.0158,3
  33RR20070204,  I08S,    27,  1,     16,     16,2,20070222,0401,-56.8970,  83.3053, 4535,   1289.8,   1.3383,  34.7352,2,  34.7341,2,    202.4,2,    201.9,2,    97.44,2,    31.09,2,     0.00,2,     2.14,2, -999.000,9, -999.000,9, -999.000,9,   2248.9,2,   2350.0,2,     41.0,2,    32.22,2, -999.000,9, -999.000,-999.0000,9,-999.0000,  -999.00,9,  -999.00, -999.000,9, -999.000,   -999.0,9,   -999.0,  -999.00,9,   0.1157,2,   0.0795,2,   0.0428,2,   0.0310,2,   0.0144,2,   0.0159,3
  33RR20070204,  I08S,    27,  1,     15,     15,2,20070222,0401,-56.8970,  83.3053, 4535,   1390.6,   1.2156,  34.7294,2,  34.7290,2,    203.9,2,    204.1,2,    97.22,2,    31.24,2,     0.00,2,     2.15,2,    0.234,2,    0.120,2, -999.000,5,   2250.4,2,   2351.9,2,     41.3,2,    32.97,2, -999.000,9, -999.000,-999.0000,9,-999.0000,  -999.00,9,  -999.00, -999.000,9, -999.000,   -999.0,9,   -999.0,  -999.00,9,   0.1192,2,   0.0830,2,   0.0457,2,   0.0336,2,   0.0140,2,   0.0152,3
  33RR20070204,  I08S,    27,  1,     14,     14,2,20070222,0401,-56.8970,  83.3053, 4535,   1492.3,   1.1170,  34.7249,2,  34.7251,2,    204.0,2,    204.4,2,   103.99,2,    31.50,2,     0.00,2,     2.16,2, -999.000,9, -999.000,9, -999.000,9,   2252.7,2,   2352.1,2,     40.2,2,    32.91,2, -999.000,9, -999.000,-999.0000,9,-999.0000,  -999.00,9,  -999.00, -999.000,9, -999.000,   -999.0,9,   -999.0,  -999.00,9,   0.1144,2,   0.0789,2,   0.0430,2,   0.0314,2,   0.0143,2,   0.0156,3
  33RR20070204,  I08S,    27,  1,     13,     13,2,20070222,0401,-56.8970,  83.3053, 4535,   1593.3,   1.0546,  34.7231,2,  34.7209,2,    205.2,2,    205.4,2,   106.94,2,    31.60,2,     0.00,2,     2.17,2,    0.199,2,    0.102,2, -999.000,5,   2254.4,2,   2353.8,2,     40.5,2,    33.54,2, -999.000,9, -999.000,-999.0000,9,-999.0000,  -999.00,9,  -999.00, -999.000,9, -999.000,   -999.0,9,   -999.0,  -999.00,9,   0.1179,2,   0.0812,2,   0.0447,2,   0.0329,2,   0.0142,2,   0.0154,3
  33RR20070204,  I08S,    27,  1,     12,     12,2,20070222,0401,-56.8970,  83.3053, 4535,   1796.0,   0.8918,  34.7139,2,  34.7124,2,    206.6,2,    207.7,2,   110.96,2,    31.96,2,     0.00,2,     2.20,2, -999.000,9, -999.000,9, -999.000,9,   2260.1,2,   2354.6,2,     41.1,2,    33.39,2, -999.000,9, -999.000,-999.0000,9,-999.0000,  -999.00,9,  -999.00, -999.000,9, -999.000,   -999.0,9,   -999.0,  -999.00,9,   0.1121,2,   0.0772,2,   0.0418,2,   0.0302,2,   0.0143,2,   0.0157,3
  33RR20070204,  I08S,    27,  1,     11,     11,2,20070222,0401,-56.8970,  83.3053, 4535,   1998.8,   0.7279,  34.7043,2,  34.7035,2,    208.3,2,    208.6,2,   115.63,2,    32.26,2,     0.00,2,     2.23,2,    0.231,2,    0.118,2, -999.000,5,   2260.2,2,   2355.3,2,     40.4,2,    33.29,2, -999.000,9, -999.000,-999.0000,9,-999.0000,  -999.00,9,  -999.00, -999.000,9, -999.000,   -999.0,9,   -999.0,  -999.00,9,   0.1155,2,   0.0801,2,   0.0446,2,   0.0332,2,   0.0138,2,   0.0150,3
  33RR20070204,  I08S,    27,  1,     10,     10,2,20070222,0401,-56.8970,  83.3053, 4535,   2201.7,   0.6109,  34.6982,2,  34.6966,2,    210.3,2,    210.4,2,   119.45,2,    32.53,2,     0.00,2,     2.24,2, -999.000,9, -999.000,9, -999.000,9,   2258.8,2,   2355.0,2,     40.4,2,    33.62,2, -999.000,9, -999.000,-999.0000,9,-999.0000,  -999.00,9,  -999.00, -999.000,9, -999.000,   -999.0,9,   -999.0,  -999.00,9,   0.1124,2,   0.0779,2,   0.0427,2,   0.0315,2,   0.0140,2,   0.0153,3
  33RR20070204,  I08S,    27,  1,      9,      9,2,20070222,0401,-56.8970,  83.3053, 4535,   2455.4,   0.4828,  34.6921,2,  34.6891,0,    212.9,2,    213.5,2,   122.20,2,    32.67,2,     0.00,2,     2.25,2,    0.277,2,    0.146,2, -999.000,5,   2259.8,2,   2356.1,2,     40.9,2,    33.92,2, -999.000,9, -999.000,-999.0000,9,-999.0000,  -999.00,9,  -999.00, -999.000,9, -999.000,   -999.0,9,   -999.0,  -999.00,9,   0.1105,2,   0.0762,2,   0.0417,2,   0.0307,2,   0.0140,2,   0.0153,3
  33RR20070204,  I08S,    27,  1,      8,      8,2,20070222,0401,-56.8970,  83.3053, 4535,   2709.9,   0.3505,  34.6861,2,  34.6866,2,    216.7,2,    217.0,2,   124.75,2,    32.78,2,     0.00,2,     2.26,2,    0.384,2,    0.201,2, -999.000,5,   2259.3,2,   2354.9,2,     41.1,2,    33.95,2, -999.000,9, -999.000,-999.0000,9,-999.0000,  -999.00,9,  -999.00, -999.000,9, -999.000,   -999.0,9,   -999.0,  -999.00,9,   0.1151,2,   0.0803,2,   0.0449,2,   0.0335,2,   0.0136,2,   0.0147,3
  33RR20070204,  I08S,    27,  1,      7,      7,2,20070222,0401,-56.8970,  83.3053, 4535,   2964.4,   0.2504,  34.6817,2,  34.6803,2,    220.7,2,    220.8,2,   126.45,2,    32.67,2,     0.00,2,     2.26,2,    0.500,2,    0.263,2, -999.000,5,   2258.8,6,   2354.9,2,     40.2,2,    33.92,2, -999.000,9, -999.000,-999.0000,9,-999.0000,  -999.00,9,  -999.00, -999.000,9, -999.000,   -999.0,9,   -999.0,  -999.00,9,   0.1132,2,   0.0789,2,   0.0434,2,   0.0324,2,   0.0139,2,   0.0151,3
  33RR20070204,  I08S,    27,  1,      6,      6,2,20070222,0401,-56.8970,  83.3053, 4535,   3219.6,   0.1688,  34.6784,2,  34.6769,2,    223.6,2,    224.0,2,   127.29,2,    32.72,2,     0.00,2,     2.25,2,    0.658,2,    0.346,2, -999.000,5,   2256.9,2,   2353.5,2,     40.6,2,    34.61,2, -999.000,9, -999.000,-999.0000,9,-999.0000,  -999.00,9,  -999.00, -999.000,9, -999.000,   -999.0,9,   -999.0,  -999.00,9,   0.1119,2,   0.0775,2,   0.0431,2,   0.0323,2,   0.0138,2,   0.0150,3
  33RR20070204,  I08S,    27,  1,      5,      5,2,20070222,0401,-56.8970,  83.3053, 4535,   3474.4,   0.1076,  34.6756,2,  34.6784,0,    226.6,2,    227.2,2,   127.92,2,    32.63,2,     0.00,2,     2.25,2,    0.775,2,    0.403,2, -999.000,5,   2256.1,2,   2353.4,2,     41.3,2,    33.81,2, -999.000,9, -999.000,-999.0000,9,-999.0000,  -999.00,9,  -999.00, -999.000,9, -999.000,   -999.0,9,   -999.0,  -999.00,9,   0.1104,2,   0.0767,2,   0.0431,2,   0.0325,2,   0.0136,2,   0.0147,3
  33RR20070204,  I08S,    27,  1,      4,      4,2,20070222,0401,-56.8970,  83.3053, 4535,   3760.5,   0.0562,  34.6729,2,  34.6715,2,    229.3,2,    228.7,2,   127.91,2,    32.58,2,     0.00,2,     2.25,2,    0.942,2,    0.493,2, -999.000,5,   2256.1,2,   2351.7,2,     40.5,2,    34.50,2, -999.000,9, -999.000,-999.0000,9,-999.0000,  -999.00,9,  -999.00, -999.000,9, -999.000,   -999.0,9,   -999.0,  -999.00,9,   0.1108,2,   0.0774,2,   0.0433,2,   0.0326,2,   0.0136,2,   0.0147,3
  33RR20070204,  I08S,    27,  1,      3,      3,2,20070222,0401,-56.8970,  83.3053, 4535,   4067.3,   0.0277,  34.6707,2,  34.6691,2,    231.9,2,    230.9,2,   128.33,2,    32.52,2,     0.00,2,     2.25,2,    1.016,2,    0.551,2, -999.000,5,   2256.7,2,   2352.8,2,     40.5,2,    33.59,2, -999.000,9, -999.000,-999.0000,9,-999.0000,  -999.00,9,  -999.00, -999.000,9, -999.000,   -999.0,9,   -999.0,  -999.00,9,   0.1090,2,   0.0759,2,   0.0425,2,   0.0318,2,   0.0138,2,   0.0148,3
  33RR20070204,  I08S,    27,  1,      2,      2,2,20070222,0401,-56.8970,  83.3053, 4535,   4374.6,  -0.0118,  34.6672,2,  34.6691,2,    234.4,2,    233.5,2,   126.63,2,    32.52,2,     0.00,2,     2.24,2,    1.208,2,    0.648,2, -999.000,5,   2255.8,2,   2351.0,2,     40.7,2,    34.22,2, -999.000,9, -999.000,-999.0000,9,-999.0000,  -999.00,9,  -999.00, -999.000,9, -999.000,   -999.0,9,   -999.0,  -999.00,9,   0.1111,2,   0.0777,2,   0.0435,2,   0.0325,2,   0.0139,2,   0.0148,3
  33RR20070204,  I08S,    27,  1,      1,      1,2,20070222,0401,-56.8970,  83.3053, 4535,   4606.0,  -0.0439,  34.6636,2,  34.6622,2,    234.8,2,    235.0,2,   131.53,2,    32.52,2,     0.00,2,     2.24,2,    1.535,2,    0.784,2, -999.000,5,   2257.1,6,   2353.1,2,     40.2,2,    34.15,2, -999.000,9, -999.000,-999.0000,9,-999.0000,  -999.00,9,  -999.00, -999.000,9, -999.000,   -999.0,9,   -999.0,  -999.00,9,   0.1185,2,   0.0833,2,   0.0467,2,   0.0348,2,   0.0138,2,   0.0147,2