BOTTLE,20150626SIOCCHRJL
EXPOCODE,SECT_ID,STNNBR,CASTNO,SAMPNO,BTLNBR,BTLNBR_FLAG_W,DATE,TIME,LATITUDE,LONGITUDE,DEPTH,CTDPRS,CTDTMP,CTDSAL,CTDSAL_FLAG_W,SALNTY,SALNTY_FLAG_W,CTDOXY,CTDOXY_FLAG_W,OXYGEN,OXYGEN_FLAG_W,SILCAT,SILCAT_FLAG_W,NITRAT,NITRAT_FLAG_W,NITRIT,NITRIT_FLAG_W,PHSPHT,PHSPHT_FLAG_W,CFC-11,CFC-11_FLAG_W,CFC-12,CFC-12_FLAG_W,CFC113,CFC113_FLAG_W,TCARBN,TCARBN_FLAG_W,ALKALI,ALKALI_FLAG_W,DOC,DOC_FLAG_W,TDN,TDN_FLAG_W,TRITUM,TRITUM_FLAG_W,TRITER,HELIUM,HELIUM_FLAG_W,HELIER,DELHE3,DELHE3_FLAG_W,DELHER,NEON,NEON_FLAG_W,NEONER,DELC14,DELC14_FLAG_W,C14ERR,DELC13,DELC13_FLAG_W,CDOM325,CDOM325_FLAG_W,CDOM340,CDOM340_FLAG_W,CDOM380,CDOM380_FLAG_W,CDOM412,CDOM412_FLAG_W,CDOMSL,CDOMSL_FLAG_W,CDOMSN,CDOMSN_FLAG_W
,,,,,,,,,,,METERS,DBAR,ITS-90,PSS-78,,PSS-78,,UMOL/KG,,UMOL/KG,,UMOL/KG,,UMOL/KG,,UMOL/KG,,UMOL/KG,,PMOL/KG,,PMOL/KG,,PMOL/KG,,UMOL/KG,,UMOL/KG,,UMOL/KG,,UMOL/KG,,TU,,TU,NMOL/KG,,NMOL/KG,PERCNT,,PERCNT,NMOL/KG,,NMOL/KG,/MILLE,,/MILLE,/MILLE,,1/M,,1/M,,1/M,,1/M,,1/NM,,1/NM,
  33RR20070204,  I08S,    60,  2,     34,   9419,2,20070305,0952,-42.5115,  95.0098, 3397,      4.9,  13.5250,  34.7543,2,  34.7549,2,    262.1,2,    262.7,2,     0.00,2,     5.92,2,     0.13,2,     0.55,2, -999.000,9, -999.000,9, -999.000,9,   2071.0,2,   2296.6,2,   -999.0,9,  -999.00,9, -999.000,9, -999.000,-999.0000,9,-999.0000,  -999.00,9,  -999.00, -999.000,9, -999.000,   -999.0,9,   -999.0,  -999.00,9,-999.0000,9,-999.0000,9,-999.0000,9,-999.0000,9,-999.0000,9,-999.0000,9
  33RR20070204,  I08S,    60,  2,     33,     33,2,20070305,0952,-42.5115,  95.0098, 3397,     20.6,  13.4229,  34.7515,2,  34.7531,2,    264.1,2,    263.2,2,     0.00,2,     5.92,2,     0.13,2,     0.55,2, -999.000,9, -999.000,9, -999.000,9,   2070.6,2,   2296.9,2,   -999.0,9,  -999.00,9, -999.000,9, -999.000,-999.0000,9,-999.0000,  -999.00,9,  -999.00, -999.000,9, -999.000,   -999.0,9,   -999.0,  -999.00,9,-999.0000,9,-999.0000,9,-999.0000,9,-999.0000,9,-999.0000,9,-999.0000,9
  33RR20070204,  I08S,    60,  2,     32,     37,2,20070305,0952,-42.5115,  95.0098, 3397,     45.5,  13.3706,  34.7517,2,  34.7514,2,    263.5,2,    263.1,2,     0.00,2,     5.92,2,     0.13,2,     0.55,2, -999.000,9, -999.000,9, -999.000,9,   2071.5,2,   2297.2,2,   -999.0,9,  -999.00,9, -999.000,9, -999.000,-999.0000,9,-999.0000,  -999.00,9,  -999.00, -999.000,9, -999.000,   -999.0,9,   -999.0,  -999.00,9,-999.0000,9,-999.0000,9,-999.0000,9,-999.0000,9,-999.0000,9,-999.0000,9
  33RR20070204,  I08S,    60,  2,     31,     31,2,20070305,0952,-42.5115,  95.0098, 3397,     90.6,  11.3960,  34.7635,2,  34.7702,2,    259.8,2,    260.0,2,     1.67,2,     8.98,2,     0.73,2,     0.79,2, -999.000,9, -999.000,9, -999.000,9,   2099.2,2,   2294.4,2,   -999.0,9,  -999.00,9, -999.000,9, -999.000,-999.0000,9,-999.0000,  -999.00,9,  -999.00, -999.000,9, -999.000,   -999.0,9,   -999.0,  -999.00,9,-999.0000,9,-999.0000,9,-999.0000,9,-999.0000,9,-999.0000,9,-999.0000,9
  33RR20070204,  I08S,    60,  2,     30,     30,2,20070305,0952,-42.5115,  95.0098, 3397,    140.6,  10.6655,  34.7819,2,  34.7824,2,    256.6,2,    260.1,2,     2.26,2,    11.28,2,     0.02,2,     0.86,2, -999.000,9, -999.000,9, -999.000,9,   2106.6,2,   2292.1,2,   -999.0,9,  -999.00,9, -999.000,9, -999.000,-999.0000,9,-999.0000,  -999.00,9,  -999.00, -999.000,9, -999.000,   -999.0,9,   -999.0,  -999.00,9,-999.0000,9,-999.0000,9,-999.0000,9,-999.0000,9,-999.0000,9,-999.0000,9
  33RR20070204,  I08S,    60,  2,     29,     29,2,20070305,0952,-42.5115,  95.0098, 3397,    165.6,  10.5773,  34.7797,2,  34.7804,2,    256.7,2,    258.4,2,     2.23,2,    11.43,2,     0.01,2,     0.86,2, -999.000,9, -999.000,9, -999.000,9,   2106.4,2,   2294.3,2,   -999.0,9,  -999.00,9, -999.000,9, -999.000,-999.0000,9,-999.0000,  -999.00,9,  -999.00, -999.000,9, -999.000,   -999.0,9,   -999.0,  -999.00,9,-999.0000,9,-999.0000,9,-999.0000,9,-999.0000,9,-999.0000,9,-999.0000,9
  33RR20070204,  I08S,    60,  2,     28,     28,2,20070305,0952,-42.5115,  95.0098, 3397,    190.9,  10.5726,  34.7870,2,  34.7885,2,    257.1,2,    257.6,2,     2.40,2,    11.43,2,     0.01,2,     0.86,2, -999.000,9, -999.000,9, -999.000,9,   -999.0,9,   -999.0,9,   -999.0,9,  -999.00,9, -999.000,9, -999.000,-999.0000,9,-999.0000,  -999.00,9,  -999.00, -999.000,9, -999.000,   -999.0,9,   -999.0,  -999.00,9,-999.0000,9,-999.0000,9,-999.0000,9,-999.0000,9,-999.0000,9,-999.0000,9
  33RR20070204,  I08S,    60,  2,     27,     27,2,20070305,0952,-42.5115,  95.0098, 3397,    240.9,  10.4583,  34.7787,2,  34.7778,2,    255.5,2,    258.2,2,     2.59,2,    11.76,2,     0.01,2,     0.89,2, -999.000,9, -999.000,9, -999.000,9,   2108.3,2,   2293.7,2,   -999.0,9,  -999.00,9, -999.000,9, -999.000,-999.0000,9,-999.0000,  -999.00,9,  -999.00, -999.000,9, -999.000,   -999.0,9,   -999.0,  -999.00,9,-999.0000,9,-999.0000,9,-999.0000,9,-999.0000,9,-999.0000,9,-999.0000,9
  33RR20070204,  I08S,    60,  2,     26,     26,2,20070305,0952,-42.5115,  95.0098, 3397,    291.0,  10.4701,  34.7998,2,  34.8020,2,    253.3,2,    256.2,2,     2.76,2,    12.00,2,     0.01,2,     0.89,2, -999.000,9, -999.000,9, -999.000,9,   -999.0,9,   -999.0,9,   -999.0,9,  -999.00,9, -999.000,9, -999.000,-999.0000,9,-999.0000,  -999.00,9,  -999.00, -999.000,9, -999.000,   -999.0,9,   -999.0,  -999.00,9,-999.0000,9,-999.0000,9,-999.0000,9,-999.0000,9,-999.0000,9,-999.0000,9
  33RR20070204,  I08S,    60,  2,     25,     25,2,20070305,0952,-42.5115,  95.0098, 3397,    341.0,  10.4547,  34.8171,2,  34.8209,2,    250.3,2,    250.5,2,     3.14,2,    12.43,2,     0.01,2,     0.92,2, -999.000,9, -999.000,9, -999.000,9,   2113.6,2,   2294.3,2,   -999.0,9,  -999.00,9, -999.000,9, -999.000,-999.0000,9,-999.0000,  -999.00,9,  -999.00, -999.000,9, -999.000,   -999.0,9,   -999.0,  -999.00,9,-999.0000,9,-999.0000,9,-999.0000,9,-999.0000,9,-999.0000,9,-999.0000,9
  33RR20070204,  I08S,    60,  2,     24,     24,2,20070305,0952,-42.5115,  95.0098, 3397,    391.1,  10.3637,  34.8168,2,  34.8183,2,    246.6,2,    246.9,2,     3.32,2,    13.13,2,     0.01,2,     0.96,2, -999.000,9, -999.000,9, -999.000,9,   -999.0,9,   -999.0,9,   -999.0,9,  -999.00,9, -999.000,9, -999.000,-999.0000,9,-999.0000,  -999.00,9,  -999.00, -999.000,9, -999.000,   -999.0,9,   -999.0,  -999.00,9,-999.0000,9,-999.0000,9,-999.0000,9,-999.0000,9,-999.0000,9,-999.0000,9
  33RR20070204,  I08S,    60,  2,     23,     23,2,20070305,0952,-42.5115,  95.0098, 3397,    441.1,  10.1537,  34.7900,2,  34.7927,2,    250.6,2,    248.0,2,     3.50,2,    13.41,2,     0.00,2,     0.98,2, -999.000,9, -999.000,9, -999.000,9,   2117.1,2,   2292.8,2,   -999.0,9,  -999.00,9, -999.000,9, -999.000,-999.0000,9,-999.0000,  -999.00,9,  -999.00, -999.000,9, -999.000,   -999.0,9,   -999.0,  -999.00,9,-999.0000,9,-999.0000,9,-999.0000,9,-999.0000,9,-999.0000,9,-999.0000,9
  33RR20070204,  I08S,    60,  2,     22,     22,2,20070305,0952,-42.5115,  95.0098, 3397,    491.2,   9.9883,  34.7661,2,  34.7666,2,    250.7,2,    250.3,2,     3.47,2,    13.56,2,     0.00,2,     0.99,2, -999.000,9, -999.000,9, -999.000,9,   -999.0,9,   -999.0,9,   -999.0,9,  -999.00,9, -999.000,9, -999.000,-999.0000,9,-999.0000,  -999.00,9,  -999.00, -999.000,9, -999.000,   -999.0,9,   -999.0,  -999.00,9,-999.0000,9,-999.0000,9,-999.0000,9,-999.0000,9,-999.0000,9,-999.0000,9
  33RR20070204,  I08S,    60,  2,     21,     21,2,20070305,0952,-42.5115,  95.0098, 3397,    576.8,   9.6496,  34.7245,2,  34.7278,2,    244.3,2,    244.8,2,     3.85,2,    14.88,2,     0.00,2,     1.07,2, -999.000,9, -999.000,9, -999.000,9,   2121.8,2,   2293.2,2,   -999.0,9,  -999.00,9, -999.000,9, -999.000,-999.0000,9,-999.0000,  -999.00,9,  -999.00, -999.000,9, -999.000,   -999.0,9,   -999.0,  -999.00,9,-999.0000,9,-999.0000,9,-999.0000,9,-999.0000,9,-999.0000,9,-999.0000,9
  33RR20070204,  I08S,    60,  2,     20,     20,2,20070305,0952,-42.5115,  95.0098, 3397,    677.0,   8.9173,  34.6273,2,  34.6280,2,    234.4,2,    230.4,2,     6.04,2,    18.04,2,     0.00,2,     1.26,2, -999.000,9, -999.000,9, -999.000,9,   -999.0,9,   -999.0,9,   -999.0,9,  -999.00,9, -999.000,9, -999.000,-999.0000,9,-999.0000,  -999.00,9,  -999.00, -999.000,9, -999.000,   -999.0,9,   -999.0,  -999.00,9,-999.0000,9,-999.0000,9,-999.0000,9,-999.0000,9,-999.0000,9,-999.0000,9
  33RR20070204,  I08S,    60,  2,     19,     19,2,20070305,0952,-42.5115,  95.0098, 3397,    777.4,   7.8682,  34.5279,2,  34.5272,2,    215.2,2,    212.0,2,    10.84,2,    22.25,2,     0.00,2,     1.52,2, -999.000,9, -999.000,9, -999.000,9,   -999.0,9,   -999.0,9,   -999.0,9,  -999.00,9, -999.000,9, -999.000,-999.0000,9,-999.0000,  -999.00,9,  -999.00, -999.000,9, -999.000,   -999.0,9,   -999.0,  -999.00,9,-999.0000,9,-999.0000,9,-999.0000,9,-999.0000,9,-999.0000,9,-999.0000,9
  33RR20070204,  I08S,    60,  2,     18,     18,2,20070305,0952,-42.5115,  95.0098, 3397,    878.3,   6.6435,  34.4307,2,  34.4300,2,    210.3,2,    208.8,2,    15.85,2,    25.39,2,     0.00,2,     1.74,2, -999.000,9, -999.000,9, -999.000,9,   2164.6,2,   2286.1,2,   -999.0,9,  -999.00,9, -999.000,9, -999.000,-999.0000,9,-999.0000,  -999.00,9,  -999.00, -999.000,9, -999.000,   -999.0,9,   -999.0,  -999.00,9,-999.0000,9,-999.0000,9,-999.0000,9,-999.0000,9,-999.0000,9,-999.0000,9
  33RR20070204,  I08S,    60,  2,     17,     17,2,20070305,0952,-42.5115,  95.0098, 3397,    978.6,   5.4345,  34.3550,2,  34.3562,2,    212.1,2,    212.4,2,    21.27,2,    27.78,2,     0.00,2,     1.91,2, -999.000,9, -999.000,9, -999.000,9,   -999.0,9,   -999.0,9,   -999.0,9,  -999.00,9, -999.000,9, -999.000,-999.0000,9,-999.0000,  -999.00,9,  -999.00, -999.000,9, -999.000,   -999.0,9,   -999.0,  -999.00,9,-999.0000,9,-999.0000,9,-999.0000,9,-999.0000,9,-999.0000,9,-999.0000,9
  33RR20070204,  I08S,    60,  2,     16,     16,2,20070305,0952,-42.5115,  95.0098, 3397,   1079.2,   4.6477,  34.3459,2,  34.3460,2,    204.9,2,    204.7,2,    28.92,2,    29.89,2,     0.00,2,     2.05,2, -999.000,9, -999.000,9, -999.000,9,   -999.0,9,   -999.0,9,   -999.0,9,  -999.00,9, -999.000,9, -999.000,-999.0000,9,-999.0000,  -999.00,9,  -999.00, -999.000,9, -999.000,   -999.0,9,   -999.0,  -999.00,9,-999.0000,9,-999.0000,9,-999.0000,9,-999.0000,9,-999.0000,9,-999.0000,9
  33RR20070204,  I08S,    60,  2,     15,     15,2,20070305,0952,-42.5115,  95.0098, 3397,   1179.7,   3.9376,  34.3356,2,  34.3358,2,    202.9,2,    205.5,2,    35.36,2,    31.18,2,     0.00,2,     2.15,2, -999.000,9, -999.000,9, -999.000,9,   2199.7,2,   2297.1,2,   -999.0,9,  -999.00,9, -999.000,9, -999.000,-999.0000,9,-999.0000,  -999.00,9,  -999.00, -999.000,9, -999.000,   -999.0,9,   -999.0,  -999.00,9,-999.0000,9,-999.0000,9,-999.0000,9,-999.0000,9,-999.0000,9,-999.0000,9
  33RR20070204,  I08S,    60,  2,     14,     14,2,20070305,0952,-42.5115,  95.0098, 3397,   1280.5,   3.5904,  34.3739,2,  34.3745,2,    194.0,2,    194.3,2,    43.64,2,    32.34,2,     0.00,2,     2.24,2, -999.000,9, -999.000,9, -999.000,9,   -999.0,9,   -999.0,9,   -999.0,9,  -999.00,9, -999.000,9, -999.000,-999.0000,9,-999.0000,  -999.00,9,  -999.00, -999.000,9, -999.000,   -999.0,9,   -999.0,  -999.00,9,-999.0000,9,-999.0000,9,-999.0000,9,-999.0000,9,-999.0000,9,-999.0000,9
  33RR20070204,  I08S,    60,  2,     13,     13,2,20070305,0952,-42.5115,  95.0098, 3397,   1381.4,   3.2933,  34.4201,2,  34.4202,2,    186.4,2,    185.2,2,    51.32,2,    33.20,2,     0.00,2,     2.30,2, -999.000,9, -999.000,9, -999.000,9,   -999.0,9,   -999.0,9,   -999.0,9,  -999.00,9, -999.000,9, -999.000,-999.0000,9,-999.0000,  -999.00,9,  -999.00, -999.000,9, -999.000,   -999.0,9,   -999.0,  -999.00,9,-999.0000,9,-999.0000,9,-999.0000,9,-999.0000,9,-999.0000,9,-999.0000,9
  33RR20070204,  I08S,    60,  2,     12,     12,2,20070305,0952,-42.5115,  95.0098, 3397,   1482.2,   3.0797,  34.4674,2,  34.4673,2,    179.5,2,    181.1,2,    57.39,2,    33.59,2,     0.00,2,     2.33,2, -999.000,9, -999.000,9, -999.000,9,   -999.0,9,   -999.0,9,   -999.0,9,  -999.00,9, -999.000,9, -999.000,-999.0000,9,-999.0000,  -999.00,9,  -999.00, -999.000,9, -999.000,   -999.0,9,   -999.0,  -999.00,9,-999.0000,9,-999.0000,9,-999.0000,9,-999.0000,9,-999.0000,9,-999.0000,9
  33RR20070204,  I08S,    60,  2,     11,     11,2,20070305,0952,-42.5115,  95.0098, 3397,   1583.1,   2.9268,  34.5139,2,  34.5138,2,    175.5,2,    176.0,2,    62.45,2,    33.59,2,     0.00,2,     2.34,2, -999.000,9, -999.000,9, -999.000,9,   2240.3,2,   2322.7,2,   -999.0,9,  -999.00,9, -999.000,9, -999.000,-999.0000,9,-999.0000,  -999.00,9,  -999.00, -999.000,9, -999.000,   -999.0,9,   -999.0,  -999.00,9,-999.0000,9,-999.0000,9,-999.0000,9,-999.0000,9,-999.0000,9,-999.0000,9
  33RR20070204,  I08S,    60,  2,     10,     10,2,20070305,0952,-42.5115,  95.0098, 3397,   1683.8,   2.8044,  34.5562,2,  34.5558,2,    173.3,2,    173.6,2,    66.69,2,    33.54,2,     0.00,2,     2.33,2, -999.000,9, -999.000,9, -999.000,9,   2244.7,2,   2326.7,2,   -999.0,9,  -999.00,9, -999.000,9, -999.000,-999.0000,9,-999.0000,  -999.00,9,  -999.00, -999.000,9, -999.000,   -999.0,9,   -999.0,  -999.00,9,-999.0000,9,-999.0000,9,-999.0000,9,-999.0000,9,-999.0000,9,-999.0000,9
  33RR20070204,  I08S,    60,  2,      9,      9,2,20070305,0952,-42.5115,  95.0098, 3397,   1784.8,   2.7062,  34.5926,2,  34.5923,2,    173.5,2,    174.1,2,    69.32,2,    33.15,2,     0.00,2,     2.30,2,    0.331,2,    0.161,2, -999.000,5,   2246.9,6,   2330.8,2,   -999.0,9,  -999.00,9, -999.000,9, -999.000,-999.0000,9,-999.0000,  -999.00,9,  -999.00, -999.000,9, -999.000,   -999.0,9,   -999.0,  -999.00,9,-999.0000,9,-999.0000,9,-999.0000,9,-999.0000,9,-999.0000,9,-999.0000,9
  33RR20070204,  I08S,    60,  2,      8,      8,2,20070305,0952,-42.5115,  95.0098, 3397,   1885.5,   2.6276,  34.6283,2,  34.6285,2,    175.4,2,    175.9,2,    70.93,2,    32.61,2,     0.00,2,     2.26,2, -999.000,9, -999.000,9, -999.000,9,   2246.9,2,   2332.7,2,   -999.0,9,  -999.00,9, -999.000,9, -999.000,-999.0000,9,-999.0000,  -999.00,9,  -999.00, -999.000,9, -999.000,   -999.0,9,   -999.0,  -999.00,9,-999.0000,9,-999.0000,9,-999.0000,9,-999.0000,9,-999.0000,9,-999.0000,9
  33RR20070204,  I08S,    60,  2,      7,      7,2,20070305,0952,-42.5115,  95.0098, 3397,   1986.5,   2.5524,  34.6635,2,  34.6632,2,    178.5,2,    178.7,2,    72.13,2,    31.98,2,     0.00,2,     2.21,2,    0.207,2,    0.097,2, -999.000,5,   2245.3,2,   2336.2,2,   -999.0,9,  -999.00,9, -999.000,9, -999.000,-999.0000,9,-999.0000,  -999.00,9,  -999.00, -999.000,9, -999.000,   -999.0,9,   -999.0,  -999.00,9,-999.0000,9,-999.0000,9,-999.0000,9,-999.0000,9,-999.0000,9,-999.0000,9
  33RR20070204,  I08S,    60,  2,      6,      6,2,20070305,0952,-42.5115,  95.0098, 3397,   2188.8,   2.4215,  34.7090,2,  34.7096,2,    184.5,2,    184.2,2,    75.17,2,    31.06,2,     0.00,2,     2.15,2, -999.000,9, -999.000,9, -999.000,9,   2244.5,2,   2339.5,2,   -999.0,9,  -999.00,9, -999.000,9, -999.000,-999.0000,9,-999.0000,  -999.00,9,  -999.00, -999.000,9, -999.000,   -999.0,9,   -999.0,  -999.00,9,-999.0000,9,-999.0000,9,-999.0000,9,-999.0000,9,-999.0000,9,-999.0000,9
  33RR20070204,  I08S,    60,  2,      5,      5,2,20070305,0952,-42.5115,  95.0098, 3397,   2442.2,   2.2059,  34.7450,2,  34.7456,2,    192.9,2,    193.1,2,    79.23,2,    30.05,2,     0.00,2,     2.07,2,    0.080,2,    0.036,2, -999.000,5,   -999.0,9,   -999.0,9,   -999.0,9,  -999.00,9, -999.000,9, -999.000,-999.0000,9,-999.0000,  -999.00,9,  -999.00, -999.000,9, -999.000,   -999.0,9,   -999.0,  -999.00,9,-999.0000,9,-999.0000,9,-999.0000,9,-999.0000,9,-999.0000,9,-999.0000,9
  33RR20070204,  I08S,    60,  2,      4,      4,2,20070305,0952,-42.5115,  95.0098, 3397,   2695.5,   1.9554,  34.7523,2,  34.7524,2,    197.7,2,    197.6,2,    86.99,2,    30.05,2,     0.00,2,     2.07,2, -999.000,9, -999.000,9, -999.000,9,   -999.0,9,   -999.0,9,   -999.0,9,  -999.00,9, -999.000,9, -999.000,-999.0000,9,-999.0000,  -999.00,9,  -999.00, -999.000,9, -999.000,   -999.0,9,   -999.0,  -999.00,9,-999.0000,9,-999.0000,9,-999.0000,9,-999.0000,9,-999.0000,9,-999.0000,9
  33RR20070204,  I08S,    60,  2,      3,      3,2,20070305,0952,-42.5115,  95.0098, 3397,   2949.2,   1.6463,  34.7434,2,  34.7440,2,    200.0,2,    200.4,2,    97.42,2,    30.48,2,     0.01,2,     2.11,2,    0.064,2,    0.028,2, -999.000,5,   -999.0,9,   -999.0,9,   -999.0,9,  -999.00,9, -999.000,9, -999.000,-999.0000,9,-999.0000,  -999.00,9,  -999.00, -999.000,9, -999.000,   -999.0,9,   -999.0,  -999.00,9,-999.0000,9,-999.0000,9,-999.0000,9,-999.0000,9,-999.0000,9,-999.0000,9
  33RR20070204,  I08S,    60,  2,      2,      2,2,20070305,0952,-42.5115,  95.0098, 3397,   3223.3,   1.4805,  34.7365,2,  34.7365,2,    201.3,2,    201.4,2,   103.57,2,    30.82,2,     0.01,2,     2.13,2,    0.078,2,    0.036,2, -999.000,5,   -999.0,9,   -999.0,9,   -999.0,9,  -999.00,9, -999.000,9, -999.000,-999.0000,9,-999.0000,  -999.00,9,  -999.00, -999.000,9, -999.000,   -999.0,9,   -999.0,  -999.00,9,-999.0000,9,-999.0000,9,-999.0000,9,-999.0000,9,-999.0000,9,-999.0000,9
  33RR20070204,  I08S,    60,  2,      1,      1,2,20070305,0952,-42.5115,  95.0098, 3397,   3442.3,   1.4404,  34.7339,2,  34.7343,2,    201.5,2,    200.6,0,   106.02,2,    31.05,2,     0.01,2,     2.15,2,    0.079,2,    0.035,2, -999.000,5,   2255.4,6,   2357.1,2,   -999.0,9,  -999.00,9, -999.000,9, -999.000,-999.0000,9,-999.0000,  -999.00,9,  -999.00, -999.000,9, -999.000,   -999.0,9,   -999.0,  -999.00,9,-999.0000,9,-999.0000,9,-999.0000,9,-999.0000,9,-999.0000,9,-999.0000,9