BOTTLE,20150626SIOCCHRJL
EXPOCODE,SECT_ID,STNNBR,CASTNO,SAMPNO,BTLNBR,BTLNBR_FLAG_W,DATE,TIME,LATITUDE,LONGITUDE,DEPTH,CTDPRS,CTDTMP,CTDSAL,CTDSAL_FLAG_W,SALNTY,SALNTY_FLAG_W,CTDOXY,CTDOXY_FLAG_W,OXYGEN,OXYGEN_FLAG_W,SILCAT,SILCAT_FLAG_W,NITRAT,NITRAT_FLAG_W,NITRIT,NITRIT_FLAG_W,PHSPHT,PHSPHT_FLAG_W,CFC-11,CFC-11_FLAG_W,CFC-12,CFC-12_FLAG_W,CFC113,CFC113_FLAG_W,TCARBN,TCARBN_FLAG_W,ALKALI,ALKALI_FLAG_W,DOC,DOC_FLAG_W,TDN,TDN_FLAG_W,TRITUM,TRITUM_FLAG_W,TRITER,HELIUM,HELIUM_FLAG_W,HELIER,DELHE3,DELHE3_FLAG_W,DELHER,NEON,NEON_FLAG_W,NEONER,DELC14,DELC14_FLAG_W,C14ERR,DELC13,DELC13_FLAG_W,CDOM325,CDOM325_FLAG_W,CDOM340,CDOM340_FLAG_W,CDOM380,CDOM380_FLAG_W,CDOM412,CDOM412_FLAG_W,CDOMSL,CDOMSL_FLAG_W,CDOMSN,CDOMSN_FLAG_W
,,,,,,,,,,,METERS,DBAR,ITS-90,PSS-78,,PSS-78,,UMOL/KG,,UMOL/KG,,UMOL/KG,,UMOL/KG,,UMOL/KG,,UMOL/KG,,PMOL/KG,,PMOL/KG,,PMOL/KG,,UMOL/KG,,UMOL/KG,,UMOL/KG,,UMOL/KG,,TU,,TU,NMOL/KG,,NMOL/KG,PERCNT,,PERCNT,NMOL/KG,,NMOL/KG,/MILLE,,/MILLE,/MILLE,,1/M,,1/M,,1/M,,1/M,,1/NM,,1/NM,
  33RR20070204,  I08S,    47,  1,     35,     35,2,20070301,1752,-48.4260,  91.9968, 3446,      4.1,   8.3211,  33.9802,2,  33.9778,2,    286.4,2,    290.1,2,     1.21,2,    15.89,2,     0.23,2,     1.19,2,    3.999,2,    2.322,2, -999.000,5,   2096.9,6,   2269.6,2,     48.7,2,    20.67,2, -999.000,9, -999.000,-999.0000,9,-999.0000,  -999.00,9,  -999.00, -999.000,9, -999.000,   -999.0,9,   -999.0,  -999.00,9,-999.0000,9,-999.0000,9,-999.0000,9,-999.0000,9,-999.0000,9,-999.0000,9
  33RR20070204,  I08S,    47,  1,     34,   9419,2,20070301,1752,-48.4260,  91.9968, 3446,     40.9,   8.3228,  33.9808,2,  33.9788,2,    289.0,2,    289.1,2,     1.20,2,    15.88,2,     0.23,2,     1.18,2,    4.041,2,    2.314,2, -999.000,5,   2095.2,2,   2272.4,2,     47.9,2,    20.72,2, -999.000,9, -999.000,-999.0000,9,-999.0000,  -999.00,9,  -999.00, -999.000,9, -999.000,   -999.0,9,   -999.0,  -999.00,9,-999.0000,9,-999.0000,9,-999.0000,9,-999.0000,9,-999.0000,9,-999.0000,9
  33RR20070204,  I08S,    47,  1,     33,     33,2,20070301,1752,-48.4260,  91.9968, 3446,     75.5,   8.1540,  33.9852,2,  33.9857,2,    288.7,2,    288.7,2,     1.20,2,    15.98,2,     0.23,2,     1.19,2,    4.037,2,    2.344,2, -999.000,5,   2096.7,2,   2272.7,2,     45.6,2,    20.10,2, -999.000,9, -999.000,-999.0000,9,-999.0000,  -999.00,9,  -999.00, -999.000,9, -999.000,   -999.0,9,   -999.0,  -999.00,9,-999.0000,9,-999.0000,9,-999.0000,9,-999.0000,9,-999.0000,9,-999.0000,9
  33RR20070204,  I08S,    47,  1,     32,     37,2,20070301,1752,-48.4260,  91.9968, 3446,     95.7,   7.3179,  33.8959,2,  33.8935,2,    287.9,2,    292.3,2,     1.42,2,    17.38,2,     0.26,2,     1.32,2,    4.265,2,    2.427,2, -999.000,5,   2102.3,2,   2271.1,2,     45.4,2,    21.83,2, -999.000,9, -999.000,-999.0000,9,-999.0000,  -999.00,9,  -999.00, -999.000,9, -999.000,   -999.0,9,   -999.0,  -999.00,9,-999.0000,9,-999.0000,9,-999.0000,9,-999.0000,9,-999.0000,9,-999.0000,9
  33RR20070204,  I08S,    47,  1,     31,     31,2,20070301,1752,-48.4260,  91.9968, 3446,    125.0,   7.2171,  34.0234,2,  34.0250,2,    284.7,2,    284.3,2,     1.85,2,    17.98,2,     0.61,2,     1.35,2,    4.356,2,    2.447,2, -999.000,5,   2111.1,2,   2271.0,2,     44.5,2,    22.70,2, -999.000,9, -999.000,-999.0000,9,-999.0000,  -999.00,9,  -999.00, -999.000,9, -999.000,   -999.0,9,   -999.0,  -999.00,9,-999.0000,9,-999.0000,9,-999.0000,9,-999.0000,9,-999.0000,9,-999.0000,9
  33RR20070204,  I08S,    47,  1,     30,     30,2,20070301,1752,-48.4260,  91.9968, 3446,    146.2,   6.8829,  34.1122,2,  34.0938,2,    278.1,2,    278.6,2,     2.92,2,    19.99,2,     0.09,2,     1.43,2,    4.391,2,    2.540,2, -999.000,5,   2121.8,2,   2272.3,2,     43.9,2,    23.46,2, -999.000,9, -999.000,-999.0000,9,-999.0000,  -999.00,9,  -999.00, -999.000,9, -999.000,   -999.0,9,   -999.0,  -999.00,9,-999.0000,9,-999.0000,9,-999.0000,9,-999.0000,9,-999.0000,9,-999.0000,9
  33RR20070204,  I08S,    47,  1,     29,     29,2,20070301,1752,-48.4260,  91.9968, 3446,    176.6,   7.1951,  34.2322,2,  34.2062,2,    266.9,2,    267.5,2,     4.43,2,    20.06,2,     0.01,2,     1.42,2,    4.234,2,    2.380,2, -999.000,5,   2126.9,2,   2275.0,2,     43.7,2,    23.60,2, -999.000,9, -999.000,-999.0000,9,-999.0000,  -999.00,9,  -999.00, -999.000,9, -999.000,   -999.0,9,   -999.0,  -999.00,9,-999.0000,9,-999.0000,9,-999.0000,9,-999.0000,9,-999.0000,9,-999.0000,9
  33RR20070204,  I08S,    47,  1,     28,     28,2,20070301,1752,-48.4260,  91.9968, 3446,    225.8,   7.1519,  34.2898,2,  34.2949,2,    259.9,2,    257.4,2,     6.16,2,    20.20,2,     0.01,2,     1.42,2,    3.194,3,    1.801,3, -999.000,5,   2132.5,2,   2277.0,2,     43.6,2,    23.27,2, -999.000,9, -999.000,-999.0000,9,-999.0000,  -999.00,9,  -999.00, -999.000,9, -999.000,   -999.0,9,   -999.0,  -999.00,9,-999.0000,9,-999.0000,9,-999.0000,9,-999.0000,9,-999.0000,9,-999.0000,9
  33RR20070204,  I08S,    47,  1,     27,     27,2,20070301,1752,-48.4260,  91.9968, 3446,    275.5,   6.9920,  34.3291,2,  34.3216,2,    254.3,2,    246.5,2,     9.18,2,    21.73,2,     0.01,2,     1.50,2,    3.815,2,    2.088,2, -999.000,5,   2142.4,2,   2279.7,2,     43.2,2,    25.24,2, -999.000,9, -999.000,-999.0000,9,-999.0000,  -999.00,9,  -999.00, -999.000,9, -999.000,   -999.0,9,   -999.0,  -999.00,9,-999.0000,9,-999.0000,9,-999.0000,9,-999.0000,9,-999.0000,9,-999.0000,9
  33RR20070204,  I08S,    47,  1,     26,     26,2,20070301,1752,-48.4260,  91.9968, 3446,    326.6,   6.6195,  34.3236,2,  34.3227,2,    241.3,2,    239.8,2,    11.12,2,    23.13,2,     0.01,2,     1.59,2,    3.704,2,    2.000,2, -999.000,5,   2149.4,2,   2280.1,2,     42.8,2,    26.77,2, -999.000,9, -999.000,-999.0000,9,-999.0000,  -999.00,9,  -999.00, -999.000,9, -999.000,   -999.0,9,   -999.0,  -999.00,9,-999.0000,9,-999.0000,9,-999.0000,9,-999.0000,9,-999.0000,9,-999.0000,9
  33RR20070204,  I08S,    47,  1,     25,     25,2,20070301,1752,-48.4260,  91.9968, 3446,    376.3,   6.2221,  34.3156,2,  34.3155,2,    234.1,2,    233.9,2,    13.51,2,    24.43,2,     0.01,2,     1.68,2,    3.576,2,    1.955,2, -999.000,5,   2157.0,2,   2281.0,2,     42.6,2,    27.82,2, -999.000,9, -999.000,-999.0000,9,-999.0000,  -999.00,9,  -999.00, -999.000,9, -999.000,   -999.0,9,   -999.0,  -999.00,9,-999.0000,9,-999.0000,9,-999.0000,9,-999.0000,9,-999.0000,9,-999.0000,9
  33RR20070204,  I08S,    47,  1,     24,     24,2,20070301,1752,-48.4260,  91.9968, 3446,    426.8,   6.0485,  34.3502,2,  34.3461,2,    225.1,2,    223.3,2,    16.31,2,    25.78,2,     0.01,2,     1.77,2,    3.279,2,    1.757,2, -999.000,5,   2165.9,2,   2281.9,2,     42.7,2,    29.76,2, -999.000,9, -999.000,-999.0000,9,-999.0000,  -999.00,9,  -999.00, -999.000,9, -999.000,   -999.0,9,   -999.0,  -999.00,9,-999.0000,9,-999.0000,9,-999.0000,9,-999.0000,9,-999.0000,9,-999.0000,9
  33RR20070204,  I08S,    47,  1,     23,     23,2,20070301,1752,-48.4260,  91.9968, 3446,    477.2,   5.3975,  34.3025,2,  34.3052,2,    224.1,2,    226.6,2,    18.26,2,    26.88,2,     0.01,2,     1.86,2, -999.000,9, -999.000,9, -999.000,9,   2169.3,2,   2282.5,2,     42.3,2,    30.48,2, -999.000,9, -999.000,-999.0000,9,-999.0000,  -999.00,9,  -999.00, -999.000,9, -999.000,   -999.0,9,   -999.0,  -999.00,9,-999.0000,9,-999.0000,9,-999.0000,9,-999.0000,9,-999.0000,9,-999.0000,9
  33RR20070204,  I08S,    47,  1,     22,     22,2,20070301,1752,-48.4260,  91.9968, 3446,    527.2,   4.8475,  34.2623,2,  34.2595,2,    227.6,2,    232.8,2,    20.21,2,    27.85,2,     0.01,2,     1.93,2,    3.480,2,    1.828,2, -999.000,5,   2172.8,2,   2281.5,2,     41.9,2,    30.47,2, -999.000,9, -999.000,-999.0000,9,-999.0000,  -999.00,9,  -999.00, -999.000,9, -999.000,   -999.0,9,   -999.0,  -999.00,9,-999.0000,9,-999.0000,9,-999.0000,9,-999.0000,9,-999.0000,9,-999.0000,9
  33RR20070204,  I08S,    47,  1,     21,     21,2,20070301,1752,-48.4260,  91.9968, 3446,    646.6,   4.0837,  34.2701,2,  34.2690,2,    226.3,2,    226.6,2,    27.58,2,    29.74,2,     0.00,2,     2.05,2,    2.998,2,    1.545,2, -999.000,5,   2185.5,2,   2286.9,2,     41.9,2,    32.60,2, -999.000,9, -999.000,-999.0000,9,-999.0000,  -999.00,9,  -999.00, -999.000,9, -999.000,   -999.0,9,   -999.0,  -999.00,9,-999.0000,9,-999.0000,9,-999.0000,9,-999.0000,9,-999.0000,9,-999.0000,9
  33RR20070204,  I08S,    47,  1,     20,     20,4,20070301,1752,-48.4260,  91.9968, 3446,    748.7,   3.5734,  34.2824,2,  34.3108,0,    219.4,2,    212.8,0,    42.36,4,    32.22,4,     0.00,4,     2.24,4,    2.403,2,    1.224,2, -999.000,5,   2209.3,3,   2298.7,2,     41.9,2,    34.85,2, -999.000,9, -999.000,-999.0000,9,-999.0000,  -999.00,9,  -999.00, -999.000,9, -999.000,   -999.0,9,   -999.0,  -999.00,9,-999.0000,9,-999.0000,9,-999.0000,9,-999.0000,9,-999.0000,9,-999.0000,9
  33RR20070204,  I08S,    47,  1,     19,     19,2,20070301,1752,-48.4260,  91.9968, 3446,    848.1,   3.1390,  34.3037,2,  34.2999,2,    214.2,2,    213.9,2,    41.71,2,    32.32,2,     0.00,2,     2.23,2,    2.419,2,    1.238,2, -999.000,5,   2209.2,2,   2299.0,2,     41.7,2,    35.13,2, -999.000,9, -999.000,-999.0000,9,-999.0000,  -999.00,9,  -999.00, -999.000,9, -999.000,   -999.0,9,   -999.0,  -999.00,9,-999.0000,9,-999.0000,9,-999.0000,9,-999.0000,9,-999.0000,9,-999.0000,9
  33RR20070204,  I08S,    47,  1,     18,     18,2,20070301,1752,-48.4260,  91.9968, 3446,    949.6,   2.7930,  34.3435,2,  34.3454,2,    203.6,2,    203.1,2,    49.98,2,    33.24,2,     0.00,2,     2.31,2, -999.000,9, -999.000,9, -999.000,9,   2221.7,2,   2305.0,2,     41.2,2,    35.74,2, -999.000,9, -999.000,-999.0000,9,-999.0000,  -999.00,9,  -999.00, -999.000,9, -999.000,   -999.0,9,   -999.0,  -999.00,9,-999.0000,9,-999.0000,9,-999.0000,9,-999.0000,9,-999.0000,9,-999.0000,9
  33RR20070204,  I08S,    47,  1,     17,     17,2,20070301,1752,-48.4260,  91.9968, 3446,   1051.1,   2.9773,  34.4500,2,  34.4494,2,    185.9,2,    183.6,2,    57.39,2,    33.62,2,     0.00,2,     2.34,2,    1.069,2,    0.543,2, -999.000,5,   2235.4,2,   2316.0,2,     40.9,2,    35.44,2, -999.000,9, -999.000,-999.0000,9,-999.0000,  -999.00,9,  -999.00, -999.000,9, -999.000,   -999.0,9,   -999.0,  -999.00,9,-999.0000,9,-999.0000,9,-999.0000,9,-999.0000,9,-999.0000,9,-999.0000,9
  33RR20070204,  I08S,    47,  1,     16,     16,2,20070301,1752,-48.4260,  91.9968, 3446,   1150.3,   2.8458,  34.4989,2,  34.4977,2,    179.7,2,    178.9,2,    62.63,2,    33.62,2,     0.00,2,     2.35,2, -999.000,9, -999.000,9, -999.000,9,   2240.7,2,   2322.8,2,     40.9,2,    35.23,2, -999.000,9, -999.000,-999.0000,9,-999.0000,  -999.00,9,  -999.00, -999.000,9, -999.000,   -999.0,9,   -999.0,  -999.00,9,-999.0000,9,-999.0000,9,-999.0000,9,-999.0000,9,-999.0000,9,-999.0000,9
  33RR20070204,  I08S,    47,  1,     15,     15,2,20070301,1752,-48.4260,  91.9968, 3446,   1251.9,   2.7502,  34.5476,2,  34.5461,2,    176.6,2,    176.0,2,    66.13,2,    33.52,2,     0.00,2,     2.34,2,    0.569,2,    0.288,2, -999.000,5,   2245.1,2,   2324.9,2,     40.2,2,    34.60,2, -999.000,9, -999.000,-999.0000,9,-999.0000,  -999.00,9,  -999.00, -999.000,9, -999.000,   -999.0,9,   -999.0,  -999.00,9,-999.0000,9,-999.0000,9,-999.0000,9,-999.0000,9,-999.0000,9,-999.0000,9
  33RR20070204,  I08S,    47,  1,     14,     14,2,20070301,1752,-48.4260,  91.9968, 3446,   1350.9,   2.6012,  34.5748,2,  34.5738,2,    176.0,2,    176.2,2,    69.18,2,    33.38,2,     0.00,2,     2.32,2, -999.000,9, -999.000,9, -999.000,9,   2247.6,2,   2327.6,2,     40.2,2,    34.52,2, -999.000,9, -999.000,-999.0000,9,-999.0000,  -999.00,9,  -999.00, -999.000,9, -999.000,   -999.0,9,   -999.0,  -999.00,9,-999.0000,9,-999.0000,9,-999.0000,9,-999.0000,9,-999.0000,9,-999.0000,9
  33RR20070204,  I08S,    47,  1,     13,     13,2,20070301,1752,-48.4260,  91.9968, 3446,   1453.8,   2.5155,  34.6089,2,  34.6075,2,    176.2,2,    176.6,2,    72.25,2,    32.98,2,     0.00,2,     2.30,2,    0.453,2,    0.228,2, -999.000,5,   2248.7,2,   2331.6,2,     40.2,2,    34.91,2, -999.000,9, -999.000,-999.0000,9,-999.0000,  -999.00,9,  -999.00, -999.000,9, -999.000,   -999.0,9,   -999.0,  -999.00,9,-999.0000,9,-999.0000,9,-999.0000,9,-999.0000,9,-999.0000,9,-999.0000,9
  33RR20070204,  I08S,    47,  1,     12,     12,2,20070301,1752,-48.4260,  91.9968, 3446,   1554.3,   2.4415,  34.6360,2,  34.6348,2,    177.8,2,    177.7,2,    73.78,2,    32.74,2,     0.00,2,     2.27,2, -999.000,9, -999.000,9, -999.000,9,   2248.2,2,   2333.9,2,     40.4,2,    34.62,2, -999.000,9, -999.000,-999.0000,9,-999.0000,  -999.00,9,  -999.00, -999.000,9, -999.000,   -999.0,9,   -999.0,  -999.00,9,-999.0000,9,-999.0000,9,-999.0000,9,-999.0000,9,-999.0000,9,-999.0000,9
  33RR20070204,  I08S,    47,  1,     11,     11,2,20070301,1752,-48.4260,  91.9968, 3446,   1654.5,   2.4232,  34.6746,2,  34.6730,2,    180.6,2,    180.7,2,    74.43,2,    31.91,2,     0.00,2,     2.22,2,    0.279,2,    0.137,2, -999.000,5,   2246.7,2,   2335.7,2,     40.4,2,    33.31,2, -999.000,9, -999.000,-999.0000,9,-999.0000,  -999.00,9,  -999.00, -999.000,9, -999.000,   -999.0,9,   -999.0,  -999.00,9,-999.0000,9,-999.0000,9,-999.0000,9,-999.0000,9,-999.0000,9,-999.0000,9
  33RR20070204,  I08S,    47,  1,     10,     10,2,20070301,1752,-48.4260,  91.9968, 3446,   1755.6,   2.4103,  34.7062,2,  34.7057,2,    185.0,2,    185.4,2,    74.43,2,    31.09,2,     0.00,2,     2.15,2, -999.000,9, -999.000,9, -999.000,9,   2244.2,2,   2337.9,2,     40.3,2,    32.41,2, -999.000,9, -999.000,-999.0000,9,-999.0000,  -999.00,9,  -999.00, -999.000,9, -999.000,   -999.0,9,   -999.0,  -999.00,9,-999.0000,9,-999.0000,9,-999.0000,9,-999.0000,9,-999.0000,9,-999.0000,9
  33RR20070204,  I08S,    47,  1,      9,      9,2,20070301,1752,-48.4260,  91.9968, 3446,   1856.8,   2.3580,  34.7223,2,  34.7218,2,    187.6,2,    188.7,2,    75.31,2,    30.65,2,     0.00,2,     2.12,2,    0.158,2,    0.073,2, -999.000,5,   2242.0,2,   2340.2,2,     40.2,2,    31.70,2, -999.000,9, -999.000,-999.0000,9,-999.0000,  -999.00,9,  -999.00, -999.000,9, -999.000,   -999.0,9,   -999.0,  -999.00,9,-999.0000,9,-999.0000,9,-999.0000,9,-999.0000,9,-999.0000,9,-999.0000,9
  33RR20070204,  I08S,    47,  1,      8,      8,2,20070301,1752,-48.4260,  91.9968, 3446,   1958.3,   2.3041,  34.7385,2,  34.7380,2,    191.3,2,    191.8,2,    76.18,2,    30.06,2,     0.00,2,     2.09,2,    0.114,2,    0.058,2, -999.000,5,   2241.2,2,   2340.4,2,     40.7,2,    31.50,2, -999.000,9, -999.000,-999.0000,9,-999.0000,  -999.00,9,  -999.00, -999.000,9, -999.000,   -999.0,9,   -999.0,  -999.00,9,-999.0000,9,-999.0000,9,-999.0000,9,-999.0000,9,-999.0000,9,-999.0000,9
  33RR20070204,  I08S,    47,  1,      7,      7,2,20070301,1752,-48.4260,  91.9968, 3446,   2121.9,   2.1562,  34.7515,2,  34.7516,2,    195.1,2,    195.8,2,    79.70,2,    29.77,2,     0.00,2,     2.07,2,    0.102,2,    0.050,2, -999.000,5,   2242.4,6,   2343.1,2,     40.9,2,    31.46,2, -999.000,9, -999.000,-999.0000,9,-999.0000,  -999.00,9,  -999.00, -999.000,9, -999.000,   -999.0,9,   -999.0,  -999.00,9,-999.0000,9,-999.0000,9,-999.0000,9,-999.0000,9,-999.0000,9,-999.0000,9
  33RR20070204,  I08S,    47,  1,      6,      6,2,20070301,1752,-48.4260,  91.9968, 3446,   2373.9,   1.9526,  34.7578,2,  34.7578,2,    198.9,2,    199.4,2,    85.62,2,    29.72,2,     0.00,2,     2.06,2,    0.078,2,    0.039,2, -999.000,5,   2243.1,2,   2348.1,2,     40.8,2,    30.89,2, -999.000,9, -999.000,-999.0000,9,-999.0000,  -999.00,9,  -999.00, -999.000,9, -999.000,   -999.0,9,   -999.0,  -999.00,9,-999.0000,9,-999.0000,9,-999.0000,9,-999.0000,9,-999.0000,9,-999.0000,9
  33RR20070204,  I08S,    47,  1,      5,      5,2,20070301,1752,-48.4260,  91.9968, 3446,   2625.3,   1.6798,  34.7493,2,  34.7490,2,    201.4,2,    200.9,2,    94.63,2,    30.16,2,     0.00,2,     2.10,2,    0.088,2,    0.043,2, -999.000,5,   2248.4,2,   2352.6,2,     40.2,2,    31.78,2, -999.000,9, -999.000,-999.0000,9,-999.0000,  -999.00,9,  -999.00, -999.000,9, -999.000,   -999.0,9,   -999.0,  -999.00,9,-999.0000,9,-999.0000,9,-999.0000,9,-999.0000,9,-999.0000,9,-999.0000,9
  33RR20070204,  I08S,    47,  1,      4,      4,2,20070301,1752,-48.4260,  91.9968, 3446,   2879.6,   1.3608,  34.7344,2,  34.7345,2,    204.1,2,    203.7,2,   104.99,2,    30.88,2,     0.00,2,     2.15,2,    0.093,2,    0.045,2, -999.000,5,   2253.7,2,   2357.7,2,     40.0,2,    32.21,2, -999.000,9, -999.000,-999.0000,9,-999.0000,  -999.00,9,  -999.00, -999.000,9, -999.000,   -999.0,9,   -999.0,  -999.00,9,-999.0000,9,-999.0000,9,-999.0000,9,-999.0000,9,-999.0000,9,-999.0000,9
  33RR20070204,  I08S,    47,  1,      3,      3,2,20070301,1752,-48.4260,  91.9968, 3446,   3133.5,   1.1455,  34.7237,2,  34.7235,2,    207.2,2,    206.3,2,   111.62,2,    31.27,2,     0.00,2,     2.18,2,    0.138,2,    0.066,2, -999.000,5,   2255.7,2,   2358.4,2,     40.2,2,    32.50,2, -999.000,9, -999.000,-999.0000,9,-999.0000,  -999.00,9,  -999.00, -999.000,9, -999.000,   -999.0,9,   -999.0,  -999.00,9,-999.0000,9,-999.0000,9,-999.0000,9,-999.0000,9,-999.0000,9,-999.0000,9
  33RR20070204,  I08S,    47,  1,      2,      2,2,20070301,1752,-48.4260,  91.9968, 3446,   3338.6,   0.9433,  34.7133,2,  34.7131,2,    210.5,2,    209.2,2,   116.71,2,    31.52,2,     0.00,2,     2.20,2,    0.238,2,    0.116,2, -999.000,5,   2257.6,6,   2358.0,2,     39.8,2,    33.29,2, -999.000,9, -999.000,-999.0000,9,-999.0000,  -999.00,9,  -999.00, -999.000,9, -999.000,   -999.0,9,   -999.0,  -999.00,9,-999.0000,9,-999.0000,9,-999.0000,9,-999.0000,9,-999.0000,9,-999.0000,9
  33RR20070204,  I08S,    47,  1,      1,      1,2,20070301,1752,-48.4260,  91.9968, 3446,   3491.6,   0.7403,  34.7031,2,  34.7030,2,    213.2,2,    213.7,2,   121.80,2,    31.85,2,     0.00,2,     2.22,2,    0.369,2,    0.179,2, -999.000,5,   2257.2,2,   2356.4,2,     40.5,2,    32.94,2, -999.000,9, -999.000,-999.0000,9,-999.0000,  -999.00,9,  -999.00, -999.000,9, -999.000,   -999.0,9,   -999.0,  -999.00,9,-999.0000,9,-999.0000,9,-999.0000,9,-999.0000,9,-999.0000,9,-999.0000,9