BOTTLE,20150626SIOCCHRJL
EXPOCODE,SECT_ID,STNNBR,CASTNO,SAMPNO,BTLNBR,BTLNBR_FLAG_W,DATE,TIME,LATITUDE,LONGITUDE,DEPTH,CTDPRS,CTDTMP,CTDSAL,CTDSAL_FLAG_W,SALNTY,SALNTY_FLAG_W,CTDOXY,CTDOXY_FLAG_W,OXYGEN,OXYGEN_FLAG_W,SILCAT,SILCAT_FLAG_W,NITRAT,NITRAT_FLAG_W,NITRIT,NITRIT_FLAG_W,PHSPHT,PHSPHT_FLAG_W,CFC-11,CFC-11_FLAG_W,CFC-12,CFC-12_FLAG_W,CFC113,CFC113_FLAG_W,TCARBN,TCARBN_FLAG_W,ALKALI,ALKALI_FLAG_W,DOC,DOC_FLAG_W,TDN,TDN_FLAG_W,TRITUM,TRITUM_FLAG_W,TRITER,HELIUM,HELIUM_FLAG_W,HELIER,DELHE3,DELHE3_FLAG_W,DELHER,NEON,NEON_FLAG_W,NEONER,DELC14,DELC14_FLAG_W,C14ERR,DELC13,DELC13_FLAG_W,CDOM325,CDOM325_FLAG_W,CDOM340,CDOM340_FLAG_W,CDOM380,CDOM380_FLAG_W,CDOM412,CDOM412_FLAG_W,CDOMSL,CDOMSL_FLAG_W,CDOMSN,CDOMSN_FLAG_W
,,,,,,,,,,,METERS,DBAR,ITS-90,PSS-78,,PSS-78,,UMOL/KG,,UMOL/KG,,UMOL/KG,,UMOL/KG,,UMOL/KG,,UMOL/KG,,PMOL/KG,,PMOL/KG,,PMOL/KG,,UMOL/KG,,UMOL/KG,,UMOL/KG,,UMOL/KG,,TU,,TU,NMOL/KG,,NMOL/KG,PERCNT,,PERCNT,NMOL/KG,,NMOL/KG,/MILLE,,/MILLE,/MILLE,,1/M,,1/M,,1/M,,1/M,,1/NM,,1/NM,
  33RR20070204,  I08S,    31,  1,     36,     36,4,20070224,1336,-55.1722,  85.1588, 4652,      5.5,   4.0406,  33.8345,2,  34.0464,0,   -999.0,9,    220.2,0,    54.70,4,    29.90,4,     0.07,4,     2.07,4,    0.773,4,    0.401,4, -999.000,5,   2256.5,4,   2331.1,4,     48.9,2,    34.88,2, -999.000,9, -999.000,-999.0000,9,-999.0000,  -999.00,9,  -999.00, -999.000,9, -999.000,   -999.0,9,   -999.0,  -999.00,9,-999.0000,9,-999.0000,9,-999.0000,9,-999.0000,9,-999.0000,9,-999.0000,9
  33RR20070204,  I08S,    31,  1,     35,     35,2,20070224,1336,-55.1722,  85.1588, 4652,     31.7,   4.0410,  33.8346,2,  33.8353,2,    312.9,2,    314.3,2,     9.00,2,    22.51,2,     0.22,2,     1.63,2,    5.062,2,    2.786,2, -999.000,5,   2129.7,2,   2276.8,2,     48.2,2,    27.13,2, -999.000,9, -999.000,-999.0000,9,-999.0000,  -999.00,9,  -999.00, -999.000,9, -999.000,   -999.0,9,   -999.0,  -999.00,9,-999.0000,9,-999.0000,9,-999.0000,9,-999.0000,9,-999.0000,9,-999.0000,9
  33RR20070204,  I08S,    31,  1,     34,   9433,2,20070224,1336,-55.1722,  85.1588, 4652,     56.1,   4.0344,  33.8345,2,  33.8349,2,    313.8,2,    313.2,2,     8.79,2,    22.56,2,     0.22,2,     1.62,2,    4.970,2,    2.729,2, -999.000,5,   2129.2,2,   2274.7,2,     46.6,2,    27.27,2, -999.000,9, -999.000,-999.0000,9,-999.0000,  -999.00,9,  -999.00, -999.000,9, -999.000,   -999.0,9,   -999.0,  -999.00,9,-999.0000,9,-999.0000,9,-999.0000,9,-999.0000,9,-999.0000,9,-999.0000,9
  33RR20070204,  I08S,    31,  1,     33,     33,2,20070224,1336,-55.1722,  85.1588, 4652,     81.0,   3.9870,  33.8340,2,  33.8345,2,    314.1,2,    313.1,2,     8.99,2,    22.65,2,     0.22,2,     1.62,2,    4.999,2,    2.721,2, -999.000,5,   2129.5,2,   2275.2,2,     46.0,2,    27.86,2, -999.000,9, -999.000,-999.0000,9,-999.0000,  -999.00,9,  -999.00, -999.000,9, -999.000,   -999.0,9,   -999.0,  -999.00,9,-999.0000,9,-999.0000,9,-999.0000,9,-999.0000,9,-999.0000,9,-999.0000,9
  33RR20070204,  I08S,    31,  1,     32,     32,2,20070224,1336,-55.1722,  85.1588, 4652,    106.3,   2.7816,  33.8515,2,  33.8489,2,    317.4,2,    317.4,2,    14.76,2,    24.75,2,     0.26,2,     1.77,2,    5.517,2,    2.988,2, -999.000,5,   2147.8,2,   2279.6,2,     44.8,2,    29.84,2, -999.000,9, -999.000,-999.0000,9,-999.0000,  -999.00,9,  -999.00, -999.000,9, -999.000,   -999.0,9,   -999.0,  -999.00,9,-999.0000,9,-999.0000,9,-999.0000,9,-999.0000,9,-999.0000,9,-999.0000,9
  33RR20070204,  I08S,    31,  1,     31,     31,2,20070224,1336,-55.1722,  85.1588, 4652,    156.6,   2.5121,  33.9900,2,  33.9858,2,    292.4,2,    292.3,2,    23.22,2,    29.20,2,     0.14,2,     2.01,2,    4.955,2,    2.662,2, -999.000,5,   2168.6,2,   2279.2,2,     44.0,2,    32.52,2, -999.000,9, -999.000,-999.0000,9,-999.0000,  -999.00,9,  -999.00, -999.000,9, -999.000,   -999.0,9,   -999.0,  -999.00,9,-999.0000,9,-999.0000,9,-999.0000,9,-999.0000,9,-999.0000,9,-999.0000,9
  33RR20070204,  I08S,    31,  1,     30,     30,2,20070224,1336,-55.1722,  85.1588, 4652,    207.1,   2.5215,  34.0760,2,  34.0738,2,    267.3,2,    273.9,2,    27.96,2,    30.14,2,     0.01,2,     2.06,2,    4.451,2,    2.335,2, -999.000,5,   2178.8,2,   2283.3,2,     43.5,2,    33.75,2, -999.000,9, -999.000,-999.0000,9,-999.0000,  -999.00,9,  -999.00, -999.000,9, -999.000,   -999.0,9,   -999.0,  -999.00,9,-999.0000,9,-999.0000,9,-999.0000,9,-999.0000,9,-999.0000,9,-999.0000,9
  33RR20070204,  I08S,    31,  1,     29,     29,2,20070224,1336,-55.1722,  85.1588, 4652,    257.9,   2.7157,  34.1695,2,  34.1702,2,    247.0,2,    246.8,2,    33.12,2,    31.26,2,     0.01,2,     2.14,2,    3.689,2,    1.918,2, -999.000,5,   2189.8,2,   2287.7,2,     42.9,2,    35.21,2, -999.000,9, -999.000,-999.0000,9,-999.0000,  -999.00,9,  -999.00, -999.000,9, -999.000,   -999.0,9,   -999.0,  -999.00,9,-999.0000,9,-999.0000,9,-999.0000,9,-999.0000,9,-999.0000,9,-999.0000,9
  33RR20070204,  I08S,    31,  1,     28,     28,2,20070224,1336,-55.1722,  85.1588, 4652,    307.2,   2.3636,  34.1781,2,  34.1790,2,    245.5,2,    244.6,2,    37.45,2,    31.82,2,     0.01,2,     2.19,2,    3.559,2,    1.869,2, -999.000,5,   2197.4,2,   2289.1,2,     42.3,2,    35.42,2, -999.000,9, -999.000,-999.0000,9,-999.0000,  -999.00,9,  -999.00, -999.000,9, -999.000,   -999.0,9,   -999.0,  -999.00,9,-999.0000,9,-999.0000,9,-999.0000,9,-999.0000,9,-999.0000,9,-999.0000,9
  33RR20070204,  I08S,    31,  1,     27,     27,2,20070224,1336,-55.1722,  85.1588, 4652,    358.4,   2.0738,  34.2023,2,  34.2025,2,    228.8,2,    239.6,2,    43.02,2,    32.47,2,     0.01,2,     2.23,2,    3.284,2,    1.703,2, -999.000,5,   2208.3,2,   2295.8,2,     42.3,2,    35.56,2, -999.000,9, -999.000,-999.0000,9,-999.0000,  -999.00,9,  -999.00, -999.000,9, -999.000,   -999.0,9,   -999.0,  -999.00,9,-999.0000,9,-999.0000,9,-999.0000,9,-999.0000,9,-999.0000,9,-999.0000,9
  33RR20070204,  I08S,    31,  1,     26,     26,4,20070224,1336,-55.1722,  85.1588, 4652,    408.2,   2.4293,  34.3019,2,  34.4656,0,   -999.0,9,    182.4,0,    67.04,4,    33.95,4,     0.01,4,     2.32,4,    0.355,4,    0.184,4, -999.000,5,   2249.0,3,   2325.5,4,     42.0,2,    37.57,2, -999.000,9, -999.000,-999.0000,9,-999.0000,  -999.00,9,  -999.00, -999.000,9, -999.000,   -999.0,9,   -999.0,  -999.00,9,-999.0000,9,-999.0000,9,-999.0000,9,-999.0000,9,-999.0000,9,-999.0000,9
  33RR20070204,  I08S,    31,  1,     25,     25,2,20070224,1336,-55.1722,  85.1588, 4652,    459.0,   2.2444,  34.3404,2,  34.3424,2,    203.1,2,    204.0,2,    56.25,2,    34.31,2,     0.01,2,     2.35,2,    2.155,2,    1.132,2, -999.000,5,   2231.4,2,   2309.3,2,     42.1,2,    37.72,2, -999.000,9, -999.000,-999.0000,9,-999.0000,  -999.00,9,  -999.00, -999.000,9, -999.000,   -999.0,9,   -999.0,  -999.00,9,-999.0000,9,-999.0000,9,-999.0000,9,-999.0000,9,-999.0000,9,-999.0000,9
  33RR20070204,  I08S,    31,  1,     24,     24,2,20070224,1336,-55.1722,  85.1588, 4652,    510.1,   2.5123,  34.4468,2,  34.4428,2,    193.7,2,    186.8,2,    61.84,2,    34.39,2,     0.01,2,     2.36,2,    1.255,2,    0.658,2, -999.000,5,   2240.8,2,   2316.1,2,     41.8,2,    36.71,2, -999.000,9, -999.000,-999.0000,9,-999.0000,  -999.00,9,  -999.00, -999.000,9, -999.000,   -999.0,9,   -999.0,  -999.00,9,-999.0000,9,-999.0000,9,-999.0000,9,-999.0000,9,-999.0000,9,-999.0000,9
  33RR20070204,  I08S,    31,  1,     23,     23,2,20070224,1336,-55.1722,  85.1588, 4652,    611.1,   2.4107,  34.4895,2,  34.4900,2,    180.6,2,    181.1,2,    66.39,2,    34.49,2,     0.01,2,     2.37,2,    1.017,2,    0.537,2, -999.000,5,   2246.1,2,   2320.6,2,     41.5,2,    37.07,2, -999.000,9, -999.000,-999.0000,9,-999.0000,  -999.00,9,  -999.00, -999.000,9, -999.000,   -999.0,9,   -999.0,  -999.00,9,-999.0000,9,-999.0000,9,-999.0000,9,-999.0000,9,-999.0000,9,-999.0000,9
  33RR20070204,  I08S,    31,  1,     22,     22,2,20070224,1336,-55.1722,  85.1588, 4652,    708.5,   2.3972,  34.5590,2,  34.5559,2,    177.2,2,    176.8,2,    70.52,2,    34.11,2,     0.01,2,     2.34,2,    0.674,2,    0.357,2, -999.000,5,   2250.5,2,   2326.7,2,     41.5,2,    36.69,2, -999.000,9, -999.000,-999.0000,9,-999.0000,  -999.00,9,  -999.00, -999.000,9, -999.000,   -999.0,9,   -999.0,  -999.00,9,-999.0000,9,-999.0000,9,-999.0000,9,-999.0000,9,-999.0000,9,-999.0000,9
  33RR20070204,  I08S,    31,  1,     21,     21,2,20070224,1336,-55.1722,  85.1588, 4652,    811.8,   2.2517,  34.5987,2,  34.5991,2,    175.6,2,    174.2,2,    75.50,2,    34.05,2,     0.01,2,     2.33,2,    0.597,2,    0.321,2, -999.000,5,   2253.8,6,   2331.0,2,     41.4,2,    36.54,2, -999.000,9, -999.000,-999.0000,9,-999.0000,  -999.00,9,  -999.00, -999.000,9, -999.000,   -999.0,9,   -999.0,  -999.00,9,-999.0000,9,-999.0000,9,-999.0000,9,-999.0000,9,-999.0000,9,-999.0000,9
  33RR20070204,  I08S,    31,  1,     20,     20,2,20070224,1336,-55.1722,  85.1588, 4652,    910.6,   2.2692,  34.6377,2,  34.6384,2,    177.5,2,    175.5,2,    76.74,2,    33.31,2,     0.00,2,     2.29,2,    0.435,2,    0.230,2, -999.000,5,   2254.7,2,   2333.4,2,     41.2,2,    35.96,2, -999.000,9, -999.000,-999.0000,9,-999.0000,  -999.00,9,  -999.00, -999.000,9, -999.000,   -999.0,9,   -999.0,  -999.00,9,-999.0000,9,-999.0000,9,-999.0000,9,-999.0000,9,-999.0000,9,-999.0000,9
  33RR20070204,  I08S,    31,  1,     19,     19,2,20070224,1336,-55.1722,  85.1588, 4652,   1012.0,   2.2312,  34.6748,2,  34.6753,2,    180.7,2,    179.8,2,    77.56,2,    32.42,2,     0.00,2,     2.23,2,    0.332,2,    0.174,2, -999.000,5,   2251.7,2,   2335.7,2,     41.2,2,    33.64,2, -999.000,9, -999.000,-999.0000,9,-999.0000,  -999.00,9,  -999.00, -999.000,9, -999.000,   -999.0,9,   -999.0,  -999.00,9,-999.0000,9,-999.0000,9,-999.0000,9,-999.0000,9,-999.0000,9,-999.0000,9
  33RR20070204,  I08S,    31,  1,     18,     18,2,20070224,1336,-55.1722,  85.1588, 4652,   1114.1,   2.2271,  34.7081,2,  34.7081,2,    184.6,2,    184.4,2,    77.34,2,    31.54,2,     0.00,2,     2.17,2,    0.232,2,    0.120,2, -999.000,5,   2248.1,2,   2337.6,2,     40.9,2,    33.24,2, -999.000,9, -999.000,-999.0000,9,-999.0000,  -999.00,9,  -999.00, -999.000,9, -999.000,   -999.0,9,   -999.0,  -999.00,9,-999.0000,9,-999.0000,9,-999.0000,9,-999.0000,9,-999.0000,9,-999.0000,9
  33RR20070204,  I08S,    31,  1,     17,     17,2,20070224,1336,-55.1722,  85.1588, 4652,   1215.2,   2.1628,  34.7327,2,  34.7337,2,    188.7,2,    190.0,2,    78.57,2,    30.66,2,     0.00,2,     2.11,2,    0.166,2,    0.085,2, -999.000,5,   2244.6,2,   2339.8,2,     41.1,2,    32.30,2, -999.000,9, -999.000,-999.0000,9,-999.0000,  -999.00,9,  -999.00, -999.000,9, -999.000,   -999.0,9,   -999.0,  -999.00,9,-999.0000,9,-999.0000,9,-999.0000,9,-999.0000,9,-999.0000,9,-999.0000,9
  33RR20070204,  I08S,    31,  1,     16,     16,2,20070224,1336,-55.1722,  85.1588, 4652,   1316.6,   2.0965,  34.7402,2,  34.7419,2,    191.9,2,    192.3,2,    80.03,2,    30.55,2,     0.00,2,     2.09,2, -999.000,9, -999.000,9, -999.000,9,   2244.7,2,   2343.1,2,     40.7,2,    31.87,2, -999.000,9, -999.000,-999.0000,9,-999.0000,  -999.00,9,  -999.00, -999.000,9, -999.000,   -999.0,9,   -999.0,  -999.00,9,-999.0000,9,-999.0000,9,-999.0000,9,-999.0000,9,-999.0000,9,-999.0000,9
  33RR20070204,  I08S,    31,  1,     15,     15,2,20070224,1336,-55.1722,  85.1588, 4652,   1416.2,   2.0139,  34.7475,2,  34.7478,2,    193.9,2,    194.7,2,    81.88,2,    30.28,2,     0.00,2,     2.08,2,    0.136,2,    0.066,2, -999.000,5,   2244.6,2,   2344.6,2,     40.2,2,    31.80,2, -999.000,9, -999.000,-999.0000,9,-999.0000,  -999.00,9,  -999.00, -999.000,9, -999.000,   -999.0,9,   -999.0,  -999.00,9,-999.0000,9,-999.0000,9,-999.0000,9,-999.0000,9,-999.0000,9,-999.0000,9
  33RR20070204,  I08S,    31,  1,     14,     14,2,20070224,1336,-55.1722,  85.1588, 4652,   1517.2,   1.9235,  34.7476,2,  34.7480,2,    194.7,2,    196.0,2,    84.17,2,    30.42,2,     0.00,2,     2.09,2, -999.000,9, -999.000,9, -999.000,9,   2244.9,2,   2345.2,2,     40.0,2,    31.45,2, -999.000,9, -999.000,-999.0000,9,-999.0000,  -999.00,9,  -999.00, -999.000,9, -999.000,   -999.0,9,   -999.0,  -999.00,9,-999.0000,9,-999.0000,9,-999.0000,9,-999.0000,9,-999.0000,9,-999.0000,9
  33RR20070204,  I08S,    31,  1,     13,     13,2,20070224,1336,-55.1722,  85.1588, 4652,   1617.0,   1.8285,  34.7508,2,  34.7511,2,    196.2,2,    198.4,2,    86.86,2,    30.25,2,     0.00,2,     2.08,2,    0.139,2,    0.069,2, -999.000,5,   2245.1,2,   2345.7,2,     40.8,2,    31.31,2, -999.000,9, -999.000,-999.0000,9,-999.0000,  -999.00,9,  -999.00, -999.000,9, -999.000,   -999.0,9,   -999.0,  -999.00,9,-999.0000,9,-999.0000,9,-999.0000,9,-999.0000,9,-999.0000,9,-999.0000,9
  33RR20070204,  I08S,    31,  1,     12,     12,2,20070224,1336,-55.1722,  85.1588, 4652,   1822.7,   1.6245,  34.7468,2,  34.7474,2,    199.0,2,    200.4,2,    92.27,2,    30.50,2,     0.00,2,     2.09,2,    0.154,2,    0.077,2, -999.000,5,   2247.5,2,   2349.1,2,     40.3,2,    32.35,2, -999.000,9, -999.000,-999.0000,9,-999.0000,  -999.00,9,  -999.00, -999.000,9, -999.000,   -999.0,9,   -999.0,  -999.00,9,-999.0000,9,-999.0000,9,-999.0000,9,-999.0000,9,-999.0000,9,-999.0000,9
  33RR20070204,  I08S,    31,  1,     11,     11,2,20070224,1336,-55.1722,  85.1588, 4652,   2025.3,   1.4511,  34.7393,2,  34.7405,2,    201.8,2,    201.8,2,    95.81,2,    30.74,2,     0.00,2,     2.17,3,    0.178,2,    0.092,2, -999.000,5,   2248.5,2,   2340.9,4,     40.2,2,    31.84,2, -999.000,9, -999.000,-999.0000,9,-999.0000,  -999.00,9,  -999.00, -999.000,9, -999.000,   -999.0,9,   -999.0,  -999.00,9,-999.0000,9,-999.0000,9,-999.0000,9,-999.0000,9,-999.0000,9,-999.0000,9
  33RR20070204,  I08S,    31,  1,     10,     10,2,20070224,1336,-55.1722,  85.1588, 4652,   2276.7,   1.2083,  34.7288,2,  34.7297,2,    203.7,2,    204.7,2,   104.37,2,    31.03,2,     0.00,2,     2.15,2,    0.175,2,    0.090,2, -999.000,5,   2252.1,2,   2353.5,2,     40.4,2,    32.28,2, -999.000,9, -999.000,-999.0000,9,-999.0000,  -999.00,9,  -999.00, -999.000,9, -999.000,   -999.0,9,   -999.0,  -999.00,9,-999.0000,9,-999.0000,9,-999.0000,9,-999.0000,9,-999.0000,9,-999.0000,9
  33RR20070204,  I08S,    31,  1,      9,      9,2,20070224,1336,-55.1722,  85.1588, 4652,   2530.2,   1.0203,  34.7185,2,  34.7192,2,    206.1,2,    206.4,2,   110.22,2,    31.64,2,     0.00,2,     2.17,2,    0.193,2,    0.096,2, -999.000,5,   2253.2,2,   2353.3,2,     41.5,2,    32.81,2, -999.000,9, -999.000,-999.0000,9,-999.0000,  -999.00,9,  -999.00, -999.000,9, -999.000,   -999.0,9,   -999.0,  -999.00,9,-999.0000,9,-999.0000,9,-999.0000,9,-999.0000,9,-999.0000,9,-999.0000,9
  33RR20070204,  I08S,    31,  1,      8,      8,2,20070224,1336,-55.1722,  85.1588, 4652,   2785.3,   0.8243,  34.7074,2,  34.7076,2,    208.7,2,    208.6,2,   115.04,2,    31.98,2,     0.00,2,     2.21,2,    0.228,2,    0.117,2, -999.000,5,   2254.6,2,   2353.2,2,     40.7,2,    33.79,2, -999.000,9, -999.000,-999.0000,9,-999.0000,  -999.00,9,  -999.00, -999.000,9, -999.000,   -999.0,9,   -999.0,  -999.00,9,-999.0000,9,-999.0000,9,-999.0000,9,-999.0000,9,-999.0000,9,-999.0000,9
  33RR20070204,  I08S,    31,  1,      7,      7,2,20070224,1336,-55.1722,  85.1588, 4652,   3038.1,   0.6327,  34.6974,2,  34.6976,2,    212.0,2,    211.5,2,   120.70,2,    32.28,2,     0.00,2,     2.23,2,    0.279,2,    0.145,2, -999.000,5,   2259.0,2,   2353.3,2,     40.2,2,    34.22,2, -999.000,9, -999.000,-999.0000,9,-999.0000,  -999.00,9,  -999.00, -999.000,9, -999.000,   -999.0,9,   -999.0,  -999.00,9,-999.0000,9,-999.0000,9,-999.0000,9,-999.0000,9,-999.0000,9,-999.0000,9
  33RR20070204,  I08S,    31,  1,      6,      6,2,20070224,1336,-55.1722,  85.1588, 4652,   3292.9,   0.5043,  34.6910,2,  34.6911,2,    215.0,2,    215.0,2,   123.00,2,    32.32,2,     0.00,2,     2.23,2,    0.369,2,    0.192,2, -999.000,5,   2255.9,2,   2354.0,2,     40.7,2,    33.39,2, -999.000,9, -999.000,-999.0000,9,-999.0000,  -999.00,9,  -999.00, -999.000,9, -999.000,   -999.0,9,   -999.0,  -999.00,9,-999.0000,9,-999.0000,9,-999.0000,9,-999.0000,9,-999.0000,9,-999.0000,9
  33RR20070204,  I08S,    31,  1,      5,      5,2,20070224,1336,-55.1722,  85.1588, 4652,   3544.8,   0.3855,  34.6857,2,  34.6862,2,    218.8,2,    218.7,2,   125.30,2,    32.41,2,     0.00,2,     2.23,2,    0.513,2,    0.269,2, -999.000,5,   2255.6,2,   2353.0,2,     40.5,2,    33.85,2, -999.000,9, -999.000,-999.0000,9,-999.0000,  -999.00,9,  -999.00, -999.000,9, -999.000,   -999.0,9,   -999.0,  -999.00,9,-999.0000,9,-999.0000,9,-999.0000,9,-999.0000,9,-999.0000,9,-999.0000,9
  33RR20070204,  I08S,    31,  1,      4,      4,2,20070224,1336,-55.1722,  85.1588, 4652,   3848.4,   0.2594,  34.6800,2,  34.6799,2,    223.4,2,    222.8,2,   126.98,2,    32.29,2,     0.00,2,     2.23,2,    0.673,2,    0.353,2, -999.000,5,   2254.6,2,   2351.8,2,     41.2,2,    33.62,2, -999.000,9, -999.000,-999.0000,9,-999.0000,  -999.00,9,  -999.00, -999.000,9, -999.000,   -999.0,9,   -999.0,  -999.00,9,-999.0000,9,-999.0000,9,-999.0000,9,-999.0000,9,-999.0000,9,-999.0000,9
  33RR20070204,  I08S,    31,  1,      3,      3,2,20070224,1336,-55.1722,  85.1588, 4652,   4153.6,   0.1764,  34.6759,2,  34.6759,2,    226.2,2,    226.2,2,   128.23,2,    32.38,2,     0.00,2,     2.23,2,    0.832,2,    0.431,2, -999.000,5,   2254.7,2,   2352.0,2,     40.6,2,    34.22,2, -999.000,9, -999.000,-999.0000,9,-999.0000,  -999.00,9,  -999.00, -999.000,9, -999.000,   -999.0,9,   -999.0,  -999.00,9,-999.0000,9,-999.0000,9,-999.0000,9,-999.0000,9,-999.0000,9,-999.0000,9
  33RR20070204,  I08S,    31,  1,      2,      2,2,20070224,1336,-55.1722,  85.1588, 4652,   4461.8,   0.1097,  34.6719,2,  34.6716,2,    229.4,2,    228.9,2,   130.32,2,    32.28,2,     0.00,2,     2.23,2,    1.037,2,    0.539,2, -999.000,5,   2254.5,2,   2351.7,2,     40.7,2,    33.50,2, -999.000,9, -999.000,-999.0000,9,-999.0000,  -999.00,9,  -999.00, -999.000,9, -999.000,   -999.0,9,   -999.0,  -999.00,9,-999.0000,9,-999.0000,9,-999.0000,9,-999.0000,9,-999.0000,9,-999.0000,9
  33RR20070204,  I08S,    31,  1,      1,      1,2,20070224,1336,-55.1722,  85.1588, 4652,   4746.4,   0.1216,  34.6708,2,  34.6710,2,    229.5,2,    229.8,2,   130.10,2,    32.36,2,     0.00,2,     2.23,2,    1.085,2,    0.555,2, -999.000,5,   2258.0,2,   2351.3,2,     40.2,2,    34.13,2, -999.000,9, -999.000,-999.0000,9,-999.0000,  -999.00,9,  -999.00, -999.000,9, -999.000,   -999.0,9,   -999.0,  -999.00,9,-999.0000,9,-999.0000,9,-999.0000,9,-999.0000,9,-999.0000,9,-999.0000,9