BOTTLE,20150626SIOCCHRJL
EXPOCODE,SECT_ID,STNNBR,CASTNO,SAMPNO,BTLNBR,BTLNBR_FLAG_W,DATE,TIME,LATITUDE,LONGITUDE,DEPTH,CTDPRS,CTDTMP,CTDSAL,CTDSAL_FLAG_W,SALNTY,SALNTY_FLAG_W,CTDOXY,CTDOXY_FLAG_W,OXYGEN,OXYGEN_FLAG_W,SILCAT,SILCAT_FLAG_W,NITRAT,NITRAT_FLAG_W,NITRIT,NITRIT_FLAG_W,PHSPHT,PHSPHT_FLAG_W,CFC-11,CFC-11_FLAG_W,CFC-12,CFC-12_FLAG_W,CFC113,CFC113_FLAG_W,TCARBN,TCARBN_FLAG_W,ALKALI,ALKALI_FLAG_W,DOC,DOC_FLAG_W,TDN,TDN_FLAG_W,TRITUM,TRITUM_FLAG_W,TRITER,HELIUM,HELIUM_FLAG_W,HELIER,DELHE3,DELHE3_FLAG_W,DELHER,NEON,NEON_FLAG_W,NEONER,DELC14,DELC14_FLAG_W,C14ERR,DELC13,DELC13_FLAG_W,CDOM325,CDOM325_FLAG_W,CDOM340,CDOM340_FLAG_W,CDOM380,CDOM380_FLAG_W,CDOM412,CDOM412_FLAG_W,CDOMSL,CDOMSL_FLAG_W,CDOMSN,CDOMSN_FLAG_W
,,,,,,,,,,,METERS,DBAR,ITS-90,PSS-78,,PSS-78,,UMOL/KG,,UMOL/KG,,UMOL/KG,,UMOL/KG,,UMOL/KG,,UMOL/KG,,PMOL/KG,,PMOL/KG,,PMOL/KG,,UMOL/KG,,UMOL/KG,,UMOL/KG,,UMOL/KG,,TU,,TU,NMOL/KG,,NMOL/KG,PERCNT,,PERCNT,NMOL/KG,,NMOL/KG,/MILLE,,/MILLE,/MILLE,,1/M,,1/M,,1/M,,1/M,,1/NM,,1/NM,
  33RR20070204,  I08S,    69,  1,     36,     38,2,20070308,0441,-38.0003,  95.0043, 4087,      5.0,  15.8731,  35.0862,2,  35.0864,2,    248.5,2,    248.2,2,     0.73,2,     2.56,2,     0.06,2,     0.34,2,    2.754,2,    1.648,2, -999.000,5,   2063.9,6,   2314.2,2,     57.4,2,     6.82,2, -999.000,9, -999.000,-999.0000,9,-999.0000,  -999.00,9,  -999.00, -999.000,9, -999.000,   -999.0,9,   -999.0,  -999.00,9,   0.1080,2,   0.0765,2,   0.0359,2,   0.0251,2,   0.0151,4,   0.0178,4
  33RR20070204,  I08S,    69,  1,     35,     35,2,20070308,0441,-38.0003,  95.0043, 4087,     22.4,  15.8400,  35.0826,2,  35.0831,2,    248.5,2,    248.6,2,     0.71,2,     2.56,2,     0.06,2,     0.34,2,    2.742,2,    1.643,2, -999.000,5,   2064.3,2,   2313.0,2,     57.3,2,     6.77,2, -999.000,9, -999.000,-999.0000,9,-999.0000,  -999.00,9,  -999.00, -999.000,9, -999.000,   -999.0,9,   -999.0,  -999.00,9,   0.1059,2,   0.0742,2,   0.0350,2,   0.0248,2,   0.0150,3,   0.0179,3
  33RR20070204,  I08S,    69,  1,     34,   9419,2,20070308,0441,-38.0003,  95.0043, 4087,     48.1,  15.3114,  35.0527,2,  35.0504,2,    250.8,2,    250.2,2,     0.89,2,     3.23,2,     0.08,2,     0.39,2, -999.000,9, -999.000,9, -999.000,9,   2066.3,2,   2312.6,2,     57.0,2,     8.13,2, -999.000,9, -999.000,-999.0000,9,-999.0000,  -999.00,9,  -999.00, -999.000,9, -999.000,   -999.0,9,   -999.0,  -999.00,9,   0.1032,2,   0.0721,2,   0.0346,2,   0.0246,2,   0.0150,3,   0.0176,3
  33RR20070204,  I08S,    69,  1,     33,     33,2,20070308,0441,-38.0003,  95.0043, 4087,     92.2,  12.0720,  35.0398,2,  35.0445,2,    251.4,2,    251.8,2,     2.05,2,     7.89,2,     0.35,2,     0.67,2,    3.307,2,    1.935,2, -999.000,5,   2101.5,2,   2307.2,2,     55.0,2,    12.24,2, -999.000,9, -999.000,-999.0000,9,-999.0000,  -999.00,9,  -999.00, -999.000,9, -999.000,   -999.0,9,   -999.0,  -999.00,9,   0.0800,2,   0.0575,2,   0.0319,2,   0.0253,2,   0.0127,2,   0.0140,2
  33RR20070204,  I08S,    69,  1,     32,     37,2,20070308,0441,-38.0003,  95.0043, 4087,    143.9,  10.9816,  34.8671,2,  34.8659,2,    255.6,2,    256.1,2,     2.62,2,    10.66,2,     0.01,2,     0.82,2,    3.464,2,    2.024,2, -999.000,5,   2105.8,2,   2297.9,2,     52.1,2,    13.82,2, -999.000,9, -999.000,-999.0000,9,-999.0000,  -999.00,9,  -999.00, -999.000,9, -999.000,   -999.0,9,   -999.0,  -999.00,9,   0.0710,2,   0.0493,2,   0.0268,2,   0.0212,2,   0.0128,3,   0.0149,4
  33RR20070204,  I08S,    69,  1,     31,     31,2,20070308,0441,-38.0003,  95.0043, 4087,    169.1,  10.8266,  34.8411,2,  34.8439,2,    256.3,2,    257.4,2,     2.80,2,    10.95,2,     0.01,2,     0.84,2,    3.500,2,    2.030,2, -999.000,5,   2104.4,2,   2296.0,2,     50.5,2,    14.80,2, -999.000,9, -999.000,-999.0000,9,-999.0000,  -999.00,9,  -999.00, -999.000,9, -999.000,   -999.0,9,   -999.0,  -999.00,9,   0.0665,2,   0.0452,2,   0.0245,2,   0.0195,2,   0.0130,2,   0.0154,3
  33RR20070204,  I08S,    69,  1,     30,     30,2,20070308,0441,-38.0003,  95.0043, 4087,    193.9,  10.6819,  34.8167,2,  34.8171,2,    258.6,2,    259.4,2,     2.97,2,    11.37,2,     0.01,2,     0.86,2,    3.540,2,    2.048,2, -999.000,5,   2104.9,2,   2295.0,2,     48.9,2,    14.95,2, -999.000,9, -999.000,-999.0000,9,-999.0000,  -999.00,9,  -999.00, -999.000,9, -999.000,   -999.0,9,   -999.0,  -999.00,9,   0.0678,2,   0.0462,2,   0.0252,2,   0.0200,2,   0.0129,2,   0.0152,3
  33RR20070204,  I08S,    69,  1,     29,     29,2,20070308,0441,-38.0003,  95.0043, 4087,    244.2,  10.6644,  34.8344,2,  34.8315,2,    256.3,2,    255.5,2,     3.34,2,    11.79,2,     0.01,2,     0.89,2,    3.523,2,    2.037,2, -999.000,5,   2110.9,2,   2296.6,2,     47.1,2,    15.40,2, -999.000,9, -999.000,-999.0000,9,-999.0000,  -999.00,9,  -999.00, -999.000,9, -999.000,   -999.0,9,   -999.0,  -999.00,9,   0.0671,2,   0.0455,2,   0.0250,2,   0.0196,2,   0.0131,2,   0.0154,3
  33RR20070204,  I08S,    69,  1,     28,     28,2,20070308,0441,-38.0003,  95.0043, 4087,    294.0,  10.4968,  34.8192,2,  34.8187,2,    253.7,2,    253.4,2,     3.52,2,    12.26,2,     0.01,2,     0.92,2,    3.513,2,    2.040,2, -999.000,5,   2111.9,2,   2296.3,2,     46.6,2,    16.05,2, -999.000,9, -999.000,-999.0000,9,-999.0000,  -999.00,9,  -999.00, -999.000,9, -999.000,   -999.0,9,   -999.0,  -999.00,9,   0.0649,2,   0.0438,2,   0.0234,2,   0.0186,2,   0.0132,2,   0.0159,3
  33RR20070204,  I08S,    69,  1,     27,     27,2,20070308,0441,-38.0003,  95.0043, 4087,    344.0,  10.4188,  34.8245,2,  34.8268,2,    249.5,2,    249.5,2,     3.89,2,    12.91,2,     0.00,2,     0.95,2,    3.514,2,    1.995,2, -999.000,5,   2115.3,2,   2296.4,2,     45.9,2,    16.87,2, -999.000,9, -999.000,-999.0000,9,-999.0000,  -999.00,9,  -999.00, -999.000,9, -999.000,   -999.0,9,   -999.0,  -999.00,9,   0.0659,2,   0.0443,2,   0.0240,2,   0.0187,2,   0.0132,2,   0.0158,3
  33RR20070204,  I08S,    69,  1,     26,     26,2,20070308,0441,-38.0003,  95.0043, 4087,    394.4,  10.1402,  34.7839,2,  34.7871,2,    248.0,2,    249.8,2,     4.26,2,    13.52,2,     0.00,2,     0.99,2, -999.000,9, -999.000,9, -999.000,9,   2116.8,2,   2295.2,2,     45.4,2,    17.28,2, -999.000,9, -999.000,-999.0000,9,-999.0000,  -999.00,9,  -999.00, -999.000,9, -999.000,   -999.0,9,   -999.0,  -999.00,9,   0.0682,2,   0.0461,2,   0.0255,2,   0.0201,2,   0.0129,2,   0.0151,3
  33RR20070204,  I08S,    69,  1,     25,     25,2,20070308,0441,-38.0003,  95.0043, 4087,    444.8,  10.0050,  34.7710,2,  34.7719,2,    250.0,2,    248.6,2,     4.24,2,    13.94,2,     0.00,2,     1.02,2,    3.567,2,    2.031,2, -999.000,5,   2118.8,2,   2293.4,2,     44.3,2,    17.68,2, -999.000,9, -999.000,-999.0000,9,-999.0000,  -999.00,9,  -999.00, -999.000,9, -999.000,   -999.0,9,   -999.0,  -999.00,9,   0.0676,2,   0.0455,2,   0.0247,2,   0.0193,2,   0.0131,2,   0.0156,3
  33RR20070204,  I08S,    69,  1,     24,     24,2,20070308,0441,-38.0003,  95.0043, 4087,    494.7,   9.8235,  34.7495,2,  34.7521,2,    245.8,2,    245.9,2,     4.42,2,    14.64,2,     0.00,2,     1.07,2, -999.000,9, -999.000,9, -999.000,9,   2119.8,2,   2293.9,2,     43.4,2,    18.36,2, -999.000,9, -999.000,-999.0000,9,-999.0000,  -999.00,9,  -999.00, -999.000,9, -999.000,   -999.0,9,   -999.0,  -999.00,9,   0.0651,2,   0.0431,2,   0.0230,2,   0.0179,2,   0.0134,2,   0.0163,3
  33RR20070204,  I08S,    69,  1,     23,     23,2,20070308,0441,-38.0003,  95.0043, 4087,    579.6,   9.3103,  34.6788,2,  34.6811,2,    238.5,2,    238.6,2,     5.58,2,    16.57,2,     0.00,2,     1.17,2,    3.559,2,    1.945,2, -999.000,5,   2126.0,2,   2289.7,2,     42.2,2,    18.61,2, -999.000,9, -999.000,-999.0000,9,-999.0000,  -999.00,9,  -999.00, -999.000,9, -999.000,   -999.0,9,   -999.0,  -999.00,9,   0.0657,2,   0.0431,2,   0.0231,2,   0.0180,2,   0.0135,3,   0.0165,3
  33RR20070204,  I08S,    69,  1,     22,     22,2,20070308,0441,-38.0003,  95.0043, 4087,    680.4,   8.3413,  34.5727,2,  34.5754,2,    219.5,2,    218.8,2,     9.12,2,    20.67,2,     0.00,2,     1.44,2,    3.121,2,    1.641,2, -999.000,5,   2142.1,2,   2286.4,2,     41.8,2,    23.57,2, -999.000,9, -999.000,-999.0000,9,-999.0000,  -999.00,9,  -999.00, -999.000,9, -999.000,   -999.0,9,   -999.0,  -999.00,9,   0.0745,2,   0.0498,2,   0.0274,2,   0.0210,2,   0.0134,2,   0.0157,3
  33RR20070204,  I08S,    69,  1,     21,     21,2,20070308,0441,-38.0003,  95.0043, 4087,    780.3,   7.1995,  34.4767,2,  34.4770,2,    209.7,2,    208.5,2,    14.44,2,    24.33,2,     0.00,2,     1.68,2,    2.680,2,    1.387,2, -999.000,5,   2157.4,2,   2285.4,2,     40.9,2,    27.12,2, -999.000,9, -999.000,-999.0000,9,-999.0000,  -999.00,9,  -999.00, -999.000,9, -999.000,   -999.0,9,   -999.0,  -999.00,9,   0.0847,2,   0.0574,2,   0.0323,2,   0.0247,2,   0.0132,2,   0.0149,3
  33RR20070204,  I08S,    69,  1,     20,     20,2,20070308,0441,-38.0003,  95.0043, 4087,    880.6,   5.9099,  34.3946,2,  34.3960,2,    205.9,2,    205.7,2,    20.76,2,    27.47,2,     0.00,2,     1.89,2,    2.271,2,    1.156,2, -999.000,5,   2173.5,2,   2285.9,2,     40.5,2,    29.51,2, -999.000,9, -999.000,-999.0000,9,-999.0000,  -999.00,9,  -999.00, -999.000,9, -999.000,   -999.0,9,   -999.0,  -999.00,9,   0.0842,2,   0.0563,2,   0.0317,2,   0.0241,2,   0.0134,3,   0.0153,3
  33RR20070204,  I08S,    69,  1,     19,     19,2,20070308,0441,-38.0003,  95.0043, 4087,    980.9,   4.8775,  34.3515,2,  34.3522,2,    205.3,2,    206.1,2,    27.69,2,    29.67,2,     0.00,2,     2.04,2,    2.020,2,    1.019,2, -999.000,5,   2186.5,2,   2291.7,2,     40.7,2,    32.42,2, -999.000,9, -999.000,-999.0000,9,-999.0000,  -999.00,9,  -999.00, -999.000,9, -999.000,   -999.0,9,   -999.0,  -999.00,9,   0.0888,2,   0.0595,2,   0.0336,2,   0.0257,2,   0.0132,3,   0.0150,3
  33RR20070204,  I08S,    69,  1,     18,     18,2,20070308,0441,-38.0003,  95.0043, 4087,   1081.3,   4.2158,  34.3639,2,  34.3634,2,    197.4,2,    197.0,2,    37.21,2,    31.34,2,     0.00,2,     2.18,2,    1.369,2,    0.696,2, -999.000,5,   2202.7,2,   2299.7,2,     41.0,2,    33.06,2, -999.000,9, -999.000,-999.0000,9,-999.0000,  -999.00,9,  -999.00, -999.000,9, -999.000,   -999.0,9,   -999.0,  -999.00,9,   0.0974,2,   0.0661,2,   0.0379,2,   0.0288,2,   0.0131,3,   0.0145,3
  33RR20070204,  I08S,    69,  1,     17,     17,2,20070308,0441,-38.0003,  95.0043, 4087,   1181.7,   3.6493,  34.3847,2,  34.3852,2,    192.6,2,    191.7,2,    45.17,2,    32.50,2,     0.00,2,     2.27,2,    1.218,2,    0.618,2, -999.000,5,   2215.5,2,   2309.0,2,     40.7,2,    34.49,2, -999.000,9, -999.000,-999.0000,9,-999.0000,  -999.00,9,  -999.00, -999.000,9, -999.000,   -999.0,9,   -999.0,  -999.00,9,   0.1052,2,   0.0723,2,   0.0418,2,   0.0318,2,   0.0130,3,   0.0142,3
  33RR20070204,  I08S,    69,  1,     16,     16,2,20070308,0441,-38.0003,  95.0043, 4087,   1282.4,   3.3747,  34.4298,2,  34.4307,2,    182.1,2,    181.2,2,    53.92,2,    33.55,2,     0.00,2,     2.34,2,    0.789,2,    0.404,2, -999.000,5,   2227.7,2,   2317.6,2,     40.6,2,    35.13,2, -999.000,9, -999.000,-999.0000,9,-999.0000,  -999.00,9,  -999.00, -999.000,9, -999.000,   -999.0,9,   -999.0,  -999.00,9,   0.1063,2,   0.0723,2,   0.0411,2,   0.0310,2,   0.0134,3,   0.0147,3
  33RR20070204,  I08S,    69,  1,     15,     15,2,20070308,0441,-38.0003,  95.0043, 4087,   1383.5,   3.2254,  34.4927,2,  34.4937,2,    168.5,2,    167.1,2,    64.52,2,    34.21,2,     0.00,2,     2.40,2,    0.356,2,    0.180,2, -999.000,5,   2242.8,2,   2328.6,2,     40.8,2,    36.05,2, -999.000,9, -999.000,-999.0000,9,-999.0000,  -999.00,9,  -999.00, -999.000,9, -999.000,   -999.0,9,   -999.0,  -999.00,9,   0.1146,2,   0.0790,2,   0.0448,2,   0.0334,2,   0.0135,3,   0.0146,3
  33RR20070204,  I08S,    69,  1,     14,     14,2,20070308,0441,-38.0003,  95.0043, 4087,   1484.3,   3.0379,  34.5385,2,  34.5383,2,    163.3,2,    163.9,2,    69.91,2,    34.40,2,     0.00,2,     2.41,2,    0.233,2,    0.117,2, -999.000,5,   2250.1,2,   2333.8,2,     40.8,2,    35.63,2, -999.000,9, -999.000,-999.0000,9,-999.0000,  -999.00,9,  -999.00, -999.000,9, -999.000,   -999.0,9,   -999.0,  -999.00,9,   0.1191,2,   0.0828,2,   0.0469,2,   0.0351,2,   0.0136,3,   0.0145,3
  33RR20070204,  I08S,    69,  1,     13,     13,2,20070308,0441,-38.0003,  95.0043, 4087,   1585.2,   2.9255,  34.5648,2,  34.5654,2,    162.7,2,    163.0,2,    73.31,2,    34.29,2,     0.00,2,     2.40,2,    0.188,2,    0.094,2, -999.000,5,   2253.2,6,   2335.9,2,     40.6,2,    35.99,2, -999.000,9, -999.000,-999.0000,9,-999.0000,  -999.00,9,  -999.00, -999.000,9, -999.000,   -999.0,9,   -999.0,  -999.00,9,   0.1246,2,   0.0873,2,   0.0501,2,   0.0375,2,   0.0132,3,   0.0141,3
  33RR20070204,  I08S,    69,  1,     12,     12,2,20070308,0441,-38.0003,  95.0043, 4087,   1686.3,   2.7755,  34.6030,2,  34.6037,2,    163.2,2,    164.1,2,    76.92,2,    33.90,2,     0.00,2,     2.38,2,    0.142,2,    0.070,2, -999.000,5,   2254.6,2,   2339.6,2,     40.6,2,    35.43,2, -999.000,9, -999.000,-999.0000,9,-999.0000,  -999.00,9,  -999.00, -999.000,9, -999.000,   -999.0,9,   -999.0,  -999.00,9,   0.1211,2,   0.0840,2,   0.0473,2,   0.0351,2,   0.0136,3,   0.0147,3
  33RR20070204,  I08S,    69,  1,     11,     11,2,20070308,0441,-38.0003,  95.0043, 4087,   1787.3,   2.6950,  34.6390,2,  34.6369,0,    163.8,2,    163.2,2,    81.33,2,    33.69,2,     0.00,2,     2.37,2,    0.079,2,    0.037,2, -999.000,5,   2259.4,2,   2344.9,2,     40.9,2,    35.36,2, -999.000,9, -999.000,-999.0000,9,-999.0000,  -999.00,9,  -999.00, -999.000,9, -999.000,   -999.0,9,   -999.0,  -999.00,9,   0.1267,2,   0.0893,2,   0.0513,2,   0.0386,2,   0.0133,3,   0.0140,3
  33RR20070204,  I08S,    69,  1,     10,     10,2,20070308,0441,-38.0003,  95.0043, 4087,   1989.2,   2.4836,  34.6859,2,  34.6857,2,    172.1,2,    172.7,2,    82.52,2,    32.58,2,     0.00,2,     2.27,2, -999.000,9, -999.000,9, -999.000,9,   2255.3,2,   2345.6,2,     41.0,2,    34.41,2, -999.000,9, -999.000,-999.0000,9,-999.0000,  -999.00,9,  -999.00, -999.000,9, -999.000,   -999.0,9,   -999.0,  -999.00,9,   0.1251,2,   0.0876,2,   0.0491,2,   0.0361,2,   0.0134,2,   0.0145,3
  33RR20070204,  I08S,    69,  1,      9,      9,2,20070308,0441,-38.0003,  95.0043, 4087,   2191.7,   2.3027,  34.7213,2,  34.7219,2,    179.5,2,    180.8,2,    84.73,2,    31.41,2,     0.00,2,     2.19,2,    0.046,2,    0.022,2, -999.000,5,   2250.9,2,   2349.4,2,     41.0,2,    32.74,2, -999.000,9, -999.000,-999.0000,9,-999.0000,  -999.00,9,  -999.00, -999.000,9, -999.000,   -999.0,9,   -999.0,  -999.00,9,   0.1234,2,   0.0858,2,   0.0475,2,   0.0347,2,   0.0138,2,   0.0150,3
  33RR20070204,  I08S,    69,  1,      8,      8,2,20070308,0441,-38.0003,  95.0043, 4087,   2444.1,   2.0763,  34.7425,2,  34.7423,2,    188.7,2,    189.6,2,    88.15,2,    30.88,2,     0.00,2,     2.14,2,    0.029,2,    0.014,2, -999.000,5,   2249.1,2,   2349.9,2,     40.6,2,    32.12,2, -999.000,9, -999.000,-999.0000,9,-999.0000,  -999.00,9,  -999.00, -999.000,9, -999.000,   -999.0,9,   -999.0,  -999.00,9,   0.1226,2,   0.0858,2,   0.0478,2,   0.0356,2,   0.0134,3,   0.0145,3
  33RR20070204,  I08S,    69,  1,      7,      7,2,20070308,0441,-38.0003,  95.0043, 4087,   2697.6,   1.8229,  34.7457,2,  34.7458,2,    194.5,2,    195.0,2,    93.99,2,    30.72,2,     0.00,2,     2.13,2,    0.018,2,    0.009,2, -999.000,5,   2250.2,6,   2353.4,2,     40.2,2,    32.43,2, -999.000,9, -999.000,-999.0000,9,-999.0000,  -999.00,9,  -999.00, -999.000,9, -999.000,   -999.0,9,   -999.0,  -999.00,9,   0.1217,2,   0.0846,2,   0.0466,2,   0.0339,2,   0.0137,2,   0.0150,3
  33RR20070204,  I08S,    69,  1,      6,      6,2,20070308,0441,-38.0003,  95.0043, 4087,   2951.0,   1.5433,  34.7396,2,  34.7368,0,    199.3,2,    199.5,2,   101.68,2,    31.00,2,     0.00,2,     2.14,2,    0.025,2,    0.013,2, -999.000,5,   2251.3,2,   2356.6,2,     40.0,2,    32.07,2, -999.000,9, -999.000,-999.0000,9,-999.0000,  -999.00,9,  -999.00, -999.000,9, -999.000,   -999.0,9,   -999.0,  -999.00,9,   0.1206,2,   0.0839,2,   0.0459,2,   0.0333,2,   0.0137,2,   0.0151,3
  33RR20070204,  I08S,    69,  1,      5,      5,2,20070308,0441,-38.0003,  95.0043, 4087,   3205.2,   1.3347,  34.7311,2,  34.7286,0,    202.0,2,    202.2,2,   108.16,2,    31.29,2,     0.00,2,     2.17,2,    0.037,2,    0.019,2, -999.000,5,   2253.4,2,   2358.6,2,     40.0,2,    32.74,2, -999.000,9, -999.000,-999.0000,9,-999.0000,  -999.00,9,  -999.00, -999.000,9, -999.000,   -999.0,9,   -999.0,  -999.00,9,   0.1271,2,   0.0896,2,   0.0503,2,   0.0369,2,   0.0132,2,   0.0144,3
  33RR20070204,  I08S,    69,  1,      4,      4,2,20070308,0441,-38.0003,  95.0043, 4087,   3458.8,   1.1439,  34.7219,2,  34.7199,0,    205.0,2,    204.9,2,   114.25,2,    31.47,2,     0.00,2,     2.19,2,    0.054,2,    0.027,2, -999.000,5,   2256.4,2,   2361.7,2,     39.9,2,    32.65,2, -999.000,9, -999.000,-999.0000,9,-999.0000,  -999.00,9,  -999.00, -999.000,9, -999.000,   -999.0,9,   -999.0,  -999.00,9,   0.1202,2,   0.0835,2,   0.0458,2,   0.0332,2,   0.0138,2,   0.0151,3
  33RR20070204,  I08S,    69,  1,      3,      3,2,20070308,0441,-38.0003,  95.0043, 4087,   3713.2,   1.0289,  34.7156,2,  34.7152,2,    206.1,2,    206.2,2,   118.51,2,    31.89,2,     0.00,2,     2.21,2,    0.057,2,    0.029,2, -999.000,5,   2259.8,2,   2366.2,2,     40.9,2,    33.53,2, -999.000,9, -999.000,-999.0000,9,-999.0000,  -999.00,9,  -999.00, -999.000,9, -999.000,   -999.0,9,   -999.0,  -999.00,9,   0.1186,2,   0.0819,2,   0.0446,2,   0.0322,2,   0.0138,2,   0.0154,3
  33RR20070204,  I08S,    69,  1,      2,      2,2,20070308,0441,-38.0003,  95.0043, 4087,   3968.1,   0.9943,  34.7128,2,  34.7132,2,    206.8,2,    206.1,2,   120.34,2,    32.08,2,     0.00,2,     2.22,2,    0.048,2,    0.027,2, -999.000,5,   2262.0,2,   2369.4,2,     41.2,2,    33.52,2, -999.000,9, -999.000,-999.0000,9,-999.0000,  -999.00,9,  -999.00, -999.000,9, -999.000,   -999.0,9,   -999.0,  -999.00,9,   0.1190,2,   0.0824,2,   0.0450,2,   0.0324,2,   0.0138,2,   0.0154,3
  33RR20070204,  I08S,    69,  1,      1,      1,2,20070308,0441,-38.0003,  95.0043, 4087,   4159.8,   0.9931,  34.7119,2,  34.7125,2,    206.7,2,    206.7,2,   120.54,2,    32.26,2,     0.00,2,     2.22,2,    0.043,2,    0.024,2, -999.000,5,   2264.5,6,   2370.3,2,     41.2,2,    33.45,2, -999.000,9, -999.000,-999.0000,9,-999.0000,  -999.00,9,  -999.00, -999.000,9, -999.000,   -999.0,9,   -999.0,  -999.00,9,   0.1250,2,   0.0873,2,   0.0483,2,   0.0348,2,   0.0136,2,   0.0149,3