BOTTLE,20150626SIOCCHRJL
EXPOCODE,SECT_ID,STNNBR,CASTNO,SAMPNO,BTLNBR,BTLNBR_FLAG_W,DATE,TIME,LATITUDE,LONGITUDE,DEPTH,CTDPRS,CTDTMP,CTDSAL,CTDSAL_FLAG_W,SALNTY,SALNTY_FLAG_W,CTDOXY,CTDOXY_FLAG_W,OXYGEN,OXYGEN_FLAG_W,SILCAT,SILCAT_FLAG_W,NITRAT,NITRAT_FLAG_W,NITRIT,NITRIT_FLAG_W,PHSPHT,PHSPHT_FLAG_W,CFC-11,CFC-11_FLAG_W,CFC-12,CFC-12_FLAG_W,CFC113,CFC113_FLAG_W,TCARBN,TCARBN_FLAG_W,ALKALI,ALKALI_FLAG_W,DOC,DOC_FLAG_W,TDN,TDN_FLAG_W,TRITUM,TRITUM_FLAG_W,TRITER,HELIUM,HELIUM_FLAG_W,HELIER,DELHE3,DELHE3_FLAG_W,DELHER,NEON,NEON_FLAG_W,NEONER,DELC14,DELC14_FLAG_W,C14ERR,DELC13,DELC13_FLAG_W,CDOM325,CDOM325_FLAG_W,CDOM340,CDOM340_FLAG_W,CDOM380,CDOM380_FLAG_W,CDOM412,CDOM412_FLAG_W,CDOMSL,CDOMSL_FLAG_W,CDOMSN,CDOMSN_FLAG_W
,,,,,,,,,,,METERS,DBAR,ITS-90,PSS-78,,PSS-78,,UMOL/KG,,UMOL/KG,,UMOL/KG,,UMOL/KG,,UMOL/KG,,UMOL/KG,,PMOL/KG,,PMOL/KG,,PMOL/KG,,UMOL/KG,,UMOL/KG,,UMOL/KG,,UMOL/KG,,TU,,TU,NMOL/KG,,NMOL/KG,PERCNT,,PERCNT,NMOL/KG,,NMOL/KG,/MILLE,,/MILLE,/MILLE,,1/M,,1/M,,1/M,,1/M,,1/NM,,1/NM,
  33RR20070204,  I08S,    64,  2,     34,   9419,2,20070306,1335,-40.4967,  95.0053, 3494,      6.1,  14.3057,  34.7666,2,  34.7677,2,    256.3,2,    257.6,2,     0.14,2,     4.49,2,     0.09,2,     0.47,2, -999.000,9, -999.000,9, -999.000,9,   2061.6,6,   2296.1,2,   -999.0,9,  -999.00,9, -999.000,9, -999.000,-999.0000,9,-999.0000,  -999.00,9,  -999.00, -999.000,9, -999.000,   -999.0,9,   -999.0,  -999.00,9,-999.0000,9,-999.0000,9,-999.0000,9,-999.0000,9,-999.0000,9,-999.0000,9
  33RR20070204,  I08S,    64,  2,     33,     33,2,20070306,1335,-40.4967,  95.0053, 3494,     24.5,  14.3026,  34.7706,2,  34.7691,2,    258.0,2,    257.8,2,     0.12,2,     4.49,2,     0.09,2,     0.48,2, -999.000,9, -999.000,9, -999.000,9,   2062.0,2,   2296.0,2,   -999.0,9,  -999.00,9, -999.000,9, -999.000,-999.0000,9,-999.0000,  -999.00,9,  -999.00, -999.000,9, -999.000,   -999.0,9,   -999.0,  -999.00,9,-999.0000,9,-999.0000,9,-999.0000,9,-999.0000,9,-999.0000,9,-999.0000,9
  33RR20070204,  I08S,    64,  2,     32,     37,2,20070306,1335,-40.4967,  95.0053, 3494,     49.7,  13.4403,  34.7861,2,  34.7807,2,    262.1,2,    262.8,2,     0.48,2,     5.66,2,     0.13,2,     0.57,2, -999.000,9, -999.000,9, -999.000,9,   2071.8,2,   2297.1,2,   -999.0,9,  -999.00,9, -999.000,9, -999.000,-999.0000,9,-999.0000,  -999.00,9,  -999.00, -999.000,9, -999.000,   -999.0,9,   -999.0,  -999.00,9,-999.0000,9,-999.0000,9,-999.0000,9,-999.0000,9,-999.0000,9,-999.0000,9
  33RR20070204,  I08S,    64,  2,     31,     31,2,20070306,1335,-40.4967,  95.0053, 3494,     74.8,  12.2513,  34.8539,2,  34.8549,2,    259.7,2,    259.3,2,     1.63,2,     7.20,2,     0.50,2,     0.69,2, -999.000,9, -999.000,9, -999.000,9,   2093.1,2,   2298.5,2,   -999.0,9,  -999.00,9, -999.000,9, -999.000,-999.0000,9,-999.0000,  -999.00,9,  -999.00, -999.000,9, -999.000,   -999.0,9,   -999.0,  -999.00,9,-999.0000,9,-999.0000,9,-999.0000,9,-999.0000,9,-999.0000,9,-999.0000,9
  33RR20070204,  I08S,    64,  2,     30,     30,2,20070306,1335,-40.4967,  95.0053, 3494,    101.6,  11.7912,  34.9602,2,  34.9538,2,    253.4,2,    253.2,2,     2.19,2,     8.75,2,     0.16,2,     0.72,2, -999.000,9, -999.000,9, -999.000,9,   2103.5,2,   2300.8,2,   -999.0,9,  -999.00,9, -999.000,9, -999.000,-999.0000,9,-999.0000,  -999.00,9,  -999.00, -999.000,9, -999.000,   -999.0,9,   -999.0,  -999.00,9,-999.0000,9,-999.0000,9,-999.0000,9,-999.0000,9,-999.0000,9,-999.0000,9
  33RR20070204,  I08S,    64,  2,     29,     29,2,20070306,1335,-40.4967,  95.0053, 3494,    152.0,  11.3020,  34.8896,2,  34.8887,2,    254.3,2,    255.0,2,     2.76,2,    10.21,2,     0.01,2,     0.80,2, -999.000,9, -999.000,9, -999.000,9,   2104.5,2,   2297.8,2,   -999.0,9,  -999.00,9, -999.000,9, -999.000,-999.0000,9,-999.0000,  -999.00,9,  -999.00, -999.000,9, -999.000,   -999.0,9,   -999.0,  -999.00,9,-999.0000,9,-999.0000,9,-999.0000,9,-999.0000,9,-999.0000,9,-999.0000,9
  33RR20070204,  I08S,    64,  2,     28,     28,2,20070306,1335,-40.4967,  95.0053, 3494,    201.6,  10.9477,  34.8447,2,  34.8443,2,    255.8,2,    258.1,2,     2.93,2,    10.82,2,     0.01,2,     0.83,2, -999.000,9, -999.000,9, -999.000,9,   2104.3,2,   2295.9,2,   -999.0,9,  -999.00,9, -999.000,9, -999.000,-999.0000,9,-999.0000,  -999.00,9,  -999.00, -999.000,9, -999.000,   -999.0,9,   -999.0,  -999.00,9,-999.0000,9,-999.0000,9,-999.0000,9,-999.0000,9,-999.0000,9,-999.0000,9
  33RR20070204,  I08S,    64,  2,     27,     27,2,20070306,1335,-40.4967,  95.0053, 3494,    251.4,  10.9767,  34.8743,2,  34.8636,2,    255.0,2,    255.0,2,     3.10,2,    11.28,2,     0.01,2,     0.85,2, -999.000,9, -999.000,9, -999.000,9,   2107.4,2,   2296.9,2,   -999.0,9,  -999.00,9, -999.000,9, -999.000,-999.0000,9,-999.0000,  -999.00,9,  -999.00, -999.000,9, -999.000,   -999.0,9,   -999.0,  -999.00,9,-999.0000,9,-999.0000,9,-999.0000,9,-999.0000,9,-999.0000,9,-999.0000,9
  33RR20070204,  I08S,    64,  2,     26,     26,2,20070306,1335,-40.4967,  95.0053, 3494,    305.9,  10.6852,  34.8356,2,  34.8329,2,    255.0,2,    254.2,2,     3.27,2,    12.03,2,     0.01,2,     0.90,2, -999.000,9, -999.000,9, -999.000,9,   2109.8,2,   2295.7,2,   -999.0,9,  -999.00,9, -999.000,9, -999.000,-999.0000,9,-999.0000,  -999.00,9,  -999.00, -999.000,9, -999.000,   -999.0,9,   -999.0,  -999.00,9,-999.0000,9,-999.0000,9,-999.0000,9,-999.0000,9,-999.0000,9,-999.0000,9
  33RR20070204,  I08S,    64,  2,     25,     25,2,20070306,1335,-40.4967,  95.0053, 3494,    355.1,  10.7323,  34.8609,2,  34.8520,2,    253.8,2,    251.7,2,     3.45,2,    12.17,2,     0.01,2,     0.91,2, -999.000,9, -999.000,9, -999.000,9,   2112.0,2,   2298.8,2,   -999.0,9,  -999.00,9, -999.000,9, -999.000,-999.0000,9,-999.0000,  -999.00,9,  -999.00, -999.000,9, -999.000,   -999.0,9,   -999.0,  -999.00,9,-999.0000,9,-999.0000,9,-999.0000,9,-999.0000,9,-999.0000,9,-999.0000,9
  33RR20070204,  I08S,    64,  2,     24,     24,2,20070306,1335,-40.4967,  95.0053, 3494,    406.4,  10.6798,  34.8687,2,  34.8709,2,    248.0,2,    248.3,2,     3.63,2,    12.35,2,     0.00,2,     0.91,2, -999.000,9, -999.000,9, -999.000,9,   2114.1,2,   2295.6,2,   -999.0,9,  -999.00,9, -999.000,9, -999.000,-999.0000,9,-999.0000,  -999.00,9,  -999.00, -999.000,9, -999.000,   -999.0,9,   -999.0,  -999.00,9,-999.0000,9,-999.0000,9,-999.0000,9,-999.0000,9,-999.0000,9,-999.0000,9
  33RR20070204,  I08S,    64,  2,     23,     23,2,20070306,1335,-40.4967,  95.0053, 3494,    457.2,  10.5153,  34.8507,2,  34.8512,2,    245.8,2,    245.6,2,     3.79,2,    13.00,2,     0.00,2,     0.95,2, -999.000,9, -999.000,9, -999.000,9,   2115.7,2,   2297.3,2,   -999.0,9,  -999.00,9, -999.000,9, -999.000,-999.0000,9,-999.0000,  -999.00,9,  -999.00, -999.000,9, -999.000,   -999.0,9,   -999.0,  -999.00,9,-999.0000,9,-999.0000,9,-999.0000,9,-999.0000,9,-999.0000,9,-999.0000,9
  33RR20070204,  I08S,    64,  2,     22,     22,2,20070306,1335,-40.4967,  95.0053, 3494,    507.7,  10.2640,  34.8184,2,  34.8188,2,    243.5,2,    243.3,2,     3.97,2,    13.79,2,     0.00,2,     1.00,2, -999.000,9, -999.000,9, -999.000,9,   2118.6,2,   2293.7,2,   -999.0,9,  -999.00,9, -999.000,9, -999.000,-999.0000,9,-999.0000,  -999.00,9,  -999.00, -999.000,9, -999.000,   -999.0,9,   -999.0,  -999.00,9,-999.0000,9,-999.0000,9,-999.0000,9,-999.0000,9,-999.0000,9,-999.0000,9
  33RR20070204,  I08S,    64,  2,     21,     21,2,20070306,1335,-40.4967,  95.0053, 3494,    606.6,   9.6042,  34.7255,2,  34.7250,2,    237.8,2,    237.8,2,     4.93,2,    15.90,2,     0.00,2,     1.12,2, -999.000,9, -999.000,9, -999.000,9,   -999.0,9,   -999.0,9,   -999.0,9,  -999.00,9, -999.000,9, -999.000,-999.0000,9,-999.0000,  -999.00,9,  -999.00, -999.000,9, -999.000,   -999.0,9,   -999.0,  -999.00,9,-999.0000,9,-999.0000,9,-999.0000,9,-999.0000,9,-999.0000,9,-999.0000,9
  33RR20070204,  I08S,    64,  2,     20,     20,2,20070306,1335,-40.4967,  95.0053, 3494,    707.7,   8.6423,  34.6062,2,  34.6075,2,    222.7,2,    223.0,2,     7.45,2,    19.61,2,     0.00,2,     1.35,2, -999.000,9, -999.000,9, -999.000,9,   2137.5,2,   2286.1,2,   -999.0,9,  -999.00,9, -999.000,9, -999.000,-999.0000,9,-999.0000,  -999.00,9,  -999.00, -999.000,9, -999.000,   -999.0,9,   -999.0,  -999.00,9,-999.0000,9,-999.0000,9,-999.0000,9,-999.0000,9,-999.0000,9,-999.0000,9
  33RR20070204,  I08S,    64,  2,     19,     19,2,20070306,1335,-40.4967,  95.0053, 3494,    808.1,   7.2946,  34.4883,2,  34.4889,2,    207.9,2,    207.9,2,    13.90,2,    24.13,2,     0.00,2,     1.65,2, -999.000,9, -999.000,9, -999.000,9,   -999.0,9,   -999.0,9,   -999.0,9,  -999.00,9, -999.000,9, -999.000,-999.0000,9,-999.0000,  -999.00,9,  -999.00, -999.000,9, -999.000,   -999.0,9,   -999.0,  -999.00,9,-999.0000,9,-999.0000,9,-999.0000,9,-999.0000,9,-999.0000,9,-999.0000,9
  33RR20070204,  I08S,    64,  2,     18,     18,2,20070306,1335,-40.4967,  95.0053, 3494,    907.7,   6.1202,  34.3990,2,  34.3990,2,    210.0,2,    211.6,2,    18.79,2,    26.64,2,     0.00,2,     1.83,2, -999.000,9, -999.000,9, -999.000,9,   2169.4,2,   2285.7,2,   -999.0,9,  -999.00,9, -999.000,9, -999.000,-999.0000,9,-999.0000,  -999.00,9,  -999.00, -999.000,9, -999.000,   -999.0,9,   -999.0,  -999.00,9,-999.0000,9,-999.0000,9,-999.0000,9,-999.0000,9,-999.0000,9,-999.0000,9
  33RR20070204,  I08S,    64,  2,     17,     17,2,20070306,1335,-40.4967,  95.0053, 3494,   1008.0,   5.1047,  34.3589,2,  34.3575,2,    204.7,2,    206.1,2,    25.64,2,    29.21,2,     0.00,2,     1.99,2, -999.000,9, -999.000,9, -999.000,9,   -999.0,9,   -999.0,9,   -999.0,9,  -999.00,9, -999.000,9, -999.000,-999.0000,9,-999.0000,  -999.00,9,  -999.00, -999.000,9, -999.000,   -999.0,9,   -999.0,  -999.00,9,-999.0000,9,-999.0000,9,-999.0000,9,-999.0000,9,-999.0000,9,-999.0000,9
  33RR20070204,  I08S,    64,  2,     16,     16,2,20070306,1335,-40.4967,  95.0053, 3494,   1108.9,   4.2904,  34.3424,2,  34.3406,2,    204.8,2,    205.6,2,    32.90,2,    30.77,2,     0.00,2,     2.12,2, -999.000,9, -999.000,9, -999.000,9,   2194.6,2,   2294.6,2,   -999.0,9,  -999.00,9, -999.000,9, -999.000,-999.0000,9,-999.0000,  -999.00,9,  -999.00, -999.000,9, -999.000,   -999.0,9,   -999.0,  -999.00,9,-999.0000,9,-999.0000,9,-999.0000,9,-999.0000,9,-999.0000,9,-999.0000,9
  33RR20070204,  I08S,    64,  2,     15,     15,2,20070306,1335,-40.4967,  95.0053, 3494,   1209.9,   3.7403,  34.3570,2,  34.3557,2,    201.3,2,    201.2,2,    40.38,2,    32.00,2,     0.00,2,     2.21,2, -999.000,9, -999.000,9, -999.000,9,   -999.0,9,   -999.0,9,   -999.0,9,  -999.00,9, -999.000,9, -999.000,-999.0000,9,-999.0000,  -999.00,9,  -999.00, -999.000,9, -999.000,   -999.0,9,   -999.0,  -999.00,9,-999.0000,9,-999.0000,9,-999.0000,9,-999.0000,9,-999.0000,9,-999.0000,9
  33RR20070204,  I08S,    64,  2,     14,     14,2,20070306,1335,-40.4967,  95.0053, 3494,   1310.3,   3.3996,  34.3997,2,  34.3999,2,    191.7,2,    191.3,2,    48.07,2,    33.04,2,     0.00,2,     2.28,2, -999.000,9, -999.000,9, -999.000,9,   2219.2,2,   2307.4,2,   -999.0,9,  -999.00,9, -999.000,9, -999.000,-999.0000,9,-999.0000,  -999.00,9,  -999.00, -999.000,9, -999.000,   -999.0,9,   -999.0,  -999.00,9,-999.0000,9,-999.0000,9,-999.0000,9,-999.0000,9,-999.0000,9,-999.0000,9
  33RR20070204,  I08S,    64,  2,     13,     13,2,20070306,1335,-40.4967,  95.0053, 3494,   1410.6,   3.1546,  34.4530,2,  34.4519,2,    183.4,2,    182.3,2,    55.58,2,    33.65,2,     0.00,2,     2.33,2, -999.000,9, -999.000,9, -999.000,9,   -999.0,9,   -999.0,9,   -999.0,9,  -999.00,9, -999.000,9, -999.000,-999.0000,9,-999.0000,  -999.00,9,  -999.00, -999.000,9, -999.000,   -999.0,9,   -999.0,  -999.00,9,-999.0000,9,-999.0000,9,-999.0000,9,-999.0000,9,-999.0000,9,-999.0000,9
  33RR20070204,  I08S,    64,  2,     12,     12,2,20070306,1335,-40.4967,  95.0053, 3494,   1512.5,   2.9805,  34.5010,2,  34.5012,2,    177.4,2,    176.5,2,    61.51,2,    33.78,2,     0.00,2,     2.34,2, -999.000,9, -999.000,9, -999.000,9,   -999.0,9,   -999.0,9,   -999.0,9,  -999.00,9, -999.000,9, -999.000,-999.0000,9,-999.0000,  -999.00,9,  -999.00, -999.000,9, -999.000,   -999.0,9,   -999.0,  -999.00,9,-999.0000,9,-999.0000,9,-999.0000,9,-999.0000,9,-999.0000,9,-999.0000,9
  33RR20070204,  I08S,    64,  2,     11,     11,2,20070306,1335,-40.4967,  95.0053, 3494,   1613.3,   2.8354,  34.5493,2,  34.5495,2,    175.3,2,    174.5,2,    65.26,2,    33.57,2,     0.00,2,     2.32,2, -999.000,9, -999.000,9, -999.000,9,   2242.5,2,   -999.0,5,   -999.0,9,  -999.00,9, -999.000,9, -999.000,-999.0000,9,-999.0000,  -999.00,9,  -999.00, -999.000,9, -999.000,   -999.0,9,   -999.0,  -999.00,9,-999.0000,9,-999.0000,9,-999.0000,9,-999.0000,9,-999.0000,9,-999.0000,9
  33RR20070204,  I08S,    64,  2,     10,     10,2,20070306,1335,-40.4967,  95.0053, 3494,   1713.7,   2.7274,  34.5960,2,  34.5973,2,    175.1,2,    175.1,2,    68.63,2,    33.12,2,     0.00,2,     2.29,2, -999.000,9, -999.000,9, -999.000,9,   -999.0,9,   -999.0,9,   -999.0,9,  -999.00,9, -999.000,9, -999.000,-999.0000,9,-999.0000,  -999.00,9,  -999.00, -999.000,9, -999.000,   -999.0,9,   -999.0,  -999.00,9,-999.0000,9,-999.0000,9,-999.0000,9,-999.0000,9,-999.0000,9,-999.0000,9
  33RR20070204,  I08S,    64,  2,      9,      9,2,20070306,1335,-40.4967,  95.0053, 3494,   1814.2,   2.6255,  34.6343,2,  34.6335,2,    176.6,2,    176.8,2,    70.99,2,    32.63,2,     0.00,2,     2.26,2, -999.000,9, -999.000,9, -999.000,9,   -999.0,9,   -999.0,9,   -999.0,9,  -999.00,9, -999.000,9, -999.000,-999.0000,9,-999.0000,  -999.00,9,  -999.00, -999.000,9, -999.000,   -999.0,9,   -999.0,  -999.00,9,-999.0000,9,-999.0000,9,-999.0000,9,-999.0000,9,-999.0000,9,-999.0000,9
  33RR20070204,  I08S,    64,  2,      8,      8,2,20070306,1335,-40.4967,  95.0053, 3494,   1915.5,   2.5624,  34.6629,2,  34.6607,2,    179.1,2,    179.0,2,    71.98,2,    32.05,2,     0.00,2,     2.21,2, -999.000,9, -999.000,9, -999.000,9,   2243.4,2,   2335.5,2,   -999.0,9,  -999.00,9, -999.000,9, -999.000,-999.0000,9,-999.0000,  -999.00,9,  -999.00, -999.000,9, -999.000,   -999.0,9,   -999.0,  -999.00,9,-999.0000,9,-999.0000,9,-999.0000,9,-999.0000,9,-999.0000,9,-999.0000,9
  33RR20070204,  I08S,    64,  2,      7,      7,2,20070306,1335,-40.4967,  95.0053, 3494,   2015.9,   2.4643,  34.6901,2,  34.6896,2,    179.7,2,    180.3,2,    75.15,2,    31.69,2,     0.00,2,     2.19,2, -999.000,9, -999.000,9, -999.000,9,   -999.0,9,   -999.0,9,   -999.0,9,  -999.00,9, -999.000,9, -999.000,-999.0000,9,-999.0000,  -999.00,9,  -999.00, -999.000,9, -999.000,   -999.0,9,   -999.0,  -999.00,9,-999.0000,9,-999.0000,9,-999.0000,9,-999.0000,9,-999.0000,9,-999.0000,9
  33RR20070204,  I08S,    64,  2,      6,      6,2,20070306,1335,-40.4967,  95.0053, 3494,   2268.7,   2.2783,  34.7327,2,  34.7295,2,    188.0,2,    188.5,2,    78.92,2,    30.63,2,     0.00,2,     2.11,2, -999.000,9, -999.000,9, -999.000,9,   -999.0,9,   -999.0,9,   -999.0,9,  -999.00,9, -999.000,9, -999.000,-999.0000,9,-999.0000,  -999.00,9,  -999.00, -999.000,9, -999.000,   -999.0,9,   -999.0,  -999.00,9,-999.0000,9,-999.0000,9,-999.0000,9,-999.0000,9,-999.0000,9,-999.0000,9
  33RR20070204,  I08S,    64,  2,      5,      5,2,20070306,1335,-40.4967,  95.0053, 3494,   2523.7,   2.0590,  34.7509,2,  34.7495,2,    195.0,2,    195.3,2,    84.31,2,    30.09,2,     0.00,2,     2.07,2, -999.000,9, -999.000,9, -999.000,9,   2243.3,2,   2346.2,2,   -999.0,9,  -999.00,9, -999.000,9, -999.000,-999.0000,9,-999.0000,  -999.00,9,  -999.00, -999.000,9, -999.000,   -999.0,9,   -999.0,  -999.00,9,-999.0000,9,-999.0000,9,-999.0000,9,-999.0000,9,-999.0000,9,-999.0000,9
  33RR20070204,  I08S,    64,  2,      4,      4,2,20070306,1335,-40.4967,  95.0053, 3494,   2776.6,   1.7408,  34.7471,2,  34.7464,2,    198.6,2,    198.7,2,    93.89,2,    30.46,2,     0.00,2,     2.10,2, -999.000,9, -999.000,9, -999.000,9,   -999.0,9,   -999.0,9,   -999.0,9,  -999.00,9, -999.000,9, -999.000,-999.0000,9,-999.0000,  -999.00,9,  -999.00, -999.000,9, -999.000,   -999.0,9,   -999.0,  -999.00,9,-999.0000,9,-999.0000,9,-999.0000,9,-999.0000,9,-999.0000,9,-999.0000,9
  33RR20070204,  I08S,    64,  2,      3,      3,2,20070306,1335,-40.4967,  95.0053, 3494,   3029.3,   1.4398,  34.7361,2,  34.7346,2,    201.7,2,    201.8,2,   103.92,2,    30.92,2,     0.00,2,     2.14,2, -999.000,9, -999.000,9, -999.000,9,   -999.0,9,   2356.5,2,   -999.0,9,  -999.00,9, -999.000,9, -999.000,-999.0000,9,-999.0000,  -999.00,9,  -999.00, -999.000,9, -999.000,   -999.0,9,   -999.0,  -999.00,9,-999.0000,9,-999.0000,9,-999.0000,9,-999.0000,9,-999.0000,9,-999.0000,9
  33RR20070204,  I08S,    64,  2,      2,      2,2,20070306,1335,-40.4967,  95.0053, 3494,   3334.2,   1.2576,  34.7270,2,  34.7278,2,    204.0,2,    203.7,2,   110.35,2,    31.29,2,     0.00,2,     2.17,2, -999.000,9, -999.000,9, -999.000,9,   2257.1,6,   2358.2,2,   -999.0,9,  -999.00,9, -999.000,9, -999.000,-999.0000,9,-999.0000,  -999.00,9,  -999.00, -999.000,9, -999.000,   -999.0,9,   -999.0,  -999.00,9,-999.0000,9,-999.0000,9,-999.0000,9,-999.0000,9,-999.0000,9,-999.0000,9
  33RR20070204,  I08S,    64,  2,      1,      1,2,20070306,1335,-40.4967,  95.0053, 3494,   3542.2,   1.1748,  34.7224,2,  34.7235,2,    204.5,2,    204.4,2,   113.97,2,    31.42,2,     0.00,2,     2.18,2, -999.000,9, -999.000,9, -999.000,9,   2258.6,2,   2361.6,2,   -999.0,9,  -999.00,9, -999.000,9, -999.000,-999.0000,9,-999.0000,  -999.00,9,  -999.00, -999.000,9, -999.000,   -999.0,9,   -999.0,  -999.00,9,-999.0000,9,-999.0000,9,-999.0000,9,-999.0000,9,-999.0000,9,-999.0000,9