BOTTLE,20150626SIOCCHRJL
EXPOCODE,SECT_ID,STNNBR,CASTNO,SAMPNO,BTLNBR,BTLNBR_FLAG_W,DATE,TIME,LATITUDE,LONGITUDE,DEPTH,CTDPRS,CTDTMP,CTDSAL,CTDSAL_FLAG_W,SALNTY,SALNTY_FLAG_W,CTDOXY,CTDOXY_FLAG_W,OXYGEN,OXYGEN_FLAG_W,SILCAT,SILCAT_FLAG_W,NITRAT,NITRAT_FLAG_W,NITRIT,NITRIT_FLAG_W,PHSPHT,PHSPHT_FLAG_W,CFC-11,CFC-11_FLAG_W,CFC-12,CFC-12_FLAG_W,CFC113,CFC113_FLAG_W,TCARBN,TCARBN_FLAG_W,ALKALI,ALKALI_FLAG_W,DOC,DOC_FLAG_W,TDN,TDN_FLAG_W,TRITUM,TRITUM_FLAG_W,TRITER,HELIUM,HELIUM_FLAG_W,HELIER,DELHE3,DELHE3_FLAG_W,DELHER,NEON,NEON_FLAG_W,NEONER,DELC14,DELC14_FLAG_W,C14ERR,DELC13,DELC13_FLAG_W,CDOM325,CDOM325_FLAG_W,CDOM340,CDOM340_FLAG_W,CDOM380,CDOM380_FLAG_W,CDOM412,CDOM412_FLAG_W,CDOMSL,CDOMSL_FLAG_W,CDOMSN,CDOMSN_FLAG_W
,,,,,,,,,,,METERS,DBAR,ITS-90,PSS-78,,PSS-78,,UMOL/KG,,UMOL/KG,,UMOL/KG,,UMOL/KG,,UMOL/KG,,UMOL/KG,,PMOL/KG,,PMOL/KG,,PMOL/KG,,UMOL/KG,,UMOL/KG,,UMOL/KG,,UMOL/KG,,TU,,TU,NMOL/KG,,NMOL/KG,PERCNT,,PERCNT,NMOL/KG,,NMOL/KG,/MILLE,,/MILLE,/MILLE,,1/M,,1/M,,1/M,,1/M,,1/NM,,1/NM,
  33RR20070204,  I08S,    73,  2,     36,     38,2,20070309,0824,-36.0177,  95.0083, 4305,      4.5,  16.9616,  34.9475,2,  34.9479,2,    244.8,2,    245.3,2,     0.53,2,     2.89,2,     0.05,2,     0.36,2,    2.633,2,    1.608,2, -999.000,5,   2057.7,6,   2306.4,2,     60.4,2,     7.56,2, -999.000,9, -999.000,-999.0000,9,-999.0000,  -999.00,9,  -999.00, -999.000,9, -999.000,   -999.0,9,   -999.0,  -999.00,9,   0.0946,2,   0.0644,2,   0.0284,2,   0.0211,2,   0.0141,3,   0.0186,3
  33RR20070204,  I08S,    73,  2,     35,     35,2,20070309,0824,-36.0177,  95.0083, 4305,     30.6,  16.7959,  34.9389,2,  34.9392,2,    246.2,2,    245.4,2,     0.32,2,     2.93,2,     0.05,2,     0.36,2,    2.630,2,    1.584,2, -999.000,5,   2057.1,2,   2304.5,2,     59.7,2,     7.65,2, -999.000,9, -999.000,-999.0000,9,-999.0000,  -999.00,9,  -999.00, -999.000,9, -999.000,     51.8,2,      3.1,     1.69,2,   0.0975,2,   0.0662,2,   0.0307,2,   0.0228,2,   0.0140,3,   0.0177,3
  33RR20070204,  I08S,    73,  2,     34,   9419,2,20070309,0824,-36.0177,  95.0083, 4305,     55.5,  16.4659,  34.9760,2,  34.9648,2,    250.0,2,    250.0,2,     0.52,2,     2.98,2,     0.05,2,     0.37,2,    2.728,2,    1.654,2, -999.000,5,   2061.1,2,   2307.3,2,     57.1,2,     7.75,2, -999.000,9, -999.000,-999.0000,9,-999.0000,  -999.00,9,  -999.00, -999.000,9, -999.000,   -999.0,9,   -999.0,  -999.00,9,   0.1031,2,   0.0710,2,   0.0342,2,   0.0253,2,   0.0136,3,   0.0167,3
  33RR20070204,  I08S,    73,  2,     33,     33,2,20070309,0824,-36.0177,  95.0083, 4305,     81.0,  12.8513,  35.0729,2,  35.0778,2,    255.0,2,    255.3,2,     1.71,2,     5.84,2,     0.61,2,     0.59,2,    3.237,2,    1.902,2, -999.000,5,   2098.5,2,   2314.7,2,     56.0,2,    11.36,2, -999.000,9, -999.000,-999.0000,9,-999.0000,  -999.00,9,  -999.00, -999.000,9, -999.000,     52.8,2,      3.2,     1.34,2,   0.0972,2,   0.0695,2,   0.0366,2,   0.0284,2,   0.0131,2,   0.0147,3
  33RR20070204,  I08S,    73,  2,     32,     37,2,20070309,0824,-36.0177,  95.0083, 4305,    105.8,  12.3522,  35.0540,2,  35.0701,2,    252.0,2,    251.2,2,     1.90,2,     7.06,2,     0.67,2,     0.64,2,    3.258,2,    1.912,2, -999.000,5,   2103.4,2,   2307.7,2,     54.5,2,    12.29,2, -999.000,9, -999.000,-999.0000,9,-999.0000,  -999.00,9,  -999.00, -999.000,9, -999.000,     58.0,2,      3.1,     1.48,2,   0.0877,2,   0.0620,2,   0.0318,2,   0.0246,2,   0.0134,2,   0.0154,3
  33RR20070204,  I08S,    73,  2,     31,     31,2,20070309,0824,-36.0177,  95.0083, 4305,    156.2,  11.5247,  34.9283,2,  34.9335,2,    252.0,2,    252.7,2,     2.50,2,     9.78,2,     0.02,2,     0.76,2,    3.380,2,    1.980,2, -999.000,5,   2107.9,2,   2300.7,2,     51.8,2,    13.75,2, -999.000,9, -999.000,-999.0000,9,-999.0000,  -999.00,9,  -999.00, -999.000,9, -999.000,     55.3,2,      2.8,     1.24,2,   0.0750,2,   0.0508,2,   0.0269,2,   0.0220,2,   0.0123,3,   0.0149,3
  33RR20070204,  I08S,    73,  2,     30,     30,2,20070309,0824,-36.0177,  95.0083, 4305,    205.6,  11.0932,  34.8755,2,  34.8768,2,    255.6,2,    256.3,2,     3.10,2,    10.86,2,     0.01,2,     0.83,2,    3.446,2,    1.996,2, -999.000,5,   2108.1,2,   2297.6,2,     49.6,2,    14.00,2, -999.000,9, -999.000,-999.0000,9,-999.0000,  -999.00,9,  -999.00, -999.000,9, -999.000,     53.4,2,      3.5,     1.22,2,   0.0768,2,   0.0522,2,   0.0287,2,   0.0235,2,   0.0118,3,   0.0140,3
  33RR20070204,  I08S,    73,  2,     29,     29,2,20070309,0824,-36.0177,  95.0083, 4305,    256.0,  11.3313,  34.9633,2,  34.9624,2,    251.0,2,    247.4,2,     3.09,2,    10.73,2,     0.01,2,     0.82,2,    3.417,2,    1.989,2, -999.000,5,   2113.8,2,   2300.8,2,     48.3,2,    14.26,2, -999.000,9, -999.000,-999.0000,9,-999.0000,  -999.00,9,  -999.00, -999.000,9, -999.000,   -999.0,9,   -999.0,  -999.00,9,   0.0789,2,   0.0541,2,   0.0294,2,   0.0240,2,   0.0119,3,   0.0141,3
  33RR20070204,  I08S,    73,  2,     28,     28,2,20070309,0824,-36.0177,  95.0083, 4305,    306.3,  11.0662,  34.9237,2,  34.9264,2,    247.2,2,    247.7,2,     3.49,2,    11.53,2,     0.01,2,     0.87,2,    3.464,2,    1.985,2, -999.000,5,   2114.9,2,   2298.6,2,     46.9,2,    15.45,2, -999.000,9, -999.000,-999.0000,9,-999.0000,  -999.00,9,  -999.00, -999.000,9, -999.000,     52.9,2,      3.2,     1.19,2,   0.0763,2,   0.0517,2,   0.0279,2,   0.0228,2,   0.0120,3,   0.0143,3
  33RR20070204,  I08S,    73,  2,     27,     27,2,20070309,0824,-36.0177,  95.0083, 4305,    356.5,  10.8591,  34.8977,2,  34.9010,2,    247.2,2,    247.4,2,     3.68,2,    12.08,2,     0.01,2,     0.90,2,    3.467,2,    1.978,2, -999.000,5,   2116.9,2,   2298.3,2,     46.0,2,    15.13,2, -999.000,9, -999.000,-999.0000,9,-999.0000,  -999.00,9,  -999.00, -999.000,9, -999.000,   -999.0,9,   -999.0,  -999.00,9,   0.0771,2,   0.0525,2,   0.0287,2,   0.0232,2,   0.0119,3,   0.0141,3
  33RR20070204,  I08S,    73,  2,     26,     26,2,20070309,0824,-36.0177,  95.0083, 4305,    405.9,  10.7094,  34.8832,2,  34.8839,2,    246.3,2,    246.7,2,     3.67,2,    12.47,2,     0.01,2,     0.92,2,    3.511,2,    1.996,2, -999.000,5,   2118.7,2,   2297.5,2,     45.2,2,    16.08,2, -999.000,9, -999.000,-999.0000,9,-999.0000,  -999.00,9,  -999.00, -999.000,9, -999.000,     45.5,2,      4.1,     1.16,2,   0.0758,2,   0.0515,2,   0.0279,2,   0.0228,2,   0.0118,3,   0.0141,3
  33RR20070204,  I08S,    73,  2,     25,     25,2,20070309,0824,-36.0177,  95.0083, 4305,    455.8,  10.4435,  34.8453,2,  34.8485,2,    243.3,2,    243.5,2,     4.27,2,    13.44,2,     0.01,2,     0.98,2,    3.543,2,    1.985,2, -999.000,5,   2121.6,2,   2295.4,2,     45.1,2,    16.46,2, -999.000,9, -999.000,-999.0000,9,-999.0000,  -999.00,9,  -999.00, -999.000,9, -999.000,   -999.0,9,   -999.0,  -999.00,9,   0.0765,2,   0.0514,2,   0.0278,2,   0.0224,2,   0.0120,3,   0.0145,3
  33RR20070204,  I08S,    73,  2,     24,     24,2,20070309,0824,-36.0177,  95.0083, 4305,    506.5,  10.1869,  34.8084,2,  34.8100,2,    243.7,2,    243.8,2,     4.46,2,    14.10,2,     0.00,2,     1.03,2,    3.547,2,    1.981,2, -999.000,5,   2122.6,2,   2293.8,2,     44.2,2,    16.14,2, -999.000,9, -999.000,-999.0000,9,-999.0000,  -999.00,9,  -999.00, -999.000,9, -999.000,     45.8,2,      2.4,     1.17,2,   0.0750,2,   0.0500,2,   0.0268,2,   0.0218,2,   0.0120,3,   0.0147,3
  33RR20070204,  I08S,    73,  2,     23,     23,2,20070309,0824,-36.0177,  95.0083, 4305,    607.1,   9.5577,  34.7186,2,  34.7237,2,    241.8,2,    241.3,2,     4.66,2,    15.69,2,     0.00,2,     1.12,2,    3.650,2,    1.999,2, -999.000,5,   2126.6,2,   2290.0,2,     43.6,2,    18.46,2, -999.000,9, -999.000,-999.0000,9,-999.0000,  -999.00,9,  -999.00, -999.000,9, -999.000,     48.0,2,      4.0,     1.22,2,   0.0754,2,   0.0505,2,   0.0272,2,   0.0219,2,   0.0120,3,   0.0147,3
  33RR20070204,  I08S,    73,  2,     22,     22,2,20070309,0824,-36.0177,  95.0083, 4305,    707.1,   8.7577,  34.6175,2,  34.6189,2,    231.1,2,    225.0,2,     7.45,2,    19.23,2,     0.00,2,     1.34,2,    3.354,2,    1.757,2, -999.000,5,   2139.0,2,   2285.7,2,     42.9,2,    21.63,2, -999.000,9, -999.000,-999.0000,9,-999.0000,  -999.00,9,  -999.00, -999.000,9, -999.000,     34.9,2,      2.1,     1.13,2,   0.0788,2,   0.0526,2,   0.0281,2,   0.0226,2,   0.0122,3,   0.0149,3
  33RR20070204,  I08S,    73,  2,     21,     21,2,20070309,0824,-36.0177,  95.0083, 4305,    807.6,   7.5827,  34.5095,2,  34.5087,2,    211.7,2,    209.2,2,    12.83,2,    23.35,2,     0.00,2,     1.60,2,    2.712,2,    1.405,2, -999.000,5,   2157.5,2,   2282.9,2,     41.8,2,    25.69,2, -999.000,9, -999.000,-999.0000,9,-999.0000,  -999.00,9,  -999.00, -999.000,9, -999.000,      4.8,2,      2.3,     1.09,2,   0.0971,2,   0.0666,2,   0.0380,2,   0.0304,2,   0.0117,3,   0.0132,3
  33RR20070204,  I08S,    73,  2,     20,     20,2,20070309,0824,-36.0177,  95.0083, 4305,    908.2,   6.1653,  34.4145,2,  34.4096,2,    203.5,2,    202.9,2,    20.01,2,    27.10,2,     0.00,2,     1.86,2,    2.140,2,    1.087,2, -999.000,5,   2173.9,2,   2284.8,2,     41.0,2,    29.89,2, -999.000,9, -999.000,-999.0000,9,-999.0000,  -999.00,9,  -999.00, -999.000,9, -999.000,    -30.5,2,      3.5,     1.07,2,   0.0945,2,   0.0635,2,   0.0357,2,   0.0285,2,   0.0121,3,   0.0140,3
  33RR20070204,  I08S,    73,  2,     19,     19,2,20070309,0824,-36.0177,  95.0083, 4305,   1008.2,   5.0375,  34.3688,2,  34.3694,2,    200.7,2,    201.2,2,    27.98,2,    29.59,2,     0.00,2,     2.03,2,    1.745,2,    0.880,2, -999.000,5,   2190.8,2,   2290.2,2,     40.6,2,    31.01,2, -999.000,9, -999.000,-999.0000,9,-999.0000,  -999.00,9,  -999.00, -999.000,9, -999.000,    -54.0,2,      1.9,     1.00,2,   0.1014,2,   0.0685,2,   0.0387,2,   0.0305,2,   0.0122,3,   0.0138,3
  33RR20070204,  I08S,    73,  2,     18,     18,2,20070309,0824,-36.0177,  95.0083, 4305,   1108.8,   4.3043,  34.3704,2,  34.3706,2,    195.1,2,    195.2,2,    37.17,2,    31.38,2,     0.00,2,     2.17,2,    1.279,2,    0.651,2, -999.000,5,   2204.5,2,   2299.7,2,     40.7,2,    32.74,2, -999.000,9, -999.000,-999.0000,9,-999.0000,  -999.00,9,  -999.00, -999.000,9, -999.000,    -80.1,2,      2.4,     0.91,2,   0.1117,2,   0.0766,2,   0.0439,2,   0.0344,2,   0.0122,3,   0.0135,3
  33RR20070204,  I08S,    73,  2,     17,     17,2,20070309,0824,-36.0177,  95.0083, 4305,   1209.5,   3.8804,  34.4024,2,  34.3904,2,    183.9,2,    184.1,2,    46.97,2,    32.66,2,     0.00,2,     2.28,2,    0.829,2,    0.430,2, -999.000,5,   2220.7,2,   2307.2,2,     40.3,2,    34.03,2, -999.000,9, -999.000,-999.0000,9,-999.0000,  -999.00,9,  -999.00, -999.000,9, -999.000,   -106.5,2,      1.8,     0.79,2,   0.1149,2,   0.0791,2,   0.0454,2,   0.0352,2,   0.0124,3,   0.0136,3
  33RR20070204,  I08S,    73,  2,     16,     16,2,20070309,0824,-36.0177,  95.0083, 4305,   1310.4,   3.6179,  34.4607,2,  34.4579,2,    169.2,2,    168.1,2,    59.00,2,    33.85,2,     0.00,2,     2.37,2,    0.419,2,    0.218,2, -999.000,5,   2238.0,2,   2321.5,2,     40.3,2,    34.89,2, -999.000,9, -999.000,-999.0000,9,-999.0000,  -999.00,9,  -999.00, -999.000,9, -999.000,   -124.8,2,      1.9,     0.65,2,   0.1218,2,   0.0840,2,   0.0479,2,   0.0371,2,   0.0128,3,   0.0138,3
  33RR20070204,  I08S,    73,  2,     15,     15,2,20070309,0824,-36.0177,  95.0083, 4305,   1411.4,   3.3489,  34.5020,2,  34.4968,2,    162.5,2,    162.3,2,    66.22,2,    34.27,2,     0.00,2,     2.41,2,    0.259,2,    0.134,2, -999.000,5,   2248.0,2,   2327.0,2,     40.6,2,    35.53,2, -999.000,9, -999.000,-999.0000,9,-999.0000,  -999.00,9,  -999.00, -999.000,9, -999.000,   -141.7,2,      3.6,     0.61,2,   0.1260,2,   0.0873,2,   0.0494,2,   0.0375,2,   0.0130,3,   0.0141,3
  33RR20070204,  I08S,    73,  2,     14,     14,2,20070309,0824,-36.0177,  95.0083, 4305,   1512.1,   3.1251,  34.5315,2,  34.5282,2,    159.9,2,    161.8,2,    70.24,2,    34.37,2,     0.00,2,     2.41,2,    0.220,2,    0.113,2, -999.000,5,   2253.2,2,   2332.7,2,     40.5,2,    35.66,2, -999.000,9, -999.000,-999.0000,9,-999.0000,  -999.00,9,  -999.00, -999.000,9, -999.000,   -147.6,2,      2.8,     0.55,2,   0.1257,2,   0.0869,2,   0.0489,2,   0.0370,2,   0.0131,3,   0.0143,3
  33RR20070204,  I08S,    73,  2,     13,     13,2,20070309,0824,-36.0177,  95.0083, 4305,   1612.7,   2.9287,  34.5684,2,  34.5663,2,    161.8,2,    162.1,2,    73.86,2,    34.26,2,     0.00,2,     2.39,2,    0.175,2,    0.089,2, -999.000,5,   2257.7,6,   2336.4,2,     40.9,2,    35.27,2, -999.000,9, -999.000,-999.0000,9,-999.0000,  -999.00,9,  -999.00, -999.000,9, -999.000,   -151.6,2,      2.8,     0.57,2,   0.1350,2,   0.0945,2,   0.0542,2,   0.0412,2,   0.0129,3,   0.0137,3
  33RR20070204,  I08S,    73,  2,     12,     12,2,20070309,0824,-36.0177,  95.0083, 4305,   1713.1,   2.8358,  34.6053,2,  34.6060,2,    161.0,2,    160.4,2,    79.10,2,    34.06,2,     0.00,2,     2.38,2,    0.098,2,    0.049,2, -999.000,5,   2262.7,2,   2341.9,2,     40.3,2,    35.77,2, -999.000,9, -999.000,-999.0000,9,-999.0000,  -999.00,9,  -999.00, -999.000,9, -999.000,   -161.5,2,      2.5,     0.46,2,   0.1295,2,   0.0901,2,   0.0504,2,   0.0378,2,   0.0133,3,   0.0144,3
  33RR20070204,  I08S,    73,  2,     11,     11,2,20070309,0824,-36.0177,  95.0083, 4305,   1814.9,   2.7120,  34.6340,2,  34.6348,2,    160.0,2,    162.6,2,    81.11,2,    33.67,2,     0.00,2,     2.35,2,    0.082,2,    0.039,2, -999.000,5,   2263.6,2,   2344.4,2,     40.3,2,    35.64,2, -999.000,9, -999.000,-999.0000,9,-999.0000,  -999.00,9,  -999.00, -999.000,9, -999.000,   -160.6,2,      2.8,     0.48,2,   0.1323,2,   0.0924,2,   0.0520,2,   0.0390,2,   0.0132,3,   0.0142,3
  33RR20070204,  I08S,    73,  2,     10,     10,2,20070309,0824,-36.0177,  95.0083, 4305,   2016.1,   2.5162,  34.6816,2,  34.6824,2,    169.5,2,    170.1,2,    83.74,2,    32.66,2,     0.00,2,     2.29,2,    0.056,2,    0.027,2, -999.000,5,   2265.2,2,   2347.3,2,     40.7,2,    34.23,2, -999.000,9, -999.000,-999.0000,9,-999.0000,  -999.00,9,  -999.00, -999.000,9, -999.000,   -166.1,2,      2.5,     0.58,2,   0.1332,2,   0.0929,2,   0.0517,2,   0.0383,2,   0.0134,3,   0.0145,3
  33RR20070204,  I08S,    73,  2,      9,      9,2,20070309,0824,-36.0177,  95.0083, 4305,   2269.1,   2.2959,  34.7209,2,  34.7223,2,    179.8,2,    180.3,2,    86.16,2,    31.61,2,     0.00,2,     2.20,2,    0.033,2,    0.016,2, -999.000,5,   2262.2,2,   2349.3,2,     40.4,2,    32.66,2, -999.000,9, -999.000,-999.0000,9,-999.0000,  -999.00,9,  -999.00, -999.000,9, -999.000,   -159.5,2,      2.7,     0.58,2,   0.1291,2,   0.0899,2,   0.0492,2,   0.0362,2,   0.0136,3,   0.0149,3
  33RR20070204,  I08S,    73,  2,      8,      8,2,20070309,0824,-36.0177,  95.0083, 4305,   2521.7,   2.0453,  34.7435,2,  34.7447,2,    190.2,2,    190.4,2,    88.58,2,    30.71,2,     0.00,2,     2.12,2,    0.023,2,    0.011,2, -999.000,5,   2255.0,2,   2349.3,2,     40.3,2,    31.72,2, -999.000,9, -999.000,-999.0000,9,-999.0000,  -999.00,9,  -999.00, -999.000,9, -999.000,   -152.5,2,      3.1,     0.67,2,   0.1419,2,   0.0997,2,   0.0536,2,   0.0383,2,   0.0140,2,   0.0154,3
  33RR20070204,  I08S,    73,  2,      7,      7,2,20070309,0824,-36.0177,  95.0083, 4305,   2775.3,   1.7608,  34.7457,2,  34.7469,2,    197.0,2,    196.8,2,    95.06,2,    30.65,2,     0.00,2,     2.11,2, -999.000,9, -999.000,9, -999.000,9,   2252.8,2,   2351.9,2,     40.6,2,    32.02,2, -999.000,9, -999.000,-999.0000,9,-999.0000,  -999.00,9,  -999.00, -999.000,9, -999.000,   -154.1,2,      2.4,     0.60,2,   0.1379,2,   0.0967,2,   0.0522,2,   0.0377,2,   0.0138,3,   0.0152,3
  33RR20070204,  I08S,    73,  2,      6,      6,2,20070309,0824,-36.0177,  95.0083, 4305,   3028.8,   1.4909,  34.7379,2,  34.7390,2,    200.3,2,    200.5,2,   103.17,2,    30.98,2,     0.00,2,     2.14,2,    0.027,2,    0.014,2, -999.000,5,   2256.8,6,   2356.2,2,     40.2,2,    32.10,2, -999.000,9, -999.000,-999.0000,9,-999.0000,  -999.00,9,  -999.00, -999.000,9, -999.000,   -156.6,2,      2.8,     0.60,2,   0.1384,2,   0.0971,2,   0.0519,2,   0.0368,2,   0.0141,2,   0.0155,3
  33RR20070204,  I08S,    73,  2,      5,      5,2,20070309,0824,-36.0177,  95.0083, 4305,   3282.7,   1.2696,  34.7281,2,  34.7288,2,    203.4,2,    203.3,2,   110.29,2,    31.31,2,     0.00,2,     2.16,2, -999.000,9, -999.000,9, -999.000,9,   2256.9,2,   2359.4,2,     40.1,2,    32.85,2, -999.000,9, -999.000,-999.0000,9,-999.0000,  -999.00,9,  -999.00, -999.000,9, -999.000,   -155.2,2,      3.3,     0.60,2,   0.1657,2,   0.1196,2,   0.0642,2,   0.0446,2,   0.0142,2,   0.0153,3
  33RR20070204,  I08S,    73,  2,      4,      4,2,20070309,0824,-36.0177,  95.0083, 4305,   3536.7,   1.1037,  34.7198,2,  34.7209,2,    205.1,2,    205.2,2,   115.59,2,    31.68,2,     0.00,2,     2.19,2,    0.053,2,    0.027,2, -999.000,5,   2259.1,2,   2361.6,2,     40.4,2,    32.79,2, -999.000,9, -999.000,-999.0000,9,-999.0000,  -999.00,9,  -999.00, -999.000,9, -999.000,   -159.6,2,      2.6,     0.59,2,   0.1354,2,   0.0947,2,   0.0515,2,   0.0368,2,   0.0140,2,   0.0153,3
  33RR20070204,  I08S,    73,  2,      3,      3,2,20070309,0824,-36.0177,  95.0083, 4305,   3842.1,   1.0077,  34.7141,2,  34.7032,0,    206.1,2,    206.1,2,   119.06,2,    31.86,2,     0.00,2,     2.20,2,    0.041,2,    0.022,2, -999.000,5,   2263.1,2,   2367.6,2,     41.2,2,    33.44,2, -999.000,9, -999.000,-999.0000,9,-999.0000,  -999.00,9,  -999.00, -999.000,9, -999.000,   -162.3,2,      2.6,     0.73,4,   0.1336,2,   0.0930,2,   0.0499,2,   0.0353,2,   0.0142,2,   0.0156,3
  33RR20070204,  I08S,    73,  2,      2,      2,2,20070309,0824,-36.0177,  95.0083, 4305,   4148.2,   0.9940,  34.7120,2,  34.7009,0,    206.4,2,    206.3,2,   120.49,2,    32.05,2,     0.00,2,     2.21,2,    0.037,2,    0.020,2, -999.000,5,   2265.4,2,   2371.0,2,     40.2,2,    33.09,2, -999.000,9, -999.000,-999.0000,9,-999.0000,  -999.00,9,  -999.00, -999.000,9, -999.000,   -153.2,2,      2.8,     0.56,2,   0.1653,2,   0.1190,2,   0.0630,2,   0.0429,2,   0.0147,2,   0.0158,2
  33RR20070204,  I08S,    73,  2,      1,      1,2,20070309,0824,-36.0177,  95.0083, 4305,   4388.9,   1.0112,  34.7115,2,  34.7121,2,    205.8,2,    206.2,2,   120.49,2,    32.04,2,     0.00,2,     2.22,2,    0.038,2,    0.020,2, -999.000,5,   2268.8,6,   2372.2,2,     40.3,2,    33.70,2, -999.000,9, -999.000,-999.0000,9,-999.0000,  -999.00,9,  -999.00, -999.000,9, -999.000,   -155.0,2,      2.5,     0.66,2,   0.1388,2,   0.0976,2,   0.0522,2,   0.0366,2,   0.0142,2,   0.0156,3