BOTTLE,20150626SIOCCHRJL
EXPOCODE,SECT_ID,STNNBR,CASTNO,SAMPNO,BTLNBR,BTLNBR_FLAG_W,DATE,TIME,LATITUDE,LONGITUDE,DEPTH,CTDPRS,CTDTMP,CTDSAL,CTDSAL_FLAG_W,SALNTY,SALNTY_FLAG_W,CTDOXY,CTDOXY_FLAG_W,OXYGEN,OXYGEN_FLAG_W,SILCAT,SILCAT_FLAG_W,NITRAT,NITRAT_FLAG_W,NITRIT,NITRIT_FLAG_W,PHSPHT,PHSPHT_FLAG_W,CFC-11,CFC-11_FLAG_W,CFC-12,CFC-12_FLAG_W,CFC113,CFC113_FLAG_W,TCARBN,TCARBN_FLAG_W,ALKALI,ALKALI_FLAG_W,DOC,DOC_FLAG_W,TDN,TDN_FLAG_W,TRITUM,TRITUM_FLAG_W,TRITER,HELIUM,HELIUM_FLAG_W,HELIER,DELHE3,DELHE3_FLAG_W,DELHER,NEON,NEON_FLAG_W,NEONER,DELC14,DELC14_FLAG_W,C14ERR,DELC13,DELC13_FLAG_W,CDOM325,CDOM325_FLAG_W,CDOM340,CDOM340_FLAG_W,CDOM380,CDOM380_FLAG_W,CDOM412,CDOM412_FLAG_W,CDOMSL,CDOMSL_FLAG_W,CDOMSN,CDOMSN_FLAG_W
,,,,,,,,,,,METERS,DBAR,ITS-90,PSS-78,,PSS-78,,UMOL/KG,,UMOL/KG,,UMOL/KG,,UMOL/KG,,UMOL/KG,,UMOL/KG,,PMOL/KG,,PMOL/KG,,PMOL/KG,,UMOL/KG,,UMOL/KG,,UMOL/KG,,UMOL/KG,,TU,,TU,NMOL/KG,,NMOL/KG,PERCNT,,PERCNT,NMOL/KG,,NMOL/KG,/MILLE,,/MILLE,/MILLE,,1/M,,1/M,,1/M,,1/M,,1/NM,,1/NM,
  33RR20070204,  I08S,    26,  1,     36,     36,2,20070221,2050,-57.3203,  82.7790, 4230,      3.6,   2.0036,  33.9181,2,  33.9187,2,    328.7,2,    329.4,2,    19.87,2,    25.64,2,     0.28,2,     1.63,2, -999.000,9, -999.000,9, -999.000,9,   2155.7,6,   2289.3,2,   -999.0,9,  -999.00,9, -999.000,9, -999.000,-999.0000,9,-999.0000,  -999.00,9,  -999.00, -999.000,9, -999.000,   -999.0,9,   -999.0,  -999.00,9,-999.0000,9,-999.0000,9,-999.0000,9,-999.0000,9,-999.0000,9,-999.0000,9
  33RR20070204,  I08S,    26,  1,     35,     35,2,20070221,2050,-57.3203,  82.7790, 4230,     37.7,   2.0058,  33.9182,2,  33.9189,2,    329.2,2,    329.3,2,    20.02,2,    25.65,2,     0.28,2,     1.63,2, -999.000,9, -999.000,9, -999.000,9,   2155.2,2,   2291.5,2,   -999.0,9,  -999.00,9, -999.000,9, -999.000,-999.0000,9,-999.0000,  -999.00,9,  -999.00, -999.000,9, -999.000,   -999.0,9,   -999.0,  -999.00,9,-999.0000,9,-999.0000,9,-999.0000,9,-999.0000,9,-999.0000,9,-999.0000,9
  33RR20070204,  I08S,    26,  1,     34,   9433,2,20070221,2050,-57.3203,  82.7790, 4230,     73.1,   1.9841,  33.9208,2,  33.9239,2,    329.5,2,    329.7,2,    21.20,2,    25.75,2,     0.27,2,     1.65,2, -999.000,9, -999.000,9, -999.000,9,   2157.0,2,   2291.7,2,   -999.0,9,  -999.00,9, -999.000,9, -999.000,-999.0000,9,-999.0000,  -999.00,9,  -999.00, -999.000,9, -999.000,   -999.0,9,   -999.0,  -999.00,9,-999.0000,9,-999.0000,9,-999.0000,9,-999.0000,9,-999.0000,9,-999.0000,9
  33RR20070204,  I08S,    26,  1,     33,     33,2,20070221,2050,-57.3203,  82.7790, 4230,     93.2,   0.9087,  33.9877,2,  33.9873,2,    327.9,2,    325.5,2,    38.62,2,    27.83,2,     0.26,2,     1.95,2, -999.000,9, -999.000,9, -999.000,9,   2177.3,2,   2296.2,2,   -999.0,9,  -999.00,9, -999.000,9, -999.000,-999.0000,9,-999.0000,  -999.00,9,  -999.00, -999.000,9, -999.000,   -999.0,9,   -999.0,  -999.00,9,-999.0000,9,-999.0000,9,-999.0000,9,-999.0000,9,-999.0000,9,-999.0000,9
  33RR20070204,  I08S,    26,  1,     32,     32,2,20070221,2050,-57.3203,  82.7790, 4230,    122.9,   0.1189,  34.0884,2,  34.1060,2,    302.0,2,    304.7,2,    51.71,2,    30.41,2,     0.22,2,     2.18,2, -999.000,9, -999.000,9, -999.000,9,   2198.3,2,   2301.6,2,   -999.0,9,  -999.00,9, -999.000,9, -999.000,-999.0000,9,-999.0000,  -999.00,9,  -999.00, -999.000,9, -999.000,   -999.0,9,   -999.0,  -999.00,9,-999.0000,9,-999.0000,9,-999.0000,9,-999.0000,9,-999.0000,9,-999.0000,9
  33RR20070204,  I08S,    26,  1,     31,     31,2,20070221,2050,-57.3203,  82.7790, 4230,    143.2,   0.9637,  34.2783,2,  34.2714,2,    244.5,2,    244.4,2,    59.80,2,    33.45,2,     0.12,2,     2.32,2, -999.000,9, -999.000,9, -999.000,9,   2222.9,2,   2307.0,2,   -999.0,9,  -999.00,9, -999.000,9, -999.000,-999.0000,9,-999.0000,  -999.00,9,  -999.00, -999.000,9, -999.000,   -999.0,9,   -999.0,  -999.00,9,-999.0000,9,-999.0000,9,-999.0000,9,-999.0000,9,-999.0000,9,-999.0000,9
  33RR20070204,  I08S,    26,  1,     30,     30,2,20070221,2050,-57.3203,  82.7790, 4230,    173.4,   0.9809,  34.3510,2,  34.3534,2,    202.5,2,    230.0,2,    66.03,2,    33.79,2,     0.13,2,     2.33,2, -999.000,9, -999.000,9, -999.000,9,   2232.9,2,   2315.9,2,   -999.0,9,  -999.00,9, -999.000,9, -999.000,-999.0000,9,-999.0000,  -999.00,9,  -999.00, -999.000,9, -999.000,   -999.0,9,   -999.0,  -999.00,9,-999.0000,9,-999.0000,9,-999.0000,9,-999.0000,9,-999.0000,9,-999.0000,9
  33RR20070204,  I08S,    26,  1,     29,     29,2,20070221,2050,-57.3203,  82.7790, 4230,    223.7,   2.0318,  34.5212,2,  34.5166,2,    183.0,2,    182.4,2,    72.06,2,    34.66,2,     0.02,2,     2.38,2, -999.000,9, -999.000,9, -999.000,9,   -999.0,9,   -999.0,9,   -999.0,9,  -999.00,9, -999.000,9, -999.000,-999.0000,9,-999.0000,  -999.00,9,  -999.00, -999.000,9, -999.000,   -999.0,9,   -999.0,  -999.00,9,-999.0000,9,-999.0000,9,-999.0000,9,-999.0000,9,-999.0000,9,-999.0000,9
  33RR20070204,  I08S,    26,  1,     28,     28,2,20070221,2050,-57.3203,  82.7790, 4230,    274.2,   2.1099,  34.5745,2,  34.5739,2,    176.6,2,    176.8,2,    74.52,2,    34.42,2,     0.01,2,     2.36,2, -999.000,9, -999.000,9, -999.000,9,   2253.7,2,   2331.4,2,   -999.0,9,  -999.00,9, -999.000,9, -999.000,-999.0000,9,-999.0000,  -999.00,9,  -999.00, -999.000,9, -999.000,   -999.0,9,   -999.0,  -999.00,9,-999.0000,9,-999.0000,9,-999.0000,9,-999.0000,9,-999.0000,9,-999.0000,9
  33RR20070204,  I08S,    26,  1,     27,     27,2,20070221,2050,-57.3203,  82.7790, 4230,    324.1,   2.0702,  34.6086,2,  34.6080,2,    174.4,2,    173.9,2,    78.46,2,    34.26,2,     0.01,2,     2.36,2, -999.000,9, -999.000,9, -999.000,9,   2256.8,6,   2333.7,2,   -999.0,9,  -999.00,9, -999.000,9, -999.000,-999.0000,9,-999.0000,  -999.00,9,  -999.00, -999.000,9, -999.000,   -999.0,9,   -999.0,  -999.00,9,-999.0000,9,-999.0000,9,-999.0000,9,-999.0000,9,-999.0000,9,-999.0000,9
  33RR20070204,  I08S,    26,  1,     26,     26,2,20070221,2050,-57.3203,  82.7790, 4230,    374.6,   2.1040,  34.6521,2,  34.6514,2,    177.0,2,    177.9,2,    78.40,2,    33.15,2,     0.01,2,     2.29,2, -999.000,9, -999.000,9, -999.000,9,   -999.0,9,   -999.0,9,   -999.0,9,  -999.00,9, -999.000,9, -999.000,-999.0000,9,-999.0000,  -999.00,9,  -999.00, -999.000,9, -999.000,   -999.0,9,   -999.0,  -999.00,9,-999.0000,9,-999.0000,9,-999.0000,9,-999.0000,9,-999.0000,9,-999.0000,9
  33RR20070204,  I08S,    26,  1,     25,     25,2,20070221,2050,-57.3203,  82.7790, 4230,    424.9,   1.8738,  34.6519,2,  34.6546,2,    177.4,2,    180.3,2,    80.66,2,    33.25,2,     0.01,2,     2.29,2, -999.000,9, -999.000,9, -999.000,9,   -999.0,9,   2335.8,2,   -999.0,9,  -999.00,9, -999.000,9, -999.000,-999.0000,9,-999.0000,  -999.00,9,  -999.00, -999.000,9, -999.000,   -999.0,9,   -999.0,  -999.00,9,-999.0000,9,-999.0000,9,-999.0000,9,-999.0000,9,-999.0000,9,-999.0000,9
  33RR20070204,  I08S,    26,  1,     24,     24,2,20070221,2050,-57.3203,  82.7790, 4230,    475.4,   1.9213,  34.6765,2,  34.6770,2,    181.6,2,    181.9,2,    81.44,2,    32.74,2,     0.02,2,     2.26,2, -999.000,9, -999.000,9, -999.000,9,   -999.0,9,   -999.0,9,   -999.0,9,  -999.00,9, -999.000,9, -999.000,-999.0000,9,-999.0000,  -999.00,9,  -999.00, -999.000,9, -999.000,   -999.0,9,   -999.0,  -999.00,9,-999.0000,9,-999.0000,9,-999.0000,9,-999.0000,9,-999.0000,9,-999.0000,9
  33RR20070204,  I08S,    26,  1,     23,     23,2,20070221,2050,-57.3203,  82.7790, 4230,    525.9,   1.8928,  34.6938,2,  34.6921,2,    182.6,2,    182.9,2,    82.45,2,    32.50,2,     0.02,2,     2.24,2, -999.000,9, -999.000,9, -999.000,9,   2252.6,2,   2341.0,2,   -999.0,9,  -999.00,9, -999.000,9, -999.000,-999.0000,9,-999.0000,  -999.00,9,  -999.00, -999.000,9, -999.000,   -999.0,9,   -999.0,  -999.00,9,-999.0000,9,-999.0000,9,-999.0000,9,-999.0000,9,-999.0000,9,-999.0000,9
  33RR20070204,  I08S,    26,  1,     22,     22,2,20070221,2050,-57.3203,  82.7790, 4230,    646.6,   1.9310,  34.7326,2,  34.7323,2,    189.3,2,    190.2,2,    82.81,2,    31.14,2,     0.01,2,     2.13,2, -999.000,9, -999.000,9, -999.000,9,   -999.0,9,   -999.0,9,   -999.0,9,  -999.00,9, -999.000,9, -999.000,-999.0000,9,-999.0000,  -999.00,9,  -999.00, -999.000,9, -999.000,   -999.0,9,   -999.0,  -999.00,9,-999.0000,9,-999.0000,9,-999.0000,9,-999.0000,9,-999.0000,9,-999.0000,9
  33RR20070204,  I08S,    26,  1,     21,     21,2,20070221,2050,-57.3203,  82.7790, 4230,    747.4,   1.8296,  34.7407,2,  34.7405,2,    193.1,2,    193.5,2,    85.07,2,    30.84,2,     0.01,2,     2.10,2, -999.000,9, -999.000,9, -999.000,9,   -999.0,9,   -999.0,9,   -999.0,9,  -999.00,9, -999.000,9, -999.000,-999.0000,9,-999.0000,  -999.00,9,  -999.00, -999.000,9, -999.000,   -999.0,9,   -999.0,  -999.00,9,-999.0000,9,-999.0000,9,-999.0000,9,-999.0000,9,-999.0000,9,-999.0000,9
  33RR20070204,  I08S,    26,  1,     20,     20,2,20070221,2050,-57.3203,  82.7790, 4230,    848.6,   1.7286,  34.7424,2,  34.7432,2,    196.0,2,    196.0,2,    87.13,2,    30.74,2,     0.01,2,     2.10,2, -999.000,9, -999.000,9, -999.000,9,   -999.0,9,   2350.3,2,   -999.0,9,  -999.00,9, -999.000,9, -999.000,-999.0000,9,-999.0000,  -999.00,9,  -999.00, -999.000,9, -999.000,   -999.0,9,   -999.0,  -999.00,9,-999.0000,9,-999.0000,9,-999.0000,9,-999.0000,9,-999.0000,9,-999.0000,9
  33RR20070204,  I08S,    26,  1,     19,     19,2,20070221,2050,-57.3203,  82.7790, 4230,    949.2,   1.6561,  34.7463,2,  34.7464,2,    198.6,2,    198.4,2,    88.98,2,    30.55,2,     0.01,2,     2.09,2, -999.000,9, -999.000,9, -999.000,9,   -999.0,9,   -999.0,9,   -999.0,9,  -999.00,9, -999.000,9, -999.000,-999.0000,9,-999.0000,  -999.00,9,  -999.00, -999.000,9, -999.000,   -999.0,9,   -999.0,  -999.00,9,-999.0000,9,-999.0000,9,-999.0000,9,-999.0000,9,-999.0000,9,-999.0000,9
  33RR20070204,  I08S,    26,  1,     18,     18,2,20070221,2050,-57.3203,  82.7790, 4230,   1050.8,   1.5533,  34.7441,2,  34.7440,2,    199.6,2,    199.8,2,    91.89,2,    30.65,2,     0.01,2,     2.10,2, -999.000,9, -999.000,9, -999.000,9,   -999.0,9,   -999.0,9,   -999.0,9,  -999.00,9, -999.000,9, -999.000,-999.0000,9,-999.0000,  -999.00,9,  -999.00, -999.000,9, -999.000,   -999.0,9,   -999.0,  -999.00,9,-999.0000,9,-999.0000,9,-999.0000,9,-999.0000,9,-999.0000,9,-999.0000,9
  33RR20070204,  I08S,    26,  1,     17,     17,2,20070221,2050,-57.3203,  82.7790, 4230,   1151.5,   1.4344,  34.7408,2,  34.7410,2,    201.6,2,    201.0,2,    95.00,2,    30.76,2,     0.00,2,     2.11,2, -999.000,9, -999.000,9, -999.000,9,   2248.5,2,   2350.0,2,   -999.0,9,  -999.00,9, -999.000,9, -999.000,-999.0000,9,-999.0000,  -999.00,9,  -999.00, -999.000,9, -999.000,   -999.0,9,   -999.0,  -999.00,9,-999.0000,9,-999.0000,9,-999.0000,9,-999.0000,9,-999.0000,9,-999.0000,9
  33RR20070204,  I08S,    26,  1,     16,     16,2,20070221,2050,-57.3203,  82.7790, 4230,   1252.6,   1.3521,  34.7374,2,  34.7374,2,    203.1,2,    202.2,2,    97.08,2,    30.92,2,     0.00,2,     2.11,2, -999.000,9, -999.000,9, -999.000,9,   -999.0,9,   -999.0,9,   -999.0,9,  -999.00,9, -999.000,9, -999.000,-999.0000,9,-999.0000,  -999.00,9,  -999.00, -999.000,9, -999.000,   -999.0,9,   -999.0,  -999.00,9,-999.0000,9,-999.0000,9,-999.0000,9,-999.0000,9,-999.0000,9,-999.0000,9
  33RR20070204,  I08S,    26,  1,     15,     15,2,20070221,2050,-57.3203,  82.7790, 4230,   1353.9,   1.2585,  34.7333,2,  34.7332,2,    204.3,2,    203.2,2,    99.77,2,    31.12,2,     0.00,2,     2.13,2, -999.000,9, -999.000,9, -999.000,9,   -999.0,9,   2351.7,2,   -999.0,9,  -999.00,9, -999.000,9, -999.000,-999.0000,9,-999.0000,  -999.00,9,  -999.00, -999.000,9, -999.000,   -999.0,9,   -999.0,  -999.00,9,-999.0000,9,-999.0000,9,-999.0000,9,-999.0000,9,-999.0000,9,-999.0000,9
  33RR20070204,  I08S,    26,  1,     14,     14,2,20070221,2050,-57.3203,  82.7790, 4230,   1454.9,   1.1362,  34.7270,2,  34.7267,2,    205.3,2,    204.3,2,   103.96,2,    31.38,2,     0.00,2,     2.15,2, -999.000,9, -999.000,9, -999.000,9,   -999.0,9,   -999.0,9,   -999.0,9,  -999.00,9, -999.000,9, -999.000,-999.0000,9,-999.0000,  -999.00,9,  -999.00, -999.000,9, -999.000,   -999.0,9,   -999.0,  -999.00,9,-999.0000,9,-999.0000,9,-999.0000,9,-999.0000,9,-999.0000,9,-999.0000,9
  33RR20070204,  I08S,    26,  1,     13,     13,2,20070221,2050,-57.3203,  82.7790, 4230,   1556.1,   1.0559,  34.7231,2,  34.7231,2,    206.5,2,    205.6,2,   106.25,2,    31.47,2,     0.00,2,     2.16,2, -999.000,9, -999.000,9, -999.000,9,   -999.0,9,   2343.8,4,   -999.0,9,  -999.00,9, -999.000,9, -999.000,-999.0000,9,-999.0000,  -999.00,9,  -999.00, -999.000,9, -999.000,   -999.0,9,   -999.0,  -999.00,9,-999.0000,9,-999.0000,9,-999.0000,9,-999.0000,9,-999.0000,9,-999.0000,9
  33RR20070204,  I08S,    26,  1,     12,     12,2,20070221,2050,-57.3203,  82.7790, 4230,   1657.6,   0.9509,  34.7172,2,  34.7171,2,    207.1,2,    206.0,2,   108.96,2,    31.79,2,     0.00,2,     2.18,2, -999.000,9, -999.000,9, -999.000,9,   -999.0,9,   -999.0,9,   -999.0,9,  -999.00,9, -999.000,9, -999.000,-999.0000,9,-999.0000,  -999.00,9,  -999.00, -999.000,9, -999.000,   -999.0,9,   -999.0,  -999.00,9,-999.0000,9,-999.0000,9,-999.0000,9,-999.0000,9,-999.0000,9,-999.0000,9
  33RR20070204,  I08S,    26,  1,     11,     11,2,20070221,2050,-57.3203,  82.7790, 4230,   1759.3,   0.8618,  34.7117,2,  34.7116,2,    207.9,2,    206.7,2,   111.46,2,    31.99,2,     0.00,2,     2.19,2,    0.229,2,    0.115,2, -999.000,5,   -999.0,9,   2354.8,2,   -999.0,9,  -999.00,9, -999.000,9, -999.000,-999.0000,9,-999.0000,  -999.00,9,  -999.00, -999.000,9, -999.000,   -999.0,9,   -999.0,  -999.00,9,-999.0000,9,-999.0000,9,-999.0000,9,-999.0000,9,-999.0000,9,-999.0000,9
  33RR20070204,  I08S,    26,  1,     10,     10,2,20070221,2050,-57.3203,  82.7790, 4230,   1961.4,   0.6697,  34.7019,2,  34.7013,2,    210.3,2,    209.4,2,   117.59,2,    32.29,2,     0.00,2,     2.21,2, -999.000,9, -999.000,9, -999.000,9,   -999.0,9,   -999.0,9,   -999.0,9,  -999.00,9, -999.000,9, -999.000,-999.0000,9,-999.0000,  -999.00,9,  -999.00, -999.000,9, -999.000,   -999.0,9,   -999.0,  -999.00,9,-999.0000,9,-999.0000,9,-999.0000,9,-999.0000,9,-999.0000,9,-999.0000,9
  33RR20070204,  I08S,    26,  1,      9,      9,2,20070221,2050,-57.3203,  82.7790, 4230,   2123.7,   0.5590,  34.6956,2,  34.6952,2,    211.4,2,    211.1,2,   119.67,2,    32.50,2,     0.00,2,     2.23,2,    0.261,2,    0.137,2, -999.000,5,   2258.0,2,   2356.4,2,   -999.0,9,  -999.00,9, -999.000,9, -999.000,-999.0000,9,-999.0000,  -999.00,9,  -999.00, -999.000,9, -999.000,   -999.0,9,   -999.0,  -999.00,9,-999.0000,9,-999.0000,9,-999.0000,9,-999.0000,9,-999.0000,9,-999.0000,9
  33RR20070204,  I08S,    26,  1,      8,      8,2,20070221,2050,-57.3203,  82.7790, 4230,   2377.7,   0.4267,  34.6893,2,  34.6888,2,    214.3,2,    213.9,2,   122.82,2,    32.61,2,     0.00,2,     2.24,2, -999.000,9, -999.000,9, -999.000,9,   -999.0,9,   -999.0,9,   -999.0,9,  -999.00,9, -999.000,9, -999.000,-999.0000,9,-999.0000,  -999.00,9,  -999.00, -999.000,9, -999.000,   -999.0,9,   -999.0,  -999.00,9,-999.0000,9,-999.0000,9,-999.0000,9,-999.0000,9,-999.0000,9,-999.0000,9
  33RR20070204,  I08S,    26,  1,      7,      7,2,20070221,2050,-57.3203,  82.7790, 4230,   2632.1,   0.3156,  34.6843,2,  34.6831,2,    218.7,2,    217.7,2,   124.70,2,    32.66,2,     0.00,2,     2.25,2,    0.436,2,    0.206,2, -999.000,5,   -999.0,9,   2355.9,2,   -999.0,9,  -999.00,9, -999.000,9, -999.000,-999.0000,9,-999.0000,  -999.00,9,  -999.00, -999.000,9, -999.000,   -999.0,9,   -999.0,  -999.00,9,-999.0000,9,-999.0000,9,-999.0000,9,-999.0000,9,-999.0000,9,-999.0000,9
  33RR20070204,  I08S,    26,  1,      6,      6,2,20070221,2050,-57.3203,  82.7790, 4230,   2886.5,   0.1884,  34.6775,2,  34.6767,2,    222.1,2,    221.2,2,   126.36,2,    32.76,2,     0.00,2,     2.26,2, -999.000,9, -999.000,9, -999.000,9,   -999.0,9,   -999.0,9,   -999.0,9,  -999.00,9, -999.000,9, -999.000,-999.0000,9,-999.0000,  -999.00,9,  -999.00, -999.000,9, -999.000,   -999.0,9,   -999.0,  -999.00,9,-999.0000,9,-999.0000,9,-999.0000,9,-999.0000,9,-999.0000,9,-999.0000,9
  33RR20070204,  I08S,    26,  1,      5,      5,2,20070221,2050,-57.3203,  82.7790, 4230,   3141.5,   0.1052,  34.6755,2,  34.6745,2,    225.2,2,    225.5,2,   126.09,2,    32.56,2,     0.00,2,     2.25,2,    0.686,2,    0.362,2, -999.000,5,   -999.0,9,   2353.7,2,   -999.0,9,  -999.00,9, -999.000,9, -999.000,-999.0000,9,-999.0000,  -999.00,9,  -999.00, -999.000,9, -999.000,   -999.0,9,   -999.0,  -999.00,9,-999.0000,9,-999.0000,9,-999.0000,9,-999.0000,9,-999.0000,9,-999.0000,9
  33RR20070204,  I08S,    26,  1,      4,      4,2,20070221,2050,-57.3203,  82.7790, 4230,   3447.5,   0.0334,  34.6732,2,  34.6723,2,    227.9,2,    228.9,2,   128.18,2,    32.51,2,     0.00,2,     2.24,2, -999.000,9, -999.000,9, -999.000,9,   -999.0,9,   -999.0,9,   -999.0,9,  -999.00,9, -999.000,9, -999.000,-999.0000,9,-999.0000,  -999.00,9,  -999.00, -999.000,9, -999.000,   -999.0,9,   -999.0,  -999.00,9,-999.0000,9,-999.0000,9,-999.0000,9,-999.0000,9,-999.0000,9,-999.0000,9
  33RR20070204,  I08S,    26,  1,      3,      3,2,20070221,2050,-57.3203,  82.7790, 4230,   3753.9,  -0.0235,  34.6695,2,  34.6687,2,    230.7,2,    231.7,2,   126.86,2,    32.46,2,     0.00,2,     2.24,2,    1.231,2,    0.586,2, -999.000,5,   2254.4,2,   2352.2,2,   -999.0,9,  -999.00,9, -999.000,9, -999.000,-999.0000,9,-999.0000,  -999.00,9,  -999.00, -999.000,9, -999.000,   -999.0,9,   -999.0,  -999.00,9,-999.0000,9,-999.0000,9,-999.0000,9,-999.0000,9,-999.0000,9,-999.0000,9
  33RR20070204,  I08S,    26,  1,      2,      2,2,20070221,2050,-57.3203,  82.7790, 4230,   4112.6,  -0.0779,  34.6649,2,  34.6645,2,    233.0,2,    234.7,2,   129.16,2,    32.41,2,     0.00,2,     2.24,2,    1.409,2,    0.737,2, -999.000,5,   2255.5,2,   2351.1,2,   -999.0,9,  -999.00,9, -999.000,9, -999.000,-999.0000,9,-999.0000,  -999.00,9,  -999.00, -999.000,9, -999.000,   -999.0,9,   -999.0,  -999.00,9,-999.0000,9,-999.0000,9,-999.0000,9,-999.0000,9,-999.0000,9,-999.0000,9
  33RR20070204,  I08S,    26,  1,      1,      1,2,20070221,2050,-57.3203,  82.7790, 4230,   4294.7,  -0.0733,  34.6639,2,  34.6621,2,    231.9,2,    234.9,2,   130.62,2,    32.47,2,     0.00,2,     2.23,2,    1.500,2,    0.767,2, -999.000,5,   2254.1,2,   2352.2,2,   -999.0,9,  -999.00,9, -999.000,9, -999.000,-999.0000,9,-999.0000,  -999.00,9,  -999.00, -999.000,9, -999.000,   -999.0,9,   -999.0,  -999.00,9,-999.0000,9,-999.0000,9,-999.0000,9,-999.0000,9,-999.0000,9,-999.0000,9