BOTTLE,20150626SIOCCHRJL
EXPOCODE,SECT_ID,STNNBR,CASTNO,SAMPNO,BTLNBR,BTLNBR_FLAG_W,DATE,TIME,LATITUDE,LONGITUDE,DEPTH,CTDPRS,CTDTMP,CTDSAL,CTDSAL_FLAG_W,SALNTY,SALNTY_FLAG_W,CTDOXY,CTDOXY_FLAG_W,OXYGEN,OXYGEN_FLAG_W,SILCAT,SILCAT_FLAG_W,NITRAT,NITRAT_FLAG_W,NITRIT,NITRIT_FLAG_W,PHSPHT,PHSPHT_FLAG_W,CFC-11,CFC-11_FLAG_W,CFC-12,CFC-12_FLAG_W,CFC113,CFC113_FLAG_W,TCARBN,TCARBN_FLAG_W,ALKALI,ALKALI_FLAG_W,DOC,DOC_FLAG_W,TDN,TDN_FLAG_W,TRITUM,TRITUM_FLAG_W,TRITER,HELIUM,HELIUM_FLAG_W,HELIER,DELHE3,DELHE3_FLAG_W,DELHER,NEON,NEON_FLAG_W,NEONER,DELC14,DELC14_FLAG_W,C14ERR,DELC13,DELC13_FLAG_W,CDOM325,CDOM325_FLAG_W,CDOM340,CDOM340_FLAG_W,CDOM380,CDOM380_FLAG_W,CDOM412,CDOM412_FLAG_W,CDOMSL,CDOMSL_FLAG_W,CDOMSN,CDOMSN_FLAG_W
,,,,,,,,,,,METERS,DBAR,ITS-90,PSS-78,,PSS-78,,UMOL/KG,,UMOL/KG,,UMOL/KG,,UMOL/KG,,UMOL/KG,,UMOL/KG,,PMOL/KG,,PMOL/KG,,PMOL/KG,,UMOL/KG,,UMOL/KG,,UMOL/KG,,UMOL/KG,,TU,,TU,NMOL/KG,,NMOL/KG,PERCNT,,PERCNT,NMOL/KG,,NMOL/KG,/MILLE,,/MILLE,/MILLE,,1/M,,1/M,,1/M,,1/M,,1/NM,,1/NM,
  33RR20070204,  I08S,    20,  1,     21,     21,2,20070220,1212,-58.9985,  81.9997, 1289,      3.5,   1.3416,  33.9766,2,  33.9753,2,    334.7,2,    335.0,2,    33.87,2,    25.60,2,     0.26,2,     1.64,2,    5.999,2,    3.196,2, -999.000,5,   2160.8,2,   2297.8,2,   -999.0,9,  -999.00,9, -999.000,9, -999.000,-999.0000,9,-999.0000,  -999.00,9,  -999.00, -999.000,9, -999.000,   -103.2,2,      3.2,     1.45,2,-999.0000,9,-999.0000,9,-999.0000,9,-999.0000,9,-999.0000,9,-999.0000,9
  33RR20070204,  I08S,    20,  1,     20,     20,2,20070220,1212,-58.9985,  81.9997, 1289,     38.8,   1.1351,  34.0077,2,  34.0076,2,    335.7,2,    335.5,2,    34.86,2,    25.80,2,     0.25,2,     1.66,2,    5.989,2,    3.182,2, -999.000,5,   2164.3,2,   2301.6,2,   -999.0,9,  -999.00,9, -999.000,9, -999.000,-999.0000,9,-999.0000,  -999.00,9,  -999.00, -999.000,9, -999.000,   -999.0,9,   -999.0,  -999.00,9,-999.0000,9,-999.0000,9,-999.0000,9,-999.0000,9,-999.0000,9,-999.0000,9
  33RR20070204,  I08S,    20,  1,     19,     19,2,20070220,1212,-58.9985,  81.9997, 1289,     74.2,   0.0981,  34.1612,2,  34.1479,2,    302.6,2,    303.0,2,    55.65,2,    29.10,2,     0.20,2,     2.10,2,    5.162,2,    2.753,2, -999.000,5,   2199.7,2,   2308.3,2,   -999.0,9,  -999.00,9, -999.000,9, -999.000,-999.0000,9,-999.0000,  -999.00,9,  -999.00, -999.000,9, -999.000,   -999.0,9,   -999.0,  -999.00,9,-999.0000,9,-999.0000,9,-999.0000,9,-999.0000,9,-999.0000,9,-999.0000,9
  33RR20070204,  I08S,    20,  1,     18,     18,2,20070220,1212,-58.9985,  81.9997, 1289,     88.8,   0.2854,  34.3472,2,  34.3503,2,    248.9,2,    248.0,2,    70.31,2,    32.08,2,     0.18,2,     2.29,2,    3.402,2,    1.787,2, -999.000,5,   2228.9,2,   2318.7,2,   -999.0,9,  -999.00,9, -999.000,9, -999.000,-999.0000,9,-999.0000,  -999.00,9,  -999.00, -999.000,9, -999.000,   -999.0,9,   -999.0,  -999.00,9,-999.0000,9,-999.0000,9,-999.0000,9,-999.0000,9,-999.0000,9,-999.0000,9
  33RR20070204,  I08S,    20,  1,     17,     17,2,20070220,1212,-58.9985,  81.9997, 1289,    114.4,   1.0255,  34.5234,2,  34.5197,2,    199.5,2,    201.7,2,    79.35,2,    33.70,2,     0.20,2,     2.34,2,    1.757,2,    0.938,2, -999.000,5,   2248.7,2,   2327.6,2,   -999.0,9,  -999.00,9, -999.000,9, -999.000,-999.0000,9,-999.0000,  -999.00,9,  -999.00, -999.000,9, -999.000,   -139.1,6,      2.1,     0.46,6,-999.0000,9,-999.0000,9,-999.0000,9,-999.0000,9,-999.0000,9,-999.0000,9
  33RR20070204,  I08S,    20,  1,     16,     16,2,20070220,1212,-58.9985,  81.9997, 1289,    144.3,   1.6327,  34.6301,2,  34.6282,2,    181.1,2,    178.0,2,    84.39,2,    33.99,2,     0.06,2,     2.33,2,    0.795,2,    0.428,2, -999.000,5,   2257.0,2,   2335.8,2,   -999.0,9,  -999.00,9, -999.000,9, -999.000,-999.0000,9,-999.0000,  -999.00,9,  -999.00, -999.000,9, -999.000,   -999.0,9,   -999.0,  -999.00,9,-999.0000,9,-999.0000,9,-999.0000,9,-999.0000,9,-999.0000,9,-999.0000,9
  33RR20070204,  I08S,    20,  1,     15,     15,2,20070220,1212,-58.9985,  81.9997, 1289,    174.7,   1.7514,  34.6545,2,  34.6541,2,    175.1,2,    175.3,2,    83.98,2,    33.75,2,     0.04,2,     2.32,2,    0.617,2,    0.328,2, -999.000,5,   2258.2,6,   2338.2,2,   -999.0,9,  -999.00,9, -999.000,9, -999.000,-999.0000,9,-999.0000,  -999.00,9,  -999.00, -999.000,9, -999.000,   -999.0,9,   -999.0,  -999.00,9,-999.0000,9,-999.0000,9,-999.0000,9,-999.0000,9,-999.0000,9,-999.0000,9
  33RR20070204,  I08S,    20,  1,     14,     14,2,20070220,1212,-58.9985,  81.9997, 1289,    224.4,   1.8383,  34.6875,2,  34.6867,2,    176.0,2,    176.3,2,    86.00,2,    33.06,2,     0.03,2,     2.28,2,    0.445,2,    0.230,2, -999.000,5,   -999.0,9,   -999.0,9,   -999.0,9,  -999.00,9, -999.000,9, -999.000,-999.0000,9,-999.0000,  -999.00,9,  -999.00, -999.000,9, -999.000,   -999.0,9,   -999.0,  -999.00,9,-999.0000,9,-999.0000,9,-999.0000,9,-999.0000,9,-999.0000,9,-999.0000,9
  33RR20070204,  I08S,    20,  1,     13,     13,2,20070220,1212,-58.9985,  81.9997, 1289,    274.7,   1.8253,  34.7055,2,  34.7042,2,    180.0,2,    180.9,2,    86.59,2,    32.46,2,     0.03,2,     2.24,2,    0.384,2,    0.196,2, -999.000,5,   -999.0,9,   -999.0,9,   -999.0,9,  -999.00,9, -999.000,9, -999.000,-999.0000,9,-999.0000,  -999.00,9,  -999.00, -999.000,9, -999.000,   -999.0,9,   -999.0,  -999.00,9,-999.0000,9,-999.0000,9,-999.0000,9,-999.0000,9,-999.0000,9,-999.0000,9
  33RR20070204,  I08S,    20,  1,     12,     12,2,20070220,1212,-58.9985,  81.9997, 1289,    325.5,   1.8078,  34.7151,2,  34.7152,2,    182.3,2,    183.6,2,    87.60,2,    31.68,2,     0.01,2,     2.18,2,    0.344,2,    0.173,2, -999.000,5,   -999.0,9,   -999.0,9,   -999.0,9,  -999.00,9, -999.000,9, -999.000,-999.0000,9,-999.0000,  -999.00,9,  -999.00, -999.000,9, -999.000,   -999.0,9,   -999.0,  -999.00,9,-999.0000,9,-999.0000,9,-999.0000,9,-999.0000,9,-999.0000,9,-999.0000,9
  33RR20070204,  I08S,    20,  1,     11,     11,2,20070220,1212,-58.9985,  81.9997, 1289,    375.7,   1.7793,  34.7239,2,  34.7241,2,    186.1,2,    186.0,2,    87.19,2,    32.07,2,     0.01,2,     2.21,2,    0.310,2,    0.156,2, -999.000,5,   -999.0,9,   -999.0,9,   -999.0,9,  -999.00,9, -999.000,9, -999.000,-999.0000,9,-999.0000,  -999.00,9,  -999.00, -999.000,9, -999.000,   -999.0,9,   -999.0,  -999.00,9,-999.0000,9,-999.0000,9,-999.0000,9,-999.0000,9,-999.0000,9,-999.0000,9
  33RR20070204,  I08S,    20,  1,     10,     10,2,20070220,1212,-58.9985,  81.9997, 1289,    426.4,   1.7483,  34.7294,2,  34.7292,2,    188.5,2,    188.8,2,    86.58,2,    31.14,2,     0.01,2,     2.16,2,    0.292,2,    0.143,2, -999.000,5,   -999.0,9,   -999.0,9,   -999.0,9,  -999.00,9, -999.000,9, -999.000,-999.0000,9,-999.0000,  -999.00,9,  -999.00, -999.000,9, -999.000,   -999.0,9,   -999.0,  -999.00,9,-999.0000,9,-999.0000,9,-999.0000,9,-999.0000,9,-999.0000,9,-999.0000,9
  33RR20070204,  I08S,    20,  1,      9,      9,2,20070220,1212,-58.9985,  81.9997, 1289,    476.8,   1.7111,  34.7332,2,  34.7331,2,    191.5,2,    190.9,2,    88.19,2,    31.18,2,     0.01,2,     2.15,2,    0.277,2,    0.136,2, -999.000,5,   -999.0,9,   -999.0,9,   -999.0,9,  -999.00,9, -999.000,9, -999.000,-999.0000,9,-999.0000,  -999.00,9,  -999.00, -999.000,9, -999.000,   -999.0,9,   -999.0,  -999.00,9,-999.0000,9,-999.0000,9,-999.0000,9,-999.0000,9,-999.0000,9,-999.0000,9
  33RR20070204,  I08S,    20,  1,      8,      8,2,20070220,1212,-58.9985,  81.9997, 1289,    537.2,   1.6554,  34.7373,2,  34.7374,2,    193.4,2,    193.1,2,    89.20,2,    30.98,2,     0.01,2,     2.14,2,    0.260,2,    0.127,2, -999.000,5,   -999.0,9,   -999.0,9,   -999.0,9,  -999.00,9, -999.000,9, -999.000,-999.0000,9,-999.0000,  -999.00,9,  -999.00, -999.000,9, -999.000,   -999.0,9,   -999.0,  -999.00,9,-999.0000,9,-999.0000,9,-999.0000,9,-999.0000,9,-999.0000,9,-999.0000,9
  33RR20070204,  I08S,    20,  1,      7,      7,2,20070220,1212,-58.9985,  81.9997, 1289,    647.8,   1.5473,  34.7413,2,  34.7416,2,    197.3,2,    197.0,2,    91.82,2,    30.78,2,     0.01,2,     2.12,2,    0.228,2,    0.111,2, -999.000,5,   -999.0,9,   -999.0,9,   -999.0,9,  -999.00,9, -999.000,9, -999.000,-999.0000,9,-999.0000,  -999.00,9,  -999.00, -999.000,9, -999.000,   -999.0,9,   -999.0,  -999.00,9,-999.0000,9,-999.0000,9,-999.0000,9,-999.0000,9,-999.0000,9,-999.0000,9
  33RR20070204,  I08S,    20,  1,      6,      6,2,20070220,1212,-58.9985,  81.9997, 1289,    748.4,   1.4531,  34.7406,2,  34.7410,2,    199.1,2,    199.0,2,    94.25,2,    30.77,2,     0.01,2,     2.12,2,    0.219,2,    0.104,2, -999.000,5,   -999.0,9,   -999.0,9,   -999.0,9,  -999.00,9, -999.000,9, -999.000,-999.0000,9,-999.0000,  -999.00,9,  -999.00, -999.000,9, -999.000,   -999.0,9,   -999.0,  -999.00,9,-999.0000,9,-999.0000,9,-999.0000,9,-999.0000,9,-999.0000,9,-999.0000,9
  33RR20070204,  I08S,    20,  1,      5,      5,2,20070220,1212,-58.9985,  81.9997, 1289,    849.5,   1.3636,  34.7386,2,  34.7394,2,    200.7,2,    200.3,2,    95.67,2,    30.82,2,     0.00,2,     2.12,2,    0.202,2,    0.097,2, -999.000,5,   -999.0,9,   -999.0,9,   -999.0,9,  -999.00,9, -999.000,9, -999.000,-999.0000,9,-999.0000,  -999.00,9,  -999.00, -999.000,9, -999.000,   -999.0,9,   -999.0,  -999.00,9,-999.0000,9,-999.0000,9,-999.0000,9,-999.0000,9,-999.0000,9,-999.0000,9
  33RR20070204,  I08S,    20,  1,      4,      4,2,20070220,1212,-58.9985,  81.9997, 1289,    950.2,   1.2573,  34.7346,2,  34.7349,2,    201.2,2,    201.4,2,   100.12,2,    30.92,2,     0.00,2,     2.14,2,    0.196,2,    0.091,2, -999.000,5,   2251.0,2,   2351.5,2,   -999.0,9,  -999.00,9, -999.000,9, -999.000,-999.0000,9,-999.0000,  -999.00,9,  -999.00, -999.000,9, -999.000,   -999.0,9,   -999.0,  -999.00,9,-999.0000,9,-999.0000,9,-999.0000,9,-999.0000,9,-999.0000,9,-999.0000,9
  33RR20070204,  I08S,    20,  1,      3,      3,2,20070220,1212,-58.9985,  81.9997, 1289,   1051.4,   1.1440,  34.7293,2,  34.7300,2,    200.9,2,    201.4,2,   105.00,2,    31.21,2,     0.00,2,     2.16,2,    0.188,2,    0.089,2, -999.000,5,   2252.9,2,   2351.9,2,   -999.0,9,  -999.00,9, -999.000,9, -999.000,-999.0000,9,-999.0000,  -999.00,9,  -999.00, -999.000,9, -999.000,   -999.0,9,   -999.0,  -999.00,9,-999.0000,9,-999.0000,9,-999.0000,9,-999.0000,9,-999.0000,9,-999.0000,9
  33RR20070204,  I08S,    20,  1,      2,      2,2,20070220,1212,-58.9985,  81.9997, 1289,   1183.4,   0.9942,  34.7217,2,  34.7219,2,    201.4,2,    199.7,2,   120.07,2,    31.91,2,     0.00,2,     2.20,2,    0.169,2,    0.078,2, -999.000,5,   2257.5,2,   2354.6,2,   -999.0,9,  -999.00,9, -999.000,9, -999.000,-999.0000,9,-999.0000,  -999.00,9,  -999.00, -999.000,9, -999.000,   -999.0,9,   -999.0,  -999.00,9,-999.0000,9,-999.0000,9,-999.0000,9,-999.0000,9,-999.0000,9,-999.0000,9
  33RR20070204,  I08S,    20,  1,      1,      1,2,20070220,1212,-58.9985,  81.9997, 1289,   1292.0,   0.8563,  34.7140,2,  34.7156,2,    199.5,2,    201.0,2,   128.24,2,    32.24,2,     0.01,2,     2.23,2,    0.172,2,    0.082,2, -999.000,5,   2259.9,6,   2356.7,2,   -999.0,9,  -999.00,9, -999.000,9, -999.000,-999.0000,9,-999.0000,  -999.00,9,  -999.00, -999.000,9, -999.000,   -999.0,9,   -999.0,  -999.00,9,-999.0000,9,-999.0000,9,-999.0000,9,-999.0000,9,-999.0000,9,-999.0000,9