BOTTLE,20150626SIOCCHRJL
EXPOCODE,SECT_ID,STNNBR,CASTNO,SAMPNO,BTLNBR,BTLNBR_FLAG_W,DATE,TIME,LATITUDE,LONGITUDE,DEPTH,CTDPRS,CTDTMP,CTDSAL,CTDSAL_FLAG_W,SALNTY,SALNTY_FLAG_W,CTDOXY,CTDOXY_FLAG_W,OXYGEN,OXYGEN_FLAG_W,SILCAT,SILCAT_FLAG_W,NITRAT,NITRAT_FLAG_W,NITRIT,NITRIT_FLAG_W,PHSPHT,PHSPHT_FLAG_W,CFC-11,CFC-11_FLAG_W,CFC-12,CFC-12_FLAG_W,CFC113,CFC113_FLAG_W,TCARBN,TCARBN_FLAG_W,ALKALI,ALKALI_FLAG_W,DOC,DOC_FLAG_W,TDN,TDN_FLAG_W,TRITUM,TRITUM_FLAG_W,TRITER,HELIUM,HELIUM_FLAG_W,HELIER,DELHE3,DELHE3_FLAG_W,DELHER,NEON,NEON_FLAG_W,NEONER,DELC14,DELC14_FLAG_W,C14ERR,DELC13,DELC13_FLAG_W,CDOM325,CDOM325_FLAG_W,CDOM340,CDOM340_FLAG_W,CDOM380,CDOM380_FLAG_W,CDOM412,CDOM412_FLAG_W,CDOMSL,CDOMSL_FLAG_W,CDOMSN,CDOMSN_FLAG_W
,,,,,,,,,,,METERS,DBAR,ITS-90,PSS-78,,PSS-78,,UMOL/KG,,UMOL/KG,,UMOL/KG,,UMOL/KG,,UMOL/KG,,UMOL/KG,,PMOL/KG,,PMOL/KG,,PMOL/KG,,UMOL/KG,,UMOL/KG,,UMOL/KG,,UMOL/KG,,TU,,TU,NMOL/KG,,NMOL/KG,PERCNT,,PERCNT,NMOL/KG,,NMOL/KG,/MILLE,,/MILLE,/MILLE,,1/M,,1/M,,1/M,,1/M,,1/NM,,1/NM,
  33RR20070204,  I08S,    30,  1,     36,     36,3,20070223,0552,-55.6228,  84.7478, 4769,      4.0,   3.2114,  33.8429,2,  33.8668,0,    320.4,2,    271.3,0,    17.26,4,    24.53,4,     0.23,4,     1.68,4,    0.770,4,    0.405,4, -999.000,5,   2171.5,2,   2288.9,2,     48.9,2,    29.86,2,    0.125,2,    0.006,   1.9185,2,   0.0006,     6.49,4,     0.26,    8.300,2,    0.007,   -999.0,9,   -999.0,  -999.00,9,   0.1252,2,   0.0873,2,   0.0454,2,   0.0318,2,   0.0146,2,   0.0164,3
  33RR20070204,  I08S,    30,  1,     35,     35,2,20070223,0552,-55.6228,  84.7478, 4769,     22.5,   3.1946,  33.8428,2,  33.8432,2,    321.3,2,    320.6,2,    11.25,2,    23.87,2,     0.23,2,     1.65,2,    5.249,2,    2.811,2, -999.000,5,   2136.8,2,   2278.5,2,     48.7,2,    29.86,2, -999.000,9, -999.000,   2.1530,4,   0.0008,    -0.96,3,     0.23,    9.276,4,    0.009,   -999.0,9,   -999.0,  -999.00,9,   0.0890,2,   0.0592,2,   0.0309,2,   0.0234,2,   0.0138,3,   0.0165,3
  33RR20070204,  I08S,    30,  1,     34,   9433,2,20070223,0552,-55.6228,  84.7478, 4769,     46.8,   3.1010,  33.8447,2,  33.8451,2,    322.5,2,    321.3,2,    11.42,2,    23.97,2,     0.24,2,     1.65,2,    5.203,2,    2.737,2, -999.000,5,   2137.3,2,   2279.2,2,     47.4,2,    28.78,2,    0.108,2,    0.006,   1.7959,2,   0.0010,    -1.50,2,     0.26,    7.929,2,    0.008,   -999.0,9,   -999.0,  -999.00,9,   0.0927,2,   0.0610,2,   0.0316,2,   0.0239,2,   0.0139,3,   0.0168,3
  33RR20070204,  I08S,    30,  1,     33,     33,2,20070223,0552,-55.6228,  84.7478, 4769,     90.2,   2.3748,  33.8615,2,  33.8616,2,    325.9,2,    327.3,2,    16.11,2,    24.94,2,     0.27,2,     1.65,2,    5.612,2,    2.992,2, -999.000,5,   2146.9,2,   2282.6,2,     46.5,2,    29.20,2,    0.106,2,    0.006,   1.7996,2,   0.0005,    -1.68,2,     0.26,    7.896,2,    0.007,   -999.0,9,   -999.0,  -999.00,9,   0.0835,2,   0.0548,2,   0.0296,2,   0.0223,2,   0.0135,4,   0.0161,4
  33RR20070204,  I08S,    30,  1,     32,     32,2,20070223,0552,-55.6228,  84.7478, 4769,    138.0,   2.1051,  33.9143,2,  33.9137,2,    328.5,2,    328.3,2,    18.95,2,    25.58,2,     0.28,2,     1.66,2,    5.803,2,    3.105,2, -999.000,5,   2154.1,2,   2287.4,2,     45.4,2,    29.71,2,    0.084,2,    0.005,   1.8127,2,   0.0005,    -1.82,2,     0.26,    8.030,2,    0.008,   -999.0,9,   -999.0,  -999.00,9,   0.0835,2,   0.0541,2,   0.0288,2,   0.0214,2,   0.0140,3,   0.0169,3
  33RR20070204,  I08S,    30,  1,     31,     31,2,20070223,0552,-55.6228,  84.7478, 4769,    163.2,   1.9994,  33.9260,2,  33.9268,2,    328.2,2,    328.4,2,    21.80,2,    25.68,2,     0.29,2,     1.69,2,    5.824,2,    3.090,2, -999.000,5,   2157.1,2,   2290.7,2,     44.3,2,    29.11,2, -999.000,9, -999.000,   1.7862,3,   0.0013,    -1.89,2,     0.26,    7.965,2,    0.008,   -999.0,9,   -999.0,  -999.00,9,   0.2257,2,   0.1673,2,   0.0855,2,   0.0548,2,   0.0154,3,   0.0164,3
  33RR20070204,  I08S,    30,  1,     30,     30,2,20070223,0552,-55.6228,  84.7478, 4769,    184.7,   1.7348,  33.9450,2,  33.9456,2,    327.9,2,    329.0,2,    26.09,2,    26.18,2,     0.28,2,     1.76,2,    5.924,2,    3.099,2, -999.000,5,   2161.5,2,   2291.6,2,     43.9,2,    29.65,2,    0.089,2,    0.006,   1.8284,2,   0.0011,    -1.69,2,     0.25,    8.111,2,    0.007,   -999.0,9,   -999.0,  -999.00,9,   0.3486,2,   0.2761,2,   0.1484,2,   0.0913,3,   0.0155,3,   0.0154,3
  33RR20070204,  I08S,    30,  1,     29,     29,2,20070223,0552,-55.6228,  84.7478, 4769,    231.0,   0.6501,  34.0113,2,  34.0056,2,    326.8,2,    311.3,2,    40.30,2,    29.03,2,     0.22,2,     2.06,2,    5.492,2,    2.904,2, -999.000,5,   2182.1,2,   2293.2,2,     43.5,2,    32.94,2,    0.077,2,    0.005,   1.8389,2,   0.0005,    -0.39,2,     0.25,    8.144,2,    0.007,   -999.0,9,   -999.0,  -999.00,9,   0.1991,2,   0.1472,2,   0.0755,2,   0.0492,2,   0.0156,2,   0.0164,2
  33RR20070204,  I08S,    30,  1,     28,     28,2,20070223,0552,-55.6228,  84.7478, 4769,    279.1,   0.0024,  34.0844,2,  34.0838,2,    316.8,2,    315.4,2,    51.24,2,    29.73,2,     0.23,2,     2.17,2,    5.647,2,    2.977,2, -999.000,5,   2193.1,2,   2299.7,2,     43.0,2,    33.06,2,    0.057,2,    0.005,   1.8409,2,   0.0006,    -0.56,2,     0.25,    8.198,2,    0.007,   -999.0,9,   -999.0,  -999.00,9,-999.0000,9,-999.0000,9,-999.0000,9,-999.0000,9,-999.0000,9,-999.0000,9
  33RR20070204,  I08S,    30,  1,     27,     27,2,20070223,0552,-55.6228,  84.7478, 4769,    327.2,   0.0601,  34.2304,2,  34.2304,2,    288.2,2,    279.4,2,    61.98,2,    31.88,2,     0.22,2,     2.26,2,    4.410,2,    2.302,2, -999.000,5,   2213.9,2,   2306.8,2,     42.4,2,    36.00,2,    0.045,2,    0.005,   1.8633,2,   0.0010,     1.87,2,     0.25,    8.314,2,    0.008,   -999.0,9,   -999.0,  -999.00,9,-999.0000,9,-999.0000,9,-999.0000,9,-999.0000,9,-999.0000,9,-999.0000,9
  33RR20070204,  I08S,    30,  1,     26,     26,2,20070223,0552,-55.6228,  84.7478, 4769,    375.7,   1.1612,  34.4089,2,  34.4092,2,    215.8,2,    217.1,2,    69.42,2,    33.97,2,     0.05,2,     2.35,2,    2.401,2,    1.256,2, -999.000,5,   2236.5,2,   2319.1,2,     42.4,2,    37.40,2,    0.024,2,    0.005,   1.8417,2,   0.0006,     5.18,2,     0.25,    8.121,2,    0.007,   -999.0,9,   -999.0,  -999.00,9,-999.0000,9,-999.0000,9,-999.0000,9,-999.0000,9,-999.0000,9,-999.0000,9
  33RR20070204,  I08S,    30,  1,     25,     25,2,20070223,0552,-55.6228,  84.7478, 4769,    423.4,   2.2769,  34.5795,2,  34.5808,2,    194.9,2,    178.3,2,    72.50,2,    33.55,2,     0.01,2,     2.33,2,    0.652,2,    0.351,2, -999.000,5,   2247.4,6,   2327.8,2,     42.2,2,    37.49,2,    0.001,2,    0.004,   1.8449,2,   0.0006,     8.49,2,     0.26,    8.025,2,    0.007,   -999.0,9,   -999.0,  -999.00,9,-999.0000,9,-999.0000,9,-999.0000,9,-999.0000,9,-999.0000,9,-999.0000,9
  33RR20070204,  I08S,    30,  1,     24,     24,2,20070223,0552,-55.6228,  84.7478, 4769,    473.1,   2.3170,  34.6164,2,  34.6170,2,    178.1,2,    177.5,2,    73.91,2,    33.20,2,     0.01,2,     2.30,2,    0.471,2,    0.248,2, -999.000,5,   2247.3,2,   2332.3,2,     41.7,2,    36.78,2,    0.016,2,    0.005,   1.8560,2,   0.0006,     8.44,2,     0.26,    8.091,2,    0.007,   -999.0,9,   -999.0,  -999.00,9,-999.0000,9,-999.0000,9,-999.0000,9,-999.0000,9,-999.0000,9,-999.0000,9
  33RR20070204,  I08S,    30,  1,     23,     23,2,20070223,0552,-55.6228,  84.7478, 4769,    556.5,   2.2946,  34.6564,2,  34.6618,2,    180.0,2,    179.2,2,    75.33,2,    32.64,2,     0.01,2,     2.25,2,    0.353,2,    0.188,2, -999.000,5,   2247.0,2,   2334.9,2,     41.6,2,    35.46,2,    0.006,2,    0.004,   1.8533,2,   0.0006,     8.66,2,     0.26,    8.026,2,    0.007,   -999.0,9,   -999.0,  -999.00,9,-999.0000,9,-999.0000,9,-999.0000,9,-999.0000,9,-999.0000,9,-999.0000,9
  33RR20070204,  I08S,    30,  1,     22,     22,2,20070223,0552,-55.6228,  84.7478, 4769,    658.2,   2.2476,  34.6883,2,  34.6895,2,    180.8,2,    182.0,2,    76.54,2,    31.91,2,     0.01,2,     2.20,2,    0.266,2,    0.137,2, -999.000,5,   -999.0,9,   -999.0,9,   -999.0,9,    34.29,2, -999.000,9, -999.000,   1.8604,2,   0.0006,     8.82,2,     0.26,    8.097,2,    0.007,   -999.0,9,   -999.0,  -999.00,9,-999.0000,9,-999.0000,9,-999.0000,9,-999.0000,9,-999.0000,9,-999.0000,9
  33RR20070204,  I08S,    30,  1,     21,     21,2,20070223,0552,-55.6228,  84.7478, 4769,    762.6,   2.1929,  34.7103,2,  34.7115,2,    182.7,2,    185.4,2,    77.53,2,    31.36,2,     0.01,2,     2.16,2,    0.226,2,    0.115,2, -999.000,5,   2244.2,2,   2338.6,2,     41.3,2,  -999.00,9,    0.001,2,    0.004,   1.8848,2,   0.0006,     9.12,2,     0.26,    8.175,2,    0.007,   -999.0,9,   -999.0,  -999.00,9,-999.0000,9,-999.0000,9,-999.0000,9,-999.0000,9,-999.0000,9,-999.0000,9
  33RR20070204,  I08S,    30,  1,     20,     20,2,20070223,0552,-55.6228,  84.7478, 4769,    866.3,   1.9946,  34.7130,2,  34.7141,2,    187.5,2,    186.3,2,    81.25,2,    31.51,2,     0.01,2,     2.18,2,    0.308,2,    0.160,2, -999.000,5,   -999.0,9,   -999.0,9,   -999.0,9,    34.42,2, -999.000,9, -999.000,   1.9076,2,   0.0006,     8.78,2,     0.21,    8.245,2,    0.010,   -999.0,9,   -999.0,  -999.00,9,-999.0000,9,-999.0000,9,-999.0000,9,-999.0000,9,-999.0000,9,-999.0000,9
  33RR20070204,  I08S,    30,  1,     19,     19,2,20070223,0552,-55.6228,  84.7478, 4769,    968.0,   2.0137,  34.7314,2,  34.7320,2,    189.2,2,    189.9,2,    81.83,2,    31.01,2,     0.01,2,     2.13,2,    0.220,2,    0.110,2, -999.000,5,   2243.3,2,   2343.8,2,     41.2,2,  -999.00,9, -999.000,9, -999.000,   1.8576,2,   0.0006,     9.38,2,     0.20,    8.035,2,    0.011,   -999.0,9,   -999.0,  -999.00,9,-999.0000,9,-999.0000,9,-999.0000,9,-999.0000,9,-999.0000,9,-999.0000,9
  33RR20070204,  I08S,    30,  1,     18,     18,2,20070223,0552,-55.6228,  84.7478, 4769,   1071.2,   1.9491,  34.7395,2,  34.7411,2,    192.1,2,    192.3,2,    83.46,2,    30.70,2,     0.00,2,     2.11,2, -999.000,9, -999.000,9, -999.000,9,   -999.0,9,   -999.0,9,   -999.0,9,    31.90,2, -999.000,9, -999.000,-999.0000,9,-999.0000,  -999.00,9,  -999.00, -999.000,9, -999.000,   -999.0,9,   -999.0,  -999.00,9,-999.0000,9,-999.0000,9,-999.0000,9,-999.0000,9,-999.0000,9,-999.0000,9
  33RR20070204,  I08S,    30,  1,     17,     17,2,20070223,0552,-55.6228,  84.7478, 4769,   1172.2,   1.8732,  34.7443,2,  34.7458,2,    194.7,2,    194.7,2,    85.08,2,    30.50,2,     0.00,2,     2.10,2,    0.180,2,    0.088,2, -999.000,5,   -999.0,9,   -999.0,9,   -999.0,9,  -999.00,9, -999.000,9, -999.000,-999.0000,9,-999.0000,  -999.00,9,  -999.00, -999.000,9, -999.000,   -999.0,9,   -999.0,  -999.00,9,-999.0000,9,-999.0000,9,-999.0000,9,-999.0000,9,-999.0000,9,-999.0000,9
  33RR20070204,  I08S,    30,  1,     16,     16,2,20070223,0552,-55.6228,  84.7478, 4769,   1275.0,   1.8052,  34.7464,2,  34.7484,2,    196.5,2,    196.3,2,    87.35,2,    30.40,2,     0.00,2,     2.09,2,    0.171,2,    0.084,2, -999.000,5,   -999.0,9,   -999.0,9,   -999.0,9,  -999.00,9, -999.000,9, -999.000,   1.8563,2,   0.0006,     9.29,2,     0.20,    8.087,2,    0.010,   -999.0,9,   -999.0,  -999.00,9,-999.0000,9,-999.0000,9,-999.0000,9,-999.0000,9,-999.0000,9,-999.0000,9
  33RR20070204,  I08S,    30,  1,     15,     15,2,20070223,0552,-55.6228,  84.7478, 4769,   1376.6,   1.7201,  34.7469,2,  34.7484,2,    198.0,2,    198.9,2,    88.76,2,    30.40,2,     0.00,2,     2.09,2,    0.165,2,    0.078,2, -999.000,5,   2241.8,2,   2346.9,2,     40.9,2,  -999.00,9, -999.000,9, -999.000,   1.8696,2,   0.0006,     8.72,2,     0.26,    8.147,2,    0.008,   -999.0,9,   -999.0,  -999.00,9,-999.0000,9,-999.0000,9,-999.0000,9,-999.0000,9,-999.0000,9,-999.0000,9
  33RR20070204,  I08S,    30,  1,     14,     14,2,20070223,0552,-55.6228,  84.7478, 4769,   1479.1,   1.6486,  34.7462,2,  34.7476,2,    199.2,2,    199.1,2,    91.02,2,    30.55,2,     0.00,2,     2.10,2,    0.169,2,    0.080,2, -999.000,5,   -999.0,9,   -999.0,9,   -999.0,9,    31.87,2, -999.000,9, -999.000,   1.8803,2,   0.0006,     9.02,2,     0.26,    8.182,2,    0.008,   -999.0,9,   -999.0,  -999.00,9,-999.0000,9,-999.0000,9,-999.0000,9,-999.0000,9,-999.0000,9,-999.0000,9
  33RR20070204,  I08S,    30,  1,     13,     13,2,20070223,0552,-55.6228,  84.7478, 4769,   1583.2,   1.5630,  34.7442,2,  34.7456,2,    200.2,2,    200.2,2,    92.24,2,    30.50,2,     0.00,2,     2.10,2,    0.174,2,    0.080,2, -999.000,5,   -999.0,9,   -999.0,9,   -999.0,9,  -999.00,9, -999.000,9, -999.000,   1.8625,2,   0.0006,     8.72,2,     0.26,    8.081,2,    0.007,   -999.0,9,   -999.0,  -999.00,9,-999.0000,9,-999.0000,9,-999.0000,9,-999.0000,9,-999.0000,9,-999.0000,9
  33RR20070204,  I08S,    30,  1,     12,     12,2,20070223,0552,-55.6228,  84.7478, 4769,   1784.8,   1.4035,  34.7394,2,  34.7404,2,    202.8,2,    202.3,2,    97.85,2,    30.75,2,     0.00,2,     2.11,2, -999.000,9, -999.000,9, -999.000,9,   -999.0,9,   -999.0,9,   -999.0,9,  -999.00,9, -999.000,9, -999.000,-999.0000,9,-999.0000,  -999.00,9,  -999.00, -999.000,9, -999.000,   -999.0,9,   -999.0,  -999.00,9,-999.0000,9,-999.0000,9,-999.0000,9,-999.0000,9,-999.0000,9,-999.0000,9
  33RR20070204,  I08S,    30,  1,     11,     11,2,20070223,0552,-55.6228,  84.7478, 4769,   1987.6,   1.2207,  34.7305,2,  34.7317,2,    204.4,2,    204.3,2,   103.26,2,    31.10,2,     0.00,2,     2.14,2,    0.177,2,    0.084,2, -999.000,5,   2248.8,2,   2352.7,2,     40.9,2,  -999.00,9, -999.000,9, -999.000,   1.8806,2,   0.0006,     8.72,2,     0.27,    8.188,2,    0.008,   -999.0,9,   -999.0,  -999.00,9,-999.0000,9,-999.0000,9,-999.0000,9,-999.0000,9,-999.0000,9,-999.0000,9
  33RR20070204,  I08S,    30,  1,     10,     10,2,20070223,0552,-55.6228,  84.7478, 4769,   2189.9,   1.0677,  34.7219,2,  34.7225,2,    205.4,2,    206.0,2,   108.06,2,    31.46,2,     0.00,2,     2.17,2, -999.000,9, -999.000,9, -999.000,9,   -999.0,9,   -999.0,9,   -999.0,9,    32.65,2, -999.000,9, -999.000,-999.0000,9,-999.0000,  -999.00,9,  -999.00, -999.000,9, -999.000,   -999.0,9,   -999.0,  -999.00,9,-999.0000,9,-999.0000,9,-999.0000,9,-999.0000,9,-999.0000,9,-999.0000,9
  33RR20070204,  I08S,    30,  1,      9,      9,2,20070223,0552,-55.6228,  84.7478, 4769,   2447.5,   0.8970,  34.7123,2,  34.7198,0,    208.1,2,    208.0,2,   113.28,2,    31.82,2,     0.00,2,     2.19,2,    0.221,2,    0.105,2, -999.000,5,   -999.0,9,   -999.0,9,   -999.0,9,  -999.00,9, -999.000,9, -999.000,   1.8929,2,   0.0005,     8.07,2,     0.17,    8.261,2,    0.009,   -999.0,9,   -999.0,  -999.00,9,-999.0000,9,-999.0000,9,-999.0000,9,-999.0000,9,-999.0000,9,-999.0000,9
  33RR20070204,  I08S,    30,  1,      8,      8,2,20070223,0552,-55.6228,  84.7478, 4769,   2702.5,   0.7206,  34.7022,2,  34.7035,2,    210.9,2,    209.4,2,   118.07,2,    32.07,2,     0.00,2,     2.22,2, -999.000,9, -999.000,9, -999.000,9,   -999.0,9,   -999.0,9,   -999.0,9,  -999.00,9, -999.000,9, -999.000,-999.0000,9,-999.0000,  -999.00,9,  -999.00, -999.000,9, -999.000,   -999.0,9,   -999.0,  -999.00,9,-999.0000,9,-999.0000,9,-999.0000,9,-999.0000,9,-999.0000,9,-999.0000,9
  33RR20070204,  I08S,    30,  1,      7,      7,2,20070223,0552,-55.6228,  84.7478, 4769,   2956.2,   0.5587,  34.6939,2,  34.6927,2,    213.7,2,    212.7,2,   121.84,2,    32.38,2,     0.00,2,     2.24,2,    0.294,2,    0.144,2, -999.000,5,   2255.3,2,   2353.8,2,     41.2,2,  -999.00,9, -999.000,9, -999.000,   1.9094,2,   0.0006,     7.89,2,     0.16,    8.392,2,    0.009,   -999.0,9,   -999.0,  -999.00,9,-999.0000,9,-999.0000,9,-999.0000,9,-999.0000,9,-999.0000,9,-999.0000,9
  33RR20070204,  I08S,    30,  1,      6,      6,2,20070223,0552,-55.6228,  84.7478, 4769,   3290.3,   0.3751,  34.6859,2,  34.6858,2,    217.4,2,    218.2,2,   125.60,2,    32.43,2,     0.00,2,     2.24,2,    0.468,2,    0.240,2, -999.000,5,   -999.0,9,   -999.0,9,   -999.0,9,    34.08,2, -999.000,9, -999.000,-999.0000,9,-999.0000,  -999.00,9,  -999.00, -999.000,9, -999.000,   -999.0,9,   -999.0,  -999.00,9,-999.0000,9,-999.0000,9,-999.0000,9,-999.0000,9,-999.0000,9,-999.0000,9
  33RR20070204,  I08S,    30,  1,      5,      5,2,20070223,0552,-55.6228,  84.7478, 4769,   3598.3,   0.2797,  34.6814,2,  34.6825,2,    221.1,2,    222.2,2,   126.82,2,    32.53,2,     0.00,2,     2.24,2,    0.597,2,    0.306,2, -999.000,5,   -999.0,9,   -999.0,9,   -999.0,9,  -999.00,9, -999.000,9, -999.000,   1.9051,2,   0.0005,     6.79,2,     0.17,    8.386,2,    0.010,   -999.0,9,   -999.0,  -999.00,9,-999.0000,9,-999.0000,9,-999.0000,9,-999.0000,9,-999.0000,9,-999.0000,9
  33RR20070204,  I08S,    30,  1,      4,      4,2,20070223,0552,-55.6228,  84.7478, 4769,   3906.0,   0.1798,  34.6769,2,  34.6768,2,    225.0,2,    225.2,2,   127.42,2,    32.48,2,     0.00,2,     2.24,2,    0.773,2,    0.395,2, -999.000,5,   -999.0,9,   -999.0,9,   -999.0,9,  -999.00,9, -999.000,9, -999.000,   1.8809,2,   0.0005,     6.69,2,     0.17,    8.301,2,    0.009,   -999.0,9,   -999.0,  -999.00,9,-999.0000,9,-999.0000,9,-999.0000,9,-999.0000,9,-999.0000,9,-999.0000,9
  33RR20070204,  I08S,    30,  1,      3,      3,2,20070223,0552,-55.6228,  84.7478, 4769,   4212.2,   0.1278,  34.6739,2,  34.6737,2,    227.8,2,    228.0,2,   128.42,2,    32.48,2,     0.00,2,     2.24,2,    0.915,2,    0.471,2, -999.000,5,   -999.0,9,   -999.0,9,   -999.0,9,  -999.00,9, -999.000,9, -999.000,-999.0000,9,-999.0000,  -999.00,9,  -999.00, -999.000,9, -999.000,   -999.0,9,   -999.0,  -999.00,9,-999.0000,9,-999.0000,9,-999.0000,9,-999.0000,9,-999.0000,9,-999.0000,9
  33RR20070204,  I08S,    30,  1,      2,      2,2,20070223,0552,-55.6228,  84.7478, 4769,   4571.1,   0.0829,  34.6706,2,  34.6702,2,    231.0,2,    231.0,2,   128.38,2,    32.43,2,     0.00,2,     2.24,2,    1.053,2,    0.527,2, -999.000,5,   2253.2,2,   2351.1,2,     41.9,2,  -999.00,9,    0.019,2,    0.004,   1.9083,2,   0.0004,     6.36,2,     0.17,    8.355,2,    0.012,   -999.0,9,   -999.0,  -999.00,9,-999.0000,9,-999.0000,9,-999.0000,9,-999.0000,9,-999.0000,9,-999.0000,9
  33RR20070204,  I08S,    30,  1,      1,      1,2,20070223,0552,-55.6228,  84.7478, 4769,   4852.7,   0.0762,  34.6687,2,  34.6775,0,    232.4,2,    232.3,2,   129.61,2,    32.33,2,     0.00,2,     2.24,2,    1.207,2,    0.611,2, -999.000,5,   2254.4,6,   2352.5,2,     42.1,2,    34.27,2,    0.001,2,    0.005,   1.9207,2,   0.0006,     5.98,2,     0.17,    8.397,2,    0.010,   -999.0,9,   -999.0,  -999.00,9,-999.0000,9,-999.0000,9,-999.0000,9,-999.0000,9,-999.0000,9,-999.0000,9