BOTTLE,20150626SIOCCHRJL
EXPOCODE,SECT_ID,STNNBR,CASTNO,SAMPNO,BTLNBR,BTLNBR_FLAG_W,DATE,TIME,LATITUDE,LONGITUDE,DEPTH,CTDPRS,CTDTMP,CTDSAL,CTDSAL_FLAG_W,SALNTY,SALNTY_FLAG_W,CTDOXY,CTDOXY_FLAG_W,OXYGEN,OXYGEN_FLAG_W,SILCAT,SILCAT_FLAG_W,NITRAT,NITRAT_FLAG_W,NITRIT,NITRIT_FLAG_W,PHSPHT,PHSPHT_FLAG_W,CFC-11,CFC-11_FLAG_W,CFC-12,CFC-12_FLAG_W,CFC113,CFC113_FLAG_W,TCARBN,TCARBN_FLAG_W,ALKALI,ALKALI_FLAG_W,DOC,DOC_FLAG_W,TDN,TDN_FLAG_W,TRITUM,TRITUM_FLAG_W,TRITER,HELIUM,HELIUM_FLAG_W,HELIER,DELHE3,DELHE3_FLAG_W,DELHER,NEON,NEON_FLAG_W,NEONER,DELC14,DELC14_FLAG_W,C14ERR,DELC13,DELC13_FLAG_W,CDOM325,CDOM325_FLAG_W,CDOM340,CDOM340_FLAG_W,CDOM380,CDOM380_FLAG_W,CDOM412,CDOM412_FLAG_W,CDOMSL,CDOMSL_FLAG_W,CDOMSN,CDOMSN_FLAG_W
,,,,,,,,,,,METERS,DBAR,ITS-90,PSS-78,,PSS-78,,UMOL/KG,,UMOL/KG,,UMOL/KG,,UMOL/KG,,UMOL/KG,,UMOL/KG,,PMOL/KG,,PMOL/KG,,PMOL/KG,,UMOL/KG,,UMOL/KG,,UMOL/KG,,UMOL/KG,,TU,,TU,NMOL/KG,,NMOL/KG,PERCNT,,PERCNT,NMOL/KG,,NMOL/KG,/MILLE,,/MILLE,/MILLE,,1/M,,1/M,,1/M,,1/M,,1/NM,,1/NM,
  33RR20070204,  I08S,    55,  1,     32,     37,2,20070304,0016,-44.9915,  94.9972, 2900,      4.9,  11.1632,  34.3937,2,  34.3907,2,    272.1,2,    273.1,2,     0.95,2,    10.95,2,     0.17,2,     0.88,2,    3.321,2,    1.883,2, -999.000,5,   2084.3,6,   2281.5,2,     50.3,2,  -999.00,9, -999.000,9, -999.000,-999.0000,9,-999.0000,  -999.00,9,  -999.00, -999.000,9, -999.000,     19.5,2,      3.4,     1.64,2,   0.0961,2,   0.0640,2,   0.0250,2,   0.0187,2,   0.0157,3,   0.0219,3
  33RR20070204,  I08S,    55,  1,     31,     31,2,20070304,0016,-44.9915,  94.9972, 2900,     29.6,  11.0556,  34.4037,2,  34.4032,2,    274.2,2,    273.1,2,     0.83,2,    11.05,2,     0.17,2,     0.90,2,    3.440,2,    1.959,2, -999.000,5,   2085.7,2,   2282.9,2,     49.8,2,  -999.00,9, -999.000,9, -999.000,-999.0000,9,-999.0000,  -999.00,9,  -999.00, -999.000,9, -999.000,     26.7,2,      3.4,     1.60,2,   0.1094,2,   0.0770,2,   0.0369,2,   0.0283,2,   0.0126,3,   0.0159,3
  33RR20070204,  I08S,    55,  1,     30,     30,2,20070304,0016,-44.9915,  94.9972, 2900,     54.5,  10.8451,  34.3953,2,  34.3948,2,    273.1,2,    272.3,2,     0.92,2,    11.20,2,     0.17,2,     0.91,2,    3.541,2,    2.033,2, -999.000,5,   2086.1,2,   2283.0,2,     49.2,2,  -999.00,9, -999.000,9, -999.000,-999.0000,9,-999.0000,  -999.00,9,  -999.00, -999.000,9, -999.000,     19.8,2,      3.4,     1.59,2,   0.0903,2,   0.0619,2,   0.0310,2,   0.0227,2,   0.0139,3,   0.0167,3
  33RR20070204,  I08S,    55,  1,     29,     29,2,20070304,0016,-44.9915,  94.9972, 2900,     79.6,   9.8392,  34.4104,2,  34.4064,2,    274.3,2,    275.1,2,     1.21,2,    12.53,2,     0.26,2,     1.01,2,    3.625,2,    2.042,2, -999.000,5,   2097.1,2,   2282.7,2,     47.6,2,  -999.00,9, -999.000,9, -999.000,-999.0000,9,-999.0000,  -999.00,9,  -999.00, -999.000,9, -999.000,     13.3,2,      3.4,     1.49,2,   0.0935,2,   0.0650,2,   0.0337,2,   0.0247,2,   0.0140,2,   0.0160,3
  33RR20070204,  I08S,    55,  1,     28,     28,2,20070304,0016,-44.9915,  94.9972, 2900,    104.4,   9.4164,  34.4489,2,  34.4463,2,    270.7,2,    267.6,2,     1.91,2,    14.36,2,     0.33,2,     1.07,2,    3.651,2,    2.033,2, -999.000,5,   2106.0,2,   2281.5,2,     46.2,2,  -999.00,9, -999.000,9, -999.000,-999.0000,9,-999.0000,  -999.00,9,  -999.00, -999.000,9, -999.000,     20.4,2,      4.3,     1.38,2,   0.0886,2,   0.0616,2,   0.0329,2,   0.0249,2,   0.0136,2,   0.0154,3
  33RR20070204,  I08S,    55,  1,     27,     27,2,20070304,0016,-44.9915,  94.9972, 2900,    154.4,   9.0441,  34.5315,2,  34.5286,2,    258.6,2,    259.5,2,     3.64,2,    15.91,2,     0.01,2,     1.14,2,    3.537,2,    1.947,2, -999.000,5,   2116.8,2,   2283.1,2,     45.6,2,  -999.00,9, -999.000,9, -999.000,-999.0000,9,-999.0000,  -999.00,9,  -999.00, -999.000,9, -999.000,     23.9,2,      3.2,     1.25,2,   0.0810,2,   0.0549,2,   0.0301,2,   0.0235,2,   0.0132,3,   0.0152,3
  33RR20070204,  I08S,    55,  1,     26,     26,2,20070304,0016,-44.9915,  94.9972, 2900,    205.1,   8.5415,  34.4773,2,  34.4771,2,    262.1,2,    261.5,2,     4.35,2,    16.92,2,     0.01,2,     1.20,2,    3.827,2,    2.169,2, -999.000,5,   2119.6,2,   2280.8,2,     44.8,2,  -999.00,9, -999.000,9, -999.000,-999.0000,9,-999.0000,  -999.00,9,  -999.00, -999.000,9, -999.000,     23.4,2,      3.3,     1.21,2,   0.0918,2,   0.0641,2,   0.0372,2,   0.0294,2,   0.0121,2,   0.0134,3
  33RR20070204,  I08S,    55,  1,     25,     25,2,20070304,0016,-44.9915,  94.9972, 2900,    254.3,   8.5422,  34.5141,2,  34.5137,2,    257.8,2,    258.9,2,     4.64,2,    16.73,2,     0.01,2,     1.20,2,    3.637,2,    2.016,2, -999.000,5,   2121.6,2,   2283.1,2,     44.3,2,  -999.00,9, -999.000,9, -999.000,-999.0000,9,-999.0000,  -999.00,9,  -999.00, -999.000,9, -999.000,     15.7,2,      3.4,     1.22,2,   0.0777,2,   0.0521,2,   0.0290,2,   0.0228,2,   0.0129,3,   0.0150,3
  33RR20070204,  I08S,    55,  1,     24,     24,2,20070304,0016,-44.9915,  94.9972, 2900,    305.2,   8.1206,  34.4513,2,  34.4521,2,    257.5,2,    260.1,2,     5.35,2,    17.98,2,     0.01,2,     1.27,2,    3.758,2,    2.097,2, -999.000,5,   2124.7,2,   2281.1,2,     43.7,2,  -999.00,9, -999.000,9, -999.000,-999.0000,9,-999.0000,  -999.00,9,  -999.00, -999.000,9, -999.000,     10.6,2,      3.3,     1.22,2,   0.0772,2,   0.0513,2,   0.0284,2,   0.0221,2,   0.0131,3,   0.0154,3
  33RR20070204,  I08S,    55,  1,     23,     23,2,20070304,0016,-44.9915,  94.9972, 2900,    355.0,   7.6580,  34.4048,2,  34.4055,2,    254.8,2,    255.0,2,     6.47,2,    19.51,2,     0.01,2,     1.37,2,    3.506,2,    1.870,2, -999.000,5,   2132.3,2,   2281.4,2,     43.3,2,  -999.00,9, -999.000,9, -999.000,-999.0000,9,-999.0000,  -999.00,9,  -999.00, -999.000,9, -999.000,     10.0,2,      3.4,     1.23,2,   0.0862,2,   0.0588,2,   0.0336,2,   0.0265,2,   0.0126,3,   0.0141,3
  33RR20070204,  I08S,    55,  1,     22,     22,2,20070304,0016,-44.9915,  94.9972, 2900,    405.1,   7.6623,  34.4652,2,  34.4643,2,    230.2,2,    228.2,2,     9.64,2,    21.38,2,     0.00,2,     1.49,2,    3.245,2,    1.713,2, -999.000,5,   2147.2,2,   2282.3,2,     42.9,2,  -999.00,9, -999.000,9, -999.000,-999.0000,9,-999.0000,  -999.00,9,  -999.00, -999.000,9, -999.000,      8.1,2,      3.2,     1.19,2,   0.0835,2,   0.0560,2,   0.0307,2,   0.0236,2,   0.0135,3,   0.0155,3
  33RR20070204,  I08S,    55,  1,     21,     21,2,20070304,0016,-44.9915,  94.9972, 2900,    455.5,   7.0473,  34.4158,2,  34.4159,2,    222.8,2,    222.2,2,    11.79,2,    23.50,2,     0.00,2,     1.61,2,    3.291,2,    1.749,2, -999.000,5,   2154.9,2,   2283.5,2,     42.3,2,  -999.00,9, -999.000,9, -999.000,-999.0000,9,-999.0000,  -999.00,9,  -999.00, -999.000,9, -999.000,      4.0,2,      3.0,     1.08,2,   0.0888,2,   0.0598,2,   0.0333,2,   0.0256,2,   0.0133,3,   0.0151,3
  33RR20070204,  I08S,    55,  1,     20,     20,2,20070304,0016,-44.9915,  94.9972, 2900,    505.2,   6.5024,  34.3928,2,  34.3925,2,    218.0,2,    218.4,2,    14.56,2,    25.04,2,     0.00,2,     1.72,2,    3.144,2,    1.659,2, -999.000,5,   2163.3,2,   2282.9,2,     42.0,2,  -999.00,9, -999.000,9, -999.000,-999.0000,9,-999.0000,  -999.00,9,  -999.00, -999.000,9, -999.000,   -999.0,5,-999000.0,  -999.00,5,   0.0916,2,   0.0620,2,   0.0349,2,   0.0268,2,   0.0132,3,   0.0148,3
  33RR20070204,  I08S,    55,  1,     19,     19,2,20070304,0016,-44.9915,  94.9972, 2900,    606.3,   5.4680,  34.3386,2,  34.3389,2,    218.5,2,    219.8,2,    19.19,2,    27.31,2,     0.00,2,     1.89,2,    3.038,2,    1.564,2, -999.000,5,   2173.6,2,   2283.5,2,     41.5,2,  -999.00,9, -999.000,9, -999.000,-999.0000,9,-999.0000,  -999.00,9,  -999.00, -999.000,9, -999.000,    -24.5,2,      3.5,     1.02,2,   0.0931,2,   0.0629,2,   0.0359,2,   0.0273,2,   0.0131,3,   0.0146,3
  33RR20070204,  I08S,    55,  1,     18,     18,2,20070304,0016,-44.9915,  94.9972, 2900,    706.6,   4.6824,  34.3082,2,  34.3088,2,    219.7,2,    220.9,2,    24.03,2,    28.86,2,     0.00,2,     1.99,2,    2.886,2,    1.486,2, -999.000,5,   2181.2,2,   2285.9,2,     41.0,2,  -999.00,9, -999.000,9, -999.000,-999.0000,9,-999.0000,  -999.00,9,  -999.00, -999.000,9, -999.000,    -42.0,2,      3.0,     1.01,2,   0.0932,2,   0.0623,2,   0.0349,2,   0.0267,2,   0.0133,3,   0.0151,3
  33RR20070204,  I08S,    55,  1,     17,     17,2,20070304,0016,-44.9915,  94.9972, 2900,    807.0,   4.0376,  34.3058,2,  34.3062,2,    216.7,2,    215.1,2,    30.73,2,    30.37,2,     0.00,2,     2.10,2,    2.575,2,    1.301,2, -999.000,5,   2192.0,2,   2291.2,2,     41.1,2,  -999.00,9, -999.000,9, -999.000,-999.0000,9,-999.0000,  -999.00,9,  -999.00, -999.000,9, -999.000,    -61.8,2,      3.1,     1.00,2,   0.0962,2,   0.0645,2,   0.0363,2,   0.0274,2,   0.0135,3,   0.0151,3
  33RR20070204,  I08S,    55,  1,     16,     16,2,20070304,0016,-44.9915,  94.9972, 2900,    907.9,   3.6752,  34.3386,2,  34.3384,2,    205.9,2,    206.0,2,    37.86,2,    31.59,2,     0.00,2,     2.19,2,    2.070,2,    1.034,2, -999.000,5,   2205.3,2,   2299.1,2,     41.1,2,  -999.00,9, -999.000,9, -999.000,-999.0000,9,-999.0000,  -999.00,9,  -999.00, -999.000,9, -999.000,    -74.6,2,      3.4,     0.89,2,   0.1018,2,   0.0685,2,   0.0386,2,   0.0292,2,   0.0134,3,   0.0149,3
  33RR20070204,  I08S,    55,  1,     15,     15,2,20070304,0016,-44.9915,  94.9972, 2900,   1008.3,   3.3690,  34.3734,2,  34.3718,2,    198.1,2,    197.4,2,    44.80,2,    32.52,2,     0.00,2,     2.26,2,    1.660,2,    0.827,2, -999.000,5,   2215.0,2,   2306.3,5,     41.0,2,  -999.00,9, -999.000,9, -999.000,-999.0000,9,-999.0000,  -999.00,9,  -999.00, -999.000,9, -999.000,   -104.4,2,      2.9,     0.80,2,   0.1200,2,   0.0838,2,   0.0488,2,   0.0374,2,   0.0128,3,   0.0136,3
  33RR20070204,  I08S,    55,  1,     14,     14,2,20070304,0016,-44.9915,  94.9972, 2900,   1109.1,   3.2076,  34.4301,2,  34.4312,2,    186.3,2,    185.5,2,    52.57,2,    33.20,2,     0.00,2,     2.32,2,    1.037,2,    0.503,2, -999.000,5,   2226.7,2,   2314.3,2,     40.5,2,  -999.00,9, -999.000,9, -999.000,-999.0000,9,-999.0000,  -999.00,9,  -999.00, -999.000,9, -999.000,   -109.7,2,      2.9,     0.69,2,   0.1147,2,   0.0788,2,   0.0445,2,   0.0335,2,   0.0134,3,   0.0146,3
  33RR20070204,  I08S,    55,  1,     13,     13,2,20070304,0016,-44.9915,  94.9972, 2900,   1209.7,   3.0129,  34.4844,2,  34.4844,2,    179.1,2,    178.9,2,    58.70,2,    33.44,2,     0.00,2,     2.33,2,    0.771,2,    0.385,2, -999.000,5,   2234.8,2,   2317.8,2,     40.7,2,  -999.00,9, -999.000,9, -999.000,-999.0000,9,-999.0000,  -999.00,9,  -999.00, -999.000,9, -999.000,   -128.2,2,      2.3,     0.64,2,   0.1172,2,   0.0805,2,   0.0451,2,   0.0334,2,   0.0135,3,   0.0149,3
  33RR20070204,  I08S,    55,  1,     12,     12,2,20070304,0016,-44.9915,  94.9972, 2900,   1310.0,   2.8248,  34.5287,2,  34.5290,2,    176.0,2,    176.4,2,    63.60,2,    33.59,2,     0.00,2,     2.33,2,    0.599,2,    0.296,2, -999.000,5,   2247.1,2,   2323.1,2,     41.2,2,  -999.00,9, -999.000,9, -999.000,-999.0000,9,-999.0000,  -999.00,9,  -999.00, -999.000,9, -999.000,   -135.9,2,      3.0,     0.58,2,   0.1243,2,   0.0862,2,   0.0487,2,   0.0360,2,   0.0135,3,   0.0146,3
  33RR20070204,  I08S,    55,  1,     11,     11,2,20070304,0016,-44.9915,  94.9972, 2900,   1410.3,   2.7321,  34.5743,2,  34.5737,2,    175.3,2,    175.0,2,    66.41,2,    33.15,2,     0.00,2,     2.31,2,    0.451,2,    0.219,2, -999.000,5,   2243.8,3,   2327.9,2,     41.2,2,  -999.00,9, -999.000,9, -999.000,-999.0000,9,-999.0000,  -999.00,9,  -999.00, -999.000,9, -999.000,   -143.2,2,      2.8,     0.57,2,   0.1235,2,   0.0852,2,   0.0474,2,   0.0350,2,   0.0138,3,   0.0149,3
  33RR20070204,  I08S,    55,  1,     10,     10,2,20070304,0016,-44.9915,  94.9972, 2900,   1511.8,   2.6499,  34.6124,2,  34.6128,2,    176.2,2,    176.3,2,    68.80,2,    32.67,2,     0.00,2,     2.28,2,    0.344,2,    0.168,2, -999.000,5,   2249.9,2,   2331.7,2,     40.4,2,  -999.00,9, -999.000,9, -999.000,-999.0000,9,-999.0000,  -999.00,9,  -999.00, -999.000,9, -999.000,   -141.5,2,      2.9,     0.53,2,   0.1232,2,   0.0851,2,   0.0468,2,   0.0341,2,   0.0140,2,   0.0153,3
  33RR20070204,  I08S,    55,  1,      9,      9,2,20070304,0016,-44.9915,  94.9972, 2900,   1612.3,   2.5829,  34.6451,2,  34.6445,2,    178.0,2,    178.3,2,    70.16,2,    32.13,2,     0.00,2,     2.24,2,    0.270,2,    0.128,2, -999.000,5,   2249.9,2,   2332.6,2,     40.2,2,  -999.00,9, -999.000,9, -999.000,-999.0000,9,-999.0000,  -999.00,9,  -999.00, -999.000,9, -999.000,   -146.5,2,      3.4,     0.64,2,   0.1314,2,   0.0909,2,   0.0493,2,   0.0359,2,   0.0141,3,   0.0154,3
  33RR20070204,  I08S,    55,  1,      8,      8,2,20070304,0016,-44.9915,  94.9972, 2900,   1713.8,   2.5097,  34.6779,2,  34.6777,2,    180.9,2,    181.4,2,    71.51,2,    31.54,2,     0.00,2,     2.18,2,    0.207,2,    0.098,2, -999.000,5,   2250.0,2,   2334.3,2,     41.1,2,  -999.00,9, -999.000,9, -999.000,-999.0000,9,-999.0000,  -999.00,9,  -999.00, -999.000,9, -999.000,   -151.3,2,      2.8,     0.56,2,   0.1283,2,   0.0886,2,   0.0478,2,   0.0345,2,   0.0142,2,   0.0156,3
  33RR20070204,  I08S,    55,  1,      7,      7,2,20070304,0016,-44.9915,  94.9972, 2900,   1814.2,   2.4438,  34.7039,2,  34.7043,2,    184.6,2,    185.2,2,    72.24,2,    30.91,2,     0.00,2,     2.14,2, -999.000,5, -999.000,5, -999.000,5,   2246.2,2,   2336.7,2,     40.8,2,  -999.00,9, -999.000,9, -999.000,-999.0000,9,-999.0000,  -999.00,9,  -999.00, -999.000,9, -999.000,   -150.4,2,      2.6,     0.56,2,   0.1321,2,   0.0924,2,   0.0509,2,   0.0374,2,   0.0138,2,   0.0149,3
  33RR20070204,  I08S,    55,  1,      6,      6,2,20070304,0016,-44.9915,  94.9972, 2900,   1915.3,   2.3886,  34.7206,2,  34.7202,2,    188.0,2,    187.8,2,    73.39,2,    30.43,2,     0.00,2,     2.10,2,    0.136,2,    0.062,2, -999.000,5,   2243.7,2,   2336.8,2,     41.0,2,  -999.00,9, -999.000,9, -999.000,-999.0000,9,-999.0000,  -999.00,9,  -999.00, -999.000,9, -999.000,   -146.9,2,      2.9,     0.59,2,   0.2184,2,   0.1642,2,   0.0896,2,   0.0595,2,   0.0148,2,   0.0151,2
  33RR20070204,  I08S,    55,  1,      5,      5,2,20070304,0016,-44.9915,  94.9972, 2900,   2017.1,   2.3111,  34.7357,2,  34.7363,2,    190.9,2,    191.2,2,    74.75,2,    30.09,2,     0.00,2,     2.07,2,    0.113,2,    0.051,2, -999.000,5,   2242.6,2,   2335.8,2,     41.0,2,  -999.00,9, -999.000,9, -999.000,-999.0000,9,-999.0000,  -999.00,9,  -999.00, -999.000,9, -999.000,   -148.2,2,      2.8,     0.64,2,   0.1298,2,   0.0906,2,   0.0492,2,   0.0359,2,   0.0140,2,   0.0152,3
  33RR20070204,  I08S,    55,  1,      4,      4,2,20070304,0016,-44.9915,  94.9972, 2900,   2269.7,   2.1028,  34.7530,2,  34.7532,2,    196.2,2,    196.3,2,    80.30,2,    29.75,2,     0.00,2,     2.05,2,    0.086,2,    0.039,2, -999.000,5,   2243.7,6,   2344.8,2,     41.0,2,  -999.00,9, -999.000,9, -999.000,-999.0000,9,-999.0000,  -999.00,9,  -999.00, -999.000,9, -999.000,   -148.0,2,      3.2,     0.65,2,   0.1413,2,   0.0996,2,   0.0546,2,   0.0396,2,   0.0140,2,   0.0150,3
  33RR20070204,  I08S,    55,  1,      3,      3,2,20070304,0016,-44.9915,  94.9972, 2900,   2523.1,   1.7673,  34.7488,2,  34.7485,2,    199.1,2,    199.0,2,    92.37,2,    30.24,2,     0.00,2,     2.08,2,    0.065,2,    0.031,2, -999.000,5,   2250.4,2,   2351.9,2,     41.4,2,  -999.00,9, -999.000,9, -999.000,-999.0000,9,-999.0000,  -999.00,9,  -999.00, -999.000,9, -999.000,   -161.9,2,      2.8,     0.58,2,   0.1335,2,   0.0931,2,   0.0504,2,   0.0362,2,   0.0143,2,   0.0155,3
  33RR20070204,  I08S,    55,  1,      2,      2,2,20070304,0016,-44.9915,  94.9972, 2900,   2776.1,   1.4998,  34.7382,2,  34.7386,2,    201.6,2,    201.2,2,   101.11,2,    30.58,2,     0.00,2,     2.12,2,    0.084,2,    0.037,2, -999.000,5,   2254.5,2,   2354.6,2,     41.4,2,  -999.00,9, -999.000,9, -999.000,-999.0000,9,-999.0000,  -999.00,9,  -999.00, -999.000,9, -999.000,   -155.5,2,      2.3,     0.55,2,   0.1364,2,   0.0957,2,   0.0513,2,   0.0369,2,   0.0144,2,   0.0155,3
  33RR20070204,  I08S,    55,  1,      1,      1,2,20070304,0016,-44.9915,  94.9972, 2900,   2923.2,   1.4775,  34.7365,2,  34.7367,2,    201.1,2,    201.2,2,   103.12,2,    30.83,2,     0.00,2,     2.13,2,    0.084,2,    0.038,2, -999.000,5,   2255.2,6,   2357.4,2,     40.4,2,  -999.00,9, -999.000,9, -999.000,-999.0000,9,-999.0000,  -999.00,9,  -999.00, -999.000,9, -999.000,   -156.0,2,      2.8,     0.56,2,   0.1313,2,   0.0912,2,   0.0492,2,   0.0351,2,   0.0144,2,   0.0157,3