BOTTLE,20150626SIOCCHRJL
EXPOCODE,SECT_ID,STNNBR,CASTNO,SAMPNO,BTLNBR,BTLNBR_FLAG_W,DATE,TIME,LATITUDE,LONGITUDE,DEPTH,CTDPRS,CTDTMP,CTDSAL,CTDSAL_FLAG_W,SALNTY,SALNTY_FLAG_W,CTDOXY,CTDOXY_FLAG_W,OXYGEN,OXYGEN_FLAG_W,SILCAT,SILCAT_FLAG_W,NITRAT,NITRAT_FLAG_W,NITRIT,NITRIT_FLAG_W,PHSPHT,PHSPHT_FLAG_W,CFC-11,CFC-11_FLAG_W,CFC-12,CFC-12_FLAG_W,CFC113,CFC113_FLAG_W,TCARBN,TCARBN_FLAG_W,ALKALI,ALKALI_FLAG_W,DOC,DOC_FLAG_W,TDN,TDN_FLAG_W,TRITUM,TRITUM_FLAG_W,TRITER,HELIUM,HELIUM_FLAG_W,HELIER,DELHE3,DELHE3_FLAG_W,DELHER,NEON,NEON_FLAG_W,NEONER,DELC14,DELC14_FLAG_W,C14ERR,DELC13,DELC13_FLAG_W,CDOM325,CDOM325_FLAG_W,CDOM340,CDOM340_FLAG_W,CDOM380,CDOM380_FLAG_W,CDOM412,CDOM412_FLAG_W,CDOMSL,CDOMSL_FLAG_W,CDOMSN,CDOMSN_FLAG_W
,,,,,,,,,,,METERS,DBAR,ITS-90,PSS-78,,PSS-78,,UMOL/KG,,UMOL/KG,,UMOL/KG,,UMOL/KG,,UMOL/KG,,UMOL/KG,,PMOL/KG,,PMOL/KG,,PMOL/KG,,UMOL/KG,,UMOL/KG,,UMOL/KG,,UMOL/KG,,TU,,TU,NMOL/KG,,NMOL/KG,PERCNT,,PERCNT,NMOL/KG,,NMOL/KG,/MILLE,,/MILLE,/MILLE,,1/M,,1/M,,1/M,,1/M,,1/NM,,1/NM,
  33RR20070204,  I08S,    22,  1,     26,     26,2,20070220,2141,-58.2388,  82.0013, 1790,      3.9,   1.3284,  34.0044,2,  33.9974,2,    326.4,2,    327.6,2,    37.85,2,    26.05,2,     0.21,2,     1.67,2,    5.526,2,    2.974,2, -999.000,5,   2168.8,6,   2299.7,2,   -999.0,9,  -999.00,9, -999.000,9, -999.000,-999.0000,9,-999.0000,  -999.00,9,  -999.00, -999.000,9, -999.000,   -999.0,9,   -999.0,  -999.00,9,-999.0000,9,-999.0000,9,-999.0000,9,-999.0000,9,-999.0000,9,-999.0000,9
  33RR20070204,  I08S,    22,  1,     25,     25,2,20070220,2141,-58.2388,  82.0013, 1790,     29.4,   1.3317,  34.0371,2,  34.0366,2,    323.3,2,    325.2,2,    39.41,2,    26.53,2,     0.21,2,     1.71,2, -999.000,9, -999.000,9, -999.000,9,   2173.4,2,   2302.2,2,   -999.0,9,  -999.00,9, -999.000,9, -999.000,-999.0000,9,-999.0000,  -999.00,9,  -999.00, -999.000,9, -999.000,   -999.0,9,   -999.0,  -999.00,9,-999.0000,9,-999.0000,9,-999.0000,9,-999.0000,9,-999.0000,9,-999.0000,9
  33RR20070204,  I08S,    22,  1,     24,     24,2,20070220,2141,-58.2388,  82.0013, 1790,     54.2,   1.2159,  34.0681,2,  34.0676,2,    320.4,2,    317.2,2,    42.56,2,    27.21,2,     0.21,2,     1.79,2, -999.000,9, -999.000,9, -999.000,9,   2180.6,2,   2303.6,2,   -999.0,9,  -999.00,9, -999.000,9, -999.000,-999.0000,9,-999.0000,  -999.00,9,  -999.00, -999.000,9, -999.000,   -999.0,9,   -999.0,  -999.00,9,-999.0000,9,-999.0000,9,-999.0000,9,-999.0000,9,-999.0000,9,-999.0000,9
  33RR20070204,  I08S,    22,  1,     23,     23,2,20070220,2141,-58.2388,  82.0013, 1790,     79.3,   0.4023,  34.2351,2,  34.2117,2,    268.0,2,    268.2,2,    58.92,2,    30.28,2,     0.17,2,     2.17,2,    4.054,2,    2.165,2, -999.000,5,   2213.5,2,   2311.4,2,   -999.0,9,  -999.00,9, -999.000,9, -999.000,-999.0000,9,-999.0000,  -999.00,9,  -999.00, -999.000,9, -999.000,   -999.0,9,   -999.0,  -999.00,9,-999.0000,9,-999.0000,9,-999.0000,9,-999.0000,9,-999.0000,9,-999.0000,9
  33RR20070204,  I08S,    22,  1,     22,     22,2,20070220,2141,-58.2388,  82.0013, 1790,    104.5,   1.2573,  34.4989,2,  34.4930,2,    193.0,2,    192.9,2,    77.34,2,    34.42,2,     0.21,2,     2.40,2, -999.000,9, -999.000,9, -999.000,9,   2253.6,2,   2325.2,2,   -999.0,9,  -999.00,9, -999.000,9, -999.000,-999.0000,9,-999.0000,  -999.00,9,  -999.00, -999.000,9, -999.000,   -999.0,9,   -999.0,  -999.00,9,-999.0000,9,-999.0000,9,-999.0000,9,-999.0000,9,-999.0000,9,-999.0000,9
  33RR20070204,  I08S,    22,  1,     21,     21,2,20070220,2141,-58.2388,  82.0013, 1790,    154.6,   1.7818,  34.5999,2,  34.5973,2,    176.4,2,    175.8,2,    81.94,2,    34.43,2,     0.05,2,     2.38,2,    0.833,2,    0.453,2, -999.000,5,   2260.4,3,   2333.0,2,   -999.0,9,  -999.00,9, -999.000,9, -999.000,-999.0000,9,-999.0000,  -999.00,9,  -999.00, -999.000,9, -999.000,   -999.0,9,   -999.0,  -999.00,9,-999.0000,9,-999.0000,9,-999.0000,9,-999.0000,9,-999.0000,9,-999.0000,9
  33RR20070204,  I08S,    22,  1,     20,     20,2,20070220,2141,-58.2388,  82.0013, 1790,    205.4,   1.9062,  34.6431,2,  34.6411,2,    174.8,2,    174.7,2,    83.52,2,    33.75,2,     0.03,2,     2.33,2, -999.000,9, -999.000,9, -999.000,9,   2260.0,6,   2335.8,2,   -999.0,9,  -999.00,9, -999.000,9, -999.000,-999.0000,9,-999.0000,  -999.00,9,  -999.00, -999.000,9, -999.000,   -999.0,9,   -999.0,  -999.00,9,-999.0000,9,-999.0000,9,-999.0000,9,-999.0000,9,-999.0000,9,-999.0000,9
  33RR20070204,  I08S,    22,  1,     19,     19,2,20070220,2141,-58.2388,  82.0013, 1790,    255.3,   1.8969,  34.6715,2,  34.6692,2,    177.4,2,    176.6,2,    84.49,2,    33.17,2,     0.02,2,     2.30,2, -999.000,5, -999.000,5, -999.000,5,   -999.0,9,   -999.0,9,   -999.0,9,  -999.00,9, -999.000,9, -999.000,-999.0000,9,-999.0000,  -999.00,9,  -999.00, -999.000,9, -999.000,   -999.0,9,   -999.0,  -999.00,9,-999.0000,9,-999.0000,9,-999.0000,9,-999.0000,9,-999.0000,9,-999.0000,9
  33RR20070204,  I08S,    22,  1,     18,     18,2,20070220,2141,-58.2388,  82.0013, 1790,    306.3,   1.9190,  34.6944,2,  34.6936,2,    179.4,2,    179.9,2,    84.66,2,    32.48,2,     0.01,2,     2.25,2, -999.000,9, -999.000,9, -999.000,9,   -999.0,9,   -999.0,9,   -999.0,9,  -999.00,9, -999.000,9, -999.000,-999.0000,9,-999.0000,  -999.00,9,  -999.00, -999.000,9, -999.000,   -999.0,9,   -999.0,  -999.00,9,-999.0000,9,-999.0000,9,-999.0000,9,-999.0000,9,-999.0000,9,-999.0000,9
  33RR20070204,  I08S,    22,  1,     17,     17,2,20070220,2141,-58.2388,  82.0013, 1790,    356.1,   1.9023,  34.7099,2,  34.7087,2,    182.2,2,    182.7,2,    84.43,2,    32.04,2,     0.01,2,     2.22,2,    0.335,2,    0.173,2, -999.000,5,   -999.0,9,   2342.8,2,   -999.0,9,  -999.00,9, -999.000,9, -999.000,-999.0000,9,-999.0000,  -999.00,9,  -999.00, -999.000,9, -999.000,   -999.0,9,   -999.0,  -999.00,9,-999.0000,9,-999.0000,9,-999.0000,9,-999.0000,9,-999.0000,9,-999.0000,9
  33RR20070204,  I08S,    22,  1,     16,     16,2,20070220,2141,-58.2388,  82.0013, 1790,    406.2,   1.8663,  34.7199,2,  34.7191,2,    185.3,2,    186.3,2,    85.60,2,    31.64,2,     0.01,2,     2.20,2, -999.000,9, -999.000,9, -999.000,9,   -999.0,9,   -999.0,9,   -999.0,9,  -999.00,9, -999.000,9, -999.000,-999.0000,9,-999.0000,  -999.00,9,  -999.00, -999.000,9, -999.000,   -999.0,9,   -999.0,  -999.00,9,-999.0000,9,-999.0000,9,-999.0000,9,-999.0000,9,-999.0000,9,-999.0000,9
  33RR20070204,  I08S,    22,  1,     15,     15,2,20070220,2141,-58.2388,  82.0013, 1790,    456.5,   1.8350,  34.7283,2,  34.7270,2,    187.9,2,    188.3,2,    85.97,2,    31.35,2,     0.01,2,     2.17,2,    0.276,2,    0.137,2, -999.000,5,   -999.0,9,   -999.0,9,   -999.0,9,  -999.00,9, -999.000,9, -999.000,-999.0000,9,-999.0000,  -999.00,9,  -999.00, -999.000,9, -999.000,   -999.0,9,   -999.0,  -999.00,9,-999.0000,9,-999.0000,9,-999.0000,9,-999.0000,9,-999.0000,9,-999.0000,9
  33RR20070204,  I08S,    22,  1,     14,     14,2,20070220,2141,-58.2388,  82.0013, 1790,    507.5,   1.8192,  34.7326,2,  34.7319,2,    190.1,2,    190.1,2,    85.94,2,    31.15,2,     0.01,2,     2.16,2, -999.000,9, -999.000,9, -999.000,9,   2251.2,2,   2345.2,2,   -999.0,9,  -999.00,9, -999.000,9, -999.000,-999.0000,9,-999.0000,  -999.00,9,  -999.00, -999.000,9, -999.000,   -999.0,9,   -999.0,  -999.00,9,-999.0000,9,-999.0000,9,-999.0000,9,-999.0000,9,-999.0000,9,-999.0000,9
  33RR20070204,  I08S,    22,  1,     13,     13,2,20070220,2141,-58.2388,  82.0013, 1790,    608.0,   1.7303,  34.7405,2,  34.7402,2,    193.5,2,    194.1,2,    87.73,2,    30.75,2,     0.01,2,     2.13,2,    0.226,2,    0.112,2, -999.000,5,   -999.0,9,   -999.0,9,   -999.0,9,  -999.00,9, -999.000,9, -999.000,-999.0000,9,-999.0000,  -999.00,9,  -999.00, -999.000,9, -999.000,   -999.0,9,   -999.0,  -999.00,9,-999.0000,9,-999.0000,9,-999.0000,9,-999.0000,9,-999.0000,9,-999.0000,9
  33RR20070204,  I08S,    22,  1,     12,     12,2,20070220,2141,-58.2388,  82.0013, 1790,    708.9,   1.6444,  34.7441,2,  34.7443,2,    196.8,2,    196.8,2,    89.53,2,    30.51,2,     0.01,2,     2.12,2, -999.000,9, -999.000,9, -999.000,9,   -999.0,9,   -999.0,9,   -999.0,9,  -999.00,9, -999.000,9, -999.000,-999.0000,9,-999.0000,  -999.00,9,  -999.00, -999.000,9, -999.000,   -999.0,9,   -999.0,  -999.00,9,-999.0000,9,-999.0000,9,-999.0000,9,-999.0000,9,-999.0000,9,-999.0000,9
  33RR20070204,  I08S,    22,  1,     11,     11,2,20070220,2141,-58.2388,  82.0013, 1790,    809.6,   1.5118,  34.7389,2,  34.7392,2,    199.0,2,    198.8,2,    91.92,2,    30.66,2,     0.01,2,     2.12,2,    0.244,2,    0.118,2, -999.000,5,   -999.0,9,   2347.4,2,   -999.0,9,  -999.00,9, -999.000,9, -999.000,-999.0000,9,-999.0000,  -999.00,9,  -999.00, -999.000,9, -999.000,   -999.0,9,   -999.0,  -999.00,9,-999.0000,9,-999.0000,9,-999.0000,9,-999.0000,9,-999.0000,9,-999.0000,9
  33RR20070204,  I08S,    22,  1,     10,     10,2,20070220,2141,-58.2388,  82.0013, 1790,    910.7,   1.4450,  34.7396,2,  34.7400,2,    201.0,2,    200.3,2,    94.32,2,    30.61,2,     0.00,2,     2.12,2, -999.000,9, -999.000,9, -999.000,9,   -999.0,9,   -999.0,9,   -999.0,9,  -999.00,9, -999.000,9, -999.000,-999.0000,9,-999.0000,  -999.00,9,  -999.00, -999.000,9, -999.000,   -999.0,9,   -999.0,  -999.00,9,-999.0000,9,-999.0000,9,-999.0000,9,-999.0000,9,-999.0000,9,-999.0000,9
  33RR20070204,  I08S,    22,  1,      9,      9,2,20070220,2141,-58.2388,  82.0013, 1790,   1011.6,   1.3589,  34.7392,2,  34.7396,2,    202.6,2,    202.4,2,    96.31,2,    30.61,2,     0.00,2,     2.12,2,    0.192,2,    0.092,2, -999.000,5,   2251.0,2,   2350.5,2,   -999.0,9,  -999.00,9, -999.000,9, -999.000,-999.0000,9,-999.0000,  -999.00,9,  -999.00, -999.000,9, -999.000,   -999.0,9,   -999.0,  -999.00,9,-999.0000,9,-999.0000,9,-999.0000,9,-999.0000,9,-999.0000,9,-999.0000,9
  33RR20070204,  I08S,    22,  1,      8,      8,2,20070220,2141,-58.2388,  82.0013, 1790,   1112.4,   1.2408,  34.7327,2,  34.7331,2,    203.3,2,    203.1,2,   100.14,2,    30.90,2,     0.00,2,     2.14,2, -999.000,9, -999.000,9, -999.000,9,   -999.0,9,   -999.0,9,   -999.0,9,  -999.00,9, -999.000,9, -999.000,-999.0000,9,-999.0000,  -999.00,9,  -999.00, -999.000,9, -999.000,   -999.0,9,   -999.0,  -999.00,9,-999.0000,9,-999.0000,9,-999.0000,9,-999.0000,9,-999.0000,9,-999.0000,9
  33RR20070204,  I08S,    22,  1,      7,      7,2,20070220,2141,-58.2388,  82.0013, 1790,   1213.6,   1.1625,  34.7300,2,  34.7306,2,    204.6,2,    203.9,2,   102.35,2,    31.00,2,     0.00,2,     2.14,2,    0.191,2,    0.087,2, -999.000,5,   -999.0,9,   2352.0,2,   -999.0,9,  -999.00,9, -999.000,9, -999.000,-999.0000,9,-999.0000,  -999.00,9,  -999.00, -999.000,9, -999.000,   -999.0,9,   -999.0,  -999.00,9,-999.0000,9,-999.0000,9,-999.0000,9,-999.0000,9,-999.0000,9,-999.0000,9
  33RR20070204,  I08S,    22,  1,      6,      6,2,20070220,2141,-58.2388,  82.0013, 1790,   1314.4,   1.0332,  34.7220,2,  34.7233,2,    205.3,2,    205.0,2,   105.97,2,    31.34,2,     0.00,2,     2.17,2, -999.000,9, -999.000,9, -999.000,9,   -999.0,9,   -999.0,9,   -999.0,9,  -999.00,9, -999.000,9, -999.000,-999.0000,9,-999.0000,  -999.00,9,  -999.00, -999.000,9, -999.000,   -999.0,9,   -999.0,  -999.00,9,-999.0000,9,-999.0000,9,-999.0000,9,-999.0000,9,-999.0000,9,-999.0000,9
  33RR20070204,  I08S,    22,  1,      5,      5,2,20070220,2141,-58.2388,  82.0013, 1790,   1416.0,   0.9670,  34.7190,2,  34.7199,2,    205.6,2,    205.4,2,   109.41,2,    31.49,2,     0.00,2,     2.18,2,    0.195,2,    0.091,2, -999.000,5,   -999.0,9,   -999.0,9,   -999.0,9,  -999.00,9, -999.000,9, -999.000,-999.0000,9,-999.0000,  -999.00,9,  -999.00, -999.000,9, -999.000,   -999.0,9,   -999.0,  -999.00,9,-999.0000,9,-999.0000,9,-999.0000,9,-999.0000,9,-999.0000,9,-999.0000,9
  33RR20070204,  I08S,    22,  1,      4,      4,2,20070220,2141,-58.2388,  82.0013, 1790,   1516.9,   0.8678,  34.7137,2,  34.7142,2,    205.8,2,    205.7,2,   114.48,2,    31.73,2,     0.00,2,     2.20,2, -999.000,9, -999.000,9, -999.000,9,   2259.2,2,   2354.6,2,   -999.0,9,  -999.00,9, -999.000,9, -999.000,-999.0000,9,-999.0000,  -999.00,9,  -999.00, -999.000,9, -999.000,   -999.0,9,   -999.0,  -999.00,9,-999.0000,9,-999.0000,9,-999.0000,9,-999.0000,9,-999.0000,9,-999.0000,9
  33RR20070204,  I08S,    22,  1,      3,      3,2,20070220,2141,-58.2388,  82.0013, 1790,   1618.1,   0.7896,  34.7095,2,  34.7101,2,    205.5,2,    204.9,2,   122.42,2,    32.12,2,     0.01,2,     2.23,2,    0.179,2,    0.083,2, -999.000,5,   2261.1,2,   2355.1,2,   -999.0,9,  -999.00,9, -999.000,9, -999.000,-999.0000,9,-999.0000,  -999.00,9,  -999.00, -999.000,9, -999.000,   -999.0,9,   -999.0,  -999.00,9,-999.0000,9,-999.0000,9,-999.0000,9,-999.0000,9,-999.0000,9,-999.0000,9
  33RR20070204,  I08S,    22,  1,      2,      2,2,20070220,2141,-58.2388,  82.0013, 1790,   1719.8,   0.6908,  34.7039,2,  34.7046,2,    206.2,2,    206.1,2,   124.24,2,    32.26,2,     0.01,2,     2.24,2, -999.000,9, -999.000,9, -999.000,9,   2262.2,2,   2356.0,2,   -999.0,9,  -999.00,9, -999.000,9, -999.000,-999.0000,9,-999.0000,  -999.00,9,  -999.00, -999.000,9, -999.000,   -999.0,9,   -999.0,  -999.00,9,-999.0000,9,-999.0000,9,-999.0000,9,-999.0000,9,-999.0000,9,-999.0000,9
  33RR20070204,  I08S,    22,  1,      1,      1,2,20070220,2141,-58.2388,  82.0013, 1790,   1800.2,   0.6452,  34.7011,2,  34.7020,2,    205.9,2,    207.4,2,   125.03,2,    32.26,2,     0.01,2,     2.24,2,    0.183,2,    0.083,2, -999.000,5,    935.4,4,   2355.4,2,   -999.0,9,  -999.00,9, -999.000,9, -999.000,-999.0000,9,-999.0000,  -999.00,9,  -999.00, -999.000,9, -999.000,   -999.0,9,   -999.0,  -999.00,9,-999.0000,9,-999.0000,9,-999.0000,9,-999.0000,9,-999.0000,9,-999.0000,9