BOTTLE,20150626SIOCCHRJL
EXPOCODE,SECT_ID,STNNBR,CASTNO,SAMPNO,BTLNBR,BTLNBR_FLAG_W,DATE,TIME,LATITUDE,LONGITUDE,DEPTH,CTDPRS,CTDTMP,CTDSAL,CTDSAL_FLAG_W,SALNTY,SALNTY_FLAG_W,CTDOXY,CTDOXY_FLAG_W,OXYGEN,OXYGEN_FLAG_W,SILCAT,SILCAT_FLAG_W,NITRAT,NITRAT_FLAG_W,NITRIT,NITRIT_FLAG_W,PHSPHT,PHSPHT_FLAG_W,CFC-11,CFC-11_FLAG_W,CFC-12,CFC-12_FLAG_W,CFC113,CFC113_FLAG_W,TCARBN,TCARBN_FLAG_W,ALKALI,ALKALI_FLAG_W,DOC,DOC_FLAG_W,TDN,TDN_FLAG_W,TRITUM,TRITUM_FLAG_W,TRITER,HELIUM,HELIUM_FLAG_W,HELIER,DELHE3,DELHE3_FLAG_W,DELHER,NEON,NEON_FLAG_W,NEONER,DELC14,DELC14_FLAG_W,C14ERR,DELC13,DELC13_FLAG_W,CDOM325,CDOM325_FLAG_W,CDOM340,CDOM340_FLAG_W,CDOM380,CDOM380_FLAG_W,CDOM412,CDOM412_FLAG_W,CDOMSL,CDOMSL_FLAG_W,CDOMSN,CDOMSN_FLAG_W
,,,,,,,,,,,METERS,DBAR,ITS-90,PSS-78,,PSS-78,,UMOL/KG,,UMOL/KG,,UMOL/KG,,UMOL/KG,,UMOL/KG,,UMOL/KG,,PMOL/KG,,PMOL/KG,,PMOL/KG,,UMOL/KG,,UMOL/KG,,UMOL/KG,,UMOL/KG,,TU,,TU,NMOL/KG,,NMOL/KG,PERCNT,,PERCNT,NMOL/KG,,NMOL/KG,/MILLE,,/MILLE,/MILLE,,1/M,,1/M,,1/M,,1/M,,1/NM,,1/NM,
  33RR20070204,  I08S,    19,  3,     25,     25,2,20070220,0738,-59.5018,  82.0098, 1697,      4.0,   1.2617,  33.9336,2,  33.9308,2,    336.0,2,    337.7,2,    30.27,2,    24.42,2,     0.24,2,     1.57,2,    6.001,2,    3.195,2, -999.000,5,   2152.0,6,   2296.1,2,     49.5,2,    29.24,2, -999.000,9, -999.000,-999.0000,9,-999.0000,  -999.00,9,  -999.00, -999.000,9, -999.000,   -999.0,9,   -999.0,  -999.00,9,   0.1126,2,   0.0793,2,   0.0353,2,   0.0262,2,   0.0153,3,   0.0186,3
  33RR20070204,  I08S,    19,  3,     24,     24,2,20070220,0738,-59.5018,  82.0098, 1697,     28.4,   1.1147,  33.9719,2,  33.9706,2,    335.8,2,    335.3,2,    32.44,2,    24.87,2,     0.24,2,     1.64,2,    5.970,2,    3.152,2, -999.000,5,   2159.1,2,   2298.8,2,     49.0,2,    30.00,2, -999.000,9, -999.000,-999.0000,9,-999.0000,  -999.00,9,  -999.00, -999.000,9, -999.000,   -999.0,9,   -999.0,  -999.00,9,   0.1152,2,   0.0807,2,   0.0380,2,   0.0285,2,   0.0148,3,   0.0175,3
  33RR20070204,  I08S,    19,  3,     23,     23,2,20070220,0738,-59.5018,  82.0098, 1697,     53.3,   1.0785,  33.9872,2,  33.9851,2,    333.5,2,    334.0,2,    33.42,2,    25.01,2,     0.24,2,     1.68,2,    5.977,2,    3.191,2, -999.000,5,   2162.4,2,   2299.1,2,     46.5,2,    29.48,2, -999.000,9, -999.000,-999.0000,9,-999.0000,  -999.00,9,  -999.00, -999.000,9, -999.000,   -999.0,9,   -999.0,  -999.00,9,   0.1066,2,   0.0729,2,   0.0359,2,   0.0272,2,   0.0144,3,   0.0170,3
  33RR20070204,  I08S,    19,  3,     22,     22,2,20070220,0738,-59.5018,  82.0098, 1697,     83.6,  -0.3169,  34.2176,2,  34.1983,2,    291.0,2,    291.3,2,    61.76,2,    30.49,2,     0.17,2,     2.24,2,    4.830,2,    2.556,2, -999.000,5,   2212.0,2,   2309.8,2,     45.7,2,    35.11,2, -999.000,9, -999.000,-999.0000,9,-999.0000,  -999.00,9,  -999.00, -999.000,9, -999.000,   -999.0,9,   -999.0,  -999.00,9,   0.1093,2,   0.0735,2,   0.0399,2,   0.0310,2,   0.0140,3,   0.0156,3
  33RR20070204,  I08S,    19,  3,     21,     21,2,20070220,0738,-59.5018,  82.0098, 1697,    114.2,   0.6359,  34.4508,2,  34.4377,2,    220.4,2,    219.5,2,    74.59,2,    33.43,2,     0.21,2,     2.34,2,    2.467,2,    1.282,2, -999.000,5,   2241.8,2,   2320.9,2,     45.1,2,    38.23,2, -999.000,9, -999.000,-999.0000,9,-999.0000,  -999.00,9,  -999.00, -999.000,9, -999.000,   -999.0,9,   -999.0,  -999.00,9,   0.1199,2,   0.0819,2,   0.0438,2,   0.0331,2,   0.0143,3,   0.0158,3
  33RR20070204,  I08S,    19,  3,     20,     20,2,20070220,0738,-59.5018,  82.0098, 1697,    154.2,   1.5185,  34.6135,2,  34.6105,2,    181.4,2,    182.6,2,    83.42,2,    33.79,2,     0.05,2,     2.34,2,    0.946,2,    0.513,2, -999.000,5,   2256.9,2,   2334.2,2,     43.5,2,    37.02,2, -999.000,9, -999.000,-999.0000,9,-999.0000,  -999.00,9,  -999.00, -999.000,9, -999.000,   -999.0,9,   -999.0,  -999.00,9,   0.1315,2,   0.0904,2,   0.0490,2,   0.0369,2,   0.0143,3,   0.0155,3
  33RR20070204,  I08S,    19,  3,     19,     19,2,20070220,0738,-59.5018,  82.0098, 1697,    204.6,   1.8122,  34.6750,2,  34.6724,2,    175.1,2,    174.7,2,    85.82,2,    33.46,2,     0.03,2,     2.31,2,    0.510,2,    0.268,2, -999.000,5,   2259.8,6,   2338.8,2,     43.0,2,    37.00,2, -999.000,9, -999.000,-999.0000,9,-999.0000,  -999.00,9,  -999.00, -999.000,9, -999.000,   -999.0,9,   -999.0,  -999.00,9,   0.1259,2,   0.0864,2,   0.0462,2,   0.0340,2,   0.0147,3,   0.0160,3
  33RR20070204,  I08S,    19,  3,     18,     18,2,20070220,0738,-59.5018,  82.0098, 1697,    254.9,   1.8673,  34.6982,2,  34.6964,2,    176.6,2,    175.9,2,    85.61,2,    32.96,2,     0.02,2,     2.28,2,    0.385,2,    0.195,2, -999.000,5,   2258.0,2,   2339.9,2,     42.8,2,    36.66,2, -999.000,9, -999.000,-999.0000,9,-999.0000,  -999.00,9,  -999.00, -999.000,9, -999.000,   -999.0,9,   -999.0,  -999.00,9,   0.1260,2,   0.0866,2,   0.0462,2,   0.0339,2,   0.0147,3,   0.0160,3
  33RR20070204,  I08S,    19,  3,     17,     17,2,20070220,0738,-59.5018,  82.0098, 1697,    305.8,   1.8655,  34.7140,2,  34.7127,2,    178.6,2,    178.3,2,    86.80,2,    32.52,2,     0.01,2,     2.25,2,    0.312,2,    0.157,2, -999.000,5,   2256.4,2,   2341.8,2,     42.4,2,    36.09,2, -999.000,9, -999.000,-999.0000,9,-999.0000,  -999.00,9,  -999.00, -999.000,9, -999.000,   -999.0,9,   -999.0,  -999.00,9,   0.1238,2,   0.0848,2,   0.0451,2,   0.0329,2,   0.0147,3,   0.0161,3
  33RR20070204,  I08S,    19,  3,     16,     16,2,20070220,0738,-59.5018,  82.0098, 1697,    355.0,   1.8526,  34.7220,2,  34.7223,2,    181.1,2,    181.2,2,    86.58,2,    32.07,2,     0.01,2,     2.23,2,    0.279,2,    0.140,2, -999.000,5,   2254.7,2,   2341.9,2,     42.3,2,    35.62,2, -999.000,9, -999.000,-999.0000,9,-999.0000,  -999.00,9,  -999.00, -999.000,9, -999.000,   -999.0,9,   -999.0,  -999.00,9,   0.1262,2,   0.0865,2,   0.0461,2,   0.0338,2,   0.0147,3,   0.0161,3
  33RR20070204,  I08S,    19,  3,     15,     15,2,20070220,0738,-59.5018,  82.0098, 1697,    405.7,   1.8180,  34.7301,2,  34.7296,2,    183.7,2,    184.2,2,    87.18,2,    31.62,2,     0.01,2,     2.19,2,    0.254,2,    0.126,2, -999.000,5,   2253.1,2,   2343.2,2,     42.5,2,    35.15,2, -999.000,9, -999.000,-999.0000,9,-999.0000,  -999.00,9,  -999.00, -999.000,9, -999.000,   -999.0,9,   -999.0,  -999.00,9,   0.1254,2,   0.0861,2,   0.0462,2,   0.0337,2,   0.0148,3,   0.0160,3
  33RR20070204,  I08S,    19,  3,     14,     14,2,20070220,0738,-59.5018,  82.0098, 1697,    455.9,   1.7847,  34.7352,2,  34.7357,2,    187.3,2,    188.5,2,    86.35,2,    31.33,2,     0.01,2,     2.16,2,    0.240,2,    0.118,2, -999.000,5,   2250.8,2,   2346.4,2,     42.4,2,    35.01,2, -999.000,9, -999.000,-999.0000,9,-999.0000,  -999.00,9,  -999.00, -999.000,9, -999.000,   -999.0,9,   -999.0,  -999.00,9,   0.1264,2,   0.0861,2,   0.0467,2,   0.0344,2,   0.0146,3,   0.0159,3
  33RR20070204,  I08S,    19,  3,     13,     13,2,20070220,0738,-59.5018,  82.0098, 1697,    507.0,   1.7572,  34.7381,2,  34.7380,2,    189.3,2,    189.5,2,    87.95,2,    31.17,2,     0.01,2,     2.16,2,    0.232,2,    0.111,2, -999.000,5,   2249.9,2,   2345.3,2,     42.3,2,    33.84,2, -999.000,9, -999.000,-999.0000,9,-999.0000,  -999.00,9,  -999.00, -999.000,9, -999.000,   -999.0,9,   -999.0,  -999.00,9,   0.1243,2,   0.0850,2,   0.0457,2,   0.0335,2,   0.0146,3,   0.0160,3
  33RR20070204,  I08S,    19,  3,     12,     12,2,20070220,0738,-59.5018,  82.0098, 1697,    607.5,   1.6644,  34.7430,2,  34.7420,2,    193.3,2,    193.2,2,    89.55,2,    30.88,2,     0.01,2,     2.14,2,    0.210,2,    0.098,2, -999.000,5,   2248.9,2,   2346.5,2,     42.6,2,    33.18,2, -999.000,9, -999.000,-999.0000,9,-999.0000,  -999.00,9,  -999.00, -999.000,9, -999.000,   -999.0,9,   -999.0,  -999.00,9,   0.1244,2,   0.0852,2,   0.0457,2,   0.0334,2,   0.0146,3,   0.0160,3
  33RR20070204,  I08S,    19,  3,     11,     11,2,20070220,0738,-59.5018,  82.0098, 1697,    708.2,   1.5970,  34.7446,2,  34.7441,2,    196.3,2,    195.7,2,    90.75,2,    30.77,2,     0.01,2,     2.13,2,    0.199,2,    0.093,2, -999.000,5,   2248.4,2,   2345.9,2,     41.5,2,    33.42,2, -999.000,9, -999.000,-999.0000,9,-999.0000,  -999.00,9,  -999.00, -999.000,9, -999.000,   -999.0,9,   -999.0,  -999.00,9,   0.1200,2,   0.0824,2,   0.0438,2,   0.0320,2,   0.0146,2,   0.0160,3
  33RR20070204,  I08S,    19,  3,     10,     10,2,20070220,0738,-59.5018,  82.0098, 1697,    809.1,   1.4771,  34.7413,2,  34.7414,2,    198.8,2,    198.7,2,    93.97,2,    30.78,2,     0.00,2,     2.13,2,    0.212,2,    0.103,2, -999.000,5,   2249.2,2,   2349.9,2,     41.4,2,    33.65,2, -999.000,9, -999.000,-999.0000,9,-999.0000,  -999.00,9,  -999.00, -999.000,9, -999.000,   -999.0,9,   -999.0,  -999.00,9,   0.1214,2,   0.0833,2,   0.0446,2,   0.0323,2,   0.0146,2,   0.0160,3
  33RR20070204,  I08S,    19,  3,      9,      9,2,20070220,0738,-59.5018,  82.0098, 1697,    910.2,   1.3880,  34.7404,2,  34.7408,2,    200.7,2,    200.4,2,    96.18,2,    30.77,2,     0.00,2,     2.13,2,    0.192,2,    0.091,2, -999.000,5,   2249.9,2,   2350.3,2,     41.0,2,    33.42,2, -999.000,9, -999.000,-999.0000,9,-999.0000,  -999.00,9,  -999.00, -999.000,9, -999.000,   -999.0,9,   -999.0,  -999.00,9,   0.1183,2,   0.0810,2,   0.0432,2,   0.0313,2,   0.0145,2,   0.0161,3
  33RR20070204,  I08S,    19,  3,      8,      8,2,20070220,0738,-59.5018,  82.0098, 1697,   1011.2,   1.2843,  34.7358,2,  34.7370,2,    201.9,2,    201.4,2,    99.00,2,    30.98,2,     0.00,2,     2.14,2,    0.186,2,    0.088,2, -999.000,5,   2250.9,2,   2351.5,2,     42.0,2,    32.49,2, -999.000,9, -999.000,-999.0000,9,-999.0000,  -999.00,9,  -999.00, -999.000,9, -999.000,   -999.0,9,   -999.0,  -999.00,9,   0.1191,2,   0.0819,2,   0.0433,2,   0.0312,2,   0.0147,2,   0.0162,3
  33RR20070204,  I08S,    19,  3,      7,      7,2,20070220,0738,-59.5018,  82.0098, 1697,   1112.1,   1.1831,  34.7306,2,  34.7315,2,    202.7,2,    202.5,2,   102.23,2,    31.12,2,     0.00,2,     2.15,2,    0.195,2,    0.095,2, -999.000,5,   2252.9,2,   2351.2,2,     41.9,2,    32.26,2, -999.000,9, -999.000,-999.0000,9,-999.0000,  -999.00,9,  -999.00, -999.000,9, -999.000,   -999.0,9,   -999.0,  -999.00,9,   0.1200,2,   0.0824,2,   0.0447,2,   0.0328,2,   0.0143,2,   0.0157,3
  33RR20070204,  I08S,    19,  3,      6,      6,2,20070220,0738,-59.5018,  82.0098, 1697,   1212.9,   1.0918,  34.7259,2,  34.7266,2,    203.0,2,    203.0,2,   106.08,2,    31.38,2,     0.00,2,     2.17,2,    0.191,2,    0.092,2, -999.000,5,   2254.4,2,   2353.9,2,     41.6,2,    33.14,2, -999.000,9, -999.000,-999.0000,9,-999.0000,  -999.00,9,  -999.00, -999.000,9, -999.000,   -999.0,9,   -999.0,  -999.00,9,   0.1198,2,   0.0829,2,   0.0454,2,   0.0336,2,   0.0143,2,   0.0154,3
  33RR20070204,  I08S,    19,  3,      5,      5,2,20070220,0738,-59.5018,  82.0098, 1697,   1313.7,   1.0125,  34.7219,2,  34.7223,2,    203.2,2,    203.0,2,   110.54,2,    31.62,2,     0.00,2,     2.19,2,    0.188,2,    0.089,2, -999.000,5,   2255.9,2,   2355.0,2,     41.4,2,    33.05,2, -999.000,9, -999.000,-999.0000,9,-999.0000,  -999.00,9,  -999.00, -999.000,9, -999.000,   -999.0,9,   -999.0,  -999.00,9,   0.1205,2,   0.0827,2,   0.0452,2,   0.0334,2,   0.0142,3,   0.0155,3
  33RR20070204,  I08S,    19,  3,      4,      4,2,20070220,0738,-59.5018,  82.0098, 1697,   1415.2,   0.9287,  34.7171,2,  34.7180,2,    202.1,2,    202.1,2,   118.67,2,    31.97,2,     0.00,2,     2.22,2,    0.178,2,    0.084,2, -999.000,5,   2257.6,2,   2355.1,2,     41.1,2,    33.01,2, -999.000,9, -999.000,-999.0000,9,-999.0000,  -999.00,9,  -999.00, -999.000,9, -999.000,   -999.0,9,   -999.0,  -999.00,9,   0.1270,2,   0.0878,2,   0.0485,2,   0.0359,2,   0.0142,3,   0.0153,3
  33RR20070204,  I08S,    19,  3,      3,      3,2,20070220,0738,-59.5018,  82.0098, 1697,   1516.1,   0.8683,  34.7138,2,  34.7144,2,    202.6,2,    202.9,2,   121.51,2,    32.12,2,     0.00,2,     2.22,2,    0.178,2,    0.084,2, -999.000,5,   2258.8,2,   2355.7,2,     41.0,2,    34.08,2, -999.000,9, -999.000,-999.0000,9,-999.0000,  -999.00,9,  -999.00, -999.000,9, -999.000,   -999.0,9,   -999.0,  -999.00,9,   0.1225,2,   0.0842,2,   0.0459,2,   0.0339,2,   0.0143,2,   0.0155,3
  33RR20070204,  I08S,    19,  3,      2,      2,2,20070220,0738,-59.5018,  82.0098, 1697,   1617.5,   0.7857,  34.7092,2,  34.7123,2,    203.8,2,    202.9,2,   117.83,2,    32.01,2,     0.01,2,     2.21,2,    0.210,2,    0.100,2, -999.000,5,   2257.4,2,   2354.6,2,     41.0,2,    33.54,2, -999.000,9, -999.000,-999.0000,9,-999.0000,  -999.00,9,  -999.00, -999.000,9, -999.000,   -999.0,9,   -999.0,  -999.00,9,   0.1241,2,   0.0867,2,   0.0478,2,   0.0351,2,   0.0144,2,   0.0153,3
  33RR20070204,  I08S,    19,  3,      1,      1,2,20070220,0738,-59.5018,  82.0098, 1697,   1709.0,   0.6910,  34.7040,2,  34.7048,2,    203.6,2,    204.7,2,   129.46,2,    32.49,2,     0.03,2,     2.25,2,    0.177,2,    0.086,2, -999.000,5,   2261.1,6,   2358.3,2,     41.3,2,    34.22,2, -999.000,9, -999.000,-999.0000,9,-999.0000,  -999.00,9,  -999.00, -999.000,9, -999.000,   -999.0,9,   -999.0,  -999.00,9,   0.1262,2,   0.0876,2,   0.0484,2,   0.0356,2,   0.0141,2,   0.0152,3