BOTTLE,20150626SIOCCHRJL
EXPOCODE,SECT_ID,STNNBR,CASTNO,SAMPNO,BTLNBR,BTLNBR_FLAG_W,DATE,TIME,LATITUDE,LONGITUDE,DEPTH,CTDPRS,CTDTMP,CTDSAL,CTDSAL_FLAG_W,SALNTY,SALNTY_FLAG_W,CTDOXY,CTDOXY_FLAG_W,OXYGEN,OXYGEN_FLAG_W,SILCAT,SILCAT_FLAG_W,NITRAT,NITRAT_FLAG_W,NITRIT,NITRIT_FLAG_W,PHSPHT,PHSPHT_FLAG_W,CFC-11,CFC-11_FLAG_W,CFC-12,CFC-12_FLAG_W,CFC113,CFC113_FLAG_W,TCARBN,TCARBN_FLAG_W,ALKALI,ALKALI_FLAG_W,DOC,DOC_FLAG_W,TDN,TDN_FLAG_W,TRITUM,TRITUM_FLAG_W,TRITER,HELIUM,HELIUM_FLAG_W,HELIER,DELHE3,DELHE3_FLAG_W,DELHER,NEON,NEON_FLAG_W,NEONER,DELC14,DELC14_FLAG_W,C14ERR,DELC13,DELC13_FLAG_W,CDOM325,CDOM325_FLAG_W,CDOM340,CDOM340_FLAG_W,CDOM380,CDOM380_FLAG_W,CDOM412,CDOM412_FLAG_W,CDOMSL,CDOMSL_FLAG_W,CDOMSN,CDOMSN_FLAG_W
,,,,,,,,,,,METERS,DBAR,ITS-90,PSS-78,,PSS-78,,UMOL/KG,,UMOL/KG,,UMOL/KG,,UMOL/KG,,UMOL/KG,,UMOL/KG,,PMOL/KG,,PMOL/KG,,PMOL/KG,,UMOL/KG,,UMOL/KG,,UMOL/KG,,UMOL/KG,,TU,,TU,NMOL/KG,,NMOL/KG,PERCNT,,PERCNT,NMOL/KG,,NMOL/KG,/MILLE,,/MILLE,/MILLE,,1/M,,1/M,,1/M,,1/M,,1/NM,,1/NM,
  33RR20070204,  I08S,    75,  1,     36,     38,2,20070309,2125,-35.0008,  95.0020, 4371,      3.3,  17.2802,  34.9647,2,  34.9650,2,    241.6,2,    243.4,2,     0.53,2,     2.90,2,     0.05,2,     0.36,2,    2.550,2,    1.574,2, -999.000,5,   2056.1,6,   2309.7,2,     63.6,2,     7.60,2, -999.000,9, -999.000,-999.0000,9,-999.0000,  -999.00,9,  -999.00, -999.000,9, -999.000,   -999.0,9,   -999.0,  -999.00,9,-999.0000,9,-999.0000,9,-999.0000,9,-999.0000,9,-999.0000,9,-999.0000,9
  33RR20070204,  I08S,    75,  1,     35,     35,2,20070309,2125,-35.0008,  95.0020, 4371,     21.7,  17.2760,  34.9625,2,  34.9640,2,    244.6,2,    243.9,2,     0.53,2,     2.90,2,     0.05,2,     0.36,2,    2.547,2,    1.560,2, -999.000,5,   2057.8,2,   2308.0,2,     63.2,2,     7.90,2, -999.000,9, -999.000,-999.0000,9,-999.0000,  -999.00,9,  -999.00, -999.000,9, -999.000,   -999.0,9,   -999.0,  -999.00,9,-999.0000,9,-999.0000,9,-999.0000,9,-999.0000,9,-999.0000,9,-999.0000,9
  33RR20070204,  I08S,    75,  1,     34,   9419,2,20070309,2125,-35.0008,  95.0020, 4371,     46.7,  17.2239,  34.9588,2,  34.9593,2,    245.3,2,    243.0,2,     0.52,2,     2.95,2,     0.05,2,     0.36,2,    2.558,2,    1.566,2, -999.000,5,   2058.8,2,   2307.1,2,     58.5,2,     7.61,2, -999.000,9, -999.000,-999.0000,9,-999.0000,  -999.00,9,  -999.00, -999.000,9, -999.000,   -999.0,9,   -999.0,  -999.00,9,-999.0000,9,-999.0000,9,-999.0000,9,-999.0000,9,-999.0000,9,-999.0000,9
  33RR20070204,  I08S,    75,  1,     33,     33,2,20070309,2125,-35.0008,  95.0020, 4371,     91.5,  13.0206,  35.1446,2,  35.1419,2,    252.4,2,    252.5,2,     1.71,2,     5.38,2,     0.68,2,     0.56,2,    3.159,2,    1.861,2, -999.000,5,   2099.4,2,   2314.3,2,     53.3,2,    10.32,2, -999.000,9, -999.000,-999.0000,9,-999.0000,  -999.00,9,  -999.00, -999.000,9, -999.000,   -999.0,9,   -999.0,  -999.00,9,-999.0000,9,-999.0000,9,-999.0000,9,-999.0000,9,-999.0000,9,-999.0000,9
  33RR20070204,  I08S,    75,  1,     32,     37,2,20070309,2125,-35.0008,  95.0020, 4371,    141.6,  12.0074,  34.9908,2,  34.9907,2,    253.8,2,    253.9,2,     1.90,2,     7.84,2,     0.42,2,     0.67,2,    3.232,2,    1.921,2, -999.000,5,   2102.2,2,   2304.4,2,     51.4,2,    11.56,2, -999.000,9, -999.000,-999.0000,9,-999.0000,  -999.00,9,  -999.00, -999.000,9, -999.000,   -999.0,9,   -999.0,  -999.00,9,-999.0000,9,-999.0000,9,-999.0000,9,-999.0000,9,-999.0000,9,-999.0000,9
  33RR20070204,  I08S,    75,  1,     31,     31,2,20070309,2125,-35.0008,  95.0020, 4371,    166.6,  11.9719,  34.9908,2,  34.9902,2,    253.0,2,    253.2,2,     2.10,2,     8.34,2,     0.10,2,     0.68,2,    3.267,2,    1.949,2, -999.000,5,   2103.6,2,   2305.3,2,     50.7,2,    12.18,2, -999.000,9, -999.000,-999.0000,9,-999.0000,  -999.00,9,  -999.00, -999.000,9, -999.000,   -999.0,9,   -999.0,  -999.00,9,-999.0000,9,-999.0000,9,-999.0000,9,-999.0000,9,-999.0000,9,-999.0000,9
  33RR20070204,  I08S,    75,  1,     30,     30,2,20070309,2125,-35.0008,  95.0020, 4371,    191.5,  11.7951,  34.9919,2,  34.9915,2,    251.7,2,    252.1,2,     2.30,2,     9.08,2,     0.01,2,     0.72,2,    3.283,2,    1.953,2, -999.000,5,   2105.6,2,   2304.1,2,     49.9,2,    12.32,2, -999.000,9, -999.000,-999.0000,9,-999.0000,  -999.00,9,  -999.00, -999.000,9, -999.000,   -999.0,9,   -999.0,  -999.00,9,-999.0000,9,-999.0000,9,-999.0000,9,-999.0000,9,-999.0000,9,-999.0000,9
  33RR20070204,  I08S,    75,  1,     29,     29,2,20070309,2125,-35.0008,  95.0020, 4371,    241.9,  11.4645,  34.9838,2,  34.9819,2,    247.3,2,    246.6,2,     2.69,2,    10.12,2,     0.01,2,     0.78,2,    3.349,2,    1.963,2, -999.000,5,   2111.5,2,   2302.8,2,     49.2,2,    13.84,2, -999.000,9, -999.000,-999.0000,9,-999.0000,  -999.00,9,  -999.00, -999.000,9, -999.000,   -999.0,9,   -999.0,  -999.00,9,-999.0000,9,-999.0000,9,-999.0000,9,-999.0000,9,-999.0000,9,-999.0000,9
  33RR20070204,  I08S,    75,  1,     28,     28,2,20070309,2125,-35.0008,  95.0020, 4371,    291.7,  11.1791,  34.9594,2,  34.9543,2,    244.8,2,    245.2,2,     3.28,2,    11.15,2,     0.00,2,     0.84,2,    3.409,2,    1.992,2, -999.000,5,   2113.6,2,   2301.1,2,     48.0,2,    14.45,2, -999.000,9, -999.000,-999.0000,9,-999.0000,  -999.00,9,  -999.00, -999.000,9, -999.000,   -999.0,9,   -999.0,  -999.00,9,-999.0000,9,-999.0000,9,-999.0000,9,-999.0000,9,-999.0000,9,-999.0000,9
  33RR20070204,  I08S,    75,  1,     27,     27,2,20070309,2125,-35.0008,  95.0020, 4371,    342.0,  10.8765,  34.9137,2,  34.9140,2,    245.2,2,    246.7,2,     3.67,2,    11.84,2,     0.00,2,     0.88,2,    3.432,2,    2.008,2, -999.000,5,   2114.0,2,   2298.3,2,     46.4,2,    15.58,2, -999.000,9, -999.000,-999.0000,9,-999.0000,  -999.00,9,  -999.00, -999.000,9, -999.000,   -999.0,9,   -999.0,  -999.00,9,-999.0000,9,-999.0000,9,-999.0000,9,-999.0000,9,-999.0000,9,-999.0000,9
  33RR20070204,  I08S,    75,  1,     26,     26,2,20070309,2125,-35.0008,  95.0020, 4371,    392.1,  10.6991,  34.8914,2,  34.8924,2,    243.1,2,    244.5,2,     3.67,2,    12.35,2,     0.00,2,     0.91,2,    3.463,2,    2.007,2, -999.000,5,   2116.2,2,   2298.2,2,     44.3,2,    15.66,2, -999.000,9, -999.000,-999.0000,9,-999.0000,  -999.00,9,  -999.00, -999.000,9, -999.000,   -999.0,9,   -999.0,  -999.00,9,-999.0000,9,-999.0000,9,-999.0000,9,-999.0000,9,-999.0000,9,-999.0000,9
  33RR20070204,  I08S,    75,  1,     25,     25,2,20070309,2125,-35.0008,  95.0020, 4371,    442.2,  10.3906,  34.8443,2,  34.8458,2,    243.2,2,    243.8,2,     4.06,2,    13.28,2,     0.00,2,     0.97,2,    3.495,2,    2.029,2, -999.000,5,   2119.6,2,   2295.6,2,     43.5,2,    16.62,2, -999.000,9, -999.000,-999.0000,9,-999.0000,  -999.00,9,  -999.00, -999.000,9, -999.000,   -999.0,9,   -999.0,  -999.00,9,-999.0000,9,-999.0000,9,-999.0000,9,-999.0000,9,-999.0000,9,-999.0000,9
  33RR20070204,  I08S,    75,  1,     24,     24,2,20070309,2125,-35.0008,  95.0020, 4371,    492.0,  10.1461,  34.8078,2,  34.8080,2,    243.7,2,    244.4,2,     4.26,2,    13.83,2,     0.00,2,     1.00,2,    3.558,2,    2.016,2, -999.000,5,   2119.4,2,   2293.8,2,     43.0,2,    17.12,2, -999.000,9, -999.000,-999.0000,9,-999.0000,  -999.00,9,  -999.00, -999.000,9, -999.000,   -999.0,9,   -999.0,  -999.00,9,-999.0000,9,-999.0000,9,-999.0000,9,-999.0000,9,-999.0000,9,-999.0000,9
  33RR20070204,  I08S,    75,  1,     23,     23,2,20070309,2125,-35.0008,  95.0020, 4371,    577.5,   9.7006,  34.7402,2,  34.7421,2,    242.2,2,    242.5,2,     4.65,2,    15.18,2,     0.00,2,     1.08,2,    3.670,2,    2.028,2, -999.000,5,   2121.6,2,   2290.5,2,     42.7,2,    17.67,2, -999.000,9, -999.000,-999.0000,9,-999.0000,  -999.00,9,  -999.00, -999.000,9, -999.000,   -999.0,9,   -999.0,  -999.00,9,-999.0000,9,-999.0000,9,-999.0000,9,-999.0000,9,-999.0000,9,-999.0000,9
  33RR20070204,  I08S,    75,  1,     22,     22,2,20070309,2125,-35.0008,  95.0020, 4371,    677.7,   9.0521,  34.6481,2,  34.6480,2,    234.8,2,    234.3,2,     5.84,2,    17.59,2,     0.00,2,     1.23,2,    3.515,2,    1.921,2, -999.000,5,   2131.0,2,   2287.0,2,     42.1,2,    20.50,2, -999.000,9, -999.000,-999.0000,9,-999.0000,  -999.00,9,  -999.00, -999.000,9, -999.000,   -999.0,9,   -999.0,  -999.00,9,-999.0000,9,-999.0000,9,-999.0000,9,-999.0000,9,-999.0000,9,-999.0000,9
  33RR20070204,  I08S,    75,  1,     21,     21,2,20070309,2125,-35.0008,  95.0020, 4371,    778.2,   7.9981,  34.5386,2,  34.5417,2,    217.3,2,    215.3,2,    10.21,2,    21.76,2,     0.00,2,     1.50,2,    2.901,2,    1.541,2, -999.000,5,   2146.2,2,   2284.7,2,     42.0,2,    24.53,2, -999.000,9, -999.000,-999.0000,9,-999.0000,  -999.00,9,  -999.00, -999.000,9, -999.000,   -999.0,9,   -999.0,  -999.00,9,-999.0000,9,-999.0000,9,-999.0000,9,-999.0000,9,-999.0000,9,-999.0000,9
  33RR20070204,  I08S,    75,  1,     20,     20,2,20070309,2125,-35.0008,  95.0020, 4371,    878.2,   6.6882,  34.4466,2,  34.4455,2,    204.4,2,    203.2,2,    17.57,2,    25.85,2,     0.00,2,     1.77,2,    2.234,2,    1.150,2, -999.000,5,   2167.0,2,   2286.3,2,     41.1,2,    28.38,2, -999.000,9, -999.000,-999.0000,9,-999.0000,  -999.00,9,  -999.00, -999.000,9, -999.000,   -999.0,9,   -999.0,  -999.00,9,-999.0000,9,-999.0000,9,-999.0000,9,-999.0000,9,-999.0000,9,-999.0000,9
  33RR20070204,  I08S,    75,  1,     19,     19,2,20070309,2125,-35.0008,  95.0020, 4371,    979.1,   5.3954,  34.3810,2,  34.3802,2,    200.6,2,    201.1,2,    25.33,2,    28.65,2,     0.00,2,     1.97,2,    1.855,2,    0.941,2, -999.000,5,   2182.3,6,   2289.6,2,     41.4,2,    31.57,2, -999.000,9, -999.000,-999.0000,9,-999.0000,  -999.00,9,  -999.00, -999.000,9, -999.000,   -999.0,9,   -999.0,  -999.00,9,-999.0000,9,-999.0000,9,-999.0000,9,-999.0000,9,-999.0000,9,-999.0000,9
  33RR20070204,  I08S,    75,  1,     18,     18,2,20070309,2125,-35.0008,  95.0020, 4371,   1079.4,   4.5779,  34.3783,2,  34.3809,2,    193.9,2,    192.0,2,    36.09,2,    30.91,2,     0.00,2,     2.13,2,    1.198,2,    0.597,2, -999.000,5,   2199.8,2,   2298.9,2,     41.5,2,    32.79,2, -999.000,9, -999.000,-999.0000,9,-999.0000,  -999.00,9,  -999.00, -999.000,9, -999.000,   -999.0,9,   -999.0,  -999.00,9,-999.0000,9,-999.0000,9,-999.0000,9,-999.0000,9,-999.0000,9,-999.0000,9
  33RR20070204,  I08S,    75,  1,     17,     17,2,20070309,2125,-35.0008,  95.0020, 4371,   1180.0,   4.0205,  34.4054,2,  34.4041,2,    183.1,2,    182.6,2,    46.08,2,    32.37,2,     0.00,2,     2.25,2,    0.837,2,    0.412,2, -999.000,5,   2214.1,2,   2310.1,2,     41.4,2,    33.67,2, -999.000,9, -999.000,-999.0000,9,-999.0000,  -999.00,9,  -999.00, -999.000,9, -999.000,   -999.0,9,   -999.0,  -999.00,9,-999.0000,9,-999.0000,9,-999.0000,9,-999.0000,9,-999.0000,9,-999.0000,9
  33RR20070204,  I08S,    75,  1,     16,     16,2,20070309,2125,-35.0008,  95.0020, 4371,   1280.6,   3.6975,  34.4457,2,  34.4451,2,    172.1,2,    171.5,2,    56.07,2,    33.31,2,     0.00,2,     2.34,2, -999.000,9, -999.000,9, -999.000,9,   2229.9,2,   2318.0,2,     40.9,2,    34.39,2, -999.000,9, -999.000,-999.0000,9,-999.0000,  -999.00,9,  -999.00, -999.000,9, -999.000,   -999.0,9,   -999.0,  -999.00,9,-999.0000,9,-999.0000,9,-999.0000,9,-999.0000,9,-999.0000,9,-999.0000,9
  33RR20070204,  I08S,    75,  1,     15,     15,2,20070309,2125,-35.0008,  95.0020, 4371,   1381.5,   3.4221,  34.4912,2,  34.4903,2,    163.0,2,    163.0,2,    64.68,2,    34.06,2,     0.00,2,     2.39,2,    0.283,2,    0.144,2, -999.000,5,   2242.8,2,   2327.1,2,     41.6,2,    35.59,2, -999.000,9, -999.000,-999.0000,9,-999.0000,  -999.00,9,  -999.00, -999.000,9, -999.000,   -999.0,9,   -999.0,  -999.00,9,-999.0000,9,-999.0000,9,-999.0000,9,-999.0000,9,-999.0000,9,-999.0000,9
  33RR20070204,  I08S,    75,  1,     14,     14,2,20070309,2125,-35.0008,  95.0020, 4371,   1481.8,   3.2591,  34.5347,2,  34.5341,2,    156.6,2,    157.0,2,    71.70,2,    34.35,2,     0.00,2,     2.42,2,    0.142,2,    0.073,2, -999.000,5,   2252.6,2,   2336.4,2,     41.3,2,    35.51,2, -999.000,9, -999.000,-999.0000,9,-999.0000,  -999.00,9,  -999.00, -999.000,9, -999.000,   -999.0,9,   -999.0,  -999.00,9,-999.0000,9,-999.0000,9,-999.0000,9,-999.0000,9,-999.0000,9,-999.0000,9
  33RR20070204,  I08S,    75,  1,     13,     13,2,20070309,2125,-35.0008,  95.0020, 4371,   1582.9,   3.0588,  34.5683,2,  34.5684,2,    156.3,2,    156.5,2,    75.93,2,    34.35,2,     0.00,2,     2.41,2,    0.100,2,    0.052,2, -999.000,5,   2258.9,6,   2339.4,2,     41.4,2,    36.29,2, -999.000,9, -999.000,-999.0000,9,-999.0000,  -999.00,9,  -999.00, -999.000,9, -999.000,   -999.0,9,   -999.0,  -999.00,9,-999.0000,9,-999.0000,9,-999.0000,9,-999.0000,9,-999.0000,9,-999.0000,9
  33RR20070204,  I08S,    75,  1,     12,     12,2,20070309,2125,-35.0008,  95.0020, 4371,   1784.7,   2.8137,  34.6346,2,  34.6350,2,    157.5,2,    157.7,2,    83.78,2,    33.82,2,     0.00,2,     2.37,2, -999.000,9, -999.000,9, -999.000,9,   2264.0,2,   2348.7,2,     40.7,2,    35.08,2, -999.000,9, -999.000,-999.0000,9,-999.0000,  -999.00,9,  -999.00, -999.000,9, -999.000,   -999.0,9,   -999.0,  -999.00,9,-999.0000,9,-999.0000,9,-999.0000,9,-999.0000,9,-999.0000,9,-999.0000,9
  33RR20070204,  I08S,    75,  1,     11,     11,2,20070309,2125,-35.0008,  95.0020, 4371,   1986.5,   2.5767,  34.6783,2,  34.6783,2,    163.3,2,    163.9,2,    88.42,2,    33.10,2,     0.00,2,     2.33,2,    0.021,2,    0.010,2, -999.000,5,   2267.2,2,   2353.6,2,     41.0,2,    34.97,2, -999.000,9, -999.000,-999.0000,9,-999.0000,  -999.00,9,  -999.00, -999.000,9, -999.000,   -999.0,9,   -999.0,  -999.00,9,-999.0000,9,-999.0000,9,-999.0000,9,-999.0000,9,-999.0000,9,-999.0000,9
  33RR20070204,  I08S,    75,  1,     10,     10,2,20070309,2125,-35.0008,  95.0020, 4371,   2188.2,   2.3991,  34.7052,2,  34.7046,2,    171.4,2,    171.9,2,    88.83,2,    32.19,2,     0.00,2,     2.26,2,    0.019,2,    0.009,2, -999.000,5,   2263.7,2,   2353.4,2,     41.1,2,    33.39,2, -999.000,9, -999.000,-999.0000,9,-999.0000,  -999.00,9,  -999.00, -999.000,9, -999.000,   -999.0,9,   -999.0,  -999.00,9,-999.0000,9,-999.0000,9,-999.0000,9,-999.0000,9,-999.0000,9,-999.0000,9
  33RR20070204,  I08S,    75,  1,      9,      9,2,20070309,2125,-35.0008,  95.0020, 4371,   2441.4,   2.1500,  34.7335,2,  34.7341,2,    183.5,2,    185.0,2,    89.03,2,    31.06,2,     0.00,2,     2.16,2,    0.016,2,    0.007,2, -999.000,5,   2255.3,2,   2352.7,2,     41.6,2,    32.60,2, -999.000,9, -999.000,-999.0000,9,-999.0000,  -999.00,9,  -999.00, -999.000,9, -999.000,   -999.0,9,   -999.0,  -999.00,9,-999.0000,9,-999.0000,9,-999.0000,9,-999.0000,9,-999.0000,9,-999.0000,9
  33RR20070204,  I08S,    75,  1,      8,      8,2,20070309,2125,-35.0008,  95.0020, 4371,   2694.6,   1.8424,  34.7446,2,  34.7449,2,    194.1,2,    194.4,2,    94.08,2,    30.58,2,     0.00,2,     2.11,2,    0.015,2,    0.006,2, -999.000,5,   2253.4,6,   2353.4,2,     40.7,2,    31.95,2, -999.000,9, -999.000,-999.0000,9,-999.0000,  -999.00,9,  -999.00, -999.000,9, -999.000,   -999.0,9,   -999.0,  -999.00,9,-999.0000,9,-999.0000,9,-999.0000,9,-999.0000,9,-999.0000,9,-999.0000,9
  33RR20070204,  I08S,    75,  1,      7,      7,2,20070309,2125,-35.0008,  95.0020, 4371,   2948.1,   1.5770,  34.7397,2,  34.7398,2,    198.7,2,    198.5,2,   101.18,2,    30.77,2,     0.00,2,     2.13,2,    0.015,2,    0.008,2, -999.000,5,   2255.4,2,   2356.9,2,     41.5,2,    31.92,2, -999.000,9, -999.000,-999.0000,9,-999.0000,  -999.00,9,  -999.00, -999.000,9, -999.000,   -999.0,9,   -999.0,  -999.00,9,-999.0000,9,-999.0000,9,-999.0000,9,-999.0000,9,-999.0000,9,-999.0000,9
  33RR20070204,  I08S,    75,  1,      6,      6,2,20070309,2125,-35.0008,  95.0020, 4371,   3201.8,   1.3671,  34.7318,2,  34.7317,2,    201.1,2,    201.1,2,   108.07,2,    30.95,2,     0.00,2,     2.15,2,    0.019,2,    0.010,2, -999.000,5,   2257.3,2,   2359.4,2,     41.7,2,    32.77,2, -999.000,9, -999.000,-999.0000,9,-999.0000,  -999.00,9,  -999.00, -999.000,9, -999.000,   -999.0,9,   -999.0,  -999.00,9,-999.0000,9,-999.0000,9,-999.0000,9,-999.0000,9,-999.0000,9,-999.0000,9
  33RR20070204,  I08S,    75,  1,      5,      5,2,20070309,2125,-35.0008,  95.0020, 4371,   3456.2,   1.2021,  34.7242,2,  34.7243,2,    203.4,2,    203.2,2,   113.16,2,    31.19,2,     0.00,2,     2.17,2,    0.030,2,    0.015,2, -999.000,5,   2260.4,2,   2363.5,2,     40.8,2,    32.24,2, -999.000,9, -999.000,-999.0000,9,-999.0000,  -999.00,9,  -999.00, -999.000,9, -999.000,   -999.0,9,   -999.0,  -999.00,9,-999.0000,9,-999.0000,9,-999.0000,9,-999.0000,9,-999.0000,9,-999.0000,9
  33RR20070204,  I08S,    75,  1,      4,      4,2,20070309,2125,-35.0008,  95.0020, 4371,   3710.5,   1.0905,  34.7184,2,  34.7182,2,    205.1,2,    205.0,2,   116.84,2,    31.57,2,     0.00,2,     2.19,2,    0.043,2,    0.023,2, -999.000,5,   2262.4,2,   2365.6,2,     40.8,2,    33.12,2, -999.000,9, -999.000,-999.0000,9,-999.0000,  -999.00,9,  -999.00, -999.000,9, -999.000,   -999.0,9,   -999.0,  -999.00,9,-999.0000,9,-999.0000,9,-999.0000,9,-999.0000,9,-999.0000,9,-999.0000,9
  33RR20070204,  I08S,    75,  1,      3,      3,2,20070309,2125,-35.0008,  95.0020, 4371,   3964.7,   1.0458,  34.7152,2,  34.7146,2,    205.6,2,    205.5,2,   118.89,2,    31.70,2,     0.00,2,     2.20,2,    0.032,2,    0.018,2, -999.000,5,   2265.0,2,   2369.9,2,     41.5,2,    32.91,2, -999.000,9, -999.000,-999.0000,9,-999.0000,  -999.00,9,  -999.00, -999.000,9, -999.000,   -999.0,9,   -999.0,  -999.00,9,-999.0000,9,-999.0000,9,-999.0000,9,-999.0000,9,-999.0000,9,-999.0000,9
  33RR20070204,  I08S,    75,  1,      2,      2,2,20070309,2125,-35.0008,  95.0020, 4371,   4220.1,   1.0299,  34.7131,2,  34.7125,2,    206.0,2,    205.7,2,   119.71,2,    31.79,2,     0.00,2,     2.20,2,    0.031,2,    0.019,2, -999.000,5,   2266.9,2,   2372.7,2,     40.2,2,    33.26,2, -999.000,9, -999.000,-999.0000,9,-999.0000,  -999.00,9,  -999.00, -999.000,9, -999.000,   -999.0,9,   -999.0,  -999.00,9,-999.0000,9,-999.0000,9,-999.0000,9,-999.0000,9,-999.0000,9,-999.0000,9
  33RR20070204,  I08S,    75,  1,      1,      1,2,20070309,2125,-35.0008,  95.0020, 4371,   4480.4,   1.0375,  34.7120,2,  34.7113,2,    205.3,2,    206.0,2,   120.54,2,    31.78,2,     0.00,2,     2.21,2,    0.031,2,    0.017,2, -999.000,5,   2268.8,6,   2373.1,2,     40.3,2,    33.63,2, -999.000,9, -999.000,-999.0000,9,-999.0000,  -999.00,9,  -999.00, -999.000,9, -999.000,   -999.0,9,   -999.0,  -999.00,9,-999.0000,9,-999.0000,9,-999.0000,9,-999.0000,9,-999.0000,9,-999.0000,9