BOTTLE,20150626SIOCCHRJL
EXPOCODE,SECT_ID,STNNBR,CASTNO,SAMPNO,BTLNBR,BTLNBR_FLAG_W,DATE,TIME,LATITUDE,LONGITUDE,DEPTH,CTDPRS,CTDTMP,CTDSAL,CTDSAL_FLAG_W,SALNTY,SALNTY_FLAG_W,CTDOXY,CTDOXY_FLAG_W,OXYGEN,OXYGEN_FLAG_W,SILCAT,SILCAT_FLAG_W,NITRAT,NITRAT_FLAG_W,NITRIT,NITRIT_FLAG_W,PHSPHT,PHSPHT_FLAG_W,CFC-11,CFC-11_FLAG_W,CFC-12,CFC-12_FLAG_W,CFC113,CFC113_FLAG_W,TCARBN,TCARBN_FLAG_W,ALKALI,ALKALI_FLAG_W,DOC,DOC_FLAG_W,TDN,TDN_FLAG_W,TRITUM,TRITUM_FLAG_W,TRITER,HELIUM,HELIUM_FLAG_W,HELIER,DELHE3,DELHE3_FLAG_W,DELHER,NEON,NEON_FLAG_W,NEONER,DELC14,DELC14_FLAG_W,C14ERR,DELC13,DELC13_FLAG_W,CDOM325,CDOM325_FLAG_W,CDOM340,CDOM340_FLAG_W,CDOM380,CDOM380_FLAG_W,CDOM412,CDOM412_FLAG_W,CDOMSL,CDOMSL_FLAG_W,CDOMSN,CDOMSN_FLAG_W
,,,,,,,,,,,METERS,DBAR,ITS-90,PSS-78,,PSS-78,,UMOL/KG,,UMOL/KG,,UMOL/KG,,UMOL/KG,,UMOL/KG,,UMOL/KG,,PMOL/KG,,PMOL/KG,,PMOL/KG,,UMOL/KG,,UMOL/KG,,UMOL/KG,,UMOL/KG,,TU,,TU,NMOL/KG,,NMOL/KG,PERCNT,,PERCNT,NMOL/KG,,NMOL/KG,/MILLE,,/MILLE,/MILLE,,1/M,,1/M,,1/M,,1/M,,1/NM,,1/NM,
  33RR20070204,  I08S,    71,  1,     36,     38,2,20070308,1853,-37.0017,  95.0055, 4127,      3.7,  16.2142,  35.0120,2,  35.0118,2,    245.2,2,    246.9,2,     0.84,2,     2.55,2,     0.05,2,     0.33,2,    2.699,2,    1.609,2, -999.000,5,   2058.4,6,   2310.4,2,     59.4,2,     6.35,2,    0.510,2,    0.010,   1.7542,2,   0.0004,    -1.50,2,     0.17,    7.320,2,    0.009,   -999.0,9,   -999.0,  -999.00,9,-999.0000,9,-999.0000,9,-999.0000,9,-999.0000,9,-999.0000,9,-999.0000,9
  33RR20070204,  I08S,    71,  1,     35,     35,2,20070308,1853,-37.0017,  95.0055, 4127,     41.3,  15.8152,  34.9537,2,  34.9626,2,    248.4,2,    248.0,2,     0.70,2,     3.01,2,     0.07,2,     0.36,2, -999.000,9, -999.000,9, -999.000,9,   2057.8,2,   2302.4,2,     57.1,2,     7.20,2,    0.445,2,    0.011,   1.7348,2,   0.0005,    -1.86,2,     0.17,    7.186,2,    0.008,   -999.0,9,   -999.0,  -999.00,9,-999.0000,9,-999.0000,9,-999.0000,9,-999.0000,9,-999.0000,9,-999.0000,9
  33RR20070204,  I08S,    71,  1,     34,   9419,2,20070308,1853,-37.0017,  95.0055, 4127,     76.8,  12.4223,  34.9948,2,  34.9990,2,    259.3,2,    258.8,2,     1.93,2,     6.49,2,     0.45,2,     0.63,2,    3.294,2,    1.934,2, -999.000,5,   2094.2,2,   2307.1,2,     55.7,2,    11.85,2,    0.452,2,    0.010,-999.0000,9,-999.0000,  -999.00,9,  -999.00, -999.000,9, -999.000,   -999.0,9,   -999.0,  -999.00,9,-999.0000,9,-999.0000,9,-999.0000,9,-999.0000,9,-999.0000,9,-999.0000,9
  33RR20070204,  I08S,    71,  1,     33,     33,2,20070308,1853,-37.0017,  95.0055, 4127,     96.7,  12.0093,  34.9802,2,  34.9785,2,    253.5,2,    254.4,2,     2.19,2,     7.96,2,     0.49,2,     0.68,2,    3.331,2,    1.951,2, -999.000,5,   2098.0,2,   2303.2,2,     54.8,2,    12.70,2, -999.000,9, -999.000,   1.7701,2,   0.0006,    -1.70,2,     0.16,    7.447,2,    0.008,   -999.0,9,   -999.0,  -999.00,9,-999.0000,9,-999.0000,9,-999.0000,9,-999.0000,9,-999.0000,9,-999.0000,9
  33RR20070204,  I08S,    71,  1,     32,     37,2,20070308,1853,-37.0017,  95.0055, 4127,    126.0,  11.6946,  34.9697,2,  34.9740,2,    251.9,2,    253.0,2,     2.44,2,     9.08,2,     0.07,2,     0.72,2,    3.349,2,    1.966,2, -999.000,5,   2101.0,2,   2303.0,2,     50.0,2,    12.73,2,    0.823,2,    0.014,   1.7668,2,   0.0004,    -1.40,2,     0.17,    7.517,2,    0.008,   -999.0,9,   -999.0,  -999.00,9,-999.0000,9,-999.0000,9,-999.0000,9,-999.0000,9,-999.0000,9,-999.0000,9
  33RR20070204,  I08S,    71,  1,     31,     31,2,20070308,1853,-37.0017,  95.0055, 4127,    146.2,  11.4121,  34.9421,2,  34.9460,2,    252.3,2,    253.4,2,     2.70,2,     9.70,2,     0.02,2,     0.76,2,    3.404,2,    2.008,2, -999.000,5,   2103.3,2,   2301.1,2,     48.4,2,    12.76,2, -999.000,9, -999.000,   1.7713,2,   0.0006,    -1.32,2,     0.16,    7.515,2,    0.009,   -999.0,9,   -999.0,  -999.00,9,-999.0000,9,-999.0000,9,-999.0000,9,-999.0000,9,-999.0000,9,-999.0000,9
  33RR20070204,  I08S,    71,  1,     30,     30,2,20070308,1853,-37.0017,  95.0055, 4127,    176.2,  10.7520,  34.8128,2,  34.8081,2,    253.7,2,    259.6,2,     3.15,2,    11.18,2,     0.01,2,     0.84,2,    3.526,2,    2.043,2, -999.000,5,   2104.0,2,   2294.4,2,     47.6,2,    14.53,2, -999.000,9, -999.000,   1.7872,2,   0.0005,    -1.38,2,     0.17,    7.602,2,    0.009,   -999.0,9,   -999.0,  -999.00,9,-999.0000,9,-999.0000,9,-999.0000,9,-999.0000,9,-999.0000,9,-999.0000,9
  33RR20070204,  I08S,    71,  1,     29,     29,2,20070308,1853,-37.0017,  95.0055, 4127,    225.4,  10.7632,  34.8388,2,  34.8244,2,    252.5,2,    258.1,2,     3.40,2,    11.59,2,     0.01,2,     0.87,2,    3.487,2,    1.995,2, -999.000,5,   2106.4,2,   2294.9,2,     46.7,2,    15.44,2, -999.000,9, -999.000,   1.8099,2,   0.0006,    -1.64,2,     0.17,    7.713,2,    0.009,   -999.0,9,   -999.0,  -999.00,9,-999.0000,9,-999.0000,9,-999.0000,9,-999.0000,9,-999.0000,9,-999.0000,9
  33RR20070204,  I08S,    71,  1,     28,     28,2,20070308,1853,-37.0017,  95.0055, 4127,    276.5,  10.8160,  34.8836,2,  34.8830,2,    255.8,2,    250.0,2,     3.65,2,    11.88,2,     0.01,2,     0.88,2,    3.493,2,    2.029,2, -999.000,5,   2111.3,2,   2295.5,2,     45.9,2,    15.64,2,    0.387,2,    0.009,   1.7832,2,   0.0004,    -1.35,2,     0.19,    7.522,2,    0.008,   -999.0,9,   -999.0,  -999.00,9,-999.0000,9,-999.0000,9,-999.0000,9,-999.0000,9,-999.0000,9,-999.0000,9
  33RR20070204,  I08S,    71,  1,     27,     27,2,20070308,1853,-37.0017,  95.0055, 4127,    326.4,  10.6984,  34.8753,2,  34.8752,2,    249.5,2,    248.9,2,     3.91,2,    12.21,2,     0.01,2,     0.90,2, -999.000,5, -999.000,5, -999.000,5,   2112.6,2,   2297.2,2,     45.1,2,    15.30,2, -999.000,9, -999.000,   1.8101,2,   0.0004,     2.86,3,     0.18,    7.881,2,    0.009,   -999.0,9,   -999.0,  -999.00,9,-999.0000,9,-999.0000,9,-999.0000,9,-999.0000,9,-999.0000,9,-999.0000,9
  33RR20070204,  I08S,    71,  1,     26,     26,2,20070308,1853,-37.0017,  95.0055, 4127,    376.6,  10.4702,  34.8407,2,  34.8423,2,    249.0,2,    247.5,2,     4.16,2,    12.92,2,     0.01,2,     0.94,2,    3.536,2,    2.016,2, -999.000,5,   2114.9,2,   2295.5,2,     44.4,2,    15.94,2,    0.422,2,    0.010,-999.0000,9,-999.0000,  -999.00,9,  -999.00, -999.000,9, -999.000,   -999.0,9,   -999.0,  -999.00,9,-999.0000,9,-999.0000,9,-999.0000,9,-999.0000,9,-999.0000,9,-999.0000,9
  33RR20070204,  I08S,    71,  1,     25,     25,2,20070308,1853,-37.0017,  95.0055, 4127,    426.6,  10.2154,  34.8039,2,  34.8053,2,    248.4,2,    248.9,2,     4.22,2,    13.34,2,     0.01,2,     0.97,2,    3.576,2,    2.037,2, -999.000,5,   2116.6,2,   2293.6,2,     43.9,2,    17.16,2, -999.000,9, -999.000,   1.7803,2,   0.0006,    -0.96,2,     0.18,    7.622,2,    0.019,   -999.0,9,   -999.0,  -999.00,9,-999.0000,9,-999.0000,9,-999.0000,9,-999.0000,9,-999.0000,9,-999.0000,9
  33RR20070204,  I08S,    71,  1,     24,     24,2,20070308,1853,-37.0017,  95.0055, 4127,    476.6,  10.0156,  34.7782,2,  34.7793,2,    247.9,2,    248.1,2,     4.28,2,    14.06,2,     0.00,2,     1.01,2, -999.000,5, -999.000,5, -999.000,5,   2119.6,2,   2292.8,2,     43.0,2,    17.46,2,    0.405,2,    0.010,   1.7826,2,   0.0006,    -1.43,2,     0.18,    7.511,2,    0.010,   -999.0,9,   -999.0,  -999.00,9,-999.0000,9,-999.0000,9,-999.0000,9,-999.0000,9,-999.0000,9,-999.0000,9
  33RR20070204,  I08S,    71,  1,     23,     23,2,20070308,1853,-37.0017,  95.0055, 4127,    526.5,   9.7785,  34.7461,2,  34.7482,2,    246.2,2,    245.1,2,     4.73,2,    14.91,2,     0.00,2,     1.06,2,    3.594,2,    2.014,2, -999.000,5,   2122.2,2,   2290.7,2,     42.5,2,    17.73,2, -999.000,9, -999.000,-999.0000,9,-999.0000,  -999.00,9,  -999.00, -999.000,9, -999.000,   -999.0,9,   -999.0,  -999.00,9,-999.0000,9,-999.0000,9,-999.0000,9,-999.0000,9,-999.0000,9,-999.0000,9
  33RR20070204,  I08S,    71,  1,     22,     22,2,20070308,1853,-37.0017,  95.0055, 4127,    646.9,   8.8757,  34.6276,2,  34.6272,2,   -999.0,9,   -999.0,9,     6.76,2,    18.42,2,     0.00,2,     1.28,2,    3.504,2,    1.838,2, -999.000,5,   2133.3,2,   2284.3,2,     41.9,2,    20.67,2,    0.478,2,    0.010,   1.7918,2,   0.0006,    -0.27,2,     0.18,    7.671,2,    0.010,   -999.0,9,   -999.0,  -999.00,9,-999.0000,9,-999.0000,9,-999.0000,9,-999.0000,9,-999.0000,9,-999.0000,9
  33RR20070204,  I08S,    71,  1,     21,     21,2,20070308,1853,-37.0017,  95.0055, 4127,    748.4,   7.8010,  34.5219,2,  34.5241,2,    216.3,2,    212.4,2,    11.35,2,    22.61,2,     0.00,2,     1.54,2,    2.832,2,    1.472,2, -999.000,5,   2153.7,2,   2284.7,2,     41.6,2,    25.00,2, -999.000,9, -999.000,   1.8079,2,   0.0004,     1.03,2,     0.17,    7.823,2,    0.009,   -999.0,9,   -999.0,  -999.00,9,-999.0000,9,-999.0000,9,-999.0000,9,-999.0000,9,-999.0000,9,-999.0000,9
  33RR20070204,  I08S,    71,  1,     20,     20,2,20070308,1853,-37.0017,  95.0055, 4127,    848.6,   6.4695,  34.4326,2,  34.4316,2,   -999.0,9,   -999.0,9,    18.93,2,    26.68,2,     0.00,2,     1.83,2, -999.000,9, -999.000,9, -999.000,9,   2173.1,2,   2285.9,2,     41.4,2,    28.77,2, -999.000,9, -999.000,   1.8399,2,   0.0004,     2.09,2,     0.18,    7.880,2,    0.009,   -999.0,9,   -999.0,  -999.00,9,-999.0000,9,-999.0000,9,-999.0000,9,-999.0000,9,-999.0000,9,-999.0000,9
  33RR20070204,  I08S,    71,  1,     19,     19,2,20070308,1853,-37.0017,  95.0055, 4127,    949.0,   5.2802,  34.3772,2,  34.3780,2,    200.5,2,    200.6,2,    26.52,2,    29.32,2,     0.00,2,     2.00,2,    1.780,2,    0.903,2, -999.000,5,   2185.1,2,   2289.7,2,     41.2,2,    31.50,2,    0.251,2,    0.008,-999.0000,9,-999.0000,  -999.00,9,  -999.00, -999.000,9, -999.000,   -999.0,9,   -999.0,  -999.00,9,-999.0000,9,-999.0000,9,-999.0000,9,-999.0000,9,-999.0000,9,-999.0000,9
  33RR20070204,  I08S,    71,  1,     18,     18,2,20070308,1853,-37.0017,  95.0055, 4127,   1049.1,   4.3670,  34.3562,2,  34.3566,2,    201.2,2,    200.6,2,    34.33,2,    31.01,2,     0.00,2,     2.14,2, -999.000,9, -999.000,9, -999.000,9,   2198.0,2,   2296.3,2,     41.0,2,    32.69,2, -999.000,9, -999.000,-999.0000,9,-999.0000,  -999.00,9,  -999.00, -999.000,9, -999.000,   -999.0,9,   -999.0,  -999.00,9,-999.0000,9,-999.0000,9,-999.0000,9,-999.0000,9,-999.0000,9,-999.0000,9
  33RR20070204,  I08S,    71,  1,     17,     17,2,20070308,1853,-37.0017,  95.0055, 4127,   1149.5,   3.8127,  34.3683,2,  34.3687,2,    196.9,2,    196.4,2,    41.35,2,    32.12,2,     0.00,2,     2.23,2,    1.408,2,    0.718,2, -999.000,5,   2210.1,2,   2302.0,2,     40.6,2,    33.88,2,    0.182,2,    0.007,   1.8550,2,   0.0007,     4.57,2,     0.18,    8.013,2,    0.009,   -999.0,9,   -999.0,  -999.00,9,-999.0000,9,-999.0000,9,-999.0000,9,-999.0000,9,-999.0000,9,-999.0000,9
  33RR20070204,  I08S,    71,  1,     16,     16,2,20070308,1853,-37.0017,  95.0055, 4127,   1249.9,   3.4746,  34.4209,2,  34.4231,2,    187.8,2,    181.6,2,    52.38,2,    33.47,2,     0.00,2,     2.33,2, -999.000,9, -999.000,9, -999.000,9,   2227.9,2,   2312.8,2,     41.2,2,    35.45,2, -999.000,9, -999.000,-999.0000,9,-999.0000,  -999.00,9,  -999.00, -999.000,9, -999.000,   -999.0,9,   -999.0,  -999.00,9,-999.0000,9,-999.0000,9,-999.0000,9,-999.0000,9,-999.0000,9,-999.0000,9
  33RR20070204,  I08S,    71,  1,     15,     15,2,20070308,1853,-37.0017,  95.0055, 4127,   1350.3,   3.2726,  34.4765,2,  34.4765,2,   -999.0,9,   -999.0,9,    61.24,2,    34.09,2,     0.00,2,     2.38,2,    0.456,2,    0.237,2, -999.000,5,   2241.5,2,   2323.0,2,     41.1,2,    35.53,2,    0.130,2,    0.007,   1.8874,2,   0.0008,     7.57,2,     0.19,    8.115,2,    0.009,   -999.0,9,   -999.0,  -999.00,9,-999.0000,9,-999.0000,9,-999.0000,9,-999.0000,9,-999.0000,9,-999.0000,9
  33RR20070204,  I08S,    71,  1,     14,     14,2,20070308,1853,-37.0017,  95.0055, 4127,   1451.9,   3.1762,  34.5323,2,  34.5324,2,    164.1,2,    160.2,2,    70.73,2,    34.48,2,     0.00,2,     2.42,2, -999.000,9, -999.000,9, -999.000,9,   2253.6,2,   2332.3,2,     40.4,2,    35.68,2, -999.000,9, -999.000,   1.8519,2,   0.0007,     8.82,2,     0.19,    7.934,2,    0.011,   -999.0,9,   -999.0,  -999.00,9,-999.0000,9,-999.0000,9,-999.0000,9,-999.0000,9,-999.0000,9,-999.0000,9
  33RR20070204,  I08S,    71,  1,     13,     13,2,20070308,1853,-37.0017,  95.0055, 4127,   1552.3,   3.0100,  34.5672,2,  34.5676,2,    162.0,2,    159.5,2,    74.21,2,    34.47,2,     0.00,2,     2.41,2,    0.147,2,    0.076,2, -999.000,5,   2257.3,6,   2336.6,2,     40.4,2,    36.13,2,    0.119,2,    0.007,   1.9388,3,   0.0008,     8.52,2,     0.20,    8.375,2,    0.018,   -999.0,9,   -999.0,  -999.00,9,-999.0000,9,-999.0000,9,-999.0000,9,-999.0000,9,-999.0000,9,-999.0000,9
  33RR20070204,  I08S,    71,  1,     12,     12,2,20070308,1853,-37.0017,  95.0055, 4127,   1653.6,   2.8657,  34.6034,2,  34.6035,2,    162.5,2,    160.1,2,    78.32,2,    34.17,2,     0.00,2,     2.39,2,    0.100,2,    0.050,2, -999.000,5,   2262.1,2,   2341.9,2,     41.0,2,    35.95,2, -999.000,9, -999.000,   1.8753,2,   0.0005,    10.29,2,     0.18,    8.054,2,    0.009,   -999.0,9,   -999.0,  -999.00,9,-999.0000,9,-999.0000,9,-999.0000,9,-999.0000,9,-999.0000,9,-999.0000,9
  33RR20070204,  I08S,    71,  1,     11,     11,2,20070308,1853,-37.0017,  95.0055, 4127,   1754.5,   2.7354,  34.6370,2,  34.6377,2,    162.5,2,    161.8,2,    81.62,2,    33.92,2,     0.00,2,     2.36,2,    0.062,2,    0.031,2, -999.000,5,   2263.4,2,   2345.2,2,     41.4,2,    35.61,2, -999.000,9, -999.000,-999.0000,9,-999.0000,  -999.00,9,  -999.00, -999.000,9, -999.000,   -999.0,9,   -999.0,  -999.00,9,-999.0000,9,-999.0000,9,-999.0000,9,-999.0000,9,-999.0000,9,-999.0000,9
  33RR20070204,  I08S,    71,  1,     10,     10,2,20070308,1853,-37.0017,  95.0055, 4127,   1956.3,   2.5109,  34.6825,2,  34.6825,2,    168.3,2,    170.4,2,    83.30,2,    32.84,2,     0.00,2,     2.29,2,    0.055,2,    0.026,2, -999.000,5,   2259.8,2,   2348.7,2,     40.8,2,    34.26,2, -999.000,9, -999.000,   1.8728,2,   0.0005,    10.86,2,     0.18,    8.041,2,    0.009,   -999.0,9,   -999.0,  -999.00,9,-999.0000,9,-999.0000,9,-999.0000,9,-999.0000,9,-999.0000,9,-999.0000,9
  33RR20070204,  I08S,    71,  1,      9,      9,2,20070308,1853,-37.0017,  95.0055, 4127,   2118.4,   2.3668,  34.7103,2,  34.7110,2,    176.7,2,    177.4,2,    83.78,2,    32.07,2,     0.00,2,     2.23,2,    0.042,2,    0.021,2, -999.000,5,   2256.0,2,   2347.5,2,     41.0,2,    33.38,2, -999.000,9, -999.000,   1.8777,2,   0.0003,    10.58,2,     0.19,    8.097,2,    0.012,   -999.0,9,   -999.0,  -999.00,9,-999.0000,9,-999.0000,9,-999.0000,9,-999.0000,9,-999.0000,9,-999.0000,9
  33RR20070204,  I08S,    71,  1,      8,      8,2,20070308,1853,-37.0017,  95.0055, 4127,   2370.7,   2.1583,  34.7392,2,  34.7397,2,    187.5,2,    188.4,2,    84.67,2,    31.00,2,     0.00,2,     2.14,2,    0.031,2,    0.014,2, -999.000,5,   2250.1,6,   2348.6,2,     41.0,2,    32.07,2, -999.000,9, -999.000,   1.9148,2,   0.0005,    10.10,2,     0.19,    8.347,2,    0.009,   -999.0,9,   -999.0,  -999.00,9,-999.0000,9,-999.0000,9,-999.0000,9,-999.0000,9,-999.0000,9,-999.0000,9
  33RR20070204,  I08S,    71,  1,      7,      7,2,20070308,1853,-37.0017,  95.0055, 4127,   2623.8,   1.9186,  34.7482,2,  34.7487,2,    194.3,2,    194.6,2,    89.19,2,    30.41,2,     0.00,2,     2.10,2, -999.000,9, -999.000,9, -999.000,9,   -999.0,9,   2351.7,2,   -999.0,9,  -999.00,9, -999.000,9, -999.000,-999.0000,9,-999.0000,  -999.00,9,  -999.00, -999.000,9, -999.000,   -999.0,9,   -999.0,  -999.00,9,-999.0000,9,-999.0000,9,-999.0000,9,-999.0000,9,-999.0000,9,-999.0000,9
  33RR20070204,  I08S,    71,  1,      6,      6,2,20070308,1853,-37.0017,  95.0055, 4127,   2877.6,   1.6245,  34.7428,2,  34.7434,2,    198.8,2,    199.3,2,    98.18,2,    30.94,2,     0.00,2,     2.13,2,    0.032,2,    0.018,2, -999.000,5,   2253.4,2,   2354.8,2,     40.6,2,    32.89,2, -999.000,9, -999.000,   1.9391,3,   0.0004,    10.30,2,     0.19,    8.360,2,    0.010,   -999.0,9,   -999.0,  -999.00,9,-999.0000,9,-999.0000,9,-999.0000,9,-999.0000,9,-999.0000,9,-999.0000,9
  33RR20070204,  I08S,    71,  1,      5,      5,2,20070308,1853,-37.0017,  95.0055, 4127,   2978.4,   1.5341,  34.7394,2,  34.7396,2,    200.0,2,    201.0,2,   101.50,2,    31.04,2,     0.00,2,     2.14,2, -999.000,9, -999.000,9, -999.000,9,   -999.0,9,   2356.2,2,   -999.0,9,  -999.00,9, -999.000,9, -999.000,-999.0000,9,-999.0000,  -999.00,9,  -999.00, -999.000,9, -999.000,   -999.0,9,   -999.0,  -999.00,9,-999.0000,9,-999.0000,9,-999.0000,9,-999.0000,9,-999.0000,9,-999.0000,9
  33RR20070204,  I08S,    71,  1,      4,      4,2,20070308,1853,-37.0017,  95.0055, 4127,   3385.3,   1.1760,  34.7237,2,  34.7247,2,    204.5,2,    204.5,2,   112.56,2,    31.65,2,     0.00,2,     2.19,2,    0.052,2,    0.028,2, -999.000,5,   2259.2,2,   2359.8,2,     40.7,2,    33.40,2, -999.000,9, -999.000,   1.9112,2,   0.0006,    10.36,2,     0.18,    8.237,2,    0.010,   -999.0,9,   -999.0,  -999.00,9,-999.0000,9,-999.0000,9,-999.0000,9,-999.0000,9,-999.0000,9,-999.0000,9
  33RR20070204,  I08S,    71,  1,      3,      3,2,20070308,1853,-37.0017,  95.0055, 4127,   3639.8,   1.0490,  34.7170,2,  34.7174,2,    205.9,2,    205.5,2,   116.72,2,    31.99,2,     0.00,2,     2.21,2,    0.052,2,    0.027,2, -999.000,5,   2262.7,2,   2366.2,2,     40.2,2,    33.32,2, -999.000,9, -999.000,   1.8919,2,   0.0006,    10.27,2,     0.18,    8.161,2,    0.009,   -999.0,9,   -999.0,  -999.00,9,-999.0000,9,-999.0000,9,-999.0000,9,-999.0000,9,-999.0000,9,-999.0000,9
  33RR20070204,  I08S,    71,  1,      2,      2,2,20070308,1853,-37.0017,  95.0055, 4127,   3894.6,   0.9903,  34.7131,2,  34.7131,2,    206.8,2,    206.3,2,   119.06,2,    32.13,2,     0.00,2,     2.23,2,    0.043,2,    0.023,2, -999.000,5,   2265.7,6,   2368.6,2,     40.7,2,    34.12,2, -999.000,9, -999.000,-999.0000,9,-999.0000,  -999.00,9,  -999.00, -999.000,9, -999.000,   -999.0,9,   -999.0,  -999.00,9,-999.0000,9,-999.0000,9,-999.0000,9,-999.0000,9,-999.0000,9,-999.0000,9
  33RR20070204,  I08S,    71,  1,      1,      1,2,20070308,1853,-37.0017,  95.0055, 4127,   4192.0,   0.9848,  34.7116,2,  34.7119,2,    206.8,2,    206.6,2,   120.17,2,    32.27,2,     0.00,2,     2.23,2,    0.040,2,    0.022,2, -999.000,5,   2266.6,2,   2370.3,2,     40.6,2,    33.30,2, -999.000,9, -999.000,-999.0000,9,-999.0000,  -999.00,9,  -999.00, -999.000,9, -999.000,   -999.0,9,   -999.0,  -999.00,9,-999.0000,9,-999.0000,9,-999.0000,9,-999.0000,9,-999.0000,9,-999.0000,9