BOTTLE,20150626SIOCCHRJL
EXPOCODE,SECT_ID,STNNBR,CASTNO,SAMPNO,BTLNBR,BTLNBR_FLAG_W,DATE,TIME,LATITUDE,LONGITUDE,DEPTH,CTDPRS,CTDTMP,CTDSAL,CTDSAL_FLAG_W,SALNTY,SALNTY_FLAG_W,CTDOXY,CTDOXY_FLAG_W,OXYGEN,OXYGEN_FLAG_W,SILCAT,SILCAT_FLAG_W,NITRAT,NITRAT_FLAG_W,NITRIT,NITRIT_FLAG_W,PHSPHT,PHSPHT_FLAG_W,CFC-11,CFC-11_FLAG_W,CFC-12,CFC-12_FLAG_W,CFC113,CFC113_FLAG_W,TCARBN,TCARBN_FLAG_W,ALKALI,ALKALI_FLAG_W,DOC,DOC_FLAG_W,TDN,TDN_FLAG_W,TRITUM,TRITUM_FLAG_W,TRITER,HELIUM,HELIUM_FLAG_W,HELIER,DELHE3,DELHE3_FLAG_W,DELHER,NEON,NEON_FLAG_W,NEONER,DELC14,DELC14_FLAG_W,C14ERR,DELC13,DELC13_FLAG_W,CDOM325,CDOM325_FLAG_W,CDOM340,CDOM340_FLAG_W,CDOM380,CDOM380_FLAG_W,CDOM412,CDOM412_FLAG_W,CDOMSL,CDOMSL_FLAG_W,CDOMSN,CDOMSN_FLAG_W
,,,,,,,,,,,METERS,DBAR,ITS-90,PSS-78,,PSS-78,,UMOL/KG,,UMOL/KG,,UMOL/KG,,UMOL/KG,,UMOL/KG,,UMOL/KG,,PMOL/KG,,PMOL/KG,,PMOL/KG,,UMOL/KG,,UMOL/KG,,UMOL/KG,,UMOL/KG,,TU,,TU,NMOL/KG,,NMOL/KG,PERCNT,,PERCNT,NMOL/KG,,NMOL/KG,/MILLE,,/MILLE,/MILLE,,1/M,,1/M,,1/M,,1/M,,1/NM,,1/NM,
  33RR20070204,  I08S,    13,  2,     28,     28,2,20070218,1912,-62.5193,  82.0205, 1966,      3.5,   0.8540,  33.8234,2,  33.8245,2,    333.2,2,    335.1,2,    31.91,2,    24.01,2,     0.18,2,     1.58,2,    5.701,2,    3.123,2, -999.000,5,   2149.1,6,   2290.2,2,     48.5,2,    29.14,2, -999.000,9, -999.000,-999.0000,9,-999.0000,  -999.00,9,  -999.00, -999.000,9, -999.000,   -999.0,9,   -999.0,  -999.00,9,-999.0000,9,-999.0000,9,-999.0000,9,-999.0000,9,-999.0000,9,-999.0000,9
  33RR20070204,  I08S,    13,  2,     27,     27,2,20070218,1912,-62.5193,  82.0205, 1966,     23.8,   0.8783,  33.8316,2,  33.8319,2,    334.7,2,    333.5,2,    32.30,2,    24.11,2,     0.18,2,     1.62,2,    5.756,2,    3.080,2, -999.000,5,   2149.9,2,   2289.0,2,     48.2,2,    28.39,2, -999.000,9, -999.000,-999.0000,9,-999.0000,  -999.00,9,  -999.00, -999.000,9, -999.000,   -999.0,9,   -999.0,  -999.00,9,-999.0000,9,-999.0000,9,-999.0000,9,-999.0000,9,-999.0000,9,-999.0000,9
  33RR20070204,  I08S,    13,  2,     26,     26,2,20070218,1912,-62.5193,  82.0205, 1966,     54.2,   0.4768,  33.9074,2,  33.9616,2,    302.9,2,    302.1,2,    47.30,2,    27.60,2,     0.16,2,     1.99,2,    5.074,2,    2.698,2, -999.000,5,   2187.4,2,   2297.1,2,     45.9,2,    32.03,2, -999.000,9, -999.000,-999.0000,9,-999.0000,  -999.00,9,  -999.00, -999.000,9, -999.000,   -999.0,9,   -999.0,  -999.00,9,-999.0000,9,-999.0000,9,-999.0000,9,-999.0000,9,-999.0000,9,-999.0000,9
  33RR20070204,  I08S,    13,  2,     25,     25,2,20070218,1912,-62.5193,  82.0205, 1966,     79.3,   0.3899,  34.3578,2,  34.3495,2,    223.8,2,    225.5,2,    70.00,2,    33.44,2,     0.15,2,     2.37,2,    2.785,2,    1.449,2, -999.000,5,   2239.2,2,   2317.9,2,     44.9,2,    38.07,2, -999.000,9, -999.000,-999.0000,9,-999.0000,  -999.00,9,  -999.00, -999.000,9, -999.000,   -999.0,9,   -999.0,  -999.00,9,-999.0000,9,-999.0000,9,-999.0000,9,-999.0000,9,-999.0000,9,-999.0000,9
  33RR20070204,  I08S,    13,  2,     24,     24,2,20070218,1912,-62.5193,  82.0205, 1966,    104.4,   1.1755,  34.5039,2,  34.4969,2,    197.1,2,    192.9,2,    77.06,2,    34.55,2,     0.13,2,     2.40,2,    1.654,2,    0.860,2, -999.000,5,   2252.5,2,   2326.2,2,     44.0,2,    39.64,2, -999.000,9, -999.000,-999.0000,9,-999.0000,  -999.00,9,  -999.00, -999.000,9, -999.000,   -999.0,9,   -999.0,  -999.00,9,-999.0000,9,-999.0000,9,-999.0000,9,-999.0000,9,-999.0000,9,-999.0000,9
  33RR20070204,  I08S,    13,  2,     23,     23,2,20070218,1912,-62.5193,  82.0205, 1966,    155.2,   1.7325,  34.6091,2,  34.6095,2,    171.5,2,    174.5,2,    83.31,2,    34.53,2,     0.04,2,     2.38,2,    0.806,2,    0.427,2, -999.000,5,   2260.7,6,   2332.6,2,     43.6,2,    37.86,2, -999.000,9, -999.000,-999.0000,9,-999.0000,  -999.00,9,  -999.00, -999.000,9, -999.000,   -999.0,9,   -999.0,  -999.00,9,-999.0000,9,-999.0000,9,-999.0000,9,-999.0000,9,-999.0000,9,-999.0000,9
  33RR20070204,  I08S,    13,  2,     22,     22,2,20070218,1912,-62.5193,  82.0205, 1966,    205.4,   1.8730,  34.6503,2,  34.6491,2,    171.2,2,    172.8,2,    84.31,2,    34.02,2,     0.02,2,     2.34,2,    0.603,3,    0.304,3, -999.000,5,   2260.5,2,   2336.4,2,     43.0,2,    37.81,2, -999.000,9, -999.000,-999.0000,9,-999.0000,  -999.00,9,  -999.00, -999.000,9, -999.000,   -999.0,9,   -999.0,  -999.00,9,-999.0000,9,-999.0000,9,-999.0000,9,-999.0000,9,-999.0000,9,-999.0000,9
  33RR20070204,  I08S,    13,  2,     21,     21,4,20070218,1912,-62.5193,  82.0205, 1966,    255.4,   1.9166,  34.6763,2,  34.5988,0,    173.7,2,    175.3,0,    82.49,4,    34.59,4,     0.04,4,     2.39,4,    0.893,3,    0.459,2, -999.000,5,   2260.1,3,   2332.3,4,     42.5,2,    38.25,2, -999.000,9, -999.000,-999.0000,9,-999.0000,  -999.00,9,  -999.00, -999.000,9, -999.000,   -999.0,9,   -999.0,  -999.00,9,-999.0000,9,-999.0000,9,-999.0000,9,-999.0000,9,-999.0000,9,-999.0000,9
  33RR20070204,  I08S,    13,  2,     20,     20,2,20070218,1912,-62.5193,  82.0205, 1966,    305.6,   1.9256,  34.6898,2,  34.6892,2,    176.5,2,    175.7,2,    85.32,2,    33.08,2,     0.01,2,     2.29,2,    0.395,2,    0.196,2, -999.000,5,   2259.4,2,   2337.4,2,     42.0,2,    36.83,2, -999.000,9, -999.000,-999.0000,9,-999.0000,  -999.00,9,  -999.00, -999.000,9, -999.000,   -999.0,9,   -999.0,  -999.00,9,-999.0000,9,-999.0000,9,-999.0000,9,-999.0000,9,-999.0000,9,-999.0000,9
  33RR20070204,  I08S,    13,  2,     19,     19,2,20070218,1912,-62.5193,  82.0205, 1966,    356.2,   1.9207,  34.7038,2,  34.7043,2,    179.5,2,    178.5,2,    85.52,2,    32.49,2,     0.01,2,     2.24,2,    0.341,2,    0.169,2, -999.000,5,   2258.0,2,   2339.0,2,     42.0,2,    36.45,2, -999.000,9, -999.000,-999.0000,9,-999.0000,  -999.00,9,  -999.00, -999.000,9, -999.000,   -999.0,9,   -999.0,  -999.00,9,-999.0000,9,-999.0000,9,-999.0000,9,-999.0000,9,-999.0000,9,-999.0000,9
  33RR20070204,  I08S,    13,  2,     18,     18,2,20070218,1912,-62.5193,  82.0205, 1966,    406.6,   1.8971,  34.7163,2,  34.7165,2,    183.1,2,    182.4,2,    85.52,2,    31.99,2,     0.01,2,     2.21,2,    0.312,2,    0.147,2, -999.000,5,   2254.2,2,   2341.8,2,     41.8,2,    35.92,2, -999.000,9, -999.000,-999.0000,9,-999.0000,  -999.00,9,  -999.00, -999.000,9, -999.000,   -999.0,9,   -999.0,  -999.00,9,-999.0000,9,-999.0000,9,-999.0000,9,-999.0000,9,-999.0000,9,-999.0000,9
  33RR20070204,  I08S,    13,  2,     17,     17,2,20070218,1912,-62.5193,  82.0205, 1966,    456.7,   1.8672,  34.7251,2,  34.7249,2,    186.1,2,    185.4,2,    85.31,2,    31.60,2,     0.01,2,     2.19,2,    0.282,2,    0.135,2, -999.000,5,   2253.9,2,   2343.1,2,     42.0,2,    35.48,2, -999.000,9, -999.000,-999.0000,9,-999.0000,  -999.00,9,  -999.00, -999.000,9, -999.000,   -999.0,9,   -999.0,  -999.00,9,-999.0000,9,-999.0000,9,-999.0000,9,-999.0000,9,-999.0000,9,-999.0000,9
  33RR20070204,  I08S,    13,  2,     16,     16,2,20070218,1912,-62.5193,  82.0205, 1966,    507.1,   1.8465,  34.7298,2,  34.7298,2,    187.9,2,    187.5,2,    85.71,2,    31.46,2,     0.01,2,     2.17,2,    0.260,2,    0.125,2, -999.000,5,   2252.9,2,   2342.8,2,     41.5,2,    34.00,2, -999.000,9, -999.000,-999.0000,9,-999.0000,  -999.00,9,  -999.00, -999.000,9, -999.000,   -999.0,9,   -999.0,  -999.00,9,-999.0000,9,-999.0000,9,-999.0000,9,-999.0000,9,-999.0000,9,-999.0000,9
  33RR20070204,  I08S,    13,  2,     15,     15,2,20070218,1912,-62.5193,  82.0205, 1966,    608.1,   1.7745,  34.7384,2,  34.7385,2,    190.9,2,    190.9,2,    87.33,2,    31.02,2,     0.01,2,     2.14,2,    0.237,2,    0.112,2, -999.000,5,   2250.8,2,   2344.5,2,     41.2,2,    33.72,2, -999.000,9, -999.000,-999.0000,9,-999.0000,  -999.00,9,  -999.00, -999.000,9, -999.000,   -999.0,9,   -999.0,  -999.00,9,-999.0000,9,-999.0000,9,-999.0000,9,-999.0000,9,-999.0000,9,-999.0000,9
  33RR20070204,  I08S,    13,  2,     14,     14,2,20070218,1912,-62.5193,  82.0205, 1966,    709.0,   1.6961,  34.7440,2,  34.7442,2,    194.5,2,    195.1,2,    88.55,2,    30.72,2,     0.01,2,     2.12,2,    0.219,2,    0.102,2, -999.000,5,   2249.7,2,   2345.2,2,     41.3,2,    32.79,2, -999.000,9, -999.000,-999.0000,9,-999.0000,  -999.00,9,  -999.00, -999.000,9, -999.000,   -999.0,9,   -999.0,  -999.00,9,-999.0000,9,-999.0000,9,-999.0000,9,-999.0000,9,-999.0000,9,-999.0000,9
  33RR20070204,  I08S,    13,  2,     13,     13,2,20070218,1912,-62.5193,  82.0205, 1966,    810.1,   1.6091,  34.7448,2,  34.7448,2,    196.9,2,    196.9,2,    90.57,2,    30.63,2,     0.00,2,     2.12,2,    0.201,2,    0.095,2, -999.000,5,   2248.5,2,   2346.4,2,     41.8,2,    33.24,2, -999.000,9, -999.000,-999.0000,9,-999.0000,  -999.00,9,  -999.00, -999.000,9, -999.000,   -999.0,9,   -999.0,  -999.00,9,-999.0000,9,-999.0000,9,-999.0000,9,-999.0000,9,-999.0000,9,-999.0000,9
  33RR20070204,  I08S,    13,  2,     12,     12,2,20070218,1912,-62.5193,  82.0205, 1966,    910.5,   1.5256,  34.7445,2,  34.7440,2,    198.2,2,    198.9,2,    92.60,2,    30.58,2,     0.00,2,     2.11,2,    0.190,2,    0.088,2, -999.000,5,   2248.5,2,   2347.7,2,     41.8,2,    33.17,2, -999.000,9, -999.000,-999.0000,9,-999.0000,  -999.00,9,  -999.00, -999.000,9, -999.000,   -999.0,9,   -999.0,  -999.00,9,-999.0000,9,-999.0000,9,-999.0000,9,-999.0000,9,-999.0000,9,-999.0000,9
  33RR20070204,  I08S,    13,  2,     11,     11,2,20070218,1912,-62.5193,  82.0205, 1966,   1011.5,   1.4324,  34.7427,2,  34.7430,2,    200.2,2,    200.4,2,    95.23,2,    30.63,2,     0.00,2,     2.12,2,    0.185,2,    0.087,2, -999.000,5,   2249.0,2,   2349.3,2,     41.6,2,    32.42,2, -999.000,9, -999.000,-999.0000,9,-999.0000,  -999.00,9,  -999.00, -999.000,9, -999.000,   -999.0,9,   -999.0,  -999.00,9,-999.0000,9,-999.0000,9,-999.0000,9,-999.0000,9,-999.0000,9,-999.0000,9
  33RR20070204,  I08S,    13,  2,     10,     10,2,20070218,1912,-62.5193,  82.0205, 1966,   1113.0,   1.3370,  34.7391,2,  34.7390,2,    201.9,2,    201.9,2,    98.09,2,    30.83,2,     0.00,2,     2.12,2,    0.183,2,    0.084,2, -999.000,5,   2249.6,2,   2349.6,2,     41.4,2,    32.21,2, -999.000,9, -999.000,-999.0000,9,-999.0000,  -999.00,9,  -999.00, -999.000,9, -999.000,   -999.0,9,   -999.0,  -999.00,9,-999.0000,9,-999.0000,9,-999.0000,9,-999.0000,9,-999.0000,9,-999.0000,9
  33RR20070204,  I08S,    13,  2,      9,      9,2,20070218,1912,-62.5193,  82.0205, 1966,   1213.7,   1.2284,  34.7339,2,  34.7339,2,    202.9,2,    203.1,2,   101.13,2,    30.98,2,     0.00,2,     2.14,2,    0.179,2,    0.082,2, -999.000,5,   2251.7,2,   2351.4,2,     41.7,2,    32.36,2, -999.000,9, -999.000,-999.0000,9,-999.0000,  -999.00,9,  -999.00, -999.000,9, -999.000,   -999.0,9,   -999.0,  -999.00,9,-999.0000,9,-999.0000,9,-999.0000,9,-999.0000,9,-999.0000,9,-999.0000,9
  33RR20070204,  I08S,    13,  2,      8,      8,2,20070218,1912,-62.5193,  82.0205, 1966,   1314.8,   1.1517,  34.7300,2,  34.7312,2,    204.1,2,    204.1,2,   102.77,2,    31.12,2,     0.00,2,     2.16,2,    0.186,2,    0.083,2, -999.000,5,   2255.1,2,   2352.4,2,     41.7,2,    32.14,2, -999.000,9, -999.000,-999.0000,9,-999.0000,  -999.00,9,  -999.00, -999.000,9, -999.000,   -999.0,9,   -999.0,  -999.00,9,-999.0000,9,-999.0000,9,-999.0000,9,-999.0000,9,-999.0000,9,-999.0000,9
  33RR20070204,  I08S,    13,  2,      7,      7,2,20070218,1912,-62.5193,  82.0205, 1966,   1416.5,   1.0597,  34.7247,2,  34.7257,2,    204.4,2,    204.6,2,   106.23,2,    31.38,2,     0.00,2,     2.17,2,    0.184,2,    0.084,2, -999.000,5,   2255.6,2,   2353.7,2,     41.3,2,    32.72,2, -999.000,9, -999.000,-999.0000,9,-999.0000,  -999.00,9,  -999.00, -999.000,9, -999.000,   -999.0,9,   -999.0,  -999.00,9,-999.0000,9,-999.0000,9,-999.0000,9,-999.0000,9,-999.0000,9,-999.0000,9
  33RR20070204,  I08S,    13,  2,      6,      6,2,20070218,1912,-62.5193,  82.0205, 1966,   1517.8,   0.9860,  34.7203,2,  34.7213,2,    205.1,2,    205.0,2,   108.88,2,    31.58,2,     0.00,2,     2.19,2,    0.186,2,    0.084,2, -999.000,5,   2258.4,2,   2354.6,2,     41.6,2,    32.59,2, -999.000,9, -999.000,-999.0000,9,-999.0000,  -999.00,9,  -999.00, -999.000,9, -999.000,   -999.0,9,   -999.0,  -999.00,9,-999.0000,9,-999.0000,9,-999.0000,9,-999.0000,9,-999.0000,9,-999.0000,9
  33RR20070204,  I08S,    13,  2,      5,      5,2,20070218,1912,-62.5193,  82.0205, 1966,   1618.5,   0.9010,  34.7156,2,  34.7160,2,    205.9,2,    205.6,2,   111.74,2,    31.78,2,     0.00,2,     2.20,2,    0.190,2,    0.086,2, -999.000,5,   2258.6,2,   2352.6,2,     41.0,2,    33.50,2, -999.000,9, -999.000,-999.0000,9,-999.0000,  -999.00,9,  -999.00, -999.000,9, -999.000,   -999.0,9,   -999.0,  -999.00,9,-999.0000,9,-999.0000,9,-999.0000,9,-999.0000,9,-999.0000,9,-999.0000,9
  33RR20070204,  I08S,    13,  2,      4,      4,2,20070218,1912,-62.5193,  82.0205, 1966,   1720.2,   0.8208,  34.7110,2,  34.7119,2,    206.5,2,    206.2,2,   115.63,2,    31.97,2,     0.00,2,     2.21,2,    0.184,2,    0.084,2, -999.000,5,   2258.3,2,   2354.0,2,     41.1,2,    33.21,2, -999.000,9, -999.000,-999.0000,9,-999.0000,  -999.00,9,  -999.00, -999.000,9, -999.000,   -999.0,9,   -999.0,  -999.00,9,-999.0000,9,-999.0000,9,-999.0000,9,-999.0000,9,-999.0000,9,-999.0000,9
  33RR20070204,  I08S,    13,  2,      3,      3,2,20070218,1912,-62.5193,  82.0205, 1966,   1821.7,   0.7291,  34.7059,2,  34.7062,2,    207.3,2,    207.4,2,   119.52,2,    32.13,2,     0.00,2,     2.23,2,    0.182,2,    0.084,2, -999.000,5,   2259.7,2,   2355.1,2,     41.6,2,    33.20,2, -999.000,9, -999.000,-999.0000,9,-999.0000,  -999.00,9,  -999.00, -999.000,9, -999.000,   -999.0,9,   -999.0,  -999.00,9,-999.0000,9,-999.0000,9,-999.0000,9,-999.0000,9,-999.0000,9,-999.0000,9
  33RR20070204,  I08S,    13,  2,      2,      2,2,20070218,1912,-62.5193,  82.0205, 1966,   1922.6,   0.6062,  34.6994,2,  34.7003,2,    208.8,2,    208.6,2,   123.00,2,    32.37,2,     0.00,2,     2.25,2,    0.174,2,    0.080,2, -999.000,5,   2260.6,2,   2354.7,2,     41.2,2,    34.11,2, -999.000,9, -999.000,-999.0000,9,-999.0000,  -999.00,9,  -999.00, -999.000,9, -999.000,   -999.0,9,   -999.0,  -999.00,9,-999.0000,9,-999.0000,9,-999.0000,9,-999.0000,9,-999.0000,9,-999.0000,9
  33RR20070204,  I08S,    13,  2,      1,      1,2,20070218,1912,-62.5193,  82.0205, 1966,   1985.7,   0.5059,  34.6941,2,  34.6948,2,    209.1,2,    209.4,2,   129.99,2,    32.57,2,     0.01,2,     2.26,2,    0.177,2,    0.082,2, -999.000,5,   2262.6,6,   2356.1,2,     41.1,2,    34.44,2, -999.000,9, -999.000,-999.0000,9,-999.0000,  -999.00,9,  -999.00, -999.000,9, -999.000,   -999.0,9,   -999.0,  -999.00,9,-999.0000,9,-999.0000,9,-999.0000,9,-999.0000,9,-999.0000,9,-999.0000,9