BOTTLE,20150626SIOCCHRJL
EXPOCODE,SECT_ID,STNNBR,CASTNO,SAMPNO,BTLNBR,BTLNBR_FLAG_W,DATE,TIME,LATITUDE,LONGITUDE,DEPTH,CTDPRS,CTDTMP,CTDSAL,CTDSAL_FLAG_W,SALNTY,SALNTY_FLAG_W,CTDOXY,CTDOXY_FLAG_W,OXYGEN,OXYGEN_FLAG_W,SILCAT,SILCAT_FLAG_W,NITRAT,NITRAT_FLAG_W,NITRIT,NITRIT_FLAG_W,PHSPHT,PHSPHT_FLAG_W,CFC-11,CFC-11_FLAG_W,CFC-12,CFC-12_FLAG_W,CFC113,CFC113_FLAG_W,TCARBN,TCARBN_FLAG_W,ALKALI,ALKALI_FLAG_W,DOC,DOC_FLAG_W,TDN,TDN_FLAG_W,TRITUM,TRITUM_FLAG_W,TRITER,HELIUM,HELIUM_FLAG_W,HELIER,DELHE3,DELHE3_FLAG_W,DELHER,NEON,NEON_FLAG_W,NEONER,DELC14,DELC14_FLAG_W,C14ERR,DELC13,DELC13_FLAG_W,CDOM325,CDOM325_FLAG_W,CDOM340,CDOM340_FLAG_W,CDOM380,CDOM380_FLAG_W,CDOM412,CDOM412_FLAG_W,CDOMSL,CDOMSL_FLAG_W,CDOMSN,CDOMSN_FLAG_W
,,,,,,,,,,,METERS,DBAR,ITS-90,PSS-78,,PSS-78,,UMOL/KG,,UMOL/KG,,UMOL/KG,,UMOL/KG,,UMOL/KG,,UMOL/KG,,PMOL/KG,,PMOL/KG,,PMOL/KG,,UMOL/KG,,UMOL/KG,,UMOL/KG,,UMOL/KG,,TU,,TU,NMOL/KG,,NMOL/KG,PERCNT,,PERCNT,NMOL/KG,,NMOL/KG,/MILLE,,/MILLE,/MILLE,,1/M,,1/M,,1/M,,1/M,,1/NM,,1/NM,
  33RR20070204,  I08S,    70,  2,     36,     38,2,20070308,1235,-37.4870,  94.9740, 4254,      4.8,  16.0252,  35.0943,2,  35.0951,2,    246.7,2,    247.4,2,     0.39,2,     2.42,2,     0.06,2,     0.33,2,    2.739,2,    1.638,2, -999.000,5,   2063.8,6,   2315.1,2,   -999.0,9,  -999.00,9, -999.000,9, -999.000,-999.0000,9,-999.0000,  -999.00,9,  -999.00, -999.000,9, -999.000,   -999.0,9,   -999.0,  -999.00,9,-999.0000,9,-999.0000,9,-999.0000,9,-999.0000,9,-999.0000,9,-999.0000,9
  33RR20070204,  I08S,    70,  2,     35,     35,2,20070308,1235,-37.4870,  94.9740, 4254,     31.7,  16.0181,  35.0952,2,  35.0953,2,    247.0,2,    247.2,2,     0.29,2,     2.42,2,     0.06,2,     0.33,2, -999.000,9, -999.000,9, -999.000,9,   2063.4,2,   2314.9,2,   -999.0,9,  -999.00,9, -999.000,9, -999.000,-999.0000,9,-999.0000,  -999.00,9,  -999.00, -999.000,9, -999.000,   -999.0,9,   -999.0,  -999.00,9,-999.0000,9,-999.0000,9,-999.0000,9,-999.0000,9,-999.0000,9,-999.0000,9
  33RR20070204,  I08S,    70,  2,     34,   9419,2,20070308,1235,-37.4870,  94.9740, 4254,     55.8,  15.9098,  35.0848,2,  35.0862,2,    248.2,2,    247.9,2,     0.38,2,     2.56,2,     0.06,2,     0.33,2, -999.000,5, -999.000,5, -999.000,5,   2065.1,2,   2314.5,2,   -999.0,9,  -999.00,9, -999.000,9, -999.000,-999.0000,9,-999.0000,  -999.00,9,  -999.00, -999.000,9, -999.000,   -999.0,9,   -999.0,  -999.00,9,-999.0000,9,-999.0000,9,-999.0000,9,-999.0000,9,-999.0000,9,-999.0000,9
  33RR20070204,  I08S,    70,  2,     33,     33,2,20070308,1235,-37.4870,  94.9740, 4254,     80.8,  12.8231,  35.0643,2,  35.0199,2,    258.3,2,    258.2,2,     1.06,2,     5.99,2,     0.43,2,     0.61,2, -999.000,9, -999.000,9, -999.000,9,   2094.3,2,   2305.9,2,   -999.0,9,  -999.00,9, -999.000,9, -999.000,-999.0000,9,-999.0000,  -999.00,9,  -999.00, -999.000,9, -999.000,   -999.0,9,   -999.0,  -999.00,9,-999.0000,9,-999.0000,9,-999.0000,9,-999.0000,9,-999.0000,9,-999.0000,9
  33RR20070204,  I08S,    70,  2,     32,     37,2,20070308,1235,-37.4870,  94.9740, 4254,    105.5,  13.0192,  35.2530,2,  35.2525,2,    245.1,2,    246.4,2,     1.16,2,     6.54,2,     0.05,2,     0.57,2,    3.145,2,    1.870,2, -999.000,5,   2103.9,2,   2318.7,2,   -999.0,9,  -999.00,9, -999.000,9, -999.000,-999.0000,9,-999.0000,  -999.00,9,  -999.00, -999.000,9, -999.000,   -999.0,9,   -999.0,  -999.00,9,-999.0000,9,-999.0000,9,-999.0000,9,-999.0000,9,-999.0000,9,-999.0000,9
  33RR20070204,  I08S,    70,  2,     31,     31,2,20070308,1235,-37.4870,  94.9740, 4254,    152.7,  13.1467,  35.2884,2,  35.2887,2,    246.2,2,    245.4,2,     1.25,2,     6.34,2,     0.02,2,     0.55,2,    3.149,2,    1.868,2, -999.000,5,   2105.0,2,   2320.1,2,   -999.0,9,  -999.00,9, -999.000,9, -999.000,-999.0000,9,-999.0000,  -999.00,9,  -999.00, -999.000,9, -999.000,   -999.0,9,   -999.0,  -999.00,9,-999.0000,9,-999.0000,9,-999.0000,9,-999.0000,9,-999.0000,9,-999.0000,9
  33RR20070204,  I08S,    70,  2,     30,     30,2,20070308,1235,-37.4870,  94.9740, 4254,    203.4,  12.1456,  35.1083,2,  35.1172,2,    252.0,2,    250.0,2,     1.54,2,     7.94,2,     0.01,2,     0.64,2, -999.000,9, -999.000,9, -999.000,9,   2104.8,2,   2311.4,2,   -999.0,9,  -999.00,9, -999.000,9, -999.000,-999.0000,9,-999.0000,  -999.00,9,  -999.00, -999.000,9, -999.000,   -999.0,9,   -999.0,  -999.00,9,-999.0000,9,-999.0000,9,-999.0000,9,-999.0000,9,-999.0000,9,-999.0000,9
  33RR20070204,  I08S,    70,  2,     29,     29,2,20070308,1235,-37.4870,  94.9740, 4254,    253.0,  11.0208,  34.8925,2,  34.8934,2,    257.2,2,    256.4,2,     2.03,2,    10.24,2,     0.01,2,     0.79,2,    3.447,2,    2.002,2, -999.000,5,   2107.7,2,   2299.1,2,   -999.0,9,  -999.00,9, -999.000,9, -999.000,-999.0000,9,-999.0000,  -999.00,9,  -999.00, -999.000,9, -999.000,   -999.0,9,   -999.0,  -999.00,9,-999.0000,9,-999.0000,9,-999.0000,9,-999.0000,9,-999.0000,9,-999.0000,9
  33RR20070204,  I08S,    70,  2,     28,     28,2,20070308,1235,-37.4870,  94.9740, 4254,    304.2,  10.8788,  34.8790,2,  34.8891,2,    250.5,2,    250.9,2,     2.72,2,    11.32,2,     0.01,2,     0.85,2, -999.000,9, -999.000,9, -999.000,9,   2112.5,2,   2299.0,2,   -999.0,9,  -999.00,9, -999.000,9, -999.000,-999.0000,9,-999.0000,  -999.00,9,  -999.00, -999.000,9, -999.000,   -999.0,9,   -999.0,  -999.00,9,-999.0000,9,-999.0000,9,-999.0000,9,-999.0000,9,-999.0000,9,-999.0000,9
  33RR20070204,  I08S,    70,  2,     27,     27,2,20070308,1235,-37.4870,  94.9740, 4254,    354.8,  10.5693,  34.8450,2,  34.8458,2,    248.5,2,    250.4,2,     3.40,2,    12.40,2,     0.01,2,     0.91,2,    3.507,2,    2.012,2, -999.000,5,   2115.6,2,   2296.2,2,   -999.0,9,  -999.00,9, -999.000,9, -999.000,-999.0000,9,-999.0000,  -999.00,9,  -999.00, -999.000,9, -999.000,   -999.0,9,   -999.0,  -999.00,9,-999.0000,9,-999.0000,9,-999.0000,9,-999.0000,9,-999.0000,9,-999.0000,9
  33RR20070204,  I08S,    70,  2,     26,     26,2,20070308,1235,-37.4870,  94.9740, 4254,    403.1,  10.3777,  34.8268,2,  34.8277,2,    248.4,2,    248.3,2,     3.49,2,    12.96,2,     0.00,2,     0.95,2, -999.000,9, -999.000,9, -999.000,9,   2117.0,2,   2295.6,2,   -999.0,9,  -999.00,9, -999.000,9, -999.000,-999.0000,9,-999.0000,  -999.00,9,  -999.00, -999.000,9, -999.000,   -999.0,9,   -999.0,  -999.00,9,-999.0000,9,-999.0000,9,-999.0000,9,-999.0000,9,-999.0000,9,-999.0000,9
  33RR20070204,  I08S,    70,  2,     25,     25,2,20070308,1235,-37.4870,  94.9740, 4254,    450.8,  10.1383,  34.7965,2,  34.7968,2,    247.0,2,    247.6,2,     3.59,2,    13.63,2,     0.00,2,     0.99,2,    3.584,2,    2.039,2, -999.000,5,   -999.0,9,   -999.0,9,   -999.0,9,  -999.00,9, -999.000,9, -999.000,-999.0000,9,-999.0000,  -999.00,9,  -999.00, -999.000,9, -999.000,   -999.0,9,   -999.0,  -999.00,9,-999.0000,9,-999.0000,9,-999.0000,9,-999.0000,9,-999.0000,9,-999.0000,9
  33RR20070204,  I08S,    70,  2,     24,     24,2,20070308,1235,-37.4870,  94.9740, 4254,    498.0,   9.9582,  34.7756,2,  34.7768,2,    248.2,2,    245.6,2,     3.68,2,    14.18,2,     0.00,2,     1.03,2, -999.000,9, -999.000,9, -999.000,9,   2119.5,2,   2292.8,2,   -999.0,9,  -999.00,9, -999.000,9, -999.000,-999.0000,9,-999.0000,  -999.00,9,  -999.00, -999.000,9, -999.000,   -999.0,9,   -999.0,  -999.00,9,-999.0000,9,-999.0000,9,-999.0000,9,-999.0000,9,-999.0000,9,-999.0000,9
  33RR20070204,  I08S,    70,  2,     23,     23,2,20070308,1235,-37.4870,  94.9740, 4254,    595.0,   9.2897,  34.6805,2,  34.6823,2,    238.6,2,    238.4,2,     4.37,2,    16.45,2,     0.00,2,     1.16,2,    3.618,2,    1.985,2, -999.000,5,   -999.0,9,   -999.0,9,   -999.0,9,  -999.00,9, -999.000,9, -999.000,-999.0000,9,-999.0000,  -999.00,9,  -999.00, -999.000,9, -999.000,   -999.0,9,   -999.0,  -999.00,9,-999.0000,9,-999.0000,9,-999.0000,9,-999.0000,9,-999.0000,9,-999.0000,9
  33RR20070204,  I08S,    70,  2,     22,     22,2,20070308,1235,-37.4870,  94.9740, 4254,    694.0,   8.2022,  34.5556,2,  34.5567,2,    221.4,2,    218.6,2,     8.61,2,    21.04,2,     0.00,2,     1.45,2, -999.000,9, -999.000,9, -999.000,9,   2144.5,2,   2284.3,2,   -999.0,9,  -999.00,9, -999.000,9, -999.000,-999.0000,9,-999.0000,  -999.00,9,  -999.00, -999.000,9, -999.000,   -999.0,9,   -999.0,  -999.00,9,-999.0000,9,-999.0000,9,-999.0000,9,-999.0000,9,-999.0000,9,-999.0000,9
  33RR20070204,  I08S,    70,  2,     21,     21,2,20070308,1235,-37.4870,  94.9740, 4254,    791.8,   6.9478,  34.4610,2,  34.4623,2,    207.5,2,    205.1,2,    15.22,2,    25.07,2,     0.00,2,     1.71,2,    2.433,2,    1.256,2, -999.000,5,   -999.0,9,   -999.0,9,   -999.0,9,  -999.00,9, -999.000,9, -999.000,-999.0000,9,-999.0000,  -999.00,9,  -999.00, -999.000,9, -999.000,   -999.0,9,   -999.0,  -999.00,9,-999.0000,9,-999.0000,9,-999.0000,9,-999.0000,9,-999.0000,9,-999.0000,9
  33RR20070204,  I08S,    70,  2,     20,     20,2,20070308,1235,-37.4870,  94.9740, 4254,    890.7,   5.6205,  34.3781,2,  34.3794,2,    207.0,2,    207.1,2,    21.46,2,    27.94,2,     0.00,2,     1.92,2, -999.000,9, -999.000,9, -999.000,9,   2177.1,2,   2286.9,2,   -999.0,9,  -999.00,9, -999.000,9, -999.000,-999.0000,9,-999.0000,  -999.00,9,  -999.00, -999.000,9, -999.000,   -999.0,9,   -999.0,  -999.00,9,-999.0000,9,-999.0000,9,-999.0000,9,-999.0000,9,-999.0000,9,-999.0000,9
  33RR20070204,  I08S,    70,  2,     19,     19,2,20070308,1235,-37.4870,  94.9740, 4254,    987.6,   4.6658,  34.3427,2,  34.3437,2,    207.9,2,    208.0,2,    28.10,2,    29.85,2,     0.00,2,     2.05,2,    2.100,2,    1.055,2, -999.000,5,   -999.0,9,   -999.0,9,   -999.0,9,  -999.00,9, -999.000,9, -999.000,-999.0000,9,-999.0000,  -999.00,9,  -999.00, -999.000,9, -999.000,   -999.0,9,   -999.0,  -999.00,9,-999.0000,9,-999.0000,9,-999.0000,9,-999.0000,9,-999.0000,9,-999.0000,9
  33RR20070204,  I08S,    70,  2,     18,     18,2,20070308,1235,-37.4870,  94.9740, 4254,   1090.9,   4.0284,  34.3531,2,  34.3561,0,    200.4,2,    201.1,2,    36.74,2,    31.35,2,     0.00,2,     2.17,2,    1.635,2,    0.822,2, -999.000,5,   2203.2,2,   2299.1,2,   -999.0,9,  -999.00,9, -999.000,9, -999.000,-999.0000,9,-999.0000,  -999.00,9,  -999.00, -999.000,9, -999.000,   -999.0,9,   -999.0,  -999.00,9,-999.0000,9,-999.0000,9,-999.0000,9,-999.0000,9,-999.0000,9,-999.0000,9
  33RR20070204,  I08S,    70,  2,     17,     17,2,20070308,1235,-37.4870,  94.9740, 4254,   1192.6,   3.6263,  34.4012,2,  34.4012,2,    184.6,2,    186.4,2,    47.60,2,    32.88,2,     0.00,2,     2.28,2,    0.967,2,    0.500,2, -999.000,5,   -999.0,9,   -999.0,9,   -999.0,9,  -999.00,9, -999.000,9, -999.000,-999.0000,9,-999.0000,  -999.00,9,  -999.00, -999.000,9, -999.000,   -999.0,9,   -999.0,  -999.00,9,-999.0000,9,-999.0000,9,-999.0000,9,-999.0000,9,-999.0000,9,-999.0000,9
  33RR20070204,  I08S,    70,  2,     16,     16,2,20070308,1235,-37.4870,  94.9740, 4254,   1295.7,   3.2554,  34.4459,2,  34.4456,2,    178.2,2,    179.2,2,    55.48,2,    33.70,2,     0.00,2,     2.34,2, -999.000,9, -999.000,9, -999.000,9,   -999.0,9,   -999.0,9,   -999.0,9,  -999.00,9, -999.000,9, -999.000,-999.0000,9,-999.0000,  -999.00,9,  -999.00, -999.000,9, -999.000,   -999.0,9,   -999.0,  -999.00,9,-999.0000,9,-999.0000,9,-999.0000,9,-999.0000,9,-999.0000,9,-999.0000,9
  33RR20070204,  I08S,    70,  2,     15,     15,2,20070308,1235,-37.4870,  94.9740, 4254,   1398.7,   3.2071,  34.5103,2,  34.5106,2,    165.9,2,    163.4,2,    66.59,2,    34.37,2,     0.00,2,     2.39,2, -999.000,9, -999.000,9, -999.000,9,   -999.0,9,   -999.0,9,   -999.0,9,  -999.00,9, -999.000,9, -999.000,-999.0000,9,-999.0000,  -999.00,9,  -999.00, -999.000,9, -999.000,   -999.0,9,   -999.0,  -999.00,9,-999.0000,9,-999.0000,9,-999.0000,9,-999.0000,9,-999.0000,9,-999.0000,9
  33RR20070204,  I08S,    70,  2,     14,     14,2,20070308,1235,-37.4870,  94.9740, 4254,   1510.6,   3.0483,  34.5592,2,  34.5593,2,    160.1,2,    158.4,2,    73.72,2,    34.47,2,     0.00,2,     2.41,2, -999.000,9, -999.000,9, -999.000,9,   -999.0,9,   -999.0,9,   -999.0,9,  -999.00,9, -999.000,9, -999.000,-999.0000,9,-999.0000,  -999.00,9,  -999.00, -999.000,9, -999.000,   -999.0,9,   -999.0,  -999.00,9,-999.0000,9,-999.0000,9,-999.0000,9,-999.0000,9,-999.0000,9,-999.0000,9
  33RR20070204,  I08S,    70,  2,     13,     13,2,20070308,1235,-37.4870,  94.9740, 4254,   1608.4,   2.8464,  34.5843,2,  34.5850,2,    160.6,2,    162.8,2,    74.43,2,    34.18,2,     0.00,2,     2.37,2, -999.000,9, -999.000,9, -999.000,9,   2256.8,6,   2338.5,2,   -999.0,9,  -999.00,9, -999.000,9, -999.000,-999.0000,9,-999.0000,  -999.00,9,  -999.00, -999.000,9, -999.000,   -999.0,9,   -999.0,  -999.00,9,-999.0000,9,-999.0000,9,-999.0000,9,-999.0000,9,-999.0000,9,-999.0000,9
  33RR20070204,  I08S,    70,  2,     12,     12,2,20070308,1235,-37.4870,  94.9740, 4254,   1710.5,   2.7717,  34.6202,2,  34.6202,2,    162.0,2,    161.3,2,    78.96,2,    33.98,2,     0.00,2,     2.36,2, -999.000,9, -999.000,9, -999.000,9,   -999.0,9,   -999.0,9,   -999.0,9,  -999.00,9, -999.000,9, -999.000,-999.0000,9,-999.0000,  -999.00,9,  -999.00, -999.000,9, -999.000,   -999.0,9,   -999.0,  -999.00,9,-999.0000,9,-999.0000,9,-999.0000,9,-999.0000,9,-999.0000,9,-999.0000,9
  33RR20070204,  I08S,    70,  2,     11,     11,2,20070308,1235,-37.4870,  94.9740, 4254,   1813.1,   2.6325,  34.6447,2,  34.6450,2,    167.0,2,    166.9,2,    78.87,2,    33.25,2,     0.00,2,     2.32,2, -999.000,9, -999.000,9, -999.000,9,   -999.0,9,   -999.0,9,   -999.0,9,  -999.00,9, -999.000,9, -999.000,-999.0000,9,-999.0000,  -999.00,9,  -999.00, -999.000,9, -999.000,   -999.0,9,   -999.0,  -999.00,9,-999.0000,9,-999.0000,9,-999.0000,9,-999.0000,9,-999.0000,9,-999.0000,9
  33RR20070204,  I08S,    70,  2,     10,     10,2,20070308,1235,-37.4870,  94.9740, 4254,   2014.9,   2.4353,  34.6971,2,  34.6972,2,    173.6,2,    173.0,2,    83.61,2,    32.42,2,     0.00,2,     2.25,2, -999.000,9, -999.000,9, -999.000,9,   2257.8,2,   2349.0,2,   -999.0,9,  -999.00,9, -999.000,9, -999.000,-999.0000,9,-999.0000,  -999.00,9,  -999.00, -999.000,9, -999.000,   -999.0,9,   -999.0,  -999.00,9,-999.0000,9,-999.0000,9,-999.0000,9,-999.0000,9,-999.0000,9,-999.0000,9
  33RR20070204,  I08S,    70,  2,      9,      9,2,20070308,1235,-37.4870,  94.9740, 4254,   2266.8,   2.2167,  34.7289,2,  34.7291,2,    181.3,2,    181.8,2,    87.55,2,    31.51,2,     0.00,2,     2.18,2, -999.000,9, -999.000,9, -999.000,9,   -999.0,9,   -999.0,9,   -999.0,9,  -999.00,9, -999.000,9, -999.000,-999.0000,9,-999.0000,  -999.00,9,  -999.00, -999.000,9, -999.000,   -999.0,9,   -999.0,  -999.00,9,-999.0000,9,-999.0000,9,-999.0000,9,-999.0000,9,-999.0000,9,-999.0000,9
  33RR20070204,  I08S,    70,  2,      8,      8,2,20070308,1235,-37.4870,  94.9740, 4254,   2520.2,   2.0109,  34.7445,2,  34.7448,2,    190.1,2,    191.1,2,    88.07,2,    30.68,2,     0.00,2,     2.12,2, -999.000,9, -999.000,9, -999.000,9,   -999.0,9,   -999.0,9,   -999.0,9,  -999.00,9, -999.000,9, -999.000,-999.0000,9,-999.0000,  -999.00,9,  -999.00, -999.000,9, -999.000,   -999.0,9,   -999.0,  -999.00,9,-999.0000,9,-999.0000,9,-999.0000,9,-999.0000,9,-999.0000,9,-999.0000,9
  33RR20070204,  I08S,    70,  2,      7,      7,2,20070308,1235,-37.4870,  94.9740, 4254,   2773.2,   1.7657,  34.7455,2,  34.7454,2,    196.6,2,    196.4,2,    94.44,2,    30.64,2,     0.00,2,     2.11,2, -999.000,9, -999.000,9, -999.000,9,   -999.0,9,   -999.0,9,   -999.0,9,  -999.00,9, -999.000,9, -999.000,-999.0000,9,-999.0000,  -999.00,9,  -999.00, -999.000,9, -999.000,   -999.0,9,   -999.0,  -999.00,9,-999.0000,9,-999.0000,9,-999.0000,9,-999.0000,9,-999.0000,9,-999.0000,9
  33RR20070204,  I08S,    70,  2,      6,      6,2,20070308,1235,-37.4870,  94.9740, 4254,   3027.4,   1.5017,  34.7382,2,  34.7381,2,    200.3,2,    200.2,2,   102.04,2,    30.97,2,     0.00,2,     2.14,2, -999.000,9, -999.000,9, -999.000,9,   2253.9,2,   2357.6,2,   -999.0,9,  -999.00,9, -999.000,9, -999.000,-999.0000,9,-999.0000,  -999.00,9,  -999.00, -999.000,9, -999.000,   -999.0,9,   -999.0,  -999.00,9,-999.0000,9,-999.0000,9,-999.0000,9,-999.0000,9,-999.0000,9,-999.0000,9
  33RR20070204,  I08S,    70,  2,      5,      5,2,20070308,1235,-37.4870,  94.9740, 4254,   3282.7,   1.2856,  34.7287,2,  34.7291,2,    203.1,2,    203.3,2,   108.86,2,    31.30,2,     0.00,2,     2.15,2, -999.000,9, -999.000,9, -999.000,9,   -999.0,9,   -999.0,9,   -999.0,9,  -999.00,9, -999.000,9, -999.000,-999.0000,9,-999.0000,  -999.00,9,  -999.00, -999.000,9, -999.000,   -999.0,9,   -999.0,  -999.00,9,-999.0000,9,-999.0000,9,-999.0000,9,-999.0000,9,-999.0000,9,-999.0000,9
  33RR20070204,  I08S,    70,  2,      4,      4,2,20070308,1235,-37.4870,  94.9740, 4254,   3535.3,   1.1281,  34.7209,2,  34.7212,2,    204.9,2,    204.9,2,   114.67,2,    31.63,2,     0.00,2,     2.18,2, -999.000,9, -999.000,9, -999.000,9,   -999.0,9,   -999.0,9,   -999.0,9,  -999.00,9, -999.000,9, -999.000,-999.0000,9,-999.0000,  -999.00,9,  -999.00, -999.000,9, -999.000,   -999.0,9,   -999.0,  -999.00,9,-999.0000,9,-999.0000,9,-999.0000,9,-999.0000,9,-999.0000,9,-999.0000,9
  33RR20070204,  I08S,    70,  2,      3,      3,2,20070308,1235,-37.4870,  94.9740, 4254,   3788.9,   1.0342,  34.7156,2,  34.7153,2,    206.0,2,    206.0,2,   117.64,2,    31.82,2,     0.00,2,     2.20,2, -999.000,9, -999.000,9, -999.000,9,   2262.3,2,   2365.3,2,   -999.0,9,  -999.00,9, -999.000,9, -999.000,-999.0000,9,-999.0000,  -999.00,9,  -999.00, -999.000,9, -999.000,   -999.0,9,   -999.0,  -999.00,9,-999.0000,9,-999.0000,9,-999.0000,9,-999.0000,9,-999.0000,9,-999.0000,9
  33RR20070204,  I08S,    70,  2,      2,      2,2,20070308,1235,-37.4870,  94.9740, 4254,   4095.0,   0.9951,  34.7122,2,  34.7120,2,    206.3,2,    206.2,2,   119.59,2,    32.01,2,     0.00,2,     2.21,2, -999.000,9, -999.000,9, -999.000,9,   2266.3,2,   2370.2,2,   -999.0,9,  -999.00,9, -999.000,9, -999.000,-999.0000,9,-999.0000,  -999.00,9,  -999.00, -999.000,9, -999.000,   -999.0,9,   -999.0,  -999.00,9,-999.0000,9,-999.0000,9,-999.0000,9,-999.0000,9,-999.0000,9,-999.0000,9
  33RR20070204,  I08S,    70,  2,      1,      1,2,20070308,1235,-37.4870,  94.9740, 4254,   4322.5,   1.0050,  34.7118,2,  34.7122,2,    205.8,2,    206.2,2,   119.92,2,    32.05,2,     0.00,2,     2.21,2, -999.000,9, -999.000,9, -999.000,9,   2267.5,6,   2371.5,2,   -999.0,9,  -999.00,9, -999.000,9, -999.000,-999.0000,9,-999.0000,  -999.00,9,  -999.00, -999.000,9, -999.000,   -999.0,9,   -999.0,  -999.00,9,-999.0000,9,-999.0000,9,-999.0000,9,-999.0000,9,-999.0000,9,-999.0000,9