BOTTLE,20150626SIOCCHRJL
EXPOCODE,SECT_ID,STNNBR,CASTNO,SAMPNO,BTLNBR,BTLNBR_FLAG_W,DATE,TIME,LATITUDE,LONGITUDE,DEPTH,CTDPRS,CTDTMP,CTDSAL,CTDSAL_FLAG_W,SALNTY,SALNTY_FLAG_W,CTDOXY,CTDOXY_FLAG_W,OXYGEN,OXYGEN_FLAG_W,SILCAT,SILCAT_FLAG_W,NITRAT,NITRAT_FLAG_W,NITRIT,NITRIT_FLAG_W,PHSPHT,PHSPHT_FLAG_W,CFC-11,CFC-11_FLAG_W,CFC-12,CFC-12_FLAG_W,CFC113,CFC113_FLAG_W,TCARBN,TCARBN_FLAG_W,ALKALI,ALKALI_FLAG_W,DOC,DOC_FLAG_W,TDN,TDN_FLAG_W,TRITUM,TRITUM_FLAG_W,TRITER,HELIUM,HELIUM_FLAG_W,HELIER,DELHE3,DELHE3_FLAG_W,DELHER,NEON,NEON_FLAG_W,NEONER,DELC14,DELC14_FLAG_W,C14ERR,DELC13,DELC13_FLAG_W,CDOM325,CDOM325_FLAG_W,CDOM340,CDOM340_FLAG_W,CDOM380,CDOM380_FLAG_W,CDOM412,CDOM412_FLAG_W,CDOMSL,CDOMSL_FLAG_W,CDOMSN,CDOMSN_FLAG_W
,,,,,,,,,,,METERS,DBAR,ITS-90,PSS-78,,PSS-78,,UMOL/KG,,UMOL/KG,,UMOL/KG,,UMOL/KG,,UMOL/KG,,UMOL/KG,,PMOL/KG,,PMOL/KG,,PMOL/KG,,UMOL/KG,,UMOL/KG,,UMOL/KG,,UMOL/KG,,TU,,TU,NMOL/KG,,NMOL/KG,PERCNT,,PERCNT,NMOL/KG,,NMOL/KG,/MILLE,,/MILLE,/MILLE,,1/M,,1/M,,1/M,,1/M,,1/NM,,1/NM,
  33RR20070204,  I08S,    21,  2,     24,     24,2,20070220,1726,-58.6095,  82.0100, 1549,      4.7,   1.3677,  33.9957,2,  33.9955,2,    330.3,2,    333.9,2,    34.79,2,    25.81,2,     0.25,2,     1.64,2,    6.027,2,    3.247,2, -999.000,5,   2165.0,6,   2298.9,2,     49.1,2,    30.60,2, -999.000,9, -999.000,-999.0000,9,-999.0000,  -999.00,9,  -999.00, -999.000,9, -999.000,   -999.0,9,   -999.0,  -999.00,9,-999.0000,9,-999.0000,9,-999.0000,9,-999.0000,9,-999.0000,9,-999.0000,9
  33RR20070204,  I08S,    21,  2,     23,     23,2,20070220,1726,-58.6095,  82.0100, 1549,     18.6,   1.3648,  33.9960,2,  33.9956,2,    332.8,2,    334.2,2,    34.76,2,    25.80,2,     0.25,2,     1.64,2,    5.665,2,    3.025,2, -999.000,5,   2164.8,2,   2300.0,2,     48.7,2,    30.34,2, -999.000,9, -999.000,-999.0000,9,-999.0000,  -999.00,9,  -999.00, -999.000,9, -999.000,   -999.0,9,   -999.0,  -999.00,9,-999.0000,9,-999.0000,9,-999.0000,9,-999.0000,9,-999.0000,9,-999.0000,9
  33RR20070204,  I08S,    21,  2,     22,     22,2,20070220,1726,-58.6095,  82.0100, 1549,     43.7,   1.2848,  34.0044,2,  34.0045,2,   -999.0,9,   -999.0,9,    35.74,2,    25.91,2,     0.24,2,     1.66,2,    5.740,2,    3.084,2, -999.000,5,   2166.8,2,   2299.4,2,     47.5,2,    31.04,2, -999.000,9, -999.000,-999.0000,9,-999.0000,  -999.00,9,  -999.00, -999.000,9, -999.000,   -999.0,9,   -999.0,  -999.00,9,-999.0000,9,-999.0000,9,-999.0000,9,-999.0000,9,-999.0000,9,-999.0000,9
  33RR20070204,  I08S,    21,  2,     21,     21,4,20070220,1726,-58.6095,  82.0100, 1549,     88.4,   0.4231,  34.2943,2,  34.7014,0,    182.6,2,    182.7,0,    85.65,4,    32.22,4,     0.01,4,     2.24,4,    0.380,2,    0.196,2, -999.000,5,   2257.4,2,   2343.2,4,     46.0,2,    37.18,2, -999.000,9, -999.000,-999.0000,9,-999.0000,  -999.00,9,  -999.00, -999.000,9, -999.000,   -999.0,9,   -999.0,  -999.00,9,-999.0000,9,-999.0000,9,-999.0000,9,-999.0000,9,-999.0000,9,-999.0000,9
  33RR20070204,  I08S,    21,  2,     20,     20,2,20070220,1726,-58.6095,  82.0100, 1549,    138.9,   1.4346,  34.5641,2,  34.5605,2,    186.7,2,    186.8,2,    81.17,2,    34.11,2,     0.08,2,     2.36,2,    1.203,2,    0.634,2, -999.000,5,   2256.5,2,   2330.1,2,     44.3,2,    37.65,2, -999.000,9, -999.000,-999.0000,9,-999.0000,  -999.00,9,  -999.00, -999.000,9, -999.000,   -999.0,9,   -999.0,  -999.00,9,-999.0000,9,-999.0000,9,-999.0000,9,-999.0000,9,-999.0000,9,-999.0000,9
  33RR20070204,  I08S,    21,  2,     19,     19,2,20070220,1726,-58.6095,  82.0100, 1549,    164.5,   1.6155,  34.6008,2,  34.5984,2,    184.6,2,    180.7,2,    82.76,2,    33.99,2,     0.06,2,     2.36,2,    0.954,2,    0.510,2, -999.000,5,   2259.1,6,   2334.1,2,     43.8,2,    37.85,2, -999.000,9, -999.000,-999.0000,9,-999.0000,  -999.00,9,  -999.00, -999.000,9, -999.000,   -999.0,9,   -999.0,  -999.00,9,-999.0000,9,-999.0000,9,-999.0000,9,-999.0000,9,-999.0000,9,-999.0000,9
  33RR20070204,  I08S,    21,  2,     18,     18,2,20070220,1726,-58.6095,  82.0100, 1549,    189.1,   1.8785,  34.6414,2,  34.6403,2,    181.5,2,    175.4,2,    83.34,2,    33.67,2,     0.02,2,     2.33,2,    0.617,2,    0.329,2, -999.000,5,   2259.6,2,   2337.6,2,     43.2,2,    37.41,2, -999.000,9, -999.000,-999.0000,9,-999.0000,  -999.00,9,  -999.00, -999.000,9, -999.000,   -999.0,9,   -999.0,  -999.00,9,-999.0000,9,-999.0000,9,-999.0000,9,-999.0000,9,-999.0000,9,-999.0000,9
  33RR20070204,  I08S,    21,  2,     17,     17,2,20070220,1726,-58.6095,  82.0100, 1549,    239.5,   1.8259,  34.6656,2,  34.6627,2,    179.8,2,    179.5,2,    85.13,2,    33.16,2,     0.03,2,     2.29,2,    0.553,2,    0.292,2, -999.000,5,   2258.9,2,   2338.2,2,     42.7,2,    36.20,2, -999.000,9, -999.000,-999.0000,9,-999.0000,  -999.00,9,  -999.00, -999.000,9, -999.000,   -999.0,9,   -999.0,  -999.00,9,-999.0000,9,-999.0000,9,-999.0000,9,-999.0000,9,-999.0000,9,-999.0000,9
  33RR20070204,  I08S,    21,  2,     16,     16,2,20070220,1726,-58.6095,  82.0100, 1549,    290.0,   1.8473,  34.6829,2,  34.6819,2,    180.4,2,    180.2,2,    85.30,2,    32.78,2,     0.02,2,     2.27,2,    0.452,2,    0.236,2, -999.000,5,   2255.9,2,   2340.4,2,     42.4,2,    36.01,2, -999.000,9, -999.000,-999.0000,9,-999.0000,  -999.00,9,  -999.00, -999.000,9, -999.000,   -999.0,9,   -999.0,  -999.00,9,-999.0000,9,-999.0000,9,-999.0000,9,-999.0000,9,-999.0000,9,-999.0000,9
  33RR20070204,  I08S,    21,  2,     15,     15,2,20070220,1726,-58.6095,  82.0100, 1549,    340.3,   1.8624,  34.7036,2,  34.7031,2,    182.8,2,    183.2,2,    85.49,2,    32.15,2,     0.01,2,     2.23,2,    0.368,2,    0.189,2, -999.000,5,   2254.2,2,   2342.3,2,     41.9,2,    35.95,2, -999.000,9, -999.000,-999.0000,9,-999.0000,  -999.00,9,  -999.00, -999.000,9, -999.000,   -999.0,9,   -999.0,  -999.00,9,-999.0000,9,-999.0000,9,-999.0000,9,-999.0000,9,-999.0000,9,-999.0000,9
  33RR20070204,  I08S,    21,  2,     14,     14,2,20070220,1726,-58.6095,  82.0100, 1549,    389.9,   1.8507,  34.7130,2,  34.7118,2,    184.7,2,    184.6,2,    85.87,2,    31.85,2,     0.01,2,     2.21,2,    0.339,2,    0.177,2, -999.000,5,   2253.0,2,   2341.6,2,     42.1,2,    35.83,2, -999.000,9, -999.000,-999.0000,9,-999.0000,  -999.00,9,  -999.00, -999.000,9, -999.000,   -999.0,9,   -999.0,  -999.00,9,-999.0000,9,-999.0000,9,-999.0000,9,-999.0000,9,-999.0000,9,-999.0000,9
  33RR20070204,  I08S,    21,  2,     13,     13,2,20070220,1726,-58.6095,  82.0100, 1549,    440.2,   1.8171,  34.7199,2,  34.7194,2,    187.1,2,    186.7,2,    86.44,2,    31.61,2,     0.01,2,     2.19,2,    0.314,2,    0.159,2, -999.000,5,   2251.7,2,   2343.1,2,     41.9,2,    35.34,2, -999.000,9, -999.000,-999.0000,9,-999.0000,  -999.00,9,  -999.00, -999.000,9, -999.000,   -999.0,9,   -999.0,  -999.00,9,-999.0000,9,-999.0000,9,-999.0000,9,-999.0000,9,-999.0000,9,-999.0000,9
  33RR20070204,  I08S,    21,  2,     12,     12,2,20070220,1726,-58.6095,  82.0100, 1549,    490.3,   1.7741,  34.7263,2,  34.7271,2,    189.0,2,    189.5,2,    87.03,2,    31.36,2,     0.01,2,     2.17,2,    0.290,2,    0.145,2, -999.000,5,   2250.0,2,   2344.6,2,     42.1,2,    34.73,2, -999.000,9, -999.000,-999.0000,9,-999.0000,  -999.00,9,  -999.00, -999.000,9, -999.000,   -999.0,9,   -999.0,  -999.00,9,-999.0000,9,-999.0000,9,-999.0000,9,-999.0000,9,-999.0000,9,-999.0000,9
  33RR20070204,  I08S,    21,  2,     11,     11,2,20070220,1726,-58.6095,  82.0100, 1549,    576.2,   1.7316,  34.7347,2,  34.7344,2,    192.1,2,    192.0,2,    88.01,2,    30.92,2,     0.01,2,     2.15,2,    0.258,2,    0.126,2, -999.000,5,   2249.9,2,   2345.7,2,     42.3,2,    33.56,2, -999.000,9, -999.000,-999.0000,9,-999.0000,  -999.00,9,  -999.00, -999.000,9, -999.000,   -999.0,9,   -999.0,  -999.00,9,-999.0000,9,-999.0000,9,-999.0000,9,-999.0000,9,-999.0000,9,-999.0000,9
  33RR20070204,  I08S,    21,  2,     10,     10,2,20070220,1726,-58.6095,  82.0100, 1549,    676.4,   1.6620,  34.7410,2,  34.7407,2,    195.1,2,    195.5,2,    89.20,2,    30.72,2,     0.01,2,     2.12,2,    0.228,2,    0.112,2, -999.000,5,   2249.7,2,   2346.4,2,     42.3,2,    33.70,2, -999.000,9, -999.000,-999.0000,9,-999.0000,  -999.00,9,  -999.00, -999.000,9, -999.000,   -999.0,9,   -999.0,  -999.00,9,-999.0000,9,-999.0000,9,-999.0000,9,-999.0000,9,-999.0000,9,-999.0000,9
  33RR20070204,  I08S,    21,  2,      9,      9,2,20070220,1726,-58.6095,  82.0100, 1549,    776.3,   1.5802,  34.7445,2,  34.7454,2,    199.0,2,    198.7,2,    91.00,2,    30.52,2,     0.01,2,     2.11,2,    0.204,2,    0.096,2, -999.000,5,   2249.1,2,   2348.4,2,     42.2,2,    32.82,2, -999.000,9, -999.000,-999.0000,9,-999.0000,  -999.00,9,  -999.00, -999.000,9, -999.000,   -999.0,9,   -999.0,  -999.00,9,-999.0000,9,-999.0000,9,-999.0000,9,-999.0000,9,-999.0000,9,-999.0000,9
  33RR20070204,  I08S,    21,  2,      8,      8,2,20070220,1726,-58.6095,  82.0100, 1549,    877.6,   1.4744,  34.7437,2,  34.7438,2,    201.0,2,    200.9,2,    93.00,2,    30.52,2,     0.00,2,     2.10,2,    0.191,2,    0.088,2, -999.000,5,   2248.2,2,   2348.6,2,     41.2,2,    33.48,2, -999.000,9, -999.000,-999.0000,9,-999.0000,  -999.00,9,  -999.00, -999.000,9, -999.000,   -999.0,9,   -999.0,  -999.00,9,-999.0000,9,-999.0000,9,-999.0000,9,-999.0000,9,-999.0000,9,-999.0000,9
  33RR20070204,  I08S,    21,  2,      7,      7,2,20070220,1726,-58.6095,  82.0100, 1549,    978.4,   1.3689,  34.7399,2,  34.7398,2,    202.1,2,    202.1,2,    96.22,2,    30.66,2,     0.00,2,     2.11,2,    0.189,2,    0.087,2, -999.000,5,   2251.1,2,   2350.1,2,     41.4,2,    32.99,2, -999.000,9, -999.000,-999.0000,9,-999.0000,  -999.00,9,  -999.00, -999.000,9, -999.000,   -999.0,9,   -999.0,  -999.00,9,-999.0000,9,-999.0000,9,-999.0000,9,-999.0000,9,-999.0000,9,-999.0000,9
  33RR20070204,  I08S,    21,  2,      6,      6,2,20070220,1726,-58.6095,  82.0100, 1549,   1079.3,   1.2599,  34.7347,2,  34.7351,2,    202.8,2,    202.9,2,    99.84,2,    30.86,2,     0.00,2,     2.13,2, -999.000,9, -999.000,9, -999.000,9,   2252.1,2,   2352.2,2,     41.5,2,    32.76,2, -999.000,9, -999.000,-999.0000,9,-999.0000,  -999.00,9,  -999.00, -999.000,9, -999.000,   -999.0,9,   -999.0,  -999.00,9,-999.0000,9,-999.0000,9,-999.0000,9,-999.0000,9,-999.0000,9,-999.0000,9
  33RR20070204,  I08S,    21,  2,      5,      5,2,20070220,1726,-58.6095,  82.0100, 1549,   1180.5,   1.1532,  34.7295,2,  34.7300,2,    203.6,2,    204.4,2,   102.86,2,    31.10,2,     0.00,2,     2.14,2,    0.190,2,    0.086,2, -999.000,5,   2252.6,2,   2352.9,2,     41.9,2,    32.29,2, -999.000,9, -999.000,-999.0000,9,-999.0000,  -999.00,9,  -999.00, -999.000,9, -999.000,   -999.0,9,   -999.0,  -999.00,9,-999.0000,9,-999.0000,9,-999.0000,9,-999.0000,9,-999.0000,9,-999.0000,9
  33RR20070204,  I08S,    21,  2,      4,      4,2,20070220,1726,-58.6095,  82.0100, 1549,   1282.2,   1.0713,  34.7252,2,  34.7255,2,    203.1,2,    202.2,2,   108.73,2,    31.45,2,     0.00,2,     2.17,2, -999.000,9, -999.000,9, -999.000,9,   2255.8,2,   2352.6,2,     41.4,2,    33.18,2, -999.000,9, -999.000,-999.0000,9,-999.0000,  -999.00,9,  -999.00, -999.000,9, -999.000,   -999.0,9,   -999.0,  -999.00,9,-999.0000,9,-999.0000,9,-999.0000,9,-999.0000,9,-999.0000,9,-999.0000,9
  33RR20070204,  I08S,    21,  2,      3,      3,2,20070220,1726,-58.6095,  82.0100, 1549,   1384.6,   0.9752,  34.7198,2,  34.7207,2,    203.3,2,    203.3,2,   112.97,2,    31.64,2,     0.00,2,     2.18,2,    0.179,2,    0.081,2, -999.000,5,   2255.7,2,   2355.2,2,     41.5,2,    33.53,2, -999.000,9, -999.000,-999.0000,9,-999.0000,  -999.00,9,  -999.00, -999.000,9, -999.000,   -999.0,9,   -999.0,  -999.00,9,-999.0000,9,-999.0000,9,-999.0000,9,-999.0000,9,-999.0000,9,-999.0000,9
  33RR20070204,  I08S,    21,  2,      2,      2,2,20070220,1726,-58.6095,  82.0100, 1549,   1485.5,   0.9046,  34.7158,2,  34.7164,2,    201.9,2,    201.4,2,   124.37,2,    32.09,2,     0.00,2,     2.21,2, -999.000,9, -999.000,9, -999.000,9,   2259.4,2,   2355.3,2,     41.1,2,    33.89,2, -999.000,9, -999.000,-999.0000,9,-999.0000,  -999.00,9,  -999.00, -999.000,9, -999.000,   -999.0,9,   -999.0,  -999.00,9,-999.0000,9,-999.0000,9,-999.0000,9,-999.0000,9,-999.0000,9,-999.0000,9
  33RR20070204,  I08S,    21,  2,      1,      1,2,20070220,1726,-58.6095,  82.0100, 1549,   1553.7,   0.8899,  34.7146,2,  34.7166,2,    199.8,2,    200.0,2,   131.50,2,    32.31,2,     0.01,2,     2.23,2,    0.167,2,    0.078,2, -999.000,5,   2261.8,6,   2354.5,2,     42.3,2,    33.78,2, -999.000,9, -999.000,-999.0000,9,-999.0000,  -999.00,9,  -999.00, -999.000,9, -999.000,   -999.0,9,   -999.0,  -999.00,9,-999.0000,9,-999.0000,9,-999.0000,9,-999.0000,9,-999.0000,9,-999.0000,9