BOTTLE,20150626SIOCCHRJL
EXPOCODE,SECT_ID,STNNBR,CASTNO,SAMPNO,BTLNBR,BTLNBR_FLAG_W,DATE,TIME,LATITUDE,LONGITUDE,DEPTH,CTDPRS,CTDTMP,CTDSAL,CTDSAL_FLAG_W,SALNTY,SALNTY_FLAG_W,CTDOXY,CTDOXY_FLAG_W,OXYGEN,OXYGEN_FLAG_W,SILCAT,SILCAT_FLAG_W,NITRAT,NITRAT_FLAG_W,NITRIT,NITRIT_FLAG_W,PHSPHT,PHSPHT_FLAG_W,CFC-11,CFC-11_FLAG_W,CFC-12,CFC-12_FLAG_W,CFC113,CFC113_FLAG_W,TCARBN,TCARBN_FLAG_W,ALKALI,ALKALI_FLAG_W,DOC,DOC_FLAG_W,TDN,TDN_FLAG_W,TRITUM,TRITUM_FLAG_W,TRITER,HELIUM,HELIUM_FLAG_W,HELIER,DELHE3,DELHE3_FLAG_W,DELHER,NEON,NEON_FLAG_W,NEONER,DELC14,DELC14_FLAG_W,C14ERR,DELC13,DELC13_FLAG_W,CDOM325,CDOM325_FLAG_W,CDOM340,CDOM340_FLAG_W,CDOM380,CDOM380_FLAG_W,CDOM412,CDOM412_FLAG_W,CDOMSL,CDOMSL_FLAG_W,CDOMSN,CDOMSN_FLAG_W
,,,,,,,,,,,METERS,DBAR,ITS-90,PSS-78,,PSS-78,,UMOL/KG,,UMOL/KG,,UMOL/KG,,UMOL/KG,,UMOL/KG,,UMOL/KG,,PMOL/KG,,PMOL/KG,,PMOL/KG,,UMOL/KG,,UMOL/KG,,UMOL/KG,,UMOL/KG,,TU,,TU,NMOL/KG,,NMOL/KG,PERCNT,,PERCNT,NMOL/KG,,NMOL/KG,/MILLE,,/MILLE,/MILLE,,1/M,,1/M,,1/M,,1/M,,1/NM,,1/NM,
  33RR20070204,  I08S,     9,  2,     36,     36,2,20070217,1729,-63.8807,  81.9622, 3663,      2.6,   0.5871,  33.6674,2,  33.6682,2,    322.4,2,    344.2,2,    27.37,2,    22.55,2,     0.23,2,     1.46,2, -999.000,9, -999.000,9, -999.000,9,   2134.5,6,   2280.5,2,   -999.0,9,  -999.00,9, -999.000,9, -999.000,-999.0000,9,-999.0000,  -999.00,9,  -999.00, -999.000,9, -999.000,   -999.0,9,   -999.0,  -999.00,9,-999.0000,9,-999.0000,9,-999.0000,9,-999.0000,9,-999.0000,9,-999.0000,9
  33RR20070204,  I08S,     9,  2,     35,     35,2,20070217,1729,-63.8807,  81.9622, 3663,      2.6,   0.5872,  33.6678,2,  33.6686,2,    322.4,2,    344.1,2,    27.36,2,    22.55,2,     0.24,2,     1.46,2,    5.915,2,    3.213,2, -999.000,5,   2132.9,2,   2280.5,2,     46.7,2,    26.58,2, -999.000,9, -999.000,-999.0000,9,-999.0000,  -999.00,9,  -999.00, -999.000,9, -999.000,   -999.0,9,   -999.0,  -999.00,9,-999.0000,9,-999.0000,9,-999.0000,9,-999.0000,9,-999.0000,9,-999.0000,9
  33RR20070204,  I08S,     9,  2,     34,   9433,2,20070217,1729,-63.8807,  81.9622, 3663,     15.1,   0.5845,  33.6685,2,  33.6687,2,    324.4,2,    344.0,2,    27.56,2,    22.51,2,     0.24,2,     1.45,2,    5.910,2,    3.217,2, -999.000,5,   2131.9,2,   2279.7,2,     46.1,2,    26.81,2, -999.000,9, -999.000,-999.0000,9,-999.0000,  -999.00,9,  -999.00, -999.000,9, -999.000,   -105.7,2,      2.6,     1.73,2,-999.0000,9,-999.0000,9,-999.0000,9,-999.0000,9,-999.0000,9,-999.0000,9
  33RR20070204,  I08S,     9,  2,     33,     33,2,20070217,1729,-63.8807,  81.9622, 3663,     40.5,  -0.1224,  33.8254,2,  33.8634,2,    322.5,2,    322.4,2,    40.65,2,    25.95,2,     0.20,2,     1.79,2,    5.347,2,    2.869,2, -999.000,5,   2165.4,2,   2291.6,2,     45.0,2,    29.92,2, -999.000,9, -999.000,-999.0000,9,-999.0000,  -999.00,9,  -999.00, -999.000,9, -999.000,   -999.0,9,   -999.0,  -999.00,9,-999.0000,9,-999.0000,9,-999.0000,9,-999.0000,9,-999.0000,9,-999.0000,9
  33RR20070204,  I08S,     9,  2,     32,     32,2,20070217,1729,-63.8807,  81.9622, 3663,     85.5,   0.6251,  34.4298,2,  34.4027,2,    250.3,2,    223.3,2,    72.55,2,    33.30,2,     0.11,2,     2.32,2,    2.669,2,    1.394,2, -999.000,5,   2239.1,2,   2320.4,2,     44.1,2,    37.67,2, -999.000,9, -999.000,-999.0000,9,-999.0000,  -999.00,9,  -999.00, -999.000,9, -999.000,   -130.7,2,      2.5,     0.62,2,-999.0000,9,-999.0000,9,-999.0000,9,-999.0000,9,-999.0000,9,-999.0000,9
  33RR20070204,  I08S,     9,  2,     31,     31,2,20070217,1729,-63.8807,  81.9622, 3663,    136.4,   1.6471,  34.5784,2,  34.5772,2,    180.6,2,    180.3,2,    82.16,2,    34.39,2,     0.03,2,     2.38,2,    1.054,2,    0.548,2, -999.000,5,   2258.3,2,   2332.2,2,     43.6,2,    38.20,2, -999.000,9, -999.000,-999.0000,9,-999.0000,  -999.00,9,  -999.00, -999.000,9, -999.000,   -143.2,2,      3.9,     0.43,2,-999.0000,9,-999.0000,9,-999.0000,9,-999.0000,9,-999.0000,9,-999.0000,9
  33RR20070204,  I08S,     9,  2,     29,     29,2,20070217,1729,-63.8807,  81.9622, 3663,    161.6,   1.7400,  34.6101,2,  34.6082,2,    177.7,2,    178.1,2,    84.37,2,    34.02,2,     0.02,2,     2.36,2,    0.854,2,    0.443,2, -999.000,5,   2266.0,2,   2336.1,2,     43.0,2,    37.99,2, -999.000,9, -999.000,-999.0000,9,-999.0000,  -999.00,9,  -999.00, -999.000,9, -999.000,   -152.2,2,      2.8,     0.44,2,-999.0000,9,-999.0000,9,-999.0000,9,-999.0000,9,-999.0000,9,-999.0000,9
  33RR20070204,  I08S,     9,  2,     30,     30,2,20070217,1729,-63.8807,  81.9622, 3663,    161.8,   1.7405,  34.6098,2,  34.6092,2,    177.7,2,    178.0,2,    83.76,2,    34.07,2,     0.02,2,     2.36,2, -999.000,9, -999.000,9, -999.000,9,   2256.6,6,   2335.1,2,   -999.0,9,  -999.00,9, -999.000,9, -999.000,-999.0000,9,-999.0000,  -999.00,9,  -999.00, -999.000,9, -999.000,   -999.0,9,   -999.0,  -999.00,9,-999.0000,9,-999.0000,9,-999.0000,9,-999.0000,9,-999.0000,9,-999.0000,9
  33RR20070204,  I08S,     9,  2,     28,     28,2,20070217,1729,-63.8807,  81.9622, 3663,    187.4,   1.7861,  34.6260,2,  34.6263,2,    177.2,2,    177.3,2,    83.96,2,    33.78,2,     0.02,2,     2.35,2,    0.745,2,    0.386,2, -999.000,5,   2264.8,2,   2336.1,2,     42.4,2,    37.25,2, -999.000,9, -999.000,-999.0000,9,-999.0000,  -999.00,9,  -999.00, -999.000,9, -999.000,   -140.9,2,      3.1,     0.46,2,-999.0000,9,-999.0000,9,-999.0000,9,-999.0000,9,-999.0000,9,-999.0000,9
  33RR20070204,  I08S,     9,  2,     27,     27,2,20070217,1729,-63.8807,  81.9622, 3663,    222.7,   1.8127,  34.6504,2,  34.6497,2,    177.5,2,    178.3,2,    85.36,2,    33.30,2,     0.02,2,     2.32,2,    0.620,2,    0.323,2, -999.000,5,   2257.1,2,   2337.4,2,     42.0,2,    36.88,2, -999.000,9, -999.000,-999.0000,9,-999.0000,  -999.00,9,  -999.00, -999.000,9, -999.000,   -146.4,2,      2.8,     0.44,2,-999.0000,9,-999.0000,9,-999.0000,9,-999.0000,9,-999.0000,9,-999.0000,9
  33RR20070204,  I08S,     9,  2,     26,     26,2,20070217,1729,-63.8807,  81.9622, 3663,    273.0,   1.8045,  34.6725,2,  34.6709,2,    181.1,2,    180.7,2,    85.97,2,    32.82,2,     0.01,2,     2.28,2,    0.551,2,    0.283,2, -999.000,5,   2271.2,3,   2339.2,2,     41.9,2,    36.78,2, -999.000,9, -999.000,-999.0000,9,-999.0000,  -999.00,9,  -999.00, -999.000,9, -999.000,   -147.5,2,      3.4,     0.47,2,-999.0000,9,-999.0000,9,-999.0000,9,-999.0000,9,-999.0000,9,-999.0000,9
  33RR20070204,  I08S,     9,  2,     25,     25,2,20070217,1729,-63.8807,  81.9622, 3663,    323.7,   1.8051,  34.6915,2,  34.6899,2,    183.3,2,    182.5,2,    86.56,2,    32.40,2,     0.01,2,     2.26,2,    0.479,2,    0.241,2, -999.000,5,   2256.5,2,   2341.0,2,     41.8,2,    36.03,2, -999.000,9, -999.000,-999.0000,9,-999.0000,  -999.00,9,  -999.00, -999.000,9, -999.000,   -148.9,2,      2.6,     0.47,2,-999.0000,9,-999.0000,9,-999.0000,9,-999.0000,9,-999.0000,9,-999.0000,9
  33RR20070204,  I08S,     9,  2,     24,     24,2,20070217,1729,-63.8807,  81.9622, 3663,    374.8,   1.8269,  34.7108,2,  34.7105,2,    185.6,2,    185.2,2,    86.56,2,    31.83,2,     0.01,2,     2.20,2,    0.365,2,    0.184,2, -999.000,5,   2257.8,2,   2342.7,2,     42.0,2,    35.09,2, -999.000,9, -999.000,-999.0000,9,-999.0000,  -999.00,9,  -999.00, -999.000,9, -999.000,   -144.8,2,      2.7,     0.51,2,-999.0000,9,-999.0000,9,-999.0000,9,-999.0000,9,-999.0000,9,-999.0000,9
  33RR20070204,  I08S,     9,  2,     23,     23,2,20070217,1729,-63.8807,  81.9622, 3663,    425.5,   1.8173,  34.7213,2,  34.7210,2,    187.9,2,    187.1,2,    86.56,2,    31.45,2,     0.01,2,     2.18,2,    0.322,2,    0.160,2, -999.000,5,   2253.0,2,   2343.4,2,     41.4,2,    34.68,2, -999.000,9, -999.000,-999.0000,9,-999.0000,  -999.00,9,  -999.00, -999.000,9, -999.000,   -151.8,2,      2.9,     0.50,2,-999.0000,9,-999.0000,9,-999.0000,9,-999.0000,9,-999.0000,9,-999.0000,9
  33RR20070204,  I08S,     9,  2,     22,     22,2,20070217,1729,-63.8807,  81.9622, 3663,    476.2,   1.8060,  34.7294,2,  34.7284,2,    189.4,2,    189.4,2,    86.36,2,    31.16,2,     0.01,2,     2.16,2,    0.287,2,    0.138,2, -999.000,5,   2250.6,2,   2344.6,2,     41.8,2,    35.06,2, -999.000,9, -999.000,-999.0000,9,-999.0000,  -999.00,9,  -999.00, -999.000,9, -999.000,   -148.4,2,      2.6,     0.51,2,-999.0000,9,-999.0000,9,-999.0000,9,-999.0000,9,-999.0000,9,-999.0000,9
  33RR20070204,  I08S,     9,  2,     21,     21,2,20070217,1729,-63.8807,  81.9622, 3663,    562.7,   1.7261,  34.7368,2,  34.7367,2,    192.5,2,    192.9,2,    87.96,2,    30.88,2,     0.00,2,     2.14,2,    0.259,2,    0.125,2, -999.000,5,   2249.3,2,   2345.5,2,     41.4,2,    32.99,2, -999.000,9, -999.000,-999.0000,9,-999.0000,  -999.00,9,  -999.00, -999.000,9, -999.000,   -152.2,2,      3.2,     0.56,2,-999.0000,9,-999.0000,9,-999.0000,9,-999.0000,9,-999.0000,9,-999.0000,9
  33RR20070204,  I08S,     9,  2,     20,     20,2,20070217,1729,-63.8807,  81.9622, 3663,    663.7,   1.6293,  34.7405,2,  34.7396,2,    196.1,2,    196.2,2,    89.17,2,    30.69,2,     0.00,2,     2.13,2,    0.239,2,    0.112,2, -999.000,5,   2249.9,2,   2345.5,2,     41.9,2,    32.88,2, -999.000,9, -999.000,-999.0000,9,-999.0000,  -999.00,9,  -999.00, -999.000,9, -999.000,   -147.2,2,      2.9,     0.55,2,-999.0000,9,-999.0000,9,-999.0000,9,-999.0000,9,-999.0000,9,-999.0000,9
  33RR20070204,  I08S,     9,  2,     19,     19,2,20070217,1729,-63.8807,  81.9622, 3663,    765.8,   1.5130,  34.7390,2,  34.7378,2,    198.2,2,    198.2,2,    92.38,2,    30.69,2,     0.00,2,     2.12,2,    0.243,2,    0.115,2, -999.000,5,   2249.4,2,   2347.6,2,     41.4,2,    33.61,2, -999.000,9, -999.000,-999.0000,9,-999.0000,  -999.00,9,  -999.00, -999.000,9, -999.000,   -153.1,2,      2.5,     0.58,2,-999.0000,9,-999.0000,9,-999.0000,9,-999.0000,9,-999.0000,9,-999.0000,9
  33RR20070204,  I08S,     9,  2,     18,     18,2,20070217,1729,-63.8807,  81.9622, 3663,    866.4,   1.4040,  34.7393,2,  34.7392,2,    200.5,2,    201.0,2,    95.40,2,    30.64,2,     0.00,2,     2.13,2,    0.223,2,    0.103,2, -999.000,5,   2250.2,2,   2347.9,2,     41.6,2,    32.68,2, -999.000,9, -999.000,-999.0000,9,-999.0000,  -999.00,9,  -999.00, -999.000,9, -999.000,   -145.8,2,      2.9,     0.61,2,-999.0000,9,-999.0000,9,-999.0000,9,-999.0000,9,-999.0000,9,-999.0000,9
  33RR20070204,  I08S,     9,  2,     17,     17,2,20070217,1729,-63.8807,  81.9622, 3663,    968.7,   1.3075,  34.7366,2,  34.7366,2,    202.1,2,    202.3,2,    97.42,2,    30.79,2,     0.00,2,     2.15,2,    0.212,2,    0.098,2, -999.000,5,   2251.6,2,   2350.1,2,     41.9,2,    33.28,2, -999.000,9, -999.000,-999.0000,9,-999.0000,  -999.00,9,  -999.00, -999.000,9, -999.000,   -145.9,2,      2.5,     0.57,2,-999.0000,9,-999.0000,9,-999.0000,9,-999.0000,9,-999.0000,9,-999.0000,9
  33RR20070204,  I08S,     9,  2,     16,     16,2,20070217,1729,-63.8807,  81.9622, 3663,   1070.2,   1.2253,  34.7331,2,  34.7319,2,    203.2,2,    203.6,2,    99.64,2,    30.89,2,     0.00,2,     2.14,2,    0.210,2,    0.096,2, -999.000,5,   2252.1,2,   2350.7,2,     41.2,2,    32.88,2, -999.000,9, -999.000,-999.0000,9,-999.0000,  -999.00,9,  -999.00, -999.000,9, -999.000,   -150.8,2,      3.8,     0.56,2,-999.0000,9,-999.0000,9,-999.0000,9,-999.0000,9,-999.0000,9,-999.0000,9
  33RR20070204,  I08S,     9,  2,     15,     15,2,20070217,1729,-63.8807,  81.9622, 3663,   1172.2,   1.1197,  34.7276,2,  34.7272,2,    204.2,2,    204.2,2,   103.07,2,    31.13,2,     0.00,2,     2.16,2,    0.212,2,    0.098,2, -999.000,5,   2252.7,2,   2353.3,2,     41.6,2,    32.86,2, -999.000,9, -999.000,-999.0000,9,-999.0000,  -999.00,9,  -999.00, -999.000,9, -999.000,   -152.5,2,      3.0,     0.53,2,-999.0000,9,-999.0000,9,-999.0000,9,-999.0000,9,-999.0000,9,-999.0000,9
  33RR20070204,  I08S,     9,  2,     14,     14,2,20070217,1729,-63.8807,  81.9622, 3663,   1273.8,   1.0241,  34.7223,2,  34.7224,2,    204.9,2,    205.3,2,   105.70,2,    31.38,2,     0.00,2,     2.18,2,    0.216,2,    0.100,2, -999.000,5,   2254.8,2,   2351.4,2,     41.4,2,    32.66,2, -999.000,9, -999.000,-999.0000,9,-999.0000,  -999.00,9,  -999.00, -999.000,9, -999.000,   -156.1,2,      3.0,     0.52,2,-999.0000,9,-999.0000,9,-999.0000,9,-999.0000,9,-999.0000,9,-999.0000,9
  33RR20070204,  I08S,     9,  2,     13,     13,2,20070217,1729,-63.8807,  81.9622, 3663,   1376.0,   0.9300,  34.7173,2,  34.7175,2,    205.9,2,    206.3,2,   108.33,2,    31.52,2,     0.00,2,     2.19,2,    0.217,2,    0.100,2, -999.000,5,   2256.8,2,   2353.9,2,     41.8,2,    33.50,2, -999.000,9, -999.000,-999.0000,9,-999.0000,  -999.00,9,  -999.00, -999.000,9, -999.000,   -150.8,2,      3.6,     0.51,2,-999.0000,9,-999.0000,9,-999.0000,9,-999.0000,9,-999.0000,9,-999.0000,9
  33RR20070204,  I08S,     9,  2,     12,     12,2,20070217,1729,-63.8807,  81.9622, 3663,   1477.5,   0.8354,  34.7118,2,  34.7124,2,    206.8,2,    206.7,2,   111.16,2,    31.77,2,     0.00,2,     2.21,2,    0.220,2,    0.101,2, -999.000,5,   2256.3,2,   2353.1,2,     41.9,2,    33.62,2, -999.000,9, -999.000,-999.0000,9,-999.0000,  -999.00,9,  -999.00, -999.000,9, -999.000,   -147.8,2,      3.1,     0.49,2,-999.0000,9,-999.0000,9,-999.0000,9,-999.0000,9,-999.0000,9,-999.0000,9
  33RR20070204,  I08S,     9,  2,     11,     11,2,20070217,1729,-63.8807,  81.9622, 3663,   1580.2,   0.7343,  34.7051,2,  34.7055,2,    207.5,2,    207.4,2,   114.21,2,    32.01,2,     0.00,2,     2.23,2,    0.240,2,    0.112,2, -999.000,5,   2258.0,2,   2353.3,2,     41.4,2,    33.36,2, -999.000,9, -999.000,-999.0000,9,-999.0000,  -999.00,9,  -999.00, -999.000,9, -999.000,   -152.2,2,      2.9,     0.51,2,-999.0000,9,-999.0000,9,-999.0000,9,-999.0000,9,-999.0000,9,-999.0000,9
  33RR20070204,  I08S,     9,  2,     10,     10,2,20070217,1729,-63.8807,  81.9622, 3663,   1681.2,   0.6674,  34.7015,2,  34.7010,2,    207.8,2,    207.8,2,   116.23,2,    32.16,2,     0.00,2,     2.23,2,    0.232,2,    0.108,2, -999.000,5,   2259.0,2,   2353.1,2,     41.3,2,    33.61,2, -999.000,9, -999.000,-999.0000,9,-999.0000,  -999.00,9,  -999.00, -999.000,9, -999.000,   -155.2,2,      2.6,     0.49,2,-999.0000,9,-999.0000,9,-999.0000,9,-999.0000,9,-999.0000,9,-999.0000,9
  33RR20070204,  I08S,     9,  2,      9,      9,2,20070217,1729,-63.8807,  81.9622, 3663,   1783.7,   0.6060,  34.6979,2,  34.6986,2,    208.5,2,    209.0,2,   116.84,2,    32.26,2,     0.00,2,     2.25,2,    0.229,2,    0.107,2, -999.000,5,   2259.4,2,   2355.1,2,     41.3,2,    34.14,2, -999.000,9, -999.000,-999.0000,9,-999.0000,  -999.00,9,  -999.00, -999.000,9, -999.000,   -151.0,2,      2.7,     0.50,2,-999.0000,9,-999.0000,9,-999.0000,9,-999.0000,9,-999.0000,9,-999.0000,9
  33RR20070204,  I08S,     9,  2,      8,      8,2,20070217,1729,-63.8807,  81.9622, 3663,   1885.1,   0.5457,  34.6951,2,  34.6955,2,    209.5,2,    209.4,2,   118.06,2,    32.40,2,     0.00,2,     2.25,2,    0.212,2,    0.099,2, -999.000,5,   2259.7,2,   2353.4,2,     41.0,2,    33.42,2, -999.000,9, -999.000,-999.0000,9,-999.0000,  -999.00,9,  -999.00, -999.000,9, -999.000,   -155.6,2,      2.6,     0.54,2,-999.0000,9,-999.0000,9,-999.0000,9,-999.0000,9,-999.0000,9,-999.0000,9
  33RR20070204,  I08S,     9,  2,      7,      7,2,20070217,1729,-63.8807,  81.9622, 3663,   1986.9,   0.4750,  34.6912,2,  34.6913,2,    210.6,2,    210.5,2,   120.70,2,    32.35,2,     0.00,2,     2.26,2,    0.221,2,    0.102,2, -999.000,5,   2260.3,2,   2353.7,2,     41.6,2,    33.44,2, -999.000,9, -999.000,-999.0000,9,-999.0000,  -999.00,9,  -999.00, -999.000,9, -999.000,   -161.6,2,      2.9,     0.49,2,-999.0000,9,-999.0000,9,-999.0000,9,-999.0000,9,-999.0000,9,-999.0000,9
  33RR20070204,  I08S,     9,  2,      6,      6,2,20070217,1729,-63.8807,  81.9622, 3663,   2191.1,   0.3546,  34.6851,2,  34.6864,2,    213.4,2,    213.0,2,   124.36,2,    32.60,2,     0.00,2,     2.27,2,    0.229,2,    0.110,2, -999.000,5,   2260.6,2,   2353.3,2,     41.3,2,    34.20,2, -999.000,9, -999.000,-999.0000,9,-999.0000,  -999.00,9,  -999.00, -999.000,9, -999.000,   -165.4,2,      2.7,     0.53,2,-999.0000,9,-999.0000,9,-999.0000,9,-999.0000,9,-999.0000,9,-999.0000,9
  33RR20070204,  I08S,     9,  2,      5,      5,2,20070217,1729,-63.8807,  81.9622, 3663,   2447.3,   0.2268,  34.6793,2,  34.6793,2,    217.0,2,    217.4,2,   126.60,2,    32.65,2,     0.00,2,     2.28,2,    0.247,2,    0.120,2, -999.000,5,   2257.9,2,   2354.8,2,     42.2,2,    34.01,2, -999.000,9, -999.000,-999.0000,9,-999.0000,  -999.00,9,  -999.00, -999.000,9, -999.000,   -161.1,2,      2.6,     0.54,2,-999.0000,9,-999.0000,9,-999.0000,9,-999.0000,9,-999.0000,9,-999.0000,9
  33RR20070204,  I08S,     9,  2,      4,      4,2,20070217,1729,-63.8807,  81.9622, 3663,   2703.8,   0.1266,  34.6748,2,  34.6748,2,    222.0,2,    221.8,2,   126.80,2,    32.60,2,     0.00,2,     2.27,2,    0.367,3,    0.181,3, -999.000,5,   2255.0,2,   2352.8,2,     41.6,2,    33.71,2, -999.000,9, -999.000,-999.0000,9,-999.0000,  -999.00,9,  -999.00, -999.000,9, -999.000,   -156.3,2,      2.7,     0.50,2,-999.0000,9,-999.0000,9,-999.0000,9,-999.0000,9,-999.0000,9,-999.0000,9
  33RR20070204,  I08S,     9,  2,      3,      3,2,20070217,1729,-63.8807,  81.9622, 3663,   2960.4,   0.0428,  34.6715,2,  34.6712,2,    225.9,2,    225.5,2,   127.82,2,    32.46,2,     0.00,2,     2.26,2,    0.465,2,    0.236,2, -999.000,5,   2254.1,2,   2353.0,2,     41.5,2,    33.84,2, -999.000,9, -999.000,-999.0000,9,-999.0000,  -999.00,9,  -999.00, -999.000,9, -999.000,   -140.4,3,      2.8,     0.52,2,-999.0000,9,-999.0000,9,-999.0000,9,-999.0000,9,-999.0000,9,-999.0000,9
  33RR20070204,  I08S,     9,  2,      2,      2,2,20070217,1729,-63.8807,  81.9622, 3663,   3298.7,  -0.0472,  34.6679,2,  34.6677,2,    230.6,2,    230.2,2,   126.80,2,    32.61,2,     0.00,2,     2.26,2,    0.648,2,    0.332,2, -999.000,5,   2253.0,2,   2351.6,2,     41.8,2,    34.29,2, -999.000,9, -999.000,-999.0000,9,-999.0000,  -999.00,9,  -999.00, -999.000,9, -999.000,   -150.3,2,      2.7,     0.63,2,-999.0000,9,-999.0000,9,-999.0000,9,-999.0000,9,-999.0000,9,-999.0000,9
  33RR20070204,  I08S,     9,  2,      1,      1,2,20070217,1729,-63.8807,  81.9622, 3663,   3710.2,  -0.1467,  34.6628,2,  34.6630,2,    232.8,2,    233.2,2,   140.07,2,    32.66,2,     0.00,2,     2.27,2,    0.566,2,    0.286,2, -999.000,5,   2254.2,2,   2352.2,2,     41.1,2,    33.89,2, -999.000,9, -999.000,-999.0000,9,-999.0000,  -999.00,9,  -999.00, -999.000,9, -999.000,   -151.6,2,      3.0,     0.64,2,-999.0000,9,-999.0000,9,-999.0000,9,-999.0000,9,-999.0000,9,-999.0000,9