BOTTLE,20150626SIOCCHRJL
EXPOCODE,SECT_ID,STNNBR,CASTNO,SAMPNO,BTLNBR,BTLNBR_FLAG_W,DATE,TIME,LATITUDE,LONGITUDE,DEPTH,CTDPRS,CTDTMP,CTDSAL,CTDSAL_FLAG_W,SALNTY,SALNTY_FLAG_W,CTDOXY,CTDOXY_FLAG_W,OXYGEN,OXYGEN_FLAG_W,SILCAT,SILCAT_FLAG_W,NITRAT,NITRAT_FLAG_W,NITRIT,NITRIT_FLAG_W,PHSPHT,PHSPHT_FLAG_W,CFC-11,CFC-11_FLAG_W,CFC-12,CFC-12_FLAG_W,CFC113,CFC113_FLAG_W,TCARBN,TCARBN_FLAG_W,ALKALI,ALKALI_FLAG_W,DOC,DOC_FLAG_W,TDN,TDN_FLAG_W,TRITUM,TRITUM_FLAG_W,TRITER,HELIUM,HELIUM_FLAG_W,HELIER,DELHE3,DELHE3_FLAG_W,DELHER,NEON,NEON_FLAG_W,NEONER,DELC14,DELC14_FLAG_W,C14ERR,DELC13,DELC13_FLAG_W,CDOM325,CDOM325_FLAG_W,CDOM340,CDOM340_FLAG_W,CDOM380,CDOM380_FLAG_W,CDOM412,CDOM412_FLAG_W,CDOMSL,CDOMSL_FLAG_W,CDOMSN,CDOMSN_FLAG_W
,,,,,,,,,,,METERS,DBAR,ITS-90,PSS-78,,PSS-78,,UMOL/KG,,UMOL/KG,,UMOL/KG,,UMOL/KG,,UMOL/KG,,UMOL/KG,,PMOL/KG,,PMOL/KG,,PMOL/KG,,UMOL/KG,,UMOL/KG,,UMOL/KG,,UMOL/KG,,TU,,TU,NMOL/KG,,NMOL/KG,PERCNT,,PERCNT,NMOL/KG,,NMOL/KG,/MILLE,,/MILLE,/MILLE,,1/M,,1/M,,1/M,,1/M,,1/NM,,1/NM,
  33RR20070204,  I08S,    34,  2,     36,     36,3,20070225,2043,-53.9517,  86.5958, 4721,      1.4,   5.0447,  33.7940,2,-999.0000,9,    306.2,2,    309.0,0,  -999.00,9,  -999.00,9,  -999.00,9,  -999.00,9,    5.079,3,    2.751,2, -999.000,5,   2122.5,2,   -999.0,9,   -999.0,9,  -999.00,9, -999.000,9, -999.000,-999.0000,9,-999.0000,  -999.00,9,  -999.00, -999.000,9, -999.000,   -999.0,9,   -999.0,  -999.00,9,-999.0000,9,-999.0000,9,-999.0000,9,-999.0000,9,-999.0000,9,-999.0000,9
  33RR20070204,  I08S,    34,  2,     35,     35,2,20070225,2043,-53.9517,  86.5958, 4721,     49.8,   4.9015,  33.7940,2,  33.7938,2,    308.5,2,    308.6,2,     4.97,2,    20.37,2,     0.24,2,     1.54,2,    4.803,2,    2.694,2, -999.000,5,   2123.8,2,   2275.1,2,   -999.0,9,  -999.00,9, -999.000,9, -999.000,-999.0000,9,-999.0000,  -999.00,9,  -999.00, -999.000,9, -999.000,   -999.0,9,   -999.0,  -999.00,9,-999.0000,9,-999.0000,9,-999.0000,9,-999.0000,9,-999.0000,9,-999.0000,9
  33RR20070204,  I08S,    34,  2,     34,   9433,2,20070225,2043,-53.9517,  86.5958, 4721,     74.4,   4.0913,  33.8315,2,  33.8312,2,    304.7,2,    304.4,2,     8.47,2,    23.47,2,     0.27,2,     1.71,2,    5.064,2,    2.804,2, -999.000,5,   2138.4,2,   2273.8,2,   -999.0,9,  -999.00,9, -999.000,9, -999.000,-999.0000,9,-999.0000,  -999.00,9,  -999.00, -999.000,9, -999.000,   -999.0,9,   -999.0,  -999.00,9,-999.0000,9,-999.0000,9,-999.0000,9,-999.0000,9,-999.0000,9,-999.0000,9
  33RR20070204,  I08S,    34,  2,     33,     33,2,20070225,2043,-53.9517,  86.5958, 4721,     99.2,   3.5287,  33.8620,2,  33.8619,2,    300.2,2,    301.0,2,    11.56,2,    26.12,2,     0.19,2,     1.83,2,    5.206,2,    2.897,2, -999.000,5,   2148.8,2,   2270.5,2,   -999.0,9,  -999.00,9, -999.000,9, -999.000,-999.0000,9,-999.0000,  -999.00,9,  -999.00, -999.000,9, -999.000,   -999.0,9,   -999.0,  -999.00,9,-999.0000,9,-999.0000,9,-999.0000,9,-999.0000,9,-999.0000,9,-999.0000,9
  33RR20070204,  I08S,    34,  2,     32,     32,2,20070225,2043,-53.9517,  86.5958, 4721,    124.2,   3.4169,  33.9074,2,  33.9064,2,    298.2,2,    296.8,2,    13.64,2,    26.83,2,     0.08,2,     1.85,2,    5.145,2,    2.832,2, -999.000,5,   2154.1,2,   2272.1,2,   -999.0,9,  -999.00,9, -999.000,9, -999.000,-999.0000,9,-999.0000,  -999.00,9,  -999.00, -999.000,9, -999.000,   -999.0,9,   -999.0,  -999.00,9,-999.0000,9,-999.0000,9,-999.0000,9,-999.0000,9,-999.0000,9,-999.0000,9
  33RR20070204,  I08S,    34,  2,     31,     31,2,20070225,2043,-53.9517,  86.5958, 4721,    174.5,   3.0291,  34.0041,2,  33.9961,2,    283.4,2,    284.2,2,    19.59,2,    28.73,2,     0.02,2,     1.96,2,    4.830,2,    2.606,2, -999.000,5,   2166.5,2,   2275.2,2,   -999.0,9,  -999.00,9, -999.000,9, -999.000,-999.0000,9,-999.0000,  -999.00,9,  -999.00, -999.000,9, -999.000,   -999.0,9,   -999.0,  -999.00,9,-999.0000,9,-999.0000,9,-999.0000,9,-999.0000,9,-999.0000,9,-999.0000,9
  33RR20070204,  I08S,    34,  2,     30,     30,2,20070225,2043,-53.9517,  86.5958, 4721,    224.5,   3.0377,  34.1074,2,  34.1009,2,    269.8,2,    263.5,2,    24.12,2,    29.76,2,     0.01,2,     2.03,2,    4.289,2,    2.269,2, -999.000,5,   2178.1,2,   2279.1,2,   -999.0,9,  -999.00,9, -999.000,9, -999.000,-999.0000,9,-999.0000,  -999.00,9,  -999.00, -999.000,9, -999.000,   -999.0,9,   -999.0,  -999.00,9,-999.0000,9,-999.0000,9,-999.0000,9,-999.0000,9,-999.0000,9,-999.0000,9
  33RR20070204,  I08S,    34,  2,     29,     29,2,20070225,2043,-53.9517,  86.5958, 4721,    275.6,   2.8158,  34.1557,2,  34.1521,2,    248.8,2,    248.6,2,    30.30,2,    31.13,2,     0.01,2,     2.13,2,    3.767,2,    1.977,2, -999.000,5,   2189.8,2,   2284.2,2,   -999.0,9,  -999.00,9, -999.000,9, -999.000,-999.0000,9,-999.0000,  -999.00,9,  -999.00, -999.000,9, -999.000,   -999.0,9,   -999.0,  -999.00,9,-999.0000,9,-999.0000,9,-999.0000,9,-999.0000,9,-999.0000,9,-999.0000,9
  33RR20070204,  I08S,    34,  2,     28,     28,2,20070225,2043,-53.9517,  86.5958, 4721,    325.6,   2.6740,  34.1947,2,  34.1934,2,    228.2,2,    239.2,2,    35.05,2,    31.71,2,     0.01,2,     2.17,2, -999.000,9, -999.000,9, -999.000,9,   -999.0,9,   -999.0,9,   -999.0,9,  -999.00,9, -999.000,9, -999.000,-999.0000,9,-999.0000,  -999.00,9,  -999.00, -999.000,9, -999.000,   -999.0,9,   -999.0,  -999.00,9,-999.0000,9,-999.0000,9,-999.0000,9,-999.0000,9,-999.0000,9,-999.0000,9
  33RR20070204,  I08S,    34,  2,     27,     27,2,20070225,2043,-53.9517,  86.5958, 4721,    376.2,   2.9022,  34.2795,2,  34.2760,2,    217.7,2,    216.9,2,    40.43,2,    32.65,2,     0.01,2,     2.24,2,    2.628,2,    1.345,2, -999.000,5,   2208.9,2,   2294.8,2,   -999.0,9,  -999.00,9, -999.000,9, -999.000,-999.0000,9,-999.0000,  -999.00,9,  -999.00, -999.000,9, -999.000,   -999.0,9,   -999.0,  -999.00,9,-999.0000,9,-999.0000,9,-999.0000,9,-999.0000,9,-999.0000,9,-999.0000,9
  33RR20070204,  I08S,    34,  2,     26,     26,2,20070225,2043,-53.9517,  86.5958, 4721,    426.2,   2.7049,  34.3109,2,  34.3060,2,    208.9,2,    210.0,2,    46.22,2,    33.24,2,     0.01,2,     2.29,2, -999.000,9, -999.000,9, -999.000,9,   -999.0,9,   -999.0,9,   -999.0,9,  -999.00,9, -999.000,9, -999.000,-999.0000,9,-999.0000,  -999.00,9,  -999.00, -999.000,9, -999.000,   -999.0,9,   -999.0,  -999.00,9,-999.0000,9,-999.0000,9,-999.0000,9,-999.0000,9,-999.0000,9,-999.0000,9
  33RR20070204,  I08S,    34,  2,     25,     25,2,20070225,2043,-53.9517,  86.5958, 4721,    476.3,   2.7379,  34.3618,2,  34.3613,2,    197.5,2,    198.5,2,    51.20,2,    33.68,2,     0.01,2,     2.32,2,    1.842,2,    0.945,2, -999.000,5,   2226.8,2,   2305.9,2,   -999.0,9,  -999.00,9, -999.000,9, -999.000,-999.0000,9,-999.0000,  -999.00,9,  -999.00, -999.000,9, -999.000,   -999.0,9,   -999.0,  -999.00,9,-999.0000,9,-999.0000,9,-999.0000,9,-999.0000,9,-999.0000,9,-999.0000,9
  33RR20070204,  I08S,    34,  2,     24,     24,2,20070225,2043,-53.9517,  86.5958, 4721,    526.2,   2.6352,  34.3964,2,  34.3959,2,    193.6,2,    192.9,2,    55.57,2,    34.02,2,     0.02,2,     2.34,2, -999.000,9, -999.000,9, -999.000,9,   -999.0,9,   -999.0,9,   -999.0,9,  -999.00,9, -999.000,9, -999.000,-999.0000,9,-999.0000,  -999.00,9,  -999.00, -999.000,9, -999.000,   -999.0,9,   -999.0,  -999.00,9,-999.0000,9,-999.0000,9,-999.0000,9,-999.0000,9,-999.0000,9,-999.0000,9
  33RR20070204,  I08S,    34,  2,     23,     23,2,20070225,2043,-53.9517,  86.5958, 4721,    627.0,   2.4920,  34.4653,2,  34.4644,2,    184.0,2,    183.6,2,    62.84,2,    34.23,2,     0.01,2,     2.36,2,    1.154,2,    0.600,2, -999.000,5,   2243.6,2,   2316.7,2,   -999.0,9,  -999.00,9, -999.000,9, -999.000,-999.0000,9,-999.0000,  -999.00,9,  -999.00, -999.000,9, -999.000,   -999.0,9,   -999.0,  -999.00,9,-999.0000,9,-999.0000,9,-999.0000,9,-999.0000,9,-999.0000,9,-999.0000,9
  33RR20070204,  I08S,    34,  2,     22,     22,2,20070225,2043,-53.9517,  86.5958, 4721,    727.0,   2.4243,  34.5415,2,  34.5406,2,    178.9,2,    177.3,2,    68.46,2,    34.08,2,     0.01,2,     2.35,2, -999.000,9, -999.000,9, -999.000,9,   2248.8,2,   2324.1,2,   -999.0,9,  -999.00,9, -999.000,9, -999.000,-999.0000,9,-999.0000,  -999.00,9,  -999.00, -999.000,9, -999.000,   -999.0,9,   -999.0,  -999.00,9,-999.0000,9,-999.0000,9,-999.0000,9,-999.0000,9,-999.0000,9,-999.0000,9
  33RR20070204,  I08S,    34,  2,     21,     21,2,20070225,2043,-53.9517,  86.5958, 4721,    825.8,   2.4323,  34.5943,2,  34.5942,2,    176.6,2,    175.6,2,    71.00,2,    33.44,2,     0.01,2,     2.31,2, -999.000,9, -999.000,9, -999.000,9,   2251.2,6,   2328.4,2,   -999.0,9,  -999.00,9, -999.000,9, -999.000,-999.0000,9,-999.0000,  -999.00,9,  -999.00, -999.000,9, -999.000,   -999.0,9,   -999.0,  -999.00,9,-999.0000,9,-999.0000,9,-999.0000,9,-999.0000,9,-999.0000,9,-999.0000,9
  33RR20070204,  I08S,    34,  2,     20,     20,2,20070225,2043,-53.9517,  86.5958, 4721,    923.8,   2.3679,  34.6328,2,  34.6329,2,    177.1,2,    176.7,2,    73.75,2,    32.95,2,     0.01,2,     2.28,2,    0.409,2,    0.208,2, -999.000,5,   2251.1,2,   2331.1,2,   -999.0,9,  -999.00,9, -999.000,9, -999.000,-999.0000,9,-999.0000,  -999.00,9,  -999.00, -999.000,9, -999.000,   -999.0,9,   -999.0,  -999.00,9,-999.0000,9,-999.0000,9,-999.0000,9,-999.0000,9,-999.0000,9,-999.0000,9
  33RR20070204,  I08S,    34,  2,     19,     19,2,20070225,2043,-53.9517,  86.5958, 4721,   1020.2,   2.3327,  34.6670,2,  34.6671,2,    179.4,2,    179.3,2,    74.43,2,    32.27,2,     0.01,2,     2.23,2, -999.000,9, -999.000,9, -999.000,9,   -999.0,9,   -999.0,9,   -999.0,9,  -999.00,9, -999.000,9, -999.000,-999.0000,9,-999.0000,  -999.00,9,  -999.00, -999.000,9, -999.000,   -999.0,9,   -999.0,  -999.00,9,-999.0000,9,-999.0000,9,-999.0000,9,-999.0000,9,-999.0000,9,-999.0000,9
  33RR20070204,  I08S,    34,  2,     18,     18,2,20070225,2043,-53.9517,  86.5958, 4721,   1123.2,   2.3608,  34.7078,2,  34.7083,2,    183.9,2,    185.5,2,    73.26,2,    31.05,2,     0.01,2,     2.14,2, -999.000,9, -999.000,9, -999.000,9,   -999.0,9,   -999.0,9,   -999.0,9,  -999.00,9, -999.000,9, -999.000,-999.0000,9,-999.0000,  -999.00,9,  -999.00, -999.000,9, -999.000,   -999.0,9,   -999.0,  -999.00,9,-999.0000,9,-999.0000,9,-999.0000,9,-999.0000,9,-999.0000,9,-999.0000,9
  33RR20070204,  I08S,    34,  2,     17,     17,2,20070225,2043,-53.9517,  86.5958, 4721,   1228.6,   2.2694,  34.7281,2,  34.7286,2,    188.2,2,    189.1,2,    75.39,2,    30.46,2,     0.01,2,     2.10,2, -999.000,5, -999.000,5, -999.000,5,   2244.2,2,   2337.7,2,   -999.0,9,  -999.00,9, -999.000,9, -999.000,-999.0000,9,-999.0000,  -999.00,9,  -999.00, -999.000,9, -999.000,   -999.0,9,   -999.0,  -999.00,9,-999.0000,9,-999.0000,9,-999.0000,9,-999.0000,9,-999.0000,9,-999.0000,9
  33RR20070204,  I08S,    34,  2,     16,     16,2,20070225,2043,-53.9517,  86.5958, 4721,   1326.2,   2.2259,  34.7402,2,  34.7394,2,    191.2,2,    192.2,2,    76.07,2,    30.18,2,     0.00,2,     2.08,2, -999.000,9, -999.000,9, -999.000,9,   -999.0,9,   -999.0,9,   -999.0,9,  -999.00,9, -999.000,9, -999.000,-999.0000,9,-999.0000,  -999.00,9,  -999.00, -999.000,9, -999.000,   -999.0,9,   -999.0,  -999.00,9,-999.0000,9,-999.0000,9,-999.0000,9,-999.0000,9,-999.0000,9,-999.0000,9
  33RR20070204,  I08S,    34,  2,     15,     15,2,20070225,2043,-53.9517,  86.5958, 4721,   1422.6,   2.1629,  34.7477,2,  34.7484,2,    193.9,2,    194.1,2,    77.38,2,    30.03,2,     0.00,2,     2.06,2, -999.000,9, -999.000,9, -999.000,9,   -999.0,9,   -999.0,9,   -999.0,9,  -999.00,9, -999.000,9, -999.000,-999.0000,9,-999.0000,  -999.00,9,  -999.00, -999.000,9, -999.000,   -999.0,9,   -999.0,  -999.00,9,-999.0000,9,-999.0000,9,-999.0000,9,-999.0000,9,-999.0000,9,-999.0000,9
  33RR20070204,  I08S,    34,  2,     14,     14,2,20070225,2043,-53.9517,  86.5958, 4721,   1522.4,   2.0923,  34.7525,2,  34.7530,2,    196.0,2,    196.5,2,    79.52,2,    29.84,2,     0.00,2,     2.06,2, -999.000,5, -999.000,5, -999.000,5,   2242.5,2,   2341.0,2,   -999.0,9,  -999.00,9, -999.000,9, -999.000,-999.0000,9,-999.0000,  -999.00,9,  -999.00, -999.000,9, -999.000,   -999.0,9,   -999.0,  -999.00,9,-999.0000,9,-999.0000,9,-999.0000,9,-999.0000,9,-999.0000,9,-999.0000,9
  33RR20070204,  I08S,    34,  2,     13,     13,2,20070225,2043,-53.9517,  86.5958, 4721,   1621.9,   1.9721,  34.7523,2,  34.7531,2,    197.7,2,    196.8,2,    82.50,2,    29.93,2,     0.00,2,     2.06,2, -999.000,9, -999.000,9, -999.000,9,   -999.0,9,   -999.0,9,   -999.0,9,  -999.00,9, -999.000,9, -999.000,-999.0000,9,-999.0000,  -999.00,9,  -999.00, -999.000,9, -999.000,   -999.0,9,   -999.0,  -999.00,9,-999.0000,9,-999.0000,9,-999.0000,9,-999.0000,9,-999.0000,9,-999.0000,9
  33RR20070204,  I08S,    34,  2,     12,     12,2,20070225,2043,-53.9517,  86.5958, 4721,   1819.2,   1.7501,  34.7489,2,  34.7492,2,    198.7,2,    198.8,2,    88.79,2,    30.29,2,     0.00,2,     2.08,2, -999.000,9, -999.000,9, -999.000,9,   -999.0,9,   -999.0,9,   -999.0,9,  -999.00,9, -999.000,9, -999.000,-999.0000,9,-999.0000,  -999.00,9,  -999.00, -999.000,9, -999.000,   -999.0,9,   -999.0,  -999.00,9,-999.0000,9,-999.0000,9,-999.0000,9,-999.0000,9,-999.0000,9,-999.0000,9
  33RR20070204,  I08S,    34,  2,     11,     11,2,20070225,2043,-53.9517,  86.5958, 4721,   2012.0,   1.5746,  34.7452,2,  34.7459,2,    202.0,2,    201.2,2,    93.86,2,    30.43,2,     0.00,2,     2.09,2, -999.000,5, -999.000,5, -999.000,5,   2248.5,2,   2348.0,2,   -999.0,9,  -999.00,9, -999.000,9, -999.000,-999.0000,9,-999.0000,  -999.00,9,  -999.00, -999.000,9, -999.000,   -999.0,9,   -999.0,  -999.00,9,-999.0000,9,-999.0000,9,-999.0000,9,-999.0000,9,-999.0000,9,-999.0000,9
  33RR20070204,  I08S,    34,  2,     10,     10,2,20070225,2043,-53.9517,  86.5958, 4721,   2257.0,   1.2998,  34.7312,2,  34.7315,2,    203.1,2,    203.4,2,   100.20,2,    30.97,2,     0.00,2,     2.13,2, -999.000,9, -999.000,9, -999.000,9,   -999.0,9,   -999.0,9,   -999.0,9,  -999.00,9, -999.000,9, -999.000,-999.0000,9,-999.0000,  -999.00,9,  -999.00, -999.000,9, -999.000,   -999.0,9,   -999.0,  -999.00,9,-999.0000,9,-999.0000,9,-999.0000,9,-999.0000,9,-999.0000,9,-999.0000,9
  33RR20070204,  I08S,    34,  2,      9,      9,2,20070225,2043,-53.9517,  86.5958, 4721,   2510.5,   1.0642,  34.7205,2,  34.7211,2,    205.3,2,    206.0,2,   108.01,2,    31.42,2,     0.00,2,     2.17,2, -999.000,5, -999.000,5, -999.000,5,   2254.8,2,   2351.0,2,   -999.0,9,  -999.00,9, -999.000,9, -999.000,-999.0000,9,-999.0000,  -999.00,9,  -999.00, -999.000,9, -999.000,   -999.0,9,   -999.0,  -999.00,9,-999.0000,9,-999.0000,9,-999.0000,9,-999.0000,9,-999.0000,9,-999.0000,9
  33RR20070204,  I08S,    34,  2,      8,      8,2,20070225,2043,-53.9517,  86.5958, 4721,   2766.8,   0.8841,  34.7097,2,  34.7107,2,    207.6,2,    207.6,2,   113.12,2,    31.81,2,     0.00,2,     2.20,2, -999.000,9, -999.000,9, -999.000,9,   -999.0,9,   -999.0,9,   -999.0,9,  -999.00,9, -999.000,9, -999.000,-999.0000,9,-999.0000,  -999.00,9,  -999.00, -999.000,9, -999.000,   -999.0,9,   -999.0,  -999.00,9,-999.0000,9,-999.0000,9,-999.0000,9,-999.0000,9,-999.0000,9,-999.0000,9
  33RR20070204,  I08S,    34,  2,      7,      7,2,20070225,2043,-53.9517,  86.5958, 4721,   3017.1,   0.7063,  34.7001,2,  34.7001,2,    209.8,2,    210.0,2,   118.23,2,    32.15,2,     0.00,2,     2.22,2, -999.000,5, -999.000,5, -999.000,5,   2258.8,2,   2351.5,2,   -999.0,9,  -999.00,9, -999.000,9, -999.000,-999.0000,9,-999.0000,  -999.00,9,  -999.00, -999.000,9, -999.000,   -999.0,9,   -999.0,  -999.00,9,-999.0000,9,-999.0000,9,-999.0000,9,-999.0000,9,-999.0000,9,-999.0000,9
  33RR20070204,  I08S,    34,  2,      6,      6,2,20070225,2043,-53.9517,  86.5958, 4721,   3317.6,   0.5610,  34.6942,2,  34.6942,2,    214.4,2,    214.3,2,   122.51,2,    32.21,2,     0.00,2,     2.23,2, -999.000,9, -999.000,9, -999.000,9,   -999.0,9,   -999.0,9,   -999.0,9,  -999.00,9, -999.000,9, -999.000,-999.0000,9,-999.0000,  -999.00,9,  -999.00, -999.000,9, -999.000,   -999.0,9,   -999.0,  -999.00,9,-999.0000,9,-999.0000,9,-999.0000,9,-999.0000,9,-999.0000,9,-999.0000,9
  33RR20070204,  I08S,    34,  2,      5,      5,2,20070225,2043,-53.9517,  86.5958, 4721,   3615.1,   0.3912,  34.6846,2,  34.6842,2,    218.2,2,    217.7,2,   125.12,2,    32.45,2,     0.00,2,     2.25,2, -999.000,5, -999.000,5, -999.000,5,   2258.1,2,   2351.0,2,   -999.0,9,  -999.00,9, -999.000,9, -999.000,-999.0000,9,-999.0000,  -999.00,9,  -999.00, -999.000,9, -999.000,   -999.0,9,   -999.0,  -999.00,9,-999.0000,9,-999.0000,9,-999.0000,9,-999.0000,9,-999.0000,9,-999.0000,9
  33RR20070204,  I08S,    34,  2,      4,      4,2,20070225,2043,-53.9517,  86.5958, 4721,   3906.7,   0.3070,  34.6820,2,  34.6834,2,    222.3,2,    222.3,2,   126.89,2,    32.31,2,     0.00,2,     2.24,2, -999.000,5, -999.000,5, -999.000,5,   2256.4,2,   2351.7,2,   -999.0,9,  -999.00,9, -999.000,9, -999.000,-999.0000,9,-999.0000,  -999.00,9,  -999.00, -999.000,9, -999.000,   -999.0,9,   -999.0,  -999.00,9,-999.0000,9,-999.0000,9,-999.0000,9,-999.0000,9,-999.0000,9,-999.0000,9
  33RR20070204,  I08S,    34,  2,      3,      3,2,20070225,2043,-53.9517,  86.5958, 4721,   4189.7,   0.2414,  34.6780,2,  34.6783,2,    224.8,2,    224.6,2,   126.76,2,    32.37,2,     0.00,2,     2.24,2, -999.000,5, -999.000,5, -999.000,5,   2256.6,2,   2350.9,2,   -999.0,9,  -999.00,9, -999.000,9, -999.000,-999.0000,9,-999.0000,  -999.00,9,  -999.00, -999.000,9, -999.000,   -999.0,9,   -999.0,  -999.00,9,-999.0000,9,-999.0000,9,-999.0000,9,-999.0000,9,-999.0000,9,-999.0000,9
  33RR20070204,  I08S,    34,  2,      2,      2,2,20070225,2043,-53.9517,  86.5958, 4721,   4515.3,   0.2072,  34.6753,2,  34.6747,2,    226.7,2,    226.3,2,   128.11,2,    32.37,2,     0.00,2,     2.24,2, -999.000,5, -999.000,5, -999.000,5,   2256.3,2,   2350.5,2,   -999.0,9,  -999.00,9, -999.000,9, -999.000,-999.0000,9,-999.0000,  -999.00,9,  -999.00, -999.000,9, -999.000,   -999.0,9,   -999.0,  -999.00,9,-999.0000,9,-999.0000,9,-999.0000,9,-999.0000,9,-999.0000,9,-999.0000,9
  33RR20070204,  I08S,    34,  2,      1,      1,2,20070225,2043,-53.9517,  86.5958, 4721,   4873.6,   0.1942,  34.6731,2,  34.6735,2,    227.4,2,    227.9,2,   128.40,2,    32.42,2,     0.00,2,     2.24,2, -999.000,5, -999.000,5, -999.000,5,   2258.2,6,   2349.6,2,   -999.0,9,  -999.00,9, -999.000,9, -999.000,-999.0000,9,-999.0000,  -999.00,9,  -999.00, -999.000,9, -999.000,   -999.0,9,   -999.0,  -999.00,9,-999.0000,9,-999.0000,9,-999.0000,9,-999.0000,9,-999.0000,9,-999.0000,9