BOTTLE,20150626SIOCCHRJL
EXPOCODE,SECT_ID,STNNBR,CASTNO,SAMPNO,BTLNBR,BTLNBR_FLAG_W,DATE,TIME,LATITUDE,LONGITUDE,DEPTH,CTDPRS,CTDTMP,CTDSAL,CTDSAL_FLAG_W,SALNTY,SALNTY_FLAG_W,CTDOXY,CTDOXY_FLAG_W,OXYGEN,OXYGEN_FLAG_W,SILCAT,SILCAT_FLAG_W,NITRAT,NITRAT_FLAG_W,NITRIT,NITRIT_FLAG_W,PHSPHT,PHSPHT_FLAG_W,CFC-11,CFC-11_FLAG_W,CFC-12,CFC-12_FLAG_W,CFC113,CFC113_FLAG_W,TCARBN,TCARBN_FLAG_W,ALKALI,ALKALI_FLAG_W,DOC,DOC_FLAG_W,TDN,TDN_FLAG_W,TRITUM,TRITUM_FLAG_W,TRITER,HELIUM,HELIUM_FLAG_W,HELIER,DELHE3,DELHE3_FLAG_W,DELHER,NEON,NEON_FLAG_W,NEONER,DELC14,DELC14_FLAG_W,C14ERR,DELC13,DELC13_FLAG_W,CDOM325,CDOM325_FLAG_W,CDOM340,CDOM340_FLAG_W,CDOM380,CDOM380_FLAG_W,CDOM412,CDOM412_FLAG_W,CDOMSL,CDOMSL_FLAG_W,CDOMSN,CDOMSN_FLAG_W
,,,,,,,,,,,METERS,DBAR,ITS-90,PSS-78,,PSS-78,,UMOL/KG,,UMOL/KG,,UMOL/KG,,UMOL/KG,,UMOL/KG,,UMOL/KG,,PMOL/KG,,PMOL/KG,,PMOL/KG,,UMOL/KG,,UMOL/KG,,UMOL/KG,,UMOL/KG,,TU,,TU,NMOL/KG,,NMOL/KG,PERCNT,,PERCNT,NMOL/KG,,NMOL/KG,/MILLE,,/MILLE,/MILLE,,1/M,,1/M,,1/M,,1/M,,1/NM,,1/NM,
  33RR20070204,  I08S,    45,  1,     35,     35,2,20070301,0403,-49.2820,  91.2197, 3684,      6.0,   6.9861,  33.7789,2,  33.7785,2,    295.5,2,    297.5,2,     1.47,2,    17.51,2,     0.25,2,     1.35,2, -999.000,9, -999.000,9, -999.000,9,   2101.1,6,   2274.2,2,     47.8,2,    22.41,2, -999.000,9, -999.000,-999.0000,9,-999.0000,  -999.00,9,  -999.00, -999.000,9, -999.000,   -999.0,9,   -999.0,  -999.00,9,   0.0993,2,   0.0691,2,   0.0362,2,   0.0271,2,   0.0138,3,   0.0157,3
  33RR20070204,  I08S,    45,  1,     34,   9433,2,20070301,0403,-49.2820,  91.2197, 3684,     22.3,   6.9907,  33.7790,2,  33.7786,2,    296.8,2,    297.5,2,     1.25,2,    17.51,2,     0.25,2,     1.35,2, -999.000,9, -999.000,9, -999.000,9,   2101.5,2,   2272.5,2,     47.3,2,    21.78,2, -999.000,9, -999.000,-999.0000,9,-999.0000,  -999.00,9,  -999.00, -999.000,9, -999.000,    -20.0,2,      3.0,     1.86,2,   0.0980,2,   0.0678,2,   0.0352,2,   0.0264,2,   0.0140,3,   0.0160,3
  33RR20070204,  I08S,    45,  1,     33,     33,2,20070301,0403,-49.2820,  91.2197, 3684,     47.4,   6.9762,  33.7784,2,  33.7780,2,    297.2,2,    297.7,2,     1.24,2,    17.51,2,     0.25,2,     1.35,2, -999.000,9, -999.000,9, -999.000,9,   2103.9,2,   2272.5,2,     47.2,2,    22.25,2, -999.000,9, -999.000,-999.0000,9,-999.0000,  -999.00,9,  -999.00, -999.000,9, -999.000,   -999.0,9,   -999.0,  -999.00,9,   0.0973,2,   0.0673,2,   0.0352,2,   0.0266,2,   0.0139,3,   0.0159,3
  33RR20070204,  I08S,    45,  1,     32,     37,2,20070301,0403,-49.2820,  91.2197, 3684,     92.4,   6.6262,  33.7569,2,  33.7569,2,    299.1,2,    298.0,2,     1.44,2,    17.58,2,     0.23,2,     1.39,2, -999.000,9, -999.000,9, -999.000,9,   2103.4,2,   2273.0,2,     46.3,2,    22.85,2, -999.000,9, -999.000,-999.0000,9,-999.0000,  -999.00,9,  -999.00, -999.000,9, -999.000,   -999.0,9,   -999.0,  -999.00,9,   0.1012,2,   0.0704,2,   0.0376,2,   0.0280,2,   0.0140,2,   0.0156,3
  33RR20070204,  I08S,    45,  1,     31,     31,2,20070301,0403,-49.2820,  91.2197, 3684,    142.0,   5.6386,  33.9564,2,  33.9604,2,    288.8,2,    284.9,2,     4.26,2,    22.05,2,     0.01,2,     1.55,2, -999.000,9, -999.000,9, -999.000,9,   2129.3,2,   2272.0,2,     45.3,2,    25.15,2, -999.000,9, -999.000,-999.0000,9,-999.0000,  -999.00,9,  -999.00, -999.000,9, -999.000,    -15.4,2,      3.0,     1.47,2,   0.0929,2,   0.0637,2,   0.0363,2,   0.0288,2,   0.0130,3,   0.0143,3
  33RR20070204,  I08S,    45,  1,     30,     30,2,20070301,0403,-49.2820,  91.2197, 3684,    166.5,   4.4761,  33.8523,2,  33.8527,2,    283.3,2,    296.3,2,     5.06,2,    23.65,2,     0.01,2,     1.66,2, -999.000,9, -999.000,9, -999.000,9,   2131.6,2,   2270.8,2,     44.3,2,    27.23,2, -999.000,9, -999.000,-999.0000,9,-999.0000,  -999.00,9,  -999.00, -999.000,9, -999.000,   -999.0,9,   -999.0,  -999.00,9,   0.1036,2,   0.0711,2,   0.0394,2,   0.0306,2,   0.0134,3,   0.0148,3
  33RR20070204,  I08S,    45,  1,     29,     29,2,20070301,0403,-49.2820,  91.2197, 3684,    191.2,   4.5479,  33.9192,2,  33.9235,2,    287.4,2,    288.3,2,     7.69,2,    24.32,2,     0.00,2,     1.70,2, -999.000,9, -999.000,9, -999.000,9,   2138.4,2,   2270.2,2,     43.7,2,    28.08,2, -999.000,9, -999.000,-999.0000,9,-999.0000,  -999.00,9,  -999.00, -999.000,9, -999.000,    -21.5,2,      2.7,     1.42,2,   0.0890,2,   0.0599,2,   0.0346,2,   0.0277,2,   0.0127,3,   0.0141,3
  33RR20070204,  I08S,    45,  1,     28,     28,2,20070301,0403,-49.2820,  91.2197, 3684,    241.4,   5.3773,  34.1328,2,  34.1330,2,    272.6,2,    261.3,2,    11.13,2,    24.42,2,     0.00,2,     1.69,2, -999.000,9, -999.000,9, -999.000,9,   2147.0,2,   2276.9,2,     43.2,2,    27.69,2, -999.000,9, -999.000,-999.0000,9,-999.0000,  -999.00,9,  -999.00, -999.000,9, -999.000,   -999.0,9,   -999.0,  -999.00,9,   0.0878,2,   0.0588,2,   0.0334,2,   0.0265,2,   0.0130,3,   0.0146,3
  33RR20070204,  I08S,    45,  1,     27,     27,2,20070301,0403,-49.2820,  91.2197, 3684,    291.9,   4.9303,  34.1383,2,  34.1304,2,    258.7,2,    258.2,2,    13.56,2,    25.67,2,     0.00,2,     1.77,2, -999.000,9, -999.000,9, -999.000,9,   2154.0,2,   2277.8,2,     42.8,2,    29.08,2, -999.000,9, -999.000,-999.0000,9,-999.0000,  -999.00,9,  -999.00, -999.000,9, -999.000,     -3.1,2,      2.9,     1.26,2,   0.0892,2,   0.0599,2,   0.0346,2,   0.0275,2,   0.0127,3,   0.0142,3
  33RR20070204,  I08S,    45,  1,     26,     26,2,20070301,0403,-49.2820,  91.2197, 3684,    341.4,   5.1164,  34.2202,2,  34.2199,2,    245.0,2,    241.7,2,    15.98,2,    26.44,2,     0.00,2,     1.83,2, -999.000,9, -999.000,9, -999.000,9,   -999.0,9,   -999.0,9,     42.4,2,    30.16,2, -999.000,9, -999.000,-999.0000,9,-999.0000,  -999.00,9,  -999.00, -999.000,9, -999.000,   -999.0,9,   -999.0,  -999.00,9,   0.0909,2,   0.0614,2,   0.0354,2,   0.0280,2,   0.0128,3,   0.0142,3
  33RR20070204,  I08S,    45,  1,     25,     25,2,20070301,0403,-49.2820,  91.2197, 3684,    390.6,   5.0118,  34.2631,2,  34.2615,2,    233.1,2,    232.4,2,    18.62,2,    27.50,2,     0.00,2,     1.90,2, -999.000,9, -999.000,9, -999.000,9,   2168.4,2,   2281.8,2,     41.5,2,    31.46,2, -999.000,9, -999.000,-999.0000,9,-999.0000,  -999.00,9,  -999.00, -999.000,9, -999.000,    -30.9,2,      3.7,     1.15,2,   0.0929,2,   0.0632,2,   0.0363,2,   0.0283,2,   0.0129,3,   0.0143,3
  33RR20070204,  I08S,    45,  1,     24,     24,2,20070301,0403,-49.2820,  91.2197, 3684,    441.7,   4.7128,  34.2592,2,  34.2589,2,    227.7,2,    232.5,2,    20.64,2,    28.03,2,     0.00,2,     1.94,2, -999.000,9, -999.000,9, -999.000,9,   -999.0,9,   -999.0,9,     41.7,2,    31.69,2, -999.000,9, -999.000,-999.0000,9,-999.0000,  -999.00,9,  -999.00, -999.000,9, -999.000,   -999.0,9,   -999.0,  -999.00,9,   0.0894,2,   0.0593,2,   0.0336,2,   0.0262,2,   0.0131,3,   0.0149,3
  33RR20070204,  I08S,    45,  1,     23,     23,2,20070301,0403,-49.2820,  91.2197, 3684,    491.3,   4.7271,  34.2956,2,  34.2948,2,    222.9,2,    224.5,2,    23.47,2,    28.61,2,     0.00,2,     1.97,2, -999.000,9, -999.000,9, -999.000,9,   2176.6,2,   2286.8,2,     41.7,2,    31.70,2, -999.000,9, -999.000,-999.0000,9,-999.0000,  -999.00,9,  -999.00, -999.000,9, -999.000,    -38.9,2,      3.2,     1.10,2,   0.0985,2,   0.0674,2,   0.0396,2,   0.0310,2,   0.0125,3,   0.0137,3
  33RR20070204,  I08S,    45,  1,     22,     22,2,20070301,0403,-49.2820,  91.2197, 3684,    574.9,   4.0061,  34.2694,2,  34.2671,2,    222.6,2,    226.4,2,    28.55,2,    29.88,2,     0.00,2,     2.07,2, -999.000,9, -999.000,9, -999.000,9,   -999.0,9,   -999.0,9,     41.5,2,    32.14,2, -999.000,9, -999.000,-999.0000,9,-999.0000,  -999.00,9,  -999.00, -999.000,9, -999.000,   -999.0,9,   -999.0,  -999.00,9,   0.0924,2,   0.0617,2,   0.0348,2,   0.0268,2,   0.0132,3,   0.0149,3
  33RR20070204,  I08S,    45,  1,     21,     21,2,20070301,0403,-49.2820,  91.2197, 3684,    677.0,   3.6146,  34.2980,2,  34.2975,2,    219.1,2,    216.0,2,    35.47,2,    31.19,2,     0.00,2,     2.17,2, -999.000,9, -999.000,9, -999.000,9,   2197.9,2,   2298.2,2,     41.2,2,    33.28,2, -999.000,9, -999.000,-999.0000,9,-999.0000,  -999.00,9,  -999.00, -999.000,9, -999.000,    -73.6,2,      2.7,     0.98,2,   0.0988,2,   0.0667,2,   0.0379,2,   0.0291,2,   0.0133,3,   0.0148,3
  33RR20070204,  I08S,    45,  1,     20,     20,2,20070301,0403,-49.2820,  91.2197, 3684,    777.0,   3.3153,  34.3379,2,  34.3375,2,    205.1,2,    204.6,2,    43.21,2,    32.41,2,     0.00,2,     2.25,2, -999.000,9, -999.000,9, -999.000,9,   -999.0,9,   -999.0,9,     41.2,2,    35.21,2, -999.000,9, -999.000,-999.0000,9,-999.0000,  -999.00,9,  -999.00, -999.000,9, -999.000,   -999.0,9,   -999.0,  -999.00,9,   0.1048,2,   0.0713,2,   0.0408,2,   0.0312,2,   0.0133,3,   0.0146,3
  33RR20070204,  I08S,    45,  1,     19,     19,2,20070301,0403,-49.2820,  91.2197, 3684,    877.8,   3.0271,  34.3796,2,  34.3800,2,    194.7,2,    195.0,2,    50.77,2,    33.28,2,     0.00,2,     2.32,2, -999.000,9, -999.000,9, -999.000,9,   2222.0,2,   2311.2,2,     41.0,2,    35.71,2, -999.000,9, -999.000,-999.0000,9,-999.0000,  -999.00,9,  -999.00, -999.000,9, -999.000,   -103.7,2,      2.9,     0.79,2,   0.1084,2,   0.0738,2,   0.0419,2,   0.0316,2,   0.0135,3,   0.0148,3
  33RR20070204,  I08S,    45,  1,     18,     18,2,20070301,0403,-49.2820,  91.2197, 3684,    977.4,   3.0434,  34.4583,2,  34.4577,2,    183.0,2,    182.7,2,    57.30,2,    33.53,2,     0.00,2,     2.34,2, -999.000,9, -999.000,9, -999.000,9,   -999.0,9,   -999.0,9,     40.4,2,    35.83,2, -999.000,9, -999.000,-999.0000,9,-999.0000,  -999.00,9,  -999.00, -999.000,9, -999.000,   -999.0,9,   -999.0,  -999.00,9,   0.1140,2,   0.0782,2,   0.0442,2,   0.0331,2,   0.0137,3,   0.0149,3
  33RR20070204,  I08S,    45,  1,     17,     17,2,20070301,0403,-49.2820,  91.2197, 3684,   1079.2,   2.9114,  34.5034,2,  34.5026,2,    177.9,2,    177.9,2,    62.00,2,    33.67,2,     0.00,2,     2.35,2, -999.000,9, -999.000,9, -999.000,9,   -999.0,9,   -999.0,9,     41.0,2,    35.24,2, -999.000,9, -999.000,-999.0000,9,-999.0000,  -999.00,9,  -999.00, -999.000,9, -999.000,   -999.0,9,   -999.0,  -999.00,9,   0.1182,2,   0.0813,2,   0.0459,2,   0.0341,2,   0.0137,3,   0.0148,3
  33RR20070204,  I08S,    45,  1,     16,     16,2,20070301,0403,-49.2820,  91.2197, 3684,   1179.0,   2.8435,  34.5478,2,  34.5480,2,    175.5,2,    175.5,2,    65.27,2,    33.43,2,     0.00,2,     2.34,2, -999.000,9, -999.000,9, -999.000,9,   2242.0,6,   2328.6,2,   -999.0,9,  -999.00,9, -999.000,9, -999.000,-999.0000,9,-999.0000,  -999.00,9,  -999.00, -999.000,9, -999.000,   -131.0,2,      3.0,     0.64,2,   0.1204,2,   0.0830,2,   0.0460,2,   0.0338,2,   0.0140,3,   0.0152,3
  33RR20070204,  I08S,    45,  1,     15,     15,2,20070301,0403,-49.2820,  91.2197, 3684,   1280.7,   2.6724,  34.5782,2,  34.5780,2,    175.2,2,    175.5,2,    67.11,2,    33.33,2,     0.00,2,     2.33,2, -999.000,9, -999.000,9, -999.000,9,   -999.0,9,   -999.0,9,   -999.0,9,  -999.00,9, -999.000,9, -999.000,-999.0000,9,-999.0000,  -999.00,9,  -999.00, -999.000,9, -999.000,   -999.0,9,   -999.0,  -999.00,9,   0.1216,2,   0.0838,2,   0.0465,2,   0.0342,2,   0.0140,3,   0.0152,3
  33RR20070204,  I08S,    45,  1,     14,     14,2,20070301,0403,-49.2820,  91.2197, 3684,   1381.3,   2.6175,  34.6116,2,  34.6119,2,    176.0,2,    175.9,2,    70.17,2,    32.94,2,     0.00,2,     2.29,2, -999.000,9, -999.000,9, -999.000,9,   -999.0,9,   -999.0,9,   -999.0,9,  -999.00,9, -999.000,9, -999.000,-999.0000,9,-999.0000,  -999.00,9,  -999.00, -999.000,9, -999.000,   -999.0,9,   -999.0,  -999.00,9,   0.1227,2,   0.0845,2,   0.0465,2,   0.0337,2,   0.0141,2,   0.0154,3
  33RR20070204,  I08S,    45,  1,     13,     13,2,20070301,0403,-49.2820,  91.2197, 3684,   1483.0,   2.5690,  34.6485,2,  34.6487,2,    178.4,2,    178.6,2,    71.59,2,    32.30,2,     0.00,2,     2.24,2, -999.000,9, -999.000,9, -999.000,9,   2244.5,2,   2335.7,2,   -999.0,9,  -999.00,9, -999.000,9, -999.000,-999.0000,9,-999.0000,  -999.00,9,  -999.00, -999.000,9, -999.000,   -134.8,2,      3.4,     0.60,2,   0.1237,2,   0.0854,2,   0.0469,2,   0.0343,2,   0.0140,2,   0.0153,3
  33RR20070204,  I08S,    45,  1,     12,     12,2,20070301,0403,-49.2820,  91.2197, 3684,   1583.1,   2.5050,  34.6764,2,  34.6759,2,    181.0,2,    181.0,2,    72.60,2,    31.66,2,     0.00,2,     2.20,2, -999.000,9, -999.000,9, -999.000,9,   -999.0,9,   -999.0,9,   -999.0,9,  -999.00,9, -999.000,9, -999.000,-999.0000,9,-999.0000,  -999.00,9,  -999.00, -999.000,9, -999.000,   -999.0,9,   -999.0,  -999.00,9,   0.1247,2,   0.0866,2,   0.0473,2,   0.0342,2,   0.0142,2,   0.0154,3
  33RR20070204,  I08S,    45,  1,     11,     11,2,20070301,0403,-49.2820,  91.2197, 3684,   1684.9,   2.4510,  34.6961,2,  34.6960,2,    183.9,2,    183.7,2,    73.62,2,    31.27,2,     0.00,2,     2.16,2, -999.000,9, -999.000,9, -999.000,9,   -999.0,9,   -999.0,9,   -999.0,9,  -999.00,9, -999.000,9, -999.000,-999.0000,9,-999.0000,  -999.00,9,  -999.00, -999.000,9, -999.000,   -999.0,9,   -999.0,  -999.00,9,   0.1245,2,   0.0864,2,   0.0471,2,   0.0344,2,   0.0142,2,   0.0154,3
  33RR20070204,  I08S,    45,  1,     10,     10,2,20070301,0403,-49.2820,  91.2197, 3684,   1785.2,   2.4059,  34.7183,2,  34.7183,2,    187.5,2,    187.5,2,    74.02,2,    30.60,2,     0.00,2,     2.12,2, -999.000,9, -999.000,9, -999.000,9,   2241.0,2,   2341.7,2,   -999.0,9,  -999.00,9, -999.000,9, -999.000,-999.0000,9,-999.0000,  -999.00,9,  -999.00, -999.000,9, -999.000,   -139.8,2,      2.4,     0.77,3,   0.1257,2,   0.0874,2,   0.0476,2,   0.0343,2,   0.0142,2,   0.0155,3
  33RR20070204,  I08S,    45,  1,      9,      9,2,20070301,0403,-49.2820,  91.2197, 3684,   1886.8,   2.3393,  34.7330,2,  34.7326,2,    190.2,2,    190.8,2,    75.23,2,    30.06,2,     0.00,2,     2.09,2, -999.000,9, -999.000,9, -999.000,9,   -999.0,9,   -999.0,9,   -999.0,9,  -999.00,9, -999.000,9, -999.000,-999.0000,9,-999.0000,  -999.00,9,  -999.00, -999.000,9, -999.000,   -999.0,9,   -999.0,  -999.00,9,   0.1265,2,   0.0880,2,   0.0480,2,   0.0346,2,   0.0141,2,   0.0154,3
  33RR20070204,  I08S,    45,  1,      8,      8,2,20070301,0403,-49.2820,  91.2197, 3684,   1987.6,   2.2661,  34.7438,2,  34.7432,2,    192.1,2,    193.3,2,    76.65,2,    29.96,2,     0.00,2,     2.07,2, -999.000,9, -999.000,9, -999.000,9,   -999.0,9,   -999.0,9,   -999.0,9,  -999.00,9, -999.000,9, -999.000,-999.0000,9,-999.0000,  -999.00,9,  -999.00, -999.000,9, -999.000,   -999.0,9,   -999.0,  -999.00,9,   0.1306,2,   0.0914,2,   0.0498,2,   0.0358,2,   0.0141,2,   0.0153,3
  33RR20070204,  I08S,    45,  1,      7,      7,2,20070301,0403,-49.2820,  91.2197, 3684,   2190.5,   2.0893,  34.7541,2,  34.7534,2,    196.1,2,    196.8,2,    81.38,2,    29.72,2,     0.00,2,     2.06,2, -999.000,9, -999.000,9, -999.000,9,   2241.4,2,   2347.9,2,   -999.0,9,  -999.00,9, -999.000,9, -999.000,-999.0000,9,-999.0000,  -999.00,9,  -999.00, -999.000,9, -999.000,   -142.2,2,      3.6,     0.65,2,   0.1271,2,   0.0884,2,   0.0481,2,   0.0350,2,   0.0141,2,   0.0154,3
  33RR20070204,  I08S,    45,  1,      6,      6,2,20070301,0403,-49.2820,  91.2197, 3684,   2444.6,   1.8849,  34.7556,2,  34.7555,2,    199.6,2,    199.5,2,    87.95,2,    29.82,2,     0.00,2,     2.06,2, -999.000,9, -999.000,9, -999.000,9,   -999.0,9,   -999.0,9,   -999.0,9,  -999.00,9, -999.000,9, -999.000,-999.0000,9,-999.0000,  -999.00,9,  -999.00, -999.000,9, -999.000,   -999.0,9,   -999.0,  -999.00,9,   0.1258,2,   0.0873,2,   0.0469,2,   0.0338,2,   0.0143,2,   0.0157,3
  33RR20070204,  I08S,    45,  1,      5,      5,2,20070301,0403,-49.2820,  91.2197, 3684,   2697.7,   1.5951,  34.7456,2,  34.7445,2,    202.3,2,    201.5,2,    97.44,2,    30.35,2,     0.00,2,     2.10,2, -999.000,9, -999.000,9, -999.000,9,   2250.0,2,   2357.7,2,   -999.0,9,  -999.00,9, -999.000,9, -999.000,-999.0000,9,-999.0000,  -999.00,9,  -999.00, -999.000,9, -999.000,   -149.7,2,      3.4,     0.61,2,   0.1248,2,   0.0866,2,   0.0475,2,   0.0346,2,   0.0141,2,   0.0153,3
  33RR20070204,  I08S,    45,  1,      4,      4,2,20070301,0403,-49.2820,  91.2197, 3684,   2951.2,   1.3223,  34.7325,2,  34.7311,2,    204.9,2,    204.0,2,   106.33,2,    30.83,2,     0.00,2,     2.14,2, -999.000,9, -999.000,9, -999.000,9,   -999.0,9,   -999.0,9,   -999.0,9,  -999.00,9, -999.000,9, -999.000,-999.0000,9,-999.0000,  -999.00,9,  -999.00, -999.000,9, -999.000,   -999.0,9,   -999.0,  -999.00,9,   0.1243,2,   0.0862,2,   0.0465,2,   0.0335,2,   0.0143,2,   0.0156,3
  33RR20070204,  I08S,    45,  1,      3,      3,2,20070301,0403,-49.2820,  91.2197, 3684,   3206.6,   1.1226,  34.7223,2,  34.7212,2,    207.4,2,    206.6,2,   112.96,2,    31.22,2,     0.00,2,     2.17,2, -999.000,9, -999.000,9, -999.000,9,   2255.9,2,   2360.2,2,   -999.0,9,  -999.00,9, -999.000,9, -999.000,-999.0000,9,-999.0000,  -999.00,9,  -999.00, -999.000,9, -999.000,   -155.2,2,      2.8,     0.60,2,   0.1248,2,   0.0865,2,   0.0473,2,   0.0343,2,   0.0143,2,   0.0155,3
  33RR20070204,  I08S,    45,  1,      2,      2,2,20070301,0403,-49.2820,  91.2197, 3684,   3509.7,   0.8222,  34.7071,2,  34.7061,2,    212.2,2,    211.5,2,   120.43,2,    31.66,2,     0.00,2,     2.20,2, -999.000,9, -999.000,9, -999.000,9,   2257.5,2,   2358.3,2,   -999.0,9,  -999.00,9, -999.000,9, -999.000,-999.0000,9,-999.0000,  -999.00,9,  -999.00, -999.000,9, -999.000,   -149.8,2,      2.3,     0.59,2,   0.1247,2,   0.0865,2,   0.0472,2,   0.0340,2,   0.0143,2,   0.0155,3
  33RR20070204,  I08S,    45,  1,      1,      1,2,20070301,0403,-49.2820,  91.2197, 3684,   3733.9,   0.5563,  34.6939,2,  34.6928,2,    216.1,2,    216.3,2,   125.62,2,    31.96,2,     0.00,2,     2.22,2, -999.000,9, -999.000,9, -999.000,9,   2259.2,6,   2360.2,2,   -999.0,9,  -999.00,9, -999.000,9, -999.000,-999.0000,9,-999.0000,  -999.00,9,  -999.00, -999.000,9, -999.000,   -148.1,2,      2.9,     0.60,2,   0.1273,2,   0.0889,2,   0.0495,2,   0.0362,2,   0.0140,2,   0.0150,3