BOTTLE,20150626SIOCCHRJL
EXPOCODE,SECT_ID,STNNBR,CASTNO,SAMPNO,BTLNBR,BTLNBR_FLAG_W,DATE,TIME,LATITUDE,LONGITUDE,DEPTH,CTDPRS,CTDTMP,CTDSAL,CTDSAL_FLAG_W,SALNTY,SALNTY_FLAG_W,CTDOXY,CTDOXY_FLAG_W,OXYGEN,OXYGEN_FLAG_W,SILCAT,SILCAT_FLAG_W,NITRAT,NITRAT_FLAG_W,NITRIT,NITRIT_FLAG_W,PHSPHT,PHSPHT_FLAG_W,CFC-11,CFC-11_FLAG_W,CFC-12,CFC-12_FLAG_W,CFC113,CFC113_FLAG_W,TCARBN,TCARBN_FLAG_W,ALKALI,ALKALI_FLAG_W,DOC,DOC_FLAG_W,TDN,TDN_FLAG_W,TRITUM,TRITUM_FLAG_W,TRITER,HELIUM,HELIUM_FLAG_W,HELIER,DELHE3,DELHE3_FLAG_W,DELHER,NEON,NEON_FLAG_W,NEONER,DELC14,DELC14_FLAG_W,C14ERR,DELC13,DELC13_FLAG_W,CDOM325,CDOM325_FLAG_W,CDOM340,CDOM340_FLAG_W,CDOM380,CDOM380_FLAG_W,CDOM412,CDOM412_FLAG_W,CDOMSL,CDOMSL_FLAG_W,CDOMSN,CDOMSN_FLAG_W
,,,,,,,,,,,METERS,DBAR,ITS-90,PSS-78,,PSS-78,,UMOL/KG,,UMOL/KG,,UMOL/KG,,UMOL/KG,,UMOL/KG,,UMOL/KG,,PMOL/KG,,PMOL/KG,,PMOL/KG,,UMOL/KG,,UMOL/KG,,UMOL/KG,,UMOL/KG,,TU,,TU,NMOL/KG,,NMOL/KG,PERCNT,,PERCNT,NMOL/KG,,NMOL/KG,/MILLE,,/MILLE,/MILLE,,1/M,,1/M,,1/M,,1/M,,1/NM,,1/NM,
  33RR20070204,  I08S,    49,  2,     35,     35,2,20070302,0837,-47.5633,  92.7303, 3642,      4.8,   9.0251,  34.0899,2,  34.0851,2,    285.4,2,    286.3,2,     1.19,2,    16.43,2,     0.19,2,     1.23,2,    3.948,2,    2.276,2, -999.000,5,   2097.9,6,   2273.3,2,     48.1,2,  -999.00,9, -999.000,9, -999.000,-999.0000,9,-999.0000,  -999.00,9,  -999.00, -999.000,9, -999.000,   -999.0,9,   -999.0,  -999.00,9,   0.0815,2,   0.0545,2,   0.0264,2,   0.0204,2,   0.0140,3,   0.0177,3
  33RR20070204,  I08S,    49,  2,     34,   9419,2,20070302,0837,-47.5633,  92.7303, 3642,     30.4,   8.9377,  34.0863,2,  34.0883,2,    287.1,2,    286.7,2,     1.14,2,    16.48,2,     0.19,2,     1.22,2, -999.000,9, -999.000,9, -999.000,9,   2097.7,2,   2275.2,2,     47.1,2,  -999.00,9, -999.000,9, -999.000,-999.0000,9,-999.0000,  -999.00,9,  -999.00, -999.000,9, -999.000,     -7.3,2,      3.3,     1.79,2,   0.0825,2,   0.0546,2,   0.0270,2,   0.0207,2,   0.0139,3,   0.0175,3
  33RR20070204,  I08S,    49,  2,     33,     33,2,20070302,0837,-47.5633,  92.7303, 3642,     55.9,   8.7648,  34.0731,2,  34.0714,2,    287.5,2,    287.4,2,     1.09,2,    16.47,2,     0.19,2,     1.23,2,    3.994,2,    2.301,2, -999.000,5,   2099.8,2,   2207.0,4,     47.0,2,  -999.00,9, -999.000,9, -999.000,-999.0000,9,-999.0000,  -999.00,9,  -999.00, -999.000,9, -999.000,   -999.0,9,   -999.0,  -999.00,9,   0.0816,2,   0.0545,2,   0.0276,2,   0.0211,2,   0.0137,3,   0.0169,3
  33RR20070204,  I08S,    49,  2,     32,     37,2,20070302,0837,-47.5633,  92.7303, 3642,     80.4,   8.6146,  34.0820,2,  34.0785,2,    287.4,2,    286.8,2,     1.05,2,    16.56,2,     0.19,2,     1.24,2,    4.045,2,    2.308,2, -999.000,5,   2102.1,2,   2272.2,2,     46.2,2,  -999.00,9, -999.000,9, -999.000,-999.0000,9,-999.0000,  -999.00,9,  -999.00, -999.000,9, -999.000,   -999.0,9,   -999.0,  -999.00,9,   0.0828,2,   0.0555,2,   0.0287,2,   0.0219,2,   0.0136,3,   0.0164,3
  33RR20070204,  I08S,    49,  2,     31,     31,2,20070302,0837,-47.5633,  92.7303, 3642,    105.6,   7.6486,  34.1004,2,  34.0963,2,    286.2,2,    286.1,2,     1.42,2,    16.94,2,     0.30,2,     1.33,2,    4.241,2,    2.436,2, -999.000,5,   2110.4,2,   2273.7,2,     45.2,2,  -999.00,9, -999.000,9, -999.000,-999.0000,9,-999.0000,  -999.00,9,  -999.00, -999.000,9, -999.000,     -3.0,2,      2.8,     1.59,2,   0.0884,2,   0.0607,2,   0.0328,2,   0.0254,2,   0.0136,3,   0.0154,3
  33RR20070204,  I08S,    49,  2,     30,     30,2,20070302,0837,-47.5633,  92.7303, 3642,    155.5,   6.0233,  34.1669,2,  34.1639,2,    272.9,2,    277.8,2,     8.08,2,    22.07,2,     0.01,2,     1.54,2,    4.376,2,    2.444,2, -999.000,5,   2135.2,2,   2274.0,2,     44.7,2,  -999.00,9, -999.000,9, -999.000,-999.0000,9,-999.0000,  -999.00,9,  -999.00, -999.000,9, -999.000,     -0.5,2,      3.6,     1.37,2,   0.0812,2,   0.0535,2,   0.0298,2,   0.0238,2,   0.0130,3,   0.0152,3
  33RR20070204,  I08S,    49,  2,     29,     29,2,20070302,0837,-47.5633,  92.7303, 3642,    205.9,   5.7930,  34.1911,2,  34.1872,2,    265.3,2,    266.8,2,    10.34,2,    23.20,2,     0.01,2,     1.61,2,    4.166,2,    2.320,2, -999.000,5,   2143.0,2,   2275.6,2,     43.9,2,  -999.00,9, -999.000,9, -999.000,-999.0000,9,-999.0000,  -999.00,9,  -999.00, -999.000,9, -999.000,     -5.7,2,      3.5,     1.30,2,   0.0820,2,   0.0542,2,   0.0307,2,   0.0244,2,   0.0130,3,   0.0150,3
  33RR20070204,  I08S,    49,  2,     28,     28,2,20070302,0837,-47.5633,  92.7303, 3642,    256.2,   5.5765,  34.2247,2,  34.2242,2,    259.4,2,    250.2,2,    13.23,2,    24.75,2,     0.01,2,     1.71,2,    3.939,2,    2.154,2, -999.000,5,   2154.7,2,   2279.1,2,     43.3,2,  -999.00,9, -999.000,9, -999.000,-999.0000,9,-999.0000,  -999.00,9,  -999.00, -999.000,9, -999.000,    -14.9,2,      3.3,     1.20,2,   0.0858,2,   0.0572,2,   0.0323,2,   0.0256,2,   0.0131,3,   0.0149,3
  33RR20070204,  I08S,    49,  2,     27,     27,2,20070302,0837,-47.5633,  92.7303, 3642,    306.2,   4.9885,  34.1930,2,  34.1933,2,    251.3,2,    250.8,2,    15.49,2,    26.16,2,     0.01,2,     1.80,2,    3.967,2,    2.150,2, -999.000,5,   2161.3,2,   2279.3,2,     42.8,2,  -999.00,9, -999.000,9, -999.000,-999.0000,9,-999.0000,  -999.00,9,  -999.00, -999.000,9, -999.000,    -23.8,2,      2.8,     1.20,2,   0.0878,2,   0.0586,2,   0.0333,2,   0.0264,2,   0.0131,3,   0.0147,3
  33RR20070204,  I08S,    49,  2,     26,     26,2,20070302,0837,-47.5633,  92.7303, 3642,    357.1,   4.6011,  34.1894,2,  34.1853,2,    245.7,2,    249.5,2,    17.75,2,    27.09,2,     0.00,2,     1.87,2,    3.936,2,    2.119,2, -999.000,5,   2165.9,2,   2279.2,2,     42.2,2,  -999.00,9, -999.000,9, -999.000,-999.0000,9,-999.0000,  -999.00,9,  -999.00, -999.000,9, -999.000,    -29.6,2,      3.6,     1.13,2,   0.0880,2,   0.0585,2,   0.0333,2,   0.0264,2,   0.0131,3,   0.0148,3
  33RR20070204,  I08S,    49,  2,     25,     25,2,20070302,0837,-47.5633,  92.7303, 3642,    406.6,   4.3640,  34.2010,2,  34.2000,2,    243.9,2,    244.4,2,    20.22,2,    28.07,2,     0.00,2,     1.94,2,    3.805,2,    2.025,2, -999.000,5,   2172.6,2,   2280.5,2,     41.7,2,  -999.00,9, -999.000,9, -999.000,-999.0000,9,-999.0000,  -999.00,9,  -999.00, -999.000,9, -999.000,    -39.3,2,      3.2,     1.11,2,   0.0874,2,   0.0579,2,   0.0328,2,   0.0257,2,   0.0132,3,   0.0150,3
  33RR20070204,  I08S,    49,  2,     24,     24,2,20070302,0837,-47.5633,  92.7303, 3642,    456.8,   4.1198,  34.2125,2,  34.2087,2,    242.8,2,    242.0,2,    22.91,2,    28.80,2,     0.00,2,     1.99,2,    3.663,2,    1.932,2, -999.000,5,   2176.8,2,   2282.8,2,     41.6,2,  -999.00,9, -999.000,9, -999.000,-999.0000,9,-999.0000,  -999.00,9,  -999.00, -999.000,9, -999.000,    -41.0,2,      2.6,     1.09,2,   0.0909,2,   0.0604,2,   0.0344,2,   0.0271,2,   0.0131,3,   0.0148,3
  33RR20070204,  I08S,    49,  2,     23,     23,2,20070302,0837,-47.5633,  92.7303, 3642,    507.3,   3.8639,  34.2264,2,  34.2226,2,    224.7,2,    237.4,2,    26.02,2,    31.25,3,     0.01,2,     2.04,2,    3.443,2,    1.810,2, -999.000,5,   2183.8,2,   2285.5,2,     41.3,2,  -999.00,9, -999.000,9, -999.000,-999.0000,9,-999.0000,  -999.00,9,  -999.00, -999.000,9, -999.000,    -50.5,2,      3.1,     1.04,2,   0.0892,2,   0.0592,2,   0.0332,2,   0.0258,2,   0.0134,3,   0.0153,3
  33RR20070204,  I08S,    49,  2,     22,     22,2,20070302,0837,-47.5633,  92.7303, 3642,    607.7,   3.7574,  34.3000,2,  34.2978,2,    216.0,2,    217.0,2,    33.96,2,    30.86,2,     0.01,2,     2.15,2,    2.566,2,    1.313,2, -999.000,5,   2196.4,2,   2293.6,2,     41.3,2,  -999.00,9, -999.000,9, -999.000,-999.0000,9,-999.0000,  -999.00,9,  -999.00, -999.000,9, -999.000,    -65.1,2,      3.0,     0.93,2,   0.0964,2,   0.0644,2,   0.0364,2,   0.0278,2,   0.0135,3,   0.0151,3
  33RR20070204,  I08S,    49,  2,     21,     21,2,20070302,0837,-47.5633,  92.7303, 3642,    708.8,   3.4720,  34.3391,2,  34.3363,2,    206.6,2,    205.6,2,    41.29,2,    32.04,2,     0.00,2,     2.23,2,    2.038,2,    1.038,2, -999.000,5,   2209.4,2,   2297.8,2,     41.0,2,  -999.00,9, -999.000,9, -999.000,-999.0000,9,-999.0000,  -999.00,9,  -999.00, -999.000,9, -999.000,   -108.8,2,      3.0,     0.88,2,   0.0999,2,   0.0671,2,   0.0375,2,   0.0281,2,   0.0138,4,   0.0154,4
  33RR20070204,  I08S,    49,  2,     20,     20,2,20070302,0837,-47.5633,  92.7303, 3642,    807.4,   3.1576,  34.3731,2,  34.3713,2,    198.2,2,    197.2,2,    48.43,2,    32.92,2,     0.00,2,     2.30,2,    1.688,2,    0.866,2, -999.000,5,   2220.4,2,   2306.7,2,     41.2,2,  -999.00,9, -999.000,9, -999.000,-999.0000,9,-999.0000,  -999.00,9,  -999.00, -999.000,9, -999.000,   -102.8,2,      2.8,     0.79,2,   0.1050,2,   0.0708,2,   0.0395,2,   0.0294,2,   0.0139,3,   0.0154,3
  33RR20070204,  I08S,    49,  2,     19,     19,2,20070302,0837,-47.5633,  92.7303, 3642,    908.5,   3.0170,  34.4297,2,  34.4283,2,    188.9,2,    186.4,2,    54.92,2,    33.51,2,     0.00,2,     2.35,2,    1.214,2,    0.621,2, -999.000,5,   2231.2,2,   2314.4,2,     41.2,2,  -999.00,9, -999.000,9, -999.000,-999.0000,9,-999.0000,  -999.00,9,  -999.00, -999.000,9, -999.000,   -139.3,2,      2.4,     0.70,2,   0.1113,2,   0.0758,2,   0.0422,2,   0.0312,2,   0.0140,4,   0.0153,4
  33RR20070204,  I08S,    49,  2,     18,     18,2,20070302,0837,-47.5633,  92.7303, 3642,   1009.8,   2.8136,  34.4759,2,  34.4739,2,    181.8,2,    180.7,2,    61.01,2,    33.85,2,     0.00,2,     2.36,2,    0.942,2,    0.486,2, -999.000,5,   2238.8,2,   2318.4,2,     41.0,2,  -999.00,9, -999.000,9, -999.000,-999.0000,9,-999.0000,  -999.00,9,  -999.00, -999.000,9, -999.000,   -142.7,2,      2.2,     0.62,2,   0.1163,2,   0.0796,2,   0.0445,2,   0.0329,2,   0.0141,3,   0.0152,3
  33RR20070204,  I08S,    49,  2,     17,     17,2,20070302,0837,-47.5633,  92.7303, 3642,   1110.6,   2.7363,  34.5257,2,  34.5233,2,    177.2,2,    176.7,2,    65.20,2,    33.70,2,     0.00,2,     2.36,2,    0.686,2,    0.348,2, -999.000,5,   2244.4,2,   2323.5,2,     41.1,2,  -999.00,9, -999.000,9, -999.000,-999.0000,9,-999.0000,  -999.00,9,  -999.00, -999.000,9, -999.000,   -135.1,2,      3.1,     0.59,2,   0.1177,2,   0.0805,2,   0.0444,2,   0.0325,2,   0.0142,3,   0.0155,4
  33RR20070204,  I08S,    49,  2,     16,     16,2,20070302,0837,-47.5633,  92.7303, 3642,   1210.9,   2.6354,  34.5710,2,  34.5695,2,    175.9,2,    175.6,2,    68.33,2,    33.45,2,     0.00,2,     2.34,2,    0.522,2,    0.263,2, -999.000,5,   2246.5,6,   2327.9,2,     40.9,2,  -999.00,9, -999.000,9, -999.000,-999.0000,9,-999.0000,  -999.00,9,  -999.00, -999.000,9, -999.000,   -135.4,2,      2.5,     0.53,2,   0.1213,2,   0.0830,2,   0.0455,2,   0.0336,2,   0.0141,3,   0.0154,3
  33RR20070204,  I08S,    49,  2,     15,     15,2,20070302,0837,-47.5633,  92.7303, 3642,   1312.4,   2.5930,  34.6123,2,  34.6102,2,    176.3,2,    176.8,2,    70.18,2,    32.85,2,     0.00,2,     2.30,2,    0.377,2,    0.190,2, -999.000,5,   2247.4,2,   2330.5,2,     41.4,2,  -999.00,9, -999.000,9, -999.000,-999.0000,9,-999.0000,  -999.00,9,  -999.00, -999.000,9, -999.000,   -145.7,2,      2.7,     0.52,2,   0.1232,2,   0.0849,2,   0.0465,2,   0.0339,2,   0.0143,2,   0.0155,3
  33RR20070204,  I08S,    49,  2,     14,     14,2,20070302,0837,-47.5633,  92.7303, 3642,   1412.8,   2.5148,  34.6472,2,  34.6459,2,    178.0,2,    178.2,2,    71.62,2,    32.30,2,     0.00,2,     2.26,2,    0.302,2,    0.149,2, -999.000,5,   2247.9,2,   2332.5,2,     41.5,2,  -999.00,9, -999.000,9, -999.000,-999.0000,9,-999.0000,  -999.00,9,  -999.00, -999.000,9, -999.000,   -140.2,2,      2.4,     0.50,2,   0.1275,2,   0.0877,2,   0.0485,2,   0.0357,2,   0.0141,3,   0.0153,3
  33RR20070204,  I08S,    49,  2,     13,     13,2,20070302,0837,-47.5633,  92.7303, 3642,   1514.6,   2.4848,  34.6816,2,  34.6799,2,    181.3,2,    181.8,2,    72.41,2,    31.56,2,     0.00,2,     2.20,2,    0.211,2,    0.103,2, -999.000,5,   2245.4,2,   2334.5,2,     41.0,2,  -999.00,9, -999.000,9, -999.000,-999.0000,9,-999.0000,  -999.00,9,  -999.00, -999.000,9, -999.000,   -142.0,2,      2.4,     0.58,2,   0.1269,2,   0.0875,2,   0.0479,2,   0.0350,2,   0.0141,3,   0.0154,3
  33RR20070204,  I08S,    49,  2,     12,     12,2,20070302,0837,-47.5633,  92.7303, 3642,   1615.6,   2.4262,  34.7036,2,  34.7022,2,    184.0,2,    185.0,2,    73.63,2,    31.02,2,     0.00,2,     2.17,2,    0.170,2,    0.081,2, -999.000,5,   2243.4,2,   2335.7,2,     41.3,2,  -999.00,9, -999.000,9, -999.000,-999.0000,9,-999.0000,  -999.00,9,  -999.00, -999.000,9, -999.000,   -139.3,2,      2.7,     0.60,2,   0.1231,2,   0.0846,2,   0.0457,2,   0.0329,2,   0.0144,2,   0.0158,3
  33RR20070204,  I08S,    49,  2,     11,     11,2,20070302,0837,-47.5633,  92.7303, 3642,   1715.8,   2.3648,  34.7224,2,  34.7216,2,    187.5,2,    188.1,2,    74.43,2,    30.62,2,     0.00,2,     2.13,2,    0.141,2,    0.066,2, -999.000,5,   2242.7,2,   2338.2,2,     41.2,2,  -999.00,9, -999.000,9, -999.000,-999.0000,9,-999.0000,  -999.00,9,  -999.00, -999.000,9, -999.000,   -143.3,2,      2.6,     0.63,2,   0.1269,2,   0.0877,2,   0.0475,2,   0.0346,2,   0.0142,2,   0.0156,3
  33RR20070204,  I08S,    49,  2,     10,     10,2,20070302,0837,-47.5633,  92.7303, 3642,   1816.8,   2.3045,  34.7350,2,  34.7340,2,    190.2,2,    191.0,2,    75.66,2,    30.22,2,     0.00,2,     2.10,2,    0.122,2,    0.057,2, -999.000,5,   2241.2,2,   2339.2,2,     40.8,2,  -999.00,9, -999.000,9, -999.000,-999.0000,9,-999.0000,  -999.00,9,  -999.00, -999.000,9, -999.000,   -151.0,2,      2.6,     0.62,2,   0.1229,2,   0.0845,2,   0.0450,2,   0.0323,2,   0.0144,2,   0.0160,3
  33RR20070204,  I08S,    49,  2,      9,      9,2,20070302,0837,-47.5633,  92.7303, 3642,   1917.5,   2.2296,  34.7452,2,  34.7441,2,    192.8,2,    193.3,2,    77.09,2,    29.98,2,     0.00,2,     2.09,2,    0.103,2,    0.050,2, -999.000,5,   2240.8,2,   2341.4,2,     40.8,2,  -999.00,9, -999.000,9, -999.000,-999.0000,9,-999.0000,  -999.00,9,  -999.00, -999.000,9, -999.000,   -148.1,2,      2.6,     0.62,2,   0.1240,2,   0.0855,2,   0.0457,2,   0.0328,2,   0.0145,2,   0.0159,3
  33RR20070204,  I08S,    49,  2,      8,      8,2,20070302,0837,-47.5633,  92.7303, 3642,   2018.8,   2.1632,  34.7495,2,  34.7482,2,    194.2,2,    194.8,2,    78.96,2,    29.93,2,     0.00,2,     2.08,2, -999.000,9, -999.000,9, -999.000,9,   2240.2,2,   2342.2,2,     40.3,2,  -999.00,9, -999.000,9, -999.000,-999.0000,9,-999.0000,  -999.00,9,  -999.00, -999.000,9, -999.000,   -146.7,2,      2.3,     0.64,2,   0.1242,2,   0.0855,2,   0.0460,2,   0.0331,2,   0.0143,2,   0.0158,3
  33RR20070204,  I08S,    49,  2,      7,      7,2,20070302,0837,-47.5633,  92.7303, 3642,   2272.0,   1.9602,  34.7553,2,  34.7537,2,    197.9,2,    198.1,2,    85.29,2,    29.87,2,     0.00,2,     2.07,2,    0.095,2,    0.045,2, -999.000,5,   2243.2,2,   2346.2,2,     40.2,2,  -999.00,9, -999.000,9, -999.000,-999.0000,9,-999.0000,  -999.00,9,  -999.00, -999.000,9, -999.000,   -156.0,2,      2.9,     0.64,2,   0.1325,2,   0.0923,2,   0.0502,2,   0.0366,2,   0.0143,2,   0.0154,3
  33RR20070204,  I08S,    49,  2,      6,      6,2,20070302,0837,-47.5633,  92.7303, 3642,   2524.2,   1.6949,  34.7492,2,  34.7471,0,    200.1,2,    200.5,2,    94.39,2,    30.31,2,     0.00,2,     2.11,2,    0.080,2,    0.037,2, -999.000,5,   2249.5,6,   2352.2,2,     40.6,2,  -999.00,9, -999.000,9, -999.000,-999.0000,9,-999.0000,  -999.00,9,  -999.00, -999.000,9, -999.000,   -155.7,2,      2.6,     0.64,2,   0.1242,2,   0.0856,2,   0.0460,2,   0.0332,2,   0.0143,2,   0.0158,3
  33RR20070204,  I08S,    49,  2,      5,      5,2,20070302,0837,-47.5633,  92.7303, 3642,   2778.2,   1.4091,  34.7368,2,  34.7356,2,    202.6,2,    203.6,2,   103.32,2,    30.80,2,     0.00,2,     2.15,2,    0.094,2,    0.044,2, -999.000,5,   2251.3,2,   2355.5,2,     41.3,2,  -999.00,9, -999.000,9, -999.000,-999.0000,9,-999.0000,  -999.00,9,  -999.00, -999.000,9, -999.000,   -160.5,2,      2.6,     0.61,2,   0.1242,2,   0.0856,2,   0.0463,2,   0.0334,2,   0.0144,2,   0.0157,3
  33RR20070204,  I08S,    49,  2,      4,      4,2,20070302,0837,-47.5633,  92.7303, 3642,   3032.5,   1.1893,  34.7256,2,  34.7238,0,    205.4,2,    205.5,2,   110.12,2,    31.29,2,     0.00,2,     2.17,2,    0.141,2,    0.067,2, -999.000,5,   2253.9,2,   2357.2,2,     40.2,2,  -999.00,9, -999.000,9, -999.000,-999.0000,9,-999.0000,  -999.00,9,  -999.00, -999.000,9, -999.000,   -161.5,2,      2.6,     0.59,2,   0.1274,2,   0.0880,2,   0.0482,2,   0.0354,2,   0.0141,3,   0.0154,3
  33RR20070204,  I08S,    49,  2,      3,      3,2,20070302,0837,-47.5633,  92.7303, 3642,   3286.9,   1.0471,  34.7181,2,  34.7164,0,    207.8,2,    207.5,2,   114.56,2,    31.43,2,     0.00,2,     2.19,2,    0.207,2,    0.099,2, -999.000,5,   2254.6,2,   2357.3,2,     40.0,2,  -999.00,9, -999.000,9, -999.000,-999.0000,9,-999.0000,  -999.00,9,  -999.00, -999.000,9, -999.000,   -162.2,2,      1.8,     0.54,2,   0.1304,2,   0.0906,2,   0.0501,2,   0.0373,2,   0.0139,3,   0.0149,3
  33RR20070204,  I08S,    49,  2,      2,      2,2,20070302,0837,-47.5633,  92.7303, 3642,   3540.3,   1.0049,  34.7151,2,  34.7126,0,    209.1,2,    208.5,2,   116.66,2,    31.53,2,     0.00,2,     2.20,2,    0.240,2,    0.115,2, -999.000,5,   2257.4,6,   2356.4,2,     40.2,2,  -999.00,9, -999.000,9, -999.000,-999.0000,9,-999.0000,  -999.00,9,  -999.00, -999.000,9, -999.000,   -163.5,2,      2.5,     0.54,2,   0.1259,2,   0.0866,2,   0.0469,2,   0.0342,2,   0.0143,2,   0.0156,3
  33RR20070204,  I08S,    49,  2,      1,      1,2,20070302,0837,-47.5633,  92.7303, 3642,   3684.5,   1.0139,  34.7148,2,  34.7130,0,    208.7,2,    208.6,2,   117.04,2,    31.68,2,     0.00,2,     2.20,2,    0.240,2,    0.117,2, -999.000,5,   2256.0,2,   2356.9,2,     40.8,2,  -999.00,9, -999.000,9, -999.000,-999.0000,9,-999.0000,  -999.00,9,  -999.00, -999.000,9, -999.000,   -155.6,2,      2.4,     0.54,2,   0.1265,2,   0.0874,2,   0.0469,2,   0.0338,2,   0.0144,2,   0.0158,3