BOTTLE,20150626SIOCCHRJL
EXPOCODE,SECT_ID,STNNBR,CASTNO,SAMPNO,BTLNBR,BTLNBR_FLAG_W,DATE,TIME,LATITUDE,LONGITUDE,DEPTH,CTDPRS,CTDTMP,CTDSAL,CTDSAL_FLAG_W,SALNTY,SALNTY_FLAG_W,CTDOXY,CTDOXY_FLAG_W,OXYGEN,OXYGEN_FLAG_W,SILCAT,SILCAT_FLAG_W,NITRAT,NITRAT_FLAG_W,NITRIT,NITRIT_FLAG_W,PHSPHT,PHSPHT_FLAG_W,CFC-11,CFC-11_FLAG_W,CFC-12,CFC-12_FLAG_W,CFC113,CFC113_FLAG_W,TCARBN,TCARBN_FLAG_W,ALKALI,ALKALI_FLAG_W,DOC,DOC_FLAG_W,TDN,TDN_FLAG_W,TRITUM,TRITUM_FLAG_W,TRITER,HELIUM,HELIUM_FLAG_W,HELIER,DELHE3,DELHE3_FLAG_W,DELHER,NEON,NEON_FLAG_W,NEONER,DELC14,DELC14_FLAG_W,C14ERR,DELC13,DELC13_FLAG_W,CDOM325,CDOM325_FLAG_W,CDOM340,CDOM340_FLAG_W,CDOM380,CDOM380_FLAG_W,CDOM412,CDOM412_FLAG_W,CDOMSL,CDOMSL_FLAG_W,CDOMSN,CDOMSN_FLAG_W
,,,,,,,,,,,METERS,DBAR,ITS-90,PSS-78,,PSS-78,,UMOL/KG,,UMOL/KG,,UMOL/KG,,UMOL/KG,,UMOL/KG,,UMOL/KG,,PMOL/KG,,PMOL/KG,,PMOL/KG,,UMOL/KG,,UMOL/KG,,UMOL/KG,,UMOL/KG,,TU,,TU,NMOL/KG,,NMOL/KG,PERCNT,,PERCNT,NMOL/KG,,NMOL/KG,/MILLE,,/MILLE,/MILLE,,1/M,,1/M,,1/M,,1/M,,1/NM,,1/NM,
  33RR20070204,  I08S,    67,  1,     35,     35,2,20070307,1538,-38.9895,  94.9878, 3634,      9.4,  13.2915,  34.6989,2,  34.6989,2,    259.4,2,    260.0,2,     0.17,2,     6.12,2,     0.16,2,     0.58,2,    3.116,2,    1.853,2, -999.000,5,   2069.6,6,   2293.1,2,     55.2,2,    10.27,2, -999.000,9, -999.000,-999.0000,9,-999.0000,  -999.00,9,  -999.00, -999.000,9, -999.000,   -999.0,9,   -999.0,  -999.00,9,-999.0000,9,-999.0000,9,-999.0000,9,-999.0000,9,-999.0000,9,-999.0000,9
  33RR20070204,  I08S,    67,  1,     34,   9419,2,20070307,1538,-38.9895,  94.9878, 3634,     30.6,  13.2724,  34.7005,2,  34.7003,2,    260.4,2,    259.9,2,     0.23,2,     6.16,2,     0.16,2,     0.59,2,    3.079,2,    1.814,2, -999.000,5,   2070.4,2,   2293.9,2,     53.8,2,    11.03,2, -999.000,9, -999.000,-999.0000,9,-999.0000,  -999.00,9,  -999.00, -999.000,9, -999.000,     39.0,2,      2.3,     1.59,2,-999.0000,9,-999.0000,9,-999.0000,9,-999.0000,9,-999.0000,9,-999.0000,9
  33RR20070204,  I08S,    67,  1,     33,     33,2,20070307,1538,-38.9895,  94.9878, 3634,     55.4,  12.1675,  34.7427,2,  34.7398,2,    259.8,2,    259.7,2,     0.90,2,     7.50,2,     0.30,2,     0.71,2,    3.314,2,    1.947,2, -999.000,5,   2087.6,2,   2295.3,2,     52.0,2,    11.98,2, -999.000,9, -999.000,-999.0000,9,-999.0000,  -999.00,9,  -999.00, -999.000,9, -999.000,   -999.0,9,   -999.0,  -999.00,9,-999.0000,9,-999.0000,9,-999.0000,9,-999.0000,9,-999.0000,9,-999.0000,9
  33RR20070204,  I08S,    67,  1,     32,     37,2,20070307,1538,-38.9895,  94.9878, 3634,     80.5,  11.0656,  34.7677,2,  34.7606,2,    257.2,2,    259.2,2,     1.94,2,     9.57,2,     0.95,2,     0.82,2,    3.482,2,    2.031,2, -999.000,5,   2100.1,2,   2292.4,2,     49.2,2,    15.34,2, -999.000,9, -999.000,-999.0000,9,-999.0000,  -999.00,9,  -999.00, -999.000,9, -999.000,     56.7,2,      3.9,     1.32,2,-999.0000,9,-999.0000,9,-999.0000,9,-999.0000,9,-999.0000,9,-999.0000,9
  33RR20070204,  I08S,    67,  1,     31,     31,2,20070307,1538,-38.9895,  94.9878, 3634,    104.8,  10.8567,  34.8042,2,  34.8043,2,    255.9,2,    257.6,2,     2.40,2,    11.05,2,     0.02,2,     0.84,2,    3.471,2,    2.024,2, -999.000,5,   2105.9,2,   2294.2,2,     48.1,2,    15.49,2, -999.000,9, -999.000,-999.0000,9,-999.0000,  -999.00,9,  -999.00, -999.000,9, -999.000,     53.1,2,      2.9,     1.22,2,-999.0000,9,-999.0000,9,-999.0000,9,-999.0000,9,-999.0000,9,-999.0000,9
  33RR20070204,  I08S,    67,  1,     30,     30,2,20070307,1538,-38.9895,  94.9878, 3634,    156.2,  10.7164,  34.8092,2,  34.8092,2,    258.0,2,    258.4,2,     2.47,2,    11.38,2,     0.01,2,     0.86,2,    3.505,2,    2.034,2, -999.000,5,   2106.7,2,   2294.8,2,     47.3,2,    15.10,2, -999.000,9, -999.000,-999.0000,9,-999.0000,  -999.00,9,  -999.00, -999.000,9, -999.000,     48.4,2,      4.0,     1.21,2,-999.0000,9,-999.0000,9,-999.0000,9,-999.0000,9,-999.0000,9,-999.0000,9
  33RR20070204,  I08S,    67,  1,     29,     29,2,20070307,1538,-38.9895,  94.9878, 3634,    206.4,  10.5402,  34.7856,2,  34.7854,2,    257.9,2,    259.3,2,     2.54,2,    11.79,2,     0.01,2,     0.89,2,    3.466,2,    2.011,2, -999.000,5,   2106.7,2,   2293.9,2,     47.0,2,    15.26,2, -999.000,9, -999.000,-999.0000,9,-999.0000,  -999.00,9,  -999.00, -999.000,9, -999.000,     44.9,2,      3.3,     1.21,2,-999.0000,9,-999.0000,9,-999.0000,9,-999.0000,9,-999.0000,9,-999.0000,9
  33RR20070204,  I08S,    67,  1,     28,     28,2,20070307,1538,-38.9895,  94.9878, 3634,    255.8,  10.3849,  34.7694,2,  34.7689,2,    259.1,2,    259.3,2,     2.81,2,    12.17,2,     0.01,2,     0.92,2,    3.536,2,    2.050,2, -999.000,5,   2109.9,2,   2294.0,2,     45.8,2,    15.72,2, -999.000,9, -999.000,-999.0000,9,-999.0000,  -999.00,9,  -999.00, -999.000,9, -999.000,     36.9,2,      3.6,     1.24,2,-999.0000,9,-999.0000,9,-999.0000,9,-999.0000,9,-999.0000,9,-999.0000,9
  33RR20070204,  I08S,    67,  1,     27,     27,2,20070307,1538,-38.9895,  94.9878, 3634,    306.3,  10.2907,  34.7624,2,  34.7610,2,    260.3,2,    259.8,2,     2.68,2,    12.21,2,     0.01,2,     0.92,2,    3.538,2,    2.056,2, -999.000,5,   2108.5,2,   2293.3,2,     45.0,2,    15.82,2, -999.000,9, -999.000,-999.0000,9,-999.0000,  -999.00,9,  -999.00, -999.000,9, -999.000,     41.7,2,      3.2,     1.24,2,-999.0000,9,-999.0000,9,-999.0000,9,-999.0000,9,-999.0000,9,-999.0000,9
  33RR20070204,  I08S,    67,  1,     26,     26,2,20070307,1538,-38.9895,  94.9878, 3634,    356.5,  10.2359,  34.7576,2,  34.7577,2,    257.4,2,    262.9,0,     2.55,2,    11.99,2,     0.00,2,     0.90,2,    3.538,2,    2.056,2, -999.000,5,   2106.7,2,   2293.5,2,     44.2,2,    15.14,2, -999.000,9, -999.000,-999.0000,9,-999.0000,  -999.00,9,  -999.00, -999.000,9, -999.000,     38.7,2,      2.8,     1.33,2,-999.0000,9,-999.0000,9,-999.0000,9,-999.0000,9,-999.0000,9,-999.0000,9
  33RR20070204,  I08S,    67,  1,     25,     25,2,20070307,1538,-38.9895,  94.9878, 3634,    407.3,  10.2340,  34.7680,2,  34.7677,2,    251.8,2,    254.6,2,     3.21,2,    12.97,2,     0.01,2,     0.96,2,    3.556,2,    2.039,2, -999.000,5,   2112.3,2,   2292.5,2,     43.8,2,    16.08,2, -999.000,9, -999.000,-999.0000,9,-999.0000,  -999.00,9,  -999.00, -999.000,9, -999.000,     39.5,2,      3.2,     1.23,2,-999.0000,9,-999.0000,9,-999.0000,9,-999.0000,9,-999.0000,9,-999.0000,9
  33RR20070204,  I08S,    67,  1,     24,     24,2,20070307,1538,-38.9895,  94.9878, 3634,    456.0,  10.0694,  34.7612,2,  34.7612,2,    249.5,2,    249.8,2,     3.48,2,    13.76,2,     0.00,2,     1.01,2,    3.525,2,    2.016,2, -999.000,5,   2117.2,2,   2292.1,2,     43.3,2,    16.81,2, -999.000,9, -999.000,-999.0000,9,-999.0000,  -999.00,9,  -999.00, -999.000,9, -999.000,     46.5,2,      3.0,     1.19,2,-999.0000,9,-999.0000,9,-999.0000,9,-999.0000,9,-999.0000,9,-999.0000,9
  33RR20070204,  I08S,    67,  1,     23,     23,2,20070307,1538,-38.9895,  94.9878, 3634,    505.2,   9.9324,  34.7542,2,  34.7591,2,    248.2,2,    245.7,2,     3.74,2,    14.31,2,     0.00,2,     1.04,2,    3.538,2,    1.982,2, -999.000,5,   2120.5,2,   2292.2,2,     42.5,2,    16.87,2, -999.000,9, -999.000,-999.0000,9,-999.0000,  -999.00,9,  -999.00, -999.000,9, -999.000,     47.5,2,      3.1,     1.22,2,-999.0000,9,-999.0000,9,-999.0000,9,-999.0000,9,-999.0000,9,-999.0000,9
  33RR20070204,  I08S,    67,  1,     22,     22,2,20070307,1538,-38.9895,  94.9878, 3634,    606.5,   9.2861,  34.6645,2,  34.6649,2,    239.7,2,    238.7,2,     4.99,2,    16.60,2,     0.00,2,     1.18,2,    3.520,2,    1.944,2, -999.000,5,   2127.4,2,   2289.1,2,     41.6,2,    19.23,2, -999.000,9, -999.000,-999.0000,9,-999.0000,  -999.00,9,  -999.00, -999.000,9, -999.000,     36.5,2,      2.8,     1.20,2,-999.0000,9,-999.0000,9,-999.0000,9,-999.0000,9,-999.0000,9,-999.0000,9
  33RR20070204,  I08S,    67,  1,     21,     21,2,20070307,1538,-38.9895,  94.9878, 3634,    706.2,   8.5570,  34.5931,2,  34.5928,2,    219.9,2,    221.7,2,     7.63,2,    19.75,2,     0.00,2,     1.38,2,    3.194,2,    1.703,2, -999.000,5,   2140.4,2,   2285.9,2,     41.1,2,    22.43,2, -999.000,9, -999.000,-999.0000,9,-999.0000,  -999.00,9,  -999.00, -999.000,9, -999.000,     24.5,2,      3.1,     1.22,2,-999.0000,9,-999.0000,9,-999.0000,9,-999.0000,9,-999.0000,9,-999.0000,9
  33RR20070204,  I08S,    67,  1,     20,     20,2,20070307,1538,-38.9895,  94.9878, 3634,    806.1,   7.2296,  34.4813,2,  34.4820,2,    209.8,2,    209.8,2,    13.62,2,    23.85,2,     0.00,2,     1.64,2, -999.000,9, -999.000,9, -999.000,9,   2160.2,2,   2284.5,2,     41.4,2,    26.63,2, -999.000,9, -999.000,-999.0000,9,-999.0000,  -999.00,9,  -999.00, -999.000,9, -999.000,      0.4,2,      3.0,     1.15,2,-999.0000,9,-999.0000,9,-999.0000,9,-999.0000,9,-999.0000,9,-999.0000,9
  33RR20070204,  I08S,    67,  1,     19,     19,2,20070307,1538,-38.9895,  94.9878, 3634,    908.5,   5.8776,  34.3848,2,  34.3855,2,    209.0,2,    209.6,2,    19.43,2,    26.97,2,     0.00,2,     1.86,2,    2.514,2,    1.276,2, -999.000,5,   2176.6,2,   2286.0,2,     41.2,2,    29.34,2, -999.000,9, -999.000,-999.0000,9,-999.0000,  -999.00,9,  -999.00, -999.000,9, -999.000,    -31.5,2,      2.8,     1.09,2,-999.0000,9,-999.0000,9,-999.0000,9,-999.0000,9,-999.0000,9,-999.0000,9
  33RR20070204,  I08S,    67,  1,     18,     18,2,20070307,1538,-38.9895,  94.9878, 3634,   1009.1,   4.6891,  34.3298,2,  34.3307,2,    211.6,2,    214.1,2,    26.23,2,    29.05,2,     0.00,2,     2.01,2,    2.465,2,    1.250,2, -999.000,5,   2187.9,2,   2288.9,2,     40.9,2,    30.45,2, -999.000,9, -999.000,-999.0000,9,-999.0000,  -999.00,9,  -999.00, -999.000,9, -999.000,    -49.7,2,      3.4,     1.01,2,-999.0000,9,-999.0000,9,-999.0000,9,-999.0000,9,-999.0000,9,-999.0000,9
  33RR20070204,  I08S,    67,  1,     17,     17,2,20070307,1538,-38.9895,  94.9878, 3634,   1108.8,   4.0802,  34.3286,2,  34.3289,2,    210.7,2,    210.8,2,    32.66,2,    30.39,2,     0.00,2,     2.11,2,    2.187,2,    1.090,2, -999.000,5,   2198.5,2,   2293.8,2,     40.8,2,    31.85,2, -999.000,9, -999.000,-999.0000,9,-999.0000,  -999.00,9,  -999.00, -999.000,9, -999.000,    -67.9,2,      2.5,     0.93,2,-999.0000,9,-999.0000,9,-999.0000,9,-999.0000,9,-999.0000,9,-999.0000,9
  33RR20070204,  I08S,    67,  1,     16,     16,2,20070307,1538,-38.9895,  94.9878, 3634,   1209.8,   3.6557,  34.3651,2,  34.3655,2,    200.5,2,    198.8,2,    41.28,2,    31.76,2,     0.00,2,     2.21,2,    1.636,2,    0.826,2, -999.000,5,   2213.8,2,   2303.0,2,     40.7,2,    33.38,2, -999.000,9, -999.000,-999.0000,9,-999.0000,  -999.00,9,  -999.00, -999.000,9, -999.000,    -87.0,2,      2.8,     0.83,2,-999.0000,9,-999.0000,9,-999.0000,9,-999.0000,9,-999.0000,9,-999.0000,9
  33RR20070204,  I08S,    67,  1,     15,     15,2,20070307,1538,-38.9895,  94.9878, 3634,   1310.1,   3.3642,  34.4071,2,  34.4063,2,    190.3,2,    188.4,2,    49.12,2,    32.76,2,     0.00,2,     2.28,2,    1.118,2,    0.565,2, -999.000,5,   2226.1,2,   2309.7,2,     40.5,2,    34.15,2, -999.000,9, -999.000,-999.0000,9,-999.0000,  -999.00,9,  -999.00, -999.000,9, -999.000,   -104.4,2,      2.4,     0.72,2,-999.0000,9,-999.0000,9,-999.0000,9,-999.0000,9,-999.0000,9,-999.0000,9
  33RR20070204,  I08S,    67,  1,     14,     14,2,20070307,1538,-38.9895,  94.9878, 3634,   1412.2,   3.1146,  34.4632,2,  34.4636,2,    180.0,2,    178.4,2,    57.79,2,    33.34,2,     0.00,2,     2.33,2,    0.702,2,    0.360,2, -999.000,5,   2238.2,2,   2318.1,2,     40.2,2,    35.15,2, -999.000,9, -999.000,-999.0000,9,-999.0000,  -999.00,9,  -999.00, -999.000,9, -999.000,   -124.4,2,      3.6,     0.63,2,-999.0000,9,-999.0000,9,-999.0000,9,-999.0000,9,-999.0000,9,-999.0000,9
  33RR20070204,  I08S,    67,  1,     13,     13,2,20070307,1538,-38.9895,  94.9878, 3634,   1512.5,   2.9132,  34.5090,2,  34.5105,2,    175.3,2,    174.4,2,    63.27,2,    33.57,2,     0.00,2,     2.34,2,    0.506,2,    0.259,2, -999.000,5,   2244.7,2,   2323.6,2,     40.5,2,    35.03,2, -999.000,9, -999.000,-999.0000,9,-999.0000,  -999.00,9,  -999.00, -999.000,9, -999.000,   -132.2,2,      2.9,     0.56,2,-999.0000,9,-999.0000,9,-999.0000,9,-999.0000,9,-999.0000,9,-999.0000,9
  33RR20070204,  I08S,    67,  1,     12,     12,2,20070307,1538,-38.9895,  94.9878, 3634,   1614.0,   2.7759,  34.5589,2,  34.5600,2,    172.7,2,    172.3,2,    67.36,2,    33.41,2,     0.00,2,     2.33,2, -999.000,9, -999.000,9, -999.000,9,   2249.9,2,   2329.2,2,     40.4,2,    35.10,2, -999.000,9, -999.000,-999.0000,9,-999.0000,  -999.00,9,  -999.00, -999.000,9, -999.000,   -138.5,2,      2.6,     0.55,2,-999.0000,9,-999.0000,9,-999.0000,9,-999.0000,9,-999.0000,9,-999.0000,9
  33RR20070204,  I08S,    67,  1,     11,     11,2,20070307,1538,-38.9895,  94.9878, 3634,   1713.7,   2.6793,  34.5970,2,  34.5973,2,    172.0,2,    172.4,2,    70.26,2,    32.93,2,     0.00,2,     2.30,2,    0.299,2,    0.148,2, -999.000,5,   2251.3,2,   2332.1,2,     40.7,2,    34.03,2, -999.000,9, -999.000,-999.0000,9,-999.0000,  -999.00,9,  -999.00, -999.000,9, -999.000,   -143.4,2,      3.4,     0.53,2,-999.0000,9,-999.0000,9,-999.0000,9,-999.0000,9,-999.0000,9,-999.0000,9
  33RR20070204,  I08S,    67,  1,     10,     10,2,20070307,1538,-38.9895,  94.9878, 3634,   1813.7,   2.5935,  34.6348,2,  34.6350,2,    173.4,2,    173.8,2,    72.75,2,    32.39,2,     0.00,2,     2.26,2,    0.231,2,    0.113,2, -999.000,5,   2251.6,2,   2334.1,2,     40.5,2,    33.81,2, -999.000,9, -999.000,-999.0000,9,-999.0000,  -999.00,9,  -999.00, -999.000,9, -999.000,   -140.4,2,      2.6,     0.51,2,-999.0000,9,-999.0000,9,-999.0000,9,-999.0000,9,-999.0000,9,-999.0000,9
  33RR20070204,  I08S,    67,  1,      9,      9,2,20070307,1538,-38.9895,  94.9878, 3634,   1916.0,   2.5219,  34.6649,2,  34.6661,2,    176.6,2,    175.0,2,    73.85,2,    31.82,2,     0.00,2,     2.21,2,    0.180,2,    0.087,2, -999.000,5,   2250.0,2,   2336.8,2,     41.1,2,    33.09,2, -999.000,9, -999.000,-999.0000,9,-999.0000,  -999.00,9,  -999.00, -999.000,9, -999.000,   -144.9,2,      2.8,     0.55,2,-999.0000,9,-999.0000,9,-999.0000,9,-999.0000,9,-999.0000,9,-999.0000,9
  33RR20070204,  I08S,    67,  1,      8,      8,2,20070307,1538,-38.9895,  94.9878, 3634,   2017.7,   2.4539,  34.6917,2,  34.6934,2,    180.3,2,    181.3,2,    74.15,2,    31.19,2,     0.00,2,     2.16,2,    0.148,2,    0.074,2, -999.000,5,   2248.0,2,   2337.6,2,     41.2,2,    32.66,2, -999.000,9, -999.000,-999.0000,9,-999.0000,  -999.00,9,  -999.00, -999.000,9, -999.000,   -154.2,2,      2.8,     0.56,2,-999.0000,9,-999.0000,9,-999.0000,9,-999.0000,9,-999.0000,9,-999.0000,9
  33RR20070204,  I08S,    67,  1,      7,      7,2,20070307,1538,-38.9895,  94.9878, 3634,   2270.4,   2.2567,  34.7344,2,  34.7349,2,    187.8,2,    188.3,2,    79.46,2,    30.28,2,     0.00,2,     2.09,2,    0.077,2,    0.037,2, -999.000,5,   2248.7,2,   2342.4,2,     41.0,2,    32.17,2, -999.000,9, -999.000,-999.0000,9,-999.0000,  -999.00,9,  -999.00, -999.000,9, -999.000,   -156.4,2,      2.4,     0.54,2,-999.0000,9,-999.0000,9,-999.0000,9,-999.0000,9,-999.0000,9,-999.0000,9
  33RR20070204,  I08S,    67,  1,      6,      6,2,20070307,1538,-38.9895,  94.9878, 3634,   2521.8,   2.0222,  34.7482,2,  34.7490,2,    193.0,2,    192.8,2,    86.20,2,    29.99,2,     0.00,2,     2.07,2,    0.041,2,    0.022,2, -999.000,5,   2249.7,6,   2350.3,2,     40.6,2,    31.31,2, -999.000,9, -999.000,-999.0000,9,-999.0000,  -999.00,9,  -999.00, -999.000,9, -999.000,   -152.7,2,      2.8,     0.61,2,-999.0000,9,-999.0000,9,-999.0000,9,-999.0000,9,-999.0000,9,-999.0000,9
  33RR20070204,  I08S,    67,  1,      5,      5,2,20070307,1538,-38.9895,  94.9878, 3634,   2776.7,   1.7195,  34.7452,2,  34.7463,2,    197.2,2,    197.7,2,    94.78,2,    30.32,2,     0.00,2,     2.09,2,    0.030,2,    0.016,2, -999.000,5,   2252.4,2,   2354.6,2,     40.9,2,    31.53,2, -999.000,9, -999.000,-999.0000,9,-999.0000,  -999.00,9,  -999.00, -999.000,9, -999.000,   -152.9,2,      2.9,     0.55,2,-999.0000,9,-999.0000,9,-999.0000,9,-999.0000,9,-999.0000,9,-999.0000,9
  33RR20070204,  I08S,    67,  1,      4,      4,2,20070307,1538,-38.9895,  94.9878, 3634,   3029.4,   1.4601,  34.7366,2,  34.7380,2,    201.1,2,    201.5,2,   102.58,2,    30.55,2,     0.00,2,     2.12,2,    0.051,2,    0.024,2, -999.000,5,   2255.8,2,   2356.2,2,     41.6,2,    32.02,2, -999.000,9, -999.000,-999.0000,9,-999.0000,  -999.00,9,  -999.00, -999.000,9, -999.000,   -150.0,2,      3.4,     0.54,2,-999.0000,9,-999.0000,9,-999.0000,9,-999.0000,9,-999.0000,9,-999.0000,9
  33RR20070204,  I08S,    67,  1,      3,      3,2,20070307,1538,-38.9895,  94.9878, 3634,   3283.3,   1.2644,  34.7278,2,  34.7284,2,    203.8,2,    204.0,2,   109.78,2,    30.93,2,     0.00,2,     2.14,2,    0.072,2,    0.036,2, -999.000,5,   2257.5,2,   2358.9,2,     41.2,2,    32.12,2, -999.000,9, -999.000,-999.0000,9,-999.0000,  -999.00,9,  -999.00, -999.000,9, -999.000,   -999.0,9,   -999.0,  -999.00,9,-999.0000,9,-999.0000,9,-999.0000,9,-999.0000,9,-999.0000,9,-999.0000,9
  33RR20070204,  I08S,    67,  1,      2,      2,2,20070307,1538,-38.9895,  94.9878, 3634,   3486.6,   1.1393,  34.7211,2,  34.7166,0,    205.5,2,    205.3,2,   113.75,2,    31.16,2,     0.00,2,     2.16,2,    0.076,2,    0.040,2, -999.000,5,   2259.8,2,   2360.9,2,     41.0,2,    32.41,2, -999.000,9, -999.000,-999.0000,9,-999.0000,  -999.00,9,  -999.00, -999.000,9, -999.000,   -155.1,2,      2.6,     0.52,2,-999.0000,9,-999.0000,9,-999.0000,9,-999.0000,9,-999.0000,9,-999.0000,9
  33RR20070204,  I08S,    67,  1,      1,      1,2,20070307,1538,-38.9895,  94.9878, 3634,   3689.6,   1.0580,  34.7166,2,  34.7168,2,    205.9,2,    205.6,2,   116.71,2,    31.40,2,     0.00,2,     2.18,2,    0.069,2,    0.036,2, -999.000,5,   2265.1,6,   2364.8,2,     40.4,2,    32.56,2, -999.000,9, -999.000,-999.0000,9,-999.0000,  -999.00,9,  -999.00, -999.000,9, -999.000,   -154.7,2,      2.6,     0.51,2,-999.0000,9,-999.0000,9,-999.0000,9,-999.0000,9,-999.0000,9,-999.0000,9