BOTTLE,20150626SIOCCHRJL
EXPOCODE,SECT_ID,STNNBR,CASTNO,SAMPNO,BTLNBR,BTLNBR_FLAG_W,DATE,TIME,LATITUDE,LONGITUDE,DEPTH,CTDPRS,CTDTMP,CTDSAL,CTDSAL_FLAG_W,SALNTY,SALNTY_FLAG_W,CTDOXY,CTDOXY_FLAG_W,OXYGEN,OXYGEN_FLAG_W,SILCAT,SILCAT_FLAG_W,NITRAT,NITRAT_FLAG_W,NITRIT,NITRIT_FLAG_W,PHSPHT,PHSPHT_FLAG_W,CFC-11,CFC-11_FLAG_W,CFC-12,CFC-12_FLAG_W,CFC113,CFC113_FLAG_W,TCARBN,TCARBN_FLAG_W,ALKALI,ALKALI_FLAG_W,DOC,DOC_FLAG_W,TDN,TDN_FLAG_W,TRITUM,TRITUM_FLAG_W,TRITER,HELIUM,HELIUM_FLAG_W,HELIER,DELHE3,DELHE3_FLAG_W,DELHER,NEON,NEON_FLAG_W,NEONER,DELC14,DELC14_FLAG_W,C14ERR,DELC13,DELC13_FLAG_W,CDOM325,CDOM325_FLAG_W,CDOM340,CDOM340_FLAG_W,CDOM380,CDOM380_FLAG_W,CDOM412,CDOM412_FLAG_W,CDOMSL,CDOMSL_FLAG_W,CDOMSN,CDOMSN_FLAG_W
,,,,,,,,,,,METERS,DBAR,ITS-90,PSS-78,,PSS-78,,UMOL/KG,,UMOL/KG,,UMOL/KG,,UMOL/KG,,UMOL/KG,,UMOL/KG,,PMOL/KG,,PMOL/KG,,PMOL/KG,,UMOL/KG,,UMOL/KG,,UMOL/KG,,UMOL/KG,,TU,,TU,NMOL/KG,,NMOL/KG,PERCNT,,PERCNT,NMOL/KG,,NMOL/KG,/MILLE,,/MILLE,/MILLE,,1/M,,1/M,,1/M,,1/M,,1/NM,,1/NM,
  33RR20070204,  I08S,    61,  1,     33,     33,2,20070305,1536,-42.0083,  95.0070, 3265,      3.2,  13.2364,  34.7389,2,  34.7388,2,    264.2,2,    264.0,2,     0.00,2,     6.12,2,     0.14,2,     0.56,2,    3.142,2,    1.872,2, -999.000,5,   2070.5,6,   2295.2,2,     53.2,2,    10.90,2, -999.000,9, -999.000,-999.0000,9,-999.0000,  -999.00,9,  -999.00, -999.000,9, -999.000,   -999.0,9,   -999.0,  -999.00,9,-999.0000,9,-999.0000,9,-999.0000,9,-999.0000,9,-999.0000,9,-999.0000,9
  33RR20070204,  I08S,    61,  1,     32,     37,2,20070305,1536,-42.0083,  95.0070, 3265,     30.3,  13.1760,  34.7385,2,  34.7385,2,    266.3,2,    264.4,2,     0.00,2,     6.25,2,     0.15,2,     0.57,2, -999.000,9, -999.000,9, -999.000,9,   2070.9,2,   2294.5,2,     51.5,2,    10.55,2, -999.000,9, -999.000,-999.0000,9,-999.0000,  -999.00,9,  -999.00, -999.000,9, -999.000,     35.0,2,      3.1,     1.59,2,-999.0000,9,-999.0000,9,-999.0000,9,-999.0000,9,-999.0000,9,-999.0000,9
  33RR20070204,  I08S,    61,  1,     31,     31,2,20070305,1536,-42.0083,  95.0070, 3265,     55.3,  12.8208,  34.7432,2,  34.7440,2,    265.9,2,    264.0,2,     0.00,2,     6.52,2,     0.17,2,     0.60,2,    3.186,2,    1.893,2, -999.000,5,   2074.6,2,   2295.7,2,     50.2,2,    10.71,2, -999.000,9, -999.000,-999.0000,9,-999.0000,  -999.00,9,  -999.00, -999.000,9, -999.000,     44.6,2,      3.7,     1.55,2,-999.0000,9,-999.0000,9,-999.0000,9,-999.0000,9,-999.0000,9,-999.0000,9
  33RR20070204,  I08S,    61,  1,     30,     30,2,20070305,1536,-42.0083,  95.0070, 3265,     80.3,  11.7952,  34.7376,2,  34.7367,2,    260.0,2,    259.5,2,     1.09,2,     8.17,2,     0.43,2,     0.74,2,    3.366,2,    1.982,2, -999.000,5,   2090.5,2,   2293.1,2,     49.0,2,    13.55,2, -999.000,9, -999.000,-999.0000,9,-999.0000,  -999.00,9,  -999.00, -999.000,9, -999.000,     36.9,2,      3.2,     1.44,2,-999.0000,9,-999.0000,9,-999.0000,9,-999.0000,9,-999.0000,9,-999.0000,9
  33RR20070204,  I08S,    61,  1,     29,     29,2,20070305,1536,-42.0083,  95.0070, 3265,    105.1,  11.0729,  34.7498,2,  34.7479,2,    259.3,2,    259.8,2,     1.59,2,    10.02,2,     0.63,2,     0.83,2,    3.443,2,    2.030,2, -999.000,5,   2099.1,2,   2291.1,2,     48.2,2,    15.51,2, -999.000,9, -999.000,-999.0000,9,-999.0000,  -999.00,9,  -999.00, -999.000,9, -999.000,     38.3,2,      3.4,     1.32,2,-999.0000,9,-999.0000,9,-999.0000,9,-999.0000,9,-999.0000,9,-999.0000,9
  33RR20070204,  I08S,    61,  1,     28,     28,2,20070305,1536,-42.0083,  95.0070, 3265,    155.5,  10.5800,  34.7812,2,  34.7809,2,    260.5,2,    260.8,2,     2.08,2,    11.44,2,     0.02,2,     0.86,2,    3.491,2,    2.067,2, -999.000,5,   2105.6,2,   2293.6,2,     46.7,2,    14.86,2, -999.000,9, -999.000,-999.0000,9,-999.0000,  -999.00,9,  -999.00, -999.000,9, -999.000,     51.7,2,      3.5,     1.22,2,-999.0000,9,-999.0000,9,-999.0000,9,-999.0000,9,-999.0000,9,-999.0000,9
  33RR20070204,  I08S,    61,  1,     27,     27,2,20070305,1536,-42.0083,  95.0070, 3265,    205.8,  10.4580,  34.7698,2,  34.7709,2,    260.4,2,    260.4,2,     2.37,2,    11.96,2,     0.01,2,     0.89,2,    3.505,2,    2.052,2, -999.000,5,   2107.1,2,   2290.6,2,     45.7,2,    15.61,2, -999.000,9, -999.000,-999.0000,9,-999.0000,  -999.00,9,  -999.00, -999.000,9, -999.000,     46.4,2,      3.5,     1.23,2,-999.0000,9,-999.0000,9,-999.0000,9,-999.0000,9,-999.0000,9,-999.0000,9
  33RR20070204,  I08S,    61,  1,     26,     26,2,20070305,1536,-42.0083,  95.0070, 3265,    255.5,  10.3970,  34.7759,2,  34.7760,2,    262.3,2,    259.0,2,     2.67,2,    12.29,2,     0.01,2,     0.91,2,    3.499,2,    2.052,2, -999.000,5,   2109.2,2,   2292.9,2,     45.2,2,    16.26,2, -999.000,9, -999.000,-999.0000,9,-999.0000,  -999.00,9,  -999.00, -999.000,9, -999.000,     44.5,2,      3.3,     1.21,2,-999.0000,9,-999.0000,9,-999.0000,9,-999.0000,9,-999.0000,9,-999.0000,9
  33RR20070204,  I08S,    61,  1,     25,     25,2,20070305,1536,-42.0083,  95.0070, 3265,    305.4,  10.3661,  34.7865,2,  34.7850,2,    261.9,2,    258.5,2,     2.57,2,    12.24,2,     0.01,2,     0.91,2,    3.492,2,    2.054,2, -999.000,5,   2110.7,2,   2291.9,2,     44.5,2,    16.09,2, -999.000,9, -999.000,-999.0000,9,-999.0000,  -999.00,9,  -999.00, -999.000,9, -999.000,     41.2,2,      2.8,     1.24,2,-999.0000,9,-999.0000,9,-999.0000,9,-999.0000,9,-999.0000,9,-999.0000,9
  33RR20070204,  I08S,    61,  1,     24,     24,2,20070305,1536,-42.0083,  95.0070, 3265,    355.4,  10.2738,  34.7898,2,  34.7916,0,    253.1,2,    250.9,2,     3.06,2,    13.23,2,     0.00,2,     0.96,2,    3.506,2,    2.026,2, -999.000,5,   2116.2,2,   2293.4,2,     43.8,2,    16.47,2, -999.000,9, -999.000,-999.0000,9,-999.0000,  -999.00,9,  -999.00, -999.000,9, -999.000,     44.0,2,      3.0,     1.21,2,-999.0000,9,-999.0000,9,-999.0000,9,-999.0000,9,-999.0000,9,-999.0000,9
  33RR20070204,  I08S,    61,  1,     23,     23,2,20070305,1536,-42.0083,  95.0070, 3265,    405.1,  10.0453,  34.7586,2,  34.7588,2,    253.9,2,    253.5,2,     3.16,2,    13.50,2,     0.00,2,     0.98,2,    3.548,2,    2.051,2, -999.000,5,   2116.4,2,   2291.0,2,     43.3,2,    16.57,2, -999.000,9, -999.000,-999.0000,9,-999.0000,  -999.00,9,  -999.00, -999.000,9, -999.000,     39.4,2,      3.4,     1.23,2,-999.0000,9,-999.0000,9,-999.0000,9,-999.0000,9,-999.0000,9,-999.0000,9
  33RR20070204,  I08S,    61,  1,     22,     22,2,20070305,1536,-42.0083,  95.0070, 3265,    455.2,   9.9343,  34.7524,2,  34.7521,2,    252.1,2,    252.7,2,     3.25,2,    13.79,2,     0.00,2,     1.00,2,    3.555,2,    2.054,2, -999.000,5,   2115.6,2,   2291.2,2,     42.6,2,    17.50,2, -999.000,9, -999.000,-999.0000,9,-999.0000,  -999.00,9,  -999.00, -999.000,9, -999.000,     37.7,2,      3.5,     1.21,2,-999.0000,9,-999.0000,9,-999.0000,9,-999.0000,9,-999.0000,9,-999.0000,9
  33RR20070204,  I08S,    61,  1,     21,     21,2,20070305,1536,-42.0083,  95.0070, 3265,    504.4,   9.7881,  34.7378,2,  34.7377,2,    249.4,2,    249.4,2,     3.75,2,    14.44,2,     0.00,2,     1.04,2,    3.552,2,    2.032,2, -999.000,5,   2120.3,2,   2291.0,2,     42.1,2,    17.05,2, -999.000,9, -999.000,-999.0000,9,-999.0000,  -999.00,9,  -999.00, -999.000,9, -999.000,     42.3,2,      3.0,     1.24,2,-999.0000,9,-999.0000,9,-999.0000,9,-999.0000,9,-999.0000,9,-999.0000,9
  33RR20070204,  I08S,    61,  1,     20,     20,2,20070305,1536,-42.0083,  95.0070, 3265,    605.0,   9.2866,  34.6739,2,  34.6740,2,    242.9,2,    241.6,2,     4.45,2,    16.41,2,     0.00,2,     1.15,2,    3.542,2,    1.965,2, -999.000,5,   2128.1,2,   2287.3,2,     41.6,2,    19.03,2, -999.000,9, -999.000,-999.0000,9,-999.0000,  -999.00,9,  -999.00, -999.000,9, -999.000,     32.3,2,      3.9,     1.19,2,-999.0000,9,-999.0000,9,-999.0000,9,-999.0000,9,-999.0000,9,-999.0000,9
  33RR20070204,  I08S,    61,  1,     19,     19,2,20070305,1536,-42.0083,  95.0070, 3265,    705.5,   8.4089,  34.5735,2,  34.5730,2,    224.6,2,    222.9,2,     7.52,2,    20.24,2,     0.00,2,     1.40,2,    3.196,2,    1.721,2, -999.000,5,   2143.3,2,   2283.6,2,     41.4,2,    22.71,2, -999.000,9, -999.000,-999.0000,9,-999.0000,  -999.00,9,  -999.00, -999.000,9, -999.000,     18.9,2,      2.8,     1.18,2,-999.0000,9,-999.0000,9,-999.0000,9,-999.0000,9,-999.0000,9,-999.0000,9
  33RR20070204,  I08S,    61,  1,     18,     18,2,20070305,1536,-42.0083,  95.0070, 3265,    806.4,   7.2248,  34.4770,2,  34.4754,2,    209.9,2,    208.8,2,    13.21,2,    24.31,2,     0.00,2,     1.66,2,    2.625,2,    1.381,2, -999.000,5,   2161.4,2,   2283.6,2,     40.9,2,    27.02,2, -999.000,9, -999.000,-999.0000,9,-999.0000,  -999.00,9,  -999.00, -999.000,9, -999.000,    -14.1,2,      3.9,     1.12,2,-999.0000,9,-999.0000,9,-999.0000,9,-999.0000,9,-999.0000,9,-999.0000,9
  33RR20070204,  I08S,    61,  1,     17,     17,2,20070305,1536,-42.0083,  95.0070, 3265,    907.5,   5.9645,  34.3908,2,  34.3906,2,    208.6,2,    208.7,2,    18.90,2,    27.12,2,     0.00,2,     1.86,2,    2.449,2,    1.269,2, -999.000,5,   2173.5,2,   2284.8,2,     41.0,2,    29.46,2, -999.000,9, -999.000,-999.0000,9,-999.0000,  -999.00,9,  -999.00, -999.000,9, -999.000,    -33.3,2,      2.9,     1.11,2,-999.0000,9,-999.0000,9,-999.0000,9,-999.0000,9,-999.0000,9,-999.0000,9
  33RR20070204,  I08S,    61,  1,     16,     16,2,20070305,1536,-42.0083,  95.0070, 3265,   1007.8,   4.8973,  34.3438,2,  34.3444,2,    209.8,2,    209.6,2,    25.20,2,    29.32,2,     0.00,2,     2.00,2, -999.000,5, -999.000,5, -999.000,5,   2185.8,2,   2289.0,2,     41.0,2,    30.38,2, -999.000,9, -999.000,-999.0000,9,-999.0000,  -999.00,9,  -999.00, -999.000,9, -999.000,    -45.4,2,      2.8,     1.01,2,-999.0000,9,-999.0000,9,-999.0000,9,-999.0000,9,-999.0000,9,-999.0000,9
  33RR20070204,  I08S,    61,  1,     15,     15,2,20070305,1536,-42.0083,  95.0070, 3265,   1107.4,   4.2920,  34.3431,2,  34.3430,2,    203.9,2,    205.5,2,    31.91,2,    30.71,2,     0.00,2,     2.11,2,    1.856,2,    0.939,2, -999.000,5,   2196.4,2,   2293.3,2,     40.9,2,    32.12,2, -999.000,9, -999.000,-999.0000,9,-999.0000,  -999.00,9,  -999.00, -999.000,9, -999.000,    -63.6,2,      2.9,     0.95,2,-999.0000,9,-999.0000,9,-999.0000,9,-999.0000,9,-999.0000,9,-999.0000,9
  33RR20070204,  I08S,    61,  1,     14,     14,2,20070305,1536,-42.0083,  95.0070, 3265,   1208.4,   3.7801,  34.3645,2,  34.3638,2,    198.0,2,    197.7,2,    40.03,2,    31.91,2,     0.00,2,     2.21,2,    1.465,2,    0.746,2, -999.000,5,   2210.2,2,   2299.8,2,     40.7,2,    32.98,2, -999.000,9, -999.000,-999.0000,9,-999.0000,  -999.00,9,  -999.00, -999.000,9, -999.000,    -83.7,2,      3.0,     0.88,2,-999.0000,9,-999.0000,9,-999.0000,9,-999.0000,9,-999.0000,9,-999.0000,9
  33RR20070204,  I08S,    61,  1,     13,     13,2,20070305,1536,-42.0083,  95.0070, 3265,   1310.0,   3.4289,  34.4017,2,  34.4015,2,    188.5,2,    189.2,2,    47.78,2,    33.01,2,     0.00,2,     2.28,2, -999.000,5, -999.000,5, -999.000,5,   2222.5,2,   2307.5,2,     40.9,2,    34.38,2, -999.000,9, -999.000,-999.0000,9,-999.0000,  -999.00,9,  -999.00, -999.000,9, -999.000,   -103.1,2,      2.8,     0.74,2,-999.0000,9,-999.0000,9,-999.0000,9,-999.0000,9,-999.0000,9,-999.0000,9
  33RR20070204,  I08S,    61,  1,     12,     12,2,20070305,1536,-42.0083,  95.0070, 3265,   1410.6,   3.1705,  34.4589,2,  34.4584,2,    178.2,2,    177.7,2,    56.94,2,    33.69,2,     0.00,2,     2.34,2,    0.669,2,    0.339,2, -999.000,5,   2235.3,2,   2316.7,2,     40.8,2,    34.74,2, -999.000,9, -999.000,-999.0000,9,-999.0000,  -999.00,9,  -999.00, -999.000,9, -999.000,   -123.1,2,      2.4,     0.89,4,-999.0000,9,-999.0000,9,-999.0000,9,-999.0000,9,-999.0000,9,-999.0000,9
  33RR20070204,  I08S,    61,  1,     11,     11,2,20070305,1536,-42.0083,  95.0070, 3265,   1511.2,   3.0163,  34.5003,2,  34.4998,2,    172.2,2,    172.1,2,    62.49,2,    33.87,2,     0.00,2,     2.36,2,    0.489,2,    0.249,2, -999.000,5,   2242.6,2,   2323.4,2,     40.6,2,    34.90,2, -999.000,9, -999.000,-999.0000,9,-999.0000,  -999.00,9,  -999.00, -999.000,9, -999.000,   -128.8,2,      2.9,     0.59,2,-999.0000,9,-999.0000,9,-999.0000,9,-999.0000,9,-999.0000,9,-999.0000,9
  33RR20070204,  I08S,    61,  1,     10,     10,2,20070305,1536,-42.0083,  95.0070, 3265,   1612.2,   2.8441,  34.5397,2,  34.5390,2,    174.6,2,    175.6,2,    64.01,2,    33.53,2,     0.00,2,     2.32,2,    0.530,2,    0.269,2, -999.000,5,   2246.0,2,   2324.1,2,     40.3,2,    35.39,2, -999.000,9, -999.000,-999.0000,9,-999.0000,  -999.00,9,  -999.00, -999.000,9, -999.000,   -132.4,2,      2.6,     0.57,2,-999.0000,9,-999.0000,9,-999.0000,9,-999.0000,9,-999.0000,9,-999.0000,9
  33RR20070204,  I08S,    61,  1,      9,      9,2,20070305,1536,-42.0083,  95.0070, 3265,   1712.9,   2.7023,  34.5858,2,  34.5857,2,    174.0,2,    175.7,2,    67.56,2,    33.10,2,     0.00,2,     2.29,2,    0.386,2,    0.194,2, -999.000,5,   2247.4,6,   2328.5,2,     40.6,2,    34.99,2, -999.000,9, -999.000,-999.0000,9,-999.0000,  -999.00,9,  -999.00, -999.000,9, -999.000,   -139.0,2,      2.7,     0.57,2,-999.0000,9,-999.0000,9,-999.0000,9,-999.0000,9,-999.0000,9,-999.0000,9
  33RR20070204,  I08S,    61,  1,      8,      8,2,20070305,1536,-42.0083,  95.0070, 3265,   1814.2,   2.6144,  34.6215,2,  34.6211,2,    175.2,2,    174.8,2,    70.09,2,    32.70,2,     0.00,2,     2.26,2,    0.246,2,    0.106,2, -999.000,5,   2249.8,2,   2331.9,2,     41.1,2,    34.22,2, -999.000,9, -999.000,-999.0000,9,-999.0000,  -999.00,9,  -999.00, -999.000,9, -999.000,   -135.1,2,      2.3,     0.55,2,-999.0000,9,-999.0000,9,-999.0000,9,-999.0000,9,-999.0000,9,-999.0000,9
  33RR20070204,  I08S,    61,  1,      7,      7,2,20070305,1536,-42.0083,  95.0070, 3265,   1915.0,   2.5374,  34.6556,2,  34.6556,2,    177.9,2,    178.0,2,    71.62,2,    32.07,2,     0.00,2,     2.20,2,    0.246,2,    0.120,2, -999.000,5,   2247.7,2,   2334.2,2,     40.8,2,    33.59,2, -999.000,9, -999.000,-999.0000,9,-999.0000,  -999.00,9,  -999.00, -999.000,9, -999.000,   -137.9,2,      2.6,     0.54,2,-999.0000,9,-999.0000,9,-999.0000,9,-999.0000,9,-999.0000,9,-999.0000,9
  33RR20070204,  I08S,    61,  1,      6,      6,2,20070305,1536,-42.0083,  95.0070, 3265,   2015.9,   2.4909,  34.6876,2,  34.6874,2,    182.2,2,    182.6,2,    71.73,2,    31.30,2,     0.00,2,     2.16,2,    0.187,2,    0.090,2, -999.000,5,   2246.6,2,   2335.6,2,     40.6,2,    32.64,2, -999.000,9, -999.000,-999.0000,9,-999.0000,  -999.00,9,  -999.00, -999.000,9, -999.000,   -137.7,2,      2.9,     0.56,2,-999.0000,9,-999.0000,9,-999.0000,9,-999.0000,9,-999.0000,9,-999.0000,9
  33RR20070204,  I08S,    61,  1,      5,      5,2,20070305,1536,-42.0083,  95.0070, 3265,   2268.8,   2.3244,  34.7325,2,  34.7326,2,    190.5,2,    190.5,2,    75.68,2,    30.24,2,     0.00,2,     2.08,2,    0.086,2,    0.042,2, -999.000,5,   2244.5,2,   2339.2,2,     40.8,2,    31.36,2, -999.000,9, -999.000,-999.0000,9,-999.0000,  -999.00,9,  -999.00, -999.000,9, -999.000,   -140.0,2,      2.5,     0.62,2,-999.0000,9,-999.0000,9,-999.0000,9,-999.0000,9,-999.0000,9,-999.0000,9
  33RR20070204,  I08S,    61,  1,      4,      4,2,20070305,1536,-42.0083,  95.0070, 3265,   2522.7,   2.0775,  34.7511,2,  34.7517,2,    196.3,2,    196.7,2,    82.49,2,    29.90,2,     0.00,2,     2.05,2,    0.070,2,    0.034,2, -999.000,5,   2245.2,2,   2345.2,2,     40.6,2,    31.38,2, -999.000,9, -999.000,-999.0000,9,-999.0000,  -999.00,9,  -999.00, -999.000,9, -999.000,   -146.3,2,      2.5,     0.65,2,-999.0000,9,-999.0000,9,-999.0000,9,-999.0000,9,-999.0000,9,-999.0000,9
  33RR20070204,  I08S,    61,  1,      3,      3,2,20070305,1536,-42.0083,  95.0070, 3265,   2776.3,   1.7461,  34.7475,2,  34.7479,2,    200.1,2,    199.8,2,    92.57,2,    30.28,2,     0.00,2,     2.08,2,    0.065,2,    0.031,2, -999.000,5,   2250.1,2,   2351.7,2,     41.4,2,    32.10,2, -999.000,9, -999.000,-999.0000,9,-999.0000,  -999.00,9,  -999.00, -999.000,9, -999.000,   -147.8,2,      2.3,     0.60,2,-999.0000,9,-999.0000,9,-999.0000,9,-999.0000,9,-999.0000,9,-999.0000,9
  33RR20070204,  I08S,    61,  1,      2,      2,2,20070305,1536,-42.0083,  95.0070, 3265,   3080.4,   1.4575,  34.7360,2,  34.7365,2,    202.5,2,    202.4,2,   102.89,2,    30.81,2,     0.00,2,     2.12,2,    0.079,2,    0.038,2, -999.000,5,   2254.7,2,   2356.3,2,     41.2,2,    32.14,2, -999.000,9, -999.000,-999.0000,9,-999.0000,  -999.00,9,  -999.00, -999.000,9, -999.000,   -150.4,2,      2.8,     0.61,2,-999.0000,9,-999.0000,9,-999.0000,9,-999.0000,9,-999.0000,9,-999.0000,9
  33RR20070204,  I08S,    61,  1,      1,      1,2,20070305,1536,-42.0083,  95.0070, 3265,   3313.9,   1.3703,  34.7315,2,  34.7327,2,    202.8,2,    203.2,2,   106.28,2,    31.00,2,     0.00,2,     2.14,2,    0.086,2,    0.043,2, -999.000,5,   2257.7,6,   2356.8,2,     40.8,2,    32.19,2, -999.000,9, -999.000,-999.0000,9,-999.0000,  -999.00,9,  -999.00, -999.000,9, -999.000,   -150.0,2,      2.7,     0.59,2,-999.0000,9,-999.0000,9,-999.0000,9,-999.0000,9,-999.0000,9,-999.0000,9