BOTTLE,20150626SIOCCHRJL
EXPOCODE,SECT_ID,STNNBR,CASTNO,SAMPNO,BTLNBR,BTLNBR_FLAG_W,DATE,TIME,LATITUDE,LONGITUDE,DEPTH,CTDPRS,CTDTMP,CTDSAL,CTDSAL_FLAG_W,SALNTY,SALNTY_FLAG_W,CTDOXY,CTDOXY_FLAG_W,OXYGEN,OXYGEN_FLAG_W,SILCAT,SILCAT_FLAG_W,NITRAT,NITRAT_FLAG_W,NITRIT,NITRIT_FLAG_W,PHSPHT,PHSPHT_FLAG_W,CFC-11,CFC-11_FLAG_W,CFC-12,CFC-12_FLAG_W,CFC113,CFC113_FLAG_W,TCARBN,TCARBN_FLAG_W,ALKALI,ALKALI_FLAG_W,DOC,DOC_FLAG_W,TDN,TDN_FLAG_W,TRITUM,TRITUM_FLAG_W,TRITER,HELIUM,HELIUM_FLAG_W,HELIER,DELHE3,DELHE3_FLAG_W,DELHER,NEON,NEON_FLAG_W,NEONER,DELC14,DELC14_FLAG_W,C14ERR,DELC13,DELC13_FLAG_W,CDOM325,CDOM325_FLAG_W,CDOM340,CDOM340_FLAG_W,CDOM380,CDOM380_FLAG_W,CDOM412,CDOM412_FLAG_W,CDOMSL,CDOMSL_FLAG_W,CDOMSN,CDOMSN_FLAG_W
,,,,,,,,,,,METERS,DBAR,ITS-90,PSS-78,,PSS-78,,UMOL/KG,,UMOL/KG,,UMOL/KG,,UMOL/KG,,UMOL/KG,,UMOL/KG,,PMOL/KG,,PMOL/KG,,PMOL/KG,,UMOL/KG,,UMOL/KG,,UMOL/KG,,UMOL/KG,,TU,,TU,NMOL/KG,,NMOL/KG,PERCNT,,PERCNT,NMOL/KG,,NMOL/KG,/MILLE,,/MILLE,/MILLE,,1/M,,1/M,,1/M,,1/M,,1/NM,,1/NM,
  33RR20070204,  I08S,    83,  1,     24,     24,2,20070312,0114,-31.3003,  95.0023, 1477,      4.0,  19.9685,  35.6763,2,  35.6759,2,    230.4,2,    230.5,2,     0.49,2,     0.17,2,     0.01,2,     0.17,2,    2.231,2,    1.384,2, -999.000,5,   2067.6,6,   2344.9,2,     65.9,2,     4.79,2,    0.541,2,    0.011,   1.7321,2,   0.0005,    -1.48,2,     0.18,    7.108,2,    0.008,   -999.0,9,   -999.0,  -999.00,9,-999.0000,9,-999.0000,9,-999.0000,9,-999.0000,9,-999.0000,9,-999.0000,9
  33RR20070204,  I08S,    83,  1,     23,     23,2,20070312,0114,-31.3003,  95.0023, 1477,     38.9,  20.2029,  35.8496,2,  35.8497,2,    229.4,2,    229.0,2,     0.64,2,     0.13,2,     0.00,2,     0.14,2,    2.190,2,    1.374,2, -999.000,5,   2074.8,2,   2354.8,2,     65.1,2,     4.48,2, -999.000,9, -999.000,   1.7193,2,   0.0007,    -1.88,2,     0.20,    7.004,2,    0.010,     61.6,2,      3.6,     1.47,2,-999.0000,9,-999.0000,9,-999.0000,9,-999.0000,9,-999.0000,9,-999.0000,9
  33RR20070204,  I08S,    83,  1,     22,     22,2,20070312,0114,-31.3003,  95.0023, 1477,     73.9,  18.7443,  35.6378,2,  35.6430,2,    244.6,2,    244.5,2,     0.62,2,     0.25,2,     0.01,2,     0.17,2,    2.421,2,    1.488,2, -999.000,5,   2071.7,2,   2341.5,2,     63.7,2,     4.70,2, -999.000,9, -999.000,-999.0000,9,-999.0000,  -999.00,9,  -999.00, -999.000,9, -999.000,     61.2,2,      3.4,     1.54,2,-999.0000,9,-999.0000,9,-999.0000,9,-999.0000,9,-999.0000,9,-999.0000,9
  33RR20070204,  I08S,    83,  1,     21,     21,2,20070312,0114,-31.3003,  95.0023, 1477,     93.8,  16.5233,  35.7236,2,  35.7259,2,    249.7,2,    250.3,2,     0.78,2,     0.12,2,     0.00,2,     0.17,2,    2.711,2,    1.630,2, -999.000,5,   2079.3,2,   2344.2,2,     61.1,2,     4.61,2,    0.923,2,    0.015,-999.0000,9,-999.0000,  -999.00,9,  -999.00, -999.000,9, -999.000,     68.4,2,      3.3,     1.33,2,-999.0000,9,-999.0000,9,-999.0000,9,-999.0000,9,-999.0000,9,-999.0000,9
  33RR20070204,  I08S,    83,  1,     20,     20,2,20070312,0114,-31.3003,  95.0023, 1477,    123.8,  15.2785,  35.6294,2,  35.6273,2,    236.5,2,    236.0,2,     1.14,2,     1.83,2,     0.42,2,     0.31,2,    2.828,2,    1.679,2, -999.000,5,   2096.8,2,   2340.3,2,     55.8,2,     6.45,2, -999.000,9, -999.000,   1.7839,2,   0.0006,    -1.67,2,     0.21,    7.396,2,    0.008,     49.2,2,      3.6,     1.26,2,-999.0000,9,-999.0000,9,-999.0000,9,-999.0000,9,-999.0000,9,-999.0000,9
  33RR20070204,  I08S,    83,  1,     19,     19,2,20070312,0114,-31.3003,  95.0023, 1477,    143.9,  14.9239,  35.5985,2,  35.6044,2,    233.9,2,    234.5,2,     1.11,2,     2.78,2,     0.21,2,     0.34,2,    2.852,2,    1.713,2, -999.000,5,   2098.5,2,   2337.4,2,     54.2,2,     6.94,2,    0.539,2,    0.010,-999.0000,9,-999.0000,  -999.00,9,  -999.00, -999.000,9, -999.000,   -999.0,9,   -999.0,  -999.00,9,-999.0000,9,-999.0000,9,-999.0000,9,-999.0000,9,-999.0000,9,-999.0000,9
  33RR20070204,  I08S,    83,  1,     18,     18,2,20070312,0114,-31.3003,  95.0023, 1477,    173.9,  14.4117,  35.5142,2,  35.5127,2,    232.3,2,    232.4,2,     1.28,2,     4.30,2,     0.02,2,     0.42,2,    2.932,2,    1.732,2, -999.000,5,   2102.7,2,   2331.0,2,     52.7,2,     7.44,2, -999.000,9, -999.000,-999.0000,9,-999.0000,  -999.00,9,  -999.00, -999.000,9, -999.000,     61.7,2,      3.6,     1.18,2,-999.0000,9,-999.0000,9,-999.0000,9,-999.0000,9,-999.0000,9,-999.0000,9
  33RR20070204,  I08S,    83,  1,     17,     17,2,20070312,0114,-31.3003,  95.0023, 1477,    223.8,  12.7694,  35.2256,2,  35.2296,2,    231.9,2,    232.6,2,     1.83,2,     7.91,2,     0.01,2,     0.64,2,    3.219,2,    1.878,2, -999.000,5,   2112.6,2,   2313.7,2,     51.1,2,    11.38,2,    0.509,2,    0.011,   1.7827,2,   0.0006,    -0.98,2,     0.20,    7.462,2,    0.011,   -999.0,9,   -999.0,  -999.00,9,-999.0000,9,-999.0000,9,-999.0000,9,-999.0000,9,-999.0000,9,-999.0000,9
  33RR20070204,  I08S,    83,  1,     16,     16,2,20070312,0114,-31.3003,  95.0023, 1477,    274.0,  12.0509,  35.1111,2,  35.1103,2,    236.2,2,    238.0,2,     2.19,2,     9.23,2,     0.01,2,     0.71,2,    3.365,2,    1.930,2, -999.000,5,   2111.7,2,   2305.5,2,     49.5,2,    12.63,2, -999.000,9, -999.000,-999.0000,9,-999.0000,  -999.00,9,  -999.00, -999.000,9, -999.000,     58.2,2,      3.6,     1.22,2,-999.0000,9,-999.0000,9,-999.0000,9,-999.0000,9,-999.0000,9,-999.0000,9
  33RR20070204,  I08S,    83,  1,     15,     15,2,20070312,0114,-31.3003,  95.0023, 1477,    324.1,  11.6507,  35.0470,2,  35.0361,2,    238.4,2,    241.4,2,     2.54,2,    10.22,2,     0.01,2,     0.77,2,    3.354,2,    1.946,2, -999.000,5,   2113.0,2,   2304.6,2,     47.5,2,    13.69,2,    0.356,2,    0.009,   1.7821,2,   0.0010,    -0.91,2,     0.20,    7.480,2,    0.010,   -999.0,9,   -999.0,  -999.00,9,-999.0000,9,-999.0000,9,-999.0000,9,-999.0000,9,-999.0000,9,-999.0000,9
  33RR20070204,  I08S,    83,  1,     14,     14,2,20070312,0114,-31.3003,  95.0023, 1477,    373.9,  11.1098,  34.9594,2,  34.9601,2,    241.8,2,    242.4,2,     3.10,2,    11.35,2,     0.01,2,     0.84,2,    3.460,2,    1.987,2, -999.000,5,   2114.8,2,   2298.2,2,     46.7,2,    15.10,2, -999.000,9, -999.000,-999.0000,9,-999.0000,  -999.00,9,  -999.00, -999.000,9, -999.000,     54.8,2,      2.9,     1.16,2,-999.0000,9,-999.0000,9,-999.0000,9,-999.0000,9,-999.0000,9,-999.0000,9
  33RR20070204,  I08S,    83,  1,     13,     13,2,20070312,0114,-31.3003,  95.0023, 1477,    424.2,  10.7091,  34.8995,2,  34.8960,2,    240.7,2,    241.3,2,     3.26,2,    12.30,2,     0.00,2,     0.91,2,    3.629,2,    2.006,2, -999.000,5,   2117.1,2,   2297.4,2,     45.9,2,    15.53,2,    0.630,2,    0.012,   1.8440,2,   0.0006,    -1.01,2,     0.20,    7.768,2,    0.011,   -999.0,9,   -999.0,  -999.00,9,-999.0000,9,-999.0000,9,-999.0000,9,-999.0000,9,-999.0000,9,-999.0000,9
  33RR20070204,  I08S,    83,  1,     12,     12,2,20070312,0114,-31.3003,  95.0023, 1477,    474.1,  10.3010,  34.8358,2,  34.8347,2,    241.0,2,    242.6,2,     3.61,2,    13.38,2,     0.01,2,     0.97,2,    3.640,2,    2.036,2, -999.000,5,   2118.1,2,   2287.4,3,     44.8,2,    16.71,2, -999.000,9, -999.000,-999.0000,9,-999.0000,  -999.00,9,  -999.00, -999.000,9, -999.000,     51.2,2,      3.5,     1.15,2,-999.0000,9,-999.0000,9,-999.0000,9,-999.0000,9,-999.0000,9,-999.0000,9
  33RR20070204,  I08S,    83,  1,     11,     11,2,20070312,0114,-31.3003,  95.0023, 1477,    534.5,   9.9320,  34.7770,2,  34.7726,2,    241.2,2,    242.7,2,     3.78,2,    14.42,2,     0.01,2,     1.04,2, -999.000,5, -999.000,5, -999.000,5,   2121.6,2,   2290.6,2,     43.6,2,    17.04,2,    0.292,2,    0.008,   1.7670,2,   0.0007,    -0.82,2,     0.19,    7.512,2,    0.008,   -999.0,9,   -999.0,  -999.00,9,-999.0000,9,-999.0000,9,-999.0000,9,-999.0000,9,-999.0000,9,-999.0000,9
  33RR20070204,  I08S,    83,  1,     10,     10,2,20070312,0114,-31.3003,  95.0023, 1477,    644.7,   9.2790,  34.6793,2,  34.6769,2,    235.2,2,    237.8,2,     4.90,2,    16.71,2,     0.01,2,     1.17,2,    3.630,2,    1.961,2, -999.000,5,   2128.4,2,   2287.4,2,     42.6,2,    18.74,2, -999.000,9, -999.000,-999.0000,9,-999.0000,  -999.00,9,  -999.00, -999.000,9, -999.000,     40.5,2,      3.5,     1.20,2,-999.0000,9,-999.0000,9,-999.0000,9,-999.0000,9,-999.0000,9,-999.0000,9
  33RR20070204,  I08S,    83,  1,      9,      9,2,20070312,0114,-31.3003,  95.0023, 1477,    744.8,   8.2616,  34.5655,2,  34.5624,2,    218.8,2,    218.6,2,     8.92,2,    20.90,2,     0.01,2,     1.44,2,    3.014,2,    1.577,2, -999.000,5,   2146.3,2,   2284.3,2,     42.0,2,    23.91,2,    0.218,2,    0.006,   1.7704,2,   0.0006,     0.49,2,     0.20,    7.621,2,    0.008,     23.6,2,      3.4,     1.19,2,-999.0000,9,-999.0000,9,-999.0000,9,-999.0000,9,-999.0000,9,-999.0000,9
  33RR20070204,  I08S,    83,  1,      8,      8,2,20070312,0114,-31.3003,  95.0023, 1477,    845.4,   6.7531,  34.4569,2,  34.4530,2,    201.6,2,    201.1,2,    17.96,2,    25.87,2,     0.00,2,     1.77,2,    2.040,2,    1.045,2, -999.000,5,   2169.4,2,   2285.6,2,     41.7,2,    28.00,2, -999.000,9, -999.000,   1.7972,2,   0.0006,     1.79,2,     0.21,    7.776,2,    0.009,    -27.3,2,      3.1,     1.12,2,-999.0000,9,-999.0000,9,-999.0000,9,-999.0000,9,-999.0000,9,-999.0000,9
  33RR20070204,  I08S,    83,  1,      7,      7,2,20070312,0114,-31.3003,  95.0023, 1477,    945.7,   5.6303,  34.4061,2,  34.4030,2,    194.5,2,    195.7,2,    26.03,2,    28.56,2,     0.00,2,     1.96,2,    1.555,2,    0.790,2, -999.000,5,   2185.4,2,   2290.4,2,     41.4,2,    31.11,2,    0.059,2,    0.005,   1.8168,2,   0.0006,     2.65,2,     0.21,    7.860,2,    0.009,    -53.0,2,      3.2,     1.03,2,-999.0000,9,-999.0000,9,-999.0000,9,-999.0000,9,-999.0000,9,-999.0000,9
  33RR20070204,  I08S,    83,  1,      6,      6,2,20070312,0114,-31.3003,  95.0023, 1477,   1046.1,   4.6539,  34.3960,2,  34.3950,2,    187.9,2,    187.6,2,    37.58,2,    30.93,2,     0.00,2,     2.15,2,    1.042,2,    0.535,2, -999.000,5,   2206.5,2,   2301.2,2,     40.9,2,    32.05,2, -999.000,9, -999.000,   1.8085,2,   0.0008,     4.56,2,     0.19,    7.796,2,    0.008,    -83.8,2,      3.1,     0.91,2,-999.0000,9,-999.0000,9,-999.0000,9,-999.0000,9,-999.0000,9,-999.0000,9
  33RR20070204,  I08S,    83,  1,      5,      5,2,20070312,0114,-31.3003,  95.0023, 1477,   1146.8,   4.1020,  34.4277,2,  34.4262,2,    176.1,2,    175.7,2,    49.34,2,    32.59,2,     0.00,2,     2.28,2,    0.619,2,    0.323,2, -999.000,5,   2225.4,2,   2312.3,2,     41.1,2,    34.41,2, -999.000,9, -999.000,-999.0000,9,-999.0000,  -999.00,9,  -999.00, -999.000,9, -999.000,   -109.5,2,      2.6,     0.80,2,-999.0000,9,-999.0000,9,-999.0000,9,-999.0000,9,-999.0000,9,-999.0000,9
  33RR20070204,  I08S,    83,  1,      4,      4,2,20070312,0114,-31.3003,  95.0023, 1477,   1247.0,   3.7775,  34.4719,2,  34.4735,2,    164.4,2,    163.6,2,    59.96,2,    33.70,2,     0.00,2,     2.36,2,    0.330,2,    0.180,2, -999.000,5,   2242.0,2,   2244.5,4,     41.0,2,    35.52,2, -999.000,9, -999.000,-999.0000,9,-999.0000,  -999.00,9,  -999.00, -999.000,9, -999.000,   -999.0,9,   -999.0,  -999.00,9,-999.0000,9,-999.0000,9,-999.0000,9,-999.0000,9,-999.0000,9,-999.0000,9
  33RR20070204,  I08S,    83,  1,      3,      3,2,20070312,0114,-31.3003,  95.0023, 1477,   1348.0,   3.5350,  34.5109,2,  34.5122,2,    157.0,2,    156.8,2,    68.06,2,    34.20,2,     0.00,2,     2.41,2,    0.180,2,    0.099,2, -999.000,5,   2252.4,2,   2330.9,2,     40.2,2,    35.45,2,    0.001,2,    0.004,-999.0000,9,-999.0000,  -999.00,9,  -999.00, -999.000,9, -999.000,   -141.9,2,      2.5,     0.53,2,-999.0000,9,-999.0000,9,-999.0000,9,-999.0000,9,-999.0000,9,-999.0000,9
  33RR20070204,  I08S,    83,  1,      2,      2,2,20070312,0114,-31.3003,  95.0023, 1477,   1428.3,   3.3847,  34.5416,2,  34.5442,2,    151.6,2,    152.8,2,    72.89,2,    34.43,2,     0.00,2,     2.42,2,    0.106,2,    0.059,2, -999.000,5,   2259.0,6,   2337.0,2,     40.0,2,    35.51,2, -999.000,9, -999.000,   1.8895,2,   0.0008,     8.79,2,     0.19,    8.158,2,    0.009,   -999.0,9,   -999.0,  -999.00,9,-999.0000,9,-999.0000,9,-999.0000,9,-999.0000,9,-999.0000,9,-999.0000,9
  33RR20070204,  I08S,    83,  1,      1,      1,2,20070312,0114,-31.3003,  95.0023, 1477,   1484.0,   3.3072,  34.5592,2,  34.5612,2,    149.4,2,    151.3,2,    75.76,2,    34.47,2,     0.00,2,     2.43,2,    0.079,2,    0.043,2, -999.000,5,   2263.0,2,   2338.9,2,     40.3,2,    35.61,2,    0.001,2,    0.004,-999.0000,9,-999.0000,  -999.00,9,  -999.00, -999.000,9, -999.000,   -161.4,2,      4.0,     0.49,2,-999.0000,9,-999.0000,9,-999.0000,9,-999.0000,9,-999.0000,9,-999.0000,9