BOTTLE,20150626SIOCCHRJL
EXPOCODE,SECT_ID,STNNBR,CASTNO,SAMPNO,BTLNBR,BTLNBR_FLAG_W,DATE,TIME,LATITUDE,LONGITUDE,DEPTH,CTDPRS,CTDTMP,CTDSAL,CTDSAL_FLAG_W,SALNTY,SALNTY_FLAG_W,CTDOXY,CTDOXY_FLAG_W,OXYGEN,OXYGEN_FLAG_W,SILCAT,SILCAT_FLAG_W,NITRAT,NITRAT_FLAG_W,NITRIT,NITRIT_FLAG_W,PHSPHT,PHSPHT_FLAG_W,CFC-11,CFC-11_FLAG_W,CFC-12,CFC-12_FLAG_W,CFC113,CFC113_FLAG_W,TCARBN,TCARBN_FLAG_W,ALKALI,ALKALI_FLAG_W,DOC,DOC_FLAG_W,TDN,TDN_FLAG_W,TRITUM,TRITUM_FLAG_W,TRITER,HELIUM,HELIUM_FLAG_W,HELIER,DELHE3,DELHE3_FLAG_W,DELHER,NEON,NEON_FLAG_W,NEONER,DELC14,DELC14_FLAG_W,C14ERR,DELC13,DELC13_FLAG_W,CDOM325,CDOM325_FLAG_W,CDOM340,CDOM340_FLAG_W,CDOM380,CDOM380_FLAG_W,CDOM412,CDOM412_FLAG_W,CDOMSL,CDOMSL_FLAG_W,CDOMSN,CDOMSN_FLAG_W
,,,,,,,,,,,METERS,DBAR,ITS-90,PSS-78,,PSS-78,,UMOL/KG,,UMOL/KG,,UMOL/KG,,UMOL/KG,,UMOL/KG,,UMOL/KG,,PMOL/KG,,PMOL/KG,,PMOL/KG,,UMOL/KG,,UMOL/KG,,UMOL/KG,,UMOL/KG,,TU,,TU,NMOL/KG,,NMOL/KG,PERCNT,,PERCNT,NMOL/KG,,NMOL/KG,/MILLE,,/MILLE,/MILLE,,1/M,,1/M,,1/M,,1/M,,1/NM,,1/NM,
  33RR20070204,  I08S,    12,  1,     32,     32,2,20070218,1232,-63.0033,  82.0098, 2696,      4.2,   0.9914,  33.7737,2,  33.7734,2,    335.5,2,    337.3,2,    29.61,2,    23.39,2,     0.19,2,     1.55,2,    5.832,2,    3.159,2, -999.000,5,   2140.0,2,   2287.1,2,   -999.0,9,  -999.00,9, -999.000,9, -999.000,-999.0000,9,-999.0000,  -999.00,9,  -999.00, -999.000,9, -999.000,   -999.0,9,   -999.0,  -999.00,9,-999.0000,9,-999.0000,9,-999.0000,9,-999.0000,9,-999.0000,9,-999.0000,9
  33RR20070204,  I08S,    12,  1,     31,     31,2,20070218,1232,-63.0033,  82.0098, 2696,     19.4,   0.9303,  33.7759,2,  33.7740,2,    336.5,2,    337.3,2,    29.80,2,    23.34,2,     0.19,2,     1.55,2,    5.882,2,    3.133,2, -999.000,5,   2139.9,2,   2286.3,2,   -999.0,9,  -999.00,9, -999.000,9, -999.000,-999.0000,9,-999.0000,  -999.00,9,  -999.00, -999.000,9, -999.000,   -999.0,9,   -999.0,  -999.00,9,-999.0000,9,-999.0000,9,-999.0000,9,-999.0000,9,-999.0000,9,-999.0000,9
  33RR20070204,  I08S,    12,  1,     30,     30,2,20070218,1232,-63.0033,  82.0098, 2696,     44.7,   0.8804,  33.8021,2,  33.8070,2,    334.6,2,    332.0,2,    32.80,2,    24.03,2,     0.18,2,     1.64,2, -999.000,9, -999.000,9, -999.000,9,   2150.3,2,   2287.6,2,   -999.0,9,  -999.00,9, -999.000,9, -999.000,-999.0000,9,-999.0000,  -999.00,9,  -999.00, -999.000,9, -999.000,   -999.0,9,   -999.0,  -999.00,9,-999.0000,9,-999.0000,9,-999.0000,9,-999.0000,9,-999.0000,9,-999.0000,9
  33RR20070204,  I08S,    12,  1,     29,     29,2,20070218,1232,-63.0033,  82.0098, 2696,     89.8,   0.5785,  34.3685,2,  34.3640,2,    214.4,2,    215.6,2,    70.13,2,    33.93,2,     0.16,2,     2.39,2,    2.624,2,    1.364,2, -999.000,5,   2239.3,2,   2316.8,2,   -999.0,9,  -999.00,9, -999.000,9, -999.000,-999.0000,9,-999.0000,  -999.00,9,  -999.00, -999.000,9, -999.000,   -999.0,9,   -999.0,  -999.00,9,-999.0000,9,-999.0000,9,-999.0000,9,-999.0000,9,-999.0000,9,-999.0000,9
  33RR20070204,  I08S,    12,  1,     28,     28,2,20070218,1232,-63.0033,  82.0098, 2696,    140.1,   1.0621,  34.4670,2,  34.4676,2,    196.6,2,    197.4,2,    75.38,2,    34.63,2,     0.06,2,     2.39,2, -999.000,9, -999.000,9, -999.000,9,   2248.3,2,   -999.0,2,   -999.0,9,  -999.00,9, -999.000,9, -999.000,-999.0000,9,-999.0000,  -999.00,9,  -999.00, -999.000,9, -999.000,   -999.0,9,   -999.0,  -999.00,9,-999.0000,9,-999.0000,9,-999.0000,9,-999.0000,9,-999.0000,9,-999.0000,9
  33RR20070204,  I08S,    12,  1,     27,     27,2,20070218,1232,-63.0033,  82.0098, 2696,    165.0,   1.3226,  34.5044,2,  34.5015,2,    193.4,2,    190.0,2,    78.00,2,    34.73,2,     0.05,2,     2.39,2,    1.566,2,    0.829,2, -999.000,5,   2253.9,2,   2326.0,2,   -999.0,9,  -999.00,9, -999.000,9, -999.000,-999.0000,9,-999.0000,  -999.00,9,  -999.00, -999.000,9, -999.000,   -999.0,9,   -999.0,  -999.00,9,-999.0000,9,-999.0000,9,-999.0000,9,-999.0000,9,-999.0000,9,-999.0000,9
  33RR20070204,  I08S,    12,  1,     26,     26,2,20070218,1232,-63.0033,  82.0098, 2696,    190.2,   1.6939,  34.5614,2,  34.5633,2,    177.2,2,    177.0,2,    80.43,2,    34.82,2,     0.05,2,     2.41,2, -999.000,9, -999.000,9, -999.000,9,   -999.0,9,   -999.0,9,   -999.0,9,  -999.00,9, -999.000,9, -999.000,-999.0000,9,-999.0000,  -999.00,9,  -999.00, -999.000,9, -999.000,   -999.0,9,   -999.0,  -999.00,9,-999.0000,9,-999.0000,9,-999.0000,9,-999.0000,9,-999.0000,9,-999.0000,9
  33RR20070204,  I08S,    12,  1,     25,     25,2,20070218,1232,-63.0033,  82.0098, 2696,    240.7,   1.8853,  34.6155,2,  34.6168,2,    172.0,2,    173.0,2,    83.06,2,    34.34,2,     0.03,2,     2.37,2, -999.000,9, -999.000,9, -999.000,9,   -999.0,9,   -999.0,9,   -999.0,9,  -999.00,9, -999.000,9, -999.000,-999.0000,9,-999.0000,  -999.00,9,  -999.00, -999.000,9, -999.000,   -999.0,9,   -999.0,  -999.00,9,-999.0000,9,-999.0000,9,-999.0000,9,-999.0000,9,-999.0000,9,-999.0000,9
  33RR20070204,  I08S,    12,  1,     24,     24,2,20070218,1232,-63.0033,  82.0098, 2696,    290.9,   1.9362,  34.6526,2,  34.6517,2,    172.9,2,    173.8,2,    84.28,2,    33.81,2,     0.02,2,     2.33,2,    0.554,2,    0.288,2, -999.000,5,   2259.8,6,   2337.3,2,   -999.0,9,  -999.00,9, -999.000,9, -999.000,-999.0000,9,-999.0000,  -999.00,9,  -999.00, -999.000,9, -999.000,   -999.0,9,   -999.0,  -999.00,9,-999.0000,9,-999.0000,9,-999.0000,9,-999.0000,9,-999.0000,9,-999.0000,9
  33RR20070204,  I08S,    12,  1,     23,     23,2,20070218,1232,-63.0033,  82.0098, 2696,    341.8,   1.9591,  34.6756,2,  34.6749,2,    175.4,2,    175.9,2,    84.09,2,    33.17,2,     0.01,2,     2.30,2, -999.000,9, -999.000,9, -999.000,9,   -999.0,9,   -999.0,9,   -999.0,9,  -999.00,9, -999.000,9, -999.000,-999.0000,9,-999.0000,  -999.00,9,  -999.00, -999.000,9, -999.000,   -999.0,9,   -999.0,  -999.00,9,-999.0000,9,-999.0000,9,-999.0000,9,-999.0000,9,-999.0000,9,-999.0000,9
  33RR20070204,  I08S,    12,  1,     22,     22,2,20070218,1232,-63.0033,  82.0098, 2696,    392.0,   1.9582,  34.6894,2,  34.6896,2,    177.9,2,    178.2,2,    84.50,2,    32.77,2,     0.01,2,     2.27,2,    0.389,2,    0.197,2, -999.000,5,   -999.0,9,   -999.0,9,   -999.0,9,  -999.00,9, -999.000,9, -999.000,-999.0000,9,-999.0000,  -999.00,9,  -999.00, -999.000,9, -999.000,   -999.0,9,   -999.0,  -999.00,9,-999.0000,9,-999.0000,9,-999.0000,9,-999.0000,9,-999.0000,9,-999.0000,9
  33RR20070204,  I08S,    12,  1,     21,     21,2,20070218,1232,-63.0033,  82.0098, 2696,    442.4,   1.9453,  34.7020,2,  34.7029,2,    180.3,2,    179.7,2,    85.32,2,    32.43,2,     0.01,2,     2.25,2, -999.000,9, -999.000,9, -999.000,9,   -999.0,9,   2342.3,2,   -999.0,9,  -999.00,9, -999.000,9, -999.000,-999.0000,9,-999.0000,  -999.00,9,  -999.00, -999.000,9, -999.000,   -999.0,9,   -999.0,  -999.00,9,-999.0000,9,-999.0000,9,-999.0000,9,-999.0000,9,-999.0000,9,-999.0000,9
  33RR20070204,  I08S,    12,  1,     20,     20,2,20070218,1232,-63.0033,  82.0098, 2696,    493.2,   1.9331,  34.7103,2,  34.7100,2,    182.8,2,    182.7,2,    84.10,2,    32.08,2,     0.01,2,     2.22,2, -999.000,9, -999.000,9, -999.000,9,   -999.0,9,   -999.0,9,   -999.0,9,  -999.00,9, -999.000,9, -999.000,-999.0000,9,-999.0000,  -999.00,9,  -999.00, -999.000,9, -999.000,   -999.0,9,   -999.0,  -999.00,9,-999.0000,9,-999.0000,9,-999.0000,9,-999.0000,9,-999.0000,9,-999.0000,9
  33RR20070204,  I08S,    12,  1,     19,     19,2,20070218,1232,-63.0033,  82.0098, 2696,    578.6,   1.8861,  34.7254,2,  34.7255,2,    185.6,2,    185.9,2,    85.53,2,    31.58,2,     0.01,2,     2.19,2,    0.274,2,    0.132,2, -999.000,5,   -999.0,9,   -999.0,9,   -999.0,9,  -999.00,9, -999.000,9, -999.000,-999.0000,9,-999.0000,  -999.00,9,  -999.00, -999.000,9, -999.000,   -999.0,9,   -999.0,  -999.00,9,-999.0000,9,-999.0000,9,-999.0000,9,-999.0000,9,-999.0000,9,-999.0000,9
  33RR20070204,  I08S,    12,  1,     18,     18,2,20070218,1232,-63.0033,  82.0098, 2696,    679.6,   1.8246,  34.7367,2,  34.7376,2,    190.1,2,    190.3,2,    86.75,2,    31.08,2,     0.01,2,     2.15,2, -999.000,9, -999.000,9, -999.000,9,   -999.0,9,   2344.3,2,   -999.0,9,  -999.00,9, -999.000,9, -999.000,-999.0000,9,-999.0000,  -999.00,9,  -999.00, -999.000,9, -999.000,   -999.0,9,   -999.0,  -999.00,9,-999.0000,9,-999.0000,9,-999.0000,9,-999.0000,9,-999.0000,9,-999.0000,9
  33RR20070204,  I08S,    12,  1,     17,     17,2,20070218,1232,-63.0033,  82.0098, 2696,    780.1,   1.7419,  34.7425,2,  34.7431,2,    193.4,2,    193.2,2,    87.97,2,    30.79,2,     0.00,2,     2.13,2,    0.220,2,    0.101,2, -999.000,5,   -999.0,9,   -999.0,9,   -999.0,9,  -999.00,9, -999.000,9, -999.000,-999.0000,9,-999.0000,  -999.00,9,  -999.00, -999.000,9, -999.000,   -999.0,9,   -999.0,  -999.00,9,-999.0000,9,-999.0000,9,-999.0000,9,-999.0000,9,-999.0000,9,-999.0000,9
  33RR20070204,  I08S,    12,  1,     16,     16,2,20070218,1232,-63.0033,  82.0098, 2696,    881.1,   1.6628,  34.7447,2,  34.7457,2,    195.7,2,    196.1,2,    90.01,2,    30.64,2,     0.00,2,     2.12,2, -999.000,9, -999.000,9, -999.000,9,   -999.0,9,   -999.0,9,   -999.0,9,  -999.00,9, -999.000,9, -999.000,-999.0000,9,-999.0000,  -999.00,9,  -999.00, -999.000,9, -999.000,   -999.0,9,   -999.0,  -999.00,9,-999.0000,9,-999.0000,9,-999.0000,9,-999.0000,9,-999.0000,9,-999.0000,9
  33RR20070204,  I08S,    12,  1,     15,     15,2,20070218,1232,-63.0033,  82.0098, 2696,    982.2,   1.5956,  34.7449,2,  34.7460,2,    198.4,2,    198.3,2,    90.83,2,    30.59,2,     0.00,2,     2.12,2,    0.211,2,    0.093,2, -999.000,5,   2252.5,2,   -999.0,2,   -999.0,9,  -999.00,9, -999.000,9, -999.000,-999.0000,9,-999.0000,  -999.00,9,  -999.00, -999.000,9, -999.000,   -999.0,9,   -999.0,  -999.00,9,-999.0000,9,-999.0000,9,-999.0000,9,-999.0000,9,-999.0000,9,-999.0000,9
  33RR20070204,  I08S,    12,  1,     14,     14,2,20070218,1232,-63.0033,  82.0098, 2696,   1083.1,   1.5286,  34.7469,2,  34.7478,2,    201.3,2,    201.0,2,    92.26,2,    30.38,2,     0.00,2,     2.11,2, -999.000,9, -999.000,9, -999.000,9,   -999.0,9,   -999.0,9,   -999.0,9,  -999.00,9, -999.000,9, -999.000,-999.0000,9,-999.0000,  -999.00,9,  -999.00, -999.000,9, -999.000,   -999.0,9,   -999.0,  -999.00,9,-999.0000,9,-999.0000,9,-999.0000,9,-999.0000,9,-999.0000,9,-999.0000,9
  33RR20070204,  I08S,    12,  1,     13,     13,2,20070218,1232,-63.0033,  82.0098, 2696,   1184.0,   1.4308,  34.7426,2,  34.7430,2,    202.3,2,    202.0,2,    95.11,2,    30.58,2,     0.00,2,     2.12,2,    0.193,2,    0.088,2, -999.000,5,   -999.0,9,   -999.0,9,   -999.0,9,  -999.00,9, -999.000,9, -999.000,-999.0000,9,-999.0000,  -999.00,9,  -999.00, -999.000,9, -999.000,   -999.0,9,   -999.0,  -999.00,9,-999.0000,9,-999.0000,9,-999.0000,9,-999.0000,9,-999.0000,9,-999.0000,9
  33RR20070204,  I08S,    12,  1,     12,     12,2,20070218,1232,-63.0033,  82.0098, 2696,   1285.3,   1.3246,  34.7380,2,  34.7393,2,    203.0,2,    202.3,2,    98.58,2,    30.78,2,     0.00,2,     2.13,2, -999.000,9, -999.000,9, -999.000,9,   -999.0,9,   -999.0,2,   -999.0,9,  -999.00,9, -999.000,9, -999.000,-999.0000,9,-999.0000,  -999.00,9,  -999.00, -999.000,9, -999.000,   -999.0,9,   -999.0,  -999.00,9,-999.0000,9,-999.0000,9,-999.0000,9,-999.0000,9,-999.0000,9,-999.0000,9
  33RR20070204,  I08S,    12,  1,     11,     11,2,20070218,1232,-63.0033,  82.0098, 2696,   1386.3,   1.2263,  34.7332,2,  34.7345,2,    203.7,2,    203.3,2,   101.03,2,    31.02,2,     0.00,2,     2.16,2,    0.189,2,    0.085,2, -999.000,5,   -999.0,9,   -999.0,9,   -999.0,9,  -999.00,9, -999.000,9, -999.000,-999.0000,9,-999.0000,  -999.00,9,  -999.00, -999.000,9, -999.000,   -999.0,9,   -999.0,  -999.00,9,-999.0000,9,-999.0000,9,-999.0000,9,-999.0000,9,-999.0000,9,-999.0000,9
  33RR20070204,  I08S,    12,  1,     10,     10,2,20070218,1232,-63.0033,  82.0098, 2696,   1487.4,   1.1415,  34.7285,2,  34.7298,2,    204.1,2,    204.1,2,   104.10,2,    31.26,2,     0.00,2,     2.17,2, -999.000,9, -999.000,9, -999.000,9,   -999.0,9,   -999.0,9,   -999.0,9,  -999.00,9, -999.000,9, -999.000,-999.0000,9,-999.0000,  -999.00,9,  -999.00, -999.000,9, -999.000,   -999.0,9,   -999.0,  -999.00,9,-999.0000,9,-999.0000,9,-999.0000,9,-999.0000,9,-999.0000,9,-999.0000,9
  33RR20070204,  I08S,    12,  1,      9,      9,2,20070218,1232,-63.0033,  82.0098, 2696,   1589.1,   1.0469,  34.7234,2,  34.7243,2,    204.7,2,    204.5,2,   106.96,2,    31.46,2,     0.00,2,     2.18,2, -999.000,9, -999.000,9, -999.000,9,   -999.0,9,   -999.0,9,   -999.0,9,  -999.00,9, -999.000,9, -999.000,-999.0000,9,-999.0000,  -999.00,9,  -999.00, -999.000,9, -999.000,   -999.0,9,   -999.0,  -999.00,9,-999.0000,9,-999.0000,9,-999.0000,9,-999.0000,9,-999.0000,9,-999.0000,9
  33RR20070204,  I08S,    12,  1,      8,      8,2,20070218,1232,-63.0033,  82.0098, 2696,   1690.3,   0.9473,  34.7179,2,  34.7182,2,    205.1,2,    205.0,2,   111.06,2,    31.65,2,     0.00,2,     2.20,2, -999.000,9, -999.000,9, -999.000,9,   -999.0,9,   -999.0,9,   -999.0,9,  -999.00,9, -999.000,9, -999.000,-999.0000,9,-999.0000,  -999.00,9,  -999.00, -999.000,9, -999.000,   -999.0,9,   -999.0,  -999.00,9,-999.0000,9,-999.0000,9,-999.0000,9,-999.0000,9,-999.0000,9,-999.0000,9
  33RR20070204,  I08S,    12,  1,      7,      7,2,20070218,1232,-63.0033,  82.0098, 2696,   1791.2,   0.8447,  34.7121,2,  34.7130,2,    205.9,2,    206.3,2,   114.54,2,    31.95,2,     0.00,2,     2.21,2,    0.188,2,    0.089,2, -999.000,5,   -999.0,9,   -999.0,9,   -999.0,9,  -999.00,9, -999.000,9, -999.000,-999.0000,9,-999.0000,  -999.00,9,  -999.00, -999.000,9, -999.000,   -999.0,9,   -999.0,  -999.00,9,-999.0000,9,-999.0000,9,-999.0000,9,-999.0000,9,-999.0000,9,-999.0000,9
  33RR20070204,  I08S,    12,  1,      6,      6,2,20070218,1232,-63.0033,  82.0098, 2696,   1892.8,   0.7776,  34.7083,2,  34.7095,2,    206.6,2,    207.0,2,   116.80,2,    32.05,2,     0.00,2,     2.23,2, -999.000,9, -999.000,9, -999.000,9,   -999.0,9,   -999.0,9,   -999.0,9,  -999.00,9, -999.000,9, -999.000,-999.0000,9,-999.0000,  -999.00,9,  -999.00, -999.000,9, -999.000,   -999.0,9,   -999.0,  -999.00,9,-999.0000,9,-999.0000,9,-999.0000,9,-999.0000,9,-999.0000,9,-999.0000,9
  33RR20070204,  I08S,    12,  1,      5,      5,2,20070218,1232,-63.0033,  82.0098, 2696,   1994.6,   0.7007,  34.7038,2,  34.7043,2,    207.6,2,    208.0,2,   118.87,2,    32.24,2,     0.00,2,     2.24,2, -999.000,9, -999.000,9, -999.000,9,   -999.0,9,   -999.0,9,   -999.0,9,  -999.00,9, -999.000,9, -999.000,-999.0000,9,-999.0000,  -999.00,9,  -999.00, -999.000,9, -999.000,   -999.0,9,   -999.0,  -999.00,9,-999.0000,9,-999.0000,9,-999.0000,9,-999.0000,9,-999.0000,9,-999.0000,9
  33RR20070204,  I08S,    12,  1,      4,      4,2,20070218,1232,-63.0033,  82.0098, 2696,   2197.4,   0.5718,  34.6968,2,  34.6976,2,    209.7,2,    209.7,2,   124.41,2,    32.44,2,     0.00,2,     2.25,2,    0.186,2,    0.086,2, -999.000,5,   -999.0,9,   -999.0,9,   -999.0,9,  -999.00,9, -999.000,9, -999.000,-999.0000,9,-999.0000,  -999.00,9,  -999.00, -999.000,9, -999.000,   -999.0,9,   -999.0,  -999.00,9,-999.0000,9,-999.0000,9,-999.0000,9,-999.0000,9,-999.0000,9,-999.0000,9
  33RR20070204,  I08S,    12,  1,      3,      3,2,20070218,1232,-63.0033,  82.0098, 2696,   2399.9,   0.4758,  34.6916,2,  34.6923,2,    211.1,2,    211.0,2,   130.59,2,    32.63,2,     0.00,2,     2.27,2,    0.174,2,    0.081,2, -999.000,5,   2263.8,2,   2356.6,2,   -999.0,9,  -999.00,9, -999.000,9, -999.000,-999.0000,9,-999.0000,  -999.00,9,  -999.00, -999.000,9, -999.000,   -999.0,9,   -999.0,  -999.00,9,-999.0000,9,-999.0000,9,-999.0000,9,-999.0000,9,-999.0000,9,-999.0000,9
  33RR20070204,  I08S,    12,  1,      2,      2,2,20070218,1232,-63.0033,  82.0098, 2696,   2604.2,   0.4094,  34.6877,2,  34.6883,2,    213.2,2,    212.9,2,   132.86,2,    32.78,2,     0.00,2,     2.28,2,    0.172,2,    0.079,2, -999.000,5,   2262.3,2,   2356.1,2,   -999.0,9,  -999.00,9, -999.000,9, -999.000,-999.0000,9,-999.0000,  -999.00,9,  -999.00, -999.000,9, -999.000,   -999.0,9,   -999.0,  -999.00,9,-999.0000,9,-999.0000,9,-999.0000,9,-999.0000,9,-999.0000,9,-999.0000,9
  33RR20070204,  I08S,    12,  1,      1,      1,2,20070218,1232,-63.0033,  82.0098, 2696,   2736.1,   0.3387,  34.6835,2,  34.6844,2,    214.1,2,    214.3,2,   135.14,2,    32.78,2,     0.00,2,     2.28,2,    0.181,2,    0.086,2, -999.000,5,   2263.0,6,   -999.0,2,   -999.0,9,  -999.00,9, -999.000,9, -999.000,-999.0000,9,-999.0000,  -999.00,9,  -999.00, -999.000,9, -999.000,   -999.0,9,   -999.0,  -999.00,9,-999.0000,9,-999.0000,9,-999.0000,9,-999.0000,9,-999.0000,9,-999.0000,9