BOTTLE,20150626SIOCCHRJL
EXPOCODE,SECT_ID,STNNBR,CASTNO,SAMPNO,BTLNBR,BTLNBR_FLAG_W,DATE,TIME,LATITUDE,LONGITUDE,DEPTH,CTDPRS,CTDTMP,CTDSAL,CTDSAL_FLAG_W,SALNTY,SALNTY_FLAG_W,CTDOXY,CTDOXY_FLAG_W,OXYGEN,OXYGEN_FLAG_W,SILCAT,SILCAT_FLAG_W,NITRAT,NITRAT_FLAG_W,NITRIT,NITRIT_FLAG_W,PHSPHT,PHSPHT_FLAG_W,CFC-11,CFC-11_FLAG_W,CFC-12,CFC-12_FLAG_W,CFC113,CFC113_FLAG_W,TCARBN,TCARBN_FLAG_W,ALKALI,ALKALI_FLAG_W,DOC,DOC_FLAG_W,TDN,TDN_FLAG_W,TRITUM,TRITUM_FLAG_W,TRITER,HELIUM,HELIUM_FLAG_W,HELIER,DELHE3,DELHE3_FLAG_W,DELHER,NEON,NEON_FLAG_W,NEONER,DELC14,DELC14_FLAG_W,C14ERR,DELC13,DELC13_FLAG_W,CDOM325,CDOM325_FLAG_W,CDOM340,CDOM340_FLAG_W,CDOM380,CDOM380_FLAG_W,CDOM412,CDOM412_FLAG_W,CDOMSL,CDOMSL_FLAG_W,CDOMSN,CDOMSN_FLAG_W
,,,,,,,,,,,METERS,DBAR,ITS-90,PSS-78,,PSS-78,,UMOL/KG,,UMOL/KG,,UMOL/KG,,UMOL/KG,,UMOL/KG,,UMOL/KG,,PMOL/KG,,PMOL/KG,,PMOL/KG,,UMOL/KG,,UMOL/KG,,UMOL/KG,,UMOL/KG,,TU,,TU,NMOL/KG,,NMOL/KG,PERCNT,,PERCNT,NMOL/KG,,NMOL/KG,/MILLE,,/MILLE,/MILLE,,1/M,,1/M,,1/M,,1/M,,1/NM,,1/NM,
  33RR20070204,  I08S,    72,  1,     36,     38,2,20070309,0106,-36.5010,  95.0085, 4226,      4.2,  16.5143,  34.9297,2,  34.9297,2,    244.0,2,    246.5,2,     0.53,2,     3.22,2,     0.06,2,     0.38,2, -999.000,9, -999.000,9, -999.000,9,   2057.3,6,   2305.0,2,   -999.0,9,  -999.00,9, -999.000,9, -999.000,-999.0000,9,-999.0000,  -999.00,9,  -999.00, -999.000,9, -999.000,   -999.0,9,   -999.0,  -999.00,9,-999.0000,9,-999.0000,9,-999.0000,9,-999.0000,9,-999.0000,9,-999.0000,9
  33RR20070204,  I08S,    72,  1,     35,     35,2,20070309,0106,-36.5010,  95.0085, 4226,     22.0,  16.5094,  34.9290,2,  34.9291,2,    246.9,2,    246.8,2,     0.53,2,     3.22,2,     0.05,2,     0.38,2, -999.000,9, -999.000,9, -999.000,9,   2056.7,2,   2309.5,2,   -999.0,9,  -999.00,9, -999.000,9, -999.000,-999.0000,9,-999.0000,  -999.00,9,  -999.00, -999.000,9, -999.000,   -999.0,9,   -999.0,  -999.00,9,-999.0000,9,-999.0000,9,-999.0000,9,-999.0000,9,-999.0000,9,-999.0000,9
  33RR20070204,  I08S,    72,  1,     34,   9419,2,20070309,0106,-36.5010,  95.0085, 4226,     46.4,  16.4985,  34.9280,2,  34.9326,2,    247.2,2,    246.2,2,     0.32,2,     3.22,2,     0.05,2,     0.38,2, -999.000,9, -999.000,9, -999.000,9,   2057.2,2,   2305.1,2,   -999.0,9,  -999.00,9, -999.000,9, -999.000,-999.0000,9,-999.0000,  -999.00,9,  -999.00, -999.000,9, -999.000,   -999.0,9,   -999.0,  -999.00,9,-999.0000,9,-999.0000,9,-999.0000,9,-999.0000,9,-999.0000,9,-999.0000,9
  33RR20070204,  I08S,    72,  1,     33,     33,2,20070309,0106,-36.5010,  95.0085, 4226,     92.0,  12.3033,  35.0392,2,  35.0487,2,    252.9,2,    253.1,2,     1.70,2,     6.95,2,     0.76,2,     0.64,2, -999.000,9, -999.000,9, -999.000,9,   2100.5,2,   2306.7,2,   -999.0,9,  -999.00,9, -999.000,9, -999.000,-999.0000,9,-999.0000,  -999.00,9,  -999.00, -999.000,9, -999.000,   -999.0,9,   -999.0,  -999.00,9,-999.0000,9,-999.0000,9,-999.0000,9,-999.0000,9,-999.0000,9,-999.0000,9
  33RR20070204,  I08S,    72,  1,     32,     37,2,20070309,0106,-36.5010,  95.0085, 4226,    142.4,  11.4990,  34.9272,2,  34.9208,2,    251.0,2,    253.4,2,     2.69,2,    10.06,2,     0.02,2,     0.77,2, -999.000,9, -999.000,9, -999.000,9,   -999.0,9,   -999.0,9,   -999.0,9,  -999.00,9, -999.000,9, -999.000,-999.0000,9,-999.0000,  -999.00,9,  -999.00, -999.000,9, -999.000,   -999.0,9,   -999.0,  -999.00,9,-999.0000,9,-999.0000,9,-999.0000,9,-999.0000,9,-999.0000,9,-999.0000,9
  33RR20070204,  I08S,    72,  1,     31,     31,2,20070309,0106,-36.5010,  95.0085, 4226,    167.0,  11.2320,  34.8894,2,  34.8903,2,    252.9,2,    254.8,2,     2.88,2,    10.59,2,     0.01,2,     0.81,2, -999.000,9, -999.000,9, -999.000,9,   2105.2,2,   2295.4,2,   -999.0,9,  -999.00,9, -999.000,9, -999.000,-999.0000,9,-999.0000,  -999.00,9,  -999.00, -999.000,9, -999.000,   -999.0,9,   -999.0,  -999.00,9,-999.0000,9,-999.0000,9,-999.0000,9,-999.0000,9,-999.0000,9,-999.0000,9
  33RR20070204,  I08S,    72,  1,     30,     30,2,20070309,0106,-36.5010,  95.0085, 4226,    192.5,  11.1377,  34.8871,2,  34.8863,2,    253.7,2,    256.7,2,     3.08,2,    10.77,2,     0.01,2,     0.82,2, -999.000,9, -999.000,9, -999.000,9,   -999.0,9,   -999.0,9,   -999.0,9,  -999.00,9, -999.000,9, -999.000,-999.0000,9,-999.0000,  -999.00,9,  -999.00, -999.000,9, -999.000,   -999.0,9,   -999.0,  -999.00,9,-999.0000,9,-999.0000,9,-999.0000,9,-999.0000,9,-999.0000,9,-999.0000,9
  33RR20070204,  I08S,    72,  1,     29,     29,2,20070309,0106,-36.5010,  95.0085, 4226,    242.0,  11.0764,  34.8930,2,  34.8932,2,    251.3,2,    253.4,2,     3.27,2,    11.15,2,     0.01,2,     0.84,2, -999.000,9, -999.000,9, -999.000,9,   2107.9,2,   2298.8,2,   -999.0,9,  -999.00,9, -999.000,9, -999.000,-999.0000,9,-999.0000,  -999.00,9,  -999.00, -999.000,9, -999.000,   -999.0,9,   -999.0,  -999.00,9,-999.0000,9,-999.0000,9,-999.0000,9,-999.0000,9,-999.0000,9,-999.0000,9
  33RR20070204,  I08S,    72,  1,     28,     28,2,20070309,0106,-36.5010,  95.0085, 4226,    292.3,  11.0037,  34.9077,2,  34.9103,2,    248.2,2,    248.5,2,     3.47,2,    11.67,2,     0.01,2,     0.87,2, -999.000,9, -999.000,9, -999.000,9,   -999.0,9,   -999.0,9,   -999.0,9,  -999.00,9, -999.000,9, -999.000,-999.0000,9,-999.0000,  -999.00,9,  -999.00, -999.000,9, -999.000,   -999.0,9,   -999.0,  -999.00,9,-999.0000,9,-999.0000,9,-999.0000,9,-999.0000,9,-999.0000,9,-999.0000,9
  33RR20070204,  I08S,    72,  1,     27,     27,2,20070309,0106,-36.5010,  95.0085, 4226,    342.4,  10.8915,  34.9063,2,  34.9079,2,    246.1,2,    246.6,2,     3.47,2,    12.05,2,     0.01,2,     0.89,2, -999.000,9, -999.000,9, -999.000,9,   2114.8,2,   2297.1,2,   -999.0,9,  -999.00,9, -999.000,9, -999.000,-999.0000,9,-999.0000,  -999.00,9,  -999.00, -999.000,9, -999.000,   -999.0,9,   -999.0,  -999.00,9,-999.0000,9,-999.0000,9,-999.0000,9,-999.0000,9,-999.0000,9,-999.0000,9
  33RR20070204,  I08S,    72,  1,     26,     26,2,20070309,0106,-36.5010,  95.0085, 4226,    392.7,  10.6454,  34.8761,2,  34.8778,2,    245.7,2,    245.9,2,     3.66,2,    12.62,2,     0.01,2,     0.93,2, -999.000,9, -999.000,9, -999.000,9,   -999.0,9,   -999.0,9,   -999.0,9,  -999.00,9, -999.000,9, -999.000,-999.0000,9,-999.0000,  -999.00,9,  -999.00, -999.000,9, -999.000,   -999.0,9,   -999.0,  -999.00,9,-999.0000,9,-999.0000,9,-999.0000,9,-999.0000,9,-999.0000,9,-999.0000,9
  33RR20070204,  I08S,    72,  1,     25,     25,2,20070309,0106,-36.5010,  95.0085, 4226,    443.4,  10.4652,  34.8567,2,  34.8613,2,    243.6,2,    243.3,2,     3.65,2,    13.14,2,     0.00,2,     0.95,2, -999.000,9, -999.000,9, -999.000,9,   2117.8,2,   2295.7,2,   -999.0,9,  -999.00,9, -999.000,9, -999.000,-999.0000,9,-999.0000,  -999.00,9,  -999.00, -999.000,9, -999.000,   -999.0,9,   -999.0,  -999.00,9,-999.0000,9,-999.0000,9,-999.0000,9,-999.0000,9,-999.0000,9,-999.0000,9
  33RR20070204,  I08S,    72,  1,     24,     24,2,20070309,0106,-36.5010,  95.0085, 4226,    492.8,  10.2127,  34.8184,2,  34.8192,2,    243.7,2,    243.7,2,     3.85,2,    13.89,2,     0.00,2,     1.00,2, -999.000,9, -999.000,9, -999.000,9,   -999.0,9,   -999.0,9,   -999.0,9,  -999.00,9, -999.000,9, -999.000,-999.0000,9,-999.0000,  -999.00,9,  -999.00, -999.000,9, -999.000,   -999.0,9,   -999.0,  -999.00,9,-999.0000,9,-999.0000,9,-999.0000,9,-999.0000,9,-999.0000,9,-999.0000,9
  33RR20070204,  I08S,    72,  1,     23,     23,2,20070309,0106,-36.5010,  95.0085, 4226,    577.9,   9.7161,  34.7426,2,  34.7459,2,    242.8,2,    242.5,2,     4.25,2,    15.16,2,     0.00,2,     1.08,2, -999.000,9, -999.000,9, -999.000,9,   2122.1,2,   2289.8,2,   -999.0,9,  -999.00,9, -999.000,9, -999.000,-999.0000,9,-999.0000,  -999.00,9,  -999.00, -999.000,9, -999.000,   -999.0,9,   -999.0,  -999.00,9,-999.0000,9,-999.0000,9,-999.0000,9,-999.0000,9,-999.0000,9,-999.0000,9
  33RR20070204,  I08S,    72,  1,     22,     22,2,20070309,0106,-36.5010,  95.0085, 4226,    678.4,   8.9444,  34.6366,2,  34.6388,2,    231.3,2,    231.1,2,     6.03,2,    18.21,2,     0.00,2,     1.27,2, -999.000,9, -999.000,9, -999.000,9,   -999.0,9,   -999.0,9,   -999.0,9,  -999.00,9, -999.000,9, -999.000,-999.0000,9,-999.0000,  -999.00,9,  -999.00, -999.000,9, -999.000,   -999.0,9,   -999.0,  -999.00,9,-999.0000,9,-999.0000,9,-999.0000,9,-999.0000,9,-999.0000,9,-999.0000,9
  33RR20070204,  I08S,    72,  1,     21,     21,2,20070309,0106,-36.5010,  95.0085, 4226,    778.8,   7.8043,  34.5259,2,  34.5276,2,    212.9,2,    211.4,2,    11.19,2,    22.58,2,     0.00,2,     1.55,2, -999.000,9, -999.000,9, -999.000,9,   -999.0,9,   -999.0,9,   -999.0,9,  -999.00,9, -999.000,9, -999.000,-999.0000,9,-999.0000,  -999.00,9,  -999.00, -999.000,9, -999.000,   -999.0,9,   -999.0,  -999.00,9,-999.0000,9,-999.0000,9,-999.0000,9,-999.0000,9,-999.0000,9,-999.0000,9
  33RR20070204,  I08S,    72,  1,     20,     20,2,20070309,0106,-36.5010,  95.0085, 4226,    879.0,   6.3439,  34.4264,2,  34.4280,2,    203.4,2,    201.9,2,    19.12,2,    26.73,2,     0.00,2,     1.84,2, -999.000,9, -999.000,9, -999.000,9,   -999.0,9,   -999.0,9,   -999.0,9,  -999.00,9, -999.000,9, -999.000,-999.0000,9,-999.0000,  -999.00,9,  -999.00, -999.000,9, -999.000,   -999.0,9,   -999.0,  -999.00,9,-999.0000,9,-999.0000,9,-999.0000,9,-999.0000,9,-999.0000,9,-999.0000,9
  33RR20070204,  I08S,    72,  1,     19,     19,2,20070309,0106,-36.5010,  95.0085, 4226,    979.5,   5.1940,  34.3642,2,  34.3654,2,    205.5,2,    205.1,2,    25.48,2,    28.95,2,     0.00,2,     1.99,2, -999.000,9, -999.000,9, -999.000,9,   -999.0,9,   -999.0,9,   -999.0,9,  -999.00,9, -999.000,9, -999.000,-999.0000,9,-999.0000,  -999.00,9,  -999.00, -999.000,9, -999.000,   -999.0,9,   -999.0,  -999.00,9,-999.0000,9,-999.0000,9,-999.0000,9,-999.0000,9,-999.0000,9,-999.0000,9
  33RR20070204,  I08S,    72,  1,     18,     18,2,20070309,0106,-36.5010,  95.0085, 4226,   1080.2,   4.3329,  34.3488,2,  34.3480,2,    203.0,2,    203.4,2,    33.43,2,    30.62,2,     0.00,2,     2.12,2, -999.000,9, -999.000,9, -999.000,9,   2197.1,2,   2295.4,2,   -999.0,9,  -999.00,9, -999.000,9, -999.000,-999.0000,9,-999.0000,  -999.00,9,  -999.00, -999.000,9, -999.000,   -999.0,9,   -999.0,  -999.00,9,-999.0000,9,-999.0000,9,-999.0000,9,-999.0000,9,-999.0000,9,-999.0000,9
  33RR20070204,  I08S,    72,  1,     17,     17,2,20070309,0106,-36.5010,  95.0085, 4226,   1180.5,   3.8261,  34.3855,2,  34.3854,2,    191.0,2,    189.9,2,    44.18,2,    32.19,2,     0.00,2,     2.25,2, -999.000,9, -999.000,9, -999.000,9,   -999.0,9,   -999.0,9,   -999.0,9,  -999.00,9, -999.000,9, -999.000,-999.0000,9,-999.0000,  -999.00,9,  -999.00, -999.000,9, -999.000,   -999.0,9,   -999.0,  -999.00,9,-999.0000,9,-999.0000,9,-999.0000,9,-999.0000,9,-999.0000,9,-999.0000,9
  33RR20070204,  I08S,    72,  1,     16,     16,2,20070309,0106,-36.5010,  95.0085, 4226,   1281.5,   3.5552,  34.4492,2,  34.4506,2,    174.8,2,    172.5,2,    57.15,2,    33.73,2,     0.00,2,     2.35,2, -999.000,9, -999.000,9, -999.000,9,   -999.0,9,   -999.0,9,   -999.0,9,  -999.00,9, -999.000,9, -999.000,-999.0000,9,-999.0000,  -999.00,9,  -999.00, -999.000,9, -999.000,   -999.0,9,   -999.0,  -999.00,9,-999.0000,9,-999.0000,9,-999.0000,9,-999.0000,9,-999.0000,9,-999.0000,9
  33RR20070204,  I08S,    72,  1,     15,     15,2,20070309,0106,-36.5010,  95.0085, 4226,   1382.2,   3.3542,  34.4989,2,  34.4982,2,    164.9,2,    163.0,2,    65.55,2,    34.30,2,     0.00,2,     2.40,2, -999.000,9, -999.000,9, -999.000,9,   -999.0,9,   2328.0,2,   -999.0,9,  -999.00,9, -999.000,9, -999.000,-999.0000,9,-999.0000,  -999.00,9,  -999.00, -999.000,9, -999.000,   -999.0,9,   -999.0,  -999.00,9,-999.0000,9,-999.0000,9,-999.0000,9,-999.0000,9,-999.0000,9,-999.0000,9
  33RR20070204,  I08S,    72,  1,     14,     14,2,20070309,0106,-36.5010,  95.0085, 4226,   1483.0,   3.1759,  34.5404,2,  34.5412,2,    159.7,2,    158.7,2,    72.16,2,    34.34,2,     0.00,2,     2.42,2, -999.000,9, -999.000,9, -999.000,9,   -999.0,9,   -999.0,9,   -999.0,9,  -999.00,9, -999.000,9, -999.000,-999.0000,9,-999.0000,  -999.00,9,  -999.00, -999.000,9, -999.000,   -999.0,9,   -999.0,  -999.00,9,-999.0000,9,-999.0000,9,-999.0000,9,-999.0000,9,-999.0000,9,-999.0000,9
  33RR20070204,  I08S,    72,  1,     13,     13,2,20070309,0106,-36.5010,  95.0085, 4226,   1584.1,   2.9913,  34.5827,2,  34.5829,2,    158.0,2,    157.6,2,    77.19,2,    34.34,2,     0.00,2,     2.41,2, -999.000,9, -999.000,9, -999.000,9,   2260.2,2,   2341.2,2,   -999.0,9,  -999.00,9, -999.000,9, -999.000,-999.0000,9,-999.0000,  -999.00,9,  -999.00, -999.000,9, -999.000,   -999.0,9,   -999.0,  -999.00,9,-999.0000,9,-999.0000,9,-999.0000,9,-999.0000,9,-999.0000,9,-999.0000,9
  33RR20070204,  I08S,    72,  1,     12,     12,2,20070309,0106,-36.5010,  95.0085, 4226,   1784.9,   2.7614,  34.6399,2,  34.6398,2,    158.7,2,    158.9,2,    84.03,2,    33.81,2,     0.00,2,     2.37,2, -999.000,9, -999.000,9, -999.000,9,   -999.0,9,   -999.0,9,   -999.0,9,  -999.00,9, -999.000,9, -999.000,-999.0000,9,-999.0000,  -999.00,9,  -999.00, -999.000,9, -999.000,   -999.0,9,   -999.0,  -999.00,9,-999.0000,9,-999.0000,9,-999.0000,9,-999.0000,9,-999.0000,9,-999.0000,9
  33RR20070204,  I08S,    72,  1,     11,     11,2,20070309,0106,-36.5010,  95.0085, 4226,   1987.1,   2.5448,  34.6818,2,  34.6817,2,    165.3,2,    165.4,2,    87.85,2,    33.04,2,     0.00,2,     2.32,2, -999.000,9, -999.000,9, -999.000,9,   -999.0,9,   -999.0,9,   -999.0,9,  -999.00,9, -999.000,9, -999.000,-999.0000,9,-999.0000,  -999.00,9,  -999.00, -999.000,9, -999.000,   -999.0,9,   -999.0,  -999.00,9,-999.0000,9,-999.0000,9,-999.0000,9,-999.0000,9,-999.0000,9,-999.0000,9
  33RR20070204,  I08S,    72,  1,     10,     10,2,20070309,0106,-36.5010,  95.0085, 4226,   2189.2,   2.3490,  34.7132,2,  34.7133,2,    175.1,2,    177.0,2,    86.25,2,    31.89,2,     0.00,2,     2.22,2, -999.000,9, -999.000,9, -999.000,9,   -999.0,9,   2350.6,2,   -999.0,9,  -999.00,9, -999.000,9, -999.000,-999.0000,9,-999.0000,  -999.00,9,  -999.00, -999.000,9, -999.000,   -999.0,9,   -999.0,  -999.00,9,-999.0000,9,-999.0000,9,-999.0000,9,-999.0000,9,-999.0000,9,-999.0000,9
  33RR20070204,  I08S,    72,  1,      9,      9,2,20070309,0106,-36.5010,  95.0085, 4226,   2442.2,   2.1367,  34.7383,2,  34.7381,2,    186.5,2,    187.6,2,    87.06,2,    30.89,2,     0.00,2,     2.14,2, -999.000,9, -999.000,9, -999.000,9,   -999.0,9,   -999.0,9,   -999.0,9,  -999.00,9, -999.000,9, -999.000,-999.0000,9,-999.0000,  -999.00,9,  -999.00, -999.000,9, -999.000,   -999.0,9,   -999.0,  -999.00,9,-999.0000,9,-999.0000,9,-999.0000,9,-999.0000,9,-999.0000,9,-999.0000,9
  33RR20070204,  I08S,    72,  1,      8,      8,2,20070309,0106,-36.5010,  95.0085, 4226,   2695.9,   1.8876,  34.7488,2,  34.7485,2,    195.4,2,    195.9,2,    90.50,2,    30.36,2,     0.00,2,     2.10,2,    0.036,2,    0.019,2, -999.000,5,   2248.5,2,   2351.5,2,   -999.0,9,  -999.00,9, -999.000,9, -999.000,-999.0000,9,-999.0000,  -999.00,9,  -999.00, -999.000,9, -999.000,   -999.0,9,   -999.0,  -999.00,9,-999.0000,9,-999.0000,9,-999.0000,9,-999.0000,9,-999.0000,9,-999.0000,9
  33RR20070204,  I08S,    72,  1,      7,      7,2,20070309,0106,-36.5010,  95.0085, 4226,   2949.5,   1.5632,  34.7403,2,  34.7400,2,    199.6,2,    200.2,2,   101.42,2,    30.79,2,     0.00,2,     2.13,2,    0.027,2,    0.014,2, -999.000,5,   -999.0,9,   -999.0,9,   -999.0,9,  -999.00,9, -999.000,9, -999.000,-999.0000,9,-999.0000,  -999.00,9,  -999.00, -999.000,9, -999.000,   -999.0,9,   -999.0,  -999.00,9,-999.0000,9,-999.0000,9,-999.0000,9,-999.0000,9,-999.0000,9,-999.0000,9
  33RR20070204,  I08S,    72,  1,      6,      6,2,20070309,0106,-36.5010,  95.0085, 4226,   3203.3,   1.3293,  34.7310,2,  34.7294,2,    202.5,2,    203.6,2,   108.11,2,    31.07,2,     0.00,2,     2.16,2,    0.039,2,    0.019,2, -999.000,5,   -999.0,9,   -999.0,9,   -999.0,9,  -999.00,9, -999.000,9, -999.000,-999.0000,9,-999.0000,  -999.00,9,  -999.00, -999.000,9, -999.000,   -999.0,9,   -999.0,  -999.00,9,-999.0000,9,-999.0000,9,-999.0000,9,-999.0000,9,-999.0000,9,-999.0000,9
  33RR20070204,  I08S,    72,  1,      5,      5,2,20070309,0106,-36.5010,  95.0085, 4226,   3457.1,   1.1438,  34.7220,2,  34.7215,2,    204.9,2,    204.7,2,   114.61,2,    31.50,2,     0.00,2,     2.18,2,    0.052,2,    0.029,2, -999.000,5,   -999.0,9,   -999.0,9,   -999.0,9,  -999.00,9, -999.000,9, -999.000,-999.0000,9,-999.0000,  -999.00,9,  -999.00, -999.000,9, -999.000,   -999.0,9,   -999.0,  -999.00,9,-999.0000,9,-999.0000,9,-999.0000,9,-999.0000,9,-999.0000,9,-999.0000,9
  33RR20070204,  I08S,    72,  1,      4,      4,2,20070309,0106,-36.5010,  95.0085, 4226,   3711.9,   1.0342,  34.7158,2,  34.7152,2,    205.8,2,    205.7,2,   118.49,2,    31.78,2,     0.00,2,     2.20,2,    0.048,2,    0.027,2, -999.000,5,   -999.0,9,   -999.0,9,   -999.0,9,  -999.00,9, -999.000,9, -999.000,-999.0000,9,-999.0000,  -999.00,9,  -999.00, -999.000,9, -999.000,   -999.0,9,   -999.0,  -999.00,9,-999.0000,9,-999.0000,9,-999.0000,9,-999.0000,9,-999.0000,9,-999.0000,9
  33RR20070204,  I08S,    72,  1,      3,      3,2,20070309,0106,-36.5010,  95.0085, 4226,   3966.1,   0.9958,  34.7128,2,  34.7123,2,    206.2,2,    206.4,2,   119.94,2,    31.92,2,     0.00,2,     2.21,2,    0.040,2,    0.022,2, -999.000,5,   -999.0,9,   2368.5,2,   -999.0,9,  -999.00,9, -999.000,9, -999.000,-999.0000,9,-999.0000,  -999.00,9,  -999.00, -999.000,9, -999.000,   -999.0,9,   -999.0,  -999.00,9,-999.0000,9,-999.0000,9,-999.0000,9,-999.0000,9,-999.0000,9,-999.0000,9
  33RR20070204,  I08S,    72,  1,      2,      2,2,20070309,0106,-36.5010,  95.0085, 4226,   4170.1,   0.9959,  34.7119,2,  34.7109,2,    206.3,2,    206.0,2,   120.76,2,    31.97,2,     0.00,2,     2.21,2,    0.038,2,    0.020,2, -999.000,5,   2267.7,2,   2369.8,2,   -999.0,9,  -999.00,9, -999.000,9, -999.000,-999.0000,9,-999.0000,  -999.00,9,  -999.00, -999.000,9, -999.000,   -999.0,9,   -999.0,  -999.00,9,-999.0000,9,-999.0000,9,-999.0000,9,-999.0000,9,-999.0000,9,-999.0000,9
  33RR20070204,  I08S,    72,  1,      1,      1,2,20070309,0106,-36.5010,  95.0085, 4226,   4296.4,   1.0009,  34.7115,2,  34.7109,2,    205.5,2,    206.4,2,   120.57,2,    32.02,2,     0.00,2,     2.22,2,    0.037,2,    0.021,2, -999.000,5,   2269.1,2,   2370.2,2,   -999.0,9,  -999.00,9, -999.000,9, -999.000,-999.0000,9,-999.0000,  -999.00,9,  -999.00, -999.000,9, -999.000,   -999.0,9,   -999.0,  -999.00,9,-999.0000,9,-999.0000,9,-999.0000,9,-999.0000,9,-999.0000,9,-999.0000,9