BOTTLE,20150626SIOCCHRJL
EXPOCODE,SECT_ID,STNNBR,CASTNO,SAMPNO,BTLNBR,BTLNBR_FLAG_W,DATE,TIME,LATITUDE,LONGITUDE,DEPTH,CTDPRS,CTDTMP,CTDSAL,CTDSAL_FLAG_W,SALNTY,SALNTY_FLAG_W,CTDOXY,CTDOXY_FLAG_W,OXYGEN,OXYGEN_FLAG_W,SILCAT,SILCAT_FLAG_W,NITRAT,NITRAT_FLAG_W,NITRIT,NITRIT_FLAG_W,PHSPHT,PHSPHT_FLAG_W,CFC-11,CFC-11_FLAG_W,CFC-12,CFC-12_FLAG_W,CFC113,CFC113_FLAG_W,TCARBN,TCARBN_FLAG_W,ALKALI,ALKALI_FLAG_W,DOC,DOC_FLAG_W,TDN,TDN_FLAG_W,TRITUM,TRITUM_FLAG_W,TRITER,HELIUM,HELIUM_FLAG_W,HELIER,DELHE3,DELHE3_FLAG_W,DELHER,NEON,NEON_FLAG_W,NEONER,DELC14,DELC14_FLAG_W,C14ERR,DELC13,DELC13_FLAG_W,CDOM325,CDOM325_FLAG_W,CDOM340,CDOM340_FLAG_W,CDOM380,CDOM380_FLAG_W,CDOM412,CDOM412_FLAG_W,CDOMSL,CDOMSL_FLAG_W,CDOMSN,CDOMSN_FLAG_W
,,,,,,,,,,,METERS,DBAR,ITS-90,PSS-78,,PSS-78,,UMOL/KG,,UMOL/KG,,UMOL/KG,,UMOL/KG,,UMOL/KG,,UMOL/KG,,PMOL/KG,,PMOL/KG,,PMOL/KG,,UMOL/KG,,UMOL/KG,,UMOL/KG,,UMOL/KG,,TU,,TU,NMOL/KG,,NMOL/KG,PERCNT,,PERCNT,NMOL/KG,,NMOL/KG,/MILLE,,/MILLE,/MILLE,,1/M,,1/M,,1/M,,1/M,,1/NM,,1/NM,
  33RR20070204,  I08S,     6,  1,     35,     35,2,20070216,1600,-64.6655,  84.3112, 3526,      2.8,  -0.1934,  33.2478,2,  33.2490,2,    357.5,2,    361.8,2,    21.63,2,    17.88,2,     0.19,2,     1.09,2,    6.037,2,    3.266,2, -999.000,5,   2084.1,2,   2257.6,2,   -999.0,9,  -999.00,9, -999.000,9, -999.000,-999.0000,9,-999.0000,  -999.00,9,  -999.00, -999.000,9, -999.000,   -999.0,9,   -999.0,  -999.00,9,-999.0000,9,-999.0000,9,-999.0000,9,-999.0000,9,-999.0000,9,-999.0000,9
  33RR20070204,  I08S,     6,  1,     34,   9433,2,20070216,1600,-64.6655,  84.3112, 3526,     79.7,  -1.7602,  34.2876,2,  34.2867,2,    296.9,2,    299.1,2,    64.87,2,    30.73,2,     0.03,2,     2.10,2,    4.773,2,    2.489,2, -999.000,5,   2211.4,2,   2312.1,2,   -999.0,9,  -999.00,9, -999.000,9, -999.000,-999.0000,9,-999.0000,  -999.00,9,  -999.00, -999.000,9, -999.000,   -999.0,9,   -999.0,  -999.00,9,-999.0000,9,-999.0000,9,-999.0000,9,-999.0000,9,-999.0000,9,-999.0000,9
  33RR20070204,  I08S,     6,  1,     33,     33,2,20070216,1600,-64.6655,  84.3112, 3526,    104.8,  -1.7464,  34.2967,2,  34.2965,2,    301.5,2,    299.7,2,    66.84,2,    30.69,2,     0.02,2,     2.11,2,    4.805,2,    2.571,2, -999.000,5,   2210.9,2,   2313.4,2,   -999.0,9,  -999.00,9, -999.000,9, -999.000,-999.0000,9,-999.0000,  -999.00,9,  -999.00, -999.000,9, -999.000,   -999.0,9,   -999.0,  -999.00,9,-999.0000,9,-999.0000,9,-999.0000,9,-999.0000,9,-999.0000,9,-999.0000,9
  33RR20070204,  I08S,     6,  1,     32,     32,2,20070216,1600,-64.6655,  84.3112, 3526,    150.3,  -1.7085,  34.3227,2,  34.3220,2,    308.2,2,    304.3,2,    64.65,2,    30.66,2,     0.01,2,     2.10,2,    5.008,2,    2.642,2, -999.000,5,   2212.9,2,   2316.8,2,   -999.0,9,  -999.00,9, -999.000,9, -999.000,-999.0000,9,-999.0000,  -999.00,9,  -999.00, -999.000,9, -999.000,   -999.0,9,   -999.0,  -999.00,9,-999.0000,9,-999.0000,9,-999.0000,9,-999.0000,9,-999.0000,9,-999.0000,9
  33RR20070204,  I08S,     6,  1,     31,     31,2,20070216,1600,-64.6655,  84.3112, 3526,    200.5,  -0.8241,  34.3947,2,  34.4013,2,    307.1,2,    271.7,2,    70.38,2,    31.55,2,     0.02,2,     2.18,2,    3.994,2,    2.098,2, -999.000,5,   2225.5,2,   2321.2,2,   -999.0,9,  -999.00,9, -999.000,9, -999.000,-999.0000,9,-999.0000,  -999.00,9,  -999.00, -999.000,9, -999.000,   -999.0,9,   -999.0,  -999.00,9,-999.0000,9,-999.0000,9,-999.0000,9,-999.0000,9,-999.0000,9,-999.0000,9
  33RR20070204,  I08S,     6,  1,     30,     30,2,20070216,1600,-64.6655,  84.3112, 3526,    225.9,   0.2984,  34.4997,2,  34.4971,2,    261.0,2,    230.9,2,    77.50,2,    32.57,2,     0.02,2,     2.26,2,    2.575,2,    1.342,2, -999.000,5,   2239.9,3,   2327.7,2,   -999.0,9,  -999.00,9, -999.000,9, -999.000,-999.0000,9,-999.0000,  -999.00,9,  -999.00, -999.000,9, -999.000,   -999.0,9,   -999.0,  -999.00,9,-999.0000,9,-999.0000,9,-999.0000,9,-999.0000,9,-999.0000,9,-999.0000,9
  33RR20070204,  I08S,     6,  1,     29,     29,2,20070216,1600,-64.6655,  84.3112, 3526,    250.9,  -0.2728,  34.4735,2,  34.4747,2,    285.9,2,    253.0,2,    74.91,2,    31.95,2,     0.01,2,     2.20,2,    3.224,2,    1.704,2, -999.000,5,   2232.3,2,   2326.8,2,   -999.0,9,  -999.00,9, -999.000,9, -999.000,-999.0000,9,-999.0000,  -999.00,9,  -999.00, -999.000,9, -999.000,   -999.0,9,   -999.0,  -999.00,9,-999.0000,9,-999.0000,9,-999.0000,9,-999.0000,9,-999.0000,9,-999.0000,9
  33RR20070204,  I08S,     6,  1,     28,     28,2,20070216,1600,-64.6655,  84.3112, 3526,    301.6,  -0.3917,  34.4910,2,  34.4918,2,    260.7,2,    260.5,2,    75.49,2,    31.47,2,     0.01,2,     2.17,2,    3.370,2,    1.780,2, -999.000,5,   2230.9,2,   2328.3,2,   -999.0,9,  -999.00,9, -999.000,9, -999.000,-999.0000,9,-999.0000,  -999.00,9,  -999.00, -999.000,9, -999.000,   -999.0,9,   -999.0,  -999.00,9,-999.0000,9,-999.0000,9,-999.0000,9,-999.0000,9,-999.0000,9,-999.0000,9
  33RR20070204,  I08S,     6,  1,     27,     27,2,20070216,1600,-64.6655,  84.3112, 3526,    352.0,   0.2240,  34.5615,2,  34.5611,2,    225.7,2,    238.0,2,    80.63,2,    31.57,2,     0.01,2,     2.19,2,    2.469,2,    1.297,2, -999.000,5,   2238.6,2,   2333.0,2,   -999.0,9,  -999.00,9, -999.000,9, -999.000,-999.0000,9,-999.0000,  -999.00,9,  -999.00, -999.000,9, -999.000,   -999.0,9,   -999.0,  -999.00,9,-999.0000,9,-999.0000,9,-999.0000,9,-999.0000,9,-999.0000,9,-999.0000,9
  33RR20070204,  I08S,     6,  1,     26,     26,2,20070216,1600,-64.6655,  84.3112, 3526,    402.6,   0.9606,  34.6453,2,  34.6451,2,    209.7,2,    211.4,2,    86.57,2,    31.81,2,     0.01,2,     2.20,2, -999.000,9, -999.000,9, -999.000,9,   -999.0,9,   -999.0,9,   -999.0,9,  -999.00,9, -999.000,9, -999.000,-999.0000,9,-999.0000,  -999.00,9,  -999.00, -999.000,9, -999.000,   -999.0,9,   -999.0,  -999.00,9,-999.0000,9,-999.0000,9,-999.0000,9,-999.0000,9,-999.0000,9,-999.0000,9
  33RR20070204,  I08S,     6,  1,     25,     25,2,20070216,1600,-64.6655,  84.3112, 3526,    452.7,   1.2982,  34.6931,2,  34.6942,2,    207.1,2,    200.9,2,    88.14,2,    31.47,2,     0.01,2,     2.18,2,    0.745,2,    0.391,2, -999.000,5,   -999.0,9,   -999.0,9,   -999.0,9,  -999.00,9, -999.000,9, -999.000,-999.0000,9,-999.0000,  -999.00,9,  -999.00, -999.000,9, -999.000,   -999.0,9,   -999.0,  -999.00,9,-999.0000,9,-999.0000,9,-999.0000,9,-999.0000,9,-999.0000,9,-999.0000,9
  33RR20070204,  I08S,     6,  1,     24,     24,2,20070216,1600,-64.6655,  84.3112, 3526,    503.2,   1.2983,  34.7031,2,  34.7030,2,    203.2,2,    201.6,2,    90.72,2,    31.33,2,     0.01,2,     2.17,2, -999.000,9, -999.000,9, -999.000,9,   -999.0,9,   -999.0,9,   -999.0,9,  -999.00,9, -999.000,9, -999.000,-999.0000,9,-999.0000,  -999.00,9,  -999.00, -999.000,9, -999.000,   -999.0,9,   -999.0,  -999.00,9,-999.0000,9,-999.0000,9,-999.0000,9,-999.0000,9,-999.0000,9,-999.0000,9
  33RR20070204,  I08S,     6,  1,     23,     23,2,20070216,1600,-64.6655,  84.3112, 3526,    553.6,   1.2860,  34.7101,2,  34.7104,2,    202.5,2,    201.8,2,    91.90,2,    31.23,2,     0.01,2,     2.15,2,    0.579,2,    0.305,2, -999.000,5,   -999.0,9,   -999.0,9,   -999.0,9,  -999.00,9, -999.000,9, -999.000,-999.0000,9,-999.0000,  -999.00,9,  -999.00, -999.000,9, -999.000,   -999.0,9,   -999.0,  -999.00,9,-999.0000,9,-999.0000,9,-999.0000,9,-999.0000,9,-999.0000,9,-999.0000,9
  33RR20070204,  I08S,     6,  1,     22,     22,2,20070216,1600,-64.6655,  84.3112, 3526,    639.5,   1.2130,  34.7128,2,  34.7134,2,    203.6,2,    203.3,2,    94.27,2,    31.09,2,     0.01,2,     2.15,2,    0.538,2,    0.282,2, -999.000,5,   -999.0,9,   -999.0,9,   -999.0,9,  -999.00,9, -999.000,9, -999.000,-999.0000,9,-999.0000,  -999.00,9,  -999.00, -999.000,9, -999.000,   -999.0,9,   -999.0,  -999.00,9,-999.0000,9,-999.0000,9,-999.0000,9,-999.0000,9,-999.0000,9,-999.0000,9
  33RR20070204,  I08S,     6,  1,     21,     21,2,20070216,1600,-64.6655,  84.3112, 3526,    739.4,   1.1748,  34.7198,2,  34.7218,2,    202.3,2,    203.0,2,    97.05,2,    31.05,2,     0.00,2,     2.15,2,    0.406,2,    0.206,2, -999.000,5,   -999.0,9,   -999.0,9,   -999.0,9,  -999.00,9, -999.000,9, -999.000,-999.0000,9,-999.0000,  -999.00,9,  -999.00, -999.000,9, -999.000,   -999.0,9,   -999.0,  -999.00,9,-999.0000,9,-999.0000,9,-999.0000,9,-999.0000,9,-999.0000,9,-999.0000,9
  33RR20070204,  I08S,     6,  1,     20,     20,2,20070216,1600,-64.6655,  84.3112, 3526,    841.4,   1.0721,  34.7176,2,  34.7189,2,    203.7,2,    204.0,2,   101.62,2,    31.23,2,     0.00,2,     2.17,2,    0.375,2,    0.189,2, -999.000,5,   -999.0,9,   -999.0,9,   -999.0,9,  -999.00,9, -999.000,9, -999.000,-999.0000,9,-999.0000,  -999.00,9,  -999.00, -999.000,9, -999.000,   -999.0,9,   -999.0,  -999.00,9,-999.0000,9,-999.0000,9,-999.0000,9,-999.0000,9,-999.0000,9,-999.0000,9
  33RR20070204,  I08S,     6,  1,     19,     19,2,20070216,1600,-64.6655,  84.3112, 3526,    942.5,   0.9974,  34.7163,2,  34.7175,2,    203.5,2,    204.2,2,   104.80,2,    31.48,2,     0.00,2,     2.18,2,    0.320,2,    0.161,2, -999.000,5,   -999.0,9,   -999.0,9,   -999.0,9,  -999.00,9, -999.000,9, -999.000,-999.0000,9,-999.0000,  -999.00,9,  -999.00, -999.000,9, -999.000,   -999.0,9,   -999.0,  -999.00,9,-999.0000,9,-999.0000,9,-999.0000,9,-999.0000,9,-999.0000,9,-999.0000,9
  33RR20070204,  I08S,     6,  1,     18,     18,2,20070216,1600,-64.6655,  84.3112, 3526,   1043.8,   0.8624,  34.7079,2,  34.7092,2,    206.8,2,    206.9,2,   106.19,2,    31.62,2,     0.00,2,     2.19,2, -999.000,9, -999.000,9, -999.000,9,   -999.0,9,   2350.8,2,   -999.0,9,  -999.00,9, -999.000,9, -999.000,-999.0000,9,-999.0000,  -999.00,9,  -999.00, -999.000,9, -999.000,   -999.0,9,   -999.0,  -999.00,9,-999.0000,9,-999.0000,9,-999.0000,9,-999.0000,9,-999.0000,9,-999.0000,9
  33RR20070204,  I08S,     6,  1,     17,     17,2,20070216,1600,-64.6655,  84.3112, 3526,   1145.3,   0.8146,  34.7083,2,  34.7094,2,    205.9,2,    205.9,2,   110.96,2,    31.77,2,     0.00,2,     2.20,2,    0.301,2,    0.144,2, -999.000,5,   -999.0,9,   -999.0,9,   -999.0,9,  -999.00,9, -999.000,9, -999.000,-999.0000,9,-999.0000,  -999.00,9,  -999.00, -999.000,9, -999.000,   -999.0,9,   -999.0,  -999.00,9,-999.0000,9,-999.0000,9,-999.0000,9,-999.0000,9,-999.0000,9,-999.0000,9
  33RR20070204,  I08S,     6,  1,     16,     16,2,20070216,1600,-64.6655,  84.3112, 3526,   1246.3,   0.7277,  34.7032,2,  34.7039,2,    207.2,2,    207.3,2,   112.35,2,    31.92,2,     0.00,2,     2.21,2, -999.000,9, -999.000,9, -999.000,9,   -999.0,9,   2352.5,2,   -999.0,9,  -999.00,9, -999.000,9, -999.000,-999.0000,9,-999.0000,  -999.00,9,  -999.00, -999.000,9, -999.000,   -999.0,9,   -999.0,  -999.00,9,-999.0000,9,-999.0000,9,-999.0000,9,-999.0000,9,-999.0000,9,-999.0000,9
  33RR20070204,  I08S,     6,  1,     15,     15,2,20070216,1600,-64.6655,  84.3112, 3526,   1348.0,   0.6261,  34.6979,2,  34.6992,2,    208.2,2,    208.8,2,   114.34,2,    32.15,2,     0.00,2,     2.23,2,    0.326,2,    0.165,2, -999.000,5,   -999.0,9,   -999.0,9,   -999.0,9,  -999.00,9, -999.000,9, -999.000,-999.0000,9,-999.0000,  -999.00,9,  -999.00, -999.000,9, -999.000,   -999.0,9,   -999.0,  -999.00,9,-999.0000,9,-999.0000,9,-999.0000,9,-999.0000,9,-999.0000,9,-999.0000,9
  33RR20070204,  I08S,     6,  1,     14,     14,2,20070216,1600,-64.6655,  84.3112, 3526,   1449.2,   0.5523,  34.6950,2,  34.6958,2,    209.5,2,    209.8,2,   118.53,2,    32.30,2,     0.00,2,     2.24,2, -999.000,9, -999.000,9, -999.000,9,   2257.6,2,   2353.8,2,   -999.0,9,  -999.00,9, -999.000,9, -999.000,-999.0000,9,-999.0000,  -999.00,9,  -999.00, -999.000,9, -999.000,   -999.0,9,   -999.0,  -999.00,9,-999.0000,9,-999.0000,9,-999.0000,9,-999.0000,9,-999.0000,9,-999.0000,9
  33RR20070204,  I08S,     6,  1,     13,     13,2,20070216,1600,-64.6655,  84.3112, 3526,   1550.7,   0.4770,  34.6910,2,  34.6915,2,    210.8,2,    211.2,2,   118.91,2,    32.35,2,     0.00,2,     2.25,2,    0.318,2,    0.162,2, -999.000,5,   -999.0,9,   -999.0,9,   -999.0,9,  -999.00,9, -999.000,9, -999.000,-999.0000,9,-999.0000,  -999.00,9,  -999.00, -999.000,9, -999.000,   -999.0,9,   -999.0,  -999.00,9,-999.0000,9,-999.0000,9,-999.0000,9,-999.0000,9,-999.0000,9,-999.0000,9
  33RR20070204,  I08S,     6,  1,     12,     12,2,20070216,1600,-64.6655,  84.3112, 3526,   1652.2,   0.4171,  34.6887,2,  34.6895,2,    212.4,2,    211.9,2,   121.51,2,    32.54,2,     0.00,2,     2.25,2, -999.000,9, -999.000,9, -999.000,9,   -999.0,9,   2352.9,2,   -999.0,9,  -999.00,9, -999.000,9, -999.000,-999.0000,9,-999.0000,  -999.00,9,  -999.00, -999.000,9, -999.000,   -999.0,9,   -999.0,  -999.00,9,-999.0000,9,-999.0000,9,-999.0000,9,-999.0000,9,-999.0000,9,-999.0000,9
  33RR20070204,  I08S,     6,  1,     11,     11,2,20070216,1600,-64.6655,  84.3112, 3526,   1753.9,   0.3535,  34.6860,2,  34.6873,2,    213.9,2,    213.8,2,   122.50,2,    32.49,2,     0.00,2,     2.26,2,    0.322,2,    0.161,2, -999.000,5,   -999.0,9,   -999.0,9,   -999.0,9,  -999.00,9, -999.000,9, -999.000,-999.0000,9,-999.0000,  -999.00,9,  -999.00, -999.000,9, -999.000,   -999.0,9,   -999.0,  -999.00,9,-999.0000,9,-999.0000,9,-999.0000,9,-999.0000,9,-999.0000,9,-999.0000,9
  33RR20070204,  I08S,     6,  1,     10,     10,2,20070216,1600,-64.6655,  84.3112, 3526,   1855.4,   0.2957,  34.6831,2,  34.6836,2,    215.6,2,    214.4,2,   124.49,2,    32.54,2,     0.00,2,     2.27,2, -999.000,9, -999.000,9, -999.000,9,   2258.6,2,   2354.3,2,   -999.0,9,  -999.00,9, -999.000,9, -999.000,-999.0000,9,-999.0000,  -999.00,9,  -999.00, -999.000,9, -999.000,   -999.0,9,   -999.0,  -999.00,9,-999.0000,9,-999.0000,9,-999.0000,9,-999.0000,9,-999.0000,9,-999.0000,9
  33RR20070204,  I08S,     6,  1,      9,      9,2,20070216,1600,-64.6655,  84.3112, 3526,   1957.0,   0.2414,  34.6807,2,  34.6810,2,    216.9,2,    216.8,2,   125.28,2,    32.59,2,     0.00,2,     2.27,2,    0.341,2,    0.174,2, -999.000,5,   -999.0,9,   -999.0,9,   -999.0,9,  -999.00,9, -999.000,9, -999.000,-999.0000,9,-999.0000,  -999.00,9,  -999.00, -999.000,9, -999.000,   -999.0,9,   -999.0,  -999.00,9,-999.0000,9,-999.0000,9,-999.0000,9,-999.0000,9,-999.0000,9,-999.0000,9
  33RR20070204,  I08S,     6,  1,      8,      8,2,20070216,1600,-64.6655,  84.3112, 3526,   2058.7,   0.1983,  34.6788,2,  34.6796,2,    219.4,2,    218.5,2,   124.26,2,    32.50,2,     0.00,2,     2.26,2, -999.000,9, -999.000,9, -999.000,9,   -999.0,9,   2353.3,2,   -999.0,9,  -999.00,9, -999.000,9, -999.000,-999.0000,9,-999.0000,  -999.00,9,  -999.00, -999.000,9, -999.000,   -999.0,9,   -999.0,  -999.00,9,-999.0000,9,-999.0000,9,-999.0000,9,-999.0000,9,-999.0000,9,-999.0000,9
  33RR20070204,  I08S,     6,  1,      7,      7,2,20070216,1600,-64.6655,  84.3112, 3526,   2262.1,   0.1076,  34.6752,2,  34.6767,2,    222.6,2,    221.5,2,   126.86,2,    32.64,2,     0.00,2,     2.27,2,    0.414,2,    0.213,2, -999.000,5,   -999.0,9,   -999.0,9,   -999.0,9,  -999.00,9, -999.000,9, -999.000,-999.0000,9,-999.0000,  -999.00,9,  -999.00, -999.000,9, -999.000,   -999.0,9,   -999.0,  -999.00,9,-999.0000,9,-999.0000,9,-999.0000,9,-999.0000,9,-999.0000,9,-999.0000,9
  33RR20070204,  I08S,     6,  1,      6,      6,2,20070216,1600,-64.6655,  84.3112, 3526,   2516.6,   0.0286,  34.6731,2,  34.6738,2,    226.5,2,    226.2,2,   124.23,2,    32.36,2,     0.00,2,     2.25,2, -999.000,9, -999.000,9, -999.000,9,   -999.0,9,   2352.3,2,   -999.0,9,  -999.00,9, -999.000,9, -999.000,-999.0000,9,-999.0000,  -999.00,9,  -999.00, -999.000,9, -999.000,   -999.0,9,   -999.0,  -999.00,9,-999.0000,9,-999.0000,9,-999.0000,9,-999.0000,9,-999.0000,9,-999.0000,9
  33RR20070204,  I08S,     6,  1,      5,      5,2,20070216,1600,-64.6655,  84.3112, 3526,   2771.6,  -0.0332,  34.6710,2,  34.6707,2,    229.4,2,    229.2,2,   123.61,2,    32.31,2,     0.00,2,     2.24,2,    0.955,2,    0.497,2, -999.000,5,   -999.0,9,   -999.0,9,   -999.0,9,  -999.00,9, -999.000,9, -999.000,-999.0000,9,-999.0000,  -999.00,9,  -999.00, -999.000,9, -999.000,   -999.0,9,   -999.0,  -999.00,9,-999.0000,9,-999.0000,9,-999.0000,9,-999.0000,9,-999.0000,9,-999.0000,9
  33RR20070204,  I08S,     6,  1,      4,      4,2,20070216,1600,-64.6655,  84.3112, 3526,   3026.5,  -0.0765,  34.6687,2,  34.6693,2,    231.7,2,    231.7,2,   121.80,2,    32.21,2,     0.00,2,     2.24,2, -999.000,9, -999.000,9, -999.000,9,   -999.0,9,   2350.7,2,   -999.0,9,  -999.00,9, -999.000,9, -999.000,-999.0000,9,-999.0000,  -999.00,9,  -999.00, -999.000,9, -999.000,   -999.0,9,   -999.0,  -999.00,9,-999.0000,9,-999.0000,9,-999.0000,9,-999.0000,9,-999.0000,9,-999.0000,9
  33RR20070204,  I08S,     6,  1,      3,      3,2,20070216,1600,-64.6655,  84.3112, 3526,   3281.8,  -0.1115,  34.6665,2,  34.6667,2,    233.7,2,    233.6,2,   122.38,2,    32.26,2,     0.00,2,     2.23,2,    1.275,2,    0.668,2, -999.000,5,   -999.0,9,   -999.0,9,   -999.0,9,  -999.00,9, -999.000,9, -999.000,-999.0000,9,-999.0000,  -999.00,9,  -999.00, -999.000,9, -999.000,   -999.0,9,   -999.0,  -999.00,9,-999.0000,9,-999.0000,9,-999.0000,9,-999.0000,9,-999.0000,9,-999.0000,9
  33RR20070204,  I08S,     6,  1,      2,      2,2,20070216,1600,-64.6655,  84.3112, 3526,   3435.0,  -0.1436,  34.6647,2,  34.6651,2,    234.0,2,    234.2,2,   127.99,2,    32.31,2,     0.00,2,     2.24,2,    1.254,2,    0.647,2, -999.000,5,   2255.0,6,   2350.8,2,   -999.0,9,  -999.00,9, -999.000,9, -999.000,-999.0000,9,-999.0000,  -999.00,9,  -999.00, -999.000,9, -999.000,   -999.0,9,   -999.0,  -999.00,9,-999.0000,9,-999.0000,9,-999.0000,9,-999.0000,9,-999.0000,9,-999.0000,9
  33RR20070204,  I08S,     6,  1,      1,      1,2,20070216,1600,-64.6655,  84.3112, 3526,   3568.1,  -0.1764,  34.6615,2,  34.6618,2,    233.1,2,    234.0,2,   138.64,2,    32.36,2,     0.00,2,     2.27,2,    1.086,2,    0.564,2, -999.000,5,   2255.9,2,   2353.0,2,   -999.0,9,  -999.00,9, -999.000,9, -999.000,-999.0000,9,-999.0000,  -999.00,9,  -999.00, -999.000,9, -999.000,   -999.0,9,   -999.0,  -999.00,9,-999.0000,9,-999.0000,9,-999.0000,9,-999.0000,9,-999.0000,9,-999.0000,9