BOTTLE,20150626SIOCCHRJL
EXPOCODE,SECT_ID,STNNBR,CASTNO,SAMPNO,BTLNBR,BTLNBR_FLAG_W,DATE,TIME,LATITUDE,LONGITUDE,DEPTH,CTDPRS,CTDTMP,CTDSAL,CTDSAL_FLAG_W,SALNTY,SALNTY_FLAG_W,CTDOXY,CTDOXY_FLAG_W,OXYGEN,OXYGEN_FLAG_W,SILCAT,SILCAT_FLAG_W,NITRAT,NITRAT_FLAG_W,NITRIT,NITRIT_FLAG_W,PHSPHT,PHSPHT_FLAG_W,CFC-11,CFC-11_FLAG_W,CFC-12,CFC-12_FLAG_W,CFC113,CFC113_FLAG_W,TCARBN,TCARBN_FLAG_W,ALKALI,ALKALI_FLAG_W,DOC,DOC_FLAG_W,TDN,TDN_FLAG_W,TRITUM,TRITUM_FLAG_W,TRITER,HELIUM,HELIUM_FLAG_W,HELIER,DELHE3,DELHE3_FLAG_W,DELHER,NEON,NEON_FLAG_W,NEONER,DELC14,DELC14_FLAG_W,C14ERR,DELC13,DELC13_FLAG_W,CDOM325,CDOM325_FLAG_W,CDOM340,CDOM340_FLAG_W,CDOM380,CDOM380_FLAG_W,CDOM412,CDOM412_FLAG_W,CDOMSL,CDOMSL_FLAG_W,CDOMSN,CDOMSN_FLAG_W
,,,,,,,,,,,METERS,DBAR,ITS-90,PSS-78,,PSS-78,,UMOL/KG,,UMOL/KG,,UMOL/KG,,UMOL/KG,,UMOL/KG,,UMOL/KG,,PMOL/KG,,PMOL/KG,,PMOL/KG,,UMOL/KG,,UMOL/KG,,UMOL/KG,,UMOL/KG,,TU,,TU,NMOL/KG,,NMOL/KG,PERCNT,,PERCNT,NMOL/KG,,NMOL/KG,/MILLE,,/MILLE,/MILLE,,1/M,,1/M,,1/M,,1/M,,1/NM,,1/NM,
  33RR20070204,  I08S,    11,  3,     33,     33,2,20070218,0711,-63.2593,  82.0115, 2942,      3.5,   0.7666,  33.7267,2,  33.7274,2,    337.3,2,    339.7,2,    28.39,2,    23.41,2,     0.22,2,     1.55,2,    5.916,2,    3.202,2, -999.000,5,   2141.6,2,   2284.8,2,     47.0,2,    28.05,2, -999.000,9, -999.000,-999.0000,9,-999.0000,  -999.00,9,  -999.00, -999.000,9, -999.000,   -999.0,9,   -999.0,  -999.00,9,   0.1138,2,   0.0802,2,   0.0353,2,   0.0262,2,   0.0156,3,   0.0188,3
  33RR20070204,  I08S,    11,  3,     32,     32,2,20070218,0711,-63.2593,  82.0115, 2942,     41.7,   0.7190,  33.7272,2,  33.7278,2,    339.6,2,    339.7,2,    28.38,2,    23.41,2,     0.22,2,     1.54,2,    5.958,2,    3.212,2, -999.000,5,   2140.6,6,   2283.5,2,     46.3,2,    28.08,2, -999.000,9, -999.000,-999.0000,9,-999.0000,  -999.00,9,  -999.00, -999.000,9, -999.000,    -93.5,2,      2.6,     1.64,2,   0.1145,2,   0.0802,2,   0.0358,2,   0.0264,2,   0.0155,3,   0.0186,3
  33RR20070204,  I08S,    11,  3,     31,     31,2,20070218,0711,-63.2593,  82.0115, 2942,     76.7,  -0.4412,  34.1324,2,  34.1508,2,    263.0,2,    262.3,2,    56.64,2,    32.20,2,     0.13,2,     2.26,2,    4.201,2,    2.196,2, -999.000,5,   2216.3,2,   2302.2,2,     45.5,2,    37.06,2, -999.000,9, -999.000,-999.0000,9,-999.0000,  -999.00,9,  -999.00, -999.000,9, -999.000,    -97.1,2,      2.8,     0.83,2,   0.0998,2,   0.0659,2,   0.0360,2,   0.0280,2,   0.0139,3,   0.0158,3
  33RR20070204,  I08S,    11,  3,     30,     30,2,20070218,0711,-63.2593,  82.0115, 2942,     96.7,   0.4435,  34.2693,2,  34.2649,2,    232.8,2,    234.4,2,    62.45,2,    33.55,2,     0.12,2,     2.34,2, -999.000,9, -999.000,9, -999.000,9,   2232.5,2,   2309.4,2,     44.7,2,    38.30,2, -999.000,9, -999.000,-999.0000,9,-999.0000,  -999.00,9,  -999.00, -999.000,9, -999.000,   -112.4,2,      3.1,     0.68,2,   0.1094,2,   0.0732,2,   0.0404,2,   0.0314,2,   0.0140,3,   0.0154,3
  33RR20070204,  I08S,    11,  3,     29,     29,2,20070218,0711,-63.2593,  82.0115, 2942,    127.1,   1.2716,  34.4002,2,  34.3982,2,    205.1,2,    201.5,2,    70.51,2,    34.80,2,     0.05,2,     2.42,2,    2.157,2,    1.108,2, -999.000,5,   2247.5,2,   2317.0,2,     43.8,2,    38.51,2, -999.000,9, -999.000,-999.0000,9,-999.0000,  -999.00,9,  -999.00, -999.000,9, -999.000,   -122.0,2,      2.5,     0.55,2,   0.1173,2,   0.0795,2,   0.0434,2,   0.0329,2,   0.0143,3,   0.0156,3
  33RR20070204,  I08S,    11,  3,     28,     28,2,20070218,0711,-63.2593,  82.0115, 2942,    146.8,   1.4199,  34.4317,2,  34.4278,2,    191.8,2,    194.9,2,    72.31,2,    34.97,2,     0.04,2,     2.43,2, -999.000,9, -999.000,9, -999.000,9,   2248.4,2,   2318.7,2,     43.2,2,    38.82,2, -999.000,9, -999.000,-999.0000,9,-999.0000,  -999.00,9,  -999.00, -999.000,9, -999.000,   -128.3,2,      2.9,     0.51,2,   0.1213,2,   0.0824,2,   0.0454,2,   0.0345,2,   0.0142,3,   0.0154,3
  33RR20070204,  I08S,    11,  3,     27,     27,2,20070218,0711,-63.2593,  82.0115, 2942,    177.2,   1.7521,  34.5154,2,  34.5145,2,    181.0,2,    179.9,2,    77.15,2,    35.07,2,     0.03,2,     2.44,2,    1.296,2,    0.667,2, -999.000,5,   2256.0,2,   2329.5,2,     42.8,2,    38.72,2, -999.000,9, -999.000,-999.0000,9,-999.0000,  -999.00,9,  -999.00, -999.000,9, -999.000,   -132.0,2,      2.7,     0.44,2,   0.1286,2,   0.0884,2,   0.0497,2,   0.0377,2,   0.0140,3,   0.0149,3
  33RR20070204,  I08S,    11,  3,     26,     26,2,20070218,0711,-63.2593,  82.0115, 2942,    227.5,   1.8880,  34.5623,2,  34.5609,2,    175.5,2,    175.0,2,    79.57,2,    34.89,2,     0.02,2,     2.42,2,    0.980,2,    0.506,2, -999.000,5,   2258.1,2,   2330.2,2,     41.9,2,    38.61,2, -999.000,9, -999.000,-999.0000,9,-999.0000,  -999.00,9,  -999.00, -999.000,9, -999.000,   -142.0,2,      2.6,     0.40,2,   0.1186,2,   0.0803,2,   0.0436,2,   0.0324,2,   0.0145,3,   0.0159,3
  33RR20070204,  I08S,    11,  3,     25,     25,2,20070218,0711,-63.2593,  82.0115, 2942,    278.1,   1.9566,  34.6066,2,  34.6025,2,    172.6,2,    173.0,2,    80.57,2,    34.39,2,     0.01,2,     2.39,2,    0.752,2,    0.383,2, -999.000,5,   2259.4,6,   2333.6,2,     41.8,2,    37.69,2, -999.000,9, -999.000,-999.0000,9,-999.0000,  -999.00,9,  -999.00, -999.000,9, -999.000,   -141.6,2,      2.6,     0.37,2,   0.1215,2,   0.0826,2,   0.0449,2,   0.0331,2,   0.0146,3,   0.0159,3
  33RR20070204,  I08S,    11,  3,     24,     24,2,20070218,0711,-63.2593,  82.0115, 2942,    328.7,   2.0145,  34.6404,2,  34.6398,2,    173.4,2,    174.4,2,    81.98,2,    33.79,2,     0.01,2,     2.34,2,    0.571,2,    0.285,2, -999.000,5,   2257.4,2,   2335.8,2,     42.0,2,    37.13,2, -999.000,9, -999.000,-999.0000,9,-999.0000,  -999.00,9,  -999.00, -999.000,9, -999.000,   -147.1,2,      2.9,     0.41,2,   0.1217,2,   0.0829,2,   0.0448,2,   0.0330,2,   0.0146,3,   0.0159,3
  33RR20070204,  I08S,    11,  3,     23,     23,2,20070218,0711,-63.2593,  82.0115, 2942,    378.8,   2.0092,  34.6621,2,  34.6616,2,    175.5,2,    176.4,2,    82.79,2,    33.29,2,     0.01,2,     2.30,2,    0.477,2,    0.245,2, -999.000,5,   2256.8,2,   2339.1,2,     41.4,2,    37.13,2, -999.000,9, -999.000,-999.0000,9,-999.0000,  -999.00,9,  -999.00, -999.000,9, -999.000,   -140.2,2,      2.5,     0.41,2,   0.1211,2,   0.0824,2,   0.0443,2,   0.0323,2,   0.0147,3,   0.0161,3
  33RR20070204,  I08S,    11,  3,     22,     22,2,20070218,0711,-63.2593,  82.0115, 2942,    428.7,   1.9973,  34.6774,2,  34.6762,2,    177.2,2,    177.4,2,    83.19,2,    32.95,2,     0.01,2,     2.29,2,    0.428,2,    0.214,2, -999.000,5,   2256.2,2,   2343.5,2,     41.9,2,    36.13,2, -999.000,9, -999.000,-999.0000,9,-999.0000,  -999.00,9,  -999.00, -999.000,9, -999.000,   -146.1,2,      2.3,     0.43,2,   0.1215,2,   0.0828,2,   0.0447,2,   0.0325,2,   0.0147,3,   0.0161,3
  33RR20070204,  I08S,    11,  3,     21,     21,2,20070218,0711,-63.2593,  82.0115, 2942,    479.6,   1.9930,  34.6907,2,  34.6901,2,    179.9,2,    179.4,2,    83.38,2,    32.60,2,     0.01,2,     2.27,2,    0.386,2,    0.190,2, -999.000,5,   2254.3,2,   2339.7,2,     41.7,2,    36.47,2, -999.000,9, -999.000,-999.0000,9,-999.0000,  -999.00,9,  -999.00, -999.000,9, -999.000,   -152.4,2,      3.6,     0.44,2,   0.1214,2,   0.0832,2,   0.0449,2,   0.0326,2,   0.0146,2,   0.0159,3
  33RR20070204,  I08S,    11,  3,     20,     20,2,20070218,0711,-63.2593,  82.0115, 2942,    540.1,   1.9734,  34.7057,2,  34.7058,2,    183.1,2,    182.6,2,    83.58,2,    32.16,2,     0.01,2,     2.23,2,    0.338,2,    0.165,2, -999.000,5,   2252.3,2,   2342.0,2,     41.3,2,    34.41,2, -999.000,9, -999.000,-999.0000,9,-999.0000,  -999.00,9,  -999.00, -999.000,9, -999.000,   -159.7,2,      2.8,     0.48,2,   0.1362,2,   0.0946,2,   0.0531,2,   0.0393,2,   0.0140,3,   0.0149,3
  33RR20070204,  I08S,    11,  3,     19,     19,2,20070218,0711,-63.2593,  82.0115, 2942,    650.8,   1.9347,  34.7287,2,  34.7282,2,    188.1,2,    187.9,2,    83.37,2,    31.32,2,     0.01,2,     2.17,2,    0.263,2,    0.126,2, -999.000,5,   2249.1,2,   2343.4,2,     41.5,2,    34.08,2, -999.000,9, -999.000,-999.0000,9,-999.0000,  -999.00,9,  -999.00, -999.000,9, -999.000,   -158.0,2,      2.8,     0.52,2,   0.1170,2,   0.0797,2,   0.0421,2,   0.0300,2,   0.0150,2,   0.0166,3
  33RR20070204,  I08S,    11,  3,     18,     18,2,20070218,0711,-63.2593,  82.0115, 2942,    751.1,   1.8692,  34.7394,2,  34.7398,2,    191.9,2,    191.6,2,    84.78,2,    30.92,2,     0.01,2,     2.14,2,    0.231,2,    0.107,2, -999.000,5,   2247.5,2,   2345.4,2,     41.4,2,    32.94,2, -999.000,9, -999.000,-999.0000,9,-999.0000,  -999.00,9,  -999.00, -999.000,9, -999.000,   -156.0,2,      2.8,     0.54,2,   0.1255,2,   0.0861,2,   0.0468,2,   0.0341,2,   0.0146,2,   0.0158,3
  33RR20070204,  I08S,    11,  3,     17,     17,2,20070218,0711,-63.2593,  82.0115, 2942,    852.7,   1.7920,  34.7451,2,  34.7451,2,    195.8,2,    194.9,2,    85.99,2,    30.62,2,     0.00,2,     2.12,2, -999.000,9, -999.000,9, -999.000,9,   2246.8,2,   2347.5,2,     41.0,2,    32.67,2, -999.000,9, -999.000,-999.0000,9,-999.0000,  -999.00,9,  -999.00, -999.000,9, -999.000,   -159.8,2,      2.8,     0.54,2,   0.1194,2,   0.0812,2,   0.0432,2,   0.0308,2,   0.0150,2,   0.0165,3
  33RR20070204,  I08S,    11,  3,     16,     16,2,20070218,0711,-63.2593,  82.0115, 2942,    953.5,   1.7184,  34.7476,2,  34.7482,2,    198.0,2,    197.4,2,    87.61,2,    30.48,2,     0.00,2,     2.11,2,    0.200,2,    0.092,2, -999.000,5,   2246.4,2,   2346.6,2,     41.7,2,    33.25,2, -999.000,9, -999.000,-999.0000,9,-999.0000,  -999.00,9,  -999.00, -999.000,9, -999.000,   -150.3,2,      2.6,     0.56,2,   0.1170,2,   0.0797,2,   0.0423,2,   0.0303,2,   0.0148,2,   0.0164,3
  33RR20070204,  I08S,    11,  3,     15,     15,2,20070218,0711,-63.2593,  82.0115, 2942,   1054.3,   1.6265,  34.7470,2,  34.7477,2,    199.8,2,    199.8,2,    89.83,2,    30.48,2,     0.00,2,     2.11,2, -999.000,9, -999.000,9, -999.000,9,   2247.4,2,   2347.2,2,     41.2,2,    32.21,2, -999.000,9, -999.000,-999.0000,9,-999.0000,  -999.00,9,  -999.00, -999.000,9, -999.000,   -148.5,2,      2.7,     0.58,2,   0.1194,2,   0.0816,2,   0.0438,2,   0.0313,2,   0.0148,2,   0.0162,3
  33RR20070204,  I08S,    11,  3,     14,     14,2,20070218,0711,-63.2593,  82.0115, 2942,   1156.1,   1.5365,  34.7464,2,  34.7465,2,    201.6,2,    200.8,2,    91.85,2,    30.48,2,     0.00,2,     2.11,2,    0.194,2,    0.088,2, -999.000,5,   2247.9,2,   2348.9,2,     41.2,2,    32.27,2, -999.000,9, -999.000,-999.0000,9,-999.0000,  -999.00,9,  -999.00, -999.000,9, -999.000,   -159.4,2,      3.3,     0.60,2,   0.1221,2,   0.0831,2,   0.0446,2,   0.0321,2,   0.0148,2,   0.0163,3
  33RR20070204,  I08S,    11,  3,     13,     13,2,20070218,0711,-63.2593,  82.0115, 2942,   1256.5,   1.4261,  34.7416,2,  34.7429,2,    201.4,2,    200.7,2,    95.92,2,    30.72,2,     0.00,2,     2.13,2, -999.000,9, -999.000,9, -999.000,9,   2250.4,2,   2349.8,2,     41.6,2,    31.87,2, -999.000,9, -999.000,-999.0000,9,-999.0000,  -999.00,9,  -999.00, -999.000,9, -999.000,   -151.0,2,      2.9,     0.57,2,   0.1180,2,   0.0803,2,   0.0428,2,   0.0310,2,   0.0146,2,   0.0162,3
  33RR20070204,  I08S,    11,  3,     12,     12,2,20070218,0711,-63.2593,  82.0115, 2942,   1357.8,   1.3187,  34.7372,2,  34.7388,2,    202.3,2,    202.6,2,    98.75,2,    30.92,2,     0.00,2,     2.14,2,    0.185,2,    0.082,2, -999.000,5,   2251.6,2,   2351.0,2,     41.4,2,    32.49,2, -999.000,9, -999.000,-999.0000,9,-999.0000,  -999.00,9,  -999.00, -999.000,9, -999.000,   -156.5,2,      2.3,     0.55,2,   0.1235,2,   0.0845,2,   0.0459,2,   0.0335,2,   0.0143,3,   0.0157,3
  33RR20070204,  I08S,    11,  3,     11,     11,2,20070218,0711,-63.2593,  82.0115, 2942,   1459.0,   1.2303,  34.7330,2,  34.7338,2,    203.0,2,    203.0,2,   100.99,2,    31.06,2,     0.00,2,     2.16,2, -999.000,9, -999.000,9, -999.000,9,   2252.2,2,   2351.6,2,     41.4,2,    32.23,2, -999.000,9, -999.000,-999.0000,9,-999.0000,  -999.00,9,  -999.00, -999.000,9, -999.000,   -156.6,2,      2.6,     0.56,2,   0.1160,2,   0.0791,2,   0.0423,2,   0.0306,2,   0.0147,2,   0.0162,3
  33RR20070204,  I08S,    11,  3,     10,     10,2,20070218,0711,-63.2593,  82.0115, 2942,   1560.4,   1.1243,  34.7272,2,-999.0000,9,    204.3,2,    205.0,2,   103.63,2,    31.21,2,     0.00,2,     2.16,2,    0.210,2,    0.096,2, -999.000,5,   2253.4,2,   2352.7,2,     41.6,2,    33.18,2, -999.000,9, -999.000,-999.0000,9,-999.0000,  -999.00,9,  -999.00, -999.000,9, -999.000,   -157.5,2,      2.3,     0.57,2,   0.1164,2,   0.0794,2,   0.0429,2,   0.0311,2,   0.0145,2,   0.0159,3
  33RR20070204,  I08S,    11,  3,      9,      9,2,20070218,0711,-63.2593,  82.0115, 2942,   1662.2,   1.0175,  34.7213,2,  34.7214,2,    204.6,2,    205.2,2,   107.70,2,    31.46,2,     0.00,2,     2.18,2, -999.000,9, -999.000,9, -999.000,9,   2255.0,2,   2352.7,2,     41.3,2,    33.25,2, -999.000,9, -999.000,-999.0000,9,-999.0000,  -999.00,9,  -999.00, -999.000,9, -999.000,   -157.1,2,      2.8,     0.57,2,   0.1176,2,   0.0805,2,   0.0435,2,   0.0317,2,   0.0145,2,   0.0159,3
  33RR20070204,  I08S,    11,  3,      8,      8,2,20070218,0711,-63.2593,  82.0115, 2942,   1763.3,   0.9322,  34.7161,2,  34.7165,2,    205.6,2,    206.2,2,   109.74,2,    31.61,2,     0.00,2,     2.20,2,    0.221,2,    0.100,2, -999.000,5,   2256.7,2,   2353.6,2,     41.0,2,    33.43,2, -999.000,9, -999.000,-999.0000,9,-999.0000,  -999.00,9,  -999.00, -999.000,9, -999.000,   -159.8,2,      2.4,     0.55,2,   0.1160,2,   0.0794,2,   0.0430,2,   0.0312,2,   0.0145,2,   0.0159,3
  33RR20070204,  I08S,    11,  3,      7,      7,2,20070218,0711,-63.2593,  82.0115, 2942,   1864.5,   0.8600,  34.7116,2,  34.7118,2,    206.0,2,    206.6,2,   111.77,2,    31.81,2,     0.00,2,     2.21,2, -999.000,9, -999.000,9, -999.000,9,   2256.8,2,   2353.6,2,     41.8,2,    33.62,2, -999.000,9, -999.000,-999.0000,9,-999.0000,  -999.00,9,  -999.00, -999.000,9, -999.000,   -153.9,2,      2.3,     0.58,2,   0.1210,2,   0.0828,2,   0.0447,2,   0.0328,2,   0.0146,2,   0.0159,3
  33RR20070204,  I08S,    11,  3,      6,      6,2,20070218,0711,-63.2593,  82.0115, 2942,   1965.7,   0.7944,  34.7082,2,  34.7082,2,    207.0,2,    207.7,2,   114.22,2,    31.95,2,     0.00,2,     2.21,2,    0.207,2,    0.096,2, -999.000,5,   2257.3,2,   2355.1,2,     41.6,2,    33.07,2, -999.000,9, -999.000,-999.0000,9,-999.0000,  -999.00,9,  -999.00, -999.000,9, -999.000,   -156.8,2,      2.3,     0.56,2,   0.1166,2,   0.0790,2,   0.0422,2,   0.0309,2,   0.0147,3,   0.0162,3
  33RR20070204,  I08S,    11,  3,      5,      5,2,20070218,0711,-63.2593,  82.0115, 2942,   2128.2,   0.6844,  34.7021,2,  34.7023,2,    208.5,2,    209.5,2,   117.89,2,    32.20,2,     0.00,2,     2.23,2,    0.198,2,    0.090,2, -999.000,5,   2257.1,2,   2355.1,2,     41.6,2,    33.85,2, -999.000,9, -999.000,-999.0000,9,-999.0000,  -999.00,9,  -999.00, -999.000,9, -999.000,   -155.8,2,      2.5,     0.57,2,   0.1158,2,   0.0790,2,   0.0428,2,   0.0313,2,   0.0146,2,   0.0159,3
  33RR20070204,  I08S,    11,  3,      4,      4,2,20070218,0711,-63.2593,  82.0115, 2942,   2382.0,   0.5251,  34.6936,2,  34.6934,2,    211.0,2,    210.9,2,   123.63,2,    32.44,2,     0.00,2,     2.26,2,    0.187,2,    0.085,2, -999.000,5,   2259.1,2,   2355.3,2,     41.7,2,    33.52,2, -999.000,9, -999.000,-999.0000,9,-999.0000,  -999.00,9,  -999.00, -999.000,9, -999.000,   -161.9,2,      2.6,     0.53,2,   0.1194,2,   0.0815,2,   0.0442,2,   0.0326,2,   0.0145,3,   0.0158,3
  33RR20070204,  I08S,    11,  3,      3,      3,2,20070218,0711,-63.2593,  82.0115, 2942,   2636.2,   0.4099,  34.6873,2,  34.6956,0,    213.8,2,    213.1,2,   124.64,2,    32.70,2,     0.00,2,     2.28,2,    0.188,2,    0.087,2, -999.000,5,   2258.3,2,   2355.4,2,     41.0,2,    34.44,2, -999.000,9, -999.000,-999.0000,9,-999.0000,  -999.00,9,  -999.00, -999.000,9, -999.000,   -158.2,2,      2.9,     0.55,2,   0.1141,2,   0.0780,2,   0.0420,2,   0.0309,2,   0.0145,2,   0.0160,3
  33RR20070204,  I08S,    11,  3,      2,      2,2,20070218,0711,-63.2593,  82.0115, 2942,   2840.3,   0.3171,  34.6823,2,  34.6832,2,    216.6,2,    215.9,2,   128.74,2,    32.75,2,     0.00,2,     2.28,2,    0.186,2,    0.087,2, -999.000,5,   2258.7,2,   2354.5,2,     40.9,2,    34.62,2, -999.000,9, -999.000,-999.0000,9,-999.0000,  -999.00,9,  -999.00, -999.000,9, -999.000,   -156.8,2,      3.4,     0.57,2,   0.1157,2,   0.0792,2,   0.0429,2,   0.0315,2,   0.0145,2,   0.0158,3
  33RR20070204,  I08S,    11,  3,      1,      1,2,20070218,0711,-63.2593,  82.0115, 2942,   2983.3,   0.2720,  34.6799,2,  34.6801,2,    217.2,2,    217.1,2,   135.73,2,    32.94,2,     0.00,2,     2.28,2,    0.184,2,    0.089,2, -999.000,5,   2259.9,6,   2353.8,2,     41.5,2,    34.73,2, -999.000,9, -999.000,-999.0000,9,-999.0000,  -999.00,9,  -999.00, -999.000,9, -999.000,   -165.3,2,      3.3,     0.58,2,   0.1220,2,   0.0833,2,   0.0440,2,   0.0316,2,   0.0150,2,   0.0165,3