BOTTLE,20150626SIOCCHRJL
EXPOCODE,SECT_ID,STNNBR,CASTNO,SAMPNO,BTLNBR,BTLNBR_FLAG_W,DATE,TIME,LATITUDE,LONGITUDE,DEPTH,CTDPRS,CTDTMP,CTDSAL,CTDSAL_FLAG_W,SALNTY,SALNTY_FLAG_W,CTDOXY,CTDOXY_FLAG_W,OXYGEN,OXYGEN_FLAG_W,SILCAT,SILCAT_FLAG_W,NITRAT,NITRAT_FLAG_W,NITRIT,NITRIT_FLAG_W,PHSPHT,PHSPHT_FLAG_W,CFC-11,CFC-11_FLAG_W,CFC-12,CFC-12_FLAG_W,CFC113,CFC113_FLAG_W,TCARBN,TCARBN_FLAG_W,ALKALI,ALKALI_FLAG_W,DOC,DOC_FLAG_W,TDN,TDN_FLAG_W,TRITUM,TRITUM_FLAG_W,TRITER,HELIUM,HELIUM_FLAG_W,HELIER,DELHE3,DELHE3_FLAG_W,DELHER,NEON,NEON_FLAG_W,NEONER,DELC14,DELC14_FLAG_W,C14ERR,DELC13,DELC13_FLAG_W,CDOM325,CDOM325_FLAG_W,CDOM340,CDOM340_FLAG_W,CDOM380,CDOM380_FLAG_W,CDOM412,CDOM412_FLAG_W,CDOMSL,CDOMSL_FLAG_W,CDOMSN,CDOMSN_FLAG_W
,,,,,,,,,,,METERS,DBAR,ITS-90,PSS-78,,PSS-78,,UMOL/KG,,UMOL/KG,,UMOL/KG,,UMOL/KG,,UMOL/KG,,UMOL/KG,,PMOL/KG,,PMOL/KG,,PMOL/KG,,UMOL/KG,,UMOL/KG,,UMOL/KG,,UMOL/KG,,TU,,TU,NMOL/KG,,NMOL/KG,PERCNT,,PERCNT,NMOL/KG,,NMOL/KG,/MILLE,,/MILLE,/MILLE,,1/M,,1/M,,1/M,,1/M,,1/NM,,1/NM,
  33RR20070204,  I08S,    81,  1,     36,     38,2,20070311,1321,-32.0093,  95.0128, 4169,      3.6,  20.2453,  35.8003,2,  35.8022,2,    229.1,2,    229.0,2,     1.26,2,     0.09,2,     0.00,2,     0.15,2,    2.177,2,    1.348,2, -999.000,5,   2071.0,6,   2351.5,2,     67.9,2,     4.14,2, -999.000,9, -999.000,-999.0000,9,-999.0000,  -999.00,9,  -999.00, -999.000,9, -999.000,   -999.0,9,   -999.0,  -999.00,9,-999.0000,9,-999.0000,9,-999.0000,9,-999.0000,9,-999.0000,9,-999.0000,9
  33RR20070204,  I08S,    81,  1,     35,     35,2,20070311,1321,-32.0093,  95.0128, 4169,     20.8,  20.2201,  35.7981,2,  35.7982,2,    228.9,2,    229.6,2,     1.25,2,     0.09,2,     0.00,2,     0.15,2,    2.217,2,    1.368,2, -999.000,5,   2072.1,2,   2352.3,2,     64.9,2,     4.20,2, -999.000,9, -999.000,-999.0000,9,-999.0000,  -999.00,9,  -999.00, -999.000,9, -999.000,   -999.0,9,   -999.0,  -999.00,9,-999.0000,9,-999.0000,9,-999.0000,9,-999.0000,9,-999.0000,9,-999.0000,9
  33RR20070204,  I08S,    81,  1,     34,   9419,2,20070311,1321,-32.0093,  95.0128, 4169,     45.9,  20.0017,  35.8115,2,  35.8105,2,    231.5,2,    231.0,2,     1.25,2,     0.09,2,     0.00,2,     0.15,2,    2.213,2,    1.383,2, -999.000,5,   2073.7,2,   2352.6,2,     64.4,2,     4.13,2, -999.000,9, -999.000,-999.0000,9,-999.0000,  -999.00,9,  -999.00, -999.000,9, -999.000,   -999.0,9,   -999.0,  -999.00,9,-999.0000,9,-999.0000,9,-999.0000,9,-999.0000,9,-999.0000,9,-999.0000,9
  33RR20070204,  I08S,    81,  1,     33,     33,2,20070311,1321,-32.0093,  95.0128, 4169,     90.8,  16.1483,  35.7061,2,  35.7064,2,    244.6,2,    244.6,2,     1.44,2,     0.17,2,     0.02,2,     0.21,2,    2.718,2,    1.635,2, -999.000,5,   2088.7,2,   2344.2,2,     55.8,2,     4.12,2, -999.000,9, -999.000,-999.0000,9,-999.0000,  -999.00,9,  -999.00, -999.000,9, -999.000,   -999.0,9,   -999.0,  -999.00,9,-999.0000,9,-999.0000,9,-999.0000,9,-999.0000,9,-999.0000,9,-999.0000,9
  33RR20070204,  I08S,    81,  1,     32,     37,2,20070311,1321,-32.0093,  95.0128, 4169,    140.9,  15.0152,  35.6006,2,  35.5945,2,    233.8,2,    233.9,2,     1.62,2,     2.87,2,     0.18,2,     0.35,2,    2.830,2,    1.691,2, -999.000,5,   2103.4,2,   2336.6,2,     51.6,2,     6.72,2, -999.000,9, -999.000,-999.0000,9,-999.0000,  -999.00,9,  -999.00, -999.000,9, -999.000,   -999.0,9,   -999.0,  -999.00,9,-999.0000,9,-999.0000,9,-999.0000,9,-999.0000,9,-999.0000,9,-999.0000,9
  33RR20070204,  I08S,    81,  1,     31,     31,2,20070311,1321,-32.0093,  95.0128, 4169,    165.8,  13.6775,  35.3226,2,  35.3164,2,    242.6,2,    243.0,2,     1.81,2,     4.36,2,     0.85,2,     0.49,2,    3.015,2,    1.777,2, -999.000,5,   2103.1,2,   2320.3,2,     50.0,2,     8.36,2, -999.000,9, -999.000,-999.0000,9,-999.0000,  -999.00,9,  -999.00, -999.000,9, -999.000,   -999.0,9,   -999.0,  -999.00,9,-999.0000,9,-999.0000,9,-999.0000,9,-999.0000,9,-999.0000,9,-999.0000,9
  33RR20070204,  I08S,    81,  1,     30,     30,2,20070311,1321,-32.0093,  95.0128, 4169,    191.0,  13.5104,  35.2978,2,  35.3062,2,    244.2,2,    242.4,2,     1.80,2,     5.34,2,     0.27,2,     0.51,2,    3.069,2,    1.820,2, -999.000,5,   2102.1,2,   2319.0,2,     48.9,2,     8.70,2, -999.000,9, -999.000,-999.0000,9,-999.0000,  -999.00,9,  -999.00, -999.000,9, -999.000,   -999.0,9,   -999.0,  -999.00,9,-999.0000,9,-999.0000,9,-999.0000,9,-999.0000,9,-999.0000,9,-999.0000,9
  33RR20070204,  I08S,    81,  1,     29,     29,2,20070311,1321,-32.0093,  95.0128, 4169,    241.0,  12.4382,  35.1044,2,  35.1212,2,    242.8,2,    246.4,2,     2.18,2,     7.46,2,     0.02,2,     0.63,2,    3.212,2,    1.896,2, -999.000,5,   2103.5,2,   2309.0,2,     47.7,2,    11.18,2, -999.000,9, -999.000,-999.0000,9,-999.0000,  -999.00,9,  -999.00, -999.000,9, -999.000,   -999.0,9,   -999.0,  -999.00,9,-999.0000,9,-999.0000,9,-999.0000,9,-999.0000,9,-999.0000,9,-999.0000,9
  33RR20070204,  I08S,    81,  1,     28,     28,2,20070311,1321,-32.0093,  95.0128, 4169,    291.0,  12.2497,  35.1387,2,  35.1413,2,    236.0,2,    237.7,2,     2.56,2,     8.57,2,     0.01,2,     0.68,2,    3.314,2,    1.900,2, -999.000,5,   2111.5,2,   2309.2,2,     46.6,2,    12.04,2, -999.000,9, -999.000,-999.0000,9,-999.0000,  -999.00,9,  -999.00, -999.000,9, -999.000,   -999.0,9,   -999.0,  -999.00,9,-999.0000,9,-999.0000,9,-999.0000,9,-999.0000,9,-999.0000,9,-999.0000,9
  33RR20070204,  I08S,    81,  1,     27,     27,2,20070311,1321,-32.0093,  95.0128, 4169,    341.0,  11.6292,  35.0489,2,  35.0478,2,    239.4,2,    239.1,2,     3.14,2,    10.11,2,     0.00,2,     0.77,2,    3.380,2,    1.958,2, -999.000,5,   2114.1,2,   2302.9,2,     45.0,2,    13.13,2, -999.000,9, -999.000,-999.0000,9,-999.0000,  -999.00,9,  -999.00, -999.000,9, -999.000,   -999.0,9,   -999.0,  -999.00,9,-999.0000,9,-999.0000,9,-999.0000,9,-999.0000,9,-999.0000,9,-999.0000,9
  33RR20070204,  I08S,    81,  1,     26,     26,2,20070311,1321,-32.0093,  95.0128, 4169,    391.2,  11.0170,  34.9464,2,  34.9470,2,    239.1,2,    242.7,2,     3.52,2,    11.52,2,     0.00,2,     0.86,2, -999.000,9, -999.000,9, -999.000,9,   2115.5,2,   2298.4,2,     44.0,2,    15.38,2, -999.000,9, -999.000,-999.0000,9,-999.0000,  -999.00,9,  -999.00, -999.000,9, -999.000,   -999.0,9,   -999.0,  -999.00,9,-999.0000,9,-999.0000,9,-999.0000,9,-999.0000,9,-999.0000,9,-999.0000,9
  33RR20070204,  I08S,    81,  1,     25,     25,2,20070311,1321,-32.0093,  95.0128, 4169,    441.2,  10.7032,  34.8991,2,  34.8968,2,    240.1,2,    241.6,2,     3.90,2,    12.46,2,     0.00,2,     0.91,2,    3.515,2,    1.976,2, -999.000,5,   2118.2,2,   2295.8,2,     43.2,2,    16.24,2, -999.000,9, -999.000,-999.0000,9,-999.0000,  -999.00,9,  -999.00, -999.000,9, -999.000,   -999.0,9,   -999.0,  -999.00,9,-999.0000,9,-999.0000,9,-999.0000,9,-999.0000,9,-999.0000,9,-999.0000,9
  33RR20070204,  I08S,    81,  1,     24,     24,2,20070311,1321,-32.0093,  95.0128, 4169,    491.3,  10.2747,  34.8311,2,  34.8321,2,    240.9,2,    243.1,2,     3.89,2,    13.28,2,     0.00,2,     0.97,2,    3.658,2,    2.019,2, -999.000,5,   2118.8,2,   2293.8,2,     42.8,2,    17.28,2, -999.000,9, -999.000,-999.0000,9,-999.0000,  -999.00,9,  -999.00, -999.000,9, -999.000,   -999.0,9,   -999.0,  -999.00,9,-999.0000,9,-999.0000,9,-999.0000,9,-999.0000,9,-999.0000,9,-999.0000,9
  33RR20070204,  I08S,    81,  1,     23,     23,2,20070311,1321,-32.0093,  95.0128, 4169,    576.2,   9.7776,  34.7533,2,  34.7513,2,    241.7,2,    242.3,2,     4.47,2,    14.89,2,     0.00,2,     1.06,2,    3.648,2,    1.980,2, -999.000,5,   2122.0,2,   2289.7,2,     42.1,2,    17.54,2, -999.000,9, -999.000,-999.0000,9,-999.0000,  -999.00,9,  -999.00, -999.000,9, -999.000,   -999.0,9,   -999.0,  -999.00,9,-999.0000,9,-999.0000,9,-999.0000,9,-999.0000,9,-999.0000,9,-999.0000,9
  33RR20070204,  I08S,    81,  1,     22,     22,2,20070311,1321,-32.0093,  95.0128, 4169,    676.8,   9.1282,  34.6590,2,  34.6594,2,    236.5,2,    235.4,2,     5.63,2,    17.28,2,     0.00,2,     1.21,2,    3.608,2,    1.916,2, -999.000,5,   2128.4,2,   2287.2,2,     41.3,2,    20.25,2, -999.000,9, -999.000,-999.0000,9,-999.0000,  -999.00,9,  -999.00, -999.000,9, -999.000,   -999.0,9,   -999.0,  -999.00,9,-999.0000,9,-999.0000,9,-999.0000,9,-999.0000,9,-999.0000,9,-999.0000,9
  33RR20070204,  I08S,    81,  1,     21,     21,2,20070311,1321,-32.0093,  95.0128, 4169,    777.0,   8.2427,  34.5631,2,  34.5627,2,    221.1,2,    218.3,2,     9.50,2,    20.97,2,     0.00,2,     1.45,2,    3.034,2,    1.555,2, -999.000,5,   2144.2,2,   2282.8,2,     40.6,2,    23.71,2, -999.000,9, -999.000,-999.0000,9,-999.0000,  -999.00,9,  -999.00, -999.000,9, -999.000,   -999.0,9,   -999.0,  -999.00,9,-999.0000,9,-999.0000,9,-999.0000,9,-999.0000,9,-999.0000,9,-999.0000,9
  33RR20070204,  I08S,    81,  1,     20,     20,2,20070311,1321,-32.0093,  95.0128, 4169,    877.3,   6.6177,  34.4481,2,  34.4496,2,    203.1,2,    201.1,2,    18.43,2,    25.90,2,     0.00,2,     1.78,2,    2.020,2,    1.020,2, -999.000,5,   2168.3,2,   2285.2,2,     40.7,2,    27.95,2, -999.000,9, -999.000,-999.0000,9,-999.0000,  -999.00,9,  -999.00, -999.000,9, -999.000,   -999.0,9,   -999.0,  -999.00,9,-999.0000,9,-999.0000,9,-999.0000,9,-999.0000,9,-999.0000,9,-999.0000,9
  33RR20070204,  I08S,    81,  1,     19,     19,2,20070311,1321,-32.0093,  95.0128, 4169,    977.8,   5.3442,  34.3952,2,  34.3960,2,    195.0,2,    195.0,2,    28.54,2,    29.17,2,     0.00,2,     2.01,2,    1.424,2,    0.716,2, -999.000,5,   2188.0,2,   2291.0,2,     40.6,2,    31.48,2, -999.000,9, -999.000,-999.0000,9,-999.0000,  -999.00,9,  -999.00, -999.000,9, -999.000,   -999.0,9,   -999.0,  -999.00,9,-999.0000,9,-999.0000,9,-999.0000,9,-999.0000,9,-999.0000,9,-999.0000,9
  33RR20070204,  I08S,    81,  1,     18,     18,2,20070311,1321,-32.0093,  95.0128, 4169,   1078.3,   4.4023,  34.4039,2,  34.4049,2,    185.3,2,    183.0,2,    42.36,2,    31.65,2,     0.00,2,     2.21,2,    0.841,2,    0.420,2, -999.000,5,   2210.5,2,   2302.1,2,     40.9,2,    32.97,2, -999.000,9, -999.000,-999.0000,9,-999.0000,  -999.00,9,  -999.00, -999.000,9, -999.000,   -999.0,9,   -999.0,  -999.00,9,-999.0000,9,-999.0000,9,-999.0000,9,-999.0000,9,-999.0000,9,-999.0000,9
  33RR20070204,  I08S,    81,  1,     17,     17,2,20070311,1321,-32.0093,  95.0128, 4169,   1179.4,   3.9621,  34.4490,2,  34.4469,2,    171.3,2,    169.0,2,    54.63,2,    33.12,2,     0.00,2,     2.33,2,    0.458,2,    0.234,2, -999.000,5,   2230.2,2,   2314.8,2,     41.2,2,    35.01,2, -999.000,9, -999.000,-999.0000,9,-999.0000,  -999.00,9,  -999.00, -999.000,9, -999.000,   -999.0,9,   -999.0,  -999.00,9,-999.0000,9,-999.0000,9,-999.0000,9,-999.0000,9,-999.0000,9,-999.0000,9
  33RR20070204,  I08S,    81,  1,     16,     16,2,20070311,1321,-32.0093,  95.0128, 4169,   1279.2,   3.7136,  34.4940,2,  34.4942,2,    159.5,2,    157.8,2,    64.79,2,    34.00,2,     0.00,2,     2.39,2,    0.229,2,    0.124,2, -999.000,5,   2247.8,2,   2326.5,2,     40.9,2,    35.29,2, -999.000,9, -999.000,-999.0000,9,-999.0000,  -999.00,9,  -999.00, -999.000,9, -999.000,   -999.0,9,   -999.0,  -999.00,9,-999.0000,9,-999.0000,9,-999.0000,9,-999.0000,9,-999.0000,9,-999.0000,9
  33RR20070204,  I08S,    81,  1,     15,     15,2,20070311,1321,-32.0093,  95.0128, 4169,   1380.3,   3.5065,  34.5304,2,  34.5309,2,    152.9,2,    152.5,2,    71.43,2,    34.36,2,     0.00,2,     2.43,2,    0.127,2,    0.070,2, -999.000,5,   2253.4,2,   2334.0,2,     41.2,2,    36.10,2, -999.000,9, -999.000,-999.0000,9,-999.0000,  -999.00,9,  -999.00, -999.000,9, -999.000,   -999.0,9,   -999.0,  -999.00,9,-999.0000,9,-999.0000,9,-999.0000,9,-999.0000,9,-999.0000,9,-999.0000,9
  33RR20070204,  I08S,    81,  1,     14,     14,2,20070311,1321,-32.0093,  95.0128, 4169,   1480.8,   3.2521,  34.5623,2,  34.5617,2,    151.7,2,    152.9,2,    76.12,2,    34.41,2,     0.00,2,     2.43,2, -999.000,9, -999.000,9, -999.000,9,   2260.1,6,   2338.8,2,     41.5,2,    36.31,2, -999.000,9, -999.000,-999.0000,9,-999.0000,  -999.00,9,  -999.00, -999.000,9, -999.000,   -999.0,9,   -999.0,  -999.00,9,-999.0000,9,-999.0000,9,-999.0000,9,-999.0000,9,-999.0000,9,-999.0000,9
  33RR20070204,  I08S,    81,  1,     13,     13,2,20070311,1321,-32.0093,  95.0128, 4169,   1581.6,   3.0863,  34.5886,2,  34.5892,2,    152.3,2,    154.0,2,    79.44,2,    34.31,2,     0.00,2,     2.42,2,    0.057,2,    0.032,2, -999.000,5,   2260.6,2,   2341.4,2,     41.4,2,    35.35,2, -999.000,9, -999.000,-999.0000,9,-999.0000,  -999.00,9,  -999.00, -999.000,9, -999.000,   -999.0,9,   -999.0,  -999.00,9,-999.0000,9,-999.0000,9,-999.0000,9,-999.0000,9,-999.0000,9,-999.0000,9
  33RR20070204,  I08S,    81,  1,     12,     12,2,20070311,1321,-32.0093,  95.0128, 4169,   1682.6,   2.9362,  34.6167,2,  34.6179,2,    154.1,2,    155.4,2,    82.57,2,    34.02,2,     0.00,2,     2.40,2,    0.044,2,    0.024,2, -999.000,5,   2263.2,2,   2344.8,2,     41.0,2,    35.74,2, -999.000,9, -999.000,-999.0000,9,-999.0000,  -999.00,9,  -999.00, -999.000,9, -999.000,   -999.0,9,   -999.0,  -999.00,9,-999.0000,9,-999.0000,9,-999.0000,9,-999.0000,9,-999.0000,9,-999.0000,9
  33RR20070204,  I08S,    81,  1,     11,     11,2,20070311,1321,-32.0093,  95.0128, 4169,   1783.4,   2.7906,  34.6424,2,  34.6421,2,    157.3,2,    158.0,2,    85.11,2,    33.69,2,     0.00,2,     2.37,2,    0.039,2,    0.021,2, -999.000,5,   2263.7,2,   2348.8,2,     40.8,2,    35.66,2, -999.000,9, -999.000,-999.0000,9,-999.0000,  -999.00,9,  -999.00, -999.000,9, -999.000,   -999.0,9,   -999.0,  -999.00,9,-999.0000,9,-999.0000,9,-999.0000,9,-999.0000,9,-999.0000,9,-999.0000,9
  33RR20070204,  I08S,    81,  1,     10,     10,2,20070311,1321,-32.0093,  95.0128, 4169,   1984.9,   2.5223,  34.6871,2,  34.6879,2,    165.6,2,    166.8,2,    88.83,2,    32.71,2,     0.00,2,     2.30,2,    0.028,2,    0.015,2, -999.000,5,   2263.9,2,   2352.2,2,     41.4,2,    33.99,2, -999.000,9, -999.000,-999.0000,9,-999.0000,  -999.00,9,  -999.00, -999.000,9, -999.000,   -999.0,9,   -999.0,  -999.00,9,-999.0000,9,-999.0000,9,-999.0000,9,-999.0000,9,-999.0000,9,-999.0000,9
  33RR20070204,  I08S,    81,  1,      9,      9,2,20070311,1321,-32.0093,  95.0128, 4169,   2187.2,   2.3152,  34.7150,2,  34.7162,2,    175.5,2,    176.7,2,    89.00,2,    31.75,2,     0.00,2,     2.22,2,    0.023,2,    0.012,2, -999.000,5,   2259.5,6,   2350.5,2,     41.4,2,    33.72,2, -999.000,9, -999.000,-999.0000,9,-999.0000,  -999.00,9,  -999.00, -999.000,9, -999.000,   -999.0,9,   -999.0,  -999.00,9,-999.0000,9,-999.0000,9,-999.0000,9,-999.0000,9,-999.0000,9,-999.0000,9
  33RR20070204,  I08S,    81,  1,      8,      8,2,20070311,1321,-32.0093,  95.0128, 4169,   2439.5,   2.0862,  34.7365,2,  34.7370,2,    186.7,2,    187.1,2,    89.97,2,    30.78,2,     0.00,2,     2.16,2,    0.019,2,    0.010,2, -999.000,5,   2252.9,2,   2350.7,2,     40.4,2,    32.03,2, -999.000,9, -999.000,-999.0000,9,-999.0000,  -999.00,9,  -999.00, -999.000,9, -999.000,   -999.0,9,   -999.0,  -999.00,9,-999.0000,9,-999.0000,9,-999.0000,9,-999.0000,9,-999.0000,9,-999.0000,9
  33RR20070204,  I08S,    81,  1,      7,      7,2,20070311,1321,-32.0093,  95.0128, 4169,   2693.1,   1.8279,  34.7424,2,  34.7427,2,    193.3,2,    193.8,2,    95.47,2,    30.63,2,     0.00,2,     2.12,2,    0.019,2,    0.009,2, -999.000,5,   2252.5,2,   2350.4,2,     40.7,2,    32.09,2, -999.000,9, -999.000,-999.0000,9,-999.0000,  -999.00,9,  -999.00, -999.000,9, -999.000,   -999.0,9,   -999.0,  -999.00,9,-999.0000,9,-999.0000,9,-999.0000,9,-999.0000,9,-999.0000,9,-999.0000,9
  33RR20070204,  I08S,    81,  1,      6,      6,2,20070311,1321,-32.0093,  95.0128, 4169,   2946.3,   1.6265,  34.7392,2,  34.7386,2,    197.1,2,    197.1,2,   101.37,2,    30.82,2,     0.00,2,     2.14,2,    0.017,2,    0.008,2, -999.000,5,   2253.8,2,   2355.6,2,     41.3,2,    32.55,2, -999.000,9, -999.000,-999.0000,9,-999.0000,  -999.00,9,  -999.00, -999.000,9, -999.000,   -999.0,9,   -999.0,  -999.00,9,-999.0000,9,-999.0000,9,-999.0000,9,-999.0000,9,-999.0000,9,-999.0000,9
  33RR20070204,  I08S,    81,  1,      5,      5,2,20070311,1321,-32.0093,  95.0128, 4169,   3199.8,   1.4433,  34.7332,2,  34.7323,2,    199.6,2,    199.4,2,   106.69,2,    30.99,2,     0.00,2,     2.15,2,    0.015,2,    0.007,2, -999.000,5,   2257.1,2,   2357.6,2,     40.9,2,    32.29,2, -999.000,9, -999.000,-999.0000,9,-999.0000,  -999.00,9,  -999.00, -999.000,9, -999.000,   -999.0,9,   -999.0,  -999.00,9,-999.0000,9,-999.0000,9,-999.0000,9,-999.0000,9,-999.0000,9,-999.0000,9
  33RR20070204,  I08S,    81,  1,      4,      4,2,20070311,1321,-32.0093,  95.0128, 4169,   3453.9,   1.3090,  34.7278,2,  34.7274,2,    201.7,2,    201.3,2,   110.83,2,    31.22,2,     0.00,2,     2.17,2,    0.016,2,    0.008,2, -999.000,5,   2259.4,2,   2361.3,2,     40.6,2,    32.77,2, -999.000,9, -999.000,-999.0000,9,-999.0000,  -999.00,9,  -999.00, -999.000,9, -999.000,   -999.0,9,   -999.0,  -999.00,9,-999.0000,9,-999.0000,9,-999.0000,9,-999.0000,9,-999.0000,9,-999.0000,9
  33RR20070204,  I08S,    81,  1,      3,      3,2,20070311,1321,-32.0093,  95.0128, 4169,   3707.9,   1.2078,  34.7228,2,  34.7223,2,    203.1,2,    202.9,2,   113.78,2,    31.44,2,     0.00,2,     2.18,2,    0.016,2,    0.009,2, -999.000,5,   2262.5,2,   2363.5,2,     41.7,2,    32.96,2, -999.000,9, -999.000,-999.0000,9,-999.0000,  -999.00,9,  -999.00, -999.000,9, -999.000,   -999.0,9,   -999.0,  -999.00,9,-999.0000,9,-999.0000,9,-999.0000,9,-999.0000,9,-999.0000,9,-999.0000,9
  33RR20070204,  I08S,    81,  1,      2,      2,2,20070311,1321,-32.0093,  95.0128, 4169,   4013.8,   1.1211,  34.7178,2,  34.7174,2,    204.2,2,    204.2,2,   116.94,2,    31.63,2,     0.00,2,     2.19,2,    0.018,2,    0.010,2, -999.000,5,   2264.1,2,   2366.1,2,     41.6,2,    32.94,2, -999.000,9, -999.000,-999.0000,9,-999.0000,  -999.00,9,  -999.00, -999.000,9, -999.000,   -999.0,9,   -999.0,  -999.00,9,-999.0000,9,-999.0000,9,-999.0000,9,-999.0000,9,-999.0000,9,-999.0000,9
  33RR20070204,  I08S,    81,  1,      1,      1,2,20070311,1321,-32.0093,  95.0128, 4169,   4245.2,   1.0732,  34.7147,2,  34.7154,2,    204.5,2,    205.3,2,   119.70,2,    31.76,2,     0.00,2,     2.21,2,    0.023,2,    0.014,2, -999.000,5,   2265.7,6,   2371.6,2,     41.3,2,    32.78,2, -999.000,9, -999.000,-999.0000,9,-999.0000,  -999.00,9,  -999.00, -999.000,9, -999.000,   -999.0,9,   -999.0,  -999.00,9,-999.0000,9,-999.0000,9,-999.0000,9,-999.0000,9,-999.0000,9,-999.0000,9