BOTTLE,20150626SIOCCHRJL
EXPOCODE,SECT_ID,STNNBR,CASTNO,SAMPNO,BTLNBR,BTLNBR_FLAG_W,DATE,TIME,LATITUDE,LONGITUDE,DEPTH,CTDPRS,CTDTMP,CTDSAL,CTDSAL_FLAG_W,SALNTY,SALNTY_FLAG_W,CTDOXY,CTDOXY_FLAG_W,OXYGEN,OXYGEN_FLAG_W,SILCAT,SILCAT_FLAG_W,NITRAT,NITRAT_FLAG_W,NITRIT,NITRIT_FLAG_W,PHSPHT,PHSPHT_FLAG_W,CFC-11,CFC-11_FLAG_W,CFC-12,CFC-12_FLAG_W,CFC113,CFC113_FLAG_W,TCARBN,TCARBN_FLAG_W,ALKALI,ALKALI_FLAG_W,DOC,DOC_FLAG_W,TDN,TDN_FLAG_W,TRITUM,TRITUM_FLAG_W,TRITER,HELIUM,HELIUM_FLAG_W,HELIER,DELHE3,DELHE3_FLAG_W,DELHER,NEON,NEON_FLAG_W,NEONER,DELC14,DELC14_FLAG_W,C14ERR,DELC13,DELC13_FLAG_W,CDOM325,CDOM325_FLAG_W,CDOM340,CDOM340_FLAG_W,CDOM380,CDOM380_FLAG_W,CDOM412,CDOM412_FLAG_W,CDOMSL,CDOMSL_FLAG_W,CDOMSN,CDOMSN_FLAG_W
,,,,,,,,,,,METERS,DBAR,ITS-90,PSS-78,,PSS-78,,UMOL/KG,,UMOL/KG,,UMOL/KG,,UMOL/KG,,UMOL/KG,,UMOL/KG,,PMOL/KG,,PMOL/KG,,PMOL/KG,,UMOL/KG,,UMOL/KG,,UMOL/KG,,UMOL/KG,,TU,,TU,NMOL/KG,,NMOL/KG,PERCNT,,PERCNT,NMOL/KG,,NMOL/KG,/MILLE,,/MILLE,/MILLE,,1/M,,1/M,,1/M,,1/M,,1/NM,,1/NM,
  33RR20070204,  I08S,    59,  1,     34,   9419,2,20070305,0229,-43.0107,  95.0062, 3262,      4.7,  13.1143,  34.7047,2,  34.7040,2,    262.4,2,    262.6,2,     0.00,2,     6.76,2,     0.13,2,     0.60,2,    3.149,2,    1.868,2, -999.000,5,   2073.3,6,   2296.4,2,     53.2,2,    10.96,2,    0.328,2,    0.007,   1.7460,2,   0.0004,    -1.78,2,     0.18,    7.365,2,    0.008,   -999.0,9,   -999.0,  -999.00,9,   0.0984,2,   0.0667,2,   0.0279,2,   0.0211,2,   0.0113,3,   0.0201,3
  33RR20070204,  I08S,    59,  1,     33,     33,2,20070305,0229,-43.0107,  95.0062, 3262,     41.4,  13.0965,  34.7045,2,  34.7041,2,    263.4,2,    262.7,2,     0.00,2,     6.71,2,     0.13,2,     0.60,2,    3.069,2,    1.797,2, -999.000,5,   2077.0,2,   2290.5,2,     52.7,2,    10.97,2,    0.629,2,    0.011,   1.7591,2,   0.0006,    -1.80,2,     0.18,    7.408,2,    0.008,   -999.0,9,   -999.0,  -999.00,9,   0.0990,2,   0.0666,2,   0.0289,2,   0.0212,2,   0.0113,3,   0.0197,3
  33RR20070204,  I08S,    59,  1,     32,     37,2,20070305,0229,-43.0107,  95.0062, 3262,     76.8,  12.9952,  34.7108,2,  34.7103,2,    262.8,2,    262.7,2,     0.00,2,     6.75,2,     0.14,2,     0.62,2,    2.970,2,    1.705,2, -999.000,5,   2079.0,2,   2291.0,2,     51.0,2,    11.36,2, -999.000,9, -999.000,-999.0000,9,-999.0000,  -999.00,9,  -999.00, -999.000,9, -999.000,   -999.0,9,   -999.0,  -999.00,9,   0.0919,2,   0.0628,2,   0.0302,2,   0.0222,2,   0.0110,3,   0.0173,3
  33RR20070204,  I08S,    59,  1,     31,     31,2,20070305,0229,-43.0107,  95.0062, 3262,     96.6,  12.0766,  34.7196,2,  34.7294,2,    258.9,2,    259.2,2,     0.63,2,     7.79,2,     0.28,2,     0.73,2,    3.125,2,    1.797,2, -999.000,5,   2092.3,2,   2293.1,2,     49.5,2,    12.69,2,    0.343,2,    0.008,   1.7763,2,   0.0005,    -1.46,2,     0.18,    7.520,2,    0.009,   -999.0,9,   -999.0,  -999.00,9,   0.0951,2,   0.0670,2,   0.0340,2,   0.0251,2,   0.0112,3,   0.0162,3
  33RR20070204,  I08S,    59,  1,     30,     30,2,20070305,0229,-43.0107,  95.0062, 3262,    126.7,  11.3715,  34.8428,2,  34.8388,2,    257.9,2,    257.7,2,     1.18,2,     8.84,2,     0.81,2,     0.80,2,    3.214,2,    1.828,2, -999.000,5,   2105.6,2,   2297.6,2,     47.8,2,    13.06,2,    0.499,2,    0.010,   1.7848,2,   0.0004,    -1.58,2,     0.17,    7.566,2,    0.008,   -999.0,9,   -999.0,  -999.00,9,   0.0865,2,   0.0619,2,   0.0325,2,   0.0241,2,   0.0138,2,   0.0154,2
  33RR20070204,  I08S,    59,  1,     29,     29,2,20070305,0229,-43.0107,  95.0062, 3262,    146.5,  11.0848,  34.8508,2,  34.8498,2,    258.1,2,    258.3,2,     1.32,2,     9.81,2,     0.65,2,     0.82,2,    3.123,2,    1.765,2, -999.000,5,   2106.6,2,   2296.3,2,     47.2,2,    13.68,2, -999.000,9, -999.000,   1.7773,2,   0.0005,    -1.71,2,     0.18,    7.511,2,    0.008,   -999.0,9,   -999.0,  -999.00,9,   0.0871,2,   0.0613,2,   0.0323,2,   0.0244,2,   0.0136,2,   0.0154,2
  33RR20070204,  I08S,    59,  1,     28,     28,2,20070305,0229,-43.0107,  95.0062, 3262,    176.4,  10.8350,  34.8552,2,  34.8549,2,    258.8,2,    258.5,2,     1.46,2,    10.87,2,     0.02,2,     0.84,2,    3.453,2,    2.020,2, -999.000,5,   2110.0,2,   2297.2,2,     47.0,2,    14.03,2,    0.505,2,    0.009,   1.8027,2,   0.0004,    -1.26,2,     0.17,    7.661,2,    0.008,   -999.0,9,   -999.0,  -999.00,9,   0.0713,2,   0.0479,2,   0.0258,2,   0.0205,2,   0.0130,3,   0.0155,3
  33RR20070204,  I08S,    59,  1,     27,     27,2,20070305,0229,-43.0107,  95.0062, 3262,    226.7,  10.9490,  34.8963,2,  34.8953,2,    257.3,2,    257.9,2,     1.60,2,    10.54,2,     0.01,2,     0.81,2,    3.406,2,    1.981,2, -999.000,5,   2108.2,2,   2297.4,2,     46.0,2,    14.29,2,    0.366,2,    0.008,   1.7445,2,   0.0005,    -1.33,2,     0.17,    7.321,2,    0.008,   -999.0,9,   -999.0,  -999.00,9,   0.0709,2,   0.0478,2,   0.0259,2,   0.0206,2,   0.0128,3,   0.0152,3
  33RR20070204,  I08S,    59,  1,     26,     26,2,20070305,0229,-43.0107,  95.0062, 3262,    277.0,  11.2280,  34.9796,2,  34.9787,2,    255.8,2,    255.7,2,     1.33,2,     9.68,2,     0.01,2,     0.76,2,    3.339,2,    1.945,2, -999.000,5,   2107.5,2,   2302.2,2,     45.2,2,    12.85,2,    0.368,2,    0.008,   1.7822,2,   0.0009,    -1.64,2,     0.20,    7.524,2,    0.009,   -999.0,9,   -999.0,  -999.00,9,   0.0723,2,   0.0490,2,   0.0269,2,   0.0215,2,   0.0126,3,   0.0149,3
  33RR20070204,  I08S,    59,  1,     25,     25,2,20070305,0229,-43.0107,  95.0062, 3262,    327.0,  11.1150,  34.9526,2,  34.9541,2,    256.6,2,    256.7,2,     1.27,2,     9.96,2,     0.01,2,     0.78,2,    3.326,2,    1.923,2, -999.000,5,   2108.5,2,   2301.7,2,     44.6,2,    13.54,2,    0.363,2,    0.008,   1.7867,2,   0.0006,    -1.81,2,     0.20,    7.573,2,    0.009,   -999.0,9,   -999.0,  -999.00,9,   0.0736,2,   0.0505,2,   0.0280,2,   0.0221,2,   0.0125,2,   0.0146,3
  33RR20070204,  I08S,    59,  1,     24,     24,2,20070305,0229,-43.0107,  95.0062, 3262,    377.3,  10.8121,  34.8967,2,  34.8949,2,    256.4,2,    256.9,2,     1.62,2,    10.96,2,     0.01,2,     0.84,2,    3.428,2,    1.993,2, -999.000,5,   2108.4,2,   2299.4,2,     43.9,2,    14.23,2,    0.355,2,    0.008,   1.7694,2,   0.0006,    -1.44,2,     0.21,    7.489,2,    0.009,   -999.0,9,   -999.0,  -999.00,9,   0.0687,2,   0.0456,2,   0.0244,2,   0.0191,2,   0.0132,3,   0.0160,3
  33RR20070204,  I08S,    59,  1,     23,     23,2,20070305,0229,-43.0107,  95.0062, 3262,    427.3,  10.6098,  34.8943,2,  34.8991,2,    251.0,2,    250.8,2,     2.18,2,    11.73,2,     0.01,2,     0.89,2,    3.329,2,    1.885,2, -999.000,5,   2114.3,2,   2299.7,2,     42.9,2,    15.62,2,    0.630,2,    0.011,   1.7736,2,   0.0005,    -1.14,2,     0.21,    7.540,2,    0.008,   -999.0,9,   -999.0,  -999.00,9,   0.0722,2,   0.0488,2,   0.0262,2,   0.0205,2,   0.0130,3,   0.0156,3
  33RR20070204,  I08S,    59,  1,     22,     22,2,20070305,0229,-43.0107,  95.0062, 3262,    477.1,   9.9733,  34.7886,2,  34.7864,2,    247.5,2,    245.5,2,     2.53,2,    14.02,2,     0.00,2,     1.03,2,    3.392,2,    1.892,2, -999.000,5,   2120.3,2,   2294.5,2,     42.8,2,    17.09,2,    0.312,2,    0.007,   1.7969,2,   0.0005,    -0.90,2,     0.19,    7.651,2,    0.009,   -999.0,9,   -999.0,  -999.00,9,   0.0771,2,   0.0528,2,   0.0294,2,   0.0230,2,   0.0126,2,   0.0146,3
  33RR20070204,  I08S,    59,  1,     21,     21,2,20070305,0229,-43.0107,  95.0062, 3262,    527.6,   9.6865,  34.7414,2,  34.7426,2,    243.9,2,    242.8,2,     3.09,2,    14.97,2,     0.00,2,     1.09,2,    3.523,2,    1.971,2, -999.000,5,   2123.2,2,   2289.5,2,     42.9,2,    17.17,2,    0.290,2,    0.008,   1.7633,2,   0.0005,    -0.60,2,     0.20,    7.531,2,    0.008,   -999.0,9,   -999.0,  -999.00,9,   0.0786,2,   0.0541,2,   0.0300,2,   0.0233,2,   0.0126,2,   0.0145,3
  33RR20070204,  I08S,    59,  1,     20,     20,2,20070305,0229,-43.0107,  95.0062, 3262,    647.9,   8.7948,  34.6154,2,  34.6154,2,    229.3,2,    228.3,2,     5.72,2,    18.80,2,     0.00,2,     1.33,2,    3.286,2,    1.755,2, -999.000,5,   2136.5,2,   2286.2,2,     42.8,2,    21.21,2,    0.219,2,    0.006,   1.8271,2,   0.0008,    -0.62,2,     0.20,    7.769,2,    0.009,   -999.0,9,   -999.0,  -999.00,9,   0.0815,2,   0.0550,2,   0.0303,2,   0.0234,2,   0.0131,2,   0.0151,3
  33RR20070204,  I08S,    59,  1,     19,     19,2,20070305,0229,-43.0107,  95.0062, 3262,    748.5,   7.8597,  34.5293,2,  34.5282,2,    212.5,2,    212.5,2,     9.82,2,    22.46,2,     0.00,2,     1.56,2,    2.833,2,    1.478,2, -999.000,5,   2151.8,2,   2284.5,2,     42.5,2,    24.75,2,    0.171,2,    0.006,   1.8247,2,   0.0007,     0.97,2,     0.20,    7.809,2,    0.009,   -999.0,9,   -999.0,  -999.00,9,   0.0840,2,   0.0565,2,   0.0309,2,   0.0236,2,   0.0134,3,   0.0155,3
  33RR20070204,  I08S,    59,  1,     18,     18,2,20070305,0229,-43.0107,  95.0062, 3262,    849.0,   6.6736,  34.4369,2,  34.4376,2,    209.6,2,    209.5,2,    14.97,2,    25.50,2,     0.00,2,     1.77,2,    2.694,2,    1.403,2, -999.000,5,   2166.0,2,   2284.7,2,     42.0,2,    28.35,2,    0.121,2,    0.005,   1.7944,2,   0.0004,     1.42,2,     0.17,    7.799,2,    0.008,   -999.0,9,   -999.0,  -999.00,9,   0.0888,2,   0.0596,2,   0.0333,2,   0.0258,2,   0.0132,3,   0.0150,3
  33RR20070204,  I08S,    59,  1,     17,     17,2,20070305,0229,-43.0107,  95.0062, 3262,    949.8,   5.5656,  34.3575,2,  34.3550,2,    214.4,2,    215.9,2,    19.29,2,    27.34,2,     0.00,2,     1.91,2,    2.830,2,    1.472,2, -999.000,5,   2174.3,2,   2285.2,2,     41.3,2,    30.27,2,    0.098,2,    0.005,-999.0000,9,-999.0000,  -999.00,9,  -999.00, -999.000,9, -999.000,   -999.0,9,   -999.0,  -999.00,9,   0.0933,2,   0.0630,2,   0.0359,2,   0.0277,2,   0.0131,3,   0.0146,3
  33RR20070204,  I08S,    59,  1,     16,     16,2,20070305,0229,-43.0107,  95.0062, 3262,   1050.0,   4.6491,  34.3262,2,  34.3265,2,    212.3,2,    214.7,2,    25.49,2,    29.48,2,     0.00,2,     2.05,2,    2.531,2,    1.290,2, -999.000,5,   2185.3,2,   2289.2,2,     41.3,2,    31.16,2, -999.000,9, -999.000,   1.8441,2,   0.0005,     2.07,2,     0.17,    8.046,2,    0.009,   -999.0,9,   -999.0,  -999.00,9,   0.0940,2,   0.0628,2,   0.0349,2,   0.0268,2,   0.0133,3,   0.0151,3
  33RR20070204,  I08S,    59,  1,     15,     15,2,20070305,0229,-43.0107,  95.0062, 3262,   1150.9,   4.0424,  34.3235,2,  34.3238,2,    214.5,2,    213.2,2,    31.49,2,    30.79,2,     0.00,2,     2.14,2,    2.298,2,    1.160,2, -999.000,5,   2195.6,6,   2293.4,2,     41.1,2,    32.14,2, -999.000,9, -999.000,-999.0000,9,-999.0000,  -999.00,9,  -999.00, -999.000,9, -999.000,   -999.0,9,   -999.0,  -999.00,9,   0.0998,2,   0.0675,2,   0.0384,2,   0.0294,2,   0.0132,3,   0.0146,3
  33RR20070204,  I08S,    59,  1,     14,     14,2,20070305,0229,-43.0107,  95.0062, 3262,   1250.9,   3.6961,  34.3664,2,  34.3664,2,    201.1,2,    198.0,2,    40.45,2,    32.30,2,     0.00,2,     2.26,2,    1.441,2,    0.712,2, -999.000,5,   2212.6,2,   2301.9,2,     41.0,2,    34.24,2, -999.000,9, -999.000,   1.8101,2,   0.0005,     4.60,2,     0.17,    8.055,2,    0.009,   -999.0,9,   -999.0,  -999.00,9,   0.1105,2,   0.0760,2,   0.0440,2,   0.0338,2,   0.0128,3,   0.0139,3
  33RR20070204,  I08S,    59,  1,     13,     13,2,20070305,0229,-43.0107,  95.0062, 3262,   1351.9,   3.4096,  34.4074,2,  34.4094,2,    188.2,2,    188.2,2,    48.15,2,    33.12,2,     0.00,2,     2.33,2,    1.126,2,    0.569,2, -999.000,5,   2224.4,2,   2309.7,2,     41.1,2,    34.70,2, -999.000,9, -999.000,   1.8314,2,   0.0004,     5.45,2,     0.17,    8.009,2,    0.009,   -999.0,9,   -999.0,  -999.00,9,   0.1181,2,   0.0823,2,   0.0478,2,   0.0366,2,   0.0129,3,   0.0137,3
  33RR20070204,  I08S,    59,  1,     12,     12,2,20070305,0229,-43.0107,  95.0062, 3262,   1453.1,   3.1668,  34.4554,2,  34.4561,2,    181.4,2,    181.8,2,    54.41,2,    33.56,2,     0.00,2,     2.34,2,    0.889,2,    0.446,2, -999.000,5,   2233.1,2,   2313.7,2,     40.6,2,    34.62,2, -999.000,9, -999.000,   1.8488,2,   0.0004,     6.46,2,     0.17,    8.073,2,    0.009,   -999.0,9,   -999.0,  -999.00,9,   0.1133,2,   0.0774,2,   0.0433,2,   0.0323,2,   0.0135,4,   0.0149,4
  33RR20070204,  I08S,    59,  1,     11,     11,2,20070305,0229,-43.0107,  95.0062, 3262,   1553.6,   2.9998,  34.4966,2,  34.4962,2,    177.3,2,    176.8,2,    59.41,2,    33.56,2,     0.00,2,     2.36,2,    0.650,2,    0.321,2, -999.000,5,   2241.0,2,   2320.8,2,     41.2,2,    35.08,2, -999.000,9, -999.000,   1.8369,2,   0.0004,     7.02,2,     0.17,    8.044,2,    0.008,   -999.0,9,   -999.0,  -999.00,9,   0.1180,2,   0.0813,2,   0.0458,2,   0.0345,2,   0.0135,3,   0.0147,3
  33RR20070204,  I08S,    59,  1,     10,     10,2,20070305,0229,-43.0107,  95.0062, 3262,   1654.8,   2.8521,  34.5460,2,  34.5457,2,    174.8,2,    174.9,2,    64.00,2,    33.59,2,     0.00,2,     2.34,2,    0.493,2,    0.243,2, -999.000,5,   2246.8,6,   2325.1,2,     40.9,2,    35.09,2, -999.000,9, -999.000,   1.8906,2,   0.0005,     7.56,2,     0.17,    8.221,2,    0.009,   -999.0,9,   -999.0,  -999.00,9,   0.1233,2,   0.0856,2,   0.0478,2,   0.0359,2,   0.0135,3,   0.0146,3
  33RR20070204,  I08S,    59,  1,      9,      9,2,20070305,0229,-43.0107,  95.0062, 3262,   1755.6,   2.7489,  34.5869,2,  34.5876,2,    174.6,2,    174.6,2,    66.49,2,    33.25,2,     0.00,2,     2.32,2,    0.369,2,    0.180,2, -999.000,5,   2248.5,2,   2328.9,2,     40.8,2,    34.27,2, -999.000,9, -999.000,   1.9326,3,   0.0005,     7.82,2,     0.17,    8.368,2,    0.009,   -999.0,9,   -999.0,  -999.00,9,   0.1238,2,   0.0857,2,   0.0475,2,   0.0350,2,   0.0138,3,   0.0150,3
  33RR20070204,  I08S,    59,  1,      8,      8,2,20070305,0229,-43.0107,  95.0062, 3262,   1856.0,   2.6578,  34.6276,2,  34.6280,2,    176.2,2,    176.4,2,    68.56,2,    32.66,2,     0.00,2,     2.27,2,    0.288,2,    0.141,2, -999.000,5,   2247.2,2,   2330.8,2,     40.9,2,    34.19,2, -999.000,9, -999.000,   1.8650,2,   0.0005,     8.63,2,     0.20,    8.195,2,    0.009,   -999.0,9,   -999.0,  -999.00,9,   0.1240,2,   0.0857,2,   0.0468,2,   0.0346,2,   0.0138,3,   0.0152,3
  33RR20070204,  I08S,    59,  1,      7,      7,2,20070305,0229,-43.0107,  95.0062, 3262,   1957.5,   2.6013,  34.6563,2,  34.6569,2,    178.5,2,    178.9,2,    70.00,2,    32.12,2,     0.00,2,     2.23,2,    0.229,2,    0.111,2, -999.000,5,   2247.2,2,   2333.8,2,     41.3,2,    33.22,2, -999.000,9, -999.000,   1.8543,2,   0.0004,     8.55,2,     0.17,    8.136,2,    0.009,   -999.0,9,   -999.0,  -999.00,9,   0.1254,2,   0.0870,2,   0.0478,2,   0.0353,2,   0.0139,3,   0.0151,3
  33RR20070204,  I08S,    59,  1,      6,      6,2,20070305,0229,-43.0107,  95.0062, 3262,   2119.6,   2.4744,  34.7001,2,  34.7010,2,    183.6,2,    184.1,2,    72.29,2,    31.24,2,     0.00,2,     2.17,2,    0.146,2,    0.071,2, -999.000,5,   2248.5,2,   2336.2,2,     41.0,2,    33.13,2, -999.000,9, -999.000,   1.8648,2,   0.0004,     9.23,2,     0.17,    8.154,2,    0.009,   -999.0,9,   -999.0,  -999.00,9,   0.1262,3,   0.0878,3,   0.0480,3,   0.0351,3,   0.0140,3,   0.0152,4
  33RR20070204,  I08S,    59,  1,      5,      5,2,20070305,0229,-43.0107,  95.0062, 3262,   2371.6,   2.2915,  34.7395,2,  34.7397,2,    191.9,2,    192.2,2,    76.06,2,    30.16,2,     0.00,2,     2.09,2,    0.095,2,    0.046,2, -999.000,5,   2244.4,2,   2340.8,2,     40.5,2,    31.56,2, -999.000,9, -999.000,   1.8607,2,   0.0004,    11.82,2,     0.17,    8.056,2,    0.008,   -999.0,9,   -999.0,  -999.00,9,   0.1293,2,   0.0906,2,   0.0496,2,   0.0367,2,   0.0140,2,   0.0150,3
  33RR20070204,  I08S,    59,  1,      4,      4,2,20070305,0229,-43.0107,  95.0062, 3262,   2624.9,   2.0461,  34.7505,2,  34.7515,2,    196.4,2,    195.8,2,    84.29,2,    30.15,2,     0.00,2,     2.08,2,    0.068,2,    0.033,2, -999.000,5,   2247.7,2,   2347.5,2,     41.2,2,    31.25,2, -999.000,9, -999.000,   1.8654,2,   0.0005,    13.48,2,     0.17,    8.164,2,    0.009,   -999.0,9,   -999.0,  -999.00,9,   0.1269,2,   0.0883,2,   0.0475,2,   0.0342,2,   0.0141,2,   0.0155,3
  33RR20070204,  I08S,    59,  1,      3,      3,2,20070305,0229,-43.0107,  95.0062, 3262,   2879.0,   1.7314,  34.7453,2,  34.7466,2,    199.3,2,    199.1,2,    94.67,2,    30.44,2,     0.00,2,     2.12,2,    0.068,2,    0.031,2, -999.000,5,   2253.3,2,   2353.1,2,     41.5,2,    31.62,2, -999.000,9, -999.000,-999.0000,9,-999.0000,  -999.00,9,  -999.00, -999.000,9, -999.000,   -999.0,9,   -999.0,  -999.00,9,   0.1307,2,   0.0915,2,   0.0503,2,   0.0364,2,   0.0137,2,   0.0150,3
  33RR20070204,  I08S,    59,  1,      2,      2,2,20070305,0229,-43.0107,  95.0062, 3262,   3132.7,   1.6034,  34.7409,2,  34.7409,2,    200.9,2,    200.6,2,    99.76,2,    30.74,2,     0.00,2,     2.13,2,    0.075,2,    0.037,2, -999.000,5,   2256.8,2,   2354.1,2,     40.8,2,    32.15,2,    0.001,2,    0.004,-999.0000,9,-999.0000,  -999.00,9,  -999.00, -999.000,9, -999.000,   -999.0,9,   -999.0,  -999.00,9,   0.1304,2,   0.0915,2,   0.0492,2,   0.0356,2,   0.0141,3,   0.0154,4
  33RR20070204,  I08S,    59,  1,      1,      1,2,20070305,0229,-43.0107,  95.0062, 3262,   3308.4,   1.5541,  34.7383,2,  34.7396,2,    200.6,2,    201.3,2,   102.07,2,    30.82,2,     0.00,2,     2.14,2,    0.077,2,    0.038,2, -999.000,5,   2256.3,6,   2355.9,2,     40.7,2,    32.21,2,    0.000,2,    0.004,   1.8826,2,   0.0007,    11.05,2,     0.22,    8.194,2,    0.010,   -999.0,9,   -999.0,  -999.00,9,   0.1328,2,   0.0934,2,   0.0510,2,   0.0366,2,   0.0141,2,   0.0152,3