BOTTLE,20150626SIOCCHRJL
EXPOCODE,SECT_ID,STNNBR,CASTNO,SAMPNO,BTLNBR,BTLNBR_FLAG_W,DATE,TIME,LATITUDE,LONGITUDE,DEPTH,CTDPRS,CTDTMP,CTDSAL,CTDSAL_FLAG_W,SALNTY,SALNTY_FLAG_W,CTDOXY,CTDOXY_FLAG_W,OXYGEN,OXYGEN_FLAG_W,SILCAT,SILCAT_FLAG_W,NITRAT,NITRAT_FLAG_W,NITRIT,NITRIT_FLAG_W,PHSPHT,PHSPHT_FLAG_W,CFC-11,CFC-11_FLAG_W,CFC-12,CFC-12_FLAG_W,CFC113,CFC113_FLAG_W,TCARBN,TCARBN_FLAG_W,ALKALI,ALKALI_FLAG_W,DOC,DOC_FLAG_W,TDN,TDN_FLAG_W,TRITUM,TRITUM_FLAG_W,TRITER,HELIUM,HELIUM_FLAG_W,HELIER,DELHE3,DELHE3_FLAG_W,DELHER,NEON,NEON_FLAG_W,NEONER,DELC14,DELC14_FLAG_W,C14ERR,DELC13,DELC13_FLAG_W,CDOM325,CDOM325_FLAG_W,CDOM340,CDOM340_FLAG_W,CDOM380,CDOM380_FLAG_W,CDOM412,CDOM412_FLAG_W,CDOMSL,CDOMSL_FLAG_W,CDOMSN,CDOMSN_FLAG_W
,,,,,,,,,,,METERS,DBAR,ITS-90,PSS-78,,PSS-78,,UMOL/KG,,UMOL/KG,,UMOL/KG,,UMOL/KG,,UMOL/KG,,UMOL/KG,,PMOL/KG,,PMOL/KG,,PMOL/KG,,UMOL/KG,,UMOL/KG,,UMOL/KG,,UMOL/KG,,TU,,TU,NMOL/KG,,NMOL/KG,PERCNT,,PERCNT,NMOL/KG,,NMOL/KG,/MILLE,,/MILLE,/MILLE,,1/M,,1/M,,1/M,,1/M,,1/NM,,1/NM,
  33RR20070204,  I08S,    15,  1,     29,     29,2,20070219,0532,-61.4880,  82.0042, 2164,      4.0,   1.0587,  33.8687,2,  33.8643,2,    332.1,2,    331.9,2,    32.09,2,    24.37,2,     0.18,2,     1.62,2,    5.688,2,    3.057,2, -999.000,5,   2151.7,6,   2292.3,2,     48.7,2,    28.84,2, -999.000,9, -999.000,-999.0000,9,-999.0000,  -999.00,9,  -999.00, -999.000,9, -999.000,   -999.0,9,   -999.0,  -999.00,9,   0.1285,2,   0.0910,2,   0.0403,2,   0.0296,2,   0.0156,3,   0.0186,3
  33RR20070204,  I08S,    15,  1,     28,     28,2,20070219,0532,-61.4880,  82.0042, 2164,     19.2,   1.0196,  33.8824,2,  33.8821,2,    331.5,2,    330.7,2,    32.87,2,    24.47,2,     0.18,2,     1.63,2, -999.000,9, -999.000,9, -999.000,9,   2154.9,2,   2291.8,2,     48.8,2,    29.46,2, -999.000,9, -999.000,-999.0000,9,-999.0000,  -999.00,9,  -999.00, -999.000,9, -999.000,   -999.0,9,   -999.0,  -999.00,9,   0.1283,2,   0.0909,2,   0.0389,2,   0.0286,2,   0.0159,3,   0.0192,3
  33RR20070204,  I08S,    15,  1,     27,     27,2,20070219,0532,-61.4880,  82.0042, 2164,     44.3,   0.9964,  33.8907,2,  33.8908,2,    327.5,2,    328.6,2,    33.65,2,    24.62,2,     0.18,2,     1.66,2,    5.614,2,    3.020,2, -999.000,5,   2156.3,2,   2295.1,2,     47.3,2,    28.82,2, -999.000,9, -999.000,-999.0000,9,-999.0000,  -999.00,9,  -999.00, -999.000,9, -999.000,   -999.0,9,   -999.0,  -999.00,9,   0.1252,2,   0.0879,2,   0.0399,2,   0.0297,2,   0.0153,3,   0.0182,3
  33RR20070204,  I08S,    15,  1,     26,     26,2,20070219,0532,-61.4880,  82.0042, 2164,     64.7,   0.3721,  34.2201,2,  34.2272,2,    250.7,2,    250.5,2,    63.77,2,    31.62,2,     0.14,2,     2.30,2, -999.000,9, -999.000,9, -999.000,9,   2224.3,2,   2310.1,2,     46.4,2,    35.70,2, -999.000,9, -999.000,-999.0000,9,-999.0000,  -999.00,9,  -999.00, -999.000,9, -999.000,   -999.0,9,   -999.0,  -999.00,9,   0.1205,2,   0.0815,2,   0.0429,2,   0.0329,2,   0.0145,3,   0.0161,3
  33RR20070204,  I08S,    15,  1,     25,     25,2,20070219,0532,-61.4880,  82.0042, 2164,    104.9,   1.1002,  34.4543,2,  34.4370,2,    200.8,2,    201.4,2,    74.58,2,    34.28,2,     0.17,2,     2.41,2,    2.000,2,    1.049,2, -999.000,5,   2250.7,2,   2321.0,2,     44.0,2,    39.13,2, -999.000,9, -999.000,-999.0000,9,-999.0000,  -999.00,9,  -999.00, -999.000,9, -999.000,   -999.0,9,   -999.0,  -999.00,9,   0.1227,2,   0.0830,2,   0.0452,2,   0.0340,2,   0.0146,3,   0.0158,3
  33RR20070204,  I08S,    15,  1,     24,     24,2,20070219,0532,-61.4880,  82.0042, 2164,    144.9,   1.7252,  34.5710,2,  34.5676,2,    177.5,2,    177.0,2,    80.60,2,    34.88,2,     0.06,2,     2.42,2, -999.000,9, -999.000,9, -999.000,9,   2261.1,2,   2329.9,2,     43.4,2,    38.70,2, -999.000,9, -999.000,-999.0000,9,-999.0000,  -999.00,9,  -999.00, -999.000,9, -999.000,   -999.0,9,   -999.0,  -999.00,9,   0.1239,2,   0.0840,2,   0.0452,2,   0.0336,2,   0.0146,3,   0.0160,3
  33RR20070204,  I08S,    15,  1,     23,     23,2,20070219,0532,-61.4880,  82.0042, 2164,    190.3,   1.8537,  34.6158,2,  34.6140,2,    174.9,2,    174.4,2,    82.39,2,    34.46,2,     0.03,2,     2.39,2,    0.747,2,    0.392,2, -999.000,5,   2262.3,2,   2334.1,2,     43.1,2,    38.34,2, -999.000,9, -999.000,-999.0000,9,-999.0000,  -999.00,9,  -999.00, -999.000,9, -999.000,   -999.0,9,   -999.0,  -999.00,9,   0.1233,2,   0.0837,2,   0.0450,2,   0.0329,2,   0.0148,3,   0.0161,3
  33RR20070204,  I08S,    15,  1,     22,     22,2,20070219,0532,-61.4880,  82.0042, 2164,    240.7,   1.9145,  34.6506,2,  34.6507,2,    174.3,2,    175.0,2,    83.80,2,    33.82,2,     0.02,2,     2.34,2, -999.000,9, -999.000,9, -999.000,9,   2259.2,6,   2335.0,2,     42.5,2,    37.19,2, -999.000,9, -999.000,-999.0000,9,-999.0000,  -999.00,9,  -999.00, -999.000,9, -999.000,   -999.0,9,   -999.0,  -999.00,9,   0.1269,2,   0.0864,2,   0.0468,2,   0.0344,2,   0.0145,3,   0.0158,3
  33RR20070204,  I08S,    15,  1,     21,     21,2,20070219,0532,-61.4880,  82.0042, 2164,    291.0,   1.9486,  34.6756,2,  34.6732,2,    176.6,2,    176.5,2,    83.18,2,    33.28,2,     0.01,2,     2.31,2,    0.450,2,    0.233,2, -999.000,5,   2259.1,2,   2338.6,2,     42.0,2,    37.23,2, -999.000,9, -999.000,-999.0000,9,-999.0000,  -999.00,9,  -999.00, -999.000,9, -999.000,   -999.0,9,   -999.0,  -999.00,9,   0.1225,2,   0.0833,2,   0.0442,2,   0.0319,2,   0.0150,3,   0.0164,3
  33RR20070204,  I08S,    15,  1,     20,     20,2,20070219,0532,-61.4880,  82.0042, 2164,    341.4,   1.9404,  34.6898,2,  34.6887,2,    178.2,2,    178.1,2,    84.18,2,    32.93,2,     0.01,2,     2.29,2, -999.000,9, -999.000,9, -999.000,9,   2256.9,2,   2339.1,2,     41.8,2,    36.61,2, -999.000,9, -999.000,-999.0000,9,-999.0000,  -999.00,9,  -999.00, -999.000,9, -999.000,   -999.0,9,   -999.0,  -999.00,9,   0.1221,2,   0.0832,2,   0.0445,2,   0.0324,2,   0.0148,3,   0.0162,3
  33RR20070204,  I08S,    15,  1,     19,     19,2,20070219,0532,-61.4880,  82.0042, 2164,    391.5,   1.9305,  34.7026,2,  34.7021,2,    180.8,2,    180.8,2,    84.57,2,    32.53,2,     0.01,2,     2.25,2,    0.351,2,    0.178,2, -999.000,5,   2255.2,2,   2340.4,2,     41.7,2,    36.46,2, -999.000,9, -999.000,-999.0000,9,-999.0000,  -999.00,9,  -999.00, -999.000,9, -999.000,   -999.0,9,   -999.0,  -999.00,9,   0.1204,2,   0.0815,2,   0.0434,2,   0.0313,2,   0.0149,4,   0.0165,4
  33RR20070204,  I08S,    15,  1,     18,     18,2,20070219,0532,-61.4880,  82.0042, 2164,    442.0,   1.9179,  34.7119,2,  34.7110,2,    183.0,2,    182.8,2,    83.76,2,    32.22,2,     0.01,2,     2.23,2, -999.000,9, -999.000,9, -999.000,9,   2254.1,2,   2341.5,2,     41.4,2,    35.70,2, -999.000,9, -999.000,-999.0000,9,-999.0000,  -999.00,9,  -999.00, -999.000,9, -999.000,   -999.0,9,   -999.0,  -999.00,9,   0.1315,2,   0.0899,2,   0.0493,2,   0.0363,2,   0.0144,3,   0.0156,3
  33RR20070204,  I08S,    15,  1,     17,     17,2,20070219,0532,-61.4880,  82.0042, 2164,    492.1,   1.8863,  34.7227,2,  34.7218,2,    184.9,2,    185.5,2,    84.96,2,    31.72,2,     0.01,2,     2.21,2,    0.288,2,    0.142,2, -999.000,5,   2251.4,2,   2340.7,2,     41.6,2,    35.61,2, -999.000,9, -999.000,-999.0000,9,-999.0000,  -999.00,9,  -999.00, -999.000,9, -999.000,   -999.0,9,   -999.0,  -999.00,9,   0.1221,2,   0.0832,2,   0.0446,2,   0.0322,2,   0.0148,2,   0.0162,3
  33RR20070204,  I08S,    15,  1,     16,     16,2,20070219,0532,-61.4880,  82.0042, 2164,    577.6,   1.8433,  34.7317,2,  34.7315,2,    188.2,2,    189.1,2,    85.95,2,    31.42,2,     0.01,2,     2.18,2, -999.000,9, -999.000,9, -999.000,9,   2250.3,2,   2342.4,2,     41.5,2,    33.45,2, -999.000,9, -999.000,-999.0000,9,-999.0000,  -999.00,9,  -999.00, -999.000,9, -999.000,   -999.0,9,   -999.0,  -999.00,9,   0.1211,2,   0.0825,2,   0.0439,2,   0.0320,2,   0.0147,3,   0.0162,3
  33RR20070204,  I08S,    15,  1,     15,     15,2,20070219,0532,-61.4880,  82.0042, 2164,    678.6,   1.7520,  34.7405,2,  34.7401,2,    193.1,2,    192.6,2,    87.76,2,    31.02,2,     0.01,2,     2.15,2,    0.224,2,    0.106,2, -999.000,5,   2248.9,2,   2346.3,2,     41.0,2,    33.23,2, -999.000,9, -999.000,-999.0000,9,-999.0000,  -999.00,9,  -999.00, -999.000,9, -999.000,   -999.0,9,   -999.0,  -999.00,9,   0.1212,2,   0.0827,2,   0.0441,2,   0.0316,2,   0.0149,2,   0.0163,3
  33RR20070204,  I08S,    15,  1,     14,     14,2,20070219,0532,-61.4880,  82.0042, 2164,    779.8,   1.6620,  34.7439,2,  34.7433,2,    195.7,2,    195.9,2,    89.37,2,    30.83,2,     0.01,2,     2.14,2, -999.000,9, -999.000,9, -999.000,9,   2248.8,2,   2347.1,2,     41.0,2,    32.91,2, -999.000,9, -999.000,-999.0000,9,-999.0000,  -999.00,9,  -999.00, -999.000,9, -999.000,   -999.0,9,   -999.0,  -999.00,9,   0.1217,2,   0.0833,2,   0.0451,2,   0.0324,2,   0.0149,2,   0.0161,3
  33RR20070204,  I08S,    15,  1,     13,     13,2,20070219,0532,-61.4880,  82.0042, 2164,    880.5,   1.5769,  34.7449,2,  34.7447,2,    198.3,2,    198.7,2,    91.37,2,    30.67,2,     0.01,2,     2.12,2,    0.200,2,    0.093,2, -999.000,5,   2248.5,2,   2347.7,2,     41.7,2,    32.99,2, -999.000,9, -999.000,-999.0000,9,-999.0000,  -999.00,9,  -999.00, -999.000,9, -999.000,   -999.0,9,   -999.0,  -999.00,9,   0.1165,2,   0.0791,2,   0.0420,2,   0.0301,2,   0.0148,2,   0.0164,3
  33RR20070204,  I08S,    15,  1,     12,     12,2,20070219,0532,-61.4880,  82.0042, 2164,    981.6,   1.4848,  34.7436,2,  34.7443,2,    200.0,2,    200.0,2,    93.39,2,    30.72,2,     0.00,2,     2.13,2, -999.000,9, -999.000,9, -999.000,9,   2249.1,2,   2349.1,2,     42.0,2,    32.80,2, -999.000,9, -999.000,-999.0000,9,-999.0000,  -999.00,9,  -999.00, -999.000,9, -999.000,   -999.0,9,   -999.0,  -999.00,9,   0.1179,2,   0.0806,2,   0.0433,2,   0.0310,2,   0.0148,3,   0.0162,4
  33RR20070204,  I08S,    15,  1,     11,     11,2,20070219,0532,-61.4880,  82.0042, 2164,   1082.0,   1.3804,  34.7405,2,  34.7404,2,    202.0,2,    201.3,2,    96.42,2,    30.86,2,     0.00,2,     2.14,2,    0.185,2,    0.084,2, -999.000,5,   2249.6,2,   2351.3,2,     42.0,2,    32.79,2, -999.000,9, -999.000,-999.0000,9,-999.0000,  -999.00,9,  -999.00, -999.000,9, -999.000,   -999.0,9,   -999.0,  -999.00,9,   0.1161,2,   0.0793,2,   0.0422,2,   0.0299,2,   0.0149,3,   0.0164,4
  33RR20070204,  I08S,    15,  1,     10,     10,2,20070219,0532,-61.4880,  82.0042, 2164,   1183.0,   1.2867,  34.7365,2,  34.7369,2,    202.7,2,    202.9,2,    98.43,2,    31.01,2,     0.00,2,     2.15,2, -999.000,9, -999.000,9, -999.000,9,   2251.0,2,   2351.4,2,     41.4,2,    32.29,2, -999.000,9, -999.000,-999.0000,9,-999.0000,  -999.00,9,  -999.00, -999.000,9, -999.000,   -999.0,9,   -999.0,  -999.00,9,   0.1170,2,   0.0803,2,   0.0432,2,   0.0310,3,   0.0146,3,   0.0161,4
  33RR20070204,  I08S,    15,  1,      9,      9,2,20070219,0532,-61.4880,  82.0042, 2164,   1284.4,   1.1877,  34.7313,2,  34.7312,2,    203.8,2,    203.7,2,   102.48,2,    31.11,2,     0.00,2,     2.16,2,    0.185,2,    0.084,2, -999.000,5,   2253.6,2,   2351.9,2,     41.5,2,    32.64,2, -999.000,9, -999.000,-999.0000,9,-999.0000,  -999.00,9,  -999.00, -999.000,9, -999.000,   -999.0,9,   -999.0,  -999.00,9,   0.1171,2,   0.0802,2,   0.0427,2,   0.0305,2,   0.0148,2,   0.0163,3
  33RR20070204,  I08S,    15,  1,      8,      8,2,20070219,0532,-61.4880,  82.0042, 2164,   1385.5,   1.0904,  34.7263,2,  34.7265,2,    205.3,2,    204.5,2,   105.12,2,    31.35,2,     0.00,2,     2.18,2, -999.000,9, -999.000,9, -999.000,9,   2253.6,2,   2351.0,2,     41.8,2,    32.51,2, -999.000,9, -999.000,-999.0000,9,-999.0000,  -999.00,9,  -999.00, -999.000,9, -999.000,   -999.0,9,   -999.0,  -999.00,9,   0.1204,2,   0.0832,2,   0.0451,2,   0.0331,2,   0.0144,3,   0.0156,4
  33RR20070204,  I08S,    15,  1,      7,      7,2,20070219,0532,-61.4880,  82.0042, 2164,   1486.4,   1.0045,  34.7214,2,  34.7220,2,    205.4,2,    205.3,2,   108.15,2,    31.55,2,     0.00,2,     2.20,2,    0.185,2,    0.084,2, -999.000,5,   2255.2,2,   2352.9,2,     42.0,2,    33.17,2, -999.000,9, -999.000,-999.0000,9,-999.0000,  -999.00,9,  -999.00, -999.000,9, -999.000,   -999.0,9,   -999.0,  -999.00,9,   0.1166,2,   0.0807,2,   0.0435,2,   0.0317,2,   0.0144,2,   0.0157,3
  33RR20070204,  I08S,    15,  1,      6,      6,2,20070219,0532,-61.4880,  82.0042, 2164,   1586.8,   0.9129,  34.7161,2,  34.7169,2,    206.5,2,    207.0,2,   111.00,2,    31.79,2,     0.00,2,     2.21,2, -999.000,9, -999.000,9, -999.000,9,   2256.5,2,   2354.8,2,     41.7,2,    32.97,2, -999.000,9, -999.000,-999.0000,9,-999.0000,  -999.00,9,  -999.00, -999.000,9, -999.000,   -999.0,9,   -999.0,  -999.00,9,   0.1209,2,   0.0839,2,   0.0461,2,   0.0338,2,   0.0141,3,   0.0153,4
  33RR20070204,  I08S,    15,  1,      5,      5,2,20070219,0532,-61.4880,  82.0042, 2164,   1686.7,   0.8308,  34.7113,2,  34.7119,2,    207.5,2,    207.7,2,   111.60,2,    31.89,2,     0.00,2,     2.22,2,    0.203,2,    0.094,2, -999.000,5,   2257.1,2,   2355.6,2,     41.0,2,    33.79,2, -999.000,9, -999.000,-999.0000,9,-999.0000,  -999.00,9,  -999.00, -999.000,9, -999.000,   -999.0,9,   -999.0,  -999.00,9,   0.1153,2,   0.0796,2,   0.0432,2,   0.0317,2,   0.0142,3,   0.0156,4
  33RR20070204,  I08S,    15,  1,      4,      4,2,20070219,0532,-61.4880,  82.0042, 2164,   1787.2,   0.7547,  34.7070,2,  34.7076,2,    208.1,2,    207.9,2,   115.05,2,    32.13,2,     0.00,2,     2.23,2, -999.000,9, -999.000,9, -999.000,9,   2258.2,2,   2353.9,2,     41.2,2,    33.32,2, -999.000,9, -999.000,-999.0000,9,-999.0000,  -999.00,9,  -999.00, -999.000,9, -999.000,   -999.0,9,   -999.0,  -999.00,9,   0.1177,2,   0.0815,2,   0.0449,2,   0.0329,2,   0.0143,2,   0.0154,3
  33RR20070204,  I08S,    15,  1,      3,      3,2,20070219,0532,-61.4880,  82.0042, 2164,   1889.2,   0.6816,  34.7029,2,  34.7037,2,    208.4,2,    208.4,2,   118.31,2,    32.23,2,     0.00,2,     2.24,2,    0.187,2,    0.086,2, -999.000,5,   2258.5,2,   2355.4,2,     41.2,2,    33.64,2, -999.000,9, -999.000,-999.0000,9,-999.0000,  -999.00,9,  -999.00, -999.000,9, -999.000,   -999.0,9,   -999.0,  -999.00,9,   0.1173,2,   0.0810,2,   0.0434,2,   0.0317,2,   0.0144,3,   0.0158,4
  33RR20070204,  I08S,    15,  1,      2,      2,2,20070219,0532,-61.4880,  82.0042, 2164,   2042.2,   0.5514,  34.6962,2,  34.6968,2,    210.0,2,    209.9,2,   125.45,2,    32.49,2,     0.00,2,     2.25,2, -999.000,9, -999.000,9, -999.000,9,   2260.7,2,   2356.6,2,     41.9,2,    33.65,2, -999.000,9, -999.000,-999.0000,9,-999.0000,  -999.00,9,  -999.00, -999.000,9, -999.000,   -999.0,9,   -999.0,  -999.00,9,   0.1159,2,   0.0808,2,   0.0446,2,   0.0328,2,   0.0144,3,   0.0153,3
  33RR20070204,  I08S,    15,  1,      1,      1,2,20070219,0532,-61.4880,  82.0042, 2164,   2182.6,   0.4359,  34.6901,2,  34.6909,2,    210.5,2,    210.9,2,   135.08,2,    32.77,2,     0.01,2,     2.28,2,    0.173,2,    0.085,2, -999.000,5,   2262.5,6,   2357.6,2,     41.6,2,    34.32,2, -999.000,9, -999.000,-999.0000,9,-999.0000,  -999.00,9,  -999.00, -999.000,9, -999.000,   -999.0,9,   -999.0,  -999.00,9,   0.1204,2,   0.0831,2,   0.0448,2,   0.0324,2,   0.0146,3,   0.0158,4