BOTTLE,20150626SIOCCHRJL
EXPOCODE,SECT_ID,STNNBR,CASTNO,SAMPNO,BTLNBR,BTLNBR_FLAG_W,DATE,TIME,LATITUDE,LONGITUDE,DEPTH,CTDPRS,CTDTMP,CTDSAL,CTDSAL_FLAG_W,SALNTY,SALNTY_FLAG_W,CTDOXY,CTDOXY_FLAG_W,OXYGEN,OXYGEN_FLAG_W,SILCAT,SILCAT_FLAG_W,NITRAT,NITRAT_FLAG_W,NITRIT,NITRIT_FLAG_W,PHSPHT,PHSPHT_FLAG_W,CFC-11,CFC-11_FLAG_W,CFC-12,CFC-12_FLAG_W,CFC113,CFC113_FLAG_W,TCARBN,TCARBN_FLAG_W,ALKALI,ALKALI_FLAG_W,DOC,DOC_FLAG_W,TDN,TDN_FLAG_W,TRITUM,TRITUM_FLAG_W,TRITER,HELIUM,HELIUM_FLAG_W,HELIER,DELHE3,DELHE3_FLAG_W,DELHER,NEON,NEON_FLAG_W,NEONER,DELC14,DELC14_FLAG_W,C14ERR,DELC13,DELC13_FLAG_W,CDOM325,CDOM325_FLAG_W,CDOM340,CDOM340_FLAG_W,CDOM380,CDOM380_FLAG_W,CDOM412,CDOM412_FLAG_W,CDOMSL,CDOMSL_FLAG_W,CDOMSN,CDOMSN_FLAG_W
,,,,,,,,,,,METERS,DBAR,ITS-90,PSS-78,,PSS-78,,UMOL/KG,,UMOL/KG,,UMOL/KG,,UMOL/KG,,UMOL/KG,,UMOL/KG,,PMOL/KG,,PMOL/KG,,PMOL/KG,,UMOL/KG,,UMOL/KG,,UMOL/KG,,UMOL/KG,,TU,,TU,NMOL/KG,,NMOL/KG,PERCNT,,PERCNT,NMOL/KG,,NMOL/KG,/MILLE,,/MILLE,/MILLE,,1/M,,1/M,,1/M,,1/M,,1/NM,,1/NM,
  33RR20070204,  I08S,    29,  1,     36,     36,2,20070222,2029,-56.0578,  84.2620, 4762,      4.3,   4.0339,  33.8614,2,  33.8615,2,    311.9,2,    311.6,2,     8.69,2,    23.08,2,     0.22,2,     1.66,2,    4.988,2,    2.781,2, -999.000,5,   2131.4,6,   2277.6,2,     50.1,2,    27.57,2, -999.000,9, -999.000,-999.0000,9,-999.0000,  -999.00,9,  -999.00, -999.000,9, -999.000,   -999.0,9,   -999.0,  -999.00,9,-999.0000,9,-999.0000,9,-999.0000,9,-999.0000,9,-999.0000,9,-999.0000,9
  33RR20070204,  I08S,    29,  1,     35,     35,2,20070222,2029,-56.0578,  84.2620, 4762,     45.1,   4.0341,  33.8623,2,  33.8625,2,    310.7,2,    311.7,2,     8.61,2,    23.13,2,     0.22,2,     1.66,2,    5.033,2,    2.757,2, -999.000,5,   2131.9,2,   2275.8,2,     48.7,2,    27.50,2, -999.000,9, -999.000,-999.0000,9,-999.0000,  -999.00,9,  -999.00, -999.000,9, -999.000,    -47.5,2,      2.6,     1.69,2,-999.0000,9,-999.0000,9,-999.0000,9,-999.0000,9,-999.0000,9,-999.0000,9
  33RR20070204,  I08S,    29,  1,     34,   9433,2,20070222,2029,-56.0578,  84.2620, 4762,     80.0,   4.0273,  33.8645,2,  33.8645,2,    310.8,2,    311.6,2,     8.75,2,    23.12,2,     0.22,2,     1.66,2,    5.006,2,    2.797,2, -999.000,5,   2133.0,2,   2275.1,2,     47.3,2,    27.55,2, -999.000,9, -999.000,-999.0000,9,-999.0000,  -999.00,9,  -999.00, -999.000,9, -999.000,   -999.0,9,   -999.0,  -999.00,9,-999.0000,9,-999.0000,9,-999.0000,9,-999.0000,9,-999.0000,9,-999.0000,9
  33RR20070204,  I08S,    29,  1,     33,     33,2,20070222,2029,-56.0578,  84.2620, 4762,     99.9,   3.9231,  33.8725,2,  33.8723,2,    310.8,2,    309.5,2,     9.29,2,    23.59,2,     0.21,2,     1.68,2,    5.036,2,    2.792,2, -999.000,5,   2133.6,2,   2275.1,2,     46.3,2,    27.99,2, -999.000,9, -999.000,-999.0000,9,-999.0000,  -999.00,9,  -999.00, -999.000,9, -999.000,   -999.0,9,   -999.0,  -999.00,9,-999.0000,9,-999.0000,9,-999.0000,9,-999.0000,9,-999.0000,9,-999.0000,9
  33RR20070204,  I08S,    29,  1,     32,     32,2,20070222,2029,-56.0578,  84.2620, 4762,    130.2,   2.9419,  33.9928,2,  33.9916,2,    291.5,2,    290.5,2,    19.86,2,    28.64,2,     0.02,2,     1.95,2,    4.875,2,    2.594,2, -999.000,5,   2164.5,2,   2278.5,2,     45.2,2,    32.50,2, -999.000,9, -999.000,-999.0000,9,-999.0000,  -999.00,9,  -999.00, -999.000,9, -999.000,    -45.8,2,      3.1,     1.30,2,-999.0000,9,-999.0000,9,-999.0000,9,-999.0000,9,-999.0000,9,-999.0000,9
  33RR20070204,  I08S,    29,  1,     31,     31,2,20070222,2029,-56.0578,  84.2620, 4762,    149.3,   3.1387,  34.0454,2,  34.0431,2,    278.7,2,    279.0,2,    20.82,2,    28.95,2,     0.02,2,     1.96,2,    4.683,2,    2.505,2, -999.000,5,   2168.4,2,   2278.6,2,     45.0,2,    32.95,2, -999.000,9, -999.000,-999.0000,9,-999.0000,  -999.00,9,  -999.00, -999.000,9, -999.000,    -42.1,2,      3.0,     1.23,2,-999.0000,9,-999.0000,9,-999.0000,9,-999.0000,9,-999.0000,9,-999.0000,9
  33RR20070204,  I08S,    29,  1,     30,     30,2,20070222,2029,-56.0578,  84.2620, 4762,    180.6,   2.9378,  34.0751,2,  34.0750,2,    270.5,2,    272.5,2,    24.23,2,    29.68,2,     0.01,2,     2.01,2,    4.451,2,    2.338,2, -999.000,5,   2175.1,2,   2280.7,2,     43.4,2,    33.47,2, -999.000,9, -999.000,-999.0000,9,-999.0000,  -999.00,9,  -999.00, -999.000,9, -999.000,    -48.7,2,      2.9,     1.20,2,-999.0000,9,-999.0000,9,-999.0000,9,-999.0000,9,-999.0000,9,-999.0000,9
  33RR20070204,  I08S,    29,  1,     29,     29,2,20070222,2029,-56.0578,  84.2620, 4762,    230.5,   2.6221,  34.1287,2,  34.1256,2,    258.4,2,    257.9,2,    30.73,2,    31.16,2,     0.01,2,     2.11,2,    4.070,2,    2.122,2, -999.000,5,   2187.1,2,   2286.8,2,     42.6,2,    34.58,2, -999.000,9, -999.000,-999.0000,9,-999.0000,  -999.00,9,  -999.00, -999.000,9, -999.000,    -58.9,2,      3.7,     1.05,2,-999.0000,9,-999.0000,9,-999.0000,9,-999.0000,9,-999.0000,9,-999.0000,9
  33RR20070204,  I08S,    29,  1,     28,     28,2,20070222,2029,-56.0578,  84.2620, 4762,    281.1,   2.9584,  34.2499,2,  34.2519,2,    226.3,2,    224.6,2,    38.26,2,    32.51,2,     0.01,2,     2.21,2,    2.821,2,    1.426,2, -999.000,5,   2203.0,2,   2293.9,2,     42.0,2,    36.36,2, -999.000,9, -999.000,-999.0000,9,-999.0000,  -999.00,9,  -999.00, -999.000,9, -999.000,    -79.4,2,      3.1,     0.88,2,-999.0000,9,-999.0000,9,-999.0000,9,-999.0000,9,-999.0000,9,-999.0000,9
  33RR20070204,  I08S,    29,  1,     27,     27,2,20070222,2029,-56.0578,  84.2620, 4762,    330.2,   2.7962,  34.3016,2,  34.2989,2,    214.5,2,    212.2,2,    44.77,2,    33.52,2,     0.01,2,     2.27,2,    2.413,2,    1.238,2, -999.000,5,   2217.2,2,   2301.0,2,     41.9,2,    36.94,2, -999.000,9, -999.000,-999.0000,9,-999.0000,  -999.00,9,  -999.00, -999.000,9, -999.000,    -97.7,2,      2.8,     0.87,2,-999.0000,9,-999.0000,9,-999.0000,9,-999.0000,9,-999.0000,9,-999.0000,9
  33RR20070204,  I08S,    29,  1,     26,     26,2,20070222,2029,-56.0578,  84.2620, 4762,    381.1,   2.7373,  34.3598,2,  34.3590,2,    203.3,2,    198.5,2,    51.91,2,    34.24,2,     0.01,2,     2.32,2,    1.841,2,    0.942,2, -999.000,5,   2225.2,2,   2308.0,2,     42.3,2,    37.61,2, -999.000,9, -999.000,-999.0000,9,-999.0000,  -999.00,9,  -999.00, -999.000,9, -999.000,   -103.3,2,      2.7,     0.88,2,-999.0000,9,-999.0000,9,-999.0000,9,-999.0000,9,-999.0000,9,-999.0000,9
  33RR20070204,  I08S,    29,  1,     25,     25,2,20070222,2029,-56.0578,  84.2620, 4762,    432.2,   2.6271,  34.4086,2,  34.4090,2,    191.9,2,    190.5,2,    58.04,2,    34.71,2,     0.01,2,     2.35,2,    1.476,2,    0.765,2, -999.000,5,   2234.0,2,   2313.2,2,     42.5,2,    38.07,2, -999.000,9, -999.000,-999.0000,9,-999.0000,  -999.00,9,  -999.00, -999.000,9, -999.000,   -115.4,2,      2.8,     0.66,2,-999.0000,9,-999.0000,9,-999.0000,9,-999.0000,9,-999.0000,9,-999.0000,9
  33RR20070204,  I08S,    29,  1,     24,     24,2,20070222,2029,-56.0578,  84.2620, 4762,    482.3,   2.4579,  34.4469,2,  34.4506,2,    185.2,2,    186.1,2,    62.73,2,    34.79,2,     0.01,2,     2.36,2, -999.000,9, -999.000,9, -999.000,9,   2239.4,2,   2318.8,2,     41.8,2,    37.94,2, -999.000,9, -999.000,-999.0000,9,-999.0000,  -999.00,9,  -999.00, -999.000,9, -999.000,   -126.2,2,      2.7,     0.60,2,-999.0000,9,-999.0000,9,-999.0000,9,-999.0000,9,-999.0000,9,-999.0000,9
  33RR20070204,  I08S,    29,  1,     23,     23,2,20070222,2029,-56.0578,  84.2620, 4762,    532.7,   2.1141,  34.4672,2,  34.4671,2,    181.7,2,    187.7,2,    67.84,2,    34.99,2,     0.02,2,     2.37,2,    1.372,2,    0.722,2, -999.000,5,   2243.6,2,   2321.8,2,     42.3,2,    37.55,2, -999.000,9, -999.000,-999.0000,9,-999.0000,  -999.00,9,  -999.00, -999.000,9, -999.000,   -129.9,2,      2.8,     0.55,2,-999.0000,9,-999.0000,9,-999.0000,9,-999.0000,9,-999.0000,9,-999.0000,9
  33RR20070204,  I08S,    29,  1,     22,     22,2,20070222,2029,-56.0578,  84.2620, 4762,    653.5,   2.4327,  34.5711,2,  34.5682,2,    176.9,2,    176.1,2,    71.07,2,    34.22,2,     0.01,2,     2.33,2, -999.000,9, -999.000,9, -999.000,9,   2250.1,6,   2328.9,2,     42.6,2,    36.98,2, -999.000,9, -999.000,-999.0000,9,-999.0000,  -999.00,9,  -999.00, -999.000,9, -999.000,   -132.2,2,      3.1,     0.52,2,-999.0000,9,-999.0000,9,-999.0000,9,-999.0000,9,-999.0000,9,-999.0000,9
  33RR20070204,  I08S,    29,  1,     21,     21,2,20070222,2029,-56.0578,  84.2620, 4762,    753.9,   2.2079,  34.5916,2,  34.5902,2,    179.4,2,    178.4,2,    73.50,2,    34.00,2,     0.01,2,     2.32,2,    0.674,2,    0.357,2, -999.000,5,   2250.1,2,   2329.8,2,     42.1,2,    36.62,2, -999.000,9, -999.000,-999.0000,9,-999.0000,  -999.00,9,  -999.00, -999.000,9, -999.000,   -133.0,2,      2.7,     0.52,2,-999.0000,9,-999.0000,9,-999.0000,9,-999.0000,9,-999.0000,9,-999.0000,9
  33RR20070204,  I08S,    29,  1,     20,     20,2,20070222,2029,-56.0578,  84.2620, 4762,    854.5,   2.2583,  34.6596,2,  34.6592,2,    180.3,2,    180.3,2,    76.13,2,    32.92,2,     0.01,2,     2.23,2, -999.000,9, -999.000,9, -999.000,9,   2248.1,2,   2334.4,2,     41.0,2,    35.48,2, -999.000,9, -999.000,-999.0000,9,-999.0000,  -999.00,9,  -999.00, -999.000,9, -999.000,   -140.3,2,      2.8,     0.53,2,-999.0000,9,-999.0000,9,-999.0000,9,-999.0000,9,-999.0000,9,-999.0000,9
  33RR20070204,  I08S,    29,  1,     19,     19,2,20070222,2029,-56.0578,  84.2620, 4762,    955.6,   2.1648,  34.6834,2,  34.6806,2,    182.6,2,    182.9,2,    78.55,2,    32.53,2,     0.01,2,     2.21,2,    0.369,2,    0.190,2, -999.000,5,   2249.4,2,   2337.9,2,     41.5,2,    34.56,2, -999.000,9, -999.000,-999.0000,9,-999.0000,  -999.00,9,  -999.00, -999.000,9, -999.000,   -141.1,2,      2.8,     0.53,2,-999.0000,9,-999.0000,9,-999.0000,9,-999.0000,9,-999.0000,9,-999.0000,9
  33RR20070204,  I08S,    29,  1,     18,     18,2,20070222,2029,-56.0578,  84.2620, 4762,   1056.6,   2.1805,  34.7169,2,  34.7178,2,    186.3,2,    187.1,2,    78.49,2,    31.56,2,     0.00,2,     2.14,2, -999.000,9, -999.000,9, -999.000,9,   2246.6,2,   2339.6,2,     41.3,2,    33.43,2, -999.000,9, -999.000,-999.0000,9,-999.0000,  -999.00,9,  -999.00, -999.000,9, -999.000,   -137.2,2,      2.7,     0.56,2,-999.0000,9,-999.0000,9,-999.0000,9,-999.0000,9,-999.0000,9,-999.0000,9
  33RR20070204,  I08S,    29,  1,     17,     17,2,20070222,2029,-56.0578,  84.2620, 4762,   1157.7,   2.0863,  34.7298,2,  34.7298,2,    190.4,2,    189.8,2,    80.08,2,    31.18,2,     0.00,2,     2.11,2,    0.199,2,    0.097,2, -999.000,5,   2247.1,2,   2341.7,2,     40.9,2,    32.52,2, -999.000,9, -999.000,-999.0000,9,-999.0000,  -999.00,9,  -999.00, -999.000,9, -999.000,   -146.2,2,      2.6,     0.60,2,-999.0000,9,-999.0000,9,-999.0000,9,-999.0000,9,-999.0000,9,-999.0000,9
  33RR20070204,  I08S,    29,  1,     16,     16,2,20070222,2029,-56.0578,  84.2620, 4762,   1258.6,   2.0014,  34.7432,2,  34.7410,2,    192.6,2,    193.6,2,    82.31,2,    30.74,2,     0.00,2,     2.09,2, -999.000,9, -999.000,9, -999.000,9,   2246.5,2,   2343.7,2,     41.5,2,    31.86,2, -999.000,9, -999.000,-999.0000,9,-999.0000,  -999.00,9,  -999.00, -999.000,9, -999.000,   -141.2,2,      3.3,     0.61,2,-999.0000,9,-999.0000,9,-999.0000,9,-999.0000,9,-999.0000,9,-999.0000,9
  33RR20070204,  I08S,    29,  1,     15,     15,2,20070222,2029,-56.0578,  84.2620, 4762,   1359.2,   1.9284,  34.7475,2,  34.7477,2,    195.6,2,    195.8,2,    84.32,2,    30.62,2,     0.00,2,     2.08,2,    0.150,2,    0.073,2, -999.000,5,   2247.1,2,   2345.2,2,     41.0,2,    32.21,2, -999.000,9, -999.000,-999.0000,9,-999.0000,  -999.00,9,  -999.00, -999.000,9, -999.000,   -146.8,2,      3.0,     0.60,2,-999.0000,9,-999.0000,9,-999.0000,9,-999.0000,9,-999.0000,9,-999.0000,9
  33RR20070204,  I08S,    29,  1,     14,     14,2,20070222,2029,-56.0578,  84.2620, 4762,   1460.6,   1.8408,  34.7498,2,  34.7500,2,    196.1,2,    197.6,2,    86.14,2,    30.66,2,     0.00,2,     2.07,2, -999.000,9, -999.000,9, -999.000,9,   2247.5,2,   2345.5,2,     41.2,2,    32.45,2, -999.000,9, -999.000,-999.0000,9,-999.0000,  -999.00,9,  -999.00, -999.000,9, -999.000,   -999.0,9,   -999.0,  -999.00,9,-999.0000,9,-999.0000,9,-999.0000,9,-999.0000,9,-999.0000,9,-999.0000,9
  33RR20070204,  I08S,    29,  1,     13,     13,2,20070222,2029,-56.0578,  84.2620, 4762,   1562.5,   1.7111,  34.7450,2,  34.7453,2,    197.7,2,    198.1,2,    89.40,2,    30.80,2,     0.00,2,     2.09,2,    0.191,2,    0.093,2, -999.000,5,   2248.8,2,   2347.7,2,     41.1,2,    32.31,2, -999.000,9, -999.000,-999.0000,9,-999.0000,  -999.00,9,  -999.00, -999.000,9, -999.000,   -151.4,2,      3.0,     0.61,2,-999.0000,9,-999.0000,9,-999.0000,9,-999.0000,9,-999.0000,9,-999.0000,9
  33RR20070204,  I08S,    29,  1,     12,     12,2,20070222,2029,-56.0578,  84.2620, 4762,   1764.1,   1.5208,  34.7429,2,  34.7439,2,    201.4,2,    201.5,2,    94.56,2,    30.95,2,     0.00,2,     2.09,2, -999.000,9, -999.000,9, -999.000,9,   2248.3,2,   2347.7,2,     40.7,2,    32.07,2, -999.000,9, -999.000,-999.0000,9,-999.0000,  -999.00,9,  -999.00, -999.000,9, -999.000,   -144.9,2,      2.9,     0.60,2,-999.0000,9,-999.0000,9,-999.0000,9,-999.0000,9,-999.0000,9,-999.0000,9
  33RR20070204,  I08S,    29,  1,     11,     11,2,20070222,2029,-56.0578,  84.2620, 4762,   1967.1,   1.3231,  34.7338,2,  34.7345,2,    203.2,2,    203.1,2,   100.13,2,    31.19,2,     0.00,2,     2.12,2,    0.198,2,    0.100,2, -999.000,5,   2250.3,2,   2349.7,2,     41.0,2,    32.83,2, -999.000,9, -999.000,-999.0000,9,-999.0000,  -999.00,9,  -999.00, -999.000,9, -999.000,   -145.3,2,      2.7,     0.60,2,-999.0000,9,-999.0000,9,-999.0000,9,-999.0000,9,-999.0000,9,-999.0000,9
  33RR20070204,  I08S,    29,  1,     10,     10,2,20070222,2029,-56.0578,  84.2620, 4762,   2129.6,   1.1806,  34.7272,2,  34.7276,2,    204.5,2,    209.1,0,   104.46,2,    31.44,2,     0.00,2,     2.15,2, -999.000,9, -999.000,9, -999.000,9,   2253.9,6,   2354.9,2,     41.3,2,    33.04,2, -999.000,9, -999.000,-999.0000,9,-999.0000,  -999.00,9,  -999.00, -999.000,9, -999.000,   -149.6,2,      3.0,     0.65,3,-999.0000,9,-999.0000,9,-999.0000,9,-999.0000,9,-999.0000,9,-999.0000,9
  33RR20070204,  I08S,    29,  1,      9,      9,2,20070222,2029,-56.0578,  84.2620, 4762,   2382.9,   0.9763,  34.7169,2,  34.7170,2,    206.7,2,    207.1,2,   111.73,2,    31.86,2,     0.00,2,     2.17,2,    0.204,2,    0.098,2, -999.000,5,   2254.4,2,   2356.9,2,     41.4,2,    32.99,2, -999.000,9, -999.000,-999.0000,9,-999.0000,  -999.00,9,  -999.00, -999.000,9, -999.000,   -159.0,2,      2.8,     0.55,2,-999.0000,9,-999.0000,9,-999.0000,9,-999.0000,9,-999.0000,9,-999.0000,9
  33RR20070204,  I08S,    29,  1,      8,      8,2,20070222,2029,-56.0578,  84.2620, 4762,   2636.8,   0.7962,  34.7067,2,  34.7064,2,    209.1,2,    208.8,2,   116.72,2,    32.26,2,     0.00,2,     2.20,2, -999.000,9, -999.000,9, -999.000,9,   2255.9,2,   2356.6,2,     40.2,2,    33.29,2, -999.000,9, -999.000,-999.0000,9,-999.0000,  -999.00,9,  -999.00, -999.000,9, -999.000,   -151.9,2,      2.7,     0.52,2,-999.0000,9,-999.0000,9,-999.0000,9,-999.0000,9,-999.0000,9,-999.0000,9
  33RR20070204,  I08S,    29,  1,      7,      7,2,20070222,2029,-56.0578,  84.2620, 4762,   2891.2,   0.6198,  34.6972,2,  34.6977,2,    211.5,2,    212.0,2,   121.06,2,    32.30,2,     0.00,2,     2.22,2,    0.292,2,    0.144,2, -999.000,5,   2257.7,2,   2355.9,2,     40.6,2,    33.94,2, -999.000,9, -999.000,-999.0000,9,-999.0000,  -999.00,9,  -999.00, -999.000,9, -999.000,   -158.7,2,      2.9,     0.52,2,-999.0000,9,-999.0000,9,-999.0000,9,-999.0000,9,-999.0000,9,-999.0000,9
  33RR20070204,  I08S,    29,  1,      6,      6,2,20070222,2029,-56.0578,  84.2620, 4762,   3145.8,   0.4634,  34.6895,2,  34.6903,2,    215.9,2,    216.2,2,   124.80,2,    32.60,2,     0.00,2,     2.24,2, -999.000,9, -999.000,9, -999.000,9,   2257.2,2,   2354.6,2,     41.6,2,    34.21,2, -999.000,9, -999.000,-999.0000,9,-999.0000,  -999.00,9,  -999.00, -999.000,9, -999.000,   -153.3,2,      2.9,     0.52,2,-999.0000,9,-999.0000,9,-999.0000,9,-999.0000,9,-999.0000,9,-999.0000,9
  33RR20070204,  I08S,    29,  1,      5,      5,2,20070222,2029,-56.0578,  84.2620, 4762,   3451.3,   0.3374,  34.6838,2,  34.6840,2,    220.4,2,    220.0,2,   126.42,2,    32.69,2,     0.00,2,     2.24,2,    0.525,2,    0.266,2, -999.000,5,   2257.0,2,   2352.8,2,     41.5,2,    34.16,2, -999.000,9, -999.000,-999.0000,9,-999.0000,  -999.00,9,  -999.00, -999.000,9, -999.000,   -152.5,2,      2.7,     0.54,2,-999.0000,9,-999.0000,9,-999.0000,9,-999.0000,9,-999.0000,9,-999.0000,9
  33RR20070204,  I08S,    29,  1,      4,      4,2,20070222,2029,-56.0578,  84.2620, 4762,   3756.9,   0.2088,  34.6780,2,  34.6787,2,    223.8,2,    224.4,2,   127.63,2,    32.67,2,     0.00,2,     2.24,2, -999.000,9, -999.000,9, -999.000,9,   2256.7,2,   2352.9,2,     41.4,2,    33.78,2, -999.000,9, -999.000,-999.0000,9,-999.0000,  -999.00,9,  -999.00, -999.000,9, -999.000,   -154.9,2,      2.8,     0.55,2,-999.0000,9,-999.0000,9,-999.0000,9,-999.0000,9,-999.0000,9,-999.0000,9
  33RR20070204,  I08S,    29,  1,      3,      3,2,20070222,2029,-56.0578,  84.2620, 4762,   4114.9,   0.1493,  34.6746,2,  34.6749,2,    228.0,2,    227.2,2,   129.05,2,    32.60,2,     0.00,2,     2.24,2,    0.882,2,    0.456,2, -999.000,5,   2254.8,2,   2351.9,2,     41.7,2,    33.64,2, -999.000,9, -999.000,-999.0000,9,-999.0000,  -999.00,9,  -999.00, -999.000,9, -999.000,   -153.3,2,      2.8,     0.56,2,-999.0000,9,-999.0000,9,-999.0000,9,-999.0000,9,-999.0000,9,-999.0000,9
  33RR20070204,  I08S,    29,  1,      2,      2,2,20070222,2029,-56.0578,  84.2620, 4762,   4473.1,   0.1069,  34.6715,2,  34.6716,2,    231.0,2,    229.6,2,   129.61,2,    32.70,2,     0.00,2,     2.24,2,    1.053,2,    0.535,2, -999.000,5,   2257.2,2,   2352.0,2,     41.2,2,    34.58,2, -999.000,9, -999.000,-999.0000,9,-999.0000,  -999.00,9,  -999.00, -999.000,9, -999.000,   -152.8,2,      2.5,     0.56,2,-999.0000,9,-999.0000,9,-999.0000,9,-999.0000,9,-999.0000,9,-999.0000,9
  33RR20070204,  I08S,    29,  1,      1,      1,2,20070222,2029,-56.0578,  84.2620, 4762,   4847.6,   0.0931,  34.6687,2,  34.6696,2,    230.8,2,    231.5,2,   130.61,2,    32.68,2,     0.00,2,     2.24,2,    1.195,2,    0.607,2, -999.000,5,   2257.0,6,   2353.1,2,     40.3,2,    34.03,2, -999.000,9, -999.000,-999.0000,9,-999.0000,  -999.00,9,  -999.00, -999.000,9, -999.000,   -157.9,2,      2.9,     0.56,2,-999.0000,9,-999.0000,9,-999.0000,9,-999.0000,9,-999.0000,9,-999.0000,9