BOTTLE,20150626SIOCCHRJL
EXPOCODE,SECT_ID,STNNBR,CASTNO,SAMPNO,BTLNBR,BTLNBR_FLAG_W,DATE,TIME,LATITUDE,LONGITUDE,DEPTH,CTDPRS,CTDTMP,CTDSAL,CTDSAL_FLAG_W,SALNTY,SALNTY_FLAG_W,CTDOXY,CTDOXY_FLAG_W,OXYGEN,OXYGEN_FLAG_W,SILCAT,SILCAT_FLAG_W,NITRAT,NITRAT_FLAG_W,NITRIT,NITRIT_FLAG_W,PHSPHT,PHSPHT_FLAG_W,CFC-11,CFC-11_FLAG_W,CFC-12,CFC-12_FLAG_W,CFC113,CFC113_FLAG_W,TCARBN,TCARBN_FLAG_W,ALKALI,ALKALI_FLAG_W,DOC,DOC_FLAG_W,TDN,TDN_FLAG_W,TRITUM,TRITUM_FLAG_W,TRITER,HELIUM,HELIUM_FLAG_W,HELIER,DELHE3,DELHE3_FLAG_W,DELHER,NEON,NEON_FLAG_W,NEONER,DELC14,DELC14_FLAG_W,C14ERR,DELC13,DELC13_FLAG_W,CDOM325,CDOM325_FLAG_W,CDOM340,CDOM340_FLAG_W,CDOM380,CDOM380_FLAG_W,CDOM412,CDOM412_FLAG_W,CDOMSL,CDOMSL_FLAG_W,CDOMSN,CDOMSN_FLAG_W
,,,,,,,,,,,METERS,DBAR,ITS-90,PSS-78,,PSS-78,,UMOL/KG,,UMOL/KG,,UMOL/KG,,UMOL/KG,,UMOL/KG,,UMOL/KG,,PMOL/KG,,PMOL/KG,,PMOL/KG,,UMOL/KG,,UMOL/KG,,UMOL/KG,,UMOL/KG,,TU,,TU,NMOL/KG,,NMOL/KG,PERCNT,,PERCNT,NMOL/KG,,NMOL/KG,/MILLE,,/MILLE,/MILLE,,1/M,,1/M,,1/M,,1/M,,1/NM,,1/NM,
  33RR20070204,  I08S,    53,  1,     33,     33,2,20070303,1137,-45.8535,  94.2802, 3103,      3.9,  10.0117,  33.9987,2,  33.9982,2,    280.5,2,    282.3,2,     0.66,2,    14.50,2,     0.19,2,     1.09,2,    3.761,2,    2.166,2, -999.000,5,   2086.5,6,   2271.5,2,     48.7,2,  -999.00,9, -999.000,9, -999.000,-999.0000,9,-999.0000,  -999.00,9,  -999.00, -999.000,9, -999.000,   -999.0,9,   -999.0,  -999.00,9,-999.0000,9,-999.0000,9,-999.0000,9,-999.0000,9,-999.0000,9,-999.0000,9
  33RR20070204,  I08S,    53,  1,     32,     37,2,20070303,1137,-45.8535,  94.2802, 3103,     40.6,   9.5593,  33.9913,2,  33.9913,2,    284.1,2,    284.0,2,     0.73,2,    14.79,2,     0.19,2,     1.10,2, -999.000,9, -999.000,9, -999.000,9,   2087.5,2,   2270.7,2,     48.4,2,  -999.00,9, -999.000,9, -999.000,-999.0000,9,-999.0000,  -999.00,9,  -999.00, -999.000,9, -999.000,   -999.0,9,   -999.0,  -999.00,9,-999.0000,9,-999.0000,9,-999.0000,9,-999.0000,9,-999.0000,9,-999.0000,9
  33RR20070204,  I08S,    53,  1,     31,     31,2,20070303,1137,-45.8535,  94.2802, 3103,     76.0,   9.1390,  34.1388,2,  34.0951,2,    280.8,2,    281.6,2,     0.81,2,    14.92,2,     0.25,2,     1.13,2,    3.851,2,    2.166,2, -999.000,5,   2092.8,2,   2274.7,2,     47.2,2,  -999.00,9, -999.000,9, -999.000,-999.0000,9,-999.0000,  -999.00,9,  -999.00, -999.000,9, -999.000,   -999.0,9,   -999.0,  -999.00,9,-999.0000,9,-999.0000,9,-999.0000,9,-999.0000,9,-999.0000,9,-999.0000,9
  33RR20070204,  I08S,    53,  1,     30,     30,2,20070303,1137,-45.8535,  94.2802, 3103,     95.7,   9.8297,  34.5586,2,  34.5456,2,    263.2,2,    261.9,2,     2.33,2,    13.86,2,     0.10,2,     1.04,2, -999.000,9, -999.000,9, -999.000,9,   2106.9,2,   2285.1,2,     46.8,2,  -999.00,9, -999.000,9, -999.000,-999.0000,9,-999.0000,  -999.00,9,  -999.00, -999.000,9, -999.000,   -999.0,9,   -999.0,  -999.00,9,-999.0000,9,-999.0000,9,-999.0000,9,-999.0000,9,-999.0000,9,-999.0000,9
  33RR20070204,  I08S,    53,  1,     29,     29,2,20070303,1137,-45.8535,  94.2802, 3103,    125.8,   9.6358,  34.5957,2,  34.5973,2,    254.7,2,    258.1,2,     3.22,2,    14.46,2,     0.02,2,     1.07,2,    3.658,2,    2.084,2, -999.000,5,   2114.5,2,   2287.5,2,     46.7,2,  -999.00,9, -999.000,9, -999.000,-999.0000,9,-999.0000,  -999.00,9,  -999.00, -999.000,9, -999.000,   -999.0,9,   -999.0,  -999.00,9,-999.0000,9,-999.0000,9,-999.0000,9,-999.0000,9,-999.0000,9,-999.0000,9
  33RR20070204,  I08S,    53,  1,     28,     28,2,20070303,1137,-45.8535,  94.2802, 3103,    146.2,   9.4790,  34.5779,2,  34.5768,2,    255.0,2,    256.8,2,     3.71,2,    14.94,2,     0.01,2,     1.09,2, -999.000,9, -999.000,9, -999.000,9,   2116.2,2,   2286.5,2,     46.1,2,  -999.00,9, -999.000,9, -999.000,-999.0000,9,-999.0000,  -999.00,9,  -999.00, -999.000,9, -999.000,   -999.0,9,   -999.0,  -999.00,9,-999.0000,9,-999.0000,9,-999.0000,9,-999.0000,9,-999.0000,9,-999.0000,9
  33RR20070204,  I08S,    53,  1,     27,     27,2,20070303,1137,-45.8535,  94.2802, 3103,    176.3,   9.5084,  34.6125,2,  34.6156,2,    253.8,2,    254.3,2,     4.00,2,    14.99,2,     0.01,2,     1.09,2,    3.615,2,    2.045,2, -999.000,5,   2115.8,2,   2289.3,2,     45.6,2,  -999.00,9, -999.000,9, -999.000,-999.0000,9,-999.0000,  -999.00,9,  -999.00, -999.000,9, -999.000,   -999.0,9,   -999.0,  -999.00,9,-999.0000,9,-999.0000,9,-999.0000,9,-999.0000,9,-999.0000,9,-999.0000,9
  33RR20070204,  I08S,    53,  1,     26,     26,2,20070303,1137,-45.8535,  94.2802, 3103,    226.2,   8.5945,  34.4907,2,  34.4901,2,    246.2,2,    245.7,2,     5.32,2,    17.72,2,     0.00,2,     1.26,2,    3.697,2,    2.040,2, -999.000,5,   2127.1,2,   2284.1,2,     45.0,2,  -999.00,9, -999.000,9, -999.000,-999.0000,9,-999.0000,  -999.00,9,  -999.00, -999.000,9, -999.000,   -999.0,9,   -999.0,  -999.00,9,-999.0000,9,-999.0000,9,-999.0000,9,-999.0000,9,-999.0000,9,-999.0000,9
  33RR20070204,  I08S,    53,  1,     25,     25,2,20070303,1137,-45.8535,  94.2802, 3103,    276.4,   8.3063,  34.5106,2,  34.5093,2,    231.8,2,    230.5,2,     7.86,2,    19.63,2,     0.00,2,     1.38,2,    3.473,2,    1.884,2, -999.000,5,   2139.7,2,   2283.9,2,     44.4,2,  -999.00,9, -999.000,9, -999.000,-999.0000,9,-999.0000,  -999.00,9,  -999.00, -999.000,9, -999.000,   -999.0,9,   -999.0,  -999.00,9,-999.0000,9,-999.0000,9,-999.0000,9,-999.0000,9,-999.0000,9,-999.0000,9
  33RR20070204,  I08S,    53,  1,     24,     24,2,20070303,1137,-45.8535,  94.2802, 3103,    325.9,   7.8093,  34.4832,2,  34.4842,2,    226.4,2,    225.5,2,     9.79,2,    21.27,2,     0.00,2,     1.49,2,    3.291,2,    1.741,2, -999.000,5,   2145.6,2,   2285.1,2,     43.6,2,  -999.00,9, -999.000,9, -999.000,-999.0000,9,-999.0000,  -999.00,9,  -999.00, -999.000,9, -999.000,   -999.0,9,   -999.0,  -999.00,9,-999.0000,9,-999.0000,9,-999.0000,9,-999.0000,9,-999.0000,9,-999.0000,9
  33RR20070204,  I08S,    53,  1,     23,     23,2,20070303,1137,-45.8535,  94.2802, 3103,    376.5,   7.0415,  34.4127,2,  34.4034,2,    222.4,2,    225.5,2,    12.14,2,    23.39,2,     0.00,2,     1.62,2,    3.348,2,    1.776,2, -999.000,5,   2156.0,2,   2282.4,2,     42.8,2,  -999.00,9, -999.000,9, -999.000,-999.0000,9,-999.0000,  -999.00,9,  -999.00, -999.000,9, -999.000,   -999.0,9,   -999.0,  -999.00,9,-999.0000,9,-999.0000,9,-999.0000,9,-999.0000,9,-999.0000,9,-999.0000,9
  33RR20070204,  I08S,    53,  1,     22,     22,2,20070303,1137,-45.8535,  94.2802, 3103,    426.7,   6.4031,  34.3658,2,  34.3658,2,    223.0,2,    223.6,2,    14.28,2,    24.84,2,     0.00,2,     1.72,2,    3.338,2,    1.767,2, -999.000,5,   2162.3,2,   2282.9,2,     41.9,2,  -999.00,9, -999.000,9, -999.000,-999.0000,9,-999.0000,  -999.00,9,  -999.00, -999.000,9, -999.000,   -999.0,9,   -999.0,  -999.00,9,-999.0000,9,-999.0000,9,-999.0000,9,-999.0000,9,-999.0000,9,-999.0000,9
  33RR20070204,  I08S,    53,  1,     21,     21,2,20070303,1137,-45.8535,  94.2802, 3103,    476.8,   6.0090,  34.3706,2,  34.3715,2,    220.3,2,    217.7,2,    17.45,2,    26.23,2,     0.00,2,     1.82,2,    3.051,2,    1.589,2, -999.000,5,   2168.7,2,   2284.1,2,     41.3,2,  -999.00,9, -999.000,9, -999.000,-999.0000,9,-999.0000,  -999.00,9,  -999.00, -999.000,9, -999.000,   -999.0,9,   -999.0,  -999.00,9,-999.0000,9,-999.0000,9,-999.0000,9,-999.0000,9,-999.0000,9,-999.0000,9
  33RR20070204,  I08S,    53,  1,     20,     20,2,20070303,1137,-45.8535,  94.2802, 3103,    537.1,   5.4929,  34.3442,2,  34.3448,2,    219.2,2,    218.6,2,    20.01,2,    27.44,2,     0.00,2,     1.90,2,    2.975,2,    1.549,2, -999.000,5,   2174.1,2,   2283.4,2,     41.6,2,  -999.00,9, -999.000,9, -999.000,-999.0000,9,-999.0000,  -999.00,9,  -999.00, -999.000,9, -999.000,   -999.0,9,   -999.0,  -999.00,9,-999.0000,9,-999.0000,9,-999.0000,9,-999.0000,9,-999.0000,9,-999.0000,9
  33RR20070204,  I08S,    53,  1,     19,     19,2,20070303,1137,-45.8535,  94.2802, 3103,    648.2,   4.1004,  34.2509,2,  34.2527,2,    230.2,2,    231.2,2,    25.25,2,    29.48,2,     0.00,2,     2.03,2,    3.235,2,    1.660,2, -999.000,5,   2184.6,2,   2286.2,2,     41.5,2,  -999.00,9, -999.000,9, -999.000,-999.0000,9,-999.0000,  -999.00,9,  -999.00, -999.000,9, -999.000,   -999.0,9,   -999.0,  -999.00,9,-999.0000,9,-999.0000,9,-999.0000,9,-999.0000,9,-999.0000,9,-999.0000,9
  33RR20070204,  I08S,    53,  1,     18,     18,2,20070303,1137,-45.8535,  94.2802, 3103,    747.9,   3.8715,  34.3103,2,  34.3113,2,    213.7,2,    214.4,2,    32.98,2,    30.90,2,     0.00,2,     2.14,2,    2.449,2,    1.244,2, -999.000,5,   2199.2,2,   2294.0,2,     41.2,2,  -999.00,9, -999.000,9, -999.000,-999.0000,9,-999.0000,  -999.00,9,  -999.00, -999.000,9, -999.000,   -999.0,9,   -999.0,  -999.00,9,-999.0000,9,-999.0000,9,-999.0000,9,-999.0000,9,-999.0000,9,-999.0000,9
  33RR20070204,  I08S,    53,  1,     17,     17,2,20070303,1137,-45.8535,  94.2802, 3103,    849.1,   3.4160,  34.3305,2,  34.3295,2,    207.8,2,    207.7,2,    40.09,2,    32.06,2,     0.00,2,     2.23,2,    2.130,2,    1.076,2, -999.000,5,   2209.8,2,   2299.5,2,     41.1,2,  -999.00,9, -999.000,9, -999.000,-999.0000,9,-999.0000,  -999.00,9,  -999.00, -999.000,9, -999.000,   -999.0,9,   -999.0,  -999.00,9,-999.0000,9,-999.0000,9,-999.0000,9,-999.0000,9,-999.0000,9,-999.0000,9
  33RR20070204,  I08S,    53,  1,     16,     16,2,20070303,1137,-45.8535,  94.2802, 3103,    949.3,   3.2344,  34.3856,2,  34.3857,2,    195.5,2,    194.4,2,    48.26,2,    33.08,2,     0.00,2,     2.31,2,    1.583,2,    0.806,2, -999.000,5,   2222.6,2,   2306.3,2,     41.0,2,  -999.00,9, -999.000,9, -999.000,-999.0000,9,-999.0000,  -999.00,9,  -999.00, -999.000,9, -999.000,   -999.0,9,   -999.0,  -999.00,9,-999.0000,9,-999.0000,9,-999.0000,9,-999.0000,9,-999.0000,9,-999.0000,9
  33RR20070204,  I08S,    53,  1,     15,     15,2,20070303,1137,-45.8535,  94.2802, 3103,   1049.6,   3.0582,  34.4403,2,  34.4402,2,    185.9,2,    185.4,2,    54.99,2,    33.56,2,     0.00,2,     2.34,2,    1.114,2,    0.562,2, -999.000,5,   2233.3,2,   2312.9,2,     41.0,2,  -999.00,9, -999.000,9, -999.000,-999.0000,9,-999.0000,  -999.00,9,  -999.00, -999.000,9, -999.000,   -999.0,9,   -999.0,  -999.00,9,-999.0000,9,-999.0000,9,-999.0000,9,-999.0000,9,-999.0000,9,-999.0000,9
  33RR20070204,  I08S,    53,  1,     14,     14,2,20070303,1137,-45.8535,  94.2802, 3103,   1150.2,   2.9261,  34.4921,2,  34.4926,2,    178.9,2,    178.6,2,    60.27,2,    33.76,2,     0.00,2,     2.36,2,    0.804,2,    0.409,2, -999.000,5,   2239.6,2,   2319.0,2,     41.0,2,  -999.00,9, -999.000,9, -999.000,-999.0000,9,-999.0000,  -999.00,9,  -999.00, -999.000,9, -999.000,   -999.0,9,   -999.0,  -999.00,9,-999.0000,9,-999.0000,9,-999.0000,9,-999.0000,9,-999.0000,9,-999.0000,9
  33RR20070204,  I08S,    53,  1,     13,     13,2,20070303,1137,-45.8535,  94.2802, 3103,   1251.3,   2.7590,  34.5341,2,  34.5316,2,    175.8,2,    176.0,2,    64.52,2,    33.70,2,     0.00,2,     2.35,2,    0.641,2,    0.322,2, -999.000,5,   2242.7,2,   2324.0,2,     40.7,2,  -999.00,9, -999.000,9, -999.000,-999.0000,9,-999.0000,  -999.00,9,  -999.00, -999.000,9, -999.000,   -999.0,9,   -999.0,  -999.00,9,-999.0000,9,-999.0000,9,-999.0000,9,-999.0000,9,-999.0000,9,-999.0000,9
  33RR20070204,  I08S,    53,  1,     12,     12,2,20070303,1137,-45.8535,  94.2802, 3103,   1352.3,   2.6850,  34.5795,2,  34.5799,2,    174.5,2,    175.3,2,    67.31,2,    33.30,2,     0.00,2,     2.32,2,    0.466,2,    0.231,2, -999.000,5,   2245.9,6,   2328.3,2,     41.6,2,  -999.00,9, -999.000,9, -999.000,-999.0000,9,-999.0000,  -999.00,9,  -999.00, -999.000,9, -999.000,   -999.0,9,   -999.0,  -999.00,9,-999.0000,9,-999.0000,9,-999.0000,9,-999.0000,9,-999.0000,9,-999.0000,9
  33RR20070204,  I08S,    53,  1,     11,     11,2,20070303,1137,-45.8535,  94.2802, 3103,   1452.6,   2.5763,  34.6089,2,  34.6087,2,    175.3,2,    176.2,2,    69.89,2,    33.00,2,     0.00,2,     2.30,2,    0.418,2,    0.207,2, -999.000,5,   2246.4,2,   2330.4,2,     40.9,2,  -999.00,9, -999.000,9, -999.000,-999.0000,9,-999.0000,  -999.00,9,  -999.00, -999.000,9, -999.000,   -999.0,9,   -999.0,  -999.00,9,-999.0000,9,-999.0000,9,-999.0000,9,-999.0000,9,-999.0000,9,-999.0000,9
  33RR20070204,  I08S,    53,  1,     10,     10,2,20070303,1137,-45.8535,  94.2802, 3103,   1553.7,   2.5444,  34.6521,2,  34.6523,2,    177.7,2,    178.8,2,    70.82,2,    32.21,2,     0.00,2,     2.25,2,    0.277,2,    0.133,2, -999.000,5,   2245.2,2,   2332.7,2,     41.1,2,  -999.00,9, -999.000,9, -999.000,-999.0000,9,-999.0000,  -999.00,9,  -999.00, -999.000,9, -999.000,   -999.0,9,   -999.0,  -999.00,9,-999.0000,9,-999.0000,9,-999.0000,9,-999.0000,9,-999.0000,9,-999.0000,9
  33RR20070204,  I08S,    53,  1,      9,      9,2,20070303,1137,-45.8535,  94.2802, 3103,   1654.4,   2.4754,  34.6826,2,  34.6793,2,    181.4,2,    182.0,2,    72.15,2,    31.61,2,     0.00,2,     2.19,2,    0.220,2,    0.105,2, -999.000,5,   2244.8,2,   2334.9,2,     41.2,2,  -999.00,9, -999.000,9, -999.000,-999.0000,9,-999.0000,  -999.00,9,  -999.00, -999.000,9, -999.000,   -999.0,9,   -999.0,  -999.00,9,-999.0000,9,-999.0000,9,-999.0000,9,-999.0000,9,-999.0000,9,-999.0000,9
  33RR20070204,  I08S,    53,  1,      8,      8,2,20070303,1137,-45.8535,  94.2802, 3103,   1755.8,   2.4346,  34.7036,2,  34.7041,2,    184.6,2,    185.1,2,    73.90,2,    31.07,2,     0.00,2,     2.15,2,    0.174,2,    0.084,2, -999.000,5,   2242.5,2,   2335.5,2,     41.0,2,  -999.00,9, -999.000,9, -999.000,-999.0000,9,-999.0000,  -999.00,9,  -999.00, -999.000,9, -999.000,   -999.0,9,   -999.0,  -999.00,9,-999.0000,9,-999.0000,9,-999.0000,9,-999.0000,9,-999.0000,9,-999.0000,9
  33RR20070204,  I08S,    53,  1,      7,      7,2,20070303,1137,-45.8535,  94.2802, 3103,   1856.7,   2.3605,  34.7221,2,  34.7237,2,    187.9,2,    188.0,2,    74.20,2,    30.57,2,     0.00,2,     2.11,2,    0.150,2,    0.069,2, -999.000,5,   2241.7,2,   2338.9,2,     40.8,2,  -999.00,9, -999.000,9, -999.000,-999.0000,9,-999.0000,  -999.00,9,  -999.00, -999.000,9, -999.000,   -999.0,9,   -999.0,  -999.00,9,-999.0000,9,-999.0000,9,-999.0000,9,-999.0000,9,-999.0000,9,-999.0000,9
  33RR20070204,  I08S,    53,  1,      6,      6,2,20070303,1137,-45.8535,  94.2802, 3103,   1957.7,   2.2920,  34.7349,2,  34.7343,2,    191.5,2,    190.9,2,    75.95,2,    30.18,2,     0.00,2,     2.09,2,    0.133,2,    0.061,2, -999.000,5,   2242.1,6,   2338.7,2,     40.4,2,  -999.00,9, -999.000,9, -999.000,-999.0000,9,-999.0000,  -999.00,9,  -999.00, -999.000,9, -999.000,   -999.0,9,   -999.0,  -999.00,9,-999.0000,9,-999.0000,9,-999.0000,9,-999.0000,9,-999.0000,9,-999.0000,9
  33RR20070204,  I08S,    53,  1,      5,      5,2,20070303,1137,-45.8535,  94.2802, 3103,   2119.9,   2.1711,  34.7489,2,  34.7456,0,    195.5,2,    195.1,2,    78.55,2,    29.83,2,     0.00,2,     2.06,2,    0.108,2,    0.049,2, -999.000,5,   2240.7,2,   2341.1,2,     40.1,2,  -999.00,9, -999.000,9, -999.000,-999.0000,9,-999.0000,  -999.00,9,  -999.00, -999.000,9, -999.000,   -999.0,9,   -999.0,  -999.00,9,-999.0000,9,-999.0000,9,-999.0000,9,-999.0000,9,-999.0000,9,-999.0000,9
  33RR20070204,  I08S,    53,  1,      4,      4,2,20070303,1137,-45.8535,  94.2802, 3103,   2372.7,   1.9403,  34.7552,2,  34.7554,2,    199.5,2,    198.2,2,    85.97,2,    29.87,2,     0.00,2,     2.06,2,    0.084,2,    0.037,2, -999.000,5,   2243.5,2,   2348.5,2,     40.8,2,  -999.00,9, -999.000,9, -999.000,-999.0000,9,-999.0000,  -999.00,9,  -999.00, -999.000,9, -999.000,   -999.0,9,   -999.0,  -999.00,9,-999.0000,9,-999.0000,9,-999.0000,9,-999.0000,9,-999.0000,9,-999.0000,9
  33RR20070204,  I08S,    53,  1,      3,      3,2,20070303,1137,-45.8535,  94.2802, 3103,   2676.8,   1.5747,  34.7434,2,  34.7436,2,    201.9,2,    201.1,2,    97.80,2,    30.46,2,     0.00,2,     2.12,2,    0.081,2,    0.037,2, -999.000,5,   2250.5,2,   2354.1,2,     40.6,2,  -999.00,9, -999.000,9, -999.000,-999.0000,9,-999.0000,  -999.00,9,  -999.00, -999.000,9, -999.000,   -999.0,9,   -999.0,  -999.00,9,-999.0000,9,-999.0000,9,-999.0000,9,-999.0000,9,-999.0000,9,-999.0000,9
  33RR20070204,  I08S,    53,  1,      2,      2,2,20070303,1137,-45.8535,  94.2802, 3103,   2930.4,   1.2884,  34.7295,2,  34.7300,2,    204.0,2,    203.5,2,   107.78,2,    31.18,2,     0.00,2,     2.16,2,    0.128,2,    0.059,2, -999.000,5,   2254.9,2,   2356.2,2,     40.8,2,  -999.00,9, -999.000,9, -999.000,-999.0000,9,-999.0000,  -999.00,9,  -999.00, -999.000,9, -999.000,   -999.0,9,   -999.0,  -999.00,9,-999.0000,9,-999.0000,9,-999.0000,9,-999.0000,9,-999.0000,9,-999.0000,9
  33RR20070204,  I08S,    53,  1,      1,      1,2,20070303,1137,-45.8535,  94.2802, 3103,   3145.5,   1.1939,  34.7247,2,  34.7249,2,    204.8,2,    205.2,2,   110.40,2,    31.17,4,     0.00,2,     2.18,2,    0.158,2,    0.073,2, -999.000,5,   2256.6,6,   2356.4,2,     40.9,2,  -999.00,9, -999.000,9, -999.000,-999.0000,9,-999.0000,  -999.00,9,  -999.00, -999.000,9, -999.000,   -999.0,9,   -999.0,  -999.00,9,-999.0000,9,-999.0000,9,-999.0000,9,-999.0000,9,-999.0000,9,-999.0000,9