BOTTLE,20150626SIOCCHRJL
EXPOCODE,SECT_ID,STNNBR,CASTNO,SAMPNO,BTLNBR,BTLNBR_FLAG_W,DATE,TIME,LATITUDE,LONGITUDE,DEPTH,CTDPRS,CTDTMP,CTDSAL,CTDSAL_FLAG_W,SALNTY,SALNTY_FLAG_W,CTDOXY,CTDOXY_FLAG_W,OXYGEN,OXYGEN_FLAG_W,SILCAT,SILCAT_FLAG_W,NITRAT,NITRAT_FLAG_W,NITRIT,NITRIT_FLAG_W,PHSPHT,PHSPHT_FLAG_W,CFC-11,CFC-11_FLAG_W,CFC-12,CFC-12_FLAG_W,CFC113,CFC113_FLAG_W,TCARBN,TCARBN_FLAG_W,ALKALI,ALKALI_FLAG_W,DOC,DOC_FLAG_W,TDN,TDN_FLAG_W,TRITUM,TRITUM_FLAG_W,TRITER,HELIUM,HELIUM_FLAG_W,HELIER,DELHE3,DELHE3_FLAG_W,DELHER,NEON,NEON_FLAG_W,NEONER,DELC14,DELC14_FLAG_W,C14ERR,DELC13,DELC13_FLAG_W,CDOM325,CDOM325_FLAG_W,CDOM340,CDOM340_FLAG_W,CDOM380,CDOM380_FLAG_W,CDOM412,CDOM412_FLAG_W,CDOMSL,CDOMSL_FLAG_W,CDOMSN,CDOMSN_FLAG_W
,,,,,,,,,,,METERS,DBAR,ITS-90,PSS-78,,PSS-78,,UMOL/KG,,UMOL/KG,,UMOL/KG,,UMOL/KG,,UMOL/KG,,UMOL/KG,,PMOL/KG,,PMOL/KG,,PMOL/KG,,UMOL/KG,,UMOL/KG,,UMOL/KG,,UMOL/KG,,TU,,TU,NMOL/KG,,NMOL/KG,PERCNT,,PERCNT,NMOL/KG,,NMOL/KG,/MILLE,,/MILLE,/MILLE,,1/M,,1/M,,1/M,,1/M,,1/NM,,1/NM,
  33RR20070204,  I08S,    28,  1,     36,     36,2,20070222,1122,-56.4837,  83.7695, 4748,      4.5,   2.2110,  33.8553,2,  33.8557,2,    327.8,2,    329.6,2,    19.63,2,    25.34,2,     0.26,2,     1.65,2, -999.000,9, -999.000,9, -999.000,9,   2151.5,2,   2285.7,2,   -999.0,9,  -999.00,9, -999.000,9, -999.000,-999.0000,9,-999.0000,  -999.00,9,  -999.00, -999.000,9, -999.000,   -999.0,9,   -999.0,  -999.00,9,-999.0000,9,-999.0000,9,-999.0000,9,-999.0000,9,-999.0000,9,-999.0000,9
  33RR20070204,  I08S,    28,  1,     35,     35,2,20070222,1122,-56.4837,  83.7695, 4748,     35.7,   2.2049,  33.8551,2,  33.8553,2,    330.0,2,    330.1,2,    19.56,2,    25.39,2,     0.26,2,     1.66,2, -999.000,9, -999.000,9, -999.000,9,   2149.8,2,   2283.7,2,   -999.0,9,  -999.00,9, -999.000,9, -999.000,-999.0000,9,-999.0000,  -999.00,9,  -999.00, -999.000,9, -999.000,   -999.0,9,   -999.0,  -999.00,9,-999.0000,9,-999.0000,9,-999.0000,9,-999.0000,9,-999.0000,9,-999.0000,9
  33RR20070204,  I08S,    28,  1,     34,   9433,2,20070222,1122,-56.4837,  83.7695, 4748,     60.6,   2.1684,  33.8566,2,  33.8570,2,    330.5,2,    329.0,2,    19.71,2,    25.34,2,     0.26,2,     1.66,2, -999.000,9, -999.000,9, -999.000,9,   2149.7,2,   2284.8,2,   -999.0,9,  -999.00,9, -999.000,9, -999.000,-999.0000,9,-999.0000,  -999.00,9,  -999.00, -999.000,9, -999.000,   -999.0,9,   -999.0,  -999.00,9,-999.0000,9,-999.0000,9,-999.0000,9,-999.0000,9,-999.0000,9,-999.0000,9
  33RR20070204,  I08S,    28,  1,     33,     33,2,20070222,1122,-56.4837,  83.7695, 4748,    110.6,   1.4887,  33.9962,2,  33.9918,2,    341.0,2,    330.1,2,    35.21,2,    26.66,2,     0.25,2,     1.81,2, -999.000,9, -999.000,9, -999.000,9,   2169.2,2,   2297.0,2,   -999.0,9,  -999.00,9, -999.000,9, -999.000,-999.0000,9,-999.0000,  -999.00,9,  -999.00, -999.000,9, -999.000,   -999.0,9,   -999.0,  -999.00,9,-999.0000,9,-999.0000,9,-999.0000,9,-999.0000,9,-999.0000,9,-999.0000,9
  33RR20070204,  I08S,    28,  1,     32,     32,2,20070222,1122,-56.4837,  83.7695, 4748,    136.1,   0.9848,  34.0304,2,  34.0308,2,    329.3,2,    329.2,2,    43.07,2,    27.58,2,     0.24,2,     1.93,2, -999.000,9, -999.000,9, -999.000,9,   2178.6,2,   2300.3,2,   -999.0,9,  -999.00,9, -999.000,9, -999.000,-999.0000,9,-999.0000,  -999.00,9,  -999.00, -999.000,9, -999.000,   -999.0,9,   -999.0,  -999.00,9,-999.0000,9,-999.0000,9,-999.0000,9,-999.0000,9,-999.0000,9,-999.0000,9
  33RR20070204,  I08S,    28,  1,     31,     31,2,20070222,1122,-56.4837,  83.7695, 4748,    161.8,   0.6785,  34.1210,2,  34.1180,2,    279.9,2,    279.6,2,    51.76,2,    30.79,2,     0.17,2,     2.17,2, -999.000,9, -999.000,9, -999.000,9,   2202.3,2,   2299.9,2,   -999.0,9,  -999.00,9, -999.000,9, -999.000,-999.0000,9,-999.0000,  -999.00,9,  -999.00, -999.000,9, -999.000,   -999.0,9,   -999.0,  -999.00,9,-999.0000,9,-999.0000,9,-999.0000,9,-999.0000,9,-999.0000,9,-999.0000,9
  33RR20070204,  I08S,    28,  1,     30,     30,2,20070222,1122,-56.4837,  83.7695, 4748,    211.6,   1.6504,  34.3562,2,  34.3641,2,    210.8,2,    209.2,2,    62.98,2,    34.42,2,     0.04,2,     2.38,2, -999.000,9, -999.000,9, -999.000,9,   2234.7,2,   2313.2,2,   -999.0,9,  -999.00,9, -999.000,9, -999.000,-999.0000,9,-999.0000,  -999.00,9,  -999.00, -999.000,9, -999.000,   -999.0,9,   -999.0,  -999.00,9,-999.0000,9,-999.0000,9,-999.0000,9,-999.0000,9,-999.0000,9,-999.0000,9
  33RR20070204,  I08S,    28,  1,     29,     29,2,20070222,1122,-56.4837,  83.7695, 4748,    261.5,   1.3197,  34.4103,2,  34.4067,2,    207.6,2,    208.1,2,    70.04,2,    34.25,2,     0.12,2,     2.38,2, -999.000,9, -999.000,9, -999.000,9,   2240.4,2,   2319.4,2,   -999.0,9,  -999.00,9, -999.000,9, -999.000,-999.0000,9,-999.0000,  -999.00,9,  -999.00, -999.000,9, -999.000,   -999.0,9,   -999.0,  -999.00,9,-999.0000,9,-999.0000,9,-999.0000,9,-999.0000,9,-999.0000,9,-999.0000,9
  33RR20070204,  I08S,    28,  1,     28,     28,2,20070222,1122,-56.4837,  83.7695, 4748,    312.4,   1.7357,  34.5175,2,  34.5143,2,    175.2,2,    184.3,2,    75.85,2,    34.81,2,     0.06,2,     2.40,2, -999.000,9, -999.000,9, -999.000,9,   2252.7,6,   2327.0,2,   -999.0,9,  -999.00,9, -999.000,9, -999.000,-999.0000,9,-999.0000,  -999.00,9,  -999.00, -999.000,9, -999.000,   -999.0,9,   -999.0,  -999.00,9,-999.0000,9,-999.0000,9,-999.0000,9,-999.0000,9,-999.0000,9,-999.0000,9
  33RR20070204,  I08S,    28,  1,     27,     27,2,20070222,1122,-56.4837,  83.7695, 4748,    362.2,   1.7623,  34.5543,2,  34.5502,2,    177.8,2,    183.1,2,    78.11,2,    34.67,2,     0.04,2,     2.38,2, -999.000,9, -999.000,9, -999.000,9,   2253.3,2,   2327.4,2,   -999.0,9,  -999.00,9, -999.000,9, -999.000,-999.0000,9,-999.0000,  -999.00,9,  -999.00, -999.000,9, -999.000,   -999.0,9,   -999.0,  -999.00,9,-999.0000,9,-999.0000,9,-999.0000,9,-999.0000,9,-999.0000,9,-999.0000,9
  33RR20070204,  I08S,    28,  1,     26,     26,2,20070222,1122,-56.4837,  83.7695, 4748,    412.5,   1.9812,  34.6127,2,  34.6133,2,    176.0,2,    176.0,2,    79.31,2,    34.13,2,     0.02,2,     2.34,2, -999.000,9, -999.000,9, -999.000,9,   2254.7,2,   2333.1,2,   -999.0,9,  -999.00,9, -999.000,9, -999.000,-999.0000,9,-999.0000,  -999.00,9,  -999.00, -999.000,9, -999.000,   -999.0,9,   -999.0,  -999.00,9,-999.0000,9,-999.0000,9,-999.0000,9,-999.0000,9,-999.0000,9,-999.0000,9
  33RR20070204,  I08S,    28,  1,     25,     25,2,20070222,1122,-56.4837,  83.7695, 4748,    463.3,   2.0331,  34.6499,2,  34.6536,2,    176.7,2,    176.0,2,    80.52,2,    33.52,2,     0.02,2,     2.31,2, -999.000,9, -999.000,9, -999.000,9,   -999.0,9,   -999.0,9,   -999.0,9,  -999.00,9, -999.000,9, -999.000,-999.0000,9,-999.0000,  -999.00,9,  -999.00, -999.000,9, -999.000,   -999.0,9,   -999.0,  -999.00,9,-999.0000,9,-999.0000,9,-999.0000,9,-999.0000,9,-999.0000,9,-999.0000,9
  33RR20070204,  I08S,    28,  1,     24,     24,2,20070222,1122,-56.4837,  83.7695, 4748,    513.3,   2.1055,  34.6756,2,  34.6750,2,    178.5,2,    180.0,2,    79.62,2,    32.55,2,     0.01,2,     2.25,2, -999.000,9, -999.000,9, -999.000,9,   2249.5,2,   2337.0,2,   -999.0,9,  -999.00,9, -999.000,9, -999.000,-999.0000,9,-999.0000,  -999.00,9,  -999.00, -999.000,9, -999.000,   -999.0,9,   -999.0,  -999.00,9,-999.0000,9,-999.0000,9,-999.0000,9,-999.0000,9,-999.0000,9,-999.0000,9
  33RR20070204,  I08S,    28,  1,     23,     23,2,20070222,1122,-56.4837,  83.7695, 4748,    613.7,   1.8520,  34.6813,2,  34.6825,2,    180.8,2,    181.6,2,    84.20,2,    32.85,2,     0.02,2,     2.26,2, -999.000,9, -999.000,9, -999.000,9,   2252.7,2,   2338.0,2,   -999.0,9,  -999.00,9, -999.000,9, -999.000,-999.0000,9,-999.0000,  -999.00,9,  -999.00, -999.000,9, -999.000,   -999.0,9,   -999.0,  -999.00,9,-999.0000,9,-999.0000,9,-999.0000,9,-999.0000,9,-999.0000,9,-999.0000,9
  33RR20070204,  I08S,    28,  1,     22,     22,2,20070222,1122,-56.4837,  83.7695, 4748,    714.3,   1.8643,  34.7052,2,  34.7053,2,    183.5,2,    185.9,2,    83.94,2,    32.19,2,     0.01,2,     2.21,2, -999.000,9, -999.000,9, -999.000,9,   -999.0,9,   -999.0,9,   -999.0,9,  -999.00,9, -999.000,9, -999.000,-999.0000,9,-999.0000,  -999.00,9,  -999.00, -999.000,9, -999.000,   -999.0,9,   -999.0,  -999.00,9,-999.0000,9,-999.0000,9,-999.0000,9,-999.0000,9,-999.0000,9,-999.0000,9
  33RR20070204,  I08S,    28,  1,     21,     21,2,20070222,1122,-56.4837,  83.7695, 4748,    814.7,   1.7915,  34.7201,2,  34.7208,2,    188.6,2,    188.5,2,    85.99,2,    31.74,2,     0.01,2,     2.19,2, -999.000,9, -999.000,9, -999.000,9,   2249.8,2,   2343.1,2,   -999.0,9,  -999.00,9, -999.000,9, -999.000,-999.0000,9,-999.0000,  -999.00,9,  -999.00, -999.000,9, -999.000,   -999.0,9,   -999.0,  -999.00,9,-999.0000,9,-999.0000,9,-999.0000,9,-999.0000,9,-999.0000,9,-999.0000,9
  33RR20070204,  I08S,    28,  1,     20,     20,2,20070222,1122,-56.4837,  83.7695, 4748,    915.5,   1.7838,  34.7327,2,  34.7336,2,    193.3,2,    191.0,2,    86.78,2,    31.33,2,     0.01,2,     2.15,2, -999.000,9, -999.000,9, -999.000,9,   -999.0,9,   -999.0,9,   -999.0,9,  -999.00,9, -999.000,9, -999.000,-999.0000,9,-999.0000,  -999.00,9,  -999.00, -999.000,9, -999.000,   -999.0,9,   -999.0,  -999.00,9,-999.0000,9,-999.0000,9,-999.0000,9,-999.0000,9,-999.0000,9,-999.0000,9
  33RR20070204,  I08S,    28,  1,     19,     19,2,20070222,1122,-56.4837,  83.7695, 4748,   1015.3,   1.6697,  34.7372,2,  34.7381,2,    195.7,2,    195.1,2,    89.26,2,    31.07,2,     0.01,2,     2.14,2, -999.000,9, -999.000,9, -999.000,9,   2247.6,2,   2344.4,2,   -999.0,9,  -999.00,9, -999.000,9, -999.000,-999.0000,9,-999.0000,  -999.00,9,  -999.00, -999.000,9, -999.000,   -999.0,9,   -999.0,  -999.00,9,-999.0000,9,-999.0000,9,-999.0000,9,-999.0000,9,-999.0000,9,-999.0000,9
  33RR20070204,  I08S,    28,  1,     18,     18,2,20070222,1122,-56.4837,  83.7695, 4748,   1116.0,   1.5870,  34.7388,2,  34.7389,2,    198.3,2,    197.6,2,    90.90,2,    30.92,2,     0.01,2,     2.13,2, -999.000,9, -999.000,9, -999.000,9,   -999.0,9,   -999.0,9,   -999.0,9,  -999.00,9, -999.000,9, -999.000,-999.0000,9,-999.0000,  -999.00,9,  -999.00, -999.000,9, -999.000,   -999.0,9,   -999.0,  -999.00,9,-999.0000,9,-999.0000,9,-999.0000,9,-999.0000,9,-999.0000,9,-999.0000,9
  33RR20070204,  I08S,    28,  1,     17,     17,2,20070222,1122,-56.4837,  83.7695, 4748,   1216.2,   1.5009,  34.7394,2,  34.7403,2,    200.0,2,    199.7,2,    93.38,2,    30.82,2,     0.01,2,     2.12,2, -999.000,9, -999.000,9, -999.000,9,   -999.0,9,   -999.0,9,   -999.0,9,  -999.00,9, -999.000,9, -999.000,-999.0000,9,-999.0000,  -999.00,9,  -999.00, -999.000,9, -999.000,   -999.0,9,   -999.0,  -999.00,9,-999.0000,9,-999.0000,9,-999.0000,9,-999.0000,9,-999.0000,9,-999.0000,9
  33RR20070204,  I08S,    28,  1,     16,     16,2,20070222,1122,-56.4837,  83.7695, 4748,   1316.4,   1.3902,  34.7364,2,  34.7369,2,    201.4,2,    201.6,2,    96.50,2,    30.92,2,     0.01,2,     2.13,2, -999.000,9, -999.000,9, -999.000,9,   -999.0,9,   -999.0,9,   -999.0,9,  -999.00,9, -999.000,9, -999.000,-999.0000,9,-999.0000,  -999.00,9,  -999.00, -999.000,9, -999.000,   -999.0,9,   -999.0,  -999.00,9,-999.0000,9,-999.0000,9,-999.0000,9,-999.0000,9,-999.0000,9,-999.0000,9
  33RR20070204,  I08S,    28,  1,     15,     15,2,20070222,1122,-56.4837,  83.7695, 4748,   1417.0,   1.3431,  34.7366,2,  34.7371,2,    202.6,2,    202.8,2,    98.14,2,    30.97,2,     0.00,2,     2.13,2, -999.000,9, -999.000,9, -999.000,9,   -999.0,9,   -999.0,9,   -999.0,9,  -999.00,9, -999.000,9, -999.000,-999.0000,9,-999.0000,  -999.00,9,  -999.00, -999.000,9, -999.000,   -999.0,9,   -999.0,  -999.00,9,-999.0000,9,-999.0000,9,-999.0000,9,-999.0000,9,-999.0000,9,-999.0000,9
  33RR20070204,  I08S,    28,  1,     14,     14,2,20070222,1122,-56.4837,  83.7695, 4748,   1516.9,   1.2614,  34.7333,2,  34.7342,2,    203.5,2,    204.4,2,   100.84,2,    31.07,2,     0.00,2,     2.14,2, -999.000,9, -999.000,9, -999.000,9,   -999.0,9,   -999.0,9,   -999.0,9,  -999.00,9, -999.000,9, -999.000,-999.0000,9,-999.0000,  -999.00,9,  -999.00, -999.000,9, -999.000,   -999.0,9,   -999.0,  -999.00,9,-999.0000,9,-999.0000,9,-999.0000,9,-999.0000,9,-999.0000,9,-999.0000,9
  33RR20070204,  I08S,    28,  1,     13,     13,2,20070222,1122,-56.4837,  83.7695, 4748,   1616.8,   1.1774,  34.7292,2,  34.7297,2,    204.4,2,    205.1,2,   103.34,2,    31.27,2,     0.00,2,     2.15,2, -999.000,9, -999.000,9, -999.000,9,   -999.0,9,   -999.0,9,   -999.0,9,  -999.00,9, -999.000,9, -999.000,-999.0000,9,-999.0000,  -999.00,9,  -999.00, -999.000,9, -999.000,   -999.0,9,   -999.0,  -999.00,9,-999.0000,9,-999.0000,9,-999.0000,9,-999.0000,9,-999.0000,9,-999.0000,9
  33RR20070204,  I08S,    28,  1,     12,     12,2,20070222,1122,-56.4837,  83.7695, 4748,   1817.5,   1.0062,  34.7191,2,  34.7201,2,    205.6,2,    206.1,2,   107.95,2,    31.57,2,     0.00,2,     2.18,2,    0.225,2,    0.109,2, -999.000,5,   -999.0,9,   -999.0,9,   -999.0,9,  -999.00,9, -999.000,9, -999.000,-999.0000,9,-999.0000,  -999.00,9,  -999.00, -999.000,9, -999.000,   -999.0,9,   -999.0,  -999.00,9,-999.0000,9,-999.0000,9,-999.0000,9,-999.0000,9,-999.0000,9,-999.0000,9
  33RR20070204,  I08S,    28,  1,     11,     11,2,20070222,1122,-56.4837,  83.7695, 4748,   2017.9,   0.8521,  34.7120,2,  34.7118,2,    207.5,2,    208.0,2,   112.37,2,    31.88,2,     0.00,2,     2.20,2,    0.221,2,    0.108,2, -999.000,5,   -999.0,9,   -999.0,9,   -999.0,9,  -999.00,9, -999.000,9, -999.000,-999.0000,9,-999.0000,  -999.00,9,  -999.00, -999.000,9, -999.000,   -999.0,9,   -999.0,  -999.00,9,-999.0000,9,-999.0000,9,-999.0000,9,-999.0000,9,-999.0000,9,-999.0000,9
  33RR20070204,  I08S,    28,  1,     10,     10,2,20070222,1122,-56.4837,  83.7695, 4748,   2270.4,   0.7010,  34.7035,2,  34.7039,2,    210.2,2,    210.3,2,   117.42,2,    32.13,2,     0.00,2,     2.22,2,    0.252,2,    0.124,2, -999.000,5,   -999.0,9,   -999.0,9,   -999.0,9,  -999.00,9, -999.000,9, -999.000,-999.0000,9,-999.0000,  -999.00,9,  -999.00, -999.000,9, -999.000,   -999.0,9,   -999.0,  -999.00,9,-999.0000,9,-999.0000,9,-999.0000,9,-999.0000,9,-999.0000,9,-999.0000,9
  33RR20070204,  I08S,    28,  1,      9,      9,2,20070222,1122,-56.4837,  83.7695, 4748,   2522.7,   0.5226,  34.6943,2,  34.6947,2,    213.4,2,    213.6,2,   122.06,2,    32.38,2,     0.00,2,     2.24,2,    0.314,2,    0.158,2, -999.000,5,   -999.0,9,   -999.0,9,   -999.0,9,  -999.00,9, -999.000,9, -999.000,-999.0000,9,-999.0000,  -999.00,9,  -999.00, -999.000,9, -999.000,   -999.0,9,   -999.0,  -999.00,9,-999.0000,9,-999.0000,9,-999.0000,9,-999.0000,9,-999.0000,9,-999.0000,9
  33RR20070204,  I08S,    28,  1,      8,      8,2,20070222,1122,-56.4837,  83.7695, 4748,   2776.0,   0.3884,  34.6881,2,  34.6884,2,    216.8,2,    217.1,2,   124.79,2,    32.49,2,     0.00,2,     2.25,2,    0.415,2,    0.208,2, -999.000,5,   -999.0,9,   -999.0,9,   -999.0,9,  -999.00,9, -999.000,9, -999.000,-999.0000,9,-999.0000,  -999.00,9,  -999.00, -999.000,9, -999.000,   -999.0,9,   -999.0,  -999.00,9,-999.0000,9,-999.0000,9,-999.0000,9,-999.0000,9,-999.0000,9,-999.0000,9
  33RR20070204,  I08S,    28,  1,      7,      7,2,20070222,1122,-56.4837,  83.7695, 4748,   3029.8,   0.2665,  34.6819,2,  34.6825,2,    220.4,2,    220.5,2,   126.03,2,    32.64,2,     0.00,2,     2.26,2,    0.496,2,    0.255,2, -999.000,5,   -999.0,9,   -999.0,9,   -999.0,9,  -999.00,9, -999.000,9, -999.000,-999.0000,9,-999.0000,  -999.00,9,  -999.00, -999.000,9, -999.000,   -999.0,9,   -999.0,  -999.00,9,-999.0000,9,-999.0000,9,-999.0000,9,-999.0000,9,-999.0000,9,-999.0000,9
  33RR20070204,  I08S,    28,  1,      6,      6,2,20070222,1122,-56.4837,  83.7695, 4748,   3335.3,   0.1761,  34.6784,2,  34.6790,2,    224.1,2,    224.2,2,   127.26,2,    32.48,2,     0.00,2,     2.25,2,    0.676,2,    0.355,2, -999.000,5,   -999.0,9,   -999.0,9,   -999.0,9,  -999.00,9, -999.000,9, -999.000,-999.0000,9,-999.0000,  -999.00,9,  -999.00, -999.000,9, -999.000,   -999.0,9,   -999.0,  -999.00,9,-999.0000,9,-999.0000,9,-999.0000,9,-999.0000,9,-999.0000,9,-999.0000,9
  33RR20070204,  I08S,    28,  1,      5,      5,2,20070222,1122,-56.4837,  83.7695, 4748,   3640.9,   0.1060,  34.6751,2,  34.6755,2,    227.9,2,    227.3,2,   128.50,2,    32.48,2,     0.00,2,     2.25,2,    0.837,2,    0.429,2, -999.000,5,   -999.0,9,   -999.0,9,   -999.0,9,  -999.00,9, -999.000,9, -999.000,-999.0000,9,-999.0000,  -999.00,9,  -999.00, -999.000,9, -999.000,   -999.0,9,   -999.0,  -999.00,9,-999.0000,9,-999.0000,9,-999.0000,9,-999.0000,9,-999.0000,9,-999.0000,9
  33RR20070204,  I08S,    28,  1,      4,      4,2,20070222,1122,-56.4837,  83.7695, 4748,   3947.3,   0.0723,  34.6729,2,  34.6729,2,    230.8,2,    229.3,2,   128.25,2,    32.43,2,     0.00,2,     2.24,2,    0.954,2,    0.495,2, -999.000,5,   -999.0,9,   -999.0,9,   -999.0,9,  -999.00,9, -999.000,9, -999.000,-999.0000,9,-999.0000,  -999.00,9,  -999.00, -999.000,9, -999.000,   -999.0,9,   -999.0,  -999.00,9,-999.0000,9,-999.0000,9,-999.0000,9,-999.0000,9,-999.0000,9,-999.0000,9
  33RR20070204,  I08S,    28,  1,      3,      3,2,20070222,1122,-56.4837,  83.7695, 4748,   4255.3,   0.0515,  34.6706,2,  34.6710,2,    233.3,2,    231.4,2,   129.48,2,    32.48,2,     0.00,2,     2.24,2,    1.001,2,    0.541,2, -999.000,5,   -999.0,9,   -999.0,9,   -999.0,9,  -999.00,9, -999.000,9, -999.000,-999.0000,9,-999.0000,  -999.00,9,  -999.00, -999.000,9, -999.000,   -999.0,9,   -999.0,  -999.00,9,-999.0000,9,-999.0000,9,-999.0000,9,-999.0000,9,-999.0000,9,-999.0000,9
  33RR20070204,  I08S,    28,  1,      2,      2,2,20070222,1122,-56.4837,  83.7695, 4748,   4563.5,   0.0465,  34.6690,2,  34.6690,2,    234.7,2,    232.1,0,   129.87,2,    32.42,2,     0.00,2,     2.25,2,    1.218,2,    0.616,2, -999.000,5,   2254.7,2,   2350.2,2,   -999.0,9,  -999.00,9, -999.000,9, -999.000,-999.0000,9,-999.0000,  -999.00,9,  -999.00, -999.000,9, -999.000,   -999.0,9,   -999.0,  -999.00,9,-999.0000,9,-999.0000,9,-999.0000,9,-999.0000,9,-999.0000,9,-999.0000,9
  33RR20070204,  I08S,    28,  1,      1,      1,2,20070222,1122,-56.4837,  83.7695, 4748,   4824.1,   0.0260,  34.6664,2,  34.6665,2,    236.6,2,    237.5,2,   131.11,2,    32.47,2,     0.00,2,     2.26,2,    1.340,2,    0.670,2, -999.000,5,   2256.0,6,   2352.0,2,   -999.0,9,  -999.00,9, -999.000,9, -999.000,-999.0000,9,-999.0000,  -999.00,9,  -999.00, -999.000,9, -999.000,   -999.0,9,   -999.0,  -999.00,9,-999.0000,9,-999.0000,9,-999.0000,9,-999.0000,9,-999.0000,9,-999.0000,9