BOTTLE,20150626SIOCCHRJL
EXPOCODE,SECT_ID,STNNBR,CASTNO,SAMPNO,BTLNBR,BTLNBR_FLAG_W,DATE,TIME,LATITUDE,LONGITUDE,DEPTH,CTDPRS,CTDTMP,CTDSAL,CTDSAL_FLAG_W,SALNTY,SALNTY_FLAG_W,CTDOXY,CTDOXY_FLAG_W,OXYGEN,OXYGEN_FLAG_W,SILCAT,SILCAT_FLAG_W,NITRAT,NITRAT_FLAG_W,NITRIT,NITRIT_FLAG_W,PHSPHT,PHSPHT_FLAG_W,CFC-11,CFC-11_FLAG_W,CFC-12,CFC-12_FLAG_W,CFC113,CFC113_FLAG_W,TCARBN,TCARBN_FLAG_W,ALKALI,ALKALI_FLAG_W,DOC,DOC_FLAG_W,TDN,TDN_FLAG_W,TRITUM,TRITUM_FLAG_W,TRITER,HELIUM,HELIUM_FLAG_W,HELIER,DELHE3,DELHE3_FLAG_W,DELHER,NEON,NEON_FLAG_W,NEONER,DELC14,DELC14_FLAG_W,C14ERR,DELC13,DELC13_FLAG_W,CDOM325,CDOM325_FLAG_W,CDOM340,CDOM340_FLAG_W,CDOM380,CDOM380_FLAG_W,CDOM412,CDOM412_FLAG_W,CDOMSL,CDOMSL_FLAG_W,CDOMSN,CDOMSN_FLAG_W
,,,,,,,,,,,METERS,DBAR,ITS-90,PSS-78,,PSS-78,,UMOL/KG,,UMOL/KG,,UMOL/KG,,UMOL/KG,,UMOL/KG,,UMOL/KG,,PMOL/KG,,PMOL/KG,,PMOL/KG,,UMOL/KG,,UMOL/KG,,UMOL/KG,,UMOL/KG,,TU,,TU,NMOL/KG,,NMOL/KG,PERCNT,,PERCNT,NMOL/KG,,NMOL/KG,/MILLE,,/MILLE,/MILLE,,1/M,,1/M,,1/M,,1/M,,1/NM,,1/NM,
  33RR20070204,  I08S,    51,  1,     36,     38,2,20070302,2144,-46.7217,  93.5407, 3708,      4.8,   8.0034,  33.8701,2,  33.8705,2,    291.8,2,    294.6,2,     1.16,2,    17.16,2,     0.24,2,     1.29,2,    4.299,2,    2.364,2, -999.000,5,   2100.2,2,   2269.6,2,     48.3,2,  -999.00,9,    0.187,2,    0.007,-999.0000,9,-999.0000,  -999.00,9,  -999.00, -999.000,9, -999.000,   -999.0,9,   -999.0,  -999.00,9,-999.0000,9,-999.0000,9,-999.0000,9,-999.0000,9,-999.0000,9,-999.0000,9
  33RR20070204,  I08S,    51,  1,     35,     35,2,20070302,2144,-46.7217,  93.5407, 3708,     21.1,   8.0027,  33.8696,2,  33.8699,2,    294.1,2,    294.7,2,     1.16,2,    17.16,2,     0.24,2,     1.29,2,    4.250,2,    2.393,2, -999.000,5,   2099.7,6,   2269.0,2,     47.8,2,  -999.00,9,    0.152,2,    0.006,   1.7788,2,   0.0007,    -1.66,2,     0.21,    7.678,2,    0.009,   -999.0,9,   -999.0,  -999.00,9,-999.0000,9,-999.0000,9,-999.0000,9,-999.0000,9,-999.0000,9,-999.0000,9
  33RR20070204,  I08S,    51,  1,     34,   9419,2,20070302,2144,-46.7217,  93.5407, 3708,     46.3,   7.6553,  33.8842,2,  33.8879,2,    295.0,2,    294.3,2,     1.15,2,    17.02,2,     0.23,2,     1.28,2,    3.805,3,    2.386,2, -999.000,5,   2099.3,2,   2270.0,2,     47.5,2,  -999.00,9,    0.204,2,    0.007,   1.8906,2,   0.0007,    -1.25,2,     0.21,    8.083,2,    0.010,   -999.0,9,   -999.0,  -999.00,9,-999.0000,9,-999.0000,9,-999.0000,9,-999.0000,9,-999.0000,9,-999.0000,9
  33RR20070204,  I08S,    51,  1,     33,     33,2,20070302,2144,-46.7217,  93.5407, 3708,     90.7,   6.5288,  33.8614,2,  33.8809,2,    295.7,2,    294.4,2,     1.78,2,    18.37,2,     0.33,2,     1.43,2,    4.514,2,    2.540,2, -999.000,5,   2109.8,2,   2271.0,2,     45.8,2,  -999.00,9, -999.000,9, -999.000,   1.7935,2,   0.0005,    -1.57,2,     0.20,    7.755,2,    0.009,   -999.0,9,   -999.0,  -999.00,9,-999.0000,9,-999.0000,9,-999.0000,9,-999.0000,9,-999.0000,9,-999.0000,9
  33RR20070204,  I08S,    51,  1,     32,     37,2,20070302,2144,-46.7217,  93.5407, 3708,    141.2,   5.6798,  33.9837,2,  33.9731,2,    284.3,2,    286.3,2,     3.85,2,    21.87,2,     0.03,2,     1.54,2,    4.395,3,    2.559,2, -999.000,5,   2127.3,2,   2268.5,2,     45.0,2,  -999.00,9,    0.160,2,    0.006,   1.8029,2,   0.0006,    -1.56,2,     0.20,    7.869,2,    0.010,   -999.0,9,   -999.0,  -999.00,9,-999.0000,9,-999.0000,9,-999.0000,9,-999.0000,9,-999.0000,9,-999.0000,9
  33RR20070204,  I08S,    51,  1,     31,     31,2,20070302,2144,-46.7217,  93.5407, 3708,    166.3,   5.4675,  34.0014,2,  33.9937,2,    285.9,2,    285.0,2,     5.09,2,    22.40,2,     0.03,2,     1.58,2,    4.785,2,    2.585,2, -999.000,5,   2131.3,2,   2270.6,2,     44.7,2,  -999.00,9,    0.001,2,    0.156,   1.8197,2,   0.0007,    -0.97,2,     0.21,    7.943,2,    0.009,   -999.0,9,   -999.0,  -999.00,9,-999.0000,9,-999.0000,9,-999.0000,9,-999.0000,9,-999.0000,9,-999.0000,9
  33RR20070204,  I08S,    51,  1,     30,     30,2,20070302,2144,-46.7217,  93.5407, 3708,    191.2,   4.8898,  33.9608,2,  33.9625,2,    284.6,2,    287.7,2,     6.75,2,    23.64,2,     0.01,2,     1.66,2,    4.809,2,    2.616,2, -999.000,5,   2136.1,2,   2270.0,2,     44.3,2,  -999.00,9,    0.209,2,    0.006,   1.8219,2,   0.0004,    -1.09,2,     0.19,    7.922,2,    0.009,   -999.0,9,   -999.0,  -999.00,9,-999.0000,9,-999.0000,9,-999.0000,9,-999.0000,9,-999.0000,9,-999.0000,9
  33RR20070204,  I08S,    51,  1,     29,     29,2,20070302,2144,-46.7217,  93.5407, 3708,    241.3,   4.8853,  34.0429,2,  34.0391,2,    273.1,2,    278.6,2,    10.28,2,    24.56,2,     0.01,2,     1.72,2,    4.635,2,    2.522,2, -999.000,5,   2143.8,2,   2272.9,2,     43.9,2,  -999.00,9,    0.001,2,    0.006,   1.8650,2,   0.0005,    -0.65,2,     0.20,    8.064,2,    0.009,   -999.0,9,   -999.0,  -999.00,9,-999.0000,9,-999.0000,9,-999.0000,9,-999.0000,9,-999.0000,9,-999.0000,9
  33RR20070204,  I08S,    51,  1,     28,     28,2,20070302,2144,-46.7217,  93.5407, 3708,    291.9,   5.1239,  34.1573,2,  34.1581,2,    256.3,2,    257.3,2,    13.40,2,    25.19,2,     0.01,2,     1.75,2,    4.204,2,    2.252,2, -999.000,5,   2154.4,2,   2275.7,2,     43.5,2,  -999.00,9,    0.144,2,    0.006,   1.8185,2,   0.0004,    -0.33,2,     0.17,    7.954,2,    0.009,   -999.0,9,   -999.0,  -999.00,9,-999.0000,9,-999.0000,9,-999.0000,9,-999.0000,9,-999.0000,9,-999.0000,9
  33RR20070204,  I08S,    51,  1,     27,     27,2,20070302,2144,-46.7217,  93.5407, 3708,    342.0,   5.4677,  34.2749,2,  34.2730,2,    237.8,2,    234.5,2,    16.52,2,    26.17,2,     0.00,2,     1.82,2,    3.628,2,    1.906,2, -999.000,5,   2164.8,2,   2279.7,2,     43.1,2,  -999.00,9, -999.000,9, -999.000,   1.8036,2,   0.0005,     0.27,2,     0.18,    7.784,2,    0.012,   -999.0,9,   -999.0,  -999.00,9,-999.0000,9,-999.0000,9,-999.0000,9,-999.0000,9,-999.0000,9,-999.0000,9
  33RR20070204,  I08S,    51,  1,     26,     26,2,20070302,2144,-46.7217,  93.5407, 3708,    391.8,   4.9820,  34.2575,2,  34.2600,2,    241.4,2,    234.8,2,    18.80,2,    27.34,2,     0.00,2,     1.89,2,    3.445,2,    1.858,2, -999.000,5,   2168.9,2,   2280.3,2,     42.7,2,  -999.00,9,    0.012,2,    0.007,   1.8049,2,   0.0005,     0.65,2,     0.20,    7.885,2,    0.009,   -999.0,9,   -999.0,  -999.00,9,-999.0000,9,-999.0000,9,-999.0000,9,-999.0000,9,-999.0000,9,-999.0000,9
  33RR20070204,  I08S,    51,  1,     25,     25,2,20070302,2144,-46.7217,  93.5407, 3708,    442.3,   4.7075,  34.2572,2,  34.2565,2,    233.3,2,    233.5,2,    20.88,2,    28.03,2,     0.00,2,     1.94,2,    3.514,2,    1.803,2, -999.000,5,   2172.1,2,   2282.6,2,     42.3,2,  -999.00,9,    0.084,2,    0.006,   1.8244,2,   0.0005,     1.06,2,     0.18,    7.973,2,    0.009,   -999.0,9,   -999.0,  -999.00,9,-999.0000,9,-999.0000,9,-999.0000,9,-999.0000,9,-999.0000,9,-999.0000,9
  33RR20070204,  I08S,    51,  1,     24,     24,2,20070302,2144,-46.7217,  93.5407, 3708,    492.6,   4.2472,  34.2420,2,  34.2426,2,    232.7,2,    234.6,2,    23.58,2,    28.91,2,     0.00,2,     2.00,2,    3.450,2,    1.785,2, -999.000,5,   2178.6,2,   2283.7,2,     41.8,2,  -999.00,9, -999.000,9, -999.000,   1.8202,2,   0.0004,     1.18,2,     0.18,    7.903,2,    0.009,   -999.0,9,   -999.0,  -999.00,9,-999.0000,9,-999.0000,9,-999.0000,9,-999.0000,9,-999.0000,9,-999.0000,9
  33RR20070204,  I08S,    51,  1,     23,     23,2,20070302,2144,-46.7217,  93.5407, 3708,    577.8,   3.8113,  34.2563,2,  34.2567,2,    226.3,2,    228.6,2,    29.43,2,    30.19,2,     0.00,2,     2.09,2,    2.834,2,    1.579,2, -999.000,5,   2187.4,2,   2288.4,2,     41.2,2,  -999.00,9,    0.092,2,    0.005,   1.8117,2,   0.0004,     1.63,2,     0.18,    7.883,2,    0.008,   -999.0,9,   -999.0,  -999.00,9,-999.0000,9,-999.0000,9,-999.0000,9,-999.0000,9,-999.0000,9,-999.0000,9
  33RR20070204,  I08S,    51,  1,     22,     22,2,20070302,2144,-46.7217,  93.5407, 3708,    677.9,   3.4650,  34.2970,2,  34.2973,2,    218.4,2,    216.0,2,    36.93,2,    31.55,2,     0.00,2,     2.19,2,    2.529,2,    1.284,2, -999.000,5,   2201.1,2,   2295.5,2,     41.3,2,  -999.00,9, -999.000,9, -999.000,   1.8400,2,   0.0005,     2.89,2,     0.20,    8.037,2,    0.009,   -999.0,9,   -999.0,  -999.00,9,-999.0000,9,-999.0000,9,-999.0000,9,-999.0000,9,-999.0000,9,-999.0000,9
  33RR20070204,  I08S,    51,  1,     21,     21,2,20070302,2144,-46.7217,  93.5407, 3708,    778.7,   3.0412,  34.3291,2,  34.3285,2,    207.9,2,    206.9,2,    45.29,2,    32.75,2,     0.00,2,     2.28,2,    2.221,2,    1.090,2, -999.000,5,   2214.5,2,   2303.3,2,     41.6,2,  -999.00,9,    0.021,2,    0.004,   1.8265,2,   0.0006,     4.20,2,     0.18,    8.068,2,    0.010,   -999.0,9,   -999.0,  -999.00,9,-999.0000,9,-999.0000,9,-999.0000,9,-999.0000,9,-999.0000,9,-999.0000,9
  33RR20070204,  I08S,    51,  1,     20,     20,2,20070302,2144,-46.7217,  93.5407, 3708,    879.0,   3.0022,  34.4050,2,  34.4042,2,    190.6,2,    190.5,2,    53.03,2,    33.43,2,     0.00,2,     2.34,2,    1.421,2,    0.709,2, -999.000,5,   2227.8,2,   2311.0,2,     41.8,2,  -999.00,9,    0.016,2,    0.004,-999.0000,9,-999.0000,  -999.00,9,  -999.00, -999.000,9, -999.000,   -999.0,9,   -999.0,  -999.00,9,-999.0000,9,-999.0000,9,-999.0000,9,-999.0000,9,-999.0000,9,-999.0000,9
  33RR20070204,  I08S,    51,  1,     19,     19,2,20070302,2144,-46.7217,  93.5407, 3708,    979.8,   2.8412,  34.4516,2,  34.4521,2,    185.3,2,    184.0,2,    58.90,2,    33.83,2,     0.00,2,     2.35,2,    1.109,2,    0.562,2, -999.000,5,   2235.3,2,   2321.3,2,     41.4,2,  -999.00,9,    0.001,2,    0.003,-999.0000,9,-999.0000,  -999.00,9,  -999.00, -999.000,9, -999.000,   -999.0,9,   -999.0,  -999.00,9,-999.0000,9,-999.0000,9,-999.0000,9,-999.0000,9,-999.0000,9,-999.0000,9
  33RR20070204,  I08S,    51,  1,     18,     18,2,20070302,2144,-46.7217,  93.5407, 3708,   1080.4,   2.8549,  34.5216,2,  34.5218,2,    176.9,2,    176.6,2,    63.09,2,    33.62,2,     0.00,2,     2.34,2,    0.539,2,    0.318,2, -999.000,5,   2242.2,2,   2324.8,2,     41.2,2,  -999.00,9, -999.000,9, -999.000,-999.0000,9,-999.0000,  -999.00,9,  -999.00, -999.000,9, -999.000,   -999.0,9,   -999.0,  -999.00,9,-999.0000,9,-999.0000,9,-999.0000,9,-999.0000,9,-999.0000,9,-999.0000,9
  33RR20070204,  I08S,    51,  1,     17,     17,2,20070302,2144,-46.7217,  93.5407, 3708,   1181.5,   2.7402,  34.5656,2,  34.5660,2,    175.2,2,    175.3,2,    66.03,2,    33.33,2,     0.00,2,     2.32,2,    0.407,2,    0.234,2, -999.000,5,   2245.4,2,   2328.3,2,     41.3,2,  -999.00,9, -999.000,9, -999.000,-999.0000,9,-999.0000,  -999.00,9,  -999.00, -999.000,9, -999.000,   -999.0,9,   -999.0,  -999.00,9,-999.0000,9,-999.0000,9,-999.0000,9,-999.0000,9,-999.0000,9,-999.0000,9
  33RR20070204,  I08S,    51,  1,     16,     16,2,20070302,2144,-46.7217,  93.5407, 3708,   1282.1,   2.6624,  34.6060,2,  34.6066,2,    175.4,2,    175.7,2,    68.96,2,    32.83,2,     0.00,2,     2.30,2, -999.000,9, -999.000,9, -999.000,9,   2246.5,6,   2330.0,2,     41.3,2,  -999.00,9, -999.000,9, -999.000,-999.0000,9,-999.0000,  -999.00,9,  -999.00, -999.000,9, -999.000,   -999.0,9,   -999.0,  -999.00,9,-999.0000,9,-999.0000,9,-999.0000,9,-999.0000,9,-999.0000,9,-999.0000,9
  33RR20070204,  I08S,    51,  1,     15,     15,2,20070302,2144,-46.7217,  93.5407, 3708,   1382.1,   2.5884,  34.6412,2,  34.6412,2,    177.0,2,    178.1,2,    70.84,2,    32.39,2,     0.00,2,     2.26,2,    0.275,2,    0.127,2, -999.000,5,   2247.0,2,   2333.8,2,     41.0,2,  -999.00,9, -999.000,9, -999.000,-999.0000,9,-999.0000,  -999.00,9,  -999.00, -999.000,9, -999.000,   -999.0,9,   -999.0,  -999.00,9,-999.0000,9,-999.0000,9,-999.0000,9,-999.0000,9,-999.0000,9,-999.0000,9
  33RR20070204,  I08S,    51,  1,     14,     14,2,20070302,2144,-46.7217,  93.5407, 3708,   1483.1,   2.5288,  34.6684,2,  34.6691,2,    179.5,2,    180.7,2,    71.90,2,    31.84,2,     0.00,2,     2.22,2,    0.224,2,    0.102,2, -999.000,5,   2245.9,2,   2337.1,2,     41.1,2,  -999.00,9, -999.000,9, -999.000,-999.0000,9,-999.0000,  -999.00,9,  -999.00, -999.000,9, -999.000,   -999.0,9,   -999.0,  -999.00,9,-999.0000,9,-999.0000,9,-999.0000,9,-999.0000,9,-999.0000,9,-999.0000,9
  33RR20070204,  I08S,    51,  1,     13,     13,2,20070302,2144,-46.7217,  93.5407, 3708,   1584.8,   2.4759,  34.6910,2,  34.6921,2,    182.5,2,    183.6,2,    72.72,2,    31.45,2,     0.00,2,     2.18,2,    0.175,2,    0.081,2, -999.000,5,   2245.0,2,   2335.9,2,     40.6,2,  -999.00,9, -999.000,9, -999.000,-999.0000,9,-999.0000,  -999.00,9,  -999.00, -999.000,9, -999.000,   -999.0,9,   -999.0,  -999.00,9,-999.0000,9,-999.0000,9,-999.0000,9,-999.0000,9,-999.0000,9,-999.0000,9
  33RR20070204,  I08S,    51,  1,     12,     12,2,20070302,2144,-46.7217,  93.5407, 3708,   1685.0,   2.4270,  34.7085,2,  34.7096,2,    186.0,2,    186.3,2,    73.56,2,    30.90,2,     0.00,2,     2.15,2,    0.154,2,    0.072,2, -999.000,5,   2243.2,2,   2337.4,2,     41.0,2,  -999.00,9, -999.000,9, -999.000,-999.0000,9,-999.0000,  -999.00,9,  -999.00, -999.000,9, -999.000,   -999.0,9,   -999.0,  -999.00,9,-999.0000,9,-999.0000,9,-999.0000,9,-999.0000,9,-999.0000,9,-999.0000,9
  33RR20070204,  I08S,    51,  1,     11,     11,2,20070302,2144,-46.7217,  93.5407, 3708,   1786.3,   2.3529,  34.7277,2,  34.7285,2,    189.4,2,    189.2,2,    74.82,2,    30.46,2,     0.00,2,     2.11,2,    0.121,2,    0.055,2, -999.000,5,   2243.4,2,   2338.1,2,     40.9,2,  -999.00,9, -999.000,9, -999.000,-999.0000,9,-999.0000,  -999.00,9,  -999.00, -999.000,9, -999.000,   -999.0,9,   -999.0,  -999.00,9,-999.0000,9,-999.0000,9,-999.0000,9,-999.0000,9,-999.0000,9,-999.0000,9
  33RR20070204,  I08S,    51,  1,     10,     10,2,20070302,2144,-46.7217,  93.5407, 3708,   1887.3,   2.2856,  34.7396,2,  34.7398,2,    192.1,2,    192.2,2,    76.29,2,    30.17,2,     0.00,2,     2.10,2,    0.106,2,    0.048,2, -999.000,5,   2241.2,2,   2341.2,2,     40.8,2,  -999.00,9, -999.000,9, -999.000,   1.9175,2,   0.0006,     8.78,2,     0.20,    8.265,2,    0.010,   -999.0,9,   -999.0,  -999.00,9,-999.0000,9,-999.0000,9,-999.0000,9,-999.0000,9,-999.0000,9,-999.0000,9
  33RR20070204,  I08S,    51,  1,      9,      9,2,20070302,2144,-46.7217,  93.5407, 3708,   1988.7,   2.1917,  34.7492,2,  34.7497,2,    194.6,2,    195.0,2,    78.60,2,    29.91,2,     0.00,2,     2.07,2,    0.097,2,    0.042,2, -999.000,5,   2242.8,6,   2342.9,2,     40.4,2,  -999.00,9, -999.000,9, -999.000,   1.8734,2,   0.0005,     9.08,2,     0.20,    8.101,2,    0.009,   -999.0,9,   -999.0,  -999.00,9,-999.0000,9,-999.0000,9,-999.0000,9,-999.0000,9,-999.0000,9,-999.0000,9
  33RR20070204,  I08S,    51,  1,      8,      8,2,20070302,2144,-46.7217,  93.5407, 3708,   2190.8,   2.0338,  34.7559,2,  34.7565,2,    197.5,2,    197.8,2,    83.23,2,    29.82,2,     0.00,2,     2.07,2,    0.078,2,    0.035,2, -999.000,5,   2243.4,2,   2347.5,2,     40.6,2,  -999.00,9, -999.000,9, -999.000,-999.0000,9,-999.0000,  -999.00,9,  -999.00, -999.000,9, -999.000,   -999.0,9,   -999.0,  -999.00,9,-999.0000,9,-999.0000,9,-999.0000,9,-999.0000,9,-999.0000,9,-999.0000,9
  33RR20070204,  I08S,    51,  1,      7,      7,2,20070302,2144,-46.7217,  93.5407, 3708,   2444.2,   1.7543,  34.7503,2,  34.7510,2,    199.5,2,    199.5,2,    93.15,2,    30.25,2,     0.00,2,     2.10,2,    0.067,2,    0.030,2, -999.000,5,   2251.7,2,   2353.7,2,     40.0,2,  -999.00,9, -999.000,9, -999.000,   1.9134,2,   0.0009,     9.49,2,     0.20,    8.274,2,    0.010,   -999.0,9,   -999.0,  -999.00,9,-999.0000,9,-999.0000,9,-999.0000,9,-999.0000,9,-999.0000,9,-999.0000,9
  33RR20070204,  I08S,    51,  1,      6,      6,2,20070302,2144,-46.7217,  93.5407, 3708,   2697.6,   1.4414,  34.7373,2,  34.7383,2,    202.0,2,    202.1,2,   103.09,2,    30.90,2,     0.00,2,     2.15,2, -999.000,9, -999.000,9, -999.000,9,   2255.1,2,   2356.8,2,     40.8,2,  -999.00,9, -999.000,9, -999.000,-999.0000,9,-999.0000,  -999.00,9,  -999.00, -999.000,9, -999.000,   -999.0,9,   -999.0,  -999.00,9,-999.0000,9,-999.0000,9,-999.0000,9,-999.0000,9,-999.0000,9,-999.0000,9
  33RR20070204,  I08S,    51,  1,      5,      5,2,20070302,2144,-46.7217,  93.5407, 3708,   2951.6,   1.2249,  34.7274,2,  34.7284,2,    204.7,2,    204.9,2,   109.67,2,    31.29,2,     0.00,2,     2.18,2,    0.122,2,    0.056,2, -999.000,5,   2257.3,2,   2358.2,2,     40.8,2,  -999.00,9, -999.000,9, -999.000,-999.0000,9,-999.0000,  -999.00,9,  -999.00, -999.000,9, -999.000,   -999.0,9,   -999.0,  -999.00,9,-999.0000,9,-999.0000,9,-999.0000,9,-999.0000,9,-999.0000,9,-999.0000,9
  33RR20070204,  I08S,    51,  1,      4,      4,2,20070302,2144,-46.7217,  93.5407, 3708,   3205.7,   1.0969,  34.7208,2,  34.7219,2,    206.8,2,    206.9,2,   113.48,2,    31.54,2,     0.00,2,     2.19,2,    0.184,2,    0.085,2, -999.000,5,   2257.6,2,   2357.9,2,     41.0,2,  -999.00,9, -999.000,9, -999.000,   1.9308,2,   0.0008,     8.43,2,     0.20,    8.390,2,    0.010,   -999.0,9,   -999.0,  -999.00,9,-999.0000,9,-999.0000,9,-999.0000,9,-999.0000,9,-999.0000,9,-999.0000,9
  33RR20070204,  I08S,    51,  1,      3,      3,2,20070302,2144,-46.7217,  93.5407, 3708,   3460.2,   1.0185,  34.7161,2,  34.7162,2,    208.6,2,    207.9,2,   116.45,2,    31.63,2,     0.00,2,     2.20,2,    0.231,2,    0.109,2, -999.000,5,   2257.8,2,   2393.3,4,     40.8,2,  -999.00,9, -999.000,9, -999.000,   1.8935,2,   0.0005,     8.12,2,     0.20,    8.274,2,    0.010,   -999.0,9,   -999.0,  -999.00,9,-999.0000,9,-999.0000,9,-999.0000,9,-999.0000,9,-999.0000,9,-999.0000,9
  33RR20070204,  I08S,    51,  1,      2,      2,2,20070302,2144,-46.7217,  93.5407, 3708,   3642.7,   0.9909,  34.7141,2,  34.7146,2,    209.3,2,    208.7,2,   117.09,2,    31.63,2,     0.00,2,     2.20,2,    0.250,2,    0.119,2, -999.000,5,   2257.2,2,   2356.7,2,     40.4,2,  -999.00,9,    0.001,2,    0.004,   1.9130,2,   0.0006,     7.96,2,     0.20,    8.294,2,    0.010,   -999.0,9,   -999.0,  -999.00,9,-999.0000,9,-999.0000,9,-999.0000,9,-999.0000,9,-999.0000,9,-999.0000,9
  33RR20070204,  I08S,    51,  1,      1,      1,2,20070302,2144,-46.7217,  93.5407, 3708,   3756.5,   0.9814,  34.7131,2,  34.7133,2,    208.8,2,    209.0,2,   117.94,2,    31.63,2,     0.00,2,     2.20,2,    0.260,2,    0.122,2, -999.000,5,   2259.3,6,   2357.5,2,     40.0,2,  -999.00,9,    0.001,2,    0.005,   1.9734,3,   0.0006,     7.88,2,     0.20,    8.529,2,    0.010,   -999.0,9,   -999.0,  -999.00,9,-999.0000,9,-999.0000,9,-999.0000,9,-999.0000,9,-999.0000,9,-999.0000,9