BOTTLE,20150626SIOCCHRJL
EXPOCODE,SECT_ID,STNNBR,CASTNO,SAMPNO,BTLNBR,BTLNBR_FLAG_W,DATE,TIME,LATITUDE,LONGITUDE,DEPTH,CTDPRS,CTDTMP,CTDSAL,CTDSAL_FLAG_W,SALNTY,SALNTY_FLAG_W,CTDOXY,CTDOXY_FLAG_W,OXYGEN,OXYGEN_FLAG_W,SILCAT,SILCAT_FLAG_W,NITRAT,NITRAT_FLAG_W,NITRIT,NITRIT_FLAG_W,PHSPHT,PHSPHT_FLAG_W,CFC-11,CFC-11_FLAG_W,CFC-12,CFC-12_FLAG_W,CFC113,CFC113_FLAG_W,TCARBN,TCARBN_FLAG_W,ALKALI,ALKALI_FLAG_W,DOC,DOC_FLAG_W,TDN,TDN_FLAG_W,TRITUM,TRITUM_FLAG_W,TRITER,HELIUM,HELIUM_FLAG_W,HELIER,DELHE3,DELHE3_FLAG_W,DELHER,NEON,NEON_FLAG_W,NEONER,DELC14,DELC14_FLAG_W,C14ERR,DELC13,DELC13_FLAG_W,CDOM325,CDOM325_FLAG_W,CDOM340,CDOM340_FLAG_W,CDOM380,CDOM380_FLAG_W,CDOM412,CDOM412_FLAG_W,CDOMSL,CDOMSL_FLAG_W,CDOMSN,CDOMSN_FLAG_W
,,,,,,,,,,,METERS,DBAR,ITS-90,PSS-78,,PSS-78,,UMOL/KG,,UMOL/KG,,UMOL/KG,,UMOL/KG,,UMOL/KG,,UMOL/KG,,PMOL/KG,,PMOL/KG,,PMOL/KG,,UMOL/KG,,UMOL/KG,,UMOL/KG,,UMOL/KG,,TU,,TU,NMOL/KG,,NMOL/KG,PERCNT,,PERCNT,NMOL/KG,,NMOL/KG,/MILLE,,/MILLE,/MILLE,,1/M,,1/M,,1/M,,1/M,,1/NM,,1/NM,
  33RR20070204,  I08S,    25,  2,     36,     36,2,20070221,1441,-57.5127,  82.5232, 4431,      3.7,   1.9172,  33.9255,2,  33.9261,2,    329.8,2,    331.3,2,    24.42,2,    25.49,2,     0.25,2,     1.61,2,    5.836,2,    3.160,2, -999.000,5,   2156.7,6,   2292.2,2,     49.2,2,    30.65,2, -999.000,9, -999.000,-999.0000,9,-999.0000,  -999.00,9,  -999.00, -999.000,9, -999.000,   -999.0,9,   -999.0,  -999.00,9,-999.0000,9,-999.0000,9,-999.0000,9,-999.0000,9,-999.0000,9,-999.0000,9
  33RR20070204,  I08S,    25,  2,     35,     35,2,20070221,1441,-57.5127,  82.5232, 4431,     30.3,   1.9188,  33.9254,2,  33.9256,2,    331.5,2,    331.7,2,    24.59,2,    25.45,2,     0.25,2,     1.61,2,    5.876,2,    3.149,2, -999.000,5,   2155.6,2,   2292.0,2,     48.4,2,    29.84,2, -999.000,9, -999.000,-999.0000,9,-999.0000,  -999.00,9,  -999.00, -999.000,9, -999.000,    -97.5,2,      2.8,     1.47,2,-999.0000,9,-999.0000,9,-999.0000,9,-999.0000,9,-999.0000,9,-999.0000,9
  33RR20070204,  I08S,    25,  2,     34,   9433,2,20070221,1441,-57.5127,  82.5232, 4431,     55.1,   1.8089,  33.9319,2,  33.9314,2,    331.5,2,    331.0,2,    27.86,2,    25.36,2,     0.24,2,     1.62,2, -999.000,9, -999.000,9, -999.000,9,   2157.5,2,   2292.6,2,     46.9,2,    29.78,2, -999.000,9, -999.000,-999.0000,9,-999.0000,  -999.00,9,  -999.00, -999.000,9, -999.000,   -999.0,9,   -999.0,  -999.00,9,-999.0000,9,-999.0000,9,-999.0000,9,-999.0000,9,-999.0000,9,-999.0000,9
  33RR20070204,  I08S,    25,  2,     33,     33,2,20070221,1441,-57.5127,  82.5232, 4431,     85.5,   1.3466,  33.9745,2,  33.9663,2,    329.8,2,    328.6,2,    36.15,2,    25.89,2,     0.21,2,     1.78,2,    5.924,2,    3.167,2, -999.000,5,   2164.6,2,   2297.0,2,     45.8,2,    31.33,2, -999.000,9, -999.000,-999.0000,9,-999.0000,  -999.00,9,  -999.00, -999.000,9, -999.000,   -109.6,2,      2.7,     1.38,2,-999.0000,9,-999.0000,9,-999.0000,9,-999.0000,9,-999.0000,9,-999.0000,9
  33RR20070204,  I08S,    25,  2,     32,     32,2,20070221,1441,-57.5127,  82.5232, 4431,    115.9,  -0.0010,  34.1738,2,  34.1640,2,    293.8,2,    293.9,2,    58.65,2,    30.21,2,     0.19,2,     2.22,2, -999.000,9, -999.000,9, -999.000,9,   2192.4,2,   2307.2,2,     45.1,2,    35.41,2, -999.000,9, -999.000,-999.0000,9,-999.0000,  -999.00,9,  -999.00, -999.000,9, -999.000,   -999.0,9,   -999.0,  -999.00,9,-999.0000,9,-999.0000,9,-999.0000,9,-999.0000,9,-999.0000,9,-999.0000,9
  33RR20070204,  I08S,    25,  2,     31,     31,2,20070221,1441,-57.5127,  82.5232, 4431,    155.8,   1.5491,  34.4910,2,  34.4907,2,    216.8,2,    195.2,2,    73.27,2,    34.35,2,     0.04,2,     2.36,2,    1.652,2,    0.865,2, -999.000,5,   2251.8,2,   2325.9,2,     44.2,2,    37.91,2, -999.000,9, -999.000,-999.0000,9,-999.0000,  -999.00,9,  -999.00, -999.000,9, -999.000,   -128.2,2,      2.6,     0.54,2,-999.0000,9,-999.0000,9,-999.0000,9,-999.0000,9,-999.0000,9,-999.0000,9
  33RR20070204,  I08S,    25,  2,     30,     30,2,20070221,1441,-57.5127,  82.5232, 4431,    206.0,   1.8278,  34.5889,2,  34.5883,2,    183.5,2,    182.2,2,    78.05,2,    33.90,2,     0.03,2,     2.33,2, -999.000,9, -999.000,9, -999.000,9,   2255.0,6,   2333.1,2,     43.3,2,    37.78,2, -999.000,9, -999.000,-999.0000,9,-999.0000,  -999.00,9,  -999.00, -999.000,9, -999.000,   -149.3,2,      2.0,     0.49,2,-999.0000,9,-999.0000,9,-999.0000,9,-999.0000,9,-999.0000,9,-999.0000,9
  33RR20070204,  I08S,    25,  2,     29,     29,2,20070221,1441,-57.5127,  82.5232, 4431,    256.2,   1.9124,  34.6223,2,  34.6219,2,    181.2,2,    178.6,2,    79.69,2,    33.61,2,     0.03,2,     2.31,2,    0.709,2,    0.392,2, -999.000,5,   2254.1,2,   2335.9,2,     42.6,2,    37.42,2, -999.000,9, -999.000,-999.0000,9,-999.0000,  -999.00,9,  -999.00, -999.000,9, -999.000,   -145.4,2,      2.8,     0.51,2,-999.0000,9,-999.0000,9,-999.0000,9,-999.0000,9,-999.0000,9,-999.0000,9
  33RR20070204,  I08S,    25,  2,     28,     28,2,20070221,1441,-57.5127,  82.5232, 4431,    306.7,   1.6670,  34.6258,2,  34.6254,2,    187.0,2,    183.9,2,    81.55,2,    33.16,2,     0.03,2,     2.30,2, -999.000,9, -999.000,9, -999.000,9,   2254.1,2,   2334.4,2,     42.5,2,    37.01,2, -999.000,9, -999.000,-999.0000,9,-999.0000,  -999.00,9,  -999.00, -999.000,9, -999.000,   -146.8,2,      2.5,     0.49,2,-999.0000,9,-999.0000,9,-999.0000,9,-999.0000,9,-999.0000,9,-999.0000,9
  33RR20070204,  I08S,    25,  2,     27,     27,2,20070221,1441,-57.5127,  82.5232, 4431,    357.3,   1.5159,  34.6337,2,  34.6290,2,    187.2,2,    188.7,2,    83.19,2,    33.11,2,     0.03,2,     2.28,2,    0.909,2,    0.502,2, -999.000,5,   2255.2,2,   2337.1,2,     42.2,2,    36.59,2, -999.000,9, -999.000,-999.0000,9,-999.0000,  -999.00,9,  -999.00, -999.000,9, -999.000,   -999.0,9,   -999.0,  -999.00,9,-999.0000,9,-999.0000,9,-999.0000,9,-999.0000,9,-999.0000,9,-999.0000,9
  33RR20070204,  I08S,    25,  2,     26,     26,2,20070221,1441,-57.5127,  82.5232, 4431,    407.3,   1.5920,  34.6652,2,  34.6635,2,    186.7,2,    188.3,2,    84.61,2,    32.62,2,     0.03,2,     2.25,2, -999.000,9, -999.000,9, -999.000,9,   2254.2,2,   2340.2,2,     42.2,2,    35.81,2, -999.000,9, -999.000,-999.0000,9,-999.0000,  -999.00,9,  -999.00, -999.000,9, -999.000,   -144.3,2,      2.4,     0.54,2,-999.0000,9,-999.0000,9,-999.0000,9,-999.0000,9,-999.0000,9,-999.0000,9
  33RR20070204,  I08S,    25,  2,     25,     25,2,20070221,1441,-57.5127,  82.5232, 4431,    457.7,   1.7340,  34.6974,2,  34.6969,2,    186.9,2,    187.4,2,    84.79,2,    32.04,2,     0.02,2,     2.20,2,    0.469,2,    0.249,2, -999.000,5,   2254.1,2,   2341.5,2,     42.1,2,    35.96,2, -999.000,9, -999.000,-999.0000,9,-999.0000,  -999.00,9,  -999.00, -999.000,9, -999.000,   -999.0,9,   -999.0,  -999.00,9,-999.0000,9,-999.0000,9,-999.0000,9,-999.0000,9,-999.0000,9,-999.0000,9
  33RR20070204,  I08S,    25,  2,     24,     24,2,20070221,1441,-57.5127,  82.5232, 4431,    508.1,   1.7500,  34.7137,2,  34.7148,2,    188.3,2,    189.2,2,    85.17,2,    31.60,2,     0.02,2,     2.17,2,    0.382,2,    0.201,2, -999.000,5,   2251.1,2,   2343.7,2,     41.9,2,    34.15,2, -999.000,9, -999.000,-999.0000,9,-999.0000,  -999.00,9,  -999.00, -999.000,9, -999.000,   -999.0,9,   -999.0,  -999.00,9,-999.0000,9,-999.0000,9,-999.0000,9,-999.0000,9,-999.0000,9,-999.0000,9
  33RR20070204,  I08S,    25,  2,     23,     23,2,20070221,1441,-57.5127,  82.5232, 4431,    609.0,   1.6752,  34.7229,2,  34.7221,2,    191.5,2,    191.8,2,    87.66,2,    31.35,2,     0.02,2,     2.16,2,    0.355,2,    0.192,2, -999.000,5,   2250.8,2,   2343.7,2,     41.8,2,    34.36,2, -999.000,9, -999.000,-999.0000,9,-999.0000,  -999.00,9,  -999.00, -999.000,9, -999.000,   -156.6,2,      2.8,     0.51,2,-999.0000,9,-999.0000,9,-999.0000,9,-999.0000,9,-999.0000,9,-999.0000,9
  33RR20070204,  I08S,    25,  2,     22,     22,2,20070221,1441,-57.5127,  82.5232, 4431,    709.5,   1.5811,  34.7295,2,  34.7298,2,    194.4,2,    195.6,2,    89.72,2,    31.06,2,     0.02,2,     2.14,2,    0.324,2,    0.171,2, -999.000,5,   2248.9,2,   2345.6,2,     41.8,2,    34.00,2, -999.000,9, -999.000,-999.0000,9,-999.0000,  -999.00,9,  -999.00, -999.000,9, -999.000,   -999.0,9,   -999.0,  -999.00,9,-999.0000,9,-999.0000,9,-999.0000,9,-999.0000,9,-999.0000,9,-999.0000,9
  33RR20070204,  I08S,    25,  2,     21,     21,2,20070221,1441,-57.5127,  82.5232, 4431,    810.3,   1.5319,  34.7349,2,  34.7351,2,    197.6,2,    197.8,2,    90.95,2,    30.87,2,     0.01,2,     2.12,2,    0.284,2,    0.147,2, -999.000,5,   2248.4,2,   2346.0,2,     42.1,2,    33.62,2, -999.000,9, -999.000,-999.0000,9,-999.0000,  -999.00,9,  -999.00, -999.000,9, -999.000,   -999.0,9,   -999.0,  -999.00,9,-999.0000,9,-999.0000,9,-999.0000,9,-999.0000,9,-999.0000,9,-999.0000,9
  33RR20070204,  I08S,    25,  2,     20,     20,2,20070221,1441,-57.5127,  82.5232, 4431,    911.2,   1.4870,  34.7389,2,  34.7394,2,    199.6,2,    199.5,2,    93.02,2,    30.73,2,     0.01,2,     2.11,2,    0.225,2,    0.117,2, -999.000,5,   2248.9,2,   2347.2,2,     41.9,2,    33.12,2, -999.000,9, -999.000,-999.0000,9,-999.0000,  -999.00,9,  -999.00, -999.000,9, -999.000,   -153.2,2,      2.9,     0.54,2,-999.0000,9,-999.0000,9,-999.0000,9,-999.0000,9,-999.0000,9,-999.0000,9
  33RR20070204,  I08S,    25,  2,     19,     19,2,20070221,1441,-57.5127,  82.5232, 4431,   1012.5,   1.4223,  34.7397,2,  34.7400,2,    201.6,2,    200.9,2,    95.29,2,    30.74,2,     0.01,2,     2.11,2,    0.195,2,    0.099,2, -999.000,5,   2249.3,2,   2348.7,2,     41.8,2,    31.97,2, -999.000,9, -999.000,-999.0000,9,-999.0000,  -999.00,9,  -999.00, -999.000,9, -999.000,   -999.0,9,   -999.0,  -999.00,9,-999.0000,9,-999.0000,9,-999.0000,9,-999.0000,9,-999.0000,9,-999.0000,9
  33RR20070204,  I08S,    25,  2,     18,     18,2,20070221,1441,-57.5127,  82.5232, 4431,   1113.3,   1.3300,  34.7368,2,  34.7374,2,    203.1,2,    202.3,2,    98.21,2,    30.78,2,     0.01,2,     2.12,2, -999.000,9, -999.000,9, -999.000,9,   2251.0,2,   2350.4,2,     41.8,2,    32.20,2, -999.000,9, -999.000,-999.0000,9,-999.0000,  -999.00,9,  -999.00, -999.000,9, -999.000,   -999.0,9,   -999.0,  -999.00,9,-999.0000,9,-999.0000,9,-999.0000,9,-999.0000,9,-999.0000,9,-999.0000,9
  33RR20070204,  I08S,    25,  2,     17,     17,2,20070221,1441,-57.5127,  82.5232, 4431,   1214.4,   1.2380,  34.7327,2,  34.7333,2,    203.9,2,    203.0,2,   100.50,2,    30.94,2,     0.01,2,     2.13,2, -999.000,9, -999.000,9, -999.000,9,   2253.3,2,   2352.8,2,     41.3,2,    32.23,2, -999.000,9, -999.000,-999.0000,9,-999.0000,  -999.00,9,  -999.00, -999.000,9, -999.000,   -153.5,2,      2.7,     0.56,2,-999.0000,9,-999.0000,9,-999.0000,9,-999.0000,9,-999.0000,9,-999.0000,9
  33RR20070204,  I08S,    25,  2,     16,     16,2,20070221,1441,-57.5127,  82.5232, 4431,   1315.6,   1.1414,  34.7275,2,  34.7268,2,    205.1,2,    204.2,2,   103.22,2,    31.16,2,     0.00,2,     2.14,2, -999.000,9, -999.000,9, -999.000,9,   2255.0,2,   2352.0,2,     41.1,2,    32.67,2, -999.000,9, -999.000,-999.0000,9,-999.0000,  -999.00,9,  -999.00, -999.000,9, -999.000,   -999.0,9,   -999.0,  -999.00,9,-999.0000,9,-999.0000,9,-999.0000,9,-999.0000,9,-999.0000,9,-999.0000,9
  33RR20070204,  I08S,    25,  2,     15,     15,2,20070221,1441,-57.5127,  82.5232, 4431,   1416.5,   1.0207,  34.7191,2,  34.7195,2,    205.6,2,    204.8,2,   105.30,2,    31.36,2,     0.00,2,     2.16,2, -999.000,9, -999.000,9, -999.000,9,   2255.5,2,   2353.3,2,     41.6,2,    32.64,2, -999.000,9, -999.000,-999.0000,9,-999.0000,  -999.00,9,  -999.00, -999.000,9, -999.000,   -999.0,9,   -999.0,  -999.00,9,-999.0000,9,-999.0000,9,-999.0000,9,-999.0000,9,-999.0000,9,-999.0000,9
  33RR20070204,  I08S,    25,  2,     14,     14,2,20070221,1441,-57.5127,  82.5232, 4431,   1517.8,   0.9578,  34.7177,2,  34.7184,2,    206.4,2,    206.5,2,   108.01,2,    31.52,2,     0.00,2,     2.17,2, -999.000,9, -999.000,9, -999.000,9,   2255.0,2,   2353.3,2,     41.0,2,    32.53,2, -999.000,9, -999.000,-999.0000,9,-999.0000,  -999.00,9,  -999.00, -999.000,9, -999.000,   -153.1,2,      2.7,     0.51,2,-999.0000,9,-999.0000,9,-999.0000,9,-999.0000,9,-999.0000,9,-999.0000,9
  33RR20070204,  I08S,    25,  2,     13,     13,2,20070221,1441,-57.5127,  82.5232, 4431,   1619.0,   0.8683,  34.7117,2,  34.7123,2,    206.6,2,    206.3,2,   110.09,2,    31.77,2,     0.00,2,     2.18,2, -999.000,9, -999.000,9, -999.000,9,   2258.0,2,   2353.5,2,     41.4,2,    33.25,2, -999.000,9, -999.000,-999.0000,9,-999.0000,  -999.00,9,  -999.00, -999.000,9, -999.000,   -999.0,9,   -999.0,  -999.00,9,-999.0000,9,-999.0000,9,-999.0000,9,-999.0000,9,-999.0000,9,-999.0000,9
  33RR20070204,  I08S,    25,  2,     12,     12,2,20070221,1441,-57.5127,  82.5232, 4431,   1821.6,   0.7005,  34.7033,2,  34.7036,2,    207.9,2,    208.5,2,   115.57,2,    31.97,2,     0.00,2,     2.20,2, -999.000,9, -999.000,9, -999.000,9,   2259.2,2,   2353.3,2,     41.4,2,    33.58,2, -999.000,9, -999.000,-999.0000,9,-999.0000,  -999.00,9,  -999.00, -999.000,9, -999.000,   -999.0,9,   -999.0,  -999.00,9,-999.0000,9,-999.0000,9,-999.0000,9,-999.0000,9,-999.0000,9,-999.0000,9
  33RR20070204,  I08S,    25,  2,     11,     11,2,20070221,1441,-57.5127,  82.5232, 4431,   2024.4,   0.5716,  34.6954,2,  34.6958,2,    209.9,2,    209.8,2,   117.88,2,    32.12,2,     0.00,2,     2.23,2, -999.000,9, -999.000,9, -999.000,9,   2259.7,6,   2354.5,2,     41.8,2,    33.88,2, -999.000,9, -999.000,-999.0000,9,-999.0000,  -999.00,9,  -999.00, -999.000,9, -999.000,   -160.8,2,      2.7,     0.51,2,-999.0000,9,-999.0000,9,-999.0000,9,-999.0000,9,-999.0000,9,-999.0000,9
  33RR20070204,  I08S,    25,  2,     10,     10,2,20070221,1441,-57.5127,  82.5232, 4431,   2277.9,   0.4346,  34.6892,2,  34.6887,2,    212.5,2,    213.3,2,   121.88,2,    32.33,2,     0.00,2,     2.24,2, -999.000,9, -999.000,9, -999.000,9,   2259.9,2,   2354.8,2,     41.1,2,    33.81,2, -999.000,9, -999.000,-999.0000,9,-999.0000,  -999.00,9,  -999.00, -999.000,9, -999.000,   -999.0,9,   -999.0,  -999.00,9,-999.0000,9,-999.0000,9,-999.0000,9,-999.0000,9,-999.0000,9,-999.0000,9
  33RR20070204,  I08S,    25,  2,      9,      9,2,20070221,1441,-57.5127,  82.5232, 4431,   2532.3,   0.3150,  34.6849,2,  34.6852,2,    217.4,2,    217.3,2,   124.39,2,    32.44,2,     0.00,2,     2.24,2, -999.000,9, -999.000,9, -999.000,9,   2259.0,2,   2354.4,2,     41.4,2,    33.88,2, -999.000,9, -999.000,-999.0000,9,-999.0000,  -999.00,9,  -999.00, -999.000,9, -999.000,   -999.0,9,   -999.0,  -999.00,9,-999.0000,9,-999.0000,9,-999.0000,9,-999.0000,9,-999.0000,9,-999.0000,9
  33RR20070204,  I08S,    25,  2,      8,      8,2,20070221,1441,-57.5127,  82.5232, 4431,   2786.1,   0.2199,  34.6811,2,  34.6865,0,    220.4,2,    221.0,2,   125.63,2,    32.34,2,     0.00,2,     2.24,2, -999.000,9, -999.000,9, -999.000,9,   2257.3,2,   2353.8,2,     41.4,2,    33.95,2, -999.000,9, -999.000,-999.0000,9,-999.0000,  -999.00,9,  -999.00, -999.000,9, -999.000,   -160.3,2,      3.8,     0.57,2,-999.0000,9,-999.0000,9,-999.0000,9,-999.0000,9,-999.0000,9,-999.0000,9
  33RR20070204,  I08S,    25,  2,      7,      7,2,20070221,1441,-57.5127,  82.5232, 4431,   3040.7,   0.1205,  34.6752,2,  34.6755,2,    223.4,2,    223.8,2,   126.46,2,    32.45,2,     0.00,2,     2.24,2, -999.000,9, -999.000,9, -999.000,9,   2256.5,2,   2353.7,2,     41.4,2,    34.10,2, -999.000,9, -999.000,-999.0000,9,-999.0000,  -999.00,9,  -999.00, -999.000,9, -999.000,   -999.0,9,   -999.0,  -999.00,9,-999.0000,9,-999.0000,9,-999.0000,9,-999.0000,9,-999.0000,9,-999.0000,9
  33RR20070204,  I08S,    25,  2,      6,      6,2,20070221,1441,-57.5127,  82.5232, 4431,   3295.8,   0.0389,  34.6727,2,  34.6745,2,    227.4,2,    227.9,2,   125.35,2,    32.30,2,     0.00,2,     2.23,2, -999.000,9, -999.000,9, -999.000,9,   2255.8,2,   2353.6,2,     40.9,2,    33.43,2, -999.000,9, -999.000,-999.0000,9,-999.0000,  -999.00,9,  -999.00, -999.000,9, -999.000,   -999.0,9,   -999.0,  -999.00,9,-999.0000,9,-999.0000,9,-999.0000,9,-999.0000,9,-999.0000,9,-999.0000,9
  33RR20070204,  I08S,    25,  2,      5,      5,2,20070221,1441,-57.5127,  82.5232, 4431,   3551.1,   0.0054,  34.6707,2,  34.6712,2,    229.9,2,    229.6,2,   125.31,2,    32.30,2,     0.00,2,     2.23,2, -999.000,9, -999.000,9, -999.000,9,   2254.9,2,   2351.3,2,     41.2,2,    33.94,2, -999.000,9, -999.000,-999.0000,9,-999.0000,  -999.00,9,  -999.00, -999.000,9, -999.000,   -158.1,2,      2.9,     0.58,2,-999.0000,9,-999.0000,9,-999.0000,9,-999.0000,9,-999.0000,9,-999.0000,9
  33RR20070204,  I08S,    25,  2,      4,      4,2,20070221,1441,-57.5127,  82.5232, 4431,   3806.4,  -0.0134,  34.6691,2,  34.6694,2,    231.7,2,    231.1,2,   125.91,2,    32.36,2,     0.00,2,     2.22,2, -999.000,9, -999.000,9, -999.000,9,   2254.3,2,   2352.6,2,     41.5,2,    34.16,2, -999.000,9, -999.000,-999.0000,9,-999.0000,  -999.00,9,  -999.00, -999.000,9, -999.000,   -999.0,9,   -999.0,  -999.00,9,-999.0000,9,-999.0000,9,-999.0000,9,-999.0000,9,-999.0000,9,-999.0000,9
  33RR20070204,  I08S,    25,  2,      3,      3,2,20070221,1441,-57.5127,  82.5232, 4431,   4062.4,  -0.0151,  34.6683,2,  34.6684,2,    232.5,2,    232.5,2,   125.23,2,    32.31,2,     0.00,2,     2.22,2, -999.000,9, -999.000,9, -999.000,9,   2253.2,2,   2351.7,2,     41.6,2,    33.83,2, -999.000,9, -999.000,-999.0000,9,-999.0000,  -999.00,9,  -999.00, -999.000,9, -999.000,   -157.4,2,      3.4,     0.60,2,-999.0000,9,-999.0000,9,-999.0000,9,-999.0000,9,-999.0000,9,-999.0000,9
  33RR20070204,  I08S,    25,  2,      2,      2,2,20070221,1441,-57.5127,  82.5232, 4431,   4318.4,   0.0145,  34.6684,2,  34.6684,2,    233.1,2,    230.8,0,   125.41,2,    32.32,2,     0.00,2,     2.23,2, -999.000,9, -999.000,9, -999.000,9,   2253.7,2,   2350.8,2,     41.1,2,    33.40,2, -999.000,9, -999.000,-999.0000,9,-999.0000,  -999.00,9,  -999.00, -999.000,9, -999.000,   -999.0,9,   -999.0,  -999.00,9,-999.0000,9,-999.0000,9,-999.0000,9,-999.0000,9,-999.0000,9,-999.0000,9
  33RR20070204,  I08S,    25,  2,      1,      1,2,20070221,1441,-57.5127,  82.5232, 4431,   4523.2,   0.0363,  34.6680,2,  34.6681,2,   -999.0,9,   -999.0,9,   125.16,2,    32.32,2,     0.00,2,     2.23,2, -999.000,9, -999.000,9, -999.000,9,   2254.5,6,   2352.0,2,     41.0,2,    34.13,2, -999.000,9, -999.000,-999.0000,9,-999.0000,  -999.00,9,  -999.00, -999.000,9, -999.000,   -158.9,2,      3.9,     0.58,2,-999.0000,9,-999.0000,9,-999.0000,9,-999.0000,9,-999.0000,9,-999.0000,9