BOTTLE,20150626SIOCCHRJL
EXPOCODE,SECT_ID,STNNBR,CASTNO,SAMPNO,BTLNBR,BTLNBR_FLAG_W,DATE,TIME,LATITUDE,LONGITUDE,DEPTH,CTDPRS,CTDTMP,CTDSAL,CTDSAL_FLAG_W,SALNTY,SALNTY_FLAG_W,CTDOXY,CTDOXY_FLAG_W,OXYGEN,OXYGEN_FLAG_W,SILCAT,SILCAT_FLAG_W,NITRAT,NITRAT_FLAG_W,NITRIT,NITRIT_FLAG_W,PHSPHT,PHSPHT_FLAG_W,CFC-11,CFC-11_FLAG_W,CFC-12,CFC-12_FLAG_W,CFC113,CFC113_FLAG_W,TCARBN,TCARBN_FLAG_W,ALKALI,ALKALI_FLAG_W,DOC,DOC_FLAG_W,TDN,TDN_FLAG_W,TRITUM,TRITUM_FLAG_W,TRITER,HELIUM,HELIUM_FLAG_W,HELIER,DELHE3,DELHE3_FLAG_W,DELHER,NEON,NEON_FLAG_W,NEONER,DELC14,DELC14_FLAG_W,C14ERR,DELC13,DELC13_FLAG_W,CDOM325,CDOM325_FLAG_W,CDOM340,CDOM340_FLAG_W,CDOM380,CDOM380_FLAG_W,CDOM412,CDOM412_FLAG_W,CDOMSL,CDOMSL_FLAG_W,CDOMSN,CDOMSN_FLAG_W
,,,,,,,,,,,METERS,DBAR,ITS-90,PSS-78,,PSS-78,,UMOL/KG,,UMOL/KG,,UMOL/KG,,UMOL/KG,,UMOL/KG,,UMOL/KG,,PMOL/KG,,PMOL/KG,,PMOL/KG,,UMOL/KG,,UMOL/KG,,UMOL/KG,,UMOL/KG,,TU,,TU,NMOL/KG,,NMOL/KG,PERCNT,,PERCNT,NMOL/KG,,NMOL/KG,/MILLE,,/MILLE,/MILLE,,1/M,,1/M,,1/M,,1/M,,1/NM,,1/NM,
  33RR20070204,  I08S,    50,  2,     34,   9419,2,20070302,1555,-47.1503,  93.1585, 3308,      3.6,   8.8549,  34.0793,2,  34.0792,2,    287.7,2,    287.6,2,     1.27,2,    16.11,2,     0.19,2,     1.23,2,    4.016,2,    2.336,2, -999.000,5,   2097.4,6,   2272.1,2,   -999.0,9,  -999.00,9, -999.000,9, -999.000,-999.0000,9,-999.0000,  -999.00,9,  -999.00, -999.000,9, -999.000,   -999.0,9,   -999.0,  -999.00,9,-999.0000,9,-999.0000,9,-999.0000,9,-999.0000,9,-999.0000,9,-999.0000,9
  33RR20070204,  I08S,    50,  2,     33,     33,2,20070302,1555,-47.1503,  93.1585, 3308,     40.3,   8.7574,  34.0776,2,  34.0772,2,    287.1,2,    287.7,2,     1.21,2,    16.25,2,     0.19,2,     1.22,2, -999.000,9, -999.000,9, -999.000,9,   2097.0,2,   2273.5,2,   -999.0,9,  -999.00,9, -999.000,9, -999.000,-999.0000,9,-999.0000,  -999.00,9,  -999.00, -999.000,9, -999.000,   -999.0,9,   -999.0,  -999.00,9,-999.0000,9,-999.0000,9,-999.0000,9,-999.0000,9,-999.0000,9,-999.0000,9
  33RR20070204,  I08S,    50,  2,     32,     37,2,20070302,1555,-47.1503,  93.1585, 3308,     74.9,   8.5828,  34.0773,2,  34.0743,2,    286.8,2,    285.9,2,     1.15,2,    16.39,2,     0.19,2,     1.24,2, -999.000,9, -999.000,9, -999.000,9,   2099.0,2,   2273.6,2,   -999.0,9,  -999.00,9, -999.000,9, -999.000,-999.0000,9,-999.0000,  -999.00,9,  -999.00, -999.000,9, -999.000,   -999.0,9,   -999.0,  -999.00,9,-999.0000,9,-999.0000,9,-999.0000,9,-999.0000,9,-999.0000,9,-999.0000,9
  33RR20070204,  I08S,    50,  2,     31,     31,2,20070302,1555,-47.1503,  93.1585, 3308,     95.1,   7.6375,  34.1126,2,  34.1078,2,    284.1,2,    285.6,2,     1.72,2,    16.98,2,     0.35,2,     1.33,2,    4.226,2,    2.443,2, -999.000,5,   2110.2,2,   2274.3,2,   -999.0,9,  -999.00,9, -999.000,9, -999.000,-999.0000,9,-999.0000,  -999.00,9,  -999.00, -999.000,9, -999.000,   -999.0,9,   -999.0,  -999.00,9,-999.0000,9,-999.0000,9,-999.0000,9,-999.0000,9,-999.0000,9,-999.0000,9
  33RR20070204,  I08S,    50,  2,     30,     30,2,20070302,1555,-47.1503,  93.1585, 3308,    125.8,   6.7153,  34.1491,2,  34.1472,2,    281.1,2,    280.5,2,     4.57,2,    20.27,2,     0.48,2,     1.48,2, -999.000,9, -999.000,9, -999.000,9,   2125.7,2,   2272.6,2,   -999.0,9,  -999.00,9, -999.000,9, -999.000,-999.0000,9,-999.0000,  -999.00,9,  -999.00, -999.000,9, -999.000,   -999.0,9,   -999.0,  -999.00,9,-999.0000,9,-999.0000,9,-999.0000,9,-999.0000,9,-999.0000,9,-999.0000,9
  33RR20070204,  I08S,    50,  2,     29,     29,2,20070302,1555,-47.1503,  93.1585, 3308,    145.1,   6.3077,  34.1695,2,  34.1739,2,    276.5,2,    275.5,2,     7.01,2,    21.47,2,     0.01,2,     1.51,2,    4.321,2,    2.470,2, -999.000,5,   2132.8,2,   2275.1,2,   -999.0,9,  -999.00,9, -999.000,9, -999.000,-999.0000,9,-999.0000,  -999.00,9,  -999.00, -999.000,9, -999.000,   -999.0,9,   -999.0,  -999.00,9,-999.0000,9,-999.0000,9,-999.0000,9,-999.0000,9,-999.0000,9,-999.0000,9
  33RR20070204,  I08S,    50,  2,     28,     28,2,20070302,1555,-47.1503,  93.1585, 3308,    175.3,   5.6896,  34.1362,2,  34.1356,2,    282.4,2,    282.8,2,     8.41,2,    22.51,2,     0.01,2,     1.57,2, -999.000,9, -999.000,9, -999.000,9,   2135.8,2,   2272.8,2,   -999.0,9,  -999.00,9, -999.000,9, -999.000,-999.0000,9,-999.0000,  -999.00,9,  -999.00, -999.000,9, -999.000,   -999.0,9,   -999.0,  -999.00,9,-999.0000,9,-999.0000,9,-999.0000,9,-999.0000,9,-999.0000,9,-999.0000,9
  33RR20070204,  I08S,    50,  2,     27,     27,2,20070302,1555,-47.1503,  93.1585, 3308,    225.8,   5.2521,  34.1144,2,  34.1118,2,    281.8,2,    283.2,2,     9.80,2,    23.50,2,     0.01,2,     1.63,2,    4.423,2,    2.465,2, -999.000,5,   2139.9,2,   2273.1,2,   -999.0,9,  -999.00,9, -999.000,9, -999.000,-999.0000,9,-999.0000,  -999.00,9,  -999.00, -999.000,9, -999.000,   -999.0,9,   -999.0,  -999.00,9,-999.0000,9,-999.0000,9,-999.0000,9,-999.0000,9,-999.0000,9,-999.0000,9
  33RR20070204,  I08S,    50,  2,     26,     26,2,20070302,1555,-47.1503,  93.1585, 3308,    276.2,   5.2073,  34.1736,2,  34.1696,2,    259.5,2,    260.4,2,    13.29,2,    25.27,2,     0.01,2,     1.75,2, -999.000,9, -999.000,9, -999.000,9,   2154.1,2,   2277.3,2,   -999.0,9,  -999.00,9, -999.000,9, -999.000,-999.0000,9,-999.0000,  -999.00,9,  -999.00, -999.000,9, -999.000,   -999.0,9,   -999.0,  -999.00,9,-999.0000,9,-999.0000,9,-999.0000,9,-999.0000,9,-999.0000,9,-999.0000,9
  33RR20070204,  I08S,    50,  2,     25,     25,2,20070302,1555,-47.1503,  93.1585, 3308,    325.6,   5.1493,  34.2308,2,  34.2326,2,    243.5,2,    243.5,2,    16.15,2,    26.45,2,     0.00,2,     1.82,2,    3.797,2,    2.056,2, -999.000,5,   2163.1,2,   2279.2,2,   -999.0,9,  -999.00,9, -999.000,9, -999.000,-999.0000,9,-999.0000,  -999.00,9,  -999.00, -999.000,9, -999.000,   -999.0,9,   -999.0,  -999.00,9,-999.0000,9,-999.0000,9,-999.0000,9,-999.0000,9,-999.0000,9,-999.0000,9
  33RR20070204,  I08S,    50,  2,     24,     24,2,20070302,1555,-47.1503,  93.1585, 3308,    376.2,   4.9482,  34.2568,2,  34.2520,2,    236.0,2,    235.7,2,    18.80,2,    27.58,2,     0.00,2,     1.90,2, -999.000,9, -999.000,9, -999.000,9,   2170.9,2,   2279.9,2,   -999.0,9,  -999.00,9, -999.000,9, -999.000,-999.0000,9,-999.0000,  -999.00,9,  -999.00, -999.000,9, -999.000,   -999.0,9,   -999.0,  -999.00,9,-999.0000,9,-999.0000,9,-999.0000,9,-999.0000,9,-999.0000,9,-999.0000,9
  33RR20070204,  I08S,    50,  2,     23,     23,2,20070302,1555,-47.1503,  93.1585, 3308,    425.6,   4.6529,  34.2650,2,  34.2642,2,    231.8,2,    231.6,2,    21.67,2,    28.47,2,     0.00,2,     1.96,2,    3.384,2,    1.794,2, -999.000,5,   2176.3,2,   2282.8,2,   -999.0,9,  -999.00,9, -999.000,9, -999.000,-999.0000,9,-999.0000,  -999.00,9,  -999.00, -999.000,9, -999.000,   -999.0,9,   -999.0,  -999.00,9,-999.0000,9,-999.0000,9,-999.0000,9,-999.0000,9,-999.0000,9,-999.0000,9
  33RR20070204,  I08S,    50,  2,     22,     22,2,20070302,1555,-47.1503,  93.1585, 3308,    476.4,   4.2179,  34.2642,2,  34.2650,2,    229.2,2,    229.0,2,    25.58,2,    29.46,2,     0.00,2,     2.03,2, -999.000,9, -999.000,9, -999.000,9,   2184.4,2,   2285.4,2,   -999.0,9,  -999.00,9, -999.000,9, -999.000,-999.0000,9,-999.0000,  -999.00,9,  -999.00, -999.000,9, -999.000,   -999.0,9,   -999.0,  -999.00,9,-999.0000,9,-999.0000,9,-999.0000,9,-999.0000,9,-999.0000,9,-999.0000,9
  33RR20070204,  I08S,    50,  2,     21,     21,2,20070302,1555,-47.1503,  93.1585, 3308,    536.9,   3.8580,  34.2710,2,  34.2699,2,    225.1,2,    225.3,2,    29.92,2,    30.44,2,     0.00,2,     2.09,2,    2.965,2,    1.533,2, -999.000,5,   2191.9,2,   2289.5,2,   -999.0,9,  -999.00,9, -999.000,9, -999.000,-999.0000,9,-999.0000,  -999.00,9,  -999.00, -999.000,9, -999.000,   -999.0,9,   -999.0,  -999.00,9,-999.0000,9,-999.0000,9,-999.0000,9,-999.0000,9,-999.0000,9,-999.0000,9
  33RR20070204,  I08S,    50,  2,     20,     20,2,20070302,1555,-47.1503,  93.1585, 3308,    646.8,   3.4026,  34.2964,2,  34.2974,2,    215.6,2,    215.7,2,    37.81,2,    31.78,2,     0.00,2,     2.19,2,    2.477,2,    1.276,2, -999.000,5,   2204.7,2,   2294.6,2,   -999.0,9,  -999.00,9, -999.000,9, -999.000,-999.0000,9,-999.0000,  -999.00,9,  -999.00, -999.000,9, -999.000,   -999.0,9,   -999.0,  -999.00,9,-999.0000,9,-999.0000,9,-999.0000,9,-999.0000,9,-999.0000,9,-999.0000,9
  33RR20070204,  I08S,    50,  2,     19,     19,2,20070302,1555,-47.1503,  93.1585, 3308,    747.3,   3.2134,  34.3536,2,  34.3521,2,    200.8,2,    201.4,2,    45.51,2,    32.83,2,     0.00,2,     2.27,2,    1.891,2,    0.979,2, -999.000,5,   2217.3,2,   2303.3,2,   -999.0,9,  -999.00,9, -999.000,9, -999.000,-999.0000,9,-999.0000,  -999.00,9,  -999.00, -999.000,9, -999.000,   -999.0,9,   -999.0,  -999.00,9,-999.0000,9,-999.0000,9,-999.0000,9,-999.0000,9,-999.0000,9,-999.0000,9
  33RR20070204,  I08S,    50,  2,     18,     18,2,20070302,1555,-47.1503,  93.1585, 3308,    848.9,   3.0229,  34.4082,2,  34.4071,2,    189.3,2,    190.3,2,    53.01,2,    33.62,2,     0.00,2,     2.33,2, -999.000,9, -999.000,9, -999.000,9,   2228.3,2,   2310.8,2,   -999.0,9,  -999.00,9, -999.000,9, -999.000,-999.0000,9,-999.0000,  -999.00,9,  -999.00, -999.000,9, -999.000,   -999.0,9,   -999.0,  -999.00,9,-999.0000,9,-999.0000,9,-999.0000,9,-999.0000,9,-999.0000,9,-999.0000,9
  33RR20070204,  I08S,    50,  2,     17,     17,2,20070302,1555,-47.1503,  93.1585, 3308,    948.5,   2.8838,  34.4558,2,  34.4558,2,    183.0,2,    183.1,2,    58.85,2,    34.01,2,     0.00,2,     2.35,2, -999.000,9, -999.000,9, -999.000,9,   2236.3,2,   2316.3,2,   -999.0,9,  -999.00,9, -999.000,9, -999.000,-999.0000,9,-999.0000,  -999.00,9,  -999.00, -999.000,9, -999.000,   -999.0,9,   -999.0,  -999.00,9,-999.0000,9,-999.0000,9,-999.0000,9,-999.0000,9,-999.0000,9,-999.0000,9
  33RR20070204,  I08S,    50,  2,     16,     16,2,20070302,1555,-47.1503,  93.1585, 3308,   1049.0,   2.7430,  34.5102,2,  34.5092,2,    177.8,2,    178.3,2,    64.05,2,    34.00,2,     0.00,2,     2.35,2, -999.000,9, -999.000,9, -999.000,9,   2242.1,2,   2321.7,2,   -999.0,9,  -999.00,9, -999.000,9, -999.000,-999.0000,9,-999.0000,  -999.00,9,  -999.00, -999.000,9, -999.000,   -999.0,9,   -999.0,  -999.00,9,-999.0000,9,-999.0000,9,-999.0000,9,-999.0000,9,-999.0000,9,-999.0000,9
  33RR20070204,  I08S,    50,  2,     15,     15,2,20070302,1555,-47.1503,  93.1585, 3308,   1151.0,   2.6812,  34.5579,2,  34.5577,2,    175.7,2,    175.7,2,    66.94,2,    33.80,2,     0.00,2,     2.33,2, -999.000,9, -999.000,9, -999.000,9,   -999.0,9,   -999.0,9,   -999.0,9,  -999.00,9, -999.000,9, -999.000,-999.0000,9,-999.0000,  -999.00,9,  -999.00, -999.000,9, -999.000,   -999.0,9,   -999.0,  -999.00,9,-999.0000,9,-999.0000,9,-999.0000,9,-999.0000,9,-999.0000,9,-999.0000,9
  33RR20070204,  I08S,    50,  2,     14,     14,2,20070302,1555,-47.1503,  93.1585, 3308,   1251.1,   2.5975,  34.6008,2,  34.6011,2,    176.0,2,    176.4,2,    69.41,2,    33.14,2,     0.00,2,     2.30,2, -999.000,9, -999.000,9, -999.000,9,   2246.2,2,   2330.2,2,   -999.0,9,  -999.00,9, -999.000,9, -999.000,-999.0000,9,-999.0000,  -999.00,9,  -999.00, -999.000,9, -999.000,   -999.0,9,   -999.0,  -999.00,9,-999.0000,9,-999.0000,9,-999.0000,9,-999.0000,9,-999.0000,9,-999.0000,9
  33RR20070204,  I08S,    50,  2,     13,     13,2,20070302,1555,-47.1503,  93.1585, 3308,   1351.6,   2.5612,  34.6281,2,  34.6294,2,    177.3,2,    177.5,2,    70.83,2,    32.74,2,     0.00,2,     2.27,2, -999.000,9, -999.000,9, -999.000,9,   -999.0,9,   -999.0,9,   -999.0,9,  -999.00,9, -999.000,9, -999.000,-999.0000,9,-999.0000,  -999.00,9,  -999.00, -999.000,9, -999.000,   -999.0,9,   -999.0,  -999.00,9,-999.0000,9,-999.0000,9,-999.0000,9,-999.0000,9,-999.0000,9,-999.0000,9
  33RR20070204,  I08S,    50,  2,     12,     12,2,20070302,1555,-47.1503,  93.1585, 3308,   1452.7,   2.5019,  34.6627,2,  34.6637,2,    179.9,2,    179.6,2,    71.82,2,    32.23,2,     0.00,2,     2.23,2, -999.000,9, -999.000,9, -999.000,9,   -999.0,9,   -999.0,9,   -999.0,9,  -999.00,9, -999.000,9, -999.000,-999.0000,9,-999.0000,  -999.00,9,  -999.00, -999.000,9, -999.000,   -999.0,9,   -999.0,  -999.00,9,-999.0000,9,-999.0000,9,-999.0000,9,-999.0000,9,-999.0000,9,-999.0000,9
  33RR20070204,  I08S,    50,  2,     11,     11,2,20070302,1555,-47.1503,  93.1585, 3308,   1553.4,   2.4476,  34.6915,2,  34.6924,2,    183.6,2,    183.2,2,    73.24,2,    31.53,2,     0.00,2,     2.18,2, -999.000,9, -999.000,9, -999.000,9,   -999.0,9,   -999.0,9,   -999.0,9,  -999.00,9, -999.000,9, -999.000,-999.0000,9,-999.0000,  -999.00,9,  -999.00, -999.000,9, -999.000,   -999.0,9,   -999.0,  -999.00,9,-999.0000,9,-999.0000,9,-999.0000,9,-999.0000,9,-999.0000,9,-999.0000,9
  33RR20070204,  I08S,    50,  2,     10,     10,2,20070302,1555,-47.1503,  93.1585, 3308,   1653.7,   2.3851,  34.7131,2,  34.7138,2,    186.7,2,    186.6,2,    74.03,2,    31.08,2,     0.00,2,     2.15,2, -999.000,9, -999.000,9, -999.000,9,   -999.0,9,   2336.6,2,   -999.0,9,  -999.00,9, -999.000,9, -999.000,-999.0000,9,-999.0000,  -999.00,9,  -999.00, -999.000,9, -999.000,   -999.0,9,   -999.0,  -999.00,9,-999.0000,9,-999.0000,9,-999.0000,9,-999.0000,9,-999.0000,9,-999.0000,9
  33RR20070204,  I08S,    50,  2,      9,      9,2,20070302,1555,-47.1503,  93.1585, 3308,   1755.1,   2.3218,  34.7292,2,  34.7307,2,    189.6,2,    189.5,2,    75.44,2,    30.58,2,     0.00,2,     2.11,2, -999.000,9, -999.000,9, -999.000,9,   -999.0,9,   -999.0,9,   -999.0,9,  -999.00,9, -999.000,9, -999.000,-999.0000,9,-999.0000,  -999.00,9,  -999.00, -999.000,9, -999.000,   -999.0,9,   -999.0,  -999.00,9,-999.0000,9,-999.0000,9,-999.0000,9,-999.0000,9,-999.0000,9,-999.0000,9
  33RR20070204,  I08S,    50,  2,      8,      8,2,20070302,1555,-47.1503,  93.1585, 3308,   1855.9,   2.2296,  34.7399,2,  34.7410,2,    192.1,2,    192.3,2,    77.71,2,    30.37,2,     0.00,2,     2.09,2, -999.000,9, -999.000,9, -999.000,9,   -999.0,9,   -999.0,9,   -999.0,9,  -999.00,9, -999.000,9, -999.000,-999.0000,9,-999.0000,  -999.00,9,  -999.00, -999.000,9, -999.000,   -999.0,9,   -999.0,  -999.00,9,-999.0000,9,-999.0000,9,-999.0000,9,-999.0000,9,-999.0000,9,-999.0000,9
  33RR20070204,  I08S,    50,  2,      7,      7,2,20070302,1555,-47.1503,  93.1585, 3308,   1958.5,   2.1524,  34.7476,2,  34.7490,2,    194.2,2,    194.5,2,    79.77,2,    30.12,2,     0.00,2,     2.08,2, -999.000,9, -999.000,9, -999.000,9,   -999.0,9,   -999.0,9,   -999.0,9,  -999.00,9, -999.000,9, -999.000,-999.0000,9,-999.0000,  -999.00,9,  -999.00, -999.000,9, -999.000,   -999.0,9,   -999.0,  -999.00,9,-999.0000,9,-999.0000,9,-999.0000,9,-999.0000,9,-999.0000,9,-999.0000,9
  33RR20070204,  I08S,    50,  2,      6,      6,2,20070302,1555,-47.1503,  93.1585, 3308,   2119.5,   2.0376,  34.7548,2,  34.7561,2,    196.8,2,    197.2,2,    82.25,2,    29.88,2,     0.00,2,     2.06,2, -999.000,9, -999.000,9, -999.000,9,   2242.5,2,   2346.5,2,   -999.0,9,  -999.00,9, -999.000,9, -999.000,-999.0000,9,-999.0000,  -999.00,9,  -999.00, -999.000,9, -999.000,   -999.0,9,   -999.0,  -999.00,9,-999.0000,9,-999.0000,9,-999.0000,9,-999.0000,9,-999.0000,9,-999.0000,9
  33RR20070204,  I08S,    50,  2,      5,      5,2,20070302,1555,-47.1503,  93.1585, 3308,   2372.7,   1.7818,  34.7523,2,  34.7528,2,    199.3,2,    199.7,2,    91.09,2,    30.21,2,     0.00,2,     2.09,2, -999.000,9, -999.000,9, -999.000,9,   -999.0,9,   -999.0,9,   -999.0,9,  -999.00,9, -999.000,9, -999.000,-999.0000,9,-999.0000,  -999.00,9,  -999.00, -999.000,9, -999.000,   -999.0,9,   -999.0,  -999.00,9,-999.0000,9,-999.0000,9,-999.0000,9,-999.0000,9,-999.0000,9,-999.0000,9
  33RR20070204,  I08S,    50,  2,      4,      4,2,20070302,1555,-47.1503,  93.1585, 3308,   2625.9,   1.4966,  34.7410,2,  34.7420,2,    201.4,2,    201.9,2,   100.38,2,    30.85,2,     0.00,2,     2.13,2, -999.000,9, -999.000,9, -999.000,9,   -999.0,9,   2355.2,2,   -999.0,9,  -999.00,9, -999.000,9, -999.000,-999.0000,9,-999.0000,  -999.00,9,  -999.00, -999.000,9, -999.000,   -999.0,9,   -999.0,  -999.00,9,-999.0000,9,-999.0000,9,-999.0000,9,-999.0000,9,-999.0000,9,-999.0000,9
  33RR20070204,  I08S,    50,  2,      3,      3,2,20070302,1555,-47.1503,  93.1585, 3308,   2879.4,   1.2535,  34.7293,2,  34.7308,2,    204.1,2,    204.5,2,   108.20,2,    31.29,2,     0.00,2,     2.16,2, -999.000,9, -999.000,9, -999.000,9,   -999.0,9,   2356.9,2,   -999.0,9,  -999.00,9, -999.000,9, -999.000,-999.0000,9,-999.0000,  -999.00,9,  -999.00, -999.000,9, -999.000,   -999.0,9,   -999.0,  -999.00,9,-999.0000,9,-999.0000,9,-999.0000,9,-999.0000,9,-999.0000,9,-999.0000,9
  33RR20070204,  I08S,    50,  2,      2,      2,2,20070302,1555,-47.1503,  93.1585, 3308,   3133.2,   1.0293,  34.7179,2,  34.7165,2,    207.5,2,    207.2,2,   114.76,2,    31.59,2,     0.00,2,     2.19,2, -999.000,9, -999.000,9, -999.000,9,   -999.0,9,   2357.6,2,   -999.0,9,  -999.00,9, -999.000,9, -999.000,-999.0000,9,-999.0000,  -999.00,9,  -999.00, -999.000,9, -999.000,   -999.0,9,   -999.0,  -999.00,9,-999.0000,9,-999.0000,9,-999.0000,9,-999.0000,9,-999.0000,9,-999.0000,9
  33RR20070204,  I08S,    50,  2,      1,      1,2,20070302,1555,-47.1503,  93.1585, 3308,   3347.0,   0.9769,  34.7146,2,  34.7159,2,    209.3,2,    208.6,2,   117.05,2,    31.72,2,     0.00,2,     2.19,2, -999.000,9, -999.000,9, -999.000,9,   2258.6,6,   2358.1,2,   -999.0,9,  -999.00,9, -999.000,9, -999.000,-999.0000,9,-999.0000,  -999.00,9,  -999.00, -999.000,9, -999.000,   -999.0,9,   -999.0,  -999.00,9,-999.0000,9,-999.0000,9,-999.0000,9,-999.0000,9,-999.0000,9,-999.0000,9