BOTTLE,20150626SIOCCHRJL
EXPOCODE,SECT_ID,STNNBR,CASTNO,SAMPNO,BTLNBR,BTLNBR_FLAG_W,DATE,TIME,LATITUDE,LONGITUDE,DEPTH,CTDPRS,CTDTMP,CTDSAL,CTDSAL_FLAG_W,SALNTY,SALNTY_FLAG_W,CTDOXY,CTDOXY_FLAG_W,OXYGEN,OXYGEN_FLAG_W,SILCAT,SILCAT_FLAG_W,NITRAT,NITRAT_FLAG_W,NITRIT,NITRIT_FLAG_W,PHSPHT,PHSPHT_FLAG_W,CFC-11,CFC-11_FLAG_W,CFC-12,CFC-12_FLAG_W,CFC113,CFC113_FLAG_W,TCARBN,TCARBN_FLAG_W,ALKALI,ALKALI_FLAG_W,DOC,DOC_FLAG_W,TDN,TDN_FLAG_W,TRITUM,TRITUM_FLAG_W,TRITER,HELIUM,HELIUM_FLAG_W,HELIER,DELHE3,DELHE3_FLAG_W,DELHER,NEON,NEON_FLAG_W,NEONER,DELC14,DELC14_FLAG_W,C14ERR,DELC13,DELC13_FLAG_W,CDOM325,CDOM325_FLAG_W,CDOM340,CDOM340_FLAG_W,CDOM380,CDOM380_FLAG_W,CDOM412,CDOM412_FLAG_W,CDOMSL,CDOMSL_FLAG_W,CDOMSN,CDOMSN_FLAG_W
,,,,,,,,,,,METERS,DBAR,ITS-90,PSS-78,,PSS-78,,UMOL/KG,,UMOL/KG,,UMOL/KG,,UMOL/KG,,UMOL/KG,,UMOL/KG,,PMOL/KG,,PMOL/KG,,PMOL/KG,,UMOL/KG,,UMOL/KG,,UMOL/KG,,UMOL/KG,,TU,,TU,NMOL/KG,,NMOL/KG,PERCNT,,PERCNT,NMOL/KG,,NMOL/KG,/MILLE,,/MILLE,/MILLE,,1/M,,1/M,,1/M,,1/M,,1/NM,,1/NM,
  33RR20070204,  I08S,    56,  3,     34,   9419,2,20070304,0755,-44.4890,  95.0275, 3193,      5.8,  11.4547,  34.3828,2,  34.3822,2,    270.6,2,    271.4,2,     0.88,2,    10.87,2,     0.17,2,     0.88,2,    3.452,2,    2.016,2, -999.000,5,   2082.5,2,   2281.4,2,   -999.0,9,  -999.00,9, -999.000,9, -999.000,-999.0000,9,-999.0000,  -999.00,9,  -999.00, -999.000,9, -999.000,   -999.0,9,   -999.0,  -999.00,9,   0.0806,2,   0.0529,2,   0.0233,2,   0.0177,2,   0.0148,3,   0.0199,3
  33RR20070204,  I08S,    56,  3,     33,     33,2,20070304,0755,-44.4890,  95.0275, 3193,     39.5,  11.2568,  34.4016,2,  34.3999,2,    273.1,2,    273.1,2,     0.83,2,    10.87,2,     0.16,2,     0.88,2,    3.459,2,    2.023,2, -999.000,5,   2081.7,6,   2284.3,2,   -999.0,9,  -999.00,9, -999.000,9, -999.000,-999.0000,9,-999.0000,  -999.00,9,  -999.00, -999.000,9, -999.000,   -999.0,9,   -999.0,  -999.00,9,   0.0940,2,   0.0651,2,   0.0328,2,   0.0250,2,   0.0128,3,   0.0157,3
  33RR20070204,  I08S,    56,  3,     32,     37,2,20070304,0755,-44.4890,  95.0275, 3193,     74.7,  10.7715,  34.4000,2,  34.3991,2,    272.1,2,    271.6,2,     0.98,2,    11.22,2,     0.18,2,     0.91,2,    3.522,2,    2.042,2, -999.000,5,   2086.1,2,   2284.1,2,   -999.0,9,  -999.00,9, -999.000,9, -999.000,-999.0000,9,-999.0000,  -999.00,9,  -999.00, -999.000,9, -999.000,   -999.0,9,   -999.0,  -999.00,9,   0.0903,2,   0.0615,2,   0.0296,2,   0.0218,2,   0.0144,3,   0.0176,3
  33RR20070204,  I08S,    56,  3,     31,     31,2,20070304,0755,-44.4890,  95.0275, 3193,     94.5,   9.9109,  34.3831,2,  34.3828,2,    271.7,2,    271.6,2,     1.12,2,    12.55,2,     0.41,2,     1.02,2,    3.615,2,    2.052,2, -999.000,5,   2096.0,2,   2282.4,2,   -999.0,9,  -999.00,9, -999.000,9, -999.000,-999.0000,9,-999.0000,  -999.00,9,  -999.00, -999.000,9, -999.000,   -999.0,9,   -999.0,  -999.00,9,   0.0917,2,   0.0640,2,   0.0326,2,   0.0238,2,   0.0144,2,   0.0166,3
  33RR20070204,  I08S,    56,  3,     30,     30,2,20070304,0755,-44.4890,  95.0275, 3193,    125.0,   8.8863,  34.3977,2,  34.3979,2,    266.8,2,    267.2,2,     2.31,2,    15.93,2,     0.09,2,     1.17,2, -999.000,9, -999.000,9, -999.000,9,   -999.0,9,   -999.0,9,   -999.0,9,  -999.00,9, -999.000,9, -999.000,-999.0000,9,-999.0000,  -999.00,9,  -999.00, -999.000,9, -999.000,   -999.0,9,   -999.0,  -999.00,9,   0.0892,2,   0.0613,2,   0.0332,2,   0.0259,2,   0.0135,3,   0.0153,3
  33RR20070204,  I08S,    56,  3,     29,     29,2,20070304,0755,-44.4890,  95.0275, 3193,    144.9,   8.3452,  34.3919,2,  34.3965,2,    263.9,2,    266.4,2,     3.68,2,    17.34,2,     0.01,2,     1.24,2,    3.908,2,    2.213,2, -999.000,5,   2119.0,2,   2279.0,2,   -999.0,9,  -999.00,9, -999.000,9, -999.000,-999.0000,9,-999.0000,  -999.00,9,  -999.00, -999.000,9, -999.000,   -999.0,9,   -999.0,  -999.00,9,   0.0962,2,   0.0677,2,   0.0394,2,   0.0314,2,   0.0121,3,   0.0132,3
  33RR20070204,  I08S,    56,  3,     28,     28,2,20070304,0755,-44.4890,  95.0275, 3193,    174.6,   8.3913,  34.4507,2,  34.4505,2,    260.8,2,    262.6,2,     4.66,2,    17.42,2,     0.01,2,     1.24,2,    3.790,2,    2.157,2, -999.000,5,   -999.0,9,   -999.0,9,   -999.0,9,  -999.00,9, -999.000,9, -999.000,-999.0000,9,-999.0000,  -999.00,9,  -999.00, -999.000,9, -999.000,   -999.0,9,   -999.0,  -999.00,9,   0.0840,2,   0.0576,2,   0.0320,2,   0.0254,2,   0.0128,3,   0.0145,3
  33RR20070204,  I08S,    56,  3,     27,     27,2,20070304,0755,-44.4890,  95.0275, 3193,    225.0,   8.2566,  34.4677,2,  34.4670,2,    260.6,2,    261.1,2,     5.43,2,    17.66,2,     0.01,2,     1.25,2, -999.000,9, -999.000,9, -999.000,9,   -999.0,9,   -999.0,9,   -999.0,9,  -999.00,9, -999.000,9, -999.000,-999.0000,9,-999.0000,  -999.00,9,  -999.00, -999.000,9, -999.000,   -999.0,9,   -999.0,  -999.00,9,   0.0797,2,   0.0539,2,   0.0301,2,   0.0238,2,   0.0129,3,   0.0148,3
  33RR20070204,  I08S,    56,  3,     26,     26,2,20070304,0755,-44.4890,  95.0275, 3193,    274.7,   7.9142,  34.4282,2,  34.4283,2,    258.1,2,    257.7,2,     5.99,2,    18.75,2,     0.01,2,     1.32,2, -999.000,9, -999.000,9, -999.000,9,   2127.8,2,   2280.5,2,   -999.0,9,  -999.00,9, -999.000,9, -999.000,-999.0000,9,-999.0000,  -999.00,9,  -999.00, -999.000,9, -999.000,   -999.0,9,   -999.0,  -999.00,9,   0.0808,2,   0.0546,2,   0.0303,2,   0.0238,2,   0.0129,3,   0.0149,3
  33RR20070204,  I08S,    56,  3,     25,     25,2,20070304,0755,-44.4890,  95.0275, 3193,    325.2,   7.6191,  34.4180,2,  34.4165,2,    249.7,2,    245.0,2,     7.79,2,    20.36,2,     0.01,2,     1.43,2, -999.000,9, -999.000,9, -999.000,9,   2136.8,2,   2280.8,2,   -999.0,9,  -999.00,9, -999.000,9, -999.000,-999.0000,9,-999.0000,  -999.00,9,  -999.00, -999.000,9, -999.000,   -999.0,9,   -999.0,  -999.00,9,   0.0920,2,   0.0635,2,   0.0363,2,   0.0284,2,   0.0125,3,   0.0139,3
  33RR20070204,  I08S,    56,  3,     24,     24,2,20070304,0755,-44.4890,  95.0275, 3193,    375.5,   7.4744,  34.4363,2,  34.4336,2,    232.3,2,    232.4,2,     9.80,2,    21.83,2,     0.01,2,     1.51,2, -999.000,9, -999.000,9, -999.000,9,   -999.0,9,   -999.0,9,   -999.0,9,  -999.00,9, -999.000,9, -999.000,-999.0000,9,-999.0000,  -999.00,9,  -999.00, -999.000,9, -999.000,   -999.0,9,   -999.0,  -999.00,9,   0.0852,2,   0.0573,2,   0.0315,2,   0.0244,2,   0.0134,3,   0.0154,3
  33RR20070204,  I08S,    56,  3,     23,     23,2,20070304,0755,-44.4890,  95.0275, 3193,    425.4,   7.1129,  34.4321,2,  34.4306,2,    224.2,2,    222.9,2,    12.22,2,    23.45,2,     0.01,2,     1.61,2, -999.000,9, -999.000,9, -999.000,9,   2154.8,2,   2283.8,2,   -999.0,9,  -999.00,9, -999.000,9, -999.000,-999.0000,9,-999.0000,  -999.00,9,  -999.00, -999.000,9, -999.000,   -999.0,9,   -999.0,  -999.00,9,   0.0867,2,   0.0583,2,   0.0320,2,   0.0246,2,   0.0134,3,   0.0154,3
  33RR20070204,  I08S,    56,  3,     22,     22,2,20070304,0755,-44.4890,  95.0275, 3193,    475.3,   6.6109,  34.4074,2,  34.4082,2,    217.8,2,    217.3,2,    14.65,2,    24.83,2,     0.00,2,     1.73,2, -999.000,9, -999.000,9, -999.000,9,   -999.0,9,   -999.0,9,   -999.0,9,  -999.00,9, -999.000,9, -999.000,-999.0000,9,-999.0000,  -999.00,9,  -999.00, -999.000,9, -999.000,   -999.0,9,   -999.0,  -999.00,9,   0.0898,2,   0.0607,2,   0.0335,2,   0.0255,2,   0.0135,3,   0.0153,3
  33RR20070204,  I08S,    56,  3,     21,     21,2,20070304,0755,-44.4890,  95.0275, 3193,    535.9,   5.9079,  34.3600,2,  34.3584,2,    218.0,2,    218.2,2,    17.70,2,    26.50,2,     0.00,2,     1.83,2, -999.000,9, -999.000,9, -999.000,9,   2168.4,2,   2283.6,2,   -999.0,9,  -999.00,9, -999.000,9, -999.000,-999.0000,9,-999.0000,  -999.00,9,  -999.00, -999.000,9, -999.000,   -999.0,9,   -999.0,  -999.00,9,   0.0959,2,   0.0657,2,   0.0372,2,   0.0287,2,   0.0129,3,   0.0144,3
  33RR20070204,  I08S,    56,  3,     20,     20,2,20070304,0755,-44.4890,  95.0275, 3193,    646.2,   4.9231,  34.3130,2,  34.3121,2,    220.0,2,    220.7,2,    22.60,2,    28.42,2,     0.00,2,     1.96,2, -999.000,9, -999.000,9, -999.000,9,   -999.0,9,   -999.0,9,   -999.0,9,  -999.00,9, -999.000,9, -999.000,-999.0000,9,-999.0000,  -999.00,9,  -999.00, -999.000,9, -999.000,   -999.0,9,   -999.0,  -999.00,9,   0.0895,2,   0.0599,2,   0.0333,2,   0.0252,2,   0.0137,3,   0.0156,3
  33RR20070204,  I08S,    56,  3,     19,     19,2,20070304,0755,-44.4890,  95.0275, 3193,    746.8,   4.2624,  34.3033,2,  34.3020,2,    218.6,2,    218.5,2,    28.35,2,    29.81,2,     0.00,2,     2.07,2, -999.000,9, -999.000,9, -999.000,9,   2186.9,2,   2289.0,2,   -999.0,9,  -999.00,9, -999.000,9, -999.000,-999.0000,9,-999.0000,  -999.00,9,  -999.00, -999.000,9, -999.000,   -999.0,9,   -999.0,  -999.00,9,   0.0949,2,   0.0639,2,   0.0361,2,   0.0278,2,   0.0132,3,   0.0148,3
  33RR20070204,  I08S,    56,  3,     18,     18,2,20070304,0755,-44.4890,  95.0275, 3193,    847.8,   3.8711,  34.3209,2,  34.3203,2,    214.6,2,    211.6,2,    34.31,2,    30.96,2,     0.00,2,     2.15,2, -999.000,9, -999.000,9, -999.000,9,   -999.0,9,   -999.0,9,   -999.0,9,  -999.00,9, -999.000,9, -999.000,-999.0000,9,-999.0000,  -999.00,9,  -999.00, -999.000,9, -999.000,   -999.0,9,   -999.0,  -999.00,9,   0.0996,2,   0.0674,2,   0.0382,2,   0.0293,2,   0.0134,3,   0.0148,3
  33RR20070204,  I08S,    56,  3,     17,     17,2,20070304,0755,-44.4890,  95.0275, 3193,    947.4,   3.5529,  34.3710,2,  34.3680,2,    199.7,2,    198.3,2,    42.99,2,    32.26,2,     0.00,2,     2.24,2, -999.000,9, -999.000,9, -999.000,9,   2211.3,2,   2303.5,2,   -999.0,9,  -999.00,9, -999.000,9, -999.000,-999.0000,9,-999.0000,  -999.00,9,  -999.00, -999.000,9, -999.000,   -999.0,9,   -999.0,  -999.00,9,   0.1042,2,   0.0706,2,   0.0393,2,   0.0297,2,   0.0136,3,   0.0151,3
  33RR20070204,  I08S,    56,  3,     16,     16,2,20070304,0755,-44.4890,  95.0275, 3193,   1049.0,   3.2916,  34.4114,2,  34.4102,2,    191.2,2,    189.2,2,    49.81,2,    33.18,2,     0.00,2,     2.31,2, -999.000,9, -999.000,9, -999.000,9,   -999.0,9,   -999.0,9,   -999.0,9,  -999.00,9, -999.000,9, -999.000,-999.0000,9,-999.0000,  -999.00,9,  -999.00, -999.000,9, -999.000,   -999.0,9,   -999.0,  -999.00,9,   0.1101,2,   0.0748,2,   0.0418,2,   0.0316,2,   0.0135,3,   0.0149,3
  33RR20070204,  I08S,    56,  3,     15,     15,2,20070304,0755,-44.4890,  95.0275, 3193,   1149.1,   3.1158,  34.4617,2,  34.4580,2,    182.7,2,    181.2,2,    56.01,2,    33.57,2,     0.00,2,     2.34,2, -999.000,9, -999.000,9, -999.000,9,   2231.5,2,   2313.5,2,   -999.0,9,  -999.00,9, -999.000,9, -999.000,-999.0000,9,-999.0000,  -999.00,9,  -999.00, -999.000,9, -999.000,   -999.0,9,   -999.0,  -999.00,9,   0.1186,2,   0.0820,2,   0.0466,2,   0.0349,2,   0.0135,3,   0.0145,3
  33RR20070204,  I08S,    56,  3,     14,     14,2,20070304,0755,-44.4890,  95.0275, 3193,   1249.7,   2.9425,  34.5085,2,  34.5069,2,    177.3,2,    176.3,2,    61.39,2,    33.70,2,     0.00,2,     2.35,2, -999.000,9, -999.000,9, -999.000,9,   -999.0,9,   -999.0,9,   -999.0,9,  -999.00,9, -999.000,9, -999.000,-999.0000,9,-999.0000,  -999.00,9,  -999.00, -999.000,9, -999.000,   -999.0,9,   -999.0,  -999.00,9,   0.1216,2,   0.0843,2,   0.0478,2,   0.0362,2,   0.0136,3,   0.0145,3
  33RR20070204,  I08S,    56,  3,     13,     13,2,20070304,0755,-44.4890,  95.0275, 3193,   1351.2,   2.8173,  34.5480,2,  34.5465,2,    175.2,2,    174.3,2,    65.10,2,    33.70,2,     0.00,2,     2.34,2, -999.000,9, -999.000,9, -999.000,9,   2242.9,6,   2326.1,2,   -999.0,9,  -999.00,9, -999.000,9, -999.000,-999.0000,9,-999.0000,  -999.00,9,  -999.00, -999.000,9, -999.000,   -999.0,9,   -999.0,  -999.00,9,   0.1232,2,   0.0857,2,   0.0482,2,   0.0360,2,   0.0137,3,   0.0146,3
  33RR20070204,  I08S,    56,  3,     12,     12,2,20070304,0755,-44.4890,  95.0275, 3193,   1451.1,   2.7296,  34.5810,2,  34.5799,2,    174.1,2,    174.3,2,    67.58,2,    33.36,2,     0.00,2,     2.32,2, -999.000,9, -999.000,9, -999.000,9,   -999.0,9,   -999.0,9,   -999.0,9,  -999.00,9, -999.000,9, -999.000,-999.0000,9,-999.0000,  -999.00,9,  -999.00, -999.000,9, -999.000,   -999.0,9,   -999.0,  -999.00,9,   0.1224,2,   0.0847,2,   0.0471,2,   0.0348,2,   0.0138,3,   0.0149,3
  33RR20070204,  I08S,    56,  3,     11,     11,2,20070304,0755,-44.4890,  95.0275, 3193,   1552.3,   2.6214,  34.6243,2,  34.6229,2,    174.7,2,    175.5,2,    70.67,2,    32.78,2,     0.00,2,     2.28,2, -999.000,9, -999.000,9, -999.000,9,   2244.4,2,   2332.7,2,   -999.0,9,  -999.00,9, -999.000,9, -999.000,-999.0000,9,-999.0000,  -999.00,9,  -999.00, -999.000,9, -999.000,   -999.0,9,   -999.0,  -999.00,9,   0.1228,2,   0.0850,2,   0.0467,2,   0.0345,2,   0.0138,3,   0.0151,3
  33RR20070204,  I08S,    56,  3,     10,     10,2,20070304,0755,-44.4890,  95.0275, 3193,   1653.1,   2.5451,  34.6565,2,  34.6558,2,    177.8,2,    178.8,2,    71.46,2,    32.14,2,     0.00,2,     2.23,2, -999.000,9, -999.000,9, -999.000,9,   -999.0,9,   -999.0,9,   -999.0,9,  -999.00,9, -999.000,9, -999.000,-999.0000,9,-999.0000,  -999.00,9,  -999.00, -999.000,9, -999.000,   -999.0,9,   -999.0,  -999.00,9,   0.1256,2,   0.0874,2,   0.0480,2,   0.0353,2,   0.0139,3,   0.0151,3
  33RR20070204,  I08S,    56,  3,      9,      9,2,20070304,0755,-44.4890,  95.0275, 3193,   1754.4,   2.4983,  34.6823,2,  34.6959,0,    180.7,2,    181.8,2,    72.26,2,    31.62,2,     0.00,2,     2.19,2, -999.000,9, -999.000,9, -999.000,9,   -999.0,9,   -999.0,9,   -999.0,9,  -999.00,9, -999.000,9, -999.000,-999.0000,9,-999.0000,  -999.00,9,  -999.00, -999.000,9, -999.000,   -999.0,9,   -999.0,  -999.00,9,   0.1258,2,   0.0873,2,   0.0479,2,   0.0352,2,   0.0139,3,   0.0151,3
  33RR20070204,  I08S,    56,  3,      8,      8,2,20070304,0755,-44.4890,  95.0275, 3193,   1855.0,   2.4323,  34.7080,2,  34.7079,2,    185.0,2,    185.4,2,    73.06,2,    30.93,2,     0.00,2,     2.14,2, -999.000,9, -999.000,9, -999.000,9,   -999.0,9,   -999.0,9,   -999.0,9,  -999.00,9, -999.000,9, -999.000,-999.0000,9,-999.0000,  -999.00,9,  -999.00, -999.000,9, -999.000,   -999.0,9,   -999.0,  -999.00,9,   0.1258,2,   0.0864,2,   0.0460,2,   0.0334,2,   0.0142,3,   0.0158,3
  33RR20070204,  I08S,    56,  3,      7,      7,2,20070304,0755,-44.4890,  95.0275, 3193,   1956.9,   2.3754,  34.7240,2,  34.7236,2,    187.9,2,    188.3,2,    74.27,2,    30.55,2,     0.00,2,     2.12,2, -999.000,9, -999.000,9, -999.000,9,   -999.0,9,   -999.0,9,   -999.0,9,  -999.00,9, -999.000,9, -999.000,-999.0000,9,-999.0000,  -999.00,9,  -999.00, -999.000,9, -999.000,   -999.0,9,   -999.0,  -999.00,9,   0.1239,2,   0.0859,2,   0.0468,2,   0.0342,2,   0.0141,2,   0.0154,3
  33RR20070204,  I08S,    56,  3,      6,      6,2,20070304,0755,-44.4890,  95.0275, 3193,   2117.5,   2.2528,  34.7439,2,  34.7441,2,    192.2,2,    192.8,2,    77.80,2,    30.12,2,     0.00,2,     2.08,2, -999.000,9, -999.000,9, -999.000,9,   -999.0,9,   -999.0,9,   -999.0,9,  -999.00,9, -999.000,9, -999.000,-999.0000,9,-999.0000,  -999.00,9,  -999.00, -999.000,9, -999.000,   -999.0,9,   -999.0,  -999.00,9,   0.1258,2,   0.0874,2,   0.0478,2,   0.0353,2,   0.0139,3,   0.0151,3
  33RR20070204,  I08S,    56,  3,      5,      5,2,20070304,0755,-44.4890,  95.0275, 3193,   2371.0,   2.0434,  34.7545,2,  34.7539,2,    196.4,2,    197.4,2,    83.43,2,    29.96,2,     0.00,2,     2.06,2, -999.000,9, -999.000,9, -999.000,9,   2241.5,2,   2346.9,2,   -999.0,9,  -999.00,9, -999.000,9, -999.000,-999.0000,9,-999.0000,  -999.00,9,  -999.00, -999.000,9, -999.000,   -999.0,9,   -999.0,  -999.00,9,   0.1324,2,   0.0933,2,   0.0516,2,   0.0385,2,   0.0137,3,   0.0147,3
  33RR20070204,  I08S,    56,  3,      4,      4,2,20070304,0755,-44.4890,  95.0275, 3193,   2624.6,   1.7465,  34.7486,2,  34.7480,2,    199.0,2,    199.1,2,    93.51,2,    30.31,2,     0.00,2,     2.10,2, -999.000,9, -999.000,9, -999.000,9,   -999.0,9,   -999.0,9,   -999.0,9,  -999.00,9, -999.000,9, -999.000,-999.0000,9,-999.0000,  -999.00,9,  -999.00, -999.000,9, -999.000,   -999.0,9,   -999.0,  -999.00,9,   0.1264,2,   0.0880,2,   0.0481,2,   0.0350,2,   0.0141,2,   0.0152,3
  33RR20070204,  I08S,    56,  3,      3,      3,2,20070304,0755,-44.4890,  95.0275, 3193,   2878.4,   1.5236,  34.7392,2,  34.7395,2,    201.0,2,    200.9,2,   101.28,2,    30.78,2,     0.00,2,     2.13,2, -999.000,9, -999.000,9, -999.000,9,   -999.0,9,   -999.0,9,   -999.0,9,  -999.00,9, -999.000,9, -999.000,-999.0000,9,-999.0000,  -999.00,9,  -999.00, -999.000,9, -999.000,   -999.0,9,   -999.0,  -999.00,9,   0.1254,2,   0.0873,2,   0.0473,2,   0.0343,2,   0.0141,2,   0.0154,3
  33RR20070204,  I08S,    56,  3,      2,      2,2,20070304,0755,-44.4890,  95.0275, 3193,   3080.7,   1.4996,  34.7375,2,  34.7359,0,    201.5,2,    201.4,2,   102.72,2,    30.77,2,     0.00,2,     2.13,2, -999.000,9, -999.000,9, -999.000,9,   -999.0,9,   -999.0,9,   -999.0,9,  -999.00,9, -999.000,9, -999.000,-999.0000,9,-999.0000,  -999.00,9,  -999.00, -999.000,9, -999.000,   -999.0,9,   -999.0,  -999.00,9,   0.1238,2,   0.0859,2,   0.0462,2,   0.0334,2,   0.0142,2,   0.0156,3
  33RR20070204,  I08S,    56,  3,      1,      1,2,20070304,0755,-44.4890,  95.0275, 3193,   3230.7,   1.5124,  34.7374,2,  34.7379,2,    201.4,2,    201.3,2,   102.47,2,    30.77,2,     0.00,2,     2.13,2, -999.000,9, -999.000,9, -999.000,9,   2252.5,2,   2356.3,2,   -999.0,9,  -999.00,9, -999.000,9, -999.000,-999.0000,9,-999.0000,  -999.00,9,  -999.00, -999.000,9, -999.000,   -999.0,9,   -999.0,  -999.00,9,   0.1289,2,   0.0899,2,   0.0491,2,   0.0353,2,   0.0141,2,   0.0153,3