BOTTLE,20150626SIOCCHRJL
EXPOCODE,SECT_ID,STNNBR,CASTNO,SAMPNO,BTLNBR,BTLNBR_FLAG_W,DATE,TIME,LATITUDE,LONGITUDE,DEPTH,CTDPRS,CTDTMP,CTDSAL,CTDSAL_FLAG_W,SALNTY,SALNTY_FLAG_W,CTDOXY,CTDOXY_FLAG_W,OXYGEN,OXYGEN_FLAG_W,SILCAT,SILCAT_FLAG_W,NITRAT,NITRAT_FLAG_W,NITRIT,NITRIT_FLAG_W,PHSPHT,PHSPHT_FLAG_W,CFC-11,CFC-11_FLAG_W,CFC-12,CFC-12_FLAG_W,CFC113,CFC113_FLAG_W,TCARBN,TCARBN_FLAG_W,ALKALI,ALKALI_FLAG_W,DOC,DOC_FLAG_W,TDN,TDN_FLAG_W,TRITUM,TRITUM_FLAG_W,TRITER,HELIUM,HELIUM_FLAG_W,HELIER,DELHE3,DELHE3_FLAG_W,DELHER,NEON,NEON_FLAG_W,NEONER,DELC14,DELC14_FLAG_W,C14ERR,DELC13,DELC13_FLAG_W,CDOM325,CDOM325_FLAG_W,CDOM340,CDOM340_FLAG_W,CDOM380,CDOM380_FLAG_W,CDOM412,CDOM412_FLAG_W,CDOMSL,CDOMSL_FLAG_W,CDOMSN,CDOMSN_FLAG_W
,,,,,,,,,,,METERS,DBAR,ITS-90,PSS-78,,PSS-78,,UMOL/KG,,UMOL/KG,,UMOL/KG,,UMOL/KG,,UMOL/KG,,UMOL/KG,,PMOL/KG,,PMOL/KG,,PMOL/KG,,UMOL/KG,,UMOL/KG,,UMOL/KG,,UMOL/KG,,TU,,TU,NMOL/KG,,NMOL/KG,PERCNT,,PERCNT,NMOL/KG,,NMOL/KG,/MILLE,,/MILLE,/MILLE,,1/M,,1/M,,1/M,,1/M,,1/NM,,1/NM,
  33RR20070204,  I08S,    17,  1,     27,     27,2,20070219,1829,-60.4802,  82.0018, 1778,      3.5,   0.8837,  33.8250,2,  33.8263,2,    332.7,2,    335.6,2,    31.15,2,    23.89,2,     0.21,2,     1.56,2,    6.801,4,    3.653,4, -999.000,5,   2150.0,6,   2291.0,2,     48.1,2,    28.66,2, -999.000,9, -999.000,-999.0000,9,-999.0000,  -999.00,9,  -999.00, -999.000,9, -999.000,   -999.0,9,   -999.0,  -999.00,9,-999.0000,9,-999.0000,9,-999.0000,9,-999.0000,9,-999.0000,9,-999.0000,9
  33RR20070204,  I08S,    17,  1,     26,     26,2,20070219,1829,-60.4802,  82.0018, 1778,     38.9,   0.8534,  33.8309,2,  33.8304,2,    334.5,2,    334.5,2,    31.34,2,    23.89,2,     0.21,2,     1.57,2,    5.827,2,    3.111,2, -999.000,5,   2153.1,2,   2289.6,2,     47.9,2,    28.26,2, -999.000,9, -999.000,-999.0000,9,-999.0000,  -999.00,9,  -999.00, -999.000,9, -999.000,   -109.7,2,      2.9,     1.52,2,-999.0000,9,-999.0000,9,-999.0000,9,-999.0000,9,-999.0000,9,-999.0000,9
  33RR20070204,  I08S,    17,  1,     25,     25,2,20070219,1829,-60.4802,  82.0018, 1778,     74.1,  -0.0097,  34.1238,2,  34.1208,2,    293.3,2,    293.2,2,    56.68,2,    28.98,2,     0.18,2,     2.11,2,    5.786,4,    3.092,4, -999.000,5,   2204.0,2,   2306.3,2,     46.0,2,    33.37,2, -999.000,9, -999.000,-999.0000,9,-999.0000,  -999.00,9,  -999.00, -999.000,9, -999.000,   -112.0,2,      2.1,     0.91,2,-999.0000,9,-999.0000,9,-999.0000,9,-999.0000,9,-999.0000,9,-999.0000,9
  33RR20070204,  I08S,    17,  1,     24,     24,2,20070219,1829,-60.4802,  82.0018, 1778,     93.9,   0.0595,  34.3019,2,  34.2985,2,    265.0,2,    259.6,2,    67.80,2,    31.42,2,     0.16,2,     2.25,2,    4.010,2,    2.114,2, -999.000,5,   2228.0,2,   2315.5,2,     45.1,2,    35.70,2, -999.000,9, -999.000,-999.0000,9,-999.0000,  -999.00,9,  -999.00, -999.000,9, -999.000,   -129.0,2,      2.0,     0.66,2,-999.0000,9,-999.0000,9,-999.0000,9,-999.0000,9,-999.0000,9,-999.0000,9
  33RR20070204,  I08S,    17,  1,     23,     23,2,20070219,1829,-60.4802,  82.0018, 1778,    124.3,   1.1681,  34.5582,2,  34.5436,2,    200.9,2,    200.5,2,    79.35,2,    33.40,2,     0.10,2,     2.30,2,    1.602,2,    0.853,2, -999.000,5,   2253.1,2,   2325.6,2,     44.0,2,    37.76,2, -999.000,9, -999.000,-999.0000,9,-999.0000,  -999.00,9,  -999.00, -999.000,9, -999.000,   -999.0,9,   -999.0,  -999.00,9,-999.0000,9,-999.0000,9,-999.0000,9,-999.0000,9,-999.0000,9,-999.0000,9
  33RR20070204,  I08S,    17,  1,     22,     22,2,20070219,1829,-60.4802,  82.0018, 1778,    144.8,   1.5463,  34.6310,2,  34.6304,2,    187.6,2,    183.3,2,    83.73,2,    33.56,2,     0.05,2,     2.30,2,    0.967,2,    0.527,2, -999.000,5,   2259.0,2,   2335.5,2,     43.9,2,    37.37,2, -999.000,9, -999.000,-999.0000,9,-999.0000,  -999.00,9,  -999.00, -999.000,9, -999.000,   -143.4,2,      2.0,     0.38,2,-999.0000,9,-999.0000,9,-999.0000,9,-999.0000,9,-999.0000,9,-999.0000,9
  33RR20070204,  I08S,    17,  1,     21,     21,2,20070219,1829,-60.4802,  82.0018, 1778,    176.3,   1.7580,  34.6735,2,  34.6728,2,    177.6,2,    177.2,2,    85.51,2,    33.17,2,     0.03,2,     2.29,2,    0.545,2,    0.291,2, -999.000,5,   2259.0,2,   2338.6,2,     44.0,2,    36.39,2, -999.000,9, -999.000,-999.0000,9,-999.0000,  -999.00,9,  -999.00, -999.000,9, -999.000,   -144.6,2,      2.1,     0.40,2,-999.0000,9,-999.0000,9,-999.0000,9,-999.0000,9,-999.0000,9,-999.0000,9
  33RR20070204,  I08S,    17,  1,     20,     20,2,20070219,1829,-60.4802,  82.0018, 1778,    225.9,   1.8364,  34.7008,2,  34.7015,2,    176.9,2,    177.7,2,    86.49,2,    32.60,2,     0.02,2,     2.25,2,    0.418,2,    0.209,2, -999.000,5,   2259.8,6,   2340.3,2,     43.5,2,    36.18,2, -999.000,9, -999.000,-999.0000,9,-999.0000,  -999.00,9,  -999.00, -999.000,9, -999.000,   -142.6,2,      2.0,     0.43,2,-999.0000,9,-999.0000,9,-999.0000,9,-999.0000,9,-999.0000,9,-999.0000,9
  33RR20070204,  I08S,    17,  1,     19,     19,2,20070219,1829,-60.4802,  82.0018, 1778,    275.3,   1.8483,  34.7121,2,  34.7121,2,    180.8,2,    179.3,2,    86.68,2,    32.25,2,     0.02,2,     2.22,2,    0.334,2,    0.167,2, -999.000,5,   2258.3,2,   2343.1,2,     43.2,2,    35.30,2, -999.000,9, -999.000,-999.0000,9,-999.0000,  -999.00,9,  -999.00, -999.000,9, -999.000,   -146.7,2,      2.0,     0.45,2,-999.0000,9,-999.0000,9,-999.0000,9,-999.0000,9,-999.0000,9,-999.0000,9
  33RR20070204,  I08S,    17,  1,     18,     18,2,20070219,1829,-60.4802,  82.0018, 1778,    325.5,   1.8352,  34.7233,2,  34.7235,2,    182.3,2,    182.4,2,    86.86,2,    31.82,2,     0.01,2,     2.19,2,    0.304,2,    0.148,2, -999.000,5,   2255.4,2,   2340.8,2,     42.2,2,    35.73,2, -999.000,9, -999.000,-999.0000,9,-999.0000,  -999.00,9,  -999.00, -999.000,9, -999.000,   -141.1,2,      2.2,     0.48,2,-999.0000,9,-999.0000,9,-999.0000,9,-999.0000,9,-999.0000,9,-999.0000,9
  33RR20070204,  I08S,    17,  1,     17,     17,2,20070219,1829,-60.4802,  82.0018, 1778,    376.4,   1.8004,  34.7318,2,  34.7318,2,    185.5,2,    186.6,2,    86.84,2,    31.37,2,     0.01,2,     2.16,2,    0.260,2,    0.127,2, -999.000,5,   2253.4,2,   2342.5,2,     41.9,2,    35.37,2, -999.000,9, -999.000,-999.0000,9,-999.0000,  -999.00,9,  -999.00, -999.000,9, -999.000,   -143.0,2,      2.0,     0.51,2,-999.0000,9,-999.0000,9,-999.0000,9,-999.0000,9,-999.0000,9,-999.0000,9
  33RR20070204,  I08S,    17,  1,     16,     16,2,20070219,1829,-60.4802,  82.0018, 1778,    426.5,   1.7728,  34.7352,2,  34.7357,2,    188.5,2,    190.1,2,    86.63,2,    30.98,2,     0.01,2,     2.13,2,    0.252,2,    0.120,2, -999.000,5,   2252.2,2,   2342.6,2,     42.0,2,    34.51,2, -999.000,9, -999.000,-999.0000,9,-999.0000,  -999.00,9,  -999.00, -999.000,9, -999.000,   -145.8,2,      2.9,     0.49,2,-999.0000,9,-999.0000,9,-999.0000,9,-999.0000,9,-999.0000,9,-999.0000,9
  33RR20070204,  I08S,    17,  1,     15,     15,2,20070219,1829,-60.4802,  82.0018, 1778,    476.1,   1.7369,  34.7393,2,  34.7400,2,    193.6,2,    192.6,2,    87.21,2,    30.78,2,     0.01,2,     2.12,2,    0.238,2,    0.115,2, -999.000,5,   2249.8,2,   2344.9,2,     41.9,2,    34.02,2, -999.000,9, -999.000,-999.0000,9,-999.0000,  -999.00,9,  -999.00, -999.000,9, -999.000,   -999.0,9,   -999.0,  -999.00,9,-999.0000,9,-999.0000,9,-999.0000,9,-999.0000,9,-999.0000,9,-999.0000,9
  33RR20070204,  I08S,    17,  1,     14,     14,2,20070219,1829,-60.4802,  82.0018, 1778,    526.2,   1.7138,  34.7417,2,  34.7423,2,    194.3,2,    194.2,2,    87.40,2,    30.59,2,     0.00,2,     2.10,2,    0.226,2,    0.108,2, -999.000,5,   2248.7,2,   2345.4,2,     42.1,2,    33.03,2, -999.000,9, -999.000,-999.0000,9,-999.0000,  -999.00,9,  -999.00, -999.000,9, -999.000,   -999.0,9,   -999.0,  -999.00,9,-999.0000,9,-999.0000,9,-999.0000,9,-999.0000,9,-999.0000,9,-999.0000,9
  33RR20070204,  I08S,    17,  1,     13,     13,2,20070219,1829,-60.4802,  82.0018, 1778,    648.6,   1.6056,  34.7442,2,  34.7449,2,    195.8,2,    195.9,2,    90.19,2,    30.59,2,     0.00,2,     2.10,2,    0.205,2,    0.097,2, -999.000,5,   2249.8,2,   2347.2,2,     42.3,2,    33.28,2, -999.000,9, -999.000,-999.0000,9,-999.0000,  -999.00,9,  -999.00, -999.000,9, -999.000,   -158.0,2,      2.6,     0.50,2,-999.0000,9,-999.0000,9,-999.0000,9,-999.0000,9,-999.0000,9,-999.0000,9
  33RR20070204,  I08S,    17,  1,     12,     12,2,20070219,1829,-60.4802,  82.0018, 1778,    749.4,   1.5262,  34.7438,2,  34.7449,2,    197.8,2,    197.5,2,    92.38,2,    30.59,2,     0.00,2,     2.09,2,    0.195,2,    0.091,2, -999.000,5,   2249.4,2,   2344.7,4,     41.9,2,    32.75,2, -999.000,9, -999.000,-999.0000,9,-999.0000,  -999.00,9,  -999.00, -999.000,9, -999.000,   -999.0,9,   -999.0,  -999.00,9,-999.0000,9,-999.0000,9,-999.0000,9,-999.0000,9,-999.0000,9,-999.0000,9
  33RR20070204,  I08S,    17,  1,     11,     11,2,20070219,1829,-60.4802,  82.0018, 1778,    850.6,   1.4288,  34.7424,2,  34.7435,2,    200.5,2,    200.5,2,    94.18,2,    30.39,2,     0.00,2,     2.09,2,    0.189,2,    0.089,2, -999.000,5,   2251.1,2,   2350.4,2,     42.0,2,    33.20,2, -999.000,9, -999.000,-999.0000,9,-999.0000,  -999.00,9,  -999.00, -999.000,9, -999.000,   -161.2,2,      3.2,     0.72,3,-999.0000,9,-999.0000,9,-999.0000,9,-999.0000,9,-999.0000,9,-999.0000,9
  33RR20070204,  I08S,    17,  1,     10,     10,2,20070219,1829,-60.4802,  82.0018, 1778,    950.4,   1.3184,  34.7380,2,  34.7389,2,    200.9,2,    201.2,2,    97.77,2,    30.64,2,     0.00,2,     2.11,2,    0.190,2,    0.087,2, -999.000,5,   2251.4,2,   2351.5,2,     41.3,2,    33.22,2, -999.000,9, -999.000,-999.0000,9,-999.0000,  -999.00,9,  -999.00, -999.000,9, -999.000,   -999.0,9,   -999.0,  -999.00,9,-999.0000,9,-999.0000,9,-999.0000,9,-999.0000,9,-999.0000,9,-999.0000,9
  33RR20070204,  I08S,    17,  1,      9,      9,2,20070219,1829,-60.4802,  82.0018, 1778,   1050.8,   1.2526,  34.7351,2,  34.7362,2,    202.2,2,    202.4,2,    98.76,2,    30.74,2,     0.00,2,     2.12,2,    0.179,2,    0.079,2, -999.000,5,   2252.2,2,   2351.6,2,     41.7,2,    32.56,2, -999.000,9, -999.000,-999.0000,9,-999.0000,  -999.00,9,  -999.00, -999.000,9, -999.000,   -161.4,2,      3.1,     0.68,3,-999.0000,9,-999.0000,9,-999.0000,9,-999.0000,9,-999.0000,9,-999.0000,9
  33RR20070204,  I08S,    17,  1,      8,      8,2,20070219,1829,-60.4802,  82.0018, 1778,   1152.6,   1.1359,  34.7292,2,  34.7305,2,    203.4,2,    203.6,2,   103.17,2,    30.99,2,     0.00,2,     2.13,2,    0.189,2,    0.090,2, -999.000,5,   2253.9,2,   2350.9,2,     41.5,2,    32.33,2, -999.000,9, -999.000,-999.0000,9,-999.0000,  -999.00,9,  -999.00, -999.000,9, -999.000,   -999.0,9,   -999.0,  -999.00,9,-999.0000,9,-999.0000,9,-999.0000,9,-999.0000,9,-999.0000,9,-999.0000,9
  33RR20070204,  I08S,    17,  1,      7,      7,2,20070219,1829,-60.4802,  82.0018, 1778,   1254.4,   1.0541,  34.7244,2,  34.7257,2,    204.7,2,    204.1,2,   105.77,2,    31.19,2,     0.00,2,     2.14,2,    0.188,2,    0.086,2, -999.000,5,   2254.2,2,   2353.6,2,     41.2,2,    32.20,2, -999.000,9, -999.000,-999.0000,9,-999.0000,  -999.00,9,  -999.00, -999.000,9, -999.000,   -163.0,2,      2.4,     0.51,2,-999.0000,9,-999.0000,9,-999.0000,9,-999.0000,9,-999.0000,9,-999.0000,9
  33RR20070204,  I08S,    17,  1,      6,      6,2,20070219,1829,-60.4802,  82.0018, 1778,   1354.5,   0.9743,  34.7201,2,  34.7212,2,    205.3,2,    204.7,2,   108.78,2,    31.34,2,     0.00,2,     2.17,2,    0.188,2,    0.085,2, -999.000,5,   2256.7,2,   2350.4,2,     41.7,2,    33.25,2, -999.000,9, -999.000,-999.0000,9,-999.0000,  -999.00,9,  -999.00, -999.000,9, -999.000,   -999.0,9,   -999.0,  -999.00,9,-999.0000,9,-999.0000,9,-999.0000,9,-999.0000,9,-999.0000,9,-999.0000,9
  33RR20070204,  I08S,    17,  1,      5,      5,2,20070219,1829,-60.4802,  82.0018, 1778,   1457.4,   0.9284,  34.7171,2,  34.7184,2,    205.3,2,    205.1,2,   110.37,2,    31.54,2,     0.00,2,     2.17,2,    0.189,2,    0.087,2, -999.000,5,   2256.6,2,   2353.4,2,     41.6,2,    32.93,2, -999.000,9, -999.000,-999.0000,9,-999.0000,  -999.00,9,  -999.00, -999.000,9, -999.000,   -999.0,9,   -999.0,  -999.00,9,-999.0000,9,-999.0000,9,-999.0000,9,-999.0000,9,-999.0000,9,-999.0000,9
  33RR20070204,  I08S,    17,  1,      4,      4,2,20070219,1829,-60.4802,  82.0018, 1778,   1555.9,   0.8535,  34.7133,2,  34.7149,2,    205.3,2,    205.6,2,   114.39,2,    31.79,2,     0.00,2,     2.19,2,    0.183,2,    0.083,2, -999.000,5,   2258.2,2,   2354.8,2,     41.2,2,    33.28,2, -999.000,9, -999.000,-999.0000,9,-999.0000,  -999.00,9,  -999.00, -999.000,9, -999.000,   -158.2,2,      2.8,     0.48,2,-999.0000,9,-999.0000,9,-999.0000,9,-999.0000,9,-999.0000,9,-999.0000,9
  33RR20070204,  I08S,    17,  1,      3,      3,2,20070219,1829,-60.4802,  82.0018, 1778,   1657.6,   0.7919,  34.7096,2,  34.7107,2,    204.9,2,    204.1,2,   123.47,2,    31.98,2,     0.00,2,     2.21,2,    0.183,2,    0.084,2, -999.000,5,   2260.4,2,   2355.0,2,     41.8,2,    33.35,2, -999.000,9, -999.000,-999.0000,9,-999.0000,  -999.00,9,  -999.00, -999.000,9, -999.000,   -999.0,9,   -999.0,  -999.00,9,-999.0000,9,-999.0000,9,-999.0000,9,-999.0000,9,-999.0000,9,-999.0000,9
  33RR20070204,  I08S,    17,  1,      2,      2,2,20070219,1829,-60.4802,  82.0018, 1778,   1761.1,   0.5086,  34.6947,2,  34.6979,0,    209.1,2,    208.3,2,   131.55,2,    32.47,2,     0.01,2,     2.23,2,    0.176,2,    0.083,2, -999.000,5,   2261.9,2,   2356.5,2,     41.7,2,    33.90,2, -999.000,9, -999.000,-999.0000,9,-999.0000,  -999.00,9,  -999.00, -999.000,9, -999.000,   -999.0,9,   -999.0,  -999.00,9,-999.0000,9,-999.0000,9,-999.0000,9,-999.0000,9,-999.0000,9,-999.0000,9
  33RR20070204,  I08S,    17,  1,      1,      1,2,20070219,1829,-60.4802,  82.0018, 1778,   1787.0,   0.5093,  34.6947,2,  34.6958,2,    208.0,2,    208.9,2,   132.76,2,    32.52,2,     0.01,2,     2.25,2,    0.175,2,    0.082,2, -999.000,5,   2264.4,6,   2357.3,2,     42.5,2,    33.78,2, -999.000,9, -999.000,-999.0000,9,-999.0000,  -999.00,9,  -999.00, -999.000,9, -999.000,   -163.2,2,      2.4,     0.47,2,-999.0000,9,-999.0000,9,-999.0000,9,-999.0000,9,-999.0000,9,-999.0000,9