BOTTLE,20150626SIOCCHRJL
EXPOCODE,SECT_ID,STNNBR,CASTNO,SAMPNO,BTLNBR,BTLNBR_FLAG_W,DATE,TIME,LATITUDE,LONGITUDE,DEPTH,CTDPRS,CTDTMP,CTDSAL,CTDSAL_FLAG_W,SALNTY,SALNTY_FLAG_W,CTDOXY,CTDOXY_FLAG_W,OXYGEN,OXYGEN_FLAG_W,SILCAT,SILCAT_FLAG_W,NITRAT,NITRAT_FLAG_W,NITRIT,NITRIT_FLAG_W,PHSPHT,PHSPHT_FLAG_W,CFC-11,CFC-11_FLAG_W,CFC-12,CFC-12_FLAG_W,CFC113,CFC113_FLAG_W,TCARBN,TCARBN_FLAG_W,ALKALI,ALKALI_FLAG_W,DOC,DOC_FLAG_W,TDN,TDN_FLAG_W,TRITUM,TRITUM_FLAG_W,TRITER,HELIUM,HELIUM_FLAG_W,HELIER,DELHE3,DELHE3_FLAG_W,DELHER,NEON,NEON_FLAG_W,NEONER,DELC14,DELC14_FLAG_W,C14ERR,DELC13,DELC13_FLAG_W,CDOM325,CDOM325_FLAG_W,CDOM340,CDOM340_FLAG_W,CDOM380,CDOM380_FLAG_W,CDOM412,CDOM412_FLAG_W,CDOMSL,CDOMSL_FLAG_W,CDOMSN,CDOMSN_FLAG_W
,,,,,,,,,,,METERS,DBAR,ITS-90,PSS-78,,PSS-78,,UMOL/KG,,UMOL/KG,,UMOL/KG,,UMOL/KG,,UMOL/KG,,UMOL/KG,,PMOL/KG,,PMOL/KG,,PMOL/KG,,UMOL/KG,,UMOL/KG,,UMOL/KG,,UMOL/KG,,TU,,TU,NMOL/KG,,NMOL/KG,PERCNT,,PERCNT,NMOL/KG,,NMOL/KG,/MILLE,,/MILLE,/MILLE,,1/M,,1/M,,1/M,,1/M,,1/NM,,1/NM,
  33RR20070204,  I08S,    37,  1,     36,     36,2,20070226,1750,-52.6857,  87.8865, 4469,      3.3,   3.1458,  33.7945,2,  33.7969,2,    327.8,2,    326.2,2,    16.75,2,    24.10,2,     0.25,2,     1.63,2,    5.518,2,    3.055,2, -999.000,5,   2140.9,6,   2275.7,2,     48.0,2,    28.10,2, -999.000,9, -999.000,-999.0000,9,-999.0000,  -999.00,9,  -999.00, -999.000,9, -999.000,   -999.0,9,   -999.0,  -999.00,9,-999.0000,9,-999.0000,9,-999.0000,9,-999.0000,9,-999.0000,9,-999.0000,9
  33RR20070204,  I08S,    37,  1,     35,     35,2,20070226,1750,-52.6857,  87.8865, 4469,     31.2,   2.2122,  33.7533,2,  33.7537,2,    331.1,2,    332.9,2,    21.08,2,    25.05,2,     0.26,2,     1.67,2, -999.000,9, -999.000,9, -999.000,9,   2147.2,2,   2276.2,2,     47.8,2,    29.43,2, -999.000,9, -999.000,-999.0000,9,-999.0000,  -999.00,9,  -999.00, -999.000,9, -999.000,   -999.0,9,   -999.0,  -999.00,9,-999.0000,9,-999.0000,9,-999.0000,9,-999.0000,9,-999.0000,9,-999.0000,9
  33RR20070204,  I08S,    37,  1,     34,   9433,2,20070226,1750,-52.6857,  87.8865, 4469,     56.7,   2.2240,  33.7708,2,  33.7719,2,    331.3,2,    331.3,2,    22.37,2,    25.23,2,     0.26,2,     1.67,2,    5.762,2,    3.154,2, -999.000,5,   2147.6,2,   2278.1,2,     46.3,2,    29.69,2, -999.000,9, -999.000,-999.0000,9,-999.0000,  -999.00,9,  -999.00, -999.000,9, -999.000,   -999.0,9,   -999.0,  -999.00,9,-999.0000,9,-999.0000,9,-999.0000,9,-999.0000,9,-999.0000,9,-999.0000,9
  33RR20070204,  I08S,    37,  1,     33,     33,2,20070226,1750,-52.6857,  87.8865, 4469,     81.4,   2.0995,  33.7754,2,  33.7752,2,    331.2,2,    331.3,2,    23.25,2,    25.32,2,     0.27,2,     1.69,2, -999.000,9, -999.000,9, -999.000,9,   2149.8,2,   2278.8,2,     45.5,2,    29.70,2, -999.000,9, -999.000,-999.0000,9,-999.0000,  -999.00,9,  -999.00, -999.000,9, -999.000,   -999.0,9,   -999.0,  -999.00,9,-999.0000,9,-999.0000,9,-999.0000,9,-999.0000,9,-999.0000,9,-999.0000,9
  33RR20070204,  I08S,    37,  1,     32,     32,2,20070226,1750,-52.6857,  87.8865, 4469,    106.7,   1.2911,  33.7844,2,  33.7850,2,    337.1,2,    334.4,2,    24.95,2,    26.18,2,     0.28,2,     1.79,2,    5.975,2,    3.237,2, -999.000,5,   2156.6,2,   2278.3,2,     45.2,2,    30.94,2, -999.000,9, -999.000,-999.0000,9,-999.0000,  -999.00,9,  -999.00, -999.000,9, -999.000,   -999.0,9,   -999.0,  -999.00,9,-999.0000,9,-999.0000,9,-999.0000,9,-999.0000,9,-999.0000,9,-999.0000,9
  33RR20070204,  I08S,    37,  1,     31,     31,2,20070226,1750,-52.6857,  87.8865, 4469,    156.8,   0.2355,  33.9212,2,  33.9205,2,    324.1,2,    325.5,2,    32.34,2,    28.64,2,     0.24,2,     2.02,2,    5.767,2,    3.103,2, -999.000,5,   2172.2,2,   2283.5,2,     44.2,2,    32.22,2, -999.000,9, -999.000,-999.0000,9,-999.0000,  -999.00,9,  -999.00, -999.000,9, -999.000,   -999.0,9,   -999.0,  -999.00,9,-999.0000,9,-999.0000,9,-999.0000,9,-999.0000,9,-999.0000,9,-999.0000,9
  33RR20070204,  I08S,    37,  1,     30,     30,2,20070226,1750,-52.6857,  87.8865, 4469,    206.7,   0.3839,  34.0502,2,  34.0478,2,    273.5,2,    292.7,2,    41.56,2,    30.87,2,     0.14,2,     2.15,2,    4.972,2,    2.665,2, -999.000,5,   2191.6,2,   2291.4,2,     43.9,2,    34.41,2, -999.000,9, -999.000,-999.0000,9,-999.0000,  -999.00,9,  -999.00, -999.000,9, -999.000,   -999.0,9,   -999.0,  -999.00,9,-999.0000,9,-999.0000,9,-999.0000,9,-999.0000,9,-999.0000,9,-999.0000,9
  33RR20070204,  I08S,    37,  1,     29,     29,2,20070226,1750,-52.6857,  87.8865, 4469,    257.1,   1.7172,  34.2696,2,  34.2656,2,    230.4,2,    228.2,2,    53.26,2,    33.44,2,     0.05,2,     2.32,2,    2.935,2,    1.511,2, -999.000,5,   2220.0,2,   2302.9,2,     43.6,2,    36.89,2, -999.000,9, -999.000,-999.0000,9,-999.0000,  -999.00,9,  -999.00, -999.000,9, -999.000,   -999.0,9,   -999.0,  -999.00,9,-999.0000,9,-999.0000,9,-999.0000,9,-999.0000,9,-999.0000,9,-999.0000,9
  33RR20070204,  I08S,    37,  1,     28,     28,2,20070226,1750,-52.6857,  87.8865, 4469,    307.3,   1.5591,  34.3368,2,  34.3374,2,    193.6,2,    215.8,2,    60.28,2,    33.90,2,     0.03,2,     2.34,2,    2.519,2,    1.306,2, -999.000,5,   2229.4,2,   2309.1,2,     43.4,2,    37.48,2, -999.000,9, -999.000,-999.0000,9,-999.0000,  -999.00,9,  -999.00, -999.000,9, -999.000,   -999.0,9,   -999.0,  -999.00,9,-999.0000,9,-999.0000,9,-999.0000,9,-999.0000,9,-999.0000,9,-999.0000,9
  33RR20070204,  I08S,    37,  1,     27,     27,2,20070226,1750,-52.6857,  87.8865, 4469,    357.3,   2.0654,  34.4353,2,  34.4326,2,    191.1,2,    191.1,2,    65.26,2,    34.49,2,     0.02,2,     2.39,2,    1.645,2,    0.854,2, -999.000,5,   2243.5,2,   2314.9,2,     43.0,2,    38.33,2, -999.000,9, -999.000,-999.0000,9,-999.0000,  -999.00,9,  -999.00, -999.000,9, -999.000,   -999.0,9,   -999.0,  -999.00,9,-999.0000,9,-999.0000,9,-999.0000,9,-999.0000,9,-999.0000,9,-999.0000,9
  33RR20070204,  I08S,    37,  1,     26,     26,2,20070226,1750,-52.6857,  87.8865, 4469,    407.8,   1.9205,  34.4562,2,  34.4568,2,    185.2,2,    187.8,2,    69.03,2,    34.79,2,     0.02,2,     2.40,2,    1.586,2,    0.824,2, -999.000,5,   2249.7,2,   2318.6,2,     42.6,2,    38.56,2, -999.000,9, -999.000,-999.0000,9,-999.0000,  -999.00,9,  -999.00, -999.000,9, -999.000,   -999.0,9,   -999.0,  -999.00,9,-999.0000,9,-999.0000,9,-999.0000,9,-999.0000,9,-999.0000,9,-999.0000,9
  33RR20070204,  I08S,    37,  1,     25,     25,2,20070226,1750,-52.6857,  87.8865, 4469,    457.4,   1.7915,  34.4957,2,  34.4996,2,    180.8,2,    187.3,2,    72.81,2,    34.35,2,     0.05,2,     2.38,2,    1.427,2,    0.755,2, -999.000,5,   2251.6,2,   2322.7,2,     42.6,2,    37.78,2, -999.000,9, -999.000,-999.0000,9,-999.0000,  -999.00,9,  -999.00, -999.000,9, -999.000,   -999.0,9,   -999.0,  -999.00,9,-999.0000,9,-999.0000,9,-999.0000,9,-999.0000,9,-999.0000,9,-999.0000,9
  33RR20070204,  I08S,    37,  1,     24,     24,2,20070226,1750,-52.6857,  87.8865, 4469,    507.7,   2.2433,  34.5774,2,  34.5778,2,    176.5,2,    176.8,2,    72.89,2,    33.81,2,     0.01,2,     2.33,2, -999.000,9, -999.000,9, -999.000,9,   2252.6,2,   2326.8,2,     42.3,2,    36.07,2, -999.000,9, -999.000,-999.0000,9,-999.0000,  -999.00,9,  -999.00, -999.000,9, -999.000,   -999.0,9,   -999.0,  -999.00,9,-999.0000,9,-999.0000,9,-999.0000,9,-999.0000,9,-999.0000,9,-999.0000,9
  33RR20070204,  I08S,    37,  1,     23,     23,2,20070226,1750,-52.6857,  87.8865, 4469,    608.5,   2.1583,  34.6134,2,  34.6155,2,    176.8,2,    175.6,2,    76.25,2,    33.26,2,     0.01,2,     2.31,2,    0.600,2,    0.310,2, -999.000,5,   2255.4,2,   2330.1,2,     41.8,2,    35.45,2, -999.000,9, -999.000,-999.0000,9,-999.0000,  -999.00,9,  -999.00, -999.000,9, -999.000,   -999.0,9,   -999.0,  -999.00,9,-999.0000,9,-999.0000,9,-999.0000,9,-999.0000,9,-999.0000,9,-999.0000,9
  33RR20070204,  I08S,    37,  1,     22,     22,2,20070226,1750,-52.6857,  87.8865, 4469,    709.1,   1.9984,  34.6417,2,  34.6418,2,    177.3,2,    176.6,2,    80.25,2,    33.35,2,     0.01,2,     2.31,2, -999.000,9, -999.000,9, -999.000,9,   2257.7,2,   2332.8,2,     41.6,2,    36.25,2, -999.000,9, -999.000,-999.0000,9,-999.0000,  -999.00,9,  -999.00, -999.000,9, -999.000,   -999.0,9,   -999.0,  -999.00,9,-999.0000,9,-999.0000,9,-999.0000,9,-999.0000,9,-999.0000,9,-999.0000,9
  33RR20070204,  I08S,    37,  1,     21,     21,2,20070226,1750,-52.6857,  87.8865, 4469,    809.4,   2.1826,  34.7018,2,  34.7019,2,    182.0,2,    183.6,2,    77.45,2,    31.56,2,     0.01,2,     2.17,2,    0.271,2,    0.134,2, -999.000,5,   2248.2,6,   2336.7,2,     41.1,2,    33.84,2, -999.000,9, -999.000,-999.0000,9,-999.0000,  -999.00,9,  -999.00, -999.000,9, -999.000,   -999.0,9,   -999.0,  -999.00,9,-999.0000,9,-999.0000,9,-999.0000,9,-999.0000,9,-999.0000,9,-999.0000,9
  33RR20070204,  I08S,    37,  1,     20,     20,2,20070226,1750,-52.6857,  87.8865, 4469,    910.6,   2.1048,  34.7146,2,  34.7153,2,    185.2,2,    186.0,2,    79.39,2,    31.06,2,     0.01,2,     2.15,2, -999.000,9, -999.000,9, -999.000,9,   2249.4,2,   2337.8,2,     40.9,2,    33.56,2, -999.000,9, -999.000,-999.0000,9,-999.0000,  -999.00,9,  -999.00, -999.000,9, -999.000,   -999.0,9,   -999.0,  -999.00,9,-999.0000,9,-999.0000,9,-999.0000,9,-999.0000,9,-999.0000,9,-999.0000,9
  33RR20070204,  I08S,    37,  1,     19,     19,2,20070226,1750,-52.6857,  87.8865, 4469,   1010.8,   1.9623,  34.7116,2,  34.7122,2,    185.5,2,    184.3,2,    83.18,2,    31.64,2,     0.01,2,     2.19,2,    0.334,2,    0.168,2, -999.000,5,   2252.5,2,   2339.2,2,     40.8,2,    33.17,2, -999.000,9, -999.000,-999.0000,9,-999.0000,  -999.00,9,  -999.00, -999.000,9, -999.000,   -999.0,9,   -999.0,  -999.00,9,-999.0000,9,-999.0000,9,-999.0000,9,-999.0000,9,-999.0000,9,-999.0000,9
  33RR20070204,  I08S,    37,  1,     18,     18,2,20070226,1750,-52.6857,  87.8865, 4469,   1111.9,   1.8904,  34.7263,2,  34.7265,2,    191.3,2,    188.5,2,    84.50,2,    31.11,2,     0.01,2,     2.15,2, -999.000,9, -999.000,9, -999.000,9,   2251.1,2,   2340.5,2,     40.8,2,    32.84,2, -999.000,9, -999.000,-999.0000,9,-999.0000,  -999.00,9,  -999.00, -999.000,9, -999.000,   -999.0,9,   -999.0,  -999.00,9,-999.0000,9,-999.0000,9,-999.0000,9,-999.0000,9,-999.0000,9,-999.0000,9
  33RR20070204,  I08S,    37,  1,     17,     17,2,20070226,1750,-52.6857,  87.8865, 4469,   1212.5,   1.9132,  34.7456,2,  34.7460,2,    194.7,2,    194.6,2,  -999.00,5,  -999.00,5,  -999.00,5,  -999.00,5,    0.169,2,    0.082,2, -999.000,5,   2245.0,2,   2341.6,2,     40.8,2,    33.29,2, -999.000,9, -999.000,-999.0000,9,-999.0000,  -999.00,9,  -999.00, -999.000,9, -999.000,   -999.0,9,   -999.0,  -999.00,9,-999.0000,9,-999.0000,9,-999.0000,9,-999.0000,9,-999.0000,9,-999.0000,9
  33RR20070204,  I08S,    37,  1,     16,     16,2,20070226,1750,-52.6857,  87.8865, 4469,   1313.5,   1.8073,  34.7458,2,  34.7466,2,    195.3,2,    195.8,2,    86.24,2,    30.32,2,     0.00,2,     2.08,2, -999.000,9, -999.000,9, -999.000,9,   2245.8,2,   2343.0,2,     40.9,2,    31.47,2, -999.000,9, -999.000,-999.0000,9,-999.0000,  -999.00,9,  -999.00, -999.000,9, -999.000,   -999.0,9,   -999.0,  -999.00,9,-999.0000,9,-999.0000,9,-999.0000,9,-999.0000,9,-999.0000,9,-999.0000,9
  33RR20070204,  I08S,    37,  1,     15,     15,2,20070226,1750,-52.6857,  87.8865, 4469,   1414.1,   1.7174,  34.7446,2,  34.7454,2,    197.5,2,    197.1,2,    88.18,2,    30.32,2,     0.00,2,     2.09,2,    0.201,2,    0.098,2, -999.000,5,   2246.4,2,   2344.7,2,     40.8,2,    31.64,2, -999.000,9, -999.000,-999.0000,9,-999.0000,  -999.00,9,  -999.00, -999.000,9, -999.000,   -999.0,9,   -999.0,  -999.00,9,-999.0000,9,-999.0000,9,-999.0000,9,-999.0000,9,-999.0000,9,-999.0000,9
  33RR20070204,  I08S,    37,  1,     14,     14,2,20070226,1750,-52.6857,  87.8865, 4469,   1515.8,   1.6169,  34.7425,2,  34.7430,2,    199.0,2,    199.0,2,    90.33,2,    30.52,2,     0.00,2,     2.10,2, -999.000,9, -999.000,9, -999.000,9,   2247.7,2,   2344.2,2,     40.7,2,    31.80,2, -999.000,9, -999.000,-999.0000,9,-999.0000,  -999.00,9,  -999.00, -999.000,9, -999.000,   -999.0,9,   -999.0,  -999.00,9,-999.0000,9,-999.0000,9,-999.0000,9,-999.0000,9,-999.0000,9,-999.0000,9
  33RR20070204,  I08S,    37,  1,     13,     13,2,20070226,1750,-52.6857,  87.8865, 4469,   1616.5,   1.5593,  34.7450,2,  34.7458,2,    200.8,2,    200.5,2,    92.90,2,    30.37,2,     0.00,2,     2.09,2,    0.172,2,    0.081,2, -999.000,5,   2247.2,2,   2346.7,2,     41.1,2,    31.66,2, -999.000,9, -999.000,-999.0000,9,-999.0000,  -999.00,9,  -999.00, -999.000,9, -999.000,   -999.0,9,   -999.0,  -999.00,9,-999.0000,9,-999.0000,9,-999.0000,9,-999.0000,9,-999.0000,9,-999.0000,9
  33RR20070204,  I08S,    37,  1,     12,     12,2,20070226,1750,-52.6857,  87.8865, 4469,   1717.2,   1.4619,  34.7421,2,  34.7423,2,    202.3,2,    201.8,2,    95.89,2,    30.42,2,     0.00,2,     2.09,2, -999.000,9, -999.000,9, -999.000,9,   2248.5,2,   2348.3,2,     40.8,2,    31.48,2, -999.000,9, -999.000,-999.0000,9,-999.0000,  -999.00,9,  -999.00, -999.000,9, -999.000,   -999.0,9,   -999.0,  -999.00,9,-999.0000,9,-999.0000,9,-999.0000,9,-999.0000,9,-999.0000,9,-999.0000,9
  33RR20070204,  I08S,    37,  1,     11,     11,2,20070226,1750,-52.6857,  87.8865, 4469,   1818.7,   1.3795,  34.7387,2,  34.7393,2,    203.3,2,    203.0,2,    98.25,2,    30.61,2,     0.00,2,     2.11,2,    0.161,2,    0.076,2, -999.000,5,   2249.1,2,   2349.3,2,     40.8,2,    31.86,2, -999.000,9, -999.000,-999.0000,9,-999.0000,  -999.00,9,  -999.00, -999.000,9, -999.000,   -999.0,9,   -999.0,  -999.00,9,-999.0000,9,-999.0000,9,-999.0000,9,-999.0000,9,-999.0000,9,-999.0000,9
  33RR20070204,  I08S,    37,  1,     10,     10,2,20070226,1750,-52.6857,  87.8865, 4469,   2021.0,   1.2180,  34.7305,2,  34.7311,2,    205.0,2,    204.4,2,   102.48,2,    30.95,2,     0.00,2,     2.13,2, -999.000,9, -999.000,9, -999.000,9,   2252.1,2,   2350.1,2,     40.6,2,    32.63,2, -999.000,9, -999.000,-999.0000,9,-999.0000,  -999.00,9,  -999.00, -999.000,9, -999.000,   -999.0,9,   -999.0,  -999.00,9,-999.0000,9,-999.0000,9,-999.0000,9,-999.0000,9,-999.0000,9,-999.0000,9
  33RR20070204,  I08S,    37,  1,      9,      9,2,20070226,1750,-52.6857,  87.8865, 4469,   2274.6,   1.0092,  34.7194,2,  34.7195,2,    206.7,2,    206.3,2,   109.22,2,    31.38,2,     0.00,2,     2.16,2,    0.199,2,    0.095,2, -999.000,5,   2255.2,2,   2352.0,2,     40.3,2,    32.44,2, -999.000,9, -999.000,-999.0000,9,-999.0000,  -999.00,9,  -999.00, -999.000,9, -999.000,   -999.0,9,   -999.0,  -999.00,9,-999.0000,9,-999.0000,9,-999.0000,9,-999.0000,9,-999.0000,9,-999.0000,9
  33RR20070204,  I08S,    37,  1,      8,      8,2,20070226,1750,-52.6857,  87.8865, 4469,   2528.0,   0.8643,  34.7114,2,  34.7116,2,    208.5,2,    208.4,2,   113.67,2,    31.72,2,     0.00,2,     2.18,2, -999.000,9, -999.000,9, -999.000,9,   2257.3,6,   2352.1,2,     40.8,2,    33.38,2, -999.000,9, -999.000,-999.0000,9,-999.0000,  -999.00,9,  -999.00, -999.000,9, -999.000,   -999.0,9,   -999.0,  -999.00,9,-999.0000,9,-999.0000,9,-999.0000,9,-999.0000,9,-999.0000,9,-999.0000,9
  33RR20070204,  I08S,    37,  1,      7,      7,2,20070226,1750,-52.6857,  87.8865, 4469,   2781.7,   0.6959,  34.7018,2,  34.7022,2,    209.9,2,    210.4,2,   117.93,2,    32.02,2,     0.00,2,     2.21,2,    0.265,2,    0.130,2, -999.000,5,   2259.1,2,   2352.6,2,     40.8,2,    33.35,2, -999.000,9, -999.000,-999.0000,9,-999.0000,  -999.00,9,  -999.00, -999.000,9, -999.000,   -999.0,9,   -999.0,  -999.00,9,-999.0000,9,-999.0000,9,-999.0000,9,-999.0000,9,-999.0000,9,-999.0000,9
  33RR20070204,  I08S,    37,  1,      6,      6,2,20070226,1750,-52.6857,  87.8865, 4469,   3036.1,   0.5646,  34.6952,2,  34.6955,2,    213.0,2,    213.4,2,   121.15,2,    32.21,2,     0.00,2,     2.22,2, -999.000,9, -999.000,9, -999.000,9,   2258.1,2,   2352.5,2,     40.5,2,    33.79,2, -999.000,9, -999.000,-999.0000,9,-999.0000,  -999.00,9,  -999.00, -999.000,9, -999.000,   -999.0,9,   -999.0,  -999.00,9,-999.0000,9,-999.0000,9,-999.0000,9,-999.0000,9,-999.0000,9,-999.0000,9
  33RR20070204,  I08S,    37,  1,      5,      5,2,20070226,1750,-52.6857,  87.8865, 4469,   3341.6,   0.4107,  34.6876,2,  34.6881,2,    217.6,2,    217.4,2,   124.16,2,    32.20,2,     0.00,2,     2.23,2,    0.477,2,    0.239,2, -999.000,5,   2258.7,2,   2351.7,2,     40.6,2,    33.61,2, -999.000,9, -999.000,-999.0000,9,-999.0000,  -999.00,9,  -999.00, -999.000,9, -999.000,   -999.0,9,   -999.0,  -999.00,9,-999.0000,9,-999.0000,9,-999.0000,9,-999.0000,9,-999.0000,9,-999.0000,9
  33RR20070204,  I08S,    37,  1,      4,      4,2,20070226,1750,-52.6857,  87.8865, 4469,   3646.6,   0.3140,  34.6832,2,  34.6832,2,    221.0,2,    221.0,2,   125.51,2,    32.30,2,     0.00,2,     2.23,2, -999.000,9, -999.000,9, -999.000,9,   2258.1,2,   2352.3,2,     40.2,2,    33.82,2, -999.000,9, -999.000,-999.0000,9,-999.0000,  -999.00,9,  -999.00, -999.000,9, -999.000,   -999.0,9,   -999.0,  -999.00,9,-999.0000,9,-999.0000,9,-999.0000,9,-999.0000,9,-999.0000,9,-999.0000,9
  33RR20070204,  I08S,    37,  1,      3,      3,2,20070226,1750,-52.6857,  87.8865, 4469,   3952.8,   0.2433,  34.6788,2,  34.6786,2,    223.3,2,    223.7,2,   126.66,2,    32.30,2,     0.00,2,     2.23,2, -999.000,5, -999.000,5, -999.000,5,   2257.0,2,   2349.6,2,     40.2,2,    33.95,2, -999.000,9, -999.000,-999.0000,9,-999.0000,  -999.00,9,  -999.00, -999.000,9, -999.000,   -999.0,9,   -999.0,  -999.00,9,-999.0000,9,-999.0000,9,-999.0000,9,-999.0000,9,-999.0000,9,-999.0000,9
  33RR20070204,  I08S,    37,  1,      2,      2,2,20070226,1750,-52.6857,  87.8865, 4469,   4258.3,   0.1889,  34.6758,2,  34.6761,2,    225.8,2,    225.8,2,   127.38,2,    32.34,2,     0.00,2,     2.23,2,    0.873,2,    0.441,2, -999.000,5,   2256.8,2,   2350.0,2,     40.6,2,    33.46,2, -999.000,9, -999.000,-999.0000,9,-999.0000,  -999.00,9,  -999.00, -999.000,9, -999.000,   -999.0,9,   -999.0,  -999.00,9,-999.0000,9,-999.0000,9,-999.0000,9,-999.0000,9,-999.0000,9,-999.0000,9
  33RR20070204,  I08S,    37,  1,      1,      1,2,20070226,1750,-52.6857,  87.8865, 4469,   4544.2,   0.1698,  34.6737,2,  34.6741,2,    226.3,2,    227.8,2,   127.90,2,    32.29,2,     0.00,2,     2.23,2,    0.954,2,    0.484,2, -999.000,5,   2257.6,6,   2350.0,2,     40.9,2,    33.76,2, -999.000,9, -999.000,-999.0000,9,-999.0000,  -999.00,9,  -999.00, -999.000,9, -999.000,   -999.0,9,   -999.0,  -999.00,9,-999.0000,9,-999.0000,9,-999.0000,9,-999.0000,9,-999.0000,9,-999.0000,9