BOTTLE,20150626SIOCCHRJL
EXPOCODE,SECT_ID,STNNBR,CASTNO,SAMPNO,BTLNBR,BTLNBR_FLAG_W,DATE,TIME,LATITUDE,LONGITUDE,DEPTH,CTDPRS,CTDTMP,CTDSAL,CTDSAL_FLAG_W,SALNTY,SALNTY_FLAG_W,CTDOXY,CTDOXY_FLAG_W,OXYGEN,OXYGEN_FLAG_W,SILCAT,SILCAT_FLAG_W,NITRAT,NITRAT_FLAG_W,NITRIT,NITRIT_FLAG_W,PHSPHT,PHSPHT_FLAG_W,CFC-11,CFC-11_FLAG_W,CFC-12,CFC-12_FLAG_W,CFC113,CFC113_FLAG_W,TCARBN,TCARBN_FLAG_W,ALKALI,ALKALI_FLAG_W,DOC,DOC_FLAG_W,TDN,TDN_FLAG_W,TRITUM,TRITUM_FLAG_W,TRITER,HELIUM,HELIUM_FLAG_W,HELIER,DELHE3,DELHE3_FLAG_W,DELHER,NEON,NEON_FLAG_W,NEONER,DELC14,DELC14_FLAG_W,C14ERR,DELC13,DELC13_FLAG_W,CDOM325,CDOM325_FLAG_W,CDOM340,CDOM340_FLAG_W,CDOM380,CDOM380_FLAG_W,CDOM412,CDOM412_FLAG_W,CDOMSL,CDOMSL_FLAG_W,CDOMSN,CDOMSN_FLAG_W
,,,,,,,,,,,METERS,DBAR,ITS-90,PSS-78,,PSS-78,,UMOL/KG,,UMOL/KG,,UMOL/KG,,UMOL/KG,,UMOL/KG,,UMOL/KG,,PMOL/KG,,PMOL/KG,,PMOL/KG,,UMOL/KG,,UMOL/KG,,UMOL/KG,,UMOL/KG,,TU,,TU,NMOL/KG,,NMOL/KG,PERCNT,,PERCNT,NMOL/KG,,NMOL/KG,/MILLE,,/MILLE,/MILLE,,1/M,,1/M,,1/M,,1/M,,1/NM,,1/NM,
  33RR20070204,  I08S,    74,  2,     36,     38,2,20070309,1519,-35.4977,  94.9910, 4021,      4.1,  17.0920,  35.0027,2,  35.0025,2,    244.9,2,    244.6,2,     0.72,2,     2.72,2,     0.05,2,     0.35,2,    2.586,2,    1.580,2, -999.000,5,   2057.6,6,   2309.9,2,   -999.0,9,  -999.00,9, -999.000,9, -999.000,-999.0000,9,-999.0000,  -999.00,9,  -999.00, -999.000,9, -999.000,   -999.0,9,   -999.0,  -999.00,9,-999.0000,9,-999.0000,9,-999.0000,9,-999.0000,9,-999.0000,9,-999.0000,9
  33RR20070204,  I08S,    74,  2,     35,     35,2,20070309,1519,-35.4977,  94.9910, 4021,     39.8,  17.0271,  34.9979,2,  34.9988,2,    246.6,2,    243.9,2,     0.53,2,     2.72,2,     0.05,2,     0.35,2, -999.000,9, -999.000,9, -999.000,9,   2059.4,2,   2310.4,2,   -999.0,9,  -999.00,9, -999.000,9, -999.000,-999.0000,9,-999.0000,  -999.00,9,  -999.00, -999.000,9, -999.000,   -999.0,9,   -999.0,  -999.00,9,-999.0000,9,-999.0000,9,-999.0000,9,-999.0000,9,-999.0000,9,-999.0000,9
  33RR20070204,  I08S,    74,  2,     34,   9419,2,20070309,1519,-35.4977,  94.9910, 4021,     74.6,  13.0639,  35.0713,2,  35.0716,2,    258.5,2,    258.4,2,     1.71,2,     5.28,2,     0.27,2,     0.57,2,    3.205,2,    1.893,2, -999.000,5,   2094.9,2,   2310.6,2,   -999.0,9,  -999.00,9, -999.000,9, -999.000,-999.0000,9,-999.0000,  -999.00,9,  -999.00, -999.000,9, -999.000,   -999.0,9,   -999.0,  -999.00,9,-999.0000,9,-999.0000,9,-999.0000,9,-999.0000,9,-999.0000,9,-999.0000,9
  33RR20070204,  I08S,    74,  2,     33,     33,2,20070309,1519,-35.4977,  94.9910, 4021,     94.8,  12.7041,  35.0831,2,  35.0712,2,    252.0,2,    252.1,2,     1.90,2,     6.17,2,     0.93,2,     0.62,2,    3.222,2,    1.889,2, -999.000,5,   2100.8,2,   2310.2,2,   -999.0,9,  -999.00,9, -999.000,9, -999.000,-999.0000,9,-999.0000,  -999.00,9,  -999.00, -999.000,9, -999.000,   -999.0,9,   -999.0,  -999.00,9,-999.0000,9,-999.0000,9,-999.0000,9,-999.0000,9,-999.0000,9,-999.0000,9
  33RR20070204,  I08S,    74,  2,     32,     37,2,20070309,1519,-35.4977,  94.9910, 4021,    124.9,  12.4263,  35.0781,2,  35.0787,2,    246.2,2,    248.1,2,     1.90,2,     7.66,2,     0.11,2,     0.65,2,    3.225,2,    1.909,2, -999.000,5,   -999.0,9,   -999.0,9,   -999.0,9,  -999.00,9, -999.000,9, -999.000,-999.0000,9,-999.0000,  -999.00,9,  -999.00, -999.000,9, -999.000,   -999.0,9,   -999.0,  -999.00,9,-999.0000,9,-999.0000,9,-999.0000,9,-999.0000,9,-999.0000,9,-999.0000,9
  33RR20070204,  I08S,    74,  2,     31,     31,2,20070309,1519,-35.4977,  94.9910, 4021,    144.9,  12.2224,  35.0531,2,  35.0427,2,    247.8,2,    248.5,2,     2.10,2,     8.34,2,     0.03,2,     0.68,2, -999.000,9, -999.000,9, -999.000,9,   2106.7,2,   2306.6,2,   -999.0,9,  -999.00,9, -999.000,9, -999.000,-999.0000,9,-999.0000,  -999.00,9,  -999.00, -999.000,9, -999.000,   -999.0,9,   -999.0,  -999.00,9,-999.0000,9,-999.0000,9,-999.0000,9,-999.0000,9,-999.0000,9,-999.0000,9
  33RR20070204,  I08S,    74,  2,     30,     30,2,20070309,1519,-35.4977,  94.9910, 4021,    174.5,  11.8737,  35.0294,2,  35.0309,2,    245.2,2,    245.4,2,     2.49,2,     9.29,2,     0.01,2,     0.73,2,    3.336,2,    1.937,2, -999.000,5,   -999.0,9,   -999.0,9,   -999.0,9,  -999.00,9, -999.000,9, -999.000,-999.0000,9,-999.0000,  -999.00,9,  -999.00, -999.000,9, -999.000,   -999.0,9,   -999.0,  -999.00,9,-999.0000,9,-999.0000,9,-999.0000,9,-999.0000,9,-999.0000,9,-999.0000,9
  33RR20070204,  I08S,    74,  2,     29,     29,2,20070309,1519,-35.4977,  94.9910, 4021,    225.1,  11.4653,  34.9880,2,  34.9875,2,    243.6,2,    245.4,2,     3.09,2,    10.61,2,     0.01,2,     0.81,2,    3.384,2,    1.991,2, -999.000,5,   2112.1,2,   2303.0,2,   -999.0,9,  -999.00,9, -999.000,9, -999.000,-999.0000,9,-999.0000,  -999.00,9,  -999.00, -999.000,9, -999.000,   -999.0,9,   -999.0,  -999.00,9,-999.0000,9,-999.0000,9,-999.0000,9,-999.0000,9,-999.0000,9,-999.0000,9
  33RR20070204,  I08S,    74,  2,     28,     28,2,20070309,1519,-35.4977,  94.9910, 4021,    275.0,  11.2655,  34.9699,2,  34.9759,2,    242.6,2,    244.3,2,     3.28,2,    11.07,2,     0.01,2,     0.84,2, -999.000,9, -999.000,9, -999.000,9,   -999.0,9,   -999.0,9,   -999.0,9,  -999.00,9, -999.000,9, -999.000,-999.0000,9,-999.0000,  -999.00,9,  -999.00, -999.000,9, -999.000,   -999.0,9,   -999.0,  -999.00,9,-999.0000,9,-999.0000,9,-999.0000,9,-999.0000,9,-999.0000,9,-999.0000,9
  33RR20070204,  I08S,    74,  2,     27,     27,2,20070309,1519,-35.4977,  94.9910, 4021,    324.9,  10.9352,  34.9145,2,  34.9151,2,    246.1,2,    247.8,2,     3.67,2,    11.77,2,     0.00,2,     0.88,2,    3.451,2,    1.995,2, -999.000,5,   2114.2,2,   2299.3,2,   -999.0,9,  -999.00,9, -999.000,9, -999.000,-999.0000,9,-999.0000,  -999.00,9,  -999.00, -999.000,9, -999.000,   -999.0,9,   -999.0,  -999.00,9,-999.0000,9,-999.0000,9,-999.0000,9,-999.0000,9,-999.0000,9,-999.0000,9
  33RR20070204,  I08S,    74,  2,     26,     26,2,20070309,1519,-35.4977,  94.9910, 4021,    375.1,  10.7861,  34.8949,2,  34.8958,2,    247.3,2,    247.3,2,     3.67,2,    12.10,2,     0.00,2,     0.90,2, -999.000,9, -999.000,9, -999.000,9,   -999.0,9,   -999.0,9,   -999.0,9,  -999.00,9, -999.000,9, -999.000,-999.0000,9,-999.0000,  -999.00,9,  -999.00, -999.000,9, -999.000,   -999.0,9,   -999.0,  -999.00,9,-999.0000,9,-999.0000,9,-999.0000,9,-999.0000,9,-999.0000,9,-999.0000,9
  33RR20070204,  I08S,    74,  2,     25,     25,2,20070309,1519,-35.4977,  94.9910, 4021,    425.4,  10.5919,  34.8727,2,  34.8748,2,    245.8,2,    244.6,2,     3.87,2,    12.75,2,     0.00,2,     0.94,2,    3.526,2,    2.016,2, -999.000,5,   2117.3,2,   2297.6,2,   -999.0,9,  -999.00,9, -999.000,9, -999.000,-999.0000,9,-999.0000,  -999.00,9,  -999.00, -999.000,9, -999.000,   -999.0,9,   -999.0,  -999.00,9,-999.0000,9,-999.0000,9,-999.0000,9,-999.0000,9,-999.0000,9,-999.0000,9
  33RR20070204,  I08S,    74,  2,     24,     24,2,20070309,1519,-35.4977,  94.9910, 4021,    475.6,  10.3518,  34.8380,2,  34.8372,2,    244.3,2,    244.6,2,     4.06,2,    13.44,2,     0.00,2,     0.98,2, -999.000,9, -999.000,9, -999.000,9,   -999.0,9,   -999.0,9,   -999.0,9,  -999.00,9, -999.000,9, -999.000,-999.0000,9,-999.0000,  -999.00,9,  -999.00, -999.000,9, -999.000,   -999.0,9,   -999.0,  -999.00,9,-999.0000,9,-999.0000,9,-999.0000,9,-999.0000,9,-999.0000,9,-999.0000,9
  33RR20070204,  I08S,    74,  2,     23,     23,2,20070309,1519,-35.4977,  94.9910, 4021,    535.7,  10.0279,  34.7889,2,  34.7890,2,    244.1,2,    244.6,2,     4.25,2,    14.33,2,     0.00,2,     1.04,2,    3.628,2,    2.023,2, -999.000,5,   2120.6,2,   2293.5,2,   -999.0,9,  -999.00,9, -999.000,9, -999.000,-999.0000,9,-999.0000,  -999.00,9,  -999.00, -999.000,9, -999.000,   -999.0,9,   -999.0,  -999.00,9,-999.0000,9,-999.0000,9,-999.0000,9,-999.0000,9,-999.0000,9,-999.0000,9
  33RR20070204,  I08S,    74,  2,     22,     22,2,20070309,1519,-35.4977,  94.9910, 4021,    646.5,   9.4221,  34.7013,2,  34.7031,2,    237.1,2,    237.5,2,     5.04,2,    16.42,2,     0.00,2,     1.16,2, -999.000,9, -999.000,9, -999.000,9,   -999.0,9,   -999.0,9,   -999.0,9,  -999.00,9, -999.000,9, -999.000,-999.0000,9,-999.0000,  -999.00,9,  -999.00, -999.000,9, -999.000,   -999.0,9,   -999.0,  -999.00,9,-999.0000,9,-999.0000,9,-999.0000,9,-999.0000,9,-999.0000,9,-999.0000,9
  33RR20070204,  I08S,    74,  2,     21,     21,2,20070309,1519,-35.4977,  94.9910, 4021,    746.5,   8.6203,  34.6016,2,  34.6029,2,    224.7,2,    223.6,2,     7.62,2,    19.57,2,     0.00,2,     1.37,2,    3.281,2,    1.726,2, -999.000,5,   2139.3,2,   2286.6,2,   -999.0,9,  -999.00,9, -999.000,9, -999.000,-999.0000,9,-999.0000,  -999.00,9,  -999.00, -999.000,9, -999.000,   -999.0,9,   -999.0,  -999.00,9,-999.0000,9,-999.0000,9,-999.0000,9,-999.0000,9,-999.0000,9,-999.0000,9
  33RR20070204,  I08S,    74,  2,     20,     20,2,20070309,1519,-35.4977,  94.9910, 4021,    846.9,   7.4033,  34.4953,2,  34.4965,2,    207.8,2,    207.1,2,    13.58,2,    23.80,2,     0.00,2,     1.64,2, -999.000,9, -999.000,9, -999.000,9,   -999.0,9,   -999.0,9,   -999.0,9,  -999.00,9, -999.000,9, -999.000,-999.0000,9,-999.0000,  -999.00,9,  -999.00, -999.000,9, -999.000,   -999.0,9,   -999.0,  -999.00,9,-999.0000,9,-999.0000,9,-999.0000,9,-999.0000,9,-999.0000,9,-999.0000,9
  33RR20070204,  I08S,    74,  2,     19,     19,2,20070309,1519,-35.4977,  94.9910, 4021,    947.4,   5.8998,  34.4038,2,  34.4054,2,    200.6,2,    200.6,2,    22.13,2,    27.68,2,     0.00,2,     1.91,2, -999.000,9, -999.000,9, -999.000,9,   -999.0,9,   -999.0,9,   -999.0,9,  -999.00,9, -999.000,9, -999.000,-999.0000,9,-999.0000,  -999.00,9,  -999.00, -999.000,9, -999.000,   -999.0,9,   -999.0,  -999.00,9,-999.0000,9,-999.0000,9,-999.0000,9,-999.0000,9,-999.0000,9,-999.0000,9
  33RR20070204,  I08S,    74,  2,     18,     18,2,20070309,1519,-35.4977,  94.9910, 4021,   1047.5,   4.8618,  34.3723,2,  34.3729,2,    196.9,2,    197.5,2,    31.09,2,    30.03,2,     0.00,2,     2.08,2, -999.000,9, -999.000,9, -999.000,9,   2192.7,2,   2295.3,2,   -999.0,9,  -999.00,9, -999.000,9, -999.000,-999.0000,9,-999.0000,  -999.00,9,  -999.00, -999.000,9, -999.000,   -999.0,9,   -999.0,  -999.00,9,-999.0000,9,-999.0000,9,-999.0000,9,-999.0000,9,-999.0000,9,-999.0000,9
  33RR20070204,  I08S,    74,  2,     17,     17,2,20070309,1519,-35.4977,  94.9910, 4021,   1148.5,   4.1740,  34.3916,2,  34.3924,2,    189.4,2,    186.9,2,    42.44,2,    31.86,2,     0.00,2,     2.22,2, -999.000,9, -999.000,9, -999.000,9,   -999.0,9,   2305.8,2,   -999.0,9,  -999.00,9, -999.000,9, -999.000,-999.0000,9,-999.0000,  -999.00,9,  -999.00, -999.000,9, -999.000,   -999.0,9,   -999.0,  -999.00,9,-999.0000,9,-999.0000,9,-999.0000,9,-999.0000,9,-999.0000,9,-999.0000,9
  33RR20070204,  I08S,    74,  2,     16,     16,2,20070309,1519,-35.4977,  94.9910, 4021,   1249.0,   3.7586,  34.4303,2,  34.4302,2,    178.4,2,    175.8,2,    52.62,2,    33.04,2,     0.00,2,     2.33,2, -999.000,9, -999.000,9, -999.000,9,   -999.0,9,   -999.0,9,   -999.0,9,  -999.00,9, -999.000,9, -999.000,-999.0000,9,-999.0000,  -999.00,9,  -999.00, -999.000,9, -999.000,   -999.0,9,   -999.0,  -999.00,9,-999.0000,9,-999.0000,9,-999.0000,9,-999.0000,9,-999.0000,9,-999.0000,9
  33RR20070204,  I08S,    74,  2,     15,     15,2,20070309,1519,-35.4977,  94.9910, 4021,   1349.7,   3.4008,  34.4538,2,  34.4538,2,    173.6,2,    174.4,2,    57.82,2,    33.47,2,     0.00,2,     2.35,2, -999.000,9, -999.000,9, -999.000,9,   -999.0,9,   -999.0,9,   -999.0,9,  -999.00,9, -999.000,9, -999.000,-999.0000,9,-999.0000,  -999.00,9,  -999.00, -999.000,9, -999.000,   -999.0,9,   -999.0,  -999.00,9,-999.0000,9,-999.0000,9,-999.0000,9,-999.0000,9,-999.0000,9,-999.0000,9
  33RR20070204,  I08S,    74,  2,     14,     14,2,20070309,1519,-35.4977,  94.9910, 4021,   1450.3,   3.2192,  34.4960,2,  34.4962,2,    167.5,2,    166.7,2,    64.62,2,    33.99,2,     0.00,2,     2.38,2, -999.000,9, -999.000,9, -999.000,9,   2244.2,2,   2326.4,2,   -999.0,9,  -999.00,9, -999.000,9, -999.000,-999.0000,9,-999.0000,  -999.00,9,  -999.00, -999.000,9, -999.000,   -999.0,9,   -999.0,  -999.00,9,-999.0000,9,-999.0000,9,-999.0000,9,-999.0000,9,-999.0000,9,-999.0000,9
  33RR20070204,  I08S,    74,  2,     13,     13,2,20070309,1519,-35.4977,  94.9910, 4021,   1551.4,   3.0489,  34.5462,2,  34.5470,2,    161.8,2,    161.2,2,    71.44,2,    34.08,2,     0.00,2,     2.40,2, -999.000,9, -999.000,9, -999.000,9,   -999.0,9,   -999.0,9,   -999.0,9,  -999.00,9, -999.000,9, -999.000,-999.0000,9,-999.0000,  -999.00,9,  -999.00, -999.000,9, -999.000,   -999.0,9,   -999.0,  -999.00,9,-999.0000,9,-999.0000,9,-999.0000,9,-999.0000,9,-999.0000,9,-999.0000,9
  33RR20070204,  I08S,    74,  2,     12,     12,2,20070309,1519,-35.4977,  94.9910, 4021,   1651.9,   2.8980,  34.5788,2,  34.5795,2,    161.4,2,    161.9,2,    74.84,2,    33.89,2,     0.00,2,     2.38,2, -999.000,9, -999.000,9, -999.000,9,   -999.0,9,   -999.0,9,   -999.0,9,  -999.00,9, -999.000,9, -999.000,-999.0000,9,-999.0000,  -999.00,9,  -999.00, -999.000,9, -999.000,   -999.0,9,   -999.0,  -999.00,9,-999.0000,9,-999.0000,9,-999.0000,9,-999.0000,9,-999.0000,9,-999.0000,9
  33RR20070204,  I08S,    74,  2,     11,     11,2,20070309,1519,-35.4977,  94.9910, 4021,   1753.0,   2.7819,  34.6157,2,  34.6166,2,    161.3,2,    161.6,2,    79.06,2,    33.65,2,     0.00,2,     2.36,2, -999.000,9, -999.000,9, -999.000,9,   2260.6,6,   2343.0,2,   -999.0,9,  -999.00,9, -999.000,9, -999.000,-999.0000,9,-999.0000,  -999.00,9,  -999.00, -999.000,9, -999.000,   -999.0,9,   -999.0,  -999.00,9,-999.0000,9,-999.0000,9,-999.0000,9,-999.0000,9,-999.0000,9,-999.0000,9
  33RR20070204,  I08S,    74,  2,     10,     10,2,20070309,1519,-35.4977,  94.9910, 4021,   1954.4,   2.5830,  34.6698,2,  34.6704,2,    165.9,2,    166.7,2,    83.68,2,    32.88,2,     0.00,2,     2.31,2, -999.000,9, -999.000,9, -999.000,9,   -999.0,9,   -999.0,9,   -999.0,9,  -999.00,9, -999.000,9, -999.000,-999.0000,9,-999.0000,  -999.00,9,  -999.00, -999.000,9, -999.000,   -999.0,9,   -999.0,  -999.00,9,-999.0000,9,-999.0000,9,-999.0000,9,-999.0000,9,-999.0000,9,-999.0000,9
  33RR20070204,  I08S,    74,  2,      9,      9,2,20070309,1519,-35.4977,  94.9910, 4021,   2116.7,   2.4178,  34.7017,2,  34.7028,2,    172.5,2,    173.3,2,    86.09,2,    32.12,2,     0.00,2,     2.25,2, -999.000,9, -999.000,9, -999.000,9,   2259.2,2,   2351.4,2,   -999.0,9,  -999.00,9, -999.000,9, -999.000,-999.0000,9,-999.0000,  -999.00,9,  -999.00, -999.000,9, -999.000,   -999.0,9,   -999.0,  -999.00,9,-999.0000,9,-999.0000,9,-999.0000,9,-999.0000,9,-999.0000,9,-999.0000,9
  33RR20070204,  I08S,    74,  2,      8,      8,2,20070309,1519,-35.4977,  94.9910, 4021,   2368.9,   2.2070,  34.7325,2,  34.7337,2,    184.7,2,    185.1,2,    86.09,2,    30.94,2,     0.00,2,     2.15,2, -999.000,9, -999.000,9, -999.000,9,   -999.0,9,   -999.0,9,   -999.0,9,  -999.00,9, -999.000,9, -999.000,-999.0000,9,-999.0000,  -999.00,9,  -999.00, -999.000,9, -999.000,   -999.0,9,   -999.0,  -999.00,9,-999.0000,9,-999.0000,9,-999.0000,9,-999.0000,9,-999.0000,9,-999.0000,9
  33RR20070204,  I08S,    74,  2,      7,      7,2,20070309,1519,-35.4977,  94.9910, 4021,   2622.3,   1.9656,  34.7459,2,  34.7468,2,    193.3,2,    193.0,2,    89.52,2,    30.46,2,     0.00,2,     2.11,2, -999.000,9, -999.000,9, -999.000,9,   2249.0,2,   2352.9,2,   -999.0,9,  -999.00,9, -999.000,9, -999.000,-999.0000,9,-999.0000,  -999.00,9,  -999.00, -999.000,9, -999.000,   -999.0,9,   -999.0,  -999.00,9,-999.0000,9,-999.0000,9,-999.0000,9,-999.0000,9,-999.0000,9,-999.0000,9
  33RR20070204,  I08S,    74,  2,      6,      6,2,20070309,1519,-35.4977,  94.9910, 4021,   2875.2,   1.6605,  34.7436,2,  34.7443,2,    198.5,2,    198.5,2,    98.00,2,    30.46,2,     0.00,2,     2.11,2, -999.000,9, -999.000,9, -999.000,9,   -999.0,9,   -999.0,9,   -999.0,9,  -999.00,9, -999.000,9, -999.000,-999.0000,9,-999.0000,  -999.00,9,  -999.00, -999.000,9, -999.000,   -999.0,9,   -999.0,  -999.00,9,-999.0000,9,-999.0000,9,-999.0000,9,-999.0000,9,-999.0000,9,-999.0000,9
  33RR20070204,  I08S,    74,  2,      5,      5,2,20070309,1519,-35.4977,  94.9910, 4021,   3129.3,   1.3888,  34.7337,2,  34.7342,2,    202.0,2,    202.4,2,   106.49,2,    30.88,2,     0.00,2,     2.14,2, -999.000,9, -999.000,9, -999.000,9,   -999.0,9,   -999.0,9,   -999.0,9,  -999.00,9, -999.000,9, -999.000,-999.0000,9,-999.0000,  -999.00,9,  -999.00, -999.000,9, -999.000,   -999.0,9,   -999.0,  -999.00,9,-999.0000,9,-999.0000,9,-999.0000,9,-999.0000,9,-999.0000,9,-999.0000,9
  33RR20070204,  I08S,    74,  2,      4,      4,2,20070309,1519,-35.4977,  94.9910, 4021,   3383.1,   1.1753,  34.7236,2,  34.7244,2,    204.3,2,    204.2,2,   112.98,2,    31.25,2,     0.00,2,     2.17,2, -999.000,9, -999.000,9, -999.000,9,   2257.0,2,   2361.7,2,   -999.0,9,  -999.00,9, -999.000,9, -999.000,-999.0000,9,-999.0000,  -999.00,9,  -999.00, -999.000,9, -999.000,   -999.0,9,   -999.0,  -999.00,9,-999.0000,9,-999.0000,9,-999.0000,9,-999.0000,9,-999.0000,9,-999.0000,9
  33RR20070204,  I08S,    74,  2,      3,      3,2,20070309,1519,-35.4977,  94.9910, 4021,   3636.8,   1.0891,  34.7185,2,  34.7193,2,    205.2,2,    204.7,2,   116.44,2,    31.48,2,     0.00,2,     2.19,2, -999.000,9, -999.000,9, -999.000,9,   -999.0,9,   -999.0,9,   -999.0,9,  -999.00,9, -999.000,9, -999.000,-999.0000,9,-999.0000,  -999.00,9,  -999.00, -999.000,9, -999.000,   -999.0,9,   -999.0,  -999.00,9,-999.0000,9,-999.0000,9,-999.0000,9,-999.0000,9,-999.0000,9,-999.0000,9
  33RR20070204,  I08S,    74,  2,      2,      2,2,20070309,1519,-35.4977,  94.9910, 4021,   3892.1,   1.0502,  34.7156,2,  34.7161,2,    205.7,2,    205.4,2,   117.87,2,    31.67,2,     0.00,2,     2.20,2, -999.000,9, -999.000,9, -999.000,9,   -999.0,9,   2368.8,2,   -999.0,9,  -999.00,9, -999.000,9, -999.000,-999.0000,9,-999.0000,  -999.00,9,  -999.00, -999.000,9, -999.000,   -999.0,9,   -999.0,  -999.00,9,-999.0000,9,-999.0000,9,-999.0000,9,-999.0000,9,-999.0000,9,-999.0000,9
  33RR20070204,  I08S,    74,  2,      1,      1,2,20070309,1519,-35.4977,  94.9910, 4021,   4106.9,   1.0406,  34.7140,2,  34.7150,2,    205.1,2,    205.9,2,   118.68,2,    31.81,2,     0.00,2,     2.20,2, -999.000,9, -999.000,9, -999.000,9,   2265.2,2,   2370.1,2,   -999.0,9,  -999.00,9, -999.000,9, -999.000,-999.0000,9,-999.0000,  -999.00,9,  -999.00, -999.000,9, -999.000,   -999.0,9,   -999.0,  -999.00,9,-999.0000,9,-999.0000,9,-999.0000,9,-999.0000,9,-999.0000,9,-999.0000,9