BOTTLE,20150626SIOCCHRJL
EXPOCODE,SECT_ID,STNNBR,CASTNO,SAMPNO,BTLNBR,BTLNBR_FLAG_W,DATE,TIME,LATITUDE,LONGITUDE,DEPTH,CTDPRS,CTDTMP,CTDSAL,CTDSAL_FLAG_W,SALNTY,SALNTY_FLAG_W,CTDOXY,CTDOXY_FLAG_W,OXYGEN,OXYGEN_FLAG_W,SILCAT,SILCAT_FLAG_W,NITRAT,NITRAT_FLAG_W,NITRIT,NITRIT_FLAG_W,PHSPHT,PHSPHT_FLAG_W,CFC-11,CFC-11_FLAG_W,CFC-12,CFC-12_FLAG_W,CFC113,CFC113_FLAG_W,TCARBN,TCARBN_FLAG_W,ALKALI,ALKALI_FLAG_W,DOC,DOC_FLAG_W,TDN,TDN_FLAG_W,TRITUM,TRITUM_FLAG_W,TRITER,HELIUM,HELIUM_FLAG_W,HELIER,DELHE3,DELHE3_FLAG_W,DELHER,NEON,NEON_FLAG_W,NEONER,DELC14,DELC14_FLAG_W,C14ERR,DELC13,DELC13_FLAG_W,CDOM325,CDOM325_FLAG_W,CDOM340,CDOM340_FLAG_W,CDOM380,CDOM380_FLAG_W,CDOM412,CDOM412_FLAG_W,CDOMSL,CDOMSL_FLAG_W,CDOMSN,CDOMSN_FLAG_W
,,,,,,,,,,,METERS,DBAR,ITS-90,PSS-78,,PSS-78,,UMOL/KG,,UMOL/KG,,UMOL/KG,,UMOL/KG,,UMOL/KG,,UMOL/KG,,PMOL/KG,,PMOL/KG,,PMOL/KG,,UMOL/KG,,UMOL/KG,,UMOL/KG,,UMOL/KG,,TU,,TU,NMOL/KG,,NMOL/KG,PERCNT,,PERCNT,NMOL/KG,,NMOL/KG,/MILLE,,/MILLE,/MILLE,,1/M,,1/M,,1/M,,1/M,,1/NM,,1/NM,
  33RR20070204,  I08S,    57,  1,     33,     33,2,20070304,1323,-44.0060,  95.0123, 3020,      3.5,  11.2395,  34.2614,2,  34.2615,2,    272.0,2,    273.4,2,     0.57,2,    12.17,2,     0.19,2,     0.96,2,    3.516,2,    2.027,2, -999.000,5,   2085.3,6,   2278.3,2,     49.3,2,    16.69,2, -999.000,9, -999.000,-999.0000,9,-999.0000,  -999.00,9,  -999.00, -999.000,9, -999.000,   -999.0,9,   -999.0,  -999.00,9,-999.0000,9,-999.0000,9,-999.0000,9,-999.0000,9,-999.0000,9,-999.0000,9
  33RR20070204,  I08S,    57,  1,     32,     37,2,20070304,1323,-44.0060,  95.0123, 3020,     19.2,  11.0013,  34.2639,2,  34.2656,2,    273.7,2,    276.4,2,     0.41,2,    12.08,2,     0.19,2,     0.95,2, -999.000,9, -999.000,9, -999.000,9,   2084.9,2,   2277.9,2,     48.8,2,    16.14,2, -999.000,9, -999.000,-999.0000,9,-999.0000,  -999.00,9,  -999.00, -999.000,9, -999.000,   -999.0,9,   -999.0,  -999.00,9,-999.0000,9,-999.0000,9,-999.0000,9,-999.0000,9,-999.0000,9,-999.0000,9
  33RR20070204,  I08S,    57,  1,     31,     31,2,20070304,1323,-44.0060,  95.0123, 3020,     44.4,  11.0251,  34.3790,2,  34.3794,2,    275.9,2,    276.2,2,     0.86,2,    11.80,2,     0.18,2,     0.94,2,    3.445,2,    1.944,2, -999.000,5,   2088.9,2,   2283.0,2,     47.9,2,    16.38,2, -999.000,9, -999.000,-999.0000,9,-999.0000,  -999.00,9,  -999.00, -999.000,9, -999.000,   -999.0,9,   -999.0,  -999.00,9,-999.0000,9,-999.0000,9,-999.0000,9,-999.0000,9,-999.0000,9,-999.0000,9
  33RR20070204,  I08S,    57,  1,     30,     30,2,20070304,1323,-44.0060,  95.0123, 3020,     89.4,  10.0115,  34.4046,2,  34.4024,2,    277.9,2,    274.3,2,     0.91,2,    12.73,2,     0.38,2,     1.01,2,    3.699,2,    2.101,2, -999.000,5,   2096.6,2,   2281.8,2,     47.1,2,    17.34,2, -999.000,9, -999.000,-999.0000,9,-999.0000,  -999.00,9,  -999.00, -999.000,9, -999.000,   -999.0,9,   -999.0,  -999.00,9,-999.0000,9,-999.0000,9,-999.0000,9,-999.0000,9,-999.0000,9,-999.0000,9
  33RR20070204,  I08S,    57,  1,     29,     29,2,20070304,1323,-44.0060,  95.0123, 3020,    139.2,   9.2576,  34.4953,2,  34.4935,2,    263.7,2,    263.1,2,     2.61,2,    15.27,2,     0.02,2,     1.11,2,    3.702,2,    2.117,2, -999.000,5,   2112.8,2,   2283.2,2,     46.6,2,    19.07,2, -999.000,9, -999.000,-999.0000,9,-999.0000,  -999.00,9,  -999.00, -999.000,9, -999.000,   -999.0,9,   -999.0,  -999.00,9,-999.0000,9,-999.0000,9,-999.0000,9,-999.0000,9,-999.0000,9,-999.0000,9
  33RR20070204,  I08S,    57,  1,     28,     28,2,20070304,1323,-44.0060,  95.0123, 3020,    163.8,   9.1013,  34.5057,2,  34.5058,2,    258.3,2,    260.6,2,     3.07,2,    15.71,2,     0.01,2,     1.14,2,    3.715,2,    2.099,2, -999.000,5,   2116.0,2,   2283.7,2,     46.3,2,    18.75,2, -999.000,9, -999.000,-999.0000,9,-999.0000,  -999.00,9,  -999.00, -999.000,9, -999.000,   -999.0,9,   -999.0,  -999.00,9,-999.0000,9,-999.0000,9,-999.0000,9,-999.0000,9,-999.0000,9,-999.0000,9
  33RR20070204,  I08S,    57,  1,     27,     27,2,20070304,1323,-44.0060,  95.0123, 3020,    189.3,   8.9823,  34.5211,2,  34.5219,2,    256.2,2,    259.1,2,     3.73,2,    16.19,2,     0.01,2,     1.17,2,    3.733,2,    2.139,2, -999.000,5,   2118.5,2,   2284.8,2,     45.3,2,    19.39,2, -999.000,9, -999.000,-999.0000,9,-999.0000,  -999.00,9,  -999.00, -999.000,9, -999.000,   -999.0,9,   -999.0,  -999.00,9,-999.0000,9,-999.0000,9,-999.0000,9,-999.0000,9,-999.0000,9,-999.0000,9
  33RR20070204,  I08S,    57,  1,     26,     26,2,20070304,1323,-44.0060,  95.0123, 3020,    238.7,   8.9315,  34.5583,2,  34.5583,2,    257.5,2,    251.2,2,     4.60,2,    16.67,2,     0.01,2,     1.20,2,    3.541,2,    1.947,2, -999.000,5,   2123.2,2,   2285.3,2,     44.5,2,    19.77,2, -999.000,9, -999.000,-999.0000,9,-999.0000,  -999.00,9,  -999.00, -999.000,9, -999.000,   -999.0,9,   -999.0,  -999.00,9,-999.0000,9,-999.0000,9,-999.0000,9,-999.0000,9,-999.0000,9,-999.0000,9
  33RR20070204,  I08S,    57,  1,     25,     25,2,20070304,1323,-44.0060,  95.0123, 3020,    288.5,   8.3897,  34.4848,2,  34.4851,2,    261.3,2,    259.6,2,     4.86,2,    17.33,2,     0.01,2,     1.24,2,    3.743,2,    2.156,2, -999.000,5,   2122.5,2,   2282.8,2,     43.9,2,    20.37,2, -999.000,9, -999.000,-999.0000,9,-999.0000,  -999.00,9,  -999.00, -999.000,9, -999.000,   -999.0,9,   -999.0,  -999.00,9,-999.0000,9,-999.0000,9,-999.0000,9,-999.0000,9,-999.0000,9,-999.0000,9
  33RR20070204,  I08S,    57,  1,     24,     24,2,20070304,1323,-44.0060,  95.0123, 3020,    338.2,   8.1604,  34.4555,2,  34.4599,2,    264.0,2,    264.5,2,     4.91,2,    17.52,2,     0.01,2,     1.26,2,    3.772,2,    2.117,2, -999.000,5,   2121.5,2,   2283.5,2,     43.5,2,    20.81,2, -999.000,9, -999.000,-999.0000,9,-999.0000,  -999.00,9,  -999.00, -999.000,9, -999.000,   -999.0,9,   -999.0,  -999.00,9,-999.0000,9,-999.0000,9,-999.0000,9,-999.0000,9,-999.0000,9,-999.0000,9
  33RR20070204,  I08S,    57,  1,     23,     23,2,20070304,1323,-44.0060,  95.0123, 3020,    388.1,   7.7768,  34.4096,2,  34.4014,2,    259.9,2,    258.7,2,     5.78,2,    18.96,2,     0.00,2,     1.34,2,    3.736,2,    2.067,2, -999.000,5,   2127.3,2,   2281.5,2,     43.1,2,    22.18,2, -999.000,9, -999.000,-999.0000,9,-999.0000,  -999.00,9,  -999.00, -999.000,9, -999.000,   -999.0,9,   -999.0,  -999.00,9,-999.0000,9,-999.0000,9,-999.0000,9,-999.0000,9,-999.0000,9,-999.0000,9
  33RR20070204,  I08S,    57,  1,     22,     22,2,20070304,1323,-44.0060,  95.0123, 3020,    438.9,   7.2056,  34.3430,2,  34.3292,2,    251.7,2,    252.9,2,     7.27,2,    20.87,2,     0.00,2,     1.47,2,    3.822,2,    2.143,2, -999.000,5,   2135.3,2,   2279.3,2,     43.0,2,    24.09,2, -999.000,9, -999.000,-999.0000,9,-999.0000,  -999.00,9,  -999.00, -999.000,9, -999.000,   -999.0,9,   -999.0,  -999.00,9,-999.0000,9,-999.0000,9,-999.0000,9,-999.0000,9,-999.0000,9,-999.0000,9
  33RR20070204,  I08S,    57,  1,     21,     21,2,20070304,1323,-44.0060,  95.0123, 3020,    488.9,   7.2421,  34.4170,2,  34.4126,2,    231.4,2,    229.9,2,    10.21,2,    22.50,2,     0.00,2,     1.56,2,    3.417,2,    1.874,2, -999.000,5,   -999.0,5,   2281.2,2,     42.8,2,    25.60,2, -999.000,9, -999.000,-999.0000,9,-999.0000,  -999.00,9,  -999.00, -999.000,9, -999.000,   -999.0,9,   -999.0,  -999.00,9,-999.0000,9,-999.0000,9,-999.0000,9,-999.0000,9,-999.0000,9,-999.0000,9
  33RR20070204,  I08S,    57,  1,     20,     20,2,20070304,1323,-44.0060,  95.0123, 3020,    573.5,   6.2323,  34.3481,2,  34.3448,2,    221.8,2,    224.6,2,    14.19,2,    25.29,2,     0.00,2,     1.75,2,    3.312,2,    1.799,2, -999.000,5,   2160.9,2,   2281.2,2,     42.4,2,    27.29,2, -999.000,9, -999.000,-999.0000,9,-999.0000,  -999.00,9,  -999.00, -999.000,9, -999.000,   -999.0,9,   -999.0,  -999.00,9,-999.0000,9,-999.0000,9,-999.0000,9,-999.0000,9,-999.0000,9,-999.0000,9
  33RR20070204,  I08S,    57,  1,     19,     19,2,20070304,1323,-44.0060,  95.0123, 3020,    674.6,   5.4650,  34.3381,2,  34.3324,2,    218.7,2,    219.7,2,    19.42,2,    27.41,2,     0.00,2,     1.90,2,    3.040,2,    1.591,2, -999.000,5,   2173.0,2,   2283.0,2,     42.0,2,    30.26,2, -999.000,9, -999.000,-999.0000,9,-999.0000,  -999.00,9,  -999.00, -999.000,9, -999.000,   -999.0,9,   -999.0,  -999.00,9,-999.0000,9,-999.0000,9,-999.0000,9,-999.0000,9,-999.0000,9,-999.0000,9
  33RR20070204,  I08S,    57,  1,     18,     18,2,20070304,1323,-44.0060,  95.0123, 3020,    774.9,   4.6172,  34.2981,2,  34.2981,2,    221.6,2,    222.8,2,    23.82,2,    28.96,2,     0.00,2,     1.99,2,    2.964,2,    1.540,2, -999.000,5,   2182.6,6,   2286.9,2,     41.7,2,    31.83,2, -999.000,9, -999.000,-999.0000,9,-999.0000,  -999.00,9,  -999.00, -999.000,9, -999.000,   -999.0,9,   -999.0,  -999.00,9,-999.0000,9,-999.0000,9,-999.0000,9,-999.0000,9,-999.0000,9,-999.0000,9
  33RR20070204,  I08S,    57,  1,     17,     17,2,20070304,1323,-44.0060,  95.0123, 3020,    875.5,   4.0729,  34.3028,2,  34.3036,2,    216.5,2,    217.8,2,    29.89,2,    30.32,2,     0.00,2,     2.10,2,    2.617,2,    1.354,2, -999.000,5,   2192.6,2,   2289.9,2,     41.0,2,    32.61,2, -999.000,9, -999.000,-999.0000,9,-999.0000,  -999.00,9,  -999.00, -999.000,9, -999.000,   -999.0,9,   -999.0,  -999.00,9,-999.0000,9,-999.0000,9,-999.0000,9,-999.0000,9,-999.0000,9,-999.0000,9
  33RR20070204,  I08S,    57,  1,     16,     16,2,20070304,1323,-44.0060,  95.0123, 3020,    976.0,   3.5922,  34.3322,2,  34.3326,2,    206.9,2,    207.2,2,    38.25,2,    31.72,2,     0.00,2,     2.20,2,    2.117,2,    1.091,2, -999.000,5,   2206.9,2,   2297.6,2,     41.4,2,    34.07,2, -999.000,9, -999.000,-999.0000,9,-999.0000,  -999.00,9,  -999.00, -999.000,9, -999.000,   -999.0,9,   -999.0,  -999.00,9,-999.0000,9,-999.0000,9,-999.0000,9,-999.0000,9,-999.0000,9,-999.0000,9
  33RR20070204,  I08S,    57,  1,     15,     15,2,20070304,1323,-44.0060,  95.0123, 3020,   1076.7,   3.3772,  34.3818,2,  34.3807,2,    194.7,2,    194.9,2,    45.79,2,    32.70,2,     0.00,2,     2.28,2,    1.556,2,    0.801,2, -999.000,5,   2218.2,2,   2305.9,2,     41.2,2,    34.53,2, -999.000,9, -999.000,-999.0000,9,-999.0000,  -999.00,9,  -999.00, -999.000,9, -999.000,   -999.0,9,   -999.0,  -999.00,9,-999.0000,9,-999.0000,9,-999.0000,9,-999.0000,9,-999.0000,9,-999.0000,9
  33RR20070204,  I08S,    57,  1,     14,     14,2,20070304,1323,-44.0060,  95.0123, 3020,   1177.9,   3.1706,  34.4325,2,  34.4309,2,    185.1,2,    185.3,2,    53.35,2,    33.42,2,     0.00,2,     2.33,2,    1.097,2,    0.560,2, -999.000,5,   2235.4,2,   2312.7,2,     41.1,2,    34.46,2, -999.000,9, -999.000,-999.0000,9,-999.0000,  -999.00,9,  -999.00, -999.000,9, -999.000,   -999.0,9,   -999.0,  -999.00,9,-999.0000,9,-999.0000,9,-999.0000,9,-999.0000,9,-999.0000,9,-999.0000,9
  33RR20070204,  I08S,    57,  1,     13,     13,2,20070304,1323,-44.0060,  95.0123, 3020,   1278.3,   3.0092,  34.4756,2,  34.4753,2,    179.9,2,    179.4,2,    58.41,2,    33.66,2,     0.00,2,     2.35,2,    0.830,2,    0.422,2, -999.000,5,   2243.0,2,   2317.9,2,     40.8,2,    35.43,2, -999.000,9, -999.000,-999.0000,9,-999.0000,  -999.00,9,  -999.00, -999.000,9, -999.000,   -999.0,9,   -999.0,  -999.00,9,-999.0000,9,-999.0000,9,-999.0000,9,-999.0000,9,-999.0000,9,-999.0000,9
  33RR20070204,  I08S,    57,  1,     12,     12,2,20070304,1323,-44.0060,  95.0123, 3020,   1379.7,   2.8795,  34.5213,2,  34.5158,0,    175.9,2,    175.8,2,    62.86,2,    33.61,2,     0.00,2,     2.35,2,    0.618,2,    0.314,2, -999.000,5,   2244.2,2,   2322.8,2,     40.7,2,    35.22,2, -999.000,9, -999.000,-999.0000,9,-999.0000,  -999.00,9,  -999.00, -999.000,9, -999.000,   -999.0,9,   -999.0,  -999.00,9,-999.0000,9,-999.0000,9,-999.0000,9,-999.0000,9,-999.0000,9,-999.0000,9
  33RR20070204,  I08S,    57,  1,     11,     11,2,20070304,1323,-44.0060,  95.0123, 3020,   1480.1,   2.7686,  34.5685,2,  34.5645,2,    174.4,2,    174.4,2,    66.05,2,    33.32,2,     0.00,2,     2.32,2,    0.443,2,    0.220,2, -999.000,5,   2247.4,6,   2327.3,2,     40.4,2,    35.15,2, -999.000,9, -999.000,-999.0000,9,-999.0000,  -999.00,9,  -999.00, -999.000,9, -999.000,   -999.0,9,   -999.0,  -999.00,9,-999.0000,9,-999.0000,9,-999.0000,9,-999.0000,9,-999.0000,9,-999.0000,9
  33RR20070204,  I08S,    57,  1,     10,     10,2,20070304,1323,-44.0060,  95.0123, 3020,   1580.9,   2.6862,  34.6077,2,  34.6046,2,    174.9,2,    175.0,2,    68.62,2,    32.87,2,     0.00,2,     2.29,2,    0.317,2,    0.158,2, -999.000,5,   2246.3,2,   2331.1,2,     40.5,2,    34.37,2, -999.000,9, -999.000,-999.0000,9,-999.0000,  -999.00,9,  -999.00, -999.000,9, -999.000,   -999.0,9,   -999.0,  -999.00,9,-999.0000,9,-999.0000,9,-999.0000,9,-999.0000,9,-999.0000,9,-999.0000,9
  33RR20070204,  I08S,    57,  1,      9,      9,2,20070304,1323,-44.0060,  95.0123, 3020,   1682.0,   2.6017,  34.6418,2,  34.6395,2,    176.9,2,    177.1,2,    70.35,2,    32.33,2,     0.00,2,     2.25,2,    0.215,2,    0.104,2, -999.000,5,   2246.8,2,   2333.6,2,     40.8,2,    33.45,2, -999.000,9, -999.000,-999.0000,9,-999.0000,  -999.00,9,  -999.00, -999.000,9, -999.000,   -999.0,9,   -999.0,  -999.00,9,-999.0000,9,-999.0000,9,-999.0000,9,-999.0000,9,-999.0000,9,-999.0000,9
  33RR20070204,  I08S,    57,  1,      8,      8,2,20070304,1323,-44.0060,  95.0123, 3020,   1782.7,   2.5191,  34.6743,2,  34.6690,0,    180.0,2,    180.2,2,    71.65,2,    31.75,2,     0.00,2,     2.20,2,    0.189,2,    0.090,2, -999.000,5,   2246.1,2,   2334.5,2,     41.3,2,    32.75,2, -999.000,9, -999.000,-999.0000,9,-999.0000,  -999.00,9,  -999.00, -999.000,9, -999.000,   -999.0,9,   -999.0,  -999.00,9,-999.0000,9,-999.0000,9,-999.0000,9,-999.0000,9,-999.0000,9,-999.0000,9
  33RR20070204,  I08S,    57,  1,      7,      7,2,20070304,1323,-44.0060,  95.0123, 3020,   1883.8,   2.4629,  34.6946,2,  34.6949,2,    182.6,2,    183.0,2,    72.97,2,    31.30,2,     0.00,2,     2.17,2,    0.172,2,    0.081,2, -999.000,5,   2244.9,2,   2336.1,2,     41.4,2,    32.88,2, -999.000,9, -999.000,-999.0000,9,-999.0000,  -999.00,9,  -999.00, -999.000,9, -999.000,   -999.0,9,   -999.0,  -999.00,9,-999.0000,9,-999.0000,9,-999.0000,9,-999.0000,9,-999.0000,9,-999.0000,9
  33RR20070204,  I08S,    57,  1,      6,      6,2,20070304,1323,-44.0060,  95.0123, 3020,   1985.1,   2.4027,  34.7146,2,  34.7146,2,    186.1,2,    186.5,2,    73.65,2,    30.63,2,     0.00,2,     2.13,2,    0.138,2,    0.065,2, -999.000,5,   2242.7,2,   2339.1,2,     41.3,2,    32.51,2, -999.000,9, -999.000,-999.0000,9,-999.0000,  -999.00,9,  -999.00, -999.000,9, -999.000,   -999.0,9,   -999.0,  -999.00,9,-999.0000,9,-999.0000,9,-999.0000,9,-999.0000,9,-999.0000,9,-999.0000,9
  33RR20070204,  I08S,    57,  1,      5,      5,2,20070304,1323,-44.0060,  95.0123, 3020,   2187.1,   2.2491,  34.7434,2,  34.7419,2,    192.7,2,    192.7,2,    76.86,2,    29.99,2,     0.00,2,     2.08,2,    0.103,2,    0.048,2, -999.000,5,   2244.0,2,   2340.9,2,     40.5,2,    31.02,2, -999.000,9, -999.000,-999.0000,9,-999.0000,  -999.00,9,  -999.00, -999.000,9, -999.000,   -999.0,9,   -999.0,  -999.00,9,-999.0000,9,-999.0000,9,-999.0000,9,-999.0000,9,-999.0000,9,-999.0000,9
  33RR20070204,  I08S,    57,  1,      4,      4,2,20070304,1323,-44.0060,  95.0123, 3020,   2440.3,   2.0018,  34.7543,2,-999.0000,9,    197.5,2,    197.2,2,    84.27,2,    29.89,2,     0.00,2,     2.07,2,    0.066,2,    0.029,2, -999.000,5,   2244.1,2,   2346.4,2,     40.8,2,    30.91,2, -999.000,9, -999.000,-999.0000,9,-999.0000,  -999.00,9,  -999.00, -999.000,9, -999.000,   -999.0,9,   -999.0,  -999.00,9,-999.0000,9,-999.0000,9,-999.0000,9,-999.0000,9,-999.0000,9,-999.0000,9
  33RR20070204,  I08S,    57,  1,      3,      3,2,20070304,1323,-44.0060,  95.0123, 3020,   2694.0,   1.6203,  34.7435,2,  34.7439,2,    200.4,2,    200.1,2,    97.18,2,    30.52,2,     0.00,2,     2.12,2,    0.080,2,    0.036,2, -999.000,5,   2251.3,2,   2353.9,2,     40.7,2,    32.22,2, -999.000,9, -999.000,-999.0000,9,-999.0000,  -999.00,9,  -999.00, -999.000,9, -999.000,   -999.0,9,   -999.0,  -999.00,9,-999.0000,9,-999.0000,9,-999.0000,9,-999.0000,9,-999.0000,9,-999.0000,9
  33RR20070204,  I08S,    57,  1,      2,      2,2,20070304,1323,-44.0060,  95.0123, 3020,   2896.5,   1.5588,  34.7401,2,  34.7375,0,    200.7,2,    200.2,2,   100.20,2,    30.72,2,     0.00,2,     2.14,2, -999.000,9, -999.000,9, -999.000,9,   -999.0,9,   2354.1,2,     40.6,2,    32.07,2, -999.000,9, -999.000,-999.0000,9,-999.0000,  -999.00,9,  -999.00, -999.000,9, -999.000,   -999.0,9,   -999.0,  -999.00,9,-999.0000,9,-999.0000,9,-999.0000,9,-999.0000,9,-999.0000,9,-999.0000,9
  33RR20070204,  I08S,    57,  1,      1,      1,2,20070304,1323,-44.0060,  95.0123, 3020,   3053.7,   1.5416,  34.7391,2,  34.7449,0,    200.7,2,    201.0,2,   101.95,2,    30.86,2,     0.00,2,     2.14,2,    0.088,2,    0.040,2, -999.000,5,   2253.8,6,   2356.8,2,     40.5,2,    32.06,2, -999.000,9, -999.000,-999.0000,9,-999.0000,  -999.00,9,  -999.00, -999.000,9, -999.000,   -999.0,9,   -999.0,  -999.00,9,-999.0000,9,-999.0000,9,-999.0000,9,-999.0000,9,-999.0000,9,-999.0000,9