BOTTLE,20150626SIOCCHRJL
EXPOCODE,SECT_ID,STNNBR,CASTNO,SAMPNO,BTLNBR,BTLNBR_FLAG_W,DATE,TIME,LATITUDE,LONGITUDE,DEPTH,CTDPRS,CTDTMP,CTDSAL,CTDSAL_FLAG_W,SALNTY,SALNTY_FLAG_W,CTDOXY,CTDOXY_FLAG_W,OXYGEN,OXYGEN_FLAG_W,SILCAT,SILCAT_FLAG_W,NITRAT,NITRAT_FLAG_W,NITRIT,NITRIT_FLAG_W,PHSPHT,PHSPHT_FLAG_W,CFC-11,CFC-11_FLAG_W,CFC-12,CFC-12_FLAG_W,CFC113,CFC113_FLAG_W,TCARBN,TCARBN_FLAG_W,ALKALI,ALKALI_FLAG_W,DOC,DOC_FLAG_W,TDN,TDN_FLAG_W,TRITUM,TRITUM_FLAG_W,TRITER,HELIUM,HELIUM_FLAG_W,HELIER,DELHE3,DELHE3_FLAG_W,DELHER,NEON,NEON_FLAG_W,NEONER,DELC14,DELC14_FLAG_W,C14ERR,DELC13,DELC13_FLAG_W,CDOM325,CDOM325_FLAG_W,CDOM340,CDOM340_FLAG_W,CDOM380,CDOM380_FLAG_W,CDOM412,CDOM412_FLAG_W,CDOMSL,CDOMSL_FLAG_W,CDOMSN,CDOMSN_FLAG_W
,,,,,,,,,,,METERS,DBAR,ITS-90,PSS-78,,PSS-78,,UMOL/KG,,UMOL/KG,,UMOL/KG,,UMOL/KG,,UMOL/KG,,UMOL/KG,,PMOL/KG,,PMOL/KG,,PMOL/KG,,UMOL/KG,,UMOL/KG,,UMOL/KG,,UMOL/KG,,TU,,TU,NMOL/KG,,NMOL/KG,PERCNT,,PERCNT,NMOL/KG,,NMOL/KG,/MILLE,,/MILLE,/MILLE,,1/M,,1/M,,1/M,,1/M,,1/NM,,1/NM,
  33RR20070204,  I08S,    63,  1,     35,     35,2,20070306,0427,-41.0092,  94.9837, 3440,      4.9,  13.6365,  34.7188,2,  34.7181,2,    259.0,2,    262.7,2,     0.00,2,     5.71,2,     0.11,2,     0.55,2,    3.065,2,    1.815,2, -999.000,5,   2065.7,6,   2294.7,2,     53.2,2,    10.37,2, -999.000,9, -999.000,-999.0000,9,-999.0000,  -999.00,9,  -999.00, -999.000,9, -999.000,   -999.0,9,   -999.0,  -999.00,9,   0.1185,2,   0.0819,2,   0.0338,2,   0.0240,2,   0.0157,3,   0.0202,3
  33RR20070204,  I08S,    63,  1,     34,   9419,2,20070306,0427,-41.0092,  94.9837, 3440,     22.0,  13.6344,  34.7190,2,  34.7187,2,    261.4,2,    261.6,2,     0.00,2,     5.71,2,     0.11,2,     0.55,2,    3.080,2,    1.838,2, -999.000,5,   2065.5,2,   2294.1,2,     52.6,2,    10.19,2, -999.000,9, -999.000,-999.0000,9,-999.0000,  -999.00,9,  -999.00, -999.000,9, -999.000,   -999.0,9,   -999.0,  -999.00,9,   0.1173,2,   0.0798,2,   0.0321,2,   0.0224,2,   0.0162,3,   0.0212,3
  33RR20070204,  I08S,    63,  1,     33,     33,2,20070306,0427,-41.0092,  94.9837, 3440,     46.9,  13.3549,  34.7283,2,  34.7283,2,    262.4,2,    262.5,2,     0.00,2,     6.07,2,     0.12,2,     0.59,2,    3.130,2,    1.858,2, -999.000,5,   2070.8,2,   2293.8,2,     50.4,2,    10.72,2, -999.000,9, -999.000,-999.0000,9,-999.0000,  -999.00,9,  -999.00, -999.000,9, -999.000,   -999.0,9,   -999.0,  -999.00,9,   0.1012,2,   0.0700,2,   0.0331,2,   0.0236,2,   0.0149,4,   0.0179,4
  33RR20070204,  I08S,    63,  1,     32,     37,2,20070306,0427,-41.0092,  94.9837, 3440,     92.0,  11.3932,  34.7725,2,  34.7719,2,    260.2,2,    259.9,2,     1.70,2,     8.60,2,     0.73,2,     0.79,2,    3.432,2,    2.016,2, -999.000,5,   2097.0,2,   2294.2,2,     48.1,2,    14.07,2, -999.000,9, -999.000,-999.0000,9,-999.0000,  -999.00,9,  -999.00, -999.000,9, -999.000,   -999.0,9,   -999.0,  -999.00,9,   0.0866,2,   0.0620,2,   0.0317,2,   0.0233,2,   0.0108,3,   0.0161,2
  33RR20070204,  I08S,    63,  1,     31,     31,2,20070306,0427,-41.0092,  94.9837, 3440,    140.9,  10.7646,  34.8131,2,  34.8148,2,    258.7,2,    258.1,2,     2.09,2,    11.14,2,     0.02,2,     0.86,2,    3.471,2,    2.036,2, -999.000,5,   2106.7,2,   2294.3,2,     45.8,2,    14.34,2, -999.000,9, -999.000,-999.0000,9,-999.0000,  -999.00,9,  -999.00, -999.000,9, -999.000,   -999.0,9,   -999.0,  -999.00,9,   0.0718,2,   0.0483,2,   0.0252,2,   0.0200,2,   0.0095,3,   0.0162,3
  33RR20070204,  I08S,    63,  1,     30,     30,2,20070306,0427,-41.0092,  94.9837, 3440,    167.5,  10.4690,  34.7653,2,  34.7676,2,    259.3,2,    260.0,2,     2.09,2,    11.84,2,     0.02,2,     0.91,2,    3.520,2,    2.060,2, -999.000,5,   2109.0,2,   2292.1,2,     45.5,2,    15.76,2, -999.000,9, -999.000,-999.0000,9,-999.0000,  -999.00,9,  -999.00, -999.000,9, -999.000,   -999.0,9,   -999.0,  -999.00,9,   0.0801,2,   0.0553,2,   0.0307,2,   0.0244,2,   0.0125,3,   0.0143,4
  33RR20070204,  I08S,    63,  1,     29,     29,2,20070306,0427,-41.0092,  94.9837, 3440,    191.8,  10.4080,  34.7627,2,  34.7623,2,    259.3,2,    259.3,2,     2.09,2,    11.99,2,     0.01,2,     0.91,2,    3.525,2,    2.067,2, -999.000,5,   2108.2,2,   2293.1,2,     44.9,2,    15.54,2, -999.000,9, -999.000,-999.0000,9,-999.0000,  -999.00,9,  -999.00, -999.000,9, -999.000,   -999.0,9,   -999.0,  -999.00,9,   0.0750,2,   0.0512,2,   0.0278,2,   0.0220,2,   0.0130,3,   0.0152,4
  33RR20070204,  I08S,    63,  1,     28,     28,2,20070306,0427,-41.0092,  94.9837, 3440,    241.9,  10.2009,  34.7328,2,  34.7326,2,    258.3,2,    260.8,2,     2.29,2,    12.31,2,     0.01,2,     0.93,2,    3.559,2,    2.074,2, -999.000,5,   2107.3,2,   2290.8,2,     44.9,2,    16.09,2, -999.000,9, -999.000,-999.0000,9,-999.0000,  -999.00,9,  -999.00, -999.000,9, -999.000,   -999.0,9,   -999.0,  -999.00,9,   0.0705,2,   0.0473,2,   0.0249,2,   0.0200,2,   0.0131,3,   0.0158,3
  33RR20070204,  I08S,    63,  1,     27,     27,2,20070306,0427,-41.0092,  94.9837, 3440,    292.4,  10.2062,  34.7474,2,  34.7449,2,    261.3,2,    261.1,2,     2.48,2,    12.27,2,     0.01,2,     0.93,2,    3.557,2,    2.068,2, -999.000,5,   2107.8,2,   2290.9,2,     44.3,2,    15.63,2, -999.000,9, -999.000,-999.0000,9,-999.0000,  -999.00,9,  -999.00, -999.000,9, -999.000,   -999.0,9,   -999.0,  -999.00,9,   0.0726,2,   0.0491,2,   0.0267,2,   0.0212,2,   0.0129,3,   0.0152,4
  33RR20070204,  I08S,    63,  1,     26,     26,2,20070306,0427,-41.0092,  94.9837, 3440,    342.7,  10.3709,  34.7998,2,  34.7986,2,    254.1,2,    250.4,2,     2.87,2,    12.93,2,     0.01,2,     0.97,2,    3.482,2,    2.014,2, -999.000,5,   2115.6,2,   2294.0,2,     43.4,2,    16.52,2, -999.000,9, -999.000,-999.0000,9,-999.0000,  -999.00,9,  -999.00, -999.000,9, -999.000,   -999.0,9,   -999.0,  -999.00,9,   0.0763,2,   0.0519,2,   0.0281,2,   0.0222,2,   0.0129,4,   0.0152,4
  33RR20070204,  I08S,    63,  1,     25,     25,2,20070306,0427,-41.0092,  94.9837, 3440,    392.4,  10.0834,  34.7592,2,  34.7589,2,    250.0,2,    249.8,2,     3.07,2,    13.63,2,     0.01,2,     1.01,2,    3.535,2,    2.027,2, -999.000,5,   2118.6,2,   2291.9,2,     42.9,2,    17.48,2, -999.000,9, -999.000,-999.0000,9,-999.0000,  -999.00,9,  -999.00, -999.000,9, -999.000,   -999.0,9,   -999.0,  -999.00,9,   0.0730,2,   0.0490,2,   0.0260,2,   0.0205,2,   0.0133,3,   0.0159,3
  33RR20070204,  I08S,    63,  1,     24,     24,2,20070306,0427,-41.0092,  94.9837, 3440,    442.0,   9.8970,  34.7394,2,  34.7376,2,    247.2,2,    247.4,2,     3.26,2,    14.34,2,     0.00,2,     1.05,2,    3.547,2,    2.010,2, -999.000,5,   2121.2,2,   2290.8,2,     42.3,2,    18.02,2, -999.000,9, -999.000,-999.0000,9,-999.0000,  -999.00,9,  -999.00, -999.000,9, -999.000,   -999.0,9,   -999.0,  -999.00,9,   0.0723,2,   0.0482,2,   0.0259,2,   0.0202,2,   0.0134,3,   0.0160,3
  33RR20070204,  I08S,    63,  1,     23,     23,2,20070306,0427,-41.0092,  94.9837, 3440,    490.2,   9.7077,  34.7196,2,  34.7203,2,    243.6,2,    244.6,2,     3.86,2,    15.03,2,     0.00,2,     1.08,2,    3.544,2,    1.997,2, -999.000,5,   2122.6,2,   2290.7,2,     42.4,2,    18.98,2, -999.000,9, -999.000,-999.0000,9,-999.0000,  -999.00,9,  -999.00, -999.000,9, -999.000,   -999.0,9,   -999.0,  -999.00,9,   0.0718,2,   0.0475,2,   0.0253,2,   0.0197,2,   0.0134,3,   0.0162,3
  33RR20070204,  I08S,    63,  1,     22,     22,2,20070306,0427,-41.0092,  94.9837, 3440,    573.6,   9.1152,  34.6481,2,  34.6478,2,    237.0,2,    235.3,2,     5.03,2,    17.24,2,     0.00,2,     1.22,2,    3.471,2,    1.911,2, -999.000,5,   2131.4,2,   2286.6,2,     41.5,2,    19.74,2, -999.000,9, -999.000,-999.0000,9,-999.0000,  -999.00,9,  -999.00, -999.000,9, -999.000,   -999.0,9,   -999.0,  -999.00,9,   0.0763,2,   0.0512,2,   0.0278,2,   0.0218,2,   0.0132,3,   0.0154,3
  33RR20070204,  I08S,    63,  1,     21,     21,2,20070306,0427,-41.0092,  94.9837, 3440,    675.7,   8.1504,  34.5556,2,  34.5558,2,    217.2,2,    215.5,2,     9.14,2,    21.26,2,     0.00,2,     1.48,2,    3.018,2,    1.601,2, -999.000,5,   2148.0,2,   2285.3,2,     41.3,2,    23.74,2, -999.000,9, -999.000,-999.0000,9,-999.0000,  -999.00,9,  -999.00, -999.000,9, -999.000,   -999.0,9,   -999.0,  -999.00,9,   0.0865,2,   0.0584,2,   0.0312,2,   0.0242,2,   0.0134,3,   0.0156,3
  33RR20070204,  I08S,    63,  1,     20,     20,2,20070306,0427,-41.0092,  94.9837, 3440,    776.5,   6.8408,  34.4501,2,  34.4502,2,    209.7,2,    209.2,2,    14.63,2,    24.86,2,     0.00,2,     1.71,2,    2.689,2,    1.396,2, -999.000,5,   2163.7,2,   2285.7,2,     41.1,2,    27.58,2, -999.000,9, -999.000,-999.0000,9,-999.0000,  -999.00,9,  -999.00, -999.000,9, -999.000,   -999.0,9,   -999.0,  -999.00,9,   0.0911,2,   0.0617,2,   0.0345,2,   0.0266,2,   0.0132,4,   0.0149,4
  33RR20070204,  I08S,    63,  1,     19,     19,2,20070306,0427,-41.0092,  94.9837, 3440,    876.7,   5.5648,  34.3647,2,  34.3634,2,    211.7,2,    212.3,2,    20.13,2,    27.27,2,     0.00,2,     1.90,2,    2.601,2,    1.341,2, -999.000,5,   2175.7,2,   2284.9,2,     41.1,2,    29.65,2, -999.000,9, -999.000,-999.0000,9,-999.0000,  -999.00,9,  -999.00, -999.000,9, -999.000,   -999.0,9,   -999.0,  -999.00,9,   0.0902,2,   0.0600,2,   0.0333,2,   0.0256,2,   0.0134,3,   0.0153,3
  33RR20070204,  I08S,    63,  1,     18,     18,2,20070306,0427,-41.0092,  94.9837, 3440,    978.7,   4.6779,  34.3318,2,  34.3320,2,    212.4,2,    212.9,2,    26.23,2,    29.32,2,     0.00,2,     2.02,2,    2.406,2,    1.225,2, -999.000,5,   2186.9,2,   2289.9,2,     41.0,2,    31.48,2, -999.000,9, -999.000,-999.0000,9,-999.0000,  -999.00,9,  -999.00, -999.000,9, -999.000,   -999.0,9,   -999.0,  -999.00,9,   0.0999,2,   0.0680,2,   0.0395,2,   0.0307,2,   0.0128,4,   0.0141,4
  33RR20070204,  I08S,    63,  1,     17,     17,2,20070306,0427,-41.0092,  94.9837, 3440,   1078.9,   4.0753,  34.3356,2,  34.3351,2,    207.6,2,    208.0,2,    32.94,2,    30.75,2,     0.00,2,     2.12,2,    2.074,2,    1.050,2, -999.000,5,   2199.1,2,   2294.0,2,     40.6,2,    32.48,2, -999.000,9, -999.000,-999.0000,9,-999.0000,  -999.00,9,  -999.00, -999.000,9, -999.000,   -999.0,9,   -999.0,  -999.00,9,   0.0980,2,   0.0659,2,   0.0370,2,   0.0283,2,   0.0133,3,   0.0149,3
  33RR20070204,  I08S,    63,  1,     16,     16,2,20070306,0427,-41.0092,  94.9837, 3440,   1179.0,   3.6204,  34.3635,2,  34.3626,2,    199.3,2,    198.9,2,    41.43,2,    32.04,2,     0.00,2,     2.22,2, -999.000,9, -999.000,9, -999.000,9,   2212.3,2,   2302.3,2,     40.6,2,    33.11,2, -999.000,9, -999.000,-999.0000,9,-999.0000,  -999.00,9,  -999.00, -999.000,9, -999.000,   -999.0,9,   -999.0,  -999.00,9,   0.1032,2,   0.0694,2,   0.0391,2,   0.0298,2,   0.0134,3,   0.0149,3
  33RR20070204,  I08S,    63,  1,     15,     15,2,20070306,0427,-41.0092,  94.9837, 3440,   1280.5,   3.3485,  34.4128,2,  34.4116,2,    188.8,2,    187.4,2,    49.36,2,    32.90,2,     0.00,2,     2.29,2,    1.127,2,    0.572,2, -999.000,5,   2225.1,2,   2309.1,2,     40.7,2,    34.22,2, -999.000,9, -999.000,-999.0000,9,-999.0000,  -999.00,9,  -999.00, -999.000,9, -999.000,   -999.0,9,   -999.0,  -999.00,9,   0.1197,2,   0.0836,2,   0.0485,2,   0.0371,2,   0.0129,4,   0.0138,4
  33RR20070204,  I08S,    63,  1,     14,     14,2,20070306,0427,-41.0092,  94.9837, 3440,   1381.5,   3.1077,  34.4635,2,  34.4642,2,    180.9,2,    180.6,2,    56.32,2,    33.42,2,     0.00,2,     2.33,2,    0.826,2,    0.421,2, -999.000,5,   2235.3,2,   2317.3,2,     40.8,2,    34.89,2, -999.000,9, -999.000,-999.0000,9,-999.0000,  -999.00,9,  -999.00, -999.000,9, -999.000,   -999.0,9,   -999.0,  -999.00,9,   0.1208,2,   0.0835,2,   0.0474,2,   0.0362,2,   0.0134,3,   0.0143,3
  33RR20070204,  I08S,    63,  1,     13,     13,2,20070306,0427,-41.0092,  94.9837, 3440,   1483.2,   2.9191,  34.5149,2,  34.5144,2,    175.2,2,    174.7,2,    62.30,2,    33.74,2,     0.00,2,     2.34,2,    0.553,2,    0.280,2, -999.000,5,   2244.4,2,   2323.4,2,     41.2,2,    35.42,2, -999.000,9, -999.000,-999.0000,9,-999.0000,  -999.00,9,  -999.00, -999.000,9, -999.000,   -999.0,9,   -999.0,  -999.00,9,   0.1244,2,   0.0862,2,   0.0480,2,   0.0362,2,   0.0138,3,   0.0147,3
  33RR20070204,  I08S,    63,  1,     12,     12,2,20070306,0427,-41.0092,  94.9837, 3440,   1583.9,   2.7903,  34.5551,2,  34.5555,2,    173.1,2,    172.9,2,    66.30,2,    33.49,2,     0.00,2,     2.33,2,    0.421,2,    0.207,2, -999.000,5,   2248.4,2,   2328.0,2,     40.8,2,    34.83,2, -999.000,9, -999.000,-999.0000,9,-999.0000,  -999.00,9,  -999.00, -999.000,9, -999.000,   -999.0,9,   -999.0,  -999.00,9,   0.1223,2,   0.0844,2,   0.0469,2,   0.0348,2,   0.0137,3,   0.0150,3
  33RR20070204,  I08S,    63,  1,     11,     11,2,20070306,0427,-41.0092,  94.9837, 3440,   1683.8,   2.6892,  34.5970,2,  34.5965,2,    172.6,2,    172.9,2,    69.32,2,    33.09,2,     0.00,2,     2.29,2,    0.313,2,    0.152,2, -999.000,5,   2250.2,6,   2331.2,2,     41.0,2,    34.48,2, -999.000,9, -999.000,-999.0000,9,-999.0000,  -999.00,9,  -999.00, -999.000,9, -999.000,   -999.0,9,   -999.0,  -999.00,9,   0.1236,2,   0.0855,2,   0.0472,2,   0.0348,2,   0.0139,2,   0.0151,3
  33RR20070204,  I08S,    63,  1,     10,     10,2,20070306,0427,-41.0092,  94.9837, 3440,   1785.1,   2.6074,  34.6349,2,  34.6354,2,    175.4,2,    175.7,2,    70.75,2,    32.46,2,     0.00,2,     2.25,2,    0.252,2,    0.120,2, -999.000,5,   2249.9,2,   2334.1,2,     41.1,2,    33.82,2, -999.000,9, -999.000,-999.0000,9,-999.0000,  -999.00,9,  -999.00, -999.000,9, -999.000,   -999.0,9,   -999.0,  -999.00,9,   0.1260,2,   0.0874,2,   0.0478,2,   0.0350,2,   0.0140,3,   0.0152,3
  33RR20070204,  I08S,    63,  1,      9,      9,2,20070306,0427,-41.0092,  94.9837, 3440,   1886.4,   2.5087,  34.6718,2,  34.6723,2,    176.8,2,    177.5,2,    74.17,2,    31.93,2,     0.00,2,     2.22,2, -999.000,9, -999.000,9, -999.000,9,   2251.0,2,   2338.5,2,     40.6,2,    33.47,2, -999.000,9, -999.000,-999.0000,9,-999.0000,  -999.00,9,  -999.00, -999.000,9, -999.000,   -999.0,9,   -999.0,  -999.00,9,   0.1256,2,   0.0868,2,   0.0475,2,   0.0347,2,   0.0139,3,   0.0152,3
  33RR20070204,  I08S,    63,  1,      8,      8,2,20070306,0427,-41.0092,  94.9837, 3440,   1987.8,   2.4549,  34.6958,2,  34.6957,2,    181.1,2,    182.3,2,    73.61,2,    31.29,2,     0.00,2,     2.16,2,    0.151,2,    0.069,2, -999.000,5,   2248.5,2,   2338.9,2,     41.0,2,    32.48,2, -999.000,9, -999.000,-999.0000,9,-999.0000,  -999.00,9,  -999.00, -999.000,9, -999.000,   -999.0,9,   -999.0,  -999.00,9,   0.1237,2,   0.0854,2,   0.0462,2,   0.0337,2,   0.0141,2,   0.0155,3
  33RR20070204,  I08S,    63,  1,      7,      7,2,20070306,0427,-41.0092,  94.9837, 3440,   2189.6,   2.3096,  34.7304,2,  34.7307,2,    188.0,2,    189.1,2,    76.24,2,    30.42,2,     0.00,2,     2.10,2,    0.104,2,    0.046,2, -999.000,5,   2248.0,2,   2341.0,2,     41.3,2,    31.66,2, -999.000,9, -999.000,-999.0000,9,-999.0000,  -999.00,9,  -999.00, -999.000,9, -999.000,   -999.0,9,   -999.0,  -999.00,9,   0.1241,2,   0.0859,2,   0.0464,2,   0.0339,2,   0.0141,2,   0.0155,3
  33RR20070204,  I08S,    63,  1,      6,      6,2,20070306,0427,-41.0092,  94.9837, 3440,   2442.7,   2.1085,  34.7487,2,  34.7493,2,    194.2,2,    194.1,2,    81.68,2,    30.03,2,     0.00,2,     2.07,2,    0.070,2,    0.031,2, -999.000,5,   2247.3,2,   2346.8,2,     41.2,2,    31.28,2, -999.000,9, -999.000,-999.0000,9,-999.0000,  -999.00,9,  -999.00, -999.000,9, -999.000,   -999.0,9,   -999.0,  -999.00,9,   0.1262,2,   0.0877,2,   0.0476,2,   0.0345,2,   0.0141,3,   0.0154,4
  33RR20070204,  I08S,    63,  1,      5,      5,2,20070306,0427,-41.0092,  94.9837, 3440,   2697.2,   1.8052,  34.7489,2,  34.7489,2,    198.4,2,    198.4,2,    91.15,2,    29.92,2,     0.00,2,     2.08,2,    0.057,2,    0.023,2, -999.000,5,   2251.5,6,   2351.2,2,     41.4,2,    30.92,2, -999.000,9, -999.000,-999.0000,9,-999.0000,  -999.00,9,  -999.00, -999.000,9, -999.000,   -999.0,9,   -999.0,  -999.00,9,   0.1298,2,   0.0908,2,   0.0492,2,   0.0356,2,   0.0141,2,   0.0153,3
  33RR20070204,  I08S,    63,  1,      4,      4,2,20070306,0427,-41.0092,  94.9837, 3440,   2950.8,   1.5164,  34.7394,2,  34.7402,2,    201.3,2,    201.3,2,   100.86,2,    30.67,2,     0.00,2,     2.12,2,    0.065,2,    0.029,2, -999.000,5,   2254.9,2,   2355.6,2,     40.9,2,    32.58,2, -999.000,9, -999.000,-999.0000,9,-999.0000,  -999.00,9,  -999.00, -999.000,9, -999.000,   -999.0,9,   -999.0,  -999.00,9,   0.1252,2,   0.0865,2,   0.0467,2,   0.0338,2,   0.0142,2,   0.0156,3
  33RR20070204,  I08S,    63,  1,      3,      3,2,20070306,0427,-41.0092,  94.9837, 3440,   3153.9,   1.3632,  34.7323,2,  34.7330,2,    202.9,2,    203.0,2,   106.36,2,    31.01,2,     0.00,2,     2.14,2,    0.078,2,    0.035,2, -999.000,5,   2257.2,2,   2356.2,2,     40.3,2,    32.61,2, -999.000,9, -999.000,-999.0000,9,-999.0000,  -999.00,9,  -999.00, -999.000,9, -999.000,   -999.0,9,   -999.0,  -999.00,9,   0.1248,2,   0.0865,2,   0.0465,2,   0.0334,2,   0.0141,3,   0.0156,4
  33RR20070204,  I08S,    63,  1,      2,      2,2,20070306,0427,-41.0092,  94.9837, 3440,   3336.0,   1.2369,  34.7259,2,  34.7261,2,    204.3,2,    204.0,2,   111.26,2,    31.23,2,     0.00,2,     2.16,2,    0.085,2,    0.039,2, -999.000,5,   2260.4,2,   2361.0,2,     40.8,2,    32.63,2, -999.000,9, -999.000,-999.0000,9,-999.0000,  -999.00,9,  -999.00, -999.000,9, -999.000,   -999.0,9,   -999.0,  -999.00,9,   0.1268,2,   0.0883,2,   0.0482,2,   0.0348,2,   0.0141,2,   0.0154,3
  33RR20070204,  I08S,    63,  1,      1,      1,2,20070306,0427,-41.0092,  94.9837, 3440,   3503.3,   1.2157,  34.7242,2,  34.7255,2,    204.0,2,    204.3,2,   112.74,2,    31.32,2,     0.00,2,     2.16,2,    0.089,2,    0.040,2, -999.000,5,   2261.1,6,   2362.1,2,     40.9,2,    33.16,2, -999.000,9, -999.000,-999.0000,9,-999.0000,  -999.00,9,  -999.00, -999.000,9, -999.000,   -999.0,9,   -999.0,  -999.00,9,   0.1284,2,   0.0894,2,   0.0479,2,   0.0342,2,   0.0145,3,   0.0158,4