BOTTLE,20150626SIOCCHRJL
EXPOCODE,SECT_ID,STNNBR,CASTNO,SAMPNO,BTLNBR,BTLNBR_FLAG_W,DATE,TIME,LATITUDE,LONGITUDE,DEPTH,CTDPRS,CTDTMP,CTDSAL,CTDSAL_FLAG_W,SALNTY,SALNTY_FLAG_W,CTDOXY,CTDOXY_FLAG_W,OXYGEN,OXYGEN_FLAG_W,SILCAT,SILCAT_FLAG_W,NITRAT,NITRAT_FLAG_W,NITRIT,NITRIT_FLAG_W,PHSPHT,PHSPHT_FLAG_W,CFC-11,CFC-11_FLAG_W,CFC-12,CFC-12_FLAG_W,CFC113,CFC113_FLAG_W,TCARBN,TCARBN_FLAG_W,ALKALI,ALKALI_FLAG_W,DOC,DOC_FLAG_W,TDN,TDN_FLAG_W,TRITUM,TRITUM_FLAG_W,TRITER,HELIUM,HELIUM_FLAG_W,HELIER,DELHE3,DELHE3_FLAG_W,DELHER,NEON,NEON_FLAG_W,NEONER,DELC14,DELC14_FLAG_W,C14ERR,DELC13,DELC13_FLAG_W,CDOM325,CDOM325_FLAG_W,CDOM340,CDOM340_FLAG_W,CDOM380,CDOM380_FLAG_W,CDOM412,CDOM412_FLAG_W,CDOMSL,CDOMSL_FLAG_W,CDOMSN,CDOMSN_FLAG_W
,,,,,,,,,,,METERS,DBAR,ITS-90,PSS-78,,PSS-78,,UMOL/KG,,UMOL/KG,,UMOL/KG,,UMOL/KG,,UMOL/KG,,UMOL/KG,,PMOL/KG,,PMOL/KG,,PMOL/KG,,UMOL/KG,,UMOL/KG,,UMOL/KG,,UMOL/KG,,TU,,TU,NMOL/KG,,NMOL/KG,PERCNT,,PERCNT,NMOL/KG,,NMOL/KG,/MILLE,,/MILLE,/MILLE,,1/M,,1/M,,1/M,,1/M,,1/NM,,1/NM,
  33RR20070204,  I08S,    10,  1,     34,   9433,2,20070218,0040,-63.5272,  81.9997, 3361,      6.0,   0.6398,  33.7145,2,  33.7138,2,    338.9,2,    339.7,2,    30.13,2,    23.88,2,     0.22,2,     1.59,2,    5.945,2,    3.219,2, -999.000,5,   2139.9,6,   2280.6,2,   -999.0,9,  -999.00,9, -999.000,9, -999.000,-999.0000,9,-999.0000,  -999.00,9,  -999.00, -999.000,9, -999.000,   -999.0,9,   -999.0,  -999.00,9,-999.0000,9,-999.0000,9,-999.0000,9,-999.0000,9,-999.0000,9,-999.0000,9
  33RR20070204,  I08S,    10,  1,     33,     33,2,20070218,0040,-63.5272,  81.9997, 3361,     25.7,   0.6401,  33.7145,2,  33.7138,2,    340.2,2,    339.5,2,    29.71,2,    23.88,2,     0.22,2,     1.60,2, -999.000,9, -999.000,9, -999.000,9,   2140.0,2,   2282.1,2,   -999.0,9,  -999.00,9, -999.000,9, -999.000,-999.0000,9,-999.0000,  -999.00,9,  -999.00, -999.000,9, -999.000,   -999.0,9,   -999.0,  -999.00,9,-999.0000,9,-999.0000,9,-999.0000,9,-999.0000,9,-999.0000,9,-999.0000,9
  33RR20070204,  I08S,    10,  1,     32,     32,2,20070218,0040,-63.5272,  81.9997, 3361,     50.6,  -0.2462,  33.8282,2,  33.8222,2,    322.4,2,    322.0,2,    40.47,2,    26.61,2,     0.20,2,     1.94,2,    5.615,2,    3.074,2, -999.000,5,   2165.9,2,   2287.5,2,   -999.0,9,  -999.00,9, -999.000,9, -999.000,-999.0000,9,-999.0000,  -999.00,9,  -999.00, -999.000,9, -999.000,   -999.0,9,   -999.0,  -999.00,9,-999.0000,9,-999.0000,9,-999.0000,9,-999.0000,9,-999.0000,9,-999.0000,9
  33RR20070204,  I08S,    10,  1,     31,     31,2,20070218,0040,-63.5272,  81.9997, 3361,     75.7,  -0.5173,  34.1144,2,  34.1058,2,    270.3,2,    271.3,2,    55.44,2,    31.70,2,     0.14,2,     2.27,2, -999.000,9, -999.000,9, -999.000,9,   2209.7,2,   2300.3,2,   -999.0,9,  -999.00,9, -999.000,9, -999.000,-999.0000,9,-999.0000,  -999.00,9,  -999.00, -999.000,9, -999.000,   -999.0,9,   -999.0,  -999.00,9,-999.0000,9,-999.0000,9,-999.0000,9,-999.0000,9,-999.0000,9,-999.0000,9
  33RR20070204,  I08S,    10,  1,     30,     30,2,20070218,0040,-63.5272,  81.9997, 3361,    100.7,   0.5665,  34.2936,2,  34.2919,2,    231.2,2,    228.9,2,    64.45,2,    33.89,2,     0.11,2,     2.38,2,    3.111,2,    1.590,2, -999.000,5,   2231.3,2,   2311.2,2,   -999.0,9,  -999.00,9, -999.000,9, -999.000,-999.0000,9,-999.0000,  -999.00,9,  -999.00, -999.000,9, -999.000,   -999.0,9,   -999.0,  -999.00,9,-999.0000,9,-999.0000,9,-999.0000,9,-999.0000,9,-999.0000,9,-999.0000,9
  33RR20070204,  I08S,    10,  1,     29,     29,2,20070218,0040,-63.5272,  81.9997, 3361,    151.3,   1.5458,  34.4698,2,  34.4660,2,    186.1,2,    188.9,2,    75.08,2,    35.03,2,     0.04,2,     2.46,2, -999.000,9, -999.000,9, -999.000,9,   2250.9,2,   2317.5,3,   -999.0,9,  -999.00,9, -999.000,9, -999.000,-999.0000,9,-999.0000,  -999.00,9,  -999.00, -999.000,9, -999.000,   -999.0,9,   -999.0,  -999.00,9,-999.0000,9,-999.0000,9,-999.0000,9,-999.0000,9,-999.0000,9,-999.0000,9
  33RR20070204,  I08S,    10,  1,     28,     28,2,20070218,0040,-63.5272,  81.9997, 3361,    203.4,   1.8817,  34.5533,2,  34.5518,2,    175.7,2,    174.7,2,    79.10,2,    34.99,2,     0.02,2,     2.46,2,    1.025,2,    0.534,2, -999.000,5,   2257.0,2,   2329.9,2,   -999.0,9,  -999.00,9, -999.000,9, -999.000,-999.0000,9,-999.0000,  -999.00,9,  -999.00, -999.000,9, -999.000,   -999.0,9,   -999.0,  -999.00,9,-999.0000,9,-999.0000,9,-999.0000,9,-999.0000,9,-999.0000,9,-999.0000,9
  33RR20070204,  I08S,    10,  1,     27,     27,2,20070218,0040,-63.5272,  81.9997, 3361,    261.6,   2.0027,  34.6086,2,  34.6042,2,    173.1,2,    172.4,2,    81.30,2,    34.46,2,     0.02,2,     2.42,2, -999.000,9, -999.000,9, -999.000,9,   2258.2,2,   2333.7,2,   -999.0,9,  -999.00,9, -999.000,9, -999.000,-999.0000,9,-999.0000,  -999.00,9,  -999.00, -999.000,9, -999.000,   -999.0,9,   -999.0,  -999.00,9,-999.0000,9,-999.0000,9,-999.0000,9,-999.0000,9,-999.0000,9,-999.0000,9
  33RR20070204,  I08S,    10,  1,     26,     26,2,20070218,0040,-63.5272,  81.9997, 3361,    312.8,   2.0249,  34.6385,2,  34.6375,2,    173.6,2,    173.2,2,    81.89,2,    33.97,2,     0.01,2,     2.38,2, -999.000,9, -999.000,9, -999.000,9,   2257.1,2,   2336.4,2,   -999.0,9,  -999.00,9, -999.000,9, -999.000,-999.0000,9,-999.0000,  -999.00,9,  -999.00, -999.000,9, -999.000,   -999.0,9,   -999.0,  -999.00,9,-999.0000,9,-999.0000,9,-999.0000,9,-999.0000,9,-999.0000,9,-999.0000,9
  33RR20070204,  I08S,    10,  1,     25,     25,2,20070218,0040,-63.5272,  81.9997, 3361,    362.3,   1.9902,  34.6565,2,  34.6557,2,    175.4,2,    175.3,2,    82.69,2,    33.53,2,     0.01,2,     2.35,2,    0.521,2,    0.270,2, -999.000,5,   -999.0,9,   -999.0,9,   -999.0,9,  -999.00,9, -999.000,9, -999.000,-999.0000,9,-999.0000,  -999.00,9,  -999.00, -999.000,9, -999.000,   -999.0,9,   -999.0,  -999.00,9,-999.0000,9,-999.0000,9,-999.0000,9,-999.0000,9,-999.0000,9,-999.0000,9
  33RR20070204,  I08S,    10,  1,     24,     24,2,20070218,0040,-63.5272,  81.9997, 3361,    412.8,   1.9891,  34.6750,2,  34.6742,2,    177.2,2,    177.3,2,    83.89,2,    33.05,2,     0.01,2,     2.31,2, -999.000,9, -999.000,9, -999.000,9,   2254.5,2,   2339.3,2,   -999.0,9,  -999.00,9, -999.000,9, -999.000,-999.0000,9,-999.0000,  -999.00,9,  -999.00, -999.000,9, -999.000,   -999.0,9,   -999.0,  -999.00,9,-999.0000,9,-999.0000,9,-999.0000,9,-999.0000,9,-999.0000,9,-999.0000,9
  33RR20070204,  I08S,    10,  1,     23,     23,2,20070218,0040,-63.5272,  81.9997, 3361,    462.7,   1.9849,  34.6908,2,  34.6895,2,    180.1,2,    179.6,2,    83.27,2,    32.56,2,     0.01,2,     2.28,2, -999.000,9, -999.000,9, -999.000,9,   -999.0,9,   -999.0,9,   -999.0,9,  -999.00,9, -999.000,9, -999.000,-999.0000,9,-999.0000,  -999.00,9,  -999.00, -999.000,9, -999.000,   -999.0,9,   -999.0,  -999.00,9,-999.0000,9,-999.0000,9,-999.0000,9,-999.0000,9,-999.0000,9,-999.0000,9
  33RR20070204,  I08S,    10,  1,     22,     22,2,20070218,0040,-63.5272,  81.9997, 3361,    513.8,   1.9618,  34.7050,2,  34.7037,2,    182.3,2,    182.7,2,    83.86,2,    32.08,2,     0.01,2,     2.25,2,    0.343,2,    0.168,2, -999.000,5,   2252.5,2,   2340.7,2,   -999.0,9,  -999.00,9, -999.000,9, -999.000,-999.0000,9,-999.0000,  -999.00,9,  -999.00, -999.000,9, -999.000,   -999.0,9,   -999.0,  -999.00,9,-999.0000,9,-999.0000,9,-999.0000,9,-999.0000,9,-999.0000,9,-999.0000,9
  33RR20070204,  I08S,    10,  1,     21,     21,2,20070218,0040,-63.5272,  81.9997, 3361,    614.8,   1.9262,  34.7224,2,  34.7200,2,    186.7,2,    186.7,2,    85.06,2,    31.45,2,     0.01,2,     2.20,2, -999.000,9, -999.000,9, -999.000,9,   -999.0,9,   -999.0,9,   -999.0,9,  -999.00,9, -999.000,9, -999.000,-999.0000,9,-999.0000,  -999.00,9,  -999.00, -999.000,9, -999.000,   -999.0,9,   -999.0,  -999.00,9,-999.0000,9,-999.0000,9,-999.0000,9,-999.0000,9,-999.0000,9,-999.0000,9
  33RR20070204,  I08S,    10,  1,     20,     20,2,20070218,0040,-63.5272,  81.9997, 3361,    715.6,   1.8628,  34.7365,2,  34.7359,2,    190.5,2,    191.1,2,    85.46,2,    30.91,2,     0.01,2,     2.16,2, -999.000,9, -999.000,9, -999.000,9,   -999.0,9,   -999.0,9,   -999.0,9,  -999.00,9, -999.000,9, -999.000,-999.0000,9,-999.0000,  -999.00,9,  -999.00, -999.000,9, -999.000,   -999.0,9,   -999.0,  -999.00,9,-999.0000,9,-999.0000,9,-999.0000,9,-999.0000,9,-999.0000,9,-999.0000,9
  33RR20070204,  I08S,    10,  1,     19,     19,2,20070218,0040,-63.5272,  81.9997, 3361,    816.0,   1.7768,  34.7429,2,  34.7420,2,    193.7,2,    193.8,2,    87.06,2,    30.63,2,     0.01,2,     2.14,2, -999.000,9, -999.000,9, -999.000,9,   -999.0,9,   -999.0,9,   -999.0,9,  -999.00,9, -999.000,9, -999.000,-999.0000,9,-999.0000,  -999.00,9,  -999.00, -999.000,9, -999.000,   -999.0,9,   -999.0,  -999.00,9,-999.0000,9,-999.0000,9,-999.0000,9,-999.0000,9,-999.0000,9,-999.0000,9
  33RR20070204,  I08S,    10,  1,     18,     18,2,20070218,0040,-63.5272,  81.9997, 3361,    916.8,   1.7233,  34.7483,2,  34.7487,2,    197.8,2,    197.3,2,    87.86,2,    30.34,2,     0.01,2,     2.12,2, -999.000,9, -999.000,9, -999.000,9,   -999.0,9,   -999.0,9,   -999.0,9,  -999.00,9, -999.000,9, -999.000,-999.0000,9,-999.0000,  -999.00,9,  -999.00, -999.000,9, -999.000,   -999.0,9,   -999.0,  -999.00,9,-999.0000,9,-999.0000,9,-999.0000,9,-999.0000,9,-999.0000,9,-999.0000,9
  33RR20070204,  I08S,    10,  1,     17,     17,2,20070218,0040,-63.5272,  81.9997, 3361,   1017.4,   1.6295,  34.7491,2,  34.7491,2,    200.0,2,    199.3,2,    89.48,2,    30.29,2,     0.01,2,     2.11,2,    0.189,2,    0.088,2, -999.000,5,   -999.0,9,   -999.0,9,   -999.0,9,  -999.00,9, -999.000,9, -999.000,-999.0000,9,-999.0000,  -999.00,9,  -999.00, -999.000,9, -999.000,   -999.0,9,   -999.0,  -999.00,9,-999.0000,9,-999.0000,9,-999.0000,9,-999.0000,9,-999.0000,9,-999.0000,9
  33RR20070204,  I08S,    10,  1,     16,     16,2,20070218,0040,-63.5272,  81.9997, 3361,   1119.2,   1.5280,  34.7470,2,  34.7466,2,    201.5,2,    201.8,2,    92.30,2,    30.33,2,     0.01,2,     2.11,2, -999.000,9, -999.000,9, -999.000,9,   -999.0,9,   -999.0,9,   -999.0,9,  -999.00,9, -999.000,9, -999.000,-999.0000,9,-999.0000,  -999.00,9,  -999.00, -999.000,9, -999.000,   -999.0,9,   -999.0,  -999.00,9,-999.0000,9,-999.0000,9,-999.0000,9,-999.0000,9,-999.0000,9,-999.0000,9
  33RR20070204,  I08S,    10,  1,     15,     15,2,20070218,0040,-63.5272,  81.9997, 3361,   1220.1,   1.4171,  34.7416,2,  34.7415,2,    202.4,2,    202.1,2,    95.53,2,    30.57,2,     0.00,2,     2.13,2, -999.000,9, -999.000,9, -999.000,9,   -999.0,9,   -999.0,9,   -999.0,9,  -999.00,9, -999.000,9, -999.000,-999.0000,9,-999.0000,  -999.00,9,  -999.00, -999.000,9, -999.000,   -999.0,9,   -999.0,  -999.00,9,-999.0000,9,-999.0000,9,-999.0000,9,-999.0000,9,-999.0000,9,-999.0000,9
  33RR20070204,  I08S,    10,  1,     14,     14,2,20070218,0040,-63.5272,  81.9997, 3361,   1322.2,   1.3039,  34.7354,2,  34.7352,2,    202.8,2,    203.3,2,    98.77,2,    30.81,2,     0.00,2,     2.15,2, -999.000,9, -999.000,9, -999.000,9,   -999.0,9,   -999.0,9,   -999.0,9,  -999.00,9, -999.000,9, -999.000,-999.0000,9,-999.0000,  -999.00,9,  -999.00, -999.000,9, -999.000,   -999.0,9,   -999.0,  -999.00,9,-999.0000,9,-999.0000,9,-999.0000,9,-999.0000,9,-999.0000,9,-999.0000,9
  33RR20070204,  I08S,    10,  1,     13,     13,2,20070218,0040,-63.5272,  81.9997, 3361,   1423.7,   1.2076,  34.7305,2,  34.7305,2,    203.3,2,    203.6,2,   102.02,2,    30.95,2,     0.00,2,     2.16,2, -999.000,9, -999.000,9, -999.000,9,   -999.0,9,   -999.0,9,   -999.0,9,  -999.00,9, -999.000,9, -999.000,-999.0000,9,-999.0000,  -999.00,9,  -999.00, -999.000,9, -999.000,   -999.0,9,   -999.0,  -999.00,9,-999.0000,9,-999.0000,9,-999.0000,9,-999.0000,9,-999.0000,9,-999.0000,9
  33RR20070204,  I08S,    10,  1,     12,     12,2,20070218,0040,-63.5272,  81.9997, 3361,   1525.3,   1.1209,  34.7276,2,  34.7277,2,    205.0,2,    205.3,2,   104.24,2,    31.09,2,     0.00,2,     2.17,2,    0.201,2,    0.093,2, -999.000,5,   -999.0,9,   -999.0,9,   -999.0,9,  -999.00,9, -999.000,9, -999.000,-999.0000,9,-999.0000,  -999.00,9,  -999.00, -999.000,9, -999.000,   -999.0,9,   -999.0,  -999.00,9,-999.0000,9,-999.0000,9,-999.0000,9,-999.0000,9,-999.0000,9,-999.0000,9
  33RR20070204,  I08S,    10,  1,     11,     11,2,20070218,0040,-63.5272,  81.9997, 3361,   1627.0,   1.0349,  34.7228,2,  34.7228,2,    205.8,2,    205.7,2,   106.88,2,    31.28,2,     0.00,2,     2.19,2, -999.000,9, -999.000,9, -999.000,9,   -999.0,9,   2353.2,2,   -999.0,9,  -999.00,9, -999.000,9, -999.000,-999.0000,9,-999.0000,  -999.00,9,  -999.00, -999.000,9, -999.000,   -999.0,9,   -999.0,  -999.00,9,-999.0000,9,-999.0000,9,-999.0000,9,-999.0000,9,-999.0000,9,-999.0000,9
  33RR20070204,  I08S,    10,  1,     10,     10,2,20070218,0040,-63.5272,  81.9997, 3361,   1728.0,   0.9516,  34.7180,2,  34.7154,2,    206.4,2,    206.5,2,   109.52,2,    31.52,2,     0.00,2,     2.20,2, -999.000,9, -999.000,9, -999.000,9,   -999.0,9,   -999.0,9,   -999.0,9,  -999.00,9, -999.000,9, -999.000,-999.0000,9,-999.0000,  -999.00,9,  -999.00, -999.000,9, -999.000,   -999.0,9,   -999.0,  -999.00,9,-999.0000,9,-999.0000,9,-999.0000,9,-999.0000,9,-999.0000,9,-999.0000,9
  33RR20070204,  I08S,    10,  1,      9,      9,2,20070218,0040,-63.5272,  81.9997, 3361,   1829.3,   0.8734,  34.7136,2,  34.7132,2,    206.6,2,    206.4,2,   111.96,2,    31.70,2,     0.00,2,     2.21,2, -999.000,9, -999.000,9, -999.000,9,   -999.0,9,   2352.7,2,   -999.0,9,  -999.00,9, -999.000,9, -999.000,-999.0000,9,-999.0000,  -999.00,9,  -999.00, -999.000,9, -999.000,   -999.0,9,   -999.0,  -999.00,9,-999.0000,9,-999.0000,9,-999.0000,9,-999.0000,9,-999.0000,9,-999.0000,9
  33RR20070204,  I08S,    10,  1,      8,      8,2,20070218,0040,-63.5272,  81.9997, 3361,   1930.4,   0.8098,  34.7094,2,  34.7091,2,    207.3,2,    207.5,2,   113.18,2,    31.85,2,     0.00,2,     2.22,2, -999.000,9, -999.000,9, -999.000,9,   -999.0,9,   -999.0,9,   -999.0,9,  -999.00,9, -999.000,9, -999.000,-999.0000,9,-999.0000,  -999.00,9,  -999.00, -999.000,9, -999.000,   -999.0,9,   -999.0,  -999.00,9,-999.0000,9,-999.0000,9,-999.0000,9,-999.0000,9,-999.0000,9,-999.0000,9
  33RR20070204,  I08S,    10,  1,      7,      7,2,20070218,0040,-63.5272,  81.9997, 3361,   2032.1,   0.7232,  34.7042,2,  34.7038,2,    207.8,2,    208.0,2,   116.23,2,    32.04,2,     0.00,2,     2.24,2,    0.215,2,    0.098,2, -999.000,5,   -999.0,9,   2354.3,2,   -999.0,9,  -999.00,9, -999.000,9, -999.000,-999.0000,9,-999.0000,  -999.00,9,  -999.00, -999.000,9, -999.000,   -999.0,9,   -999.0,  -999.00,9,-999.0000,9,-999.0000,9,-999.0000,9,-999.0000,9,-999.0000,9,-999.0000,9
  33RR20070204,  I08S,    10,  1,      6,      6,2,20070218,0040,-63.5272,  81.9997, 3361,   2286.5,   0.5686,  34.6954,2,  34.6961,2,    209.7,2,    209.9,2,   120.52,2,    32.28,2,     0.00,2,     2.26,2, -999.000,9, -999.000,9, -999.000,9,   -999.0,9,   -999.0,9,   -999.0,9,  -999.00,9, -999.000,9, -999.000,-999.0000,9,-999.0000,  -999.00,9,  -999.00, -999.000,9, -999.000,   -999.0,9,   -999.0,  -999.00,9,-999.0000,9,-999.0000,9,-999.0000,9,-999.0000,9,-999.0000,9,-999.0000,9
  33RR20070204,  I08S,    10,  1,      5,      5,2,20070218,0040,-63.5272,  81.9997, 3361,   2541.4,   0.4177,  34.6873,2,  34.6863,2,    212.4,2,    212.5,2,   125.43,2,    32.61,2,     0.00,2,     2.28,2,    0.200,2,    0.095,2, -999.000,5,   2260.0,2,   2354.9,2,   -999.0,9,  -999.00,9, -999.000,9, -999.000,-999.0000,9,-999.0000,  -999.00,9,  -999.00, -999.000,9, -999.000,   -999.0,9,   -999.0,  -999.00,9,-999.0000,9,-999.0000,9,-999.0000,9,-999.0000,9,-999.0000,9,-999.0000,9
  33RR20070204,  I08S,    10,  1,      4,      4,2,20070218,0040,-63.5272,  81.9997, 3361,   2794.1,   0.2962,  34.6811,2,  34.6812,2,    216.2,2,    215.9,2,   127.27,2,    32.66,2,     0.00,2,     2.28,2,    0.228,2,    0.107,2, -999.000,5,   2259.8,2,   2354.8,2,   -999.0,9,  -999.00,9, -999.000,9, -999.000,-999.0000,9,-999.0000,  -999.00,9,  -999.00, -999.000,9, -999.000,   -999.0,9,   -999.0,  -999.00,9,-999.0000,9,-999.0000,9,-999.0000,9,-999.0000,9,-999.0000,9,-999.0000,9
  33RR20070204,  I08S,    10,  1,      3,      3,2,20070218,0040,-63.5272,  81.9997, 3361,   3047.7,   0.1942,  34.6763,2,  34.6761,2,    220.6,2,    220.3,2,   128.09,2,    32.70,2,     0.00,2,     2.28,2,    0.310,2,    0.153,2, -999.000,5,   2259.0,2,   2352.6,2,   -999.0,9,  -999.00,9, -999.000,9, -999.000,-999.0000,9,-999.0000,  -999.00,9,  -999.00, -999.000,9, -999.000,   -999.0,9,   -999.0,  -999.00,9,-999.0000,9,-999.0000,9,-999.0000,9,-999.0000,9,-999.0000,9,-999.0000,9
  33RR20070204,  I08S,    10,  1,      2,      2,2,20070218,0040,-63.5272,  81.9997, 3361,   3353.8,   0.0708,  34.6713,2,  34.6712,2,    225.7,2,    225.3,2,   129.72,2,    32.60,2,     0.00,2,     2.27,2,    0.430,2,    0.217,2, -999.000,5,   2257.4,2,   2353.3,2,   -999.0,9,  -999.00,9, -999.000,9, -999.000,-999.0000,9,-999.0000,  -999.00,9,  -999.00, -999.000,9, -999.000,   -999.0,9,   -999.0,  -999.00,9,-999.0000,9,-999.0000,9,-999.0000,9,-999.0000,9,-999.0000,9,-999.0000,9
  33RR20070204,  I08S,    10,  1,      1,      1,2,20070218,0040,-63.5272,  81.9997, 3361,   3405.3,  -0.0679,  34.6669,2,  34.6659,2,    230.1,2,    230.6,2,   130.95,2,    32.51,2,     0.00,2,     2.27,2,    0.722,2,    0.369,2, -999.000,5,   2255.9,6,   2352.8,2,   -999.0,9,  -999.00,9, -999.000,9, -999.000,-999.0000,9,-999.0000,  -999.00,9,  -999.00, -999.000,9, -999.000,   -999.0,9,   -999.0,  -999.00,9,-999.0000,9,-999.0000,9,-999.0000,9,-999.0000,9,-999.0000,9,-999.0000,9