BOTTLE,20150626SIOCCHRJL
EXPOCODE,SECT_ID,STNNBR,CASTNO,SAMPNO,BTLNBR,BTLNBR_FLAG_W,DATE,TIME,LATITUDE,LONGITUDE,DEPTH,CTDPRS,CTDTMP,CTDSAL,CTDSAL_FLAG_W,SALNTY,SALNTY_FLAG_W,CTDOXY,CTDOXY_FLAG_W,OXYGEN,OXYGEN_FLAG_W,SILCAT,SILCAT_FLAG_W,NITRAT,NITRAT_FLAG_W,NITRIT,NITRIT_FLAG_W,PHSPHT,PHSPHT_FLAG_W,CFC-11,CFC-11_FLAG_W,CFC-12,CFC-12_FLAG_W,CFC113,CFC113_FLAG_W,TCARBN,TCARBN_FLAG_W,ALKALI,ALKALI_FLAG_W,DOC,DOC_FLAG_W,TDN,TDN_FLAG_W,TRITUM,TRITUM_FLAG_W,TRITER,HELIUM,HELIUM_FLAG_W,HELIER,DELHE3,DELHE3_FLAG_W,DELHER,NEON,NEON_FLAG_W,NEONER,DELC14,DELC14_FLAG_W,C14ERR,DELC13,DELC13_FLAG_W,CDOM325,CDOM325_FLAG_W,CDOM340,CDOM340_FLAG_W,CDOM380,CDOM380_FLAG_W,CDOM412,CDOM412_FLAG_W,CDOMSL,CDOMSL_FLAG_W,CDOMSN,CDOMSN_FLAG_W
,,,,,,,,,,,METERS,DBAR,ITS-90,PSS-78,,PSS-78,,UMOL/KG,,UMOL/KG,,UMOL/KG,,UMOL/KG,,UMOL/KG,,UMOL/KG,,PMOL/KG,,PMOL/KG,,PMOL/KG,,UMOL/KG,,UMOL/KG,,UMOL/KG,,UMOL/KG,,TU,,TU,NMOL/KG,,NMOL/KG,PERCNT,,PERCNT,NMOL/KG,,NMOL/KG,/MILLE,,/MILLE,/MILLE,,1/M,,1/M,,1/M,,1/M,,1/NM,,1/NM,
  33RR20070204,  I08S,    46,  1,     36,     38,2,20070301,1058,-48.8563,  91.6172, 3829,      4.5,   7.1737,  33.8007,2,  33.8000,2,    297.1,2,    297.6,2,     1.30,2,    17.31,2,     0.26,2,     1.34,2,    4.375,2,    2.497,2, -999.000,5,   2102.0,6,   2271.9,2,   -999.0,9,  -999.00,9, -999.000,9, -999.000,-999.0000,9,-999.0000,  -999.00,9,  -999.00, -999.000,9, -999.000,   -999.0,9,   -999.0,  -999.00,9,-999.0000,9,-999.0000,9,-999.0000,9,-999.0000,9,-999.0000,9,-999.0000,9
  33RR20070204,  I08S,    46,  1,     35,     35,2,20070301,1058,-48.8563,  91.6172, 3829,     31.1,   7.1759,  33.8006,2,  33.8004,2,    297.2,2,    296.8,2,     1.29,2,    17.31,2,     0.26,2,     1.34,2,    4.359,2,    2.508,2, -999.000,5,   2100.0,2,   2270.1,2,   -999.0,9,  -999.00,9, -999.000,9, -999.000,-999.0000,9,-999.0000,  -999.00,9,  -999.00, -999.000,9, -999.000,   -999.0,9,   -999.0,  -999.00,9,-999.0000,9,-999.0000,9,-999.0000,9,-999.0000,9,-999.0000,9,-999.0000,9
  33RR20070204,  I08S,    46,  1,     34,   9433,2,20070301,1058,-48.8563,  91.6172, 3829,     56.1,   7.1719,  33.8000,2,  33.7994,2,    296.4,2,    296.7,2,     1.29,2,    17.30,2,     0.26,2,     1.34,2,    4.350,2,    2.498,2, -999.000,5,   2100.0,2,   2270.0,2,   -999.0,9,  -999.00,9, -999.000,9, -999.000,-999.0000,9,-999.0000,  -999.00,9,  -999.00, -999.000,9, -999.000,   -999.0,9,   -999.0,  -999.00,9,-999.0000,9,-999.0000,9,-999.0000,9,-999.0000,9,-999.0000,9,-999.0000,9
  33RR20070204,  I08S,    46,  1,     33,     33,2,20070301,1058,-48.8563,  91.6172, 3829,     80.3,   6.8502,  33.7684,2,  33.7679,2,    297.7,2,    297.2,2,     1.28,2,    17.37,2,     0.25,2,     1.37,2, -999.000,9, -999.000,9, -999.000,9,   -999.0,9,   -999.0,9,   -999.0,9,  -999.00,9, -999.000,9, -999.000,-999.0000,9,-999.0000,  -999.00,9,  -999.00, -999.000,9, -999.000,   -999.0,9,   -999.0,  -999.00,9,-999.0000,9,-999.0000,9,-999.0000,9,-999.0000,9,-999.0000,9,-999.0000,9
  33RR20070204,  I08S,    46,  1,     32,     37,4,20070301,1058,-48.8563,  91.6172, 3829,    106.5,   6.5802,  33.9878,2,  34.3295,2,   -999.0,9,    205.6,0,    39.92,4,    31.50,4,     0.00,4,     2.21,4,    0.000,4,    1.053,3, -999.000,5,   2207.0,3,   2301.3,4,   -999.0,9,  -999.00,9, -999.000,9, -999.000,-999.0000,9,-999.0000,  -999.00,9,  -999.00, -999.000,9, -999.000,   -999.0,9,   -999.0,  -999.00,9,-999.0000,9,-999.0000,9,-999.0000,9,-999.0000,9,-999.0000,9,-999.0000,9
  33RR20070204,  I08S,    46,  1,     31,     31,2,20070301,1058,-48.8563,  91.6172, 3829,    156.3,   7.0803,  34.2231,2,  34.2119,2,    263.7,2,    263.6,2,     5.73,2,    20.33,2,     0.00,2,     1.44,2, -999.000,9, -999.000,9, -999.000,9,   -999.0,9,   -999.0,9,   -999.0,9,  -999.00,9, -999.000,9, -999.000,-999.0000,9,-999.0000,  -999.00,9,  -999.00, -999.000,9, -999.000,   -999.0,9,   -999.0,  -999.00,9,-999.0000,9,-999.0000,9,-999.0000,9,-999.0000,9,-999.0000,9,-999.0000,9
  33RR20070204,  I08S,    46,  1,     30,     30,2,20070301,1058,-48.8563,  91.6172, 3829,    206.7,   6.8047,  34.2455,2,  34.2513,2,    264.1,2,    255.3,2,     7.34,2,    21.19,2,     0.00,2,     1.51,2,    3.845,2,    2.097,2, -999.000,5,   2137.2,2,   2277.4,2,   -999.0,9,  -999.00,9, -999.000,9, -999.000,-999.0000,9,-999.0000,  -999.00,9,  -999.00, -999.000,9, -999.000,   -999.0,9,   -999.0,  -999.00,9,-999.0000,9,-999.0000,9,-999.0000,9,-999.0000,9,-999.0000,9,-999.0000,9
  33RR20070204,  I08S,    46,  1,     29,     29,2,20070301,1058,-48.8563,  91.6172, 3829,    255.6,   7.0066,  34.3698,2,  34.3704,2,    247.1,2,    235.3,2,    10.57,2,    22.34,2,     0.00,2,     1.56,2,    3.503,2,    1.890,2, -999.000,5,   2146.8,2,   2282.1,2,   -999.0,9,  -999.00,9, -999.000,9, -999.000,-999.0000,9,-999.0000,  -999.00,9,  -999.00, -999.000,9, -999.000,   -999.0,9,   -999.0,  -999.00,9,-999.0000,9,-999.0000,9,-999.0000,9,-999.0000,9,-999.0000,9,-999.0000,9
  33RR20070204,  I08S,    46,  1,     28,     28,2,20070301,1058,-48.8563,  91.6172, 3829,    304.5,   5.8580,  34.2442,2,  34.2433,2,    244.7,2,    244.4,2,    12.80,2,    24.50,2,     0.00,2,     1.71,2, -999.000,9, -999.000,9, -999.000,9,   -999.0,9,   -999.0,9,   -999.0,9,  -999.00,9, -999.000,9, -999.000,-999.0000,9,-999.0000,  -999.00,9,  -999.00, -999.000,9, -999.000,   -999.0,9,   -999.0,  -999.00,9,-999.0000,9,-999.0000,9,-999.0000,9,-999.0000,9,-999.0000,9,-999.0000,9
  33RR20070204,  I08S,    46,  1,     27,     27,2,20070301,1058,-48.8563,  91.6172, 3829,    355.5,   5.9831,  34.3136,2,  34.3129,2,    234.2,2,    229.7,2,    14.83,2,    25.42,2,     0.00,2,     1.76,2,    3.363,2,    1.784,2, -999.000,5,   2159.7,2,   2280.9,2,   -999.0,9,  -999.00,9, -999.000,9, -999.000,-999.0000,9,-999.0000,  -999.00,9,  -999.00, -999.000,9, -999.000,   -999.0,9,   -999.0,  -999.00,9,-999.0000,9,-999.0000,9,-999.0000,9,-999.0000,9,-999.0000,9,-999.0000,9
  33RR20070204,  I08S,    46,  1,     26,     26,2,20070301,1058,-48.8563,  91.6172, 3829,    406.5,   5.7007,  34.3275,2,  34.3258,2,    224.0,2,    223.0,2,    17.67,2,    26.62,2,     0.00,2,     1.85,2, -999.000,9, -999.000,9, -999.000,9,   -999.0,9,   -999.0,9,   -999.0,9,  -999.00,9, -999.000,9, -999.000,-999.0000,9,-999.0000,  -999.00,9,  -999.00, -999.000,9, -999.000,   -999.0,9,   -999.0,  -999.00,9,-999.0000,9,-999.0000,9,-999.0000,9,-999.0000,9,-999.0000,9,-999.0000,9
  33RR20070204,  I08S,    46,  1,     25,     25,2,20070301,1058,-48.8563,  91.6172, 3829,    457.1,   5.4324,  34.3282,2,  34.3264,2,    219.5,2,    221.7,2,    19.69,2,    27.39,2,     0.00,2,     1.91,2,    3.119,2,    1.630,2, -999.000,5,   2172.4,2,   2283.7,2,   -999.0,9,  -999.00,9, -999.000,9, -999.000,-999.0000,9,-999.0000,  -999.00,9,  -999.00, -999.000,9, -999.000,   -999.0,9,   -999.0,  -999.00,9,-999.0000,9,-999.0000,9,-999.0000,9,-999.0000,9,-999.0000,9,-999.0000,9
  33RR20070204,  I08S,    46,  1,     24,     24,2,20070301,1058,-48.8563,  91.6172, 3829,    507.4,   5.0694,  34.3214,2,  34.3213,2,    219.8,2,    221.4,2,    22.33,2,    28.15,2,     0.00,2,     1.96,2, -999.000,9, -999.000,9, -999.000,9,   -999.0,9,   -999.0,9,   -999.0,9,  -999.00,9, -999.000,9, -999.000,-999.0000,9,-999.0000,  -999.00,9,  -999.00, -999.000,9, -999.000,   -999.0,9,   -999.0,  -999.00,9,-999.0000,9,-999.0000,9,-999.0000,9,-999.0000,9,-999.0000,9,-999.0000,9
  33RR20070204,  I08S,    46,  1,     23,     23,2,20070301,1058,-48.8563,  91.6172, 3829,    608.6,   4.3462,  34.3051,2,  34.3050,2,    221.0,2,    220.5,2,    28.02,2,    29.66,2,     0.00,2,     2.07,2,    2.668,2,    1.360,2, -999.000,5,   2185.2,2,   2290.9,2,   -999.0,9,  -999.00,9, -999.000,9, -999.000,-999.0000,9,-999.0000,  -999.00,9,  -999.00, -999.000,9, -999.000,   -999.0,9,   -999.0,  -999.00,9,-999.0000,9,-999.0000,9,-999.0000,9,-999.0000,9,-999.0000,9,-999.0000,9
  33RR20070204,  I08S,    46,  1,     22,     22,2,20070301,1058,-48.8563,  91.6172, 3829,    707.9,   3.6837,  34.3003,2,  34.2981,2,    215.4,2,    216.3,2,    34.73,2,    31.17,2,     0.00,2,     2.17,2, -999.000,9, -999.000,9, -999.000,9,   -999.0,9,   -999.0,9,   -999.0,9,  -999.00,9, -999.000,9, -999.000,-999.0000,9,-999.0000,  -999.00,9,  -999.00, -999.000,9, -999.000,   -999.0,9,   -999.0,  -999.00,9,-999.0000,9,-999.0000,9,-999.0000,9,-999.0000,9,-999.0000,9,-999.0000,9
  33RR20070204,  I08S,    46,  1,     21,     21,2,20070301,1058,-48.8563,  91.6172, 3829,    808.0,   3.5175,  34.3533,2,  34.3522,2,    204.2,2,    202.6,2,    42.28,2,    32.13,2,     0.00,2,     2.25,2,    1.899,2,    0.971,2, -999.000,5,   2210.0,2,   2301.8,2,   -999.0,9,  -999.00,9, -999.000,9, -999.000,-999.0000,9,-999.0000,  -999.00,9,  -999.00, -999.000,9, -999.000,   -999.0,9,   -999.0,  -999.00,9,-999.0000,9,-999.0000,9,-999.0000,9,-999.0000,9,-999.0000,9,-999.0000,9
  33RR20070204,  I08S,    46,  1,     20,     20,2,20070301,1058,-48.8563,  91.6172, 3829,    910.2,   3.1919,  34.3850,2,  34.3844,2,    193.9,2,    194.4,2,    49.02,2,    33.15,2,     0.00,2,     2.32,2, -999.000,9, -999.000,9, -999.000,9,   -999.0,9,   -999.0,9,   -999.0,9,  -999.00,9, -999.000,9, -999.000,-999.0000,9,-999.0000,  -999.00,9,  -999.00, -999.000,9, -999.000,   -999.0,9,   -999.0,  -999.00,9,-999.0000,9,-999.0000,9,-999.0000,9,-999.0000,9,-999.0000,9,-999.0000,9
  33RR20070204,  I08S,    46,  1,     19,     19,2,20070301,1058,-48.8563,  91.6172, 3829,   1009.9,   2.9614,  34.4172,2,  34.4161,2,    187.3,2,    188.8,2,    54.53,2,    33.68,2,     0.00,2,     2.35,2,    1.299,2,    0.663,2, -999.000,5,   2229.0,2,   2313.4,2,   -999.0,9,  -999.00,9, -999.000,9, -999.000,-999.0000,9,-999.0000,  -999.00,9,  -999.00, -999.000,9, -999.000,   -999.0,9,   -999.0,  -999.00,9,-999.0000,9,-999.0000,9,-999.0000,9,-999.0000,9,-999.0000,9,-999.0000,9
  33RR20070204,  I08S,    46,  1,     18,     18,2,20070301,1058,-48.8563,  91.6172, 3829,   1111.7,   2.7864,  34.4713,2,  34.4701,2,    182.1,2,    181.7,2,    61.08,2,    34.02,2,     0.00,2,     2.36,2,    1.000,2,    0.523,2, -999.000,5,   2239.1,2,   2319.8,2,   -999.0,9,  -999.00,9, -999.000,9, -999.000,-999.0000,9,-999.0000,  -999.00,9,  -999.00, -999.000,9, -999.000,   -999.0,9,   -999.0,  -999.00,9,-999.0000,9,-999.0000,9,-999.0000,9,-999.0000,9,-999.0000,9,-999.0000,9
  33RR20070204,  I08S,    46,  1,     17,     17,2,20070301,1058,-48.8563,  91.6172, 3829,   1212.1,   2.7067,  34.5298,2,  34.5282,2,    176.8,2,    176.8,2,    65.58,2,    33.82,2,     0.00,2,     2.35,2, -999.000,9, -999.000,9, -999.000,9,   -999.0,9,   -999.0,9,   -999.0,9,  -999.00,9, -999.000,9, -999.000,-999.0000,9,-999.0000,  -999.00,9,  -999.00, -999.000,9, -999.000,   -999.0,9,   -999.0,  -999.00,9,-999.0000,9,-999.0000,9,-999.0000,9,-999.0000,9,-999.0000,9,-999.0000,9
  33RR20070204,  I08S,    46,  1,     16,     16,2,20070301,1058,-48.8563,  91.6172, 3829,   1312.1,   2.6568,  34.5734,2,  34.5728,2,    175.5,2,    175.5,2,    68.45,2,    33.52,2,     0.00,2,     2.34,2,    0.502,2,    0.253,2, -999.000,5,   2246.6,6,   2329.3,2,   -999.0,9,  -999.00,9, -999.000,9, -999.000,-999.0000,9,-999.0000,  -999.00,9,  -999.00, -999.000,9, -999.000,   -999.0,9,   -999.0,  -999.00,9,-999.0000,9,-999.0000,9,-999.0000,9,-999.0000,9,-999.0000,9,-999.0000,9
  33RR20070204,  I08S,    46,  1,     15,     15,2,20070301,1058,-48.8563,  91.6172, 3829,   1413.4,   2.5925,  34.6112,2,  34.6105,2,    176.3,2,    176.7,2,    70.29,2,    32.98,2,     0.00,2,     2.30,2, -999.000,9, -999.000,9, -999.000,9,   -999.0,9,   -999.0,9,   -999.0,9,  -999.00,9, -999.000,9, -999.000,-999.0000,9,-999.0000,  -999.00,9,  -999.00, -999.000,9, -999.000,   -999.0,9,   -999.0,  -999.00,9,-999.0000,9,-999.0000,9,-999.0000,9,-999.0000,9,-999.0000,9,-999.0000,9
  33RR20070204,  I08S,    46,  1,     14,     14,2,20070301,1058,-48.8563,  91.6172, 3829,   1513.7,   2.5501,  34.6502,2,  34.6495,2,    179.0,2,    178.4,2,    71.72,2,    32.39,2,     0.00,2,     2.26,2,    0.277,2,    0.136,2, -999.000,5,   2246.1,2,   2334.5,2,   -999.0,9,  -999.00,9, -999.000,9, -999.000,-999.0000,9,-999.0000,  -999.00,9,  -999.00, -999.000,9, -999.000,   -999.0,9,   -999.0,  -999.00,9,-999.0000,9,-999.0000,9,-999.0000,9,-999.0000,9,-999.0000,9,-999.0000,9
  33RR20070204,  I08S,    46,  1,     13,     13,2,20070301,1058,-48.8563,  91.6172, 3829,   1613.9,   2.5102,  34.6759,2,  34.6753,2,    180.6,2,    181.1,2,    72.12,2,    31.85,2,     0.00,2,     2.21,2,    0.211,2,    0.103,2, -999.000,5,   2244.7,2,   2335.6,2,   -999.0,9,  -999.00,9, -999.000,9, -999.000,-999.0000,9,-999.0000,  -999.00,9,  -999.00, -999.000,9, -999.000,   -999.0,9,   -999.0,  -999.00,9,-999.0000,9,-999.0000,9,-999.0000,9,-999.0000,9,-999.0000,9,-999.0000,9
  33RR20070204,  I08S,    46,  1,     12,     12,2,20070301,1058,-48.8563,  91.6172, 3829,   1716.3,   2.4446,  34.7024,2,  34.7032,2,    184.0,2,    184.9,2,    73.35,2,    31.20,2,     0.00,2,     2.17,2, -999.000,9, -999.000,9, -999.000,9,   -999.0,9,   -999.0,9,   -999.0,9,  -999.00,9, -999.000,9, -999.000,-999.0000,9,-999.0000,  -999.00,9,  -999.00, -999.000,9, -999.000,   -999.0,9,   -999.0,  -999.00,9,-999.0000,9,-999.0000,9,-999.0000,9,-999.0000,9,-999.0000,9,-999.0000,9
  33RR20070204,  I08S,    46,  1,     11,     11,2,20070301,1058,-48.8563,  91.6172, 3829,   1816.7,   2.3827,  34.7191,2,  34.7186,2,    187.8,2,    187.5,2,    74.37,2,    30.76,2,     0.00,2,     2.13,2,    0.142,2,    0.067,2, -999.000,5,   2242.8,2,   2338.3,2,   -999.0,9,  -999.00,9, -999.000,9, -999.000,-999.0000,9,-999.0000,  -999.00,9,  -999.00, -999.000,9, -999.000,   -999.0,9,   -999.0,  -999.00,9,-999.0000,9,-999.0000,9,-999.0000,9,-999.0000,9,-999.0000,9,-999.0000,9
  33RR20070204,  I08S,    46,  1,     10,     10,2,20070301,1058,-48.8563,  91.6172, 3829,   1916.7,   2.3332,  34.7327,2,  34.7323,2,    190.7,2,    190.8,2,    75.19,2,    30.42,2,     0.00,2,     2.10,2, -999.000,9, -999.000,9, -999.000,9,   -999.0,9,   -999.0,9,   -999.0,9,  -999.00,9, -999.000,9, -999.000,-999.0000,9,-999.0000,  -999.00,9,  -999.00, -999.000,9, -999.000,   -999.0,9,   -999.0,  -999.00,9,-999.0000,9,-999.0000,9,-999.0000,9,-999.0000,9,-999.0000,9,-999.0000,9
  33RR20070204,  I08S,    46,  1,      9,      9,2,20070301,1058,-48.8563,  91.6172, 3829,   2018.1,   2.2646,  34.7443,2,  34.7441,2,    193.3,2,    193.1,2,    76.61,2,    30.08,2,     0.00,2,     2.08,2,    0.109,2,    0.052,2, -999.000,5,   2240.8,2,   2342.1,2,   -999.0,9,  -999.00,9, -999.000,9, -999.000,-999.0000,9,-999.0000,  -999.00,9,  -999.00, -999.000,9, -999.000,   -999.0,9,   -999.0,  -999.00,9,-999.0000,9,-999.0000,9,-999.0000,9,-999.0000,9,-999.0000,9,-999.0000,9
  33RR20070204,  I08S,    46,  1,      8,      8,2,20070301,1058,-48.8563,  91.6172, 3829,   2270.8,   2.0634,  34.7580,2,  34.7575,2,    198.3,2,    197.7,2,    82.17,2,    29.69,2,     0.00,2,     2.06,2, -999.000,9, -999.000,9, -999.000,9,   -999.0,9,   -999.0,9,   -999.0,9,  -999.00,9, -999.000,9, -999.000,-999.0000,9,-999.0000,  -999.00,9,  -999.00, -999.000,9, -999.000,   -999.0,9,   -999.0,  -999.00,9,-999.0000,9,-999.0000,9,-999.0000,9,-999.0000,9,-999.0000,9,-999.0000,9
  33RR20070204,  I08S,    46,  1,      7,      7,2,20070301,1058,-48.8563,  91.6172, 3829,   2524.6,   1.8353,  34.7550,2,  34.7545,2,    201.3,2,    199.9,2,    89.38,2,    30.02,2,     0.00,2,     2.09,2,    0.080,2,    0.039,2, -999.000,5,   2246.4,2,   2351.7,2,   -999.0,9,  -999.00,9, -999.000,9, -999.000,-999.0000,9,-999.0000,  -999.00,9,  -999.00, -999.000,9, -999.000,   -999.0,9,   -999.0,  -999.00,9,-999.0000,9,-999.0000,9,-999.0000,9,-999.0000,9,-999.0000,9,-999.0000,9
  33RR20070204,  I08S,    46,  1,      6,      6,2,20070301,1058,-48.8563,  91.6172, 3829,   2779.8,   1.5355,  34.7426,2,  34.7419,2,    203.4,2,    202.4,2,    98.48,2,    30.60,2,     0.00,2,     2.13,2,    0.109,2,    0.049,2, -999.000,5,   -999.0,9,   -999.0,9,   -999.0,9,  -999.00,9, -999.000,9, -999.000,-999.0000,9,-999.0000,  -999.00,9,  -999.00, -999.000,9, -999.000,   -999.0,9,   -999.0,  -999.00,9,-999.0000,9,-999.0000,9,-999.0000,9,-999.0000,9,-999.0000,9,-999.0000,9
  33RR20070204,  I08S,    46,  1,      5,      5,2,20070301,1058,-48.8563,  91.6172, 3829,   3032.9,   1.3124,  34.7318,2,  34.7315,2,    204.9,2,    204.9,2,   106.13,2,    31.09,2,     0.00,2,     2.16,2,    0.105,2,    0.049,2, -999.000,5,   -999.0,9,   -999.0,9,   -999.0,9,  -999.00,9, -999.000,9, -999.000,-999.0000,9,-999.0000,  -999.00,9,  -999.00, -999.000,9, -999.000,   -999.0,9,   -999.0,  -999.00,9,-999.0000,9,-999.0000,9,-999.0000,9,-999.0000,9,-999.0000,9,-999.0000,9
  33RR20070204,  I08S,    46,  1,      4,      4,2,20070301,1058,-48.8563,  91.6172, 3829,   3285.2,   1.1153,  34.7214,2,  34.7212,2,    207.8,2,    206.6,2,   112.77,2,    31.37,2,     0.00,2,     2.19,2,    0.156,2,    0.074,2, -999.000,5,   -999.0,9,   -999.0,9,   -999.0,9,  -999.00,9, -999.000,9, -999.000,-999.0000,9,-999.0000,  -999.00,9,  -999.00, -999.000,9, -999.000,   -999.0,9,   -999.0,  -999.00,9,-999.0000,9,-999.0000,9,-999.0000,9,-999.0000,9,-999.0000,9,-999.0000,9
  33RR20070204,  I08S,    46,  1,      3,      3,2,20070301,1058,-48.8563,  91.6172, 3829,   3540.6,   0.8583,  34.7087,2,  34.7210,0,    211.4,2,    210.7,2,   118.59,2,    31.75,2,     0.00,2,     2.20,2,    0.308,2,    0.152,2, -999.000,5,   2257.6,2,   2357.2,2,   -999.0,9,  -999.00,9, -999.000,9, -999.000,-999.0000,9,-999.0000,  -999.00,9,  -999.00, -999.000,9, -999.000,   -999.0,9,   -999.0,  -999.00,9,-999.0000,9,-999.0000,9,-999.0000,9,-999.0000,9,-999.0000,9,-999.0000,9
  33RR20070204,  I08S,    46,  1,      2,      2,2,20070301,1058,-48.8563,  91.6172, 3829,   3718.3,   0.6490,  34.6983,2,  34.6993,0,    215.2,2,    214.5,2,   123.16,2,    32.00,2,     0.00,2,     2.22,2,    0.444,2,    0.221,2, -999.000,5,   2259.6,6,   2356.9,2,   -999.0,9,  -999.00,9, -999.000,9, -999.000,-999.0000,9,-999.0000,  -999.00,9,  -999.00, -999.000,9, -999.000,   -999.0,9,   -999.0,  -999.00,9,-999.0000,9,-999.0000,9,-999.0000,9,-999.0000,9,-999.0000,9,-999.0000,9
  33RR20070204,  I08S,    46,  1,      1,      1,2,20070301,1058,-48.8563,  91.6172, 3829,   3875.2,   0.5576,  34.6929,2,  34.6928,2,    216.3,2,    216.8,2,   125.24,2,    32.08,2,     0.00,2,     2.23,2,    0.509,2,    0.254,2, -999.000,5,   2258.1,2,   2355.3,2,   -999.0,9,  -999.00,9, -999.000,9, -999.000,-999.0000,9,-999.0000,  -999.00,9,  -999.00, -999.000,9, -999.000,   -999.0,9,   -999.0,  -999.00,9,-999.0000,9,-999.0000,9,-999.0000,9,-999.0000,9,-999.0000,9,-999.0000,9