BOTTLE,20150626SIOCCHRJL
EXPOCODE,SECT_ID,STNNBR,CASTNO,SAMPNO,BTLNBR,BTLNBR_FLAG_W,DATE,TIME,LATITUDE,LONGITUDE,DEPTH,CTDPRS,CTDTMP,CTDSAL,CTDSAL_FLAG_W,SALNTY,SALNTY_FLAG_W,CTDOXY,CTDOXY_FLAG_W,OXYGEN,OXYGEN_FLAG_W,SILCAT,SILCAT_FLAG_W,NITRAT,NITRAT_FLAG_W,NITRIT,NITRIT_FLAG_W,PHSPHT,PHSPHT_FLAG_W,CFC-11,CFC-11_FLAG_W,CFC-12,CFC-12_FLAG_W,CFC113,CFC113_FLAG_W,TCARBN,TCARBN_FLAG_W,ALKALI,ALKALI_FLAG_W,DOC,DOC_FLAG_W,TDN,TDN_FLAG_W,TRITUM,TRITUM_FLAG_W,TRITER,HELIUM,HELIUM_FLAG_W,HELIER,DELHE3,DELHE3_FLAG_W,DELHER,NEON,NEON_FLAG_W,NEONER,DELC14,DELC14_FLAG_W,C14ERR,DELC13,DELC13_FLAG_W,CDOM325,CDOM325_FLAG_W,CDOM340,CDOM340_FLAG_W,CDOM380,CDOM380_FLAG_W,CDOM412,CDOM412_FLAG_W,CDOMSL,CDOMSL_FLAG_W,CDOMSN,CDOMSN_FLAG_W
,,,,,,,,,,,METERS,DBAR,ITS-90,PSS-78,,PSS-78,,UMOL/KG,,UMOL/KG,,UMOL/KG,,UMOL/KG,,UMOL/KG,,UMOL/KG,,PMOL/KG,,PMOL/KG,,PMOL/KG,,UMOL/KG,,UMOL/KG,,UMOL/KG,,UMOL/KG,,TU,,TU,NMOL/KG,,NMOL/KG,PERCNT,,PERCNT,NMOL/KG,,NMOL/KG,/MILLE,,/MILLE,/MILLE,,1/M,,1/M,,1/M,,1/M,,1/NM,,1/NM,
  33RR20070204,  I08S,    88,  3,     34,   9419,2,20070313,0745,-28.3180,  95.0085, 3068,      4.5,  22.3983,  36.1246,2,  36.1249,2,    218.2,2,    218.4,2,     1.78,2,     0.15,2,     0.00,2,     0.11,2,    1.981,2,    1.257,2, -999.000,5,   2065.1,6,   2365.0,2,     74.1,2,     4.28,2, -999.000,9, -999.000,-999.0000,9,-999.0000,  -999.00,9,  -999.00, -999.000,9, -999.000,   -999.0,9,   -999.0,  -999.00,9,   0.0422,2,   0.0273,2,   0.0124,2,   0.0104,2,   0.0161,2,   0.0213,2
  33RR20070204,  I08S,    88,  3,     33,     33,2,20070313,0745,-28.3180,  95.0085, 3068,     30.1,  22.4021,  36.1241,2,  36.1245,2,    218.9,2,    218.3,2,     1.79,2,     0.11,2,     0.00,2,     0.10,2,    1.923,2,    1.197,2, -999.000,5,   2064.4,2,   2365.9,2,     73.7,2,     4.05,2, -999.000,9, -999.000,-999.0000,9,-999.0000,  -999.00,9,  -999.00, -999.000,9, -999.000,   -999.0,9,   -999.0,  -999.00,9,   0.0420,2,   0.0266,2,   0.0110,2,   0.0092,2,   0.0205,2,   0.0257,2
  33RR20070204,  I08S,    88,  3,     32,     37,2,20070313,0745,-28.3180,  95.0085, 3068,     54.4,  21.6068,  36.0661,2,  36.0829,2,    222.2,2,    224.6,2,     1.80,2,     0.11,2,     0.00,2,     0.11,2,    2.076,2,    1.311,2, -999.000,5,   2066.2,2,   2363.4,2,     68.8,2,     4.36,2, -999.000,9, -999.000,-999.0000,9,-999.0000,  -999.00,9,  -999.00, -999.000,9, -999.000,   -999.0,9,   -999.0,  -999.00,9,   0.0519,2,   0.0336,2,   0.0152,2,   0.0120,2,   0.0156,3,   0.0206,3
  33RR20070204,  I08S,    88,  3,     31,     31,2,20070313,0745,-28.3180,  95.0085, 3068,     80.0,  18.1043,  35.8719,2,  35.8728,2,    242.4,2,    242.5,2,     1.61,2,     0.11,2,     0.00,2,     0.13,2,    2.477,2,    1.526,2, -999.000,5,   2070.2,2,   2351.5,2,     63.9,2,     4.21,2, -999.000,9, -999.000,-999.0000,9,-999.0000,  -999.00,9,  -999.00, -999.000,9, -999.000,   -999.0,9,   -999.0,  -999.00,9,   0.1241,2,   0.0858,2,   0.0400,2,   0.0278,2,   0.0150,3,   0.0180,3
  33RR20070204,  I08S,    88,  3,     30,     30,2,20070313,0745,-28.3180,  95.0085, 3068,    104.9,  16.6903,  35.7741,2,  35.7788,2,    237.3,2,    237.8,2,     1.43,2,     0.15,2,     0.00,2,     0.19,2,    2.507,2,    1.497,2, -999.000,5,   2083.0,2,   2346.7,2,     57.7,2,     4.21,2, -999.000,9, -999.000,-999.0000,9,-999.0000,  -999.00,9,  -999.00, -999.000,9, -999.000,   -999.0,9,   -999.0,  -999.00,9,   0.1253,2,   0.0904,2,   0.0467,2,   0.0345,2,   0.0138,3,   0.0154,4
  33RR20070204,  I08S,    88,  3,     29,     29,2,20070313,0745,-28.3180,  95.0085, 3068,    154.5,  14.3611,  35.3985,2,  35.3995,2,    238.1,2,    240.8,2,     1.63,2,     2.98,2,     0.78,2,     0.41,2,    2.742,2,    1.634,2, -999.000,5,   2097.2,2,   2327.0,2,     53.1,2,     7.32,2, -999.000,9, -999.000,-999.0000,9,-999.0000,  -999.00,9,  -999.00, -999.000,9, -999.000,   -999.0,9,   -999.0,  -999.00,9,   0.1148,2,   0.0868,2,   0.0425,2,   0.0302,2,   0.0152,2,   0.0162,2
  33RR20070204,  I08S,    88,  3,     28,     28,2,20070313,0745,-28.3180,  95.0085, 3068,    204.6,  13.4045,  35.2863,2,  35.2889,2,    238.5,2,    237.7,2,     1.83,2,     6.05,2,     0.02,2,     0.54,2,    3.024,2,    1.805,2, -999.000,5,   2105.4,2,   2318.7,2,     51.9,2,     9.52,2, -999.000,9, -999.000,-999.0000,9,-999.0000,  -999.00,9,  -999.00, -999.000,9, -999.000,   -999.0,9,   -999.0,  -999.00,9,   0.0781,2,   0.0544,2,   0.0286,2,   0.0224,3,   0.0135,3,   0.0155,4
  33RR20070204,  I08S,    88,  3,     27,     27,2,20070313,0745,-28.3180,  95.0085, 3068,    254.7,  13.0091,  35.2866,2,  35.2881,2,    232.1,2,    232.3,2,     2.23,2,     7.10,2,     0.01,2,     0.60,2,    3.117,2,    1.850,2, -999.000,5,   2113.3,2,   2317.4,2,     50.3,2,    10.35,2, -999.000,9, -999.000,-999.0000,9,-999.0000,  -999.00,9,  -999.00, -999.000,9, -999.000,   -999.0,9,   -999.0,  -999.00,9,   0.0797,2,   0.0555,2,   0.0288,2,   0.0224,2,   0.0136,2,   0.0157,3
  33RR20070204,  I08S,    88,  3,     26,     26,2,20070313,0745,-28.3180,  95.0085, 3068,    305.3,  12.0318,  35.1242,2,  35.1311,2,    234.9,2,    235.1,2,     2.81,2,     8.98,2,     0.01,2,     0.70,2,    3.248,2,    1.889,2, -999.000,5,   2114.0,2,   2308.6,2,     49.1,2,    12.34,2, -999.000,9, -999.000,-999.0000,9,-999.0000,  -999.00,9,  -999.00, -999.000,9, -999.000,   -999.0,9,   -999.0,  -999.00,9,   0.0789,2,   0.0551,2,   0.0293,2,   0.0225,2,   0.0133,2,   0.0153,2
  33RR20070204,  I08S,    88,  3,     25,     25,2,20070313,0745,-28.3180,  95.0085, 3068,    354.8,  11.2623,  34.9955,2,  35.0002,2,    237.8,2,    238.8,2,     3.21,2,    10.70,2,     0.01,2,     0.81,2,    3.322,2,    1.910,2, -999.000,5,   2116.0,2,   2304.0,2,     48.5,2,    13.82,2, -999.000,9, -999.000,-999.0000,9,-999.0000,  -999.00,9,  -999.00, -999.000,9, -999.000,   -999.0,9,   -999.0,  -999.00,9,   0.0697,2,   0.0468,2,   0.0244,2,   0.0188,2,   0.0135,3,   0.0163,4
  33RR20070204,  I08S,    88,  3,     24,     24,2,20070313,0745,-28.3180,  95.0085, 3068,    405.1,  10.5601,  34.8805,2,  34.8843,2,    240.8,2,    242.1,2,     3.60,2,    12.33,2,     0.01,2,     0.91,2,    3.509,2,    2.013,2, -999.000,5,   2118.8,2,   2296.2,2,     46.0,2,    15.56,2, -999.000,9, -999.000,-999.0000,9,-999.0000,  -999.00,9,  -999.00, -999.000,9, -999.000,   -999.0,9,   -999.0,  -999.00,9,   0.0698,2,   0.0464,2,   0.0241,2,   0.0185,2,   0.0136,4,   0.0166,4
  33RR20070204,  I08S,    88,  3,     23,     23,2,20070313,0745,-28.3180,  95.0085, 3068,    455.2,  10.0842,  34.8029,2,  34.8047,2,    243.1,2,    243.6,2,     4.01,2,    13.60,2,     0.01,2,     0.99,2,    3.497,2,    1.958,2, -999.000,5,   2120.7,2,   2292.8,2,     45.3,2,    16.82,2, -999.000,9, -999.000,-999.0000,9,-999.0000,  -999.00,9,  -999.00, -999.000,9, -999.000,   -999.0,9,   -999.0,  -999.00,9,   0.0673,2,   0.0444,2,   0.0228,2,   0.0174,2,   0.0139,2,   0.0171,3
  33RR20070204,  I08S,    88,  3,     22,     22,2,20070313,0745,-28.3180,  95.0085, 3068,    504.9,   9.7135,  34.7440,2,  34.7457,2,    242.9,2,    242.7,2,     4.41,2,    14.68,2,     0.01,2,     1.05,2,    3.655,2,    2.060,2, -999.000,5,   2121.9,2,   2290.1,2,     44.6,2,    17.17,2, -999.000,9, -999.000,-999.0000,9,-999.0000,  -999.00,9,  -999.00, -999.000,9, -999.000,   -999.0,9,   -999.0,  -999.00,9,   0.0723,2,   0.0486,2,   0.0261,2,   0.0200,2,   0.0132,2,   0.0157,3
  33RR20070204,  I08S,    88,  3,     21,     21,2,20070313,0745,-28.3180,  95.0085, 3068,    605.4,   9.0186,  34.6439,2,  34.6457,2,    235.8,2,    236.1,2,     5.77,2,    17.35,2,     0.01,2,     1.21,2,    1.138,2,    0.560,2, -999.000,5,   2130.1,2,   2286.0,2,     43.8,2,    20.28,2, -999.000,9, -999.000,-999.0000,9,-999.0000,  -999.00,9,  -999.00, -999.000,9, -999.000,   -999.0,9,   -999.0,  -999.00,9,   0.0714,2,   0.0469,2,   0.0248,2,   0.0192,2,   0.0133,3,   0.0162,3
  33RR20070204,  I08S,    88,  3,     20,     20,2,20070313,0745,-28.3180,  95.0085, 3068,    705.3,   7.9346,  34.5372,2,  34.5376,2,    215.6,2,    214.6,2,    11.22,2,    21.92,2,     0.01,2,     1.50,2,    2.796,2,    1.486,2, -999.000,5,   2150.0,2,   2283.5,2,     42.7,2,    24.36,2, -999.000,9, -999.000,-999.0000,9,-999.0000,  -999.00,9,  -999.00, -999.000,9, -999.000,   -999.0,9,   -999.0,  -999.00,9,   0.0848,2,   0.0575,2,   0.0324,2,   0.0249,2,   0.0130,2,   0.0148,3
  33RR20070204,  I08S,    88,  3,     19,     19,2,20070313,0745,-28.3180,  95.0085, 3068,    805.7,   6.3498,  34.4383,2,  34.4395,2,    198.2,2,    197.1,2,    21.54,2,    26.86,2,     0.01,2,     1.85,2,    1.738,2,    0.878,2, -999.000,5,   2175.7,2,   2288.3,2,     41.8,2,    28.92,2, -999.000,9, -999.000,-999.0000,9,-999.0000,  -999.00,9,  -999.00, -999.000,9, -999.000,   -999.0,9,   -999.0,  -999.00,9,   0.0938,2,   0.0636,2,   0.0354,2,   0.0268,2,   0.0132,2,   0.0149,3
  33RR20070204,  I08S,    88,  3,     18,     18,2,20070313,0745,-28.3180,  95.0085, 3068,    906.2,   5.0391,  34.4012,2,  34.4030,2,    188.2,2,    187.9,2,    34.00,2,    30.12,2,     0.01,2,     2.08,2,    1.148,2,    0.570,2, -999.000,5,   2198.8,2,   2295.8,2,     41.1,2,    33.11,2, -999.000,9, -999.000,-999.0000,9,-999.0000,  -999.00,9,  -999.00, -999.000,9, -999.000,   -999.0,9,   -999.0,  -999.00,9,   0.1095,2,   0.0759,2,   0.0436,2,   0.0331,2,   0.0128,3,   0.0139,3
  33RR20070204,  I08S,    88,  3,     17,     17,2,20070313,0745,-28.3180,  95.0085, 3068,   1005.8,   4.2456,  34.4293,2,  34.4275,2,    177.0,2,    174.7,2,    48.45,2,    32.33,2,     0.01,2,     2.26,2,    0.661,2,    0.324,2, -999.000,5,   2222.2,2,   2309.6,2,     41.2,2,    33.43,2, -999.000,9, -999.000,-999.0000,9,-999.0000,  -999.00,9,  -999.00, -999.000,9, -999.000,   -999.0,9,   -999.0,  -999.00,9,   0.1077,2,   0.0731,2,   0.0406,2,   0.0301,2,   0.0136,3,   0.0151,3
  33RR20070204,  I08S,    88,  3,     16,     16,2,20070313,0745,-28.3180,  95.0085, 3068,   1107.2,   3.6540,  34.5047,2,  34.5062,2,    155.4,2,    155.3,2,    66.85,2,    34.03,2,     0.01,2,     2.40,2,    0.216,2,    0.111,2, -999.000,5,   2250.0,2,   2329.0,2,     40.4,2,    35.32,2, -999.000,9, -999.000,-999.0000,9,-999.0000,  -999.00,9,  -999.00, -999.000,9, -999.000,   -999.0,9,   -999.0,  -999.00,9,   0.1244,2,   0.0863,2,   0.0492,2,   0.0370,2,   0.0137,4,   0.0144,4
  33RR20070204,  I08S,    88,  3,     15,     15,2,20070313,0745,-28.3180,  95.0085, 3068,   1207.8,   3.4707,  34.5238,2,  34.5255,2,    155.1,2,    154.8,2,    70.59,2,    34.27,2,     0.00,2,     2.41,2,    0.154,2,    0.080,2, -999.000,5,   2255.3,2,   2333.5,2,     40.6,2,    35.68,2, -999.000,9, -999.000,-999.0000,9,-999.0000,  -999.00,9,  -999.00, -999.000,9, -999.000,   -999.0,9,   -999.0,  -999.00,9,   0.1247,2,   0.0864,2,   0.0487,2,   0.0360,2,   0.0138,3,   0.0147,3
  33RR20070204,  I08S,    88,  3,     14,     14,2,20070313,0745,-28.3180,  95.0085, 3068,   1307.8,   3.3405,  34.5450,2,  34.5467,2,    154.0,2,    153.1,2,    73.74,2,    34.31,2,     0.00,2,     2.42,2,    0.106,2,    0.057,2, -999.000,5,   2259.0,2,   2337.1,2,     40.9,2,    35.82,2, -999.000,9, -999.000,-999.0000,9,-999.0000,  -999.00,9,  -999.00, -999.000,9, -999.000,   -999.0,9,   -999.0,  -999.00,9,   0.1272,2,   0.0883,2,   0.0499,2,   0.0370,2,   0.0136,4,   0.0146,4
  33RR20070204,  I08S,    88,  3,     13,     13,2,20070313,0745,-28.3180,  95.0085, 3068,   1408.8,   3.2663,  34.5834,2,  34.5848,2,    149.0,2,    147.6,2,    80.24,2,    34.53,2,     0.00,2,     2.44,2,    0.046,2,    0.022,2, -999.000,5,   2267.5,2,   2344.3,2,     41.0,2,    36.14,2, -999.000,9, -999.000,-999.0000,9,-999.0000,  -999.00,9,  -999.00, -999.000,9, -999.000,   -999.0,9,   -999.0,  -999.00,9,   0.1310,2,   0.0916,2,   0.0518,2,   0.0381,2,   0.0138,3,   0.0146,3
  33RR20070204,  I08S,    88,  3,     12,     12,2,20070313,0745,-28.3180,  95.0085, 3068,   1509.6,   3.1845,  34.6122,2,  34.6141,2,    145.5,2,    145.2,2,    85.38,2,    34.58,2,     0.00,2,     2.44,2,    0.022,2,    0.013,2, -999.000,5,   2272.0,6,   2349.6,2,     40.9,2,    36.32,2, -999.000,9, -999.000,-999.0000,9,-999.0000,  -999.00,9,  -999.00, -999.000,9, -999.000,   -999.0,9,   -999.0,  -999.00,9,   0.1354,2,   0.0951,2,   0.0543,2,   0.0403,2,   0.0139,4,   0.0144,4
  33RR20070204,  I08S,    88,  3,     11,     11,2,20070313,0745,-28.3180,  95.0085, 3068,   1610.4,   2.9199,  34.6500,2,  34.6510,2,    148.2,2,    149.0,2,    89.92,2,    34.11,2,     0.00,2,     2.41,2,    0.011,2,    0.005,2, -999.000,5,   2274.5,2,   2356.5,2,     40.5,2,    35.92,2, -999.000,9, -999.000,-999.0000,9,-999.0000,  -999.00,9,  -999.00, -999.000,9, -999.000,   -999.0,9,   -999.0,  -999.00,9,   0.1396,2,   0.0985,2,   0.0556,2,   0.0411,2,   0.0137,3,   0.0144,3
  33RR20070204,  I08S,    88,  3,     10,     10,2,20070313,0745,-28.3180,  95.0085, 3068,   1711.3,   2.7428,  34.6734,2,  34.6750,2,    152.1,2,    152.6,2,    94.08,2,    33.69,2,     0.00,2,     2.38,2,    0.008,2,    0.003,2, -999.000,5,   2275.4,2,   2358.1,2,     40.7,2,    35.37,2, -999.000,9, -999.000,-999.0000,9,-999.0000,  -999.00,9,  -999.00, -999.000,9, -999.000,   -999.0,9,   -999.0,  -999.00,9,   0.1384,2,   0.0976,2,   0.0552,2,   0.0401,2,   0.0139,2,   0.0146,3
  33RR20070204,  I08S,    88,  3,      9,      9,2,20070313,0745,-28.3180,  95.0085, 3068,   1811.9,   2.6275,  34.6930,2,  34.6942,2,    155.9,2,    156.2,2,    96.86,2,    33.44,2,     0.00,2,     2.36,2,    0.009,2,    0.005,2, -999.000,5,   2275.4,2,   2361.9,2,     40.1,2,    35.17,2, -999.000,9, -999.000,-999.0000,9,-999.0000,  -999.00,9,  -999.00, -999.000,9, -999.000,   -999.0,9,   -999.0,  -999.00,9,   0.1344,2,   0.0940,2,   0.0529,2,   0.0385,2,   0.0139,3,   0.0147,4
  33RR20070204,  I08S,    88,  3,      8,      8,2,20070313,0745,-28.3180,  95.0085, 3068,   1913.3,   2.5057,  34.7038,2,  34.7056,2,    157.9,2,    158.4,2,    99.85,2,    33.35,2,     0.00,2,     2.35,2,    0.006,2,    0.003,2, -999.000,5,   2277.0,2,   2365.4,2,     41.0,2,    35.01,2, -999.000,9, -999.000,-999.0000,9,-999.0000,  -999.00,9,  -999.00, -999.000,9, -999.000,   -999.0,9,   -999.0,  -999.00,9,   0.1381,2,   0.0975,2,   0.0555,2,   0.0407,2,   0.0137,2,   0.0143,3
  33RR20070204,  I08S,    88,  3,      7,      7,2,20070313,0745,-28.3180,  95.0085, 3068,   2013.4,   2.4006,  34.7102,2,  34.7114,2,    161.5,2,    161.4,2,   101.25,2,    33.16,2,     0.00,2,     2.34,2,    0.005,2,    0.002,2, -999.000,5,   2276.6,2,   2366.6,2,     40.9,2,    35.03,2, -999.000,9, -999.000,-999.0000,9,-999.0000,  -999.00,9,  -999.00, -999.000,9, -999.000,   -999.0,9,   -999.0,  -999.00,9,   0.1369,2,   0.0964,2,   0.0546,2,   0.0400,2,   0.0136,2,   0.0144,3
  33RR20070204,  I08S,    88,  3,      6,      6,2,20070313,0745,-28.3180,  95.0085, 3068,   2266.7,   2.0769,  34.7232,2,  34.7247,2,    171.1,2,    171.5,2,   105.43,2,    32.55,2,     0.00,2,     2.28,2,    0.003,2,    0.002,2, -999.000,5,   2274.3,2,   2368.6,2,     41.0,2,    33.65,2, -999.000,9, -999.000,-999.0000,9,-999.0000,  -999.00,9,  -999.00, -999.000,9, -999.000,   -999.0,9,   -999.0,  -999.00,9,   0.1344,2,   0.0946,2,   0.0532,2,   0.0382,3,   0.0138,3,   0.0147,4
  33RR20070204,  I08S,    88,  3,      5,      5,2,20070313,0745,-28.3180,  95.0085, 3068,   2519.1,   1.8280,  34.7277,2,-999.0000,9,   -999.0,9,   -999.0,9,  -999.00,9,  -999.00,9,  -999.00,9,  -999.00,9, -999.000,9, -999.000,9, -999.000,9,   2275.3,6,   -999.0,9,   -999.0,9,  -999.00,9, -999.000,9, -999.000,-999.0000,9,-999.0000,  -999.00,9,  -999.00, -999.000,9, -999.000,   -999.0,9,   -999.0,  -999.00,9,-999.0000,9,-999.0000,9,-999.0000,9,-999.0000,9,-999.0000,9,-999.0000,9
  33RR20070204,  I08S,    88,  3,      4,      4,2,20070313,0745,-28.3180,  95.0085, 3068,   2519.1,   1.8278,  34.7277,2,  34.7298,0,    178.0,2,    178.0,2,   109.41,2,    32.23,2,     0.00,2,     2.26,2,    0.004,2,    0.001,2, -999.000,5,   2274.2,2,   2372.9,2,     40.3,2,    33.99,2, -999.000,9, -999.000,-999.0000,9,-999.0000,  -999.00,9,  -999.00, -999.000,9, -999.000,   -999.0,9,   -999.0,  -999.00,9,   0.1349,2,   0.0951,2,   0.0534,2,   0.0385,2,   0.0137,3,   0.0147,4
  33RR20070204,  I08S,    88,  3,      3,      3,2,20070313,0745,-28.3180,  95.0085, 3068,   2773.1,   1.6241,  34.7277,2,  34.7296,2,    183.5,2,    183.8,2,   113.21,2,    32.13,2,     0.00,2,     2.24,2,    0.003,2,    0.001,2, -999.000,5,   2274.8,2,   2376.0,2,     41.1,2,    33.98,2, -999.000,9, -999.000,-999.0000,9,-999.0000,  -999.00,9,  -999.00, -999.000,9, -999.000,   -999.0,9,   -999.0,  -999.00,9,   0.1278,2,   0.0890,2,   0.0490,2,   0.0348,2,   0.0141,2,   0.0153,3
  33RR20070204,  I08S,    88,  3,      2,      2,2,20070313,0745,-28.3180,  95.0085, 3068,   2974.9,   1.4853,  34.7252,2,  34.7267,2,    186.3,2,    185.8,2,   117.02,2,    32.17,2,     0.00,2,     2.25,2,    0.006,2,    0.002,2, -999.000,5,   2277.3,2,   2377.9,2,     40.8,2,    33.81,2, -999.000,9, -999.000,-999.0000,9,-999.0000,  -999.00,9,  -999.00, -999.000,9, -999.000,   -999.0,9,   -999.0,  -999.00,9,   0.1327,2,   0.0933,2,   0.0522,2,   0.0376,2,   0.0137,3,   0.0147,4
  33RR20070204,  I08S,    88,  3,      1,      1,2,20070313,0745,-28.3180,  95.0085, 3068,   3100.8,   1.4595,  34.7244,2,  34.7265,2,    187.1,2,    187.0,2,   117.83,2,    32.17,2,     0.00,2,     2.25,2,    0.007,2,    0.007,3, -999.000,5,   2278.2,6,   2380.7,2,     40.7,2,    33.20,2, -999.000,9, -999.000,-999.0000,9,-999.0000,  -999.00,9,  -999.00, -999.000,9, -999.000,   -999.0,9,   -999.0,  -999.00,9,   0.1304,2,   0.0909,2,   0.0503,2,   0.0360,2,   0.0137,3,   0.0150,4