BOTTLE,20150626SIOCCHRJL
EXPOCODE,SECT_ID,STNNBR,CASTNO,SAMPNO,BTLNBR,BTLNBR_FLAG_W,DATE,TIME,LATITUDE,LONGITUDE,DEPTH,CTDPRS,CTDTMP,CTDSAL,CTDSAL_FLAG_W,SALNTY,SALNTY_FLAG_W,CTDOXY,CTDOXY_FLAG_W,OXYGEN,OXYGEN_FLAG_W,SILCAT,SILCAT_FLAG_W,NITRAT,NITRAT_FLAG_W,NITRIT,NITRIT_FLAG_W,PHSPHT,PHSPHT_FLAG_W,CFC-11,CFC-11_FLAG_W,CFC-12,CFC-12_FLAG_W,CFC113,CFC113_FLAG_W,TCARBN,TCARBN_FLAG_W,ALKALI,ALKALI_FLAG_W,DOC,DOC_FLAG_W,TDN,TDN_FLAG_W,TRITUM,TRITUM_FLAG_W,TRITER,HELIUM,HELIUM_FLAG_W,HELIER,DELHE3,DELHE3_FLAG_W,DELHER,NEON,NEON_FLAG_W,NEONER,DELC14,DELC14_FLAG_W,C14ERR,DELC13,DELC13_FLAG_W,CDOM325,CDOM325_FLAG_W,CDOM340,CDOM340_FLAG_W,CDOM380,CDOM380_FLAG_W,CDOM412,CDOM412_FLAG_W,CDOMSL,CDOMSL_FLAG_W,CDOMSN,CDOMSN_FLAG_W
,,,,,,,,,,,METERS,DBAR,ITS-90,PSS-78,,PSS-78,,UMOL/KG,,UMOL/KG,,UMOL/KG,,UMOL/KG,,UMOL/KG,,UMOL/KG,,PMOL/KG,,PMOL/KG,,PMOL/KG,,UMOL/KG,,UMOL/KG,,UMOL/KG,,UMOL/KG,,TU,,TU,NMOL/KG,,NMOL/KG,PERCNT,,PERCNT,NMOL/KG,,NMOL/KG,/MILLE,,/MILLE,/MILLE,,1/M,,1/M,,1/M,,1/M,,1/NM,,1/NM,
  33RR20070204,  I08S,    77,  1,     36,     38,2,20070310,1107,-33.9960,  94.9983, 4503,      3.9,  18.6709,  35.3207,2,  35.3212,2,    237.4,2,    237.5,2,     0.53,2,     0.87,2,     0.02,2,     0.23,2,    2.384,2,    1.472,2, -999.000,5,   2059.2,6,   2327.7,2,     64.8,2,     6.45,2, -999.000,9, -999.000,   1.7403,2,   0.0004,    -1.28,2,     0.17,    7.157,2,    0.012,   -999.0,9,   -999.0,  -999.00,9,-999.0000,9,-999.0000,9,-999.0000,9,-999.0000,9,-999.0000,9,-999.0000,9
  33RR20070204,  I08S,    77,  1,     35,     35,2,20070310,1107,-33.9960,  94.9983, 4503,     40.7,  18.4578,  35.2982,2,  35.2987,2,    237.3,2,    237.0,2,     0.52,2,     0.97,2,     0.02,2,     0.23,2,    2.416,2,    1.471,2, -999.000,5,   2058.7,2,   2324.6,2,     64.7,2,     6.04,2,    0.718,2,    0.013,   1.7395,2,   0.0004,    -1.10,2,     0.17,    7.150,2,    0.011,   -999.0,9,   -999.0,  -999.00,9,-999.0000,9,-999.0000,9,-999.0000,9,-999.0000,9,-999.0000,9,-999.0000,9
  33RR20070204,  I08S,    77,  1,     34,   9419,2,20070310,1107,-33.9960,  94.9983, 4503,     76.0,  15.5097,  35.5301,2,  35.5403,2,    252.8,2,    253.2,2,     1.31,2,     0.98,2,     0.06,2,     0.25,2,    2.711,2,    1.589,2, -999.000,5,   2083.9,2,   2336.4,2,     60.2,2,     6.99,2,    0.531,2,    0.011,-999.0000,9,-999.0000,  -999.00,9,  -999.00, -999.000,9, -999.000,   -999.0,9,   -999.0,  -999.00,9,-999.0000,9,-999.0000,9,-999.0000,9,-999.0000,9,-999.0000,9,-999.0000,9
  33RR20070204,  I08S,    77,  1,     33,     33,2,20070310,1107,-33.9960,  94.9983, 4503,     96.0,  14.6949,  35.4997,2,  35.4922,2,    238.1,2,    241.4,2,     1.30,2,     2.46,2,     0.66,2,     0.37,2,    2.899,2,    1.734,2, -999.000,5,   2097.2,2,   2338.2,2,     56.1,2,     7.91,2,    0.633,2,    0.012,   1.7725,2,   0.0007,    -1.32,2,     0.18,    7.354,2,    0.008,   -999.0,9,   -999.0,  -999.00,9,-999.0000,9,-999.0000,9,-999.0000,9,-999.0000,9,-999.0000,9,-999.0000,9
  33RR20070204,  I08S,    77,  1,     32,     37,2,20070310,1107,-33.9960,  94.9983, 4503,    126.1,  14.0421,  35.4067,2,  35.4089,2,    239.5,2,    239.3,2,     1.49,2,     4.41,2,     0.14,2,     0.45,2,    2.947,2,    1.769,2, -999.000,5,   2102.4,2,   2329.7,2,     54.5,2,     7.80,2, -999.000,9, -999.000,-999.0000,9,-999.0000,  -999.00,9,  -999.00, -999.000,9, -999.000,   -999.0,9,   -999.0,  -999.00,9,-999.0000,9,-999.0000,9,-999.0000,9,-999.0000,9,-999.0000,9,-999.0000,9
  33RR20070204,  I08S,    77,  1,     31,     31,2,20070310,1107,-33.9960,  94.9983, 4503,    146.1,  13.6245,  35.3590,2,  35.3516,2,    238.8,2,    238.8,2,     1.49,2,     5.36,2,     0.02,2,     0.50,2,    2.781,3,    1.620,3, -999.000,5,   2104.5,2,   2325.3,2,     53.6,2,     9.24,2,    0.511,2,    0.010,-999.0000,9,-999.0000,  -999.00,9,  -999.00, -999.000,9, -999.000,   -999.0,9,   -999.0,  -999.00,9,-999.0000,9,-999.0000,9,-999.0000,9,-999.0000,9,-999.0000,9,-999.0000,9
  33RR20070204,  I08S,    77,  1,     30,     30,2,20070310,1107,-33.9960,  94.9983, 4503,    176.0,  13.3735,  35.3334,2,  35.3321,2,    237.6,2,    236.8,2,     1.68,2,     5.97,2,     0.01,2,     0.53,2,    3.072,2,    1.806,2, -999.000,5,   2106.9,2,   2321.0,2,     52.4,2,     9.04,2, -999.000,9, -999.000,-999.0000,9,-999.0000,  -999.00,9,  -999.00, -999.000,9, -999.000,   -999.0,9,   -999.0,  -999.00,9,-999.0000,9,-999.0000,9,-999.0000,9,-999.0000,9,-999.0000,9,-999.0000,9
  33RR20070204,  I08S,    77,  1,     29,     29,2,20070310,1107,-33.9960,  94.9983, 4503,    225.8,  12.6748,  35.2400,2,  35.2398,2,    233.4,2,    235.6,2,     1.87,2,     7.53,2,     0.01,2,     0.62,2,    3.186,2,    1.861,2, -999.000,5,   2110.7,2,   2315.1,2,     51.2,2,    10.58,2,    0.564,2,    0.011,   1.7464,2,   0.0005,    -1.72,2,     0.18,    7.321,2,    0.013,   -999.0,9,   -999.0,  -999.00,9,-999.0000,9,-999.0000,9,-999.0000,9,-999.0000,9,-999.0000,9,-999.0000,9
  33RR20070204,  I08S,    77,  1,     28,     28,2,20070310,1107,-33.9960,  94.9983, 4503,    276.3,  11.7944,  35.0850,2,  35.0984,2,    237.7,2,    239.7,2,     2.27,2,     9.13,2,     0.01,2,     0.71,2, -999.000,9, -999.000,9, -999.000,9,   2114.2,2,   2309.0,2,     48.4,2,    12.41,2, -999.000,9, -999.000,-999.0000,9,-999.0000,  -999.00,9,  -999.00, -999.000,9, -999.000,   -999.0,9,   -999.0,  -999.00,9,-999.0000,9,-999.0000,9,-999.0000,9,-999.0000,9,-999.0000,9,-999.0000,9
  33RR20070204,  I08S,    77,  1,     27,     27,2,20070310,1107,-33.9960,  94.9983, 4503,    326.2,  11.1343,  34.9700,2,  34.9748,2,    240.7,2,    243.4,2,     2.85,2,    10.76,2,     0.00,2,     0.81,2,    3.239,2,    1.832,2, -999.000,5,   2119.0,6,   2302.3,2,     47.5,2,    14.09,2,    0.402,2,    0.009,   1.8166,2,   0.0007,    -1.52,2,     0.18,    7.699,2,    0.008,   -999.0,9,   -999.0,  -999.00,9,-999.0000,9,-999.0000,9,-999.0000,9,-999.0000,9,-999.0000,9,-999.0000,9
  33RR20070204,  I08S,    77,  1,     26,     26,2,20070310,1107,-33.9960,  94.9983, 4503,    376.7,  10.7061,  34.9001,2,  34.9008,2,    241.5,2,    243.2,2,     3.24,2,    11.94,2,     0.00,2,     0.88,2,    3.475,2,    1.987,2, -999.000,5,   2116.8,2,   2298.7,2,     46.6,2,    15.24,2, -999.000,9, -999.000,   1.7737,2,   0.0006,    -1.30,2,     0.17,    7.569,2,    0.015,   -999.0,9,   -999.0,  -999.00,9,-999.0000,9,-999.0000,9,-999.0000,9,-999.0000,9,-999.0000,9,-999.0000,9
  33RR20070204,  I08S,    77,  1,     25,     25,2,20070310,1107,-33.9960,  94.9983, 4503,    426.4,  10.3877,  34.8484,2,  34.8520,2,    242.8,2,    243.8,2,     3.63,2,    12.81,2,     0.00,2,     0.94,2,    3.568,2,    2.042,2, -999.000,5,   2118.8,2,   2295.8,2,     45.6,2,    15.88,2,    0.393,2,    0.010,-999.0000,9,-999.0000,  -999.00,9,  -999.00, -999.000,9, -999.000,   -999.0,9,   -999.0,  -999.00,9,-999.0000,9,-999.0000,9,-999.0000,9,-999.0000,9,-999.0000,9,-999.0000,9
  33RR20070204,  I08S,    77,  1,     24,     24,2,20070310,1107,-33.9960,  94.9983, 4503,    476.6,  10.1117,  34.8037,2,  34.8001,2,    243.5,2,    245.7,2,     3.83,2,    13.67,2,     0.00,2,     1.00,2,    3.573,2,    2.007,2, -999.000,5,   2119.3,2,   2293.0,2,     44.9,2,    17.56,2, -999.000,9, -999.000,-999.0000,9,-999.0000,  -999.00,9,  -999.00, -999.000,9, -999.000,   -999.0,9,   -999.0,  -999.00,9,-999.0000,9,-999.0000,9,-999.0000,9,-999.0000,9,-999.0000,9,-999.0000,9
  33RR20070204,  I08S,    77,  1,     23,     23,2,20070310,1107,-33.9960,  94.9983, 4503,    536.7,   9.7910,  34.7533,2,  34.7551,2,    243.1,2,    245.2,2,     4.02,2,    14.53,2,     0.00,2,     1.04,2,    3.611,2,    2.024,2, -999.000,5,   2121.0,2,   2290.8,2,     43.9,2,    16.91,2,    0.462,2,    0.010,-999.0000,9,-999.0000,  -999.00,9,  -999.00, -999.000,9, -999.000,   -999.0,9,   -999.0,  -999.00,9,-999.0000,9,-999.0000,9,-999.0000,9,-999.0000,9,-999.0000,9,-999.0000,9
  33RR20070204,  I08S,    77,  1,     22,     22,2,20070310,1107,-33.9960,  94.9983, 4503,    646.7,   9.1057,  34.6524,2,  34.6531,2,    239.1,2,    238.7,2,     5.21,2,    17.03,2,     0.00,2,     1.20,2,    3.486,2,    1.874,2, -999.000,5,   2127.7,2,   2286.2,2,     43.0,2,    19.70,2, -999.000,9, -999.000,   1.7805,2,   0.0005,    -0.34,2,     0.18,    7.552,2,    0.013,   -999.0,9,   -999.0,  -999.00,9,-999.0000,9,-999.0000,9,-999.0000,9,-999.0000,9,-999.0000,9,-999.0000,9
  33RR20070204,  I08S,    77,  1,     21,     21,2,20070310,1107,-33.9960,  94.9983, 4503,    747.0,   8.2753,  34.5616,2,  34.5635,2,    223.4,2,    220.8,2,     8.75,2,    20.64,2,     0.00,2,     1.43,2,    3.092,2,    1.635,2, -999.000,5,   -999.0,9,   -999.0,9,     42.1,2,    23.03,2,    0.212,2,    0.007,   1.8201,2,   0.0004,     0.55,2,     0.17,    7.822,2,    0.012,   -999.0,9,   -999.0,  -999.00,9,-999.0000,9,-999.0000,9,-999.0000,9,-999.0000,9,-999.0000,9,-999.0000,9
  33RR20070204,  I08S,    77,  1,     20,     20,2,20070310,1107,-33.9960,  94.9983, 4503,    847.7,   6.9943,  34.4673,2,  34.4685,2,    204.5,2,    202.6,2,    16.06,2,    25.10,2,     0.00,2,     1.72,2,    2.215,2,    1.138,2, -999.000,5,   2165.1,2,   2283.7,2,     41.7,2,    27.78,2, -999.000,9, -999.000,   1.8125,2,   0.0004,     1.91,2,     0.17,    7.777,2,    0.013,   -999.0,9,   -999.0,  -999.00,9,-999.0000,9,-999.0000,9,-999.0000,9,-999.0000,9,-999.0000,9,-999.0000,9
  33RR20070204,  I08S,    77,  1,     19,     19,2,20070310,1107,-33.9960,  94.9983, 4503,    948.1,   5.6409,  34.4035,2,  34.4045,2,    196.4,2,    195.3,2,    25.73,2,    28.48,2,     0.00,2,     1.95,2,    1.554,2,    0.775,2, -999.000,5,   -999.0,9,   -999.0,9,     40.7,2,    31.44,2,    0.136,2,    0.005,-999.0000,9,-999.0000,  -999.00,9,  -999.00, -999.000,9, -999.000,   -999.0,9,   -999.0,  -999.00,9,-999.0000,9,-999.0000,9,-999.0000,9,-999.0000,9,-999.0000,9,-999.0000,9
  33RR20070204,  I08S,    77,  1,     18,     18,2,20070310,1107,-33.9960,  94.9983, 4503,   1048.7,   4.5511,  34.3732,2,  34.3747,2,    194.7,2,    194.7,2,    35.04,2,    30.69,2,     0.00,2,     2.12,2,    1.288,2,    0.621,2, -999.000,5,   2200.9,2,   2297.1,2,     40.5,2,    32.01,2, -999.000,9, -999.000,-999.0000,9,-999.0000,  -999.00,9,  -999.00, -999.000,9, -999.000,   -999.0,9,   -999.0,  -999.00,9,-999.0000,9,-999.0000,9,-999.0000,9,-999.0000,9,-999.0000,9,-999.0000,9
  33RR20070204,  I08S,    77,  1,     17,     17,2,20070310,1107,-33.9960,  94.9983, 4503,   1148.9,   3.9541,  34.4026,2,  34.4037,2,    183.7,2,    183.5,2,    46.12,2,    32.21,2,     0.00,2,     2.25,2,    0.828,2,    0.398,2, -999.000,5,   -999.0,9,   -999.0,9,     40.3,2,    33.83,2,    0.042,2,    0.005,   1.8366,2,   0.0004,     5.88,2,     0.17,    8.064,2,    0.013,   -999.0,9,   -999.0,  -999.00,9,-999.0000,9,-999.0000,9,-999.0000,9,-999.0000,9,-999.0000,9,-999.0000,9
  33RR20070204,  I08S,    77,  1,     16,     16,2,20070310,1107,-33.9960,  94.9983, 4503,   1249.7,   3.6720,  34.4521,2,  34.4526,2,    169.4,2,    169.8,2,    57.24,2,    33.36,2,     0.00,2,     2.33,2, -999.000,9, -999.000,9, -999.000,9,   2236.9,2,   2320.5,2,     40.7,2,    35.26,2, -999.000,9, -999.000,-999.0000,9,-999.0000,  -999.00,9,  -999.00, -999.000,9, -999.000,   -999.0,9,   -999.0,  -999.00,9,-999.0000,9,-999.0000,9,-999.0000,9,-999.0000,9,-999.0000,9,-999.0000,9
  33RR20070204,  I08S,    77,  1,     15,     15,2,20070310,1107,-33.9960,  94.9983, 4503,   1350.4,   3.4391,  34.5036,2,  34.5046,2,    160.0,2,    160.3,2,    66.78,2,    34.10,2,     0.00,2,     2.39,2,    0.216,2,    0.105,2, -999.000,5,   -999.0,9,   -999.0,9,     40.3,2,    35.66,2,    0.089,2,    0.006,   1.8795,2,   0.0005,     8.28,2,     0.18,    8.093,2,    0.014,   -999.0,9,   -999.0,  -999.00,9,-999.0000,9,-999.0000,9,-999.0000,9,-999.0000,9,-999.0000,9,-999.0000,9
  33RR20070204,  I08S,    77,  1,     14,     14,2,20070310,1107,-33.9960,  94.9983, 4503,   1450.9,   3.2257,  34.5363,2,  34.5376,2,    157.0,2,    157.4,2,    71.97,2,    34.20,2,     0.00,2,     2.41,2,    0.138,2,    0.069,2, -999.000,5,   2254.9,2,   2335.4,2,     40.7,2,    36.11,2, -999.000,9, -999.000,   1.8888,2,   0.0004,    10.66,2,     0.16,    8.233,2,    0.013,   -999.0,9,   -999.0,  -999.00,9,-999.0000,9,-999.0000,9,-999.0000,9,-999.0000,9,-999.0000,9,-999.0000,9
  33RR20070204,  I08S,    77,  1,     13,     13,2,20070310,1107,-33.9960,  94.9983, 4503,   1551.3,   3.0393,  34.5757,2,  34.5769,2,    156.1,2,    156.1,2,    77.15,2,    34.29,2,     0.00,2,     2.41,2,    0.085,2,    0.045,2, -999.000,5,   2260.3,2,   2341.4,2,     40.8,2,    35.72,2,    0.014,2,    0.005,-999.0000,9,-999.0000,  -999.00,9,  -999.00, -999.000,9, -999.000,   -999.0,9,   -999.0,  -999.00,9,-999.0000,9,-999.0000,9,-999.0000,9,-999.0000,9,-999.0000,9,-999.0000,9
  33RR20070204,  I08S,    77,  1,     12,     12,2,20070310,1107,-33.9960,  94.9983, 4503,   1753.2,   2.7738,  34.6409,2,  34.6423,2,    158.0,2,    158.0,2,    84.55,2,    33.72,2,     0.00,2,     2.37,2,    0.033,2,    0.017,2, -999.000,5,   2266.1,6,   2349.3,2,     40.7,2,    35.54,2, -999.000,9, -999.000,   1.8584,2,   0.0004,     8.89,2,     0.17,    8.060,2,    0.013,   -999.0,9,   -999.0,  -999.00,9,-999.0000,9,-999.0000,9,-999.0000,9,-999.0000,9,-999.0000,9,-999.0000,9
  33RR20070204,  I08S,    77,  1,     11,     11,2,20070310,1107,-33.9960,  94.9983, 4503,   1955.7,   2.5506,  34.6834,2,  34.6850,2,    163.7,2,    163.3,2,    89.76,2,    33.07,2,     0.00,2,     2.31,2,    0.019,2,    0.010,2, -999.000,5,   2267.8,2,   2356.0,2,     41.0,2,    34.82,2,    0.001,2,    0.003,-999.0000,9,-999.0000,  -999.00,9,  -999.00, -999.000,9, -999.000,   -999.0,9,   -999.0,  -999.00,9,-999.0000,9,-999.0000,9,-999.0000,9,-999.0000,9,-999.0000,9,-999.0000,9
  33RR20070204,  I08S,    77,  1,     10,     10,2,20070310,1107,-33.9960,  94.9983, 4503,   2117.3,   2.3909,  34.7054,2,  34.7070,2,    170.7,2,    171.2,2,    89.77,2,    32.33,2,     0.00,2,     2.26,2,    0.017,2,    0.008,2, -999.000,5,   2262.9,2,   2354.7,2,     40.9,2,    33.75,2, -999.000,9, -999.000,   1.8925,2,   0.0005,    11.16,2,     0.17,    8.155,2,    0.013,   -999.0,9,   -999.0,  -999.00,9,-999.0000,9,-999.0000,9,-999.0000,9,-999.0000,9,-999.0000,9,-999.0000,9
  33RR20070204,  I08S,    77,  1,      9,      9,2,20070310,1107,-33.9960,  94.9983, 4503,   2370.1,   2.1666,  34.7310,2,  34.7327,2,    183.4,2,    183.1,2,    89.37,2,    31.17,2,     0.00,2,     2.17,2,    0.015,2,    0.008,2, -999.000,5,   2255.7,2,   2355.1,2,     41.0,2,    32.44,2,    0.001,2,    0.003,   1.8668,2,   0.0004,    11.78,2,     0.18,    8.140,2,    0.011,   -999.0,9,   -999.0,  -999.00,9,-999.0000,9,-999.0000,9,-999.0000,9,-999.0000,9,-999.0000,9,-999.0000,9
  33RR20070204,  I08S,    77,  1,      8,      8,2,20070310,1107,-33.9960,  94.9983, 4503,   2622.7,   1.9353,  34.7431,2,  34.7443,2,    191.6,2,    191.9,2,    92.19,2,    30.61,2,     0.00,2,     2.12,2,    0.015,2,    0.006,2, -999.000,5,   2252.9,2,   2353.5,2,     40.5,2,    31.70,2, -999.000,9, -999.000,   1.8524,2,   0.0004,    12.12,2,     0.17,    7.991,2,    0.009,   -999.0,9,   -999.0,  -999.00,9,-999.0000,9,-999.0000,9,-999.0000,9,-999.0000,9,-999.0000,9,-999.0000,9
  33RR20070204,  I08S,    77,  1,      7,      7,2,20070310,1107,-33.9960,  94.9983, 4503,   2876.2,   1.6661,  34.7424,2,  34.7435,2,    197.5,2,    197.5,2,    98.61,2,    30.61,2,     0.00,2,     2.12,2,    0.014,2,    0.008,2, -999.000,5,   2252.2,2,   2355.2,2,     41.1,2,    32.28,2, -999.000,9, -999.000,   1.8793,2,   0.0004,    11.05,2,     0.17,    8.149,2,    0.013,   -999.0,9,   -999.0,  -999.00,9,-999.0000,9,-999.0000,9,-999.0000,9,-999.0000,9,-999.0000,9,-999.0000,9
  33RR20070204,  I08S,    77,  1,      6,      6,2,20070310,1107,-33.9960,  94.9983, 4503,   3130.0,   1.4321,  34.7346,2,  34.7358,2,    200.3,2,    200.5,2,   105.66,2,    30.93,2,     0.00,2,     2.13,2,    0.021,2,    0.010,2, -999.000,5,   2256.4,6,   2357.2,2,     41.1,2,    32.88,2, -999.000,9, -999.000,-999.0000,9,-999.0000,  -999.00,9,  -999.00, -999.000,9, -999.000,   -999.0,9,   -999.0,  -999.00,9,-999.0000,9,-999.0000,9,-999.0000,9,-999.0000,9,-999.0000,9,-999.0000,9
  33RR20070204,  I08S,    77,  1,      5,      5,2,20070310,1107,-33.9960,  94.9983, 4503,   3435.1,   1.2334,  34.7256,2,  34.7264,2,    202.7,2,    203.5,2,   112.33,2,    31.31,2,     0.00,2,     2.16,2,    0.024,2,    0.012,2, -999.000,5,   2259.5,2,   2362.2,2,     40.6,2,    32.93,2,    0.023,2,    0.005,   1.8985,2,   0.0007,    10.35,2,     0.19,    8.365,2,    0.023,   -999.0,9,   -999.0,  -999.00,9,-999.0000,9,-999.0000,9,-999.0000,9,-999.0000,9,-999.0000,9,-999.0000,9
  33RR20070204,  I08S,    77,  1,      4,      4,2,20070310,1107,-33.9960,  94.9983, 4503,   3740.2,   1.1011,  34.7187,2,  34.7193,2,    205.0,2,    204.8,2,   116.58,2,    31.53,2,     0.00,2,     2.18,2,    0.032,2,    0.017,2, -999.000,5,   -999.0,9,   -999.0,9,     40.6,2,    33.41,2, -999.000,9, -999.000,-999.0000,9,-999.0000,  -999.00,9,  -999.00, -999.000,9, -999.000,   -999.0,9,   -999.0,  -999.00,9,-999.0000,9,-999.0000,9,-999.0000,9,-999.0000,9,-999.0000,9,-999.0000,9
  33RR20070204,  I08S,    77,  1,      3,      3,2,20070310,1107,-33.9960,  94.9983, 4503,   4096.2,   1.0518,  34.7149,2,  34.7148,2,    206.0,2,    205.5,2,   118.61,2,    31.67,2,     0.00,2,     2.19,2,    0.030,2,    0.016,2, -999.000,5,   2264.0,2,   2368.5,2,     40.5,2,    33.33,2,    0.001,2,    0.005,   1.9024,2,   0.0004,    10.47,2,     0.17,    8.302,2,    0.009,   -999.0,9,   -999.0,  -999.00,9,-999.0000,9,-999.0000,9,-999.0000,9,-999.0000,9,-999.0000,9,-999.0000,9
  33RR20070204,  I08S,    77,  1,      2,      2,2,20070310,1107,-33.9960,  94.9983, 4503,   4351.6,   1.0375,  34.7128,2,  34.7136,2,    206.4,2,    205.9,2,   119.43,2,    31.75,2,     0.00,2,     2.19,2,    0.029,2,    0.018,2, -999.000,5,   2265.3,2,   2369.4,2,     40.9,2,    33.52,2, -999.000,9, -999.000,   1.9056,2,   0.0005,     9.75,2,     0.18,    8.247,2,    0.014,   -999.0,9,   -999.0,  -999.00,9,-999.0000,9,-999.0000,9,-999.0000,9,-999.0000,9,-999.0000,9,-999.0000,9
  33RR20070204,  I08S,    77,  1,      1,      1,2,20070310,1107,-33.9960,  94.9983, 4503,   4578.3,   1.0401,  34.7118,2,  34.7125,2,    205.6,2,    206.4,2,   120.46,2,    31.75,2,     0.00,2,     2.20,2,    0.032,2,    0.018,2, -999.000,5,   2266.6,6,   2371.3,2,     40.7,2,    33.16,2,    0.041,2,    0.005,   1.9442,2,   0.0006,     9.91,2,     0.17,    8.441,2,    0.016,   -999.0,9,   -999.0,  -999.00,9,-999.0000,9,-999.0000,9,-999.0000,9,-999.0000,9,-999.0000,9,-999.0000,9