BOTTLE,20150626SIOCCHRJL
EXPOCODE,SECT_ID,STNNBR,CASTNO,SAMPNO,BTLNBR,BTLNBR_FLAG_W,DATE,TIME,LATITUDE,LONGITUDE,DEPTH,CTDPRS,CTDTMP,CTDSAL,CTDSAL_FLAG_W,SALNTY,SALNTY_FLAG_W,CTDOXY,CTDOXY_FLAG_W,OXYGEN,OXYGEN_FLAG_W,SILCAT,SILCAT_FLAG_W,NITRAT,NITRAT_FLAG_W,NITRIT,NITRIT_FLAG_W,PHSPHT,PHSPHT_FLAG_W,CFC-11,CFC-11_FLAG_W,CFC-12,CFC-12_FLAG_W,CFC113,CFC113_FLAG_W,TCARBN,TCARBN_FLAG_W,ALKALI,ALKALI_FLAG_W,DOC,DOC_FLAG_W,TDN,TDN_FLAG_W,TRITUM,TRITUM_FLAG_W,TRITER,HELIUM,HELIUM_FLAG_W,HELIER,DELHE3,DELHE3_FLAG_W,DELHER,NEON,NEON_FLAG_W,NEONER,DELC14,DELC14_FLAG_W,C14ERR,DELC13,DELC13_FLAG_W,CDOM325,CDOM325_FLAG_W,CDOM340,CDOM340_FLAG_W,CDOM380,CDOM380_FLAG_W,CDOM412,CDOM412_FLAG_W,CDOMSL,CDOMSL_FLAG_W,CDOMSN,CDOMSN_FLAG_W
,,,,,,,,,,,METERS,DBAR,ITS-90,PSS-78,,PSS-78,,UMOL/KG,,UMOL/KG,,UMOL/KG,,UMOL/KG,,UMOL/KG,,UMOL/KG,,PMOL/KG,,PMOL/KG,,PMOL/KG,,UMOL/KG,,UMOL/KG,,UMOL/KG,,UMOL/KG,,TU,,TU,NMOL/KG,,NMOL/KG,PERCNT,,PERCNT,NMOL/KG,,NMOL/KG,/MILLE,,/MILLE,/MILLE,,1/M,,1/M,,1/M,,1/M,,1/NM,,1/NM,
  33RR20070204,  I08S,    80,  3,     36,     38,2,20070311,0727,-32.5082,  95.0033, 4291,      4.5,  19.6577,  35.4336,2,  35.4446,2,    228.2,2,    234.8,0,     0.29,2,     0.23,2,     0.01,2,     0.20,2, -999.000,9, -999.000,9, -999.000,9,   2057.7,6,   2335.4,2,   -999.0,9,  -999.00,9, -999.000,9, -999.000,-999.0000,9,-999.0000,  -999.00,9,  -999.00, -999.000,9, -999.000,   -999.0,9,   -999.0,  -999.00,9,   0.0869,2,   0.0590,2,   0.0252,2,   0.0179,2,   0.0156,3,   0.0201,3
  33RR20070204,  I08S,    80,  3,     35,     35,2,20070311,0727,-32.5082,  95.0033, 4291,     40.7,  19.6994,  35.5702,2,  35.5713,2,    231.6,2,    231.6,2,     0.28,2,     0.10,2,     0.00,2,     0.17,2, -999.000,9, -999.000,9, -999.000,9,   2062.1,2,   2339.8,2,   -999.0,9,  -999.00,9, -999.000,9, -999.000,-999.0000,9,-999.0000,  -999.00,9,  -999.00, -999.000,9, -999.000,   -999.0,9,   -999.0,  -999.00,9,   0.0794,2,   0.0539,2,   0.0260,2,   0.0193,2,   0.0140,3,   0.0174,3
  33RR20070204,  I08S,    80,  3,     34,   9419,2,20070311,0727,-32.5082,  95.0033, 4291,     75.8,  15.6391,  35.5946,2,  35.5947,2,    254.8,2,    249.0,2,     0.87,2,     0.35,2,     0.03,2,     0.23,2, -999.000,9, -999.000,9, -999.000,9,   2084.6,2,   2339.0,2,   -999.0,9,  -999.00,9, -999.000,9, -999.000,-999.0000,9,-999.0000,  -999.00,9,  -999.00, -999.000,9, -999.000,   -999.0,9,   -999.0,  -999.00,9,   0.1345,2,   0.0979,2,   0.0508,2,   0.0377,2,   0.0139,2,   0.0153,3
  33RR20070204,  I08S,    80,  3,     33,     33,2,20070311,0727,-32.5082,  95.0033, 4291,     95.8,  15.2135,  35.5816,2,  35.5782,2,    238.0,2,    238.4,2,     0.86,2,     1.58,2,     0.38,2,     0.32,2, -999.000,9, -999.000,9, -999.000,9,   2094.1,2,   2337.0,2,   -999.0,9,  -999.00,9, -999.000,9, -999.000,-999.0000,9,-999.0000,  -999.00,9,  -999.00, -999.000,9, -999.000,   -999.0,9,   -999.0,  -999.00,9,   0.1047,2,   0.0764,2,   0.0404,2,   0.0309,2,   0.0139,2,   0.0150,2
  33RR20070204,  I08S,    80,  3,     32,     37,2,20070311,0727,-32.5082,  95.0033, 4291,    125.8,  14.6674,  35.5398,2,  35.5304,2,    231.4,2,    230.9,2,     1.05,2,     3.94,2,     0.06,2,     0.42,2, -999.000,9, -999.000,9, -999.000,9,   -999.0,9,   -999.0,9,   -999.0,9,  -999.00,9, -999.000,9, -999.000,-999.0000,9,-999.0000,  -999.00,9,  -999.00, -999.000,9, -999.000,   -999.0,9,   -999.0,  -999.00,9,   0.0873,2,   0.0620,2,   0.0326,2,   0.0263,2,   0.0132,2,   0.0149,3
  33RR20070204,  I08S,    80,  3,     31,     31,2,20070311,0727,-32.5082,  95.0033, 4291,    145.8,  14.1098,  35.4465,2,  35.4608,2,    228.9,2,    230.2,2,     1.24,2,     4.94,2,     0.02,2,     0.47,2, -999.000,9, -999.000,9, -999.000,9,   2105.0,2,   2328.6,2,   -999.0,9,  -999.00,9, -999.000,9, -999.000,-999.0000,9,-999.0000,  -999.00,9,  -999.00, -999.000,9, -999.000,   -999.0,9,   -999.0,  -999.00,9,   0.0833,2,   0.0586,2,   0.0304,2,   0.0240,2,   0.0134,2,   0.0153,3
  33RR20070204,  I08S,    80,  3,     30,     30,2,20070311,0727,-32.5082,  95.0033, 4291,    175.7,  12.9138,  35.2154,2,  35.2252,2,    234.3,2,    239.0,2,     1.63,2,     6.98,2,     0.01,2,     0.60,2, -999.000,9, -999.000,9, -999.000,9,   -999.0,9,   -999.0,9,   -999.0,9,  -999.00,9, -999.000,9, -999.000,-999.0000,9,-999.0000,  -999.00,9,  -999.00, -999.000,9, -999.000,   -999.0,9,   -999.0,  -999.00,9,   0.0813,2,   0.0564,2,   0.0300,2,   0.0237,2,   0.0130,2,   0.0150,3
  33RR20070204,  I08S,    80,  3,     29,     29,2,20070311,0727,-32.5082,  95.0033, 4291,    225.8,  12.4363,  35.1681,2,  35.1587,2,    235.3,2,    237.4,2,     2.01,2,     8.53,2,     0.01,2,     0.68,2, -999.000,9, -999.000,9, -999.000,9,   2111.8,2,   2311.4,2,   -999.0,9,  -999.00,9, -999.000,9, -999.000,-999.0000,9,-999.0000,  -999.00,9,  -999.00, -999.000,9, -999.000,   -999.0,9,   -999.0,  -999.00,9,   0.0784,2,   0.0542,2,   0.0288,2,   0.0226,2,   0.0130,2,   0.0151,3
  33RR20070204,  I08S,    80,  3,     28,     28,2,20070311,0727,-32.5082,  95.0033, 4291,    275.9,  11.7101,  35.0588,2,  35.0567,2,    239.2,2,    239.9,2,     2.60,2,     9.95,2,     0.01,2,     0.77,2, -999.000,9, -999.000,9, -999.000,9,   -999.0,9,   -999.0,9,   -999.0,9,  -999.00,9, -999.000,9, -999.000,-999.0000,9,-999.0000,  -999.00,9,  -999.00, -999.000,9, -999.000,   -999.0,9,   -999.0,  -999.00,9,   0.0735,2,   0.0503,2,   0.0259,2,   0.0203,2,   0.0132,3,   0.0159,3
  33RR20070204,  I08S,    80,  3,     27,     27,2,20070311,0727,-32.5082,  95.0033, 4291,    326.0,  11.2393,  34.9778,2,  34.9799,2,    245.1,2,    244.7,2,     2.99,2,    10.68,2,     0.01,2,     0.82,2, -999.000,9, -999.000,9, -999.000,9,   2112.8,2,   2302.4,2,   -999.0,9,  -999.00,9, -999.000,9, -999.000,-999.0000,9,-999.0000,  -999.00,9,  -999.00, -999.000,9, -999.000,   -999.0,9,   -999.0,  -999.00,9,   0.0734,2,   0.0501,2,   0.0265,2,   0.0207,2,   0.0129,2,   0.0154,3
  33RR20070204,  I08S,    80,  3,     26,     26,2,20070311,0727,-32.5082,  95.0033, 4291,    376.1,  10.8516,  34.9142,2,  34.9181,2,    245.0,2,    245.7,2,     3.37,2,    11.73,2,     0.01,2,     0.88,2, -999.000,9, -999.000,9, -999.000,9,   -999.0,9,   -999.0,9,   -999.0,9,  -999.00,9, -999.000,9, -999.000,-999.0000,9,-999.0000,  -999.00,9,  -999.00, -999.000,9, -999.000,   -999.0,9,   -999.0,  -999.00,9,   0.0725,2,   0.0491,2,   0.0259,2,   0.0204,2,   0.0127,3,   0.0154,3
  33RR20070204,  I08S,    80,  3,     25,     25,2,20070311,0727,-32.5082,  95.0033, 4291,    426.3,  10.6202,  34.8814,2,  34.8825,2,    242.7,2,    245.3,2,     3.57,2,    12.54,2,     0.01,2,     0.93,2, -999.000,9, -999.000,9, -999.000,9,   2116.5,2,   2298.2,2,   -999.0,9,  -999.00,9, -999.000,9, -999.000,-999.0000,9,-999.0000,  -999.00,9,  -999.00, -999.000,9, -999.000,   -999.0,9,   -999.0,  -999.00,9,   0.0745,2,   0.0507,2,   0.0272,2,   0.0212,2,   0.0126,3,   0.0151,3
  33RR20070204,  I08S,    80,  3,     24,     24,2,20070311,0727,-32.5082,  95.0033, 4291,    476.4,  10.3072,  34.8349,2,  34.8341,2,    244.2,2,    244.3,2,     3.75,2,    13.40,2,     0.01,2,     0.98,2, -999.000,9, -999.000,9, -999.000,9,   -999.0,9,   -999.0,9,   -999.0,9,  -999.00,9, -999.000,9, -999.000,-999.0000,9,-999.0000,  -999.00,9,  -999.00, -999.000,9, -999.000,   -999.0,9,   -999.0,  -999.00,9,   0.0721,2,   0.0486,2,   0.0260,2,   0.0203,2,   0.0127,3,   0.0154,3
  33RR20070204,  I08S,    80,  3,     23,     23,2,20070311,0727,-32.5082,  95.0033, 4291,    536.6,   9.9434,  34.7769,2,  34.7771,2,    245.0,2,    245.6,2,     3.95,2,    14.26,2,     0.01,2,     1.04,2, -999.000,9, -999.000,9, -999.000,9,   2119.2,2,   2292.6,2,   -999.0,9,  -999.00,9, -999.000,9, -999.000,-999.0000,9,-999.0000,  -999.00,9,  -999.00, -999.000,9, -999.000,   -999.0,9,   -999.0,  -999.00,9,   0.0702,2,   0.0469,2,   0.0247,2,   0.0194,2,   0.0128,3,   0.0157,3
  33RR20070204,  I08S,    80,  3,     22,     22,2,20070311,0727,-32.5082,  95.0033, 4291,    646.7,   9.2552,  34.6758,2,  34.6767,2,    238.8,2,    238.3,2,     4.93,2,    16.70,2,     0.01,2,     1.18,2, -999.000,9, -999.000,9, -999.000,9,   -999.0,9,   -999.0,9,   -999.0,9,  -999.00,9, -999.000,9, -999.000,-999.0000,9,-999.0000,  -999.00,9,  -999.00, -999.000,9, -999.000,   -999.0,9,   -999.0,  -999.00,9,   0.0744,2,   0.0499,2,   0.0268,2,   0.0208,2,   0.0127,3,   0.0154,3
  33RR20070204,  I08S,    80,  3,     21,     21,2,20070311,0727,-32.5082,  95.0033, 4291,    747.1,   8.2911,  34.5655,2,  34.5662,2,    222.9,2,    219.7,2,     8.87,2,    20.73,2,     0.00,2,     1.44,2, -999.000,9, -999.000,9, -999.000,9,   2141.5,2,   2285.9,2,   -999.0,9,  -999.00,9, -999.000,9, -999.000,-999.0000,9,-999.0000,  -999.00,9,  -999.00, -999.000,9, -999.000,   -999.0,9,   -999.0,  -999.00,9,   0.0855,2,   0.0581,2,   0.0319,2,   0.0244,2,   0.0127,3,   0.0148,3
  33RR20070204,  I08S,    80,  3,     20,     20,2,20070311,0727,-32.5082,  95.0033, 4291,    847.4,   7.0827,  34.4770,2,  34.4763,2,    207.4,2,    203.8,2,    15.78,2,    24.86,2,     0.00,2,     1.71,2, -999.000,9, -999.000,9, -999.000,9,   -999.0,9,   -999.0,9,   -999.0,9,  -999.00,9, -999.000,9, -999.000,-999.0000,9,-999.0000,  -999.00,9,  -999.00, -999.000,9, -999.000,   -999.0,9,   -999.0,  -999.00,9,-999.0000,9,-999.0000,9,-999.0000,9,-999.0000,9,-999.0000,9,-999.0000,9
  33RR20070204,  I08S,    80,  3,     19,     19,2,20070311,0727,-32.5082,  95.0033, 4291,    947.7,   5.6664,  34.4075,2,  34.4096,2,    198.5,2,    195.3,2,    25.46,2,    28.42,2,     0.00,2,     1.96,2, -999.000,9, -999.000,9, -999.000,9,   -999.0,9,   -999.0,9,   -999.0,9,  -999.00,9, -999.000,9, -999.000,-999.0000,9,-999.0000,  -999.00,9,  -999.00, -999.000,9, -999.000,   -999.0,9,   -999.0,  -999.00,9,-999.0000,9,-999.0000,9,-999.0000,9,-999.0000,9,-999.0000,9,-999.0000,9
  33RR20070204,  I08S,    80,  3,     18,     18,2,20070311,0727,-32.5082,  95.0033, 4291,   1048.2,   4.7321,  34.3983,2,  34.3988,2,    190.6,2,    187.2,2,    37.52,2,    30.99,2,     0.00,2,     2.15,2, -999.000,9, -999.000,9, -999.000,9,   2201.8,2,   2300.0,2,   -999.0,9,  -999.00,9, -999.000,9, -999.000,-999.0000,9,-999.0000,  -999.00,9,  -999.00, -999.000,9, -999.000,   -999.0,9,   -999.0,  -999.00,9,-999.0000,9,-999.0000,9,-999.0000,9,-999.0000,9,-999.0000,9,-999.0000,9
  33RR20070204,  I08S,    80,  3,     17,     17,2,20070311,0727,-32.5082,  95.0033, 4291,   1148.9,   4.0992,  34.4324,2,  34.4327,2,    178.8,2,    173.5,2,    50.40,2,    32.50,2,     0.00,2,     2.30,2, -999.000,9, -999.000,9, -999.000,9,   -999.0,9,   -999.0,9,   -999.0,9,  -999.00,9, -999.000,9, -999.000,-999.0000,9,-999.0000,  -999.00,9,  -999.00, -999.000,9, -999.000,   -999.0,9,   -999.0,  -999.00,9,-999.0000,9,-999.0000,9,-999.0000,9,-999.0000,9,-999.0000,9,-999.0000,9
  33RR20070204,  I08S,    80,  3,     16,     16,2,20070311,0727,-32.5082,  95.0033, 4291,   1249.3,   3.7484,  34.4791,2,  34.4741,2,    164.7,2,    161.6,2,    61.93,2,    33.80,2,     0.00,2,     2.39,2, -999.000,9, -999.000,9, -999.000,9,   -999.0,9,   -999.0,9,   -999.0,9,  -999.00,9, -999.000,9, -999.000,-999.0000,9,-999.0000,  -999.00,9,  -999.00, -999.000,9, -999.000,   -999.0,9,   -999.0,  -999.00,9,-999.0000,9,-999.0000,9,-999.0000,9,-999.0000,9,-999.0000,9,-999.0000,9
  33RR20070204,  I08S,    80,  3,     15,     15,2,20070311,0727,-32.5082,  95.0033, 4291,   1349.8,   3.5700,  34.5163,2,  34.5148,2,    155.1,2,    155.2,2,    68.70,2,    34.26,2,     0.00,2,     2.42,2, -999.000,9, -999.000,9, -999.000,9,   -999.0,9,   -999.0,9,   -999.0,9,  -999.00,9, -999.000,9, -999.000,-999.0000,9,-999.0000,  -999.00,9,  -999.00, -999.000,9, -999.000,   -999.0,9,   -999.0,  -999.00,9,-999.0000,9,-999.0000,9,-999.0000,9,-999.0000,9,-999.0000,9,-999.0000,9
  33RR20070204,  I08S,    80,  3,     14,     14,2,20070311,0727,-32.5082,  95.0033, 4291,   1450.9,   3.3565,  34.5519,2,  34.5509,2,    152.2,2,    151.8,2,    74.68,2,    34.48,2,     0.00,2,     2.44,2, -999.000,9, -999.000,9, -999.000,9,   -999.0,9,   -999.0,9,   -999.0,9,  -999.00,9, -999.000,9, -999.000,-999.0000,9,-999.0000,  -999.00,9,  -999.00, -999.000,9, -999.000,   -999.0,9,   -999.0,  -999.00,9,-999.0000,9,-999.0000,9,-999.0000,9,-999.0000,9,-999.0000,9,-999.0000,9
  33RR20070204,  I08S,    80,  3,     13,     13,2,20070311,0727,-32.5082,  95.0033, 4291,   1551.8,   3.1482,  34.5865,2,  34.5853,2,    152.4,2,    152.0,2,    79.66,2,    34.48,2,     0.00,2,     2.43,2, -999.000,9, -999.000,9, -999.000,9,   2263.0,6,   2343.1,2,   -999.0,9,  -999.00,9, -999.000,9, -999.000,-999.0000,9,-999.0000,  -999.00,9,  -999.00, -999.000,9, -999.000,   -999.0,9,   -999.0,  -999.00,9,-999.0000,9,-999.0000,9,-999.0000,9,-999.0000,9,-999.0000,9,-999.0000,9
  33RR20070204,  I08S,    80,  3,     12,     12,2,20070311,0727,-32.5082,  95.0033, 4291,   1753.2,   2.8257,  34.6391,2,  34.6385,2,    156.4,2,    156.9,2,    85.06,2,    33.82,2,     0.00,2,     2.39,2, -999.000,9, -999.000,9, -999.000,9,   -999.0,9,   -999.0,9,   -999.0,9,  -999.00,9, -999.000,9, -999.000,-999.0000,9,-999.0000,  -999.00,9,  -999.00, -999.000,9, -999.000,   -999.0,9,   -999.0,  -999.00,9,-999.0000,9,-999.0000,9,-999.0000,9,-999.0000,9,-999.0000,9,-999.0000,9
  33RR20070204,  I08S,    80,  3,     11,     11,2,20070311,0727,-32.5082,  95.0033, 4291,   1954.7,   2.5600,  34.6817,2,  34.6815,2,    164.7,2,    165.0,2,    88.26,2,    33.02,2,     0.00,2,     2.32,2,    0.027,2,    0.013,2, -999.000,5,   2263.8,2,   2353.0,2,   -999.0,9,  -999.00,9, -999.000,9, -999.000,-999.0000,9,-999.0000,  -999.00,9,  -999.00, -999.000,9, -999.000,   -999.0,9,   -999.0,  -999.00,9,-999.0000,9,-999.0000,9,-999.0000,9,-999.0000,9,-999.0000,9,-999.0000,9
  33RR20070204,  I08S,    80,  3,     10,     10,2,20070311,0727,-32.5082,  95.0033, 4291,   2116.7,   2.3696,  34.7082,2,  34.7081,2,    172.8,2,    173.5,2,    89.06,2,    32.23,2,     0.00,2,     2.25,2, -999.000,9, -999.000,9, -999.000,9,   -999.0,9,   -999.0,9,   -999.0,9,  -999.00,9, -999.000,9, -999.000,-999.0000,9,-999.0000,  -999.00,9,  -999.00, -999.000,9, -999.000,   -999.0,9,   -999.0,  -999.00,9,-999.0000,9,-999.0000,9,-999.0000,9,-999.0000,9,-999.0000,9,-999.0000,9
  33RR20070204,  I08S,    80,  3,      9,      9,2,20070311,0727,-32.5082,  95.0033, 4291,   2369.3,   2.1473,  34.7322,2,  34.7315,2,    184.3,2,    184.9,2,    88.86,2,    31.12,2,     0.00,2,     2.17,2,    0.020,2,    0.010,2, -999.000,5,   2252.4,2,   2351.7,2,   -999.0,9,  -999.00,9, -999.000,9, -999.000,-999.0000,9,-999.0000,  -999.00,9,  -999.00, -999.000,9, -999.000,   -999.0,9,   -999.0,  -999.00,9,-999.0000,9,-999.0000,9,-999.0000,9,-999.0000,9,-999.0000,9,-999.0000,9
  33RR20070204,  I08S,    80,  3,      8,      8,2,20070311,0727,-32.5082,  95.0033, 4291,   2622.3,   1.9115,  34.7421,2,  34.7415,2,    192.3,2,    192.2,2,    93.07,2,    30.75,2,     0.00,2,     2.13,2, -999.000,9, -999.000,9, -999.000,9,   -999.0,9,   -999.0,9,   -999.0,9,  -999.00,9, -999.000,9, -999.000,-999.0000,9,-999.0000,  -999.00,9,  -999.00, -999.000,9, -999.000,   -999.0,9,   -999.0,  -999.00,9,-999.0000,9,-999.0000,9,-999.0000,9,-999.0000,9,-999.0000,9,-999.0000,9
  33RR20070204,  I08S,    80,  3,      7,      7,2,20070311,0727,-32.5082,  95.0033, 4291,   2875.8,   1.6946,  34.7407,2,  34.7403,2,    196.3,2,    195.9,2,    98.89,2,    30.83,2,     0.00,2,     2.14,2,    0.016,2,    0.009,2, -999.000,5,   2252.7,2,   2357.2,2,   -999.0,9,  -999.00,9, -999.000,9, -999.000,-999.0000,9,-999.0000,  -999.00,9,  -999.00, -999.000,9, -999.000,   -999.0,9,   -999.0,  -999.00,9,-999.0000,9,-999.0000,9,-999.0000,9,-999.0000,9,-999.0000,9,-999.0000,9
  33RR20070204,  I08S,    80,  3,      6,      6,2,20070311,0727,-32.5082,  95.0033, 4291,   3129.2,   1.5157,  34.7362,2,  34.7356,2,    199.2,2,    198.8,2,   105.74,2,    31.01,2,     0.00,2,     2.15,2, -999.000,9, -999.000,9, -999.000,9,   -999.0,9,   -999.0,9,   -999.0,9,  -999.00,9, -999.000,9, -999.000,-999.0000,9,-999.0000,  -999.00,9,  -999.00, -999.000,9, -999.000,   -999.0,9,   -999.0,  -999.00,9,-999.0000,9,-999.0000,9,-999.0000,9,-999.0000,9,-999.0000,9,-999.0000,9
  33RR20070204,  I08S,    80,  3,      5,      5,2,20070311,0727,-32.5082,  95.0033, 4291,   3383.3,   1.3577,  34.7299,2,  34.7295,2,    201.0,2,    201.7,2,   109.37,2,    31.28,2,     0.00,2,     2.17,2,    0.015,2,    0.010,2, -999.000,5,   -999.0,9,   -999.0,9,   -999.0,9,  -999.00,9, -999.000,9, -999.000,-999.0000,9,-999.0000,  -999.00,9,  -999.00, -999.000,9, -999.000,   -999.0,9,   -999.0,  -999.00,9,-999.0000,9,-999.0000,9,-999.0000,9,-999.0000,9,-999.0000,9,-999.0000,9
  33RR20070204,  I08S,    80,  3,      4,      4,2,20070311,0727,-32.5082,  95.0033, 4291,   3637.7,   1.2373,  34.7244,2,  34.7240,2,    202.6,2,    202.6,2,   113.01,2,    31.42,2,     0.00,2,     2.19,2, -999.000,9, -999.000,9, -999.000,9,   -999.0,9,   -999.0,9,   -999.0,9,  -999.00,9, -999.000,9, -999.000,-999.0000,9,-999.0000,  -999.00,9,  -999.00, -999.000,9, -999.000,   -999.0,9,   -999.0,  -999.00,9,-999.0000,9,-999.0000,9,-999.0000,9,-999.0000,9,-999.0000,9,-999.0000,9
  33RR20070204,  I08S,    80,  3,      3,      3,2,20070311,0727,-32.5082,  95.0033, 4291,   3892.0,   1.1677,  34.7203,2,  34.7200,2,    203.7,2,    203.6,2,   115.83,2,    31.69,2,     0.00,2,     2.20,2,    0.016,2,    0.009,2, -999.000,5,   2262.7,2,   2368.4,2,   -999.0,9,  -999.00,9, -999.000,9, -999.000,-999.0000,9,-999.0000,  -999.00,9,  -999.00, -999.000,9, -999.000,   -999.0,9,   -999.0,  -999.00,9,-999.0000,9,-999.0000,9,-999.0000,9,-999.0000,9,-999.0000,9,-999.0000,9
  33RR20070204,  I08S,    80,  3,      2,      2,2,20070311,0727,-32.5082,  95.0033, 4291,   4146.8,   1.1151,  34.7170,2,  34.7163,2,    204.6,2,    204.5,2,   117.46,2,    31.77,2,     0.00,2,     2.20,2,    0.022,2,    0.013,2, -999.000,5,   2263.9,2,   2370.9,2,   -999.0,9,  -999.00,9, -999.000,9, -999.000,-999.0000,9,-999.0000,  -999.00,9,  -999.00, -999.000,9, -999.000,   -999.0,9,   -999.0,  -999.00,9,-999.0000,9,-999.0000,9,-999.0000,9,-999.0000,9,-999.0000,9,-999.0000,9
  33RR20070204,  I08S,    80,  3,      1,      1,2,20070311,0727,-32.5082,  95.0033, 4291,   4366.0,   1.0632,  34.7137,2,  34.7139,2,    205.0,2,    205.5,2,   119.49,2,    31.86,2,     0.00,2,     2.21,2,    0.023,2,    0.013,2, -999.000,5,   2265.0,2,   2370.5,2,   -999.0,9,  -999.00,9, -999.000,9, -999.000,-999.0000,9,-999.0000,  -999.00,9,  -999.00, -999.000,9, -999.000,   -999.0,9,   -999.0,  -999.00,9,-999.0000,9,-999.0000,9,-999.0000,9,-999.0000,9,-999.0000,9,-999.0000,9