BOTTLE,20150626SIOCCHRJL
EXPOCODE,SECT_ID,STNNBR,CASTNO,SAMPNO,BTLNBR,BTLNBR_FLAG_W,DATE,TIME,LATITUDE,LONGITUDE,DEPTH,CTDPRS,CTDTMP,CTDSAL,CTDSAL_FLAG_W,SALNTY,SALNTY_FLAG_W,CTDOXY,CTDOXY_FLAG_W,OXYGEN,OXYGEN_FLAG_W,SILCAT,SILCAT_FLAG_W,NITRAT,NITRAT_FLAG_W,NITRIT,NITRIT_FLAG_W,PHSPHT,PHSPHT_FLAG_W,CFC-11,CFC-11_FLAG_W,CFC-12,CFC-12_FLAG_W,CFC113,CFC113_FLAG_W,TCARBN,TCARBN_FLAG_W,ALKALI,ALKALI_FLAG_W,DOC,DOC_FLAG_W,TDN,TDN_FLAG_W,TRITUM,TRITUM_FLAG_W,TRITER,HELIUM,HELIUM_FLAG_W,HELIER,DELHE3,DELHE3_FLAG_W,DELHER,NEON,NEON_FLAG_W,NEONER,DELC14,DELC14_FLAG_W,C14ERR,DELC13,DELC13_FLAG_W,CDOM325,CDOM325_FLAG_W,CDOM340,CDOM340_FLAG_W,CDOM380,CDOM380_FLAG_W,CDOM412,CDOM412_FLAG_W,CDOMSL,CDOMSL_FLAG_W,CDOMSN,CDOMSN_FLAG_W
,,,,,,,,,,,METERS,DBAR,ITS-90,PSS-78,,PSS-78,,UMOL/KG,,UMOL/KG,,UMOL/KG,,UMOL/KG,,UMOL/KG,,UMOL/KG,,PMOL/KG,,PMOL/KG,,PMOL/KG,,UMOL/KG,,UMOL/KG,,UMOL/KG,,UMOL/KG,,TU,,TU,NMOL/KG,,NMOL/KG,PERCNT,,PERCNT,NMOL/KG,,NMOL/KG,/MILLE,,/MILLE,/MILLE,,1/M,,1/M,,1/M,,1/M,,1/NM,,1/NM,
  33RR20070204,  I08S,    18,  1,     18,     18,2,20070220,0135,-59.9960,  82.0053,  963,      3.7,   1.0645,  33.9108,2,  33.9112,2,    334.6,2,    336.4,2,    31.48,2,    24.46,2,     0.21,2,     1.59,2,    5.870,2,    3.142,2, -999.000,5,   2157.5,2,   2295.3,2,   -999.0,9,  -999.00,9, -999.000,9, -999.000,-999.0000,9,-999.0000,  -999.00,9,  -999.00, -999.000,9, -999.000,   -999.0,9,   -999.0,  -999.00,9,-999.0000,9,-999.0000,9,-999.0000,9,-999.0000,9,-999.0000,9,-999.0000,9
  33RR20070204,  I08S,    18,  1,     17,     17,2,20070220,0135,-59.9960,  82.0053,  963,     19.1,   1.0482,  33.9106,2,  33.9108,2,    337.5,2,    336.5,2,    31.07,2,    24.40,2,     0.22,2,     1.59,2,    5.884,2,    3.154,2, -999.000,5,   2159.0,2,   2294.5,2,   -999.0,9,  -999.00,9, -999.000,9, -999.000,-999.0000,9,-999.0000,  -999.00,9,  -999.00, -999.000,9, -999.000,   -999.0,9,   -999.0,  -999.00,9,-999.0000,9,-999.0000,9,-999.0000,9,-999.0000,9,-999.0000,9,-999.0000,9
  33RR20070204,  I08S,    18,  1,     16,     16,2,20070220,0135,-59.9960,  82.0053,  963,     44.3,   0.9870,  33.9104,2,  33.9114,2,    335.0,2,    334.4,2,    31.65,2,    24.50,2,     0.21,2,     1.61,2,    5.849,2,    3.148,2, -999.000,5,   2160.0,2,   2294.6,2,   -999.0,9,  -999.00,9, -999.000,9, -999.000,-999.0000,9,-999.0000,  -999.00,9,  -999.00, -999.000,9, -999.000,   -999.0,9,   -999.0,  -999.00,9,-999.0000,9,-999.0000,9,-999.0000,9,-999.0000,9,-999.0000,9,-999.0000,9
  33RR20070204,  I08S,    18,  1,     15,     15,2,20070220,0135,-59.9960,  82.0053,  963,     88.4,  -0.0412,  34.2908,2,  34.2758,2,    269.4,2,    269.4,2,    66.80,2,    31.21,2,     0.15,2,     2.25,2,    4.067,2,    2.153,2, -999.000,5,   2225.8,2,   2313.6,2,   -999.0,9,  -999.00,9, -999.000,9, -999.000,-999.0000,9,-999.0000,  -999.00,9,  -999.00, -999.000,9, -999.000,   -999.0,9,   -999.0,  -999.00,9,-999.0000,9,-999.0000,9,-999.0000,9,-999.0000,9,-999.0000,9,-999.0000,9
  33RR20070204,  I08S,    18,  1,     14,     14,2,20070220,0135,-59.9960,  82.0053,  963,    139.2,   1.4226,  34.6006,2,  34.6001,2,    186.5,2,    185.5,2,    82.76,2,    33.77,2,     0.06,2,     2.32,2,    1.050,2,    0.566,2, -999.000,5,   -999.0,9,   -999.0,9,   -999.0,9,  -999.00,9, -999.000,9, -999.000,-999.0000,9,-999.0000,  -999.00,9,  -999.00, -999.000,9, -999.000,   -999.0,9,   -999.0,  -999.00,9,-999.0000,9,-999.0000,9,-999.0000,9,-999.0000,9,-999.0000,9,-999.0000,9
  33RR20070204,  I08S,    18,  1,     13,     13,2,20070220,0135,-59.9960,  82.0053,  963,    165.0,   1.6346,  34.6394,2,  34.6380,2,    177.7,2,    178.7,2,    84.35,2,    33.59,2,     0.04,2,     2.31,2,    0.749,2,    0.406,2, -999.000,5,   -999.0,9,   2334.1,2,   -999.0,9,  -999.00,9, -999.000,9, -999.000,-999.0000,9,-999.0000,  -999.00,9,  -999.00, -999.000,9, -999.000,   -999.0,9,   -999.0,  -999.00,9,-999.0000,9,-999.0000,9,-999.0000,9,-999.0000,9,-999.0000,9,-999.0000,9
  33RR20070204,  I08S,    18,  1,     12,     12,2,20070220,0135,-59.9960,  82.0053,  963,    190.3,   1.7731,  34.6684,2,  34.6674,2,    177.4,2,    175.5,2,    85.33,2,    33.30,2,     0.03,2,     2.30,2,    0.546,2,    0.289,2, -999.000,5,   -999.0,9,   -999.0,9,   -999.0,9,  -999.00,9, -999.000,9, -999.000,-999.0000,9,-999.0000,  -999.00,9,  -999.00, -999.000,9, -999.000,   -999.0,9,   -999.0,  -999.00,9,-999.0000,9,-999.0000,9,-999.0000,9,-999.0000,9,-999.0000,9,-999.0000,9
  33RR20070204,  I08S,    18,  1,     11,     11,2,20070220,0135,-59.9960,  82.0053,  963,    240.2,   1.8571,  34.6925,2,  34.6926,2,    174.9,2,    175.7,2,    86.32,2,    32.96,2,     0.02,2,     2.27,2,    0.405,2,    0.208,2, -999.000,5,   2262.2,3,   2340.1,2,   -999.0,9,  -999.00,9, -999.000,9, -999.000,-999.0000,9,-999.0000,  -999.00,9,  -999.00, -999.000,9, -999.000,   -999.0,9,   -999.0,  -999.00,9,-999.0000,9,-999.0000,9,-999.0000,9,-999.0000,9,-999.0000,9,-999.0000,9
  33RR20070204,  I08S,    18,  1,     10,     10,2,20070220,0135,-59.9960,  82.0053,  963,    291.2,   1.8669,  34.7108,2,  34.7104,2,    176.8,2,    179.0,2,    86.50,2,    32.37,2,     0.01,2,     2.23,2, -999.000,9, -999.000,9, -999.000,9,   -999.0,9,   -999.0,9,   -999.0,9,  -999.00,9, -999.000,9, -999.000,-999.0000,9,-999.0000,  -999.00,9,  -999.00, -999.000,9, -999.000,   -999.0,9,   -999.0,  -999.00,9,-999.0000,9,-999.0000,9,-999.0000,9,-999.0000,9,-999.0000,9,-999.0000,9
  33RR20070204,  I08S,    18,  1,      9,      9,2,20070220,0135,-59.9960,  82.0053,  963,    340.9,   1.8430,  34.7232,2,  34.7232,2,    181.3,2,    182.2,2,    86.48,2,    31.87,2,     0.01,2,     2.20,2,    0.282,2,    0.137,2, -999.000,5,   -999.0,9,   2341.0,2,   -999.0,9,  -999.00,9, -999.000,9, -999.000,-999.0000,9,-999.0000,  -999.00,9,  -999.00, -999.000,9, -999.000,   -999.0,9,   -999.0,  -999.00,9,-999.0000,9,-999.0000,9,-999.0000,9,-999.0000,9,-999.0000,9,-999.0000,9
  33RR20070204,  I08S,    18,  1,      8,      8,2,20070220,0135,-59.9960,  82.0053,  963,    391.6,   1.8155,  34.7299,2,  34.7300,2,    185.4,2,    185.2,2,    86.87,2,    31.57,2,     0.01,2,     2.17,2, -999.000,9, -999.000,9, -999.000,9,   -999.0,9,   -999.0,9,   -999.0,9,  -999.00,9, -999.000,9, -999.000,-999.0000,9,-999.0000,  -999.00,9,  -999.00, -999.000,9, -999.000,   -999.0,9,   -999.0,  -999.00,9,-999.0000,9,-999.0000,9,-999.0000,9,-999.0000,9,-999.0000,9,-999.0000,9
  33RR20070204,  I08S,    18,  1,      7,      7,2,20070220,0135,-59.9960,  82.0053,  963,    442.6,   1.7662,  34.7357,2,  34.7357,2,    188.9,2,    188.1,2,    87.86,2,    31.22,2,     0.01,2,     2.15,2,    0.242,2,    0.115,2, -999.000,5,   2253.6,2,   2344.5,2,   -999.0,9,  -999.00,9, -999.000,9, -999.000,-999.0000,9,-999.0000,  -999.00,9,  -999.00, -999.000,9, -999.000,   -999.0,9,   -999.0,  -999.00,9,-999.0000,9,-999.0000,9,-999.0000,9,-999.0000,9,-999.0000,9,-999.0000,9
  33RR20070204,  I08S,    18,  1,      6,      6,2,20070220,0135,-59.9960,  82.0053,  963,    492.2,   1.7228,  34.7393,2,  34.7398,2,    190.9,2,    190.5,2,    88.84,2,    31.02,2,     0.00,2,     2.13,2, -999.000,9, -999.000,9, -999.000,9,   -999.0,9,   -999.0,9,   -999.0,9,  -999.00,9, -999.000,9, -999.000,-999.0000,9,-999.0000,  -999.00,9,  -999.00, -999.000,9, -999.000,   -999.0,9,   -999.0,  -999.00,9,-999.0000,9,-999.0000,9,-999.0000,9,-999.0000,9,-999.0000,9,-999.0000,9
  33RR20070204,  I08S,    18,  1,      5,      5,2,20070220,0135,-59.9960,  82.0053,  963,    577.2,   1.6007,  34.7414,2,  34.7447,2,    195.6,2,    194.9,2,    90.83,2,    30.88,2,     0.00,2,     2.12,2, -999.000,9, -999.000,9, -999.000,9,   -999.0,9,   2345.5,2,   -999.0,9,  -999.00,9, -999.000,9, -999.000,-999.0000,9,-999.0000,  -999.00,9,  -999.00, -999.000,9, -999.000,   -999.0,9,   -999.0,  -999.00,9,-999.0000,9,-999.0000,9,-999.0000,9,-999.0000,9,-999.0000,9,-999.0000,9
  33RR20070204,  I08S,    18,  1,      4,      4,2,20070220,0135,-59.9960,  82.0053,  963,    678.8,   1.4548,  34.7407,2,  34.7415,2,    199.2,2,    197.5,2,    94.44,2,    30.83,2,     0.00,2,     2.11,2,    0.192,2,    0.090,2, -999.000,5,   -999.0,9,   -999.0,9,   -999.0,9,  -999.00,9, -999.000,9, -999.000,-999.0000,9,-999.0000,  -999.00,9,  -999.00, -999.000,9, -999.000,   -999.0,9,   -999.0,  -999.00,9,-999.0000,9,-999.0000,9,-999.0000,9,-999.0000,9,-999.0000,9,-999.0000,9
  33RR20070204,  I08S,    18,  1,      3,      3,2,20070220,0135,-59.9960,  82.0053,  963,    779.3,   1.2647,  34.7343,2,  34.7353,2,    201.3,2,    200.5,2,   101.47,2,    31.37,2,     0.00,2,     2.13,2, -999.000,9, -999.000,9, -999.000,9,   2253.1,2,   2350.7,2,   -999.0,9,  -999.00,9, -999.000,9, -999.000,-999.0000,9,-999.0000,  -999.00,9,  -999.00, -999.000,9, -999.000,   -999.0,9,   -999.0,  -999.00,9,-999.0000,9,-999.0000,9,-999.0000,9,-999.0000,9,-999.0000,9,-999.0000,9
  33RR20070204,  I08S,    18,  1,      2,      2,2,20070220,0135,-59.9960,  82.0053,  963,    880.0,   1.0877,  34.7266,2,  34.7276,2,    200.8,2,    202.0,2,   107.71,2,    31.51,2,     0.00,2,     2.15,2, -999.000,9, -999.000,9, -999.000,9,   2255.9,2,   2350.5,2,   -999.0,9,  -999.00,9, -999.000,9, -999.000,-999.0000,9,-999.0000,  -999.00,9,  -999.00, -999.000,9, -999.000,   -999.0,9,   -999.0,  -999.00,9,-999.0000,9,-999.0000,9,-999.0000,9,-999.0000,9,-999.0000,9,-999.0000,9
  33RR20070204,  I08S,    18,  1,      1,      1,2,20070220,0135,-59.9960,  82.0053,  963,    962.0,   1.0204,  34.7232,2,  34.7243,2,    201.5,2,    202.5,2,   111.13,2,    31.56,2,     0.00,2,     2.16,2,    0.175,2,    0.080,2, -999.000,5,   2258.0,6,   2353.7,2,   -999.0,9,  -999.00,9, -999.000,9, -999.000,-999.0000,9,-999.0000,  -999.00,9,  -999.00, -999.000,9, -999.000,   -999.0,9,   -999.0,  -999.00,9,-999.0000,9,-999.0000,9,-999.0000,9,-999.0000,9,-999.0000,9,-999.0000,9