BOTTLE,20150626SIOCCHRJL
EXPOCODE,SECT_ID,STNNBR,CASTNO,SAMPNO,BTLNBR,BTLNBR_FLAG_W,DATE,TIME,LATITUDE,LONGITUDE,DEPTH,CTDPRS,CTDTMP,CTDSAL,CTDSAL_FLAG_W,SALNTY,SALNTY_FLAG_W,CTDOXY,CTDOXY_FLAG_W,OXYGEN,OXYGEN_FLAG_W,SILCAT,SILCAT_FLAG_W,NITRAT,NITRAT_FLAG_W,NITRIT,NITRIT_FLAG_W,PHSPHT,PHSPHT_FLAG_W,CFC-11,CFC-11_FLAG_W,CFC-12,CFC-12_FLAG_W,CFC113,CFC113_FLAG_W,TCARBN,TCARBN_FLAG_W,ALKALI,ALKALI_FLAG_W,DOC,DOC_FLAG_W,TDN,TDN_FLAG_W,TRITUM,TRITUM_FLAG_W,TRITER,HELIUM,HELIUM_FLAG_W,HELIER,DELHE3,DELHE3_FLAG_W,DELHER,NEON,NEON_FLAG_W,NEONER,DELC14,DELC14_FLAG_W,C14ERR,DELC13,DELC13_FLAG_W,CDOM325,CDOM325_FLAG_W,CDOM340,CDOM340_FLAG_W,CDOM380,CDOM380_FLAG_W,CDOM412,CDOM412_FLAG_W,CDOMSL,CDOMSL_FLAG_W,CDOMSN,CDOMSN_FLAG_W
,,,,,,,,,,,METERS,DBAR,ITS-90,PSS-78,,PSS-78,,UMOL/KG,,UMOL/KG,,UMOL/KG,,UMOL/KG,,UMOL/KG,,UMOL/KG,,PMOL/KG,,PMOL/KG,,PMOL/KG,,UMOL/KG,,UMOL/KG,,UMOL/KG,,UMOL/KG,,TU,,TU,NMOL/KG,,NMOL/KG,PERCNT,,PERCNT,NMOL/KG,,NMOL/KG,/MILLE,,/MILLE,/MILLE,,1/M,,1/M,,1/M,,1/M,,1/NM,,1/NM,
  33RR20070204,  I08S,     4,  1,     31,     31,2,20070216,0326,-65.5238,  84.4812, 2721,      3.0,  -1.0112,  33.5263,2,  33.5270,2,    356.2,2,    359.0,2,    54.76,2,    22.60,2,     0.11,2,     1.56,2,    6.109,2,    3.356,2, -999.000,5,   2121.3,2,   2272.1,2,   -999.0,9,  -999.00,9,    0.243,2,    0.008,   1.8288,2,   0.0003,    -1.74,2,     0.18,    8.281,2,    0.011,   -999.0,9,   -999.0,  -999.00,9,-999.0000,9,-999.0000,9,-999.0000,9,-999.0000,9,-999.0000,9,-999.0000,9
  33RR20070204,  I08S,     4,  1,     30,     30,2,20070216,0326,-65.5238,  84.4812, 2721,     29.4,  -1.0054,  33.8332,2,  33.8071,2,    355.8,2,    353.6,2,    56.75,2,    23.91,2,     0.09,2,     1.71,2,    5.757,2,    3.151,2, -999.000,5,   -999.0,9,   -999.0,9,   -999.0,9,  -999.00,9,    0.292,2,    0.008,   1.8244,2,   0.0003,    -1.52,2,     0.18,    8.221,2,    0.011,   -999.0,9,   -999.0,  -999.00,9,-999.0000,9,-999.0000,9,-999.0000,9,-999.0000,9,-999.0000,9,-999.0000,9
  33RR20070204,  I08S,     4,  1,     29,     29,2,20070216,0326,-65.5238,  84.4812, 2721,     54.6,  -1.0541,  34.0371,2,  34.0411,2,    333.5,2,    334.4,2,    61.55,2,    26.10,2,     0.08,2,     1.91,2,    5.554,2,    3.042,2, -999.000,5,   2173.7,6,   2301.7,2,   -999.0,9,  -999.00,9,    0.091,2,    0.005,   1.9324,2,   0.0005,    -1.06,2,     0.18,    8.569,2,    0.013,   -999.0,9,   -999.0,  -999.00,9,-999.0000,9,-999.0000,9,-999.0000,9,-999.0000,9,-999.0000,9,-999.0000,9
  33RR20070204,  I08S,     4,  1,     28,     28,2,20070216,0326,-65.5238,  84.4812, 2721,     79.8,  -1.7368,  34.2430,2,  34.2432,2,    309.4,2,    317.4,2,    63.75,2,    29.69,2,     0.09,2,     2.09,2,    5.370,2,    2.917,2, -999.000,5,   -999.0,9,   -999.0,9,   -999.0,9,  -999.00,9,    0.092,2,    0.005,   2.4686,4,   0.0008,    -0.60,3,     0.15,   10.417,4,    0.023,   -999.0,9,   -999.0,  -999.00,9,-999.0000,9,-999.0000,9,-999.0000,9,-999.0000,9,-999.0000,9,-999.0000,9
  33RR20070204,  I08S,     4,  1,     27,     27,2,20070216,0326,-65.5238,  84.4812, 2721,    104.9,  -1.7452,  34.2894,2,  34.2924,2,    314.2,2,    311.7,2,    65.14,2,    30.30,2,     0.10,2,     2.11,2,    5.120,2,    2.783,2, -999.000,5,   2210.7,2,   2314.5,2,   -999.0,9,  -999.00,9,    0.147,2,    0.007,   5.0714,4,   0.0139,     0.48,3,     0.16,   17.105,4,    0.089,   -999.0,9,   -999.0,  -999.00,9,-999.0000,9,-999.0000,9,-999.0000,9,-999.0000,9,-999.0000,9,-999.0000,9
  33RR20070204,  I08S,     4,  1,     26,     26,2,20070216,0326,-65.5238,  84.4812, 2721,    155.1,  -1.6671,  34.3253,2,  34.3271,2,    314.2,2,    305.8,2,    66.15,2,    30.66,2,     0.07,2,     2.14,2,    4.934,2,    2.683,2, -999.000,5,   -999.0,9,   -999.0,9,   -999.0,9,  -999.00,9,    0.245,2,    0.007,   1.9416,2,   0.0005,     0.25,2,     0.18,    8.547,2,    0.013,   -999.0,9,   -999.0,  -999.00,9,-999.0000,9,-999.0000,9,-999.0000,9,-999.0000,9,-999.0000,9,-999.0000,9
  33RR20070204,  I08S,     4,  1,     25,     25,2,20070216,0326,-65.5238,  84.4812, 2721,    205.5,  -1.6917,  34.3576,2,  34.3599,2,    315.9,2,    315.2,2,    66.14,2,    30.50,2,     0.08,2,     2.12,2,    5.277,2,    2.862,2, -999.000,5,   2215.3,2,   2318.8,2,   -999.0,9,  -999.00,9,    0.228,2,    0.007,   1.9648,2,   0.0005,    -0.79,2,     0.17,    8.700,2,    0.014,   -999.0,9,   -999.0,  -999.00,9,-999.0000,9,-999.0000,9,-999.0000,9,-999.0000,9,-999.0000,9,-999.0000,9
  33RR20070204,  I08S,     4,  1,     24,     24,2,20070216,0326,-65.5238,  84.4812, 2721,    255.8,  -1.4527,  34.4029,2,  34.4048,2,    302.4,2,    303.9,2,    68.55,2,    30.83,2,     0.04,2,     2.13,2,    4.834,2,    2.618,2, -999.000,5,   -999.0,9,   -999.0,9,   -999.0,9,  -999.00,9, -999.000,9, -999.000,   1.9041,2,   0.0004,     0.24,3,     0.18,    8.487,2,    0.012,   -999.0,9,   -999.0,  -999.00,9,-999.0000,9,-999.0000,9,-999.0000,9,-999.0000,9,-999.0000,9,-999.0000,9
  33RR20070204,  I08S,     4,  1,     23,     23,2,20070216,0326,-65.5238,  84.4812, 2721,    306.2,  -1.5556,  34.4226,2,  34.4250,2,    306.0,2,    308.2,2,    69.14,2,    30.83,2,     0.04,2,     2.14,2,    5.141,2,    2.799,2, -999.000,5,   2222.4,2,   2323.3,2,   -999.0,9,  -999.00,9,    0.233,2,    0.007,   1.8992,2,   0.0005,    -0.17,2,     0.18,    8.498,2,    0.013,   -999.0,9,   -999.0,  -999.00,9,-999.0000,9,-999.0000,9,-999.0000,9,-999.0000,9,-999.0000,9,-999.0000,9
  33RR20070204,  I08S,     4,  1,     22,     22,2,20070216,0326,-65.5238,  84.4812, 2721,    356.5,  -0.9351,  34.4854,2,  34.4949,0,    270.8,2,    279.1,2,    76.38,2,    31.17,2,     0.03,2,     2.15,2,    3.959,2,    2.134,2, -999.000,5,   -999.0,9,   -999.0,9,   -999.0,9,  -999.00,9,    0.215,2,    0.007,   1.9607,2,   0.0005,     1.64,2,     0.17,    8.725,2,    0.014,   -999.0,9,   -999.0,  -999.00,9,-999.0000,9,-999.0000,9,-999.0000,9,-999.0000,9,-999.0000,9,-999.0000,9
  33RR20070204,  I08S,     4,  1,     21,     21,2,20070216,0326,-65.5238,  84.4812, 2721,    407.0,   0.3754,  34.6203,2,  34.6198,2,    232.9,2,    231.1,2,    87.85,2,    31.60,2,     0.01,2,     2.18,2,    1.901,2,    1.014,2, -999.000,5,   2241.5,2,   2337.7,2,   -999.0,9,  -999.00,9,    0.099,2,    0.006,   1.8913,2,   0.0005,     5.54,2,     0.18,    8.350,2,    0.013,   -999.0,9,   -999.0,  -999.00,9,-999.0000,9,-999.0000,9,-999.0000,9,-999.0000,9,-999.0000,9,-999.0000,9
  33RR20070204,  I08S,     4,  1,     20,     20,2,20070216,0326,-65.5238,  84.4812, 2721,    457.3,   0.6734,  34.6590,2,  34.6606,2,    217.5,2,    218.2,2,    91.88,2,    31.70,2,     0.01,2,     2.18,2,    1.283,2,    0.696,2, -999.000,5,   -999.0,9,   -999.0,9,   -999.0,9,  -999.00,9,    0.055,2,    0.005,   1.8778,2,   0.0005,     6.65,2,     0.19,    8.285,2,    0.013,   -999.0,9,   -999.0,  -999.00,9,-999.0000,9,-999.0000,9,-999.0000,9,-999.0000,9,-999.0000,9,-999.0000,9
  33RR20070204,  I08S,     4,  1,     19,     19,2,20070216,0326,-65.5238,  84.4812, 2721,    507.9,   0.7190,  34.6757,2,  34.6775,2,    215.1,2,    215.0,2,    97.14,2,    31.64,2,     0.00,2,     2.19,2,    1.022,2,    0.558,2, -999.000,5,   2247.2,2,   2344.6,2,   -999.0,9,  -999.00,9,    0.061,2,    0.004,   1.8902,2,   0.0005,     7.10,2,     0.18,    8.271,2,    0.012,   -999.0,9,   -999.0,  -999.00,9,-999.0000,9,-999.0000,9,-999.0000,9,-999.0000,9,-999.0000,9,-999.0000,9
  33RR20070204,  I08S,     4,  1,     18,     18,2,20070216,0326,-65.5238,  84.4812, 2721,    608.6,   0.7815,  34.6884,2,  34.6897,2,    211.6,2,    211.9,2,    99.76,2,    31.69,2,     0.00,2,     2.19,2,    0.819,2,    0.444,2, -999.000,5,   -999.0,9,   -999.0,9,   -999.0,9,  -999.00,9, -999.000,9, -999.000,   1.9164,2,   0.0005,     7.12,2,     0.18,    8.375,2,    0.013,   -999.0,9,   -999.0,  -999.00,9,-999.0000,9,-999.0000,9,-999.0000,9,-999.0000,9,-999.0000,9,-999.0000,9
  33RR20070204,  I08S,     4,  1,     17,     17,2,20070216,0326,-65.5238,  84.4812, 2721,    709.5,   0.7219,  34.6904,2,  34.6920,2,    213.0,2,    211.8,2,   103.81,2,    31.83,2,     0.00,2,     2.20,2,    0.724,2,    0.394,2, -999.000,5,   2250.8,2,   2348.6,2,   -999.0,9,  -999.00,9, -999.000,9, -999.000,   1.9471,3,   0.0005,     7.08,2,     0.17,    8.506,2,    0.013,   -999.0,9,   -999.0,  -999.00,9,-999.0000,9,-999.0000,9,-999.0000,9,-999.0000,9,-999.0000,9,-999.0000,9
  33RR20070204,  I08S,     4,  1,     16,     16,2,20070216,0326,-65.5238,  84.4812, 2721,    810.4,   0.6342,  34.6899,2,  34.6910,2,    212.8,2,    213.0,2,   106.85,2,    32.02,2,     0.00,2,     2.21,2,    0.680,2,    0.365,2, -999.000,5,   -999.0,9,   -999.0,9,   -999.0,9,  -999.00,9,    0.025,2,    0.003,   1.9136,2,   0.0004,     7.58,2,     0.19,    8.364,2,    0.013,   -999.0,9,   -999.0,  -999.00,9,-999.0000,9,-999.0000,9,-999.0000,9,-999.0000,9,-999.0000,9,-999.0000,9
  33RR20070204,  I08S,     4,  1,     15,     15,2,20070216,0326,-65.5238,  84.4812, 2721,    911.5,   0.5942,  34.6918,2,  34.6930,2,    212.8,2,    213.9,2,   111.09,2,    32.11,2,     0.00,2,     2.22,2,    0.573,2,    0.305,2, -999.000,5,   2253.5,2,   2347.7,2,   -999.0,9,  -999.00,9,    0.127,2,    0.006,   1.8804,2,   0.0005,     7.35,2,     0.18,    8.209,2,    0.013,   -999.0,9,   -999.0,  -999.00,9,-999.0000,9,-999.0000,9,-999.0000,9,-999.0000,9,-999.0000,9,-999.0000,9
  33RR20070204,  I08S,     4,  1,     14,     14,2,20070216,0326,-65.5238,  84.4812, 2721,   1012.4,   0.5337,  34.6903,2,  34.6918,2,    213.2,2,    213.9,2,   113.73,2,    32.25,2,     0.00,2,     2.23,2,    0.551,2,    0.289,2, -999.000,5,   -999.0,9,   -999.0,9,   -999.0,9,  -999.00,9,    0.158,2,    0.005,   1.8828,2,   0.0004,     7.43,2,     0.18,    8.251,2,    0.013,   -999.0,9,   -999.0,  -999.00,9,-999.0000,9,-999.0000,9,-999.0000,9,-999.0000,9,-999.0000,9,-999.0000,9
  33RR20070204,  I08S,     4,  1,     13,     13,2,20070216,0326,-65.5238,  84.4812, 2721,   1113.6,   0.4487,  34.6861,2,  34.6855,2,    215.2,2,    215.1,2,   114.34,2,    32.29,2,     0.00,2,     2.24,2,    0.585,2,    0.313,2, -999.000,5,   -999.0,9,   2351.5,2,   -999.0,9,  -999.00,9, -999.000,9, -999.000,   1.8632,2,   0.0004,     7.64,2,     0.19,    8.243,2,    0.013,   -999.0,9,   -999.0,  -999.00,9,-999.0000,9,-999.0000,9,-999.0000,9,-999.0000,9,-999.0000,9,-999.0000,9
  33RR20070204,  I08S,     4,  1,     12,     12,2,20070216,0326,-65.5238,  84.4812, 2721,   1214.5,   0.3903,  34.6843,2,  34.6859,2,    216.2,2,    215.8,2,   116.57,2,    32.33,2,     0.00,2,     2.25,2,    0.591,2,    0.310,2, -999.000,5,   -999.0,9,   -999.0,9,   -999.0,9,  -999.00,9,    0.001,2,    0.004,   1.9101,2,   0.0005,     7.29,2,     0.18,    8.398,2,    0.012,   -999.0,9,   -999.0,  -999.00,9,-999.0000,9,-999.0000,9,-999.0000,9,-999.0000,9,-999.0000,9,-999.0000,9
  33RR20070204,  I08S,     4,  1,     11,     11,2,20070216,0326,-65.5238,  84.4812, 2721,   1315.7,   0.3128,  34.6807,2,  34.6816,2,    217.6,2,    217.7,2,   117.38,2,    32.32,2,     0.00,2,     2.24,2,    0.640,2,    0.342,2, -999.000,5,   2254.8,2,   2351.6,2,   -999.0,9,  -999.00,9, -999.000,9, -999.000,   1.8822,2,   0.0004,     7.33,2,     0.19,    8.224,2,    0.012,   -999.0,9,   -999.0,  -999.00,9,-999.0000,9,-999.0000,9,-999.0000,9,-999.0000,9,-999.0000,9,-999.0000,9
  33RR20070204,  I08S,     4,  1,     10,     10,2,20070216,0326,-65.5238,  84.4812, 2721,   1416.8,   0.2561,  34.6783,2,  34.6792,2,    219.2,2,    219.2,2,   117.78,2,    32.32,2,     0.00,2,     2.24,2,    0.683,2,    0.370,2, -999.000,5,   -999.0,9,   -999.0,9,   -999.0,9,  -999.00,9, -999.000,9, -999.000,   1.8844,2,   0.0004,     7.30,2,     0.18,    8.120,2,    0.013,   -999.0,9,   -999.0,  -999.00,9,-999.0000,9,-999.0000,9,-999.0000,9,-999.0000,9,-999.0000,9,-999.0000,9
  33RR20070204,  I08S,     4,  1,      9,      9,2,20070216,0326,-65.5238,  84.4812, 2721,   1518.2,   0.2127,  34.6768,2,  34.6782,2,    220.4,2,    220.5,2,   119.19,2,    32.46,2,     0.00,2,     2.25,2,    0.718,2,    0.380,2, -999.000,5,   2255.1,2,   2350.8,2,   -999.0,9,  -999.00,9,    0.001,2,    0.003,   1.9082,2,   0.0004,     7.26,2,     0.17,    8.307,2,    0.013,   -999.0,9,   -999.0,  -999.00,9,-999.0000,9,-999.0000,9,-999.0000,9,-999.0000,9,-999.0000,9,-999.0000,9
  33RR20070204,  I08S,     4,  1,      8,      8,2,20070216,0326,-65.5238,  84.4812, 2721,   1619.5,   0.1611,  34.6749,2,  34.6764,2,    221.4,2,    222.0,2,   119.18,2,    32.22,2,     0.00,2,     2.24,2,    0.765,2,    0.403,2, -999.000,5,   -999.0,9,   -999.0,9,   -999.0,9,  -999.00,9, -999.000,9, -999.000,   1.9007,2,   0.0005,     6.71,2,     0.18,    8.165,2,    0.032,   -999.0,9,   -999.0,  -999.00,9,-999.0000,9,-999.0000,9,-999.0000,9,-999.0000,9,-999.0000,9,-999.0000,9
  33RR20070204,  I08S,     4,  1,      7,      7,2,20070216,0326,-65.5238,  84.4812, 2721,   1721.0,   0.1244,  34.6738,2,  34.6754,2,    222.7,2,    222.9,2,   120.20,2,    32.35,2,     0.00,2,     2.24,2,    0.801,2,    0.422,2, -999.000,5,   2254.7,2,   2350.5,2,   -999.0,9,  -999.00,9,    0.005,2,    0.003,   1.8557,2,   0.0004,     6.48,2,     0.19,    8.193,2,    0.013,   -999.0,9,   -999.0,  -999.00,9,-999.0000,9,-999.0000,9,-999.0000,9,-999.0000,9,-999.0000,9,-999.0000,9
  33RR20070204,  I08S,     4,  1,      6,      6,2,20070216,0326,-65.5238,  84.4812, 2721,   1822.3,   0.1065,  34.6735,2,  34.6744,2,    223.6,2,    223.5,2,   119.59,2,    32.40,2,     0.00,2,     2.25,2,    0.816,2,    0.431,2, -999.000,5,   -999.0,9,   -999.0,9,   -999.0,9,  -999.00,9,    0.001,2,    0.004,   1.8765,2,   0.0004,     7.08,2,     0.18,    8.230,2,    0.012,   -999.0,9,   -999.0,  -999.00,9,-999.0000,9,-999.0000,9,-999.0000,9,-999.0000,9,-999.0000,9,-999.0000,9
  33RR20070204,  I08S,     4,  1,      5,      5,2,20070216,0326,-65.5238,  84.4812, 2721,   1923.7,   0.0654,  34.6723,2,  34.6734,2,    224.9,2,    225.1,2,   120.80,2,    32.39,2,     0.00,2,     2.25,2,    0.863,2,    0.456,2, -999.000,5,   2254.6,2,   2353.3,2,   -999.0,9,  -999.00,9,    0.002,2,    0.004,-999.0000,9,-999.0000,  -999.00,9,  -999.00, -999.000,9, -999.000,   -999.0,9,   -999.0,  -999.00,9,-999.0000,9,-999.0000,9,-999.0000,9,-999.0000,9,-999.0000,9,-999.0000,9
  33RR20070204,  I08S,     4,  1,      4,      4,2,20070216,0326,-65.5238,  84.4812, 2721,   2025.3,   0.0484,  34.6719,2,  34.6728,2,    226.1,2,    226.2,2,   121.20,2,    32.34,2,     0.00,2,     2.25,2,    0.884,2,    0.466,2, -999.000,5,   -999.0,9,   -999.0,9,   -999.0,9,  -999.00,9,    0.001,2,    0.007,   1.9800,3,   0.0005,     6.82,2,     0.18,    8.670,2,    0.013,   -999.0,9,   -999.0,  -999.00,9,-999.0000,9,-999.0000,9,-999.0000,9,-999.0000,9,-999.0000,9,-999.0000,9
  33RR20070204,  I08S,     4,  1,      3,      3,2,20070216,0326,-65.5238,  84.4812, 2721,   2279.1,  -0.0237,  34.6694,2,  34.6675,0,    228.9,2,    228.2,2,   122.01,2,    32.33,2,     0.00,2,     2.25,2,    1.038,2,    0.538,2, -999.000,5,   2254.9,6,   2351.7,2,   -999.0,9,  -999.00,9, -999.000,9, -999.000,   2.0279,3,   0.0005,     6.40,2,     0.18,    8.787,3,    0.013,   -999.0,9,   -999.0,  -999.00,9,-999.0000,9,-999.0000,9,-999.0000,9,-999.0000,9,-999.0000,9,-999.0000,9
  33RR20070204,  I08S,     4,  1,      2,      2,2,20070216,0326,-65.5238,  84.4812, 2721,   2533.5,  -0.0797,  34.6670,2,  34.6683,2,    231.5,2,    231.0,2,   120.98,2,    32.28,2,     0.00,2,     2.25,2,    1.173,2,    0.607,2, -999.000,5,   -999.0,9,   -999.0,9,   -999.0,9,  -999.00,9,    0.004,2,    0.004,   2.0238,3,   0.0005,     5.93,2,     0.18,    8.800,3,    0.014,   -999.0,9,   -999.0,  -999.00,9,-999.0000,9,-999.0000,9,-999.0000,9,-999.0000,9,-999.0000,9,-999.0000,9
  33RR20070204,  I08S,     4,  1,      1,      1,2,20070216,0326,-65.5238,  84.4812, 2721,   2711.4,  -0.1268,  34.6648,2,  34.6655,2,    232.5,2,    232.7,2,   122.19,2,    32.32,2,     0.00,2,     2.25,2,    1.331,2,    0.682,2, -999.000,5,   2254.4,2,   2350.6,2,   -999.0,9,  -999.00,9, -999.000,9, -999.000,   2.1145,4,   0.0006,     5.45,3,     0.18,    9.048,3,    0.014,   -999.0,9,   -999.0,  -999.00,9,-999.0000,9,-999.0000,9,-999.0000,9,-999.0000,9,-999.0000,9,-999.0000,9