BOTTLE,20150626SIOCCHRJL
EXPOCODE,SECT_ID,STNNBR,CASTNO,SAMPNO,BTLNBR,BTLNBR_FLAG_W,DATE,TIME,LATITUDE,LONGITUDE,DEPTH,CTDPRS,CTDTMP,CTDSAL,CTDSAL_FLAG_W,SALNTY,SALNTY_FLAG_W,CTDOXY,CTDOXY_FLAG_W,OXYGEN,OXYGEN_FLAG_W,SILCAT,SILCAT_FLAG_W,NITRAT,NITRAT_FLAG_W,NITRIT,NITRIT_FLAG_W,PHSPHT,PHSPHT_FLAG_W,CFC-11,CFC-11_FLAG_W,CFC-12,CFC-12_FLAG_W,CFC113,CFC113_FLAG_W,TCARBN,TCARBN_FLAG_W,ALKALI,ALKALI_FLAG_W,DOC,DOC_FLAG_W,TDN,TDN_FLAG_W,TRITUM,TRITUM_FLAG_W,TRITER,HELIUM,HELIUM_FLAG_W,HELIER,DELHE3,DELHE3_FLAG_W,DELHER,NEON,NEON_FLAG_W,NEONER,DELC14,DELC14_FLAG_W,C14ERR,DELC13,DELC13_FLAG_W,CDOM325,CDOM325_FLAG_W,CDOM340,CDOM340_FLAG_W,CDOM380,CDOM380_FLAG_W,CDOM412,CDOM412_FLAG_W,CDOMSL,CDOMSL_FLAG_W,CDOMSN,CDOMSN_FLAG_W
,,,,,,,,,,,METERS,DBAR,ITS-90,PSS-78,,PSS-78,,UMOL/KG,,UMOL/KG,,UMOL/KG,,UMOL/KG,,UMOL/KG,,UMOL/KG,,PMOL/KG,,PMOL/KG,,PMOL/KG,,UMOL/KG,,UMOL/KG,,UMOL/KG,,UMOL/KG,,TU,,TU,NMOL/KG,,NMOL/KG,PERCNT,,PERCNT,NMOL/KG,,NMOL/KG,/MILLE,,/MILLE,/MILLE,,1/M,,1/M,,1/M,,1/M,,1/NM,,1/NM,
  33RR20070204,  I08S,    66,  3,     36,     38,2,20070307,0838,-39.5058,  95.0015, 3734,      6.3,  13.9443,  34.6958,2,  34.6967,2,    257.7,2,    258.6,2,     0.44,2,     5.00,2,     0.11,2,     0.51,2,    3.028,2,    1.796,2, -999.000,5,   2061.0,6,   2297.2,2,   -999.0,9,  -999.00,9, -999.000,9, -999.000,-999.0000,9,-999.0000,  -999.00,9,  -999.00, -999.000,9, -999.000,   -999.0,9,   -999.0,  -999.00,9,   0.1204,2,   0.0840,2,   0.0377,2,   0.0263,3,   0.0148,4,   0.0184,4
  33RR20070204,  I08S,    66,  3,     35,     35,2,20070307,0838,-39.5058,  95.0015, 3734,     16.0,  13.9480,  34.6959,2,  34.6964,2,    258.5,2,    258.9,2,     0.23,2,     5.04,2,     0.11,2,     0.51,2,    3.023,2,    1.792,2, -999.000,5,   2060.9,2,   2293.5,2,   -999.0,9,  -999.00,9, -999.000,9, -999.000,-999.0000,9,-999.0000,  -999.00,9,  -999.00, -999.000,9, -999.000,   -999.0,9,   -999.0,  -999.00,9,   0.1243,2,   0.0880,2,   0.0404,2,   0.0287,2,   0.0143,3,   0.0175,3
  33RR20070204,  I08S,    66,  3,     34,   9419,2,20070307,0838,-39.5058,  95.0015, 3734,     40.4,  13.9244,  34.6978,2,  34.6975,2,    258.5,2,    258.0,2,     0.22,2,     5.04,2,     0.11,2,     0.51,2, -999.000,9, -999.000,9, -999.000,9,   2060.6,2,   2293.0,2,   -999.0,9,  -999.00,9, -999.000,9, -999.000,-999.0000,9,-999.0000,  -999.00,9,  -999.00, -999.000,9, -999.000,   -999.0,9,   -999.0,  -999.00,9,   0.1287,2,   0.0914,2,   0.0436,2,   0.0319,2,   0.0129,3,   0.0160,3
  33RR20070204,  I08S,    66,  3,     33,     33,2,20070307,0838,-39.5058,  95.0015, 3734,     87.9,  11.0603,  34.7850,2,  34.7846,2,    257.4,2,    257.2,2,     2.57,2,     9.95,2,     0.85,2,     0.84,2,    3.477,2,    2.040,2, -999.000,5,   2103.6,2,   2293.7,2,   -999.0,9,  -999.00,9, -999.000,9, -999.000,-999.0000,9,-999.0000,  -999.00,9,  -999.00, -999.000,9, -999.000,   -999.0,9,   -999.0,  -999.00,9,   0.0876,2,   0.0632,2,   0.0339,2,   0.0258,3,   0.0131,3,   0.0146,3
  33RR20070204,  I08S,    66,  3,     32,     37,2,20070307,0838,-39.5058,  95.0015, 3734,    140.6,  10.7326,  34.7998,2,  34.8007,2,    258.8,2,    259.4,2,     2.95,2,    11.06,2,     0.01,2,     0.85,2, -999.000,9, -999.000,9, -999.000,9,   2105.3,2,   2294.7,2,   -999.0,9,  -999.00,9, -999.000,9, -999.000,-999.0000,9,-999.0000,  -999.00,9,  -999.00, -999.000,9, -999.000,   -999.0,9,   -999.0,  -999.00,9,   0.0737,2,   0.0502,2,   0.0270,2,   0.0216,2,   0.0124,3,   0.0148,3
  33RR20070204,  I08S,    66,  3,     31,     31,2,20070307,0838,-39.5058,  95.0015, 3734,    165.6,  10.7285,  34.8078,2,  34.8088,2,    259.1,2,    259.5,2,     3.14,2,    11.20,2,     0.01,2,     0.86,2,    3.498,2,    2.049,2, -999.000,5,   -999.0,9,   -999.0,9,   -999.0,9,  -999.00,9, -999.000,9, -999.000,-999.0000,9,-999.0000,  -999.00,9,  -999.00, -999.000,9, -999.000,   -999.0,9,   -999.0,  -999.00,9,   0.0727,2,   0.0495,2,   0.0266,2,   0.0212,2,   0.0125,3,   0.0149,3
  33RR20070204,  I08S,    66,  3,     30,     30,2,20070307,0838,-39.5058,  95.0015, 3734,    190.3,  10.6775,  34.8042,2,  34.8060,2,    259.3,2,    260.4,2,     3.13,2,    11.38,2,     0.01,2,     0.87,2, -999.000,9, -999.000,9, -999.000,9,   2106.3,2,   2294.2,2,   -999.0,9,  -999.00,9, -999.000,9, -999.000,-999.0000,9,-999.0000,  -999.00,9,  -999.00, -999.000,9, -999.000,   -999.0,9,   -999.0,  -999.00,9,   0.0733,2,   0.0495,2,   0.0266,2,   0.0211,2,   0.0128,3,   0.0152,3
  33RR20070204,  I08S,    66,  3,     29,     29,2,20070307,0838,-39.5058,  95.0015, 3734,    240.2,  10.5822,  34.7977,2,  34.7996,2,    258.4,2,    258.9,2,     3.31,2,    11.71,2,     0.01,2,     0.89,2,    3.509,2,    2.050,2, -999.000,5,   2108.1,2,   2294.7,2,   -999.0,9,  -999.00,9, -999.000,9, -999.000,-999.0000,9,-999.0000,  -999.00,9,  -999.00, -999.000,9, -999.000,   -999.0,9,   -999.0,  -999.00,9,   0.0728,2,   0.0494,2,   0.0267,2,   0.0210,2,   0.0128,3,   0.0152,4
  33RR20070204,  I08S,    66,  3,     28,     28,2,20070307,0838,-39.5058,  95.0015, 3734,    289.8,  10.3994,  34.7725,2,  34.7722,2,    259.2,2,    258.5,2,     3.50,2,    12.21,2,     0.01,2,     0.92,2, -999.000,9, -999.000,9, -999.000,9,   2108.6,2,   2295.4,2,   -999.0,9,  -999.00,9, -999.000,9, -999.000,-999.0000,9,-999.0000,  -999.00,9,  -999.00, -999.000,9, -999.000,   -999.0,9,   -999.0,  -999.00,9,   0.0780,2,   0.0540,2,   0.0299,2,   0.0238,2,   0.0123,2,   0.0141,3
  33RR20070204,  I08S,    66,  3,     27,     27,2,20070307,0838,-39.5058,  95.0015, 3734,    341.0,  10.3329,  34.7712,2,  34.7726,2,    258.4,2,    258.4,2,     3.49,2,    12.26,2,     0.01,2,     0.92,2,    3.521,2,    2.028,2, -999.000,5,   2109.5,2,   2293.1,2,   -999.0,9,  -999.00,9, -999.000,9, -999.000,-999.0000,9,-999.0000,  -999.00,9,  -999.00, -999.000,9, -999.000,   -999.0,9,   -999.0,  -999.00,9,   0.0718,2,   0.0487,2,   0.0262,2,   0.0207,2,   0.0128,3,   0.0152,4
  33RR20070204,  I08S,    66,  3,     26,     26,2,20070307,0838,-39.5058,  95.0015, 3734,    390.9,  10.3487,  34.7855,2,  34.7856,2,    257.8,2,    257.8,2,     3.48,2,    12.26,2,     0.00,2,     0.92,2, -999.000,9, -999.000,9, -999.000,9,   2108.6,2,   2295.5,2,   -999.0,9,  -999.00,9, -999.000,9, -999.000,-999.0000,9,-999.0000,  -999.00,9,  -999.00, -999.000,9, -999.000,   -999.0,9,   -999.0,  -999.00,9,   0.0824,2,   0.0583,2,   0.0339,2,   0.0274,2,   0.0114,2,   0.0127,3
  33RR20070204,  I08S,    66,  3,     25,     25,2,20070307,0838,-39.5058,  95.0015, 3734,    440.7,  10.3527,  34.8025,2,  34.8047,2,    250.7,2,    250.6,2,     3.86,2,    13.01,2,     0.00,2,     0.96,2,    3.499,2,    1.997,2, -999.000,5,   -999.0,9,   -999.0,9,   -999.0,9,  -999.00,9, -999.000,9, -999.000,-999.0000,9,-999.0000,  -999.00,9,  -999.00, -999.000,9, -999.000,   -999.0,9,   -999.0,  -999.00,9,   0.0784,2,   0.0541,2,   0.0298,2,   0.0236,2,   0.0125,2,   0.0144,3
  33RR20070204,  I08S,    66,  3,     24,     24,2,20070307,0838,-39.5058,  95.0015, 3734,    491.2,  10.1445,  34.7794,2,  34.7805,2,    249.3,2,    249.1,2,     4.25,2,    13.52,2,     0.00,2,     1.00,2,    3.518,2,    1.992,2, -999.000,5,   2115.4,2,   2293.1,2,   -999.0,9,  -999.00,9, -999.000,9, -999.000,-999.0000,9,-999.0000,  -999.00,9,  -999.00, -999.000,9, -999.000,   -999.0,9,   -999.0,  -999.00,9,   0.0779,2,   0.0539,2,   0.0301,2,   0.0236,2,   0.0124,3,   0.0142,4
  33RR20070204,  I08S,    66,  3,     23,     23,2,20070307,0838,-39.5058,  95.0015, 3734,    576.8,   9.8865,  34.7527,2,  34.7545,2,    246.5,2,    246.5,2,     4.44,2,    14.41,2,     0.00,2,     1.05,2, -999.000,9, -999.000,9, -999.000,9,   -999.0,9,   -999.0,9,   -999.0,9,  -999.00,9, -999.000,9, -999.000,-999.0000,9,-999.0000,  -999.00,9,  -999.00, -999.000,9, -999.000,   -999.0,9,   -999.0,  -999.00,9,   0.0844,2,   0.0597,2,   0.0340,2,   0.0263,2,   0.0121,2,   0.0135,2
  33RR20070204,  I08S,    66,  3,     22,     22,2,20070307,0838,-39.5058,  95.0015, 3734,    675.8,   9.1498,  34.6573,2,  34.6590,2,    235.3,2,    233.0,2,     6.20,2,    17.36,2,     0.00,2,     1.23,2,    3.416,2,    1.848,2, -999.000,5,   2129.4,2,   2289.4,2,   -999.0,9,  -999.00,9, -999.000,9, -999.000,-999.0000,9,-999.0000,  -999.00,9,  -999.00, -999.000,9, -999.000,   -999.0,9,   -999.0,  -999.00,9,-999.0000,9,-999.0000,9,-999.0000,9,-999.0000,9,-999.0000,9,-999.0000,9
  33RR20070204,  I08S,    66,  3,     21,     21,2,20070307,0838,-39.5058,  95.0015, 3734,    777.1,   8.2435,  34.5629,2,  34.5647,2,    216.8,2,    216.6,2,     9.93,2,    20.93,2,     0.00,2,     1.46,2, -999.000,9, -999.000,9, -999.000,9,   -999.0,9,   -999.0,9,   -999.0,9,  -999.00,9, -999.000,9, -999.000,-999.0000,9,-999.0000,  -999.00,9,  -999.00, -999.000,9, -999.000,   -999.0,9,   -999.0,  -999.00,9,-999.0000,9,-999.0000,9,-999.0000,9,-999.0000,9,-999.0000,9,-999.0000,9
  33RR20070204,  I08S,    66,  3,     20,     20,2,20070307,0838,-39.5058,  95.0015, 3734,    877.4,   6.8079,  34.4476,2,  34.4485,2,    209.1,2,    209.0,2,    16.05,2,    25.00,2,     0.00,2,     1.73,2,    2.674,2,    1.385,2, -999.000,5,   2162.2,2,   2285.2,2,   -999.0,9,  -999.00,9, -999.000,9, -999.000,-999.0000,9,-999.0000,  -999.00,9,  -999.00, -999.000,9, -999.000,   -999.0,9,   -999.0,  -999.00,9,-999.0000,9,-999.0000,9,-999.0000,9,-999.0000,9,-999.0000,9,-999.0000,9
  33RR20070204,  I08S,    66,  3,     19,     19,2,20070307,0838,-39.5058,  95.0015, 3734,    976.6,   5.5587,  34.3606,2,  34.3617,2,    210.1,2,    212.4,2,    21.38,2,    27.65,2,     0.00,2,     1.91,2, -999.000,9, -999.000,9, -999.000,9,   -999.0,9,   -999.0,9,   -999.0,9,  -999.00,9, -999.000,9, -999.000,-999.0000,9,-999.0000,  -999.00,9,  -999.00, -999.000,9, -999.000,   -999.0,9,   -999.0,  -999.00,9,-999.0000,9,-999.0000,9,-999.0000,9,-999.0000,9,-999.0000,9,-999.0000,9
  33RR20070204,  I08S,    66,  3,     18,     18,2,20070307,0838,-39.5058,  95.0015, 3734,   1077.8,   4.6317,  34.3404,2,  34.3415,2,    208.0,2,    208.0,2,    29.09,2,    29.66,2,     0.00,2,     2.06,2,    2.073,2,    1.043,2, -999.000,5,   2187.1,2,   2293.4,2,   -999.0,9,  -999.00,9, -999.000,9, -999.000,-999.0000,9,-999.0000,  -999.00,9,  -999.00, -999.000,9, -999.000,   -999.0,9,   -999.0,  -999.00,9,-999.0000,9,-999.0000,9,-999.0000,9,-999.0000,9,-999.0000,9,-999.0000,9
  33RR20070204,  I08S,    66,  3,     17,     17,2,20070307,0838,-39.5058,  95.0015, 3734,   1178.8,   3.9880,  34.3520,2,  34.3525,2,    201.6,2,    201.1,2,    37.60,2,    31.37,2,     0.00,2,     2.18,2, -999.000,9, -999.000,9, -999.000,9,   -999.0,9,   -999.0,9,   -999.0,9,  -999.00,9, -999.000,9, -999.000,-999.0000,9,-999.0000,  -999.00,9,  -999.00, -999.000,9, -999.000,   -999.0,9,   -999.0,  -999.00,9,-999.0000,9,-999.0000,9,-999.0000,9,-999.0000,9,-999.0000,9,-999.0000,9
  33RR20070204,  I08S,    66,  3,     16,     16,2,20070307,0838,-39.5058,  95.0015, 3734,   1279.2,   3.5853,  34.3858,2,  34.3857,2,    192.8,2,    191.9,2,    45.94,2,    32.57,2,     0.00,2,     2.27,2, -999.000,9, -999.000,9, -999.000,9,   -999.0,9,   -999.0,9,   -999.0,9,  -999.00,9, -999.000,9, -999.000,-999.0000,9,-999.0000,  -999.00,9,  -999.00, -999.000,9, -999.000,   -999.0,9,   -999.0,  -999.00,9,-999.0000,9,-999.0000,9,-999.0000,9,-999.0000,9,-999.0000,9,-999.0000,9
  33RR20070204,  I08S,    66,  3,     15,     15,2,20070307,0838,-39.5058,  95.0015, 3734,   1379.5,   3.2913,  34.4310,2,  34.4312,2,    183.9,2,    182.5,2,    53.90,2,    33.13,2,     0.00,2,     2.33,2, -999.000,9, -999.000,9, -999.000,9,   -999.0,9,   -999.0,9,   -999.0,9,  -999.00,9, -999.000,9, -999.000,-999.0000,9,-999.0000,  -999.00,9,  -999.00, -999.000,9, -999.000,   -999.0,9,   -999.0,  -999.00,9,-999.0000,9,-999.0000,9,-999.0000,9,-999.0000,9,-999.0000,9,-999.0000,9
  33RR20070204,  I08S,    66,  3,     14,     14,2,20070307,0838,-39.5058,  95.0015, 3734,   1480.1,   3.0406,  34.4811,2,  34.4817,2,    177.7,2,    177.2,2,    60.48,2,    33.60,2,     0.00,2,     2.36,2,    0.628,2,    0.317,2, -999.000,5,   -999.0,9,   -999.0,9,   -999.0,9,  -999.00,9, -999.000,9, -999.000,-999.0000,9,-999.0000,  -999.00,9,  -999.00, -999.000,9, -999.000,   -999.0,9,   -999.0,  -999.00,9,-999.0000,9,-999.0000,9,-999.0000,9,-999.0000,9,-999.0000,9,-999.0000,9
  33RR20070204,  I08S,    66,  3,     13,     13,2,20070307,0838,-39.5058,  95.0015, 3734,   1582.0,   2.8560,  34.5339,2,  34.5339,2,    173.5,2,    173.4,2,    65.86,2,    33.65,2,     0.00,2,     2.35,2, -999.000,9, -999.000,9, -999.000,9,   2241.4,2,   2327.1,2,   -999.0,9,  -999.00,9, -999.000,9, -999.000,-999.0000,9,-999.0000,  -999.00,9,  -999.00, -999.000,9, -999.000,   -999.0,9,   -999.0,  -999.00,9,-999.0000,9,-999.0000,9,-999.0000,9,-999.0000,9,-999.0000,9,-999.0000,9
  33RR20070204,  I08S,    66,  3,     12,     12,2,20070307,0838,-39.5058,  95.0015, 3734,   1682.6,   2.7248,  34.5805,2,  34.5800,2,    172.3,2,    172.3,2,    69.66,2,    33.21,2,     0.00,2,     2.33,2, -999.000,9, -999.000,9, -999.000,9,   2246.1,6,   2332.4,2,   -999.0,9,  -999.00,9, -999.000,9, -999.000,-999.0000,9,-999.0000,  -999.00,9,  -999.00, -999.000,9, -999.000,   -999.0,9,   -999.0,  -999.00,9,-999.0000,9,-999.0000,9,-999.0000,9,-999.0000,9,-999.0000,9,-999.0000,9
  33RR20070204,  I08S,    66,  3,     11,     11,2,20070307,0838,-39.5058,  95.0015, 3734,   1783.9,   2.6286,  34.6209,2,  34.6195,2,    173.0,2,    173.4,2,    72.45,2,    32.95,2,     0.00,2,     2.29,2,    0.249,2,    0.123,2, -999.000,5,   2245.3,2,   2190.7,4,   -999.0,9,  -999.00,9, -999.000,9, -999.000,-999.0000,9,-999.0000,  -999.00,9,  -999.00, -999.000,9, -999.000,   -999.0,9,   -999.0,  -999.00,9,-999.0000,9,-999.0000,9,-999.0000,9,-999.0000,9,-999.0000,9,-999.0000,9
  33RR20070204,  I08S,    66,  3,     10,     10,2,20070307,0838,-39.5058,  95.0015, 3734,   1884.0,   2.5586,  34.6528,2,  34.6521,2,    174.5,2,    175.5,2,    74.05,2,    32.28,2,     0.00,2,     2.25,2, -999.000,9, -999.000,9, -999.000,9,   -999.0,9,   -999.0,9,   -999.0,9,  -999.00,9, -999.000,9, -999.000,-999.0000,9,-999.0000,  -999.00,9,  -999.00, -999.000,9, -999.000,   -999.0,9,   -999.0,  -999.00,9,-999.0000,9,-999.0000,9,-999.0000,9,-999.0000,9,-999.0000,9,-999.0000,9
  33RR20070204,  I08S,    66,  3,      9,      9,2,20070307,0838,-39.5058,  95.0015, 3734,   1985.1,   2.5001,  34.6781,2,  34.6783,2,    176.4,2,    176.7,2,    76.86,2,    31.89,2,     0.00,2,     2.22,2, -999.000,9, -999.000,9, -999.000,9,   -999.0,9,   -999.0,9,   -999.0,9,  -999.00,9, -999.000,9, -999.000,-999.0000,9,-999.0000,  -999.00,9,  -999.00, -999.000,9, -999.000,   -999.0,9,   -999.0,  -999.00,9,-999.0000,9,-999.0000,9,-999.0000,9,-999.0000,9,-999.0000,9,-999.0000,9
  33RR20070204,  I08S,    66,  3,      8,      8,2,20070307,0838,-39.5058,  95.0015, 3734,   2186.7,   2.3585,  34.7175,2,  34.7127,0,    183.3,2,    183.6,2,    79.46,2,    30.97,2,     0.00,2,     2.15,2,    0.090,2,    0.044,2, -999.000,5,   -999.0,9,   -999.0,9,   -999.0,9,  -999.00,9, -999.000,9, -999.000,-999.0000,9,-999.0000,  -999.00,9,  -999.00, -999.000,9, -999.000,   -999.0,9,   -999.0,  -999.00,9,-999.0000,9,-999.0000,9,-999.0000,9,-999.0000,9,-999.0000,9,-999.0000,9
  33RR20070204,  I08S,    66,  3,      7,      7,2,20070307,0838,-39.5058,  95.0015, 3734,   2441.2,   2.1331,  34.7423,2,  34.7427,2,    189.2,2,    189.5,2,    85.27,2,    30.29,2,     0.00,2,     2.12,2, -999.000,9, -999.000,9, -999.000,9,   2246.2,2,   2349.3,2,   -999.0,9,  -999.00,9, -999.000,9, -999.000,-999.0000,9,-999.0000,  -999.00,9,  -999.00, -999.000,9, -999.000,   -999.0,9,   -999.0,  -999.00,9,-999.0000,9,-999.0000,9,-999.0000,9,-999.0000,9,-999.0000,9,-999.0000,9
  33RR20070204,  I08S,    66,  3,      6,      6,2,20070307,0838,-39.5058,  95.0015, 3734,   2693.9,   1.8842,  34.7484,2,  34.7490,2,    195.0,2,    195.5,2,    90.91,2,    30.05,2,     0.00,2,     2.10,2,    0.034,2,    0.016,2, -999.000,5,   2246.6,2,   2352.6,2,   -999.0,9,  -999.00,9, -999.000,9, -999.000,-999.0000,9,-999.0000,  -999.00,9,  -999.00, -999.000,9, -999.000,   -999.0,9,   -999.0,  -999.00,9,-999.0000,9,-999.0000,9,-999.0000,9,-999.0000,9,-999.0000,9,-999.0000,9
  33RR20070204,  I08S,    66,  3,      5,      5,2,20070307,0838,-39.5058,  95.0015, 3734,   2948.4,   1.5988,  34.7421,2,  34.7423,2,    199.1,2,    199.8,2,    99.18,2,    30.43,2,     0.00,2,     2.11,2,    0.043,2,    0.020,2, -999.000,5,   -999.0,9,   -999.0,9,   -999.0,9,  -999.00,9, -999.000,9, -999.000,-999.0000,9,-999.0000,  -999.00,9,  -999.00, -999.000,9, -999.000,   -999.0,9,   -999.0,  -999.00,9,-999.0000,9,-999.0000,9,-999.0000,9,-999.0000,9,-999.0000,9,-999.0000,9
  33RR20070204,  I08S,    66,  3,      4,      4,2,20070307,0838,-39.5058,  95.0015, 3734,   3202.1,   1.3736,  34.7325,2,  34.7327,2,    202.3,2,    202.6,2,   107.06,2,    31.00,2,     0.00,2,     2.14,2,    0.066,2,    0.031,2, -999.000,5,   -999.0,9,   -999.0,9,   -999.0,9,  -999.00,9, -999.000,9, -999.000,-999.0000,9,-999.0000,  -999.00,9,  -999.00, -999.000,9, -999.000,   -999.0,9,   -999.0,  -999.00,9,-999.0000,9,-999.0000,9,-999.0000,9,-999.0000,9,-999.0000,9,-999.0000,9
  33RR20070204,  I08S,    66,  3,      3,      3,2,20070307,0838,-39.5058,  95.0015, 3734,   3455.8,   1.2018,  34.7243,2,  34.7246,2,    204.5,2,    204.6,2,   112.73,2,    31.23,2,     0.00,2,     2.17,2,    0.081,2,    0.039,2, -999.000,5,   -999.0,9,   -999.0,9,   -999.0,9,  -999.00,9, -999.000,9, -999.000,-999.0000,9,-999.0000,  -999.00,9,  -999.00, -999.000,9, -999.000,   -999.0,9,   -999.0,  -999.00,9,-999.0000,9,-999.0000,9,-999.0000,9,-999.0000,9,-999.0000,9,-999.0000,9
  33RR20070204,  I08S,    66,  3,      2,      2,2,20070307,0838,-39.5058,  95.0015, 3734,   3638.7,   1.1153,  34.7194,2,  34.7197,2,    205.6,2,    205.0,2,   115.37,2,    31.46,2,     0.00,2,     2.19,2,    0.081,2,    0.039,2, -999.000,5,   2257.0,2,   2364.2,2,   -999.0,9,  -999.00,9, -999.000,9, -999.000,-999.0000,9,-999.0000,  -999.00,9,  -999.00, -999.000,9, -999.000,   -999.0,9,   -999.0,  -999.00,9,-999.0000,9,-999.0000,9,-999.0000,9,-999.0000,9,-999.0000,9,-999.0000,9
  33RR20070204,  I08S,    66,  3,      1,      1,2,20070307,0838,-39.5058,  95.0015, 3734,   3792.2,   1.0890,  34.7175,2,  34.7186,2,    205.7,2,    205.6,2,   116.80,2,    31.55,2,     0.00,2,     2.19,2,    0.077,2,    0.037,2, -999.000,5,   2260.2,6,   2364.9,2,   -999.0,9,  -999.00,9, -999.000,9, -999.000,-999.0000,9,-999.0000,  -999.00,9,  -999.00, -999.000,9, -999.000,   -999.0,9,   -999.0,  -999.00,9,-999.0000,9,-999.0000,9,-999.0000,9,-999.0000,9,-999.0000,9,-999.0000,9