BOTTLE,20150626SIOCCHRJL
EXPOCODE,SECT_ID,STNNBR,CASTNO,SAMPNO,BTLNBR,BTLNBR_FLAG_W,DATE,TIME,LATITUDE,LONGITUDE,DEPTH,CTDPRS,CTDTMP,CTDSAL,CTDSAL_FLAG_W,SALNTY,SALNTY_FLAG_W,CTDOXY,CTDOXY_FLAG_W,OXYGEN,OXYGEN_FLAG_W,SILCAT,SILCAT_FLAG_W,NITRAT,NITRAT_FLAG_W,NITRIT,NITRIT_FLAG_W,PHSPHT,PHSPHT_FLAG_W,CFC-11,CFC-11_FLAG_W,CFC-12,CFC-12_FLAG_W,CFC113,CFC113_FLAG_W,TCARBN,TCARBN_FLAG_W,ALKALI,ALKALI_FLAG_W,DOC,DOC_FLAG_W,TDN,TDN_FLAG_W,TRITUM,TRITUM_FLAG_W,TRITER,HELIUM,HELIUM_FLAG_W,HELIER,DELHE3,DELHE3_FLAG_W,DELHER,NEON,NEON_FLAG_W,NEONER,DELC14,DELC14_FLAG_W,C14ERR,DELC13,DELC13_FLAG_W,CDOM325,CDOM325_FLAG_W,CDOM340,CDOM340_FLAG_W,CDOM380,CDOM380_FLAG_W,CDOM412,CDOM412_FLAG_W,CDOMSL,CDOMSL_FLAG_W,CDOMSN,CDOMSN_FLAG_W
,,,,,,,,,,,METERS,DBAR,ITS-90,PSS-78,,PSS-78,,UMOL/KG,,UMOL/KG,,UMOL/KG,,UMOL/KG,,UMOL/KG,,UMOL/KG,,PMOL/KG,,PMOL/KG,,PMOL/KG,,UMOL/KG,,UMOL/KG,,UMOL/KG,,UMOL/KG,,TU,,TU,NMOL/KG,,NMOL/KG,PERCNT,,PERCNT,NMOL/KG,,NMOL/KG,/MILLE,,/MILLE,/MILLE,,1/M,,1/M,,1/M,,1/M,,1/NM,,1/NM,
  33RR20070204,  I08S,    36,  2,     36,     36,2,20070226,1131,-53.1125,  87.4878, 4582,      4.3,   1.9274,  33.7128,2,  33.7126,2,    336.4,2,    336.8,2,    21.51,2,    25.74,2,     0.30,2,     1.68,2,    5.942,2,    3.276,2, -999.000,5,   2149.8,6,   2275.4,2,   -999.0,9,  -999.00,9,    0.139,2,    0.006,   1.8357,2,   0.0004,    -1.77,2,     0.17,    8.171,2,    0.012,   -999.0,9,   -999.0,  -999.00,9,-999.0000,9,-999.0000,9,-999.0000,9,-999.0000,9,-999.0000,9,-999.0000,9
  33RR20070204,  I08S,    36,  2,     35,     35,2,20070226,1131,-53.1125,  87.4878, 4582,     21.2,   1.7782,  33.7113,2,  33.7112,2,    334.7,2,    336.1,2,    21.63,2,    25.74,2,     0.29,2,     1.69,2,    5.977,2,    3.303,2, -999.000,5,   2149.9,2,   2276.8,2,   -999.0,9,  -999.00,9,    0.203,2,    0.007,   1.8191,2,   0.0004,    -1.62,2,     0.16,    8.163,2,    0.013,   -999.0,9,   -999.0,  -999.00,9,-999.0000,9,-999.0000,9,-999.0000,9,-999.0000,9,-999.0000,9,-999.0000,9
  33RR20070204,  I08S,    36,  2,     34,   9433,2,20070226,1131,-53.1125,  87.4878, 4582,     45.9,   1.7135,  33.7112,2,  33.7116,2,    337.5,2,    336.1,2,    21.54,2,    25.74,2,     0.29,2,     1.68,2,    5.051,2,    2.734,2, -999.000,5,   2149.1,2,   2275.5,2,   -999.0,9,  -999.00,9,    0.102,2,    0.003,   1.8586,2,   0.0004,    -1.66,2,     0.16,    8.324,2,    0.012,   -999.0,9,   -999.0,  -999.00,9,-999.0000,9,-999.0000,9,-999.0000,9,-999.0000,9,-999.0000,9,-999.0000,9
  33RR20070204,  I08S,    36,  2,     33,     33,2,20070226,1131,-53.1125,  87.4878, 4582,     89.8,   1.5171,  33.7313,2,  33.7322,2,    336.3,2,    336.1,2,    21.65,2,    25.89,2,     0.29,2,     1.72,2,    6.049,2,    3.339,2, -999.000,5,   2152.2,2,   2276.9,2,   -999.0,9,  -999.00,9,    0.209,2,    0.006,   1.8358,2,   0.0004,    -1.52,2,     0.16,    8.286,2,    0.013,   -999.0,9,   -999.0,  -999.00,9,-999.0000,9,-999.0000,9,-999.0000,9,-999.0000,9,-999.0000,9,-999.0000,9
  33RR20070204,  I08S,    36,  2,     32,     32,2,20070226,1131,-53.1125,  87.4878, 4582,    140.3,   0.8024,  33.8735,2,  33.8731,2,    327.2,2,    330.2,2,    26.86,2,    27.64,2,     0.27,2,     1.96,2,    5.967,2,    3.264,2, -999.000,5,   2167.0,2,   2282.6,2,   -999.0,9,  -999.00,9,    0.101,2,    0.004,   1.8354,2,   0.0004,    -1.43,2,     0.16,    8.281,2,    0.015,   -999.0,9,   -999.0,  -999.00,9,-999.0000,9,-999.0000,9,-999.0000,9,-999.0000,9,-999.0000,9,-999.0000,9
  33RR20070204,  I08S,    36,  2,     31,     31,2,20070226,1131,-53.1125,  87.4878, 4582,    164.7,   0.4355,  33.9545,2,  33.9545,2,    317.0,2,    317.0,2,    32.90,2,    29.33,2,     0.22,2,     2.06,2,    5.681,2,    3.087,2, -999.000,5,   2179.0,2,   2285.7,2,   -999.0,9,  -999.00,9,    0.117,2,    0.005,   1.8266,2,   0.0004,    -0.66,2,     0.17,    8.271,2,    0.013,   -999.0,9,   -999.0,  -999.00,9,-999.0000,9,-999.0000,9,-999.0000,9,-999.0000,9,-999.0000,9,-999.0000,9
  33RR20070204,  I08S,    36,  2,     30,     30,2,20070226,1131,-53.1125,  87.4878, 4582,    190.2,   0.6322,  34.0384,2,  34.0305,2,    295.0,2,    294.9,2,    38.32,2,    30.72,2,     0.13,2,     2.14,2,    6.010,2,    3.308,2, -999.000,5,   2189.6,2,   2288.8,2,   -999.0,9,  -999.00,9,    0.085,2,    0.004,   1.8193,2,   0.0004,    -0.03,2,     0.17,    8.096,2,    0.016,   -999.0,9,   -999.0,  -999.00,9,-999.0000,9,-999.0000,9,-999.0000,9,-999.0000,9,-999.0000,9,-999.0000,9
  33RR20070204,  I08S,    36,  2,     29,     29,2,20070226,1131,-53.1125,  87.4878, 4582,    240.1,   1.1756,  34.1932,2,  34.1872,2,    241.5,2,    250.6,2,    49.29,2,    32.90,2,     0.04,2,     2.29,2,    3.801,2,    2.030,2, -999.000,5,   2214.2,2,   2299.6,2,   -999.0,9,  -999.00,9, -999.000,9, -999.000,   1.8937,2,   0.0005,     2.23,2,     0.16,    8.415,2,    0.013,   -999.0,9,   -999.0,  -999.00,9,-999.0000,9,-999.0000,9,-999.0000,9,-999.0000,9,-999.0000,9,-999.0000,9
  33RR20070204,  I08S,    36,  2,     28,     28,2,20070226,1131,-53.1125,  87.4878, 4582,    289.5,   1.7995,  34.3495,2,  34.3488,2,    207.0,2,    206.2,2,    60.49,2,    34.67,2,     0.02,2,     2.40,2,    2.374,2,    1.234,2, -999.000,5,   2236.4,2,   2310.2,2,   -999.0,9,  -999.00,9,    0.046,2,    0.005,   1.8365,2,   0.0006,     4.93,2,     0.18,    8.100,2,    0.010,   -999.0,9,   -999.0,  -999.00,9,-999.0000,9,-999.0000,9,-999.0000,9,-999.0000,9,-999.0000,9,-999.0000,9
  33RR20070204,  I08S,    36,  2,     27,     27,2,20070226,1131,-53.1125,  87.4878, 4582,    339.4,   2.0138,  34.4286,2,  34.4284,2,    189.6,2,    189.0,2,    65.95,2,    35.12,2,     0.02,2,     2.43,2,    1.706,2,    0.894,2, -999.000,5,   2245.4,2,   2314.6,2,   -999.0,9,  -999.00,9,    0.048,2,    0.006,-999.0000,9,-999.0000,  -999.00,9,  -999.00, -999.000,9, -999.000,   -999.0,9,   -999.0,  -999.00,9,-999.0000,9,-999.0000,9,-999.0000,9,-999.0000,9,-999.0000,9,-999.0000,9
  33RR20070204,  I08S,    36,  2,     26,     26,2,20070226,1131,-53.1125,  87.4878, 4582,    390.5,   2.1040,  34.4747,2,  34.4744,2,    180.8,2,    181.3,2,    68.74,2,    34.96,2,     0.02,2,     2.42,2,    1.327,2,    0.695,2, -999.000,5,   -999.0,9,   -999.0,9,   -999.0,9,  -999.00,9,    0.040,2,    0.004,-999.0000,9,-999.0000,  -999.00,9,  -999.00, -999.000,9, -999.000,   -999.0,9,   -999.0,  -999.00,9,-999.0000,9,-999.0000,9,-999.0000,9,-999.0000,9,-999.0000,9,-999.0000,9
  33RR20070204,  I08S,    36,  2,     25,     25,2,20070226,1131,-53.1125,  87.4878, 4582,    440.2,   2.1713,  34.5230,2,  34.5227,2,    176.3,2,    176.2,2,    71.33,2,    34.81,2,     0.01,2,     2.40,2,    0.968,2,    0.506,2, -999.000,5,   2252.8,2,   2322.9,2,   -999.0,9,  -999.00,9,    0.024,2,    0.002,   1.8607,2,   0.0005,     8.09,2,     0.19,    8.086,2,    0.009,   -999.0,9,   -999.0,  -999.00,9,-999.0000,9,-999.0000,9,-999.0000,9,-999.0000,9,-999.0000,9,-999.0000,9
  33RR20070204,  I08S,    36,  2,     24,     24,2,20070226,1131,-53.1125,  87.4878, 4582,    489.9,   2.1572,  34.5462,2,  34.5470,2,    186.1,2,    175.8,2,    72.47,2,    34.52,2,     0.01,2,     2.38,2,    0.849,2,    0.445,2, -999.000,5,   2253.3,6,   2325.4,2,   -999.0,9,  -999.00,9,    0.066,2,    0.006,-999.0000,9,-999.0000,  -999.00,9,  -999.00, -999.000,9, -999.000,   -999.0,9,   -999.0,  -999.00,9,-999.0000,9,-999.0000,9,-999.0000,9,-999.0000,9,-999.0000,9,-999.0000,9
  33RR20070204,  I08S,    36,  2,     23,     23,2,20070226,1131,-53.1125,  87.4878, 4582,    575.7,   1.6360,  34.5523,2,  34.5517,2,    184.4,2,    189.4,2,    76.71,2,    33.79,2,     0.05,2,     2.34,2,    1.288,3,    0.691,3, -999.000,5,   2252.3,2,   2327.4,2,   -999.0,9,  -999.00,9,    0.033,2,    0.004,   1.9256,3,   0.0005,     7.68,2,     0.19,    8.399,2,    0.009,   -999.0,9,   -999.0,  -999.00,9,-999.0000,9,-999.0000,9,-999.0000,9,-999.0000,9,-999.0000,9,-999.0000,9
  33RR20070204,  I08S,    36,  2,     22,     22,2,20070226,1131,-53.1125,  87.4878, 4582,    676.8,   2.2407,  34.6728,2,  34.6728,2,    178.1,2,    180.0,2,    75.79,2,    32.28,2,     0.01,2,     2.22,2,    0.332,2,    0.169,2, -999.000,5,   -999.0,9,   -999.0,9,   -999.0,9,  -999.00,9,    0.073,2,    0.003,-999.0000,9,-999.0000,  -999.00,9,  -999.00, -999.000,9, -999.000,   -999.0,9,   -999.0,  -999.00,9,-999.0000,9,-999.0000,9,-999.0000,9,-999.0000,9,-999.0000,9,-999.0000,9
  33RR20070204,  I08S,    36,  2,     21,     21,2,20070226,1131,-53.1125,  87.4878, 4582,    777.5,   2.2161,  34.6985,2,  34.6993,2,    183.0,2,    183.3,2,    76.32,2,    31.54,2,     0.01,2,     2.16,2,    0.252,2,    0.128,2, -999.000,5,   2247.4,2,   2335.9,2,   -999.0,9,  -999.00,9,    0.045,2,    0.006,-999.0000,9,-999.0000,  -999.00,9,  -999.00, -999.000,9, -999.000,   -999.0,9,   -999.0,  -999.00,9,-999.0000,9,-999.0000,9,-999.0000,9,-999.0000,9,-999.0000,9,-999.0000,9
  33RR20070204,  I08S,    36,  2,     20,     20,2,20070226,1131,-53.1125,  87.4878, 4582,    878.9,   2.0810,  34.7041,2,  34.7044,2,    185.2,2,    183.9,2,    79.12,2,    31.63,2,     0.01,2,     2.18,2,    0.302,2,    0.155,2, -999.000,5,   -999.0,9,   -999.0,9,   -999.0,9,  -999.00,9, -999.000,9, -999.000,   1.8576,2,   0.0005,     9.32,2,     0.19,    8.094,2,    0.009,   -999.0,9,   -999.0,  -999.00,9,-999.0000,9,-999.0000,9,-999.0000,9,-999.0000,9,-999.0000,9,-999.0000,9
  33RR20070204,  I08S,    36,  2,     19,     19,2,20070226,1131,-53.1125,  87.4878, 4582,    979.5,   2.0561,  34.7267,2,  34.7266,2,    188.1,2,    188.1,2,    79.85,2,    30.91,2,     0.01,2,     2.13,2,    0.194,2,    0.091,2, -999.000,5,   2246.1,2,   2338.0,2,   -999.0,9,  -999.00,9,    0.058,2,    0.006,   1.8754,2,   0.0005,     9.36,2,     0.19,    8.149,2,    0.009,   -999.0,9,   -999.0,  -999.00,9,-999.0000,9,-999.0000,9,-999.0000,9,-999.0000,9,-999.0000,9,-999.0000,9
  33RR20070204,  I08S,    36,  2,     18,     18,2,20070226,1131,-53.1125,  87.4878, 4582,   1079.4,   2.0229,  34.7358,2,  34.7359,2,    191.9,2,    190.9,2,    80.59,2,    30.62,2,     0.01,2,     2.10,2, -999.000,9, -999.000,9, -999.000,9,   2244.6,2,   2341.2,2,   -999.0,9,  -999.00,9, -999.000,9, -999.000,-999.0000,9,-999.0000,  -999.00,9,  -999.00, -999.000,9, -999.000,   -999.0,9,   -999.0,  -999.00,9,-999.0000,9,-999.0000,9,-999.0000,9,-999.0000,9,-999.0000,9,-999.0000,9
  33RR20070204,  I08S,    36,  2,     17,     17,2,20070226,1131,-53.1125,  87.4878, 4582,   1178.9,   1.9489,  34.7468,2,  34.7467,2,    193.8,2,    194.6,2,    82.16,2,    30.22,2,     0.01,2,     2.07,2,    0.153,2,    0.075,2, -999.000,5,   2243.6,2,   2341.1,2,   -999.0,9,  -999.00,9,    0.081,2,    0.006,   1.9670,3,   0.0005,     9.04,2,     0.18,    8.499,2,    0.009,   -999.0,9,   -999.0,  -999.00,9,-999.0000,9,-999.0000,9,-999.0000,9,-999.0000,9,-999.0000,9,-999.0000,9
  33RR20070204,  I08S,    36,  2,     16,     16,2,20070226,1131,-53.1125,  87.4878, 4582,   1280.6,   1.8615,  34.7477,2,-999.0000,9,    195.9,2,    195.8,2,    84.76,2,    30.27,2,     0.00,2,     2.07,2, -999.000,9, -999.000,9, -999.000,9,   -999.0,9,   -999.0,9,   -999.0,9,  -999.00,9, -999.000,9, -999.000,-999.0000,9,-999.0000,  -999.00,9,  -999.00, -999.000,9, -999.000,   -999.0,9,   -999.0,  -999.00,9,-999.0000,9,-999.0000,9,-999.0000,9,-999.0000,9,-999.0000,9,-999.0000,9
  33RR20070204,  I08S,    36,  2,     15,     15,2,20070226,1131,-53.1125,  87.4878, 4582,   1381.5,   1.7766,  34.7490,2,  34.7488,2,    197.7,2,    198.2,2,    86.94,2,    30.13,2,     0.00,2,     2.07,2,    0.150,2,    0.072,2, -999.000,5,   -999.0,9,   -999.0,9,   -999.0,9,  -999.00,9,    0.071,2,    0.006,   1.8647,2,   0.0006,     8.37,2,     0.19,    8.005,2,    0.010,   -999.0,9,   -999.0,  -999.00,9,-999.0000,9,-999.0000,9,-999.0000,9,-999.0000,9,-999.0000,9,-999.0000,9
  33RR20070204,  I08S,    36,  2,     14,     14,2,20070226,1131,-53.1125,  87.4878, 4582,   1483.0,   1.6834,  34.7486,2,  34.7488,2,    199.5,2,    199.0,2,    89.54,2,    30.22,2,     0.00,2,     2.07,2,    0.147,2,    0.073,2, -999.000,5,   -999.0,9,   -999.0,9,   -999.0,9,  -999.00,9,    0.034,2,    0.006,   2.0584,4,   0.0006,     7.90,4,     0.18,    8.840,3,    0.010,   -999.0,9,   -999.0,  -999.00,9,-999.0000,9,-999.0000,9,-999.0000,9,-999.0000,9,-999.0000,9,-999.0000,9
  33RR20070204,  I08S,    36,  2,     13,     13,2,20070226,1131,-53.1125,  87.4878, 4582,   1584.0,   1.6411,  34.7472,2,  34.7477,2,    200.4,2,    199.4,2,    90.90,2,    30.26,2,     0.00,2,     2.07,2,    0.150,2,    0.073,2, -999.000,5,   -999.0,9,   -999.0,9,   -999.0,9,  -999.00,9,    0.018,2,    0.005,   1.8662,2,   0.0005,     8.91,2,     0.18,    8.072,2,    0.009,   -999.0,9,   -999.0,  -999.00,9,-999.0000,9,-999.0000,9,-999.0000,9,-999.0000,9,-999.0000,9,-999.0000,9
  33RR20070204,  I08S,    36,  2,     12,     12,2,20070226,1131,-53.1125,  87.4878, 4582,   1787.2,   1.4594,  34.7413,2,  34.7414,2,    201.7,2,    201.8,2,    95.79,2,    30.46,2,     0.00,2,     2.09,2,    0.160,2,    0.078,2, -999.000,5,   -999.0,9,   -999.0,9,   -999.0,9,  -999.00,9, -999.000,9, -999.000,   1.9519,3,   0.0007,     8.17,2,     0.19,    8.343,2,    0.010,   -999.0,9,   -999.0,  -999.00,9,-999.0000,9,-999.0000,9,-999.0000,9,-999.0000,9,-999.0000,9,-999.0000,9
  33RR20070204,  I08S,    36,  2,     11,     11,2,20070226,1131,-53.1125,  87.4878, 4582,   1988.8,   1.2932,  34.7331,2,  34.7331,2,    203.2,2,    203.0,2,   100.06,2,    30.90,2,     0.00,2,     2.12,2,    0.177,2,    0.087,2, -999.000,5,   -999.0,9,   -999.0,9,   -999.0,9,  -999.00,9, -999.000,9, -999.000,   1.8773,2,   0.0005,     9.34,2,     0.18,    8.233,2,    0.009,   -999.0,9,   -999.0,  -999.00,9,-999.0000,9,-999.0000,9,-999.0000,9,-999.0000,9,-999.0000,9,-999.0000,9
  33RR20070204,  I08S,    36,  2,     10,     10,2,20070226,1131,-53.1125,  87.4878, 4582,   2191.4,   1.1010,  34.7243,2,  34.7241,2,    204.7,2,    205.5,2,   106.83,2,    31.18,2,     0.00,2,     2.15,2,    0.171,2,    0.080,2, -999.000,5,   -999.0,9,   -999.0,9,   -999.0,9,  -999.00,9, -999.000,9, -999.000,   1.9215,2,   0.0004,     8.15,2,     0.17,    8.402,2,    0.012,   -999.0,9,   -999.0,  -999.00,9,-999.0000,9,-999.0000,9,-999.0000,9,-999.0000,9,-999.0000,9,-999.0000,9
  33RR20070204,  I08S,    36,  2,      9,      9,2,20070226,1131,-53.1125,  87.4878, 4582,   2445.6,   0.9239,  34.7148,2,  34.7146,2,    207.3,2,    207.6,2,   111.32,2,    31.62,2,     0.00,2,     2.17,2,    0.187,2,    0.089,2, -999.000,5,   -999.0,9,   -999.0,9,   -999.0,9,  -999.00,9, -999.000,9, -999.000,   1.9122,2,   0.0011,     8.61,2,     0.26,    8.310,2,    0.008,   -999.0,9,   -999.0,  -999.00,9,-999.0000,9,-999.0000,9,-999.0000,9,-999.0000,9,-999.0000,9,-999.0000,9
  33RR20070204,  I08S,    36,  2,      8,      8,2,20070226,1131,-53.1125,  87.4878, 4582,   2699.1,   0.7268,  34.7039,2,  34.7038,2,    209.0,2,    210.1,2,   117.07,2,    31.96,2,     0.00,2,     2.20,2, -999.000,9, -999.000,9, -999.000,9,   2251.8,2,   2353.1,2,   -999.0,9,  -999.00,9, -999.000,9, -999.000,-999.0000,9,-999.0000,  -999.00,9,  -999.00, -999.000,9, -999.000,   -999.0,9,   -999.0,  -999.00,9,-999.0000,9,-999.0000,9,-999.0000,9,-999.0000,9,-999.0000,9,-999.0000,9
  33RR20070204,  I08S,    36,  2,      7,      7,2,20070226,1131,-53.1125,  87.4878, 4582,   2952.6,   0.5517,  34.6953,2,  34.6952,2,    212.5,2,    213.7,2,   121.59,2,    32.10,2,     0.00,2,     2.22,2,    0.336,2,    0.164,2, -999.000,5,   -999.0,9,   -999.0,9,   -999.0,9,  -999.00,9,    0.001,2,    0.004,   1.9051,2,   0.0016,     7.71,2,     0.26,    8.304,2,    0.008,   -999.0,9,   -999.0,  -999.00,9,-999.0000,9,-999.0000,9,-999.0000,9,-999.0000,9,-999.0000,9,-999.0000,9
  33RR20070204,  I08S,    36,  2,      6,      6,2,20070226,1131,-53.1125,  87.4878, 4582,   3207.1,   0.3826,  34.6869,2,  34.6873,2,    216.4,2,    217.6,2,   124.42,2,    32.35,2,     0.00,2,     2.23,2,    0.475,2,    0.239,2, -999.000,5,   -999.0,9,   -999.0,9,   -999.0,9,  -999.00,9, -999.000,9, -999.000,-999.0000,9,-999.0000,  -999.00,9,  -999.00, -999.000,9, -999.000,   -999.0,9,   -999.0,  -999.00,9,-999.0000,9,-999.0000,9,-999.0000,9,-999.0000,9,-999.0000,9,-999.0000,9
  33RR20070204,  I08S,    36,  2,      5,      5,2,20070226,1131,-53.1125,  87.4878, 4582,   3461.5,   0.2871,  34.6824,2,  34.6850,0,    219.4,2,    221.5,2,   125.80,2,    32.35,2,     0.00,2,     2.23,2,    0.548,2,    0.269,2, -999.000,5,   2255.6,2,   2349.7,2,   -999.0,9,  -999.00,9, -999.000,9, -999.000,   1.9032,2,   0.0011,     6.92,2,     0.25,    8.322,2,    0.007,   -999.0,9,   -999.0,  -999.00,9,-999.0000,9,-999.0000,9,-999.0000,9,-999.0000,9,-999.0000,9,-999.0000,9
  33RR20070204,  I08S,    36,  2,      4,      4,2,20070226,1131,-53.1125,  87.4878, 4582,   3715.8,   0.2320,  34.6795,2,  34.6790,2,    222.4,2,    223.2,2,   126.55,2,    32.39,2,     0.00,2,     2.23,2,    0.679,2,    0.346,2, -999.000,5,   -999.0,9,   -999.0,9,   -999.0,9,  -999.00,9, -999.000,9, -999.000,   1.8950,2,   0.0010,     7.05,2,     0.25,    8.310,2,    0.008,   -999.0,9,   -999.0,  -999.00,9,-999.0000,9,-999.0000,9,-999.0000,9,-999.0000,9,-999.0000,9,-999.0000,9
  33RR20070204,  I08S,    36,  2,      3,      3,2,20070226,1131,-53.1125,  87.4878, 4582,   3971.2,   0.1740,  34.6764,2,  34.6761,2,    225.3,2,    225.5,2,   127.30,2,    32.35,2,     0.00,2,     2.23,2,    0.812,2,    0.408,2, -999.000,5,   -999.0,9,   -999.0,9,   -999.0,9,  -999.00,9, -999.000,9, -999.000,   1.9008,2,   0.0010,     6.69,2,     0.26,    8.200,2,    0.007,   -999.0,9,   -999.0,  -999.00,9,-999.0000,9,-999.0000,9,-999.0000,9,-999.0000,9,-999.0000,9,-999.0000,9
  33RR20070204,  I08S,    36,  2,      2,      2,2,20070226,1131,-53.1125,  87.4878, 4582,   4358.9,   0.1215,  34.6730,2,  34.6726,2,    228.9,2,    228.2,2,   128.26,2,    32.24,2,     0.00,2,     2.22,2,    0.990,2,    0.499,2, -999.000,5,   2255.5,2,   2348.8,2,   -999.0,9,  -999.00,9,    0.001,2,    0.004,   1.9203,2,   0.0010,     6.54,2,     0.25,    8.402,2,    0.008,   -999.0,9,   -999.0,  -999.00,9,-999.0000,9,-999.0000,9,-999.0000,9,-999.0000,9,-999.0000,9,-999.0000,9
  33RR20070204,  I08S,    36,  2,      1,      1,2,20070226,1131,-53.1125,  87.4878, 4582,   4648.9,   0.1334,  34.6721,2,  34.6716,2,    229.5,2,    228.6,2,   128.80,2,    32.29,2,     0.00,2,     2.23,2,    1.050,2,    0.530,2, -999.000,5,   2257.3,6,   2349.4,2,   -999.0,9,  -999.00,9,    0.007,2,    0.004,   1.9983,3,   0.0011,     5.97,2,     0.24,    8.687,2,    0.008,   -999.0,9,   -999.0,  -999.00,9,-999.0000,9,-999.0000,9,-999.0000,9,-999.0000,9,-999.0000,9,-999.0000,9