BOTTLE,20010816WHPSIOKJU
EXPOCODE,SECT_ID,STNNBR,CASTNO,SAMPNO,BTLNBR,BTLNBR_FLAG_W,DATE,TIME,LATITUDE,LONGITUDE,DEPTH,CTDPRS,CTDTMP,CTDSAL,CTDSAL_FLAG_W,SALNTY,SALNTY_FLAG_W
,,,,,,,,,,,,DBAR,DEG C,PSS-78,,PSS-78,
     06AZ161_2, AR07E,    16,  1,     12,     12,2,19960825,1155, 59.1467, -33.9817,   40,     21.8,   9.9664,  34.6764,1,  34.6861,2
     06AZ161_2, AR07E,    16,  1,     11,     11,2,19960825,1155, 59.1467, -33.9817,   40,    200.4,   5.4770,  34.8065,1,  34.8199,2
     06AZ161_2, AR07E,    16,  1,     10,     10,2,19960825,1155, 59.1467, -33.9817,   40,    399.5,   4.9209,  34.9071,1,  34.9238,3
     06AZ161_2, AR07E,    16,  1,      9,      9,2,19960825,1155, 59.1467, -33.9817,   40,    599.4,   4.2934,  34.9155,1,  34.9283,2
     06AZ161_2, AR07E,    16,  1,      8,      8,2,19960825,1155, 59.1467, -33.9817,   40,    800.0,   3.7341,  34.8841,1,  34.8968,2
     06AZ161_2, AR07E,    16,  1,      7,      7,2,19960825,1155, 59.1467, -33.9817,   40,   1000.6,   3.5896,  34.8965,1,  34.9107,2
     06AZ161_2, AR07E,    16,  1,      5,      5,2,19960825,1155, 59.1467, -33.9817,   40,   1482.1,   3.2900,  34.8895,1,  34.9021,2
     06AZ161_2, AR07E,    16,  1,      4,      4,2,19960825,1155, 59.1467, -33.9817,   40,   1798.9,   3.1594,  34.8840,1,  34.9047,3
     06AZ161_2, AR07E,    16,  1,      3,      3,2,19960825,1155, 59.1467, -33.9817,   40,   2102.0,   3.1374,  34.9032,1,  34.9216,3
     06AZ161_2, AR07E,    16,  1,      2,      2,2,19960825,1155, 59.1467, -33.9817,   40,   2403.8,   3.0489,  34.9152,1,  34.9257,2
     06AZ161_2, AR07E,    16,  1,      1,      1,2,19960825,1155, 59.1467, -33.9817,   40,   2689.0,   2.9161,  34.9128,1,  34.9243,2
     06AZ161_2, AR07E,    17,  1,     12,     12,2,19960825,1542, 59.0717, -33.3883,   20,     25.2,   9.6299,  34.6515,1,  34.6566,3
     06AZ161_2, AR07E,    17,  1,     11,     11,2,19960825,1542, 59.0717, -33.3883,   20,    201.7,   6.1129,  34.8929,1,  34.9032,2
     06AZ161_2, AR07E,    17,  1,     10,     10,2,19960825,1542, 59.0717, -33.3883,   20,    401.7,   5.7481,  34.9165,1,  34.9268,2
     06AZ161_2, AR07E,    17,  1,      9,      9,2,19960825,1542, 59.0717, -33.3883,   20,    598.5,   4.9488,  34.8984,1,  34.9097,2
     06AZ161_2, AR07E,    17,  1,      8,      8,2,19960825,1542, 59.0717, -33.3883,   20,    814.3,   4.0364,  34.8810,1,  34.8924,2
     06AZ161_2, AR07E,    17,  1,      7,      7,2,19960825,1542, 59.0717, -33.3883,   20,    999.3,   3.6489,  34.8804,1,  34.8915,2
     06AZ161_2, AR07E,    17,  1,      6,      6,2,19960825,1542, 59.0717, -33.3883,   20,   1199.6,   3.5173,  34.8951,1,  34.9065,2
     06AZ161_2, AR07E,    17,  1,      5,      5,2,19960825,1542, 59.0717, -33.3883,   20,   1400.3,   3.3638,  34.8886,1,  34.8999,2
     06AZ161_2, AR07E,    17,  1,      4,      4,2,19960825,1542, 59.0717, -33.3883,   20,   1599.5,   3.2250,  34.8756,1,  34.8870,2
     06AZ161_2, AR07E,    17,  1,      3,      3,2,19960825,1542, 59.0717, -33.3883,   20,   1899.4,   3.1023,  34.8690,1,  34.8802,2
     06AZ161_2, AR07E,    17,  1,      2,      2,2,19960825,1542, 59.0717, -33.3883,   20,   2195.1,   3.1212,  34.8959,1,  34.9071,2
     06AZ161_2, AR07E,    17,  1,      1,      1,2,19960825,1542, 59.0717, -33.3883,   20,   2448.9,   3.1072,  34.9071,1,  34.9181,2
     06AZ161_2, AR07E,    18,  1,     11,     11,2,19960825,1953, 59.0117, -32.7550,   28,     99.5,   6.7341,  34.8550,1,  34.8633,2
     06AZ161_2, AR07E,    18,  1,     10,     10,2,19960825,1953, 59.0117, -32.7550,   28,    199.5,   6.2450,  34.8906,1,  34.8996,2
     06AZ161_2, AR07E,    18,  1,      9,      9,2,19960825,1953, 59.0117, -32.7550,   28,    401.7,   5.6621,  34.9103,1,  34.9227,2
     06AZ161_2, AR07E,    18,  1,      8,      8,2,19960825,1953, 59.0117, -32.7550,   28,    604.0,   4.5879,  34.8758,1,  34.8860,2
     06AZ161_2, AR07E,    18,  1,      7,      7,2,19960825,1953, 59.0117, -32.7550,   28,    801.0,   4.2893,  34.9288,1,  34.9394,2
     06AZ161_2, AR07E,    18,  1,      6,      6,2,19960825,1953, 59.0117, -32.7550,   28,   1000.5,   3.6400,  34.8856,1,  34.8965,2
     06AZ161_2, AR07E,    18,  1,      5,      5,2,19960825,1953, 59.0117, -32.7550,   28,   1203.2,   3.5016,  34.8935,1,  34.9035,2
     06AZ161_2, AR07E,    18,  1,      4,      4,2,19960825,1953, 59.0117, -32.7550,   28,   1401.1,   3.3862,  34.8910,1,  34.9011,2
     06AZ161_2, AR07E,    18,  1,      3,      3,2,19960825,1953, 59.0117, -32.7550,   28,   1600.2,   3.2464,  34.8801,1,  34.8903,2
     06AZ161_2, AR07E,    18,  1,      2,      2,2,19960825,1953, 59.0117, -32.7550,   28,   1798.1,   3.1755,  34.8814,1,  34.8916,2
     06AZ161_2, AR07E,    18,  1,      1,      1,2,19960825,1953, 59.0117, -32.7550,   28,   1972.9,   3.1353,  34.8879,1,  34.8981,2
     06AZ161_2, AR07E,    19,  1,     12,     12,2,19960825,2329, 58.9400, -32.1183,   33,     23.8,  10.2746,  34.8782,1,  34.8874,2
     06AZ161_2, AR07E,    19,  1,     11,     11,2,19960825,2329, 58.9400, -32.1183,   33,    100.7,   7.5938,  34.9727,1,  34.9839,2
     06AZ161_2, AR07E,    19,  1,      9,      9,2,19960825,2329, 58.9400, -32.1183,   33,    200.0,   7.2632,  35.0297,1,  35.0427,2
     06AZ161_2, AR07E,    19,  1,      8,      8,2,19960825,2329, 58.9400, -32.1183,   33,    401.6,   6.7003,  35.0369,1,  35.0486,2
     06AZ161_2, AR07E,    19,  1,      7,      7,2,19960825,2329, 58.9400, -32.1183,   33,    601.0,   6.0218,  35.0101,1,  35.0238,2
     06AZ161_2, AR07E,    19,  1,      6,      6,2,19960825,2329, 58.9400, -32.1183,   33,    798.0,   5.0362,  34.9773,1,  34.9881,2
     06AZ161_2, AR07E,    19,  1,      5,      5,2,19960825,2329, 58.9400, -32.1183,   33,   1004.3,   4.0723,  34.9243,1,  34.9357,2
     06AZ161_2, AR07E,    19,  1,      4,      4,2,19960825,2329, 58.9400, -32.1183,   33,   1200.9,   3.8490,  34.9306,1,  34.9416,2
     06AZ161_2, AR07E,    19,  1,      3,      3,2,19960825,2329, 58.9400, -32.1183,   33,   1398.8,   3.7786,  34.9303,1,  34.9408,2
     06AZ161_2, AR07E,    19,  1,      2,      2,2,19960825,2329, 58.9400, -32.1183,   33,   1601.9,   3.5257,  34.9129,1,  34.9237,2
     06AZ161_2, AR07E,    19,  1,      1,      1,2,19960825,2329, 58.9400, -32.1183,   33,   1727.2,   3.4067,  34.9035,1,  34.9144,2
     06AZ161_2, AR07E,    20,  1,      9,      9,2,19960826,0248, 58.8733, -31.4933,   50,     24.2,  10.7971,  34.9925,1,  35.0101,3
     06AZ161_2, AR07E,    20,  1,      8,      8,2,19960826,0248, 58.8733, -31.4933,   50,    100.9,   8.1227,  35.0447,1,  35.0582,2
     06AZ161_2, AR07E,    20,  1,      7,      7,2,19960826,0248, 58.8733, -31.4933,   50,    300.8,   7.1610,  35.0556,1,  35.0700,2
     06AZ161_2, AR07E,    20,  1,      6,      6,2,19960826,0248, 58.8733, -31.4933,   50,    500.6,   6.3609,  35.0103,1,  35.0270,3
     06AZ161_2, AR07E,    20,  1,      5,      5,2,19960826,0248, 58.8733, -31.4933,   50,    700.9,   5.5837,  35.0047,1,  35.0212,3
     06AZ161_2, AR07E,    20,  1,      4,      4,2,19960826,0248, 58.8733, -31.4933,   50,    899.2,   4.6417,  34.9646,1,  34.9766,2
     06AZ161_2, AR07E,    20,  1,      3,      3,2,19960826,0248, 58.8733, -31.4933,   50,   1099.9,   4.0088,  34.9424,1,  34.9545,2
     06AZ161_2, AR07E,    20,  1,      2,      2,2,19960826,0248, 58.8733, -31.4933,   50,   1300.3,   3.9302,  34.9473,1,  34.9591,2
     06AZ161_2, AR07E,    20,  1,      1,      1,2,19960826,0248, 58.8733, -31.4933,   50,   1478.8,   3.9363,  34.9484,1,  34.9604,2
     06AZ161_2, AR07E,    21,  1,      9,      9,2,19960826,0556, 58.7950, -30.8300,   25,     24.7,  11.0705,  35.0429,1,  35.0531,2
     06AZ161_2, AR07E,    21,  1,      8,      8,2,19960826,0556, 58.7950, -30.8300,   25,    100.4,   8.4328,  35.0851,1,  35.0947,2
     06AZ161_2, AR07E,    21,  1,      7,      7,2,19960826,0556, 58.7950, -30.8300,   25,    202.0,   7.6083,  35.0457,1,  35.0563,2
     06AZ161_2, AR07E,    21,  1,      6,      6,2,19960826,0556, 58.7950, -30.8300,   25,    399.8,   7.0917,  35.0777,1,  35.0892,2
     06AZ161_2, AR07E,    21,  1,      5,      5,2,19960826,0556, 58.7950, -30.8300,   25,    602.7,   6.5227,  35.0601,1,  35.0719,2
     06AZ161_2, AR07E,    21,  1,      2,      2,2,19960826,0556, 58.7950, -30.8300,   25,   1101.7,   4.3015,  34.9594,1,  34.9701,2
     06AZ161_2, AR07E,    21,  1,      1,      1,2,19960826,0556, 58.7950, -30.8300,   25,   1248.4,   3.9741,  34.9527,1,  34.9642,2
     06AZ161_2, AR07E,    22,  1,     11,     11,2,19960826,0933, 58.5033, -30.3867,   25,     25.0,  10.9590,  35.0474,1,  35.0595,2
     06AZ161_2, AR07E,    22,  1,     10,     10,2,19960826,0933, 58.5033, -30.3867,   25,    199.1,   7.6155,  35.0398,1,  35.0514,2
     06AZ161_2, AR07E,    22,  1,      9,      9,2,19960826,0933, 58.5033, -30.3867,   25,    400.2,   7.1873,  35.0893,1,  35.1011,2
     06AZ161_2, AR07E,    22,  1,      8,      8,2,19960826,0933, 58.5033, -30.3867,   25,    601.8,   6.5829,  35.0636,1,  35.0764,2
     06AZ161_2, AR07E,    22,  1,      7,      7,2,19960826,0933, 58.5033, -30.3867,   25,    799.5,   5.6054,  35.0166,1,  35.0293,2
     06AZ161_2, AR07E,    22,  1,      6,      6,2,19960826,0933, 58.5033, -30.3867,   25,   1000.1,   4.6022,  34.9698,1,  34.9818,2
     06AZ161_2, AR07E,    22,  1,      5,      5,2,19960826,0933, 58.5033, -30.3867,   25,   1200.7,   3.9538,  34.9344,1,  34.9461,2
     06AZ161_2, AR07E,    22,  1,      4,      4,2,19960826,0933, 58.5033, -30.3867,   25,   1399.4,   3.7236,  34.9470,1,  34.9590,2
     06AZ161_2, AR07E,    22,  1,      3,      3,2,19960826,0933, 58.5033, -30.3867,   25,   1599.8,   3.6753,  34.9485,1,  34.9603,2
     06AZ161_2, AR07E,    22,  1,      2,      2,2,19960826,0933, 58.5033, -30.3867,   25,   1799.4,   3.5590,  34.9526,1,  34.9641,2
     06AZ161_2, AR07E,    22,  1,      1,      1,2,19960826,0933, 58.5033, -30.3867,   25,   1972.5,   3.5056,  34.9562,1,  34.9673,2
     06AZ161_2, AR07E,    23,  1,     12,     12,2,19960826,1250, 58.3200, -29.9333,   30,    100.1,   8.9622,  35.0956,1,  35.1094,2
     06AZ161_2, AR07E,    23,  1,     11,     11,2,19960826,1250, 58.3200, -29.9333,   30,    200.5,   7.7009,  34.9905,1,  35.0061,3
     06AZ161_2, AR07E,    23,  1,     10,     10,2,19960826,1250, 58.3200, -29.9333,   30,    400.6,   6.8054,  34.9943,1,  35.0074,2
     06AZ161_2, AR07E,    23,  1,      9,      9,2,19960826,1250, 58.3200, -29.9333,   30,    601.0,   6.1125,  35.0056,1,  35.0191,2
     06AZ161_2, AR07E,    23,  1,      8,      8,2,19960826,1250, 58.3200, -29.9333,   30,    796.5,   5.1074,  34.9646,1,  34.9759,2
     06AZ161_2, AR07E,    23,  1,      7,      7,2,19960826,1250, 58.3200, -29.9333,   30,   1001.3,   4.3414,  34.9342,1,  34.9479,2
     06AZ161_2, AR07E,    23,  1,      6,      6,2,19960826,1250, 58.3200, -29.9333,   30,   1199.6,   3.8998,  34.9107,1,  34.9232,2
     06AZ161_2, AR07E,    23,  1,      5,      5,2,19960826,1250, 58.3200, -29.9333,   30,   1400.4,   3.5996,  34.8971,1,  34.9099,2
     06AZ161_2, AR07E,    23,  1,      4,      4,2,19960826,1250, 58.3200, -29.9333,   30,   1599.6,   3.4673,  34.9165,1,  34.9298,2
     06AZ161_2, AR07E,    23,  1,      2,      2,2,19960826,1250, 58.3200, -29.9333,   30,   2001.4,   2.9786,  34.9585,1,  34.9704,2
     06AZ161_2, AR07E,    23,  1,      1,      1,2,19960826,1250, 58.3200, -29.9333,   30,   2336.0,   2.8861,  34.9580,1,  34.9700,2
     06AZ161_2, AR07E,    24,  1,     12,     12,2,19960826,1625, 58.0867, -29.4950,   26,     26.0,  11.2779,  35.0611,1,  35.0726,2
     06AZ161_2, AR07E,    24,  1,     11,     11,2,19960826,1625, 58.0867, -29.4950,   26,    200.5,   8.0034,  35.0261,1,  35.0394,2
     06AZ161_2, AR07E,    24,  1,      9,      9,2,19960826,1625, 58.0867, -29.4950,   26,    599.4,   6.1295,  34.9944,1,  35.0080,2
     06AZ161_2, AR07E,    24,  1,      8,      8,2,19960826,1625, 58.0867, -29.4950,   26,    801.6,   5.0201,  34.9422,1,-999.0000,9
     06AZ161_2, AR07E,    24,  1,      7,      7,2,19960826,1625, 58.0867, -29.4950,   26,    999.2,   4.4102,  34.9371,1,  34.9496,2
     06AZ161_2, AR07E,    24,  1,      6,      6,2,19960826,1625, 58.0867, -29.4950,   26,   1198.9,   3.8462,  34.9017,1,  34.9142,2
     06AZ161_2, AR07E,    24,  1,      5,      5,2,19960826,1625, 58.0867, -29.4950,   26,   1399.0,   3.5617,  34.8885,1,-999.0000,9
     06AZ161_2, AR07E,    24,  1,      4,      4,2,19960826,1625, 58.0867, -29.4950,   26,   1599.5,   3.4610,  34.9004,1,  34.9141,2
     06AZ161_2, AR07E,    24,  1,      2,      2,2,19960826,1625, 58.0867, -29.4950,   26,   2000.0,   3.1571,  34.9520,1,  34.9641,2
     06AZ161_2, AR07E,    24,  1,      1,      1,2,19960826,1625, 58.0867, -29.4950,   26,   2235.8,   2.7926,  34.9571,1,  34.9688,2
     06AZ161_2, AR07E,    25,  1,     12,     12,2,19960826,2001, 57.8450, -29.0650,   25,     24.3,  11.7238,  35.1192,1,  35.1279,2
     06AZ161_2, AR07E,    25,  1,     11,     11,2,19960826,2001, 57.8450, -29.0650,   25,    200.1,   8.2434,  35.0747,1,  35.0847,2
     06AZ161_2, AR07E,    25,  1,     10,     10,2,19960826,2001, 57.8450, -29.0650,   25,    399.4,   6.8155,  34.9973,1,  35.0083,2
     06AZ161_2, AR07E,    25,  1,      9,      9,2,19960826,2001, 57.8450, -29.0650,   25,    599.9,   5.9975,  34.9894,1,  34.9993,2
     06AZ161_2, AR07E,    25,  1,      8,      8,2,19960826,2001, 57.8450, -29.0650,   25,    797.6,   5.1945,  34.9950,1,  35.0058,2
     06AZ161_2, AR07E,    25,  1,      7,      7,2,19960826,2001, 57.8450, -29.0650,   25,   1000.7,   4.2650,  34.9261,1,  34.9367,2
     06AZ161_2, AR07E,    25,  1,      6,      6,2,19960826,2001, 57.8450, -29.0650,   25,   1199.9,   3.8938,  34.9113,1,  34.9217,2
     06AZ161_2, AR07E,    25,  1,      5,      5,2,19960826,2001, 57.8450, -29.0650,   25,   1396.7,   3.6551,  34.9068,1,  34.9177,2
     06AZ161_2, AR07E,    25,  1,      4,      4,2,19960826,2001, 57.8450, -29.0650,   25,   1599.5,   3.4850,  34.9184,1,  34.9290,2
     06AZ161_2, AR07E,    25,  1,      2,      2,2,19960826,2001, 57.8450, -29.0650,   25,   1996.9,   3.0244,  34.9552,1,-999.0000,9
     06AZ161_2, AR07E,    25,  1,      1,      1,2,19960826,2001, 57.8450, -29.0650,   25,   2344.1,   2.6850,  34.9548,1,  34.9650,2
     06AZ161_2, AR07E,    26,  1,     12,     12,2,19960826,2351, 57.6100, -28.6183,   28,     26.2,  11.6924,  35.0128,1,  35.0240,2
     06AZ161_2, AR07E,    26,  1,     11,     11,2,19960826,2351, 57.6100, -28.6183,   28,    200.4,   7.9057,  34.9846,1,  34.9935,2
     06AZ161_2, AR07E,    26,  1,     10,     10,2,19960826,2351, 57.6100, -28.6183,   28,    400.4,   6.1928,  34.9152,1,  34.9231,2
     06AZ161_2, AR07E,    26,  1,      9,      9,2,19960826,2351, 57.6100, -28.6183,   28,    600.1,   5.3377,  34.9541,1,  34.9639,2
     06AZ161_2, AR07E,    26,  1,      8,      8,2,19960826,2351, 57.6100, -28.6183,   28,    805.3,   4.5739,  34.9476,1,  34.9570,2
     06AZ161_2, AR07E,    26,  1,      7,      7,2,19960826,2351, 57.6100, -28.6183,   28,    998.4,   3.9923,  34.9111,1,  34.9210,2
     06AZ161_2, AR07E,    26,  1,      6,      6,2,19960826,2351, 57.6100, -28.6183,   28,   1201.7,   3.6641,  34.8936,1,  34.9038,2
     06AZ161_2, AR07E,    26,  1,      5,      5,2,19960826,2351, 57.6100, -28.6183,   28,   1415.2,   3.4460,  34.8841,1,  34.8946,2
     06AZ161_2, AR07E,    26,  1,      4,      4,2,19960826,2351, 57.6100, -28.6183,   28,   1599.4,   3.3955,  34.8984,1,  34.9077,2
     06AZ161_2, AR07E,    26,  1,      3,      3,2,19960826,2351, 57.6100, -28.6183,   28,   1798.6,   3.3501,  34.9317,1,  34.9415,2
     06AZ161_2, AR07E,    26,  1,      2,      2,2,19960826,2351, 57.6100, -28.6183,   28,   2098.5,   3.0343,  34.9505,1,  34.9589,2
     06AZ161_2, AR07E,    26,  1,      1,      1,2,19960826,2351, 57.6100, -28.6183,   28,   2407.2,   2.6832,  34.9543,1,  34.9631,2
     06AZ161_2, AR07E,    27,  1,     11,     11,2,19960827,0335, 57.3700, -28.1483,   30,    301.3,   7.1376,  34.9403,1,  34.9489,2
     06AZ161_2, AR07E,    27,  1,     10,     10,2,19960827,0335, 57.3700, -28.1483,   30,    500.3,   5.6651,  34.9166,1,  34.9268,2
     06AZ161_2, AR07E,    27,  1,      9,      9,2,19960827,0335, 57.3700, -28.1483,   30,    697.6,   4.8229,  34.9392,1,  34.9490,2
     06AZ161_2, AR07E,    27,  1,      8,      8,2,19960827,0335, 57.3700, -28.1483,   30,    901.8,   4.1912,  34.9241,1,  34.9339,2
     06AZ161_2, AR07E,    27,  1,      7,      7,2,19960827,0335, 57.3700, -28.1483,   30,   1099.5,   3.7816,  34.8991,1,  34.9085,2
     06AZ161_2, AR07E,    27,  1,      6,      6,2,19960827,0335, 57.3700, -28.1483,   30,   1299.7,   3.5207,  34.8825,1,  34.8929,2
     06AZ161_2, AR07E,    27,  1,      5,      5,2,19960827,0335, 57.3700, -28.1483,   30,   1501.8,   3.3654,  34.8786,1,  34.8879,2
     06AZ161_2, AR07E,    27,  1,      4,      4,2,19960827,0335, 57.3700, -28.1483,   30,   1800.5,   3.3065,  34.8995,1,  34.9085,2
     06AZ161_2, AR07E,    27,  1,      3,      3,2,19960827,0335, 57.3700, -28.1483,   30,   2099.8,   3.2384,  34.9431,1,  34.9516,2
     06AZ161_2, AR07E,    27,  1,      2,      2,2,19960827,0335, 57.3700, -28.1483,   30,   2397.5,   2.8357,  34.9518,1,  34.9601,2
     06AZ161_2, AR07E,    27,  1,      1,      1,2,19960827,0335, 57.3700, -28.1483,   30,   2638.5,   2.6717,  34.9540,1,  34.9624,2
     06AZ161_2, AR07E,    28,  1,     12,     12,2,19960827,0811, 56.9100, -27.8167,   30,     24.6,  12.8039,  35.2131,1,  35.2245,2
     06AZ161_2, AR07E,    28,  1,     11,     11,2,19960827,0811, 56.9100, -27.8167,   30,    200.9,   8.6672,  35.0809,1,  35.0926,2
     06AZ161_2, AR07E,    28,  1,     10,     10,2,19960827,0811, 56.9100, -27.8167,   30,    398.9,   6.3334,  34.8809,1,  34.8925,2
     06AZ161_2, AR07E,    28,  1,      9,      9,2,19960827,0811, 56.9100, -27.8167,   30,    600.0,   5.3922,  34.9505,1,  34.9608,2
     06AZ161_2, AR07E,    28,  1,      8,      8,2,19960827,0811, 56.9100, -27.8167,   30,    905.5,   4.2290,  34.9226,1,  34.9335,2
     06AZ161_2, AR07E,    28,  1,      7,      7,2,19960827,0811, 56.9100, -27.8167,   30,   1199.3,   3.6752,  34.8920,1,  34.9030,2
     06AZ161_2, AR07E,    28,  1,      6,      6,2,19960827,0811, 56.9100, -27.8167,   30,   1499.9,   3.3895,  34.8779,1,  34.8883,2
     06AZ161_2, AR07E,    28,  1,      5,      5,2,19960827,0811, 56.9100, -27.8167,   30,   1798.0,   3.2937,  34.8893,1,-999.0000,9
     06AZ161_2, AR07E,    28,  1,      4,      4,2,19960827,0811, 56.9100, -27.8167,   30,   2099.7,   3.3189,  34.9292,1,  34.9390,2
     06AZ161_2, AR07E,    28,  1,      3,      3,2,19960827,0811, 56.9100, -27.8167,   30,   2399.9,   3.0872,  34.9476,1,  34.9564,2
     06AZ161_2, AR07E,    28,  1,      2,      2,2,19960827,0811, 56.9100, -27.8167,   30,   2698.9,   2.8292,  34.9488,1,  34.9580,2
     06AZ161_2, AR07E,    28,  1,      1,      1,2,19960827,0811, 56.9100, -27.8167,   30,   2906.7,   2.7275,  34.9512,1,  34.9610,2