BOTTLE,20010816WHPSIOKJU
EXPOCODE,SECT_ID,STNNBR,CASTNO,SAMPNO,BTLNBR,BTLNBR_FLAG_W,DATE,TIME,LATITUDE,LONGITUDE,DEPTH,CTDPRS,CTDTMP,CTDSAL,CTDSAL_FLAG_W,SALNTY,SALNTY_FLAG_W
,,,,,,,,,,,,DBAR,DEG C,PSS-78,,PSS-78,
     06AZ161_2, AR07E,    41,  1,     12,     12,2,19960829,2215, 52.8650, -22.3617,   25,     24.5,  14.0406,  35.3900,1,  35.4036,2
     06AZ161_2, AR07E,    41,  1,     11,     11,2,19960829,2215, 52.8650, -22.3617,   25,    200.2,  10.1656,  35.3673,1,  35.3797,2
     06AZ161_2, AR07E,    41,  1,     10,     10,2,19960829,2215, 52.8650, -22.3617,   25,    501.2,   9.7136,  35.3045,1,  35.3156,2
     06AZ161_2, AR07E,    41,  1,      9,      9,2,19960829,2215, 52.8650, -22.3617,   25,    800.8,   7.2814,  35.0707,1,  35.0831,2
     06AZ161_2, AR07E,    41,  1,      8,      8,2,19960829,2215, 52.8650, -22.3617,   25,   1099.0,   5.0365,  34.9903,1,  35.0023,2
     06AZ161_2, AR07E,    41,  1,      7,      7,2,19960829,2215, 52.8650, -22.3617,   25,   1398.8,   3.9928,  34.9156,1,  34.9267,2
     06AZ161_2, AR07E,    41,  1,      6,      6,2,19960829,2215, 52.8650, -22.3617,   25,   1700.3,   3.5320,  34.8818,1,  34.8933,2
     06AZ161_2, AR07E,    41,  1,      5,      5,2,19960829,2215, 52.8650, -22.3617,   25,   2002.3,   3.3302,  34.8753,1,  34.8864,2
     06AZ161_2, AR07E,    41,  1,      4,      4,2,19960829,2215, 52.8650, -22.3617,   25,   2499.7,   3.2716,  34.9247,1,  34.9355,2
     06AZ161_2, AR07E,    41,  1,      3,      3,2,19960829,2215, 52.8650, -22.3617,   25,   2999.6,   2.9726,  34.9414,1,  34.9513,2
     06AZ161_2, AR07E,    41,  1,      2,      2,2,19960829,2215, 52.8650, -22.3617,   25,   3505.9,   2.6913,  34.9218,1,  34.9314,2
     06AZ161_2, AR07E,    41,  1,      1,      1,2,19960829,2215, 52.8650, -22.3617,   25,   4058.3,   2.5092,  34.8979,1,  34.9073,2
     06AZ161_2, AR07E,    42,  1,     12,     12,2,19960830,0340, 52.6717, -21.6117,   22,     24.5,  13.6541,  35.3199,1,  35.3318,2
     06AZ161_2, AR07E,    42,  1,     11,     11,2,19960830,0340, 52.6717, -21.6117,   22,    200.9,  10.1317,  35.3158,1,  35.3318,3
     06AZ161_2, AR07E,    42,  1,     10,     10,2,19960830,0340, 52.6717, -21.6117,   22,    401.9,   9.6205,  35.2807,1,  35.2931,2
     06AZ161_2, AR07E,    42,  1,      9,      9,2,19960830,0340, 52.6717, -21.6117,   22,    700.0,   6.9890,  35.0513,1,  35.0645,2
     06AZ161_2, AR07E,    42,  1,      8,      8,2,19960830,0340, 52.6717, -21.6117,   22,   1003.6,   5.0462,  34.9823,1,  34.9946,2
     06AZ161_2, AR07E,    42,  1,      7,      7,2,19960830,0340, 52.6717, -21.6117,   22,   1399.6,   3.8430,  34.9035,1,  34.9152,2
     06AZ161_2, AR07E,    42,  1,      6,      6,2,19960830,0340, 52.6717, -21.6117,   22,   1799.9,   3.4259,  34.8772,1,  34.8889,2
     06AZ161_2, AR07E,    42,  1,      5,      5,2,19960830,0340, 52.6717, -21.6117,   22,   2198.1,   3.3214,  34.8972,1,  34.9086,2
     06AZ161_2, AR07E,    42,  1,      4,      4,2,19960830,0340, 52.6717, -21.6117,   22,   2598.8,   3.1902,  34.9331,1,  34.9440,2
     06AZ161_2, AR07E,    42,  1,      3,      3,2,19960830,0340, 52.6717, -21.6117,   22,   2998.2,   2.8880,  34.9385,1,  34.9489,2
     06AZ161_2, AR07E,    42,  1,      2,      2,2,19960830,0340, 52.6717, -21.6117,   22,   3399.9,   2.6893,  34.9224,1,  34.9325,2
     06AZ161_2, AR07E,    42,  1,      1,      1,2,19960830,0340, 52.6717, -21.6117,   22,   4024.4,   2.5146,  34.8987,1,  34.9081,2
     06AZ161_2, AR07E,    43,  1,     12,     12,2,19960830,0907, 52.4700, -20.8533,   25,     24.1,  14.0292,  35.3375,1,  35.3483,2
     06AZ161_2, AR07E,    43,  1,     11,     11,2,19960830,0907, 52.4700, -20.8533,   25,    299.9,   9.8005,  35.3051,1,  35.3160,2
     06AZ161_2, AR07E,    43,  1,     10,     10,2,19960830,0907, 52.4700, -20.8533,   25,    599.1,   7.3858,  35.0375,1,  35.0500,2
     06AZ161_2, AR07E,    43,  1,      9,      9,2,19960830,0907, 52.4700, -20.8533,   25,    900.5,   5.6662,  35.0499,1,  35.0603,2
     06AZ161_2, AR07E,    43,  1,      8,      8,2,19960830,0907, 52.4700, -20.8533,   25,   1198.6,   4.3265,  34.9481,1,  34.9595,2
     06AZ161_2, AR07E,    43,  1,      7,      7,2,19960830,0907, 52.4700, -20.8533,   25,   1497.0,   3.6930,  34.8976,1,  34.9098,2
     06AZ161_2, AR07E,    43,  1,      6,      6,2,19960830,0907, 52.4700, -20.8533,   25,   1798.8,   3.4307,  34.8876,1,  34.8991,2
     06AZ161_2, AR07E,    43,  1,      5,      5,2,19960830,0907, 52.4700, -20.8533,   25,   2099.3,   3.3134,  34.9065,1,  34.9174,2
     06AZ161_2, AR07E,    43,  1,      4,      4,2,19960830,0907, 52.4700, -20.8533,   25,   2499.3,   3.0705,  34.9363,1,  34.9463,2
     06AZ161_2, AR07E,    43,  1,      2,      2,2,19960830,0907, 52.4700, -20.8533,   25,   3301.2,   2.5080,  34.9058,1,  34.9149,2
     06AZ161_2, AR07E,    43,  1,      1,      1,2,19960830,0907, 52.4700, -20.8533,   25,   3763.2,   2.4838,  34.8987,1,  34.9077,2
     06AZ161_2, AR07E,    44,  1,     12,     12,2,19960830,1308, 52.3633, -20.4583,   25,     24.5,  13.9859,  35.3428,1,  35.3551,2
     06AZ161_2, AR07E,    44,  1,     11,     11,2,19960830,1308, 52.3633, -20.4583,   25,    300.3,   9.9129,  35.3224,1,  35.3330,2
     06AZ161_2, AR07E,    44,  1,     10,     10,2,19960830,1308, 52.3633, -20.4583,   25,    600.1,   8.0752,  35.1446,1,  35.1559,2
     06AZ161_2, AR07E,    44,  1,      9,      9,2,19960830,1308, 52.3633, -20.4583,   25,    900.4,   5.6315,  35.0428,1,  35.0543,2
     06AZ161_2, AR07E,    44,  1,      8,      8,2,19960830,1308, 52.3633, -20.4583,   25,   1201.4,   4.3490,  34.9523,1,  34.9635,2
     06AZ161_2, AR07E,    44,  1,      7,      7,2,19960830,1308, 52.3633, -20.4583,   25,   1499.5,   3.6862,  34.8962,1,  34.9080,2
     06AZ161_2, AR07E,    44,  1,      6,      6,2,19960830,1308, 52.3633, -20.4583,   25,   1800.4,   3.4023,  34.8873,1,  34.8980,2
     06AZ161_2, AR07E,    44,  1,      5,      5,2,19960830,1308, 52.3633, -20.4583,   25,   2200.8,   3.2789,  34.9243,1,  34.9346,2
     06AZ161_2, AR07E,    44,  1,      4,      4,2,19960830,1308, 52.3633, -20.4583,   25,   2498.6,   3.0608,  34.9386,1,  34.9505,2
     06AZ161_2, AR07E,    44,  1,      3,      3,2,19960830,1308, 52.3633, -20.4583,   25,   2806.5,   2.8539,  34.9378,1,  34.9484,2
     06AZ161_2, AR07E,    44,  1,      2,      2,2,19960830,1308, 52.3633, -20.4583,   25,   3199.6,   2.6232,  34.9175,1,  34.9279,2
     06AZ161_2, AR07E,    44,  1,      1,      1,2,19960830,1308, 52.3633, -20.4583,   25,   3614.2,   2.4885,  34.9006,1,  34.9108,2
     06AZ161_2, AR07E,    45,  1,     12,     12,2,19960830,1706, 52.3467, -19.9833,   24,     26.4,  14.8172,  35.4913,1,  35.5004,2
     06AZ161_2, AR07E,    45,  1,     11,     11,2,19960830,1706, 52.3467, -19.9833,   24,    305.1,  10.0040,  35.3302,1,  35.3421,2
     06AZ161_2, AR07E,    45,  1,     10,     10,2,19960830,1706, 52.3467, -19.9833,   24,    602.2,   7.9697,  35.0899,1,  35.1002,2
     06AZ161_2, AR07E,    45,  1,      9,      9,2,19960830,1706, 52.3467, -19.9833,   24,    901.1,   6.2016,  35.1258,1,  35.1308,3
     06AZ161_2, AR07E,    45,  1,      8,      8,2,19960830,1706, 52.3467, -19.9833,   24,   1211.9,   4.4056,  34.9573,1,  34.9683,2
     06AZ161_2, AR07E,    45,  1,      7,      7,2,19960830,1706, 52.3467, -19.9833,   24,   1503.7,   3.6947,  34.8949,1,  34.9051,2
     06AZ161_2, AR07E,    45,  1,      6,      6,2,19960830,1706, 52.3467, -19.9833,   24,   1803.1,   3.4360,  34.8871,1,  34.8973,2
     06AZ161_2, AR07E,    45,  1,      5,      5,2,19960830,1706, 52.3467, -19.9833,   24,   2110.6,   3.3344,  34.9085,1,  34.9188,2
     06AZ161_2, AR07E,    45,  1,      4,      4,2,19960830,1706, 52.3467, -19.9833,   24,   2395.9,   3.2220,  34.9334,1,  34.9429,2
     06AZ161_2, AR07E,    45,  1,      3,      3,2,19960830,1706, 52.3467, -19.9833,   24,   2699.4,   2.9997,  34.9374,1,  34.9467,2
     06AZ161_2, AR07E,    45,  1,      2,      2,2,19960830,1706, 52.3467, -19.9833,   24,   2988.5,   2.8159,  34.9322,1,  34.9410,2
     06AZ161_2, AR07E,    45,  1,      1,      1,2,19960830,1706, 52.3467, -19.9833,   24,   3173.2,   2.4807,  34.9042,1,  34.9131,2
     06AZ161_2, AR07E,    46,  1,     11,     11,2,19960830,2121, 52.3383, -19.3950,   30,    301.2,  10.7410,  35.4320,1,  35.4429,2
     06AZ161_2, AR07E,    46,  1,     10,     10,2,19960830,2121, 52.3383, -19.3950,   30,    599.5,   9.6810,  35.3320,1,  35.3420,2
     06AZ161_2, AR07E,    46,  1,      8,      8,2,19960830,2121, 52.3383, -19.3950,   30,   1200.3,   5.2260,  35.0500,1,  35.0604,2
     06AZ161_2, AR07E,    46,  1,      7,      7,2,19960830,2121, 52.3383, -19.3950,   30,   1505.8,   3.9470,  34.9180,1,  34.9276,2
     06AZ161_2, AR07E,    46,  1,      6,      6,2,19960830,2121, 52.3383, -19.3950,   30,   1791.2,   3.5280,  34.8860,1,  34.8961,2
     06AZ161_2, AR07E,    46,  1,      5,      5,2,19960830,2121, 52.3383, -19.3950,   30,   2118.1,   3.3560,  34.8430,1,-999.0000,9
     06AZ161_2, AR07E,    46,  1,      4,      4,2,19960830,2121, 52.3383, -19.3950,   30,   2397.7,   3.2849,  34.9244,1,  34.9340,2
     06AZ161_2, AR07E,    46,  1,      3,      3,2,19960830,2121, 52.3383, -19.3950,   30,   2799.2,   2.9974,  34.9394,1,  34.9486,2
     06AZ161_2, AR07E,    46,  1,      2,      2,2,19960830,2121, 52.3383, -19.3950,   30,   3196.6,   2.7234,  34.9256,1,  34.9345,2
     06AZ161_2, AR07E,    46,  1,      1,      1,2,19960830,2121, 52.3383, -19.3950,   30,   3649.8,   2.4801,  34.8995,1,  34.9085,2
     06AZ161_2, AR07E,    47,  1,     12,     12,2,19960831,0222, 52.3400, -18.6317,   30,     23.3,  15.4063,  35.4734,1,  35.4823,2
     06AZ161_2, AR07E,    47,  1,     11,     11,2,19960831,0222, 52.3400, -18.6317,   30,    398.7,  10.6011,  35.4482,1,  35.4589,2
     06AZ161_2, AR07E,    47,  1,     10,     10,2,19960831,0222, 52.3400, -18.6317,   30,    800.0,   9.5271,  35.3168,1,  35.3264,2
     06AZ161_2, AR07E,    47,  1,      9,      9,2,19960831,0222, 52.3400, -18.6317,   30,   1201.0,   6.5771,  35.1905,1,  35.2002,2
     06AZ161_2, AR07E,    47,  1,      8,      8,2,19960831,0222, 52.3400, -18.6317,   30,   1599.0,   4.0563,  34.9187,1,  34.9287,2
     06AZ161_2, AR07E,    47,  1,      7,      7,2,19960831,0222, 52.3400, -18.6317,   30,   2000.6,   3.5423,  34.8837,1,  34.8935,2
     06AZ161_2, AR07E,    47,  1,      6,      6,2,19960831,0222, 52.3400, -18.6317,   30,   2395.2,   3.3962,  34.9026,1,  34.9119,2
     06AZ161_2, AR07E,    47,  1,      5,      5,2,19960831,0222, 52.3400, -18.6317,   30,   2800.7,   3.1619,  34.9366,1,  34.9452,2
     06AZ161_2, AR07E,    47,  1,      4,      4,2,19960831,0222, 52.3400, -18.6317,   30,   3199.8,   2.8463,  34.9336,1,  34.9417,2
     06AZ161_2, AR07E,    47,  1,      3,      3,2,19960831,0222, 52.3400, -18.6317,   30,   3599.5,   2.6078,  34.9122,1,  34.9197,2
     06AZ161_2, AR07E,    47,  1,      2,      2,2,19960831,0222, 52.3400, -18.6317,   30,   3999.7,   2.5215,  34.9002,1,  34.9079,2
     06AZ161_2, AR07E,    47,  1,      1,      1,2,19960831,0222, 52.3400, -18.6317,   30,   4371.1,   2.5211,  34.8956,1,  34.9036,2
     06AZ161_2, AR07E,    48,  1,     11,     11,2,19960831,0758, 52.3150, -17.8383,   26,    400.0,  10.5470,  35.4430,1,  35.4540,2
     06AZ161_2, AR07E,    48,  1,     10,     10,2,19960831,0758, 52.3150, -17.8383,   26,    801.6,   9.0650,  35.2700,1,  35.2828,2
     06AZ161_2, AR07E,    48,  1,      9,      9,2,19960831,0758, 52.3150, -17.8383,   26,   1199.6,   6.5400,  35.1770,1,  35.1876,2
     06AZ161_2, AR07E,    48,  1,      8,      8,2,19960831,0758, 52.3150, -17.8383,   26,   1606.4,   4.1546,  34.9331,1,  34.9437,2
     06AZ161_2, AR07E,    48,  1,      6,      6,2,19960831,0758, 52.3150, -17.8383,   26,   2400.0,   3.4012,  34.9169,1,  34.9275,2
     06AZ161_2, AR07E,    48,  1,      5,      5,2,19960831,0758, 52.3150, -17.8383,   26,   2807.5,   3.0667,  34.9371,1,  34.9481,2
     06AZ161_2, AR07E,    48,  1,      4,      4,2,19960831,0758, 52.3150, -17.8383,   26,   3198.0,   2.7716,  34.9286,1,  34.9374,2
     06AZ161_2, AR07E,    48,  1,      3,      3,2,19960831,0758, 52.3150, -17.8383,   26,   3600.2,   2.5625,  34.9082,1,  34.9170,2
     06AZ161_2, AR07E,    48,  1,      2,      2,2,19960831,0758, 52.3150, -17.8383,   26,   4001.3,   2.5110,  34.8990,1,  34.9075,2
     06AZ161_2, AR07E,    48,  1,      1,      1,2,19960831,0758, 52.3150, -17.8383,   26,   4382.1,   2.5226,  34.8957,1,  34.9034,2
     06AZ161_2, AR07E,    49,  1,     12,     12,2,19960831,1406, 52.3267, -16.9950,   25,     23.1,  15.3963,  35.3733,1,  35.3823,2
     06AZ161_2, AR07E,    49,  1,     11,     11,2,19960831,1406, 52.3267, -16.9950,   25,    199.7,  10.6131,  35.4144,1,  35.4244,2
     06AZ161_2, AR07E,    49,  1,     10,     10,2,19960831,1406, 52.3267, -16.9950,   25,    402.4,  10.0044,  35.3560,1,  35.3673,2
     06AZ161_2, AR07E,    49,  1,      9,      9,2,19960831,1406, 52.3267, -16.9950,   25,    699.2,   8.4711,  35.2104,1,  35.2204,2
     06AZ161_2, AR07E,    49,  1,      7,      7,2,19960831,1406, 52.3267, -16.9950,   25,   1499.4,   3.9868,  34.9229,1,  34.9332,2
     06AZ161_2, AR07E,    49,  1,      6,      6,2,19960831,1406, 52.3267, -16.9950,   25,   1898.2,   3.4204,  34.8972,1,  34.9072,2
     06AZ161_2, AR07E,    49,  1,      5,      5,2,19960831,1406, 52.3267, -16.9950,   25,   2301.3,   3.2231,  34.9321,1,  34.9414,2
     06AZ161_2, AR07E,    49,  1,      4,      4,2,19960831,1406, 52.3267, -16.9950,   25,   2698.5,   2.9013,  34.9377,1,  34.9462,2
     06AZ161_2, AR07E,    49,  1,      3,      3,2,19960831,1406, 52.3267, -16.9950,   25,   3097.9,   2.6717,  34.9219,1,  34.9301,2
     06AZ161_2, AR07E,    49,  1,      2,      2,2,19960831,1406, 52.3267, -16.9950,   25,   3500.8,   2.5071,  34.9040,1,  34.9125,2
     06AZ161_2, AR07E,    49,  1,      1,      1,2,19960831,1406, 52.3267, -16.9950,   25,   3970.0,   2.4696,  34.8952,1,  34.9027,2
     06AZ161_2, AR07E,    50,  1,     12,     12,2,19960831,1929, 52.3367, -16.2033,   25,    199.7,  10.6910,  35.4210,1,  35.4314,2
     06AZ161_2, AR07E,    50,  1,     11,     11,2,19960831,1929, 52.3367, -16.2033,   25,    499.0,   9.6930,  35.3320,1,  35.3412,2
     06AZ161_2, AR07E,    50,  1,     10,     10,2,19960831,1929, 52.3367, -16.2033,   25,    799.3,   7.6140,  35.2180,1,  35.2291,2
     06AZ161_2, AR07E,    50,  1,      9,      9,2,19960831,1929, 52.3367, -16.2033,   25,   1097.2,   5.5030,  35.0710,1,  35.0829,2
     06AZ161_2, AR07E,    50,  1,      8,      8,2,19960831,1929, 52.3367, -16.2033,   25,   1398.8,   4.0520,  34.9280,1,  34.9386,2
     06AZ161_2, AR07E,    50,  1,      7,      7,2,19960831,1929, 52.3367, -16.2033,   25,   1800.4,   3.4230,  34.8850,1,  34.8950,2
     06AZ161_2, AR07E,    50,  1,      5,      5,2,19960831,1929, 52.3367, -16.2033,   25,   2200.0,   3.3100,  34.9240,1,  34.9357,2
     06AZ161_2, AR07E,    50,  1,      6,      6,2,19960831,1929, 52.3367, -16.2033,   25,   2200.0,   3.3100,  34.9240,1,  34.9349,2
     06AZ161_2, AR07E,    50,  1,      4,      4,2,19960831,1929, 52.3367, -16.2033,   25,   2600.9,   3.0074,  34.9392,1,  34.9487,2
     06AZ161_2, AR07E,    50,  1,      3,      3,2,19960831,1929, 52.3367, -16.2033,   25,   2998.9,   2.7235,  34.9271,1,  34.9358,2
     06AZ161_2, AR07E,    50,  1,      2,      2,2,19960831,1929, 52.3367, -16.2033,   25,   3399.5,   2.5266,  34.9069,1,  34.9154,2
     06AZ161_2, AR07E,    50,  1,      1,      1,2,19960831,1929, 52.3367, -16.2033,   25,   3478.3,   2.4987,  34.9031,1,  34.9115,2
     06AZ161_2, AR07E,    51,  1,     11,     11,2,19960831,2334, 52.3267, -15.7717,   30,    300.1,  10.6680,  35.4490,1,  35.4583,2
     06AZ161_2, AR07E,    51,  1,     10,     10,2,19960831,2334, 52.3267, -15.7717,   30,    600.1,   9.7390,  35.3540,1,  35.3682,3
     06AZ161_2, AR07E,    51,  1,      9,      9,2,19960831,2334, 52.3267, -15.7717,   30,    900.4,   7.2100,  35.1570,1,  35.1659,2
     06AZ161_2, AR07E,    51,  1,      7,      7,2,19960831,2334, 52.3267, -15.7717,   30,   1499.6,   3.9602,  34.9181,1,  34.9289,2
     06AZ161_2, AR07E,    51,  1,      6,      6,2,19960831,2334, 52.3267, -15.7717,   30,   1800.3,   3.5451,  34.8949,1,  34.9060,2
     06AZ161_2, AR07E,    51,  1,      5,      5,2,19960831,2334, 52.3267, -15.7717,   30,   2096.4,   3.4160,  34.9083,1,  34.9194,2
     06AZ161_2, AR07E,    51,  1,      4,      4,2,19960831,2334, 52.3267, -15.7717,   30,   2400.1,   3.2242,  34.9318,1,  34.9418,2
     06AZ161_2, AR07E,    51,  1,      3,      3,2,19960831,2334, 52.3267, -15.7717,   30,   2700.5,   2.9853,  34.9382,1,  34.9487,2
     06AZ161_2, AR07E,    51,  1,      2,      2,2,19960831,2334, 52.3267, -15.7717,   30,   2995.6,   2.7509,  34.9278,1,  34.9375,2
     06AZ161_2, AR07E,    51,  1,      1,      1,2,19960831,2334, 52.3267, -15.7717,   30,   3265.5,   2.5658,  34.9114,1,  34.9210,2
     06AZ161_2, AR07E,    52,  1,     12,     12,2,19960901,0247, 52.3300, -15.5000,   24,     24.4,  15.5528,  35.4304,1,  35.4414,2
     06AZ161_2, AR07E,    52,  1,     11,     11,2,19960901,0247, 52.3300, -15.5000,   24,     97.7,  11.8172,  35.5722,1,  35.5822,2
     06AZ161_2, AR07E,    52,  1,     10,     10,2,19960901,0247, 52.3300, -15.5000,   24,    299.2,  10.6556,  35.4478,1,  35.4571,2
     06AZ161_2, AR07E,    52,  1,      9,      9,2,19960901,0247, 52.3300, -15.5000,   24,    600.2,   9.8444,  35.3481,1,  35.3571,2
     06AZ161_2, AR07E,    52,  1,      8,      8,2,19960901,0247, 52.3300, -15.5000,   24,    899.9,   7.6637,  35.1874,1,  35.1982,2
     06AZ161_2, AR07E,    52,  1,      7,      7,2,19960901,0247, 52.3300, -15.5000,   24,   1199.4,   5.5979,  35.0829,1,  35.0907,2
     06AZ161_2, AR07E,    52,  1,      6,      6,2,19960901,0247, 52.3300, -15.5000,   24,   1498.8,   4.0493,  34.9288,1,  34.9383,2
     06AZ161_2, AR07E,    52,  1,      5,      5,2,19960901,0247, 52.3300, -15.5000,   24,   1798.9,   3.5389,  34.8937,1,  34.9034,2
     06AZ161_2, AR07E,    52,  1,      4,      4,2,19960901,0247, 52.3300, -15.5000,   24,   2099.2,   3.3984,  34.9115,1,  34.9208,2
     06AZ161_2, AR07E,    52,  1,      3,      3,2,19960901,0247, 52.3300, -15.5000,   24,   2399.5,   3.1915,  34.9347,1,  34.9446,2
     06AZ161_2, AR07E,    52,  1,      2,      2,2,19960901,0247, 52.3300, -15.5000,   24,   2699.8,   2.9574,  34.9382,1,  34.9470,2
     06AZ161_2, AR07E,    52,  1,      1,      1,2,19960901,0247, 52.3300, -15.5000,   24,   2797.7,   2.8961,  34.9359,1,  34.9446,2
     06AZ161_2, AR07E,    53,  1,      6,      6,2,19960901,0604, 52.3333, -15.2217,   24,    199.5,  10.9397,  35.4660,1,  35.4750,2
     06AZ161_2, AR07E,    53,  1,      5,      5,2,19960901,0604, 52.3333, -15.2217,   24,    399.5,  10.3565,  35.4074,1,  35.4176,2
     06AZ161_2, AR07E,    53,  1,      4,      4,2,19960901,0604, 52.3333, -15.2217,   24,    602.5,   9.5667,  35.3041,1,  35.3127,2
     06AZ161_2, AR07E,    53,  1,      3,      3,2,19960901,0604, 52.3333, -15.2217,   24,    798.1,   8.5315,  35.2602,1,  35.2715,2
     06AZ161_2, AR07E,    53,  1,      2,      2,2,19960901,0604, 52.3333, -15.2217,   24,    998.9,   7.1884,  35.2351,1,  35.2456,2
     06AZ161_2, AR07E,    53,  1,      1,      1,2,19960901,0604, 52.3333, -15.2217,   24,   1181.8,   6.3554,  35.2026,1,  35.2139,2
     06AZ161_2, AR07E,    54,  1,      5,      5,2,19960901,0816, 52.3283, -14.9367,   23,     25.2,  14.9736,  35.4297,1,  35.4408,2
     06AZ161_2, AR07E,    54,  1,      4,      4,2,19960901,0816, 52.3283, -14.9367,   23,    199.1,  10.7888,  35.4556,1,  35.4654,2
     06AZ161_2, AR07E,    54,  1,      3,      3,2,19960901,0816, 52.3283, -14.9367,   23,    401.5,  10.5511,  35.4601,1,  35.4704,2
     06AZ161_2, AR07E,    54,  1,      2,      2,2,19960901,0816, 52.3283, -14.9367,   23,    603.2,   9.8606,  35.4054,1,  35.4146,2
     06AZ161_2, AR07E,    54,  1,      1,      1,2,19960901,0816, 52.3283, -14.9367,   23,    830.6,   9.1176,  35.4289,1,  35.4385,2