BOTTLE,20010816WHPSIOKJU
EXPOCODE,SECT_ID,STNNBR,CASTNO,SAMPNO,BTLNBR,BTLNBR_FLAG_W,DATE,TIME,LATITUDE,LONGITUDE,DEPTH,CTDPRS,CTDTMP,CTDSAL,CTDSAL_FLAG_W,SALNTY,SALNTY_FLAG_W
,,,,,,,,,,,,DBAR,DEG C,PSS-78,,PSS-78,
     06AZ161_2, AR07E,    55,  1,      3,      3,2,19960901,1006, 52.3300, -14.6483,   20,     22.2,  15.2729,  35.3815,1,  35.3928,2
     06AZ161_2, AR07E,    55,  1,      2,      2,2,19960901,1006, 52.3300, -14.6483,   20,    197.0,  10.3388,  35.4194,1,  35.4307,2
     06AZ161_2, AR07E,    55,  1,      1,      1,2,19960901,1006, 52.3300, -14.6483,   20,    388.1,  10.0073,  35.4284,1,  35.4387,2
     06AZ161_2, AR07E,    56,  1,      1,      1,2,19960901,1212, 52.3317, -14.2533,   25,    308.0,  10.0053,  35.4313,1,  35.4421,2