BOTTLE,20010816WHPSIOKJU
#code : jjward hyd_to_exchange.pl 
#original files copied from HTML directory: 20010816
#original HYD file: ar07eghy.txt   Thu Aug 16 14:15:46 2001
#original SUM file: ar07egsu.txt.tmp   Thu Aug 16 14:15:36 2001
EXPOCODE,SECT_ID,STNNBR,CASTNO,SAMPNO,BTLNBR,BTLNBR_FLAG_W,DATE,TIME,LATITUDE,LONGITUDE,DEPTH,CTDPRS,CTDTMP,CTDSAL,CTDSAL_FLAG_W,SALNTY,SALNTY_FLAG_W
,,,,,,,,,,,,DBAR,DEG C,PSS-78,,PSS-78,
     06AZ161_2,      ,     1,  1,      8,      8,2,19960821,1432, 53.4483, -47.9000,   10,   3402.3,   2.3457,-999.0000,9,-999.0000,9
     06AZ161_2,      ,     1,  1,     11,     11,2,19960821,1432, 53.4483, -47.9000,   10,   3403.9,   2.3460,-999.0000,9,-999.0000,9
     06AZ161_2,      ,     1,  1,      2,      2,2,19960821,1432, 53.4483, -47.9000,   10,   3404.4,   2.3430,-999.0000,9,-999.0000,9
     06AZ161_2,      ,     2,  1,      8,      8,2,19960822,0944, 56.1000, -45.6783, 3436,    971.8,   2.9764,-999.0000,9,-999.0000,9
     06AZ161_2,      ,     2,  1,     11,     11,2,19960822,0944, 56.1000, -45.6783, 3436,    971.8,   2.9769,-999.0000,9,-999.0000,9
     06AZ161_2,      ,     2,  1,      5,      5,2,19960822,0944, 56.1000, -45.6783, 3436,    973.9,   2.9712,-999.0000,9,-999.0000,9
     06AZ161_2,      ,     2,  1,      2,      2,2,19960822,0944, 56.1000, -45.6783, 3436,    975.1,   2.9721,-999.0000,9,-999.0000,9
     06AZ161_2,      ,     2,  2,     11,     11,2,19960822,1201, 56.1217, -45.6833, 3407,    983.6,   2.9358,  34.8306,1,-999.0000,9
     06AZ161_2,      ,     2,  2,      8,      8,2,19960822,1201, 56.1217, -45.6833, 3407,    985.8,   2.9361,  34.8308,1,-999.0000,9
     06AZ161_2,      ,     2,  2,      2,      2,2,19960822,1201, 56.1217, -45.6833, 3407,    986.0,   2.9338,  34.8307,1,-999.0000,9
     06AZ161_2, AR07E,     3,  1,      3,      3,2,19960823,1230, 59.9833, -42.4817,   25,     22.0,   0.6148,  31.6255,1,  31.6398,2
     06AZ161_2, AR07E,     3,  1,      2,      2,2,19960823,1230, 59.9833, -42.4817,   25,     83.2,  -0.8446,  33.0748,1,  33.0923,3
     06AZ161_2, AR07E,     3,  1,      1,      1,2,19960823,1230, 59.9833, -42.4817,   25,    162.3,   4.2336,  34.3795,1,  34.3905,2
     06AZ161_2, AR07E,     4,  1,      4,      4,2,19960823,1355, 59.9417, -42.1600,   30,     50.1,   7.8467,  34.6478,1,  34.6629,2
     06AZ161_2, AR07E,     4,  1,      3,      3,2,19960823,1355, 59.9417, -42.1600,   30,    204.6,   5.7615,  34.9177,1,  34.9300,2
     06AZ161_2, AR07E,     4,  1,      2,      2,2,19960823,1355, 59.9417, -42.1600,   30,    352.2,   5.4660,  34.9285,1,  34.9408,2
     06AZ161_2, AR07E,     4,  1,      1,      1,2,19960823,1355, 59.9417, -42.1600,   30,    479.4,   5.0850,  34.8826,1,  34.8948,2
     06AZ161_2, AR07E,     5,  1,     11,     11,2,19960823,1532, 59.9283, -41.8600,   30,     23.7,   8.5636,  34.8420,1,  34.8546,2
     06AZ161_2, AR07E,     5,  1,     10,     10,2,19960823,1532, 59.9283, -41.8600,   30,    199.3,   6.2559,  34.9932,1,  35.0066,2
     06AZ161_2, AR07E,     5,  1,      8,      8,2,19960823,1532, 59.9283, -41.8600,   30,    400.9,   5.3152,  34.9386,1,  34.9514,2
     06AZ161_2, AR07E,     5,  1,      7,      7,2,19960823,1532, 59.9283, -41.8600,   30,    600.6,   4.4647,  34.9191,1,  34.9316,2
     06AZ161_2, AR07E,     5,  1,      6,      6,2,19960823,1532, 59.9283, -41.8600,   30,    800.9,   3.9669,  34.9122,1,  34.9252,2
     06AZ161_2, AR07E,     5,  1,      5,      5,2,19960823,1532, 59.9283, -41.8600,   30,   1004.1,   3.6798,  34.9046,1,  34.9167,2
     06AZ161_2, AR07E,     5,  1,      4,      4,2,19960823,1532, 59.9283, -41.8600,   30,   1201.6,   3.3283,  34.8860,1,  34.8983,2
     06AZ161_2, AR07E,     5,  1,      3,      3,2,19960823,1532, 59.9283, -41.8600,   30,   1404.4,   3.2102,  34.8790,1,  34.8912,2
     06AZ161_2, AR07E,     5,  1,      2,      2,2,19960823,1532, 59.9283, -41.8600,   30,   1593.5,   3.0310,  34.8796,1,  34.8917,2
     06AZ161_2, AR07E,     5,  1,      1,      1,2,19960823,1532, 59.9283, -41.8600,   30,   1791.4,   2.9248,  34.8853,1,  34.8971,2
     06AZ161_2, AR07E,     6,  1,     11,     11,2,19960823,1831, 59.8967, -41.5200,   22,     23.1,   9.2674,  34.8521,1,  34.8642,2
     06AZ161_2, AR07E,     6,  1,     10,     10,2,19960823,1831, 59.8967, -41.5200,   22,     99.7,   6.4318,  34.9838,1,  34.9961,2
     06AZ161_2, AR07E,     6,  1,      9,      9,2,19960823,1831, 59.8967, -41.5200,   22,    298.2,   5.3254,  34.9377,1,  34.9513,2
     06AZ161_2, AR07E,     6,  1,      8,      8,2,19960823,1831, 59.8967, -41.5200,   22,    499.0,   4.6062,  34.9179,1,  34.9306,2
     06AZ161_2, AR07E,     6,  1,      7,      7,2,19960823,1831, 59.8967, -41.5200,   22,    673.5,   3.9238,  34.8908,1,  34.9041,2
     06AZ161_2, AR07E,     6,  1,      6,      6,2,19960823,1831, 59.8967, -41.5200,   22,    900.8,   3.4855,  34.8821,1,  34.8952,2
     06AZ161_2, AR07E,     6,  1,      5,      5,2,19960823,1831, 59.8967, -41.5200,   22,   1099.4,   3.2150,  34.8631,1,  34.8761,2
     06AZ161_2, AR07E,     6,  1,      4,      4,2,19960823,1831, 59.8967, -41.5200,   22,   1299.3,   3.0674,  34.8515,1,  34.8642,2
     06AZ161_2, AR07E,     6,  1,      3,      3,2,19960823,1831, 59.8967, -41.5200,   22,   1499.9,   2.9756,  34.8459,1,  34.8586,2
     06AZ161_2, AR07E,     6,  1,      2,      2,2,19960823,1831, 59.8967, -41.5200,   22,   1692.9,   3.0355,  34.8780,1,  34.8906,2
     06AZ161_2, AR07E,     6,  1,      1,      1,2,19960823,1831, 59.8967, -41.5200,   22,   1871.5,   2.6730,  34.8882,1,  34.9005,2
     06AZ161_2, AR07E,     7,  1,     11,     11,2,19960823,2051, 59.8683, -41.2050,   27,     24.7,   9.2470,  34.7685,1,  34.7769,3
     06AZ161_2, AR07E,     7,  1,     10,     10,2,19960823,2051, 59.8683, -41.2050,   27,    199.3,   5.5775,  34.9565,1,  34.9688,2
     06AZ161_2, AR07E,     7,  1,      9,      9,2,19960823,2051, 59.8683, -41.2050,   27,    398.5,   4.6020,  34.9105,1,  34.9228,2
     06AZ161_2, AR07E,     7,  1,      8,      8,2,19960823,2051, 59.8683, -41.2050,   27,    599.9,   3.8067,  34.8816,1,  34.8941,2
     06AZ161_2, AR07E,     7,  1,      7,      7,2,19960823,2051, 59.8683, -41.2050,   27,    800.4,   3.4647,  34.8771,1,  34.8899,2
     06AZ161_2, AR07E,     7,  1,      6,      6,2,19960823,2051, 59.8683, -41.2050,   27,   1000.4,   3.2680,  34.8682,1,  34.8809,2
     06AZ161_2, AR07E,     7,  1,      5,      5,2,19960823,2051, 59.8683, -41.2050,   27,   1209.0,   3.1194,  34.8571,1,  34.8695,2
     06AZ161_2, AR07E,     7,  1,      4,      4,2,19960823,2051, 59.8683, -41.2050,   27,   1401.0,   2.9958,  34.8462,1,  34.8587,2
     06AZ161_2, AR07E,     7,  1,      3,      3,2,19960823,2051, 59.8683, -41.2050,   27,   1598.1,   2.9419,  34.8426,1,  34.8547,2
     06AZ161_2, AR07E,     7,  1,      2,      2,2,19960823,2051, 59.8683, -41.2050,   27,   1809.5,   3.0213,  34.8827,1,  34.8944,2
     06AZ161_2, AR07E,     7,  1,      1,      1,2,19960823,2051, 59.8683, -41.2050,   27,   2012.9,   2.7371,  34.8909,1,  34.9028,2
     06AZ161_2, AR07E,     8,  1,     12,     12,2,19960823,2335, 59.8367, -40.8633,   25,     25.3,   9.4918,  34.8073,1,  34.8223,2
     06AZ161_2, AR07E,     8,  1,     11,     11,2,19960823,2335, 59.8367, -40.8633,   25,    200.1,   4.8001,  34.9002,1,  34.9137,2
     06AZ161_2, AR07E,     8,  1,     10,     10,2,19960823,2335, 59.8367, -40.8633,   25,    399.0,   4.0798,  34.8812,1,  34.8949,2
     06AZ161_2, AR07E,     8,  1,      9,      9,2,19960823,2335, 59.8367, -40.8633,   25,    599.0,   3.7182,  34.8868,1,  34.9008,2
     06AZ161_2, AR07E,     8,  1,      8,      8,2,19960823,2335, 59.8367, -40.8633,   25,    799.9,   3.4653,  34.8810,1,  34.8961,2
     06AZ161_2, AR07E,     8,  1,      7,      7,2,19960823,2335, 59.8367, -40.8633,   25,    998.6,   3.2924,  34.8745,1,  34.8880,2
     06AZ161_2, AR07E,     8,  1,      6,      6,2,19960823,2335, 59.8367, -40.8633,   25,   1199.7,   3.1153,  34.8573,1,  34.8706,2
     06AZ161_2, AR07E,     8,  1,      5,      5,2,19960823,2335, 59.8367, -40.8633,   25,   1401.2,   3.0088,  34.8471,1,  34.8602,2
     06AZ161_2, AR07E,     8,  1,      4,      4,2,19960823,2335, 59.8367, -40.8633,   25,   1598.3,   2.9648,  34.8484,1,  34.8620,2
     06AZ161_2, AR07E,     8,  1,      3,      3,2,19960823,2335, 59.8367, -40.8633,   25,   1801.2,   3.0416,  34.8790,1,  34.8912,2
     06AZ161_2, AR07E,     8,  1,      2,      2,2,19960823,2335, 59.8367, -40.8633,   25,   2000.8,   2.8665,  34.8957,1,  34.9078,2
     06AZ161_2, AR07E,     8,  1,      1,      1,2,19960823,2335, 59.8367, -40.8633,   25,   2317.3,   2.2257,  34.8880,1,  34.9001,2
     06AZ161_2, AR07E,     9,  1,     12,     12,2,19960824,0320, 59.7900, -40.2217,   35,     23.0,   9.1689,  34.7349,1,  34.7508,3
     06AZ161_2, AR07E,     9,  1,     11,     11,2,19960824,0320, 59.7900, -40.2217,   35,    199.9,   4.1478,  34.8740,1,  34.8868,2
     06AZ161_2, AR07E,     9,  1,     10,     10,2,19960824,0320, 59.7900, -40.2217,   35,    398.9,   3.5803,  34.8650,1,  34.8776,2
     06AZ161_2, AR07E,     9,  1,      9,      9,2,19960824,0320, 59.7900, -40.2217,   35,    601.0,   3.3199,  34.8654,1,  34.8782,2
     06AZ161_2, AR07E,     9,  1,      8,      8,2,19960824,0320, 59.7900, -40.2217,   35,    800.3,   3.1681,  34.8585,1,-999.0000,9
     06AZ161_2, AR07E,     9,  1,      7,      7,2,19960824,0320, 59.7900, -40.2217,   35,   1000.1,   3.0131,  34.8441,1,  34.8567,2
     06AZ161_2, AR07E,     9,  1,      6,      6,2,19960824,0320, 59.7900, -40.2217,   35,   1299.2,   2.9397,  34.8390,1,  34.8515,2
     06AZ161_2, AR07E,     9,  1,      5,      5,2,19960824,0320, 59.7900, -40.2217,   35,   1600.4,   2.9091,  34.8376,1,  34.8498,2
     06AZ161_2, AR07E,     9,  1,      4,      4,2,19960824,0320, 59.7900, -40.2217,   35,   1799.7,   3.0149,  34.8640,1,  34.8747,2
     06AZ161_2, AR07E,     9,  1,      3,      3,2,19960824,0320, 59.7900, -40.2217,   35,   2001.0,   3.0945,  34.9019,1,  34.9135,2
     06AZ161_2, AR07E,     9,  1,      2,      2,2,19960824,0320, 59.7900, -40.2217,   35,   2300.9,   2.8475,  34.9106,1,  34.9215,2
     06AZ161_2, AR07E,     9,  1,      1,      1,2,19960824,0320, 59.7900, -40.2217,   35,   2596.8,   1.8161,  34.8866,1,  34.8976,2
     06AZ161_2, AR07E,    10,  1,     12,     12,2,19960824,0714, 59.7117, -39.5767,   24,     24.2,   8.6589,  34.6700,1,  34.6837,2
     06AZ161_2, AR07E,    10,  1,     11,     11,2,19960824,0714, 59.7117, -39.5767,   24,    198.4,   4.2581,  34.8726,1,  34.8840,2
     06AZ161_2, AR07E,    10,  1,     10,     10,2,19960824,0714, 59.7117, -39.5767,   24,    397.7,   3.8187,  34.8831,1,  34.8953,2
     06AZ161_2, AR07E,    10,  1,      9,      9,2,19960824,0714, 59.7117, -39.5767,   24,    599.8,   3.4110,  34.8678,1,  34.8796,2
     06AZ161_2, AR07E,    10,  1,      8,      8,2,19960824,0714, 59.7117, -39.5767,   24,    801.7,   3.0936,  34.8423,1,  34.8545,2
     06AZ161_2, AR07E,    10,  1,      7,      7,2,19960824,0714, 59.7117, -39.5767,   24,   1100.7,   2.9947,  34.8408,1,  34.8530,2
     06AZ161_2, AR07E,    10,  1,      6,      6,2,19960824,0714, 59.7117, -39.5767,   24,   1400.3,   2.9148,  34.8343,1,  34.8457,2
     06AZ161_2, AR07E,    10,  1,      5,      5,2,19960824,0714, 59.7117, -39.5767,   24,   1605.6,   2.8794,  34.8306,1,  34.8418,2
     06AZ161_2, AR07E,    10,  1,      4,      4,2,19960824,0714, 59.7117, -39.5767,   24,   1900.8,   2.9894,  34.8557,1,  34.8672,2
     06AZ161_2, AR07E,    10,  1,      3,      3,2,19960824,0714, 59.7117, -39.5767,   24,   2198.9,   3.0281,  34.9007,1,  34.9118,2
     06AZ161_2, AR07E,    10,  1,      2,      2,2,19960824,0714, 59.7117, -39.5767,   24,   2500.4,   2.7124,  34.9096,1,  34.9206,2
     06AZ161_2, AR07E,    10,  1,      1,      1,2,19960824,0714, 59.7117, -39.5767,   24,   2794.3,   1.3639,  34.8845,1,  34.8959,2
     06AZ161_2, AR07E,    11,  1,     12,     12,2,19960824,1202, 59.5917, -38.5717,   35,     24.6,   8.6262,  34.6473,1,  34.6643,3
     06AZ161_2, AR07E,    11,  1,     11,     11,2,19960824,1202, 59.5917, -38.5717,   35,    203.2,   3.9270,  34.8539,1,  34.8667,2
     06AZ161_2, AR07E,    11,  1,     10,     10,2,19960824,1202, 59.5917, -38.5717,   35,    397.9,   3.3875,  34.8354,1,  34.8495,2
     06AZ161_2, AR07E,    11,  1,      9,      9,2,19960824,1202, 59.5917, -38.5717,   35,    600.4,   3.2483,  34.8511,1,  34.8640,2
     06AZ161_2, AR07E,    11,  1,      8,      8,2,19960824,1202, 59.5917, -38.5717,   35,    899.2,   3.0659,  34.8464,1,  34.8589,2
     06AZ161_2, AR07E,    11,  1,      7,      7,2,19960824,1202, 59.5917, -38.5717,   35,   1199.9,   2.9830,  34.8427,1,  34.8554,2
     06AZ161_2, AR07E,    11,  1,      6,      6,2,19960824,1202, 59.5917, -38.5717,   35,   1499.8,   2.9117,  34.8350,1,  34.8473,2
     06AZ161_2, AR07E,    11,  1,      5,      5,2,19960824,1202, 59.5917, -38.5717,   35,   1801.5,   2.8750,  34.8303,1,  34.8420,2
     06AZ161_2, AR07E,    11,  1,      4,      4,2,19960824,1202, 59.5917, -38.5717,   35,   1999.2,   3.0457,  34.8667,1,  34.8782,2
     06AZ161_2, AR07E,    11,  1,      3,      3,2,19960824,1202, 59.5917, -38.5717,   35,   2200.5,   3.0886,  34.8921,1,  34.9036,2
     06AZ161_2, AR07E,    11,  1,      2,      2,2,19960824,1202, 59.5917, -38.5717,   35,   2500.9,   2.9425,  34.9129,1,  34.9241,2
     06AZ161_2, AR07E,    11,  1,      1,      1,2,19960824,1202, 59.5917, -38.5717,   35,   2801.3,   2.4986,  34.8949,1,  34.9055,2
     06AZ161_2, AR07E,    12,  1,     12,     12,2,19960824,1638, 59.5117, -37.6283,   25,    100.2,   4.6353,  34.8254,1,  34.8375,2
     06AZ161_2, AR07E,    12,  1,     11,     11,2,19960824,1638, 59.5117, -37.6283,   25,    199.7,   4.0447,  34.8465,1,  34.8590,2
     06AZ161_2, AR07E,    12,  1,     10,     10,2,19960824,1638, 59.5117, -37.6283,   25,    400.5,   3.4750,  34.8456,1,  34.8572,2
     06AZ161_2, AR07E,    12,  1,      9,      9,2,19960824,1638, 59.5117, -37.6283,   25,    600.3,   3.3037,  34.8579,1,  34.8700,2
     06AZ161_2, AR07E,    12,  1,      8,      8,2,19960824,1638, 59.5117, -37.6283,   25,    900.4,   3.0748,  34.8472,1,  34.8597,2
     06AZ161_2, AR07E,    12,  1,      7,      7,2,19960824,1638, 59.5117, -37.6283,   25,   1201.2,   2.9709,  34.8403,1,  34.8528,2
     06AZ161_2, AR07E,    12,  1,      6,      6,2,19960824,1638, 59.5117, -37.6283,   25,   1499.4,   2.9119,  34.8342,1,  34.8443,2
     06AZ161_2, AR07E,    12,  1,      5,      5,2,19960824,1638, 59.5117, -37.6283,   25,   1801.9,   2.9065,  34.8348,1,  34.8469,2
     06AZ161_2, AR07E,    12,  1,      4,      4,2,19960824,1638, 59.5117, -37.6283,   25,   2101.1,   3.1096,  34.8841,1,  34.8963,2
     06AZ161_2, AR07E,    12,  1,      3,      3,2,19960824,1638, 59.5117, -37.6283,   25,   2399.0,   3.1033,  34.9118,1,  34.9228,2
     06AZ161_2, AR07E,    12,  1,      2,      2,2,19960824,1638, 59.5117, -37.6283,   25,   2703.2,   2.8803,  34.9106,1,  34.9216,2
     06AZ161_2, AR07E,    12,  1,      1,      1,2,19960824,1638, 59.5117, -37.6283,   25,   3076.1,   1.7035,  34.8852,1,  34.8965,2
     06AZ161_2, AR07E,    13,  1,     12,     12,2,19960824,2148, 59.4133, -36.6300,   31,     99.7,   5.0663,  34.8061,1,  34.8165,2
     06AZ161_2, AR07E,    13,  1,     11,     11,2,19960824,2148, 59.4133, -36.6300,   31,    199.8,   4.4771,  34.8336,1,  34.8441,2
     06AZ161_2, AR07E,    13,  1,     10,     10,2,19960824,2148, 59.4133, -36.6300,   31,    401.7,   3.4545,  34.8214,1,  34.8328,2
     06AZ161_2, AR07E,    13,  1,      9,      9,2,19960824,2148, 59.4133, -36.6300,   31,    599.8,   3.5019,  34.8731,1,  34.8841,2
     06AZ161_2, AR07E,    13,  1,      8,      8,2,19960824,2148, 59.4133, -36.6300,   31,    895.5,   3.0876,  34.8448,1,  34.8563,2
     06AZ161_2, AR07E,    13,  1,      7,      7,2,19960824,2148, 59.4133, -36.6300,   31,   1199.9,   2.9922,  34.8419,1,  34.8528,2
     06AZ161_2, AR07E,    13,  1,      6,      6,2,19960824,2148, 59.4133, -36.6300,   31,   1499.6,   2.9300,  34.8368,1,  34.8484,2
     06AZ161_2, AR07E,    13,  1,      5,      5,2,19960824,2148, 59.4133, -36.6300,   31,   1806.9,   2.9066,  34.8342,1,  34.8453,2
     06AZ161_2, AR07E,    13,  1,      3,      3,2,19960824,2148, 59.4133, -36.6300,   31,   2398.3,   3.1048,  34.9084,1,  34.9189,2
     06AZ161_2, AR07E,    13,  1,      2,      2,2,19960824,2148, 59.4133, -36.6300,   31,   2694.9,   2.8746,  34.9151,1,  34.9250,2
     06AZ161_2, AR07E,    13,  1,      1,      1,2,19960824,2148, 59.4133, -36.6300,   31,   3114.5,   2.2199,  34.8854,1,  34.8951,2
     06AZ161_2, AR07E,    14,  1,     12,     12,2,19960825,0155, 59.3400, -35.9533,   40,     99.1,   5.3091,  34.8048,1,  34.8164,2
     06AZ161_2, AR07E,    14,  1,     11,     11,2,19960825,0155, 59.3400, -35.9533,   40,    199.9,   4.1006,  34.7591,1,  34.7691,2
     06AZ161_2, AR07E,    14,  1,     10,     10,2,19960825,0155, 59.3400, -35.9533,   40,    399.8,   3.4838,  34.8179,1,  34.8278,2
     06AZ161_2, AR07E,    14,  1,      9,      9,2,19960825,0155, 59.3400, -35.9533,   40,    599.5,   3.3747,  34.8510,1,  34.8600,2
     06AZ161_2, AR07E,    14,  1,      8,      8,2,19960825,0155, 59.3400, -35.9533,   40,    900.7,   3.1184,  34.8469,1,  34.8575,2
     06AZ161_2, AR07E,    14,  1,      7,      7,2,19960825,0155, 59.3400, -35.9533,   40,   1199.5,   2.9632,  34.8373,1,  34.8475,2
     06AZ161_2, AR07E,    14,  1,      6,      6,2,19960825,0155, 59.3400, -35.9533,   40,   1500.4,   2.9108,  34.8334,1,  34.8438,2
     06AZ161_2, AR07E,    14,  1,      5,      5,2,19960825,0155, 59.3400, -35.9533,   40,   1800.2,   2.8985,  34.8333,1,  34.8431,2
     06AZ161_2, AR07E,    14,  1,      4,      4,2,19960825,0155, 59.3400, -35.9533,   40,   2101.1,   3.0878,  34.8787,1,  34.8889,2
     06AZ161_2, AR07E,    14,  1,      3,      3,2,19960825,0155, 59.3400, -35.9533,   40,   2400.1,   3.0396,  34.9140,1,  34.9234,2
     06AZ161_2, AR07E,    14,  1,      2,      2,2,19960825,0155, 59.3400, -35.9533,   40,   2731.1,   2.8246,  34.9105,1,  34.9199,2
     06AZ161_2, AR07E,    14,  1,      1,      1,2,19960825,0155, 59.3400, -35.9533,   40,   3098.5,   2.3051,  34.8907,1,  34.8991,2
     06AZ161_2, AR07E,    15,  1,     12,     12,2,19960825,0654, 59.2400, -34.9750,   20,     24.3,   9.1759,  34.6236,1,  34.6385,2
     06AZ161_2, AR07E,    15,  1,     11,     11,2,19960825,0654, 59.2400, -34.9750,   20,    199.2,   4.6611,  34.7960,1,  34.8056,2
     06AZ161_2, AR07E,    15,  1,     10,     10,2,19960825,0654, 59.2400, -34.9750,   20,    399.5,   4.1605,  34.8809,1,  34.8916,2
     06AZ161_2, AR07E,    15,  1,      9,      9,2,19960825,0654, 59.2400, -34.9750,   20,    599.5,   3.6638,  34.8718,1,  34.8825,2
     06AZ161_2, AR07E,    15,  1,      8,      8,2,19960825,0654, 59.2400, -34.9750,   20,    803.6,   3.5323,  34.8910,1,  34.9013,2
     06AZ161_2, AR07E,    15,  1,      7,      7,2,19960825,0654, 59.2400, -34.9750,   20,    989.4,   3.4156,  34.8904,1,  34.9011,2
     06AZ161_2, AR07E,    15,  1,      6,      6,2,19960825,0654, 59.2400, -34.9750,   20,   1298.0,   3.1480,  34.8668,1,  34.8770,2
     06AZ161_2, AR07E,    15,  1,      5,      5,2,19960825,0654, 59.2400, -34.9750,   20,   1598.0,   3.0396,  34.8595,1,  34.8700,2
     06AZ161_2, AR07E,    15,  1,      4,      4,2,19960825,0654, 59.2400, -34.9750,   20,   1900.9,   3.1272,  34.8922,1,  34.9015,2
     06AZ161_2, AR07E,    15,  1,      3,      3,2,19960825,0654, 59.2400, -34.9750,   20,   2199.5,   3.0701,  34.9069,1,  34.9163,2
     06AZ161_2, AR07E,    15,  1,      2,      2,2,19960825,0654, 59.2400, -34.9750,   20,   2499.1,   2.9592,  34.9124,1,  34.9203,3
     06AZ161_2, AR07E,    15,  1,      1,      1,2,19960825,0654, 59.2400, -34.9750,   20,   2778.3,   2.5866,  34.9001,1,  34.9086,2