BOTTLE,20010816WHPSIOKJU
EXPOCODE,SECT_ID,STNNBR,CASTNO,SAMPNO,BTLNBR,BTLNBR_FLAG_W,DATE,TIME,LATITUDE,LONGITUDE,DEPTH,CTDPRS,CTDTMP,CTDSAL,CTDSAL_FLAG_W,SALNTY,SALNTY_FLAG_W
,,,,,,,,,,,,DBAR,DEG C,PSS-78,,PSS-78,
     06AZ161_2, AR07E,    29,  1,     12,     12,2,19960827,1302, 56.4533, -27.4933,   30,     24.1,  12.0087,  35.1689,1,  35.1757,3
     06AZ161_2, AR07E,    29,  1,     10,     10,2,19960827,1302, 56.4533, -27.4933,   30,    400.9,   6.7188,  34.9127,1,  34.9214,2
     06AZ161_2, AR07E,    29,  1,      9,      9,2,19960827,1302, 56.4533, -27.4933,   30,    600.2,   6.6643,  35.0940,1,  35.1040,2
     06AZ161_2, AR07E,    29,  1,      8,      8,2,19960827,1302, 56.4533, -27.4933,   30,    802.3,   6.3133,  35.0816,1,  35.0924,2
     06AZ161_2, AR07E,    29,  1,      7,      7,2,19960827,1302, 56.4533, -27.4933,   30,   1000.1,   4.5459,  34.9341,1,  34.9437,2
     06AZ161_2, AR07E,    29,  1,      6,      6,2,19960827,1302, 56.4533, -27.4933,   30,   1299.7,   3.7308,  34.8943,1,  34.9045,2
     06AZ161_2, AR07E,    29,  1,      5,      5,2,19960827,1302, 56.4533, -27.4933,   30,   1598.9,   3.3940,  34.8787,1,  34.8888,2
     06AZ161_2, AR07E,    29,  1,      4,      4,2,19960827,1302, 56.4533, -27.4933,   30,   1900.5,   3.3034,  34.9004,1,  34.9105,2
     06AZ161_2, AR07E,    29,  1,      3,      3,2,19960827,1302, 56.4533, -27.4933,   30,   2100.3,   3.2806,  34.9317,1,  34.9413,2
     06AZ161_2, AR07E,    29,  1,      2,      2,2,19960827,1302, 56.4533, -27.4933,   30,   2398.4,   3.0133,  34.9508,1,  34.9602,2
     06AZ161_2, AR07E,    29,  1,      1,      1,2,19960827,1302, 56.4533, -27.4933,   30,   2763.2,   2.6701,  34.9525,1,  34.9621,2
     06AZ161_2, AR07E,    30,  1,     12,     12,2,19960827,1746, 55.9850, -27.1467,   27,     24.3,  13.3934,  35.2642,1,  35.2718,3
     06AZ161_2, AR07E,    30,  1,     11,     11,2,19960827,1746, 55.9850, -27.1467,   27,    100.2,  11.2030,  35.3750,1,  35.3815,3
     06AZ161_2, AR07E,    30,  1,     10,     10,2,19960827,1746, 55.9850, -27.1467,   27,    299.6,   9.3733,  35.1844,1,  35.1891,3
     06AZ161_2, AR07E,    30,  1,      9,      9,2,19960827,1746, 55.9850, -27.1467,   27,    500.1,   6.3904,  34.8963,1,  34.9059,2
     06AZ161_2, AR07E,    30,  1,      8,      8,2,19960827,1746, 55.9850, -27.1467,   27,    700.8,   5.3033,  34.9688,1,  34.9782,2
     06AZ161_2, AR07E,    30,  1,      7,      7,2,19960827,1746, 55.9850, -27.1467,   27,    998.9,   4.1148,  34.9169,1,  34.9255,2
     06AZ161_2, AR07E,    30,  1,      6,      6,2,19960827,1746, 55.9850, -27.1467,   27,   1300.8,   3.6261,  34.8889,1,  34.8981,2
     06AZ161_2, AR07E,    30,  1,      5,      5,2,19960827,1746, 55.9850, -27.1467,   27,   1603.3,   3.3496,  34.8761,1,  34.8846,2
     06AZ161_2, AR07E,    30,  1,      4,      4,2,19960827,1746, 55.9850, -27.1467,   27,   1900.9,   3.2850,  34.8947,1,  34.9025,2
     06AZ161_2, AR07E,    30,  1,      3,      3,2,19960827,1746, 55.9850, -27.1467,   27,   2200.9,   3.2585,  34.9439,1,  34.9521,2
     06AZ161_2, AR07E,    30,  1,      2,      2,2,19960827,1746, 55.9850, -27.1467,   27,   2499.1,   2.9390,  34.9510,1,  34.9589,2
     06AZ161_2, AR07E,    30,  1,      1,      1,2,19960827,1746, 55.9850, -27.1467,   27,   2802.4,   2.6916,  34.9541,1,  34.9616,3
     06AZ161_2, AR07E,    31,  1,     12,     12,2,19960827,2235, 55.5283, -26.8017,   30,     98.8,  10.9120,  35.3994,1,  35.4097,2
     06AZ161_2, AR07E,    31,  1,     11,     11,2,19960827,2235, 55.5283, -26.8017,   30,    200.8,   9.6336,  35.2173,1,  35.2273,2
     06AZ161_2, AR07E,    31,  1,     10,     10,2,19960827,2235, 55.5283, -26.8017,   30,    398.9,   8.4498,  35.1169,1,  35.1279,2
     06AZ161_2, AR07E,    31,  1,      9,      9,2,19960827,2235, 55.5283, -26.8017,   30,    599.5,   5.9564,  34.9208,1,  34.9307,2
     06AZ161_2, AR07E,    31,  1,      8,      8,2,19960827,2235, 55.5283, -26.8017,   30,    901.8,   4.6490,  34.9512,1,  34.9624,2
     06AZ161_2, AR07E,    31,  1,      7,      7,2,19960827,2235, 55.5283, -26.8017,   30,   1199.1,   3.8508,  34.9043,1,  34.9143,2
     06AZ161_2, AR07E,    31,  1,      6,      6,2,19960827,2235, 55.5283, -26.8017,   30,   1499.8,   3.4600,  34.8783,1,  34.8876,2
     06AZ161_2, AR07E,    31,  1,      5,      5,2,19960827,2235, 55.5283, -26.8017,   30,   1798.1,   3.2841,  34.8719,1,  34.8812,2
     06AZ161_2, AR07E,    31,  1,      4,      4,2,19960827,2235, 55.5283, -26.8017,   30,   2099.6,   3.2388,  34.8893,1,  34.8987,2
     06AZ161_2, AR07E,    31,  1,      3,      3,2,19960827,2235, 55.5283, -26.8017,   30,   2399.4,   3.2394,  34.9261,1,  34.9338,2
     06AZ161_2, AR07E,    31,  1,      2,      2,2,19960827,2235, 55.5283, -26.8017,   30,   2704.9,   3.0937,  34.9463,1,  34.9544,2
     06AZ161_2, AR07E,    31,  1,      1,      1,2,19960827,2235, 55.5283, -26.8017,   30,   3186.7,   2.7600,  34.9520,1,  34.9594,3
     06AZ161_2, AR07E,    32,  1,     12,     12,2,19960828,0339, 55.0733, -26.4633,   23,    100.1,  11.1745,  35.4135,1,  35.4266,2
     06AZ161_2, AR07E,    32,  1,     11,     11,2,19960828,0339, 55.0733, -26.4633,   23,    306.5,   8.7471,  35.1023,1,  35.1147,2
     06AZ161_2, AR07E,    32,  1,     10,     10,2,19960828,0339, 55.0733, -26.4633,   23,    599.0,   5.7270,  34.9200,1,  34.9314,2
     06AZ161_2, AR07E,    32,  1,      9,      9,2,19960828,0339, 55.0733, -26.4633,   23,    899.0,   4.4213,  34.9250,1,  34.9367,2
     06AZ161_2, AR07E,    32,  1,      8,      8,2,19960828,0339, 55.0733, -26.4633,   23,   1200.9,   3.7923,  34.9002,1,  34.9120,2
     06AZ161_2, AR07E,    32,  1,      7,      7,2,19960828,0339, 55.0733, -26.4633,   23,   1499.9,   3.4564,  34.8780,1,  34.8898,2
     06AZ161_2, AR07E,    32,  1,      6,      6,2,19960828,0339, 55.0733, -26.4633,   23,   1799.6,   3.2791,  34.8721,1,  34.8831,2
     06AZ161_2, AR07E,    32,  1,      5,      5,2,19960828,0339, 55.0733, -26.4633,   23,   2099.3,   3.2497,  34.8902,1,  34.9009,2
     06AZ161_2, AR07E,    32,  1,      4,      4,2,19960828,0339, 55.0733, -26.4633,   23,   2399.6,   3.2473,  34.9233,1,  34.9330,2
     06AZ161_2, AR07E,    32,  1,      3,      3,2,19960828,0339, 55.0733, -26.4633,   23,   2700.0,   3.1326,  34.9418,1,  34.9511,2
     06AZ161_2, AR07E,    32,  1,      2,      2,2,19960828,0339, 55.0733, -26.4633,   23,   3000.9,   2.9460,  34.9478,1,  34.9567,2
     06AZ161_2, AR07E,    32,  1,      1,      1,2,19960828,0339, 55.0733, -26.4633,   23,   3394.1,   2.7391,  34.9499,1,  34.9579,2
     06AZ161_2, AR07E,    33,  1,     11,     11,2,19960828,0900, 54.6100, -26.1267,   25,    398.9,   6.9779,  34.9077,1,  34.9206,2
     06AZ161_2, AR07E,    33,  1,     10,     10,2,19960828,0900, 54.6100, -26.1267,   25,    698.8,   5.3659,  35.0030,1,  35.0151,2
     06AZ161_2, AR07E,    33,  1,      9,      9,2,19960828,0900, 54.6100, -26.1267,   25,    992.9,   4.1207,  34.9245,1,  34.9355,2
     06AZ161_2, AR07E,    33,  1,      8,      8,2,19960828,0900, 54.6100, -26.1267,   25,   1298.5,   3.5977,  34.8876,1,  34.8988,2
     06AZ161_2, AR07E,    33,  1,      7,      7,2,19960828,0900, 54.6100, -26.1267,   25,   1598.7,   3.3650,  34.8736,1,  34.8848,2
     06AZ161_2, AR07E,    33,  1,      6,      6,2,19960828,0900, 54.6100, -26.1267,   25,   1899.4,   3.2338,  34.8764,1,  34.8871,2
     06AZ161_2, AR07E,    33,  1,      5,      5,2,19960828,0900, 54.6100, -26.1267,   25,   2198.0,   3.2446,  34.9067,1,  34.9169,2
     06AZ161_2, AR07E,    33,  1,      4,      4,2,19960828,0900, 54.6100, -26.1267,   25,   2499.0,   3.1742,  34.9294,1,  34.9395,2
     06AZ161_2, AR07E,    33,  1,      3,      3,2,19960828,0900, 54.6100, -26.1267,   25,   2798.7,   3.0184,  34.9442,1,  34.9537,2
     06AZ161_2, AR07E,    33,  1,      2,      2,2,19960828,0900, 54.6100, -26.1267,   25,   3097.9,   2.8706,  34.9426,1,  34.9517,2
     06AZ161_2, AR07E,    33,  1,      1,      1,2,19960828,0900, 54.6100, -26.1267,   25,   3444.3,   2.7122,  34.9296,1,  34.9382,2
     06AZ161_2, AR07E,    34,  1,     12,     12,2,19960828,1301, 54.3817, -25.9450,   30,     25.6,  13.6446,  35.2661,1,  35.2834,3
     06AZ161_2, AR07E,    34,  1,     11,     11,2,19960828,1301, 54.3817, -25.9450,   30,    299.7,   9.3273,  35.1953,1,  35.2065,2
     06AZ161_2, AR07E,    34,  1,     10,     10,2,19960828,1301, 54.3817, -25.9450,   30,    600.5,   5.5239,  34.9190,1,  34.9298,2
     06AZ161_2, AR07E,    34,  1,      9,      9,2,19960828,1301, 54.3817, -25.9450,   30,    899.7,   4.4117,  34.9421,1,  34.9551,2
     06AZ161_2, AR07E,    34,  1,      8,      8,2,19960828,1301, 54.3817, -25.9450,   30,   1204.1,   3.7850,  34.9011,1,  34.9137,2
     06AZ161_2, AR07E,    34,  1,      7,      7,2,19960828,1301, 54.3817, -25.9450,   30,   1499.7,   3.4253,  34.8766,1,  34.8888,2
     06AZ161_2, AR07E,    34,  1,      6,      6,2,19960828,1301, 54.3817, -25.9450,   30,   1800.1,   3.2954,  34.8812,1,  34.8942,2
     06AZ161_2, AR07E,    34,  1,      5,      5,2,19960828,1301, 54.3817, -25.9450,   30,   2100.7,   3.2527,  34.8974,1,  34.9089,2
     06AZ161_2, AR07E,    34,  1,      4,      4,2,19960828,1301, 54.3817, -25.9450,   30,   2401.0,   3.1658,  34.9313,1,  34.9424,2
     06AZ161_2, AR07E,    34,  1,      3,      3,2,19960828,1301, 54.3817, -25.9450,   30,   2700.2,   2.9765,  34.9442,1,  34.9549,2
     06AZ161_2, AR07E,    34,  1,      2,      2,2,19960828,1301, 54.3817, -25.9450,   30,   3000.4,   2.7854,  34.9379,1,  34.9483,2
     06AZ161_2, AR07E,    34,  1,      1,      1,2,19960828,1301, 54.3817, -25.9450,   30,   3233.7,   2.7189,  34.9290,1,  34.9396,2
     06AZ161_2, AR07E,    35,  1,     12,     12,2,19960828,1646, 54.1417, -25.7700,   23,     25.0,  13.6870,  35.0322,1,  35.0381,3
     06AZ161_2, AR07E,    35,  1,     11,     11,2,19960828,1646, 54.1417, -25.7700,   23,    301.4,   9.0073,  35.1287,1,  35.1401,2
     06AZ161_2, AR07E,    35,  1,     10,     10,2,19960828,1646, 54.1417, -25.7700,   23,    598.5,   5.8046,  34.9447,1,  34.9560,2
     06AZ161_2, AR07E,    35,  1,      9,      9,2,19960828,1646, 54.1417, -25.7700,   23,    899.2,   4.2300,  34.9120,1,  34.9235,2
     06AZ161_2, AR07E,    35,  1,      8,      8,2,19960828,1646, 54.1417, -25.7700,   23,   1200.2,   3.7415,  34.8980,1,  34.9094,2
     06AZ161_2, AR07E,    35,  1,      7,      7,2,19960828,1646, 54.1417, -25.7700,   23,   1500.1,   3.4154,  34.8759,1,  34.8873,2
     06AZ161_2, AR07E,    35,  1,      6,      6,2,19960828,1646, 54.1417, -25.7700,   23,   1799.7,   3.2578,  34.8734,1,  34.8849,2
     06AZ161_2, AR07E,    35,  1,      5,      5,2,19960828,1646, 54.1417, -25.7700,   23,   2099.1,   3.2231,  34.8921,1,  34.9029,2
     06AZ161_2, AR07E,    35,  1,      4,      4,2,19960828,1646, 54.1417, -25.7700,   23,   2399.7,   3.1998,  34.9262,1,  34.9371,2
     06AZ161_2, AR07E,    35,  1,      3,      3,2,19960828,1646, 54.1417, -25.7700,   23,   2700.3,   3.0657,  34.9400,1,  34.9506,2
     06AZ161_2, AR07E,    35,  1,      2,      2,2,19960828,1646, 54.1417, -25.7700,   23,   3000.1,   2.8534,  34.9387,1,  34.9485,2
     06AZ161_2, AR07E,    35,  1,      1,      1,2,19960828,1646, 54.1417, -25.7700,   23,   3177.1,   2.7682,  34.9318,1,  34.9417,2
     06AZ161_2, AR07E,    36,  1,     11,     11,2,19960828,2026, 53.9183, -25.6367,   30,    305.2,   9.2942,  35.1873,1,  35.1976,2
     06AZ161_2, AR07E,    36,  1,     10,     10,2,19960828,2026, 53.9183, -25.6367,   30,    599.3,   5.8622,  34.9456,1,  34.9577,2
     06AZ161_2, AR07E,    36,  1,      9,      9,2,19960828,2026, 53.9183, -25.6367,   30,    899.2,   4.5004,  34.9495,1,  34.9607,2
     06AZ161_2, AR07E,    36,  1,      8,      8,2,19960828,2026, 53.9183, -25.6367,   30,   1199.7,   3.7661,  34.9002,1,  34.9113,2
     06AZ161_2, AR07E,    36,  1,      7,      7,2,19960828,2026, 53.9183, -25.6367,   30,   1499.2,   3.4579,  34.8784,1,  34.8895,2
     06AZ161_2, AR07E,    36,  1,      6,      6,2,19960828,2026, 53.9183, -25.6367,   30,   1800.1,   3.2617,  34.8711,1,  34.8820,2
     06AZ161_2, AR07E,    36,  1,      5,      5,2,19960828,2026, 53.9183, -25.6367,   30,   2098.0,   3.2217,  34.8888,1,  34.8981,2
     06AZ161_2, AR07E,    36,  1,      4,      4,2,19960828,2026, 53.9183, -25.6367,   30,   2399.7,   3.2395,  34.9225,1,  34.9329,2
     06AZ161_2, AR07E,    36,  1,      3,      3,2,19960828,2026, 53.9183, -25.6367,   30,   2799.8,   3.0470,  34.9406,1,  34.9510,2
     06AZ161_2, AR07E,    36,  1,      2,      2,2,19960828,2026, 53.9183, -25.6367,   30,   3199.6,   2.8632,  34.9398,1,  34.9490,2
     06AZ161_2, AR07E,    36,  1,      1,      1,2,19960828,2026, 53.9183, -25.6367,   30,   3639.9,   2.6533,  34.9174,1,  34.9270,2
     06AZ161_2, AR07E,    37,  1,     12,     12,2,19960829,0036, 53.6750, -25.4267,   30,     25.1,  13.6129,  35.2565,1,  35.2664,2
     06AZ161_2, AR07E,    37,  1,     11,     11,2,19960829,0036, 53.6750, -25.4267,   30,    200.8,   9.9518,  35.2676,1,  35.2794,2
     06AZ161_2, AR07E,    37,  1,     10,     10,2,19960829,0036, 53.6750, -25.4267,   30,    499.8,   7.2682,  34.9882,1,  34.9997,2
     06AZ161_2, AR07E,    37,  1,      9,      9,2,19960829,0036, 53.6750, -25.4267,   30,    800.1,   5.2626,  34.9785,1,  34.9886,2
     06AZ161_2, AR07E,    37,  1,      8,      8,2,19960829,0036, 53.6750, -25.4267,   30,   1101.8,   4.0825,  34.9231,1,  34.9350,2
     06AZ161_2, AR07E,    37,  1,      7,      7,2,19960829,0036, 53.6750, -25.4267,   30,   1400.5,   3.6679,  34.8954,1,  34.9067,2
     06AZ161_2, AR07E,    37,  1,      6,      6,2,19960829,0036, 53.6750, -25.4267,   30,   1700.8,   3.3533,  34.8721,1,  34.8837,2
     06AZ161_2, AR07E,    37,  1,      5,      5,2,19960829,0036, 53.6750, -25.4267,   30,   2000.9,   3.2250,  34.8743,1,  34.8849,2
     06AZ161_2, AR07E,    37,  1,      4,      4,2,19960829,0036, 53.6750, -25.4267,   30,   2400.9,   3.2450,  34.9196,1,  34.9296,2
     06AZ161_2, AR07E,    37,  1,      2,      2,2,19960829,0036, 53.6750, -25.4267,   30,   3202.7,   2.8454,  34.9390,1,  34.9489,2
     06AZ161_2, AR07E,    37,  1,      1,      1,2,19960829,0036, 53.6750, -25.4267,   30,   3617.7,   2.6788,  34.9209,1,  34.9307,2
     06AZ161_2, AR07E,    38,  1,     12,     12,2,19960829,0548, 53.4767, -24.6767,   24,     25.0,  13.5936,  35.2780,1,  35.2896,2
     06AZ161_2, AR07E,    38,  1,     11,     11,2,19960829,0548, 53.4767, -24.6767,   24,    200.4,  10.2067,  35.3064,1,  35.3178,2
     06AZ161_2, AR07E,    38,  1,     10,     10,2,19960829,0548, 53.4767, -24.6767,   24,    499.1,   7.3220,  34.9832,1,  34.9978,3
     06AZ161_2, AR07E,    38,  1,      9,      9,2,19960829,0548, 53.4767, -24.6767,   24,    798.3,   5.1466,  34.9705,1,  34.9820,2
     06AZ161_2, AR07E,    38,  1,      8,      8,2,19960829,0548, 53.4767, -24.6767,   24,   1098.6,   4.0825,  34.9245,1,  34.9368,2
     06AZ161_2, AR07E,    38,  1,      7,      7,2,19960829,0548, 53.4767, -24.6767,   24,   1398.0,   3.5789,  34.8863,1,  34.8982,2
     06AZ161_2, AR07E,    38,  1,      6,      6,2,19960829,0548, 53.4767, -24.6767,   24,   1699.9,   3.3520,  34.8729,1,  34.8847,2
     06AZ161_2, AR07E,    38,  1,      5,      5,2,19960829,0548, 53.4767, -24.6767,   24,   2000.8,   3.2469,  34.8791,1,  34.8904,2
     06AZ161_2, AR07E,    38,  1,      4,      4,2,19960829,0548, 53.4767, -24.6767,   24,   2400.7,   3.2235,  34.9239,1,  34.9347,2
     06AZ161_2, AR07E,    38,  1,      3,      3,2,19960829,0548, 53.4767, -24.6767,   24,   2799.7,   3.0367,  34.9420,1,  34.9528,2
     06AZ161_2, AR07E,    38,  1,      2,      2,2,19960829,0548, 53.4767, -24.6767,   24,   3200.1,   2.8195,  34.9369,1,  34.9477,2
     06AZ161_2, AR07E,    38,  1,      1,      1,2,19960829,0548, 53.4767, -24.6767,   24,   3591.8,   2.6252,  34.9148,1,  34.9242,2
     06AZ161_2, AR07E,    39,  1,     12,     12,2,19960829,1116, 53.2700, -23.8933,   25,     25.0,  14.1308,  35.4002,1,  35.4107,2
     06AZ161_2, AR07E,    39,  1,     11,     11,2,19960829,1116, 53.2700, -23.8933,   25,    100.9,  11.8822,  35.5252,1,  35.5351,2
     06AZ161_2, AR07E,    39,  1,     10,     10,2,19960829,1116, 53.2700, -23.8933,   25,    399.9,   9.0972,  35.1618,1,  35.1724,2
     06AZ161_2, AR07E,    39,  1,      9,      9,2,19960829,1116, 53.2700, -23.8933,   25,    700.4,   5.7585,  34.9401,1,  34.9516,2
     06AZ161_2, AR07E,    39,  1,      8,      8,2,19960829,1116, 53.2700, -23.8933,   25,   1105.5,   4.1019,  34.9224,1,  34.9343,2
     06AZ161_2, AR07E,    39,  1,      7,      7,2,19960829,1116, 53.2700, -23.8933,   25,   1398.8,   3.6126,  34.8878,1,  34.8991,2
     06AZ161_2, AR07E,    39,  1,      6,      6,2,19960829,1116, 53.2700, -23.8933,   25,   1701.4,   3.3718,  34.8742,1,  34.8855,2
     06AZ161_2, AR07E,    39,  1,      5,      5,2,19960829,1116, 53.2700, -23.8933,   25,   2101.4,   3.2440,  34.8868,1,  34.8976,2
     06AZ161_2, AR07E,    39,  1,      4,      4,2,19960829,1116, 53.2700, -23.8933,   25,   2500.1,   3.1938,  34.9307,1,  34.9408,2
     06AZ161_2, AR07E,    39,  1,      3,      3,2,19960829,1116, 53.2700, -23.8933,   25,   2901.1,   2.9421,  34.9399,1,  34.9502,2
     06AZ161_2, AR07E,    39,  1,      2,      2,2,19960829,1116, 53.2700, -23.8933,   25,   3300.8,   2.7066,  34.9255,1,  34.9358,2
     06AZ161_2, AR07E,    39,  1,      1,      1,2,19960829,1116, 53.2700, -23.8933,   25,   3735.1,   2.5060,  34.9010,1,  34.9106,2
     06AZ161_2, AR07E,    40,  1,     12,     12,2,19960829,1631, 53.0800, -23.1267,   25,     23.6,  14.2264,  35.3399,1,  35.3494,2
     06AZ161_2, AR07E,    40,  1,     11,     11,2,19960829,1631, 53.0800, -23.1267,   25,    199.4,  10.0869,  35.3361,1,  35.3435,2
     06AZ161_2, AR07E,    40,  1,     10,     10,2,19960829,1631, 53.0800, -23.1267,   25,    500.3,   8.6086,  35.2067,1,  35.2161,2
     06AZ161_2, AR07E,    40,  1,      9,      9,2,19960829,1631, 53.0800, -23.1267,   25,    799.5,   6.1384,  35.0579,1,  35.0697,2
     06AZ161_2, AR07E,    40,  1,      8,      8,2,19960829,1631, 53.0800, -23.1267,   25,   1103.1,   4.4957,  34.9583,1,  34.9694,2
     06AZ161_2, AR07E,    40,  1,      7,      7,2,19960829,1631, 53.0800, -23.1267,   25,   1398.4,   3.7753,  34.8987,1,  34.9100,2
     06AZ161_2, AR07E,    40,  1,      6,      6,2,19960829,1631, 53.0800, -23.1267,   25,   1699.3,   3.4628,  34.8796,1,  34.8901,2
     06AZ161_2, AR07E,    40,  1,      5,      5,2,19960829,1631, 53.0800, -23.1267,   25,   2000.5,   3.3021,  34.8773,1,  34.8881,2
     06AZ161_2, AR07E,    40,  1,      4,      4,2,19960829,1631, 53.0800, -23.1267,   25,   2299.9,   3.3113,  34.9073,1,  34.9175,2
     06AZ161_2, AR07E,    40,  1,      3,      3,2,19960829,1631, 53.0800, -23.1267,   25,   2799.9,   3.0951,  34.9391,1,  34.9493,2
     06AZ161_2, AR07E,    40,  1,      2,      2,2,19960829,1631, 53.0800, -23.1267,   25,   3301.1,   2.7811,  34.9316,1,  34.9409,2
     06AZ161_2, AR07E,    40,  1,      1,      1,2,19960829,1631, 53.0800, -23.1267,   25,   3930.0,   2.5145,  34.8996,1,  34.9085,2