BOTTLE,20010418WHPSIOKJU
#code : jjward hyd_to_exchange.pl 
#original files copied from HTML directory: 20010418
#original HYD file: pr17_chy.txt   Wed Apr 18 15:15:18 2001
#original SUM file: pr17_csu.txt.tmp   Wed Apr 18 15:13:22 2001
#Station/cast SH4502/1, SH4503/1, SH4504/1, SH4505/1, SH4506/1, SH4507/1 were removed becacause they contained no navigational data.
EXPOCODE,SECT_ID,STNNBR,CASTNO,SAMPNO,BTLNBR,BTLNBR_FLAG_W,DATE,TIME,LATITUDE,LONGITUDE,DEPTH,CTDPRS,CTDTMP,CTDSAL,CTDSAL_FLAG_W,SALNTY,SALNTY_FLAG_W,OXYGEN,OXYGEN_FLAG_W,NITRAT,NITRAT_FLAG_W,NITRIT,NITRIT_FLAG_W,PHSPHT,PHSPHT_FLAG_W
,,,,,,,,,,,,DBAR,ITS-90,PSS-78,,PSS-78,,UMOL/KG,,UMOL/KG,,UMOL/KG,,UMOL/KG,
    49SU9107_2,  PR17,SH4502,  2,      8,   -999,5,19910718,1157, 31.1635, 131.4887,  231,     10.7,  26.9430,  32.7141,3,-999.0000,9,    209.0,3,     0.00,3,     0.00,3,     0.03,3
    49SU9107_2,  PR17,SH4502,  2,      7,   -999,5,19910718,1157, 31.1635, 131.4887,  231,     25.0,  25.3150,  33.4418,3,-999.0000,9,    214.0,3,     0.00,3,     0.01,3,     0.04,3
    49SU9107_2,  PR17,SH4502,  2,      6,   -999,5,19910718,1157, 31.1635, 131.4887,  231,     50.6,  22.8150,  34.3580,3,-999.0000,9,    200.0,3,     1.00,3,     0.11,3,     0.15,3
    49SU9107_2,  PR17,SH4502,  2,      5,   -999,5,19910718,1157, 31.1635, 131.4887,  231,     77.4,  20.4990,  34.5657,3,-999.0000,9,    182.0,3,     3.80,3,     0.10,3,     0.34,3
    49SU9107_2,  PR17,SH4502,  2,      4,   -999,5,19910718,1157, 31.1635, 131.4887,  231,    102.6,  19.2340,  34.6288,3,-999.0000,9,    174.0,3,     5.50,3,     0.05,3,     0.45,3
    49SU9107_2,  PR17,SH4502,  2,      3,   -999,5,19910718,1157, 31.1635, 131.4887,  231,    127.2,  18.9450,  34.6175,3,-999.0000,9,    174.0,3,     5.90,3,     0.06,3,     0.48,3
    49SU9107_2,  PR17,SH4502,  2,      2,   -999,5,19910718,1157, 31.1635, 131.4887,  231,    151.9,  16.5580,  34.5970,3,-999.0000,9,    177.0,3,     7.80,3,     0.05,3,     0.61,3
    49SU9107_2,  PR17,SH4502,  2,      1,   -999,5,19910718,1157, 31.1635, 131.4887,  231,    198.6,  13.3470,  34.4921,3,-999.0000,9,    170.0,3,    12.90,3,     0.02,3,     0.95,3
    49SU9107_2,  PR17,SH4503,  2,      9,   -999,5,19910718,1408, 30.9967, 131.7167, 1388,    406.8,   9.8350,  34.3422,3,  34.3460,3,    142.0,3,    22.30,3,     0.01,3,     1.59,3
    49SU9107_2,  PR17,SH4503,  2,      8,   -999,5,19910718,1408, 30.9967, 131.7167, 1388,    507.2,   7.8430,  34.2905,3,  34.2934,3,    122.0,3,    28.20,3,     0.01,3,     1.98,3
    49SU9107_2,  PR17,SH4503,  2,      7,   -999,5,19910718,1408, 30.9967, 131.7167, 1388,    609.7,   6.1110,  34.2743,3,  34.2852,3,     97.0,3,    34.00,3,     0.01,3,     2.36,3
    49SU9107_2,  PR17,SH4503,  2,      6,   -999,5,19910718,1408, 30.9967, 131.7167, 1388,    709.4,   4.2980,  34.3174,3,  34.3204,3,     73.0,3,    39.70,3,     0.01,3,     2.74,3
    49SU9107_2,  PR17,SH4503,  2,      5,   -999,5,19910718,1408, 30.9967, 131.7167, 1388,    811.4,   3.8650,  34.3737,3,  34.3779,3,     70.0,3,    41.10,3,     0.01,3,     2.83,3
    49SU9107_2,  PR17,SH4503,  2,      4,   -999,5,19910718,1408, 30.9967, 131.7167, 1388,    909.8,   3.5260,  34.4091,3,  34.4151,3,     73.0,3,    41.40,3,     0.01,3,     2.84,3
    49SU9107_2,  PR17,SH4503,  2,      3,   -999,5,19910718,1408, 30.9967, 131.7167, 1388,   1011.2,   3.3270,  34.4309,3,  34.4352,3,     74.0,3,    41.60,3,     0.01,3,     2.84,3
    49SU9107_2,  PR17,SH4503,  2,      2,   -999,5,19910718,1408, 30.9967, 131.7167, 1388,   1211.3,   2.9240,  34.4767,3,  34.4816,3,     79.0,3,    41.80,3,     0.03,3,     2.83,3
    49SU9107_2,  PR17,SH4503,  2,      1,   -999,5,19910718,1408, 30.9967, 131.7167, 1388,   1283.0,   2.8570,  34.4856,3,  34.4911,3,     83.0,3,    41.70,3,     0.02,3,     2.83,3
    49SU9107_2,  PR17,SH4503,  3,     19,   -999,5,19910718,1456, 30.9967, 131.7167, -999,      9.5,  28.4890,  34.0409,3,  33.9819,3,    207.0,3,     0.00,3,     0.00,3,     0.03,3
    49SU9107_2,  PR17,SH4503,  3,     18,   -999,5,19910718,1456, 30.9967, 131.7167, -999,     23.7,  27.9410,  34.2489,3,  34.2408,3,    207.0,3,     0.10,3,     0.01,3,     0.05,3
    49SU9107_2,  PR17,SH4503,  3,     17,   -999,5,19910718,1456, 30.9967, 131.7167, -999,     49.6,  25.8870,  34.5346,3,  34.5355,3,    209.0,3,     0.10,3,     0.00,3,     0.07,3
    49SU9107_2,  PR17,SH4503,  3,     16,   -999,5,19910718,1456, 30.9967, 131.7167, -999,     74.3,  23.7050,  34.6516,3,  34.6484,3,    197.0,3,     1.20,3,     0.21,3,     0.17,3
    49SU9107_2,  PR17,SH4503,  3,     15,   -999,5,19910718,1456, 30.9967, 131.7167, -999,    100.6,  22.2530,  34.7569,3,  34.7582,3,    195.0,3,     1.60,3,     0.12,3,     0.18,3
    49SU9107_2,  PR17,SH4503,  3,     14,   -999,5,19910718,1456, 30.9967, 131.7167, -999,    125.4,  21.0810,  34.8105,3,  34.8105,3,    192.0,3,     2.10,3,     0.06,3,     0.21,3
    49SU9107_2,  PR17,SH4503,  3,     13,   -999,5,19910718,1456, 30.9967, 131.7167, -999,    150.6,  19.0130,  34.6625,3,  34.6649,3,    183.0,3,     5.30,3,     0.03,3,     0.44,3
    49SU9107_2,  PR17,SH4503,  3,     12,   -999,5,19910718,1456, 30.9967, 131.7167, -999,    201.8,  16.3740,  34.6934,3,  34.6924,3,    192.0,3,     6.60,3,     0.02,3,     0.52,3
    49SU9107_2,  PR17,SH4503,  3,     11,   -999,5,19910718,1456, 30.9967, 131.7167, -999,    250.7,  15.0070,  34.6101,3,  34.6110,3,    185.0,3,     9.30,3,     0.04,3,     0.68,3
    49SU9107_2,  PR17,SH4503,  3,     10,   -999,5,19910718,1456, 30.9967, 131.7167, -999,    296.4,  13.1990,  34.4894,3,  34.4985,3,    169.0,3,    13.30,3,     0.02,3,     0.97,3
    49SU9107_2,  PR17,SH4504,  2,     11,   -999,5,19910718,1922, 30.6132, 132.1537, 2469,    402.6,  14.0100,  34.5450,3,-999.0000,9,    183.0,3,     8.50,3,     0.01,3,     0.72,3
    49SU9107_2,  PR17,SH4504,  2,     10,   -999,5,19910718,1922, 30.6132, 132.1537, 2469,    502.6,  10.5580,  34.3377,3,-999.0000,9,    158.0,3,    16.00,3,     0.01,3,     1.32,3
    49SU9107_2,  PR17,SH4504,  2,      9,   -999,5,19910718,1922, 30.6132, 132.1537, 2469,    604.1,   8.6570,  34.2849,3,-999.0000,9,    133.0,3,    21.40,3,     0.01,3,     1.75,3
    49SU9107_2,  PR17,SH4504,  2,      8,   -999,5,19910718,1922, 30.6132, 132.1537, 2469,    706.3,   5.8230,  34.2184,3,-999.0000,9,     94.0,3,    30.00,3,     0.01,3,     2.40,3
    49SU9107_2,  PR17,SH4504,  2,      7,   -999,5,19910718,1922, 30.6132, 132.1537, 2469,    806.6,   4.4910,  34.3235,3,-999.0000,9,     71.0,3,    34.20,3,     0.01,3,     2.72,3
    49SU9107_2,  PR17,SH4504,  2,      6,   -999,5,19910718,1922, 30.6132, 132.1537, 2469,    907.6,   3.8130,  34.3859,3,-999.0000,9,     70.0,3,    35.30,3,     0.01,3,     2.78,3
    49SU9107_2,  PR17,SH4504,  2,      5,   -999,5,19910718,1922, 30.6132, 132.1537, 2469,   1008.7,   3.4340,  34.4263,3,-999.0000,9,     73.0,3,    35.90,3,     0.01,3,     2.82,3
    49SU9107_2,  PR17,SH4504,  2,      4,   -999,5,19910718,1922, 30.6132, 132.1537, 2469,   1210.6,   2.9360,  34.4788,3,-999.0000,9,     79.0,3,    36.00,3,     0.01,3,     2.81,3
    49SU9107_2,  PR17,SH4504,  2,      3,   -999,5,19910718,1922, 30.6132, 132.1537, 2469,   1515.5,   2.4160,  34.5413,3,-999.0000,9,     94.0,3,    35.40,3,     0.00,3,     2.73,3
    49SU9107_2,  PR17,SH4504,  2,      2,   -999,5,19910718,1922, 30.6132, 132.1537, 2469,   2023.0,   1.9790,  34.5958,3,-999.0000,9,    114.0,3,    34.60,3,     0.01,3,     2.64,3
    49SU9107_2,  PR17,SH4504,  2,      1,   -999,5,19910718,1922, 30.6132, 132.1537, 2469,   2424.0,   1.7690,  34.6252,3,-999.0000,9,    128.0,3,    33.80,3,     0.02,3,     2.61,3
    49SU9107_2,  PR17,SH4504,  3,     21,   -999,5,19910718,2018, 30.6132, 132.1537, -999,     10.2,  29.6580,  34.4185,3,-999.0000,9,    193.0,3,     0.00,3,     0.02,3,     0.03,3
    49SU9107_2,  PR17,SH4504,  3,     20,   -999,5,19910718,2018, 30.6132, 132.1537, -999,     25.1,  28.7160,  34.4625,3,-999.0000,9,    201.0,3,     0.00,3,     0.01,3,     0.02,3
    49SU9107_2,  PR17,SH4504,  3,     19,   -999,5,19910718,2018, 30.6132, 132.1537, -999,     50.8,  26.7900,  34.6172,3,-999.0000,9,    205.0,3,     0.00,3,     0.01,3,     0.02,3
    49SU9107_2,  PR17,SH4504,  3,     18,   -999,5,19910718,2018, 30.6132, 132.1537, -999,     74.7,  24.3750,  34.7744,3,-999.0000,9,    215.0,3,     0.00,3,     0.01,3,     0.02,3
    49SU9107_2,  PR17,SH4504,  3,     17,   -999,5,19910718,2018, 30.6132, 132.1537, -999,    100.2,  22.3650,  34.8190,3,-999.0000,9,    221.0,3,     0.00,3,     0.03,3,     0.03,3
    49SU9107_2,  PR17,SH4504,  3,     16,   -999,5,19910718,2018, 30.6132, 132.1537, -999,    124.8,  21.1570,  34.8608,3,-999.0000,9,    204.0,3,     0.60,3,     0.07,3,     0.09,3
    49SU9107_2,  PR17,SH4504,  3,     15,   -999,5,19910718,2018, 30.6132, 132.1537, -999,    151.0,  20.0550,  34.8607,3,-999.0000,9,    202.0,3,     1.00,3,     0.04,3,     0.13,3
    49SU9107_2,  PR17,SH4504,  3,     14,   -999,5,19910718,2018, 30.6132, 132.1537, -999,    201.6,  19.1440,  34.8438,3,-999.0000,9,    200.0,3,     1.60,3,     0.03,3,     0.18,3
    49SU9107_2,  PR17,SH4504,  3,     13,   -999,5,19910718,2018, 30.6132, 132.1537, -999,    251.7,  18.0060,  34.8006,3,-999.0000,9,    199.0,3,     2.50,3,     0.02,3,     0.26,3
    49SU9107_2,  PR17,SH4504,  3,     12,   -999,5,19910718,2018, 30.6132, 132.1537, -999,    300.8,  17.3320,  34.7624,3,-999.0000,9,    190.0,3,     3.20,3,     0.02,3,     0.32,3
    49SU9107_2,  PR17,SH4505,  2,     11,   -999,5,19910719,0029, 30.2853, 132.5575, 3898,    503.1,  12.3110,  34.4256,3,-999.0000,9,    173.0,3,    14.40,3,     0.02,3,     1.03,3
    49SU9107_2,  PR17,SH4505,  2,     10,   -999,5,19910719,0029, 30.2853, 132.5575, 3898,    604.9,   9.4880,  34.2630,3,-999.0000,9,    151.0,3,    21.80,3,     0.02,3,     1.57,3
    49SU9107_2,  PR17,SH4505,  2,      9,   -999,5,19910719,0029, 30.2853, 132.5575, 3898,    706.8,   6.9510,  34.2096,3,-999.0000,9,    115.0,3,    30.20,3,     0.01,3,     2.20,3
    49SU9107_2,  PR17,SH4505,  2,      8,   -999,5,19910719,0029, 30.2853, 132.5575, 3898,    807.8,   5.2680,  34.1867,3,-999.0000,9,     80.0,3,    36.70,3,     0.01,3,     2.67,3
    49SU9107_2,  PR17,SH4505,  2,      7,   -999,5,19910719,0029, 30.2853, 132.5575, 3898,   1010.3,   4.0280,  34.3465,3,-999.0000,9,     62.0,3,    40.40,3,     0.02,3,     2.94,3
    49SU9107_2,  PR17,SH4505,  2,      6,   -999,5,19910719,0029, 30.2853, 132.5575, 3898,   1198.5,   3.2480,  34.4569,3,-999.0000,9,     74.0,3,    40.50,3,     0.02,3,     2.92,3
    49SU9107_2,  PR17,SH4505,  2,      5,   -999,5,19910719,0029, 30.2853, 132.5575, 3898,   1517.5,   2.6500,  34.5183,3,-999.0000,9,     89.0,3,    40.30,3,     0.02,3,     2.89,3
    49SU9107_2,  PR17,SH4505,  2,      4,   -999,5,19910719,0029, 30.2853, 132.5575, 3898,   2022.5,   2.0900,  34.5856,3,-999.0000,9,    111.0,3,    39.30,3,     0.02,3,     2.78,3
    49SU9107_2,  PR17,SH4505,  2,      3,   -999,5,19910719,0029, 30.2853, 132.5575, 3898,   2531.5,   1.7560,  34.6309,3,-999.0000,9,    132.0,3,    38.10,3,     0.02,3,     2.67,3
    49SU9107_2,  PR17,SH4505,  2,      2,   -999,5,19910719,0029, 30.2853, 132.5575, 3898,   3042.7,   1.5730,  34.6565,3,-999.0000,9,    148.0,3,    37.20,3,     0.02,3,     2.63,3
    49SU9107_2,  PR17,SH4505,  2,      1,   -999,5,19910719,0029, 30.2853, 132.5575, 3898,   3573.1,   1.5430,  34.6648,3,-999.0000,9,    158.0,3,    37.20,3,     0.02,3,     2.57,3
    49SU9107_2,  PR17,SH4505,  3,     22,   -999,5,19910719,0138, 30.2853, 132.5575, -999,      9.8,  29.5400,  34.2861,3,-999.0000,9,    198.0,3,     0.00,3,     0.01,3,     0.03,3
    49SU9107_2,  PR17,SH4505,  3,     21,   -999,5,19910719,0138, 30.2853, 132.5575, -999,     23.5,  29.4350,  34.5255,3,-999.0000,9,    199.0,3,     0.00,3,     0.01,3,     0.04,3
    49SU9107_2,  PR17,SH4505,  3,     20,   -999,5,19910719,0138, 30.2853, 132.5575, -999,     50.5,  26.2060,  34.5923,3,-999.0000,9,    204.0,3,     0.00,3,     0.01,3,     0.04,3
    49SU9107_2,  PR17,SH4505,  3,     19,   -999,5,19910719,0138, 30.2853, 132.5575, -999,     75.4,  23.9210,  34.7729,3,-999.0000,9,    211.0,3,     0.00,3,     0.04,3,     0.04,3
    49SU9107_2,  PR17,SH4505,  3,     18,   -999,5,19910719,0138, 30.2853, 132.5575, -999,    101.1,  21.8610,  34.8343,3,-999.0000,9,    205.0,3,     0.80,3,     0.11,3,     0.10,3
    49SU9107_2,  PR17,SH4505,  3,     17,   -999,5,19910719,0138, 30.2853, 132.5575, -999,    125.5,  20.9660,  34.8401,3,-999.0000,9,    193.0,3,     1.80,3,     0.05,3,     0.18,3
    49SU9107_2,  PR17,SH4505,  3,     16,   -999,5,19910719,0138, 30.2853, 132.5575, -999,    151.5,  20.0770,  34.8685,3,-999.0000,9,    201.0,3,     1.40,3,     0.03,3,     0.13,3
    49SU9107_2,  PR17,SH4505,  3,     15,   -999,5,19910719,0138, 30.2853, 132.5575, -999,    202.4,  18.6330,  34.8388,3,-999.0000,9,    203.0,3,     2.10,3,     0.03,3,     0.17,3
    49SU9107_2,  PR17,SH4505,  3,     14,   -999,5,19910719,0138, 30.2853, 132.5575, -999,    252.9,  18.0230,  34.8087,3,-999.0000,9,    198.0,3,     3.00,3,     0.02,3,     0.22,3
    49SU9107_2,  PR17,SH4505,  3,     13,   -999,5,19910719,0138, 30.2853, 132.5575, -999,    302.3,  17.0950,  34.7566,3,-999.0000,9,    199.0,3,     4.60,3,     0.02,3,     0.32,3
    49SU9107_2,  PR17,SH4505,  3,     12,   -999,5,19910719,0138, 30.2853, 132.5575, -999,    412.3,  14.5710,  34.5749,3,-999.0000,9,    189.0,3,     9.60,3,     0.02,3,     0.68,3
    49SU9107_2,  PR17,SH4506,  2,     11,   -999,5,19910719,0550, 29.9548, 132.9527, 3747,    504.5,  13.0470,  34.4575,3,  34.4671,3,    183.0,3,    12.20,3,     0.01,3,     0.83,3
    49SU9107_2,  PR17,SH4506,  2,     10,   -999,5,19910719,0550, 29.9548, 132.9527, 3747,    605.1,  10.6490,  34.3155,3,  34.3201,3,    166.0,3,    18.20,3,     0.01,3,     1.25,3
    49SU9107_2,  PR17,SH4506,  2,      9,   -999,5,19910719,0550, 29.9548, 132.9527, 3747,    706.7,   8.2490,  34.2192,3,  34.2207,3,    138.0,3,    25.30,3,     0.00,3,     1.79,3
    49SU9107_2,  PR17,SH4506,  2,      8,   -999,5,19910719,0550, 29.9548, 132.9527, 3747,    798.8,   6.5380,  34.2105,3,  34.2109,3,    108.0,3,    31.20,3,     0.01,3,     2.22,3
    49SU9107_2,  PR17,SH4506,  2,      7,   -999,5,19910719,0550, 29.9548, 132.9527, 3747,   1007.9,   4.4040,  34.3289,3,  34.3291,3,     70.0,3,    38.10,3,     0.00,3,     2.70,3
    49SU9107_2,  PR17,SH4506,  2,      6,   -999,5,19910719,0550, 29.9548, 132.9527, 3747,   1210.9,   3.4530,  34.4185,3,  34.4183,3,     71.0,3,    39.40,3,     0.00,3,     2.78,3
    49SU9107_2,  PR17,SH4506,  2,      5,   -999,5,19910719,0550, 29.9548, 132.9527, 3747,   1515.2,   2.6910,  34.5027,3,  34.4993,3,     81.0,3,    39.60,3,     0.00,3,     2.80,3
    49SU9107_2,  PR17,SH4506,  2,      4,   -999,5,19910719,0550, 29.9548, 132.9527, 3747,   2023.3,   2.0690,  34.5856,3,  34.5886,3,    109.0,3,    38.30,3,     0.00,3,     2.67,3
    49SU9107_2,  PR17,SH4506,  2,      3,   -999,5,19910719,0550, 29.9548, 132.9527, 3747,   2529.1,   1.7360,  34.6324,3,  34.2396,3,    132.0,3,    36.90,3,     0.01,3,     2.57,3
    49SU9107_2,  PR17,SH4506,  2,      2,   -999,5,19910719,0550, 29.9548, 132.9527, 3747,   3041.1,   1.5790,  34.6558,3,  34.6566,3,    145.0,3,    36.00,3,     0.01,3,     2.49,3
    49SU9107_2,  PR17,SH4506,  2,      1,   -999,5,19910719,0550, 29.9548, 132.9527, 3747,   3758.1,   1.5580,  34.6690,3,  34.6692,3,    149.0,3,    35.70,3,     0.01,3,     2.46,3
    49SU9107_2,  PR17,SH4506,  3,     22,   -999,5,19910719,0711, 29.9548, 132.9527, -999,     10.2,  30.1930,  34.4707,3,  34.4746,3,    193.0,3,     0.00,3,     0.01,3,     0.02,3
    49SU9107_2,  PR17,SH4506,  3,     21,   -999,5,19910719,0711, 29.9548, 132.9527, -999,     24.5,  28.8950,  34.6095,3,  34.5658,3,    204.0,3,     0.00,3,     0.01,3,     0.01,3
    49SU9107_2,  PR17,SH4506,  3,     20,   -999,5,19910719,0711, 29.9548, 132.9527, -999,     47.8,  25.7310,  34.6423,3,  34.6396,3,    207.0,3,     0.00,3,     0.00,3,     0.03,3
    49SU9107_2,  PR17,SH4506,  3,     19,   -999,5,19910719,0711, 29.9548, 132.9527, -999,     74.0,  23.8390,  34.7822,3,  34.7385,3,    213.0,3,     0.00,3,     0.00,3,     0.03,3
    49SU9107_2,  PR17,SH4506,  3,     18,   -999,5,19910719,0711, 29.9548, 132.9527, -999,     99.3,  22.2610,  34.8393,3,  34.8172,3,    203.0,3,     0.90,3,     0.31,3,     0.08,3
    49SU9107_2,  PR17,SH4506,  3,     17,   -999,5,19910719,0711, 29.9548, 132.9527, -999,    125.4,  21.4420,  34.9118,3,  34.9137,3,    204.0,3,     0.30,3,     0.20,3,     0.05,3
    49SU9107_2,  PR17,SH4506,  3,     16,   -999,5,19910719,0711, 29.9548, 132.9527, -999,    150.6,  20.2470,  34.9110,3,  34.9066,3,    198.0,3,     1.30,3,     0.05,3,     0.11,3
    49SU9107_2,  PR17,SH4506,  3,     15,   -999,5,19910719,0711, 29.9548, 132.9527, -999,    201.4,  19.0940,  34.8883,3,  34.8881,3,    196.0,3,     2.60,3,     0.02,3,     0.21,3
    49SU9107_2,  PR17,SH4506,  3,     14,   -999,5,19910719,0711, 29.9548, 132.9527, -999,    252.0,  18.0030,  34.8226,3,  34.8298,3,    197.0,3,     3.40,3,     0.01,3,     0.24,3
    49SU9107_2,  PR17,SH4506,  3,     13,   -999,5,19910719,0711, 29.9548, 132.9527, -999,    302.0,  17.1140,  34.7604,3,  34.7621,3,    194.0,3,     4.60,3,     0.01,3,     0.30,3
    49SU9107_2,  PR17,SH4506,  3,     12,   -999,5,19910719,0711, 29.9548, 132.9527, -999,    406.1,  15.1390,  34.6229,3,  34.6232,3,    185.0,3,     8.60,3,     0.01,3,     0.56,3
    49SU9107_2,  PR17,SH4507,  2,     11,   -999,5,19910719,1220, 29.5068, 133.4892, 2689,    402.7,  16.6420,  34.7320,3,-999.0000,9,    198.0,3,     5.30,3,     0.00,3,     0.36,3
    49SU9107_2,  PR17,SH4507,  2,     10,   -999,5,19910719,1220, 29.5068, 133.4892, 2689,    504.1,  14.7530,  34.5913,3,-999.0000,9,    185.0,3,     9.00,3,     0.00,3,     0.62,3
    49SU9107_2,  PR17,SH4507,  2,      9,   -999,5,19910719,1220, 29.5068, 133.4892, 2689,    605.2,  11.7470,  34.3841,3,-999.0000,9,    171.0,3,    15.10,3,     0.00,3,     1.08,3
    49SU9107_2,  PR17,SH4507,  2,      8,   -999,5,19910719,1220, 29.5068, 133.4892, 2689,    705.6,   8.7910,  34.2224,3,-999.0000,9,    149.0,3,    22.40,3,     0.00,3,     1.62,3
    49SU9107_2,  PR17,SH4507,  2,      7,   -999,5,19910719,1220, 29.5068, 133.4892, 2689,    807.1,   6.8220,  34.1684,3,-999.0000,9,    120.0,3,    28.70,3,     0.00,3,     2.10,3
    49SU9107_2,  PR17,SH4507,  2,      6,   -999,5,19910719,1220, 29.5068, 133.4892, 2689,    908.2,   5.4210,  34.2241,3,-999.0000,9,     87.0,3,    34.40,3,     0.00,3,     2.52,3
    49SU9107_2,  PR17,SH4507,  2,      5,   -999,5,19910719,1220, 29.5068, 133.4892, 2689,   1008.8,   4.5410,  34.2887,3,-999.0000,9,     71.0,3,    37.10,3,     0.00,3,     2.71,3
    49SU9107_2,  PR17,SH4507,  2,      4,   -999,5,19910719,1220, 29.5068, 133.4892, 2689,   1211.8,   3.5390,  34.3960,3,-999.0000,9,     68.0,3,    38.90,3,     0.00,3,     2.82,3
    49SU9107_2,  PR17,SH4507,  2,      3,   -999,5,19910719,1220, 29.5068, 133.4892, 2689,   1516.3,   2.7870,  34.4878,3,-999.0000,9,   -999.0,9,    36.30,3,     0.00,3,     2.58,3
    49SU9107_2,  PR17,SH4507,  2,      2,   -999,5,19910719,1220, 29.5068, 133.4892, 2689,   2021.9,   2.0660,  34.5833,3,-999.0000,9,    110.0,3,    37.30,3,     0.00,3,     2.67,3
    49SU9107_2,  PR17,SH4507,  2,      1,   -999,5,19910719,1220, 29.5068, 133.4892, 2689,   2553.0,   1.7370,  34.6311,3,-999.0000,9,    134.0,3,    35.90,3,     0.00,3,     2.55,3