BOTTLE,20020809WHPSIObren
#code : jjward hyd_to_exchange.pl 
#original files copied from HTML directory: 20020809
#original HYD file: /whpo/11/HOTS/BOTTLE/hot69/hot69.sea   Fri Aug  9 09:51:36 2002
#original SUM file: /whpo/11/HOTS/BOTTLE/hot69/hot69.sum   Fri Aug  9 13:30:40 2002
EXPOCODE,SECT_ID,STNNBR,CASTNO,SAMPNO,BTLNBR,BTLNBR_FLAG_W,DATE,TIME,LATITUDE,LONGITUDE,DEPTH,CTDPRS,CTDTMP,CTDSAL,CTDSAL_FLAG_W,SALNTY,SALNTY_FLAG_W,CTDOXY,CTDOXY_FLAG_W,OXYGEN,OXYGEN_FLAG_W,SILCAT,SILCAT_FLAG_W,NO2+NO3,NO2+NO3_FLAG_W,PHSPHT,PHSPHT_FLAG_W,CTDRAW,REVTMP,REVPRS,THETA
,,,,,,,,,,,,DBAR,ITS-90,PSS-78,,PSS-78,,UMOL/KG,,UMOL/KG,,UMOL/KG,,UMOL/KG,,UMOL/KG,,,DEG C,DBAR,ITS-90
     32MW069_1,  PRS2,     1,  1,     23,     30,2,19960115,2300, 21.3518,-158.2748, 1700,      4.1,  26.0132,  34.8040,2,  34.8009,2,    205.3,2,    205.4,2,  -999.00,5,  -999.00,5,  -999.00,5,      5,-999.000,  -999.0, 26.0123
     32MW069_1,  PRS2,     1,  1,     22,     22,2,19960115,2300, 21.3518,-158.2748, 1700,      4.1,  26.0131,  34.8038,2,  34.8187,4,    205.3,3,    205.5,2,     1.08,2,     0.00,2,     0.11,2,      4,-999.000,  -999.0, 26.0122
     32MW069_1,  PRS2,     1,  1,     21,     21,2,19960115,2300, 21.3518,-158.2748, 1700,     23.4,  25.9075,  34.7978,2,  34.7968,2,    205.1,2,    205.4,2,     1.07,2,     0.01,2,     0.11,2,     24,-999.000,  -999.0, 25.9023
     32MW069_1,  PRS2,     1,  1,     20,     20,2,19960115,2300, 21.3518,-158.2748, 1700,     43.7,  25.8982,  34.7967,2,  34.7948,2,    205.7,2,    205.5,2,     1.06,2,     0.02,2,     0.11,2,     45,-999.000,  -999.0, 25.8885
     32MW069_1,  PRS2,     1,  1,     19,     19,2,19960115,2300, 21.3518,-158.2748, 1700,     58.5,  25.8971,  34.7965,2,  34.7949,2,    205.8,2,    205.5,2,     1.05,2,     0.02,2,     0.11,2,     59,-999.000,  -999.0, 25.8841
     32MW069_1,  PRS2,     1,  1,     18,     18,4,19960115,2300, 21.3518,-158.2748, 1700,     74.1,  25.8874,  34.7969,2,-999.0000,5,    206.1,2,   -999.0,5,  -999.00,5,  -999.00,5,  -999.00,5,     75,-999.000,  -999.0, 25.8709
     32MW069_1,  PRS2,     1,  1,     17,     17,2,19960115,2300, 21.3518,-158.2748, 1700,     93.9,  23.3881,  34.9005,2,  34.8905,2,    209.6,2,    210.5,2,     1.33,2,     0.04,2,     0.14,2,     94,-999.000,  -999.0, 23.3687
     32MW069_1,  PRS2,     1,  1,     16,     16,2,19960115,2300, 21.3518,-158.2748, 1700,    104.7,  22.9447,  34.9421,2,  34.9374,2,    209.6,2,    208.5,2,     1.41,2,     0.09,2,     0.15,2,    105,-999.000,  -999.0, 22.9234
     32MW069_1,  PRS2,     1,  1,     15,     15,2,19960115,2300, 21.3518,-158.2748, 1700,    113.1,  22.5814,  34.9674,2,  34.9654,2,    207.5,2,    206.4,2,     1.46,2,     0.26,2,     0.17,2,    114,-999.000,  -999.0, 22.5587
     32MW069_1,  PRS2,     1,  1,     14,     14,2,19960115,2300, 21.3518,-158.2748, 1700,    123.7,  21.8994,  35.0322,2,  35.0322,2,    200.9,2,    201.8,2,     1.58,2,     0.71,2,     0.19,2,    124,-999.000,  -999.0, 21.8750
     32MW069_1,  PRS2,     1,  1,     13,     13,2,19960115,2300, 21.3518,-158.2748, 1700,    139.4,  20.7619,  35.0702,2,  35.0708,2,    195.4,2,   -999.0,5,  -999.00,5,  -999.00,5,  -999.00,5,    140,-999.000,  -999.0, 20.7354
     32MW069_1,  PRS2,     1,  1,     12,     12,2,19960115,2300, 21.3518,-158.2748, 1700,    149.1,  20.5075,  35.0806,2,  35.0795,2,    195.1,2,    197.1,2,     2.02,2,     1.60,2,     0.22,2,    149,-999.000,  -999.0, 20.4794
     32MW069_1,  PRS2,     1,  1,     11,     11,2,19960115,2300, 21.3518,-158.2748, 1700,    174.1,  19.3205,  35.0339,2,  35.0282,2,    193.5,2,    192.0,2,     2.68,2,     2.78,2,     0.30,2,    175,-999.000,  -999.0, 19.2891
     32MW069_1,  PRS2,     1,  1,     10,     32,2,19960115,2300, 21.3518,-158.2748, 1700,    199.2,  17.6195,  34.8773,2,  34.8725,2,    200.8,2,    201.2,2,     3.57,2,     3.26,2,     0.32,2,    200,-999.000,  -999.0, 17.5858
     32MW069_1,  PRS2,     1,  1,      9,      3,2,19960115,2300, 21.3518,-158.2748, 1700,    224.6,  15.8532,  34.6676,2,  34.6740,2,    204.0,2,    202.2,2,     5.24,2,     5.17,2,     0.46,2,    226,-999.000,  -999.0, 15.8179
     32MW069_1,  PRS2,     1,  1,      8,     29,2,19960115,2300, 21.3518,-158.2748, 1700,    248.7,  14.2088,  34.4913,2,  34.4913,2,    202.9,2,    202.1,2,     7.41,2,     7.68,2,     0.62,2,    250,-999.000,  -999.0, 14.1726
     32MW069_1,  PRS2,     1,  1,      7,     28,2,19960115,2300, 21.3518,-158.2748, 1700,    298.8,  12.4483,  34.3313,2,  34.3370,2,    204.6,2,    206.9,2,    10.77,2,    10.67,2,     0.82,2,    300,-999.000,  -999.0, 12.4084
     32MW069_1,  PRS2,     1,  1,      6,      7,2,19960115,2300, 21.3518,-158.2748, 1700,    400.4,   9.6863,  34.1478,2,  34.1464,2,    166.5,2,    167.2,2,    23.23,2,    19.23,2,     1.43,2,    400,-999.000,  -999.0,  9.6408
     32MW069_1,  PRS2,     1,  1,      5,     38,2,19960115,2300, 21.3518,-158.2748, 1700,    459.1,   8.3380,  34.1155,2,  34.1134,2,    138.9,2,   -999.0,5,  -999.00,5,  -999.00,5,  -999.00,5,    459,-999.000,  -999.0,  8.2902
     32MW069_1,  PRS2,     1,  1,      4,     36,2,19960115,2300, 21.3518,-158.2748, 1700,    499.1,   7.7082,  34.1414,2,  34.1376,2,    114.3,2,    112.4,2,    44.03,2,    28.04,2,     2.07,2,    500,-999.000,  -999.0,  7.6585
     32MW069_1,  PRS2,     1,  1,      3,     35,2,19960115,2300, 21.3518,-158.2748, 1700,    750.1,   5.1378,  34.3533,2,  34.3499,2,     32.2,2,     32.3,2,    86.29,2,    39.79,2,     2.94,2,    750,-999.000,  -999.0,  5.0760
     32MW069_1,  PRS2,     1,  1,      2,     34,2,19960115,2300, 21.3518,-158.2748, 1700,    799.2,   4.7376,  34.3691,2,  34.3657,2,     29.5,2,     29.7,2,  -999.00,5,  -999.00,5,  -999.00,5,    800,-999.000,  -999.0,  4.6740
     32MW069_1,  PRS2,     1,  1,      1,     33,2,19960115,2300, 21.3518,-158.2748, 1700,   1021.6,   3.9937,  34.5032,2,  34.5023,2,     46.7,2,     47.2,2,   108.06,2,    41.34,2,     3.01,2,   1022,-999.000,  -999.0,  3.9163
     32MW069_1,  PRS2,     2,  1,     24,     31,2,19960116,1035, 22.7495,-157.9993, 4725,      4.5,  24.7575,  34.8548,2,  34.8680,2,    213.2,2,    209.6,2,     1.07,2,     0.00,2,     0.12,2,      5,-999.000,  -999.0, 24.7566
     32MW069_1,  PRS2,     2,  1,     23,     30,2,19960116,1035, 22.7495,-157.9993, 4725,    149.6,  20.5282,  35.1399,2,  35.1442,2,    204.6,2,    199.9,2,     1.64,2,     1.21,2,     0.21,2,    149,-999.000,  -999.0, 20.5000
     32MW069_1,  PRS2,     2,  1,     22,     22,2,19960116,1035, 22.7495,-157.9993, 4725,    494.5,   7.5128,  34.0693,2,  34.0681,2,    126.2,2,    124.9,2,    41.23,2,    27.46,2,     1.94,2,    494,-999.000,  -999.0,  7.4643
     32MW069_1,  PRS2,     2,  1,     21,     21,2,19960116,1035, 22.7495,-157.9993, 4725,    749.3,   4.9479,  34.3335,2,  34.3343,2,     28.5,2,     27.1,2,    90.04,2,    40.73,2,     2.94,2,    750,-999.000,  -999.0,  4.8873
     32MW069_1,  PRS2,     2,  1,     20,     20,2,19960116,1035, 22.7495,-157.9993, 4725,    999.2,   4.1661,  34.4921,2,  34.4910,2,     39.3,2,     38.2,2,   105.47,2,    41.80,2,     3.01,2,   1000,-999.000,  -999.0,  4.0892
     32MW069_1,  PRS2,     2,  1,     19,     19,2,19960116,1035, 22.7495,-157.9993, 4725,   1397.1,   3.1383,  34.5598,2,  34.5583,2,     59.3,2,     59.0,2,   126.67,2,    41.28,2,     2.95,2,   1397,-999.000,  -999.0,  3.0375
     32MW069_1,  PRS2,     2,  1,     18,     18,2,19960116,1035, 22.7495,-157.9993, 4725,   1600.9,   2.6903,  34.5832,2,  34.5813,2,     70.5,2,     70.8,2,   137.47,2,    40.71,2,     2.90,2,   1600,-999.000,  -999.0,  2.5777
     32MW069_1,  PRS2,     2,  1,     17,     17,2,19960116,1035, 22.7495,-157.9993, 4725,   1798.3,   2.4254,  34.6000,2,  34.5983,2,     78.4,2,     78.9,2,   148.37,3,    39.81,3,     2.83,3,   1798,-999.000,  -999.0,  2.2998
     32MW069_1,  PRS2,     2,  1,     16,     16,2,19960116,1035, 22.7495,-157.9993, 4725,   1998.9,   2.1882,  34.6173,2,  34.6146,2,     87.6,2,     87.6,2,   145.67,3,    40.08,2,     2.85,2,   1999,-999.000,  -999.0,  2.0490
     32MW069_1,  PRS2,     2,  1,     15,     15,2,19960116,1035, 22.7495,-157.9993, 4725,   2199.8,   1.9791,  34.6310,2,  34.6295,2,     94.9,2,     94.9,2,   153.25,2,    39.38,2,     2.79,2,   2200,-999.000,  -999.0,  1.8260
     32MW069_1,  PRS2,     2,  1,     14,     14,2,19960116,1035, 22.7495,-157.9993, 4725,   2399.4,   1.8343,  34.6425,2,  34.6418,2,    100.7,2,    101.6,2,   157.19,2,    38.93,2,     2.75,2,   2400,-999.000,  -999.0,  1.6662
     32MW069_1,  PRS2,     2,  1,     13,     13,2,19960116,1035, 22.7495,-157.9993, 4725,   2599.3,   1.7217,  34.6522,2,  34.6518,2,    107.1,2,    108.3,2,   158.18,2,    38.54,2,     2.73,2,   2600,-999.000,  -999.0,  1.5376
     32MW069_1,  PRS2,     2,  1,     12,     12,2,19960116,1035, 22.7495,-157.9993, 4725,   2798.5,   1.6281,  34.6624,2,  34.6612,2,    115.2,2,    117.4,2,  -999.00,5,  -999.00,5,  -999.00,5,   2798,-999.000,  -999.0,  1.4276
     32MW069_1,  PRS2,     2,  1,     11,     11,2,19960116,1035, 22.7495,-157.9993, 4725,   2999.8,   1.5667,  34.6685,2,  34.6662,2,    122.1,2,    122.9,2,   158.77,2,    37.58,2,     2.65,2,   2999,-999.000,  -999.0,  1.3485
     32MW069_1,  PRS2,     2,  1,     10,     32,2,19960116,1035, 22.7495,-157.9993, 4725,   3200.1,   1.5251,  34.6749,2,  34.6734,2,    128.5,2,    129.0,2,   158.27,2,    37.35,2,     2.62,2,   3200,-999.000,  -999.0,  1.2884
     32MW069_1,  PRS2,     2,  1,      9,      3,2,19960116,1035, 22.7495,-157.9993, 4725,   3399.0,   1.4998,  34.6785,2,  34.6776,2,    133.1,2,    134.3,2,   157.10,2,    36.95,2,     2.59,2,   3401,-999.000,  -999.0,  1.2439
     32MW069_1,  PRS2,     2,  1,      8,     29,2,19960116,1035, 22.7495,-157.9993, 4725,   3599.8,   1.4791,  34.6814,2,  34.6792,2,    138.8,2,    139.6,2,   154.72,2,    36.62,2,     2.57,2,   3598,-999.000,  -999.0,  1.2033
     32MW069_1,  PRS2,     2,  1,      7,     28,4,19960116,1035, 22.7495,-157.9993, 4725,   3800.5,   1.4683,  34.6842,2,-999.0000,5,    143.6,2,   -999.0,5,  -999.00,5,  -999.00,5,  -999.00,5,   3799,-999.000,  -999.0,  1.1718
     32MW069_1,  PRS2,     2,  1,      6,      7,2,19960116,1035, 22.7495,-157.9993, 4725,   3998.9,   1.4626,  34.6864,2,  34.6852,2,    147.2,2,    147.6,2,   151.79,2,    36.14,2,     2.53,2,   3998,-999.000,  -999.0,  1.1449
     32MW069_1,  PRS2,     2,  1,      5,     38,2,19960116,1035, 22.7495,-157.9993, 4725,   4197.6,   1.4663,  34.6880,2,  34.6872,2,    150.1,2,    150.3,2,   149.70,2,    36.03,2,     2.52,2,   4199,-999.000,  -999.0,  1.1266
     32MW069_1,  PRS2,     2,  1,      4,     36,2,19960116,1035, 22.7495,-157.9993, 4725,   4397.6,   1.4766,  34.6892,2,  34.6893,2,    152.3,2,    152.3,2,   148.10,2,    35.73,2,     2.49,2,   4398,-999.000,  -999.0,  1.1141
     32MW069_1,  PRS2,     2,  1,      3,     35,2,19960116,1035, 22.7495,-157.9993, 4725,   4500.3,   1.4858,  34.6893,2,  34.6871,2,    153.6,2,    152.6,2,   147.96,2,    35.64,2,     2.49,2,   4500,-999.000,  -999.0,  1.1112
     32MW069_1,  PRS2,     2,  1,      2,     34,2,19960116,1035, 22.7495,-157.9993, 4725,   4598.9,   1.4954,  34.6894,2,  34.6881,2,    153.8,2,    153.1,2,   147.59,2,    35.75,2,     2.49,2,   4597,-999.000,  -999.0,  1.1090
     32MW069_1,  PRS2,     2,  1,      1,     33,2,19960116,1035, 22.7495,-157.9993, 4725,   4810.3,   1.5089,  34.6904,2,  34.6906,2,    156.3,2,    154.8,2,   147.29,2,    35.94,2,     2.48,2,   4810,-999.000,  -999.0,  1.0972
     32MW069_1,  PRS2,     2,  2,     24,     31,2,19960116,1600, 22.7530,-157.9442, 4725,      5.0,  24.7580,  34.8645,2,  34.8636,2,    212.2,2,    208.9,2,     1.05,2,     0.00,2,     0.10,2,      6,-999.000,  -999.0, 24.7569
     32MW069_1,  PRS2,     2,  2,     23,     30,2,19960116,1600, 22.7530,-157.9442, 4725,     41.6,  24.5448,  34.8770,2,  34.8792,2,    212.8,2,    210.0,2,     1.04,2,    -0.00,2,     0.10,2,     41,-999.000,  -999.0, 24.5359
     32MW069_1,  PRS2,     2,  2,     22,     22,2,19960116,1600, 22.7530,-157.9442, 4725,     91.3,  22.9897,  35.1008,2,  35.1013,2,    217.0,2,    213.4,2,     1.36,2,     0.02,2,     0.09,2,     91,-999.000,  -999.0, 22.9711
     32MW069_1,  PRS2,     2,  2,     21,     21,2,19960116,1600, 22.7530,-157.9442, 4725,    114.8,  21.2958,  35.1131,2,  35.1121,2,    202.1,2,    202.0,2,     1.60,2,     0.76,2,     0.18,2,    115,-999.000,  -999.0, 21.2736
     32MW069_1,  PRS2,     2,  2,     20,     20,2,19960116,1600, 22.7530,-157.9442, 4725,    155.3,  20.1320,  35.1370,2,  35.1363,2,    203.0,2,    198.6,2,     1.95,2,     1.47,2,     0.20,2,    155,-999.000,  -999.0, 20.1032
     32MW069_1,  PRS2,     2,  2,     19,     19,2,19960116,1600, 22.7530,-157.9442, 4725,    174.3,  19.2340,  35.0679,2,  35.0756,2,    201.0,2,    199.4,2,     2.29,2,     1.91,2,     0.22,2,    175,-999.000,  -999.0, 19.2026
     32MW069_1,  PRS2,     2,  2,     18,     18,2,19960116,1600, 22.7530,-157.9442, 4725,    250.3,  15.6864,  34.6382,2,  34.6395,2,    207.8,2,    203.1,2,     5.13,2,     5.16,2,     0.43,2,    249,-999.000,  -999.0, 15.6474
     32MW069_1,  PRS2,     2,  2,     17,     17,2,19960116,1600, 22.7530,-157.9442, 4725,    319.6,  12.0593,  34.2550,2,  34.2563,2,    191.6,2,    193.8,2,    11.09,2,    11.85,2,     0.88,2,    319,-999.000,  -999.0, 12.0176
     32MW069_1,  PRS2,     2,  2,     16,     16,2,19960116,1600, 22.7530,-157.9442, 4725,    356.3,  10.4391,  34.1629,2,  34.1614,2,    202.3,2,    198.1,2,    16.48,2,    15.27,2,     1.10,2,    356,-999.000,  -999.0, 10.3967
     32MW069_1,  PRS2,     2,  2,     15,     15,2,19960116,1600, 22.7530,-157.9442, 4725,    408.7,   9.0257,  34.1399,2,  34.1390,2,    145.8,2,    139.9,2,    28.60,2,    23.06,3,     1.70,3,    409,-999.000,  -999.0,  8.9811
     32MW069_1,  PRS2,     2,  2,     14,     14,2,19960116,1600, 22.7530,-157.9442, 4725,    475.1,   7.4720,  34.0702,2,  34.0702,2,    122.8,2,    122.5,2,    41.82,2,    28.00,2,     2.02,2,    475,-999.000,  -999.0,  7.4256
     32MW069_1,  PRS2,     2,  2,     13,     13,2,19960116,1600, 22.7530,-157.9442, 4725,    499.8,   7.1112,  34.0720,2,  34.0715,2,    111.8,2,    109.2,2,    46.86,2,    29.79,2,     2.17,2,    499,-999.000,  -999.0,  7.0636
     32MW069_1,  PRS2,     2,  2,     12,     12,2,19960116,1600, 22.7530,-157.9442, 4725,    516.1,   6.7766,  34.0709,2,  34.0709,2,    100.1,2,     99.0,2,    51.05,2,    31.30,2,     2.28,2,    516,-999.000,  -999.0,  6.7287
     32MW069_1,  PRS2,     2,  2,     11,     11,2,19960116,1600, 22.7530,-157.9442, 4725,    565.4,   5.9314,  34.0956,2,  34.0946,2,     63.7,2,     64.2,2,    65.51,2,    35.95,2,     2.61,2,    564,-999.000,  -999.0,  5.8824
     32MW069_1,  PRS2,     2,  2,     10,     32,2,19960116,1600, 22.7530,-157.9442, 4725,    625.1,   5.4537,  34.1477,2,  34.1502,2,     44.7,2,     42.7,2,    76.14,2,    38.47,2,     2.81,2,    625,-999.000,  -999.0,  5.4015
     32MW069_1,  PRS2,     2,  2,      9,      3,2,19960116,1600, 22.7530,-157.9442, 4725,    685.8,   5.1555,  34.2556,2,  34.2584,2,     31.8,2,     30.7,2,    84.28,2,    40.26,2,     2.93,2,    686,-999.000,  -999.0,  5.0994
     32MW069_1,  PRS2,     2,  2,      8,     29,2,19960116,1600, 22.7530,-157.9442, 4725,    699.8,   5.0935,  34.2830,2,  34.2818,2,     29.7,2,     28.2,2,    86.82,2,    40.86,2,     2.98,2,    700,-999.000,  -999.0,  5.0365
     32MW069_1,  PRS2,     2,  2,      7,     28,2,19960116,1600, 22.7530,-157.9442, 4725,    724.8,   4.8008,  34.2854,2,  34.2846,2,     22.0,2,     22.6,2,    91.89,2,    41.57,2,     3.04,2,    725,-999.000,  -999.0,  4.7432
     32MW069_1,  PRS2,     2,  2,      6,      7,2,19960116,1600, 22.7530,-157.9442, 4725,    750.9,   4.8957,  34.3465,2,  34.3461,2,     28.3,2,     26.9,2,    91.44,2,    41.33,2,     3.02,2,    751,-999.000,  -999.0,  4.8353
     32MW069_1,  PRS2,     2,  2,      5,     38,2,19960116,1600, 22.7530,-157.9442, 4725,    800.0,   4.7663,  34.4083,2,  34.4087,2,     28.7,2,     28.3,2,    93.61,2,    41.61,2,     3.03,2,    800,-999.000,  -999.0,  4.7024
     32MW069_1,  PRS2,     2,  2,      4,     36,2,19960116,1600, 22.7530,-157.9442, 4725,    833.7,   4.7058,  34.4371,2,  34.4359,2,     31.0,2,     31.7,2,    94.81,2,    42.05,2,     3.05,2,    835,-999.000,  -999.0,  4.6393
     32MW069_1,  PRS2,     2,  2,      3,     35,2,19960116,1600, 22.7530,-157.9442, 4725,    900.3,   4.4774,  34.4612,2,  34.4603,2,     34.0,2,     33.6,2,    99.13,2,    42.08,2,     3.05,2,    900,-999.000,  -999.0,  4.4067
     32MW069_1,  PRS2,     2,  2,      2,     34,2,19960116,1600, 22.7530,-157.9442, 4725,    992.4,   4.1485,  34.4956,2,  34.4949,2,     38.3,2,     38.6,2,   104.93,2,    42.17,2,     3.05,2,    992,-999.000,  -999.0,  4.0723
     32MW069_1,  PRS2,     2,  2,      1,     33,2,19960116,1600, 22.7530,-157.9442, 4725,   1021.1,   4.0833,  34.4980,2,  34.4984,2,     39.6,2,     40.5,2,   107.05,2,    42.16,2,     3.05,2,   1022,-999.000,  -999.0,  4.0053