BOTTLE,20020809WHPSIObren
EXPOCODE,SECT_ID,STNNBR,CASTNO,SAMPNO,BTLNBR,BTLNBR_FLAG_W,DATE,TIME,LATITUDE,LONGITUDE,DEPTH,CTDPRS,CTDTMP,CTDSAL,CTDSAL_FLAG_W,SALNTY,SALNTY_FLAG_W,CTDOXY,CTDOXY_FLAG_W,OXYGEN,OXYGEN_FLAG_W,SILCAT,SILCAT_FLAG_W,NO2+NO3,NO2+NO3_FLAG_W,PHSPHT,PHSPHT_FLAG_W,CTDRAW,REVTMP,REVPRS,THETA
,,,,,,,,,,,,DBAR,ITS-90,PSS-78,,PSS-78,,UMOL/KG,,UMOL/KG,,UMOL/KG,,UMOL/KG,,UMOL/KG,,,DEG C,DBAR,ITS-90
     32MW069_1,  PRS2,     2,  7,     22,     22,2,19960117,0657, 22.7515,-158.0050, 4720,      4.5,  24.9003,  34.8500,2,  34.8474,2,    207.5,2,   -999.0,5,  -999.00,5,  -999.00,5,  -999.00,5,      5,-999.000,  -999.0, 24.8994
     32MW069_1,  PRS2,     2,  7,     21,     21,2,19960117,0657, 22.7515,-158.0050, 4720,      4.6,  24.9002,  34.8498,2,  34.8486,2,    207.5,2,    209.1,2,     1.12,2,     0.01,2,     0.09,2,      5,-999.000,  -999.0, 24.8992
     32MW069_1,  PRS2,     2,  7,     20,     20,2,19960117,0657, 22.7515,-158.0050, 4720,     14.5,  24.8392,  34.8534,2,  34.8529,2,    207.5,2,    209.1,2,     1.11,2,     0.01,2,     0.10,2,     15,-999.000,  -999.0, 24.8361
     32MW069_1,  PRS2,     2,  7,     19,     19,2,19960117,0657, 22.7515,-158.0050, 4720,     24.9,  24.7960,  34.8679,2,  34.8660,2,    207.7,2,   -999.0,5,  -999.00,5,  -999.00,5,  -999.00,5,     25,-999.000,  -999.0, 24.7907
     32MW069_1,  PRS2,     2,  7,     18,     18,2,19960117,0657, 22.7515,-158.0050, 4720,     24.9,  24.7962,  34.8679,2,  34.8678,2,    207.7,2,    209.2,2,     1.15,2,     0.03,2,     0.09,2,     26,-999.000,  -999.0, 24.7908
     32MW069_1,  PRS2,     2,  7,     17,     17,2,19960117,0657, 22.7515,-158.0050, 4720,     34.8,  24.6328,  34.8956,2,  34.9312,4,    208.2,3,    210.1,2,     1.26,2,     0.02,2,     0.09,2,     35,-999.000,  -999.0, 24.6254
     32MW069_1,  PRS2,     2,  7,     16,     16,2,19960117,0657, 22.7515,-158.0050, 4720,     44.8,  24.4641,  34.9267,2,  34.9266,2,    208.5,2,    210.9,2,     1.27,2,     0.01,2,     0.10,2,     45,-999.000,  -999.0, 24.4545
     32MW069_1,  PRS2,     2,  7,     15,     15,2,19960117,0657, 22.7515,-158.0050, 4720,     59.6,  24.5236,  35.0079,2,  35.0046,2,    209.1,2,    210.4,2,     1.35,2,     0.01,2,     0.07,2,     60,-999.000,  -999.0, 24.5109
     32MW069_1,  PRS2,     2,  7,     14,     14,2,19960117,0657, 22.7515,-158.0050, 4720,     74.6,  24.2329,  35.0016,2,  35.0034,2,    209.0,2,    211.6,2,     1.29,2,     0.00,2,     0.08,2,     75,-999.000,  -999.0, 24.2171
     32MW069_1,  PRS2,     2,  7,     13,     13,2,19960117,0657, 22.7515,-158.0050, 4720,     84.3,  23.9834,  35.0495,2,  35.0522,2,    209.5,2,    210.9,2,     1.67,2,     0.00,2,     0.07,2,     86,-999.000,  -999.0, 23.9657
     32MW069_1,  PRS2,     2,  7,     12,     12,2,19960117,0657, 22.7515,-158.0050, 4720,     94.4,  23.1973,  35.0888,2,  35.0886,2,    212.0,2,    214.9,2,     1.28,2,     0.00,2,     0.07,2,     95,-999.000,  -999.0, 23.1779
     32MW069_1,  PRS2,     2,  7,     11,     11,2,19960117,0657, 22.7515,-158.0050, 4720,    104.4,  22.6623,  35.0975,2,  35.0900,2,    209.8,2,    212.4,2,     1.22,2,     0.07,2,     0.10,2,    105,-999.000,  -999.0, 22.6412
     32MW069_1,  PRS2,     2,  7,     10,     32,2,19960117,0657, 22.7515,-158.0050, 4720,    114.4,  21.8030,  35.0644,2,  35.0661,2,    201.4,2,    206.9,2,     1.45,2,     0.36,2,     0.15,2,    114,-999.000,  -999.0, 21.7805
     32MW069_1,  PRS2,     2,  7,      9,      3,2,19960117,0657, 22.7515,-158.0050, 4720,    124.8,  21.4019,  35.1220,2,  35.1234,2,    195.2,2,    202.4,2,     1.32,2,     0.72,2,     0.16,2,    125,-999.000,  -999.0, 21.3777
     32MW069_1,  PRS2,     2,  7,      8,     29,2,19960117,0657, 22.7515,-158.0050, 4720,    134.9,  21.0452,  35.1251,2,  35.1258,2,    196.9,2,    204.0,2,     1.41,2,     0.91,2,     0.18,2,    135,-999.000,  -999.0, 21.0194
     32MW069_1,  PRS2,     2,  7,      7,     28,2,19960117,0657, 22.7515,-158.0050, 4720,    149.5,  20.3543,  35.1403,2,  35.1412,2,    198.6,2,    201.4,2,     1.95,2,     1.13,2,     0.17,2,    149,-999.000,  -999.0, 20.3263
     32MW069_1,  PRS2,     2,  7,      6,      7,2,19960117,0657, 22.7515,-158.0050, 4720,    160.0,  19.7864,  35.1170,2,  35.1252,2,    197.2,2,    199.9,2,     2.65,2,     1.48,2,     0.19,2,    160,-999.000,  -999.0, 19.7570
     32MW069_1,  PRS2,     2,  7,      5,     38,2,19960117,0657, 22.7515,-158.0050, 4720,    174.4,  19.1909,  35.0605,2,  35.0815,3,    198.3,3,    200.1,2,     2.71,2,     1.79,2,     0.21,2,    174,-999.000,  -999.0, 19.1596
     32MW069_1,  PRS2,     2,  7,      4,     36,2,19960117,0657, 22.7515,-158.0050, 4720,    184.4,  18.7197,  35.0116,2,  35.0259,2,    199.1,2,    206.6,3,     3.47,2,     2.11,2,     0.22,2,    185,-999.000,  -999.0, 18.6871
     32MW069_1,  PRS2,     2,  7,      3,     35,2,19960117,0657, 22.7515,-158.0050, 4720,    200.3,  17.8636,  34.9178,2,  34.9203,2,    203.1,2,    203.7,2,     3.58,2,     2.60,2,     0.25,2,    200,-999.000,  -999.0, 17.8294
     32MW069_1,  PRS2,     2,  7,      2,     34,2,19960117,0657, 22.7515,-158.0050, 4720,    464.4,   7.7509,  34.0720,2,  34.0722,2,    131.6,2,    133.3,2,  -999.00,5,  -999.00,5,  -999.00,5,    465,-999.000,  -999.0,  7.7046
     32MW069_1,  PRS2,     2,  7,      1,     33,2,19960117,0657, 22.7515,-158.0050, 4720,   1019.7,   4.1125,  34.4966,2,  34.4966,2,     38.0,2,     40.1,2,  -999.00,5,  -999.00,5,  -999.00,5,   1020,-999.000,  -999.0,  4.0343
     32MW069_1,  PRS2,     2,  8,      5,     38,2,19960117,0956, 22.7563,-158.0012, 4720,      4.9,  24.7883,  34.9540,2,  34.9577,2,    207.7,1,   -999.0,9,  -999.00,9,  -999.00,9,  -999.00,9,      5,-999.000,  -999.0, 24.7873
     32MW069_1,  PRS2,     2,  8,      4,     36,2,19960117,0956, 22.7563,-158.0012, 4720,    134.9,  20.5170,  35.1375,2,  35.1391,2,    199.7,1,   -999.0,9,  -999.00,9,  -999.00,9,  -999.00,9,    135,-999.000,  -999.0, 20.4916
     32MW069_1,  PRS2,     2,  8,      3,     35,2,19960117,0956, 22.7563,-158.0012, 4720,    402.3,   9.8285,  34.1352,2,  34.1348,2,    176.1,1,   -999.0,9,  -999.00,9,  -999.00,9,  -999.00,9,    401,-999.000,  -999.0,  9.7823
     32MW069_1,  PRS2,     2,  8,      2,     34,2,19960117,0956, 22.7563,-158.0012, 4720,    481.9,   8.2598,  34.1175,2,  34.1186,2,    124.6,1,   -999.0,9,  -999.00,9,  -999.00,9,  -999.00,9,    482,-999.000,  -999.0,  8.2098
     32MW069_1,  PRS2,     2,  8,      1,     33,2,19960117,0956, 22.7563,-158.0012, 4720,   1022.2,   4.0749,  34.4955,2,  34.4961,2,     38.0,1,   -999.0,9,  -999.00,9,  -999.00,9,  -999.00,9,   1021,-999.000,  -999.0,  3.9968
     32MW069_1,  PRS2,     2,  9,     24,     31,2,19960117,1302, 22.7445,-158.0268, 4715,      1.4,  24.6871,  35.0079,2,  35.0043,2,    207.9,1,   -999.0,9,  -999.00,9,  -999.00,9,  -999.00,9,      2,-999.000,  -999.0, 24.6868
     32MW069_1,  PRS2,     2,  9,     23,     30,2,19960117,1302, 22.7445,-158.0268, 4715,      4.5,  24.6842,  35.0079,2,  35.0051,2,    207.9,1,   -999.0,9,  -999.00,9,  -999.00,9,  -999.00,9,      5,-999.000,  -999.0, 24.6832
     32MW069_1,  PRS2,     2,  9,     22,     22,2,19960117,1302, 22.7445,-158.0268, 4715,      8.8,  24.6808,  35.0080,2,  35.0047,2,    207.9,1,   -999.0,9,  -999.00,9,  -999.00,9,  -999.00,9,      9,-999.000,  -999.0, 24.6789
     32MW069_1,  PRS2,     2,  9,     21,     21,2,19960117,1302, 22.7445,-158.0268, 4715,     13.9,  24.6858,  35.0074,2,  35.0054,2,    207.9,1,   -999.0,9,  -999.00,9,  -999.00,9,  -999.00,9,     15,-999.000,  -999.0, 24.6829
     32MW069_1,  PRS2,     2,  9,     20,     20,2,19960117,1302, 22.7445,-158.0268, 4715,     18.8,  24.6831,  35.0074,2,  35.0109,2,    208.0,1,   -999.0,9,  -999.00,9,  -999.00,9,  -999.00,9,     19,-999.000,  -999.0, 24.6791
     32MW069_1,  PRS2,     2,  9,     19,     19,2,19960117,1302, 22.7445,-158.0268, 4715,     24.1,  24.6798,  35.0056,2,  35.0036,2,    208.0,1,   -999.0,9,  -999.00,9,  -999.00,9,  -999.00,9,     24,-999.000,  -999.0, 24.6746
     32MW069_1,  PRS2,     2,  9,     18,     18,2,19960117,1302, 22.7445,-158.0268, 4715,     29.6,  24.6815,  35.0053,2,  35.0080,2,    208.0,1,   -999.0,9,  -999.00,9,  -999.00,9,  -999.00,9,     29,-999.000,  -999.0, 24.6752
     32MW069_1,  PRS2,     2,  9,     17,     17,2,19960117,1302, 22.7445,-158.0268, 4715,     35.1,  24.6754,  35.0089,2,  35.0066,2,    207.8,1,   -999.0,9,  -999.00,9,  -999.00,9,  -999.00,9,     36,-999.000,  -999.0, 24.6678
     32MW069_1,  PRS2,     2,  9,     16,     16,2,19960117,1302, 22.7445,-158.0268, 4715,     38.8,  24.6758,  35.0091,2,  35.0329,4,    207.8,1,   -999.0,9,  -999.00,9,  -999.00,9,  -999.00,9,     39,-999.000,  -999.0, 24.6675
     32MW069_1,  PRS2,     2,  9,     15,     15,2,19960117,1302, 22.7445,-158.0268, 4715,     44.8,  24.6471,  35.0125,2,  35.0115,2,    207.8,1,   -999.0,9,  -999.00,9,  -999.00,9,  -999.00,9,     45,-999.000,  -999.0, 24.6375
     32MW069_1,  PRS2,     2,  9,     14,     14,2,19960117,1302, 22.7445,-158.0268, 4715,     49.6,  24.6350,  35.0082,2,  35.0084,2,    207.8,1,   -999.0,9,  -999.00,9,  -999.00,9,  -999.00,9,     50,-999.000,  -999.0, 24.6244
     32MW069_1,  PRS2,     2,  9,     13,     13,2,19960117,1302, 22.7445,-158.0268, 4715,     53.6,  24.6195,  35.0053,2,  35.0049,2,    207.7,1,   -999.0,9,  -999.00,9,  -999.00,9,  -999.00,9,     54,-999.000,  -999.0, 24.6080
     32MW069_1,  PRS2,     2,  9,     12,     12,2,19960117,1302, 22.7445,-158.0268, 4715,     65.0,  24.5872,  35.0098,2,  35.0081,2,    207.2,1,   -999.0,9,  -999.00,9,  -999.00,9,  -999.00,9,     65,-999.000,  -999.0, 24.5733
     32MW069_1,  PRS2,     2,  9,     11,     11,2,19960117,1302, 22.7445,-158.0268, 4715,     74.9,  24.5874,  35.0165,2,  35.0166,2,    207.7,1,   -999.0,9,  -999.00,9,  -999.00,9,  -999.00,9,     75,-999.000,  -999.0, 24.5714
     32MW069_1,  PRS2,     2,  9,     10,     32,2,19960117,1302, 22.7445,-158.0268, 4715,     83.8,  24.4315,  35.0653,2,  35.0894,4,    209.7,1,   -999.0,9,  -999.00,9,  -999.00,9,  -999.00,9,     85,-999.000,  -999.0, 24.4136
     32MW069_1,  PRS2,     2,  9,      9,      3,2,19960117,1302, 22.7445,-158.0268, 4715,     93.1,  23.8744,  35.0795,2,  35.0801,2,    211.2,1,   -999.0,9,  -999.00,9,  -999.00,9,  -999.00,9,     93,-999.000,  -999.0, 23.8549
     32MW069_1,  PRS2,     2,  9,      8,     29,2,19960117,1302, 22.7445,-158.0268, 4715,    104.5,  23.1599,  35.0860,2,  35.0874,2,    210.0,1,   -999.0,9,  -999.00,9,  -999.00,9,  -999.00,9,    105,-999.000,  -999.0, 23.1384
     32MW069_1,  PRS2,     2,  9,      7,     28,2,19960117,1302, 22.7445,-158.0268, 4715,    114.2,  22.5034,  35.1027,2,  35.1046,2,    213.4,1,   -999.0,9,  -999.00,9,  -999.00,9,  -999.00,9,    115,-999.000,  -999.0, 22.4804
     32MW069_1,  PRS2,     2,  9,      6,      7,2,19960117,1302, 22.7445,-158.0268, 4715,    123.8,  22.1447,  35.0753,2,  35.0764,2,    208.5,1,   -999.0,9,  -999.00,9,  -999.00,9,  -999.00,9,    125,-999.000,  -999.0, 22.1201
     32MW069_1,  PRS2,     2,  9,      5,     38,2,19960117,1302, 22.7445,-158.0268, 4715,    150.6,  20.4326,  35.1415,2,  35.1416,2,    195.1,1,   -999.0,9,  -999.00,9,  -999.00,9,  -999.00,9,    151,-999.000,  -999.0, 20.4043
     32MW069_1,  PRS2,     2,  9,      4,     36,2,19960117,1302, 22.7445,-158.0268, 4715,    176.3,  19.3269,  35.0758,2,  35.0776,2,    196.0,1,   -999.0,9,  -999.00,9,  -999.00,9,  -999.00,9,    176,-999.000,  -999.0, 19.2951
     32MW069_1,  PRS2,     2,  9,      3,     35,2,19960117,1302, 22.7445,-158.0268, 4715,    252.7,  15.9563,  34.6694,2,  34.6733,2,    201.5,1,   -999.0,9,  -999.00,9,  -999.00,9,  -999.00,9,    252,-999.000,  -999.0, 15.9164
     32MW069_1,  PRS2,     2,  9,      2,     34,2,19960117,1302, 22.7445,-158.0268, 4715,    501.3,   7.3054,  34.0699,2,  34.0694,2,    114.8,1,   -999.0,9,  -999.00,9,  -999.00,9,  -999.00,9,    501,-999.000,  -999.0,  7.2570
     32MW069_1,  PRS2,     2,  9,      1,     33,2,19960117,1302, 22.7445,-158.0268, 4715,   1020.2,   4.1184,  34.4980,2,  34.4987,2,     37.7,1,   -999.0,9,  -999.00,9,  -999.00,9,  -999.00,9,   1020,-999.000,  -999.0,  4.0401
     32MW069_1,  PRS2,     2, 10,      4,     36,2,19960117,1558, 22.7598,-158.0135, 4720,      4.9,  24.6885,  35.0056,2,  35.0076,2,    207.0,1,   -999.0,9,  -999.00,9,  -999.00,9,  -999.00,9,      5,-999.000,  -999.0, 24.6874
     32MW069_1,  PRS2,     2, 10,      3,     35,2,19960117,1558, 22.7598,-158.0135, 4720,    151.0,  20.0158,  35.1255,2,  35.1294,2,    196.4,1,   -999.0,9,  -999.00,9,  -999.00,9,  -999.00,9,    151,-999.000,  -999.0, 19.9879
     32MW069_1,  PRS2,     2, 10,      2,     34,2,19960117,1558, 22.7598,-158.0135, 4720,    502.3,   7.3205,  34.0726,2,  34.0739,2,    113.9,1,   -999.0,9,  -999.00,9,  -999.00,9,  -999.00,9,    503,-999.000,  -999.0,  7.2719
     32MW069_1,  PRS2,     2, 10,      1,     33,2,19960117,1558, 22.7598,-158.0135, 4720,   1019.7,   4.0434,  34.4975,2,  34.4992,2,     39.2,1,   -999.0,9,  -999.00,9,  -999.00,9,  -999.00,9,   1021,-999.000,  -999.0,  3.9658
     32MW069_1,  PRS2,     2, 11,     14,     14,2,19960117,1858, 22.7610,-158.0183, 4720,      4.6,  24.6717,  35.0142,2,  35.0136,2,    205.7,1,   -999.0,9,  -999.00,9,  -999.00,9,  -999.00,9,      5,-999.000,  -999.0, 24.6707
     32MW069_1,  PRS2,     2, 11,     13,     13,2,19960117,1858, 22.7610,-158.0183, 4720,     25.3,  24.6709,  35.0147,2,  35.0155,2,    205.9,1,   -999.0,9,  -999.00,9,  -999.00,9,  -999.00,9,     26,-999.000,  -999.0, 24.6655
     32MW069_1,  PRS2,     2, 11,     12,     12,2,19960117,1858, 22.7610,-158.0183, 4720,     45.5,  24.6723,  35.0148,2,  35.0153,2,    205.9,1,   -999.0,9,  -999.00,9,  -999.00,9,  -999.00,9,     47,-999.000,  -999.0, 24.6626
     32MW069_1,  PRS2,     2, 11,     11,     11,2,19960117,1858, 22.7610,-158.0183, 4720,     75.1,  24.4256,  35.0651,2,  35.0665,2,    206.6,1,   -999.0,9,  -999.00,9,  -999.00,9,  -999.00,9,     75,-999.000,  -999.0, 24.4096
     32MW069_1,  PRS2,     2, 11,     10,     32,2,19960117,1858, 22.7610,-158.0183, 4720,     99.5,  22.6763,  35.0974,2,  35.0984,2,    210.3,1,   -999.0,9,  -999.00,9,  -999.00,9,  -999.00,9,    100,-999.000,  -999.0, 22.6562
     32MW069_1,  PRS2,     2, 11,      9,      3,2,19960117,1858, 22.7610,-158.0183, 4720,    105.3,  22.4720,  35.1062,2,  35.1070,2,    211.3,1,   -999.0,9,  -999.00,9,  -999.00,9,  -999.00,9,    106,-999.000,  -999.0, 22.4508
     32MW069_1,  PRS2,     2, 11,      8,     29,2,19960117,1858, 22.7610,-158.0183, 4720,    110.6,  21.8907,  35.1204,2,  35.1171,2,    210.7,1,   -999.0,9,  -999.00,9,  -999.00,9,  -999.00,9,    110,-999.000,  -999.0, 21.8689
     32MW069_1,  PRS2,     2, 11,      7,     28,2,19960117,1858, 22.7610,-158.0183, 4720,    123.7,  21.0793,  35.1093,2,  35.1082,2,    193.6,1,   -999.0,9,  -999.00,9,  -999.00,9,  -999.00,9,    125,-999.000,  -999.0, 21.0556
     32MW069_1,  PRS2,     2, 11,      6,      7,2,19960117,1858, 22.7610,-158.0183, 4720,    149.1,  20.1940,  35.1392,2,  35.1391,2,    193.9,1,   -999.0,9,  -999.00,9,  -999.00,9,  -999.00,9,    149,-999.000,  -999.0, 20.1663
     32MW069_1,  PRS2,     2, 11,      5,     38,2,19960117,1858, 22.7610,-158.0183, 4720,    177.5,  18.7377,  35.0117,2,  35.0151,2,    198.6,1,   -999.0,9,  -999.00,9,  -999.00,9,  -999.00,9,    178,-999.000,  -999.0, 18.7063
     32MW069_1,  PRS2,     2, 11,      4,     36,2,19960117,1858, 22.7610,-158.0183, 4720,    249.8,  14.9074,  34.5449,2,  34.5462,2,    198.0,1,   -999.0,9,  -999.00,9,  -999.00,9,  -999.00,9,    250,-999.000,  -999.0, 14.8698
     32MW069_1,  PRS2,     2, 11,      3,     35,2,19960117,1858, 22.7610,-158.0183, 4720,    500.5,   6.7336,  34.0813,2,  34.0826,2,     93.5,1,   -999.0,9,  -999.00,9,  -999.00,9,  -999.00,9,    500,-999.000,  -999.0,  6.6874
     32MW069_1,  PRS2,     2, 11,      2,     34,2,19960117,1858, 22.7610,-158.0183, 4720,    749.3,   4.7076,  34.3055,2,  34.3059,2,     21.9,1,   -999.0,9,  -999.00,9,  -999.00,9,  -999.00,9,    749,-999.000,  -999.0,  4.6485
     32MW069_1,  PRS2,     2, 11,      1,     33,2,19960117,1858, 22.7610,-158.0183, 4720,   1020.2,   4.1494,  34.4916,2,  34.4942,2,     37.2,1,   -999.0,9,  -999.00,9,  -999.00,9,  -999.00,9,   1022,-999.000,  -999.0,  4.0709
     32MW069_1,  PRS2,     2, 12,     12,     12,2,19960117,2157, 22.7472,-158.0772, 4740,      4.4,  24.7370,  35.0203,2,  35.0212,2,    204.9,1,   -999.0,9,  -999.00,9,  -999.00,9,  -999.00,9,      4,-999.000,  -999.0, 24.7360
     32MW069_1,  PRS2,     2, 12,     11,     11,2,19960117,2157, 22.7472,-158.0772, 4740,     10.1,  24.7226,  35.0197,2,  35.0211,2,    204.9,1,   -999.0,9,  -999.00,9,  -999.00,9,  -999.00,9,     11,-999.000,  -999.0, 24.7204
     32MW069_1,  PRS2,     2, 12,     10,     32,2,19960117,2157, 22.7472,-158.0772, 4740,     23.7,  24.7021,  35.0183,2,  35.0194,2,    204.8,1,   -999.0,9,  -999.00,9,  -999.00,9,  -999.00,9,     24,-999.000,  -999.0, 24.6970
     32MW069_1,  PRS2,     2, 12,      9,      3,2,19960117,2157, 22.7472,-158.0772, 4740,     50.4,  24.5676,  35.0185,2,  35.0223,2,    204.3,1,   -999.0,9,  -999.00,9,  -999.00,9,  -999.00,9,     50,-999.000,  -999.0, 24.5568
     32MW069_1,  PRS2,     2, 12,      8,     29,2,19960117,2157, 22.7472,-158.0772, 4740,     75.3,  23.0822,  35.0958,2,  35.0970,2,    209.9,1,   -999.0,9,  -999.00,9,  -999.00,9,  -999.00,9,     76,-999.000,  -999.0, 23.0668
     32MW069_1,  PRS2,     2, 12,      7,     28,2,19960117,2157, 22.7472,-158.0772, 4740,     99.3,  21.2264,  35.1138,2,  35.1141,2,    196.3,1,   -999.0,9,  -999.00,9,  -999.00,9,  -999.00,9,    100,-999.000,  -999.0, 21.2073
     32MW069_1,  PRS2,     2, 12,      6,      7,2,19960117,2157, 22.7472,-158.0772, 4740,    149.5,  19.8317,  35.1203,2,-999.0000,5,    194.9,1,   -999.0,9,  -999.00,9,  -999.00,9,  -999.00,9,    151,-999.000,  -999.0, 19.8042
     32MW069_1,  PRS2,     2, 12,      5,     38,3,19960117,2157, 22.7472,-158.0772, 4740,    199.9,  17.4386,  34.8579,2,  35.1172,4,    199.4,1,   -999.0,9,  -999.00,9,  -999.00,9,  -999.00,9,    199,-999.000,  -999.0, 17.4051
     32MW069_1,  PRS2,     2, 12,      4,     36,2,19960117,2157, 22.7472,-158.0772, 4740,    251.1,  14.9487,  34.5546,2,  34.5546,2,    200.2,1,   -999.0,9,  -999.00,9,  -999.00,9,  -999.00,9,    252,-999.000,  -999.0, 14.9108
     32MW069_1,  PRS2,     2, 12,      3,     35,2,19960117,2157, 22.7472,-158.0772, 4740,    299.5,  12.7446,  34.3173,2,  34.3169,2,    187.8,1,   -999.0,9,  -999.00,9,  -999.00,9,  -999.00,9,    300,-999.000,  -999.0, 12.7040
     32MW069_1,  PRS2,     2, 12,      2,     34,2,19960117,2157, 22.7472,-158.0772, 4740,    499.6,   6.8828,  34.0716,2,  34.0729,2,     97.2,1,   -999.0,9,  -999.00,9,  -999.00,9,  -999.00,9,    501,-999.000,  -999.0,  6.8362
     32MW069_1,  PRS2,     2, 12,      1,     33,2,19960117,2157, 22.7472,-158.0772, 4740,   1019.8,   4.2044,  34.4893,2,  34.4904,2,     36.2,1,   -999.0,9,  -999.00,9,  -999.00,9,  -999.00,9,   1022,-999.000,  -999.0,  4.1256