BOTTLE,20020809WHPSIObren
EXPOCODE,SECT_ID,STNNBR,CASTNO,SAMPNO,BTLNBR,BTLNBR_FLAG_W,DATE,TIME,LATITUDE,LONGITUDE,DEPTH,CTDPRS,CTDTMP,CTDSAL,CTDSAL_FLAG_W,SALNTY,SALNTY_FLAG_W,CTDOXY,CTDOXY_FLAG_W,OXYGEN,OXYGEN_FLAG_W,SILCAT,SILCAT_FLAG_W,NO2+NO3,NO2+NO3_FLAG_W,PHSPHT,PHSPHT_FLAG_W,CTDRAW,REVTMP,REVPRS,THETA
,,,,,,,,,,,,DBAR,ITS-90,PSS-78,,PSS-78,,UMOL/KG,,UMOL/KG,,UMOL/KG,,UMOL/KG,,UMOL/KG,,,DEG C,DBAR,ITS-90
     32MW069_1,  PRS2,     2, 13,     24,     31,2,19960118,0059, 22.7397,-158.0918, 4745,      2.4,  24.7808,  35.0206,2,  35.0184,2,    203.7,1,   -999.0,9,  -999.00,9,  -999.00,9,  -999.00,9,      3,-999.000,  -999.0, 24.7802
     32MW069_1,  PRS2,     2, 13,     23,     30,2,19960118,0059, 22.7397,-158.0918, 4745,      5.2,  24.7785,  35.0207,2,  35.0171,2,    203.8,1,   -999.0,9,  -999.00,9,  -999.00,9,  -999.00,9,      5,-999.000,  -999.0, 24.7773
     32MW069_1,  PRS2,     2, 13,     22,     22,2,19960118,0059, 22.7397,-158.0918, 4745,      9.0,  24.7780,  35.0203,2,  35.0172,2,    203.8,1,   -999.0,9,  -999.00,9,  -999.00,9,  -999.00,9,     10,-999.000,  -999.0, 24.7760
     32MW069_1,  PRS2,     2, 13,     21,     21,2,19960118,0059, 22.7397,-158.0918, 4745,     14.8,  24.7697,  35.0205,2,  35.0192,2,    203.8,1,   -999.0,9,  -999.00,9,  -999.00,9,  -999.00,9,     14,-999.000,  -999.0, 24.7665
     32MW069_1,  PRS2,     2, 13,     20,     20,2,19960118,0059, 22.7397,-158.0918, 4745,     19.3,  24.7391,  35.0218,2,  35.0199,2,    203.8,1,   -999.0,9,  -999.00,9,  -999.00,9,  -999.00,9,     19,-999.000,  -999.0, 24.7349
     32MW069_1,  PRS2,     2, 13,     19,     19,2,19960118,0059, 22.7397,-158.0918, 4745,     24.8,  24.7328,  35.0215,2,  35.0191,2,    203.8,1,   -999.0,9,  -999.00,9,  -999.00,9,  -999.00,9,     25,-999.000,  -999.0, 24.7275
     32MW069_1,  PRS2,     2, 13,     18,     18,2,19960118,0059, 22.7397,-158.0918, 4745,     29.2,  24.7312,  35.0213,2,  35.0200,2,    203.9,1,   -999.0,9,  -999.00,9,  -999.00,9,  -999.00,9,     31,-999.000,  -999.0, 24.7250
     32MW069_1,  PRS2,     2, 13,     17,     17,2,19960118,0059, 22.7397,-158.0918, 4745,     35.1,  24.7275,  35.0203,2,  35.0196,2,    203.9,1,   -999.0,9,  -999.00,9,  -999.00,9,  -999.00,9,     35,-999.000,  -999.0, 24.7200
     32MW069_1,  PRS2,     2, 13,     16,     16,2,19960118,0059, 22.7397,-158.0918, 4745,     39.7,  24.7275,  35.0202,2,  35.0184,2,    203.8,1,   -999.0,9,  -999.00,9,  -999.00,9,  -999.00,9,     40,-999.000,  -999.0, 24.7189
     32MW069_1,  PRS2,     2, 13,     15,     15,2,19960118,0059, 22.7397,-158.0918, 4745,     44.4,  24.7259,  35.0202,2,  35.0192,2,    203.8,1,   -999.0,9,  -999.00,9,  -999.00,9,  -999.00,9,     45,-999.000,  -999.0, 24.7164
     32MW069_1,  PRS2,     2, 13,     14,     14,2,19960118,0059, 22.7397,-158.0918, 4745,     49.7,  24.7238,  35.0196,2,  35.0295,2,    203.7,1,   -999.0,9,  -999.00,9,  -999.00,9,  -999.00,9,     50,-999.000,  -999.0, 24.7131
     32MW069_1,  PRS2,     2, 13,     13,     13,2,19960118,0059, 22.7397,-158.0918, 4745,     55.1,  24.7194,  35.0194,2,  35.0330,3,    203.8,1,   -999.0,9,  -999.00,9,  -999.00,9,  -999.00,9,     56,-999.000,  -999.0, 24.7076
     32MW069_1,  PRS2,     2, 13,     12,     12,2,19960118,0059, 22.7397,-158.0918, 4745,     66.1,  24.7147,  35.0197,2,  35.0207,2,    203.9,1,   -999.0,9,  -999.00,9,  -999.00,9,  -999.00,9,     67,-999.000,  -999.0, 24.7004
     32MW069_1,  PRS2,     2, 13,     11,     11,2,19960118,0059, 22.7397,-158.0918, 4745,     74.4,  24.6335,  35.0136,2,  35.0122,2,    204.1,1,   -999.0,9,  -999.00,9,  -999.00,9,  -999.00,9,     74,-999.000,  -999.0, 24.6175
     32MW069_1,  PRS2,     2, 13,     10,     32,2,19960118,0059, 22.7397,-158.0918, 4745,     85.5,  24.5818,  35.0384,2,  35.0389,2,    204.0,1,   -999.0,9,  -999.00,9,  -999.00,9,  -999.00,9,     86,-999.000,  -999.0, 24.5635
     32MW069_1,  PRS2,     2, 13,      9,      3,2,19960118,0059, 22.7397,-158.0918, 4745,     95.3,  23.5835,  35.0947,2,  35.0947,2,    209.1,1,   -999.0,9,  -999.00,9,  -999.00,9,  -999.00,9,     95,-999.000,  -999.0, 23.5637
     32MW069_1,  PRS2,     2, 13,      8,     29,2,19960118,0059, 22.7397,-158.0918, 4745,    104.2,  22.9169,  35.0959,2,  35.1088,3,    208.4,1,   -999.0,9,  -999.00,9,  -999.00,9,  -999.00,9,    105,-999.000,  -999.0, 22.8956
     32MW069_1,  PRS2,     2, 13,      7,     28,2,19960118,0059, 22.7397,-158.0918, 4745,    114.4,  21.9707,  35.1184,2,  35.1173,2,    207.3,1,   -999.0,9,  -999.00,9,  -999.00,9,  -999.00,9,    116,-999.000,  -999.0, 21.9481
     32MW069_1,  PRS2,     2, 13,      6,      7,2,19960118,0059, 22.7397,-158.0918, 4745,    124.3,  21.2472,  35.1083,2,  35.1084,2,    194.0,1,   -999.0,9,  -999.00,9,  -999.00,9,  -999.00,9,    126,-999.000,  -999.0, 21.2232
     32MW069_1,  PRS2,     2, 13,      5,     38,2,19960118,0059, 22.7397,-158.0918, 4745,    149.0,  20.6351,  35.1296,2,  35.1296,2,    192.8,1,   -999.0,9,  -999.00,9,  -999.00,9,  -999.00,9,    150,-999.000,  -999.0, 20.6069
     32MW069_1,  PRS2,     2, 13,      4,     36,2,19960118,0059, 22.7397,-158.0918, 4745,    175.9,  19.7501,  35.1118,2,  35.1180,2,    194.7,1,   -999.0,9,  -999.00,9,  -999.00,9,  -999.00,9,    176,-999.000,  -999.0, 19.7179
     32MW069_1,  PRS2,     2, 13,      3,     35,2,19960118,0059, 22.7397,-158.0918, 4745,    251.5,  16.6705,  34.7546,2,  34.7612,2,    198.2,1,   -999.0,9,  -999.00,9,  -999.00,9,  -999.00,9,    251,-999.000,  -999.0, 16.6295
     32MW069_1,  PRS2,     2, 13,      2,     34,2,19960118,0059, 22.7397,-158.0918, 4745,    503.4,   6.8768,  34.0709,2,  34.0729,2,     96.2,1,   -999.0,9,  -999.00,9,  -999.00,9,  -999.00,9,    503,-999.000,  -999.0,  6.8298
     32MW069_1,  PRS2,     2, 13,      1,     33,2,19960118,0059, 22.7397,-158.0918, 4745,   1018.3,   4.1646,  34.4857,2,  34.4865,2,     36.9,1,   -999.0,9,  -999.00,9,  -999.00,9,  -999.00,9,   1017,-999.000,  -999.0,  4.0862
     32MW069_1,  PRS2,     2, 14,     12,     12,2,19960118,0421, 22.7347,-158.0697, 4740,      4.7,  24.7273,  35.0151,2,  35.0178,2,    203.3,1,   -999.0,9,  -999.00,9,  -999.00,9,  -999.00,9,      5,-999.000,  -999.0, 24.7263
     32MW069_1,  PRS2,     2, 14,     10,     32,2,19960118,0421, 22.7347,-158.0697, 4740,    100.7,  22.2250,  35.1051,2,-999.0000,5,    206.6,1,   -999.0,9,  -999.00,9,  -999.00,9,  -999.00,9,    100,-999.000,  -999.0, 22.2049
     32MW069_1,  PRS2,     2, 14,      9,      3,2,19960118,0421, 22.7347,-158.0697, 4740,    100.7,  22.2304,  35.1050,2,-999.0000,5,    206.3,1,   -999.0,9,  -999.00,9,  -999.00,9,  -999.00,9,    101,-999.000,  -999.0, 22.2104
     32MW069_1,  PRS2,     2, 14,      7,     28,2,19960118,0421, 22.7347,-158.0697, 4740,    100.7,  22.2297,  35.1056,2,-999.0000,5,    205.6,1,   -999.0,9,  -999.00,9,  -999.00,9,  -999.00,9,    101,-999.000,  -999.0, 22.2096
     32MW069_1,  PRS2,     2, 14,     11,     11,2,19960118,0421, 22.7347,-158.0697, 4740,    100.9,  22.2347,  35.1057,2,-999.0000,5,    206.7,1,   -999.0,9,  -999.00,9,  -999.00,9,  -999.00,9,    100,-999.000,  -999.0, 22.2146
     32MW069_1,  PRS2,     2, 14,      8,     29,2,19960118,0421, 22.7347,-158.0697, 4740,    100.9,  22.2250,  35.1055,2,-999.0000,5,    206.0,1,   -999.0,9,  -999.00,9,  -999.00,9,  -999.00,9,    100,-999.000,  -999.0, 22.2048
     32MW069_1,  PRS2,     2, 14,      6,      7,2,19960118,0421, 22.7347,-158.0697, 4740,    150.6,  19.8096,  35.1183,2,  35.1218,2,    191.4,1,   -999.0,9,  -999.00,9,  -999.00,9,  -999.00,9,    149,-999.000,  -999.0, 19.7819
     32MW069_1,  PRS2,     2, 14,      5,     38,2,19960118,0421, 22.7347,-158.0697, 4740,    499.9,   6.9627,  34.0700,2,  34.0711,2,     99.9,1,   -999.0,9,  -999.00,9,  -999.00,9,  -999.00,9,    502,-999.000,  -999.0,  6.9157
     32MW069_1,  PRS2,     2, 14,      4,     36,2,19960118,0421, 22.7347,-158.0697, 4740,   1015.0,   4.1878,  34.4880,2,-999.0000,5,     36.2,1,   -999.0,9,  -999.00,9,  -999.00,9,  -999.00,9,   1016,-999.000,  -999.0,  4.1095
     32MW069_1,  PRS2,     2, 14,      3,     35,2,19960118,0421, 22.7347,-158.0697, 4740,   1015.4,   4.1879,  34.4879,2,-999.0000,5,     36.2,1,   -999.0,9,  -999.00,9,  -999.00,9,  -999.00,9,   1014,-999.000,  -999.0,  4.1095
     32MW069_1,  PRS2,     2, 14,      2,     34,2,19960118,0421, 22.7347,-158.0697, 4740,   1015.7,   4.1869,  34.4881,2,-999.0000,5,     36.4,1,   -999.0,9,  -999.00,9,  -999.00,9,  -999.00,9,   1016,-999.000,  -999.0,  4.1085
     32MW069_1,  PRS2,     2, 14,      1,     33,2,19960118,0421, 22.7347,-158.0697, 4740,   1016.4,   4.1833,  34.4875,2,  34.4883,2,     36.4,1,   -999.0,9,  -999.00,9,  -999.00,9,  -999.00,9,   1017,-999.000,  -999.0,  4.1049
     32MW069_1,  PRS2,     2, 15,     14,     14,2,19960118,0658, 22.7512,-158.0057, 4725,      5.3,  24.7155,  35.0180,2,  35.0184,2,    203.1,1,   -999.0,9,  -999.00,9,  -999.00,9,  -999.00,9,      5,-999.000,  -999.0, 24.7143
     32MW069_1,  PRS2,     2, 15,     13,     13,2,19960118,0658, 22.7512,-158.0057, 4725,     25.3,  24.7195,  35.0161,2,  35.0175,2,    203.1,1,   -999.0,9,  -999.00,9,  -999.00,9,  -999.00,9,     26,-999.000,  -999.0, 24.7141
     32MW069_1,  PRS2,     2, 15,     12,     12,2,19960118,0658, 22.7512,-158.0057, 4725,     44.2,  24.7105,  35.0178,2,  35.0227,2,    203.2,1,   -999.0,9,  -999.00,9,  -999.00,9,  -999.00,9,     43,-999.000,  -999.0, 24.7010
     32MW069_1,  PRS2,     2, 15,     11,     11,2,19960118,0658, 22.7512,-158.0057, 4725,     59.9,  24.6605,  35.0205,2,  35.0227,2,    202.9,1,   -999.0,9,  -999.00,9,  -999.00,9,  -999.00,9,     61,-999.000,  -999.0, 24.6477
     32MW069_1,  PRS2,     2, 15,     10,     32,2,19960118,0658, 22.7512,-158.0057, 4725,     73.6,  24.4271,  35.0543,2,  35.0507,2,    204.1,1,   -999.0,9,  -999.00,9,  -999.00,9,  -999.00,9,     74,-999.000,  -999.0, 24.4114
     32MW069_1,  PRS2,     2, 15,      9,      3,2,19960118,0658, 22.7512,-158.0057, 4725,     84.1,  23.9615,  35.0860,2,  35.0885,2,    207.8,1,   -999.0,9,  -999.00,9,  -999.00,9,  -999.00,9,     86,-999.000,  -999.0, 23.9438
     32MW069_1,  PRS2,     2, 15,      8,     29,2,19960118,0658, 22.7512,-158.0057, 4725,     99.8,  22.4044,  35.1055,2,  35.1064,2,    205.9,1,   -999.0,9,  -999.00,9,  -999.00,9,  -999.00,9,    100,-999.000,  -999.0, 22.3844
     32MW069_1,  PRS2,     2, 15,      7,     28,2,19960118,0658, 22.7512,-158.0057, 4725,    114.6,  21.0830,  35.1231,2,  35.1246,2,    200.1,1,   -999.0,9,  -999.00,9,  -999.00,9,  -999.00,9,    116,-999.000,  -999.0, 21.0610
     32MW069_1,  PRS2,     2, 15,      6,      7,2,19960118,0658, 22.7512,-158.0057, 4725,    123.8,  20.4907,  35.1091,2,  35.1036,2,    195.5,1,   -999.0,9,  -999.00,9,  -999.00,9,  -999.00,9,    123,-999.000,  -999.0, 20.4675
     32MW069_1,  PRS2,     2, 15,      5,     38,2,19960118,0658, 22.7512,-158.0057, 4725,    134.1,  20.3121,  35.1409,2,  35.1394,2,    191.8,1,   -999.0,9,  -999.00,9,  -999.00,9,  -999.00,9,    134,-999.000,  -999.0, 20.2870
     32MW069_1,  PRS2,     2, 15,      4,     36,2,19960118,0658, 22.7512,-158.0057, 4725,    148.1,  19.6464,  35.1024,2,  35.1030,2,    188.6,1,   -999.0,9,  -999.00,9,  -999.00,9,  -999.00,9,    147,-999.000,  -999.0, 19.6194
     32MW069_1,  PRS2,     2, 15,      3,     35,2,19960118,0658, 22.7512,-158.0057, 4725,    174.3,  18.5087,  34.9916,2,  34.9943,2,    194.5,1,   -999.0,9,  -999.00,9,  -999.00,9,  -999.00,9,    176,-999.000,  -999.0, 18.4782
     32MW069_1,  PRS2,     2, 15,      2,     34,2,19960118,0658, 22.7512,-158.0057, 4725,    499.5,   7.2193,  34.0696,2,  34.0694,2,    110.0,1,   -999.0,9,  -999.00,9,  -999.00,9,  -999.00,9,    501,-999.000,  -999.0,  7.1714
     32MW069_1,  PRS2,     2, 15,      1,     33,2,19960118,0658, 22.7512,-158.0057, 4725,   1018.9,   4.0345,  34.4877,2,  34.4902,2,     37.2,1,   -999.0,9,  -999.00,9,  -999.00,9,  -999.00,9,   1019,-999.000,  -999.0,  3.9570
     32MW069_1,  PRS2,     2, 16,      9,      3,2,19960118,1128, 22.7513,-158.0100, 4720,      5.3,  24.6740,  35.0031,2,  35.0051,2,    205.9,2,    213.0,2,  -999.00,9,  -999.00,9,  -999.00,9,      6,-999.000,  -999.0, 24.6728
     32MW069_1,  PRS2,     2, 16,      8,     29,2,19960118,1128, 22.7513,-158.0100, 4720,    150.2,  20.7797,  35.1403,2,  35.1404,2,    200.1,2,    203.3,2,  -999.00,9,  -999.00,9,  -999.00,9,    150,-999.000,  -999.0, 20.7511
     32MW069_1,  PRS2,     2, 16,      7,     28,2,19960118,1128, 22.7513,-158.0100, 4720,    496.4,   7.2985,  34.0721,2,  34.0725,2,    121.9,2,    116.6,2,  -999.00,9,  -999.00,9,  -999.00,9,    497,-999.000,  -999.0,  7.2505
     32MW069_1,  PRS2,     2, 16,      6,      7,2,19960118,1128, 22.7513,-158.0100, 4720,    745.6,   5.0592,  34.3762,2,  34.3752,2,     30.4,2,     28.9,2,  -999.00,9,  -999.00,9,  -999.00,9,    746,-999.000,  -999.0,  4.9982
     32MW069_1,  PRS2,     2, 16,      5,     38,2,19960118,1128, 22.7513,-158.0100, 4720,   1004.3,   4.2177,  34.4793,2,  34.4786,2,     39.1,2,     38.0,2,  -999.00,9,  -999.00,9,  -999.00,9,   1004,-999.000,  -999.0,  4.1401
     32MW069_1,  PRS2,     2, 16,      4,     36,2,19960118,1128, 22.7513,-158.0100, 4720,   1995.7,   2.1413,  34.6203,2,  34.6194,2,     92.4,2,     96.0,2,  -999.00,9,  -999.00,9,  -999.00,9,   1995,-999.000,  -999.0,  2.0031
     32MW069_1,  PRS2,     2, 16,      3,     35,2,19960118,1128, 22.7513,-158.0100, 4720,   2991.7,   1.5654,  34.6689,2,  34.6686,2,    125.8,2,    125.6,2,  -999.00,9,  -999.00,9,  -999.00,9,   2991,-999.000,  -999.0,  1.3480
     32MW069_1,  PRS2,     2, 16,      2,     34,2,19960118,1128, 22.7513,-158.0100, 4720,   4004.1,   1.4564,  34.6873,2,  34.6869,2,    151.7,2,    151.6,2,  -999.00,9,  -999.00,9,  -999.00,9,   4003,-999.000,  -999.0,  1.1383
     32MW069_1,  PRS2,     2, 16,      1,     33,2,19960118,1128, 22.7513,-158.0100, 4720,   4810.6,   1.5078,  34.6909,2,  34.6898,2,    158.6,2,    158.1,2,  -999.00,9,  -999.00,9,  -999.00,9,   4810,-999.000,  -999.0,  1.0961