BOTTLE,20020809WHPSIObren
EXPOCODE,SECT_ID,STNNBR,CASTNO,SAMPNO,BTLNBR,BTLNBR_FLAG_W,DATE,TIME,LATITUDE,LONGITUDE,DEPTH,CTDPRS,CTDTMP,CTDSAL,CTDSAL_FLAG_W,SALNTY,SALNTY_FLAG_W,CTDOXY,CTDOXY_FLAG_W,OXYGEN,OXYGEN_FLAG_W,SILCAT,SILCAT_FLAG_W,NO2+NO3,NO2+NO3_FLAG_W,PHSPHT,PHSPHT_FLAG_W,CTDRAW,REVTMP,REVPRS,THETA
,,,,,,,,,,,,DBAR,ITS-90,PSS-78,,PSS-78,,UMOL/KG,,UMOL/KG,,UMOL/KG,,UMOL/KG,,UMOL/KG,,,DEG C,DBAR,ITS-90
     32MW069_1,  PRS2,     2,  3,     18,     18,2,19960116,1859, 22.7427,-158.0000, 4725,      4.5,  24.7884,  34.8656,2,  34.8624,2,    211.1,1,   -999.0,9,  -999.00,9,  -999.00,9,  -999.00,9,      5,-999.000,  -999.0, 24.7874
     32MW069_1,  PRS2,     2,  3,     17,     17,2,19960116,1859, 22.7427,-158.0000, 4725,     24.0,  24.7832,  34.8648,2,  34.8641,2,    211.0,1,   -999.0,9,  -999.00,9,  -999.00,9,  -999.00,9,     24,-999.000,  -999.0, 24.7780
     32MW069_1,  PRS2,     2,  3,     16,     16,2,19960116,1859, 22.7427,-158.0000, 4725,     43.6,  24.5169,  34.8866,2,  34.8850,2,    211.6,1,   -999.0,9,  -999.00,9,  -999.00,9,  -999.00,9,     44,-999.000,  -999.0, 24.5076
     32MW069_1,  PRS2,     2,  3,     15,     15,2,19960116,1859, 22.7427,-158.0000, 4725,     74.8,  23.9588,  35.0532,2,  35.0517,2,    211.7,1,   -999.0,9,  -999.00,9,  -999.00,9,  -999.00,9,     76,-999.000,  -999.0, 23.9431
     32MW069_1,  PRS2,     2,  3,     14,     14,2,19960116,1859, 22.7427,-158.0000, 4725,     84.2,  23.2988,  35.0861,2,  35.0841,2,    212.4,1,   -999.0,9,  -999.00,9,  -999.00,9,  -999.00,9,     85,-999.000,  -999.0, 23.2814
     32MW069_1,  PRS2,     2,  3,     13,     13,2,19960116,1859, 22.7427,-158.0000, 4725,     89.1,  22.8588,  35.0962,2,  35.0944,2,    213.8,1,   -999.0,9,  -999.00,9,  -999.00,9,  -999.00,9,     89,-999.000,  -999.0, 22.8407
     32MW069_1,  PRS2,     2,  3,     12,     12,2,19960116,1859, 22.7427,-158.0000, 4725,     94.1,  22.0217,  35.1206,2,  35.1177,2,    212.3,1,   -999.0,9,  -999.00,9,  -999.00,9,  -999.00,9,     94,-999.000,  -999.0, 22.0031
     32MW069_1,  PRS2,     2,  3,     11,     11,2,19960116,1859, 22.7427,-158.0000, 4725,     99.2,  21.4349,  35.1033,2,  35.1029,2,    199.8,1,   -999.0,9,  -999.00,9,  -999.00,9,  -999.00,9,    101,-999.000,  -999.0, 21.4157
     32MW069_1,  PRS2,     2,  3,     10,     32,2,19960116,1859, 22.7427,-158.0000, 4725,    104.4,  21.2514,  35.1133,2,  35.1133,2,    198.9,1,   -999.0,9,  -999.00,9,  -999.00,9,  -999.00,9,    104,-999.000,  -999.0, 21.2312
     32MW069_1,  PRS2,     2,  3,      9,      3,2,19960116,1859, 22.7427,-158.0000, 4725,    125.5,  20.5929,  35.1397,2,  35.1396,2,    200.9,1,   -999.0,9,  -999.00,9,  -999.00,9,  -999.00,9,    126,-999.000,  -999.0, 20.5693
     32MW069_1,  PRS2,     2,  3,      8,     29,2,19960116,1859, 22.7427,-158.0000, 4725,    128.9,  20.4780,  35.1395,2,  35.1395,2,    201.6,1,   -999.0,9,  -999.00,9,  -999.00,9,  -999.00,9,    130,-999.000,  -999.0, 20.4538
     32MW069_1,  PRS2,     2,  3,      7,     28,2,19960116,1859, 22.7427,-158.0000, 4725,    150.0,  19.8628,  35.1229,2,  35.1216,2,    200.3,1,   -999.0,9,  -999.00,9,  -999.00,9,  -999.00,9,    150,-999.000,  -999.0, 19.8352
     32MW069_1,  PRS2,     2,  3,      6,      7,2,19960116,1859, 22.7427,-158.0000, 4725,    174.1,  18.6526,  35.0122,2,  35.0165,2,    204.8,1,   -999.0,9,  -999.00,9,  -999.00,9,  -999.00,9,    176,-999.000,  -999.0, 18.6220
     32MW069_1,  PRS2,     2,  3,      5,     38,2,19960116,1859, 22.7427,-158.0000, 4725,    249.8,  14.2548,  34.4810,2,  34.4957,2,    201.0,1,   -999.0,9,  -999.00,9,  -999.00,9,  -999.00,9,    250,-999.000,  -999.0, 14.2183
     32MW069_1,  PRS2,     2,  3,      4,     36,2,19960116,1859, 22.7427,-158.0000, 4725,    470.0,   7.4394,  34.0661,2,  34.0667,2,    123.0,1,   -999.0,9,  -999.00,9,  -999.00,9,  -999.00,9,    470,-999.000,  -999.0,  7.3936
     32MW069_1,  PRS2,     2,  3,      3,     35,2,19960116,1859, 22.7427,-158.0000, 4725,    499.9,   7.0173,  34.0723,2,  34.0738,2,    105.8,1,   -999.0,9,  -999.00,9,  -999.00,9,  -999.00,9,    500,-999.000,  -999.0,  6.9701
     32MW069_1,  PRS2,     2,  3,      2,     34,2,19960116,1859, 22.7427,-158.0000, 4725,    749.5,   4.7788,  34.3206,2,  34.3203,2,     24.5,1,   -999.0,9,  -999.00,9,  -999.00,9,  -999.00,9,    750,-999.000,  -999.0,  4.7192
     32MW069_1,  PRS2,     2,  3,      1,     33,2,19960116,1859, 22.7427,-158.0000, 4725,   1019.7,   4.1190,  34.4949,2,  34.4964,2,     38.9,1,   -999.0,9,  -999.00,9,  -999.00,9,  -999.00,9,   1020,-999.000,  -999.0,  4.0408
     32MW069_1,  PRS2,     2,  4,     17,     17,2,19960116,2158, 22.7197,-158.0073, 4725,      4.1,  24.9209,  34.8625,2,  34.8615,2,    210.8,1,   -999.0,9,  -999.00,9,  -999.00,9,  -999.00,9,      5,-999.000,  -999.0, 24.9200
     32MW069_1,  PRS2,     2,  4,     16,     16,2,19960116,2158, 22.7197,-158.0073, 4725,     24.2,  24.7351,  34.8664,2,  34.8631,2,    210.7,1,   -999.0,9,  -999.00,9,  -999.00,9,  -999.00,9,     24,-999.000,  -999.0, 24.7299
     32MW069_1,  PRS2,     2,  4,     15,     15,2,19960116,2158, 22.7197,-158.0073, 4725,     43.9,  24.7038,  34.9859,2,  34.9842,2,    211.4,1,   -999.0,9,  -999.00,9,  -999.00,9,  -999.00,9,     44,-999.000,  -999.0, 24.6943
     32MW069_1,  PRS2,     2,  4,     14,     14,2,19960116,2158, 22.7197,-158.0073, 4725,     74.3,  24.2366,  35.0709,2,  35.0713,2,    212.1,1,   -999.0,9,  -999.00,9,  -999.00,9,  -999.00,9,     75,-999.000,  -999.0, 24.2209
     32MW069_1,  PRS2,     2,  4,     13,     13,2,19960116,2158, 22.7197,-158.0073, 4725,     94.0,  22.4437,  35.1136,2,  35.1141,2,    215.0,1,   -999.0,9,  -999.00,9,  -999.00,9,  -999.00,9,     95,-999.000,  -999.0, 22.4248
     32MW069_1,  PRS2,     2,  4,     12,     12,2,19960116,2158, 22.7197,-158.0073, 4725,     98.4,  22.0543,  35.1221,2,  35.1219,2,    213.1,1,   -999.0,9,  -999.00,9,  -999.00,9,  -999.00,9,     98,-999.000,  -999.0, 22.0348
     32MW069_1,  PRS2,     2,  4,     11,     11,2,19960116,2158, 22.7197,-158.0073, 4725,    103.9,  21.8246,  35.1243,2,  35.1243,2,    214.0,1,   -999.0,9,  -999.00,9,  -999.00,9,  -999.00,9,    104,-999.000,  -999.0, 21.8041
     32MW069_1,  PRS2,     2,  4,     10,     32,2,19960116,2158, 22.7197,-158.0073, 4725,    109.6,  21.5374,  35.1097,2,  35.1087,2,    207.2,1,   -999.0,9,  -999.00,9,  -999.00,9,  -999.00,9,    110,-999.000,  -999.0, 21.5160
     32MW069_1,  PRS2,     2,  4,      9,      3,2,19960116,2158, 22.7197,-158.0073, 4725,    113.9,  21.0423,  35.1207,2,  35.1374,4,    199.0,1,   -999.0,9,  -999.00,9,  -999.00,9,  -999.00,9,    114,-999.000,  -999.0, 21.0205
     32MW069_1,  PRS2,     2,  4,      8,     29,2,19960116,2158, 22.7197,-158.0073, 4725,    124.3,  20.7485,  35.1342,2,  35.1339,2,    199.8,1,   -999.0,9,  -999.00,9,  -999.00,9,  -999.00,9,    124,-999.000,  -999.0, 20.7249
     32MW069_1,  PRS2,     2,  4,      7,     28,2,19960116,2158, 22.7197,-158.0073, 4725,    147.8,  20.1873,  35.1370,2,  35.1391,2,    201.1,1,   -999.0,9,  -999.00,9,  -999.00,9,  -999.00,9,    149,-999.000,  -999.0, 20.1598
     32MW069_1,  PRS2,     2,  4,      6,      7,2,19960116,2158, 22.7197,-158.0073, 4725,    174.6,  18.9576,  35.0404,2,  35.0403,2,    197.9,1,   -999.0,9,  -999.00,9,  -999.00,9,  -999.00,9,    175,-999.000,  -999.0, 18.9265
     32MW069_1,  PRS2,     2,  4,      5,     38,2,19960116,2158, 22.7197,-158.0073, 4725,    249.7,  15.1186,  34.5750,2,  34.5817,2,    203.5,1,   -999.0,9,  -999.00,9,  -999.00,9,  -999.00,9,    250,-999.000,  -999.0, 15.0807
     32MW069_1,  PRS2,     2,  4,      4,     36,2,19960116,2158, 22.7197,-158.0073, 4725,    475.6,   7.4789,  34.0629,2,  34.0623,2,    126.0,1,   -999.0,9,  -999.00,9,  -999.00,9,  -999.00,9,    476,-999.000,  -999.0,  7.4324
     32MW069_1,  PRS2,     2,  4,      3,     35,2,19960116,2158, 22.7197,-158.0073, 4725,    499.9,   7.1298,  34.0730,2,  34.0740,2,    107.8,1,   -999.0,9,  -999.00,9,  -999.00,9,  -999.00,9,    500,-999.000,  -999.0,  7.0821
     32MW069_1,  PRS2,     2,  4,      2,     34,2,19960116,2158, 22.7197,-158.0073, 4725,    750.2,   4.8043,  34.3325,2,  34.3324,2,     23.1,1,   -999.0,9,  -999.00,9,  -999.00,9,  -999.00,9,    751,-999.000,  -999.0,  4.7445
     32MW069_1,  PRS2,     2,  4,      1,     33,2,19960116,2158, 22.7197,-158.0073, 4725,   1020.7,   4.1537,  34.4960,2,  34.4969,2,     38.0,1,   -999.0,9,  -999.00,9,  -999.00,9,  -999.00,9,   1021,-999.000,  -999.0,  4.0751
     32MW069_1,  PRS2,     2,  5,     13,     13,2,19960117,0058, 22.7470,-158.0033, 4720,      4.6,  25.0557,  34.8530,2,  34.8643,2,    210.3,1,   -999.0,9,  -999.00,9,  -999.00,9,  -999.00,9,      5,-999.000,  -999.0, 25.0547
     32MW069_1,  PRS2,     2,  5,     12,     12,2,19960117,0058, 22.7470,-158.0033, 4720,     24.4,  24.8660,  34.8511,2,  34.8624,2,    209.4,1,   -999.0,9,  -999.00,9,  -999.00,9,  -999.00,9,     25,-999.000,  -999.0, 24.8608
     32MW069_1,  PRS2,     2,  5,     11,     11,2,19960117,0058, 22.7470,-158.0033, 4720,     44.5,  24.6110,  34.8719,2,  34.8920,2,    210.5,1,   -999.0,9,  -999.00,9,  -999.00,9,  -999.00,9,     45,-999.000,  -999.0, 24.6015
     32MW069_1,  PRS2,     2,  5,     10,     32,2,19960117,0058, 22.7470,-158.0033, 4720,     74.5,  24.3059,  35.0090,2,  35.0129,2,    211.7,1,   -999.0,9,  -999.00,9,  -999.00,9,  -999.00,9,     74,-999.000,  -999.0, 24.2900
     32MW069_1,  PRS2,     2,  5,      9,      3,2,19960117,0058, 22.7470,-158.0033, 4720,     99.2,  22.1516,  35.1045,2,  35.0970,2,    211.1,1,   -999.0,9,  -999.00,9,  -999.00,9,  -999.00,9,     99,-999.000,  -999.0, 22.1318
     32MW069_1,  PRS2,     2,  5,      8,     29,2,19960117,0058, 22.7470,-158.0033, 4720,    124.6,  20.8612,  35.1390,2,  35.1380,2,    203.2,1,   -999.0,9,  -999.00,9,  -999.00,9,  -999.00,9,    125,-999.000,  -999.0, 20.8374
     32MW069_1,  PRS2,     2,  5,      7,     28,2,19960117,0058, 22.7470,-158.0033, 4720,    150.0,  20.0630,  35.1338,2,  35.1345,2,    200.5,1,   -999.0,9,  -999.00,9,  -999.00,9,  -999.00,9,    151,-999.000,  -999.0, 20.0352
     32MW069_1,  PRS2,     2,  5,      6,      7,2,19960117,0058, 22.7470,-158.0033, 4720,    175.0,  19.2423,  35.0720,2,  35.0730,2,    200.8,1,   -999.0,9,  -999.00,9,  -999.00,9,  -999.00,9,    175,-999.000,  -999.0, 19.2108
     32MW069_1,  PRS2,     2,  5,      5,     38,2,19960117,0058, 22.7470,-158.0033, 4720,    249.4,  15.8738,  34.6660,2,  34.6852,2,    204.8,1,   -999.0,9,  -999.00,9,  -999.00,9,  -999.00,9,    249,-999.000,  -999.0, 15.8345
     32MW069_1,  PRS2,     2,  5,      4,     36,2,19960117,0058, 22.7470,-158.0033, 4720,    474.7,   7.7561,  34.0673,2,  34.0660,2,    136.6,1,   -999.0,9,  -999.00,9,  -999.00,9,  -999.00,9,    476,-999.000,  -999.0,  7.7087
     32MW069_1,  PRS2,     2,  5,      3,     35,2,19960117,0058, 22.7470,-158.0033, 4720,    499.9,   7.2866,  34.0723,2,  34.0701,2,    114.6,1,   -999.0,9,  -999.00,9,  -999.00,9,  -999.00,9,    500,-999.000,  -999.0,  7.2384
     32MW069_1,  PRS2,     2,  5,      2,     34,2,19960117,0058, 22.7470,-158.0033, 4720,    749.4,   4.7627,  34.3155,2,  34.3153,2,     23.5,1,   -999.0,9,  -999.00,9,  -999.00,9,  -999.00,9,    750,-999.000,  -999.0,  4.7032
     32MW069_1,  PRS2,     2,  5,      1,     33,2,19960117,0058, 22.7470,-158.0033, 4720,   1020.1,   4.1814,  34.4883,2,  34.4892,2,     38.0,1,   -999.0,9,  -999.00,9,  -999.00,9,  -999.00,9,   1019,-999.000,  -999.0,  4.1027
     32MW069_1,  PRS2,     2,  6,     17,     17,2,19960117,0358, 22.7515,-157.9995, 4720,      4.3,  25.0023,  34.8490,2,  34.8569,2,    207.1,2,    209.6,2,  -999.00,5,  -999.00,5,  -999.00,5,      5,-999.000,  -999.0, 25.0013
     32MW069_1,  PRS2,     2,  6,     16,     16,2,19960117,0358, 22.7515,-157.9995, 4720,    174.8,  19.3714,  35.0807,2,  35.0828,2,    199.1,2,    200.2,2,  -999.00,5,  -999.00,5,  -999.00,5,    174,-999.000,  -999.0, 19.3398
     32MW069_1,  PRS2,     2,  6,     15,     15,2,19960117,0358, 22.7515,-157.9995, 4720,    209.6,  17.6639,  34.8849,2,  34.8975,2,    202.7,2,    203.9,2,     3.68,2,     2.74,2,     0.27,2,    208,-999.000,  -999.0, 17.6284
     32MW069_1,  PRS2,     2,  6,     14,     14,2,19960117,0358, 22.7515,-157.9995, 4720,    224.5,  16.9945,  34.7998,2,  34.7990,2,    201.8,2,    204.3,2,     4.29,2,     3.52,2,     0.32,2,    226,-999.000,  -999.0, 16.9575
     32MW069_1,  PRS2,     2,  6,     13,     13,2,19960117,0358, 22.7515,-157.9995, 4720,    234.5,  16.3827,  34.7247,2,  34.7324,2,    202.1,2,    204.1,2,     4.72,2,     4.14,2,     0.36,2,    236,-999.000,  -999.0, 16.3450
     32MW069_1,  PRS2,     2,  6,     12,     12,2,19960117,0358, 22.7515,-157.9995, 4720,    250.3,  15.6287,  34.6315,2,  34.6321,2,    201.4,2,    203.2,2,     5.54,2,     5.24,2,     0.44,2,    248,-999.000,  -999.0, 15.5898
     32MW069_1,  PRS2,     2,  6,     11,     11,2,19960117,0358, 22.7515,-157.9995, 4720,    274.8,  14.2819,  34.4767,2,  34.4902,2,    198.5,2,    199.6,2,     7.21,2,     7.42,2,     0.59,2,    275,-999.000,  -999.0, 14.2418
     32MW069_1,  PRS2,     2,  6,     10,     32,2,19960117,0358, 22.7515,-157.9995, 4720,    299.7,  12.4678,  34.2855,2,  34.2895,2,    193.3,2,    189.6,2,    10.80,2,    11.39,2,     0.86,2,    300,-999.000,  -999.0, 12.4278
     32MW069_1,  PRS2,     2,  6,      9,      3,2,19960117,0358, 22.7515,-157.9995, 4720,    325.1,  11.4393,  34.2201,2,  34.2197,2,    197.4,2,    198.9,2,    12.87,2,    12.70,2,     0.93,2,    325,-999.000,  -999.0, 11.3983
     32MW069_1,  PRS2,     2,  6,      8,     29,2,19960117,0358, 22.7515,-157.9995, 4720,    350.3,  10.6852,  34.1753,2,  34.1774,2,    198.6,2,    199.9,2,    15.24,2,    14.22,2,     1.04,2,    353,-999.000,  -999.0, 10.6429
     32MW069_1,  PRS2,     2,  6,      7,     28,2,19960117,0358, 22.7515,-157.9995, 4720,    398.9,   9.2519,  34.1267,2,  34.1276,2,    158.1,2,    158.9,2,    25.79,2,    20.89,2,     1.53,2,    399,-999.000,  -999.0,  9.2078
     32MW069_1,  PRS2,     2,  6,      6,      7,2,19960117,0358, 22.7515,-157.9995, 4720,    499.9,   6.8041,  34.0726,2,  34.0712,2,     99.0,2,    100.9,2,    50.37,2,    30.74,2,     2.23,2,    499,-999.000,  -999.0,  6.7577
     32MW069_1,  PRS2,     2,  6,      5,     38,2,19960117,0358, 22.7515,-157.9995, 4720,    599.6,   5.4770,  34.1645,2,  34.1708,2,     45.5,2,     43.7,2,    76.34,2,    38.16,2,     2.79,2,    599,-999.000,  -999.0,  5.4269
     32MW069_1,  PRS2,     2,  6,      4,     36,2,19960117,0358, 22.7515,-157.9995, 4720,    700.2,   5.0796,  34.2998,2,  34.2984,2,     29.7,2,     28.8,2,    91.20,2,    40.44,2,     2.97,2,    701,-999.000,  -999.0,  5.0226
     32MW069_1,  PRS2,     2,  6,      3,     35,2,19960117,0358, 22.7515,-157.9995, 4720,    801.2,   4.7152,  34.4075,2,  34.4052,2,     29.1,2,     28.6,2,    95.23,2,    41.19,2,     3.04,2,    801,-999.000,  -999.0,  4.6515
     32MW069_1,  PRS2,     2,  6,      2,     34,2,19960117,0358, 22.7515,-157.9995, 4720,    900.0,   4.4855,  34.4644,2,  34.4643,2,     32.7,2,     33.3,2,    98.74,2,    41.59,2,     3.04,2,    900,-999.000,  -999.0,  4.4148
     32MW069_1,  PRS2,     2,  6,      1,     33,2,19960117,0358, 22.7515,-157.9995, 4720,   1020.0,   4.1482,  34.4912,2,  34.4925,2,     38.2,2,     39.3,2,   106.37,2,    42.28,2,     3.05,2,   1020,-999.000,  -999.0,  4.0697