BOTTLE,20090923WHPSIOMYS
#code : jjward hyd_to_exchange.pl 
#original files copied from HTML directory: 20090923
#original HYD file: 33KI136_1_hy.txt   Wed Sep 23 17:52:34 2009
#original SUM file: ../33KI136_1su.txt   Wed Sep 23 17:52:33 2009
EXPOCODE,SECT_ID,STNNBR,CASTNO,SAMPNO,BTLNBR,BTLNBR_FLAG_W,DATE,TIME,LATITUDE,LONGITUDE,DEPTH,CTDRAW,CTDPRS,CTDTMP,CTDSAL,CTDSAL_FLAG_W,SALNTY,SALNTY_FLAG_W,CTDOXY,CTDOXY_FLAG_W,THETA,OXYGEN,OXYGEN_FLAG_W,SILCAT,SILCAT_FLAG_W,NO2+NO3,NO2+NO3_FLAG_W,PHSPHT,PHSPHT_FLAG_W,REVPRS,REVTMP
,,,,,,,,,,,,,DBAR,ITS-90,PSS-78,,PSS-78,,UMOL/KG,,ITS-90,UMOL/KG,,UMOL/KG,,UMOL/KG,,UMOL/KG,,DBAR,DEG C
     33KI136_1,  PRS2,     1,  1,     16,     16,3,20020311,2328, 21.3448,-158.2727, 1542,      5,      4.9,  24.7252,  34.8215,2,-999.0000,9,    211.3,2, 24.7241,   -999.0,5,  -999.00,9,  -999.00,9,  -999.00,9,  -999.0,-999.000
     33KI136_1,  PRS2,     1,  1,     15,     23,2,20020311,2328, 21.3448,-158.2727, 1542,      5,      5.0,  24.7290,  34.8216,2,-999.0000,9,    211.3,2, 24.7279,    211.6,2,  -999.00,9,  -999.00,9,  -999.00,9,  -999.0,-999.000
     33KI136_1,  PRS2,     1,  1,     14,     14,2,20020311,2328, 21.3448,-158.2727, 1542,     25,     24.6,  24.3169,  34.8213,2,-999.0000,9,    211.4,2, 24.3116,    212.0,2,  -999.00,9,  -999.00,9,  -999.00,9,  -999.0,-999.000
     33KI136_1,  PRS2,     1,  1,     13,     13,2,20020311,2328, 21.3448,-158.2727, 1542,     45,     44.5,  24.2750,  34.8552,2,-999.0000,9,    212.2,2, 24.2656,    211.6,2,  -999.00,9,  -999.00,9,  -999.00,9,  -999.0,-999.000
     33KI136_1,  PRS2,     1,  1,     12,     12,2,20020311,2328, 21.3448,-158.2727, 1542,     75,     74.7,  24.1923,  35.0301,2,-999.0000,9,    211.1,2, 24.1765,    210.2,2,  -999.00,9,  -999.00,9,  -999.00,9,  -999.0,-999.000
     33KI136_1,  PRS2,     1,  1,     11,     11,2,20020311,2328, 21.3448,-158.2727, 1542,    100,     99.6,  23.3541,  35.0987,2,-999.0000,9,    211.9,2, 23.3335,    210.8,2,  -999.00,9,  -999.00,9,  -999.00,9,  -999.0,-999.000
     33KI136_1,  PRS2,     1,  1,     10,     32,2,20020311,2328, 21.3448,-158.2727, 1542,    125,    123.8,  22.3556,  35.2162,2,-999.0000,9,    197.4,2, 22.3308,    198.6,2,  -999.00,9,  -999.00,9,  -999.00,9,  -999.0,-999.000
     33KI136_1,  PRS2,     1,  1,      9,      3,2,20020311,2328, 21.3448,-158.2727, 1542,    149,    148.8,  21.5923,  35.2076,2,-999.0000,9,    195.7,2, 21.5632,    195.0,2,  -999.00,9,  -999.00,9,  -999.00,9,  -999.0,-999.000
     33KI136_1,  PRS2,     1,  1,      8,     29,2,20020311,2328, 21.3448,-158.2727, 1542,    175,    174.4,  20.1688,  35.0985,2,-999.0000,9,    187.3,2, 20.1364,    188.0,2,  -999.00,9,  -999.00,9,  -999.00,9,  -999.0,-999.000
     33KI136_1,  PRS2,     1,  1,      7,     28,2,20020311,2328, 21.3448,-158.2727, 1542,    200,    199.2,  19.0904,  34.9913,2,-999.0000,9,    189.2,2, 19.0547,    189.1,2,  -999.00,9,  -999.00,9,  -999.00,9,  -999.0,-999.000
     33KI136_1,  PRS2,     1,  1,      6,      7,2,20020311,2328, 21.3448,-158.2727, 1542,    252,    251.0,  16.4377,  34.6872,2,-999.0000,9,    187.5,2, 16.3972,    188.7,2,  -999.00,9,  -999.00,9,  -999.00,9,  -999.0,-999.000
     33KI136_1,  PRS2,     1,  1,      5,     38,2,20020311,2328, 21.3448,-158.2727, 1542,    351,    350.2,  11.2482,  34.2035,2,-999.0000,9,    195.7,2, 11.2045,    195.2,2,  -999.00,9,  -999.00,9,  -999.00,9,  -999.0,-999.000
     33KI136_1,  PRS2,     1,  1,      4,     36,2,20020311,2328, 21.3448,-158.2727, 1542,    502,    500.9,   6.9590,  34.1152,2,-999.0000,9,     94.6,2,  6.9119,     94.3,2,  -999.00,9,  -999.00,9,  -999.00,9,  -999.0,-999.000
     33KI136_1,  PRS2,     1,  1,      3,     35,2,20020311,2328, 21.3448,-158.2727, 1542,    603,    601.8,   5.8643,  34.2009,2,-999.0000,9,     53.4,2,  5.8122,     52.2,2,  -999.00,9,  -999.00,9,  -999.00,9,  -999.0,-999.000
     33KI136_1,  PRS2,     1,  1,      2,     34,2,20020311,2328, 21.3448,-158.2727, 1542,    753,    752.6,   4.8636,  34.3820,2,-999.0000,9,     35.3,2,  4.8031,     35.5,2,  -999.00,9,  -999.00,9,  -999.00,9,  -999.0,-999.000
     33KI136_1,  PRS2,     1,  1,      1,     33,2,20020311,2328, 21.3448,-158.2727, 1542,   1020,   1019.9,   3.8818,  34.5105,2,-999.0000,9,     52.1,2,  3.8054,     52.9,2,  -999.00,9,  -999.00,9,  -999.00,9,  -999.0,-999.000
     33KI136_1,  PRS2,     2,  2,     24,     31,3,20020312,1246, 22.7490,-158.0010, 4723,      5,      4.8,  22.7133,  35.3533,2,-999.0000,5,    217.5,2, 22.7124,    217.1,2,     1.26,2,     0.01,2,     0.03,2,  -999.0,-999.000
     33KI136_1,  PRS2,     2,  2,     23,     30,2,20020312,1246, 22.7490,-158.0010, 4723,    501,    501.0,   7.5558,  34.0342,2,  34.0349,2,    138.5,2,  7.5065,    137.6,2,    39.48,2,    27.43,2,     1.57,3,  -999.0,-999.000
     33KI136_1,  PRS2,     2,  2,     22,     22,2,20020312,1246, 22.7490,-158.0010, 4723,    750,    750.8,   4.6041,  34.2645,2,  34.2632,2,     24.2,2,  4.5454,     23.7,2,    94.39,2,    42.09,2,     3.03,2,  -999.0,-999.000
     33KI136_1,  PRS2,     2,  2,     21,     21,2,20020312,1246, 22.7490,-158.0010, 4723,    996,    996.7,   3.8897,  34.4713,2,  34.4707,2,     38.9,2,  3.8152,     38.4,2,   111.18,2,    42.38,2,     2.71,4,  -999.0,-999.000
     33KI136_1,  PRS2,     2,  2,     20,     20,2,20020312,1246, 22.7490,-158.0010, 4723,   1200,   1199.4,   3.3490,  34.5374,2,  34.5366,2,     52.5,2,  3.2624,     52.2,2,   123.42,2,    41.95,2,     2.73,4,  -999.0,-999.000
     33KI136_1,  PRS2,     2,  2,     19,     19,2,20020312,1246, 22.7490,-158.0010, 4723,   1400,   1401.4,   2.9681,  34.5654,2,-999.0000,5,     62.9,2,  2.8688,     62.6,2,   131.45,2,    41.79,2,     2.79,4,  -999.0,-999.000
     33KI136_1,  PRS2,     2,  2,     18,     18,2,20020312,1246, 22.7490,-158.0010, 4723,   1598,   1600.0,   2.6617,  34.5877,2,  34.5863,2,     71.0,2,  2.5496,     71.3,2,   137.78,2,    41.17,2,     2.45,4,  -999.0,-999.000
     33KI136_1,  PRS2,     2,  2,     17,     17,2,20020312,1246, 22.7490,-158.0010, 4723,   1801,   1801.7,   2.3564,  34.6060,2,  34.6052,2,     81.0,2,  2.2314,     81.3,2,   149.08,3,    40.47,2,     2.89,2,  -999.0,-999.000
     33KI136_1,  PRS2,     2,  2,     16,     16,2,20020312,1246, 22.7490,-158.0010, 4723,   1999,   1999.6,   2.1205,  34.6234,2,  34.6225,2,     89.9,2,  1.9823,     90.0,2,   147.51,2,    40.10,2,     2.39,4,  -999.0,-999.000
     33KI136_1,  PRS2,     2,  2,     15,     23,2,20020312,1246, 22.7490,-158.0010, 4723,   2201,   2200.8,   1.9579,  34.6363,2,  34.6356,2,     96.7,2,  1.8050,     97.5,2,   153.05,2,    39.72,2,     2.54,4,  -999.0,-999.000
     33KI136_1,  PRS2,     2,  2,     14,     14,2,20020312,1246, 22.7490,-158.0010, 4723,   2402,   2402.3,   1.8107,  34.6467,2,  34.6451,2,    104.0,2,  1.6427,    104.8,2,   156.73,2,    39.29,2,     2.29,4,  -999.0,-999.000
     33KI136_1,  PRS2,     2,  2,     13,     13,2,20020312,1246, 22.7490,-158.0010, 4723,   2601,   2601.4,   1.7017,  34.6544,2,  34.6531,2,    110.3,2,  1.5179,    110.5,2,   158.09,2,    38.86,2,     2.75,2,  -999.0,-999.000
     33KI136_1,  PRS2,     2,  2,     12,     12,2,20020312,1246, 22.7490,-158.0010, 4723,   2798,   2798.7,   1.6255,  34.6625,2,  34.6610,2,    117.4,2,  1.4250,    117.9,2,   157.76,2,    38.44,2,     2.50,4,  -999.0,-999.000
     33KI136_1,  PRS2,     2,  2,     11,     11,2,20020312,1246, 22.7490,-158.0010, 4723,   3001,   3000.4,   1.5691,  34.6686,2,  34.6684,2,    121.9,2,  1.3508,    122.9,2,   157.53,2,    38.19,2,     2.52,4,  -999.0,-999.000
     33KI136_1,  PRS2,     2,  2,     10,     32,2,20020312,1246, 22.7490,-158.0010, 4723,   3202,   3201.8,   1.5288,  34.6739,2,  34.6743,2,    129.2,2,  1.2919,    130.5,2,   159.16,2,    37.75,2,     2.04,4,  -999.0,-999.000
     33KI136_1,  PRS2,     2,  2,      9,      3,2,20020312,1246, 22.7490,-158.0010, 4723,   3400,   3400.9,   1.4985,  34.6783,2,  34.6789,2,    134.1,2,  1.2425,    134.4,2,   155.18,2,    37.38,2,     2.54,2,  -999.0,-999.000
     33KI136_1,  PRS2,     2,  2,      8,     29,2,20020312,1246, 22.7490,-158.0010, 4723,   3600,   3599.9,   1.4785,  34.6813,2,  34.6818,2,    139.3,2,  1.2026,    139.6,2,   153.96,2,    37.08,2,     2.39,4,  -999.0,-999.000
     33KI136_1,  PRS2,     2,  2,      7,     28,2,20020312,1246, 22.7490,-158.0010, 4723,   3801,   3799.0,   1.4638,  34.6842,2,  34.6844,2,    144.4,2,  1.1674,    143.8,2,   153.97,2,    36.72,2,     2.03,4,  -999.0,-999.000
     33KI136_1,  PRS2,     2,  2,      6,      7,2,20020312,1246, 22.7490,-158.0010, 4723,   4001,   3999.7,   1.4604,  34.6862,2,  34.6875,2,    148.3,2,  1.1426,    147.8,2,   150.45,2,    36.50,2,     2.46,3,  -999.0,-999.000
     33KI136_1,  PRS2,     2,  2,      5,     38,2,20020312,1246, 22.7490,-158.0010, 4723,   4204,   4200.8,   1.4674,  34.6875,2,  34.6883,2,    150.7,2,  1.1273,    150.3,2,   149.68,2,    36.36,2,     2.41,3,  -999.0,-999.000
     33KI136_1,  PRS2,     2,  2,      4,     36,2,20020312,1246, 22.7490,-158.0010, 4723,   4399,   4399.0,   1.4786,  34.6882,2,  34.6881,2,    152.2,2,  1.1159,    151.8,2,   149.28,2,    36.19,2,     1.86,4,  -999.0,-999.000
     33KI136_1,  PRS2,     2,  2,      3,     35,2,20020312,1246, 22.7490,-158.0010, 4723,   4499,   4499.4,   1.4862,  34.6887,2,  34.6887,2,    153.2,2,  1.1118,    152.6,2,   149.29,2,    36.08,2,     1.90,4,  -999.0,-999.000
     33KI136_1,  PRS2,     2,  2,      2,     34,2,20020312,1246, 22.7490,-158.0010, 4723,   4602,   4600.4,   1.4942,  34.6891,2,  34.6901,2,    154.0,2,  1.1078,    153.1,2,   148.57,2,    35.69,2,     1.91,4,  -999.0,-999.000
     33KI136_1,  PRS2,     2,  2,      1,     33,2,20020312,1246, 22.7490,-158.0010, 4723,   4805,   4804.0,   1.5154,  34.6892,2,  34.6905,2,    154.3,2,  1.1042,    154.1,2,   148.02,2,    35.60,2,     1.94,4,  -999.0,-999.000
     33KI136_1,  PRS2,     2,  3,     24,     31,2,20020312,1755, 22.7490,-157.9975, 4722,     26,     24.7,  22.7082,  35.3615,2,  35.3602,2,    216.0,2, 22.7032,    216.6,2,     1.32,2,     0.05,2,     0.03,2,  -999.0,-999.000
     33KI136_1,  PRS2,     2,  3,     23,     30,2,20020312,1755, 22.7490,-157.9975, 4722,     75,     74.6,  22.5879,  35.3579,2,  35.3563,2,    215.9,2, 22.5729,    216.5,2,     1.19,2,     0.03,2,     0.03,2,  -999.0,-999.000
     33KI136_1,  PRS2,     2,  3,     22,     22,2,20020312,1755, 22.7490,-157.9975, 4722,    110,    109.7,  22.5713,  35.3605,2,  35.3597,2,    215.5,2, 22.5491,    215.6,2,     1.20,2,     0.02,2,     0.02,2,  -999.0,-999.000
     33KI136_1,  PRS2,     2,  3,     21,     21,2,20020312,1755, 22.7490,-157.9975, 4722,    151,    150.1,  22.4902,  35.3598,2,  35.3616,2,    214.2,2, 22.4600,    214.1,2,     1.22,2,     0.03,2,     0.04,2,  -999.0,-999.000
     33KI136_1,  PRS2,     2,  3,     20,     20,2,20020312,1755, 22.7490,-157.9975, 4722,    180,    178.8,  20.8671,  35.3214,2,  35.3234,2,    206.7,2, 20.8330,    207.4,2,     1.60,2,     0.78,2,     0.05,2,  -999.0,-999.000
     33KI136_1,  PRS2,     2,  3,     19,     19,2,20020312,1755, 22.7490,-157.9975, 4722,    216,    214.1,  20.2791,  35.2834,2,  35.2863,2,    204.4,2, 20.2390,    202.6,2,     1.86,2,     1.25,2,     0.17,2,  -999.0,-999.000
     33KI136_1,  PRS2,     2,  3,     18,     18,3,20020312,1755, 22.7490,-157.9975, 4722,    249,    248.1,  19.2338,  35.1039,2,  35.1130,2,    202.2,2, 19.1891,    201.5,2,     2.54,2,     1.98,2,     0.18,2,  -999.0,-999.000
     33KI136_1,  PRS2,     2,  3,     17,     17,2,20020312,1755, 22.7490,-157.9975, 4722,    292,    290.9,  16.2947,  34.6494,2,  34.6443,2,    197.2,2, 16.2481,    196.4,2,     4.88,2,     4.96,2,     0.37,2,  -999.0,-999.000
     33KI136_1,  PRS2,     2,  3,     16,     16,2,20020312,1755, 22.7490,-157.9975, 4722,    345,    345.0,  11.6757,  34.1667,2,  34.1719,2,    194.6,2, 11.6316,    193.7,2,    12.51,2,    12.66,2,     0.70,3,  -999.0,-999.000
     33KI136_1,  PRS2,     2,  3,     15,     23,2,20020312,1755, 22.7490,-157.9975, 4722,    381,    378.8,  10.2396,  34.1152,2,  34.1158,2,    186.0,2, 10.1950,    186.3,2,    18.57,2,    16.90,2,     0.87,3,  -999.0,-999.000
     33KI136_1,  PRS2,     2,  3,     14,     14,2,20020312,1755, 22.7490,-157.9975, 4722,    425,    423.7,   8.8101,  34.0685,2,  34.0690,2,    163.4,2,  8.7646,    165.0,2,    28.05,2,    22.07,2,     1.12,3,  -999.0,-999.000
     33KI136_1,  PRS2,     2,  3,     13,     13,2,20020312,1755, 22.7490,-157.9975, 4722,    466,    464.7,   7.7983,  34.0381,2,  34.0398,2,    148.4,2,  7.7518,    145.3,2,    36.55,2,    25.85,2,     1.35,3,  -999.0,-999.000
     33KI136_1,  PRS2,     2,  3,     12,     12,2,20020312,1755, 22.7490,-157.9975, 4722,    504,    504.3,   7.1368,  34.0318,2,  34.0319,2,    124.2,2,  7.0887,    122.5,2,    44.66,2,    29.16,2,     1.52,3,  -999.0,-999.000
     33KI136_1,  PRS2,     2,  3,     11,     11,2,20020312,1755, 22.7490,-157.9975, 4722,    546,    544.8,   6.4709,  34.0498,2,  34.0497,2,     92.5,2,  6.4216,     92.0,2,    54.83,2,    33.04,2,     1.74,3,  -999.0,-999.000
     33KI136_1,  PRS2,     2,  3,     10,     32,2,20020312,1755, 22.7490,-157.9975, 4722,    601,    599.7,   5.7600,  34.0757,2,  34.0770,2,     67.8,2,  5.7086,     69.1,2,    57.56,3,    36.34,2,     2.51,2,  -999.0,-999.000
     33KI136_1,  PRS2,     2,  3,      9,      3,2,20020312,1755, 22.7490,-157.9975, 4722,    644,    642.6,   5.2273,  34.1123,2,  34.1125,2,     49.6,2,  5.1747,     49.3,2,    76.52,3,    39.18,2,     2.26,3,  -999.0,-999.000
     33KI136_1,  PRS2,     2,  3,      8,     29,2,20020312,1755, 22.7490,-157.9975, 4722,    688,    688.0,   4.8985,  34.1789,2,  34.1789,2,     33.3,2,  4.8436,     33.6,2,    80.91,3,    40.71,2,     2.15,4,  -999.0,-999.000
     33KI136_1,  PRS2,     2,  3,      7,     28,2,20020312,1755, 22.7490,-157.9975, 4722,    738,    735.3,   4.5939,  34.2663,2,  34.2674,2,     23.9,2,  4.5367,     23.6,2,    88.43,3,    42.04,2,     2.22,4,  -999.0,-999.000
     33KI136_1,  PRS2,     2,  3,      6,      7,2,20020312,1755, 22.7490,-157.9975, 4722,    774,    772.8,   4.4864,  34.3064,2,  34.3066,2,     23.7,2,  4.4266,     23.4,2,    86.38,3,    42.31,2,     2.00,4,  -999.0,-999.000
     33KI136_1,  PRS2,     2,  3,      5,     38,2,20020312,1755, 22.7490,-157.9975, 4722,    817,    816.7,   4.3495,  34.3536,2,  34.3533,2,     25.3,2,  4.2868,     25.2,2,    96.73,3,    42.31,2,     2.34,4,  -999.0,-999.000
     33KI136_1,  PRS2,     2,  3,      4,     36,2,20020312,1755, 22.7490,-157.9975, 4722,    874,    874.0,   4.2100,  34.4110,2,  34.4100,2,     29.4,2,  4.1434,     30.4,2,   103.86,2,    42.37,2,     2.67,4,  -999.0,-999.000
     33KI136_1,  PRS2,     2,  3,      3,     35,2,20020312,1755, 22.7490,-157.9975, 4722,    946,    944.9,   3.9560,  34.4535,2,  34.4518,2,     36.5,2,  3.8853,     36.5,2,   110.11,2,    42.25,2,     2.65,4,  -999.0,-999.000
     33KI136_1,  PRS2,     2,  3,      2,     34,2,20020312,1755, 22.7490,-157.9975, 4722,    981,    979.7,   3.8731,  34.4713,2,  34.4709,2,     39.1,2,  3.8001,     39.4,2,   109.13,2,    42.12,2,     2.36,4,  -999.0,-999.000
     33KI136_1,  PRS2,     2,  3,      1,     33,2,20020312,1755, 22.7490,-157.9975, 4722,   1023,   1022.8,   3.7762,  34.4858,2,  34.4844,2,     41.4,2,  3.7004,     41.8,2,   111.82,2,    42.17,2,     2.22,4,  -999.0,-999.000
     33KI136_1,  PRS2,     2,  4,     11,     11,2,20020312,2055, 22.7487,-157.9907, 4725,      5,      4.3,  22.8387,  35.3517,2,  35.3520,2,    215.5,1, 22.8378,   -999.0,9,  -999.00,9,  -999.00,9,  -999.00,9,  -999.0,-999.000
     33KI136_1,  PRS2,     2,  4,     13,     13,2,20020312,2055, 22.7487,-157.9907, 4725,      5,      4.4,  22.8427,  35.3518,2,-999.0000,5,    215.4,1, 22.8418,   -999.0,9,  -999.00,9,  -999.00,9,  -999.00,9,  -999.0,-999.000
     33KI136_1,  PRS2,     2,  4,     12,     12,2,20020312,2055, 22.7487,-157.9907, 4725,      5,      4.4,  22.8371,  35.3521,2,-999.0000,5,    215.5,1, 22.8362,   -999.0,9,  -999.00,9,  -999.00,9,  -999.00,9,  -999.0,-999.000
     33KI136_1,  PRS2,     2,  4,     10,     32,2,20020312,2055, 22.7487,-157.9907, 4725,     25,     24.7,  22.7260,  35.3567,2,  35.3553,2,    216.4,1, 22.7209,   -999.0,9,  -999.00,9,  -999.00,9,  -999.00,9,  -999.0,-999.000
     33KI136_1,  PRS2,     2,  4,      9,      3,2,20020312,2055, 22.7487,-157.9907, 4725,     25,     24.7,  22.7257,  35.3567,2,  35.3569,2,    216.4,1, 22.7207,   -999.0,9,  -999.00,9,  -999.00,9,  -999.00,9,  -999.0,-999.000
     33KI136_1,  PRS2,     2,  4,      8,     29,2,20020312,2055, 22.7487,-157.9907, 4725,     45,     44.1,  22.6212,  35.3564,2,  35.3632,2,    216.4,1, 22.6122,   -999.0,9,  -999.00,9,  -999.00,9,  -999.00,9,  -999.0,-999.000
     33KI136_1,  PRS2,     2,  4,      7,     28,2,20020312,2055, 22.7487,-157.9907, 4725,     75,     74.3,  22.5809,  35.3566,2,  35.3565,2,    216.4,1, 22.5659,   -999.0,9,  -999.00,9,  -999.00,9,  -999.00,9,  -999.0,-999.000
     33KI136_1,  PRS2,     2,  4,      6,      7,2,20020312,2055, 22.7487,-157.9907, 4725,    100,     99.2,  22.5725,  35.3589,2,  35.3624,2,    216.1,1, 22.5524,   -999.0,9,  -999.00,9,  -999.00,9,  -999.00,9,  -999.0,-999.000
     33KI136_1,  PRS2,     2,  4,      5,     38,2,20020312,2055, 22.7487,-157.9907, 4725,    125,    124.5,  22.5683,  35.3629,2,  35.3628,2,    215.7,1, 22.5432,   -999.0,9,  -999.00,9,  -999.00,9,  -999.00,9,  -999.0,-999.000
     33KI136_1,  PRS2,     2,  4,      4,     36,2,20020312,2055, 22.7487,-157.9907, 4725,    150,    148.9,  22.5271,  35.3602,2,  35.3606,2,    215.3,1, 22.4971,   -999.0,9,  -999.00,9,  -999.00,9,  -999.00,9,  -999.0,-999.000
     33KI136_1,  PRS2,     2,  4,      3,     35,2,20020312,2055, 22.7487,-157.9907, 4725,    174,    173.1,  21.1550,  35.3219,2,  35.3208,2,    205.9,1, 21.1217,   -999.0,9,  -999.00,9,  -999.00,9,  -999.00,9,  -999.0,-999.000
     33KI136_1,  PRS2,     2,  4,      2,     34,2,20020312,2055, 22.7487,-157.9907, 4725,    501,    498.3,   7.2830,  34.0316,2,  34.0335,2,    124.2,1,  7.2350,   -999.0,9,  -999.00,9,  -999.00,9,  -999.00,9,  -999.0,-999.000
     33KI136_1,  PRS2,     2,  4,      1,     33,2,20020312,2055, 22.7487,-157.9907, 4725,   1020,   1020.0,   3.8454,  34.4739,2,  34.4736,2,     40.0,1,  3.7694,   -999.0,9,  -999.00,9,  -999.00,9,  -999.00,9,  -999.0,-999.000