BOTTLE,20090923WHPSIOMYS
EXPOCODE,SECT_ID,STNNBR,CASTNO,SAMPNO,BTLNBR,BTLNBR_FLAG_W,DATE,TIME,LATITUDE,LONGITUDE,DEPTH,CTDRAW,CTDPRS,CTDTMP,CTDSAL,CTDSAL_FLAG_W,SALNTY,SALNTY_FLAG_W,CTDOXY,CTDOXY_FLAG_W,THETA,OXYGEN,OXYGEN_FLAG_W,SILCAT,SILCAT_FLAG_W,NO2+NO3,NO2+NO3_FLAG_W,PHSPHT,PHSPHT_FLAG_W,REVPRS,REVTMP
,,,,,,,,,,,,,DBAR,ITS-90,PSS-78,,PSS-78,,UMOL/KG,,ITS-90,UMOL/KG,,UMOL/KG,,UMOL/KG,,UMOL/KG,,DBAR,DEG C
     33KI136_1,  PRS2,     2, 15,     21,     21,2,20020314,0557, 22.7498,-157.9997, 4721,      5,      4.4,  23.1863,  35.3440,2,  35.3437,2,    214.2,1, 23.1854,   -999.0,9,  -999.00,9,  -999.00,9,  -999.00,9,  -999.0,-999.000
     33KI136_1,  PRS2,     2, 15,     20,     20,2,20020314,0557, 22.7498,-157.9997, 4721,      5,      4.4,  23.2177,  35.3433,2,  35.3437,2,    214.2,1, 23.2168,   -999.0,9,  -999.00,9,  -999.00,9,  -999.00,9,  -999.0,-999.000
     33KI136_1,  PRS2,     2, 15,     19,     19,2,20020314,0557, 22.7498,-157.9997, 4721,     25,     24.0,  22.7818,  35.3605,2,-999.0000,5,    216.1,1, 22.7770,   -999.0,9,  -999.00,9,  -999.00,9,  -999.00,9,  -999.0,-999.000
     33KI136_1,  PRS2,     2, 15,     18,     18,2,20020314,0557, 22.7498,-157.9997, 4721,     25,     24.1,  22.7826,  35.3605,2,  35.3585,2,    216.1,1, 22.7777,   -999.0,9,  -999.00,9,  -999.00,9,  -999.00,9,  -999.0,-999.000
     33KI136_1,  PRS2,     2, 15,     17,     17,2,20020314,0557, 22.7498,-157.9997, 4721,     35,     34.7,  22.7548,  35.3600,2,  35.3650,2,    216.4,1, 22.7478,   -999.0,9,  -999.00,9,  -999.00,9,  -999.00,9,  -999.0,-999.000
     33KI136_1,  PRS2,     2, 15,     15,     23,2,20020314,0557, 22.7498,-157.9997, 4721,     45,     44.8,  22.6898,  35.3546,2,  35.3535,2,    216.6,1, 22.6807,   -999.0,9,  -999.00,9,  -999.00,9,  -999.00,9,  -999.0,-999.000
     33KI136_1,  PRS2,     2, 15,     16,     16,2,20020314,0557, 22.7498,-157.9997, 4721,     45,     44.9,  22.6901,  35.3545,2,  35.3532,2,    216.6,1, 22.6810,   -999.0,9,  -999.00,9,  -999.00,9,  -999.00,9,  -999.0,-999.000
     33KI136_1,  PRS2,     2, 15,     14,     14,2,20020314,0557, 22.7498,-157.9997, 4721,     60,     58.5,  22.5759,  35.3505,2,  35.3488,2,    215.3,1, 22.5641,   -999.0,9,  -999.00,9,  -999.00,9,  -999.00,9,  -999.0,-999.000
     33KI136_1,  PRS2,     2, 15,     13,     13,2,20020314,0557, 22.7498,-157.9997, 4721,     75,     74.4,  22.5708,  35.3555,2,  35.3664,3,    215.0,1, 22.5558,   -999.0,9,  -999.00,9,  -999.00,9,  -999.00,9,  -999.0,-999.000
     33KI136_1,  PRS2,     2, 15,     12,     12,2,20020314,0557, 22.7498,-157.9997, 4721,     86,     84.7,  22.5675,  35.3573,2,  35.3565,2,    214.5,1, 22.5504,   -999.0,9,  -999.00,9,  -999.00,9,  -999.00,9,  -999.0,-999.000
     33KI136_1,  PRS2,     2, 15,     11,     11,2,20020314,0557, 22.7498,-157.9997, 4721,    101,    100.4,  22.5564,  35.3615,2,  35.3600,2,    214.9,1, 22.5362,   -999.0,9,  -999.00,9,  -999.00,9,  -999.00,9,  -999.0,-999.000
     33KI136_1,  PRS2,     2, 15,     10,     32,2,20020314,0557, 22.7498,-157.9997, 4721,    114,    115.0,  22.2623,  35.3493,2,  35.3488,2,    208.9,1, 22.2394,   -999.0,9,  -999.00,9,  -999.00,9,  -999.00,9,  -999.0,-999.000
     33KI136_1,  PRS2,     2, 15,      9,      3,2,20020314,0557, 22.7498,-157.9997, 4721,    125,    124.3,  21.9622,  35.3388,2,  35.3543,4,    207.7,1, 21.9376,   -999.0,9,  -999.00,9,  -999.00,9,  -999.00,9,  -999.0,-999.000
     33KI136_1,  PRS2,     2, 15,      8,     29,2,20020314,0557, 22.7498,-157.9997, 4721,    124,    124.5,  21.9365,  35.3377,2,  35.3526,4,    207.6,1, 21.9119,   -999.0,9,  -999.00,9,  -999.00,9,  -999.00,9,  -999.0,-999.000
     33KI136_1,  PRS2,     2, 15,      7,     28,2,20020314,0557, 22.7498,-157.9997, 4721,    135,    134.4,  21.6023,  35.3288,2,  35.3297,2,    205.8,1, 21.5761,   -999.0,9,  -999.00,9,  -999.00,9,  -999.00,9,  -999.0,-999.000
     33KI136_1,  PRS2,     2, 15,      6,      7,2,20020314,0557, 22.7498,-157.9997, 4721,    149,    149.0,  21.0105,  35.3190,2,  35.3457,4,    206.7,1, 20.9819,   -999.0,9,  -999.00,9,  -999.00,9,  -999.00,9,  -999.0,-999.000
     33KI136_1,  PRS2,     2, 15,      5,     38,2,20020314,0557, 22.7498,-157.9997, 4721,    149,    149.1,  20.9880,  35.3185,2,  35.3196,2,    206.7,1, 20.9594,   -999.0,9,  -999.00,9,  -999.00,9,  -999.00,9,  -999.0,-999.000
     33KI136_1,  PRS2,     2, 15,      3,     35,2,20020314,0557, 22.7498,-157.9997, 4721,    175,    175.0,  20.4006,  35.2909,2,  35.2960,2,    204.7,1, 20.3678,   -999.0,9,  -999.00,9,  -999.00,9,  -999.00,9,  -999.0,-999.000
     33KI136_1,  PRS2,     2, 15,      4,     36,2,20020314,0557, 22.7498,-157.9997, 4721,    175,    175.2,  20.4091,  35.2921,2,  35.2960,2,    204.6,1, 20.3762,   -999.0,9,  -999.00,9,  -999.00,9,  -999.00,9,  -999.0,-999.000
     33KI136_1,  PRS2,     2, 15,      2,     34,2,20020314,0557, 22.7498,-157.9997, 4721,    500,    499.1,   7.4398,  34.0344,2,  34.0358,2,    131.5,1,  7.3912,   -999.0,9,  -999.00,9,  -999.00,9,  -999.00,9,  -999.0,-999.000
     33KI136_1,  PRS2,     2, 15,      1,     33,2,20020314,0557, 22.7498,-157.9997, 4721,   1021,   1020.6,   3.7584,  34.4845,2,  34.4832,2,     42.1,1,  3.6829,   -999.0,9,  -999.00,9,  -999.00,9,  -999.00,9,  -999.0,-999.000
     33KI136_1,  PRS2,     2, 16,     16,     16,3,20020314,0858, 22.7472,-158.0062, 4725,      5,      4.3,  23.0776,  35.3318,2,  35.3646,4,    214.6,3, 23.0767,   -999.0,5,  -999.00,9,  -999.00,9,  -999.00,9,  -999.0,-999.000
     33KI136_1,  PRS2,     2, 16,     15,     23,2,20020314,0858, 22.7472,-158.0062, 4725,      4,      4.3,  23.0770,  35.3316,2,  35.3327,2,    214.7,2, 23.0761,    216.6,2,  -999.00,9,  -999.00,9,  -999.00,9,  -999.0,-999.000
     33KI136_1,  PRS2,     2, 16,     14,     14,2,20020314,0858, 22.7472,-158.0062, 4725,    500,    499.6,   7.0078,  34.0323,2,  34.0327,2,    113.1,2,  6.9607,    118.1,2,  -999.00,9,  -999.00,9,  -999.00,9,  -999.0,-999.000
     33KI136_1,  PRS2,     2, 16,     13,     13,2,20020314,0858, 22.7472,-158.0062, 4725,    748,    748.4,   4.7449,  34.2236,2,  34.2228,2,     28.7,2,  4.6858,     27.3,2,  -999.00,9,  -999.00,9,  -999.00,9,  -999.0,-999.000
     33KI136_1,  PRS2,     2, 16,     12,     12,2,20020314,0858, 22.7472,-158.0062, 4725,   1000,    999.7,   3.9609,  34.4576,2,  34.4569,2,     37.1,2,  3.8857,     36.4,2,  -999.00,9,  -999.00,9,  -999.00,9,  -999.0,-999.000
     33KI136_1,  PRS2,     2, 16,     11,     11,2,20020314,0858, 22.7472,-158.0062, 4725,   1500,   1499.3,   2.8210,  34.5751,2,  34.5747,2,     68.9,2,  2.7153,     67.9,2,  -999.00,9,  -999.00,9,  -999.00,9,  -999.0,-999.000
     33KI136_1,  PRS2,     2, 16,     10,     32,2,20020314,0858, 22.7472,-158.0062, 4725,   2001,   2000.3,   2.0998,  34.6228,2,  34.6233,2,     89.6,2,  1.9618,     90.0,2,  -999.00,9,  -999.00,9,  -999.00,9,  -999.0,-999.000
     33KI136_1,  PRS2,     2, 16,      9,      3,2,20020314,0858, 22.7472,-158.0062, 4725,   2500,   2499.7,   1.7400,  34.6512,2,  34.6504,2,    107.6,2,  1.5646,    112.3,4,  -999.00,9,  -999.00,9,  -999.00,9,  -999.0,-999.000
     33KI136_1,  PRS2,     2, 16,      8,     29,2,20020314,0858, 22.7472,-158.0062, 4725,   2999,   2998.3,   1.5542,  34.6698,2,  34.6700,2,    123.6,2,  1.3364,    124.7,2,  -999.00,9,  -999.00,9,  -999.00,9,  -999.0,-999.000
     33KI136_1,  PRS2,     2, 16,      5,     38,2,20020314,0858, 22.7472,-158.0062, 4725,   3499,   3498.5,   1.4819,  34.6801,2,  34.6794,2,    136.9,2,  1.2164,   -999.0,5,  -999.00,9,  -999.00,9,  -999.00,9,  -999.0,-999.000
     33KI136_1,  PRS2,     2, 16,      4,     36,2,20020314,0858, 22.7472,-158.0062, 4725,   3500,   3498.5,   1.4819,  34.6802,2,  34.6798,2,    136.9,2,  1.2164,   -999.0,5,  -999.00,9,  -999.00,9,  -999.00,9,  -999.0,-999.000
     33KI136_1,  PRS2,     2, 16,      7,     28,2,20020314,0858, 22.7472,-158.0062, 4725,   3498,   3498.6,   1.4823,  34.6800,2,  34.6810,2,    136.9,2,  1.2167,   -999.0,5,  -999.00,9,  -999.00,9,  -999.00,9,  -999.0,-999.000
     33KI136_1,  PRS2,     2, 16,      6,      7,2,20020314,0858, 22.7472,-158.0062, 4725,   3498,   3498.7,   1.4820,  34.6801,2,  34.6806,2,    136.9,2,  1.2165,   -999.0,5,  -999.00,9,  -999.00,9,  -999.00,9,  -999.0,-999.000
     33KI136_1,  PRS2,     2, 16,      3,     35,2,20020314,0858, 22.7472,-158.0062, 4725,   3499,   3498.8,   1.4820,  34.6801,2,  34.6794,2,    137.0,2,  1.2164,    137.7,2,  -999.00,9,  -999.00,9,  -999.00,9,  -999.0,-999.000
     33KI136_1,  PRS2,     2, 16,      2,     34,2,20020314,0858, 22.7472,-158.0062, 4725,   4000,   3999.3,   1.4614,  34.6857,2,  34.6853,2,    147.4,2,  1.1437,    147.7,2,  -999.00,9,  -999.00,9,  -999.00,9,  -999.0,-999.000
     33KI136_1,  PRS2,     2, 16,      1,     33,2,20020314,0858, 22.7472,-158.0062, 4725,   4807,   4806.1,   1.5155,  34.6890,2,  34.6885,2,    154.0,2,  1.1041,    154.0,2,  -999.00,9,  -999.00,9,  -999.00,9,  -999.0,-999.000
     33KI136_1,  PRS2,     6,  1,     13,     13,2,20020315,0631, 21.8455,-158.3647, 2462,      5,      4.5,  24.5231,  34.7808,2,  34.7797,2,    208.8,1, 24.5221,   -999.0,9,  -999.00,9,  -999.00,9,  -999.00,9,  -999.0,-999.000
     33KI136_1,  PRS2,     6,  1,     12,     12,2,20020315,0631, 21.8455,-158.3647, 2462,     25,     24.1,  24.2522,  34.9091,2,  34.8766,4,    209.5,1, 24.2471,   -999.0,9,  -999.00,9,  -999.00,9,  -999.00,9,  -999.0,-999.000
     33KI136_1,  PRS2,     6,  1,     11,     11,2,20020315,0631, 21.8455,-158.3647, 2462,     45,     44.1,  23.8864,  35.0370,2,  35.0384,2,    209.9,1, 23.8771,   -999.0,9,  -999.00,9,  -999.00,9,  -999.00,9,  -999.0,-999.000
     33KI136_1,  PRS2,     6,  1,     10,     32,2,20020315,0631, 21.8455,-158.3647, 2462,     76,     74.5,  23.2280,  35.1628,2,  35.1642,2,    210.2,1, 23.2127,   -999.0,9,  -999.00,9,  -999.00,9,  -999.00,9,  -999.0,-999.000
     33KI136_1,  PRS2,     6,  1,      9,      3,2,20020315,0631, 21.8455,-158.3647, 2462,    101,     99.2,  22.5457,  35.2646,2,  35.2625,2,    212.7,1, 22.5257,   -999.0,9,  -999.00,9,  -999.00,9,  -999.00,9,  -999.0,-999.000
     33KI136_1,  PRS2,     6,  1,      8,     29,2,20020315,0631, 21.8455,-158.3647, 2462,    125,    124.2,  22.2724,  35.3239,2,  35.3222,2,    211.2,1, 22.2476,   -999.0,9,  -999.00,9,  -999.00,9,  -999.00,9,  -999.0,-999.000
     33KI136_1,  PRS2,     6,  1,      7,     28,2,20020315,0631, 21.8455,-158.3647, 2462,    150,    149.4,  20.9301,  35.1821,2,  35.1872,2,    191.2,1, 20.9016,   -999.0,9,  -999.00,9,  -999.00,9,  -999.00,9,  -999.0,-999.000
     33KI136_1,  PRS2,     6,  1,      6,      7,2,20020315,0631, 21.8455,-158.3647, 2462,    176,    174.9,  19.8047,  35.0690,2,  35.0716,2,    195.5,1, 19.7725,   -999.0,9,  -999.00,9,  -999.00,9,  -999.00,9,  -999.0,-999.000
     33KI136_1,  PRS2,     6,  1,      5,     38,2,20020315,0631, 21.8455,-158.3647, 2462,    501,    500.7,   7.2658,  34.1131,2,  34.1121,2,    101.4,1,  7.2176,   -999.0,9,  -999.00,9,  -999.00,9,  -999.00,9,  -999.0,-999.000
     33KI136_1,  PRS2,     6,  1,      4,     36,2,20020315,0631, 21.8455,-158.3647, 2462,   1000,    998.9,   4.0825,  34.4779,2,  34.4771,2,     44.5,1,  4.0064,   -999.0,9,  -999.00,9,  -999.00,9,  -999.00,9,  -999.0,-999.000
     33KI136_1,  PRS2,     6,  1,      3,     35,2,20020315,0631, 21.8455,-158.3647, 2462,   1501,   1499.0,   2.8139,  34.5754,2,  34.5749,2,     68.4,1,  2.7083,   -999.0,9,  -999.00,9,  -999.00,9,  -999.00,9,  -999.0,-999.000
     33KI136_1,  PRS2,     6,  1,      2,     34,2,20020315,0631, 21.8455,-158.3647, 2462,   1998,   1997.3,   2.1616,  34.6184,2,  34.6183,2,     87.6,1,  2.0230,   -999.0,9,  -999.00,9,  -999.00,9,  -999.00,9,  -999.0,-999.000
     33KI136_1,  PRS2,     6,  1,      1,     33,2,20020315,0631, 21.8455,-158.3647, 2462,   2476,   2474.5,   1.7783,  34.6481,2,  34.6482,2,    106.8,1,  1.6044,   -999.0,9,  -999.00,9,  -999.00,9,  -999.00,9,  -999.0,-999.000
     33KI136_1,  PRS2,     8,  1,     13,     13,2,20020315,0215, 22.3320,-158.1777, 4852,      5,      4.4,  23.3003,  35.3676,2,  35.3882,4,    216.8,3, 23.2993,    217.0,2,  -999.00,9,  -999.00,9,  -999.00,9,  -999.0,-999.000
     33KI136_1,  PRS2,     8,  1,     14,     14,2,20020315,0215, 22.3320,-158.1777, 4852,      5,      4.5,  23.2956,  35.3672,2,  35.3669,2,    216.7,2, 23.2947,   -999.0,5,  -999.00,9,  -999.00,9,  -999.00,9,  -999.0,-999.000
     33KI136_1,  PRS2,     8,  1,     12,     12,2,20020315,0215, 22.3320,-158.1777, 4852,     26,     25.0,  22.7543,  35.3668,2,  35.3656,2,    218.1,2, 22.7493,    218.8,2,  -999.00,9,  -999.00,9,  -999.00,9,  -999.0,-999.000
     33KI136_1,  PRS2,     8,  1,     11,     11,2,20020315,0215, 22.3320,-158.1777, 4852,     45,     44.8,  22.3366,  35.4058,2,  35.4056,2,    220.2,2, 22.3276,    219.8,2,  -999.00,9,  -999.00,9,  -999.00,9,  -999.0,-999.000
     33KI136_1,  PRS2,     8,  1,     10,     32,2,20020315,0215, 22.3320,-158.1777, 4852,     76,     75.5,  22.0768,  35.3987,2,  35.3983,2,    219.3,2, 22.0618,    218.8,2,  -999.00,9,  -999.00,9,  -999.00,9,  -999.0,-999.000
     33KI136_1,  PRS2,     8,  1,      9,      3,2,20020315,0215, 22.3320,-158.1777, 4852,    101,     99.6,  21.9991,  35.3906,2,  35.3918,2,    219.3,2, 21.9794,    219.0,2,  -999.00,9,  -999.00,9,  -999.00,9,  -999.0,-999.000
     33KI136_1,  PRS2,     8,  1,      8,     29,2,20020315,0215, 22.3320,-158.1777, 4852,    125,    124.8,  21.9746,  35.4024,2,  35.4111,2,    217.9,2, 21.9499,    217.2,2,  -999.00,9,  -999.00,9,  -999.00,9,  -999.0,-999.000
     33KI136_1,  PRS2,     8,  1,      7,     28,2,20020315,0215, 22.3320,-158.1777, 4852,    150,    150.0,  21.5997,  35.3499,2,  35.3646,2,    212.6,2, 21.5703,    212.6,2,  -999.00,9,  -999.00,9,  -999.00,9,  -999.0,-999.000
     33KI136_1,  PRS2,     8,  1,      6,      7,2,20020315,0215, 22.3320,-158.1777, 4852,    174,    173.9,  20.1958,  35.1927,2,  35.1939,2,    203.9,2, 20.1634,    205.7,2,  -999.00,9,  -999.00,9,  -999.00,9,  -999.0,-999.000
     33KI136_1,  PRS2,     8,  1,      5,     38,2,20020315,0215, 22.3320,-158.1777, 4852,    199,    199.2,  19.1830,  35.0252,2,  35.0278,2,    203.5,2, 19.1472,    202.5,2,  -999.00,9,  -999.00,9,  -999.00,9,  -999.0,-999.000
     33KI136_1,  PRS2,     8,  1,      4,     36,2,20020315,0215, 22.3320,-158.1777, 4852,    350,    350.1,  10.4641,  34.1139,2,  34.1154,2,    187.6,2, 10.4224,    188.3,2,  -999.00,9,  -999.00,9,  -999.00,9,  -999.0,-999.000
     33KI136_1,  PRS2,     8,  1,      3,     35,2,20020315,0215, 22.3320,-158.1777, 4852,    501,    500.0,   7.1140,  34.0415,2,  34.0417,2,    117.3,2,  7.0664,    116.4,2,  -999.00,9,  -999.00,9,  -999.00,9,  -999.0,-999.000
     33KI136_1,  PRS2,     8,  1,      2,     34,2,20020315,0215, 22.3320,-158.1777, 4852,    750,    750.2,   4.6167,  34.2940,2,  34.2952,2,     21.3,2,  4.5580,     21.2,2,  -999.00,9,  -999.00,9,  -999.00,9,  -999.0,-999.000
     33KI136_1,  PRS2,     8,  1,      1,     33,2,20020315,0215, 22.3320,-158.1777, 4852,   1021,   1019.6,   3.9426,  34.4814,2,  34.4762,2,     38.1,2,  3.8658,     38.6,2,  -999.00,9,  -999.00,9,  -999.00,9,  -999.0,-999.000