BOTTLE,20090923WHPSIOMYS
EXPOCODE,SECT_ID,STNNBR,CASTNO,SAMPNO,BTLNBR,BTLNBR_FLAG_W,DATE,TIME,LATITUDE,LONGITUDE,DEPTH,CTDRAW,CTDPRS,CTDTMP,CTDSAL,CTDSAL_FLAG_W,SALNTY,SALNTY_FLAG_W,CTDOXY,CTDOXY_FLAG_W,THETA,OXYGEN,OXYGEN_FLAG_W,SILCAT,SILCAT_FLAG_W,NO2+NO3,NO2+NO3_FLAG_W,PHSPHT,PHSPHT_FLAG_W,REVPRS,REVTMP
,,,,,,,,,,,,,DBAR,ITS-90,PSS-78,,PSS-78,,UMOL/KG,,ITS-90,UMOL/KG,,UMOL/KG,,UMOL/KG,,UMOL/KG,,DBAR,DEG C
     33KI136_1,  PRS2,     2,  5,     14,     14,2,20020312,2354, 22.7505,-158.0022, 4721,      4,      4.1,  23.0894,  35.3513,2,  35.3508,2,    216.5,1, 23.0886,   -999.0,9,  -999.00,9,  -999.00,9,  -999.00,9,  -999.0,-999.000
     33KI136_1,  PRS2,     2,  5,     13,     13,2,20020312,2354, 22.7505,-158.0022, 4721,     26,     25.4,  22.7224,  35.3616,2,  35.3606,2,    216.9,1, 22.7173,   -999.0,9,  -999.00,9,  -999.00,9,  -999.00,9,  -999.0,-999.000
     33KI136_1,  PRS2,     2,  5,     12,     12,2,20020312,2354, 22.7505,-158.0022, 4721,     46,     45.2,  22.6115,  35.3548,2,  35.3532,2,    216.6,1, 22.6023,   -999.0,9,  -999.00,9,  -999.00,9,  -999.00,9,  -999.0,-999.000
     33KI136_1,  PRS2,     2,  5,     11,     11,2,20020312,2354, 22.7505,-158.0022, 4721,     75,     74.5,  22.5755,  35.3589,2,  35.3575,2,    216.2,1, 22.5605,   -999.0,9,  -999.00,9,  -999.00,9,  -999.00,9,  -999.0,-999.000
     33KI136_1,  PRS2,     2,  5,     10,     32,2,20020312,2354, 22.7505,-158.0022, 4721,    101,     99.4,  22.5640,  35.3631,2,  35.3756,3,    216.4,1, 22.5439,   -999.0,9,  -999.00,9,  -999.00,9,  -999.00,9,  -999.0,-999.000
     33KI136_1,  PRS2,     2,  5,      9,      3,2,20020312,2354, 22.7505,-158.0022, 4721,    125,    124.3,  22.5587,  35.3638,2,  35.3677,2,    216.1,1, 22.5336,   -999.0,9,  -999.00,9,  -999.00,9,  -999.00,9,  -999.0,-999.000
     33KI136_1,  PRS2,     2,  5,      8,     29,3,20020312,2354, 22.7505,-158.0022, 4721,    150,    149.6,  21.7762,  35.3300,2,  35.3313,2,    207.2,1, 21.7468,   -999.0,9,  -999.00,9,  -999.00,9,  -999.00,9,  -999.0,-999.000
     33KI136_1,  PRS2,     2,  5,      7,     28,2,20020312,2354, 22.7505,-158.0022, 4721,    176,    174.0,  20.6798,  35.3189,2,  35.3303,2,    206.5,1, 20.6468,   -999.0,9,  -999.00,9,  -999.00,9,  -999.00,9,  -999.0,-999.000
     33KI136_1,  PRS2,     2,  5,      6,      7,2,20020312,2354, 22.7505,-158.0022, 4721,    200,    200.4,  19.9780,  35.2378,2,  35.2440,2,    202.8,1, 19.9409,   -999.0,9,  -999.00,9,  -999.00,9,  -999.00,9,  -999.0,-999.000
     33KI136_1,  PRS2,     2,  5,      5,     38,2,20020312,2354, 22.7505,-158.0022, 4721,    250,    249.8,  18.1597,  34.9198,2,  34.9319,2,    197.6,1, 18.1164,   -999.0,9,  -999.00,9,  -999.00,9,  -999.00,9,  -999.0,-999.000
     33KI136_1,  PRS2,     2,  5,      3,     35,2,20020312,2354, 22.7505,-158.0022, 4721,    351,    350.3,  11.6684,  34.1645,2,  34.1697,2,    194.2,1, 11.6237,   -999.0,9,  -999.00,9,  -999.00,9,  -999.00,9,  -999.0,-999.000
     33KI136_1,  PRS2,     2,  5,      4,     36,2,20020312,2354, 22.7505,-158.0022, 4721,    351,    350.6,  11.4936,  34.1559,2,  34.1621,2,    194.5,1, 11.4493,   -999.0,9,  -999.00,9,  -999.00,9,  -999.00,9,  -999.0,-999.000
     33KI136_1,  PRS2,     2,  5,      2,     34,2,20020312,2354, 22.7505,-158.0022, 4721,    801,    800.1,   4.4754,  34.3241,2,  34.3231,2,     23.3,1,  4.4134,   -999.0,9,  -999.00,9,  -999.00,9,  -999.00,9,  -999.0,-999.000
     33KI136_1,  PRS2,     2,  5,      1,     33,2,20020312,2354, 22.7505,-158.0022, 4721,   1019,   1019.8,   3.8774,  34.4635,2,  34.4616,2,     39.0,1,  3.8011,   -999.0,9,  -999.00,9,  -999.00,9,  -999.00,9,  -999.0,-999.000
     33KI136_1,  PRS2,     2,  6,     15,     23,3,20020313,0256, 22.7535,-157.9973, 4725,      5,      4.6,  22.8297,  35.3620,2,  35.3610,2,    216.1,1, 22.8288,   -999.0,9,  -999.00,9,  -999.00,9,  -999.00,9,  -999.0,-999.000
     33KI136_1,  PRS2,     2,  6,     14,     14,2,20020313,0256, 22.7535,-157.9973, 4725,     25,     24.6,  22.7251,  35.3641,2,  35.3624,2,    216.9,1, 22.7201,   -999.0,9,  -999.00,9,  -999.00,9,  -999.00,9,  -999.0,-999.000
     33KI136_1,  PRS2,     2,  6,     13,     13,2,20020313,0256, 22.7535,-157.9973, 4725,     45,     44.5,  22.7128,  35.3644,2,  35.3762,3,    216.9,1, 22.7037,   -999.0,9,  -999.00,9,  -999.00,9,  -999.00,9,  -999.0,-999.000
     33KI136_1,  PRS2,     2,  6,     12,     12,2,20020313,0256, 22.7535,-157.9973, 4725,     75,     74.8,  22.6033,  35.3574,2,  35.3557,2,    216.8,1, 22.5882,   -999.0,9,  -999.00,9,  -999.00,9,  -999.00,9,  -999.0,-999.000
     33KI136_1,  PRS2,     2,  6,     10,     32,2,20020313,0256, 22.7535,-157.9973, 4725,    101,     99.8,  22.5413,  35.3570,2,  35.3555,2,    215.8,1, 22.5212,   -999.0,9,  -999.00,9,  -999.00,9,  -999.00,9,  -999.0,-999.000
     33KI136_1,  PRS2,     2,  6,     11,     11,2,20020313,0256, 22.7535,-157.9973, 4725,    100,    100.3,  22.5426,  35.3570,2,  35.3551,2,    215.9,1, 22.5224,   -999.0,9,  -999.00,9,  -999.00,9,  -999.00,9,  -999.0,-999.000
     33KI136_1,  PRS2,     2,  6,      9,      3,2,20020313,0256, 22.7535,-157.9973, 4725,    125,    124.3,  22.5232,  35.3583,2,  35.3579,2,    215.0,1, 22.4982,   -999.0,9,  -999.00,9,  -999.00,9,  -999.00,9,  -999.0,-999.000
     33KI136_1,  PRS2,     2,  6,      8,     29,2,20020313,0256, 22.7535,-157.9973, 4725,    149,    148.5,  21.4092,  35.3223,2,  35.3212,2,    205.2,1, 21.3803,   -999.0,9,  -999.00,9,  -999.00,9,  -999.00,9,  -999.0,-999.000
     33KI136_1,  PRS2,     2,  6,      7,     28,2,20020313,0256, 22.7535,-157.9973, 4725,    175,    173.9,  20.4706,  35.3129,2,  35.3127,2,    206.2,1, 20.4379,   -999.0,9,  -999.00,9,  -999.00,9,  -999.00,9,  -999.0,-999.000
     33KI136_1,  PRS2,     2,  6,      6,      7,3,20020313,0256, 22.7535,-157.9973, 4725,    200,    199.5,  19.9821,  35.2384,2,  35.2398,2,    203.7,1, 19.9452,   -999.0,9,  -999.00,9,  -999.00,9,  -999.00,9,  -999.0,-999.000
     33KI136_1,  PRS2,     2,  6,      5,     38,2,20020313,0256, 22.7535,-157.9973, 4725,    250,    249.1,  18.2542,  34.9338,2,  34.9345,2,    199.4,1, 18.2109,   -999.0,9,  -999.00,9,  -999.00,9,  -999.00,9,  -999.0,-999.000
     33KI136_1,  PRS2,     2,  6,      4,     36,2,20020313,0256, 22.7535,-157.9973, 4725,    351,    349.2,  11.6922,  34.1663,2,  34.1672,2,    193.6,1, 11.6475,   -999.0,9,  -999.00,9,  -999.00,9,  -999.00,9,  -999.0,-999.000
     33KI136_1,  PRS2,     2,  6,      3,     35,2,20020313,0256, 22.7535,-157.9973, 4725,    349,    349.2,  11.6930,  34.1660,2,  34.1679,2,    193.4,1, 11.6483,   -999.0,9,  -999.00,9,  -999.00,9,  -999.00,9,  -999.0,-999.000
     33KI136_1,  PRS2,     2,  6,      2,     34,2,20020313,0256, 22.7535,-157.9973, 4725,    500,    499.0,   7.5300,  34.0340,2,  34.0331,2,    135.3,1,  7.4810,   -999.0,9,  -999.00,9,  -999.00,9,  -999.00,9,  -999.0,-999.000
     33KI136_1,  PRS2,     2,  6,      1,     33,2,20020313,0256, 22.7535,-157.9973, 4725,   1021,   1019.7,   3.8626,  34.4683,2,  34.4712,2,     39.2,1,  3.7865,   -999.0,9,  -999.00,9,  -999.00,9,  -999.00,9,  -999.0,-999.000
     33KI136_1,  PRS2,     2,  7,     19,     19,2,20020313,0556, 22.7515,-158.0008, 4726,      5,      4.1,  22.9817,  35.3397,2,  35.3392,2,    215.9,2, 22.9809,   -999.0,5,  -999.00,9,  -999.00,9,  -999.00,9,  -999.0,-999.000
     33KI136_1,  PRS2,     2,  7,     18,     18,2,20020313,0556, 22.7515,-158.0008, 4726,      5,      4.2,  22.9808,  35.3398,2,  35.3388,2,    215.9,2, 22.9800,    216.6,2,  -999.00,9,  -999.00,9,  -999.00,9,  -999.0,-999.000
     33KI136_1,  PRS2,     2,  7,     17,     17,2,20020313,0556, 22.7515,-158.0008, 4726,     15,     14.7,  22.7737,  35.3588,2,  35.4034,4,    216.5,3, 22.7707,   -999.0,5,  -999.00,9,  -999.00,9,  -999.00,9,  -999.0,-999.000
     33KI136_1,  PRS2,     2,  7,     16,     16,2,20020313,0556, 22.7515,-158.0008, 4726,     25,     24.8,  22.7474,  35.3628,2,  35.3614,2,    216.5,2, 22.7424,   -999.0,5,  -999.00,9,  -999.00,9,  -999.00,9,  -999.0,-999.000
     33KI136_1,  PRS2,     2,  7,     15,     23,2,20020313,0556, 22.7515,-158.0008, 4726,     26,     24.8,  22.7474,  35.3628,2,  35.3612,2,    216.5,2, 22.7424,    216.9,2,  -999.00,9,  -999.00,9,  -999.00,9,  -999.0,-999.000
     33KI136_1,  PRS2,     2,  7,     14,     14,2,20020313,0556, 22.7515,-158.0008, 4726,     36,     34.8,  22.7309,  35.3640,2,  35.3677,2,    216.6,2, 22.7239,   -999.0,5,  -999.00,9,  -999.00,9,  -999.00,9,  -999.0,-999.000
     33KI136_1,  PRS2,     2,  7,     13,     13,2,20020313,0556, 22.7515,-158.0008, 4726,     45,     44.1,  22.7192,  35.3623,2,  35.3608,2,    216.9,2, 22.7103,    216.9,2,  -999.00,9,  -999.00,9,  -999.00,9,  -999.0,-999.000
     33KI136_1,  PRS2,     2,  7,     12,     12,2,20020313,0556, 22.7515,-158.0008, 4726,     59,     58.7,  22.7018,  35.3573,2,  35.3705,3,    216.7,3, 22.6900,   -999.0,5,  -999.00,9,  -999.00,9,  -999.00,9,  -999.0,-999.000
     33KI136_1,  PRS2,     2,  7,     11,     11,2,20020313,0556, 22.7515,-158.0008, 4726,     75,     74.5,  22.5950,  35.3576,2,  35.3559,2,    216.8,2, 22.5800,    216.4,2,  -999.00,9,  -999.00,9,  -999.00,9,  -999.0,-999.000
     33KI136_1,  PRS2,     2,  7,     10,     32,2,20020313,0556, 22.7515,-158.0008, 4726,     85,     84.8,  22.5753,  35.3614,2,  35.3606,2,    216.3,2, 22.5582,    215.8,2,  -999.00,9,  -999.00,9,  -999.00,9,  -999.0,-999.000
     33KI136_1,  PRS2,     2,  7,      9,      3,2,20020313,0556, 22.7515,-158.0008, 4726,    100,     99.9,  22.5608,  35.3646,2,  35.3640,2,    215.8,2, 22.5407,    215.6,2,  -999.00,9,  -999.00,9,  -999.00,9,  -999.0,-999.000
     33KI136_1,  PRS2,     2,  7,      8,     29,2,20020313,0556, 22.7515,-158.0008, 4726,    115,    114.0,  22.5318,  35.3629,2,  35.3646,2,    215.1,2, 22.5089,    215.0,2,  -999.00,9,  -999.00,9,  -999.00,9,  -999.0,-999.000
     33KI136_1,  PRS2,     2,  7,      7,     28,2,20020313,0556, 22.7515,-158.0008, 4726,    125,    125.0,  22.0971,  35.3415,2,  35.3628,4,    207.4,3, 22.0723,    209.7,2,  -999.00,9,  -999.00,9,  -999.00,9,  -999.0,-999.000
     33KI136_1,  PRS2,     2,  7,      6,      7,2,20020313,0556, 22.7515,-158.0008, 4726,    149,    148.5,  20.8800,  35.3193,2,  35.3189,2,    206.7,2, 20.8517,    206.6,2,  -999.00,9,  -999.00,9,  -999.00,9,  -999.0,-999.000
     33KI136_1,  PRS2,     2,  7,      5,     38,2,20020313,0556, 22.7515,-158.0008, 4726,    166,    164.6,  20.5974,  35.3110,2,  35.3135,2,    206.5,2, 20.5663,    205.6,2,  -999.00,9,  -999.00,9,  -999.00,9,  -999.0,-999.000
     33KI136_1,  PRS2,     2,  7,      4,     36,2,20020313,0556, 22.7515,-158.0008, 4726,    176,    175.2,  20.5208,  35.3146,2,  35.3185,2,    205.7,2, 20.4877,    205.1,2,  -999.00,9,  -999.00,9,  -999.00,9,  -999.0,-999.000
     33KI136_1,  PRS2,     2,  7,      3,     35,2,20020313,0556, 22.7515,-158.0008, 4726,    201,    200.4,  20.0305,  35.2446,2,  35.2481,2,    204.3,2, 19.9933,    203.0,2,  -999.00,9,  -999.00,9,  -999.00,9,  -999.0,-999.000
     33KI136_1,  PRS2,     2,  7,      2,     34,2,20020313,0556, 22.7515,-158.0008, 4726,    520,    519.2,   7.1343,  34.0316,2,  34.0319,2,    118.0,2,  7.0848,   -999.0,5,  -999.00,9,  -999.00,9,  -999.00,9,  -999.0,-999.000
     33KI136_1,  PRS2,     2,  7,      1,     33,2,20020313,0556, 22.7515,-158.0008, 4726,   1021,   1020.1,   3.8312,  34.4780,2,  34.4775,2,     40.4,2,  3.7552,   -999.0,5,  -999.00,9,  -999.00,9,  -999.00,9,  -999.0,-999.000
     33KI136_1,  PRS2,     2,  8,     18,     18,2,20020313,0854, 22.7487,-158.0015, 4723,      6,      5.8,  22.9347,  35.3381,2,  35.3376,2,    215.7,1, 22.9335,   -999.0,9,  -999.00,9,  -999.00,9,  -999.00,9,  -999.0,-999.000
     33KI136_1,  PRS2,     2,  8,     19,     19,2,20020313,0854, 22.7487,-158.0015, 4723,      7,      5.9,  22.9354,  35.3382,2,  35.3384,2,    215.8,1, 22.9342,   -999.0,9,  -999.00,9,  -999.00,9,  -999.00,9,  -999.0,-999.000
     33KI136_1,  PRS2,     2,  8,     21,     21,3,20020313,0854, 22.7487,-158.0015, 4723,      7,      6.0,  22.9347,  35.3386,2,  35.3459,2,    215.8,1, 22.9334,   -999.0,9,  -999.00,9,  -999.00,9,  -999.00,9,  -999.0,-999.000
     33KI136_1,  PRS2,     2,  8,     20,     20,2,20020313,0854, 22.7487,-158.0015, 4723,      7,      6.0,  22.9356,  35.3382,2,  35.3384,2,    215.9,1, 22.9344,   -999.0,9,  -999.00,9,  -999.00,9,  -999.00,9,  -999.0,-999.000
     33KI136_1,  PRS2,     2,  8,     17,     17,2,20020313,0854, 22.7487,-158.0015, 4723,     26,     25.3,  22.7638,  35.3603,2,  35.3616,2,    216.5,1, 22.7587,   -999.0,9,  -999.00,9,  -999.00,9,  -999.00,9,  -999.0,-999.000
     33KI136_1,  PRS2,     2,  8,     15,     23,2,20020313,0854, 22.7487,-158.0015, 4723,     26,     25.4,  22.7622,  35.3604,2,  35.3778,4,    216.5,1, 22.7571,   -999.0,9,  -999.00,9,  -999.00,9,  -999.00,9,  -999.0,-999.000
     33KI136_1,  PRS2,     2,  8,     16,     16,2,20020313,0854, 22.7487,-158.0015, 4723,     26,     25.5,  22.7625,  35.3605,2,  35.3602,2,    216.5,1, 22.7573,   -999.0,9,  -999.00,9,  -999.00,9,  -999.00,9,  -999.0,-999.000
     33KI136_1,  PRS2,     2,  8,     14,     14,2,20020313,0854, 22.7487,-158.0015, 4723,     45,     44.4,  22.7355,  35.3588,2,  35.3585,2,    216.7,1, 22.7265,   -999.0,9,  -999.00,9,  -999.00,9,  -999.00,9,  -999.0,-999.000
     33KI136_1,  PRS2,     2,  8,     13,     13,2,20020313,0854, 22.7487,-158.0015, 4723,     46,     44.8,  22.7351,  35.3583,2,  35.3701,3,    216.6,1, 22.7261,   -999.0,9,  -999.00,9,  -999.00,9,  -999.00,9,  -999.0,-999.000
     33KI136_1,  PRS2,     2,  8,     12,     12,2,20020313,0854, 22.7487,-158.0015, 4723,     45,     44.9,  22.7348,  35.3581,2,  35.3600,2,    216.6,1, 22.7257,   -999.0,9,  -999.00,9,  -999.00,9,  -999.00,9,  -999.0,-999.000
     33KI136_1,  PRS2,     2,  8,     10,     32,2,20020313,0854, 22.7487,-158.0015, 4723,     76,     74.9,  22.5964,  35.3528,2,  35.3530,2,    216.5,1, 22.5813,   -999.0,9,  -999.00,9,  -999.00,9,  -999.00,9,  -999.0,-999.000
     33KI136_1,  PRS2,     2,  8,      9,      3,2,20020313,0854, 22.7487,-158.0015, 4723,     75,     75.0,  22.5964,  35.3527,2,  35.3526,2,    216.5,1, 22.5813,   -999.0,9,  -999.00,9,  -999.00,9,  -999.00,9,  -999.0,-999.000
     33KI136_1,  PRS2,     2,  8,     11,     11,2,20020313,0854, 22.7487,-158.0015, 4723,     76,     75.1,  22.5965,  35.3528,2,  35.3553,2,    216.5,1, 22.5813,   -999.0,9,  -999.00,9,  -999.00,9,  -999.00,9,  -999.0,-999.000
     33KI136_1,  PRS2,     2,  8,      8,     29,2,20020313,0854, 22.7487,-158.0015, 4723,    100,     98.7,  22.5758,  35.3605,2,  35.3662,2,    216.2,1, 22.5559,   -999.0,9,  -999.00,9,  -999.00,9,  -999.00,9,  -999.0,-999.000
     33KI136_1,  PRS2,     2,  8,      7,     28,2,20020313,0854, 22.7487,-158.0015, 4723,    100,     98.8,  22.5757,  35.3603,2,  35.3902,4,    216.2,1, 22.5558,   -999.0,9,  -999.00,9,  -999.00,9,  -999.00,9,  -999.0,-999.000
     33KI136_1,  PRS2,     2,  8,      6,      7,2,20020313,0854, 22.7487,-158.0015, 4723,     99,     99.0,  22.5762,  35.3601,2,  35.3620,2,    216.1,1, 22.5562,   -999.0,9,  -999.00,9,  -999.00,9,  -999.00,9,  -999.0,-999.000
     33KI136_1,  PRS2,     2,  8,      3,     35,2,20020313,0854, 22.7487,-158.0015, 4723,    153,    151.8,  21.6808,  35.3278,2,  35.3309,2,    207.1,1, 21.6510,   -999.0,9,  -999.00,9,  -999.00,9,  -999.00,9,  -999.0,-999.000
     33KI136_1,  PRS2,     2,  8,      4,     36,2,20020313,0854, 22.7487,-158.0015, 4723,    153,    152.5,  21.6753,  35.3278,2,  35.3301,2,    207.2,1, 21.6454,   -999.0,9,  -999.00,9,  -999.00,9,  -999.00,9,  -999.0,-999.000
     33KI136_1,  PRS2,     2,  8,      5,     38,2,20020313,0854, 22.7487,-158.0015, 4723,    153,    153.0,  21.6684,  35.3277,2,  35.3557,4,    207.3,1, 21.6384,   -999.0,9,  -999.00,9,  -999.00,9,  -999.00,9,  -999.0,-999.000
     33KI136_1,  PRS2,     2,  8,      2,     34,2,20020313,0854, 22.7487,-158.0015, 4723,    501,    499.5,   7.0046,  34.0317,2,  34.0325,2,    116.3,1,  6.9575,   -999.0,9,  -999.00,9,  -999.00,9,  -999.00,9,  -999.0,-999.000
     33KI136_1,  PRS2,     2,  8,      1,     33,2,20020313,0854, 22.7487,-158.0015, 4723,   1020,   1019.8,   3.8327,  34.4792,2,  34.4791,2,     40.5,1,  3.7567,   -999.0,9,  -999.00,9,  -999.00,9,  -999.00,9,  -999.0,-999.000