BOTTLE,20090923WHPSIOMYS
EXPOCODE,SECT_ID,STNNBR,CASTNO,SAMPNO,BTLNBR,BTLNBR_FLAG_W,DATE,TIME,LATITUDE,LONGITUDE,DEPTH,CTDRAW,CTDPRS,CTDTMP,CTDSAL,CTDSAL_FLAG_W,SALNTY,SALNTY_FLAG_W,CTDOXY,CTDOXY_FLAG_W,THETA,OXYGEN,OXYGEN_FLAG_W,SILCAT,SILCAT_FLAG_W,NO2+NO3,NO2+NO3_FLAG_W,PHSPHT,PHSPHT_FLAG_W,REVPRS,REVTMP
,,,,,,,,,,,,,DBAR,ITS-90,PSS-78,,PSS-78,,UMOL/KG,,ITS-90,UMOL/KG,,UMOL/KG,,UMOL/KG,,UMOL/KG,,DBAR,DEG C
     33KI136_1,  PRS2,     2,  9,     23,     30,2,20020313,1156, 22.7493,-158.0038, 4723,      5,      4.0,  22.8998,  35.3342,2,  35.3346,2,    215.5,1, 22.8990,   -999.0,9,  -999.00,9,  -999.00,9,  -999.00,9,  -999.0,-999.000
     33KI136_1,  PRS2,     2,  9,     22,     22,2,20020313,1156, 22.7493,-158.0038, 4723,      5,      4.1,  22.8997,  35.3342,2,  35.3338,2,    215.6,1, 22.8988,   -999.0,9,  -999.00,9,  -999.00,9,  -999.00,9,  -999.0,-999.000
     33KI136_1,  PRS2,     2,  9,     21,     21,2,20020313,1156, 22.7493,-158.0038, 4723,      5,      4.1,  22.8998,  35.3343,2,  35.3330,2,    215.6,1, 22.8989,   -999.0,9,  -999.00,9,  -999.00,9,  -999.00,9,  -999.0,-999.000
     33KI136_1,  PRS2,     2,  9,     18,     18,2,20020313,1156, 22.7493,-158.0038, 4723,     25,     24.2,  22.7654,  35.3595,2,  35.3597,2,    216.3,1, 22.7605,   -999.0,9,  -999.00,9,  -999.00,9,  -999.00,9,  -999.0,-999.000
     33KI136_1,  PRS2,     2,  9,     17,     17,2,20020313,1156, 22.7493,-158.0038, 4723,     25,     24.2,  22.7645,  35.3594,2,  35.3587,2,    216.4,1, 22.7596,   -999.0,9,  -999.00,9,  -999.00,9,  -999.00,9,  -999.0,-999.000
     33KI136_1,  PRS2,     2,  9,     19,     19,2,20020313,1156, 22.7493,-158.0038, 4723,     25,     24.3,  22.7663,  35.3595,2,  35.3593,2,    216.3,1, 22.7614,   -999.0,9,  -999.00,9,  -999.00,9,  -999.00,9,  -999.0,-999.000
     33KI136_1,  PRS2,     2,  9,     20,     20,2,20020313,1156, 22.7493,-158.0038, 4723,     24,     24.6,  22.7661,  35.3595,2,  35.3583,2,    216.3,1, 22.7611,   -999.0,9,  -999.00,9,  -999.00,9,  -999.00,9,  -999.0,-999.000
     33KI136_1,  PRS2,     2,  9,     14,     14,2,20020313,1156, 22.7493,-158.0038, 4723,     45,     44.0,  22.7170,  35.3584,2,  35.3575,2,    216.2,1, 22.7080,   -999.0,9,  -999.00,9,  -999.00,9,  -999.00,9,  -999.0,-999.000
     33KI136_1,  PRS2,     2,  9,     15,     23,2,20020313,1156, 22.7493,-158.0038, 4723,     45,     44.1,  22.7170,  35.3584,2,  35.3575,2,    216.2,1, 22.7081,   -999.0,9,  -999.00,9,  -999.00,9,  -999.00,9,  -999.0,-999.000
     33KI136_1,  PRS2,     2,  9,     16,     16,2,20020313,1156, 22.7493,-158.0038, 4723,     44,     44.2,  22.7172,  35.3584,2,  35.3573,2,    216.1,1, 22.7082,   -999.0,9,  -999.00,9,  -999.00,9,  -999.00,9,  -999.0,-999.000
     33KI136_1,  PRS2,     2,  9,     11,     11,2,20020313,1156, 22.7493,-158.0038, 4723,     75,     74.5,  22.5970,  35.3511,2,  35.3500,2,    216.1,1, 22.5820,   -999.0,9,  -999.00,9,  -999.00,9,  -999.00,9,  -999.0,-999.000
     33KI136_1,  PRS2,     2,  9,     12,     12,2,20020313,1156, 22.7493,-158.0038, 4723,     76,     74.6,  22.5973,  35.3512,2,  35.3504,2,    216.1,1, 22.5822,   -999.0,9,  -999.00,9,  -999.00,9,  -999.00,9,  -999.0,-999.000
     33KI136_1,  PRS2,     2,  9,     13,     13,2,20020313,1156, 22.7493,-158.0038, 4723,     74,     74.8,  22.5977,  35.3513,2,  35.3504,2,    216.1,1, 22.5826,   -999.0,9,  -999.00,9,  -999.00,9,  -999.00,9,  -999.0,-999.000
     33KI136_1,  PRS2,     2,  9,     10,     32,2,20020313,1156, 22.7493,-158.0038, 4723,    100,     97.8,  22.5738,  35.3568,2,  35.3553,2,    215.9,1, 22.5541,   -999.0,9,  -999.00,9,  -999.00,9,  -999.00,9,  -999.0,-999.000
     33KI136_1,  PRS2,     2,  9,      9,      3,2,20020313,1156, 22.7493,-158.0038, 4723,    100,     98.0,  22.5740,  35.3568,2,  35.3597,2,    215.8,1, 22.5543,   -999.0,9,  -999.00,9,  -999.00,9,  -999.00,9,  -999.0,-999.000
     33KI136_1,  PRS2,     2,  9,      8,     29,2,20020313,1156, 22.7493,-158.0038, 4723,     99,     98.1,  22.5745,  35.3568,2,  35.3559,2,    215.7,1, 22.5547,   -999.0,9,  -999.00,9,  -999.00,9,  -999.00,9,  -999.0,-999.000
     33KI136_1,  PRS2,     2,  9,      6,      7,2,20020313,1156, 22.7493,-158.0038, 4723,    124,    123.7,  22.5575,  35.3646,2,  35.3811,4,    214.9,1, 22.5325,   -999.0,9,  -999.00,9,  -999.00,9,  -999.00,9,  -999.0,-999.000
     33KI136_1,  PRS2,     2,  9,      5,     38,2,20020313,1156, 22.7493,-158.0038, 4723,    125,    123.7,  22.5570,  35.3645,2,  35.3748,2,    214.9,1, 22.5321,   -999.0,9,  -999.00,9,  -999.00,9,  -999.00,9,  -999.0,-999.000
     33KI136_1,  PRS2,     2,  9,      7,     28,2,20020313,1156, 22.7493,-158.0038, 4723,    124,    124.2,  22.5582,  35.3648,2,  35.3640,2,    215.0,1, 22.5332,   -999.0,9,  -999.00,9,  -999.00,9,  -999.00,9,  -999.0,-999.000
     33KI136_1,  PRS2,     2,  9,      4,     36,2,20020313,1156, 22.7493,-158.0038, 4723,    151,    150.5,  21.6641,  35.3301,2,  35.3313,2,    204.9,1, 21.6346,   -999.0,9,  -999.00,9,  -999.00,9,  -999.00,9,  -999.0,-999.000
     33KI136_1,  PRS2,     2,  9,      3,     35,2,20020313,1156, 22.7493,-158.0038, 4723,    175,    174.4,  20.7515,  35.3126,2,  35.3210,2,    206.6,1, 20.7183,   -999.0,9,  -999.00,9,  -999.00,9,  -999.00,9,  -999.0,-999.000
     33KI136_1,  PRS2,     2,  9,      2,     34,2,20020313,1156, 22.7493,-158.0038, 4723,    520,    519.2,   6.9911,  34.0318,2,  34.0327,2,    115.5,1,  6.9422,   -999.0,9,  -999.00,9,  -999.00,9,  -999.00,9,  -999.0,-999.000
     33KI136_1,  PRS2,     2,  9,      1,     33,2,20020313,1156, 22.7493,-158.0038, 4723,   1021,   1020.3,   3.8363,  34.4787,2,  34.4779,2,     40.2,1,  3.7602,   -999.0,9,  -999.00,9,  -999.00,9,  -999.00,9,  -999.0,-999.000
     33KI136_1,  PRS2,     2, 10,     10,     32,2,20020313,1455, 22.7680,-157.9758, 4708,      6,      5.2,  22.8700,  35.3469,2,-999.0000,5,    215.6,1, 22.8690,   -999.0,9,  -999.00,9,  -999.00,9,  -999.00,9,  -999.0,-999.000
     33KI136_1,  PRS2,     2, 10,      9,      3,2,20020313,1455, 22.7680,-157.9758, 4708,      5,      5.2,  22.8693,  35.3465,2,  35.3463,2,    215.6,1, 22.8683,   -999.0,9,  -999.00,9,  -999.00,9,  -999.00,9,  -999.0,-999.000
     33KI136_1,  PRS2,     2, 10,      7,     28,2,20020313,1455, 22.7680,-157.9758, 4708,     26,     24.6,  22.7863,  35.3613,2,  35.3606,2,    215.8,1, 22.7813,   -999.0,9,  -999.00,9,  -999.00,9,  -999.00,9,  -999.0,-999.000
     33KI136_1,  PRS2,     2, 10,      8,     29,3,20020313,1455, 22.7680,-157.9758, 4708,     25,     24.7,  22.7897,  35.3610,2,  35.3606,2,    215.8,1, 22.7846,   -999.0,9,  -999.00,9,  -999.00,9,  -999.00,9,  -999.0,-999.000
     33KI136_1,  PRS2,     2, 10,      6,      7,2,20020313,1455, 22.7680,-157.9758, 4708,     47,     45.7,  22.7466,  35.3614,2,  35.3606,2,    216.2,1, 22.7373,   -999.0,9,  -999.00,9,  -999.00,9,  -999.00,9,  -999.0,-999.000
     33KI136_1,  PRS2,     2, 10,      5,     38,2,20020313,1455, 22.7680,-157.9758, 4708,     77,     75.4,  22.6677,  35.3533,2,  35.3539,2,    216.2,1, 22.6524,   -999.0,9,  -999.00,9,  -999.00,9,  -999.00,9,  -999.0,-999.000
     33KI136_1,  PRS2,     2, 10,      4,     36,3,20020313,1455, 22.7680,-157.9758, 4708,    101,     99.7,  22.6013,  35.3480,2,  35.3559,2,    215.9,1, 22.5812,   -999.0,9,  -999.00,9,  -999.00,9,  -999.00,9,  -999.0,-999.000
     33KI136_1,  PRS2,     2, 10,      3,     35,2,20020313,1455, 22.7680,-157.9758, 4708,    151,    150.3,  22.5478,  35.3554,2,  35.3778,4,    213.1,1, 22.5175,   -999.0,9,  -999.00,9,  -999.00,9,  -999.00,9,  -999.0,-999.000
     33KI136_1,  PRS2,     2, 10,      2,     34,2,20020313,1455, 22.7680,-157.9758, 4708,    202,    200.6,  20.7290,  35.3004,2,  35.3047,2,    205.2,1, 20.6909,   -999.0,9,  -999.00,9,  -999.00,9,  -999.00,9,  -999.0,-999.000
     33KI136_1,  PRS2,     2, 10,      1,     33,2,20020313,1455, 22.7680,-157.9758, 4708,   1020,   1019.2,   3.7853,  34.4798,2,  34.4795,2,     41.5,1,  3.7098,   -999.0,9,  -999.00,9,  -999.00,9,  -999.00,9,  -999.0,-999.000
     33KI136_1,  PRS2,     2, 11,     15,     23,3,20020313,1758, 22.7748,-157.9770, 4701,      5,      4.7,  22.8630,  35.3507,2,  35.3492,2,    215.3,1, 22.8620,   -999.0,9,  -999.00,9,  -999.00,9,  -999.00,9,  -999.0,-999.000
     33KI136_1,  PRS2,     2, 11,     14,     14,2,20020313,1758, 22.7748,-157.9770, 4701,     14,     13.8,  22.8539,  35.3525,2,  35.3504,2,    215.4,1, 22.8511,   -999.0,9,  -999.00,9,  -999.00,9,  -999.00,9,  -999.0,-999.000
     33KI136_1,  PRS2,     2, 11,     13,     13,2,20020313,1758, 22.7748,-157.9770, 4701,     25,     24.4,  22.7653,  35.3609,2,  35.3595,2,    216.4,1, 22.7603,   -999.0,9,  -999.00,9,  -999.00,9,  -999.00,9,  -999.0,-999.000
     33KI136_1,  PRS2,     2, 11,     12,     12,2,20020313,1758, 22.7748,-157.9770, 4701,     35,     34.1,  22.7592,  35.3611,2,  35.3632,2,    216.1,1, 22.7523,   -999.0,9,  -999.00,9,  -999.00,9,  -999.00,9,  -999.0,-999.000
     33KI136_1,  PRS2,     2, 11,     11,     11,2,20020313,1758, 22.7748,-157.9770, 4701,     35,     34.1,  22.7592,  35.3611,2,  35.3760,4,    216.0,1, 22.7523,   -999.0,9,  -999.00,9,  -999.00,9,  -999.00,9,  -999.0,-999.000
     33KI136_1,  PRS2,     2, 11,     10,     32,2,20020313,1758, 22.7748,-157.9770, 4701,     46,     44.7,  22.7489,  35.3603,2,  35.3589,2,    216.1,1, 22.7398,   -999.0,9,  -999.00,9,  -999.00,9,  -999.00,9,  -999.0,-999.000
     33KI136_1,  PRS2,     2, 11,      9,      3,2,20020313,1758, 22.7748,-157.9770, 4701,     59,     59.1,  22.6839,  35.3540,2,  35.3541,2,    215.4,1, 22.6719,   -999.0,9,  -999.00,9,  -999.00,9,  -999.00,9,  -999.0,-999.000
     33KI136_1,  PRS2,     2, 11,      8,     29,2,20020313,1758, 22.7748,-157.9770, 4701,     76,     74.2,  22.6062,  35.3478,2,  35.3466,2,    215.8,1, 22.5913,   -999.0,9,  -999.00,9,  -999.00,9,  -999.00,9,  -999.0,-999.000
     33KI136_1,  PRS2,     2, 11,      6,      7,2,20020313,1758, 22.7748,-157.9770, 4701,    101,    100.1,  22.5947,  35.3511,2,  35.3512,2,    215.7,1, 22.5745,   -999.0,9,  -999.00,9,  -999.00,9,  -999.00,9,  -999.0,-999.000
     33KI136_1,  PRS2,     2, 11,      7,     28,2,20020313,1758, 22.7748,-157.9770, 4701,    100,    100.3,  22.5947,  35.3512,2,  35.3599,2,    215.7,1, 22.5745,   -999.0,9,  -999.00,9,  -999.00,9,  -999.00,9,  -999.0,-999.000
     33KI136_1,  PRS2,     2, 11,      5,     38,2,20020313,1758, 22.7748,-157.9770, 4701,    125,    123.6,  22.5658,  35.3552,2,  35.3685,3,    213.6,1, 22.5408,   -999.0,9,  -999.00,9,  -999.00,9,  -999.00,9,  -999.0,-999.000
     33KI136_1,  PRS2,     2, 11,      4,     36,2,20020313,1758, 22.7748,-157.9770, 4701,    151,    149.3,  22.3388,  35.3496,2,  35.3504,2,    209.1,1, 22.3089,   -999.0,9,  -999.00,9,  -999.00,9,  -999.00,9,  -999.0,-999.000
     33KI136_1,  PRS2,     2, 11,      3,     35,2,20020313,1758, 22.7748,-157.9770, 4701,    176,    175.5,  21.1786,  35.3164,2,  35.3220,2,    206.6,1, 21.1448,   -999.0,9,  -999.00,9,  -999.00,9,  -999.00,9,  -999.0,-999.000
     33KI136_1,  PRS2,     2, 11,      2,     34,2,20020313,1758, 22.7748,-157.9770, 4701,    497,    497.0,   7.5132,  34.0320,2,  34.0333,2,    140.1,1,  7.4644,   -999.0,9,  -999.00,9,  -999.00,9,  -999.00,9,  -999.0,-999.000
     33KI136_1,  PRS2,     2, 11,      1,     33,2,20020313,1758, 22.7748,-157.9770, 4701,   1021,   1020.1,   3.7663,  34.4836,2,  34.4826,2,     41.9,1,  3.6908,   -999.0,9,  -999.00,9,  -999.00,9,  -999.00,9,  -999.0,-999.000
     33KI136_1,  PRS2,     2, 12,      5,     38,2,20020313,2053, 22.7675,-157.9765, 4707,      4,      3.8,  22.9836,  35.3490,2,  35.3484,2,    215.5,1, 22.9829,   -999.0,9,  -999.00,9,  -999.00,9,  -999.00,9,  -999.0,-999.000
     33KI136_1,  PRS2,     2, 12,      4,     36,2,20020313,2053, 22.7675,-157.9765, 4707,     25,     23.8,  22.7633,  35.3597,2,  35.3599,2,    216.5,1, 22.7584,   -999.0,9,  -999.00,9,  -999.00,9,  -999.00,9,  -999.0,-999.000
     33KI136_1,  PRS2,     2, 12,      3,     35,2,20020313,2053, 22.7675,-157.9765, 4707,    100,     99.3,  22.5749,  35.3513,2,  35.3516,2,    215.4,1, 22.5548,   -999.0,9,  -999.00,9,  -999.00,9,  -999.00,9,  -999.0,-999.000
     33KI136_1,  PRS2,     2, 12,      2,     34,2,20020313,2053, 22.7675,-157.9765, 4707,    750,    748.3,   4.5876,  34.2673,2,  34.2668,2,     24.7,1,  4.5293,   -999.0,9,  -999.00,9,  -999.00,9,  -999.00,9,  -999.0,-999.000
     33KI136_1,  PRS2,     2, 12,      1,     33,2,20020313,2053, 22.7675,-157.9765, 4707,   1024,   1022.7,   3.8615,  34.4693,2,  34.4642,2,     39.3,1,  3.7851,   -999.0,9,  -999.00,9,  -999.00,9,  -999.00,9,  -999.0,-999.000
     33KI136_1,  PRS2,     2, 13,     12,     12,2,20020313,2355, 22.7510,-158.0027, 4723,      5,      4.2,  23.2041,  35.3428,2,  35.3417,2,    214.9,1, 23.2033,   -999.0,9,  -999.00,9,  -999.00,9,  -999.00,9,  -999.0,-999.000
     33KI136_1,  PRS2,     2, 13,     11,     11,2,20020313,2355, 22.7510,-158.0027, 4723,     25,     24.4,  22.7691,  35.3614,2,  35.3602,2,    216.5,1, 22.7641,   -999.0,9,  -999.00,9,  -999.00,9,  -999.00,9,  -999.0,-999.000
     33KI136_1,  PRS2,     2, 13,     10,     32,2,20020313,2355, 22.7510,-158.0027, 4723,     46,     44.9,  22.7401,  35.3591,2,  35.3581,2,    216.5,1, 22.7309,   -999.0,9,  -999.00,9,  -999.00,9,  -999.00,9,  -999.0,-999.000
     33KI136_1,  PRS2,     2, 13,      9,      3,2,20020313,2355, 22.7510,-158.0027, 4723,     75,     73.7,  22.6036,  35.3472,2,  35.3464,2,    216.1,1, 22.5887,   -999.0,9,  -999.00,9,  -999.00,9,  -999.00,9,  -999.0,-999.000
     33KI136_1,  PRS2,     2, 13,      8,     29,2,20020313,2355, 22.7510,-158.0027, 4723,    100,     99.5,  22.5885,  35.3513,2,  35.3510,2,    214.9,1, 22.5685,   -999.0,9,  -999.00,9,  -999.00,9,  -999.00,9,  -999.0,-999.000
     33KI136_1,  PRS2,     2, 13,      7,     28,2,20020313,2355, 22.7510,-158.0027, 4723,    124,    123.7,  22.5509,  35.3561,2,  35.3567,2,    214.7,1, 22.5259,   -999.0,9,  -999.00,9,  -999.00,9,  -999.00,9,  -999.0,-999.000
     33KI136_1,  PRS2,     2, 13,      6,      7,2,20020313,2355, 22.7510,-158.0027, 4723,    151,    150.1,  22.1911,  35.3462,2,  35.3474,2,    210.1,1, 22.1612,   -999.0,9,  -999.00,9,  -999.00,9,  -999.00,9,  -999.0,-999.000
     33KI136_1,  PRS2,     2, 13,      5,     38,3,20020313,2355, 22.7510,-158.0027, 4723,    199,    198.6,  20.2788,  35.2792,2,  35.2822,2,    204.5,1, 20.2416,   -999.0,9,  -999.00,9,  -999.00,9,  -999.00,9,  -999.0,-999.000
     33KI136_1,  PRS2,     2, 13,      4,     36,2,20020313,2355, 22.7510,-158.0027, 4723,    251,    249.8,  18.1568,  34.9188,2,  34.9197,2,    199.4,1, 18.1136,   -999.0,9,  -999.00,9,  -999.00,9,  -999.00,9,  -999.0,-999.000
     33KI136_1,  PRS2,     2, 13,      3,     35,2,20020313,2355, 22.7510,-158.0027, 4723,    350,    348.8,  10.9250,  34.1310,2,  34.1391,2,    191.7,1, 10.8823,   -999.0,9,  -999.00,9,  -999.00,9,  -999.00,9,  -999.0,-999.000
     33KI136_1,  PRS2,     2, 13,      2,     34,2,20020313,2355, 22.7510,-158.0027, 4723,    501,    499.8,   7.4906,  34.0333,2,  34.0345,2,    131.3,1,  7.4417,   -999.0,9,  -999.00,9,  -999.00,9,  -999.00,9,  -999.0,-999.000
     33KI136_1,  PRS2,     2, 13,      1,     33,2,20020313,2355, 22.7510,-158.0027, 4723,   1021,   1020.6,   3.8852,  34.4640,2,  34.4624,2,     38.6,1,  3.8088,   -999.0,9,  -999.00,9,  -999.00,9,  -999.00,9,  -999.0,-999.000
     33KI136_1,  PRS2,     2, 14,     14,     14,2,20020314,0254, 22.7505,-158.0153, 4723,      5,      4.3,  23.2617,  35.3503,2,  35.3494,2,    215.4,1, 23.2608,   -999.0,9,  -999.00,9,  -999.00,9,  -999.00,9,  -999.0,-999.000
     33KI136_1,  PRS2,     2, 14,     13,     13,2,20020314,0254, 22.7505,-158.0153, 4723,     25,     24.7,  22.7779,  35.3609,2,  35.3595,2,    216.5,1, 22.7729,   -999.0,9,  -999.00,9,  -999.00,9,  -999.00,9,  -999.0,-999.000
     33KI136_1,  PRS2,     2, 14,     12,     12,2,20020314,0254, 22.7505,-158.0153, 4723,     51,     49.8,  22.7391,  35.3594,2,  35.3575,2,    216.7,1, 22.7290,   -999.0,9,  -999.00,9,  -999.00,9,  -999.00,9,  -999.0,-999.000
     33KI136_1,  PRS2,     2, 14,     11,     11,2,20020314,0254, 22.7505,-158.0153, 4723,     76,     74.7,  22.5901,  35.3527,2,  35.3512,2,    215.9,1, 22.5750,   -999.0,9,  -999.00,9,  -999.00,9,  -999.00,9,  -999.0,-999.000
     33KI136_1,  PRS2,     2, 14,     10,     32,2,20020314,0254, 22.7505,-158.0153, 4723,    100,     98.7,  22.5613,  35.3572,2,  35.3654,2,    215.8,1, 22.5414,   -999.0,9,  -999.00,9,  -999.00,9,  -999.00,9,  -999.0,-999.000
     33KI136_1,  PRS2,     2, 14,      9,      3,2,20020314,0254, 22.7505,-158.0153, 4723,    126,    124.4,  22.5410,  35.3654,2,  35.3861,4,    215.0,1, 22.5159,   -999.0,9,  -999.00,9,  -999.00,9,  -999.00,9,  -999.0,-999.000
     33KI136_1,  PRS2,     2, 14,      8,     29,2,20020314,0254, 22.7505,-158.0153, 4723,    152,    150.9,  22.2104,  35.3516,2,  35.3624,2,    210.6,1, 22.1803,   -999.0,9,  -999.00,9,  -999.00,9,  -999.00,9,  -999.0,-999.000
     33KI136_1,  PRS2,     2, 14,      7,     28,2,20020314,0254, 22.7505,-158.0153, 4723,    176,    174.7,  20.9744,  35.3152,2,  35.3151,2,    204.4,1, 20.9409,   -999.0,9,  -999.00,9,  -999.00,9,  -999.00,9,  -999.0,-999.000
     33KI136_1,  PRS2,     2, 14,      6,      7,2,20020314,0254, 22.7505,-158.0153, 4723,    200,    199.2,  20.3820,  35.2908,2,  35.2913,2,    204.1,1, 20.3446,   -999.0,9,  -999.00,9,  -999.00,9,  -999.00,9,  -999.0,-999.000
     33KI136_1,  PRS2,     2, 14,      5,     38,2,20020314,0254, 22.7505,-158.0153, 4723,    251,    250.3,  19.1232,  35.0759,2,  35.0852,2,    201.1,1, 19.0783,   -999.0,9,  -999.00,9,  -999.00,9,  -999.00,9,  -999.0,-999.000
     33KI136_1,  PRS2,     2, 14,      4,     36,2,20020314,0254, 22.7505,-158.0153, 4723,    351,    349.7,  12.2127,  34.2031,2,  34.1981,2,    197.7,1, 12.1667,   -999.0,9,  -999.00,9,  -999.00,9,  -999.00,9,  -999.0,-999.000
     33KI136_1,  PRS2,     2, 14,      3,     35,2,20020314,0254, 22.7505,-158.0153, 4723,    500,    499.4,   7.5097,  34.0336,2,  34.0335,2,    131.0,1,  7.4607,   -999.0,9,  -999.00,9,  -999.00,9,  -999.00,9,  -999.0,-999.000
     33KI136_1,  PRS2,     2, 14,      2,     34,2,20020314,0254, 22.7505,-158.0153, 4723,    726,    725.2,   4.6589,  34.2463,2,  34.2452,2,     25.6,1,  4.6021,   -999.0,9,  -999.00,9,  -999.00,9,  -999.00,9,  -999.0,-999.000
     33KI136_1,  PRS2,     2, 14,      1,     33,2,20020314,0254, 22.7505,-158.0153, 4723,   1019,   1020.4,   3.8526,  34.4707,2,  34.4659,2,     39.9,1,  3.7765,   -999.0,9,  -999.00,9,  -999.00,9,  -999.00,9,  -999.0,-999.000