BOTTLE,20141104SIOCCHRJL
EXPOCODE,SECT_ID,STNNBR,CASTNO,BTLNBR,BTLNBR_FLAG_W,DATE,TIME,LATITUDE,LONGITUDE,DEPTH,CTDPRS,CTDTMP,CTDSAL,CTDSAL_FLAG_W,SALNTY,SALNTY_FLAG_W,OXYGEN,OXYGEN_FLAG_W,CFC-11,CFC-11_FLAG_W,CFC-12,CFC-12_FLAG_W,TRITUM,TRITUM_FLAG_W,TRITER,HELIUM,HELIUM_FLAG_W,HELIER,DELHE3,DELHE3_FLAG_W,DELHER,DELC14,DELC14_FLAG_W,C14ERR,THETA
,,,,,,,,,,METERS,DBAR,ITS-90,PSS-78,,PSS-78,,UMOL/KG,,PMOL/KG,,PMOL/KG,,TU,,TU,NMOL/KG,,NMOL/KG,PERCNT,,PERCNT,/MILLE,,/MILLE,DEG C
  06MT19901004,  AR04,   660,  2,     24,2,19901019,   0, -2.2917, -35.0000, 4001,     17.7,  26.7610,  36.3727,2,-999.0000,9,   -999.0,9, -999.000,9, -999.000,9, -999.000,9, -999.000,-999.0000,9,-999.0000,  -999.00,9,  -999.00,   -999.0,9,   -999.0,-999.0000
  06MT19901004,  AR04,   660,  2,     23,2,19901019,   0, -2.2917, -35.0000, 4001,     95.3,  26.6540,  36.3723,2,-999.0000,9,   -999.0,9, -999.000,9, -999.000,9, -999.000,9, -999.000,-999.0000,9,-999.0000,  -999.00,9,  -999.00,   -999.0,9,   -999.0,-999.0000
  06MT19901004,  AR04,   660,  2,     22,2,19901019,   0, -2.2917, -35.0000, 4001,    195.0,  11.5087,  35.0769,2,-999.0000,9,   -999.0,9, -999.000,9, -999.000,9, -999.000,9, -999.000,-999.0000,9,-999.0000,  -999.00,9,  -999.00,   -999.0,9,   -999.0,-999.0000
  06MT19901004,  AR04,   660,  2,     21,2,19901019,   0, -2.2917, -35.0000, 4001,    495.1,   7.1102,  34.6061,2,  34.6030,2,   -999.0,9,    0.231,2,    0.140,2,    0.081,2,    0.007,-999.0000,9,-999.0000,  -999.00,9,  -999.00,   -999.0,9,   -999.0,   7.0627
  06MT19901004,  AR04,   660,  2,     20,2,19901019,   0, -2.2917, -35.0000, 4001,    693.8,   4.8096,  34.4918,2,-999.0000,9,   -999.0,9, -999.000,9, -999.000,9, -999.000,9, -999.000,-999.0000,9,-999.0000,  -999.00,9,  -999.00,   -999.0,9,   -999.0,-999.0000
  06MT19901004,  AR04,   660,  2,     19,2,19901019,   0, -2.2917, -35.0000, 4001,    795.8,   4.6646,  34.5101,2,-999.0000,9,   -999.0,9,    0.034,2,    0.019,2,    0.042,2,    0.006,   1.8178,2,   0.0073,     1.50,2,     0.16,   -999.0,9,   -999.0,-999.0000
  06MT19901004,  AR04,   660,  2,     18,2,19901019,   0, -2.2917, -35.0000, 4001,    892.5,   4.5467,  34.5544,2,-999.0000,9,   -999.0,9,    0.015,2, -999.000,9,    0.003,2,    0.000,   1.8175,2,   0.0073,     2.10,2,     0.19,   -999.0,9,   -999.0,-999.0000
  06MT19901004,  AR04,   660,  2,     17,2,19901019,   0, -2.2917, -35.0000, 4001,    991.2,   4.4558,  34.5806,2,-999.0000,9,   -999.0,9, -999.000,9, -999.000,9, -999.000,9, -999.000,-999.0000,9,-999.0000,  -999.00,9,  -999.00,   -999.0,9,   -999.0,-999.0000
  06MT19901004,  AR04,   660,  2,     16,2,19901019,   0, -2.2917, -35.0000, 4001,   1192.3,   4.5447,  34.8137,2,  34.8120,2,   -999.0,9,    0.017,2,    0.003,2, -999.000,9, -999.000,-999.0000,9,-999.0000,  -999.00,9,  -999.00,   -999.0,9,   -999.0,   4.4472
  06MT19901004,  AR04,   660,  2,     15,2,19901019,   0, -2.2917, -35.0000, 4001,   1495.1,   4.1779,  34.9722,2,-999.0000,9,   -999.0,9,    0.049,2, -999.000,9,    0.152,2,    0.007,   1.8606,2,   0.0074,     1.87,2,     0.16,   -999.0,9,   -999.0,-999.0000
  06MT19901004,  AR04,   660,  2,     14,2,19901019,   0, -2.2917, -35.0000, 4001,   1584.5,   4.0960,  34.9783,2,-999.0000,9,   -999.0,9,    0.043,2, -999.000,9,    0.129,2,    0.005,-999.0000,9,-999.0000,  -999.00,9,  -999.00,   -999.0,9,   -999.0,-999.0000
  06MT19901004,  AR04,   660,  2,     13,2,19901019,   0, -2.2917, -35.0000, 4001,   1681.0,   4.0310,  34.9797,2,-999.0000,9,   -999.0,9,    0.030,2, -999.000,9,    0.128,2,    0.002,-999.0000,9,-999.0000,  -999.00,9,  -999.00,   -999.0,9,   -999.0,-999.0000
  06MT19901004,  AR04,   660,  2,     12,2,19901019,   0, -2.2917, -35.0000, 4001,   1793.5,   3.9590,  34.9788,2,-999.0000,9,   -999.0,9,    0.038,2,    0.021,2, -999.000,9, -999.000,-999.0000,9,-999.0000,  -999.00,9,  -999.00,   -999.0,9,   -999.0,-999.0000
  06MT19901004,  AR04,   660,  2,     11,2,19901019,   0, -2.2917, -35.0000, 4001,   1987.5,   3.7961,  34.9796,2,  34.9810,2,   -999.0,9,    0.051,2, -999.000,9,    0.125,2,    0.002,-999.0000,9,-999.0000,  -999.00,9,  -999.00,   -999.0,9,   -999.0,   3.6327
  06MT19901004,  AR04,   660,  2,     10,2,19901019,   0, -2.2917, -35.0000, 4001,   2388.1,   3.1675,  34.9535,2,-999.0000,9,   -999.0,9,    0.024,2,    0.013,2, -999.000,5, -999.000,   1.8635,2,   0.0075,     2.07,2,     0.16,   -999.0,9,   -999.0,-999.0000
  06MT19901004,  AR04,   660,  2,      9,2,19901019,   0, -2.2917, -35.0000, 4001,   2590.8,   2.8967,  34.9413,2,-999.0000,9,   -999.0,9, -999.000,9, -999.000,9, -999.000,9, -999.000,-999.0000,9,-999.0000,  -999.00,9,  -999.00,   -999.0,9,   -999.0,-999.0000
  06MT19901004,  AR04,   660,  2,      8,2,19901019,   0, -2.2917, -35.0000, 4001,   2790.9,   2.7587,  34.9317,2,-999.0000,9,   -999.0,9, -999.000,9, -999.000,9, -999.000,9, -999.000,-999.0000,9,-999.0000,  -999.00,9,  -999.00,   -999.0,9,   -999.0,-999.0000
  06MT19901004,  AR04,   660,  2,      7,2,19901019,   0, -2.2917, -35.0000, 4001,   2990.3,   2.6728,  34.9250,2,-999.0000,9,   -999.0,9,    0.029,2,    0.013,2,    0.066,2,    0.001,-999.0000,9,-999.0000,  -999.00,9,  -999.00,   -999.0,9,   -999.0,-999.0000
  06MT19901004,  AR04,   660,  2,      6,2,19901019,   0, -2.2917, -35.0000, 4001,   3191.1,   2.6358,  34.9211,2,-999.0000,9,   -999.0,9,    0.029,2,    0.015,2, -999.000,9, -999.000,-999.0000,9,-999.0000,  -999.00,9,  -999.00,   -999.0,9,   -999.0,-999.0000
  06MT19901004,  AR04,   660,  2,      5,2,19901019,   0, -2.2917, -35.0000, 4001,   3591.2,   2.5029,  34.9119,2,-999.0000,9,   -999.0,9,    0.037,2,    0.026,2, -999.000,9, -999.000,-999.0000,9,-999.0000,  -999.00,9,  -999.00,   -999.0,9,   -999.0,-999.0000
  06MT19901004,  AR04,   660,  2,      4,2,19901019,   0, -2.2917, -35.0000, 4001,   3790.3,   2.2570,  34.8903,2,-999.0000,9,   -999.0,9,    0.039,2,    0.009,2,    0.110,2,    0.004,   1.8477,2,   0.0074,     2.53,2,     0.18,   -999.0,9,   -999.0,-999.0000
  06MT19901004,  AR04,   660,  2,      1,2,19901019,   0, -2.2917, -35.0000, 4001,   3964.7,   1.7343,  34.8266,2,  34.8250,2,   -999.0,9,    0.009,2,    0.003,2, -999.000,9, -999.000,-999.0000,9,-999.0000,  -999.00,9,  -999.00,   -999.0,9,   -999.0,   1.4117
  06MT19901004,  AR04,   661,  1,     14,2,19901020,   0, -2.7167, -34.9500, 3867,     13.4,  26.8699,  36.3419,2,-999.0000,9,   -999.0,9, -999.000,9, -999.000,9, -999.000,9, -999.000,-999.0000,9,-999.0000,  -999.00,9,  -999.00,   -999.0,9,   -999.0,-999.0000
  06MT19901004,  AR04,   661,  1,     13,2,19901020,   0, -2.7167, -34.9500, 3867,     45.2,  26.7700,  36.4154,2,-999.0000,9,   -999.0,9, -999.000,9, -999.000,9, -999.000,9, -999.000,-999.0000,9,-999.0000,  -999.00,9,  -999.00,   -999.0,9,   -999.0,-999.0000
  06MT19901004,  AR04,   661,  1,     12,2,19901020,   0, -2.7167, -34.9500, 3867,     97.0,  26.2133,  36.4346,2,-999.0000,9,   -999.0,9, -999.000,9, -999.000,9, -999.000,9, -999.000,-999.0000,9,-999.0000,  -999.00,9,  -999.00,   -999.0,9,   -999.0,-999.0000
  06MT19901004,  AR04,   661,  1,     11,2,19901020,   0, -2.7167, -34.9500, 3867,    195.8,  11.1859,  35.0193,2,-999.0000,9,   -999.0,9, -999.000,9, -999.000,9, -999.000,9, -999.000,-999.0000,9,-999.0000,  -999.00,9,  -999.00,   -999.0,9,   -999.0,-999.0000
  06MT19901004,  AR04,   661,  1,     10,2,19901020,   0, -2.7167, -34.9500, 3867,    342.8,   8.8662,  34.7789,2,-999.0000,9,   -999.0,9, -999.000,9, -999.000,9, -999.000,9, -999.000,-999.0000,9,-999.0000,  -999.00,9,  -999.00,   -999.0,9,   -999.0,-999.0000
  06MT19901004,  AR04,   661,  1,      9,2,19901020,   0, -2.7167, -34.9500, 3867,    494.4,   6.8754,  34.5728,2,-999.0000,9,   -999.0,9, -999.000,9, -999.000,9, -999.000,9, -999.000,-999.0000,9,-999.0000,  -999.00,9,  -999.00,   -999.0,9,   -999.0,-999.0000
  06MT19901004,  AR04,   661,  1,      8,2,19901020,   0, -2.7167, -34.9500, 3867,    644.8,   4.8755,  34.4613,2,-999.0000,9,   -999.0,9, -999.000,9, -999.000,9, -999.000,9, -999.000,-999.0000,9,-999.0000,  -999.00,9,  -999.00,   -999.0,9,   -999.0,-999.0000
  06MT19901004,  AR04,   661,  1,      7,2,19901020,   0, -2.7167, -34.9500, 3867,    785.2,   4.6736,  34.5142,2,-999.0000,9,   -999.0,9, -999.000,9, -999.000,9, -999.000,9, -999.000,-999.0000,9,-999.0000,  -999.00,9,  -999.00,   -999.0,9,   -999.0,-999.0000
  06MT19901004,  AR04,   661,  1,      6,2,19901020,   0, -2.7167, -34.9500, 3867,   1096.0,   4.4748,  34.7599,2,-999.0000,9,   -999.0,9, -999.000,9, -999.000,9, -999.000,9, -999.000,-999.0000,9,-999.0000,  -999.00,9,  -999.00,   -999.0,9,   -999.0,-999.0000
  06MT19901004,  AR04,   661,  1,      1,2,19901020,   0, -2.7167, -34.9500, 3867,   1382.0,   4.3108,  34.9631,2,-999.0000,9,   -999.0,9, -999.000,9, -999.000,9, -999.000,9, -999.000,-999.0000,9,-999.0000,  -999.00,9,  -999.00,   -999.0,9,   -999.0,-999.0000
  06MT19901004,  AR04,   663,  1,     21,2,19901021,   0, -3.6500, -34.8833, 3421,     14.6,  26.3652,  36.1858,2,-999.0000,9,   -999.0,9, -999.000,9, -999.000,9, -999.000,9, -999.000,-999.0000,9,-999.0000,  -999.00,9,  -999.00,   -999.0,9,   -999.0,-999.0000
  06MT19901004,  AR04,   663,  1,     19,2,19901021,   0, -3.6500, -34.8833, 3421,     50.1,  26.3702,  36.1866,2,  36.1830,2,   -999.0,9, -999.000,9, -999.000,9, -999.000,9, -999.000,-999.0000,9,-999.0000,  -999.00,9,  -999.00,   -999.0,9,   -999.0,  26.3589
  06MT19901004,  AR04,   663,  1,     17,2,19901021,   0, -3.6500, -34.8833, 3421,     94.0,  25.3888,  36.5208,2,-999.0000,9,   -999.0,9, -999.000,9, -999.000,9, -999.000,9, -999.000,-999.0000,9,-999.0000,  -999.00,9,  -999.00,   -999.0,9,   -999.0,-999.0000
  06MT19901004,  AR04,   663,  1,     15,2,19901021,   0, -3.6500, -34.8833, 3421,    194.0,  12.6950,  35.2139,2,  35.2180,2,   -999.0,9, -999.000,9, -999.000,9, -999.000,9, -999.000,-999.0000,9,-999.0000,  -999.00,9,  -999.00,   -999.0,9,   -999.0,  12.6687
  06MT19901004,  AR04,   663,  1,     13,2,19901021,   0, -3.6500, -34.8833, 3421,    343.0,   8.7883,  34.7753,2,  34.7720,2,   -999.0,9, -999.000,9, -999.000,9, -999.000,9, -999.000,-999.0000,9,-999.0000,  -999.00,9,  -999.00,   -999.0,9,   -999.0,   8.7514
  06MT19901004,  AR04,   663,  1,     11,2,19901021,   0, -3.6500, -34.8833, 3421,    493.2,   7.1052,  34.6393,2,-999.0000,9,   -999.0,9, -999.000,9, -999.000,9, -999.000,9, -999.000,-999.0000,9,-999.0000,  -999.00,9,  -999.00,   -999.0,9,   -999.0,-999.0000
  06MT19901004,  AR04,   663,  1,      9,2,19901021,   0, -3.6500, -34.8833, 3421,    642.8,   5.2393,  34.4794,2,  34.4790,2,   -999.0,9, -999.000,9, -999.000,9, -999.000,9, -999.000,-999.0000,9,-999.0000,  -999.00,9,  -999.00,   -999.0,9,   -999.0,   5.1862
  06MT19901004,  AR04,   663,  1,      7,2,19901021,   0, -3.6500, -34.8833, 3421,    790.5,   4.6177,  34.4719,2,-999.0000,9,   -999.0,9, -999.000,9, -999.000,9, -999.000,9, -999.000,-999.0000,9,-999.0000,  -999.00,9,  -999.00,   -999.0,9,   -999.0,-999.0000
  06MT19901004,  AR04,   663,  1,      6,2,19901021,   0, -3.6500, -34.8833, 3421,   1093.3,   4.1779,  34.6432,2,  34.6400,2,   -999.0,9, -999.000,9, -999.000,9, -999.000,9, -999.000,-999.0000,9,-999.0000,  -999.00,9,  -999.00,   -999.0,9,   -999.0,   4.0927
  06MT19901004,  AR04,   663,  1,      1,2,19901021,   0, -3.6500, -34.8833, 3421,   1406.0,   4.4098,  34.9190,2,  34.9190,2,   -999.0,9, -999.000,9, -999.000,9, -999.000,9, -999.000,-999.0000,9,-999.0000,  -999.00,9,  -999.00,   -999.0,9,   -999.0,   4.2939
  06MT19901004,  AR04,   664,  2,      1,2,19901021,   0, -3.9983, -34.8867, 3570,     21.9,  26.4292,  36.2196,2,  36.2210,2,   -999.0,9, -999.000,9, -999.000,9, -999.000,9, -999.000,-999.0000,9,-999.0000,  -999.00,9,  -999.00,   -999.0,9,   -999.0,  26.4242
  06MT19901004,  AR04,   664,  2,     24,2,19901021,   0, -3.9983, -34.8867, 3570,    100.0,  26.4881,  37.0520,2,  37.0570,2,   -999.0,9, -999.000,9, -999.000,9, -999.000,9, -999.000,-999.0000,9,-999.0000,  -999.00,9,  -999.00,   -999.0,9,   -999.0,  26.4653
  06MT19901004,  AR04,   664,  2,     23,2,19901021,   0, -3.9983, -34.8867, 3570,    390.8,   7.6969,  34.6518,2,-999.0000,9,   -999.0,9, -999.000,9, -999.000,9, -999.000,9, -999.000,-999.0000,9,-999.0000,  -999.00,9,  -999.00,   -999.0,9,   -999.0,-999.0000
  06MT19901004,  AR04,   664,  2,     22,2,19901021,   0, -3.9983, -34.8867, 3570,    594.8,   5.7050,  34.5078,2,  34.5090,2,   -999.0,9, -999.000,9, -999.000,9, -999.000,9, -999.000,-999.0000,9,-999.0000,  -999.00,9,  -999.00,   -999.0,9,   -999.0,   5.6540
  06MT19901004,  AR04,   664,  2,     21,2,19901021,   0, -3.9983, -34.8867, 3570,    693.7,   5.0914,  34.4738,2,-999.0000,9,   -999.0,9, -999.000,9, -999.000,9, -999.000,9, -999.000,-999.0000,9,-999.0000,  -999.00,9,  -999.00,   -999.0,9,   -999.0,-999.0000
  06MT19901004,  AR04,   664,  2,     20,2,19901021,   0, -3.9983, -34.8867, 3570,    793.5,   4.5567,  34.4719,2,  34.4690,2,   -999.0,9,    0.043,2,    0.022,2,    0.044,2,    0.005,   2.4251,3,   0.0097,     1.20,2,     0.17,   -999.0,9,   -999.0,   4.4945
  06MT19901004,  AR04,   664,  2,     19,2,19901021,   0, -3.9983, -34.8867, 3570,    891.7,   4.2049,  34.5115,2,-999.0000,9,   -999.0,9, -999.000,9, -999.000,9, -999.000,9, -999.000,-999.0000,9,-999.0000,  -999.00,9,  -999.00,   -999.0,9,   -999.0,-999.0000
  06MT19901004,  AR04,   664,  2,     18,2,19901021,   0, -3.9983, -34.8867, 3570,    990.7,   4.1859,  34.5563,2,-999.0000,9,   -999.0,9,    0.020,2, -999.000,9,    0.035,2,    0.004,   1.8388,2,   0.0074,     2.43,2,     0.17,   -999.0,9,   -999.0,-999.0000
  06MT19901004,  AR04,   664,  2,     17,2,19901021,   0, -3.9983, -34.8867, 3570,   1291.2,   4.4198,  34.8207,2,-999.0000,9,   -999.0,9,    0.015,2, -999.000,9, -999.000,9, -999.000,-999.0000,9,-999.0000,  -999.00,9,  -999.00,   -999.0,9,   -999.0,-999.0000
  06MT19901004,  AR04,   664,  2,     16,2,19901021,   0, -3.9983, -34.8867, 3570,   1492.9,   4.2679,  34.9644,2,  34.9630,2,   -999.0,9,    0.072,2,    0.048,2,    0.193,2,    0.008,-999.0000,9,-999.0000,  -999.00,9,  -999.00,   -999.0,9,   -999.0,   4.1453
  06MT19901004,  AR04,   664,  2,     15,2,19901021,   0, -3.9983, -34.8867, 3570,   1593.6,   4.0730,  34.9781,2,-999.0000,9,   -999.0,9,    0.082,2, -999.000,9,    0.162,2,    0.004,-999.0000,9,-999.0000,  -999.00,9,  -999.00,   -999.0,9,   -999.0,-999.0000
  06MT19901004,  AR04,   664,  2,     14,2,19901021,   0, -3.9983, -34.8867, 3570,   1690.7,   3.9750,  34.9798,2,-999.0000,9,   -999.0,9, -999.000,9, -999.000,9,    0.158,2,    0.007,   1.8338,2,   0.0073,     1.89,2,     0.16,   -999.0,9,   -999.0,-999.0000
  06MT19901004,  AR04,   664,  2,     13,2,19901021,   0, -3.9983, -34.8867, 3570,   1790.6,   3.8281,  34.9790,2,-999.0000,9,   -999.0,9,    0.059,2, -999.000,9, -999.000,9, -999.000,-999.0000,9,-999.0000,  -999.00,9,  -999.00,   -999.0,9,   -999.0,-999.0000
  06MT19901004,  AR04,   664,  2,     12,2,19901021,   0, -3.9983, -34.8867, 3570,   1893.4,   3.6662,  34.9750,2,  34.9750,2,   -999.0,9,    0.054,2,    0.036,2,    0.134,2,    0.004,   1.8612,2,   0.0074,     1.42,2,     0.20,   -999.0,9,   -999.0,   3.5137
  06MT19901004,  AR04,   664,  2,     10,2,19901021,   0, -3.9983, -34.8867, 3570,   1993.1,   3.4403,  34.9676,2,  34.9700,2,   -999.0,9,    0.043,2,    0.024,2,    0.109,2,    0.004,   1.8619,2,   0.0074,     1.96,2,     0.18,   -999.0,9,   -999.0,   3.2817
  06MT19901004,  AR04,   664,  2,      9,2,19901021,   0, -3.9983, -34.8867, 3570,   2100.2,   3.2744,  34.9621,2,-999.0000,9,   -999.0,9,    0.028,2,    0.019,2,    0.084,2,    0.006,   1.8972,2,   0.0076,     1.44,2,     0.23,   -999.0,9,   -999.0,-999.0000
  06MT19901004,  AR04,   664,  2,      8,2,19901021,   0, -3.9983, -34.8867, 3570,   2188.3,   3.2445,  34.9591,2,  34.9590,2,   -999.0,9,    0.026,2, -999.000,9, -999.000,5, -999.000,   1.8219,2,   0.0073,     2.03,2,     0.18,   -999.0,9,   -999.0,   3.0704
  06MT19901004,  AR04,   664,  2,      7,2,19901021,   0, -3.9983, -34.8867, 3570,   2292.8,   3.2145,  34.9557,2,-999.0000,9,   -999.0,9,    0.022,2,    0.006,2,    0.069,2,    0.005,   1.8677,2,   0.0075,     2.13,2,     0.16,   -999.0,9,   -999.0,-999.0000
  06MT19901004,  AR04,   664,  2,      6,2,19901021,   0, -3.9983, -34.8867, 3570,   2392.9,   3.1225,  34.9522,2,  34.9510,2,   -999.0,9,    0.019,2,    0.007,2,    0.065,2,    0.005,   1.7223,3,   0.0069,     2.83,3,     0.15,   -999.0,9,   -999.0,   2.9308
  06MT19901004,  AR04,   664,  2,      5,2,19901021,   0, -3.9983, -34.8867, 3570,   2478.2,   3.0346,  34.9481,2,-999.0000,9,   -999.0,9,    0.028,2, -999.000,9,    0.074,2,    0.004,   1.8841,2,   0.0075,     1.80,2,     0.17,   -999.0,9,   -999.0,-999.0000
  06MT19901004,  AR04,   664,  2,      2,2,19901021,   0, -3.9983, -34.8867, 3570,   3543.3,   2.5369,  34.9123,2,  34.9100,2,   -999.0,9, -999.000,9, -999.000,9, -999.000,9, -999.000,-999.0000,9,-999.0000,  -999.00,9,  -999.00,   -999.0,9,   -999.0,   2.2388