BOTTLE,20141104SIOCCHRJL
EXPOCODE,SECT_ID,STNNBR,CASTNO,BTLNBR,BTLNBR_FLAG_W,DATE,TIME,LATITUDE,LONGITUDE,DEPTH,CTDPRS,CTDTMP,CTDSAL,CTDSAL_FLAG_W,SALNTY,SALNTY_FLAG_W,OXYGEN,OXYGEN_FLAG_W,CFC-11,CFC-11_FLAG_W,CFC-12,CFC-12_FLAG_W,TRITUM,TRITUM_FLAG_W,TRITER,HELIUM,HELIUM_FLAG_W,HELIER,DELHE3,DELHE3_FLAG_W,DELHER,DELC14,DELC14_FLAG_W,C14ERR,THETA
,,,,,,,,,,METERS,DBAR,ITS-90,PSS-78,,PSS-78,,UMOL/KG,,PMOL/KG,,PMOL/KG,,TU,,TU,NMOL/KG,,NMOL/KG,PERCNT,,PERCNT,/MILLE,,/MILLE,DEG C
  06MT19901004,  AR04,   632,  1,     17,2,19901007,   0,  4.2800, -44.0150, 3239,     18.0,  28.2701,  36.0334,2,  36.0320,2,   -999.0,9, -999.000,9, -999.000,9, -999.000,9, -999.000,-999.0000,9,-999.0000,  -999.00,9,  -999.00,   -999.0,9,   -999.0,  28.2658
  06MT19901004,  AR04,   632,  1,     16,2,19901007,   0,  4.2800, -44.0150, 3239,    113.6,  24.8581,  36.4255,2,-999.0000,9,   -999.0,9, -999.000,9, -999.000,9, -999.000,9, -999.000,-999.0000,9,-999.0000,  -999.00,9,  -999.00,   -999.0,9,   -999.0,-999.0000
  06MT19901004,  AR04,   632,  1,     15,2,19901007,   0,  4.2800, -44.0150, 3239,    355.8,   8.8442,  34.8079,2,  34.8060,2,   -999.0,9, -999.000,9, -999.000,9, -999.000,9, -999.000,-999.0000,9,-999.0000,  -999.00,9,  -999.00,   -999.0,9,   -999.0,   8.8057
  06MT19901004,  AR04,   632,  1,     14,2,19901007,   0,  4.2800, -44.0150, 3239,    530.3,   6.9703,  34.6568,2,-999.0000,9,   -999.0,9, -999.000,9, -999.000,9, -999.000,9, -999.000,-999.0000,9,-999.0000,  -999.00,9,  -999.00,   -999.0,9,   -999.0,-999.0000
  06MT19901004,  AR04,   632,  1,     13,2,19901007,   0,  4.2800, -44.0150, 3239,    719.5,   5.3473,  34.5556,2,-999.0000,9,   -999.0,9, -999.000,9, -999.000,9, -999.000,9, -999.000,-999.0000,9,-999.0000,  -999.00,9,  -999.00,   -999.0,9,   -999.0,-999.0000
  06MT19901004,  AR04,   632,  1,     12,2,19901007,   0,  4.2800, -44.0150, 3239,    894.5,   4.8076,  34.6150,2,  34.6160,2,   -999.0,9, -999.000,9, -999.000,9, -999.000,9, -999.000,-999.0000,9,-999.0000,  -999.00,9,  -999.00,   -999.0,9,   -999.0,   4.7349
  06MT19901004,  AR04,   632,  1,     11,2,19901007,   0,  4.2800, -44.0150, 3239,   1193.5,   4.7846,  34.8485,2,  34.8490,2,   -999.0,9, -999.000,9, -999.000,9, -999.000,9, -999.000,-999.0000,9,-999.0000,  -999.00,9,  -999.00,   -999.0,9,   -999.0,   4.6848
  06MT19901004,  AR04,   632,  1,     10,2,19901007,   0,  4.2800, -44.0150, 3239,   1394.2,   4.5827,  34.9325,2,  34.9340,2,   -999.0,9, -999.000,9, -999.000,9, -999.000,9, -999.000,-999.0000,9,-999.0000,  -999.00,9,  -999.00,   -999.0,9,   -999.0,   4.4660
  06MT19901004,  AR04,   632,  1,      9,2,19901007,   0,  4.2800, -44.0150, 3239,   1594.3,   4.2179,  34.9756,2,  34.9750,2,   -999.0,9, -999.000,9, -999.000,9, -999.000,9, -999.000,-999.0000,9,-999.0000,  -999.00,9,  -999.00,   -999.0,9,   -999.0,   4.0864
  06MT19901004,  AR04,   632,  1,      8,2,19901007,   0,  4.2800, -44.0150, 3239,   1797.4,   3.9271,  34.9799,2,  34.9790,2,   -999.0,9, -999.000,9, -999.000,9, -999.000,9, -999.000,-999.0000,9,-999.0000,  -999.00,9,  -999.00,   -999.0,9,   -999.0,   3.7801
  06MT19901004,  AR04,   632,  1,      2,2,19901007,   0,  4.2800, -44.0150, 3239,   1983.4,   3.6732,  34.9730,2,  34.9750,2,   -999.0,9, -999.000,9, -999.000,9, -999.000,9, -999.000,-999.0000,9,-999.0000,  -999.00,9,  -999.00,   -999.0,9,   -999.0,   3.5121
  06MT19901004,  AR04,   633,  1,     24,2,19901008,   0,  3.2467, -44.0317, 4240,     15.2,  27.1258,  36.3558,2,  36.3520,2,   -999.0,9, -999.000,9, -999.000,9, -999.000,9, -999.000,-999.0000,9,-999.0000,  -999.00,9,  -999.00,   -999.0,9,   -999.0,  27.1223
  06MT19901004,  AR04,   633,  1,     22,2,19901008,   0,  3.2467, -44.0317, 4240,    120.0,  26.0894,  36.3979,2,-999.0000,9,    197.7,2, -999.000,9, -999.000,9, -999.000,9, -999.000,-999.0000,9,-999.0000,  -999.00,9,  -999.00,   -999.0,9,   -999.0,-999.0000
  06MT19901004,  AR04,   633,  1,     21,2,19901008,   0,  3.2467, -44.0317, 4240,    413.0,  10.0975,  34.9287,2,  34.9310,2,   -999.0,9,    0.679,2,    0.442,2, -999.000,9, -999.000,-999.0000,9,-999.0000,  -999.00,9,  -999.00,   -999.0,9,   -999.0,  10.0488
  06MT19901004,  AR04,   633,  1,     19,2,19901008,   0,  3.2467, -44.0317, 4240,    793.0,   5.0244,  34.5756,2,-999.0000,9,    146.0,2,    0.031,2, -999.000,9,    0.023,2,    0.004,   1.8396,2,   0.0074,     1.39,2,     0.34,   -999.0,9,   -999.0,-999.0000
  06MT19901004,  AR04,   633,  1,     18,2,19901008,   0,  3.2467, -44.0317, 4240,    894.3,   4.7936,  34.6237,2,-999.0000,9,   -999.0,9,    0.020,2, -999.000,9, -999.000,9, -999.000,-999.0000,9,-999.0000,  -999.00,9,  -999.00,   -999.0,9,   -999.0,-999.0000
  06MT19901004,  AR04,   633,  1,     17,2,19901008,   0,  3.2467, -44.0317, 4240,   1191.3,   4.8096,  34.8709,2,-999.0000,9,   -999.0,9,    0.053,2,    0.037,2, -999.000,9, -999.000,-999.0000,9,-999.0000,  -999.00,9,  -999.00,   -999.0,9,   -999.0,-999.0000
  06MT19901004,  AR04,   633,  1,     16,2,19901008,   0,  3.2467, -44.0317, 4240,   1393.0,   4.4348,  34.9597,2,-999.0000,9,   -999.0,9, -999.000,9, -999.000,9, -999.000,9, -999.000,-999.0000,9,-999.0000,  -999.00,9,  -999.00,   -999.0,9,   -999.0,-999.0000
  06MT19901004,  AR04,   633,  1,     14,2,19901008,   0,  3.2467, -44.0317, 4240,   1592.1,   4.1339,  34.9816,2,-999.0000,9,    246.8,2,    0.058,2, -999.000,9,    0.117,2,    0.005,   1.8325,2,   0.0073,     1.63,2,     0.33,   -999.0,9,   -999.0,-999.0000
  06MT19901004,  AR04,   633,  1,     12,2,19901008,   0,  3.2467, -44.0317, 4240,   1792.7,   3.8721,  34.9800,2,  34.9750,2,   -999.0,9,    0.041,2, -999.000,9,    0.096,2,    0.006,-999.0000,9,-999.0000,  -999.00,9,  -999.00,   -999.0,9,   -999.0,   3.7263
  06MT19901004,  AR04,   633,  1,     11,2,19901008,   0,  3.2467, -44.0317, 4240,   1992.0,   3.6812,  34.9793,2,  34.9750,2,   -999.0,9,    0.056,2, -999.000,9,    0.242,3,    0.008,-999.0000,9,-999.0000,  -999.00,9,  -999.00,   -999.0,9,   -999.0,   3.5191
  06MT19901004,  AR04,   633,  1,     10,2,19901008,   0,  3.2467, -44.0317, 4240,   2492.3,   3.0686,  34.9522,2,-999.0000,9,   -999.0,9, -999.000,9, -999.000,9, -999.000,9, -999.000,-999.0000,9,-999.0000,  -999.00,9,  -999.00,   -999.0,9,   -999.0,-999.0000
  06MT19901004,  AR04,   633,  1,      9,2,19901008,   0,  3.2467, -44.0317, 4240,   2992.6,   2.7677,  34.9327,2,-999.0000,9,   -999.0,9,    0.021,2, -999.000,9,    0.086,2,    0.006,   1.8773,2,   0.0075,     2.45,2,     0.34,   -999.0,9,   -999.0,-999.0000
  06MT19901004,  AR04,   633,  1,      8,2,19901008,   0,  3.2467, -44.0317, 4240,   3091.2,   2.7278,  34.9295,2,-999.0000,9,   -999.0,9,    0.040,2,    0.027,3,    0.068,2,    0.004,   1.8532,2,   0.0074,     2.13,2,     0.33,   -999.0,9,   -999.0,-999.0000
  06MT19901004,  AR04,   633,  1,      7,2,19901008,   0,  3.2467, -44.0317, 4240,   3391.1,   2.5828,  34.9179,2,  34.9130,2,   -999.0,9,    0.039,2,    0.029,3,    0.087,2,    0.002,   1.8623,2,   0.0074,     2.17,2,     0.35,   -999.0,9,   -999.0,   2.3001
  06MT19901004,  AR04,   633,  1,      6,2,19901008,   0,  3.2467, -44.0317, 4240,   3991.5,   2.2580,  34.8936,2,-999.0000,9,    271.6,2, -999.000,9, -999.000,9,    0.173,2,    0.008,   1.8802,2,   0.0075,     2.48,2,     0.35,   -999.0,9,   -999.0,-999.0000
  06MT19901004,  AR04,   633,  1,      1,2,19901008,   0,  3.2467, -44.0317, 4240,   4178.4,   1.8772,  34.8494,2,  34.8440,2,   -999.0,9,    0.053,2,    0.026,2,    0.077,2,    0.004,   1.8783,2,   0.0075,     2.94,2,     0.36,   -999.0,9,   -999.0,   1.5266
  06MT19901004,  AR04,   634,  1,     24,2,19901008,   0,  2.5033, -43.9733, 4173,     29.5,  27.0288,  36.3504,2,-999.0000,9,    198.6,2, -999.000,9, -999.000,9, -999.000,9, -999.000,-999.0000,9,-999.0000,  -999.00,9,  -999.00,   -999.0,9,   -999.0,-999.0000
  06MT19901004,  AR04,   634,  1,     23,2,19901008,   0,  2.5033, -43.9733, 4173,    167.0,  19.0324,  36.0863,2,-999.0000,9,   -999.0,9, -999.000,9, -999.000,9, -999.000,9, -999.000,-999.0000,9,-999.0000,  -999.00,9,  -999.00,   -999.0,9,   -999.0,-999.0000
  06MT19901004,  AR04,   634,  1,     22,2,19901008,   0,  2.5033, -43.9733, 4173,    296.3,  12.3612,  35.1891,2,-999.0000,9,   -999.0,9, -999.000,9, -999.000,9, -999.000,9, -999.000,-999.0000,9,-999.0000,  -999.00,9,  -999.00,   -999.0,9,   -999.0,-999.0000
  06MT19901004,  AR04,   634,  1,     21,2,19901008,   0,  2.5033, -43.9733, 4173,    593.8,   6.2397,  34.5971,2,-999.0000,9,   -999.0,9,    0.080,2, -999.000,9, -999.000,9, -999.000,-999.0000,9,-999.0000,  -999.00,9,  -999.00,   -999.0,9,   -999.0,-999.0000
  06MT19901004,  AR04,   634,  1,     20,2,19901008,   0,  2.5033, -43.9733, 4173,    692.7,   5.5931,  34.5768,2,-999.0000,9,   -999.0,9,    0.030,2, -999.000,9, -999.000,9, -999.000,-999.0000,9,-999.0000,  -999.00,9,  -999.00,   -999.0,9,   -999.0,-999.0000
  06MT19901004,  AR04,   634,  1,     19,2,19901008,   0,  2.5033, -43.9733, 4173,    794.6,   5.0594,  34.5641,2,-999.0000,9,    139.5,2, -999.000,9, -999.000,9, -999.000,9, -999.000,-999.0000,9,-999.0000,  -999.00,9,  -999.00,   -999.0,9,   -999.0,-999.0000
  06MT19901004,  AR04,   634,  1,     18,2,19901008,   0,  2.5033, -43.9733, 4173,    892.2,   4.7286,  34.6168,2,-999.0000,9,   -999.0,9,    0.014,2, -999.000,9, -999.000,9, -999.000,-999.0000,9,-999.0000,  -999.00,9,  -999.00,   -999.0,9,   -999.0,-999.0000
  06MT19901004,  AR04,   634,  1,     17,2,19901008,   0,  2.5033, -43.9733, 4173,    990.4,   4.6816,  34.7009,2,-999.0000,9,   -999.0,9,    0.012,2,    0.007,2, -999.000,9, -999.000,-999.0000,9,-999.0000,  -999.00,9,  -999.00,   -999.0,9,   -999.0,-999.0000
  06MT19901004,  AR04,   634,  1,     16,2,19901008,   0,  2.5033, -43.9733, 4173,   1189.7,   4.8605,  34.8730,2,-999.0000,9,   -999.0,9, -999.000,9, -999.000,9, -999.000,9, -999.000,-999.0000,9,-999.0000,  -999.00,9,  -999.00,   -999.0,9,   -999.0,-999.0000
  06MT19901004,  AR04,   634,  1,     15,2,19901008,   0,  2.5033, -43.9733, 4173,   1292.5,   4.6746,  34.9396,2,-999.0000,9,   -999.0,9,    0.059,2, -999.000,9,    0.132,2,    0.006,   1.8305,2,   0.0073,     2.19,2,     0.43,   -999.0,9,   -999.0,-999.0000
  06MT19901004,  AR04,   634,  1,     14,2,19901008,   0,  2.5033, -43.9733, 4173,   1365.8,   4.4438,  34.9590,2,-999.0000,9,   -999.0,9,    0.052,2,    0.030,2,    0.127,2,    0.008,   1.8111,2,   0.0072,     1.61,2,     0.27,   -999.0,9,   -999.0,-999.0000
  06MT19901004,  AR04,   634,  1,     13,2,19901008,   0,  2.5033, -43.9733, 4173,   1512.9,   4.2579,  34.9826,2,  34.9790,2,    242.1,2,    0.116,2, -999.000,9,    0.232,2,    0.008,   1.8080,2,   0.0072,     2.10,2,     0.24,   -999.0,9,   -999.0,   4.1335
  06MT19901004,  AR04,   634,  1,     12,2,19901008,   0,  2.5033, -43.9733, 4173,   1587.4,   4.1399,  34.9881,2,  34.9840,2,   -999.0,9,    0.103,2,    0.050,2,    0.232,2,    0.003,-999.0000,9,-999.0000,  -999.00,9,  -999.00,   -999.0,9,   -999.0,   4.0100
  06MT19901004,  AR04,   634,  1,     11,2,19901008,   0,  2.5033, -43.9733, 4173,   1692.9,   4.0230,  34.9824,2,  34.9790,2,   -999.0,9, -999.000,9, -999.000,9,    0.179,2,    0.006,   1.8293,2,   0.0073,     2.34,2,     0.26,   -999.0,9,   -999.0,   3.8846
  06MT19901004,  AR04,   634,  1,     10,2,19901008,   0,  2.5033, -43.9733, 4173,   1791.0,   3.9371,  34.9831,2,-999.0000,9,   -999.0,9, -999.000,9, -999.000,9, -999.000,5, -999.000,   1.8325,2,   0.0073,     3.18,3,     0.49,   -999.0,9,   -999.0,-999.0000
  06MT19901004,  AR04,   634,  1,      9,2,19901008,   0,  2.5033, -43.9733, 4173,   1993.0,   3.7142,  34.9772,2,-999.0000,9,   -999.0,9,    0.061,2, -999.000,9,    0.162,2,    0.006,   1.8010,2,   0.0072,     2.67,3,     0.29,   -999.0,9,   -999.0,-999.0000
  06MT19901004,  AR04,   634,  1,      8,2,19901008,   0,  2.5033, -43.9733, 4173,   2491.1,   3.0855,  34.9515,2,-999.0000,9,   -999.0,9,    0.028,2, -999.000,9,    0.070,2,    0.004,   1.7680,3,   0.0071,     2.46,2,     0.30,   -999.0,9,   -999.0,-999.0000
  06MT19901004,  AR04,   634,  1,      7,2,19901008,   0,  2.5033, -43.9733, 4173,   2722.5,   2.9296,  34.9427,2,-999.0000,9,   -999.0,9, -999.000,9, -999.000,9, -999.000,5, -999.000,   1.8343,2,   0.0073,     1.41,3,     0.49,   -999.0,9,   -999.0,-999.0000
  06MT19901004,  AR04,   634,  1,      6,2,19901008,   0,  2.5033, -43.9733, 4173,   2992.3,   2.7577,  34.9302,2,-999.0000,9,   -999.0,9,    0.031,2, -999.000,9,    0.077,2,    0.005,   1.8495,2,   0.0074,     2.18,2,     0.57,   -999.0,9,   -999.0,-999.0000
  06MT19901004,  AR04,   634,  1,      5,2,19901008,   0,  2.5033, -43.9733, 4173,   3490.6,   2.5289,  34.9135,2,-999.0000,9,   -999.0,9,    0.050,2,    0.023,2,    0.115,2,    0.006,   1.8218,2,   0.0073,     2.60,2,     0.34,   -999.0,9,   -999.0,-999.0000
  06MT19901004,  AR04,   634,  1,      4,2,19901008,   0,  2.5033, -43.9733, 4173,   3747.4,   2.3480,  34.9004,2,-999.0000,9,   -999.0,9,    0.056,2,    0.026,2,    0.142,2,    0.006,   1.7314,3,   0.0069,     3.70,3,     0.26,   -999.0,9,   -999.0,-999.0000
  06MT19901004,  AR04,   634,  1,      3,2,19901008,   0,  2.5033, -43.9733, 4173,   3981.7,   2.1811,  34.8849,2,-999.0000,9,   -999.0,9,    0.051,2,    0.016,2, -999.000,5, -999.000,   1.8826,2,   0.0075,     1.51,3,     0.83,   -999.0,9,   -999.0,-999.0000
  06MT19901004,  AR04,   634,  1,      1,2,19901008,   0,  2.5033, -43.9733, 4173,   4182.8,   1.7743,  34.8338,2,  34.8290,2,    253.4,2,    0.033,2,    0.007,2,    0.053,2,    0.002,   1.8206,2,   0.0073,     4.51,2,     0.25,   -999.0,9,   -999.0,   1.4263
  06MT19901004,  AR04,   635,  1,      4,2,19901010,   0,  0.0950, -44.3883,  622,     19.7,  26.9129,  36.3537,2,  36.3480,2,    190.8,2, -999.000,9, -999.000,9, -999.000,9, -999.000,-999.0000,9,-999.0000,  -999.00,9,  -999.00,   -999.0,9,   -999.0,  26.9084
  06MT19901004,  AR04,   635,  1,      3,2,19901010,   0,  0.0950, -44.3883,  622,    134.4,  18.0080,  35.9612,2,  35.9570,2,    178.6,2, -999.000,9, -999.000,9, -999.000,9, -999.000,-999.0000,9,-999.0000,  -999.00,9,  -999.00,   -999.0,9,   -999.0,  17.9848
  06MT19901004,  AR04,   635,  1,      2,2,19901010,   0,  0.0950, -44.3883,  622,    334.8,  10.5263,  34.9233,2,  34.9230,2,    149.5,2, -999.000,9, -999.000,9, -999.000,9, -999.000,-999.0000,9,-999.0000,  -999.00,9,  -999.00,   -999.0,9,   -999.0,  10.4859
  06MT19901004,  AR04,   635,  1,      1,2,19901010,   0,  0.0950, -44.3883,  622,    553.1,   5.4452,  34.4895,2,  34.4880,2,    141.2,2, -999.000,9, -999.000,9, -999.000,9, -999.000,-999.0000,9,-999.0000,  -999.00,9,  -999.00,   -999.0,9,   -999.0,   5.3990
  06MT19901004,  AR04,   637,  1,      4,2,19901011,   0,  0.1383, -44.3667, 1270,     34.5,  26.9489,  36.3546,2,  36.3500,2,    207.7,2, -999.000,9, -999.000,9, -999.000,9, -999.000,-999.0000,9,-999.0000,  -999.00,9,  -999.00,   -999.0,9,   -999.0,  26.9410
  06MT19901004,  AR04,   637,  1,      3,2,19901011,   0,  0.1383, -44.3667, 1270,    292.8,  10.6252,  34.9412,2,  34.9360,2,    169.9,2, -999.000,9, -999.000,9, -999.000,9, -999.000,-999.0000,9,-999.0000,  -999.00,9,  -999.00,   -999.0,9,   -999.0,  10.5898
  06MT19901004,  AR04,   637,  1,      2,2,19901011,   0,  0.1383, -44.3667, 1270,    669.5,   5.3183,  34.4972,2,  34.4940,2,    156.0,2, -999.000,9, -999.000,9, -999.000,9, -999.000,-999.0000,9,-999.0000,  -999.00,9,  -999.00,   -999.0,9,   -999.0,   5.2625
  06MT19901004,  AR04,   637,  1,      1,2,19901011,   0,  0.1383, -44.3667, 1270,   1092.4,   4.5317,  34.7699,2,  34.7680,2,    181.6,2, -999.000,9, -999.000,9, -999.000,9, -999.000,-999.0000,9,-999.0000,  -999.00,9,  -999.00,   -999.0,9,   -999.0,   4.4434
  06MT19901004,  AR04,   638,  1,      7,2,19901011,   0,  0.5383, -44.2150, 3520,     21.1,  26.9639,  36.3485,2,  36.3450,2,    206.4,2, -999.000,9, -999.000,9, -999.000,9, -999.000,-999.0000,9,-999.0000,  -999.00,9,  -999.00,   -999.0,9,   -999.0,  26.9590
  06MT19901004,  AR04,   638,  1,      6,2,19901011,   0,  0.5383, -44.2150, 3520,    296.4,  10.8251,  34.9657,2,-999.0000,9,   -999.0,9, -999.000,9, -999.000,9, -999.000,9, -999.000,-999.0000,9,-999.0000,  -999.00,9,  -999.00,   -999.0,9,   -999.0,-999.0000
  06MT19901004,  AR04,   638,  1,      5,2,19901011,   0,  0.5383, -44.2150, 3520,    676.5,   5.2723,  34.4963,2,  34.4940,2,    156.9,2, -999.000,9, -999.000,9, -999.000,9, -999.000,-999.0000,9,-999.0000,  -999.00,9,  -999.00,   -999.0,9,   -999.0,   5.2161
  06MT19901004,  AR04,   638,  1,      3,2,19901011,   0,  0.5383, -44.2150, 3520,    989.4,   4.5257,  34.6497,2,  34.6470,2,   -999.0,9, -999.000,9, -999.000,9, -999.000,9, -999.000,-999.0000,9,-999.0000,  -999.00,9,  -999.00,   -999.0,9,   -999.0,   4.4467
  06MT19901004,  AR04,   638,  1,      1,2,19901011,   0,  0.5383, -44.2150, 3520,   1493.5,   4.3538,  34.9872,2,  34.9850,2,    245.5,2, -999.000,9, -999.000,9, -999.000,9, -999.000,-999.0000,9,-999.0000,  -999.00,9,  -999.00,   -999.0,9,   -999.0,   4.2302