BOTTLE,20141104SIOCCHRJL
EXPOCODE,SECT_ID,STNNBR,CASTNO,BTLNBR,BTLNBR_FLAG_W,DATE,TIME,LATITUDE,LONGITUDE,DEPTH,CTDPRS,CTDTMP,CTDSAL,CTDSAL_FLAG_W,SALNTY,SALNTY_FLAG_W,OXYGEN,OXYGEN_FLAG_W,CFC-11,CFC-11_FLAG_W,CFC-12,CFC-12_FLAG_W,TRITUM,TRITUM_FLAG_W,TRITER,HELIUM,HELIUM_FLAG_W,HELIER,DELHE3,DELHE3_FLAG_W,DELHER,DELC14,DELC14_FLAG_W,C14ERR,THETA
,,,,,,,,,,METERS,DBAR,ITS-90,PSS-78,,PSS-78,,UMOL/KG,,PMOL/KG,,PMOL/KG,,TU,,TU,NMOL/KG,,NMOL/KG,PERCNT,,PERCNT,/MILLE,,/MILLE,DEG C
  06MT19901004,  AR04,   650,  1,     22,2,19901016,   0,  1.5000, -34.9967, 4046,    643.6,   5.7080,  34.5168,2,  34.5170,2,   -999.0,9,    0.052,2,    0.029,2,    0.065,2,    0.007,-999.0000,9,-999.0000,  -999.00,9,  -999.00,   -999.0,9,   -999.0,   5.6525
  06MT19901004,  AR04,   650,  1,     20,2,19901016,   0,  1.5000, -34.9967, 4046,    736.6,   5.2223,  34.5289,2,  34.5340,2,   -999.0,9,    0.040,2,    0.026,2, -999.000,5, -999.000,   1.8272,2,   0.0073,     1.94,2,     0.32,   -999.0,9,   -999.0,   5.1610
  06MT19901004,  AR04,   650,  1,     19,2,19901016,   0,  1.5000, -34.9967, 4046,    887.4,   4.5747,  34.5698,2,  34.5700,2,   -999.0,9,    0.016,2,    0.011,2,    0.020,2,    0.004,   1.9395,2,   0.0078,     1.69,2,     0.24,   -999.0,9,   -999.0,   4.5043
  06MT19901004,  AR04,   650,  1,     18,2,19901016,   0,  1.5000, -34.9967, 4046,    991.6,   4.5157,  34.6264,2,-999.0000,9,    162.5,2,    0.017,2, -999.000,9,    0.018,2,    0.003,   2.4575,3,   0.0098,     1.76,2,     0.29,   -999.0,9,   -999.0,-999.0000
  06MT19901004,  AR04,   650,  1,     17,2,19901016,   0,  1.5000, -34.9967, 4046,   1192.2,   4.7426,  34.8408,2,  34.8430,2,   -999.0,9,    0.027,2,    0.018,2, -999.000,5, -999.000,   1.8931,2,   0.0076,     1.55,2,     0.19,   -999.0,9,   -999.0,   4.6433
  06MT19901004,  AR04,   650,  1,     16,2,19901016,   0,  1.5000, -34.9967, 4046,   1392.3,   4.5307,  34.9111,2,  34.9120,2,   -999.0,9,    0.031,2, -999.000,9,    0.085,2,    0.002,-999.0000,9,-999.0000,  -999.00,9,  -999.00,   -999.0,9,   -999.0,   4.4148
  06MT19901004,  AR04,   650,  1,     15,2,19901016,   0,  1.5000, -34.9967, 4046,   1493.3,   4.4028,  34.9838,2,  34.9810,2,   -999.0,9,    0.073,2,    0.059,2, -999.000,5, -999.000,   1.7974,2,   0.0072,     2.22,2,     0.26,   -999.0,9,   -999.0,   4.2786
  06MT19901004,  AR04,   650,  1,     13,2,19901016,   0,  1.5000, -34.9967, 4046,   1592.5,   4.0560,  34.9812,2,  34.9820,2,   -999.0,9,    0.053,2,    0.034,2,    0.137,2,    0.010,-999.0000,9,-999.0000,  -999.00,9,  -999.00,   -999.0,9,   -999.0,   3.9266
  06MT19901004,  AR04,   650,  1,     12,2,19901016,   0,  1.5000, -34.9967, 4046,   1685.9,   3.9580,  34.9824,2,  34.9830,2,   -999.0,9,    0.058,2, -999.000,9,    0.139,2,    0.002,   1.8728,2,   0.0075,     1.79,2,     0.17,   -999.0,9,   -999.0,   3.8211
  06MT19901004,  AR04,   650,  1,     11,2,19901016,   0,  1.5000, -34.9967, 4046,   1792.4,   3.8981,  34.9822,2,  34.9840,2,   -999.0,9,    0.057,2,    0.041,2,    0.162,2,    0.007,   1.8501,2,   0.0074,     1.92,2,     0.18,   -999.0,9,   -999.0,   3.7519
  06MT19901004,  AR04,   650,  1,     10,2,19901016,   0,  1.5000, -34.9967, 4046,   1990.2,   3.7242,  34.9774,2,  34.9780,2,   -999.0,9,    0.038,2,    0.028,2,    0.102,2,    0.014,-999.0000,9,-999.0000,  -999.00,9,  -999.00,   -999.0,9,   -999.0,   3.5617
  06MT19901004,  AR04,   650,  1,      9,2,19901016,   0,  1.5000, -34.9967, 4046,   2492.3,   2.9906,  34.9426,2,-999.0000,9,   -999.0,9,    0.013,2, -999.000,9,    0.044,2,    0.005,   1.8596,2,   0.0074,     1.92,2,     0.17,   -999.0,9,   -999.0,-999.0000
  06MT19901004,  AR04,   650,  1,      8,2,19901016,   0,  1.5000, -34.9967, 4046,   2988.1,   2.6898,  34.9236,2,  34.9220,2,   -999.0,9,    0.013,2,    0.008,2,    0.034,2,    0.001,   1.9450,2,   0.0078,     2.33,2,     0.18,   -999.0,9,   -999.0,   2.4470
  06MT19901004,  AR04,   650,  1,      7,2,19901016,   0,  1.5000, -34.9967, 4046,   3489.8,   2.4599,  34.9062,2,-999.0000,9,   -999.0,9,    0.020,2, -999.000,9,    0.066,2,    0.005,   1.8263,2,   0.0073,     2.63,2,     0.18,   -999.0,9,   -999.0,-999.0000
  06MT19901004,  AR04,   650,  1,      6,2,19901016,   0,  1.5000, -34.9967, 4046,   3789.8,   2.3230,  34.8943,2,-999.0000,9,   -999.0,9,    0.027,2,    0.018,2,    0.073,2,    0.006,   1.8565,2,   0.0074,     2.25,2,     0.20,   -999.0,9,   -999.0,-999.0000
  06MT19901004,  AR04,   650,  1,      4,2,19901016,   0,  1.5000, -34.9967, 4046,   4025.5,   2.2210,  34.8811,2,  34.8810,2,    262.5,2,    0.018,2, -999.000,9,    0.057,2,    0.002,   1.8614,2,   0.0074,     2.52,2,     0.20,   -999.0,9,   -999.0,   1.8777
  06MT19901004,  AR04,   651,  1,     12,2,19901017,   0,  1.0033, -34.9967, 3600,     13.9,  27.6185,  36.0750,2,  36.0750,2,    203.8,2, -999.000,9, -999.000,9, -999.000,9, -999.000,-999.0000,9,-999.0000,  -999.00,9,  -999.00,   -999.0,9,   -999.0,  27.6152
  06MT19901004,  AR04,   651,  1,     11,2,19901017,   0,  1.0033, -34.9967, 3600,     90.5,  21.0702,  35.9818,2,-999.0000,9,   -999.0,9, -999.000,9, -999.000,9, -999.000,9, -999.000,-999.0000,9,-999.0000,  -999.00,9,  -999.00,   -999.0,9,   -999.0,-999.0000
  06MT19901004,  AR04,   651,  1,     10,2,19901017,   0,  1.0033, -34.9967, 3600,    156.7,  14.4111,  35.5222,2,-999.0000,9,   -999.0,9, -999.000,9, -999.000,9, -999.000,9, -999.000,-999.0000,9,-999.0000,  -999.00,9,  -999.00,   -999.0,9,   -999.0,-999.0000
  06MT19901004,  AR04,   651,  1,      9,2,19901017,   0,  1.0033, -34.9967, 3600,    296.7,  11.5007,  35.0811,2,-999.0000,9,    134.7,2, -999.000,9, -999.000,9, -999.000,9, -999.000,-999.0000,9,-999.0000,  -999.00,9,  -999.00,   -999.0,9,   -999.0,-999.0000
  06MT19901004,  AR04,   651,  1,      8,2,19901017,   0,  1.0033, -34.9967, 3600,    393.8,   8.1736,  34.7246,2,-999.0000,9,    131.7,2, -999.000,9, -999.000,9, -999.000,9, -999.000,-999.0000,9,-999.0000,  -999.00,9,  -999.00,   -999.0,9,   -999.0,-999.0000
  06MT19901004,  AR04,   651,  1,      7,2,19901017,   0,  1.0033, -34.9967, 3600,    593.4,   6.2707,  34.5537,2,  34.5520,2,   -999.0,9, -999.000,9, -999.000,9, -999.000,9, -999.000,-999.0000,9,-999.0000,  -999.00,9,  -999.00,   -999.0,9,   -999.0,   6.2172
  06MT19901004,  AR04,   651,  1,      6,2,19901017,   0,  1.0033, -34.9967, 3600,    792.2,   4.9435,  34.5075,2,  34.5080,2,    155.6,2, -999.000,9, -999.000,9, -999.000,9, -999.000,-999.0000,9,-999.0000,  -999.00,9,  -999.00,   -999.0,9,   -999.0,   4.8790
  06MT19901004,  AR04,   651,  1,      5,2,19901017,   0,  1.0033, -34.9967, 3600,   1194.2,   4.5247,  34.7987,2,  34.8000,2,   -999.0,9, -999.000,9, -999.000,9, -999.000,9, -999.000,-999.0000,9,-999.0000,  -999.00,9,  -999.00,   -999.0,9,   -999.0,   4.4272
  06MT19901004,  AR04,   651,  1,      1,2,19901017,   0,  1.0033, -34.9967, 3600,   1497.6,   4.4957,  34.9625,2,-999.0000,9,    209.5,2, -999.000,9, -999.000,9, -999.000,9, -999.000,-999.0000,9,-999.0000,  -999.00,9,  -999.00,   -999.0,9,   -999.0,-999.0000
  06MT19901004,  AR04,   652,  1,     13,2,19901017,   0,  0.5017, -34.9967, 4550,     17.9,  27.5875,  36.0899,2,  36.0910,2,    205.1,2, -999.000,9, -999.000,9, -999.000,9, -999.000,-999.0000,9,-999.0000,  -999.00,9,  -999.00,   -999.0,9,   -999.0,  27.5833
  06MT19901004,  AR04,   652,  1,     12,2,19901017,   0,  0.5017, -34.9967, 4550,    105.2,  21.1142,  36.6765,2,-999.0000,9,    179.5,2, -999.000,9, -999.000,9, -999.000,9, -999.000,-999.0000,9,-999.0000,  -999.00,9,  -999.00,   -999.0,9,   -999.0,-999.0000
  06MT19901004,  AR04,   652,  1,     11,2,19901017,   0,  0.5017, -34.9967, 4550,    174.4,  14.7389,  35.4925,2,  35.4880,2,   -999.0,9, -999.000,9, -999.000,9, -999.000,9, -999.000,-999.0000,9,-999.0000,  -999.00,9,  -999.00,   -999.0,9,   -999.0,  14.7127
  06MT19901004,  AR04,   652,  1,     10,2,19901017,   0,  0.5017, -34.9967, 4550,    295.1,  11.7236,  35.1053,2,-999.0000,9,    131.7,2, -999.000,9, -999.000,9, -999.000,9, -999.000,-999.0000,9,-999.0000,  -999.00,9,  -999.00,   -999.0,9,   -999.0,-999.0000
  06MT19901004,  AR04,   652,  1,      9,2,19901017,   0,  0.5017, -34.9967, 4550,    394.8,   8.0037,  34.6953,2,  34.6930,2,   -999.0,9, -999.000,9, -999.000,9, -999.000,9, -999.000,-999.0000,9,-999.0000,  -999.00,9,  -999.00,   -999.0,9,   -999.0,   7.9634
  06MT19901004,  AR04,   652,  1,      8,2,19901017,   0,  0.5017, -34.9967, 4550,    596.8,   6.1968,  34.5487,2,-999.0000,9,   -999.0,9, -999.000,9, -999.000,9, -999.000,9, -999.000,-999.0000,9,-999.0000,  -999.00,9,  -999.00,   -999.0,9,   -999.0,-999.0000
  06MT19901004,  AR04,   652,  1,      7,2,19901017,   0,  0.5017, -34.9967, 4550,    726.5,   5.1923,  34.4995,2,  34.4960,2,   -999.0,9, -999.000,9, -999.000,9, -999.000,9, -999.000,-999.0000,9,-999.0000,  -999.00,9,  -999.00,   -999.0,9,   -999.0,   5.1321
  06MT19901004,  AR04,   652,  1,      6,2,19901017,   0,  0.5017, -34.9967, 4550,   1074.3,   4.5207,  34.7090,2,-999.0000,9,    165.1,2, -999.000,9, -999.000,9, -999.000,9, -999.000,-999.0000,9,-999.0000,  -999.00,9,  -999.00,   -999.0,9,   -999.0,-999.0000
  06MT19901004,  AR04,   652,  1,      2,2,19901017,   0,  0.5017, -34.9967, 4550,   1368.9,   4.5307,  34.9179,2,  34.9170,2,    214.7,2, -999.000,9, -999.000,9, -999.000,9, -999.000,-999.0000,9,-999.0000,  -999.00,9,  -999.00,   -999.0,9,   -999.0,   4.4169
  06MT19901004,  AR04,   653,  1,     24,2,19901017,   0, -0.0250, -34.9950, 4574,     20.5,  27.0148,  36.1960,2,  36.1980,2,   -999.0,9, -999.000,9, -999.000,9, -999.000,9, -999.000,-999.0000,9,-999.0000,  -999.00,9,  -999.00,   -999.0,9,   -999.0,  27.0101
  06MT19901004,  AR04,   653,  1,     23,2,19901017,   0, -0.0250, -34.9950, 4574,     91.6,  24.8311,  36.6074,2,-999.0000,9,    174.7,2, -999.000,9, -999.000,9, -999.000,9, -999.000,-999.0000,9,-999.0000,  -999.00,9,  -999.00,   -999.0,9,   -999.0,-999.0000
  06MT19901004,  AR04,   653,  1,     22,2,19901017,   0, -0.0250, -34.9950, 4574,    491.3,   7.0403,  34.6133,2,-999.0000,9,    128.6,2, -999.000,9, -999.000,9,    0.084,2,    0.006,   1.8514,2,   0.0074,     1.18,2,     0.35,    -21.0,2,      8.0,-999.0000
  06MT19901004,  AR04,   653,  1,     21,2,19901017,   0, -0.0250, -34.9950, 4574,    594.6,   6.2757,  34.5492,2,  34.5530,2,   -999.0,9, -999.000,9, -999.000,9, -999.000,5, -999.000,   1.7840,2,   0.0071,     1.00,2,     0.20,    -23.0,2,      5.0,   6.2221
  06MT19901004,  AR04,   653,  1,     20,2,19901017,   0, -0.0250, -34.9950, 4574,    784.6,   5.0604,  34.4992,2,  34.5040,2,   -999.0,9, -999.000,9, -999.000,9, -999.000,9, -999.000,-999.0000,9,-999.0000,  -999.00,9,  -999.00,   -999.0,9,   -999.0,   4.9959
  06MT19901004,  AR04,   653,  1,     19,2,19901017,   0, -0.0250, -34.9950, 4574,    887.3,   4.6247,  34.5541,2,-999.0000,9,   -999.0,9, -999.000,9, -999.000,9, -999.000,9, -999.000,-999.0000,9,-999.0000,  -999.00,9,  -999.00,   -999.0,9,   -999.0,-999.0000
  06MT19901004,  AR04,   653,  1,     18,2,19901017,   0, -0.0250, -34.9950, 4574,    989.9,   4.5307,  34.6570,2,  34.6590,2,    126.0,3, -999.000,9, -999.000,9,    0.017,2,    0.002,   1.8124,2,   0.0072,     1.41,2,     0.17,   -999.0,9,   -999.0,   4.4516
  06MT19901004,  AR04,   653,  1,     17,2,19901017,   0, -0.0250, -34.9950, 4574,   1392.7,   4.5587,  34.9374,2,  34.9420,2,   -999.0,9, -999.000,9, -999.000,9, -999.000,9, -999.000,-999.0000,9,-999.0000,  -999.00,9,  -999.00,   -999.0,9,   -999.0,   4.4424
  06MT19901004,  AR04,   653,  1,     16,2,19901017,   0, -0.0250, -34.9950, 4574,   1492.4,   4.3698,  34.9687,2,-999.0000,9,   -999.0,9, -999.000,9, -999.000,9, -999.000,9, -999.000,-999.0000,9,-999.0000,  -999.00,9,  -999.00,   -999.0,9,   -999.0,-999.0000
  06MT19901004,  AR04,   653,  1,     14,2,19901017,   0, -0.0250, -34.9950, 4574,   1592.0,   4.1619,  34.9699,2,  34.9750,2,   -999.0,9, -999.000,9, -999.000,9,    0.119,2,    0.007,-999.0000,9,-999.0000,  -999.00,9,  -999.00,   -999.0,9,   -999.0,   4.0313
  06MT19901004,  AR04,   653,  1,     13,2,19901017,   0, -0.0250, -34.9950, 4574,   1793.7,   3.9051,  34.9731,2,-999.0000,9,   -999.0,9, -999.000,9, -999.000,9, -999.000,9, -999.000,-999.0000,9,-999.0000,  -999.00,9,  -999.00,   -999.0,9,   -999.0,-999.0000
  06MT19901004,  AR04,   653,  1,     12,2,19901017,   0, -0.0250, -34.9950, 4574,   1990.8,   3.5933,  34.9721,2,  34.9760,2,    230.3,3, -999.000,9, -999.000,9, -999.000,5, -999.000,   1.8549,2,   0.0074,     1.57,2,     0.30,    -92.0,2,      7.0,   3.4326
  06MT19901004,  AR04,   653,  1,     11,2,19901017,   0, -0.0250, -34.9950, 4574,   2488.3,   3.0416,  34.9384,2,  34.9420,2,   -999.0,9, -999.000,9, -999.000,9,    0.033,2,    0.003,   1.8304,2,   0.0073,     2.21,2,     0.18,   -113.0,2,      4.0,   2.8420
  06MT19901004,  AR04,   653,  1,     10,2,19901017,   0, -0.0250, -34.9950, 4574,   2592.0,   3.0326,  34.9405,2,-999.0000,9,   -999.0,9, -999.000,9, -999.000,9, -999.000,9, -999.000,-999.0000,9,-999.0000,  -999.00,9,  -999.00,   -999.0,9,   -999.0,-999.0000
  06MT19901004,  AR04,   653,  1,      9,2,19901017,   0, -0.0250, -34.9950, 4574,   2992.1,   2.7298,  34.9179,2,  34.9200,2,   -999.0,9, -999.000,9, -999.000,9,    0.036,2,    0.006,-999.0000,9,-999.0000,  -999.00,9,  -999.00,   -107.0,2,      6.0,   2.4857
  06MT19901004,  AR04,   653,  1,      8,2,19901017,   0, -0.0250, -34.9950, 4574,   3192.9,   2.6508,  34.9177,2,-999.0000,9,   -999.0,9, -999.000,9, -999.000,9, -999.000,9, -999.000,-999.0000,9,-999.0000,  -999.00,9,  -999.00,   -999.0,9,   -999.0,-999.0000
  06MT19901004,  AR04,   653,  1,      7,2,19901017,   0, -0.0250, -34.9950, 4574,   3490.4,   2.4809,  34.9066,2,  34.9120,2,   -999.0,9, -999.000,9, -999.000,9,    0.117,2,    0.006,   1.8791,2,   0.0075,     2.82,2,     0.18,   -104.0,3,      5.0,   2.1899
  06MT19901004,  AR04,   653,  1,      5,2,19901017,   0, -0.0250, -34.9950, 4574,   3789.7,   2.3390,  34.8943,2,-999.0000,9,    254.7,2, -999.000,9, -999.000,9,    0.097,2,    0.004,   1.8812,2,   0.0075,     2.90,2,     0.32,    -50.0,2,      8.0,-999.0000
  06MT19901004,  AR04,   653,  1,      4,2,19901017,   0, -0.0250, -34.9950, 4574,   3995.1,   2.1891,  34.8769,2,  34.8820,2,   -999.0,9, -999.000,9, -999.000,9, -999.000,9, -999.000,-999.0000,9,-999.0000,  -999.00,9,  -999.00,   -999.0,9,   -999.0,   1.8501
  06MT19901004,  AR04,   653,  1,      3,2,19901017,   0, -0.0250, -34.9950, 4574,   4190.1,   1.4995,  34.8001,2,  34.8010,2,   -999.0,9, -999.000,9, -999.000,9,    0.031,2,    0.002,   1.8802,2,   0.0075,     4.30,2,     0.18,   -999.0,9,   -999.0,   1.1588
  06MT19901004,  AR04,   653,  1,      1,2,19901017,   0, -0.0250, -34.9950, 4574,   4549.3,   0.9628,  34.7386,2,  34.7400,2,    207.7,3, -999.000,9, -999.000,9,    0.010,2,    0.002,   1.9002,2,   0.0076,     5.77,2,     0.18,   -168.0,2,      4.0,   0.5986
  06MT19901004,  AR04,   654,  1,     10,2,19901018,   0, -0.3667, -34.9950, 4491,     29.7,  26.7120,  36.2579,2,  36.2590,2,    203.8,2, -999.000,9, -999.000,9, -999.000,9, -999.000,-999.0000,9,-999.0000,  -999.00,9,  -999.00,   -999.0,9,   -999.0,  26.7052
  06MT19901004,  AR04,   654,  1,      9,2,19901018,   0, -0.3667, -34.9950, 4491,    289.0,  11.6556,  35.0936,2,  35.0940,2,    143.8,2, -999.000,9, -999.000,9, -999.000,9, -999.000,-999.0000,9,-999.0000,  -999.00,9,  -999.00,   -999.0,9,   -999.0,  11.6184
  06MT19901004,  AR04,   654,  1,      8,2,19901018,   0, -0.3667, -34.9950, 4491,    603.7,   6.0219,  34.5365,2,  34.5350,2,   -999.0,9, -999.000,9, -999.000,9, -999.000,9, -999.000,-999.0000,9,-999.0000,  -999.00,9,  -999.00,   -999.0,9,   -999.0,   5.9686
  06MT19901004,  AR04,   654,  1,      7,2,19901018,   0, -0.3667, -34.9950, 4491,    797.0,   4.7366,  34.5151,2,  34.5180,2,    156.9,2, -999.000,9, -999.000,9, -999.000,9, -999.000,-999.0000,9,-999.0000,  -999.00,9,  -999.00,   -999.0,9,   -999.0,   4.6730
  06MT19901004,  AR04,   654,  1,      6,2,19901018,   0, -0.3667, -34.9950, 4491,   1096.6,   4.4807,  34.7348,2,  34.7330,2,   -999.0,9, -999.000,9, -999.000,9, -999.000,9, -999.000,-999.0000,9,-999.0000,  -999.00,9,  -999.00,   -999.0,9,   -999.0,   4.3925
  06MT19901004,  AR04,   654,  1,      1,2,19901018,   0, -0.3667, -34.9950, 4491,   1373.3,   4.5347,  34.9046,2,  34.9050,2,    210.3,2, -999.000,9, -999.000,9, -999.000,9, -999.000,-999.0000,9,-999.0000,  -999.00,9,  -999.00,   -999.0,9,   -999.0,   4.4205