BOTTLE,20141104SIOCCHRJL
EXPOCODE,SECT_ID,STNNBR,CASTNO,BTLNBR,BTLNBR_FLAG_W,DATE,TIME,LATITUDE,LONGITUDE,DEPTH,CTDPRS,CTDTMP,CTDSAL,CTDSAL_FLAG_W,SALNTY,SALNTY_FLAG_W,OXYGEN,OXYGEN_FLAG_W,CFC-11,CFC-11_FLAG_W,CFC-12,CFC-12_FLAG_W,TRITUM,TRITUM_FLAG_W,TRITER,HELIUM,HELIUM_FLAG_W,HELIER,DELHE3,DELHE3_FLAG_W,DELHER,DELC14,DELC14_FLAG_W,C14ERR,THETA
,,,,,,,,,,METERS,DBAR,ITS-90,PSS-78,,PSS-78,,UMOL/KG,,PMOL/KG,,PMOL/KG,,TU,,TU,NMOL/KG,,NMOL/KG,PERCNT,,PERCNT,/MILLE,,/MILLE,DEG C
  06MT19901004,  AR04,   665,  1,     23,2,19901021,   0, -4.3333, -34.8833, 3595,     11.1,  26.5071,  36.2452,2,  36.2490,2,   -999.0,9, -999.000,9, -999.000,9, -999.000,9, -999.000,-999.0000,9,-999.0000,  -999.00,9,  -999.00,   -999.0,9,   -999.0,  26.5046
  06MT19901004,  AR04,   665,  1,     21,2,19901021,   0, -4.3333, -34.8833, 3595,     99.8,  26.4362,  37.1085,2,  37.1080,2,   -999.0,9, -999.000,9, -999.000,9, -999.000,9, -999.000,-999.0000,9,-999.0000,  -999.00,9,  -999.00,   -999.0,9,   -999.0,  26.4135
  06MT19901004,  AR04,   665,  1,     19,2,19901021,   0, -4.3333, -34.8833, 3595,    195.5,  14.6649,  35.4033,2,-999.0000,9,   -999.0,9, -999.000,9, -999.000,9, -999.000,9, -999.000,-999.0000,9,-999.0000,  -999.00,9,  -999.00,   -999.0,9,   -999.0,-999.0000
  06MT19901004,  AR04,   665,  1,     17,2,19901021,   0, -4.3333, -34.8833, 3595,    394.6,   7.8198,  34.6907,2,  34.6860,2,   -999.0,9, -999.000,9, -999.000,9, -999.000,9, -999.000,-999.0000,9,-999.0000,  -999.00,9,  -999.00,   -999.0,9,   -999.0,   7.7801
  06MT19901004,  AR04,   665,  1,     15,2,19901021,   0, -4.3333, -34.8833, 3595,    496.1,   6.4276,  34.5377,2,  34.5360,2,   -999.0,9, -999.000,9, -999.000,9, -999.000,9, -999.000,-999.0000,9,-999.0000,  -999.00,9,  -999.00,   -999.0,9,   -999.0,   6.3826
  06MT19901004,  AR04,   665,  1,     14,2,19901021,   0, -4.3333, -34.8833, 3595,    598.8,   5.6981,  34.5084,2,  34.5050,2,   -999.0,9,    0.070,2,    0.049,2,    0.044,2,    0.004,   1.8907,2,   0.0076,     1.47,2,     0.36,   -999.0,9,   -999.0,   5.6467
  06MT19901004,  AR04,   665,  1,     13,2,19901021,   0, -4.3333, -34.8833, 3595,    688.0,   5.0354,  34.4663,2,  34.4670,2,   -999.0,9,    0.086,2, -999.000,9,    0.038,2,    0.004,   1.7813,2,   0.0071,     1.34,2,     0.22,   -999.0,9,   -999.0,   4.9795
  06MT19901004,  AR04,   665,  1,     12,2,19901021,   0, -4.3333, -34.8833, 3595,    992.5,   4.2049,  34.5755,2,  34.5760,2,   -999.0,9,    0.010,2,    0.008,2,    0.011,2,    0.000,   1.9518,2,   0.0078,     1.88,2,     0.21,   -999.0,9,   -999.0,   4.1282
  06MT19901004,  AR04,   665,  1,     10,2,19901021,   0, -4.3333, -34.8833, 3595,   1476.4,   4.3418,  34.9405,2,-999.0000,9,   -999.0,9,    0.059,2,    0.027,2,    0.148,2,    0.003,   1.8115,2,   0.0072,     2.24,2,     0.26,   -999.0,9,   -999.0,-999.0000
  06MT19901004,  AR04,   665,  1,      9,2,19901021,   0, -4.3333, -34.8833, 3595,   1690.6,   3.9531,  34.9795,2,-999.0000,9,   -999.0,9,    0.068,2,    0.045,2,    0.173,2,    0.002,   1.8324,2,   0.0073,     1.86,2,     0.23,   -999.0,9,   -999.0,-999.0000
  06MT19901004,  AR04,   665,  1,      8,2,19901021,   0, -4.3333, -34.8833, 3595,   1890.6,   3.5923,  34.9727,2,-999.0000,9,   -999.0,9,    0.051,2,    0.021,2,    0.123,2,    0.002,   1.5623,3,   0.0062,     2.01,2,     0.13,   -999.0,9,   -999.0,-999.0000
  06MT19901004,  AR04,   665,  1,      6,2,19901021,   0, -4.3333, -34.8833, 3595,   1991.4,   3.4703,  34.9688,2,  34.9690,2,   -999.0,9,    0.043,2,    0.030,2,    0.121,2,    0.005,-999.0000,9,-999.0000,  -999.00,9,  -999.00,   -999.0,9,   -999.0,   3.3114
  06MT19901004,  AR04,   665,  1,      5,2,19901021,   0, -4.3333, -34.8833, 3595,   2502.1,   3.0666,  34.9485,2,-999.0000,9,   -999.0,9,    0.023,2,    0.010,2, -999.000,5, -999.000,   2.0194,3,   0.0081,     2.23,2,     0.15,   -999.0,9,   -999.0,-999.0000
  06MT19901004,  AR04,   665,  1,      4,2,19901021,   0, -4.3333, -34.8833, 3595,   2986.2,   2.7427,  34.9260,2,  34.9260,2,   -999.0,9,    0.020,2,    0.014,2,    0.064,2,    0.003,-999.0000,9,-999.0000,  -999.00,9,  -999.00,   -999.0,9,   -999.0,   2.4989
  06MT19901004,  AR04,   665,  1,      1,2,19901021,   0, -4.3333, -34.8833, 3595,   3559.8,   2.5109,  34.9098,2,  34.9110,2,   -999.0,9,    0.033,2,    0.018,2,    0.082,2,    0.003,   1.8889,2,   0.0076,     2.56,2,     0.36,   -999.0,9,   -999.0,   2.2116
  06MT19901004,  AR04,   666,  1,     24,2,19901021,   0, -4.6433, -34.8850, 2722,     16.4,  26.8159,  36.3263,2,-999.0000,9,   -999.0,9, -999.000,9, -999.000,9, -999.000,9, -999.000,-999.0000,9,-999.0000,  -999.00,9,  -999.00,   -999.0,9,   -999.0,-999.0000
  06MT19901004,  AR04,   666,  1,     23,2,19901021,   0, -4.6433, -34.8850, 2722,     97.3,  26.2293,  37.0769,2,-999.0000,9,   -999.0,9, -999.000,9, -999.000,9, -999.000,9, -999.000,-999.0000,9,-999.0000,  -999.00,9,  -999.00,   -999.0,9,   -999.0,-999.0000
  06MT19901004,  AR04,   666,  1,     22,2,19901021,   0, -4.6433, -34.8850, 2722,    195.2,  16.1940,  35.6305,2,-999.0000,9,   -999.0,9, -999.000,9, -999.000,9, -999.000,9, -999.000,-999.0000,9,-999.0000,  -999.00,9,  -999.00,   -999.0,9,   -999.0,-999.0000
  06MT19901004,  AR04,   666,  1,     21,2,19901021,   0, -4.6433, -34.8850, 2722,    395.1,   8.3895,  34.6858,2,-999.0000,9,   -999.0,9, -999.000,9, -999.000,9, -999.000,9, -999.000,-999.0000,9,-999.0000,  -999.00,9,  -999.00,   -999.0,9,   -999.0,-999.0000
  06MT19901004,  AR04,   666,  1,     19,2,19901021,   0, -4.6433, -34.8850, 2722,    491.7,   6.9034,  34.5615,2,  34.5640,2,   -999.0,9, -999.000,9, -999.000,9, -999.000,9, -999.000,-999.0000,9,-999.0000,  -999.00,9,  -999.00,   -999.0,9,   -999.0,   6.8570
  06MT19901004,  AR04,   666,  1,     18,2,19901021,   0, -4.6433, -34.8850, 2722,    645.8,   5.8080,  34.4954,2,-999.0000,9,   -999.0,9,    0.155,2, -999.000,9,    0.060,2,    0.005,-999.0000,9,-999.0000,  -999.00,9,  -999.00,   -999.0,9,   -999.0,-999.0000
  06MT19901004,  AR04,   666,  1,     17,2,19901021,   0, -4.6433, -34.8850, 2722,    793.9,   4.3778,  34.4156,2,-999.0000,9,   -999.0,9,    0.117,2,    0.071,2,    0.051,2,    0.004,-999.0000,9,-999.0000,  -999.00,9,  -999.00,   -999.0,9,   -999.0,-999.0000
  06MT19901004,  AR04,   666,  1,     16,2,19901021,   0, -4.6433, -34.8850, 2722,    992.2,   3.9870,  34.5124,2,  34.5120,2,   -999.0,9,    0.021,2,    0.014,2,    0.014,2,    0.003,   1.8303,2,   0.0073,     2.54,2,     0.17,   -999.0,9,   -999.0,   3.9121
  06MT19901004,  AR04,   666,  1,     15,2,19901021,   0, -4.6433, -34.8850, 2722,   1092.9,   4.1869,  34.6469,2,  34.6520,2,   -999.0,9,    0.010,2,    0.006,2,    0.023,2,    0.004,   1.8206,2,   0.0073,     2.10,2,     0.16,   -999.0,9,   -999.0,   4.1016
  06MT19901004,  AR04,   666,  1,     14,2,19901021,   0, -4.6433, -34.8850, 2722,   1191.8,   4.2689,  34.7216,2,-999.0000,9,   -999.0,9,    0.005,2, -999.000,9,    0.012,2,    0.000,-999.0000,9,-999.0000,  -999.00,9,  -999.00,   -999.0,9,   -999.0,-999.0000
  06MT19901004,  AR04,   666,  1,     13,2,19901021,   0, -4.6433, -34.8850, 2722,   1289.6,   4.2889,  34.7855,2,  34.7900,2,   -999.0,9,    0.007,2, -999.000,9,    0.007,2,    0.001,-999.0000,9,-999.0000,  -999.00,9,  -999.00,   -999.0,9,   -999.0,   4.1851
  06MT19901004,  AR04,   666,  1,     12,2,19901021,   0, -4.6433, -34.8850, 2722,   1493.4,   4.3488,  34.9319,2,-999.0000,9,   -999.0,9,    0.047,2,    0.032,2, -999.000,5, -999.000,   1.8232,2,   0.0073,     1.78,2,     0.16,   -999.0,9,   -999.0,-999.0000
  06MT19901004,  AR04,   666,  1,     10,2,19901021,   0, -4.6433, -34.8850, 2722,   1594.1,   4.1529,  34.9561,2,-999.0000,9,   -999.0,9,    0.058,2,    0.037,2,    0.156,2,    0.007,   1.8292,2,   0.0073,     1.83,2,     0.15,   -999.0,9,   -999.0,-999.0000
  06MT19901004,  AR04,   666,  1,      9,2,19901021,   0, -4.6433, -34.8850, 2722,   1690.2,   3.9021,  34.9745,2,-999.0000,9,   -999.0,9,    0.062,2,    0.041,2,    0.149,2,    0.004,   1.8484,2,   0.0074,     2.09,2,     0.16,   -999.0,9,   -999.0,-999.0000
  06MT19901004,  AR04,   666,  1,      8,2,19901021,   0, -4.6433, -34.8850, 2722,   1803.5,   3.6322,  34.9702,2,-999.0000,9,   -999.0,9,    0.050,2,    0.028,2,    0.138,2,    0.004,   1.8919,2,   0.0076,     1.55,2,     0.15,   -999.0,9,   -999.0,-999.0000
  06MT19901004,  AR04,   666,  1,      7,2,19901021,   0, -4.6433, -34.8850, 2722,   1886.7,   3.5103,  34.9698,2,  34.9700,2,   -999.0,9,    0.050,2,    0.028,2,    0.115,2,    0.002,-999.0000,9,-999.0000,  -999.00,9,  -999.00,   -999.0,9,   -999.0,   3.3607
  06MT19901004,  AR04,   666,  1,      5,2,19901021,   0, -4.6433, -34.8850, 2722,   1992.2,   3.3884,  34.9647,2,-999.0000,9,   -999.0,9,    0.042,2,    0.026,2,    0.110,2,    0.006,   1.8512,2,   0.0074,     1.68,2,     0.15,   -999.0,9,   -999.0,-999.0000
  06MT19901004,  AR04,   666,  1,      4,2,19901021,   0, -4.6433, -34.8850, 2722,   2190.6,   3.2455,  34.9581,2,-999.0000,9,   -999.0,9,    0.029,2,    0.014,2,    0.106,2,    0.008,   1.8544,2,   0.0074,     2.02,2,     0.16,   -999.0,9,   -999.0,-999.0000
  06MT19901004,  AR04,   666,  1,      1,2,19901021,   0, -4.6433, -34.8850, 2722,   2686.2,   2.8327,  34.9350,2,-999.0000,9,   -999.0,9,    0.023,2,    0.008,2,    0.085,2,    0.006,   1.8523,2,   0.0074,     2.12,2,     0.15,   -999.0,9,   -999.0,-999.0000
  06MT19901004,  AR04,   667,  1,      9,2,19901021,   0, -4.7950, -34.8867, 1020,     16.5,  26.8549,  36.3901,2,  36.3890,2,   -999.0,9, -999.000,9, -999.000,9, -999.000,9, -999.000,-999.0000,9,-999.0000,  -999.00,9,  -999.00,   -999.0,9,   -999.0,  26.8511
  06MT19901004,  AR04,   667,  1,      8,2,19901021,   0, -4.7950, -34.8867, 1020,    195.1,  14.6119,  35.3846,2,  35.3820,2,   -999.0,9, -999.000,9, -999.000,9, -999.000,9, -999.000,-999.0000,9,-999.0000,  -999.00,9,  -999.00,   -999.0,9,   -999.0,  14.5828
  06MT19901004,  AR04,   667,  1,      7,2,19901021,   0, -4.7950, -34.8867, 1020,    496.7,   6.4856,  34.5034,2,  34.5030,2,   -999.0,9, -999.000,9, -999.000,9, -999.000,9, -999.000,-999.0000,9,-999.0000,  -999.00,9,  -999.00,   -999.0,9,   -999.0,   6.4404
  06MT19901004,  AR04,   667,  1,      6,2,19901021,   0, -4.7950, -34.8867, 1020,    609.0,   5.4622,  34.4397,2,  34.4390,2,   -999.0,9, -999.000,9, -999.000,9, -999.000,9, -999.000,-999.0000,9,-999.0000,  -999.00,9,  -999.00,   -999.0,9,   -999.0,   5.4111
  06MT19901004,  AR04,   667,  1,      5,2,19901021,   0, -4.7950, -34.8867, 1020,    716.4,   4.9535,  34.4097,2,  34.4100,2,   -999.0,9, -999.000,9, -999.000,9, -999.000,9, -999.000,-999.0000,9,-999.0000,  -999.00,9,  -999.00,   -999.0,9,   -999.0,   4.8956
  06MT19901004,  AR04,   667,  1,      1,2,19901021,   0, -4.7950, -34.8867, 1020,    922.3,   4.0150,  34.4645,2,  34.4660,2,   -999.0,9, -999.000,9, -999.000,9, -999.000,9, -999.000,-999.0000,9,-999.0000,  -999.00,9,  -999.00,   -999.0,9,   -999.0,   3.9457
  06MT19901004,  AR04,   668,  1,      8,2,19901022,   0, -4.9450, -34.8850,  875,     12.0,  26.8559,  36.3785,2,  36.3760,2,   -999.0,9, -999.000,9, -999.000,9, -999.000,9, -999.000,-999.0000,9,-999.0000,  -999.00,9,  -999.00,   -999.0,9,   -999.0,  26.8531
  06MT19901004,  AR04,   668,  1,      7,2,19901022,   0, -4.9450, -34.8850,  875,    197.1,  15.1476,  35.4682,2,  35.4680,2,   -999.0,9, -999.000,9, -999.000,9, -999.000,9, -999.000,-999.0000,9,-999.0000,  -999.00,9,  -999.00,   -999.0,9,   -999.0,  15.1174
  06MT19901004,  AR04,   668,  1,      6,2,19901022,   0, -4.9450, -34.8850,  875,    495.5,   6.2008,  34.4827,2,  34.4800,2,   -999.0,9, -999.000,9, -999.000,9, -999.000,9, -999.000,-999.0000,9,-999.0000,  -999.00,9,  -999.00,   -999.0,9,   -999.0,   6.1568
  06MT19901004,  AR04,   668,  1,      5,2,19901022,   0, -4.9450, -34.8850,  875,    721.8,   4.6646,  34.4488,2,-999.0000,9,   -999.0,9, -999.000,9, -999.000,9, -999.000,9, -999.000,-999.0000,9,-999.0000,  -999.00,9,  -999.00,   -999.0,9,   -999.0,-999.0000
  06MT19901004,  AR04,   668,  1,      1,2,19901022,   0, -4.9450, -34.8850,  875,    830.5,   4.2849,  34.4126,2,  34.4070,2,   -999.0,9, -999.000,9, -999.000,9, -999.000,9, -999.000,-999.0000,9,-999.0000,  -999.00,9,  -999.00,   -999.0,9,   -999.0,   4.2214
  06MT19901004,  AR04,   675,  1,     10,2,19901023,   0, -5.6533, -34.9350,  703,     17.8,  26.9449,  36.5308,2,-999.0000,9,    207.7,2, -999.000,9, -999.000,9, -999.000,9, -999.000,-999.0000,9,-999.0000,  -999.00,9,  -999.00,   -999.0,9,   -999.0,-999.0000
  06MT19901004,  AR04,   675,  1,      9,2,19901023,   0, -5.6533, -34.9350,  703,    155.9,  18.0190,  35.9647,2,-999.0000,9,   -999.0,9, -999.000,9, -999.000,9, -999.000,9, -999.000,-999.0000,9,-999.0000,  -999.00,9,  -999.00,   -999.0,9,   -999.0,-999.0000
  06MT19901004,  AR04,   675,  1,      8,2,19901023,   0, -5.6533, -34.9350,  703,    234.5,  13.9683,  35.3369,2,-999.0000,9,    191.2,2, -999.000,9, -999.000,9, -999.000,9, -999.000,-999.0000,9,-999.0000,  -999.00,9,  -999.00,   -999.0,9,   -999.0,-999.0000
  06MT19901004,  AR04,   675,  1,      7,2,19901023,   0, -5.6533, -34.9350,  703,    455.5,   8.1177,  34.6504,2,-999.0000,9,    186.0,3, -999.000,9, -999.000,9, -999.000,9, -999.000,-999.0000,9,-999.0000,  -999.00,9,  -999.00,   -999.0,9,   -999.0,-999.0000
  06MT19901004,  AR04,   675,  1,      6,2,19901023,   0, -5.6533, -34.9350,  703,    515.7,   7.5620,  34.6020,2,-999.0000,9,   -999.0,9, -999.000,9, -999.000,9, -999.000,9, -999.000,-999.0000,9,-999.0000,  -999.00,9,  -999.00,   -999.0,9,   -999.0,-999.0000
  06MT19901004,  AR04,   675,  1,      1,2,19901023,   0, -5.6533, -34.9350,  703,    639.5,   5.1554,  34.4159,2,  34.4140,2,    198.2,3, -999.000,9, -999.000,9, -999.000,9, -999.000,-999.0000,9,-999.0000,  -999.00,9,  -999.00,   -999.0,9,   -999.0,   5.1031
  06MT19901004,  AR04,   676,  1,     10,2,19901023,   0, -5.6383, -34.8483, 1433,     12.8,  26.8499,  36.3945,2,  36.3910,2,    207.7,2, -999.000,9, -999.000,9, -999.000,9, -999.000,-999.0000,9,-999.0000,  -999.00,9,  -999.00,   -999.0,9,   -999.0,  26.8470
  06MT19901004,  AR04,   676,  1,      9,2,19901023,   0, -5.6383, -34.8483, 1433,    137.8,  20.5006,  36.3880,2,-999.0000,9,    196.4,2, -999.000,9, -999.000,9, -999.000,9, -999.000,-999.0000,9,-999.0000,  -999.00,9,  -999.00,   -999.0,9,   -999.0,-999.0000
  06MT19901004,  AR04,   676,  1,      8,2,19901023,   0, -5.6383, -34.8483, 1433,    589.2,   5.5501,  34.4304,2,  34.4310,2,    199.5,3, -999.000,9, -999.000,9, -999.000,9, -999.000,-999.0000,9,-999.0000,  -999.00,9,  -999.00,   -999.0,9,   -999.0,   5.5003
  06MT19901004,  AR04,   676,  1,      7,2,19901023,   0, -5.6383, -34.8483, 1433,    796.2,   4.2559,  34.4039,2,  34.4010,2,    195.6,3, -999.000,9, -999.000,9, -999.000,9, -999.000,-999.0000,9,-999.0000,  -999.00,9,  -999.00,   -999.0,9,   -999.0,   4.1954
  06MT19901004,  AR04,   676,  1,      6,2,19901023,   0, -5.6383, -34.8483, 1433,   1096.8,   4.1979,  34.6534,2,  34.6530,2,    176.9,2, -999.000,9, -999.000,9, -999.000,9, -999.000,-999.0000,9,-999.0000,  -999.00,9,  -999.00,   -999.0,9,   -999.0,   4.1122
  06MT19901004,  AR04,   676,  1,      1,2,19901023,   0, -5.6383, -34.8483, 1433,   1383.4,   4.3698,  34.8601,2,  34.8610,2,    206.4,2, -999.000,9, -999.000,9, -999.000,9, -999.000,-999.0000,9,-999.0000,  -999.00,9,  -999.00,   -999.0,9,   -999.0,   4.2565
  06MT19901004,  AR04,   677,  1,     21,2,19901023,   0, -5.6283, -34.7500, 2600,     20.5,  26.8169,  36.3329,2,  36.3340,2,   -999.0,9, -999.000,9, -999.000,9, -999.000,9, -999.000,-999.0000,9,-999.0000,  -999.00,9,  -999.00,   -999.0,9,   -999.0,  26.8122
  06MT19901004,  AR04,   677,  1,     20,2,19901023,   0, -5.6283, -34.7500, 2600,     77.2,  26.1773,  37.1079,2,-999.0000,9,   -999.0,9, -999.000,9, -999.000,9, -999.000,9, -999.000,-999.0000,9,-999.0000,  -999.00,9,  -999.00,   -999.0,9,   -999.0,-999.0000
  06MT19901004,  AR04,   677,  1,     19,2,19901023,   0, -5.6283, -34.7500, 2600,    117.8,  22.6363,  36.7476,2,-999.0000,9,   -999.0,9, -999.000,9, -999.000,9, -999.000,9, -999.000,-999.0000,9,-999.0000,  -999.00,9,  -999.00,   -999.0,9,   -999.0,-999.0000
  06MT19901004,  AR04,   677,  1,     17,2,19901023,   0, -5.6283, -34.7500, 2600,    193.4,  16.8297,  35.7478,2,-999.0000,9,    199.9,2, -999.000,9, -999.000,9, -999.000,9, -999.000,-999.0000,9,-999.0000,  -999.00,9,  -999.00,   -999.0,9,   -999.0,-999.0000
  06MT19901004,  AR04,   677,  1,     16,2,19901023,   0, -5.6283, -34.7500, 2600,    490.0,   6.1598,  34.4653,2,-999.0000,9,   -999.0,9,    0.487,2,    0.270,2,    0.163,2,    0.006,   1.8116,2,   0.0072,     1.60,2,     0.23,   -999.0,9,   -999.0,-999.0000
  06MT19901004,  AR04,   677,  1,     15,2,19901023,   0, -5.6283, -34.7500, 2600,    618.5,   4.8855,  34.3870,2,-999.0000,9,    203.4,3, -999.000,9, -999.000,9, -999.000,5, -999.000,   1.8567,2,   0.0074,     1.69,2,     0.18,   -999.0,9,   -999.0,-999.0000
  06MT19901004,  AR04,   677,  1,     14,2,19901023,   0, -5.6283, -34.7500, 2600,    741.7,   4.4438,  34.3971,2,  34.3960,2,   -999.0,9,    0.224,2,    0.131,2,    0.062,2,    0.004,   1.8503,2,   0.0074,     2.21,2,     0.22,   -999.0,9,   -999.0,   4.3867
  06MT19901004,  AR04,   677,  1,     13,2,19901023,   0, -5.6283, -34.7500, 2600,    966.6,   3.9441,  34.5266,2,-999.0000,9,   -999.0,9,    0.033,2,    0.022,2, -999.000,9, -999.000,-999.0000,9,-999.0000,  -999.00,9,  -999.00,   -999.0,9,   -999.0,-999.0000
  06MT19901004,  AR04,   677,  1,     12,2,19901023,   0, -5.6283, -34.7500, 2600,   1041.1,   4.1469,  34.6114,2,-999.0000,9,    176.0,2,    0.011,2,    0.009,2,    0.009,2,    0.001,   1.8909,2,   0.0076,     2.24,2,     0.20,   -999.0,9,   -999.0,-999.0000
  06MT19901004,  AR04,   677,  1,     11,2,19901023,   0, -5.6283, -34.7500, 2600,   1140.4,   4.2419,  34.6946,2,-999.0000,9,   -999.0,9, -999.000,9, -999.000,9, -999.000,9, -999.000,-999.0000,9,-999.0000,  -999.00,9,  -999.00,   -999.0,9,   -999.0,-999.0000
  06MT19901004,  AR04,   677,  1,     10,2,19901023,   0, -5.6283, -34.7500, 2600,   1344.5,   4.4378,  34.8711,2,-999.0000,9,   -999.0,9,    0.020,2,    0.010,2,    0.064,2,    0.004,-999.0000,9,-999.0000,  -999.00,9,  -999.00,   -999.0,9,   -999.0,-999.0000
  06MT19901004,  AR04,   677,  1,      9,2,19901023,   0, -5.6283, -34.7500, 2600,   1492.9,   4.3438,  34.9444,2,-999.0000,9,   -999.0,9,    0.037,2,    0.014,2,    0.126,2,    0.005,   1.8264,2,   0.0073,     1.49,2,     0.23,   -999.0,9,   -999.0,-999.0000
  06MT19901004,  AR04,   677,  1,      8,2,19901023,   0, -5.6283, -34.7500, 2600,   1638.2,   3.9471,  34.9725,2,-999.0000,9,   -999.0,9,    0.060,2,    0.035,2, -999.000,5, -999.000,   1.8271,2,   0.0073,     0.23,3,  -999.00,   -999.0,9,   -999.0,-999.0000
  06MT19901004,  AR04,   677,  1,      7,2,19901023,   0, -5.6283, -34.7500, 2600,   1788.1,   3.7772,  34.9738,2,  34.9740,2,    260.3,2, -999.000,9, -999.000,9,    0.160,2,    0.006,-999.0000,9,-999.0000,  -999.00,9,  -999.00,   -999.0,9,   -999.0,   3.6331
  06MT19901004,  AR04,   677,  1,      6,2,19901023,   0, -5.6283, -34.7500, 2600,   1987.0,   3.4353,  34.9639,2,-999.0000,9,   -999.0,9,    0.058,2,    0.020,2,    0.104,2,    0.004,   1.8514,2,   0.0074,     1.89,2,     0.18,   -999.0,9,   -999.0,-999.0000
  06MT19901004,  AR04,   677,  1,      5,2,19901023,   0, -5.6283, -34.7500, 2600,   2183.1,   3.2684,  34.9564,2,-999.0000,9,   -999.0,9,    0.032,2,    0.027,2,    0.082,2,    0.003,   1.8373,2,   0.0073,     1.94,2,     0.18,   -999.0,9,   -999.0,-999.0000
  06MT19901004,  AR04,   677,  1,      4,2,19901023,   0, -5.6283, -34.7500, 2600,   2391.3,   3.0865,  34.9481,2,-999.0000,9,   -999.0,9,    0.025,2,    0.013,2,    0.074,2,    0.004,   1.8610,2,   0.0074,     2.17,2,     0.21,   -999.0,9,   -999.0,-999.0000
  06MT19901004,  AR04,   677,  1,      1,2,19901023,   0, -5.6283, -34.7500, 2600,   2576.6,   2.8367,  34.9323,2,  34.9330,2,    263.8,2,    0.021,2, -999.000,9,    0.060,2,    0.003,-999.0000,9,-999.0000,  -999.00,9,  -999.00,   -999.0,9,   -999.0,   2.6323