BOTTLE,20141104SIOCCHRJL
EXPOCODE,SECT_ID,STNNBR,CASTNO,BTLNBR,BTLNBR_FLAG_W,DATE,TIME,LATITUDE,LONGITUDE,DEPTH,CTDPRS,CTDTMP,CTDSAL,CTDSAL_FLAG_W,SALNTY,SALNTY_FLAG_W,OXYGEN,OXYGEN_FLAG_W,CFC-11,CFC-11_FLAG_W,CFC-12,CFC-12_FLAG_W,TRITUM,TRITUM_FLAG_W,TRITER,HELIUM,HELIUM_FLAG_W,HELIER,DELHE3,DELHE3_FLAG_W,DELHER,DELC14,DELC14_FLAG_W,C14ERR,THETA
,,,,,,,,,,METERS,DBAR,ITS-90,PSS-78,,PSS-78,,UMOL/KG,,PMOL/KG,,PMOL/KG,,TU,,TU,NMOL/KG,,NMOL/KG,PERCNT,,PERCNT,/MILLE,,/MILLE,DEG C
  06MT19901004,  AR04,   681,  1,     24,2,19901024,   0, -5.3933, -32.9933, 4604,     90.9,  26.6131,  36.2989,2,  36.2990,2,    206.4,2, -999.000,9, -999.000,9, -999.000,9, -999.000,-999.0000,9,-999.0000,  -999.00,9,  -999.00,   -999.0,9,   -999.0,  26.5924
  06MT19901004,  AR04,   681,  1,     23,2,19901024,   0, -5.3933, -32.9933, 4604,    702.2,   4.6307,  34.4439,2,-999.0000,9,   -999.0,9,    0.084,2,    0.050,2,    0.029,2,    0.002,   1.8225,2,   0.0073,     1.86,2,     0.16,   -999.0,9,   -999.0,-999.0000
  06MT19901004,  AR04,   681,  1,     22,2,19901024,   0, -5.3933, -32.9933, 4604,    948.5,   4.1989,  34.5359,2,-999.0000,9,    171.2,2,    0.025,2,    0.007,2,    0.010,2,    0.001,   1.8256,2,   0.0073,     2.50,2,     0.22,   -999.0,9,   -999.0,-999.0000
  06MT19901004,  AR04,   681,  1,     21,2,19901024,   0, -5.3933, -32.9933, 4604,   1192.2,   4.3638,  34.7671,2,  34.7690,2,   -999.0,9,    0.006,2,    0.003,2,    0.020,2,    0.002,   1.8460,2,   0.0074,     1.50,2,     0.15,   -999.0,9,   -999.0,   4.2680
  06MT19901004,  AR04,   681,  1,     20,2,19901024,   0, -5.3933, -32.9933, 4604,   1394.6,   4.3788,  34.8953,2,-999.0000,9,   -999.0,9,    0.011,2,    0.005,2, -999.000,9, -999.000,-999.0000,9,-999.0000,  -999.00,9,  -999.00,   -999.0,9,   -999.0,-999.0000
  06MT19901004,  AR04,   681,  1,     19,2,19901024,   0, -5.3933, -32.9933, 4604,   1593.7,   4.1759,  34.9591,2,-999.0000,9,   -999.0,9,    0.025,2,    0.015,2,    0.088,2,    0.004,-999.0000,9,-999.0000,  -999.00,9,  -999.00,   -102.0,2,      6.0,-999.0000
  06MT19901004,  AR04,   681,  1,     18,2,19901024,   0, -5.3933, -32.9933, 4604,   1792.5,   3.8471,  34.9746,2,  34.9750,2,    256.8,2,    0.036,2,    0.026,2,    0.096,2,    0.002,   1.8435,2,   0.0074,     1.60,2,     0.14,   -999.0,9,   -999.0,   3.7016
  06MT19901004,  AR04,   681,  1,     17,2,19901024,   0, -5.3933, -32.9933, 4604,   1892.8,   3.7792,  34.9755,2,-999.0000,9,   -999.0,9,    0.051,2,    0.034,2, -999.000,5, -999.000,   2.0146,3,   0.0081,     1.84,2,     0.20,   -999.0,9,   -999.0,-999.0000
  06MT19901004,  AR04,   681,  1,     16,2,19901024,   0, -5.3933, -32.9933, 4604,   1992.3,   3.6302,  34.9703,2,-999.0000,9,   -999.0,9,    0.046,2,    0.030,2,    0.120,2,    0.004,   1.9026,2,   0.0076,     1.96,2,     0.20,    -94.0,2,      9.0,-999.0000
  06MT19901004,  AR04,   681,  1,     15,2,19901024,   0, -5.3933, -32.9933, 4604,   2492.6,   2.9436,  34.9240,2,-999.0000,9,   -999.0,9,    0.003,2,    0.002,2,    0.014,2,    0.001,-999.0000,9,-999.0000,  -999.00,9,  -999.00,   -999.0,9,   -999.0,-999.0000
  06MT19901004,  AR04,   681,  1,     14,2,19901024,   0, -5.3933, -32.9933, 4604,   2992.5,   2.7108,  34.9198,2,  34.9200,2,    262.1,2,    0.013,2,    0.009,2,    0.040,2,    0.002,   1.8999,2,   0.0076,     2.59,2,     0.20,   -999.0,9,   -999.0,   2.4671
  06MT19901004,  AR04,   681,  1,     13,2,19901024,   0, -5.3933, -32.9933, 4604,   3190.9,   2.6658,  34.9183,2,-999.0000,9,   -999.0,9,    0.020,2,    0.007,2,    0.052,2,    0.003,   1.9176,2,   0.0077,     2.50,2,     0.20,   -999.0,9,   -999.0,-999.0000
  06MT19901004,  AR04,   681,  1,     12,2,19901024,   0, -5.3933, -32.9933, 4604,   3484.0,   2.5778,  34.9115,2,-999.0000,9,   -999.0,9,    0.021,2,    0.019,2,    0.061,2,    0.003,-999.0000,9,-999.0000,  -999.00,9,  -999.00,   -999.0,9,   -999.0,-999.0000
  06MT19901004,  AR04,   681,  1,     11,2,19901024,   0, -5.3933, -32.9933, 4604,   3593.5,   2.5429,  34.9108,2,  34.9120,2,    266.4,2, -999.000,9, -999.000,9, -999.000,5, -999.000,   1.9522,2,   0.0078,     2.83,2,     0.15,   -999.0,9,   -999.0,   2.2391
  06MT19901004,  AR04,   681,  1,     10,2,19901024,   0, -5.3933, -32.9933, 4604,   3693.0,   2.4819,  34.9037,2,-999.0000,9,   -999.0,9,    0.019,2,    0.010,2,    0.058,2,    0.003,   1.8757,2,   0.0075,     2.30,2,     0.17,   -999.0,9,   -999.0,-999.0000
  06MT19901004,  AR04,   681,  1,      9,2,19901024,   0, -5.3933, -32.9933, 4604,   3893.8,   2.2460,  34.8810,2,-999.0000,9,   -999.0,9, -999.000,9, -999.000,9, -999.000,9, -999.000,-999.0000,9,-999.0000,  -999.00,9,  -999.00,   -999.0,9,   -999.0,-999.0000
  06MT19901004,  AR04,   681,  1,      8,2,19901024,   0, -5.3933, -32.9933, 4604,   4093.6,   1.7273,  34.8223,2,-999.0000,9,   -999.0,9,    0.005,2,    0.001,2,    0.015,2,    0.001,   1.8802,2,   0.0075,     3.89,2,     0.14,   -999.0,9,   -999.0,-999.0000
  06MT19901004,  AR04,   681,  1,      7,2,19901024,   0, -5.3933, -32.9933, 4604,   4194.9,   1.4085,  34.7857,2,-999.0000,9,   -999.0,9,    0.002,2,    0.001,2,    0.006,2,    0.001,   1.9417,2,   0.0078,     4.98,2,     0.20,   -999.0,9,   -999.0,-999.0000
  06MT19901004,  AR04,   681,  1,      1,2,19901024,   0, -5.3933, -32.9933, 4604,   4590.2,   0.7749,  34.7140,2,  34.7170,2,    231.6,2,    0.013,2,    0.009,2,    0.005,2,    0.001,-999.0000,9,-999.0000,  -999.00,9,  -999.00,   -167.0,2,      5.0,   0.4122
  06MT19901004,  AR04,   682,  1,     24,2,19901025,   0, -5.3350, -32.5383, 4636,      7.1,  26.2782,  36.0732,2,  36.0740,2,   -999.0,9, -999.000,9, -999.000,9,    0.843,2,    0.014,   1.7562,2,   0.0070,    -1.40,2,     0.17,   -999.0,9,   -999.0,  26.2766
  06MT19901004,  AR04,   682,  1,     23,2,19901025,   0, -5.3350, -32.5383, 4636,     94.6,  26.3442,  36.1536,2,  36.1560,2,    209.0,2, -999.000,9, -999.000,9, -999.000,9, -999.000,-999.0000,9,-999.0000,  -999.00,9,  -999.00,   -999.0,9,   -999.0,  26.3228
  06MT19901004,  AR04,   682,  1,     22,2,19901025,   0, -5.3350, -32.5383, 4636,    393.8,   7.7599,  34.6785,2,  34.6760,2,    108.6,2, -999.000,9, -999.000,9,    0.099,2,    0.004,   1.8163,2,   0.0073,     0.86,2,     0.15,   -999.0,9,   -999.0,   7.7204
  06MT19901004,  AR04,   682,  1,     21,2,19901025,   0, -5.3350, -32.5383, 4636,    789.5,   4.3868,  34.4435,2,-999.0000,9,    175.1,3,    0.082,2,    0.050,2,    0.031,2,    0.002,   1.8203,2,   0.0073,     2.24,2,     0.15,   -999.0,9,   -999.0,-999.0000
  06MT19901004,  AR04,   682,  1,     20,2,19901025,   0, -5.3350, -32.5383, 4636,    992.6,   4.1679,  34.5612,2,-999.0000,9,    172.1,2,    0.018,2,    0.012,2,    0.021,2,    0.003,   1.8847,2,   0.0075,     2.34,2,     0.17,   -999.0,9,   -999.0,-999.0000
  06MT19901004,  AR04,   682,  1,     19,2,19901025,   0, -5.3350, -32.5383, 4636,   1094.3,   4.2779,  34.6626,2,-999.0000,9,   -999.0,9,    0.010,2,    0.008,2,    0.016,2,    0.002,-999.0000,9,-999.0000,  -999.00,9,  -999.00,   -999.0,9,   -999.0,-999.0000
  06MT19901004,  AR04,   682,  1,     18,2,19901025,   0, -5.3350, -32.5383, 4636,   1191.4,   4.3518,  34.7684,2,-999.0000,9,   -999.0,9,    0.007,2,    0.007,2,    0.020,2,    0.002,   1.8602,2,   0.0074,     1.87,2,     0.16,   -999.0,9,   -999.0,-999.0000
  06MT19901004,  AR04,   682,  1,     17,2,19901025,   0, -5.3350, -32.5383, 4636,   1393.8,   4.3968,  34.9014,2,-999.0000,9,   -999.0,9,    0.023,2,    0.012,2,    0.063,2,    0.003,-999.0000,9,-999.0000,  -999.00,9,  -999.00,   -999.0,9,   -999.0,-999.0000
  06MT19901004,  AR04,   682,  1,     16,2,19901025,   0, -5.3350, -32.5383, 4636,   1493.1,   4.3518,  34.9522,2,-999.0000,9,   -999.0,9,    0.060,2,    0.037,2,    0.151,2,    0.005,-999.0000,9,-999.0000,  -999.00,9,  -999.00,   -999.0,9,   -999.0,-999.0000
  06MT19901004,  AR04,   682,  1,     15,2,19901025,   0, -5.3350, -32.5383, 4636,   1594.0,   4.1569,  34.9648,2,-999.0000,9,    242.1,2,    0.031,2,    0.021,2,    0.102,2,    0.002,   1.8169,2,   0.0073,     1.45,2,     0.18,   -999.0,9,   -999.0,-999.0000
  06MT19901004,  AR04,   682,  1,     14,2,19901025,   0, -5.3350, -32.5383, 4636,   1691.7,   4.0180,  34.9765,2,-999.0000,9,   -999.0,9,    0.057,2, -999.000,9,    0.130,2,    0.002,-999.0000,9,-999.0000,  -999.00,9,  -999.00,   -999.0,9,   -999.0,-999.0000
  06MT19901004,  AR04,   682,  1,     13,2,19901025,   0, -5.3350, -32.5383, 4636,   1793.2,   3.8261,  34.9787,2,-999.0000,9,   -999.0,9,    0.058,2,    0.031,2,    0.138,2,    0.004,   1.8814,2,   0.0075,     1.79,2,     0.15,   -999.0,9,   -999.0,-999.0000
  06MT19901004,  AR04,   682,  1,     12,2,19901025,   0, -5.3350, -32.5383, 4636,   1888.8,   3.6762,  34.9761,2,-999.0000,9,   -999.0,9, -999.000,9, -999.000,9,    0.088,2,    0.005,   1.9486,2,   0.0078,     1.97,2,     0.16,   -999.0,9,   -999.0,-999.0000
  06MT19901004,  AR04,   682,  1,     11,2,19901025,   0, -5.3350, -32.5383, 4636,   1986.4,   3.5453,  34.9703,2,-999.0000,9,   -999.0,9,    0.035,2,    0.029,2,    0.111,2,    0.004,   1.8746,2,   0.0075,     1.64,2,     0.15,   -999.0,9,   -999.0,-999.0000
  06MT19901004,  AR04,   682,  1,     10,2,19901025,   0, -5.3350, -32.5383, 4636,   2493.4,   2.9476,  34.9361,2,-999.0000,9,   -999.0,9,    0.012,2,    0.010,2,    0.033,2,    0.002,   1.9143,2,   0.0077,     2.54,2,     0.15,   -999.0,9,   -999.0,-999.0000
  06MT19901004,  AR04,   682,  1,      9,2,19901025,   0, -5.3350, -32.5383, 4636,   2992.7,   2.6668,  34.9206,2,-999.0000,9,   -999.0,9,    0.007,2,    0.010,2, -999.000,9, -999.000,-999.0000,9,-999.0000,  -999.00,9,  -999.00,   -999.0,9,   -999.0,-999.0000
  06MT19901004,  AR04,   682,  1,      8,2,19901025,   0, -5.3350, -32.5383, 4636,   3392.8,   2.5728,  34.9145,2,-999.0000,9,   -999.0,9,    0.018,2,    0.012,2,    0.054,2,    0.005,-999.0000,9,-999.0000,  -999.00,9,  -999.00,   -999.0,9,   -999.0,-999.0000
  06MT19901004,  AR04,   682,  1,      7,2,19901025,   0, -5.3350, -32.5383, 4636,   3593.0,   2.4929,  34.9097,2,  34.9070,2,    268.1,2,    0.025,2,    0.018,2,    0.061,2,    0.002,   1.8685,2,   0.0075,     2.13,2,     0.21,   -999.0,9,   -999.0,   2.1905
  06MT19901004,  AR04,   682,  1,      6,2,19901025,   0, -5.3350, -32.5383, 4636,   3791.8,   2.3520,  34.8966,2,-999.0000,9,   -999.0,9,    0.031,2,    0.030,2,    0.069,2,    0.003,   1.8650,2,   0.0075,     2.35,2,     0.19,   -999.0,9,   -999.0,-999.0000
  06MT19901004,  AR04,   682,  1,      5,2,19901025,   0, -5.3350, -32.5383, 4636,   3954.4,   2.1231,  34.8695,2,-999.0000,9,   -999.0,9,    0.018,2,    0.013,2,    0.048,2,    0.003,   1.9136,2,   0.0077,     2.70,2,     0.14,   -999.0,9,   -999.0,-999.0000
  06MT19901004,  AR04,   682,  1,      4,2,19901025,   0, -5.3350, -32.5383, 4636,   4190.6,   1.4565,  34.7917,2,-999.0000,9,   -999.0,9,    0.008,2,    0.003,2,    0.010,2,    0.001,-999.0000,9,-999.0000,  -999.00,9,  -999.00,   -999.0,9,   -999.0,-999.0000
  06MT19901004,  AR04,   682,  1,      1,2,19901025,   0, -5.3350, -32.5383, 4636,   4639.3,   0.7889,  34.7174,2,  34.7200,2,    231.6,2,    0.017,2,    0.012,2,    0.007,2,    0.001,-999.0000,9,-999.0000,  -999.00,9,  -999.00,   -999.0,9,   -999.0,   0.4202