BOTTLE,20141104SIOCCHRJL
# Changed DELC14 units from '0/00' to '/MILLE'
# Changed C14ERR units from '0/00' to '/MILLE'
# BOTTLE,20121003PRINUNIVRMK
# 1/29/07 Initialized README file  
# Data source: CCHDO 1/29/07 
# SHIP: Meteor 
# Cruise: 06MT14.2 
# Region: Off Brazil AR04 
# EXPOCODE: 06MT19901004 
# DATES: 10/4-10/25/1990 
# Chief Scientist: F. Schott 
# 44 stations with 12 place Rosette 
# Hydro: Who - F. Schott; Status - final 
# 	Notes: Notes indicate minor calibration problem 
# O2: Who - ??; Status - final 
# 	Notes:No nutrients 
# CFC: Who - M.Rhein/O.Pleahn; Status - final 
# 	Notes:    
# C-14: Who - R. Bayer; Status - final 
# 	Notes: some fliers remain 
# H-3/He-3: Who - R. Bayer; Status - final 
# 	Notes: Values QC'ed by Key, 10/2012 
# Other:  
EXPOCODE,SECT_ID,STNNBR,CASTNO,BTLNBR,BTLNBR_FLAG_W,DATE,TIME,LATITUDE,LONGITUDE,DEPTH,CTDPRS,CTDTMP,CTDSAL,CTDSAL_FLAG_W,SALNTY,SALNTY_FLAG_W,OXYGEN,OXYGEN_FLAG_W,CFC-11,CFC-11_FLAG_W,CFC-12,CFC-12_FLAG_W,TRITUM,TRITUM_FLAG_W,TRITER,HELIUM,HELIUM_FLAG_W,HELIER,DELHE3,DELHE3_FLAG_W,DELHER,DELC14,DELC14_FLAG_W,C14ERR,THETA
,,,,,,,,,,METERS,DBAR,ITS-90,PSS-78,,PSS-78,,UMOL/KG,,PMOL/KG,,PMOL/KG,,TU,,TU,NMOL/KG,,NMOL/KG,PERCNT,,PERCNT,/MILLE,,/MILLE,DEG C
  06MT19901004,  AR04,   627,  1,     23,2,19901004,   0, 10.8533, -36.4717, 4992,     19.1,  28.5849,  35.6077,2,-999.0000,9,   -999.0,9, -999.000,9, -999.000,9,    1.000,2,    0.015,   1.6873,2,   0.0067,    -1.25,2,     0.27,   -999.0,9,   -999.0,-999.0000
  06MT19901004,  AR04,   627,  1,     22,2,19901004,   0, 10.8533, -36.4717, 4992,     86.2,  19.0234,  36.3430,2,-999.0000,9,   -999.0,9, -999.000,9, -999.000,9, -999.000,9, -999.000,-999.0000,9,-999.0000,  -999.00,9,  -999.00,   -999.0,9,   -999.0,-999.0000
  06MT19901004,  AR04,   627,  1,     21,2,19901004,   0, 10.8533, -36.4717, 4992,    194.8,  12.0804,  35.3110,2,-999.0000,9,   -999.0,9, -999.000,9, -999.000,9, -999.000,9, -999.000,-999.0000,9,-999.0000,  -999.00,9,  -999.00,   -999.0,9,   -999.0,-999.0000
  06MT19901004,  AR04,   627,  1,     20,2,19901004,   0, 10.8533, -36.4717, 4992,    395.3,   9.4169,  34.9736,2,  34.9740,2,   -999.0,9,    0.102,2, -999.000,9, -999.000,9, -999.000,-999.0000,9,-999.0000,  -999.00,9,  -999.00,   -999.0,9,   -999.0,   9.3723
  06MT19901004,  AR04,   627,  1,     19,2,19901004,   0, 10.8533, -36.4717, 4992,    544.8,   7.7699,  34.8205,2,  34.8190,2,   -999.0,9,    0.038,2, -999.000,9, -999.000,9, -999.000,-999.0000,9,-999.0000,  -999.00,9,  -999.00,   -999.0,9,   -999.0,   7.7146
  06MT19901004,  AR04,   627,  1,     18,2,19901004,   0, 10.8533, -36.4717, 4992,    713.0,   6.6355,  34.7765,2,  34.7730,2,   -999.0,9,    0.018,2, -999.000,9, -999.000,9, -999.000,-999.0000,9,-999.0000,  -999.00,9,  -999.00,   -999.0,9,   -999.0,   6.5684
  06MT19901004,  AR04,   627,  1,     17,2,19901004,   0, 10.8533, -36.4717, 4992,    815.9,   6.1348,  34.7571,2,  34.7570,2,   -999.0,9,    0.009,2, -999.000,9, -999.000,5, -999.000,   1.7859,2,   0.0071,     2.11,2,     0.31,   -999.0,9,   -999.0,   6.0605
  06MT19901004,  AR04,   627,  1,     16,2,19901004,   0, 10.8533, -36.4717, 4992,    913.3,   5.7010,  34.7710,2,  34.7710,2,   -999.0,9, -999.000,9, -999.000,9, -999.000,5, -999.000,   1.8883,2,   0.0076,     1.09,2,     0.28,   -999.0,9,   -999.0,   5.6202
  06MT19901004,  AR04,   627,  1,     15,2,19901004,   0, 10.8533, -36.4717, 4992,   1093.3,   5.0244,  34.8529,2,  34.8480,2,   -999.0,9, -999.000,9, -999.000,9, -999.000,9, -999.000,-999.0000,9,-999.0000,  -999.00,9,  -999.00,   -999.0,9,   -999.0,   4.9318
  06MT19901004,  AR04,   627,  1,     14,2,19901004,   0, 10.8533, -36.4717, 4992,   1292.9,   4.6716,  34.9448,2,  34.9430,2,   -999.0,9,    0.016,2, -999.000,9, -999.000,9, -999.000,-999.0000,9,-999.0000,  -999.00,9,  -999.00,   -999.0,9,   -999.0,   4.5634
  06MT19901004,  AR04,   627,  1,     13,2,19901004,   0, 10.8533, -36.4717, 4992,   1493.5,   4.3098,  34.9749,2,  34.9770,2,   -999.0,9,    0.041,2, -999.000,9,    0.070,2,    0.007,   1.9112,2,   0.0076,     1.61,2,     0.34,   -999.0,9,   -999.0,   4.1867
  06MT19901004,  AR04,   627,  1,     12,2,19901004,   0, 10.8533, -36.4717, 4992,   1590.5,   4.1270,  34.9780,2,  34.9790,2,   -999.0,9,    0.026,2,    0.023,2,    0.062,2,    0.006,   1.2438,3,   0.0050,     0.72,3,     0.29,   -999.0,9,   -999.0,   3.9969
  06MT19901004,  AR04,   627,  1,     11,2,19901004,   0, 10.8533, -36.4717, 4992,   1693.6,   3.9081,  34.9748,2,  34.9760,2,   -999.0,9, -999.000,9, -999.000,9, -999.000,9, -999.000,-999.0000,9,-999.0000,  -999.00,9,  -999.00,   -999.0,9,   -999.0,   3.7711
  06MT19901004,  AR04,   627,  1,     10,2,19901004,   0, 10.8533, -36.4717, 4992,   1793.1,   3.7632,  34.9719,2,  34.9710,2,   -999.0,9,    0.013,2, -999.000,9, -999.000,9, -999.000,-999.0000,9,-999.0000,  -999.00,9,  -999.00,   -999.0,9,   -999.0,   3.6188
  06MT19901004,  AR04,   627,  1,      9,2,19901004,   0, 10.8533, -36.4717, 4992,   1993.3,   3.4983,  34.9633,2,  34.9630,2,   -999.0,9,    0.014,2,    0.009,2, -999.000,9, -999.000,-999.0000,9,-999.0000,  -999.00,9,  -999.00,   -999.0,9,   -999.0,   3.3388
  06MT19901004,  AR04,   627,  1,      8,2,19901004,   0, 10.8533, -36.4717, 4992,   2192.2,   3.2714,  34.9537,2,  34.9550,2,   -999.0,9,    0.020,2,    0.014,2, -999.000,9, -999.000,-999.0000,9,-999.0000,  -999.00,9,  -999.00,   -999.0,9,   -999.0,   3.0966
  06MT19901004,  AR04,   627,  1,      1,2,19901004,   0, 10.8533, -36.4717, 4992,   2480.5,   3.0336,  34.9421,2,-999.0000,9,   -999.0,9,    0.014,2,    0.009,2,    0.018,2,    0.003,   1.8231,2,   0.0073,     2.35,2,     0.27,   -999.0,9,   -999.0,-999.0000
  06MT19901004,  AR04,   628,  1,     23,2,19901006,   0,  7.4867, -42.4100, 4799,    395.5,   8.4015,  34.8000,2,  34.7970,2,   -999.0,9,    0.181,2,    0.103,2,    0.142,2,    0.006,   1.7395,2,   0.0070,     1.19,2,     0.29,   -999.0,9,   -999.0,   8.3599
  06MT19901004,  AR04,   628,  1,     22,2,19901006,   0,  7.4867, -42.4100, 4799,    545.5,   7.3701,  34.7298,2,  34.7310,2,   -999.0,9,    0.098,2,    0.051,2, -999.000,9, -999.000,-999.0000,9,-999.0000,  -999.00,9,  -999.00,   -999.0,9,   -999.0,   7.3164
  06MT19901004,  AR04,   628,  1,     21,2,19901006,   0,  7.4867, -42.4100, 4799,    656.2,   6.3307,  34.6663,2,  34.6630,2,   -999.0,9, -999.000,9, -999.000,9, -999.000,9, -999.000,-999.0000,9,-999.0000,  -999.00,9,  -999.00,   -999.0,9,   -999.0,   6.2708
  06MT19901004,  AR04,   628,  1,     20,2,19901006,   0,  7.4867, -42.4100, 4799,    752.4,   5.7150,  34.6300,2,  34.6290,2,   -999.0,9,    0.013,2,    0.008,2,    0.023,2,    0.004,-999.0000,9,-999.0000,  -999.00,9,  -999.00,   -999.0,9,   -999.0,   5.6494
  06MT19901004,  AR04,   628,  1,     19,2,19901006,   0,  7.4867, -42.4100, 4799,    853.9,   5.3423,  34.6628,2,  34.6630,2,   -999.0,9,    0.014,2,    0.008,2,    0.033,2,    0.004,   1.8060,2,   0.0072,     1.12,2,     0.31,   -999.0,9,   -999.0,   5.2696
  06MT19901004,  AR04,   628,  1,     18,2,19901006,   0,  7.4867, -42.4100, 4799,    994.2,   4.9205,  34.7139,2,  34.7130,2,   -999.0,9,    0.026,2,    0.006,2, -999.000,9, -999.000,-999.0000,9,-999.0000,  -999.00,9,  -999.00,   -999.0,9,   -999.0,   4.8380
  06MT19901004,  AR04,   628,  1,     17,2,19901006,   0,  7.4867, -42.4100, 4799,   1094.7,   4.8645,  34.7981,2,  34.7990,2,   -999.0,9,    0.021,2,    0.010,2, -999.000,9, -999.000,-999.0000,9,-999.0000,  -999.00,9,  -999.00,   -999.0,9,   -999.0,   4.7731
  06MT19901004,  AR04,   628,  1,     16,2,19901006,   0,  7.4867, -42.4100, 4799,   1293.7,   4.6926,  34.9261,2,  34.9280,2,   -999.0,9,    0.041,2,    0.026,2,    0.090,2,    0.005,   1.8029,2,   0.0072,     1.70,2,     0.28,   -999.0,9,   -999.0,   4.5842
  06MT19901004,  AR04,   628,  1,     15,2,19901006,   0,  7.4867, -42.4100, 4799,   1493.4,   4.4148,  34.9793,2,  34.9810,2,   -999.0,9,    0.084,2,    0.038,2, -999.000,9, -999.000,-999.0000,9,-999.0000,  -999.00,9,  -999.00,   -999.0,9,   -999.0,   4.2905
  06MT19901004,  AR04,   628,  1,     14,2,19901006,   0,  7.4867, -42.4100, 4799,   1593.6,   4.3258,  34.9924,2,  34.9940,2,   -999.0,9,    0.119,2,    0.054,2,    0.242,2,    0.009,   1.8309,2,   0.0073,     2.37,2,     0.34,   -999.0,9,   -999.0,   4.1930
  06MT19901004,  AR04,   628,  1,     13,2,19901006,   0,  7.4867, -42.4100, 4799,   1695.5,   4.1010,  34.9895,2,  34.9910,2,   -999.0,9,    0.102,2,    0.047,2,    0.234,2,    0.014,   1.8471,2,   0.0074,     2.46,2,     0.34,   -999.0,9,   -999.0,   3.9614
  06MT19901004,  AR04,   628,  1,     12,2,19901006,   0,  7.4867, -42.4100, 4799,   1795.3,   3.9560,  34.9869,2,  34.9890,2,   -999.0,9,    0.076,2,    0.043,2, -999.000,9, -999.000,-999.0000,9,-999.0000,  -999.00,9,  -999.00,   -999.0,9,   -999.0,   3.8088
  06MT19901004,  AR04,   628,  1,     11,2,19901006,   0,  7.4867, -42.4100, 4799,   1993.9,   3.6562,  34.9787,2,  34.9800,2,   -999.0,9,    0.069,2,    0.034,2, -999.000,9, -999.000,-999.0000,9,-999.0000,  -999.00,9,  -999.00,   -999.0,9,   -999.0,   3.4943
  06MT19901004,  AR04,   628,  1,     10,2,19901006,   0,  7.4867, -42.4100, 4799,   2193.9,   3.4333,  34.9673,2,  34.9680,2,   -999.0,9,    0.037,2,    0.021,2, -999.000,9, -999.000,-999.0000,9,-999.0000,  -999.00,9,  -999.00,   -999.0,9,   -999.0,   3.2556
  06MT19901004,  AR04,   628,  1,      1,2,19901006,   0,  7.4867, -42.4100, 4799,   2496.1,   3.1525,  34.9523,2,-999.0000,9,   -999.0,9,    0.038,2,    0.013,2,    0.083,2,    0.006,-999.0000,9,-999.0000,  -999.00,9,  -999.00,   -999.0,9,   -999.0,-999.0000
  06MT19901004,  AR04,   629,  1,     21,2,19901006,   0,  6.6450, -44.0433, 4651,    492.5,   6.9633,  34.6503,2,  34.6460,2,    128.2,2, -999.000,9, -999.000,9,    0.093,2,    0.006,   1.7451,2,   0.0070,     0.96,2,     0.37,   -999.0,9,   -999.0,   6.9166
  06MT19901004,  AR04,   629,  1,     18,2,19901006,   0,  6.6450, -44.0433, 4651,    697.1,   5.3602,  34.5318,2,  34.5290,2,   -999.0,9, -999.000,9, -999.000,9, -999.000,5, -999.000,   0.9629,3,   0.0039,     2.76,3,     0.43,   -999.0,9,   -999.0,   5.3017
  06MT19901004,  AR04,   629,  1,     16,2,19901006,   0,  6.6450, -44.0433, 4651,   1345.6,   4.6726,  34.9805,2,  34.9790,2,   -999.0,9, -999.000,9, -999.000,9,    0.247,2,    0.009,   1.8484,2,   0.0074,     2.61,2,     0.32,   -999.0,9,   -999.0,   4.5594
  06MT19901004,  AR04,   629,  1,     14,2,19901006,   0,  6.6450, -44.0433, 4651,   1444.1,   4.4758,  34.9953,2,  34.9950,2,    240.8,2, -999.000,9, -999.000,9,    0.278,2,    0.010,   1.8664,2,   0.0075,     3.48,3,     0.36,   -999.0,9,   -999.0,   4.3554
  06MT19901004,  AR04,   629,  1,     13,2,19901006,   0,  6.6450, -44.0433, 4651,   1543.6,   4.2899,  34.9971,2,  34.9950,2,   -999.0,9, -999.000,9, -999.000,9,    0.267,2,    0.008,   1.8149,2,   0.0073,     2.73,2,     0.35,   -999.0,9,   -999.0,   4.1623
  06MT19901004,  AR04,   629,  1,      9,2,19901006,   0,  6.6450, -44.0433, 4651,   2995.1,   2.7597,  34.9316,2,  34.9290,2,   -999.0,9, -999.000,9, -999.000,9,    0.083,2,    0.009,   1.8485,2,   0.0074,     2.37,2,     0.35,   -999.0,9,   -999.0,   2.5146
  06MT19901004,  AR04,   629,  1,      7,2,19901006,   0,  6.6450, -44.0433, 4651,   3494.0,   2.5169,  34.9139,2,  34.9100,2,   -999.0,9, -999.000,9, -999.000,9,    0.093,2,    0.003,   1.8506,2,   0.0074,     2.05,2,     0.31,   -999.0,9,   -999.0,   2.2247
  06MT19901004,  AR04,   629,  1,      5,2,19901006,   0,  6.6450, -44.0433, 4651,   3996.4,   2.2860,  34.8969,2,  34.8940,2,   -999.0,9, -999.000,9, -999.000,9, -999.000,9, -999.000,-999.0000,9,-999.0000,  -999.00,9,  -999.00,   -999.0,9,   -999.0,   1.9441
  06MT19901004,  AR04,   629,  1,      4,2,19901006,   0,  6.6450, -44.0433, 4651,   4195.0,   2.2320,  34.8883,2,  34.8880,2,    269.9,2, -999.000,9, -999.000,9, -999.000,9, -999.000,-999.0000,9,-999.0000,  -999.00,9,  -999.00,   -999.0,9,   -999.0,   1.8689
  06MT19901004,  AR04,   629,  1,      3,2,19901006,   0,  6.6450, -44.0433, 4651,   4488.1,   1.8193,  34.8360,2,  34.8340,2,   -999.0,9, -999.000,9, -999.000,9, -999.000,9, -999.000,-999.0000,9,-999.0000,  -999.00,9,  -999.00,   -999.0,9,   -999.0,   1.4347
  06MT19901004,  AR04,   629,  1,      1,2,19901006,   0,  6.6450, -44.0433, 4651,   4634.7,   1.5404,  34.8005,2,  34.8010,2,    240.3,2, -999.000,9, -999.000,9,    0.048,2,    0.003,   1.8636,2,   0.0075,     4.25,2,     0.31,   -999.0,9,   -999.0,   1.1476
  06MT19901004,  AR04,   630,  1,     23,2,19901006,   0,  5.9567, -44.0033, 4166,     18.0,  29.1616,  34.1269,2,  34.1230,2,    204.2,2, -999.000,9, -999.000,9, -999.000,9, -999.000,-999.0000,9,-999.0000,  -999.00,9,  -999.00,   -999.0,9,   -999.0,  29.1572
  06MT19901004,  AR04,   630,  1,     19,2,19901006,   0,  5.9567, -44.0033, 4166,    296.0,   8.7803,  34.8124,2,  34.8070,2,   -999.0,9, -999.000,9, -999.000,9, -999.000,9, -999.000,-999.0000,9,-999.0000,  -999.00,9,  -999.00,   -999.0,9,   -999.0,   8.7485
  06MT19901004,  AR04,   630,  1,     17,2,19901006,   0,  5.9567, -44.0033, 4166,    692.4,   5.5791,  34.5549,2,  34.5490,2,    141.2,2, -999.000,9, -999.000,9,    0.035,2,    0.005,   1.7836,2,   0.0071,     2.10,2,     0.32,   -999.0,9,   -999.0,   5.5198
  06MT19901004,  AR04,   630,  1,     16,2,19901006,   0,  5.9567, -44.0033, 4166,    789.5,   5.1644,  34.5620,2,-999.0000,9,   -999.0,9, -999.000,9, -999.000,9, -999.000,9, -999.000,-999.0000,9,-999.0000,  -999.00,9,  -999.00,   -999.0,9,   -999.0,-999.0000
  06MT19901004,  AR04,   630,  1,     15,2,19901006,   0,  5.9567, -44.0033, 4166,    886.0,   4.9195,  34.6017,2,-999.0000,9,   -999.0,9, -999.000,9, -999.000,9, -999.000,9, -999.000,-999.0000,9,-999.0000,  -999.00,9,  -999.00,   -999.0,9,   -999.0,-999.0000
  06MT19901004,  AR04,   630,  1,     13,2,19901006,   0,  5.9567, -44.0033, 4166,   1091.0,   4.7766,  34.7607,2,  34.7570,2,   -999.0,9, -999.000,9, -999.000,9, -999.000,9, -999.000,-999.0000,9,-999.0000,  -999.00,9,  -999.00,   -999.0,9,   -999.0,   4.6864
  06MT19901004,  AR04,   630,  1,     11,2,19901006,   0,  5.9567, -44.0033, 4166,   1451.1,   4.5137,  34.9709,2,  34.9680,2,    226.4,2, -999.000,9, -999.000,9,    0.159,2,    0.007,-999.0000,9,-999.0000,  -999.00,9,  -999.00,   -999.0,9,   -999.0,   4.3923
  06MT19901004,  AR04,   630,  1,      9,2,19901006,   0,  5.9567, -44.0033, 4166,   1989.1,   3.6202,  34.9799,2,  34.9780,2,   -999.0,9, -999.000,9, -999.000,9,    0.163,2,    0.008,   1.8549,2,   0.0074,     2.17,2,     0.31,   -999.0,9,   -999.0,   3.4593
  06MT19901004,  AR04,   630,  1,      7,2,19901006,   0,  5.9567, -44.0033, 4166,   2494.7,   3.0865,  34.9511,2,  34.9460,2,   -999.0,9, -999.000,9, -999.000,9,    0.049,2,    0.006,   1.8415,2,   0.0074,     2.01,2,     0.34,   -999.0,9,   -999.0,   2.8854
  06MT19901004,  AR04,   630,  1,      6,2,19901006,   0,  5.9567, -44.0033, 4166,   3486.8,   2.5179,  34.9136,2,  34.9100,2,   -999.0,9, -999.000,9, -999.000,9,    0.084,2,    0.006,   1.8981,2,   0.0076,     2.23,2,     0.24,   -999.0,9,   -999.0,   2.2264
  06MT19901004,  AR04,   630,  1,      5,2,19901006,   0,  5.9567, -44.0033, 4166,   3990.6,   2.2530,  34.8932,2,  34.8910,2,    270.3,2, -999.000,9, -999.000,9,    0.158,2,    0.009,   1.8516,2,   0.0074,     2.26,2,     0.26,   -999.0,9,   -999.0,   1.9127
  06MT19901004,  AR04,   630,  1,      1,2,19901006,   0,  5.9567, -44.0033, 4166,   4159.2,   2.1811,  34.8834,2,  34.8800,2,    268.1,2, -999.000,9, -999.000,9,    0.129,2,    0.009,   1.1496,3,   0.0046,     2.07,2,     0.17,   -999.0,9,   -999.0,   1.8236
  06MT19901004,  AR04,   631,  1,     24,2,19901007,   0,  5.2383, -44.0617, 3315,     13.8,  28.9667,  34.2317,2,  34.2300,2,    201.2,2, -999.000,9, -999.000,9, -999.000,9, -999.000,-999.0000,9,-999.0000,  -999.00,9,  -999.00,   -999.0,9,   -999.0,  28.9634
  06MT19901004,  AR04,   631,  1,     23,2,19901007,   0,  5.2383, -44.0617, 3315,     74.2,  23.6118,  36.3796,2,-999.0000,9,   -999.0,9, -999.000,9, -999.000,9, -999.000,9, -999.000,-999.0000,9,-999.0000,  -999.00,9,  -999.00,   -999.0,9,   -999.0,-999.0000
  06MT19901004,  AR04,   631,  1,     21,2,19901007,   0,  5.2383, -44.0617, 3315,    194.3,  10.1235,  34.9846,2,  34.9860,2,   -999.0,9, -999.000,9, -999.000,9, -999.000,9, -999.000,-999.0000,9,-999.0000,  -999.00,9,  -999.00,   -999.0,9,   -999.0,  10.1008
  06MT19901004,  AR04,   631,  1,     20,2,19901007,   0,  5.2383, -44.0617, 3315,    296.2,   8.5754,  34.8027,2,  34.8000,2,    120.4,2, -999.000,9, -999.000,9, -999.000,9, -999.000,-999.0000,9,-999.0000,  -999.00,9,  -999.00,   -999.0,9,   -999.0,   8.5440
  06MT19901004,  AR04,   631,  1,     19,2,19901007,   0,  5.2383, -44.0617, 3315,    493.3,   6.6115,  34.6200,2,  34.6220,2,   -999.0,9, -999.000,9, -999.000,9, -999.000,9, -999.000,-999.0000,9,-999.0000,  -999.00,9,  -999.00,   -999.0,9,   -999.0,   6.5660
  06MT19901004,  AR04,   631,  1,     17,2,19901007,   0,  5.2383, -44.0617, 3315,    694.5,   5.2363,  34.5619,2,  34.5600,2,    140.8,2, -999.000,9, -999.000,9, -999.000,5, -999.000,   1.8213,2,   0.0073,     1.76,2,     0.29,   -999.0,9,   -999.0,   5.1786
  06MT19901004,  AR04,   631,  1,     15,2,19901007,   0,  5.2383, -44.0617, 3315,    888.0,   4.7716,  34.6369,2,-999.0000,9,   -999.0,9, -999.000,9, -999.000,9, -999.000,9, -999.000,-999.0000,9,-999.0000,  -999.00,9,  -999.00,   -999.0,9,   -999.0,-999.0000
  06MT19901004,  AR04,   631,  1,     14,2,19901007,   0,  5.2383, -44.0617, 3315,   1098.0,   4.8435,  34.8274,2,  34.8280,2,   -999.0,9, -999.000,9, -999.000,9, -999.000,9, -999.000,-999.0000,9,-999.0000,  -999.00,9,  -999.00,   -999.0,9,   -999.0,   4.7520
  06MT19901004,  AR04,   631,  1,     13,2,19901007,   0,  5.2383, -44.0617, 3315,   1393.8,   4.4658,  34.9618,2,  34.9570,2,   -999.0,9, -999.000,9, -999.000,9,    0.144,2,    0.006,-999.0000,9,-999.0000,  -999.00,9,  -999.00,   -999.0,9,   -999.0,   4.3503
  06MT19901004,  AR04,   631,  1,     12,2,19901007,   0,  5.2383, -44.0617, 3315,   1591.9,   4.1919,  34.9806,2,  34.9780,2,    239.9,2, -999.000,9, -999.000,9,    0.137,2,    0.006,   1.8219,2,   0.0073,     1.43,2,     0.35,   -999.0,9,   -999.0,   4.0609
  06MT19901004,  AR04,   631,  1,     11,2,19901007,   0,  5.2383, -44.0617, 3315,   1790.1,   3.8451,  34.9814,2,  34.9770,2,   -999.0,9, -999.000,9, -999.000,9,    0.112,2,    0.008,   1.8392,2,   0.0074,     1.32,2,     0.29,   -999.0,9,   -999.0,   3.6999
  06MT19901004,  AR04,   631,  1,     10,2,19901007,   0,  5.2383, -44.0617, 3315,   1994.3,   3.5623,  34.9747,2,  34.9800,2,   -999.0,9, -999.000,9, -999.000,9, -999.000,9, -999.000,-999.0000,9,-999.0000,  -999.00,9,  -999.00,   -999.0,9,   -999.0,   3.4017
  06MT19901004,  AR04,   631,  1,      9,2,19901007,   0,  5.2383, -44.0617, 3315,   2494.9,   3.1325,  34.9537,2,  34.9510,2,   -999.0,9, -999.000,9, -999.000,9,    0.097,2,    0.006,   1.8898,2,   0.0076,     1.70,2,     0.37,   -999.0,9,   -999.0,   2.9306
  06MT19901004,  AR04,   631,  1,      8,2,19901007,   0,  5.2383, -44.0617, 3315,   2993.4,   2.7727,  34.9294,2,  34.9240,2,   -999.0,9, -999.000,9, -999.000,9, -999.000,9, -999.000,-999.0000,9,-999.0000,  -999.00,9,  -999.00,   -999.0,9,   -999.0,   2.5276
  06MT19901004,  AR04,   631,  1,      1,2,19901007,   0,  5.2383, -44.0617, 3315,   3232.4,   2.6088,  34.9205,2,  34.9170,2,    258.6,2, -999.000,9, -999.000,9,    0.086,2,    0.006,   1.8551,2,   0.0074,     2.43,2,     0.28,   -999.0,9,   -999.0,   2.3424