BOTTLE,20141104SIOCCHRJL
EXPOCODE,SECT_ID,STNNBR,CASTNO,BTLNBR,BTLNBR_FLAG_W,DATE,TIME,LATITUDE,LONGITUDE,DEPTH,CTDPRS,CTDTMP,CTDSAL,CTDSAL_FLAG_W,SALNTY,SALNTY_FLAG_W,OXYGEN,OXYGEN_FLAG_W,CFC-11,CFC-11_FLAG_W,CFC-12,CFC-12_FLAG_W,TRITUM,TRITUM_FLAG_W,TRITER,HELIUM,HELIUM_FLAG_W,HELIER,DELHE3,DELHE3_FLAG_W,DELHER,DELC14,DELC14_FLAG_W,C14ERR,THETA
,,,,,,,,,,METERS,DBAR,ITS-90,PSS-78,,PSS-78,,UMOL/KG,,PMOL/KG,,PMOL/KG,,TU,,TU,NMOL/KG,,NMOL/KG,PERCNT,,PERCNT,/MILLE,,/MILLE,DEG C
  06MT19901004,  AR04,   645,  1,     24,2,19901013,   0,  1.3767, -44.0083, 4106,     23.1,  26.9739,  36.3617,2,  36.3600,2,    179.9,2, -999.000,9, -999.000,9, -999.000,9, -999.000,-999.0000,9,-999.0000,  -999.00,9,  -999.00,   -999.0,9,   -999.0,  26.9686
  06MT19901004,  AR04,   645,  1,     23,2,19901013,   0,  1.3767, -44.0083, 4106,    128.9,  25.1839,  36.6145,2,-999.0000,9,   -999.0,9, -999.000,9, -999.000,9, -999.000,9, -999.000,-999.0000,9,-999.0000,  -999.00,9,  -999.00,   -999.0,9,   -999.0,-999.0000
  06MT19901004,  AR04,   645,  1,     22,2,19901013,   0,  1.3767, -44.0083, 4106,    302.0,  12.9719,  35.2622,2,  35.2580,2,   -999.0,9, -999.000,9, -999.000,9, -999.000,9, -999.000,-999.0000,9,-999.0000,  -999.00,9,  -999.00,   -999.0,9,   -999.0,  12.9302
  06MT19901004,  AR04,   645,  1,     21,2,19901013,   0,  1.3767, -44.0083, 4106,    595.2,   5.8949,  34.5087,2,-999.0000,9,   -999.0,9, -999.000,9, -999.000,9,    0.097,2,    0.006,-999.0000,9,-999.0000,  -999.00,9,  -999.00,   -999.0,9,   -999.0,-999.0000
  06MT19901004,  AR04,   645,  1,     20,2,19901013,   0,  1.3767, -44.0083, 4106,    722.5,   5.0614,  34.4787,2,-999.0000,9,   -999.0,9,    0.138,2, -999.000,9,    0.063,2,    0.006,   1.9070,2,   0.0076,     1.56,2,     0.25,   -999.0,9,   -999.0,-999.0000
  06MT19901004,  AR04,   645,  1,     19,2,19901013,   0,  1.3767, -44.0083, 4106,    795.4,   4.8226,  34.4666,2,  34.4630,2,   -999.0,9,    0.121,2, -999.000,9,    0.061,2,    0.005,   1.8083,2,   0.0072,     2.17,2,     0.25,   -999.0,9,   -999.0,   4.7586
  06MT19901004,  AR04,   645,  1,     18,2,19901013,   0,  1.3767, -44.0083, 4106,    894.9,   4.3688,  34.5279,2,-999.0000,9,   -999.0,9,    0.046,2, -999.000,9,    0.034,2,    0.004,   1.8148,2,   0.0073,     1.89,2,     0.28,   -999.0,9,   -999.0,-999.0000
  06MT19901004,  AR04,   645,  1,     17,2,19901013,   0,  1.3767, -44.0083, 4106,    990.2,   4.7336,  34.7270,2,-999.0000,9,   -999.0,9,    0.073,2, -999.000,9,    0.066,2,    0.007,   1.5091,3,   0.0060,     1.71,2,     0.29,   -999.0,9,   -999.0,-999.0000
  06MT19901004,  AR04,   645,  1,     16,2,19901013,   0,  1.3767, -44.0083, 4106,   1093.9,   4.5327,  34.7599,2,  34.7580,2,   -999.0,9, -999.000,9, -999.000,9, -999.000,9, -999.000,-999.0000,9,-999.0000,  -999.00,9,  -999.00,   -999.0,9,   -999.0,   4.4442
  06MT19901004,  AR04,   645,  1,     15,2,19901013,   0,  1.3767, -44.0083, 4106,   1194.1,   4.5327,  34.7928,2,-999.0000,9,    162.5,3, -999.000,9, -999.000,9,    0.052,2,    0.005,   1.9206,2,   0.0077,     1.51,2,     0.25,   -999.0,9,   -999.0,-999.0000
  06MT19901004,  AR04,   645,  1,     14,2,19901013,   0,  1.3767, -44.0083, 4106,   1393.8,   4.5747,  34.9642,2,-999.0000,9,   -999.0,9,    0.083,2, -999.000,9,    0.199,2,    0.005,   1.8530,2,   0.0074,     2.33,2,     0.29,   -999.0,9,   -999.0,-999.0000
  06MT19901004,  AR04,   645,  1,     13,2,19901013,   0,  1.3767, -44.0083, 4106,   1490.7,   4.4018,  34.9861,2,-999.0000,9,   -999.0,9,    0.113,2, -999.000,9,    0.237,2,    0.005,   1.8029,2,   0.0072,     2.18,2,     0.23,   -999.0,9,   -999.0,-999.0000
  06MT19901004,  AR04,   645,  1,     12,2,19901013,   0,  1.3767, -44.0083, 4106,   1592.2,   4.2749,  34.9869,2,  34.9850,2,   -999.0,9,    0.097,2, -999.000,9, -999.000,9, -999.000,-999.0000,9,-999.0000,  -999.00,9,  -999.00,   -999.0,9,   -999.0,   4.1429
  06MT19901004,  AR04,   645,  1,     11,2,19901013,   0,  1.3767, -44.0083, 4106,   1660.9,   4.1080,  34.9860,2,-999.0000,9,    235.5,2,    0.098,2, -999.000,9,    0.200,2,    0.003,   1.7969,2,   0.0072,     2.25,2,     0.23,   -999.0,9,   -999.0,-999.0000
  06MT19901004,  AR04,   645,  1,     10,2,19901013,   0,  1.3767, -44.0083, 4106,   1792.2,   3.9331,  34.9844,2,-999.0000,9,   -999.0,9,    0.077,2, -999.000,9,    0.173,2,    0.007,   1.6430,3,   0.0066,     2.13,2,     0.28,   -999.0,9,   -999.0,-999.0000
  06MT19901004,  AR04,   645,  1,      9,2,19901013,   0,  1.3767, -44.0083, 4106,   1994.4,   3.6932,  34.9785,2,  34.9770,2,   -999.0,9,    0.075,2, -999.000,9,    0.150,2,    0.004,   1.8158,2,   0.0073,     1.57,2,     0.26,   -999.0,9,   -999.0,   3.5307
  06MT19901004,  AR04,   645,  1,      8,2,19901013,   0,  1.3767, -44.0083, 4106,   2492.0,   3.1225,  34.9525,2,-999.0000,9,   -999.0,9,    0.052,2, -999.000,9, -999.000,9, -999.000,-999.0000,9,-999.0000,  -999.00,9,  -999.00,   -999.0,9,   -999.0,-999.0000
  06MT19901004,  AR04,   645,  1,      7,2,19901013,   0,  1.3767, -44.0083, 4106,   2997.3,   2.7767,  34.9318,2,-999.0000,9,   -999.0,9,    0.041,2, -999.000,9,    0.079,2,    0.004,   1.9452,2,   0.0078,     2.53,2,     0.28,   -999.0,9,   -999.0,-999.0000
  06MT19901004,  AR04,   645,  1,      6,2,19901013,   0,  1.3767, -44.0083, 4106,   3496.0,   2.4819,  34.9115,2,-999.0000,9,   -999.0,9,    0.059,2, -999.000,9, -999.000,5, -999.000,   1.8515,2,   0.0074,     2.58,2,     0.25,   -999.0,9,   -999.0,-999.0000
  06MT19901004,  AR04,   645,  1,      4,2,19901013,   0,  1.3767, -44.0083, 4106,   3664.9,   2.4009,  34.9050,2,-999.0000,9,   -999.0,9,    0.069,2, -999.000,9,    0.160,2,    0.006,   1.9321,2,   0.0077,     2.50,2,     0.21,   -999.0,9,   -999.0,-999.0000
  06MT19901004,  AR04,   645,  1,      3,2,19901013,   0,  1.3767, -44.0083, 4106,   3984.9,   2.2810,  34.8937,2,-999.0000,9,    243.8,3,    0.056,2, -999.000,9,    0.160,2,    0.007,   1.8620,2,   0.0074,     2.62,2,     0.21,   -999.0,9,   -999.0,-999.0000
  06MT19901004,  AR04,   645,  1,      1,2,19901013,   0,  1.3767, -44.0083, 4106,   4136.2,   2.2450,  34.8892,2,  34.8860,2,    250.3,2,    0.063,2, -999.000,9,    0.137,2,    0.004,-999.0000,9,-999.0000,  -999.00,9,  -999.00,   -999.0,9,   -999.0,   1.8883
  06MT19901004,  AR04,   647,  2,     24,2,19901013,   0,  1.9717, -44.0150, 4131,     95.6,  25.3278,  36.4062,2,  36.4040,2,    193.8,2, -999.000,9, -999.000,9, -999.000,9, -999.000,-999.0000,9,-999.0000,  -999.00,9,  -999.00,   -999.0,9,   -999.0,  25.3068
  06MT19901004,  AR04,   647,  2,     23,2,19901013,   0,  1.9717, -44.0150, 4131,    484.4,   7.9618,  34.7211,2,  34.7190,2,   -999.0,9, -999.000,9, -999.000,9, -999.000,9, -999.000,-999.0000,9,-999.0000,  -999.00,9,  -999.00,   -999.0,9,   -999.0,   7.9122
  06MT19901004,  AR04,   647,  2,     22,2,19901013,   0,  1.9717, -44.0150, 4131,    593.7,   6.1838,  34.5968,2,-999.0000,9,    133.4,2, -999.000,9, -999.000,9, -999.000,9, -999.000,-999.0000,9,-999.0000,  -999.00,9,  -999.00,   -999.0,9,   -999.0,-999.0000
  06MT19901004,  AR04,   647,  2,     21,2,19901013,   0,  1.9717, -44.0150, 4131,    693.5,   4.8096,  34.4920,2,  34.4900,2,   -999.0,9,    0.097,2, -999.000,9,    0.033,2,    0.004,   1.8095,2,   0.0072,     1.66,2,     0.25,   -999.0,9,   -999.0,   4.7544
  06MT19901004,  AR04,   647,  2,     20,2,19901013,   0,  1.9717, -44.0150, 4131,    886.8,   4.9425,  34.6110,2,-999.0000,9,    149.5,2,    0.025,2, -999.000,9, -999.000,9, -999.000,-999.0000,9,-999.0000,  -999.00,9,  -999.00,   -999.0,9,   -999.0,-999.0000
  06MT19901004,  AR04,   647,  2,     18,2,19901013,   0,  1.9717, -44.0150, 4131,    995.3,   4.7026,  34.7624,2,-999.0000,9,   -999.0,9,    0.028,2, -999.000,9,    0.050,2,    0.006,   1.8444,2,   0.0074,     1.57,2,     0.29,   -999.0,9,   -999.0,-999.0000
  06MT19901004,  AR04,   647,  2,     17,2,19901013,   0,  1.9717, -44.0150, 4131,   1130.3,   4.7376,  34.8360,2,  34.8340,2,   -999.0,9,    0.033,2, -999.000,9,    0.070,2,    0.006,   1.8805,2,   0.0075,     1.57,2,     0.29,   -999.0,9,   -999.0,   4.6440
  06MT19901004,  AR04,   647,  2,     16,2,19901013,   0,  1.9717, -44.0150, 4131,   1298.3,   4.6457,  34.9380,2,-999.0000,9,   -999.0,9, -999.000,9, -999.000,9, -999.000,9, -999.000,-999.0000,9,-999.0000,  -999.00,9,  -999.00,   -999.0,9,   -999.0,-999.0000
  06MT19901004,  AR04,   647,  2,     15,2,19901013,   0,  1.9717, -44.0150, 4131,   1391.9,   4.4877,  34.9805,2,  34.9790,2,   -999.0,9,    0.125,2, -999.000,9, -999.000,9, -999.000,-999.0000,9,-999.0000,  -999.00,9,  -999.00,   -999.0,9,   -999.0,   4.3721
  06MT19901004,  AR04,   647,  2,     14,2,19901013,   0,  1.9717, -44.0150, 4131,   1490.9,   4.2519,  34.9867,2,-999.0000,9,    247.7,2,    0.123,2, -999.000,9,    0.223,2,    0.006,   1.8520,2,   0.0074,     2.52,2,     0.38,   -999.0,9,   -999.0,-999.0000
  06MT19901004,  AR04,   647,  2,     13,2,19901013,   0,  1.9717, -44.0150, 4131,   1604.2,   4.1649,  34.9854,2,  34.9850,2,   -999.0,9,    0.111,2, -999.000,9,    0.207,2,    0.002,   1.8639,2,   0.0075,     2.68,2,     0.30,   -999.0,9,   -999.0,   4.0331
  06MT19901004,  AR04,   647,  2,     12,2,19901013,   0,  1.9717, -44.0150, 4131,   1690.7,   3.9531,  34.9853,2,-999.0000,9,   -999.0,9,    0.109,2, -999.000,9,    0.172,2,    0.002,-999.0000,9,-999.0000,  -999.00,9,  -999.00,   -999.0,9,   -999.0,-999.0000
  06MT19901004,  AR04,   647,  2,     11,2,19901013,   0,  1.9717, -44.0150, 4131,   1789.1,   3.9141,  34.9835,2,  34.9840,2,   -999.0,9,    0.116,2, -999.000,9, -999.000,9, -999.000,-999.0000,9,-999.0000,  -999.00,9,  -999.00,   -999.0,9,   -999.0,   3.7680
  06MT19901004,  AR04,   647,  2,     10,2,19901013,   0,  1.9717, -44.0150, 4131,   1990.8,   3.6832,  34.9790,2,-999.0000,9,   -999.0,9,    0.082,2, -999.000,9, -999.000,9, -999.000,-999.0000,9,-999.0000,  -999.00,9,  -999.00,   -999.0,9,   -999.0,-999.0000
  06MT19901004,  AR04,   647,  2,      9,2,19901013,   0,  1.9717, -44.0150, 4131,   2491.3,   3.1045,  34.9528,2,  34.9490,2,   -999.0,9,    0.031,2, -999.000,9,    0.081,2,    0.005,   1.8823,2,   0.0075,     1.88,2,     0.29,   -999.0,9,   -999.0,   2.9034
  06MT19901004,  AR04,   647,  2,      8,2,19901013,   0,  1.9717, -44.0150, 4131,   2990.6,   2.7707,  34.9316,2,-999.0000,9,   -999.0,9,    0.056,2, -999.000,9,    0.080,2,    0.005,   1.8452,2,   0.0074,     1.93,2,     0.28,   -999.0,9,   -999.0,-999.0000
  06MT19901004,  AR04,   647,  2,      7,2,19901013,   0,  1.9717, -44.0150, 4131,   3189.6,   2.6538,  34.9232,2,  34.9210,2,   -999.0,9,    0.053,2, -999.000,9,    0.096,2,    0.002,-999.0000,9,-999.0000,  -999.00,9,  -999.00,   -999.0,9,   -999.0,   2.3908
  06MT19901004,  AR04,   647,  2,      6,2,19901013,   0,  1.9717, -44.0150, 4131,   3398.2,   2.5279,  34.9152,2,-999.0000,9,   -999.0,9, -999.000,9, -999.000,9,    0.133,2,    0.006,   1.8734,2,   0.0075,     2.21,2,     0.29,   -999.0,9,   -999.0,-999.0000
  06MT19901004,  AR04,   647,  2,      5,2,19901013,   0,  1.9717, -44.0150, 4131,   3595.2,   2.4649,  34.9107,2,  34.9080,2,   -999.0,9,    0.059,2, -999.000,9,    0.147,2,    0.006,   1.8727,2,   0.0075,     2.58,2,     0.34,   -999.0,9,   -999.0,   2.1629
  06MT19901004,  AR04,   647,  2,      4,2,19901013,   0,  1.9717, -44.0150, 4131,   3793.0,   2.3620,  34.9023,2,-999.0000,9,   -999.0,9,    0.093,2, -999.000,9,    0.161,2,    0.003,-999.0000,9,-999.0000,  -999.00,9,  -999.00,   -999.0,9,   -999.0,-999.0000
  06MT19901004,  AR04,   647,  2,      3,2,19901013,   0,  1.9717, -44.0150, 4131,   3957.2,   2.2760,  34.8950,2,  34.9000,2,   -999.0,9,    0.079,2, -999.000,9,    0.148,2,    0.003,   1.8484,2,   0.0074,     2.74,2,     0.34,   -999.0,9,   -999.0,   1.9388
  06MT19901004,  AR04,   647,  2,      1,2,19901013,   0,  1.9717, -44.0150, 4131,   4097.0,   2.2660,  34.8905,2,  34.8910,2,    271.2,2,    0.061,2, -999.000,9,    0.143,2,    0.004,   1.8646,2,   0.0075,     3.17,2,     0.29,   -999.0,9,   -999.0,   1.9132
  06MT19901004,  AR04,   648,  1,     24,2,19901016,   0,  2.5000, -35.0000, 3585,     24.7,  27.5695,  36.0938,2,-999.0000,9,   -999.0,9, -999.000,9, -999.000,9, -999.000,9, -999.000,-999.0000,9,-999.0000,  -999.00,9,  -999.00,   -999.0,9,   -999.0,-999.0000
  06MT19901004,  AR04,   648,  1,     23,2,19901016,   0,  2.5000, -35.0000, 3585,     93.5,  26.5211,  36.2277,2,  36.2260,2,   -999.0,9, -999.000,9, -999.000,9, -999.000,9, -999.000,-999.0000,9,-999.0000,  -999.00,9,  -999.00,   -999.0,9,   -999.0,  26.4998
  06MT19901004,  AR04,   648,  1,     22,2,19901016,   0,  2.5000, -35.0000, 3585,    279.4,  11.2749,  35.0675,2,  35.0710,2,    135.1,2, -999.000,9, -999.000,9, -999.000,9, -999.000,-999.0000,9,-999.0000,  -999.00,9,  -999.00,   -999.0,9,   -999.0,  11.2397
  06MT19901004,  AR04,   648,  1,     21,2,19901016,   0,  2.5000, -35.0000, 3585,    394.0,   8.4954,  34.8025,2,  34.8070,2,   -999.0,9, -999.000,9, -999.000,9, -999.000,9, -999.000,-999.0000,9,-999.0000,  -999.00,9,  -999.00,   -999.0,9,   -999.0,   8.4537
  06MT19901004,  AR04,   648,  1,     20,2,19901016,   0,  2.5000, -35.0000, 3585,    493.5,   6.9283,  34.6487,2,-999.0000,9,   -999.0,9, -999.000,9, -999.000,9, -999.000,9, -999.000,-999.0000,9,-999.0000,  -999.00,9,  -999.00,   -999.0,9,   -999.0,-999.0000
  06MT19901004,  AR04,   648,  1,     18,2,19901016,   0,  2.5000, -35.0000, 3585,    596.9,   5.1594,  34.5146,2,  34.5090,2,    154.7,2,    0.059,2,    0.035,2, -999.000,9, -999.000,-999.0000,9,-999.0000,  -999.00,9,  -999.00,   -999.0,9,   -999.0,   5.1107
  06MT19901004,  AR04,   648,  1,     17,2,19901016,   0,  2.5000, -35.0000, 3585,    692.6,   4.9275,  34.5048,2,-999.0000,9,   -999.0,9,    0.041,2,    0.028,2,    0.049,2,    0.005,   1.8788,2,   0.0075,     1.54,2,     0.31,   -999.0,9,   -999.0,-999.0000
  06MT19901004,  AR04,   648,  1,     16,2,19901016,   0,  2.5000, -35.0000, 3585,    791.1,   4.7946,  34.5172,2,  34.5160,2,   -999.0,9,    0.026,2,    0.018,2,    0.036,2,    0.005,   1.8896,2,   0.0076,     1.68,2,     0.19,   -999.0,9,   -999.0,   4.7311
  06MT19901004,  AR04,   648,  1,     15,2,19901016,   0,  2.5000, -35.0000, 3585,    883.9,   4.6127,  34.5601,2,-999.0000,9,   -999.0,9,    0.016,2,    0.011,2,    0.007,2,    0.000,-999.0000,9,-999.0000,  -999.00,9,  -999.00,   -999.0,9,   -999.0,-999.0000
  06MT19901004,  AR04,   648,  1,     14,2,19901016,   0,  2.5000, -35.0000, 3585,    993.3,   4.5417,  34.5859,2,-999.0000,9,   -999.0,9,    0.015,2,    0.009,2,    0.020,2,    0.003,   1.8233,2,   0.0073,     1.76,2,     0.17,   -999.0,9,   -999.0,-999.0000
  06MT19901004,  AR04,   648,  1,     13,2,19901016,   0,  2.5000, -35.0000, 3585,   1192.9,   4.7446,  34.8199,2,  34.8210,2,    180.3,2,    0.018,2,    0.018,2,    0.074,2,    0.005,   1.9257,2,   0.0077,     1.57,2,     0.18,   -999.0,9,   -999.0,   4.6452
  06MT19901004,  AR04,   648,  1,     12,2,19901016,   0,  2.5000, -35.0000, 3585,   1458.0,   4.3718,  34.9566,2,-999.0000,9,   -999.0,9,    0.041,2,    0.031,2,    0.107,2,    0.004,   1.8451,2,   0.0074,     1.73,2,     0.18,   -999.0,9,   -999.0,-999.0000
  06MT19901004,  AR04,   648,  1,     10,2,19901016,   0,  2.5000, -35.0000, 3585,   1595.8,   4.1609,  34.9808,2,  34.9810,2,   -999.0,9,    0.058,2,    0.036,2,    0.165,2,    0.006,   1.8366,2,   0.0073,     1.66,2,     0.17,   -999.0,9,   -999.0,   4.0299
  06MT19901004,  AR04,   648,  1,      9,2,19901016,   0,  2.5000, -35.0000, 3585,   1688.8,   3.9950,  34.9739,2,-999.0000,9,   -999.0,9,    0.032,2,    0.022,2,    0.096,2,    0.004,   1.8731,2,   0.0075,     1.54,2,     0.19,   -999.0,9,   -999.0,-999.0000
  06MT19901004,  AR04,   648,  1,      8,2,19901016,   0,  2.5000, -35.0000, 3585,   1790.5,   3.8571,  34.9780,2,  34.9800,2,    257.7,2,    0.069,2,    0.036,2,    0.119,2,    0.005,   1.9352,2,   0.0077,     1.90,2,     0.18,   -999.0,9,   -999.0,   3.7117
  06MT19901004,  AR04,   648,  1,      7,2,19901016,   0,  2.5000, -35.0000, 3585,   1989.7,   3.5823,  34.9736,2,-999.0000,9,   -999.0,9, -999.000,9, -999.000,9, -999.000,9, -999.000,-999.0000,9,-999.0000,  -999.00,9,  -999.00,   -999.0,9,   -999.0,-999.0000
  06MT19901004,  AR04,   648,  1,      6,2,19901016,   0,  2.5000, -35.0000, 3585,   2191.8,   3.3214,  34.9606,2,-999.0000,9,   -999.0,9,    0.044,2,    0.020,2,    0.067,2,    0.005,   1.8155,2,   0.0073,     1.91,2,     0.19,   -999.0,9,   -999.0,-999.0000
  06MT19901004,  AR04,   648,  1,      5,2,19901016,   0,  2.5000, -35.0000, 3585,   2589.9,   2.9146,  34.9358,2,  34.9370,2,   -999.0,9,    0.008,2,    0.006,2,    0.030,2,    0.005,   1.8696,2,   0.0075,     2.47,2,     0.16,   -999.0,9,   -999.0,   2.7074
  06MT19901004,  AR04,   648,  1,      4,2,19901016,   0,  2.5000, -35.0000, 3585,   2991.6,   2.7028,  34.9227,2,-999.0000,9,   -999.0,9,    0.021,2,    0.007,2,    0.025,2,    0.001,   1.8554,2,   0.0074,     2.62,2,     0.20,   -999.0,9,   -999.0,-999.0000
  06MT19901004,  AR04,   648,  1,      3,2,19901016,   0,  2.5000, -35.0000, 3585,   3187.9,   2.5988,  34.9160,2,  34.9160,2,   -999.0,9,    0.016,2,    0.011,2,    0.055,2,    0.005,   1.8476,2,   0.0074,     1.88,2,     0.16,   -999.0,9,   -999.0,   2.3373
  06MT19901004,  AR04,   648,  1,      1,2,19901016,   0,  2.5000, -35.0000, 3585,   3601.1,   2.3760,  34.8951,2,  34.8960,2,    266.8,2,    0.019,2,    0.010,2,    0.033,2,    0.002,   1.8277,2,   0.0073,     2.43,2,     0.17,   -999.0,9,   -999.0,   2.0757
  06MT19901004,  AR04,   649,  1,     12,2,19901016,   0,  2.0000, -35.0000, 4175,     21.0,  27.5285,  36.1372,2,  36.1350,2,    203.4,2, -999.000,9, -999.000,9, -999.000,9, -999.000,-999.0000,9,-999.0000,  -999.00,9,  -999.00,   -999.0,9,   -999.0,  27.5236
  06MT19901004,  AR04,   649,  1,     11,2,19901016,   0,  2.0000, -35.0000, 4175,     95.0,  25.7146,  36.2283,2,-999.0000,9,   -999.0,9, -999.000,9, -999.000,9, -999.000,9, -999.000,-999.0000,9,-999.0000,  -999.00,9,  -999.00,   -999.0,9,   -999.0,-999.0000
  06MT19901004,  AR04,   649,  1,     10,2,19901016,   0,  2.0000, -35.0000, 4175,    175.7,  13.1368,  35.2911,2,  35.2880,2,   -999.0,9, -999.000,9, -999.000,9, -999.000,9, -999.000,-999.0000,9,-999.0000,  -999.00,9,  -999.00,   -999.0,9,   -999.0,  13.1124
  06MT19901004,  AR04,   649,  1,      9,2,19901016,   0,  2.0000, -35.0000, 4175,    294.9,  11.5617,  35.1001,2,-999.0000,9,    129.9,2, -999.000,9, -999.000,9, -999.000,9, -999.000,-999.0000,9,-999.0000,  -999.00,9,  -999.00,   -999.0,9,   -999.0,-999.0000
  06MT19901004,  AR04,   649,  1,      8,2,19901016,   0,  2.0000, -35.0000, 4175,    396.2,   8.1716,  34.7254,2,-999.0000,9,    134.7,2, -999.000,9, -999.000,9, -999.000,9, -999.000,-999.0000,9,-999.0000,  -999.00,9,  -999.00,   -999.0,9,   -999.0,-999.0000
  06MT19901004,  AR04,   649,  1,      7,2,19901016,   0,  2.0000, -35.0000, 4175,    590.0,   5.8360,  34.5306,2,-999.0000,9,   -999.0,9, -999.000,9, -999.000,9, -999.000,9, -999.000,-999.0000,9,-999.0000,  -999.00,9,  -999.00,   -999.0,9,   -999.0,-999.0000
  06MT19901004,  AR04,   649,  1,      6,2,19901016,   0,  2.0000, -35.0000, 4175,    793.5,   4.8275,  34.5178,2,  34.5190,2,    156.9,2, -999.000,9, -999.000,9, -999.000,9, -999.000,-999.0000,9,-999.0000,  -999.00,9,  -999.00,   -999.0,9,   -999.0,   4.7636
  06MT19901004,  AR04,   649,  1,      5,2,19901016,   0,  2.0000, -35.0000, 4175,   1196.6,   4.6756,  34.8180,2,  34.8180,2,   -999.0,9, -999.000,9, -999.000,9, -999.000,9, -999.000,-999.0000,9,-999.0000,  -999.00,9,  -999.00,   -999.0,9,   -999.0,   4.5765
  06MT19901004,  AR04,   649,  1,      1,2,19901016,   0,  2.0000, -35.0000, 4175,   1497.2,   4.4358,  34.9765,2,-999.0000,9,    235.1,2, -999.000,9, -999.000,9, -999.000,9, -999.000,-999.0000,9,-999.0000,  -999.00,9,  -999.00,   -999.0,9,   -999.0,-999.0000