BOTTLE,20141104SIOCCHRJL
EXPOCODE,SECT_ID,STNNBR,CASTNO,BTLNBR,BTLNBR_FLAG_W,DATE,TIME,LATITUDE,LONGITUDE,DEPTH,CTDPRS,CTDTMP,CTDSAL,CTDSAL_FLAG_W,SALNTY,SALNTY_FLAG_W,OXYGEN,OXYGEN_FLAG_W,CFC-11,CFC-11_FLAG_W,CFC-12,CFC-12_FLAG_W,TRITUM,TRITUM_FLAG_W,TRITER,HELIUM,HELIUM_FLAG_W,HELIER,DELHE3,DELHE3_FLAG_W,DELHER,DELC14,DELC14_FLAG_W,C14ERR,THETA
,,,,,,,,,,METERS,DBAR,ITS-90,PSS-78,,PSS-78,,UMOL/KG,,PMOL/KG,,PMOL/KG,,TU,,TU,NMOL/KG,,NMOL/KG,PERCNT,,PERCNT,/MILLE,,/MILLE,DEG C
  06MT19901004,  AR04,   639,  1,     24,2,19901011,   0,  0.5167, -44.2000, -999,     20.3,  26.9439,  36.3486,2,  36.3490,2,   -999.0,9, -999.000,9, -999.000,9, -999.000,9, -999.000,-999.0000,9,-999.0000,  -999.00,9,  -999.00,   -999.0,9,   -999.0,  26.9392
  06MT19901004,  AR04,   639,  1,     23,2,19901011,   0,  0.5167, -44.2000, -999,     97.5,  26.8559,  36.3573,2,  36.3560,2,   -999.0,9, -999.000,9, -999.000,9, -999.000,9, -999.000,-999.0000,9,-999.0000,  -999.00,9,  -999.00,   -999.0,9,   -999.0,  26.8335
  06MT19901004,  AR04,   639,  1,     22,2,19901011,   0,  0.5167, -44.2000, -999,    294.8,  11.4737,  35.0631,2,  35.0590,2,   -999.0,9, -999.000,9, -999.000,9, -999.000,9, -999.000,-999.0000,9,-999.0000,  -999.00,9,  -999.00,   -999.0,9,   -999.0,  11.4362
  06MT19901004,  AR04,   639,  1,     21,2,19901011,   0,  0.5167, -44.2000, -999,    594.9,   5.7700,  34.5050,2,  34.5020,2,   -999.0,9,    0.220,2, -999.000,9,    0.072,2,    0.005,   1.8101,2,   0.0072,     1.58,2,     0.45,   -999.0,9,   -999.0,   5.7187
  06MT19901004,  AR04,   639,  1,     20,2,19901011,   0,  0.5167, -44.2000, -999,    693.2,   5.2943,  34.4871,2,  34.4870,2,   -999.0,9,    0.160,2, -999.000,9,    0.063,2,    0.006,   1.8100,2,   0.0072,     2.08,2,     0.26,   -999.0,9,   -999.0,   5.2365
  06MT19901004,  AR04,   639,  1,     18,2,19901011,   0,  0.5167, -44.2000, -999,    795.0,   4.8635,  34.4824,2,  34.4810,2,   -999.0,9,    0.100,2, -999.000,9,    0.049,2,    0.007,-999.0000,9,-999.0000,  -999.00,9,  -999.00,   -999.0,9,   -999.0,   4.7993
  06MT19901004,  AR04,   639,  1,     17,2,19901011,   0,  0.5167, -44.2000, -999,    892.8,   4.5697,  34.5003,2,  34.4990,2,   -999.0,9,    0.077,2, -999.000,9,    0.042,2,    0.006,-999.0000,9,-999.0000,  -999.00,9,  -999.00,   -999.0,9,   -999.0,   4.4989
  06MT19901004,  AR04,   639,  1,     16,2,19901011,   0,  0.5167, -44.2000, -999,    994.7,   4.5017,  34.6708,2,  34.6700,2,   -999.0,9,    0.050,2, -999.000,9,    0.028,2,    0.006,   1.7366,3,   0.0069,     1.58,2,     0.24,   -999.0,9,   -999.0,   4.4224
  06MT19901004,  AR04,   639,  1,     15,2,19901011,   0,  0.5167, -44.2000, -999,   1093.9,   4.5987,  34.7309,2,  34.7300,2,    147.3,3,    0.027,2, -999.000,9, -999.000,9, -999.000,-999.0000,9,-999.0000,  -999.00,9,  -999.00,   -999.0,9,   -999.0,   4.5097
  06MT19901004,  AR04,   639,  1,     14,2,19901011,   0,  0.5167, -44.2000, -999,   1193.3,   4.5967,  34.8055,2,  34.8040,2,   -999.0,9,    0.026,2, -999.000,9,    0.046,2,    0.003,   1.8011,2,   0.0072,     1.54,2,     0.27,   -999.0,9,   -999.0,   4.4987
  06MT19901004,  AR04,   639,  1,     13,2,19901011,   0,  0.5167, -44.2000, -999,   1393.9,   4.5537,  34.9744,2,  34.9740,2,   -999.0,9,    0.098,2, -999.000,9,    0.242,2,    0.008,   1.8277,2,   0.0073,     2.52,2,     0.28,   -999.0,9,   -999.0,   4.4372
  06MT19901004,  AR04,   639,  1,     12,2,19901011,   0,  0.5167, -44.2000, -999,   1491.5,   4.2999,  34.9898,2,  34.9890,2,    224.2,2,    0.123,2, -999.000,9, -999.000,5, -999.000,   3.7675,3,   0.0151,     1.64,2,     0.28,   -999.0,9,   -999.0,   4.1770
  06MT19901004,  AR04,   639,  1,     11,2,19901011,   0,  0.5167, -44.2000, -999,   1592.4,   4.2469,  34.9870,2,  34.9880,2,   -999.0,9,    0.097,2, -999.000,9,    0.229,2,    0.003,   1.8139,2,   0.0073,     2.82,3,     0.22,   -999.0,9,   -999.0,   4.1152
  06MT19901004,  AR04,   639,  1,     10,2,19901011,   0,  0.5167, -44.2000, -999,   1693.9,   4.1349,  34.9863,2,  34.9860,2,   -999.0,9,    0.089,2, -999.000,9,    0.224,2,    0.012,   1.8424,2,   0.0074,     2.34,2,     0.27,   -999.0,9,   -999.0,   3.9950
  06MT19901004,  AR04,   639,  1,      9,2,19901011,   0,  0.5167, -44.2000, -999,   1794.0,   4.0370,  34.9847,2,  34.9850,2,   -999.0,9,    0.057,2, -999.000,9,    0.198,2,    0.007,   1.8336,2,   0.0073,     1.96,2,     0.23,   -999.0,9,   -999.0,   3.8888
  06MT19901004,  AR04,   639,  1,      8,2,19901011,   0,  0.5167, -44.2000, -999,   1894.3,   3.8101,  34.9846,2,  34.9830,2,   -999.0,9,    0.073,2, -999.000,9,    0.195,2,    0.010,   1.8245,2,   0.0073,     2.61,2,     0.50,   -999.0,9,   -999.0,   3.6555
  06MT19901004,  AR04,   639,  1,      6,2,19901011,   0,  0.5167, -44.2000, -999,   2494.1,   3.1295,  34.9513,2,  34.9510,2,   -999.0,9,    0.063,2, -999.000,9,    0.076,2,    0.004,   1.8106,2,   0.0072,     2.00,2,     1.17,   -999.0,9,   -999.0,   2.9277
  06MT19901004,  AR04,   639,  1,      5,2,19901011,   0,  0.5167, -44.2000, -999,   2725.2,   2.9266,  34.9410,2,-999.0000,9,   -999.0,9, -999.000,9, -999.000,9,    0.074,2,    0.005,   1.8554,2,   0.0074,     2.64,2,     0.43,   -999.0,9,   -999.0,-999.0000
  06MT19901004,  AR04,   639,  1,      4,2,19901011,   0,  0.5167, -44.2000, -999,   2991.0,   2.8237,  34.9341,2,  34.9320,2,   -999.0,9,    0.057,2, -999.000,9,    0.099,2,    0.007,   1.8693,2,   0.0075,     1.85,2,     0.58,   -999.0,9,   -999.0,   2.5777
  06MT19901004,  AR04,   639,  1,      3,2,19901011,   0,  0.5167, -44.2000, -999,   3250.1,   2.6048,  34.9193,2,  34.9190,2,   -999.0,9,    0.050,2,    0.036,3,    0.113,2,    0.006,-999.0000,9,-999.0000,  -999.00,9,  -999.00,   -999.0,9,   -999.0,   2.3366
  06MT19901004,  AR04,   639,  1,      1,2,19901011,   0,  0.5167, -44.2000, -999,   3447.9,   2.5559,  34.9156,2,  34.9140,2,    263.4,2,    0.062,2, -999.000,9,    0.122,2,    0.001,   1.8490,2,   0.0074,     2.76,2,     0.23,   -999.0,9,   -999.0,   2.2677
  06MT19901004,  AR04,   641,  1,     24,2,19901011,   0,  0.8700, -44.0350, 4058,     16.8,  27.1138,  36.3769,2,  36.3750,2,   -999.0,9, -999.000,9, -999.000,9, -999.000,9, -999.000,-999.0000,9,-999.0000,  -999.00,9,  -999.00,   -999.0,9,   -999.0,  27.1099
  06MT19901004,  AR04,   641,  1,     23,2,19901011,   0,  0.8700, -44.0350, 4058,    114.9,  24.2724,  36.7164,2,  36.7110,2,   -999.0,9, -999.000,9, -999.000,9, -999.000,9, -999.000,-999.0000,9,-999.0000,  -999.00,9,  -999.00,   -999.0,9,   -999.0,  24.2478
  06MT19901004,  AR04,   641,  1,     22,2,19901011,   0,  0.8700, -44.0350, 4058,    294.4,  12.0174,  35.1456,2,-999.0000,9,   -999.0,9, -999.000,9, -999.000,9, -999.000,9, -999.000,-999.0000,9,-999.0000,  -999.00,9,  -999.00,   -999.0,9,   -999.0,-999.0000
  06MT19901004,  AR04,   641,  1,     21,2,19901011,   0,  0.8700, -44.0350, 4058,    444.8,   7.6080,  34.6258,2,  34.6240,2,   -999.0,9, -999.000,9, -999.000,9, -999.000,9, -999.000,-999.0000,9,-999.0000,  -999.00,9,  -999.00,   -999.0,9,   -999.0,   7.5638
  06MT19901004,  AR04,   641,  1,     20,2,19901011,   0,  0.8700, -44.0350, 4058,    595.2,   5.8530,  34.4927,2,  34.4950,2,   -999.0,9,    0.281,2, -999.000,9,    0.100,2,    0.006,-999.0000,9,-999.0000,  -999.00,9,  -999.00,   -999.0,9,   -999.0,   5.8013
  06MT19901004,  AR04,   641,  1,     18,2,19901011,   0,  0.8700, -44.0350, 4058,    744.2,   5.2703,  34.4852,2,  34.4840,2,   -999.0,9,    0.135,2, -999.000,9,    0.072,2,    0.007,   1.8315,2,   0.0073,     1.56,2,     0.30,   -999.0,9,   -999.0,   5.2082
  06MT19901004,  AR04,   641,  1,     17,2,19901011,   0,  0.8700, -44.0350, 4058,    852.2,   4.5107,  34.4933,2,  34.4940,2,   -999.0,9,    0.054,2, -999.000,9,    0.032,2,    0.005,   1.8264,2,   0.0073,     2.19,2,     0.31,   -999.0,9,   -999.0,   4.4438
  06MT19901004,  AR04,   641,  1,     16,2,19901011,   0,  0.8700, -44.0350, 4058,    994.0,   4.3888,  34.6173,2,  34.6170,2,   -999.0,9, -999.000,9, -999.000,9, -999.000,5, -999.000,   1.8196,2,   0.0073,     1.90,2,     0.32,   -999.0,9,   -999.0,   4.3105
  06MT19901004,  AR04,   641,  1,     15,2,19901011,   0,  0.8700, -44.0350, 4058,   1193.4,   4.5227,  34.7734,2,  34.7720,2,   -999.0,9, -999.000,9, -999.000,9, -999.000,5, -999.000,   1.8418,2,   0.0074,     1.49,2,     0.29,   -117.0,2,      5.0,   4.4254
  06MT19901004,  AR04,   641,  1,     13,2,19901011,   0,  0.8700, -44.0350, 4058,   1441.5,   4.4138,  34.9858,2,-999.0000,9,   -999.0,9,    0.100,2, -999.000,9,    0.235,2,    0.008,-999.0000,9,-999.0000,  -999.00,9,  -999.00,    -95.0,2,      8.0,-999.0000
  06MT19901004,  AR04,   641,  1,     12,2,19901011,   0,  0.8700, -44.0350, 4058,   1542.0,   4.2779,  34.9871,2,  34.9860,2,   -999.0,9,    0.097,2, -999.000,9, -999.000,5, -999.000,   1.8217,2,   0.0073,     2.70,2,     0.33,    -88.0,2,      7.0,   4.1506
  06MT19901004,  AR04,   641,  1,     11,2,19901011,   0,  0.8700, -44.0350, 4058,   1644.0,   4.1110,  34.9840,2,  34.9860,2,   -999.0,9,    0.115,2, -999.000,9,    0.220,2,    0.012,   1.8214,2,   0.0073,     2.21,2,     0.32,   -999.0,9,   -999.0,   3.9761
  06MT19901004,  AR04,   641,  1,     10,2,19901011,   0,  0.8700, -44.0350, 4058,   1791.0,   3.9381,  34.9809,2,  34.9800,2,   -999.0,9, -999.000,9, -999.000,9,    0.144,2,    0.007,   1.8196,2,   0.0073,     1.70,2,     0.29,   -999.0,9,   -999.0,   3.7916
  06MT19901004,  AR04,   641,  1,      9,2,19901011,   0,  0.8700, -44.0350, 4058,   1891.6,   3.8531,  34.9808,2,  34.9810,2,   -999.0,9, -999.000,9, -999.000,9, -999.000,9, -999.000,-999.0000,9,-999.0000,  -999.00,9,  -999.00,   -999.0,9,   -999.0,   3.6981
  06MT19901004,  AR04,   641,  1,      8,2,19901011,   0,  0.8700, -44.0350, 4058,   1991.0,   3.6412,  34.9758,2,  34.9760,2,   -999.0,9, -999.000,9, -999.000,9,    0.135,2,    0.008,   1.8343,2,   0.0073,     2.00,2,     0.32,    -93.0,2,      6.0,   3.4798
  06MT19901004,  AR04,   641,  1,      7,2,19901011,   0,  0.8700, -44.0350, 4058,   2496.1,   3.1455,  34.9538,2,  34.9550,2,   -999.0,9, -999.000,9, -999.000,9, -999.000,5, -999.000,   1.8198,2,   0.0073,     2.54,2,     0.34,   -101.0,2,      9.0,   2.9432
  06MT19901004,  AR04,   641,  1,      6,2,19901011,   0,  0.8700, -44.0350, 4058,   2992.3,   2.7897,  34.9311,2,  34.9310,2,   -999.0,9, -999.000,9, -999.000,9,    0.094,2,    0.004,   1.8401,2,   0.0074,     1.99,2,     0.33,    -96.0,3,     10.0,   2.5443
  06MT19901004,  AR04,   641,  1,      5,2,19901011,   0,  0.8700, -44.0350, 4058,   3242.9,   2.6208,  34.9200,2,  34.9210,2,   -999.0,9, -999.000,9, -999.000,9, -999.000,5, -999.000,   1.8553,2,   0.0074,     2.63,2,     0.32,   -999.0,9,   -999.0,   2.3529
  06MT19901004,  AR04,   641,  1,      4,2,19901011,   0,  0.8700, -44.0350, 4058,   3492.8,   2.4999,  34.9119,2,  34.9130,2,   -999.0,9, -999.000,9, -999.000,9,    0.118,2,    0.008,   1.4822,3,   0.0059,     2.06,2,     0.33,   -105.0,2,      4.0,   2.2082
  06MT19901004,  AR04,   641,  1,      3,2,19901011,   0,  0.8700, -44.0350, 4058,   3740.9,   2.4029,  34.9041,2,  34.9050,2,   -999.0,9, -999.000,9, -999.000,9,    0.148,2,    0.005,   1.8545,2,   0.0074,     2.63,2,     0.32,   -999.0,9,   -999.0,   2.0865
  06MT19901004,  AR04,   641,  1,      1,2,19901011,   0,  0.8700, -44.0350, 4058,   3996.6,   2.3160,  34.8953,2,  34.8980,2,   -999.0,9,    0.068,2, -999.000,9,    0.144,2,    0.003,   1.8554,2,   0.0074,     2.77,2,     0.31,   -105.0,2,      6.0,   1.9732
  06MT19901004,  AR04,   642,  1,     24,2,19901012,   0,  0.2917, -44.3500, 3044,     19.2,  26.8679,  36.3632,2,  36.3610,2,    202.9,2, -999.000,9, -999.000,9,    0.880,2,    0.018,   1.7056,2,   0.0068,    -1.38,2,     0.25,   -999.0,9,   -999.0,  26.8635
  06MT19901004,  AR04,   642,  1,     23,2,19901012,   0,  0.2917, -44.3500, 3044,     95.3,  26.8269,  36.3714,2,-999.0000,9,   -999.0,9, -999.000,9, -999.000,9, -999.000,9, -999.000,-999.0000,9,-999.0000,  -999.00,9,  -999.00,   -999.0,9,   -999.0,-999.0000
  06MT19901004,  AR04,   642,  1,     22,2,19901012,   0,  0.2917, -44.3500, 3044,    294.4,  10.9720,  34.9896,2,-999.0000,9,   -999.0,9, -999.000,9, -999.000,9, -999.000,9, -999.000,-999.0000,9,-999.0000,  -999.00,9,  -999.00,   -999.0,9,   -999.0,-999.0000
  06MT19901004,  AR04,   642,  1,     21,2,19901012,   0,  0.2917, -44.3500, 3044,    398.6,   9.6508,  34.8298,2,  34.8270,2,   -999.0,9, -999.000,9, -999.000,9, -999.000,9, -999.000,-999.0000,9,-999.0000,  -999.00,9,  -999.00,   -999.0,9,   -999.0,   9.6052
  06MT19901004,  AR04,   642,  1,     20,2,19901012,   0,  0.2917, -44.3500, 3044,    546.5,   6.2138,  34.5327,2,-999.0000,9,   -999.0,9, -999.000,9, -999.000,9, -999.000,9, -999.000,-999.0000,9,-999.0000,  -999.00,9,  -999.00,   -999.0,9,   -999.0,-999.0000
  06MT19901004,  AR04,   642,  1,     19,2,19901012,   0,  0.2917, -44.3500, 3044,    643.5,   5.2723,  34.4819,2,-999.0000,9,   -999.0,9,    0.142,2, -999.000,9, -999.000,9, -999.000,-999.0000,9,-999.0000,  -999.00,9,  -999.00,   -999.0,9,   -999.0,-999.0000
  06MT19901004,  AR04,   642,  1,     18,2,19901012,   0,  0.2917, -44.3500, 3044,    738.9,   5.0134,  34.4864,2,-999.0000,9,   -999.0,9,    0.104,2, -999.000,9, -999.000,5, -999.000,   1.7997,2,   0.0072,     1.90,2,     0.27,   -999.0,9,   -999.0,-999.0000
  06MT19901004,  AR04,   642,  1,     17,2,19901012,   0,  0.2917, -44.3500, 3044,    874.7,   4.6626,  34.5142,2,-999.0000,9,   -999.0,9,    0.044,2, -999.000,9,    0.032,2,    0.007,   1.7490,3,   0.0070,     1.95,2,     0.35,   -999.0,9,   -999.0,-999.0000
  06MT19901004,  AR04,   642,  1,     15,2,19901012,   0,  0.2917, -44.3500, 3044,    994.2,   4.5537,  34.6520,2,-999.0000,9,    166.0,2,    0.018,2, -999.000,9,    0.023,2,    0.005,   1.8318,2,   0.0073,     2.27,2,     0.30,   -999.0,9,   -999.0,-999.0000
  06MT19901004,  AR04,   642,  1,     14,2,19901012,   0,  0.2917, -44.3500, 3044,   1193.6,   4.5427,  34.7966,2,-999.0000,9,    177.7,2,    0.013,2, -999.000,9,    0.039,2,    0.004,   1.8886,2,   0.0076,     1.75,2,     0.29,   -999.0,9,   -999.0,-999.0000
  06MT19901004,  AR04,   642,  1,     13,2,19901012,   0,  0.2917, -44.3500, 3044,   1390.3,   4.5467,  34.9742,2,-999.0000,9,   -999.0,9,    0.091,2, -999.000,9,    0.222,2,    0.011,   1.8178,2,   0.0073,     2.93,3,     0.32,   -999.0,9,   -999.0,-999.0000
  06MT19901004,  AR04,   642,  1,     12,2,19901012,   0,  0.2917, -44.3500, 3044,   1493.5,   4.2659,  34.9871,2,-999.0000,9,    234.7,2,    0.098,2, -999.000,9,    0.225,2,    0.010,-999.0000,9,-999.0000,  -999.00,9,  -999.00,   -999.0,9,   -999.0,-999.0000
  06MT19901004,  AR04,   642,  1,     10,2,19901012,   0,  0.2917, -44.3500, 3044,   1591.9,   4.2319,  34.9889,2,  34.9870,2,   -999.0,9,    0.110,2, -999.000,9,    0.240,2,    0.009,   1.8285,2,   0.0073,     3.24,3,     0.37,   -999.0,9,   -999.0,   4.1004
  06MT19901004,  AR04,   642,  1,      9,2,19901012,   0,  0.2917, -44.3500, 3044,   1692.9,   4.1379,  34.9871,2,-999.0000,9,   -999.0,9,    0.087,2, -999.000,9,    0.210,2,    0.003,-999.0000,9,-999.0000,  -999.00,9,  -999.00,   -999.0,9,   -999.0,-999.0000
  06MT19901004,  AR04,   642,  1,      8,2,19901012,   0,  0.2917, -44.3500, 3044,   1793.1,   3.9680,  34.9883,2,-999.0000,9,   -999.0,9,    0.086,2, -999.000,9,    0.208,2,    0.007,-999.0000,9,-999.0000,  -999.00,9,  -999.00,   -999.0,9,   -999.0,-999.0000
  06MT19901004,  AR04,   642,  1,      7,2,19901012,   0,  0.2917, -44.3500, 3044,   1894.2,   3.9091,  34.9842,2,-999.0000,9,   -999.0,9,    0.096,2, -999.000,9, -999.000,9, -999.000,-999.0000,9,-999.0000,  -999.00,9,  -999.00,   -999.0,9,   -999.0,-999.0000
  06MT19901004,  AR04,   642,  1,      6,2,19901012,   0,  0.2917, -44.3500, 3044,   1988.3,   3.6882,  34.9784,2,  34.9770,2,    239.5,3, -999.000,9, -999.000,9,    0.177,2,    0.012,   1.8147,2,   0.0073,     2.10,2,     0.31,   -999.0,9,   -999.0,   3.5264
  06MT19901004,  AR04,   642,  1,      5,2,19901012,   0,  0.2917, -44.3500, 3044,   2493.8,   3.0626,  34.9506,2,-999.0000,9,   -999.0,9, -999.000,9, -999.000,9,    0.085,2,    0.002,-999.0000,9,-999.0000,  -999.00,9,  -999.00,   -999.0,9,   -999.0,-999.0000
  06MT19901004,  AR04,   642,  1,      3,2,19901012,   0,  0.2917, -44.3500, 3044,   2745.5,   2.9067,  34.9409,2,-999.0000,9,   -999.0,9, -999.000,9, -999.000,9, -999.000,9, -999.000,-999.0000,9,-999.0000,  -999.00,9,  -999.00,   -999.0,9,   -999.0,-999.0000
  06MT19901004,  AR04,   642,  1,      1,2,19901012,   0,  0.2917, -44.3500, 3044,   2854.7,   2.8457,  34.9353,2,  34.9350,2,    247.7,3, -999.000,9, -999.000,9,    0.090,2,    0.002,-999.0000,9,-999.0000,  -999.00,9,  -999.00,   -999.0,9,   -999.0,   2.6132
  06MT19901004,  AR04,   644,  1,      5,2,19901012,   0,  0.4333, -44.2333, 3350,     11.4,  27.0318,  36.3645,2,  36.3610,2,   -999.0,9, -999.000,9, -999.000,9, -999.000,9, -999.000,-999.0000,9,-999.0000,  -999.00,9,  -999.00,   -999.0,9,   -999.0,  27.0292
  06MT19901004,  AR04,   644,  1,      4,2,19901012,   0,  0.4333, -44.2333, 3350,    112.7,  26.6910,  36.3977,2,-999.0000,9,   -999.0,9, -999.000,9, -999.000,9, -999.000,9, -999.000,-999.0000,9,-999.0000,  -999.00,9,  -999.00,   -999.0,9,   -999.0,-999.0000
  06MT19901004,  AR04,   644,  1,      3,2,19901012,   0,  0.4333, -44.2333, 3350,    297.7,  11.1729,  35.0202,2,  35.0170,2,   -999.0,9, -999.000,9, -999.000,9, -999.000,9, -999.000,-999.0000,9,-999.0000,  -999.00,9,  -999.00,   -999.0,9,   -999.0,  11.1356
  06MT19901004,  AR04,   644,  1,      2,2,19901012,   0,  0.4333, -44.2333, 3350,    896.5,   4.3388,  34.5384,2,  34.5360,2,   -999.0,9, -999.000,9, -999.000,9, -999.000,9, -999.000,-999.0000,9,-999.0000,  -999.00,9,  -999.00,   -999.0,9,   -999.0,   4.2693
  06MT19901004,  AR04,   644,  1,      1,2,19901012,   0,  0.4333, -44.2333, 3350,   1492.6,   4.2699,  34.9880,2,  34.9870,2,   -999.0,9, -999.000,9, -999.000,9, -999.000,9, -999.000,-999.0000,9,-999.0000,  -999.00,9,  -999.00,   -999.0,9,   -999.0,   4.1473