BOTTLE,20141104SIOCCHRJL
EXPOCODE,SECT_ID,STNNBR,CASTNO,BTLNBR,BTLNBR_FLAG_W,DATE,TIME,LATITUDE,LONGITUDE,DEPTH,CTDPRS,CTDTMP,CTDSAL,CTDSAL_FLAG_W,SALNTY,SALNTY_FLAG_W,OXYGEN,OXYGEN_FLAG_W,CFC-11,CFC-11_FLAG_W,CFC-12,CFC-12_FLAG_W,TRITUM,TRITUM_FLAG_W,TRITER,HELIUM,HELIUM_FLAG_W,HELIER,DELHE3,DELHE3_FLAG_W,DELHER,DELC14,DELC14_FLAG_W,C14ERR,THETA
,,,,,,,,,,METERS,DBAR,ITS-90,PSS-78,,PSS-78,,UMOL/KG,,PMOL/KG,,PMOL/KG,,TU,,TU,NMOL/KG,,NMOL/KG,PERCNT,,PERCNT,/MILLE,,/MILLE,DEG C
  06MT19901004,  AR04,   678,  1,     24,2,19901023,   0, -5.5867, -34.4667, 3554,     16.2,  26.9349,  36.3347,2,  36.3380,2,   -999.0,9, -999.000,9, -999.000,9, -999.000,9, -999.000,-999.0000,9,-999.0000,  -999.00,9,  -999.00,   -999.0,9,   -999.0,  26.9312
  06MT19901004,  AR04,   678,  1,     23,2,19901023,   0, -5.5867, -34.4667, 3554,     93.3,  26.0894,  37.1724,2,  37.1760,2,   -999.0,9, -999.000,9, -999.000,9, -999.000,9, -999.000,-999.0000,9,-999.0000,  -999.00,9,  -999.00,   -999.0,9,   -999.0,  26.0684
  06MT19901004,  AR04,   678,  1,     22,2,19901023,   0, -5.5867, -34.4667, 3554,    194.8,  17.7801,  35.9207,2,-999.0000,9,    177.7,2, -999.000,9, -999.000,9, -999.000,9, -999.000,-999.0000,9,-999.0000,  -999.00,9,  -999.00,   -999.0,9,   -999.0,-999.0000
  06MT19901004,  AR04,   678,  1,     21,2,19901023,   0, -5.5867, -34.4667, 3554,    396.2,   8.1387,  34.6961,2,-999.0000,9,    123.0,2, -999.000,9, -999.000,9,    0.120,2,    0.004,   1.8032,2,   0.0072,     0.21,2,     0.12,   -999.0,9,   -999.0,-999.0000
  06MT19901004,  AR04,   678,  1,     20,2,19901023,   0, -5.5867, -34.4667, 3554,    645.6,   5.3493,  34.4684,2,-999.0000,9,    153.0,2,    0.119,2, -999.000,9,    0.049,2,    0.003,   2.0471,3,   0.0082,     1.30,2,     0.20,   -999.0,9,   -999.0,-999.0000
  06MT19901004,  AR04,   678,  1,     19,2,19901023,   0, -5.5867, -34.4667, 3554,    794.9,   4.3828,  34.4449,2,-999.0000,9,   -999.0,9,    0.065,2, -999.000,9,    0.024,2,    0.002,   1.9277,2,   0.0077,     2.01,2,     0.20,   -999.0,9,   -999.0,-999.0000
  06MT19901004,  AR04,   678,  1,     18,2,19901023,   0, -5.5867, -34.4667, 3554,   1093.4,   4.1849,  34.6604,2,-999.0000,9,   -999.0,9,    0.017,2, -999.000,9,    0.018,2,    0.004,   1.9169,2,   0.0077,     1.78,2,     0.22,   -999.0,9,   -999.0,-999.0000
  06MT19901004,  AR04,   678,  1,     17,2,19901023,   0, -5.5867, -34.4667, 3554,   1242.7,   4.3868,  34.7951,2,  34.7940,2,   -999.0,9,    0.009,2, -999.000,9,    0.024,2,    0.002,   1.8483,2,   0.0074,     1.11,3,     0.15,   -999.0,9,   -999.0,   4.2863
  06MT19901004,  AR04,   678,  1,     16,2,19901023,   0, -5.5867, -34.4667, 3554,   1392.1,   4.4877,  34.9003,2,-999.0000,9,   -999.0,9,    0.047,2, -999.000,9,    0.120,2,    0.004,   1.8412,2,   0.0074,     1.94,2,     0.18,   -999.0,9,   -999.0,-999.0000
  06MT19901004,  AR04,   678,  1,     15,2,19901023,   0, -5.5867, -34.4667, 3554,   1491.7,   4.3668,  34.9535,2,-999.0000,9,   -999.0,9,    0.065,2, -999.000,9,    0.113,2,    0.004,   1.8396,2,   0.0074,     1.86,2,     0.18,   -999.0,9,   -999.0,-999.0000
  06MT19901004,  AR04,   678,  1,     14,2,19901023,   0, -5.5867, -34.4667, 3554,   1641.4,   4.0910,  34.9723,2,  34.9740,2,    247.3,2,    0.061,2, -999.000,9,    0.150,2,    0.003,   1.8232,2,   0.0073,     1.68,2,     0.19,   -999.0,9,   -999.0,   3.9566
  06MT19901004,  AR04,   678,  1,     13,2,19901023,   0, -5.5867, -34.4667, 3554,   1792.6,   3.7951,  34.9762,2,-999.0000,9,   -999.0,9,    0.061,2, -999.000,9,    0.144,2,    0.006,   1.8523,2,   0.0074,     1.98,2,     0.15,   -999.0,9,   -999.0,-999.0000
  06MT19901004,  AR04,   678,  1,     12,2,19901023,   0, -5.5867, -34.4667, 3554,   1991.0,   3.5153,  34.9631,2,  34.9660,2,    259.5,2,    0.019,2, -999.000,9,    0.063,2,    0.005,   1.8673,2,   0.0075,     1.51,2,     0.19,   -999.0,9,   -999.0,   3.3558
  06MT19901004,  AR04,   678,  1,      9,2,19901023,   0, -5.5867, -34.4667, 3554,   2189.4,   3.2994,  34.9552,2,-999.0000,9,   -999.0,9, -999.000,9, -999.000,9,    0.074,2,    0.004,   1.8674,2,   0.0075,     1.67,2,     0.18,   -999.0,9,   -999.0,-999.0000
  06MT19901004,  AR04,   678,  1,      7,2,19901023,   0, -5.5867, -34.4667, 3554,   2488.8,   3.0296,  34.9449,2,-999.0000,9,   -999.0,9,    0.025,2, -999.000,9,    0.074,2,    0.004,   1.8432,2,   0.0074,     2.20,2,     0.20,   -999.0,9,   -999.0,-999.0000
  06MT19901004,  AR04,   678,  1,      5,2,19901023,   0, -5.5867, -34.4667, 3554,   2984.5,   2.6868,  34.9235,2,-999.0000,9,   -999.0,9,    0.026,2, -999.000,9,    0.073,2,    0.004,-999.0000,9,-999.0000,  -999.00,9,  -999.00,   -999.0,9,   -999.0,-999.0000
  06MT19901004,  AR04,   678,  1,      4,2,19901023,   0, -5.5867, -34.4667, 3554,   3187.4,   2.6198,  34.9169,2,-999.0000,9,   -999.0,9,    0.025,2, -999.000,9,    0.065,2,    0.004,   1.8689,2,   0.0075,     2.24,2,     0.15,   -999.0,9,   -999.0,-999.0000
  06MT19901004,  AR04,   678,  1,      1,2,19901023,   0, -5.5867, -34.4667, 3554,   3557.9,   2.5439,  34.9118,2,  34.9110,2,    266.0,2,    0.033,2, -999.000,9,    0.074,2,    0.002,-999.0000,9,-999.0000,  -999.00,9,  -999.00,   -999.0,9,   -999.0,   2.2440
  06MT19901004,  AR04,   679,  1,     24,2,19901024,   0, -5.5333, -34.0283, 4160,     16.6,  26.7300,  36.2999,2,-999.0000,9,    207.3,2, -999.000,9, -999.000,9, -999.000,9, -999.000,-999.0000,9,-999.0000,  -999.00,9,  -999.00,   -999.0,9,   -999.0,-999.0000
  06MT19901004,  AR04,   679,  1,     23,2,19901024,   0, -5.5333, -34.0283, 4160,    103.8,  25.1219,  36.9393,2,-999.0000,9,    211.2,2, -999.000,9, -999.000,9, -999.000,9, -999.000,-999.0000,9,-999.0000,  -999.00,9,  -999.00,   -999.0,9,   -999.0,-999.0000
  06MT19901004,  AR04,   679,  1,     22,2,19901024,   0, -5.5333, -34.0283, 4160,    191.6,  12.7900,  35.2156,2,-999.0000,9,   -999.0,9, -999.000,9, -999.000,9, -999.000,9, -999.000,-999.0000,9,-999.0000,  -999.00,9,  -999.00,   -999.0,9,   -999.0,-999.0000
  06MT19901004,  AR04,   679,  1,     21,2,19901024,   0, -5.5333, -34.0283, 4160,    395.2,   8.2816,  34.7293,2,-999.0000,9,    104.3,2, -999.000,9, -999.000,9, -999.000,9, -999.000,-999.0000,9,-999.0000,  -999.00,9,  -999.00,   -999.0,9,   -999.0,-999.0000
  06MT19901004,  AR04,   679,  1,     20,2,19901024,   0, -5.5333, -34.0283, 4160,    641.8,   5.2863,  34.4730,2,-999.0000,9,   -999.0,9,    0.122,2,    0.067,2, -999.000,9, -999.000,-999.0000,9,-999.0000,  -999.00,9,  -999.00,   -999.0,9,   -999.0,-999.0000
  06MT19901004,  AR04,   679,  1,     19,2,19901024,   0, -5.5333, -34.0283, 4160,    792.4,   4.5077,  34.4661,2,-999.0000,9,   -999.0,9,    0.052,2,    0.030,2,    0.025,2,    0.003,   1.8592,2,   0.0074,     2.10,2,     0.18,   -999.0,9,   -999.0,-999.0000
  06MT19901004,  AR04,   679,  1,     18,2,19901024,   0, -5.5333, -34.0283, 4160,    939.4,   4.2159,  34.5439,2,-999.0000,9,   -999.0,9,    0.028,2,    0.013,2,    0.013,2,    0.002,   1.8255,2,   0.0073,     2.30,2,     0.18,   -999.0,9,   -999.0,-999.0000
  06MT19901004,  AR04,   679,  1,     17,2,19901024,   0, -5.5333, -34.0283, 4160,   1099.3,   4.2659,  34.6668,2,-999.0000,9,   -999.0,9,    0.018,2,    0.005,2,    0.013,2,    0.002,-999.0000,9,-999.0000,  -999.00,9,  -999.00,   -999.0,9,   -999.0,-999.0000
  06MT19901004,  AR04,   679,  1,     16,2,19901024,   0, -5.5333, -34.0283, 4160,   1238.2,   4.4797,  34.8018,2,-999.0000,9,   -999.0,9,    0.016,2,    0.009,2,    0.043,2,    0.003,-999.0000,9,-999.0000,  -999.00,9,  -999.00,   -999.0,9,   -999.0,-999.0000
  06MT19901004,  AR04,   679,  1,     15,2,19901024,   0, -5.5333, -34.0283, 4160,   1391.8,   4.4628,  34.9218,2,-999.0000,9,   -999.0,9, -999.000,9, -999.000,9,    0.050,2,    0.003,   1.8169,2,   0.0073,     1.77,2,     0.18,   -999.0,9,   -999.0,-999.0000
  06MT19901004,  AR04,   679,  1,     14,2,19901024,   0, -5.5333, -34.0283, 4160,   1492.5,   4.2969,  34.9645,2,-999.0000,9,   -999.0,9,    0.048,2,    0.023,2,    0.129,2,    0.004,   1.8765,2,   0.0075,     1.85,2,     0.18,   -999.0,9,   -999.0,-999.0000
  06MT19901004,  AR04,   679,  1,     13,2,19901024,   0, -5.5333, -34.0283, 4160,   1642.0,   3.9421,  34.9806,2,-999.0000,9,   -999.0,9,    0.065,2,    0.036,2,    0.135,2,    0.003,   1.8399,2,   0.0074,     1.63,2,     0.19,   -999.0,9,   -999.0,-999.0000
  06MT19901004,  AR04,   679,  1,     12,2,19901024,   0, -5.5333, -34.0283, 4160,   1787.1,   3.7522,  34.9758,2,-999.0000,9,    257.7,2,    0.036,2,    0.027,2,    0.099,2,    0.004,   2.0508,3,   0.0082,     1.66,2,     0.18,   -999.0,9,   -999.0,-999.0000
  06MT19901004,  AR04,   679,  1,     11,2,19901024,   0, -5.5333, -34.0283, 4160,   1989.6,   3.5533,  34.9746,2,-999.0000,9,   -999.0,9,    0.046,2,    0.023,2,    0.117,2,    0.005,   1.8290,2,   0.0073,     1.74,2,     0.18,   -999.0,9,   -999.0,-999.0000
  06MT19901004,  AR04,   679,  1,     10,2,19901024,   0, -5.5333, -34.0283, 4160,   2167.6,   3.3404,  34.9639,2,-999.0000,9,   -999.0,9,    0.029,2,    0.017,2,    0.079,2,    0.003,-999.0000,9,-999.0000,  -999.00,9,  -999.00,   -999.0,9,   -999.0,-999.0000
  06MT19901004,  AR04,   679,  1,      9,2,19901024,   0, -5.5333, -34.0283, 4160,   2484.9,   3.0346,  34.9426,2,-999.0000,9,    261.2,2,    0.017,2,    0.007,2,    0.040,2,    0.004,-999.0000,9,-999.0000,  -999.00,9,  -999.00,   -999.0,9,   -999.0,-999.0000
  06MT19901004,  AR04,   679,  1,      8,2,19901024,   0, -5.5333, -34.0283, 4160,   2986.0,   2.7667,  34.9283,2,-999.0000,9,   -999.0,9,    0.026,2,    0.017,2,    0.045,2,    0.003,-999.0000,9,-999.0000,  -999.00,9,  -999.00,   -999.0,9,   -999.0,-999.0000
  06MT19901004,  AR04,   679,  1,      7,2,19901024,   0, -5.5333, -34.0283, 4160,   3384.0,   2.6358,  34.9190,2,-999.0000,9,   -999.0,9,    0.027,2,    0.015,2,    0.074,2,    0.004,   1.8476,2,   0.0074,     2.58,2,     0.19,   -999.0,9,   -999.0,-999.0000
  06MT19901004,  AR04,   679,  1,      6,2,19901024,   0, -5.5333, -34.0283, 4160,   3588.9,   2.5259,  34.9115,2,-999.0000,9,   -999.0,9,    0.025,2,    0.011,2,    0.064,2,    0.002,   1.8891,2,   0.0076,     1.99,2,     0.18,   -999.0,9,   -999.0,-999.0000
  06MT19901004,  AR04,   679,  1,      5,2,19901024,   0, -5.5333, -34.0283, 4160,   3788.4,   2.3180,  34.8918,2,-999.0000,9,   -999.0,9,    0.032,2,    0.021,2,    0.069,2,    0.001,   1.8372,2,   0.0073,     2.33,2,     0.18,   -999.0,9,   -999.0,-999.0000
  06MT19901004,  AR04,   679,  1,      4,2,19901024,   0, -5.5333, -34.0283, 4160,   3991.2,   1.8003,  34.8343,2,-999.0000,9,    252.5,2, -999.000,9, -999.000,9,    0.017,2,    0.001,   1.8589,2,   0.0074,     3.86,2,     0.18,   -999.0,9,   -999.0,-999.0000
  06MT19901004,  AR04,   679,  1,      2,2,19901024,   0, -5.5333, -34.0283, 4160,   4187.0,   1.3425,  34.7806,2,-999.0000,9,   -999.0,9,    0.008,2,    0.004,2, -999.000,9, -999.000,-999.0000,9,-999.0000,  -999.00,9,  -999.00,   -999.0,9,   -999.0,-999.0000
  06MT19901004,  AR04,   680,  1,     24,2,19901024,   0, -5.4667, -33.5000, 4464,     22.6,  26.6520,  36.2406,2,  36.2380,2,    206.9,2, -999.000,9, -999.000,9, -999.000,9, -999.000,-999.0000,9,-999.0000,  -999.00,9,  -999.00,   -999.0,9,   -999.0,  26.6468
  06MT19901004,  AR04,   680,  1,     23,2,19901024,   0, -5.4667, -33.5000, 4464,    174.5,  13.8724,  35.4147,2,-999.0000,9,    119.5,3, -999.000,9, -999.000,9, -999.000,9, -999.000,-999.0000,9,-999.0000,  -999.00,9,  -999.00,   -999.0,9,   -999.0,-999.0000
  06MT19901004,  AR04,   680,  1,     22,2,19901024,   0, -5.4667, -33.5000, 4464,    198.6,  12.0244,  35.1349,2,-999.0000,9,   -999.0,9, -999.000,9, -999.000,9, -999.000,9, -999.000,-999.0000,9,-999.0000,  -999.00,9,  -999.00,   -999.0,9,   -999.0,-999.0000
  06MT19901004,  AR04,   680,  1,     21,2,19901024,   0, -5.4667, -33.5000, 4464,    393.7,   7.9168,  34.7025,2,-999.0000,9,    106.9,2, -999.000,9, -999.000,9, -999.000,9, -999.000,-999.0000,9,-999.0000,  -999.00,9,  -999.00,   -999.0,9,   -999.0,-999.0000
  06MT19901004,  AR04,   680,  1,     20,2,19901024,   0, -5.4667, -33.5000, 4464,    496.4,   6.5316,  34.5671,2,-999.0000,9,   -999.0,9, -999.000,9, -999.000,9, -999.000,9, -999.000,-999.0000,9,-999.0000,  -999.00,9,  -999.00,   -999.0,9,   -999.0,-999.0000
  06MT19901004,  AR04,   680,  1,     19,2,19901024,   0, -5.4667, -33.5000, 4464,    692.7,   4.7666,  34.4638,2,-999.0000,9,   -999.0,9,    0.069,2,    0.047,2,    0.034,2,    0.004,-999.0000,9,-999.0000,  -999.00,9,  -999.00,   -999.0,9,   -999.0,-999.0000
  06MT19901004,  AR04,   680,  1,     18,2,19901024,   0, -5.4667, -33.5000, 4464,    834.9,   4.3588,  34.4915,2,  34.4900,2,    166.4,2,    0.032,2,    0.021,2,    0.024,2,    0.003,-999.0000,9,-999.0000,  -999.00,9,  -999.00,   -999.0,9,   -999.0,   4.2944
  06MT19901004,  AR04,   680,  1,     17,2,19901024,   0, -5.4667, -33.5000, 4464,    993.0,   4.2049,  34.5869,2,-999.0000,9,   -999.0,9,    0.013,2,    0.006,2,    0.021,2,    0.003,-999.0000,9,-999.0000,  -999.00,9,  -999.00,   -999.0,9,   -999.0,-999.0000
  06MT19901004,  AR04,   680,  1,     16,2,19901024,   0, -5.4667, -33.5000, 4464,   1186.5,   4.3558,  34.7806,2,-999.0000,9,   -999.0,9,    0.007,2,    0.004,2,    0.017,2,    0.001,   1.8609,2,   0.0074,     1.39,2,     0.17,   -999.0,9,   -999.0,-999.0000
  06MT19901004,  AR04,   680,  1,     15,2,19901024,   0, -5.4667, -33.5000, 4464,   1406.4,   4.3808,  34.9374,2,-999.0000,9,   -999.0,9, -999.000,9, -999.000,9, -999.000,9, -999.000,-999.0000,9,-999.0000,  -999.00,9,  -999.00,   -999.0,9,   -999.0,-999.0000
  06MT19901004,  AR04,   680,  1,     14,2,19901024,   0, -5.4667, -33.5000, 4464,   1486.1,   4.2759,  34.9616,2,-999.0000,9,   -999.0,9,    0.050,2,    0.033,2,    0.132,2,    0.003,-999.0000,9,-999.0000,  -999.00,9,  -999.00,   -999.0,9,   -999.0,-999.0000
  06MT19901004,  AR04,   680,  1,     13,2,19901024,   0, -5.4667, -33.5000, 4464,   1644.0,   3.9710,  34.9773,2,-999.0000,9,   -999.0,9,    0.055,2,    0.037,2,    0.126,2,    0.003,-999.0000,9,-999.0000,  -999.00,9,  -999.00,   -999.0,9,   -999.0,-999.0000
  06MT19901004,  AR04,   680,  1,     12,2,19901024,   0, -5.4667, -33.5000, 4464,   1889.8,   3.7312,  34.9768,2,  34.9740,2,   -999.0,9,    0.045,2,    0.032,2,    0.116,2,    0.004,   1.8226,2,   0.0073,     1.79,2,     0.20,   -999.0,9,   -999.0,   3.5781
  06MT19901004,  AR04,   680,  1,     11,2,19901024,   0, -5.4667, -33.5000, 4464,   2493.6,   3.0656,  34.9416,2,-999.0000,9,   -999.0,9,    0.010,2, -999.000,9,    0.030,2,    0.002,   1.9526,2,   0.0078,     2.70,2,     0.20,   -999.0,9,   -999.0,-999.0000
  06MT19901004,  AR04,   680,  1,     10,2,19901024,   0, -5.4667, -33.5000, 4464,   2790.3,   2.8447,  34.9261,2,-999.0000,9,   -999.0,9,    0.009,2,    0.009,2,    0.031,2,    0.002,   1.8550,2,   0.0074,     2.90,3,     0.22,   -999.0,9,   -999.0,-999.0000
  06MT19901004,  AR04,   680,  1,      9,2,19901024,   0, -5.4667, -33.5000, 4464,   2970.6,   2.7487,  34.9243,2,-999.0000,9,   -999.0,9,    0.011,2, -999.000,9,    0.034,2,    0.002,   1.7418,3,   0.0070,     2.14,2,     0.20,   -999.0,9,   -999.0,-999.0000
  06MT19901004,  AR04,   680,  1,      8,2,19901024,   0, -5.4667, -33.5000, 4464,   3393.5,   2.6168,  34.9181,2,-999.0000,9,   -999.0,9,    0.018,2,    0.012,2,    0.047,2,    0.005,   1.9212,2,   0.0077,     2.56,2,     0.15,   -999.0,9,   -999.0,-999.0000
  06MT19901004,  AR04,   680,  1,      7,2,19901024,   0, -5.4667, -33.5000, 4464,   3593.5,   2.4919,  34.9105,2,  34.9070,2,    267.3,2,    0.033,2,    0.019,2,    0.089,2,    0.002,-999.0000,9,-999.0000,  -999.00,9,  -999.00,   -999.0,9,   -999.0,   2.1894
  06MT19901004,  AR04,   680,  1,      6,2,19901024,   0, -5.4667, -33.5000, 4464,   3782.2,   2.3300,  34.8926,2,-999.0000,9,   -999.0,9,    0.017,2,    0.016,2,    0.057,2,    0.002,-999.0000,9,-999.0000,  -999.00,9,  -999.00,   -999.0,9,   -999.0,-999.0000
  06MT19901004,  AR04,   680,  1,      5,2,19901024,   0, -5.4667, -33.5000, 4464,   3986.6,   1.8902,  34.8431,2,-999.0000,9,   -999.0,9,    0.004,2,    0.003,2,    0.015,2,    0.002,   1.9039,2,   0.0076,     3.25,2,     0.14,   -999.0,9,   -999.0,-999.0000
  06MT19901004,  AR04,   680,  1,      4,2,19901024,   0, -5.4667, -33.5000, 4464,   4189.9,   1.3475,  34.7777,2,-999.0000,9,   -999.0,9,    0.009,2,    0.004,2,    0.008,2,    0.002,-999.0000,9,-999.0000,  -999.00,9,  -999.00,   -999.0,9,   -999.0,-999.0000
  06MT19901004,  AR04,   680,  1,      1,2,19901024,   0, -5.4667, -33.5000, 4464,   4482.7,   0.9558,  34.7339,2,  34.7350,2,    235.1,2,    0.012,2,    0.009,2,    0.004,2,    0.000,   1.9105,2,   0.0076,     5.92,2,     0.15,   -999.0,9,   -999.0,   0.5993