BOTTLE,20141104SIOCCHRJL
EXPOCODE,SECT_ID,STNNBR,CASTNO,BTLNBR,BTLNBR_FLAG_W,DATE,TIME,LATITUDE,LONGITUDE,DEPTH,CTDPRS,CTDTMP,CTDSAL,CTDSAL_FLAG_W,SALNTY,SALNTY_FLAG_W,OXYGEN,OXYGEN_FLAG_W,CFC-11,CFC-11_FLAG_W,CFC-12,CFC-12_FLAG_W,TRITUM,TRITUM_FLAG_W,TRITER,HELIUM,HELIUM_FLAG_W,HELIER,DELHE3,DELHE3_FLAG_W,DELHER,DELC14,DELC14_FLAG_W,C14ERR,THETA
,,,,,,,,,,METERS,DBAR,ITS-90,PSS-78,,PSS-78,,UMOL/KG,,PMOL/KG,,PMOL/KG,,TU,,TU,NMOL/KG,,NMOL/KG,PERCNT,,PERCNT,/MILLE,,/MILLE,DEG C
  06MT19901004,  AR04,   655,  1,     24,2,19901018,   0, -0.7083, -34.9933, 4441,     16.7,  26.7130,  36.3002,2,  36.3030,2,    205.1,2, -999.000,9, -999.000,9,    0.911,2,    0.016,-999.0000,9,-999.0000,  -999.00,9,  -999.00,   -999.0,9,   -999.0,  26.7092
  06MT19901004,  AR04,   655,  1,     23,2,19901018,   0, -0.7083, -34.9933, 4441,     79.1,  26.3812,  36.3635,2,  36.3660,2,   -999.0,9, -999.000,9, -999.000,9, -999.000,9, -999.000,-999.0000,9,-999.0000,  -999.00,9,  -999.00,   -999.0,9,   -999.0,  26.3633
  06MT19901004,  AR04,   655,  1,     22,2,19901018,   0, -0.7083, -34.9933, 4441,    272.3,  11.8165,  35.1129,2,  35.1160,2,   -999.0,9, -999.000,9, -999.000,9, -999.000,9, -999.000,-999.0000,9,-999.0000,  -999.00,9,  -999.00,   -999.0,9,   -999.0,  11.7812
  06MT19901004,  AR04,   655,  1,     21,2,19901018,   0, -0.7083, -34.9933, 4441,    593.8,   5.9129,  34.5260,2,  34.5280,2,   -999.0,9,    0.119,2,    0.086,2,    0.057,2,    0.004,-999.0000,9,-999.0000,  -999.00,9,  -999.00,   -999.0,9,   -999.0,   5.8610
  06MT19901004,  AR04,   655,  1,     20,2,19901018,   0, -0.7083, -34.9933, 4441,    893.1,   4.4987,  34.5887,2,-999.0000,9,    163.8,2,    0.012,2, -999.000,9, -999.000,9, -999.000,-999.0000,9,-999.0000,  -999.00,9,  -999.00,   -999.0,9,   -999.0,-999.0000
  06MT19901004,  AR04,   655,  1,     19,2,19901018,   0, -0.7083, -34.9933, 4441,    991.3,   4.4438,  34.6291,2,-999.0000,9,   -999.0,9,    0.017,2, -999.000,9,    0.016,2,    0.002,   1.8588,2,   0.0074,     2.00,2,     0.19,   -999.0,9,   -999.0,-999.0000
  06MT19901004,  AR04,   655,  1,     18,2,19901018,   0, -0.7083, -34.9933, 4441,   1089.8,   4.5057,  34.7285,2,  34.7290,2,   -999.0,9,    0.009,2, -999.000,9, -999.000,9, -999.000,-999.0000,9,-999.0000,  -999.00,9,  -999.00,   -999.0,9,   -999.0,   4.4179
  06MT19901004,  AR04,   655,  1,     17,2,19901018,   0, -0.7083, -34.9933, 4441,   1393.2,   4.4608,  34.9453,2,  34.9470,2,   -999.0,9,    0.044,2, -999.000,9, -999.000,9, -999.000,-999.0000,9,-999.0000,  -999.00,9,  -999.00,   -999.0,9,   -999.0,   4.3454
  06MT19901004,  AR04,   655,  1,     15,2,19901018,   0, -0.7083, -34.9933, 4441,   1491.7,   4.2279,  34.9718,2,-999.0000,9,    242.1,2,    0.058,2,    0.040,2,    0.147,2,    0.002,-999.0000,9,-999.0000,  -999.00,9,  -999.00,   -999.0,9,   -999.0,-999.0000
  06MT19901004,  AR04,   655,  1,     14,2,19901018,   0, -0.7083, -34.9933, 4441,   1591.5,   4.1289,  34.9755,2,-999.0000,9,   -999.0,9,    0.049,2,    0.032,2, -999.000,5, -999.000,   1.8426,2,   0.0074,     1.89,2,     0.19,   -999.0,9,   -999.0,-999.0000
  06MT19901004,  AR04,   655,  1,     13,2,19901018,   0, -0.7083, -34.9933, 4441,   1793.8,   3.9271,  34.9781,2,-999.0000,9,   -999.0,9,    0.045,2,    0.029,2, -999.000,9, -999.000,-999.0000,9,-999.0000,  -999.00,9,  -999.00,   -999.0,9,   -999.0,-999.0000
  06MT19901004,  AR04,   655,  1,     12,2,19901018,   0, -0.7083, -34.9933, 4441,   1992.0,   3.6392,  34.9716,2,  34.9740,2,   -999.0,9,    0.026,2, -999.000,9,    0.093,2,    0.006,   2.1667,3,   0.0087,     2.05,2,     0.27,   -999.0,9,   -999.0,   3.4777
  06MT19901004,  AR04,   655,  1,     11,2,19901018,   0, -0.7083, -34.9933, 4441,   2484.6,   3.0366,  34.9430,2,-999.0000,9,   -999.0,9,    0.014,2, -999.000,9,    0.032,2,    0.001,   1.8535,2,   0.0074,     1.96,2,     0.23,   -999.0,9,   -999.0,-999.0000
  06MT19901004,  AR04,   655,  1,     10,2,19901018,   0, -0.7083, -34.9933, 4441,   2990.8,   2.7367,  34.9279,2,  34.9280,2,   -999.0,9,    0.022,2,    0.011,2,    0.056,2,    0.005,   1.8412,2,   0.0074,     2.50,2,     0.21,   -999.0,9,   -999.0,   2.4926
  06MT19901004,  AR04,   655,  1,      8,2,19901018,   0, -0.7083, -34.9933, 4441,   3191.4,   2.5938,  34.9161,2,-999.0000,9,   -999.0,9,    0.020,2,    0.013,2, -999.000,9, -999.000,-999.0000,9,-999.0000,  -999.00,9,  -999.00,   -999.0,9,   -999.0,-999.0000
  06MT19901004,  AR04,   655,  1,      7,2,19901018,   0, -0.7083, -34.9933, 4441,   3484.1,   2.4529,  34.9089,2,-999.0000,9,   -999.0,9,    0.036,2,    0.024,2, -999.000,9, -999.000,-999.0000,9,-999.0000,  -999.00,9,  -999.00,   -999.0,9,   -999.0,-999.0000
  06MT19901004,  AR04,   655,  1,      6,2,19901018,   0, -0.7083, -34.9933, 4441,   3778.4,   2.3480,  34.9004,2,  34.9000,2,    271.2,2,    0.046,2,    0.032,2,    0.121,2,    0.002,   2.0801,3,   0.0083,     3.15,2,     0.18,   -999.0,9,   -999.0,   2.0289
  06MT19901004,  AR04,   655,  1,      5,2,19901018,   0, -0.7083, -34.9933, 4441,   3995.8,   2.2170,  34.8844,2,-999.0000,9,   -999.0,9,    0.045,2,    0.032,2, -999.000,9, -999.000,-999.0000,9,-999.0000,  -999.00,9,  -999.00,   -999.0,9,   -999.0,-999.0000
  06MT19901004,  AR04,   655,  1,      4,2,19901018,   0, -0.7083, -34.9933, 4441,   4190.6,   1.6214,  34.8135,2,  34.8150,2,   -999.0,9,    0.016,2,    0.014,2, -999.000,9, -999.000,-999.0000,9,-999.0000,  -999.00,9,  -999.00,   -999.0,9,   -999.0,   1.2770
  06MT19901004,  AR04,   655,  1,      3,2,19901018,   0, -0.7083, -34.9933, 4441,   4290.7,   1.3226,  34.7794,2,-999.0000,9,   -999.0,9,    0.012,2,    0.009,2, -999.000,9, -999.000,-999.0000,9,-999.0000,  -999.00,9,  -999.00,   -999.0,9,   -999.0,-999.0000
  06MT19901004,  AR04,   655,  1,      1,2,19901018,   0, -0.7083, -34.9933, 4441,   4467.4,   1.0507,  34.7479,2,  34.7520,2,    236.9,2,    0.011,2,    0.006,2,    0.004,2,    0.000,   1.9387,2,   0.0078,     5.40,2,     0.21,   -999.0,9,   -999.0,   0.6929
  06MT19901004,  AR04,   656,  1,     13,2,19901018,   0, -1.1150, -34.9967, 4368,     16.7,  26.6810,  36.2595,2,  36.2590,2,    206.4,2, -999.000,9, -999.000,9, -999.000,9, -999.000,-999.0000,9,-999.0000,  -999.00,9,  -999.00,   -999.0,9,   -999.0,  26.6772
  06MT19901004,  AR04,   656,  1,     11,2,19901018,   0, -1.1150, -34.9967, 4368,    105.4,  21.8378,  36.4365,2,  36.4420,2,    173.0,2, -999.000,9, -999.000,9, -999.000,9, -999.000,-999.0000,9,-999.0000,  -999.00,9,  -999.00,   -999.0,9,   -999.0,  21.8169
  06MT19901004,  AR04,   656,  1,     10,2,19901018,   0, -1.1150, -34.9967, 4368,    190.0,  12.4232,  35.1885,2,-999.0000,9,   -999.0,9, -999.000,9, -999.000,9, -999.000,9, -999.000,-999.0000,9,-999.0000,  -999.00,9,  -999.00,   -999.0,9,   -999.0,-999.0000
  06MT19901004,  AR04,   656,  1,      9,2,19901018,   0, -1.1150, -34.9967, 4368,    292.8,  11.2129,  35.0390,2,-999.0000,9,    139.0,2, -999.000,9, -999.000,9, -999.000,9, -999.000,-999.0000,9,-999.0000,  -999.00,9,  -999.00,   -999.0,9,   -999.0,-999.0000
  06MT19901004,  AR04,   656,  1,      8,2,19901018,   0, -1.1150, -34.9967, 4368,    398.5,   8.2946,  34.7001,2,  34.7010,2,   -999.0,9, -999.000,9, -999.000,9, -999.000,9, -999.000,-999.0000,9,-999.0000,  -999.00,9,  -999.00,   -999.0,9,   -999.0,   8.2530
  06MT19901004,  AR04,   656,  1,      7,2,19901018,   0, -1.1150, -34.9967, 4368,    597.1,   5.6961,  34.5011,2,-999.0000,9,   -999.0,9, -999.000,9, -999.000,9, -999.000,9, -999.000,-999.0000,9,-999.0000,  -999.00,9,  -999.00,   -999.0,9,   -999.0,-999.0000
  06MT19901004,  AR04,   656,  1,      6,2,19901018,   0, -1.1150, -34.9967, 4368,    726.8,   4.9085,  34.4898,2,  34.4890,2,    159.0,2, -999.000,9, -999.000,9, -999.000,9, -999.000,-999.0000,9,-999.0000,  -999.00,9,  -999.00,   -999.0,9,   -999.0,   4.8499
  06MT19901004,  AR04,   656,  1,      5,2,19901018,   0, -1.1150, -34.9967, 4368,   1086.8,   4.4758,  34.7088,2,-999.0000,9,   -999.0,9, -999.000,9, -999.000,9, -999.000,9, -999.000,-999.0000,9,-999.0000,  -999.00,9,  -999.00,   -999.0,9,   -999.0,-999.0000
  06MT19901004,  AR04,   656,  1,      1,2,19901018,   0, -1.1150, -34.9967, 4368,   1383.2,   4.5497,  34.9201,2,  34.9210,2,    215.1,2, -999.000,9, -999.000,9, -999.000,9, -999.000,-999.0000,9,-999.0000,  -999.00,9,  -999.00,   -999.0,9,   -999.0,   4.4344
  06MT19901004,  AR04,   658,  2,     24,2,19901019,   0, -1.4767, -35.0000, 4266,     15.9,  26.6830,  36.2900,2,  36.2890,2,   -999.0,9, -999.000,9, -999.000,9, -999.000,9, -999.000,-999.0000,9,-999.0000,  -999.00,9,  -999.00,   -999.0,9,   -999.0,  26.6794
  06MT19901004,  AR04,   658,  2,     23,2,19901019,   0, -1.4767, -35.0000, 4266,     96.1,  26.5901,  36.3015,2,  36.2980,2,   -999.0,9, -999.000,9, -999.000,9, -999.000,9, -999.000,-999.0000,9,-999.0000,  -999.00,9,  -999.00,   -999.0,9,   -999.0,  26.5682
  06MT19901004,  AR04,   658,  2,     22,2,19901019,   0, -1.4767, -35.0000, 4266,    413.3,   7.8188,  34.6699,2,  34.6660,2,    142.1,2, -999.000,9, -999.000,9, -999.000,9, -999.000,-999.0000,9,-999.0000,  -999.00,9,  -999.00,   -999.0,9,   -999.0,   7.7771
  06MT19901004,  AR04,   658,  2,     21,2,19901019,   0, -1.4767, -35.0000, 4266,    593.6,   5.7520,  34.5013,2,  34.4990,2,   -999.0,9,    0.195,2, -999.000,9,    0.080,2,    0.007,   1.8452,2,   0.0074,     1.31,2,     0.17,   -999.0,9,   -999.0,   5.7009
  06MT19901004,  AR04,   658,  2,     20,2,19901019,   0, -1.4767, -35.0000, 4266,    794.1,   4.7366,  34.5119,2,  34.5110,2,   -999.0,9,    0.031,2, -999.000,9, -999.000,9, -999.000,-999.0000,9,-999.0000,  -999.00,9,  -999.00,   -999.0,9,   -999.0,   4.6732
  06MT19901004,  AR04,   658,  2,     19,2,19901019,   0, -1.4767, -35.0000, 4266,    993.9,   4.4728,  34.5873,2,-999.0000,9,    163.0,2,    0.011,2, -999.000,9,    0.006,2,    0.000,-999.0000,9,-999.0000,  -999.00,9,  -999.00,   -999.0,9,   -999.0,-999.0000
  06MT19901004,  AR04,   658,  2,     18,2,19901019,   0, -1.4767, -35.0000, 4266,   1095.2,   4.4738,  34.7172,2,-999.0000,9,   -999.0,9,    0.019,2, -999.000,9, -999.000,9, -999.000,-999.0000,9,-999.0000,  -999.00,9,  -999.00,   -999.0,9,   -999.0,-999.0000
  06MT19901004,  AR04,   658,  2,     17,2,19901019,   0, -1.4767, -35.0000, 4266,   1196.8,   4.4748,  34.7611,2,  34.7600,2,   -999.0,9,    0.006,2, -999.000,9, -999.000,9, -999.000,-999.0000,9,-999.0000,  -999.00,9,  -999.00,   -999.0,9,   -999.0,   4.3776
  06MT19901004,  AR04,   658,  2,     16,2,19901019,   0, -1.4767, -35.0000, 4266,   1395.6,   4.4698,  34.9335,2,-999.0000,9,   -999.0,9,    0.045,2, -999.000,9,    0.136,2,    0.006,   1.8035,2,   0.0072,     1.52,2,     0.23,   -999.0,9,   -999.0,-999.0000
  06MT19901004,  AR04,   658,  2,     15,2,19901019,   0, -1.4767, -35.0000, 4266,   1489.8,   4.2209,  34.9707,2,  34.9700,2,   -999.0,9,    0.043,2, -999.000,9, -999.000,5, -999.000,   1.8439,2,   0.0074,     1.55,2,     0.21,   -999.0,9,   -999.0,   4.0991
  06MT19901004,  AR04,   658,  2,     14,2,19901019,   0, -1.4767, -35.0000, 4266,   1592.2,   4.1329,  34.9756,2,-999.0000,9,   -999.0,9,    0.048,2, -999.000,9,    0.131,2,    0.004,   1.8772,2,   0.0075,     1.98,2,     0.20,   -999.0,9,   -999.0,-999.0000
  06MT19901004,  AR04,   658,  2,     13,2,19901019,   0, -1.4767, -35.0000, 4266,   1692.5,   4.0330,  34.9779,2,  34.9780,2,   -999.0,9,    0.043,2, -999.000,9, -999.000,9, -999.000,-999.0000,9,-999.0000,  -999.00,9,  -999.00,   -999.0,9,   -999.0,   3.8945
  06MT19901004,  AR04,   658,  2,     12,2,19901019,   0, -1.4767, -35.0000, 4266,   1789.5,   3.9391,  34.9770,2,-999.0000,9,   -999.0,9,    0.038,2, -999.000,9, -999.000,9, -999.000,-999.0000,9,-999.0000,  -999.00,9,  -999.00,   -999.0,9,   -999.0,-999.0000
  06MT19901004,  AR04,   658,  2,     11,2,19901019,   0, -1.4767, -35.0000, 4266,   1992.8,   3.6962,  34.9773,2,-999.0000,9,   -999.0,9, -999.000,9, -999.000,9, -999.000,9, -999.000,-999.0000,9,-999.0000,  -999.00,9,  -999.00,   -999.0,9,   -999.0,-999.0000
  06MT19901004,  AR04,   658,  2,     10,2,19901019,   0, -1.4767, -35.0000, 4266,   2487.1,   3.0726,  34.9492,2,  34.9480,2,    266.0,2,    0.025,2, -999.000,9,    0.056,2,    0.001,   1.8398,2,   0.0074,     2.13,2,     0.16,   -999.0,9,   -999.0,   2.8725
  06MT19901004,  AR04,   658,  2,      9,2,19901019,   0, -1.4767, -35.0000, 4266,   3016.1,   2.7188,  34.9283,2,  34.9270,2,   -999.0,9,    0.026,2, -999.000,9,    0.070,2,    0.001,   1.8378,2,   0.0074,     2.19,2,     0.23,   -999.0,9,   -999.0,   2.4725
  06MT19901004,  AR04,   658,  2,      7,2,19901019,   0, -1.4767, -35.0000, 4266,   3186.7,   2.6318,  34.9213,2,-999.0000,9,   -999.0,9,    0.032,2, -999.000,9, -999.000,9, -999.000,-999.0000,9,-999.0000,  -999.00,9,  -999.00,   -999.0,9,   -999.0,-999.0000
  06MT19901004,  AR04,   658,  2,      6,2,19901019,   0, -1.4767, -35.0000, 4266,   3494.3,   2.4219,  34.9071,2,-999.0000,9,   -999.0,9,    0.044,2, -999.000,9, -999.000,9, -999.000,-999.0000,9,-999.0000,  -999.00,9,  -999.00,   -999.0,9,   -999.0,-999.0000
  06MT19901004,  AR04,   658,  2,      5,2,19901019,   0, -1.4767, -35.0000, 4266,   3795.0,   2.3550,  34.9004,2,  34.9000,2,    233.4,3,    0.053,2, -999.000,9,    0.123,2,    0.002,   1.8207,2,   0.0073,     2.51,2,     0.17,   -999.0,9,   -999.0,   2.0339
  06MT19901004,  AR04,   658,  2,      4,2,19901019,   0, -1.4767, -35.0000, 4266,   3994.9,   2.0911,  34.8706,2,-999.0000,9,   -999.0,9,    0.040,2, -999.000,9, -999.000,9, -999.000,-999.0000,9,-999.0000,  -999.00,9,  -999.00,   -999.0,9,   -999.0,-999.0000
  06MT19901004,  AR04,   658,  2,      1,2,19901019,   0, -1.4767, -35.0000, 4266,   4296.3,   1.2746,  34.7728,2,  34.7720,2,   -999.0,9,    0.011,2, -999.000,9,    0.018,2,    0.003,   2.5467,3,   0.0102,     2.93,2,     0.19,   -999.0,9,   -999.0,   0.9290
  06MT19901004,  AR04,   659,  1,     13,2,19901019,   0, -1.8983, -34.9983, 4107,     23.3,  26.6860,  36.3084,2,  36.3060,2,    202.5,2, -999.000,9, -999.000,9, -999.000,9, -999.000,-999.0000,9,-999.0000,  -999.00,9,  -999.00,   -999.0,9,   -999.0,  26.6807
  06MT19901004,  AR04,   659,  1,     12,2,19901019,   0, -1.8983, -34.9983, 4107,    295.4,  10.6982,  34.9769,2,-999.0000,9,   -999.0,9, -999.000,9, -999.000,9, -999.000,9, -999.000,-999.0000,9,-999.0000,  -999.00,9,  -999.00,   -999.0,9,   -999.0,-999.0000
  06MT19901004,  AR04,   659,  1,     11,2,19901019,   0, -1.8983, -34.9983, 4107,    390.7,   8.6514,  34.7576,2,  34.7590,2,   -999.0,9, -999.000,9, -999.000,9, -999.000,9, -999.000,-999.0000,9,-999.0000,  -999.00,9,  -999.00,   -999.0,9,   -999.0,   8.6096
  06MT19901004,  AR04,   659,  1,     10,2,19901019,   0, -1.8983, -34.9983, 4107,    494.4,   6.9553,  34.5905,2,-999.0000,9,    137.7,2, -999.000,9, -999.000,9, -999.000,9, -999.000,-999.0000,9,-999.0000,  -999.00,9,  -999.00,   -999.0,9,   -999.0,-999.0000
  06MT19901004,  AR04,   659,  1,      9,2,19901019,   0, -1.8983, -34.9983, 4107,    595.4,   5.2913,  34.4568,2,  34.4560,2,   -999.0,9, -999.000,9, -999.000,9, -999.000,9, -999.000,-999.0000,9,-999.0000,  -999.00,9,  -999.00,   -999.0,9,   -999.0,   5.2421
  06MT19901004,  AR04,   659,  1,      8,2,19901019,   0, -1.8983, -34.9983, 4107,    788.4,   4.6806,  34.5054,2,-999.0000,9,   -999.0,9, -999.000,9, -999.000,9, -999.000,9, -999.000,-999.0000,9,-999.0000,  -999.00,9,  -999.00,   -999.0,9,   -999.0,-999.0000
  06MT19901004,  AR04,   659,  1,      7,2,19901019,   0, -1.8983, -34.9983, 4107,    893.1,   4.5167,  34.5596,2,-999.0000,9,    146.0,2, -999.000,9, -999.000,9, -999.000,9, -999.000,-999.0000,9,-999.0000,  -999.00,9,  -999.00,   -999.0,9,   -999.0,-999.0000
  06MT19901004,  AR04,   659,  1,      6,2,19901019,   0, -1.8983, -34.9983, 4107,    994.9,   4.4728,  34.6054,2,  34.6030,2,   -999.0,9, -999.000,9, -999.000,9, -999.000,9, -999.000,-999.0000,9,-999.0000,  -999.00,9,  -999.00,   -999.0,9,   -999.0,   4.3938
  06MT19901004,  AR04,   659,  1,      5,2,19901019,   0, -1.8983, -34.9983, 4107,   1090.3,   4.4678,  34.7340,2,-999.0000,9,   -999.0,9, -999.000,9, -999.000,9, -999.000,9, -999.000,-999.0000,9,-999.0000,  -999.00,9,  -999.00,   -999.0,9,   -999.0,-999.0000
  06MT19901004,  AR04,   659,  1,      1,2,19901019,   0, -1.8983, -34.9983, 4107,   1359.2,   4.6027,  34.9403,2,  34.9400,2,    216.0,2, -999.000,9, -999.000,9, -999.000,9, -999.000,-999.0000,9,-999.0000,  -999.00,9,  -999.00,   -999.0,9,   -999.0,   4.4891