BOTTLE,20040202WHPSIOSA
EXPOCODE,SECT_ID,STNNBR,CASTNO,SAMPNO,BTLNBR,BTLNBR_FLAG_W,DATE,TIME,LATITUDE,LONGITUDE,DEPTH,CTDPRS,CTDTMP,CTDSAL,CTDSAL_FLAG_W,SALNTY,SALNTY_FLAG_W,CTDOXY,CTDOXY_FLAG_W,OXYGEN,OXYGEN_FLAG_W,SILCAT,SILCAT_FLAG_W,NO2+NO3,NO2+NO3_FLAG_W,PHSPHT,PHSPHT_FLAG_W,THETA
,,,,,,,,,,,,DBAR,ITS-90,PSS-78,,PSS-78,,UMOL/KG,,UMOL/KG,,UMOL/KG,,UMOL/KG,,UMOL/KG,,DEG C
  492SSY9310_2,  P02E,   105,  1,      1,     23,2,19931112,1016, 30.0000,-156.4167, 5891,    100.0,  15.9019,  34.6647,2,  34.6616,2,   -999.0,9,    234.0,2,     2.92,3,     0.95,3,     0.19,3, 15.8862
  492SSY9310_2,  P02E,   105,  1,      2,     22,2,19931112,1016, 30.0000,-156.4167, 5891,    200.3,  13.1729,  34.3986,2,  34.4043,2,   -999.0,9,    227.8,2,     5.84,3,     6.75,3,     0.56,3, 13.1454
  492SSY9310_2,  P02E,   105,  1,      3,     21,2,19931112,1016, 30.0000,-156.4167, 5891,    299.8,  11.4838,  34.2770,2,  34.2758,2,   -999.0,9,    223.9,2,    10.72,3,    10.98,3,     0.87,3, 11.4461
  492SSY9310_2,  P02E,   105,  1,      4,     20,2,19931112,1016, 30.0000,-156.4167, 5891,    399.7,   9.3847,  34.1214,2,  34.1268,2,   -999.0,9,    205.6,2,    19.48,3,    17.35,3,     1.49,3,  9.3403
  492SSY9310_2,  P02E,   105,  1,      5,     19,2,19931112,1016, 30.0000,-156.4167, 5891,    500.6,   7.4543,  34.0205,2,  34.0352,2,   -999.0,9,    169.4,2,    34.09,3,    24.55,3,     1.72,3,  7.4056
  492SSY9310_2,  P02E,   105,  1,      6,     18,2,19931112,1016, 30.0000,-156.4167, 5891,    598.5,   5.9091,  34.0019,2,  33.9998,2,   -999.0,9,    118.4,2,    56.48,3,    32.53,3,     2.30,3,  5.8574
  492SSY9310_2,  P02E,   105,  1,      7,     17,2,19931112,1016, 30.0000,-156.4167, 5891,    700.5,   4.6995,  34.0695,2,  34.0690,2,   -999.0,9,     61.4,2,    82.77,3,    39.52,3,     2.82,3,  4.6448
  492SSY9310_2,  P02E,   105,  1,      8,     16,2,19931112,1016, 30.0000,-156.4167, 5891,    801.3,   4.1520,  34.1707,2,  34.1709,2,   -999.0,9,     30.5,2,   100.30,3,    41.96,3,     3.07,3,  4.0921
  492SSY9310_2,  P02E,   105,  1,      9,     15,2,19931112,1016, 30.0000,-156.4167, 5891,    898.3,   3.8464,  34.2755,2,  34.2748,2,   -999.0,9,     19.6,2,   112.94,3,    43.05,3,     3.14,3,  3.7805
  492SSY9310_2,  P02E,   105,  1,     10,     14,2,19931112,1016, 30.0000,-156.4167, 5891,    999.0,   3.5609,  34.3723,2,  34.3766,2,   -999.0,9,     21.8,2,   121.69,3,    43.26,3,     3.18,3,  3.4890
  492SSY9310_2,  P02E,   105,  1,     11,     13,2,19931112,1016, 30.0000,-156.4167, 5891,   1249.0,   3.0188,  34.4969,2,  34.4972,2,   -999.0,9,     35.2,2,   137.25,3,    42.98,3,     3.16,6,  2.9314
  492SSY9310_2,  P02E,   105,  1,     12,     12,2,19931112,1016, 30.0000,-156.4167, 5891,   1499.8,   2.5630,  34.5565,2,  34.5569,2,   -999.0,9,     60.0,2,   145.03,3,    41.26,3,     3.05,3,  2.4602
  492SSY9310_2,  P02E,   105,  1,     13,     11,2,19931112,1016, 30.0000,-156.4167, 5891,   1749.9,   2.2407,  34.5894,2,  34.5940,2,   -999.0,9,     76.5,2,   152.82,4,    40.87,3,     3.36,3,  2.1215
  492SSY9310_2,  P02E,   105,  1,     14,     10,2,19931112,1016, 30.0000,-156.4167, 5891,   2000.7,   1.9913,  34.6133,2,  34.6140,2,   -999.0,9,     88.3,2,   158.65,3,    40.38,3,     2.84,3,  1.8549
  492SSY9310_2,  P02E,   105,  1,     15,      9,2,19931112,1016, 30.0000,-156.4167, 5891,   2250.7,   1.8311,  34.6298,2,  34.6274,2,   -999.0,9,     95.2,2,   161.57,3,    39.74,3,     2.78,3,  1.6759
  492SSY9310_2,  P02E,   105,  1,     16,      8,2,19931112,1016, 30.0000,-156.4167, 5891,   2500.8,   1.6950,  34.6447,2,  34.6441,2,   -999.0,9,    106.1,2,   166.43,3,    38.76,3,     2.73,3,  1.5203
  492SSY9310_2,  P02E,   105,  1,     17,      7,2,19931112,1016, 30.0000,-156.4167, 5891,   3000.7,   1.5490,  34.6637,2,  34.6677,2,   -999.0,9,    125.2,2,   163.52,3,    37.88,3,     2.63,3,  1.3311
  492SSY9310_2,  P02E,   105,  1,     18,      6,2,19931112,1016, 30.0000,-156.4167, 5891,   3499.8,   1.4905,  34.6743,2,  34.6704,2,   -999.0,9,    138.3,2,   169.36,3,    37.56,3,     2.61,3,  1.2248
  492SSY9310_2,  P02E,   105,  1,     19,      5,2,19931112,1016, 30.0000,-156.4167, 5891,   4000.9,   1.4778,  34.6805,2,  34.6818,2,   -999.0,9,    147.0,2,   168.40,3,    36.98,3,     2.58,3,  1.1596
  492SSY9310_2,  P02E,   105,  1,     20,      4,2,19931112,1016, 30.0000,-156.4167, 5891,   4499.9,   1.4917,  34.6845,2,  34.6844,2,   -999.0,9,    153.1,2,   159.64,3,    35.60,3,     2.59,3,  1.1173
  492SSY9310_2,  P02E,   105,  1,     21,      3,2,19931112,1016, 30.0000,-156.4167, 5891,   5000.3,   1.5200,  34.6870,3,  34.6641,3,   -999.0,9,    147.4,3,  -999.00,9,    35.94,3,  -999.00,9,  1.0854
  492SSY9310_2,  P02E,   105,  1,     22,      2,2,19931112,1016, 30.0000,-156.4167, 5891,   5498.7,   1.5698,  34.6885,2,  34.6895,2,   -999.0,9,    162.6,2,   171.34,3,    35.11,3,     2.45,3,  1.0712
  492SSY9310_2,  P02E,   105,  1,     23,      1,2,19931112,1016, 30.0000,-156.4167, 5891,   6000.3,   1.6287,  34.6894,2,  34.6891,2,   -999.0,9,    163.5,2,   142.13,3,    35.20,3,     2.42,3,  1.0622
  492SSY9310_2,  P02E,   106,  1,      1,     23,2,19931112,1718, 29.9983,-155.5000, 5808,    100.8,  16.3834,  34.6903,2,  34.6944,2,   -999.0,9,    241.8,2,     4.87,3,  -999.00,9,     0.12,3, 16.3672
  492SSY9310_2,  P02E,   106,  1,      2,     22,2,19931112,1718, 29.9983,-155.5000, 5808,    201.4,  13.4312,  34.4222,2,  34.4261,2,   -999.0,9,    225.2,2,     9.74,3,     6.48,3,     0.48,3, 13.4031
  492SSY9310_2,  P02E,   106,  1,      3,     21,2,19931112,1718, 29.9983,-155.5000, 5808,    301.5,  11.2439,  34.2591,2,  34.2544,2,   -999.0,9,    220.8,2,    16.56,3,    11.39,3,     0.84,3, 11.2064
  492SSY9310_2,  P02E,   106,  1,      4,     20,2,19931112,1718, 29.9983,-155.5000, 5808,    399.7,   9.4712,  34.1499,2,  34.1530,2,   -999.0,9,    205.1,2,    28.25,3,    17.16,3,     1.21,3,  9.4265
  492SSY9310_2,  P02E,   106,  1,      5,     19,2,19931112,1718, 29.9983,-155.5000, 5808,    501.2,   7.4227,  34.0269,2,  34.0364,2,   -999.0,9,    175.5,2,    36.04,3,    23.70,3,     1.67,3,  7.3740
  492SSY9310_2,  P02E,   106,  1,      6,     18,2,19931112,1718, 29.9983,-155.5000, 5808,    598.4,   5.8159,  34.0014,2,  34.0041,2,   -999.0,9,    121.5,2,    59.41,3,    33.22,3,     2.26,3,  5.7646
  492SSY9310_2,  P02E,   106,  1,      7,     17,2,19931112,1718, 29.9983,-155.5000, 5808,    699.9,   4.6782,  34.0590,2,  34.0533,2,   -999.0,9,     64.9,2,    83.74,3,    38.35,3,     2.78,3,  4.6237
  492SSY9310_2,  P02E,   106,  1,      8,     16,2,19931112,1718, 29.9983,-155.5000, 5808,    800.5,   4.1421,  34.1677,2,  34.1562,3,   -999.0,9,     28.7,2,   101.27,3,    41.05,3,     3.05,3,  4.0823
  492SSY9310_2,  P02E,   106,  1,      9,     15,2,19931112,1718, 29.9983,-155.5000, 5808,    900.5,   3.8184,  34.2678,3,  34.1899,3,   -999.0,9,    105.7,3,  -999.00,9,    31.16,3,  -999.00,9,  3.7526
  492SSY9310_2,  P02E,   106,  1,     10,     14,2,19931112,1718, 29.9983,-155.5000, 5808,   1001.6,   3.6259,  34.3526,2,  34.3331,4,   -999.0,9,     14.4,2,   120.73,3,    42.47,3,     3.19,3,  3.5533
  492SSY9310_2,  P02E,   106,  1,     11,     13,2,19931112,1718, 29.9983,-155.5000, 5808,   1001.6,   3.6259,  34.3526,2,  34.3527,2,   -999.0,9,     15.2,2,   122.67,3,    42.88,3,     3.16,6,  3.5533
  492SSY9310_2,  P02E,   106,  1,     12,     12,2,19931112,1718, 29.9983,-155.5000, 5808,   1249.6,   3.1351,  34.4739,2,  34.4767,2,   -999.0,9,     24.8,3,   136.28,3,    42.83,3,     3.13,3,  3.0466
  492SSY9310_2,  P02E,   106,  1,     13,     11,2,19931112,1718, 29.9983,-155.5000, 5808,   1500.6,   2.6829,  34.5400,2,  34.5423,2,   -999.0,9,     45.2,3,   146.00,3,    42.18,3,     3.05,3,  2.5787
  492SSY9310_2,  P02E,   106,  1,     14,     10,2,19931112,1718, 29.9983,-155.5000, 5808,   1750.4,   2.2588,  34.5842,2,  34.5871,2,   -999.0,9,     66.5,3,   155.74,3,    40.99,3,     2.93,3,  2.1394
  492SSY9310_2,  P02E,   106,  1,     15,      9,2,19931112,1718, 29.9983,-155.5000, 5808,   2000.0,   2.0087,  34.6106,2,  34.6103,2,   -999.0,9,     82.2,2,   155.73,3,    39.56,3,     2.85,3,  1.8721
  492SSY9310_2,  P02E,   106,  1,     16,      8,2,19931112,1718, 29.9983,-155.5000, 5808,   2249.2,   1.8203,  34.6297,2,  34.6238,2,   -999.0,9,     91.3,2,   158.65,3,    38.94,3,     2.78,3,  1.6655
  492SSY9310_2,  P02E,   106,  1,     17,      7,2,19931112,1718, 29.9983,-155.5000, 5808,   2501.2,   1.7020,  34.6440,2,  34.6348,4,   -999.0,9,    105.2,2,   159.62,3,    38.56,3,     2.70,3,  1.5271
  492SSY9310_2,  P02E,   106,  1,     18,      6,2,19931112,1718, 29.9983,-155.5000, 5808,   2998.9,   1.5591,  34.6636,2,  34.6669,2,   -999.0,9,    123.9,2,   164.49,3,    38.05,3,     2.64,3,  1.3412
  492SSY9310_2,  P02E,   106,  1,     19,      5,2,19931112,1718, 29.9983,-155.5000, 5808,   3500.7,   1.4995,  34.6741,2,  34.6771,2,   -999.0,9,    136.5,2,   163.52,3,    37.09,3,     2.57,3,  1.2335
  492SSY9310_2,  P02E,   106,  1,     20,      4,2,19931112,1718, 29.9983,-155.5000, 5808,   3999.9,   1.4821,  34.6805,2,  34.6806,2,   -999.0,9,    146.5,2,   159.64,3,    35.62,3,     2.51,3,  1.1639
  492SSY9310_2,  P02E,   106,  1,     21,      3,2,19931112,1718, 29.9983,-155.5000, 5808,   4500.0,   1.4932,  34.6845,3,  34.6502,3,   -999.0,9,    138.3,3,  -999.00,9,    36.25,3,  -999.00,9,  1.1187
  492SSY9310_2,  P02E,   106,  1,     22,      2,2,19931112,1718, 29.9983,-155.5000, 5808,   4999.9,   1.5190,  34.6875,2,  34.6908,2,   -999.0,9,    159.6,2,   145.05,3,    34.91,3,     2.44,3,  1.0845
  492SSY9310_2,  P02E,   106,  1,     23,      1,2,19931112,1718, 29.9983,-155.5000, 5808,   5500.0,   1.5667,  34.6891,2,  34.6920,2,   -999.0,9,    163.1,2,   143.10,3,    34.86,3,     2.42,3,  1.0681
  492SSY9310_2,  P02E,   107,  1,      2,     22,2,19931113,0008, 30.0017,-154.5833, 5580,     50.2,  22.2863,  35.2455,2,  35.2568,2,   -999.0,9,    219.3,2,     3.90,3,     0.00,3,     0.21,3, 22.2762
  492SSY9310_2,  P02E,   107,  1,      3,     21,2,19931113,0008, 30.0017,-154.5833, 5580,     98.6,  17.3797,  34.8480,2,  34.8654,2,   -999.0,9,    220.5,2,     9.74,3,     0.99,3,     0.83,3, 17.3633
  492SSY9310_2,  P02E,   107,  1,      4,     20,2,19931113,0008, 30.0017,-154.5833, 5580,    200.6,  13.5472,  34.4190,2,  34.4398,2,   -999.0,9,    212.2,2,    11.69,3,     7.37,3,     1.62,3, 13.5191
  492SSY9310_2,  P02E,   107,  1,      5,     19,2,19931113,0008, 30.0017,-154.5833, 5580,    300.4,  11.5194,  34.2715,2,  34.2817,2,   -999.0,9,    221.3,2,    21.43,3,    11.11,3,     1.24,3, 11.4815
  492SSY9310_2,  P02E,   107,  1,      6,     18,2,19931113,0008, 30.0017,-154.5833, 5580,    400.3,   9.5289,  34.1399,2,  34.1603,3,   -999.0,9,    204.7,2,    37.01,3,    17.08,3,     1.70,3,  9.4840
  492SSY9310_2,  P02E,   107,  1,      7,     17,2,19931113,0008, 30.0017,-154.5833, 5580,    500.2,   7.4149,  34.0255,2,  34.0386,2,   -999.0,9,    171.6,2,    60.38,3,    24.42,3,     2.34,3,  7.3664
  492SSY9310_2,  P02E,   107,  1,      8,     16,2,19931113,0008, 30.0017,-154.5833, 5580,    600.8,   5.7601,  34.0018,2,  34.0063,2,   -999.0,9,    112.3,2,    82.76,3,    32.68,3,     2.77,3,  5.7089
  492SSY9310_2,  P02E,   107,  1,      9,     15,2,19931113,0008, 30.0017,-154.5833, 5580,    700.8,   4.7511,  34.0731,2,  34.0823,2,   -999.0,9,     60.5,2,    96.40,3,    38.77,3,     2.94,3,  4.6961
  492SSY9310_2,  P02E,   107,  1,     10,     14,2,19931113,0008, 30.0017,-154.5833, 5580,    799.0,   4.1934,  34.1597,2,  34.1683,2,   -999.0,9,     42.6,2,   113.92,3,    40.80,3,     3.14,3,  4.1334
  492SSY9310_2,  P02E,   107,  1,     11,     13,2,19931113,0008, 30.0017,-154.5833, 5580,    898.2,   3.8502,  34.2699,2,  34.2709,2,   -999.0,9,     18.7,2,   123.64,3,    42.74,3,     3.16,3,  3.7843
  492SSY9310_2,  P02E,   107,  1,     12,     12,2,19931113,0008, 30.0017,-154.5833, 5580,   1001.7,   3.5932,  34.3501,2,  34.3605,3,   -999.0,9,     14.4,2,   137.25,3,    43.26,3,     3.14,6,  3.5209
  492SSY9310_2,  P02E,   107,  1,     13,     11,2,19931113,0008, 30.0017,-154.5833, 5580,   1249.8,   3.1066,  34.4809,2,  34.4803,2,   -999.0,9,     31.8,2,   148.92,3,    43.20,3,     3.04,3,  3.0183
  492SSY9310_2,  P02E,   107,  1,     14,     10,2,19931113,0008, 30.0017,-154.5833, 5580,   1497.9,   2.6374,  34.5457,2,  34.5455,2,   -999.0,9,     53.5,2,   149.90,3,    42.06,3,     2.88,3,  2.5339
  492SSY9310_2,  P02E,   107,  1,     15,      9,2,19931113,0008, 30.0017,-154.5833, 5580,   1752.0,   2.2861,  34.5853,2,  34.5906,2,   -999.0,9,     71.8,2,   156.71,3,    40.59,3,     2.83,3,  2.1662
  492SSY9310_2,  P02E,   107,  1,     16,      8,2,19931113,0008, 30.0017,-154.5833, 5580,   2000.8,   2.0509,  34.6087,2,  34.6064,2,   -999.0,9,     83.5,2,  -999.00,9,    40.09,3,  -999.00,9,  1.9136
  492SSY9310_2,  P02E,   107,  1,     17,      7,2,19931113,0008, 30.0017,-154.5833, 5580,   2498.2,   1.7405,  34.6423,2,  34.6348,4,   -999.0,9,    102.2,2,  -999.00,9,    39.03,3,  -999.00,9,  1.5652
  492SSY9310_2,  P02E,   107,  1,     18,      6,2,19931113,0008, 30.0017,-154.5833, 5580,   2999.8,   1.5890,  34.6609,2,  34.6276,4,   -999.0,9,    122.2,2,  -999.00,9,    38.58,3,  -999.00,9,  1.3704
  492SSY9310_2,  P02E,   107,  1,     19,      5,2,19931113,0008, 30.0017,-154.5833, 5580,   3499.5,   1.5180,  34.6726,2,  34.6796,4,   -999.0,9,    135.2,2,   149.89,3,    37.73,3,     2.61,3,  1.2516
  492SSY9310_2,  P02E,   107,  1,     20,      4,2,19931113,0008, 30.0017,-154.5833, 5580,   4000.0,   1.4942,  34.6797,2,  34.6769,2,   -999.0,9,    143.9,2,  -999.00,9,    35.91,3,  -999.00,9,  1.1757
  492SSY9310_2,  P02E,   107,  1,     21,      3,2,19931113,0008, 30.0017,-154.5833, 5580,   4501.3,   1.5003,  34.6844,2,  34.6822,2,   -999.0,9,   -999.0,5,   143.09,3,    35.74,3,     2.46,4,  1.1254
  492SSY9310_2,  P02E,   107,  1,     22,      2,2,19931113,0008, 30.0017,-154.5833, 5580,   5002.5,   1.5150,  34.6874,2,  34.6889,2,   -999.0,9,   -999.0,5,   139.21,3,    35.06,3,     2.42,3,  1.0803
  492SSY9310_2,  P02E,   107,  1,     23,      1,2,19931113,0008, 30.0017,-154.5833, 5580,   5502.5,   1.5618,  34.6893,2,  34.6908,2,   -999.0,9,    163.5,2,   137.26,3,    35.06,3,     2.40,3,  1.0630
  492SSY9310_2,  P02E,   108,  1,      1,     23,2,19931113,0650, 30.0000,-153.6667, 4911,     51.0,  22.1519,  35.2017,2,  35.2056,2,   -999.0,9,    219.3,2,     1.95,3,     0.00,3,     0.04,3, 22.1417
  492SSY9310_2,  P02E,   108,  1,      2,     22,2,19931113,0650, 30.0000,-153.6667, 4911,    100.2,  16.9765,  34.7714,2,  34.7742,2,   -999.0,9,    234.0,2,     2.92,3,     0.25,3,     0.16,3, 16.9601
  492SSY9310_2,  P02E,   108,  1,      3,     21,2,19931113,0650, 30.0000,-153.6667, 4911,    200.3,  13.5012,  34.4239,2,  34.4294,2,   -999.0,9,    223.5,2,     6.82,3,     6.54,3,     0.48,3, 13.4731
  492SSY9310_2,  P02E,   108,  1,      4,     20,2,19931113,0650, 30.0000,-153.6667, 4911,    300.2,  11.1240,  34.2348,2,  34.2895,4,   -999.0,9,    214.3,2,    12.66,3,    11.32,3,     0.83,3, 11.0870
  492SSY9310_2,  P02E,   108,  1,      5,     19,2,19931113,0650, 30.0000,-153.6667, 4911,    400.1,   9.2335,  34.1122,2,  34.1209,2,   -999.0,9,    201.6,2,    21.43,3,    17.53,3,     1.25,3,  9.1895
  492SSY9310_2,  P02E,   108,  1,      6,     18,2,19931113,0650, 30.0000,-153.6667, 4911,    499.5,   7.2884,  34.0139,2,  34.0194,2,   -999.0,9,    167.2,2,    37.99,3,    24.98,3,     1.78,3,  7.2403
  492SSY9310_2,  P02E,   108,  1,      7,     17,2,19931113,0650, 30.0000,-153.6667, 4911,    600.7,   5.7486,  33.9910,2,  33.9992,2,   -999.0,9,    111.9,2,    60.38,3,    33.13,3,     2.39,3,  5.6974
  492SSY9310_2,  P02E,   108,  1,      8,     16,2,19931113,0650, 30.0000,-153.6667, 4911,    701.1,   4.6455,  34.0707,2,  34.0731,2,   -999.0,9,     55.7,2,    85.69,3,    39.16,3,     2.83,3,  4.5911
  492SSY9310_2,  P02E,   108,  1,      9,     15,2,19931113,0650, 30.0000,-153.6667, 4911,    802.3,   4.1735,  34.1804,2,  34.1817,2,   -999.0,9,     28.3,2,   102.24,3,    42.02,3,     3.05,3,  4.1134
  492SSY9310_2,  P02E,   108,  1,     10,     14,2,19931113,0650, 30.0000,-153.6667, 4911,    901.9,   3.8987,  34.2859,2,  34.2880,2,   -999.0,9,     17.4,2,   114.89,3,    42.65,3,     3.15,3,  3.8322
  492SSY9310_2,  P02E,   108,  1,     11,     13,2,19931113,0650, 30.0000,-153.6667, 4911,   1000.7,   3.6079,  34.3670,2,  34.3696,2,   -999.0,9,     17.0,2,   126.56,3,    43.05,3,     3.16,3,  3.5355
  492SSY9310_2,  P02E,   108,  1,     12,     12,2,19931113,0650, 30.0000,-153.6667, 4911,   1250.2,   3.0694,  34.4898,2,  34.4924,2,   -999.0,9,     32.2,2,   134.33,3,    42.52,3,     3.11,3,  2.9814
  492SSY9310_2,  P02E,   108,  1,     13,     11,2,19931113,0650, 30.0000,-153.6667, 4911,   1502.2,   2.6489,  34.5447,2,  34.5478,2,   -999.0,9,     49.1,3,   143.08,3,    42.04,3,     3.05,6,  2.5449
  492SSY9310_2,  P02E,   108,  1,     14,     10,2,19931113,0650, 30.0000,-153.6667, 4911,   1749.2,   2.2387,  34.5869,2,  34.5895,2,   -999.0,9,     67.4,2,   151.85,3,    41.08,3,     2.95,3,  2.1196
  492SSY9310_2,  P02E,   108,  1,     15,      9,2,19931113,0650, 30.0000,-153.6667, 4911,   2000.8,   1.9859,  34.6129,2,  34.6150,2,   -999.0,9,     82.6,2,   157.68,3,    40.38,3,     2.89,3,  1.8496
  492SSY9310_2,  P02E,   108,  1,     16,      8,2,19931113,0650, 30.0000,-153.6667, 4911,   2249.8,   1.8058,  34.6315,2,  34.6339,2,   -999.0,9,     92.2,2,   161.57,3,    39.44,3,     2.84,3,  1.6511
  492SSY9310_2,  P02E,   108,  1,     17,      7,2,19931113,0650, 30.0000,-153.6667, 4911,   2499.8,   1.6908,  34.6447,2,  34.6413,2,   -999.0,9,    103.9,2,   157.67,3,    38.79,3,     2.77,3,  1.5163
  492SSY9310_2,  P02E,   108,  1,     18,      6,2,19931113,0650, 30.0000,-153.6667, 4911,   3000.5,   1.5555,  34.6629,2,  34.6649,2,   -999.0,9,    123.9,3,   159.63,3,    38.11,3,     2.63,3,  1.3375
  492SSY9310_2,  P02E,   108,  1,     19,      5,2,19931113,0650, 30.0000,-153.6667, 4911,   3500.2,   1.4897,  34.6741,2,  34.6757,2,   -999.0,9,    137.4,2,   155.73,3,    37.15,3,     2.56,3,  1.2240
  492SSY9310_2,  P02E,   108,  1,     20,      4,2,19931113,0650, 30.0000,-153.6667, 4911,   4001.8,   1.4740,  34.6807,2,  34.6771,2,   -999.0,9,    144.4,2,   151.85,3,    35.79,3,     2.52,3,  1.1559
  492SSY9310_2,  P02E,   108,  1,     21,      3,2,19931113,0650, 30.0000,-153.6667, 4911,   4498.8,   1.4861,  34.6858,2,  34.6822,2,   -999.0,9,    161.8,4,   149.91,3,    35.50,3,     2.48,6,  1.1120
  492SSY9310_2,  P02E,   108,  1,     22,      2,2,19931113,0650, 30.0000,-153.6667, 4911,   5001.1,   1.5184,  34.6878,2,  34.6897,2,   -999.0,9,    160.0,2,   147.97,3,    35.09,3,     2.45,3,  1.0837
  492SSY9310_2,  P02E,   108,  1,     23,      1,2,19931113,0650, 30.0000,-153.6667, 4911,   5499.7,   1.5634,  34.6890,2,  34.6877,2,   -999.0,9,    163.1,2,   140.18,3,    34.69,3,     2.43,3,  1.0649