BOTTLE,20040202WHPSIOSA
EXPOCODE,SECT_ID,STNNBR,CASTNO,SAMPNO,BTLNBR,BTLNBR_FLAG_W,DATE,TIME,LATITUDE,LONGITUDE,DEPTH,CTDPRS,CTDTMP,CTDSAL,CTDSAL_FLAG_W,SALNTY,SALNTY_FLAG_W,CTDOXY,CTDOXY_FLAG_W,OXYGEN,OXYGEN_FLAG_W,SILCAT,SILCAT_FLAG_W,NO2+NO3,NO2+NO3_FLAG_W,PHSPHT,PHSPHT_FLAG_W,THETA
,,,,,,,,,,,,DBAR,ITS-90,PSS-78,,PSS-78,,UMOL/KG,,UMOL/KG,,UMOL/KG,,UMOL/KG,,UMOL/KG,,DEG C
  492SSY9310_2,  P02E,   141,  1,      1,     23,2,19931121,2303, 30.0033,-130.7533, 4654,     49.0,  19.8508,  34.2718,2,  34.2662,2,   -999.0,9,    229.8,2,     0.00,3,     0.00,3,     0.17,3, 19.8419
  492SSY9310_2,  P02E,   141,  1,      2,     22,2,19931121,2303, 30.0033,-130.7533, 4654,     98.8,  18.8270,  34.4688,2,  34.4736,2,   -999.0,9,    235.0,2,     0.00,3,     0.00,3,     0.17,3, 18.8096
  492SSY9310_2,  P02E,   141,  1,      3,     21,2,19931121,2303, 30.0033,-130.7533, 4654,    199.2,  10.9756,  33.5928,2,  33.5949,2,   -999.0,9,    208.2,2,    10.72,3,    10.87,3,     1.39,3, 10.9515
  492SSY9310_2,  P02E,   141,  1,      4,     20,2,19931121,2303, 30.0033,-130.7533, 4654,    298.1,   8.3486,  33.9600,2,  33.9559,2,   -999.0,9,    191.1,2,    30.20,3,    21.16,3,     1.48,3,  8.3180
  492SSY9310_2,  P02E,   141,  1,      5,     19,2,19931121,2303, 30.0033,-130.7533, 4654,    399.5,   6.8100,  33.9931,2,  33.9884,2,   -999.0,9,    126.7,2,    53.57,3,    30.72,3,     2.09,3,  6.7733
  492SSY9310_2,  P02E,   141,  1,      6,     18,2,19931121,2303, 30.0033,-130.7533, 4654,    499.1,   5.6992,  34.0598,2,  34.0576,2,   -999.0,9,     63.1,2,    63.30,3,    38.05,3,     2.70,3,  5.6572
  492SSY9310_2,  P02E,   141,  1,      7,     17,2,19931121,2303, 30.0033,-130.7533, 4654,    600.1,   5.1235,  34.1637,2,  34.1621,2,   -999.0,9,     29.6,2,    78.87,3,    41.43,3,     3.00,3,  5.0750
  492SSY9310_2,  P02E,   141,  1,      8,     16,2,19931121,2303, 30.0033,-130.7533, 4654,    699.8,   4.6710,  34.2735,2,  34.2705,2,   -999.0,9,     16.1,2,    91.51,3,    42.25,3,     3.13,3,  4.6163
  492SSY9310_2,  P02E,   141,  1,      9,     15,2,19931121,2303, 30.0033,-130.7533, 4654,    799.2,   4.3640,  34.3490,2,  34.3437,2,   -999.0,9,     13.5,2,   100.29,3,    42.97,3,     3.18,6,  4.3027
  492SSY9310_2,  P02E,   141,  1,     10,     14,2,19931121,2303, 30.0033,-130.7533, 4654,    900.4,   4.0481,  34.4185,2,  34.4165,2,   -999.0,9,     19.1,2,   108.07,3,    43.50,3,     3.25,3,  3.9805
  492SSY9310_2,  P02E,   141,  1,     11,     13,2,19931121,2303, 30.0033,-130.7533, 4654,    997.9,   3.8052,  34.4629,2,  34.4575,2,   -999.0,9,     27.8,2,   112.93,3,    43.50,3,     3.30,3,  3.7313
  492SSY9310_2,  P02E,   141,  1,     12,     12,2,19931121,2303, 30.0033,-130.7533, 4654,   1249.3,   3.2667,  34.5257,2,  34.5241,2,   -999.0,9,     42.6,2,   124.60,3,    42.91,3,     3.09,3,  3.1769
  492SSY9310_2,  P02E,   141,  1,     13,     11,2,19931121,2303, 30.0033,-130.7533, 4654,   1498.6,   2.8023,  34.5623,2,  34.5584,2,   -999.0,9,     53.9,2,   137.24,3,    42.63,3,     3.05,3,  2.6969
  492SSY9310_2,  P02E,   141,  1,     14,     10,2,19931121,2303, 30.0033,-130.7533, 4654,   1748.9,   2.4188,  34.5940,2,  34.5914,2,   -999.0,9,     66.5,2,   146.98,3,    42.09,3,     2.97,3,  2.2974
  492SSY9310_2,  P02E,   141,  1,     15,      9,2,19931121,2303, 30.0033,-130.7533, 4654,   1997.7,   2.1432,  34.6177,2,  34.6144,2,   -999.0,9,     79.6,2,   153.79,3,    41.46,3,     2.91,3,  2.0048
  492SSY9310_2,  P02E,   141,  1,     16,      8,2,19931121,2303, 30.0033,-130.7533, 4654,   2250.0,   1.9333,  34.6335,2,  34.6331,2,   -999.0,9,     90.5,2,   160.60,3,    40.33,3,     2.85,6,  1.7765
  492SSY9310_2,  P02E,   141,  1,     17,      7,2,19931121,2303, 30.0033,-130.7533, 4654,   2497.8,   1.7743,  34.6457,2,  34.6421,2,   -999.0,9,    100.9,2,   163.51,3,    40.26,3,     2.81,3,  1.5984
  492SSY9310_2,  P02E,   141,  1,     18,      6,2,19931121,2303, 30.0033,-130.7533, 4654,   2999.2,   1.5740,  34.6647,2,  34.6641,2,   -999.0,9,    118.7,2,   169.36,3,    39.32,3,     2.72,3,  1.3557
  492SSY9310_2,  P02E,   141,  1,     19,      5,2,19931121,2303, 30.0033,-130.7533, 4654,   3499.6,   1.4954,  34.6760,2,  34.6728,2,   -999.0,9,    133.1,2,   163.52,3,    38.74,3,     2.65,3,  1.2296
  492SSY9310_2,  P02E,   141,  1,     20,      4,2,19931121,2303, 30.0033,-130.7533, 4654,   3998.2,   1.4959,  34.6818,2,  34.6785,2,   -999.0,9,    140.0,2,   163.53,3,    37.22,3,     2.56,3,  1.1775
  492SSY9310_2,  P02E,   141,  1,     21,      3,2,19931121,2303, 30.0033,-130.7533, 4654,   4000.0,   1.4958,  34.6816,3,  34.5902,3,   -999.0,9,    100.0,4,  -999.00,9,    35.75,3,  -999.00,9,  1.1772
  492SSY9310_2,  P02E,   141,  1,     23,      1,2,19931121,2303, 30.0033,-130.7533, 4654,   4500.9,   1.5388,  34.6831,2,  34.6844,2,   -999.0,9,    144.8,2,   152.83,3,    36.93,3,     2.53,3,  1.1628
  492SSY9310_2,  P02E,   141,  1,     22,      2,2,19931121,2303, 30.0033,-130.7533, 4654,   4505.4,   1.5391,  34.6827,2,  34.6822,2,   -999.0,9,    144.4,2,   152.84,3,    37.04,3,     2.52,3,  1.1626
  492SSY9310_2,  P02E,   142,  1,      1,     23,2,19931122,0504, 29.9983,-129.8333, 4931,     50.2,  19.8935,  34.4383,2,  34.4363,2,   -999.0,9,    229.3,2,     0.97,3,     0.00,3,     0.15,3, 19.8843
  492SSY9310_2,  P02E,   142,  1,      2,     22,2,19931122,0504, 29.9983,-129.8333, 4931,    100.4,  16.6695,  33.9209,2,  33.9171,2,   -999.0,9,    238.1,2,     1.95,3,     0.01,3,     0.19,3, 16.6533
  492SSY9310_2,  P02E,   142,  1,      3,     21,2,19931122,0504, 29.9983,-129.8333, 4931,    197.3,  11.8761,  33.8420,2,  33.8651,2,   -999.0,9,    211.7,2,     7.80,3,     7.98,3,     0.69,3, 11.8510
  492SSY9310_2,  P02E,   142,  1,      4,     20,2,19931122,0504, 29.9983,-129.8333, 4931,    297.9,   8.1891,  33.9477,2,  33.9457,2,   -999.0,9,    176.8,2,    27.27,3,    22.66,3,     1.56,3,  8.1589
  492SSY9310_2,  P02E,   142,  1,      5,     19,2,19931122,0504, 29.9983,-129.8333, 4931,    397.9,   6.8094,  34.0130,2,  34.0190,2,   -999.0,9,    106.2,2,    48.70,3,    31.74,3,     2.21,3,  6.7728
  492SSY9310_2,  P02E,   142,  1,      6,     18,2,19931122,0504, 29.9983,-129.8333, 4931,    497.0,   5.6499,  34.0601,2,  34.0623,2,   -999.0,9,     60.9,2,    69.14,3,    37.80,3,     2.70,3,  5.6083
  492SSY9310_2,  P02E,   142,  1,      7,     17,2,19931122,0504, 29.9983,-129.8333, 4931,    600.4,   4.9521,  34.1609,2,  34.1722,2,   -999.0,9,     28.7,2,    87.63,3,    41.05,3,     3.00,3,  4.9044
  492SSY9310_2,  P02E,   142,  1,      8,     16,2,19931122,0504, 29.9983,-129.8333, 4931,    699.9,   4.6633,  34.2752,2,  34.2864,2,   -999.0,9,     15.7,2,    99.30,3,    41.44,3,     3.13,3,  4.6086
  492SSY9310_2,  P02E,   142,  1,      9,     15,2,19931122,0504, 29.9983,-129.8333, 4931,    800.7,   4.3611,  34.3560,2,  34.3641,2,   -999.0,9,     14.8,2,   108.07,3,    41.98,3,     3.15,3,  4.2997
  492SSY9310_2,  P02E,   142,  1,     10,     14,2,19931122,0504, 29.9983,-129.8333, 4931,    899.5,   4.1232,  34.4174,2,  34.4277,3,   -999.0,9,     20.9,2,   113.91,3,    42.50,3,     3.18,6,  4.0552
  492SSY9310_2,  P02E,   142,  1,     11,     13,2,19931122,0504, 29.9983,-129.8333, 4931,    998.2,   3.9021,  34.4510,2,  34.4610,2,   -999.0,9,     27.0,2,   120.72,3,    42.69,3,     3.22,3,  3.8274
  492SSY9310_2,  P02E,   142,  1,     12,     12,2,19931122,0504, 29.9983,-129.8333, 4931,   1249.4,   3.2881,  34.5206,2,  34.5219,2,   -999.0,9,     40.5,2,   126.54,3,    42.09,3,     3.05,3,  3.1981
  492SSY9310_2,  P02E,   142,  1,     13,     11,2,19931122,0504, 29.9983,-129.8333, 4931,   1499.6,   2.8558,  34.5578,2,  34.5588,2,   -999.0,9,     53.5,2,   135.30,3,    41.81,3,     3.02,3,  2.7497
  492SSY9310_2,  P02E,   142,  1,     14,     10,2,19931122,0504, 29.9983,-129.8333, 4931,   1750.5,   2.4356,  34.5924,2,  34.5930,2,   -999.0,9,     67.0,2,   144.06,3,    41.53,3,     2.92,3,  2.3139
  492SSY9310_2,  P02E,   142,  1,     15,      9,2,19931122,0504, 29.9983,-129.8333, 4931,   2001.7,   2.1476,  34.6170,2,  34.6158,2,   -999.0,9,     79.6,2,   150.87,3,    40.87,3,     2.88,3,  2.0088
  492SSY9310_2,  P02E,   142,  1,     16,      8,2,19931122,0504, 29.9983,-129.8333, 4931,   2250.2,   1.9539,  34.6307,3,  34.6083,3,   -999.0,9,     82.6,4,  -999.00,9,    38.92,3,  -999.00,9,  1.7968
  492SSY9310_2,  P02E,   142,  1,     17,      7,2,19931122,0504, 29.9983,-129.8333, 4931,   2499.1,   1.8037,  34.6436,2,  34.6370,2,   -999.0,9,     99.1,2,   153.78,3,    39.70,3,     2.77,6,  1.6271
  492SSY9310_2,  P02E,   142,  1,     18,      6,2,19931122,0504, 29.9983,-129.8333, 4931,   3001.3,   1.5875,  34.6617,2,  34.6624,2,   -999.0,9,    118.3,2,   162.55,3,    38.92,3,     2.67,3,  1.3687
  492SSY9310_2,  P02E,   142,  1,     19,      5,2,19931122,0504, 29.9983,-129.8333, 4931,   3501.1,   1.4961,  34.6745,2,  34.6769,2,   -999.0,9,    134.8,2,   160.60,3,    38.11,3,     2.59,3,  1.2301
  492SSY9310_2,  P02E,   142,  1,     20,      4,2,19931122,0504, 29.9983,-129.8333, 4931,   4001.5,   1.4995,  34.6800,2,  34.6751,2,   -999.0,9,    137.8,2,   156.72,3,    36.89,3,     2.58,3,  1.1807
  492SSY9310_2,  P02E,   142,  1,     21,      3,2,19931122,0504, 29.9983,-129.8333, 4931,   4497.4,   1.5418,  34.6818,2,  34.6771,2,   -999.0,9,    140.4,2,   154.77,3,    36.75,3,     2.59,3,  1.1661
  492SSY9310_2,  P02E,   142,  1,     23,      1,2,19931122,0504, 29.9983,-129.8333, 4931,   5000.3,   1.6015,  34.6822,2,  34.6838,2,   -999.0,9,    145.7,2,   153.81,3,    36.46,3,     2.57,3,  1.1641
  492SSY9310_2,  P02E,   142,  1,     22,      2,2,19931122,0504, 29.9983,-129.8333, 4931,   5003.4,   1.6016,  34.6807,2,  34.6848,2,   -999.0,9,    144.4,2,   154.79,3,    36.63,3,     2.54,3,  1.1639
  492SSY9310_2,  P02E,   143,  1,      1,     23,2,19931122,1138, 29.9917,-128.9117, 4705,     50.2,  18.9170,  33.6335,2,  33.6377,2,   -999.0,9,    234.2,2,     4.88,3,     0.00,3,     0.19,3, 18.9081
  492SSY9310_2,  P02E,   143,  1,      2,     22,2,19931122,1138, 29.9917,-128.9117, 4705,     98.8,  16.2660,  33.5296,2,  33.5278,2,   -999.0,9,    243.8,2,     8.77,3,     0.01,3,     0.25,3, 16.2504
  492SSY9310_2,  P02E,   143,  1,      3,     21,2,19931122,1138, 29.9917,-128.9117, 4705,    199.0,  10.7293,  33.6134,2,  33.5818,3,   -999.0,9,    203.9,2,    21.44,3,    11.51,3,     1.00,3, 10.7056
  492SSY9310_2,  P02E,   143,  1,      4,     20,2,19931122,1138, 29.9917,-128.9117, 4705,    299.7,   8.0944,  33.9472,2,  33.9463,2,   -999.0,9,    172.4,2,    27.27,3,    23.19,3,     1.60,3,  8.0642
  492SSY9310_2,  P02E,   143,  1,      5,     19,2,19931122,1138, 29.9917,-128.9117, 4705,    399.4,   6.6524,  34.0164,2,  34.0147,2,   -999.0,9,    104.9,2,    47.72,3,    32.59,3,     2.27,3,  6.6162
  492SSY9310_2,  P02E,   143,  1,      6,     18,2,19931122,1138, 29.9917,-128.9117, 4705,    499.3,   5.6632,  34.0906,2,  34.0887,2,   -999.0,9,     52.7,2,    67.19,3,    38.60,3,     2.80,3,  5.6213
  492SSY9310_2,  P02E,   143,  1,      7,     17,2,19931122,1138, 29.9917,-128.9117, 4705,    599.5,   5.0341,  34.1979,2,  34.1977,2,   -999.0,9,     24.8,2,    83.73,3,    41.52,3,     3.13,3,  4.9861
  492SSY9310_2,  P02E,   143,  1,      8,     16,2,19931122,1138, 29.9917,-128.9117, 4705,    699.8,   4.7161,  34.2981,2,  34.2970,2,   -999.0,9,     14.8,2,    93.46,3,    42.22,3,     3.27,3,  4.6611
  492SSY9310_2,  P02E,   143,  1,      9,     15,2,19931122,1138, 29.9917,-128.9117, 4705,    799.1,   4.4182,  34.3703,2,  34.3621,2,   -999.0,9,     17.4,2,   100.29,3,    42.66,3,     3.21,3,  4.3566
  492SSY9310_2,  P02E,   143,  1,     10,     14,2,19931122,1138, 29.9917,-128.9117, 4705,    899.3,   4.1259,  34.4203,2,  34.4194,2,   -999.0,9,     20.4,2,   108.07,3,    42.97,3,     3.61,6,  4.0579
  492SSY9310_2,  P02E,   143,  1,     11,     13,2,19931122,1138, 29.9917,-128.9117, 4705,    999.3,   3.8743,  34.4587,2,  34.4583,2,   -999.0,9,     27.8,2,   112.93,3,    42.97,3,     3.13,3,  3.7998
  492SSY9310_2,  P02E,   143,  1,     12,     12,2,19931122,1138, 29.9917,-128.9117, 4705,   1247.9,   3.2603,  34.5244,2,  34.5243,2,   -999.0,9,     43.1,2,   127.52,3,    42.72,3,     3.06,3,  3.1706
  492SSY9310_2,  P02E,   143,  1,     13,     11,2,19931122,1138, 29.9917,-128.9117, 4705,   1497.9,   2.7984,  34.5573,2,  34.5569,2,   -999.0,9,     51.3,2,   139.19,3,    42.47,3,     3.08,3,  2.6931
  492SSY9310_2,  P02E,   143,  1,     14,     10,2,19931122,1138, 29.9917,-128.9117, 4705,   1748.5,   2.4599,  34.5852,2,  34.5867,2,   -999.0,9,     63.5,2,   148.93,3,    42.00,3,     2.96,3,  2.3380
  492SSY9310_2,  P02E,   143,  1,     15,      9,2,19931122,1138, 29.9917,-128.9117, 4705,   1999.1,   2.1663,  34.6134,2,  34.6081,2,   -999.0,9,     73.9,2,   154.76,3,    41.43,3,     2.92,3,  2.0274
  492SSY9310_2,  P02E,   143,  1,     16,      8,2,19931122,1138, 29.9917,-128.9117, 4705,   2248.5,   1.9635,  34.6321,2,  34.6327,2,   -999.0,9,     90.5,2,   161.57,3,    40.44,3,     2.85,3,  1.8064
  492SSY9310_2,  P02E,   143,  1,     17,      7,2,19931122,1138, 29.9917,-128.9117, 4705,   2499.7,   1.7991,  34.6437,2,  34.6382,2,   -999.0,9,     97.4,2,   160.59,3,    40.02,3,     2.82,6,  1.6226
  492SSY9310_2,  P02E,   143,  1,     18,      6,2,19931122,1138, 29.9917,-128.9117, 4705,   2999.4,   1.5938,  34.6616,2,  34.6633,2,   -999.0,9,    117.8,2,   173.26,3,    39.29,3,     2.88,3,  1.3751
  492SSY9310_2,  P02E,   143,  1,     19,      5,2,19931122,1138, 29.9917,-128.9117, 4705,   3500.0,   1.5087,  34.6738,2,  34.6739,2,   -999.0,9,    130.9,2,   166.44,3,    38.65,3,     2.78,3,  1.2425
  492SSY9310_2,  P02E,   143,  1,     21,      3,2,19931122,1138, 29.9917,-128.9117, 4705,   3999.6,   1.5027,  34.6800,3,  34.6087,3,   -999.0,9,    119.6,4,  -999.00,9,    37.07,3,  -999.00,9,  1.1840
  492SSY9310_2,  P02E,   143,  1,     20,      4,2,19931122,1138, 29.9917,-128.9117, 4705,   4003.8,   1.5032,  34.6777,2,  34.6814,2,   -999.0,9,    141.3,2,   167.43,3,    37.69,3,     2.53,3,  1.1840
  492SSY9310_2,  P02E,   143,  1,     23,      1,2,19931122,1138, 29.9917,-128.9117, 4705,   4498.2,   1.5448,  34.6829,2,  34.6836,2,   -999.0,9,    143.5,2,   155.75,3,    37.22,3,     2.52,3,  1.1689
  492SSY9310_2,  P02E,   143,  1,     22,      2,2,19931122,1138, 29.9917,-128.9117, 4705,   4501.4,   1.5449,  34.6815,2,  34.6846,2,   -999.0,9,    143.1,2,   158.67,3,    37.22,3,     2.50,3,  1.1687
  492SSY9310_2,  P02E,   144,  1,      1,     23,2,19931122,1614, 29.9983,-128.3317, 4583,     49.5,  19.2580,  33.7954,2,  33.7936,2,   -999.0,9,    230.7,2,     0.97,3,     0.00,3,     0.24,3, 19.2492
  492SSY9310_2,  P02E,   144,  1,      2,     22,2,19931122,1614, 29.9983,-128.3317, 4583,     99.5,  16.0555,  33.4752,2,  33.4746,2,   -999.0,9,    243.3,2,     1.95,3,     0.00,3,     0.24,3, 16.0400
  492SSY9310_2,  P02E,   144,  1,      3,     21,2,19931122,1614, 29.9983,-128.3317, 4583,    199.3,   9.7762,  33.5569,2,  33.5622,2,   -999.0,9,    191.2,2,    17.54,3,    14.98,3,     1.24,3,  9.7538
  492SSY9310_2,  P02E,   144,  1,      4,     20,2,19931122,1614, 29.9983,-128.3317, 4583,    299.6,   7.8164,  33.9826,2,  33.9841,2,   -999.0,9,    143.7,2,    40.91,3,    26.41,3,     1.84,3,  7.7868
  492SSY9310_2,  P02E,   144,  1,      5,     19,2,19931122,1614, 29.9983,-128.3317, 4583,    398.5,   6.5634,  34.0518,2,  34.0558,2,   -999.0,9,     81.0,2,    52.59,3,    34.54,3,     2.44,3,  6.5275
  492SSY9310_2,  P02E,   144,  1,      6,     18,2,19931122,1614, 29.9983,-128.3317, 4583,    500.2,   5.9670,  34.1677,2,  34.1683,2,   -999.0,9,     36.6,2,    67.19,3,    38.69,3,     2.90,3,  5.9237
  492SSY9310_2,  P02E,   144,  1,      7,     17,2,19931122,1614, 29.9983,-128.3317, 4583,    599.1,   5.3781,  34.2398,2,  34.2393,2,   -999.0,9,     20.5,2,    79.84,3,    40.46,3,     3.06,3,  5.3285
  492SSY9310_2,  P02E,   144,  1,      8,     16,2,19931122,1614, 29.9983,-128.3317, 4583,    699.4,   4.9592,  34.3026,2,  34.2989,2,   -999.0,9,     14.4,2,    89.57,3,    41.29,3,     3.14,3,  4.9030
  492SSY9310_2,  P02E,   144,  1,      9,     15,2,19931122,1614, 29.9983,-128.3317, 4583,    798.1,   4.5225,  34.3722,2,  34.3719,2,   -999.0,9,     13.9,2,   100.29,3,    41.98,3,     3.14,3,  4.4604
  492SSY9310_2,  P02E,   144,  1,     10,     14,2,19931122,1614, 29.9983,-128.3317, 4583,    897.7,   4.2564,  34.4279,2,  34.4267,2,   -999.0,9,     19.6,2,   106.12,3,    42.44,3,     3.16,6,  4.1875
  492SSY9310_2,  P02E,   144,  1,     11,     13,2,19931122,1614, 29.9983,-128.3317, 4583,    999.2,   3.9491,  34.4658,2,  34.4642,2,   -999.0,9,     27.0,2,   112.93,3,    42.25,3,     3.15,3,  3.8740
  492SSY9310_2,  P02E,   144,  1,     12,     12,2,19931122,1614, 29.9983,-128.3317, 4583,   1248.9,   3.3861,  34.5212,2,  34.5192,2,   -999.0,9,     37.4,2,   126.55,3,    42.22,3,     3.11,3,  3.2951
  492SSY9310_2,  P02E,   144,  1,     13,     11,2,19931122,1614, 29.9983,-128.3317, 4583,   1498.4,   2.8771,  34.5588,2,  34.5584,2,   -999.0,9,     51.8,2,   138.22,3,    42.22,3,     3.06,3,  2.7709
  492SSY9310_2,  P02E,   144,  1,     14,     10,2,19931122,1614, 29.9983,-128.3317, 4583,   1749.5,   2.5094,  34.5871,2,  34.5871,2,   -999.0,9,     64.4,2,   149.90,3,    41.56,3,     2.91,3,  2.3868
  492SSY9310_2,  P02E,   144,  1,     15,      9,2,19931122,1614, 29.9983,-128.3317, 4583,   1999.0,   2.1732,  34.6143,2,  34.6089,2,   -999.0,9,     74.4,2,   156.71,3,    40.90,3,     2.89,3,  2.0342
  492SSY9310_2,  P02E,   144,  1,     16,      8,2,19931122,1614, 29.9983,-128.3317, 4583,   2249.5,   1.9644,  34.6329,2,  34.6256,3,   -999.0,9,     86.1,2,   154.76,3,    40.03,3,     2.77,3,  1.8072
  492SSY9310_2,  P02E,   144,  1,     17,      7,2,19931122,1614, 29.9983,-128.3317, 4583,   2498.1,   1.8125,  34.6450,2,  34.6405,2,   -999.0,9,     99.1,2,   155.73,3,    40.68,3,     2.75,6,  1.6359
  492SSY9310_2,  P02E,   144,  1,     18,      6,2,19931122,1614, 29.9983,-128.3317, 4583,   2998.9,   1.5978,  34.6630,2,  34.6631,2,   -999.0,9,    117.4,2,   162.55,3,    39.66,3,     2.67,3,  1.3790
  492SSY9310_2,  P02E,   144,  1,     19,      5,2,19931122,1614, 29.9983,-128.3317, 4583,   3497.8,   1.5098,  34.6743,2,  34.6755,2,   -999.0,9,    132.6,2,   160.60,3,    38.81,3,     2.60,3,  1.2438
  492SSY9310_2,  P02E,   144,  1,     21,      3,2,19931122,1614, 29.9983,-128.3317, 4583,   3999.6,   1.5066,  34.6807,3,  34.6419,3,   -999.0,9,    119.6,4,  -999.00,9,    37.43,3,  -999.00,9,  1.1878
  492SSY9310_2,  P02E,   144,  1,     20,      4,2,19931122,1614, 29.9983,-128.3317, 4583,   4002.4,   1.5069,  34.6790,2,  34.6810,2,   -999.0,9,    140.4,2,   158.67,3,    37.58,3,     2.55,3,  1.1878
  492SSY9310_2,  P02E,   144,  1,     23,      1,2,19931122,1614, 29.9983,-128.3317, 4583,   4498.6,   1.5459,  34.6835,2,  34.6822,2,   -999.0,9,    143.5,2,   158.67,3,    37.44,3,     2.55,3,  1.1699
  492SSY9310_2,  P02E,   144,  1,     22,      2,2,19931122,1614, 29.9983,-128.3317, 4583,   4501.6,   1.5457,  34.6833,2,  34.6830,2,   -999.0,9,    143.5,2,   158.67,3,    37.44,3,     2.54,3,  1.1694