BOTTLE,20040202WHPSIOSA
#code : jjward hyd_to_exchange.pl 
#original files copied from HTML directory: Feb. 2, 2004
#original HYD file: p02e2hy.txt   Mon Feb  2 11:16:15 2004
#original SUM file: p02esu.txt   Fri Jul 13 15:29:07 2001
EXPOCODE,SECT_ID,STNNBR,CASTNO,SAMPNO,BTLNBR,BTLNBR_FLAG_W,DATE,TIME,LATITUDE,LONGITUDE,DEPTH,CTDPRS,CTDTMP,CTDSAL,CTDSAL_FLAG_W,SALNTY,SALNTY_FLAG_W,CTDOXY,CTDOXY_FLAG_W,OXYGEN,OXYGEN_FLAG_W,SILCAT,SILCAT_FLAG_W,NO2+NO3,NO2+NO3_FLAG_W,PHSPHT,PHSPHT_FLAG_W,THETA
,,,,,,,,,,,,DBAR,ITS-90,PSS-78,,PSS-78,,UMOL/KG,,UMOL/KG,,UMOL/KG,,UMOL/KG,,UMOL/KG,,DEG C
  492SSY9310_2,  P02E,    97,  1,      1,     23,2,19931110,0030, 30.0050,-163.7533, 5735,     49.5,  20.5443,  35.0369,2,  35.0323,2,   -999.0,9,    238.0,2,     2.92,3,     0.00,3,     0.05,3, 20.5349
  492SSY9310_2,  P02E,    97,  1,      2,     22,2,19931110,0030, 30.0050,-163.7533, 5735,     98.5,  15.7106,  34.6527,2,  34.6362,2,   -999.0,9,    247.9,2,     2.92,3,     1.16,3,     0.21,3, 15.6953
  492SSY9310_2,  P02E,    97,  1,      3,     21,2,19931110,0030, 30.0050,-163.7533, 5735,    197.5,  13.3574,  34.4541,2,  34.4418,2,   -999.0,9,    230.9,2,     6.82,3,     7.24,3,     0.56,3, 13.3299
  492SSY9310_2,  P02E,    97,  1,      4,     20,2,19931110,0030, 30.0050,-163.7533, 5735,    297.9,  11.5457,  34.2921,2,  34.2927,2,   -999.0,9,    223.0,2,    11.69,3,    11.27,3,     0.84,3, 11.5081
  492SSY9310_2,  P02E,    97,  1,      5,     19,2,19931110,0030, 30.0050,-163.7533, 5735,    399.4,   9.7798,  34.1656,2,  34.1677,2,   -999.0,9,    216.9,2,    19.48,3,    15.98,3,     1.17,3,  9.7342
  492SSY9310_2,  P02E,    97,  1,      6,     18,2,19931110,0030, 30.0050,-163.7533, 5735,    498.8,   7.8519,  34.0534,2,  34.0774,4,   -999.0,9,    191.2,2,    29.22,3,    21.14,3,     1.54,3,  7.8018
  492SSY9310_2,  P02E,    97,  1,      7,     17,2,19931110,0030, 30.0050,-163.7533, 5735,    598.3,   6.0211,  34.0048,2,  34.0035,2,   -999.0,9,   -999.0,5,    54.54,3,    30.99,3,     2.26,3,  5.9688
  492SSY9310_2,  P02E,    97,  1,      8,     16,2,19931110,0030, 30.0050,-163.7533, 5735,    697.8,   5.0530,  34.0615,2,  34.0594,2,   -999.0,9,     91.8,2,    75.95,3,    35.95,3,     2.69,3,  4.9967
  492SSY9310_2,  P02E,    97,  1,      9,     15,2,19931110,0030, 30.0050,-163.7533, 5735,    799.9,   4.3727,  34.1563,2,  34.1550,2,   -999.0,9,     42.6,2,    94.46,3,    40.12,3,     2.97,3,  4.3115
  492SSY9310_2,  P02E,    97,  1,     10,     14,2,19931110,0030, 30.0050,-163.7533, 5735,    901.2,   3.8725,  34.2509,2,  34.2499,2,   -999.0,9,     34.4,2,   111.00,3,    42.14,3,     3.18,3,  3.8062
  492SSY9310_2,  P02E,    97,  1,     11,     13,2,19931110,0030, 30.0050,-163.7533, 5735,    998.0,   3.6352,  34.3164,2,  34.3146,2,   -999.0,9,     31.3,2,   119.75,3,    42.65,3,     3.26,6,  3.5629
  492SSY9310_2,  P02E,    97,  1,     12,     12,2,19931110,0030, 30.0050,-163.7533, 5735,   1248.9,   3.0877,  34.4709,2,  34.4679,2,   -999.0,9,     32.2,2,   134.34,3,    41.66,3,     3.17,3,  2.9997
  492SSY9310_2,  P02E,    97,  1,     13,     11,2,19931110,0030, 30.0050,-163.7533, 5735,   1498.9,   2.6707,  34.5426,2,  34.5404,2,   -999.0,9,     70.5,4,   140.16,3,    41.08,3,     2.99,3,  2.5668
  492SSY9310_2,  P02E,    97,  1,     14,     10,2,19931110,0030, 30.0050,-163.7533, 5735,   1749.6,   2.2822,  34.5789,2,  34.5718,3,   -999.0,9,     80.5,2,   151.85,3,    40.96,3,     2.94,3,  2.1625
  492SSY9310_2,  P02E,    97,  1,     15,      9,2,19931110,0030, 30.0050,-163.7533, 5735,   1998.6,   1.9903,  34.6077,2,  34.6040,2,   -999.0,9,     92.6,2,   157.68,3,    40.23,3,     2.87,3,  1.8541
  492SSY9310_2,  P02E,    97,  1,     16,      8,2,19931110,0030, 30.0050,-163.7533, 5735,   2249.4,   1.8283,  34.6274,2,  34.6183,4,   -999.0,9,    101.3,2,   158.65,3,    38.88,3,     2.79,3,  1.6733
  492SSY9310_2,  P02E,    97,  1,     17,      7,2,19931110,0030, 30.0050,-163.7533, 5735,   2498.5,   1.6993,  34.6419,2,  34.6396,2,   -999.0,9,    107.0,2,   163.51,3,    39.03,3,     2.78,3,  1.5247
  492SSY9310_2,  P02E,    97,  1,     18,      6,2,19931110,0030, 30.0050,-163.7533, 5735,   2999.1,   1.5557,  34.6605,2,  34.6553,2,   -999.0,9,    123.9,2,   159.63,3,    38.03,3,     2.69,3,  1.3379
  492SSY9310_2,  P02E,    97,  1,     19,      5,2,19931110,0030, 30.0050,-163.7533, 5735,   3500.2,   1.4881,  34.6731,2,  34.6716,2,   -999.0,9,    153.1,4,   157.68,3,    37.18,3,     2.61,3,  1.2224
  492SSY9310_2,  P02E,    97,  1,     20,      4,2,19931110,0030, 30.0050,-163.7533, 5735,   4000.1,   1.4708,  34.6796,2,  34.6798,2,   -999.0,9,    163.5,4,   153.80,3,    35.26,3,     2.56,6,  1.1529
  492SSY9310_2,  P02E,    97,  1,     21,      3,2,19931110,0030, 30.0050,-163.7533, 5735,   4499.9,   1.4871,  34.6844,3,  34.6174,3,   -999.0,9,    160.0,3,  -999.00,9,    35.40,3,  -999.00,9,  1.1128
  492SSY9310_2,  P02E,    97,  1,     22,      2,2,19931110,0030, 30.0050,-163.7533, 5735,   4999.0,   1.5210,  34.6863,2,  34.6861,2,   -999.0,9,    161.8,2,   147.97,3,    35.11,3,     2.54,3,  1.0865
  492SSY9310_2,  P02E,    97,  1,     23,      1,2,19931110,0030, 30.0050,-163.7533, 5735,   5499.6,   1.5697,  34.6878,2,  34.6879,2,   -999.0,9,    180.0,4,   146.02,3,    35.11,3,     2.49,3,  1.0710
  492SSY9310_2,  P02E,    98,  1,      1,     23,2,19931110,0716, 29.9983,-162.8367, 5772,     99.7,  17.3252,  34.8057,2,  34.8025,2,   -999.0,9,    241.4,2,     3.90,3,     0.06,3,     0.13,3, 17.3086
  492SSY9310_2,  P02E,    98,  1,      2,     22,2,19931110,0716, 29.9983,-162.8367, 5772,    199.8,  14.1316,  34.4856,2,  34.5107,2,   -999.0,9,    213.5,2,     8.77,3,     7.09,3,     0.57,3, 14.1027
  492SSY9310_2,  P02E,    98,  1,      3,     21,2,19931110,0716, 29.9983,-162.8367, 5772,    301.9,  11.7390,  34.2927,2,  34.2938,2,   -999.0,9,    207.3,2,    15.59,3,    12.09,3,     0.91,3, 11.7004
  492SSY9310_2,  P02E,    98,  1,      4,     20,2,19931110,0716, 29.9983,-162.8367, 5772,    398.1,   9.6279,  34.1567,2,  34.1562,2,   -999.0,9,    197.7,2,    22.40,3,    17.43,3,     1.24,3,  9.5829
  492SSY9310_2,  P02E,    98,  1,      5,     19,2,19931110,0716, 29.9983,-162.8367, 5772,    500.3,   7.6211,  34.0451,2,  34.0456,2,   -999.0,9,    177.2,2,    36.04,3,    23.33,3,     1.64,3,  7.5717
  492SSY9310_2,  P02E,    98,  1,      6,     18,2,19931110,0716, 29.9983,-162.8367, 5772,    601.6,   6.1038,  34.0144,2,  34.0249,2,   -999.0,9,    136.3,2,    52.59,3,    29.58,3,     2.10,3,  6.0509
  492SSY9310_2,  P02E,    98,  1,      7,     17,2,19931110,0716, 29.9983,-162.8367, 5772,    698.0,   5.0924,  34.0577,2,  34.0605,2,   -999.0,9,     89.2,2,    75.95,3,    36.29,3,     2.58,3,  5.0358
  492SSY9310_2,  P02E,    98,  1,      8,     16,2,19931110,0716, 29.9983,-162.8367, 5772,    801.3,   4.3389,  34.1576,2,  34.1534,2,   -999.0,9,     50.0,2,    94.46,3,    39.63,3,     2.88,3,  4.2778
  492SSY9310_2,  P02E,    98,  1,      9,     15,2,19931110,0716, 29.9983,-162.8367, 5772,    900.3,   4.0081,  34.2605,2,  34.2617,2,   -999.0,9,     27.4,2,   107.11,3,    41.38,3,     3.03,3,  3.9410
  492SSY9310_2,  P02E,    98,  1,     10,     14,2,19931110,0716, 29.9983,-162.8367, 5772,    998.9,   3.6405,  34.3353,2,  34.3335,2,   -999.0,9,     29.1,2,   118.78,3,    41.80,3,     3.12,6,  3.5680
  492SSY9310_2,  P02E,    98,  1,     11,     13,2,19931110,0716, 29.9983,-162.8367, 5772,   1251.1,   3.1842,  34.4800,2,  34.4799,2,   -999.0,9,     50.9,4,   129.47,3,    41.16,3,     3.03,3,  3.0951
  492SSY9310_2,  P02E,    98,  1,     12,     12,2,19931110,0716, 29.9983,-162.8367, 5772,   1501.6,   2.6586,  34.5400,2,  34.5394,2,   -999.0,9,     50.5,2,   144.06,3,    41.17,3,     3.01,3,  2.5546
  492SSY9310_2,  P02E,    98,  1,     13,     11,2,19931110,0716, 29.9983,-162.8367, 5772,   1747.6,   2.2953,  34.5798,2,  34.5753,2,   -999.0,9,     76.5,2,   148.93,3,    40.50,3,     2.92,3,  2.1757
  492SSY9310_2,  P02E,    98,  1,     14,     10,2,19931110,0716, 29.9983,-162.8367, 5772,   1998.1,   2.0232,  34.6070,2,  34.6042,2,   -999.0,9,     88.7,3,   156.71,3,    39.86,3,     2.86,3,  1.8866
  492SSY9310_2,  P02E,    98,  1,     15,      9,2,19931110,0716, 29.9983,-162.8367, 5772,   2247.8,   1.8266,  34.6271,2,  34.6252,2,   -999.0,9,     99.6,3,   159.62,3,    39.47,3,     2.82,3,  1.6718
  492SSY9310_2,  P02E,    98,  1,     16,      8,2,19931110,0716, 29.9983,-162.8367, 5772,   2499.7,   1.7147,  34.6400,2,  34.6368,2,   -999.0,9,   -999.0,5,   158.64,3,    38.26,3,     2.76,3,  1.5398
  492SSY9310_2,  P02E,    98,  1,     18,      6,2,19931110,0716, 29.9983,-162.8367, 5772,   3499.4,   1.4918,  34.6727,2,  34.6708,2,   -999.0,9,    134.8,2,   155.73,3,    36.88,3,     2.55,3,  1.2261
  492SSY9310_2,  P02E,    98,  1,     19,      5,2,19931110,0716, 29.9983,-162.8367, 5772,   3997.5,   1.4679,  34.6801,2,  34.6798,2,   -999.0,9,    155.7,4,   152.83,3,    36.13,3,     2.48,3,  1.1504
  492SSY9310_2,  P02E,    98,  1,     20,      4,2,19931110,0716, 29.9983,-162.8367, 5772,   4499.4,   1.4842,  34.6841,2,  34.6844,2,   -999.0,9,    162.6,4,   150.88,3,    34.69,3,     2.45,3,  1.1101
  492SSY9310_2,  P02E,    98,  1,     21,      3,2,19931110,0716, 29.9983,-162.8367, 5772,   5000.6,   1.5254,  34.6863,2,  34.6810,3,   -999.0,9,    161.8,2,   146.03,3,    35.20,3,     2.43,3,  1.0906
  492SSY9310_2,  P02E,    98,  1,     23,      1,2,19931110,0716, 29.9983,-162.8367, 5772,   5499.4,   1.5723,  34.6872,2,  34.6893,2,   -999.0,9,    169.6,4,   143.10,3,    34.93,3,     2.41,6,  1.0735
  492SSY9310_2,  P02E,    98,  1,     22,      2,2,19931110,0716, 29.9983,-162.8367, 5772,   5503.4,   1.5722,  34.6862,2,  34.6855,2,   -999.0,9,    164.4,2,   145.05,3,    34.58,3,     2.40,3,  1.0729
  492SSY9310_2,  P02E,    99,  1,      1,     23,2,19931110,1415, 30.0000,-161.9167, 5704,     49.1,  21.3932,  35.3131,2,  35.3112,2,   -999.0,9,    224.0,2,     1.95,3,     0.00,3,     0.08,3, 21.3836
  492SSY9310_2,  P02E,    99,  1,      2,     22,2,19931110,1415, 30.0000,-161.9167, 5704,     99.9,  16.8060,  34.7999,2,  34.7891,2,   -999.0,9,    223.5,2,     3.90,3,     1.50,3,     0.19,3, 16.7897
  492SSY9310_2,  P02E,    99,  1,      3,     21,2,19931110,1415, 30.0000,-161.9167, 5704,    200.4,  13.8277,  34.4834,2,  34.4811,2,   -999.0,9,    217.4,2,     8.77,3,     7.24,3,     0.54,3, 13.7992
  492SSY9310_2,  P02E,    99,  1,      4,     20,2,19931110,1415, 30.0000,-161.9167, 5704,    299.3,  11.5798,  34.3032,2,  34.2938,2,   -999.0,9,    216.0,2,    13.64,3,    11.64,3,     0.84,3, 11.5419
  492SSY9310_2,  P02E,    99,  1,      5,     19,2,19931110,1415, 30.0000,-161.9167, 5704,    399.7,   9.7647,  34.1524,2,  34.1711,3,   -999.0,9,    208.6,2,    21.43,3,    16.47,3,     1.15,3,  9.7191
  492SSY9310_2,  P02E,    99,  1,      6,     18,2,19931110,1415, 30.0000,-161.9167, 5704,    498.8,   7.7737,  34.0506,2,  34.0429,2,   -999.0,9,    179.0,2,    36.04,3,    23.25,3,     1.64,3,  7.7240
  492SSY9310_2,  P02E,    99,  1,      7,     17,2,19931110,1415, 30.0000,-161.9167, 5704,    601.2,   6.0841,  34.0120,2,  34.0104,2,   -999.0,9,    128.0,2,    58.43,3,    31.02,3,     2.20,3,  6.0314
  492SSY9310_2,  P02E,    99,  1,      8,     16,2,19931110,1415, 30.0000,-161.9167, 5704,    700.7,   5.0316,  34.0554,2,  34.0546,2,   -999.0,9,     81.8,2,    79.85,3,    36.18,3,     2.63,3,  4.9751
  492SSY9310_2,  P02E,    99,  1,      9,     15,2,19931110,1415, 30.0000,-161.9167, 5704,    799.0,   4.2551,  34.1414,3,  34.1138,3,   -999.0,9,     90.5,3,  -999.00,9,    33.90,3,  -999.00,9,  4.1948
  492SSY9310_2,  P02E,    99,  1,     10,     14,2,19931110,1415, 30.0000,-161.9167, 5704,    899.4,   3.9152,  34.2515,2,  34.2373,4,   -999.0,9,     27.8,2,   114.90,3,    41.71,3,     3.10,3,  3.8488
  492SSY9310_2,  P02E,    99,  1,     11,     13,2,19931110,1415, 30.0000,-161.9167, 5704,   1000.5,   3.6716,  34.3475,2,  34.3419,2,   -999.0,9,     27.0,2,   124.62,3,    42.13,3,     3.14,6,  3.5987
  492SSY9310_2,  P02E,    99,  1,     12,     12,2,19931110,1415, 30.0000,-161.9167, 5704,   1249.6,   3.1167,  34.4730,2,  34.4646,2,   -999.0,9,     30.4,2,   137.26,3,    41.91,3,     3.12,3,  3.0283
  492SSY9310_2,  P02E,    99,  1,     13,     11,2,19931110,1415, 30.0000,-161.9167, 5704,   1497.7,   2.6413,  34.5427,2,  34.5356,2,   -999.0,9,     53.9,2,   146.98,3,    41.78,3,     3.06,3,  2.5378
  492SSY9310_2,  P02E,    99,  1,     14,     10,2,19931110,1415, 30.0000,-161.9167, 5704,   1749.5,   2.2714,  34.5822,2,  34.5767,2,   -999.0,9,     70.5,2,   153.79,3,    40.74,3,     2.96,3,  2.1519
  492SSY9310_2,  P02E,    99,  1,     15,      9,2,19931110,1415, 30.0000,-161.9167, 5704,   1999.4,   2.0233,  34.6082,2,  34.5950,4,   -999.0,9,     83.5,2,   156.71,3,    39.47,3,     2.89,3,  1.8866
  492SSY9310_2,  P02E,    99,  1,     16,      8,2,19931110,1415, 30.0000,-161.9167, 5704,   2249.2,   1.8390,  34.6273,2,  34.6166,4,   -999.0,9,     93.9,2,   160.60,3,    39.05,3,     2.82,3,  1.6838
  492SSY9310_2,  P02E,    99,  1,     17,      7,2,19931110,1415, 30.0000,-161.9167, 5704,   2499.2,   1.7149,  34.6409,2,  34.6331,4,   -999.0,9,    119.1,4,   161.57,3,    39.09,3,     2.78,3,  1.5400
  492SSY9310_2,  P02E,    99,  1,     18,      6,2,19931110,1415, 30.0000,-161.9167, 5704,   2998.9,   1.5708,  34.6597,2,  34.6590,2,   -999.0,9,    122.2,2,   161.58,3,    37.85,3,     2.69,3,  1.3527
  492SSY9310_2,  P02E,    99,  1,     20,      4,2,19931110,1415, 30.0000,-161.9167, 5704,   4000.4,   1.4757,  34.6800,2,  34.6724,4,   -999.0,9,    150.0,2,   153.80,3,    35.99,3,     2.51,3,  1.1577
  492SSY9310_2,  P02E,    99,  1,     21,      3,2,19931110,1415, 30.0000,-161.9167, 5704,   4499.0,   1.4896,  34.6843,2,  34.6714,4,   -999.0,9,    156.1,2,   150.88,3,    35.26,3,     2.47,6,  1.1153
  492SSY9310_2,  P02E,    99,  1,     22,      2,2,19931110,1415, 30.0000,-161.9167, 5704,   5000.5,   1.5193,  34.6873,2,  34.6850,2,   -999.0,9,    160.9,2,   147.00,3,    34.58,3,     2.43,3,  1.0847
  492SSY9310_2,  P02E,   100,  1,      1,     23,2,19931110,2100, 30.0000,-161.0017, 5425,     49.2,  21.4877,  35.2648,2,  35.2635,2,   -999.0,9,    223.6,2,     2.92,3,     0.00,3,     0.03,3, 21.4782
  492SSY9310_2,  P02E,   100,  1,      2,     22,2,19931110,2100, 30.0000,-161.0017, 5425,    100.9,  17.0412,  34.7714,2,  34.7769,2,   -999.0,9,    237.5,2,     2.92,3,     0.00,3,     0.11,3, 17.0246
  492SSY9310_2,  P02E,   100,  1,      3,     21,2,19931110,2100, 30.0000,-161.0017, 5425,    199.3,  13.7025,  34.4435,2,  34.4442,2,   -999.0,9,    221.7,2,     4.87,3,     6.50,3,     0.52,3, 13.6743
  492SSY9310_2,  P02E,   100,  1,      4,     20,2,19931110,2100, 30.0000,-161.0017, 5425,    301.4,  11.5410,  34.2628,2,  34.2697,2,   -999.0,9,    215.6,2,     7.79,4,    11.60,3,     0.51,3, 11.5029
  492SSY9310_2,  P02E,   100,  1,      5,     19,2,19931110,2100, 30.0000,-161.0017, 5425,    400.4,   9.6689,  34.1468,2,  34.1475,2,   -999.0,9,    206.4,2,    12.66,3,    16.57,3,     1.17,3,  9.6235
  492SSY9310_2,  P02E,   100,  1,      6,     18,2,19931110,2100, 30.0000,-161.0017, 5425,    501.3,   7.7845,  34.0371,2,  34.0423,2,   -999.0,9,    178.6,2,    20.45,3,    23.09,3,     1.63,3,  7.7345
  492SSY9310_2,  P02E,   100,  1,      7,     17,2,19931110,2100, 30.0000,-161.0017, 5425,    601.3,   5.8359,  33.9986,2,  34.0017,2,   -999.0,9,    117.5,2,    35.06,3,    32.47,3,     2.31,3,  5.7843
  492SSY9310_2,  P02E,   100,  1,      8,     16,2,19931110,2100, 30.0000,-161.0017, 5425,    700.9,   4.7285,  34.0586,2,  34.0584,2,   -999.0,9,     63.1,2,    60.37,3,    38.80,3,     2.79,3,  4.6736
  492SSY9310_2,  P02E,   100,  1,      9,     15,2,19931110,2100, 30.0000,-161.0017, 5425,    801.0,   4.2529,  34.1499,2,  34.1511,2,   -999.0,9,     30.9,2,    84.72,3,    41.26,3,     3.02,3,  4.1924
  492SSY9310_2,  P02E,   100,  1,     10,     14,2,19931110,2100, 30.0000,-161.0017, 5425,    901.4,   3.8880,  34.2586,2,  34.2589,2,   -999.0,9,     20.9,2,   100.29,3,    42.75,3,     3.18,3,  3.8216
  492SSY9310_2,  P02E,   100,  1,     11,     13,2,19931110,2100, 30.0000,-161.0017, 5425,   1000.7,   3.6037,  34.3403,2,  34.3405,2,   -999.0,9,     20.0,2,   115.86,3,    43.03,3,     3.14,6,  3.5314
  492SSY9310_2,  P02E,   100,  1,     12,     12,2,19931110,2100, 30.0000,-161.0017, 5425,   1250.2,   3.0738,  34.4844,2,  34.4828,2,   -999.0,9,     34.8,2,   128.49,3,    42.74,3,     3.09,3,  2.9858
  492SSY9310_2,  P02E,   100,  1,     13,     11,2,19931110,2100, 30.0000,-161.0017, 5425,   1499.9,   2.6610,  34.5426,2,  34.5396,2,   -999.0,9,     54.8,2,   137.24,3,    41.72,3,     3.00,3,  2.5571
  492SSY9310_2,  P02E,   100,  1,     14,     10,2,19931110,2100, 30.0000,-161.0017, 5425,   1750.4,   2.2722,  34.5839,2,  34.5826,2,   -999.0,9,     73.9,2,   145.03,3,    40.84,3,     2.90,3,  2.1526
  492SSY9310_2,  P02E,   100,  1,     15,      9,2,19931110,2100, 30.0000,-161.0017, 5425,   2001.2,   2.0211,  34.6095,2,  34.6105,2,   -999.0,9,     86.1,2,   152.81,3,    39.80,3,     2.85,3,  1.8843
  492SSY9310_2,  P02E,   100,  1,     16,      8,2,19931110,2100, 30.0000,-161.0017, 5425,   2250.1,   1.8555,  34.6266,2,  34.6256,2,   -999.0,9,     93.9,2,   158.65,3,    39.50,3,     2.82,3,  1.7000
  492SSY9310_2,  P02E,   100,  1,     17,      7,2,19931110,2100, 30.0000,-161.0017, 5425,   2500.0,   1.7165,  34.6421,2,  34.6401,2,   -999.0,9,    106.1,2,   163.51,3,    38.94,3,     2.75,3,  1.5415
  492SSY9310_2,  P02E,   100,  1,     18,      6,2,19931110,2100, 30.0000,-161.0017, 5425,   3001.0,   1.5592,  34.6615,2,  34.6629,2,   -999.0,9,    124.4,2,   161.57,3,    38.05,3,     2.70,3,  1.3411
  492SSY9310_2,  P02E,   100,  1,     19,      5,2,19931110,2100, 30.0000,-161.0017, 5425,   3500.0,   1.4910,  34.6732,2,  34.6732,2,   -999.0,9,    139.1,2,   163.52,3,    37.21,3,     2.57,3,  1.2253
  492SSY9310_2,  P02E,   100,  1,     20,      4,2,19931110,2100, 30.0000,-161.0017, 5425,   3999.7,   1.4710,  34.6807,2,  34.6802,2,   -999.0,9,    151.8,2,   159.64,3,    35.59,3,     2.51,3,  1.1532
  492SSY9310_2,  P02E,   100,  1,     21,      3,2,19931110,2100, 30.0000,-161.0017, 5425,   4500.0,   1.4876,  34.6848,2,  34.6787,4,   -999.0,9,    153.9,2,   155.75,3,    35.45,3,     2.47,3,  1.1133
  492SSY9310_2,  P02E,   100,  1,     22,      2,2,19931110,2100, 30.0000,-161.0017, 5425,   4999.5,   1.5186,  34.6873,2,  34.6881,2,   -999.0,9,    160.4,2,   147.00,3,    35.03,3,     2.43,3,  1.0841
  492SSY9310_2,  P02E,   100,  1,     23,      1,2,19931110,2100, 30.0000,-161.0017, 5425,   5502.3,   1.5737,  34.6887,2,  34.6918,2,   -999.0,9,    163.1,2,   145.05,3,    35.34,3,     2.43,6,  1.0745