BOTTLE,20040202WHPSIOSA
EXPOCODE,SECT_ID,STNNBR,CASTNO,SAMPNO,BTLNBR,BTLNBR_FLAG_W,DATE,TIME,LATITUDE,LONGITUDE,DEPTH,CTDPRS,CTDTMP,CTDSAL,CTDSAL_FLAG_W,SALNTY,SALNTY_FLAG_W,CTDOXY,CTDOXY_FLAG_W,OXYGEN,OXYGEN_FLAG_W,SILCAT,SILCAT_FLAG_W,NO2+NO3,NO2+NO3_FLAG_W,PHSPHT,PHSPHT_FLAG_W,THETA
,,,,,,,,,,,,DBAR,ITS-90,PSS-78,,PSS-78,,UMOL/KG,,UMOL/KG,,UMOL/KG,,UMOL/KG,,UMOL/KG,,DEG C
  492SSY9310_2,  P02E,   153,  1,      1,     23,2,19931124,1144, 29.9983,-123.0867, 4133,     49.8,  18.6259,  33.3321,2,  33.3363,2,   -999.0,9,    236.4,2,     1.95,3,     0.00,3,     0.25,3, 18.6173
  492SSY9310_2,  P02E,   153,  1,      2,     22,2,19931124,1144, 29.9983,-123.0867, 4133,     99.7,  15.1955,  33.4006,2,  33.3965,2,   -999.0,9,    244.2,2,     2.93,3,     0.06,3,     0.32,3, 15.1805
  492SSY9310_2,  P02E,   153,  1,      3,     21,2,19931124,1144, 29.9983,-123.0867, 4133,    199.3,   9.2834,  33.5923,2,  33.5892,2,   -999.0,9,    183.8,2,    19.49,3,    16.92,3,     1.41,3,  9.2618
  492SSY9310_2,  P02E,   153,  1,      4,     20,2,19931124,1144, 29.9983,-123.0867, 4133,    300.2,   7.7827,  34.0234,2,  34.0206,2,   -999.0,9,    119.7,2,    39.93,3,    27.78,3,     2.06,3,  7.7532
  492SSY9310_2,  P02E,   153,  1,      5,     19,2,19931124,1144, 29.9983,-123.0867, 4133,    399.0,   6.9248,  34.1399,2,  34.1297,2,   -999.0,9,     60.1,2,    55.51,3,    33.86,3,     2.60,3,  6.8878
  492SSY9310_2,  P02E,   153,  1,      6,     18,2,19931124,1144, 29.9983,-123.0867, 4133,    498.9,   6.1224,  34.2052,2,  34.1989,2,   -999.0,9,     30.5,2,    70.11,3,    37.68,3,     2.92,3,  6.0787
  492SSY9310_2,  P02E,   153,  1,      7,     17,2,19931124,1144, 29.9983,-123.0867, 4133,    599.5,   5.4738,  34.2680,2,  34.2570,2,   -999.0,9,     19.2,2,    82.76,3,    39.55,3,     3.08,3,  5.4237
  492SSY9310_2,  P02E,   153,  1,      8,     16,2,19931124,1144, 29.9983,-123.0867, 4133,    700.6,   5.1831,  34.3656,2,  34.3490,4,   -999.0,9,     12.6,2,    88.59,3,    39.57,3,     3.11,3,  5.1255
  492SSY9310_2,  P02E,   153,  1,      9,     15,2,19931124,1144, 29.9983,-123.0867, 4133,    799.6,   4.7330,  34.3946,2,  34.3794,4,   -999.0,9,     14.4,2,   100.29,3,    41.14,3,     3.16,3,  4.6694
  492SSY9310_2,  P02E,   153,  1,     10,     14,2,19931124,1144, 29.9983,-123.0867, 4133,    899.9,   4.3395,  34.4355,2,  34.4053,4,   -999.0,9,     18.7,2,   108.07,3,    41.23,3,     3.15,3,  4.2699
  492SSY9310_2,  P02E,   153,  1,     11,     13,2,19931124,1144, 29.9983,-123.0867, 4133,    999.0,   4.0600,  34.4764,2,  34.4665,2,   -999.0,9,     24.4,2,   116.82,3,    41.56,3,     3.17,6,  3.9841
  492SSY9310_2,  P02E,   153,  1,     12,     12,2,19931124,1144, 29.9983,-123.0867, 4133,   1248.5,   3.3836,  34.5272,2,  34.5027,4,   -999.0,9,     36.5,2,   133.36,3,    41.40,3,     3.15,3,  3.2927
  492SSY9310_2,  P02E,   153,  1,     13,     11,2,19931124,1144, 29.9983,-123.0867, 4133,   1499.7,   2.8326,  34.5658,2,  34.5573,2,   -999.0,9,     50.9,2,   147.95,3,    41.37,3,     3.09,3,  2.7267
  492SSY9310_2,  P02E,   153,  1,     14,     10,2,19931124,1144, 29.9983,-123.0867, 4133,   1750.4,   2.4190,  34.5967,2,  34.5922,2,   -999.0,9,     65.7,2,   159.63,3,    40.66,3,     2.99,3,  2.2975
  492SSY9310_2,  P02E,   153,  1,     15,      9,2,19931124,1144, 29.9983,-123.0867, 4133,   1999.5,   2.0798,  34.6239,2,  34.6201,2,   -999.0,9,     82.2,2,   171.31,3,    40.19,3,     2.90,3,  1.9422
  492SSY9310_2,  P02E,   153,  1,     17,      7,2,19931124,1144, 29.9983,-123.0867, 4133,   2499.9,   1.7889,  34.6510,2,  34.6470,2,   -999.0,9,    105.7,2,   168.38,3,    39.94,3,     2.78,3,  1.6125
  492SSY9310_2,  P02E,   153,  1,     19,      5,2,19931124,1144, 29.9983,-123.0867, 4133,   2998.0,   1.6290,  34.6648,2,  34.6551,4,   -999.0,9,    118.7,2,   168.39,3,    39.11,3,     2.68,3,  1.4096
  492SSY9310_2,  P02E,   153,  1,     18,      6,2,19931124,1144, 29.9983,-123.0867, 4133,   3000.8,   1.6290,  34.6635,2,  34.6635,2,   -999.0,9,    119.1,2,   170.34,3,    39.11,3,     2.68,3,  1.4094
  492SSY9310_2,  P02E,   153,  1,     21,      3,2,19931124,1144, 29.9983,-123.0867, 4133,   3498.0,   1.5492,  34.6725,2,  34.6515,4,   -999.0,9,    127.8,2,  -999.00,9,    37.97,3,  -999.00,9,  1.2822
  492SSY9310_2,  P02E,   153,  1,     20,      4,2,19931124,1144, 29.9983,-123.0867, 4133,   3502.5,   1.5489,  34.6717,2,  34.6669,2,   -999.0,9,    127.4,2,   168.39,3,    38.00,3,     2.64,3,  1.2814
  492SSY9310_2,  P02E,   153,  1,     23,      1,2,19931124,1144, 29.9983,-123.0867, 4133,   3999.0,   1.5381,  34.6776,2,  34.6755,2,   -999.0,9,    135.2,2,   167.43,3,    37.88,3,     2.59,6,  1.2185
  492SSY9310_2,  P02E,   153,  1,     22,      2,2,19931124,1144, 29.9983,-123.0867, 4133,   4001.1,   1.5379,  34.6764,2,  34.6726,2,   -999.0,9,    152.6,4,   172.30,3,    37.73,3,     2.58,3,  1.2180
  492SSY9310_2,  P02E,   154,  1,      1,     23,2,19931124,1605, 30.2517,-122.6183, 3849,     48.9,  18.3588,  33.2790,2,  33.2861,2,   -999.0,9,    236.0,2,     3.90,3,     0.00,3,     0.26,3, 18.3504
  492SSY9310_2,  P02E,   154,  1,      2,     22,2,19931124,1605, 30.2517,-122.6183, 3849,    100.6,  15.4843,  33.4304,2,  33.4406,2,   -999.0,9,    243.8,2,     3.90,3,     0.01,3,     0.31,3, 15.4690
  492SSY9310_2,  P02E,   154,  1,      3,     21,2,19931124,1605, 30.2517,-122.6183, 3849,    197.6,   8.8713,  33.6147,2,  33.6097,2,   -999.0,9,    182.5,2,    21.44,3,    17.77,3,     1.48,3,  8.8504
  492SSY9310_2,  P02E,   154,  1,      4,     20,2,19931124,1605, 30.2517,-122.6183, 3849,    299.8,   7.5610,  34.0114,2,  34.0070,2,   -999.0,9,    123.2,2,    41.88,3,    28.15,3,     2.06,3,  7.5319
  492SSY9310_2,  P02E,   154,  1,      5,     19,2,19931124,1605, 30.2517,-122.6183, 3849,    399.3,   6.6976,  34.0982,2,  34.0993,2,   -999.0,9,     66.2,2,    58.43,3,    33.62,3,     2.58,3,  6.6612
  492SSY9310_2,  P02E,   154,  1,      6,     18,2,19931124,1605, 30.2517,-122.6183, 3849,    499.7,   6.0881,  34.1949,2,  34.1966,2,   -999.0,9,     32.2,2,    73.03,3,    37.31,3,     2.88,3,  6.0445
  492SSY9310_2,  P02E,   154,  1,      7,     17,2,19931124,1605, 30.2517,-122.6183, 3849,    599.2,   5.4677,  34.2738,2,  34.2746,2,   -999.0,9,     19.2,2,    84.71,3,    39.21,3,     3.08,3,  5.4177
  492SSY9310_2,  P02E,   154,  1,      8,     16,2,19931124,1605, 30.2517,-122.6183, 3849,    698.2,   5.1255,  34.3612,2,  34.3543,2,   -999.0,9,     13.1,2,    93.46,3,    40.18,3,     3.15,3,  5.0684
  492SSY9310_2,  P02E,   154,  1,      9,     15,2,19931124,1605, 30.2517,-122.6183, 3849,    799.0,   4.7546,  34.4103,2,  34.4073,2,   -999.0,9,     14.8,2,   101.26,3,    40.59,3,     3.19,3,  4.6909
  492SSY9310_2,  P02E,   154,  1,     10,     14,2,19931124,1605, 30.2517,-122.6183, 3849,    897.1,   4.3578,  34.4481,2,  34.4489,2,   -999.0,9,     19.6,2,   110.01,3,    41.23,3,     3.18,3,  4.2883
  492SSY9310_2,  P02E,   154,  1,     11,     13,2,19931124,1605, 30.2517,-122.6183, 3849,    999.0,   4.0652,  34.4764,2,  34.4763,2,   -999.0,9,     24.8,2,   117.80,3,    41.24,3,     3.19,6,  3.9893
  492SSY9310_2,  P02E,   154,  1,     12,     12,2,19931124,1605, 30.2517,-122.6183, 3849,   1247.3,   3.4079,  34.5273,2,  34.5288,2,   -999.0,9,     36.1,2,   133.36,3,    40.81,3,     3.16,3,  3.3168
  492SSY9310_2,  P02E,   154,  1,     13,     11,2,19931124,1605, 30.2517,-122.6183, 3849,   1497.8,   2.8252,  34.5637,2,  34.5663,2,   -999.0,9,     50.0,2,   147.95,3,    40.60,3,     3.09,3,  2.7196
  492SSY9310_2,  P02E,   154,  1,     14,     10,2,19931124,1605, 30.2517,-122.6183, 3849,   1749.2,   2.4343,  34.5948,2,  34.5983,2,   -999.0,9,     65.2,2,   157.69,3,    40.41,3,     3.00,3,  2.3127
  492SSY9310_2,  P02E,   154,  1,     15,      9,2,19931124,1605, 30.2517,-122.6183, 3849,   1999.8,   2.0904,  34.6227,2,  34.6193,2,   -999.0,9,     80.5,2,   156.71,3,    38.41,3,     2.87,4,  1.9526
  492SSY9310_2,  P02E,   154,  1,     16,      8,2,19931124,1605, 30.2517,-122.6183, 3849,   2248.4,   1.8991,  34.6405,2,  34.6460,2,   -999.0,9,     94.4,2,   168.38,3,    39.36,3,     2.83,3,  1.7430
  492SSY9310_2,  P02E,   154,  1,     17,      7,2,19931124,1605, 30.2517,-122.6183, 3849,   2498.7,   1.7884,  34.6514,2,  34.6521,2,   -999.0,9,    103.9,2,   166.43,3,    39.45,3,     2.77,3,  1.6121
  492SSY9310_2,  P02E,   154,  1,     19,      5,2,19931124,1605, 30.2517,-122.6183, 3849,   2997.9,   1.6269,  34.6650,2,  34.6663,2,   -999.0,9,    118.7,2,   170.34,3,    38.81,3,     2.69,3,  1.4076
  492SSY9310_2,  P02E,   154,  1,     18,      6,2,19931124,1605, 30.2517,-122.6183, 3849,   3001.9,   1.6269,  34.6635,2,  34.6669,2,   -999.0,9,    118.7,2,   172.28,3,    38.44,3,     2.69,3,  1.4072
  492SSY9310_2,  P02E,   154,  1,     21,      3,2,19931124,1605, 30.2517,-122.6183, 3849,   3499.8,   1.5437,  34.6733,2,  34.6730,2,   -999.0,9,    129.1,2,   167.41,3,    37.55,3,     2.64,3,  1.2766
  492SSY9310_2,  P02E,   154,  1,     20,      4,2,19931124,1605, 30.2517,-122.6183, 3849,   3502.8,   1.5438,  34.6722,2,  34.6757,2,   -999.0,9,    129.1,2,   172.28,3,    37.67,3,     2.64,6,  1.2764
  492SSY9310_2,  P02E,   154,  1,     23,      1,2,19931124,1605, 30.2517,-122.6183, 3849,   3943.3,   1.5424,  34.6751,2,  34.6798,2,   -999.0,9,    133.9,2,   170.35,3,    37.43,3,     2.60,3,  1.2287
  492SSY9310_2,  P02E,   154,  1,     22,      2,2,19931124,1605, 30.2517,-122.6183, 3849,   3946.8,   1.5422,  34.6734,2,  34.6783,2,   -999.0,9,    133.5,2,   170.35,3,    37.37,3,     2.60,3,  1.2281
  492SSY9310_2,  P02E,   155,  1,      1,     23,2,19931124,2026, 30.4967,-122.1467, 4088,     50.1,  18.3075,  33.3368,2,  33.3418,2,   -999.0,9,    237.3,2,     2.93,3,     0.00,3,     0.26,3, 18.2989
  492SSY9310_2,  P02E,   155,  1,      2,     22,2,19931124,2026, 30.4967,-122.1467, 4088,    100.8,  15.3025,  33.5404,2,  33.5538,2,   -999.0,9,    243.3,2,     2.92,3,     0.10,3,     0.30,3, 15.2873
  492SSY9310_2,  P02E,   155,  1,      3,     21,2,19931124,2026, 30.4967,-122.1467, 4088,    201.2,   8.8311,  33.6187,2,  33.6123,2,   -999.0,9,    182.5,2,    20.46,3,    18.14,3,     1.49,3,  8.8099
  492SSY9310_2,  P02E,   155,  1,      4,     20,2,19931124,2026, 30.4967,-122.1467, 4088,    301.6,   7.4598,  33.9920,2,  33.9939,2,   -999.0,9,    127.1,2,    39.93,3,    28.46,3,     2.05,3,  7.4308
  492SSY9310_2,  P02E,   155,  1,      5,     19,2,19931124,2026, 30.4967,-122.1467, 4088,    400.6,   6.3760,  34.0695,3,  34.6009,3,   -999.0,9,    119.7,4,  -999.00,9,  -999.00,9,  -999.00,9,  6.3405
  492SSY9310_2,  P02E,   155,  1,      6,     18,2,19931124,2026, 30.4967,-122.1467, 4088,    499.3,   5.7850,  34.1678,2,  34.1699,2,   -999.0,9,     32.6,2,    75.95,3,    37.80,3,     2.91,3,  5.7426
  492SSY9310_2,  P02E,   155,  1,      7,     17,2,19931124,2026, 30.4967,-122.1467, 4088,    601.6,   5.3324,  34.2653,2,  34.2642,2,   -999.0,9,     17.8,2,    88.60,3,    39.96,3,     3.11,3,  5.2828
  492SSY9310_2,  P02E,   155,  1,      8,     16,2,19931124,2026, 30.4967,-122.1467, 4088,    700.1,   4.9360,  34.3427,2,  34.3445,2,   -999.0,9,     13.1,2,    97.35,3,    40.40,3,     3.16,3,  4.8798
  492SSY9310_2,  P02E,   155,  1,      9,     15,2,19931124,2026, 30.4967,-122.1467, 4088,    802.7,   4.6706,  34.4089,2,  34.4045,2,   -999.0,9,     14.8,2,   103.21,3,    40.65,3,     3.15,3,  4.6071
  492SSY9310_2,  P02E,   155,  1,     10,     14,2,19931124,2026, 30.4967,-122.1467, 4088,    900.6,   4.3598,  34.4395,2,  34.4402,2,   -999.0,9,     19.6,2,   109.04,3,    41.01,3,     3.17,3,  4.2900
  492SSY9310_2,  P02E,   155,  1,     11,     13,2,19931124,2026, 30.4967,-122.1467, 4088,   1001.0,   4.0327,  34.4763,2,  34.4769,2,   -999.0,9,     25.2,2,   116.82,3,    41.47,3,     3.16,3,  3.9568
  492SSY9310_2,  P02E,   155,  1,     12,     12,2,19931124,2026, 30.4967,-122.1467, 4088,   1250.4,   3.3399,  34.5282,2,  34.5294,2,   -999.0,9,     37.8,2,   133.36,3,    41.23,3,     3.13,6,  3.2493
  492SSY9310_2,  P02E,   155,  1,     13,     11,2,19931124,2026, 30.4967,-122.1467, 4088,   1503.0,   2.8319,  34.5682,2,  34.5789,4,   -999.0,9,     51.8,2,   145.03,3,    41.03,3,     3.07,3,  2.7258
  492SSY9310_2,  P02E,   155,  1,     14,     10,2,19931124,2026, 30.4967,-122.1467, 4088,   1752.0,   2.3734,  34.5978,2,  34.5997,2,   -999.0,9,     67.0,2,   155.74,3,    40.63,3,     2.97,3,  2.2524
  492SSY9310_2,  P02E,   155,  1,     15,      9,2,19931124,2026, 30.4967,-122.1467, 4088,   2000.9,   2.0873,  34.6245,2,  34.6260,2,   -999.0,9,     83.5,2,   160.60,3,    39.82,3,     2.89,3,  1.9494
  492SSY9310_2,  P02E,   155,  1,     16,      8,2,19931124,2026, 30.4967,-122.1467, 4088,   2248.2,   1.9240,  34.6405,2,  34.6380,2,   -999.0,9,     93.5,2,   159.62,3,    39.79,3,     2.82,3,  1.7675
  492SSY9310_2,  P02E,   155,  1,     17,      7,2,19931124,2026, 30.4967,-122.1467, 4088,   2500.4,   1.7782,  34.6532,2,  34.6553,2,   -999.0,9,    107.0,2,   165.46,3,    39.45,3,     2.77,3,  1.6020
  492SSY9310_2,  P02E,   155,  1,     19,      5,2,19931124,2026, 30.4967,-122.1467, 4088,   3001.0,   1.6299,  34.6650,2,  34.6681,2,   -999.0,9,    118.7,2,   166.44,3,    39.05,3,     2.69,3,  1.4102
  492SSY9310_2,  P02E,   155,  1,     18,      6,2,19931124,2026, 30.4967,-122.1467, 4088,   3003.3,   1.6310,  34.6633,2,  34.6653,2,   -999.0,9,    119.6,2,   168.39,3,    38.78,3,     2.69,3,  1.4111
  492SSY9310_2,  P02E,   155,  1,     21,      3,2,19931124,2026, 30.4967,-122.1467, 4088,   3500.7,   1.5563,  34.6729,2,  34.6700,2,   -999.0,9,    125.2,2,   167.41,3,    37.88,3,     2.65,3,  1.2888
  492SSY9310_2,  P02E,   155,  1,     20,      4,2,19931124,2026, 30.4967,-122.1467, 4088,   3502.9,   1.5562,  34.6714,2,  34.6761,3,   -999.0,9,    129.1,2,   169.36,3,    37.67,3,     2.62,3,  1.2885
  492SSY9310_2,  P02E,   155,  1,     23,      1,2,19931124,2026, 30.4967,-122.1467, 4088,   4002.3,   1.5418,  34.6776,2,  34.6842,4,   -999.0,9,    135.7,2,   169.37,3,    37.97,3,     2.57,3,  1.2217
  492SSY9310_2,  P02E,   155,  1,     22,      2,2,19931124,2026, 30.4967,-122.1467, 4088,   4004.4,   1.5416,  34.6766,2,  34.6804,2,   -999.0,9,    134.8,2,   169.37,3,    37.67,3,     2.57,6,  1.2213
  492SSY9310_2,  P02E,   156,  1,      1,     23,2,19931125,0405, 30.7400,-121.6767, 4190,     50.9,  18.3114,  33.4236,2,  33.4156,2,   -999.0,9,    237.3,2,     1.95,3,     0.00,3,     0.25,3, 18.3027
  492SSY9310_2,  P02E,   156,  1,      2,     22,2,19931125,0405, 30.7400,-121.6767, 4190,     99.4,  15.0511,  33.6236,2,  33.6009,2,   -999.0,9,    235.0,2,     1.95,3,     0.60,3,     0.35,3, 15.0362
  492SSY9310_2,  P02E,   156,  1,      3,     21,2,19931125,0405, 30.7400,-121.6767, 4190,    198.8,   8.6857,  33.6481,2,  33.6475,2,   -999.0,9,    179.4,2,    21.44,3,    18.48,3,     1.55,3,  8.6650
  492SSY9310_2,  P02E,   156,  1,      4,     20,2,19931125,0405, 30.7400,-121.6767, 4190,    296.8,   7.5161,  34.0269,2,  34.0298,2,   -999.0,9,    114.1,2,    41.88,3,    28.63,3,     2.12,3,  7.4875
  492SSY9310_2,  P02E,   156,  1,      5,     19,2,19931125,0405, 30.7400,-121.6767, 4190,    400.0,   6.3206,  34.0675,2,  34.0691,2,   -999.0,9,     67.9,2,    61.35,3,    34.42,3,     2.57,3,  6.2853
  492SSY9310_2,  P02E,   156,  1,      6,     18,2,19931125,0405, 30.7400,-121.6767, 4190,    500.8,   5.6907,  34.1955,2,  34.1958,2,   -999.0,9,     27.9,2,    78.87,3,    37.98,3,     2.95,3,  5.6485
  492SSY9310_2,  P02E,   156,  1,      7,     17,2,19931125,0405, 30.7400,-121.6767, 4190,    598.7,   5.2021,  34.2763,2,  34.2778,2,   -999.0,9,     17.4,2,    91.52,3,    39.58,3,     3.12,3,  5.1533
  492SSY9310_2,  P02E,   156,  1,      8,     16,2,19931125,0405, 30.7400,-121.6767, 4190,    700.2,   4.7861,  34.3484,2,  34.3511,2,   -999.0,9,     13.1,2,   101.24,3,    40.21,3,     3.16,3,  4.7306
  492SSY9310_2,  P02E,   156,  1,      9,     15,2,19931125,0405, 30.7400,-121.6767, 4190,    800.1,   4.4424,  34.4069,2,  34.4049,2,   -999.0,9,     16.5,2,   109.04,3,    40.80,3,     3.19,3,  4.3806
  492SSY9310_2,  P02E,   156,  1,     10,     14,2,19931125,0405, 30.7400,-121.6767, 4190,    899.5,   4.1877,  34.4477,2,  34.4500,2,   -999.0,9,     20.9,2,   114.88,3,    41.01,3,     3.20,3,  4.1192
  492SSY9310_2,  P02E,   156,  1,     11,     13,2,19931125,0405, 30.7400,-121.6767, 4190,   1000.7,   3.8822,  34.4745,2,  34.4748,2,   -999.0,9,     27.0,2,   121.69,3,    41.23,3,     3.19,3,  3.8075
  492SSY9310_2,  P02E,   156,  1,     12,     12,2,19931125,0405, 30.7400,-121.6767, 4190,   1249.2,   3.3048,  34.5271,2,  34.5309,2,   -999.0,9,     38.7,2,   136.28,3,    40.60,3,     3.16,3,  3.2146
  492SSY9310_2,  P02E,   156,  1,     13,     11,2,19931125,0405, 30.7400,-121.6767, 4190,   1500.7,   2.7724,  34.5639,2,  34.5647,2,   -999.0,9,     50.9,2,   149.89,3,    40.60,3,     3.07,3,  2.6672
  492SSY9310_2,  P02E,   156,  1,     14,     10,2,19931125,0405, 30.7400,-121.6767, 4190,   1749.7,   2.3784,  34.5957,2,  34.5981,2,   -999.0,9,     67.0,2,   158.66,3,    39.98,3,     2.96,3,  2.2575
  492SSY9310_2,  P02E,   156,  1,     15,      9,2,19931125,0405, 30.7400,-121.6767, 4190,   2002.3,   2.0915,  34.6218,2,  34.6193,2,   -999.0,9,     80.5,2,   157.68,3,    38.69,3,     2.83,3,  1.9534
  492SSY9310_2,  P02E,   156,  1,     16,      8,2,19931125,0405, 30.7400,-121.6767, 4190,   2247.7,   1.9127,  34.6386,2,  34.6431,2,   -999.0,9,     94.4,2,   166.43,3,    39.42,3,     2.78,3,  1.7565
  492SSY9310_2,  P02E,   156,  1,     17,      7,2,19931125,0405, 30.7400,-121.6767, 4190,   2500.6,   1.8008,  34.6481,2,  34.6517,2,   -999.0,9,    104.4,2,   166.43,3,    39.42,3,     2.74,3,  1.6241
  492SSY9310_2,  P02E,   156,  1,     18,      6,2,19931125,0405, 30.7400,-121.6767, 4190,   2500.6,   1.8008,  34.6481,2,  34.6510,2,   -999.0,9,    104.8,2,   165.46,3,    39.42,3,     2.74,3,  1.6241
  492SSY9310_2,  P02E,   156,  1,     19,      5,2,19931125,0405, 30.7400,-121.6767, 4190,   2999.6,   1.6421,  34.6625,2,  34.6667,2,   -999.0,9,    117.8,2,   167.42,3,    38.59,3,     2.65,3,  1.4223
  492SSY9310_2,  P02E,   156,  1,     21,      3,2,19931125,0405, 30.7400,-121.6767, 4190,   3499.7,-999.0000,-999.0000,9,  34.6732,3,   -999.0,9,    127.4,2,   168.38,3,    37.64,3,     2.64,3,-999.0000
  492SSY9310_2,  P02E,   156,  1,     20,      4,2,19931125,0405, 30.7400,-121.6767, 4190,   3504.4,-999.0000,-999.0000,9,  34.6741,3,   -999.0,9,    127.0,2,   169.36,3,    36.92,3,     2.61,3,-999.0000
  492SSY9310_2,  P02E,   156,  1,     23,      1,2,19931125,0405, 30.7400,-121.6767, 4190,   4000.3,   1.5463,  34.6772,2,  34.6802,2,   -999.0,9,    133.9,2,   169.37,3,    37.12,3,     2.60,3,  1.2263
  492SSY9310_2,  P02E,   156,  1,     22,      2,2,19931125,0405, 30.7400,-121.6767, 4190,   4002.3,-999.0000,-999.0000,9,  34.6806,3,   -999.0,9,    133.9,2,   169.37,3,    37.22,3,     2.58,3,-999.0000