BOTTLE,20040202WHPSIOSA
EXPOCODE,SECT_ID,STNNBR,CASTNO,SAMPNO,BTLNBR,BTLNBR_FLAG_W,DATE,TIME,LATITUDE,LONGITUDE,DEPTH,CTDPRS,CTDTMP,CTDSAL,CTDSAL_FLAG_W,SALNTY,SALNTY_FLAG_W,CTDOXY,CTDOXY_FLAG_W,OXYGEN,OXYGEN_FLAG_W,SILCAT,SILCAT_FLAG_W,NO2+NO3,NO2+NO3_FLAG_W,PHSPHT,PHSPHT_FLAG_W,THETA
,,,,,,,,,,,,DBAR,ITS-90,PSS-78,,PSS-78,,UMOL/KG,,UMOL/KG,,UMOL/KG,,UMOL/KG,,UMOL/KG,,DEG C
  492SSY9310_2,  P02E,   113,  1,      1,     23,2,19931114,1024, 30.0017,-150.7450, 5756,     49.9,  22.2282,  35.1821,2,  35.1827,2,   -999.0,9,   -999.0,5,  -999.00,9,  -999.00,9,  -999.00,9, 22.2182
  492SSY9310_2,  P02E,   113,  1,      2,     22,2,19931114,1024, 30.0017,-150.7450, 5756,     99.9,  16.5722,  34.7032,2,  34.7046,2,   -999.0,9,    231.8,2,     2.92,3,     0.10,3,     0.17,3, 16.5561
  492SSY9310_2,  P02E,   113,  1,      3,     21,2,19931114,1024, 30.0017,-150.7450, 5756,    198.2,  13.1280,  34.3638,2,  34.3676,2,   -999.0,9,    228.3,2,     8.77,3,     7.93,3,     0.60,3, 13.1008
  492SSY9310_2,  P02E,   113,  1,      4,     20,2,19931114,1024, 30.0017,-150.7450, 5756,    299.1,  10.9498,  34.2168,2,  34.2126,2,   -999.0,9,    213.4,2,    14.61,3,    12.83,3,     0.92,3, 10.9133
  492SSY9310_2,  P02E,   113,  1,      5,     19,2,19931114,1024, 30.0017,-150.7450, 5756,    401.1,   8.9507,  34.0845,2,  34.0872,2,   -999.0,9,    198.2,2,    20.46,3,    18.75,3,     1.30,3,  8.9074
  492SSY9310_2,  P02E,   113,  1,      6,     18,2,19931114,1024, 30.0017,-150.7450, 5756,    498.7,   7.1668,  34.0098,2,  34.0155,2,   -999.0,9,    157.2,2,    37.01,3,    26.41,3,     1.83,3,  7.1193
  492SSY9310_2,  P02E,   113,  1,      7,     17,2,19931114,1024, 30.0017,-150.7450, 5756,    600.1,   5.6818,  34.0081,2,  34.0092,2,   -999.0,9,    100.6,2,    57.46,3,    34.73,3,     2.43,3,  5.6310
  492SSY9310_2,  P02E,   113,  1,      8,     16,2,19931114,1024, 30.0017,-150.7450, 5756,    701.3,   4.7138,  34.0891,2,  34.0852,2,   -999.0,9,     54.4,2,    77.90,3,    39.52,3,     2.83,3,  4.6589
  492SSY9310_2,  P02E,   113,  1,      9,     15,2,19931114,1024, 30.0017,-150.7450, 5756,    798.6,   4.2182,  34.1977,2,  34.2001,2,   -999.0,9,     25.2,2,    95.43,3,    42.23,3,     3.06,3,  4.1581
  492SSY9310_2,  P02E,   113,  1,     10,     14,2,19931114,1024, 30.0017,-150.7450, 5756,    900.5,   3.8954,  34.3054,2,  34.3056,2,   -999.0,9,     17.4,2,   107.10,3,    43.30,3,     3.20,3,  3.8290
  492SSY9310_2,  P02E,   113,  1,     11,     13,2,19931114,1024, 30.0017,-150.7450, 5756,    999.7,   3.6599,  34.3771,2,  34.3759,2,   -999.0,9,     23.1,2,  -999.00,9,  -999.00,9,  -999.00,9,  3.5871
  492SSY9310_2,  P02E,   113,  1,     12,     12,2,19931114,1024, 30.0017,-150.7450, 5756,   1250.4,   3.1010,  34.4969,2,  34.4964,2,   -999.0,9,     38.3,2,   127.52,3,    42.49,3,     3.23,3,  3.0126
  492SSY9310_2,  P02E,   113,  1,     13,     11,2,19931114,1024, 30.0017,-150.7450, 5756,   1500.4,   2.6500,  34.5542,2,  34.5553,2,   -999.0,9,     58.7,2,   136.27,3,    42.12,3,     2.99,3,  2.5461
  492SSY9310_2,  P02E,   113,  1,     14,     10,2,19931114,1024, 30.0017,-150.7450, 5756,   1750.5,   2.2772,  34.5896,2,  34.5910,2,   -999.0,9,     72.2,2,   145.03,3,    41.41,3,     2.91,6,  2.1575
  492SSY9310_2,  P02E,   113,  1,     15,      9,2,19931114,1024, 30.0017,-150.7450, 5756,   2001.2,   2.0186,  34.6127,2,  34.6117,2,   -999.0,9,     83.1,2,   152.81,3,    40.62,3,     2.86,3,  1.8818
  492SSY9310_2,  P02E,   113,  1,     16,      8,2,19931114,1024, 30.0017,-150.7450, 5756,   2250.8,   1.8570,  34.6287,2,  34.6311,2,   -999.0,9,     92.2,2,   153.78,3,    39.91,3,     2.80,3,  1.7014
  492SSY9310_2,  P02E,   113,  1,     17,      7,2,19931114,1024, 30.0017,-150.7450, 5756,   2501.5,   1.7161,  34.6434,2,  34.6413,2,   -999.0,9,    102.6,2,   150.86,3,    39.68,3,     2.74,3,  1.5410
  492SSY9310_2,  P02E,   113,  1,     18,      6,2,19931114,1024, 30.0017,-150.7450, 5756,   3002.5,   1.5601,  34.6623,2,  34.6610,2,   -999.0,9,    121.3,2,   153.79,3,    38.82,3,     2.68,3,  1.3418
  492SSY9310_2,  P02E,   113,  1,     19,      5,2,19931114,1024, 30.0017,-150.7450, 5756,   3501.6,   1.4915,  34.6744,2,  34.6730,2,   -999.0,9,    131.8,2,   147.95,3,    37.79,3,     2.59,3,  1.2256
  492SSY9310_2,  P02E,   113,  1,     20,      4,2,19931114,1024, 30.0017,-150.7450, 5756,   4000.1,   1.4737,  34.6807,2,  34.6793,2,   -999.0,9,    143.5,2,   144.07,3,    35.91,3,     2.55,6,  1.1557
  492SSY9310_2,  P02E,   113,  1,     21,      3,2,19931114,1024, 30.0017,-150.7450, 5756,   4499.3,   1.4923,  34.6846,2,  34.6877,2,   -999.0,9,    155.2,2,   141.14,3,    35.80,3,     2.53,3,  1.1179
  492SSY9310_2,  P02E,   113,  1,     22,      2,2,19931114,1024, 30.0017,-150.7450, 5756,   5000.5,   1.5284,  34.6869,2,  34.6869,2,   -999.0,9,    159.1,2,   138.24,3,    35.34,3,     2.52,3,  1.0935
  492SSY9310_2,  P02E,   113,  1,     23,      1,2,19931114,1024, 30.0017,-150.7450, 5756,   5500.0,   1.5695,  34.6885,2,  34.6905,2,   -999.0,9,    162.2,2,   135.32,3,    35.43,3,     2.42,3,  1.0708
  492SSY9310_2,  P02E,   114,  1,      1,     23,2,19931115,0423, 30.0017,-150.1733, 6172,     99.8,  16.5762,  34.7280,2,  34.7321,2,   -999.0,9,    235.7,2,     1.95,3,     0.04,3,     0.16,3, 16.5601
  492SSY9310_2,  P02E,   114,  1,      2,     22,2,19931115,0423, 30.0017,-150.1733, 6172,    200.9,  12.8466,  34.3382,2,  34.3378,2,   -999.0,9,    208.6,2,     7.79,3,     8.87,3,     0.65,3, 12.8194
  492SSY9310_2,  P02E,   114,  1,      3,     21,2,19931115,0423, 30.0017,-150.1733, 6172,    300.4,  10.8106,  34.2006,2,  34.2032,2,   -999.0,9,    211.2,2,    15.59,3,    13.15,3,     0.94,3, 10.7742
  492SSY9310_2,  P02E,   114,  1,      4,     20,2,19931115,0423, 30.0017,-150.1733, 6172,    399.7,   8.8564,  34.0797,2,  34.0815,2,   -999.0,9,    201.2,2,    28.25,3,    18.85,3,     1.35,3,  8.8135
  492SSY9310_2,  P02E,   114,  1,      5,     19,2,19931115,0423, 30.0017,-150.1733, 6172,    500.1,   7.1694,  34.0136,2,  34.0182,2,   -999.0,9,    153.3,2,    38.96,3,    26.57,3,     1.95,3,  7.1217
  492SSY9310_2,  P02E,   114,  1,      6,     18,2,19931115,0423, 30.0017,-150.1733, 6172,    599.9,   5.6764,  34.0051,2,  34.0088,2,   -999.0,9,    101.4,2,    60.38,3,    34.12,3,     2.42,3,  5.6256
  492SSY9310_2,  P02E,   114,  1,      7,     17,2,19931115,0423, 30.0017,-150.1733, 6172,    700.5,   4.7283,  34.0825,2,  34.0840,2,   -999.0,9,     56.6,2,    80.82,3,    39.37,3,     2.81,3,  4.6734
  492SSY9310_2,  P02E,   114,  1,      8,     16,2,19931115,0423, 30.0017,-150.1733, 6172,    800.0,   4.2126,  34.1979,2,  34.1962,2,   -999.0,9,     29.6,2,    96.40,3,    41.20,3,     3.01,3,  4.1524
  492SSY9310_2,  P02E,   114,  1,      9,     15,2,19931115,0423, 30.0017,-150.1733, 6172,    900.3,   3.9049,  34.3014,2,  34.3013,2,   -999.0,9,     17.0,2,   110.02,3,    42.78,3,     3.14,3,  3.8384
  492SSY9310_2,  P02E,   114,  1,     10,     14,2,19931115,0423, 30.0017,-150.1733, 6172,   1002.1,   3.6636,  34.3801,2,  34.3788,2,   -999.0,9,     20.0,2,   116.83,3,    43.23,3,     3.22,3,  3.5906
  492SSY9310_2,  P02E,   114,  1,     11,     13,2,19931115,0423, 30.0017,-150.1733, 6172,   1250.2,   3.1134,  34.4968,2,  34.4962,2,   -999.0,9,     41.3,2,   129.47,3,    42.52,3,     3.03,3,  3.0249
  492SSY9310_2,  P02E,   114,  1,     12,     12,2,19931115,0423, 30.0017,-150.1733, 6172,   1500.4,   2.7091,  34.5500,2,  34.5494,2,   -999.0,9,     57.4,2,   139.19,3,    41.66,3,     2.97,3,  2.6047
  492SSY9310_2,  P02E,   114,  1,     13,     11,2,19931115,0423, 30.0017,-150.1733, 6172,   1750.5,   2.3179,  34.5868,2,  34.5855,2,   -999.0,9,     71.3,2,   148.93,3,    41.11,3,     2.92,3,  2.1978
  492SSY9310_2,  P02E,   114,  1,     14,     10,2,19931115,0423, 30.0017,-150.1733, 6172,   2001.8,   2.0638,  34.6095,2,  34.6097,2,   -999.0,9,     80.5,3,   156.71,3,    40.33,3,     2.91,6,  1.9263
  492SSY9310_2,  P02E,   114,  1,     15,      9,2,19931115,0423, 30.0017,-150.1733, 6172,   2248.1,   1.8770,  34.6274,2,  34.6284,2,   -999.0,9,     90.0,3,   164.49,3,    40.32,3,     2.80,3,  1.7214
  492SSY9310_2,  P02E,   114,  1,     16,      8,2,19931115,0423, 30.0017,-150.1733, 6172,   2501.4,   1.7439,  34.6417,2,  34.6394,2,   -999.0,9,    102.2,2,   160.59,3,    38.85,3,     2.72,3,  1.5683
  492SSY9310_2,  P02E,   114,  1,     17,      7,2,19931115,0423, 30.0017,-150.1733, 6172,   3000.2,   1.5569,  34.6625,2,  34.6625,2,   -999.0,9,    122.6,2,   158.65,3,    38.29,3,     2.61,3,  1.3389
  492SSY9310_2,  P02E,   114,  1,     18,      6,2,19931115,0423, 30.0017,-150.1733, 6172,   3498.7,   1.4952,  34.6733,2,  34.6732,2,   -999.0,9,    134.8,2,   155.73,3,    37.53,3,     2.56,3,  1.2295
  492SSY9310_2,  P02E,   114,  1,     19,      5,2,19931115,0423, 30.0017,-150.1733, 6172,   3999.9,   1.4733,  34.6814,2,  34.6802,2,   -999.0,9,    145.7,2,   150.88,3,    37.03,3,     2.50,3,  1.1554
  492SSY9310_2,  P02E,   114,  1,     20,      4,2,19931115,0423, 30.0017,-150.1733, 6172,   4499.5,   1.4908,  34.6851,2,  34.6857,2,   -999.0,9,    155.2,2,   145.04,3,    35.09,3,     2.46,3,  1.1164
  492SSY9310_2,  P02E,   114,  1,     21,      3,2,19931115,0423, 30.0017,-150.1733, 6172,   5000.1,   1.5238,  34.6881,2,  34.6873,2,   -999.0,9,    160.0,2,   142.13,3,    35.37,3,     2.50,6,  1.0891
  492SSY9310_2,  P02E,   114,  1,     22,      2,2,19931115,0423, 30.0017,-150.1733, 6172,   5501.9,   1.5671,  34.6889,2,  34.6905,2,   -999.0,9,    163.1,2,   139.21,3,    35.09,3,     2.39,3,  1.0682
  492SSY9310_2,  P02E,   114,  1,     23,      1,2,19931115,0423, 30.0017,-150.1733, 6172,   6001.3,   1.6272,  34.6894,2,  34.7044,4,   -999.0,9,    164.8,2,  -999.00,9,    34.97,3,  -999.00,9,  1.0606
  492SSY9310_2,  P02E,   115,  1,      1,     23,2,19931115,1017, 30.0033,-149.5867, 5601,     50.4,  22.5765,  35.3476,2,  35.3423,2,   -999.0,9,    217.6,2,     0.97,3,     0.00,3,     0.01,3, 22.5663
  492SSY9310_2,  P02E,   115,  1,      2,     22,2,19931115,1017, 30.0033,-149.5867, 5601,     97.9,  18.6839,  34.9638,2,  34.9610,2,   -999.0,9,    231.5,2,     1.95,3,     0.00,3,     0.09,3, 18.6667
  492SSY9310_2,  P02E,   115,  1,      3,     21,2,19931115,1017, 30.0033,-149.5867, 5601,    199.3,  14.0704,  34.4534,2,  34.4414,2,   -999.0,9,    212.2,2,     4.87,3,     5.95,3,     0.53,3, 14.0417
  492SSY9310_2,  P02E,   115,  1,      4,     20,2,19931115,1017, 30.0033,-149.5867, 5601,    299.9,  11.3079,  34.2188,2,  34.2172,2,   -999.0,9,    211.3,2,    10.72,3,    12.20,3,     0.99,3, 11.2705
  492SSY9310_2,  P02E,   115,  1,      5,     19,2,19931115,1017, 30.0033,-149.5867, 5601,    400.1,   9.1944,  34.0875,2,  34.0911,2,   -999.0,9,    203.4,2,    20.46,3,    17.65,3,     1.28,3,  9.1505
  492SSY9310_2,  P02E,   115,  1,      6,     18,2,19931115,1017, 30.0033,-149.5867, 5601,    499.7,   7.4287,  34.0206,2,  34.0237,2,   -999.0,9,    163.7,2,    36.04,3,    24.93,3,     1.74,3,  7.3802
  492SSY9310_2,  P02E,   115,  1,      7,     17,2,19931115,1017, 30.0033,-149.5867, 5601,    600.3,   5.7132,  34.0091,2,  34.0174,2,   -999.0,9,    103.6,2,    61.35,3,    34.12,3,     2.39,3,  5.6622
  492SSY9310_2,  P02E,   115,  1,      8,     16,2,19931115,1017, 30.0033,-149.5867, 5601,    699.7,   4.8067,  34.0711,2,  34.0709,2,   -999.0,9,     58.8,2,    83.74,3,    38.71,3,     2.79,3,  4.7516
  492SSY9310_2,  P02E,   115,  1,      9,     15,2,19931115,1017, 30.0033,-149.5867, 5601,    800.0,   4.3169,  34.1712,2,  34.1672,2,   -999.0,9,     31.8,2,    98.35,3,    41.78,3,     3.00,3,  4.2561
  492SSY9310_2,  P02E,   115,  1,     10,     14,2,19931115,1017, 30.0033,-149.5867, 5601,    900.2,   3.9284,  34.2809,2,  34.2783,2,   -999.0,9,     18.3,2,   116.84,3,    43.05,3,     3.14,3,  3.8618
  492SSY9310_2,  P02E,   115,  1,     11,     13,2,19931115,1017, 30.0033,-149.5867, 5601,   1001.0,   3.6727,  34.3669,2,  34.3666,2,   -999.0,9,     18.7,2,   127.54,3,    43.48,3,     3.19,3,  3.5998
  492SSY9310_2,  P02E,   115,  1,     12,     12,2,19931115,1017, 30.0033,-149.5867, 5601,   1250.3,   3.1329,  34.4958,2,  34.4936,2,   -999.0,9,     37.4,2,   131.41,3,    42.27,3,     3.13,3,  3.0443
  492SSY9310_2,  P02E,   115,  1,     13,     11,2,19931115,1017, 30.0033,-149.5867, 5601,   1500.4,   2.7203,  34.5493,2,  34.5482,2,   -999.0,9,     56.5,2,   138.22,3,    42.27,3,     3.47,3,  2.6157
  492SSY9310_2,  P02E,   115,  1,     14,     10,2,19931115,1017, 30.0033,-149.5867, 5601,   1748.6,   2.3589,  34.5837,2,  34.5838,2,   -999.0,9,     69.6,2,   146.01,3,    41.32,3,     2.94,6,  2.2384
  492SSY9310_2,  P02E,   115,  1,     15,      9,2,19931115,1017, 30.0033,-149.5867, 5601,   2001.1,   2.0575,  34.6108,2,  34.6087,2,   -999.0,9,     81.3,2,   153.79,3,    41.11,3,     2.87,3,  1.9201
  492SSY9310_2,  P02E,   115,  1,     16,      8,2,19931115,1017, 30.0033,-149.5867, 5601,   2251.4,   1.8818,  34.6279,2,  34.6258,2,   -999.0,9,     89.6,3,   158.65,3,    39.94,3,     2.79,3,  1.7258
  492SSY9310_2,  P02E,   115,  1,     17,      7,2,19931115,1017, 30.0033,-149.5867, 5601,   2501.8,   1.7190,  34.6442,3,  34.6297,3,   -999.0,9,    101.8,3,  -999.00,9,    38.82,3,  -999.00,9,  1.5438
  492SSY9310_2,  P02E,   115,  1,     18,      6,2,19931115,1017, 30.0033,-149.5867, 5601,   3000.3,   1.5660,  34.6632,2,  34.6610,2,   -999.0,9,    122.2,2,   160.60,3,    38.58,3,     2.64,3,  1.3478
  492SSY9310_2,  P02E,   115,  1,     19,      5,2,19931115,1017, 30.0033,-149.5867, 5601,   3502.1,   1.5026,  34.6736,2,  34.6739,2,   -999.0,9,    151.8,4,   158.65,3,    37.94,3,     2.57,3,  1.2363
  492SSY9310_2,  P02E,   115,  1,     20,      4,2,19931115,1017, 30.0033,-149.5867, 5601,   4000.2,   1.4715,  34.6822,2,  34.6822,2,   -999.0,9,    147.4,2,   154.77,3,    35.79,3,     2.51,3,  1.1536
  492SSY9310_2,  P02E,   115,  1,     21,      3,2,19931115,1017, 30.0033,-149.5867, 5601,   4500.8,   1.4873,  34.6858,2,  34.6850,2,   -999.0,9,    156.1,2,   146.01,3,    35.65,3,     2.48,6,  1.1129
  492SSY9310_2,  P02E,   115,  1,     22,      2,2,19931115,1017, 30.0033,-149.5867, 5601,   4999.8,   1.5080,  34.6895,2,  34.6893,2,   -999.0,9,    161.3,2,   141.16,3,    35.26,3,     2.44,3,  1.0738
  492SSY9310_2,  P02E,   115,  1,     23,      1,2,19931115,1017, 30.0033,-149.5867, 5601,   5500.9,   1.5557,  34.6902,2,  34.6889,2,   -999.0,9,    164.4,2,   139.21,3,    35.28,3,     2.42,3,  1.0573
  492SSY9310_2,  P02E,   116,  1,      6,     18,2,19931115,1600, 30.0000,-149.0000, 5777,    498.9,   7.1711,  34.0143,2,  34.0155,2,   -999.0,9,    152.8,2,    38.96,3,    27.55,3,     1.90,3,  7.1236
  492SSY9310_2,  P02E,   116,  1,      7,     17,2,19931115,1600, 30.0000,-149.0000, 5777,    599.5,   5.6107,  34.0138,2,  34.0143,2,   -999.0,9,     96.2,2,    63.30,3,    36.16,3,     2.53,3,  5.5602
  492SSY9310_2,  P02E,   116,  1,      8,     16,2,19931115,1600, 30.0000,-149.0000, 5777,    698.4,   4.6740,  34.0859,2,  34.0835,2,   -999.0,9,     54.8,2,    84.71,3,    40.37,3,     2.79,3,  4.6196
  492SSY9310_2,  P02E,   116,  1,      9,     15,2,19931115,1600, 30.0000,-149.0000, 5777,    799.4,   4.1661,  34.2044,2,  34.1970,2,   -999.0,9,     23.5,2,   105.16,3,    43.95,3,     3.07,3,  4.1062
  492SSY9310_2,  P02E,   116,  1,     10,     14,2,19931115,1600, 30.0000,-149.0000, 5777,    899.7,   3.8896,  34.2946,2,  34.2938,2,   -999.0,9,     17.8,2,   120.73,3,    44.73,3,     3.14,3,  3.8233
  492SSY9310_2,  P02E,   116,  1,     11,     13,2,19931115,1600, 30.0000,-149.0000, 5777,    999.2,   3.6643,  34.3665,2,  34.3594,2,   -999.0,9,     17.4,2,   130.46,3,    45.30,3,     3.16,3,  3.5916
  492SSY9310_2,  P02E,   116,  1,     12,     12,2,19931115,1600, 30.0000,-149.0000, 5777,   1249.4,   3.1631,  34.4830,2,  34.4748,2,   -999.0,9,     32.2,2,   130.44,3,    44.20,3,     3.11,3,  3.0743
  492SSY9310_2,  P02E,   116,  1,     13,     11,2,19931115,1600, 30.0000,-149.0000, 5777,   1498.1,   2.6921,  34.5494,2,  34.5482,2,   -999.0,9,     54.8,2,   139.19,3,    43.70,3,     2.99,3,  2.5880
  492SSY9310_2,  P02E,   116,  1,     14,     10,2,19931115,1600, 30.0000,-149.0000, 5777,   1748.2,   2.3208,  34.5876,2,  34.5816,2,   -999.0,9,     70.5,2,   146.98,3,    42.06,3,     2.91,3,  2.2008
  492SSY9310_2,  P02E,   116,  1,     15,      9,2,19931115,1600, 30.0000,-149.0000, 5777,   1999.0,   2.0297,  34.6134,2,  34.6128,2,   -999.0,9,     82.2,2,   154.76,3,    42.28,3,     2.86,3,  1.8929
  492SSY9310_2,  P02E,   116,  1,     16,      8,2,19931115,1600, 30.0000,-149.0000, 5777,   2250.4,   1.8568,  34.6298,2,  34.6280,2,   -999.0,9,     90.5,2,   158.65,3,    41.33,3,     2.83,3,  1.7012
  492SSY9310_2,  P02E,   116,  1,     17,      7,2,19931115,1600, 30.0000,-149.0000, 5777,   2499.8,   1.7100,  34.6458,2,  34.6386,3,   -999.0,9,    100.4,2,   157.67,3,    40.93,3,     2.79,3,  1.5351
  492SSY9310_2,  P02E,   116,  1,     18,      6,2,19931115,1600, 30.0000,-149.0000, 5777,   3000.1,   1.5618,  34.6646,2,  34.6631,2,   -999.0,9,    123.1,4,   158.65,3,    39.98,3,     2.64,3,  1.3437
  492SSY9310_2,  P02E,   116,  1,     19,      5,2,19931115,1600, 30.0000,-149.0000, 5777,   3500.3,   1.4976,  34.6757,2,  34.6747,2,   -999.0,9,    137.4,4,   155.73,3,    38.96,3,     2.55,3,  1.2316
  492SSY9310_2,  P02E,   116,  1,     20,      4,2,19931115,1600, 30.0000,-149.0000, 5777,   4001.7,   1.4788,  34.6820,2,  34.6751,4,   -999.0,9,    143.1,2,   151.85,3,    37.42,3,     2.52,3,  1.1605
  492SSY9310_2,  P02E,   116,  1,     21,      3,2,19931115,1600, 30.0000,-149.0000, 5777,   4500.4,   1.4900,  34.6865,2,  34.6859,2,   -999.0,9,    154.8,2,   148.93,3,    37.13,3,     2.46,3,  1.1156
  492SSY9310_2,  P02E,   116,  1,     22,      2,2,19931115,1600, 30.0000,-149.0000, 5777,   4999.6,   1.5017,  34.6905,2,  34.6891,2,   -999.0,9,    163.5,2,   147.00,3,    36.40,3,     2.40,3,  1.0678
  492SSY9310_2,  P02E,   116,  1,     23,      1,2,19931115,1600, 30.0000,-149.0000, 5777,   5501.3,   1.5583,  34.6909,2,  34.6905,2,   -999.0,9,    165.2,2,   145.05,3,    36.54,3,     2.40,3,  1.0598