BOTTLE,20040202WHPSIOSA
EXPOCODE,SECT_ID,STNNBR,CASTNO,SAMPNO,BTLNBR,BTLNBR_FLAG_W,DATE,TIME,LATITUDE,LONGITUDE,DEPTH,CTDPRS,CTDTMP,CTDSAL,CTDSAL_FLAG_W,SALNTY,SALNTY_FLAG_W,CTDOXY,CTDOXY_FLAG_W,OXYGEN,OXYGEN_FLAG_W,SILCAT,SILCAT_FLAG_W,NO2+NO3,NO2+NO3_FLAG_W,PHSPHT,PHSPHT_FLAG_W,THETA
,,,,,,,,,,,,DBAR,ITS-90,PSS-78,,PSS-78,,UMOL/KG,,UMOL/KG,,UMOL/KG,,UMOL/KG,,UMOL/KG,,DEG C
  492SSY9310_2,  P02E,   161,  1,      1,     23,2,19931126,0355, 32.0017,-119.3500, 1770,     48.8,  17.8685,  33.2764,2,  33.2645,2,   -999.0,9,    239.4,2,     0.00,3,     0.01,3,     0.31,3, 17.8603
  492SSY9310_2,  P02E,   161,  1,      2,     22,2,19931126,0355, 32.0017,-119.3500, 1770,    101.2,  13.9165,  33.4399,2,  33.4029,3,   -999.0,9,    231.0,2,     3.90,3,     1.93,3,     0.49,3, 13.9022
  492SSY9310_2,  P02E,   161,  1,      3,     21,2,19931126,0355, 32.0017,-119.3500, 1770,    199.5,   8.6506,  33.7778,2,  33.7633,2,   -999.0,9,    150.2,2,    29.23,3,    20.62,3,     1.71,3,  8.6299
  492SSY9310_2,  P02E,   161,  1,      4,     20,2,19931126,0355, 32.0017,-119.3500, 1770,    301.4,   7.4655,  34.0510,2,  34.0433,2,   -999.0,9,    100.1,2,    42.85,3,    29.08,3,     2.20,3,  7.4365
  492SSY9310_2,  P02E,   161,  1,      5,     19,2,19931126,0355, 32.0017,-119.3500, 1770,    399.7,   6.7193,  34.1653,2,  34.1462,3,   -999.0,9,     48.8,2,    59.40,3,    33.80,3,     2.70,3,  6.6828
  492SSY9310_2,  P02E,   161,  1,      7,     17,2,19931126,0355, 32.0017,-119.3500, 1770,    498.9,   5.9927,  34.2347,2,  34.2236,3,   -999.0,9,     26.6,2,    74.00,3,    36.85,3,     2.99,3,  5.9494
  492SSY9310_2,  P02E,   161,  1,      6,     18,2,19931126,0355, 32.0017,-119.3500, 1770,    501.2,   6.0023,  34.2294,2,  34.2315,2,   -999.0,9,     26.1,2,    74.00,3,    36.67,3,     2.97,3,  5.9588
  492SSY9310_2,  P02E,   161,  1,      9,     15,2,19931126,0355, 32.0017,-119.3500, 1770,    599.0,   5.4965,  34.3184,2,  34.3111,3,   -999.0,9,     13.9,2,    85.68,3,    37.84,3,     3.09,3,  5.4463
  492SSY9310_2,  P02E,   161,  1,      8,     16,2,19931126,0355, 32.0017,-119.3500, 1770,    602.4,   5.4970,  34.3175,2,  34.3150,2,   -999.0,9,     14.8,2,    85.68,3,    37.75,3,     3.14,3,  5.4465
  492SSY9310_2,  P02E,   161,  1,     11,     13,2,19931126,0355, 32.0017,-119.3500, 1770,    699.8,   5.0704,  34.3682,2,  34.3594,3,   -999.0,9,     13.9,2,    96.38,3,    39.14,3,     3.21,3,  5.0135
  492SSY9310_2,  P02E,   161,  1,     10,     14,2,19931126,0355, 32.0017,-119.3500, 1770,    703.3,   5.0715,  34.3673,2,  34.3643,2,   -999.0,9,     12.6,2,    95.40,3,    38.70,3,     3.17,6,  5.0143
  492SSY9310_2,  P02E,   161,  1,     13,     11,2,19931126,0355, 32.0017,-119.3500, 1770,    798.5,   4.7688,  34.4202,2,  34.4214,2,   -999.0,9,     13.9,2,   107.10,3,    40.14,3,     3.25,3,  4.7050
  492SSY9310_2,  P02E,   161,  1,     12,     12,2,19931126,0355, 32.0017,-119.3500, 1770,    801.5,   4.7689,  34.4185,2,  34.4222,2,   -999.0,9,     14.8,2,   105.15,3,    39.74,3,     3.27,6,  4.7049
  492SSY9310_2,  P02E,   161,  1,     15,      9,2,19931126,0355, 32.0017,-119.3500, 1770,    898.3,   4.4255,  34.4442,2,  34.4353,3,   -999.0,9,     17.0,2,   108.07,3,    40.36,3,     3.25,3,  4.3555
  492SSY9310_2,  P02E,   161,  1,     14,     10,2,19931126,0355, 32.0017,-119.3500, 1770,    901.0,   4.4251,  34.4434,2,  34.4443,2,   -999.0,9,     17.8,2,   112.94,3,    40.36,3,     3.24,3,  4.3549
  492SSY9310_2,  P02E,   161,  1,     17,      7,2,19931126,0355, 32.0017,-119.3500, 1770,    999.3,   4.1112,  34.4741,2,  34.4685,2,   -999.0,9,     23.9,2,   114.88,3,    41.21,3,     3.18,3,  4.0349
  492SSY9310_2,  P02E,   161,  1,     16,      8,2,19931126,0355, 32.0017,-119.3500, 1770,   1002.1,   4.1117,  34.4719,2,  34.4665,2,   -999.0,9,     22.2,2,   115.85,3,    40.47,3,     3.25,3,  4.0351
  492SSY9310_2,  P02E,   161,  1,     19,      5,2,19931126,0355, 32.0017,-119.3500, 1770,   1250.8,   3.5122,  34.5249,2,  34.5274,2,   -999.0,9,     35.2,2,   129.47,3,    41.06,3,     3.17,3,  3.4198
  492SSY9310_2,  P02E,   161,  1,     18,      6,2,19931126,0355, 32.0017,-119.3500, 1770,   1253.1,   3.5177,  34.5238,2,  34.5203,2,   -999.0,9,     34.4,2,   129.47,3,    40.87,3,     3.16,3,  3.4251
  492SSY9310_2,  P02E,   161,  1,     21,      3,2,19931126,0355, 32.0017,-119.3500, 1770,   1501.2,   2.9528,  34.5620,2,  34.5576,2,   -999.0,9,     48.7,2,   143.08,3,    39.91,3,     3.09,3,  2.8454
  492SSY9310_2,  P02E,   161,  1,     20,      4,2,19931126,0355, 32.0017,-119.3500, 1770,   1504.3,   2.9531,  34.5602,2,  34.5584,2,   -999.0,9,     48.7,2,   143.08,3,    39.69,3,     3.09,3,  2.8455
  492SSY9310_2,  P02E,   161,  1,     23,      1,2,19931126,0355, 32.0017,-119.3500, 1770,   1749.7,   2.5780,  34.5859,2,  34.5832,2,   -999.0,9,     60.0,2,   155.74,3,    39.33,3,     3.03,3,  2.4544
  492SSY9310_2,  P02E,   161,  1,     22,      2,2,19931126,0355, 32.0017,-119.3500, 1770,   1752.7,   2.5772,  34.5852,2,  34.5855,2,   -999.0,9,     59.6,2,   155.74,3,    39.15,3,     3.04,3,  2.4534
  492SSY9310_2,  P02E,   162,  1,      3,     21,2,19931126,0730, 32.2500,-118.8833, 1117,     50.5,  15.5491,  33.2272,2,  33.2315,2,   -999.0,9,    248.5,2,     0.98,3,     0.31,3,     0.31,3, 15.5414
  492SSY9310_2,  P02E,   162,  1,      2,     22,2,19931126,0730, 32.2500,-118.8833, 1117,     53.2,  15.5481,  33.2258,2,  33.2319,2,   -999.0,9,    247.6,2,     0.98,3,     0.31,3,     0.31,3, 15.5400
  492SSY9310_2,  P02E,   162,  1,      5,     19,2,19931126,0730, 32.2500,-118.8833, 1117,    100.7,  12.1427,  33.2471,2,  33.2527,2,   -999.0,9,    219.6,2,     6.82,3,     6.85,3,     0.76,3, 12.1298
  492SSY9310_2,  P02E,   162,  1,      4,     20,2,19931126,0730, 32.2500,-118.8833, 1117,    104.0,  12.1105,  33.2391,2,  33.2541,2,   -999.0,9,    221.8,2,     6.82,3,     6.85,3,     0.77,3, 12.0972
  492SSY9310_2,  P02E,   162,  1,      7,     17,2,19931126,0730, 32.2500,-118.8833, 1117,    200.8,   8.6442,  33.9066,2,  33.9054,2,   -999.0,9,    133.7,2,    30.20,3,    24.45,3,     1.83,3,  8.6233
  492SSY9310_2,  P02E,   162,  1,      6,     18,2,19931126,0730, 32.2500,-118.8833, 1117,    203.4,   8.6442,  33.9003,2,  33.9019,2,   -999.0,9,    135.4,2,    30.20,3,  -999.00,9,     1.82,3,  8.6230
  492SSY9310_2,  P02E,   162,  1,      9,     15,2,19931126,0730, 32.2500,-118.8833, 1117,    299.9,   7.5173,  34.0847,2,  34.0887,2,   -999.0,9,     90.1,2,    47.72,3,    30.38,3,     2.28,3,  7.4883
  492SSY9310_2,  P02E,   162,  1,      8,     16,2,19931126,0730, 32.2500,-118.8833, 1117,    302.9,   7.5108,  34.0851,2,  34.0899,2,   -999.0,9,     90.5,2,    47.72,3,    30.23,3,     2.28,3,  7.4815
  492SSY9310_2,  P02E,   162,  1,     11,     13,2,19931126,0730, 32.2500,-118.8833, 1117,    399.2,   6.9859,  34.2300,2,  34.2354,2,   -999.0,9,     39.2,2,    64.27,3,    34.22,3,     2.78,3,  6.9486
  492SSY9310_2,  P02E,   162,  1,     10,     14,2,19931126,0730, 32.2500,-118.8833, 1117,    401.9,   6.9854,  34.2286,2,  34.2360,2,   -999.0,9,     37.9,2,    64.27,3,    34.50,3,     2.77,6,  6.9478
  492SSY9310_2,  P02E,   162,  1,     13,     11,2,19931126,0730, 32.2500,-118.8833, 1117,    501.3,   6.4578,  34.2919,2,  34.2976,2,   -999.0,9,     22.2,2,    71.08,3,    36.64,3,     2.99,3,  6.4126
  492SSY9310_2,  P02E,   162,  1,     12,     12,2,19931126,0730, 32.2500,-118.8833, 1117,    505.2,   6.4483,  34.2903,2,  34.2976,2,   -999.0,9,     22.2,2,    72.05,3,    36.64,3,     2.99,6,  6.4026
  492SSY9310_2,  P02E,   162,  1,     15,      9,2,19931126,0730, 32.2500,-118.8833, 1117,    600.2,   5.7252,  34.3178,2,  34.3162,2,   -999.0,9,     18.3,2,    77.89,4,    37.51,4,     3.01,4,  5.6739
  492SSY9310_2,  P02E,   162,  1,     14,     10,2,19931126,0730, 32.2500,-118.8833, 1117,    603.0,   5.7188,  34.3182,2,  34.3235,2,   -999.0,9,     15.7,2,    82.76,3,    38.48,3,     3.05,3,  5.6673
  492SSY9310_2,  P02E,   162,  1,     17,      7,2,19931126,0730, 32.2500,-118.8833, 1117,    700.5,   5.0693,  34.3767,2,  34.3839,2,   -999.0,9,     14.4,2,    96.38,3,    40.66,3,     3.14,3,  5.0123
  492SSY9310_2,  P02E,   162,  1,     16,      8,2,19931126,0730, 32.2500,-118.8833, 1117,    703.5,   5.0720,  34.3760,2,  34.3833,2,   -999.0,9,     13.1,2,    95.40,3,    40.29,3,     3.13,3,  5.0147
  492SSY9310_2,  P02E,   162,  1,     19,      5,2,19931126,0730, 32.2500,-118.8833, 1117,    800.0,   4.7093,  34.4203,2,  34.4253,2,   -999.0,9,     15.7,2,   105.15,3,    40.85,3,     3.16,3,  4.6458
  492SSY9310_2,  P02E,   162,  1,     18,      6,2,19931126,0730, 32.2500,-118.8833, 1117,    802.8,   4.7179,  34.4170,2,  34.4249,2,   -999.0,9,     16.1,2,   105.15,3,    40.66,3,     3.17,3,  4.6541
  492SSY9310_2,  P02E,   162,  1,     21,      3,2,19931126,0730, 32.2500,-118.8833, 1117,    899.9,   4.4983,  34.4384,2,  34.4451,2,   -999.0,9,     17.8,2,   109.04,3,    39.34,3,     3.15,3,  4.4276
  492SSY9310_2,  P02E,   162,  1,     20,      4,2,19931126,0730, 32.2500,-118.8833, 1117,    902.4,   4.4987,  34.4373,2,  34.4438,2,   -999.0,9,     17.4,2,   110.99,3,    39.88,3,     3.19,3,  4.4278
  492SSY9310_2,  P02E,   162,  1,     23,      1,2,19931126,0730, 32.2500,-118.8833, 1117,   1000.3,   4.1742,  34.4639,2,  34.4705,2,   -999.0,9,     21.8,2,   120.72,3,    40.40,3,     3.21,3,  4.0973
  492SSY9310_2,  P02E,   162,  1,     22,      2,2,19931126,0730, 32.2500,-118.8833, 1117,   1003.2,   4.1731,  34.4635,2,  34.4693,2,   -999.0,9,     20.9,2,   119.75,3,    40.43,3,     3.18,3,  4.0960
  492SSY9310_2,  P02E,   163,  1,      1,     23,2,19931126,1112, 32.4983,-118.4167, 1206,     49.0,  14.4415,  33.1487,2,  33.1507,2,   -999.0,9,    237.1,2,     3.90,3,     1.13,3,     0.44,3, 14.4345
  492SSY9310_2,  P02E,   163,  1,      3,     21,2,19931126,1112, 32.4983,-118.4167, 1206,     99.5,  11.3970,  33.3591,2,  33.3707,3,   -999.0,9,    200.9,2,    12.67,3,    10.63,3,     1.06,3, 11.3847
  492SSY9310_2,  P02E,   163,  1,      2,     22,2,19931126,1112, 32.4983,-118.4167, 1206,    102.9,  11.3960,  33.3574,2,  33.3621,2,   -999.0,9,    200.9,2,    11.70,3,    10.45,3,     1.04,3, 11.3833
  492SSY9310_2,  P02E,   163,  1,      5,     19,2,19931126,1112, 32.4983,-118.4167, 1206,    199.9,   8.9830,  34.0521,2,  34.0531,2,   -999.0,9,    102.7,2,    32.14,3,    26.16,3,     1.99,3,  8.9617
  492SSY9310_2,  P02E,   163,  1,      4,     20,2,19931126,1112, 32.4983,-118.4167, 1206,    203.9,   8.9705,  34.0526,2,  34.0515,2,   -999.0,9,    104.0,2,    34.09,3,    25.99,3,     2.03,3,  8.9488
  492SSY9310_2,  P02E,   163,  1,      6,     18,2,19931126,1112, 32.4983,-118.4167, 1206,    300.1,   7.8652,  34.1492,2,  34.1475,2,   -999.0,9,     76.6,2,    45.77,3,    30.17,3,     2.32,3,  7.8354
  492SSY9310_2,  P02E,   163,  1,      7,     17,2,19931126,1112, 32.4983,-118.4167, 1206,    300.1,   7.8652,  34.1492,2,  34.1472,2,   -999.0,9,     76.6,2,    44.80,3,    30.26,3,     2.34,3,  7.8354
  492SSY9310_2,  P02E,   163,  1,      9,     15,2,19931126,1112, 32.4983,-118.4167, 1206,    399.6,   7.0197,  34.2170,2,  34.2154,2,   -999.0,9,     42.2,2,    60.38,3,    34.07,3,     2.70,3,  6.9823
  492SSY9310_2,  P02E,   163,  1,      8,     16,2,19931126,1112, 32.4983,-118.4167, 1206,    400.3,   7.0155,  34.2146,3,  34.1813,3,   -999.0,9,     44.0,3,  -999.00,9,    32.33,3,  -999.00,9,  6.9780
  492SSY9310_2,  P02E,   163,  1,     11,     13,2,19931126,1112, 32.4983,-118.4167, 1206,    500.7,   6.3427,  34.2993,2,  34.2989,2,   -999.0,9,     20.9,2,    74.00,3,    36.74,3,     2.99,6,  6.2979
  492SSY9310_2,  P02E,   163,  1,     10,     14,2,19931126,1112, 32.4983,-118.4167, 1206,    504.3,   6.3352,  34.2993,2,  34.2980,2,   -999.0,9,     19.6,2,    74.00,3,    36.74,3,     2.97,3,  6.2901
  492SSY9310_2,  P02E,   163,  1,     13,     11,2,19931126,1112, 32.4983,-118.4167, 1206,    599.3,   5.7101,  34.3405,2,  34.3468,3,   -999.0,9,     14.4,2,    87.62,3,    38.76,3,     3.15,3,  5.6589
  492SSY9310_2,  P02E,   163,  1,     12,     12,2,19931126,1112, 32.4983,-118.4167, 1206,    602.4,   5.7097,  34.3393,2,  34.3419,2,   -999.0,9,     14.8,2,    86.65,3,    38.51,3,     3.11,6,  5.6583
  492SSY9310_2,  P02E,   163,  1,     15,      9,2,19931126,1112, 32.4983,-118.4167, 1206,    700.6,   5.1539,  34.3863,2,  34.3904,2,   -999.0,9,     13.5,2,   109.03,3,    39.24,3,     3.21,3,  5.0964
  492SSY9310_2,  P02E,   163,  1,     14,     10,2,19931126,1112, 32.4983,-118.4167, 1206,    704.9,   5.1475,  34.3861,2,  34.4073,4,   -999.0,9,     13.5,3,  -999.00,9,    39.37,3,  -999.00,9,  5.0897
  492SSY9310_2,  P02E,   163,  1,     17,      7,2,19931126,1112, 32.4983,-118.4167, 1206,    799.8,   4.7333,  34.4216,2,  34.4261,2,   -999.0,9,     16.5,2,   111.97,3,    39.72,3,     3.17,3,  4.6696
  492SSY9310_2,  P02E,   163,  1,     16,      8,2,19931126,1112, 32.4983,-118.4167, 1206,    802.1,   4.7327,  34.4204,2,  34.4269,2,   -999.0,9,     16.1,2,   112.94,3,    39.54,3,     3.21,3,  4.6688
  492SSY9310_2,  P02E,   163,  1,     19,      5,2,19931126,1112, 32.4983,-118.4167, 1206,    901.0,   4.3718,  34.4528,2,  34.4559,2,   -999.0,9,     19.1,2,   118.78,3,    40.27,3,     3.17,3,  4.3018
  492SSY9310_2,  P02E,   163,  1,     18,      6,2,19931126,1112, 32.4983,-118.4167, 1206,    902.7,   4.3744,  34.4507,2,  34.4575,2,   -999.0,9,     20.0,2,   118.78,3,    40.08,3,     3.16,3,  4.3044
  492SSY9310_2,  P02E,   163,  1,     21,      3,2,19931126,1112, 32.4983,-118.4167, 1206,   1000.3,   4.1306,  34.4747,2,  34.4748,2,   -999.0,9,     23.9,2,   119.74,3,    39.30,4,     3.12,3,  4.0540
  492SSY9310_2,  P02E,   163,  1,     20,      4,2,19931126,1112, 32.4983,-118.4167, 1206,   1004.0,   4.1137,  34.4735,2,  34.4763,2,   -999.0,9,     23.5,2,   122.66,3,    39.60,3,     3.15,3,  4.0370
  492SSY9310_2,  P02E,   163,  1,     23,      1,2,19931126,1112, 32.4983,-118.4167, 1206,   1215.7,   3.4151,  34.5281,2,  34.5341,2,   -999.0,9,     37.4,2,   136.28,3,    39.68,3,     3.12,3,  3.3266
  492SSY9310_2,  P02E,   163,  1,     22,      2,2,19931126,1112, 32.4983,-118.4167, 1206,   1217.9,   3.4096,  34.5271,2,  34.5321,2,   -999.0,9,     37.0,2,   137.25,3,    39.69,3,     3.10,3,  3.3209
  492SSY9310_2,  P02E,   164,  1,     13,     11,2,19931126,1438, 32.7600,-117.9417,  563,     49.6,  12.8917,  33.2216,2,  33.2164,2,   -999.0,9,    225.3,2,     6.82,3,     5.43,3,     0.72,3, 12.8851
  492SSY9310_2,  P02E,   164,  1,     15,      9,2,19931126,1438, 32.7600,-117.9417,  563,     99.8,  10.3143,  33.4580,2,  33.4588,2,   -999.0,9,    175.5,2,    16.57,3,    16.14,3,     1.39,3, 10.3028
  492SSY9310_2,  P02E,   164,  1,     14,     10,2,19931126,1438, 32.7600,-117.9417,  563,    102.9,  10.3089,  33.4572,2,  33.4623,2,   -999.0,9,    176.4,2,    16.57,3,    15.99,3,     1.39,3, 10.2971
  492SSY9310_2,  P02E,   164,  1,     17,      7,2,19931126,1438, 32.7600,-117.9417,  563,    199.2,   8.9082,  34.0305,2,  34.0260,2,   -999.0,9,    106.7,2,    33.12,3,    25.47,3,     2.05,3,  8.8870
  492SSY9310_2,  P02E,   164,  1,     16,      8,2,19931126,1438, 32.7600,-117.9417,  563,    202.2,   8.9110,  34.0264,2,  34.0258,2,   -999.0,9,   -999.0,5,    33.12,3,    25.71,3,     2.04,3,  8.8895
  492SSY9310_2,  P02E,   164,  1,     19,      5,2,19931126,1438, 32.7600,-117.9417,  563,    299.4,   7.9957,  34.1750,2,  34.1791,2,   -999.0,9,     69.6,2,    46.75,3,    29.56,3,     2.42,3,  7.9656
  492SSY9310_2,  P02E,   164,  1,     18,      6,2,19931126,1438, 32.7600,-117.9417,  563,    302.6,   7.9982,  34.1732,2,  34.1740,2,   -999.0,9,     71.0,3,    46.75,3,    29.48,3,     2.42,3,  7.9678
  492SSY9310_2,  P02E,   164,  1,     21,      3,2,19931126,1438, 32.7600,-117.9417,  563,    399.6,   7.3831,  34.2634,2,  34.2632,2,   -999.0,9,     36.6,2,    58.43,3,    31.60,3,     2.74,3,  7.3446
  492SSY9310_2,  P02E,   164,  1,     20,      4,2,19931126,1438, 32.7600,-117.9417,  563,    403.0,   7.3973,  34.2612,2,  34.2648,2,   -999.0,9,     35.7,2,    59.40,3,    31.49,3,     2.75,3,  7.3584
  492SSY9310_2,  P02E,   164,  1,     23,      1,2,19931126,1438, 32.7600,-117.9417,  563,    500.5,   6.5419,  34.2872,2,  34.2891,2,   -999.0,9,     22.6,2,    70.11,3,    34.36,3,     2.94,3,  6.4964
  492SSY9310_2,  P02E,   164,  1,     22,      2,2,19931126,1438, 32.7600,-117.9417,  563,    503.2,   6.6426,  34.2789,2,  34.2893,2,   -999.0,9,     23.5,3,    70.11,3,    33.82,3,     2.91,3,  6.5965
  492SSY9310_2,  P02E,   165,  1,      8,     16,2,19931126,1734, 32.9700,-117.5517,  762,     49.6,  13.0647,  33.2519,2,  33.2098,3,   -999.0,9,    232.2,2,     5.85,3,     3.72,3,     0.62,3, 13.0580
  492SSY9310_2,  P02E,   165,  1,      7,     17,2,19931126,1734, 32.9700,-117.5517,  762,     52.5,  13.0966,  33.2071,2,  33.2141,2,   -999.0,9,    232.7,2,     4.88,3,     3.72,3,     0.62,3, 13.0895
  492SSY9310_2,  P02E,   165,  1,     10,     14,2,19931126,1734, 32.9700,-117.5517,  762,    100.0,  10.2328,  33.4747,2,  33.4797,2,   -999.0,9,    174.2,2,    17.54,3,    15.77,3,     1.37,3, 10.2214
  492SSY9310_2,  P02E,   165,  1,      9,     15,2,19931126,1734, 32.9700,-117.5517,  762,    102.9,  10.2427,  33.4707,2,  33.4721,2,   -999.0,9,    176.0,2,    16.57,3,    15.51,3,     1.36,3, 10.2309
  492SSY9310_2,  P02E,   165,  1,     12,     12,2,19931126,1734, 32.9700,-117.5517,  762,    199.5,   8.9325,  33.9666,2,  33.9716,2,   -999.0,9,    114.9,2,    34.10,3,    24.54,3,     1.97,3,  8.9112
  492SSY9310_2,  P02E,   165,  1,     11,     13,2,19931126,1734, 32.9700,-117.5517,  762,    202.5,   8.9191,  33.9693,2,  33.9645,2,   -999.0,9,    115.4,2,    32.15,3,    23.89,3,     1.96,3,  8.8975
  492SSY9310_2,  P02E,   165,  1,     14,     10,2,19931126,1734, 32.9700,-117.5517,  762,    298.7,   8.1338,  34.1364,2,  34.1362,2,   -999.0,9,     86.2,2,    45.78,3,    28.21,3,     2.25,3,  8.1036
  492SSY9310_2,  P02E,   165,  1,     13,     11,2,19931126,1734, 32.9700,-117.5517,  762,    302.3,   8.1347,  34.1348,2,  34.1377,2,   -999.0,9,     85.8,2,    45.78,3,    27.93,3,     2.25,3,  8.1041
  492SSY9310_2,  P02E,   165,  1,     16,      8,2,19931126,1734, 32.9700,-117.5517,  762,    400.5,   7.4734,  34.2582,2,  34.2562,2,   -999.0,9,     38.7,2,    55.51,3,    31.84,3,     2.71,3,  7.4345
  492SSY9310_2,  P02E,   165,  1,     15,      9,2,19931126,1734, 32.9700,-117.5517,  762,    402.9,   7.4679,  34.2544,2,  34.2538,2,   -999.0,9,     39.2,2,    55.51,3,    31.92,3,     2.70,3,  7.4288
  492SSY9310_2,  P02E,   165,  1,     18,      6,2,19931126,1734, 32.9700,-117.5517,  762,    500.2,   6.5442,  34.2866,2,  34.2895,2,   -999.0,9,     23.1,2,    71.08,3,    35.05,3,     2.91,3,  6.4987
  492SSY9310_2,  P02E,   165,  1,     17,      7,2,19931126,1734, 32.9700,-117.5517,  762,    503.2,   6.5450,  34.2858,2,  34.2929,3,   -999.0,9,     23.1,2,    70.11,3,    34.93,3,     2.90,3,  6.4992
  492SSY9310_2,  P02E,   165,  1,     20,      4,2,19931126,1734, 32.9700,-117.5517,  762,    600.4,   5.8246,  34.3303,2,  34.3286,2,   -999.0,9,     15.2,2,    82.76,3,    34.92,3,     3.03,3,  5.7728
  492SSY9310_2,  P02E,   165,  1,     19,      5,2,19931126,1734, 32.9700,-117.5517,  762,    603.5,   5.8302,  34.3275,2,  34.3346,3,   -999.0,9,     14.4,2,    84.70,3,    35.85,3,     3.07,3,  5.7781
  492SSY9310_2,  P02E,   165,  1,     22,      2,2,19931126,1734, 32.9700,-117.5517,  762,    699.7,   5.1915,  34.3813,2,  34.3851,2,   -999.0,9,     13.1,2,    97.35,3,    36.11,3,     3.16,3,  5.1339
  492SSY9310_2,  P02E,   165,  1,     23,      1,2,19931126,1734, 32.9700,-117.5517,  762,    699.7,   5.1915,  34.3813,2,  34.3872,2,   -999.0,9,     13.1,2,    98.32,3,    36.73,3,     3.15,3,  5.1339
  492SSY9310_2,  P02E,   165,  1,     21,      3,2,19931126,1734, 32.9700,-117.5517,  762,    702.8,   5.1912,  34.3804,2,  34.3782,2,   -999.0,9,     14.4,2,    89.56,4,    35.20,4,     3.04,4,  5.1333