BOTTLE,20040202WHPSIOSA
EXPOCODE,SECT_ID,STNNBR,CASTNO,SAMPNO,BTLNBR,BTLNBR_FLAG_W,DATE,TIME,LATITUDE,LONGITUDE,DEPTH,CTDPRS,CTDTMP,CTDSAL,CTDSAL_FLAG_W,SALNTY,SALNTY_FLAG_W,CTDOXY,CTDOXY_FLAG_W,OXYGEN,OXYGEN_FLAG_W,SILCAT,SILCAT_FLAG_W,NO2+NO3,NO2+NO3_FLAG_W,PHSPHT,PHSPHT_FLAG_W,THETA
,,,,,,,,,,,,DBAR,ITS-90,PSS-78,,PSS-78,,UMOL/KG,,UMOL/KG,,UMOL/KG,,UMOL/KG,,UMOL/KG,,DEG C
  492SSY9310_2,  P02E,   145,  1,      2,     22,2,19931122,2057, 29.9983,-127.7500, 4480,     50.3,  18.8502,  33.5507,2,  33.5589,2,   -999.0,9,    232.0,2,     4.87,3,     0.00,3,     0.30,3, 18.8414
  492SSY9310_2,  P02E,   145,  1,      3,     21,2,19931122,2057, 29.9983,-127.7500, 4480,     99.4,  16.5707,  33.8020,2,  33.8161,2,   -999.0,9,    237.6,2,    20.46,3,     0.06,3,     1.40,3, 16.5548
  492SSY9310_2,  P02E,   145,  1,      4,     20,2,19931122,2057, 29.9983,-127.7500, 4480,    197.2,   9.5421,  33.5339,2,  33.5341,2,   -999.0,9,    189.9,2,    41.88,3,    17.11,3,     2.14,3,  9.5204
  492SSY9310_2,  P02E,   145,  1,      5,     19,2,19931122,2057, 29.9983,-127.7500, 4480,    300.1,   7.8750,  34.0014,2,  33.9992,2,   -999.0,9,    130.6,2,    64.28,3,    27.61,3,     2.53,3,  7.8452
  492SSY9310_2,  P02E,   145,  1,      6,     18,2,19931122,2057, 29.9983,-127.7500, 4480,    397.1,   6.6441,  34.0839,2,  34.0864,2,   -999.0,9,     69.6,2,    79.85,3,    35.32,3,     2.86,3,  6.6081
  492SSY9310_2,  P02E,   145,  1,      7,     17,2,19931122,2057, 29.9983,-127.7500, 4480,    499.1,   5.8850,  34.1602,2,  34.1585,2,   -999.0,9,     35.7,2,  -999.00,9,    39.24,3,  -999.00,9,  5.8422
  492SSY9310_2,  P02E,   145,  1,      8,     16,2,19931122,2057, 29.9983,-127.7500, 4480,    699.0,   4.9201,  34.3147,2,  34.3086,2,   -999.0,9,     13.9,2,    92.49,3,    41.35,3,     3.11,3,  4.8641
  492SSY9310_2,  P02E,   145,  1,      9,     15,2,19931122,2057, 29.9983,-127.7500, 4480,    797.4,   4.5315,  34.3705,2,  34.3660,2,   -999.0,9,     13.5,2,   100.29,3,    42.22,3,     3.15,3,  4.4694
  492SSY9310_2,  P02E,   145,  1,     10,     14,2,19931122,2057, 29.9983,-127.7500, 4480,    899.7,   4.2612,  34.4287,2,  34.4251,2,   -999.0,9,     16.5,2,   106.12,3,    42.69,3,     3.16,3,  4.1921
  492SSY9310_2,  P02E,   145,  1,     11,     13,2,19931122,2057, 29.9983,-127.7500, 4480,    998.4,   3.9099,  34.4685,2,  34.4622,2,   -999.0,9,     27.8,2,   112.93,3,    42.90,3,     3.15,6,  3.8351
  492SSY9310_2,  P02E,   145,  1,     12,     12,2,19931122,2057, 29.9983,-127.7500, 4480,   1252.9,   3.3186,  34.5219,2,  34.5199,2,   -999.0,9,     38.7,2,   126.55,3,    42.22,3,     3.13,3,  3.2280
  492SSY9310_2,  P02E,   145,  1,     13,     11,2,19931122,2057, 29.9983,-127.7500, 4480,   1497.7,   2.8412,  34.5595,2,  34.5584,2,   -999.0,9,     36.1,4,   138.22,3,    42.66,3,     3.11,3,  2.7354
  492SSY9310_2,  P02E,   145,  1,     14,     10,2,19931122,2057, 29.9983,-127.7500, 4480,   1753.5,   2.4538,  34.5902,2,  34.5897,2,   -999.0,9,     64.4,2,   146.98,3,    41.78,3,     2.98,3,  2.3316
  492SSY9310_2,  P02E,   145,  1,     15,      9,2,19931122,2057, 29.9983,-127.7500, 4480,   2002.6,   2.1526,  34.6158,2,  34.6068,4,   -999.0,9,     75.2,2,   150.87,3,    41.31,3,     2.94,3,  2.0136
  492SSY9310_2,  P02E,   145,  1,     16,      8,2,19931122,2057, 29.9983,-127.7500, 4480,   2251.2,   1.9536,  34.6323,2,  34.6268,2,   -999.0,9,     87.4,2,   154.76,3,    39.85,3,     2.86,3,  1.7964
  492SSY9310_2,  P02E,   145,  1,     17,      7,2,19931122,2057, 29.9983,-127.7500, 4480,   2501.7,   1.7938,  34.6458,2,  34.6409,2,   -999.0,9,    100.9,2,   159.62,3,    40.90,3,     2.80,6,  1.6172
  492SSY9310_2,  P02E,   145,  1,     18,      6,2,19931122,2057, 29.9983,-127.7500, 4480,   3001.6,   1.5788,  34.6643,2,  34.6606,2,   -999.0,9,    119.6,2,   165.47,3,    40.03,3,     2.70,3,  1.3602
  492SSY9310_2,  P02E,   145,  1,     19,      5,2,19931122,2057, 29.9983,-127.7500, 4480,   3500.2,   1.5090,  34.6744,2,  34.6708,2,   -999.0,9,    131.8,2,   163.52,3,    39.33,3,     2.66,3,  1.2428
  492SSY9310_2,  P02E,   145,  1,     21,      3,2,19931122,2057, 29.9983,-127.7500, 4480,   3999.4,   1.5125,  34.6793,3,  34.6569,3,   -999.0,9,    132.6,4,  -999.00,9,    36.75,3,  -999.00,9,  1.1935
  492SSY9310_2,  P02E,   145,  1,     20,      4,2,19931122,2057, 29.9983,-127.7500, 4480,   4003.2,   1.5126,  34.6785,3,  34.2931,3,   -999.0,9,     78.7,4,  -999.00,9,    36.78,3,  -999.00,9,  1.1932
  492SSY9310_2,  P02E,   145,  1,     23,      1,2,19931122,2057, 29.9983,-127.7500, 4480,   4499.3,   1.5501,  34.6811,2,  34.6771,3,   -999.0,9,    143.1,2,   156.72,3,    37.92,3,     2.56,3,  1.1739
  492SSY9310_2,  P02E,   145,  1,     22,      2,2,19931122,2057, 29.9983,-127.7500, 4480,   4502.3,   1.5500,  34.6797,2,  34.6816,2,   -999.0,9,    141.8,2,   167.43,3,    37.89,3,     2.56,3,  1.1735
  492SSY9310_2,  P02E,   146,  1,      1,     23,2,19931123,0153, 29.9983,-127.1683, 4378,     49.8,  19.0091,  33.6370,2,  33.6422,2,   -999.0,9,    233.8,2,     0.98,3,     0.00,3,     0.25,3, 19.0003
  492SSY9310_2,  P02E,   146,  1,      2,     22,2,19931123,0153, 29.9983,-127.1683, 4378,     99.4,  16.4801,  33.8148,2,  33.8525,3,   -999.0,9,    237.2,2,     0.97,3,     0.04,3,     0.26,3, 16.4643
  492SSY9310_2,  P02E,   146,  1,      3,     21,2,19931123,0153, 29.9983,-127.1683, 4378,    200.3,  10.3287,  33.5207,2,  33.5286,2,   -999.0,9,    198.2,2,    10.72,3,    12.77,3,     1.13,3, 10.3055
  492SSY9310_2,  P02E,   146,  1,      4,     20,2,19931123,0153, 29.9983,-127.1683, 4378,    299.2,   8.2077,  33.9801,2,  33.9845,2,   -999.0,9,    128.4,2,    31.17,3,    27.00,3,     1.91,3,  8.1773
  492SSY9310_2,  P02E,   146,  1,      5,     19,2,19931123,0153, 29.9983,-127.1683, 4378,    400.9,   6.9152,  34.0543,2,  34.0609,2,   -999.0,9,     86.6,2,    48.70,3,    33.35,3,     2.34,3,  6.8781
  492SSY9310_2,  P02E,   146,  1,      6,     18,2,19931123,0153, 29.9983,-127.1683, 4378,    499.4,   5.9667,  34.1412,2,  34.1460,2,   -999.0,9,     40.5,2,    69.14,3,    38.11,3,     2.83,3,  5.9235
  492SSY9310_2,  P02E,   146,  1,      7,     17,2,19931123,0153, 29.9983,-127.1683, 4378,    599.4,   5.2069,  34.2009,2,  34.2005,2,   -999.0,9,     23.9,2,    83.73,3,    40.61,3,     3.03,3,  5.1581
  492SSY9310_2,  P02E,   146,  1,      8,     16,2,19931123,0153, 29.9983,-127.1683, 4378,    699.3,   4.8259,  34.2991,2,  34.3017,2,   -999.0,9,     14.8,2,    93.46,3,    40.86,3,     3.12,3,  4.7704
  492SSY9310_2,  P02E,   146,  1,      9,     15,2,19931123,0153, 29.9983,-127.1683, 4378,    799.3,   4.5296,  34.3735,2,  34.3696,2,   -999.0,9,     15.7,2,   102.23,3,    41.98,3,     3.15,3,  4.4673
  492SSY9310_2,  P02E,   146,  1,     10,     14,2,19931123,0153, 29.9983,-127.1683, 4378,    900.2,   4.2257,  34.4270,2,  34.4237,2,   -999.0,9,     19.1,2,   110.01,3,    42.47,3,     3.23,3,  4.1569
  492SSY9310_2,  P02E,   146,  1,     11,     13,2,19931123,0153, 29.9983,-127.1683, 4378,    999.2,   3.9789,  34.4584,2,  34.4579,2,   -999.0,9,     25.7,2,   116.82,3,    42.47,3,     3.13,3,  3.9036
  492SSY9310_2,  P02E,   146,  1,     12,     12,2,19931123,0153, 29.9983,-127.1683, 4378,   1249.8,   3.3602,  34.5179,2,  34.5184,2,   -999.0,9,     37.4,2,   135.31,3,    42.25,3,     3.11,6,  3.2694
  492SSY9310_2,  P02E,   146,  1,     13,     11,2,19931123,0153, 29.9983,-127.1683, 4378,   1499.1,   2.8246,  34.5633,2,  34.5633,2,   -999.0,9,     51.3,2,   150.87,3,    42.06,3,     3.03,3,  2.7189
  492SSY9310_2,  P02E,   146,  1,     14,     10,2,19931123,0153, 29.9983,-127.1683, 4378,   1749.2,   2.4320,  34.5933,2,  34.5977,2,   -999.0,9,     65.7,2,   155.74,3,    41.53,3,     2.92,3,  2.3104
  492SSY9310_2,  P02E,   146,  1,     15,      9,2,19931123,0153, 29.9983,-127.1683, 4378,   1998.1,   2.1312,  34.6182,2,  34.6158,2,   -999.0,9,     79.1,2,   155.73,3,    40.66,3,     2.88,3,  1.9929
  492SSY9310_2,  P02E,   146,  1,     16,      8,2,19931123,0153, 29.9983,-127.1683, 4378,   2249.9,   1.9320,  34.6359,3,  34.6260,3,   -999.0,9,     83.5,3,  -999.00,9,    39.69,3,  -999.00,9,  1.7753
  492SSY9310_2,  P02E,   146,  1,     17,      7,2,19931123,0153, 29.9983,-127.1683, 4378,   2499.9,   1.7874,  34.6470,2,  34.6445,2,   -999.0,9,     99.6,2,   153.78,3,    40.22,3,     2.74,6,  1.6111
  492SSY9310_2,  P02E,   146,  1,     19,      5,2,19931123,0153, 29.9983,-127.1683, 4378,   2999.8,   1.5806,  34.6646,2,  34.6643,2,   -999.0,9,    119.1,2,   165.47,3,    39.51,3,     2.65,3,  1.3621
  492SSY9310_2,  P02E,   146,  1,     18,      6,2,19931123,0153, 29.9983,-127.1683, 4378,   3003.8,   1.5807,  34.6632,2,  34.6655,2,   -999.0,9,    118.7,2,   165.47,3,    39.48,3,     2.65,3,  1.3618
  492SSY9310_2,  P02E,   146,  1,     20,      4,2,19931123,0153, 29.9983,-127.1683, 4378,   3494.8,   1.4975,  34.6749,2,  34.6761,2,   -999.0,9,    133.5,2,   163.52,3,    37.79,3,     2.57,3,  1.2321
  492SSY9310_2,  P02E,   146,  1,     21,      3,2,19931123,0153, 29.9983,-127.1683, 4378,   3499.4,   1.4967,  34.6760,2,  34.6688,4,   -999.0,9,    131.3,2,  -999.00,9,    38.03,3,  -999.00,9,  1.2309
  492SSY9310_2,  P02E,   146,  1,     23,      1,2,19931123,0153, 29.9983,-127.1683, 4378,   3999.6,   1.5029,  34.6807,2,  34.6818,2,   -999.0,9,    140.9,2,   163.53,3,    37.46,3,     2.55,3,  1.1842
  492SSY9310_2,  P02E,   146,  1,     22,      2,2,19931123,0153, 29.9983,-127.1683, 4378,   4001.2,   1.5027,  34.6799,2,  34.6830,2,   -999.0,9,    140.0,2,   162.56,3,    37.61,3,     2.52,3,  1.1838
  492SSY9310_2,  P02E,   147,  1,      1,     23,2,19931123,0630, 30.0083,-126.5850, 4245,     49.5,  19.4972,  33.9451,2,  33.9442,2,   -999.0,9,    231.1,2,     1.95,3,     0.00,3,     0.22,3, 19.4883
  492SSY9310_2,  P02E,   147,  1,      2,     22,2,19931123,0630, 30.0083,-126.5850, 4245,    100.9,  17.1104,  33.9942,2,  33.9724,2,   -999.0,9,    236.8,2,     1.95,3,     0.02,3,     0.24,3, 17.0938
  492SSY9310_2,  P02E,   147,  1,      3,     21,2,19931123,0630, 30.0083,-126.5850, 4245,    201.1,  10.2935,  33.6321,2,  33.6430,2,   -999.0,9,    201.2,2,    12.67,3,    12.72,3,     1.11,3, 10.2702
  492SSY9310_2,  P02E,   147,  1,      4,     20,2,19931123,0630, 30.0083,-126.5850, 4245,    300.6,   8.0592,  33.9982,2,  34.0014,2,   -999.0,9,    127.6,2,    34.09,3,    26.91,3,     2.00,3,  8.0289
  492SSY9310_2,  P02E,   147,  1,      5,     19,2,19931123,0630, 30.0083,-126.5850, 4245,    401.8,   6.8013,  34.0824,2,  34.0878,2,   -999.0,9,     71.8,2,    54.54,3,    34.12,3,     2.53,3,  6.7643
  492SSY9310_2,  P02E,   147,  1,      6,     18,2,19931123,0630, 30.0083,-126.5850, 4245,    500.0,   5.8716,  34.1600,2,  34.1605,2,   -999.0,9,     36.1,2,    73.03,3,    38.32,3,     2.92,3,  5.8288
  492SSY9310_2,  P02E,   147,  1,      7,     17,2,19931123,0630, 30.0083,-126.5850, 4245,    600.2,   5.2116,  34.2351,2,  34.2389,2,   -999.0,9,     20.0,2,    89.57,3,    40.58,3,     3.15,3,  5.1627
  492SSY9310_2,  P02E,   147,  1,      8,     16,2,19931123,0630, 30.0083,-126.5850, 4245,    700.4,   4.8090,  34.3281,2,  34.3268,2,   -999.0,9,     14.8,2,   100.27,3,    40.83,3,     3.22,3,  4.7535
  492SSY9310_2,  P02E,   147,  1,      9,     15,2,19931123,0630, 30.0083,-126.5850, 4245,    800.9,   4.4507,  34.3855,2,  34.3829,2,   -999.0,9,     17.4,2,   108.07,3,    41.48,3,     3.23,3,  4.3888
  492SSY9310_2,  P02E,   147,  1,     10,     14,2,19931123,0630, 30.0083,-126.5850, 4245,    901.8,   4.1573,  34.4375,2,  34.4371,2,   -999.0,9,     22.2,2,   110.01,3,    42.13,3,     3.24,6,  4.0888
  492SSY9310_2,  P02E,   147,  1,     11,     13,2,19931123,0630, 30.0083,-126.5850, 4245,   1001.5,   3.9194,  34.4749,2,  34.4752,2,   -999.0,9,     30.0,2,   113.90,3,    41.94,3,     3.24,3,  3.8443
  492SSY9310_2,  P02E,   147,  1,     12,     12,2,19931123,0630, 30.0083,-126.5850, 4245,   1250.6,   3.3735,  34.5230,2,  34.5239,2,   -999.0,9,     39.6,2,   127.52,3,    41.84,3,     3.14,3,  3.2825
  492SSY9310_2,  P02E,   147,  1,     13,     11,2,19931123,0630, 30.0083,-126.5850, 4245,   1501.8,   2.8567,  34.5599,2,  34.5624,2,   -999.0,9,     50.9,2,   140.16,3,    41.97,3,     3.10,3,  2.7504
  492SSY9310_2,  P02E,   147,  1,     14,     10,2,19931123,0630, 30.0083,-126.5850, 4245,   1750.9,   2.4722,  34.5897,2,  34.5928,2,   -999.0,9,     64.8,2,   149.90,3,    41.28,3,     3.00,3,  2.3499
  492SSY9310_2,  P02E,   147,  1,     15,      9,2,19931123,0630, 30.0083,-126.5850, 4245,   2001.2,   2.1615,  34.6152,2,  34.6178,2,   -999.0,9,     78.7,2,   156.71,3,    40.79,3,     2.93,6,  2.0225
  492SSY9310_2,  P02E,   147,  1,     16,      8,2,19931123,0630, 30.0083,-126.5850, 4245,   2248.7,   1.9408,  34.6352,2,  34.6354,2,   -999.0,9,     91.8,2,   161.57,3,    40.56,3,     2.85,3,  1.7840
  492SSY9310_2,  P02E,   147,  1,     17,      7,2,19931123,0630, 30.0083,-126.5850, 4245,   2248.7,   1.9408,  34.6352,2,  34.6364,2,   -999.0,9,     91.8,2,   158.65,3,    40.22,3,     2.85,3,  1.7840
  492SSY9310_2,  P02E,   147,  1,     19,      5,2,19931123,0630, 30.0083,-126.5850, 4245,   3000.8,   1.5805,  34.6646,2,  34.6655,2,   -999.0,9,    119.6,2,   167.41,3,    39.51,3,     2.73,3,  1.3619
  492SSY9310_2,  P02E,   147,  1,     18,      6,2,19931123,0630, 30.0083,-126.5850, 4245,   3003.7,   1.5808,  34.6629,2,  34.6661,2,   -999.0,9,    120.4,2,   168.39,3,    39.48,3,     2.72,3,  1.3620
  492SSY9310_2,  P02E,   147,  1,     21,      3,2,19931123,0630, 30.0083,-126.5850, 4245,   3500.5,   1.5021,  34.6757,2,  34.6763,2,   -999.0,9,    132.6,2,   163.52,3,    37.58,3,     2.71,3,  1.2360
  492SSY9310_2,  P02E,   147,  1,     20,      4,2,19931123,0630, 30.0083,-126.5850, 4245,   3502.8,   1.5029,  34.6739,2,  34.6753,2,   -999.0,9,    131.8,2,   164.49,3,    37.58,3,     2.67,3,  1.2366
  492SSY9310_2,  P02E,   147,  1,     23,      1,2,19931123,0630, 30.0083,-126.5850, 4245,   3998.3,   1.5002,  34.6810,2,  34.6824,2,   -999.0,9,    140.9,2,   162.56,3,    37.34,3,     2.59,3,  1.1817
  492SSY9310_2,  P02E,   147,  1,     22,      2,2,19931123,0630, 30.0083,-126.5850, 4245,   4001.2,   1.5003,  34.6794,2,  34.6836,2,   -999.0,9,    140.4,2,   162.56,3,    37.29,3,     2.68,3,  1.1815
  492SSY9310_2,  P02E,   148,  1,      1,     23,2,19931123,1147, 29.9950,-126.0133, 4296,     49.2,  19.1012,  33.7127,2,  33.7159,2,   -999.0,9,    233.3,2,     0.00,3,     0.80,3,     0.20,3, 19.0925
  492SSY9310_2,  P02E,   148,  1,      2,     22,2,19931123,1147, 29.9950,-126.0133, 4296,     99.0,  14.9832,  33.1963,2,  33.2092,2,   -999.0,9,    247.7,2,     0.98,3,     0.04,3,     0.31,3, 14.9685
  492SSY9310_2,  P02E,   148,  1,      3,     21,2,19931123,1147, 29.9950,-126.0133, 4296,    198.9,  10.4214,  33.4444,2,  33.4539,2,   -999.0,9,    199.1,2,    10.72,3,    13.09,3,     1.09,3, 10.3982
  492SSY9310_2,  P02E,   148,  1,      4,     20,2,19931123,1147, 29.9950,-126.0133, 4296,    299.1,   7.9696,  34.0074,2,  34.0113,2,   -999.0,9,    121.5,2,    35.07,3,    26.88,3,     1.97,3,  7.9397
  492SSY9310_2,  P02E,   148,  1,      5,     19,2,19931123,1147, 29.9950,-126.0133, 4296,    399.0,   6.6793,  34.0547,2,  34.0550,2,   -999.0,9,     84.0,2,    51.62,3,    33.65,3,     2.39,3,  6.6430
  492SSY9310_2,  P02E,   148,  1,      6,     18,2,19931123,1147, 29.9950,-126.0133, 4296,    500.0,   5.7950,  34.1541,2,  34.1519,2,   -999.0,9,     37.0,2,    72.06,3,    38.69,3,     2.85,3,  5.7525
  492SSY9310_2,  P02E,   148,  1,      7,     17,2,19931123,1147, 29.9950,-126.0133, 4296,    597.6,   5.2900,  34.2572,2,  34.2575,2,   -999.0,9,     19.1,2,    84.71,3,    40.61,3,     3.07,3,  5.2410
  492SSY9310_2,  P02E,   148,  1,      8,     16,2,19931123,1147, 29.9950,-126.0133, 4296,    698.1,   4.8800,  34.3240,2,  34.3137,2,   -999.0,9,     14.4,2,    95.41,3,    41.70,3,     3.15,3,  4.8243
  492SSY9310_2,  P02E,   148,  1,      9,     15,2,19931123,1147, 29.9950,-126.0133, 4296,    799.1,   4.5100,  34.3951,2,  34.3935,2,   -999.0,9,     16.1,2,   102.23,3,    41.29,3,     3.17,3,  4.4478
  492SSY9310_2,  P02E,   148,  1,     10,     14,2,19931123,1147, 29.9950,-126.0133, 4296,    897.8,   4.2431,  34.4334,2,  34.4226,3,   -999.0,9,     20.9,2,   110.01,3,    42.19,3,     3.22,6,  4.1743
  492SSY9310_2,  P02E,   148,  1,     11,     13,2,19931123,1147, 29.9950,-126.0133, 4296,    998.6,   3.9536,  34.4653,2,  34.4608,2,   -999.0,9,     26.5,2,   116.82,3,    42.19,3,     3.09,4,  3.8785
  492SSY9310_2,  P02E,   148,  1,     12,     12,2,19931123,1147, 29.9950,-126.0133, 4296,   1249.0,   3.3358,  34.5247,2,  34.5207,2,   -999.0,9,     38.7,2,   135.31,3,    42.37,3,     2.99,3,  3.2453
  492SSY9310_2,  P02E,   148,  1,     13,     11,2,19931123,1147, 29.9950,-126.0133, 4296,   1500.5,   2.8083,  34.5629,2,  34.5596,2,   -999.0,9,     50.9,2,   148.92,3,    42.03,3,     2.92,3,  2.7027
  492SSY9310_2,  P02E,   148,  1,     14,     10,2,19931123,1147, 29.9950,-126.0133, 4296,   1749.8,   2.4331,  34.5922,2,  34.5869,2,   -999.0,9,     65.2,2,   161.58,3,    41.62,3,     2.87,3,  2.3115
  492SSY9310_2,  P02E,   148,  1,     15,      9,2,19931123,1147, 29.9950,-126.0133, 4296,   1999.9,   2.1633,  34.6172,2,  34.6144,2,   -999.0,9,     79.1,2,   161.57,3,    40.84,3,     2.79,3,  2.0244
  492SSY9310_2,  P02E,   148,  1,     16,      8,2,19931123,1147, 29.9950,-126.0133, 4296,   2249.1,   1.9570,  34.6332,2,  34.6317,2,   -999.0,9,     89.6,2,   152.81,4,    39.64,4,     2.83,3,  1.7999
  492SSY9310_2,  P02E,   148,  1,     17,      7,2,19931123,1147, 29.9950,-126.0133, 4296,   2249.1,   1.9570,  34.6332,2,  34.6291,2,   -999.0,9,     89.6,2,   152.81,3,    41.19,3,     2.72,6,  1.7999
  492SSY9310_2,  P02E,   148,  1,     19,      5,2,19931123,1147, 29.9950,-126.0133, 4296,   2996.0,   1.6041,  34.6617,2,  34.6641,2,   -999.0,9,    117.0,2,   162.55,3,    40.06,3,     2.74,3,  1.3855
  492SSY9310_2,  P02E,   148,  1,     18,      6,2,19931123,1147, 29.9950,-126.0133, 4296,   2999.1,   1.6040,  34.6603,2,  34.6608,2,   -999.0,9,    116.5,2,   162.55,4,    39.66,4,     2.69,4,  1.3851
  492SSY9310_2,  P02E,   148,  1,     21,      3,2,19931123,1147, 29.9950,-126.0133, 4296,   3499.4,   1.5222,  34.6720,2,  34.6716,2,   -999.0,9,    144.4,4,   159.63,4,    36.84,4,     2.57,4,  1.2557
  492SSY9310_2,  P02E,   148,  1,     20,      4,2,19931123,1147, 29.9950,-126.0133, 4296,   3502.8,   1.5226,  34.6704,2,  34.6704,2,   -999.0,9,    127.8,2,   160.60,3,    38.81,3,     2.80,3,  1.2558
  492SSY9310_2,  P02E,   148,  1,     23,      1,2,19931123,1147, 29.9950,-126.0133, 4296,   3998.8,   1.4987,  34.6797,2,  34.6830,2,   -999.0,9,    140.9,2,   158.67,3,    37.52,3,     2.50,3,  1.1802
  492SSY9310_2,  P02E,   148,  1,     22,      2,2,19931123,1147, 29.9950,-126.0133, 4296,   4002.9,   1.4990,  34.6785,2,  34.6798,2,   -999.0,9,    140.0,2,   158.67,3,    37.55,3,     2.49,3,  1.1800