BOTTLE,20040202WHPSIOSA
EXPOCODE,SECT_ID,STNNBR,CASTNO,SAMPNO,BTLNBR,BTLNBR_FLAG_W,DATE,TIME,LATITUDE,LONGITUDE,DEPTH,CTDPRS,CTDTMP,CTDSAL,CTDSAL_FLAG_W,SALNTY,SALNTY_FLAG_W,CTDOXY,CTDOXY_FLAG_W,OXYGEN,OXYGEN_FLAG_W,SILCAT,SILCAT_FLAG_W,NO2+NO3,NO2+NO3_FLAG_W,PHSPHT,PHSPHT_FLAG_W,THETA
,,,,,,,,,,,,DBAR,ITS-90,PSS-78,,PSS-78,,UMOL/KG,,UMOL/KG,,UMOL/KG,,UMOL/KG,,UMOL/KG,,DEG C
  492SSY9310_2,  P02E,   125,  1,      1,     23,2,19931117,1957, 30.0017,-142.7517, 4736,     50.5,  20.9703,  35.3018,2,  35.3045,2,   -999.0,9,    223.6,2,     0.97,3,     0.00,3,     0.02,3, 20.9606
  492SSY9310_2,  P02E,   125,  1,      2,     22,2,19931117,1957, 30.0017,-142.7517, 4736,    100.3,  17.3157,  34.6510,2,  34.6512,2,   -999.0,9,    233.2,2,     1.95,3,     0.04,3,     0.10,3, 17.2991
  492SSY9310_2,  P02E,   125,  1,      3,     21,2,19931117,1957, 30.0017,-142.7517, 4736,    201.6,  12.6598,  34.1919,2,  34.2107,2,   -999.0,9,    216.9,2,     6.82,3,     7.22,3,     0.60,3, 12.6328
  492SSY9310_2,  P02E,   125,  1,      4,     20,2,19931117,1957, 30.0017,-142.7517, 4736,    301.3,  10.2425,  34.1380,2,  34.1399,2,   -999.0,9,    215.6,2,    14.61,3,    14.70,3,     1.05,3, 10.2073
  492SSY9310_2,  P02E,   125,  1,      5,     19,2,19931117,1957, 30.0017,-142.7517, 4736,    400.8,   8.6565,  34.0595,2,  34.0680,2,   -999.0,9,    197.3,2,    24.35,3,    19.81,3,     1.35,3,  8.6142
  492SSY9310_2,  P02E,   125,  1,      6,     18,2,19931117,1957, 30.0017,-142.7517, 4736,    502.8,   6.9030,  33.9874,2,  33.9990,2,   -999.0,9,    147.6,2,    41.88,3,    28.49,3,     1.95,3,  6.8562
  492SSY9310_2,  P02E,   125,  1,      7,     17,2,19931117,1957, 30.0017,-142.7517, 4736,    601.5,   5.3301,  34.0191,2,  34.0229,2,   -999.0,9,     81.8,2,    69.14,3,    38.08,3,     2.62,3,  5.2808
  492SSY9310_2,  P02E,   125,  1,      8,     16,2,19931117,1957, 30.0017,-142.7517, 4736,    702.2,   4.5727,  34.1431,2,  34.1430,2,   -999.0,9,     33.5,3,    90.55,3,    41.88,3,     3.00,3,  4.5185
  492SSY9310_2,  P02E,   125,  1,      9,     15,2,19931117,1957, 30.0017,-142.7517, 4736,    800.4,   4.2456,  34.2599,2,  34.2593,2,   -999.0,9,     17.0,3,   101.27,3,    43.54,3,     3.14,3,  4.1851
  492SSY9310_2,  P02E,   125,  1,     10,     14,2,19931117,1957, 30.0017,-142.7517, 4736,    901.4,   3.9858,  34.3456,2,  34.3470,2,   -999.0,9,     14.8,2,   110.02,3,    44.07,3,     3.21,3,  3.9187
  492SSY9310_2,  P02E,   125,  1,     11,     13,2,19931117,1957, 30.0017,-142.7517, 4736,   1000.4,   3.7458,  34.4015,2,  34.4029,2,   -999.0,9,     19.6,2,   115.85,3,    44.06,3,     3.19,6,  3.6723
  492SSY9310_2,  P02E,   125,  1,     12,     12,2,19931117,1957, 30.0017,-142.7517, 4736,   1249.9,   3.1390,  34.5024,2,  34.5038,2,   -999.0,9,     37.8,2,   129.47,3,    43.48,3,     3.12,3,  3.0504
  492SSY9310_2,  P02E,   125,  1,     13,     11,2,19931117,1957, 30.0017,-142.7517, 4736,   1499.6,   2.7267,  34.5552,2,  34.5567,2,   -999.0,9,     53.5,2,   138.22,3,    42.75,3,     3.07,3,  2.6221
  492SSY9310_2,  P02E,   125,  1,     14,     10,2,19931117,1957, 30.0017,-142.7517, 4736,   1751.8,   2.3631,  34.5855,2,  34.5887,2,   -999.0,9,     66.5,2,   147.95,3,    42.34,3,     2.95,3,  2.2423
  492SSY9310_2,  P02E,   125,  1,     15,      9,2,19931117,1957, 30.0017,-142.7517, 4736,   1999.4,   2.0734,  34.6112,2,  34.6136,2,   -999.0,9,     77.8,2,   155.73,3,    41.90,3,     2.89,3,  1.9359
  492SSY9310_2,  P02E,   125,  1,     16,      8,2,19931117,1957, 30.0017,-142.7517, 4736,   2251.1,   1.8650,  34.6313,2,  34.6299,2,   -999.0,9,     89.6,2,   156.70,3,    40.77,3,     2.82,3,  1.7092
  492SSY9310_2,  P02E,   125,  1,     17,      7,2,19931117,1957, 30.0017,-142.7517, 4736,   2499.5,   1.7270,  34.6444,2,  34.6453,2,   -999.0,9,    100.9,2,   158.64,3,    40.59,3,     2.76,3,  1.5518
  492SSY9310_2,  P02E,   125,  1,     18,      6,2,19931117,1957, 30.0017,-142.7517, 4736,   3000.1,   1.5630,  34.6640,2,  34.6649,2,   -999.0,9,    121.3,2,   159.63,3,    39.86,3,     2.68,3,  1.3449
  492SSY9310_2,  P02E,   125,  1,     19,      5,2,19931117,1957, 30.0017,-142.7517, 4736,   3499.9,   1.4833,  34.6761,2,  34.6759,2,   -999.0,9,    136.5,2,   154.76,3,    38.84,3,     2.58,3,  1.2177
  492SSY9310_2,  P02E,   125,  1,     20,      4,2,19931117,1957, 30.0017,-142.7517, 4736,   4001.1,   1.4738,  34.6829,2,  34.6771,4,   -999.0,9,    138.3,2,   146.01,3,    36.13,3,     2.54,3,  1.1557
  492SSY9310_2,  P02E,   125,  1,     21,      3,2,19931117,1957, 30.0017,-142.7517, 4736,   4499.3,   1.4986,  34.6864,2,  34.6857,2,   -999.0,9,    152.6,2,   146.98,3,    36.41,3,     2.52,6,  1.1240
  492SSY9310_2,  P02E,   125,  1,     23,      1,2,19931117,1957, 30.0017,-142.7517, 4736,   5000.5,   1.5446,  34.6877,2,  34.6885,2,   -999.0,9,    155.7,2,   144.08,3,    36.13,3,     2.50,3,  1.1091
  492SSY9310_2,  P02E,   125,  1,     22,      2,2,19931117,1957, 30.0017,-142.7517, 4736,   5002.3,   1.5446,  34.6869,2,  34.6891,2,   -999.0,9,    154.4,2,   144.08,3,    36.13,3,     2.49,3,  1.1089
  492SSY9310_2,  P02E,   126,  1,      1,     23,2,19931118,0212, 30.0017,-141.8333, 4962,     51.2,  21.4986,  35.4079,2,  35.4082,2,   -999.0,9,    221.4,2,     0.00,3,     0.00,3,     0.04,3, 21.4887
  492SSY9310_2,  P02E,   126,  1,      2,     22,2,19931118,0212, 30.0017,-141.8333, 4962,     99.0,  17.7592,  34.7284,2,  34.7276,2,   -999.0,9,    240.2,2,     1.95,3,     0.00,3,     0.10,3, 17.7425
  492SSY9310_2,  P02E,   126,  1,      3,     21,2,19931118,0212, 30.0017,-141.8333, 4962,    199.8,  12.7062,  34.2803,2,  34.2925,2,   -999.0,9,    212.6,2,     7.79,3,     7.72,3,     0.64,3, 12.6794
  492SSY9310_2,  P02E,   126,  1,      4,     20,2,19931118,0212, 30.0017,-141.8333, 4962,    300.4,  10.1106,  34.1377,2,  34.1370,2,   -999.0,9,    213.0,2,    16.56,3,    14.55,3,     1.05,3, 10.0758
  492SSY9310_2,  P02E,   126,  1,      5,     19,2,19931118,0212, 30.0017,-141.8333, 4962,    399.4,   8.4246,  34.0510,2,  34.0552,2,   -999.0,9,    190.3,2,    27.27,3,    21.00,3,     1.44,3,  8.3831
  492SSY9310_2,  P02E,   126,  1,      6,     18,2,19931118,0212, 30.0017,-141.8333, 4962,    499.0,   6.6681,  33.9922,2,  33.9947,2,   -999.0,9,    141.1,2,    46.75,3,    29.86,3,     2.06,3,  6.6225
  492SSY9310_2,  P02E,   126,  1,      7,     17,2,19931118,0212, 30.0017,-141.8333, 4962,    599.9,   5.3460,  34.0241,2,  34.0264,2,   -999.0,9,     79.2,2,    71.09,3,    37.90,3,     2.65,3,  5.2967
  492SSY9310_2,  P02E,   126,  1,      8,     16,2,19931118,0212, 30.0017,-141.8333, 4962,    699.8,   4.6579,  34.1148,2,  34.1154,2,   -999.0,9,     41.3,2,    88.60,3,    40.59,3,     2.99,3,  4.6034
  492SSY9310_2,  P02E,   126,  1,      9,     15,2,19931118,0212, 30.0017,-141.8333, 4962,    799.6,   4.3645,  34.2283,2,  34.2258,2,   -999.0,9,     20.0,2,    97.37,3,    42.41,3,     3.12,3,  4.3033
  492SSY9310_2,  P02E,   126,  1,     10,     14,2,19931118,0212, 30.0017,-141.8333, 4962,    900.7,   4.0806,  34.3202,2,  34.3135,2,   -999.0,9,     14.4,2,   108.08,3,    44.29,3,     3.19,3,  4.0129
  492SSY9310_2,  P02E,   126,  1,     11,     13,2,19931118,0212, 30.0017,-141.8333, 4962,   1000.2,   3.8127,  34.3917,2,  34.3904,2,   -999.0,9,     18.3,2,   114.88,3,    44.10,3,     3.21,3,  3.7387
  492SSY9310_2,  P02E,   126,  1,     12,     12,2,19931118,0212, 30.0017,-141.8333, 4962,   1249.6,   3.2542,  34.4963,2,  34.4699,4,   -999.0,9,     34.4,2,   126.55,3,    44.01,3,     3.12,3,  3.1645
  492SSY9310_2,  P02E,   126,  1,     13,     11,2,19931118,0212, 30.0017,-141.8333, 4962,   1499.4,   2.7353,  34.5524,2,  34.5512,2,   -999.0,9,     53.9,2,   138.22,3,    43.26,3,     3.03,6,  2.6306
  492SSY9310_2,  P02E,   126,  1,     14,     10,2,19931118,0212, 30.0017,-141.8333, 4962,   1750.3,   2.3544,  34.5869,2,  34.5836,2,   -999.0,9,     65.7,2,   146.98,3,    42.31,3,     2.96,3,  2.2338
  492SSY9310_2,  P02E,   126,  1,     15,      9,2,19931118,0212, 30.0017,-141.8333, 4962,   2000.9,   2.0920,  34.6107,2,  34.6075,2,   -999.0,9,     76.5,2,   153.79,3,    41.59,3,     2.91,3,  1.9541
  492SSY9310_2,  P02E,   126,  1,     16,      8,2,19931118,0212, 30.0017,-141.8333, 4962,   2248.6,   1.8810,  34.6307,2,  34.6272,2,   -999.0,9,     86.5,2,   151.84,3,    40.13,3,     2.80,3,  1.7253
  492SSY9310_2,  P02E,   126,  1,     17,      7,2,19931118,0212, 30.0017,-141.8333, 4962,   2497.8,   1.7386,  34.6443,3,  34.6244,3,   -999.0,9,     93.5,3,  -999.00,9,    37.54,3,  -999.00,9,  1.5634
  492SSY9310_2,  P02E,   126,  1,     18,      6,2,19931118,0212, 30.0017,-141.8333, 4962,   2999.0,   1.5676,  34.6629,2,  34.6629,2,   -999.0,9,    120.9,2,   161.57,3,    39.65,3,     2.68,3,  1.3495
  492SSY9310_2,  P02E,   126,  1,     19,      5,2,19931118,0212, 30.0017,-141.8333, 4962,   3500.0,   1.4870,  34.6754,2,  34.6747,2,   -999.0,9,    136.1,2,   155.73,3,    38.74,3,     2.61,3,  1.2213
  492SSY9310_2,  P02E,   126,  1,     20,      4,2,19931118,0212, 30.0017,-141.8333, 4962,   3998.5,   1.4767,  34.6825,3,  34.6299,3,   -999.0,9,    131.7,3,  -999.00,9,    36.10,3,  -999.00,9,  1.1588
  492SSY9310_2,  P02E,   126,  1,     21,      3,2,19931118,0212, 30.0017,-141.8333, 4962,   4500.3,   1.4982,  34.6859,2,  34.6838,2,   -999.0,9,    152.2,2,   151.85,3,    35.84,3,     2.49,3,  1.1235
  492SSY9310_2,  P02E,   126,  1,     23,      1,2,19931118,0212, 30.0017,-141.8333, 4962,   5002.0,   1.5442,  34.6877,2,  34.6879,2,   -999.0,9,    156.5,2,   144.08,3,    35.99,3,     2.48,3,  1.1085
  492SSY9310_2,  P02E,   126,  1,     22,      2,2,19931118,0212, 30.0017,-141.8333, 4962,   5002.9,   1.5442,  34.6865,2,  34.6877,2,   -999.0,9,    154.8,2,   145.05,3,    36.32,3,     2.46,6,  1.1084
  492SSY9310_2,  P02E,   127,  1,      1,     23,2,19931118,0715, 30.0067,-141.2483, 4798,     99.4,  18.0933,  34.7795,2,  34.7771,2,   -999.0,9,   -999.0,5,     0.97,3,     0.01,3,     0.08,3, 18.0762
  492SSY9310_2,  P02E,   127,  1,      2,     22,2,19931118,0715, 30.0067,-141.2483, 4798,    201.6,  13.7981,  34.3690,2,  34.3811,2,   -999.0,9,    210.9,2,     3.90,3,     5.65,3,     0.48,3, 13.7695
  492SSY9310_2,  P02E,   127,  1,      3,     21,2,19931118,0715, 30.0067,-141.2483, 4798,    300.7,  10.5223,  34.1237,2,  34.1303,2,   -999.0,9,    209.9,2,    12.66,3,    13.08,3,     0.97,3, 10.4865
  492SSY9310_2,  P02E,   127,  1,      4,     20,2,19931118,0715, 30.0067,-141.2483, 4798,    398.3,   8.6020,  34.0517,2,  34.0533,2,   -999.0,9,    196.4,2,    22.40,3,    20.03,3,     1.37,3,  8.5601
  492SSY9310_2,  P02E,   127,  1,      5,     19,2,19931118,0715, 30.0067,-141.2483, 4798,    501.1,   6.5530,  33.9923,2,  33.9933,2,   -999.0,9,    136.3,2,    43.83,3,    30.21,3,     2.06,3,  6.5076
  492SSY9310_2,  P02E,   127,  1,      6,     18,2,19931118,0715, 30.0067,-141.2483, 4798,    601.9,   5.2362,  34.0343,2,  34.0405,2,   -999.0,9,     71.4,2,    68.16,3,    38.58,3,     2.70,3,  5.1873
  492SSY9310_2,  P02E,   127,  1,      7,     17,2,19931118,0715, 30.0067,-141.2483, 4798,    700.5,   4.6791,  34.1381,2,  34.1403,2,   -999.0,9,     37.0,2,    85.68,3,    42.31,3,     3.01,3,  4.6244
  492SSY9310_2,  P02E,   127,  1,      8,     16,2,19931118,0715, 30.0067,-141.2483, 4798,    799.8,   4.2535,  34.2552,2,  34.2558,2,   -999.0,9,     20.5,2,    99.32,3,    42.78,3,     3.15,3,  4.1930
  492SSY9310_2,  P02E,   127,  1,      9,     15,2,19931118,0715, 30.0067,-141.2483, 4798,    902.4,   3.9824,  34.3520,2,  34.3566,2,   -999.0,9,     16.1,2,   108.07,3,    43.29,3,     3.19,3,  3.9152
  492SSY9310_2,  P02E,   127,  1,     10,     14,2,19931118,0715, 30.0067,-141.2483, 4798,   1002.2,   3.7536,  34.3990,2,  34.4010,2,   -999.0,9,     21.8,2,   114.88,3,    43.41,3,     3.19,3,  3.6799
  492SSY9310_2,  P02E,   127,  1,     11,     13,2,19931118,0715, 30.0067,-141.2483, 4798,   1250.3,   3.2074,  34.5029,2,  34.5046,2,   -999.0,9,     43.9,3,   125.57,3,    42.78,3,     3.10,3,  3.1181
  492SSY9310_2,  P02E,   127,  1,     12,     12,2,19931118,0715, 30.0067,-141.2483, 4798,   1498.7,   2.7711,  34.5505,2,  34.5521,2,   -999.0,9,     56.1,2,   137.24,3,    42.22,3,     3.01,3,  2.6661
  492SSY9310_2,  P02E,   127,  1,     13,     11,2,19931118,0715, 30.0067,-141.2483, 4798,   1749.4,   2.3897,  34.5833,2,  34.5859,2,   -999.0,9,     67.8,2,   146.01,3,    42.00,3,     2.96,3,  2.2687
  492SSY9310_2,  P02E,   127,  1,     14,     10,2,19931118,0715, 30.0067,-141.2483, 4798,   1999.1,   2.1104,  34.6079,2,  34.6215,4,   -999.0,9,     77.8,2,   153.79,3,    41.47,3,     2.89,3,  1.9724
  492SSY9310_2,  P02E,   127,  1,     15,      9,2,19931118,0715, 30.0067,-141.2483, 4798,   2250.9,   1.8786,  34.6295,2,  34.6305,2,   -999.0,9,     90.5,2,   157.68,3,    41.03,3,     2.84,3,  1.7227
  492SSY9310_2,  P02E,   127,  1,     16,      8,2,19931118,0715, 30.0067,-141.2483, 4798,   2498.9,   1.7293,  34.6430,2,  34.6394,2,   -999.0,9,     98.7,2,   157.67,3,    40.19,3,     2.79,3,  1.5541
  492SSY9310_2,  P02E,   127,  1,     17,      7,2,19931118,0715, 30.0067,-141.2483, 4798,   2498.9,   1.7293,  34.6430,2,  34.6401,2,   -999.0,9,    100.4,2,   153.78,3,    40.20,3,     2.76,3,  1.5541
  492SSY9310_2,  P02E,   127,  1,     18,      6,2,19931118,0715, 30.0067,-141.2483, 4798,   2999.9,   1.5650,  34.6638,2,  34.6649,2,   -999.0,9,    121.8,2,   157.68,3,    39.44,3,     2.68,3,  1.3469
  492SSY9310_2,  P02E,   127,  1,     19,      5,2,19931118,0715, 30.0067,-141.2483, 4798,   3499.7,   1.4943,  34.6742,2,  34.6739,2,   -999.0,9,    134.8,2,   154.76,3,    38.56,3,     2.60,3,  1.2285
  492SSY9310_2,  P02E,   127,  1,     20,      4,2,19931118,0715, 30.0067,-141.2483, 4798,   3999.8,   1.4785,  34.6818,2,  34.6836,2,   -999.0,9,    146.1,2,   150.88,3,    36.16,3,     2.54,3,  1.1604
  492SSY9310_2,  P02E,   127,  1,     22,      2,2,19931118,0715, 30.0067,-141.2483, 4798,   4498.6,   1.5016,  34.6856,2,  34.6857,2,   -999.0,9,    150.9,2,   147.96,3,    36.43,3,     2.50,6,  1.1270
  492SSY9310_2,  P02E,   127,  1,     21,      3,2,19931118,0715, 30.0067,-141.2483, 4798,   4501.6,   1.5015,  34.6842,2,  34.6806,2,   -999.0,9,    147.4,3,  -999.00,9,    36.22,3,  -999.00,9,  1.1266
  492SSY9310_2,  P02E,   127,  1,     23,      1,2,19931118,0715, 30.0067,-141.2483, 4798,   4925.2,   1.5362,  34.6871,2,  34.6885,2,   -999.0,9,    155.2,2,   144.08,3,    36.13,3,     2.48,3,  1.1101
  492SSY9310_2,  P02E,   128,  1,      1,     23,2,19931118,1226, 30.0067,-140.6733, 4674,     48.6,  21.0949,  35.3845,2,  35.3837,2,   -999.0,9,    222.7,2,  -999.00,9,     0.00,3,  -999.00,9, 21.0856
  492SSY9310_2,  P02E,   128,  1,      2,     22,2,19931118,1226, 30.0067,-140.6733, 4674,     99.8,  17.7790,  34.7838,2,  34.7856,2,   -999.0,9,    237.1,2,     1.95,3,     0.00,3,     0.04,3, 17.7621
  492SSY9310_2,  P02E,   128,  1,      3,     21,2,19931118,1226, 30.0067,-140.6733, 4674,    198.6,  13.4037,  34.3186,2,  34.3154,2,   -999.0,9,    208.2,2,     6.82,3,     7.01,3,     0.56,3, 13.3760
  492SSY9310_2,  P02E,   128,  1,      4,     20,2,19931118,1226, 30.0067,-140.6733, 4674,    298.0,  10.3368,  34.1357,2,  34.1283,2,   -999.0,9,    213.8,2,    13.64,3,    14.65,3,     1.03,3, 10.3018
  492SSY9310_2,  P02E,   128,  1,      5,     19,2,19931118,1226, 30.0067,-140.6733, 4674,    398.5,   8.3420,  34.0358,2,  34.0458,2,   -999.0,9,    190.7,2,    25.33,3,    21.21,3,     1.50,3,  8.3008
  492SSY9310_2,  P02E,   128,  1,      6,     18,2,19931118,1226, 30.0067,-140.6733, 4674,    501.0,   6.5661,  33.9848,2,  33.9888,2,   -999.0,9,    138.0,2,    44.80,3,    30.52,3,     2.14,3,  6.5207
  492SSY9310_2,  P02E,   128,  1,      7,     17,2,19931118,1226, 30.0067,-140.6733, 4674,    600.0,   5.2059,  34.0232,2,  34.0253,2,   -999.0,9,     77.9,2,    69.14,3,    38.76,3,     2.64,3,  5.1572
  492SSY9310_2,  P02E,   128,  1,      8,     16,2,19931118,1226, 30.0067,-140.6733, 4674,    700.4,   4.5770,  34.1381,2,  34.1411,2,   -999.0,9,     34.4,2,    87.63,3,    41.82,3,     2.95,3,  4.5229
  492SSY9310_2,  P02E,   128,  1,      9,     15,2,19931118,1226, 30.0067,-140.6733, 4674,    800.0,   4.3013,  34.2477,2,  34.2468,2,   -999.0,9,     17.8,2,    98.35,3,    43.04,3,     3.07,3,  4.2405
  492SSY9310_2,  P02E,   128,  1,     10,     14,2,19931118,1226, 30.0067,-140.6733, 4674,    899.7,   4.0427,  34.3293,2,  34.3276,2,   -999.0,9,     14.4,2,   109.05,3,    43.88,3,     3.16,3,  3.9753
  492SSY9310_2,  P02E,   128,  1,     11,     13,2,19931118,1226, 30.0067,-140.6733, 4674,    977.5,   3.8211,  34.3888,2,  34.3770,3,   -999.0,9,     18.7,2,   115.86,3,    44.32,3,     3.16,3,  3.7489
  492SSY9310_2,  P02E,   128,  1,     12,     12,2,19931118,1226, 30.0067,-140.6733, 4674,   1249.4,   3.1718,  34.5022,2,  34.4913,4,   -999.0,9,     37.4,2,   130.44,3,    43.54,3,     3.09,3,  3.0829
  492SSY9310_2,  P02E,   128,  1,     13,     11,2,19931118,1226, 30.0067,-140.6733, 4674,   1499.9,   2.6810,  34.5559,2,  34.5535,2,   -999.0,9,     56.5,2,   141.13,3,    43.29,3,     3.06,3,  2.5768
  492SSY9310_2,  P02E,   128,  1,     14,     10,2,19931118,1226, 30.0067,-140.6733, 4674,   1748.5,   2.3214,  34.5898,2,  34.5832,2,   -999.0,9,     69.6,2,   151.85,3,    42.40,3,     2.98,3,  2.2014
  492SSY9310_2,  P02E,   128,  1,     15,      9,2,19931118,1226, 30.0067,-140.6733, 4674,   2000.0,   2.0822,  34.6121,2,  34.6068,2,   -999.0,9,     77.8,2,   158.65,3,    41.90,3,     2.91,3,  1.9445
  492SSY9310_2,  P02E,   128,  1,     16,      8,2,19931118,1226, 30.0067,-140.6733, 4674,   2249.8,   1.8677,  34.6318,2,  34.6266,2,   -999.0,9,     91.3,2,   163.52,3,    41.14,3,     2.81,3,  1.7120
  492SSY9310_2,  P02E,   128,  1,     17,      7,2,19931118,1226, 30.0067,-140.6733, 4674,   2501.5,   1.7647,  34.6421,3,  34.6329,3,   -999.0,9,     98.3,2,   149.89,3,    39.86,4,     2.69,4,  1.5887
  492SSY9310_2,  P02E,   128,  1,     18,      6,2,19931118,1226, 30.0067,-140.6733, 4674,   3000.8,   1.5880,  34.6616,2,  34.6494,4,   -999.0,9,    119.1,2,   160.60,3,    40.04,3,     2.67,3,  1.3693
  492SSY9310_2,  P02E,   128,  1,     19,      5,2,19931118,1226, 30.0067,-140.6733, 4674,   3498.9,   1.5046,  34.6737,2,  34.6696,2,   -999.0,9,    133.5,2,   155.73,3,    38.99,3,     2.57,3,  1.2386
  492SSY9310_2,  P02E,   128,  1,     20,      4,2,19931118,1226, 30.0067,-140.6733, 4674,   3998.5,   1.4880,  34.6799,2,  34.6726,4,   -999.0,9,    137.4,2,   149.91,3,    36.86,3,     2.56,3,  1.1698
  492SSY9310_2,  P02E,   128,  1,     21,      3,2,19931118,1226, 30.0067,-140.6733, 4674,   4001.8,   1.4881,  34.6809,3,  34.6653,3,   -999.0,9,    138.3,3,  -999.00,9,    36.69,3,  -999.00,9,  1.1696
  492SSY9310_2,  P02E,   128,  1,     23,      1,2,19931118,1226, 30.0067,-140.6733, 4674,   4501.7,   1.5111,  34.6849,2,  34.6842,2,   -999.0,9,    149.6,2,   149.91,3,    36.54,3,     2.52,3,  1.1359
  492SSY9310_2,  P02E,   128,  1,     22,      2,2,19931118,1226, 30.0067,-140.6733, 4674,   4504.2,   1.5115,  34.6831,2,  34.6832,2,   -999.0,9,    149.1,2,   149.92,3,    36.84,3,     2.51,3,  1.1360