BOTTLE,20040202WHPSIOSA
EXPOCODE,SECT_ID,STNNBR,CASTNO,SAMPNO,BTLNBR,BTLNBR_FLAG_W,DATE,TIME,LATITUDE,LONGITUDE,DEPTH,CTDPRS,CTDTMP,CTDSAL,CTDSAL_FLAG_W,SALNTY,SALNTY_FLAG_W,CTDOXY,CTDOXY_FLAG_W,OXYGEN,OXYGEN_FLAG_W,SILCAT,SILCAT_FLAG_W,NO2+NO3,NO2+NO3_FLAG_W,PHSPHT,PHSPHT_FLAG_W,THETA
,,,,,,,,,,,,DBAR,ITS-90,PSS-78,,PSS-78,,UMOL/KG,,UMOL/KG,,UMOL/KG,,UMOL/KG,,UMOL/KG,,DEG C
  492SSY9310_2,  P02E,   133,  1,      1,     23,2,19931119,1452, 30.0000,-137.7483, 4593,     49.0,  20.6087,  35.2162,2,  35.2146,2,   -999.0,9,    223.6,2,     0.00,3,     0.00,3,     0.03,3, 20.5994
  492SSY9310_2,  P02E,   133,  1,      2,     22,2,19931119,1452, 30.0000,-137.7483, 4593,     99.9,  19.3726,  35.0128,2,  35.0441,3,   -999.0,9,    228.0,2,     0.97,3,     0.00,3,     0.05,3, 19.3546
  492SSY9310_2,  P02E,   133,  1,      3,     21,2,19931119,1452, 30.0000,-137.7483, 4593,    199.6,  13.4426,  34.1885,2,  34.2068,2,   -999.0,9,    213.9,2,     4.87,3,     5.44,3,     0.52,3, 13.4148
  492SSY9310_2,  P02E,   133,  1,      4,     20,2,19931119,1452, 30.0000,-137.7483, 4593,    301.0,   9.6329,  33.9998,2,  34.0035,2,   -999.0,9,    212.5,2,    16.56,3,    15.67,3,     1.10,3,  9.5991
  492SSY9310_2,  P02E,   133,  1,      5,     19,2,19931119,1452, 30.0000,-137.7483, 4593,    400.5,   7.4481,  33.9929,2,  33.9967,2,   -999.0,9,    160.2,2,    37.01,3,    25.49,3,     1.72,3,  7.4094
  492SSY9310_2,  P02E,   133,  1,      6,     18,2,19931119,1452, 30.0000,-137.7483, 4593,    501.2,   6.1744,  34.0009,2,  34.0010,2,   -999.0,9,    105.4,2,    57.46,3,    33.35,3,     2.31,3,  6.1304
  492SSY9310_2,  P02E,   133,  1,      7,     17,2,19931119,1452, 30.0000,-137.7483, 4593,    601.4,   5.1864,  34.0676,2,  34.0699,2,   -999.0,9,     57.0,2,    79.85,3,    38.45,3,     2.78,3,  5.1376
  492SSY9310_2,  P02E,   133,  1,      8,     16,2,19931119,1452, 30.0000,-137.7483, 4593,    700.1,   4.6347,  34.1824,2,  34.1815,2,   -999.0,9,     33.1,2,    95.41,3,    40.71,3,     2.97,3,  4.5803
  492SSY9310_2,  P02E,   133,  1,      9,     15,2,19931119,1452, 30.0000,-137.7483, 4593,    798.2,   4.3388,  34.2593,2,  34.2617,2,   -999.0,9,     20.9,2,   105.16,3,    42.26,3,     3.09,3,  4.2779
  492SSY9310_2,  P02E,   133,  1,     10,     14,2,19931119,1452, 30.0000,-137.7483, 4593,    899.6,   4.0257,  34.3491,2,  34.3492,2,   -999.0,9,     17.4,2,   118.78,3,    43.19,3,     3.17,6,  3.9584
  492SSY9310_2,  P02E,   133,  1,     11,     13,2,19931119,1452, 30.0000,-137.7483, 4593,   1000.6,   3.7993,  34.4069,2,  34.4059,2,   -999.0,9,     23.5,2,   117.80,3,    42.72,3,     3.15,3,  3.7253
  492SSY9310_2,  P02E,   133,  1,     12,     12,2,19931119,1452, 30.0000,-137.7483, 4593,   1249.8,   3.1631,  34.5039,2,  34.5068,2,   -999.0,9,     39.6,2,   132.39,3,    42.50,3,     3.10,3,  3.0743
  492SSY9310_2,  P02E,   133,  1,     13,     11,2,19931119,1452, 30.0000,-137.7483, 4593,   1497.4,   2.7019,  34.5573,2,  34.5569,2,   -999.0,9,     56.5,2,   143.08,3,    42.50,3,     3.04,3,  2.5977
  492SSY9310_2,  P02E,   133,  1,     14,     10,2,19931119,1452, 30.0000,-137.7483, 4593,   1745.8,   2.3532,  34.5875,2,  34.5875,2,   -999.0,9,     67.8,2,   152.82,3,    41.81,3,     3.01,3,  2.2330
  492SSY9310_2,  P02E,   133,  1,     15,      9,2,19931119,1452, 30.0000,-137.7483, 4593,   1999.7,   2.1018,  34.6096,2,  34.6071,2,   -999.0,9,     76.5,2,   157.68,3,    41.09,3,     2.97,3,  1.9638
  492SSY9310_2,  P02E,   133,  1,     16,      8,2,19931119,1452, 30.0000,-137.7483, 4593,   2247.8,   1.8615,  34.6306,3,  34.6197,3,   -999.0,9,     88.3,2,  -999.00,9,    38.83,3,  -999.00,9,  1.7061
  492SSY9310_2,  P02E,   133,  1,     18,      6,2,19931119,1452, 30.0000,-137.7483, 4593,   2499.1,   1.7276,  34.6441,2,  34.6476,2,   -999.0,9,    101.3,2,   165.46,3,    39.98,3,     2.74,3,  1.5525
  492SSY9310_2,  P02E,   133,  1,     17,      7,2,19931119,1452, 30.0000,-137.7483, 4593,   2503.2,   1.7273,  34.6427,3,  34.6280,3,   -999.0,9,     95.2,4,  -999.00,9,    39.41,3,  -999.00,9,  1.5518
  492SSY9310_2,  P02E,   133,  1,     19,      5,2,19931119,1452, 30.0000,-137.7483, 4593,   2998.9,   1.5635,  34.6623,2,  34.6614,2,   -999.0,9,    120.0,2,   167.42,3,    39.20,3,     2.66,3,  1.3455
  492SSY9310_2,  P02E,   133,  1,     20,      4,2,19931119,1452, 30.0000,-137.7483, 4593,   3501.0,   1.5031,  34.6728,2,  34.6755,2,   -999.0,9,    133.9,2,   162.55,3,    36.34,3,     2.57,6,  1.2369
  492SSY9310_2,  P02E,   133,  1,     21,      3,2,19931119,1452, 30.0000,-137.7483, 4593,   4000.2,   1.4945,  34.6796,2,  34.6720,4,   -999.0,9,    137.4,2,   151.85,3,    35.78,3,     2.53,3,  1.1760
  492SSY9310_2,  P02E,   133,  1,     23,      1,2,19931119,1452, 30.0000,-137.7483, 4593,   4499.6,   1.5395,  34.6815,2,  34.6834,2,   -999.0,9,    144.8,2,   156.72,3,    36.25,3,     2.52,3,  1.1636
  492SSY9310_2,  P02E,   133,  1,     22,      2,2,19931119,1452, 30.0000,-137.7483, 4593,   4504.6,   1.5399,  34.6805,3,  34.6657,3,   -999.0,9,    134.8,4,  -999.00,9,    36.69,3,  -999.00,9,  1.1635
  492SSY9310_2,  P02E,   134,  1,      1,     23,2,19931119,2006, 30.0067,-137.1683, 4572,     48.5,  20.4770,  35.1341,2,  35.1268,2,   -999.0,9,    224.9,2,     0.00,3,     0.00,3,     0.01,3, 20.4679
  492SSY9310_2,  P02E,   134,  1,      2,     22,2,19931119,2006, 30.0067,-137.1683, 4572,    102.5,  20.4011,  35.1129,2,  35.1110,2,   -999.0,9,    225.0,2,     0.97,3,     0.02,3,     0.01,3, 20.3819
  492SSY9310_2,  P02E,   134,  1,      3,     21,2,19931119,2006, 30.0067,-137.1683, 4572,    200.7,  13.2787,  34.0948,2,  34.1219,2,   -999.0,9,    212.6,2,     5.85,3,     5.97,3,     0.56,3, 13.2510
  492SSY9310_2,  P02E,   134,  1,      4,     20,2,19931119,2006, 30.0067,-137.1683, 4572,    301.9,   9.1612,  33.9463,2,  33.9483,2,   -999.0,9,    209.0,2,    18.51,3,    17.01,3,     1.24,3,  9.1284
  492SSY9310_2,  P02E,   134,  1,      5,     19,2,19931119,2006, 30.0067,-137.1683, 4572,    401.2,   7.2425,  34.0167,2,  33.9976,3,   -999.0,9,    153.3,2,    38.96,3,    26.24,3,     1.83,3,  7.2043
  492SSY9310_2,  P02E,   134,  1,      6,     18,2,19931119,2006, 30.0067,-137.1683, 4572,    500.4,   5.8250,  34.0122,2,  34.0155,2,   -999.0,9,     88.4,2,    61.35,3,    35.89,3,     2.54,3,  5.7824
  492SSY9310_2,  P02E,   134,  1,      7,     17,2,19931119,2006, 30.0067,-137.1683, 4572,    601.4,   5.0977,  34.0857,2,  34.0868,2,   -999.0,9,     50.9,2,    76.92,3,    39.65,3,     2.86,3,  5.0493
  492SSY9310_2,  P02E,   134,  1,      8,     16,2,19931119,2006, 30.0067,-137.1683, 4572,    701.5,   4.5527,  34.1968,2,  34.1899,2,   -999.0,9,     26.1,2,    94.44,3,    40.89,3,     3.04,3,  4.4986
  492SSY9310_2,  P02E,   134,  1,      9,     15,2,19931119,2006, 30.0067,-137.1683, 4572,    801.8,   4.2338,  34.2749,2,  34.2715,2,   -999.0,9,     72.2,4,    72.05,4,    32.55,4,     2.34,4,  4.1732
  492SSY9310_2,  P02E,   134,  1,     10,     14,2,19931119,2006, 30.0067,-137.1683, 4572,    898.4,   3.9744,  34.3635,2,  34.3605,2,   -999.0,9,     17.8,2,   112.94,3,    42.44,3,     3.02,3,  3.9076
  492SSY9310_2,  P02E,   134,  1,     11,     13,2,19931119,2006, 30.0067,-137.1683, 4572,   1003.5,   3.7087,  34.4296,2,  34.4277,2,   -999.0,9,     26.5,2,   119.74,3,    42.44,3,     3.14,3,  3.6352
  492SSY9310_2,  P02E,   134,  1,     12,     12,2,19931119,2006, 30.0067,-137.1683, 4572,   1251.2,   3.2186,  34.5092,2,  34.5072,2,   -999.0,9,     41.8,2,   131.41,3,    42.34,3,     3.10,3,  3.1291
  492SSY9310_2,  P02E,   134,  1,     13,     11,2,19931119,2006, 30.0067,-137.1683, 4572,   1500.4,   2.7495,  34.5555,2,  34.5557,2,   -999.0,9,     57.0,2,   143.08,3,    42.00,3,     3.05,3,  2.6446
  492SSY9310_2,  P02E,   134,  1,     14,     10,2,19931119,2006, 30.0067,-137.1683, 4572,   1500.4,   2.7495,  34.5555,2,  34.5657,4,   -999.0,9,   -999.0,5,   143.08,3,    42.00,3,     3.00,3,  2.6446
  492SSY9310_2,  P02E,   134,  1,     15,      9,2,19931119,2006, 30.0067,-137.1683, 4572,   1998.2,   2.0783,  34.6141,2,  34.6225,4,   -999.0,9,     79.6,2,   160.60,3,    41.12,3,     2.86,3,  1.9408
  492SSY9310_2,  P02E,   134,  1,     16,      8,2,19931119,2006, 30.0067,-137.1683, 4572,   2247.9,   1.8834,  34.6310,2,  34.6427,4,   -999.0,9,     90.9,2,   160.59,3,    39.31,3,     2.80,3,  1.7277
  492SSY9310_2,  P02E,   134,  1,     17,      7,2,19931119,2006, 30.0067,-137.1683, 4572,   2247.9,   1.8834,  34.6310,2,  34.6229,4,   -999.0,9,     90.0,2,   153.78,3,    40.08,3,     2.77,3,  1.7277
  492SSY9310_2,  P02E,   134,  1,     18,      6,2,19931119,2006, 30.0067,-137.1683, 4572,   2999.4,   1.5566,  34.6640,2,  34.6633,2,   -999.0,9,    121.8,2,   163.52,3,    38.77,3,     2.66,3,  1.3387
  492SSY9310_2,  P02E,   134,  1,     19,      5,2,19931119,2006, 30.0067,-137.1683, 4572,   3495.8,   1.4953,  34.6750,2,  34.6732,2,   -999.0,9,   -999.0,5,   159.63,3,    37.39,3,     2.58,3,  1.2299
  492SSY9310_2,  P02E,   134,  1,     21,      3,2,19931119,2006, 30.0067,-137.1683, 4572,   3998.5,   1.4979,  34.6805,3,  34.5702,3,   -999.0,9,   -999.0,5,  -999.00,9,    35.66,3,  -999.00,9,  1.1794
  492SSY9310_2,  P02E,   134,  1,     20,      4,2,19931119,2006, 30.0067,-137.1683, 4572,   4000.7,   1.4978,  34.6803,2,  34.6791,2,   -999.0,9,    143.1,2,   157.69,3,    36.07,3,     2.55,3,  1.1791
  492SSY9310_2,  P02E,   134,  1,     23,      1,2,19931119,2006, 30.0067,-137.1683, 4572,   4500.7,   1.5406,  34.6819,2,  34.6830,2,   -999.0,9,    145.7,2,   157.69,3,    36.37,3,     2.51,3,  1.1646
  492SSY9310_2,  P02E,   134,  1,     22,      2,2,19931119,2006, 30.0067,-137.1683, 4572,   4502.1,   1.5405,  34.6805,2,  34.6826,2,   -999.0,9,    144.4,2,   157.69,3,    36.10,3,     2.52,3,  1.1643
  492SSY9310_2,  P02E,   135,  1,      1,     23,2,19931120,0600, 30.0050,-136.2550, 4042,     49.5,  20.3897,  34.9221,2,  34.9193,2,   -999.0,9,    225.8,2,     3.90,3,     0.00,3,     0.05,3, 20.3804
  492SSY9310_2,  P02E,   135,  1,      2,     22,2,19931120,0600, 30.0050,-136.2550, 4042,    100.7,  18.1580,  34.6349,2,  34.6409,2,   -999.0,9,    229.3,2,     3.90,3,     0.04,3,     0.11,3, 18.1407
  492SSY9310_2,  P02E,   135,  1,      3,     21,2,19931120,0600, 30.0050,-136.2550, 4042,    199.9,  14.1430,  34.3370,2,  34.3346,2,   -999.0,9,    213.1,2,     5.85,3,     5.07,3,     0.47,3, 14.1141
  492SSY9310_2,  P02E,   135,  1,      4,     20,2,19931120,0600, 30.0050,-136.2550, 4042,    298.3,   9.8886,  34.0620,2,  34.0633,2,   -999.0,9,    216.4,2,    15.59,3,    14.85,3,     1.07,3,  9.8546
  492SSY9310_2,  P02E,   135,  1,      5,     19,2,19931120,0600, 30.0050,-136.2550, 4042,    400.2,   7.7890,  34.0022,2,  34.0041,2,   -999.0,9,    173.7,2,    30.19,3,    23.65,3,     1.64,3,  7.7493
  492SSY9310_2,  P02E,   135,  1,      6,     18,2,19931120,0600, 30.0050,-136.2550, 4042,    501.8,   6.4022,  33.9996,2,  34.0021,2,   -999.0,9,    116.7,2,    50.64,3,    32.53,3,     2.27,3,  6.3573
  492SSY9310_2,  P02E,   135,  1,      7,     17,2,19931120,0600, 30.0050,-136.2550, 4042,    599.5,   5.2183,  34.0652,2,  34.0670,2,   -999.0,9,     58.3,2,    74.01,3,    39.59,3,     2.81,3,  5.1696
  492SSY9310_2,  P02E,   135,  1,      8,     16,2,19931120,0600, 30.0050,-136.2550, 4042,    701.1,   4.6315,  34.1747,2,  34.1734,2,   -999.0,9,     30.9,2,    90.55,3,    40.71,3,     3.03,3,  4.5770
  492SSY9310_2,  P02E,   135,  1,      9,     15,2,19931120,0600, 30.0050,-136.2550, 4042,    798.7,   4.2031,  34.2787,2,  34.2805,2,   -999.0,9,     21.3,2,   103.21,3,    41.92,3,     3.06,3,  4.1430
  492SSY9310_2,  P02E,   135,  1,     10,     14,2,19931120,0600, 30.0050,-136.2550, 4042,    899.8,   3.9497,  34.3676,2,  34.3649,2,   -999.0,9,     20.0,2,   112.94,3,    43.03,3,     3.14,3,  3.8828
  492SSY9310_2,  P02E,   135,  1,     11,     13,2,19931120,0600, 30.0050,-136.2550, 4042,   1004.1,   3.7146,  34.4302,2,  34.4298,2,   -999.0,9,     26.5,2,   119.74,3,    42.59,3,     3.13,3,  3.6410
  492SSY9310_2,  P02E,   135,  1,     12,     12,2,19931120,0600, 30.0050,-136.2550, 4042,   1246.7,   3.1816,  34.5120,2,  34.5125,2,   -999.0,9,     42.2,2,   132.39,3,    42.37,3,     3.07,3,  3.0928
  492SSY9310_2,  P02E,   135,  1,     13,     11,2,19931120,0600, 30.0050,-136.2550, 4042,   1498.4,   2.7370,  34.5578,2,  34.5584,2,   -999.0,9,     56.5,2,   139.19,3,    42.37,3,     3.02,3,  2.6324
  492SSY9310_2,  P02E,   135,  1,     14,     10,2,19931120,0600, 30.0050,-136.2550, 4042,   1750.1,   2.3479,  34.5897,2,  34.5891,2,   -999.0,9,     68.3,2,   147.95,3,    41.68,3,     2.94,3,  2.2274
  492SSY9310_2,  P02E,   135,  1,     15,      9,2,19931120,0600, 30.0050,-136.2550, 4042,   2000.7,   2.0841,  34.6122,2,  34.6115,2,   -999.0,9,     78.7,2,   155.73,3,    41.25,3,     2.89,3,  1.9463
  492SSY9310_2,  P02E,   135,  1,     16,      8,2,19931120,0600, 30.0050,-136.2550, 4042,   2251.4,   1.8732,  34.6309,2,  34.6248,3,   -999.0,9,     88.3,2,   154.76,3,    39.07,3,     2.83,3,  1.7173
  492SSY9310_2,  P02E,   135,  1,     17,      7,2,19931120,0600, 30.0050,-136.2550, 4042,   2251.4,   1.8732,  34.6309,2,  34.6315,2,   -999.0,9,     91.3,2,   159.62,3,    40.38,3,     2.84,3,  1.7173
  492SSY9310_2,  P02E,   135,  1,     19,      5,2,19931120,0600, 30.0050,-136.2550, 4042,   3002.9,   1.5462,  34.6645,2,  34.6625,2,   -999.0,9,    122.6,2,   161.57,3,    38.83,3,     2.66,3,  1.3282
  492SSY9310_2,  P02E,   135,  1,     18,      6,2,19931120,0600, 30.0050,-136.2550, 4042,   3005.0,   1.5475,  34.6625,2,  34.6649,2,   -999.0,9,    122.2,2,   161.57,3,    38.74,3,     2.68,3,  1.3293
  492SSY9310_2,  P02E,   135,  1,     21,      3,2,19931120,0600, 30.0050,-136.2550, 4042,   3496.9,   1.4896,  34.6754,3,  34.6531,3,   -999.0,9,    126.1,4,  -999.00,9,    36.72,3,  -999.00,9,  1.2242
  492SSY9310_2,  P02E,   135,  1,     20,      4,2,19931120,0600, 30.0050,-136.2550, 4042,   3500.1,   1.4896,  34.6740,3,  34.6280,3,   -999.0,9,    115.7,4,  -999.00,9,    36.83,3,  -999.00,9,  1.2239
  492SSY9310_2,  P02E,   135,  1,     22,      2,2,19931120,0600, 30.0050,-136.2550, 4042,   4001.4,   1.4955,  34.6805,2,  34.6820,2,   -999.0,9,    142.6,2,   158.67,3,    36.66,3,     2.50,3,  1.1768
  492SSY9310_2,  P02E,   135,  1,     23,      1,2,19931120,0600, 30.0050,-136.2550, 4042,   4005.4,   1.4954,  34.6809,2,  34.6796,2,   -999.0,9,    143.9,2,   156.72,3,    36.78,3,     2.53,3,  1.1763
  492SSY9310_2,  P02E,   136,  1,      1,     23,2,19931120,1306, 30.0000,-135.3333, 4225,     47.9,  20.3995,  34.9769,2,  34.9780,2,   -999.0,9,    225.8,2,     0.00,3,     0.00,3,     0.05,3, 20.3905
  492SSY9310_2,  P02E,   136,  1,      2,     22,2,19931120,1306, 30.0000,-135.3333, 4225,     98.5,  20.2008,  34.9582,2,  34.9770,2,   -999.0,9,    225.9,2,     0.97,3,     0.00,3,     0.06,3, 20.1824
  492SSY9310_2,  P02E,   136,  1,      3,     21,2,19931120,1306, 30.0000,-135.3333, 4225,    200.7,  15.3383,  34.4271,2,  34.4328,2,   -999.0,9,    213.5,2,     3.90,3,     3.47,3,     0.37,3, 15.3077
  492SSY9310_2,  P02E,   136,  1,      4,     20,2,19931120,1306, 30.0000,-135.3333, 4225,    298.8,   9.3779,  33.9219,2,  33.9199,2,   -999.0,9,    209.5,2,    15.59,3,    16.63,3,     1.21,3,  9.3450
  492SSY9310_2,  P02E,   136,  1,      5,     19,2,19931120,1306, 30.0000,-135.3333, 4225,    399.9,   7.5220,  33.9937,2,  33.9935,2,   -999.0,9,    158.5,2,    35.06,3,    26.13,3,     1.81,3,  7.4831
  492SSY9310_2,  P02E,   136,  1,      6,     18,2,19931120,1306, 30.0000,-135.3333, 4225,    500.4,   6.0157,  33.9993,2,  33.9959,2,   -999.0,9,     99.3,2,    57.46,3,    34.96,3,     2.46,3,  5.9724
  492SSY9310_2,  P02E,   136,  1,      7,     17,2,19931120,1306, 30.0000,-135.3333, 4225,    598.9,   5.1213,  34.1009,2,  34.0927,2,   -999.0,9,     44.4,2,    78.87,3,    40.77,3,     2.89,3,  5.0730
  492SSY9310_2,  P02E,   136,  1,      8,     16,2,19931120,1306, 30.0000,-135.3333, 4225,    699.3,   4.6020,  34.2154,2,  34.2005,2,   -999.0,9,     21.3,2,    96.39,3,    42.38,3,     3.10,3,  4.5478
  492SSY9310_2,  P02E,   136,  1,      9,     15,2,19931120,1306, 30.0000,-135.3333, 4225,    801.4,   4.2762,  34.3193,2,  34.3072,3,   -999.0,9,     17.8,2,   106.13,3,    43.76,3,     3.16,3,  4.2153
  492SSY9310_2,  P02E,   136,  1,     10,     14,2,19931120,1306, 30.0000,-135.3333, 4225,    898.3,   4.0157,  34.3920,2,  34.3806,3,   -999.0,9,     20.4,2,   109.04,3,    43.63,3,     3.20,3,  3.9486
  492SSY9310_2,  P02E,   136,  1,     11,     13,2,19931120,1306, 30.0000,-135.3333, 4225,    999.2,   3.7843,  34.4420,2,  34.4357,2,   -999.0,9,     27.4,2,   113.90,3,    43.62,3,     3.18,3,  3.7105
  492SSY9310_2,  P02E,   136,  1,     12,     12,2,19931120,1306, 30.0000,-135.3333, 4225,   1250.2,   3.2364,  34.5184,2,  34.5148,2,   -999.0,9,     44.4,2,   125.57,3,    43.10,3,     3.11,3,  3.1468
  492SSY9310_2,  P02E,   136,  1,     13,     11,2,19931120,1306, 30.0000,-135.3333, 4225,   1499.5,   2.8003,  34.5566,2,  34.5529,2,   -999.0,9,     53.9,2,   137.24,3,    43.10,3,     3.09,3,  2.6949
  492SSY9310_2,  P02E,   136,  1,     14,     10,2,19931120,1306, 30.0000,-135.3333, 4225,   1750.5,   2.3998,  34.5894,2,  34.5871,2,   -999.0,9,     67.0,2,   147.96,3,    42.50,3,     3.03,3,  2.2786
  492SSY9310_2,  P02E,   136,  1,     15,      9,2,19931120,1306, 30.0000,-135.3333, 4225,   1999.1,   2.1347,  34.6119,2,  34.6052,2,   -999.0,9,     77.4,2,   156.71,3,    41.74,3,     2.90,3,  1.9963
  492SSY9310_2,  P02E,   136,  1,     16,      8,2,19931120,1306, 30.0000,-135.3333, 4225,   2248.5,   1.9262,  34.6278,2,  34.6225,2,   -999.0,9,     88.3,2,   155.73,3,    40.65,3,     2.84,3,  1.7697
  492SSY9310_2,  P02E,   136,  1,     17,      7,2,19931120,1306, 30.0000,-135.3333, 4225,   2497.0,   1.7727,  34.6422,2,  34.6335,4,   -999.0,9,    100.4,2,   164.49,3,    40.56,3,     2.79,3,  1.5969
  492SSY9310_2,  P02E,   136,  1,     19,      5,2,19931120,1306, 30.0000,-135.3333, 4225,   3001.2,   1.5715,  34.6619,2,  34.6594,2,   -999.0,9,    118.7,2,   159.63,3,    39.62,3,     2.70,3,  1.3531
  492SSY9310_2,  P02E,   136,  1,     18,      6,2,19931120,1306, 30.0000,-135.3333, 4225,   3002.7,   1.5711,  34.6604,2,  34.6559,3,   -999.0,9,    119.6,2,   161.58,3,    39.62,3,     2.69,3,  1.3526
  492SSY9310_2,  P02E,   136,  1,     21,      3,2,19931120,1306, 30.0000,-135.3333, 4225,   3499.7,   1.4882,  34.6755,3,  34.6433,3,   -999.0,9,    116.1,4,  -999.00,9,    38.49,3,  -999.00,9,  1.2225
  492SSY9310_2,  P02E,   136,  1,     20,      4,2,19931120,1306, 30.0000,-135.3333, 4225,   3503.2,   1.4882,  34.6744,2,  34.6531,4,   -999.0,9,    119.1,4,   154.76,3,    38.31,3,     2.69,3,  1.2222
  492SSY9310_2,  P02E,   136,  1,     23,      1,2,19931120,1306, 30.0000,-135.3333, 4225,   3998.6,   1.4895,  34.6815,2,  34.6798,2,   -999.0,9,    143.9,2,   155.75,3,    37.33,3,     2.57,3,  1.1713
  492SSY9310_2,  P02E,   136,  1,     22,      2,2,19931120,1306, 30.0000,-135.3333, 4225,   3999.6,   1.4893,  34.6805,2,  34.6814,2,   -999.0,9,    143.1,2,   154.77,3,    37.33,3,     2.56,3,  1.1710