BOTTLE,20040202WHPSIOSA
EXPOCODE,SECT_ID,STNNBR,CASTNO,SAMPNO,BTLNBR,BTLNBR_FLAG_W,DATE,TIME,LATITUDE,LONGITUDE,DEPTH,CTDPRS,CTDTMP,CTDSAL,CTDSAL_FLAG_W,SALNTY,SALNTY_FLAG_W,CTDOXY,CTDOXY_FLAG_W,OXYGEN,OXYGEN_FLAG_W,SILCAT,SILCAT_FLAG_W,NO2+NO3,NO2+NO3_FLAG_W,PHSPHT,PHSPHT_FLAG_W,THETA
,,,,,,,,,,,,DBAR,ITS-90,PSS-78,,PSS-78,,UMOL/KG,,UMOL/KG,,UMOL/KG,,UMOL/KG,,UMOL/KG,,DEG C
  492SSY9310_2,  P02E,   109,  1,      1,     23,2,19931113,1211, 30.0017,-153.0800, 5353,     50.4,  21.0199,  34.9620,2,  35.0378,3,   -999.0,9,    224.9,2,     3.90,3,     0.00,3,     0.03,3, 21.0102
  492SSY9310_2,  P02E,   109,  1,      2,     22,2,19931113,1211, 30.0017,-153.0800, 5353,     99.6,  15.9028,  34.6505,2,  34.6472,2,   -999.0,9,    231.4,2,     3.90,3,     0.78,3,     0.20,3, 15.8872
  492SSY9310_2,  P02E,   109,  1,      3,     21,2,19931113,1211, 30.0017,-153.0800, 5353,    201.3,  12.8278,  34.3594,2,  34.3647,2,   -999.0,9,    220.8,2,     7.79,3,     8.04,3,     0.65,3, 12.8006
  492SSY9310_2,  P02E,   109,  1,      4,     20,2,19931113,1211, 30.0017,-153.0800, 5353,    296.5,  10.8813,  34.2238,2,  34.2173,2,   -999.0,9,   -999.0,5,    13.64,3,    12.80,3,     0.98,3, 10.8452
  492SSY9310_2,  P02E,   109,  1,      5,     19,2,19931113,1211, 30.0017,-153.0800, 5353,    399.0,   8.9051,  34.0953,2,  34.0942,2,   -999.0,9,    200.3,2,    23.38,3,    18.75,3,     1.31,3,  8.8621
  492SSY9310_2,  P02E,   109,  1,      6,     18,2,19931113,1211, 30.0017,-153.0800, 5353,    500.5,   7.1829,  34.0019,2,  34.0092,2,   -999.0,9,    164.2,2,    37.99,3,    25.68,3,     1.78,3,  7.1352
  492SSY9310_2,  P02E,   109,  1,      7,     17,2,19931113,1211, 30.0017,-153.0800, 5353,    601.6,   5.5312,  34.0023,2,  34.0006,2,   -999.0,9,    100.1,2,    64.27,3,    34.96,3,     2.43,3,  5.4809
  492SSY9310_2,  P02E,   109,  1,      8,     16,2,19931113,1211, 30.0017,-153.0800, 5353,    701.0,   4.6171,  34.0774,2,  34.0735,2,   -999.0,9,     53.1,2,    85.69,3,    39.78,3,     2.85,3,  4.5628
  492SSY9310_2,  P02E,   109,  1,      9,     15,2,19931113,1211, 30.0017,-153.0800, 5353,    800.7,   4.0221,  34.1815,2,  34.1721,2,   -999.0,9,     27.0,2,   103.22,3,    42.75,3,     3.04,3,  3.9631
  492SSY9310_2,  P02E,   109,  1,     10,     14,2,19931113,1211, 30.0017,-153.0800, 5353,    900.0,   3.7388,  34.2736,2,  34.2625,3,   -999.0,9,     17.4,2,   126.58,3,    43.54,3,     3.14,3,  3.6736
  492SSY9310_2,  P02E,   109,  1,     12,     12,2,19931113,1211, 30.0017,-153.0800, 5353,   1249.2,   3.0600,  34.4967,2,  34.4913,2,   -999.0,9,     33.5,2,   133.36,3,    43.01,3,     3.12,3,  2.9721
  492SSY9310_2,  P02E,   109,  1,     13,     11,2,19931113,1211, 30.0017,-153.0800, 5353,   1502.5,   2.6384,  34.5483,2,  34.5423,2,   -999.0,9,     53.1,2,   141.14,3,    42.61,3,     3.06,3,  2.5345
  492SSY9310_2,  P02E,   109,  1,     14,     10,2,19931113,1211, 30.0017,-153.0800, 5353,   1749.3,   2.2481,  34.5879,2,  34.5879,2,   -999.0,9,     70.5,2,   148.93,3,    41.75,3,     2.97,6,  2.1289
  492SSY9310_2,  P02E,   109,  1,     15,      9,2,19931113,1211, 30.0017,-153.0800, 5353,   1999.9,   2.0041,  34.6137,2,  34.6079,2,   -999.0,9,     81.3,2,   154.76,3,    41.17,3,     2.84,3,  1.8676
  492SSY9310_2,  P02E,   109,  1,     16,      8,2,19931113,1211, 30.0017,-153.0800, 5353,   2249.7,   1.8186,  34.6319,2,  34.6181,4,   -999.0,9,     90.9,2,   156.70,3,    39.85,3,     2.78,4,  1.6637
  492SSY9310_2,  P02E,   109,  1,     17,      7,2,19931113,1211, 30.0017,-153.0800, 5353,   2499.4,   1.6992,  34.6440,2,  34.6380,2,   -999.0,9,    101.8,2,   162.54,3,    39.92,3,     2.75,3,  1.5246
  492SSY9310_2,  P02E,   109,  1,     18,      6,2,19931113,1211, 30.0017,-153.0800, 5353,   2999.3,   1.5408,  34.6632,2,  34.6582,2,   -999.0,9,    121.8,2,   163.52,3,    38.85,3,     2.68,3,  1.3233
  492SSY9310_2,  P02E,   109,  1,     20,      4,2,19931113,1211, 30.0017,-153.0800, 5353,   4001.0,   1.4639,  34.6823,2,  34.6771,3,   -999.0,9,   -999.0,5,   149.91,3,    35.54,3,     2.53,4,  1.1461
  492SSY9310_2,  P02E,   109,  1,     21,      3,2,19931113,1211, 30.0017,-153.0800, 5353,   4501.3,   1.4864,  34.6859,3,  34.6635,3,   -999.0,9,   -999.0,5,  -999.00,9,    36.65,3,  -999.00,9,  1.1120
  492SSY9310_2,  P02E,   109,  1,     23,      1,2,19931113,1211, 30.0017,-153.0800, 5353,   5002.9,   1.5205,  34.6873,2,  34.6881,2,   -999.0,9,    160.0,2,   141.16,3,    35.63,3,     2.41,3,  1.0855
  492SSY9310_2,  P02E,   109,  1,     22,      2,2,19931113,1211, 30.0017,-153.0800, 5353,   5004.0,   1.5203,  34.6862,2,  34.6844,2,   -999.0,9,    159.6,2,   142.13,3,    35.54,3,     2.43,3,  1.0852
  492SSY9310_2,  P02E,   110,  1,      1,     23,2,19931113,1720, 30.0000,-152.5000, 5394,     47.9,  21.5231,  35.0185,2,  35.0185,2,   -999.0,9,    221.5,2,     5.84,3,     0.00,3,     0.04,3, 21.5138
  492SSY9310_2,  P02E,   110,  1,      2,     22,2,19931113,1720, 30.0000,-152.5000, 5394,     99.2,  15.6024,  34.5281,2,  34.5392,2,   -999.0,9,    235.7,2,    10.72,3,     0.24,3,     0.19,3, 15.5870
  492SSY9310_2,  P02E,   110,  1,      3,     21,2,19931113,1720, 30.0000,-152.5000, 5394,    201.3,  12.3233,  34.3016,2,  34.3133,2,   -999.0,9,    217.3,2,     9.74,3,     9.02,3,     0.66,3, 12.2969
  492SSY9310_2,  P02E,   110,  1,      4,     20,2,19931113,1720, 30.0000,-152.5000, 5394,    299.6,  10.3662,  34.1730,2,  34.1715,2,   -999.0,9,    212.5,2,    15.59,3,    14.10,3,     0.99,3, 10.3309
  492SSY9310_2,  P02E,   110,  1,      5,     19,2,19931113,1720, 30.0000,-152.5000, 5394,    400.0,   8.5291,  34.0683,2,  34.0688,2,   -999.0,9,    194.7,2,    25.33,3,    19.46,3,     1.35,3,  8.4871
  492SSY9310_2,  P02E,   110,  1,      6,     18,2,19931113,1720, 30.0000,-152.5000, 5394,    499.1,   6.9179,  33.9932,2,  34.0006,2,   -999.0,9,    156.3,2,    41.88,3,    26.74,3,     1.88,3,  6.8714
  492SSY9310_2,  P02E,   110,  1,      7,     17,2,19931113,1720, 30.0000,-152.5000, 5394,    600.3,   5.3416,  34.0002,2,  34.0021,2,   -999.0,9,     97.1,2,    66.22,3,    34.99,3,     2.49,3,  5.2923
  492SSY9310_2,  P02E,   110,  1,      8,     16,2,19931113,1720, 30.0000,-152.5000, 5394,    699.7,   4.4924,  34.0704,2,  34.0719,2,   -999.0,9,     61.4,2,    85.68,3,    38.41,3,     2.79,3,  4.4389
  492SSY9310_2,  P02E,   110,  1,      9,     15,2,19931113,1720, 30.0000,-152.5000, 5394,    801.5,   3.9954,  34.1674,2,  34.1668,2,   -999.0,9,     28.3,2,   104.19,3,    41.75,3,     3.05,3,  3.9365
  492SSY9310_2,  P02E,   110,  1,     10,     14,2,19931113,1720, 30.0000,-152.5000, 5394,    897.7,   3.8247,  34.2759,2,  34.2783,2,   -999.0,9,     16.1,2,   113.92,3,    42.75,3,     3.19,3,  3.7590
  492SSY9310_2,  P02E,   110,  1,     11,     13,2,19931113,1720, 30.0000,-152.5000, 5394,    998.8,   3.6377,  34.3702,2,  34.3715,2,   -999.0,9,     17.0,2,   122.67,3,    42.96,3,     3.14,3,  3.5652
  492SSY9310_2,  P02E,   110,  1,     12,     12,2,19931113,1720, 30.0000,-152.5000, 5394,   1250.3,   3.0689,  34.4936,2,  34.4938,2,   -999.0,9,     32.6,2,   143.09,3,    42.24,3,     3.09,3,  2.9809
  492SSY9310_2,  P02E,   110,  1,     13,     11,2,19931113,1720, 30.0000,-152.5000, 5394,   1499.4,   2.6337,  34.5474,2,  34.5498,2,   -999.0,9,     50.5,2,   145.03,3,    42.00,3,     3.03,3,  2.5301
  492SSY9310_2,  P02E,   110,  1,     14,     10,2,19931113,1720, 30.0000,-152.5000, 5394,   1750.2,   2.2511,  34.5877,2,  34.5792,4,   -999.0,9,     71.3,2,   150.87,3,    40.62,3,     2.90,6,  2.1318
  492SSY9310_2,  P02E,   110,  1,     15,      9,2,19931113,1720, 30.0000,-152.5000, 5394,   2001.7,   1.9827,  34.6140,2,  34.6132,2,   -999.0,9,     81.8,2,   157.68,3,    40.26,3,     2.88,3,  1.8464
  492SSY9310_2,  P02E,   110,  1,     16,      8,2,19931113,1720, 30.0000,-152.5000, 5394,   2248.9,   1.8213,  34.6315,2,  34.6307,2,   -999.0,9,     91.8,2,   161.57,3,    39.14,3,     2.83,3,  1.6665
  492SSY9310_2,  P02E,   110,  1,     17,      7,2,19931113,1720, 30.0000,-152.5000, 5394,   2500.4,   1.7096,  34.6437,2,  34.6398,2,   -999.0,9,    102.2,2,   159.62,3,    38.97,3,     2.77,3,  1.5347
  492SSY9310_2,  P02E,   110,  1,     18,      6,2,19931113,1720, 30.0000,-152.5000, 5394,   2998.3,   1.5426,  34.6638,2,  34.6661,2,   -999.0,9,    123.5,2,   160.60,3,    37.91,3,     2.71,3,  1.3251
  492SSY9310_2,  P02E,   110,  1,     19,      5,2,19931113,1720, 30.0000,-152.5000, 5394,   3502.6,   1.4874,  34.6757,2,  34.6741,2,   -999.0,9,    138.3,2,   154.76,3,    36.98,3,     2.61,3,  1.2215
  492SSY9310_2,  P02E,   110,  1,     20,      4,2,19931113,1720, 30.0000,-152.5000, 5394,   3999.8,   1.4664,  34.6827,2,  34.6783,2,   -999.0,9,    145.7,2,   153.80,3,    35.48,3,     2.51,3,  1.1487
  492SSY9310_2,  P02E,   110,  1,     21,      3,2,19931113,1720, 30.0000,-152.5000, 5394,   4497.9,   1.4876,  34.6853,2,  34.6842,2,   -999.0,9,    155.7,2,   149.91,3,    35.31,3,     2.46,3,  1.1135
  492SSY9310_2,  P02E,   110,  1,     22,      2,2,19931113,1720, 30.0000,-152.5000, 5394,   5000.4,   1.5310,  34.6867,2,  34.6865,2,   -999.0,9,    157.4,2,   147.00,3,    34.43,3,     2.42,3,  1.0960
  492SSY9310_2,  P02E,   110,  1,     23,      1,2,19931113,1720, 30.0000,-152.5000, 5394,   5489.7,   1.5689,  34.6885,2,  34.6865,2,   -999.0,9,    161.8,2,   145.05,3,    34.73,3,     2.40,6,  1.0715
  492SSY9310_2,  P02E,   111,  1,      1,     23,2,19931113,2308, 30.0017,-151.9133, 5363,     50.3,  20.5745,  35.0008,2,  35.0335,3,   -999.0,9,    232.8,2,     0.97,3,     0.00,3,     0.04,3, 20.5650
  492SSY9310_2,  P02E,   111,  1,      2,     22,2,19931113,2308, 30.0017,-151.9133, 5363,     99.3,  16.3029,  34.6924,2,  34.7032,2,   -999.0,9,    234.9,2,     2.92,3,     0.18,3,     0.14,3, 16.2871
  492SSY9310_2,  P02E,   111,  1,      3,     21,2,19931113,2308, 30.0017,-151.9133, 5363,    198.8,  13.2573,  34.3920,2,  34.4057,2,   -999.0,9,    213.5,2,     7.79,3,     7.80,3,     0.62,3, 13.2298
  492SSY9310_2,  P02E,   111,  1,      4,     20,2,19931113,2308, 30.0017,-151.9133, 5363,    301.6,  10.7245,  34.1894,2,  34.1883,2,   -999.0,9,    206.4,2,    13.64,3,    13.89,3,     1.07,3, 10.6882
  492SSY9310_2,  P02E,   111,  1,      5,     19,2,19931113,2308, 30.0017,-151.9133, 5363,    400.0,   8.7199,  34.0652,2,  34.0733,2,   -999.0,9,    201.2,2,    23.38,3,    19.08,3,     1.33,3,  8.6774
  492SSY9310_2,  P02E,   111,  1,      6,     18,2,19931113,2308, 30.0017,-151.9133, 5363,    502.6,   6.9402,  34.0037,2,  34.0055,2,   -999.0,9,    155.0,2,    41.88,3,    27.20,3,     1.90,3,  6.8932
  492SSY9310_2,  P02E,   111,  1,      7,     17,2,19931113,2308, 30.0017,-151.9133, 5363,    602.8,   5.3810,  34.0063,2,  34.0057,2,   -999.0,9,     94.5,2,    68.17,3,    35.70,3,     2.52,3,  5.3313
  492SSY9310_2,  P02E,   111,  1,      8,     16,2,19931113,2308, 30.0017,-151.9133, 5363,    700.6,   4.5225,  34.0960,2,  34.0954,2,   -999.0,9,     49.2,2,    89.58,3,    40.17,3,     2.89,3,  4.4688
  492SSY9310_2,  P02E,   111,  1,      9,     15,2,19931113,2308, 30.0017,-151.9133, 5363,    801.2,   4.0936,  34.2082,2,  34.2052,2,   -999.0,9,     22.6,2,   106.14,3,    43.03,3,     3.10,3,  4.0340
  492SSY9310_2,  P02E,   111,  1,     10,     14,2,19931113,2308, 30.0017,-151.9133, 5363,    900.0,   3.8084,  34.3094,2,  34.3003,2,   -999.0,9,     16.1,2,   119.76,3,    43.57,3,     3.18,3,  3.7426
  492SSY9310_2,  P02E,   111,  1,     11,     13,2,19931113,2308, 30.0017,-151.9133, 5363,    999.4,   3.5931,  34.3769,2,  34.3751,2,   -999.0,9,     19.6,2,   121.70,3,    43.63,3,     3.25,3,  3.5209
  492SSY9310_2,  P02E,   111,  1,     12,     12,2,19931113,2308, 30.0017,-151.9133, 5363,   1250.2,   3.0457,  34.4951,2,  34.4924,2,   -999.0,9,     33.9,2,   133.36,3,    42.89,3,     3.11,3,  2.9579
  492SSY9310_2,  P02E,   111,  1,     13,     11,2,19931113,2308, 30.0017,-151.9133, 5363,   1498.2,   2.6271,  34.5520,3,  34.4987,3,   -999.0,9,    144.4,3,  -999.00,9,    24.41,3,  -999.00,9,  2.5237
  492SSY9310_2,  P02E,   111,  1,     14,     10,2,19931113,2308, 30.0017,-151.9133, 5363,   1749.3,   2.2873,  34.5874,2,  34.5836,2,   -999.0,9,     73.9,2,   146.98,3,    41.38,3,     2.90,6,  2.1676
  492SSY9310_2,  P02E,   111,  1,     15,      9,2,19931113,2308, 30.0017,-151.9133, 5363,   2000.5,   2.0126,  34.6138,2,  34.6130,2,   -999.0,9,     83.9,2,   154.76,3,    40.92,3,     2.87,3,  1.8759
  492SSY9310_2,  P02E,   111,  1,     16,      8,2,19931113,2308, 30.0017,-151.9133, 5363,   2250.9,   1.8165,  34.6346,2,  34.6305,2,   -999.0,9,     96.1,3,   158.65,3,    39.73,3,     2.80,3,  1.6616
  492SSY9310_2,  P02E,   111,  1,     17,      7,2,19931113,2308, 30.0017,-151.9133, 5363,   2502.3,   1.7083,  34.6458,2,  34.6425,2,   -999.0,9,    104.4,3,   157.67,3,    39.74,3,     2.76,3,  1.5332
  492SSY9310_2,  P02E,   111,  1,     18,      6,2,19931113,2308, 30.0017,-151.9133, 5363,   2997.8,   1.5614,  34.6638,2,  34.6639,2,   -999.0,9,    124.4,3,   159.63,3,    38.79,3,     2.69,3,  1.3435
  492SSY9310_2,  P02E,   111,  1,     19,      5,2,19931113,2308, 30.0017,-151.9133, 5363,   3495.1,   1.4837,  34.6748,2,  34.6826,4,   -999.0,9,    137.8,2,   158.65,3,    37.79,3,     2.61,3,  1.2186
  492SSY9310_2,  P02E,   111,  1,     20,      4,2,19931113,2308, 30.0017,-151.9133, 5363,   4001.6,   1.4658,  34.6826,2,  34.6798,2,   -999.0,9,    149.6,3,   153.80,3,    35.89,3,     2.57,6,  1.1479
  492SSY9310_2,  P02E,   111,  1,     21,      3,2,19931113,2308, 30.0017,-151.9133, 5363,   4500.8,   1.4852,  34.6863,2,  34.6793,4,   -999.0,9,    158.7,3,   149.91,3,    36.08,3,     2.48,3,  1.1109
  492SSY9310_2,  P02E,   111,  1,     22,      2,2,19931113,2308, 30.0017,-151.9133, 5363,   4999.9,   1.5321,  34.6876,2,  34.6838,2,   -999.0,9,    159.1,3,   148.94,3,    35.23,3,     2.42,3,  1.0971
  492SSY9310_2,  P02E,   111,  1,     23,      1,2,19931113,2308, 30.0017,-151.9133, 5363,   5485.4,   1.5825,  34.6883,2,  34.6881,2,   -999.0,9,    164.4,2,   142.13,3,    35.23,3,     2.43,3,  1.0851
  492SSY9310_2,  P02E,   112,  1,      1,     23,2,19931114,0443, 30.0000,-151.3350, 5632,     47.9,  22.2802,  35.1919,2,  35.1882,2,   -999.0,9,    223.2,2,     0.97,3,     0.00,3,     0.07,3, 22.2706
  492SSY9310_2,  P02E,   112,  1,      2,     22,2,19931114,0443, 30.0000,-151.3350, 5632,    101.4,  16.9884,  34.7686,2,  34.7919,2,   -999.0,9,    233.1,2,     1.95,3,     0.01,3,     0.09,3, 16.9718
  492SSY9310_2,  P02E,   112,  1,      3,     21,2,19931114,0443, 30.0000,-151.3350, 5632,    201.0,  13.3950,  34.4011,2,  34.4037,2,   -999.0,9,    218.2,2,     6.82,3,     7.46,3,     0.54,3, 13.3670
  492SSY9310_2,  P02E,   112,  1,      4,     20,2,19931114,0443, 30.0000,-151.3350, 5632,    300.3,  10.9008,  34.2090,2,  34.2070,2,   -999.0,9,    218.6,2,    13.64,3,    12.92,3,     0.91,3, 10.8642
  492SSY9310_2,  P02E,   112,  1,      5,     19,2,19931114,0443, 30.0000,-151.3350, 5632,    401.1,   9.0757,  34.1024,2,  34.1095,2,   -999.0,9,    203.8,2,    22.40,3,    17.85,3,     1.25,3,  9.0321
  492SSY9310_2,  P02E,   112,  1,      6,     18,2,19931114,0443, 30.0000,-151.3350, 5632,    498.4,   7.2010,  34.0260,2,  34.0155,2,   -999.0,9,    162.4,2,    39.93,3,    25.60,3,     1.80,3,  7.1534
  492SSY9310_2,  P02E,   112,  1,      7,     17,2,19931114,0443, 30.0000,-151.3350, 5632,    601.1,   5.4454,  34.0029,2,  34.0053,2,   -999.0,9,     97.5,2,    68.17,3,    34.88,3,     2.53,3,  5.3956
  492SSY9310_2,  P02E,   112,  1,      8,     16,2,19931114,0443, 30.0000,-151.3350, 5632,    697.3,   4.5874,  34.0882,2,  34.0903,2,   -999.0,9,     53.5,2,    90.55,3,    39.16,3,     2.82,3,  4.5336
  492SSY9310_2,  P02E,   112,  1,      9,     15,2,19931114,0443, 30.0000,-151.3350, 5632,    802.6,   4.1114,  34.2150,2,  34.2107,2,   -999.0,9,     23.1,2,   111.01,3,    42.38,3,     3.08,3,  4.0516
  492SSY9310_2,  P02E,   112,  1,     10,     14,2,19931114,0443, 30.0000,-151.3350, 5632,    900.9,   3.8372,  34.3089,2,  34.3072,2,   -999.0,9,     16.5,2,   112.94,3,    43.30,3,     3.18,3,  3.7711
  492SSY9310_2,  P02E,   112,  1,     11,     13,2,19931114,0443, 30.0000,-151.3350, 5632,    999.2,   3.6012,  34.3900,2,  34.3896,2,   -999.0,9,     20.0,2,   121.69,4,    43.17,3,     3.47,3,  3.5289
  492SSY9310_2,  P02E,   112,  1,     12,     12,2,19931114,0443, 30.0000,-151.3350, 5632,   1250.5,   3.0943,  34.4963,2,  34.4936,2,   -999.0,9,     36.1,2,   133.36,3,    42.77,3,     3.09,3,  3.0060
  492SSY9310_2,  P02E,   112,  1,     13,     11,2,19931114,0443, 30.0000,-151.3350, 5632,   1500.7,   2.6025,  34.5564,2,  34.5557,2,   -999.0,9,     58.7,2,   143.08,3,    42.00,3,     2.94,3,  2.4992
  492SSY9310_2,  P02E,   112,  1,     14,     10,2,19931114,0443, 30.0000,-151.3350, 5632,   1751.3,   2.2537,  34.5917,2,  34.5904,2,   -999.0,9,     73.9,2,   153.79,3,    41.08,3,     2.87,3,  2.1343
  492SSY9310_2,  P02E,   112,  1,     15,      9,2,19931114,0443, 30.0000,-151.3350, 5632,   2000.0,   1.9999,  34.6162,2,  34.6140,2,   -999.0,9,     87.0,3,   154.76,3,    40.47,3,     2.82,6,  1.8635
  492SSY9310_2,  P02E,   112,  1,     16,      8,2,19931114,0443, 30.0000,-151.3350, 5632,   2249.4,   1.8369,  34.6321,2,  34.6366,2,   -999.0,9,     95.2,3,   159.62,3,    39.32,3,     2.75,3,  1.6817
  492SSY9310_2,  P02E,   112,  1,     17,      7,2,19931114,0443, 30.0000,-151.3350, 5632,   2500.3,   1.7125,  34.6450,2,  34.6411,2,   -999.0,9,    103.9,2,   158.64,3,    39.44,3,     2.71,3,  1.5375
  492SSY9310_2,  P02E,   112,  1,     18,      6,2,19931114,0443, 30.0000,-151.3350, 5632,   3000.5,   1.5624,  34.6620,2,  34.6604,2,   -999.0,9,    119.6,2,   160.60,3,    38.61,3,     2.62,3,  1.3443
  492SSY9310_2,  P02E,   112,  1,     19,      5,2,19931114,0443, 30.0000,-151.3350, 5632,   3500.5,   1.4813,  34.6755,2,  34.6747,2,   -999.0,9,    137.0,4,   156.71,3,    37.44,3,     2.54,3,  1.2157
  492SSY9310_2,  P02E,   112,  1,     20,      4,2,19931114,0443, 30.0000,-151.3350, 5632,   4000.0,   1.4721,  34.6819,2,  34.6822,2,   -999.0,9,    146.1,3,   152.83,3,    35.62,3,     2.49,3,  1.1542
  492SSY9310_2,  P02E,   112,  1,     21,      3,2,19931114,0443, 30.0000,-151.3350, 5632,   4499.6,   1.4883,  34.6852,2,  34.6889,2,   -999.0,9,    147.4,4,   146.01,3,    35.98,3,     2.51,6,  1.1140
  492SSY9310_2,  P02E,   112,  1,     23,      1,2,19931114,0443, 30.0000,-151.3350, 5632,   5000.7,   1.5233,  34.6870,2,  34.6991,4,   -999.0,9,    159.1,2,  -999.00,9,    35.20,3,  -999.00,9,  1.0885
  492SSY9310_2,  P02E,   112,  1,     22,      2,2,19931114,0443, 30.0000,-151.3350, 5632,   5002.4,   1.5234,  34.6860,2,  34.6869,2,   -999.0,9,    159.1,2,   144.08,3,    35.31,3,     2.43,3,  1.0884