BOTTLE,20040202WHPSIOSA
EXPOCODE,SECT_ID,STNNBR,CASTNO,SAMPNO,BTLNBR,BTLNBR_FLAG_W,DATE,TIME,LATITUDE,LONGITUDE,DEPTH,CTDPRS,CTDTMP,CTDSAL,CTDSAL_FLAG_W,SALNTY,SALNTY_FLAG_W,CTDOXY,CTDOXY_FLAG_W,OXYGEN,OXYGEN_FLAG_W,SILCAT,SILCAT_FLAG_W,NO2+NO3,NO2+NO3_FLAG_W,PHSPHT,PHSPHT_FLAG_W,THETA
,,,,,,,,,,,,DBAR,ITS-90,PSS-78,,PSS-78,,UMOL/KG,,UMOL/KG,,UMOL/KG,,UMOL/KG,,UMOL/KG,,DEG C
  492SSY9310_2,  P02E,   121,  1,      1,     23,2,19931116,1927, 29.9983,-146.0850, 5075,     50.7,  21.6439,  35.1694,2,  35.1685,2,   -999.0,9,    221.9,2,     1.95,3,     0.00,3,     0.02,3, 21.6340
  492SSY9310_2,  P02E,   121,  1,      2,     22,2,19931116,1927, 29.9983,-146.0850, 5075,     99.6,  17.9268,  34.6408,2,  34.6339,2,   -999.0,9,    246.3,2,     1.95,3,     0.00,3,     0.05,3, 17.9098
  492SSY9310_2,  P02E,   121,  1,      3,     21,2,19931116,1927, 29.9983,-146.0850, 5075,    199.7,  12.1799,  34.1157,2,  34.1244,2,   -999.0,9,    218.7,2,     6.82,3,     7.44,3,     0.60,3, 12.1539
  492SSY9310_2,  P02E,   121,  1,      4,     20,2,19931116,1927, 29.9983,-146.0850, 5075,    299.4,  10.0763,  34.1285,2,  34.1244,2,   -999.0,9,    215.1,2,    15.59,3,    15.14,3,     1.03,3, 10.0417
  492SSY9310_2,  P02E,   121,  1,      5,     19,2,19931116,1927, 29.9983,-146.0850, 5075,    398.4,   8.2306,  34.0150,2,  34.0213,2,   -999.0,9,    194.7,2,    26.30,3,    20.92,3,     1.42,3,  8.1898
  492SSY9310_2,  P02E,   121,  1,      6,     18,2,19931116,1927, 29.9983,-146.0850, 5075,    498.7,   6.4342,  33.9891,2,  33.9874,2,   -999.0,9,    139.8,2,    47.72,3,    30.06,3,     2.05,3,  6.3894
  492SSY9310_2,  P02E,   121,  1,      7,     17,2,19931116,1927, 29.9983,-146.0850, 5075,    600.6,   5.2884,  34.0127,2,  34.0135,2,   -999.0,9,     89.2,2,    68.17,3,    37.62,3,     2.55,3,  5.2393
  492SSY9310_2,  P02E,   121,  1,      8,     16,2,19931116,1927, 29.9983,-146.0850, 5075,    700.4,   4.5097,  34.1041,2,  34.1058,2,   -999.0,9,     44.4,2,    89.58,3,    41.82,3,     2.93,3,  4.4560
  492SSY9310_2,  P02E,   121,  1,      9,     15,2,19931116,1927, 29.9983,-146.0850, 5075,    800.0,   4.1499,  34.2136,2,  34.2154,2,   -999.0,9,     22.2,2,   103.22,3,    43.95,3,     3.10,3,  4.0901
  492SSY9310_2,  P02E,   121,  1,     10,     14,2,19931116,1927, 29.9983,-146.0850, 5075,    900.6,   3.8680,  34.3135,2,  34.3123,2,   -999.0,9,     17.0,2,   114.89,3,    44.73,3,     3.19,3,  3.8017
  492SSY9310_2,  P02E,   121,  1,     11,     13,2,19931116,1927, 29.9983,-146.0850, 5075,   1000.4,   3.6501,  34.3903,2,  34.3923,2,   -999.0,9,     22.2,2,   121.69,3,    44.73,3,     3.18,3,  3.5773
  492SSY9310_2,  P02E,   121,  1,     12,     12,2,19931116,1927, 29.9983,-146.0850, 5075,   1250.2,   3.1502,  34.5039,2,  34.5046,2,   -999.0,9,     41.3,2,   132.39,3,    43.76,3,     3.09,6,  3.0615
  492SSY9310_2,  P02E,   121,  1,     13,     11,2,19931116,1927, 29.9983,-146.0850, 5075,   1499.9,   2.6726,  34.5571,2,  34.5569,2,   -999.0,9,     58.3,2,   143.08,3,    43.19,3,     3.02,3,  2.5685
  492SSY9310_2,  P02E,   121,  1,     14,     10,2,19931116,1927, 29.9983,-146.0850, 5075,   1749.2,   2.3266,  34.5855,2,  34.5851,2,   -999.0,9,     69.6,2,   152.82,3,    42.72,3,     2.96,3,  2.2065
  492SSY9310_2,  P02E,   121,  1,     15,      9,2,19931116,1927, 29.9983,-146.0850, 5075,   2000.8,   2.0418,  34.6114,2,  34.6117,2,   -999.0,9,     80.0,2,   158.65,3,    41.84,3,     2.86,3,  1.9047
  492SSY9310_2,  P02E,   121,  1,     16,      8,2,19931116,1927, 29.9983,-146.0850, 5075,   2249.1,   1.8590,  34.6287,2,  34.6284,2,   -999.0,9,     87.8,3,   157.68,3,    41.33,3,     2.86,3,  1.7035
  492SSY9310_2,  P02E,   121,  1,     17,      7,2,19931116,1927, 29.9983,-146.0850, 5075,   2501.3,   1.7250,  34.6420,2,  34.6441,2,   -999.0,9,    101.3,2,   162.54,3,    40.93,3,     2.84,3,  1.5497
  492SSY9310_2,  P02E,   121,  1,     18,      6,2,19931116,1927, 29.9983,-146.0850, 5075,   3001.3,   1.5521,  34.6626,2,  34.6627,2,   -999.0,9,    120.0,2,   164.49,3,    40.17,3,     2.67,3,  1.3341
  492SSY9310_2,  P02E,   121,  1,     19,      5,2,19931116,1927, 29.9983,-146.0850, 5075,   3501.2,   1.4811,  34.6755,2,  34.6759,2,   -999.0,9,    137.0,2,   157.68,3,    38.90,3,     2.58,3,  1.2155
  492SSY9310_2,  P02E,   121,  1,     20,      4,2,19931116,1927, 29.9983,-146.0850, 5075,   3999.5,   1.4701,  34.6817,2,  34.6828,2,   -999.0,9,    148.7,2,   152.83,3,    37.28,3,     2.53,3,  1.1523
  492SSY9310_2,  P02E,   121,  1,     21,      3,2,19931116,1927, 29.9983,-146.0850, 5075,   4500.0,   1.4861,  34.6862,2,  34.6846,2,   -999.0,9,    155.2,2,   148.93,3,    36.87,3,     2.49,6,  1.1118
  492SSY9310_2,  P02E,   121,  1,     23,      1,2,19931116,1927, 29.9983,-146.0850, 5075,   5000.4,   1.5241,  34.6893,2,  34.6857,2,   -999.0,9,    158.3,2,   146.02,3,    36.69,3,     2.47,3,  1.0893
  492SSY9310_2,  P02E,   121,  1,     22,      2,2,19931116,1927, 29.9983,-146.0850, 5075,   5003.1,   1.5241,  34.6871,2,  34.6875,2,   -999.0,9,    158.7,2,   147.00,3,    36.40,3,     2.45,3,  1.0890
  492SSY9310_2,  P02E,   122,  1,      1,     23,2,19931117,0043, 30.0017,-145.5000, 5168,     49.3,  21.3641,  35.0529,2,  35.0590,2,   -999.0,9,    224.1,2,     0.97,3,     0.00,3,     0.30,3, 21.3545
  492SSY9310_2,  P02E,   122,  1,      2,     22,2,19931117,0043, 30.0017,-145.5000, 5168,     99.9,  17.4345,  34.6339,2,  34.6343,2,   -999.0,9,    245.8,2,     2.92,3,     0.00,3,     0.45,3, 17.4178
  492SSY9310_2,  P02E,   122,  1,      3,     21,2,19931117,0043, 30.0017,-145.5000, 5168,    199.3,  13.4498,  34.3571,2,  34.3576,2,   -999.0,9,    216.1,2,     6.82,3,     6.45,3,     0.54,3, 13.4220
  492SSY9310_2,  P02E,   122,  1,      4,     20,2,19931117,0043, 30.0017,-145.5000, 5168,    300.3,  10.1069,  34.0975,2,  34.1015,2,   -999.0,9,    216.9,2,    16.56,3,    14.67,3,     1.33,3, 10.0721
  492SSY9310_2,  P02E,   122,  1,      5,     19,2,19931117,0043, 30.0017,-145.5000, 5168,    399.4,   8.3567,  34.0304,2,  34.0221,2,   -999.0,9,    197.7,2,    27.27,3,    20.71,3,     1.91,3,  8.3154
  492SSY9310_2,  P02E,   122,  1,      6,     18,2,19931117,0043, 30.0017,-145.5000, 5168,    500.1,   6.8151,  33.9995,2,  33.9884,2,   -999.0,9,    149.4,2,    48.70,3,    29.26,3,     2.59,3,  6.7688
  492SSY9310_2,  P02E,   122,  1,      7,     17,2,19931117,0043, 30.0017,-145.5000, 5168,    598.6,   5.5914,  34.0041,2,  34.0039,2,   -999.0,9,     97.5,2,    69.14,3,    36.37,3,     2.83,3,  5.5411
  492SSY9310_2,  P02E,   122,  1,      8,     16,2,19931117,0043, 30.0017,-145.5000, 5168,    700.3,   4.7454,  34.1101,2,  34.1064,2,   -999.0,9,     47.9,2,    94.45,3,    41.39,3,     3.19,3,  4.6904
  492SSY9310_2,  P02E,   122,  1,      9,     15,2,19931117,0043, 30.0017,-145.5000, 5168,    799.0,   4.3032,  34.2262,2,  34.2201,2,   -999.0,9,     24.8,2,   105.16,3,    43.32,3,     3.25,3,  4.2425
  492SSY9310_2,  P02E,   122,  1,     11,     13,2,19931117,0043, 30.0017,-145.5000, 5168,    998.9,   3.7486,  34.3905,2,  34.3900,2,   -999.0,9,     20.4,2,   119.75,3,    44.41,3,     3.16,3,  3.6752
  492SSY9310_2,  P02E,   122,  1,     12,     12,2,19931117,0043, 30.0017,-145.5000, 5168,   1250.4,   3.1591,  34.5008,2,  34.4985,2,   -999.0,9,     40.0,2,   132.39,3,    44.46,3,     3.12,6,  3.0703
  492SSY9310_2,  P02E,   122,  1,     13,     11,2,19931117,0043, 30.0017,-145.5000, 5168,   1499.1,   2.6708,  34.5541,2,  34.5537,2,   -999.0,9,     58.3,2,   142.11,3,    43.70,3,     3.03,3,  2.5668
  492SSY9310_2,  P02E,   122,  1,     14,     10,2,19931117,0043, 30.0017,-145.5000, 5168,   1749.9,   2.3368,  34.5848,2,  34.5859,2,   -999.0,9,     70.0,2,   150.87,3,    43.03,3,     2.96,3,  2.2165
  492SSY9310_2,  P02E,   122,  1,     15,      9,2,19931117,0043, 30.0017,-145.5000, 5168,   1998.5,   2.0617,  34.6099,2,  34.6056,2,   -999.0,9,     78.7,2,   158.65,3,    42.53,3,     2.93,3,  1.9245
  492SSY9310_2,  P02E,   122,  1,     16,      8,2,19931117,0043, 30.0017,-145.5000, 5168,   2250.0,   1.8601,  34.6280,3,  34.6068,3,   -999.0,9,     82.2,3,  -999.00,9,    39.83,3,  -999.00,9,  1.7045
  492SSY9310_2,  P02E,   122,  1,     17,      7,2,19931117,0043, 30.0017,-145.5000, 5168,   2500.2,   1.7380,  34.6411,2,  34.6403,2,   -999.0,9,     99.6,2,   166.43,3,    41.24,3,     2.81,3,  1.5626
  492SSY9310_2,  P02E,   122,  1,     18,      6,2,19931117,0043, 30.0017,-145.5000, 5168,   2998.5,   1.5701,  34.6612,2,  34.6653,2,   -999.0,9,    117.8,2,   168.39,3,    40.56,3,     2.74,3,  1.3520
  492SSY9310_2,  P02E,   122,  1,     19,      5,2,19931117,0043, 30.0017,-145.5000, 5168,   3499.1,   1.4902,  34.6744,2,  34.6751,2,   -999.0,9,    134.4,2,   164.49,3,    39.65,3,     2.64,3,  1.2246
  492SSY9310_2,  P02E,   122,  1,     20,      4,2,19931117,0043, 30.0017,-145.5000, 5168,   3999.5,   1.4728,  34.6821,2,  34.6743,4,   -999.0,9,    139.6,4,   158.67,3,    37.69,3,     2.62,3,  1.1549
  492SSY9310_2,  P02E,   122,  1,     21,      3,2,19931117,0043, 30.0017,-145.5000, 5168,   4500.0,   1.4914,  34.6854,2,  34.6830,2,   -999.0,9,    154.8,2,   158.67,3,    37.31,3,     2.59,6,  1.1170
  492SSY9310_2,  P02E,   122,  1,     23,      1,2,19931117,0043, 30.0017,-145.5000, 5168,   5000.3,   1.5310,  34.6882,2,  34.6753,4,   -999.0,9,    157.4,2,  -999.00,9,  -999.00,9,  -999.00,9,  1.0960
  492SSY9310_2,  P02E,   122,  1,     22,      2,2,19931117,0043, 30.0017,-145.5000, 5168,   5000.5,   1.5311,  34.6880,2,  34.6891,2,   -999.0,9,    157.0,2,   151.87,3,    36.84,3,     2.57,3,  1.0961
  492SSY9310_2,  P02E,   123,  1,      1,     23,2,19931117,0713, 30.0067,-144.5833, 4613,     50.2,  21.7549,  35.3309,2,  35.3301,2,   -999.0,9,    220.6,2,     0.00,3,     0.00,3,     0.02,3, 21.7450
  492SSY9310_2,  P02E,   123,  1,      2,     22,2,19931117,0713, 30.0067,-144.5833, 4613,     99.8,  19.2775,  35.0723,2,  35.0740,2,   -999.0,9,    218.0,2,     0.97,3,     0.04,3,     0.05,3, 19.2595
  492SSY9310_2,  P02E,   123,  1,      3,     21,2,19931117,0713, 30.0067,-144.5833, 4613,    200.1,  14.7595,  34.5218,2,  34.5276,2,   -999.0,9,    206.1,2,     4.87,3,     5.84,3,     0.42,3, 14.7297
  492SSY9310_2,  P02E,   123,  1,      4,     20,2,19931117,0713, 30.0067,-144.5833, 4613,    300.1,  11.1561,  34.1952,2,  34.2024,2,   -999.0,9,    213.4,2,    12.66,3,    12.67,3,     0.87,3, 11.1190
  492SSY9310_2,  P02E,   123,  1,      5,     19,2,19931117,0713, 30.0067,-144.5833, 4613,    400.3,   9.2065,  34.0908,2,  34.1015,2,   -999.0,9,    201.2,2,    22.40,3,    18.10,3,     1.22,3,  9.1625
  492SSY9310_2,  P02E,   123,  1,      6,     18,2,19931117,0713, 30.0067,-144.5833, 4613,    498.7,   7.3318,  34.0196,2,  34.0327,2,   -999.0,9,    158.9,2,    37.01,3,    26.82,3,     1.80,3,  7.2837
  492SSY9310_2,  P02E,   123,  1,      7,     17,2,19931117,0713, 30.0067,-144.5833, 4613,    599.5,   5.7693,  34.0001,2,  34.0012,2,   -999.0,9,    108.4,2,    59.41,3,    34.63,3,     2.36,3,  5.7181
  492SSY9310_2,  P02E,   123,  1,      8,     16,2,19931117,0713, 30.0067,-144.5833, 4613,    701.8,   4.7637,  34.0711,2,  34.0711,2,   -999.0,9,     57.5,2,    81.79,3,    39.76,3,     2.80,3,  4.7085
  492SSY9310_2,  P02E,   123,  1,      9,     15,2,19931117,0713, 30.0067,-144.5833, 4613,    800.5,   4.2159,  34.1922,2,  34.1977,2,   -999.0,9,     26.5,2,    99.32,3,    42.66,3,     3.06,3,  4.1556
  492SSY9310_2,  P02E,   123,  1,     10,     14,2,19931117,0713, 30.0067,-144.5833, 4613,    901.2,   3.9350,  34.2897,2,  34.3033,4,   -999.0,9,     17.0,2,   111.97,3,    44.04,3,     3.15,3,  3.8682
  492SSY9310_2,  P02E,   123,  1,     11,     13,2,19931117,0713, 30.0067,-144.5833, 4613,   1000.4,   3.7460,  34.3828,2,  34.3853,2,   -999.0,9,     20.4,2,   118.78,3,    43.88,3,     3.15,3,  3.6725
  492SSY9310_2,  P02E,   123,  1,     12,     12,2,19931117,0713, 30.0067,-144.5833, 4613,   1250.0,   3.2142,  34.4955,2,  34.5015,2,   -999.0,9,     38.3,2,   131.41,3,    43.54,3,     3.07,6,  3.1249
  492SSY9310_2,  P02E,   123,  1,     13,     11,2,19931117,0713, 30.0067,-144.5833, 4613,   1499.8,   2.7554,  34.5493,2,  34.5525,2,   -999.0,9,     55.7,2,   141.14,3,    43.16,3,     3.01,3,  2.6505
  492SSY9310_2,  P02E,   123,  1,     14,     10,2,19931117,0713, 30.0067,-144.5833, 4613,   1751.4,   2.3486,  34.5842,2,  34.5855,2,   -999.0,9,     68.3,2,   152.82,3,    42.50,3,     2.94,3,  2.2280
  492SSY9310_2,  P02E,   123,  1,     15,      9,2,19931117,0713, 30.0067,-144.5833, 4613,   1999.6,   2.0658,  34.6097,2,  34.6111,2,   -999.0,9,     77.0,2,   162.55,3,    41.99,3,     2.89,3,  1.9284
  492SSY9310_2,  P02E,   123,  1,     16,      8,2,19931117,0713, 30.0067,-144.5833, 4613,   2249.3,   1.8580,  34.6285,2,  34.6388,4,   -999.0,9,     88.3,2,   166.43,3,    40.87,3,     2.83,3,  1.7025
  492SSY9310_2,  P02E,   123,  1,     17,      7,2,19931117,0713, 30.0067,-144.5833, 4613,   2500.7,   1.7240,  34.6433,2,  34.6513,4,   -999.0,9,     99.6,2,   163.51,3,    40.87,3,     2.76,3,  1.5488
  492SSY9310_2,  P02E,   123,  1,     18,      6,2,19931117,0713, 30.0067,-144.5833, 4613,   3000.2,   1.5601,  34.6620,2,  34.6728,4,   -999.0,9,    119.6,2,   164.49,3,    39.59,3,     2.68,3,  1.3421
  492SSY9310_2,  P02E,   123,  1,     19,      5,2,19931117,0713, 30.0067,-144.5833, 4613,   3500.2,   1.4741,  34.6760,2,  34.6842,4,   -999.0,9,    136.1,2,   157.68,3,    38.71,3,     2.57,3,  1.2087
  492SSY9310_2,  P02E,   123,  1,     21,      3,2,19931117,0713, 30.0067,-144.5833, 4613,   4000.9,   1.4661,  34.6817,3,  34.6531,3,   -999.0,9,    127.0,3,  -999.00,9,    35.95,3,  -999.00,9,  1.1483
  492SSY9310_2,  P02E,   123,  1,     20,      4,2,19931117,0713, 30.0067,-144.5833, 4613,   4003.6,   1.4661,  34.6806,2,  34.6928,4,   -999.0,9,    146.5,3,   154.77,3,    36.72,3,     2.50,3,  1.1480
  492SSY9310_2,  P02E,   123,  1,     23,      1,2,19931117,0713, 30.0067,-144.5833, 4613,   4498.8,   1.4901,  34.6850,2,  34.6975,4,   -999.0,9,    154.8,2,   150.88,3,    36.60,3,     2.45,3,  1.1158
  492SSY9310_2,  P02E,   123,  1,     22,      2,2,19931117,0713, 30.0067,-144.5833, 4613,   4502.6,   1.4901,  34.6846,2,  34.6952,4,   -999.0,9,    153.9,2,   149.90,3,    36.63,3,     2.44,3,  1.1154
  492SSY9310_2,  P02E,   124,  1,      1,     23,2,19931117,1328, 29.9967,-143.6633, 5219,     50.0,  21.1026,  35.2776,2,  35.2781,2,   -999.0,9,    224.0,2,     0.97,3,     0.00,3,     0.01,3, 21.0930
  492SSY9310_2,  P02E,   124,  1,      2,     22,2,19931117,1328, 29.9967,-143.6633, 5219,    100.3,  17.2875,  34.5596,2,  34.5855,2,   -999.0,9,    241.5,2,     1.95,3,     0.00,3,     0.07,3, 17.2709
  492SSY9310_2,  P02E,   124,  1,      3,     21,2,19931117,1328, 29.9967,-143.6633, 5219,    199.4,  13.5011,  34.3301,2,  34.3346,2,   -999.0,9,    214.3,2,     5.85,3,     6.12,3,     0.52,3, 13.4732
  492SSY9310_2,  P02E,   124,  1,      4,     20,2,19931117,1328, 29.9967,-143.6633, 5219,    300.3,  10.6532,  34.1531,2,  34.1517,2,   -999.0,9,    214.7,2,    13.64,3,    13.86,3,     0.97,3, 10.6173
  492SSY9310_2,  P02E,   124,  1,      5,     19,2,19931117,1328, 29.9967,-143.6633, 5219,    399.7,   8.5845,  34.0293,2,  34.0372,2,   -999.0,9,    202.5,2,    23.38,3,    19.40,3,     1.35,3,  8.5425
  492SSY9310_2,  P02E,   124,  1,      6,     18,2,19931117,1328, 29.9967,-143.6633, 5219,    499.8,   6.8734,  33.9978,2,  33.9990,2,   -999.0,9,    148.0,2,    43.83,3,    29.08,3,     2.00,3,  6.8270
  492SSY9310_2,  P02E,   124,  1,      7,     17,2,19931117,1328, 29.9967,-143.6633, 5219,    599.6,   5.4838,  34.0062,2,  34.0135,2,   -999.0,9,     96.6,2,    66.22,3,    36.56,3,     2.51,3,  5.4339
  492SSY9310_2,  P02E,   124,  1,      8,     16,2,19931117,1328, 29.9967,-143.6633, 5219,    700.0,   4.6283,  34.0982,2,  34.0958,2,   -999.0,9,     46.1,2,    89.58,3,    41.33,3,     2.94,3,  4.5740
  492SSY9310_2,  P02E,   124,  1,      9,     15,2,19931117,1328, 29.9967,-143.6633, 5219,    799.8,   4.2064,  34.2169,2,  34.2111,2,   -999.0,9,     24.8,2,   103.22,3,    43.38,3,     3.04,3,  4.1462
  492SSY9310_2,  P02E,   124,  1,     10,     14,2,19931117,1328, 29.9967,-143.6633, 5219,    899.8,   3.9409,  34.3173,2,  34.3111,2,   -999.0,9,     15.7,2,   115.86,3,    44.70,3,     3.17,3,  3.8742
  492SSY9310_2,  P02E,   124,  1,     11,     13,2,19931117,1328, 29.9967,-143.6633, 5219,    999.9,   3.6287,  34.3938,2,  34.3912,2,   -999.0,9,     18.3,2,   125.59,3,    44.69,3,     3.17,3,  3.5561
  492SSY9310_2,  P02E,   124,  1,     12,     12,2,19931117,1328, 29.9967,-143.6633, 5219,   1249.0,   3.0925,  34.4991,2,  34.4960,2,   -999.0,9,     35.2,2,   138.23,3,    44.08,3,     3.11,3,  3.0043
  492SSY9310_2,  P02E,   124,  1,     13,     11,2,19931117,1328, 29.9967,-143.6633, 5219,   1498.9,   2.7071,  34.5537,2,  34.5470,2,   -999.0,9,     54.8,2,   143.08,3,    43.76,3,     3.03,3,  2.6027
  492SSY9310_2,  P02E,   124,  1,     14,     10,2,19931117,1328, 29.9967,-143.6633, 5219,   1748.9,   2.3233,  34.5884,2,  34.5759,4,   -999.0,9,     67.0,2,   152.82,3,    42.50,3,     2.97,3,  2.2032
  492SSY9310_2,  P02E,   124,  1,     15,      9,2,19931117,1328, 29.9967,-143.6633, 5219,   1999.3,   2.0437,  34.6138,2,  34.5942,4,   -999.0,9,     80.5,2,   158.66,3,    42.53,3,     2.89,3,  1.9067
  492SSY9310_2,  P02E,   124,  1,     16,      8,2,19931117,1328, 29.9967,-143.6633, 5219,   2249.3,   1.8565,  34.6308,2,  34.5775,4,   -999.0,9,     90.9,2,   162.55,3,    41.26,3,     2.83,3,  1.7010
  492SSY9310_2,  P02E,   124,  1,     17,      7,2,19931117,1328, 29.9967,-143.6633, 5219,   2499.5,   1.7107,  34.6464,2,  34.6233,4,   -999.0,9,    102.2,2,   161.57,3,    40.87,3,     2.78,3,  1.5358
  492SSY9310_2,  P02E,   124,  1,     18,      6,2,19931117,1328, 29.9967,-143.6633, 5219,   2999.5,   1.5562,  34.6641,2,  34.6458,4,   -999.0,9,    121.3,2,   163.52,3,    40.10,3,     2.70,3,  1.3383
  492SSY9310_2,  P02E,   124,  1,     19,      5,2,19931117,1328, 29.9967,-143.6633, 5219,   3499.3,   1.4818,  34.6760,2,  34.6690,4,   -999.0,9,    135.2,2,   159.63,3,    39.20,3,     2.61,3,  1.2163
  492SSY9310_2,  P02E,   124,  1,     20,      4,2,19931117,1328, 29.9967,-143.6633, 5219,   3999.3,   1.4714,  34.6829,2,  34.6622,4,   -999.0,9,    140.0,2,   154.77,3,    37.28,3,     2.59,3,  1.1536
  492SSY9310_2,  P02E,   124,  1,     21,      3,2,19931117,1328, 29.9967,-143.6633, 5219,   4499.5,   1.4936,  34.6860,2,  34.6710,4,   -999.0,9,    151.3,2,   151.85,3,    36.84,3,     2.51,3,  1.1191
  492SSY9310_2,  P02E,   124,  1,     22,      2,2,19931117,1328, 29.9967,-143.6633, 5219,   4999.7,   1.5367,  34.6871,2,  34.6834,2,   -999.0,9,    155.7,2,   149.92,3,    36.63,3,     2.46,3,  1.1016
  492SSY9310_2,  P02E,   124,  1,     23,      1,2,19931117,1328, 29.9967,-143.6633, 5219,   5000.6,   1.5367,  34.6877,2,  34.6836,2,   -999.0,9,    156.5,2,   149.92,3,    36.63,3,     2.46,3,  1.1015