BOTTLE,20040202WHPSIOSA
EXPOCODE,SECT_ID,STNNBR,CASTNO,SAMPNO,BTLNBR,BTLNBR_FLAG_W,DATE,TIME,LATITUDE,LONGITUDE,DEPTH,CTDPRS,CTDTMP,CTDSAL,CTDSAL_FLAG_W,SALNTY,SALNTY_FLAG_W,CTDOXY,CTDOXY_FLAG_W,OXYGEN,OXYGEN_FLAG_W,SILCAT,SILCAT_FLAG_W,NO2+NO3,NO2+NO3_FLAG_W,PHSPHT,PHSPHT_FLAG_W,THETA
,,,,,,,,,,,,DBAR,ITS-90,PSS-78,,PSS-78,,UMOL/KG,,UMOL/KG,,UMOL/KG,,UMOL/KG,,UMOL/KG,,DEG C
  492SSY9310_2,  P02E,   137,  1,      1,     23,2,19931120,2018, 30.0000,-134.4167, 4664,     49.9,  19.7674,  34.6193,2,  34.6233,2,   -999.0,9,    231.5,2,     0.00,3,     0.00,3,     0.08,3, 19.7582
  492SSY9310_2,  P02E,   137,  1,      2,     22,2,19931120,2018, 30.0000,-134.4167, 4664,     99.3,  17.9925,  34.6323,2,  34.6276,2,   -999.0,9,    228.4,2,     1.95,3,     0.06,3,     0.11,3, 17.9755
  492SSY9310_2,  P02E,   137,  1,      3,     21,2,19931120,2018, 30.0000,-134.4167, 4664,    199.8,  12.7861,  34.0363,2,  34.0605,2,   -999.0,9,    211.7,2,     7.79,3,     6.88,3,     0.63,3, 12.7593
  492SSY9310_2,  P02E,   137,  1,      4,     20,2,19931120,2018, 30.0000,-134.4167, 4664,    300.1,   9.0617,  33.9808,2,  33.9843,2,   -999.0,9,    204.7,2,    21.43,3,    17.95,3,     1.28,3,  9.0293
  492SSY9310_2,  P02E,   137,  1,      5,     19,2,19931120,2018, 30.0000,-134.4167, 4664,    399.3,   7.6045,  34.0013,2,  34.0021,2,   -999.0,9,    158.9,2,    37.01,3,    25.93,3,     1.79,3,  7.5654
  492SSY9310_2,  P02E,   137,  1,      6,     18,2,19931120,2018, 30.0000,-134.4167, 4664,    500.4,   6.1298,  34.0245,2,  34.0241,2,   -999.0,9,     91.4,2,    56.48,3,    35.32,3,     2.52,3,  6.0861
  492SSY9310_2,  P02E,   137,  1,      7,     17,2,19931120,2018, 30.0000,-134.4167, 4664,    599.4,   5.1837,  34.1155,2,  34.1162,2,   -999.0,9,     44.8,2,    76.92,3,    40.40,3,     2.97,3,  5.1351
  492SSY9310_2,  P02E,   137,  1,      8,     16,2,19931120,2018, 30.0000,-134.4167, 4664,    699.3,   4.6388,  34.2346,2,  34.2315,2,   -999.0,9,     20.9,2,    92.49,3,    42.35,3,     3.15,3,  4.5844
  492SSY9310_2,  P02E,   137,  1,      9,     15,2,19931120,2018, 30.0000,-134.4167, 4664,    799.8,   4.3207,  34.3283,2,  34.3286,2,   -999.0,9,     17.0,2,   102.23,3,    43.28,3,     3.17,6,  4.2597
  492SSY9310_2,  P02E,   137,  1,     10,     14,2,19931120,2018, 30.0000,-134.4167, 4664,    901.6,   4.0330,  34.3990,2,  34.3978,2,   -999.0,9,     22.2,2,   109.04,3,    43.47,3,     3.18,3,  3.9655
  492SSY9310_2,  P02E,   137,  1,     11,     13,2,19931120,2018, 30.0000,-134.4167, 4664,   1000.3,   3.8183,  34.4415,2,  34.4504,2,   -999.0,9,     31.8,2,   112.93,3,    43.25,3,     3.13,3,  3.7441
  492SSY9310_2,  P02E,   137,  1,     12,     12,2,19931120,2018, 30.0000,-134.4167, 4664,   1250.0,   3.3144,  34.5196,2,  34.5172,2,   -999.0,9,     42.6,2,   125.57,3,    42.81,3,     3.08,3,  3.2241
  492SSY9310_2,  P02E,   137,  1,     13,     11,2,19931120,2018, 30.0000,-134.4167, 4664,   1503.7,   2.8095,  34.5593,2,  34.5576,2,   -999.0,9,     55.2,2,   139.19,3,    43.07,3,     3.04,3,  2.7036
  492SSY9310_2,  P02E,   137,  1,     14,     10,2,19931120,2018, 30.0000,-134.4167, 4664,   1752.3,   2.4487,  34.5878,2,  34.5875,2,   -999.0,9,     55.2,4,   147.96,3,    42.34,3,     2.96,3,  2.3267
  492SSY9310_2,  P02E,   137,  1,     15,      9,2,19931120,2018, 30.0000,-134.4167, 4664,   2000.3,   2.1294,  34.6123,2,  34.6117,2,   -999.0,9,     66.5,4,   153.79,3,    41.65,3,     2.91,3,  1.9910
  492SSY9310_2,  P02E,   137,  1,     16,      8,2,19931120,2018, 30.0000,-134.4167, 4664,   2251.6,   1.9214,  34.6315,2,  34.6231,4,   -999.0,9,     77.8,4,   146.97,4,    40.04,4,     2.82,4,  1.7647
  492SSY9310_2,  P02E,   137,  1,     17,      7,2,19931120,2018, 30.0000,-134.4167, 4664,   2501.2,   1.7920,  34.6437,2,  34.6405,2,   -999.0,9,     99.6,2,   158.65,3,    40.59,3,     2.81,3,  1.6155
  492SSY9310_2,  P02E,   137,  1,     18,      6,2,19931120,2018, 30.0000,-134.4167, 4664,   3003.0,   1.5854,  34.6630,2,  34.6629,2,   -999.0,9,    117.8,2,   162.55,3,    39.53,3,     2.73,3,  1.3665
  492SSY9310_2,  P02E,   137,  1,     19,      5,2,19931120,2018, 30.0000,-134.4167, 4664,   3499.2,   1.4864,  34.6764,2,  34.6732,2,   -999.0,9,    133.9,2,   157.68,3,    38.71,3,     2.63,3,  1.2208
  492SSY9310_2,  P02E,   137,  1,     21,      3,2,19931120,2018, 30.0000,-134.4167, 4664,   4000.4,   1.4824,  34.6828,2,  34.6755,4,   -999.0,9,    140.9,2,   148.93,3,    37.01,4,     2.61,3,  1.1642
  492SSY9310_2,  P02E,   137,  1,     20,      4,2,19931120,2018, 30.0000,-134.4167, 4664,   4003.5,   1.4827,  34.6812,2,  34.6814,2,   -999.0,9,    145.7,2,   154.77,3,    37.16,3,     2.60,3,  1.1641
  492SSY9310_2,  P02E,   137,  1,     23,      1,2,19931120,2018, 30.0000,-134.4167, 4664,   4499.8,   1.5353,  34.6831,2,  34.6826,2,   -999.0,9,    147.4,2,   155.75,3,    37.32,3,     2.51,6,  1.1595
  492SSY9310_2,  P02E,   137,  1,     22,      2,2,19931120,2018, 30.0000,-134.4167, 4664,   4505.6,   1.5349,  34.6823,2,  34.6826,2,   -999.0,9,    145.7,2,   154.79,3,    37.01,3,     2.51,3,  1.1585
  492SSY9310_2,  P02E,   138,  1,      1,     23,2,19931121,0338, 30.0017,-133.5017, 4613,     48.5,  19.8676,  34.3514,2,  34.3519,2,   -999.0,9,    229.8,2,     0.97,3,     0.00,3,     0.14,9, 19.8588
  492SSY9310_2,  P02E,   138,  1,      2,     22,2,19931121,0338, 30.0017,-133.5017, 4613,     99.5,  17.7512,  34.3864,2,  34.4004,2,   -999.0,9,    236.7,2,     0.97,3,     0.00,3,     0.15,3, 17.7344
  492SSY9310_2,  P02E,   138,  1,      3,     21,2,19931121,0338, 30.0017,-133.5017, 4613,    198.3,  12.8417,  33.9565,2,  33.9457,2,   -999.0,9,    214.8,2,     5.85,3,     6.27,3,     0.67,3, 12.8150
  492SSY9310_2,  P02E,   138,  1,      4,     20,2,19931121,0338, 30.0017,-133.5017, 4613,    301.0,   8.7203,  33.9644,2,  33.9712,2,   -999.0,9,    200.3,2,    21.43,3,    19.45,3,     1.35,3,  8.6886
  492SSY9310_2,  P02E,   138,  1,      5,     19,2,19931121,0338, 30.0017,-133.5017, 4613,    401.6,   7.1904,  33.9928,2,  34.3084,4,   -999.0,9,    136.3,2,    60.37,3,    32.00,3,     2.22,3,  7.1523
  492SSY9310_2,  P02E,   138,  1,      6,     18,2,19931121,0338, 30.0017,-133.5017, 4613,    501.2,   5.7531,  34.0514,2,  34.0490,2,   -999.0,9,   -999.0,5,    65.25,3,    37.13,3,     2.66,3,  5.7107
  492SSY9310_2,  P02E,   138,  1,      7,     17,2,19931121,0338, 30.0017,-133.5017, 4613,    600.4,   5.1144,  34.1694,2,  34.1693,2,   -999.0,9,     31.3,2,    82.76,3,    39.90,3,     2.99,3,  5.0660
  492SSY9310_2,  P02E,   138,  1,      8,     16,2,19931121,0338, 30.0017,-133.5017, 4613,    701.8,   4.5353,  34.2549,2,  34.2519,2,   -999.0,9,     18.7,2,    97.36,3,    41.60,3,     3.13,3,  4.4812
  492SSY9310_2,  P02E,   138,  1,      9,     15,2,19931121,0338, 30.0017,-133.5017, 4613,    798.3,   4.2567,  34.3395,2,  34.3258,4,   -999.0,9,     16.1,2,   103.21,3,    41.60,3,     3.09,3,  4.1962
  492SSY9310_2,  P02E,   138,  1,     10,     14,2,19931121,0338, 30.0017,-133.5017, 4613,    900.5,   4.0193,  34.3962,2,  34.4027,2,   -999.0,9,     20.9,2,   114.88,3,    42.47,3,     3.13,6,  3.9519
  492SSY9310_2,  P02E,   138,  1,     11,     13,2,19931121,0338, 30.0017,-133.5017, 4613,   1001.1,   3.7782,  34.4539,2,  34.4522,2,   -999.0,9,     30.5,2,   114.88,3,    42.78,3,     3.13,3,  3.7043
  492SSY9310_2,  P02E,   138,  1,     12,     12,2,19931121,0338, 30.0017,-133.5017, 4613,   1249.4,   3.2700,  34.5181,2,  34.5176,2,   -999.0,9,     43.9,2,   124.60,3,    42.06,3,     3.09,3,  3.1801
  492SSY9310_2,  P02E,   138,  1,     13,     11,2,19931121,0338, 30.0017,-133.5017, 4613,   1498.3,   2.8110,  34.5569,2,  34.5567,2,   -999.0,9,     53.9,2,   136.27,3,    42.25,3,     3.06,3,  2.7055
  492SSY9310_2,  P02E,   138,  1,     14,     10,2,19931121,0338, 30.0017,-133.5017, 4613,   1748.6,   2.4414,  34.5856,2,  34.5834,2,   -999.0,9,     64.8,2,   146.98,3,    41.84,3,     3.02,3,  2.3198
  492SSY9310_2,  P02E,   138,  1,     15,      9,2,19931121,0338, 30.0017,-133.5017, 4613,   2000.8,   2.1508,  34.6104,2,  34.6036,2,   -999.0,9,     73.1,2,   152.82,3,    41.15,3,     2.91,3,  2.0120
  492SSY9310_2,  P02E,   138,  1,     16,      8,2,19931121,0338, 30.0017,-133.5017, 4613,   2248.0,   1.9256,  34.6315,2,  34.6185,4,   -999.0,9,     84.8,2,   146.97,3,    39.62,3,     2.79,3,  1.7692
  492SSY9310_2,  P02E,   138,  1,     17,      7,2,19931121,0338, 30.0017,-133.5017, 4613,   2499.5,   1.7807,  34.6438,2,  34.6346,4,   -999.0,9,     99.6,2,   157.67,3,    39.71,3,     2.75,6,  1.6045
  492SSY9310_2,  P02E,   138,  1,     18,      6,2,19931121,0338, 30.0017,-133.5017, 4613,   3000.1,   1.5890,  34.6624,2,  34.6600,2,   -999.0,9,    117.0,2,   166.44,3,    39.01,3,     2.68,3,  1.3703
  492SSY9310_2,  P02E,   138,  1,     19,      5,2,19931121,0338, 30.0017,-133.5017, 4613,   3500.3,   1.4784,  34.6768,2,  34.6765,2,   -999.0,9,    135.7,2,   162.55,3,    38.17,3,     2.58,3,  1.2129
  492SSY9310_2,  P02E,   138,  1,     21,      3,2,19931121,0338, 30.0017,-133.5017, 4613,   4000.6,   1.4852,  34.6821,3,  34.6673,3,   -999.0,9,    136.1,3,  -999.00,9,    36.95,3,  -999.00,9,  1.1669
  492SSY9310_2,  P02E,   138,  1,     20,      4,2,19931121,0338, 30.0017,-133.5017, 4613,   4001.5,   1.4852,  34.6811,2,  34.6720,4,   -999.0,9,    140.4,2,   157.69,3,    37.22,3,     2.55,6,  1.1668
  492SSY9310_2,  P02E,   138,  1,     23,      1,2,19931121,0338, 30.0017,-133.5017, 4613,   4499.0,   1.5342,  34.6836,2,  34.6798,2,   -999.0,9,    146.5,2,   153.80,3,    36.66,3,     2.50,3,  1.1586
  492SSY9310_2,  P02E,   138,  1,     22,      2,2,19931121,0338, 30.0017,-133.5017, 4613,   4500.4,   1.5345,  34.6823,2,  34.6810,2,   -999.0,9,    145.7,2,   153.80,3,    36.78,3,     2.58,3,  1.1587
  492SSY9310_2,  P02E,   139,  1,      1,     23,2,19931121,1015, 30.0033,-132.5817, 4644,     47.7,  19.7144,  34.2808,2,  34.2787,2,   -999.0,9,    231.1,2,     0.00,3,     0.00,3,     0.08,3, 19.7057
  492SSY9310_2,  P02E,   139,  1,      2,     22,2,19931121,1015, 30.0033,-132.5817, 4644,    100.5,  17.3399,  34.3991,2,  34.4000,2,   -999.0,9,    234.1,2,     0.00,3,     0.06,3,     0.10,3, 17.3232
  492SSY9310_2,  P02E,   139,  1,      3,     21,2,19931121,1015, 30.0033,-132.5817, 4644,    198.5,  13.0058,  34.0013,2,  34.0014,2,   -999.0,9,    214.8,2,     4.87,3,     6.35,3,     0.56,3, 12.9788
  492SSY9310_2,  P02E,   139,  1,      4,     20,2,19931121,1015, 30.0033,-132.5817, 4644,    301.6,   8.4096,  33.9647,2,  33.9598,2,   -999.0,9,    195.5,2,    21.43,3,    20.34,3,     1.47,3,  8.3785
  492SSY9310_2,  P02E,   139,  1,      5,     19,2,19931121,1015, 30.0033,-132.5817, 4644,    399.9,   6.9749,  33.9982,2,  33.9900,2,   -999.0,9,    131.9,2,    40.91,3,    29.89,3,     2.06,3,  6.9377
  492SSY9310_2,  P02E,   139,  1,      6,     18,2,19931121,1015, 30.0033,-132.5817, 4644,    500.5,   5.7103,  34.0515,2,  34.0394,2,   -999.0,9,     70.1,2,    64.27,3,    37.62,3,     2.64,3,  5.6681
  492SSY9310_2,  P02E,   139,  1,      7,     17,2,19931121,1015, 30.0033,-132.5817, 4644,    600.3,   5.1595,  34.1767,2,  34.1679,2,   -999.0,9,     28.7,2,    80.82,3,    41.05,3,     3.01,3,  5.1108
  492SSY9310_2,  P02E,   139,  1,      8,     16,2,19931121,1015, 30.0033,-132.5817, 4644,    698.3,   4.7477,  34.2720,2,  34.2611,2,   -999.0,9,     17.0,2,    92.49,3,    42.34,3,     3.15,3,  4.6927
  492SSY9310_2,  P02E,   139,  1,      9,     15,2,19931121,1015, 30.0033,-132.5817, 4644,    800.8,   4.3867,  34.3525,2,  34.3335,4,   -999.0,9,     15.7,2,   101.26,3,    43.07,3,     3.23,3,  4.3252
  492SSY9310_2,  P02E,   139,  1,     10,     14,2,19931121,1015, 30.0033,-132.5817, 4644,    899.1,   4.1239,  34.4090,2,  34.4002,2,   -999.0,9,     20.0,2,   109.04,3,    43.53,3,     3.15,6,  4.0559
  492SSY9310_2,  P02E,   139,  1,     11,     13,2,19931121,1015, 30.0033,-132.5817, 4644,   1000.2,   3.8490,  34.4484,2,  34.4414,2,   -999.0,9,     25.2,2,   116.82,3,    43.25,3,     3.15,3,  3.7746
  492SSY9310_2,  P02E,   139,  1,     12,     12,2,19931121,1015, 30.0033,-132.5817, 4644,   1250.9,   3.2912,  34.5171,2,  34.5023,4,   -999.0,9,     39.1,2,   132.39,3,    42.94,3,     3.12,3,  3.2010
  492SSY9310_2,  P02E,   139,  1,     13,     11,2,19931121,1015, 30.0033,-132.5817, 4644,   1500.0,   2.8294,  34.5567,2,  34.5464,4,   -999.0,9,     53.1,2,   147.95,3,    43.00,3,     3.13,3,  2.7236
  492SSY9310_2,  P02E,   139,  1,     14,     10,2,19931121,1015, 30.0033,-132.5817, 4644,   1751.0,   2.4286,  34.5896,2,  34.5834,2,   -999.0,9,     65.2,2,   164.50,3,    42.53,3,     2.92,3,  2.3069
  492SSY9310_2,  P02E,   139,  1,     15,      9,2,19931121,1015, 30.0033,-132.5817, 4644,   2001.5,   2.1298,  34.6153,2,  34.6009,4,   -999.0,9,     75.2,2,   150.87,3,    41.81,3,     2.88,3,  1.9913
  492SSY9310_2,  P02E,   139,  1,     16,      8,2,19931121,1015, 30.0033,-132.5817, 4644,   2249.3,   1.9399,  34.6307,2,  34.6234,3,   -999.0,9,     88.7,2,   155.73,3,    40.87,3,     2.78,3,  1.7831
  492SSY9310_2,  P02E,   139,  1,     17,      7,2,19931121,1015, 30.0033,-132.5817, 4644,   2501.8,   1.7860,  34.6444,2,  34.6486,2,   -999.0,9,     98.7,2,   154.76,3,    40.47,3,     2.74,6,  1.6095
  492SSY9310_2,  P02E,   139,  1,     18,      6,2,19931121,1015, 30.0033,-132.5817, 4644,   3001.6,   1.5901,  34.6626,2,  34.6602,2,   -999.0,9,    116.5,2,   161.58,3,    39.71,3,     2.65,3,  1.3713
  492SSY9310_2,  P02E,   139,  1,     19,      5,2,19931121,1015, 30.0033,-132.5817, 4644,   3498.4,   1.4901,  34.6758,2,  34.6726,2,   -999.0,9,    132.6,2,   158.65,3,    38.84,3,     2.57,3,  1.2245
  492SSY9310_2,  P02E,   139,  1,     21,      3,2,19931121,1015, 30.0033,-132.5817, 4644,   4000.4,   1.4861,  34.6828,3,  34.6547,3,   -999.0,9,    133.5,3,  -999.00,9,    36.75,3,  -999.00,9,  1.1678
  492SSY9310_2,  P02E,   139,  1,     20,      4,2,19931121,1015, 30.0033,-132.5817, 4644,   4003.6,   1.4861,  34.6802,2,  34.6659,4,   -999.0,9,    137.4,2,   153.80,3,    37.72,3,     2.57,3,  1.1674
  492SSY9310_2,  P02E,   139,  1,     23,      1,2,19931121,1015, 30.0033,-132.5817, 4644,   4499.7,   1.5301,  34.6839,2,  34.6802,2,   -999.0,9,    145.7,2,   157.69,3,    36.96,3,     2.50,3,  1.1545
  492SSY9310_2,  P02E,   139,  1,     22,      2,2,19931121,1015, 30.0033,-132.5817, 4644,   4503.7,   1.5301,  34.6835,2,  34.6779,4,   -999.0,9,    145.2,2,   155.76,3,    37.25,3,     2.47,3,  1.1540
  492SSY9310_2,  P02E,   140,  1,      1,     23,2,19931121,1625, 30.0000,-131.6667, 4532,     48.6,  19.5027,  33.9775,2,  33.9802,2,   -999.0,9,    229.8,2,     0.97,3,     0.00,3,     0.18,3, 19.4940
  492SSY9310_2,  P02E,   140,  1,      2,     22,2,19931121,1625, 30.0000,-131.6667, 4532,     99.6,  16.7200,  33.8711,2,  33.8760,2,   -999.0,9,    240.7,2,     1.95,3,     0.00,3,     0.22,3, 16.7039
  492SSY9310_2,  P02E,   140,  1,      3,     21,2,19931121,1625, 30.0000,-131.6667, 4532,    200.3,  10.2184,  33.5767,2,  33.5892,2,   -999.0,9,    203.0,3,    12.67,3,    12.97,3,     1.12,3, 10.1954
  492SSY9310_2,  P02E,   140,  1,      4,     20,2,19931121,1625, 30.0000,-131.6667, 4532,    298.9,   8.0067,  33.9582,2,  33.9618,2,   -999.0,9,    155.0,3,    31.17,3,    25.08,3,     1.69,3,  7.9768
  492SSY9310_2,  P02E,   140,  1,      5,     19,2,19931121,1625, 30.0000,-131.6667, 4532,    400.7,   6.5097,  34.0424,2,  34.0388,2,   -999.0,9,     84.9,3,    54.54,3,    34.42,3,     2.39,3,  6.4738
  492SSY9310_2,  P02E,   140,  1,      6,     18,2,19931121,1625, 30.0000,-131.6667, 4532,    499.1,   5.6042,  34.1027,2,  34.1056,2,   -999.0,9,     45.3,3,    72.06,3,    38.91,3,     2.81,3,  5.5625
  492SSY9310_2,  P02E,   140,  1,      7,     17,2,19931121,1625, 30.0000,-131.6667, 4532,    599.3,   5.2582,  34.2242,2,  34.2252,2,   -999.0,9,     21.3,3,    83.73,3,    40.67,3,     3.03,3,  5.2092
  492SSY9310_2,  P02E,   140,  1,      8,     16,2,19931121,1625, 30.0000,-131.6667, 4532,    700.4,   4.6570,  34.2733,2,  34.2766,2,   -999.0,9,     15.2,2,    96.38,3,    41.85,3,     3.13,3,  4.6023
  492SSY9310_2,  P02E,   140,  1,      9,     15,2,19931121,1625, 30.0000,-131.6667, 4532,    799.9,   4.3149,  34.3678,2,  34.3631,2,   -999.0,9,     20.9,2,   105.15,3,    42.69,3,     3.14,3,  4.2538
  492SSY9310_2,  P02E,   140,  1,     10,     14,2,19931121,1625, 30.0000,-131.6667, 4532,    902.1,   4.0150,  34.4179,2,  34.4173,2,   -999.0,9,     19.1,2,   112.93,3,    42.63,3,     3.17,6,  3.9475
  492SSY9310_2,  P02E,   140,  1,     11,     13,2,19931121,1625, 30.0000,-131.6667, 4532,   1000.5,   3.7687,  34.4566,2,  34.4567,2,   -999.0,9,     26.5,2,   119.74,3,    42.75,3,     3.13,3,  3.6949
  492SSY9310_2,  P02E,   140,  1,     12,     12,2,19931121,1625, 30.0000,-131.6667, 4532,   1248.9,   3.2121,  34.5231,2,  34.5235,2,   -999.0,9,     40.9,2,   129.46,3,    42.50,3,     3.06,3,  3.1228
  492SSY9310_2,  P02E,   140,  1,     13,     11,2,19931121,1625, 30.0000,-131.6667, 4532,   1507.9,   2.7598,  34.5651,2,  34.5651,2,   -999.0,9,     55.7,2,   138.23,3,    42.37,3,     2.98,3,  2.6541
  492SSY9310_2,  P02E,   140,  1,     14,     10,2,19931121,1625, 30.0000,-131.6667, 4532,   1750.3,   2.4018,  34.5935,2,  34.5936,2,   -999.0,9,     67.4,2,   146.98,3,    41.53,3,     2.91,3,  2.2805
  492SSY9310_2,  P02E,   140,  1,     15,      9,2,19931121,1625, 30.0000,-131.6667, 4532,   1998.4,   2.1374,  34.6154,2,  34.6134,2,   -999.0,9,     78.7,2,   151.84,3,    40.56,3,     2.86,3,  1.9990
  492SSY9310_2,  P02E,   140,  1,     16,      8,2,19931121,1625, 30.0000,-131.6667, 4532,   2251.1,   1.9304,  34.6329,2,  34.6327,2,   -999.0,9,     90.0,2,   158.65,3,    39.59,3,     2.79,6,  1.7736
  492SSY9310_2,  P02E,   140,  1,     17,      7,2,19931121,1625, 30.0000,-131.6667, 4532,   2499.2,   1.7797,  34.6446,2,  34.6390,2,   -999.0,9,    100.9,2,   158.65,3,    40.08,3,     2.73,3,  1.6036
  492SSY9310_2,  P02E,   140,  1,     18,      6,2,19931121,1625, 30.0000,-131.6667, 4532,   2998.1,   1.5746,  34.6640,2,  34.6639,2,   -999.0,9,    119.6,2,   163.52,3,    38.80,3,     2.66,3,  1.3564
  492SSY9310_2,  P02E,   140,  1,     19,      5,2,19931121,1625, 30.0000,-131.6667, 4532,   3501.4,   1.4921,  34.6759,2,  34.6753,2,   -999.0,9,    133.9,2,   162.55,3,    38.14,3,     2.58,3,  1.2262
  492SSY9310_2,  P02E,   140,  1,     21,      3,2,19931121,1625, 30.0000,-131.6667, 4532,   4001.1,   1.4898,  34.6823,2,  34.6755,4,   -999.0,9,    137.0,3,  -999.00,9,    37.04,3,  -999.00,9,  1.1713
  492SSY9310_2,  P02E,   140,  1,     20,      4,2,19931121,1625, 30.0000,-131.6667, 4532,   4002.3,   1.4899,  34.6808,2,  34.6804,2,   -999.0,9,    141.3,2,   157.69,3,    36.80,3,     2.55,3,  1.1712
  492SSY9310_2,  P02E,   140,  1,     23,      1,2,19931121,1625, 30.0000,-131.6667, 4532,   4501.3,   1.5337,  34.6843,2,  34.6840,2,   -999.0,9,    146.5,2,   155.75,3,    36.87,3,     2.50,3,  1.1578
  492SSY9310_2,  P02E,   140,  1,     22,      2,2,19931121,1625, 30.0000,-131.6667, 4532,   4505.7,   1.5338,  34.6834,2,  34.6857,2,   -999.0,9,    144.8,2,   158.68,3,    36.78,3,     2.51,3,  1.1574