BOTTLE,20040202WHPSIOSA
EXPOCODE,SECT_ID,STNNBR,CASTNO,SAMPNO,BTLNBR,BTLNBR_FLAG_W,DATE,TIME,LATITUDE,LONGITUDE,DEPTH,CTDPRS,CTDTMP,CTDSAL,CTDSAL_FLAG_W,SALNTY,SALNTY_FLAG_W,CTDOXY,CTDOXY_FLAG_W,OXYGEN,OXYGEN_FLAG_W,SILCAT,SILCAT_FLAG_W,NO2+NO3,NO2+NO3_FLAG_W,PHSPHT,PHSPHT_FLAG_W,THETA
,,,,,,,,,,,,DBAR,ITS-90,PSS-78,,PSS-78,,UMOL/KG,,UMOL/KG,,UMOL/KG,,UMOL/KG,,UMOL/KG,,DEG C
  492SSY9310_2,  P02E,   117,  1,      1,     23,2,19931115,2313, 30.0050,-148.4117, 4245,     48.7,  22.0992,  35.2482,2,  35.2461,2,   -999.0,9,    219.7,2,     2.92,3,     0.00,3,     0.03,3, 22.0895
  492SSY9310_2,  P02E,   117,  1,      2,     22,2,19931115,2313, 30.0050,-148.4117, 4245,    101.2,  16.8830,  34.7634,2,  34.7663,2,   -999.0,9,    229.2,2,     3.90,3,     0.16,3,     0.12,3, 16.8665
  492SSY9310_2,  P02E,   117,  1,      3,     21,2,19931115,2313, 30.0050,-148.4117, 4245,    199.6,  12.9175,  34.3537,2,  34.3590,2,   -999.0,9,    215.6,2,     7.79,3,     8.32,3,     0.61,3, 12.8904
  492SSY9310_2,  P02E,   117,  1,      4,     20,2,19931115,2313, 30.0050,-148.4117, 4245,    301.2,  10.8220,  34.1962,2,  34.2022,2,   -999.0,9,    215.6,2,    13.64,3,    13.66,3,     0.94,3, 10.7855
  492SSY9310_2,  P02E,   117,  1,      5,     19,2,19931115,2313, 30.0050,-148.4117, 4245,    400.1,   8.6257,  34.0618,2,  34.0621,2,   -999.0,9,    201.6,2,    23.38,3,    19.84,3,     1.32,3,  8.5835
  492SSY9310_2,  P02E,   117,  1,      6,     18,2,19931115,2313, 30.0050,-148.4117, 4245,    501.4,   6.6182,  33.9846,2,  33.9853,2,   -999.0,9,    145.9,2,    44.80,3,    29.94,3,     2.00,3,  6.5725
  492SSY9310_2,  P02E,   117,  1,      7,     17,2,19931115,2313, 30.0050,-148.4117, 4245,    601.7,   5.3815,  33.9890,2,  34.0035,2,   -999.0,9,    108.0,2,    62.32,3,  -999.00,9,     2.41,3,  5.3319
  492SSY9310_2,  P02E,   117,  1,      8,     16,2,19931115,2313, 30.0050,-148.4117, 4245,    700.1,   4.5276,  34.0743,2,  34.0731,2,   -999.0,9,     58.3,2,    84.71,3,    40.80,3,     2.81,3,  4.4739
  492SSY9310_2,  P02E,   117,  1,      9,     15,2,19931115,2313, 30.0050,-148.4117, 4245,    801.4,   4.0864,  34.2020,2,  34.2054,2,   -999.0,9,     26.5,2,   102.24,3,    44.36,3,     3.06,3,  4.0269
  492SSY9310_2,  P02E,   117,  1,     10,     14,2,19931115,2313, 30.0050,-148.4117, 4245,    901.0,   3.8665,  34.2926,2,  34.2942,2,   -999.0,9,     19.6,2,   111.97,3,    45.02,3,     3.18,3,  3.8002
  492SSY9310_2,  P02E,   117,  1,     11,     13,2,19931115,2313, 30.0050,-148.4117, 4245,    998.2,   3.6695,  34.3640,2,  34.3637,2,   -999.0,9,     18.3,2,   118.78,3,  -999.00,9,     3.23,3,  3.5968
  492SSY9310_2,  P02E,   117,  1,     12,     12,2,19931115,2313, 30.0050,-148.4117, 4245,   1250.2,   3.1366,  34.4887,2,  34.4893,2,   -999.0,9,     34.4,2,   131.41,3,    44.81,3,     3.22,3,  3.0480
  492SSY9310_2,  P02E,   117,  1,     13,     11,2,19931115,2313, 30.0050,-148.4117, 4245,   1499.4,   2.6553,  34.5505,2,  34.5639,4,   -999.0,9,     55.2,2,   142.11,3,    44.20,3,     3.00,3,  2.5515
  492SSY9310_2,  P02E,   117,  1,     14,     10,2,19931115,2313, 30.0050,-148.4117, 4245,   1750.9,   2.2725,  34.5905,2,  34.5857,2,   -999.0,9,     72.6,2,   149.90,3,    43.03,3,     2.85,6,  2.1528
  492SSY9310_2,  P02E,   117,  1,     15,      9,2,19931115,2313, 30.0050,-148.4117, 4245,   2002.7,   2.0426,  34.6114,2,  34.6068,2,   -999.0,9,     80.0,3,   154.76,3,    42.56,3,     2.82,3,  1.9053
  492SSY9310_2,  P02E,   117,  1,     16,      8,2,19931115,2313, 30.0050,-148.4117, 4245,   2251.8,   1.8578,  34.6294,2,  34.6193,4,   -999.0,9,     88.3,3,   159.62,3,    41.54,3,     2.77,3,  1.7021
  492SSY9310_2,  P02E,   117,  1,     18,      6,2,19931115,2313, 30.0050,-148.4117, 4245,   2500.1,   1.7097,  34.6451,2,  34.6468,2,   -999.0,9,    101.3,2,   162.54,3,    41.54,3,     2.73,3,  1.5348
  492SSY9310_2,  P02E,   117,  1,     17,      7,2,19931115,2313, 30.0050,-148.4117, 4245,   2503.9,   1.7077,  34.6442,2,  34.6411,2,   -999.0,9,    102.2,2,   160.59,3,    41.54,3,     2.72,3,  1.5325
  492SSY9310_2,  P02E,   117,  1,     19,      5,2,19931115,2313, 30.0050,-148.4117, 4245,   3001.5,   1.5511,  34.6636,2,  34.6606,2,   -999.0,9,    121.3,2,   160.60,3,    40.35,3,     2.62,3,  1.3331
  492SSY9310_2,  P02E,   117,  1,     21,      3,2,19931115,2313, 30.0050,-148.4117, 4245,   3501.1,   1.4729,  34.6767,2,  34.6763,2,   -999.0,9,    139.1,2,   155.73,3,    38.52,3,     2.56,6,  1.2075
  492SSY9310_2,  P02E,   117,  1,     20,      4,2,19931115,2313, 30.0050,-148.4117, 4245,   3501.3,   1.4728,  34.6750,2,  34.6757,2,   -999.0,9,    138.3,2,   155.73,3,    38.19,3,     2.53,3,  1.2074
  492SSY9310_2,  P02E,   117,  1,     23,      1,2,19931115,2313, 30.0050,-148.4117, 4245,   4001.8,   1.4653,  34.6829,2,  34.6808,2,   -999.0,9,    149.1,2,   150.88,3,    37.72,3,     2.49,3,  1.1474
  492SSY9310_2,  P02E,   117,  1,     22,      2,2,19931115,2313, 30.0050,-148.4117, 4245,   4004.3,   1.4649,  34.6821,2,  34.6810,2,   -999.0,9,    148.3,2,   149.90,3,    37.72,3,     2.49,3,  1.1467
  492SSY9310_2,  P02E,   118,  1,      1,     23,2,19931116,0410, 29.9983,-147.8350, 4982,     49.9,  21.7176,  35.1050,2,  35.1035,2,   -999.0,9,    221.9,2,     1.95,3,     0.00,3,     0.01,3, 21.7078
  492SSY9310_2,  P02E,   118,  1,      2,     22,2,19931116,0410, 29.9983,-147.8350, 4982,     99.4,  16.2252,  34.6053,2,  34.6085,2,   -999.0,9,    239.7,2,     2.92,3,     0.00,3,     0.10,3, 16.2094
  492SSY9310_2,  P02E,   118,  1,      3,     21,2,19931116,0410, 29.9983,-147.8350, 4982,    198.8,  12.4417,  34.2996,2,  34.2956,2,   -999.0,9,    218.2,2,     8.77,3,     8.78,3,     0.67,3, 12.4154
  492SSY9310_2,  P02E,   118,  1,      4,     20,2,19931116,0410, 29.9983,-147.8350, 4982,    300.4,  10.2668,  34.1668,2,  34.1734,2,   -999.0,9,    212.5,2,    16.56,3,    15.00,3,     1.06,3, 10.2317
  492SSY9310_2,  P02E,   118,  1,      5,     19,2,19931116,0410, 29.9983,-147.8350, 4982,    400.5,   8.5061,  34.0567,2,  34.0562,2,   -999.0,9,    197.3,2,    25.33,3,    20.29,3,     1.41,3,  8.4642
  492SSY9310_2,  P02E,   118,  1,      6,     18,2,19931116,0410, 29.9983,-147.8350, 4982,    500.0,   6.7059,  33.9887,2,  33.9923,2,   -999.0,9,    148.5,2,    45.78,3,    29.08,3,     1.97,3,  6.6600
  492SSY9310_2,  P02E,   118,  1,      7,     17,2,19931116,0410, 29.9983,-147.8350, 4982,    600.4,   5.3068,  34.0117,2,  34.0149,2,   -999.0,9,     91.0,2,    71.09,3,    37.16,3,     2.53,3,  5.2577
  492SSY9310_2,  P02E,   118,  1,      8,     16,2,19931116,0410, 29.9983,-147.8350, 4982,    700.0,   4.4624,  34.1044,2,  34.1048,2,   -999.0,9,     55.7,2,    91.52,3,    40.56,3,     2.85,3,  4.4090
  492SSY9310_2,  P02E,   118,  1,      9,     15,2,19931116,0410, 29.9983,-147.8350, 4982,    799.7,   4.0761,  34.2108,2,  34.2103,2,   -999.0,9,     23.1,2,   110.03,3,    43.95,3,     3.08,3,  4.0168
  492SSY9310_2,  P02E,   118,  1,     10,     14,2,19931116,0410, 29.9983,-147.8350, 4982,    899.3,   3.8222,  34.3061,2,  34.3089,2,   -999.0,9,     16.1,2,   113.91,3,    44.48,3,     3.15,3,  3.7564
  492SSY9310_2,  P02E,   118,  1,     11,     13,2,19931116,0410, 29.9983,-147.8350, 4982,   1000.7,   3.5768,  34.3916,2,  34.3900,2,   -999.0,9,     18.7,2,   121.69,3,    44.82,3,     3.20,3,  3.5046
  492SSY9310_2,  P02E,   118,  1,     12,     12,2,19931116,0410, 29.9983,-147.8350, 4982,   1249.3,   3.1425,  34.4913,2,  34.4907,2,   -999.0,9,     35.7,2,   130.44,3,    43.95,3,     3.08,3,  3.0539
  492SSY9310_2,  P02E,   118,  1,     13,     11,2,19931116,0410, 29.9983,-147.8350, 4982,   1499.4,   2.6585,  34.5516,2,  34.5506,2,   -999.0,9,     55.7,2,   141.13,3,    43.44,3,     2.98,3,  2.5546
  492SSY9310_2,  P02E,   118,  1,     14,     10,2,19931116,0410, 29.9983,-147.8350, 4982,   1749.2,   2.3119,  34.5864,2,  34.5851,2,   -999.0,9,     70.5,3,   149.90,3,    42.94,3,     2.90,3,  2.1920
  492SSY9310_2,  P02E,   118,  1,     15,      9,2,19931116,0410, 29.9983,-147.8350, 4982,   1999.0,   2.0253,  34.6128,2,  34.6142,2,   -999.0,9,     80.5,2,   157.68,3,    41.62,3,     2.84,3,  1.8886
  492SSY9310_2,  P02E,   118,  1,     16,      8,2,19931116,0410, 29.9983,-147.8350, 4982,   2249.3,   1.8330,  34.6318,2,  34.6307,2,   -999.0,9,     90.4,2,   162.54,3,    40.87,3,     2.79,3,  1.6779
  492SSY9310_2,  P02E,   118,  1,     17,      7,2,19931116,0410, 29.9983,-147.8350, 4982,   2499.1,   1.7064,  34.6453,2,  34.6457,2,   -999.0,9,    101.3,2,   164.48,3,    40.93,3,     2.74,3,  1.5316
  492SSY9310_2,  P02E,   118,  1,     18,      6,2,19931116,0410, 29.9983,-147.8350, 4982,   2999.5,   1.5436,  34.6637,2,  34.6651,2,   -999.0,9,    121.3,2,   162.55,3,    39.98,3,     2.67,3,  1.3260
  492SSY9310_2,  P02E,   118,  1,     19,      5,2,19931116,0410, 29.9983,-147.8350, 4982,   3498.3,   1.4658,  34.6768,2,  34.6759,2,   -999.0,9,    146.1,4,   155.73,3,    38.80,3,     2.57,3,  1.2008
  492SSY9310_2,  P02E,   118,  1,     20,      4,2,19931116,0410, 29.9983,-147.8350, 4982,   4000.8,   1.4579,  34.6833,2,  34.6826,2,   -999.0,9,    148.3,2,   148.93,3,    36.92,3,     2.58,3,  1.1402
  492SSY9310_2,  P02E,   118,  1,     21,      3,2,19931116,0410, 29.9983,-147.8350, 4982,   4499.1,   1.4764,  34.6870,2,  34.6834,2,   -999.0,9,    154.4,2,   143.09,3,    36.84,3,     2.45,3,  1.1025
  492SSY9310_2,  P02E,   118,  1,     23,      1,2,19931116,0410, 29.9983,-147.8350, 4982,   5000.6,   1.5088,  34.6895,2,  34.6924,2,   -999.0,9,    161.3,2,   142.13,3,    36.60,3,     2.39,3,  1.0745
  492SSY9310_2,  P02E,   118,  1,     22,      2,2,19931116,0410, 29.9983,-147.8350, 4982,   5003.4,   1.5083,  34.6885,2,  34.6879,2,   -999.0,9,    160.4,2,   141.16,3,    36.54,3,     2.39,3,  1.0737
  492SSY9310_2,  P02E,   119,  1,      1,     23,2,19931116,0915, 30.0000,-147.2517, 4890,     51.2,  22.1467,  35.3209,2,  35.3206,2,   -999.0,9,    220.2,2,     2.92,3,     0.00,3,     0.03,3, 22.1365
  492SSY9310_2,  P02E,   119,  1,      2,     22,2,19931116,0915, 30.0000,-147.2517, 4890,    100.6,  17.1403,  34.8001,2,  34.8025,2,   -999.0,9,    230.5,2,     4.87,3,     0.01,3,     0.08,3, 17.1237
  492SSY9310_2,  P02E,   119,  1,      3,     21,2,19931116,0915, 30.0000,-147.2517, 4890,    199.0,  12.7132,  34.3047,2,  34.3105,2,   -999.0,9,    216.9,2,    10.72,3,     8.06,3,     0.60,3, 12.6865
  492SSY9310_2,  P02E,   119,  1,      4,     20,2,19931116,0915, 30.0000,-147.2517, 4890,    300.4,  10.5842,  34.1683,2,  34.1711,2,   -999.0,9,    214.3,2,    14.61,3,    14.08,3,     0.97,3, 10.5483
  492SSY9310_2,  P02E,   119,  1,      5,     19,2,19931116,0915, 30.0000,-147.2517, 4890,    399.4,   8.5154,  34.0401,2,  34.0441,2,   -999.0,9,    200.3,2,    23.38,3,    19.92,3,     1.34,3,  8.4736
  492SSY9310_2,  P02E,   119,  1,      6,     18,2,19931116,0915, 30.0000,-147.2517, 4890,    499.8,   6.7909,  33.9924,2,  33.9951,2,   -999.0,9,    150.2,2,    42.85,3,    28.80,3,     1.97,3,  6.7447
  492SSY9310_2,  P02E,   119,  1,      7,     17,2,19931116,0915, 30.0000,-147.2517, 4890,    600.8,   5.3189,  33.9945,2,  33.9982,2,   -999.0,9,     88.8,2,    67.19,3,    37.77,3,     2.59,3,  5.2697
  492SSY9310_2,  P02E,   119,  1,      8,     16,2,19931116,0915, 30.0000,-147.2517, 4890,    700.5,   4.5929,  34.0752,2,  34.0760,2,   -999.0,9,     51.8,2,    83.74,3,    40.62,3,     2.82,3,  4.5388
  492SSY9310_2,  P02E,   119,  1,      9,     15,2,19931116,0915, 30.0000,-147.2517, 4890,    800.3,   4.1781,  34.1910,2,  34.1919,2,   -999.0,9,     24.8,2,   101.27,3,    43.95,3,     3.04,3,  4.1181
  492SSY9310_2,  P02E,   119,  1,     10,     14,2,19931116,0915, 30.0000,-147.2517, 4890,    900.4,   3.8639,  34.2850,2,  34.2829,2,   -999.0,9,     16.5,2,   112.94,3,    44.89,3,     3.14,3,  3.7977
  492SSY9310_2,  P02E,   119,  1,     11,     13,2,19931116,0915, 30.0000,-147.2517, 4890,   1000.5,   3.6423,  34.3766,2,  34.3782,2,   -999.0,9,     17.8,2,   121.70,3,    44.77,3,     3.15,6,  3.5696
  492SSY9310_2,  P02E,   119,  1,     12,     12,2,19931116,0915, 30.0000,-147.2517, 4890,   1250.1,   3.0983,  34.4977,2,  34.4952,2,   -999.0,9,     36.1,2,   136.28,3,    43.89,3,     3.09,3,  3.0100
  492SSY9310_2,  P02E,   119,  1,     13,     11,2,19931116,0915, 30.0000,-147.2517, 4890,   1499.1,   2.6454,  34.5552,2,  34.5576,2,   -999.0,9,     57.4,3,   147.95,3,    43.32,3,     3.02,3,  2.5417
  492SSY9310_2,  P02E,   119,  1,     14,     10,2,19931116,0915, 30.0000,-147.2517, 4890,   1751.6,   2.2853,  34.5895,2,  34.5901,2,   -999.0,9,     70.5,2,   161.58,3,    42.50,3,     2.96,3,  2.1654
  492SSY9310_2,  P02E,   119,  1,     15,      9,2,19931116,0915, 30.0000,-147.2517, 4890,   2001.3,   1.9998,  34.6149,3,  34.5950,3,   -999.0,9,     73.1,3,  -999.00,9,    42.68,3,  -999.00,9,  1.8633
  492SSY9310_2,  P02E,   119,  1,     16,      8,2,19931116,0915, 30.0000,-147.2517, 4890,   2252.2,   1.8254,  34.6316,2,  34.6236,4,   -999.0,9,     86.1,4,   155.73,3,    40.74,4,     2.76,3,  1.6702
  492SSY9310_2,  P02E,   119,  1,     17,      7,2,19931116,0915, 30.0000,-147.2517, 4890,   2499.1,   1.6887,  34.6465,2,  34.6472,2,   -999.0,9,    103.9,2,   163.51,3,    40.75,3,     2.73,3,  1.5143
  492SSY9310_2,  P02E,   119,  1,     18,      6,2,19931116,0915, 30.0000,-147.2517, 4890,   2999.6,   1.5409,  34.6648,2,  34.6665,2,   -999.0,9,    123.1,2,   162.55,3,    39.95,3,     2.64,3,  1.3233
  492SSY9310_2,  P02E,   119,  1,     19,      5,2,19931116,0915, 30.0000,-147.2517, 4890,   3501.0,   1.4692,  34.6768,2,  34.6773,2,   -999.0,9,    139.1,2,   155.73,3,    38.80,3,     2.55,3,  1.2039
  492SSY9310_2,  P02E,   119,  1,     21,      3,2,19931116,0915, 30.0000,-147.2517, 4890,   4001.6,   1.4619,  34.6832,3,  34.6708,3,   -999.0,9,    139.6,3,  -999.00,9,    37.13,3,  -999.00,9,  1.1441
  492SSY9310_2,  P02E,   119,  1,     20,      4,2,19931116,0915, 30.0000,-147.2517, 4890,   4003.3,   1.4616,  34.6823,2,  34.6830,2,   -999.0,9,    149.6,2,   150.88,3,    37.26,3,     2.52,6,  1.1436
  492SSY9310_2,  P02E,   119,  1,     22,      2,2,19931116,0915, 30.0000,-147.2517, 4890,   4499.2,   1.4789,  34.6866,2,  34.6881,2,   -999.0,9,    156.5,2,   147.96,3,    36.98,3,     2.53,3,  1.1049
  492SSY9310_2,  P02E,   119,  1,     23,      1,2,19931116,0915, 30.0000,-147.2517, 4890,   4977.1,   1.5128,  34.6890,2,  34.6899,2,   -999.0,9,    160.9,2,   144.08,3,    36.69,3,     2.40,3,  1.0812
  492SSY9310_2,  P02E,   120,  1,      1,     23,2,19931116,1422, 29.9983,-146.6667, 5013,     49.1,  21.7984,  35.2255,2,  35.2264,2,   -999.0,9,    220.2,2,     0.97,3,     0.00,3,     0.01,3, 21.7887
  492SSY9310_2,  P02E,   120,  1,      2,     22,2,19931116,1422, 29.9983,-146.6667, 5013,    100.2,  16.4097,  34.5463,2,  34.5519,2,   -999.0,9,    234.0,2,     1.95,3,     0.22,3,     0.13,3, 16.3936
  492SSY9310_2,  P02E,   120,  1,      3,     21,2,19931116,1422, 29.9983,-146.6667, 5013,    198.2,  13.0232,  34.2996,2,  34.2919,2,   -999.0,9,    215.6,2,     6.82,3,     7.22,3,     0.59,3, 12.9961
  492SSY9310_2,  P02E,   120,  1,      4,     20,2,19931116,1422, 29.9983,-146.6667, 5013,    299.5,  10.1924,  34.1222,2,  34.1248,2,   -999.0,9,    214.7,2,    15.59,3,    15.67,3,     1.06,3, 10.1575
  492SSY9310_2,  P02E,   120,  1,      5,     19,2,19931116,1422, 29.9983,-146.6667, 5013,    399.0,   8.1889,  34.0308,2,  34.0260,2,   -999.0,9,    191.6,2,    28.25,3,    18.77,3,     1.45,3,  8.1482
  492SSY9310_2,  P02E,   120,  1,      6,     18,2,19931116,1422, 29.9983,-146.6667, 5013,    499.3,   6.5098,  33.9761,2,  33.9743,2,   -999.0,9,    139.8,2,    48.70,3,    30.35,3,     2.05,3,  6.4648
  492SSY9310_2,  P02E,   120,  1,      7,     17,2,19931116,1422, 29.9983,-146.6667, 5013,    599.0,   5.1793,  34.0098,2,  34.0025,2,   -999.0,9,     84.4,3,    74.01,3,    38.08,3,     2.61,3,  5.1308
  492SSY9310_2,  P02E,   120,  1,      8,     16,2,19931116,1422, 29.9983,-146.6667, 5013,    699.2,   4.5881,  34.0993,2,  34.0903,2,   -999.0,9,     41.8,2,    91.53,3,    42.26,3,     2.92,3,  4.5341
  492SSY9310_2,  P02E,   120,  1,      9,     15,2,19931116,1422, 29.9983,-146.6667, 5013,    801.0,   4.1569,  34.2133,2,  34.2079,2,   -999.0,9,     20.0,2,   108.08,3,    43.95,3,     3.13,3,  4.0969
  492SSY9310_2,  P02E,   120,  1,     10,     14,2,19931116,1422, 29.9983,-146.6667, 5013,    899.2,   3.8772,  34.2987,2,  34.2942,2,   -999.0,9,     15.7,2,   113.92,3,    44.70,3,     3.16,3,  3.8110
  492SSY9310_2,  P02E,   120,  1,     11,     13,2,19931116,1422, 29.9983,-146.6667, 5013,    998.1,   3.6495,  34.3803,2,  34.3739,2,   -999.0,9,     17.4,3,   121.70,3,    44.76,3,     3.19,3,  3.5769
  492SSY9310_2,  P02E,   120,  1,     12,     12,2,19931116,1422, 29.9983,-146.6667, 5013,   1249.9,   3.0784,  34.5039,2,  34.4972,2,   -999.0,9,     38.7,2,   134.33,3,    44.20,3,     3.12,3,  2.9903
  492SSY9310_2,  P02E,   120,  1,     13,     11,2,19931116,1422, 29.9983,-146.6667, 5013,   1499.7,   2.6415,  34.5576,2,  34.5565,2,   -999.0,9,     57.8,2,   144.05,3,    43.03,3,     3.07,3,  2.5378
  492SSY9310_2,  P02E,   120,  1,     14,     10,2,19931116,1422, 29.9983,-146.6667, 5013,   1748.6,   2.3044,  34.5890,2,  34.5820,3,   -999.0,9,     69.6,2,   152.82,3,    42.28,3,     3.02,3,  2.1846
  492SSY9310_2,  P02E,   120,  1,     15,      9,2,19931116,1422, 29.9983,-146.6667, 5013,   1998.8,   2.0606,  34.6113,2,  34.5993,4,   -999.0,9,     76.5,3,   157.68,3,    41.68,3,     2.89,3,  1.9233
  492SSY9310_2,  P02E,   120,  1,     16,      8,2,19931116,1422, 29.9983,-146.6667, 5013,   2249.0,   1.8686,  34.6287,2,  34.6260,2,   -999.0,9,     89.1,2,   164.49,3,    41.97,3,     2.81,3,  1.7130
  492SSY9310_2,  P02E,   120,  1,     17,      7,2,19931116,1422, 29.9983,-146.6667, 5013,   2499.4,   1.7345,  34.6426,3,  34.6095,3,   -999.0,9,     90.9,3,  -999.00,9,    37.87,3,  -999.00,9,  1.5592
  492SSY9310_2,  P02E,   120,  1,     18,      6,2,19931116,1422, 29.9983,-146.6667, 5013,   2999.3,   1.5629,  34.6630,2,  34.6616,2,   -999.0,9,    120.4,2,   166.44,3,    40.17,3,     2.67,3,  1.3449
  492SSY9310_2,  P02E,   120,  1,     19,      5,2,19931116,1422, 29.9983,-146.6667, 5013,   3500.2,   1.4857,  34.6754,2,  34.6728,2,   -999.0,9,    136.5,2,   161.57,3,    38.96,3,     2.58,3,  1.2201
  492SSY9310_2,  P02E,   120,  1,     20,      4,2,19931116,1422, 29.9983,-146.6667, 5013,   4000.7,   1.4686,  34.6829,2,  34.6730,4,   -999.0,9,    147.4,2,   157.69,3,    37.72,3,     2.52,3,  1.1507
  492SSY9310_2,  P02E,   120,  1,     21,      3,2,19931116,1422, 29.9983,-146.6667, 5013,   4500.5,   1.4837,  34.6866,2,  34.6791,4,   -999.0,9,    154.8,2,   149.91,3,    36.98,3,     2.51,3,  1.1094
  492SSY9310_2,  P02E,   120,  1,     23,      1,2,19931116,1422, 29.9983,-146.6667, 5013,   4999.0,   1.5178,  34.6887,2,  34.6853,2,   -999.0,9,    160.0,2,   145.05,3,    36.54,3,     2.46,3,  1.0834
  492SSY9310_2,  P02E,   120,  1,     22,      2,2,19931116,1422, 29.9983,-146.6667, 5013,   5003.8,   1.5179,  34.6879,2,  34.6883,2,   -999.0,9,   -999.0,5,   146.02,3,    36.54,3,     2.46,3,  1.0829