BOTTLE,20040202WHPSIOSA
EXPOCODE,SECT_ID,STNNBR,CASTNO,SAMPNO,BTLNBR,BTLNBR_FLAG_W,DATE,TIME,LATITUDE,LONGITUDE,DEPTH,CTDPRS,CTDTMP,CTDSAL,CTDSAL_FLAG_W,SALNTY,SALNTY_FLAG_W,CTDOXY,CTDOXY_FLAG_W,OXYGEN,OXYGEN_FLAG_W,SILCAT,SILCAT_FLAG_W,NO2+NO3,NO2+NO3_FLAG_W,PHSPHT,PHSPHT_FLAG_W,THETA
,,,,,,,,,,,,DBAR,ITS-90,PSS-78,,PSS-78,,UMOL/KG,,UMOL/KG,,UMOL/KG,,UMOL/KG,,UMOL/KG,,DEG C
  492SSY9310_2,  P02E,   149,  1,      1,     23,2,19931123,1611, 30.0017,-125.4150, 4480,     48.2,  18.7788,  33.5674,2,  33.5735,2,   -999.0,9,    234.2,2,     0.98,3,     0.00,3,     0.27,3, 18.7704
  492SSY9310_2,  P02E,   149,  1,      2,     22,2,19931123,1611, 30.0017,-125.4150, 4480,     99.0,  16.4796,  33.5108,2,  33.5039,2,   -999.0,9,    243.8,2,     0.98,3,     0.00,3,     0.30,3, 16.4639
  492SSY9310_2,  P02E,   149,  1,      3,     21,2,19931123,1611, 30.0017,-125.4150, 4480,    198.7,   9.8241,  33.4976,2,  33.4903,2,   -999.0,9,    189.0,2,    13.64,3,    14.77,3,     1.33,3,  9.8018
  492SSY9310_2,  P02E,   149,  1,      4,     20,2,19931123,1611, 30.0017,-125.4150, 4480,    300.0,   8.0896,  33.9677,2,  33.9700,2,   -999.0,9,    135.0,2,    32.14,3,    26.16,3,     1.90,3,  8.0593
  492SSY9310_2,  P02E,   149,  1,      5,     19,2,19931123,1611, 30.0017,-125.4150, 4480,    396.9,   6.9492,  34.0550,2,  34.0578,2,   -999.0,9,     87.1,2,    49.67,3,    32.82,3,     2.35,3,  6.9123
  492SSY9310_2,  P02E,   149,  1,      6,     18,2,19931123,1611, 30.0017,-125.4150, 4480,    498.2,   5.9991,  34.1500,2,  34.1511,2,   -999.0,9,     39.2,3,    70.11,3,    37.31,3,     2.84,3,  5.9559
  492SSY9310_2,  P02E,   149,  1,      7,     17,2,19931123,1611, 30.0017,-125.4150, 4480,    599.6,   5.3556,  34.2394,2,  34.2409,2,   -999.0,9,     20.9,2,    84.71,3,    40.14,3,     3.05,3,  5.3061
  492SSY9310_2,  P02E,   149,  1,      8,     16,2,19931123,1611, 30.0017,-125.4150, 4480,    699.2,   4.9389,  34.3149,2,  34.3178,2,   -999.0,9,     13.9,2,    95.41,3,    40.80,3,     3.15,3,  4.8828
  492SSY9310_2,  P02E,   149,  1,      9,     15,2,19931123,1611, 30.0017,-125.4150, 4480,    798.6,   4.6217,  34.3762,2,  34.3751,2,   -999.0,9,     13.9,2,   102.23,3,    41.67,3,     3.18,3,  4.5589
  492SSY9310_2,  P02E,   149,  1,     10,     14,2,19931123,1611, 30.0017,-125.4150, 4480,    899.8,   4.3223,  34.4272,2,  34.4281,2,   -999.0,9,     18.7,2,   106.12,3,    42.07,3,     3.21,3,  4.2528
  492SSY9310_2,  P02E,   149,  1,     11,     13,2,19931123,1611, 30.0017,-125.4150, 4480,   1001.4,   4.0004,  34.4655,2,  34.4661,2,   -999.0,9,     25.7,2,   112.93,3,    42.14,3,     3.20,6,  3.9248
  492SSY9310_2,  P02E,   149,  1,     12,     12,2,19931123,1611, 30.0017,-125.4150, 4480,   1251.9,   3.3434,  34.5228,2,  34.5247,2,   -999.0,9,     38.7,2,   126.55,4,    41.56,4,     3.08,4,  3.2526
  492SSY9310_2,  P02E,   149,  1,     13,     11,2,19931123,1611, 30.0017,-125.4150, 4480,   1499.9,   2.8623,  34.5603,2,  34.5624,2,   -999.0,9,     50.5,2,   139.19,3,    41.91,3,     3.06,3,  2.7561
  492SSY9310_2,  P02E,   149,  1,     14,     10,2,19931123,1611, 30.0017,-125.4150, 4480,   1748.4,   2.4348,  34.5942,2,  34.5965,2,   -999.0,9,     65.2,2,   149.90,3,    41.03,3,     2.98,3,  2.3132
  492SSY9310_2,  P02E,   149,  1,     15,      9,2,19931123,1611, 30.0017,-125.4150, 4480,   1999.7,   2.1446,  34.6187,2,  34.6193,2,   -999.0,9,     80.0,2,   155.73,3,    40.38,3,     2.90,3,  2.0060
  492SSY9310_2,  P02E,   149,  1,     16,      8,2,19931123,1611, 30.0017,-125.4150, 4480,   2247.3,   1.9539,  34.6356,2,  34.6358,2,   -999.0,9,     90.5,2,   156.70,3,    40.15,3,     2.84,3,  1.7970
  492SSY9310_2,  P02E,   149,  1,     17,      7,2,19931123,1611, 30.0017,-125.4150, 4480,   2499.7,   1.7980,  34.6477,2,  34.6411,2,   -999.0,9,     99.6,2,   154.75,3,    40.16,4,     2.78,3,  1.6215
  492SSY9310_2,  P02E,   149,  1,     18,      6,2,19931123,1611, 30.0017,-125.4150, 4480,   2998.7,   1.6103,  34.6627,2,  34.6663,2,   -999.0,9,    118.3,2,   166.44,3,    39.42,3,     2.71,3,  1.3913
  492SSY9310_2,  P02E,   149,  1,     19,      5,2,19931123,1611, 30.0017,-125.4150, 4480,   3502.4,   1.5201,  34.6734,2,  34.6759,2,   -999.0,9,    130.4,2,   167.41,3,    38.60,3,     2.65,3,  1.2534
  492SSY9310_2,  P02E,   149,  1,     21,      3,2,19931123,1611, 30.0017,-125.4150, 4480,   4000.4,   1.5088,  34.6797,2,  34.6822,2,   -999.0,9,    138.3,2,   167.43,3,    36.69,3,     2.60,3,  1.1898
  492SSY9310_2,  P02E,   149,  1,     20,      4,2,19931123,1611, 30.0017,-125.4150, 4480,   4003.6,   1.5089,  34.6787,2,  34.6834,2,   -999.0,9,    139.1,2,   164.51,3,    36.93,3,     2.61,3,  1.1896
  492SSY9310_2,  P02E,   149,  1,     23,      1,2,19931123,1611, 30.0017,-125.4150, 4480,   4489.1,   1.5448,  34.6819,2,  34.6861,2,   -999.0,9,    142.6,2,   170.35,3,    37.08,3,     2.61,6,  1.1700
  492SSY9310_2,  P02E,   149,  1,     22,      2,2,19931123,1611, 30.0017,-125.4150, 4480,   4492.4,   1.5450,  34.6813,2,  34.6857,2,   -999.0,9,    140.9,2,   169.37,3,    36.78,3,     2.59,3,  1.1698
  492SSY9310_2,  P02E,   150,  1,      1,     23,2,19931123,2056, 30.0017,-124.8317, 3738,     50.0,  18.4887,  33.5141,2,  33.5200,2,   -999.0,9,    236.4,2,     0.00,3,     0.00,3,     0.20,3, 18.4800
  492SSY9310_2,  P02E,   150,  1,      2,     22,2,19931123,2056, 30.0017,-124.8317, 3738,    100.9,  15.5029,  33.3969,2,  33.4639,4,   -999.0,9,    243.3,2,     0.00,3,     0.00,3,     0.26,3, 15.4875
  492SSY9310_2,  P02E,   150,  1,      3,     21,2,19931123,2056, 30.0017,-124.8317, 3738,    200.6,   9.1722,  33.6347,2,  33.6361,2,   -999.0,9,    177.7,2,    17.54,3,    17.80,3,     1.43,3,  9.1506
  492SSY9310_2,  P02E,   150,  1,      4,     20,2,19931123,2056, 30.0017,-124.8317, 3738,    302.5,   7.4628,  33.9818,2,  33.9833,2,   -999.0,9,    131.5,2,    37.99,3,    28.18,3,     0.20,3,  7.4337
  492SSY9310_2,  P02E,   150,  1,      5,     19,2,19931123,2056, 30.0017,-124.8317, 3738,    398.8,   6.5164,  34.0743,2,  34.0782,2,   -999.0,9,     66.6,2,    58.43,3,    35.14,3,     2.56,3,  6.4807
  492SSY9310_2,  P02E,   150,  1,      6,     18,2,19931123,2056, 30.0017,-124.8317, 3738,    500.1,   5.7449,  34.1718,2,  34.1752,2,   -999.0,9,     31.3,2,    76.92,3,    39.03,3,     2.96,3,  5.7025
  492SSY9310_2,  P02E,   150,  1,      7,     17,2,19931123,2056, 30.0017,-124.8317, 3738,    598.9,   5.2916,  34.2600,2,  34.2625,2,   -999.0,9,     19.6,2,    88.60,3,    40.80,3,     3.13,3,  5.2424
  492SSY9310_2,  P02E,   150,  1,      8,     16,2,19931123,2056, 30.0017,-124.8317, 3738,    699.5,   4.8864,  34.3341,2,  34.3343,2,   -999.0,9,     14.4,2,    99.30,3,    41.14,3,     3.22,3,  4.8306
  492SSY9310_2,  P02E,   150,  1,      9,     15,2,19931123,2056, 30.0017,-124.8317, 3738,    801.1,   4.5765,  34.3883,2,  34.3794,2,   -999.0,9,     17.4,2,   106.13,3,    41.48,3,     3.25,3,  4.5137
  492SSY9310_2,  P02E,   150,  1,     10,     14,2,19931123,2056, 30.0017,-124.8317, 3738,    901.2,   4.2466,  34.4342,2,  34.4339,2,   -999.0,9,     20.9,2,   115.86,3,    41.94,3,     3.13,3,  4.1775
  492SSY9310_2,  P02E,   150,  1,     11,     13,2,19931123,2056, 30.0017,-124.8317, 3738,   1000.0,   3.9461,  34.4694,2,  34.4689,2,   -999.0,9,     27.8,2,   124.61,3,    42.12,3,     3.13,6,  3.8709
  492SSY9310_2,  P02E,   150,  1,     12,     12,2,19931123,2056, 30.0017,-124.8317, 3738,   1252.5,   3.2886,  34.5275,2,  34.5294,2,   -999.0,9,     39.6,2,   149.91,3,    41.94,4,     3.07,3,  3.1983
  492SSY9310_2,  P02E,   150,  1,     13,     11,2,19931123,2056, 30.0017,-124.8317, 3738,   1502.0,   2.7838,  34.5665,2,  34.5671,2,   -999.0,9,     53.5,2,   146.00,3,    41.84,3,     3.01,3,  2.6783
  492SSY9310_2,  P02E,   150,  1,     14,     10,2,19931123,2056, 30.0017,-124.8317, 3738,   1749.4,   2.4197,  34.5957,2,  34.5983,2,   -999.0,9,     67.4,2,   153.79,3,    41.06,3,     2.94,3,  2.2983
  492SSY9310_2,  P02E,   150,  1,     15,      9,2,19931123,2056, 30.0017,-124.8317, 3738,   1999.9,   2.1190,  34.6221,2,  34.6221,2,   -999.0,9,     83.1,2,   159.63,3,    40.31,3,     2.85,3,  1.9807
  492SSY9310_2,  P02E,   150,  1,     17,      7,2,19931123,2056, 30.0017,-124.8317, 3738,   2248.3,   1.9424,  34.6381,2,  34.6390,2,   -999.0,9,     93.9,2,   159.62,3,    40.74,3,     2.81,3,  1.7856
  492SSY9310_2,  P02E,   150,  1,     16,      8,2,19931123,2056, 30.0017,-124.8317, 3738,   2250.9,   1.9474,  34.6358,2,  34.6339,2,   -999.0,9,     92.2,2,   159.62,3,    40.56,3,     2.82,3,  1.7903
  492SSY9310_2,  P02E,   150,  1,     19,      5,2,19931123,2056, 30.0017,-124.8317, 3738,   2501.0,   1.8150,  34.6475,2,  34.6488,2,   -999.0,9,    102.6,2,   165.46,3,    40.37,3,     2.76,3,  1.6380
  492SSY9310_2,  P02E,   150,  1,     18,      6,2,19931123,2056, 30.0017,-124.8317, 3738,   2503.7,   1.8129,  34.6464,2,  34.6502,2,   -999.0,9,    102.6,2,   164.48,3,    40.56,3,     2.76,3,  1.6357
  492SSY9310_2,  P02E,   150,  1,     21,      3,2,19931123,2056, 30.0017,-124.8317, 3738,   3001.2,   1.6068,  34.6626,3,  34.6531,3,   -999.0,9,    113.1,4,  -999.00,9,    38.57,3,  -999.00,9,  1.3876
  492SSY9310_2,  P02E,   150,  1,     20,      4,2,19931123,2056, 30.0017,-124.8317, 3738,   3005.2,   1.6067,  34.6609,2,  34.6645,2,   -999.0,9,    117.8,2,   171.31,3,    38.21,3,     2.71,3,  1.3872
  492SSY9310_2,  P02E,   150,  1,     23,      1,2,19931123,2056, 30.0017,-124.8317, 3738,   3500.3,   1.5312,  34.6723,2,  34.6747,2,   -999.0,9,    129.6,2,   167.41,3,    37.70,3,     2.76,6,  1.2644
  492SSY9310_2,  P02E,   150,  1,     22,      2,2,19931123,2056, 30.0017,-124.8317, 3738,   3503.7,   1.5309,  34.6712,2,  34.6753,2,   -999.0,9,    129.6,2,   172.28,3,    37.41,3,     2.76,3,  1.2638
  492SSY9310_2,  P02E,   151,  1,      1,     23,2,19931124,0130, 30.0000,-124.2483, 4501,     49.3,  18.5466,  33.3339,2,  33.3379,2,   -999.0,9,    236.0,2,     0.00,3,     0.00,3,     0.22,3, 18.5381
  492SSY9310_2,  P02E,   151,  1,      2,     22,2,19931124,0130, 30.0000,-124.2483, 4501,     98.1,  14.8325,  33.2925,2,  33.2715,2,   -999.0,9,    249.4,2,     0.98,3,     0.01,3,     0.28,3, 14.8181
  492SSY9310_2,  P02E,   151,  1,      3,     21,2,19931124,0130, 30.0000,-124.2483, 4501,    200.3,   9.0288,  33.6257,2,  33.6248,2,   -999.0,9,    186.8,2,    16.57,3,    16.66,3,     1.36,3,  9.0075
  492SSY9310_2,  P02E,   151,  1,      4,     20,2,19931124,0130, 30.0000,-124.2483, 4501,    301.8,   7.5914,  34.0133,2,  34.0170,2,   -999.0,9,    119.7,2,    37.99,3,    28.54,3,     2.06,3,  7.5621
  492SSY9310_2,  P02E,   151,  1,      5,     19,2,19931124,0130, 30.0000,-124.2483, 4501,    398.4,   6.4786,  34.0887,2,  34.0911,2,   -999.0,9,     63.6,2,    59.40,3,    35.02,3,     2.60,3,  6.4430
  492SSY9310_2,  P02E,   151,  1,      6,     18,2,19931124,0130, 30.0000,-124.2483, 4501,    499.4,   5.6817,  34.1759,2,  34.1791,2,   -999.0,9,     30.5,2,    75.95,3,    38.14,3,     2.88,3,  5.6397
  492SSY9310_2,  P02E,   151,  1,      7,     17,2,19931124,0130, 30.0000,-124.2483, 4501,    601.0,   5.0623,  34.2628,2,  34.2609,2,   -999.0,9,     18.7,2,    95.41,3,    40.58,3,     3.03,3,  5.0140
  492SSY9310_2,  P02E,   151,  1,      8,     16,2,19931124,0130, 30.0000,-124.2483, 4501,    699.6,   4.6963,  34.3446,2,  34.3445,2,   -999.0,9,     13.9,2,   100.27,3,    41.29,3,     3.12,3,  4.6414
  492SSY9310_2,  P02E,   151,  1,      9,     15,2,19931124,0130, 30.0000,-124.2483, 4501,    800.6,   4.4336,  34.4005,2,  34.3963,2,   -999.0,9,     17.4,2,   105.15,3,    41.70,3,     3.13,3,  4.3718
  492SSY9310_2,  P02E,   151,  1,     10,     14,2,19931124,0130, 30.0000,-124.2483, 4501,    899.7,   4.1787,  34.4440,2,  34.4438,2,   -999.0,9,     23.1,2,   110.99,3,    41.69,3,     3.15,3,  4.1102
  492SSY9310_2,  P02E,   151,  1,     11,     13,2,19931124,0130, 30.0000,-124.2483, 4501,   1000.4,   3.8865,  34.4757,2,  34.4754,2,   -999.0,9,     29.6,2,   117.79,3,    41.70,3,     3.15,6,  3.8117
  492SSY9310_2,  P02E,   151,  1,     12,     12,2,19931124,0130, 30.0000,-124.2483, 4501,   1251.9,   3.2614,  34.5331,2,  34.5345,2,   -999.0,9,     41.3,2,   133.36,3,    41.50,3,     3.11,3,  3.1714
  492SSY9310_2,  P02E,   151,  1,     13,     11,2,19931124,0130, 30.0000,-124.2483, 4501,   1500.4,   2.7907,  34.5675,2,  34.5677,2,   -999.0,9,     53.1,2,   146.00,3,    41.50,3,     3.01,3,  2.6853
  492SSY9310_2,  P02E,   151,  1,     14,     10,2,19931124,0130, 30.0000,-124.2483, 4501,   1754.9,   2.4158,  34.5977,2,  34.6001,2,   -999.0,9,     67.8,2,   155.74,3,    40.63,3,     2.91,3,  2.2940
  492SSY9310_2,  P02E,   151,  1,     15,      9,2,19931124,0130, 30.0000,-124.2483, 4501,   2000.5,   2.1306,  34.6210,2,  34.6185,2,   -999.0,9,     77.8,2,   160.60,3,    40.41,3,     2.86,3,  1.9921
  492SSY9310_2,  P02E,   151,  1,     16,      8,2,19931124,0130, 30.0000,-124.2483, 4501,   2249.2,   1.9448,  34.6381,2,  34.6398,2,   -999.0,9,     93.1,2,   166.43,3,    40.03,3,     2.78,3,  1.7879
  492SSY9310_2,  P02E,   151,  1,     17,      7,2,19931124,0130, 30.0000,-124.2483, 4501,   2503.9,   1.8164,  34.6473,2,  34.6468,2,   -999.0,9,    101.8,2,   166.43,3,    39.91,3,     2.72,3,  1.6391
  492SSY9310_2,  P02E,   151,  1,     18,      6,2,19931124,0130, 30.0000,-124.2483, 4501,   3000.8,   1.6128,  34.6622,2,  34.6643,2,   -999.0,9,    117.4,2,   175.20,3,    39.11,3,     2.64,3,  1.3935
  492SSY9310_2,  P02E,   151,  1,     19,      5,2,19931124,0130, 30.0000,-124.2483, 4501,   3500.6,   1.5237,  34.6731,2,  34.6747,2,   -999.0,9,    130.4,2,   175.20,3,    38.63,3,     2.60,3,  1.2571
  492SSY9310_2,  P02E,   151,  1,     21,      3,2,19931124,0130, 30.0000,-124.2483, 4501,   4000.7,   1.5118,  34.6793,2,  34.6806,2,   -999.0,9,    139.1,2,   146.01,4,    34.60,4,     2.37,4,  1.1927
  492SSY9310_2,  P02E,   151,  1,     20,      4,2,19931124,0130, 30.0000,-124.2483, 4501,   4005.6,   1.5124,  34.6779,2,  34.6736,3,   -999.0,9,    134.4,3,   168.40,3,    37.38,3,     2.54,6,  1.1928
  492SSY9310_2,  P02E,   151,  1,     23,      1,2,19931124,0130, 30.0000,-124.2483, 4501,   4505.3,   1.5537,  34.6817,2,  34.6857,2,   -999.0,9,    141.8,2,   165.49,3,    37.11,3,     2.52,3,  1.1767
  492SSY9310_2,  P02E,   151,  1,     22,      2,2,19931124,0130, 30.0000,-124.2483, 4501,   4507.3,   1.5536,  34.6804,2,  34.6846,2,   -999.0,9,    140.9,2,   164.52,4,    34.84,3,     2.50,4,  1.1764
  492SSY9310_2,  P02E,   152,  1,      1,     23,2,19931124,0625, 30.0033,-123.6683, 4583,     49.4,  19.2533,  33.6287,2,  33.6334,2,   -999.0,9,    232.9,2,     0.00,3,     0.00,3,     0.22,3, 19.2445
  492SSY9310_2,  P02E,   152,  1,      2,     22,2,19931124,0625, 30.0033,-123.6683, 4583,    101.5,  15.9634,  33.4960,2,  33.4957,2,   -999.0,9,    242.5,2,     0.98,3,     0.00,3,     0.30,3, 15.9476
  492SSY9310_2,  P02E,   152,  1,      3,     21,2,19931124,0625, 30.0033,-123.6683, 4583,    200.2,   9.3434,  33.5800,2,  33.5731,2,   -999.0,9,    179.0,2,    17.54,3,    16.85,3,     1.43,3,  9.3216
  492SSY9310_2,  P02E,   152,  1,      4,     20,2,19931124,0625, 30.0033,-123.6683, 4583,    300.5,   7.8446,  33.9922,2,  33.9947,2,   -999.0,9,    128.9,2,    37.01,3,    26.94,3,     1.97,3,  7.8149
  492SSY9310_2,  P02E,   152,  1,      5,     19,2,19931124,0625, 30.0033,-123.6683, 4583,    402.5,   6.6509,  34.0700,2,  34.0750,2,   -999.0,9,     72.7,2,    57.46,3,    33.80,3,     2.52,3,  6.6144
  492SSY9310_2,  P02E,   152,  1,      6,     18,2,19931124,0625, 30.0033,-123.6683, 4583,    501.0,   5.6970,  34.1417,2,  34.1503,2,   -999.0,9,     37.9,2,    74.98,3,    38.11,3,     2.90,3,  5.6548
  492SSY9310_2,  P02E,   152,  1,      7,     17,2,19931124,0625, 30.0033,-123.6683, 4583,    600.0,   5.1851,  34.2498,2,  34.2499,2,   -999.0,9,     20.5,2,    89.57,3,    39.71,3,     3.10,3,  5.1363
  492SSY9310_2,  P02E,   152,  1,      8,     16,2,19931124,0625, 30.0033,-123.6683, 4583,    701.8,   4.8329,  34.3386,2,  34.3425,2,   -999.0,9,     13.9,2,    96.38,3,    40.70,3,     3.16,3,  4.7772
  492SSY9310_2,  P02E,   152,  1,      9,     15,2,19931124,0625, 30.0033,-123.6683, 4583,    799.1,   4.5236,  34.3971,2,  34.3927,2,   -999.0,9,     16.5,2,   103.20,3,    40.99,3,     3.16,3,  4.4613
  492SSY9310_2,  P02E,   152,  1,     10,     14,2,19931124,0625, 30.0033,-123.6683, 4583,    902.2,   4.2079,  34.4418,2,  34.4422,2,   -999.0,9,     21.8,2,   110.01,3,    41.41,3,     3.18,3,  4.1390
  492SSY9310_2,  P02E,   152,  1,     11,     13,2,19931124,0625, 30.0033,-123.6683, 4583,   1002.0,   3.9397,  34.4748,2,  34.4754,2,   -999.0,9,     27.4,2,   116.82,3,    41.41,3,     3.18,3,  3.8644
  492SSY9310_2,  P02E,   152,  1,     12,     12,2,19931124,0625, 30.0033,-123.6683, 4583,   1249.6,   3.3036,  34.5275,2,  34.5292,2,   -999.0,9,     38.3,2,   133.36,3,    41.37,3,     3.11,3,  3.2134
  492SSY9310_2,  P02E,   152,  1,     13,     11,2,19931124,0625, 30.0033,-123.6683, 4583,   1498.3,   2.8058,  34.5640,2,  34.5649,2,   -999.0,9,     51.3,2,   146.00,3,    41.22,3,     3.07,3,  2.7004
  492SSY9310_2,  P02E,   152,  1,     14,     10,2,19931124,0625, 30.0033,-123.6683, 4583,   1750.2,   2.3844,  34.5968,2,  34.5981,2,   -999.0,9,     66.5,2,   155.74,3,    40.72,3,     2.95,3,  2.2634
  492SSY9310_2,  P02E,   152,  1,     15,      9,2,19931124,0625, 30.0033,-123.6683, 4583,   2000.4,   2.1018,  34.6233,2,  34.6236,2,   -999.0,9,     83.1,2,   162.55,3,    40.01,3,     2.87,3,  1.9637
  492SSY9310_2,  P02E,   152,  1,     16,      8,2,19931124,0625, 30.0033,-123.6683, 4583,   2251.2,   1.9198,  34.6403,2,  34.6413,2,   -999.0,9,     95.2,2,   164.49,3,    39.75,3,     2.81,3,  1.7631
  492SSY9310_2,  P02E,   152,  1,     17,      7,2,19931124,0625, 30.0033,-123.6683, 4583,   2500.8,   1.8138,  34.6505,2,  34.6500,2,   -999.0,9,    103.9,2,   163.51,3,    39.76,3,     2.77,3,  1.6369
  492SSY9310_2,  P02E,   152,  1,     18,      6,2,19931124,0625, 30.0033,-123.6683, 4583,   2999.8,   1.6318,  34.6633,2,  34.6649,2,   -999.0,9,    118.7,2,   169.36,3,    39.08,3,     2.70,3,  1.4122
  492SSY9310_2,  P02E,   152,  1,     19,      5,2,19931124,0625, 30.0033,-123.6683, 4583,   3502.7,   1.5442,  34.6725,2,  34.6720,2,   -999.0,9,    129.1,2,   167.41,3,    38.45,3,     2.63,3,  1.2768
  492SSY9310_2,  P02E,   152,  1,     21,      3,2,19931124,0625, 30.0033,-123.6683, 4583,   4000.6,   1.5217,  34.6787,2,  34.6783,2,   -999.0,9,    137.0,2,   163.53,3,    37.49,3,     2.60,3,  1.2023
  492SSY9310_2,  P02E,   152,  1,     20,      4,2,19931124,0625, 30.0033,-123.6683, 4583,   4001.8,   1.5213,  34.6776,2,  34.6804,2,   -999.0,9,    138.3,2,   166.45,3,    37.18,3,     2.60,3,  1.2018
  492SSY9310_2,  P02E,   152,  1,     23,      1,2,19931124,0625, 30.0033,-123.6683, 4583,   4499.1,   1.5590,  34.6810,2,  34.6830,2,   -999.0,9,    140.0,2,   166.45,3,    37.50,3,     2.59,6,  1.1826
  492SSY9310_2,  P02E,   152,  1,     22,      2,2,19931124,0625, 30.0033,-123.6683, 4583,   4501.8,   1.5591,  34.6797,2,  34.6822,2,   -999.0,9,    139.6,2,   165.48,3,    37.34,3,     2.57,3,  1.1824