BOTTLE,20040202WHPSIOSA
EXPOCODE,SECT_ID,STNNBR,CASTNO,SAMPNO,BTLNBR,BTLNBR_FLAG_W,DATE,TIME,LATITUDE,LONGITUDE,DEPTH,CTDPRS,CTDTMP,CTDSAL,CTDSAL_FLAG_W,SALNTY,SALNTY_FLAG_W,CTDOXY,CTDOXY_FLAG_W,OXYGEN,OXYGEN_FLAG_W,SILCAT,SILCAT_FLAG_W,NO2+NO3,NO2+NO3_FLAG_W,PHSPHT,PHSPHT_FLAG_W,THETA
,,,,,,,,,,,,DBAR,ITS-90,PSS-78,,PSS-78,,UMOL/KG,,UMOL/KG,,UMOL/KG,,UMOL/KG,,UMOL/KG,,DEG C
  492SSY9310_2,  P02E,   101,  1,      1,     23,2,19931111,0420, 30.0000,-160.0883, 5756,     48.2,  22.3395,  35.3265,2,  35.3234,2,   -999.0,9,    221.0,2,     1.95,3,  -999.00,9,     0.00,3, 22.3299
  492SSY9310_2,  P02E,   101,  1,      2,     22,2,19931111,0420, 30.0000,-160.0883, 5756,    101.5,  17.1200,  34.8156,2,  34.8253,2,   -999.0,9,    227.0,2,     3.90,3,     0.18,3,     0.08,3, 17.1032
  492SSY9310_2,  P02E,   101,  1,      3,     21,2,19931111,0420, 30.0000,-160.0883, 5756,    200.6,  13.6556,  34.4458,2,  34.4628,2,   -999.0,9,    212.2,2,     8.77,3,     7.31,3,     0.55,3, 13.6273
  492SSY9310_2,  P02E,   101,  1,      4,     20,2,19931111,0420, 30.0000,-160.0883, 5756,    299.5,  11.2403,  34.2351,2,  34.2411,2,   -999.0,9,    211.3,2,    15.59,3,    12.31,3,     0.94,3, 11.2031
  492SSY9310_2,  P02E,   101,  1,      5,     19,2,19931111,0420, 30.0000,-160.0883, 5756,    401.4,   9.3840,  34.1214,2,  34.1291,2,   -999.0,9,    200.3,2,    24.35,3,    17.25,3,     1.18,3,  9.3394
  492SSY9310_2,  P02E,   101,  1,      6,     18,2,19931111,0420, 30.0000,-160.0883, 5756,    500.1,   7.6242,  34.0352,2,  34.0325,2,   -999.0,9,    171.6,2,    38.96,3,    23.89,3,     1.65,3,  7.5748
  492SSY9310_2,  P02E,   101,  1,      7,     17,2,19931111,0420, 30.0000,-160.0883, 5756,    599.4,   6.0179,  33.9966,2,  33.9988,2,   -999.0,9,    122.3,2,    62.33,3,    31.56,3,     2.21,3,  5.9656
  492SSY9310_2,  P02E,   101,  1,      8,     16,2,19931111,0420, 30.0000,-160.0883, 5756,    699.9,   4.7917,  34.0560,2,  34.0652,2,   -999.0,9,     71.8,2,    80.82,3,    37.00,3,     2.66,3,  4.7367
  492SSY9310_2,  P02E,   101,  1,      9,     15,2,19931111,0420, 30.0000,-160.0883, 5756,    800.1,   4.2886,  34.1397,2,  34.1401,2,   -999.0,9,     35.7,2,    97.38,3,    40.54,3,     2.96,3,  4.2280
  492SSY9310_2,  P02E,   101,  1,     10,     14,2,19931111,0420, 30.0000,-160.0883, 5756,    900.9,   3.9248,  34.2519,2,  34.2519,2,   -999.0,9,     20.5,2,   111.97,3,    42.20,3,     3.15,3,  3.8582
  492SSY9310_2,  P02E,   101,  1,     11,     13,2,19931111,0420, 30.0000,-160.0883, 5756,    999.9,   3.6769,  34.3505,2,  34.3476,2,   -999.0,9,     17.0,2,   121.70,3,    42.71,3,     3.26,6,  3.6040
  492SSY9310_2,  P02E,   101,  1,     12,     12,2,19931111,0420, 30.0000,-160.0883, 5756,   1248.5,   3.0409,  34.4886,2,  34.4877,2,   -999.0,9,     33.9,2,   137.25,3,    42.34,3,     3.04,3,  2.9533
  492SSY9310_2,  P02E,   101,  1,     13,     11,2,19931111,0420, 30.0000,-160.0883, 5756,   1500.3,   2.5773,  34.5507,2,  34.5529,2,   -999.0,9,     55.2,2,   146.00,3,    41.36,3,     2.96,3,  2.4743
  492SSY9310_2,  P02E,   101,  1,     14,     10,2,19931111,0420, 30.0000,-160.0883, 5756,   1749.9,   2.2458,  34.5853,2,  34.5867,2,   -999.0,9,     73.9,2,   152.82,3,    40.47,3,     2.90,3,  2.1266
  492SSY9310_2,  P02E,   101,  1,     15,      9,2,19931111,0420, 30.0000,-160.0883, 5756,   1999.0,   1.9782,  34.6119,2,  34.6111,2,   -999.0,9,     87.0,2,   156.71,3,    39.53,3,     2.76,3,  1.8422
  492SSY9310_2,  P02E,   101,  1,     16,      8,2,19931111,0420, 30.0000,-160.0883, 5756,   2251.0,   1.7996,  34.6306,2,  34.6288,2,   -999.0,9,     98.3,2,   159.62,3,    38.55,3,     2.74,3,  1.6449
  492SSY9310_2,  P02E,   101,  1,     17,      7,2,19931111,0420, 30.0000,-160.0883, 5756,   2498.4,   1.6801,  34.6440,2,  34.6429,2,   -999.0,9,    110.0,2,   159.62,3,    38.56,3,     2.67,3,  1.5059
  492SSY9310_2,  P02E,   101,  1,     18,      6,2,19931111,0420, 30.0000,-160.0883, 5756,   2999.1,   1.5338,  34.6632,2,  34.6643,2,   -999.0,9,    127.0,2,   160.60,3,    37.64,3,     2.58,3,  1.3164
  492SSY9310_2,  P02E,   101,  1,     19,      5,2,19931111,0420, 30.0000,-160.0883, 5756,   3499.5,   1.4795,  34.6747,2,  34.6728,2,   -999.0,9,    139.1,2,   157.68,3,    37.06,3,     2.52,3,  1.2141
  492SSY9310_2,  P02E,   101,  1,     20,      4,2,19931111,0420, 30.0000,-160.0883, 5756,   4000.8,   1.4679,  34.6814,2,  34.6802,2,   -999.0,9,    150.0,2,   154.77,3,    35.31,3,     2.47,6,  1.1500
  492SSY9310_2,  P02E,   101,  1,     21,      3,2,19931111,0420, 30.0000,-160.0883, 5756,   4501.7,   1.4856,  34.6841,2,  34.6806,2,   -999.0,9,    154.8,2,   153.80,3,    34.88,3,     2.45,3,  1.1112
  492SSY9310_2,  P02E,   101,  1,     22,      2,2,19931111,0420, 30.0000,-160.0883, 5756,   5001.8,   1.5192,  34.6870,2,  34.6873,2,   -999.0,9,    159.6,2,   149.92,3,    34.75,3,     2.40,3,  1.0844
  492SSY9310_2,  P02E,   101,  1,     23,      1,2,19931111,0420, 30.0000,-160.0883, 5756,   5498.8,   1.5727,  34.6884,2,  34.6873,2,   -999.0,9,    163.1,2,   149.92,3,    34.89,3,     2.40,3,  1.0740
  492SSY9310_2,  P02E,   102,  1,      1,     23,2,19931111,1222, 30.0033,-159.1733, 5735,     46.9,  22.5023,  35.3522,2,  35.3498,2,   -999.0,9,    217.6,2,     0.97,3,     0.00,3,     0.04,3, 22.4929
  492SSY9310_2,  P02E,   102,  1,      2,     22,2,19931111,1222, 30.0033,-159.1733, 5735,     98.6,  16.9617,  34.7649,2,  34.7528,2,   -999.0,9,    237.5,2,     2.92,3,     0.08,3,     0.12,3, 16.9456
  492SSY9310_2,  P02E,   102,  1,      3,     21,2,19931111,1222, 30.0033,-159.1733, 5735,    200.4,  13.4896,  34.4283,2,  34.4300,2,   -999.0,9,    210.8,2,     6.82,3,     8.13,3,     0.65,3, 13.4615
  492SSY9310_2,  P02E,   102,  1,      4,     20,2,19931111,1222, 30.0033,-159.1733, 5735,    299.7,  11.2843,  34.2556,2,  34.2574,2,   -999.0,9,    210.4,2,    12.66,3,    12.94,3,     1.04,3, 11.2470
  492SSY9310_2,  P02E,   102,  1,      5,     19,2,19931111,1222, 30.0033,-159.1733, 5735,    399.9,   9.0417,  34.1005,2,  34.1052,2,   -999.0,9,    186.8,2,    23.38,3,    19.58,3,     1.40,3,  8.9983
  492SSY9310_2,  P02E,   102,  1,      6,     18,2,19931111,1222, 30.0033,-159.1733, 5735,    501.8,   7.1478,  34.0310,2,  34.0262,2,   -999.0,9,    153.3,2,    40.91,3,    26.90,3,     1.92,3,  7.1001
  492SSY9310_2,  P02E,   102,  1,      7,     17,2,19931111,1222, 30.0033,-159.1733, 5735,    601.1,   5.8662,  34.0379,2,  34.0396,2,   -999.0,9,    103.6,2,    62.33,3,    33.65,3,     2.42,3,  5.8144
  492SSY9310_2,  P02E,   102,  1,      8,     16,2,19931111,1222, 30.0033,-159.1733, 5735,    700.0,   4.9411,  34.0851,2,  34.0854,2,   -999.0,9,     66.2,2,    78.87,3,    38.03,3,     2.77,3,  4.8852
  492SSY9310_2,  P02E,   102,  1,      9,     15,2,19931111,1222, 30.0033,-159.1733, 5735,    801.2,   4.2138,  34.1609,2,  34.1577,2,   -999.0,9,     34.8,2,    96.40,3,    41.47,3,     3.00,3,  4.1535
  492SSY9310_2,  P02E,   102,  1,     10,     14,2,19931111,1222, 30.0033,-159.1733, 5735,    901.9,   3.8460,  34.2701,2,  34.2636,2,   -999.0,9,     22.2,2,   111.97,3,    42.78,3,     3.17,3,  3.7799
  492SSY9310_2,  P02E,   102,  1,     11,     13,2,19931111,1222, 30.0033,-159.1733, 5735,   1000.7,   3.5849,  34.3661,2,  34.3631,2,   -999.0,9,     24.4,2,   120.72,3,    43.08,3,     3.17,6,  3.5127
  492SSY9310_2,  P02E,   102,  1,     12,     12,2,19931111,1222, 30.0033,-159.1733, 5735,   1249.3,   3.0794,  34.4893,2,  34.4844,2,   -999.0,9,     39.6,3,   134.33,3,    42.21,3,     3.13,3,  2.9914
  492SSY9310_2,  P02E,   102,  1,     13,     11,2,19931111,1222, 30.0033,-159.1733, 5735,   1498.5,   2.5886,  34.5539,2,  34.5506,2,   -999.0,9,     58.7,3,   147.95,3,    41.97,3,     3.08,3,  2.4856
  492SSY9310_2,  P02E,   102,  1,     14,     10,2,19931111,1222, 30.0033,-159.1733, 5735,   1750.6,   2.2239,  34.5901,2,  34.5844,2,   -999.0,9,     72.6,2,   148.93,4,    41.41,3,     3.36,3,  2.1049
  492SSY9310_2,  P02E,   102,  1,     15,      9,2,19931111,1222, 30.0033,-159.1733, 5735,   2001.7,   1.9798,  34.6153,2,  34.6103,2,   -999.0,9,     86.5,2,   151.84,3,    40.47,3,     2.86,3,  1.8435
  492SSY9310_2,  P02E,   102,  1,     16,      8,2,19931111,1222, 30.0033,-159.1733, 5735,   2248.7,   1.8207,  34.6312,2,  34.6197,4,   -999.0,9,     96.1,2,   153.78,3,    39.29,3,     2.82,3,  1.6659
  492SSY9310_2,  P02E,   102,  1,     17,      7,2,19931111,1222, 30.0033,-159.1733, 5735,   2498.1,   1.7006,  34.6444,2,  34.6398,2,   -999.0,9,    107.8,2,   152.80,3,    38.91,3,     2.79,3,  1.5260
  492SSY9310_2,  P02E,   102,  1,     18,      6,2,19931111,1222, 30.0033,-159.1733, 5735,   2998.3,   1.5557,  34.6633,2,  34.6586,2,   -999.0,9,    123.1,2,   155.73,3,    38.47,3,     2.76,3,  1.3379
  492SSY9310_2,  P02E,   102,  1,     19,      5,2,19931111,1222, 30.0033,-159.1733, 5735,   3499.5,   1.4951,  34.6739,2,  34.6716,2,   -999.0,9,    137.8,2,   151.84,3,    37.56,3,     2.61,3,  1.2293
  492SSY9310_2,  P02E,   102,  1,     20,      4,2,19931111,1222, 30.0033,-159.1733, 5735,   3999.0,   1.4760,  34.6820,2,  34.6794,2,   -999.0,9,    148.3,2,   150.88,3,    36.80,3,     2.55,6,  1.1581
  492SSY9310_2,  P02E,   102,  1,     21,      3,2,19931111,1222, 30.0033,-159.1733, 5735,   4497.2,   1.4890,  34.6855,3,  34.5946,3,   -999.0,9,    124.4,3,  -999.00,9,    35.74,3,  -999.00,9,  1.1150
  492SSY9310_2,  P02E,   102,  1,     22,      2,2,19931111,1222, 30.0033,-159.1733, 5735,   4998.0,   1.5210,  34.6882,2,  34.6865,2,   -999.0,9,    159.6,2,   144.08,3,    35.31,3,     2.47,3,  1.0866
  492SSY9310_2,  P02E,   102,  1,     23,      1,2,19931111,1222, 30.0033,-159.1733, 5735,   5500.4,   1.5735,  34.6900,2,  34.6873,2,   -999.0,9,    161.3,2,   144.08,3,    35.31,3,     2.46,3,  1.0745
  492SSY9310_2,  P02E,   103,  1,      1,     23,2,19931111,2005, 30.0017,-158.2500, 5787,     49.6,  21.0274,  35.1592,2,  35.1571,2,   -999.0,9,    225.3,2,     2.92,3,     0.00,3,     0.02,3, 21.0178
  492SSY9310_2,  P02E,   103,  1,      2,     22,2,19931111,2005, 30.0017,-158.2500, 5787,     98.6,  17.7808,  34.8446,2,  34.8328,2,   -999.0,9,    238.8,2,     3.90,3,     0.01,3,     0.08,3, 17.7641
  492SSY9310_2,  P02E,   103,  1,      3,     21,2,19931111,2005, 30.0017,-158.2500, 5787,    201.2,  14.6026,  34.5317,2,  34.5317,2,   -999.0,9,    227.0,2,     5.84,3,     4.49,3,     0.36,3, 14.5728
  492SSY9310_2,  P02E,   103,  1,      4,     20,2,19931111,2005, 30.0017,-158.2500, 5787,    302.6,  12.0057,  34.3021,2,  34.3058,2,   -999.0,9,    213.9,2,    11.69,3,    10.75,3,     0.78,3, 11.9664
  492SSY9310_2,  P02E,   103,  1,      5,     19,2,19931111,2005, 30.0017,-158.2500, 5787,    399.6,   9.8670,  34.1555,2,  34.1577,2,   -999.0,9,    203.4,2,    19.48,3,    16.15,3,     1.15,3,  9.8212
  492SSY9310_2,  P02E,   103,  1,      6,     18,2,19931111,2005, 30.0017,-158.2500, 5787,    500.4,   7.9252,  34.0409,2,  34.0452,2,   -999.0,9,    180.3,2,    32.14,3,    22.44,3,     1.58,3,  7.8747
  492SSY9310_2,  P02E,   103,  1,      7,     17,2,19931111,2005, 30.0017,-158.2500, 5787,    601.9,   6.2553,  33.9952,2,  33.9967,2,   -999.0,9,    128.0,2,    53.56,3,    30.31,3,     2.18,3,  6.2017
  492SSY9310_2,  P02E,   103,  1,      8,     16,2,19931111,2005, 30.0017,-158.2500, 5787,    701.5,   5.0347,  34.0519,2,  34.0523,2,   -999.0,9,     80.5,2,    76.93,3,    36.59,3,     2.64,3,  4.9782
  492SSY9310_2,  P02E,   103,  1,      9,     15,2,19931111,2005, 30.0017,-158.2500, 5787,    801.0,   4.3476,  34.1286,2,  34.1287,2,   -999.0,9,     44.0,2,    96.41,3,    39.94,3,     2.93,3,  4.2865
  492SSY9310_2,  P02E,   103,  1,     10,     14,2,19931111,2005, 30.0017,-158.2500, 5787,    901.2,   3.9325,  34.2425,2,  34.2458,2,   -999.0,9,     28.3,2,   111.97,3,    41.71,3,     3.13,3,  3.8658
  492SSY9310_2,  P02E,   103,  1,     11,     13,2,19931111,2005, 30.0017,-158.2500, 5787,   1001.4,   3.6707,  34.3350,2,  34.3331,2,   -999.0,9,     20.9,2,   122.67,3,    42.47,3,     3.14,6,  3.5978
  492SSY9310_2,  P02E,   103,  1,     12,     12,2,19931111,2005, 30.0017,-158.2500, 5787,   1251.3,   3.1277,  34.4772,2,  34.4781,2,   -999.0,9,     35.2,2,   151.86,3,    42.03,3,     3.08,3,  3.0392
  492SSY9310_2,  P02E,   103,  1,     13,     11,2,19931111,2005, 30.0017,-158.2500, 5787,   1499.0,   2.7145,  34.5393,2,  34.5408,2,   -999.0,9,     56.5,2,   140.16,3,    41.26,3,     2.98,3,  2.6101
  492SSY9310_2,  P02E,   103,  1,     14,     10,2,19931111,2005, 30.0017,-158.2500, 5787,   1749.9,   2.3152,  34.5807,2,  34.5808,2,   -999.0,9,     71.3,2,   147.95,3,    40.59,3,     2.90,3,  2.1952
  492SSY9310_2,  P02E,   103,  1,     15,      9,2,19931111,2005, 30.0017,-158.2500, 5787,   2002.2,   2.0493,  34.6055,2,  34.6032,2,   -999.0,9,     83.1,2,   153.79,3,    40.17,3,     2.85,3,  1.9120
  492SSY9310_2,  P02E,   103,  1,     16,      8,2,19931111,2005, 30.0017,-158.2500, 5787,   2253.2,   1.8478,  34.6272,2,  34.6256,2,   -999.0,9,     95.7,2,   156.70,3,    39.32,3,     2.78,3,  1.6921
  492SSY9310_2,  P02E,   103,  1,     17,      7,2,19931111,2005, 30.0017,-158.2500, 5787,   2495.3,   1.7297,  34.6397,3,  34.6268,3,   -999.0,9,    104.8,3,  -999.00,9,    38.41,3,  -999.00,9,  1.5549
  492SSY9310_2,  P02E,   103,  1,     18,      6,2,19931111,2005, 30.0017,-158.2500, 5787,   3003.0,   1.5701,  34.6602,2,  34.6625,2,   -999.0,9,    122.2,2,   158.65,3,    37.94,3,     2.68,3,  1.3516
  492SSY9310_2,  P02E,   103,  1,     19,      5,2,19931111,2005, 30.0017,-158.2500, 5787,   3499.7,   1.5022,  34.6720,2,  34.6724,2,   -999.0,9,    137.0,2,   154.76,3,    37.41,3,     2.53,3,  1.2362
  492SSY9310_2,  P02E,   103,  1,     20,      4,2,19931111,2005, 30.0017,-158.2500, 5787,   3997.4,   1.4777,  34.6797,2,  34.6726,4,   -999.0,9,    141.8,4,   145.04,3,    35.20,3,     2.49,3,  1.1599
  492SSY9310_2,  P02E,   103,  1,     21,      3,2,19931111,2005, 30.0017,-158.2500, 5787,   4497.6,   1.4911,  34.6837,2,  34.6771,4,   -999.0,9,    151.3,2,   148.93,3,    35.48,3,     2.49,6,  1.1170
  492SSY9310_2,  P02E,   103,  1,     22,      2,2,19931111,2005, 30.0017,-158.2500, 5787,   4999.9,   1.5196,  34.6869,2,  34.6863,2,   -999.0,9,    160.9,2,   144.08,3,    34.91,3,     2.42,3,  1.0850
  492SSY9310_2,  P02E,   103,  1,     23,      1,2,19931111,2005, 30.0017,-158.2500, 5787,   5500.2,   1.5713,  34.6880,2,  34.6871,2,   -999.0,9,    161.8,2,   142.13,3,    34.92,3,     2.43,3,  1.0725
  492SSY9310_2,  P02E,   104,  1,      1,     23,2,19931112,0313, 29.9983,-157.3350, 5829,     49.9,  20.8876,  35.1015,2,  35.0929,2,   -999.0,9,    225.8,2,     0.97,3,     0.00,3,     0.04,3, 20.8781
  492SSY9310_2,  P02E,   104,  1,      2,     22,2,19931112,0313, 29.9983,-157.3350, 5829,     98.9,  15.9575,  34.6631,2,  34.6716,2,   -999.0,9,    230.5,2,     1.95,3,     0.79,3,     0.19,3, 15.9419
  492SSY9310_2,  P02E,   104,  1,      3,     21,2,19931112,0313, 29.9983,-157.3350, 5829,    199.3,  13.2252,  34.4128,2,  34.4182,2,   -999.0,9,    223.0,2,     5.84,3,     7.39,3,     0.58,3, 13.1977
  492SSY9310_2,  P02E,   104,  1,      4,     20,2,19931112,0313, 29.9983,-157.3350, 5829,    299.6,  11.3573,  34.2681,2,  34.2585,2,   -999.0,9,    226.9,2,    10.72,3,    10.52,3,     0.84,3, 11.3198
  492SSY9310_2,  P02E,   104,  1,      5,     19,2,19931112,0313, 29.9983,-157.3350, 5829,    401.2,   9.2354,  34.1178,2,  34.1254,2,   -999.0,9,    202.5,2,    20.46,3,    17.50,3,     1.32,3,  9.1912
  492SSY9310_2,  P02E,   104,  1,      6,     18,2,19931112,0313, 29.9983,-157.3350, 5829,    500.2,   7.1696,  34.0145,2,  34.0264,2,   -999.0,9,    165.5,2,    38.96,3,    24.87,3,     1.78,3,  7.1219
  492SSY9310_2,  P02E,   104,  1,      7,     17,2,19931112,0313, 29.9983,-157.3350, 5829,    601.2,   5.5989,  33.9977,2,  34.0010,2,   -999.0,9,    112.3,2,    67.20,3,    33.25,3,     2.37,3,  5.5483
  492SSY9310_2,  P02E,   104,  1,      8,     16,2,19931112,0313, 29.9983,-157.3350, 5829,    700.0,   4.6890,  34.0589,2,  34.0570,2,   -999.0,9,     67.5,2,    82.77,3,    38.21,3,     2.77,3,  4.6344
  492SSY9310_2,  P02E,   104,  1,      9,     15,2,19931112,0313, 29.9983,-157.3350, 5829,    799.5,   4.1239,  34.1738,2,  34.1746,2,   -999.0,9,     27.0,2,   101.27,3,    42.08,3,     3.06,3,  4.0643
  492SSY9310_2,  P02E,   104,  1,     10,     14,2,19931112,0313, 29.9983,-157.3350, 5829,    900.8,   3.8569,  34.2783,2,  34.2809,2,   -999.0,9,     15.7,2,   111.97,3,    42.81,3,     3.17,3,  3.7908
  492SSY9310_2,  P02E,   104,  1,     11,     13,2,19931112,0313, 29.9983,-157.3350, 5829,    997.5,   3.6014,  34.3561,2,  34.3596,2,   -999.0,9,     17.4,2,   121.70,3,    43.02,3,     3.20,6,  3.5293
  492SSY9310_2,  P02E,   104,  1,     12,     12,2,19931112,0313, 29.9983,-157.3350, 5829,   1251.1,   3.0685,  34.4899,2,  34.4901,2,   -999.0,9,     40.0,3,   133.36,3,    42.15,3,     3.11,3,  2.9804
  492SSY9310_2,  P02E,   104,  1,     13,     11,2,19931112,0313, 29.9983,-157.3350, 5829,   1498.5,   2.6434,  34.5497,2,  34.5502,2,   -999.0,9,     59.6,2,   142.11,3,    41.51,3,     3.07,3,  2.5398
  492SSY9310_2,  P02E,   104,  1,     14,     10,2,19931112,0313, 29.9983,-157.3350, 5829,   1748.5,   2.2773,  34.5856,2,  34.5867,2,   -999.0,9,     73.5,2,   152.82,3,    40.84,3,     2.96,3,  2.1578
  492SSY9310_2,  P02E,   104,  1,     15,      9,2,19931112,0313, 29.9983,-157.3350, 5829,   2000.1,   2.0260,  34.6099,2,  34.6115,2,   -999.0,9,     84.4,2,   163.52,3,    40.17,3,     2.84,3,  1.8892
  492SSY9310_2,  P02E,   104,  1,     16,      8,2,19931112,0313, 29.9983,-157.3350, 5829,   2249.4,   1.8593,  34.6264,2,  34.6274,2,   -999.0,9,     93.9,2,   159.62,3,    39.26,3,     2.79,3,  1.7038
  492SSY9310_2,  P02E,   104,  1,     17,      7,2,19931112,0313, 29.9983,-157.3350, 5829,   2499.9,   1.7192,  34.6418,2,  34.6403,2,   -999.0,9,    104.8,2,   158.64,3,    39.03,3,     2.73,3,  1.5441
  492SSY9310_2,  P02E,   104,  1,     18,      6,2,19931112,0313, 29.9983,-157.3350, 5829,   2999.5,   1.5669,  34.6608,2,  34.6610,2,   -999.0,9,    122.6,2,   158.65,3,    38.23,3,     2.65,3,  1.3488
  492SSY9310_2,  P02E,   104,  1,     19,      5,2,19931112,0313, 29.9983,-157.3350, 5829,   3502.0,   1.5001,  34.6728,2,  34.6724,2,   -999.0,9,    136.1,2,   154.76,3,    37.41,3,     2.59,3,  1.2339
  492SSY9310_2,  P02E,   104,  1,     20,      4,2,19931112,0313, 29.9983,-157.3350, 5829,   3998.6,   1.4752,  34.6808,2,  34.6814,2,   -999.0,9,    147.8,2,   152.83,3,    35.58,3,     2.53,6,  1.1574
  492SSY9310_2,  P02E,   104,  1,     21,      3,2,19931112,0313, 29.9983,-157.3350, 5829,   4500.4,   1.4880,  34.6847,2,  34.6850,2,   -999.0,9,    154.8,2,   149.90,3,    34.94,3,     2.49,3,  1.1136
  492SSY9310_2,  P02E,   104,  1,     22,      2,2,19931112,0313, 29.9983,-157.3350, 5829,   4999.8,   1.5198,  34.6875,2,  34.6867,2,   -999.0,9,    159.6,2,   146.02,3,    35.06,3,     2.46,3,  1.0852
  492SSY9310_2,  P02E,   104,  1,     23,      1,2,19931112,0313, 29.9983,-157.3350, 5829,   5498.9,   1.5721,  34.6888,2,  34.6897,2,   -999.0,9,    162.2,2,   145.05,3,    35.06,3,     2.45,3,  1.0734