BOTTLE,20040202WHPSIOSA
EXPOCODE,SECT_ID,STNNBR,CASTNO,SAMPNO,BTLNBR,BTLNBR_FLAG_W,DATE,TIME,LATITUDE,LONGITUDE,DEPTH,CTDPRS,CTDTMP,CTDSAL,CTDSAL_FLAG_W,SALNTY,SALNTY_FLAG_W,CTDOXY,CTDOXY_FLAG_W,OXYGEN,OXYGEN_FLAG_W,SILCAT,SILCAT_FLAG_W,NO2+NO3,NO2+NO3_FLAG_W,PHSPHT,PHSPHT_FLAG_W,THETA
,,,,,,,,,,,,DBAR,ITS-90,PSS-78,,PSS-78,,UMOL/KG,,UMOL/KG,,UMOL/KG,,UMOL/KG,,UMOL/KG,,DEG C
  492SSY9310_2,  P02E,   129,  1,      1,     23,2,19931118,1734, 30.0000,-140.0817, 4214,     49.4,  20.1964,  35.0404,2,  35.0402,2,   -999.0,9,    226.2,2,     0.97,3,     0.00,3,     0.02,3, 20.1872
  492SSY9310_2,  P02E,   129,  1,      2,     22,2,19931118,1734, 30.0000,-140.0817, 4214,    101.4,  18.3793,  34.7337,2,  34.7353,2,   -999.0,9,    234.5,2,     2.92,3,     0.00,3,     0.06,3, 18.3617
  492SSY9310_2,  P02E,   129,  1,      3,     21,2,19931118,1734, 30.0000,-140.0817, 4214,    200.2,  14.2704,  34.3272,2,  34.3248,2,   -999.0,9,    213.1,2,     4.87,3,     4.76,3,     0.44,3, 14.2413
  492SSY9310_2,  P02E,   129,  1,      4,     20,2,19931118,1734, 30.0000,-140.0817, 4214,    300.3,   9.9879,  34.0445,2,  34.0380,2,   -999.0,9,    215.1,2,    14.61,3,    14.87,3,     1.06,3,  9.9534
  492SSY9310_2,  P02E,   129,  1,      5,     19,2,19931118,1734, 30.0000,-140.0817, 4214,    398.1,   8.1071,  34.0030,2,  34.0017,2,   -999.0,9,    184.2,2,    27.27,3,    22.06,3,     1.50,3,  8.0666
  492SSY9310_2,  P02E,   129,  1,      6,     18,2,19931118,1734, 30.0000,-140.0817, 4214,    499.7,   6.3211,  33.9866,2,  33.9892,2,   -999.0,9,    126.7,2,    49.67,3,    31.71,3,     2.16,3,  6.2767
  492SSY9310_2,  P02E,   129,  1,      7,     17,2,19931118,1734, 30.0000,-140.0817, 4214,    599.2,   5.1910,  34.0473,2,  34.0484,2,   -999.0,9,     65.3,2,    73.03,3,    39.06,3,     2.76,3,  5.1424
  492SSY9310_2,  P02E,   129,  1,      8,     16,2,19931118,1734, 30.0000,-140.0817, 4214,    695.5,   4.6959,  34.1423,2,  34.1405,2,   -999.0,9,     33.5,2,    88.60,3,    41.23,3,     3.02,3,  4.6416
  492SSY9310_2,  P02E,   129,  1,      9,     15,2,19931118,1734, 30.0000,-140.0817, 4214,    797.2,   4.2846,  34.2530,2,  34.2523,2,   -999.0,9,     17.8,2,   101.27,3,    42.85,3,     3.15,3,  4.2241
  492SSY9310_2,  P02E,   129,  1,     10,     14,2,19931118,1734, 30.0000,-140.0817, 4214,    899.7,   3.9939,  34.3472,2,  34.3494,2,   -999.0,9,     19.1,2,   109.05,3,    42.97,3,     3.15,3,  3.9269
  492SSY9310_2,  P02E,   129,  1,     11,     13,2,19931118,1734, 30.0000,-140.0817, 4214,   1000.8,   3.7073,  34.4128,2,  34.4135,2,   -999.0,9,     21.8,2,   116.83,3,    43.27,3,     3.18,6,  3.6340
  492SSY9310_2,  P02E,   129,  1,     12,     12,2,19931118,1734, 30.0000,-140.0817, 4214,   1249.2,   3.1518,  34.5055,2,  34.5046,2,   -999.0,9,     40.5,2,   128.49,3,    43.10,3,     3.11,3,  3.0631
  492SSY9310_2,  P02E,   129,  1,     13,     11,2,19931118,1734, 30.0000,-140.0817, 4214,   1500.2,   2.7091,  34.5538,2,  34.5535,2,   -999.0,9,     57.0,2,   138.22,3,    42.37,3,     3.04,3,  2.6047
  492SSY9310_2,  P02E,   129,  1,     14,     10,2,19931118,1734, 30.0000,-140.0817, 4214,   1748.5,   2.3601,  34.5882,2,  34.5877,2,   -999.0,9,     69.1,2,   147.95,3,    41.68,3,     2.96,3,  2.2396
  492SSY9310_2,  P02E,   129,  1,     15,      9,2,19931118,1734, 30.0000,-140.0817, 4214,   1998.7,   2.0568,  34.6142,2,  34.6136,2,   -999.0,9,     80.0,2,   156.71,3,    41.46,3,     2.90,3,  1.9196
  492SSY9310_2,  P02E,   129,  1,     16,      8,2,19931118,1734, 30.0000,-140.0817, 4214,   2247.5,   1.8627,  34.6322,2,  34.6307,2,   -999.0,9,     91.3,2,   161.57,3,    40.26,3,     2.82,3,  1.7073
  492SSY9310_2,  P02E,   129,  1,     17,      7,2,19931118,1734, 30.0000,-140.0817, 4214,   2247.5,   1.8627,  34.6322,2,  34.6272,3,   -999.0,9,     90.9,2,   153.78,3,    40.41,4,     2.80,3,  1.7073
  492SSY9310_2,  P02E,   129,  1,     19,      5,2,19931118,1734, 30.0000,-140.0817, 4214,   2999.9,   1.5681,  34.6629,2,  34.6624,2,   -999.0,9,    121.3,2,   158.65,3,    39.29,3,     2.69,3,  1.3499
  492SSY9310_2,  P02E,   129,  1,     18,      6,2,19931118,1734, 30.0000,-140.0817, 4214,   3000.6,   1.5681,  34.6615,2,  34.6618,2,   -999.0,9,    121.3,2,   159.63,3,    39.29,3,     2.69,4,  1.3498
  492SSY9310_2,  P02E,   129,  1,     21,      3,2,19931118,1734, 30.0000,-140.0817, 4214,   3501.4,   1.4959,  34.6745,3,  34.6272,3,   -999.0,9,    107.8,4,  -999.00,9,    34.65,3,  -999.00,9,  1.2299
  492SSY9310_2,  P02E,   129,  1,     20,      4,2,19931118,1734, 30.0000,-140.0817, 4214,   3503.0,   1.4956,  34.6736,2,  34.6734,2,   -999.0,9,    135.7,2,   155.73,3,    36.83,3,     2.60,6,  1.2294
  492SSY9310_2,  P02E,   129,  1,     23,      1,2,19931118,1734, 30.0000,-140.0817, 4214,   3999.3,   1.4897,  34.6812,2,  34.6806,2,   -999.0,9,    143.9,2,   153.80,3,    36.66,3,     2.55,3,  1.1714
  492SSY9310_2,  P02E,   129,  1,     22,      2,2,19931118,1734, 30.0000,-140.0817, 4214,   4004.4,   1.4888,  34.6803,2,  34.6808,2,   -999.0,9,    143.5,2,   153.80,3,    36.57,3,     2.54,3,  1.1700
  492SSY9310_2,  P02E,   130,  1,      1,     23,2,19931118,2241, 29.9967,-139.4950, 4623,     51.6,  20.2339,  35.0689,2,  35.0610,2,   -999.0,9,    226.2,2,     0.00,3,     0.00,3,     0.08,3, 20.2243
  492SSY9310_2,  P02E,   130,  1,      2,     22,2,19931118,2241, 29.9967,-139.4950, 4623,    101.3,  17.8913,  34.7134,2,  34.7239,2,   -999.0,9,    229.3,2,     0.97,3,     0.06,3,     0.07,3, 17.8741
  492SSY9310_2,  P02E,   130,  1,      3,     21,2,19931118,2241, 29.9967,-139.4950, 4623,    199.8,  12.6533,  34.1196,2,  34.1291,2,   -999.0,9,    214.3,2,     4.87,3,     6.71,3,     0.58,3, 12.6266
  492SSY9310_2,  P02E,   130,  1,      4,     20,2,19931118,2241, 29.9967,-139.4950, 4623,    299.1,   9.4312,  34.0190,2,  34.0166,2,   -999.0,9,    212.5,2,    15.59,3,    16.37,3,     1.19,3,  9.3981
  492SSY9310_2,  P02E,   130,  1,      5,     19,2,19931118,2241, 29.9967,-139.4950, 4623,    400.3,   7.7616,  34.0044,2,  34.0017,2,   -999.0,9,    169.4,2,    31.17,3,    24.45,3,     1.72,3,  7.7220
  492SSY9310_2,  P02E,   130,  1,      6,     18,2,19931118,2241, 29.9967,-139.4950, 4623,    501.8,   6.1455,  34.0017,2,  34.0021,2,   -999.0,9,    106.7,2,    54.54,3,    34.12,3,     2.49,3,  6.1016
  492SSY9310_2,  P02E,   130,  1,      8,     16,2,19931118,2241, 29.9967,-139.4950, 4623,    700.3,   4.6639,  34.1753,2,  34.1734,2,   -999.0,9,     29.2,2,    90.55,3,    41.91,3,     3.04,3,  4.6093
  492SSY9310_2,  P02E,   130,  1,      9,     15,2,19931118,2241, 29.9967,-139.4950, 4623,    800.1,   4.3411,  34.2747,2,  34.2770,2,   -999.0,9,     21.3,2,    99.32,3,    42.38,3,     3.03,3,  4.2800
  492SSY9310_2,  P02E,   130,  1,     10,     14,2,19931118,2241, 29.9967,-139.4950, 4623,    901.0,   4.0663,  34.3628,2,  34.3590,2,   -999.0,9,     18.3,2,   110.99,3,    43.60,3,     3.17,3,  3.9986
  492SSY9310_2,  P02E,   130,  1,     11,     13,2,19931118,2241, 29.9967,-139.4950, 4623,   1000.6,   3.6686,  34.4395,2,  34.4143,4,   -999.0,9,     21.8,2,   119.75,3,    43.84,3,     3.09,3,  3.5956
  492SSY9310_2,  P02E,   130,  1,     12,     12,2,19931118,2241, 29.9967,-139.4950, 4623,   1251.8,   3.1555,  34.5089,2,  34.5074,2,   -999.0,9,     40.0,2,   128.49,3,    43.10,3,     3.02,3,  3.0666
  492SSY9310_2,  P02E,   130,  1,     13,     11,2,19931118,2241, 29.9967,-139.4950, 4623,   1499.8,   2.6812,  34.5604,2,  34.5600,2,   -999.0,9,     57.0,2,   139.19,3,    42.85,3,     2.97,3,  2.5770
  492SSY9310_2,  P02E,   130,  1,     14,     10,2,19931118,2241, 29.9967,-139.4950, 4623,   1752.9,   2.3318,  34.5929,2,  34.5902,2,   -999.0,9,     68.3,2,   147.95,3,    42.37,3,     2.91,3,  2.2113
  492SSY9310_2,  P02E,   130,  1,     15,      9,2,19931118,2241, 29.9967,-139.4950, 4623,   1999.8,   2.1343,  34.5438,4,  34.6103,3,   -999.0,9,     78.7,3,  -999.00,9,    41.31,3,  -999.00,9,  1.9961
  492SSY9310_2,  P02E,   130,  1,     16,      8,2,19931118,2241, 29.9967,-139.4950, 4623,   2248.2,   1.9034,  34.6299,3,  34.6032,3,   -999.0,9,     80.4,4,  -999.00,9,    36.79,3,  -999.00,9,  1.7473
  492SSY9310_2,  P02E,   130,  1,     17,      7,2,19931118,2241, 29.9967,-139.4950, 4623,   2500.3,   1.7431,  34.6439,2,  34.6217,4,   -999.0,9,     89.6,4,   154.75,3,    40.50,3,     2.87,3,  1.5676
  492SSY9310_2,  P02E,   130,  1,     18,      6,2,19931118,2241, 29.9967,-139.4950, 4623,   3000.2,   1.5821,  34.6628,2,  34.6598,2,   -999.0,9,    119.6,2,   159.63,3,    39.65,3,     2.74,3,  1.3636
  492SSY9310_2,  P02E,   130,  1,     19,      5,2,19931118,2241, 29.9967,-139.4950, 4623,   3498.9,   1.5031,  34.6744,2,  34.6728,2,   -999.0,9,    133.9,2,   155.73,3,    38.96,3,     2.57,3,  1.2372
  492SSY9310_2,  P02E,   130,  1,     21,      3,2,19931118,2241, 29.9967,-139.4950, 4623,   3997.8,   1.4944,  34.6810,3,  34.6633,3,   -999.0,9,    134.4,4,  -999.00,9,    37.72,3,  -999.00,9,  1.1761
  492SSY9310_2,  P02E,   130,  1,     20,      4,2,19931118,2241, 29.9967,-139.4950, 4623,   4000.7,   1.4939,  34.6796,2,  34.6769,2,   -999.0,9,    141.3,2,   152.83,3,    36.80,3,     2.54,3,  1.1753
  492SSY9310_2,  P02E,   130,  1,     23,      1,2,19931118,2241, 29.9967,-139.4950, 4623,   4499.3,   1.5217,  34.6839,2,  34.6826,2,   -999.0,9,    147.8,2,   152.83,3,    37.10,3,     2.56,3,  1.1464
  492SSY9310_2,  P02E,   130,  1,     22,      2,2,19931118,2241, 29.9967,-139.4950, 4623,   4502.5,   1.5217,  34.6827,2,  34.6832,2,   -999.0,9,    147.4,2,   153.80,3,    36.96,3,     2.54,3,  1.1460
  492SSY9310_2,  P02E,   131,  1,      1,     23,2,19931119,0400, 30.0000,-138.9200, 4593,     53.0,  20.4240,  35.1556,2,  35.1547,2,   -999.0,9,    224.4,2,     2.92,3,     0.00,3,     0.01,3, 20.4141
  492SSY9310_2,  P02E,   131,  1,      2,     22,2,19931119,0400, 30.0000,-138.9200, 4593,    102.2,  18.1551,  34.6493,2,  34.6519,2,   -999.0,9,    235.8,2,     3.90,3,     0.00,3,     0.08,3, 18.1376
  492SSY9310_2,  P02E,   131,  1,      3,     21,2,19931119,0400, 30.0000,-138.9200, 4593,    200.4,  13.7857,  34.2214,2,  34.2468,2,   -999.0,9,    212.6,2,     7.79,3,     5.26,3,     0.48,3, 13.7573
  492SSY9310_2,  P02E,   131,  1,      4,     20,2,19931119,0400, 30.0000,-138.9200, 4593,    301.2,   8.9469,  33.9731,2,  33.9683,2,   -999.0,9,    209.5,2,    24.35,3,    17.90,3,     1.23,3,  8.9146
  492SSY9310_2,  P02E,   131,  1,      5,     19,2,19931119,0400, 30.0000,-138.9200, 4593,    397.8,   7.5160,  33.9813,2,  33.9959,2,   -999.0,9,    160.7,2,    36.04,3,    25.55,3,     1.72,3,  7.4774
  492SSY9310_2,  P02E,   131,  1,      6,     18,2,19931119,0400, 30.0000,-138.9200, 4593,    498.7,   5.8702,  34.0135,2,  34.0147,2,   -999.0,9,     91.0,2,    61.35,3,    35.47,3,     2.46,3,  5.8276
  492SSY9310_2,  P02E,   131,  1,      7,     17,2,19931119,0400, 30.0000,-138.9200, 4593,    602.8,   5.0390,  34.0859,2,  34.0831,2,   -999.0,9,     51.8,2,    79.85,3,    39.99,3,     2.83,3,  4.9908
  492SSY9310_2,  P02E,   131,  1,      8,     16,2,19931119,0400, 30.0000,-138.9200, 4593,    700.3,   4.5381,  34.1946,2,  34.1891,2,   -999.0,9,     24.4,2,    95.41,3,    41.85,3,     3.06,3,  4.4842
  492SSY9310_2,  P02E,   131,  1,      9,     15,2,19931119,0400, 30.0000,-138.9200, 4593,    801.9,   4.2042,  34.2938,2,  34.2923,2,   -999.0,9,     16.1,2,   107.10,3,    43.29,3,     3.12,3,  4.1438
  492SSY9310_2,  P02E,   131,  1,     10,     14,2,19931119,0400, 30.0000,-138.9200, 4593,    901.3,   3.9500,  34.3723,2,  34.3690,2,   -999.0,9,     17.8,2,   115.86,3,    43.10,3,     3.14,3,  3.8830
  492SSY9310_2,  P02E,   131,  1,     11,     13,2,19931119,0400, 30.0000,-138.9200, 4593,   1000.4,   3.7784,  34.4349,2,  34.4339,2,   -999.0,9,     25.7,2,   119.74,3,    43.03,3,     3.15,3,  3.7046
  492SSY9310_2,  P02E,   131,  1,     12,     12,2,19931119,0400, 30.0000,-138.9200, 4593,   1247.4,   3.2186,  34.5149,2,  34.5131,2,   -999.0,9,     43.1,2,   132.39,3,    42.78,3,     3.05,3,  3.1294
  492SSY9310_2,  P02E,   131,  1,     13,     11,2,19931119,0400, 30.0000,-138.9200, 4593,   1499.0,   2.7491,  34.5584,2,  34.5561,2,   -999.0,9,     55.2,2,   145.03,3,    42.78,3,     3.01,3,  2.6443
  492SSY9310_2,  P02E,   131,  1,     14,     10,2,19931119,0400, 30.0000,-138.9200, 4593,   1748.5,   2.3842,  34.5877,2,  34.5877,2,   -999.0,9,     66.1,2,   155.74,3,    42.09,3,     2.91,3,  2.2633
  492SSY9310_2,  P02E,   131,  1,     15,      9,2,19931119,0400, 30.0000,-138.9200, 4593,   1999.5,   2.0629,  34.6144,2,  34.6128,2,   -999.0,9,     79.6,2,   167.41,3,    41.40,3,     2.87,3,  1.9255
  492SSY9310_2,  P02E,   131,  1,     16,      8,2,19931119,0400, 30.0000,-138.9200, 4593,   2247.0,   1.8566,  34.6310,2,  34.6307,2,   -999.0,9,     91.3,2,   169.35,3,    40.29,3,     2.82,3,  1.7013
  492SSY9310_2,  P02E,   131,  1,     17,      7,2,19931119,0400, 30.0000,-138.9200, 4593,   2247.0,   1.8566,  34.6310,2,  34.6323,2,   -999.0,9,     92.6,2,   164.49,3,    40.53,3,     2.86,3,  1.7013
  492SSY9310_2,  P02E,   131,  1,     18,      6,2,19931119,0400, 30.0000,-138.9200, 4593,   2999.0,   1.5835,  34.6612,2,  34.6620,2,   -999.0,9,    119.1,2,   165.47,3,    39.26,3,     2.72,3,  1.3651
  492SSY9310_2,  P02E,   131,  1,     19,      5,2,19931119,0400, 30.0000,-138.9200, 4593,   3498.6,   1.5149,  34.6720,2,  34.6716,2,   -999.0,9,    133.5,2,   161.57,3,    38.65,3,     2.62,3,  1.2487
  492SSY9310_2,  P02E,   131,  1,     21,      3,2,19931119,0400, 30.0000,-138.9200, 4593,   3998.1,   1.5003,  34.6790,2,  34.6734,3,   -999.0,9,    141.3,2,   159.64,3,    37.33,3,     2.53,3,  1.1818
  492SSY9310_2,  P02E,   131,  1,     20,      4,2,19931119,0400, 30.0000,-138.9200, 4593,   4001.4,   1.5005,  34.6779,2,  34.6775,2,   -999.0,9,    142.2,2,   158.67,3,    36.31,3,     2.51,3,  1.1817
  492SSY9310_2,  P02E,   131,  1,     23,      1,2,19931119,0400, 30.0000,-138.9200, 4593,   4499.7,   1.5290,  34.6818,2,  34.6802,2,   -999.0,9,    145.7,2,   157.69,3,    36.75,3,     2.51,3,  1.1535
  492SSY9310_2,  P02E,   131,  1,     22,      2,2,19931119,0400, 30.0000,-138.9200, 4593,   4501.0,   1.5292,  34.6804,2,  34.6838,2,   -999.0,9,    146.5,2,   157.69,3,    36.60,3,     2.50,3,  1.1535
  492SSY9310_2,  P02E,   132,  1,      1,     23,2,19931119,0927, 30.0050,-138.3400, 4705,     49.9,  20.3649,  35.1628,2,  35.1650,2,   -999.0,9,    226.6,2,     0.97,3,     0.00,3,     0.03,3, 20.3556
  492SSY9310_2,  P02E,   132,  1,      2,     22,2,19931119,0927, 30.0050,-138.3400, 4705,    100.6,  19.7160,  34.9743,2,  35.0890,4,   -999.0,9,    227.6,2,     1.95,3,     0.00,3,     0.04,3, 19.6976
  492SSY9310_2,  P02E,   132,  1,      3,     21,2,19931119,0927, 30.0050,-138.3400, 4705,    202.4,  13.4771,  34.1254,2,  34.1362,2,   -999.0,9,    217.4,2,     5.85,3,     5.59,3,     0.52,3, 13.4488
  492SSY9310_2,  P02E,   132,  1,      4,     20,2,19931119,0927, 30.0050,-138.3400, 4705,    299.8,   9.1083,  33.9722,2,  33.9735,2,   -999.0,9,    211.2,2,    19.48,3,    17.23,3,     1.23,3,  9.0758
  492SSY9310_2,  P02E,   132,  1,      5,     19,2,19931119,0927, 30.0050,-138.3400, 4705,    399.5,   7.1688,  33.9938,2,  33.9951,2,   -999.0,9,    148.9,2,    40.91,3,    27.39,3,     1.88,3,  7.1310
  492SSY9310_2,  P02E,   132,  1,      6,     18,2,19931119,0927, 30.0050,-138.3400, 4705,    498.6,   5.8119,  34.0161,2,  34.0135,2,   -999.0,9,     90.6,2,    62.33,3,    35.74,3,     2.48,3,  5.7695
  492SSY9310_2,  P02E,   132,  1,      7,     17,2,19931119,0927, 30.0050,-138.3400, 4705,    600.9,   5.0475,  34.0946,2,  34.0952,2,   -999.0,9,     48.3,2,    80.82,3,    41.08,3,     2.86,3,  4.9994
  492SSY9310_2,  P02E,   132,  1,      8,     16,2,19931119,0927, 30.0050,-138.3400, 4705,    697.7,   4.6550,  34.1813,2,  34.1832,2,   -999.0,9,     27.9,2,    92.49,3,    41.36,3,     3.02,3,  4.6007
  492SSY9310_2,  P02E,   132,  1,      9,     15,2,19931119,0927, 30.0050,-138.3400, 4705,    801.0,   4.2459,  34.2919,2,  34.2809,3,   -999.0,9,     20.9,2,   103.21,4,    42.29,3,     2.95,3,  4.1853
  492SSY9310_2,  P02E,   132,  1,     10,     14,2,19931119,0927, 30.0050,-138.3400, 4705,    899.6,   3.9365,  34.3686,2,  34.3670,2,   -999.0,9,     19.1,2,   113.91,3,    43.63,3,     3.17,6,  3.8697
  492SSY9310_2,  P02E,   132,  1,     11,     13,2,19931119,0927, 30.0050,-138.3400, 4705,    998.6,   3.7333,  34.4310,2,  34.4290,2,   -999.0,9,     27.0,2,   119.74,3,    43.25,3,     3.15,3,  3.6600
  492SSY9310_2,  P02E,   132,  1,     12,     12,2,19931119,0927, 30.0050,-138.3400, 4705,   1250.6,   3.1899,  34.5203,2,  34.5168,2,   -999.0,9,     44.8,2,   130.44,3,    42.75,3,     3.09,3,  3.1007
  492SSY9310_2,  P02E,   132,  1,     13,     11,2,19931119,0927, 30.0050,-138.3400, 4705,   1499.1,   2.7181,  34.5579,2,  34.5573,2,   -999.0,9,     56.1,2,   142.11,3,    42.75,3,     3.06,3,  2.6136
  492SSY9310_2,  P02E,   132,  1,     14,     10,2,19931119,0927, 30.0050,-138.3400, 4705,   1753.0,   2.3502,  34.5900,2,  34.5871,2,   -999.0,9,     68.3,2,   153.79,3,    42.28,3,     3.00,3,  2.2294
  492SSY9310_2,  P02E,   132,  1,     15,      9,2,19931119,0927, 30.0050,-138.3400, 4705,   2002.7,   2.0422,  34.6165,2,  34.6126,2,   -999.0,9,     80.9,2,   161.57,3,    41.84,3,     2.90,3,  1.9049
  492SSY9310_2,  P02E,   132,  1,     16,      8,2,19931119,0927, 30.0050,-138.3400, 4705,   2250.5,   1.8532,  34.6334,2,  34.6313,2,   -999.0,9,     92.2,2,   165.46,3,    39.74,3,     2.82,3,  1.6977
  492SSY9310_2,  P02E,   132,  1,     17,      7,2,19931119,0927, 30.0050,-138.3400, 4705,   2498.6,   1.7253,  34.6457,2,  34.6433,2,   -999.0,9,    103.5,2,   165.46,3,    39.23,3,     2.73,3,  1.5502
  492SSY9310_2,  P02E,   132,  1,     18,      6,2,19931119,0927, 30.0050,-138.3400, 4705,   3002.9,   1.5710,  34.6635,2,  34.6620,2,   -999.0,9,    121.3,2,   166.44,3,    39.56,3,     2.62,3,  1.3524
  492SSY9310_2,  P02E,   132,  1,     19,      5,2,19931119,0927, 30.0050,-138.3400, 4705,   3499.7,   1.5059,  34.6741,2,  34.6722,2,   -999.0,9,    133.5,2,   162.55,3,    38.99,3,     2.57,3,  1.2398
  492SSY9310_2,  P02E,   132,  1,     21,      3,2,19931119,0927, 30.0050,-138.3400, 4705,   3998.9,   1.5001,  34.6804,3,  34.5518,3,   -999.0,9,     84.8,4,  -999.00,9,    37.63,3,  -999.00,9,  1.1815
  492SSY9310_2,  P02E,   132,  1,     20,      4,2,19931119,0927, 30.0050,-138.3400, 4705,   4003.0,   1.5001,  34.6790,2,  34.6720,4,   -999.0,9,    137.0,2,   157.69,3,    37.00,3,     2.56,6,  1.1811
  492SSY9310_2,  P02E,   132,  1,     22,      2,2,19931119,0927, 30.0050,-138.3400, 4705,   4503.9,   1.5378,  34.6825,2,  34.6806,2,   -999.0,9,    145.2,2,   156.73,3,    36.87,3,     2.50,3,  1.1615
  492SSY9310_2,  P02E,   132,  1,     23,      1,2,19931119,0927, 30.0050,-138.3400, 4705,   4503.9,   1.5378,  34.6825,2,  34.6810,2,   -999.0,9,    145.7,2,   156.73,3,    36.87,3,     2.54,3,  1.1615