BOTTLE,20040202WHPSIOSA
EXPOCODE,SECT_ID,STNNBR,CASTNO,SAMPNO,BTLNBR,BTLNBR_FLAG_W,DATE,TIME,LATITUDE,LONGITUDE,DEPTH,CTDPRS,CTDTMP,CTDSAL,CTDSAL_FLAG_W,SALNTY,SALNTY_FLAG_W,CTDOXY,CTDOXY_FLAG_W,OXYGEN,OXYGEN_FLAG_W,SILCAT,SILCAT_FLAG_W,NO2+NO3,NO2+NO3_FLAG_W,PHSPHT,PHSPHT_FLAG_W,THETA
,,,,,,,,,,,,DBAR,ITS-90,PSS-78,,PSS-78,,UMOL/KG,,UMOL/KG,,UMOL/KG,,UMOL/KG,,UMOL/KG,,DEG C
  492SSY9310_2,  P02E,   157,  1,      1,     23,2,19931125,0921, 31.0000,-121.2217, 3885,     49.4,  16.2018,  33.2636,2,  33.2551,2,   -999.0,9,    251.6,2,     4.88,3,     0.00,3,     0.32,3, 16.1941
  492SSY9310_2,  P02E,   157,  1,      2,     22,2,19931125,0921, 31.0000,-121.2217, 3885,    100.9,  10.6006,  33.4116,2,  33.4049,2,   -999.0,9,    183.4,2,    12.67,3,    14.04,3,     1.29,3, 10.5887
  492SSY9310_2,  P02E,   157,  1,      3,     21,2,19931125,0921, 31.0000,-121.2217, 3885,    200.9,   8.1358,  33.9426,2,  33.9383,2,   -999.0,9,    131.0,2,    31.17,3,    24.73,3,     1.93,3,  8.1157
  492SSY9310_2,  P02E,   157,  1,      4,     20,2,19931125,0921, 31.0000,-121.2217, 3885,    301.3,   7.1010,  34.0614,2,  34.0590,2,   -999.0,9,     90.5,2,    47.72,3,    31.36,3,     2.36,3,  7.0728
  492SSY9310_2,  P02E,   157,  1,      5,     19,2,19931125,0921, 31.0000,-121.2217, 3885,    401.0,   6.6069,  34.2027,2,  34.2028,2,   -999.0,9,     37.9,4,    63.30,3,    35.98,3,     2.81,3,  6.5706
  492SSY9310_2,  P02E,   157,  1,      6,     18,2,19931125,0921, 31.0000,-121.2217, 3885,    501.6,   5.7198,  34.2350,2,  34.2279,2,   -999.0,9,     27.4,2,    74.00,3,    37.62,3,     2.96,3,  5.6774
  492SSY9310_2,  P02E,   157,  1,      7,     17,2,19931125,0921, 31.0000,-121.2217, 3885,    601.0,   5.2380,  34.3152,2,  34.3127,2,   -999.0,9,     14.8,2,    89.57,3,    39.74,3,     3.14,3,  5.1889
  492SSY9310_2,  P02E,   157,  1,      8,     16,2,19931125,0921, 31.0000,-121.2217, 3885,    700.7,   4.9579,  34.3904,2,  34.3921,2,   -999.0,9,     13.5,2,    97.35,3,    40.36,3,     3.15,3,  4.9015
  492SSY9310_2,  P02E,   157,  1,      9,     15,2,19931125,0921, 31.0000,-121.2217, 3885,    801.5,   4.5855,  34.4342,2,  34.4322,2,   -999.0,9,     16.5,2,   105.15,3,    40.80,3,     3.16,3,  4.5226
  492SSY9310_2,  P02E,   157,  1,     10,     14,2,19931125,0921, 31.0000,-121.2217, 3885,    899.4,   4.2089,  34.4608,2,  34.4595,2,   -999.0,9,     20.4,2,   112.93,3,    41.17,3,     3.19,3,  4.1402
  492SSY9310_2,  P02E,   157,  1,     11,     13,2,19931125,0921, 31.0000,-121.2217, 3885,   1001.9,   3.9053,  34.4923,2,  34.4887,2,   -999.0,9,     27.4,2,   119.74,3,    41.23,3,     3.19,6,  3.8302
  492SSY9310_2,  P02E,   157,  1,     12,     12,2,19931125,0921, 31.0000,-121.2217, 3885,   1248.4,   3.2861,  34.5267,2,  34.5286,2,   -999.0,9,     37.8,2,   135.30,3,    41.15,3,     3.14,6,  3.1961
  492SSY9310_2,  P02E,   157,  1,     13,     11,2,19931125,0921, 31.0000,-121.2217, 3885,   1502.3,   2.8021,  34.5632,2,  34.5631,2,   -999.0,9,     50.5,2,   147.95,3,    41.19,3,     3.06,3,  2.6964
  492SSY9310_2,  P02E,   157,  1,     14,     10,2,19931125,0921, 31.0000,-121.2217, 3885,   1749.3,   2.4014,  34.5933,2,  34.5961,2,   -999.0,9,     64.8,2,   156.71,3,    40.50,3,     2.97,3,  2.2802
  492SSY9310_2,  P02E,   157,  1,     15,      9,2,19931125,0921, 31.0000,-121.2217, 3885,   1999.7,   2.1249,  34.6172,2,  34.6191,2,   -999.0,9,     77.4,2,   161.57,3,    39.70,3,     2.91,3,  1.9866
  492SSY9310_2,  P02E,   157,  1,     16,      8,2,19931125,0921, 31.0000,-121.2217, 3885,   2249.9,   1.9203,  34.6368,2,  34.6372,2,   -999.0,9,     92.2,2,   165.46,3,    39.79,3,     2.80,3,  1.7638
  492SSY9310_2,  P02E,   157,  1,     17,      7,2,19931125,0921, 31.0000,-121.2217, 3885,   2498.0,   1.7619,  34.6529,2,  34.6539,2,   -999.0,9,    105.2,2,   166.43,3,    39.42,3,     2.73,3,  1.5862
  492SSY9310_2,  P02E,   157,  1,     19,      5,2,19931125,0921, 31.0000,-121.2217, 3885,   3001.3,   1.6165,  34.6675,2,  34.6677,2,   -999.0,9,    119.1,2,   167.41,3,    38.17,3,     2.64,3,  1.3971
  492SSY9310_2,  P02E,   157,  1,     18,      6,2,19931125,0921, 31.0000,-121.2217, 3885,   3004.3,   1.6178,  34.6665,2,  34.6681,2,   -999.0,9,    119.6,2,   167.41,3,    38.75,3,     2.65,3,  1.3981
  492SSY9310_2,  P02E,   157,  1,     21,      3,2,19931125,0921, 31.0000,-121.2217, 3885,   3501.5,   1.5454,  34.6768,2,  34.6753,2,   -999.0,9,    129.1,2,   147.95,4,    36.31,4,     2.50,4,  1.2781
  492SSY9310_2,  P02E,   157,  1,     20,      4,2,19931125,0921, 31.0000,-121.2217, 3885,   3505.3,   1.5443,  34.6756,2,  34.6755,2,   -999.0,9,    129.1,2,   168.40,3,    37.67,3,     2.58,3,  1.2767
  492SSY9310_2,  P02E,   157,  1,     22,      2,2,19931125,0921, 31.0000,-121.2217, 3885,   3949.2,   1.5412,  34.6818,2,  34.6814,2,   -999.0,9,    133.5,2,   168.40,3,    37.24,3,     2.85,3,  1.2269
  492SSY9310_2,  P02E,   157,  1,     23,      1,2,19931125,0921, 31.0000,-121.2217, 3885,   3949.2,   1.5412,  34.6818,2,  34.6814,2,   -999.0,9,   -999.0,5,   168.40,3,    37.64,3,     2.58,3,  1.2269
  492SSY9310_2,  P02E,   158,  1,      1,     23,2,19931125,1345, 31.2483,-120.7517, 4038,     50.0,  12.0493,  33.3914,2,  33.3859,2,   -999.0,9,    214.7,2,     9.75,3,     8.15,3,     0.96,3, 12.0429
  492SSY9310_2,  P02E,   158,  1,      2,     22,2,19931125,1345, 31.2483,-120.7517, 4038,     99.2,   9.3448,  33.6194,2,  33.5960,2,   -999.0,9,    161.1,2,    19.49,3,    18.81,3,     1.59,3,  9.3340
  492SSY9310_2,  P02E,   158,  1,      3,     21,2,19931125,1345, 31.2483,-120.7517, 4038,    198.9,   7.9179,  34.0448,2,  34.0429,2,   -999.0,9,    105.3,2,    38.96,3,    27.04,3,     2.13,3,  7.8982
  492SSY9310_2,  P02E,   158,  1,      4,     20,2,19931125,1345, 31.2483,-120.7517, 4038,    299.8,   6.8344,  34.1007,2,  34.1044,2,   -999.0,9,     69.2,2,    55.51,3,    32.76,3,     2.52,3,  6.8069
  492SSY9310_2,  P02E,   158,  1,      5,     19,2,19931125,1345, 31.2483,-120.7517, 4038,    399.9,   6.1162,  34.1635,2,  34.1648,2,   -999.0,9,     37.9,2,    70.11,3,    36.71,3,     2.85,3,  6.0815
  492SSY9310_2,  P02E,   158,  1,      6,     18,2,19931125,1345, 31.2483,-120.7517, 4038,    500.2,   5.7272,  34.2583,2,  34.2577,2,   -999.0,9,     20.5,2,    81.79,3,    37.95,3,     3.05,3,  5.6848
  492SSY9310_2,  P02E,   158,  1,      7,     17,2,19931125,1345, 31.2483,-120.7517, 4038,    599.8,   5.3641,  34.3257,2,  34.3258,2,   -999.0,9,     14.8,2,    89.57,3,    38.99,3,     3.14,3,  5.3145
  492SSY9310_2,  P02E,   158,  1,      8,     16,2,19931125,1345, 31.2483,-120.7517, 4038,    699.5,   4.9838,  34.3889,2,  34.3864,2,   -999.0,9,     12.6,2,    98.32,3,    39.20,3,     3.17,3,  4.9274
  492SSY9310_2,  P02E,   158,  1,      9,     15,2,19931125,1345, 31.2483,-120.7517, 4038,    800.0,   4.6170,  34.4206,2,  34.4112,2,   -999.0,9,     15.2,2,   106.13,3,    40.28,3,     3.19,3,  4.5540
  492SSY9310_2,  P02E,   158,  1,     10,     14,2,19931125,1345, 31.2483,-120.7517, 4038,    900.2,   4.2778,  34.4542,2,  34.4453,2,   -999.0,9,     20.9,2,   113.91,3,    40.54,3,     3.20,6,  4.2086
  492SSY9310_2,  P02E,   158,  1,     11,     13,2,19931125,1345, 31.2483,-120.7517, 4038,    999.7,   3.9475,  34.4860,2,  34.4728,4,   -999.0,9,     26.1,2,   125.58,3,    40.80,3,     3.20,6,  3.8723
  492SSY9310_2,  P02E,   158,  1,     12,     12,2,19931125,1345, 31.2483,-120.7517, 4038,   1249.1,   3.3000,  34.5272,2,  34.5219,2,   -999.0,9,     37.4,2,   137.25,3,    40.19,3,     3.15,3,  3.2098
  492SSY9310_2,  P02E,   158,  1,     13,     11,2,19931125,1345, 31.2483,-120.7517, 4038,   1498.9,   2.7917,  34.5629,2,  34.5561,2,   -999.0,9,     50.0,2,   149.90,3,    40.35,3,     3.08,3,  2.6864
  492SSY9310_2,  P02E,   158,  1,     14,     10,2,19931125,1345, 31.2483,-120.7517, 4038,   1749.3,   2.3773,  34.5968,2,  34.5930,2,   -999.0,9,     65.2,2,   159.63,3,    39.79,3,     2.95,3,  2.2564
  492SSY9310_2,  P02E,   158,  1,     15,      9,2,19931125,1345, 31.2483,-120.7517, 4038,   1998.4,   2.0706,  34.6252,2,  34.6136,4,   -999.0,9,     81.3,2,   165.47,3,    39.05,3,     2.86,3,  1.9332
  492SSY9310_2,  P02E,   158,  1,     16,      8,2,19931125,1345, 31.2483,-120.7517, 4038,   2249.4,   1.9042,  34.6420,2,  34.6303,4,   -999.0,9,     93.9,2,   167.41,3,    38.93,3,     2.79,3,  1.7480
  492SSY9310_2,  P02E,   158,  1,     17,      7,2,19931125,1345, 31.2483,-120.7517, 4038,   2497.5,   1.7866,  34.6524,2,  34.6453,4,   -999.0,9,    103.5,2,   163.51,3,    39.11,3,     2.76,3,  1.6105
  492SSY9310_2,  P02E,   158,  1,     19,      5,2,19931125,1345, 31.2483,-120.7517, 4038,   2999.9,   1.6357,  34.6701,2,  34.6671,2,   -999.0,9,    117.4,2,   168.39,3,    38.59,3,     2.70,3,  1.4160
  492SSY9310_2,  P02E,   158,  1,     18,      6,2,19931125,1345, 31.2483,-120.7517, 4038,   3002.4,   1.6365,  34.6671,2,  34.6563,4,   -999.0,9,    117.8,2,   170.34,3,    38.32,3,     2.68,3,  1.4165
  492SSY9310_2,  P02E,   158,  1,     21,      3,2,19931125,1345, 31.2483,-120.7517, 4038,   3498.9,   1.5537,  34.6782,2,  34.6647,4,   -999.0,9,    126.1,3,  -999.00,9,    37.18,3,  -999.00,9,  1.2865
  492SSY9310_2,  P02E,   158,  1,     20,      4,2,19931125,1345, 31.2483,-120.7517, 4038,   3501.6,   1.5537,  34.6767,2,  34.6692,4,   -999.0,9,    127.8,2,   170.33,3,    37.21,3,     2.64,3,  1.2862
  492SSY9310_2,  P02E,   158,  1,     23,      1,2,19931125,1345, 31.2483,-120.7517, 4038,   3999.0,   1.5588,  34.6809,2,  34.6747,4,   -999.0,9,    132.6,2,   170.35,3,    37.21,3,     2.61,3,  1.2386
  492SSY9310_2,  P02E,   158,  1,     22,      2,2,19931125,1345, 31.2483,-120.7517, 4038,   4003.4,   1.5589,  34.6797,2,  34.6787,2,   -999.0,9,    131.3,2,   170.35,3,    36.97,3,     2.59,3,  1.2382
  492SSY9310_2,  P02E,   159,  1,      1,     23,2,19931125,1800, 31.5033,-120.2867, 3920,     49.6,  14.5436,  33.1195,2,  33.0933,2,   -999.0,9,    257.2,2,     0.00,3,     0.00,3,     0.34,3, 14.5364
  492SSY9310_2,  P02E,   159,  1,      2,     22,2,19931125,1800, 31.5033,-120.2867, 3920,    100.1,  10.9713,  33.3895,2,  33.3832,2,   -999.0,9,    198.7,2,     8.77,3,    11.51,3,     1.07,3, 10.9593
  492SSY9310_2,  P02E,   159,  1,      3,     21,2,19931125,1800, 31.5033,-120.2867, 3920,    199.9,   8.2478,  33.9013,2,  33.8997,2,   -999.0,9,    137.1,2,    29.22,3,    23.69,3,     1.85,3,  8.2276
  492SSY9310_2,  P02E,   159,  1,      4,     20,2,19931125,1800, 31.5033,-120.2867, 3920,    300.3,   7.4481,  34.1237,2,  34.1234,2,   -999.0,9,     75.7,2,    47.72,3,    31.36,3,     2.42,3,  7.4192
  492SSY9310_2,  P02E,   159,  1,      5,     19,2,19931125,1800, 31.5033,-120.2867, 3920,    400.1,   6.6087,  34.1665,2,  34.1660,2,   -999.0,9,     45.3,2,    62.32,3,    34.93,3,     2.74,3,  6.5725
  492SSY9310_2,  P02E,   159,  1,      6,     18,2,19931125,1800, 31.5033,-120.2867, 3920,    500.8,   5.6166,  34.2194,2,  34.2209,2,   -999.0,9,     22.2,2,    79.84,3,    38.17,3,     3.02,3,  5.5746
  492SSY9310_2,  P02E,   159,  1,      7,     17,2,19931125,1800, 31.5033,-120.2867, 3920,    600.6,   5.1902,  34.2955,2,  34.2974,2,   -999.0,9,     15.2,2,    90.54,3,    39.46,3,     3.13,3,  5.1413
  492SSY9310_2,  P02E,   159,  1,      8,     16,2,19931125,1800, 31.5033,-120.2867, 3920,    701.1,   4.7952,  34.3785,2,  34.3804,2,   -999.0,9,     13.5,2,    99.30,3,    40.12,3,     3.18,3,  4.7397
  492SSY9310_2,  P02E,   159,  1,      9,     15,2,19931125,1800, 31.5033,-120.2867, 3920,    799.1,   4.5162,  34.4173,2,  34.4165,2,   -999.0,9,     15.7,2,   105.15,3,    40.55,3,     3.19,3,  4.4540
  492SSY9310_2,  P02E,   159,  1,     10,     14,2,19931125,1800, 31.5033,-120.2867, 3920,    899.9,   4.1788,  34.4532,2,  34.4555,2,   -999.0,9,     20.9,2,   111.96,3,    40.99,3,     3.20,6,  4.1103
  492SSY9310_2,  P02E,   159,  1,     11,     13,2,19931125,1800, 31.5033,-120.2867, 3920,    997.9,   3.9178,  34.4776,2,  34.4783,2,   -999.0,9,     26.1,2,   116.82,3,    40.76,3,     3.20,6,  3.8430
  492SSY9310_2,  P02E,   159,  1,     12,     12,2,19931125,1800, 31.5033,-120.2867, 3920,   1249.6,   3.3037,  34.5320,2,  34.5339,2,   -999.0,9,     37.8,2,   132.38,3,    40.57,3,     3.15,3,  3.2135
  492SSY9310_2,  P02E,   159,  1,     13,     11,2,19931125,1800, 31.5033,-120.2867, 3920,   1500.8,   2.8123,  34.5657,2,  34.5682,2,   -999.0,9,     50.5,2,   144.05,3,    40.57,3,     3.07,3,  2.7066
  492SSY9310_2,  P02E,   159,  1,     14,     10,2,19931125,1800, 31.5033,-120.2867, 3920,   1751.3,   2.3976,  34.5948,2,  34.5981,2,   -999.0,9,     64.8,2,   153.79,3,    39.95,3,     2.96,3,  2.2763
  492SSY9310_2,  P02E,   159,  1,     15,      9,2,19931125,1800, 31.5033,-120.2867, 3920,   1999.5,   2.0874,  34.6226,2,  34.6142,4,   -999.0,9,     77.0,2,   158.65,3,    39.57,3,     2.90,3,  1.9496
  492SSY9310_2,  P02E,   159,  1,     16,      8,2,19931125,1800, 31.5033,-120.2867, 3920,   2251.0,   1.8981,  34.6408,2,  34.6425,2,   -999.0,9,     93.5,2,   161.57,3,    39.23,3,     2.81,3,  1.7418
  492SSY9310_2,  P02E,   159,  1,     17,      7,2,19931125,1800, 31.5033,-120.2867, 3920,   2499.0,   1.7738,  34.6528,2,  34.6508,2,   -999.0,9,    105.7,2,   161.56,3,    39.15,3,     2.74,3,  1.5978
  492SSY9310_2,  P02E,   159,  1,     19,      5,2,19931125,1800, 31.5033,-120.2867, 3920,   3000.3,   1.6365,  34.6667,2,  34.6673,2,   -999.0,9,    117.8,2,   167.42,3,    38.72,3,     2.69,3,  1.4167
  492SSY9310_2,  P02E,   159,  1,     18,      6,2,19931125,1800, 31.5033,-120.2867, 3920,   3002.8,   1.6364,  34.6654,2,  34.6669,2,   -999.0,9,    117.8,2,   167.42,3,    38.32,3,     2.68,3,  1.4164
  492SSY9310_2,  P02E,   159,  1,     21,      3,2,19931125,1800, 31.5033,-120.2867, 3920,   3498.9,   1.5660,  34.6739,3,  34.6508,3,   -999.0,9,    120.4,4,  -999.00,9,    37.34,3,  -999.00,9,  1.2985
  492SSY9310_2,  P02E,   159,  1,     20,      4,2,19931125,1800, 31.5033,-120.2867, 3920,   3502.4,   1.5663,  34.6726,2,  34.6720,2,   -999.0,9,    127.0,2,   168.39,3,    37.61,3,     2.65,3,  1.2984
  492SSY9310_2,  P02E,   159,  1,     23,      1,2,19931125,1800, 31.5033,-120.2867, 3920,   3989.1,   1.5409,  34.6796,2,  34.6814,2,   -999.0,9,    133.1,2,   169.37,3,    37.34,3,     2.63,3,  1.2223
  492SSY9310_2,  P02E,   159,  1,     22,      2,2,19931125,1800, 31.5033,-120.2867, 3920,   3992.2,   1.5411,  34.6782,2,  34.6810,2,   -999.0,9,    133.1,2,   169.37,3,    37.34,3,     2.60,3,  1.2221
  492SSY9310_2,  P02E,   160,  1,      1,     23,2,19931125,2340, 31.7500,-119.8150, 3687,     49.7,  18.1529,  33.2911,2,  33.2824,2,   -999.0,9,    238.1,2,     0.00,3,     0.00,3,     0.22,3, 18.1445
  492SSY9310_2,  P02E,   160,  1,      2,     22,2,19931125,2340, 31.7500,-119.8150, 3687,     99.9,  13.3858,  33.4159,2,  33.3967,2,   -999.0,9,    231.0,2,     1.95,3,     2.95,3,     0.47,3, 13.3721
  492SSY9310_2,  P02E,   160,  1,      3,     21,2,19931125,2340, 31.7500,-119.8150, 3687,    200.2,   8.3562,  33.8105,2,  33.7938,2,   -999.0,9,    162.0,2,    24.36,3,    20.02,3,     1.62,3,  8.3358
  492SSY9310_2,  P02E,   160,  1,      4,     20,2,19931125,2340, 31.7500,-119.8150, 3687,    299.1,   7.5253,  34.0826,2,  34.0840,2,   -999.0,9,     91.4,3,    43.83,3,    30.23,3,     2.26,3,  7.4964
  492SSY9310_2,  P02E,   160,  1,      5,     19,2,19931125,2340, 31.7500,-119.8150, 3687,    399.9,   6.6943,  34.1842,2,  34.1785,2,   -999.0,9,     43.5,2,    61.35,3,    35.05,3,     2.75,3,  6.6578
  492SSY9310_2,  P02E,   160,  1,      6,     18,2,19931125,2340, 31.7500,-119.8150, 3687,    500.1,   5.8799,  34.2229,2,  34.2179,2,   -999.0,9,     26.1,2,    75.95,3,    37.77,3,     3.00,3,  5.8370
  492SSY9310_2,  P02E,   160,  1,      7,     17,2,19931125,2340, 31.7500,-119.8150, 3687,    600.0,   5.5334,  34.3091,2,  34.3076,2,   -999.0,9,     16.1,2,    85.68,3,    38.62,3,     3.13,3,  5.4829
  492SSY9310_2,  P02E,   160,  1,      8,     16,2,19931125,2340, 31.7500,-119.8150, 3687,    699.4,   5.0703,  34.3655,2,  34.3641,2,   -999.0,9,     13.5,2,    95.40,3,    39.75,3,     3.21,6,  5.0134
  492SSY9310_2,  P02E,   160,  1,      9,     15,2,19931125,2340, 31.7500,-119.8150, 3687,    799.7,   4.6769,  34.4130,2,  34.4094,2,   -999.0,9,     15.2,2,   103.20,3,    40.37,3,     3.15,3,  4.6136
  492SSY9310_2,  P02E,   160,  1,     10,     14,2,19931125,2340, 31.7500,-119.8150, 3687,    898.9,   4.3799,  34.4503,2,  34.4481,2,   -999.0,9,     20.4,2,   112.93,3,    40.77,3,     3.15,3,  4.3101
  492SSY9310_2,  P02E,   160,  1,     11,     13,2,19931125,2340, 31.7500,-119.8150, 3687,   1000.5,   4.0807,  34.4769,2,  34.4748,2,   -999.0,9,     24.4,2,   121.69,3,    40.35,3,     3.14,6,  4.0045
  492SSY9310_2,  P02E,   160,  1,     12,     12,2,19931125,2340, 31.7500,-119.8150, 3687,   1250.2,   3.4932,  34.5260,2,  34.5215,2,   -999.0,9,     35.2,2,   138.23,3,    40.78,3,     3.12,3,  3.4011
  492SSY9310_2,  P02E,   160,  1,     13,     11,2,19931125,2340, 31.7500,-119.8150, 3687,   1500.4,   2.9581,  34.5591,2,  34.5580,2,   -999.0,9,     47.8,2,   158.66,3,    40.17,4,     3.06,3,  2.8508
  492SSY9310_2,  P02E,   160,  1,     14,     10,2,19931125,2340, 31.7500,-119.8150, 3687,   1747.6,   2.5074,  34.5894,2,  34.5902,2,   -999.0,9,     61.8,2,   152.82,3,    40.16,3,     2.98,3,  2.3849
  492SSY9310_2,  P02E,   160,  1,     15,      9,2,19931125,2340, 31.7500,-119.8150, 3687,   2000.0,   2.1644,  34.6167,2,  34.6168,2,   -999.0,9,     79.1,2,   158.65,3,    39.18,3,     2.93,3,  2.0254
  492SSY9310_2,  P02E,   160,  1,     17,      7,2,19931125,2340, 31.7500,-119.8150, 3687,   2249.8,   1.9442,  34.6366,2,  34.6358,2,   -999.0,9,     92.6,2,   158.65,3,    40.00,3,     2.93,3,  1.7873
  492SSY9310_2,  P02E,   160,  1,     16,      8,2,19931125,2340, 31.7500,-119.8150, 3687,   2251.2,   1.9442,  34.6367,2,  34.6370,2,   -999.0,9,     90.9,2,   157.68,4,    39.60,3,     2.85,3,  1.7871
  492SSY9310_2,  P02E,   160,  1,     19,      5,2,19931125,2340, 31.7500,-119.8150, 3687,   2498.4,   1.7995,  34.6502,2,  34.6519,2,   -999.0,9,    103.9,2,   163.51,4,    39.08,3,     3.04,3,  1.6230
  492SSY9310_2,  P02E,   160,  1,     18,      6,2,19931125,2340, 31.7500,-119.8150, 3687,   2500.7,   1.7997,  34.6490,2,  34.6484,2,   -999.0,9,    103.9,2,   163.51,3,    39.51,3,     2.94,3,  1.6230
  492SSY9310_2,  P02E,   160,  1,     21,      3,2,19931125,2340, 31.7500,-119.8150, 3687,   3000.2,   1.6451,  34.6663,2,  34.6641,2,   -999.0,9,    116.5,2,   162.55,3,    37.79,4,     2.71,3,  1.4252
  492SSY9310_2,  P02E,   160,  1,     20,      4,2,19931125,2340, 31.7500,-119.8150, 3687,   3002.7,   1.6441,  34.6656,2,  34.6639,2,   -999.0,9,    117.4,2,   166.44,3,    38.24,3,     2.69,3,  1.4239
  492SSY9310_2,  P02E,   160,  1,     23,      1,2,19931125,2340, 31.7500,-119.8150, 3687,   3500.0,   1.5827,  34.6747,2,  34.6749,2,   -999.0,9,    126.1,2,   169.36,3,    36.61,3,     2.63,3,  1.3146
  492SSY9310_2,  P02E,   160,  1,     22,      2,2,19931125,2340, 31.7500,-119.8150, 3687,   3500.4,   1.5837,  34.6734,2,  34.6724,2,   -999.0,9,    124.8,2,   168.39,3,    37.64,3,     2.60,3,  1.3156