BOTTLE,20090923WHPSIOMYS
#code : jjward hyd_to_exchange.pl 
#original files copied from HTML directory: 20090923
#original HYD file: 32WC167_1_hy.txt   Wed Sep 23 17:57:14 2009
#original SUM file: ../32WC167_1su.txt   Wed Sep 23 17:57:13 2009
EXPOCODE,SECT_ID,STNNBR,CASTNO,SAMPNO,BTLNBR,BTLNBR_FLAG_W,DATE,TIME,LATITUDE,LONGITUDE,DEPTH,CTDRAW,CTDPRS,CTDTMP,CTDSAL,CTDSAL_FLAG_W,SALNTY,SALNTY_FLAG_W,CTDOXY,CTDOXY_FLAG_W,THETA,OXYGEN,OXYGEN_FLAG_W,SILCAT,SILCAT_FLAG_W,NO2+NO3,NO2+NO3_FLAG_W,PHSPHT,PHSPHT_FLAG_W,REVPRS,REVTMP
,,,,,,,,,,,,,DBAR,ITS-90,PSS-78,,PSS-78,,UMOL/KG,,ITS-90,UMOL/KG,,UMOL/KG,,UMOL/KG,,UMOL/KG,,DBAR,DEG C
     32WC167_1,  PRS2,     1,  1,     24,     23,2,20050131,2331, 21.3437,-158.2735, 1020,      5,      5.1,  25.2024,  34.8622,2,  34.8757,3,    207.1,3, 25.2013,    207.3,2,  -999.00,9,  -999.00,9,  -999.00,9,  -999.0,-999.000
     32WC167_1,  PRS2,     1,  1,     23,     30,3,20050131,2331, 21.3437,-158.2735, 1020,      5,      5.1,  25.2010,  34.8620,2,  34.8603,2,    207.2,2, 25.1999,    207.5,2,  -999.00,9,  -999.00,9,  -999.00,9,  -999.0,-999.000
     32WC167_1,  PRS2,     1,  1,     22,     22,2,20050131,2331, 21.3437,-158.2735, 1020,     24,     24.4,  24.6081,  34.9831,2,  34.9768,2,    208.5,2, 24.6029,    208.3,2,  -999.00,9,  -999.00,9,  -999.00,9,  -999.0,-999.000
     32WC167_1,  PRS2,     1,  1,     21,     21,2,20050131,2331, 21.3437,-158.2735, 1020,     46,     45.2,  24.1970,  35.0700,2,  35.0634,2,    209.4,2, 24.1875,    209.0,2,  -999.00,9,  -999.00,9,  -999.00,9,  -999.0,-999.000
     32WC167_1,  PRS2,     1,  1,     20,     41,3,20050131,2331, 21.3437,-158.2735, 1020,     61,     60.3,  24.0501,  35.1026,2,  35.1014,2,    209.8,2, 24.0374,    208.9,2,  -999.00,9,  -999.00,9,  -999.00,9,  -999.0,-999.000
     32WC167_1,  PRS2,     1,  1,     19,     19,3,20050131,2331, 21.3437,-158.2735, 1020,     76,     74.9,  23.7777,  35.1074,2,  35.0919,4,    204.6,3, 23.7621,    205.3,2,  -999.00,9,  -999.00,9,  -999.00,9,  -999.0,-999.000
     32WC167_1,  PRS2,     1,  1,     18,     18,2,20050131,2331, 21.3437,-158.2735, 1020,    100,    100.3,  22.8544,  35.1441,2,  35.1477,2,    198.9,2, 22.8340,    199.8,2,  -999.00,9,  -999.00,9,  -999.00,9,  -999.0,-999.000
     32WC167_1,  PRS2,     1,  1,     17,     17,2,20050131,2331, 21.3437,-158.2735, 1020,    116,    115.5,  21.0917,  35.1334,2,  35.1341,2,    192.5,2, 21.0696,    192.8,2,  -999.00,9,  -999.00,9,  -999.00,9,  -999.0,-999.000
     32WC167_1,  PRS2,     1,  1,     16,     34,2,20050131,2331, 21.3437,-158.2735, 1020,    126,    125.5,  20.6582,  35.1078,2,  35.1075,2,    192.3,2, 20.6344,    191.5,2,  -999.00,9,  -999.00,9,  -999.00,9,  -999.0,-999.000
     32WC167_1,  PRS2,     1,  1,     15,    102,2,20050131,2331, 21.3437,-158.2735, 1020,    151,    150.3,  19.3168,  34.9728,2,  34.9776,2,    189.3,2, 19.2897,    188.6,2,  -999.00,9,  -999.00,9,  -999.00,9,  -999.0,-999.000
     32WC167_1,  PRS2,     1,  1,     14,    101,2,20050131,2331, 21.3437,-158.2735, 1020,    176,    175.6,  18.4959,  34.8778,2,  34.8806,2,    188.0,2, 18.4652,    182.1,4,  -999.00,9,  -999.00,9,  -999.00,9,  -999.0,-999.000
     32WC167_1,  PRS2,     1,  1,     13,     42,2,20050131,2331, 21.3437,-158.2735, 1020,    199,    199.1,  17.4313,  34.7552,2,  34.7565,2,    189.0,2, 17.3979,    188.5,2,  -999.00,9,  -999.00,9,  -999.00,9,  -999.0,-999.000
     32WC167_1,  PRS2,     1,  1,     12,     12,2,20050131,2331, 21.3437,-158.2735, 1020,    225,    225.5,  15.3981,  34.5264,2,  34.5272,2,    184.9,2, 15.3635,    185.4,2,  -999.00,9,  -999.00,9,  -999.00,9,  -999.0,-999.000
     32WC167_1,  PRS2,     1,  1,     11,     39,2,20050131,2331, 21.3437,-158.2735, 1020,    250,    250.4,  14.2317,  34.4111,2,  34.4202,2,    182.4,2, 14.1952,    182.7,2,  -999.00,9,  -999.00,9,  -999.00,9,  -999.0,-999.000
     32WC167_1,  PRS2,     1,  1,     10,     33,2,20050131,2331, 21.3437,-158.2735, 1020,    302,    300.6,  12.3916,  34.2783,2,  34.2829,2,    172.3,2, 12.3517,    172.3,2,  -999.00,9,  -999.00,9,  -999.00,9,  -999.0,-999.000
     32WC167_1,  PRS2,     1,  1,      9,      3,2,20050131,2331, 21.3437,-158.2735, 1020,    350,    350.9,  10.5676,  34.1787,2,  34.1830,2,    185.5,2, 10.5256,    186.1,2,  -999.00,9,  -999.00,9,  -999.00,9,  -999.0,-999.000
     32WC167_1,  PRS2,     1,  1,      8,     29,2,20050131,2331, 21.3437,-158.2735, 1020,    399,    399.6,   9.2023,  34.1223,2,  34.1211,2,    170.4,2,  9.1583,    169.9,2,  -999.00,9,  -999.00,9,  -999.00,9,  -999.0,-999.000
     32WC167_1,  PRS2,     1,  1,      7,     28,2,20050131,2331, 21.3437,-158.2735, 1020,    501,    501.1,   7.1832,  34.1640,2,  34.1626,2,     81.9,2,  7.1352,     81.9,2,  -999.00,9,  -999.00,9,  -999.00,9,  -999.0,-999.000
     32WC167_1,  PRS2,     1,  1,      6,     13,2,20050131,2331, 21.3437,-158.2735, 1020,    599,    599.6,   6.0497,  34.2104,2,  34.2099,2,     53.0,2,  5.9970,     51.8,2,  -999.00,9,  -999.00,9,  -999.00,9,  -999.0,-999.000
     32WC167_1,  PRS2,     1,  1,      5,     38,2,20050131,2331, 21.3437,-158.2735, 1020,    700,    700.1,   5.2754,  34.3047,2,  34.3015,2,     36.0,2,  5.2174,     36.0,2,  -999.00,9,  -999.00,9,  -999.00,9,  -999.0,-999.000
     32WC167_1,  PRS2,     1,  1,      4,     36,2,20050131,2331, 21.3437,-158.2735, 1020,    748,    748.8,   4.9533,  34.3715,2,  34.3702,2,     37.0,2,  4.8927,     37.7,2,  -999.00,9,  -999.00,9,  -999.00,9,  -999.0,-999.000
     32WC167_1,  PRS2,     1,  1,      3,     35,2,20050131,2331, 21.3437,-158.2735, 1020,    801,    801.1,   4.7154,  34.4161,2,  34.4200,2,     39.4,2,  4.6517,     39.9,2,  -999.00,9,  -999.00,9,  -999.00,9,  -999.0,-999.000
     32WC167_1,  PRS2,     1,  1,      2,      7,2,20050131,2331, 21.3437,-158.2735, 1020,    900,    899.8,   4.2919,  34.4785,2,  34.4781,2,     44.9,2,  4.2225,     44.2,2,  -999.00,9,  -999.00,9,  -999.00,9,  -999.0,-999.000
     32WC167_1,  PRS2,     1,  1,      1,     11,2,20050131,2331, 21.3437,-158.2735, 1020,   1020,   1019.6,   4.0544,  34.5011,2,  34.5023,2,     48.7,2,  3.9767,     49.1,2,  -999.00,9,  -999.00,9,  -999.00,9,  -999.0,-999.000
     32WC167_1,  PRS2,     2,  1,     10,     33,2,20050201,0947, 22.7498,-158.0000,  700,     30,     30.0,  24.1758,  34.9832,2,-999.0000,5,    209.0,1, 24.1694,   -999.0,9,  -999.00,9,  -999.00,9,  -999.00,9,  -999.0,-999.000
     32WC167_1,  PRS2,     2,  1,     11,     39,2,20050201,0947, 22.7498,-158.0000,  700,     30,     30.1,  24.1762,  34.9832,2,-999.0000,5,    209.0,1, 24.1699,   -999.0,9,  -999.00,9,  -999.00,9,  -999.00,9,  -999.0,-999.000
     32WC167_1,  PRS2,     2,  1,      9,      3,2,20050201,0947, 22.7498,-158.0000,  700,     30,     30.1,  24.1757,  34.9831,2,-999.0000,5,    209.0,1, 24.1693,   -999.0,9,  -999.00,9,  -999.00,9,  -999.00,9,  -999.0,-999.000
     32WC167_1,  PRS2,     2,  1,      4,     36,2,20050201,0947, 22.7498,-158.0000,  700,     31,     30.1,  24.1742,  34.9831,2,  34.9872,2,    209.2,1, 24.1678,   -999.0,9,  -999.00,9,  -999.00,9,  -999.00,9,  -999.0,-999.000
     32WC167_1,  PRS2,     2,  1,     17,     17,2,20050201,0947, 22.7498,-158.0000,  700,     31,     30.2,  24.1766,  34.9828,2,-999.0000,5,    209.2,1, 24.1702,   -999.0,9,  -999.00,9,  -999.00,9,  -999.00,9,  -999.0,-999.000
     32WC167_1,  PRS2,     2,  1,     16,     34,2,20050201,0947, 22.7498,-158.0000,  700,     31,     30.2,  24.1767,  34.9826,2,-999.0000,5,    209.2,1, 24.1704,   -999.0,9,  -999.00,9,  -999.00,9,  -999.00,9,  -999.0,-999.000
     32WC167_1,  PRS2,     2,  1,     15,    102,2,20050201,0947, 22.7498,-158.0000,  700,     31,     30.2,  24.1750,  34.9826,2,-999.0000,5,    209.1,1, 24.1686,   -999.0,9,  -999.00,9,  -999.00,9,  -999.00,9,  -999.0,-999.000
     32WC167_1,  PRS2,     2,  1,     13,     42,2,20050201,0947, 22.7498,-158.0000,  700,     32,     30.2,  24.1761,  34.9831,2,  34.9833,2,    209.0,1, 24.1697,   -999.0,9,  -999.00,9,  -999.00,9,  -999.00,9,  -999.0,-999.000
     32WC167_1,  PRS2,     2,  1,     12,     12,2,20050201,0947, 22.7498,-158.0000,  700,     31,     30.2,  24.1762,  34.9832,2,-999.0000,5,    209.0,1, 24.1698,   -999.0,9,  -999.00,9,  -999.00,9,  -999.00,9,  -999.0,-999.000
     32WC167_1,  PRS2,     2,  1,      7,     28,2,20050201,0947, 22.7498,-158.0000,  700,     30,     30.2,  24.1745,  34.9829,2,-999.0000,5,    209.1,1, 24.1681,   -999.0,9,  -999.00,9,  -999.00,9,  -999.00,9,  -999.0,-999.000
     32WC167_1,  PRS2,     2,  1,     21,     21,3,20050201,0947, 22.7498,-158.0000,  700,     31,     30.3,  24.1815,  34.9855,2,-999.0000,5,    209.3,1, 24.1751,   -999.0,9,  -999.00,9,  -999.00,9,  -999.00,9,  -999.0,-999.000
     32WC167_1,  PRS2,     2,  1,     20,     41,3,20050201,0947, 22.7498,-158.0000,  700,     31,     30.3,  24.1807,  34.9853,2,-999.0000,5,    209.3,1, 24.1743,   -999.0,9,  -999.00,9,  -999.00,9,  -999.00,9,  -999.0,-999.000
     32WC167_1,  PRS2,     2,  1,     18,     18,2,20050201,0947, 22.7498,-158.0000,  700,     30,     30.3,  24.1765,  34.9829,2,-999.0000,5,    209.3,1, 24.1701,   -999.0,9,  -999.00,9,  -999.00,9,  -999.00,9,  -999.0,-999.000
     32WC167_1,  PRS2,     2,  1,      8,     29,2,20050201,0947, 22.7498,-158.0000,  700,     30,     30.3,  24.1743,  34.9831,2,-999.0000,5,    209.1,1, 24.1679,   -999.0,9,  -999.00,9,  -999.00,9,  -999.00,9,  -999.0,-999.000
     32WC167_1,  PRS2,     2,  1,      6,     13,2,20050201,0947, 22.7498,-158.0000,  700,     30,     30.3,  24.1754,  34.9829,2,-999.0000,5,    209.1,1, 24.1690,   -999.0,9,  -999.00,9,  -999.00,9,  -999.00,9,  -999.0,-999.000
     32WC167_1,  PRS2,     2,  1,      5,     38,2,20050201,0947, 22.7498,-158.0000,  700,     30,     30.3,  24.1754,  34.9829,2,-999.0000,5,    209.1,1, 24.1690,   -999.0,9,  -999.00,9,  -999.00,9,  -999.00,9,  -999.0,-999.000
     32WC167_1,  PRS2,     2,  1,     24,     23,2,20050201,0947, 22.7498,-158.0000,  700,     31,     30.4,  24.1764,  34.9839,2,-999.0000,5,    209.3,1, 24.1699,   -999.0,9,  -999.00,9,  -999.00,9,  -999.00,9,  -999.0,-999.000
     32WC167_1,  PRS2,     2,  1,     23,     30,3,20050201,0947, 22.7498,-158.0000,  700,     30,     30.4,  24.1805,  34.9856,2,  34.9872,2,    209.4,1, 24.1741,   -999.0,9,  -999.00,9,  -999.00,9,  -999.00,9,  -999.0,-999.000
     32WC167_1,  PRS2,     2,  1,     22,     22,2,20050201,0947, 22.7498,-158.0000,  700,     31,     30.4,  24.1817,  34.9856,2,-999.0000,5,    209.3,1, 24.1753,   -999.0,9,  -999.00,9,  -999.00,9,  -999.00,9,  -999.0,-999.000
     32WC167_1,  PRS2,     2,  1,     14,    101,2,20050201,0947, 22.7498,-158.0000,  700,     30,     30.4,  24.1761,  34.9830,2,-999.0000,5,    209.1,1, 24.1697,   -999.0,9,  -999.00,9,  -999.00,9,  -999.00,9,  -999.0,-999.000
     32WC167_1,  PRS2,     2,  1,     19,     19,2,20050201,0947, 22.7498,-158.0000,  700,     31,     30.6,  24.1781,  34.9832,2,-999.0000,5,    209.3,1, 24.1717,   -999.0,9,  -999.00,9,  -999.00,9,  -999.00,9,  -999.0,-999.000
     32WC167_1,  PRS2,     2,  1,      2,      7,2,20050201,0947, 22.7498,-158.0000,  700,    702,    700.5,   5.2745,  34.2869,2,  34.2903,2,     33.1,1,  5.2164,   -999.0,9,  -999.00,9,  -999.00,9,  -999.00,9,  -999.0,-999.000
     32WC167_1,  PRS2,     2,  1,      3,     35,2,20050201,0947, 22.7498,-158.0000,  700,    701,    700.8,   5.2724,  34.2877,2,  34.2848,2,     33.1,1,  5.2143,   -999.0,9,  -999.00,9,  -999.00,9,  -999.00,9,  -999.0,-999.000
     32WC167_1,  PRS2,     2,  1,      1,     11,2,20050201,0947, 22.7498,-158.0000,  700,    700,    701.1,   5.2723,  34.2878,2,  34.2915,2,     33.1,1,  5.2142,   -999.0,9,  -999.00,9,  -999.00,9,  -999.00,9,  -999.0,-999.000
     32WC167_1,  PRS2,     2,  2,     24,     23,2,20050201,1329, 22.7500,-158.0007, 4800,      4,      4.3,  24.1531,  35.0014,2,  34.9992,2,    209.4,2, 24.1522,    213.6,4,     0.77,2,     0.04,2,     0.01,2,  -999.0,-999.000
     32WC167_1,  PRS2,     2,  2,     23,     30,2,20050201,1329, 22.7500,-158.0007, 4800,    499,    499.6,   7.5978,  34.0733,2,  34.0786,2,    124.0,2,  7.5485,    123.0,2,    40.91,2,    27.65,2,     1.99,2,  -999.0,-999.000
     32WC167_1,  PRS2,     2,  2,     22,     22,2,20050201,1329, 22.7500,-158.0007, 4800,    753,    750.7,   5.0528,  34.3257,2,  34.3248,2,     32.7,2,  4.9916,     31.4,2,    87.10,2,    40.60,2,     2.96,2,  -999.0,-999.000
     32WC167_1,  PRS2,     2,  2,     21,     21,2,20050201,1329, 22.7500,-158.0007, 4800,   1001,   1002.6,   4.2404,  34.4752,2,  34.4760,2,     40.5,2,  4.1627,     37.0,3,    41.02,4,    27.64,4,     1.98,4,  -999.0,-999.000
     32WC167_1,  PRS2,     2,  2,     20,     41,2,20050201,1329, 22.7500,-158.0007, 4800,   1200,   1200.4,   3.6592,  34.5228,2,  34.5225,2,     50.3,2,  3.5697,     50.7,2,   116.93,2,    41.34,2,     2.99,2,  -999.0,-999.000
     32WC167_1,  PRS2,     2,  2,     19,     19,2,20050201,1329, 22.7500,-158.0007, 4800,   1403,   1400.7,   3.1013,  34.5619,2,  34.5631,2,     58.5,2,  3.0006,     58.6,2,   129.89,2,    41.05,2,     2.96,2,  -999.0,-999.000
     32WC167_1,  PRS2,     2,  2,     18,     18,2,20050201,1329, 22.7500,-158.0007, 4800,   1601,   1600.2,   2.7291,  34.5846,2,  34.5879,2,     67.9,2,  2.6161,     68.8,2,   136.13,2,    40.60,2,     2.93,2,  -999.0,-999.000
     32WC167_1,  PRS2,     2,  2,     17,     17,2,20050201,1329, 22.7500,-158.0007, 4800,   1798,   1799.8,   2.4055,  34.6057,2,  34.6064,2,     78.3,2,  2.2801,     78.5,2,   143.33,2,    40.15,2,     2.89,2,  -999.0,-999.000
     32WC167_1,  PRS2,     2,  2,     16,     34,2,20050201,1329, 22.7500,-158.0007, 4800,   2000,   2000.9,   2.1504,  34.6181,2,  34.6187,2,     86.5,2,  2.0117,     87.9,2,   151.05,2,    39.72,2,     2.85,2,  -999.0,-999.000
     32WC167_1,  PRS2,     2,  2,     15,    102,2,20050201,1329, 22.7500,-158.0007, 4800,   2204,   2201.9,   1.9576,  34.6321,2,  34.6323,2,     94.4,2,  1.8046,     95.7,2,   154.85,2,    39.08,2,     2.81,2,  -999.0,-999.000
     32WC167_1,  PRS2,     2,  2,     14,    101,2,20050201,1329, 22.7500,-158.0007, 4800,   2401,   2400.8,   1.8122,  34.6440,2,  34.6445,2,    100.9,2,  1.6443,    102.2,2,   158.20,2,    38.64,2,     2.74,2,  -999.0,-999.000
     32WC167_1,  PRS2,     2,  2,     13,     42,2,20050201,1329, 22.7500,-158.0007, 4800,   2600,   2600.6,   1.6991,  34.6534,2,  34.6545,2,    108.5,2,  1.5154,    109.2,2,   160.98,2,    38.27,2,     2.75,2,  -999.0,-999.000
     32WC167_1,  PRS2,     2,  2,     12,     12,2,20050201,1329, 22.7500,-158.0007, 4800,   2801,   2801.4,   1.6002,  34.6636,2,  34.6657,2,    117.1,2,  1.4000,    117.7,2,   160.32,2,    37.74,2,     2.70,2,  -999.0,-999.000
     32WC167_1,  PRS2,     2,  2,     11,     39,2,20050201,1329, 22.7500,-158.0007, 4800,   3001,   3001.4,   1.5550,  34.6711,2,  34.6714,2,    124.2,2,  1.3368,    125.0,2,   160.40,2,    37.22,2,     2.65,2,  -999.0,-999.000
     32WC167_1,  PRS2,     2,  2,     10,     33,2,20050201,1329, 22.7500,-158.0007, 4800,   3202,   3199.4,   1.5076,  34.6756,2,  34.6783,2,    130.2,2,  1.2714,    130.7,2,   157.52,2,    36.84,2,     2.63,2,  -999.0,-999.000
     32WC167_1,  PRS2,     2,  2,      9,      3,2,20050201,1329, 22.7500,-158.0007, 4800,   3401,   3400.3,   1.4775,  34.6796,2,  34.6798,2,    135.7,2,  1.2221,    136.1,2,   157.43,2,    36.44,2,     2.59,2,  -999.0,-999.000
     32WC167_1,  PRS2,     2,  2,      8,     29,2,20050201,1329, 22.7500,-158.0007, 4800,   3602,   3600.8,   1.4579,  34.6835,2,  34.6840,2,    141.2,2,  1.1825,    141.0,2,   154.97,2,    36.21,2,     2.57,2,  -999.0,-999.000
     32WC167_1,  PRS2,     2,  2,      7,     28,2,20050201,1329, 22.7500,-158.0007, 4800,   3801,   3800.6,   1.4524,  34.6855,2,  34.6885,2,    144.8,2,  1.1562,    138.9,4,   153.15,2,    35.90,2,     2.54,2,  -999.0,-999.000
     32WC167_1,  PRS2,     2,  2,      6,     13,2,20050201,1329, 22.7500,-158.0007, 4800,   4000,   4001.8,   1.4562,  34.6872,2,  34.6881,2,    147.6,2,  1.1383,    147.4,2,   149.35,3,    35.70,2,     2.52,2,  -999.0,-999.000
     32WC167_1,  PRS2,     2,  2,      5,     38,2,20050201,1329, 22.7500,-158.0007, 4800,   4200,   4200.1,   1.4644,  34.6885,2,  34.6916,2,    150.1,2,  1.1245,    151.5,3,   150.04,2,    35.83,2,     2.53,2,  -999.0,-999.000
     32WC167_1,  PRS2,     2,  2,      4,     36,2,20050201,1329, 22.7500,-158.0007, 4800,   4400,   4400.6,   1.4782,  34.6894,2,  34.6901,2,    151.8,2,  1.1153,    151.0,2,   150.18,2,    35.60,2,     2.51,2,  -999.0,-999.000
     32WC167_1,  PRS2,     2,  2,      3,     35,2,20050201,1329, 22.7500,-158.0007, 4800,   4502,   4501.2,   1.4844,  34.6898,2,  34.6905,2,    152.6,2,  1.1097,    151.9,2,   147.48,2,    35.56,2,     2.51,2,  -999.0,-999.000
     32WC167_1,  PRS2,     2,  2,      2,      7,2,20050201,1329, 22.7500,-158.0007, 4800,   4600,   4601.0,   1.4929,  34.6901,2,  34.6903,2,    153.3,2,  1.1064,    152.5,2,   146.83,2,    35.31,2,     2.48,2,  -999.0,-999.000
     32WC167_1,  PRS2,     2,  2,      1,     11,2,20050201,1329, 22.7500,-158.0007, 4800,   4799,   4800.1,   1.5106,  34.6904,2,  34.6930,2,    154.0,2,  1.1001,    153.3,2,   144.98,3,    35.32,2,     2.48,2,  -999.0,-999.000