BOTTLE,20090923WHPSIOMYS
EXPOCODE,SECT_ID,STNNBR,CASTNO,SAMPNO,BTLNBR,BTLNBR_FLAG_W,DATE,TIME,LATITUDE,LONGITUDE,DEPTH,CTDRAW,CTDPRS,CTDTMP,CTDSAL,CTDSAL_FLAG_W,SALNTY,SALNTY_FLAG_W,CTDOXY,CTDOXY_FLAG_W,THETA,OXYGEN,OXYGEN_FLAG_W,SILCAT,SILCAT_FLAG_W,NO2+NO3,NO2+NO3_FLAG_W,PHSPHT,PHSPHT_FLAG_W,REVPRS,REVTMP
,,,,,,,,,,,,,DBAR,ITS-90,PSS-78,,PSS-78,,UMOL/KG,,ITS-90,UMOL/KG,,UMOL/KG,,UMOL/KG,,UMOL/KG,,DBAR,DEG C
     32WC167_1,  PRS2,     2, 11,     14,    101,2,20050202,1846, 22.7677,-158.0102, 1020,      5,      4.8,  24.0192,  35.0051,2,  35.0024,2,    208.7,1, 24.0182,   -999.0,9,  -999.00,9,  -999.00,9,  -999.00,9,  -999.0,-999.000
     32WC167_1,  PRS2,     2, 11,     13,     42,2,20050202,1846, 22.7677,-158.0102, 1020,     25,     25.2,  24.0244,  35.0053,2,  35.0092,2,    208.7,1, 24.0191,   -999.0,9,  -999.00,9,  -999.00,9,  -999.00,9,  -999.0,-999.000
     32WC167_1,  PRS2,     2, 11,     12,     12,3,20050202,1846, 22.7677,-158.0102, 1020,     46,     44.9,  24.0288,  35.0061,2,  35.0045,2,    208.7,1, 24.0193,   -999.0,9,  -999.00,9,  -999.00,9,  -999.00,9,  -999.0,-999.000
     32WC167_1,  PRS2,     2, 11,     11,     39,2,20050202,1846, 22.7677,-158.0102, 1020,     71,     73.7,  23.9164,  35.0799,2,  35.0803,2,    206.9,1, 23.9010,   -999.0,9,  -999.00,9,  -999.00,9,  -999.00,9,  -999.0,-999.000
     32WC167_1,  PRS2,     2, 11,     10,     33,2,20050202,1846, 22.7677,-158.0102, 1020,    103,    101.6,  23.0589,  35.2041,2,  35.2008,2,    201.5,1, 23.0381,   -999.0,9,  -999.00,9,  -999.00,9,  -999.00,9,  -999.0,-999.000
     32WC167_1,  PRS2,     2, 11,      9,      3,2,20050202,1846, 22.7677,-158.0102, 1020,    123,    123.6,  22.8181,  35.2438,2,  35.2461,2,    204.7,1, 22.7930,   -999.0,9,  -999.00,9,  -999.00,9,  -999.00,9,  -999.0,-999.000
     32WC167_1,  PRS2,     2, 11,      8,     29,2,20050202,1846, 22.7677,-158.0102, 1020,    150,    149.0,  21.2276,  35.1905,2,  35.1890,2,    191.8,1, 21.1989,   -999.0,9,  -999.00,9,  -999.00,9,  -999.00,9,  -999.0,-999.000
     32WC167_1,  PRS2,     2, 11,      7,     28,3,20050202,1846, 22.7677,-158.0102, 1020,    176,    175.2,  20.0740,  35.1044,2,  35.1065,2,    189.9,1, 20.0415,   -999.0,9,  -999.00,9,  -999.00,9,  -999.00,9,  -999.0,-999.000
     32WC167_1,  PRS2,     2, 11,      6,     13,3,20050202,1846, 22.7677,-158.0102, 1020,    201,    200.0,  18.9652,  34.9808,2,  34.9734,2,    194.9,1, 18.9295,   -999.0,9,  -999.00,9,  -999.00,9,  -999.00,9,  -999.0,-999.000
     32WC167_1,  PRS2,     2, 11,      5,     38,2,20050202,1846, 22.7677,-158.0102, 1020,    252,    252.1,  15.4489,  34.5300,2,  34.5362,2,    204.8,1, 15.4101,   -999.0,9,  -999.00,9,  -999.00,9,  -999.00,9,  -999.0,-999.000
     32WC167_1,  PRS2,     2, 11,      4,     36,2,20050202,1846, 22.7677,-158.0102, 1020,    351,    350.3,  11.3472,  34.1925,2,  34.1928,2,    206.5,1, 11.3032,   -999.0,9,  -999.00,9,  -999.00,9,  -999.00,9,  -999.0,-999.000
     32WC167_1,  PRS2,     2, 11,      3,     35,2,20050202,1846, 22.7677,-158.0102, 1020,    351,    350.4,  11.3464,  34.1924,2,  34.1917,2,    206.0,1, 11.3024,   -999.0,9,  -999.00,9,  -999.00,9,  -999.00,9,  -999.0,-999.000
     32WC167_1,  PRS2,     2, 11,      2,      7,2,20050202,1846, 22.7677,-158.0102, 1020,    454,    451.7,   8.3185,  34.0682,2,  34.0676,2,    158.2,1,  8.2716,   -999.0,9,  -999.00,9,  -999.00,9,  -999.00,9,  -999.0,-999.000
     32WC167_1,  PRS2,     2, 11,      1,     11,2,20050202,1846, 22.7677,-158.0102, 1020,   1022,   1019.0,   4.2615,  34.4697,2,  34.4720,2,     44.3,1,  4.1823,   -999.0,9,  -999.00,9,  -999.00,9,  -999.00,9,  -999.0,-999.000
     32WC167_1,  PRS2,     2, 12,     24,     23,2,20050202,2126, 22.7532,-157.9978,  175,      5,      4.4,  24.0076,  35.0099,2,-999.0000,5,    209.3,1, 24.0066,   -999.0,9,  -999.00,9,  -999.00,9,  -999.00,9,  -999.0,-999.000
     32WC167_1,  PRS2,     2, 12,     23,     30,3,20050202,2126, 22.7532,-157.9978,  175,      4,      4.5,  24.0081,  35.0096,2,-999.0000,5,    209.2,1, 24.0071,   -999.0,9,  -999.00,9,  -999.00,9,  -999.00,9,  -999.0,-999.000
     32WC167_1,  PRS2,     2, 12,     22,     22,2,20050202,2126, 22.7532,-157.9978,  175,      5,      4.5,  24.0081,  35.0096,2,-999.0000,5,    209.1,1, 24.0071,   -999.0,9,  -999.00,9,  -999.00,9,  -999.00,9,  -999.0,-999.000
     32WC167_1,  PRS2,     2, 12,     21,     21,2,20050202,2126, 22.7532,-157.9978,  175,      4,      4.5,  24.0085,  35.0096,2,-999.0000,5,    209.1,1, 24.0076,   -999.0,9,  -999.00,9,  -999.00,9,  -999.00,9,  -999.0,-999.000
     32WC167_1,  PRS2,     2, 12,     20,     41,2,20050202,2126, 22.7532,-157.9978,  175,      4,      4.6,  24.0097,  35.0097,2,  35.0079,2,    209.3,1, 24.0087,   -999.0,9,  -999.00,9,  -999.00,9,  -999.00,9,  -999.0,-999.000
     32WC167_1,  PRS2,     2, 12,     18,     18,3,20050202,2126, 22.7532,-157.9978,  175,      5,      4.6,  24.0101,  35.0096,2,-999.0000,5,    209.3,1, 24.0091,   -999.0,9,  -999.00,9,  -999.00,9,  -999.00,9,  -999.0,-999.000
     32WC167_1,  PRS2,     2, 12,     19,     19,2,20050202,2126, 22.7532,-157.9978,  175,      5,      4.7,  24.0103,  35.0097,2,-999.0000,5,    209.3,1, 24.0093,   -999.0,9,  -999.00,9,  -999.00,9,  -999.00,9,  -999.0,-999.000
     32WC167_1,  PRS2,     2, 12,     15,    102,2,20050202,2126, 22.7532,-157.9978,  175,     23,     24.8,  24.0156,  35.0113,2,  35.0124,2,    209.2,1, 24.0104,   -999.0,9,  -999.00,9,  -999.00,9,  -999.00,9,  -999.0,-999.000
     32WC167_1,  PRS2,     2, 12,     17,     17,2,20050202,2126, 22.7532,-157.9978,  175,     25,     24.9,  24.0159,  35.0105,2,-999.0000,5,    209.2,1, 24.0106,   -999.0,9,  -999.00,9,  -999.00,9,  -999.00,9,  -999.0,-999.000
     32WC167_1,  PRS2,     2, 12,     16,     34,2,20050202,2126, 22.7532,-157.9978,  175,     26,     24.9,  24.0160,  35.0112,2,-999.0000,5,    209.2,1, 24.0107,   -999.0,9,  -999.00,9,  -999.00,9,  -999.00,9,  -999.0,-999.000
     32WC167_1,  PRS2,     2, 12,     14,    101,2,20050202,2126, 22.7532,-157.9978,  175,     44,     45.0,  24.0195,  35.0101,2,-999.0000,5,    209.2,1, 24.0100,   -999.0,9,  -999.00,9,  -999.00,9,  -999.00,9,  -999.0,-999.000
     32WC167_1,  PRS2,     2, 12,     13,     42,2,20050202,2126, 22.7532,-157.9978,  175,     44,     45.0,  24.0197,  35.0106,2,-999.0000,5,    209.2,1, 24.0103,   -999.0,9,  -999.00,9,  -999.00,9,  -999.00,9,  -999.0,-999.000
     32WC167_1,  PRS2,     2, 12,     12,     12,2,20050202,2126, 22.7532,-157.9978,  175,     44,     45.0,  24.0192,  35.0109,2,  35.0220,3,    209.1,1, 24.0098,   -999.0,9,  -999.00,9,  -999.00,9,  -999.00,9,  -999.0,-999.000
     32WC167_1,  PRS2,     2, 12,     11,     39,2,20050202,2126, 22.7532,-157.9978,  175,     76,     75.1,  23.9626,  35.0815,2,-999.0000,5,    206.2,1, 23.9468,   -999.0,9,  -999.00,9,  -999.00,9,  -999.00,9,  -999.0,-999.000
     32WC167_1,  PRS2,     2, 12,     10,     33,2,20050202,2126, 22.7532,-157.9978,  175,     76,     75.3,  23.9623,  35.0816,2,-999.0000,5,    206.1,1, 23.9465,   -999.0,9,  -999.00,9,  -999.00,9,  -999.00,9,  -999.0,-999.000
     32WC167_1,  PRS2,     2, 12,      9,      3,2,20050202,2126, 22.7532,-157.9978,  175,     76,     75.3,  23.9622,  35.0814,2,  35.0821,2,    205.9,1, 23.9464,   -999.0,9,  -999.00,9,  -999.00,9,  -999.00,9,  -999.0,-999.000
     32WC167_1,  PRS2,     2, 12,      8,     29,3,20050202,2126, 22.7532,-157.9978,  175,    101,    100.5,  23.1258,  35.2014,2,-999.0000,5,    201.2,1, 23.1052,   -999.0,9,  -999.00,9,  -999.00,9,  -999.00,9,  -999.0,-999.000
     32WC167_1,  PRS2,     2, 12,      7,     28,2,20050202,2126, 22.7532,-157.9978,  175,    100,    100.6,  23.1081,  35.2033,2,-999.0000,5,    201.8,1, 23.0875,   -999.0,9,  -999.00,9,  -999.00,9,  -999.00,9,  -999.0,-999.000
     32WC167_1,  PRS2,     2, 12,      6,     13,2,20050202,2126, 22.7532,-157.9978,  175,    100,    100.6,  23.0949,  35.2054,2,  35.2056,2,    202.2,1, 23.0743,   -999.0,9,  -999.00,9,  -999.00,9,  -999.00,9,  -999.0,-999.000
     32WC167_1,  PRS2,     2, 12,      3,     35,2,20050202,2126, 22.7532,-157.9978,  175,    126,    127.1,  21.6135,  35.2125,2,  35.2138,2,    194.7,1, 21.5887,   -999.0,9,  -999.00,9,  -999.00,9,  -999.00,9,  -999.0,-999.000
     32WC167_1,  PRS2,     2, 12,      5,     38,3,20050202,2126, 22.7532,-157.9978,  175,    125,    127.3,  21.5899,  35.2092,2,-999.0000,5,    195.4,1, 21.5650,   -999.0,9,  -999.00,9,  -999.00,9,  -999.00,9,  -999.0,-999.000
     32WC167_1,  PRS2,     2, 12,      4,     36,2,20050202,2126, 22.7532,-157.9978,  175,    127,    127.4,  21.5976,  35.2108,2,-999.0000,5,    195.2,1, 21.5727,   -999.0,9,  -999.00,9,  -999.00,9,  -999.00,9,  -999.0,-999.000
     32WC167_1,  PRS2,     2, 12,      2,      7,2,20050202,2126, 22.7532,-157.9978,  175,    150,    150.3,  20.4335,  35.1469,2,  35.1500,2,    191.7,1, 20.4052,   -999.0,9,  -999.00,9,  -999.00,9,  -999.00,9,  -999.0,-999.000
     32WC167_1,  PRS2,     2, 12,      1,     11,2,20050202,2126, 22.7532,-157.9978,  175,    175,    175.6,  19.7229,  35.0623,2,  35.0734,2,    189.7,1, 19.6907,   -999.0,9,  -999.00,9,  -999.00,9,  -999.00,9,  -999.0,-999.000
     32WC167_1,  PRS2,     2, 13,     17,     17,2,20050203,0006, 22.7485,-157.9902, 1020,      3,      4.8,  24.0141,  35.0112,2,  35.0096,2,    209.0,1, 24.0131,   -999.0,9,  -999.00,9,  -999.00,9,  -999.00,9,  -999.0,-999.000
     32WC167_1,  PRS2,     2, 13,     18,     18,2,20050203,0006, 22.7485,-157.9902, 1020,      5,      4.9,  24.0137,  35.0111,2,-999.0000,5,    209.0,1, 24.0127,   -999.0,9,  -999.00,9,  -999.00,9,  -999.00,9,  -999.0,-999.000
     32WC167_1,  PRS2,     2, 13,     16,     34,2,20050203,0006, 22.7485,-157.9902, 1020,     26,     24.9,  24.0187,  35.0109,2,  35.0163,2,    209.1,1, 24.0135,   -999.0,9,  -999.00,9,  -999.00,9,  -999.00,9,  -999.0,-999.000
     32WC167_1,  PRS2,     2, 13,     15,    102,2,20050203,0006, 22.7485,-157.9902, 1020,     46,     45.0,  24.0200,  35.0115,2,-999.0000,5,    209.2,1, 24.0105,   -999.0,9,  -999.00,9,  -999.00,9,  -999.00,9,  -999.0,-999.000
     32WC167_1,  PRS2,     2, 13,     14,    101,2,20050203,0006, 22.7485,-157.9902, 1020,     46,     45.1,  24.0197,  35.0118,2,  35.0102,2,    209.2,1, 24.0102,   -999.0,9,  -999.00,9,  -999.00,9,  -999.00,9,  -999.0,-999.000
     32WC167_1,  PRS2,     2, 13,     12,     12,2,20050203,0006, 22.7485,-157.9902, 1020,     74,     75.0,  23.8584,  35.0971,2,  35.0864,2,    206.5,1, 23.8427,   -999.0,9,  -999.00,9,  -999.00,9,  -999.00,9,  -999.0,-999.000
     32WC167_1,  PRS2,     2, 13,     13,     42,2,20050203,0006, 22.7485,-157.9902, 1020,     75,     75.1,  23.8651,  35.0947,2,-999.0000,5,    206.9,1, 23.8493,   -999.0,9,  -999.00,9,  -999.00,9,  -999.00,9,  -999.0,-999.000
     32WC167_1,  PRS2,     2, 13,     11,     39,2,20050203,0006, 22.7485,-157.9902, 1020,    103,    102.8,  22.5112,  35.2571,2,  35.2588,2,    203.1,1, 22.4906,   -999.0,9,  -999.00,9,  -999.00,9,  -999.00,9,  -999.0,-999.000
     32WC167_1,  PRS2,     2, 13,      9,      3,2,20050203,0006, 22.7485,-157.9902, 1020,    125,    125.9,  20.9519,  35.1921,2,  35.2128,3,    190.0,1, 20.9278,   -999.0,9,  -999.00,9,  -999.00,9,  -999.00,9,  -999.0,-999.000
     32WC167_1,  PRS2,     2, 13,     10,     33,2,20050203,0006, 22.7485,-157.9902, 1020,    126,    126.0,  20.9390,  35.1886,2,-999.0000,5,    190.0,1, 20.9149,   -999.0,9,  -999.00,9,  -999.00,9,  -999.00,9,  -999.0,-999.000
     32WC167_1,  PRS2,     2, 13,      8,     29,2,20050203,0006, 22.7485,-157.9902, 1020,    150,    150.7,  19.7550,  35.0701,2,  35.0677,2,    190.5,1, 19.7274,   -999.0,9,  -999.00,9,  -999.00,9,  -999.00,9,  -999.0,-999.000
     32WC167_1,  PRS2,     2, 13,      7,     28,2,20050203,0006, 22.7485,-157.9902, 1020,    175,    175.2,  18.8208,  34.9701,2,  34.9724,2,    198.0,1, 18.7898,   -999.0,9,  -999.00,9,  -999.00,9,  -999.00,9,  -999.0,-999.000
     32WC167_1,  PRS2,     2, 13,      6,     13,2,20050203,0006, 22.7485,-157.9902, 1020,    200,    199.1,  17.6481,  34.8145,2,  34.8228,2,    200.9,1, 17.6145,   -999.0,9,  -999.00,9,  -999.00,9,  -999.00,9,  -999.0,-999.000
     32WC167_1,  PRS2,     2, 13,      5,     38,2,20050203,0006, 22.7485,-157.9902, 1020,    250,    249.6,  15.0600,  34.4873,2,  34.4858,2,    206.2,1, 15.0222,   -999.0,9,  -999.00,9,  -999.00,9,  -999.00,9,  -999.0,-999.000
     32WC167_1,  PRS2,     2, 13,      4,     36,2,20050203,0006, 22.7485,-157.9902, 1020,    350,    350.7,  11.2521,  34.1913,2,  34.1913,2,    206.2,1, 11.2084,   -999.0,9,  -999.00,9,  -999.00,9,  -999.00,9,  -999.0,-999.000
     32WC167_1,  PRS2,     2, 13,      3,     35,2,20050203,0006, 22.7485,-157.9902, 1020,    350,    350.7,  11.2552,  34.1911,2,  34.1903,2,    206.0,1, 11.2114,   -999.0,9,  -999.00,9,  -999.00,9,  -999.00,9,  -999.0,-999.000
     32WC167_1,  PRS2,     2, 13,      2,      7,2,20050203,0006, 22.7485,-157.9902, 1020,    450,    448.7,   8.6558,  34.0868,2,  34.0850,2,    157.3,1,  8.6080,   -999.0,9,  -999.00,9,  -999.00,9,  -999.00,9,  -999.0,-999.000
     32WC167_1,  PRS2,     2, 13,      1,     11,2,20050203,0006, 22.7485,-157.9902, 1020,   1021,   1020.4,   4.0530,  34.4778,2,  34.4773,2,     43.5,1,  3.9753,   -999.0,9,  -999.00,9,  -999.00,9,  -999.00,9,  -999.0,-999.000
     32WC167_1,  PRS2,     2, 14,      4,     36,3,20050203,0300, 22.7302,-157.9817, 1020,      6,      5.2,  24.0147,  35.0121,2,  35.0102,2,    209.2,1, 24.0136,   -999.0,9,  -999.00,9,  -999.00,9,  -999.00,9,  -999.0,-999.000
     32WC167_1,  PRS2,     2, 14,      3,     35,2,20050203,0300, 22.7302,-157.9817, 1020,    121,    120.4,  21.9905,  35.2332,2,  35.2306,2,    198.2,1, 21.9667,   -999.0,9,  -999.00,9,  -999.00,9,  -999.00,9,  -999.0,-999.000
     32WC167_1,  PRS2,     2, 14,      2,      7,2,20050203,0300, 22.7302,-157.9817, 1020,    501,    501.7,   7.0488,  34.0323,2,  34.0327,2,    121.9,1,  7.0014,   -999.0,9,  -999.00,9,  -999.00,9,  -999.00,9,  -999.0,-999.000
     32WC167_1,  PRS2,     2, 14,      1,     11,2,20050203,0300, 22.7302,-157.9817, 1020,   1018,   1019.7,   4.1234,  34.4806,2,  34.4805,2,     44.5,1,  4.0452,   -999.0,9,  -999.00,9,  -999.00,9,  -999.00,9,  -999.0,-999.000
     32WC167_1,  PRS2,     2, 15,     12,     12,2,20050203,0553, 22.7498,-157.9997, 1020,      6,      5.8,  23.9376,  35.0056,2,  35.0169,3,    209.5,1, 23.9364,   -999.0,9,  -999.00,9,  -999.00,9,  -999.00,9,  -999.0,-999.000
     32WC167_1,  PRS2,     2, 15,     11,     39,2,20050203,0553, 22.7498,-157.9997, 1020,      5,      5.8,  23.9370,  35.0053,2,  35.0063,2,    209.5,1, 23.9357,   -999.0,9,  -999.00,9,  -999.00,9,  -999.00,9,  -999.0,-999.000
     32WC167_1,  PRS2,     2, 15,     10,     33,2,20050203,0553, 22.7498,-157.9997, 1020,     26,     25.5,  23.9555,  35.0127,2,  35.0108,2,    209.8,1, 23.9501,   -999.0,9,  -999.00,9,  -999.00,9,  -999.00,9,  -999.0,-999.000
     32WC167_1,  PRS2,     2, 15,      9,      3,2,20050203,0553, 22.7498,-157.9997, 1020,     46,     44.8,  23.8603,  35.0308,2,  35.0362,2,    209.7,1, 23.8510,   -999.0,9,  -999.00,9,  -999.00,9,  -999.00,9,  -999.0,-999.000
     32WC167_1,  PRS2,     2, 15,      8,     29,3,20050203,0553, 22.7498,-157.9997, 1020,     75,     74.4,  23.2940,  35.2312,2,  35.2274,2,    211.0,1, 23.2786,   -999.0,9,  -999.00,9,  -999.00,9,  -999.00,9,  -999.0,-999.000
     32WC167_1,  PRS2,     2, 15,      7,     28,2,20050203,0553, 22.7498,-157.9997, 1020,    102,    100.8,  22.7619,  35.2443,2,  35.2424,2,    203.8,1, 22.7414,   -999.0,9,  -999.00,9,  -999.00,9,  -999.00,9,  -999.0,-999.000
     32WC167_1,  PRS2,     2, 15,      6,     13,2,20050203,0553, 22.7498,-157.9997, 1020,    117,    115.6,  21.8931,  35.2338,2,  35.2385,2,    195.6,1, 21.8703,   -999.0,9,  -999.00,9,  -999.00,9,  -999.00,9,  -999.0,-999.000
     32WC167_1,  PRS2,     2, 15,      5,     38,2,20050203,0553, 22.7498,-157.9997, 1020,    126,    125.7,  21.4041,  35.2048,2,-999.0000,5,    191.0,1, 21.3797,   -999.0,9,  -999.00,9,  -999.00,9,  -999.00,9,  -999.0,-999.000
     32WC167_1,  PRS2,     2, 15,      4,     36,2,20050203,0553, 22.7498,-157.9997, 1020,    150,    149.3,  20.2264,  35.1250,2,  35.1293,2,    190.3,1, 20.1986,   -999.0,9,  -999.00,9,  -999.00,9,  -999.00,9,  -999.0,-999.000
     32WC167_1,  PRS2,     2, 15,      3,     35,2,20050203,0553, 22.7498,-157.9997, 1020,    173,    174.3,  18.5842,  34.9365,2,  34.9364,2,    199.2,1, 18.5537,   -999.0,9,  -999.00,9,  -999.00,9,  -999.00,9,  -999.0,-999.000
     32WC167_1,  PRS2,     2, 15,      2,      7,2,20050203,0553, 22.7498,-157.9997, 1020,    502,    501.0,   6.9053,  34.0439,2,  34.0441,2,    108.8,1,  6.8585,   -999.0,9,  -999.00,9,  -999.00,9,  -999.00,9,  -999.0,-999.000
     32WC167_1,  PRS2,     2, 15,      1,     11,2,20050203,0553, 22.7498,-157.9997, 1020,   1020,   1019.3,   4.2462,  34.4713,2,  34.4730,2,     44.8,1,  4.1670,   -999.0,9,  -999.00,9,  -999.00,9,  -999.00,9,  -999.0,-999.000