BOTTLE,20090923WHPSIOMYS
EXPOCODE,SECT_ID,STNNBR,CASTNO,SAMPNO,BTLNBR,BTLNBR_FLAG_W,DATE,TIME,LATITUDE,LONGITUDE,DEPTH,CTDRAW,CTDPRS,CTDTMP,CTDSAL,CTDSAL_FLAG_W,SALNTY,SALNTY_FLAG_W,CTDOXY,CTDOXY_FLAG_W,THETA,OXYGEN,OXYGEN_FLAG_W,SILCAT,SILCAT_FLAG_W,NO2+NO3,NO2+NO3_FLAG_W,PHSPHT,PHSPHT_FLAG_W,REVPRS,REVTMP
,,,,,,,,,,,,,DBAR,ITS-90,PSS-78,,PSS-78,,UMOL/KG,,ITS-90,UMOL/KG,,UMOL/KG,,UMOL/KG,,UMOL/KG,,DBAR,DEG C
     32WC167_1,  PRS2,     2,  3,     24,     23,2,20050201,1900, 22.7497,-157.9993, 1020,      5,      4.6,  24.1570,  35.0016,2,  35.0031,2,    209.4,2, 24.1561,    209.0,2,     0.94,2,     0.06,2,     0.02,2,  -999.0,-999.000
     32WC167_1,  PRS2,     2,  3,     23,     30,2,20050201,1900, 22.7497,-157.9993, 1020,     44,     43.2,  24.1622,  35.0020,2,  35.0024,2,    209.7,2, 24.1531,    208.6,2,     0.91,2,     0.05,2,     0.02,2,  -999.0,-999.000
     32WC167_1,  PRS2,     2,  3,     22,     22,3,20050201,1900, 22.7497,-157.9993, 1020,     83,     81.9,  23.8289,  35.1078,2,  35.1083,2,    204.7,2, 23.8118,    204.4,2,     1.09,2,     0.08,2,     0.03,2,  -999.0,-999.000
     32WC167_1,  PRS2,     2,  3,     21,     21,3,20050201,1900, 22.7497,-157.9993, 1020,    141,    139.8,  21.9335,  35.2408,2,  35.2398,2,    198.7,2, 21.9059,    198.0,2,     1.54,2,     0.96,3,     0.08,2,  -999.0,-999.000
     32WC167_1,  PRS2,     2,  3,     20,     41,3,20050201,1900, 22.7497,-157.9993, 1020,    202,    202.4,  19.2983,  35.0142,2,  35.0108,2,    192.2,2, 19.2618,    191.9,2,     2.44,2,     2.47,2,     0.19,2,  -999.0,-999.000
     32WC167_1,  PRS2,     2,  3,     19,     19,2,20050201,1900, 22.7497,-157.9993, 1020,    253,    252.6,  15.9044,  34.5850,2,  34.5818,2,    204.7,2, 15.8647,    204.4,2,     4.52,2,     4.49,2,     0.25,4,  -999.0,-999.000
     32WC167_1,  PRS2,     2,  3,     18,     18,2,20050201,1900, 22.7497,-157.9993, 1020,    295,    296.2,  14.1659,  34.4120,2,  34.4088,2,    210.3,2, 14.1229,    210.8,2,     6.70,2,     6.82,2,     0.42,4,  -999.0,-999.000
     32WC167_1,  PRS2,     2,  3,     17,     17,2,20050201,1900, 22.7497,-157.9993, 1020,    340,    340.1,  12.1863,  34.2451,2,  34.2464,2,    209.0,2, 12.1416,    210.7,2,    10.50,2,    10.40,2,     0.64,4,  -999.0,-999.000
     32WC167_1,  PRS2,     2,  3,     16,     34,2,20050201,1900, 22.7497,-157.9993, 1020,    386,    386.3,  10.3412,  34.1223,2,  34.1225,2,    190.0,2, 10.2954,    189.5,2,    17.34,2,    15.80,2,     1.05,2,  -999.0,-999.000
     32WC167_1,  PRS2,     2,  3,     15,    102,2,20050201,1900, 22.7497,-157.9993, 1020,    421,    420.9,   9.5912,  34.1240,2,  34.1238,2,    188.7,2,  9.5436,    187.9,2,    22.35,2,    18.13,2,     1.18,2,  -999.0,-999.000
     32WC167_1,  PRS2,     2,  3,     14,    101,2,20050201,1900, 22.7497,-157.9993, 1020,    453,    454.8,   8.8581,  34.0991,2,  34.1021,2,    174.6,2,  8.8090,    173.2,2,    27.59,2,    20.71,2,     1.41,2,  -999.0,-999.000
     32WC167_1,  PRS2,     2,  3,     13,     42,2,20050201,1900, 22.7497,-157.9993, 1020,    516,    514.7,   7.3516,  34.0915,2,  34.0915,2,    109.2,2,  7.3016,    107.6,2,    45.59,2,    29.59,2,     2.17,2,  -999.0,-999.000
     32WC167_1,  PRS2,     2,  3,     12,     12,2,20050201,1900, 22.7497,-157.9993, 1020,    540,    540.3,   6.8976,  34.1151,2,  34.1144,2,     84.1,2,  6.8469,     84.3,2,    52.55,2,    32.23,2,     2.35,2,  -999.0,-999.000
     32WC167_1,  PRS2,     2,  3,     11,     39,2,20050201,1900, 22.7497,-157.9993, 1020,    584,    582.0,   6.1732,  34.1507,2,  34.1509,2,     59.6,2,  6.1216,     60.4,2,    64.70,2,    35.58,2,     2.64,2,  -999.0,-999.000
     32WC167_1,  PRS2,     2,  3,     10,     33,2,20050201,1900, 22.7497,-157.9993, 1020,    620,    619.2,   5.8273,  34.1972,2,  34.1954,2,     46.9,2,  5.7738,     46.8,2,    70.95,2,    37.42,2,     2.70,2,  -999.0,-999.000
     32WC167_1,  PRS2,     2,  3,      9,      3,2,20050201,1900, 22.7497,-157.9993, 1020,    669,    670.2,   5.4200,  34.2746,2,  34.2742,2,     36.9,2,  5.3638,     36.6,2,    82.87,2,    39.30,2,     2.59,4,  -999.0,-999.000
     32WC167_1,  PRS2,     2,  3,      8,     29,2,20050201,1900, 22.7497,-157.9993, 1020,    713,    711.5,   5.1895,  34.3069,2,  34.3062,2,     32.2,2,  5.1309,     31.4,2,    84.02,2,    40.18,2,     2.97,2,  -999.0,-999.000
     32WC167_1,  PRS2,     2,  3,      7,     28,2,20050201,1900, 22.7497,-157.9993, 1020,    752,    751.2,   4.9955,  34.3369,2,  34.3374,2,     32.2,2,  4.9345,     31.5,2,    89.28,2,    40.45,2,     2.98,2,  -999.0,-999.000
     32WC167_1,  PRS2,     2,  3,      6,     13,2,20050201,1900, 22.7497,-157.9993, 1020,    801,    800.0,   4.8515,  34.3890,2,  34.3923,2,     33.5,2,  4.7871,     31.9,2,    89.03,2,    41.01,2,     3.00,2,  -999.0,-999.000
     32WC167_1,  PRS2,     2,  3,      5,     38,2,20050201,1900, 22.7497,-157.9993, 1020,    848,    847.6,   4.6897,  34.4253,2,  34.4249,2,     32.6,2,  4.6221,     31.4,2,    95.08,2,    41.43,2,     3.04,2,  -999.0,-999.000
     32WC167_1,  PRS2,     2,  3,      4,     36,2,20050201,1900, 22.7497,-157.9993, 1020,    891,    891.2,   4.5309,  34.4403,2,  34.4412,2,     37.5,2,  4.4606,     37.3,2,    96.37,2,    41.20,2,     2.95,3,  -999.0,-999.000
     32WC167_1,  PRS2,     2,  3,      3,     35,2,20050201,1900, 22.7497,-157.9993, 1020,    934,    933.4,   4.4558,  34.4558,2,  34.4555,2,     36.8,2,  4.3825,     36.5,2,   101.43,2,    41.66,2,     3.04,2,  -999.0,-999.000
     32WC167_1,  PRS2,     2,  3,      2,      7,2,20050201,1900, 22.7497,-157.9993, 1020,    977,    977.2,   4.3121,  34.4675,2,  34.4673,2,     38.8,2,  4.2360,     40.3,2,    99.51,2,    41.65,2,     2.94,3,  -999.0,-999.000
     32WC167_1,  PRS2,     2,  3,      1,     11,2,20050201,1900, 22.7497,-157.9993, 1020,   1019,   1019.6,   4.1804,  34.4821,2,  34.4856,2,     41.4,2,  4.1017,     41.4,2,   105.08,2,    41.53,2,     3.01,2,  -999.0,-999.000
     32WC167_1,  PRS2,     2,  4,     14,    101,2,20050201,2129, 22.7498,-157.9998, 1020,      5,      5.2,  24.1400,  34.9867,2,  34.9878,2,    208.7,1, 24.1388,   -999.0,9,  -999.00,9,  -999.00,9,  -999.00,9,  -999.0,-999.000
     32WC167_1,  PRS2,     2,  4,     20,     41,3,20050201,2129, 22.7498,-157.9998, 1020,      6,      5.3,  24.1405,  34.9880,2,-999.0000,5,    208.7,1, 24.1394,   -999.0,9,  -999.00,9,  -999.00,9,  -999.00,9,  -999.0,-999.000
     32WC167_1,  PRS2,     2,  4,     19,     19,2,20050201,2129, 22.7498,-157.9998, 1020,      6,      5.3,  24.1407,  34.9880,2,-999.0000,5,    208.7,1, 24.1396,   -999.0,9,  -999.00,9,  -999.00,9,  -999.00,9,  -999.0,-999.000
     32WC167_1,  PRS2,     2,  4,     16,     34,2,20050201,2129, 22.7498,-157.9998, 1020,      5,      5.3,  24.1411,  34.9875,2,-999.0000,5,    208.8,1, 24.1400,   -999.0,9,  -999.00,9,  -999.00,9,  -999.00,9,  -999.0,-999.000
     32WC167_1,  PRS2,     2,  4,     18,     18,3,20050201,2129, 22.7498,-157.9998, 1020,      6,      5.4,  24.1411,  34.9879,2,-999.0000,5,    208.7,1, 24.1400,   -999.0,9,  -999.00,9,  -999.00,9,  -999.00,9,  -999.0,-999.000
     32WC167_1,  PRS2,     2,  4,     15,    102,2,20050201,2129, 22.7498,-157.9998, 1020,      6,      5.4,  24.1406,  34.9870,2,-999.0000,5,    208.8,1, 24.1394,   -999.0,9,  -999.00,9,  -999.00,9,  -999.00,9,  -999.0,-999.000
     32WC167_1,  PRS2,     2,  4,     17,     17,3,20050201,2129, 22.7498,-157.9998, 1020,      5,      5.5,  24.1413,  34.9877,2,-999.0000,5,    208.7,1, 24.1402,   -999.0,9,  -999.00,9,  -999.00,9,  -999.00,9,  -999.0,-999.000
     32WC167_1,  PRS2,     2,  4,     13,     42,2,20050201,2129, 22.7498,-157.9998, 1020,     25,     24.9,  24.1534,  34.9973,2,  34.9945,2,    208.6,1, 24.1482,   -999.0,9,  -999.00,9,  -999.00,9,  -999.00,9,  -999.0,-999.000
     32WC167_1,  PRS2,     2,  4,     12,     12,2,20050201,2129, 22.7498,-157.9998, 1020,     44,     44.9,  24.1562,  34.9982,2,  34.9953,2,    208.2,1, 24.1467,   -999.0,9,  -999.00,9,  -999.00,9,  -999.00,9,  -999.0,-999.000
     32WC167_1,  PRS2,     2,  4,     11,     39,2,20050201,2129, 22.7498,-157.9998, 1020,     60,     59.6,  24.1418,  35.0185,2,  35.0114,2,    208.0,1, 24.1292,   -999.0,9,  -999.00,9,  -999.00,9,  -999.00,9,  -999.0,-999.000
     32WC167_1,  PRS2,     2,  4,     10,     33,2,20050201,2129, 22.7498,-157.9998, 1020,     74,     74.9,  23.7889,  35.1020,2,  35.0927,2,    203.4,1, 23.7732,   -999.0,9,  -999.00,9,  -999.00,9,  -999.00,9,  -999.0,-999.000
     32WC167_1,  PRS2,     2,  4,      9,      3,2,20050201,2129, 22.7498,-157.9998, 1020,     85,     84.7,  23.5437,  35.1639,2,  35.1630,2,    199.9,1, 23.5261,   -999.0,9,  -999.00,9,  -999.00,9,  -999.00,9,  -999.0,-999.000
     32WC167_1,  PRS2,     2,  4,      8,     29,2,20050201,2129, 22.7498,-157.9998, 1020,    100,    100.0,  23.1724,  35.2200,2,  35.2180,2,    208.6,1, 23.1519,   -999.0,9,  -999.00,9,  -999.00,9,  -999.00,9,  -999.0,-999.000
     32WC167_1,  PRS2,     2,  4,      7,     28,2,20050201,2129, 22.7498,-157.9998, 1020,    116,    114.9,  22.7450,  35.2431,2,  35.2432,2,    201.4,1, 22.7217,   -999.0,9,  -999.00,9,  -999.00,9,  -999.00,9,  -999.0,-999.000
     32WC167_1,  PRS2,     2,  4,      6,     13,2,20050201,2129, 22.7498,-157.9998, 1020,    125,    125.1,  21.9762,  35.2644,2,  35.2633,2,    197.5,1, 21.9515,   -999.0,9,  -999.00,9,  -999.00,9,  -999.00,9,  -999.0,-999.000
     32WC167_1,  PRS2,     2,  4,      5,     38,2,20050201,2129, 22.7498,-157.9998, 1020,    150,    151.4,  20.9491,  35.1716,2,  35.1689,2,    187.4,1, 20.9202,   -999.0,9,  -999.00,9,  -999.00,9,  -999.00,9,  -999.0,-999.000
     32WC167_1,  PRS2,     2,  4,      4,     36,2,20050201,2129, 22.7498,-157.9998, 1020,    177,    175.6,  20.2599,  35.1288,2,  35.1268,2,    191.3,1, 20.2271,   -999.0,9,  -999.00,9,  -999.00,9,  -999.00,9,  -999.0,-999.000
     32WC167_1,  PRS2,     2,  4,      3,     35,2,20050201,2129, 22.7498,-157.9998, 1020,    199,    200.2,  18.6340,  34.9251,2,  34.9284,2,    190.1,1, 18.5988,   -999.0,9,  -999.00,9,  -999.00,9,  -999.00,9,  -999.0,-999.000
     32WC167_1,  PRS2,     2,  4,      2,      7,2,20050201,2129, 22.7498,-157.9998, 1020,    500,    500.1,   7.3536,  34.0947,2,  34.0936,2,    101.0,1,  7.3051,   -999.0,9,  -999.00,9,  -999.00,9,  -999.00,9,  -999.0,-999.000
     32WC167_1,  PRS2,     2,  4,      1,     11,2,20050201,2129, 22.7498,-157.9998, 1020,   1020,   1020.6,   4.2532,  34.4732,2,  34.4736,2,     43.3,1,  4.1739,   -999.0,9,  -999.00,9,  -999.00,9,  -999.00,9,  -999.0,-999.000
     32WC167_1,  PRS2,     2,  5,     11,     39,2,20050201,2359, 22.7493,-158.0500, 1020,      5,      5.1,  24.1446,  34.9772,2,  34.9839,2,    209.8,1, 24.1435,   -999.0,9,  -999.00,9,  -999.00,9,  -999.00,9,  -999.0,-999.000
     32WC167_1,  PRS2,     2,  5,     10,     33,2,20050201,2359, 22.7493,-158.0500, 1020,     26,     24.8,  24.1320,  34.9799,2,  34.9778,2,    209.8,1, 24.1268,   -999.0,9,  -999.00,9,  -999.00,9,  -999.00,9,  -999.0,-999.000
     32WC167_1,  PRS2,     2,  5,      9,      3,2,20050201,2359, 22.7493,-158.0500, 1020,     44,     44.0,  24.1352,  34.9820,2,  34.9856,2,    210.0,1, 24.1260,   -999.0,9,  -999.00,9,  -999.00,9,  -999.00,9,  -999.0,-999.000
     32WC167_1,  PRS2,     2,  5,      8,     29,2,20050201,2359, 22.7493,-158.0500, 1020,     76,     74.2,  23.7880,  35.1005,2,  35.0902,2,    202.9,1, 23.7725,   -999.0,9,  -999.00,9,  -999.00,9,  -999.00,9,  -999.0,-999.000
     32WC167_1,  PRS2,     2,  5,      7,     28,2,20050201,2359, 22.7493,-158.0500, 1020,    100,    100.0,  22.6229,  35.2390,2,  35.2357,2,    202.3,1, 22.6027,   -999.0,9,  -999.00,9,  -999.00,9,  -999.00,9,  -999.0,-999.000
     32WC167_1,  PRS2,     2,  5,      6,     13,2,20050201,2359, 22.7493,-158.0500, 1020,    125,    125.0,  21.6868,  35.2297,2,  35.2325,2,    196.3,1, 21.6623,   -999.0,9,  -999.00,9,  -999.00,9,  -999.00,9,  -999.0,-999.000
     32WC167_1,  PRS2,     2,  5,      5,     38,2,20050201,2359, 22.7493,-158.0500, 1020,    150,    150.6,  20.6696,  35.1588,2,  35.1628,2,    193.3,1, 20.6410,   -999.0,9,  -999.00,9,  -999.00,9,  -999.00,9,  -999.0,-999.000
     32WC167_1,  PRS2,     2,  5,      4,     36,2,20050201,2359, 22.7493,-158.0500, 1020,    251,    250.9,  15.1037,  34.5000,2,  34.4985,2,    206.8,1, 15.0656,   -999.0,9,  -999.00,9,  -999.00,9,  -999.00,9,  -999.0,-999.000
     32WC167_1,  PRS2,     2,  5,      3,     35,2,20050201,2359, 22.7493,-158.0500, 1020,    351,    349.8,  10.8323,  34.1251,2,  34.1250,2,    193.1,1, 10.7897,   -999.0,9,  -999.00,9,  -999.00,9,  -999.00,9,  -999.0,-999.000
     32WC167_1,  PRS2,     2,  5,      2,      7,2,20050201,2359, 22.7493,-158.0500, 1020,    499,    499.7,   7.4670,  34.0568,2,  34.0568,2,    126.7,1,  7.4182,   -999.0,9,  -999.00,9,  -999.00,9,  -999.00,9,  -999.0,-999.000
     32WC167_1,  PRS2,     2,  5,      1,     11,2,20050201,2359, 22.7493,-158.0500, 1020,   1019,   1019.8,   4.2343,  34.4750,2,  34.4740,2,     40.3,1,  4.1552,   -999.0,9,  -999.00,9,  -999.00,9,  -999.00,9,  -999.0,-999.000
     32WC167_1,  PRS2,     2,  6,     17,     17,3,20050202,0302, 22.7498,-157.9998, 1020,      5,      5.3,  24.1376,  34.9747,2,  34.9726,2,    209.9,1, 24.1364,   -999.0,9,  -999.00,9,  -999.00,9,  -999.00,9,  -999.0,-999.000
     32WC167_1,  PRS2,     2,  6,     16,     34,2,20050202,0302, 22.7498,-157.9998, 1020,     15,     15.4,  24.1527,  34.9789,2,  34.9791,2,    209.9,1, 24.1495,   -999.0,9,  -999.00,9,  -999.00,9,  -999.00,9,  -999.0,-999.000
     32WC167_1,  PRS2,     2,  6,     15,    102,3,20050202,0302, 22.7498,-157.9998, 1020,     26,     25.3,  24.1520,  34.9805,2,  34.9791,2,    209.8,1, 24.1467,   -999.0,9,  -999.00,9,  -999.00,9,  -999.00,9,  -999.0,-999.000
     32WC167_1,  PRS2,     2,  6,     14,    101,2,20050202,0302, 22.7498,-157.9998, 1020,     36,     35.6,  24.1437,  34.9875,2,  34.9858,2,    210.2,1, 24.1362,   -999.0,9,  -999.00,9,  -999.00,9,  -999.00,9,  -999.0,-999.000
     32WC167_1,  PRS2,     2,  6,     13,     42,3,20050202,0302, 22.7498,-157.9998, 1020,     36,     35.7,  24.1442,  34.9876,2,  34.9856,2,    210.3,1, 24.1367,   -999.0,9,  -999.00,9,  -999.00,9,  -999.00,9,  -999.0,-999.000
     32WC167_1,  PRS2,     2,  6,     12,     12,2,20050202,0302, 22.7498,-157.9998, 1020,     45,     45.5,  24.1479,  34.9910,2,  34.9963,2,    210.5,1, 24.1383,   -999.0,9,  -999.00,9,  -999.00,9,  -999.00,9,  -999.0,-999.000
     32WC167_1,  PRS2,     2,  6,     11,     39,2,20050202,0302, 22.7498,-157.9998, 1020,     61,     60.4,  24.1501,  35.0033,2,  34.9959,2,    209.7,1, 24.1374,   -999.0,9,  -999.00,9,  -999.00,9,  -999.00,9,  -999.0,-999.000
     32WC167_1,  PRS2,     2,  6,     10,     33,3,20050202,0302, 22.7498,-157.9998, 1020,     75,     75.7,  23.9111,  35.0766,2,  35.0736,2,    205.4,1, 23.8952,   -999.0,9,  -999.00,9,  -999.00,9,  -999.00,9,  -999.0,-999.000
     32WC167_1,  PRS2,     2,  6,      8,     29,3,20050202,0302, 22.7498,-157.9998, 1020,    102,    100.1,  23.3843,  35.1917,2,  35.1914,2,    203.2,1, 23.3636,   -999.0,9,  -999.00,9,  -999.00,9,  -999.00,9,  -999.0,-999.000
     32WC167_1,  PRS2,     2,  6,      7,     28,3,20050202,0302, 22.7498,-157.9998, 1020,     99,    100.2,  23.3709,  35.1925,2,  35.1863,2,    203.2,1, 23.3502,   -999.0,9,  -999.00,9,  -999.00,9,  -999.00,9,  -999.0,-999.000
     32WC167_1,  PRS2,     2,  6,      9,      3,2,20050202,0302, 22.7498,-157.9998, 1020,    100,    100.3,  23.3912,  35.1955,2,  35.1857,2,    203.3,1, 23.3705,   -999.0,9,  -999.00,9,  -999.00,9,  -999.00,9,  -999.0,-999.000
     32WC167_1,  PRS2,     2,  6,      6,     13,3,20050202,0302, 22.7498,-157.9998, 1020,    101,    100.6,  23.3310,  35.1964,2,  35.2010,2,    203.0,1, 23.3102,   -999.0,9,  -999.00,9,  -999.00,9,  -999.00,9,  -999.0,-999.000
     32WC167_1,  PRS2,     2,  6,      5,     38,3,20050202,0302, 22.7498,-157.9998, 1020,    126,    126.0,  21.7956,  35.2507,2,  35.2651,3,    198.2,1, 21.7708,   -999.0,9,  -999.00,9,  -999.00,9,  -999.00,9,  -999.0,-999.000
     32WC167_1,  PRS2,     2,  6,      4,     36,3,20050202,0302, 22.7498,-157.9998, 1020,    151,    150.3,  20.2101,  35.1209,2,  35.1325,2,    191.4,1, 20.1821,   -999.0,9,  -999.00,9,  -999.00,9,  -999.00,9,  -999.0,-999.000
     32WC167_1,  PRS2,     2,  6,      3,     35,3,20050202,0302, 22.7498,-157.9998, 1020,    176,    175.8,  18.8744,  34.9786,2,  34.9872,2,    197.2,1, 18.8432,   -999.0,9,  -999.00,9,  -999.00,9,  -999.00,9,  -999.0,-999.000
     32WC167_1,  PRS2,     2,  6,      2,      7,2,20050202,0302, 22.7498,-157.9998, 1020,    481,    480.7,   7.9364,  34.0995,2,  34.0933,2,    134.9,1,  7.8877,   -999.0,9,  -999.00,9,  -999.00,9,  -999.00,9,  -999.0,-999.000
     32WC167_1,  PRS2,     2,  6,      1,     11,2,20050202,0302, 22.7498,-157.9998, 1020,   1021,   1019.6,   4.1292,  34.4828,2,  34.4901,3,     45.0,1,  4.0509,   -999.0,9,  -999.00,9,  -999.00,9,  -999.00,9,  -999.0,-999.000