BOTTLE,20090923WHPSIOMYS
EXPOCODE,SECT_ID,STNNBR,CASTNO,SAMPNO,BTLNBR,BTLNBR_FLAG_W,DATE,TIME,LATITUDE,LONGITUDE,DEPTH,CTDRAW,CTDPRS,CTDTMP,CTDSAL,CTDSAL_FLAG_W,SALNTY,SALNTY_FLAG_W,CTDOXY,CTDOXY_FLAG_W,THETA,OXYGEN,OXYGEN_FLAG_W,SILCAT,SILCAT_FLAG_W,NO2+NO3,NO2+NO3_FLAG_W,PHSPHT,PHSPHT_FLAG_W,REVPRS,REVTMP
,,,,,,,,,,,,,DBAR,ITS-90,PSS-78,,PSS-78,,UMOL/KG,,ITS-90,UMOL/KG,,UMOL/KG,,UMOL/KG,,UMOL/KG,,DBAR,DEG C
     32WC167_1,  PRS2,     2, 16,     17,     17,2,20050203,0909, 22.7498,-157.9998, 4800,      3,      4.6,  23.7303,  34.9708,2,  34.9687,2,    209.8,2, 23.7293,    209.8,2,  -999.00,9,  -999.00,9,  -999.00,9,  -999.0,-999.000
     32WC167_1,  PRS2,     2, 16,     15,    102,2,20050203,0909, 22.7498,-157.9998, 4800,    250,    249.3,  15.0560,  34.4910,2,-999.0000,5,    206.7,2, 15.0183,   -999.0,5,  -999.00,9,  -999.00,9,  -999.00,9,  -999.0,-999.000
     32WC167_1,  PRS2,     2, 16,     14,    101,2,20050203,0909, 22.7498,-157.9998, 4800,    250,    249.4,  14.9775,  34.4831,2,  34.4864,2,    206.9,2, 14.9399,   -999.0,5,  -999.00,9,  -999.00,9,  -999.00,9,  -999.0,-999.000
     32WC167_1,  PRS2,     2, 16,     16,     34,2,20050203,0909, 22.7498,-157.9998, 4800,    248,    250.0,  15.0558,  34.4887,2,-999.0000,5,    206.6,2, 15.0180,   -999.0,5,  -999.00,9,  -999.00,9,  -999.00,9,  -999.0,-999.000
     32WC167_1,  PRS2,     2, 16,     13,     42,3,20050203,0909, 22.7498,-157.9998, 4800,    300,    299.6,  13.4092,  34.3429,2,  34.3405,2,    211.0,2, 13.3672,    211.4,2,  -999.00,9,  -999.00,9,  -999.00,9,  -999.0,-999.000
     32WC167_1,  PRS2,     2, 16,     12,     12,2,20050203,0909, 22.7498,-157.9998, 4800,    520,    520.4,   6.6885,  34.0369,2,  34.0337,2,    104.5,2,  6.6406,    111.5,3,  -999.00,9,  -999.00,9,  -999.00,9,  -999.0,-999.000
     32WC167_1,  PRS2,     2, 16,     11,     39,2,20050203,0909, 22.7498,-157.9998, 4800,    758,    758.8,   4.9915,  34.3414,2,  34.3411,2,     30.0,2,  4.9298,     31.2,2,  -999.00,9,  -999.00,9,  -999.00,9,  -999.0,-999.000
     32WC167_1,  PRS2,     2, 16,     10,     33,2,20050203,0909, 22.7498,-157.9998, 4800,   1997,   1998.9,   2.1908,  34.6156,2,  34.6156,2,     85.8,2,  2.0516,     88.1,2,  -999.00,9,  -999.00,9,  -999.00,9,  -999.0,-999.000
     32WC167_1,  PRS2,     2, 16,      9,      3,3,20050203,0909, 22.7498,-157.9998, 4800,   2999,   3000.3,   1.5637,  34.6699,2,  34.6704,2,    122.9,2,  1.3455,    124.4,2,  -999.00,9,  -999.00,9,  -999.00,9,  -999.0,-999.000
     32WC167_1,  PRS2,     2, 16,      3,     35,3,20050203,0909, 22.7498,-157.9998, 4800,   4002,   4001.3,   1.4544,  34.6874,2,-999.0000,5,    147.7,2,  1.1366,   -999.0,5,  -999.00,9,  -999.00,9,  -999.00,9,  -999.0,-999.000
     32WC167_1,  PRS2,     2, 16,      6,     13,3,20050203,0909, 22.7498,-157.9998, 4800,   4003,   4001.4,   1.4545,  34.6873,2,-999.0000,5,    147.6,2,  1.1367,   -999.0,5,  -999.00,9,  -999.00,9,  -999.00,9,  -999.0,-999.000
     32WC167_1,  PRS2,     2, 16,      8,     29,3,20050203,0909, 22.7498,-157.9998, 4800,   4003,   4001.5,   1.4547,  34.6874,2,-999.0000,5,    147.6,2,  1.1369,   -999.0,5,  -999.00,9,  -999.00,9,  -999.00,9,  -999.0,-999.000
     32WC167_1,  PRS2,     2, 16,      7,     28,3,20050203,0909, 22.7498,-157.9998, 4800,   4003,   4001.5,   1.4547,  34.6873,2,-999.0000,5,    147.6,2,  1.1369,   -999.0,5,  -999.00,9,  -999.00,9,  -999.00,9,  -999.0,-999.000
     32WC167_1,  PRS2,     2, 16,      4,     36,2,20050203,0909, 22.7498,-157.9998, 4800,   4001,   4001.5,   1.4546,  34.6872,2,  34.6889,2,    147.6,2,  1.1368,   -999.0,5,  -999.00,9,  -999.00,9,  -999.00,9,  -999.0,-999.000
     32WC167_1,  PRS2,     2, 16,      5,     38,2,20050203,0909, 22.7498,-157.9998, 4800,   4001,   4001.6,   1.4545,  34.6874,2,-999.0000,5,    147.6,2,  1.1367,   -999.0,5,  -999.00,9,  -999.00,9,  -999.00,9,  -999.0,-999.000
     32WC167_1,  PRS2,     2, 16,      2,      7,2,20050203,0909, 22.7498,-157.9998, 4800,   4002,   4001.6,   1.4543,  34.6873,2,  34.6881,2,    147.7,2,  1.1365,    148.0,2,  -999.00,9,  -999.00,9,  -999.00,9,  -999.0,-999.000
     32WC167_1,  PRS2,     2, 16,      1,     11,2,20050203,0909, 22.7498,-157.9998, 4800,   4799,   4800.1,   1.5106,  34.6904,2,  34.6908,2,    153.7,2,  1.1000,    153.5,2,  -999.00,9,  -999.00,9,  -999.00,9,  -999.0,-999.000
     32WC167_1,  PRS2,     6,  1,     13,     42,2,20050204,0728, 21.8462,-158.3633, 2500,      5,      4.5,  24.0867,  34.9699,2,  34.9726,2,    209.4,1, 24.0858,   -999.0,9,  -999.00,9,  -999.00,9,  -999.00,9,  -999.0,-999.000
     32WC167_1,  PRS2,     6,  1,     12,     12,3,20050204,0728, 21.8462,-158.3633, 2500,     26,     24.6,  24.1119,  35.0431,2,  35.0419,2,    210.1,1, 24.1067,   -999.0,9,  -999.00,9,  -999.00,9,  -999.00,9,  -999.0,-999.000
     32WC167_1,  PRS2,     6,  1,     11,     39,3,20050204,0728, 21.8462,-158.3633, 2500,     47,     44.8,  23.9968,  35.0237,2,  35.0317,2,    210.3,1, 23.9873,   -999.0,9,  -999.00,9,  -999.00,9,  -999.00,9,  -999.0,-999.000
     32WC167_1,  PRS2,     6,  1,     10,     33,2,20050204,0728, 21.8462,-158.3633, 2500,     77,     76.0,  24.0254,  35.0576,2,  35.0561,2,    210.3,1, 24.0094,   -999.0,9,  -999.00,9,  -999.00,9,  -999.00,9,  -999.0,-999.000
     32WC167_1,  PRS2,     6,  1,      9,      3,2,20050204,0728, 21.8462,-158.3633, 2500,    101,    100.6,  24.0086,  35.0831,2,  35.0813,2,    210.1,1, 23.9874,   -999.0,9,  -999.00,9,  -999.00,9,  -999.00,9,  -999.0,-999.000
     32WC167_1,  PRS2,     6,  1,      8,     29,2,20050204,0728, 21.8462,-158.3633, 2500,    125,    124.8,  23.7177,  35.1786,2,  35.1786,2,    205.5,1, 23.6916,   -999.0,9,  -999.00,9,  -999.00,9,  -999.00,9,  -999.0,-999.000
     32WC167_1,  PRS2,     6,  1,      7,     28,2,20050204,0728, 21.8462,-158.3633, 2500,    149,    149.8,  22.4424,  35.2163,2,  35.2325,4,    198.3,1, 22.4123,   -999.0,9,  -999.00,9,  -999.00,9,  -999.00,9,  -999.0,-999.000
     32WC167_1,  PRS2,     6,  1,      6,     13,2,20050204,0728, 21.8462,-158.3633, 2500,    175,    174.4,  20.5615,  35.1227,2,  35.1205,2,    192.8,1, 20.5286,   -999.0,9,  -999.00,9,  -999.00,9,  -999.00,9,  -999.0,-999.000
     32WC167_1,  PRS2,     6,  1,      5,     38,2,20050204,0728, 21.8462,-158.3633, 2500,    501,    500.0,   7.6193,  34.1580,2,  34.1560,2,     98.5,1,  7.5697,   -999.0,9,  -999.00,9,  -999.00,9,  -999.00,9,  -999.0,-999.000
     32WC167_1,  PRS2,     6,  1,      4,     36,2,20050204,0728, 21.8462,-158.3633, 2500,   1003,   1001.1,   3.9748,  34.4941,2,  34.4923,2,     49.5,1,  3.8993,   -999.0,9,  -999.00,9,  -999.00,9,  -999.00,9,  -999.0,-999.000
     32WC167_1,  PRS2,     6,  1,      3,     35,2,20050204,0728, 21.8462,-158.3633, 2500,   1499,   1500.6,   2.8400,  34.5762,2,  34.5765,2,     65.5,1,  2.7340,   -999.0,9,  -999.00,9,  -999.00,9,  -999.00,9,  -999.0,-999.000
     32WC167_1,  PRS2,     6,  1,      2,      7,2,20050204,0728, 21.8462,-158.3633, 2500,   2001,   2001.7,   2.0545,  34.6259,2,  34.6258,2,     92.7,1,  1.9172,   -999.0,9,  -999.00,9,  -999.00,9,  -999.00,9,  -999.0,-999.000
     32WC167_1,  PRS2,     6,  1,      1,     11,2,20050204,0728, 21.8462,-158.3633, 2500,   2444,   2444.8,   1.7494,  34.6508,2,  34.6508,2,    108.9,1,  1.5787,   -999.0,9,  -999.00,9,  -999.00,9,  -999.00,9,  -999.0,-999.000
     32WC167_1,  PRS2,    51,  1,      6,     13,2,20050204,0205, 22.7408,-158.0732,   90,      5,      5.3,  23.8914,  35.0303,2,-999.0000,5,    209.6,1, 23.8902,   -999.0,9,  -999.00,9,  -999.00,9,  -999.00,9,  -999.0,-999.000
     32WC167_1,  PRS2,    51,  1,      5,     38,3,20050204,0205, 22.7408,-158.0732,   90,      5,      5.3,  23.8922,  35.0301,2,-999.0000,5,    209.7,1, 23.8911,   -999.0,9,  -999.00,9,  -999.00,9,  -999.00,9,  -999.0,-999.000
     32WC167_1,  PRS2,    51,  1,      4,     36,2,20050204,0205, 22.7408,-158.0732,   90,      5,      5.3,  23.8921,  35.0301,2,-999.0000,5,    209.8,1, 23.8910,   -999.0,9,  -999.00,9,  -999.00,9,  -999.00,9,  -999.0,-999.000
     32WC167_1,  PRS2,    51,  1,      9,      3,2,20050204,0205, 22.7408,-158.0732,   90,      5,      5.4,  23.8908,  35.0304,2,-999.0000,5,    209.5,1, 23.8897,   -999.0,9,  -999.00,9,  -999.00,9,  -999.00,9,  -999.0,-999.000
     32WC167_1,  PRS2,    51,  1,      8,     29,2,20050204,0205, 22.7408,-158.0732,   90,      5,      5.4,  23.8908,  35.0304,2,-999.0000,5,    209.5,1, 23.8897,   -999.0,9,  -999.00,9,  -999.00,9,  -999.00,9,  -999.0,-999.000
     32WC167_1,  PRS2,    51,  1,      7,     28,2,20050204,0205, 22.7408,-158.0732,   90,      6,      5.4,  23.8910,  35.0303,2,-999.0000,5,    209.6,1, 23.8899,   -999.0,9,  -999.00,9,  -999.00,9,  -999.00,9,  -999.0,-999.000
     32WC167_1,  PRS2,    51,  1,      3,     35,2,20050204,0205, 22.7408,-158.0732,   90,      5,      5.5,  23.8921,  35.0301,2,  35.0285,2,    209.8,1, 23.8910,   -999.0,9,  -999.00,9,  -999.00,9,  -999.00,9,  -999.0,-999.000
     32WC167_1,  PRS2,    51,  1,      2,      7,3,20050204,0205, 22.7408,-158.0732,   90,     46,     46.9,  23.1752,  35.1963,2,  35.1973,2,    212.9,1, 23.1656,   -999.0,9,  -999.00,9,  -999.00,9,  -999.00,9,  -999.0,-999.000
     32WC167_1,  PRS2,    51,  1,      1,     11,2,20050204,0205, 22.7408,-158.0732,   90,     90,     90.2,  22.4296,  35.2849,2,  35.2861,2,    207.6,1, 22.4115,   -999.0,9,  -999.00,9,  -999.00,9,  -999.00,9,  -999.0,-999.000