BOTTLE,20090923WHPSIOMYS
EXPOCODE,SECT_ID,STNNBR,CASTNO,SAMPNO,BTLNBR,BTLNBR_FLAG_W,DATE,TIME,LATITUDE,LONGITUDE,DEPTH,CTDRAW,CTDPRS,CTDTMP,CTDSAL,CTDSAL_FLAG_W,SALNTY,SALNTY_FLAG_W,CTDOXY,CTDOXY_FLAG_W,THETA,OXYGEN,OXYGEN_FLAG_W,SILCAT,SILCAT_FLAG_W,NO2+NO3,NO2+NO3_FLAG_W,PHSPHT,PHSPHT_FLAG_W,REVPRS,REVTMP
,,,,,,,,,,,,,DBAR,ITS-90,PSS-78,,PSS-78,,UMOL/KG,,ITS-90,UMOL/KG,,UMOL/KG,,UMOL/KG,,UMOL/KG,,DBAR,DEG C
     32WC167_1,  PRS2,     2,  7,     21,     21,3,20050202,0558, 22.7495,-158.0002, 1020,      5,      4.0,  24.0668,  34.9877,2,  34.9852,2,    210.2,1, 24.0660,   -999.0,9,  -999.00,9,  -999.00,9,  -999.00,9,  -999.0,-999.000
     32WC167_1,  PRS2,     2,  7,     22,     22,2,20050202,0558, 22.7495,-158.0002, 1020,      5,      4.3,  24.0668,  34.9879,2,  34.9892,2,    210.1,1, 24.0659,   -999.0,9,  -999.00,9,  -999.00,9,  -999.00,9,  -999.0,-999.000
     32WC167_1,  PRS2,     2,  7,     19,     19,3,20050202,0558, 22.7495,-158.0002, 1020,     25,     24.7,  24.0742,  34.9883,2,  35.0004,3,    210.2,1, 24.0690,   -999.0,9,  -999.00,9,  -999.00,9,  -999.00,9,  -999.0,-999.000
     32WC167_1,  PRS2,     2,  7,     20,     41,3,20050202,0558, 22.7495,-158.0002, 1020,     25,     24.8,  24.0742,  34.9882,2,  34.9986,2,    210.2,1, 24.0690,   -999.0,9,  -999.00,9,  -999.00,9,  -999.00,9,  -999.0,-999.000
     32WC167_1,  PRS2,     2,  7,     17,     17,2,20050202,0558, 22.7495,-158.0002, 1020,     47,     45.4,  24.0794,  34.9953,2,  34.9929,2,    210.0,1, 24.0698,   -999.0,9,  -999.00,9,  -999.00,9,  -999.00,9,  -999.0,-999.000
     32WC167_1,  PRS2,     2,  7,     18,     18,2,20050202,0558, 22.7495,-158.0002, 1020,     46,     45.7,  24.0791,  34.9953,2,  34.9927,2,    210.0,1, 24.0695,   -999.0,9,  -999.00,9,  -999.00,9,  -999.00,9,  -999.0,-999.000
     32WC167_1,  PRS2,     2,  7,     16,     34,2,20050202,0558, 22.7495,-158.0002, 1020,     61,     60.5,  24.0748,  34.9983,2,  34.9963,2,    210.1,1, 24.0621,   -999.0,9,  -999.00,9,  -999.00,9,  -999.00,9,  -999.0,-999.000
     32WC167_1,  PRS2,     2,  7,     15,    102,3,20050202,0558, 22.7495,-158.0002, 1020,     75,     75.5,  24.0494,  35.1111,2,  35.1087,2,    207.2,1, 24.0335,   -999.0,9,  -999.00,9,  -999.00,9,  -999.00,9,  -999.0,-999.000
     32WC167_1,  PRS2,     2,  7,     14,    101,2,20050202,0558, 22.7495,-158.0002, 1020,     75,     75.6,  24.0535,  35.1105,2,  35.1069,2,    207.1,1, 24.0376,   -999.0,9,  -999.00,9,  -999.00,9,  -999.00,9,  -999.0,-999.000
     32WC167_1,  PRS2,     2,  7,     13,     42,2,20050202,0558, 22.7495,-158.0002, 1020,     85,     84.9,  23.8370,  35.1294,2,  35.1349,2,    203.9,1, 23.8192,   -999.0,9,  -999.00,9,  -999.00,9,  -999.00,9,  -999.0,-999.000
     32WC167_1,  PRS2,     2,  7,     12,     12,2,20050202,0558, 22.7495,-158.0002, 1020,     99,     99.8,  23.5766,  35.1804,2,  35.1890,2,    202.9,1, 23.5559,   -999.0,9,  -999.00,9,  -999.00,9,  -999.00,9,  -999.0,-999.000
     32WC167_1,  PRS2,     2,  7,     11,     39,2,20050202,0558, 22.7495,-158.0002, 1020,    101,    100.0,  23.5693,  35.1805,2,  35.1809,2,    202.8,1, 23.5486,   -999.0,9,  -999.00,9,  -999.00,9,  -999.00,9,  -999.0,-999.000
     32WC167_1,  PRS2,     2,  7,     10,     33,2,20050202,0558, 22.7495,-158.0002, 1020,    117,    116.3,  22.5622,  35.2575,2,  35.2593,2,    203.7,1, 22.5388,   -999.0,9,  -999.00,9,  -999.00,9,  -999.00,9,  -999.0,-999.000
     32WC167_1,  PRS2,     2,  7,      9,      3,3,20050202,0558, 22.7495,-158.0002, 1020,    128,    125.6,  22.1108,  35.2735,2,  35.2696,2,    200.1,1, 22.0859,   -999.0,9,  -999.00,9,  -999.00,9,  -999.00,9,  -999.0,-999.000
     32WC167_1,  PRS2,     2,  7,      8,     29,3,20050202,0558, 22.7495,-158.0002, 1020,    128,    125.7,  22.1076,  35.2739,2,  35.2682,2,    200.6,1, 22.0826,   -999.0,9,  -999.00,9,  -999.00,9,  -999.00,9,  -999.0,-999.000
     32WC167_1,  PRS2,     2,  7,      7,     28,2,20050202,0558, 22.7495,-158.0002, 1020,    135,    135.8,  21.5704,  35.2403,2,  35.2459,2,    194.0,1, 21.5439,   -999.0,9,  -999.00,9,  -999.00,9,  -999.00,9,  -999.0,-999.000
     32WC167_1,  PRS2,     2,  7,      6,     13,2,20050202,0558, 22.7495,-158.0002, 1020,    149,    151.1,  20.5851,  35.1577,2,  35.1693,2,    190.1,1, 20.5566,   -999.0,9,  -999.00,9,  -999.00,9,  -999.00,9,  -999.0,-999.000
     32WC167_1,  PRS2,     2,  7,      5,     38,3,20050202,0558, 22.7495,-158.0002, 1020,    151,    151.1,  20.5736,  35.1568,2,  35.1591,2,    189.7,1, 20.5451,   -999.0,9,  -999.00,9,  -999.00,9,  -999.00,9,  -999.0,-999.000
     32WC167_1,  PRS2,     2,  7,      3,     35,3,20050202,0558, 22.7495,-158.0002, 1020,    176,    175.5,  19.3108,  35.0393,2,  35.0400,2,    199.2,1, 19.2792,   -999.0,9,  -999.00,9,  -999.00,9,  -999.00,9,  -999.0,-999.000
     32WC167_1,  PRS2,     2,  7,      4,     36,2,20050202,0558, 22.7495,-158.0002, 1020,    176,    175.7,  19.3260,  35.0408,2,  35.0392,2,    199.1,1, 19.2943,   -999.0,9,  -999.00,9,  -999.00,9,  -999.00,9,  -999.0,-999.000
     32WC167_1,  PRS2,     2,  7,      2,      7,2,20050202,0558, 22.7495,-158.0002, 1020,    490,    491.1,   7.4895,  34.0684,2,  34.0690,2,    122.5,1,  7.4414,   -999.0,9,  -999.00,9,  -999.00,9,  -999.00,9,  -999.0,-999.000
     32WC167_1,  PRS2,     2,  7,      1,     11,2,20050202,0558, 22.7495,-158.0002, 1020,   1020,   1019.8,   4.0425,  34.4749,2,  34.4746,2,     40.7,1,  3.9649,   -999.0,9,  -999.00,9,  -999.00,9,  -999.00,9,  -999.0,-999.000
     32WC167_1,  PRS2,     2,  8,     19,     19,2,20050202,0901, 22.7498,-158.0008, 1020,      5,      4.7,  24.0423,  34.9967,2,  34.9969,2,    209.6,2, 24.0413,    210.2,2,  -999.00,9,  -999.00,9,  -999.00,9,  -999.0,-999.000
     32WC167_1,  PRS2,     2,  8,     20,     41,3,20050202,0901, 22.7498,-158.0008, 1020,      5,      4.8,  24.0424,  34.9967,2,-999.0000,5,    209.6,2, 24.0414,   -999.0,5,  -999.00,9,  -999.00,9,  -999.00,9,  -999.0,-999.000
     32WC167_1,  PRS2,     2,  8,     18,     18,3,20050202,0901, 22.7498,-158.0008, 1020,     16,     15.4,  24.0439,  34.9961,2,  35.0012,2,    209.7,2, 24.0407,   -999.0,5,  -999.00,9,  -999.00,9,  -999.00,9,  -999.0,-999.000
     32WC167_1,  PRS2,     2,  8,     17,     17,3,20050202,0901, 22.7498,-158.0008, 1020,     26,     25.2,  24.0467,  34.9956,2,  34.9947,2,    209.9,2, 24.0414,   -999.0,5,  -999.00,9,  -999.00,9,  -999.00,9,  -999.0,-999.000
     32WC167_1,  PRS2,     2,  8,     16,     34,2,20050202,0901, 22.7498,-158.0008, 1020,     25,     25.6,  24.0459,  34.9954,2,  35.0012,2,    210.0,2, 24.0405,    209.5,2,  -999.00,9,  -999.00,9,  -999.00,9,  -999.0,-999.000
     32WC167_1,  PRS2,     2,  8,     15,    102,2,20050202,0901, 22.7498,-158.0008, 1020,     36,     35.5,  24.0504,  34.9988,2,  35.0016,2,    210.0,2, 24.0430,   -999.0,5,  -999.00,9,  -999.00,9,  -999.00,9,  -999.0,-999.000
     32WC167_1,  PRS2,     2,  8,     14,    101,2,20050202,0901, 22.7498,-158.0008, 1020,     46,     45.3,  24.0413,  35.0177,2,  35.0262,2,    209.5,2, 24.0318,    209.3,2,  -999.00,9,  -999.00,9,  -999.00,9,  -999.0,-999.000
     32WC167_1,  PRS2,     2,  8,     13,     42,2,20050202,0901, 22.7498,-158.0008, 1020,     61,     60.6,  24.0328,  35.0329,2,  35.0335,2,    209.7,2, 24.0201,   -999.0,5,  -999.00,9,  -999.00,9,  -999.00,9,  -999.0,-999.000
     32WC167_1,  PRS2,     2,  8,     12,     12,3,20050202,0901, 22.7498,-158.0008, 1020,     75,     75.3,  24.0378,  35.0359,2,  35.0451,2,    209.8,2, 24.0219,    209.1,2,  -999.00,9,  -999.00,9,  -999.00,9,  -999.0,-999.000
     32WC167_1,  PRS2,     2,  8,     11,     39,2,20050202,0901, 22.7498,-158.0008, 1020,     86,     85.1,  24.0001,  35.0688,2,  35.0770,2,    207.3,2, 23.9822,    207.2,2,  -999.00,9,  -999.00,9,  -999.00,9,  -999.0,-999.000
     32WC167_1,  PRS2,     2,  8,     10,     33,2,20050202,0901, 22.7498,-158.0008, 1020,    101,    100.1,  23.3192,  35.1939,2,  35.1914,2,    203.1,2, 23.2985,    202.8,2,  -999.00,9,  -999.00,9,  -999.00,9,  -999.0,-999.000
     32WC167_1,  PRS2,     2,  8,      9,      3,2,20050202,0901, 22.7498,-158.0008, 1020,    117,    115.4,  22.5725,  35.2575,2,  35.2576,2,    204.6,2, 22.5493,    206.0,2,  -999.00,9,  -999.00,9,  -999.00,9,  -999.0,-999.000
     32WC167_1,  PRS2,     2,  8,      8,     29,2,20050202,0901, 22.7498,-158.0008, 1020,    126,    126.1,  22.0911,  35.2385,2,  35.2353,2,    197.5,2, 22.0661,    199.2,2,  -999.00,9,  -999.00,9,  -999.00,9,  -999.0,-999.000
     32WC167_1,  PRS2,     2,  8,      7,     28,2,20050202,0901, 22.7498,-158.0008, 1020,    150,    151.4,  20.6667,  35.1674,2,  35.1685,2,    189.4,2, 20.6380,    191.6,2,  -999.00,9,  -999.00,9,  -999.00,9,  -999.0,-999.000
     32WC167_1,  PRS2,     2,  8,      6,     13,2,20050202,0901, 22.7498,-158.0008, 1020,    164,    164.8,  19.9162,  35.0993,2,  35.1024,2,    190.4,2, 19.8858,    192.1,2,  -999.00,9,  -999.00,9,  -999.00,9,  -999.0,-999.000
     32WC167_1,  PRS2,     2,  8,      5,     38,2,20050202,0901, 22.7498,-158.0008, 1020,    176,    174.3,  19.5001,  35.0608,2,  35.0669,2,    197.4,2, 19.4684,    196.1,2,  -999.00,9,  -999.00,9,  -999.00,9,  -999.0,-999.000
     32WC167_1,  PRS2,     2,  8,      4,     36,2,20050202,0901, 22.7498,-158.0008, 1020,    200,    199.6,  18.1612,  34.8803,2,  34.8869,2,    199.9,2, 18.1267,    198.7,2,  -999.00,9,  -999.00,9,  -999.00,9,  -999.0,-999.000
     32WC167_1,  PRS2,     2,  8,      3,     35,2,20050202,0901, 22.7498,-158.0008, 1020,    489,    489.0,   7.3727,  34.0596,2,  34.0629,2,    123.2,2,  7.3253,    121.2,2,  -999.00,9,  -999.00,9,  -999.00,9,  -999.0,-999.000
     32WC167_1,  PRS2,     2,  8,      2,      7,2,20050202,0901, 22.7498,-158.0008, 1020,    760,    761.0,   5.0723,  34.3311,2,  34.3303,2,     30.7,2,  5.0100,     30.1,2,  -999.00,9,  -999.00,9,  -999.00,9,  -999.0,-999.000
     32WC167_1,  PRS2,     2,  8,      1,     11,2,20050202,0901, 22.7498,-158.0008, 1020,   1019,   1019.8,   4.0729,  34.4816,2,  34.4915,4,     45.1,3,  3.9951,     44.9,2,  -999.00,9,  -999.00,9,  -999.00,9,  -999.0,-999.000
     32WC167_1,  PRS2,     2,  9,     22,     22,3,20050202,1157, 22.7667,-158.0103, 1020,      6,      4.9,  24.0173,  35.0027,2,  34.9986,2,    209.5,1, 24.0163,   -999.0,9,  -999.00,9,  -999.00,9,  -999.00,9,  -999.0,-999.000
     32WC167_1,  PRS2,     2,  9,     21,     21,3,20050202,1157, 22.7667,-158.0103, 1020,      5,      5.0,  24.0173,  35.0026,2,  34.9970,2,    209.4,1, 24.0162,   -999.0,9,  -999.00,9,  -999.00,9,  -999.00,9,  -999.0,-999.000
     32WC167_1,  PRS2,     2,  9,     20,     41,3,20050202,1157, 22.7667,-158.0103, 1020,      6,      5.0,  24.0268,  35.0064,2,-999.0000,5,    209.5,1, 24.0257,   -999.0,9,  -999.00,9,  -999.00,9,  -999.00,9,  -999.0,-999.000
     32WC167_1,  PRS2,     2,  9,     19,     19,3,20050202,1157, 22.7667,-158.0103, 1020,     24,     24.9,  24.0342,  35.0073,2,  34.9512,4,    209.4,1, 24.0290,   -999.0,9,  -999.00,9,  -999.00,9,  -999.00,9,  -999.0,-999.000
     32WC167_1,  PRS2,     2,  9,     18,     18,3,20050202,1157, 22.7667,-158.0103, 1020,     28,     25.1,  24.0331,  35.0069,2,  35.0114,2,    209.4,1, 24.0278,   -999.0,9,  -999.00,9,  -999.00,9,  -999.00,9,  -999.0,-999.000
     32WC167_1,  PRS2,     2,  9,     17,     17,3,20050202,1157, 22.7667,-158.0103, 1020,     25,     25.1,  24.0318,  35.0065,2,  34.9850,4,    209.4,1, 24.0266,   -999.0,9,  -999.00,9,  -999.00,9,  -999.00,9,  -999.0,-999.000
     32WC167_1,  PRS2,     2,  9,     14,    101,2,20050202,1157, 22.7667,-158.0103, 1020,     46,     44.9,  24.0033,  35.0401,2,  35.0370,2,    209.6,1, 23.9939,   -999.0,9,  -999.00,9,  -999.00,9,  -999.00,9,  -999.0,-999.000
     32WC167_1,  PRS2,     2,  9,     15,    102,3,20050202,1157, 22.7667,-158.0103, 1020,     45,     45.0,  24.0072,  35.0382,2,  35.0461,2,    209.2,1, 23.9977,   -999.0,9,  -999.00,9,  -999.00,9,  -999.00,9,  -999.0,-999.000
     32WC167_1,  PRS2,     2,  9,     16,     34,3,20050202,1157, 22.7667,-158.0103, 1020,     45,     45.1,  24.0079,  35.0383,2,  35.0398,2,    209.2,1, 23.9984,   -999.0,9,  -999.00,9,  -999.00,9,  -999.00,9,  -999.0,-999.000
     32WC167_1,  PRS2,     2,  9,     12,     12,3,20050202,1157, 22.7667,-158.0103, 1020,     73,     73.9,  23.3186,  35.2012,2,  35.2010,2,    202.4,1, 23.3033,   -999.0,9,  -999.00,9,  -999.00,9,  -999.00,9,  -999.0,-999.000
     32WC167_1,  PRS2,     2,  9,     13,     42,3,20050202,1157, 22.7667,-158.0103, 1020,     74,     74.4,  23.3079,  35.1983,2,  35.2079,2,    202.4,1, 23.2926,   -999.0,9,  -999.00,9,  -999.00,9,  -999.00,9,  -999.0,-999.000
     32WC167_1,  PRS2,     2,  9,     11,     39,3,20050202,1157, 22.7667,-158.0103, 1020,     76,     74.5,  23.3270,  35.2021,2,  35.1959,2,    202.4,1, 23.3116,   -999.0,9,  -999.00,9,  -999.00,9,  -999.00,9,  -999.0,-999.000
     32WC167_1,  PRS2,     2,  9,     10,     33,3,20050202,1157, 22.7667,-158.0103, 1020,    100,    100.3,  22.5790,  35.2519,2,  35.2241,4,    203.8,1, 22.5588,   -999.0,9,  -999.00,9,  -999.00,9,  -999.00,9,  -999.0,-999.000
     32WC167_1,  PRS2,     2,  9,      8,     29,3,20050202,1157, 22.7667,-158.0103, 1020,    100,    100.3,  22.6336,  35.2467,2,  35.2377,2,    203.8,1, 22.6133,   -999.0,9,  -999.00,9,  -999.00,9,  -999.00,9,  -999.0,-999.000
     32WC167_1,  PRS2,     2,  9,      9,      3,2,20050202,1157, 22.7667,-158.0103, 1020,     98,    100.6,  22.5875,  35.2511,2,  35.2489,2,    203.9,1, 22.5672,   -999.0,9,  -999.00,9,  -999.00,9,  -999.00,9,  -999.0,-999.000
     32WC167_1,  PRS2,     2,  9,      7,     28,3,20050202,1157, 22.7667,-158.0103, 1020,    125,    125.0,  21.3733,  35.1928,2,  35.2052,2,    193.6,1, 21.3491,   -999.0,9,  -999.00,9,  -999.00,9,  -999.00,9,  -999.0,-999.000
     32WC167_1,  PRS2,     2,  9,      6,     13,2,20050202,1157, 22.7667,-158.0103, 1020,    126,    125.0,  21.3876,  35.1940,2,  35.1933,2,    193.4,1, 21.3633,   -999.0,9,  -999.00,9,  -999.00,9,  -999.00,9,  -999.0,-999.000
     32WC167_1,  PRS2,     2,  9,      5,     38,3,20050202,1157, 22.7667,-158.0103, 1020,    126,    125.0,  21.3711,  35.1932,2,  35.1876,2,    193.1,1, 21.3469,   -999.0,9,  -999.00,9,  -999.00,9,  -999.00,9,  -999.0,-999.000
     32WC167_1,  PRS2,     2,  9,      4,     36,3,20050202,1157, 22.7667,-158.0103, 1020,    150,    151.0,  20.0305,  35.1135,2,  35.1114,2,    191.5,1, 20.0026,   -999.0,9,  -999.00,9,  -999.00,9,  -999.00,9,  -999.0,-999.000
     32WC167_1,  PRS2,     2,  9,      3,     35,2,20050202,1157, 22.7667,-158.0103, 1020,    175,    174.7,  18.8388,  34.9766,2,  34.9845,2,    197.8,1, 18.8078,   -999.0,9,  -999.00,9,  -999.00,9,  -999.00,9,  -999.0,-999.000
     32WC167_1,  PRS2,     2,  9,      2,      7,2,20050202,1157, 22.7667,-158.0103, 1020,    470,    469.5,   8.0411,  34.0604,2,  34.0605,2,    151.7,1,  7.9932,   -999.0,9,  -999.00,9,  -999.00,9,  -999.00,9,  -999.0,-999.000
     32WC167_1,  PRS2,     2,  9,      1,     11,2,20050202,1157, 22.7667,-158.0103, 1020,   1021,   1019.8,   4.0605,  34.4766,2,  34.4769,2,     42.7,1,  3.9827,   -999.0,9,  -999.00,9,  -999.00,9,  -999.00,9,  -999.0,-999.000
     32WC167_1,  PRS2,     2, 10,     12,     12,3,20050202,1504, 22.7580,-158.0143, 1020,      4,      4.3,  24.0068,  35.0090,2,-999.0000,5,    209.1,1, 24.0059,   -999.0,9,  -999.00,9,  -999.00,9,  -999.00,9,  -999.0,-999.000
     32WC167_1,  PRS2,     2, 10,     11,     39,3,20050202,1504, 22.7580,-158.0143, 1020,      4,      4.7,  24.0071,  35.0090,2,  35.0091,2,    209.0,1, 24.0061,   -999.0,9,  -999.00,9,  -999.00,9,  -999.00,9,  -999.0,-999.000
     32WC167_1,  PRS2,     2, 10,     10,     33,2,20050202,1504, 22.7580,-158.0143, 1020,     26,     25.5,  24.0144,  35.0092,2,  35.0081,2,    209.0,1, 24.0090,   -999.0,9,  -999.00,9,  -999.00,9,  -999.00,9,  -999.0,-999.000
     32WC167_1,  PRS2,     2, 10,      9,      3,2,20050202,1504, 22.7580,-158.0143, 1020,     46,     44.6,  24.0203,  35.0099,2,  35.0092,2,    209.1,1, 24.0109,   -999.0,9,  -999.00,9,  -999.00,9,  -999.00,9,  -999.0,-999.000
     32WC167_1,  PRS2,     2, 10,      8,     29,3,20050202,1504, 22.7580,-158.0143, 1020,     73,     74.0,  23.9142,  35.0963,2,  35.0900,2,    205.9,1, 23.8987,   -999.0,9,  -999.00,9,  -999.00,9,  -999.00,9,  -999.0,-999.000
     32WC167_1,  PRS2,     2, 10,      7,     28,3,20050202,1504, 22.7580,-158.0143, 1020,    100,     98.5,  22.9514,  35.2205,2,-999.0000,5,    203.2,1, 22.9313,   -999.0,9,  -999.00,9,  -999.00,9,  -999.00,9,  -999.0,-999.000
     32WC167_1,  PRS2,     2, 10,      6,     13,3,20050202,1504, 22.7580,-158.0143, 1020,    100,     98.5,  22.9423,  35.2228,2,  35.2207,2,    203.2,1, 22.9223,   -999.0,9,  -999.00,9,  -999.00,9,  -999.00,9,  -999.0,-999.000
     32WC167_1,  PRS2,     2, 10,      5,     38,3,20050202,1504, 22.7580,-158.0143, 1020,    124,    124.0,  21.7506,  35.2293,2,  35.2292,2,    195.5,1, 21.7263,   -999.0,9,  -999.00,9,  -999.00,9,  -999.00,9,  -999.0,-999.000
     32WC167_1,  PRS2,     2, 10,      4,     36,2,20050202,1504, 22.7580,-158.0143, 1020,    152,    150.0,  20.4407,  35.1470,2,  35.1455,2,    191.1,1, 20.4126,   -999.0,9,  -999.00,9,  -999.00,9,  -999.00,9,  -999.0,-999.000
     32WC167_1,  PRS2,     2, 10,      3,     35,2,20050202,1504, 22.7580,-158.0143, 1020,    182,    180.1,  19.3307,  35.0298,2,  35.0285,2,    197.4,1, 19.2981,   -999.0,9,  -999.00,9,  -999.00,9,  -999.00,9,  -999.0,-999.000
     32WC167_1,  PRS2,     2, 10,      2,      7,2,20050202,1504, 22.7580,-158.0143, 1020,    702,    700.5,   5.2798,  34.2645,2,  34.2644,2,     36.2,1,  5.2217,   -999.0,9,  -999.00,9,  -999.00,9,  -999.00,9,  -999.0,-999.000
     32WC167_1,  PRS2,     2, 10,      1,     11,2,20050202,1504, 22.7580,-158.0143, 1020,   1018,   1019.6,   4.2429,  34.4723,2,  34.4710,2,     45.0,1,  4.1638,   -999.0,9,  -999.00,9,  -999.00,9,  -999.00,9,  -999.0,-999.000