BOTTLE,20090923WHPSIOMYS
EXPOCODE,SECT_ID,STNNBR,CASTNO,SAMPNO,BTLNBR,BTLNBR_FLAG_W,DATE,TIME,LATITUDE,LONGITUDE,DEPTH,CTDRAW,CTDPRS,CTDTMP,CTDSAL,CTDSAL_FLAG_W,SALNTY,SALNTY_FLAG_W,CTDOXY,CTDOXY_FLAG_W,THETA,OXYGEN,OXYGEN_FLAG_W,SILCAT,SILCAT_FLAG_W,NO2+NO3,NO2+NO3_FLAG_W,PHSPHT,PHSPHT_FLAG_W,REVPRS,REVTMP
,,,,,,,,,,,,,DBAR,ITS-90,PSS-78,,PSS-78,,UMOL/KG,,ITS-90,UMOL/KG,,UMOL/KG,,UMOL/KG,,UMOL/KG,,DBAR,DEG C
     33KI165_1,  PRS2,     2, 11,     19,     19,2,20041128,1754, 22.7853,-157.9797, 4704,      5,      5.1,  26.5287,  34.9460,2,  34.9433,2,    202.8,1, 26.5275,   -999.0,9,  -999.00,9,  -999.00,9,  -999.00,9,  -999.0,-999.000
     33KI165_1,  PRS2,     2, 11,     21,     21,2,20041128,1754, 22.7853,-157.9797, 4704,      5,      5.2,  26.5296,  34.9459,2,-999.0000,5,    202.6,1, 26.5284,   -999.0,9,  -999.00,9,  -999.00,9,  -999.00,9,  -999.0,-999.000
     33KI165_1,  PRS2,     2, 11,     20,     20,3,20041128,1754, 22.7853,-157.9797, 4704,      5,      5.2,  26.5283,  34.9460,2,  34.9486,2,    202.7,1, 26.5271,   -999.0,9,  -999.00,9,  -999.00,9,  -999.00,9,  -999.0,-999.000
     33KI165_1,  PRS2,     2, 11,     18,     18,3,20041128,1754, 22.7853,-157.9797, 4704,     25,     25.1,  26.5290,  34.9457,2,  34.9471,2,    202.8,1, 26.5233,   -999.0,9,  -999.00,9,  -999.00,9,  -999.00,9,  -999.0,-999.000
     33KI165_1,  PRS2,     2, 11,     17,     17,2,20041128,1754, 22.7853,-157.9797, 4704,     25,     25.2,  26.5300,  34.9457,2,-999.0000,5,    202.7,1, 26.5243,   -999.0,9,  -999.00,9,  -999.00,9,  -999.00,9,  -999.0,-999.000
     33KI165_1,  PRS2,     2, 11,     16,     16,2,20041128,1754, 22.7853,-157.9797, 4704,     25,     25.2,  26.5320,  34.9457,2,  34.9463,2,    202.7,1, 26.5263,   -999.0,9,  -999.00,9,  -999.00,9,  -999.00,9,  -999.0,-999.000
     33KI165_1,  PRS2,     2, 11,     15,    102,2,20041128,1754, 22.7853,-157.9797, 4704,     45,     44.7,  25.9999,  35.0097,2,  35.0083,2,    207.3,1, 25.9900,   -999.0,9,  -999.00,9,  -999.00,9,  -999.00,9,  -999.0,-999.000
     33KI165_1,  PRS2,     2, 11,     14,    101,2,20041128,1754, 22.7853,-157.9797, 4704,     50,     49.6,  25.8136,  35.0440,2,  35.0429,2,    209.8,1, 25.8026,   -999.0,9,  -999.00,9,  -999.00,9,  -999.00,9,  -999.0,-999.000
     33KI165_1,  PRS2,     2, 11,     13,     42,2,20041128,1754, 22.7853,-157.9797, 4704,     50,     49.6,  25.8135,  35.0440,2,-999.0000,5,    210.0,1, 25.8025,   -999.0,9,  -999.00,9,  -999.00,9,  -999.00,9,  -999.0,-999.000
     33KI165_1,  PRS2,     2, 11,     12,     12,2,20041128,1754, 22.7853,-157.9797, 4704,     75,     74.7,  24.0764,  35.2341,2,  35.2304,2,    215.4,1, 24.0607,   -999.0,9,  -999.00,9,  -999.00,9,  -999.00,9,  -999.0,-999.000
     33KI165_1,  PRS2,     2, 11,     11,     39,2,20041128,1754, 22.7853,-157.9797, 4704,    101,    100.4,  21.8346,  35.2004,2,-999.0000,5,    197.7,1, 21.8148,   -999.0,9,  -999.00,9,  -999.00,9,  -999.00,9,  -999.0,-999.000
     33KI165_1,  PRS2,     2, 11,      9,      3,2,20041128,1754, 22.7853,-157.9797, 4704,    101,    100.4,  21.8286,  35.2010,2,  35.2383,4,    197.6,1, 21.8089,   -999.0,9,  -999.00,9,  -999.00,9,  -999.00,9,  -999.0,-999.000
     33KI165_1,  PRS2,     2, 11,     10,     32,3,20041128,1754, 22.7853,-157.9797, 4704,    100,    100.5,  21.8341,  35.2017,2,  35.2032,2,    197.5,1, 21.8144,   -999.0,9,  -999.00,9,  -999.00,9,  -999.00,9,  -999.0,-999.000
     33KI165_1,  PRS2,     2, 11,      8,     29,2,20041128,1754, 22.7853,-157.9797, 4704,    126,    124.7,  20.8736,  35.2416,2,  35.2723,3,    203.4,1, 20.8498,   -999.0,9,  -999.00,9,  -999.00,9,  -999.00,9,  -999.0,-999.000
     33KI165_1,  PRS2,     2, 11,      7,     28,2,20041128,1754, 22.7853,-157.9797, 4704,    125,    124.7,  20.8717,  35.2417,2,  35.2422,2,    203.4,1, 20.8480,   -999.0,9,  -999.00,9,  -999.00,9,  -999.00,9,  -999.0,-999.000
     33KI165_1,  PRS2,     2, 11,      5,     38,2,20041128,1754, 22.7853,-157.9797, 4704,    151,    150.4,  19.6450,  35.0939,2,  35.0935,2,    199.9,1, 19.6175,   -999.0,9,  -999.00,9,  -999.00,9,  -999.00,9,  -999.0,-999.000
     33KI165_1,  PRS2,     2, 11,      6,     13,2,20041128,1754, 22.7853,-157.9797, 4704,    151,    150.5,  19.6448,  35.0936,2,  35.0947,2,    199.8,1, 19.6173,   -999.0,9,  -999.00,9,  -999.00,9,  -999.00,9,  -999.0,-999.000
     33KI165_1,  PRS2,     2, 11,      3,     35,2,20041128,1754, 22.7853,-157.9797, 4704,    179,    178.7,  17.9519,  34.8571,2,  34.8745,3,    198.2,1, 17.9213,   -999.0,9,  -999.00,9,  -999.00,9,  -999.00,9,  -999.0,-999.000
     33KI165_1,  PRS2,     2, 11,      4,     36,2,20041128,1754, 22.7853,-157.9797, 4704,    179,    179.1,  17.9280,  34.8538,2,  34.8721,3,    198.2,1, 17.8973,   -999.0,9,  -999.00,9,  -999.00,9,  -999.00,9,  -999.0,-999.000
     33KI165_1,  PRS2,     2, 11,      2,     34,2,20041128,1754, 22.7853,-157.9797, 4704,    802,    801.0,   4.8412,  34.3809,2,  34.3808,2,     30.3,1,  4.7768,   -999.0,9,  -999.00,9,  -999.00,9,  -999.00,9,  -999.0,-999.000
     33KI165_1,  PRS2,     2, 11,      1,     33,2,20041128,1754, 22.7853,-157.9797, 4704,   1022,   1022.0,   4.0394,  34.4933,2,-999.0000,5,     43.6,1,  3.9616,   -999.0,9,  -999.00,9,  -999.00,9,  -999.00,9,  -999.0,-999.000
     33KI165_1,  PRS2,     2, 12,     23,     30,3,20041128,2055, 22.8088,-157.9703, 4703,      5,      4.9,  26.5025,  34.9509,2,-999.0000,5,    201.5,1, 26.5014,   -999.0,9,  -999.00,9,  -999.00,9,  -999.00,9,  -999.0,-999.000
     33KI165_1,  PRS2,     2, 12,     22,     22,2,20041128,2055, 22.8088,-157.9703, 4703,      5,      4.9,  26.5024,  34.9509,2,-999.0000,5,    201.6,1, 26.5013,   -999.0,9,  -999.00,9,  -999.00,9,  -999.00,9,  -999.0,-999.000
     33KI165_1,  PRS2,     2, 12,     20,     20,3,20041128,2055, 22.8088,-157.9703, 4703,      5,      4.9,  26.4993,  34.9512,2,-999.0000,5,    201.6,1, 26.4982,   -999.0,9,  -999.00,9,  -999.00,9,  -999.00,9,  -999.0,-999.000
     33KI165_1,  PRS2,     2, 12,     19,     19,2,20041128,2055, 22.8088,-157.9703, 4703,      5,      4.9,  26.5012,  34.9512,2,-999.0000,5,    201.6,1, 26.5001,   -999.0,9,  -999.00,9,  -999.00,9,  -999.00,9,  -999.0,-999.000
     33KI165_1,  PRS2,     2, 12,     18,     18,3,20041128,2055, 22.8088,-157.9703, 4703,      5,      4.9,  26.5018,  34.9512,2,-999.0000,5,    201.7,1, 26.5007,   -999.0,9,  -999.00,9,  -999.00,9,  -999.00,9,  -999.0,-999.000
     33KI165_1,  PRS2,     2, 12,     24,     31,2,20041128,2055, 22.8088,-157.9703, 4703,      5,      5.0,  26.5009,  34.9511,2,  34.9492,2,    201.5,1, 26.4998,   -999.0,9,  -999.00,9,  -999.00,9,  -999.00,9,  -999.0,-999.000
     33KI165_1,  PRS2,     2, 12,     21,     21,3,20041128,2055, 22.8088,-157.9703, 4703,      5,      5.0,  26.4993,  34.9512,2,-999.0000,5,    201.6,1, 26.4981,   -999.0,9,  -999.00,9,  -999.00,9,  -999.00,9,  -999.0,-999.000
     33KI165_1,  PRS2,     2, 12,     17,     17,2,20041128,2055, 22.8088,-157.9703, 4703,      5,      5.0,  26.5016,  34.9510,2,  34.9494,2,    201.7,1, 26.5005,   -999.0,9,  -999.00,9,  -999.00,9,  -999.00,9,  -999.0,-999.000
     33KI165_1,  PRS2,     2, 12,     16,     16,2,20041128,2055, 22.8088,-157.9703, 4703,     24,     24.7,  26.4894,  34.9522,2,  34.9498,2,    202.6,1, 26.4838,   -999.0,9,  -999.00,9,  -999.00,9,  -999.00,9,  -999.0,-999.000
     33KI165_1,  PRS2,     2, 12,     15,    102,2,20041128,2055, 22.8088,-157.9703, 4703,     25,     24.8,  26.4879,  34.9524,2,  34.9498,2,    202.7,1, 26.4823,   -999.0,9,  -999.00,9,  -999.00,9,  -999.00,9,  -999.0,-999.000
     33KI165_1,  PRS2,     2, 12,     14,    101,2,20041128,2055, 22.8088,-157.9703, 4703,     44,     45.0,  25.4583,  35.0528,2,  35.0541,2,    212.4,1, 25.4484,   -999.0,9,  -999.00,9,  -999.00,9,  -999.00,9,  -999.0,-999.000
     33KI165_1,  PRS2,     2, 12,     13,     42,2,20041128,2055, 22.8088,-157.9703, 4703,     45,     45.1,  25.4370,  35.0526,2,  35.0555,2,    212.6,1, 25.4271,   -999.0,9,  -999.00,9,  -999.00,9,  -999.00,9,  -999.0,-999.000
     33KI165_1,  PRS2,     2, 12,     12,     12,2,20041128,2055, 22.8088,-157.9703, 4703,     76,     75.1,  23.0097,  35.3208,2,  35.3179,2,    210.7,1, 22.9943,   -999.0,9,  -999.00,9,  -999.00,9,  -999.00,9,  -999.0,-999.000
     33KI165_1,  PRS2,     2, 12,     11,     39,2,20041128,2055, 22.8088,-157.9703, 4703,     75,     75.2,  23.0144,  35.3205,2,  35.3167,2,    210.2,1, 22.9991,   -999.0,9,  -999.00,9,  -999.00,9,  -999.00,9,  -999.0,-999.000
     33KI165_1,  PRS2,     2, 12,     10,     32,3,20041128,2055, 22.8088,-157.9703, 4703,    100,    100.1,  21.6414,  35.2786,2,  35.2654,2,    201.8,1, 21.6218,   -999.0,9,  -999.00,9,  -999.00,9,  -999.00,9,  -999.0,-999.000
     33KI165_1,  PRS2,     2, 12,      9,      3,2,20041128,2055, 22.8088,-157.9703, 4703,    125,    124.6,  20.5638,  35.2048,2,  35.2032,2,    203.1,1, 20.5403,   -999.0,9,  -999.00,9,  -999.00,9,  -999.00,9,  -999.0,-999.000
     33KI165_1,  PRS2,     2, 12,      8,     29,2,20041128,2055, 22.8088,-157.9703, 4703,    152,    150.7,  19.4765,  35.0723,2,  35.0726,2,    198.2,1, 19.4492,   -999.0,9,  -999.00,9,  -999.00,9,  -999.00,9,  -999.0,-999.000
     33KI165_1,  PRS2,     2, 12,      7,     28,2,20041128,2055, 22.8088,-157.9703, 4703,    176,    175.0,  18.0360,  34.8677,2,  34.8676,2,    197.0,1, 18.0060,   -999.0,9,  -999.00,9,  -999.00,9,  -999.00,9,  -999.0,-999.000
     33KI165_1,  PRS2,     2, 12,      6,     13,2,20041128,2055, 22.8088,-157.9703, 4703,    201,    199.8,  16.6498,  34.6626,2,  34.6612,2,    190.1,1, 16.6173,   -999.0,9,  -999.00,9,  -999.00,9,  -999.00,9,  -999.0,-999.000
     33KI165_1,  PRS2,     2, 12,      5,     38,2,20041128,2055, 22.8088,-157.9703, 4703,    252,    251.3,  13.2395,  34.2893,2,  34.2893,2,    189.6,1, 13.2047,   -999.0,9,  -999.00,9,  -999.00,9,  -999.00,9,  -999.0,-999.000
     33KI165_1,  PRS2,     2, 12,      3,     35,2,20041128,2055, 22.8088,-157.9703, 4703,    352,    351.4,   9.6521,  34.1530,2,  34.1546,2,    162.6,1,  9.6123,   -999.0,9,  -999.00,9,  -999.00,9,  -999.00,9,  -999.0,-999.000
     33KI165_1,  PRS2,     2, 12,      4,     36,2,20041128,2055, 22.8088,-157.9703, 4703,    353,    352.2,   9.6476,  34.1529,2,  34.1517,2,    162.8,1,  9.6077,   -999.0,9,  -999.00,9,  -999.00,9,  -999.00,9,  -999.0,-999.000
     33KI165_1,  PRS2,     2, 12,      2,     34,2,20041128,2055, 22.8088,-157.9703, 4703,    549,    550.2,   6.2864,  34.1609,2,  34.4924,4,     60.7,1,  6.2372,   -999.0,9,  -999.00,9,  -999.00,9,  -999.00,9,  -999.0,-999.000
     33KI165_1,  PRS2,     2, 12,      1,     33,2,20041128,2055, 22.8088,-157.9703, 4703,   1022,   1022.2,   4.1167,  34.4934,2,  34.4934,2,     41.4,1,  4.0383,   -999.0,9,  -999.00,9,  -999.00,9,  -999.00,9,  -999.0,-999.000
     33KI165_1,  PRS2,     2, 13,     20,     20,2,20041129,0003, 22.8167,-157.9287, 4670,      5,      5.2,  26.5463,  34.9472,2,  34.9449,2,    202.4,1, 26.5451,   -999.0,9,  -999.00,9,  -999.00,9,  -999.00,9,  -999.0,-999.000
     33KI165_1,  PRS2,     2, 13,     18,     18,2,20041129,0003, 22.8167,-157.9287, 4670,     25,     25.0,  25.9967,  34.9888,2,-999.0000,5,    206.7,1, 25.9911,   -999.0,9,  -999.00,9,  -999.00,9,  -999.00,9,  -999.0,-999.000
     33KI165_1,  PRS2,     2, 13,     17,     17,2,20041129,0003, 22.8167,-157.9287, 4670,     25,     25.0,  25.9825,  34.9896,2,-999.0000,5,    207.5,1, 25.9769,   -999.0,9,  -999.00,9,  -999.00,9,  -999.00,9,  -999.0,-999.000
     33KI165_1,  PRS2,     2, 13,     19,     19,3,20041129,0003, 22.8167,-157.9287, 4670,     25,     25.1,  26.0166,  34.9851,2,-999.0000,5,    205.9,1, 26.0110,   -999.0,9,  -999.00,9,  -999.00,9,  -999.00,9,  -999.0,-999.000
     33KI165_1,  PRS2,     2, 13,     16,     16,2,20041129,0003, 22.8167,-157.9287, 4670,     26,     25.1,  25.9601,  34.9924,2,-999.0000,5,    208.2,1, 25.9545,   -999.0,9,  -999.00,9,  -999.00,9,  -999.00,9,  -999.0,-999.000
     33KI165_1,  PRS2,     2, 13,     15,    102,2,20041129,0003, 22.8167,-157.9287, 4670,     25,     25.1,  25.9548,  34.9909,2,-999.0000,5,    208.9,1, 25.9492,   -999.0,9,  -999.00,9,  -999.00,9,  -999.00,9,  -999.0,-999.000
     33KI165_1,  PRS2,     2, 13,     14,    101,2,20041129,0003, 22.8167,-157.9287, 4670,     25,     25.1,  25.9237,  34.9951,2,  34.9642,4,    209.4,1, 25.9181,   -999.0,9,  -999.00,9,  -999.00,9,  -999.00,9,  -999.0,-999.000
     33KI165_1,  PRS2,     2, 13,     13,     42,2,20041129,0003, 22.8167,-157.9287, 4670,     46,     45.2,  24.6619,  35.1421,2,  35.1410,2,    209.7,1, 24.6522,   -999.0,9,  -999.00,9,  -999.00,9,  -999.00,9,  -999.0,-999.000
     33KI165_1,  PRS2,     2, 13,     12,     12,2,20041129,0003, 22.8167,-157.9287, 4670,     74,     74.6,  23.0737,  35.2756,2,  35.2755,2,    220.1,1, 23.0584,   -999.0,9,  -999.00,9,  -999.00,9,  -999.00,9,  -999.0,-999.000
     33KI165_1,  PRS2,     2, 13,     10,     32,2,20041129,0003, 22.8167,-157.9287, 4670,    100,     98.9,  21.6874,  35.2991,2,  35.2974,2,    207.4,1, 21.6680,   -999.0,9,  -999.00,9,  -999.00,9,  -999.00,9,  -999.0,-999.000
     33KI165_1,  PRS2,     2, 13,     11,     39,2,20041129,0003, 22.8167,-157.9287, 4670,    100,     99.1,  21.6876,  35.2997,2,  35.2982,2,    207.5,1, 21.6682,   -999.0,9,  -999.00,9,  -999.00,9,  -999.00,9,  -999.0,-999.000
     33KI165_1,  PRS2,     2, 13,      9,      3,2,20041129,0003, 22.8167,-157.9287, 4670,    126,    125.1,  20.8309,  35.2313,2,  35.2292,2,    204.2,1, 20.8071,   -999.0,9,  -999.00,9,  -999.00,9,  -999.00,9,  -999.0,-999.000
     33KI165_1,  PRS2,     2, 13,      8,     29,2,20041129,0003, 22.8167,-157.9287, 4670,    151,    149.3,  19.9725,  35.1359,2,  35.1408,2,    201.1,1, 19.9449,   -999.0,9,  -999.00,9,  -999.00,9,  -999.00,9,  -999.0,-999.000
     33KI165_1,  PRS2,     2, 13,      7,     28,2,20041129,0003, 22.8167,-157.9287, 4670,    176,    174.8,  18.5236,  34.9428,2,  34.9447,2,    196.9,1, 18.4930,   -999.0,9,  -999.00,9,  -999.00,9,  -999.00,9,  -999.0,-999.000
     33KI165_1,  PRS2,     2, 13,      6,     13,2,20041129,0003, 22.8167,-157.9287, 4670,    199,    199.5,  17.0525,  34.7177,2,  34.7235,2,    190.0,1, 17.0195,   -999.0,9,  -999.00,9,  -999.00,9,  -999.00,9,  -999.0,-999.000
     33KI165_1,  PRS2,     2, 13,      5,     38,2,20041129,0003, 22.8167,-157.9287, 4670,    251,    250.6,  14.1381,  34.3775,2,  34.3780,2,    188.2,1, 14.1018,   -999.0,9,  -999.00,9,  -999.00,9,  -999.00,9,  -999.0,-999.000
     33KI165_1,  PRS2,     2, 13,      4,     36,2,20041129,0003, 22.8167,-157.9287, 4670,    351,    350.4,  10.0598,  34.1615,2,  34.1591,2,    166.2,1, 10.0191,   -999.0,9,  -999.00,9,  -999.00,9,  -999.00,9,  -999.0,-999.000
     33KI165_1,  PRS2,     2, 13,      3,     35,2,20041129,0003, 22.8167,-157.9287, 4670,    350,    350.4,  10.0656,  34.1610,2,  34.1591,2,    165.9,1, 10.0249,   -999.0,9,  -999.00,9,  -999.00,9,  -999.00,9,  -999.0,-999.000
     33KI165_1,  PRS2,     2, 13,      2,     34,2,20041129,0003, 22.8167,-157.9287, 4670,    650,    650.0,   5.6484,  34.2639,2,  34.2625,2,     37.2,1,  5.5929,   -999.0,9,  -999.00,9,  -999.00,9,  -999.00,9,  -999.0,-999.000
     33KI165_1,  PRS2,     2, 13,      1,     33,2,20041129,0003, 22.8167,-157.9287, 4670,   1020,   1020.2,   4.0589,  34.4987,2,  34.4977,2,     41.8,1,  3.9811,   -999.0,9,  -999.00,9,  -999.00,9,  -999.00,9,  -999.0,-999.000
     33KI165_1,  PRS2,     2, 14,      5,     38,2,20041129,0227, 22.8165,-157.9922, 4670,      5,      4.9,  26.4696,  34.9776,2,  34.9896,3,    202.4,1, 26.4685,   -999.0,9,  -999.00,9,  -999.00,9,  -999.00,9,  -999.0,-999.000
     33KI165_1,  PRS2,     2, 14,      4,     36,2,20041129,0227, 22.8165,-157.9922, 4670,     92,     91.3,  22.5559,  35.3277,2,  35.3293,2,    212.9,1, 22.5375,   -999.0,9,  -999.00,9,  -999.00,9,  -999.00,9,  -999.0,-999.000
     33KI165_1,  PRS2,     2, 14,      3,     35,2,20041129,0227, 22.8165,-157.9922, 4670,    454,    454.5,   7.8801,  34.1055,2,  34.1080,2,    124.7,1,  7.8343,   -999.0,9,  -999.00,9,  -999.00,9,  -999.00,9,  -999.0,-999.000
     33KI165_1,  PRS2,     2, 14,      2,     34,2,20041129,0227, 22.8165,-157.9922, 4670,    750,    750.2,   5.0353,  34.3628,2,  34.3605,2,     30.8,1,  4.9741,   -999.0,9,  -999.00,9,  -999.00,9,  -999.00,9,  -999.0,-999.000
     33KI165_1,  PRS2,     2, 14,      1,     33,2,20041129,0227, 22.8165,-157.9922, 4670,   1021,   1020.7,   4.0633,  34.4967,2,  34.4962,2,     41.7,1,  3.9855,   -999.0,9,  -999.00,9,  -999.00,9,  -999.00,9,  -999.0,-999.000
     33KI165_1,  PRS2,     2, 15,      9,      3,2,20041129,0559, 22.7507,-157.9997, 4670,      5,      5.0,  25.8686,  35.0621,2,  35.0691,2,    205.3,1, 25.8675,   -999.0,9,  -999.00,9,  -999.00,9,  -999.00,9,  -999.0,-999.000
     33KI165_1,  PRS2,     2, 15,     11,     39,2,20041129,0559, 22.7507,-157.9997, 4670,      5,      5.1,  25.8716,  35.0618,2,  35.0585,2,    205.3,1, 25.8705,   -999.0,9,  -999.00,9,  -999.00,9,  -999.00,9,  -999.0,-999.000
     33KI165_1,  PRS2,     2, 15,     10,     32,3,20041129,0559, 22.7507,-157.9997, 4670,      5,      5.1,  25.8717,  35.0619,2,  35.0592,2,    205.3,1, 25.8706,   -999.0,9,  -999.00,9,  -999.00,9,  -999.00,9,  -999.0,-999.000
     33KI165_1,  PRS2,     2, 15,      8,     29,2,20041129,0559, 22.7507,-157.9997, 4670,     25,     25.0,  25.8782,  35.0650,2,  35.0648,2,    205.3,1, 25.8727,   -999.0,9,  -999.00,9,  -999.00,9,  -999.00,9,  -999.0,-999.000
     33KI165_1,  PRS2,     2, 15,      7,     28,2,20041129,0559, 22.7507,-157.9997, 4670,     25,     25.0,  25.8798,  35.0649,2,  35.0701,2,    205.4,1, 25.8743,   -999.0,9,  -999.00,9,  -999.00,9,  -999.00,9,  -999.0,-999.000
     33KI165_1,  PRS2,     2, 15,      6,     13,2,20041129,0559, 22.7507,-157.9997, 4670,     50,     49.5,  25.6781,  35.2257,2,  35.2225,2,    207.0,1, 25.6671,   -999.0,9,  -999.00,9,  -999.00,9,  -999.00,9,  -999.0,-999.000
     33KI165_1,  PRS2,     2, 15,      5,     38,2,20041129,0559, 22.7507,-157.9997, 4670,     50,     49.7,  25.6728,  35.2282,2,  35.2170,2,    206.8,1, 25.6618,   -999.0,9,  -999.00,9,  -999.00,9,  -999.00,9,  -999.0,-999.000
     33KI165_1,  PRS2,     2, 15,      4,     36,2,20041129,0559, 22.7507,-157.9997, 4670,    100,    100.6,  21.9622,  35.2599,2,  35.2574,2,    202.9,1, 21.9423,   -999.0,9,  -999.00,9,  -999.00,9,  -999.00,9,  -999.0,-999.000
     33KI165_1,  PRS2,     2, 15,      3,     35,2,20041129,0559, 22.7507,-157.9997, 4670,    123,    122.9,  21.5574,  35.3160,2,  35.3135,2,    206.9,1, 21.5334,   -999.0,9,  -999.00,9,  -999.00,9,  -999.00,9,  -999.0,-999.000
     33KI165_1,  PRS2,     2, 15,      2,     34,2,20041129,0559, 22.7507,-157.9997, 4670,    549,    549.0,   6.1675,  34.0832,2,  34.0833,2,     77.8,1,  6.1190,   -999.0,9,  -999.00,9,  -999.00,9,  -999.00,9,  -999.0,-999.000
     33KI165_1,  PRS2,     2, 15,      1,     33,2,20041129,0559, 22.7507,-157.9997, 4670,   1023,   1022.6,   4.1114,  34.4876,2,  34.4893,2,     42.5,1,  4.0331,   -999.0,9,  -999.00,9,  -999.00,9,  -999.00,9,  -999.0,-999.000