BOTTLE,20090923WHPSIOMYS
EXPOCODE,SECT_ID,STNNBR,CASTNO,SAMPNO,BTLNBR,BTLNBR_FLAG_W,DATE,TIME,LATITUDE,LONGITUDE,DEPTH,CTDRAW,CTDPRS,CTDTMP,CTDSAL,CTDSAL_FLAG_W,SALNTY,SALNTY_FLAG_W,CTDOXY,CTDOXY_FLAG_W,THETA,OXYGEN,OXYGEN_FLAG_W,SILCAT,SILCAT_FLAG_W,NO2+NO3,NO2+NO3_FLAG_W,PHSPHT,PHSPHT_FLAG_W,REVPRS,REVTMP
,,,,,,,,,,,,,DBAR,ITS-90,PSS-78,,PSS-78,,UMOL/KG,,ITS-90,UMOL/KG,,UMOL/KG,,UMOL/KG,,UMOL/KG,,DBAR,DEG C
     33KI165_1,  PRS2,     2,  3,     24,     31,2,20041127,1825, 22.7493,-157.9973, 4732,     24,     24.4,  26.0851,  35.0082,2,  35.0010,2,    203.9,2, 26.0797,    204.3,2,     0.83,2,     0.03,2,     0.03,2,  -999.0,-999.000
     33KI165_1,  PRS2,     2,  3,     23,     30,2,20041127,1825, 22.7493,-157.9973, 4732,     70,     71.2,  23.9999,  35.2636,2,  35.2546,2,    219.2,2, 23.9849,    217.9,2,     0.98,2,     0.04,2,     0.04,2,  -999.0,-999.000
     33KI165_1,  PRS2,     2,  3,     22,     22,2,20041127,1825, 22.7493,-157.9973, 4732,     80,     80.9,  23.2324,  35.3124,2,  35.3159,2,    222.3,2, 23.2158,    222.2,2,     1.26,2,     0.03,2,     0.02,2,  -999.0,-999.000
     33KI165_1,  PRS2,     2,  3,     21,     21,2,20041127,1825, 22.7493,-157.9973, 4732,     98,     97.9,  21.7810,  35.2981,2,  35.2948,2,    202.0,2, 21.7618,    207.4,2,     1.45,2,     0.31,2,     0.04,2,  -999.0,-999.000
     33KI165_1,  PRS2,     2,  3,     20,     20,2,20041127,1825, 22.7493,-157.9973, 4732,    151,    150.6,  19.5678,  35.0847,2,  35.0945,2,    200.1,2, 19.5404,    200.1,2,     2.11,2,     1.52,2,     0.07,2,  -999.0,-999.000
     33KI165_1,  PRS2,     2,  3,     19,     19,2,20041127,1825, 22.7493,-157.9973, 4732,    193,    192.6,  17.6737,  34.8172,2,  34.8163,2,    197.2,2, 17.6411,    195.4,2,     3.30,2,     3.45,2,     0.36,2,  -999.0,-999.000
     33KI165_1,  PRS2,     2,  3,     18,     18,2,20041127,1825, 22.7493,-157.9973, 4732,    230,    230.3,  15.7329,  34.5484,2,  34.5514,2,    188.3,2, 15.6970,    187.8,2,     5.32,2,     6.29,2,     0.58,2,  -999.0,-999.000
     33KI165_1,  PRS2,     2,  3,     17,     17,2,20041127,1825, 22.7493,-157.9973, 4732,    264,    263.2,  13.2485,  34.2961,2,  34.2946,2,    190.0,2, 13.2120,    190.3,2,     8.89,2,     9.84,2,     0.83,2,  -999.0,-999.000
     33KI165_1,  PRS2,     2,  3,     16,     16,2,20041127,1825, 22.7493,-157.9973, 4732,    295,    294.9,  12.1244,  34.2192,2,  34.2209,2,    194.2,2, 12.0858,    192.9,2,    11.35,2,    11.77,2,     0.95,2,  -999.0,-999.000
     33KI165_1,  PRS2,     2,  3,     15,    102,2,20041127,1825, 22.7493,-157.9973, 4732,    332,    330.9,  10.9456,  34.1798,2,  34.1789,2,    182.4,2, 10.9051,    182.5,2,    16.05,2,    15.45,2,     1.20,2,  -999.0,-999.000
     33KI165_1,  PRS2,     2,  3,     14,    101,2,20041127,1825, 22.7493,-157.9973, 4732,    392,    391.9,   9.2812,  34.1425,2,  34.1421,2,    152.2,2,  9.2378,    152.2,2,    27.19,2,    21.69,2,     1.65,2,  -999.0,-999.000
     33KI165_1,  PRS2,     2,  3,     13,     42,2,20041127,1825, 22.7493,-157.9973, 4732,    453,    452.9,   7.8368,  34.1196,2,  34.1219,2,    112.3,2,  7.7914,    111.9,2,    41.21,2,    28.06,2,     2.12,2,  -999.0,-999.000
     33KI165_1,  PRS2,     2,  3,     12,     12,2,20041127,1825, 22.7493,-157.9973, 4732,    506,    505.8,   7.2107,  34.1677,2,  34.1656,2,     79.6,2,  7.1621,     76.5,2,    50.80,2,    32.23,2,     2.46,2,  -999.0,-999.000
     33KI165_1,  PRS2,     2,  3,     11,     39,2,20041127,1825, 22.7493,-157.9973, 4732,    554,    554.4,   6.4057,  34.1627,2,  34.1642,2,     62.2,2,  6.3556,     60.9,2,    61.48,2,    35.13,2,     2.66,2,  -999.0,-999.000
     33KI165_1,  PRS2,     2,  3,     10,     32,2,20041127,1825, 22.7493,-157.9973, 4732,    618,    617.6,   5.9310,  34.2112,2,  34.2185,2,     45.4,2,  5.8771,     44.4,2,    71.29,2,    37.67,2,     2.81,2,  -999.0,-999.000
     33KI165_1,  PRS2,     2,  3,      9,      3,2,20041127,1825, 22.7493,-157.9973, 4732,    668,    668.9,   5.5016,  34.2938,2,  34.2915,2,     35.0,2,  5.4451,     34.1,2,    79.96,2,    39.50,2,     2.95,2,  -999.0,-999.000
     33KI165_1,  PRS2,     2,  3,      8,     29,2,20041127,1825, 22.7493,-157.9973, 4732,    715,    713.6,   5.2768,  34.3256,2,  34.3244,2,     32.7,2,  5.2175,     32.0,2,    84.19,2,    40.13,2,     3.00,2,  -999.0,-999.000
     33KI165_1,  PRS2,     2,  3,      7,     28,2,20041127,1825, 22.7493,-157.9973, 4732,    757,    757.1,   5.0398,  34.3570,2,  34.3607,2,     32.1,2,  4.9780,     31.1,2,    88.42,2,    40.69,2,     3.04,2,  -999.0,-999.000
     33KI165_1,  PRS2,     2,  3,      6,     13,2,20041127,1825, 22.7493,-157.9973, 4732,    805,    804.6,   4.8294,  34.3887,2,  34.3874,2,     30.7,2,  4.7647,     30.7,2,    92.65,2,    41.11,2,     3.06,2,  -999.0,-999.000
     33KI165_1,  PRS2,     2,  3,      5,     38,2,20041127,1825, 22.7493,-157.9973, 4732,    851,    850.8,   4.6511,  34.4237,2,  34.4253,2,     34.6,2,  4.5835,     33.4,2,    95.10,2,    41.31,2,     3.06,2,  -999.0,-999.000
     33KI165_1,  PRS2,     2,  3,      4,     36,2,20041127,1825, 22.7493,-157.9973, 4732,    893,    892.6,   4.4947,  34.4444,2,  34.4438,2,     36.2,2,  4.4246,     37.0,2,    98.44,2,    41.44,2,     3.07,2,  -999.0,-999.000
     33KI165_1,  PRS2,     2,  3,      3,     35,2,20041127,1825, 22.7493,-157.9973, 4732,    933,    931.8,   4.3988,  34.4643,2,  34.4640,2,     38.2,2,  4.3260,     39.0,2,   100.88,2,    41.29,2,     3.06,2,  -999.0,-999.000
     33KI165_1,  PRS2,     2,  3,      2,     34,2,20041127,1825, 22.7493,-157.9973, 4732,    995,    995.6,   4.2281,  34.4840,2,  34.4842,2,     41.5,2,  4.1511,     43.3,3,   101.11,3,    41.42,2,     3.04,2,  -999.0,-999.000
     33KI165_1,  PRS2,     2,  3,      1,     33,2,20041127,1825, 22.7493,-157.9973, 4732,   1019,   1019.4,   4.1613,  34.4887,2,  34.4899,2,     42.1,2,  4.0828,     42.6,2,    99.90,3,    41.41,2,     3.03,2,  -999.0,-999.000
     33KI165_1,  PRS2,     2,  4,     20,     20,2,20041127,2058, 22.7527,-157.9768, 4711,      5,      4.9,  26.5192,  34.9180,2,  34.9325,4,    202.3,1, 26.5181,   -999.0,9,  -999.00,9,  -999.00,9,  -999.00,9,  -999.0,-999.000
     33KI165_1,  PRS2,     2,  4,     19,     19,2,20041127,2058, 22.7527,-157.9768, 4711,      5,      4.9,  26.5187,  34.9180,2,  34.9172,2,    202.5,1, 26.5176,   -999.0,9,  -999.00,9,  -999.00,9,  -999.00,9,  -999.0,-999.000
     33KI165_1,  PRS2,     2,  4,     17,     17,2,20041127,2058, 22.7527,-157.9768, 4711,     26,     24.7,  26.2934,  34.9607,2,-999.0000,5,    204.1,1, 26.2879,   -999.0,9,  -999.00,9,  -999.00,9,  -999.00,9,  -999.0,-999.000
     33KI165_1,  PRS2,     2,  4,     18,     18,3,20041127,2058, 22.7527,-157.9768, 4711,     25,     24.9,  26.2811,  34.9644,2,-999.0000,5,    204.1,1, 26.2755,   -999.0,9,  -999.00,9,  -999.00,9,  -999.00,9,  -999.0,-999.000
     33KI165_1,  PRS2,     2,  4,     16,     16,2,20041127,2058, 22.7527,-157.9768, 4711,     45,     45.0,  25.7641,  35.0801,2,-999.0000,5,    205.0,1, 25.7541,   -999.0,9,  -999.00,9,  -999.00,9,  -999.00,9,  -999.0,-999.000
     33KI165_1,  PRS2,     2,  4,     15,    102,2,20041127,2058, 22.7527,-157.9768, 4711,     45,     45.2,  25.7637,  35.0796,2,  35.0756,2,    204.9,1, 25.7537,   -999.0,9,  -999.00,9,  -999.00,9,  -999.00,9,  -999.0,-999.000
     33KI165_1,  PRS2,     2,  4,     14,    101,2,20041127,2058, 22.7527,-157.9768, 4711,     61,     60.3,  25.5379,  35.1785,2,  35.1819,2,    207.4,1, 25.5246,   -999.0,9,  -999.00,9,  -999.00,9,  -999.00,9,  -999.0,-999.000
     33KI165_1,  PRS2,     2,  4,     13,     42,2,20041127,2058, 22.7527,-157.9768, 4711,     74,     74.8,  23.8107,  35.2795,2,-999.0000,5,    221.5,1, 23.7950,   -999.0,9,  -999.00,9,  -999.00,9,  -999.00,9,  -999.0,-999.000
     33KI165_1,  PRS2,     2,  4,     12,     12,2,20041127,2058, 22.7527,-157.9768, 4711,     75,     74.9,  23.8096,  35.2795,2,  35.2668,2,    221.8,1, 23.7939,   -999.0,9,  -999.00,9,  -999.00,9,  -999.00,9,  -999.0,-999.000
     33KI165_1,  PRS2,     2,  4,     11,     39,2,20041127,2058, 22.7527,-157.9768, 4711,     85,     84.7,  22.8857,  35.2777,2,  35.2828,2,    214.5,1, 22.8684,   -999.0,9,  -999.00,9,  -999.00,9,  -999.00,9,  -999.0,-999.000
     33KI165_1,  PRS2,     2,  4,     10,     32,2,20041127,2058, 22.7527,-157.9768, 4711,    100,    100.2,  21.4946,  35.2894,2,-999.0000,5,    206.5,1, 21.4751,   -999.0,9,  -999.00,9,  -999.00,9,  -999.00,9,  -999.0,-999.000
     33KI165_1,  PRS2,     2,  4,      9,      3,2,20041127,2058, 22.7527,-157.9768, 4711,    100,    100.2,  21.5099,  35.2897,2,  35.3200,4,    206.4,1, 21.4904,   -999.0,9,  -999.00,9,  -999.00,9,  -999.00,9,  -999.0,-999.000
     33KI165_1,  PRS2,     2,  4,      8,     29,2,20041127,2058, 22.7527,-157.9768, 4711,    116,    114.6,  20.7574,  35.2286,2,  35.2276,2,    203.3,1, 20.7356,   -999.0,9,  -999.00,9,  -999.00,9,  -999.00,9,  -999.0,-999.000
     33KI165_1,  PRS2,     2,  4,      7,     28,2,20041127,2058, 22.7527,-157.9768, 4711,    126,    125.6,  20.6075,  35.2099,2,-999.0000,5,    203.6,1, 20.5838,   -999.0,9,  -999.00,9,  -999.00,9,  -999.00,9,  -999.0,-999.000
     33KI165_1,  PRS2,     2,  4,      6,     13,2,20041127,2058, 22.7527,-157.9768, 4711,    126,    125.7,  20.6033,  35.2093,2,  35.2109,2,    203.6,1, 20.5795,   -999.0,9,  -999.00,9,  -999.00,9,  -999.00,9,  -999.0,-999.000
     33KI165_1,  PRS2,     2,  4,      5,     38,2,20041127,2058, 22.7527,-157.9768, 4711,    152,    151.2,  19.8046,  35.1139,2,  35.1152,2,    200.8,1, 19.7769,   -999.0,9,  -999.00,9,  -999.00,9,  -999.00,9,  -999.0,-999.000
     33KI165_1,  PRS2,     2,  4,      4,     36,2,20041127,2058, 22.7527,-157.9768, 4711,    174,    173.0,  18.3604,  34.9117,2,  34.9142,2,    195.9,1, 18.3303,   -999.0,9,  -999.00,9,  -999.00,9,  -999.00,9,  -999.0,-999.000
     33KI165_1,  PRS2,     2,  4,      3,     35,2,20041127,2058, 22.7527,-157.9768, 4711,    203,    202.4,  16.7251,  34.6766,2,  34.6956,2,    190.5,1, 16.6921,   -999.0,9,  -999.00,9,  -999.00,9,  -999.00,9,  -999.0,-999.000
     33KI165_1,  PRS2,     2,  4,      2,     34,2,20041127,2058, 22.7527,-157.9768, 4711,    450,    450.0,   7.4449,  34.1087,2,  34.1081,2,    104.4,1,  7.4011,   -999.0,9,  -999.00,9,  -999.00,9,  -999.00,9,  -999.0,-999.000
     33KI165_1,  PRS2,     2,  4,      1,     33,2,20041127,2058, 22.7527,-157.9768, 4711,   1019,   1018.6,   4.1115,  34.4898,2,  34.4907,2,     42.7,1,  4.0335,   -999.0,9,  -999.00,9,  -999.00,9,  -999.00,9,  -999.0,-999.000
     33KI165_1,  PRS2,     2,  5,     18,     18,2,20041127,2356, 22.7470,-157.9985, 4711,      4,      4.9,  26.5781,  34.9309,2,  34.9288,2,    202.5,1, 26.5770,   -999.0,9,  -999.00,9,  -999.00,9,  -999.00,9,  -999.0,-999.000
     33KI165_1,  PRS2,     2,  5,     17,     17,3,20041127,2356, 22.7470,-157.9985, 4711,      5,      4.9,  26.5781,  34.9308,2,  34.9313,2,    202.6,1, 26.5770,   -999.0,9,  -999.00,9,  -999.00,9,  -999.00,9,  -999.0,-999.000
     33KI165_1,  PRS2,     2,  5,     16,     16,2,20041127,2356, 22.7470,-157.9985, 4711,      5,      4.9,  26.5776,  34.9308,2,  34.9349,2,    202.7,1, 26.5765,   -999.0,9,  -999.00,9,  -999.00,9,  -999.00,9,  -999.0,-999.000
     33KI165_1,  PRS2,     2,  5,     15,    102,2,20041127,2356, 22.7470,-157.9985, 4711,     26,     25.2,  26.4754,  34.9285,2,  34.9250,2,    202.9,1, 26.4697,   -999.0,9,  -999.00,9,  -999.00,9,  -999.00,9,  -999.0,-999.000
     33KI165_1,  PRS2,     2,  5,     13,     42,2,20041127,2356, 22.7470,-157.9985, 4711,     26,     25.2,  26.4800,  34.9265,2,  34.9237,2,    203.0,1, 26.4743,   -999.0,9,  -999.00,9,  -999.00,9,  -999.00,9,  -999.0,-999.000
     33KI165_1,  PRS2,     2,  5,     14,    101,2,20041127,2356, 22.7470,-157.9985, 4711,     26,     25.3,  26.4764,  34.9288,2,  34.9274,2,    202.9,1, 26.4707,   -999.0,9,  -999.00,9,  -999.00,9,  -999.00,9,  -999.0,-999.000
     33KI165_1,  PRS2,     2,  5,     12,     12,2,20041127,2356, 22.7470,-157.9985, 4711,     44,     44.0,  25.7990,  35.1109,2,  35.1128,2,    204.9,1, 25.7892,   -999.0,9,  -999.00,9,  -999.00,9,  -999.00,9,  -999.0,-999.000
     33KI165_1,  PRS2,     2,  5,     11,     39,2,20041127,2356, 22.7470,-157.9985, 4711,     76,     75.4,  24.4211,  35.2633,2,  35.2605,2,    217.0,1, 24.4051,   -999.0,9,  -999.00,9,  -999.00,9,  -999.00,9,  -999.0,-999.000
     33KI165_1,  PRS2,     2,  5,      9,      3,2,20041127,2356, 22.7470,-157.9985, 4711,     85,     84.6,  23.2729,  35.2637,2,  35.2905,4,    214.5,1, 23.2554,   -999.0,9,  -999.00,9,  -999.00,9,  -999.00,9,  -999.0,-999.000
     33KI165_1,  PRS2,     2,  5,     10,     32,3,20041127,2356, 22.7470,-157.9985, 4711,     86,     84.8,  23.1733,  35.2484,2,  35.2629,4,    215.2,1, 23.1558,   -999.0,9,  -999.00,9,  -999.00,9,  -999.00,9,  -999.0,-999.000
     33KI165_1,  PRS2,     2,  5,      8,     29,3,20041127,2356, 22.7470,-157.9985, 4711,    100,     99.9,  22.4349,  35.2658,2,-999.0000,5,    202.6,1, 22.4149,   -999.0,9,  -999.00,9,  -999.00,9,  -999.00,9,  -999.0,-999.000
     33KI165_1,  PRS2,     2,  5,      7,     28,2,20041127,2356, 22.7470,-157.9985, 4711,    100,    100.0,  22.4423,  35.2692,2,  35.2556,2,    202.7,1, 22.4222,   -999.0,9,  -999.00,9,  -999.00,9,  -999.00,9,  -999.0,-999.000
     33KI165_1,  PRS2,     2,  5,      6,     13,2,20041127,2356, 22.7470,-157.9985, 4711,    126,    125.6,  21.2040,  35.2750,2,  35.2729,2,    208.3,1, 21.1798,   -999.0,9,  -999.00,9,  -999.00,9,  -999.00,9,  -999.0,-999.000
     33KI165_1,  PRS2,     2,  5,      5,     38,2,20041127,2356, 22.7470,-157.9985, 4711,    151,    150.3,  19.9336,  35.1279,2,  35.1303,2,    201.3,1, 19.9059,   -999.0,9,  -999.00,9,  -999.00,9,  -999.00,9,  -999.0,-999.000
     33KI165_1,  PRS2,     2,  5,      4,     36,2,20041127,2356, 22.7470,-157.9985, 4711,    251,    251.2,  14.3099,  34.3999,2,  34.4102,2,    190.8,1, 14.2732,   -999.0,9,  -999.00,9,  -999.00,9,  -999.00,9,  -999.0,-999.000
     33KI165_1,  PRS2,     2,  5,      3,     35,2,20041127,2356, 22.7470,-157.9985, 4711,    349,    348.8,  10.2741,  34.1583,2,  34.1595,2,    181.1,1, 10.2331,   -999.0,9,  -999.00,9,  -999.00,9,  -999.00,9,  -999.0,-999.000
     33KI165_1,  PRS2,     2,  5,      2,     34,2,20041127,2356, 22.7470,-157.9985, 4711,    450,    449.9,   7.6005,  34.1169,2,  34.1201,2,    101.3,1,  7.5562,   -999.0,9,  -999.00,9,  -999.00,9,  -999.00,9,  -999.0,-999.000
     33KI165_1,  PRS2,     2,  5,      1,     33,2,20041127,2356, 22.7470,-157.9985, 4711,   1020,   1019.7,   4.0454,  34.4967,2,  34.4979,2,     44.2,1,  3.9677,   -999.0,9,  -999.00,9,  -999.00,9,  -999.00,9,  -999.0,-999.000
     33KI165_1,  PRS2,     2,  6,     23,     30,2,20041128,0300, 22.7492,-158.0037, 4711,      5,      4.6,  26.5462,  34.9347,2,  34.9378,2,    205.7,1, 26.5451,   -999.0,9,  -999.00,9,  -999.00,9,  -999.00,9,  -999.0,-999.000
     33KI165_1,  PRS2,     2,  6,     22,     22,2,20041128,0300, 22.7492,-158.0037, 4711,      5,      4.6,  26.5453,  34.9348,2,  34.9347,2,    205.7,1, 26.5443,   -999.0,9,  -999.00,9,  -999.00,9,  -999.00,9,  -999.0,-999.000
     33KI165_1,  PRS2,     2,  6,     21,     21,2,20041128,0300, 22.7492,-158.0037, 4711,     14,     14.4,  26.5513,  34.9348,2,  34.9345,2,    205.7,1, 26.5481,   -999.0,9,  -999.00,9,  -999.00,9,  -999.00,9,  -999.0,-999.000
     33KI165_1,  PRS2,     2,  6,     20,     20,3,20041128,0300, 22.7492,-158.0037, 4711,     24,     24.1,  26.5371,  34.9324,2,  34.9329,2,    205.7,1, 26.5316,   -999.0,9,  -999.00,9,  -999.00,9,  -999.00,9,  -999.0,-999.000
     33KI165_1,  PRS2,     2,  6,     19,     19,2,20041128,0300, 22.7492,-158.0037, 4711,     24,     24.3,  26.5376,  34.9325,2,  34.9355,2,    205.6,1, 26.5321,   -999.0,9,  -999.00,9,  -999.00,9,  -999.00,9,  -999.0,-999.000
     33KI165_1,  PRS2,     2,  6,     18,     18,2,20041128,0300, 22.7492,-158.0037, 4711,     35,     35.2,  26.1864,  34.9908,2,  34.9752,3,    205.6,1, 26.1785,   -999.0,9,  -999.00,9,  -999.00,9,  -999.00,9,  -999.0,-999.000
     33KI165_1,  PRS2,     2,  6,     17,     17,2,20041128,0300, 22.7492,-158.0037, 4711,     36,     35.2,  26.1971,  34.9861,2,  34.9868,2,    205.7,1, 26.1892,   -999.0,9,  -999.00,9,  -999.00,9,  -999.00,9,  -999.0,-999.000
     33KI165_1,  PRS2,     2,  6,     16,     16,2,20041128,0300, 22.7492,-158.0037, 4711,     44,     44.3,  25.8869,  35.1733,2,  35.1400,3,    206.1,1, 25.8770,   -999.0,9,  -999.00,9,  -999.00,9,  -999.00,9,  -999.0,-999.000
     33KI165_1,  PRS2,     2,  6,     15,    102,2,20041128,0300, 22.7492,-158.0037, 4711,     44,     44.3,  25.8881,  35.1719,2,  35.1518,3,    206.3,1, 25.8782,   -999.0,9,  -999.00,9,  -999.00,9,  -999.00,9,  -999.0,-999.000
     33KI165_1,  PRS2,     2,  6,     14,    101,2,20041128,0300, 22.7492,-158.0037, 4711,     60,     59.9,  25.3903,  35.1796,2,  35.1892,2,    208.4,1, 25.3772,   -999.0,9,  -999.00,9,  -999.00,9,  -999.00,9,  -999.0,-999.000
     33KI165_1,  PRS2,     2,  6,     12,     12,2,20041128,0300, 22.7492,-158.0037, 4711,     76,     74.7,  23.8900,  35.2595,2,  35.2560,2,    217.0,1, 23.8744,   -999.0,9,  -999.00,9,  -999.00,9,  -999.00,9,  -999.0,-999.000
     33KI165_1,  PRS2,     2,  6,     13,     42,2,20041128,0300, 22.7492,-158.0037, 4711,     75,     74.8,  23.9043,  35.2585,2,  35.2560,2,    217.2,1, 23.8886,   -999.0,9,  -999.00,9,  -999.00,9,  -999.00,9,  -999.0,-999.000
     33KI165_1,  PRS2,     2,  6,      9,      3,2,20041128,0300, 22.7492,-158.0037, 4711,    100,    100.1,  22.6444,  35.3052,2,  35.3058,2,    211.7,1, 22.6242,   -999.0,9,  -999.00,9,  -999.00,9,  -999.00,9,  -999.0,-999.000
     33KI165_1,  PRS2,     2,  6,     10,     32,2,20041128,0300, 22.7492,-158.0037, 4711,    100,    100.2,  22.6358,  35.3013,2,  35.3037,2,    211.6,1, 22.6156,   -999.0,9,  -999.00,9,  -999.00,9,  -999.00,9,  -999.0,-999.000
     33KI165_1,  PRS2,     2,  6,     11,     39,2,20041128,0300, 22.7492,-158.0037, 4711,    101,    100.3,  22.6347,  35.3017,2,  35.2993,2,    211.6,1, 22.6144,   -999.0,9,  -999.00,9,  -999.00,9,  -999.00,9,  -999.0,-999.000
     33KI165_1,  PRS2,     2,  6,      8,     29,2,20041128,0300, 22.7492,-158.0037, 4711,    125,    124.6,  21.3010,  35.2803,2,  35.2794,2,    207.3,1, 21.2769,   -999.0,9,  -999.00,9,  -999.00,9,  -999.00,9,  -999.0,-999.000
     33KI165_1,  PRS2,     2,  6,      7,     28,2,20041128,0300, 22.7492,-158.0037, 4711,    125,    124.6,  21.3107,  35.2809,2,  35.2810,2,    206.8,1, 21.2866,   -999.0,9,  -999.00,9,  -999.00,9,  -999.00,9,  -999.0,-999.000
     33KI165_1,  PRS2,     2,  6,      6,     13,2,20041128,0300, 22.7492,-158.0037, 4711,    150,    149.4,  20.4138,  35.1879,2,  35.1894,2,    201.9,1, 20.3858,   -999.0,9,  -999.00,9,  -999.00,9,  -999.00,9,  -999.0,-999.000
     33KI165_1,  PRS2,     2,  6,      5,     38,2,20041128,0300, 22.7492,-158.0037, 4711,    150,    149.4,  20.4079,  35.1873,2,  35.1880,2,    201.9,1, 20.3799,   -999.0,9,  -999.00,9,  -999.00,9,  -999.00,9,  -999.0,-999.000
     33KI165_1,  PRS2,     2,  6,      4,     36,2,20041128,0300, 22.7492,-158.0037, 4711,    175,    174.5,  18.6787,  34.9632,2,  34.9675,2,    196.7,1, 18.6480,   -999.0,9,  -999.00,9,  -999.00,9,  -999.00,9,  -999.0,-999.000
     33KI165_1,  PRS2,     2,  6,      3,     35,2,20041128,0300, 22.7492,-158.0037, 4711,    175,    174.8,  18.6776,  34.9627,2,  34.9612,2,    196.6,1, 18.6468,   -999.0,9,  -999.00,9,  -999.00,9,  -999.00,9,  -999.0,-999.000
     33KI165_1,  PRS2,     2,  6,      2,     34,2,20041128,0300, 22.7492,-158.0037, 4711,    422,    421.2,   8.3663,  34.1074,2,  34.1115,2,    131.1,1,  8.3225,   -999.0,9,  -999.00,9,  -999.00,9,  -999.00,9,  -999.0,-999.000
     33KI165_1,  PRS2,     2,  6,      1,     33,2,20041128,0300, 22.7492,-158.0037, 4711,   1021,   1021.1,   4.1148,  34.4894,2,  34.4893,2,     42.8,1,  4.0365,   -999.0,9,  -999.00,9,  -999.00,9,  -999.00,9,  -999.0,-999.000