BOTTLE,20090923WHPSIOMYS
#code : jjward hyd_to_exchange.pl 
#original files copied from HTML directory: 20090923
#original HYD file: 33KI165_1_hy.txt   Wed Sep 23 17:56:56 2009
#original SUM file: ../33KI165_1su.txt   Wed Sep 23 17:56:54 2009
EXPOCODE,SECT_ID,STNNBR,CASTNO,SAMPNO,BTLNBR,BTLNBR_FLAG_W,DATE,TIME,LATITUDE,LONGITUDE,DEPTH,CTDRAW,CTDPRS,CTDTMP,CTDSAL,CTDSAL_FLAG_W,SALNTY,SALNTY_FLAG_W,CTDOXY,CTDOXY_FLAG_W,THETA,OXYGEN,OXYGEN_FLAG_W,SILCAT,SILCAT_FLAG_W,NO2+NO3,NO2+NO3_FLAG_W,PHSPHT,PHSPHT_FLAG_W,REVPRS,REVTMP
,,,,,,,,,,,,,DBAR,ITS-90,PSS-78,,PSS-78,,UMOL/KG,,ITS-90,UMOL/KG,,UMOL/KG,,UMOL/KG,,UMOL/KG,,DBAR,DEG C
     33KI165_1,  PRS2,     1,  1,     24,     31,3,20041126,2332, 21.3402,-158.2717, 1109,      6,      5.3,  26.7934,  34.7060,2,  34.7111,2,    202.3,2, 26.7922,    202.7,2,  -999.00,9,  -999.00,9,  -999.00,9,  -999.0,-999.000
     33KI165_1,  PRS2,     1,  1,     23,     30,3,20041126,2332, 21.3402,-158.2717, 1109,      5,      5.3,  26.7851,  34.7047,2,  34.7072,2,    202.3,2, 26.7839,    202.7,2,  -999.00,9,  -999.00,9,  -999.00,9,  -999.0,-999.000
     33KI165_1,  PRS2,     1,  1,     22,     22,2,20041126,2332, 21.3402,-158.2717, 1109,     25,     25.0,  26.7444,  34.8363,2,  34.8365,2,    202.2,2, 26.7387,    202.2,2,  -999.00,9,  -999.00,9,  -999.00,9,  -999.0,-999.000
     33KI165_1,  PRS2,     1,  1,     21,     21,3,20041126,2332, 21.3402,-158.2717, 1109,     45,     45.4,  26.7305,  34.8385,2,  34.8397,2,    202.4,2, 26.7202,    201.8,2,  -999.00,9,  -999.00,9,  -999.00,9,  -999.0,-999.000
     33KI165_1,  PRS2,     1,  1,     20,     20,2,20041126,2332, 21.3402,-158.2717, 1109,     60,     60.6,  26.7174,  34.8397,2,  34.8505,3,    202.6,3, 26.7036,    203.6,2,  -999.00,9,  -999.00,9,  -999.00,9,  -999.0,-999.000
     33KI165_1,  PRS2,     1,  1,     19,     19,2,20041126,2332, 21.3402,-158.2717, 1109,     74,     74.6,  26.6981,  34.8405,2,  34.8414,2,    202.7,2, 26.6811,    202.1,2,  -999.00,9,  -999.00,9,  -999.00,9,  -999.0,-999.000
     33KI165_1,  PRS2,     1,  1,     18,     18,2,20041126,2332, 21.3402,-158.2717, 1109,    100,    100.3,  26.6016,  34.8754,2,  34.8780,2,    203.1,2, 26.5789,    203.0,2,  -999.00,9,  -999.00,9,  -999.00,9,  -999.0,-999.000
     33KI165_1,  PRS2,     1,  1,     17,     17,2,20041126,2332, 21.3402,-158.2717, 1109,    116,    115.5,  24.6778,  35.1279,2,  35.1303,2,    213.3,2, 24.6530,    212.3,2,  -999.00,9,  -999.00,9,  -999.00,9,  -999.0,-999.000
     33KI165_1,  PRS2,     1,  1,     16,     16,2,20041126,2332, 21.3402,-158.2717, 1109,    124,    125.2,  24.1404,  35.1645,2,  35.1583,2,    210.6,2, 24.1139,    210.7,2,  -999.00,9,  -999.00,9,  -999.00,9,  -999.0,-999.000
     33KI165_1,  PRS2,     1,  1,     15,    102,3,20041126,2332, 21.3402,-158.2717, 1109,    150,    150.1,  22.2079,  35.1871,2,  35.2028,2,    192.9,2, 22.1780,    193.7,2,  -999.00,9,  -999.00,9,  -999.00,9,  -999.0,-999.000
     33KI165_1,  PRS2,     1,  1,     14,    101,2,20041126,2332, 21.3402,-158.2717, 1109,    176,    175.3,  20.1171,  35.0445,2,  35.0268,2,    185.4,2, 20.0846,    180.0,3,  -999.00,9,  -999.00,9,  -999.00,9,  -999.0,-999.000
     33KI165_1,  PRS2,     1,  1,     13,     42,2,20041126,2332, 21.3402,-158.2717, 1109,    200,    200.0,  17.8762,  34.8105,2,  34.8161,2,    180.4,2, 17.8421,    180.7,2,  -999.00,9,  -999.00,9,  -999.00,9,  -999.0,-999.000
     33KI165_1,  PRS2,     1,  1,     12,     12,2,20041126,2332, 21.3402,-158.2717, 1109,    225,    224.9,  16.0988,  34.6034,2,  34.6248,3,    175.3,3, 16.0631,    176.4,2,  -999.00,9,  -999.00,9,  -999.00,9,  -999.0,-999.000
     33KI165_1,  PRS2,     1,  1,     11,     39,2,20041126,2332, 21.3402,-158.2717, 1109,    250,    249.6,  13.8840,  34.3886,2,  34.3917,2,    173.8,2, 13.8483,    173.9,2,  -999.00,9,  -999.00,9,  -999.00,9,  -999.0,-999.000
     33KI165_1,  PRS2,     1,  1,     10,     32,2,20041126,2332, 21.3402,-158.2717, 1109,    300,    299.8,  11.6090,  34.2381,2,  34.2426,2,    178.2,2, 11.5709,    177.5,2,  -999.00,9,  -999.00,9,  -999.00,9,  -999.0,-999.000
     33KI165_1,  PRS2,     1,  1,      9,      3,2,20041126,2332, 21.3402,-158.2717, 1109,    350,    350.3,  10.0811,  34.1723,2,  34.1717,2,    164.4,2, 10.0403,    174.4,3,  -999.00,9,  -999.00,9,  -999.00,9,  -999.0,-999.000
     33KI165_1,  PRS2,     1,  1,      8,     29,2,20041126,2332, 21.3402,-158.2717, 1109,    398,    399.8,   8.4398,  34.1511,2,  34.1526,2,    121.3,2,  8.3980,    120.4,2,  -999.00,9,  -999.00,9,  -999.00,9,  -999.0,-999.000
     33KI165_1,  PRS2,     1,  1,      7,     28,2,20041126,2332, 21.3402,-158.2717, 1109,    500,    500.1,   6.7530,  34.1874,2,  34.1887,2,     76.0,2,  6.7067,     72.6,2,  -999.00,9,  -999.00,9,  -999.00,9,  -999.0,-999.000
     33KI165_1,  PRS2,     1,  1,      6,     13,2,20041126,2332, 21.3402,-158.2717, 1109,    600,    600.2,   5.4040,  34.2678,2,  34.2764,3,     41.0,3,  5.3542,     40.9,2,  -999.00,9,  -999.00,9,  -999.00,9,  -999.0,-999.000
     33KI165_1,  PRS2,     1,  1,      5,     38,2,20041126,2332, 21.3402,-158.2717, 1109,    701,    700.7,   4.9423,  34.3682,2,  34.3688,2,     37.3,2,  4.8859,     37.4,2,  -999.00,9,  -999.00,9,  -999.00,9,  -999.0,-999.000
     33KI165_1,  PRS2,     1,  1,      4,     36,2,20041126,2332, 21.3402,-158.2717, 1109,    750,    750.1,   4.8807,  34.3919,2,  34.3910,2,     38.0,2,  4.8204,     38.2,2,  -999.00,9,  -999.00,9,  -999.00,9,  -999.0,-999.000
     33KI165_1,  PRS2,     1,  1,      3,     35,2,20041126,2332, 21.3402,-158.2717, 1109,    801,    801.2,   4.6013,  34.4299,2,  34.4292,2,     41.1,2,  4.5382,     40.8,2,  -999.00,9,  -999.00,9,  -999.00,9,  -999.0,-999.000
     33KI165_1,  PRS2,     1,  1,      2,     34,2,20041126,2332, 21.3402,-158.2717, 1109,    900,    900.5,   4.3157,  34.4788,2,  34.4783,2,     46.9,2,  4.2461,     46.9,2,  -999.00,9,  -999.00,9,  -999.00,9,  -999.0,-999.000
     33KI165_1,  PRS2,     1,  1,      1,     33,2,20041126,2332, 21.3402,-158.2717, 1109,   1020,   1019.5,   3.9025,  34.5116,2,  34.5203,4,     52.0,3,  3.8260,     52.4,2,  -999.00,9,  -999.00,9,  -999.00,9,  -999.0,-999.000
     33KI165_1,  PRS2,     2,  1,     23,     30,2,20041127,1005,-22.7507,-157.9990, 4723,     30,     30.0,  25.7265,  35.0599,2,  35.0577,2,    205.1,1, 25.7198,   -999.0,9,  -999.00,9,  -999.00,9,  -999.00,9,  -999.0,-999.000
     33KI165_1,  PRS2,     2,  1,     13,     42,2,20041127,1005,-22.7507,-157.9990, 4723,     31,     30.0,  25.7239,  35.0599,2,-999.0000,5,    204.7,1, 25.7172,   -999.0,9,  -999.00,9,  -999.00,9,  -999.00,9,  -999.0,-999.000
     33KI165_1,  PRS2,     2,  1,     12,     12,2,20041127,1005,-22.7507,-157.9990, 4723,     31,     30.0,  25.7244,  35.0598,2,-999.0000,5,    204.7,1, 25.7178,   -999.0,9,  -999.00,9,  -999.00,9,  -999.00,9,  -999.0,-999.000
     33KI165_1,  PRS2,     2,  1,      8,     29,2,20041127,1005,-22.7507,-157.9990, 4723,     30,     30.0,  25.7215,  35.0600,2,-999.0000,5,    204.8,1, 25.7149,   -999.0,9,  -999.00,9,  -999.00,9,  -999.00,9,  -999.0,-999.000
     33KI165_1,  PRS2,     2,  1,      7,     28,2,20041127,1005,-22.7507,-157.9990, 4723,     30,     30.0,  25.7206,  35.0601,2,-999.0000,5,    204.8,1, 25.7139,   -999.0,9,  -999.00,9,  -999.00,9,  -999.00,9,  -999.0,-999.000
     33KI165_1,  PRS2,     2,  1,      6,     13,2,20041127,1005,-22.7507,-157.9990, 4723,     30,     30.0,  25.7211,  35.0600,2,-999.0000,5,    204.9,1, 25.7145,   -999.0,9,  -999.00,9,  -999.00,9,  -999.00,9,  -999.0,-999.000
     33KI165_1,  PRS2,     2,  1,      5,     38,2,20041127,1005,-22.7507,-157.9990, 4723,     30,     30.0,  25.7197,  35.0602,2,-999.0000,5,    204.9,1, 25.7131,   -999.0,9,  -999.00,9,  -999.00,9,  -999.00,9,  -999.0,-999.000
     33KI165_1,  PRS2,     2,  1,     22,     22,3,20041127,1005,-22.7507,-157.9990, 4723,     30,     30.1,  25.7263,  35.0600,2,-999.0000,5,    205.1,1, 25.7196,   -999.0,9,  -999.00,9,  -999.00,9,  -999.00,9,  -999.0,-999.000
     33KI165_1,  PRS2,     2,  1,     21,     21,2,20041127,1005,-22.7507,-157.9990, 4723,     30,     30.1,  25.7257,  35.0597,2,-999.0000,5,    205.0,1, 25.7190,   -999.0,9,  -999.00,9,  -999.00,9,  -999.00,9,  -999.0,-999.000
     33KI165_1,  PRS2,     2,  1,     20,     20,2,20041127,1005,-22.7507,-157.9990, 4723,     31,     30.1,  25.7256,  35.0596,2,-999.0000,5,    205.0,1, 25.7190,   -999.0,9,  -999.00,9,  -999.00,9,  -999.00,9,  -999.0,-999.000
     33KI165_1,  PRS2,     2,  1,     19,     19,2,20041127,1005,-22.7507,-157.9990, 4723,     31,     30.1,  25.7263,  35.0600,2,-999.0000,5,    204.9,1, 25.7196,   -999.0,9,  -999.00,9,  -999.00,9,  -999.00,9,  -999.0,-999.000
     33KI165_1,  PRS2,     2,  1,     18,     18,3,20041127,1005,-22.7507,-157.9990, 4723,     30,     30.1,  25.7258,  35.0598,2,-999.0000,5,    204.9,1, 25.7191,   -999.0,9,  -999.00,9,  -999.00,9,  -999.00,9,  -999.0,-999.000
     33KI165_1,  PRS2,     2,  1,     17,     17,2,20041127,1005,-22.7507,-157.9990, 4723,     30,     30.1,  25.7248,  35.0597,2,-999.0000,5,    204.8,1, 25.7181,   -999.0,9,  -999.00,9,  -999.00,9,  -999.00,9,  -999.0,-999.000
     33KI165_1,  PRS2,     2,  1,     16,     16,2,20041127,1005,-22.7507,-157.9990, 4723,     30,     30.1,  25.7240,  35.0598,2,-999.0000,5,    204.8,1, 25.7173,   -999.0,9,  -999.00,9,  -999.00,9,  -999.00,9,  -999.0,-999.000
     33KI165_1,  PRS2,     2,  1,     15,    102,2,20041127,1005,-22.7507,-157.9990, 4723,     30,     30.1,  25.7242,  35.0600,2,-999.0000,5,    204.7,1, 25.7176,   -999.0,9,  -999.00,9,  -999.00,9,  -999.00,9,  -999.0,-999.000
     33KI165_1,  PRS2,     2,  1,     14,    101,2,20041127,1005,-22.7507,-157.9990, 4723,     30,     30.1,  25.7244,  35.0598,2,-999.0000,5,    204.7,1, 25.7177,   -999.0,9,  -999.00,9,  -999.00,9,  -999.00,9,  -999.0,-999.000
     33KI165_1,  PRS2,     2,  1,     11,     39,2,20041127,1005,-22.7507,-157.9990, 4723,     30,     30.1,  25.7242,  35.0599,2,-999.0000,5,    204.7,1, 25.7175,   -999.0,9,  -999.00,9,  -999.00,9,  -999.00,9,  -999.0,-999.000
     33KI165_1,  PRS2,     2,  1,     10,     32,2,20041127,1005,-22.7507,-157.9990, 4723,     31,     30.2,  25.7236,  35.0600,2,-999.0000,5,    204.7,1, 25.7169,   -999.0,9,  -999.00,9,  -999.00,9,  -999.00,9,  -999.0,-999.000
     33KI165_1,  PRS2,     2,  1,      4,     36,2,20041127,1005,-22.7507,-157.9990, 4723,     30,     30.2,  25.7198,  35.0603,2,  35.0575,2,    204.9,1, 25.7131,   -999.0,9,  -999.00,9,  -999.00,9,  -999.00,9,  -999.0,-999.000
     33KI165_1,  PRS2,     2,  1,      9,      3,2,20041127,1005,-22.7507,-157.9990, 4723,     31,     30.3,  25.7223,  35.0599,2,-999.0000,5,    204.7,1, 25.7156,   -999.0,9,  -999.00,9,  -999.00,9,  -999.00,9,  -999.0,-999.000
     33KI165_1,  PRS2,     2,  1,      3,     35,2,20041127,1005,-22.7507,-157.9990, 4723,    700,    699.2,   5.1925,  34.3225,2,  34.3248,2,     30.8,1,  5.1350,   -999.0,9,  -999.00,9,  -999.00,9,  -999.00,9,  -999.0,-999.000
     33KI165_1,  PRS2,     2,  1,      2,     34,2,20041127,1005,-22.7507,-157.9990, 4723,    698,    700.1,   5.1902,  34.3228,2,-999.0000,5,     30.8,1,  5.1326,   -999.0,9,  -999.00,9,  -999.00,9,  -999.00,9,  -999.0,-999.000
     33KI165_1,  PRS2,     2,  1,      1,     33,2,20041127,1005,-22.7507,-157.9990, 4723,    699,    700.1,   5.1896,  34.3228,2,  34.3219,2,     30.8,1,  5.1320,   -999.0,9,  -999.00,9,  -999.00,9,  -999.00,9,  -999.0,-999.000
     33KI165_1,  PRS2,     2,  2,     24,     31,3,20041127,1311, 22.7520,-158.0005, 4737,      5,      4.8,  26.4105,  34.9065,2,  34.9061,2,    203.0,2, 26.4095,    202.9,2,     0.83,2,     0.00,2,     0.02,2,  -999.0,-999.000
     33KI165_1,  PRS2,     2,  2,     23,     30,2,20041127,1311, 22.7520,-158.0005, 4737,    503,    501.9,   7.1826,  34.1453,2,  34.1474,2,     88.8,2,  7.1345,     82.7,2,  -999.00,5,    31.87,2,     2.41,2,  -999.0,-999.000
     33KI165_1,  PRS2,     2,  2,     22,     22,2,20041127,1311, 22.7520,-158.0005, 4737,    754,    754.1,   5.1539,  34.3532,2,  34.3523,2,     31.6,2,  5.0917,     31.2,2,  -999.00,5,    40.43,2,     3.02,2,  -999.0,-999.000
     33KI165_1,  PRS2,     2,  2,     21,     21,2,20041127,1311, 22.7520,-158.0005, 4737,    999,    998.1,   4.1852,  34.4860,2,  34.4856,2,     42.0,2,  4.1083,     39.2,3,  -999.00,5,    41.40,2,     3.04,2,  -999.0,-999.000
     33KI165_1,  PRS2,     2,  2,     20,     20,2,20041127,1311, 22.7520,-158.0005, 4737,   1203,   1203.3,   3.5905,  34.5307,2,  34.5339,3,     50.7,3,  3.5014,     50.6,2,   116.64,2,    41.59,2,     3.02,2,  -999.0,-999.000
     33KI165_1,  PRS2,     2,  2,     19,     19,2,20041127,1311, 22.7520,-158.0005, 4737,   1399,   1400.5,   3.1378,  34.5614,2,  34.5653,3,     58.2,3,  3.0367,     57.4,2,   127.85,2,    41.30,2,     3.04,3,  -999.0,-999.000
     33KI165_1,  PRS2,     2,  2,     18,     18,2,20041127,1311, 22.7520,-158.0005, 4737,   1600,   1600.7,   2.7357,  34.5793,2,  34.5794,2,     69.7,2,  2.6226,     70.3,2,   135.98,2,    40.44,2,     2.95,2,  -999.0,-999.000
     33KI165_1,  PRS2,     2,  2,     17,     17,2,20041127,1311, 22.7520,-158.0005, 4737,   1800,   1801.3,   2.3817,  34.6012,2,  34.6020,2,     79.5,2,  2.2565,     80.0,2,   142.02,2,    40.01,2,     2.91,2,  -999.0,-999.000
     33KI165_1,  PRS2,     2,  2,     16,     16,2,20041127,1311, 22.7520,-158.0005, 4737,   1998,   1999.2,   2.1508,  34.6169,2,  34.6172,2,     87.4,2,  2.0122,     88.3,2,   148.37,2,    39.57,2,     2.86,2,  -999.0,-999.000
     33KI165_1,  PRS2,     2,  2,     15,    102,2,20041127,1311, 22.7520,-158.0005, 4737,   2200,   2200.5,   1.9570,  34.6321,2,  34.6331,2,     96.5,2,  1.8042,     96.3,2,   152.62,2,    38.93,2,     2.82,2,  -999.0,-999.000
     33KI165_1,  PRS2,     2,  2,     14,    101,2,20041127,1311, 22.7520,-158.0005, 4737,   2400,   2400.9,   1.8081,  34.6448,2,  34.6447,2,    104.7,2,  1.6403,    105.2,2,   153.36,2,    38.57,2,     2.75,2,  -999.0,-999.000
     33KI165_1,  PRS2,     2,  2,     13,     42,2,20041127,1311, 22.7520,-158.0005, 4737,   2598,   2598.2,   1.6992,  34.6542,2,  34.6539,2,    110.3,2,  1.5157,    110.6,2,   156.26,2,    38.21,2,     2.73,2,  -999.0,-999.000
     33KI165_1,  PRS2,     2,  2,     12,     12,2,20041127,1311, 22.7520,-158.0005, 4737,   2800,   2801.1,   1.6197,  34.6623,2,  34.6647,2,    117.4,2,  1.4192,    117.6,2,   158.11,2,    37.79,2,     2.69,2,  -999.0,-999.000
     33KI165_1,  PRS2,     2,  2,     11,     39,2,20041127,1311, 22.7520,-158.0005, 4737,   2998,   2999.2,   1.5563,  34.6688,2,  34.6682,2,    123.8,2,  1.3384,    124.2,2,   157.70,2,    37.52,2,     2.63,2,  -999.0,-999.000
     33KI165_1,  PRS2,     2,  2,     10,     32,2,20041127,1311, 22.7520,-158.0005, 4737,   3200,   3199.5,   1.5104,  34.6743,2,  34.6612,4,    130.1,3,  1.2741,    129.2,2,   154.78,2,    37.33,2,     2.60,2,  -999.0,-999.000
     33KI165_1,  PRS2,     2,  2,      9,      3,2,20041127,1311, 22.7520,-158.0005, 4737,   3399,   3399.9,   1.4778,  34.6795,2,  34.6816,2,    136.4,2,  1.2223,    136.3,2,   153.41,2,    36.84,2,     2.60,2,  -999.0,-999.000
     33KI165_1,  PRS2,     2,  2,      8,     29,2,20041127,1311, 22.7520,-158.0005, 4737,   3599,   3599.7,   1.4645,  34.6827,2,  34.6822,2,    140.8,2,  1.1890,    140.6,2,   154.47,2,    36.61,2,     2.59,2,  -999.0,-999.000
     33KI165_1,  PRS2,     2,  2,      7,     28,2,20041127,1311, 22.7520,-158.0005, 4737,   3799,   3798.9,   1.4593,  34.6851,2,  34.6853,2,    144.3,2,  1.1631,    137.8,4,   151.97,2,    36.33,2,     2.56,2,  -999.0,-999.000
     33KI165_1,  PRS2,     2,  2,      6,     13,2,20041127,1311, 22.7520,-158.0005, 4737,   4000,   4000.8,   1.4584,  34.6870,2,  34.6879,2,    147.5,2,  1.1406,    147.2,2,   150.18,2,    36.27,2,     2.55,2,  -999.0,-999.000
     33KI165_1,  PRS2,     2,  2,      5,     38,2,20041127,1311, 22.7520,-158.0005, 4737,   4200,   4202.3,   1.4651,  34.6882,2,  34.6905,2,    150.1,2,  1.1249,    150.0,2,   149.75,2,    36.08,2,     2.55,2,  -999.0,-999.000
     33KI165_1,  PRS2,     2,  2,      4,     36,2,20041127,1311, 22.7520,-158.0005, 4737,   4401,   4399.5,   1.4758,  34.6894,2,  34.6889,2,    151.9,2,  1.1131,    152.2,2,   147.65,2,    35.94,2,     2.52,2,  -999.0,-999.000
     33KI165_1,  PRS2,     2,  2,      3,     35,3,20041127,1311, 22.7520,-158.0005, 4737,   4502,   4500.9,   1.4837,  34.6896,2,  34.6887,2,    152.4,2,  1.1091,    151.9,2,   147.01,2,    35.93,2,     2.49,2,  -999.0,-999.000
     33KI165_1,  PRS2,     2,  2,      2,     34,2,20041127,1311, 22.7520,-158.0005, 4737,   4598,   4600.0,   1.4907,  34.6898,2,  34.6926,2,    153.0,2,  1.1044,    152.9,2,   146.28,2,    35.64,2,     2.49,2,  -999.0,-999.000
     33KI165_1,  PRS2,     2,  2,      1,     33,2,20041127,1311, 22.7520,-158.0005, 4737,   4806,   4805.7,   1.5065,  34.6906,2,  34.6916,2,    154.4,2,  1.0954,    154.9,2,   145.72,2,    35.63,2,     2.51,2,  -999.0,-999.000