BOTTLE,20090923WHPSIOMYS
EXPOCODE,SECT_ID,STNNBR,CASTNO,SAMPNO,BTLNBR,BTLNBR_FLAG_W,DATE,TIME,LATITUDE,LONGITUDE,DEPTH,CTDRAW,CTDPRS,CTDTMP,CTDSAL,CTDSAL_FLAG_W,SALNTY,SALNTY_FLAG_W,CTDOXY,CTDOXY_FLAG_W,THETA,OXYGEN,OXYGEN_FLAG_W,SILCAT,SILCAT_FLAG_W,NO2+NO3,NO2+NO3_FLAG_W,PHSPHT,PHSPHT_FLAG_W,REVPRS,REVTMP
,,,,,,,,,,,,,DBAR,ITS-90,PSS-78,,PSS-78,,UMOL/KG,,ITS-90,UMOL/KG,,UMOL/KG,,UMOL/KG,,UMOL/KG,,DBAR,DEG C
     33KI165_1,  PRS2,     2, 16,      8,     29,2,20041129,0857, 22.7473,-157.9993, 4725,      5,      4.5,  25.8414,  35.0335,2,  35.0315,2,    204.6,2, 25.8404,    202.4,2,  -999.00,9,  -999.00,9,  -999.00,9,  -999.0,-999.000
     33KI165_1,  PRS2,     2, 16,      7,     28,2,20041129,0857, 22.7473,-157.9993, 4725,    102,    101.7,  21.9223,  35.3075,2,  35.3056,2,    204.9,2, 21.9022,    209.7,3,  -999.00,9,  -999.00,9,  -999.00,9,  -999.0,-999.000
     33KI165_1,  PRS2,     2, 16,      6,     13,2,20041129,0857, 22.7473,-157.9993, 4725,    522,    521.1,   6.5026,  34.1472,2,  34.1454,2,     75.7,2,  6.4553,     68.6,2,  -999.00,9,  -999.00,9,  -999.00,9,  -999.0,-999.000
     33KI165_1,  PRS2,     2, 16,      5,     38,2,20041129,0857, 22.7473,-157.9993, 4725,    773,    773.7,   4.8026,  34.3978,2,  34.3978,2,     32.1,2,  4.7407,     32.0,2,  -999.00,9,  -999.00,9,  -999.00,9,  -999.0,-999.000
     33KI165_1,  PRS2,     2, 16,      4,     36,2,20041129,0857, 22.7473,-157.9993, 4725,   2006,   2005.4,   2.0980,  34.6178,2,-999.0000,5,     88.6,2,  1.9597,     92.2,3,  -999.00,9,  -999.00,9,  -999.00,9,  -999.0,-999.000
     33KI165_1,  PRS2,     2, 16,      3,     35,2,20041129,0857, 22.7473,-157.9993, 4725,   3004,   3004.6,   1.5394,  34.6680,2,  34.6690,2,    125.3,2,  1.3213,    126.5,2,  -999.00,9,  -999.00,9,  -999.00,9,  -999.0,-999.000
     33KI165_1,  PRS2,     2, 16,      2,     34,2,20041129,0857, 22.7473,-157.9993, 4725,   3999,   3999.3,   1.4538,  34.6854,2,  34.6853,2,    148.5,2,  1.1363,    148.5,2,  -999.00,9,  -999.00,9,  -999.00,9,  -999.0,-999.000
     33KI165_1,  PRS2,     2, 16,      1,     33,2,20041129,0857, 22.7473,-157.9993, 4725,   4802,   4802.0,   1.5072,  34.6887,2,  34.6914,2,    154.3,2,  1.0965,    154.6,2,  -999.00,9,  -999.00,9,  -999.00,9,  -999.0,-999.000
     33KI165_1,  PRS2,     6,  1,     13,     42,2,20041130,0642, 21.8473,-158.3625, 2443,      5,      4.9,  26.5450,  34.8428,2,  34.8410,2,    202.7,1, 26.5439,   -999.0,9,  -999.00,9,  -999.00,9,  -999.00,9,  -999.0,-999.000
     33KI165_1,  PRS2,     6,  1,     14,    101,2,20041130,0642, 21.8473,-158.3625, 2443,      5,      5.0,  26.5465,  34.8431,2,  34.8403,2,    202.7,1, 26.5454,   -999.0,9,  -999.00,9,  -999.00,9,  -999.00,9,  -999.0,-999.000
     33KI165_1,  PRS2,     6,  1,     12,     12,2,20041130,0642, 21.8473,-158.3625, 2443,     25,     24.1,  26.5610,  34.8424,2,  34.8397,2,    202.6,1, 26.5555,   -999.0,9,  -999.00,9,  -999.00,9,  -999.00,9,  -999.0,-999.000
     33KI165_1,  PRS2,     6,  1,     11,     39,2,20041130,0642, 21.8473,-158.3625, 2443,     45,     45.2,  26.5590,  34.8426,2,  34.8465,2,    202.4,1, 26.5487,   -999.0,9,  -999.00,9,  -999.00,9,  -999.00,9,  -999.0,-999.000
     33KI165_1,  PRS2,     6,  1,     10,     32,2,20041130,0642, 21.8473,-158.3625, 2443,     73,     74.2,  26.4695,  34.8432,2,  34.8460,2,    202.5,1, 26.4527,   -999.0,9,  -999.00,9,  -999.00,9,  -999.00,9,  -999.0,-999.000
     33KI165_1,  PRS2,     6,  1,      9,      3,2,20041130,0642, 21.8473,-158.3625, 2443,    101,    101.5,  24.2657,  35.1407,2,  35.1374,2,    210.5,1, 24.2442,   -999.0,9,  -999.00,9,  -999.00,9,  -999.00,9,  -999.0,-999.000
     33KI165_1,  PRS2,     6,  1,      8,     29,2,20041130,0642, 21.8473,-158.3625, 2443,    124,    124.2,  23.1151,  35.1825,2,  35.1778,2,    201.3,1, 23.0896,   -999.0,9,  -999.00,9,  -999.00,9,  -999.00,9,  -999.0,-999.000
     33KI165_1,  PRS2,     6,  1,      7,     28,2,20041130,0642, 21.8473,-158.3625, 2443,    149,    148.8,  21.4434,  35.1488,2,  35.1463,2,    186.7,1, 21.4145,   -999.0,9,  -999.00,9,  -999.00,9,  -999.00,9,  -999.0,-999.000
     33KI165_1,  PRS2,     6,  1,      6,     13,2,20041130,0642, 21.8473,-158.3625, 2443,    176,    176.2,  19.5308,  35.0107,2,  35.0091,2,    184.6,1, 19.4988,   -999.0,9,  -999.00,9,  -999.00,9,  -999.00,9,  -999.0,-999.000
     33KI165_1,  PRS2,     6,  1,      5,     38,2,20041130,0642, 21.8473,-158.3625, 2443,    480,    480.1,   7.8904,  34.1307,2,  34.1285,2,    113.9,1,  7.8419,   -999.0,9,  -999.00,9,  -999.00,9,  -999.00,9,  -999.0,-999.000
     33KI165_1,  PRS2,     6,  1,      4,     36,2,20041130,0642, 21.8473,-158.3625, 2443,   1004,   1004.4,   3.9564,  34.4929,2,  34.4907,2,     47.4,1,  3.8807,   -999.0,9,  -999.00,9,  -999.00,9,  -999.00,9,  -999.0,-999.000
     33KI165_1,  PRS2,     6,  1,      3,     35,2,20041130,0642, 21.8473,-158.3625, 2443,   1499,   1500.0,   2.8287,  34.5734,2,  34.5724,2,     69.1,1,  2.7229,   -999.0,9,  -999.00,9,  -999.00,9,  -999.00,9,  -999.0,-999.000
     33KI165_1,  PRS2,     6,  1,      2,     34,2,20041130,0642, 21.8473,-158.3625, 2443,   1994,   1994.8,   2.0455,  34.6264,2,  34.6256,2,     94.3,1,  1.9088,   -999.0,9,  -999.00,9,  -999.00,9,  -999.00,9,  -999.0,-999.000
     33KI165_1,  PRS2,     6,  1,      1,     33,2,20041130,0642, 21.8473,-158.3625, 2443,   2465,   2465.0,   1.7956,  34.6471,2,  34.6462,2,    106.3,1,  1.6223,   -999.0,9,  -999.00,9,  -999.00,9,  -999.00,9,  -999.0,-999.000
     33KI165_1,  PRS2,    50,  1,      5,     38,2,20041129,1925, 22.7957,-157.8995, 4725,      7,      5.9,  26.2001,  34.9739,2,-999.0000,9,    202.7,1, 26.1988,   -999.0,9,  -999.00,9,  -999.00,9,  -999.00,9,  -999.0,-999.000
     33KI165_1,  PRS2,    50,  1,      4,     36,2,20041129,1925, 22.7957,-157.8995, 4725,      6,      5.9,  26.2001,  34.9738,2,-999.0000,9,    202.7,1, 26.1988,   -999.0,9,  -999.00,9,  -999.00,9,  -999.00,9,  -999.0,-999.000
     33KI165_1,  PRS2,    50,  1,      3,     35,2,20041129,1925, 22.7957,-157.8995, 4725,      6,      5.9,  26.1997,  34.9739,2,-999.0000,9,    202.6,1, 26.1984,   -999.0,9,  -999.00,9,  -999.00,9,  -999.00,9,  -999.0,-999.000
     33KI165_1,  PRS2,    50,  1,      1,     33,2,20041129,1925, 22.7957,-157.8995, 4725,      6,      5.9,  26.2007,  34.9740,2,-999.0000,9,    202.6,1, 26.1994,   -999.0,9,  -999.00,9,  -999.00,9,  -999.00,9,  -999.0,-999.000
     33KI165_1,  PRS2,    50,  1,      2,     34,2,20041129,1925, 22.7957,-157.8995, 4725,      6,      6.0,  26.2000,  34.9738,2,-999.0000,9,    202.6,1, 26.1987,   -999.0,9,  -999.00,9,  -999.00,9,  -999.00,9,  -999.0,-999.000
     33KI165_1,  PRS2,    50,  1,      6,     13,2,20041129,1925, 22.7957,-157.8995, 4725,      7,      6.1,  26.1998,  34.9738,2,-999.0000,9,    202.6,1, 26.1984,   -999.0,9,  -999.00,9,  -999.00,9,  -999.00,9,  -999.0,-999.000