BOTTLE,20090923WHPSIOMYS
EXPOCODE,SECT_ID,STNNBR,CASTNO,SAMPNO,BTLNBR,BTLNBR_FLAG_W,DATE,TIME,LATITUDE,LONGITUDE,DEPTH,CTDRAW,CTDPRS,CTDTMP,CTDSAL,CTDSAL_FLAG_W,SALNTY,SALNTY_FLAG_W,CTDOXY,CTDOXY_FLAG_W,THETA,OXYGEN,OXYGEN_FLAG_W,SILCAT,SILCAT_FLAG_W,NO2+NO3,NO2+NO3_FLAG_W,PHSPHT,PHSPHT_FLAG_W,REVPRS,REVTMP
,,,,,,,,,,,,,DBAR,ITS-90,PSS-78,,PSS-78,,UMOL/KG,,ITS-90,UMOL/KG,,UMOL/KG,,UMOL/KG,,UMOL/KG,,DBAR,DEG C
     33KI165_1,  PRS2,     2,  7,     23,     30,2,20041128,0558, 22.7495,-158.0017, 4711,      5,      4.9,  26.5825,  34.9302,2,  34.9278,2,    201.9,1, 26.5814,   -999.0,9,  -999.00,9,  -999.00,9,  -999.00,9,  -999.0,-999.000
     33KI165_1,  PRS2,     2,  7,     24,     31,2,20041128,0558, 22.7495,-158.0017, 4711,      5,      5.0,  26.5836,  34.9301,2,  34.9494,4,    201.8,1, 26.5825,   -999.0,9,  -999.00,9,  -999.00,9,  -999.00,9,  -999.0,-999.000
     33KI165_1,  PRS2,     2,  7,     22,     22,2,20041128,0558, 22.7495,-158.0017, 4711,      5,      5.0,  26.5830,  34.9300,2,  34.9303,2,    202.0,1, 26.5819,   -999.0,9,  -999.00,9,  -999.00,9,  -999.00,9,  -999.0,-999.000
     33KI165_1,  PRS2,     2,  7,     21,     21,2,20041128,0558, 22.7495,-158.0017, 4711,     25,     24.6,  26.5842,  34.9307,2,  34.9355,2,    202.1,1, 26.5786,   -999.0,9,  -999.00,9,  -999.00,9,  -999.00,9,  -999.0,-999.000
     33KI165_1,  PRS2,     2,  7,     20,     20,3,20041128,0558, 22.7495,-158.0017, 4711,     25,     24.7,  26.5837,  34.9306,2,  34.9319,2,    202.2,1, 26.5781,   -999.0,9,  -999.00,9,  -999.00,9,  -999.00,9,  -999.0,-999.000
     33KI165_1,  PRS2,     2,  7,     19,     19,2,20041128,0558, 22.7495,-158.0017, 4711,     45,     45.0,  26.2829,  34.9541,2,  34.9463,2,    204.9,1, 26.2728,   -999.0,9,  -999.00,9,  -999.00,9,  -999.00,9,  -999.0,-999.000
     33KI165_1,  PRS2,     2,  7,     18,     18,2,20041128,0558, 22.7495,-158.0017, 4711,     45,     45.0,  26.2940,  34.9533,2,  34.9482,2,    205.2,1, 26.2839,   -999.0,9,  -999.00,9,  -999.00,9,  -999.00,9,  -999.0,-999.000
     33KI165_1,  PRS2,     2,  7,     17,     17,2,20041128,0558, 22.7495,-158.0017, 4711,     60,     59.4,  25.5920,  35.1895,2,  35.2050,3,    208.4,1, 25.5789,   -999.0,9,  -999.00,9,  -999.00,9,  -999.00,9,  -999.0,-999.000
     33KI165_1,  PRS2,     2,  7,     16,     16,2,20041128,0558, 22.7495,-158.0017, 4711,     75,     75.0,  24.2706,  35.2515,2,  35.2562,2,    216.3,1, 24.2547,   -999.0,9,  -999.00,9,  -999.00,9,  -999.00,9,  -999.0,-999.000
     33KI165_1,  PRS2,     2,  7,     15,    102,2,20041128,0558, 22.7495,-158.0017, 4711,     75,     75.0,  24.2456,  35.2495,2,  35.2810,3,    216.4,1, 24.2297,   -999.0,9,  -999.00,9,  -999.00,9,  -999.00,9,  -999.0,-999.000
     33KI165_1,  PRS2,     2,  7,     14,    101,2,20041128,0558, 22.7495,-158.0017, 4711,     85,     84.8,  23.1181,  35.3278,2,  35.3366,2,    222.0,1, 23.1007,   -999.0,9,  -999.00,9,  -999.00,9,  -999.00,9,  -999.0,-999.000
     33KI165_1,  PRS2,     2,  7,     11,     39,2,20041128,0558, 22.7495,-158.0017, 4711,     99,     99.3,  22.3547,  35.3157,2,  35.3141,2,    212.7,1, 22.3348,   -999.0,9,  -999.00,9,  -999.00,9,  -999.00,9,  -999.0,-999.000
     33KI165_1,  PRS2,     2,  7,     12,     12,2,20041128,0558, 22.7495,-158.0017, 4711,    100,     99.4,  22.3646,  35.3145,2,  35.3131,2,    212.5,1, 22.3446,   -999.0,9,  -999.00,9,  -999.00,9,  -999.00,9,  -999.0,-999.000
     33KI165_1,  PRS2,     2,  7,     13,     42,2,20041128,0558, 22.7495,-158.0017, 4711,     99,     99.5,  22.3844,  35.3117,2,  35.3100,2,    212.3,1, 22.3645,   -999.0,9,  -999.00,9,  -999.00,9,  -999.00,9,  -999.0,-999.000
     33KI165_1,  PRS2,     2,  7,     10,     32,2,20041128,0558, 22.7495,-158.0017, 4711,    115,    115.0,  21.2954,  35.2830,2,  35.2846,2,    208.0,1, 21.2731,   -999.0,9,  -999.00,9,  -999.00,9,  -999.00,9,  -999.0,-999.000
     33KI165_1,  PRS2,     2,  7,      9,      3,2,20041128,0558, 22.7495,-158.0017, 4711,    125,    124.7,  21.0011,  35.2549,2,  35.2584,2,    204.1,1, 20.9772,   -999.0,9,  -999.00,9,  -999.00,9,  -999.00,9,  -999.0,-999.000
     33KI165_1,  PRS2,     2,  7,      8,     29,2,20041128,0558, 22.7495,-158.0017, 4711,    125,    124.8,  20.9976,  35.2544,2,  35.2544,2,    203.9,1, 20.9737,   -999.0,9,  -999.00,9,  -999.00,9,  -999.00,9,  -999.0,-999.000
     33KI165_1,  PRS2,     2,  7,      7,     28,2,20041128,0558, 22.7495,-158.0017, 4711,    136,    135.2,  20.6606,  35.2152,2,  35.2156,2,    203.8,1, 20.6350,   -999.0,9,  -999.00,9,  -999.00,9,  -999.00,9,  -999.0,-999.000
     33KI165_1,  PRS2,     2,  7,      5,     38,2,20041128,0558, 22.7495,-158.0017, 4711,    150,    150.0,  20.3196,  35.1759,2,  35.1733,2,    202.3,1, 20.2915,   -999.0,9,  -999.00,9,  -999.00,9,  -999.00,9,  -999.0,-999.000
     33KI165_1,  PRS2,     2,  7,      6,     13,2,20041128,0558, 22.7495,-158.0017, 4711,    150,    150.2,  20.3183,  35.1755,2,  35.1752,2,    202.3,1, 20.2902,   -999.0,9,  -999.00,9,  -999.00,9,  -999.00,9,  -999.0,-999.000
     33KI165_1,  PRS2,     2,  7,      3,     35,2,20041128,0558, 22.7495,-158.0017, 4711,    174,    174.3,  18.6858,  34.9632,2,  34.9628,2,    196.5,1, 18.6551,   -999.0,9,  -999.00,9,  -999.00,9,  -999.00,9,  -999.0,-999.000
     33KI165_1,  PRS2,     2,  7,      4,     36,2,20041128,0558, 22.7495,-158.0017, 4711,    174,    174.5,  18.6853,  34.9635,2,  34.9652,2,    196.6,1, 18.6546,   -999.0,9,  -999.00,9,  -999.00,9,  -999.00,9,  -999.0,-999.000
     33KI165_1,  PRS2,     2,  7,      2,     34,2,20041128,0558, 22.7495,-158.0017, 4711,    419,    419.4,   8.3216,  34.1016,2,  34.1013,2,    135.7,1,  8.2781,   -999.0,9,  -999.00,9,  -999.00,9,  -999.00,9,  -999.0,-999.000
     33KI165_1,  PRS2,     2,  7,      1,     33,2,20041128,0558, 22.7495,-158.0017, 4711,   1021,   1021.8,   4.1130,  34.4910,2,  34.4921,2,     42.4,1,  4.0346,   -999.0,9,  -999.00,9,  -999.00,9,  -999.00,9,  -999.0,-999.000
     33KI165_1,  PRS2,     2,  8,     24,     31,3,20041128,0857, 22.7512,-158.0025, 4711,      5,      5.0,  26.5633,  34.9273,2,  34.9329,2,    202.2,2, 26.5621,   -999.0,5,  -999.00,9,  -999.00,9,  -999.00,9,  -999.0,-999.000
     33KI165_1,  PRS2,     2,  8,     23,     30,3,20041128,0857, 22.7512,-158.0025, 4711,      5,      5.0,  26.5634,  34.9272,2,  34.9364,2,    202.2,2, 26.5623,   -999.0,5,  -999.00,9,  -999.00,9,  -999.00,9,  -999.0,-999.000
     33KI165_1,  PRS2,     2,  8,     22,     22,2,20041128,0857, 22.7512,-158.0025, 4711,      5,      5.0,  26.5634,  34.9273,2,  34.9284,2,    202.1,2, 26.5623,    202.8,2,  -999.00,9,  -999.00,9,  -999.00,9,  -999.0,-999.000
     33KI165_1,  PRS2,     2,  8,     21,     21,2,20041128,0857, 22.7512,-158.0025, 4711,     15,     14.5,  26.5711,  34.9270,2,  34.9327,2,    202.1,2, 26.5679,   -999.0,5,  -999.00,9,  -999.00,9,  -999.00,9,  -999.0,-999.000
     33KI165_1,  PRS2,     2,  8,     19,     19,2,20041128,0857, 22.7512,-158.0025, 4711,     24,     24.4,  26.5690,  34.9275,2,  34.9315,2,    202.3,2, 26.5635,   -999.0,5,  -999.00,9,  -999.00,9,  -999.00,9,  -999.0,-999.000
     33KI165_1,  PRS2,     2,  8,     18,     18,2,20041128,0857, 22.7512,-158.0025, 4711,     25,     24.4,  26.5685,  34.9277,2,  34.9366,2,    202.3,2, 26.5629,    202.7,2,  -999.00,9,  -999.00,9,  -999.00,9,  -999.0,-999.000
     33KI165_1,  PRS2,     2,  8,     20,     20,2,20041128,0857, 22.7512,-158.0025, 4711,     25,     24.5,  26.5703,  34.9274,2,  34.9284,2,    202.0,2, 26.5647,   -999.0,5,  -999.00,9,  -999.00,9,  -999.00,9,  -999.0,-999.000
     33KI165_1,  PRS2,     2,  8,     17,     17,2,20041128,0857, 22.7512,-158.0025, 4711,     35,     34.5,  26.5371,  34.9304,2,  34.9288,2,    202.5,2, 26.5293,   -999.0,5,  -999.00,9,  -999.00,9,  -999.00,9,  -999.0,-999.000
     33KI165_1,  PRS2,     2,  8,     16,     16,2,20041128,0857, 22.7512,-158.0025, 4711,     45,     44.9,  25.0458,  35.0640,2,  35.0583,2,    213.9,2, 25.0360,   -999.0,5,  -999.00,9,  -999.00,9,  -999.00,9,  -999.0,-999.000
     33KI165_1,  PRS2,     2,  8,     15,    102,2,20041128,0857, 22.7512,-158.0025, 4711,     60,     59.3,  24.2346,  35.1540,2,  35.1494,2,    211.7,2, 24.2221,   -999.0,5,  -999.00,9,  -999.00,9,  -999.00,9,  -999.0,-999.000
     33KI165_1,  PRS2,     2,  8,     14,    101,2,20041128,0857, 22.7512,-158.0025, 4711,     75,     74.9,  23.0511,  35.3338,2,  35.3317,2,    223.2,2, 23.0358,    221.6,2,  -999.00,9,  -999.00,9,  -999.00,9,  -999.0,-999.000
     33KI165_1,  PRS2,     2,  8,     13,     42,2,20041128,0857, 22.7512,-158.0025, 4711,     84,     84.2,  22.5363,  35.3243,2,  35.3230,2,    214.7,2, 22.5193,   -999.0,5,  -999.00,9,  -999.00,9,  -999.00,9,  -999.0,-999.000
     33KI165_1,  PRS2,     2,  8,     12,     12,2,20041128,0857, 22.7512,-158.0025, 4711,     84,     84.3,  22.5256,  35.3258,2,  35.3287,2,    214.3,2, 22.5086,    215.9,2,  -999.00,9,  -999.00,9,  -999.00,9,  -999.0,-999.000
     33KI165_1,  PRS2,     2,  8,     10,     32,2,20041128,0857, 22.7512,-158.0025, 4711,     99,     98.7,  21.8735,  35.3209,2,  35.3189,2,    212.9,2, 21.8540,    213.5,2,  -999.00,9,  -999.00,9,  -999.00,9,  -999.0,-999.000
     33KI165_1,  PRS2,     2,  8,     11,     39,2,20041128,0857, 22.7512,-158.0025, 4711,     99,     98.8,  21.8915,  35.3213,2,  35.3185,2,    212.8,2, 21.8720,   -999.0,5,  -999.00,9,  -999.00,9,  -999.00,9,  -999.0,-999.000
     33KI165_1,  PRS2,     2,  8,      9,      3,2,20041128,0857, 22.7512,-158.0025, 4711,    115,    114.7,  21.4255,  35.2956,2,  35.2960,2,    209.2,2, 21.4032,    209.7,2,  -999.00,9,  -999.00,9,  -999.00,9,  -999.0,-999.000
     33KI165_1,  PRS2,     2,  8,      8,     29,2,20041128,0857, 22.7512,-158.0025, 4711,    127,    126.8,  20.6815,  35.2207,2,  35.2314,2,    202.5,2, 20.6574,    202.6,2,  -999.00,9,  -999.00,9,  -999.00,9,  -999.0,-999.000
     33KI165_1,  PRS2,     2,  8,      7,     28,2,20041128,0857, 22.7512,-158.0025, 4711,    148,    148.1,  20.1096,  35.1485,2,  35.1496,2,    201.7,2, 20.0821,    201.8,2,  -999.00,9,  -999.00,9,  -999.00,9,  -999.0,-999.000
     33KI165_1,  PRS2,     2,  8,      6,     13,2,20041128,0857, 22.7512,-158.0025, 4711,    163,    163.6,  18.7914,  34.9797,2,  34.9813,2,    197.9,2, 18.7625,    198.2,2,  -999.00,9,  -999.00,9,  -999.00,9,  -999.0,-999.000
     33KI165_1,  PRS2,     2,  8,      5,     38,2,20041128,0857, 22.7512,-158.0025, 4711,    174,    174.3,  18.3558,  34.9162,2,  34.9140,2,    197.3,2, 18.3255,    197.0,2,  -999.00,9,  -999.00,9,  -999.00,9,  -999.0,-999.000
     33KI165_1,  PRS2,     2,  8,      4,     36,2,20041128,0857, 22.7512,-158.0025, 4711,    201,    200.9,  16.7944,  34.6856,2,  34.7111,3,    190.7,3, 16.7616,    192.2,2,  -999.00,9,  -999.00,9,  -999.00,9,  -999.0,-999.000
     33KI165_1,  PRS2,     2,  8,      3,     35,2,20041128,0857, 22.7512,-158.0025, 4711,    432,    431.8,   8.0504,  34.1243,2,  34.1219,2,    121.4,2,  8.0065,    117.1,2,  -999.00,9,  -999.00,9,  -999.00,9,  -999.0,-999.000
     33KI165_1,  PRS2,     2,  8,      2,     34,2,20041128,0857, 22.7512,-158.0025, 4711,    746,    745.9,   4.9215,  34.3635,2,  34.3690,2,     30.7,2,  4.8613,     31.0,2,  -999.00,9,  -999.00,9,  -999.00,9,  -999.0,-999.000
     33KI165_1,  PRS2,     2,  8,      1,     33,2,20041128,0857, 22.7512,-158.0025, 4711,   1019,   1019.7,   4.0902,  34.4907,2,  34.4944,2,     43.1,2,  4.0122,     42.6,2,  -999.00,9,  -999.00,9,  -999.00,9,  -999.0,-999.000
     33KI165_1,  PRS2,     2,  9,     22,     22,2,20041128,1200, 22.7533,-157.9963, 4711,      5,      4.7,  26.5600,  34.9260,2,  34.9240,2,    202.4,1, 26.5589,   -999.0,9,  -999.00,9,  -999.00,9,  -999.00,9,  -999.0,-999.000
     33KI165_1,  PRS2,     2,  9,     24,     31,2,20041128,1200, 22.7533,-157.9963, 4711,      5,      4.8,  26.5594,  34.9261,2,  34.9246,2,    202.5,1, 26.5583,   -999.0,9,  -999.00,9,  -999.00,9,  -999.00,9,  -999.0,-999.000
     33KI165_1,  PRS2,     2,  9,     23,     30,2,20041128,1200, 22.7533,-157.9963, 4711,      5,      4.8,  26.5597,  34.9261,2,  34.9250,2,    202.5,1, 26.5586,   -999.0,9,  -999.00,9,  -999.00,9,  -999.00,9,  -999.0,-999.000
     33KI165_1,  PRS2,     2,  9,     21,     21,2,20041128,1200, 22.7533,-157.9963, 4711,     25,     25.0,  26.5657,  34.9259,2,  34.9270,2,    202.3,1, 26.5601,   -999.0,9,  -999.00,9,  -999.00,9,  -999.00,9,  -999.0,-999.000
     33KI165_1,  PRS2,     2,  9,     20,     20,2,20041128,1200, 22.7533,-157.9963, 4711,     25,     25.0,  26.5657,  34.9259,2,  34.9341,2,    202.3,1, 26.5601,   -999.0,9,  -999.00,9,  -999.00,9,  -999.00,9,  -999.0,-999.000
     33KI165_1,  PRS2,     2,  9,     19,     19,2,20041128,1200, 22.7533,-157.9963, 4711,     25,     25.0,  26.5662,  34.9258,2,  34.9435,4,    202.4,1, 26.5605,   -999.0,9,  -999.00,9,  -999.00,9,  -999.00,9,  -999.0,-999.000
     33KI165_1,  PRS2,     2,  9,     18,     18,2,20041128,1200, 22.7533,-157.9963, 4711,     25,     25.0,  26.5660,  34.9258,2,  34.9272,2,    202.5,1, 26.5604,   -999.0,9,  -999.00,9,  -999.00,9,  -999.00,9,  -999.0,-999.000
     33KI165_1,  PRS2,     2,  9,     17,     17,2,20041128,1200, 22.7533,-157.9963, 4711,     46,     44.9,  26.5239,  34.9297,2,  34.9366,2,    202.7,1, 26.5138,   -999.0,9,  -999.00,9,  -999.00,9,  -999.00,9,  -999.0,-999.000
     33KI165_1,  PRS2,     2,  9,     16,     16,2,20041128,1200, 22.7533,-157.9963, 4711,     45,     45.2,  26.5304,  34.9291,2,  34.9416,2,    202.8,1, 26.5202,   -999.0,9,  -999.00,9,  -999.00,9,  -999.00,9,  -999.0,-999.000
     33KI165_1,  PRS2,     2,  9,     15,    102,2,20041128,1200, 22.7533,-157.9963, 4711,     45,     45.2,  26.5323,  34.9285,2,  34.9341,2,    202.9,1, 26.5221,   -999.0,9,  -999.00,9,  -999.00,9,  -999.00,9,  -999.0,-999.000
     33KI165_1,  PRS2,     2,  9,     12,     12,2,20041128,1200, 22.7533,-157.9963, 4711,     76,     76.0,  24.0604,  35.2360,2,-999.0000,5,    216.8,1, 24.0444,   -999.0,9,  -999.00,9,  -999.00,9,  -999.00,9,  -999.0,-999.000
     33KI165_1,  PRS2,     2,  9,     14,    101,2,20041128,1200, 22.7533,-157.9963, 4711,     76,     76.1,  24.0540,  35.2431,2,  35.2501,2,    216.6,1, 24.0379,   -999.0,9,  -999.00,9,  -999.00,9,  -999.00,9,  -999.0,-999.000
     33KI165_1,  PRS2,     2,  9,     13,     42,2,20041128,1200, 22.7533,-157.9963, 4711,     76,     76.1,  24.0592,  35.2375,2,-999.0000,5,    216.7,1, 24.0431,   -999.0,9,  -999.00,9,  -999.00,9,  -999.00,9,  -999.0,-999.000
     33KI165_1,  PRS2,     2,  9,     11,     39,2,20041128,1200, 22.7533,-157.9963, 4711,     99,     99.1,  22.5878,  35.3146,2,-999.0000,5,    216.7,1, 22.5678,   -999.0,9,  -999.00,9,  -999.00,9,  -999.00,9,  -999.0,-999.000
     33KI165_1,  PRS2,     2,  9,     10,     32,2,20041128,1200, 22.7533,-157.9963, 4711,     99,     99.2,  22.5891,  35.3149,2,-999.0000,5,    216.4,1, 22.5691,   -999.0,9,  -999.00,9,  -999.00,9,  -999.00,9,  -999.0,-999.000
     33KI165_1,  PRS2,     2,  9,      9,      3,2,20041128,1200, 22.7533,-157.9963, 4711,     99,     99.3,  22.5891,  35.3148,2,-999.0000,5,    216.0,1, 22.5691,   -999.0,9,  -999.00,9,  -999.00,9,  -999.00,9,  -999.0,-999.000
     33KI165_1,  PRS2,     2,  9,      8,     29,2,20041128,1200, 22.7533,-157.9963, 4711,     99,     99.3,  22.5897,  35.3148,2,-999.0000,5,    215.7,1, 22.5697,   -999.0,9,  -999.00,9,  -999.00,9,  -999.00,9,  -999.0,-999.000
     33KI165_1,  PRS2,     2,  9,      7,     28,2,20041128,1200, 22.7533,-157.9963, 4711,    125,    124.5,  21.5771,  35.3067,2,  35.3145,2,    211.0,1, 21.5528,   -999.0,9,  -999.00,9,  -999.00,9,  -999.00,9,  -999.0,-999.000
     33KI165_1,  PRS2,     2,  9,      6,     13,2,20041128,1200, 22.7533,-157.9963, 4711,    124,    124.6,  21.5734,  35.3063,2,  35.3058,2,    210.7,1, 21.5491,   -999.0,9,  -999.00,9,  -999.00,9,  -999.00,9,  -999.0,-999.000
     33KI165_1,  PRS2,     2,  9,      5,     38,2,20041128,1200, 22.7533,-157.9963, 4711,    125,    124.6,  21.5708,  35.3062,2,  35.3062,2,    210.4,1, 21.5465,   -999.0,9,  -999.00,9,  -999.00,9,  -999.00,9,  -999.0,-999.000
     33KI165_1,  PRS2,     2,  9,      4,     36,2,20041128,1200, 22.7533,-157.9963, 4711,    150,    150.0,  20.3742,  35.1820,2,  35.1835,2,    202.5,1, 20.3461,   -999.0,9,  -999.00,9,  -999.00,9,  -999.00,9,  -999.0,-999.000
     33KI165_1,  PRS2,     2,  9,      3,     35,2,20041128,1200, 22.7533,-157.9963, 4711,    176,    175.7,  18.3256,  34.9057,2,  34.9097,2,    194.8,1, 18.2951,   -999.0,9,  -999.00,9,  -999.00,9,  -999.00,9,  -999.0,-999.000
     33KI165_1,  PRS2,     2,  9,      2,     34,2,20041128,1200, 22.7533,-157.9963, 4711,    429,    428.3,   8.0653,  34.1176,2,  34.1134,2,    127.8,1,  8.0217,   -999.0,9,  -999.00,9,  -999.00,9,  -999.00,9,  -999.0,-999.000
     33KI165_1,  PRS2,     2,  9,      1,     33,2,20041128,1200, 22.7533,-157.9963, 4711,   1023,   1022.6,   4.0235,  34.4969,2,  34.4956,2,     44.5,1,  3.9458,   -999.0,9,  -999.00,9,  -999.00,9,  -999.00,9,  -999.0,-999.000
     33KI165_1,  PRS2,     2, 10,      3,     35,2,20041128,1456, 22.7507,-158.0540, 4711,      5,      5.2,  26.4355,  34.9649,2,  34.9606,2,    202.5,1, 26.4343,   -999.0,9,  -999.00,9,  -999.00,9,  -999.00,9,  -999.0,-999.000
     33KI165_1,  PRS2,     2, 10,      2,     34,2,20041128,1456, 22.7507,-158.0540, 4711,    526,    525.6,   6.9527,  34.1809,2,  34.1777,2,     67.6,1,  6.9032,   -999.0,9,  -999.00,9,  -999.00,9,  -999.00,9,  -999.0,-999.000
     33KI165_1,  PRS2,     2, 10,      1,     33,4,20041128,1456, 22.7507,-158.0540, 4711,   1019,   1019.6,   4.1375,  34.4889,2,  34.4917,2,     42.4,1,  4.0591,   -999.0,9,  -999.00,9,  -999.00,9,  -999.00,9,  -999.0,-999.000