BOTTLE,20090507PRINUNIVRMK
EXPOCODE,SECT_ID,STNNBR,CASTNO,BTLNBR,BTLNBR_FLAG_W,DATE,TIME,LATITUDE,LONGITUDE,DEPTH,CTDPRS,CTDTMP,CTDSAL,CTDSAL_FLAG_W,SALNTY,SALNTY_FLAG_W,OXYGEN,OXYGEN_FLAG_W,SILCAT,SILCAT_FLAG_W,NITRAT,NITRAT_FLAG_W,NITRIT,NITRIT_FLAG_W,PHSPHT,PHSPHT_FLAG_W,CFC-11,CFC-11_FLAG_W,CFC-12,CFC-12_FLAG_W,CFC113,CFC113_FLAG_W,CCL4,CCL4_FLAG_W,SF6,SF6_FLAG_W,TCARBN,TCARBN_FLAG_W,ALKALI,ALKALI_FLAG_W,PH_SWS,PH_TEMP,PH_SWS_FLAG_W,THETA
,,,,,,,,,,METERS,DBARS,ITS-90,PSS-78,,PSS-78,,UMOL/KG,,UMOL/KG,,UMOL/KG,,UMOL/KG,,UMOL/KG,,PMOL/KG,,PMOL/KG,,PMOL/KG,,PMOL/KG,,FMOL/KG,,UMOL/KG,,UMOL/KG,,,DEGC,,DEGC
  77DN20020420,   GNS,    13,  1,     19,2,20020501,2319, 81.3350,  17.0167,  998,      2.3,  -1.5380,  34.1734,2,  34.1664,2,    343.0,2,     4.00,2,     9.88,2,     0.02,2,     0.65,2,    6.270,2,    3.350,2,    0.550,3,    8.492,3,     -999,9,   2088.1,2,   2252.6,2,   7.7704,    25.00,2,  -1.5380
  77DN20020420,   GNS,    13,  1,     18,2,20020501,2319, 81.3350,  17.0167,  998,      9.6,  -1.5312,  34.1746,2,  34.1713,2,    340.7,2,     4.04,2,     9.88,2,     0.02,2,     0.66,2,    6.320,2,    3.390,2,    0.548,3,    8.722,3,     -999,9,   2089.7,2,   2252.5,2,   7.7704,    25.00,2,  -1.5314
  77DN20020420,   GNS,    13,  1,     17,2,20020501,2319, 81.3350,  17.0167,  998,     20.1,  -1.5257,  34.1789,2,  34.1665,2,    340.4,2,     3.77,2,     9.89,2,     0.02,2,     0.66,2,    6.070,2,    3.320,2,    0.509,3,    8.383,3,     1.82,2,   2090.0,2,   2252.1,2,   7.7685,    25.00,2,  -1.5261
  77DN20020420,   GNS,    13,  1,     16,2,20020501,2319, 81.3350,  17.0167,  998,     30.1,  -0.3761,  34.4533,2,  34.4622,2,    336.1,2,     3.93,2,    10.49,2,     0.02,2,     0.70,2,    6.100,2,    3.300,2,    0.521,3,    8.055,3,     -999,9,   2106.8,2,   2269.9,2,   7.7626,    25.00,2,  -0.3771
  77DN20020420,   GNS,    13,  1,     15,2,20020501,2319, 81.3350,  17.0167,  998,     37.8,   0.5805,  34.6211,2,  34.6331,2,    329.2,2,     4.09,2,    10.95,2,     0.03,2,     0.72,2, -999.000,9, -999.000,9, -999.000,9, -999.000,9,     -999,9,   2118.7,2,   2282.0,2,   7.7616,    25.00,2,   0.5790
  77DN20020420,   GNS,    13,  1,     14,2,20020501,2319, 81.3350,  17.0167,  998,     50.2,   1.3123,  34.7548,2,  34.7553,2,    322.7,2,     4.18,2,    11.31,2,     0.03,2,     0.75,2,    5.760,2,    3.170,2,    0.498,3,    7.521,3,     1.47,2,   2127.1,2,   2286.9,2,   7.7606,    25.00,2,   1.3099
  77DN20020420,   GNS,    13,  1,     13,2,20020501,2319, 81.3350,  17.0167,  998,     60.1,   1.5025,  34.7867,2,  34.7903,2,    319.5,2,     4.25,2,    11.50,2,     0.02,2,     0.76,2,    5.490,2,    3.060,2,    0.354,3,    6.824,3,     -999,9,   2132.0,2,   2290.1,2,   7.7557,    25.00,2,   1.4996
  77DN20020420,   GNS,    13,  1,     12,2,20020501,2319, 81.3350,  17.0167,  998,     80.1,   2.0551,  34.8818,2,  34.8806,2,    314.9,2,     4.36,2,    11.92,2,     0.00,2,     0.78,2,    5.390,2,    2.980,2,    0.438,3,    6.583,3,     -999,9,   2140.3,2,   2297.0,2,   7.7528,    25.00,2,   2.0508
  77DN20020420,   GNS,    13,  1,     11,2,20020501,2319, 81.3350,  17.0167,  998,     99.5,   1.8971,  34.8731,2,  34.8764,2,    321.4,2,     4.33,2,    11.65,2,     0.01,2,     0.77,2,    5.390,2,    3.050,2,    0.332,3,    7.222,3,     1.63,2,   2134.7,2,   2295.6,2,   7.7547,    25.00,2,   1.8919
  77DN20020420,   GNS,    13,  1,     10,2,20020501,2319, 81.3350,  17.0167,  998,    125.1,   2.0464,  34.9090,2,  34.9097,2,    321.2,2,     4.48,2,    12.00,2,     0.00,2,     0.78,2,    5.370,2,    3.000,2,    0.344,3,    6.774,3,     -999,9,   2138.6,2,   2297.1,2,   7.7518,    25.00,2,   2.0397
  77DN20020420,   GNS,    13,  1,      9,2,20020501,2319, 81.3350,  17.0167,  998,    150.6,   2.0438,  34.9374,2,  34.9364,2,    324.3,2,     4.51,2,    11.84,2,     0.00,2,     0.77,2,    5.340,2,    3.010,2,    0.396,3,    6.798,3,     -999,9,   2136.0,2,   2300.6,2,   7.7537,    25.00,2,   2.0357
  77DN20020420,   GNS,    13,  1,      8,2,20020501,2319, 81.3350,  17.0167,  998,    200.8,   1.9053,  34.9421,2,  34.9362,2,   -999.0,2,     4.74,2,    12.26,2,     0.00,2,     0.80,2,    4.930,2,    2.790,2,    0.351,3,    6.207,3,     -999,9,   2138.9,2,   -999.0,2,   7.7449,    25.00,2,   1.8946
  77DN20020420,   GNS,    13,  1,      7,2,20020501,2319, 81.3350,  17.0167,  998,    301.0,   1.5345,  34.9258,2,  34.9256,2,   -999.0,2,     4.47,2,    11.73,2,     0.00,2,     0.77,2,    5.470,2,    3.090,2,    0.332,3,    7.058,3,     1.67,2,   2141.0,2,   2298.8,2,   7.7460,    25.00,2,   1.5191
  77DN20020420,   GNS,    13,  1,      6,2,20020501,2319, 81.3350,  17.0167,  998,    400.3,   1.7305,  34.9593,2,  34.9589,2,    320.1,2,     4.67,2,    11.84,2,     0.00,2,     0.79,2,    5.420,2,    3.020,2,    0.381,3,    6.931,3,     -999,9,   2144.5,2,   2299.4,2,   7.7469,    25.00,2,   1.7090
  77DN20020420,   GNS,    13,  1,      5,2,20020501,2319, 81.3350,  17.0167,  998,    500.5,   1.2075,  34.9230,2,  34.9210,2,    325.3,2,     4.59,2,    11.74,2,     0.00,2,     0.79,2,    5.420,2,    3.080,2,    0.365,3,    7.440,3,     1.81,2,   2143.0,2,   2297.7,2,   7.7440,    25.00,2,   1.1824
  77DN20020420,   GNS,    13,  1,      3,2,20020501,2319, 81.3350,  17.0167,  998,    749.8,   0.2342,  34.8941,2,  34.8890,2,    323.3,2,     6.05,2,    12.53,2,     0.00,2,     0.83,2,    4.540,2,    2.650,2,    0.405,3,    6.261,3,     1.23,2,   2145.9,2,   2295.5,2,   7.7295,    25.00,2,   0.2010
  77DN20020420,   GNS,    13,  1,      2,2,20020501,2319, 81.3350,  17.0167,  998,    958.1,  -0.2327,  34.9113,2,  34.9085,2,    308.9,2,     8.43,2,    14.11,2,     0.00,2,     0.92,2,    2.670,2,    1.570,2,    0.171,3,    3.748,3,     0.63,2,   2157.5,2,   2295.7,2,   7.7102,    25.00,2,  -0.2733
  77DN20020420,   GNS,    13,  1,      1,2,20020501,2319, 81.3350,  17.0167,  998,    998.4,  -0.2509,  34.9107,2,  34.9097,2,    308.0,2,     8.49,2,    14.08,2,     0.00,2,     0.92,2,    2.650,2,    1.550,2,    0.224,3,    3.695,3,     0.51,2,   2158.1,2,   2296.8,2,   7.7102,    25.00,2,  -0.2934
  77DN20020420,   GNS,    14,  1,     24,2,20020502, 638, 81.6437,  16.0510, 2781,      2.5,  -1.8179,  34.3551,2,-999.0000,9,    334.5,2,     3.67,2,     9.22,2,     0.00,2,     0.65,2, -999.000,9, -999.000,9,    0.510,3,    8.801,3,     -999,9,   2108.6,2,   2286.6,2,   7.7519,    25.00,2,  -1.8179
  77DN20020420,   GNS,    14,  1,     23,2,20020502, 638, 81.6437,  16.0510, 2781,      9.7,  -1.8145,  34.3559,2,-999.0000,9,    334.7,2,     3.48,2,     9.28,2,     0.00,2,     0.64,2, -999.000,9, -999.000,9,    0.720,3,    9.775,3,     -999,9,   2110.7,2,   2265.6,2,   7.7549,    25.00,2,  -1.8147
  77DN20020420,   GNS,    14,  1,     22,2,20020502, 638, 81.6437,  16.0510, 2781,     19.7,  -1.8134,  34.3562,2,-999.0000,9,    334.1,2,     3.52,2,     9.21,2,     0.00,2,     0.64,2, -999.000,9, -999.000,9,    0.517,3,    9.344,3,     -999,9,   2111.0,2,   2265.9,2,   7.7558,    25.00,2,  -1.8138
  77DN20020420,   GNS,    14,  1,     21,2,20020502, 638, 81.6437,  16.0510, 2781,     30.2,  -1.8079,  34.3575,2,-999.0000,9,    334.6,2,     3.56,2,     9.24,2,     0.00,2,     0.65,2, -999.000,9, -999.000,9,    0.507,3,    9.776,3,     1.58,2,   2107.2,2,   2266.0,2,   7.7549,    25.00,2,  -1.8085
  77DN20020420,   GNS,    14,  1,     20,2,20020502, 638, 81.6437,  16.0510, 2781,     50.6,  -1.7941,  34.3621,2,  34.5999,2,    333.7,2,     3.55,2,     9.28,2,     0.00,2,     0.66,2, -999.000,9, -999.000,9,    0.584,3,    9.640,3,     1.71,2,   2110.6,2,   2262.8,2,   7.7558,    25.00,2,  -1.7951
  77DN20020420,   GNS,    14,  1,     19,2,20020502, 638, 81.6437,  16.0510, 2781,     74.5,   0.1234,  34.6016,2,  34.5995,2,    318.9,2,     4.13,2,    10.71,2,     0.00,2,     0.74,2, -999.000,9, -999.000,9,    0.410,3,    7.719,3,     -999,9,   2129.1,2,   2280.5,2,   7.7461,    25.00,2,   0.1207
  77DN20020420,   GNS,    14,  1,     18,2,20020502, 638, 81.6437,  16.0510, 2781,    100.4,   1.3133,  34.7624,2,  34.7655,2,    309.2,2,     4.43,2,    11.68,2,     0.00,2,     0.79,2, -999.000,9, -999.000,9,    0.374,3,    6.775,3,     1.31,2,   2130.0,2,   2289.2,2,   7.7421,    25.00,2,   1.3085
  77DN20020420,   GNS,    14,  1,     17,2,20020502, 638, 81.6437,  16.0510, 2781,    125.1,   2.0109,  34.8706,2,  34.8766,2,    304.3,2,     4.70,2,    12.15,2,     0.00,2,     0.82,2, -999.000,9, -999.000,9,    0.439,3,    7.000,3,     -999,9,   2141.4,2,   2294.0,2,   7.7402,    25.00,2,   2.0042
  77DN20020420,   GNS,    14,  1,     16,2,20020502, 638, 81.6437,  16.0510, 2781,    150.3,   2.2286,  34.9143,2,  34.9185,2,    303.9,2,     4.94,2,    12.20,2,     0.00,2,     0.82,2, -999.000,9, -999.000,9,    0.346,3,    7.052,3,     1.14,2,   2141.6,2,   2290.1,2,   7.7402,    25.00,2,   2.2202
  77DN20020420,   GNS,    14,  1,     15,2,20020502, 638, 81.6437,  16.0510, 2781,    199.9,   2.1934,  34.9338,2,  34.9370,2,    306.9,2,     4.84,2,    12.26,2,     0.00,2,     0.84,2, -999.000,9, -999.000,9,    0.495,3,    7.373,3,     1.16,2,   2147.1,2,   2296.2,2,   7.7402,    25.00,2,   2.1823
  77DN20020420,   GNS,    14,  1,     14,2,20020502, 638, 81.6437,  16.0510, 2781,    249.7,   2.0573,  34.9444,2,  34.9475,2,    307.5,2,     4.93,2,    12.38,2,     0.00,2,     0.85,2, -999.000,9, -999.000,9,    0.484,3,    7.547,3,     0.99,2,   2144.6,2,   2298.2,2,   7.7392,    25.00,2,   2.0435
  77DN20020420,   GNS,    14,  1,     13,2,20020502, 638, 81.6437,  16.0510, 2781,    300.1,   1.7459,  34.9342,2,  34.9362,2,    312.0,2,     4.83,2,    12.26,2,     0.00,2,     0.83,2, -999.000,9, -999.000,9,    0.337,3,    7.804,3,     1.21,2,   2141.6,2,   2304.5,2,   7.7411,    25.00,2,   1.7300
  77DN20020420,   GNS,    14,  1,     12,2,20020502, 638, 81.6437,  16.0510, 2781,    399.6,   1.6879,  34.9541,2,  34.9567,2,    316.3,2,     4.74,2,    11.95,2,     0.00,2,     0.82,2, -999.000,9, -999.000,9,    0.344,3,    7.890,3,     1.66,2,   2146.5,2,   2292.3,2,   7.7411,    25.00,2,   1.6666
  77DN20020420,   GNS,    14,  1,     11,2,20020502, 638, 81.6437,  16.0510, 2781,    499.7,   1.4054,  34.9457,2,  34.9486,2,    314.3,2,     5.08,2,    12.22,2,     0.00,2,     0.83,2, -999.000,9, -999.000,9,    0.322,3,    7.394,3,     1.44,2,   2147.3,2,   2294.6,2,   7.7353,    25.00,2,   1.3795
  77DN20020420,   GNS,    14,  1,     10,2,20020502, 638, 81.6437,  16.0510, 2781,    749.7,   0.4422,  34.9152,2,  34.9174,2,    306.5,2,     6.46,2,    13.27,2,     0.00,2,     0.89,2, -999.000,9, -999.000,9,    0.193,3,    5.210,3,     0.88,2,   2147.8,2,   2292.6,2,   7.7179,    25.00,2,   0.4076
  77DN20020420,   GNS,    14,  1,      9,2,20020502, 638, 81.6437,  16.0510, 2781,   1000.7,  -0.2579,  34.9037,2,  34.9058,2,    305.5,2,     7.39,2,    13.62,2,     0.00,2,     0.91,2, -999.000,9, -999.000,9,    0.003,3,    3.563,3,     0.26,2,   2149.7,2,   2298.6,2,   7.7141,    25.00,2,  -0.3005
  77DN20020420,   GNS,    14,  1,      8,2,20020502, 638, 81.6437,  16.0510, 2781,   1209.9,  -0.4902,  34.9092,2,  34.9101,2,    303.9,2,     8.60,2,    14.10,2,     0.00,2,     0.94,2, -999.000,9, -999.000,9,    0.037,3,    2.370,3,      0.3,2,   2152.0,2,   2296.1,2,   7.7131,    25.00,2,  -0.5416
  77DN20020420,   GNS,    14,  1,      7,2,20020502, 638, 81.6437,  16.0510, 2781,   1260.3,  -0.5309,  34.9110,2,  34.9128,2,    305.0,2,     8.56,2,    14.01,2,     0.00,2,     0.97,2, -999.000,9, -999.000,9,   -0.098,3,    2.382,3,     0.26,2,   2153.6,2,   2297.1,2,   7.7141,    25.00,2,  -0.5846
  77DN20020420,   GNS,    14,  1,      6,2,20020502, 638, 81.6437,  16.0510, 2781,   1309.6,  -0.5565,  34.9120,2,  34.9126,2,    304.8,2,     8.80,2,    14.07,2,     0.00,2,     0.95,2, -999.000,9, -999.000,9,   -0.167,3,    2.199,3,     0.31,2,   2151.4,2,   -999.0,2,   7.7140,    25.00,2,  -0.6126
  77DN20020420,   GNS,    14,  1,      5,2,20020502, 638, 81.6437,  16.0510, 2781,   1500.5,  -0.6574,  34.9150,2,  34.9154,2,    304.1,2,     9.56,2,    14.51,2,     0.00,2,     0.98,2, -999.000,9, -999.000,9, -999.000,9, -999.000,9,     0.28,2,   2153.9,2,   2298.0,2,   7.7160,    25.00,2,  -0.7231
  77DN20020420,   GNS,    14,  1,      4,2,20020502, 638, 81.6437,  16.0510, 2781,   2000.4,  -0.7815,  34.9210,2,  34.9217,2,    304.0,2,    10.28,2,    14.57,2,     0.00,2,     0.98,2, -999.000,9, -999.000,9,   -0.105,3,    0.889,3,     0.32,2,   2150.0,2,   2297.8,2,   7.7208,    25.00,2,  -0.8758
  77DN20020420,   GNS,    14,  1,      3,2,20020502, 638, 81.6437,  16.0510, 2781,   2500.5,  -0.7919,  34.9295,2,  34.9299,2,    302.6,2,    10.61,2,    14.62,2,     0.00,2,     1.03,2, -999.000,9, -999.000,9,   -0.202,3,    0.450,3,        0,2,   2157.0,2,   2298.8,2,   7.7276,    25.00,2,  -0.9204
  77DN20020420,   GNS,    14,  1,      2,2,20020502, 638, 81.6437,  16.0510, 2781,   2735.2,  -0.7833,  34.9345,2,  34.9357,2,    301.8,2,    10.84,2,    14.67,2,     0.00,2,     1.00,2, -999.000,9, -999.000,9,   -0.088,3,    0.283,3,        0,2,   2150.0,2,   2301.6,2,   7.7334,    25.00,2,  -0.9295
  77DN20020420,   GNS,    14,  1,      1,2,20020502, 638, 81.6437,  16.0510, 2781,   2785.8,  -0.7803,  34.9352,2,  34.9355,2,    301.8,2,    10.72,2,    14.70,2,     0.00,2,     1.00,2, -999.000,9, -999.000,9,   -0.161,3,    0.277,3,     0.43,2,   2145.9,2,   2302.6,2,   7.7334,    25.00,2,  -0.9305