BOTTLE,20090507PRINUNIVRMK
EXPOCODE,SECT_ID,STNNBR,CASTNO,BTLNBR,BTLNBR_FLAG_W,DATE,TIME,LATITUDE,LONGITUDE,DEPTH,CTDPRS,CTDTMP,CTDSAL,CTDSAL_FLAG_W,SALNTY,SALNTY_FLAG_W,OXYGEN,OXYGEN_FLAG_W,SILCAT,SILCAT_FLAG_W,NITRAT,NITRAT_FLAG_W,NITRIT,NITRIT_FLAG_W,PHSPHT,PHSPHT_FLAG_W,CFC-11,CFC-11_FLAG_W,CFC-12,CFC-12_FLAG_W,CFC113,CFC113_FLAG_W,CCL4,CCL4_FLAG_W,SF6,SF6_FLAG_W,TCARBN,TCARBN_FLAG_W,ALKALI,ALKALI_FLAG_W,PH_SWS,PH_TEMP,PH_SWS_FLAG_W,THETA
,,,,,,,,,,METERS,DBARS,ITS-90,PSS-78,,PSS-78,,UMOL/KG,,UMOL/KG,,UMOL/KG,,UMOL/KG,,UMOL/KG,,PMOL/KG,,PMOL/KG,,PMOL/KG,,PMOL/KG,,FMOL/KG,,UMOL/KG,,UMOL/KG,,,DEGC,,DEGC
  77DN20020420,   GNS,    77,  1,     21,2,20020526,2130, 69.0085, -21.2313,  981,     10.2,  -1.6327,  34.1729,2,  34.1772,2,    351.1,2,     4.84,2,     8.47,2,     0.07,2,     0.69,2, -999.000,9, -999.000,9,    0.665,3,    9.149,3,     -999,9,   2120.9,2,   2267.2,2,   7.7336,    25.00,2,  -1.6329
  77DN20020420,   GNS,    77,  1,     20,2,20020526,2130, 69.0085, -21.2313,  981,     20.0,  -1.6293,  34.1951,2,-999.0000,9,    350.7,2,     4.73,2,     8.65,2,     0.08,2,     0.69,2, -999.000,9, -999.000,9,    0.611,3,    9.003,3,     -999,9,   2118.6,2,   2267.5,2,   7.7326,    25.00,2,  -1.6297
  77DN20020420,   GNS,    77,  1,     19,2,20020526,2130, 69.0085, -21.2313,  981,     30.6,  -1.6113,  34.2413,2,  34.2418,2,    350.9,2,     4.77,2,     8.98,2,     0.07,2,     0.71,2, -999.000,9, -999.000,9,    0.579,3,    8.381,3,      1.8,2,   2118.0,2,   2267.4,2,   7.7317,    25.00,2,  -1.6119
  77DN20020420,   GNS,    77,  1,     18,2,20020526,2130, 69.0085, -21.2313,  981,     39.5,  -1.6008,  34.2543,2,  34.2580,2,    350.9,2,     4.79,2,     9.22,2,     0.07,2,     0.71,2, -999.000,9, -999.000,9,    0.539,3,    8.169,3,     -999,9,   2119.2,2,   2267.5,2,   7.7307,    25.00,2,  -1.6016
  77DN20020420,   GNS,    77,  1,     17,2,20020526,2130, 69.0085, -21.2313,  981,     60.8,  -1.6346,  34.2809,2,  34.2874,2,    351.2,2,     4.85,2,     9.34,2,     0.08,2,     0.72,2, -999.000,9, -999.000,9,    0.561,3,    7.704,3,      1.8,2,   2116.4,2,   2268.0,2,   7.7316,    25.00,2,  -1.6359
  77DN20020420,   GNS,    77,  1,     16,2,20020526,2130, 69.0085, -21.2313,  981,     80.8,  -1.6464,  34.2823,2,-999.0000,9,    350.7,2,     4.85,2,     9.49,2,     0.07,2,     0.72,2, -999.000,9, -999.000,9,    0.543,3,    7.156,3,     -999,9,   2117.2,2,   2266.3,2,   7.7307,    25.00,2,  -1.6481
  77DN20020420,   GNS,    77,  1,     15,2,20020526,2130, 69.0085, -21.2313,  981,    102.2,  -1.6036,  34.3006,2,  34.3042,2,    349.9,2,     4.88,2,     9.52,2,     0.07,2,     0.72,2, -999.000,9, -999.000,9,    0.496,3,    6.908,3,     1.89,2,   2121.1,2,   2268.2,2,   7.7307,    25.00,2,  -1.6058
  77DN20020420,   GNS,    77,  1,     14,2,20020526,2130, 69.0085, -21.2313,  981,    126.2,  -1.5784,  34.3121,2,-999.0000,9,    348.6,2,     4.92,2,     9.54,2,     0.07,2,     0.73,2, -999.000,9, -999.000,9,    0.488,3,    6.330,3,     -999,9,   2121.7,2,   2267.7,2,   7.7307,    25.00,2,  -1.5812
  77DN20020420,   GNS,    77,  1,     13,2,20020526,2130, 69.0085, -21.2313,  981,    148.4,  -1.5892,  34.3453,2,  34.3500,2,    343.2,2,     4.90,2,     9.88,2,     0.07,2,     0.74,2, -999.000,9, -999.000,9,    0.481,3,    6.400,3,      1.8,2,   2120.5,2,   2268.5,2,   7.7268,    25.00,2,  -1.5925
  77DN20020420,   GNS,    77,  1,     12,2,20020526,2130, 69.0085, -21.2313,  981,    196.3,  -0.9566,  34.4931,2,  34.4970,2,    335.4,2,     5.24,2,    10.45,2,     0.07,2,     0.78,2, -999.000,9, -999.000,9,    0.480,3,    5.653,3,      1.2,2,   2129.1,2,   2278.1,2,   7.7296,    25.00,2,  -0.9622
  77DN20020420,   GNS,    77,  1,     11,2,20020526,2130, 69.0085, -21.2313,  981,    247.5,   0.3560,  34.7340,2,-999.0000,9,    322.2,2,     5.32,2,    11.12,2,     0.08,2,     0.82,2, -999.000,9, -999.000,9,    0.461,3,    5.240,3,     0.72,2,   2140.7,2,   2289.3,2,   7.7247,    25.00,2,   0.3460
  77DN20020420,   GNS,    77,  1,     10,2,20020526,2130, 69.0085, -21.2313,  981,    299.9,   0.3206,  34.8109,2,-999.0000,9,    327.4,2,     5.19,2,    11.28,2,     0.08,2,     0.82,2, -999.000,9, -999.000,9,    0.413,3,    4.322,3,      0.8,2,   2147.3,2,   2292.3,2,   7.7228,    25.00,2,   0.3083
  77DN20020420,   GNS,    77,  1,      9,2,20020526,2130, 69.0085, -21.2313,  981,    400.2,   0.7793,  34.9072,2,  34.9127,2,    307.4,2,     5.72,2,    12.15,2,     0.05,2,     0.87,2, -999.000,9, -999.000,9,    0.359,3,    3.757,3,     0.83,2,   2148.2,2,   2300.0,2,   7.7189,    25.00,2,   0.7610
  77DN20020420,   GNS,    77,  1,      8,2,20020526,2130, 69.0085, -21.2313,  981,    502.0,   0.2592,  34.9043,2,-999.0000,9,    310.6,2,     5.93,2,    12.27,2,     0.05,2,     0.88,2, -999.000,9, -999.000,9,    0.284,3,    3.423,3,     0.76,2,   2150.4,2,   2297.6,2,   7.7179,    25.00,2,   0.2379
  77DN20020420,   GNS,    77,  1,      7,2,20020526,2130, 69.0085, -21.2313,  981,    599.6,   0.0503,  34.9037,2,-999.0000,9,    312.6,2,     6.20,2,    12.52,2,     0.05,2,     0.89,2, -999.000,9, -999.000,9,    0.256,3,    2.746,3,     1.02,2,   2153.6,2,   2298.5,2,   7.7160,    25.00,2,   0.0254
  77DN20020420,   GNS,    77,  1,      6,2,20020526,2130, 69.0085, -21.2313,  981,    749.6,  -0.2925,  34.9011,2,-999.0000,9,    311.8,2,     6.82,2,    12.94,2,     0.05,2,     0.91,2, -999.000,9, -999.000,9,    0.230,3,    2.508,3,     1.05,2,   2154.6,2,   2297.1,2,   7.7112,    25.00,2,  -0.3225
  77DN20020420,   GNS,    77,  1,      5,2,20020526,2130, 69.0085, -21.2313,  981,    800.6,  -0.4181,  34.9001,2,  34.9033,2,    309.9,2,     7.16,2,    13.13,2,     0.05,2,     0.92,2, -999.000,9, -999.000,9,    0.228,3,    2.335,3,     1.23,2,   2155.2,2,   2298.5,2,   7.7102,    25.00,2,  -0.4497
  77DN20020420,   GNS,    77,  1,      4,2,20020526,2130, 69.0085, -21.2313,  981,    898.1,  -0.5664,  34.8993,2,  34.9069,2,    308.4,2,     7.90,2,    13.45,2,     0.05,2,     0.93,2, -999.000,9, -999.000,9,    0.212,3,    2.178,3,     1.82,2,   2152.9,2,   2298.0,2,   7.7063,    25.00,2,  -0.6015
  77DN20020420,   GNS,    77,  1,      2,2,20020526,2130, 69.0085, -21.2313,  981,    909.6,  -0.5783,  34.9013,2,-999.0000,9,    308.2,2,     8.04,2,    13.54,2,     0.05,2,     0.94,2, -999.000,9, -999.000,9,    0.203,3,    2.079,3,     1.57,2,   2155.5,2,   2297.2,2,   7.7083,    25.00,2,  -0.6138
  77DN20020420,   GNS,    77,  1,      1,2,20020526,2130, 69.0085, -21.2313,  981,    962.7,  -0.5765,  34.9016,2,  34.9062,2,    309.8,2,     8.16,2,    13.55,2,     0.04,2,     0.94,2, -999.000,9, -999.000,9,    0.203,3,    1.952,3,     1.35,2,   2153.3,2,   2298.4,2,   7.7112,    25.00,2,  -0.6146
  77DN20020420,   GNS,    78,  1,     24,2,20020527,  27, 68.8077, -21.1325, 1476,      9.9,  -1.0587,  34.3786,2,-999.0000,9,    360.3,2,     5.06,2,    10.22,2,     0.11,2,     0.72,2,    7.510,2,    3.820,2,    0.646,3,    8.476,3,     -999,9,   2129.2,2,   2271.1,2,   7.7219,    25.00,2,  -1.0590
  77DN20020420,   GNS,    78,  1,     23,2,20020527,  27, 68.8077, -21.1325, 1476,     30.1,  -0.7645,  34.5495,2,-999.0000,9,    358.1,2,     4.64,2,    10.49,2,     0.11,2,     0.74,2,    7.340,2,    3.750,2,    0.576,3,    7.788,3,      1.6,2,   2133.5,2,   2278.2,2,   7.7209,    25.00,2,  -0.7654
  77DN20020420,   GNS,    78,  1,     22,2,20020527,  27, 68.8077, -21.1325, 1476,     40.3,  -0.7587,  34.5513,2,-999.0000,9,    358.5,2,     4.60,2,    10.62,2,     0.11,2,     0.73,2,    7.510,2,    3.850,2,    0.672,3,    7.891,3,     -999,9,   2127.5,2,   2276.5,2,   7.7219,    25.00,2,  -0.7599
  77DN20020420,   GNS,    78,  1,     21,2,20020527,  27, 68.8077, -21.1325, 1476,     61.7,  -0.7804,  34.5646,2,-999.0000,9,    357.3,2,     4.53,2,    10.53,2,     0.11,2,     0.73,2,    7.220,2,    3.750,2,    0.564,3,    7.881,3,     1.81,2,   2132.8,2,   2280.6,2,   7.7200,    25.00,2,  -0.7822
  77DN20020420,   GNS,    78,  1,     20,2,20020527,  27, 68.8077, -21.1325, 1476,     81.1,  -0.7806,  34.5656,2,-999.0000,9,    356.5,2,     4.51,2,    10.53,2,     0.12,2,     0.74,2,    7.280,2,    3.720,2,    0.546,3,    7.688,3,     1.71,2,   2133.6,2,   2278.7,2,   7.7209,    25.00,2,  -0.7830
  77DN20020420,   GNS,    78,  1,     19,2,20020527,  27, 68.8077, -21.1325, 1476,    101.0,  -0.7779,  34.5669,2,-999.0000,9,    356.1,2,     4.56,2,    10.55,2,     0.11,2,     0.74,2,    7.280,2,    3.720,2,    0.610,3,    7.162,3,     1.55,2,   -999.0,2,   2276.5,2,   7.7209,    25.00,2,  -0.7809
  77DN20020420,   GNS,    78,  1,     18,2,20020527,  27, 68.8077, -21.1325, 1476,    124.5,  -0.7754,  34.5782,2,-999.0000,9,    356.0,2,     4.56,2,    10.66,2,     0.12,2,     0.75,2,    7.300,2,    3.720,2,    0.614,3,    6.700,3,     -999,9,   -999.0,2,   2278.4,2,   7.7171,    25.00,2,  -0.7791
  77DN20020420,   GNS,    78,  1,     17,2,20020527,  27, 68.8077, -21.1325, 1476,    150.8,  -0.2160,  34.7043,2,-999.0000,9,    341.3,2,     4.75,2,    11.06,2,     0.13,2,     0.78,2,    6.630,2,    3.430,2,    0.577,3,    6.424,3,     1.46,2,   -999.0,2,   2285.4,2,   7.7209,    25.00,2,  -0.2212
  77DN20020420,   GNS,    78,  1,     16,2,20020527,  27, 68.8077, -21.1325, 1476,    201.9,  -0.3406,  34.7462,2,  34.7502,2,    341.8,2,     4.92,2,    11.38,2,     0.13,2,     0.79,2,    6.570,2,    3.400,2,    0.571,3,    6.244,3,     1.37,2,   -999.0,2,   2286.2,2,   7.7151,    25.00,2,  -0.3475
  77DN20020420,   GNS,    78,  1,     15,2,20020527,  27, 68.8077, -21.1325, 1476,    250.2,   0.0352,  34.7813,2,  34.7835,2,    334.3,2,     5.04,2,    11.59,2,     0.13,2,     0.81,2,    6.060,2,    3.180,2,    0.431,3,    5.589,3,     1.17,2,   -999.0,2,   2290.3,2,   7.7199,    25.00,2,   0.0257
  77DN20020420,   GNS,    78,  1,     14,2,20020527,  27, 68.8077, -21.1325, 1476,    301.1,   1.1009,  34.8852,2,  34.8881,2,    312.8,2,     5.30,2,    12.10,2,     0.12,2,     0.84,2,    4.880,2,    2.680,2,    0.388,3,    4.147,3,     0.97,2,   -999.0,2,   2295.3,2,   7.7276,    25.00,2,   1.0866
  77DN20020420,   GNS,    78,  1,     13,2,20020527,  27, 68.8077, -21.1325, 1476,    399.8,   1.1368,  34.9176,2,-999.0000,9,    306.8,2,     5.62,2,    12.50,2,     0.11,2,     0.87,2,    4.160,2,    2.270,2,    0.315,3,    3.511,3,     0.76,2,   -999.0,2,   2297.5,2,   7.7247,    25.00,2,   1.1173
  77DN20020420,   GNS,    78,  1,     12,2,20020527,  27, 68.8077, -21.1325, 1476,    500.5,   0.7215,  34.9102,2,-999.0000,9,    307.7,2,     5.76,2,    12.69,2,     0.10,2,     0.88,2,    3.670,2,    2.010,2,    0.247,3,    2.578,3,     0.67,2,   2152.3,2,   2297.3,2,   7.7218,    25.00,2,   0.6984
  77DN20020420,   GNS,    78,  1,     11,2,20020527,  27, 68.8077, -21.1325, 1476,    600.4,   0.4052,  34.9047,2,-999.0000,9,    309.1,2,     5.89,2,    12.67,2,     0.10,2,     0.89,2,    3.610,2,    1.970,2,    0.249,3,    2.721,3,     -999,9,   2152.1,2,   2296.2,2,   7.7189,    25.00,2,   0.3785
  77DN20020420,   GNS,    78,  1,     10,2,20020527,  27, 68.8077, -21.1325, 1476,    702.0,   0.1369,  34.9008,2,  34.9025,2,    311.1,2,     6.09,2,    12.82,2,     0.11,2,     0.89,2,    3.710,2,    2.000,2,    0.285,3,    2.449,3,     0.62,2,   2155.8,2,   2295.4,2,   7.7112,    25.00,2,   0.1066
  77DN20020420,   GNS,    78,  1,      9,2,20020527,  27, 68.8077, -21.1325, 1476,    901.4,  -0.1526,  34.9025,2,  34.9056,2,    314.8,2,     6.35,2,    13.12,2,     0.10,2,     0.90,2,    3.770,2,    2.070,2,    0.325,3,    2.086,3,      1.2,2,   2156.2,2,   2296.1,2,   7.7073,    25.00,2,  -0.1909
  77DN20020420,   GNS,    78,  1,      8,2,20020527,  27, 68.8077, -21.1325, 1476,   1112.6,  -0.4121,  34.8971,2,-999.0000,9,    313.7,2,     6.99,2,    13.18,2,     0.12,2,     0.92,2,    3.370,2,    1.850,2,    0.237,3,    1.869,3,      1.5,2,   2159.6,2,   2297.4,2,   7.7054,    25.00,2,  -0.4591
  77DN20020420,   GNS,    78,  1,      7,2,20020527,  27, 68.8077, -21.1325, 1476,   1162.2,  -0.4640,  34.8958,2,-999.0000,9,    314.5,2,     7.23,2,    12.94,2,     0.13,2,     0.92,2,    3.260,2,    1.770,2,    0.267,3,    1.879,3,     1.47,2,   -999.0,2,   -999.0,2,-999.0000,  -999.00,9,  -0.5131
  77DN20020420,   GNS,    78,  1,      6,2,20020527,  27, 68.8077, -21.1325, 1476,   1207.4,  -0.5136,  34.8956,2,  34.8985,2,    312.7,2,     7.36,2,    13.36,2,     0.12,2,     0.93,2,    3.200,2,    1.720,2,    0.273,3,    1.532,3,     1.54,2,   2159.3,2,   2296.3,2,   7.7044,    25.00,2,  -0.5647
  77DN20020420,   GNS,    78,  1,      5,2,20020527,  27, 68.8077, -21.1325, 1476,   1261.0,  -0.5691,  34.8966,2,-999.0000,9,    311.8,2,     7.74,2,    13.62,2,     0.11,2,     0.94,2,    2.840,2,    1.560,2,    0.208,3,    1.452,3,     1.76,2,   -999.0,2,   -999.0,2,-999.0000,  -999.00,9,  -0.6224
  77DN20020420,   GNS,    78,  1,      4,2,20020527,  27, 68.8077, -21.1325, 1476,   1309.3,  -0.6146,  34.8986,2,-999.0000,9,    309.3,2,     8.35,2,    13.80,2,     0.12,2,     0.94,2,    2.550,2,    1.360,2,    0.211,3,    1.371,3,     2.15,2,   2157.7,2,   2296.1,2,   7.7025,    25.00,2,  -0.6701
  77DN20020420,   GNS,    78,  1,      3,2,20020527,  27, 68.8077, -21.1325, 1476,   1359.2,  -0.6432,  34.9012,2,  34.9042,2,    307.0,2,     8.95,2,    13.84,2,     0.12,2,     0.95,2,    2.270,2,    1.200,2,    0.179,3,    1.385,3,     1.25,2,   2161.1,2,   2297.4,2,   7.7025,    25.00,2,  -0.7011
  77DN20020420,   GNS,    78,  1,      1,2,20020527,  27, 68.8077, -21.1325, 1476,   1451.3,  -0.6949,  34.9051,2,  34.9075,2,    305.9,2,     9.32,2,    13.83,2,     0.13,2,     0.96,2,    1.790,2,    0.920,2,    0.152,3,    1.390,3,     0.92,2,   2158.9,2,   2297.5,2,   7.7073,    25.00,2,  -0.7573
  77DN20020420,   GNS,    79,  1,     20,2,20020527, 458, 68.2642, -20.7925, 1047,     10.9,  -0.2682,  34.6106,2,-999.0000,9,    368.1,2,     3.26,2,     8.54,2,     0.09,2,     0.60,2, -999.000,9, -999.000,9, -999.000,9, -999.000,9,     -999,9,   -999.0,2,   2284.6,2,   7.7557,    25.00,2,  -0.2686
  77DN20020420,   GNS,    79,  1,     19,2,20020527, 458, 68.2642, -20.7925, 1047,     20.6,  -0.2675,  34.6106,2,-999.0000,9,    367.1,2,     3.30,2,     8.60,2,     0.09,2,     0.61,2, -999.000,9, -999.000,9,    0.414,3,    8.726,3,     1.84,2,   2126.4,2,   2283.8,2,   7.7538,    25.00,2,  -0.2682
  77DN20020420,   GNS,    79,  1,     18,2,20020527, 458, 68.2642, -20.7925, 1047,     29.9,  -0.2629,  34.6114,2,-999.0000,9,    369.3,2,     3.22,2,     8.55,2,     0.09,2,     0.60,2, -999.000,9, -999.000,9, -999.000,9, -999.000,9,     -999,9,   -999.0,2,   2284.5,2,   7.7548,    25.00,2,  -0.2639
  77DN20020420,   GNS,    79,  1,     17,2,20020527, 458, 68.2642, -20.7925, 1047,     41.4,  -0.2598,  34.6116,2,-999.0000,9,    367.3,2,     3.37,2,     8.60,2,     0.09,2,     0.60,2, -999.000,9, -999.000,9,    0.559,3,    8.003,3,     -999,9,   2130.2,2,   2281.2,2,   7.7548,    25.00,2,  -0.2612
  77DN20020420,   GNS,    79,  1,     16,2,20020527, 458, 68.2642, -20.7925, 1047,     62.0,  -0.2618,  34.6120,2,-999.0000,9,    368.0,2,     3.45,2,     8.58,2,     0.09,2,     0.62,2, -999.000,9, -999.000,9, -999.000,9, -999.000,9,     1.94,2,   -999.0,2,   2283.8,2,   7.7548,    25.00,2,  -0.2639
  77DN20020420,   GNS,    79,  1,     15,2,20020527, 458, 68.2642, -20.7925, 1047,     82.1,  -0.2985,  34.6204,2,  34.6265,2,    362.2,2,     3.65,2,     8.97,2,     0.09,2,     0.63,2, -999.000,9, -999.000,9,    0.323,3,    7.223,3,     -999,9,   2130.8,2,   2285.0,2,   7.7480,    25.00,2,  -0.3012
  77DN20020420,   GNS,    79,  1,     14,2,20020527, 458, 68.2642, -20.7925, 1047,    100.3,  -0.4533,  34.6686,2,-999.0000,9,    350.9,2,     4.96,2,    11.12,2,     0.11,2,     0.76,2, -999.000,9, -999.000,9,    0.340,3,    7.108,3,     1.71,2,   -999.0,2,   2283.4,2,   7.7219,    25.00,2,  -0.4565
  77DN20020420,   GNS,    79,  1,     13,2,20020527, 458, 68.2642, -20.7925, 1047,    128.0,  -0.1686,  34.7106,2,-999.0000,9,    340.5,2,     5.42,2,    11.65,2,     0.11,2,     0.79,2, -999.000,9, -999.000,9, -999.000,9, -999.000,9,     1.46,2,   2141.1,2,   2287.1,2,   7.7199,    25.00,2,  -0.1731
  77DN20020420,   GNS,    79,  1,     12,2,20020527, 458, 68.2642, -20.7925, 1047,    150.8,   0.9660,  34.8325,2,-999.0000,9,    321.2,2,     5.56,2,    12.30,2,     0.09,2,     0.81,2, -999.000,9, -999.000,9,    0.489,3,    6.440,3,     1.56,2,   2144.9,2,   2291.7,2,   7.7276,    25.00,2,   0.9592
  77DN20020420,   GNS,    79,  1,     11,2,20020527, 458, 68.2642, -20.7925, 1047,    200.6,   1.3328,  34.8954,2,  34.8956,2,    311.8,2,     6.02,2,    12.35,2,     0.08,2,     0.83,2, -999.000,9, -999.000,9,    0.485,3,    5.480,3,     1.13,2,   -999.0,2,   2296.4,2,   7.7305,    25.00,2,   1.3231
  77DN20020420,   GNS,    79,  1,     10,2,20020527, 458, 68.2642, -20.7925, 1047,    250.5,   1.3661,  34.9237,2,  34.9247,2,    309.5,2,     5.97,2,    12.85,2,     0.08,2,     0.85,2, -999.000,9, -999.000,9,    0.260,3,    5.293,3,     1.04,2,   2148.6,2,   2296.7,2,   7.7295,    25.00,2,   1.3537
  77DN20020420,   GNS,    79,  1,      9,2,20020527, 458, 68.2642, -20.7925, 1047,    300.5,   1.0756,  34.9193,2,-999.0000,9,    308.0,2,     6.27,2,    13.05,2,     0.08,2,     0.86,2, -999.000,9, -999.000,9,    0.371,3,    4.276,3,     0.96,2,   -999.0,2,   2297.8,2,   7.7257,    25.00,2,   1.0614
  77DN20020420,   GNS,    79,  1,      8,2,20020527, 458, 68.2642, -20.7925, 1047,    401.7,   0.6216,  34.9059,2,-999.0000,9,    308.4,2,     6.45,2,    13.15,2,     0.08,2,     0.88,2, -999.000,9, -999.000,9,    0.357,3,    3.480,3,     0.76,2,   2152.7,2,   2295.8,2,   7.7199,    25.00,2,   0.6037
  77DN20020420,   GNS,    79,  1,      7,2,20020527, 458, 68.2642, -20.7925, 1047,    655.1,  -0.1197,  34.8971,2,  34.8970,2,    317.1,2,     6.89,2,    13.45,2,     0.08,2,     0.89,2, -999.000,9, -999.000,9,    0.249,3,    3.082,3,     1.25,2,   2156.4,2,   2295.0,2,   7.7073,    25.00,2,  -0.1463
  77DN20020420,   GNS,    79,  1,      6,2,20020527, 458, 68.2642, -20.7925, 1047,    800.6,  -0.3600,  34.8942,2,  34.8940,2,    315.1,2,     7.51,2,    13.68,2,     0.09,2,     0.91,2, -999.000,9, -999.000,9,    0.249,3,    2.525,3,     1.46,2,   2157.6,2,   2297.6,2,   7.7034,    25.00,2,  -0.3919
  77DN20020420,   GNS,    79,  1,      5,2,20020527, 458, 68.2642, -20.7925, 1047,    850.9,  -0.4347,  34.8948,2,  34.8948,2,    313.8,2,     7.93,2,    13.96,2,     0.09,2,     0.90,2, -999.000,9, -999.000,9,    0.209,3,    2.267,3,      1.6,2,   2158.2,2,   2294.9,2,   7.7044,    25.00,2,  -0.4685
  77DN20020420,   GNS,    79,  1,      4,2,20020527, 458, 68.2642, -20.7925, 1047,    899.6,  -0.4931,  34.8957,2,-999.0000,9,    311.2,2,     8.72,2,    14.22,2,     0.09,2,     0.93,2, -999.000,9, -999.000,9,    0.211,3,    2.028,3,     1.62,2,   2159.6,2,   2295.8,2,   7.7015,    25.00,2,  -0.5288
  77DN20020420,   GNS,    79,  1,      3,2,20020527, 458, 68.2642, -20.7925, 1047,    948.7,  -0.5523,  34.8978,2,  34.9007,2,    308.5,2,     9.35,2,    14.41,2,     0.09,2,     0.94,2, -999.000,9, -999.000,9,    0.200,3,    2.012,3,     1.84,2,   2158.0,2,   2297.3,2,   7.7006,    25.00,2,  -0.5899
  77DN20020420,   GNS,    79,  1,      2,2,20020527, 458, 68.2642, -20.7925, 1047,    977.0,  -0.5851,  34.8991,2,-999.0000,9,    308.9,2,     9.62,2,    14.32,2,     0.10,2,     0.95,2, -999.000,9, -999.000,9, -999.000,9, -999.000,9,     1.83,2,   2158.8,2,   2294.9,2,   7.7006,    25.00,2,  -0.6238
  77DN20020420,   GNS,    79,  1,      1,2,20020527, 458, 68.2642, -20.7925, 1047,   1028.3,  -0.6306,  34.9010,2,  34.9015,2,    308.7,2,     9.85,2,    14.48,2,     0.10,2,     0.95,2, -999.000,9, -999.000,9,    0.160,3,    1.678,3,     1.84,2,   2159.0,2,   2295.6,2,   7.7025,    25.00,2,  -0.6714