BOTTLE,20090507PRINUNIVRMK
EXPOCODE,SECT_ID,STNNBR,CASTNO,BTLNBR,BTLNBR_FLAG_W,DATE,TIME,LATITUDE,LONGITUDE,DEPTH,CTDPRS,CTDTMP,CTDSAL,CTDSAL_FLAG_W,SALNTY,SALNTY_FLAG_W,OXYGEN,OXYGEN_FLAG_W,SILCAT,SILCAT_FLAG_W,NITRAT,NITRAT_FLAG_W,NITRIT,NITRIT_FLAG_W,PHSPHT,PHSPHT_FLAG_W,CFC-11,CFC-11_FLAG_W,CFC-12,CFC-12_FLAG_W,CFC113,CFC113_FLAG_W,CCL4,CCL4_FLAG_W,SF6,SF6_FLAG_W,TCARBN,TCARBN_FLAG_W,ALKALI,ALKALI_FLAG_W,PH_SWS,PH_TEMP,PH_SWS_FLAG_W,THETA
,,,,,,,,,,METERS,DBARS,ITS-90,PSS-78,,PSS-78,,UMOL/KG,,UMOL/KG,,UMOL/KG,,UMOL/KG,,UMOL/KG,,PMOL/KG,,PMOL/KG,,PMOL/KG,,PMOL/KG,,FMOL/KG,,UMOL/KG,,UMOL/KG,,,DEGC,,DEGC
  77DN20020420,   GNS,    45,  1,     24,2,20020516,1540, 74.9945,  -4.0067, 3639,     14.1,  -0.4153,  34.8570,2,-999.0000,9,    356.8,2,     6.10,2,    11.07,2,     0.03,2,     0.80,2,    6.730,2,    3.510,2,    0.512,3,    9.141,3,     1.54,2,   2142.0,2,   2294.9,2,   7.7189,    25.00,2,  -0.4158
  77DN20020420,   GNS,    45,  1,     23,2,20020516,1540, 74.9945,  -4.0067, 3639,     28.9,  -0.4123,  34.8567,2,  34.8562,2,    356.2,2,     5.79,2,    11.04,2,     0.03,2,     0.80,2,    6.730,2,    3.510,2,    0.506,3,    8.471,3,     1.47,2,   2143.8,2,   2295.0,2,   7.7208,    25.00,2,  -0.4132
  77DN20020420,   GNS,    45,  1,     20,2,20020516,1540, 74.9945,  -4.0067, 3639,     56.4,  -0.4944,  34.8781,2,-999.0000,9,    344.0,2,     6.12,2,    12.03,2,     0.03,2,     0.86,2,    6.080,2,    3.240,2,    0.454,3,    7.338,3,     -999,9,   2150.0,2,   2297.4,2,   7.7083,    25.00,2,  -0.4962
  77DN20020420,   GNS,    45,  1,     19,2,20020516,1540, 74.9945,  -4.0067, 3639,     81.2,  -0.5905,  34.8775,2,-999.0000,9,    343.1,2,     6.24,2,    12.29,2,     0.03,2,     0.88,2,    6.020,2,    3.240,2,    0.545,3,    6.648,3,     -999,9,   2148.1,2,   2305.4,3,   7.7044,    25.00,2,  -0.5930
  77DN20020420,   GNS,    45,  1,     18,2,20020516,1540, 74.9945,  -4.0067, 3639,    124.8,  -0.6896,  34.8764,2,-999.0000,9,    343.8,2,     6.34,2,    12.43,2,     0.03,2,     0.88,2,    5.950,2,    3.270,2,    0.810,3,    6.018,3,     1.67,2,   2151.9,2,   2298.8,2,   7.7006,    25.00,2,  -0.6934
  77DN20020420,   GNS,    45,  1,     17,2,20020516,1540, 74.9945,  -4.0067, 3639,    173.7,  -0.7417,  34.8763,2,  34.8747,2,    343.2,2,     6.35,2,    12.59,2,     0.03,2,     0.88,2,    6.120,2,    3.270,2,    0.472,3,    5.967,3,     -999,9,   2151.2,2,   2295.6,2,   7.6996,    25.00,2,  -0.7471
  77DN20020420,   GNS,    45,  1,     14,2,20020516,1540, 74.9945,  -4.0067, 3639,    225.8,  -0.6623,  34.8834,2,  34.8817,2,    336.1,2,     6.38,2,    12.76,2,     0.03,2,     0.89,2,    5.640,2,    3.080,2,    0.611,3,    5.116,3,     1.95,2,   2153.7,2,   2299.8,2,   7.6977,    25.00,2,  -0.6695
  77DN20020420,   GNS,    45,  1,     13,2,20020516,1540, 74.9945,  -4.0067, 3639,    277.4,  -0.7310,  34.8843,2,-999.0000,9,    332.7,2,     6.47,2,    13.11,2,     0.03,2,     0.90,2,    5.130,2,    2.970,2,    0.634,3,    4.863,3,     2.04,2,   2155.0,2,   2296.7,2,   7.6938,    25.00,2,  -0.7399
  77DN20020420,   GNS,    45,  1,     12,2,20020516,1540, 74.9945,  -4.0067, 3639,    353.6,  -0.6668,  34.8913,2,-999.0000,9,    330.0,2,     6.47,2,    13.06,2,     0.02,2,     0.90,2,    5.260,2,    2.850,2,    0.448,3,    4.509,3,     2.32,2,   2155.9,2,   2298.7,2,   7.6909,    25.00,2,  -0.6785
  77DN20020420,   GNS,    45,  1,     11,2,20020516,1540, 74.9945,  -4.0067, 3639,    451.0,  -0.7416,  34.8878,2,-999.0000,9,    330.4,2,     6.49,2,    13.15,2,     0.02,2,     0.91,2,    5.320,2,    2.850,2,    0.450,3,    3.995,3,     2.33,2,   2154.5,2,   2296.9,2,   7.6938,    25.00,2,  -0.7567
  77DN20020420,   GNS,    45,  1,     10,2,20020516,1540, 74.9945,  -4.0067, 3639,    607.9,  -0.7774,  34.8875,2,  34.8861,2,    329.1,2,     6.59,2,    13.19,2,     0.02,2,     0.90,2,    5.260,2,    2.820,2,    0.466,3,    3.226,3,     2.41,2,   2157.0,2,   2296.8,2,   7.6928,    25.00,2,  -0.7984
  77DN20020420,   GNS,    45,  1,      9,2,20020516,1540, 74.9945,  -4.0067, 3639,    751.0,  -0.7999,  34.8863,2,-999.0000,9,    329.8,2,     6.52,2,    13.28,2,     0.02,2,     0.94,2,    5.200,2,    2.810,2,    0.446,3,    3.127,3,     2.53,2,   2155.1,2,   2296.5,2,   7.6928,    25.00,2,  -0.8268
  77DN20020420,   GNS,    45,  1,      8,2,20020516,1540, 74.9945,  -4.0067, 3639,   1000.9,  -0.8346,  34.8846,2,-999.0000,9,    329.7,2,     6.97,2,    13.28,2,     0.01,2,     0.94,2,    4.970,2,    2.680,2,    0.422,3,    3.038,3,     2.64,2,   2154.7,2,   2295.4,2,   7.6928,    25.00,2,  -0.8724
  77DN20020420,   GNS,    45,  1,      7,2,20020516,1540, 74.9945,  -4.0067, 3639,   1401.7,  -0.8346,  34.8869,2,  34.8873,2,    325.3,2,     7.36,2,    13.60,2,     0.01,2,     0.94,2,    4.480,2,    2.450,2,    0.418,3,    2.367,3,     2.41,2,   2156.2,2,   2296.6,2,   7.6938,    25.00,2,  -0.8926
  77DN20020420,   GNS,    45,  1,      6,2,20020516,1540, 74.9945,  -4.0067, 3639,   1798.6,  -0.7387,  34.9060,2,-999.0000,9,    303.5,2,     9.77,2,    14.60,2,     0.02,2,     1.01,2,    1.700,2,    0.840,2,    0.160,3,    1.114,3,     0.47,2,   2155.4,2,   2297.7,2,   7.6977,    25.00,2,  -0.8209
  77DN20020420,   GNS,    45,  1,      5,2,20020516,1540, 74.9945,  -4.0067, 3639,   2196.9,  -0.8166,  34.9092,2,  34.9068,2,    300.9,2,    11.01,2,    14.70,2,     0.01,2,     1.01,2,    1.070,2,    0.440,2,    0.137,3,    0.633,3,        0,2,   2153.4,2,   2298.7,2,   7.6986,    25.00,2,  -0.9233
  77DN20020420,   GNS,    45,  1,      4,2,20020516,1540, 74.9945,  -4.0067, 3639,   2599.6,  -0.8650,  34.9091,2,-999.0000,9,    302.5,2,    11.30,2,    14.77,2,     0.02,2,     1.01,2,    0.950,2,    0.370,2,    0.123,3,    0.609,3,     0.06,2,   2157.8,2,   2298.6,2,   7.6986,    25.00,2,  -0.9993
  77DN20020420,   GNS,    45,  1,      3,2,20020516,1540, 74.9945,  -4.0067, 3639,   2999.5,  -0.8888,  34.9075,2,  34.9030,2,    303.9,2,    11.75,2,    14.72,2,     0.02,2,     1.00,2,    0.930,2,    0.380,2,    0.134,3,    0.615,3,     0.25,2,   2154.3,2,   2298.2,2,   7.6986,    25.00,2,  -1.0532
  77DN20020420,   GNS,    45,  1,      2,2,20020516,1540, 74.9945,  -4.0067, 3639,   3557.1,  -0.9029,  34.9031,2,-999.0000,9,    306.1,2,    11.95,2,    14.81,2,     0.02,2,     0.99,2,    0.960,2,    0.380,2,    0.117,3,    0.581,3,     0.29,2,   2157.2,2,   2299.5,2,   7.6986,    25.00,2,  -1.1139
  77DN20020420,   GNS,    45,  1,      1,2,20020516,1540, 74.9945,  -4.0067, 3639,   3642.8,  -0.8971,  34.9033,2,  34.8986,2,    306.3,2,    12.13,2,    14.76,2,     0.02,2,     0.98,2,    0.960,2,    0.380,2,    0.119,3,    0.572,3,     0.29,2,   2157.1,2,   2298.9,2,   7.7034,    25.00,2,  -1.1159
  77DN20020420,   GNS,    46,  1,     20,2,20020516,2132, 74.9990,  -6.0007, 3523,     10.0,  -0.0670,  34.8945,2,-999.0000,9,    343.9,2,     6.24,2,    12.10,2,     0.03,2,     0.82,2, -999.000,9, -999.000,9,    0.670,3,    9.611,3,     1.89,2,   2148.2,2,   2297.9,2,   7.7160,    25.00,2,  -0.0674
  77DN20020420,   GNS,    46,  1,     19,2,20020516,2132, 74.9990,  -6.0007, 3523,     29.7,  -0.0699,  34.8935,2,-999.0000,9,    343.5,2,     5.76,2,    12.01,2,     0.03,2,     0.81,2, -999.000,9, -999.000,9,    0.600,3,    8.712,3,     1.65,2,   -999.0,2,   -999.0,2,-999.0000,  -999.00,9,  -0.0709
  77DN20020420,   GNS,    46,  1,     18,2,20020516,2132, 74.9990,  -6.0007, 3523,     50.6,  -0.0771,  34.8977,2,-999.0000,9,    338.2,2,     6.10,2,    12.31,2,     0.02,2,     0.83,2, -999.000,9, -999.000,9,    0.632,3,    9.021,3,     1.59,2,   2150.1,2,   2299.4,2,   7.7131,    25.00,2,  -0.0789
  77DN20020420,   GNS,    46,  1,     17,2,20020516,2132, 74.9990,  -6.0007, 3523,     75.2,   0.0465,  34.9148,2,-999.0000,9,    321.2,2,     6.17,2,    12.81,2,     0.02,2,     0.86,2, -999.000,9, -999.000,9,    0.500,3,    8.918,3,     1.72,2,   2151.6,2,   2299.3,2,   7.7102,    25.00,2,   0.0437
  77DN20020420,   GNS,    46,  1,     16,2,20020516,2132, 74.9990,  -6.0007, 3523,     99.7,  -0.0401,  34.9128,2,-999.0000,9,    322.2,2,     6.45,2,    12.91,2,     0.03,2,     0.87,2, -999.000,9, -999.000,9,    0.470,3,    8.183,3,     1.39,2,   2151.0,2,   2299.8,2,   7.7083,    25.00,2,  -0.0437
  77DN20020420,   GNS,    46,  1,     15,2,20020516,2132, 74.9990,  -6.0007, 3523,    124.7,  -0.2615,  34.9033,2,-999.0000,9,    334.2,2,     6.13,2,    12.77,2,     0.03,2,     0.85,2, -999.000,9, -999.000,9,    0.524,3,    7.326,3,     1.58,2,   -999.0,2,   -999.0,2,-999.0000,  -999.00,9,  -0.2658
  77DN20020420,   GNS,    46,  1,     14,2,20020516,2132, 74.9990,  -6.0007, 3523,    174.4,  -0.5047,  34.8936,2,-999.0000,9,    338.3,2,     6.34,2,    12.69,2,     0.03,2,     0.85,2, -999.000,9, -999.000,9,    0.389,3,    5.685,3,     1.95,2,   2150.1,2,   2299.5,2,   7.7044,    25.00,2,  -0.5104
  77DN20020420,   GNS,    46,  1,     13,2,20020516,2132, 74.9990,  -6.0007, 3523,    224.5,  -0.6793,  34.8854,2,-999.0000,9,    338.3,2,     6.34,2,    12.79,2,     0.03,2,     0.86,2, -999.000,9, -999.000,9,    0.370,3,    5.284,3,     2.39,2,   -999.0,2,   -999.0,2,-999.0000,  -999.00,9,  -0.6865
  77DN20020420,   GNS,    46,  1,     12,2,20020516,2132, 74.9990,  -6.0007, 3523,    275.5,  -0.7235,  34.8856,2,-999.0000,9,    334.7,2,     6.57,2,    12.99,2,     0.03,2,     0.87,2, -999.000,9, -999.000,9,    0.341,3,    4.356,3,     2.71,2,   2155.9,2,   2296.4,2,   7.6977,    25.00,2,  -0.7323
  77DN20020420,   GNS,    46,  1,     11,2,20020516,2132, 74.9990,  -6.0007, 3523,    349.1,  -0.7947,  34.8837,2,-999.0000,9,    332.4,2,     6.60,2,    13.14,2,     0.02,2,     0.88,2, -999.000,9, -999.000,9,    0.333,3,    3.736,3,     3.13,2,   -999.0,2,   -999.0,2,-999.0000,  -999.00,9,  -0.8059
  77DN20020420,   GNS,    46,  1,     10,2,20020516,2132, 74.9990,  -6.0007, 3523,    450.4,  -0.6757,  34.8941,2,  34.8943,2,    335.6,2,     6.25,2,    13.01,2,     0.02,2,     0.87,2, -999.000,9, -999.000,9,    0.388,3,    2.161,3,      2.8,2,   2154.2,2,   2296.5,2,   7.6967,    25.00,2,  -0.6910
  77DN20020420,   GNS,    46,  1,      9,2,20020516,2132, 74.9990,  -6.0007, 3523,    601.7,  -0.7582,  34.8890,2,-999.0000,9,    333.7,2,     6.40,2,    12.98,2,     0.02,2,     0.88,2, -999.000,9, -999.000,9,    0.312,3,    2.571,3,     3.03,2,   -999.0,2,   -999.0,2,-999.0000,  -999.00,9,  -0.7791
  77DN20020420,   GNS,    46,  1,      8,2,20020516,2132, 74.9990,  -6.0007, 3523,    749.7,  -0.8001,  34.8872,2,  34.8883,2,    333.4,2,     6.49,2,    13.06,2,     0.03,2,     0.88,2, -999.000,9, -999.000,9,    0.275,3,    1.912,3,     3.16,2,   2154.9,2,   2299.2,2,   7.6919,    25.00,2,  -0.8269
  77DN20020420,   GNS,    46,  1,      7,2,20020516,2132, 74.9990,  -6.0007, 3523,   1000.4,  -0.8274,  34.8863,2,-999.0000,9,    333.4,2,     6.64,2,    13.08,2,     0.02,2,     0.89,2, -999.000,9, -999.000,9,    0.243,3,    1.907,3,     3.21,2,   2153.9,2,   2296.5,2,   7.6919,    25.00,2,  -0.8652
  77DN20020420,   GNS,    46,  1,      6,2,20020516,2132, 74.9990,  -6.0007, 3523,   1498.5,  -0.8526,  34.8850,2,  34.8844,2,    333.6,2,     6.59,2,    13.06,2,     0.03,2,     0.89,2, -999.000,9, -999.000,9,    0.222,3,    1.581,3,     2.69,2,   -999.0,2,   -999.0,2,-999.0000,  -999.00,9,  -0.9157
  77DN20020420,   GNS,    46,  1,      5,2,20020516,2132, 74.9990,  -6.0007, 3523,   2001.0,  -0.7403,  34.9032,2,  34.9132,2,    307.7,2,     9.43,2,    14.37,2,     0.02,2,     0.96,2, -999.000,9, -999.000,9,    0.111,3,    0.683,3,     0.74,2,   2153.6,2,   2297.1,2,   7.6967,    25.00,2,  -0.8353
  77DN20020420,   GNS,    46,  1,      4,2,20020516,2132, 74.9990,  -6.0007, 3523,   2499.9,  -0.8460,  34.9094,2,  34.9133,2,    303.4,2,    10.90,2,    14.88,2,     0.03,2,     0.99,2, -999.000,9, -999.000,9,    0.159,3,    0.572,3,     0.09,2,   -999.0,2,   -999.0,2,-999.0000,  -999.00,9,  -0.9734
  77DN20020420,   GNS,    46,  1,      3,2,20020516,2132, 74.9990,  -6.0007, 3523,   3000.6,  -0.8741,  34.9086,2,  34.9122,2,    304.3,2,    11.46,2,    14.87,2,     0.03,2,     0.99,2, -999.000,9, -999.000,9,    0.041,3,    0.540,3,     0.15,2,   2153.5,2,   2298.6,2,   7.6996,    25.00,2,  -1.0390
  77DN20020420,   GNS,    46,  1,      2,2,20020516,2132, 74.9990,  -6.0007, 3523,   3426.7,  -0.9058,  34.9035,2,  34.9018,2,    306.8,2,    11.83,2,    14.78,2,     0.03,2,     0.98,2, -999.000,9, -999.000,9,    0.116,3,    0.533,3,        0,2,   -999.0,2,   -999.0,2,-999.0000,  -999.00,9,  -1.1053
  77DN20020420,   GNS,    46,  1,      1,2,20020516,2132, 74.9990,  -6.0007, 3523,   3524.9,  -0.9043,  34.9030,2,  34.9009,2,    307.4,2,    11.81,2,    14.79,2,     0.02,2,     0.99,2, -999.000,9, -999.000,9,    0.157,3,    0.562,3,     0.05,2,   2155.0,2,   2297.3,2,   7.7006,    25.00,2,  -1.1124
  77DN20020420,   GNS,    47,  1,     21,2,20020517, 314, 74.9988,  -7.8610, 3399,     11.9,  -0.0338,  34.8813,2,-999.0000,9,    349.8,2,     5.66,2,    11.19,2,     0.03,2,     0.78,2,    6.100,2,    3.230,2,    0.529,3,    9.561,3,     1.77,2,   2149.6,2,   2294.3,2,   7.7218,    25.00,2,  -0.0342
  77DN20020420,   GNS,    47,  1,     20,2,20020517, 314, 74.9988,  -7.8610, 3399,     30.2,  -0.0252,  34.8817,2,-999.0000,9,    350.1,2,     5.68,2,    11.25,2,     0.03,2,     0.79,2,    6.100,2,    3.230,2,    0.517,3,    8.761,3,     2.15,2,   2149.7,2,   2293.9,2,   7.7228,    25.00,2,  -0.0263
  77DN20020420,   GNS,    47,  1,     19,2,20020517, 314, 74.9988,  -7.8610, 3399,     49.9,  -0.3038,  34.8756,2,-999.0000,9,    346.4,2,     5.77,2,    11.50,2,     0.02,2,     0.80,2,    6.080,2,    3.260,2,    0.463,3,    7.841,3,     1.59,2,   2150.7,2,   2293.2,2,   7.7170,    25.00,2,  -0.3055
  77DN20020420,   GNS,    47,  1,     18,2,20020517, 314, 74.9988,  -7.8610, 3399,     75.0,  -0.3198,  34.8803,2,-999.0000,9,    339.8,2,     5.90,2,    11.85,2,     0.02,2,     0.82,2,    5.810,2,    3.100,2,    0.483,3,    7.038,3,     1.18,2,   2149.7,2,   2294.9,2,   7.7131,    25.00,2,  -0.3223
  77DN20020420,   GNS,    47,  1,     17,2,20020517, 314, 74.9988,  -7.8610, 3399,    100.6,  -0.4191,  34.8792,2,-999.0000,9,    340.1,2,     5.91,2,    11.77,2,     0.03,2,     0.82,2,    5.830,2,    3.150,2,    0.464,3,    6.817,3,     1.77,2,   2149.6,2,   2295.5,2,   7.7102,    25.00,2,  -0.4224
  77DN20020420,   GNS,    47,  1,     16,2,20020517, 314, 74.9988,  -7.8610, 3399,    126.8,  -0.4649,  34.8799,2,-999.0000,9,    341.2,2,     5.95,2,    11.96,2,     0.02,2,     0.82,2,    5.940,2,    3.230,2,    0.423,3,    6.599,3,     1.38,2,   2149.8,2,   2297.8,2,   7.7083,    25.00,2,  -0.4691
  77DN20020420,   GNS,    47,  1,     15,2,20020517, 314, 74.9988,  -7.8610, 3399,    177.7,  -0.1727,  34.9063,2,-999.0000,9,    322.6,2,     6.26,2,    12.53,2,     0.02,2,     0.86,2,    4.650,2,    2.590,2,    0.446,3,    5.961,3,      1.1,2,   2152.4,2,   2297.4,2,   7.7083,    25.00,2,  -0.1791
  77DN20020420,   GNS,    47,  1,     14,2,20020517, 314, 74.9988,  -7.8610, 3399,    226.3,  -0.4986,  34.8902,2,-999.0000,9,    333.7,2,     6.19,2,    12.39,2,     0.02,2,     0.85,2,    5.440,2,    2.930,2,    0.398,3,    4.856,3,     1.75,2,   2153.5,2,   2296.1,2,   7.7034,    25.00,2,  -0.5062
  77DN20020420,   GNS,    47,  1,     13,2,20020517, 314, 74.9988,  -7.8610, 3399,    278.0,  -0.4687,  34.8955,2,-999.0000,9,    328.3,2,     6.29,2,    12.70,2,     0.02,2,     0.86,2,    5.040,2,    2.790,2,    0.352,3,    4.859,3,     1.95,2,   2154.2,2,   2295.3,2,   7.7044,    25.00,2,  -0.4782
  77DN20020420,   GNS,    47,  1,     12,2,20020517, 314, 74.9988,  -7.8610, 3399,    353.7,  -0.4705,  34.8998,2,-999.0000,9,    324.0,2,     6.56,2,    12.81,2,     0.02,2,     0.88,2,    4.650,2,    2.530,2,    0.400,3,    4.343,3,     1.91,2,   2155.7,2,   2297.5,2,   7.6996,    25.00,2,  -0.4828
  77DN20020420,   GNS,    47,  1,     11,2,20020517, 314, 74.9988,  -7.8610, 3399,    455.5,  -0.6507,  34.8929,2,-999.0000,9,    327.4,2,     6.33,2,    12.75,2,     0.02,2,     0.87,2,    5.130,2,    2.760,2,    0.435,3,    4.173,3,     2.67,2,   2153.3,2,   2296.3,2,   7.6977,    25.00,2,  -0.6663
  77DN20020420,   GNS,    47,  1,     10,2,20020517, 314, 74.9988,  -7.8610, 3399,    602.2,  -0.7123,  34.8908,2,-999.0000,9,    329.4,2,     6.39,2,    12.76,2,     0.02,2,     0.87,2,    5.210,2,    2.820,2,    0.430,3,    3.313,3,     -999,9,   2155.9,2,   2295.4,2,   7.6957,    25.00,2,  -0.7335
  77DN20020420,   GNS,    47,  1,      9,2,20020517, 314, 74.9988,  -7.8610, 3399,    753.8,  -0.7674,  34.8870,2,-999.0000,9,    330.8,2,     6.27,2,    12.64,2,     0.02,2,     0.87,2,    5.460,2,    2.910,2,    0.464,3,    3.116,3,     3.11,2,   2155.3,2,   2295.3,2,   7.6967,    25.00,2,  -0.7946
  77DN20020420,   GNS,    47,  1,      8,2,20020517, 314, 74.9988,  -7.8610, 3399,   1001.9,  -0.8291,  34.8845,2,-999.0000,9,    330.7,2,     6.51,2,    12.81,2,     0.02,2,     0.87,2,    5.350,2,    2.860,2,    0.458,3,    3.044,3,     3.17,2,   2156.2,2,   2296.8,2,   7.6957,    25.00,2,  -0.8670
  77DN20020420,   GNS,    47,  1,      7,2,20020517, 314, 74.9988,  -7.8610, 3399,   1400.0,  -0.8262,  34.8882,2,-999.0000,9,    322.3,2,     7.44,2,    13.37,2,     0.01,2,     0.90,2,    4.170,2,    2.280,2,    0.346,3,    2.567,3,     2.92,2,   2157.5,2,   2297.1,2,   7.6948,    25.00,2,  -0.8842
  77DN20020420,   GNS,    47,  1,      6,2,20020517, 314, 74.9988,  -7.8610, 3399,   1799.1,  -0.7571,  34.9078,2,-999.0000,9,    300.3,2,    10.09,2,    14.36,2,     0.02,2,     0.97,2,    1.430,2,    0.660,2,    0.134,3,    1.131,3,     0.27,2,   2158.3,2,   2298.7,2,   7.6996,    25.00,2,  -0.8391
  77DN20020420,   GNS,    47,  1,      5,2,20020517, 314, 74.9988,  -7.8610, 3399,   2196.6,  -0.8408,  34.9091,2,  34.9075,2,    299.6,2,    10.85,2,    14.74,2,     0.02,2,     0.99,2,    1.010,2,    0.400,2,    0.124,3,    0.710,3,     0.06,2,   2155.0,2,   2296.1,2,   7.7006,    25.00,2,  -0.9471
  77DN20020420,   GNS,    47,  1,      4,2,20020517, 314, 74.9988,  -7.8610, 3399,   2598.2,  -0.8851,  34.9087,2,  34.9063,2,    301.3,2,    11.44,2,    14.74,2,     0.02,2,     0.98,2,    0.900,2,    0.340,2,    0.122,3,    0.603,3,        0,2,   2156.9,2,   2298.4,2,   7.7025,    25.00,2,  -1.0188
  77DN20020420,   GNS,    47,  1,      3,2,20020517, 314, 74.9988,  -7.8610, 3399,   2999.8,  -0.9038,  34.9065,2,-999.0000,9,    302.2,2,    11.57,2,    14.60,2,     0.02,2,     0.97,2,    0.920,2,    0.350,2,    0.120,3,    0.630,3,     0.09,2,   2154.9,2,   2297.3,2,   7.7025,    25.00,2,  -1.0679
  77DN20020420,   GNS,    47,  1,      2,2,20020517, 314, 74.9988,  -7.8610, 3399,   3253.5,  -0.9224,  34.9037,2,  34.9023,2,    304.1,2,    11.71,2,    14.66,2,     0.02,2,     0.97,2,    0.950,2,    0.370,2,    0.122,3,    0.577,3,        0,2,   2154.2,2,   2296.3,2,   7.7006,    25.00,2,  -1.1068
  77DN20020420,   GNS,    47,  1,      1,2,20020517, 314, 74.9988,  -7.8610, 3399,   3355.7,  -0.9219,  34.9029,2,  34.9002,2,    303.8,2,    12.04,2,    14.65,2,     0.02,2,     0.97,2,    0.940,2,    0.370,2,    0.124,3,    0.583,3,        0,2,   2157.0,2,   2299.3,2,   7.7044,    25.00,2,  -1.1149