BOTTLE,20090507PRINUNIVRMK
EXPOCODE,SECT_ID,STNNBR,CASTNO,BTLNBR,BTLNBR_FLAG_W,DATE,TIME,LATITUDE,LONGITUDE,DEPTH,CTDPRS,CTDTMP,CTDSAL,CTDSAL_FLAG_W,SALNTY,SALNTY_FLAG_W,OXYGEN,OXYGEN_FLAG_W,SILCAT,SILCAT_FLAG_W,NITRAT,NITRAT_FLAG_W,NITRIT,NITRIT_FLAG_W,PHSPHT,PHSPHT_FLAG_W,CFC-11,CFC-11_FLAG_W,CFC-12,CFC-12_FLAG_W,CFC113,CFC113_FLAG_W,CCL4,CCL4_FLAG_W,SF6,SF6_FLAG_W,TCARBN,TCARBN_FLAG_W,ALKALI,ALKALI_FLAG_W,PH_SWS,PH_TEMP,PH_SWS_FLAG_W,THETA
,,,,,,,,,,METERS,DBARS,ITS-90,PSS-78,,PSS-78,,UMOL/KG,,UMOL/KG,,UMOL/KG,,UMOL/KG,,UMOL/KG,,PMOL/KG,,PMOL/KG,,PMOL/KG,,PMOL/KG,,FMOL/KG,,UMOL/KG,,UMOL/KG,,,DEGC,,DEGC
  77DN20020420,   GNS,    90,  1,     24,2,20020529,1613, 64.9728, -32.1578, 1986,      8.3,   6.6627,  35.0984,2,  35.0970,2,    291.1,2,     6.78,2,    15.52,2,     0.23,2,     0.99,2, -999.000,9, -999.000,9,    0.542,3,    8.658,3,     -999,9,   2145.5,2,   2312.8,2,   7.7750,    25.00,2,   6.6620
  77DN20020420,   GNS,    90,  1,     23,2,20020529,1613, 64.9728, -32.1578, 1986,     31.5,   6.6625,  35.0987,2,-999.0000,9,    290.8,2,     6.64,2,    15.36,2,     0.23,2,     1.01,2, -999.000,9, -999.000,9,    0.531,3,    7.979,3,        1,2,   -999.0,2,   -999.0,2,-999.0000,  -999.00,9,   6.6597
  77DN20020420,   GNS,    90,  1,     22,2,20020529,1613, 64.9728, -32.1578, 1986,     47.7,   6.6658,  35.0990,2,-999.0000,9,    290.4,2,     6.62,2,    15.37,2,     0.23,2,     0.99,2, -999.000,9, -999.000,9,    0.513,3,    7.570,3,     -999,9,   2142.2,2,   2314.7,2,   7.7740,    25.00,2,   6.6615
  77DN20020420,   GNS,    90,  1,     21,2,20020529,1613, 64.9728, -32.1578, 1986,     73.8,   6.6702,  35.0987,2,-999.0000,9,    289.9,2,     6.61,2,    15.20,2,     0.23,2,     1.01,2, -999.000,9, -999.000,9,    0.469,3,    6.562,3,     -999,9,   -999.0,2,   -999.0,2,-999.0000,  -999.00,9,   6.6635
  77DN20020420,   GNS,    90,  1,     20,2,20020529,1613, 64.9728, -32.1578, 1986,    100.1,   6.6717,  35.0990,2,  35.0958,2,    290.5,2,     6.61,2,    15.34,2,     0.23,2,     1.00,2, -999.000,9, -999.000,9,    0.446,3,    6.474,3,     -999,9,   2141.4,2,   2313.0,2,   7.7740,    25.00,2,   6.6626
  77DN20020420,   GNS,    90,  1,     19,2,20020529,1613, 64.9728, -32.1578, 1986,    150.4,   6.6771,  35.0990,2,-999.0000,9,    290.1,2,     6.59,2,    15.22,2,     0.24,2,     0.99,2, -999.000,9, -999.000,9,    0.428,3,    5.943,3,     1.18,2,   2141.5,2,   2312.7,2,   7.7731,    25.00,2,   6.6634
  77DN20020420,   GNS,    90,  1,     18,2,20020529,1613, 64.9728, -32.1578, 1986,    191.7,   6.5375,  35.0801,2,-999.0000,9,    287.7,2,     6.86,2,    15.34,2,     0.25,2,     1.01,2, -999.000,9, -999.000,9,    0.381,3,    3.803,3,     1.22,2,   2145.1,2,   2309.9,2,   7.7682,    25.00,2,   6.5202
  77DN20020420,   GNS,    90,  1,     17,2,20020529,1613, 64.9728, -32.1578, 1986,    397.8,   5.8088,  35.0280,2,  35.0256,2,    287.3,2,     7.41,2,    16.84,2,     0.15,2,     1.05,2, -999.000,9, -999.000,9,    0.353,3,    3.286,3,     1.11,2,   2146.2,2,   2307.4,2,   7.7537,    25.00,2,   5.7746
  77DN20020420,   GNS,    90,  1,     16,2,20020529,1613, 64.9728, -32.1578, 1986,    600.2,   4.8755,  34.9773,2,-999.0000,9,    263.2,2,     9.51,2,    18.87,2,     0.13,2,     1.20,2, -999.000,9, -999.000,9,    0.314,3,    2.330,3,      1.3,2,   -999.0,2,   -999.0,2,-999.0000,  -999.00,9,   4.8273
  77DN20020420,   GNS,    90,  1,     15,2,20020529,1613, 64.9728, -32.1578, 1986,    801.8,   4.0857,  34.9246,2,-999.0000,9,    275.8,2,     9.52,2,    18.20,2,     0.14,2,     1.18,2, -999.000,9, -999.000,9,    0.270,3,    2.256,3,      1.2,2,   2160.7,2,   2299.6,2,   7.7121,    25.00,2,   4.0251
  77DN20020420,   GNS,    90,  1,     14,2,20020529,1613, 64.9728, -32.1578, 1986,    998.8,   3.9410,  34.9489,2,  34.9470,2,    272.6,2,     9.95,2,    18.88,2,     0.12,2,     1.18,2, -999.000,9, -999.000,9,    0.262,3,    2.149,3,     0.77,2,   -999.0,2,   -999.0,2,-999.0000,  -999.00,9,   3.8651
  77DN20020420,   GNS,    90,  1,     11,2,20020529,1613, 64.9728, -32.1578, 1986,   1199.7,   3.5836,  34.9200,2,-999.0000,9,    276.9,2,    10.40,2,    18.88,2,     0.12,2,     1.18,2, -999.000,9, -999.000,9,    0.274,3,    2.140,3,     0.59,2,   2157.6,2,   2299.4,2,   7.7141,    25.00,2,   3.4940
  77DN20020420,   GNS,    90,  1,     10,2,20020529,1613, 64.9728, -32.1578, 1986,   1400.3,   3.4731,  34.9243,2,  34.9232,2,    278.2,2,    10.64,2,    18.75,2,     0.12,2,     1.17,2, -999.000,9, -999.000,9,    0.250,3,    1.847,3,      0.6,2,   -999.0,2,   -999.0,2,-999.0000,  -999.00,9,   3.3676
  77DN20020420,   GNS,    90,  1,      9,2,20020529,1613, 64.9728, -32.1578, 1986,   1600.0,   3.1777,  34.9006,2,  34.8991,2,    283.0,2,    10.88,2,    18.83,2,     0.11,2,     1.17,2, -999.000,9, -999.000,9,    0.255,3,    1.942,3,     0.59,2,   2156.6,2,   2299.2,2,   7.7179,    25.00,2,   3.0584
  77DN20020420,   GNS,    90,  1,      8,2,20020529,1613, 64.9728, -32.1578, 1986,   1799.5,   2.2567,  34.8682,2,-999.0000,9,    296.5,2,     7.86,2,    15.68,2,     0.13,2,     1.01,2, -999.000,9, -999.000,9,    0.257,3,    1.875,3,     1.03,2,   -999.0,2,   -999.0,2,-999.0000,  -999.00,9,   2.1325
  77DN20020420,   GNS,    90,  1,      7,2,20020529,1613, 64.9728, -32.1578, 1986,   1901.3,   1.2956,  34.8855,2,  34.8836,2,    303.9,2,     6.77,2,    14.16,2,     0.11,2,     0.93,2, -999.000,9, -999.000,9,    0.247,3,    1.777,3,     0.88,2,   2153.4,2,   2295.7,2,   7.7228,    25.00,2,   1.1768
  77DN20020420,   GNS,    90,  1,      6,2,20020529,1613, 64.9728, -32.1578, 1986,   1924.3,   1.0310,  34.8912,2,-999.0000,9,    304.2,2,     6.93,2,    14.33,2,     0.11,2,     0.94,2, -999.000,9, -999.000,9,    0.248,3,    1.704,3,     0.89,2,   2153.4,2,   2293.9,2,   7.7189,    25.00,2,   0.9143
  77DN20020420,   GNS,    90,  1,      5,2,20020529,1613, 64.9728, -32.1578, 1986,   1936.8,   1.0258,  34.8921,2,-999.0000,9,    304.3,2,     6.91,2,    14.38,2,     0.11,2,     0.95,2, -999.000,9, -999.000,9,    0.244,3,    1.711,3,     0.89,2,   2156.7,2,   2296.2,2,   7.7179,    25.00,2,   0.9082
  77DN20020420,   GNS,    90,  1,      4,2,20020529,1613, 64.9728, -32.1578, 1986,   1952.8,   1.0207,  34.8924,2,-999.0000,9,    304.2,2,     6.90,2,    14.13,2,     0.11,2,     0.95,2, -999.000,9, -999.000,9,    0.244,3,    1.705,3,     0.95,2,   2151.9,2,   2295.3,2,   7.7179,    25.00,2,   0.9020
  77DN20020420,   GNS,    90,  1,      3,2,20020529,1613, 64.9728, -32.1578, 1986,   1963.9,   1.0214,  34.8923,2,-999.0000,9,    304.2,2,     6.95,2,    14.47,2,     0.11,2,     0.94,2, -999.000,9, -999.000,9,    0.229,3,    1.986,3,     0.66,2,   2154.9,2,   2297.4,2,   7.7179,    25.00,2,   0.9018
  77DN20020420,   GNS,    90,  1,      2,2,20020529,1613, 64.9728, -32.1578, 1986,   1973.9,   1.0209,  34.8923,2,-999.0000,9,    304.2,2,     6.92,2,    14.43,2,     0.11,2,     0.93,2, -999.000,9, -999.000,9,    0.220,3,    1.752,3,      0.8,2,   2155.2,2,   2296.1,2,   7.7179,    25.00,2,   0.9005
  77DN20020420,   GNS,    90,  1,      1,2,20020529,1613, 64.9728, -32.1578, 1986,   1985.9,   1.0156,  34.8925,2,  34.8926,2,    304.3,2,     6.99,2,    14.31,2,     0.12,2,     0.94,2, -999.000,9, -999.000,9,    0.236,3,    1.779,3,     1.17,2,   2152.6,2,   2295.1,2,   7.7179,    25.00,2,   0.8944
  77DN20020420,   GNS,    91,  1,     23,2,20020529,1946, 65.1885, -32.6458, 1522,     10.6,   6.3149,  35.0625,2,  35.0698,2,    297.8,2,     6.97,2,    15.17,2,     0.27,2,     0.98,2,    4.360,2,    2.570,2,    0.415,3,    7.065,3,     -999,9,   2140.3,2,   2311.3,2,   7.7750,    25.00,2,   6.3140
  77DN20020420,   GNS,    91,  1,     22,2,20020529,1946, 65.1885, -32.6458, 1522,     28.7,   6.3259,  35.0634,2,-999.0000,9,    297.6,2,     6.93,2,    15.32,2,     0.27,2,     0.98,2,    4.400,2,    2.590,2,    0.423,3,    7.090,3,     -999,9,   -999.0,2,   -999.0,2,-999.0000,  -999.00,9,   6.3234
  77DN20020420,   GNS,    91,  1,     21,2,20020529,1946, 65.1885, -32.6458, 1522,     49.2,   6.3070,  35.0604,2,  35.0627,2,    297.2,2,     7.08,2,    15.41,2,     0.28,2,     0.98,2,    4.360,2,    2.560,2,    0.412,3,    7.037,3,     1.63,2,   2142.0,2,   2308.8,2,   7.7740,    25.00,2,   6.3027
  77DN20020420,   GNS,    91,  1,     20,2,20020529,1946, 65.1885, -32.6458, 1522,     74.1,   6.2396,  35.0529,2,-999.0000,9,    296.3,2,     7.09,2,    15.70,2,     0.28,2,     1.00,2,    4.360,2,    2.560,2,    0.425,3,    6.436,3,     -999,9,   -999.0,2,   -999.0,2,-999.0000,  -999.00,9,   6.2331
  77DN20020420,   GNS,    91,  1,     19,2,20020529,1946, 65.1885, -32.6458, 1522,     99.7,   6.1558,  35.0438,2,-999.0000,9,    294.3,2,     7.25,2,    15.72,2,     0.30,2,     1.00,2,    4.380,2,    2.560,2,    0.407,3,    5.064,3,     1.39,2,   2142.8,2,   2311.9,2,   7.7682,    25.00,2,   6.1472
  77DN20020420,   GNS,    91,  1,     18,2,20020529,1946, 65.1885, -32.6458, 1522,    150.5,   6.1285,  35.0424,2,-999.0000,9,    294.2,2,     7.34,2,    15.89,2,     0.29,2,     1.01,2,    4.360,2,    2.540,2,    0.417,3,    4.817,3,     -999,9,   2142.5,2,   2309.3,2,   7.7673,    25.00,2,   6.1154
  77DN20020420,   GNS,    91,  1,     17,2,20020529,1946, 65.1885, -32.6458, 1522,    199.1,   6.0291,  35.0367,2,  35.0414,2,    289.4,2,     7.48,2,    16.37,2,     0.28,2,     1.05,2,    4.270,2,    2.490,2,    0.422,3,    4.457,3,     1.73,2,   2149.2,2,   2309.6,2,   7.7576,    25.00,2,   6.0119
  77DN20020420,   GNS,    91,  1,     16,2,20020529,1946, 65.1885, -32.6458, 1522,    401.4,   5.5665,  35.0045,2,  35.0026,2,    283.6,2,     7.94,2,    17.02,2,     0.13,2,     1.10,2,    4.170,2,    2.420,2,    0.390,3,    3.295,3,     1.19,2,   2151.3,2,   2306.4,2,   7.7440,    25.00,2,   5.5327
  77DN20020420,   GNS,    91,  1,     13,2,20020529,1946, 65.1885, -32.6458, 1522,    600.1,   4.8142,  34.9575,2,  34.9563,2,    271.6,2,     9.35,2,    19.23,2,     0.11,2,     1.18,2,    3.730,2,    2.140,2,    0.352,3,    2.574,3,     0.93,2,   -999.0,2,   -999.0,2,-999.0000,  -999.00,9,   4.7664
  77DN20020420,   GNS,    91,  1,     10,2,20020529,1946, 65.1885, -32.6458, 1522,    797.4,   4.0476,  34.9074,2,-999.0000,9,    280.8,2,     9.20,2,    17.72,2,     0.14,2,     1.13,2,    3.980,2,    2.250,2,    0.351,3,    2.327,3,     0.89,2,   2156.3,2,   2301.5,2,   7.7179,    25.00,2,   3.9876
  77DN20020420,   GNS,    91,  1,      9,2,20020529,1946, 65.1885, -32.6458, 1522,    999.4,   3.4373,  34.8778,2,  34.8767,2,    288.0,2,     8.82,2,    17.13,2,     0.13,2,     1.08,2,    3.980,2,    2.220,2,    0.357,3,    2.375,3,     0.99,2,   -999.0,2,   -999.0,2,-999.0000,  -999.00,9,   3.3654
  77DN20020420,   GNS,    91,  1,      8,2,20020529,1946, 65.1885, -32.6458, 1522,   1194.0,   1.8847,  34.7328,2,  34.7312,2,    311.5,2,     6.77,2,    13.72,2,     0.13,2,     0.92,2,    5.120,2,    2.800,2,    0.461,3,    2.532,3,      1.9,2,   2141.0,2,   2291.6,2,   7.7334,    25.00,2,   1.8118
  77DN20020420,   GNS,    91,  1,      7,2,20020529,1946, 65.1885, -32.6458, 1522,   1402.2,   1.5078,  34.8489,2,  34.8453,2,    306.6,2,     6.95,2,    13.72,2,     0.13,2,     0.94,2,    4.420,2,    2.440,2,    0.377,3,    2.261,3,     1.23,2,   -999.0,2,   -999.0,2,-999.0000,  -999.00,9,   1.4236
  77DN20020420,   GNS,    91,  1,      6,2,20020529,1946, 65.1885, -32.6458, 1522,   1471.0,   1.4334,  34.8677,2,-999.0000,9,    306.5,2,     6.64,2,    13.73,2,     0.13,2,     0.92,2,    4.400,2,    2.390,2,    0.391,3,    2.216,3,     1.01,2,   2145.9,2,   2297.6,2,   7.7295,    25.00,2,   1.3451
  77DN20020420,   GNS,    91,  1,      5,2,20020529,1946, 65.1885, -32.6458, 1522,   1479.3,   1.4365,  34.8673,2,-999.0000,9,    306.5,2,     6.63,2,    13.81,2,     0.12,2,     0.92,2,    4.340,2,    2.420,2,    0.511,3,    2.204,3,     1.29,2,   2151.1,2,   2299.0,2,   7.7305,    25.00,2,   1.3475
  77DN20020420,   GNS,    91,  1,      4,2,20020529,1946, 65.1885, -32.6458, 1522,   1485.7,   1.4343,  34.8680,2,-999.0000,9,    306.2,2,     6.63,2,    14.30,2,     0.12,2,     0.92,2,    4.400,2,    2.410,2,    0.377,3,    2.220,3,     1.42,2,   2145.6,2,   2293.1,2,   7.7266,    25.00,2,   1.3449
  77DN20020420,   GNS,    91,  1,      3,2,20020529,1946, 65.1885, -32.6458, 1522,   1497.3,   1.4340,  34.8676,2,-999.0000,9,    306.4,2,     6.61,2,    14.05,2,     0.12,2,     0.91,2,    4.380,2,    2.420,2,    0.387,3,    2.170,3,     1.07,2,   2147.5,2,   2297.2,2,   7.7266,    25.00,2,   1.3438
  77DN20020420,   GNS,    91,  1,      2,2,20020529,1946, 65.1885, -32.6458, 1522,   1508.3,   1.4370,  34.8683,2,-999.0000,9,    306.4,2,     6.64,2,    14.00,2,     0.12,2,     0.92,2,    4.380,2,    2.440,2,    0.356,3,    1.932,3,     -999,9,   2150.6,2,   2294.6,2,   7.7247,    25.00,2,   1.3459
  77DN20020420,   GNS,    91,  1,      1,2,20020529,1946, 65.1885, -32.6458, 1522,   1521.8,   1.4389,  34.8682,2,  34.8676,2,    306.2,2,     6.63,2,    13.88,2,     0.12,2,     0.91,2,    4.420,2,    2.450,2,    0.408,3,    1.928,3,     1.39,2,   2149.7,2,   2300.1,2,   7.7266,    25.00,2,   1.3468
  77DN20020420,   GNS,    92,  1,     21,2,20020529,2238, 65.2803, -33.0338, 1013,     10.9,   2.7715,  34.4613,2,-999.0000,9,    336.0,2,     5.70,2,     9.36,2,     0.13,2,     0.73,2, -999.000,9, -999.000,9,    0.525,3,    8.264,3,     -999,9,   2107.7,2,   2283.5,2,   7.7917,    25.00,2,   2.7709
  77DN20020420,   GNS,    92,  1,     20,2,20020529,2238, 65.2803, -33.0338, 1013,     29.1,   3.6470,  34.6092,2,  34.6034,2,    330.2,2,     6.01,2,    10.12,2,     0.16,2,     0.77,2, -999.000,9, -999.000,9,    0.539,3,    7.953,3,     -999,9,   -999.0,2,   -999.0,2,-999.0000,  -999.00,9,   3.6451
  77DN20020420,   GNS,    92,  1,     17,2,20020529,2238, 65.2803, -33.0338, 1013,     51.7,   5.1358,  34.8717,2,  34.8721,2,    312.2,2,     6.49,2,    13.07,2,     0.18,2,     0.89,2, -999.000,9, -999.000,9,    0.510,3,    7.403,3,     1.87,2,   2128.0,2,   2301.0,2,   7.7848,    25.00,2,   5.1318
  77DN20020420,   GNS,    92,  1,     16,2,20020529,2238, 65.2803, -33.0338, 1013,     73.8,   5.8097,  35.0007,2,-999.0000,9,    303.9,2,     6.80,2,    14.66,2,     0.19,2,     0.94,2, -999.000,9, -999.000,9,    0.511,3,    6.992,3,     -999,9,   2133.6,2,   2309.1,2,   7.7779,    25.00,2,   5.8035
  77DN20020420,   GNS,    92,  1,     15,2,20020529,2238, 65.2803, -33.0338, 1013,    101.1,   5.3205,  34.9317,2,  34.9555,2,    307.4,2,     6.68,2,    13.78,2,     0.19,2,     0.92,2, -999.000,9, -999.000,9,    0.433,3,    6.790,3,     -999,9,   2132.9,2,   2305.1,2,   7.7789,    25.00,2,   5.3124
  77DN20020420,   GNS,    92,  1,     14,2,20020529,2238, 65.2803, -33.0338, 1013,    154.4,   4.5689,  34.8492,2,-999.0000,9,    310.9,2,     6.44,2,    13.58,2,     0.18,2,     0.91,2, -999.000,9, -999.000,9,    0.432,3,    5.713,3,     1.72,2,   2130.0,2,   2297.2,2,   7.7722,    25.00,2,   4.5574
  77DN20020420,   GNS,    92,  1,     11,2,20020529,2238, 65.2803, -33.0338, 1013,    199.2,   4.2692,  34.8276,2,  34.8288,2,    309.3,2,     6.49,2,    13.96,2,     0.18,2,     0.91,2, -999.000,9, -999.000,9,    0.199,3,    5.029,3,     -999,9,   2133.5,2,   2296.3,2,   7.7644,    25.00,2,   4.2548
  77DN20020420,   GNS,    92,  1,     10,2,20020529,2238, 65.2803, -33.0338, 1013,    405.1,   3.2764,  34.8316,2,  34.8231,2,    299.3,2,     7.69,2,    15.48,2,     0.14,2,     1.01,2, -999.000,9, -999.000,9,    0.336,3,    3.644,3,     1.51,2,   2141.2,2,   2294.8,2,   7.7344,    25.00,2,   3.2497
  77DN20020420,   GNS,    92,  1,      9,2,20020529,2238, 65.2803, -33.0338, 1013,    601.1,   2.3872,  34.7937,2,  34.7977,2,    305.6,2,     7.44,2,    14.52,2,     0.15,2,     0.98,2, -999.000,9, -999.000,9,    0.307,3,    2.974,3,     1.52,2,   2144.9,2,   2293.6,2,   7.7296,    25.00,2,   2.3509
  77DN20020420,   GNS,    92,  1,      8,2,20020529,2238, 65.2803, -33.0338, 1013,    799.9,   1.5430,  34.8067,2,  34.8089,2,    311.7,2,     6.63,2,    13.71,2,     0.11,2,     0.92,2, -999.000,9, -999.000,9,    0.244,3,    2.205,3,     1.44,2,   2144.0,2,   2292.3,2,   7.7305,    25.00,2,   1.4988
  77DN20020420,   GNS,    92,  1,      7,2,20020529,2238, 65.2803, -33.0338, 1013,    896.6,   1.3714,  34.8057,2,-999.0000,9,    311.7,2,     6.54,2,    13.46,2,     0.13,2,     0.90,2, -999.000,9, -999.000,9,    0.275,3,    2.193,3,     1.52,2,   -999.0,2,   -999.0,2,-999.0000,  -999.00,9,   1.3224
  77DN20020420,   GNS,    92,  1,      6,2,20020529,2238, 65.2803, -33.0338, 1013,    967.7,   1.2989,  34.8012,2,-999.0000,9,    312.7,2,     6.45,2,    13.05,2,     0.13,2,     0.90,2, -999.000,9, -999.000,9,    0.272,3,    2.335,3,      1.5,2,   2146.1,2,   2294.3,2,   7.7267,    25.00,2,   1.2460
  77DN20020420,   GNS,    92,  1,      5,2,20020529,2238, 65.2803, -33.0338, 1013,    979.6,   1.2988,  34.8008,2,-999.0000,9,    312.4,2,     6.41,2,    13.70,2,     0.11,2,     0.90,2, -999.000,9, -999.000,9,    0.251,3,    2.146,3,     1.39,2,   -999.0,2,   -999.0,2,-999.0000,  -999.00,9,   1.2451
  77DN20020420,   GNS,    92,  1,      4,2,20020529,2238, 65.2803, -33.0338, 1013,    987.9,   1.2966,  34.8007,2,-999.0000,9,    312.3,2,     6.45,2,    13.58,2,     0.10,2,     0.90,2, -999.000,9, -999.000,9,    0.267,3,    2.129,3,      1.2,2,   -999.0,2,   -999.0,2,-999.0000,  -999.00,9,   1.2424
  77DN20020420,   GNS,    92,  1,      3,2,20020529,2238, 65.2803, -33.0338, 1013,   1000.1,   1.3010,  34.8008,2,-999.0000,9,    312.4,2,     6.47,2,    13.39,2,     0.12,2,     0.90,2, -999.000,9, -999.000,9,    0.264,3,    1.897,3,     1.15,2,   -999.0,2,   -999.0,2,-999.0000,  -999.00,9,   1.2460
  77DN20020420,   GNS,    92,  1,      2,2,20020529,2238, 65.2803, -33.0338, 1013,   1013.3,   1.3014,  34.8011,2,  34.8038,2,    312.6,2,     6.45,2,    13.55,2,     0.11,2,     0.89,2, -999.000,9, -999.000,9, -999.000,9, -999.000,9,     1.23,2,   2146.5,2,   2291.9,2,   7.7267,    25.00,2,   1.2456
  77DN20020420,   GNS,    92,  1,      1,2,20020529,2238, 65.2803, -33.0338, 1013,   1022.8,   1.2926,  34.8008,2,  34.8050,2,    314.1,2,     6.42,2,    12.70,2,     0.13,2,     0.89,2, -999.000,9, -999.000,9,    0.251,3,    1.852,3,     1.39,2,   2142.6,2,   2292.0,2,   7.7267,    25.00,2,   1.2362