BOTTLE,20090507PRINUNIVRMK
EXPOCODE,SECT_ID,STNNBR,CASTNO,BTLNBR,BTLNBR_FLAG_W,DATE,TIME,LATITUDE,LONGITUDE,DEPTH,CTDPRS,CTDTMP,CTDSAL,CTDSAL_FLAG_W,SALNTY,SALNTY_FLAG_W,OXYGEN,OXYGEN_FLAG_W,SILCAT,SILCAT_FLAG_W,NITRAT,NITRAT_FLAG_W,NITRIT,NITRIT_FLAG_W,PHSPHT,PHSPHT_FLAG_W,CFC-11,CFC-11_FLAG_W,CFC-12,CFC-12_FLAG_W,CFC113,CFC113_FLAG_W,CCL4,CCL4_FLAG_W,SF6,SF6_FLAG_W,TCARBN,TCARBN_FLAG_W,ALKALI,ALKALI_FLAG_W,PH_SWS,PH_TEMP,PH_SWS_FLAG_W,THETA
,,,,,,,,,,METERS,DBARS,ITS-90,PSS-78,,PSS-78,,UMOL/KG,,UMOL/KG,,UMOL/KG,,UMOL/KG,,UMOL/KG,,PMOL/KG,,PMOL/KG,,PMOL/KG,,PMOL/KG,,FMOL/KG,,UMOL/KG,,UMOL/KG,,,DEGC,,DEGC
  77DN20020420,   GNS,    69,  1,     14,2,20020521,1719, 71.9478, -21.3797,  589,     10.2,  -1.7234,  32.6431,2,  32.6486,2,    373.2,2,     3.88,2,     3.04,2,     0.04,2,     0.57,2, -999.000,9, -999.000,9,    0.655,3,    8.516,3,     1.75,2,   -999.0,2,   2239.0,2,   7.7012,    25.00,2,  -1.7236
  77DN20020420,   GNS,    69,  1,     13,2,20020521,1719, 71.9478, -21.3797,  589,     30.8,  -1.7710,  32.7263,2,  32.7317,2,    374.6,2,     3.87,2,     2.90,2,     0.05,2,     0.57,2, -999.000,9, -999.000,9,    0.639,3,    7.852,3,     -999,9,   2118.1,2,   2247.6,2,   7.7031,    25.00,2,  -1.7715
  77DN20020420,   GNS,    69,  1,     12,2,20020521,1719, 71.9478, -21.3797,  589,     40.0,  -1.7750,  32.7405,2,  32.7504,2,    373.0,2,     3.94,2,     3.08,2,     0.05,2,     0.59,2, -999.000,9, -999.000,9,    0.633,3,    7.509,3,     -999,9,   -999.0,2,   2245.4,2,   7.7012,    25.00,2,  -1.7757
  77DN20020420,   GNS,    69,  1,     11,2,20020521,1719, 71.9478, -21.3797,  589,     49.6,  -1.7658,  32.8114,2,  32.8438,2,    369.2,2,     4.31,2,     3.62,2,     0.03,2,     0.61,2, -999.000,9, -999.000,9,    0.590,3,    7.450,3,     1.64,2,   2121.0,2,   2246.8,2,   7.7002,    25.00,2,  -1.7666
  77DN20020420,   GNS,    69,  1,     10,2,20020521,1719, 71.9478, -21.3797,  589,     59.7,  -1.7909,  32.8891,2,  32.9001,2,    367.2,2,     4.56,2,     3.87,2,     0.05,2,     0.61,2, -999.000,9, -999.000,9,    0.577,3,    7.165,3,     -999,9,   -999.0,2,   2249.6,2,   7.6992,    25.00,2,  -1.7919
  77DN20020420,   GNS,    69,  1,      9,2,20020521,1719, 71.9478, -21.3797,  589,     79.6,  -1.7985,  33.0682,2,  33.0822,2,    362.6,2,     4.83,2,     4.71,2,     0.04,2,     0.61,2, -999.000,9, -999.000,9,    0.558,3,    6.797,3,     1.54,2,   2126.7,2,   2253.1,2,   7.6992,    25.00,2,  -1.7999
  77DN20020420,   GNS,    69,  1,      8,2,20020521,1719, 71.9478, -21.3797,  589,    100.8,  -1.7942,  33.3438,2,  33.3511,2,    357.1,2,     5.06,2,     5.51,2,     0.04,2,     0.61,2, -999.000,9, -999.000,9,    0.492,3,    5.652,3,     1.65,2,   -999.0,2,   2258.2,2,   7.7039,    25.00,2,  -1.7960
  77DN20020420,   GNS,    69,  1,      7,2,20020521,1719, 71.9478, -21.3797,  589,    123.2,  -1.7762,  33.5265,2,-999.0000,9,    352.8,2,     4.96,2,     6.23,2,     0.04,2,     0.61,2, -999.000,9, -999.000,9,    0.519,3,    5.484,3,     1.75,2,   2126.0,2,   2262.5,2,   7.7096,    25.00,2,  -1.7785
  77DN20020420,   GNS,    69,  1,      6,2,20020521,1719, 71.9478, -21.3797,  589,    150.1,  -1.7704,  33.8685,2,  33.8701,2,    349.7,2,     5.08,2,     7.16,2,     0.04,2,     0.63,2, -999.000,9, -999.000,9,    0.482,3,    5.405,3,      1.8,2,   -999.0,2,   2266.7,2,   7.7144,    25.00,2,  -1.7734
  77DN20020420,   GNS,    69,  1,      5,2,20020521,1719, 71.9478, -21.3797,  589,    201.3,  -1.6756,  34.2063,2,  34.2019,2,    339.0,2,     4.96,2,     9.39,2,     0.06,2,     0.68,2, -999.000,9, -999.000,9,    0.474,3,    4.752,3,      1.6,2,   2129.5,2,   2265.6,2,   7.7239,    25.00,2,  -1.6800
  77DN20020420,   GNS,    69,  1,      4,2,20020521,1719, 71.9478, -21.3797,  589,    299.7,  -0.7604,  34.4805,2,  34.4811,2,    323.9,2,     5.42,2,    11.23,2,     0.06,2,     0.78,2, -999.000,9, -999.000,9,    0.426,3,    3.568,3,     1.33,2,   -999.0,2,   2272.8,2,   7.7248,    25.00,2,  -0.7697
  77DN20020420,   GNS,    69,  1,      3,2,20020521,1719, 71.9478, -21.3797,  589,    401.6,   0.1115,  34.6288,2,  34.6307,2,    314.3,2,     5.98,2,    11.92,2,     0.06,2,     0.80,2, -999.000,9, -999.000,9,    0.306,3,    5.404,3,     1.34,2,   2141.6,2,   2281.2,2,   7.7209,    25.00,2,   0.0955
  77DN20020420,   GNS,    69,  1,      2,2,20020521,1719, 71.9478, -21.3797,  589,    530.9,   0.4090,  34.7068,2,-999.0000,9,    311.7,2,     6.12,2,    12.25,2,     0.05,2,     0.82,2, -999.000,9, -999.000,9,    0.296,3,    4.131,3,     1.15,2,   -999.0,2,   2283.9,2,   7.7190,    25.00,2,   0.3859
  77DN20020420,   GNS,    69,  1,      1,2,20020521,1719, 71.9478, -21.3797,  589,    580.3,   0.3728,  34.7169,2,  34.7176,2,    312.9,2,     5.95,2,    12.28,2,     0.06,2,     0.81,2, -999.000,9, -999.000,9,    0.295,3,    3.439,3,     1.24,2,   2144.5,2,   2285.7,2,   7.7238,    25.00,2,   0.3475
  77DN20020420,   GNS,    70,  1,     14,2,20020524,1612, 69.9992, -20.2407,  272,     10.1,  -1.8223,  33.7371,2,-999.0000,9,    349.7,2,  -999.00,2,  -999.00,2,  -999.00,2,  -999.00,2, -999.000,9, -999.000,9, -999.000,9, -999.000,9,     1.58,2,   -999.0,2,   -999.0,2,-999.0000,  -999.00,9,  -1.8225
  77DN20020420,   GNS,    70,  1,     13,2,20020524,1612, 69.9992, -20.2407,  272,     19.3,  -1.8237,  33.7428,2,-999.0000,9,    349.9,2,     5.05,2,     6.81,2,     0.04,2,     0.62,2, -999.000,9, -999.000,9,    0.568,3,   10.018,3,     -999,9,   2120.4,2,   2261.1,2,   7.7134,    25.00,2,  -1.8240
  77DN20020420,   GNS,    70,  1,     12,2,20020524,1612, 69.9992, -20.2407,  272,     30.5,  -1.8240,  33.7526,2,-999.0000,9,    350.1,2,     4.93,2,     6.86,2,     0.04,2,     0.62,2, -999.000,9, -999.000,9,    0.633,3,    9.978,3,     1.77,2,   2119.8,2,   2262.5,2,   7.7134,    25.00,2,  -1.8245
  77DN20020420,   GNS,    70,  1,     11,2,20020524,1612, 69.9992, -20.2407,  272,     38.1,  -1.8245,  33.7533,2,-999.0000,9,    349.6,2,     4.96,2,     6.78,2,     0.04,2,     0.62,2, -999.000,9, -999.000,9,    0.622,3,    9.030,3,     -999,9,   2119.4,2,   2261.3,2,   7.7125,    25.00,2,  -1.8252
  77DN20020420,   GNS,    70,  1,     10,2,20020524,1612, 69.9992, -20.2407,  272,     50.5,  -1.8236,  33.7543,2,  33.7462,2,    349.4,2,     4.92,2,     6.81,2,     0.03,2,     0.62,2, -999.000,9, -999.000,9,    0.595,3,    9.005,3,     1.88,2,   2120.0,2,   2260.4,2,   7.7125,    25.00,2,  -1.8245
  77DN20020420,   GNS,    70,  1,      9,2,20020524,1612, 69.9992, -20.2407,  272,     61.5,  -1.8242,  33.7551,2,-999.0000,9,    349.8,2,     4.89,2,     6.86,2,     0.03,2,     0.62,2, -999.000,9, -999.000,9,    0.598,3,    8.508,3,     1.61,2,   2122.3,2,   2262.4,2,   7.7115,    25.00,2,  -1.8253
  77DN20020420,   GNS,    70,  1,      8,2,20020524,1612, 69.9992, -20.2407,  272,     82.1,  -1.7873,  33.8287,2,-999.0000,9,    347.9,2,     5.04,2,     6.83,2,     0.03,2,     0.61,2, -999.000,9, -999.000,9,    0.585,3,    8.185,3,     1.76,2,   2122.2,2,   2268.0,2,   7.7105,    25.00,2,  -1.7888
  77DN20020420,   GNS,    70,  1,      7,2,20020524,1612, 69.9992, -20.2407,  272,    101.8,  -1.7619,  34.0612,2,  34.0525,2,    344.2,2,     4.85,2,     7.89,2,     0.04,2,     0.64,2, -999.000,9, -999.000,9,    0.535,3,    8.500,3,     1.63,2,   2124.1,2,   2267.9,2,   7.7182,    25.00,2,  -1.7639
  77DN20020420,   GNS,    70,  1,      6,2,20020524,1612, 69.9992, -20.2407,  272,    127.2,  -1.5335,  34.2149,2,  34.2019,2,    336.8,2,     5.02,2,     8.81,2,     0.03,2,     0.68,2, -999.000,9, -999.000,9,    0.504,3,    8.616,3,     1.61,2,   2123.7,2,   2272.8,2,   7.7181,    25.00,2,  -1.5363
  77DN20020420,   GNS,    70,  1,      5,2,20020524,1612, 69.9992, -20.2407,  272,    150.2,  -1.2903,  34.3480,2,  34.3382,2,    331.9,2,     5.22,2,     9.83,2,     0.03,2,     0.72,2, -999.000,9, -999.000,9,    0.506,3,    7.016,3,     1.69,2,   2127.5,2,   2271.3,2,   7.7200,    25.00,2,  -1.2940
  77DN20020420,   GNS,    70,  1,      4,2,20020524,1612, 69.9992, -20.2407,  272,    174.8,  -1.1001,  34.4360,2,  34.4224,2,    330.3,2,     5.30,2,    10.41,2,     0.04,2,     0.75,2, -999.000,9, -999.000,9,    0.497,3,    6.000,3,     1.68,2,   2124.0,2,   2276.1,2,   7.7171,    25.00,2,  -1.1048
  77DN20020420,   GNS,    70,  1,      3,2,20020524,1612, 69.9992, -20.2407,  272,    199.3,  -0.7042,  34.5021,2,  34.4873,2,    326.5,2,     5.50,2,    10.66,2,     0.04,2,     0.76,2, -999.000,9, -999.000,9,    0.498,3,    4.697,3,     1.55,2,   2129.6,2,   2277.8,2,   7.7171,    25.00,2,  -0.7103
  77DN20020420,   GNS,    70,  1,      2,2,20020524,1612, 69.9992, -20.2407,  272,    210.8,  -0.5144,  34.5367,2,  34.5217,2,    324.2,2,     5.60,2,    10.79,2,     0.04,2,     0.77,2, -999.000,9, -999.000,9,    0.492,3,    4.877,3,     1.34,2,   2134.6,2,   2275.8,2,   7.7171,    25.00,2,  -0.5212
  77DN20020420,   GNS,    70,  1,      1,2,20020524,1612, 69.9992, -20.2407,  272,    260.4,   0.1162,  34.6750,2,  34.6624,2,    318.3,2,     5.86,2,    11.24,2,     0.04,2,     0.79,2, -999.000,9, -999.000,9,    0.478,3,    4.358,3,     1.31,2,   2136.1,2,   2285.1,2,   7.7170,    25.00,2,   0.1062
  77DN20020420,   GNS,    71,  1,     14,2,20020524,1922, 69.9983, -20.8342,  395,     10.0,  -1.8324,  33.7641,2,-999.0000,9,    349.7,2,     4.66,2,     7.04,2,     0.05,2,     0.63,2,    7.370,2,    3.640,2,    0.589,3,    9.900,3,     -999,9,   2100.3,2,   2264.9,2,   7.7144,    25.00,2,  -1.8326
  77DN20020420,   GNS,    71,  1,     13,2,20020524,1922, 69.9983, -20.8342,  395,     19.8,  -1.8333,  33.7637,2,  33.7560,2,    349.6,2,     4.73,2,     6.88,2,     0.05,2,     0.64,2,    7.290,2,    3.610,2,    0.550,3,    9.724,3,     1.85,2,   2098.9,2,   2263.4,2,   7.7134,    25.00,2,  -1.8337
  77DN20020420,   GNS,    71,  1,     12,2,20020524,1922, 69.9983, -20.8342,  395,     30.3,  -1.8317,  33.7659,2,-999.0000,9,    349.4,2,     4.71,2,     7.02,2,     0.05,2,     0.64,2,    7.210,2,    3.610,2,    0.523,3,    9.579,3,     -999,9,   2104.9,2,   2262.8,2,   7.7134,    25.00,2,  -1.8322
  77DN20020420,   GNS,    71,  1,     11,2,20020524,1922, 69.9983, -20.8342,  395,     40.2,  -1.8301,  33.7698,2,  33.7674,2,    349.3,2,     4.83,2,     7.08,2,     0.06,2,     0.63,2,    7.140,2,    3.610,2,    0.577,3,    8.589,3,     -999,9,   2103.8,2,   2260.7,2,   7.7154,    25.00,2,  -1.8308
  77DN20020420,   GNS,    71,  1,     10,2,20020524,1922, 69.9983, -20.8342,  395,     49.7,  -1.8245,  33.7819,2,-999.0000,9,    349.0,2,     4.83,2,     7.06,2,     0.06,2,     0.63,2,    7.310,2,    3.640,2,    0.569,3,    7.973,3,     1.78,2,   2103.4,2,   2267.1,2,   7.7144,    25.00,2,  -1.8254
  77DN20020420,   GNS,    71,  1,      9,2,20020524,1922, 69.9983, -20.8342,  395,     59.6,  -1.8189,  33.7897,2,-999.0000,9,    349.0,2,     4.74,2,     7.09,2,     0.06,2,     0.63,2,    7.230,2,    3.610,2,    0.512,3,    7.165,3,     -999,9,   2103.2,2,   2263.5,2,   7.7173,    25.00,2,  -1.8200
  77DN20020420,   GNS,    71,  1,      8,2,20020524,1922, 69.9983, -20.8342,  395,     80.3,  -1.8142,  33.7981,2,  33.7909,2,    348.9,2,     4.82,2,     7.21,2,     0.05,2,     0.63,2,    7.370,2,    3.640,2,    0.596,3,    6.827,3,     -999,9,   2106.5,2,   2264.5,2,   7.7153,    25.00,2,  -1.8157
  77DN20020420,   GNS,    71,  1,      7,2,20020524,1922, 69.9983, -20.8342,  395,    100.2,  -1.5590,  33.9771,2,  33.9720,2,    338.4,2,     5.06,2,     8.18,2,     0.05,2,     0.66,2,    6.760,2,    3.420,2,    0.528,3,    6.329,3,      1.7,2,   2105.9,2,   2265.9,2,   7.7143,    25.00,2,  -1.5611
  77DN20020420,   GNS,    71,  1,      6,2,20020524,1922, 69.9983, -20.8342,  395,    149.9,  -1.7679,  34.2001,2,  34.1899,2,    338.5,2,     4.96,2,     9.01,2,     0.06,2,     0.67,2,    6.660,2,    3.390,2,    0.478,3,    6.410,3,     1.59,2,   2109.5,2,   2267.9,2,   7.7210,    25.00,2,  -1.7710
  77DN20020420,   GNS,    71,  1,      5,2,20020524,1922, 69.9983, -20.8342,  395,    200.3,  -1.7095,  34.3010,2,-999.0000,9,    335.7,2,     4.81,2,     9.83,2,     0.07,2,     0.72,2,    6.440,2,    3.350,2,    0.542,3,    5.653,3,     1.69,2,   2109.1,2,   2268.7,2,   7.7249,    25.00,2,  -1.7138
  77DN20020420,   GNS,    71,  1,      4,2,20020524,1922, 69.9983, -20.8342,  395,    250.5,  -1.6775,  34.3639,2,  34.3076,2,    336.5,2,     4.85,2,    10.47,2,     0.08,2,     0.76,2,    6.300,2,    3.290,2,    0.571,3,    5.244,3,      1.8,2,   2110.2,2,   2266.0,2,   7.7229,    25.00,2,  -1.6831
  77DN20020420,   GNS,    71,  1,      3,2,20020524,1922, 69.9983, -20.8342,  395,    300.3,  -0.6216,  34.5286,2,  34.5158,2,    326.6,2,     5.45,2,    11.00,2,     0.07,2,     0.78,2,    5.870,2,    3.130,2,    0.579,3,    5.177,3,     1.74,2,   2121.7,2,   2275.6,2,   7.7180,    25.00,2,  -0.6313
  77DN20020420,   GNS,    71,  1,      2,2,20020524,1922, 69.9983, -20.8342,  395,    339.9,  -0.5332,  34.5990,2,-999.0000,9,    331.7,2,     5.38,2,    11.25,2,     0.08,2,     0.78,2,    6.170,2,    3.290,2,    0.513,3,    4.536,3,     1.82,2,   2132.3,2,   2281.9,2,   7.7151,    25.00,2,  -0.5446
  77DN20020420,   GNS,    71,  1,      1,2,20020524,1922, 69.9983, -20.8342,  395,    388.3,   1.0830,  34.8241,2,  34.7972,2,    303.4,2,     6.51,2,    11.90,2,     0.06,2,     0.83,2,    4.740,2,    2.590,2,    0.350,3,    3.859,3,     1.45,2,   2146.8,2,   2294.8,2,   7.7112,    25.00,2,   1.0644
  77DN20020420,   GNS,    72,  1,     15,2,20020525,  28, 69.9963, -21.5078,  527,      9.5,  -1.7866,  32.8392,2,-999.0000,9,    370.5,2,     4.65,2,     3.72,2,     0.03,2,     0.57,2, -999.000,9, -999.000,9,    0.654,3,    9.558,3,     1.81,2,   2099.7,2,   2251.2,2,   7.6973,    25.00,2,  -1.7868
  77DN20020420,   GNS,    72,  1,     14,2,20020525,  28, 69.9963, -21.5078,  527,     19.6,  -1.7859,  32.8410,2,-999.0000,9,    370.9,2,     4.61,2,     3.72,2,     0.03,2,     0.58,2, -999.000,9, -999.000,9,    0.616,3,    9.213,3,     -999,9,   2097.8,2,   2250.0,2,   7.6983,    25.00,2,  -1.7862
  77DN20020420,   GNS,    72,  1,     13,2,20020525,  28, 69.9963, -21.5078,  527,     30.0,  -1.7856,  32.8412,2,  32.8340,2,    371.4,2,     4.28,2,     3.72,2,     0.03,2,     0.57,2, -999.000,9, -999.000,9,    0.618,3,    8.533,3,     -999,9,   2097.6,2,   2249.8,2,   7.6983,    25.00,2,  -1.7861
  77DN20020420,   GNS,    72,  1,     12,2,20020525,  28, 69.9963, -21.5078,  527,     40.0,  -1.7854,  32.8411,2,-999.0000,9,    370.9,2,     4.28,2,     3.63,2,     0.03,2,     0.57,2, -999.000,9, -999.000,9,    0.586,3,    8.437,3,      1.7,2,   2096.9,2,   2250.4,2,   7.6983,    25.00,2,  -1.7861
  77DN20020420,   GNS,    72,  1,     11,2,20020525,  28, 69.9963, -21.5078,  527,     49.3,  -1.7853,  32.8447,2,-999.0000,9,    370.2,2,     4.23,2,     3.63,2,     0.04,2,     0.58,2, -999.000,9, -999.000,9,    0.588,3,    8.068,3,     1.72,2,   2097.4,2,   2250.1,2,   7.6973,    25.00,2,  -1.7861
  77DN20020420,   GNS,    72,  1,     10,2,20020525,  28, 69.9963, -21.5078,  527,     59.8,  -1.7850,  32.8550,2,-999.0000,9,    370.5,2,     4.21,2,     3.74,2,     0.03,2,     0.57,2, -999.000,9, -999.000,9,    0.525,3,    7.711,3,     -999,9,   2099.7,2,   2249.5,2,   7.6983,    25.00,2,  -1.7860
  77DN20020420,   GNS,    72,  1,      9,2,20020525,  28, 69.9963, -21.5078,  527,     80.6,  -1.7842,  32.8664,2,  32.8588,2,    369.6,2,     4.34,2,     3.82,2,     0.03,2,     0.58,2, -999.000,9, -999.000,9,    0.566,3,    7.703,3,        2,2,   2096.7,2,   2250.3,2,   7.6973,    25.00,2,  -1.7856
  77DN20020420,   GNS,    72,  1,      8,2,20020525,  28, 69.9963, -21.5078,  527,    100.8,  -1.7847,  32.9026,2,-999.0000,9,    369.4,2,     4.29,2,     3.95,2,     0.03,2,     0.58,2, -999.000,9, -999.000,9,    0.523,3,    6.228,3,     1.86,2,   2099.4,2,   2255.0,2,   7.6983,    25.00,2,  -1.7864
  77DN20020420,   GNS,    72,  1,      7,2,20020525,  28, 69.9963, -21.5078,  527,    150.1,  -1.7184,  33.3997,2,  33.3864,2,    354.5,2,     4.84,2,     6.17,2,     0.03,2,     0.61,2, -999.000,9, -999.000,9,    0.496,3,    5.951,3,     1.82,2,   2100.4,2,   2260.3,2,   7.7010,    25.00,2,  -1.7213
  77DN20020420,   GNS,    72,  1,      6,2,20020525,  28, 69.9963, -21.5078,  527,    201.4,  -1.6568,  34.0093,2,-999.0000,9,    341.5,2,     5.00,2,     9.00,2,     0.04,2,     0.66,2, -999.000,9, -999.000,9,    0.473,3,    5.787,3,     1.57,2,   2103.6,2,   2267.9,2,   7.7143,    25.00,2,  -1.6611
  77DN20020420,   GNS,    72,  1,      5,2,20020525,  28, 69.9963, -21.5078,  527,    251.8,  -1.5713,  34.2555,2,  34.2354,2,    337.3,2,     5.03,2,    10.68,2,     0.05,2,     0.70,2, -999.000,9, -999.000,9,    0.463,3,    4.698,3,     1.41,2,   2100.2,2,   2269.0,2,   7.7210,    25.00,2,  -1.5771
  77DN20020420,   GNS,    72,  1,      4,2,20020525,  28, 69.9963, -21.5078,  527,    295.6,  -1.2407,  34.3925,2,  34.3737,2,    332.5,2,     5.18,2,    11.84,2,     0.05,2,     0.75,2, -999.000,9, -999.000,9,    0.415,3,    4.576,3,     1.37,2,   2104.1,2,   2275.2,2,   7.7219,    25.00,2,  -1.2486
  77DN20020420,   GNS,    72,  1,      3,2,20020525,  28, 69.9963, -21.5078,  527,    400.7,   0.2627,  34.6549,2,  34.6394,2,    314.1,2,     6.14,2,    12.93,2,     0.05,2,     0.80,2, -999.000,9, -999.000,9,    0.372,3,    3.568,3,     1.03,2,   2118.8,2,   2292.8,2,   7.7132,    25.00,2,   0.2463
  77DN20020420,   GNS,    72,  1,      2,2,20020525,  28, 69.9963, -21.5078,  527,    451.9,   1.0020,  34.8026,2,  34.7886,2,    301.8,2,     7.35,2,    13.69,2,     0.05,2,     0.85,2, -999.000,9, -999.000,9,    0.338,3,    3.120,3,     1.28,2,   2129.3,2,   2291.7,2,   7.7035,    25.00,2,   0.9804
  77DN20020420,   GNS,    72,  1,      1,2,20020525,  28, 69.9963, -21.5078,  527,    503.3,   1.0246,  34.8057,2,  34.7929,2,    302.2,2,     7.34,2,    13.73,2,     0.05,2,     0.85,2, -999.000,9, -999.000,9,    0.328,3,    2.855,3,     1.11,2,   2130.5,2,   2294.9,2,   7.7083,    25.00,2,   1.0002