BOTTLE,20090507PRINUNIVRMK
EXPOCODE,SECT_ID,STNNBR,CASTNO,BTLNBR,BTLNBR_FLAG_W,DATE,TIME,LATITUDE,LONGITUDE,DEPTH,CTDPRS,CTDTMP,CTDSAL,CTDSAL_FLAG_W,SALNTY,SALNTY_FLAG_W,OXYGEN,OXYGEN_FLAG_W,SILCAT,SILCAT_FLAG_W,NITRAT,NITRAT_FLAG_W,NITRIT,NITRIT_FLAG_W,PHSPHT,PHSPHT_FLAG_W,CFC-11,CFC-11_FLAG_W,CFC-12,CFC-12_FLAG_W,CFC113,CFC113_FLAG_W,CCL4,CCL4_FLAG_W,SF6,SF6_FLAG_W,TCARBN,TCARBN_FLAG_W,ALKALI,ALKALI_FLAG_W,PH_SWS,PH_TEMP,PH_SWS_FLAG_W,THETA
,,,,,,,,,,METERS,DBARS,ITS-90,PSS-78,,PSS-78,,UMOL/KG,,UMOL/KG,,UMOL/KG,,UMOL/KG,,UMOL/KG,,PMOL/KG,,PMOL/KG,,PMOL/KG,,PMOL/KG,,FMOL/KG,,UMOL/KG,,UMOL/KG,,,DEGC,,DEGC
  77DN20020420,   GNS,    63,  1,     19,2,20020520,1446, 72.4713, -17.4653,  540,      9.7,  -1.7854,  33.6528,2,  33.6504,2,    354.1,2,     5.74,2,     6.28,2,     0.04,2,     0.62,2, -999.000,9, -999.000,9, -999.000,9, -999.000,9,     -999,9,   2128.3,2,   2270.6,2,   7.7077,    25.00,2,  -1.7856
  77DN20020420,   GNS,    63,  1,     18,2,20020520,1446, 72.4713, -17.4653,  540,     20.2,  -1.7860,  33.6603,2,  33.6967,2,    352.5,2,     5.72,2,     6.47,2,     0.04,2,     0.63,2, -999.000,9, -999.000,9, -999.000,9, -999.000,9,     -999,9,   2120.6,2,   2271.2,2,   7.7096,    25.00,2,  -1.7864
  77DN20020420,   GNS,    63,  1,     17,2,20020520,1446, 72.4713, -17.4653,  540,     30.2,  -1.7872,  33.9059,2,  33.9372,2,    346.9,2,     5.36,2,     7.27,2,     0.04,2,     0.63,2, -999.000,9, -999.000,9, -999.000,9, -999.000,9,     1.25,2,   -999.0,2,   -999.0,2,-999.0000,  -999.00,9,  -1.7878
  77DN20020420,   GNS,    63,  1,     16,2,20020520,1446, 72.4713, -17.4653,  540,     39.2,  -1.7853,  34.0000,2,-999.0000,9,    344.2,2,     5.40,2,     7.73,2,     0.04,2,     0.63,2, -999.000,9, -999.000,9, -999.000,9, -999.000,9,     -999,9,   2123.0,2,   2272.8,2,   7.7191,    25.00,2,  -1.7860
  77DN20020420,   GNS,    63,  1,     13,2,20020520,1446, 72.4713, -17.4653,  540,     50.1,  -1.7947,  34.0737,2,  34.0757,2,    342.5,2,     5.29,2,     8.15,2,     0.04,2,     0.65,2, -999.000,9, -999.000,9, -999.000,9, -999.000,9,     -999,9,   -999.0,2,   -999.0,2,-999.0000,  -999.00,9,  -1.7956
  77DN20020420,   GNS,    63,  1,     12,2,20020520,1446, 72.4713, -17.4653,  540,     59.7,  -1.7887,  34.0988,2,-999.0000,9,    342.7,2,     5.28,2,     8.31,2,     0.04,2,     0.65,2, -999.000,9, -999.000,9, -999.000,9, -999.000,9,     -999,9,   2126.0,2,   2272.4,2,   7.7239,    25.00,2,  -1.7898
  77DN20020420,   GNS,    63,  1,     11,2,20020520,1446, 72.4713, -17.4653,  540,     81.2,  -1.8258,  34.1836,2,-999.0000,9,    341.6,2,     5.12,2,     8.66,2,     0.03,2,     0.66,2, -999.000,9, -999.000,9,    0.577,3,    5.404,3,     1.14,2,   -999.0,2,   -999.0,2,-999.0000,  -999.00,9,  -1.8274
  77DN20020420,   GNS,    63,  1,     10,2,20020520,1446, 72.4713, -17.4653,  540,    100.2,  -1.8311,  34.2394,2,  34.2394,2,    338.8,2,     5.12,2,     9.44,2,     0.05,2,     0.69,2, -999.000,9, -999.000,9, -999.000,9, -999.000,9,     -999,9,   2114.6,2,   2270.5,2,   7.7268,    25.00,2,  -1.8330
  77DN20020420,   GNS,    63,  1,      9,2,20020520,1446, 72.4713, -17.4653,  540,    149.2,  -1.7520,  34.2909,2,  34.2846,2,    338.1,2,     5.10,2,     9.99,2,     0.05,2,     0.71,2, -999.000,9, -999.000,9,    0.398,3,    5.124,3,     1.14,2,   2112.7,2,   2269.8,2,   7.7268,    25.00,2,  -1.7551
  77DN20020420,   GNS,    63,  1,      6,2,20020520,1446, 72.4713, -17.4653,  540,    199.6,  -1.6916,  34.3435,2,  34.3382,2,    337.3,2,     5.15,2,    10.34,2,     0.05,2,     0.73,2, -999.000,9, -999.000,9,    0.452,3,    5.114,3,     1.12,2,   2121.0,2,   2271.1,2,   7.7278,    25.00,2,  -1.6960
  77DN20020420,   GNS,    63,  1,      5,2,20020520,1446, 72.4713, -17.4653,  540,    249.6,  -0.3508,  34.5655,2,  34.5567,2,    321.5,2,     5.87,2,    11.36,2,     0.05,2,     0.78,2, -999.000,9, -999.000,9,    0.325,3,    4.377,3,     1.01,2,   2133.6,2,   2281.7,2,   7.7258,    25.00,2,  -0.3594
  77DN20020420,   GNS,    63,  1,      4,2,20020520,1446, 72.4713, -17.4653,  540,    301.4,   1.0411,  34.8419,2,  34.8296,2,    308.6,2,     6.04,2,    12.45,2,     0.05,2,     0.84,2, -999.000,9, -999.000,9,    0.395,3,    3.922,3,     0.82,2,   2141.3,2,   2294.6,2,   7.7286,    25.00,2,   1.0270
  77DN20020420,   GNS,    63,  1,      3,2,20020520,1446, 72.4713, -17.4653,  540,    401.7,   1.0060,  34.9120,2,-999.0000,9,    309.6,2,     5.87,2,    12.77,2,     0.03,2,     0.85,2, -999.000,9, -999.000,9,    0.325,3,    3.793,3,     0.86,2,   2148.0,2,   2301.1,2,   7.7276,    25.00,2,   0.9868
  77DN20020420,   GNS,    63,  1,      2,2,20020520,1446, 72.4713, -17.4653,  540,    471.9,   0.6760,  34.9167,2,-999.0000,9,    311.4,2,     5.96,2,    12.67,2,     0.03,2,     0.86,2, -999.000,9, -999.000,9,    0.266,3,    3.145,3,     0.67,2,   2143.3,2,   2301.3,2,   7.7247,    25.00,2,   0.6545
  77DN20020420,   GNS,    63,  1,      1,2,20020520,1446, 72.4713, -17.4653,  540,    520.2,   0.4322,  34.9158,2,  34.9083,2,    313.0,2,     6.14,2,    12.80,2,     0.04,2,     0.86,2, -999.000,9, -999.000,9,    0.251,3,    3.076,3,     0.78,2,   2149.1,2,   2300.5,2,   7.7228,    25.00,2,   0.4093
  77DN20020420,   GNS,    64,  1,     10,2,20020520,1825, 72.3843, -18.1955,  259,     19.2,  -1.7526,  33.8541,2,  33.8547,2,    350.8,2,     5.29,2,     7.52,2,     0.06,2,     0.62,2, -999.000,9, -999.000,9,    0.664,3,    9.635,3,     1.39,2,   2124.8,2,   2267.8,2,   7.7163,    25.00,2,  -1.7530
  77DN20020420,   GNS,    64,  1,     12,2,20020520,1825, 72.3843, -18.1955,  259,     19.2,  -1.7524,  33.8542,2,  33.8528,2,    351.0,2,     5.32,2,     7.44,2,     0.06,2,     0.62,2, -999.000,9, -999.000,9,    0.655,3,    9.256,3,     -999,9,   2129.2,2,   2267.4,2,   7.7163,    25.00,2,  -1.7528
  77DN20020420,   GNS,    64,  1,      9,2,20020520,1825, 72.3843, -18.1955,  259,     30.2,  -1.7543,  33.8919,2,  33.9078,2,    348.7,2,     5.25,2,     7.75,2,     0.06,2,     0.63,2, -999.000,9, -999.000,9,    0.519,3,    8.260,3,     -999,9,   -999.0,2,   -999.0,2,-999.0000,  -999.00,9,  -1.7549
  77DN20020420,   GNS,    64,  1,      8,2,20020520,1825, 72.3843, -18.1955,  259,     39.8,  -1.7871,  34.0319,2,-999.0000,9,    345.4,2,     5.08,2,     8.25,2,     0.06,2,     0.64,2, -999.000,9, -999.000,9, -999.000,9, -999.000,9,     -999,9,   2125.8,2,   2270.3,2,   7.7211,    25.00,2,  -1.7878
  77DN20020420,   GNS,    64,  1,      7,2,20020520,1825, 72.3843, -18.1955,  259,     50.3,  -1.7513,  34.0620,2,  34.0664,2,    343.7,2,     5.17,2,     8.36,2,     0.06,2,     0.64,2, -999.000,9, -999.000,9,    0.582,3,    6.836,3,     1.22,2,   -999.0,2,   -999.0,2,-999.0000,  -999.00,9,  -1.7523
  77DN20020420,   GNS,    64,  1,      6,2,20020520,1825, 72.3843, -18.1955,  259,     60.5,  -1.7648,  34.1006,2,-999.0000,9,    343.1,2,     5.06,2,     8.55,2,     0.07,2,     0.64,2, -999.000,9, -999.000,9,    0.631,3,    5.902,3,     -999,9,   2127.8,2,   2271.0,2,   7.7220,    25.00,2,  -1.7660
  77DN20020420,   GNS,    64,  1,      5,2,20020520,1825, 72.3843, -18.1955,  259,     80.4,  -1.7008,  34.1566,2,-999.0000,9,    340.1,2,     5.06,2,     9.11,2,     0.08,2,     0.66,2, -999.000,9, -999.000,9,    0.385,3,    5.185,3,     1.21,2,   2128.8,2,   2268.9,2,   7.7220,    25.00,2,  -1.7024
  77DN20020420,   GNS,    64,  1,      4,2,20020520,1825, 72.3843, -18.1955,  259,    100.4,  -1.7189,  34.2066,2,  34.2107,2,    340.1,2,     5.08,2,     9.36,2,     0.07,2,     0.67,2, -999.000,9, -999.000,9,    0.535,3,    5.845,3,     1.09,2,   2121.4,2,   2268.4,2,   7.7259,    25.00,2,  -1.7209
  77DN20020420,   GNS,    64,  1,      3,2,20020520,1825, 72.3843, -18.1955,  259,    150.8,  -1.7142,  34.3100,2,-999.0000,9,    340.3,2,     5.01,2,    10.60,2,     0.08,2,     0.71,2, -999.000,9, -999.000,9,    0.473,3,    5.491,3,     1.14,2,   2124.1,2,   2266.6,2,   7.7278,    25.00,2,  -1.7174
  77DN20020420,   GNS,    64,  1,      2,2,20020520,1825, 72.3843, -18.1955,  259,    200.9,  -1.3313,  34.3899,2,  34.3795,2,    333.3,2,     5.19,2,    10.76,2,     0.08,2,     0.72,2, -999.000,9, -999.000,9,    0.481,3,    4.355,3,     1.17,2,   2128.1,2,   2271.8,2,   7.7248,    25.00,2,  -1.3363
  77DN20020420,   GNS,    64,  1,      1,2,20020520,1825, 72.3843, -18.1955,  259,    253.1,  -0.5739,  34.5386,2,  34.5353,2,    327.4,2,     5.49,2,    11.76,2,     0.08,2,     0.77,2, -999.000,9, -999.000,9,    0.450,3,    4.148,3,      1.1,2,   2133.6,2,   2277.6,2,   7.7267,    25.00,2,  -0.5821
  77DN20020420,   GNS,    66,  1,     13,2,20020521, 356, 72.2652, -19.0118,  286,     10.4,  -1.7968,  33.6454,2,-999.0000,9,    356.1,2,     5.64,2,     6.36,2,     0.05,2,     0.61,2,    7.780,2,    3.690,2,    0.594,3,    9.148,3,     -999,9,   2130.9,2,   2267.6,2,   7.7115,    25.00,2,  -1.7970
  77DN20020420,   GNS,    66,  1,     12,2,20020521, 356, 72.2652, -19.0118,  286,     20.4,  -1.7812,  33.7827,2,-999.0000,9,    350.7,2,     5.39,2,     6.91,2,     0.05,2,     0.61,2,    7.360,2,    3.590,2,    0.555,3,    8.592,3,     1.58,2,   2129.9,2,   2267.4,2,   7.7144,    25.00,2,  -1.7816
  77DN20020420,   GNS,    66,  1,     11,2,20020521, 356, 72.2652, -19.0118,  286,     30.1,  -1.7854,  33.8413,2,-999.0000,9,    350.8,2,     5.21,2,     7.04,2,     0.05,2,     0.61,2,    7.300,2,    3.530,2,    0.543,3,    8.378,3,     -999,9,   2132.4,2,   2269.4,2,   7.7163,    25.00,2,  -1.7860
  77DN20020420,   GNS,    66,  1,     10,2,20020521, 356, 72.2652, -19.0118,  286,     40.4,  -1.7346,  33.8981,2,-999.0000,9,    346.9,2,     5.32,2,     7.45,2,     0.05,2,     0.62,2,    7.260,2,    3.530,2,    0.530,3,    8.727,3,     -999,9,   2128.7,2,   2271.4,2,   7.7182,    25.00,2,  -1.7354
  77DN20020420,   GNS,    66,  1,      9,2,20020521, 356, 72.2652, -19.0118,  286,     50.0,  -1.7538,  33.9605,2,-999.0000,9,    346.1,2,     5.33,2,     7.64,2,     0.05,2,     0.62,2,    7.080,2,    3.460,2,    0.526,3,    8.317,3,     1.64,2,   2128.0,2,   2270.7,2,   7.7182,    25.00,2,  -1.7548
  77DN20020420,   GNS,    66,  1,      8,2,20020521, 356, 72.2652, -19.0118,  286,     60.1,  -1.7864,  33.9913,2,-999.0000,9,    347.4,2,     5.21,2,     7.61,2,     0.05,2,     0.62,2,    6.800,2,    3.490,2,    0.718,3,    7.343,3,     -999,9,   2130.1,2,   2272.7,2,   7.7191,    25.00,2,  -1.7875
  77DN20020420,   GNS,    66,  1,      7,2,20020521, 356, 72.2652, -19.0118,  286,     79.7,  -1.8372,  34.0485,2,-999.0000,9,    345.6,2,     5.16,2,     7.81,2,     0.06,2,     0.62,2,    7.120,2,    3.490,2,    0.508,3,    7.174,3,     1.61,2,   2130.0,2,   2272.0,2,   7.7220,    25.00,2,  -1.8387
  77DN20020420,   GNS,    66,  1,      6,2,20020521, 356, 72.2652, -19.0118,  286,    100.3,  -1.8221,  34.0936,2,  34.0902,2,    345.4,2,     5.20,2,     8.16,2,     0.06,2,     0.63,2,    7.040,2,    3.460,2,    0.530,3,    6.618,3,     1.46,2,   2131.2,2,   2272.9,2,   7.7220,    25.00,2,  -1.8240
  77DN20020420,   GNS,    66,  1,      5,2,20020521, 356, 72.2652, -19.0118,  286,    149.5,  -1.8410,  34.1476,2,  34.1432,2,    343.2,2,     5.04,2,     8.54,2,     0.06,2,     0.64,2,    6.800,2,    3.430,2,    0.520,3,    6.227,3,     1.58,2,   2134.0,2,   2271.5,2,   7.7249,    25.00,2,  -1.8439
  77DN20020420,   GNS,    66,  1,      4,2,20020521, 356, 72.2652, -19.0118,  286,    200.9,  -1.7708,  34.2861,2,-999.0000,9,    337.9,2,     5.02,2,    10.29,2,     0.08,2,     0.70,2,    6.420,2,    3.300,2,    0.491,3,    5.473,3,     1.78,2,   2118.0,2,   2266.4,2,   7.7297,    25.00,2,  -1.7750
  77DN20020420,   GNS,    66,  1,      3,2,20020521, 356, 72.2652, -19.0118,  286,    229.0,  -1.6822,  34.3233,2,  34.3229,2,    339.0,2,     5.04,2,    10.88,2,     0.08,2,     0.73,2,    6.320,2,    3.300,2,    0.513,3,    5.414,3,     1.68,2,   2118.0,2,   2265.4,2,   7.7287,    25.00,2,  -1.6873
  77DN20020420,   GNS,    66,  1,      2,2,20020521, 356, 72.2652, -19.0118,  286,    264.1,  -1.3129,  34.3834,2,-999.0000,9,    334.9,2,     5.31,2,    11.14,2,     0.08,2,     0.73,2,    6.060,2,    3.170,2,    0.425,3,    4.901,3,     -999,9,   2123.7,2,   2269.1,2,   7.7258,    25.00,2,  -1.3197
  77DN20020420,   GNS,    66,  1,      1,2,20020521, 356, 72.2652, -19.0118,  286,    277.2,  -0.4442,  34.5270,2,  34.5021,2,    323.1,2,     5.73,2,    11.54,2,     0.08,2,     0.75,2,    5.680,2,    2.980,2,    0.452,3,    4.729,3,     1.25,2,   2130.6,2,   2276.9,2,   7.7296,    25.00,2,  -0.4535
  77DN20020420,   GNS,    67,  1,     12,2,20020521, 717, 72.1285, -19.8357,  258,      9.9,  -1.7744,  32.8555,2,-999.0000,9,    369.3,2,     4.48,2,     3.87,2,     0.04,2,     0.59,2, -999.000,9, -999.000,9,    0.671,3,    8.574,3,     -999,9,   2117.3,2,   2248.5,2,   7.7079,    25.00,2,  -1.7746
  77DN20020420,   GNS,    67,  1,     11,2,20020521, 717, 72.1285, -19.8357,  258,     20.3,  -1.7774,  32.8766,2,  32.8827,2,    368.4,2,     4.63,2,     3.99,2,     0.04,2,     0.60,2, -999.000,9, -999.000,9,    0.651,3,    7.492,3,     -999,9,   2112.6,2,   2248.2,2,   7.7089,    25.00,2,  -1.7777
  77DN20020420,   GNS,    67,  1,     10,2,20020521, 717, 72.1285, -19.8357,  258,     30.5,  -1.7762,  33.1309,2,-999.0000,9,    362.6,2,     5.06,2,     4.84,2,     0.04,2,     0.60,2, -999.000,9, -999.000,9,    0.488,3,    7.086,3,     -999,9,   2126.6,2,   2256.8,2,   7.7078,    25.00,2,  -1.7767
  77DN20020420,   GNS,    67,  1,      9,2,20020521, 717, 72.1285, -19.8357,  258,     40.3,  -1.7790,  33.4016,2,-999.0000,9,    358.3,2,     5.10,2,     5.79,2,     0.05,2,     0.62,2, -999.000,9, -999.000,9,    0.597,3,    6.873,3,     -999,9,   2127.3,2,   2263.6,2,   7.7106,    25.00,2,  -1.7797
  77DN20020420,   GNS,    67,  1,      8,2,20020521, 717, 72.1285, -19.8357,  258,     50.3,  -1.7749,  33.6786,2,-999.0000,9,    353.1,2,     5.70,2,     6.65,2,     0.06,2,     0.62,2, -999.000,9, -999.000,9,    0.616,3,    6.422,3,     -999,9,   2128.9,2,   2265.5,2,   7.7134,    25.00,2,  -1.7758
  77DN20020420,   GNS,    67,  1,      7,2,20020521, 717, 72.1285, -19.8357,  258,     60.0,  -1.7682,  33.7588,2,-999.0000,9,    350.3,2,     6.06,2,     6.96,2,     0.06,2,     0.64,2, -999.000,9, -999.000,9,    0.521,3,    5.897,3,     -999,9,   2133.5,2,   2266.5,2,   7.7154,    25.00,2,  -1.7693
  77DN20020420,   GNS,    67,  1,      6,2,20020521, 717, 72.1285, -19.8357,  258,     80.4,  -1.7464,  33.9380,2,-999.0000,9,    344.5,2,     6.24,2,     7.80,2,     0.06,2,     0.64,2, -999.000,9, -999.000,9,    0.528,3,    5.858,3,     -999,9,   2128.4,2,   2271.4,2,   7.7211,    25.00,2,  -1.7480
  77DN20020420,   GNS,    67,  1,      5,2,20020521, 717, 72.1285, -19.8357,  258,    100.0,  -1.7318,  34.0330,2,  34.0266,2,    344.1,2,     5.46,2,     8.29,2,     0.06,2,     0.66,2, -999.000,9, -999.000,9,    0.479,3,    5.406,3,     -999,9,   2127.5,2,   2270.9,2,   7.7220,    25.00,2,  -1.7338
  77DN20020420,   GNS,    67,  1,      4,2,20020521, 717, 72.1285, -19.8357,  258,    150.5,  -1.8201,  34.2668,2,-999.0000,9,    340.6,2,     4.99,2,     9.67,2,     0.07,2,     0.69,2, -999.000,9, -999.000,9,    0.473,3,    4.899,3,     -999,9,   2125.3,2,   2270.5,2,   7.7287,    25.00,2,  -1.8231
  77DN20020420,   GNS,    67,  1,      3,2,20020521, 717, 72.1285, -19.8357,  258,    200.1,  -1.6486,  34.3315,2,  34.3260,2,    339.4,2,     4.97,2,    10.42,2,     0.07,2,     0.72,2, -999.000,9, -999.000,9,    0.459,3,    4.783,3,     -999,9,   2128.5,2,   2272.7,2,   7.7278,    25.00,2,  -1.6530
  77DN20020420,   GNS,    67,  1,      2,2,20020521, 717, 72.1285, -19.8357,  258,    235.3,  -1.1006,  34.4338,2,-999.0000,9,    330.0,2,     5.47,2,    10.98,2,     0.08,2,     0.75,2, -999.000,9, -999.000,9,    0.462,3,    4.631,3,     -999,9,   2124.9,2,   -999.0,2,   7.7248,    25.00,2,  -1.1071
  77DN20020420,   GNS,    67,  1,      1,2,20020521, 717, 72.1285, -19.8357,  258,    249.8,  -0.6828,  34.5030,2,  34.4866,2,    326.6,2,     5.59,2,    11.35,2,     0.08,2,     0.77,2, -999.000,9, -999.000,9,    0.457,3,    4.319,3,     -999,9,   2124.7,2,   2282.7,2,   7.7277,    25.00,2,  -0.6906
  77DN20020420,   GNS,    68,  1,     12,2,20020521,1307, 71.9997, -21.0167,  397,     20.1,  -1.7319,  32.6783,2,  33.3986,2,    372.6,2,     3.97,2,     3.20,2,     0.03,2,     0.58,2,    8.470,2,    4.060,2,    0.642,3,   10.680,3,     1.46,2,   -999.0,2,   2243.8,2,   7.7058,    25.00,2,  -1.7323
  77DN20020420,   GNS,    68,  1,     11,2,20020521,1307, 71.9997, -21.0167,  397,     40.0,  -1.7120,  32.7144,2,  33.3576,2,    371.4,2,     4.14,2,     3.40,2,     0.03,2,     0.59,2,    8.570,2,    4.030,2,    0.644,3,    9.726,3,     -999,9,   2115.6,2,   2244.1,2,   7.7049,    25.00,2,  -1.7127
  77DN20020420,   GNS,    68,  1,     10,2,20020521,1307, 71.9997, -21.0167,  397,     59.1,  -1.7756,  33.1586,2,  33.1993,2,    362.0,2,     4.96,2,     4.92,2,     0.04,2,     0.62,2,    8.130,2,    3.830,2,    0.602,3,    8.701,3,     1.51,2,   -999.0,2,   2258.7,2,   7.7039,    25.00,2,  -1.7766
  77DN20020420,   GNS,    68,  1,      9,2,20020521,1307, 71.9997, -21.0167,  397,     79.6,  -1.7788,  33.5309,2,  33.5546,2,    355.5,2,     5.00,2,     6.02,2,     0.06,2,     0.62,2,    7.690,2,    3.700,2,    0.577,3,    8.020,3,     -999,9,   2132.5,2,   2267.1,2,   7.7115,    25.00,2,  -1.7803
  77DN20020420,   GNS,    68,  1,      8,2,20020521,1307, 71.9997, -21.0167,  397,    100.2,  -1.7849,  33.7688,2,  33.7899,2,    351.5,2,     5.09,2,     6.79,2,     0.05,2,     0.62,2,    7.430,2,    3.670,2,    0.554,3,    7.114,3,     1.62,2,   -999.0,2,   2272.7,2,   7.7153,    25.00,2,  -1.7868
  77DN20020420,   GNS,    68,  1,      7,2,20020521,1307, 71.9997, -21.0167,  397,    123.3,  -1.7037,  33.9652,2,  33.9661,2,    343.5,2,     4.94,2,     7.77,2,     0.06,2,     0.65,2,    7.020,2,    3.470,2,    0.522,3,    6.675,3,     -999,9,   2130.8,2,   2266.4,2,   7.7201,    25.00,2,  -1.7062
  77DN20020420,   GNS,    68,  1,      6,2,20020521,1307, 71.9997, -21.0167,  397,    150.5,  -1.7732,  34.0865,2,  34.0880,2,    341.9,2,     4.87,2,     8.50,2,     0.06,2,     0.67,2,    6.880,2,    3.440,2,    0.528,3,    6.091,3,      1.6,2,   -999.0,2,   2269.4,2,   7.7259,    25.00,2,  -1.7762
  77DN20020420,   GNS,    68,  1,      5,2,20020521,1307, 71.9997, -21.0167,  397,    200.9,  -1.6952,  34.2268,2,-999.0000,9,    338.9,2,     4.88,2,     9.20,2,     0.07,2,     0.69,2,    6.560,2,    3.310,2,    0.566,3,    5.557,3,     1.54,2,   2130.8,2,   2270.9,2,   7.7278,    25.00,2,  -1.6995
  77DN20020420,   GNS,    68,  1,      4,2,20020521,1307, 71.9997, -21.0167,  397,    225.3,  -1.0459,  34.3133,2,  34.3050,2,    329.8,2,     5.48,2,     9.83,2,     0.07,2,     0.73,2,    6.220,2,    3.180,2,    0.482,3,    5.003,3,     1.34,2,   -999.0,2,   2271.3,2,   7.7239,    25.00,2,  -1.0521
  77DN20020420,   GNS,    68,  1,      3,2,20020521,1307, 71.9997, -21.0167,  397,    267.3,  -1.1646,  34.3847,2,  34.3779,2,    330.3,2,     5.33,2,    10.39,2,     0.08,2,     0.73,2,    6.140,2,    3.210,2,    0.471,3,    4.709,3,     1.41,2,   2131.2,2,   2272.6,2,   7.7248,    25.00,2,  -1.1719
  77DN20020420,   GNS,    68,  1,      2,2,20020521,1307, 71.9997, -21.0167,  397,    320.9,  -0.7371,  34.4647,2,  34.4576,2,    324.5,2,     5.58,2,    10.91,2,     0.09,2,     0.76,2,    5.850,2,    3.040,2,    0.452,3,    4.267,3,     1.23,2,   -999.0,2,   2276.2,2,   7.7239,    25.00,2,  -0.7472
  77DN20020420,   GNS,    68,  1,      1,2,20020521,1307, 71.9997, -21.0167,  397,    382.5,  -0.0485,  34.6224,2,  34.6163,2,    318.3,2,     5.77,2,    11.72,2,     0.08,2,     0.80,2,    5.310,2,    2.830,2,    0.409,3,    4.262,3,     1.44,2,   2138.8,2,   2283.6,2,   7.7248,    25.00,2,  -0.0631