BOTTLE,20090507PRINUNIVRMK
EXPOCODE,SECT_ID,STNNBR,CASTNO,BTLNBR,BTLNBR_FLAG_W,DATE,TIME,LATITUDE,LONGITUDE,DEPTH,CTDPRS,CTDTMP,CTDSAL,CTDSAL_FLAG_W,SALNTY,SALNTY_FLAG_W,OXYGEN,OXYGEN_FLAG_W,SILCAT,SILCAT_FLAG_W,NITRAT,NITRAT_FLAG_W,NITRIT,NITRIT_FLAG_W,PHSPHT,PHSPHT_FLAG_W,CFC-11,CFC-11_FLAG_W,CFC-12,CFC-12_FLAG_W,CFC113,CFC113_FLAG_W,CCL4,CCL4_FLAG_W,SF6,SF6_FLAG_W,TCARBN,TCARBN_FLAG_W,ALKALI,ALKALI_FLAG_W,PH_SWS,PH_TEMP,PH_SWS_FLAG_W,THETA
,,,,,,,,,,METERS,DBARS,ITS-90,PSS-78,,PSS-78,,UMOL/KG,,UMOL/KG,,UMOL/KG,,UMOL/KG,,UMOL/KG,,PMOL/KG,,PMOL/KG,,PMOL/KG,,PMOL/KG,,FMOL/KG,,UMOL/KG,,UMOL/KG,,,DEGC,,DEGC
  77DN20020420,   GNS,    33,  1,     23,2,20020512, 308, 79.0295,  -0.0575, 2621,      9.4,  -1.7365,  34.1392,2,  34.1372,2,    370.5,2,     3.93,2,     6.34,2,     0.02,2,     0.51,2, -999.000,9, -999.000,9,    0.652,3,    9.184,3,     1.93,2,   2081.7,2,   2262.8,2,   7.8054,    25.00,2,  -1.7367
  77DN20020420,   GNS,    33,  1,     21,2,20020512, 308, 79.0295,  -0.0575, 2621,     20.2,  -1.7373,  34.1413,2,  34.1354,2,    367.7,2,     4.02,2,     6.51,2,     0.02,2,     0.52,2, -999.000,9, -999.000,9,    0.532,3,    8.988,3,     -999,9,   2081.0,2,   2259.6,2,   7.8044,    25.00,2,  -1.7377
  77DN20020420,   GNS,    33,  1,     20,2,20020512, 308, 79.0295,  -0.0575, 2621,     29.8,  -1.7777,  34.2008,2,  34.1987,2,    352.2,2,     3.87,2,     7.86,2,     0.01,2,     0.57,2, -999.000,9, -999.000,9,    0.452,3,    7.946,3,     1.23,2,   2095.6,2,   2265.3,2,   7.7753,    25.00,2,  -1.7783
  77DN20020420,   GNS,    33,  1,     19,2,20020512, 308, 79.0295,  -0.0575, 2621,     50.2,  -1.7172,  34.3523,2,  34.3466,2,    336.9,2,     3.62,2,     9.76,2,     0.03,2,     0.67,2, -999.000,9, -999.000,9,    0.613,3,    8.176,3,     -999,9,   2111.0,2,   2269.7,2,   7.7452,    25.00,2,  -1.7182
  77DN20020420,   GNS,    33,  1,     18,2,20020512, 308, 79.0295,  -0.0575, 2621,     74.6,  -1.7344,  34.3976,2,  34.3902,2,    335.1,2,     4.11,2,    10.81,2,     0.03,2,     0.72,2, -999.000,9, -999.000,9,    0.572,3,    7.312,3,     1.22,2,   2116.6,2,   2269.8,2,   7.7374,    25.00,2,  -1.7359
  77DN20020420,   GNS,    33,  1,     17,2,20020512, 308, 79.0295,  -0.0575, 2621,    100.5,  -0.2920,  34.5444,2,  34.5494,2,    312.0,2,     4.70,2,    10.84,2,     0.01,2,     0.75,2, -999.000,9, -999.000,9,    0.522,3,    6.646,3,     -999,9,   2134.9,2,   2283.9,2,   7.7229,    25.00,2,  -0.2954
  77DN20020420,   GNS,    33,  1,     16,2,20020512, 308, 79.0295,  -0.0575, 2621,    124.4,   0.5217,  34.6766,2,  34.6853,2,    294.2,2,     6.79,2,    12.30,2,     0.00,2,     0.84,2, -999.000,9, -999.000,9,    0.213,3,    5.826,3,     0.26,2,   2145.5,2,   2291.7,2,   7.7093,    25.00,2,   0.5166
  77DN20020420,   GNS,    33,  1,     15,2,20020512, 308, 79.0295,  -0.0575, 2621,    149.6,   1.6011,  34.8394,2,  34.9528,2,    302.7,2,     4.95,2,    12.39,2,     0.01,2,     0.82,2, -999.000,9, -999.000,9,    0.468,3,    5.198,3,     -999,9,   2140.4,2,   2296.7,2,   7.7334,    25.00,2,   1.5935
  77DN20020420,   GNS,    33,  1,     14,2,20020512, 308, 79.0295,  -0.0575, 2621,    199.9,   2.1298,  34.9437,2,  34.9427,2,    308.8,2,     4.81,2,    12.27,2,     0.02,2,     0.81,2, -999.000,9, -999.000,9,    0.522,3,    4.662,3,     1.14,2,   2138.7,2,   2302.1,2,   7.7431,    25.00,2,   2.1188
  77DN20020420,   GNS,    33,  1,     13,2,20020512, 308, 79.0295,  -0.0575, 2621,    249.7,   1.9970,  34.9535,2,  34.9492,2,    319.1,2,     4.58,2,    11.84,2,     0.03,2,     0.79,2, -999.000,9, -999.000,9,    0.434,3,    4.834,3,     1.82,2,   2140.7,2,   2304.3,2,   7.7508,    25.00,2,   1.9834
  77DN20020420,   GNS,    33,  1,     12,2,20020512, 308, 79.0295,  -0.0575, 2621,    300.1,   1.7384,  34.9471,2,  34.9429,2,    312.1,2,     4.99,2,    12.34,2,     0.01,2,     0.82,2, -999.000,9, -999.000,9,    0.426,3,    3.699,3,     1.37,2,   2143.3,2,   2303.1,2,   7.7382,    25.00,2,   1.7225
  77DN20020420,   GNS,    33,  1,     11,2,20020512, 308, 79.0295,  -0.0575, 2621,    400.1,   1.0622,  34.9167,2,  34.9103,2,    303.1,2,     5.76,2,    12.87,2,     0.00,2,     0.86,2, -999.000,9, -999.000,9,    0.267,3,    3.027,3,      0.8,2,   2146.6,2,   2300.0,2,   7.7257,    25.00,2,   1.0429
  77DN20020420,   GNS,    33,  1,     10,2,20020512, 308, 79.0295,  -0.0575, 2621,    502.4,   0.3584,  34.8706,2,  34.8666,2,    296.3,2,     6.88,2,    13.12,2,     0.00,2,     0.89,2, -999.000,9, -999.000,9,    0.279,3,    1.265,3,     0.25,2,   2146.0,2,   2298.4,2,   7.7208,    25.00,2,   0.3367
  77DN20020420,   GNS,    33,  1,      9,2,20020512, 308, 79.0295,  -0.0575, 2621,    704.7,   0.1582,  34.8944,2,  34.8888,2,    302.3,2,     6.54,2,    13.00,2,     0.00,2,     0.89,2, -999.000,9, -999.000,9,    0.184,3,    1.321,3,     0.28,2,   2149.8,2,   2299.7,2,   7.7189,    25.00,2,   0.1277
  77DN20020420,   GNS,    33,  1,      8,2,20020512, 308, 79.0295,  -0.0575, 2621,   1001.3,  -0.3040,  34.9026,2,  34.8991,2,    305.1,2,     7.26,2,    13.65,2,     0.00,2,     0.91,2, -999.000,9, -999.000,9,    0.227,3,    1.111,3,     0.66,2,   2154.2,2,   2298.8,2,   7.7073,    25.00,2,  -0.3462
  77DN20020420,   GNS,    33,  1,      7,2,20020512, 308, 79.0295,  -0.0575, 2621,   1048.1,  -0.3750,  34.9026,2,  34.8979,2,    306.5,2,     7.49,2,    13.76,2,     0.00,2,     0.92,2, -999.000,9, -999.000,9,    0.166,3,    0.855,3,     0.82,2,   2153.0,2,   2299.9,2,   7.7063,    25.00,2,  -0.4190
  77DN20020420,   GNS,    33,  1,      6,2,20020512, 308, 79.0295,  -0.0575, 2621,   1100.8,  -0.4045,  34.9035,2,  34.8997,2,    303.2,2,     7.64,2,    13.86,2,     0.00,2,     0.93,2, -999.000,9, -999.000,9,    0.237,3,    0.856,3,      0.9,2,   2154.2,2,   2299.9,2,   7.7073,    25.00,2,  -0.4510
  77DN20020420,   GNS,    33,  1,      5,2,20020512, 308, 79.0295,  -0.0575, 2621,   1197.5,  -0.5260,  34.9027,2,  34.9000,2,    306.2,2,     8.04,2,    14.13,2,     0.00,2,     0.94,2, -999.000,9, -999.000,9,    0.236,3,    0.778,3,      1.4,2,   2151.3,2,   2300.0,2,   7.7034,    25.00,2,  -0.5764
  77DN20020420,   GNS,    33,  1,      4,2,20020512, 308, 79.0295,  -0.0575, 2621,   1500.2,  -0.5742,  34.9184,2,  34.9148,2,    299.5,2,     9.58,2,    14.44,2,     0.00,2,     0.96,2, -999.000,9, -999.000,9,    0.058,3,    0.689,3,     0.19,2,   2155.1,2,   2301.7,2,   7.7131,    25.00,2,  -0.6408
  77DN20020420,   GNS,    33,  1,      3,2,20020512, 308, 79.0295,  -0.0575, 2621,   2000.2,  -0.7787,  34.9165,2,  34.9130,2,    299.7,2,    10.50,2,    15.02,2,     0.00,2,     1.00,2, -999.000,9, -999.000,9,    0.157,3,    0.611,3,     -999,9,   2153.9,2,   2301.7,2,   7.7083,    25.00,2,  -0.8730
  77DN20020420,   GNS,    33,  1,      2,2,20020512, 308, 79.0295,  -0.0575, 2621,   2500.1,  -0.7924,  34.9232,2,  34.9174,2,    299.4,2,    10.76,2,    15.06,2,     0.00,2,     0.99,2, -999.000,9, -999.000,9,    0.118,3,    0.524,3,        0,2,   2150.9,2,   2303.4,2,   7.7150,    25.00,2,  -0.9208
  77DN20020420,   GNS,    33,  1,      1,2,20020512, 308, 79.0295,  -0.0575, 2621,   2613.7,  -0.7870,  34.9242,2,  34.9183,2,    300.7,2,    10.81,2,    14.97,2,     0.00,2,     0.98,2, -999.000,9, -999.000,9,    0.153,3,    0.505,3,        0,2,   2151.1,2,   2302.8,2,   7.7150,    25.00,2,  -0.9239
  77DN20020420,   GNS,    34,  1,     23,2,20020512,1300, 79.0115,  -2.0463, 2618,      9.8,  -1.7033,  33.7775,2,  33.7768,2,    351.4,2,     6.05,2,     7.19,2,     0.01,2,     0.67,2,    6.900,2,    3.490,2,    0.572,3,    7.389,3,     -999,9,   2126.7,2,   2267.1,2,   7.7240,    25.00,2,  -1.7035
  77DN20020420,   GNS,    34,  1,     22,2,20020512,1300, 79.0115,  -2.0463, 2618,     19.0,  -1.7031,  33.7965,2,  33.8019,2,    346.6,2,     6.04,2,     7.37,2,     0.01,2,     0.67,2,    6.990,2,    3.460,2,    0.552,3,    7.110,3,     1.84,2,   2127.6,2,   2268.2,2,   7.7211,    25.00,2,  -1.7035
  77DN20020420,   GNS,    34,  1,     21,2,20020512,1300, 79.0115,  -2.0463, 2618,     29.8,  -1.7577,  34.0709,2,  34.1426,2,    363.3,2,     3.83,2,     6.80,2,     0.01,2,     0.55,2,    6.770,2,    3.490,2,    0.573,3,    9.243,3,     -999,9,   2103.0,2,   2263.3,2,   7.7879,    25.00,2,  -1.7583
  77DN20020420,   GNS,    34,  1,     20,2,20020512,1300, 79.0115,  -2.0463, 2618,     50.4,  -1.7962,  34.3094,2,  34.3112,2,    343.3,2,     3.31,2,     8.52,2,     0.01,2,     0.60,2,    6.670,2,    3.460,2,    0.705,3,    6.835,3,      1.7,2,   2117.7,2,   2271.2,2,   7.7500,    25.00,2,  -1.7972
  77DN20020420,   GNS,    34,  1,     19,2,20020512,1300, 79.0115,  -2.0463, 2618,     74.5,  -1.7170,  34.3460,2,  34.3446,2,    342.2,2,     2.92,2,     8.00,2,     0.00,2,     0.58,2,    6.800,2,    3.360,2,    0.515,3,    6.050,3,     1.38,2,   2122.5,2,   2275.7,2,   7.7481,    25.00,2,  -1.7185
  77DN20020420,   GNS,    34,  1,     18,2,20020512,1300, 79.0115,  -2.0463, 2618,    100.3,  -1.7328,  34.3797,2,  34.3748,2,    333.2,2,     3.63,2,    10.15,2,     0.01,2,     0.69,2,    6.500,2,    3.360,2,    0.522,3,    6.592,3,     -999,9,   2119.1,2,   2268.8,2,   7.7423,    25.00,2,  -1.7349
  77DN20020420,   GNS,    34,  1,     17,2,20020512,1300, 79.0115,  -2.0463, 2618,    124.4,  -0.8698,  34.4743,2,  34.4804,2,    319.6,2,     4.08,2,    10.30,2,     0.00,2,     0.71,2,    5.830,2,    2.990,2,    0.382,3,    5.458,3,     -999,9,   2135.9,2,   2277.8,2,   7.7287,    25.00,2,  -0.8733
  77DN20020420,   GNS,    34,  1,     16,2,20020512,1300, 79.0115,  -2.0463, 2618,    149.8,   0.3783,  34.6242,2,  34.6204,2,    302.0,2,     5.29,2,    11.57,2,     0.00,2,     0.79,2,    4.920,2,    2.530,2,    0.349,3,    4.216,3,     0.71,2,   2144.5,2,   2285.5,2,   7.7151,    25.00,2,   0.3724
  77DN20020420,   GNS,    34,  1,     15,2,20020512,1300, 79.0115,  -2.0463, 2618,    199.4,   1.2144,  34.8051,2,  34.8012,2,    293.7,2,     5.86,2,    12.95,2,     0.00,2,     0.85,2,    4.310,2,    2.240,2,    0.307,3,    4.249,3,     0.41,2,   2150.2,2,   2293.2,2,   7.7189,    25.00,2,   1.2049
  77DN20020420,   GNS,    34,  1,     14,2,20020512,1300, 79.0115,  -2.0463, 2618,    250.0,   1.0823,  34.8426,2,  34.8382,2,    293.7,2,     6.26,2,    13.15,2,     0.00,2,     0.86,2,    3.780,2,    1.960,2,    0.239,3,    2.676,3,     0.56,2,   2148.3,2,   2296.4,2,   7.7208,    25.00,2,   1.0706
  77DN20020420,   GNS,    34,  1,     13,2,20020512,1300, 79.0115,  -2.0463, 2618,    299.9,   0.8633,  34.8550,2,  34.8492,2,    293.4,2,     6.44,2,    13.30,2,     0.00,2,     0.87,2,    3.230,2,    1.680,2,    0.267,3,    2.355,3,     0.71,2,   2150.4,2,   2296.7,2,   7.7189,    25.00,2,   0.8497
  77DN20020420,   GNS,    34,  1,     12,2,20020512,1300, 79.0115,  -2.0463, 2618,    399.7,   1.4893,  34.9510,2,  34.9424,2,    315.6,2,     5.14,2,    12.46,2,     0.01,2,     0.82,2,    4.790,2,    2.670,2,    0.344,3,    2.166,3,     0.93,2,   2148.0,2,   2301.8,2,   7.7363,    25.00,2,   1.4686
  77DN20020420,   GNS,    34,  1,     11,2,20020512,1300, 79.0115,  -2.0463, 2618,    500.3,   1.2175,  34.9376,2,  34.9230,2,    305.3,2,     5.62,2,    12.98,2,     0.00,2,     0.85,2,    3.820,2,    2.130,2,    0.318,3,    1.417,3,     0.71,2,   2148.0,2,   2301.7,2,   7.7285,    25.00,2,   1.1923
  77DN20020420,   GNS,    34,  1,     10,2,20020512,1300, 79.0115,  -2.0463, 2618,    729.8,   0.9007,  34.9488,2,  34.9451,2,    315.5,2,     5.32,2,    12.96,2,     0.00,2,     0.85,2,    4.650,2,    2.510,2,    0.380,3,    1.110,3,     -999,9,   2151.3,2,   2302.5,2,   7.7237,    25.00,2,   0.8644
  77DN20020420,   GNS,    34,  1,      9,2,20020512,1300, 79.0115,  -2.0463, 2618,   1126.0,  -0.2925,  34.9027,2,  34.8967,2,    307.3,2,     6.94,2,    13.97,2,     0.00,2,     0.91,2,    3.090,2,    1.690,2,    0.223,3,    0.858,3,     1.16,2,   2159.6,2,   2299.5,2,   7.7025,    25.00,2,  -0.3413
  77DN20020420,   GNS,    34,  1,      8,2,20020512,1300, 79.0115,  -2.0463, 2618,   1175.3,  -0.3962,  34.9010,2,  34.8947,2,    307.2,2,     7.21,2,    14.09,2,     0.00,2,     0.93,2,    2.920,2,    1.590,2,    0.262,3,    0.809,3,     0.94,2,   2160.0,2,   2297.9,2,   7.7015,    25.00,2,  -0.4467
  77DN20020420,   GNS,    34,  1,      7,2,20020512,1300, 79.0115,  -2.0463, 2618,   1224.6,  -0.4336,  34.9046,2,  34.8987,2,    307.7,2,     7.72,2,    14.15,2,     0.00,2,     0.93,2,    2.310,2,    1.200,2,    0.187,3,    0.775,3,     0.89,2,   2155.9,2,   2301.0,2,   7.7063,    25.00,2,  -0.4864
  77DN20020420,   GNS,    34,  1,      6,2,20020512,1300, 79.0115,  -2.0463, 2618,   1300.6,  -0.5105,  34.9039,2,  34.8959,2,    304.6,2,     7.87,2,    14.38,2,     0.00,2,     0.94,2,    2.290,2,    1.200,2,    0.185,3,    0.762,3,     -999,9,   2160.8,2,   2300.2,2,   7.7063,    25.00,2,  -0.5666
  77DN20020420,   GNS,    34,  1,      5,2,20020512,1300, 79.0115,  -2.0463, 2618,   1499.9,  -0.5810,  34.9129,2,  34.9084,2,    302.1,2,     8.90,2,    14.69,2,     0.00,2,     0.96,2,    1.520,2,    0.740,2,    0.187,3,    0.763,3,     0.61,2,   2160.6,2,   2301.6,2,   7.7092,    25.00,2,  -0.6475
  77DN20020420,   GNS,    34,  1,      4,2,20020512,1300, 79.0115,  -2.0463, 2618,   2000.6,  -0.7863,  34.9140,2,  34.9072,2,    300.5,2,    10.42,2,    15.43,2,     0.00,2,     0.99,2,    0.910,2,    0.330,2,    0.132,3,    0.637,3,        0,2,   2159.8,2,   2301.8,2,   7.7054,    25.00,2,  -0.8805
  77DN20020420,   GNS,    34,  1,      3,2,20020512,1300, 79.0115,  -2.0463, 2618,   2509.1,  -0.8048,  34.9223,2,  34.9148,2,    301.7,2,    10.63,2,    15.27,2,     0.00,2,     0.99,2,    0.570,2,    0.120,2,    0.128,3,    0.600,3,        0,2,   2160.4,2,   2300.9,2,   7.7131,    25.00,2,  -0.9336
  77DN20020420,   GNS,    34,  1,      2,2,20020512,1300, 79.0115,  -2.0463, 2618,   2609.9,  -0.7883,  34.9267,2,  34.9181,2,    301.8,2,    10.64,2,    15.17,2,     0.00,2,     0.98,2,    0.460,2,    0.060,2,    0.131,3,    0.567,3,        0,2,   2151.8,2,   2302.6,2,   7.7150,    25.00,2,  -0.9249
  77DN20020420,   GNS,    35,  1,     24,2,20020512,1821, 79.0373,  -2.9753, 2413,     10.5,  -1.7425,  32.6577,2,  32.6583,2,    373.5,2,     7.80,2,     4.65,2,     0.00,2,     0.73,2, -999.000,9, -999.000,9,    0.782,3,   10.113,3,     -999,9,   2123.5,2,   2252.9,2,   7.6849,    25.00,2,  -1.7427
  77DN20020420,   GNS,    35,  1,     23,2,20020512,1821, 79.0373,  -2.9753, 2413,     19.9,  -1.7465,  32.7447,2,  32.8159,2,    368.4,2,     7.81,2,     5.07,2,     0.00,2,     0.71,2, -999.000,9, -999.000,9,    0.762,3,    9.662,3,     -999,9,   2127.1,2,   2257.2,2,   7.6867,    25.00,2,  -1.7468
  77DN20020420,   GNS,    35,  1,     22,2,20020512,1821, 79.0373,  -2.9753, 2413,     29.8,  -1.8074,  33.5535,2,  33.5782,2,    352.8,2,     6.99,2,     6.51,2,     0.00,2,     0.66,2, -999.000,9, -999.000,9,    0.661,3,    8.465,3,     -999,9,   2138.5,2,   2275.6,2,   7.6923,    25.00,2,  -1.8079
  77DN20020420,   GNS,    35,  1,     21,2,20020512,1821, 79.0373,  -2.9753, 2413,     40.3,  -1.6023,  33.8760,2,  33.8915,2,    342.3,2,     6.66,2,     7.78,2,     0.00,2,     0.66,2, -999.000,9, -999.000,9,    0.662,3,    7.591,3,     -999,9,   2138.1,2,   2276.8,2,   7.6989,    25.00,2,  -1.6031
  77DN20020420,   GNS,    35,  1,     16,2,20020512,1821, 79.0373,  -2.9753, 2413,     50.2,  -1.6793,  34.0060,2,  34.0106,2,    345.4,2,     5.57,2,     7.45,2,     0.00,2,     0.61,2, -999.000,9, -999.000,9,    0.648,3,    7.579,3,     1.32,2,   2136.4,2,   2280.4,2,   7.7095,    25.00,2,  -1.6803
  77DN20020420,   GNS,    35,  1,     15,2,20020512,1821, 79.0373,  -2.9753, 2413,     60.0,  -1.7886,  34.0745,2,  34.0827,2,    345.2,2,     5.35,2,     7.44,2,     0.00,2,     0.61,2, -999.000,9, -999.000,9,    0.637,3,    7.297,3,     -999,9,   2134.6,2,   2282.0,2,   7.7153,    25.00,2,  -1.7897
  77DN20020420,   GNS,    35,  1,     14,2,20020512,1821, 79.0373,  -2.9753, 2413,     78.7,  -1.0540,  34.2732,2,  34.2893,2,    332.4,2,     5.34,2,     9.44,2,     0.00,2,     0.67,2, -999.000,9, -999.000,9,    0.600,3,    6.942,3,     -999,9,   2125.8,2,   2275.7,2,   7.7278,    25.00,2,  -1.0561
  77DN20020420,   GNS,    35,  1,     13,2,20020512,1821, 79.0373,  -2.9753, 2413,    100.4,  -1.7970,  34.3289,2,  34.3278,2,    348.7,2,     3.02,2,     8.06,2,     0.00,2,     0.57,2, -999.000,9, -999.000,9,    0.594,3,    6.858,3,     -999,9,   2113.6,2,   2276.5,2,   7.7500,    25.00,2,  -1.7990
  77DN20020420,   GNS,    35,  1,     12,2,20020512,1821, 79.0373,  -2.9753, 2413,    123.5,  -1.8040,  34.3382,2,  34.3350,2,    346.5,2,     3.02,2,     8.13,2,     0.00,2,     0.57,2, -999.000,9, -999.000,9,    0.548,3,    3.653,3,     1.49,2,   2115.4,2,   2275.1,2,   7.7519,    25.00,2,  -1.8065
  77DN20020420,   GNS,    35,  1,     11,2,20020512,1821, 79.0373,  -2.9753, 2413,    150.8,  -1.6079,  34.3588,2,  34.3603,2,    339.5,2,     3.37,2,     8.79,2,     0.01,2,     0.61,2, -999.000,9, -999.000,9,    0.524,3,    5.179,3,     -999,9,   2118.9,2,   2272.8,2,   7.7461,    25.00,2,  -1.6112
  77DN20020420,   GNS,    35,  1,      6,2,20020512,1821, 79.0373,  -2.9753, 2413,    200.2,   0.9884,  34.7241,2,  34.7235,2,    301.6,2,     5.33,2,    12.69,2,     0.00,2,     0.83,2, -999.000,9, -999.000,9,    0.457,3,    3.777,3,     0.41,2,   2137.9,2,   2287.7,2,   7.7218,    25.00,2,   0.9793
  77DN20020420,   GNS,    35,  1,      5,2,20020512,1821, 79.0373,  -2.9753, 2413,    249.6,   1.9539,  34.8820,2,  34.8814,2,    301.8,2,     5.19,2,    13.19,2,     0.00,2,     0.84,2, -999.000,9, -999.000,9,    0.483,3,    4.197,3,     -999,9,   2140.5,2,   2294.5,2,   7.7344,    25.00,2,   1.9404