BOTTLE,20090507PRINUNIVRMK
EXPOCODE,SECT_ID,STNNBR,CASTNO,BTLNBR,BTLNBR_FLAG_W,DATE,TIME,LATITUDE,LONGITUDE,DEPTH,CTDPRS,CTDTMP,CTDSAL,CTDSAL_FLAG_W,SALNTY,SALNTY_FLAG_W,OXYGEN,OXYGEN_FLAG_W,SILCAT,SILCAT_FLAG_W,NITRAT,NITRAT_FLAG_W,NITRIT,NITRIT_FLAG_W,PHSPHT,PHSPHT_FLAG_W,CFC-11,CFC-11_FLAG_W,CFC-12,CFC-12_FLAG_W,CFC113,CFC113_FLAG_W,CCL4,CCL4_FLAG_W,SF6,SF6_FLAG_W,TCARBN,TCARBN_FLAG_W,ALKALI,ALKALI_FLAG_W,PH_SWS,PH_TEMP,PH_SWS_FLAG_W,THETA
,,,,,,,,,,METERS,DBARS,ITS-90,PSS-78,,PSS-78,,UMOL/KG,,UMOL/KG,,UMOL/KG,,UMOL/KG,,UMOL/KG,,PMOL/KG,,PMOL/KG,,PMOL/KG,,PMOL/KG,,FMOL/KG,,UMOL/KG,,UMOL/KG,,,DEGC,,DEGC
  77DN20020420,   GNS,    48,  1,     20,2,20020517, 828, 75.0002,  -9.2953, 3355,     12.2,   0.2222,  34.8146,2,-999.0000,9,    351.0,2,     5.55,2,    10.74,2,     0.03,2,     0.76,2, -999.000,9, -999.000,9,    0.637,3,    7.249,3,     1.62,2,   -999.0,2,   2294.0,2,   7.7228,    25.00,2,   0.2217
  77DN20020420,   GNS,    48,  1,     19,2,20020517, 828, 75.0002,  -9.2953, 3355,     30.8,   0.1031,  34.8447,2,-999.0000,9,    344.5,2,     6.19,2,    11.05,2,     0.02,2,     0.79,2, -999.000,9, -999.000,9,    0.632,3,    6.854,3,     -999,9,   -999.0,2,   2298.3,2,   7.7257,    25.00,2,   0.1020
  77DN20020420,   GNS,    48,  1,     18,2,20020517, 828, 75.0002,  -9.2953, 3355,     49.9,  -0.2962,  34.8793,2,-999.0000,9,    342.3,2,     6.94,2,    11.51,2,     0.02,2,     0.82,2, -999.000,9, -999.000,9,    0.487,3,    6.563,3,     2.05,2,   -999.0,2,   2298.7,2,   7.7141,    25.00,2,  -0.2979
  77DN20020420,   GNS,    48,  1,     17,2,20020517, 828, 75.0002,  -9.2953, 3355,     76.1,  -0.2550,  34.8915,2,-999.0000,9,    337.8,2,     6.10,2,    11.91,2,     0.02,2,     0.84,2, -999.000,9, -999.000,9,    0.464,3,    6.371,3,     1.96,2,   -999.0,2,   2298.0,2,   7.7102,    25.00,2,  -0.2576
  77DN20020420,   GNS,    48,  1,     16,2,20020517, 828, 75.0002,  -9.2953, 3355,    125.3,  -0.3992,  34.8920,2,-999.0000,9,    335.4,2,     6.48,2,    12.10,2,     0.02,2,     0.84,2, -999.000,9, -999.000,9,    0.442,3,    6.308,3,     -999,9,   -999.0,2,   2296.0,2,   7.7054,    25.00,2,  -0.4034
  77DN20020420,   GNS,    48,  1,     15,2,20020517, 828, 75.0002,  -9.2953, 3355,    149.9,  -0.5262,  34.8866,2,-999.0000,9,    338.4,2,     6.35,2,    12.13,2,     0.02,2,     0.86,2, -999.000,9, -999.000,9,    0.439,3,    6.002,3,        2,2,   -999.0,2,   2295.9,2,   7.6996,    25.00,2,  -0.5311
  77DN20020420,   GNS,    48,  1,     14,2,20020517, 828, 75.0002,  -9.2953, 3355,    199.8,  -0.7473,  34.8771,2,-999.0000,9,    341.1,2,     6.17,2,    12.30,2,     0.03,2,     0.86,2, -999.000,9, -999.000,9,    0.382,3,    5.425,3,     2.18,2,   -999.0,2,   2292.9,2,   7.6967,    25.00,2,  -0.7535
  77DN20020420,   GNS,    48,  1,     13,2,20020517, 828, 75.0002,  -9.2953, 3355,    251.4,  -0.7021,  34.8811,2,-999.0000,9,    338.9,2,     6.43,2,    12.27,2,     0.03,2,     0.85,2, -999.000,9, -999.000,9,    0.381,3,    5.249,3,     2.24,2,   -999.0,2,   2296.4,2,   7.6957,    25.00,2,  -0.7101
  77DN20020420,   GNS,    48,  1,     12,2,20020517, 828, 75.0002,  -9.2953, 3355,    300.5,  -0.6537,  34.8870,2,-999.0000,9,    333.6,2,     6.58,2,    12.37,2,     0.03,2,     0.87,2, -999.000,9, -999.000,9,    0.361,3,    3.773,3,     2.23,2,   -999.0,2,   2298.3,2,   7.6928,    25.00,2,  -0.6636
  77DN20020420,   GNS,    48,  1,     11,2,20020517, 828, 75.0002,  -9.2953, 3355,    399.3,  -0.5284,  34.8993,2,  34.8991,2,    324.0,2,     6.83,2,    12.75,2,     0.01,2,     0.89,2, -999.000,9, -999.000,9,    0.360,3,    3.835,3,      1.9,2,   -999.0,2,   2294.1,2,   7.6977,    25.00,2,  -0.5423
  77DN20020420,   GNS,    48,  1,     10,2,20020517, 828, 75.0002,  -9.2953, 3355,    500.3,  -0.5666,  34.8989,2,-999.0000,9,    326.2,2,     6.80,2,    12.78,2,     0.01,2,     0.88,2, -999.000,9, -999.000,9,    0.353,3,    3.088,3,     2.48,2,   -999.0,2,   2297.4,2,   7.6957,    25.00,2,  -0.5843
  77DN20020420,   GNS,    48,  1,      9,2,20020517, 828, 75.0002,  -9.2953, 3355,    601.0,  -0.6897,  34.8909,2,-999.0000,9,    330.0,2,     6.47,2,    12.73,2,     0.01,2,     0.88,2, -999.000,9, -999.000,9,    0.309,3,    2.979,3,     2.73,2,   -999.0,2,   2295.4,2,   7.6928,    25.00,2,  -0.7109
  77DN20020420,   GNS,    48,  1,      8,2,20020517, 828, 75.0002,  -9.2953, 3355,    750.1,  -0.7077,  34.8911,2,-999.0000,9,    327.6,2,     6.59,2,    12.80,2,     0.01,2,     0.89,2, -999.000,9, -999.000,9,    0.282,3,    2.466,3,     2.71,2,   -999.0,2,   2294.3,2,   7.6919,    25.00,2,  -0.7351
  77DN20020420,   GNS,    48,  1,      7,2,20020517, 828, 75.0002,  -9.2953, 3355,   1001.0,  -0.7839,  34.8885,2,  34.8884,2,    321.3,2,     7.40,2,    13.14,2,     0.01,2,     0.90,2, -999.000,9, -999.000,9,    0.255,3,    1.969,3,     2.93,2,   -999.0,2,   2294.4,2,   7.6928,    25.00,2,  -0.8221
  77DN20020420,   GNS,    48,  1,      6,2,20020517, 828, 75.0002,  -9.2953, 3355,   1501.4,  -0.7615,  34.9028,2,  34.9026,2,    304.4,2,     9.62,2,    14.07,2,     0.01,2,     0.96,2, -999.000,9, -999.000,9,    0.224,3,    1.618,3,     1.07,2,   -999.0,2,   2297.2,2,   7.6957,    25.00,2,  -0.8259
  77DN20020420,   GNS,    48,  1,      5,2,20020517, 828, 75.0002,  -9.2953, 3355,   2002.3,  -0.8214,  34.9104,2,  34.9075,2,    300.1,2,    11.22,2,    14.43,2,     0.01,2,     0.98,2, -999.000,9, -999.000,9,    0.187,3,    0.684,3,        0,2,   -999.0,2,   2300.0,2,   7.7015,    25.00,2,  -0.9152
  77DN20020420,   GNS,    48,  1,      4,2,20020517, 828, 75.0002,  -9.2953, 3355,   2500.3,  -0.8729,  34.9097,2,-999.0000,9,    300.9,2,    11.76,2,    14.49,2,     0.01,2,     0.98,2, -999.000,9, -999.000,9,    0.165,3,    0.622,3,     0.17,2,   -999.0,2,   2298.1,2,   7.7015,    25.00,2,  -0.9998
  77DN20020420,   GNS,    48,  1,      3,2,20020517, 828, 75.0002,  -9.2953, 3355,   3000.1,  -0.8791,  34.9085,2,  34.9044,2,    301.4,2,    11.50,2,    14.62,2,     0.01,2,     0.98,2,    0.880,2,    0.330,2,    0.113,3,    0.606,3,        0,2,   -999.0,2,   2295.8,2,   7.6996,    25.00,2,  -1.0438
  77DN20020420,   GNS,    48,  1,      2,2,20020517, 828, 75.0002,  -9.2953, 3355,   3186.2,  -0.8920,  34.9063,2,-999.0000,9,    302.7,2,    11.98,2,    14.47,2,     0.01,2,     0.98,2, -999.000,9, -999.000,9,    0.149,3,    0.575,3,        0,2,   -999.0,2,   2295.1,2,   7.6986,    25.00,2,  -1.0716
  77DN20020420,   GNS,    48,  1,      1,2,20020517, 828, 75.0002,  -9.2953, 3355,   3285.9,  -0.9201,  34.9034,2,  34.9000,2,    303.6,2,    12.00,2,    14.50,2,     0.01,2,     0.97,2, -999.000,9, -999.000,9,    0.160,3,    0.554,3,     0.16,2,   -999.0,2,   2297.0,2,   7.6986,    25.00,2,  -1.1073
  77DN20020420,   GNS,    49,  1,     20,2,20020517,1350, 75.0022, -10.7285, 3006,     11.4,   0.4953,  34.7578,2,  34.7538,2,    342.1,2,     5.47,2,    11.05,2,     0.03,2,     0.77,2,    6.270,2,    3.310,2,    0.562,3,   10.389,3,     -999,9,   2135.9,2,   2288.1,2,   7.7276,    25.00,2,   0.4948
  77DN20020420,   GNS,    49,  1,     19,2,20020517,1350, 75.0022, -10.7285, 3006,     29.5,   0.6465,  34.8293,2,  34.8117,2,    331.0,2,     5.58,2,    11.28,2,     0.02,2,     0.79,2,    5.580,2,    2.970,2,    0.494,3,    9.014,3,     1.55,2,   2139.8,2,   2290.7,2,   7.7315,    25.00,2,   0.6453
  77DN20020420,   GNS,    49,  1,     18,2,20020517,1350, 75.0022, -10.7285, 3006,     51.0,   0.7292,  34.8712,2,  34.8678,2,    323.4,2,     5.72,2,    11.78,2,     0.02,2,     0.82,2,    5.040,2,    2.730,2,    0.392,3,    8.074,3,     -999,9,   2145.6,2,   2292.6,2,   7.7286,    25.00,2,   0.7270
  77DN20020420,   GNS,    49,  1,     17,2,20020517,1350, 75.0022, -10.7285, 3006,     75.8,   0.8420,  34.9048,2,  34.9215,2,    313.1,2,     5.91,2,    12.24,2,     0.02,2,     0.85,2,    4.230,2,    2.340,2,    0.394,3,    6.837,3,     0.94,2,   2145.1,2,   2293.8,2,   7.7257,    25.00,2,   0.8387
  77DN20020420,   GNS,    49,  1,     16,2,20020517,1350, 75.0022, -10.7285, 3006,     99.4,   0.8303,  34.9160,2,  34.9097,2,    315.0,2,     5.91,2,    12.25,2,     0.02,2,     0.85,2,    4.210,2,    2.340,2,    0.387,3,    6.703,3,      0.9,2,   2149.8,2,   2296.5,2,   7.7247,    25.00,2,   0.8260
  77DN20020420,   GNS,    49,  1,     15,2,20020517,1350, 75.0022, -10.7285, 3006,    125.5,   0.8757,  34.9294,2,  34.9288,2,    312.0,2,     5.91,2,    12.31,2,     0.02,2,     0.85,2,    4.170,2,    2.290,2,    0.369,3,    6.203,3,      1.4,2,   2146.6,2,   2298.1,2,   7.7237,    25.00,2,   0.8702
  77DN20020420,   GNS,    49,  1,     14,2,20020517,1350, 75.0022, -10.7285, 3006,    180.1,   0.4121,  34.9092,2,  34.9107,2,    318.8,2,     5.92,2,    12.32,2,     0.02,2,     0.86,2,    4.570,2,    2.500,2,    0.437,3,    6.094,3,      1.2,2,   2152.8,2,   2295.9,2,   7.7179,    25.00,2,   0.4048
  77DN20020420,   GNS,    49,  1,     13,2,20020517,1350, 75.0022, -10.7285, 3006,    225.1,   0.3785,  34.9150,2,  34.9132,2,    318.2,2,     5.99,2,    12.41,2,     0.02,2,     0.86,2,    4.400,2,    2.410,2,    0.383,3,    4.980,3,     1.33,2,   2151.8,2,   2296.3,2,   7.7150,    25.00,2,   0.3693
  77DN20020420,   GNS,    49,  1,     12,2,20020517,1350, 75.0022, -10.7285, 3006,    279.6,   0.0946,  34.9079,2,  34.9036,2,    329.4,2,     5.86,2,    12.27,2,     0.02,2,     0.85,2,    5.360,2,    2.890,2,    0.510,3,    3.876,3,     1.42,2,   2151.4,2,   2295.2,2,   7.7131,    25.00,2,   0.0837
  77DN20020420,   GNS,    49,  1,     11,2,20020517,1350, 75.0022, -10.7285, 3006,    352.7,  -0.0456,  34.9124,2,  34.9079,2,    323.5,2,     6.24,2,    12.60,2,     0.02,2,     0.88,2,    4.860,2,    2.640,2,    0.461,3,    4.486,3,     1.49,2,   2155.1,2,   2296.1,2,   7.7073,    25.00,2,  -0.0592
  77DN20020420,   GNS,    49,  1,     10,2,20020517,1350, 75.0022, -10.7285, 3006,    450.9,  -0.0978,  34.9168,2,  34.9103,2,    317.5,2,     6.61,2,    12.97,2,     0.01,2,     0.90,2,    4.030,2,    2.230,2,    0.356,3,    3.836,3,     1.23,2,   2157.1,2,   2297.4,2,   7.7054,    25.00,2,  -0.1154
  77DN20020420,   GNS,    49,  1,      9,2,20020517,1350, 75.0022, -10.7285, 3006,    600.2,  -0.2534,  34.9123,2,  34.9069,2,    328.8,2,     6.22,2,    12.82,2,     0.01,2,     0.89,2,    5.290,2,    2.860,2,    0.483,3,    3.421,3,     2.06,2,   2160.4,2,   2295.6,2,   7.7015,    25.00,2,  -0.2768
  77DN20020420,   GNS,    49,  1,      8,2,20020517,1350, 75.0022, -10.7285, 3006,    749.0,  -0.4731,  34.9023,2,  34.8957,2,    323.3,2,     6.72,2,    13.07,2,     0.01,2,     0.90,2,    4.590,2,    2.510,2,    0.425,3,    3.325,3,     2.51,2,   2160.8,2,   2298.8,2,   7.6967,    25.00,2,  -0.5019
  77DN20020420,   GNS,    49,  1,      7,2,20020517,1350, 75.0022, -10.7285, 3006,    997.6,  -0.6578,  34.8931,2,  34.8867,2,    329.9,2,     6.51,2,    13.03,2,     0.01,2,     0.89,2,    5.170,2,    2.790,2,    0.411,3,    3.286,3,     -999,9,   2160.9,2,   2296.7,2,   7.6900,    25.00,2,  -0.6969
  77DN20020420,   GNS,    49,  1,      6,2,20020517,1350, 75.0022, -10.7285, 3006,   1401.5,  -0.7229,  34.9010,2,  34.9006,2,    308.6,2,     9.05,2,    13.98,2,     0.01,2,     0.96,2,    2.390,2,    1.260,2,    0.240,3,    1.907,3,     1.54,2,   2157.6,2,   2297.7,2,   7.6986,    25.00,2,  -0.7822
  77DN20020420,   GNS,    49,  1,      5,2,20020517,1350, 75.0022, -10.7285, 3006,   1800.3,  -0.7635,  34.9095,2,  34.9089,2,    301.5,2,    10.60,2,    14.53,2,     0.01,2,     0.99,2,    1.280,2,    0.550,2,    0.144,3,    1.115,3,     0.34,2,   2159.1,2,   2297.8,2,   7.7005,    25.00,2,  -0.8455
  77DN20020420,   GNS,    49,  1,      4,2,20020517,1350, 75.0022, -10.7285, 3006,   2200.0,  -0.8120,  34.9114,2,  34.9087,2,    300.3,2,    11.26,2,    14.80,2,     0.01,2,     1.00,2,    0.950,2,    0.360,2,    0.129,3,    0.747,3,     0.08,2,   2163.5,2,   2299.9,2,   7.7005,    25.00,2,  -0.9190
  77DN20020420,   GNS,    49,  1,      3,2,20020517,1350, 75.0022, -10.7285, 3006,   2600.0,  -0.8271,  34.9135,2,  34.9115,2,    301.3,2,    11.40,2,    14.69,2,     0.01,2,     1.00,2,    0.800,2,    0.280,2,    0.129,3,    0.682,3,     0.09,2,   2152.0,2,   2299.6,2,   7.7025,    25.00,2,  -0.9622
  77DN20020420,   GNS,    49,  1,      2,2,20020517,1350, 75.0022, -10.7285, 3006,   2908.3,  -0.8585,  34.9115,2,  34.9079,2,    303.0,2,    11.52,2,    14.63,2,     0.01,2,     0.99,2,    0.840,2,    0.290,2,    0.132,3,    0.629,3,        0,2,   2157.1,2,   2299.7,2,   7.7025,    25.00,2,  -1.0164
  77DN20020420,   GNS,    49,  1,      1,2,20020517,1350, 75.0022, -10.7285, 3006,   3009.4,  -0.8539,  34.9109,2,  34.9091,2,    303.1,2,    11.51,2,    14.74,2,     0.01,2,     0.99,2,    0.840,2,    0.300,2,    0.124,3,    0.637,3,     0.14,2,   2158.6,2,   2297.9,2,   7.7034,    25.00,2,  -1.0200
  77DN20020420,   GNS,    50,  1,     19,2,20020517,1836, 74.9942, -11.2837, 2508,      9.3,  -0.1633,  34.5311,2,  34.5152,2,    341.3,2,     5.59,2,    10.37,2,     0.04,2,     0.74,2, -999.000,9, -999.000,9, -999.000,9, -999.000,9,     -999,9,   2126.4,2,   2278.2,2,   7.7229,    25.00,2,  -0.1636
  77DN20020420,   GNS,    50,  1,     18,2,20020517,1836, 74.9942, -11.2837, 2508,     30.3,   0.2519,  34.7220,2,-999.0000,9,    329.1,2,     5.59,2,    10.58,2,     0.04,2,     0.76,2, -999.000,9, -999.000,9,    0.321,3,    8.808,3,     1.51,2,   2133.1,2,   2288.2,2,   7.7276,    25.00,2,   0.2508
  77DN20020420,   GNS,    50,  1,     17,2,20020517,1836, 74.9942, -11.2837, 2508,     48.8,   0.8138,  34.8135,2,  34.8074,2,    312.8,2,     5.87,2,    11.80,2,     0.03,2,     0.82,2, -999.000,9, -999.000,9,    0.472,3,    8.401,3,     -999,9,   2141.3,2,   2292.2,2,   7.7247,    25.00,2,   0.8117
  77DN20020420,   GNS,    50,  1,     16,2,20020517,1836, 74.9942, -11.2837, 2508,     75.5,   0.8036,  34.8595,2,  34.8578,2,    317.7,2,     5.93,2,    11.76,2,     0.02,2,     0.82,2, -999.000,9, -999.000,9,    0.372,3,    7.566,3,     1.34,2,   -999.0,2,   -999.0,2,-999.0000,  -999.00,9,   0.8004
  77DN20020420,   GNS,    50,  1,     15,2,20020517,1836, 74.9942, -11.2837, 2508,    100.2,   1.0685,  34.8963,2,  34.8902,2,    309.8,2,     5.96,2,    12.07,2,     0.02,2,     0.82,2, -999.000,9, -999.000,9,    0.397,3,    7.258,3,     -999,9,   2145.1,2,   2296.2,2,   7.7276,    25.00,2,   1.0639
  77DN20020420,   GNS,    50,  1,     14,2,20020517,1836, 74.9942, -11.2837, 2508,    125.4,   0.8162,  34.8870,2,  34.8823,2,    310.7,2,     6.14,2,    12.07,2,     0.03,2,     0.83,2, -999.000,9, -999.000,9,    0.390,3,    5.962,3,     1.07,2,   -999.0,2,   -999.0,2,-999.0000,  -999.00,9,   0.8107
  77DN20020420,   GNS,    50,  1,     13,2,20020517,1836, 74.9942, -11.2837, 2508,    175.3,   0.9184,  34.9124,2,  34.9071,2,    310.0,2,     5.94,2,    12.22,2,     0.02,2,     0.84,2, -999.000,9, -999.000,9,    0.385,3,    5.689,3,     -999,9,   2145.0,2,   2299.3,2,   7.7247,    25.00,2,   0.9105
  77DN20020420,   GNS,    50,  1,     12,2,20020517,1836, 74.9942, -11.2837, 2508,    223.5,   1.1338,  34.9433,2,  34.9390,2,    312.0,2,     5.74,2,    12.08,2,     0.02,2,     0.83,2, -999.000,9, -999.000,9,    0.306,3,    4.868,3,      1.3,2,   2146.8,2,   2298.4,2,   7.7256,    25.00,2,   1.1232
  77DN20020420,   GNS,    50,  1,     11,2,20020517,1836, 74.9942, -11.2837, 2508,    273.8,   0.9308,  34.9366,2,  34.9292,2,    310.9,2,     5.85,2,    12.16,2,     0.02,2,     0.85,2, -999.000,9, -999.000,9,    0.382,3,    4.620,3,     1.45,2,   2146.6,2,   2299.1,2,   7.7227,    25.00,2,   0.9182
  77DN20020420,   GNS,    50,  1,     10,2,20020517,1836, 74.9942, -11.2837, 2508,    349.7,   0.5004,  34.9196,2,  34.9122,2,    313.0,2,     5.99,2,    12.43,2,     0.02,2,     0.86,2, -999.000,9, -999.000,9,    0.328,3,    4.261,3,     1.22,2,   2154.1,2,   2297.5,2,   7.7170,    25.00,2,   0.4854
  77DN20020420,   GNS,    50,  1,      9,2,20020517,1836, 74.9942, -11.2837, 2508,    451.6,   0.2798,  34.9268,2,  34.9193,2,    314.8,2,     6.14,2,    12.39,2,     0.02,2,     0.86,2, -999.000,9, -999.000,9,    0.305,3,    3.816,3,     1.27,2,   2152.6,2,   2297.9,2,   7.7102,    25.00,2,   0.2608
  77DN20020420,   GNS,    50,  1,      8,2,20020517,1836, 74.9942, -11.2837, 2508,    601.3,  -0.0585,  34.9179,2,  34.9111,2,    319.8,2,     6.33,2,    12.69,2,     0.02,2,     0.88,2, -999.000,9, -999.000,9,    0.306,3,    3.357,3,     1.58,2,   2153.0,2,   2298.3,2,   7.7054,    25.00,2,  -0.0829
  77DN20020420,   GNS,    50,  1,      7,2,20020517,1836, 74.9942, -11.2837, 2508,    750.6,  -0.2920,  34.9119,2,  34.9041,2,    320.8,2,     6.60,2,    12.69,2,     0.02,2,     0.88,2, -999.000,9, -999.000,9,    0.276,3,    2.245,3,     2.04,2,   2155.5,2,   2296.7,2,   7.6996,    25.00,2,  -0.3220
  77DN20020420,   GNS,    50,  1,      6,2,20020517,1836, 74.9942, -11.2837, 2508,   1000.3,  -0.6933,  34.8918,2,  34.8848,2,    325.6,2,     6.77,2,    12.74,2,     0.03,2,     0.89,2, -999.000,9, -999.000,9,    0.248,3,    2.065,3,     2.97,2,   2159.0,2,   2295.0,2,   7.6948,    25.00,2,  -0.7322
  77DN20020420,   GNS,    50,  1,      5,2,20020517,1836, 74.9942, -11.2837, 2508,   1400.2,  -0.7153,  34.9090,2,  34.9006,2,    301.6,2,     9.75,2,    13.94,2,     0.02,2,     0.96,2, -999.000,9, -999.000,9,    0.217,3,    1.509,3,     1.03,2,   2154.3,2,   2297.3,2,   7.7034,    25.00,2,  -0.7746
  77DN20020420,   GNS,    50,  1,      4,2,20020517,1836, 74.9942, -11.2837, 2508,   1800.3,  -0.8390,  34.9106,2,  34.9024,2,    298.7,2,    11.24,2,    14.51,2,     0.02,2,     0.99,2, -999.000,9, -999.000,9,    0.193,3,    0.753,3,     0.45,2,   2155.4,2,   2297.6,2,   7.6986,    25.00,2,  -0.9199
  77DN20020420,   GNS,    50,  1,      3,2,20020517,1836, 74.9942, -11.2837, 2508,   2202.2,  -0.8822,  34.9122,2,  34.9024,2,    300.4,2,    11.19,2,    14.36,2,     0.02,2,     0.97,2, -999.000,9, -999.000,9,    0.148,3,    0.577,3,     0.39,2,   2152.5,2,   2298.7,2,   7.7015,    25.00,2,  -0.9881
  77DN20020420,   GNS,    50,  1,      2,2,20020517,1836, 74.9942, -11.2837, 2508,   2372.3,  -0.9036,  34.9102,2,  34.9010,2,    300.9,2,    11.51,2,    14.38,2,     0.02,2,     0.98,2, -999.000,9, -999.000,9,    0.157,3,    0.614,3,        0,2,   2156.0,2,   2299.0,2,   7.7015,    25.00,2,  -1.0208
  77DN20020420,   GNS,    50,  1,      1,2,20020517,1836, 74.9942, -11.2837, 2508,   2471.4,  -0.9659,  34.9041,2,  34.8945,2,    303.8,2,    11.64,2,    14.19,2,     0.02,2,     0.99,2, -999.000,9, -999.000,9,    0.154,3,    0.600,3,     0.39,2,   2158.4,2,   2299.6,2,   7.6996,    25.00,2,  -1.0888