BOTTLE,20090507PRINUNIVRMK
EXPOCODE,SECT_ID,STNNBR,CASTNO,BTLNBR,BTLNBR_FLAG_W,DATE,TIME,LATITUDE,LONGITUDE,DEPTH,CTDPRS,CTDTMP,CTDSAL,CTDSAL_FLAG_W,SALNTY,SALNTY_FLAG_W,OXYGEN,OXYGEN_FLAG_W,SILCAT,SILCAT_FLAG_W,NITRAT,NITRAT_FLAG_W,NITRIT,NITRIT_FLAG_W,PHSPHT,PHSPHT_FLAG_W,CFC-11,CFC-11_FLAG_W,CFC-12,CFC-12_FLAG_W,CFC113,CFC113_FLAG_W,CCL4,CCL4_FLAG_W,SF6,SF6_FLAG_W,TCARBN,TCARBN_FLAG_W,ALKALI,ALKALI_FLAG_W,PH_SWS,PH_TEMP,PH_SWS_FLAG_W,THETA
,,,,,,,,,,METERS,DBARS,ITS-90,PSS-78,,PSS-78,,UMOL/KG,,UMOL/KG,,UMOL/KG,,UMOL/KG,,UMOL/KG,,PMOL/KG,,PMOL/KG,,PMOL/KG,,PMOL/KG,,FMOL/KG,,UMOL/KG,,UMOL/KG,,,DEGC,,DEGC
  77DN20020420,   GNS,    28,  1,     23,2,20020509,1945, 81.2952,  -8.9462,  472,      2.9,  -1.7092,  31.9673,2,  31.9664,2,    391.8,2,     6.39,2,     2.74,2,     0.00,2,     0.79,2, -999.000,9, -999.000,9, -999.000,9, -999.000,9,     -999,9,   2087.0,2,   2226.6,2,   7.7091,    25.00,2,  -1.7092
  77DN20020420,   GNS,    28,  1,     22,2,20020509,1945, 81.2952,  -8.9462,  472,      9.5,  -1.7096,  31.9672,2,  32.0446,2,    393.0,2,     6.50,2,     2.75,2,     0.00,2,     0.79,2, -999.000,9, -999.000,9, -999.000,9, -999.000,9,     -999,9,   2091.0,2,   2228.6,2,   7.7091,    25.00,2,  -1.7097
  77DN20020420,   GNS,    28,  1,     19,2,20020509,1945, 81.2952,  -8.9462,  472,     19.6,  -1.7106,  31.9664,2,  31.9652,2,    391.9,2,     6.32,2,     2.75,2,     0.00,2,     0.78,2, -999.000,9, -999.000,9, -999.000,9, -999.000,9,     1.78,2,   2087.6,2,   2226.9,2,   7.7091,    25.00,2,  -1.7109
  77DN20020420,   GNS,    28,  1,     18,2,20020509,1945, 81.2952,  -8.9462,  472,     29.8,  -1.7122,  31.9657,2,-999.0000,9,    392.0,2,     6.35,2,     2.77,2,     0.00,2,     0.79,2,    8.930,2,    4.160,2,    0.693,3,    8.027,3,     -999,9,   2087.1,2,   2226.5,2,   7.7082,    25.00,2,  -1.7127
  77DN20020420,   GNS,    28,  1,     17,2,20020509,1945, 81.2952,  -8.9462,  472,     50.1,  -1.7411,  32.0107,2,  34.0635,2,    389.6,2,     6.60,2,     2.80,2,     0.00,2,     0.75,2,    8.950,2,    4.190,2,    0.680,3,    7.986,3,     1.85,2,   2097.3,2,   2230.8,2,   7.6960,    25.00,2,  -1.7421
  77DN20020420,   GNS,    28,  1,     16,2,20020509,1945, 81.2952,  -8.9462,  472,     74.8,  -1.5601,  33.2159,2,  33.2773,2,    340.0,2,    10.85,2,     7.35,2,     0.00,2,     0.77,2,    7.290,2,    3.480,2,    0.512,3,    5.536,3,     -999,9,   2146.7,2,   2262.5,2,   7.6501,    25.00,2,  -1.5616
  77DN20020420,   GNS,    28,  1,     14,2,20020509,1945, 81.2952,  -8.9462,  472,    101.5,  -1.4319,  33.9214,2,  33.9273,2,    331.4,2,     7.78,2,     8.09,2,     0.00,2,     0.70,2,    6.340,2,    3.070,2,    0.446,3,    5.238,3,     1.13,2,   2143.9,2,   2276.0,2,   7.6768,    25.00,2,  -1.4342
  77DN20020420,   GNS,    28,  1,     13,2,20020509,1945, 81.2952,  -8.9462,  472,    125.2,  -1.0246,  34.2004,2,  34.2124,2,    317.4,2,     7.33,2,     9.29,2,     0.00,2,     0.72,2,    5.250,2,    2.610,2,    0.360,3,    4.633,3,     -999,9,   2143.8,2,   2280.4,2,   7.6844,    25.00,2,  -1.0279
  77DN20020420,   GNS,    28,  1,     12,2,20020509,1945, 81.2952,  -8.9462,  472,    149.7,  -0.7380,  34.4143,2,  34.4143,2,    308.6,2,     7.02,2,    10.34,2,     0.00,2,     0.75,2,    4.340,2,    2.250,2,    0.626,3,    4.352,3,     -999,9,   2139.7,2,   2281.0,2,   7.6920,    25.00,2,  -0.7425
  77DN20020420,   GNS,    28,  1,     10,2,20020509,1945, 81.2952,  -8.9462,  472,    199.9,   0.5840,  34.7521,2,  34.7478,2,    290.9,2,     7.76,2,    12.73,2,     0.00,2,     0.87,2,    3.010,2,    1.560,2,    0.208,3,    4.066,3,      0.8,2,   2146.5,2,   2286.4,2,   7.7035,    25.00,2,   0.5756
  77DN20020420,   GNS,    28,  1,      9,2,20020509,1945, 81.2952,  -8.9462,  472,    249.3,   0.5793,  34.8016,2,  34.7948,2,    293.6,2,     7.36,2,    12.97,2,     0.00,2,     0.86,2,    2.890,2,    1.490,2,    0.135,3,    4.140,3,     0.68,2,   2144.0,2,   2289.4,2,   7.7102,    25.00,2,   0.5687
  77DN20020420,   GNS,    28,  1,      7,2,20020509,1945, 81.2952,  -8.9462,  472,    300.3,   0.6128,  34.8305,2,  34.8239,2,    294.2,2,     7.25,2,    12.83,2,     0.00,2,     0.88,2,    2.780,2,    1.440,2,    0.379,3,    4.065,3,     0.46,2,   2144.9,2,   2294.6,2,   7.7151,    25.00,2,   0.5998
  77DN20020420,   GNS,    28,  1,      6,2,20020509,1945, 81.2952,  -8.9462,  472,    400.0,   0.5363,  34.8517,2,  34.8438,2,    295.7,2,     7.07,2,    13.06,2,     0.00,2,     0.86,2,    2.470,2,    1.250,2,    0.173,3,    3.771,3,     0.49,2,   2141.9,2,   2293.4,2,   7.7170,    25.00,2,   0.5188
  77DN20020420,   GNS,    28,  1,      5,2,20020509,1945, 81.2952,  -8.9462,  472,    416.8,   0.5203,  34.8536,2,  34.8473,2,    293.6,2,     7.15,2,    13.02,2,     0.00,2,     0.87,2,    2.380,2,    1.210,2,    0.175,3,    3.732,3,     0.48,2,   2144.3,2,   2294.0,2,   7.7170,    25.00,2,   0.5021
  77DN20020420,   GNS,    28,  1,      4,2,20020509,1945, 81.2952,  -8.9462,  472,    476.1,   0.4209,  34.8633,2,  34.8582,2,    294.5,2,     7.09,2,    13.00,2,     0.00,2,     0.87,2, -999.000,9, -999.000,9, -999.000,9, -999.000,9,     0.48,2,   2144.9,2,   2294.2,2,   7.7208,    25.00,2,   0.4002
  77DN20020420,   GNS,    29,  1,     22,2,20020509,2240, 81.2653,  -8.9705,  324,      4.5,  -1.6994,  31.9978,2,  34.0834,2,    391.7,2,     6.47,2,     2.80,2,     0.00,2,     0.79,2, -999.000,9, -999.000,9,    0.727,3,   10.045,3,     1.79,2,   2086.8,2,   2224.7,2,   7.7076,    25.00,2,  -1.6995
  77DN20020420,   GNS,    29,  1,     21,2,20020509,2240, 81.2653,  -8.9705,  324,      9.9,  -1.6983,  31.9962,2,  34.0839,2,    390.9,2,     6.41,2,     2.80,2,     0.00,2,     0.79,2, -999.000,9, -999.000,9, -999.000,9, -999.000,9,     -999,9,   2089.2,2,   2230.5,2,   7.7095,    25.00,2,  -1.6985
  77DN20020420,   GNS,    29,  1,     18,2,20020509,2240, 81.2653,  -8.9705,  324,     20.1,  -1.7245,  32.0064,2,  34.0704,2,    388.8,2,     6.57,2,     2.89,2,     0.00,2,     0.79,2, -999.000,9, -999.000,9,    0.456,3,    9.085,3,      1.9,2,   2090.2,2,   2227.9,2,   7.7066,    25.00,2,  -1.7249
  77DN20020420,   GNS,    29,  1,     17,2,20020509,2240, 81.2653,  -8.9705,  324,     29.7,  -1.7340,  32.0247,2,  34.0535,2,    388.2,2,     6.61,2,     2.90,2,     0.00,2,     0.78,2, -999.000,9, -999.000,9, -999.000,9, -999.000,9,     -999,9,   2093.6,2,   2230.5,2,   7.7057,    25.00,2,  -1.7346
  77DN20020420,   GNS,    29,  1,     12,2,20020509,2240, 81.2653,  -8.9705,  324,     49.7,  -1.7448,  32.0753,2,  34.0006,2,    386.1,2,     6.73,2,     3.10,2,     0.00,2,     0.77,2, -999.000,9, -999.000,9,    0.743,3,    8.823,3,     2.02,2,   2097.1,2,   2230.8,2,   7.6999,    25.00,2,  -1.7458
  77DN20020420,   GNS,    29,  1,     11,2,20020509,2240, 81.2653,  -8.9705,  324,     75.0,  -1.6289,  32.9593,2,  33.0673,2,    348.9,2,    10.27,2,     6.55,2,     0.00,2,     0.77,2, -999.000,9, -999.000,9,    0.534,3,    6.853,3,     -999,9,   2137.0,2,   2259.6,2,   7.6569,    25.00,2,  -1.6303
  77DN20020420,   GNS,    29,  1,     10,2,20020509,2240, 81.2653,  -8.9705,  324,     99.9,  -1.6632,  33.6528,2,  33.6679,2,    337.8,2,     9.24,2,     7.50,2,     0.00,2,     0.73,2, -999.000,9, -999.000,9,    0.575,3,    5.452,3,      1.6,2,   2146.9,2,   2276.6,2,   7.6672,    25.00,2,  -1.6652
  77DN20020420,   GNS,    29,  1,      9,2,20020509,2240, 81.2653,  -8.9705,  324,    125.2,  -1.4987,  34.1081,2,  34.1120,2,    330.8,2,     6.15,2,     7.98,2,     0.00,2,     0.66,2, -999.000,9, -999.000,9,    0.281,3,    5.524,3,     1.13,2,   2139.5,2,   2283.1,2,   7.6979,    25.00,2,  -1.5015
  77DN20020420,   GNS,    29,  1,      8,2,20020509,2240, 81.2653,  -8.9705,  324,    150.7,  -0.3153,  34.4973,2,  34.4959,2,    296.6,2,     7.80,2,    11.42,2,     0.00,2,     0.82,2, -999.000,9, -999.000,9,    0.050,3,    4.376,3,     0.45,2,   2143.3,2,   2284.4,2,   7.6891,    25.00,2,  -0.3204
  77DN20020420,   GNS,    29,  1,      3,2,20020509,2240, 81.2653,  -8.9705,  324,    200.8,   0.7038,  34.8034,2,  34.8028,2,    291.3,2,     7.37,2,    12.87,2,     0.00,2,     0.87,2, -999.000,9, -999.000,9,    0.171,3,    4.432,3,      0.3,2,   2137.8,2,   2292.2,2,   7.7131,    25.00,2,   0.6951
  77DN20020420,   GNS,    29,  1,      2,2,20020509,2240, 81.2653,  -8.9705,  324,    285.1,   0.5851,  34.8243,2,  34.8229,2,    293.8,2,     7.20,2,    13.00,2,     0.00,2,     0.87,2, -999.000,9, -999.000,9,    0.048,3,    3.483,3,     0.56,2,   2141.6,2,   2292.4,2,   7.7141,    25.00,2,   0.5728
  77DN20020420,   GNS,    29,  1,      1,2,20020509,2240, 81.2653,  -8.9705,  324,    335.5,   0.6045,  34.8390,2,  34.8331,2,    293.1,2,     7.13,2,    13.06,2,     0.00,2,     0.87,2, -999.000,9, -999.000,9,    0.048,3,    4.159,3,     0.53,2,   2139.6,2,   2292.2,2,   7.7160,    25.00,2,   0.5899
  77DN20020420,   GNS,    30,  1,     17,2,20020510, 154, 81.2820,  -9.1033,  170,      2.1,  -1.7184,  31.9746,2,  34.1059,2,    390.0,2,     6.28,2,     2.70,2,     0.00,2,     0.77,2, -999.000,9, -999.000,9, -999.000,9, -999.000,9,     -999,9,   2089.1,2,   2222.5,2,   7.7105,    25.00,2,  -1.7184
  77DN20020420,   GNS,    30,  1,     16,2,20020510, 154, 81.2820,  -9.1033,  170,      9.4,  -1.7216,  31.9757,2,  34.1044,2,    392.6,2,     6.42,2,     2.70,2,     0.00,2,     0.77,2, -999.000,9, -999.000,9, -999.000,9, -999.000,9,     -999,9,   2092.5,2,   2233.7,2,   7.7105,    25.00,2,  -1.7218
  77DN20020420,   GNS,    30,  1,     13,2,20020510, 154, 81.2820,  -9.1033,  170,     19.9,  -1.7357,  31.9935,2,  34.0714,2,    391.7,2,     6.45,2,     2.81,2,     0.00,2,     0.76,2, -999.000,9, -999.000,9, -999.000,9, -999.000,9,     -999,9,   2094.9,2,   2235.1,2,   7.7057,    25.00,2,  -1.7361
  77DN20020420,   GNS,    30,  1,     12,2,20020510, 154, 81.2820,  -9.1033,  170,     30.2,  -1.7369,  32.0250,2,  34.0537,2,    389.9,2,     6.62,2,     2.88,2,     0.00,2,     0.76,2, -999.000,9, -999.000,9, -999.000,9, -999.000,9,     -999,9,   2098.1,2,   2234.8,2,   7.7057,    25.00,2,  -1.7375
  77DN20020420,   GNS,    30,  1,     10,2,20020510, 154, 81.2820,  -9.1033,  170,     40.6,  -1.7356,  32.0366,2,  34.0435,2,    386.2,2,     6.43,2,     3.00,2,     0.00,2,     0.77,2, -999.000,9, -999.000,9, -999.000,9, -999.000,9,     -999,9,   2091.6,2,   2235.8,2,   7.7037,    25.00,2,  -1.7364
  77DN20020420,   GNS,    30,  1,      9,2,20020510, 154, 81.2820,  -9.1033,  170,     49.5,  -1.7489,  32.0679,2,  34.0088,2,    386.4,2,     6.81,2,     3.27,2,     0.00,2,     0.76,2, -999.000,9, -999.000,9, -999.000,9, -999.000,9,     -999,9,   2098.8,2,   2237.8,2,   7.6989,    25.00,2,  -1.7499
  77DN20020420,   GNS,    30,  1,      8,2,20020510, 154, 81.2820,  -9.1033,  170,     60.0,  -1.7446,  32.1852,2,  33.8692,2,    372.7,2,     7.61,2,     3.98,2,     0.00,2,     0.70,2, -999.000,9, -999.000,9, -999.000,9, -999.000,9,     -999,9,   2110.8,2,   2243.0,2,   7.6787,    25.00,2,  -1.7457
  77DN20020420,   GNS,    30,  1,      6,2,20020510, 154, 81.2820,  -9.1033,  170,     80.1,  -1.6010,  33.0321,2,  33.0581,2,    344.7,2,    11.25,2,     7.15,2,     0.00,2,     0.80,2, -999.000,9, -999.000,9, -999.000,9, -999.000,9,     -999,9,   2139.4,2,   2258.5,2,   7.6511,    25.00,2,  -1.6025
  77DN20020420,   GNS,    30,  1,      4,2,20020510, 154, 81.2820,  -9.1033,  170,    100.9,  -1.6600,  33.6804,2,  33.6728,2,    336.0,2,     8.86,2,     7.50,2,     0.00,2,     0.71,2, -999.000,9, -999.000,9, -999.000,9, -999.000,9,     -999,9,   2143.9,2,   2279.1,2,   7.6730,    25.00,2,  -1.6620
  77DN20020420,   GNS,    30,  1,      3,2,20020510, 154, 81.2820,  -9.1033,  170,    130.1,  -1.1144,  34.1475,2,  34.1489,2,    318.3,2,     7.63,2,     9.44,2,     0.00,2,     0.74,2, -999.000,9, -999.000,9, -999.000,9, -999.000,9,     -999,9,   2144.1,2,   2284.9,2,   7.6854,    25.00,2,  -1.1178
  77DN20020420,   GNS,    30,  1,      2,2,20020510, 154, 81.2820,  -9.1033,  170,    150.3,  -0.3681,  34.4798,2,  34.4854,2,    296.8,2,     7.84,2,    11.49,2,     0.00,2,     0.82,2, -999.000,9, -999.000,9, -999.000,9, -999.000,9,     -999,9,   2145.0,2,   2289.6,2,   7.6910,    25.00,2,  -0.3731
  77DN20020420,   GNS,    30,  1,      1,2,20020510, 154, 81.2820,  -9.1033,  170,    160.6,   0.2184,  34.6635,2,  34.6446,2,    291.2,2,     8.02,2,    12.45,2,     0.00,2,     0.85,2, -999.000,9, -999.000,9, -999.000,9, -999.000,9,     -999,9,   2144.5,2,   2292.1,2,   7.6997,    25.00,2,   0.2122
  77DN20020420,   GNS,    31,  1,     16,2,20020510, 456, 81.3137,  -9.4697,  118,      3.3,  -1.7354,  32.0456,2,  32.0438,2,    388.3,2,     6.68,2,     2.91,2,     0.00,2,     0.76,2,    8.910,2,    4.190,2,    0.701,3,    7.873,3,     -999,9,   2095.3,2,   2229.0,2,   7.7091,    25.00,2,  -1.7354
  77DN20020420,   GNS,    31,  1,     12,2,20020510, 456, 81.3137,  -9.4697,  118,     10.0,  -1.7342,  32.0466,2,  32.0488,2,    388.1,2,     6.86,2,     2.90,2,     0.00,2,     0.76,2,    9.040,2,    4.230,2,    0.717,3,    7.990,3,     -999,9,   2097.7,2,   2223.3,2,   7.7072,    25.00,2,  -1.7344
  77DN20020420,   GNS,    31,  1,     11,2,20020510, 456, 81.3137,  -9.4697,  118,     20.4,  -1.7381,  32.0545,2,  32.0504,2,    387.9,2,     6.73,2,     2.93,2,     0.00,2,     0.76,2,    8.830,2,    4.190,2,    0.704,3,    7.837,3,     -999,9,   2095.6,2,   2235.5,2,   7.7072,    25.00,2,  -1.7384
  77DN20020420,   GNS,    31,  1,      9,2,20020510, 456, 81.3137,  -9.4697,  118,     29.9,  -1.7402,  32.0589,2,  32.0592,2,    387.0,2,     6.62,2,     3.00,2,     0.00,2,     0.76,2,    8.830,2,    4.190,2,    0.693,3,    7.805,3,     -999,9,   2097.0,2,   2226.1,2,   7.7053,    25.00,2,  -1.7407
  77DN20020420,   GNS,    31,  1,      8,2,20020510, 456, 81.3137,  -9.4697,  118,     40.0,  -1.7532,  32.0916,2,  32.0924,2,    384.3,2,     7.07,2,     3.18,2,     0.00,2,     0.75,2,    8.960,2,    4.160,2,    0.709,3,    7.726,3,     -999,9,   2097.9,2,   2228.1,2,   7.7014,    25.00,2,  -1.7538
  77DN20020420,   GNS,    31,  1,      7,2,20020510, 456, 81.3137,  -9.4697,  118,     49.9,  -1.7566,  32.1252,2,  32.1282,2,    387.0,2,     7.16,2,     3.25,2,     0.00,2,     0.75,2,    8.890,2,    4.190,2,    0.697,3,    7.864,3,     -999,9,   2101.5,2,   2228.6,2,   7.6985,    25.00,2,  -1.7574
  77DN20020420,   GNS,    31,  1,      5,2,20020510, 456, 81.3137,  -9.4697,  118,     59.9,  -1.7487,  32.1528,2,  32.1579,2,    380.5,2,     7.31,2,     3.47,2,     0.00,2,     0.73,2,    8.890,2,    4.190,2,    0.704,3,    7.768,3,     -999,9,   2109.7,2,   2241.1,2,   7.6937,    25.00,2,  -1.7496
  77DN20020420,   GNS,    31,  1,      4,2,20020510, 456, 81.3137,  -9.4697,  118,     79.9,  -1.6195,  32.9786,2,  33.0190,2,    344.4,2,    10.85,2,     6.84,2,     0.00,2,     0.79,2, -999.000,9, -999.000,9, -999.000,9, -999.000,9,     -999,9,   2135.1,2,   2262.8,2,   7.6550,    25.00,2,  -1.6210
  77DN20020420,   GNS,    31,  1,      2,2,20020510, 456, 81.3137,  -9.4697,  118,    100.3,  -1.6738,  33.6565,2,  33.6497,2,    340.5,2,     8.55,2,     6.98,2,     0.00,2,     0.68,2,    7.240,2,    3.490,2,    0.508,3,    5.864,3,     -999,9,   2142.5,2,   2280.2,2,   7.6768,    25.00,2,  -1.6758
  77DN20020420,   GNS,    31,  1,      1,2,20020510, 456, 81.3137,  -9.4697,  118,    118.7,  -1.3531,  34.0188,2,  34.0084,2,    329.5,2,     7.36,2,     8.21,2,     0.00,2,     0.69,2,    6.090,2,    3.010,2,    0.424,3,    5.152,3,     -999,9,   2142.1,2,   2282.2,2,   7.6912,    25.00,2,  -1.3559