BOTTLE,20090507PRINUNIVRMK
EXPOCODE,SECT_ID,STNNBR,CASTNO,BTLNBR,BTLNBR_FLAG_W,DATE,TIME,LATITUDE,LONGITUDE,DEPTH,CTDPRS,CTDTMP,CTDSAL,CTDSAL_FLAG_W,SALNTY,SALNTY_FLAG_W,OXYGEN,OXYGEN_FLAG_W,SILCAT,SILCAT_FLAG_W,NITRAT,NITRAT_FLAG_W,NITRIT,NITRIT_FLAG_W,PHSPHT,PHSPHT_FLAG_W,CFC-11,CFC-11_FLAG_W,CFC-12,CFC-12_FLAG_W,CFC113,CFC113_FLAG_W,CCL4,CCL4_FLAG_W,SF6,SF6_FLAG_W,TCARBN,TCARBN_FLAG_W,ALKALI,ALKALI_FLAG_W,PH_SWS,PH_TEMP,PH_SWS_FLAG_W,THETA
,,,,,,,,,,METERS,DBARS,ITS-90,PSS-78,,PSS-78,,UMOL/KG,,UMOL/KG,,UMOL/KG,,UMOL/KG,,UMOL/KG,,PMOL/KG,,PMOL/KG,,PMOL/KG,,PMOL/KG,,FMOL/KG,,UMOL/KG,,UMOL/KG,,,DEGC,,DEGC
  77DN20020420,   GNS,     9,  1,     18,2,20020429,1609, 76.4585,  14.2930,  780,      8.4,   5.2862,  34.9857,2,  35.0167,2,    301.5,2,     4.03,2,    10.72,2,     0.07,2,     0.70,2,    4.640,2,    2.700,2,    0.494,3,    5.349,3,     -999,9,   2127.1,2,   2320.8,2,   7.7876,    25.00,2,   5.2855
  77DN20020420,   GNS,     9,  1,     17,2,20020429,1609, 76.4585,  14.2930,  780,     19.7,   5.2945,  34.9929,2,  35.0092,2,    301.6,2,     4.00,2,    10.69,2,     0.07,2,     0.70,2,    4.620,2,    2.710,2,    0.453,3,    5.366,3,      1.2,2,   2126.8,2,   2321.3,2,   7.7896,    25.00,2,   5.2929
  77DN20020420,   GNS,     9,  1,     16,2,20020429,1609, 76.4585,  14.2930,  780,     30.3,   5.3257,  35.0071,2,  35.0075,2,    302.5,2,     4.03,2,    10.67,2,     0.07,2,     0.70,2,    4.620,2,    2.710,2,    0.432,3,    5.548,3,     -999,9,   2139.0,2,   2320.5,2,   7.7886,    25.00,2,   5.3233
  77DN20020420,   GNS,     9,  1,     15,2,20020429,1609, 76.4585,  14.2930,  780,     40.6,   5.4006,  35.0436,2,  35.0431,2,    302.3,2,     4.02,2,    10.71,2,     0.07,2,     0.71,2,    4.640,2,    2.710,2,    0.491,3,    5.429,3,     1.17,2,   2137.7,2,   2324.3,2,   7.7876,    25.00,2,   5.3973
  77DN20020420,   GNS,     9,  1,     14,2,20020429,1609, 76.4585,  14.2930,  780,     50.7,   5.3063,  35.0644,2,  35.0626,2,    300.7,2,     4.10,2,    10.98,2,     0.07,2,     0.72,2,    4.490,2,    2.720,2,    0.504,3,    5.426,3,      1.2,2,   2141.1,2,   2325.7,2,   7.7828,    25.00,2,   5.3023
  77DN20020420,   GNS,     9,  1,     13,2,20020429,1609, 76.4585,  14.2930,  780,     75.7,   5.2285,  35.0761,2,  35.0762,2,    301.3,2,     4.13,2,    11.09,2,     0.07,2,     0.73,2,    4.640,2,    2.720,2,    0.460,3,    5.466,3,      1.1,2,   2145.2,2,   2326.2,2,   7.7818,    25.00,2,   5.2225
  77DN20020420,   GNS,     9,  1,     12,2,20020429,1609, 76.4585,  14.2930,  780,    101.8,   5.1464,  35.0864,2,  35.0848,2,    300.9,2,     4.18,2,    11.21,2,     0.07,2,     0.74,2,    4.690,2,    2.730,2,    0.482,3,    5.383,3,     1.34,2,   2141.7,2,   2325.2,2,   7.7818,    25.00,2,   5.1384
  77DN20020420,   GNS,     9,  1,     11,2,20020429,1609, 76.4585,  14.2930,  780,    153.9,   5.0874,  35.0892,2,  35.0880,2,    302.3,2,     4.18,2,    11.30,2,     0.07,2,     0.74,2,    4.540,2,    2.690,2,    0.403,3,    5.296,3,     1.21,2,   2146.2,2,   2323.5,2,   7.7799,    25.00,2,   5.0753
  77DN20020420,   GNS,     9,  1,     10,2,20020429,1609, 76.4585,  14.2930,  780,    204.6,   4.9787,  35.1009,2,  35.0992,2,    298.2,2,     4.29,2,    11.70,2,     0.04,2,     0.76,2,    4.690,2,    2.730,2,    0.394,3,    5.207,3,     1.33,2,   2146.3,2,   2324.5,2,   7.7750,    25.00,2,   4.9627
  77DN20020420,   GNS,     9,  1,      9,2,20020429,1609, 76.4585,  14.2930,  780,    304.7,   4.5138,  35.0953,2,  35.0955,2,    304.7,2,     4.34,2,    11.19,2,     0.05,2,     0.74,2,    4.890,2,    2.830,2,    0.423,3,    5.099,3,     1.31,2,   2144.9,2,   2325.2,2,   7.7779,    25.00,2,   4.4908
  77DN20020420,   GNS,     9,  1,      8,2,20020429,1609, 76.4585,  14.2930,  780,    400.6,   4.0084,  35.0833,2,  35.0835,2,    300.6,2,     4.46,2,    12.03,2,     0.01,2,     0.79,2,    4.810,2,    2.800,2,    0.359,3,    5.113,3,      1.4,2,   2145.6,2,   2323.1,2,   7.7614,    25.00,2,   3.9795
  77DN20020420,   GNS,     9,  1,      7,2,20020429,1609, 76.4585,  14.2930,  780,    499.7,   3.3940,  35.0588,2,  35.0583,2,    302.5,2,     4.70,2,    12.25,2,     0.00,2,     0.81,2,    4.980,2,    2.830,2,    0.422,3,    5.183,3,     1.67,2,   2152.4,2,   2321.5,2,   7.7517,    25.00,2,   3.3600
  77DN20020420,   GNS,     9,  1,      6,2,20020429,1609, 76.4585,  14.2930,  780,    598.7,   2.9725,  35.0417,2,  35.0415,2,    307.2,2,     4.69,2,    12.18,2,     0.00,2,     0.80,2, -999.000,9,    2.870,2,    0.412,3,    4.729,3,      1.2,2,   2152.5,2,   2318.1,2,   7.7479,    25.00,2,   2.9333
  77DN20020420,   GNS,     9,  1,      5,2,20020429,1609, 76.4585,  14.2930,  780,    647.6,   2.5384,  35.0101,2,  35.0092,2,    310.2,2,     4.59,2,    11.74,2,     0.00,2,     0.78,2,    5.180,2,    2.960,2,    0.400,3,    4.939,3,     1.19,2,   2156.4,2,   2317.2,2,   7.7450,    25.00,2,   2.4980
  77DN20020420,   GNS,     9,  1,      4,2,20020429,1609, 76.4585,  14.2930,  780,    699.7,   2.3759,  35.0092,2,  35.0079,2,    307.5,2,     4.94,2,    12.14,2,     0.00,2,     0.80,2,    5.110,2,    2.850,2,    0.410,3,    4.430,3,     1.13,2,   2153.2,2,   2318.0,2,   7.7401,    25.00,2,   2.3329
  77DN20020420,   GNS,     9,  1,      3,2,20020429,1609, 76.4585,  14.2930,  780,    749.4,   2.2519,  35.0025,2,  35.0033,2,    307.9,2,     5.18,2,    12.21,2,     0.00,2,     0.81,2,    4.910,2,    2.780,2,    0.401,3,    4.256,3,     -999,9,   2155.7,2,   2316.4,2,   7.7372,    25.00,2,   2.2063
  77DN20020420,   GNS,     9,  1,      2,2,20020429,1609, 76.4585,  14.2930,  780,    757.7,   2.2403,  35.0024,2,  35.0034,2,   -999.0,2,     5.13,2,    12.20,2,     0.00,2,     0.80,2,    4.890,2,    2.800,2,    0.386,3,    4.235,3,     1.12,2,   2154.7,2,   2316.9,2,   7.7362,    25.00,2,   2.1942
  77DN20020420,   GNS,     9,  1,      1,2,20020429,1609, 76.4585,  14.2930,  780,    765.2,   2.2266,  35.0013,2,  35.0022,2,    307.2,2,     5.17,2,    12.22,2,     0.00,2,     0.80,2,    4.940,2,    2.790,2,    0.377,3,    4.289,3,     1.21,2,   2158.4,2,   2317.4,2,   7.7343,    25.00,2,   2.1801
  77DN20020420,   GNS,    10,  1,     12,2,20020501,1309, 81.0095,  18.3603,  198,     10.0,  -1.5814,  34.3699,2,  34.3666,2,    345.0,2,     3.98,2,    10.16,2,     0.01,2,     0.69,2, -999.000,9, -999.000,9,    0.532,3,   10.894,3,     -999,9,   2105.9,2,   2263.5,2,   7.7520,    25.00,2,  -1.5816
  77DN20020420,   GNS,    10,  1,     10,2,20020501,1309, 81.0095,  18.3603,  198,     20.4,  -1.5541,  34.3754,2,  34.3756,2,    344.4,2,     4.02,2,    10.20,2,     0.01,2,     0.69,2, -999.000,9, -999.000,9,    0.514,3,   11.476,3,     1.58,2,   2102.4,2,   2266.2,2,   7.7539,    25.00,2,  -1.5545
  77DN20020420,   GNS,    10,  1,      9,2,20020501,1309, 81.0095,  18.3603,  198,     29.9,  -1.4201,  34.3991,2,  34.4086,2,    344.4,2,     4.03,2,    10.28,2,     0.02,2,     0.70,2, -999.000,9, -999.000,9,    0.617,3,   11.115,3,     -999,9,   2107.5,2,   2268.0,2,   7.7529,    25.00,2,  -1.4208
  77DN20020420,   GNS,    10,  1,      8,2,20020501,1309, 81.0095,  18.3603,  198,     40.0,   0.4158,  34.6686,2,  34.6803,2,    331.2,2,     4.17,2,    11.13,2,     0.03,2,     0.75,2, -999.000,9, -999.000,9,    0.514,3,   10.010,3,     1.54,2,   2127.7,2,   2284.2,2,   7.7519,    25.00,2,   0.4142
  77DN20020420,   GNS,    10,  1,      7,2,20020501,1309, 81.0095,  18.3603,  198,     51.0,   0.6280,  34.7236,2,  34.7368,2,    328.7,2,     4.21,2,    11.13,2,     0.03,2,     0.77,2, -999.000,9, -999.000,9,    0.322,3,   10.154,3,     1.56,2,   2127.2,2,   2287.1,2,   7.7489,    25.00,2,   0.6259
  77DN20020420,   GNS,    10,  1,      6,2,20020501,1309, 81.0095,  18.3603,  198,     60.8,   0.8473,  34.7708,2,  34.7624,2,    328.8,2,     4.24,2,    11.30,2,     0.02,2,     0.76,2, -999.000,9, -999.000,9,    0.496,3,    9.758,3,     1.37,2,   2132.5,2,   2289.4,2,   7.7499,    25.00,2,   0.8447
  77DN20020420,   GNS,    10,  1,      5,2,20020501,1309, 81.0095,  18.3603,  198,     80.3,   0.7487,  34.7815,2,  34.7802,2,    328.5,2,     4.34,2,    11.34,2,     0.01,2,     0.76,2, -999.000,9, -999.000,9,    0.475,3,    9.183,3,     1.72,2,   2131.8,2,   2288.7,2,   7.7499,    25.00,2,   0.7453
  77DN20020420,   GNS,    10,  1,      4,2,20020501,1309, 81.0095,  18.3603,  198,    102.3,   1.0052,  34.8255,2,  34.8340,2,    325.1,2,     4.34,2,    11.35,2,     0.01,2,     0.77,2, -999.000,9, -999.000,9,    0.343,3,    9.665,3,      1.7,2,   2132.7,2,   2291.4,2,   7.7479,    25.00,2,   1.0006
  77DN20020420,   GNS,    10,  1,      3,2,20020501,1309, 81.0095,  18.3603,  198,    126.8,   0.8478,  34.8526,2,  34.8534,2,    326.7,2,     4.47,2,    11.28,2,     0.01,2,     0.77,2, -999.000,9, -999.000,9,    0.493,3,   10.125,3,     1.49,2,   2136.3,2,   2293.1,2,   7.7431,    25.00,2,   0.8422
  77DN20020420,   GNS,    10,  1,      2,2,20020501,1309, 81.0095,  18.3603,  198,    142.2,   0.5866,  34.8384,2,  34.8393,2,    329.9,2,     4.47,2,    11.27,2,     0.02,2,     0.76,2, -999.000,9, -999.000,9,    0.500,3,    9.708,3,     1.76,2,   2137.6,2,   2291.7,2,   7.7412,    25.00,2,   0.5807
  77DN20020420,   GNS,    10,  1,      1,2,20020501,1309, 81.0095,  18.3603,  198,    193.0,  -0.1443,  34.7999,2,-999.0000,9,    334.5,2,     4.47,2,    11.02,2,     0.03,2,     0.75,2, -999.000,9, -999.000,9,    0.519,3,   10.935,3,     1.44,2,   2138.4,2,   2304.2,2,   7.7353,    25.00,2,  -0.1512
  77DN20020420,   GNS,    11,  1,     18,2,20020501,1605, 81.1298,  18.1128,  388,      2.0,  -1.5672,  34.2599,2,  34.2593,2,    339.3,2,     3.84,2,    10.11,2,     0.02,2,     0.67,2,    6.240,2,    3.430,2,    0.502,3,    8.492,3,     -999,9,   2096.4,2,   2260.3,2,   7.7549,    25.00,2,  -1.5672
  77DN20020420,   GNS,    11,  1,     15,2,20020501,1605, 81.1298,  18.1128,  388,     20.2,  -1.4600,  34.2807,2,-999.0000,9,    339.7,2,     3.76,2,    10.05,2,     0.02,2,     0.67,2,    6.140,2,    3.390,2,    0.509,3,    8.248,3,     1.53,2,   2100.6,2,   2260.1,2,   7.7597,    25.00,2,  -1.4604
  77DN20020420,   GNS,    11,  1,     14,2,20020501,1605, 81.1298,  18.1128,  388,     30.2,   0.5675,  34.6995,2,  34.7205,2,    322.6,2,     4.24,2,    11.32,2,     0.02,2,     0.75,2,    5.680,2,    3.190,2,    0.461,3,    7.285,3,     1.52,2,   2127.6,2,   2287.7,2,   7.7480,    25.00,2,   0.5663
  77DN20020420,   GNS,    11,  1,     13,2,20020501,1605, 81.1298,  18.1128,  388,     40.0,   1.1275,  34.7796,2,  34.7801,2,    320.8,2,     4.27,2,    11.46,2,     0.01,2,     0.76,2,    5.580,2,    3.150,2,    0.391,3,    7.290,3,     1.67,2,   2130.1,2,   2285.3,2,   7.7480,    25.00,2,   1.1257
  77DN20020420,   GNS,    11,  1,     12,2,20020501,1605, 81.1298,  18.1128,  388,     49.5,   1.3351,  34.8109,2,  34.8095,2,    320.3,2,     4.40,2,    11.47,2,     0.01,2,     0.76,2,    5.990,2,    3.550,2,    0.427,3,    7.805,3,     1.53,2,   -999.0,2,   -999.0,2,-999.0000,  -999.00,9,   1.3328
  77DN20020420,   GNS,    11,  1,     11,2,20020501,1605, 81.1298,  18.1128,  388,     60.3,   1.7049,  34.8549,2,  34.8549,2,    318.4,2,     4.39,2,    11.56,2,     0.00,2,     0.76,2,    5.480,2,    3.090,2,    0.427,3,    6.918,3,     1.59,2,   2136.5,2,   2296.0,2,   7.7508,    25.00,2,   1.7019
  77DN20020420,   GNS,    11,  1,     10,2,20020501,1605, 81.1298,  18.1128,  388,     79.9,   1.4262,  34.8489,2,  34.8490,2,    320.3,2,     4.38,2,    11.58,2,     0.00,2,     0.76,2,    5.480,2,    3.130,2,    0.367,3,    7.112,3,     1.32,2,   2135.9,2,   2296.0,2,   7.7460,    25.00,2,   1.4223
  77DN20020420,   GNS,    11,  1,      8,2,20020501,1605, 81.1298,  18.1128,  388,     99.9,   1.5767,  34.8794,2,  34.8778,2,    317.8,2,     4.42,2,    11.60,2,     0.00,2,     0.76,2, -999.000,9, -999.000,9, -999.000,9, -999.000,9,     1.32,2,   2139.7,2,   2297.1,2,   7.7470,    25.00,2,   1.5717
  77DN20020420,   GNS,    11,  1,      7,2,20020501,1605, 81.1298,  18.1128,  388,    125.0,   1.7419,  34.9113,2,-999.0000,9,    318.1,2,     4.49,2,    11.71,2,     0.00,2,     0.77,2,    5.340,2,    3.090,2,    0.507,3,    7.097,3,     1.49,2,   2138.3,2,   2300.0,2,   7.7479,    25.00,2,   1.7355
  77DN20020420,   GNS,    11,  1,      6,2,20020501,1605, 81.1298,  18.1128,  388,    150.3,   1.8219,  34.9294,2,  34.9261,2,    316.6,2,     4.56,2,    11.92,2,     0.00,2,     0.78,2,    5.360,2,    3.040,2,    0.361,3,    6.911,3,     1.54,2,   2138.9,2,   2300.4,2,   7.7440,    25.00,2,   1.8140
  77DN20020420,   GNS,    11,  1,      5,2,20020501,1605, 81.1298,  18.1128,  388,    200.5,   1.3508,  34.8968,2,  34.8942,2,    321.3,2,     4.46,2,    11.66,2,     0.00,2,     0.77,2,    5.580,2,    3.150,2,    0.388,3,    7.474,3,     1.58,2,   2140.8,2,   2298.1,2,   7.7431,    25.00,2,   1.3410
  77DN20020420,   GNS,    11,  1,      3,2,20020501,1605, 81.1298,  18.1128,  388,    300.2,   0.9457,  34.8852,2,  34.8847,2,    324.6,2,     4.41,2,    11.51,2,     0.00,2,     0.76,2,    5.630,2,    3.220,2,    0.459,3,    7.432,3,     1.84,2,   2140.0,2,   2295.1,2,   7.7411,    25.00,2,   0.9318
  77DN20020420,   GNS,    11,  1,      2,2,20020501,1605, 81.1298,  18.1128,  388,    330.5,   0.8600,  34.8830,2,  34.8806,2,    326.0,2,     4.43,2,    11.51,2,     0.00,2,     0.76,2,    5.800,2,    3.270,2,    0.387,3,    7.899,3,     1.58,2,   2141.0,2,   2296.5,2,   7.7392,    25.00,2,   0.8449
  77DN20020420,   GNS,    11,  1,      1,2,20020501,1605, 81.1298,  18.1128,  388,    380.5,   0.3306,  34.8487,2,  34.8456,2,    328.6,2,     4.43,2,    11.29,2,     0.02,2,     0.74,2,    6.070,2,    3.340,2,    0.420,3,    8.437,3,     -999,9,   2137.1,2,   2297.8,2,   7.7382,    25.00,2,   0.3147
  77DN20020420,   GNS,    12,  1,     17,2,20020501,1936, 81.2167,  17.3698,  706,      2.5,  -1.4780,  34.2182,2,  34.2845,2,   -999.0,2,     3.44,2,     9.46,2,     0.02,2,     0.63,2, -999.000,9, -999.000,9,    0.949,3,   10.593,3,     -999,9,   2098.2,2,   2260.8,2,   7.7733,    25.00,2,  -1.4781
  77DN20020420,   GNS,    12,  1,     16,2,20020501,1936, 81.2167,  17.3698,  706,     11.4,  -1.4723,  34.2200,2,  34.2518,2,    346.1,2,     3.45,2,     9.47,2,     0.02,2,     0.63,2, -999.000,9, -999.000,9,    0.526,3,   10.321,3,     -999,9,   2096.2,2,   2257.6,2,   7.7733,    25.00,2,  -1.4725
  77DN20020420,   GNS,    12,  1,     15,2,20020501,1936, 81.2167,  17.3698,  706,     19.8,  -1.4443,  34.2315,2,  34.3189,2,   -999.0,2,     3.45,2,     9.56,2,     0.02,2,     0.64,2, -999.000,9, -999.000,9,    0.341,3,   11.147,3,     1.44,2,   2096.8,2,   2260.5,2,   7.7733,    25.00,2,  -1.4447
  77DN20020420,   GNS,    12,  1,     14,2,20020501,1936, 81.2167,  17.3698,  706,     30.3,   0.0390,  34.5416,2,  34.5523,2,   -999.0,2,     4.04,2,    10.72,2,     0.02,2,     0.72,2, -999.000,9, -999.000,9,    0.490,3,    9.874,3,     -999,9,   2119.0,2,   2275.0,2,   7.7606,    25.00,2,   0.0379
  77DN20020420,   GNS,    12,  1,     13,2,20020501,1936, 81.2167,  17.3698,  706,     39.1,   0.6073,  34.6713,2,  34.6845,2,    334.4,2,     4.14,2,    11.08,2,     0.02,2,     0.75,2, -999.000,9, -999.000,9,    0.496,3,    9.606,3,     1.36,2,   2122.5,2,   2281.7,2,   7.7557,    25.00,2,   0.6057
  77DN20020420,   GNS,    12,  1,     12,2,20020501,1936, 81.2167,  17.3698,  706,     49.7,   1.0608,  34.7516,2,  34.9607,2,    327.3,2,     4.17,2,    11.35,2,     0.02,2,     0.76,2, -999.000,9, -999.000,9,    0.307,3, -999.000,9,     -999,9,   2128.4,2,   2289.8,2,   7.7576,    25.00,2,   1.0586
  77DN20020420,   GNS,    12,  1,     11,2,20020501,1936, 81.2167,  17.3698,  706,     60.4,   1.3826,  34.8073,2,  34.8235,2,    324.1,2,     4.23,2,    11.43,2,     0.02,2,     0.76,2, -999.000,9, -999.000,9,    0.409,3,    9.030,3,     1.92,2,   2130.1,2,   2289.9,2,   7.7538,    25.00,2,   1.3797
  77DN20020420,   GNS,    12,  1,     10,2,20020501,1936, 81.2167,  17.3698,  706,     79.7,   1.6421,  34.8489,2,  34.8567,2,    323.2,2,     4.32,2,    11.56,2,     0.01,2,     0.77,2, -999.000,9, -999.000,9,    0.494,3,    9.041,3,     1.73,2,   2130.7,2,   2291.9,2,   7.7547,    25.00,2,   1.6381
  77DN20020420,   GNS,    12,  1,      9,2,20020501,1936, 81.2167,  17.3698,  706,    100.3,   1.4685,  34.8578,2,  34.8629,2,    322.9,2,     4.35,2,    11.51,2,     0.01,2,     0.77,2, -999.000,9, -999.000,9,    0.553,3,    9.308,3,     1.57,2,   2142.0,2,   2292.7,2,   7.7528,    25.00,2,   1.4636
  77DN20020420,   GNS,    12,  1,      8,2,20020501,1936, 81.2167,  17.3698,  706,    124.9,   1.5414,  34.8778,2,  34.8807,2,   -999.0,2,     4.39,2,    11.59,2,     0.00,2,     0.77,2, -999.000,9, -999.000,9,    0.459,3,    9.162,3,     1.42,2,   2143.7,2,   2296.0,2,   7.7489,    25.00,2,   1.5352
  77DN20020420,   GNS,    12,  1,      7,2,20020501,1936, 81.2167,  17.3698,  706,    150.2,   1.7643,  34.9130,2,  34.9189,2,    325.0,2,     4.52,2,    11.73,2,     0.00,2,     0.78,2, -999.000,9, -999.000,9,    0.462,3,    8.616,3,     1.48,2,   2136.4,2,   2299.0,2,   7.7508,    25.00,2,   1.7565
  77DN20020420,   GNS,    12,  1,      6,2,20020501,1936, 81.2167,  17.3698,  706,    199.8,   1.9343,  34.9491,2,  34.9555,2,    317.4,2,     4.63,2,    12.18,2,     0.00,2,     0.81,2, -999.000,9, -999.000,9,    0.273,3,    8.335,3,     1.46,2,   2138.7,2,   2300.8,2,   7.7460,    25.00,2,   1.9236
  77DN20020420,   GNS,    12,  1,      5,2,20020501,1936, 81.2167,  17.3698,  706,    300.0,   1.7169,  34.9520,2,  34.9569,2,    317.0,2,     4.64,2,    11.87,2,     0.00,2,     0.80,2, -999.000,9, -999.000,9,    0.449,3,    7.874,3,     -999,9,   2144.0,2,   2301.1,2,   7.7421,    25.00,2,   1.7011
  77DN20020420,   GNS,    12,  1,      4,2,20020501,1936, 81.2167,  17.3698,  706,    400.1,   1.6363,  34.9568,2,  34.9619,2,    321.2,2,     4.70,2,    12.03,2,     0.00,2,     0.79,2, -999.000,9, -999.000,9,    0.455,3,    8.764,3,     1.53,2,   2143.9,2,   2300.9,2,   7.7421,    25.00,2,   1.6151
  77DN20020420,   GNS,    12,  1,      3,2,20020501,1936, 81.2167,  17.3698,  706,    501.3,   1.3413,  34.9394,2,  34.9436,2,    323.3,2,     5.17,2,    11.88,2,     0.00,2,     0.79,2, -999.000,9, -999.000,9,    0.354,3,    9.227,3,     1.65,2,   2141.1,2,   2298.3,2,   7.7431,    25.00,2,   1.3156
  77DN20020420,   GNS,    12,  1,      2,2,20020501,1936, 81.2167,  17.3698,  706,    656.4,   0.6825,  34.8907,2,  34.8929,2,    327.5,2,     4.91,2,    11.71,2,     0.00,2,     0.79,2, -999.000,9, -999.000,9,    0.467,3,    9.382,3,     1.72,2,   2144.6,2,   2295.8,2,   7.7373,    25.00,2,   0.6515
  77DN20020420,   GNS,    12,  1,      1,2,20020501,1936, 81.2167,  17.3698,  706,    707.9,   0.3757,  34.8734,2,  34.8772,2,    327.7,2,     5.21,2,    11.78,2,     0.00,2,     0.78,2, -999.000,9, -999.000,9,    0.497,3,    9.326,3,     -999,9,   2145.2,2,   2293.4,2,   7.7344,    25.00,2,   0.3438