BOTTLE,20090507PRINUNIVRMK
EXPOCODE,SECT_ID,STNNBR,CASTNO,BTLNBR,BTLNBR_FLAG_W,DATE,TIME,LATITUDE,LONGITUDE,DEPTH,CTDPRS,CTDTMP,CTDSAL,CTDSAL_FLAG_W,SALNTY,SALNTY_FLAG_W,OXYGEN,OXYGEN_FLAG_W,SILCAT,SILCAT_FLAG_W,NITRAT,NITRAT_FLAG_W,NITRIT,NITRIT_FLAG_W,PHSPHT,PHSPHT_FLAG_W,CFC-11,CFC-11_FLAG_W,CFC-12,CFC-12_FLAG_W,CFC113,CFC113_FLAG_W,CCL4,CCL4_FLAG_W,SF6,SF6_FLAG_W,TCARBN,TCARBN_FLAG_W,ALKALI,ALKALI_FLAG_W,PH_SWS,PH_TEMP,PH_SWS_FLAG_W,THETA
,,,,,,,,,,METERS,DBARS,ITS-90,PSS-78,,PSS-78,,UMOL/KG,,UMOL/KG,,UMOL/KG,,UMOL/KG,,UMOL/KG,,PMOL/KG,,PMOL/KG,,PMOL/KG,,PMOL/KG,,FMOL/KG,,UMOL/KG,,UMOL/KG,,,DEGC,,DEGC
  77DN20020420,   GNS,    84,  1,     18,2,20020528, 646, 66.4113, -25.8870,  630,      8.7,   6.4155,  35.0922,2,-999.0000,9,    294.4,2,     6.51,2,    13.91,2,     0.17,2,     0.94,2, -999.000,9, -999.000,9,    0.399,3,    8.891,3,     -999,9,   2139.1,2,   2308.5,2,   7.7750,    25.00,2,   6.4147
  77DN20020420,   GNS,    84,  1,     17,2,20020528, 646, 66.4113, -25.8870,  630,     21.0,   6.4151,  35.0925,2,-999.0000,9,    294.7,2,     6.48,2,    13.87,2,     0.17,2,     0.94,2, -999.000,9, -999.000,9,    0.416,3,    8.878,3,     1.47,2,   2141.0,2,   2308.7,2,   7.7740,    25.00,2,   6.4132
  77DN20020420,   GNS,    84,  1,     16,2,20020528, 646, 66.4113, -25.8870,  630,     30.8,   6.4002,  35.0915,2,  35.0922,2,    294.7,2,     6.48,2,    13.83,2,     0.17,2,     0.94,2, -999.000,9, -999.000,9,    1.135,3,    8.718,3,     -999,9,   2139.2,2,   2308.1,2,   7.7740,    25.00,2,   6.3975
  77DN20020420,   GNS,    84,  1,     15,2,20020528, 646, 66.4113, -25.8870,  630,     42.1,   6.4052,  35.0916,2,-999.0000,9,    294.7,2,     6.54,2,    13.88,2,     0.17,2,     0.94,2, -999.000,9, -999.000,9,    0.488,3,    9.017,3,     -999,9,   2139.1,2,   2309.3,2,   7.7740,    25.00,2,   6.4015
  77DN20020420,   GNS,    84,  1,     14,2,20020528, 646, 66.4113, -25.8870,  630,     62.0,   6.2770,  35.0833,2,-999.0000,9,    295.8,2,     6.57,2,    13.88,2,     0.17,2,     0.94,2, -999.000,9, -999.000,9,    0.379,3,    8.987,3,     1.42,2,   2140.6,2,   2308.6,2,   7.7731,    25.00,2,   6.2716
  77DN20020420,   GNS,    84,  1,     13,2,20020528, 646, 66.4113, -25.8870,  630,     81.1,   5.8132,  35.0512,2,-999.0000,9,    301.2,2,     6.66,2,    13.50,2,     0.18,2,     0.92,2, -999.000,9, -999.000,9,    0.404,3,    8.813,3,     -999,9,   2134.6,2,   2306.2,2,   7.7741,    25.00,2,   5.8064
  77DN20020420,   GNS,    84,  1,     12,2,20020528, 646, 66.4113, -25.8870,  630,     97.5,   5.3680,  35.0375,2,-999.0000,9,    304.9,2,     6.54,2,    12.90,2,     0.19,2,     0.90,2, -999.000,9, -999.000,9,    0.416,3,    8.414,3,     1.33,2,   2139.0,2,   2306.6,2,   7.7731,    25.00,2,   5.3602
  77DN20020420,   GNS,    84,  1,     11,2,20020528, 646, 66.4113, -25.8870,  630,    125.3,   5.0328,  35.0182,2,-999.0000,9,    307.4,2,     6.53,2,    12.57,2,     0.18,2,     0.90,2, -999.000,9, -999.000,9,    0.293,3,    7.848,3,     1.33,2,   2136.2,2,   2306.8,2,   7.7711,    25.00,2,   5.0230
  77DN20020420,   GNS,    84,  1,     10,2,20020528, 646, 66.4113, -25.8870,  630,    150.4,   4.3173,  34.9336,2,-999.0000,9,    315.7,2,     5.87,2,    11.39,2,     0.17,2,     0.83,2, -999.000,9, -999.000,9,    0.412,3,    6.950,3,     1.44,2,   2127.8,2,   2302.6,2,   7.7789,    25.00,2,   4.3064
  77DN20020420,   GNS,    84,  1,      9,2,20020528, 646, 66.4113, -25.8870,  630,    201.8,   2.7973,  34.7836,2,  34.7871,2,    327.9,2,     4.98,2,     9.84,2,     0.13,2,     0.77,2, -999.000,9, -999.000,9,    0.425,3,    6.139,3,     1.54,2,   2121.7,2,   2295.8,2,   7.7799,    25.00,2,   2.7851
  77DN20020420,   GNS,    84,  1,      8,2,20020528, 646, 66.4113, -25.8870,  630,    252.9,   1.7876,  34.7824,2,-999.0000,9,    324.2,2,     5.69,2,    11.51,2,     0.14,2,     0.86,2, -999.000,9, -999.000,9,    0.405,3,    5.648,3,     1.47,2,   2139.9,2,   2292.9,2,   7.7431,    25.00,2,   1.7743
  77DN20020420,   GNS,    84,  1,      7,2,20020528, 646, 66.4113, -25.8870,  630,    300.5,   0.5560,  34.7732,2,  34.7778,2,    316.2,2,     6.44,2,    12.43,2,     0.09,2,     0.90,2, -999.000,9, -999.000,9,    0.454,3,    4.930,3,     1.51,2,   2150.3,2,   2290.6,2,   7.7083,    25.00,2,   0.5431
  77DN20020420,   GNS,    84,  1,      6,2,20020528, 646, 66.4113, -25.8870,  630,    399.7,   0.3699,  34.8648,2,  34.8734,2,    308.6,2,     6.44,2,    12.64,2,     0.05,2,     0.89,2, -999.000,9, -999.000,9,    0.392,3,    3.834,3,     0.93,2,   2151.7,2,   2292.2,2,   7.7102,    25.00,2,   0.3530
  77DN20020420,   GNS,    84,  1,      5,2,20020528, 646, 66.4113, -25.8870,  630,    500.1,   0.1036,  34.8971,2,  34.9015,2,    306.8,2,     6.49,2,    12.69,2,     0.05,2,     0.90,2, -999.000,9, -999.000,9,    0.277,3,    3.051,3,     0.63,2,   2152.2,2,   2294.6,2,   7.7121,    25.00,2,   0.0831
  77DN20020420,   GNS,    84,  1,      4,2,20020528, 646, 66.4113, -25.8870,  630,    597.8,  -0.4506,  34.8970,2,-999.0000,9,    305.6,2,     8.22,2,    13.39,2,     0.04,2,     0.94,2, -999.000,9, -999.000,9,    0.291,3,    2.609,3,     1.49,2,   2155.7,2,   2291.3,2,   7.7035,    25.00,2,  -0.4729
  77DN20020420,   GNS,    84,  1,      3,2,20020528, 646, 66.4113, -25.8870,  630,    608.5,  -0.4466,  34.8968,2,  34.9021,2,    305.8,2,     8.20,2,    13.39,2,     0.04,2,     0.95,2, -999.000,9, -999.000,9,    0.134,3,    2.896,3,     1.47,2,   2157.3,2,   2293.7,2,   7.7034,    25.00,2,  -0.4694
  77DN20020420,   GNS,    84,  1,      2,2,20020528, 646, 66.4113, -25.8870,  630,    618.0,  -0.4359,  34.8970,2,  34.9025,2,    305.5,2,     8.26,2,    13.38,2,     0.05,2,     0.94,2, -999.000,9, -999.000,9,    0.203,3,    2.895,3,     1.73,2,   2155.3,2,   2295.8,2,   7.7034,    25.00,2,  -0.4591
  77DN20020420,   GNS,    85,  1,     24,2,20020528, 913, 66.5420, -26.2385,  650,     12.0,  -1.1513,  34.1386,2,-999.0000,9,    373.0,2,     4.17,2,     5.65,2,     0.08,2,     0.53,2, -999.000,9, -999.000,9,    0.379,3,    9.576,3,     -999,9,   2095.7,2,   2264.0,2,   7.7801,    25.00,2,  -1.1516
  77DN20020420,   GNS,    85,  1,     23,2,20020528, 913, 66.5420, -26.2385,  650,     21.6,  -1.1722,  34.1488,2,-999.0000,9,    372.6,2,     4.17,2,     5.84,2,     0.08,2,     0.54,2, -999.000,9, -999.000,9,    0.811,3,    8.617,3,     1.57,2,   2105.4,2,   2265.8,2,   7.7772,    25.00,2,  -1.1727
  77DN20020420,   GNS,    85,  1,     22,2,20020528, 913, 66.5420, -26.2385,  650,     31.2,  -1.1959,  34.1773,2,-999.0000,9,    368.7,2,     4.28,2,     6.62,2,     0.08,2,     0.56,2,    7.380,2,    3.720,2,    0.387,3,    8.668,3,     -999,9,   2105.5,2,   2266.2,2,   7.7694,    25.00,2,  -1.1967
  77DN20020420,   GNS,    85,  1,     20,2,20020528, 913, 66.5420, -26.2385,  650,     41.1,  -1.1285,  34.2647,2,-999.0000,9,    364.6,2,     4.40,2,     7.77,2,     0.09,2,     0.61,2, -999.000,9, -999.000,9,    0.405,3,    8.865,3,     1.68,2,   2105.0,2,   2266.4,2,   7.7558,    25.00,2,  -1.1295
  77DN20020420,   GNS,    85,  1,     17,2,20020528, 913, 66.5420, -26.2385,  650,     59.3,  -1.0648,  34.3128,2,  34.3125,2,    361.3,2,     4.47,2,     8.35,2,     0.10,2,     0.65,2, -999.000,9, -999.000,9,    0.422,3,    8.325,3,     -999,9,   2115.1,2,   2267.5,2,   7.7510,    25.00,2,  -1.0663
  77DN20020420,   GNS,    85,  1,     16,2,20020528, 913, 66.5420, -26.2385,  650,     81.7,  -1.0375,  34.3347,2,-999.0000,9,    360.1,2,     4.53,2,     8.50,2,     0.10,2,     0.66,2, -999.000,9, -999.000,9,    0.425,3,    8.031,3,     1.67,2,   2114.6,2,   2268.3,2,   7.7490,    25.00,2,  -1.0397
  77DN20020420,   GNS,    85,  1,     15,2,20020528, 913, 66.5420, -26.2385,  650,     99.8,  -1.1651,  34.3577,2,-999.0000,9,    356.0,2,     4.65,2,     9.04,2,     0.11,2,     0.69,2, -999.000,9, -999.000,9,    0.455,3,    7.525,3,     1.41,2,   2116.3,2,   2267.4,2,   7.7461,    25.00,2,  -1.1676
  77DN20020420,   GNS,    85,  1,     14,2,20020528, 913, 66.5420, -26.2385,  650,    123.6,  -0.8730,  34.4087,2,-999.0000,9,    349.1,2,     4.73,2,     9.38,2,     0.11,2,     0.71,2, -999.000,9, -999.000,9,    0.427,3,    7.639,3,     1.45,2,   2115.2,2,   2270.8,2,   7.7442,    25.00,2,  -0.8765
  77DN20020420,   GNS,    85,  1,     13,2,20020528, 913, 66.5420, -26.2385,  650,    151.8,  -0.8989,  34.4658,2,  34.4654,2,    338.4,2,     4.94,2,    10.53,2,     0.12,2,     0.78,2, -999.000,9, -999.000,9,    0.402,3,    7.731,3,     1.42,2,   2123.1,2,   2272.6,2,   7.7268,    25.00,2,  -0.9032
  77DN20020420,   GNS,    85,  1,     12,2,20020528, 913, 66.5420, -26.2385,  650,    203.1,  -1.0356,  34.5105,2,-999.0000,9,    337.2,2,     4.96,2,    10.86,2,     0.11,2,     0.78,2, -999.000,9, -999.000,9,    0.433,3,    6.206,3,     1.39,2,   2132.1,2,   2273.4,2,   7.7229,    25.00,2,  -1.0413
  77DN20020420,   GNS,    85,  1,     11,2,20020528, 913, 66.5420, -26.2385,  650,    250.2,   0.1097,  34.6694,2,  34.6654,2,    319.6,2,     5.54,2,    11.26,2,     0.10,2,     0.80,2, -999.000,9, -999.000,9,    0.385,3,    5.195,3,     1.34,2,   2141.8,2,   2282.2,2,   7.7228,    25.00,2,   0.1001
  77DN20020420,   GNS,    85,  1,     10,2,20020528, 913, 66.5420, -26.2385,  650,    298.7,   1.2187,  34.8081,2,  34.8056,2,    305.7,2,     5.86,2,    11.78,2,     0.10,2,     0.84,2, -999.000,9, -999.000,9,    0.344,3,    4.713,3,     0.91,2,   2142.2,2,   -999.0,2,   7.7285,    25.00,2,   1.2043
  77DN20020420,   GNS,    85,  1,      7,2,20020528, 913, 66.5420, -26.2385,  650,    400.4,   1.6047,  34.8992,2,  34.8968,2,    302.8,2,     5.89,2,    12.26,2,     0.10,2,     0.85,2, -999.000,9, -999.000,9,    0.271,3,    4.032,3,     -999,9,   2148.8,2,   2297.2,2,   7.7305,    25.00,2,   1.5837
  77DN20020420,   GNS,    85,  1,      6,2,20020528, 913, 66.5420, -26.2385,  650,    502.6,   1.4023,  34.9228,2,  34.9255,2,    302.9,2,     5.87,2,    12.49,2,     0.10,2,     0.87,2, -999.000,9, -999.000,9,    0.367,3,    3.005,3,     1.01,2,   2149.6,2,   2296.4,2,   7.7286,    25.00,2,   1.3763
  77DN20020420,   GNS,    85,  1,      3,2,20020528, 913, 66.5420, -26.2385,  650,    613.8,   0.6724,  34.9042,2,  34.9079,2,    303.8,2,     6.32,2,    12.97,2,     0.10,2,     0.89,2, -999.000,9, -999.000,9,    0.340,3,    2.654,3,     0.98,2,   2152.6,2,   2294.3,2,   7.7170,    25.00,2,   0.6437
  77DN20020420,   GNS,    85,  1,      2,2,20020528, 913, 66.5420, -26.2385,  650,    621.1,   0.6724,  34.9043,2,-999.0000,9,    304.3,2,     6.42,2,    12.95,2,     0.10,2,     0.89,2, -999.000,9, -999.000,9,    0.187,3,    2.626,3,     0.99,2,   2147.5,2,   2293.6,2,   7.7170,    25.00,2,   0.6433
  77DN20020420,   GNS,    85,  1,      1,2,20020528, 913, 66.5420, -26.2385,  650,    633.6,   0.6736,  34.9047,2,  34.9088,2,    304.8,2,     6.45,2,    12.98,2,     0.10,2,     0.89,2, -999.000,9, -999.000,9,    0.300,3,    2.994,3,      0.9,2,   2151.3,2,   2295.9,2,   7.7170,    25.00,2,   0.6439
  77DN20020420,   GNS,    86,  1,     20,2,20020528,1153, 66.7582, -26.7817,  537,     11.7,  -1.2579,  34.0967,2,  34.0987,2,    379.9,2,     3.58,2,     4.89,2,     0.08,2,     0.48,2,    7.560,2,    3.750,2,    0.517,3,   11.127,3,     1.51,2,   2093.4,2,   2263.9,2,   7.7928,    25.00,2,  -1.2582
  77DN20020420,   GNS,    86,  1,     19,2,20020528,1153, 66.7582, -26.7817,  537,     22.2,  -1.2677,  34.0955,2,-999.0000,9,    378.3,2,     3.58,2,     5.04,2,     0.07,2,     0.51,2,    7.560,2,    3.750,2,    0.529,3,    9.967,3,     -999,9,   2090.1,2,   2262.8,2,   7.7898,    25.00,2,  -1.2682
  77DN20020420,   GNS,    86,  1,     18,2,20020528,1153, 66.7582, -26.7817,  537,     34.4,  -1.3336,  34.1348,2,-999.0000,9,    366.2,2,     3.92,2,     6.59,2,     0.08,2,     0.57,2,    7.420,2,    3.650,2,    0.504,3,   10.068,3,     -999,9,   2100.1,2,   2263.3,2,   7.7685,    25.00,2,  -1.3344
  77DN20020420,   GNS,    86,  1,     17,2,20020528,1153, 66.7582, -26.7817,  537,     41.9,  -1.3454,  34.1475,2,  34.1477,2,    365.3,2,     4.04,2,     6.73,2,     0.10,2,     0.61,2,    7.380,2,    3.650,2,    0.514,3,    9.094,3,     1.34,2,   2103.9,2,   2264.1,2,   7.7627,    25.00,2,  -1.3464
  77DN20020420,   GNS,    86,  1,     16,2,20020528,1153, 66.7582, -26.7817,  537,     58.6,  -1.4673,  34.1992,2,  34.2007,2,    364.9,2,     4.47,2,     7.90,2,     0.10,2,     0.64,2,    7.460,2,    3.720,2,    0.482,3,    9.158,3,     -999,9,   2110.3,2,   2263.9,2,   7.7491,    25.00,2,  -1.4686
  77DN20020420,   GNS,    86,  1,     15,2,20020528,1153, 66.7582, -26.7817,  537,     77.5,  -1.5172,  34.2329,2,-999.0000,9,    360.1,2,     4.63,2,     8.51,2,     0.10,2,     0.67,2,    7.250,2,    3.650,2,    0.431,3,    7.950,3,     1.39,2,   2120.4,2,   2266.6,2,   7.7423,    25.00,2,  -1.5189
  77DN20020420,   GNS,    86,  1,     14,2,20020528,1153, 66.7582, -26.7817,  537,     99.2,  -1.3907,  34.2822,2,  34.2830,2,    362.0,2,     4.67,2,     8.36,2,     0.13,2,     0.67,2,    7.360,2,    3.680,2,    0.437,3,    7.646,3,     1.44,2,   2118.7,2,   2267.7,2,   7.7442,    25.00,2,  -1.3930
  77DN20020420,   GNS,    86,  1,     13,2,20020528,1153, 66.7582, -26.7817,  537,    123.8,  -1.4052,  34.3175,2,-999.0000,9,    358.8,2,     4.73,2,     9.06,2,     0.11,2,     0.69,2,    7.210,2,    3.620,2,    0.430,3,    6.989,3,     -999,9,   2120.7,2,   2267.9,2,   7.7423,    25.00,2,  -1.4081
  77DN20020420,   GNS,    86,  1,     12,2,20020528,1153, 66.7582, -26.7817,  537,    152.2,  -1.3069,  34.3652,2,-999.0000,9,    350.4,2,     4.83,2,     9.63,2,     0.12,2,     0.72,2,    7.030,2,    3.590,2,    0.430,3,    6.506,3,     1.38,2,   2121.0,2,   2269.7,2,   7.7345,    25.00,2,  -1.3107
  77DN20020420,   GNS,    86,  1,      9,2,20020528,1153, 66.7582, -26.7817,  537,    197.3,  -0.9709,  34.4662,2,  34.4593,2,    337.5,2,     5.06,2,    10.28,2,     0.15,2,     0.77,2,    6.630,2,    3.370,2,    0.413,3,    6.201,3,     1.28,2,   2126.7,2,   2274.4,2,   7.7248,    25.00,2,  -0.9765
  77DN20020420,   GNS,    86,  1,      8,2,20020528,1153, 66.7582, -26.7817,  537,    251.7,  -0.4302,  34.5937,2,-999.0000,9,    329.6,2,     5.33,2,    10.58,2,     0.14,2,     0.82,2,    6.200,2,    3.210,2,    0.395,3,    6.100,3,     0.76,2,   2131.4,2,   2281.6,2,   7.7219,    25.00,2,  -0.4387
  77DN20020420,   GNS,    86,  1,      6,2,20020528,1153, 66.7582, -26.7817,  537,    301.6,   1.1473,  34.7931,2,  34.7888,2,    308.0,2,     5.98,2,    11.87,2,     0.12,2,     0.84,2,    5.200,2,    2.750,2,    0.379,3,    5.493,3,      0.7,2,   2140.6,2,   2293.3,2,   7.7276,    25.00,2,   1.1329
  77DN20020420,   GNS,    86,  1,      5,2,20020528,1153, 66.7582, -26.7817,  537,    403.0,   1.6632,  34.9105,2,  34.9076,2,    303.9,2,     5.89,2,    12.38,2,     0.12,2,     0.86,2,    4.770,2,    2.570,2,    0.323,3,    4.673,3,      0.9,2,   2150.1,2,   2299.1,2,   7.7315,    25.00,2,   1.6418
  77DN20020420,   GNS,    86,  1,      4,2,20020528,1153, 66.7582, -26.7817,  537,    483.6,   1.2995,  34.9222,2,-999.0000,9,    304.1,2,     6.05,2,    12.58,2,     0.12,2,     0.87,2,    4.210,2,    2.280,2,    0.279,3,    3.916,3,     -999,9,   2150.0,2,   2297.8,2,   7.7276,    25.00,2,   1.2749
  77DN20020420,   GNS,    86,  1,      3,2,20020528,1153, 66.7582, -26.7817,  537,    503.0,   1.2904,  34.9222,2,-999.0000,9,    304.4,2,     6.04,2,    12.55,2,     0.12,2,     0.87,2,    4.210,2,    2.290,2,    0.281,3,    3.640,3,     0.47,2,   2150.1,2,   2301.2,2,   7.7266,    25.00,2,   1.2648
  77DN20020420,   GNS,    86,  1,      2,2,20020528,1153, 66.7582, -26.7817,  537,    513.7,   1.2400,  34.9217,2,-999.0000,9,    304.3,2,     6.06,2,    12.73,2,     0.12,2,     0.88,2,    4.210,2,    2.290,2,    0.282,3,    3.232,3,     0.46,2,   2151.6,2,   2298.6,2,   7.7266,    25.00,2,   1.2140
  77DN20020420,   GNS,    86,  1,      1,2,20020528,1153, 66.7582, -26.7817,  537,    522.6,   1.1837,  34.9199,2,  34.9190,2,    303.3,2,     6.13,2,    12.44,2,     0.15,2,     0.88,2,    4.040,2,    2.200,2,    0.272,3,    2.564,3,     0.37,2,   2141.7,2,   2298.6,2,   7.7286,    25.00,2,   1.1575