BOTTLE,20090507PRINUNIVRMK
EXPOCODE,SECT_ID,STNNBR,CASTNO,BTLNBR,BTLNBR_FLAG_W,DATE,TIME,LATITUDE,LONGITUDE,DEPTH,CTDPRS,CTDTMP,CTDSAL,CTDSAL_FLAG_W,SALNTY,SALNTY_FLAG_W,OXYGEN,OXYGEN_FLAG_W,SILCAT,SILCAT_FLAG_W,NITRAT,NITRAT_FLAG_W,NITRIT,NITRIT_FLAG_W,PHSPHT,PHSPHT_FLAG_W,CFC-11,CFC-11_FLAG_W,CFC-12,CFC-12_FLAG_W,CFC113,CFC113_FLAG_W,CCL4,CCL4_FLAG_W,SF6,SF6_FLAG_W,TCARBN,TCARBN_FLAG_W,ALKALI,ALKALI_FLAG_W,PH_SWS,PH_TEMP,PH_SWS_FLAG_W,THETA
,,,,,,,,,,METERS,DBARS,ITS-90,PSS-78,,PSS-78,,UMOL/KG,,UMOL/KG,,UMOL/KG,,UMOL/KG,,UMOL/KG,,PMOL/KG,,PMOL/KG,,PMOL/KG,,PMOL/KG,,FMOL/KG,,UMOL/KG,,UMOL/KG,,,DEGC,,DEGC
  77DN20020420,   GNS,    38,  1,     21,2,20020513,1233, 78.9990,  -5.2483, 1143,      9.8,  -1.7388,  32.4761,2,  32.4786,2,    379.3,2,     6.69,2,     3.72,2,     0.01,2,     0.72,2, -999.000,9, -999.000,9, -999.000,9, -999.000,9,     -999,9,   2120.1,2,   2246.9,2,   7.6907,    25.00,2,  -1.7390
  77DN20020420,   GNS,    38,  1,     18,2,20020513,1233, 78.9990,  -5.2483, 1143,     20.5,  -1.7443,  32.4831,2,  32.5037,2,    378.4,2,     6.92,2,     3.84,2,     0.01,2,     0.72,2,    8.670,2,    3.970,2,    0.664,3,    7.269,3,     1.73,2,   2119.4,2,   2253.1,2,   7.6897,    25.00,2,  -1.7446
  77DN20020420,   GNS,    38,  1,     17,2,20020513,1233, 78.9990,  -5.2483, 1143,     29.7,  -1.7355,  32.6675,2,  32.7045,2,    372.4,2,     7.35,2,     4.76,2,     0.00,2,     0.74,2, -999.000,9, -999.000,9, -999.000,9, -999.000,9,     -999,9,   2126.4,2,   2255.4,2,   7.6848,    25.00,2,  -1.7360
  77DN20020420,   GNS,    38,  1,     16,2,20020513,1233, 78.9990,  -5.2483, 1143,     40.3,  -1.6873,  33.1228,2,  33.1453,2,    360.0,2,     7.76,2,     5.84,2,     0.00,2,     0.70,2,    7.820,2,    3.740,2,    0.723,3,    6.216,3,     -999,9,   2135.1,2,   2265.3,2,   7.6799,    25.00,2,  -1.6880
  77DN20020420,   GNS,    38,  1,     15,2,20020513,1233, 78.9990,  -5.2483, 1143,     50.1,  -1.7844,  33.3358,2,  33.3444,2,    353.6,2,     8.36,2,     6.54,2,     0.00,2,     0.72,2, -999.000,9, -999.000,9, -999.000,9, -999.000,9,     1.27,2,   2145.3,2,   2273.4,2,   7.6769,    25.00,2,  -1.7853
  77DN20020420,   GNS,    38,  1,     14,2,20020513,1233, 78.9990,  -5.2483, 1143,     60.1,  -1.7929,  33.3998,2,  33.4128,2,    351.7,2,     8.25,2,     6.75,2,     0.00,2,     0.72,2,    7.730,2,    3.680,2,    0.550,3,    6.071,3,     -999,9,   2144.5,2,   2272.2,2,   7.6769,    25.00,2,  -1.7940
  77DN20020420,   GNS,    38,  1,     13,2,20020513,1233, 78.9990,  -5.2483, 1143,     80.1,  -1.8034,  33.7045,2,  33.7369,2,    348.8,2,     6.77,2,     6.92,2,     0.00,2,     0.63,2, -999.000,9, -999.000,9, -999.000,9, -999.000,9,     1.22,2,   2146.8,2,   2280.0,2,   7.6884,    25.00,2,  -1.8049
  77DN20020420,   GNS,    38,  1,     12,2,20020513,1233, 78.9990,  -5.2483, 1143,    100.2,  -1.7534,  33.9036,2,  33.9265,2,    343.3,2,     6.15,2,     7.51,2,     0.00,2,     0.63,2,    7.130,2,    3.380,2,    0.529,3,    5.477,3,     -999,9,   2139.6,2,   2282.6,2,   7.6999,    25.00,2,  -1.7554
  77DN20020420,   GNS,    38,  1,     11,2,20020513,1233, 78.9990,  -5.2483, 1143,    124.6,  -1.7609,  34.0399,2,  34.0438,2,    345.2,2,     4.92,2,     7.19,2,     0.00,2,     0.59,2, -999.000,9, -999.000,9, -999.000,9, -999.000,9,      1.2,2,   -999.0,2,   2282.8,2,   7.7162,    25.00,2,  -1.7634
  77DN20020420,   GNS,    38,  1,     10,2,20020513,1233, 78.9990,  -5.2483, 1143,    149.9,  -1.6787,  34.1309,2,  34.1306,2,    317.7,3,     4.80,2,     7.82,2,     0.00,2,     0.60,2,    6.840,2,    3.350,2,    0.533,3,    5.947,3,     1.15,2,   2129.1,2,   2281.1,2,   7.7220,    25.00,2,  -1.6819
  77DN20020420,   GNS,    38,  1,      9,2,20020513,1233, 78.9990,  -5.2483, 1143,    200.0,  -1.4469,  34.3664,2,  34.3648,2,    331.6,2,     4.14,2,     9.58,2,     0.00,2,     0.66,2, -999.000,9, -999.000,9, -999.000,9, -999.000,9,     -999,9,   -999.0,2,   2278.7,2,   7.7355,    25.00,2,  -1.4517
  77DN20020420,   GNS,    38,  1,      8,2,20020513,1233, 78.9990,  -5.2483, 1143,    250.1,   0.3325,  34.6384,2,  34.6369,2,    293.4,2,     8.18,2,    12.97,2,     0.00,2,     0.87,2,    3.760,2,    2.010,2,    0.262,3,    4.027,3,     0.47,2,   2147.4,2,   2294.4,2,   7.7016,    25.00,2,   0.3224
  77DN20020420,   GNS,    38,  1,      7,2,20020513,1233, 78.9990,  -5.2483, 1143,    300.4,   0.8741,  34.7929,2,  34.7915,2,    292.3,2,     7.45,2,    13.70,2,     0.00,2,     0.89,2, -999.000,9, -999.000,9, -999.000,9, -999.000,9,     0.46,2,   -999.0,2,   2300.5,2,   7.7102,    25.00,2,   0.8604
  77DN20020420,   GNS,    38,  1,      6,2,20020513,1233, 78.9990,  -5.2483, 1143,    400.3,   0.9401,  34.8644,2,  34.8615,2,    296.5,2,     6.66,2,    13.88,2,     0.00,2,     0.89,2,    3.320,2,    1.780,2,    0.242,3,    4.251,3,     0.49,2,   2144.8,2,   2300.0,2,   7.7189,    25.00,2,   0.9213
  77DN20020420,   GNS,    38,  1,      5,2,20020513,1233, 78.9990,  -5.2483, 1143,    500.2,   0.7927,  34.8804,2,  34.8782,2,    297.9,2,     6.63,2,    13.75,2,     0.00,2,     0.88,2,    2.910,2,    1.610,2,    0.218,3,    4.115,3,      0.5,2,   -999.0,2,   2303.2,2,   7.7218,    25.00,2,   0.7693
  77DN20020420,   GNS,    38,  1,      4,2,20020513,1233, 78.9990,  -5.2483, 1143,    750.5,   0.1531,  34.8802,2,  34.8771,2,    298.8,2,     6.85,2,    13.86,2,     0.00,2,     0.89,2,    2.070,2,    1.100,2,    0.165,3,    3.146,3,     0.07,2,   2145.7,2,   2301.5,2,   7.7189,    25.00,2,   0.1203
  77DN20020420,   GNS,    38,  1,      3,2,20020513,1233, 78.9990,  -5.2483, 1143,    999.9,  -0.1692,  34.8966,2,  34.8928,2,    301.1,2,     7.36,2,    13.99,2,     0.00,2,     0.90,2,    1.920,2,    1.020,2,    0.158,3,    2.930,3,     -999,9,   2152.3,2,   2303.7,2,   7.7160,    25.00,2,  -0.2124
  77DN20020420,   GNS,    38,  1,      2,2,20020513,1233, 78.9990,  -5.2483, 1143,   1061.9,  -0.2058,  34.8996,2,  34.8900,2,    301.5,2,     7.49,2,    14.04,2,     0.00,2,     0.90,2,    1.850,2,    0.980,2,    0.181,3,    2.901,3,     0.35,2,   -999.0,2,   2299.7,2,   7.7170,    25.00,2,  -0.2520
  77DN20020420,   GNS,    38,  1,      1,2,20020513,1233, 78.9990,  -5.2483, 1143,   1119.5,  -0.2246,  34.9014,2,  34.8985,2,    300.2,2,     7.51,2,    14.20,2,     0.00,2,     0.91,2,    1.910,2,    0.990,2,    0.177,3,    3.047,3,     0.24,2,   2148.3,2,   2299.7,2,   7.7179,    25.00,2,  -0.2737
  77DN20020420,   GNS,    39,  1,     24,2,20020513,1750, 79.0490,  -6.1210,  543,      9.5,  -1.7159,  32.8738,2,  32.8666,2,    364.1,2,     7.57,2,     4.90,2,     0.00,2,     0.70,2, -999.000,9, -999.000,9,    0.653,3,    8.820,3,     -999,9,   2144.3,2,   2264.2,2,   7.6848,    25.00,2,  -1.7161
  77DN20020420,   GNS,    39,  1,     23,2,20020513,1750, 79.0490,  -6.1210,  543,     20.2,  -1.7885,  33.2312,2,  33.2278,2,    355.9,2,     8.50,2,     5.91,2,     0.00,2,     0.71,2, -999.000,9, -999.000,9,    0.454,3,    8.550,3,     1.55,2,   2148.3,2,   2273.9,2,   7.6760,    25.00,2,  -1.7888
  77DN20020420,   GNS,    39,  1,     22,2,20020513,1750, 79.0490,  -6.1210,  543,     29.5,  -1.7668,  33.4333,2,  33.4326,2,    350.3,2,     7.90,2,     6.21,2,     0.00,2,     0.68,2, -999.000,9, -999.000,9,    0.695,3,    7.128,3,     -999,9,   2143.1,2,   2277.7,2,   7.6798,    25.00,2,  -1.7673
  77DN20020420,   GNS,    39,  1,     21,2,20020513,1750, 79.0490,  -6.1210,  543,     40.0,  -1.7964,  33.5377,2,  33.5470,2,    348.8,2,     7.96,2,     6.43,2,     0.00,2,     0.67,2, -999.000,9, -999.000,9,    0.646,3,    7.093,3,     -999,9,   2145.0,2,   2280.4,2,   7.6807,    25.00,2,  -1.7971
  77DN20020420,   GNS,    39,  1,     20,2,20020513,1750, 79.0490,  -6.1210,  543,     50.1,  -1.8124,  33.6033,2,  33.6020,2,    348.7,2,     7.64,2,     6.50,2,     0.00,2,     0.67,2, -999.000,9, -999.000,9,    0.675,3,    6.365,3,     -999,9,   2145.4,2,   2281.7,2,   7.6846,    25.00,2,  -1.8133
  77DN20020420,   GNS,    39,  1,     19,2,20020513,1750, 79.0490,  -6.1210,  543,     60.4,  -1.8168,  33.6300,2,  33.6316,2,    349.4,2,     7.57,2,     6.49,2,     0.00,2,     0.66,2, -999.000,9, -999.000,9,    0.533,3,    6.197,3,     -999,9,   2147.8,2,   2282.6,2,   7.6836,    25.00,2,  -1.8179
  77DN20020420,   GNS,    39,  1,     18,2,20020513,1750, 79.0490,  -6.1210,  543,     80.2,  -1.8212,  33.6681,2,  33.6662,2,    348.6,2,     7.52,2,     6.63,2,     0.00,2,     0.66,2, -999.000,9, -999.000,9,    0.647,3,    5.858,3,     1.13,2,   2149.6,2,   2285.8,2,   7.6816,    25.00,2,  -1.8227
  77DN20020420,   GNS,    39,  1,     17,2,20020513,1750, 79.0490,  -6.1210,  543,    100.0,  -1.8177,  33.7607,2,  33.7601,2,    348.9,2,     6.34,2,     6.20,2,     0.00,2,     0.59,2, -999.000,9, -999.000,9,    0.570,3,    5.594,3,     -999,9,   2149.3,2,   2289.6,2,   7.6912,    25.00,2,  -1.8196
  77DN20020420,   GNS,    39,  1,     16,2,20020513,1750, 79.0490,  -6.1210,  543,    124.5,  -1.8306,  33.8640,2,  33.8649,2,    347.5,2,     5.94,2,     6.28,2,     0.00,2,     0.58,2, -999.000,9, -999.000,9,    0.546,3,    4.919,3,     1.04,2,   2150.1,2,   2287.0,2,   7.6970,    25.00,2,  -1.8330
  77DN20020420,   GNS,    39,  1,     15,2,20020513,1750, 79.0490,  -6.1210,  543,    149.8,  -1.8239,  33.9315,2,  33.9354,2,    346.9,2,     5.50,2,     6.41,2,     0.00,2,     0.57,2, -999.000,9, -999.000,9,    0.553,3,    5.010,3,     -999,9,   2140.8,2,   2287.9,2,   7.7037,    25.00,2,  -1.8268
  77DN20020420,   GNS,    39,  1,     10,2,20020513,1750, 79.0490,  -6.1210,  543,    199.8,  -1.7202,  34.0708,2,  34.0738,2,    343.3,2,     5.03,2,     6.88,2,     0.00,2,     0.58,2, -999.000,9, -999.000,9,    0.540,3,    4.706,3,     0.95,2,   2138.3,2,   2290.1,2,   7.7162,    25.00,2,  -1.7244
  77DN20020420,   GNS,    39,  1,      9,2,20020513,1750, 79.0490,  -6.1210,  543,    249.7,  -1.7234,  34.2683,2,  34.2669,2,    344.2,2,     3.88,2,     7.33,2,     0.00,2,     0.58,2, -999.000,9, -999.000,9,    0.437,3,    4.776,3,     0.76,2,   2128.1,2,   2286.4,2,   7.7355,    25.00,2,  -1.7289
  77DN20020420,   GNS,    39,  1,      8,2,20020513,1750, 79.0490,  -6.1210,  543,    300.4,   0.1125,  34.5844,2,  34.5825,2,    297.2,2,     8.67,2,    11.40,2,     0.00,2,     0.84,2, -999.000,9, -999.000,9,    0.310,3,    3.863,3,     0.59,2,   2149.1,2,   2292.0,2,   7.6987,    25.00,2,   0.1009
  77DN20020420,   GNS,    39,  1,      7,2,20020513,1750, 79.0490,  -6.1210,  543,    400.4,   0.8544,  34.8465,2,  34.8397,2,    297.0,2,     7.50,2,    12.42,2,     0.00,2,     0.86,2, -999.000,9, -999.000,9,    0.225,3,    2.936,3,     0.51,2,   2149.8,2,   2302.2,2,   7.7150,    25.00,2,   0.8359
  77DN20020420,   GNS,    39,  1,      6,2,20020513,1750, 79.0490,  -6.1210,  543,    483.3,   0.4113,  34.8729,2,  34.8691,2,    295.8,2,     7.14,2,    12.46,2,     0.00,2,     0.87,2, -999.000,9, -999.000,9,    0.264,3,    2.671,3,     0.34,2,   2147.7,2,   2302.7,2,   7.7189,    25.00,2,   0.3903
  77DN20020420,   GNS,    39,  1,      1,2,20020513,1750, 79.0490,  -6.1210,  543,    533.8,   0.2716,  34.8753,2,  34.8685,2,    296.7,2,     7.30,2,    12.44,2,     0.00,2,     0.87,2, -999.000,9, -999.000,9,    0.259,3,    2.479,3,     0.35,2,   2149.2,2,   2302.5,2,   7.7228,    25.00,2,   0.2488
  77DN20020420,   GNS,    40,  1,     18,2,20020514, 139, 79.0080,  -8.0623,  188,     10.2,  -1.7656,  32.5996,2,  32.6019,2,    373.6,2,     7.05,2,     3.99,2,     0.01,2,     0.74,2,    8.610,2,    4.000,2,    0.675,3,    7.359,3,     -999,9,   2119.5,2,   2247.8,2,   7.6935,    25.00,2,  -1.7658
  77DN20020420,   GNS,    40,  1,     15,2,20020514, 139, 79.0080,  -8.0623,  188,     20.3,  -1.7644,  32.6049,2,  32.6058,2,    373.3,2,     7.09,2,     3.98,2,     0.01,2,     0.73,2,    8.570,2,    4.030,2,    0.658,3,    7.341,3,     -999,9,   2125.4,2,   2245.5,2,   7.6945,    25.00,2,  -1.7647
  77DN20020420,   GNS,    40,  1,     14,2,20020514, 139, 79.0080,  -8.0623,  188,     30.8,  -1.7640,  32.6284,2,  32.6190,2,    373.6,2,     6.91,2,     3.99,2,     0.01,2,     0.72,2,    8.370,2,    4.000,2,    0.704,3,    7.215,3,     -999,9,   2125.6,2,   2247.1,2,   7.6945,    25.00,2,  -1.7645
  77DN20020420,   GNS,    40,  1,     13,2,20020514, 139, 79.0080,  -8.0623,  188,     39.4,  -1.7714,  32.7392,2,  32.7390,2,    369.5,2,     7.40,2,     4.44,2,     0.01,2,     0.72,2, -999.000,9, -999.000,9, -999.000,9, -999.000,9,     1.45,2,   2134.3,2,   2249.7,2,   7.6887,    25.00,2,  -1.7720
  77DN20020420,   GNS,    40,  1,      8,2,20020514, 139, 79.0080,  -8.0623,  188,     49.8,  -1.7744,  32.9111,2,  32.9381,2,    365.2,2,     8.12,2,     5.17,2,     0.01,2,     0.73,2,    8.260,2,    3.900,2,    0.566,3,    6.777,3,     1.44,2,   2134.9,2,   2256.2,2,   7.6809,    25.00,2,  -1.7752
  77DN20020420,   GNS,    40,  1,      7,2,20020514, 139, 79.0080,  -8.0623,  188,     59.2,  -1.7134,  33.1260,2,  33.1591,2,    357.9,2,     8.26,2,     5.82,2,     0.01,2,     0.71,2,    7.720,2,    3.730,2,    0.603,3,    6.150,3,     1.44,2,   2139.3,2,   2262.1,2,   7.6780,    25.00,2,  -1.7145
  77DN20020420,   GNS,    40,  1,      6,2,20020514, 139, 79.0080,  -8.0623,  188,     80.5,  -1.7652,  33.4591,2,  33.4627,2,    350.5,2,     7.69,2,     6.30,2,     0.01,2,     0.67,2,    7.640,2,    3.660,2,    0.570,3,    5.748,3,     1.42,2,   2144.4,2,   2270.0,2,   7.6788,    25.00,2,  -1.7667
  77DN20020420,   GNS,    40,  1,      5,2,20020514, 139, 79.0080,  -8.0623,  188,     99.9,  -1.7620,  33.6818,2,  33.6825,2,    346.8,2,     7.06,2,     6.52,2,     0.01,2,     0.64,2,    7.580,2,    3.600,2,    0.561,3,    5.692,3,     1.03,2,   2149.2,2,   2271.1,2,   7.6865,    25.00,2,  -1.7639
  77DN20020420,   GNS,    40,  1,      4,2,20020514, 139, 79.0080,  -8.0623,  188,    124.7,  -1.6019,  33.9026,2,  33.9032,2,    338.6,2,     6.62,2,     7.26,2,     0.01,2,     0.64,2,    0.370,4, -999.000,9,    0.134,3,    0.050,3,     1.08,2,   2144.5,2,   2271.0,2,   7.6989,    25.00,2,  -1.6045
  77DN20020420,   GNS,    40,  1,      3,2,20020514, 139, 79.0080,  -8.0623,  188,    148.8,  -1.0366,  34.1193,2,  34.1228,2,    319.5,2,     7.96,2,     9.27,2,     0.01,2,     0.73,2,    5.730,2,    2.910,2,    0.400,3,    4.933,3,     0.89,2,   2136.5,2,   2271.0,2,   7.6998,    25.00,2,  -1.0406
  77DN20020420,   GNS,    40,  1,      2,2,20020514, 139, 79.0080,  -8.0623,  188,    167.4,  -0.6891,  34.3008,2,  34.3025,2,    315.0,2,     8.27,2,    10.41,2,     0.01,2,     0.78,2,    5.250,2,    2.690,2,    0.425,3,    4.858,3,     0.75,2,   2136.5,2,   2272.8,2,   7.7046,    25.00,2,  -0.6941
  77DN20020420,   GNS,    40,  1,      1,2,20020514, 139, 79.0080,  -8.0623,  188,    188.3,  -0.3340,  34.4102,2,  34.4103,2,    303.8,2,     9.09,2,    11.07,2,     0.01,2,     0.81,2,    4.690,2,    2.440,2,    0.388,3,    4.527,3,      0.9,2,   2141.5,2,   2274.8,2,   7.6978,    25.00,2,  -0.3403
  77DN20020420,   GNS,    41,  1,     14,2,20020514, 554, 78.9732,  -9.9445,  266,      9.7,  -1.7458,  32.5181,2,  32.5529,2,    381.3,2,     5.90,2,     3.32,2,     0.00,2,     0.69,2, -999.000,9, -999.000,9,    0.708,3,    8.391,3,     -999,9,   2113.4,2,   2253.5,2,   7.6993,    25.00,2,  -1.7460
  77DN20020420,   GNS,    41,  1,     11,2,20020514, 554, 78.9732,  -9.9445,  266,     20.5,  -1.7470,  32.5172,2,  32.5246,2,    381.2,2,     5.90,2,     3.34,2,     0.00,2,     0.70,2, -999.000,9, -999.000,9,    0.679,3,    8.207,3,     1.78,2,   2119.0,2,   2247.7,2,   7.6984,    25.00,2,  -1.7473
  77DN20020420,   GNS,    41,  1,     10,2,20020514, 554, 78.9732,  -9.9445,  266,     29.7,  -1.7467,  32.5172,2,  32.5243,2,    379.9,2,     5.91,2,     3.34,2,     0.00,2,     0.70,2, -999.000,9, -999.000,9,    0.687,3,    7.783,3,     -999,9,   2117.6,2,   2248.0,2,   7.7003,    25.00,2,  -1.7472
  77DN20020420,   GNS,    41,  1,      9,2,20020514, 554, 78.9732,  -9.9445,  266,     40.4,  -1.7466,  32.5168,2,  32.5239,2,    379.7,2,     5.92,2,     3.34,2,     0.00,2,     0.70,2, -999.000,9, -999.000,9,    0.723,3,    7.509,3,     -999,9,   2120.4,2,   2246.4,2,   7.6974,    25.00,2,  -1.7473
  77DN20020420,   GNS,    41,  1,      8,2,20020514, 554, 78.9732,  -9.9445,  266,     50.1,  -1.7465,  32.5168,2,  32.5244,2,    380.8,2,     5.95,2,     3.35,2,     0.00,2,     0.70,2, -999.000,9, -999.000,9,    0.701,3,    7.446,3,     -999,9,   2117.5,2,   2246.8,2,   7.6926,    25.00,2,  -1.7473
  77DN20020420,   GNS,    41,  1,      7,2,20020514, 554, 78.9732,  -9.9445,  266,     59.6,  -1.7458,  32.5175,2,  32.5392,2,    380.0,2,     5.92,2,     3.39,2,     0.00,2,     0.70,2, -999.000,9, -999.000,9,    0.642,3,    7.228,3,     -999,9,   2118.3,2,   2248.0,2,   7.6984,    25.00,2,  -1.7468
  77DN20020420,   GNS,    41,  1,      6,2,20020514, 554, 78.9732,  -9.9445,  266,     80.2,  -1.7402,  32.6659,2,  32.6743,2,    373.0,2,     6.83,2,     5.47,2,     0.00,2,     0.68,2, -999.000,9, -999.000,9,    0.655,3,    6.580,3,     1.79,2,   2121.3,2,   2250.7,2,   7.6916,    25.00,2,  -1.7416
  77DN20020420,   GNS,    41,  1,      5,2,20020514, 554, 78.9732,  -9.9445,  266,     99.9,  -1.6147,  32.9376,2,  33.0336,2,    358.4,2,     6.86,2,     5.51,2,     0.00,2,     0.69,2, -999.000,9, -999.000,9,    0.588,3,    5.824,3,      1.4,2,   2127.6,2,   2255.4,2,   7.6896,    25.00,2,  -1.6166
  77DN20020420,   GNS,    41,  1,      4,2,20020514, 554, 78.9732,  -9.9445,  266,    124.6,  -1.4147,  33.7024,2,  33.7104,2,    338.8,2,     7.80,2,     7.62,2,     0.00,2,     0.70,2, -999.000,9, -999.000,9,    0.494,3,    5.510,3,     -999,9,   2139.7,2,   2269.0,2,   7.6903,    25.00,2,  -1.4175
  77DN20020420,   GNS,    41,  1,      3,2,20020514, 554, 78.9732,  -9.9445,  266,    151.7,  -0.9683,  33.9793,2,  33.9865,2,    322.0,2,     8.72,2,     9.40,2,     0.01,2,     0.76,2, -999.000,9, -999.000,9,    0.495,3,    5.247,3,     0.78,2,   2138.5,2,   2270.9,2,   7.6922,    25.00,2,  -0.9724
  77DN20020420,   GNS,    41,  1,      2,2,20020514, 554, 78.9732,  -9.9445,  266,    201.7,  -0.6817,  34.2030,2,  34.2003,2,    312.5,2,     9.18,2,    10.27,2,     0.01,2,     0.79,2, -999.000,9, -999.000,9,    0.387,3,    4.525,3,     0.37,2,   2140.4,2,   2273.3,2,   7.6921,    25.00,2,  -0.6878
  77DN20020420,   GNS,    41,  1,      1,2,20020514, 554, 78.9732,  -9.9445,  266,    254.9,  -0.4001,  34.3855,2,  34.3866,2,    300.1,2,    10.54,2,    11.10,2,     0.01,2,     0.83,2, -999.000,9, -999.000,9,    0.389,3,    4.177,3,     0.44,2,   2145.7,2,   2280.6,2,   7.6882,    25.00,2,  -0.4087