BOTTLE,20090507PRINUNIVRMK
EXPOCODE,SECT_ID,STNNBR,CASTNO,BTLNBR,BTLNBR_FLAG_W,DATE,TIME,LATITUDE,LONGITUDE,DEPTH,CTDPRS,CTDTMP,CTDSAL,CTDSAL_FLAG_W,SALNTY,SALNTY_FLAG_W,OXYGEN,OXYGEN_FLAG_W,SILCAT,SILCAT_FLAG_W,NITRAT,NITRAT_FLAG_W,NITRIT,NITRIT_FLAG_W,PHSPHT,PHSPHT_FLAG_W,CFC-11,CFC-11_FLAG_W,CFC-12,CFC-12_FLAG_W,CFC113,CFC113_FLAG_W,CCL4,CCL4_FLAG_W,SF6,SF6_FLAG_W,TCARBN,TCARBN_FLAG_W,ALKALI,ALKALI_FLAG_W,PH_SWS,PH_TEMP,PH_SWS_FLAG_W,THETA
,,,,,,,,,,METERS,DBARS,ITS-90,PSS-78,,PSS-78,,UMOL/KG,,UMOL/KG,,UMOL/KG,,UMOL/KG,,UMOL/KG,,PMOL/KG,,PMOL/KG,,PMOL/KG,,PMOL/KG,,FMOL/KG,,UMOL/KG,,UMOL/KG,,,DEGC,,DEGC
  77DN20020420,   GNS,    25,  1,     23,2,20020509, 504, 81.3648,  -7.2630, 2179,      3.4,  -1.7100,  32.0028,2,  34.0882,2,    392.0,2,     6.36,2,     2.70,2,     0.00,2,     0.77,2, -999.000,9, -999.000,9,    0.836,3,    8.981,3,     -999,9,   2092.3,2,   2230.0,2,   7.7066,    25.00,2,  -1.7101
  77DN20020420,   GNS,    25,  1,     22,2,20020509, 504, 81.3648,  -7.2630, 2179,      9.8,  -1.7099,  32.0026,2,  34.0917,2,    391.6,2,     6.24,2,     2.71,2,     0.00,2,     0.77,2, -999.000,9, -999.000,9,    0.778,3,    8.410,3,     -999,9,   2095.3,2,   2230.3,2,   7.7076,    25.00,2,  -1.7101
  77DN20020420,   GNS,    25,  1,     20,2,20020509, 504, 81.3648,  -7.2630, 2179,     20.1,  -1.7164,  32.0051,2,  34.0813,2,    391.2,2,     6.51,2,     2.73,2,     0.00,2,     0.76,2, -999.000,9, -999.000,9,    0.734,3,    7.531,3,     -999,9,   2096.8,2,   2232.2,2,   7.7066,    25.00,2,  -1.7168
  77DN20020420,   GNS,    25,  1,     19,2,20020509, 504, 81.3648,  -7.2630, 2179,     30.1,  -1.7426,  32.1955,2,  33.8993,2,    385.1,2,     6.96,2,     3.16,2,     0.00,2,     0.66,2, -999.000,9, -999.000,9,    0.780,3,    6.468,3,     1.64,2,   2113.0,2,   2237.8,2,   7.6874,    25.00,2,  -1.7432
  77DN20020420,   GNS,    25,  1,     18,2,20020509, 504, 81.3648,  -7.2630, 2179,     51.0,  -1.5656,  33.0789,2,  33.0919,2,    341.1,2,    11.75,2,     7.44,2,     0.00,2,     0.83,2, -999.000,9, -999.000,9,    0.588,3,    5.313,3,     1.69,2,   2143.7,2,   2261.0,2,   7.6463,    25.00,2,  -1.5666
  77DN20020420,   GNS,    25,  1,     17,2,20020509, 504, 81.3648,  -7.2630, 2179,     76.0,  -1.7069,  33.7902,2,  33.7979,2,    345.0,2,     7.24,2,     6.96,2,     0.00,2,     0.63,2, -999.000,9, -999.000,9,    0.593,3,    5.796,3,     -999,9,   2142.8,2,   2278.3,2,   7.6883,    25.00,2,  -1.7084
  77DN20020420,   GNS,    25,  1,     16,2,20020509, 504, 81.3648,  -7.2630, 2179,    100.2,  -1.6462,  34.0884,2,  34.0903,2,    341.3,2,     5.35,2,     7.21,2,     0.00,2,     0.59,2, -999.000,9, -999.000,9,    0.530,3,    5.414,3,     1.46,2,   2138.0,2,   2282.7,2,   7.7085,    25.00,2,  -1.6483
  77DN20020420,   GNS,    25,  1,     15,2,20020509, 504, 81.3648,  -7.2630, 2179,    125.6,  -1.5655,  34.2362,2,  34.2319,2,    341.4,2,     4.59,2,     7.70,2,     0.00,2,     0.59,2, -999.000,9, -999.000,9,    0.476,3,    5.319,3,     -999,9,   2134.8,2,   2280.7,2,   7.7210,    25.00,2,  -1.5683
  77DN20020420,   GNS,    25,  1,     14,2,20020509, 504, 81.3648,  -7.2630, 2179,    150.8,  -0.9717,  34.3577,2,  34.3590,2,    312.5,2,     6.83,2,     9.94,2,     0.00,2,     0.73,2, -999.000,9, -999.000,9,    0.375,3,    3.911,3,      0.7,2,   2143.3,2,   2284.3,2,   7.6959,    25.00,2,  -0.9759
  77DN20020420,   GNS,    25,  1,     13,2,20020509, 504, 81.3648,  -7.2630, 2179,    200.4,   0.0991,  34.6155,2,  34.6107,2,    289.2,2,     8.29,2,    12.39,2,     0.00,2,     0.86,2, -999.000,9, -999.000,9,    0.292,3,    3.519,3,     0.72,2,   2145.2,2,   2289.8,2,   7.6920,    25.00,2,   0.0915
  77DN20020420,   GNS,    25,  1,     12,2,20020509, 504, 81.3648,  -7.2630, 2179,    249.9,   0.4656,  34.7600,2,  34.7500,2,    293.9,2,     7.66,2,    12.95,2,     0.00,2,     0.86,2, -999.000,9, -999.000,9,    0.288,3,    3.329,3,     0.52,2,   2146.7,2,   2295.4,2,   7.7073,    25.00,2,   0.4552
  77DN20020420,   GNS,    25,  1,     11,2,20020509, 504, 81.3648,  -7.2630, 2179,    300.0,   0.7396,  34.8254,2,  34.8135,2,    289.5,2,     6.94,2,    13.11,2,     0.00,2,     0.85,2, -999.000,9, -999.000,9,    0.277,3,    3.536,3,     0.58,2,   2141.0,2,   2294.8,2,   7.7170,    25.00,2,   0.7263
  77DN20020420,   GNS,    25,  1,     10,2,20020509, 504, 81.3648,  -7.2630, 2179,    400.4,   0.5411,  34.8482,2,  34.8379,2,    296.0,2,     7.09,2,    13.22,2,     0.00,2,     0.87,2, -999.000,9, -999.000,9,    0.268,3,    2.900,3,     0.52,2,   2143.7,2,   2298.3,2,   7.7189,    25.00,2,   0.5236
  77DN20020420,   GNS,    25,  1,      9,2,20020509, 504, 81.3648,  -7.2630, 2179,    500.8,   0.4916,  34.8680,2,  34.8562,2,    300.1,2,     6.67,2,    13.30,2,     0.00,2,     0.86,2, -999.000,9, -999.000,9,    0.197,3,    2.345,3,     0.55,2,   2143.1,2,   2297.1,2,   7.7218,    25.00,2,   0.4695
  77DN20020420,   GNS,    25,  1,      8,2,20020509, 504, 81.3648,  -7.2630, 2179,    699.7,   0.2081,  34.8778,2,  34.8664,2,    303.1,2,     6.43,2,    12.96,2,     0.00,2,     0.86,2, -999.000,9, -999.000,9,    0.195,3,    2.508,3,      0.7,2,   2144.7,2,   2299.6,2,   7.7208,    25.00,2,   0.1776
  77DN20020420,   GNS,    25,  1,      7,2,20020509, 504, 81.3648,  -7.2630, 2179,    900.8,  -0.0290,  34.8888,2,  34.8772,2,    302.8,2,     6.99,2,    13.13,2,     0.00,2,     0.88,2, -999.000,9, -999.000,9,    0.192,3,    1.933,3,     0.42,2,   2143.8,2,   2300.4,2,   7.7199,    25.00,2,  -0.0682
  77DN20020420,   GNS,    25,  1,      6,2,20020509, 504, 81.3648,  -7.2630, 2179,   1220.2,  -0.2449,  34.9047,2,  34.8938,2,    306.4,2,     7.67,2,    13.61,2,     0.00,2,     0.89,2, -999.000,9, -999.000,9,    0.185,3,    1.564,3,     0.37,2,   2147.1,2,   2302.8,2,   7.7189,    25.00,2,  -0.2993
  77DN20020420,   GNS,    25,  1,      5,2,20020509, 504, 81.3648,  -7.2630, 2179,   1270.9,  -0.2761,  34.9078,2,  34.8985,2,    303.5,2,     7.87,2,    13.66,2,     0.00,2,     0.90,2, -999.000,9, -999.000,9,    0.180,3,    1.469,3,     0.45,2,   2146.5,2,   2298.2,2,   7.7189,    25.00,2,  -0.3330
  77DN20020420,   GNS,    25,  1,      4,2,20020509, 504, 81.3648,  -7.2630, 2179,   1320.5,  -0.2953,  34.9094,2,  34.8985,2,    302.2,2,     8.02,2,    13.66,2,     0.00,2,     0.90,2, -999.000,9, -999.000,9,    0.161,3,    1.431,3,     0.18,2,   2146.6,2,   2301.0,2,   7.7199,    25.00,2,  -0.3548
  77DN20020420,   GNS,    25,  1,      3,2,20020509, 504, 81.3648,  -7.2630, 2179,   1500.9,  -0.3724,  34.9163,2,  34.9058,2,    300.0,2,     8.79,2,    13.99,2,     0.00,2,     0.92,2, -999.000,9, -999.000,9,    0.141,3,    1.121,3,     0.24,2,   2144.9,2,   2298.2,2,   7.7189,    25.00,2,  -0.4415
  77DN20020420,   GNS,    25,  1,      2,2,20020509, 504, 81.3648,  -7.2630, 2179,   2063.2,  -0.5331,  34.9271,2,  34.9148,2,    298.4,2,    10.04,2,    14.60,2,     0.00,2,     0.95,2, -999.000,9, -999.000,9,    0.137,3,    0.943,3,        0,2,   2145.3,2,   2302.0,2,   7.7170,    25.00,2,  -0.6355
  77DN20020420,   GNS,    25,  1,      1,2,20020509, 504, 81.3648,  -7.2630, 2179,   2164.2,  -0.5828,  34.9268,2,  34.9154,2,    299.7,2,    10.07,2,    14.71,2,     0.00,2,     0.95,2, -999.000,9, -999.000,9,    0.120,3,    0.843,3,     0.22,2,   2148.7,2,   2303.0,2,   7.7160,    25.00,2,  -0.6913
  77DN20020420,   GNS,    26,  1,     24,2,20020509, 929, 81.3380,  -7.3455, -999,      1.7,  -1.6863,  32.0020,2,  32.0149,2,    389.8,2,     6.41,2,     2.72,2,     0.00,2,     0.78,2, -999.000,9, -999.000,9, -999.000,9, -999.000,9,     -999,9,   2095.8,2,   2229.1,2,   7.7091,    25.00,2,  -1.6863
  77DN20020420,   GNS,    26,  1,     20,2,20020509, 929, 81.3380,  -7.3455, -999,     10.3,  -1.6889,  32.0027,2,  32.0143,2,    388.8,2,     6.61,2,     2.72,2,     0.00,2,     0.78,2,    9.030,2,    4.220,2,    0.754,3,    7.844,3,     1.49,2,   2097.1,2,   2231.6,2,   7.7082,    25.00,2,  -1.6891
  77DN20020420,   GNS,    26,  1,     19,2,20020509, 929, 81.3380,  -7.3455, -999,     19.8,  -1.6894,  32.0044,2,  32.0145,2,    389.0,2,     6.47,2,     2.72,2,     0.00,2,     0.78,2,    9.180,2,    4.220,2,    0.767,3,    7.918,3,     -999,9,   2096.9,2,   2228.0,2,   7.7072,    25.00,2,  -1.6897
  77DN20020420,   GNS,    26,  1,     18,2,20020509, 929, 81.3380,  -7.3455, -999,     29.8,  -1.6911,  32.0082,2,  32.0506,2,    389.2,2,     6.51,2,     2.88,2,     0.00,2,     0.76,2,    9.090,2,    4.220,2,    0.755,3,    7.918,3,     1.54,2,   2098.9,2,   2232.4,2,   7.7053,    25.00,2,  -1.6916
  77DN20020420,   GNS,    26,  1,     11,2,20020509, 929, 81.3380,  -7.3455, -999,     50.1,  -1.6109,  32.8812,2,  32.9777,2,    346.8,2,    11.67,2,     6.98,2,     0.00,2,     0.82,2,    7.670,2,    3.680,2,    0.612,3,    5.957,3,     1.61,2,   2139.8,2,   2256.2,2,   7.6473,    25.00,2,  -1.6118
  77DN20020420,   GNS,    26,  1,     10,2,20020509, 929, 81.3380,  -7.3455, -999,     72.9,  -1.7385,  33.7564,2,  33.7774,2,    347.8,2,     6.72,2,     6.44,2,     0.00,2,     0.60,2,    7.500,2,    3.580,2,    0.599,3,    6.268,3,     1.25,2,   2141.7,2,   2278.7,2,   7.6932,    25.00,2,  -1.7399
  77DN20020420,   GNS,    26,  1,      6,2,20020509, 929, 81.3380,  -7.3455, -999,    100.0,  -1.6702,  34.1142,2,  34.1232,2,    340.9,2,     5.03,2,     7.05,2,     0.00,2,     0.58,2,    6.860,2,    3.340,2,    0.526,3,    6.024,3,     -999,9,   2132.8,2,   2282.6,2,   7.7143,    25.00,2,  -1.6723
  77DN20020420,   GNS,    26,  1,      5,2,20020509, 929, 81.3380,  -7.3455, -999,    124.4,  -1.6616,  34.2225,2,  34.2289,2,    343.8,2,     4.04,2,     7.04,2,     0.00,2,     0.54,2,    6.880,2,    3.340,2,    0.528,3,    6.074,3,     1.05,2,   2130.6,2,   2281.1,2,   7.7297,    25.00,2,  -1.6642
  77DN20020420,   GNS,    26,  2,     24,2,20020509,1214, 81.3380,  -7.3455, -999,    150.4,  -1.6554,  34.3215,2,  34.3158,2,    347.4,2,     3.36,2,     7.18,2,     0.00,2,     0.55,2,    6.910,2,    3.380,2,    0.537,3,    6.517,3,     -999,9,   2124.7,2,   2280.2,2,   7.7413,    25.00,2,  -1.6587
  77DN20020420,   GNS,    26,  2,     23,2,20020509,1214, 81.3380,  -7.3455, -999,    200.2,  -0.1082,  34.5449,2,  34.5379,2,    294.1,2,     7.85,2,    11.52,2,     0.00,2,     0.84,2,    3.570,2,    1.960,2,    0.236,3,    3.701,3,     -999,9,   2149.1,2,   2280.1,2,   7.6872,    25.00,2,  -0.1154
  77DN20020420,   GNS,    26,  2,     22,2,20020509,1214, 81.3380,  -7.3455, -999,    250.2,   0.6628,  34.7467,2,  34.7335,2,    287.8,2,     7.87,2,    12.62,2,     0.00,2,     0.88,2,    3.130,2,    1.640,2,    0.237,3,    3.944,3,     0.65,2,   2147.3,2,   2286.5,2,   7.7045,    25.00,2,   0.6520
  77DN20020420,   GNS,    26,  2,     21,2,20020509,1214, 81.3380,  -7.3455, -999,    300.7,   0.9231,  34.8290,2,  34.8235,2,    293.0,2,     6.75,2,    12.66,2,     0.00,2,     0.86,2,    3.550,2,    1.860,2,    0.247,3,    4.744,3,     -999,9,   2143.7,2,   2296.5,2,   7.7179,    25.00,2,   0.9093
  77DN20020420,   GNS,    26,  2,     20,2,20020509,1214, 81.3380,  -7.3455, -999,    400.3,   0.7426,  34.8526,2,  34.8446,2,    294.4,2,     6.87,2,    12.72,2,     0.00,2,     0.87,2,    3.110,2,    1.610,2,    0.188,3,    4.367,3,     -999,9,   2142.1,2,   2295.8,2,   7.7189,    25.00,2,   0.7244
  77DN20020420,   GNS,    26,  2,     19,2,20020509,1214, 81.3380,  -7.3455, -999,    499.2,   0.5107,  34.8585,2,  34.8495,2,   -999.0,2,     7.07,2,    12.85,2,     0.00,2,     0.87,2,    2.310,2,    1.210,2,    0.214,3,    3.613,3,     0.69,2,   2144.7,2,   2293.6,2,   7.7189,    25.00,2,   0.4886
  77DN20020420,   GNS,    26,  2,     18,2,20020509,1214, 81.3380,  -7.3455, -999,    700.5,   0.2147,  34.8771,2,  34.8729,2,    299.0,2,     6.68,2,    12.85,2,     0.00,2,     0.88,2,    1.940,2,    1.000,2,    0.159,3,    3.254,3,      0.5,2,   2143.1,2,   2297.8,2,   7.7199,    25.00,2,   0.1841
  77DN20020420,   GNS,    26,  2,     13,2,20020509,1214, 81.3380,  -7.3455, -999,    899.5,   0.0000,  34.8872,2,  34.8904,2,    301.7,2,     7.06,2,    12.88,2,     0.00,2,     0.89,2, -999.000,9, -999.000,9,    0.092,3,    2.697,3,      0.4,2,   2142.9,2,   2298.9,2,   7.7199,    25.00,2,  -0.0393
  77DN20020420,   GNS,    26,  2,     12,2,20020509,1214, 81.3380,  -7.3455, -999,   1100.3,  -0.1312,  34.8960,2,  34.8997,2,    300.8,2,     7.36,2,    12.98,2,     0.00,2,     0.89,2,    1.740,2,    0.890,2,    0.273,3,    2.970,3,     0.44,2,   2146.3,2,   2298.3,2,   7.7189,    25.00,2,  -0.1801
  77DN20020420,   GNS,    26,  2,     11,2,20020509,1214, 81.3380,  -7.3455, -999,   1249.4,  -0.2496,  34.9055,2,  34.9069,2,    300.3,2,     7.89,2,    13.28,2,     0.00,2,     0.90,2, -999.000,9, -999.000,9,    0.120,3,    2.160,3,     0.44,2,   2148.3,2,   2299.8,2,   7.7199,    25.00,2,  -0.3056
  77DN20020420,   GNS,    26,  2,     10,2,20020509,1214, 81.3380,  -7.3455, -999,   1301.4,  -0.2853,  34.9083,2,  34.9115,2,    300.0,2,     8.12,2,    13.47,2,     0.00,2,     0.91,2,    1.430,2,    0.700,2,    0.148,3,    2.696,3,     0.52,2,   2146.7,2,   2301.1,2,   7.7179,    25.00,2,  -0.3439
  77DN20020420,   GNS,    26,  2,      9,2,20020509,1214, 81.3380,  -7.3455, -999,   1351.5,  -0.2992,  34.9098,2,  34.9120,2,    301.3,2,     8.24,2,    13.40,2,     0.00,2,     0.92,2,    1.390,2,    0.670,2,    0.269,3,    2.429,3,      0.4,2,   2148.4,2,   2302.4,2,   7.7198,    25.00,2,  -0.3605
  77DN20020420,   GNS,    26,  2,      1,2,20020509,1214, 81.3380,  -7.3455, -999,   1379.2,  -0.2993,  34.9098,2,  34.9012,2,    299.4,2,     8.21,2,    13.29,2,     0.00,2,     0.91,2,    1.420,2,    0.700,2,    0.147,3,    2.521,3,     0.35,2,   2146.5,2,   2299.7,2,   7.7237,    25.00,2,  -0.3621
  77DN20020420,   GNS,    27,  1,     19,2,20020509,1616, 81.2625,  -8.3680, 1066,      2.2,  -1.7224,  31.9516,2,  31.9583,2,    388.7,2,     6.67,2,     2.93,2,     0.00,2,     0.83,2, -999.000,9, -999.000,9,    0.564,3,    9.640,3,     -999,9,   2090.1,2,   2222.8,2,   7.7111,    25.00,2,  -1.7224
  77DN20020420,   GNS,    27,  1,     18,2,20020509,1616, 81.2625,  -8.3680, 1066,      9.8,  -1.7216,  31.9526,2,  31.9511,2,    389.2,2,     6.66,2,     2.97,2,     0.00,2,     0.83,2, -999.000,9, -999.000,9,    0.758,3,    8.721,3,     1.93,2,   2090.9,2,   2222.2,2,   7.7101,    25.00,2,  -1.7217
  77DN20020420,   GNS,    27,  1,     16,2,20020509,1616, 81.2625,  -8.3680, 1066,     19.9,  -1.7214,  31.9532,2,  31.9612,2,    388.7,2,     6.62,2,     2.98,2,     0.00,2,     0.84,2, -999.000,9, -999.000,9,    0.865,3,    9.255,3,     -999,9,   2092.0,2,   2222.3,2,   7.7120,    25.00,2,  -1.7217
  77DN20020420,   GNS,    27,  1,     15,2,20020509,1616, 81.2625,  -8.3680, 1066,     30.1,  -1.7216,  31.9528,2,  31.9627,2,    389.3,2,     6.70,2,     3.04,2,     0.00,2,     0.84,2, -999.000,9, -999.000,9,    0.698,3,    8.935,3,      1.8,2,   2091.8,2,   2222.6,2,   7.7063,    25.00,2,  -1.7221
  77DN20020420,   GNS,    27,  1,     14,2,20020509,1616, 81.2625,  -8.3680, 1066,     50.0,  -1.6491,  32.3374,2,  32.3918,2,    352.6,2,    13.62,3,     6.80,2,     0.00,2,     0.99,3, -999.000,9, -999.000,9,    0.647,3,    5.924,3,     -999,9,   2124.0,2,   2233.2,2,   7.6437,    25.00,2,  -1.6499
  77DN20020420,   GNS,    27,  1,     13,2,20020509,1616, 81.2625,  -8.3680, 1066,     75.0,  -1.5979,  33.4787,2,  33.5546,2,    338.3,2,     9.38,2,     7.24,2,     0.00,2,     0.73,2, -999.000,9, -999.000,9,    0.533,3,    6.025,3,     1.45,2,   2150.7,2,   2270.5,2,   7.6615,    25.00,2,  -1.5994
  77DN20020420,   GNS,    27,  1,     12,2,20020509,1616, 81.2625,  -8.3680, 1066,    100.2,  -1.6147,  34.0033,2,  34.0174,2,    338.5,2,     6.12,2,     7.33,2,     0.00,2,     0.62,2, -999.000,9, -999.000,9,    0.318,3,    5.936,3,     -999,9,   2146.2,2,   2277.3,2,   7.6960,    25.00,2,  -1.6168
  77DN20020420,   GNS,    27,  1,     11,2,20020509,1616, 81.2625,  -8.3680, 1066,    119.0,  -1.3409,  34.1917,2,  34.1995,2,    323.9,2,     6.44,2,     8.74,2,     0.00,2,     0.69,2, -999.000,9, -999.000,9,    0.487,3,    5.771,3,        1,2,   2143.8,2,   2274.0,2,   7.6931,    25.00,2,  -1.3437
  77DN20020420,   GNS,    27,  1,     10,2,20020509,1616, 81.2625,  -8.3680, 1066,    150.0,  -0.5526,  34.4349,2,  34.4385,2,    300.3,2,     7.77,2,    10.87,2,     0.00,2,     0.80,2, -999.000,9, -999.000,9,    0.252,3,    4.264,3,     -999,9,   2146.4,2,   2279.9,2,   7.6814,    25.00,2,  -0.5573
  77DN20020420,   GNS,    27,  1,      9,2,20020509,1616, 81.2625,  -8.3680, 1066,    199.9,   0.3450,  34.6770,2,  34.6763,2,    288.6,2,     8.10,2,    12.40,2,     0.00,2,     0.85,2, -999.000,9, -999.000,9,    0.262,3,    3.876,3,     0.66,2,   2147.9,2,   2287.0,2,   7.6939,    25.00,2,   0.3370
  77DN20020420,   GNS,    27,  1,      8,2,20020509,1616, 81.2625,  -8.3680, 1066,    250.3,   0.6202,  34.7892,2,  34.7876,2,    289.8,2,     7.50,2,    12.73,2,     0.00,2,     0.86,2, -999.000,9, -999.000,9,    0.251,3,    3.747,3,     -999,9,   2147.9,2,   2290.6,2,   7.7073,    25.00,2,   0.6095
  77DN20020420,   GNS,    27,  1,      7,2,20020509,1616, 81.2625,  -8.3680, 1066,    300.3,   0.7004,  34.8347,2,  34.8336,2,    294.2,2,     7.01,2,    12.77,2,     0.00,2,     0.86,2, -999.000,9, -999.000,9,    0.272,3,    3.695,3,     0.67,2,   2145.9,2,   2292.8,2,   7.7151,    25.00,2,   0.6872
  77DN20020420,   GNS,    27,  1,      6,2,20020509,1616, 81.2625,  -8.3680, 1066,    400.2,   0.5062,  34.8546,2,  34.8523,2,    293.5,2,     6.98,2,    12.91,2,     0.00,2,     0.86,2, -999.000,9, -999.000,9,    0.225,3,    2.932,3,     0.57,2,   2144.3,2,   2291.9,2,   7.7179,    25.00,2,   0.4888
  77DN20020420,   GNS,    27,  1,      5,2,20020509,1616, 81.2625,  -8.3680, 1066,    499.5,   0.3906,  34.8657,2,  34.8639,2,    294.6,2,     6.98,2,    12.93,2,     0.00,2,     0.86,2, -999.000,9, -999.000,9,    0.179,3,    2.803,3,     0.58,2,   2146.3,2,   2293.0,2,   7.7189,    25.00,2,   0.3689
  77DN20020420,   GNS,    27,  1,      4,2,20020509,1616, 81.2625,  -8.3680, 1066,    700.0,   0.2573,  34.8748,2,  34.8737,2,    299.1,2,     6.81,2,    12.78,2,     0.00,2,     0.86,2, -999.000,9, -999.000,9,    0.185,3,    2.518,3,     -999,9,   2147.8,2,   2298.0,2,   7.7199,    25.00,2,   0.2265
  77DN20020420,   GNS,    27,  1,      3,2,20020509,1616, 81.2625,  -8.3680, 1066,    800.8,   0.1516,  34.8799,2,  34.8774,2,    300.2,2,     6.86,2,    12.73,2,     0.00,2,     0.86,2, -999.000,9, -999.000,9,    0.122,3,    2.409,3,     0.46,2,   2148.3,2,   2298.7,2,   7.7218,    25.00,2,   0.1163
  77DN20020420,   GNS,    27,  1,      2,2,20020509,1616, 81.2625,  -8.3680, 1066,   1000.6,  -0.0479,  34.8908,2,  34.8886,2,    302.9,2,     7.02,2,    12.79,2,     0.00,2,     0.87,2, -999.000,9, -999.000,9,    0.087,3,    2.322,3,     0.38,2,   2146.4,2,   2302.9,2,   7.7189,    25.00,2,  -0.0922
  77DN20020420,   GNS,    27,  1,      1,2,20020509,1616, 81.2625,  -8.3680, 1066,   1045.4,  -0.0774,  34.8928,2,  34.8908,2,    303.6,2,     7.10,2,    12.80,2,     0.00,2,     0.87,2, -999.000,9, -999.000,9,    0.086,3,    2.130,3,     0.35,2,   2146.4,2,   2299.3,2,   7.7208,    25.00,2,  -0.1238