BOTTLE,20090507PRINUNIVRMK
EXPOCODE,SECT_ID,STNNBR,CASTNO,BTLNBR,BTLNBR_FLAG_W,DATE,TIME,LATITUDE,LONGITUDE,DEPTH,CTDPRS,CTDTMP,CTDSAL,CTDSAL_FLAG_W,SALNTY,SALNTY_FLAG_W,OXYGEN,OXYGEN_FLAG_W,SILCAT,SILCAT_FLAG_W,NITRAT,NITRAT_FLAG_W,NITRIT,NITRIT_FLAG_W,PHSPHT,PHSPHT_FLAG_W,CFC-11,CFC-11_FLAG_W,CFC-12,CFC-12_FLAG_W,CFC113,CFC113_FLAG_W,CCL4,CCL4_FLAG_W,SF6,SF6_FLAG_W,TCARBN,TCARBN_FLAG_W,ALKALI,ALKALI_FLAG_W,PH_SWS,PH_TEMP,PH_SWS_FLAG_W,THETA
,,,,,,,,,,METERS,DBARS,ITS-90,PSS-78,,PSS-78,,UMOL/KG,,UMOL/KG,,UMOL/KG,,UMOL/KG,,UMOL/KG,,PMOL/KG,,PMOL/KG,,PMOL/KG,,PMOL/KG,,FMOL/KG,,UMOL/KG,,UMOL/KG,,,DEGC,,DEGC
  77DN20020420,   GNS,    80,  1,     18,2,20020527, 900, 67.7707, -20.5198,  772,     11.2,   1.2649,  34.6745,2,-999.0000,9,    360.2,2,     3.48,2,     6.33,2,     0.11,2,     0.54,2, -999.000,9, -999.000,9, -999.000,9, -999.000,9,     -999,9,   -999.0,2,   2295.0,2,   7.8228,    25.00,2,   1.2644
  77DN20020420,   GNS,    80,  1,     17,2,20020527, 900, 67.7707, -20.5198,  772,     22.1,   1.2349,  34.6725,2,-999.0000,9,    358.3,2,     3.54,2,     6.47,2,     0.11,2,     0.54,2, -999.000,9, -999.000,9, -999.000,9, -999.000,9,     -999,9,   2104.5,2,   2292.4,2,   7.8169,    25.00,2,   1.2339
  77DN20020420,   GNS,    80,  1,     16,2,20020527, 900, 67.7707, -20.5198,  772,     31.4,   1.2248,  34.6725,2,-999.0000,9,    358.2,2,     3.56,2,     6.51,2,     0.10,2,     0.55,2, -999.000,9, -999.000,9,    0.541,3,    8.548,3,     1.82,2,   -999.0,2,   2293.3,2,   7.8160,    25.00,2,   1.2234
  77DN20020420,   GNS,    80,  1,     15,2,20020527, 900, 67.7707, -20.5198,  772,     41.9,   1.2199,  34.6721,2,-999.0000,9,    358.4,2,     3.58,2,     6.61,2,     0.11,2,     0.55,2, -999.000,9, -999.000,9, -999.000,9, -999.000,9,     -999,9,   2104.6,2,   2292.7,2,   7.8160,    25.00,2,   1.2180
  77DN20020420,   GNS,    80,  1,     14,2,20020527, 900, 67.7707, -20.5198,  772,     60.3,   0.9072,  34.6699,2,  34.6723,2,    351.7,2,     3.99,2,     7.69,2,     0.10,2,     0.61,2, -999.000,9, -999.000,9,    0.619,3,    7.528,3,     -999,9,   -999.0,2,   2291.9,2,   7.7916,    25.00,2,   0.9046
  77DN20020420,   GNS,    80,  1,     13,2,20020527, 900, 67.7707, -20.5198,  772,     80.6,   0.7287,  34.6675,2,-999.0000,9,    351.1,2,     3.94,2,     8.27,2,     0.10,2,     0.63,2, -999.000,9, -999.000,9, -999.000,9, -999.000,9,      1.5,2,   2116.3,2,   2289.4,2,   7.7829,    25.00,2,   0.7253
  77DN20020420,   GNS,    80,  1,     12,2,20020527, 900, 67.7707, -20.5198,  772,    101.4,   0.6204,  34.6660,2,  34.6690,2,    350.9,2,     4.14,2,     8.51,2,     0.10,2,     0.65,2, -999.000,9, -999.000,9,    0.374,3,    6.931,3,     1.73,2,   -999.0,2,   2289.9,2,   7.7761,    25.00,2,   0.6162
  77DN20020420,   GNS,    80,  1,     11,2,20020527, 900, 67.7707, -20.5198,  772,    126.5,   0.4375,  34.6941,2,-999.0000,9,    344.9,2,     4.48,2,     9.55,2,     0.11,2,     0.71,2, -999.000,9, -999.000,9, -999.000,9, -999.000,9,     1.64,2,   2126.4,2,   2289.2,2,   7.7586,    25.00,2,   0.4324
  77DN20020420,   GNS,    80,  1,     10,2,20020527, 900, 67.7707, -20.5198,  772,    149.1,   0.3722,  34.7656,2,-999.0000,9,    326.9,2,     5.46,2,    12.01,2,     0.11,2,     0.82,2, -999.000,9, -999.000,9, -999.000,9, -999.000,9,     1.57,2,   -999.0,2,   2290.3,2,   7.7247,    25.00,2,   0.3663
  77DN20020420,   GNS,    80,  1,      9,2,20020527, 900, 67.7707, -20.5198,  772,    208.5,   0.9981,  34.9102,2,  34.9131,2,    308.3,2,     5.94,2,    13.07,2,     0.07,2,     0.87,2, -999.000,9, -999.000,9,    0.286,3,    5.579,3,     1.04,2,   2147.6,2,   2296.8,2,   7.7228,    25.00,2,   0.9885
  77DN20020420,   GNS,    80,  1,      8,2,20020527, 900, 67.7707, -20.5198,  772,    300.7,   0.5571,  34.9048,2,-999.0000,9,    306.1,2,     6.35,2,    13.34,2,     0.06,2,     0.89,2, -999.000,9, -999.000,9,    0.388,3,    4.221,3,     0.76,2,   -999.0,2,   2296.5,2,   7.7199,    25.00,2,   0.5442
  77DN20020420,   GNS,    80,  1,      7,2,20020527, 900, 67.7707, -20.5198,  772,    452.0,   0.0651,  34.8988,2,-999.0000,9,    312.1,2,     6.72,2,    13.41,2,     0.07,2,     0.89,2, -999.000,9, -999.000,9, -999.000,9, -999.000,9,     1.03,2,   2151.1,2,   2296.2,2,   7.7121,    25.00,2,   0.0469
  77DN20020420,   GNS,    80,  1,      6,2,20020527, 900, 67.7707, -20.5198,  772,    499.9,  -0.0591,  34.8974,2,  34.8989,2,    312.3,2,     7.05,2,    13.70,2,     0.07,2,     0.90,2, -999.000,9, -999.000,9,    0.281,3,    3.270,3,     1.07,2,   -999.0,2,   2294.9,2,   7.7102,    25.00,2,  -0.0789
  77DN20020420,   GNS,    80,  1,      5,2,20020527, 900, 67.7707, -20.5198,  772,    601.2,  -0.2515,  34.8959,2,  34.8977,2,    312.9,2,     7.50,2,    13.73,2,     0.07,2,     0.91,2, -999.000,9, -999.000,9, -999.000,9, -999.000,9,     1.13,2,   2156.8,2,   2295.0,2,   7.7073,    25.00,2,  -0.2749
  77DN20020420,   GNS,    80,  1,      4,2,20020527, 900, 67.7707, -20.5198,  772,    650.2,  -0.3762,  34.8957,2,-999.0000,9,    311.3,2,     7.84,2,    14.00,2,     0.07,2,     0.93,2, -999.000,9, -999.000,9,    0.265,3,    2.762,3,     1.52,2,   -999.0,2,   2296.8,2,   7.7044,    25.00,2,  -0.4012
  77DN20020420,   GNS,    80,  1,      3,2,20020527, 900, 67.7707, -20.5198,  772,    700.7,  -0.4806,  34.8969,2,  34.8997,2,    308.9,2,     8.84,2,    14.20,2,     0.08,2,     0.94,2, -999.000,9, -999.000,9,    0.249,3,    2.542,3,     1.49,2,   2156.0,2,   2296.5,2,   7.7015,    25.00,2,  -0.5072
  77DN20020420,   GNS,    80,  1,      2,2,20020527, 900, 67.7707, -20.5198,  772,    716.9,  -0.4827,  34.8971,2,  34.8983,2,    308.7,2,     8.88,2,    14.27,2,     0.08,2,     0.94,2, -999.000,9, -999.000,9,    0.238,3,    2.481,3,     1.53,2,   -999.0,2,   2294.7,2,   7.7006,    25.00,2,  -0.5100
  77DN20020420,   GNS,    80,  1,      1,2,20020527, 900, 67.7707, -20.5198,  772,    757.1,  -0.4893,  34.8969,2,  34.9011,2,    308.8,2,     8.87,2,    14.07,2,     0.08,2,     0.93,2, -999.000,9, -999.000,9,    0.230,3,    2.489,3,     1.78,2,   2157.9,2,   2295.9,2,   7.7015,    25.00,2,  -0.5184
  77DN20020420,   GNS,    81,  1,     14,2,20020527,1312, 67.1980, -20.3347,  248,      9.1,   3.5285,  34.8368,2,  34.8379,2,    343.0,2,     4.75,2,     7.34,2,     0.12,2,     0.61,2,    5.380,2,    3.100,2,    0.481,3,    7.730,3,     -999,9,   -999.0,2,   2303.0,2,   7.8413,    25.00,2,   3.5279
  77DN20020420,   GNS,    81,  1,     13,2,20020527,1312, 67.1980, -20.3347,  248,     20.3,   3.5692,  34.8447,2,  34.8453,2,    339.6,2,     4.87,2,     7.66,2,     0.13,2,     0.63,2, -999.000,9, -999.000,9, -999.000,9, -999.000,9,     1.24,2,   2105.2,2,   2304.1,2,   7.8305,    25.00,2,   3.5679
  77DN20020420,   GNS,    81,  1,     12,2,20020527,1312, 67.1980, -20.3347,  248,     30.6,   3.5797,  34.8466,2,  34.8469,2,    339.6,2,     4.80,2,     7.68,2,     0.12,2,     0.64,2,    5.520,2,    3.070,2,    0.459,3,    7.564,3,     -999,9,   -999.0,2,   2304.4,2,   7.8315,    25.00,2,   3.5777
  77DN20020420,   GNS,    81,  1,     11,2,20020527,1312, 67.1980, -20.3347,  248,     37.8,   3.5742,  34.8459,2,-999.0000,9,    339.0,2,     4.88,2,     7.70,2,     0.12,2,     0.63,2, -999.000,9, -999.000,9, -999.000,9, -999.000,9,     -999,9,   2105.4,2,   2304.1,2,   7.8325,    25.00,2,   3.5717
  77DN20020420,   GNS,    81,  1,     10,2,20020527,1312, 67.1980, -20.3347,  248,     49.8,   3.5871,  34.8475,2,-999.0000,9,    338.3,2,     4.85,2,     7.64,2,     0.12,2,     0.64,2,    5.440,2,    3.070,2,    0.433,3,    7.044,3,     1.57,2,   -999.0,2,   2303.4,2,   7.8325,    25.00,2,   3.5838
  77DN20020420,   GNS,    81,  1,      9,2,20020527,1312, 67.1980, -20.3347,  248,     60.3,   3.5889,  34.8481,2,-999.0000,9,    338.5,2,     4.89,2,     7.62,2,     0.12,2,     0.63,2, -999.000,9, -999.000,9, -999.000,9, -999.000,9,     -999,9,   2109.8,2,   2304.3,2,   7.8325,    25.00,2,   3.5849
  77DN20020420,   GNS,    81,  1,      8,2,20020527,1312, 67.1980, -20.3347,  248,     80.7,   3.6142,  34.8510,2,-999.0000,9,    337.5,2,     4.95,2,     7.65,2,     0.12,2,     0.63,2,    5.500,2,    3.100,2,    0.401,3,    6.692,3,     -999,9,   -999.0,2,   2305.4,2,   7.8305,    25.00,2,   3.6089
  77DN20020420,   GNS,    81,  1,      7,2,20020527,1312, 67.1980, -20.3347,  248,     99.6,   3.6187,  34.8512,2,  34.8524,2,    335.3,2,     4.99,2,     7.66,2,     0.12,2,     0.64,2,    5.520,2,    3.070,2,    0.472,3,    6.411,3,     1.38,2,   2107.4,2,   2303.8,2,   7.8305,    25.00,2,   3.6121
  77DN20020420,   GNS,    81,  1,      6,2,20020527,1312, 67.1980, -20.3347,  248,    125.0,   3.6504,  34.8671,2,-999.0000,9,    334.2,2,     5.11,2,     8.07,2,     0.12,2,     0.68,2,    5.420,2,    3.070,2,    0.401,3,    5.731,3,     -999,9,   -999.0,2,   2304.7,2,   7.8237,    25.00,2,   3.6420
  77DN20020420,   GNS,    81,  1,      5,2,20020527,1312, 67.1980, -20.3347,  248,    159.3,   3.6031,  34.9312,2,  34.9312,2,    317.0,2,     6.48,2,    12.44,2,     0.16,2,     0.90,2,    5.270,2,    3.000,2,    0.393,3,    5.056,3,     1.68,2,   2136.4,2,   2302.3,2,   7.7576,    25.00,2,   3.5925
  77DN20020420,   GNS,    81,  1,      4,2,20020527,1312, 67.1980, -20.3347,  248,    174.7,   3.3217,  34.9183,2,-999.0000,9,    316.6,2,     6.51,2,    12.86,2,     0.15,2,     0.91,2,    5.320,2,    3.000,2,    0.465,3,    5.270,3,     1.56,2,   -999.0,2,   2302.7,2,   7.7537,    25.00,2,   3.3104
  77DN20020420,   GNS,    81,  1,      3,2,20020527,1312, 67.1980, -20.3347,  248,    200.6,   2.7833,  34.8860,2,  34.8877,2,    318.5,2,     6.75,2,    12.43,2,     0.15,2,     0.90,2, -999.000,9, -999.000,9,    0.474,3,    5.746,3,     1.78,2,   2143.0,2,   2302.9,2,   7.7479,    25.00,2,   2.7712
  77DN20020420,   GNS,    81,  1,      2,2,20020527,1312, 67.1980, -20.3347,  248,    225.4,   2.5512,  34.8997,2,  34.9050,2,    316.9,2,     7.08,2,    12.60,2,     0.14,2,     0.91,2, -999.000,9, -999.000,9, -999.000,9, -999.000,9,     1.72,2,   -999.0,2,   2302.0,2,   7.7411,    25.00,2,   2.5379
  77DN20020420,   GNS,    81,  1,      1,2,20020527,1312, 67.1980, -20.3347,  248,    246.2,   1.5742,  34.8953,2,  34.8968,2,    313.4,2,     8.06,2,    13.16,2,     0.12,2,     0.93,2,    4.390,2,    2.490,2,    0.320,3,    4.597,3,     1.51,2,   2151.2,2,   2301.8,2,   7.7257,    25.00,2,   1.5616
  77DN20020420,   GNS,    82,  1,     14,2,20020527,1547, 66.8403, -19.9997,  387,     10.2,   2.8363,  34.6995,2,  34.7008,2,    365.7,2,     2.50,2,     2.14,2,     0.07,2,     0.33,2,    5.860,2,    3.200,2,    0.472,3,    8.278,3,     -999,9,   -999.0,2,   2299.9,2,   7.9048,    25.00,2,   2.8357
  77DN20020420,   GNS,    82,  1,     13,2,20020527,1547, 66.8403, -19.9997,  387,     19.2,   2.7739,  34.7013,2,-999.0000,9,    362.4,2,     2.53,2,     2.35,2,     0.07,2,     0.33,2, -999.000,9, -999.000,9, -999.000,9, -999.000,9,     -999,9,   2072.1,2,   2297.9,2,   7.8999,    25.00,2,   2.7728
  77DN20020420,   GNS,    82,  1,     12,2,20020527,1547, 66.8403, -19.9997,  387,     29.5,   2.7826,  34.7037,2,  34.7060,2,    361.9,2,     2.57,2,     2.36,2,     0.08,2,     0.34,2,    5.890,2,    3.230,2,    0.440,3,    8.153,3,     -999,9,   -999.0,2,   2299.9,2,   7.9009,    25.00,2,   2.7809
  77DN20020420,   GNS,    82,  1,     11,2,20020527,1547, 66.8403, -19.9997,  387,     40.5,   2.8121,  34.7090,2,-999.0000,9,    359.3,2,     2.71,2,     2.63,2,     0.07,2,     0.34,2,    5.910,2,    3.230,2,    0.463,3,    8.023,3,     -999,9,   2071.3,2,   2299.7,2,   7.8931,    25.00,2,   2.8097
  77DN20020420,   GNS,    82,  1,     10,2,20020527,1547, 66.8403, -19.9997,  387,     49.9,   2.4754,  34.7047,2,  34.7069,2,    348.4,2,     3.01,2,     4.65,2,     0.09,2,     0.52,2,    5.910,2,    3.200,2,    0.445,3,    7.395,3,     -999,9,   -999.0,2,   2298.8,2,   7.8481,    25.00,2,   2.4726
  77DN20020420,   GNS,    82,  1,      9,2,20020527,1547, 66.8403, -19.9997,  387,     60.0,   2.5322,  34.7336,2,-999.0000,9,    347.1,2,     3.59,2,     5.94,2,     0.10,2,     0.58,2,    5.880,2,    3.200,2,    0.449,3,    7.133,3,     -999,9,   2101.6,2,   2299.0,2,   7.8325,    25.00,2,   2.5288
  77DN20020420,   GNS,    82,  1,      8,2,20020527,1547, 66.8403, -19.9997,  387,     78.9,   2.4845,  34.7863,2,-999.0000,9,    325.2,2,     5.55,2,    11.68,2,     0.14,2,     0.89,2,    5.640,2,    3.140,2,    0.466,3,    6.096,3,     -999,9,   -999.0,2,   2296.9,2,   7.7557,    25.00,2,   2.4800
  77DN20020420,   GNS,    82,  1,      7,2,20020527,1547, 66.8403, -19.9997,  387,     96.9,   2.4865,  34.8410,2,  34.8400,2,    325.8,2,     5.79,2,    11.89,2,     0.14,2,     0.89,2,    5.530,2,    3.070,2,    0.428,3,    6.119,3,     -999,9,   2135.8,2,   2298.2,2,   7.7547,    25.00,2,   2.4810
  77DN20020420,   GNS,    82,  1,      6,2,20020527,1547, 66.8403, -19.9997,  387,    123.8,   1.9767,  34.7898,2,-999.0000,9,    325.6,2,     5.82,2,    12.43,2,     0.14,2,     0.89,2,    5.640,2,    3.110,2,    0.519,3,    5.696,3,     -999,9,   -999.0,2,   2292.6,2,   7.7392,    25.00,2,   1.9701
  77DN20020420,   GNS,    82,  1,      5,2,20020527,1547, 66.8403, -19.9997,  387,    149.8,   1.8848,  34.8120,2,  34.8131,2,    321.3,2,     6.45,2,    13.55,2,     0.16,2,     0.91,2,    5.510,2,    3.040,2,    0.466,3,    5.119,3,     -999,9,   2139.5,2,   2292.8,2,   7.7305,    25.00,2,   1.8769
  77DN20020420,   GNS,    82,  1,      4,2,20020527,1547, 66.8403, -19.9997,  387,    200.0,   1.2540,  34.8148,2,  34.8194,2,    317.5,2,     7.04,2,    13.75,2,     0.10,2,     0.92,2,    5.160,2,    2.840,2,    0.405,3,    4.757,3,     -999,9,   -999.0,2,   2295.3,2,   7.7189,    25.00,2,   1.2444
  77DN20020420,   GNS,    82,  1,      3,2,20020527,1547, 66.8403, -19.9997,  387,    244.2,   0.3792,  34.8227,2,  34.8249,2,    313.8,2,     7.49,2,    13.54,2,     0.06,2,     0.92,2,    4.600,2,    2.520,2,    0.372,3,    4.097,3,     -999,9,   2151.2,2,   2294.2,2,   7.6996,    25.00,2,   0.3692
  77DN20020420,   GNS,    82,  1,      2,2,20020527,1547, 66.8403, -19.9997,  387,    330.3,  -0.2036,  34.8730,2,-999.0000,9,    306.0,2,     9.62,2,    14.09,2,     0.07,2,     0.98,2, -999.000,9, -999.000,9, -999.000,9, -999.000,9,     -999,9,   -999.0,2,   2297.8,2,   7.6919,    25.00,2,  -0.2158
  77DN20020420,   GNS,    82,  1,      1,2,20020527,1547, 66.8403, -19.9997,  387,    380.8,  -0.2352,  34.8757,2,  34.8780,2,    305.9,2,    10.22,2,    14.07,2,     0.09,2,     0.98,2,    3.440,2,    1.890,2,    0.293,3,    3.652,3,     -999,9,   2161.9,2,   2298.4,2,   7.6919,    25.00,2,  -0.2493
  77DN20020420,   GNS,    83,  1,     13,2,20020528, 453, 66.2578, -25.5602,  170,     10.1,   5.6725,  35.0675,2,-999.0000,9,    298.1,2,     6.76,2,    13.48,2,     0.19,2,     0.92,2,    4.560,2,    2.620,2,    0.441,3,    6.616,3,     -999,9,   2140.9,2,   2308.6,2,   7.7740,    25.00,2,   5.6717
  77DN20020420,   GNS,    83,  1,     12,2,20020528, 453, 66.2578, -25.5602,  170,     19.9,   5.6692,  35.0679,2,-999.0000,9,    298.0,2,     6.79,2,    13.50,2,     0.19,2,     0.92,2,    4.500,2,    2.620,2,    0.440,3,    6.612,3,     1.55,2,   2139.7,2,   2309.3,2,   7.7682,    25.00,2,   5.6676
  77DN20020420,   GNS,    83,  1,     11,2,20020528, 453, 66.2578, -25.5602,  170,     30.1,   5.6732,  35.0677,2,-999.0000,9,    298.0,2,     6.71,2,    13.46,2,     0.19,2,     0.92,2,    4.600,2,    2.650,2,    0.422,3,    7.004,3,     -999,9,   2141.1,2,   2309.1,2,   7.7663,    25.00,2,   5.6707
  77DN20020420,   GNS,    83,  1,     10,2,20020528, 453, 66.2578, -25.5602,  170,     39.9,   5.6749,  35.0678,2,-999.0000,9,    297.2,2,     6.73,2,    13.49,2,     0.19,2,     0.91,2,    4.520,2,    2.630,2,    0.454,3,    6.550,3,     -999,9,   2141.2,2,   2308.8,2,   7.7682,    25.00,2,   5.6716
  77DN20020420,   GNS,    83,  1,      9,2,20020528, 453, 66.2578, -25.5602,  170,     50.3,   5.6754,  35.0676,2,-999.0000,9,    296.2,2,     6.73,2,    13.47,2,     0.19,2,     0.91,2,    4.540,2,    2.610,2,    0.448,3,    6.628,3,     1.48,2,   2139.6,2,   2309.2,2,   7.7702,    25.00,2,   5.6712
  77DN20020420,   GNS,    83,  1,      8,2,20020528, 453, 66.2578, -25.5602,  170,     61.4,   5.6582,  35.0667,2,  35.0660,2,    295.8,2,     6.76,2,    13.55,2,     0.19,2,     0.92,2,    4.580,2,    2.640,2,    0.410,3,    6.645,3,     -999,9,   2137.6,2,   2308.9,2,   7.7673,    25.00,2,   5.6531
  77DN20020420,   GNS,    83,  1,      7,2,20020528, 453, 66.2578, -25.5602,  170,     79.8,   5.6129,  35.0672,2,-999.0000,9,    294.3,2,     6.82,2,    13.55,2,     0.20,2,     0.92,2,    4.520,2,    2.610,2,    0.442,3,    6.555,3,     1.48,2,   2139.4,2,   2309.6,2,   7.7682,    25.00,2,   5.6063
  77DN20020420,   GNS,    83,  1,      5,2,20020528, 453, 66.2578, -25.5602,  170,     98.9,   5.5664,  35.0663,2,  35.0674,2,    293.1,2,     6.81,2,    13.52,2,     0.20,2,     0.92,2,    4.560,2,    2.630,2,    0.434,3,    6.507,3,     1.17,2,   2140.8,2,   2309.8,2,   7.7673,    25.00,2,   5.5583
  77DN20020420,   GNS,    83,  1,      4,2,20020528, 453, 66.2578, -25.5602,  170,    125.1,   5.5147,  35.0683,2,-999.0000,9,    295.2,2,     6.76,2,    13.20,2,     0.20,2,     0.90,2,    4.640,2,    2.650,2,    0.405,3,    6.659,3,      1.2,2,   2137.8,2,   2310.4,2,   7.7692,    25.00,2,   5.5045
  77DN20020420,   GNS,    83,  1,      3,2,20020528, 453, 66.2578, -25.5602,  170,    150.8,   5.4671,  35.0692,2,  35.0700,2,    297.2,2,     6.65,2,    12.88,2,     0.20,2,     0.88,2,    4.700,2,    2.710,2,    0.450,3,    6.993,3,     1.37,2,   2133.7,2,   2310.3,2,   7.7721,    25.00,2,   5.4548
  77DN20020420,   GNS,    83,  1,      2,2,20020528, 453, 66.2578, -25.5602,  170,    156.3,   5.4241,  35.0690,2,-999.0000,9,    301.4,2,     6.59,2,    12.55,2,     0.19,2,     0.86,2,    4.770,2,    2.730,2,    0.451,3,    7.226,3,     1.34,2,   2138.0,2,   2310.3,2,   7.7760,    25.00,2,   5.4114
  77DN20020420,   GNS,    83,  1,      1,2,20020528, 453, 66.2578, -25.5602,  170,    168.3,   5.4135,  35.0685,2,  35.0698,2,    302.3,2,     6.59,2,    12.48,2,     0.18,2,     0.86,2,    4.830,2,    2.750,2,    0.420,3,    7.361,3,     1.61,2,   2136.4,2,   2314.0,2,   7.7779,    25.00,2,   5.3998