BOTTLE,20090507PRINUNIVRMK
EXPOCODE,SECT_ID,STNNBR,CASTNO,BTLNBR,BTLNBR_FLAG_W,DATE,TIME,LATITUDE,LONGITUDE,DEPTH,CTDPRS,CTDTMP,CTDSAL,CTDSAL_FLAG_W,SALNTY,SALNTY_FLAG_W,OXYGEN,OXYGEN_FLAG_W,SILCAT,SILCAT_FLAG_W,NITRAT,NITRAT_FLAG_W,NITRIT,NITRIT_FLAG_W,PHSPHT,PHSPHT_FLAG_W,CFC-11,CFC-11_FLAG_W,CFC-12,CFC-12_FLAG_W,CFC113,CFC113_FLAG_W,CCL4,CCL4_FLAG_W,SF6,SF6_FLAG_W,TCARBN,TCARBN_FLAG_W,ALKALI,ALKALI_FLAG_W,PH_SWS,PH_TEMP,PH_SWS_FLAG_W,THETA
,,,,,,,,,,METERS,DBARS,ITS-90,PSS-78,,PSS-78,,UMOL/KG,,UMOL/KG,,UMOL/KG,,UMOL/KG,,UMOL/KG,,PMOL/KG,,PMOL/KG,,PMOL/KG,,PMOL/KG,,FMOL/KG,,UMOL/KG,,UMOL/KG,,,DEGC,,DEGC
  77DN20020420,   GNS,    22,  1,     18,2,20020506,1857, 81.4890,  -1.6078, 3839,      2.5,  -1.7863,  34.1907,2,  34.2221,2,    347.6,2,     4.19,2,     6.87,2,     0.00,2,     0.54,2,    7.190,2,    3.480,2,    0.524,3,    6.573,3,     -999,9,   2132.6,2,   2285.4,2,   7.7297,    25.00,2,  -1.7863
  77DN20020420,   GNS,    22,  1,     17,2,20020506,1857, 81.4890,  -1.6078, 3839,      9.8,  -1.7756,  34.2029,2,  34.2030,2,    349.2,2,     4.20,2,     6.77,2,     0.00,2,     0.54,2,    7.230,2,    3.480,2,    0.503,3,    6.483,3,     -999,9,   2132.8,2,   -999.0,2,   7.7287,    25.00,2,  -1.7758
  77DN20020420,   GNS,    22,  1,     16,2,20020506,1857, 81.4890,  -1.6078, 3839,     20.8,  -1.6987,  34.2610,2,  34.2581,2,    343.6,2,     4.03,2,     7.07,2,     0.00,2,     0.54,2,    6.970,2,    3.410,2,    0.490,3,    6.268,3,     -999,9,   2133.7,2,   2286.2,2,   7.7297,    25.00,2,  -1.6991
  77DN20020420,   GNS,    22,  1,     15,2,20020506,1857, 81.4890,  -1.6078, 3839,     29.8,  -1.7298,  34.2917,2,  34.2885,2,    346.1,2,     3.42,2,     7.00,2,     0.00,2,     0.54,2,    7.120,2,    3.480,2,    0.528,3,    6.662,3,        2,2,   2128.4,2,   2285.2,2,   7.7384,    25.00,2,  -1.7304
  77DN20020420,   GNS,    22,  1,     14,2,20020506,1857, 81.4890,  -1.6078, 3839,     50.0,  -1.7534,  34.3185,2,  34.3135,2,    349.0,2,     3.32,2,     6.99,2,     0.00,2,     0.53,2,    7.210,2,    3.510,2,    0.520,3,    6.798,3,     -999,9,   2125.5,2,   2284.5,2,   7.7442,    25.00,2,  -1.7544
  77DN20020420,   GNS,    22,  1,     13,2,20020506,1857, 81.4890,  -1.6078, 3839,     74.7,  -1.7961,  34.3383,2,  34.3317,2,    349.8,2,     2.67,2,     6.99,2,     0.00,2,     0.52,2,    7.230,2,    3.550,2,    0.512,3,    7.092,3,     -999,9,   2118.6,2,   2284.9,2,   7.7490,    25.00,2,  -1.7976
  77DN20020420,   GNS,    22,  1,     12,2,20020506,1857, 81.4890,  -1.6078, 3839,    100.0,  -1.8093,  34.3488,2,  34.3423,2,    348.9,2,     2.45,2,     7.04,2,     0.00,2,     0.52,2,    7.160,2,    3.620,2,    0.710,3,    7.483,3,     1.15,2,   2119.2,2,   2282.4,2,   7.7510,    25.00,2,  -1.8113
  77DN20020420,   GNS,    22,  1,     11,2,20020506,1857, 81.4890,  -1.6078, 3839,    124.9,  -1.2528,  34.3991,2,  34.3967,2,    331.2,2,     3.92,2,     8.50,2,     0.00,2,     0.61,2,    6.180,2,    3.080,2,    0.451,3,    5.828,3,     -999,9,   2131.6,2,   2283.1,2,   7.7297,    25.00,2,  -1.2559
  77DN20020420,   GNS,    22,  1,     10,2,20020506,1857, 81.4890,  -1.6078, 3839,    150.0,   0.4869,  34.6383,2,  34.6288,2,    301.3,2,     5.55,2,    11.51,2,     0.00,2,     0.79,2,    4.740,2,    2.430,2,    0.309,3,    5.015,3,     0.76,2,   2147.4,2,   2291.1,2,   7.7074,    25.00,2,   0.4808
  77DN20020420,   GNS,    22,  1,      9,2,20020506,1857, 81.4890,  -1.6078, 3839,    216.4,   2.1455,  34.9183,2,  34.9097,2,    302.2,2,     5.09,2,    12.55,2,     0.00,2,     0.82,2,    5.090,2,    2.720,2,    0.399,3,    6.510,3,     0.84,2,   2142.7,2,   2303.4,2,   7.7314,    25.00,2,   2.1335
  77DN20020420,   GNS,    22,  1,      8,2,20020506,1857, 81.4890,  -1.6078, 3839,    300.0,   1.4694,  34.9001,2,  34.8918,2,    300.0,2,     5.48,2,    12.79,2,     0.00,2,     0.83,2,    4.520,2,    2.350,2,    0.317,3,    5.950,3,     0.88,2,   2142.5,2,   2301.4,2,   7.7266,    25.00,2,   1.4542
  77DN20020420,   GNS,    22,  1,      7,2,20020506,1857, 81.4890,  -1.6078, 3839,    400.1,   0.7727,  34.8705,2,  34.8601,2,    298.7,2,     6.23,2,    12.91,2,     0.00,2,     0.84,2,    3.210,2,    1.660,2,    0.201,3,    4.604,3,     -999,9,   2140.4,2,   2297.8,2,   7.7199,    25.00,2,   0.7544
  77DN20020420,   GNS,    22,  1,      6,2,20020506,1857, 81.4890,  -1.6078, 3839,    501.3,   0.6025,  34.8816,2,  34.8715,2,    299.7,2,     5.90,2,    12.92,2,     0.00,2,     0.84,2, -999.000,9, -999.000,9,    0.190,3,    5.190,3,     0.63,2,   2147.7,2,   2302.4,2,   7.7218,    25.00,2,   0.5799
  77DN20020420,   GNS,    22,  1,      5,2,20020506,1857, 81.4890,  -1.6078, 3839,    750.2,  -0.0196,  34.8833,2,  34.8800,2,    304.4,2,     5.98,2,    12.53,2,     0.00,2,     0.85,2,    3.530,2,    1.810,2,    0.215,3,    4.676,3,     -999,9,   2155.1,2,   2304.2,2,   7.7073,    25.00,2,  -0.0513
  77DN20020420,   GNS,    22,  1,      4,2,20020506,1857, 81.4890,  -1.6078, 3839,   1000.1,  -0.2505,  34.9006,2,  34.8918,2,    304.0,2,     6.83,2,    13.21,2,     0.00,2,     0.88,2,    2.530,2,    1.290,2,    0.165,3,    4.451,3,     0.72,2,   2154.5,2,   2304.5,2,   7.7054,    25.00,2,  -0.2931
  77DN20020420,   GNS,    22,  1,      3,2,20020506,1857, 81.4890,  -1.6078, 3839,   1052.0,  -0.2844,  34.9051,2,  34.8979,2,    303.9,2,     7.27,2,    13.41,2,     0.00,2,     0.89,2,    2.230,2,    1.150,2,    0.189,3,    4.163,3,     0.27,2,   2156.9,2,   2303.6,2,   7.7044,    25.00,2,  -0.3294
  77DN20020420,   GNS,    22,  1,      2,2,20020506,1857, 81.4890,  -1.6078, 3839,   1100.9,  -0.3150,  34.9063,2,  34.8938,2,    303.6,2,     7.30,2,    13.36,2,     0.00,2,     0.89,2,    2.130,2,    1.070,2,    0.142,3,    3.944,3,     0.22,2,   2155.5,2,   2306.8,2,   7.7054,    25.00,2,  -0.3623
  77DN20020420,   GNS,    22,  1,      1,2,20020506,1857, 81.4890,  -1.6078, 3839,   1200.5,  -0.4137,  34.9108,2,  34.9022,2,    302.1,2,     7.87,2,    13.58,2,     0.00,2,     0.90,2,    1.730,2,    0.850,2,    0.142,3,    3.255,3,     0.51,2,   2155.2,2,   2305.5,2,   7.7073,    25.00,2,  -0.4654
  77DN20020420,   GNS,    23,  1,     24,2,20020507, 854, 81.4443,  -4.0777, 3850,    299.9,   1.2335,  34.8610,2,  34.8585,2,    302.9,2,     5.52,2,    12.47,2,     0.00,2,     0.83,2, -999.000,9, -999.000,9,    0.353,3,    3.348,3,     0.64,2,   2141.3,2,   2304.3,2,   7.7257,    25.00,2,   1.2189
  77DN20020420,   GNS,    23,  1,     23,2,20020507, 854, 81.4443,  -4.0777, 3850,    400.0,   1.0923,  34.8912,2,  34.8896,2,    302.8,2,     5.39,2,    12.62,2,     0.00,2,     0.84,2, -999.000,9, -999.000,9,    0.327,3,    3.573,3,     -999,9,   2146.1,2,   2303.2,2,   7.7247,    25.00,2,   1.0730
  77DN20020420,   GNS,    23,  1,     19,2,20020507, 854, 81.4443,  -4.0777, 3850,    700.0,   0.1875,  34.8807,2,  34.8806,2,    306.9,2,     5.80,2,    12.51,2,     0.00,2,     0.84,2, -999.000,9, -999.000,9,    0.314,3,    3.252,3,     -999,9,   2152.2,2,   2306.1,2,   7.7102,    25.00,2,   0.1571
  77DN20020420,   GNS,    23,  1,     18,2,20020507, 854, 81.4443,  -4.0777, 3850,    899.6,  -0.1247,  34.8878,2,  34.8853,2,    306.9,2,     6.39,2,    12.69,2,     0.00,2,     0.87,2, -999.000,9, -999.000,9,    0.244,3,    2.707,3,     0.46,2,   2150.0,2,   2308.8,2,   7.7083,    25.00,2,  -0.1631
  77DN20020420,   GNS,    23,  1,     11,2,20020507, 854, 81.4443,  -4.0777, 3850,   1099.8,  -0.2856,  34.9004,2,  34.8993,2,    307.8,2,     6.98,2,    13.06,2,     0.00,2,     0.89,2, -999.000,9, -999.000,9,    0.193,3,    1.552,3,     0.21,2,   2153.6,2,   2307.4,2,   7.7073,    25.00,2,  -0.3331
  77DN20020420,   GNS,    23,  1,     10,2,20020507, 854, 81.4443,  -4.0777, 3850,   1150.5,  -0.3262,  34.9035,2,  34.9028,2,    306.0,2,     7.18,2,    13.20,2,     0.00,2,     0.89,2, -999.000,9, -999.000,9,    0.175,3,    1.398,3,     0.14,2,   2154.4,2,   2306.0,2,   7.7073,    25.00,2,  -0.3760
  77DN20020420,   GNS,    23,  1,      9,2,20020507, 854, 81.4443,  -4.0777, 3850,   1202.6,  -0.3668,  34.9067,2,  34.9065,2,    304.1,2,     7.39,2,    13.33,2,     0.00,2,     0.90,2, -999.000,9, -999.000,9,    0.182,3,    1.341,3,     0.34,2,   2149.6,2,   2308.3,2,   7.7102,    25.00,2,  -0.4191
  77DN20020420,   GNS,    23,  1,      8,2,20020507, 854, 81.4443,  -4.0777, 3850,   1500.1,  -0.4924,  34.9214,2,-999.0000,9,    300.0,2,     9.12,2,    14.04,2,     0.00,2,     0.94,2, -999.000,9, -999.000,9,    0.100,3,    0.964,3,     0.46,2,   2150.4,2,   2306.1,2,   7.7150,    25.00,2,  -0.5600
  77DN20020420,   GNS,    23,  1,      7,2,20020507, 854, 81.4443,  -4.0777, 3850,   2000.1,  -0.6821,  34.9221,2,  34.9201,2,    300.8,2,     9.94,2,    14.46,2,     0.00,2,     0.97,2, -999.000,9, -999.000,9,    0.100,3,    0.591,3,     0.38,2,   2152.0,2,   2309.1,2,   7.7121,    25.00,2,  -0.7780
  77DN20020420,   GNS,    23,  1,      6,2,20020507, 854, 81.4443,  -4.0777, 3850,   2500.3,  -0.7752,  34.9240,2,-999.0000,9,    301.0,2,    10.53,2,    14.71,2,     0.00,2,     0.97,2, -999.000,9, -999.000,9,    0.230,3,    0.493,3,     0.47,2,   2155.7,2,   2309.4,2,   7.7140,    25.00,2,  -0.9040
  77DN20020420,   GNS,    23,  1,      3,2,20020507, 854, 81.4443,  -4.0777, 3850,   3001.1,  -0.7481,  34.9323,2,-999.0000,9,   -999.0,2,    10.63,2,    14.65,2,     0.00,2,     0.97,2, -999.000,9, -999.000,9,    0.085,3,    0.403,3,     -999,9,   -999.0,2,   -999.0,2,-999.0000,  -999.00,9,  -0.9160
  77DN20020420,   GNS,    23,  1,      2,2,20020507, 854, 81.4443,  -4.0777, 3850,   3685.5,  -0.6865,  34.9344,2,-999.0000,9,    300.8,2,    10.69,2,    14.65,2,     0.00,2,     0.97,2, -999.000,9, -999.000,9,    0.053,3,    0.391,3,     0.35,2,   2150.1,2,   2308.5,2,   7.7218,    25.00,2,  -0.9150
  77DN20020420,   GNS,    23,  1,      1,2,20020507, 854, 81.4443,  -4.0777, 3850,   3785.5,  -0.6770,  34.9342,2,  34.9305,2,    301.2,2,    10.71,2,    14.62,2,     0.00,2,     0.96,2, -999.000,9, -999.000,9,    0.240,3,    0.418,3,     0.44,2,   2152.4,2,   2310.3,2,   7.7237,    25.00,2,  -0.9150
  77DN20020420,   GNS,    23,  2,     23,2,20020507,1426, 81.4443,  -4.0777, 3850,      2.1,  -1.8290,  33.9706,2,  33.9802,2,    355.7,2,     4.65,2,     5.97,2,     0.00,2,     0.54,2, -999.000,9, -999.000,9,    0.659,3,    7.892,3,     1.27,2,   2137.3,2,   2292.8,2,   7.7172,    25.00,2,  -1.8290
  77DN20020420,   GNS,    23,  2,     19,2,20020507,1426, 81.4443,  -4.0777, 3850,      9.9,  -1.8338,  33.9813,2,  33.9910,2,    356.4,2,     4.57,2,     5.94,2,     0.00,2,     0.54,2, -999.000,9, -999.000,9,    0.526,3,    7.580,3,      1.5,2,   2140.1,2,   2298.0,2,   7.7153,    25.00,2,  -1.8340
  77DN20020420,   GNS,    23,  2,     17,2,20020507,1426, 81.4443,  -4.0777, 3850,     19.9,  -1.8296,  34.0064,2,  34.0096,2,    356.6,2,     4.59,2,     6.00,2,     0.00,2,     0.55,2, -999.000,9, -999.000,9,    0.691,3,    7.154,3,     1.08,2,   2138.3,2,   2291.7,2,   7.7182,    25.00,2,  -1.8300
  77DN20020420,   GNS,    23,  2,     16,2,20020507,1426, 81.4443,  -4.0777, 3850,     29.9,  -1.8344,  34.1579,2,  34.1656,2,    350.7,2,     3.72,2,     6.46,2,     0.00,2,     0.53,2, -999.000,9, -999.000,9,    0.605,3,    6.504,3,     1.37,2,   2129.4,2,   2288.3,2,   7.7287,    25.00,2,  -1.8350
  77DN20020420,   GNS,    23,  2,      9,2,20020507,1426, 81.4443,  -4.0777, 3850,     50.0,  -1.8301,  34.2282,2,  34.2297,2,    348.8,2,     3.56,2,     6.73,2,     0.00,2,     0.54,2, -999.000,9, -999.000,9,    0.695,3,    5.666,3,     -999,9,   2127.3,2,   2289.5,2,   7.7326,    25.00,2,  -1.8310
  77DN20020420,   GNS,    23,  2,      8,2,20020507,1426, 81.4443,  -4.0777, 3850,     75.1,  -1.8215,  34.2632,2,  34.2648,2,    347.3,2,     3.27,2,     6.88,2,     0.00,2,     0.54,2, -999.000,9, -999.000,9,    0.525,3,    5.437,3,     1.27,2,   2119.9,2,   2286.8,2,   7.7384,    25.00,2,  -1.8230
  77DN20020420,   GNS,    23,  2,      7,2,20020507,1426, 81.4443,  -4.0777, 3850,    100.2,  -1.8140,  34.3166,2,  34.3189,2,    348.1,2,     2.87,2,     6.99,2,     0.00,2,     0.54,2, -999.000,9, -999.000,9,    0.529,3,    5.148,3,     -999,9,   2117.4,2,   2284.8,2,   7.7461,    25.00,2,  -1.8160
  77DN20020420,   GNS,    23,  2,      6,2,20020507,1426, 81.4443,  -4.0777, 3850,    149.4,  -1.0239,  34.4126,2,  34.4057,2,    324.5,2,     4.80,2,     8.99,2,     0.00,2,     0.66,2, -999.000,9, -999.000,9,    0.404,3,    4.379,3,      0.8,2,   2130.2,2,   2289.3,2,   7.7152,    25.00,2,  -1.0280
  77DN20020420,   GNS,    23,  2,      1,2,20020507,1426, 81.4443,  -4.0777, 3850,    267.0,   1.3742,  34.8602,2,  34.8587,2,    299.5,2,     5.39,2,    12.46,2,     0.00,2,     0.82,2, -999.000,9, -999.000,9,    0.443,3,    4.061,3,     0.52,2,   2141.3,2,   2306.8,2,   7.7286,    25.00,2,   1.3610
  77DN20020420,   GNS,    24,  1,     24,2,20020508,2248, 81.3263,  -6.3075, 3164,      2.7,  -1.7730,  32.5640,2,  32.5692,2,    378.9,2,     6.19,2,     3.50,2,     0.00,2,     0.53,2,    9.070,2,    4.220,2,    0.674,3,    7.788,3,     -999,9,   2127.1,2,   2259.1,2,   7.6791,    25.00,2,  -1.7730
  77DN20020420,   GNS,    24,  1,     23,2,20020508,2248, 81.3263,  -6.3075, 3164,     10.3,  -1.7727,  32.5943,2,  32.5999,2,    376.8,2,     6.67,2,     3.59,2,     0.00,2,     0.55,2,    9.130,2,    4.250,2,    0.699,3,    7.920,3,     -999,9,   2127.9,2,   2259.5,2,   7.6782,    25.00,2,  -1.7729
  77DN20020420,   GNS,    24,  1,     22,2,20020508,2248, 81.3263,  -6.3075, 3164,     19.6,  -1.7729,  32.7113,2,  32.7136,2,    374.0,2,     6.72,2,     3.87,2,     0.00,2,     0.55,2,    8.980,2,    4.250,2,    0.663,3,    7.592,3,     1.64,2,   2129.5,2,   2261.9,2,   7.6762,    25.00,2,  -1.7732
  77DN20020420,   GNS,    24,  1,     21,2,20020508,2248, 81.3263,  -6.3075, 3164,     27.5,  -1.7777,  32.8724,2,  32.8847,2,    368.1,2,     7.18,2,     4.35,2,     0.00,2,     0.56,2,    8.660,2,    4.050,2,    0.635,3,    7.225,3,     -999,9,   2136.4,2,   2266.3,2,   7.6781,    25.00,2,  -1.7782
  77DN20020420,   GNS,    24,  1,     20,2,20020508,2248, 81.3263,  -6.3075, 3164,     49.5,  -1.5114,  33.5000,2,  33.5043,2,    330.8,2,    11.27,2,     7.93,2,     0.00,2,     0.80,2,    6.890,2,    3.330,2,    0.485,3,    5.030,3,     1.18,2,   2150.1,2,   2271.5,2,   7.6500,    25.00,2,  -1.5124
  77DN20020420,   GNS,    24,  1,     19,2,20020508,2248, 81.3263,  -6.3075, 3164,     75.2,  -1.6504,  33.9561,2,  33.9596,2,    338.8,2,     6.52,2,     7.10,2,     0.00,2,     0.63,2,    7.150,2,    3.470,2,    0.486,3,    5.629,3,     -999,9,   2142.6,2,   2282.6,2,   7.6960,    25.00,2,  -1.6519
  77DN20020420,   GNS,    24,  1,     18,2,20020508,2248, 81.3263,  -6.3075, 3164,    100.1,  -1.5803,  34.1684,2,  34.1693,2,    339.9,2,     5.17,2,     7.43,2,     0.00,2,     0.60,2,    6.530,2,    3.220,2,    0.423,3,    5.368,3,     1.21,2,   2134.8,2,   2282.4,2,   7.7114,    25.00,2,  -1.5825
  77DN20020420,   GNS,    24,  1,     17,2,20020508,2248, 81.3263,  -6.3075, 3164,    124.8,  -1.4192,  34.2826,2,  34.2842,2,    336.5,2,     5.12,2,     8.17,2,     0.00,2,     0.63,2,    6.010,2,    2.980,2,    0.406,3,    5.216,3,     -999,9,   2133.7,2,   2282.6,2,-999.0000,  -999.00,9,  -1.4221
  77DN20020420,   GNS,    24,  1,     16,2,20020508,2248, 81.3263,  -6.3075, 3164,    149.8,  -0.8385,  34.3862,2,  34.3813,2,    312.2,2,     7.00,2,     9.91,2,     0.00,2,     0.74,2,    4.520,2,    2.370,2,    0.285,3,    4.144,3,     -999,9,   2143.2,2,   2281.8,2,   7.6949,    25.00,2,  -0.8428
  77DN20020420,   GNS,    24,  1,     15,2,20020508,2248, 81.3263,  -6.3075, 3164,    199.8,   0.1464,  34.6184,2,  34.6217,2,    294.6,2,     8.34,2,    12.27,2,     0.00,2,     0.85,2,    3.040,2,    1.730,2,    1.160,3,    3.726,3,     0.62,2,   2146.3,2,   2288.0,2,   7.6939,    25.00,2,   0.1388
  77DN20020420,   GNS,    24,  1,     14,2,20020508,2248, 81.3263,  -6.3075, 3164,    249.2,   0.7295,  34.7643,2,  34.7665,2,    294.0,2,     7.45,2,    12.84,2,     0.00,2,     0.86,2,    3.400,2,    1.760,2,    0.211,3,    4.224,3,     0.42,2,   2146.7,2,   2289.9,2,   7.7093,    25.00,2,   0.7186
  77DN20020420,   GNS,    24,  1,     13,2,20020508,2248, 81.3263,  -6.3075, 3164,    300.3,   0.7533,  34.8206,2,  34.8139,2,    295.9,2,     7.31,2,    12.81,2,     0.00,2,     0.87,2,    3.210,2,    1.690,2,    0.199,3,    4.275,3,     0.35,2,   2145.8,2,   2296.0,2,   7.7170,    25.00,2,   0.7399
  77DN20020420,   GNS,    24,  1,     12,2,20020508,2248, 81.3263,  -6.3075, 3164,    399.9,   0.6129,  34.8471,2,  34.8418,2,    294.5,2,     7.25,2,    12.93,2,     0.00,2,     0.87,2,    2.740,2,    1.410,2,    0.208,3,    4.071,3,     0.42,2,   2143.2,2,   2294.3,2,   7.7170,    25.00,2,   0.5952
  77DN20020420,   GNS,    24,  1,     11,2,20020508,2248, 81.3263,  -6.3075, 3164,    500.0,   0.4776,  34.8633,2,  34.8580,2,    297.8,2,     7.07,2,    12.99,2,     0.00,2,     0.88,2,    2.170,2,    1.110,2,    0.163,3,    3.494,3,     0.19,2,   2141.2,2,   2295.9,2,   7.7189,    25.00,2,   0.4556
  77DN20020420,   GNS,    24,  1,     10,2,20020508,2248, 81.3263,  -6.3075, 3164,    750.3,   0.1525,  34.8798,2,  34.8759,2,    299.9,2,     7.15,2,    12.88,2,     0.00,2,     0.88,2,    1.980,2,    1.010,2,    0.167,3,    3.291,3,     0.37,2,   2143.1,2,   2296.6,2,   7.7199,    25.00,2,   0.1198
  77DN20020420,   GNS,    24,  1,      9,2,20020508,2248, 81.3263,  -6.3075, 3164,   1000.7,  -0.0915,  34.8933,2,  34.8875,2,    300.2,2,     7.34,2,    12.99,2,     0.00,2,     0.89,2,    1.790,2,    0.880,2,    0.139,3,    3.035,3,     -999,9,   2142.1,2,   2297.3,2,   7.7199,    25.00,2,  -0.1354
  77DN20020420,   GNS,    24,  1,      8,2,20020508,2248, 81.3263,  -6.3075, 3164,   1214.9,  -0.2443,  34.9043,2,  34.8989,2,    304.3,2,     7.73,2,    13.30,2,     0.00,2,     0.90,2,    2.200,2,    1.120,2,    0.161,3,    2.921,3,     0.44,2,   2143.6,2,   2302.6,2,   7.7179,    25.00,2,  -0.2984
  77DN20020420,   GNS,    24,  1,      7,2,20020508,2248, 81.3263,  -6.3075, 3164,   1265.6,  -0.2739,  34.9071,2,  34.9006,2,    303.9,2,     7.85,2,    13.39,2,     0.00,2,     0.90,2,    1.620,2,    0.790,2,    0.164,3,    2.792,3,      0.3,2,   2142.2,2,   2300.1,2,   7.7170,    25.00,2,  -0.3305
  77DN20020420,   GNS,    24,  1,      6,2,20020508,2248, 81.3263,  -6.3075, 3164,   1314.9,  -0.2992,  34.9099,2,  34.9032,2,    300.4,2,     8.29,2,    13.67,2,     0.00,2,     0.92,2,    1.470,2,    0.700,2,    0.169,3,    2.557,3,     -999,9,   2146.3,2,   2302.1,2,   7.7189,    25.00,2,  -0.3584
  77DN20020420,   GNS,    24,  1,      5,2,20020508,2248, 81.3263,  -6.3075, 3164,   1500.1,  -0.3812,  34.9173,2,  34.9113,2,    299.1,2,     8.78,2,    13.77,2,     0.00,2,     0.93,2,    1.190,2,    0.520,2,    0.145,3,    2.122,3,     0.17,2,   2144.7,2,   2302.5,2,   7.7170,    25.00,2,  -0.4502
  77DN20020420,   GNS,    24,  1,      4,2,20020508,2248, 81.3263,  -6.3075, 3164,   2000.1,  -0.5518,  34.9276,2,  34.9187,2,    297.7,2,    10.34,2,    14.43,2,     0.00,2,     0.96,2,    0.740,2,    0.230,2,    0.107,3,    1.315,3,     -999,9,   2145.6,2,   2302.6,2,   7.7179,    25.00,2,  -0.6497
  77DN20020420,   GNS,    24,  1,      3,2,20020508,2248, 81.3263,  -6.3075, 3164,   2499.6,  -0.7241,  34.9257,2,  34.9193,2,    300.0,2,    10.40,2,    14.76,2,     0.00,2,     0.97,2,    0.560,2,    0.090,2,    0.164,3,    1.103,3,     -999,9,   2147.6,2,   2300.1,2,   7.7160,    25.00,2,  -0.8538
  77DN20020420,   GNS,    24,  1,      2,2,20020508,2248, 81.3263,  -6.3075, 3164,   3052.4,  -0.7378,  34.9320,2,  34.9235,2,    305.8,2,    10.72,2,    14.76,2,     0.00,2,     0.97,2,    0.380,2,    0.010,2,    0.132,3,    0.679,3,     0.08,2,   2143.9,2,   2302.6,2,   7.7218,    25.00,2,  -0.9101
  77DN20020420,   GNS,    24,  1,      1,2,20020508,2248, 81.3263,  -6.3075, 3164,   3153.9,  -0.7373,  34.9338,2,  34.9254,2,    303.6,2,    10.71,2,    14.77,2,     0.00,2,     0.96,2,    0.350,2,    0.010,2,    0.132,3,    0.556,3,     -999,9,   2148.3,2,   2301.1,2,   7.7227,    25.00,2,  -0.9180