BOTTLE,20090507PRINUNIVRMK
EXPOCODE,SECT_ID,STNNBR,CASTNO,BTLNBR,BTLNBR_FLAG_W,DATE,TIME,LATITUDE,LONGITUDE,DEPTH,CTDPRS,CTDTMP,CTDSAL,CTDSAL_FLAG_W,SALNTY,SALNTY_FLAG_W,OXYGEN,OXYGEN_FLAG_W,SILCAT,SILCAT_FLAG_W,NITRAT,NITRAT_FLAG_W,NITRIT,NITRIT_FLAG_W,PHSPHT,PHSPHT_FLAG_W,CFC-11,CFC-11_FLAG_W,CFC-12,CFC-12_FLAG_W,CFC113,CFC113_FLAG_W,CCL4,CCL4_FLAG_W,SF6,SF6_FLAG_W,TCARBN,TCARBN_FLAG_W,ALKALI,ALKALI_FLAG_W,PH_SWS,PH_TEMP,PH_SWS_FLAG_W,THETA
,,,,,,,,,,METERS,DBARS,ITS-90,PSS-78,,PSS-78,,UMOL/KG,,UMOL/KG,,UMOL/KG,,UMOL/KG,,UMOL/KG,,PMOL/KG,,PMOL/KG,,PMOL/KG,,PMOL/KG,,FMOL/KG,,UMOL/KG,,UMOL/KG,,,DEGC,,DEGC
  77DN20020420,   GNS,    87,  1,     16,2,20020528,1437, 66.9677, -27.2983,  367,     10.6,  -1.5283,  33.7939,2,  33.8015,2,    357.0,2,     4.96,2,     6.81,2,     0.06,2,     0.61,2, -999.000,9, -999.000,9,    0.541,3,    7.734,3,     -999,9,   2125.1,2,   2264.3,2,   7.7221,    25.00,2,  -1.5285
  77DN20020420,   GNS,    87,  1,     15,2,20020528,1437, 66.9677, -27.2983,  367,     20.2,  -1.5513,  33.8001,2,-999.0000,9,    354.3,2,     4.96,2,     6.90,2,     0.06,2,     0.65,2, -999.000,9, -999.000,9, -999.000,9, -999.000,9,     -999,9,   2122.5,2,   2264.7,2,   7.7182,    25.00,2,  -1.5517
  77DN20020420,   GNS,    87,  1,     14,2,20020528,1437, 66.9677, -27.2983,  367,     31.5,  -1.7539,  34.0060,2,  34.0113,2,    346.5,2,     4.90,2,     7.91,2,     0.07,2,     0.67,2, -999.000,9, -999.000,9, -999.000,9, -999.000,9,     1.26,2,   2117.7,2,   2267.2,2,   7.7278,    25.00,2,  -1.7545
  77DN20020420,   GNS,    87,  1,     13,2,20020528,1437, 66.9677, -27.2983,  367,     41.0,  -1.6686,  34.0683,2,-999.0000,9,    352.1,2,     4.92,2,     8.18,2,     0.08,2,     0.67,2, -999.000,9, -999.000,9, -999.000,9, -999.000,9,     -999,9,   2114.2,2,   2265.4,2,   7.7317,    25.00,2,  -1.6694
  77DN20020420,   GNS,    87,  1,     12,2,20020528,1437, 66.9677, -27.2983,  367,     60.2,  -1.6725,  34.1054,2,  34.1182,2,    347.6,2,     4.92,2,     8.51,2,     0.08,2,     0.69,2, -999.000,9, -999.000,9,    0.516,3,    7.011,3,     -999,9,   2117.3,2,   2266.4,2,   7.7326,    25.00,2,  -1.6737
  77DN20020420,   GNS,    87,  1,     11,2,20020528,1437, 66.9677, -27.2983,  367,     78.2,  -1.6697,  34.1146,2,-999.0000,9,    347.3,2,     4.87,2,     8.53,2,     0.08,2,     0.69,2, -999.000,9, -999.000,9, -999.000,9, -999.000,9,     1.25,2,   2116.8,2,   2267.0,2,   7.7317,    25.00,2,  -1.6713
  77DN20020420,   GNS,    87,  1,      9,2,20020528,1437, 66.9677, -27.2983,  367,    100.3,  -1.6329,  34.1475,2,  34.1535,2,    346.7,2,     4.89,2,     8.60,2,     0.09,2,     0.69,2, -999.000,9, -999.000,9,    0.519,3,    6.416,3,     -999,9,   2116.1,2,   2266.9,2,   7.7336,    25.00,2,  -1.6350
  77DN20020420,   GNS,    87,  1,      8,2,20020528,1437, 66.9677, -27.2983,  367,    126.1,  -1.5545,  34.1915,2,-999.0000,9,    347.0,2,     4.79,2,     8.69,2,     0.08,2,     0.69,2, -999.000,9, -999.000,9, -999.000,9, -999.000,9,     1.43,2,   2119.8,2,   2268.1,2,   7.7384,    25.00,2,  -1.5573
  77DN20020420,   GNS,    87,  1,      7,2,20020528,1437, 66.9677, -27.2983,  367,    152.7,  -1.3710,  34.2670,2,  34.2712,2,    347.8,2,     4.68,2,     8.82,2,     0.09,2,     0.68,2, -999.000,9, -999.000,9,    0.457,3,    6.307,3,     -999,9,   2116.1,2,   2267.0,2,   7.7452,    25.00,2,  -1.3747
  77DN20020420,   GNS,    87,  1,      6,2,20020528,1437, 66.9677, -27.2983,  367,    202.1,  -1.1053,  34.3338,2,-999.0000,9,    349.4,2,     4.61,2,     8.43,2,     0.10,2,     0.68,2, -999.000,9, -999.000,9,    0.458,3,    5.495,3,     1.52,2,   2114.0,2,   2268.9,2,   7.7549,    25.00,2,  -1.1107
  77DN20020420,   GNS,    87,  1,      5,2,20020528,1437, 66.9677, -27.2983,  367,    248.6,  -0.8316,  34.3822,2,  34.3937,2,    351.1,2,     4.45,2,     8.19,2,     0.10,2,     0.66,2, -999.000,9, -999.000,9,    0.450,3,    5.129,3,     1.59,2,   2111.9,2,   2270.9,2,   7.7645,    25.00,2,  -0.8390
  77DN20020420,   GNS,    87,  1,      4,2,20020528,1437, 66.9677, -27.2983,  367,    282.7,  -1.0066,  34.3927,2,-999.0000,9,    348.5,2,     4.56,2,     8.93,2,     0.11,2,     0.70,2, -999.000,9, -999.000,9,    0.429,3,    5.059,3,     1.46,2,   2115.1,2,   2271.0,2,   7.7519,    25.00,2,  -1.0147
  77DN20020420,   GNS,    87,  1,      3,2,20020528,1437, 66.9677, -27.2983,  367,    309.0,  -0.4171,  34.5563,2,  34.5596,2,    331.8,2,     5.24,2,    10.67,2,     0.13,2,     0.79,2, -999.000,9, -999.000,9,    0.416,3,    4.933,3,     1.19,2,   2133.7,2,   2278.2,2,   7.7287,    25.00,2,  -0.4277
  77DN20020420,   GNS,    87,  1,      2,2,20020528,1437, 66.9677, -27.2983,  367,    343.6,  -0.2981,  34.5796,2,-999.0000,9,    328.4,2,     5.38,2,    11.05,2,     0.12,2,     0.80,2, -999.000,9, -999.000,9, -999.000,9, -999.000,9,      1.2,2,   2134.2,2,   2281.2,2,   7.7258,    25.00,2,  -0.3103
  77DN20020420,   GNS,    87,  1,      1,2,20020528,1437, 66.9677, -27.2983,  367,    357.6,  -0.3278,  34.5871,2,  34.5926,2,    329.5,2,     5.38,2,    10.76,2,     0.13,2,     0.78,2, -999.000,9, -999.000,9,    0.374,3,    4.405,3,      1.2,2,   2133.9,2,   2280.2,2,   7.7267,    25.00,2,  -0.3405
  77DN20020420,   GNS,    88,  1,     16,2,20020528,2033, 67.2957, -28.1407,  288,      7.4,  -1.7984,  33.3811,2,  33.4194,2,    357.9,2,     4.81,2,     5.31,2,     0.05,2,     0.63,2,    7.810,2,    3.750,2,    0.564,3,   10.798,3,     -999,9,   2114.6,2,   2256.0,2,   7.7222,    25.00,2,  -1.7985
  77DN20020420,   GNS,    88,  1,     15,2,20020528,2033, 67.2957, -28.1407,  288,     19.8,  -1.8161,  33.5645,2,-999.0000,9,    354.5,2,     4.91,2,     5.89,2,     0.05,2,     0.63,2,    7.600,2,    3.650,2,    0.610,3,   10.325,3,     -999,9,   2115.9,2,   2264.0,2,   7.7222,    25.00,2,  -1.8164
  77DN20020420,   GNS,    88,  1,     14,2,20020528,2033, 67.2957, -28.1407,  288,     29.9,  -1.8192,  33.6269,2,  33.6351,2,    354.3,2,     4.88,2,     6.13,2,     0.05,2,     0.64,2,    7.310,2,    3.650,2,    0.670,3,    9.674,3,     -999,9,   2120.8,2,   2266.3,2,   7.7221,    25.00,2,  -1.8197
  77DN20020420,   GNS,    88,  1,     13,2,20020528,2033, 67.2957, -28.1407,  288,     39.7,  -1.8205,  33.6364,2,  33.6441,2,    353.2,2,     4.87,2,     6.01,2,     0.05,2,     0.63,2,    7.580,2,    3.650,2,    0.553,3,    8.324,3,     1.47,2,   2117.5,2,   2265.0,2,   7.7212,    25.00,2,  -1.8212
  77DN20020420,   GNS,    88,  1,     10,2,20020528,2033, 67.2957, -28.1407,  288,     60.0,  -1.8221,  33.6595,2,  33.6676,2,    352.2,2,     4.89,2,     6.26,2,     0.05,2,     0.63,2,    7.560,2,    3.650,2,    0.609,3,    7.844,3,     -999,9,   2118.4,2,   2264.9,2,   7.7221,    25.00,2,  -1.8232
  77DN20020420,   GNS,    88,  1,      9,2,20020528,2033, 67.2957, -28.1407,  288,     80.5,  -1.8143,  33.7197,2,-999.0000,9,    351.5,2,     4.91,2,     6.38,2,     0.05,2,     0.63,2,    7.340,2,    3.590,2,    0.574,3,    6.494,3,     1.31,2,   2118.8,2,   2263.3,2,   7.7212,    25.00,2,  -1.8158
  77DN20020420,   GNS,    88,  1,      8,2,20020528,2033, 67.2957, -28.1407,  288,     99.7,  -1.8095,  33.7442,2,  33.7517,2,    350.2,2,     4.85,2,     6.47,2,     0.05,2,     0.64,2,    7.380,2,    3.560,2,    0.554,3,    6.797,3,     1.43,2,   2119.9,2,   2267.2,2,   7.7250,    25.00,2,  -1.8114
  77DN20020420,   GNS,    88,  1,      7,2,20020528,2033, 67.2957, -28.1407,  288,    125.2,  -1.8017,  33.7891,2,-999.0000,9,    349.8,2,     4.79,2,     6.51,2,     0.06,2,     0.64,2,    7.380,2,    3.560,2,    0.593,3,    6.877,3,      1.3,2,   2118.0,2,   2262.3,2,   7.7279,    25.00,2,  -1.8041
  77DN20020420,   GNS,    88,  1,      6,2,20020528,2033, 67.2957, -28.1407,  288,    150.5,  -1.1901,  33.9053,2,  33.9088,2,    342.1,2,     5.01,2,     7.61,2,     0.04,2,     0.69,2,    6.900,2,    3.460,2,    0.504,3,    6.683,3,     1.48,2,   2120.9,2,   2263.8,2,   7.7288,    25.00,2,  -1.1938
  77DN20020420,   GNS,    88,  1,      3,2,20020528,2033, 67.2957, -28.1407,  288,    197.8,   0.0193,  34.2335,2,  34.2366,2,    329.6,2,     5.43,2,     9.66,2,     0.05,2,     0.77,2,    6.360,2,    3.270,2,    0.500,3,    6.172,3,     1.64,2,   2123.7,2,   2268.4,2,   7.7307,    25.00,2,   0.0121
  77DN20020420,   GNS,    88,  1,      2,2,20020528,2033, 67.2957, -28.1407,  288,    240.8,   0.5324,  34.4060,2,-999.0000,9,    321.5,2,     5.89,2,    10.94,2,     0.06,2,     0.81,2,    5.970,2,    3.110,2,    0.470,3,    5.596,3,     1.23,2,   2129.2,2,   2272.6,2,   7.7268,    25.00,2,   0.5224
  77DN20020420,   GNS,    88,  1,      1,2,20020528,2033, 67.2957, -28.1407,  288,    281.9,   0.5324,  34.4063,2,  34.4109,2,    321.6,2,     5.89,2,    10.71,2,     0.06,2,     0.80,2,    5.950,2,    3.080,2,    0.420,3,    5.511,3,      1.2,2,   2128.5,2,   2275.2,2,   7.7277,    25.00,2,   0.5206
  77DN20020420,   GNS,    89,  1,     24,2,20020529,1230, 64.7703, -31.7295, 2264,     14.4,   6.6066,  35.0823,2,  35.0852,2,    296.7,2,     6.51,2,    13.35,2,     0.24,2,     0.96,2,    4.400,2,    2.590,2,    0.503,3,    6.829,3,     -999,9,   2138.1,2,   2310.5,2,   7.7847,    25.00,2,   6.6053
  77DN20020420,   GNS,    89,  1,     23,2,20020529,1230, 64.7703, -31.7295, 2264,     30.8,   6.6054,  35.0822,2,-999.0000,9,    296.3,2,     6.67,2,    13.36,2,     0.24,2,     0.95,2,    4.400,2,    2.560,2,    0.521,3,    6.865,3,     -999,9,   -999.0,2,   -999.0,2,-999.0000,  -999.00,9,   6.6026
  77DN20020420,   GNS,    89,  1,     22,2,20020529,1230, 64.7703, -31.7295, 2264,     48.9,   6.6121,  35.0825,2,-999.0000,9,    296.0,2,     6.64,2,    13.38,2,     0.25,2,     0.95,2,    4.400,2,    2.580,2,    0.486,3,    6.921,3,     1.14,2,   2137.4,2,   2310.0,2,   7.7770,    25.00,2,   6.6077
  77DN20020420,   GNS,    89,  1,     21,2,20020529,1230, 64.7703, -31.7295, 2264,     73.2,   6.4020,  35.0636,2,-999.0000,9,    296.7,2,     6.77,2,    13.41,2,     0.26,2,     0.96,2,    4.500,2,    2.650,2,    0.509,3,    6.920,3,     -999,9,   -999.0,2,   -999.0,2,-999.0000,  -999.00,9,   6.3955
  77DN20020420,   GNS,    89,  1,     20,2,20020529,1230, 64.7703, -31.7295, 2264,     98.6,   6.3093,  35.0579,2,  35.0621,2,    296.0,2,     6.85,2,    13.61,2,     0.27,2,     0.97,2,    4.460,2,    2.610,2,    0.527,3,    6.091,3,     1.29,2,   2142.3,2,   2310.0,2,   7.7702,    25.00,2,   6.3006
  77DN20020420,   GNS,    89,  1,     19,2,20020529,1230, 64.7703, -31.7295, 2264,    149.5,   5.9969,  35.0356,2,-999.0000,9,    286.7,2,     7.44,2,    14.98,2,     0.26,2,     1.07,2,    4.230,2,    2.450,2,    0.428,3,    4.873,3,     -999,9,   2151.1,2,   2306.5,2,   7.7527,    25.00,2,   5.9841
  77DN20020420,   GNS,    89,  1,     18,2,20020529,1230, 64.7703, -31.7295, 2264,    198.2,   5.7231,  35.0156,2,-999.0000,9,    279.8,2,     8.02,2,    15.97,2,     0.15,2,     1.10,2,    4.050,2,    2.380,2,    0.465,3,    4.158,3,     0.86,2,   2150.4,2,   2306.9,2,   7.7411,    25.00,2,   5.7065
  77DN20020420,   GNS,    89,  1,     17,2,20020529,1230, 64.7703, -31.7295, 2264,    401.0,   5.1811,  34.9916,2,-999.0000,9,    268.7,2,     8.89,2,    16.93,2,     0.09,2,     1.16,2,    3.690,2,    2.110,2,    0.397,3,    3.517,3,     0.87,2,   2158.1,2,   2306.5,2,   7.7227,    25.00,2,   5.1486
  77DN20020420,   GNS,    89,  1,     16,2,20020529,1230, 64.7703, -31.7295, 2264,    600.7,   4.5552,  34.9539,2,-999.0000,9,    269.5,2,     9.42,2,    17.28,2,     0.09,2,     1.19,2,    3.690,2,    2.070,2,    0.357,3,    2.929,3,     0.86,2,   -999.0,2,   -999.0,2,-999.0000,  -999.00,9,   4.5085
  77DN20020420,   GNS,    89,  1,     15,2,20020529,1230, 64.7703, -31.7295, 2264,    801.0,   4.2348,  34.9524,2,-999.0000,9,    271.4,2,     9.63,2,    17.24,2,     0.08,2,     1.17,2,    3.530,2,    1.980,2,    0.392,3,    2.314,3,     0.61,2,   2160.3,2,   2304.7,2,   7.7111,    25.00,2,   4.1733
  77DN20020420,   GNS,    89,  1,     14,2,20020529,1230, 64.7703, -31.7295, 2264,   1000.2,   3.9504,  34.9412,2,-999.0000,9,    274.7,2,     9.77,2,    17.08,2,     0.09,2,     1.16,2,    3.510,2,    1.940,2,    0.416,3,    2.210,3,     0.72,2,   -999.0,2,   -999.0,2,-999.0000,  -999.00,9,   3.8744
  77DN20020420,   GNS,    89,  1,     13,2,20020529,1230, 64.7703, -31.7295, 2264,   1199.8,   3.8602,  34.9501,2,  34.9544,2,    273.9,2,    10.03,2,    17.10,2,     0.08,2,     1.16,2,    3.240,2,    1.780,2,    0.288,3,    1.957,3,     0.91,2,   2159.7,2,   2300.9,2,   7.7131,    25.00,2,   3.7680
  77DN20020420,   GNS,    89,  1,     12,2,20020529,1230, 64.7703, -31.7295, 2264,   1402.1,   3.6443,  34.9323,2,-999.0000,9,    276.8,2,    10.29,2,    17.10,2,     0.08,2,     1.17,2,    3.220,2,    1.730,2,    0.284,3,    1.977,3,     0.44,2,   -999.0,2,   -999.0,2,-999.0000,  -999.00,9,   3.5368
  77DN20020420,   GNS,    89,  1,     11,2,20020529,1230, 64.7703, -31.7295, 2264,   1598.6,   3.3537,  34.9030,2,-999.0000,9,    282.5,2,    10.40,2,    17.12,2,     0.08,2,     1.16,2,    3.240,2,    1.780,2,    0.273,3,    1.942,3,     0.37,2,   2155.1,2,   2298.8,2,   7.7141,    25.00,2,   3.2324
  77DN20020420,   GNS,    89,  1,     10,2,20020529,1230, 64.7703, -31.7295, 2264,   1801.0,   3.1791,  34.8895,2,  34.8936,2,    285.4,2,    10.41,2,    17.07,2,     0.09,2,     1.16,2,    3.300,2,    1.750,2,    0.275,3,    1.641,3,     0.47,2,   -999.0,2,   -999.0,2,-999.0000,  -999.00,9,   3.0421
  77DN20020420,   GNS,    89,  1,      9,2,20020529,1230, 64.7703, -31.7295, 2264,   1903.7,   3.1455,  34.8928,2,-999.0000,9,    284.8,2,    10.56,2,    16.91,2,     0.08,2,     1.16,2,    3.160,2,    1.710,2,    0.247,3,    1.528,3,     0.48,2,   2152.8,2,   2298.7,2,   7.7170,    25.00,2,   2.9997
  77DN20020420,   GNS,    89,  1,      8,2,20020529,1230, 64.7703, -31.7295, 2264,   2001.5,   3.1292,  34.9039,2,-999.0000,9,    282.1,2,    11.15,2,    16.89,2,     0.07,2,     1.15,2,    2.930,2,    1.570,2,    0.234,3,    1.415,3,     0.46,2,   2152.0,2,   2299.8,2,   7.7160,    25.00,2,   2.9747
  77DN20020420,   GNS,    89,  1,      7,2,20020529,1230, 64.7703, -31.7295, 2264,   2098.1,   3.0509,  34.9072,2,  34.9119,2,    281.1,2,    11.39,2,    16.77,2,     0.07,2,     1.15,2,    2.800,2,    1.500,2,    0.234,3,    1.389,3,      0.6,2,   2154.0,2,   2300.2,2,   7.7179,    25.00,2,   2.8886
  77DN20020420,   GNS,    89,  1,      6,2,20020529,1230, 64.7703, -31.7295, 2264,   2208.9,   2.2354,  34.8608,2,  34.8673,2,    293.3,2,     9.09,2,    14.67,2,     0.08,2,     1.03,2,    3.670,2,    2.060,2, -999.000,9,    1.326,3,     1.31,2,   2150.8,2,   2298.2,2,   7.7208,    25.00,2,   2.0763
  77DN20020420,   GNS,    89,  1,      5,2,20020529,1230, 64.7703, -31.7295, 2264,   2220.9,   1.8294,  34.8808,2,-999.0000,9,    294.5,2,     8.61,2,    14.43,2,     0.08,2,     1.01,2,    3.610,2,    1.960,2, -999.000,9,    1.357,3,     0.69,2,   2150.6,2,   2298.1,2,   7.7179,    25.00,2,   1.6760
  77DN20020420,   GNS,    89,  1,      4,2,20020529,1230, 64.7703, -31.7295, 2264,   2228.1,   1.6397,  34.8845,2,-999.0000,9,    297.8,2,     7.88,2,    13.94,2,     0.09,2,     0.98,2,    3.820,2,    2.080,2, -999.000,9,    1.203,3,     0.91,2,   2150.6,2,   2297.9,2,   7.7189,    25.00,2,   1.4888
  77DN20020420,   GNS,    89,  1,      3,2,20020529,1230, 64.7703, -31.7295, 2264,   2237.0,   1.5463,  34.8891,2,  34.8920,2,    298.4,2,     7.52,2,    13.65,2,     0.09,2,     0.97,2,    3.780,2,    2.210,2, -999.000,9,    1.154,3,     0.81,2,   2150.7,2,   2297.7,2,   7.7179,    25.00,2,   1.3962
  77DN20020420,   GNS,    89,  1,      2,2,20020529,1230, 64.7703, -31.7295, 2264,   2249.4,   1.5181,  34.8916,2,-999.0000,9,    299.2,2,     7.38,2,    13.46,2,     0.09,2,     0.96,2,    3.880,2,    2.190,2, -999.000,9,    1.196,3,     0.88,2,   2152.3,2,   2297.6,2,   7.7179,    25.00,2,   1.3675
  77DN20020420,   GNS,    89,  1,      1,2,20020529,1230, 64.7703, -31.7295, 2264,   2261.4,   1.5144,  34.8921,2,  34.8975,2,    300.1,2,     7.37,2,    13.46,2,     0.08,2,     0.96,2,    3.940,2,    2.180,2, -999.000,9,    1.269,3,     1.17,2,   2150.1,2,   2297.6,2,   7.7199,    25.00,2,   1.3628