BOTTLE,20090507PRINUNIVRMK
EXPOCODE,SECT_ID,STNNBR,CASTNO,BTLNBR,BTLNBR_FLAG_W,DATE,TIME,LATITUDE,LONGITUDE,DEPTH,CTDPRS,CTDTMP,CTDSAL,CTDSAL_FLAG_W,SALNTY,SALNTY_FLAG_W,OXYGEN,OXYGEN_FLAG_W,SILCAT,SILCAT_FLAG_W,NITRAT,NITRAT_FLAG_W,NITRIT,NITRIT_FLAG_W,PHSPHT,PHSPHT_FLAG_W,CFC-11,CFC-11_FLAG_W,CFC-12,CFC-12_FLAG_W,CFC113,CFC113_FLAG_W,CCL4,CCL4_FLAG_W,SF6,SF6_FLAG_W,TCARBN,TCARBN_FLAG_W,ALKALI,ALKALI_FLAG_W,PH_SWS,PH_TEMP,PH_SWS_FLAG_W,THETA
,,,,,,,,,,METERS,DBARS,ITS-90,PSS-78,,PSS-78,,UMOL/KG,,UMOL/KG,,UMOL/KG,,UMOL/KG,,UMOL/KG,,PMOL/KG,,PMOL/KG,,PMOL/KG,,PMOL/KG,,FMOL/KG,,UMOL/KG,,UMOL/KG,,,DEGC,,DEGC
  77DN20020420,   GNS,    60,  1,     23,2,20020520, 358, 72.7547, -15.6478, 2023,     10.7,  -1.7562,  34.1642,2,-999.0000,9,    358.9,2,     4.14,2,     8.64,2,     0.05,2,     0.66,2,    6.250,2,    3.300,2,    0.529,3,   10.226,3,     -999,9,   2099.0,2,   2258.0,2,   7.7598,    25.00,2,  -1.7564
  77DN20020420,   GNS,    60,  1,     22,2,20020520, 358, 72.7547, -15.6478, 2023,     20.7,  -1.7547,  34.1665,2,  34.1683,2,    356.0,2,     4.21,2,     8.89,2,     0.05,2,     0.67,2,    6.270,2,    3.300,2,    0.498,3,    9.198,3,     1.42,2,   2101.8,2,   2259.2,2,   7.7549,    25.00,2,  -1.7551
  77DN20020420,   GNS,    60,  1,     21,2,20020520, 358, 72.7547, -15.6478, 2023,     29.8,  -1.7500,  34.1707,2,-999.0000,9,    354.6,2,     4.24,2,     8.83,2,     0.05,2,     0.68,2,    6.230,2,    3.300,2,    0.475,3,    9.076,3,     -999,9,   2102.6,2,   2259.6,2,   7.7530,    25.00,2,  -1.7506
  77DN20020420,   GNS,    60,  1,     20,2,20020520, 358, 72.7547, -15.6478, 2023,     50.3,  -1.4431,  34.3652,2,-999.0000,9,    351.4,2,     4.88,2,     9.99,2,     0.05,2,     0.74,2,    6.170,2,    3.330,2,    0.436,3,    8.444,3,     1.34,2,   2117.8,2,   2267.5,2,   7.7384,    25.00,2,  -1.4442
  77DN20020420,   GNS,    60,  1,     19,2,20020520, 358, 72.7547, -15.6478, 2023,     75.5,  -0.9600,  34.5295,2,-999.0000,9,    338.4,2,     5.58,2,    11.32,2,     0.05,2,     0.79,2,    5.800,2,    3.140,2,    0.470,3,    6.703,3,     -999,9,   2125.1,2,   2277.7,2,   7.7258,    25.00,2,  -0.9621
  77DN20020420,   GNS,    60,  1,     18,2,20020520, 358, 72.7547, -15.6478, 2023,    100.6,  -0.5332,  34.6656,2,-999.0000,9,    334.0,2,     5.68,2,    11.69,2,     0.05,2,     0.81,2,    5.460,2,    3.020,2,    0.424,3,    5.005,3,     1.28,2,   2141.7,2,   2284.9,2,   7.7190,    25.00,2,  -0.5364
  77DN20020420,   GNS,    60,  1,     17,2,20020520, 358, 72.7547, -15.6478, 2023,    149.9,   0.0565,  34.7925,2,-999.0000,9,    325.7,2,     5.82,2,    12.16,2,     0.05,2,     0.83,2,    5.130,2,    2.790,2,    0.407,3,    6.636,3,     1.15,2,   2144.8,2,   2291.3,2,   7.7189,    25.00,2,   0.0509
  77DN20020420,   GNS,    60,  1,     16,2,20020520, 358, 72.7547, -15.6478, 2023,    200.5,   0.8662,  34.9207,2,  34.9203,2,    313.5,2,     5.74,2,    12.51,2,     0.06,2,     0.85,2,    4.480,2,    2.480,2,    0.364,3,    5.338,3,     0.99,2,   2148.1,2,   2299.0,2,   7.7237,    25.00,2,   0.8572
  77DN20020420,   GNS,    60,  1,     15,2,20020520, 358, 72.7547, -15.6478, 2023,    250.5,   0.6470,  34.9219,2,-999.0000,9,    312.8,2,     5.96,2,    12.62,2,     0.05,2,     0.86,2,    4.250,2,    2.360,2,    0.328,3,    5.156,3,     0.96,2,   2151.5,2,   2300.0,2,   7.7208,    25.00,2,   0.6361
  77DN20020420,   GNS,    60,  1,     14,2,20020520, 358, 72.7547, -15.6478, 2023,    300.7,   0.4582,  34.9222,2,-999.0000,9,    314.4,2,     6.01,2,    12.66,2,     0.05,2,     0.87,2,    4.290,2,    2.370,2,    0.350,3,    4.626,3,     1.15,2,   2151.7,2,   2298.3,2,   7.7150,    25.00,2,   0.4455
  77DN20020420,   GNS,    60,  1,     13,2,20020520, 358, 72.7547, -15.6478, 2023,    400.6,   0.1626,  34.9204,2,  34.9193,2,    317.3,2,     6.25,2,    12.74,2,     0.05,2,     0.88,2,    4.290,2,    2.390,2,    0.349,3,    3.903,3,     1.11,2,   2152.7,2,   2298.8,2,   7.7092,    25.00,2,   0.1463
  77DN20020420,   GNS,    60,  1,     12,2,20020520, 358, 72.7547, -15.6478, 2023,    501.1,  -0.0433,  34.9156,2,-999.0000,9,    318.6,2,     6.48,2,    12.90,2,     0.05,2,     0.89,2,    4.270,2,    2.380,2,    0.344,3,    3.611,3,     1.25,2,   2157.2,2,   2297.5,2,   7.7073,    25.00,2,  -0.0633
  77DN20020420,   GNS,    60,  1,     11,2,20020520, 358, 72.7547, -15.6478, 2023,    550.4,  -0.1212,  34.9137,2,-999.0000,9,    316.9,2,     6.64,2,    13.03,2,     0.05,2,     0.89,2,    4.070,2,    2.260,2,    0.334,3,    3.507,3,     1.32,2,   2157.2,2,   2301.6,2,   7.7073,    25.00,2,  -0.1430
  77DN20020420,   GNS,    60,  1,     10,2,20020520, 358, 72.7547, -15.6478, 2023,    651.4,  -0.2677,  34.9097,2,-999.0000,9,    315.8,2,     6.95,2,    13.25,2,     0.05,2,     0.89,2,    3.810,2,    2.100,2,    0.312,3,    2.165,3,     1.36,2,   2158.4,2,   2298.1,2,   7.7034,    25.00,2,  -0.2933
  77DN20020420,   GNS,    60,  1,      9,2,20020520, 358, 72.7547, -15.6478, 2023,    700.3,  -0.3424,  34.9073,2,  34.9056,2,    315.3,2,     7.13,2,    13.37,2,     0.05,2,     0.90,2,    3.700,2,    2.060,2,    0.358,3,    2.127,3,     1.24,2,   -999.0,2,   -999.0,2,-999.0000,  -999.00,9,  -0.3698
  77DN20020420,   GNS,    60,  1,      8,2,20020520, 358, 72.7547, -15.6478, 2023,    751.0,  -0.4215,  34.9050,2,-999.0000,9,    314.1,2,     7.39,2,    13.38,2,     0.05,2,     0.91,2,    3.500,2,    1.930,2,    0.296,3,    2.027,3,     1.59,2,   2154.8,2,   2297.4,2,   7.7034,    25.00,2,  -0.4507
  77DN20020420,   GNS,    60,  1,      7,2,20020520, 358, 72.7547, -15.6478, 2023,    800.1,  -0.5022,  34.9017,2,-999.0000,9,    313.9,2,     7.63,2,    13.48,2,     0.05,2,     0.92,2,    3.400,2,    1.910,2,    0.279,3,    1.714,3,     1.63,2,   -999.0,2,   -999.0,2,-999.0000,  -999.00,9,  -0.5332
  77DN20020420,   GNS,    60,  1,      6,2,20020520, 358, 72.7547, -15.6478, 2023,    850.5,  -0.5531,  34.8999,2,-999.0000,9,    315.5,2,     7.63,2,    13.64,2,     0.05,2,     0.92,2,    3.460,2,    1.910,2,    0.287,3,    1.724,3,     1.78,2,   2157.5,2,   2299.5,2,   7.6996,    25.00,2,  -0.5861
  77DN20020420,   GNS,    60,  1,      5,2,20020520, 358, 72.7547, -15.6478, 2023,   1301.3,  -0.7324,  34.9113,2,  34.9099,2,    300.6,2,    10.43,2,    14.53,2,     0.05,2,     0.99,2,    1.270,2,    0.570,2,    0.138,3,    0.694,3,     0.21,2,   2160.8,2,   2299.3,2,   7.7025,    25.00,2,  -0.7862
  77DN20020420,   GNS,    60,  1,      4,2,20020520, 358, 72.7547, -15.6478, 2023,   1600.7,  -0.8495,  34.9115,2,  34.9107,2,    300.1,2,    11.35,2,    14.89,2,     0.05,2,     1.00,2,    0.880,2,    0.320,2,    0.125,3,    0.654,3,     0.15,2,   2157.4,2,   2300.1,2,   7.7034,    25.00,2,  -0.9185
  77DN20020420,   GNS,    60,  1,      3,2,20020520, 358, 72.7547, -15.6478, 2023,   1897.0,  -0.9252,  34.9099,2,  34.9078,2,    301.1,2,    11.82,2,    14.91,2,     0.05,2,     0.99,2,    0.810,2,    0.300,2,    0.119,3,    0.637,3,        0,2,   2152.0,2,   2300.5,2,   7.7025,    25.00,2,  -1.0107
  77DN20020420,   GNS,    60,  1,      1,2,20020520, 358, 72.7547, -15.6478, 2023,   1996.9,  -0.9506,  34.9074,2,  34.9053,2,    310.1,2,    11.90,2,    14.93,2,     0.04,2,     0.99,2,    0.860,2,    0.300,2,    0.120,3,    0.596,3,        0,2,   2155.8,2,   2300.7,2,   7.7044,    25.00,2,  -1.0420
  77DN20020420,   GNS,    61,  1,     24,2,20020520, 801, 72.6263, -16.3742, 1430,      9.8,  -1.6596,  34.1232,2,-999.0000,9,    391.7,2,     1.40,2,     5.64,2,     0.06,2,     0.44,2, -999.000,9, -999.000,9, -999.000,9, -999.000,9,     -999,9,   -999.0,2,   2258.9,2,   7.8151,    25.00,2,  -1.6598
  77DN20020420,   GNS,    61,  1,     23,2,20020520, 801, 72.6263, -16.3742, 1430,     20.3,  -1.6637,  34.1266,2,  34.1221,2,    390.2,2,     1.60,2,     5.86,2,     0.06,2,     0.47,2, -999.000,9, -999.000,9, -999.000,9, -999.000,9,     1.01,2,   2078.7,2,   2258.0,2,   7.8122,    25.00,2,  -1.6641
  77DN20020420,   GNS,    61,  1,     22,2,20020520, 801, 72.6263, -16.3742, 1430,     29.8,  -1.4859,  34.3307,2,-999.0000,9,    370.0,2,     3.25,2,     8.28,2,     0.05,2,     0.59,2, -999.000,9, -999.000,9, -999.000,9, -999.000,9,     -999,9,   -999.0,2,   2269.3,2,   7.7694,    25.00,2,  -1.4866
  77DN20020420,   GNS,    61,  1,     21,2,20020520, 801, 72.6263, -16.3742, 1430,     50.0,  -1.0669,  34.4429,2,-999.0000,9,    348.0,2,     4.93,2,    10.10,2,     0.04,2,     0.72,2, -999.000,9, -999.000,9,    0.410,3,    7.633,3,     1.03,2,   2125.1,2,   2275.2,2,   7.7393,    25.00,2,  -1.0682
  77DN20020420,   GNS,    61,  1,     20,2,20020520, 801, 72.6263, -16.3742, 1430,     74.3,  -0.8557,  34.5376,2,-999.0000,9,    349.2,2,     5.19,2,    10.54,2,     0.04,2,     0.74,2, -999.000,9, -999.000,9,    0.472,3,    7.269,3,     -999,9,   -999.0,2,   2278.6,2,   7.7354,    25.00,2,  -0.8578
  77DN20020420,   GNS,    61,  1,     19,2,20020520, 801, 72.6263, -16.3742, 1430,    100.4,  -0.3916,  34.6332,2,-999.0000,9,    337.4,2,     5.58,2,    11.41,2,     0.04,2,     0.79,2, -999.000,9, -999.000,9,    0.292,3,    5.444,3,     0.82,2,   2135.8,2,   2284.9,2,   7.7296,    25.00,2,  -0.3949
  77DN20020420,   GNS,    61,  1,     18,2,20020520, 801, 72.6263, -16.3742, 1430,    150.5,   0.5176,  34.7982,2,-999.0000,9,    319.8,2,     5.86,2,    12.13,2,     0.04,2,     0.83,2, -999.000,9, -999.000,9,    0.393,3,    5.739,3,     0.86,2,   -999.0,2,   2292.5,2,   7.7238,    25.00,2,   0.5114
  77DN20020420,   GNS,    61,  1,     17,2,20020520, 801, 72.6263, -16.3742, 1430,    200.4,   0.9831,  34.8690,2,-999.0000,9,    310.7,2,     6.44,2,    12.48,2,     0.05,2,     0.85,2, -999.000,9, -999.000,9,    0.453,3,    5.010,3,     0.89,2,   2146.7,2,   2296.1,2,   7.7247,    25.00,2,   0.9740
  77DN20020420,   GNS,    61,  1,     16,2,20020520, 801, 72.6263, -16.3742, 1430,    250.0,   0.8715,  34.8835,2,-999.0000,9,    315.8,2,     5.93,2,    12.43,2,     0.05,2,     0.84,2, -999.000,9, -999.000,9,    0.413,3,    3.511,3,        1,2,   -999.0,2,   2298.1,2,   7.7266,    25.00,2,   0.8602
  77DN20020420,   GNS,    61,  1,     15,2,20020520, 801, 72.6263, -16.3742, 1430,    298.6,   0.9265,  34.9129,2,  34.9044,2,    312.5,2,     6.00,2,    12.54,2,     0.05,2,     0.84,2, -999.000,9, -999.000,9,    0.359,3,    3.366,3,     0.64,2,   2149.0,2,   2297.1,2,   7.7247,    25.00,2,   0.9127
  77DN20020420,   GNS,    61,  1,     14,2,20020520, 801, 72.6263, -16.3742, 1430,    400.8,   0.6247,  34.9163,2,-999.0000,9,    314.7,2,     6.19,2,    12.64,2,     0.04,2,     0.85,2, -999.000,9, -999.000,9,    0.313,3,    3.368,3,     0.69,2,   -999.0,2,   2298.4,2,   7.7228,    25.00,2,   0.6069
  77DN20020420,   GNS,    61,  1,     13,2,20020520, 801, 72.6263, -16.3742, 1430,    550.7,   0.2881,  34.9218,2,  34.9142,2,   -999.0,2,     6.25,2,    12.80,2,     0.04,2,     0.88,2, -999.000,9, -999.000,9,    0.284,3,    3.036,3,     0.64,2,   2153.6,2,   2299.8,2,   7.7150,    25.00,2,   0.2644
  77DN20020420,   GNS,    61,  1,     10,2,20020520, 801, 72.6263, -16.3742, 1430,    780.4,  -0.2728,  34.9083,2,-999.0000,9,    312.9,2,     7.70,2,    13.39,2,     0.04,2,     0.91,2, -999.000,9, -999.000,9,    0.291,3,    2.443,3,     0.83,2,   -999.0,2,   2297.8,2,   7.7054,    25.00,2,  -0.3044
  77DN20020420,   GNS,    61,  1,      9,2,20020520, 801, 72.6263, -16.3742, 1430,    830.2,  -0.3521,  34.9058,2,-999.0000,9,    312.6,2,     8.02,2,    13.49,2,     0.04,2,     0.91,2, -999.000,9, -999.000,9,    0.259,3,    2.642,3,     0.83,2,   -999.0,2,   -999.0,2,-999.0000,  -999.00,9,  -0.3855
  77DN20020420,   GNS,    61,  1,      8,2,20020520, 801, 72.6263, -16.3742, 1430,    880.3,  -0.4267,  34.9036,2,-999.0000,9,    313.6,2,     8.23,2,    13.55,2,     0.04,2,     0.92,2, -999.000,9, -999.000,9,    0.232,3,    2.531,3,     1.23,2,   2159.4,2,   2299.2,2,   7.7025,    25.00,2,  -0.4620
  77DN20020420,   GNS,    61,  1,      7,2,20020520, 801, 72.6263, -16.3742, 1430,    930.6,  -0.5084,  34.9025,2,  34.8949,2,    312.9,2,     8.37,2,    13.73,2,     0.04,2,     0.92,2, -999.000,9, -999.000,9,    0.203,3,    2.366,3,     1.23,2,   -999.0,2,   -999.0,2,-999.0000,  -999.00,9,  -0.5455
  77DN20020420,   GNS,    61,  1,      6,2,20020520, 801, 72.6263, -16.3742, 1430,    970.9,  -0.5755,  34.9009,2,  34.8914,2,    311.6,2,     8.28,2,    13.80,2,     0.04,2,     0.93,2, -999.000,9, -999.000,9,    0.191,3,    2.116,3,     1.56,2,   -999.0,2,   2298.5,2,   7.7034,    25.00,2,  -0.6140
  77DN20020420,   GNS,    61,  1,      5,2,20020520, 801, 72.6263, -16.3742, 1430,   1199.2,  -0.7024,  34.9113,2,  34.8930,2,    302.9,2,    10.10,2,    14.52,2,     0.05,2,     0.98,2, -999.000,9, -999.000,9,    0.175,3,    1.305,3,     0.12,2,   2160.5,2,   2298.9,2,   7.7044,    25.00,2,  -0.7512
  77DN20020420,   GNS,    61,  1,      2,2,20020520, 801, 72.6263, -16.3742, 1430,   1345.8,  -0.8193,  34.9119,2,  34.9022,2,    300.7,2,    11.10,2,    14.86,2,     0.05,2,     0.99,2, -999.000,9, -999.000,9, -999.000,9, -999.000,9,        0,2,   -999.0,2,   2301.3,2,   7.7034,    25.00,2,  -0.8745
  77DN20020420,   GNS,    61,  1,      1,2,20020520, 801, 72.6263, -16.3742, 1430,   1447.2,  -0.8926,  34.9115,2,  34.9040,2,    302.1,2,    11.53,2,    14.99,2,     0.05,2,     0.99,2, -999.000,9, -999.000,9,    0.033,3,    0.928,3,        0,2,   2159.9,2,   2301.3,2,   7.7063,    25.00,2,  -0.9524
  77DN20020420,   GNS,    62,  1,     21,2,20020520,1116, 72.5530, -16.8260, 1000,     15.0,  -1.7720,  34.1197,2,-999.0000,9,    372.1,2,     3.18,2,     6.78,2,     0.05,2,     0.50,2, -999.000,9, -999.000,9, -999.000,9, -999.000,9,     -999,9,   2088.2,2,   2262.4,2,   7.7860,    25.00,2,  -1.7723
  77DN20020420,   GNS,    62,  1,     20,2,20020520,1116, 72.5530, -16.8260, 1000,     29.2,  -1.7971,  34.1617,2,  34.1636,2,    350.7,2,     4.78,2,     8.81,2,     0.04,2,     0.63,2, -999.000,9, -999.000,9, -999.000,9, -999.000,9,     -999,9,   2109.1,2,   2265.0,2,   7.7462,    25.00,2,  -1.7977
  77DN20020420,   GNS,    62,  1,     19,2,20020520,1116, 72.5530, -16.8260, 1000,     50.4,  -1.7455,  34.2692,2,  34.2662,2,    342.5,2,     5.38,2,     9.62,2,     0.04,2,     0.69,2, -999.000,9, -999.000,9, -999.000,9, -999.000,9,     -999,9,   2121.0,2,   2271.0,2,   7.7287,    25.00,2,  -1.7465
  77DN20020420,   GNS,    62,  1,     18,2,20020520,1116, 72.5530, -16.8260, 1000,     70.0,  -1.5608,  34.3106,2,-999.0000,9,    339.6,2,     5.41,2,    10.33,2,     0.04,2,     0.72,2, -999.000,9, -999.000,9, -999.000,9, -999.000,9,     -999,9,   2117.3,2,   2269.4,2,   7.7287,    25.00,2,  -1.5623
  77DN20020420,   GNS,    62,  1,     17,2,20020520,1116, 72.5530, -16.8260, 1000,    101.1,  -1.4658,  34.3578,2,  34.3586,2,    336.3,2,     5.48,2,    10.27,2,     0.04,2,     0.72,2, -999.000,9, -999.000,9, -999.000,9, -999.000,9,     1.22,2,   2124.8,2,   2273.6,2,   7.7258,    25.00,2,  -1.4681
  77DN20020420,   GNS,    62,  1,     16,2,20020520,1116, 72.5530, -16.8260, 1000,    149.7,  -0.4101,  34.5492,2,-999.0000,9,    322.2,2,     6.15,2,    11.15,2,     0.04,2,     0.78,2, -999.000,9, -999.000,9, -999.000,9, -999.000,9,     -999,9,   -999.0,2,   2284.4,2,   7.7238,    25.00,2,  -0.4150
  77DN20020420,   GNS,    62,  1,     15,2,20020520,1116, 72.5530, -16.8260, 1000,    201.0,   0.8868,  34.7849,2,  34.7775,2,    306.6,2,     6.64,2,    12.37,2,     0.04,2,     0.84,2, -999.000,9, -999.000,9, -999.000,9, -999.000,9,     -999,9,   2145.8,2,   2295.6,2,   7.7228,    25.00,2,   0.8778
  77DN20020420,   GNS,    62,  1,     14,2,20020520,1116, 72.5530, -16.8260, 1000,    250.8,   1.0962,  34.8447,2,-999.0000,9,    305.2,2,     6.64,2,    12.61,2,     0.04,2,     0.85,2, -999.000,9, -999.000,9, -999.000,9, -999.000,9,      0.9,2,   -999.0,2,   2300.3,2,   7.7237,    25.00,2,   1.0844
  77DN20020420,   GNS,    62,  1,     13,2,20020520,1116, 72.5530, -16.8260, 1000,    300.9,   1.1196,  34.8664,2,  34.8576,2,    305.9,2,     6.43,2,    12.52,2,     0.04,2,     0.85,2,    4.500,2,    2.460,2,    0.351,3,    4.455,3,     -999,9,   2150.2,2,   2297.5,2,   7.7237,    25.00,2,   1.1053
  77DN20020420,   GNS,    62,  1,     10,2,20020520,1116, 72.5530, -16.8260, 1000,    400.7,   1.0779,  34.8969,2,  34.8879,2,    308.6,2,     6.04,2,    12.50,2,     0.05,2,     0.84,2,    4.320,2,    2.360,2,    0.347,3,    3.640,3,     0.94,2,   -999.0,2,   2299.6,2,   7.7266,    25.00,2,   1.0586
  77DN20020420,   GNS,    62,  1,      9,2,20020520,1116, 72.5530, -16.8260, 1000,    525.1,   1.0104,  34.9367,2,  34.9301,2,    313.4,2,     5.79,2,    12.46,2,     0.05,2,     0.84,2,    4.360,2,    2.430,2,    0.369,3,    3.683,3,     0.83,2,   2148.0,2,   2300.4,2,   7.7276,    25.00,2,   0.9848
  77DN20020420,   GNS,    62,  1,      8,2,20020520,1116, 72.5530, -16.8260, 1000,    650.0,   0.4697,  34.9244,2,-999.0000,9,    315.3,2,     6.06,2,    12.76,2,     0.04,2,     0.86,2,    4.070,2,    2.290,2,    0.339,3,    2.650,3,     0.77,2,   -999.0,2,   -999.0,2,-999.0000,  -999.00,9,   0.4402
  77DN20020420,   GNS,    62,  1,      7,2,20020520,1116, 72.5530, -16.8260, 1000,    701.0,   0.3048,  34.9219,2,-999.0000,9,    317.5,2,     6.14,2,    12.67,2,     0.05,2,     0.87,2,    4.250,2,    2.370,2,    0.341,3,    2.513,3,     0.93,2,   -999.0,2,   2301.8,2,   7.7179,    25.00,2,   0.2736
  77DN20020420,   GNS,    62,  1,      6,2,20020520,1116, 72.5530, -16.8260, 1000,    750.1,   0.1900,  34.9212,2,  34.9144,2,    318.2,2,     6.24,2,    12.77,2,     0.04,2,     0.87,2,    4.300,2,    2.380,2,    0.379,3,    2.532,3,     0.83,2,   -999.0,2,   -999.0,2,-999.0000,  -999.00,9,   0.1570
  77DN20020420,   GNS,    62,  1,      5,2,20020520,1116, 72.5530, -16.8260, 1000,    800.0,   0.0000,  34.9171,2,-999.0000,9,    316.8,2,     6.69,2,    13.02,2,     0.04,2,     0.89,2,    3.910,2,    2.200,2,    0.300,3,    2.293,3,      0.8,2,   2153.2,2,   2303.0,2,   7.7150,    25.00,2,  -0.0343
  77DN20020420,   GNS,    62,  1,      4,2,20020520,1116, 72.5530, -16.8260, 1000,    850.3,  -0.2495,  34.9114,2,  34.9034,2,    313.5,2,     7.56,2,    13.48,2,     0.05,2,     0.92,2,    3.160,2,    1.760,2,    0.265,3,    2.101,3,     0.75,2,   -999.0,2,   -999.0,2,-999.0000,  -999.00,9,  -0.2846
  77DN20020420,   GNS,    62,  1,      3,2,20020520,1116, 72.5530, -16.8260, 1000,    900.1,  -0.5828,  34.9055,2,-999.0000,9,    308.5,2,     8.68,2,    13.96,2,     0.05,2,     0.94,2,    2.350,2,    1.240,2,    0.286,3,    2.072,3,     1.11,2,   -999.0,2,   2298.4,2,   7.7063,    25.00,2,  -0.6179
  77DN20020420,   GNS,    62,  1,      2,2,20020520,1116, 72.5530, -16.8260, 1000,    950.6,  -0.6198,  34.9063,2,  34.8975,2,    307.2,2,     8.78,2,    14.08,2,     0.05,2,     0.95,2,    2.070,2,    1.090,2,    0.189,3,    1.978,3,     0.63,2,   2158.2,2,   2299.0,2,   7.7063,    25.00,2,  -0.6570
  77DN20020420,   GNS,    62,  1,      1,2,20020520,1116, 72.5530, -16.8260, 1000,    991.0,  -0.6322,  34.9070,2,  34.9002,2,    306.6,2,     9.18,2,    13.95,2,     0.04,2,     0.95,2,    1.950,2,    1.020,2,    0.173,3,    1.829,3,     0.58,2,   2155.3,2,   2298.7,2,   7.7034,    25.00,2,  -0.6712