BOTTLE,20090507PRINUNIVRMK
EXPOCODE,SECT_ID,STNNBR,CASTNO,BTLNBR,BTLNBR_FLAG_W,DATE,TIME,LATITUDE,LONGITUDE,DEPTH,CTDPRS,CTDTMP,CTDSAL,CTDSAL_FLAG_W,SALNTY,SALNTY_FLAG_W,OXYGEN,OXYGEN_FLAG_W,SILCAT,SILCAT_FLAG_W,NITRAT,NITRAT_FLAG_W,NITRIT,NITRIT_FLAG_W,PHSPHT,PHSPHT_FLAG_W,CFC-11,CFC-11_FLAG_W,CFC-12,CFC-12_FLAG_W,CFC113,CFC113_FLAG_W,CCL4,CCL4_FLAG_W,SF6,SF6_FLAG_W,TCARBN,TCARBN_FLAG_W,ALKALI,ALKALI_FLAG_W,PH_SWS,PH_TEMP,PH_SWS_FLAG_W,THETA
,,,,,,,,,,METERS,DBARS,ITS-90,PSS-78,,PSS-78,,UMOL/KG,,UMOL/KG,,UMOL/KG,,UMOL/KG,,UMOL/KG,,PMOL/KG,,PMOL/KG,,PMOL/KG,,PMOL/KG,,FMOL/KG,,UMOL/KG,,UMOL/KG,,,DEGC,,DEGC
  77DN20020420,   GNS,    93,  1,     14,2,20020530,  51, 65.3448, -33.2007,  500,     10.6,   3.9541,  34.7350,2,-999.0000,9,    324.6,2,     6.05,2,    10.95,2,     0.18,2,     0.80,2, -999.000,9, -999.000,9, -999.000,9, -999.000,9,     -999,9,   2116.4,2,   2294.8,2,   7.7936,    25.00,2,   3.9534
  77DN20020420,   GNS,    93,  1,     13,2,20020530,  51, 65.3448, -33.2007,  500,     30.1,   4.2708,  34.8305,2,  34.8296,2,   -999.0,2,     6.29,2,    13.21,2,     0.22,2,     0.92,2, -999.000,9, -999.000,9, -999.000,9, -999.000,9,     -999,9,   -999.0,2,   -999.0,2,-999.0000,  -999.00,9,   4.2687
  77DN20020420,   GNS,    93,  1,     12,2,20020530,  51, 65.3448, -33.2007,  500,     50.5,   4.2006,  34.8368,2,-999.0000,9,    310.5,2,     6.61,2,    13.42,2,     0.21,2,     0.92,2, -999.000,9, -999.000,9, -999.000,9, -999.000,9,     -999,9,   2130.6,2,   2299.5,2,   7.7644,    25.00,2,   4.1970
  77DN20020420,   GNS,    93,  1,     11,2,20020530,  51, 65.3448, -33.2007,  500,     75.1,   3.8604,  34.8010,2,  34.8032,2,    309.7,2,     6.44,2,    13.48,2,     0.23,2,     0.94,2, -999.000,9, -999.000,9, -999.000,9, -999.000,9,     -999,9,   2131.6,2,   2300.8,2,   7.7586,    25.00,2,   3.8553
  77DN20020420,   GNS,    93,  1,     10,2,20020530,  51, 65.3448, -33.2007,  500,    100.7,   2.9798,  34.7089,2,-999.0000,9,    311.5,2,     6.56,2,    13.42,2,     0.22,2,     0.94,2, -999.000,9, -999.000,9, -999.000,9, -999.000,9,     -999,9,   2128.1,2,   2291.9,2,   7.7480,    25.00,2,   2.9737
  77DN20020420,   GNS,    93,  1,      9,2,20020530,  51, 65.3448, -33.2007,  500,    150.9,   2.4771,  34.6903,2,  34.6913,2,    312.1,2,     6.69,2,    13.65,2,     0.18,2,     0.95,2, -999.000,9, -999.000,9, -999.000,9, -999.000,9,     -999,9,   2130.9,2,   2292.2,2,   7.7393,    25.00,2,   2.4685
  77DN20020420,   GNS,    93,  1,      8,2,20020530,  51, 65.3448, -33.2007,  500,    202.7,   2.7233,  34.7811,2,-999.0000,9,    307.3,2,     6.89,2,    14.16,2,     0.18,2,     0.97,2, -999.000,9, -999.000,9, -999.000,9, -999.000,9,     -999,9,   2138.5,2,   2296.1,2,   7.7373,    25.00,2,   2.7112
  77DN20020420,   GNS,    93,  1,      7,2,20020530,  51, 65.3448, -33.2007,  500,    253.3,   2.4152,  34.7979,2,  34.8006,2,   -999.0,2,     7.03,2,    14.18,2,     0.17,2,     0.99,2, -999.000,9, -999.000,9, -999.000,9, -999.000,9,     -999,9,   -999.0,2,   -999.0,2,-999.0000,  -999.00,9,   2.4006
  77DN20020420,   GNS,    93,  1,      6,2,20020530,  51, 65.3448, -33.2007,  500,    301.2,   2.3314,  34.8077,2,-999.0000,9,    306.0,2,     7.15,2,    14.21,2,     0.17,2,     0.97,2, -999.000,9, -999.000,9, -999.000,9, -999.000,9,     -999,9,   2142.1,2,   2294.2,2,   7.7296,    25.00,2,   2.3141
  77DN20020420,   GNS,    93,  1,      5,2,20020530,  51, 65.3448, -33.2007,  500,    400.3,   2.3104,  34.8080,2,-999.0000,9,    307.4,2,     7.16,2,    14.00,2,     0.17,2,     0.97,2, -999.000,9, -999.000,9, -999.000,9, -999.000,9,     -999,9,   2144.0,2,   2296.9,2,   7.7324,    25.00,2,   2.2871
  77DN20020420,   GNS,    93,  1,      4,2,20020530,  51, 65.3448, -33.2007,  500,    436.3,   2.3133,  34.8071,2,  34.8089,2,    307.1,2,     6.99,2,    13.52,2,     0.19,2,     0.95,2, -999.000,9, -999.000,9, -999.000,9, -999.000,9,     -999,9,   2139.9,2,   2294.3,2,   7.7334,    25.00,2,   2.2878
  77DN20020420,   GNS,    93,  1,      3,2,20020530,  51, 65.3448, -33.2007,  500,    465.7,   2.3025,  34.8070,2,-999.0000,9,    307.3,2,     7.02,2,    13.94,2,     0.16,2,     0.96,2, -999.000,9, -999.000,9, -999.000,9, -999.000,9,     -999,9,   2140.8,2,   2296.7,2,   7.7334,    25.00,2,   2.2752
  77DN20020420,   GNS,    93,  1,      2,2,20020530,  51, 65.3448, -33.2007,  500,    477.2,   2.2578,  34.8123,2,-999.0000,9,    308.6,2,     6.90,2,    13.78,2,     0.18,2,     0.94,2, -999.000,9, -999.000,9, -999.000,9, -999.000,9,     -999,9,   2145.2,2,   2294.8,2,   7.7344,    25.00,2,   2.2300
  77DN20020420,   GNS,    93,  1,      1,2,20020530,  51, 65.3448, -33.2007,  500,    486.1,   2.2794,  34.8090,2,  34.8103,2,    308.3,2,     6.91,2,    13.66,2,     0.18,2,     0.95,2, -999.000,9, -999.000,9, -999.000,9, -999.000,9,     -999,9,   2143.1,2,   2298.1,2,   7.7373,    25.00,2,   2.2509
  77DN20020420,   GNS,    94,  1,     14,2,20020530, 322, 65.5992, -33.7782,  276,     10.7,   2.9162,  34.0982,2,  34.0045,2,    313.8,2,     6.16,2,    11.95,2,     0.18,2,     0.86,2, -999.000,9, -999.000,9,    0.528,3,    9.826,3,     -999,9,   2076.0,2,   2245.4,2,   7.7879,    25.00,2,   2.9156
  77DN20020420,   GNS,    94,  1,     13,2,20020530, 322, 65.5992, -33.7782,  276,     19.6,   2.9272,  34.3678,2,-999.0000,9,    325.4,2,     5.80,2,    10.28,2,     0.15,2,     0.77,2, -999.000,9, -999.000,9,    0.561,3,    8.526,3,      1.5,2,   2101.0,2,   2276.5,2,   7.7888,    25.00,2,   2.9260
  77DN20020420,   GNS,    94,  1,     12,2,20020530, 322, 65.5992, -33.7782,  276,     29.7,   2.6141,  34.4156,2,  34.4188,2,   -999.0,2,     5.63,2,     9.96,2,     0.15,2,     0.76,2, -999.000,9, -999.000,9,    0.518,3,    7.406,3,     -999,9,   -999.0,2,   -999.0,2,-999.0000,  -999.00,9,   2.6124
  77DN20020420,   GNS,    94,  1,     11,2,20020530, 322, 65.5992, -33.7782,  276,     40.3,   2.6979,  34.4679,2,-999.0000,9,    327.7,2,     5.61,2,    10.01,2,     0.15,2,     0.80,2, -999.000,9, -999.000,9,    0.429,3,    7.230,3,     1.74,2,   2113.4,2,   2282.1,2,   7.7732,    25.00,2,   2.6956
  77DN20020420,   GNS,    94,  1,     10,2,20020530, 322, 65.5992, -33.7782,  276,     48.2,   3.3378,  34.6026,2,-999.0000,9,    319.9,2,     5.99,2,    11.46,2,     0.18,2,     0.86,2, -999.000,9, -999.000,9,    0.486,3,    7.271,3,     -999,9,   2122.6,2,   2288.2,2,   7.7674,    25.00,2,   3.3348
  77DN20020420,   GNS,    94,  1,      9,2,20020530, 322, 65.5992, -33.7782,  276,     74.8,   4.9080,  34.8677,2,-999.0000,9,    302.7,2,     6.55,2,    14.01,2,     0.27,2,     0.97,2, -999.000,9, -999.000,9,    0.481,3,    6.629,3,     1.52,2,   2132.1,2,   2302.7,2,   7.7615,    25.00,2,   4.9023
  77DN20020420,   GNS,    94,  1,      8,2,20020530, 322, 65.5992, -33.7782,  276,    100.0,   4.8347,  34.8755,2,  34.8755,2,    298.4,2,     6.79,2,    14.68,2,     0.26,2,     0.99,2, -999.000,9, -999.000,9,    0.400,3,    6.999,3,     1.54,2,   2134.1,2,   2300.5,2,   7.7547,    25.00,2,   4.8271
  77DN20020420,   GNS,    94,  1,      7,2,20020530, 322, 65.5992, -33.7782,  276,    126.3,   4.2729,  34.8246,2,-999.0000,9,   -999.0,2,     6.74,2,    14.44,2,     0.22,2,     0.99,2, -999.000,9, -999.000,9,    0.446,3,    6.479,3,     1.48,2,   -999.0,2,   -999.0,2,-999.0000,  -999.00,9,   4.2638
  77DN20020420,   GNS,    94,  1,      6,2,20020530, 322, 65.5992, -33.7782,  276,    150.0,   3.9235,  34.8113,2,-999.0000,9,    301.0,2,     6.80,2,    14.34,2,     0.21,2,     0.99,2, -999.000,9, -999.000,9,    0.454,3,    6.066,3,     1.46,2,   2139.1,2,   2297.2,2,   7.7470,    25.00,2,   3.9131
  77DN20020420,   GNS,    94,  1,      5,2,20020530, 322, 65.5992, -33.7782,  276,    175.9,   3.4755,  34.7814,2,  34.7792,2,    303.4,2,     6.74,2,    14.30,2,     0.22,2,     0.98,2, -999.000,9, -999.000,9,    0.449,3,    5.960,3,     1.48,2,   2139.0,2,   2293.7,2,   7.7392,    25.00,2,   3.4640
  77DN20020420,   GNS,    94,  1,      4,2,20020530, 322, 65.5992, -33.7782,  276,    198.5,   2.9843,  34.7515,2,-999.0000,9,    304.5,2,     6.79,2,    14.18,2,     0.20,2,     0.96,2, -999.000,9, -999.000,9,    0.439,3,    5.671,3,     1.57,2,   2137.5,2,   2293.1,2,   7.7373,    25.00,2,   2.9720
  77DN20020420,   GNS,    94,  1,      3,2,20020530, 322, 65.5992, -33.7782,  276,    231.1,   2.6943,  34.7409,2,-999.0000,9,    304.5,2,     6.94,2,    14.28,2,     0.18,2,     0.95,2, -999.000,9, -999.000,9,    0.428,3,    5.071,3,      1.5,2,   2138.1,2,   2291.2,2,   7.7334,    25.00,2,   2.6805
  77DN20020420,   GNS,    94,  1,      2,2,20020530, 322, 65.5992, -33.7782,  276,    249.4,   2.7865,  34.7553,2,-999.0000,9,    303.8,2,     7.07,2,    14.45,2,     0.18,2,     0.97,2, -999.000,9, -999.000,9,    0.420,3,    4.334,3,     1.64,2,   2140.2,2,   2292.0,2,   7.7334,    25.00,2,   2.7714
  77DN20020420,   GNS,    94,  1,      1,2,20020530, 322, 65.5992, -33.7782,  276,    271.3,   2.7928,  34.7565,2,  34.7554,2,    304.2,2,     7.03,2,    14.67,2,     0.18,2,     0.98,2, -999.000,9, -999.000,9,    0.395,3,    3.942,3,     1.67,2,   2139.5,2,   2294.7,2,   7.7354,    25.00,2,   2.7763
  77DN20020420,   GNS,    95,  1,     18,2,20020530, 630, 65.7673, -34.2947,  230,      9.9,  -1.7158,  32.9443,2,-999.0000,9,    394.5,2,     3.16,2,     0.09,2,     0.02,2,     0.26,2,    7.170,2,    3.590,2,    0.575,3,    8.084,3,     -999,9,   2011.5,2,   2209.0,2,   7.8700,    25.00,2,  -1.7160
  77DN20020420,   GNS,    95,  1,     17,2,20020530, 630, 65.7673, -34.2947,  230,     20.6,  -1.7130,  32.9460,2,-999.0000,9,   -999.0,2,     3.16,2,     0.07,2,     0.02,2,     0.26,2, -999.000,9, -999.000,9, -999.000,9, -999.000,9,     -999,9,   -999.0,2,   -999.0,2,-999.0000,  -999.00,9,  -1.7134
  77DN20020420,   GNS,    95,  1,     16,2,20020530, 630, 65.7673, -34.2947,  230,     30.7,  -1.7316,  32.9871,2,-999.0000,9,    383.5,2,     3.29,2,     1.52,2,     0.05,2,     0.36,2,    7.770,2,    3.780,2,    0.679,3,    7.569,3,     1.98,2,   2044.3,2,   2219.2,2,   7.8164,    25.00,2,  -1.7321
  77DN20020420,   GNS,    95,  1,     15,2,20020530, 630, 65.7673, -34.2947,  230,     40.1,  -1.7553,  33.0363,2,  33.0380,2,    377.1,2,     3.49,2,     2.33,2,     0.06,2,     0.44,2,    7.830,2,    3.810,2,    0.655,3,    7.513,3,     -999,9,   2059.8,2,   2224.3,2,   7.7940,    25.00,2,  -1.7560
  77DN20020420,   GNS,    95,  1,     12,2,20020530, 630, 65.7673, -34.2947,  230,     49.9,  -1.7716,  33.0462,2,-999.0000,9,    368.1,2,     3.79,2,     3.54,2,     0.05,2,     0.56,2, -999.000,9, -999.000,9, -999.000,9, -999.000,9,     -999,9,   2081.4,2,   2231.4,2,   7.7571,    25.00,2,  -1.7725
  77DN20020420,   GNS,    95,  1,     11,2,20020530, 630, 65.7673, -34.2947,  230,     75.2,  -1.6307,  33.1392,2,-999.0000,9,    360.4,2,     4.12,2,     4.56,2,     0.07,2,     0.62,2,    7.940,2,    3.810,2,    0.724,3,    8.388,3,     2.14,2,   2097.3,2,   2240.2,2,   7.7300,    25.00,2,  -1.6321
  77DN20020420,   GNS,    95,  1,     10,2,20020530, 630, 65.7673, -34.2947,  230,    100.1,  -1.1673,  33.6153,2,  33.6426,2,    345.5,2,     4.79,2,     7.21,2,     0.09,2,     0.73,2, -999.000,9, -999.000,9, -999.000,9, -999.000,9,     -999,9,   2108.4,2,   2251.5,2,   7.7260,    25.00,2,  -1.1697
  77DN20020420,   GNS,    95,  1,      9,2,20020530, 630, 65.7673, -34.2947,  230,    124.8,   0.4540,  34.1906,2,-999.0000,9,    331.5,2,     5.48,2,    10.12,2,     0.14,2,     0.81,2,    6.380,2,    3.370,2,    0.548,3,    6.457,3,     1.81,2,   2118.6,2,   2268.6,2,   7.7394,    25.00,2,   0.4491
  77DN20020420,   GNS,    95,  1,      8,2,20020530, 630, 65.7673, -34.2947,  230,    150.3,   3.8657,  34.7275,2,  34.7235,2,    305.5,2,     6.40,2,    13.32,2,     0.24,2,     0.94,2,    5.120,2,    2.890,2,    0.490,3,    5.406,3,      1.5,2,   2129.8,2,   2284.7,2,   7.7548,    25.00,2,   3.8554
  77DN20020420,   GNS,    95,  1,      7,2,20020530, 630, 65.7673, -34.2947,  230,    174.3,   4.3745,  34.8105,2,-999.0000,9,    300.6,2,     6.57,2,    13.84,2,     0.28,2,     0.99,2,    4.870,2,    2.730,2,    0.442,3,    5.434,3,     1.56,2,   2135.9,2,   2294.3,2,   7.7547,    25.00,2,   4.3618
  77DN20020420,   GNS,    95,  1,      4,2,20020530, 630, 65.7673, -34.2947,  230,    199.1,   4.2365,  34.8151,2,  34.8140,2,    300.1,2,     6.70,2,    14.08,2,     0.22,2,     1.23,3,    4.890,2,    2.840,2,    0.411,3,    4.742,3,     1.57,2,   2135.9,2,   2297.9,2,   7.7508,    25.00,2,   4.2222
  77DN20020420,   GNS,    95,  1,      3,2,20020530, 630, 65.7673, -34.2947,  230,    218.0,   3.3094,  34.7358,2,-999.0000,9,    303.3,2,     6.64,2,    13.82,2,     0.18,2,     0.97,2, -999.000,9, -999.000,9, -999.000,9, -999.000,9,     1.62,2,   2135.9,2,   2292.4,2,   7.7441,    25.00,2,   3.2953
  77DN20020420,   GNS,    95,  1,      2,2,20020530, 630, 65.7673, -34.2947,  230,    223.3,   3.3301,  34.7326,2,-999.0000,9,   -999.0,2,     6.61,2,    13.86,2,     0.18,2,     0.96,2, -999.000,9, -999.000,9, -999.000,9, -999.000,9,     1.61,2,   -999.0,2,   -999.0,2,-999.0000,  -999.00,9,   3.3156
  77DN20020420,   GNS,    95,  1,      1,2,20020530, 630, 65.7673, -34.2947,  230,    228.9,   3.2867,  34.7330,2,  34.7282,2,    304.1,2,     6.67,2,    13.64,2,     0.17,2,     0.96,2,    5.140,2,    2.860,2,    0.426,3,    7.145,3,     1.54,2,   2136.4,2,   2292.5,2,   7.7451,    25.00,2,   3.2719
  77DN20020420,   GNS,    96,  1,     16,2,20020530,1536, 65.8770, -34.7263,  274,     10.0,  -1.7924,  33.0219,2,  33.0325,2,    362.0,2,     4.08,2,     4.19,2,     0.04,2,     0.58,2,    7.870,2,    3.870,2,    0.635,3,    9.646,3,     2.16,2,   2095.6,2,   2236.1,2,   7.7204,    25.00,2,  -1.7926
  77DN20020420,   GNS,    96,  1,     15,2,20020530,1536, 65.8770, -34.7263,  274,     19.9,  -1.7948,  33.0225,2,-999.0000,9,    362.6,2,     4.07,2,     4.14,2,     0.04,2,     0.59,2,    7.770,2,    3.720,2,    0.644,3,    8.848,3,     2.01,2,   2095.5,2,   2237.0,2,   7.7204,    25.00,2,  -1.7951
  77DN20020420,   GNS,    96,  1,     14,2,20020530,1536, 65.8770, -34.7263,  274,     29.3,  -1.7939,  33.0266,2,-999.0000,9,    361.1,2,     4.08,2,     4.20,2,     0.04,2,     0.59,2,    7.770,2,    3.720,2,    0.641,3,    8.526,3,     1.93,2,   2095.3,2,   2234.8,2,   7.7194,    25.00,2,  -1.7944
  77DN20020420,   GNS,    96,  1,     13,2,20020530,1536, 65.8770, -34.7263,  274,     39.5,  -1.7914,  33.0341,2,  33.0204,2,    361.3,2,     4.07,2,     4.13,2,     0.04,2,     0.59,2,    7.940,2,    3.810,2,    0.708,3,    8.045,3,     -999,9,   2096.7,2,   2236.8,2,   7.7165,    25.00,2,  -1.7921
  77DN20020420,   GNS,    96,  1,     10,2,20020530,1536, 65.8770, -34.7263,  274,     50.2,  -1.7909,  33.0355,2,  33.0329,2,    361.8,2,     4.14,2,     4.11,2,     0.04,2,     0.57,2,    7.790,2,    3.780,2,    0.683,3,    6.934,3,     2.05,2,   2089.5,2,   2238.7,2,   7.7175,    25.00,2,  -1.7918
  77DN20020420,   GNS,    96,  1,      9,2,20020530,1536, 65.8770, -34.7263,  274,     59.5,  -1.7906,  33.0390,2,-999.0000,9,    361.6,2,     4.08,2,     4.14,2,     0.04,2,     0.59,2,    7.870,2,    3.750,2,    0.651,3,    7.698,3,     2.01,2,   2098.8,2,   2236.5,2,   7.7156,    25.00,2,  -1.7916
  77DN20020420,   GNS,    96,  1,      8,2,20020530,1536, 65.8770, -34.7263,  274,     76.3,  -1.7836,  33.0575,2,-999.0000,9,    360.6,2,     4.10,2,     4.27,2,     0.04,2,     0.60,2,    8.060,2,    3.840,2,    0.666,3,    7.380,3,     2.02,2,   2101.5,2,   2240.4,2,   7.7146,    25.00,2,  -1.7849
  77DN20020420,   GNS,    96,  1,      7,2,20020530,1536, 65.8770, -34.7263,  274,    100.2,  -1.6513,  33.1526,2,-999.0000,9,    360.4,2,     4.11,2,     4.37,2,     0.04,2,     0.60,2,    7.270,2,    3.750,2,    0.678,3,    6.979,3,        2,2,   2099.8,2,   2246.5,2,   7.7300,    25.00,2,  -1.6532
  77DN20020420,   GNS,    96,  1,      6,2,20020530,1536, 65.8770, -34.7263,  274,    124.4,  -1.5377,  33.3782,2,  33.3749,2,    352.8,2,     4.77,2,     5.84,2,     0.03,2,     0.65,2,    7.440,2,    3.620,2,    0.614,3,    6.588,3,     -999,9,   2104.7,2,   2248.8,2,   7.7164,    25.00,2,  -1.5403
  77DN20020420,   GNS,    96,  1,      5,2,20020530,1536, 65.8770, -34.7263,  274,    174.6,  -0.2563,  34.0321,2,  34.0237,2,    337.0,2,     5.34,2,     9.06,2,     0.08,2,     0.74,2,    6.690,2,    3.490,2,    0.557,3,    5.828,3,     2.04,2,   2111.8,2,   2261.8,2,   7.7307,    25.00,2,  -0.2621
  77DN20020420,   GNS,    96,  1,      4,2,20020530,1536, 65.8770, -34.7263,  274,    223.7,   3.0322,  34.6355,2,  34.6427,2,    309.2,2,     6.46,2,    13.08,2,     0.15,2,     0.91,2,    5.140,2,    2.860,2,    0.453,3,    4.623,3,     1.41,2,   2131.1,2,   2290.3,2,   7.7431,    25.00,2,   3.0183
  77DN20020420,   GNS,    96,  1,      1,2,20020530,1536, 65.8770, -34.7263,  274,    272.2,   3.0031,  34.7241,2,  34.7217,2,    304.4,2,     6.87,2,    13.94,2,     0.10,2,     0.93,2,    5.020,2,    2.740,2,    0.450,3,    4.506,3,     1.56,2,   2138.0,2,   2294.1,2,   7.7344,    25.00,2,   2.9861