BOTTLE,20090507PRINUNIVRMK
EXPOCODE,SECT_ID,STNNBR,CASTNO,BTLNBR,BTLNBR_FLAG_W,DATE,TIME,LATITUDE,LONGITUDE,DEPTH,CTDPRS,CTDTMP,CTDSAL,CTDSAL_FLAG_W,SALNTY,SALNTY_FLAG_W,OXYGEN,OXYGEN_FLAG_W,SILCAT,SILCAT_FLAG_W,NITRAT,NITRAT_FLAG_W,NITRIT,NITRIT_FLAG_W,PHSPHT,PHSPHT_FLAG_W,CFC-11,CFC-11_FLAG_W,CFC-12,CFC-12_FLAG_W,CFC113,CFC113_FLAG_W,CCL4,CCL4_FLAG_W,SF6,SF6_FLAG_W,TCARBN,TCARBN_FLAG_W,ALKALI,ALKALI_FLAG_W,PH_SWS,PH_TEMP,PH_SWS_FLAG_W,THETA
,,,,,,,,,,METERS,DBARS,ITS-90,PSS-78,,PSS-78,,UMOL/KG,,UMOL/KG,,UMOL/KG,,UMOL/KG,,UMOL/KG,,PMOL/KG,,PMOL/KG,,PMOL/KG,,PMOL/KG,,FMOL/KG,,UMOL/KG,,UMOL/KG,,,DEGC,,DEGC
  77DN20020420,   GNS,    35,  2,     24,2,20020512,2143, 79.0373,  -2.9753, 2413,    299.8,   1.7732,  34.9041,2,  34.8926,2,    304.6,2,     5.42,2,    13.40,2,     0.00,2,     0.85,2, -999.000,9, -999.000,9,    0.370,3,    3.209,3,     0.55,2,   2141.5,2,   2296.2,2,   7.7334,    25.00,2,   1.7573
  77DN20020420,   GNS,    35,  2,     23,2,20020512,2143, 79.0373,  -2.9753, 2413,    399.9,   1.4747,  34.9182,2,  34.9136,2,    301.9,2,     5.53,2,    13.39,2,     0.00,2,     0.86,2, -999.000,9, -999.000,9,    0.308,3,    3.173,3,     0.96,2,   2146.1,2,   2296.2,2,   7.7315,    25.00,2,   1.4541
  77DN20020420,   GNS,    35,  2,     22,2,20020512,2143, 79.0373,  -2.9753, 2413,    499.7,   0.5625,  34.8621,2,  34.8578,2,    293.6,2,     7.03,2,    13.80,2,     0.00,2,     0.89,2, -999.000,9, -999.000,9,    0.247,3,    1.448,3,     0.16,2,   2144.3,2,   2292.3,2,   7.7189,    25.00,2,   0.5401
  77DN20020420,   GNS,    35,  2,     17,2,20020512,2143, 79.0373,  -2.9753, 2413,    700.8,   0.2907,  34.8748,2,  34.8707,2,    298.6,2,     6.83,2,    13.68,2,     0.00,2,     0.89,2, -999.000,9, -999.000,9,    0.161,3,    1.437,3,     0.07,2,   2146.0,2,   2295.4,2,   7.7218,    25.00,2,   0.2596
  77DN20020420,   GNS,    35,  2,     16,2,20020512,2143, 79.0373,  -2.9753, 2413,   1000.5,  -0.0728,  34.8892,2,  34.8843,2,    301.1,2,     6.84,2,    13.66,2,     0.00,2,     0.89,2, -999.000,9, -999.000,9,    0.198,3,    1.444,3,     0.05,2,   2149.3,2,   2297.5,2,   7.7179,    25.00,2,  -0.1168
  77DN20020420,   GNS,    35,  2,     15,2,20020512,2143, 79.0373,  -2.9753, 2413,   1200.0,  -0.2629,  34.9038,2,  34.8997,2,    301.0,2,     7.66,2,    14.07,2,     0.00,2,     0.92,2, -999.000,9, -999.000,9,    0.163,3,    1.030,3,     0.08,2,   2150.7,2,   2297.7,2,   7.7170,    25.00,2,  -0.3160
  77DN20020420,   GNS,    35,  2,     14,2,20020512,2143, 79.0373,  -2.9753, 2413,   1250.2,  -0.2845,  34.9067,2,  34.9020,2,    300.1,2,     7.90,2,    14.15,2,     0.00,2,     0.92,2, -999.000,9, -999.000,9,    0.048,3,    1.054,3,     0.09,2,   2152.7,2,   2296.7,2,   7.7199,    25.00,2,  -0.3402
  77DN20020420,   GNS,    35,  2,     13,2,20020512,2143, 79.0373,  -2.9753, 2413,   1300.5,  -0.3243,  34.9097,2,  34.9040,2,    299.9,2,     8.08,2,    14.19,2,     0.00,2,     0.93,2, -999.000,9, -999.000,9,    0.097,3,    0.997,3,     0.14,2,   2151.7,2,   2297.9,2,   7.7189,    25.00,2,  -0.3824
  77DN20020420,   GNS,    35,  2,      8,2,20020512,2143, 79.0373,  -2.9753, 2413,   1499.5,  -0.4324,  34.9178,2,  34.9117,2,    298.8,2,     8.80,2,    14.62,2,     0.00,2,     0.95,2, -999.000,9, -999.000,9,    0.181,3,    0.908,3,        0,2,   2154.4,2,   2297.3,2,   7.7189,    25.00,2,  -0.5007
  77DN20020420,   GNS,    35,  2,      7,2,20020512,2143, 79.0373,  -2.9753, 2413,   2001.4,  -0.6837,  34.9186,2,  34.9117,2,    303.8,2,    10.42,2,    15.27,2,     0.00,2,     0.99,2, -999.000,9, -999.000,9,    0.096,3,    0.755,3,        0,2,   2158.1,2,   2299.1,2,   7.7102,    25.00,2,  -0.7796
  77DN20020420,   GNS,    35,  2,      2,2,20020512,2143, 79.0373,  -2.9753, 2413,   2301.4,  -0.7495,  34.9234,2,  34.9176,2,    302.8,2,    10.63,2,    15.45,2,     0.00,2,     1.00,2, -999.000,9, -999.000,9,    0.184,3,    0.670,3,        0,2,   2156.8,2,   2297.7,2,   7.7150,    25.00,2,  -0.8646
  77DN20020420,   GNS,    35,  2,      1,2,20020512,2143, 79.0373,  -2.9753, 2413,   2405.1,  -0.7981,  34.9257,2,  34.9209,2,    304.1,2,    11.02,2,    15.52,2,     0.00,2,     0.99,2, -999.000,9, -999.000,9,    0.187,3,    0.591,3,        0,2,   2155.7,2,   2300.0,2,   7.7179,    25.00,2,  -0.9196
  77DN20020420,   GNS,    36,  1,     24,2,20020513,  23, 79.0168,  -3.9688, 1998,     10.4,  -1.6513,  32.6567,2,  32.6581,2,    371.6,2,     7.64,2,     4.51,2,     0.01,2,     0.73,2,    8.610,2,    4.030,2,    0.604,3,    7.517,3,     -999,9,   2125.7,2,   2256.0,2,   7.6916,    25.00,2,  -1.6515
  77DN20020420,   GNS,    36,  1,     22,2,20020513,  23, 79.0168,  -3.9688, 1998,     21.2,  -1.6668,  32.7064,2,  32.7078,2,    370.8,2,     7.81,2,     4.61,2,     0.01,2,     0.72,2,    8.630,2,    4.000,2,    0.623,3,    7.378,3,     1.55,2,   2125.6,2,   2260.6,2,   7.6896,    25.00,2,  -1.6672
  77DN20020420,   GNS,    36,  1,     21,2,20020513,  23, 79.0168,  -3.9688, 1998,     29.9,  -1.7530,  33.3909,2,  33.3982,2,    352.5,2,     7.34,2,     6.21,2,     0.01,2,     0.68,2,    7.810,2,    3.690,2,    0.519,3,    6.651,3,     -999,9,   2136.2,2,   2273.5,2,   7.6942,    25.00,2,  -1.7535
  77DN20020420,   GNS,    36,  1,     20,2,20020513,  23, 79.0168,  -3.9688, 1998,     40.6,  -1.7578,  33.7514,2,  33.7611,2,    345.6,2,     6.86,2,     6.92,2,     0.00,2,     0.64,2,    7.470,2,    3.560,2,    0.507,3,    6.154,3,     -999,9,   2140.6,2,   2281.6,2,   7.6961,    25.00,2,  -1.7586
  77DN20020420,   GNS,    36,  1,     19,2,20020513,  23, 79.0168,  -3.9688, 1998,     49.6,  -1.6481,  33.9250,2,  33.9340,2,    342.7,2,     6.18,2,     7.43,2,     0.00,2,     0.64,2,    6.940,2,    3.420,2,    0.714,3,    6.067,3,     1.19,2,   2136.8,2,   2282.8,2,   7.7105,    25.00,2,  -1.6491
  77DN20020420,   GNS,    36,  1,     18,2,20020513,  23, 79.0168,  -3.9688, 1998,     60.0,  -1.6856,  34.0169,2,  34.0145,2,    342.7,2,     5.70,2,     7.50,2,     0.00,2,     0.63,2,    6.990,2,    3.360,2,    0.480,3,    6.020,3,     -999,9,   2138.4,2,   2282.3,2,   7.7162,    25.00,2,  -1.6868
  77DN20020420,   GNS,    36,  1,     17,2,20020513,  23, 79.0168,  -3.9688, 1998,     80.5,  -1.4384,  34.1787,2,  34.1797,2,    334.0,2,     5.49,2,     8.41,2,     0.00,2,     0.64,2,    6.500,2,    3.190,2,    0.441,3,    5.882,3,     -999,9,   2130.6,2,   2282.1,2,   7.7239,    25.00,2,  -1.4402
  77DN20020420,   GNS,    36,  1,     16,2,20020513,  23, 79.0168,  -3.9688, 1998,    100.4,  -1.0963,  34.3017,2,  34.3015,2,    324.7,2,     5.97,2,     9.49,2,     0.00,2,     0.69,2,    5.740,2,    2.920,2,    0.455,3,    5.461,3,     0.91,2,   -999.0,2,   2282.9,2,   7.7229,    25.00,2,  -1.0989
  77DN20020420,   GNS,    36,  1,     15,2,20020513,  23, 79.0168,  -3.9688, 1998,    125.8,  -0.8902,  34.3698,2,  34.3792,2,    314.8,2,     6.82,2,    10.67,2,     0.00,2,     0.76,2,    5.150,2,    2.660,2,    0.434,3,    5.197,3,     -999,9,   2135.4,2,   2279.9,2,   7.7142,    25.00,2,  -0.8937
  77DN20020420,   GNS,    36,  1,     14,2,20020513,  23, 79.0168,  -3.9688, 1998,    149.6,  -0.7645,  34.4430,2,  34.4440,2,    316.7,2,     5.36,2,    10.34,2,     0.00,2,     0.73,2,    5.190,2,    2.600,2,    0.341,3,    4.827,3,     -999,9,   -999.0,2,   2281.8,2,   7.7123,    25.00,2,  -0.7689
  77DN20020420,   GNS,    36,  1,     13,2,20020513,  23, 79.0168,  -3.9688, 1998,    200.0,   0.4079,  34.6719,2,  34.6710,2,    293.1,2,     8.09,2,    12.95,2,     0.00,2,     0.88,2,    3.280,2,    1.720,2,    0.248,3,    4.015,3,     0.33,2,   2147.6,2,   2290.7,2,   7.7054,    25.00,2,   0.3998
  77DN20020420,   GNS,    36,  1,     12,2,20020513,  23, 79.0168,  -3.9688, 1998,    251.1,   0.8255,  34.7864,2,  34.7826,2,    290.3,2,     7.28,2,    13.36,2,     0.00,2,     0.88,2,    3.400,2,    1.770,2,    0.275,3,    2.978,3,     -999,9,   -999.0,2,   2293.5,2,   7.7112,    25.00,2,   0.8143
  77DN20020420,   GNS,    36,  1,     11,2,20020513,  23, 79.0168,  -3.9688, 1998,    300.3,   1.3265,  34.8694,2,  34.8611,2,    299.6,2,     6.23,2,    13.24,2,     0.00,2,     0.86,2,    4.100,2,    2.150,2,    0.303,3,    2.821,3,     1.06,2,   2143.7,2,   2298.8,2,   7.7295,    25.00,2,   1.3117
  77DN20020420,   GNS,    36,  1,     10,2,20020513,  23, 79.0168,  -3.9688, 1998,    400.0,   1.4189,  34.9250,2,  34.9158,2,    305.6,2,     5.47,2,    13.21,2,     0.00,2,     0.85,2,    4.330,2,    2.330,2,    0.481,3,    2.285,3,      0.7,2,   -999.0,2,   2299.3,2,   7.7334,    25.00,2,   1.3985
  77DN20020420,   GNS,    36,  1,      9,2,20020513,  23, 79.0168,  -3.9688, 1998,    500.3,   1.0835,  34.9189,2,  34.9140,2,    305.8,2,     5.83,2,    13.22,2,     0.00,2,     0.86,2,    3.850,2,    2.090,2,    0.322,3,    1.896,3,     0.53,2,   2144.3,2,   2301.6,2,   7.7305,    25.00,2,   1.0589
  77DN20020420,   GNS,    36,  1,      8,2,20020513,  23, 79.0168,  -3.9688, 1998,    700.4,   0.2535,  34.8759,2,  34.8727,2,    298.7,2,     6.95,2,    13.53,2,     0.00,2,     0.89,2,    2.020,2,    1.000,2,    0.158,3,    1.191,3,     0.33,2,   -999.0,2,   2297.6,2,   7.7237,    25.00,2,   0.2227
  77DN20020420,   GNS,    36,  1,      7,2,20020513,  23, 79.0168,  -3.9688, 1998,   1000.3,  -0.0862,  34.8903,2,  34.8848,2,    300.3,2,     7.00,2,    13.54,2,     0.00,2,     0.89,2,    2.160,2,    1.090,2,    0.146,3,    0.967,3,     0.32,2,   2148.0,2,   2298.5,2,   7.7199,    25.00,2,  -0.1301
  77DN20020420,   GNS,    36,  1,      6,2,20020513,  23, 79.0168,  -3.9688, 1998,   1201.4,  -0.2583,  34.9038,2,  34.8982,2,    304.3,2,     7.72,2,    13.90,2,     0.00,2,     0.92,2,    1.770,2,    0.860,2,    0.158,3,    0.816,3,     0.52,2,   -999.0,2,   2299.0,2,   7.7170,    25.00,2,  -0.3115
  77DN20020420,   GNS,    36,  1,      5,2,20020513,  23, 79.0168,  -3.9688, 1998,   1251.2,  -0.2872,  34.9065,2,  34.8971,2,    300.1,2,     7.98,2,    14.07,2,     0.00,2,     0.93,2,    1.680,2,    0.790,2,    0.156,3,    0.801,3,     0.37,2,   2147.4,2,   2301.2,2,   7.7208,    25.00,2,  -0.3429
  77DN20020420,   GNS,    36,  1,      4,2,20020513,  23, 79.0168,  -3.9688, 1998,   1299.1,  -0.3137,  34.9086,2,  34.9030,2,    302.2,2,     9.03,2,    14.61,2,     0.00,2,     0.95,2,    1.550,2,    0.740,2,    0.139,3,    0.756,3,     0.17,2,   -999.0,2,   2298.7,2,   7.7199,    25.00,2,  -0.3718
  77DN20020420,   GNS,    36,  1,      3,2,20020513,  23, 79.0168,  -3.9688, 1998,   1500.7,  -0.4334,  34.9170,2,  34.9117,2,    298.6,2,     9.23,2,    14.61,2,     0.00,2,     0.96,2,    1.240,2,    0.560,2,    0.142,3,    0.746,3,     0.17,2,   2148.1,2,   2300.2,2,   7.7228,    25.00,2,  -0.5018
  77DN20020420,   GNS,    36,  1,      2,2,20020513,  23, 79.0168,  -3.9688, 1998,   1874.9,  -0.6041,  34.9239,2,  34.9176,2,    297.6,2,    10.01,2,    15.17,2,     0.00,2,     0.99,2,    0.800,2,    0.260,2,    0.126,3,    0.664,3,     0.07,2,   -999.0,2,   2301.2,2,   7.7208,    25.00,2,  -0.6931
  77DN20020420,   GNS,    36,  1,      1,2,20020513,  23, 79.0168,  -3.9688, 1998,   1975.1,  -0.7028,  34.9240,2,  34.9153,2,    301.1,2,    10.65,2,    15.25,2,     0.00,2,     0.98,2,    0.640,2,    0.160,2,    0.151,3,    0.626,3,        0,2,   2147.7,2,   2301.5,2,   7.7199,    25.00,2,  -0.7967
  77DN20020420,   GNS,    37,  1,     22,2,20020513, 333, 78.9943,  -4.6460, 1563,      9.9,  -1.7449,  32.8520,2,  32.8484,2,    365.8,2,     8.61,2,     5.13,2,     0.00,2,     0.72,2, -999.000,9, -999.000,9, -999.000,9, -999.000,9,     -999,9,   2128.8,2,   2258.2,2,   7.6886,    25.00,2,  -1.7451
  77DN20020420,   GNS,    37,  1,     21,2,20020513, 333, 78.9943,  -4.6460, 1563,     20.0,  -1.6713,  33.0366,2,  33.0381,2,    360.0,2,     8.54,2,     5.62,2,     0.00,2,     0.70,2, -999.000,9, -999.000,9,    0.767,3,    9.585,3,     -999,9,   2131.8,2,   2264.7,2,   7.6867,    25.00,2,  -1.6717
  77DN20020420,   GNS,    37,  1,     20,2,20020513, 333, 78.9943,  -4.6460, 1563,     30.4,  -1.6706,  33.0645,2,  33.0639,2,    358.1,2,     8.23,2,     5.76,2,     0.00,2,     0.70,2, -999.000,9, -999.000,9,    0.765,3,    9.542,3,     -999,9,   2134.0,2,   2263.8,2,   7.6857,    25.00,2,  -1.6711
  77DN20020420,   GNS,    37,  1,     19,2,20020513, 333, 78.9943,  -4.6460, 1563,     40.3,  -1.6241,  33.2337,2,  33.2336,2,    356.0,2,     8.07,2,     6.30,2,     0.00,2,     0.70,2, -999.000,9, -999.000,9,    0.775,3,    8.643,3,     -999,9,   2133.3,2,   2266.7,2,   7.6866,    25.00,2,  -1.6249
  77DN20020420,   GNS,    37,  1,     18,2,20020513, 333, 78.9943,  -4.6460, 1563,     49.8,  -1.5244,  33.5660,2,  33.5681,2,    340.7,2,     7.96,2,     7.39,2,     0.00,2,     0.70,2, -999.000,9, -999.000,9,    0.658,3,    7.828,3,     0.98,2,   2138.4,2,   2272.0,2,   7.6884,    25.00,2,  -1.5254
  77DN20020420,   GNS,    37,  1,     17,2,20020513, 333, 78.9943,  -4.6460, 1563,     60.3,  -1.1338,  33.8346,2,  33.8378,2,    328.7,2,     8.40,2,     9.12,2,     0.00,2,     0.75,2, -999.000,9, -999.000,9,    0.599,3,    7.244,3,     -999,9,   2136.3,2,   2274.5,2,   7.6903,    25.00,2,  -1.1353
  77DN20020420,   GNS,    37,  1,     16,2,20020513, 333, 78.9943,  -4.6460, 1563,     74.3,  -1.3376,  34.0114,2,  34.0041,2,    338.0,2,     7.00,2,     8.46,2,     0.00,2,     0.68,2, -999.000,9, -999.000,9,    0.607,3,    7.455,3,     0.96,2,   -999.0,2,   2277.1,2,   7.7047,    25.00,2,  -1.3393
  77DN20020420,   GNS,    37,  1,     15,2,20020513, 333, 78.9943,  -4.6460, 1563,     99.5,  -1.5968,  34.1820,2,  34.1866,2,    340.5,2,     5.33,2,     8.62,2,     0.00,2,     0.64,2, -999.000,9, -999.000,9,    0.569,3,    7.186,3,     -999,9,   2121.7,2,   2277.2,2,   7.7326,    25.00,2,  -1.5989
  77DN20020420,   GNS,    37,  1,     14,2,20020513, 333, 78.9943,  -4.6460, 1563,    124.6,  -0.8507,  34.3564,2,  34.3574,2,    319.6,2,     6.90,2,    10.63,2,     0.00,2,     0.74,2, -999.000,9, -999.000,9,    0.494,3,    5.598,3,     0.89,2,   -999.0,2,   2277.8,2,   7.7142,    25.00,2,  -0.8542
  77DN20020420,   GNS,    37,  1,     13,2,20020513, 333, 78.9943,  -4.6460, 1563,    149.8,  -0.8561,  34.4048,2,  34.4049,2,    317.3,2,     6.13,2,    10.39,2,     0.00,2,     0.72,2, -999.000,9, -999.000,9,    0.478,3,    5.557,3,     -999,9,   2135.7,2,   2280.9,2,   7.7219,    25.00,2,  -0.8604
  77DN20020420,   GNS,    37,  1,     12,2,20020513, 333, 78.9943,  -4.6460, 1563,    200.3,   0.1703,  34.6082,2,  34.6132,2,    293.0,2,     8.34,2,    12.68,2,     0.00,2,     0.86,2, -999.000,9, -999.000,9,    0.349,3,    4.793,3,     0.16,2,   -999.0,2,   2288.4,2,   7.6997,    25.00,2,   0.1626
  77DN20020420,   GNS,    37,  1,     11,2,20020513, 333, 78.9943,  -4.6460, 1563,    249.9,   0.7682,  34.7615,2,  34.7612,2,    289.7,2,     7.69,2,    13.40,2,     0.00,2,     0.88,2, -999.000,9, -999.000,9,    0.360,3,    5.490,3,     -999,9,   2146.3,2,   2294.4,2,   7.7131,    25.00,2,   0.7572
  77DN20020420,   GNS,    37,  1,     10,2,20020513, 333, 78.9943,  -4.6460, 1563,    301.0,   1.1468,  34.8496,2,  34.8424,2,    294.4,2,     6.50,2,    13.52,2,     0.00,2,     0.87,2, -999.000,9, -999.000,9,    0.320,3,    3.345,3,     0.47,2,   -999.0,2,   2296.6,2,   7.7247,    25.00,2,   1.1324
  77DN20020420,   GNS,    37,  1,      9,2,20020513, 333, 78.9943,  -4.6460, 1563,    401.2,   0.8107,  34.8604,2,  34.8566,2,    293.7,2,     7.03,2,    13.71,2,     0.00,2,     0.88,2, -999.000,9, -999.000,9,    0.329,3,    3.140,3,     0.33,2,   2147.6,2,   2296.6,2,   7.7228,    25.00,2,   0.7923
  77DN20020420,   GNS,    37,  1,      8,2,20020513, 333, 78.9943,  -4.6460, 1563,    500.9,   0.5847,  34.8664,2,  34.8631,2,    294.4,2,     7.16,2,    13.76,2,     0.00,2,     0.88,2, -999.000,9, -999.000,9,    0.262,3,    2.432,3,      0.2,2,   -999.0,2,   2296.7,2,   7.7218,    25.00,2,   0.5622
  77DN20020420,   GNS,    37,  1,      7,2,20020513, 333, 78.9943,  -4.6460, 1563,    701.0,   0.3494,  34.8790,2,  34.8760,2,    301.0,2,     6.95,2,    13.61,2,     0.00,2,     0.89,2, -999.000,9, -999.000,9,    0.212,3,    1.542,3,     0.24,2,   2144.4,2,   2300.7,2,   7.7237,    25.00,2,   0.3180
  77DN20020420,   GNS,    37,  1,      6,2,20020513, 333, 78.9943,  -4.6460, 1563,   1000.7,  -0.0888,  34.8916,2,  34.8884,2,    301.1,2,     7.32,2,    13.59,2,     0.00,2,     0.89,2, -999.000,9, -999.000,9,    0.207,3,    1.414,3,     0.33,2,   -999.0,2,   2300.2,2,   7.7170,    25.00,2,  -0.1327
  77DN20020420,   GNS,    37,  1,      5,2,20020513, 333, 78.9943,  -4.6460, 1563,   1170.2,  -0.2662,  34.9043,2,  34.8995,2,    303.7,2,     7.97,2,    14.08,2,     0.00,2,     0.91,2, -999.000,9, -999.000,9,    0.192,3,    1.131,3,        0,2,   2150.7,2,   2302.4,2,   7.7189,    25.00,2,  -0.3177
  77DN20020420,   GNS,    37,  1,      4,2,20020513, 333, 78.9943,  -4.6460, 1563,   1220.1,  -0.2930,  34.9066,2,  34.9032,2,    302.7,2,     8.09,2,    14.17,2,     0.00,2,     0.92,2, -999.000,9, -999.000,9,    0.175,3,    0.977,3,     -999,9,   -999.0,2,   2302.7,2,   7.7189,    25.00,2,  -0.3469
  77DN20020420,   GNS,    37,  1,      3,2,20020513, 333, 78.9943,  -4.6460, 1563,   1270.8,  -0.3211,  34.9089,2,  34.9038,2,    301.2,2,     8.25,2,    14.37,2,     0.00,2,     0.93,2, -999.000,9, -999.000,9, -999.000,9, -999.000,9,        0,2,   2150.5,2,   2305.4,2,   7.7179,    25.00,2,  -0.3776
  77DN20020420,   GNS,    37,  1,      2,2,20020513, 333, 78.9943,  -4.6460, 1563,   1448.0,  -0.4151,  34.9163,2,  34.9124,2,    299.6,2,     9.09,2,    14.69,2,     0.00,2,     0.94,2, -999.000,9, -999.000,9,    0.183,3,    0.814,3,        0,2,   -999.0,2,   2301.4,2,   7.7189,    25.00,2,  -0.4806
  77DN20020420,   GNS,    37,  1,      1,2,20020513, 333, 78.9943,  -4.6460, 1563,   1547.6,  -0.4698,  34.9196,2,  34.9128,2,    299.0,2,     9.40,2,    14.86,2,     0.00,2,     0.95,2, -999.000,9, -999.000,9,    0.197,3,    0.756,3,        0,2,   2149.8,2,   2302.0,2,   7.7189,    25.00,2,  -0.5405