BOTTLE,20090507PRINUNIVRMK
EXPOCODE,SECT_ID,STNNBR,CASTNO,BTLNBR,BTLNBR_FLAG_W,DATE,TIME,LATITUDE,LONGITUDE,DEPTH,CTDPRS,CTDTMP,CTDSAL,CTDSAL_FLAG_W,SALNTY,SALNTY_FLAG_W,OXYGEN,OXYGEN_FLAG_W,SILCAT,SILCAT_FLAG_W,NITRAT,NITRAT_FLAG_W,NITRIT,NITRIT_FLAG_W,PHSPHT,PHSPHT_FLAG_W,CFC-11,CFC-11_FLAG_W,CFC-12,CFC-12_FLAG_W,CFC113,CFC113_FLAG_W,CCL4,CCL4_FLAG_W,SF6,SF6_FLAG_W,TCARBN,TCARBN_FLAG_W,ALKALI,ALKALI_FLAG_W,PH_SWS,PH_TEMP,PH_SWS_FLAG_W,THETA
,,,,,,,,,,METERS,DBARS,ITS-90,PSS-78,,PSS-78,,UMOL/KG,,UMOL/KG,,UMOL/KG,,UMOL/KG,,UMOL/KG,,PMOL/KG,,PMOL/KG,,PMOL/KG,,PMOL/KG,,FMOL/KG,,UMOL/KG,,UMOL/KG,,,DEGC,,DEGC
  77DN20020420,   GNS,     6,  1,     13,2,20020429, 304, 76.9990,  19.5028,  122,      2.2,  -1.9013,  34.8331,2,  34.8317,2,    343.7,2,     3.60,2,     8.01,2,     0.01,2,     0.60,2, -999.000,9, -999.000,9,    0.558,3,    8.139,3,     1.56,2,   2155.6,2,   2303.3,2,   7.7092,    25.00,2,  -1.9013
  77DN20020420,   GNS,     6,  1,     12,2,20020429, 304, 76.9990,  19.5028,  122,      9.9,  -1.9028,  34.8335,2,  34.8323,2,    342.8,2,     3.66,2,     7.99,2,     0.01,2,     0.60,2, -999.000,9, -999.000,9,    0.627,3,    8.509,3,     1.48,2,   2160.6,2,   2303.5,2,   7.7092,    25.00,2,  -1.9030
  77DN20020420,   GNS,     6,  1,     11,2,20020429, 304, 76.9990,  19.5028,  122,     20.6,  -1.9027,  34.8341,2,  34.8335,2,    342.3,2,     3.50,2,     8.00,2,     0.01,2,     0.60,2, -999.000,9, -999.000,9,    0.654,3,    7.794,3,     1.45,2,   2160.4,2,   2304.8,2,   7.7083,    25.00,2,  -1.9031
  77DN20020420,   GNS,     6,  1,     10,2,20020429, 304, 76.9990,  19.5028,  122,     30.0,  -1.9021,  34.8348,2,  34.8323,2,    342.6,2,     3.81,2,     8.00,2,     0.01,2,     0.60,2, -999.000,9, -999.000,9,    0.637,3,    7.861,3,     1.66,2,   2162.4,2,   2304.8,2,   7.7092,    25.00,2,  -1.9027
  77DN20020420,   GNS,     6,  1,      9,2,20020429, 304, 76.9990,  19.5028,  122,     40.8,  -1.9022,  34.8355,2,  34.8353,2,    342.5,2,     3.73,2,     8.01,2,     0.01,2,     0.61,2, -999.000,9, -999.000,9,    0.628,3,    7.610,3,     1.57,2,   2157.4,2,   2302.9,2,   7.7064,    25.00,2,  -1.9030
  77DN20020420,   GNS,     6,  1,      8,2,20020429, 304, 76.9990,  19.5028,  122,     50.2,  -1.8991,  34.8430,2,  34.8379,2,    343.6,2,     3.55,2,     8.04,2,     0.01,2,     0.60,2, -999.000,9, -999.000,9,    0.595,3,    7.350,3,     1.67,2,   2156.4,2,   2303.3,2,   7.7102,    25.00,2,  -1.9001
  77DN20020420,   GNS,     6,  1,      7,2,20020429, 304, 76.9990,  19.5028,  122,     60.7,  -1.8273,  34.9056,2,  34.9460,2,    340.4,2,     3.85,2,     8.19,2,     0.00,2,     0.62,2, -999.000,9, -999.000,9,    0.616,3,    7.086,3,     1.75,2,   2170.2,2,   2309.9,2,   7.6976,    25.00,2,  -1.8285
  77DN20020420,   GNS,     6,  1,      6,2,20020429, 304, 76.9990,  19.5028,  122,     69.7,  -1.9197,  35.0609,2,  35.0697,2,    343.0,2,     3.90,2,     8.52,2,     0.01,2,     0.63,2, -999.000,9, -999.000,9,    0.515,3,    6.760,3,     -999,9,   2177.1,2,   2318.7,2,   7.6976,    25.00,2,  -1.9211
  77DN20020420,   GNS,     6,  1,      5,2,20020429, 304, 76.9990,  19.5028,  122,     79.7,  -1.9247,  35.1063,2,  35.1322,2,    342.4,2,     3.97,2,     8.85,2,     0.03,2,     0.66,2, -999.000,9, -999.000,9,    0.587,3,    6.690,3,     1.72,2,   2181.2,2,   2323.3,2,   7.6908,    25.00,2,  -1.9263
  77DN20020420,   GNS,     6,  1,      4,2,20020429, 304, 76.9990,  19.5028,  122,     99.8,  -1.9534,  35.6269,2,  35.6378,2,    341.9,2,     3.95,2,     8.19,2,     0.00,2,     0.63,2, -999.000,9, -999.000,9,    0.583,3,    6.315,3,     1.74,2,   2217.3,2,   2357.7,2,   7.6810,    25.00,2,  -1.9555
  77DN20020420,   GNS,     6,  1,      3,2,20020429, 304, 76.9990,  19.5028,  122,    114.3,  -1.9578,  35.7656,2,  35.7681,2,    343.4,2,     4.00,2,     8.11,2,     0.01,2,     0.63,2, -999.000,9, -999.000,9,    0.577,3,    5.763,3,     1.71,2,   2228.3,2,   2369.1,2,   7.6781,    25.00,2,  -1.9603
  77DN20020420,   GNS,     6,  1,      2,2,20020429, 304, 76.9990,  19.5028,  122,    119.3,  -1.9577,  35.7686,2,  35.7695,2,    344.1,2,     4.06,2,     8.11,2,     0.01,2,     0.64,2, -999.000,9, -999.000,9,    0.578,3,    5.614,3,     1.53,2,   2226.9,2,   2367.9,2,   7.6790,    25.00,2,  -1.9603
  77DN20020420,   GNS,     6,  1,      1,2,20020429, 304, 76.9990,  19.5028,  122,    123.9,  -1.9577,  35.7705,2,  35.7837,2,    345.0,2,     4.01,2,     8.14,2,     0.01,2,     0.62,2, -999.000,9, -999.000,9,    0.576,3,    5.538,3,     -999,9,   2224.9,2,   2367.7,2,   7.6771,    25.00,2,  -1.9604
  77DN20020420,   GNS,     7,  1,     16,2,20020429, 713, 76.6430,  19.4378,  192,      2.1,  -1.4285,  34.2530,2,  34.2536,2,    361.3,2,     2.92,2,     6.88,2,     0.02,2,     0.47,2,    7.200,2,    3.630,2,    0.632,3,    9.537,3,     1.54,2,   2104.2,2,   2265.3,2,   7.7626,    25.00,2,  -1.4285
  77DN20020420,   GNS,     7,  1,     15,2,20020429, 713, 76.6430,  19.4378,  192,     10.3,  -1.2767,  34.2779,2,  34.2770,2,    357.9,2,     2.96,2,     7.03,2,     0.02,2,     0.48,2,    7.150,2,    3.670,2,    0.512,3,    9.270,3,      1.5,2,   2104.2,2,   2267.7,2,   7.7626,    25.00,2,  -1.2769
  77DN20020420,   GNS,     7,  1,     14,2,20020429, 713, 76.6430,  19.4378,  192,     21.1,  -0.4398,  34.4103,2,  34.3607,2,    355.4,2,     3.14,2,     7.64,2,     0.02,2,     0.53,2,    6.830,2,    3.550,2,    0.552,3,    8.869,3,     1.46,2,   2112.5,2,   2271.7,2,   7.7607,    25.00,2,  -0.4405
  77DN20020420,   GNS,     7,  1,     13,2,20020429, 713, 76.6430,  19.4378,  192,     30.1,  -0.2272,  34.4755,2,  34.4846,2,    348.5,2,     3.44,2,     8.46,2,     0.02,2,     0.57,2,    6.760,2,    3.480,2,    0.591,3,    8.122,3,     1.58,2,   2126.3,2,   2280.1,2,   7.7519,    25.00,2,  -0.2282
  77DN20020420,   GNS,     7,  1,     12,2,20020429, 713, 76.6430,  19.4378,  192,     40.0,   1.0605,  34.7616,2,  34.7400,2,    326.2,2,     4.17,2,    10.20,2,     0.02,2,     0.69,2,    6.140,2,    3.270,2,    0.441,3,    7.263,3,     1.28,2,   2135.9,2,   2294.0,2,   7.7402,    25.00,2,   1.0587
  77DN20020420,   GNS,     7,  1,     11,2,20020429, 713, 76.6430,  19.4378,  192,     49.9,   1.3239,  34.8301,2,  34.8344,2,    319.1,2,     4.40,2,    10.49,2,     0.02,2,     0.72,2,    5.990,2,    3.170,2,    0.468,3,    6.796,3,     1.36,2,   2144.7,2,   2300.3,2,   7.7363,    25.00,2,   1.3215
  77DN20020420,   GNS,     7,  1,     10,2,20020429, 713, 76.6430,  19.4378,  192,     60.0,   0.6749,  34.8303,2,  34.8346,2,    322.8,2,     4.28,2,    10.14,2,     0.01,2,     0.71,2,    6.210,2,    3.270,2,    0.547,3,    6.310,3,     1.34,2,   2147.5,2,   2300.6,2,   7.7295,    25.00,2,   0.6724
  77DN20020420,   GNS,     7,  1,      9,2,20020429, 713, 76.6430,  19.4378,  192,     69.7,  -0.0727,  34.8125,2,  34.8133,2,    325.7,2,     4.09,2,     9.61,2,     0.00,2,     0.68,2,    6.490,2,    3.380,2,    0.469,3,    6.407,3,     -999,9,   2150.2,2,   2298.9,2,   7.7218,    25.00,2,  -0.0752
  77DN20020420,   GNS,     7,  1,      8,2,20020429, 713, 76.6430,  19.4378,  192,     80.3,  -0.3762,  34.8090,2,  34.8088,2,    328.6,2,     3.97,2,     9.30,2,     0.00,2,     0.66,2, -999.000,9, -999.000,9,    0.544,3,    6.939,3,     1.43,2,   2154.7,2,   2299.4,2,   7.7160,    25.00,2,  -0.3788
  77DN20020420,   GNS,     7,  1,      7,2,20020429, 713, 76.6430,  19.4378,  192,    100.2,  -1.4863,  34.8015,2,  34.8029,2,    339.6,2,     3.59,2,     8.62,2,     0.00,2,     0.63,2, -999.000,9, -999.000,9,    0.495,3,    5.764,3,     1.43,2,   2159.1,2,   2303.3,2,   7.7064,    25.00,2,  -1.4887
  77DN20020420,   GNS,     7,  1,      6,2,20020429, 713, 76.6430,  19.4378,  192,    124.8,  -1.7845,  34.8659,2,  34.8623,2,    341.4,2,     3.68,2,     8.53,2,     0.00,2,     0.63,2,    7.370,2,    3.760,2,    0.482,3,    5.603,3,     1.71,2,   2164.5,2,   2304.7,2,   7.6977,    25.00,2,  -1.7872
  77DN20020420,   GNS,     7,  1,      5,2,20020429, 713, 76.6430,  19.4378,  192,    150.6,  -1.8196,  34.9955,2,  34.9978,2,    342.7,2,     4.22,2,     8.89,2,     0.00,2,     0.66,2,    7.690,2,    3.800,2,    0.433,3,    5.008,3,     1.54,2,   2209.9,2,   2315.4,2,   7.6889,    25.00,2,  -1.8228
  77DN20020420,   GNS,     7,  1,      4,2,20020429, 713, 76.6430,  19.4378,  192,    175.3,  -1.8836,  35.2869,2,  35.2706,2,    344.9,2,     4.45,2,     8.70,2,     0.01,2,     0.66,2,    7.570,2,    3.840,2,    0.435,3,    4.702,3,     1.62,2,   2196.1,2,   2333.7,2,   7.6811,    25.00,2,  -1.8874
  77DN20020420,   GNS,     7,  1,      3,2,20020429, 713, 76.6430,  19.4378,  192,    180.2,  -1.8957,  35.3414,2,  35.3431,2,    342.0,2,     4.18,2,     8.61,2,     0.01,2,     0.65,2,    7.820,2,    3.920,2,    0.428,3,    4.342,3,     -999,9,   2204.3,2,   2341.6,2,   7.6802,    25.00,2,  -1.8996
  77DN20020420,   GNS,     7,  1,      2,2,20020429, 713, 76.6430,  19.4378,  192,    184.9,  -1.9039,  35.3927,2,  35.3888,2,    343.4,2,     4.26,2,     8.57,2,     0.01,2,     0.65,2,    7.890,2,    3.920,2,    0.427,3,    4.122,3,     -999,9,   2203.7,2,   2341.3,2,   7.6792,    25.00,2,  -1.9080
  77DN20020420,   GNS,     7,  1,      1,2,20020429, 713, 76.6430,  19.4378,  192,    191.2,  -1.9315,  35.5553,2,  35.5431,2,    341.2,2,     4.32,2,     8.45,2,     0.01,2,     0.65,2,    7.770,2,    3.920,2,    0.414,3,    4.107,3,      1.6,2,   2213.5,2,   2341.6,2,   7.6791,    25.00,2,  -1.9357
  77DN20020420,   GNS,     8,  1,     23,2,20020429,1010, 76.3107,  18.9955,  270,      1.8,   0.9054,  34.6675,2,  34.6655,2,    342.9,2,     3.29,2,     8.33,2,     0.03,2,     0.55,2, -999.000,9, -999.000,9,    0.582,3,   10.829,3,     -999,9,   2118.8,2,   2291.8,2,   7.7742,    25.00,2,   0.9053
  77DN20020420,   GNS,     8,  1,     22,2,20020429,1010, 76.3107,  18.9955,  270,     11.1,   0.8564,  34.6605,2,  34.6610,2,    344.4,2,     3.24,2,     8.35,2,     0.03,2,     0.56,2, -999.000,9, -999.000,9,    0.578,3,   10.352,3,     -999,9,   2124.5,2,   2291.9,2,   7.7732,    25.00,2,   0.8559
  77DN20020420,   GNS,     8,  1,     21,2,20020429,1010, 76.3107,  18.9955,  270,     20.2,   0.9144,  34.6695,2,  34.6638,2,    343.6,2,     3.25,2,     8.34,2,     0.03,2,     0.57,2, -999.000,9, -999.000,9,    0.552,3,    9.702,3,     -999,9,   2123.6,2,   2292.4,2,   7.7732,    25.00,2,   0.9135
  77DN20020420,   GNS,     8,  1,     20,2,20020429,1010, 76.3107,  18.9955,  270,     30.7,   1.4330,  34.7360,2,  34.7128,2,    339.0,2,     3.25,2,     8.81,2,     0.03,2,     0.58,2, -999.000,9, -999.000,9,    0.527,3,    9.168,3,     -999,9,   2124.9,2,   2294.4,2,   7.7722,    25.00,2,   1.4315
  77DN20020420,   GNS,     8,  1,     19,2,20020429,1010, 76.3107,  18.9955,  270,     40.4,   1.9467,  34.8078,2,  34.7853,2,    331.4,2,     3.33,2,     9.45,2,     0.03,2,     0.65,2, -999.000,9, -999.000,9,    0.550,3,    8.996,3,     -999,9,   2129.8,2,   2299.0,2,   7.7702,    25.00,2,   1.9446
  77DN20020420,   GNS,     8,  1,     18,2,20020429,1010, 76.3107,  18.9955,  270,     50.5,   2.0186,  34.8187,2,  34.8231,2,    329.1,2,     3.40,2,     9.64,2,     0.03,2,     0.64,2, -999.000,9, -999.000,9,    0.539,3,    8.746,3,     -999,9,   2131.3,2,   2300.0,2,   7.7693,    25.00,2,   2.0159
  77DN20020420,   GNS,     8,  1,     17,2,20020429,1010, 76.3107,  18.9955,  270,     60.6,   2.0937,  34.8292,2,  34.8283,2,    331.1,2,     3.43,2,     9.71,2,     0.03,2,     0.64,2, -999.000,9, -999.000,9,    0.535,3,    8.474,3,     -999,9,   2128.7,2,   2299.8,2,   7.7693,    25.00,2,   2.0905
  77DN20020420,   GNS,     8,  1,     16,2,20020429,1010, 76.3107,  18.9955,  270,     71.4,   2.1385,  34.8373,2,  34.8359,2,    330.3,2,     3.50,2,     9.80,2,     0.03,2,     0.65,2, -999.000,9, -999.000,9,    0.549,3,    8.013,3,     -999,9,   2130.4,2,   2300.6,2,   7.7702,    25.00,2,   2.1346
  77DN20020420,   GNS,     8,  1,     15,2,20020429,1010, 76.3107,  18.9955,  270,     80.0,   2.1721,  34.8446,2,  34.8450,2,    326.7,2,     3.57,2,     9.96,2,     0.03,2,     0.66,2, -999.000,9, -999.000,9,    0.515,3,    7.185,3,     -999,9,   2132.0,2,   2300.7,2,   7.7673,    25.00,2,   2.1677
  77DN20020420,   GNS,     8,  1,     10,2,20020429,1010, 76.3107,  18.9955,  270,    100.0,   2.0797,  34.8872,2,  34.8895,2,    318.8,2,     4.13,2,    10.82,2,     0.02,2,     0.73,2, -999.000,9, -999.000,9,    0.542,3,    6.869,3,     -999,9,   2140.9,2,   2302.4,2,   7.7489,    25.00,2,   2.0743
  77DN20020420,   GNS,     8,  1,      9,2,20020429,1010, 76.3107,  18.9955,  270,    124.7,   0.0486,  34.8070,2,  34.8125,2,    326.4,2,     4.04,2,     9.92,2,     0.02,2,     0.69,2, -999.000,9, -999.000,9,    0.537,3,    6.631,3,     -999,9,   2152.7,2,   2298.9,2,   7.7228,    25.00,2,   0.0440
  77DN20020420,   GNS,     8,  1,      8,2,20020429,1010, 76.3107,  18.9955,  270,    150.9,  -0.3065,  34.8352,2,  34.8429,2,    325.5,2,     3.88,2,     9.60,2,     0.00,2,     0.68,2,    6.610,2,    3.440,2,    0.487,3,    5.829,3,     -999,9,   2155.1,2,   2300.4,2,   7.7208,    25.00,2,  -0.3117
  77DN20020420,   GNS,     8,  1,      7,2,20020429,1010, 76.3107,  18.9955,  270,    176.7,  -1.2504,  34.9310,2,  34.9279,2,    335.6,2,     3.59,2,     8.99,2,     0.00,2,     0.66,2, -999.000,9, -999.000,9,    0.518,3,    6.116,3,     -999,9,   2166.4,2,   2306.4,2,   7.7054,    25.00,2,  -1.2551
  77DN20020420,   GNS,     8,  1,      6,2,20020429,1010, 76.3107,  18.9955,  270,    204.0,  -1.8660,  35.0645,2,  35.1479,2,    339.8,2,     3.59,2,     8.64,2,     0.00,2,     0.65,2, -999.000,9, -999.000,9,    0.547,3,    5.504,3,     -999,9,   2179.7,2,   2316.4,2,   7.6947,    25.00,2,  -1.8705
  77DN20020420,   GNS,     8,  1,      5,2,20020429,1010, 76.3107,  18.9955,  270,    222.5,  -1.8861,  35.1494,2,  35.1484,2,    339.4,2,     3.64,2,     8.57,2,     0.00,2,     0.64,2, -999.000,9, -999.000,9,    0.532,3,    5.670,3,     -999,9,   2185.7,2,   2324.9,2,   7.6899,    25.00,2,  -1.8910
  77DN20020420,   GNS,     8,  1,      4,2,20020429,1010, 76.3107,  18.9955,  270,    250.3,  -1.9260,  35.4277,2,-999.0000,9,    340.1,2,     3.52,2,     8.32,2,     0.00,2,     0.63,2, -999.000,9, -999.000,9,    0.533,3,    5.384,3,     -999,9,   2207.4,2,   2342.5,2,   7.6849,    25.00,2,  -1.9316
  77DN20020420,   GNS,     8,  1,      3,2,20020429,1010, 76.3107,  18.9955,  270,    257.3,  -1.9284,  35.4377,2,  35.4378,2,    339.8,2,     3.56,2,     8.29,2,     0.00,2,     0.63,2, -999.000,9, -999.000,9,    0.536,3,    5.544,3,     -999,9,   2211.1,2,   2347.0,2,   7.6840,    25.00,2,  -1.9342
  77DN20020420,   GNS,     8,  1,      2,2,20020429,1010, 76.3107,  18.9955,  270,    261.8,  -1.9283,  35.4377,2,  35.4371,2,    342.5,2,     3.56,2,     8.30,2,     0.01,2,     0.63,2, -999.000,9, -999.000,9,    0.542,3,    5.415,3,     -999,9,   2206.8,2,   2343.4,2,   7.6830,    25.00,2,  -1.9342
  77DN20020420,   GNS,     8,  1,      1,2,20020429,1010, 76.3107,  18.9955,  270,    265.9,  -1.9280,  35.4378,2,  35.4374,2,    342.4,2,     3.52,2,     8.29,2,     0.00,2,     0.61,2, -999.000,9, -999.000,9,    0.545,3,    5.298,3,     -999,9,   2207.6,2,   2342.1,2,   7.6849,    25.00,2,  -1.9340