BOTTLE,20090507PRINUNIVRMK
EXPOCODE,SECT_ID,STNNBR,CASTNO,BTLNBR,BTLNBR_FLAG_W,DATE,TIME,LATITUDE,LONGITUDE,DEPTH,CTDPRS,CTDTMP,CTDSAL,CTDSAL_FLAG_W,SALNTY,SALNTY_FLAG_W,OXYGEN,OXYGEN_FLAG_W,SILCAT,SILCAT_FLAG_W,NITRAT,NITRAT_FLAG_W,NITRIT,NITRIT_FLAG_W,PHSPHT,PHSPHT_FLAG_W,CFC-11,CFC-11_FLAG_W,CFC-12,CFC-12_FLAG_W,CFC113,CFC113_FLAG_W,CCL4,CCL4_FLAG_W,SF6,SF6_FLAG_W,TCARBN,TCARBN_FLAG_W,ALKALI,ALKALI_FLAG_W,PH_SWS,PH_TEMP,PH_SWS_FLAG_W,THETA
,,,,,,,,,,METERS,DBARS,ITS-90,PSS-78,,PSS-78,,UMOL/KG,,UMOL/KG,,UMOL/KG,,UMOL/KG,,UMOL/KG,,PMOL/KG,,PMOL/KG,,PMOL/KG,,PMOL/KG,,FMOL/KG,,UMOL/KG,,UMOL/KG,,,DEGC,,DEGC
  77DN20020420,   GNS,    54,  1,     15,2,20020518, 806, 74.9637, -12.8918,  485,      8.6,  -1.8219,  34.2991,2,-999.0000,9,    341.4,2,     5.17,2,     9.42,2,     0.02,2,     0.68,2, -999.000,9, -999.000,9, -999.000,9, -999.000,9,     -999,9,   2123.8,2,   2272.2,2,   7.7268,    25.00,2,  -1.8221
  77DN20020420,   GNS,    54,  1,     14,2,20020518, 806, 74.9637, -12.8918,  485,     20.3,  -1.8210,  34.3005,2,  34.3057,2,    342.3,2,     5.00,2,     9.43,2,     0.02,2,     0.68,2, -999.000,9, -999.000,9,    0.638,3,    7.778,3,     1.76,2,   2124.4,2,   2269.9,2,   7.7268,    25.00,2,  -1.8214
  77DN20020420,   GNS,    54,  1,     13,2,20020518, 806, 74.9637, -12.8918,  485,     30.0,  -1.8212,  34.3013,2,-999.0000,9,    342.1,2,     4.96,2,     9.43,2,     0.02,2,     0.67,2,    6.580,2,    3.320,2,    0.497,3,    7.694,3,     -999,9,   2123.7,2,   2272.6,2,   7.7268,    25.00,2,  -1.8218
  77DN20020420,   GNS,    54,  1,     12,2,20020518, 806, 74.9637, -12.8918,  485,     40.5,  -1.8208,  34.3023,2,  34.3079,2,    341.6,2,     4.88,2,     9.25,2,     0.03,2,     0.67,2, -999.000,9, -999.000,9, -999.000,9, -999.000,9,     -999,9,   2114.8,2,   2271.9,2,   7.7278,    25.00,2,  -1.8216
  77DN20020420,   GNS,    54,  1,     11,2,20020518, 806, 74.9637, -12.8918,  485,     58.8,  -1.7974,  34.3198,2,  34.3254,2,    339.9,2,     4.80,2,     9.42,2,     0.03,2,     0.67,2, -999.000,9, -999.000,9,    0.590,3,    9.248,3,      1.6,2,   2126.5,2,   2272.8,2,   7.7239,    25.00,2,  -1.7985
  77DN20020420,   GNS,    54,  1,     10,2,20020518, 806, 74.9637, -12.8918,  485,     80.0,  -1.7642,  34.3277,2,-999.0000,9,    340.6,2,     4.82,2,     9.39,2,     0.03,2,     0.68,2, -999.000,9, -999.000,9, -999.000,9, -999.000,9,     -999,9,   2126.0,2,   2271.4,2,   7.7239,    25.00,2,  -1.7658
  77DN20020420,   GNS,    54,  1,      9,2,20020518, 806, 74.9637, -12.8918,  485,    100.2,  -1.4737,  34.3724,2,-999.0000,9,    336.9,2,     5.07,2,     9.97,2,     0.02,2,     0.71,2, -999.000,9, -999.000,9,    0.541,3,    7.743,3,     -999,9,   2122.9,2,   2273.4,2,   7.7219,    25.00,2,  -1.4760
  77DN20020420,   GNS,    54,  1,      8,2,20020518, 806, 74.9637, -12.8918,  485,    124.7,  -0.7797,  34.4751,2,  34.4858,2,    320.9,2,     5.53,2,    10.89,2,     0.02,2,     0.75,2, -999.000,9, -999.000,9,    0.461,3,    5.912,3,     1.24,2,   2132.7,2,   2278.3,2,   7.7181,    25.00,2,  -0.7834
  77DN20020420,   GNS,    54,  1,      7,2,20020518, 806, 74.9637, -12.8918,  485,    174.6,  -0.5544,  34.5972,2,-999.0000,9,    338.9,2,     5.45,2,    11.19,2,     0.02,2,     0.76,2, -999.000,9, -999.000,9,    0.470,3,    5.914,3,      1.4,2,   2135.2,2,   2279.1,2,   7.7219,    25.00,2,  -0.5600
  77DN20020420,   GNS,    54,  1,      5,2,20020518, 806, 74.9637, -12.8918,  485,    275.7,   0.8553,  34.8381,2,  34.8418,2,    312.3,2,     5.88,2,    12.46,2,     0.02,2,     0.83,2, -999.000,9, -999.000,9,    0.370,3,    5.397,3,     1.29,2,   2147.5,2,   2291.2,2,   7.7228,    25.00,2,   0.8428
  77DN20020420,   GNS,    54,  1,      4,2,20020518, 806, 74.9637, -12.8918,  485,    350.4,   1.1416,  34.9033,2,-999.0000,9,    304.9,2,     5.83,2,    12.84,2,     0.02,2,     0.84,2, -999.000,9, -999.000,9, -999.000,9, -999.000,9,     1.03,2,   2151.8,2,   2295.1,2,   7.7257,    25.00,2,   1.1247
  77DN20020420,   GNS,    54,  1,      3,2,20020518, 806, 74.9637, -12.8918,  485,    400.3,   1.0251,  34.9086,2,  34.9128,2,    310.0,2,     5.74,2,    12.51,2,     0.02,2,     0.85,2, -999.000,9, -999.000,9,    0.359,3,    4.226,3,     1.16,2,   2150.8,2,   2298.6,2,   7.7228,    25.00,2,   1.0060
  77DN20020420,   GNS,    54,  1,      2,2,20020518, 806, 74.9637, -12.8918,  485,    421.3,   1.0527,  34.9168,2,  34.9194,2,    309.2,2,     5.83,2,    12.55,2,     0.02,2,     0.83,2, -999.000,9, -999.000,9,    0.337,3,    3.636,3,      1.4,2,   2149.7,2,   2297.5,2,   7.7208,    25.00,2,   1.0324
  77DN20020420,   GNS,    54,  1,      1,2,20020518, 806, 74.9637, -12.8918,  485,    471.9,   0.8664,  34.9293,2,  34.9319,2,    310.0,2,     5.63,2,    12.77,2,     0.02,2,     0.83,2, -999.000,9, -999.000,9,    0.338,3,    3.947,3,     1.26,2,   2152.8,2,   2296.6,2,   7.7228,    25.00,2,   0.8441
  77DN20020420,   GNS,    55,  1,     11,2,20020518,1147, 74.9952, -14.3022,  157,     10.1,  -1.7436,  33.5175,2,  33.5786,2,    356.9,2,     5.98,2,     6.18,2,     0.01,2,     0.61,2, -999.000,9, -999.000,9, -999.000,9, -999.000,9,     -999,9,   2131.8,2,   2268.1,2,   7.7019,    25.00,2,  -1.7438
  77DN20020420,   GNS,    55,  1,     10,2,20020518,1147, 74.9952, -14.3022,  157,     19.7,  -1.7307,  33.6680,2,  33.6764,2,    353.3,2,     5.94,2,     6.54,2,     0.01,2,     0.61,2, -999.000,9, -999.000,9, -999.000,9, -999.000,9,     -999,9,   2136.6,2,   2265.1,2,   7.7009,    25.00,2,  -1.7311
  77DN20020420,   GNS,    55,  1,      9,2,20020518,1147, 74.9952, -14.3022,  157,     29.5,  -1.7603,  33.7617,2,-999.0000,9,    350.3,2,     5.94,2,     6.86,2,     0.01,2,     0.61,2, -999.000,9, -999.000,9, -999.000,9, -999.000,9,     -999,9,   2133.0,2,   2272.2,2,   7.7028,    25.00,2,  -1.7608
  77DN20020420,   GNS,    55,  1,      8,2,20020518,1147, 74.9952, -14.3022,  157,     40.5,  -1.7908,  33.8631,2,  33.8713,2,    348.6,2,     5.66,2,     7.13,2,     0.01,2,     0.61,2, -999.000,9, -999.000,9, -999.000,9, -999.000,9,     -999,9,   2135.9,2,   2276.2,2,   7.7076,    25.00,2,  -1.7915
  77DN20020420,   GNS,    55,  1,      7,2,20020518,1147, 74.9952, -14.3022,  157,     50.1,  -1.7601,  33.8962,2,  33.9197,2,    346.9,2,     5.63,2,     7.28,2,     0.01,2,     0.62,2, -999.000,9, -999.000,9, -999.000,9, -999.000,9,     -999,9,   2134.0,2,   2277.3,2,   7.7085,    25.00,2,  -1.7610
  77DN20020420,   GNS,    55,  1,      6,2,20020518,1147, 74.9952, -14.3022,  157,     61.1,  -1.7608,  34.0327,2,  34.0462,2,    344.8,2,     5.29,2,     7.68,2,     0.01,2,     0.61,2, -999.000,9, -999.000,9, -999.000,9, -999.000,9,     -999,9,   2130.4,2,   2273.8,2,   7.7153,    25.00,2,  -1.7620
  77DN20020420,   GNS,    55,  1,      5,2,20020518,1147, 74.9952, -14.3022,  157,     80.0,  -1.8170,  34.0703,2,  34.0778,2,    345.2,2,     4.91,2,     7.65,2,     0.01,2,     0.60,2, -999.000,9, -999.000,9, -999.000,9, -999.000,9,     -999,9,   2128.5,2,   2276.1,2,   7.7211,    25.00,2,  -1.8185
  77DN20020420,   GNS,    55,  1,      4,2,20020518,1147, 74.9952, -14.3022,  157,     99.3,  -1.7880,  34.0919,2,  34.0991,2,    344.5,2,     4.97,2,     7.77,2,     0.01,2,     0.61,2, -999.000,9, -999.000,9, -999.000,9, -999.000,9,     -999,9,   2131.8,2,   2276.0,2,   7.7210,    25.00,2,  -1.7899
  77DN20020420,   GNS,    55,  1,      3,2,20020518,1147, 74.9952, -14.3022,  157,    124.5,  -1.6460,  34.1459,2,  34.1675,2,    339.7,2,     5.37,2,     8.38,2,     0.02,2,     0.64,2, -999.000,9, -999.000,9, -999.000,9, -999.000,9,     -999,9,   2131.1,2,   2273.7,2,   7.7181,    25.00,2,  -1.6486
  77DN20020420,   GNS,    55,  1,      2,2,20020518,1147, 74.9952, -14.3022,  157,    139.8,  -1.6534,  34.1965,2,  34.1981,2,    338.8,2,     5.32,2,     8.57,2,     0.02,2,     0.65,2, -999.000,9, -999.000,9, -999.000,9, -999.000,9,     -999,9,   2129.4,2,   2276.1,2,   7.7181,    25.00,2,  -1.6564
  77DN20020420,   GNS,    55,  1,      1,2,20020518,1147, 74.9952, -14.3022,  157,    150.4,  -1.6155,  34.2090,2,  34.2048,2,    337.8,2,     5.38,2,     8.54,2,     0.02,2,     0.64,2, -999.000,9, -999.000,9, -999.000,9, -999.000,9,     -999,9,   2130.3,2,   2277.2,2,   7.7172,    25.00,2,  -1.6188
  77DN20020420,   GNS,    56,  1,     11,2,20020518,2024, 75.0920, -15.4175,  150,      9.8,  -1.7786,  33.4395,2,  33.4406,2,    359.8,2,     6.32,2,     5.65,2,     0.01,2,     0.61,2,    7.860,2,    3.750,2,    0.578,3,    7.443,3,     1.69,2,   2138.5,2,   2267.8,2,   7.6913,    25.00,2,  -1.7788
  77DN20020420,   GNS,    56,  1,      9,2,20020518,2024, 75.0920, -15.4175,  150,     20.5,  -1.7923,  33.5261,2,  33.4977,2,    357.7,2,     6.28,2,     5.94,2,     0.01,2,     0.60,2,    7.760,2,    3.720,2,    0.554,3,    7.237,3,     1.64,2,   2135.6,2,   2268.5,2,   7.6961,    25.00,2,  -1.7927
  77DN20020420,   GNS,    56,  1,      8,2,20020518,2024, 75.0920, -15.4175,  150,     29.9,  -1.7918,  33.8073,2,  33.8196,2,    351.0,2,     5.81,2,     6.64,2,     0.02,2,     0.60,2,    7.270,2,    3.490,2,    0.575,3,    6.644,3,     1.48,2,   2135.4,2,   2271.5,2,   7.7057,    25.00,2,  -1.7923
  77DN20020420,   GNS,    56,  1,      7,2,20020518,2024, 75.0920, -15.4175,  150,     40.2,  -1.8387,  33.8695,2,  33.8699,2,    351.7,2,     5.67,2,     6.73,2,     0.02,2,     0.59,2,    7.430,2,    3.590,2,    0.561,3,    6.902,3,     1.42,2,   2138.9,2,   2272.4,2,   7.7105,    25.00,2,  -1.8394
  77DN20020420,   GNS,    56,  1,      6,2,20020518,2024, 75.0920, -15.4175,  150,     60.0,  -1.8175,  33.9160,2,  33.9150,2,    349.7,2,     5.58,2,     6.92,2,     0.01,2,     0.60,2,    7.270,2,    3.490,2,    0.530,3,    6.696,3,     1.41,2,   2138.9,2,   2271.6,2,   7.7105,    25.00,2,  -1.8186
  77DN20020420,   GNS,    56,  1,      5,2,20020518,2024, 75.0920, -15.4175,  150,     80.3,  -1.8129,  33.9471,2,  33.9461,2,    349.4,2,     5.53,2,     7.02,2,     0.01,2,     0.60,2,    7.150,2,    3.420,2,    0.574,3,    6.302,3,     1.34,2,   2135.5,2,   2273.9,2,   7.7114,    25.00,2,  -1.8144
  77DN20020420,   GNS,    56,  1,      4,2,20020518,2024, 75.0920, -15.4175,  150,    100.9,  -1.8273,  33.9803,2,  33.9796,2,    349.1,2,     5.46,2,     7.10,2,     0.01,2,     0.60,2,    7.290,2,    3.520,2,    0.527,3,    6.378,3,     1.67,2,   2135.4,2,   2273.6,2,   7.7163,    25.00,2,  -1.8292
  77DN20020420,   GNS,    56,  1,      3,2,20020518,2024, 75.0920, -15.4175,  150,    125.7,  -1.8176,  34.0218,2,  34.0225,2,    346.3,2,     5.41,2,     7.29,2,     0.01,2,     0.60,2,    6.940,2,    3.420,2,    0.523,3,    6.074,3,     1.75,2,   2136.8,2,   2272.1,2,   7.7143,    25.00,2,  -1.8200
  77DN20020420,   GNS,    56,  1,      1,2,20020518,2024, 75.0920, -15.4175,  150,    143.6,  -1.8062,  34.0274,2,  34.0325,2,    347.5,2,     5.57,2,     7.35,2,     0.01,2,     0.60,2,    7.000,2,    3.390,2,    0.553,3,    6.045,3,     1.57,2,   2143.5,2,   2277.2,2,   7.7172,    25.00,2,  -1.8090
  77DN20020420,   GNS,    57,  1,     24,2,20020519,1100, 73.4993,  -9.9975, 2994,      9.9,  -0.1141,  34.6741,2,  34.6757,2,    383.5,2,     1.97,2,     7.30,2,     0.05,2,     0.54,2, -999.000,9, -999.000,9,    0.688,3,    8.779,3,     -999,9,   2110.6,2,   2294.2,2,   7.7975,    25.00,2,  -0.1144
  77DN20020420,   GNS,    57,  1,     23,2,20020519,1100, 73.4993,  -9.9975, 2994,     20.9,  -0.1507,  34.6737,2,  34.6765,2,    382.5,2,     2.08,2,     7.34,2,     0.05,2,     0.54,2, -999.000,9, -999.000,9,    0.678,3,    8.094,3,     1.78,2,   2115.1,2,   2292.3,2,   7.7955,    25.00,2,  -0.1514
  77DN20020420,   GNS,    57,  1,     22,2,20020519,1100, 73.4993,  -9.9975, 2994,     31.1,  -0.2367,  34.6761,2,  34.6775,2,    375.4,2,     2.69,2,     7.97,2,     0.05,2,     0.60,2, -999.000,9, -999.000,9,    0.491,3,    7.478,3,     -999,9,   2118.8,2,   2291.0,2,   7.7829,    25.00,2,  -0.2377
  77DN20020420,   GNS,    57,  1,     21,2,20020519,1100, 73.4993,  -9.9975, 2994,     50.0,  -0.0563,  34.7720,2,  34.7716,2,    336.9,2,     5.67,2,    11.87,2,     0.04,2,     0.81,2, -999.000,9, -999.000,9,    0.609,3,    6.905,3,     1.57,2,   2142.9,2,   2294.8,2,   7.7267,    25.00,2,  -0.0581
  77DN20020420,   GNS,    57,  1,     20,2,20020519,1100, 73.4993,  -9.9975, 2994,     71.3,  -0.0544,  34.7969,2,  34.7980,2,    335.1,2,     5.65,2,    11.91,2,     0.04,2,     0.81,2, -999.000,9, -999.000,9,    0.534,3,    6.622,3,     -999,9,   2148.9,2,   2293.1,2,   7.7228,    25.00,2,  -0.0569
  77DN20020420,   GNS,    57,  1,     19,2,20020519,1100, 73.4993,  -9.9975, 2994,    102.8,   0.2903,  34.8426,2,  34.9640,2,    330.2,2,     5.59,2,    11.91,2,     0.05,2,     0.81,2, -999.000,9, -999.000,9,    0.484,3,    5.339,3,     1.65,2,   2148.3,2,   2296.2,2,   7.7237,    25.00,2,   0.2863
  77DN20020420,   GNS,    57,  1,     18,2,20020519,1100, 73.4993,  -9.9975, 2994,    151.3,   0.1909,  34.8534,2,  34.8542,2,    331.3,2,     5.61,2,    11.97,2,     0.04,2,     0.81,2, -999.000,9, -999.000,9,    0.487,3,    4.871,3,      1.5,2,   2151.2,2,   2295.9,2,   7.7228,    25.00,2,   0.1851
  77DN20020420,   GNS,    57,  1,     17,2,20020519,1100, 73.4993,  -9.9975, 2994,    200.8,   0.1747,  34.8607,2,  34.8609,2,    331.8,2,     5.64,2,    11.85,2,     0.05,2,     0.82,2, -999.000,9, -999.000,9,    0.368,3,    4.955,3,      1.1,2,   2152.2,2,   2297.5,2,   7.7218,    25.00,2,   0.1669
  77DN20020420,   GNS,    57,  1,     16,2,20020519,1100, 73.4993,  -9.9975, 2994,    251.2,   0.0891,  34.8659,2,  34.8648,2,    332.2,2,     5.67,2,    12.08,2,     0.04,2,     0.83,2, -999.000,9, -999.000,9,    0.458,3,    4.377,3,     1.54,2,   2154.2,2,   2299.4,2,   7.7199,    25.00,2,   0.0794
  77DN20020420,   GNS,    57,  1,     15,2,20020519,1100, 73.4993,  -9.9975, 2994,    302.3,   0.1502,  34.8820,2,  34.8808,2,    328.6,2,     5.72,2,    12.18,2,     0.04,2,     0.83,2, -999.000,9, -999.000,9,    0.433,3,    4.103,3,     1.52,2,   2149.0,2,   2299.1,2,   7.7189,    25.00,2,   0.1382
  77DN20020420,   GNS,    57,  1,     14,2,20020519,1100, 73.4993,  -9.9975, 2994,    402.4,   0.2289,  34.9204,2,  34.9191,2,    319.2,2,     5.95,2,    12.57,2,     0.03,2,     0.85,2, -999.000,9, -999.000,9,    0.341,3,    3.731,3,     1.09,2,   2155.9,2,   2303.2,2,   7.7141,    25.00,2,   0.2123
  77DN20020420,   GNS,    57,  1,     13,2,20020519,1100, 73.4993,  -9.9975, 2994,    632.4,  -0.3725,  34.9059,2,  34.9079,2,    322.9,2,     6.52,2,    13.00,2,     0.03,2,     0.89,2, -999.000,9, -999.000,9,    0.278,3,    3.203,3,     1.73,2,   2161.1,2,   2297.4,2,   7.7025,    25.00,2,  -0.3967
  77DN20020420,   GNS,    57,  1,     12,2,20020519,1100, 73.4993,  -9.9975, 2994,    682.9,  -0.4444,  34.9023,2,  34.9026,2,    323.5,2,     6.55,2,    12.99,2,     0.03,2,     0.88,2, -999.000,9, -999.000,9,    0.256,3,    2.803,3,     2.11,2,   2156.7,2,   2298.7,2,   7.7025,    25.00,2,  -0.4704
  77DN20020420,   GNS,    57,  1,     11,2,20020519,1100, 73.4993,  -9.9975, 2994,    732.7,  -0.5776,  34.8940,2,  34.8963,2,    323.5,2,     6.60,2,    13.04,2,     0.03,2,     0.89,2, -999.000,9, -999.000,9,    0.233,3,    2.239,3,     2.46,2,   2158.9,2,   2298.1,2,   7.7015,    25.00,2,  -0.6050
  77DN20020420,   GNS,    57,  1,     10,2,20020519,1100, 73.4993,  -9.9975, 2994,    780.1,  -0.6572,  34.8892,2,  34.8914,2,    323.3,2,     6.75,2,    13.15,2,     0.03,2,     0.89,2, -999.000,9, -999.000,9,    0.246,3,    2.160,3,     2.93,2,   2160.0,2,   2300.2,2,   7.6986,    25.00,2,  -0.6862
  77DN20020420,   GNS,    57,  1,      9,2,20020519,1100, 73.4993,  -9.9975, 2994,    831.1,  -0.7143,  34.8865,2,  34.8871,2,    322.7,2,     6.88,2,    13.23,2,     0.03,2,     0.89,2, -999.000,9, -999.000,9,    0.214,3,    2.608,3,     3.25,2,   2159.8,2,   2297.2,2,   7.6986,    25.00,2,  -0.7452
  77DN20020420,   GNS,    57,  1,      8,2,20020519,1100, 73.4993,  -9.9975, 2994,   1001.1,  -0.7868,  34.8856,2,  34.8853,2,    325.0,2,     6.94,2,    13.13,2,     0.03,2,     0.89,2, -999.000,9, -999.000,9,    0.184,3,    2.163,3,     2.98,2,   2161.8,2,   2299.4,2,   7.6977,    25.00,2,  -0.8250
  77DN20020420,   GNS,    57,  1,      6,2,20020519,1100, 73.4993,  -9.9975, 2994,   1399.4,  -0.7565,  34.8974,2,  34.9024,2,    311.8,2,     8.59,2,    13.77,2,     0.03,2,     0.94,2, -999.000,9, -999.000,9,    0.159,3,    0.929,3,     1.56,2,   2159.4,2,   2297.3,2,   7.7015,    25.00,2,  -0.8153
  77DN20020420,   GNS,    57,  1,      5,2,20020519,1100, 73.4993,  -9.9975, 2994,   1799.0,  -0.7840,  34.9102,2,  34.9113,2,    301.2,2,    10.51,2,    14.30,2,     0.04,2,     0.96,2, -999.000,9, -999.000,9,    0.166,3,    0.633,3,        0,2,   2159.7,2,   2298.2,2,   7.7025,    25.00,2,  -0.8656
  77DN20020420,   GNS,    57,  1,      4,2,20020519,1100, 73.4993,  -9.9975, 2994,   2198.4,  -0.8559,  34.9108,2,  34.9095,2,    302.3,2,    11.10,2,    14.78,2,     0.02,2,     0.99,2, -999.000,9, -999.000,9,    0.161,3,    0.518,3,        0,2,   2157.1,2,   2300.4,2,   7.7034,    25.00,2,  -0.9620
  77DN20020420,   GNS,    57,  1,      3,2,20020519,1100, 73.4993,  -9.9975, 2994,   2599.9,  -0.8762,  34.9102,2,  34.9105,2,    303.3,2,    11.37,2,    14.72,2,     0.02,2,     0.99,2, -999.000,9, -999.000,9,    0.141,3,    0.518,3,        0,2,   2160.4,2,   2298.2,2,   7.7044,    25.00,2,  -1.0103
  77DN20020420,   GNS,    57,  1,      2,2,20020519,1100, 73.4993,  -9.9975, 2994,   2881.0,  -0.9135,  34.9063,2,  34.9042,2,    304.3,2,    11.50,2,    14.78,2,     0.02,2,     0.99,2, -999.000,9, -999.000,9,    0.156,3,    0.484,3,     0.09,2,   2160.4,2,   2297.4,2,   7.7015,    25.00,2,  -1.0680
  77DN20020420,   GNS,    57,  1,      1,2,20020519,1100, 73.4993,  -9.9975, 2994,   2985.5,  -0.9393,  34.9037,2,  34.9008,2,    306.3,2,    11.73,2,    14.78,2,     0.02,2,     0.98,2, -999.000,9, -999.000,9,    0.137,3,    0.533,3,     0.07,2,   2160.9,2,   2296.9,2,   7.7015,    25.00,2,  -1.1015