BOTTLE,20090507PRINUNIVRMK
EXPOCODE,SECT_ID,STNNBR,CASTNO,BTLNBR,BTLNBR_FLAG_W,DATE,TIME,LATITUDE,LONGITUDE,DEPTH,CTDPRS,CTDTMP,CTDSAL,CTDSAL_FLAG_W,SALNTY,SALNTY_FLAG_W,OXYGEN,OXYGEN_FLAG_W,SILCAT,SILCAT_FLAG_W,NITRAT,NITRAT_FLAG_W,NITRIT,NITRIT_FLAG_W,PHSPHT,PHSPHT_FLAG_W,CFC-11,CFC-11_FLAG_W,CFC-12,CFC-12_FLAG_W,CFC113,CFC113_FLAG_W,CCL4,CCL4_FLAG_W,SF6,SF6_FLAG_W,TCARBN,TCARBN_FLAG_W,ALKALI,ALKALI_FLAG_W,PH_SWS,PH_TEMP,PH_SWS_FLAG_W,THETA
,,,,,,,,,,METERS,DBARS,ITS-90,PSS-78,,PSS-78,,UMOL/KG,,UMOL/KG,,UMOL/KG,,UMOL/KG,,UMOL/KG,,PMOL/KG,,PMOL/KG,,PMOL/KG,,PMOL/KG,,FMOL/KG,,UMOL/KG,,UMOL/KG,,,DEGC,,DEGC
  77DN20020420,   GNS,    58,  1,     22,2,20020519,1704, 73.2515, -11.9968, 2796,     10.3,   0.3742,  34.7242,2,  34.7282,2,    404.8,2,     0.15,2,     3.46,2,     0.06,2,     0.28,2,    6.630,2,    3.430,2,    0.572,3,   10.097,3,     -999,9,   2086.9,2,   2295.6,2,   7.8628,    25.00,2,   0.3738
  77DN20020420,   GNS,    58,  1,     21,2,20020519,1704, 73.2515, -11.9968, 2796,     20.9,   0.3263,  34.7247,2,-999.0000,9,    401.7,2,     0.14,2,     3.87,2,     0.06,2,     0.33,2,    6.530,2,    3.430,2,    0.520,3,    9.952,3,     1.69,2,   2089.5,2,   2298.4,2,   7.8559,    25.00,2,   0.3255
  77DN20020420,   GNS,    58,  1,     20,2,20020519,1704, 73.2515, -11.9968, 2796,     30.2,  -0.1792,  34.7690,2,  34.7705,2,    355.2,2,     3.84,2,     9.74,2,     0.04,2,     0.68,2,    5.870,2,    3.170,2,    0.455,3,    8.954,3,     -999,9,   2130.0,2,   2292.3,2,   7.7567,    25.00,2,  -0.1802
  77DN20020420,   GNS,    58,  1,     19,2,20020519,1704, 73.2515, -11.9968, 2796,     50.0,   0.0295,  34.8351,2,  34.8383,2,    333.8,2,     5.37,2,    11.82,2,     0.03,2,     0.81,2,    5.320,2,    2.870,2,    0.442,3,    7.787,3,     1.55,2,   2141.7,2,   2292.9,2,   7.7286,    25.00,2,   0.0277
  77DN20020420,   GNS,    58,  1,     18,2,20020519,1704, 73.2515, -11.9968, 2796,     75.0,   0.0877,  34.8581,2,-999.0000,9,    330.0,2,     5.55,2,    12.16,2,     0.03,2,     0.83,2,    5.110,2,    2.820,2,    0.393,3,    7.562,3,     1.41,2,   2144.5,2,   2294.7,2,   7.7257,    25.00,2,   0.0849
  77DN20020420,   GNS,    58,  1,     17,2,20020519,1704, 73.2515, -11.9968, 2796,    101.8,   0.0821,  34.8715,2,  34.8749,2,    328.1,2,     5.66,2,    12.36,2,     0.03,2,     0.84,2,    4.890,2,    2.750,2,    0.391,3,    7.214,3,     1.43,2,   2145.7,2,   2294.7,2,   7.7218,    25.00,2,   0.0783
  77DN20020420,   GNS,    58,  1,     16,2,20020519,1704, 73.2515, -11.9968, 2796,    151.5,  -0.1112,  34.8728,2,-999.0000,9,    332.1,2,     5.63,2,    12.23,2,     0.03,2,     0.83,2,    5.280,2,    2.870,2,    0.429,3,    6.363,3,     1.61,2,   2146.8,2,   2296.0,2,   7.7199,    25.00,2,  -0.1167
  77DN20020420,   GNS,    58,  1,     15,2,20020519,1704, 73.2515, -11.9968, 2796,    201.8,   0.0061,  34.8926,2,-999.0000,9,    327.5,2,     5.82,2,    12.59,2,     0.03,2,     0.85,2,    4.890,2,    2.710,2,    0.392,3,    5.539,3,      1.8,2,   2150.7,2,   2296.4,2,   7.7179,    25.00,2,  -0.0015
  77DN20020420,   GNS,    58,  1,     14,2,20020519,1704, 73.2515, -11.9968, 2796,    252.6,   0.0766,  34.9074,2,-999.0000,9,    320.9,2,     5.93,2,    12.78,2,     0.03,2,     0.87,2,    4.580,2,    2.510,2,    0.429,3,    4.972,3,     1.87,2,   2147.2,2,   2302.1,2,   7.7170,    25.00,2,   0.0669
  77DN20020420,   GNS,    58,  1,     13,2,20020519,1704, 73.2515, -11.9968, 2796,    302.1,   0.0155,  34.9131,2,-999.0000,9,    315.7,2,     6.21,2,    12.78,2,     0.02,2,     0.89,2,    4.170,2,    2.290,2,    0.331,3,    4.543,3,     1.79,2,   2150.9,2,   2298.2,2,   7.7112,    25.00,2,   0.0039
  77DN20020420,   GNS,    58,  1,     12,2,20020519,1704, 73.2515, -11.9968, 2796,    422.7,  -0.3052,  34.9025,2,-999.0000,9,    321.5,2,     6.27,2,    13.02,2,     0.02,2,     0.89,2,    4.560,2,    2.480,2,    0.336,3,    3.963,3,     1.81,2,   2153.6,2,   2296.0,2,   7.7063,    25.00,2,  -0.3208
  77DN20020420,   GNS,    58,  1,     11,2,20020519,1704, 73.2515, -11.9968, 2796,    472.9,  -0.3707,  34.9011,2,  34.9036,2,    318.4,2,     6.60,2,    13.16,2,     0.03,2,     0.89,2,    4.070,2,    2.260,2,    0.387,3,    3.407,3,     1.61,2,   2155.7,2,   2296.6,2,   7.7044,    25.00,2,  -0.3881
  77DN20020420,   GNS,    58,  1,     10,2,20020519,1704, 73.2515, -11.9968, 2796,    525.2,  -0.4574,  34.8986,2,-999.0000,9,    318.4,2,     6.71,2,    13.24,2,     0.02,2,     0.90,2,    4.070,2,    2.240,2,    0.377,3,    3.480,3,      1.8,2,   -999.0,2,   -999.0,2,-999.0000,  -999.00,9,  -0.4766
  77DN20020420,   GNS,    58,  1,      9,2,20020519,1704, 73.2515, -11.9968, 2796,    572.1,  -0.4788,  34.8988,2,-999.0000,9,    316.9,2,     6.79,2,    13.44,2,     0.02,2,     0.90,2,    3.900,2,    2.180,2,    0.335,3,    2.953,3,     1.82,2,   2153.2,2,   2296.9,2,   7.7006,    25.00,2,  -0.4999
  77DN20020420,   GNS,    58,  1,      8,2,20020519,1704, 73.2515, -11.9968, 2796,    619.0,  -0.5258,  34.8986,2,-999.0000,9,    321.3,2,     6.56,2,    13.36,2,     0.02,2,     0.89,2,    4.410,2,    2.420,2,    0.414,3,    2.574,3,     2.31,2,   -999.0,2,   -999.0,2,-999.0000,  -999.00,9,  -0.5486
  77DN20020420,   GNS,    58,  1,      7,2,20020519,1704, 73.2515, -11.9968, 2796,    700.7,  -0.6522,  34.8928,2,-999.0000,9,    322.0,2,     6.75,2,    13.59,2,     0.02,2,     0.90,2,    0.850,4,    0.320,4,    0.109,3,    2.122,3,     2.69,2,   2158.9,2,   2295.8,2,   7.6996,    25.00,2,  -0.6778
  77DN20020420,   GNS,    58,  1,      6,2,20020519,1704, 73.2515, -11.9968, 2796,    999.9,  -0.8316,  34.8840,2,  34.8867,2,    325.4,2,     6.80,2,    13.30,2,     0.02,2,     0.90,2,    4.600,2,    2.520,2,    0.377,3,    1.633,3,     3.14,2,   2159.4,2,   2294.4,2,   7.6986,    25.00,2,  -0.8694
  77DN20020420,   GNS,    58,  1,      5,2,20020519,1704, 73.2515, -11.9968, 2796,   1497.4,  -0.7666,  34.9095,2,-999.0000,9,    299.6,2,    10.00,2,    14.75,2,     0.02,2,     0.99,2,    1.250,2,    0.570,2,    0.143,3,    0.741,3,     0.33,2,   2161.1,2,   2297.6,2,   7.7025,    25.00,2,  -0.8307
  77DN20020420,   GNS,    58,  1,      4,2,20020519,1704, 73.2515, -11.9968, 2796,   1997.7,  -0.8669,  34.9103,2,-999.0000,9,    300.3,2,    11.00,2,    15.09,2,     0.02,2,     0.99,2,    0.850,2,    0.320,2,    0.109,3,    1.930,3,      0.2,2,   2158.4,2,   2298.6,2,   7.7063,    25.00,2,  -0.9597
  77DN20020420,   GNS,    58,  1,      3,2,20020519,1704, 73.2515, -11.9968, 2796,   2498.2,  -0.9132,  34.9084,2,  34.9081,2,    301.5,2,    11.34,2,    15.13,2,     0.02,2,     1.00,2,    0.860,2,    0.320,2,    0.324,3,    0.551,3,     0.21,2,   2158.9,2,   2298.2,2,   7.7063,    25.00,2,  -1.0391
  77DN20020420,   GNS,    58,  1,      2,2,20020519,1704, 73.2515, -11.9968, 2796,   2679.3,  -0.9486,  34.9047,2,-999.0000,9,    303.3,2,    11.43,2,    15.16,2,     0.02,2,     1.01,2,    0.900,2,    0.360,2,    0.124,3,    0.577,3,        0,2,   2155.2,2,   2299.7,2,   7.7034,    25.00,2,  -1.0870
  77DN20020420,   GNS,    58,  1,      1,2,20020519,1704, 73.2515, -11.9968, 2796,   2781.2,  -0.9616,  34.9033,2,  34.9042,2,    303.1,2,    11.67,2,    15.13,2,     0.02,2,     0.99,2,    0.900,2,    0.370,2,    0.109,3,    0.578,3,     0.22,2,   2155.6,2,   2298.5,2,   7.7034,    25.00,2,  -1.1074
  77DN20020420,   GNS,    59,  1,     22,2,20020519,2236, 72.9992, -13.9990, 2531,     10.2,  -1.4094,  34.0915,2,-999.0000,9,    391.3,2,     1.27,2,     5.20,2,     0.06,2,     0.40,2, -999.000,9, -999.000,9,    0.650,3,    8.183,3,     1.77,2,   2068.7,2,   2256.9,2,   7.8210,    25.00,2,  -1.4096
  77DN20020420,   GNS,    59,  1,     21,2,20020519,2236, 72.9992, -13.9990, 2531,     21.3,  -1.4114,  34.2212,2,  34.1570,2,    371.8,2,     2.75,2,     7.30,2,     0.05,2,     0.54,2, -999.000,9, -999.000,9,    0.657,3,    8.277,3,     -999,9,   2089.6,2,   2258.3,2,   7.7879,    25.00,2,  -1.4119
  77DN20020420,   GNS,    59,  1,     20,2,20020519,2236, 72.9992, -13.9990, 2531,     30.2,  -1.1224,  34.3777,2,-999.0000,9,    336.9,2,     5.32,2,    10.59,2,     0.04,2,     0.75,2, -999.000,9, -999.000,9,    0.549,3,    7.594,3,     -999,9,   2121.3,2,   2269.6,2,   7.7306,    25.00,2,  -1.1232
  77DN20020420,   GNS,    59,  1,     19,2,20020519,2236, 72.9992, -13.9990, 2531,     50.2,  -0.8254,  34.5012,2,-999.0000,9,    340.5,2,     5.26,2,    10.86,2,     0.04,2,     0.76,2, -999.000,9, -999.000,9,    0.547,3,    6.561,3,     -999,9,   2122.7,2,   2276.2,2,   7.7374,    25.00,2,  -0.8268
  77DN20020420,   GNS,    59,  1,     18,2,20020519,2236, 72.9992, -13.9990, 2531,     75.6,   0.4501,  34.7138,2,-999.0000,9,    316.0,2,     5.82,2,    11.78,2,     0.04,2,     0.83,2, -999.000,9, -999.000,9,    0.588,3,    5.498,3,     1.24,2,   2138.3,2,   2287.8,2,   7.7247,    25.00,2,   0.4471
  77DN20020420,   GNS,    59,  1,     17,2,20020519,2236, 72.9992, -13.9990, 2531,    101.4,   1.0515,  34.8244,2,-999.0000,9,    309.3,2,     5.85,2,    12.16,2,     0.04,2,     0.84,2, -999.000,9, -999.000,9,    0.476,3,    5.078,3,     0.97,2,   2141.5,2,   2298.0,2,   7.7276,    25.00,2,   1.0469
  77DN20020420,   GNS,    59,  1,     16,2,20020519,2236, 72.9992, -13.9990, 2531,    154.1,   1.0499,  34.8777,2,  34.8780,2,    308.5,2,     5.90,2,    12.29,2,     0.05,2,     0.85,2, -999.000,9, -999.000,9,    0.431,3,    4.757,3,     0.92,2,   2149.5,2,   2298.4,2,   7.7295,    25.00,2,   1.0428
  77DN20020420,   GNS,    59,  1,     15,2,20020519,2236, 72.9992, -13.9990, 2531,    202.3,   0.9369,  34.8994,2,-999.0000,9,    313.5,2,     5.73,2,    12.33,2,     0.04,2,     0.85,2, -999.000,9, -999.000,9,    0.474,3,    4.406,3,     0.91,2,   2143.3,2,   2297.0,2,   7.7295,    25.00,2,   0.9277
  77DN20020420,   GNS,    59,  1,     14,2,20020519,2236, 72.9992, -13.9990, 2531,    251.2,   0.8286,  34.9048,2,-999.0000,9,    313.5,2,     5.85,2,    12.29,2,     0.04,2,     0.84,2, -999.000,9, -999.000,9,    0.373,3,    4.035,3,     1.12,2,   2146.9,2,   2297.8,2,   7.7276,    25.00,2,   0.8173
  77DN20020420,   GNS,    59,  1,     13,2,20020519,2236, 72.9992, -13.9990, 2531,    302.2,   0.5593,  34.9000,2,-999.0000,9,    314.7,2,     5.89,2,    12.38,2,     0.04,2,     0.86,2, -999.000,9, -999.000,9,    0.416,3,    3.255,3,     0.62,2,   2149.0,2,   2297.9,2,   7.7257,    25.00,2,   0.5463
  77DN20020420,   GNS,    59,  1,     12,2,20020519,2236, 72.9992, -13.9990, 2531,    406.2,   0.3855,  34.9089,2,-999.0000,9,    316.2,2,     5.91,2,    12.43,2,     0.03,2,     0.87,2, -999.000,9, -999.000,9,    0.350,3,    3.776,3,     1.01,2,   2148.1,2,   2296.9,2,   7.7179,    25.00,2,   0.3682
  77DN20020420,   GNS,    59,  1,     11,2,20020519,2236, 72.9992, -13.9990, 2531,    602.1,   0.1272,  34.9189,2,-999.0000,9,    317.4,2,     6.18,2,    12.75,2,     0.03,2,     0.89,2, -999.000,9, -999.000,9,    0.266,3,    3.339,3,     1.32,2,   2153.5,2,   2296.8,2,   7.7063,    25.00,2,   0.1018
  77DN20020420,   GNS,    59,  1,     10,2,20020519,2236, 72.9992, -13.9990, 2531,    721.1,  -0.0980,  34.9112,2,-999.0000,9,    318.8,2,     6.49,2,    12.89,2,     0.02,2,     0.89,2, -999.000,9, -999.000,9,    0.243,3,    3.243,3,     1.35,2,   -999.0,2,   -999.0,2,-999.0000,  -999.00,9,  -0.1278
  77DN20020420,   GNS,    59,  1,      9,2,20020519,2236, 72.9992, -13.9990, 2531,    772.7,  -0.1990,  34.9083,2,-999.0000,9,    318.2,2,     6.62,2,    12.96,2,     0.03,2,     0.89,2, -999.000,9, -999.000,9,    0.258,3,    2.822,3,     1.38,2,   2156.0,2,   2296.6,2,   7.7092,    25.00,2,  -0.2307
  77DN20020420,   GNS,    59,  1,      8,2,20020519,2236, 72.9992, -13.9990, 2531,    819.2,  -0.2574,  34.9077,2,  34.9053,2,    318.2,2,     6.96,2,    13.15,2,     0.02,2,     0.90,2, -999.000,9, -999.000,9,    0.250,3,    2.659,3,     1.29,2,   -999.0,2,   -999.0,2,-999.0000,  -999.00,9,  -0.2909
  77DN20020420,   GNS,    59,  1,      7,2,20020519,2236, 72.9992, -13.9990, 2531,    869.3,  -0.2919,  34.9093,2,-999.0000,9,    319.0,2,     6.95,2,    13.07,2,     0.03,2,     0.90,2, -999.000,9, -999.000,9,    0.196,3,    2.263,3,     1.37,2,   2153.7,2,   2297.0,2,   7.7092,    25.00,2,  -0.3276
  77DN20020420,   GNS,    59,  1,      6,2,20020519,2236, 72.9992, -13.9990, 2531,    920.5,  -0.3961,  34.9041,2,-999.0000,9,    315.4,2,     7.41,2,    13.34,2,     0.02,2,     0.92,2,    3.400,2,    1.870,2,    0.267,3,    5.055,3,     1.33,2,   2154.0,2,   2297.9,2,   7.7073,    25.00,2,  -0.4336
  77DN20020420,   GNS,    59,  1,      5,2,20020519,2236, 72.9992, -13.9990, 2531,   1198.5,  -0.6963,  34.8944,2,  34.8922,2,    317.8,2,     7.82,2,    13.54,2,     0.03,2,     0.93,2, -999.000,9, -999.000,9,    0.204,3,    1.032,3,     2.67,2,   2156.1,2,   2295.3,2,   7.7015,    25.00,2,  -0.7451
  77DN20020420,   GNS,    59,  1,      4,2,20020519,2236, 72.9992, -13.9990, 2531,   1496.4,  -0.7237,  34.9043,2,  34.9071,2,    306.1,2,     9.54,2,    14.25,2,     0.02,2,     0.97,2, -999.000,9, -999.000,9,    0.144,3,    0.622,3,        1,2,   2157.3,2,   2299.2,2,   7.7034,    25.00,2,  -0.7883
  77DN20020420,   GNS,    59,  1,      3,2,20020519,2236, 72.9992, -13.9990, 2531,   1998.1,  -0.8261,  34.9110,2,  34.9138,2,    301.6,2,    11.28,2,    14.78,2,     0.02,2,     1.01,2, -999.000,9, -999.000,9,    0.156,3,    0.527,3,        0,2,   2154.4,2,   2299.6,2,   7.7063,    25.00,2,  -0.9196
  77DN20020420,   GNS,    59,  1,      2,2,20020519,2236, 72.9992, -13.9990, 2531,   2413.1,  -0.8937,  34.9104,2,  34.9120,2,    303.1,2,    11.66,2,    14.71,2,     0.03,2,     1.00,2, -999.000,9, -999.000,9,    0.144,3,    0.490,3,        0,2,   2154.6,2,   2298.8,2,   7.7083,    25.00,2,  -1.0140
  77DN20020420,   GNS,    59,  1,      1,2,20020519,2236, 72.9992, -13.9990, 2531,   2516.7,  -0.9449,  34.9055,2,  34.9069,2,    306.8,2,    11.93,2,    14.70,2,     0.03,2,     1.00,2, -999.000,9, -999.000,9,    0.158,3,    0.498,3,     0.22,2,   2151.8,2,   2297.9,2,   7.7073,    25.00,2,  -1.0715