BOTTLE,20090507PRINUNIVRMK
EXPOCODE,SECT_ID,STNNBR,CASTNO,BTLNBR,BTLNBR_FLAG_W,DATE,TIME,LATITUDE,LONGITUDE,DEPTH,CTDPRS,CTDTMP,CTDSAL,CTDSAL_FLAG_W,SALNTY,SALNTY_FLAG_W,OXYGEN,OXYGEN_FLAG_W,SILCAT,SILCAT_FLAG_W,NITRAT,NITRAT_FLAG_W,NITRIT,NITRIT_FLAG_W,PHSPHT,PHSPHT_FLAG_W,CFC-11,CFC-11_FLAG_W,CFC-12,CFC-12_FLAG_W,CFC113,CFC113_FLAG_W,CCL4,CCL4_FLAG_W,SF6,SF6_FLAG_W,TCARBN,TCARBN_FLAG_W,ALKALI,ALKALI_FLAG_W,PH_SWS,PH_TEMP,PH_SWS_FLAG_W,THETA
,,,,,,,,,,METERS,DBARS,ITS-90,PSS-78,,PSS-78,,UMOL/KG,,UMOL/KG,,UMOL/KG,,UMOL/KG,,UMOL/KG,,PMOL/KG,,PMOL/KG,,PMOL/KG,,PMOL/KG,,FMOL/KG,,UMOL/KG,,UMOL/KG,,,DEGC,,DEGC
  77DN20020420,   GNS,    42,  1,     10,2,20020514,1345, 78.9370, -11.2730,  109,     10.0,  -1.7590,  32.5551,2,-999.0000,9,    378.9,2,     5.83,2,     3.35,2,     0.00,2,     0.67,2, -999.000,9, -999.000,9,    0.752,3,    8.781,3,     -999,9,   2116.0,2,   2251.9,2,   7.7012,    25.00,2,  -1.7592
  77DN20020420,   GNS,    42,  1,      9,2,20020514,1345, 78.9370, -11.2730,  109,     19.4,  -1.7601,  32.5551,2,-999.0000,9,    378.9,2,     5.56,2,     3.27,2,     0.00,2,     0.67,2, -999.000,9, -999.000,9,    0.774,3,    8.484,3,     -999,9,   2113.6,2,   2253.1,2,   7.7012,    25.00,2,  -1.7604
  77DN20020420,   GNS,    42,  1,      8,2,20020514,1345, 78.9370, -11.2730,  109,     29.5,  -1.7624,  32.5552,2,-999.0000,9,    377.9,2,     5.32,2,     3.31,2,     0.00,2,     0.66,2, -999.000,9, -999.000,9,    0.743,3,    8.247,3,     -999,9,   -999.0,2,   -999.0,2,-999.0000,  -999.00,9,  -1.7629
  77DN20020420,   GNS,    42,  1,      7,2,20020514,1345, 78.9370, -11.2730,  109,     39.7,  -1.7625,  32.5549,2,-999.0000,9,    377.1,2,     5.33,2,     3.33,2,     0.00,2,     0.67,2, -999.000,9, -999.000,9,    0.714,3,    7.547,3,     -999,9,   2116.1,2,   2252.3,2,   7.7003,    25.00,2,  -1.7631
  77DN20020420,   GNS,    42,  1,      6,2,20020514,1345, 78.9370, -11.2730,  109,     49.7,  -1.7606,  32.5552,2,-999.0000,9,    377.9,2,     5.38,2,     3.33,2,     0.00,2,     0.67,2, -999.000,9, -999.000,9,    0.670,3,    7.737,3,     -999,9,   -999.0,2,   -999.0,2,-999.0000,  -999.00,9,  -1.7614
  77DN20020420,   GNS,    42,  1,      5,2,20020514,1345, 78.9370, -11.2730,  109,     59.5,  -1.7650,  32.5569,2,-999.0000,9,    376.2,2,     5.34,2,     3.33,2,     0.00,2,     0.66,2, -999.000,9, -999.000,9,    0.725,3,    6.722,3,     -999,9,   2117.0,2,   2251.4,2,   7.7012,    25.00,2,  -1.7660
  77DN20020420,   GNS,    42,  1,      4,2,20020514,1345, 78.9370, -11.2730,  109,     70.2,  -1.7660,  32.5569,2,-999.0000,9,    376.9,2,     5.60,2,     3.32,2,     0.00,2,     0.67,2, -999.000,9, -999.000,9,    0.601,3,    6.647,3,     -999,9,   -999.0,2,   -999.0,2,-999.0000,  -999.00,9,  -1.7672
  77DN20020420,   GNS,    42,  1,      3,2,20020514,1345, 78.9370, -11.2730,  109,     79.9,  -1.7634,  32.5625,2,-999.0000,9,    379.7,2,     5.36,2,     3.37,2,     0.00,2,     0.67,2, -999.000,9, -999.000,9,    0.574,3,    6.471,3,     -999,9,   2114.9,2,   2251.3,2,   7.7012,    25.00,2,  -1.7647
  77DN20020420,   GNS,    42,  1,      2,2,20020514,1345, 78.9370, -11.2730,  109,     90.3,  -1.7568,  32.5806,2,-999.0000,9,    376.0,2,     5.82,2,     3.51,2,     0.00,2,     0.66,2, -999.000,9, -999.000,9,    0.525,3,    6.115,3,     -999,9,   -999.0,2,   -999.0,2,-999.0000,  -999.00,9,  -1.7583
  77DN20020420,   GNS,    42,  1,      1,2,20020514,1345, 78.9370, -11.2730,  109,    101.0,  -1.7557,  32.5822,2,-999.0000,9,    376.3,2,     5.48,2,     3.54,2,     0.00,2,     0.67,2, -999.000,9, -999.000,9,    0.508,3,    5.809,3,     -999,9,   2116.2,2,   2251.7,2,   7.7051,    25.00,2,  -1.7574
  77DN20020420,   GNS,    43,  1,     24,2,20020516, 315, 74.9987,   0.0073, 3761,     10.5,  -0.7743,  34.8730,2,-999.0000,9,    356.1,2,     5.46,2,    11.62,2,     0.03,2,     0.79,2,    6.560,2,    3.470,2,    0.538,3,   10.150,3,     2.72,2,   2153.6,2,   2294.8,2,   7.7054,    25.00,2,  -0.7746
  77DN20020420,   GNS,    43,  1,     23,2,20020516, 315, 74.9987,   0.0073, 3761,     19.9,  -0.7855,  34.8729,2,-999.0000,9,    356.2,2,     5.57,2,    11.62,2,     0.03,2,     0.79,2,    6.670,2,    3.440,2,    0.545,3,    9.430,3,     2.27,2,   2152.0,2,   2296.5,2,   7.7044,    25.00,2,  -0.7861
  77DN20020420,   GNS,    43,  1,     22,2,20020516, 315, 74.9987,   0.0073, 3761,     29.7,  -0.8003,  34.8726,2,-999.0000,9,    354.0,2,     5.64,2,    11.60,2,     0.03,2,     0.80,2,    6.650,2,    3.440,2,    0.604,3,    7.586,3,     2.51,2,   2154.4,2,   2296.8,2,   7.7044,    25.00,2,  -0.8012
  77DN20020420,   GNS,    43,  1,     21,2,20020516, 315, 74.9987,   0.0073, 3761,     50.4,  -0.8112,  34.8728,2,  34.8713,2,    351.9,2,     5.66,2,    11.75,2,     0.03,2,     0.81,2,    6.600,2,    3.440,2,    0.577,3,    7.511,3,     2.35,2,   2152.6,2,   2297.4,2,   7.7015,    25.00,2,  -0.8127
  77DN20020420,   GNS,    43,  1,     20,2,20020516, 315, 74.9987,   0.0073, 3761,     74.3,  -0.8690,  34.8729,2,-999.0000,9,    348.6,2,     6.17,2,    12.06,2,     0.03,2,     0.84,2,    6.270,2,    3.370,2,    0.587,3,    6.328,3,     2.48,2,   2156.2,2,   2296.1,2,   7.6957,    25.00,2,  -0.8711
  77DN20020420,   GNS,    43,  1,     19,2,20020516, 315, 74.9987,   0.0073, 3761,     99.0,  -0.8979,  34.8740,2,-999.0000,9,    346.4,2,     6.47,2,    12.63,2,     0.03,2,     0.86,2,    6.480,2,    3.330,2,    0.566,3,    6.002,3,     2.87,2,   2153.1,2,   2297.8,2,   7.6928,    25.00,2,  -0.9008
  77DN20020420,   GNS,    43,  1,     18,2,20020516, 315, 74.9987,   0.0073, 3761,    150.3,  -0.8553,  34.8797,2,-999.0000,9,    340.3,2,     6.39,2,    12.83,2,     0.03,2,     0.86,2,    6.060,2,    3.200,2,    0.512,3,    5.511,3,        3,2,   2154.6,2,   2299.1,2,   7.6909,    25.00,2,  -0.8598
  77DN20020420,   GNS,    43,  1,     17,2,20020516, 315, 74.9987,   0.0073, 3761,    200.3,  -0.8308,  34.8834,2,-999.0000,9,    338.0,2,     6.29,2,    12.92,2,     0.02,2,     0.87,2,    5.740,2,    3.080,2,    0.488,3,    5.259,3,     2.99,2,   2155.6,2,   2298.9,2,   7.6919,    25.00,2,  -0.8369
  77DN20020420,   GNS,    43,  1,     16,2,20020516, 315, 74.9987,   0.0073, 3761,    299.6,  -0.8422,  34.8847,2,-999.0000,9,    334.7,2,     6.40,2,    12.95,2,     0.02,2,     0.87,2,    5.800,2,    3.070,2,    0.503,3,    4.450,3,     2.86,2,   2157.4,2,   2297.7,2,   7.6928,    25.00,2,  -0.8515
  77DN20020420,   GNS,    43,  1,     15,2,20020516, 315, 74.9987,   0.0073, 3761,    398.8,  -0.8638,  34.8835,2,  34.8829,2,    334.7,2,     6.39,2,    13.06,2,     0.02,2,     0.87,2,    5.670,2,    3.020,2,    0.472,3,    4.402,3,     2.86,2,   2156.0,2,   2298.4,2,   7.6919,    25.00,2,  -0.8765
  77DN20020420,   GNS,    43,  1,     14,2,20020516, 315, 74.9987,   0.0073, 3761,    500.1,  -0.8600,  34.8839,2,-999.0000,9,    334.2,2,     6.54,2,    13.15,2,     0.01,2,     0.88,2,    5.480,2,    2.950,2,    0.493,3,    3.413,3,      3.1,2,   2155.8,2,   2297.4,2,   7.6919,    25.00,2,  -0.8765
  77DN20020420,   GNS,    43,  1,     13,2,20020516, 315, 74.9987,   0.0073, 3761,    550.5,  -0.8694,  34.8835,2,-999.0000,9,    334.6,2,     6.52,2,    13.05,2,     0.02,2,     0.88,2,    5.570,2,    2.960,2,    0.468,3,    3.860,3,     2.89,2,   2157.8,2,   2297.5,2,   7.6919,    25.00,2,  -0.8877
  77DN20020420,   GNS,    43,  1,     12,2,20020516, 315, 74.9987,   0.0073, 3761,    598.7,  -0.8731,  34.8836,2,-999.0000,9,    332.2,2,     6.54,2,    13.18,2,     0.01,2,     0.89,2,    5.530,2,    2.950,2,    0.471,3,    3.381,3,     3.14,2,   2157.0,2,   2297.1,2,   7.6919,    25.00,2,  -0.8933
  77DN20020420,   GNS,    43,  1,     11,2,20020516, 315, 74.9987,   0.0073, 3761,    698.9,  -0.8778,  34.8834,2,-999.0000,9,    333.6,2,     6.60,2,    13.04,2,     0.01,2,     0.88,2,    5.460,2,    2.890,2,    0.457,3,    2.899,3,     2.91,2,   2157.3,2,   2297.0,2,   7.6919,    25.00,2,  -0.9020
  77DN20020420,   GNS,    43,  1,     10,2,20020516, 315, 74.9987,   0.0073, 3761,    799.2,  -0.8774,  34.8840,2,-999.0000,9,    332.5,2,     6.69,2,    13.00,2,     0.01,2,     0.87,2,    5.360,2,    2.860,2,    0.442,3,    2.881,3,     2.74,2,   2157.6,2,   2296.4,2,   7.6909,    25.00,2,  -0.9058
  77DN20020420,   GNS,    43,  1,      9,2,20020516, 315, 74.9987,   0.0073, 3761,    899.3,  -0.8807,  34.8840,2,-999.0000,9,    331.3,2,     6.64,2,    13.00,2,     0.01,2,     0.87,2,    5.420,2,    2.890,2,    0.450,3,    2.941,3,     2.43,2,   2157.0,2,   2298.3,2,   7.6919,    25.00,2,  -0.9135
  77DN20020420,   GNS,    43,  1,      8,2,20020516, 315, 74.9987,   0.0073, 3761,   1000.9,  -0.8838,  34.8841,2,  34.8798,2,    331.8,2,     6.71,2,    13.27,2,     0.01,2,     0.89,2,    5.290,2,    2.820,2,    0.434,3,    2.807,3,     2.37,2,   2157.2,2,   2297.4,2,   7.6928,    25.00,2,  -0.9212
  77DN20020420,   GNS,    43,  1,      7,2,20020516, 315, 74.9987,   0.0073, 3761,   1400.9,  -0.8662,  34.8857,2,-999.0000,9,    329.5,2,     6.93,2,    13.27,2,     0.01,2,     0.89,2,    4.700,2,    2.590,2,    0.394,3,    2.130,3,     2.25,2,   2154.8,2,   2297.6,2,   7.6928,    25.00,2,  -0.9238
  77DN20020420,   GNS,    43,  1,      6,2,20020516, 315, 74.9987,   0.0073, 3761,   1799.5,  -0.7501,  34.9050,2,  34.9016,2,    305.1,2,     9.62,2,    14.58,2,     0.01,2,     0.98,2,    1.850,2,    0.920,2,    0.164,3,    0.769,3,     0.76,2,   2156.7,2,   2299.3,2,   7.6967,    25.00,2,  -0.8322
  77DN20020420,   GNS,    43,  1,      5,2,20020516, 315, 74.9987,   0.0073, 3761,   2200.5,  -0.8236,  34.9100,2,-999.0000,9,    303.9,2,    10.91,2,    14.93,2,     0.01,2,     1.03,2,    1.020,2,    0.380,2,    0.119,3,    0.673,3,        0,2,   2156.9,2,   2299.2,2,   7.7005,    25.00,2,  -0.9304
  77DN20020420,   GNS,    43,  1,      4,2,20020516, 315, 74.9987,   0.0073, 3761,   2598.0,  -0.8700,  34.9092,2,-999.0000,9,    303.3,2,    11.13,2,    14.94,2,     0.01,2,     1.03,2,    0.910,2,    0.330,2,    0.107,3,    0.642,3,        0,2,   2157.3,2,   2299.9,2,   7.6996,    25.00,2,  -1.0040
  77DN20020420,   GNS,    43,  1,      3,2,20020516, 315, 74.9987,   0.0073, 3761,   2999.7,  -0.8927,  34.9073,2,-999.0000,9,    304.9,2,    11.65,2,    14.71,2,     0.01,2,     1.00,2,    0.960,2,    0.360,2,    0.112,3,    0.617,3,        0,2,   2156.1,2,   2298.3,2,   7.6996,    25.00,2,  -1.0571
  77DN20020420,   GNS,    43,  1,      2,2,20020516, 315, 74.9987,   0.0073, 3761,   3671.1,  -0.8921,  34.9034,2,-999.0000,9,    310.5,2,    11.74,2,    14.80,2,     0.01,2,     1.01,2,    0.990,2,    0.370,2,    0.116,3,    0.558,3,     0.03,2,   2156.3,2,   2295.9,2,   7.6977,    25.00,2,  -1.1136
  77DN20020420,   GNS,    43,  1,      1,2,20020516, 315, 74.9987,   0.0073, 3761,   3770.4,  -0.8836,  34.9039,2,-999.0000,9,    306.7,2,    11.99,2,    14.81,2,     0.01,2,     1.02,2,    0.940,2,    0.360,2,    0.108,3,    0.551,3,        0,2,   2157.3,2,   2298.9,2,   7.7025,    25.00,2,  -1.1143
  77DN20020420,   GNS,    44,  1,     23,2,20020516, 927, 75.0018,  -1.9315, 3715,     14.5,  -0.5182,  34.8486,2,-999.0000,9,    362.8,2,     4.38,2,    10.31,2,     0.04,2,     0.71,2, -999.000,9, -999.000,9,    0.667,3,    8.236,3,     2.28,2,   2151.5,2,   2296.2,2,   7.7257,    25.00,2,  -0.5187
  77DN20020420,   GNS,    44,  1,     22,2,20020516, 927, 75.0018,  -1.9315, 3715,     30.5,  -0.5890,  34.8482,2,-999.0000,9,    360.5,2,     4.40,2,    10.51,2,     0.03,2,     0.74,2, -999.000,9, -999.000,9,    0.633,3,    8.541,3,     2.26,2,   2146.5,2,   2295.5,2,   7.7208,    25.00,2,  -0.5899
  77DN20020420,   GNS,    44,  1,     21,2,20020516, 927, 75.0018,  -1.9315, 3715,     56.1,  -0.6313,  34.8513,2,  34.8465,2,    357.3,2,     4.56,2,    10.77,2,     0.04,2,     0.75,2, -999.000,9, -999.000,9,    0.612,3,    7.071,3,     -999,9,   2152.2,2,   2296.0,2,   7.7150,    25.00,2,  -0.6330
  77DN20020420,   GNS,    44,  1,     20,2,20020516, 927, 75.0018,  -1.9315, 3715,     82.4,  -0.7255,  34.8629,2,-999.0000,9,    348.7,2,     5.32,2,    11.58,2,     0.03,2,     0.79,2, -999.000,9, -999.000,9,    0.550,3,    7.114,3,     -999,9,   2153.9,2,   2296.0,2,   7.7025,    25.00,2,  -0.7280
  77DN20020420,   GNS,    44,  1,     19,2,20020516, 927, 75.0018,  -1.9315, 3715,    124.3,  -0.8250,  34.8670,2,-999.0000,9,    342.9,2,     5.83,2,    12.14,2,     0.04,2,     0.84,2, -999.000,9, -999.000,9,    0.524,3,    0.224,3,     -999,9,   2157.5,2,   2297.1,2,   7.6948,    25.00,2,  -0.8287
  77DN20020420,   GNS,    44,  1,     18,2,20020516, 927, 75.0018,  -1.9315, 3715,    175.7,  -0.8875,  34.8730,2,-999.0000,9,    337.7,2,     6.32,2,    12.62,2,     0.03,2,     0.87,2, -999.000,9, -999.000,9,    0.382,3,    5.082,3,     3.48,2,   2161.2,2,   2295.8,2,   7.6909,    25.00,2,  -0.8927
  77DN20020420,   GNS,    44,  1,     17,2,20020516, 927, 75.0018,  -1.9315, 3715,    225.8,  -0.9295,  34.8740,2,-999.0000,9,    333.7,2,     6.31,2,    12.78,2,     0.02,2,     0.87,2, -999.000,9, -999.000,9,    0.366,3,    4.968,3,     3.75,2,   2159.8,2,   2293.3,2,   7.6900,    25.00,2,  -0.9362
  77DN20020420,   GNS,    44,  1,     16,2,20020516, 927, 75.0018,  -1.9315, 3715,    275.1,  -0.7860,  34.8849,2,  34.8824,2,    331.7,2,     6.43,2,    12.83,2,     0.01,2,     0.88,2, -999.000,9, -999.000,9,    0.327,3,    4.615,3,     3.14,2,   2154.4,2,   2294.8,2,   7.6900,    25.00,2,  -0.7946
  77DN20020420,   GNS,    44,  1,     15,2,20020516, 927, 75.0018,  -1.9315, 3715,    353.2,  -0.9030,  34.8780,2,-999.0000,9,    334.7,2,     6.47,2,    12.88,2,     0.01,2,     0.88,2, -999.000,9, -999.000,9,    0.318,3,    3.738,3,     3.37,2,   2153.8,2,   2292.8,2,   7.6909,    25.00,2,  -0.9140
  77DN20020420,   GNS,    44,  1,     14,2,20020516, 927, 75.0018,  -1.9315, 3715,    451.5,  -0.8562,  34.8825,2,-999.0000,9,    332.7,2,     6.48,2,    12.85,2,     0.02,2,     0.88,2, -999.000,9, -999.000,9,    0.388,3,    3.161,3,     3.34,2,   2157.4,2,   2294.8,2,   7.6928,    25.00,2,  -0.8709
  77DN20020420,   GNS,    44,  1,     13,2,20020516, 927, 75.0018,  -1.9315, 3715,    599.2,  -0.8870,  34.8816,2,-999.0000,9,    339.1,2,     6.53,2,    12.90,2,     0.02,2,     0.88,2, -999.000,9, -999.000,9,    0.309,3,    2.543,3,     3.11,2,   2156.7,2,   2293.4,2,   7.6919,    25.00,2,  -0.9071
  77DN20020420,   GNS,    44,  1,     11,2,20020516, 927, 75.0018,  -1.9315, 3715,   1002.3,  -0.8827,  34.8834,2,  34.8806,2,    332.4,2,     6.59,2,    12.85,2,     0.01,2,     0.88,2, -999.000,9, -999.000,9,    0.245,3,    1.288,3,     3.38,2,   2157.5,2,   2291.8,2,   7.6919,    25.00,2,  -0.9201
  77DN20020420,   GNS,    44,  1,      8,2,20020516, 927, 75.0018,  -1.9315, 3715,   1519.6,  -0.8559,  34.8873,2,-999.0000,9,    326.3,2,     7.41,2,    13.21,2,     0.01,2,     0.89,2, -999.000,9, -999.000,9,    0.224,3,    1.613,3,     2.56,2,   2157.6,2,   2292.8,2,   7.6986,    25.00,2,  -0.9201
  77DN20020420,   GNS,    44,  1,      7,2,20020516, 927, 75.0018,  -1.9315, 3715,   2000.5,  -0.8012,  34.9092,2,  34.9058,2,    302.9,2,    10.54,2,    14.46,2,     0.01,2,     0.98,2, -999.000,9, -999.000,9,    0.109,3,    0.762,3,     0.15,2,   2153.9,2,   2296.6,2,   7.6996,    25.00,2,  -0.8952
  77DN20020420,   GNS,    44,  1,      6,2,20020516, 927, 75.0018,  -1.9315, 3715,   2500.1,  -0.8728,  34.9090,2,-999.0000,9,    302.6,2,    10.96,2,    14.63,2,     0.01,2,     0.98,2, -999.000,9, -999.000,9,    0.158,3,    0.560,3,        0,2,   2153.5,2,   2298.3,2,   7.7025,    25.00,2,  -0.9996
  77DN20020420,   GNS,    44,  1,      5,2,20020516, 927, 75.0018,  -1.9315, 3715,   2999.3,  -0.9056,  34.9064,2,  34.9022,2,    304.8,2,    11.35,2,    14.60,2,     0.01,2,     0.97,2, -999.000,9, -999.000,9,    0.156,3,    0.610,3,     0.26,2,   2158.2,2,   2299.5,2,   7.6996,    25.00,2,  -1.0696
  77DN20020420,   GNS,    44,  1,      1,2,20020516, 927, 75.0018,  -1.9315, 3715,   3668.6,  -0.8888,  34.9036,2,  34.8936,2,    305.7,2,    11.25,2,    14.36,2,     0.01,2,     0.95,2, -999.000,9, -999.000,9,    0.158,3,    0.532,3,     0.14,2,   2155.2,2,   2299.7,2,   7.6977,    25.00,2,  -1.1101