BOTTLE,20090507PRINUNIVRMK
EXPOCODE,SECT_ID,STNNBR,CASTNO,BTLNBR,BTLNBR_FLAG_W,DATE,TIME,LATITUDE,LONGITUDE,DEPTH,CTDPRS,CTDTMP,CTDSAL,CTDSAL_FLAG_W,SALNTY,SALNTY_FLAG_W,OXYGEN,OXYGEN_FLAG_W,SILCAT,SILCAT_FLAG_W,NITRAT,NITRAT_FLAG_W,NITRIT,NITRIT_FLAG_W,PHSPHT,PHSPHT_FLAG_W,CFC-11,CFC-11_FLAG_W,CFC-12,CFC-12_FLAG_W,CFC113,CFC113_FLAG_W,CCL4,CCL4_FLAG_W,SF6,SF6_FLAG_W,TCARBN,TCARBN_FLAG_W,ALKALI,ALKALI_FLAG_W,PH_SWS,PH_TEMP,PH_SWS_FLAG_W,THETA
,,,,,,,,,,METERS,DBARS,ITS-90,PSS-78,,PSS-78,,UMOL/KG,,UMOL/KG,,UMOL/KG,,UMOL/KG,,UMOL/KG,,PMOL/KG,,PMOL/KG,,PMOL/KG,,PMOL/KG,,FMOL/KG,,UMOL/KG,,UMOL/KG,,,DEGC,,DEGC
  77DN20020420,   GNS,    73,  1,     15,2,20020525, 526, 70.0025, -22.0025,  465,     10.7,  -1.7742,  32.7163,2,-999.0000,9,    373.1,2,     4.08,2,     3.35,2,     0.03,2,     0.57,2,    8.600,2,    4.080,2,    0.633,3,   10.721,3,     -999,9,   2091.2,2,   2244.0,2,   7.6983,    25.00,2,  -1.7744
  77DN20020420,   GNS,    73,  1,     14,2,20020525, 526, 70.0025, -22.0025,  465,     20.7,  -1.7735,  32.7178,2,-999.0000,9,    372.5,2,     4.08,2,     3.35,2,     0.03,2,     0.57,2,    8.300,2,    4.180,2,    0.803,3,   10.303,3,      1.9,2,   2091.3,2,   2246.2,2,   7.7002,    25.00,2,  -1.7738
  77DN20020420,   GNS,    73,  1,     13,2,20020525, 526, 70.0025, -22.0025,  465,     30.0,  -1.7741,  32.7168,2,-999.0000,9,    373.1,2,     4.03,2,     3.35,2,     0.03,2,     0.57,2,    8.670,2,    4.080,2,    0.712,3,    9.223,3,     -999,9,   2091.6,2,   2246.6,2,   7.7002,    25.00,2,  -1.7746
  77DN20020420,   GNS,    73,  1,     12,2,20020525, 526, 70.0025, -22.0025,  465,     40.2,  -1.7736,  32.7153,2,  32.7078,2,    370.9,2,     4.00,2,     3.34,2,     0.03,2,     0.57,2,    8.710,2,    4.180,2,    0.696,3,    9.672,3,     -999,9,   2094.8,2,   2246.7,2,   7.7002,    25.00,2,  -1.7743
  77DN20020420,   GNS,    73,  1,     11,2,20020525, 526, 70.0025, -22.0025,  465,     50.0,  -1.7731,  32.7174,2,-999.0000,9,    371.8,2,     3.95,2,     3.38,2,     0.03,2,     0.58,2,    8.500,2,    4.140,2,    0.672,3,    8.546,3,     1.75,2,   2092.1,2,   2247.2,2,   7.7002,    25.00,2,  -1.7739
  77DN20020420,   GNS,    73,  1,     10,2,20020525, 526, 70.0025, -22.0025,  465,     60.2,  -1.7748,  32.7283,2,-999.0000,9,    371.3,2,     3.96,2,     3.37,2,     0.03,2,     0.57,2,    8.650,2,    4.080,2,    0.701,3,    7.244,3,     -999,9,   2092.1,2,   2247.3,2,   7.6993,    25.00,2,  -1.7758
  77DN20020420,   GNS,    73,  1,      9,2,20020525, 526, 70.0025, -22.0025,  465,     79.4,  -1.7765,  32.7391,2,-999.0000,9,    371.7,2,     4.01,2,     3.47,2,     0.03,2,     0.58,2,    8.670,2,    4.110,2,    0.698,3,    6.760,3,     1.94,2,   2093.4,2,   2248.0,2,   7.6993,    25.00,2,  -1.7778
  77DN20020420,   GNS,    73,  1,      8,2,20020525, 526, 70.0025, -22.0025,  465,    101.2,  -1.7768,  32.7484,2,  32.7401,2,    371.2,2,     4.04,2,     3.47,2,     0.03,2,     0.58,2,    8.600,2,    4.080,2,    0.653,3,    6.609,3,        2,2,   2092.4,2,   2247.5,2,   7.6983,    25.00,2,  -1.7785
  77DN20020420,   GNS,    73,  1,      7,2,20020525, 526, 70.0025, -22.0025,  465,    150.3,  -1.7482,  33.4243,2,  33.4141,2,    356.9,2,     4.84,2,     5.95,2,     0.03,2,     0.61,2,    7.820,2,    3.860,2,    0.604,3,    6.441,3,     1.89,2,   2102.9,2,   2263.6,2,   7.7029,    25.00,2,  -1.7511
  77DN20020420,   GNS,    73,  1,      6,2,20020525, 526, 70.0025, -22.0025,  465,    200.4,  -1.7591,  34.0435,2,  34.0317,2,    343.6,2,     4.80,2,     8.80,2,     0.04,2,     0.65,2,    7.070,2,    3.540,2,    0.574,3,    5.936,3,     1.61,2,   2102.6,2,   2269.4,2,   7.7201,    25.00,2,  -1.7632
  77DN20020420,   GNS,    73,  1,      5,2,20020525, 526, 70.0025, -22.0025,  465,    250.1,  -1.6490,  34.3069,2,  34.2955,2,    339.9,2,     4.91,2,    11.28,2,     0.05,2,     0.73,2,    6.460,2,    3.380,2,    0.570,3,    5.581,3,     1.56,2,   2100.1,2,   2267.8,2,   7.7229,    25.00,2,  -1.6547
  77DN20020420,   GNS,    73,  1,      3,2,20020525, 526, 70.0025, -22.0025,  465,    314.9,  -0.5717,  34.4987,2,  34.4869,2,    322.6,2,     5.71,2,    12.18,2,     0.04,2,     0.77,2,    5.810,2,    3.060,2,    0.473,3,    5.243,3,     1.14,2,   2113.1,2,   2276.6,2,   7.7190,    25.00,2,  -0.5821
  77DN20020420,   GNS,    73,  1,      2,2,20020525, 526, 70.0025, -22.0025,  465,    400.2,   0.5276,  34.6908,2,  34.6770,2,    308.1,2,     6.59,2,    13.00,2,     0.04,2,     0.82,2,    5.190,2,    2.780,2,    0.443,3,    4.503,3,     1.02,2,   2119.8,2,   2290.9,2,   7.7122,    25.00,2,   0.5103
  77DN20020420,   GNS,    73,  1,      1,2,20020525, 526, 70.0025, -22.0025,  465,    457.1,   0.7061,  34.7448,2,  34.7335,2,    307.1,2,     6.70,2,    13.36,2,     0.05,2,     0.83,2,    5.030,2,    2.720,2,    0.438,3,    3.739,3,     1.12,2,   2123.5,2,   2293.8,2,   7.7141,    25.00,2,   0.6854
  77DN20020420,   GNS,    74,  1,     17,2,20020526, 359, 69.6082, -21.8270,  456,     10.7,  -1.7822,  32.8534,2,-999.0000,9,    370.8,2,     4.46,2,     3.86,2,     0.03,2,     0.59,2,    8.070,2,    3.990,2,    0.659,3,    8.238,3,     -999,9,   2111.2,2,   2250.6,2,   7.7060,    25.00,2,  -1.7824
  77DN20020420,   GNS,    74,  1,     16,2,20020526, 359, 69.6082, -21.8270,  456,     20.6,  -1.7809,  32.8583,2,-999.0000,9,    370.6,2,     4.57,2,     3.86,2,     0.03,2,     0.58,2,    8.380,2,    3.990,2,    0.602,3,    8.365,3,     1.84,2,   2108.8,2,   2252.6,2,   7.7069,    25.00,2,  -1.7812
  77DN20020420,   GNS,    74,  1,     15,2,20020526, 359, 69.6082, -21.8270,  456,     29.9,  -1.7801,  32.8658,2,  32.8593,2,    370.2,2,     4.48,2,     3.88,2,     0.03,2,     0.59,2,    8.170,2,    3.890,2,    0.611,3,    8.215,3,     -999,9,   2112.9,2,   2251.2,2,   7.7050,    25.00,2,  -1.7806
  77DN20020420,   GNS,    74,  1,     14,2,20020526, 359, 69.6082, -21.8270,  456,     40.5,  -1.7809,  32.8960,2,-999.0000,9,    369.8,2,     4.47,2,     4.00,2,     0.03,2,     0.58,2,    6.290,2,    3.350,2,    0.592,3,    0.122,3,     -999,9,   2114.1,2,   2252.9,2,   7.7079,    25.00,2,  -1.7816
  77DN20020420,   GNS,    74,  1,     13,2,20020526, 359, 69.6082, -21.8270,  456,     49.9,  -1.7892,  32.9555,2,-999.0000,9,    367.2,2,     4.47,2,     4.15,2,     0.03,2,     0.58,2,    7.960,2,    3.860,2,    0.622,3,    7.853,3,     1.84,2,   2112.7,2,   2261.5,2,   7.7088,    25.00,2,  -1.7900
  77DN20020420,   GNS,    74,  1,     12,2,20020526, 359, 69.6082, -21.8270,  456,     60.7,  -1.7893,  32.9570,2,  32.9521,2,    368.0,2,     4.49,2,     4.17,2,     0.03,2,     0.59,2,    8.130,2,    3.860,2,    0.631,3,    7.801,3,     -999,9,   2112.0,2,   2252.9,2,   7.7098,    25.00,2,  -1.7903
  77DN20020420,   GNS,    74,  1,     11,2,20020526, 359, 69.6082, -21.8270,  456,     80.7,  -1.7905,  32.9738,2,-999.0000,9,    367.5,2,     4.43,2,     4.24,2,     0.03,2,     0.59,2,    8.030,2,    3.830,2,    0.644,3,    7.275,3,     1.75,2,   2110.5,2,   2254.2,2,   7.7079,    25.00,2,  -1.7919
  77DN20020420,   GNS,    74,  1,     10,2,20020526, 359, 69.6082, -21.8270,  456,    102.0,  -1.7887,  33.0187,2,-999.0000,9,    366.1,2,     4.57,2,     4.56,2,     0.03,2,     0.59,2,    7.800,2,    3.790,2,    0.563,3,    6.774,3,     1.69,2,   2113.1,2,   2256.3,2,   7.7088,    25.00,2,  -1.7905
  77DN20020420,   GNS,    74,  1,      9,2,20020526, 359, 69.6082, -21.8270,  456,    126.5,  -1.7932,  33.3049,2,-999.0000,9,    361.0,2,     4.88,2,     5.39,2,     0.03,2,     0.60,2,    7.670,2,    3.730,2,    0.589,3,    6.334,3,      1.6,2,   2120.5,2,   2262.2,2,   7.7145,    25.00,2,  -1.7955
  77DN20020420,   GNS,    74,  1,      8,2,20020526, 359, 69.6082, -21.8270,  456,    151.7,  -1.7912,  33.6277,2,  33.6211,2,    353.5,2,     5.07,2,     6.35,2,     0.03,2,     0.61,2,    7.380,2,    3.600,2,    0.579,3,    5.907,3,     1.71,2,   2119.1,2,   2268.1,2,   7.7144,    25.00,2,  -1.7941
  77DN20020420,   GNS,    74,  1,      7,2,20020526, 359, 69.6082, -21.8270,  456,    176.0,  -1.7520,  33.9433,2,-999.0000,9,    346.0,2,     5.00,2,     7.70,2,     0.04,2,     0.63,2,    6.760,2,    3.380,2,    0.529,3,    5.608,3,     1.61,2,   2120.9,2,   2271.8,2,   7.7230,    25.00,2,  -1.7556
  77DN20020420,   GNS,    74,  1,      6,2,20020526, 359, 69.6082, -21.8270,  456,    201.4,  -1.7374,  34.1166,2,  34.1054,2,    340.7,2,     4.93,2,     8.67,2,     0.04,2,     0.67,2,    6.560,2,    3.280,2,    0.515,3,    5.036,3,     1.38,2,   2119.9,2,   2271.7,2,   7.7288,    25.00,2,  -1.7416
  77DN20020420,   GNS,    74,  1,      5,2,20020526, 359, 69.6082, -21.8270,  456,    251.8,  -1.7252,  34.2831,2,  34.2717,2,    340.0,2,     4.93,2,    10.07,2,     0.06,2,     0.71,2,    6.350,2,    3.280,2,    0.513,3,    4.389,3,     1.43,2,   2113.0,2,   2269.8,2,   7.7316,    25.00,2,  -1.7307
  77DN20020420,   GNS,    74,  1,      3,2,20020526, 359, 69.6082, -21.8270,  456,    301.7,  -1.6305,  34.3719,2,  34.3627,2,    339.8,2,     5.10,2,    10.87,2,     0.06,2,     0.75,2,    6.140,2,    3.220,2,    0.464,3,    3.686,3,     1.22,2,   2121.1,2,   2268.9,2,   7.7287,    25.00,2,  -1.6376
  77DN20020420,   GNS,    74,  1,      2,2,20020526, 359, 69.6082, -21.8270,  456,    401.8,  -1.0096,  34.5313,2,  34.5209,2,    341.5,2,     5.23,2,    11.17,2,     0.06,2,     0.76,2,    6.170,2,    3.250,2,    0.489,3,    3.042,3,     1.37,2,   2129.6,2,   2278.2,2,   7.7258,    25.00,2,  -1.0217
  77DN20020420,   GNS,    74,  1,      1,2,20020526, 359, 69.6082, -21.8270,  456,    443.4,   0.6957,  34.7753,2,  34.7616,2,    314.2,2,     6.02,2,    11.70,2,     0.05,2,     0.81,2,    4.970,2,    2.700,2,    0.387,3,    3.010,3,     1.19,2,   2141.9,2,   2294.1,2,   7.7267,    25.00,2,   0.6757
  77DN20020420,   GNS,    75,  1,     16,2,20020526,1608, 69.3492, -21.4870,  407,     10.1,  -1.8105,  33.5244,2,  33.5161,2,    355.2,2,     4.89,2,     6.10,2,     0.03,2,     0.61,2, -999.000,9, -999.000,9,    0.670,3,    9.967,3,     -999,9,   2118.5,2,   2262.5,2,   7.7145,    25.00,2,  -1.8107
  77DN20020420,   GNS,    75,  1,     15,2,20020526,1608, 69.3492, -21.4870,  407,     19.8,  -1.8104,  33.5256,2,-999.0000,9,    355.3,2,     4.90,2,     6.15,2,     0.03,2,     0.62,2, -999.000,9, -999.000,9,    0.621,3,    9.791,3,     1.54,2,   2121.6,2,   2263.2,2,   7.7154,    25.00,2,  -1.8107
  77DN20020420,   GNS,    75,  1,     14,2,20020526,1608, 69.3492, -21.4870,  407,     30.0,  -1.8102,  33.5308,2,-999.0000,9,    354.8,2,     4.88,2,     6.14,2,     0.03,2,     0.62,2, -999.000,9, -999.000,9,    0.600,3,    9.385,3,     -999,9,   2114.3,2,   2261.8,2,   7.7164,    25.00,2,  -1.8107
  77DN20020420,   GNS,    75,  1,     13,2,20020526,1608, 69.3492, -21.4870,  407,     40.3,  -1.8103,  33.5631,2,  33.5581,2,    354.8,2,     4.76,2,     6.30,2,     0.03,2,     0.62,2, -999.000,9, -999.000,9,    0.531,3,    8.830,3,     -999,9,   2116.9,2,   2261.9,2,   7.7183,    25.00,2,  -1.8110
  77DN20020420,   GNS,    75,  1,     12,2,20020526,1608, 69.3492, -21.4870,  407,     50.1,  -1.8097,  33.6142,2,-999.0000,9,    354.3,2,     4.87,2,     6.56,2,     0.04,2,     0.62,2, -999.000,9, -999.000,9,    0.506,3,    8.527,3,     1.37,2,   2119.3,2,   2264.7,2,   7.7183,    25.00,2,  -1.8106
  77DN20020420,   GNS,    75,  1,     11,2,20020526,1608, 69.3492, -21.4870,  407,     60.3,  -1.8042,  33.6837,2,  33.6833,2,    352.0,2,     4.85,2,     6.82,2,     0.04,2,     0.62,2, -999.000,9, -999.000,9,    0.512,3,    7.945,3,     -999,9,   2116.9,2,   2264.1,2,   7.7202,    25.00,2,  -1.8053
  77DN20020420,   GNS,    75,  1,     10,2,20020526,1608, 69.3492, -21.4870,  407,     77.8,  -1.7730,  33.7594,2,-999.0000,9,    349.3,2,     4.94,2,     7.18,2,     0.04,2,     0.63,2, -999.000,9, -999.000,9,    0.505,3,    7.325,3,     1.56,2,   2119.5,2,   2265.1,2,   7.7221,    25.00,2,  -1.7745
  77DN20020420,   GNS,    75,  1,      9,2,20020526,1608, 69.3492, -21.4870,  407,    105.0,  -1.7207,  33.9597,2,  33.9549,2,    345.0,2,     4.96,2,     8.01,2,     0.03,2,     0.65,2, -999.000,9, -999.000,9,    0.494,3,    6.973,3,     1.57,2,   2121.0,2,   2268.8,2,   7.7230,    25.00,2,  -1.7228
  77DN20020420,   GNS,    75,  1,      8,2,20020526,1608, 69.3492, -21.4870,  407,    120.0,  -1.7468,  34.0871,2,-999.0000,9,    342.7,2,     4.88,2,     8.59,2,     0.03,2,     0.66,2, -999.000,9, -999.000,9,    0.481,3,    6.220,3,     -999,9,   2120.6,2,   2269.8,2,   7.7269,    25.00,2,  -1.7492
  77DN20020420,   GNS,    75,  1,      7,2,20020526,1608, 69.3492, -21.4870,  407,    149.4,  -1.7346,  34.1894,2,  34.1791,2,    343.1,2,     4.79,2,     9.28,2,     0.05,2,     0.68,2, -999.000,9, -999.000,9,    0.491,3,    5.769,3,     1.63,2,   2116.4,2,   2270.5,2,   7.7288,    25.00,2,  -1.7377
  77DN20020420,   GNS,    75,  1,      6,2,20020526,1608, 69.3492, -21.4870,  407,    176.2,  -1.7897,  34.2528,2,-999.0000,9,    344.4,2,     4.79,2,     9.65,2,     0.05,2,     0.69,2, -999.000,9, -999.000,9,    0.455,3,    5.444,3,     -999,9,   2119.6,2,   2271.1,2,   7.7307,    25.00,2,  -1.7933
  77DN20020420,   GNS,    75,  1,      5,2,20020526,1608, 69.3492, -21.4870,  407,    199.8,  -1.7890,  34.2917,2,  34.2830,2,    344.6,2,     4.84,2,    10.10,2,     0.06,2,     0.71,2, -999.000,9, -999.000,9,    0.478,3,    5.223,3,     1.58,2,   2118.4,2,   2272.7,2,   7.7307,    25.00,2,  -1.7932
  77DN20020420,   GNS,    75,  1,      4,2,20020526,1608, 69.3492, -21.4870,  407,    249.4,  -1.7156,  34.3256,2,-999.0000,9,    339.4,2,     4.85,2,    10.46,2,     0.06,2,     0.73,2, -999.000,9, -999.000,9,    0.434,3,    4.569,3,     1.34,2,   2116.7,2,   2270.1,2,   7.7297,    25.00,2,  -1.7211
  77DN20020420,   GNS,    75,  1,      3,2,20020526,1608, 69.3492, -21.4870,  407,    299.8,  -1.4415,  34.4013,2,  34.3914,2,    334.5,2,     5.07,2,    10.47,2,     0.08,2,     0.75,2, -999.000,9, -999.000,9,    0.393,3,    4.006,3,     1.48,2,   2120.4,2,   2272.5,2,   7.7277,    25.00,2,  -1.4490
  77DN20020420,   GNS,    75,  1,      2,2,20020526,1608, 69.3492, -21.4870,  407,    351.0,  -0.0775,  34.6354,2,-999.0000,9,    321.5,2,     5.65,2,    11.66,2,     0.07,2,     0.79,2, -999.000,9, -999.000,9,    0.396,3,    3.936,3,     1.44,2,   2134.0,2,   2296.0,2,   7.7228,    25.00,2,  -0.0907
  77DN20020420,   GNS,    75,  1,      1,2,20020526,1608, 69.3492, -21.4870,  407,    395.2,   0.6472,  34.7688,2,  34.7583,2,    315.6,2,     5.81,2,    11.49,2,     0.08,2,     0.79,2, -999.000,9, -999.000,9,    0.349,3,    3.770,3,     1.53,2,   2138.2,2,   2300.4,2,   7.7247,    25.00,2,   0.6297
  77DN20020420,   GNS,    76,  1,     18,2,20020526,1921, 69.0873, -21.2380,  534,     11.7,  -1.7307,  33.7725,2,  33.7805,2,    352.1,2,     4.87,2,     7.03,2,     0.05,2,     0.63,2,    7.220,2,    3.530,2,    0.561,3,    7.416,3,     -999,9,   2116.9,2,   2264.2,2,   7.7269,    25.00,2,  -1.7309
  77DN20020420,   GNS,    76,  1,     17,2,20020526,1921, 69.0873, -21.2380,  534,     19.5,  -1.8053,  33.8363,2,  33.8416,2,    347.9,2,     4.90,2,     7.32,2,     0.05,2,     0.64,2,    7.040,2,    3.470,2,    0.606,3,    7.132,3,     1.39,2,   2119.7,2,   2267.0,2,   7.7260,    25.00,2,  -1.8057
  77DN20020420,   GNS,    76,  1,     16,2,20020526,1921, 69.0873, -21.2380,  534,     30.1,  -1.8081,  33.8895,2,-999.0000,9,    349.3,2,     4.82,2,     7.51,2,     0.05,2,     0.65,2,    7.180,2,    3.500,2,    0.528,3,    7.622,3,     -999,9,   2119.2,2,   2266.3,2,   7.7269,    25.00,2,  -1.8087
  77DN20020420,   GNS,    76,  1,     15,2,20020526,1921, 69.0873, -21.2380,  534,     40.1,  -1.8141,  33.9702,2,  33.9739,2,    348.8,2,     4.73,2,     7.48,2,     0.08,2,     0.63,2,    6.940,2,    3.440,2,    0.558,3,    7.533,3,     1.36,2,   2117.9,2,   2265.7,2,   7.7288,    25.00,2,  -1.8148
  77DN20020420,   GNS,    76,  1,     14,2,20020526,1921, 69.0873, -21.2380,  534,     49.9,  -1.7877,  34.0618,2,-999.0000,9,    345.5,2,     4.72,2,     7.84,2,     0.09,2,     0.65,2,    6.650,2,    3.380,2,    0.522,3,    7.275,3,     -999,9,   2117.2,2,   2268.3,2,   7.7298,    25.00,2,  -1.7886
  77DN20020420,   GNS,    76,  1,     13,2,20020526,1921, 69.0873, -21.2380,  534,     60.5,  -1.7750,  34.1064,2,  34.1101,2,    343.5,2,     4.73,2,     8.35,2,     0.07,2,     0.67,2,    6.510,2,    3.310,2,    0.527,3,    7.118,3,     1.32,2,   2118.8,2,   2269.2,2,   7.7297,    25.00,2,  -1.7762
  77DN20020420,   GNS,    76,  1,     12,2,20020526,1921, 69.0873, -21.2380,  534,     78.7,  -1.7406,  34.2009,2,  34.2060,2,    339.9,2,     4.88,2,     9.05,2,     0.07,2,     0.69,2,    6.510,2,    3.310,2,    0.516,3,    7.027,3,     -999,9,   2117.2,2,   2269.3,2,   7.7326,    25.00,2,  -1.7422
  77DN20020420,   GNS,    76,  1,     11,2,20020526,1921, 69.0873, -21.2380,  534,    100.3,  -1.7117,  34.2671,2,  34.2685,2,    338.5,2,     4.96,2,     9.97,2,     0.06,2,     0.71,2,    6.370,2,    3.280,2,    0.492,3,    6.184,3,     1.25,2,   2119.1,2,   2267.9,2,   7.7316,    25.00,2,  -1.7138
  77DN20020420,   GNS,    76,  1,     10,2,20020526,1921, 69.0873, -21.2380,  534,    125.1,  -1.7279,  34.3242,2,-999.0000,9,    338.2,2,     4.95,2,    10.28,2,     0.09,2,     0.73,2,    5.670,2,    3.280,2,    0.725,3,    6.210,3,     -999,9,   2119.7,2,   2268.1,2,   7.7326,    25.00,2,  -1.7305
  77DN20020420,   GNS,    76,  1,      9,2,20020526,1921, 69.0873, -21.2380,  534,    150.5,  -1.7229,  34.3401,2,  34.3431,2,    339.8,2,     5.03,2,    10.60,2,     0.08,2,     0.74,2,    6.350,2,    3.220,2,    0.512,3,    5.808,3,     1.34,2,   2118.0,2,   2267.8,2,   7.7316,    25.00,2,  -1.7261
  77DN20020420,   GNS,    76,  1,      8,2,20020526,1921, 69.0873, -21.2380,  534,    173.0,  -1.7488,  34.3523,2,-999.0000,9,    342.3,2,     5.08,2,    10.70,2,     0.08,2,     0.76,2, -999.000,9, -999.000,9, -999.000,9, -999.000,9,     1.87,2,   2119.5,2,   2268.7,2,   7.7336,    25.00,2,  -1.7525
  77DN20020420,   GNS,    76,  1,      7,2,20020526,1921, 69.0873, -21.2380,  534,    199.3,  -1.7242,  34.3659,2,  34.3689,2,    343.0,2,     5.11,2,    10.53,2,     0.10,2,     0.75,2,    5.810,2,    3.340,2,    0.856,3,    5.249,3,      1.8,2,   2120.1,2,   2269.5,2,   7.7307,    25.00,2,  -1.7285
  77DN20020420,   GNS,    76,  1,      6,2,20020526,1921, 69.0873, -21.2380,  534,    253.7,  -0.8764,  34.5208,2,  34.5240,2,    334.5,2,     5.44,2,    10.80,2,     0.09,2,     0.78,2,    6.080,2,    3.180,2,    0.486,3,    4.785,3,     1.64,2,   2127.1,2,   2278.9,2,   7.7267,    25.00,2,  -0.8840
  77DN20020420,   GNS,    76,  1,      5,2,20020526,1921, 69.0873, -21.2380,  534,    314.8,   0.5577,  34.7580,2,  34.7620,2,    314.8,2,     5.78,2,    11.17,2,     0.12,2,     0.82,2,    5.060,2,    2.740,2,    0.461,3,    3.848,3,     1.18,2,   2141.3,2,   2288.9,2,   7.7276,    25.00,2,   0.5442
  77DN20020420,   GNS,    76,  1,      4,2,20020526,1921, 69.0873, -21.2380,  534,    400.2,   0.0638,  34.9030,2,-999.0000,9,    310.8,2,     6.28,2,    12.94,2,     0.07,2,     0.89,2,    3.460,2,    1.880,2,    0.272,3,    3.205,3,     0.93,2,   2152.1,2,   2298.8,2,   7.7141,    25.00,2,   0.0479
  77DN20020420,   GNS,    76,  1,      2,2,20020526,1921, 69.0873, -21.2380,  534,    496.6,  -0.3102,  34.9008,2,-999.0000,9,    311.9,2,     6.95,2,    13.31,2,     0.08,2,     0.93,2,    3.180,2,    1.740,2,    0.260,3,    3.054,3,     1.35,2,   2152.4,2,   2298.9,2,   7.7063,    25.00,2,  -0.3288
  77DN20020420,   GNS,    76,  1,      1,2,20020526,1921, 69.0873, -21.2380,  534,    530.4,  -0.3249,  34.9009,2,  34.9042,2,    313.4,2,     7.04,2,    13.35,2,     0.07,2,     0.91,2,    3.160,2,    1.740,2,    0.241,3,    2.979,3,     0.98,2,   2155.7,2,   2298.3,2,   7.7092,    25.00,2,  -0.3449