BOTTLE,20090507PRINUNIVRMK
EXPOCODE,SECT_ID,STNNBR,CASTNO,BTLNBR,BTLNBR_FLAG_W,DATE,TIME,LATITUDE,LONGITUDE,DEPTH,CTDPRS,CTDTMP,CTDSAL,CTDSAL_FLAG_W,SALNTY,SALNTY_FLAG_W,OXYGEN,OXYGEN_FLAG_W,SILCAT,SILCAT_FLAG_W,NITRAT,NITRAT_FLAG_W,NITRIT,NITRIT_FLAG_W,PHSPHT,PHSPHT_FLAG_W,CFC-11,CFC-11_FLAG_W,CFC-12,CFC-12_FLAG_W,CFC113,CFC113_FLAG_W,CCL4,CCL4_FLAG_W,SF6,SF6_FLAG_W,TCARBN,TCARBN_FLAG_W,ALKALI,ALKALI_FLAG_W,PH_SWS,PH_TEMP,PH_SWS_FLAG_W,THETA
,,,,,,,,,,METERS,DBARS,ITS-90,PSS-78,,PSS-78,,UMOL/KG,,UMOL/KG,,UMOL/KG,,UMOL/KG,,UMOL/KG,,PMOL/KG,,PMOL/KG,,PMOL/KG,,PMOL/KG,,FMOL/KG,,UMOL/KG,,UMOL/KG,,,DEGC,,DEGC
  77DN20020420,   GNS,    51,  1,     20,2,20020517,2232, 75.0030, -11.7848, 1979,     10.2,  -1.3824,  34.2274,2,  34.2183,2,    350.8,2,     5.19,2,    10.04,2,     0.03,2,     0.70,2, -999.000,9, -999.000,9, -999.000,9, -999.000,9,     -999,9,   2112.4,2,   2265.2,2,   7.7239,    25.00,2,  -1.3826
  77DN20020420,   GNS,    51,  1,     19,2,20020517,2232, 75.0030, -11.7848, 1979,     20.1,  -1.3620,  34.2489,2,  34.2447,2,    350.4,2,     5.19,2,    10.02,2,     0.04,2,     0.70,2, -999.000,9, -999.000,9, -999.000,9, -999.000,9,     1.61,2,   2118.1,2,   2265.9,2,   7.7230,    25.00,2,  -1.3625
  77DN20020420,   GNS,    51,  1,     18,2,20020517,2232, 75.0030, -11.7848, 1979,     29.3,  -1.1467,  34.3311,2,  34.3528,2,    349.5,2,     5.37,2,    10.23,2,     0.03,2,     0.71,2, -999.000,9, -999.000,9, -999.000,9, -999.000,9,     -999,9,   2120.9,2,   2270.9,2,   7.7220,    25.00,2,  -1.1474
  77DN20020420,   GNS,    51,  1,     17,2,20020517,2232, 75.0030, -11.7848, 1979,     39.7,  -0.5816,  34.5452,2,  34.5475,2,    348.7,2,     5.58,2,    10.41,2,     0.03,2,     0.72,2, -999.000,9, -999.000,9, -999.000,9, -999.000,9,     -999,9,   2132.4,2,   2284.9,2,   7.7190,    25.00,2,  -0.5828
  77DN20020420,   GNS,    51,  1,     16,2,20020517,2232, 75.0030, -11.7848, 1979,     59.2,  -0.4838,  34.5970,2,  34.5987,2,    344.0,2,     5.54,2,    10.64,2,     0.04,2,     0.74,2, -999.000,9, -999.000,9, -999.000,9, -999.000,9,     -999,9,   2134.7,2,   2284.8,2,   7.7228,    25.00,2,  -0.4857
  77DN20020420,   GNS,    51,  1,     15,2,20020517,2232, 75.0030, -11.7848, 1979,     78.5,  -0.0159,  34.6683,2,  34.6651,2,    335.0,2,     5.51,2,    10.98,2,     0.04,2,     0.76,2, -999.000,9, -999.000,9, -999.000,9, -999.000,9,     -999,9,   2138.1,2,   2288.5,2,   7.7209,    25.00,2,  -0.0187
  77DN20020420,   GNS,    51,  1,     14,2,20020517,2232, 75.0030, -11.7848, 1979,     90.9,   0.0044,  34.6891,2,  34.6844,2,    333.4,2,     5.56,2,    10.87,2,     0.05,2,     0.75,2, -999.000,9, -999.000,9, -999.000,9, -999.000,9,     -999,9,   2139.1,2,   2290.7,2,   7.7228,    25.00,2,   0.0011
  77DN20020420,   GNS,    51,  1,     13,2,20020517,2232, 75.0030, -11.7848, 1979,    124.5,   0.5962,  34.7981,2,  34.7950,2,    320.8,2,     5.56,2,    11.90,2,     0.03,2,     0.80,2, -999.000,9, -999.000,9, -999.000,9, -999.000,9,     1.35,2,   2142.8,2,   2293.3,2,   7.7238,    25.00,2,   0.5910
  77DN20020420,   GNS,    51,  1,     12,2,20020517,2232, 75.0030, -11.7848, 1979,    174.1,   0.7313,  34.8737,2,  34.8660,2,    318.2,2,     5.64,2,    12.20,2,     0.03,2,     0.82,2, -999.000,9, -999.000,9, -999.000,9, -999.000,9,     1.54,2,   2145.0,2,   2297.5,2,   7.7218,    25.00,2,   0.7238
  77DN20020420,   GNS,    51,  1,     11,2,20020517,2232, 75.0030, -11.7848, 1979,    250.2,   0.9421,  34.9296,2,  34.9223,2,    317.2,2,     5.51,2,    12.26,2,     0.03,2,     0.82,2,    4.770,2,    2.620,2,    0.386,3,    4.666,3,     1.09,2,   2147.9,2,   2298.8,2,   7.7218,    25.00,2,   0.9306
  77DN20020420,   GNS,    51,  1,     10,2,20020517,2232, 75.0030, -11.7848, 1979,    300.1,   0.7207,  34.9208,2,  34.9140,2,    316.6,2,     5.73,2,    12.36,2,     0.03,2,     0.83,2,    4.440,2,    2.430,2,    0.378,3,    4.548,3,     1.37,2,   2150.9,2,   2300.9,2,   7.7208,    25.00,2,   0.7074
  77DN20020420,   GNS,    51,  1,      9,2,20020517,2232, 75.0030, -11.7848, 1979,    399.8,   0.5097,  34.9201,2,  34.9140,2,    314.8,2,     5.99,2,    12.55,2,     0.02,2,     0.85,2,    4.150,2,    2.260,2,    0.329,3,    4.409,3,     1.15,2,   2152.7,2,   2298.2,2,   7.7150,    25.00,2,   0.4923
  77DN20020420,   GNS,    51,  1,      8,2,20020517,2232, 75.0030, -11.7848, 1979,    600.6,   0.1990,  34.9255,2,  34.9185,2,    320.8,2,     6.05,2,    12.71,2,     0.02,2,     0.86,2,    4.630,2,    2.540,2,    0.384,3,    3.658,3,     -999,9,   2154.5,2,   2297.8,2,   7.7092,    25.00,2,   0.1733
  77DN20020420,   GNS,    51,  1,      7,2,20020517,2232, 75.0030, -11.7848, 1979,    801.2,  -0.1931,  34.9127,2,  34.9071,2,    316.1,2,     6.91,2,    13.13,2,     0.02,2,     0.89,2,    3.760,2,    2.060,2,    0.336,3,    3.407,3,     -999,9,   2155.9,2,   2297.2,2,   7.7006,    25.00,2,  -0.2262
  77DN20020420,   GNS,    51,  1,      6,2,20020517,2232, 75.0030, -11.7848, 1979,    999.6,  -0.5015,  34.9025,2,  34.8945,2,    311.4,2,     7.86,2,    13.55,2,     0.02,2,     0.92,2,    2.780,2,    1.510,2,    0.241,3,    2.932,3,     1.98,2,   2155.1,2,   2296.3,2,   7.6986,    25.00,2,  -0.5420
  77DN20020420,   GNS,    51,  1,      5,2,20020517,2232, 75.0030, -11.7848, 1979,   1200.6,  -0.6724,  34.9009,2,  34.8945,2,    311.1,2,     8.51,2,    13.89,2,     0.02,2,     0.94,2,    2.320,2,    1.340,2,    0.368,3,    2.767,3,     2.14,2,   2157.3,2,   2295.4,2,   7.6977,    25.00,2,  -0.7215
  77DN20020420,   GNS,    51,  1,      4,2,20020517,2232, 75.0030, -11.7848, 1979,   1398.7,  -0.6857,  34.9134,2,  34.9054,2,    303.0,2,    10.03,2,    14.19,2,     0.02,2,     0.97,2,    1.310,2,    0.610,2,    0.139,3,    2.326,3,     0.63,2,   2157.1,2,   2296.8,2,   7.7006,    25.00,2,  -0.7453
  77DN20020420,   GNS,    51,  1,      3,2,20020517,2232, 75.0030, -11.7848, 1979,   1599.5,  -0.8055,  34.9122,2,  34.9059,2,    302.5,2,    10.78,2,    14.62,2,     0.02,2,     0.99,2,    0.950,2,    0.390,2,    0.190,3,    1.899,3,     0.29,2,   2152.2,2,   2299.4,2,   7.6977,    25.00,2,  -0.8750
  77DN20020420,   GNS,    51,  1,      2,2,20020517,2232, 75.0030, -11.7848, 1979,   1866.5,  -0.8574,  34.9135,2,  34.9063,2,    301.9,2,    11.30,2,    14.96,2,     0.02,2,     1.03,2,    0.820,2,    0.270,2,    0.118,3,    1.051,3,     0.12,2,   2159.5,2,   2299.4,2,   7.7005,    25.00,2,  -0.9421
  77DN20020420,   GNS,    51,  1,      1,2,20020517,2232, 75.0030, -11.7848, 1979,   1966.0,  -0.8590,  34.9139,2,  34.9056,2,    302.9,2,    11.43,2,    14.60,2,     0.02,2,     0.98,2, -999.000,9, -999.000,9, -999.000,9, -999.000,9,        0,2,   2155.2,2,   2298.3,2,   7.7025,    25.00,2,  -0.9499
  77DN20020420,   GNS,    52,  1,     24,2,20020518, 203, 74.9987, -12.1593, 1523,      9.9,  -1.6883,  34.2446,2,  34.2311,2,    346.4,2,     5.11,2,     9.72,2,     0.03,2,     0.70,2, -999.000,9, -999.000,9, -999.000,9, -999.000,9,     -999,9,   2114.7,2,   2260.6,2,   7.7268,    25.00,2,  -1.6885
  77DN20020420,   GNS,    52,  1,     23,2,20020518, 203, 74.9987, -12.1593, 1523,     19.6,  -1.6765,  34.2496,2,  34.2422,2,    348.8,2,     5.20,2,     9.68,2,     0.03,2,     0.70,2, -999.000,9, -999.000,9, -999.000,9, -999.000,9,     1.89,2,   2117.2,2,   2261.7,2,   7.7249,    25.00,2,  -1.6769
  77DN20020420,   GNS,    52,  1,     22,2,20020518, 203, 74.9987, -12.1593, 1523,     30.3,  -1.5806,  34.3494,2,  34.3364,2,    348.8,2,     5.10,2,     9.87,2,     0.03,2,     0.70,2, -999.000,9, -999.000,9,    0.641,3,    8.125,3,     -999,9,   2123.7,2,   2270.0,2,   7.7249,    25.00,2,  -1.5812
  77DN20020420,   GNS,    52,  1,     21,2,20020518, 203, 74.9987, -12.1593, 1523,     40.3,  -1.3725,  34.4059,2,  34.3957,2,    348.5,2,     5.23,2,     9.93,2,     0.03,2,     0.71,2, -999.000,9, -999.000,9,    0.646,3,    7.561,3,     -999,9,   2130.6,2,   2271.6,2,   7.7210,    25.00,2,  -1.3734
  77DN20020420,   GNS,    52,  1,     20,2,20020518, 203, 74.9987, -12.1593, 1523,     61.5,  -1.0498,  34.4532,2,  34.4424,2,    334.1,2,     5.42,2,    10.28,2,     0.02,2,     0.73,2, -999.000,9, -999.000,9,    0.565,3,    7.735,3,     1.24,2,   2131.1,2,   2275.2,2,   7.7200,    25.00,2,  -1.0514
  77DN20020420,   GNS,    52,  1,     19,2,20020518, 203, 74.9987, -12.1593, 1523,     81.2,  -0.4980,  34.5340,2,  34.5224,2,    325.2,2,     5.79,2,    10.80,2,     0.02,2,     0.76,2, -999.000,9, -999.000,9,    0.506,3,    6.894,3,     -999,9,   2132.1,2,   2281.7,2,   7.7190,    25.00,2,  -0.5005
  77DN20020420,   GNS,    52,  1,     18,2,20020518, 203, 74.9987, -12.1593, 1523,    100.4,  -0.0523,  34.5974,2,  34.5889,2,    312.8,2,     6.30,2,    11.24,2,     0.02,2,     0.78,2, -999.000,9, -999.000,9,    0.487,3,    5.919,3,     1.14,2,   2137.9,2,   2284.4,2,   7.7151,    25.00,2,  -0.0559
  77DN20020420,   GNS,    52,  1,     17,2,20020518, 203, 74.9987, -12.1593, 1523,    124.6,  -0.2909,  34.6290,2,  34.6212,2,    311.2,2,     5.56,2,    10.85,2,     0.02,2,     0.75,2, -999.000,9, -999.000,9,    0.397,3,    5.203,3,     -999,9,   2136.3,2,   2283.6,2,   7.7219,    25.00,2,  -0.2951
  77DN20020420,   GNS,    52,  1,     14,2,20020518, 203, 74.9987, -12.1593, 1523,    175.5,   0.8275,  34.7920,2,  34.7919,2,    302.6,2,     6.22,2,    12.17,2,     0.02,2,     0.83,2, -999.000,9, -999.000,9,    0.389,3,    4.821,3,     1.03,2,   2147.8,2,   2291.2,2,   7.7151,    25.00,2,   0.8198
  77DN20020420,   GNS,    52,  1,     13,2,20020518, 203, 74.9987, -12.1593, 1523,    249.8,   0.9540,  34.8670,2,  34.8590,2,    303.9,2,     5.76,2,    12.14,2,     0.03,2,     0.82,2, -999.000,9, -999.000,9,    0.339,3,    4.456,3,     -999,9,   2147.7,2,   2298.4,2,   7.7228,    25.00,2,   0.9426
  77DN20020420,   GNS,    52,  1,     12,2,20020518, 203, 74.9987, -12.1593, 1523,    300.4,   0.9937,  34.8955,2,  34.8865,2,    312.4,2,     5.70,2,    12.17,2,     0.03,2,     0.83,2, -999.000,9, -999.000,9,    0.329,3,    4.511,3,     0.45,2,   2147.2,2,   2300.2,2,   7.7247,    25.00,2,   0.9797
  77DN20020420,   GNS,    52,  1,     11,2,20020518, 203, 74.9987, -12.1593, 1523,    400.3,   1.1594,  34.9382,2,  34.9276,2,    310.8,2,     5.59,2,    12.24,2,     0.02,2,     0.82,2, -999.000,9, -999.000,9,    0.335,3,    3.292,3,     0.74,2,   2145.3,2,   2301.1,2,   7.7256,    25.00,2,   1.1398
  77DN20020420,   GNS,    52,  1,      8,2,20020518, 203, 74.9987, -12.1593, 1523,    600.6,   0.3725,  34.9110,2,  34.9028,2,    302.2,2,     6.25,2,    12.59,2,     0.02,2,     0.82,2, -999.000,9, -999.000,9,    0.314,3,    2.919,3,     0.58,2,   2158.6,2,   2299.5,2,   7.7150,    25.00,2,   0.3460
  77DN20020420,   GNS,    52,  1,      7,2,20020518, 203, 74.9987, -12.1593, 1523,    800.4,   0.0973,  34.9229,2,  34.9134,2,    319.9,2,     6.18,2,    12.71,2,     0.02,2,     0.86,2, -999.000,9, -999.000,9,    0.307,3,    2.905,3,     1.52,2,   2155.0,2,   2299.3,2,   7.7102,    25.00,2,   0.0623
  77DN20020420,   GNS,    52,  1,      4,2,20020518, 203, 74.9987, -12.1593, 1523,   1000.5,  -0.1883,  34.9172,2,  34.9085,2,    324.4,2,     6.33,2,    12.91,2,     0.02,2,     0.87,2, -999.000,9, -999.000,9,    0.249,3,    2.366,3,     1.84,2,   2155.4,2,   2300.5,2,   7.7034,    25.00,2,  -0.2314
  77DN20020420,   GNS,    52,  1,      3,2,20020518, 203, 74.9987, -12.1593, 1523,   1200.6,  -0.5661,  34.9001,2,  34.8907,2,    313.7,2,     7.95,2,    13.55,2,     0.02,2,     0.91,2, -999.000,9, -999.000,9,    0.232,3,    2.217,3,     2.04,2,   2158.0,2,   2295.6,2,   7.6977,    25.00,2,  -0.6163
  77DN20020420,   GNS,    52,  1,      2,2,20020518, 203, 74.9987, -12.1593, 1523,   1412.3,  -0.7146,  34.9124,2,  34.9031,2,    302.9,2,    10.07,2,    14.35,2,     0.02,2,     0.96,2, -999.000,9, -999.000,9,    0.230,3,    1.695,3,     0.46,2,   2157.9,2,   2299.4,2,   7.7025,    25.00,2,  -0.7746
  77DN20020420,   GNS,    52,  1,      1,2,20020518, 203, 74.9987, -12.1593, 1523,   1511.9,  -0.7271,  34.9136,2,  34.9026,2,    303.8,2,    10.30,2,    14.44,2,     0.02,2,     0.95,2, -999.000,9, -999.000,9,    0.219,3,    1.514,3,     0.23,2,   2158.4,2,   2301.2,2,   7.7025,    25.00,2,  -0.7925
  77DN20020420,   GNS,    53,  1,     19,2,20020518, 526, 75.0018, -12.5160, 1002,     10.1,  -1.8071,  34.3001,2,  34.3042,2,    340.4,2,     4.77,2,     8.94,2,     0.02,2,     0.67,2, -999.000,9, -999.000,9, -999.000,9, -999.000,9,     -999,9,   2122.0,2,   2270.1,2,   7.7278,    25.00,2,  -1.8073
  77DN20020420,   GNS,    53,  1,     18,2,20020518, 526, 75.0018, -12.5160, 1002,     20.0,  -1.8070,  34.3000,2,  34.3044,2,    341.3,2,     4.79,2,     9.13,2,     0.03,2,     0.65,2,    6.750,2,    3.400,2,    0.550,3,    8.555,3,     1.87,2,   -999.0,2,   2270.4,2,   7.7278,    25.00,2,  -1.8074
  77DN20020420,   GNS,    53,  1,     17,2,20020518, 526, 75.0018, -12.5160, 1002,     30.2,  -1.8121,  34.3039,2,  34.3083,2,    342.7,2,     4.78,2,     9.14,2,     0.02,2,     0.67,2, -999.000,9, -999.000,9, -999.000,9, -999.000,9,     -999,9,   2129.9,2,   2270.1,2,   7.7278,    25.00,2,  -1.8127
  77DN20020420,   GNS,    53,  1,     16,2,20020518, 526, 75.0018, -12.5160, 1002,     40.2,  -1.7911,  34.3219,2,  34.3278,2,    339.9,2,     4.84,2,     9.04,2,     0.02,2,     0.65,2,    6.640,2,    3.360,2,    0.539,3,    7.189,3,     1.67,2,   -999.0,2,   2271.9,2,   7.7249,    25.00,2,  -1.7919
  77DN20020420,   GNS,    53,  1,     13,2,20020518, 526, 75.0018, -12.5160, 1002,     60.1,  -1.7039,  34.3412,2,  34.3448,2,    341.4,2,     5.56,2,     9.22,2,     0.03,2,     0.68,2, -999.000,9, -999.000,9, -999.000,9, -999.000,9,     -999,9,   -999.0,2,   2272.8,2,   7.7258,    25.00,2,  -1.7051
  77DN20020420,   GNS,    53,  1,     12,2,20020518, 526, 75.0018, -12.5160, 1002,     80.2,  -1.5990,  34.3643,2,  34.3692,2,    339.5,2,     5.11,2,     9.46,2,     0.03,2,     0.69,2,    6.440,2,    3.330,2,    0.520,3,    6.670,3,     1.69,2,   2130.6,2,   2273.1,2,   7.7200,    25.00,2,  -1.6007
  77DN20020420,   GNS,    53,  1,     11,2,20020518, 526, 75.0018, -12.5160, 1002,    100.1,  -1.3734,  34.4010,2,  34.4084,2,    336.4,2,     5.41,2,    10.02,2,     0.02,2,     0.70,2, -999.000,9, -999.000,9, -999.000,9, -999.000,9,     -999,9,   -999.0,2,   2271.9,2,   7.7239,    25.00,2,  -1.3758
  77DN20020420,   GNS,    53,  1,     10,2,20020518, 526, 75.0018, -12.5160, 1002,    124.9,  -0.8273,  34.4767,2,  34.4824,2,    326.4,2,     5.91,2,    10.64,2,     0.02,2,     0.74,2,    5.880,2,    3.030,2,    0.508,3,    5.865,3,     1.59,2,   2133.7,2,   2275.6,2,   7.7200,    25.00,2,  -0.8309
  77DN20020420,   GNS,    53,  1,      9,2,20020518, 526, 75.0018, -12.5160, 1002,    174.3,   0.1108,  34.6616,2,  34.6738,2,    316.9,2,     6.16,2,    11.51,2,     0.02,2,     0.79,2,    5.270,2,    2.760,2,    0.435,3,    5.523,3,     1.44,2,   -999.0,2,   2282.9,2,   7.7190,    25.00,2,   0.1042
  77DN20020420,   GNS,    53,  1,      8,2,20020518, 526, 75.0018, -12.5160, 1002,    224.9,   1.3021,  34.8443,2,  34.8498,2,    304.1,2,     6.58,2,    12.42,2,     0.02,2,     0.83,2,    4.650,2,    2.480,2,    0.320,3,    5.453,3,     1.26,2,   2144.4,2,   2291.9,2,   7.7228,    25.00,2,   1.2912
  77DN20020420,   GNS,    53,  1,      7,2,20020518, 526, 75.0018, -12.5160, 1002,    275.1,   1.2718,  34.8900,2,  34.8949,2,    305.9,2,     7.23,2,    12.42,2,     0.01,2,     0.83,2,    4.510,2,    2.400,2,    0.359,3,    4.756,3,     1.24,2,   -999.0,2,   2294.7,2,   7.7247,    25.00,2,   1.2584
  77DN20020420,   GNS,    53,  1,      5,2,20020518, 526, 75.0018, -12.5160, 1002,    450.3,   1.0841,  34.9336,2,  34.9378,2,    312.2,2,     6.33,2,    12.32,2,     0.01,2,     0.81,2,    4.410,2,    2.470,2,    0.501,3,    3.954,3,     1.21,2,   2147.4,2,   2298.6,2,   7.7276,    25.00,2,   1.0621
  77DN20020420,   GNS,    53,  1,      4,2,20020518, 526, 75.0018, -12.5160, 1002,    600.0,   0.3699,  34.9145,2,  34.9178,2,    310.4,2,     6.64,2,    12.45,2,     0.02,2,     0.84,2,    3.690,2,    2.000,2,    0.293,3,    3.226,3,      1.1,2,   -999.0,2,   2302.0,2,   7.7150,    25.00,2,   0.3434
  77DN20020420,   GNS,    53,  1,      3,2,20020518, 526, 75.0018, -12.5160, 1002,    749.8,   0.0690,  34.9163,2,  34.9197,2,    312.8,2,     6.72,2,    12.84,2,     0.01,2,     0.86,2,    3.710,2,    2.010,2,    0.294,3,    3.139,3,     1.21,2,   2153.8,2,   2298.3,2,   7.7102,    25.00,2,   0.0367
  77DN20020420,   GNS,    53,  1,      2,2,20020518, 526, 75.0018, -12.5160, 1002,    888.7,  -0.1859,  34.9125,2,  34.9157,2,    311.7,2,     7.31,2,    13.15,2,     0.02,2,     0.88,2, -999.000,9, -999.000,9, -999.000,9, -999.000,9,     1.26,2,   -999.0,2,   2299.5,2,   7.7063,    25.00,2,  -0.2234
  77DN20020420,   GNS,    53,  1,      1,2,20020518, 526, 75.0018, -12.5160, 1002,    988.6,  -0.2112,  34.9119,2,  34.9142,2,    311.3,2,     7.30,2,    13.21,2,     0.02,2,     0.88,2,    3.250,2,    1.770,2,    0.260,3,    3.021,3,     1.19,2,   2159.4,2,   2298.3,2,   7.7083,    25.00,2,  -0.2535