BOTTLE,20090923WHPSIOMYS
EXPOCODE,SECT_ID,STNNBR,CASTNO,SAMPNO,BTLNBR,BTLNBR_FLAG_W,DATE,TIME,LATITUDE,LONGITUDE,DEPTH,CTDRAW,CTDPRS,CTDTMP,CTDSAL,CTDSAL_FLAG_W,SALNTY,SALNTY_FLAG_W,CTDOXY,CTDOXY_FLAG_W,THETA,OXYGEN,OXYGEN_FLAG_W,SILCAT,SILCAT_FLAG_W,NO2+NO3,NO2+NO3_FLAG_W,PHSPHT,PHSPHT_FLAG_W,REVPRS,REVTMP
,,,,,,,,,,,,,DBAR,ITS-90,PSS-78,,PSS-78,,UMOL/KG,,ITS-90,UMOL/KG,,UMOL/KG,,UMOL/KG,,UMOL/KG,,DBAR,DEG C
     33KB170_1,  PRS2,     2,  6,     20,     41,3,20050615,0258, 22.7500,-157.9995, 4749,      8,      7.9,  25.3908,  35.2274,2,  35.2249,2,    208.7,1, 25.3891,   -999.0,9,  -999.00,9,  -999.00,9,  -999.00,9,  -999.0,-999.000
     33KB170_1,  PRS2,     2,  6,     19,     19,2,20050615,0258, 22.7500,-157.9995, 4749,     15,     15.1,  25.2293,  35.2211,2,  35.2188,2,    208.7,1, 25.2260,   -999.0,9,  -999.00,9,  -999.00,9,  -999.00,9,  -999.0,-999.000
     33KB170_1,  PRS2,     2,  6,     16,     34,2,20050615,0258, 22.7500,-157.9995, 4749,     23,     24.2,  24.9429,  35.2343,2,-999.0000,5,    211.1,1, 24.9377,   -999.0,9,  -999.00,9,  -999.00,9,  -999.00,9,  -999.0,-999.000
     33KB170_1,  PRS2,     2,  6,     14,    101,2,20050615,0258, 22.7500,-157.9995, 4749,     25,     24.3,  24.9426,  35.2340,2,-999.0000,5,    211.1,1, 24.9373,   -999.0,9,  -999.00,9,  -999.00,9,  -999.00,9,  -999.0,-999.000
     33KB170_1,  PRS2,     2,  6,     12,     12,2,20050615,0258, 22.7500,-157.9995, 4749,     24,     24.3,  24.9853,  35.2363,2,  35.2310,2,    211.3,1, 24.9800,   -999.0,9,  -999.00,9,  -999.00,9,  -999.00,9,  -999.0,-999.000
     33KB170_1,  PRS2,     2,  6,     17,     17,2,20050615,0258, 22.7500,-157.9995, 4749,     24,     24.4,  24.9417,  35.2343,2,-999.0000,5,    208.7,1, 24.9365,   -999.0,9,  -999.00,9,  -999.00,9,  -999.00,9,  -999.0,-999.000
     33KB170_1,  PRS2,     2,  6,     15,    102,2,20050615,0258, 22.7500,-157.9995, 4749,     24,     24.4,  24.9426,  35.2339,2,-999.0000,5,    211.1,1, 24.9373,   -999.0,9,  -999.00,9,  -999.00,9,  -999.00,9,  -999.0,-999.000
     33KB170_1,  PRS2,     2,  6,     18,     18,2,20050615,0258, 22.7500,-157.9995, 4749,     25,     24.5,  24.9428,  35.2342,2,  35.2318,2,    208.7,1, 24.9375,   -999.0,9,  -999.00,9,  -999.00,9,  -999.00,9,  -999.0,-999.000
     33KB170_1,  PRS2,     2,  6,     13,     42,2,20050615,0258, 22.7500,-157.9995, 4749,     25,     24.5,  24.9436,  35.2344,2,-999.0000,5,    211.2,1, 24.9383,   -999.0,9,  -999.00,9,  -999.00,9,  -999.00,9,  -999.0,-999.000
     33KB170_1,  PRS2,     2,  6,     10,     33,3,20050615,0258, 22.7500,-157.9995, 4749,     35,     35.4,  24.6915,  35.2358,2,  35.2383,2,    214.4,1, 24.6839,   -999.0,9,  -999.00,9,  -999.00,9,  -999.00,9,  -999.0,-999.000
     33KB170_1,  PRS2,     2,  6,     11,     39,2,20050615,0258, 22.7500,-157.9995, 4749,     36,     35.7,  24.6854,  35.2359,2,  35.2331,2,    214.1,1, 24.6777,   -999.0,9,  -999.00,9,  -999.00,9,  -999.00,9,  -999.0,-999.000
     33KB170_1,  PRS2,     2,  6,      9,      3,2,20050615,0258, 22.7500,-157.9995, 4749,     44,     44.5,  23.4874,  35.2329,2,  35.2325,2,    226.2,1, 23.4781,   -999.0,9,  -999.00,9,  -999.00,9,  -999.00,9,  -999.0,-999.000
     33KB170_1,  PRS2,     2,  6,      8,     29,2,20050615,0258, 22.7500,-157.9995, 4749,     62,     60.7,  22.7895,  35.2234,2,  35.2213,2,    224.9,1, 22.7772,   -999.0,9,  -999.00,9,  -999.00,9,  -999.00,9,  -999.0,-999.000
     33KB170_1,  PRS2,     2,  6,      7,     28,2,20050615,0258, 22.7500,-157.9995, 4749,     76,     75.0,  21.7481,  35.2007,2,  35.1993,2,    223.0,1, 21.7334,   -999.0,9,  -999.00,9,  -999.00,9,  -999.00,9,  -999.0,-999.000
     33KB170_1,  PRS2,     2,  6,      6,     13,2,20050615,0258, 22.7500,-157.9995, 4749,    100,    100.1,  20.4649,  35.1343,2,  35.1321,2,    216.8,1, 20.4461,   -999.0,9,  -999.00,9,  -999.00,9,  -999.00,9,  -999.0,-999.000
     33KB170_1,  PRS2,     2,  6,      5,     38,3,20050615,0258, 22.7500,-157.9995, 4749,    125,    124.5,  19.6835,  35.0918,2,  35.0925,2,    218.2,1, 19.6608,   -999.0,9,  -999.00,9,  -999.00,9,  -999.00,9,  -999.0,-999.000
     33KB170_1,  PRS2,     2,  6,      4,     36,2,20050615,0258, 22.7500,-157.9995, 4749,    150,    149.5,  18.4794,  34.8711,2,  34.8735,2,    187.7,1, 18.4532,   -999.0,9,  -999.00,9,  -999.00,9,  -999.00,9,  -999.0,-999.000
     33KB170_1,  PRS2,     2,  6,      3,     35,2,20050615,0258, 22.7500,-157.9995, 4749,    174,    175.1,  17.2300,  34.7660,2,  34.7646,2,    215.2,1, 17.2009,   -999.0,9,  -999.00,9,  -999.00,9,  -999.00,9,  -999.0,-999.000
     33KB170_1,  PRS2,     2,  6,      2,      7,2,20050615,0258, 22.7500,-157.9995, 4749,    516,    515.4,   6.5787,  34.0361,2,  34.0409,2,    106.2,1,  6.5317,   -999.0,9,  -999.00,9,  -999.00,9,  -999.00,9,  -999.0,-999.000
     33KB170_1,  PRS2,     2,  6,      1,     11,2,20050615,0258, 22.7500,-157.9995, 4749,   1018,   1018.2,   4.0143,  34.4755,2,  34.4760,2,     42.4,1,  3.9371,   -999.0,9,  -999.00,9,  -999.00,9,  -999.00,9,  -999.0,-999.000
     33KB170_1,  PRS2,     2,  7,     22,     22,3,20050615,0558, 22.7013,-157.9887, 4745,      7,      6.8,  25.3448,  35.2308,2,  35.2290,2,    208.5,1, 25.3433,   -999.0,9,  -999.00,9,  -999.00,9,  -999.00,9,  -999.0,-999.000
     33KB170_1,  PRS2,     2,  7,     21,     21,2,20050615,0558, 22.7013,-157.9887, 4745,      7,      6.8,  25.3532,  35.2307,2,  35.2276,2,    208.6,1, 25.3518,   -999.0,9,  -999.00,9,  -999.00,9,  -999.00,9,  -999.0,-999.000
     33KB170_1,  PRS2,     2,  7,     20,     41,3,20050615,0558, 22.7013,-157.9887, 4745,     25,     25.3,  25.1547,  35.2533,2,  35.2546,2,    209.7,1, 25.1492,   -999.0,9,  -999.00,9,  -999.00,9,  -999.00,9,  -999.0,-999.000
     33KB170_1,  PRS2,     2,  7,     19,     19,2,20050615,0558, 22.7013,-157.9887, 4745,     26,     25.3,  25.1613,  35.2503,2,  35.2576,2,    209.8,1, 25.1558,   -999.0,9,  -999.00,9,  -999.00,9,  -999.00,9,  -999.0,-999.000
     33KB170_1,  PRS2,     2,  7,     18,     18,2,20050615,0558, 22.7013,-157.9887, 4745,     46,     45.3,  24.1548,  35.2262,2,  35.2219,2,    219.3,1, 24.1452,   -999.0,9,  -999.00,9,  -999.00,9,  -999.00,9,  -999.0,-999.000
     33KB170_1,  PRS2,     2,  7,     17,     17,2,20050615,0558, 22.7013,-157.9887, 4745,     46,     45.6,  24.1739,  35.2233,2,  35.2223,2,    219.6,1, 24.1643,   -999.0,9,  -999.00,9,  -999.00,9,  -999.00,9,  -999.0,-999.000
     33KB170_1,  PRS2,     2,  7,     16,     34,2,20050615,0558, 22.7013,-157.9887, 4745,     61,     60.4,  23.2124,  35.2297,2,  35.2298,2,    225.2,1, 23.2000,   -999.0,9,  -999.00,9,  -999.00,9,  -999.00,9,  -999.0,-999.000
     33KB170_1,  PRS2,     2,  7,     14,    101,2,20050615,0558, 22.7013,-157.9887, 4745,     74,     74.6,  22.6069,  35.2209,2,  35.2190,2,    224.2,1, 22.5919,   -999.0,9,  -999.00,9,  -999.00,9,  -999.00,9,  -999.0,-999.000
     33KB170_1,  PRS2,     2,  7,     15,    102,2,20050615,0558, 22.7013,-157.9887, 4745,     75,     74.9,  22.6126,  35.2210,2,  35.2186,2,    224.2,1, 22.5975,   -999.0,9,  -999.00,9,  -999.00,9,  -999.00,9,  -999.0,-999.000
     33KB170_1,  PRS2,     2,  7,     13,     42,2,20050615,0558, 22.7013,-157.9887, 4745,     85,     84.7,  22.0261,  35.2096,2,  35.2130,2,    223.9,1, 22.0094,   -999.0,9,  -999.00,9,  -999.00,9,  -999.00,9,  -999.0,-999.000
     33KB170_1,  PRS2,     2,  7,     11,     39,2,20050615,0558, 22.7013,-157.9887, 4745,    101,    100.3,  21.1411,  35.1732,2,  35.1809,2,    226.0,1, 21.1218,   -999.0,9,  -999.00,9,  -999.00,9,  -999.00,9,  -999.0,-999.000
     33KB170_1,  PRS2,     2,  7,     12,     12,3,20050615,0558, 22.7013,-157.9887, 4745,    101,    100.4,  21.1367,  35.1732,2,  35.1823,2,    226.1,1, 21.1174,   -999.0,9,  -999.00,9,  -999.00,9,  -999.00,9,  -999.0,-999.000
     33KB170_1,  PRS2,     2,  7,     10,     33,2,20050615,0558, 22.7013,-157.9887, 4745,    115,    114.6,  20.5691,  35.1443,2,  35.1441,2,    205.6,1, 20.5475,   -999.0,9,  -999.00,9,  -999.00,9,  -999.00,9,  -999.0,-999.000
     33KB170_1,  PRS2,     2,  7,      9,      3,2,20050615,0558, 22.7013,-157.9887, 4745,    125,    124.7,  20.2818,  35.1253,2,  35.1234,2,    213.0,1, 20.2586,   -999.0,9,  -999.00,9,  -999.00,9,  -999.00,9,  -999.0,-999.000
     33KB170_1,  PRS2,     2,  7,      8,     29,2,20050615,0558, 22.7013,-157.9887, 4745,    125,    124.7,  20.2727,  35.1244,2,  35.1224,2,    212.8,1, 20.2494,   -999.0,9,  -999.00,9,  -999.00,9,  -999.00,9,  -999.0,-999.000
     33KB170_1,  PRS2,     2,  7,      7,     28,2,20050615,0558, 22.7013,-157.9887, 4745,    136,    135.2,  19.8955,  35.0948,2,  35.0994,2,    212.8,1, 19.8706,   -999.0,9,  -999.00,9,  -999.00,9,  -999.00,9,  -999.0,-999.000
     33KB170_1,  PRS2,     2,  7,      6,     13,2,20050615,0558, 22.7013,-157.9887, 4745,    151,    150.2,  18.9444,  34.9483,2,  34.9488,2,    196.4,1, 18.9177,   -999.0,9,  -999.00,9,  -999.00,9,  -999.00,9,  -999.0,-999.000
     33KB170_1,  PRS2,     2,  7,      5,     38,2,20050615,0558, 22.7013,-157.9887, 4745,    151,    150.2,  18.9426,  34.9476,2,  34.9481,2,    194.3,1, 18.9159,   -999.0,9,  -999.00,9,  -999.00,9,  -999.00,9,  -999.0,-999.000
     33KB170_1,  PRS2,     2,  7,      4,     36,2,20050615,0558, 22.7013,-157.9887, 4745,    176,    175.2,  18.0141,  34.8676,2,  34.8641,2,    210.1,1, 17.9841,   -999.0,9,  -999.00,9,  -999.00,9,  -999.00,9,  -999.0,-999.000
     33KB170_1,  PRS2,     2,  7,      3,     35,2,20050615,0558, 22.7013,-157.9887, 4745,    175,    175.3,  18.0140,  34.8674,2,  34.8668,2,    210.7,1, 17.9840,   -999.0,9,  -999.00,9,  -999.00,9,  -999.00,9,  -999.0,-999.000
     33KB170_1,  PRS2,     2,  7,      2,      7,2,20050615,0558, 22.7013,-157.9887, 4745,    520,    520.3,   6.7309,  34.0346,2,  34.0339,2,    116.5,1,  6.6829,   -999.0,9,  -999.00,9,  -999.00,9,  -999.00,9,  -999.0,-999.000
     33KB170_1,  PRS2,     2,  7,      1,     11,2,20050615,0558, 22.7013,-157.9887, 4745,   1020,   1019.9,   3.9554,  34.4882,2,  34.4875,2,     43.9,1,  3.8785,   -999.0,9,  -999.00,9,  -999.00,9,  -999.00,9,  -999.0,-999.000
     33KB170_1,  PRS2,     2,  8,     19,     19,2,20050615,0909, 22.6672,-158.0078, 4757,      4,      4.5,  25.3166,  35.2465,2,  35.2483,2,    208.5,2, 25.3156,    208.5,2,  -999.00,9,  -999.00,9,  -999.00,9,  -999.0,-999.000
     33KB170_1,  PRS2,     2,  8,     20,     41,2,20050615,0909, 22.6672,-158.0078, 4757,      5,      4.8,  25.3166,  35.2464,2,  35.2448,2,    208.5,2, 25.3155,   -999.0,5,  -999.00,9,  -999.00,9,  -999.00,9,  -999.0,-999.000
     33KB170_1,  PRS2,     2,  8,     18,     18,2,20050615,0909, 22.6672,-158.0078, 4757,     15,     13.4,  25.3104,  35.2467,2,  35.2479,2,    208.8,2, 25.3075,   -999.0,5,  -999.00,9,  -999.00,9,  -999.00,9,  -999.0,-999.000
     33KB170_1,  PRS2,     2,  8,     17,     17,2,20050615,0909, 22.6672,-158.0078, 4757,     25,     25.0,  25.3152,  35.2460,2,  35.2485,2,    208.8,2, 25.3097,   -999.0,5,  -999.00,9,  -999.00,9,  -999.00,9,  -999.0,-999.000
     33KB170_1,  PRS2,     2,  8,     16,     34,2,20050615,0909, 22.6672,-158.0078, 4757,     25,     25.0,  25.3157,  35.2462,2,  35.2505,2,    208.9,2, 25.3102,    208.6,2,  -999.00,9,  -999.00,9,  -999.00,9,  -999.0,-999.000
     33KB170_1,  PRS2,     2,  8,     15,    102,2,20050615,0909, 22.6672,-158.0078, 4757,     35,     34.9,  25.3170,  35.2470,2,  35.2613,2,    208.9,2, 25.3093,   -999.0,5,  -999.00,9,  -999.00,9,  -999.00,9,  -999.0,-999.000
     33KB170_1,  PRS2,     2,  8,     14,    101,2,20050615,0909, 22.6672,-158.0078, 4757,     46,     45.9,  23.8839,  35.2303,2,  35.2349,2,    222.5,2, 23.8743,    220.5,2,  -999.00,9,  -999.00,9,  -999.00,9,  -999.0,-999.000
     33KB170_1,  PRS2,     2,  8,     13,     42,2,20050615,0909, 22.6672,-158.0078, 4757,     60,     59.8,  23.1531,  35.2345,2,  35.2337,2,    223.5,2, 23.1408,   -999.0,5,  -999.00,9,  -999.00,9,  -999.00,9,  -999.0,-999.000
     33KB170_1,  PRS2,     2,  8,     12,     12,2,20050615,0909, 22.6672,-158.0078, 4757,     75,     75.3,  22.4794,  35.2254,2,  35.2329,2,    221.1,2, 22.4643,    223.1,2,  -999.00,9,  -999.00,9,  -999.00,9,  -999.0,-999.000
     33KB170_1,  PRS2,     2,  8,     11,     39,2,20050615,0909, 22.6672,-158.0078, 4757,     84,     84.3,  22.2370,  35.2155,2,  35.2211,2,    223.0,2, 22.2202,    221.5,2,  -999.00,9,  -999.00,9,  -999.00,9,  -999.0,-999.000
     33KB170_1,  PRS2,     2,  8,     10,     33,2,20050615,0909, 22.6672,-158.0078, 4757,    100,     99.7,  21.4649,  35.1876,2,  35.1882,2,    219.4,2, 21.4455,    225.1,3,  -999.00,9,  -999.00,9,  -999.00,9,  -999.0,-999.000
     33KB170_1,  PRS2,     2,  8,      9,      3,2,20050615,0909, 22.6672,-158.0078, 4757,    116,    115.9,  20.8768,  35.1414,2,  35.1417,2,    204.1,2, 20.8547,    204.9,2,  -999.00,9,  -999.00,9,  -999.00,9,  -999.0,-999.000
     33KB170_1,  PRS2,     2,  8,      8,     29,2,20050615,0909, 22.6672,-158.0078, 4757,    125,    123.9,  20.4468,  35.1210,2,  35.1193,2,    206.6,2, 20.4235,    207.3,2,  -999.00,9,  -999.00,9,  -999.00,9,  -999.0,-999.000
     33KB170_1,  PRS2,     2,  8,      7,     28,2,20050615,0909, 22.6672,-158.0078, 4757,    151,    150.8,  19.1027,  34.9516,2,  34.9563,2,    185.0,2, 19.0758,    192.7,2,  -999.00,9,  -999.00,9,  -999.00,9,  -999.0,-999.000
     33KB170_1,  PRS2,     2,  8,      6,     13,2,20050615,0909, 22.6672,-158.0078, 4757,    164,    164.6,  18.7419,  34.9576,2,  34.9573,2,    212.3,2, 18.7129,    205.0,2,  -999.00,9,  -999.00,9,  -999.00,9,  -999.0,-999.000
     33KB170_1,  PRS2,     2,  8,      5,     38,2,20050615,0909, 22.6672,-158.0078, 4757,    175,    174.8,  18.5826,  34.9369,2,  34.9388,2,    209.5,2, 18.5520,    204.4,2,  -999.00,9,  -999.00,9,  -999.00,9,  -999.0,-999.000
     33KB170_1,  PRS2,     2,  8,      4,     36,2,20050615,0909, 22.6672,-158.0078, 4757,    201,    200.8,  16.8762,  34.6602,2,  34.6584,2,    195.9,2, 16.8433,    197.0,2,  -999.00,9,  -999.00,9,  -999.00,9,  -999.0,-999.000
     33KB170_1,  PRS2,     2,  8,      3,     35,2,20050615,0909, 22.6672,-158.0078, 4757,    490,    489.8,   6.8495,  34.0338,2,  34.0333,2,    122.0,2,  6.8040,    117.6,2,  -999.00,9,  -999.00,9,  -999.00,9,  -999.0,-999.000
     33KB170_1,  PRS2,     2,  8,      2,      7,2,20050615,0909, 22.6672,-158.0078, 4757,    719,    719.8,   4.7012,  34.2430,2,  34.2395,2,     24.2,2,  4.6446,     23.5,2,  -999.00,9,  -999.00,9,  -999.00,9,  -999.0,-999.000
     33KB170_1,  PRS2,     2,  8,      1,     11,2,20050615,0909, 22.6672,-158.0078, 4757,   1020,   1020.1,   4.0589,  34.4928,2,  34.4932,2,     42.0,2,  3.9811,     42.0,2,  -999.00,9,  -999.00,9,  -999.00,9,  -999.0,-999.000
     33KB170_1,  PRS2,     2,  9,     22,     22,2,20050615,1257, 22.6585,-158.0273, 4771,     13,     13.3,  25.2488,  35.2334,2,  35.2323,2,    215.3,1, 25.2459,   -999.0,9,  -999.00,9,  -999.00,9,  -999.00,9,  -999.0,-999.000
     33KB170_1,  PRS2,     2,  9,     21,     21,2,20050615,1257, 22.6585,-158.0273, 4771,     14,     13.5,  25.2505,  35.2334,2,  35.2347,2,    215.3,1, 25.2476,   -999.0,9,  -999.00,9,  -999.00,9,  -999.00,9,  -999.0,-999.000
     33KB170_1,  PRS2,     2,  9,     20,     41,3,20050615,1257, 22.6585,-158.0273, 4771,     14,     13.5,  25.2537,  35.2338,2,  35.2329,2,    215.3,1, 25.2507,   -999.0,9,  -999.00,9,  -999.00,9,  -999.00,9,  -999.0,-999.000
     33KB170_1,  PRS2,     2,  9,     17,     17,2,20050615,1257, 22.6585,-158.0273, 4771,     25,     24.9,  25.2501,  35.2342,2,  35.2440,2,    215.0,1, 25.2446,   -999.0,9,  -999.00,9,  -999.00,9,  -999.00,9,  -999.0,-999.000
     33KB170_1,  PRS2,     2,  9,     18,     18,2,20050615,1257, 22.6585,-158.0273, 4771,     25,     25.0,  25.2530,  35.2342,2,  35.2345,2,    215.1,1, 25.2475,   -999.0,9,  -999.00,9,  -999.00,9,  -999.00,9,  -999.0,-999.000
     33KB170_1,  PRS2,     2,  9,     19,     19,2,20050615,1257, 22.6585,-158.0273, 4771,     26,     25.2,  25.2517,  35.2340,2,  35.2320,2,    215.2,1, 25.2462,   -999.0,9,  -999.00,9,  -999.00,9,  -999.00,9,  -999.0,-999.000
     33KB170_1,  PRS2,     2,  9,     15,    102,2,20050615,1257, 22.6585,-158.0273, 4771,     43,     43.7,  23.2883,  35.2277,2,  35.2266,2,    226.1,1, 23.2793,   -999.0,9,  -999.00,9,  -999.00,9,  -999.00,9,  -999.0,-999.000
     33KB170_1,  PRS2,     2,  9,     14,    101,2,20050615,1257, 22.6585,-158.0273, 4771,     44,     43.7,  23.2774,  35.2270,2,  35.2361,2,    226.4,1, 23.2684,   -999.0,9,  -999.00,9,  -999.00,9,  -999.00,9,  -999.0,-999.000
     33KB170_1,  PRS2,     2,  9,     16,     34,2,20050615,1257, 22.6585,-158.0273, 4771,     43,     43.8,  23.2731,  35.2274,2,  35.2349,2,    225.7,1, 23.2641,   -999.0,9,  -999.00,9,  -999.00,9,  -999.00,9,  -999.0,-999.000
     33KB170_1,  PRS2,     2,  9,     13,     42,2,20050615,1257, 22.6585,-158.0273, 4771,     75,     74.9,  21.7513,  35.2020,2,  35.2004,2,    223.1,1, 21.7367,   -999.0,9,  -999.00,9,  -999.00,9,  -999.00,9,  -999.0,-999.000
     33KB170_1,  PRS2,     2,  9,     12,     12,2,20050615,1257, 22.6585,-158.0273, 4771,     76,     75.2,  21.7514,  35.2018,2,  35.2054,2,    223.0,1, 21.7366,   -999.0,9,  -999.00,9,  -999.00,9,  -999.00,9,  -999.0,-999.000
     33KB170_1,  PRS2,     2,  9,     11,     39,2,20050615,1257, 22.6585,-158.0273, 4771,     75,     75.2,  21.7519,  35.2020,2,  35.2006,2,    222.9,1, 21.7371,   -999.0,9,  -999.00,9,  -999.00,9,  -999.00,9,  -999.0,-999.000
     33KB170_1,  PRS2,     2,  9,      9,      3,2,20050615,1257, 22.6585,-158.0273, 4771,    100,     99.5,  20.5858,  35.1427,2,  35.1433,2,    209.2,1, 20.5670,   -999.0,9,  -999.00,9,  -999.00,9,  -999.00,9,  -999.0,-999.000
     33KB170_1,  PRS2,     2,  9,      8,     29,2,20050615,1257, 22.6585,-158.0273, 4771,     99,     99.5,  20.5880,  35.1421,2,  35.1394,2,    208.5,1, 20.5692,   -999.0,9,  -999.00,9,  -999.00,9,  -999.00,9,  -999.0,-999.000
     33KB170_1,  PRS2,     2,  9,     10,     33,2,20050615,1257, 22.6585,-158.0273, 4771,    100,     99.7,  20.5837,  35.1411,2,  35.1400,2,    209.8,1, 20.5649,   -999.0,9,  -999.00,9,  -999.00,9,  -999.00,9,  -999.0,-999.000
     33KB170_1,  PRS2,     2,  9,      6,     13,2,20050615,1257, 22.6585,-158.0273, 4771,    125,    125.0,  19.5904,  35.0612,2,  35.0671,2,    202.9,1, 19.5676,   -999.0,9,  -999.00,9,  -999.00,9,  -999.00,9,  -999.0,-999.000
     33KB170_1,  PRS2,     2,  9,      7,     28,2,20050615,1257, 22.6585,-158.0273, 4771,    125,    125.1,  19.5892,  35.0613,2,  35.0626,2,    203.1,1, 19.5664,   -999.0,9,  -999.00,9,  -999.00,9,  -999.00,9,  -999.0,-999.000
     33KB170_1,  PRS2,     2,  9,      5,     38,2,20050615,1257, 22.6585,-158.0273, 4771,    125,    125.1,  19.5996,  35.0627,2,  35.0634,2,    202.1,1, 19.5768,   -999.0,9,  -999.00,9,  -999.00,9,  -999.00,9,  -999.0,-999.000
     33KB170_1,  PRS2,     2,  9,      4,     36,2,20050615,1257, 22.6585,-158.0273, 4771,    150,    149.8,  18.6491,  34.9441,2,  34.9414,2,    207.8,1, 18.6228,   -999.0,9,  -999.00,9,  -999.00,9,  -999.00,9,  -999.0,-999.000
     33KB170_1,  PRS2,     2,  9,      3,     35,2,20050615,1257, 22.6585,-158.0273, 4771,    176,    175.5,  17.5246,  34.7746,2,  34.7809,2,    211.7,1, 17.4950,   -999.0,9,  -999.00,9,  -999.00,9,  -999.00,9,  -999.0,-999.000
     33KB170_1,  PRS2,     2,  9,      2,      7,2,20050615,1257, 22.6585,-158.0273, 4771,    500,    500.4,   6.8537,  34.0314,2,  34.0305,2,    122.1,1,  6.8071,   -999.0,9,  -999.00,9,  -999.00,9,  -999.00,9,  -999.0,-999.000
     33KB170_1,  PRS2,     2,  9,      1,     11,2,20050615,1257, 22.6585,-158.0273, 4771,   1021,   1020.5,   3.9810,  34.4998,2,  34.4995,2,     43.6,1,  3.9038,   -999.0,9,  -999.00,9,  -999.00,9,  -999.00,9,  -999.0,-999.000