BOTTLE,20090923WHPSIOMYS
EXPOCODE,SECT_ID,STNNBR,CASTNO,SAMPNO,BTLNBR,BTLNBR_FLAG_W,DATE,TIME,LATITUDE,LONGITUDE,DEPTH,CTDRAW,CTDPRS,CTDTMP,CTDSAL,CTDSAL_FLAG_W,SALNTY,SALNTY_FLAG_W,CTDOXY,CTDOXY_FLAG_W,THETA,OXYGEN,OXYGEN_FLAG_W,SILCAT,SILCAT_FLAG_W,NO2+NO3,NO2+NO3_FLAG_W,PHSPHT,PHSPHT_FLAG_W,REVPRS,REVTMP
,,,,,,,,,,,,,DBAR,ITS-90,PSS-78,,PSS-78,,UMOL/KG,,ITS-90,UMOL/KG,,UMOL/KG,,UMOL/KG,,UMOL/KG,,DBAR,DEG C
     33KB170_1,  PRS2,     2, 10,     24,     23,2,20050615,1756, 22.7500,-157.9998, 4746,     11,     11.6,  25.0035,  35.3114,2,  35.3133,2,    209.6,1, 25.0010,   -999.0,9,  -999.00,9,  -999.00,9,  -999.00,9,  -999.0,-999.000
     33KB170_1,  PRS2,     2, 10,     23,     30,2,20050615,1756, 22.7500,-157.9998, 4746,     11,     11.6,  25.0037,  35.3114,2,  35.3163,2,    209.6,1, 25.0012,   -999.0,9,  -999.00,9,  -999.00,9,  -999.00,9,  -999.0,-999.000
     33KB170_1,  PRS2,     2, 10,     22,     22,2,20050615,1756, 22.7500,-157.9998, 4746,     26,     25.0,  24.9921,  35.3091,2,  35.3104,2,    209.6,1, 24.9867,   -999.0,9,  -999.00,9,  -999.00,9,  -999.00,9,  -999.0,-999.000
     33KB170_1,  PRS2,     2, 10,     21,     21,2,20050615,1756, 22.7500,-157.9998, 4746,     25,     25.1,  24.9942,  35.3095,2,  35.3171,2,    209.6,1, 24.9888,   -999.0,9,  -999.00,9,  -999.00,9,  -999.00,9,  -999.0,-999.000
     33KB170_1,  PRS2,     2, 10,     19,     19,2,20050615,1756, 22.7500,-157.9998, 4746,     44,     44.8,  23.2885,  35.2183,2,  35.2168,2,    219.4,1, 23.2792,   -999.0,9,  -999.00,9,  -999.00,9,  -999.00,9,  -999.0,-999.000
     33KB170_1,  PRS2,     2, 10,     20,     41,2,20050615,1756, 22.7500,-157.9998, 4746,     44,     44.9,  23.2845,  35.2186,2,  35.2192,2,    219.6,1, 23.2753,   -999.0,9,  -999.00,9,  -999.00,9,  -999.00,9,  -999.0,-999.000
     33KB170_1,  PRS2,     2, 10,     18,     18,2,20050615,1756, 22.7500,-157.9998, 4746,     76,     75.1,  22.0127,  35.2179,2,  35.2154,2,    214.9,1, 21.9978,   -999.0,9,  -999.00,9,  -999.00,9,  -999.00,9,  -999.0,-999.000
     33KB170_1,  PRS2,     2, 10,     17,     17,2,20050615,1756, 22.7500,-157.9998, 4746,     75,     75.1,  21.9916,  35.2167,2,  35.2176,2,    214.5,1, 21.9768,   -999.0,9,  -999.00,9,  -999.00,9,  -999.00,9,  -999.0,-999.000
     33KB170_1,  PRS2,     2, 10,     16,     34,2,20050615,1756, 22.7500,-157.9998, 4746,    100,    100.0,  20.8777,  35.1738,2,  35.1725,2,    213.6,1, 20.8587,   -999.0,9,  -999.00,9,  -999.00,9,  -999.00,9,  -999.0,-999.000
     33KB170_1,  PRS2,     2, 10,     15,    102,2,20050615,1756, 22.7500,-157.9998, 4746,    100,    100.0,  20.8772,  35.1739,2,  35.1733,2,    213.6,1, 20.8582,   -999.0,9,  -999.00,9,  -999.00,9,  -999.00,9,  -999.0,-999.000
     33KB170_1,  PRS2,     2, 10,      9,      3,2,20050615,1756, 22.7500,-157.9998, 4746,    109,    109.3,  20.3083,  35.1159,2,-999.0000,5,    195.1,1, 20.2879,   -999.0,9,  -999.00,9,  -999.00,9,  -999.00,9,  -999.0,-999.000
     33KB170_1,  PRS2,     2, 10,     14,    101,2,20050615,1756, 22.7500,-157.9998, 4746,    112,    109.6,  20.2795,  35.1122,2,  35.1132,2,    198.8,1, 20.2590,   -999.0,9,  -999.00,9,  -999.00,9,  -999.00,9,  -999.0,-999.000
     33KB170_1,  PRS2,     2, 10,     13,     42,2,20050615,1756, 22.7500,-157.9998, 4746,    111,    109.6,  20.2960,  35.1160,2,-999.0000,5,    197.5,1, 20.2755,   -999.0,9,  -999.00,9,  -999.00,9,  -999.00,9,  -999.0,-999.000
     33KB170_1,  PRS2,     2, 10,     12,     12,2,20050615,1756, 22.7500,-157.9998, 4746,    111,    109.6,  20.3134,  35.1179,2,-999.0000,5,    196.5,1, 20.2929,   -999.0,9,  -999.00,9,  -999.00,9,  -999.00,9,  -999.0,-999.000
     33KB170_1,  PRS2,     2, 10,     11,     39,2,20050615,1756, 22.7500,-157.9998, 4746,    111,    109.7,  20.3179,  35.1174,2,-999.0000,5,    195.7,1, 20.2974,   -999.0,9,  -999.00,9,  -999.00,9,  -999.00,9,  -999.0,-999.000
     33KB170_1,  PRS2,     2, 10,     10,     33,2,20050615,1756, 22.7500,-157.9998, 4746,    111,    109.7,  20.3096,  35.1155,2,-999.0000,5,    195.2,1, 20.2891,   -999.0,9,  -999.00,9,  -999.00,9,  -999.00,9,  -999.0,-999.000
     33KB170_1,  PRS2,     2, 10,      8,     29,2,20050615,1756, 22.7500,-157.9998, 4746,    126,    125.6,  19.7642,  35.0841,2,  35.0827,2,    205.2,1, 19.7412,   -999.0,9,  -999.00,9,  -999.00,9,  -999.00,9,  -999.0,-999.000
     33KB170_1,  PRS2,     2, 10,      7,     28,2,20050615,1756, 22.7500,-157.9998, 4746,    126,    125.7,  19.7601,  35.0838,2,  35.0823,2,    205.7,1, 19.7370,   -999.0,9,  -999.00,9,  -999.00,9,  -999.00,9,  -999.0,-999.000
     33KB170_1,  PRS2,     2, 10,      5,     38,2,20050615,1756, 22.7500,-157.9998, 4746,    150,    150.1,  18.8230,  35.0102,2,  35.0112,2,    216.4,1, 18.7964,   -999.0,9,  -999.00,9,  -999.00,9,  -999.00,9,  -999.0,-999.000
     33KB170_1,  PRS2,     2, 10,      6,     13,2,20050615,1756, 22.7500,-157.9998, 4746,    151,    150.3,  18.8229,  35.0104,2,  35.0138,2,    216.2,1, 18.7963,   -999.0,9,  -999.00,9,  -999.00,9,  -999.00,9,  -999.0,-999.000
     33KB170_1,  PRS2,     2, 10,      3,     35,2,20050615,1756, 22.7500,-157.9998, 4746,    175,    175.4,  17.3934,  34.7782,2,  34.7777,2,    200.3,1, 17.3641,   -999.0,9,  -999.00,9,  -999.00,9,  -999.00,9,  -999.0,-999.000
     33KB170_1,  PRS2,     2, 10,      4,     36,2,20050615,1756, 22.7500,-157.9998, 4746,    176,    175.6,  17.3822,  34.7756,2,  34.7791,2,    200.6,1, 17.3528,   -999.0,9,  -999.00,9,  -999.00,9,  -999.00,9,  -999.0,-999.000
     33KB170_1,  PRS2,     2, 10,      2,      7,2,20050615,1756, 22.7500,-157.9998, 4746,    526,    524.6,   6.6819,  34.0363,2,  34.0349,2,    110.8,1,  6.6337,   -999.0,9,  -999.00,9,  -999.00,9,  -999.00,9,  -999.0,-999.000
     33KB170_1,  PRS2,     2, 10,      1,     11,2,20050615,1756, 22.7500,-157.9998, 4746,   1019,   1019.8,   3.8075,  34.4939,2,  34.4924,2,     46.2,1,  3.7317,   -999.0,9,  -999.00,9,  -999.00,9,  -999.00,9,  -999.0,-999.000
     33KB170_1,  PRS2,     2, 11,     18,     18,2,20050615,2056, 22.7482,-157.9888, 4745,     14,     13.2,  25.0438,  35.3040,2,  35.3068,2,    209.7,1, 25.0409,   -999.0,9,  -999.00,9,  -999.00,9,  -999.00,9,  -999.0,-999.000
     33KB170_1,  PRS2,     2, 11,     17,     17,2,20050615,2056, 22.7482,-157.9888, 4745,     14,     13.4,  25.0427,  35.3038,2,  35.3064,2,    209.7,1, 25.0398,   -999.0,9,  -999.00,9,  -999.00,9,  -999.00,9,  -999.0,-999.000
     33KB170_1,  PRS2,     2, 11,     16,     34,2,20050615,2056, 22.7482,-157.9888, 4745,     25,     24.8,  25.0230,  35.3032,2,  35.3098,2,    209.5,1, 25.0177,   -999.0,9,  -999.00,9,  -999.00,9,  -999.00,9,  -999.0,-999.000
     33KB170_1,  PRS2,     2, 11,     15,    102,2,20050615,2056, 22.7482,-157.9888, 4745,     46,     45.2,  23.2804,  35.2157,2,  35.2130,2,    220.6,1, 23.2711,   -999.0,9,  -999.00,9,  -999.00,9,  -999.00,9,  -999.0,-999.000
     33KB170_1,  PRS2,     2, 11,     14,    101,2,20050615,2056, 22.7482,-157.9888, 4745,     47,     45.3,  23.2691,  35.2149,2,  35.2247,2,    220.7,1, 23.2598,   -999.0,9,  -999.00,9,  -999.00,9,  -999.00,9,  -999.0,-999.000
     33KB170_1,  PRS2,     2, 11,     13,     42,2,20050615,2056, 22.7482,-157.9888, 4745,     60,     58.8,  22.7799,  35.2126,2,  35.2111,2,    219.9,1, 22.7680,   -999.0,9,  -999.00,9,  -999.00,9,  -999.00,9,  -999.0,-999.000
     33KB170_1,  PRS2,     2, 11,     11,     39,2,20050615,2056, 22.7482,-157.9888, 4745,     74,     74.0,  22.1104,  35.2113,2,  35.2085,2,    213.2,1, 22.0958,   -999.0,9,  -999.00,9,  -999.00,9,  -999.00,9,  -999.0,-999.000
     33KB170_1,  PRS2,     2, 11,     12,     12,2,20050615,2056, 22.7482,-157.9888, 4745,     74,     74.1,  22.1069,  35.2112,2,  35.2180,2,    213.4,1, 22.0922,   -999.0,9,  -999.00,9,  -999.00,9,  -999.00,9,  -999.0,-999.000
     33KB170_1,  PRS2,     2, 11,     10,     33,2,20050615,2056, 22.7482,-157.9888, 4745,     86,     85.3,  21.7260,  35.2039,2,  35.2016,2,    215.1,1, 21.7092,   -999.0,9,  -999.00,9,  -999.00,9,  -999.00,9,  -999.0,-999.000
     33KB170_1,  PRS2,     2, 11,      9,      3,2,20050615,2056, 22.7482,-157.9888, 4745,    100,     99.4,  21.1210,  35.1819,2,  35.1800,2,    216.5,1, 21.1019,   -999.0,9,  -999.00,9,  -999.00,9,  -999.00,9,  -999.0,-999.000
     33KB170_1,  PRS2,     2, 11,      8,     29,2,20050615,2056, 22.7482,-157.9888, 4745,    113,    113.3,  20.6389,  35.1559,2,  35.1595,2,    206.7,1, 20.6175,   -999.0,9,  -999.00,9,  -999.00,9,  -999.00,9,  -999.0,-999.000
     33KB170_1,  PRS2,     2, 11,      7,     28,2,20050615,2056, 22.7482,-157.9888, 4745,    120,    119.5,  20.4378,  35.1301,2,  35.1311,2,    203.9,1, 20.4154,   -999.0,9,  -999.00,9,  -999.00,9,  -999.00,9,  -999.0,-999.000
     33KB170_1,  PRS2,     2, 11,      6,     13,2,20050615,2056, 22.7482,-157.9888, 4745,    126,    125.3,  20.0527,  35.0797,2,  35.0819,2,    190.8,1, 20.0295,   -999.0,9,  -999.00,9,  -999.00,9,  -999.00,9,  -999.0,-999.000
     33KB170_1,  PRS2,     2, 11,      5,     38,2,20050615,2056, 22.7482,-157.9888, 4745,    150,    150.7,  19.1342,  35.0186,2,  35.0171,2,    207.7,1, 19.1072,   -999.0,9,  -999.00,9,  -999.00,9,  -999.00,9,  -999.0,-999.000
     33KB170_1,  PRS2,     2, 11,      4,     36,2,20050615,2056, 22.7482,-157.9888, 4745,    176,    175.5,  18.0723,  34.8931,2,  34.8991,2,    206.1,1, 18.0422,   -999.0,9,  -999.00,9,  -999.00,9,  -999.00,9,  -999.0,-999.000
     33KB170_1,  PRS2,     2, 11,      3,     35,2,20050615,2056, 22.7482,-157.9888, 4745,    200,    199.5,  17.0160,  34.7418,2,  34.7396,2,    212.1,1, 16.9831,   -999.0,9,  -999.00,9,  -999.00,9,  -999.00,9,  -999.0,-999.000
     33KB170_1,  PRS2,     2, 11,      2,      7,2,20050615,2056, 22.7482,-157.9888, 4745,    525,    525.6,   6.9934,  34.0492,2,  34.0486,2,    110.1,1,  6.9438,   -999.0,9,  -999.00,9,  -999.00,9,  -999.00,9,  -999.0,-999.000
     33KB170_1,  PRS2,     2, 11,      1,     11,2,20050615,2056, 22.7482,-157.9888, 4745,   1021,   1020.5,   3.8627,  34.4861,2,  34.4856,2,     44.7,1,  3.7865,   -999.0,9,  -999.00,9,  -999.00,9,  -999.00,9,  -999.0,-999.000
     33KB170_1,  PRS2,     2, 12,     23,     30,2,20050615,2355, 22.7482,-157.9888, 4743,     12,     12.0,  25.2143,  35.3054,2,  35.3033,2,    209.2,1, 25.2117,   -999.0,9,  -999.00,9,  -999.00,9,  -999.00,9,  -999.0,-999.000
     33KB170_1,  PRS2,     2, 12,     22,     22,2,20050615,2355, 22.7482,-157.9888, 4743,     24,     24.3,  25.0525,  35.3032,2,  35.3033,2,    209.2,1, 25.0473,   -999.0,9,  -999.00,9,  -999.00,9,  -999.00,9,  -999.0,-999.000
     33KB170_1,  PRS2,     2, 12,     21,     21,2,20050615,2355, 22.7482,-157.9888, 4743,     46,     45.2,  23.6871,  35.2028,2,  35.2174,3,    224.1,1, 23.6776,   -999.0,9,  -999.00,9,  -999.00,9,  -999.00,9,  -999.0,-999.000
     33KB170_1,  PRS2,     2, 12,     20,     41,2,20050615,2355, 22.7482,-157.9888, 4743,     74,     73.7,  22.7675,  35.2099,2,  35.2156,2,    215.6,1, 22.7526,   -999.0,9,  -999.00,9,  -999.00,9,  -999.00,9,  -999.0,-999.000
     33KB170_1,  PRS2,     2, 12,     19,     19,2,20050615,2355, 22.7482,-157.9888, 4743,    100,    100.0,  21.5175,  35.1976,2,  35.1957,2,    216.6,1, 21.4980,   -999.0,9,  -999.00,9,  -999.00,9,  -999.00,9,  -999.0,-999.000
     33KB170_1,  PRS2,     2, 12,     18,     18,2,20050615,2355, 22.7482,-157.9888, 4743,    124,    124.2,  20.6526,  35.1594,2,  35.1605,2,    208.6,1, 20.6291,   -999.0,9,  -999.00,9,  -999.00,9,  -999.00,9,  -999.0,-999.000
     33KB170_1,  PRS2,     2, 12,     17,     17,2,20050615,2355, 22.7482,-157.9888, 4743,    151,    150.0,  19.2366,  35.0274,2,  35.0264,2,    204.8,1, 19.2096,   -999.0,9,  -999.00,9,  -999.00,9,  -999.00,9,  -999.0,-999.000
     33KB170_1,  PRS2,     2, 12,     16,     34,2,20050615,2355, 22.7482,-157.9888, 4743,    175,    174.3,  18.3741,  34.9528,2,  34.9512,2,    223.4,1, 18.3438,   -999.0,9,  -999.00,9,  -999.00,9,  -999.00,9,  -999.0,-999.000
     33KB170_1,  PRS2,     2, 12,     15,    102,2,20050615,2355, 22.7482,-157.9888, 4743,    200,    199.5,  16.7036,  34.6963,2,  34.6989,2,    210.3,1, 16.6712,   -999.0,9,  -999.00,9,  -999.00,9,  -999.00,9,  -999.0,-999.000
     33KB170_1,  PRS2,     2, 12,     14,    101,3,20050615,2355, 22.7482,-157.9888, 4743,    249,    248.9,  13.5197,  34.2490,2,  34.2517,2,    199.8,1, 13.4848,   -999.0,9,  -999.00,9,  -999.00,9,  -999.00,9,  -999.0,-999.000
     33KB170_1,  PRS2,     2, 12,     13,     42,2,20050615,2355, 22.7482,-157.9888, 4743,    349,    349.7,  10.6983,  34.1964,2,  34.1958,2,    208.2,1, 10.6561,   -999.0,9,  -999.00,9,  -999.00,9,  -999.00,9,  -999.0,-999.000
     33KB170_1,  PRS2,     2, 12,     12,     12,2,20050615,2355, 22.7482,-157.9888, 4743,    349,    350.0,  10.6975,  34.1959,2,  34.1962,2,    208.2,1, 10.6552,   -999.0,9,  -999.00,9,  -999.00,9,  -999.00,9,  -999.0,-999.000
     33KB170_1,  PRS2,     2, 12,     11,     39,2,20050615,2355, 22.7482,-157.9888, 4743,    500,    499.7,   7.0504,  34.0374,2,  34.0364,2,    123.5,1,  7.0032,   -999.0,9,  -999.00,9,  -999.00,9,  -999.00,9,  -999.0,-999.000
     33KB170_1,  PRS2,     2, 12,     10,     33,2,20050615,2355, 22.7482,-157.9888, 4743,    750,    750.1,   4.5540,  34.2834,2,-999.0000,5,     23.6,1,  4.4957,   -999.0,9,  -999.00,9,  -999.00,9,  -999.00,9,  -999.0,-999.000
     33KB170_1,  PRS2,     2, 12,      4,     36,2,20050615,2355, 22.7482,-157.9888, 4743,   1020,   1019.6,   3.9707,  34.4735,2,-999.0000,5,     42.0,1,  3.8937,   -999.0,9,  -999.00,9,  -999.00,9,  -999.00,9,  -999.0,-999.000
     33KB170_1,  PRS2,     2, 12,      3,     35,2,20050615,2355, 22.7482,-157.9888, 4743,   1022,   1019.6,   3.9712,  34.4736,2,-999.0000,5,     42.0,1,  3.8942,   -999.0,9,  -999.00,9,  -999.00,9,  -999.00,9,  -999.0,-999.000
     33KB170_1,  PRS2,     2, 12,      2,      7,2,20050615,2355, 22.7482,-157.9888, 4743,   1020,   1019.7,   3.9714,  34.4735,2,-999.0000,5,     42.0,1,  3.8943,   -999.0,9,  -999.00,9,  -999.00,9,  -999.00,9,  -999.0,-999.000
     33KB170_1,  PRS2,     2, 12,      9,      3,2,20050615,2355, 22.7482,-157.9888, 4743,   1021,   1019.8,   3.9697,  34.4737,2,  34.4728,2,     42.0,1,  3.8926,   -999.0,9,  -999.00,9,  -999.00,9,  -999.00,9,  -999.0,-999.000
     33KB170_1,  PRS2,     2, 12,      5,     38,2,20050615,2355, 22.7482,-157.9888, 4743,   1019,   1019.8,   3.9699,  34.4738,2,-999.0000,5,     42.0,1,  3.8929,   -999.0,9,  -999.00,9,  -999.00,9,  -999.00,9,  -999.0,-999.000
     33KB170_1,  PRS2,     2, 12,      1,     11,2,20050615,2355, 22.7482,-157.9888, 4743,   1020,   1019.8,   3.9714,  34.4736,2,  34.4748,2,     42.0,1,  3.8943,   -999.0,9,  -999.00,9,  -999.00,9,  -999.00,9,  -999.0,-999.000
     33KB170_1,  PRS2,     2, 12,      8,     29,2,20050615,2355, 22.7482,-157.9888, 4743,   1020,   1019.9,   3.9697,  34.4736,2,-999.0000,5,     42.0,1,  3.8926,   -999.0,9,  -999.00,9,  -999.00,9,  -999.00,9,  -999.0,-999.000
     33KB170_1,  PRS2,     2, 12,      7,     28,2,20050615,2355, 22.7482,-157.9888, 4743,   1020,   1020.0,   3.9700,  34.4737,2,-999.0000,5,     42.0,1,  3.8930,   -999.0,9,  -999.00,9,  -999.00,9,  -999.00,9,  -999.0,-999.000
     33KB170_1,  PRS2,     2, 12,      6,     13,2,20050615,2355, 22.7482,-157.9888, 4743,   1020,   1020.0,   3.9702,  34.4736,2,-999.0000,5,     42.0,1,  3.8932,   -999.0,9,  -999.00,9,  -999.00,9,  -999.00,9,  -999.0,-999.000
     33KB170_1,  PRS2,     2, 13,     14,    101,2,20050616,0259, 22.6855,-158.0150, 4765,      7,      6.2,  25.1395,  35.3110,2,  35.3084,2,    209.3,1, 25.1381,   -999.0,9,  -999.00,9,  -999.00,9,  -999.00,9,  -999.0,-999.000
     33KB170_1,  PRS2,     2, 13,     13,     42,2,20050616,0259, 22.6855,-158.0150, 4765,     25,     24.5,  25.0166,  35.3072,2,  35.3047,2,    210.2,1, 25.0112,   -999.0,9,  -999.00,9,  -999.00,9,  -999.00,9,  -999.0,-999.000
     33KB170_1,  PRS2,     2, 13,     12,     12,2,20050616,0259, 22.6855,-158.0150, 4765,     45,     44.4,  23.6072,  35.2145,2,  35.2136,2,    222.7,1, 23.5980,   -999.0,9,  -999.00,9,  -999.00,9,  -999.00,9,  -999.0,-999.000
     33KB170_1,  PRS2,     2, 13,     11,     39,2,20050616,0259, 22.6855,-158.0150, 4765,     76,     74.9,  22.1299,  35.2237,2,  35.2213,2,    216.7,1, 22.1150,   -999.0,9,  -999.00,9,  -999.00,9,  -999.00,9,  -999.0,-999.000
     33KB170_1,  PRS2,     2, 13,     10,     33,2,20050616,0259, 22.6855,-158.0150, 4765,    100,    100.2,  20.7078,  35.1611,2,  35.1583,2,    212.6,1, 20.6889,   -999.0,9,  -999.00,9,  -999.00,9,  -999.00,9,  -999.0,-999.000
     33KB170_1,  PRS2,     2, 13,      9,      3,2,20050616,0259, 22.6855,-158.0150, 4765,    125,    125.1,  19.5718,  35.0616,2,  35.0594,2,    203.2,1, 19.5491,   -999.0,9,  -999.00,9,  -999.00,9,  -999.00,9,  -999.0,-999.000
     33KB170_1,  PRS2,     2, 13,      8,     29,2,20050616,0259, 22.6855,-158.0150, 4765,    150,    150.1,  18.8619,  35.0251,2,  35.0240,2,    219.5,1, 18.8352,   -999.0,9,  -999.00,9,  -999.00,9,  -999.00,9,  -999.0,-999.000
     33KB170_1,  PRS2,     2, 13,      7,     28,2,20050616,0259, 22.6855,-158.0150, 4765,    175,    175.1,  16.7129,  34.6477,2,  34.6474,2,    189.7,1, 16.6844,   -999.0,9,  -999.00,9,  -999.00,9,  -999.00,9,  -999.0,-999.000
     33KB170_1,  PRS2,     2, 13,      6,     13,2,20050616,0259, 22.6855,-158.0150, 4765,    200,    199.8,  15.2671,  34.4873,2,  34.4938,2,    214.2,1, 15.2366,   -999.0,9,  -999.00,9,  -999.00,9,  -999.00,9,  -999.0,-999.000
     33KB170_1,  PRS2,     2, 13,      5,     38,2,20050616,0259, 22.6855,-158.0150, 4765,    250,    249.9,  12.4307,  34.1906,2,  34.1871,2,    195.8,1, 12.3975,   -999.0,9,  -999.00,9,  -999.00,9,  -999.00,9,  -999.0,-999.000
     33KB170_1,  PRS2,     2, 13,      4,     36,2,20050616,0259, 22.6855,-158.0150, 4765,    349,    349.0,  10.3975,  34.1852,2,  34.1836,2,    205.9,1, 10.3561,   -999.0,9,  -999.00,9,  -999.00,9,  -999.00,9,  -999.0,-999.000
     33KB170_1,  PRS2,     2, 13,      3,     35,2,20050616,0259, 22.6855,-158.0150, 4765,    349,    349.0,  10.3973,  34.1851,2,  34.1840,2,    205.8,1, 10.3559,   -999.0,9,  -999.00,9,  -999.00,9,  -999.00,9,  -999.0,-999.000
     33KB170_1,  PRS2,     2, 13,      2,      7,2,20050616,0259, 22.6855,-158.0150, 4765,    510,    509.8,   6.9316,  34.0404,2,  34.0409,2,    116.5,1,  6.8838,   -999.0,9,  -999.00,9,  -999.00,9,  -999.00,9,  -999.0,-999.000
     33KB170_1,  PRS2,     2, 13,      1,     11,2,20050616,0259, 22.6855,-158.0150, 4765,   1019,   1019.9,   4.0341,  34.4770,2,  34.4789,2,     41.9,1,  3.9566,   -999.0,9,  -999.00,9,  -999.00,9,  -999.00,9,  -999.0,-999.000