BOTTLE,20090923WHPSIOMYS
EXPOCODE,SECT_ID,STNNBR,CASTNO,SAMPNO,BTLNBR,BTLNBR_FLAG_W,DATE,TIME,LATITUDE,LONGITUDE,DEPTH,CTDRAW,CTDPRS,CTDTMP,CTDSAL,CTDSAL_FLAG_W,SALNTY,SALNTY_FLAG_W,CTDOXY,CTDOXY_FLAG_W,THETA,OXYGEN,OXYGEN_FLAG_W,SILCAT,SILCAT_FLAG_W,NO2+NO3,NO2+NO3_FLAG_W,PHSPHT,PHSPHT_FLAG_W,REVPRS,REVTMP
,,,,,,,,,,,,,DBAR,ITS-90,PSS-78,,PSS-78,,UMOL/KG,,ITS-90,UMOL/KG,,UMOL/KG,,UMOL/KG,,UMOL/KG,,DBAR,DEG C
     33KB170_1,  PRS2,     2, 14,     17,     17,3,20050616,0633, 22.6675,-158.0298, 4768,      7,      7.1,  25.0627,  35.3079,2,  35.3051,2,    209.5,1, 25.0612,   -999.0,9,  -999.00,9,  -999.00,9,  -999.00,9,  -999.0,-999.000
     33KB170_1,  PRS2,     2, 14,     16,     34,2,20050616,0633, 22.6675,-158.0298, 4768,      8,      7.3,  25.0623,  35.3082,2,  35.3056,2,    209.5,1, 25.0607,   -999.0,9,  -999.00,9,  -999.00,9,  -999.00,9,  -999.0,-999.000
     33KB170_1,  PRS2,     2, 14,     15,    102,2,20050616,0633, 22.6675,-158.0298, 4768,     26,     25.3,  25.0638,  35.3072,2,  35.3062,2,    209.5,1, 25.0583,   -999.0,9,  -999.00,9,  -999.00,9,  -999.00,9,  -999.0,-999.000
     33KB170_1,  PRS2,     2, 14,     14,    101,2,20050616,0633, 22.6675,-158.0298, 4768,     29,     29.7,  25.0530,  35.3064,2,  35.3053,2,    209.7,1, 25.0465,   -999.0,9,  -999.00,9,  -999.00,9,  -999.00,9,  -999.0,-999.000
     33KB170_1,  PRS2,     2, 14,     13,     42,2,20050616,0633, 22.6675,-158.0298, 4768,     29,     29.7,  25.0683,  35.3079,2,-999.0000,5,    209.7,1, 25.0618,   -999.0,9,  -999.00,9,  -999.00,9,  -999.00,9,  -999.0,-999.000
     33KB170_1,  PRS2,     2, 14,     12,     12,3,20050616,0633, 22.6675,-158.0298, 4768,     30,     29.8,  25.0688,  35.3079,2,-999.0000,5,    209.7,1, 25.0623,   -999.0,9,  -999.00,9,  -999.00,9,  -999.00,9,  -999.0,-999.000
     33KB170_1,  PRS2,     2, 14,     11,     39,2,20050616,0633, 22.6675,-158.0298, 4768,     31,     30.0,  25.0688,  35.3080,2,-999.0000,5,    209.6,1, 25.0622,   -999.0,9,  -999.00,9,  -999.00,9,  -999.00,9,  -999.0,-999.000
     33KB170_1,  PRS2,     2, 14,     10,     33,2,20050616,0633, 22.6675,-158.0298, 4768,     30,     30.0,  25.0698,  35.3080,2,  35.3055,2,    209.6,1, 25.0633,   -999.0,9,  -999.00,9,  -999.00,9,  -999.00,9,  -999.0,-999.000
     33KB170_1,  PRS2,     2, 14,      9,      3,2,20050616,0633, 22.6675,-158.0298, 4768,     45,     45.4,  23.4316,  35.2097,2,  35.2048,2,    223.2,1, 23.4222,   -999.0,9,  -999.00,9,  -999.00,9,  -999.00,9,  -999.0,-999.000
     33KB170_1,  PRS2,     2, 14,      8,     29,2,20050616,0633, 22.6675,-158.0298, 4768,     75,     75.5,  22.4776,  35.2241,2,  35.2239,2,    222.4,1, 22.4625,   -999.0,9,  -999.00,9,  -999.00,9,  -999.00,9,  -999.0,-999.000
     33KB170_1,  PRS2,     2, 14,      7,     28,2,20050616,0633, 22.6675,-158.0298, 4768,    100,    100.1,  21.3705,  35.1860,2,  35.1857,2,    212.8,1, 21.3511,   -999.0,9,  -999.00,9,  -999.00,9,  -999.00,9,  -999.0,-999.000
     33KB170_1,  PRS2,     2, 14,      6,     13,2,20050616,0633, 22.6675,-158.0298, 4768,    125,    125.0,  20.0440,  35.1094,2,  35.1148,2,    201.7,1, 20.0208,   -999.0,9,  -999.00,9,  -999.00,9,  -999.00,9,  -999.0,-999.000
     33KB170_1,  PRS2,     2, 14,      5,     38,2,20050616,0633, 22.6675,-158.0298, 4768,    149,    149.7,  19.0410,  35.0294,2,  35.0256,2,    212.5,1, 19.0143,   -999.0,9,  -999.00,9,  -999.00,9,  -999.00,9,  -999.0,-999.000
     33KB170_1,  PRS2,     2, 14,      4,     36,2,20050616,0633, 22.6675,-158.0298, 4768,    175,    174.8,  18.3153,  34.9270,2,  34.9327,2,    217.5,1, 18.2850,   -999.0,9,  -999.00,9,  -999.00,9,  -999.00,9,  -999.0,-999.000
     33KB170_1,  PRS2,     2, 14,      3,     35,2,20050616,0633, 22.6675,-158.0298, 4768,    281,    280.7,  11.6558,  34.1265,2,  34.1199,2,    195.6,1, 11.6201,   -999.0,9,  -999.00,9,  -999.00,9,  -999.00,9,  -999.0,-999.000
     33KB170_1,  PRS2,     2, 14,      2,      7,2,20050616,0633, 22.6675,-158.0298, 4768,    521,    520.5,   6.5415,  34.0356,2,  34.0374,2,    104.6,1,  6.4942,   -999.0,9,  -999.00,9,  -999.00,9,  -999.00,9,  -999.0,-999.000
     33KB170_1,  PRS2,     2, 14,      1,     11,2,20050616,0633, 22.6675,-158.0298, 4768,   1021,   1019.9,   3.9617,  34.4873,2,  34.4879,2,     43.6,1,  3.8847,   -999.0,9,  -999.00,9,  -999.00,9,  -999.00,9,  -999.0,-999.000
     33KB170_1,  PRS2,     2, 15,     23,     30,2,20050616,0906, 22.7498,-158.0000, 4745,     10,      9.5,  25.0570,  35.2820,2,  35.2804,2,    209.4,2, 25.0549,    209.5,2,  -999.00,9,  -999.00,9,  -999.00,9,  -999.0,-999.000
     33KB170_1,  PRS2,     2, 15,     16,     34,2,20050616,0906, 22.7498,-158.0000, 4745,     13,     14.0,  25.0604,  35.2818,2,-999.0000,5,    210.0,2, 25.0574,   -999.0,5,  -999.00,9,  -999.00,9,  -999.00,9,  -999.0,-999.000
     33KB170_1,  PRS2,     2, 15,     17,     17,2,20050616,0906, 22.7498,-158.0000, 4745,     14,     14.1,  25.0611,  35.2817,2,-999.0000,5,    210.0,2, 25.0580,   -999.0,5,  -999.00,9,  -999.00,9,  -999.00,9,  -999.0,-999.000
     33KB170_1,  PRS2,     2, 15,     15,    102,2,20050616,0906, 22.7498,-158.0000, 4745,     13,     14.1,  25.0605,  35.2818,2,-999.0000,5,    210.1,2, 25.0574,   -999.0,5,  -999.00,9,  -999.00,9,  -999.00,9,  -999.0,-999.000
     33KB170_1,  PRS2,     2, 15,     18,     18,2,20050616,0906, 22.7498,-158.0000, 4745,     14,     14.3,  25.0613,  35.2818,2,-999.0000,5,    209.9,2, 25.0581,   -999.0,5,  -999.00,9,  -999.00,9,  -999.00,9,  -999.0,-999.000
     33KB170_1,  PRS2,     2, 15,     22,     22,3,20050616,0906, 22.7498,-158.0000, 4745,     14,     14.4,  25.0605,  35.2817,2,-999.0000,5,    209.5,2, 25.0574,   -999.0,5,  -999.00,9,  -999.00,9,  -999.00,9,  -999.0,-999.000
     33KB170_1,  PRS2,     2, 15,     21,     21,2,20050616,0906, 22.7498,-158.0000, 4745,     14,     14.4,  25.0616,  35.2817,2,-999.0000,5,    209.6,2, 25.0585,   -999.0,5,  -999.00,9,  -999.00,9,  -999.00,9,  -999.0,-999.000
     33KB170_1,  PRS2,     2, 15,     19,     19,2,20050616,0906, 22.7498,-158.0000, 4745,     14,     14.4,  25.0613,  35.2818,2,-999.0000,5,    209.8,2, 25.0582,   -999.0,5,  -999.00,9,  -999.00,9,  -999.00,9,  -999.0,-999.000
     33KB170_1,  PRS2,     2, 15,     13,     42,2,20050616,0906, 22.7498,-158.0000, 4745,     14,     14.4,  25.0628,  35.2819,2,-999.0000,5,    210.1,2, 25.0596,   -999.0,5,  -999.00,9,  -999.00,9,  -999.00,9,  -999.0,-999.000
     33KB170_1,  PRS2,     2, 15,     12,     12,2,20050616,0906, 22.7498,-158.0000, 4745,     15,     14.4,  25.0643,  35.2817,2,-999.0000,5,    210.2,2, 25.0612,   -999.0,5,  -999.00,9,  -999.00,9,  -999.00,9,  -999.0,-999.000
     33KB170_1,  PRS2,     2, 15,     11,     39,2,20050616,0906, 22.7498,-158.0000, 4745,     15,     14.4,  25.0648,  35.2818,2,  35.2814,2,    210.2,2, 25.0617,   -999.0,5,  -999.00,9,  -999.00,9,  -999.00,9,  -999.0,-999.000
     33KB170_1,  PRS2,     2, 15,     20,     41,3,20050616,0906, 22.7498,-158.0000, 4745,     15,     14.5,  25.0618,  35.2817,2,-999.0000,5,    209.7,2, 25.0586,   -999.0,5,  -999.00,9,  -999.00,9,  -999.00,9,  -999.0,-999.000
     33KB170_1,  PRS2,     2, 15,     14,    101,2,20050616,0906, 22.7498,-158.0000, 4745,     15,     14.5,  25.0621,  35.2818,2,-999.0000,5,    210.1,2, 25.0590,   -999.0,5,  -999.00,9,  -999.00,9,  -999.00,9,  -999.0,-999.000
     33KB170_1,  PRS2,     2, 15,     10,     33,2,20050616,0906, 22.7498,-158.0000, 4745,     59,     60.4,  22.8787,  35.1920,2,  35.1906,2,    216.4,2, 22.8665,    220.3,2,  -999.00,9,  -999.00,9,  -999.00,9,  -999.0,-999.000
     33KB170_1,  PRS2,     2, 15,      9,      3,2,20050616,0906, 22.7498,-158.0000, 4745,    500,    500.0,   7.2123,  34.0388,2,  34.0386,2,    128.9,2,  7.1644,    125.7,2,  -999.00,9,  -999.00,9,  -999.00,9,  -999.0,-999.000
     33KB170_1,  PRS2,     2, 15,      8,     29,2,20050616,0906, 22.7498,-158.0000, 4745,    749,    749.7,   4.5578,  34.2817,2,  34.2799,2,     23.2,2,  4.4995,     22.4,2,  -999.00,9,  -999.00,9,  -999.00,9,  -999.0,-999.000
     33KB170_1,  PRS2,     2, 15,      7,     28,2,20050616,0906, 22.7498,-158.0000, 4745,   2002,   2001.1,   2.1652,  34.6188,2,  34.6181,2,     88.0,2,  2.0262,     88.9,2,  -999.00,9,  -999.00,9,  -999.00,9,  -999.0,-999.000
     33KB170_1,  PRS2,     2, 15,      6,     13,2,20050616,0906, 22.7498,-158.0000, 4745,   2998,   2999.3,   1.5525,  34.6695,2,  34.6698,2,    124.7,2,  1.3347,    124.8,2,  -999.00,9,  -999.00,9,  -999.00,9,  -999.0,-999.000
     33KB170_1,  PRS2,     2, 15,      3,     35,2,20050616,0906, 22.7498,-158.0000, 4745,   4000,   3999.4,   1.4676,  34.6863,2,  34.6883,2,    146.5,2,  1.1497,   -999.0,5,  -999.00,9,  -999.00,9,  -999.00,9,  -999.0,-999.000
     33KB170_1,  PRS2,     2, 15,      4,     36,2,20050616,0906, 22.7498,-158.0000, 4745,   3999,   3999.5,   1.4678,  34.6862,2,  34.6871,2,    146.5,2,  1.1499,   -999.0,5,  -999.00,9,  -999.00,9,  -999.00,9,  -999.0,-999.000
     33KB170_1,  PRS2,     2, 15,      2,      7,2,20050616,0906, 22.7498,-158.0000, 4745,   3999,   3999.6,   1.4676,  34.6862,2,  34.6851,2,    146.5,2,  1.1496,    145.7,2,  -999.00,9,  -999.00,9,  -999.00,9,  -999.0,-999.000
     33KB170_1,  PRS2,     2, 15,      5,     38,2,20050616,0906, 22.7498,-158.0000, 4745,   4000,   3999.7,   1.4678,  34.6862,2,  34.6875,2,    146.5,2,  1.1498,   -999.0,5,  -999.00,9,  -999.00,9,  -999.00,9,  -999.0,-999.000
     33KB170_1,  PRS2,     2, 15,      1,     11,2,20050616,0906, 22.7498,-158.0000, 4745,   4801,   4800.9,   1.5162,  34.6900,2,  34.6903,2,    153.3,2,  1.1054,    160.1,4,  -999.00,9,  -999.00,9,  -999.00,9,  -999.0,-999.000
     33KB170_1,  PRS2,     6,  1,     14,    101,2,20050617,0731, 21.8463,-158.3635, 2436,      9,      8.7,  26.0306,  34.8587,2,  34.8562,2,    205.0,1, 26.0286,   -999.0,9,  -999.00,9,  -999.00,9,  -999.00,9,  -999.0,-999.000
     33KB170_1,  PRS2,     6,  1,     13,     42,2,20050617,0731, 21.8463,-158.3635, 2436,     25,     25.3,  26.0359,  34.8593,2,  34.8589,2,    205.0,1, 26.0302,   -999.0,9,  -999.00,9,  -999.00,9,  -999.00,9,  -999.0,-999.000
     33KB170_1,  PRS2,     6,  1,     12,     12,2,20050617,0731, 21.8463,-158.3635, 2436,     45,     45.1,  25.6254,  35.0825,2,  35.0783,2,    208.8,1, 25.6155,   -999.0,9,  -999.00,9,  -999.00,9,  -999.00,9,  -999.0,-999.000
     33KB170_1,  PRS2,     6,  1,     11,     39,2,20050617,0731, 21.8463,-158.3635, 2436,     75,     75.2,  23.6636,  35.1876,2,  35.1857,2,    220.4,1, 23.6479,   -999.0,9,  -999.00,9,  -999.00,9,  -999.00,9,  -999.0,-999.000
     33KB170_1,  PRS2,     6,  1,     10,     33,2,20050617,0731, 21.8463,-158.3635, 2436,    100,    100.2,  22.3846,  35.2335,2,  35.2322,2,    217.5,1, 22.3645,   -999.0,9,  -999.00,9,  -999.00,9,  -999.00,9,  -999.0,-999.000
     33KB170_1,  PRS2,     6,  1,      9,      3,2,20050617,0731, 21.8463,-158.3635, 2436,    125,    124.9,  21.5921,  35.2192,2,  35.2184,2,    209.0,1, 21.5677,   -999.0,9,  -999.00,9,  -999.00,9,  -999.00,9,  -999.0,-999.000
     33KB170_1,  PRS2,     6,  1,      8,     29,2,20050617,0731, 21.8463,-158.3635, 2436,    150,    150.3,  20.6748,  35.1603,2,  35.1583,2,    198.0,1, 20.6463,   -999.0,9,  -999.00,9,  -999.00,9,  -999.00,9,  -999.0,-999.000
     33KB170_1,  PRS2,     6,  1,      7,     28,2,20050617,0731, 21.8463,-158.3635, 2436,    176,    175.9,  19.2094,  35.0248,2,  35.0250,2,    220.4,1, 19.1778,   -999.0,9,  -999.00,9,  -999.00,9,  -999.00,9,  -999.0,-999.000
     33KB170_1,  PRS2,     6,  1,      6,     13,2,20050617,0731, 21.8463,-158.3635, 2436,    501,    500.7,   6.8998,  34.0781,2,  34.0754,2,     94.1,1,  6.8530,   -999.0,9,  -999.00,9,  -999.00,9,  -999.00,9,  -999.0,-999.000
     33KB170_1,  PRS2,     6,  1,      5,     38,2,20050617,0731, 21.8463,-158.3635, 2436,    700,    700.4,   5.0945,  34.3355,2,  34.3335,2,     25.4,1,  5.0373,   -999.0,9,  -999.00,9,  -999.00,9,  -999.00,9,  -999.0,-999.000
     33KB170_1,  PRS2,     6,  1,      4,     36,2,20050617,0731, 21.8463,-158.3635, 2436,   1000,   1000.5,   4.0699,  34.5028,2,  34.5019,2,     41.1,1,  3.9936,   -999.0,9,  -999.00,9,  -999.00,9,  -999.00,9,  -999.0,-999.000
     33KB170_1,  PRS2,     6,  1,      3,     35,2,20050617,0731, 21.8463,-158.3635, 2436,   1501,   1500.5,   2.9394,  34.5734,2,  34.5728,2,     62.7,1,  2.8323,   -999.0,9,  -999.00,9,  -999.00,9,  -999.00,9,  -999.0,-999.000
     33KB170_1,  PRS2,     6,  1,      2,      7,2,20050617,0731, 21.8463,-158.3635, 2436,   2000,   2000.5,   2.0818,  34.6236,2,  34.6229,2,     90.9,1,  1.9441,   -999.0,9,  -999.00,9,  -999.00,9,  -999.00,9,  -999.0,-999.000
     33KB170_1,  PRS2,     6,  1,      1,     11,2,20050617,0731, 21.8463,-158.3635, 2436,   2447,   2447.1,   1.7467,  34.6504,2,  34.6506,2,    108.4,1,  1.5759,   -999.0,9,  -999.00,9,  -999.00,9,  -999.00,9,  -999.0,-999.000
     33KB170_1,  PRS2,    51,  1,      9,      3,2,20050616,1956, 22.7607,-158.1250, 4785,     33,     32.7,  25.0694,  35.2735,2,-999.0000,5,    209.3,1, 25.0623,   -999.0,9,  -999.00,9,  -999.00,9,  -999.00,9,  -999.0,-999.000
     33KB170_1,  PRS2,    51,  1,      8,     29,2,20050616,1956, 22.7607,-158.1250, 4785,     33,     32.7,  25.0685,  35.2735,2,-999.0000,5,    209.4,1, 25.0614,   -999.0,9,  -999.00,9,  -999.00,9,  -999.00,9,  -999.0,-999.000
     33KB170_1,  PRS2,    51,  1,      6,     13,2,20050616,1956, 22.7607,-158.1250, 4785,     33,     33.0,  25.0663,  35.2723,2,-999.0000,5,    209.6,1, 25.0591,   -999.0,9,  -999.00,9,  -999.00,9,  -999.00,9,  -999.0,-999.000
     33KB170_1,  PRS2,    51,  1,      5,     38,2,20050616,1956, 22.7607,-158.1250, 4785,     33,     33.0,  25.0653,  35.2720,2,-999.0000,5,    209.7,1, 25.0581,   -999.0,9,  -999.00,9,  -999.00,9,  -999.00,9,  -999.0,-999.000
     33KB170_1,  PRS2,    51,  1,      7,     28,2,20050616,1956, 22.7607,-158.1250, 4785,     33,     33.1,  25.0672,  35.2729,2,-999.0000,5,    209.4,1, 25.0600,   -999.0,9,  -999.00,9,  -999.00,9,  -999.00,9,  -999.0,-999.000
     33KB170_1,  PRS2,    51,  1,      3,     35,2,20050616,1956, 22.7607,-158.1250, 4785,    153,    153.7,  19.2930,  35.0007,2,  34.9959,2,    195.6,1, 19.2653,   -999.0,9,  -999.00,9,  -999.00,9,  -999.00,9,  -999.0,-999.000
     33KB170_1,  PRS2,    51,  1,      4,     36,2,20050616,1956, 22.7607,-158.1250, 4785,    153,    153.8,  19.2920,  35.0013,2,-999.0000,5,    195.0,1, 19.2642,   -999.0,9,  -999.00,9,  -999.00,9,  -999.00,9,  -999.0,-999.000
     33KB170_1,  PRS2,    51,  1,      1,     11,2,20050616,1956, 22.7607,-158.1250, 4785,    204,    204.2,  16.6271,  34.6879,2,  34.6887,2,    208.4,1, 16.5939,   -999.0,9,  -999.00,9,  -999.00,9,  -999.00,9,  -999.0,-999.000
     33KB170_1,  PRS2,    51,  1,      2,      7,2,20050616,1956, 22.7607,-158.1250, 4785,    204,    204.3,  16.6234,  34.6881,2,-999.0000,5,    208.6,1, 16.5903,   -999.0,9,  -999.00,9,  -999.00,9,  -999.00,9,  -999.0,-999.000