BOTTLE,20090923WHPSIOMYS
EXPOCODE,SECT_ID,STNNBR,CASTNO,SAMPNO,BTLNBR,BTLNBR_FLAG_W,DATE,TIME,LATITUDE,LONGITUDE,DEPTH,CTDRAW,CTDPRS,CTDTMP,CTDSAL,CTDSAL_FLAG_W,SALNTY,SALNTY_FLAG_W,CTDOXY,CTDOXY_FLAG_W,THETA,OXYGEN,OXYGEN_FLAG_W,SILCAT,SILCAT_FLAG_W,NO2+NO3,NO2+NO3_FLAG_W,PHSPHT,PHSPHT_FLAG_W,REVPRS,REVTMP
,,,,,,,,,,,,,DBAR,ITS-90,PSS-78,,PSS-78,,UMOL/KG,,ITS-90,UMOL/KG,,UMOL/KG,,UMOL/KG,,UMOL/KG,,DBAR,DEG C
     33KB170_1,  PRS2,     2,  3,     24,     23,2,20050614,1446, 22.7497,-157.9997, 4743,     15,     15.1,  25.3118,  35.2465,2,  35.2455,2,    208.5,2, 25.3085,    210.2,2,     1.13,2,     0.05,2,     0.10,2,  -999.0,-999.000
     33KB170_1,  PRS2,     2,  3,     23,     30,2,20050614,1446, 22.7497,-157.9997, 4743,    500,    499.9,   7.2289,  34.0495,2,  34.0546,2,    122.5,2,  7.1809,    107.9,4,    44.70,2,    28.89,2,     2.09,2,  -999.0,-999.000
     33KB170_1,  PRS2,     2,  3,     22,     22,2,20050614,1446, 22.7497,-157.9997, 4743,    750,    749.9,   4.5847,  34.2651,2,  34.2642,2,     23.1,2,  4.5263,     22.4,2,    93.26,2,    41.39,2,     3.05,2,  -999.0,-999.000
     33KB170_1,  PRS2,     2,  3,     21,     21,2,20050614,1446, 22.7497,-157.9997, 4743,   1001,   1001.8,   3.9268,  34.4848,2,  34.4846,2,     43.9,2,  3.8516,     44.1,2,   110.06,2,    41.31,2,     2.99,2,  -999.0,-999.000
     33KB170_1,  PRS2,     2,  3,     20,     41,2,20050614,1446, 22.7497,-157.9997, 4743,   1201,   1200.8,   3.5486,  34.5231,2,  34.5225,2,     51.3,2,  3.4601,     51.8,2,   115.51,3,    41.31,2,     3.01,2,  -999.0,-999.000
     33KB170_1,  PRS2,     2,  3,     19,     19,2,20050614,1446, 22.7497,-157.9997, 4743,   1400,   1400.6,   3.0896,  34.5548,2,  34.5547,2,     61.0,2,  2.9891,     61.4,2,   127.51,2,    41.03,2,     2.96,2,  -999.0,-999.000
     33KB170_1,  PRS2,     2,  3,     18,     18,2,20050614,1446, 22.7497,-157.9997, 4743,   1601,   1600.2,   2.7269,  34.5813,2,  34.5812,2,     69.3,2,  2.6139,     69.9,2,   132.73,3,    40.63,2,     2.93,2,  -999.0,-999.000
     33KB170_1,  PRS2,     2,  3,     17,     17,2,20050614,1446, 22.7497,-157.9997, 4743,   1800,   1799.6,   2.4295,  34.5998,2,  34.5999,2,     78.1,2,  2.3037,     78.5,2,   143.12,2,    40.13,2,     2.88,2,  -999.0,-999.000
     33KB170_1,  PRS2,     2,  3,     16,     34,2,20050614,1446, 22.7497,-157.9997, 4743,   1998,   1999.3,   2.2123,  34.6160,2,  34.6162,2,     86.1,2,  2.0728,     86.7,2,   146.78,3,    39.67,2,     2.82,2,  -999.0,-999.000
     33KB170_1,  PRS2,     2,  3,     15,    102,2,20050614,1446, 22.7497,-157.9997, 4743,   2200,   2200.4,   1.9743,  34.6298,2,  34.6303,2,     93.5,2,  1.8212,     94.0,2,   153.78,2,    39.23,2,     2.79,2,  -999.0,-999.000
     33KB170_1,  PRS2,     2,  3,     14,    101,2,20050614,1446, 22.7497,-157.9997, 4743,   2401,   2401.2,   1.8086,  34.6435,2,  34.6431,2,    101.7,2,  1.6407,    102.1,2,   156.04,2,    38.76,2,     2.75,2,  -999.0,-999.000
     33KB170_1,  PRS2,     2,  3,     13,     42,2,20050614,1446, 22.7497,-157.9997, 4743,   2600,   2599.7,   1.7061,  34.6547,2,  34.6555,2,    111.3,2,  1.5223,    107.3,4,   157.02,2,    37.94,2,     2.70,2,  -999.0,-999.000
     33KB170_1,  PRS2,     2,  3,     12,     12,2,20050614,1446, 22.7497,-157.9997, 4743,   2801,   2800.4,   1.6161,  34.6624,2,  34.6620,2,    117.3,2,  1.4156,    117.8,2,   158.69,2,    37.65,2,     2.66,2,  -999.0,-999.000
     33KB170_1,  PRS2,     2,  3,     11,     39,2,20050614,1446, 22.7497,-157.9997, 4743,   2999,   2999.4,   1.5491,  34.6702,2,  34.6712,2,    125.5,2,  1.3313,    125.8,2,   157.21,2,    37.20,2,     2.62,2,  -999.0,-999.000
     33KB170_1,  PRS2,     2,  3,     10,     33,2,20050614,1446, 22.7497,-157.9997, 4743,   3199,   3199.4,   1.5124,  34.6748,2,  34.6745,2,    130.4,2,  1.2761,    130.6,2,   155.79,2,    36.94,2,     2.59,2,  -999.0,-999.000
     33KB170_1,  PRS2,     2,  3,      9,      3,2,20050614,1446, 22.7497,-157.9997, 4743,   3401,   3400.2,   1.4897,  34.6791,2,  34.6783,2,    134.8,2,  1.2340,    126.9,4,   155.04,2,    36.61,2,     2.61,3,  -999.0,-999.000
     33KB170_1,  PRS2,     2,  3,      8,     29,2,20050614,1446, 22.7497,-157.9997, 4743,   3597,   3598.9,   1.4747,  34.6824,2,  34.6818,2,    139.4,2,  1.1990,    139.6,2,   153.44,2,    36.34,2,     2.54,2,  -999.0,-999.000
     33KB170_1,  PRS2,     2,  3,      7,     28,2,20050614,1446, 22.7497,-157.9997, 4743,   3801,   3801.0,   1.4657,  34.6847,2,  34.6850,2,    143.6,2,  1.1692,    143.8,2,   153.83,2,    36.20,2,     2.57,3,  -999.0,-999.000
     33KB170_1,  PRS2,     2,  3,      6,     13,2,20050614,1446, 22.7497,-157.9997, 4743,   4000,   4000.4,   1.4623,  34.6866,2,  34.6863,2,    146.9,2,  1.1444,    147.3,2,   151.48,2,    35.81,2,     2.51,2,  -999.0,-999.000
     33KB170_1,  PRS2,     2,  3,      5,     38,2,20050614,1446, 22.7497,-157.9997, 4743,   4198,   4198.3,   1.4677,  34.6881,2,  34.6893,2,    149.5,2,  1.1278,    149.4,2,   151.18,2,    35.80,2,     2.53,3,  -999.0,-999.000
     33KB170_1,  PRS2,     2,  3,      4,     36,2,20050614,1446, 22.7497,-157.9997, 4743,   4400,   4400.1,   1.4777,  34.6892,2,  34.6895,2,    151.7,2,  1.1148,    138.9,4,   149.25,2,    35.47,2,     2.47,2,  -999.0,-999.000
     33KB170_1,  PRS2,     2,  3,      3,     35,2,20050614,1446, 22.7497,-157.9997, 4743,   4497,   4497.8,   1.4863,  34.6897,2,  34.6906,2,    152.4,2,  1.1120,    151.7,2,   149.00,2,    35.59,2,     2.48,2,  -999.0,-999.000
     33KB170_1,  PRS2,     2,  3,      2,      7,2,20050614,1446, 22.7497,-157.9997, 4743,   4600,   4600.2,   1.4965,  34.6897,2,  34.6891,2,    152.6,2,  1.1100,    152.5,2,   147.56,2,    35.41,2,     2.48,2,  -999.0,-999.000
     33KB170_1,  PRS2,     2,  3,      1,     11,2,20050614,1446, 22.7497,-157.9997, 4743,   4803,   4801.4,   1.5165,  34.6903,2,  34.6903,2,    153.4,2,  1.1056,    153.1,2,   149.54,2,    35.76,2,     2.51,2,  -999.0,-999.000
     33KB170_1,  PRS2,     2,  4,     24,     23,2,20050614,2111, 22.7468,-157.9933, 4747,     13,     13.2,  25.3258,  35.2232,2,  35.2217,2,    208.1,2, 25.3229,    208.6,2,     3.03,4,     0.02,2,     0.02,2,  -999.0,-999.000
     33KB170_1,  PRS2,     2,  4,     23,     30,2,20050614,2111, 22.7468,-157.9933, 4747,     49,     49.1,  23.5496,  35.2251,2,  35.2286,2,    224.2,2, 23.5394,    223.2,2,     1.68,2,     0.04,2,     0.01,2,  -999.0,-999.000
     33KB170_1,  PRS2,     2,  4,     22,     22,2,20050614,2111, 22.7468,-157.9933, 4747,     87,     86.5,  21.6355,  35.1990,2,  35.1967,2,    224.2,2, 21.6186,    223.9,2,     1.85,2,     0.04,2,     0.01,3,  -999.0,-999.000
     33KB170_1,  PRS2,     2,  4,     21,     21,2,20050614,2111, 22.7468,-157.9933, 4747,    139,    138.2,  19.1263,  34.9666,2,  34.9640,2,    191.0,2, 19.1016,    195.9,2,     6.80,4,     2.43,2,     0.19,2,  -999.0,-999.000
     33KB170_1,  PRS2,     2,  4,     20,     41,2,20050614,2111, 22.7468,-157.9933, 4747,    173,    172.7,  17.6802,  34.8247,2,  34.8198,2,    207.0,2, 17.6510,    206.4,2,     3.28,2,     2.64,2,     0.21,3,  -999.0,-999.000
     33KB170_1,  PRS2,     2,  4,     19,     19,2,20050614,2111, 22.7468,-157.9933, 4747,    211,    209.9,  15.6009,  34.4845,2,  34.4816,2,    197.8,2, 15.5684,    172.1,4,     5.41,2,     5.16,2,     0.34,3,  -999.0,-999.000
     33KB170_1,  PRS2,     2,  4,     18,     18,2,20050614,2111, 22.7468,-157.9933, 4747,    276,    274.9,  11.8196,  34.1329,2,  34.1336,2,    197.5,2, 11.7843,    196.7,2,    11.42,2,    11.62,2,     0.86,2,  -999.0,-999.000
     33KB170_1,  PRS2,     2,  4,     17,     17,2,20050614,2111, 22.7468,-157.9933, 4747,    313,    313.3,  11.5056,  34.2348,2,  34.2336,2,    210.6,2, 11.4659,    210.2,2,    13.33,2,    12.26,2,     0.83,3,  -999.0,-999.000
     33KB170_1,  PRS2,     2,  4,     16,     34,2,20050614,2111, 22.7468,-157.9933, 4747,    348,    349.3,  10.9481,  34.2147,2,  34.2134,2,    211.1,2, 10.9052,    208.8,2,    15.50,2,    13.61,2,     0.94,3,  -999.0,-999.000
     33KB170_1,  PRS2,     2,  4,     15,    102,2,20050614,2111, 22.7468,-157.9933, 4747,    385,    384.4,  10.0887,  34.1534,2,  34.1564,2,    199.8,2, 10.0439,    200.8,2,    20.12,2,    16.13,2,     1.14,2,  -999.0,-999.000
     33KB170_1,  PRS2,     2,  4,     14,    101,2,20050614,2111, 22.7468,-157.9933, 4747,    420,    418.9,   9.0637,  34.1074,2,  34.1113,2,    181.9,2,  9.0180,    181.7,2,    26.92,2,    19.89,2,     1.39,2,  -999.0,-999.000
     33KB170_1,  PRS2,     2,  4,     13,     42,2,20050614,2111, 22.7468,-157.9933, 4747,    480,    478.8,   7.2298,  34.0539,2,  34.0545,2,    115.4,2,  7.1839,    114.5,2,    46.00,2,    29.22,2,     2.12,2,  -999.0,-999.000
     33KB170_1,  PRS2,     2,  4,     12,     12,2,20050614,2111, 22.7468,-157.9933, 4747,    520,    519.8,   6.4735,  34.0366,2,  34.0384,2,    106.9,2,  6.4265,     99.2,3,    55.48,2,    32.46,2,     2.34,2,  -999.0,-999.000
     33KB170_1,  PRS2,     2,  4,     11,     39,2,20050614,2111, 22.7468,-157.9933, 4747,    578,    577.2,   5.7224,  34.0739,2,  34.0715,2,     66.7,2,  5.6732,     65.9,2,    67.97,2,    36.33,2,     2.63,2,  -999.0,-999.000
     33KB170_1,  PRS2,     2,  4,     10,     33,2,20050614,2111, 22.7468,-157.9933, 4747,    620,    617.9,   5.4193,  34.1282,2,  34.1250,2,     47.6,2,  5.3680,     46.2,2,    74.80,2,    38.40,2,     2.81,2,  -999.0,-999.000
     33KB170_1,  PRS2,     2,  4,      9,      3,2,20050614,2111, 22.7468,-157.9933, 4747,    676,    675.6,   4.9272,  34.1791,2,  34.1803,2,     33.6,2,  4.8732,     31.4,2,    87.50,2,    40.59,2,     2.98,2,  -999.0,-999.000
     33KB170_1,  PRS2,     2,  4,      8,     29,2,20050614,2111, 22.7468,-157.9933, 4747,    745,    744.7,   4.5563,  34.2806,2,  34.2778,2,     23.2,2,  4.4984,     22.6,2,    98.63,2,    41.95,2,     3.09,2,  -999.0,-999.000
     33KB170_1,  PRS2,     2,  4,      7,     28,2,20050614,2111, 22.7468,-157.9933, 4747,    795,    793.2,   4.4194,  34.3353,2,  34.3366,2,     25.5,2,  4.3583,     25.5,2,   100.37,2,    41.94,2,     3.08,2,  -999.0,-999.000
     33KB170_1,  PRS2,     2,  4,      6,     13,2,20050614,2111, 22.7468,-157.9933, 4747,    841,    840.2,   4.2999,  34.3729,2,  34.3753,2,     25.8,2,  4.2355,     25.9,2,   104.45,2,    42.03,2,     3.09,2,  -999.0,-999.000
     33KB170_1,  PRS2,     2,  4,      5,     38,2,20050614,2111, 22.7468,-157.9933, 4747,    878,    876.4,   4.2068,  34.4023,2,  34.4008,2,     30.4,2,  4.1401,     30.1,2,   104.88,2,    42.08,2,     3.09,2,  -999.0,-999.000
     33KB170_1,  PRS2,     2,  4,      4,     36,2,20050614,2111, 22.7468,-157.9933, 4747,    911,    911.1,   4.1373,  34.4260,2,  34.4284,2,     32.7,2,  4.0681,     33.1,2,   108.33,2,    42.04,2,     3.08,2,  -999.0,-999.000
     33KB170_1,  PRS2,     2,  4,      3,     35,2,20050614,2111, 22.7468,-157.9933, 4747,    948,    947.4,   4.1367,  34.4576,2,  34.4565,2,     39.8,2,  4.0644,     39.9,2,   106.13,2,    41.65,2,     3.04,2,  -999.0,-999.000
     33KB170_1,  PRS2,     2,  4,      2,      7,2,20050614,2111, 22.7468,-157.9933, 4747,    986,    984.8,   4.0334,  34.4721,2,  34.4712,2,     41.8,2,  3.9588,     42.0,2,   110.03,2,    41.67,2,     3.05,2,  -999.0,-999.000
     33KB170_1,  PRS2,     2,  4,      1,     11,2,20050614,2111, 22.7468,-157.9933, 4747,   1021,   1020.8,   3.9348,  34.4832,2,  34.4854,2,     43.5,2,  3.8579,     43.9,2,   107.92,2,    41.73,2,     3.04,2,  -999.0,-999.000
     33KB170_1,  PRS2,     2,  5,     19,     19,2,20050614,2359, 22.7465,-157.9817, 4743,     14,     13.5,  25.3114,  35.2243,2,-999.0000,5,    208.7,1, 25.3085,   -999.0,9,  -999.00,9,  -999.00,9,  -999.00,9,  -999.0,-999.000
     33KB170_1,  PRS2,     2,  5,     18,     18,2,20050614,2359, 22.7465,-157.9817, 4743,     25,     24.8,  25.2956,  35.2246,2,  35.2243,2,    209.0,1, 25.2901,   -999.0,9,  -999.00,9,  -999.00,9,  -999.00,9,  -999.0,-999.000
     33KB170_1,  PRS2,     2,  5,     15,    102,3,20050614,2359, 22.7465,-157.9817, 4743,     29,     28.9,  25.1639,  35.2452,2,  35.2300,3,    210.3,1, 25.1576,   -999.0,9,  -999.00,9,  -999.00,9,  -999.00,9,  -999.0,-999.000
     33KB170_1,  PRS2,     2,  5,     16,     34,2,20050614,2359, 22.7465,-157.9817, 4743,     29,     29.1,  25.0894,  35.2570,2,  35.2361,4,    210.4,1, 25.0831,   -999.0,9,  -999.00,9,  -999.00,9,  -999.00,9,  -999.0,-999.000
     33KB170_1,  PRS2,     2,  5,     17,     17,2,20050614,2359, 22.7465,-157.9817, 4743,     30,     29.4,  25.0822,  35.2584,2,  35.2546,2,    210.5,1, 25.0758,   -999.0,9,  -999.00,9,  -999.00,9,  -999.00,9,  -999.0,-999.000
     33KB170_1,  PRS2,     2,  5,     14,    101,2,20050614,2359, 22.7465,-157.9817, 4743,     44,     43.7,  24.5285,  35.2342,2,  35.2387,2,    215.7,1, 24.5192,   -999.0,9,  -999.00,9,  -999.00,9,  -999.00,9,  -999.0,-999.000
     33KB170_1,  PRS2,     2,  5,     13,     42,2,20050614,2359, 22.7465,-157.9817, 4743,     70,     70.2,  22.3154,  35.2167,2,  35.2148,2,    224.1,1, 22.3014,   -999.0,9,  -999.00,9,  -999.00,9,  -999.00,9,  -999.0,-999.000
     33KB170_1,  PRS2,     2,  5,     12,     12,2,20050614,2359, 22.7465,-157.9817, 4743,     75,     74.4,  22.1154,  35.2133,2,  35.2093,2,    223.6,1, 22.1007,   -999.0,9,  -999.00,9,  -999.00,9,  -999.00,9,  -999.0,-999.000
     33KB170_1,  PRS2,     2,  5,     11,     39,2,20050614,2359, 22.7465,-157.9817, 4743,    100,    100.1,  20.6039,  35.1451,2,  35.1433,2,    217.1,1, 20.5850,   -999.0,9,  -999.00,9,  -999.00,9,  -999.00,9,  -999.0,-999.000
     33KB170_1,  PRS2,     2,  5,     10,     33,2,20050614,2359, 22.7465,-157.9817, 4743,    111,    109.5,  20.3070,  35.1284,2,-999.0000,5,    201.9,1, 20.2865,   -999.0,9,  -999.00,9,  -999.00,9,  -999.00,9,  -999.0,-999.000
     33KB170_1,  PRS2,     2,  5,      9,      3,2,20050614,2359, 22.7465,-157.9817, 4743,    124,    123.5,  19.9396,  35.1094,2,  35.1051,2,    213.3,1, 19.9168,   -999.0,9,  -999.00,9,  -999.00,9,  -999.00,9,  -999.0,-999.000
     33KB170_1,  PRS2,     2,  5,      7,     28,3,20050614,2359, 22.7465,-157.9817, 4743,    151,    150.7,  18.5981,  34.8854,2,  34.8861,2,    188.7,1, 18.5716,   -999.0,9,  -999.00,9,  -999.00,9,  -999.00,9,  -999.0,-999.000
     33KB170_1,  PRS2,     2,  5,      8,     29,2,20050614,2359, 22.7465,-157.9817, 4743,    152,    150.8,  18.6063,  34.8869,2,  34.8845,2,    189.4,1, 18.5799,   -999.0,9,  -999.00,9,  -999.00,9,  -999.00,9,  -999.0,-999.000
     33KB170_1,  PRS2,     2,  5,      6,     13,2,20050614,2359, 22.7465,-157.9817, 4743,    251,    250.5,  12.7967,  34.2146,2,  34.2136,2,    196.9,1, 12.7628,   -999.0,9,  -999.00,9,  -999.00,9,  -999.00,9,  -999.0,-999.000
     33KB170_1,  PRS2,     2,  5,      5,     38,2,20050614,2359, 22.7465,-157.9817, 4743,    349,    348.7,  10.3616,  34.1833,2,  34.1846,2,    209.0,1, 10.3203,   -999.0,9,  -999.00,9,  -999.00,9,  -999.00,9,  -999.0,-999.000
     33KB170_1,  PRS2,     2,  5,      4,     36,2,20050614,2359, 22.7465,-157.9817, 4743,    526,    525.0,   6.3978,  34.0387,2,  34.0411,2,    100.6,1,  6.3506,   -999.0,9,  -999.00,9,  -999.00,9,  -999.00,9,  -999.0,-999.000
     33KB170_1,  PRS2,     2,  5,      3,     35,2,20050614,2359, 22.7465,-157.9817, 4743,    699,    698.9,   4.8489,  34.2007,2,  34.1987,2,     30.3,1,  4.7933,   -999.0,9,  -999.00,9,  -999.00,9,  -999.00,9,  -999.0,-999.000
     33KB170_1,  PRS2,     2,  5,      2,      7,2,20050614,2359, 22.7465,-157.9817, 4743,    750,    748.7,   4.5677,  34.2773,2,  34.2770,2,     23.6,1,  4.5094,   -999.0,9,  -999.00,9,  -999.00,9,  -999.00,9,  -999.0,-999.000
     33KB170_1,  PRS2,     2,  5,      1,     11,2,20050614,2359, 22.7465,-157.9817, 4743,   1019,   1020.3,   3.9388,  34.4825,2,  34.4822,2,     43.3,1,  3.8620,   -999.0,9,  -999.00,9,  -999.00,9,  -999.00,9,  -999.0,-999.000