BOTTLE,20090923WHPSIOMYS
#code : jjward hyd_to_exchange.pl 
#original files copied from HTML directory: 20090923
#original HYD file: 33KB170_1_hy.txt   Wed Sep 23 17:57:42 2009
#original SUM file: ../33KB170_1su.txt   Wed Sep 23 17:57:41 2009
EXPOCODE,SECT_ID,STNNBR,CASTNO,SAMPNO,BTLNBR,BTLNBR_FLAG_W,DATE,TIME,LATITUDE,LONGITUDE,DEPTH,CTDRAW,CTDPRS,CTDTMP,CTDSAL,CTDSAL_FLAG_W,SALNTY,SALNTY_FLAG_W,CTDOXY,CTDOXY_FLAG_W,THETA,OXYGEN,OXYGEN_FLAG_W,SILCAT,SILCAT_FLAG_W,NO2+NO3,NO2+NO3_FLAG_W,PHSPHT,PHSPHT_FLAG_W,REVPRS,REVTMP
,,,,,,,,,,,,,DBAR,ITS-90,PSS-78,,PSS-78,,UMOL/KG,,ITS-90,UMOL/KG,,UMOL/KG,,UMOL/KG,,UMOL/KG,,DBAR,DEG C
     33KB170_1,  PRS2,     1,  1,     24,     23,2,20050614,0003, 21.3480,-158.2767, 1712,      8,      6.9,  26.1555,  34.7286,2,-999.0000,5,    207.0,2, 26.1539,    206.5,2,  -999.00,9,  -999.00,9,  -999.00,9,  -999.0,-999.000
     33KB170_1,  PRS2,     1,  1,     23,     30,3,20050614,0003, 21.3480,-158.2767, 1712,      8,      7.0,  26.1543,  34.7288,2,  34.7272,2,    207.0,2, 26.1528,    206.9,2,  -999.00,9,  -999.00,9,  -999.00,9,  -999.0,-999.000
     33KB170_1,  PRS2,     1,  1,     22,     22,2,20050614,0003, 21.3480,-158.2767, 1712,     25,     25.1,  25.8256,  34.8541,2,  34.8580,2,    210.6,2, 25.8200,    211.0,2,  -999.00,9,  -999.00,9,  -999.00,9,  -999.0,-999.000
     33KB170_1,  PRS2,     1,  1,     21,     21,2,20050614,0003, 21.3480,-158.2767, 1712,     45,     44.9,  24.7040,  34.9262,2,  34.9185,2,    214.5,2, 24.6944,    213.9,2,  -999.00,9,  -999.00,9,  -999.00,9,  -999.0,-999.000
     33KB170_1,  PRS2,     1,  1,     20,     41,2,20050614,0003, 21.3480,-158.2767, 1712,     59,     59.1,  24.1016,  34.9986,2,  34.9908,2,    212.5,2, 24.0891,    212.7,2,  -999.00,9,  -999.00,9,  -999.00,9,  -999.0,-999.000
     33KB170_1,  PRS2,     1,  1,     19,     19,2,20050614,0003, 21.3480,-158.2767, 1712,     75,     74.6,  23.5555,  35.0936,2,  35.0882,2,    211.6,2, 23.5400,    211.9,2,  -999.00,9,  -999.00,9,  -999.00,9,  -999.0,-999.000
     33KB170_1,  PRS2,     1,  1,     18,     18,2,20050614,0003, 21.3480,-158.2767, 1712,    100,     99.9,  22.6928,  35.1471,2,  35.1551,2,    205.9,2, 22.6726,    205.4,2,  -999.00,9,  -999.00,9,  -999.00,9,  -999.0,-999.000
     33KB170_1,  PRS2,     1,  1,     17,     17,2,20050614,0003, 21.3480,-158.2767, 1712,    114,    113.9,  22.1077,  35.1443,2,  35.1439,2,    201.3,2, 22.0851,    201.8,2,  -999.00,9,  -999.00,9,  -999.00,9,  -999.0,-999.000
     33KB170_1,  PRS2,     1,  1,     16,     34,2,20050614,0003, 21.3480,-158.2767, 1712,    124,    124.5,  21.5741,  35.1364,2,  35.1343,2,    197.4,2, 21.5498,    198.5,2,  -999.00,9,  -999.00,9,  -999.00,9,  -999.0,-999.000
     33KB170_1,  PRS2,     1,  1,     15,    102,2,20050614,0003, 21.3480,-158.2767, 1712,    150,    148.8,  19.6228,  34.9530,2,  34.9559,2,    184.8,2, 19.5957,    180.7,4,  -999.00,9,  -999.00,9,  -999.00,9,  -999.0,-999.000
     33KB170_1,  PRS2,     1,  1,     14,    101,2,20050614,0003, 21.3480,-158.2767, 1712,    175,    175.1,  18.6087,  34.8491,2,  34.8511,2,    186.6,2, 18.5779,    185.8,2,  -999.00,9,  -999.00,9,  -999.00,9,  -999.0,-999.000
     33KB170_1,  PRS2,     1,  1,     13,     42,2,20050614,0003, 21.3480,-158.2767, 1712,    200,    200.4,  16.7833,  34.6306,2,  34.6295,2,    186.3,2, 16.7506,    183.7,2,  -999.00,9,  -999.00,9,  -999.00,9,  -999.0,-999.000
     33KB170_1,  PRS2,     1,  1,     12,     12,2,20050614,0003, 21.3480,-158.2767, 1712,    226,    226.2,  15.6579,  34.5178,2,  34.5156,2,    187.0,2, 15.6227,    188.8,2,  -999.00,9,  -999.00,9,  -999.00,9,  -999.0,-999.000
     33KB170_1,  PRS2,     1,  1,     11,     39,2,20050614,0003, 21.3480,-158.2767, 1712,    249,    248.6,  14.4907,  34.4043,2,  34.3955,2,    191.3,2, 14.4540,    191.6,2,  -999.00,9,  -999.00,9,  -999.00,9,  -999.0,-999.000
     33KB170_1,  PRS2,     1,  1,     10,     33,2,20050614,0003, 21.3480,-158.2767, 1712,    300,    299.5,  12.1886,  34.2430,2,  34.2466,2,    180.7,2, 12.1493,    180.7,2,  -999.00,9,  -999.00,9,  -999.00,9,  -999.0,-999.000
     33KB170_1,  PRS2,     1,  1,      9,      3,2,20050614,0003, 21.3480,-158.2767, 1712,    351,    349.8,  10.2314,  34.1623,2,  34.1664,2,    166.7,2, 10.1903,    167.5,2,  -999.00,9,  -999.00,9,  -999.00,9,  -999.0,-999.000
     33KB170_1,  PRS2,     1,  1,      8,     29,2,20050614,0003, 21.3480,-158.2767, 1712,    399,    399.1,   8.6599,  34.1127,2,  34.1142,2,    145.3,2,  8.6175,    144.5,2,  -999.00,9,  -999.00,9,  -999.00,9,  -999.0,-999.000
     33KB170_1,  PRS2,     1,  1,      7,     28,2,20050614,0003, 21.3480,-158.2767, 1712,    499,    499.4,   7.0031,  34.1314,2,  34.1297,2,     91.2,2,  6.9559,     90.6,2,  -999.00,9,  -999.00,9,  -999.00,9,  -999.0,-999.000
     33KB170_1,  PRS2,     1,  1,      6,     13,2,20050614,0003, 21.3480,-158.2767, 1712,    599,    599.8,   5.7206,  34.2169,2,  34.2156,2,     50.9,2,  5.6693,     48.3,2,  -999.00,9,  -999.00,9,  -999.00,9,  -999.0,-999.000
     33KB170_1,  PRS2,     1,  1,      5,     38,2,20050614,0003, 21.3480,-158.2767, 1712,    699,    699.3,   5.1310,  34.3241,2,  34.3229,2,     35.8,2,  5.0737,     35.4,2,  -999.00,9,  -999.00,9,  -999.00,9,  -999.0,-999.000
     33KB170_1,  PRS2,     1,  1,      4,     36,2,20050614,0003, 21.3480,-158.2767, 1712,    749,    748.4,   4.9310,  34.3755,2,  34.3704,2,     35.1,2,  4.8706,     34.9,2,  -999.00,9,  -999.00,9,  -999.00,9,  -999.0,-999.000
     33KB170_1,  PRS2,     1,  1,      3,     35,2,20050614,0003, 21.3480,-158.2767, 1712,    799,    798.2,   4.7785,  34.3945,2,  34.4133,4,     35.7,3,  4.7147,     36.8,2,  -999.00,9,  -999.00,9,  -999.00,9,  -999.0,-999.000
     33KB170_1,  PRS2,     1,  1,      2,      7,2,20050614,0003, 21.3480,-158.2767, 1712,    901,    900.0,   4.4311,  34.4695,2,  34.4669,2,     40.9,2,  4.3607,     41.0,2,  -999.00,9,  -999.00,9,  -999.00,9,  -999.0,-999.000
     33KB170_1,  PRS2,     1,  1,      1,     11,2,20050614,0003, 21.3480,-158.2767, 1712,   1022,   1021.5,   4.1277,  34.4959,2,  34.4964,2,     46.1,2,  4.0493,     45.9,2,  -999.00,9,  -999.00,9,  -999.00,9,  -999.0,-999.000
     33KB170_1,  PRS2,     2,  1,     24,     23,2,20050614,0904, 22.6985,-158.0017, 4753,      7,      7.6,  25.1623,  35.2558,2,-999.0000,5,    208.4,1, 25.1607,   -999.0,9,  -999.00,9,  -999.00,9,  -999.00,9,  -999.0,-999.000
     33KB170_1,  PRS2,     2,  1,     23,     30,3,20050614,0904, 22.6985,-158.0017, 4753,      8,      7.8,  25.1623,  35.2557,2,  35.2536,2,    208.4,1, 25.1606,   -999.0,9,  -999.00,9,  -999.00,9,  -999.00,9,  -999.0,-999.000
     33KB170_1,  PRS2,     2,  1,     22,     22,2,20050614,0904, 22.6985,-158.0017, 4753,      7,      7.8,  25.1623,  35.2557,2,-999.0000,5,    208.5,1, 25.1606,   -999.0,9,  -999.00,9,  -999.00,9,  -999.00,9,  -999.0,-999.000
     33KB170_1,  PRS2,     2,  1,     21,     21,2,20050614,0904, 22.6985,-158.0017, 4753,     25,     25.4,  25.1292,  35.2607,2,  35.2576,2,    208.7,1, 25.1237,   -999.0,9,  -999.00,9,  -999.00,9,  -999.00,9,  -999.0,-999.000
     33KB170_1,  PRS2,     2,  1,     19,     19,2,20050614,0904, 22.6985,-158.0017, 4753,     26,     25.4,  25.1292,  35.2603,2,  35.2593,2,    208.8,1, 25.1236,   -999.0,9,  -999.00,9,  -999.00,9,  -999.00,9,  -999.0,-999.000
     33KB170_1,  PRS2,     2,  1,     20,     41,3,20050614,0904, 22.6985,-158.0017, 4753,     26,     25.6,  25.1266,  35.2608,2,-999.0000,5,    208.8,1, 25.1210,   -999.0,9,  -999.00,9,  -999.00,9,  -999.00,9,  -999.0,-999.000
     33KB170_1,  PRS2,     2,  1,     18,     18,2,20050614,0904, 22.6985,-158.0017, 4753,     47,     45.1,  23.6327,  35.2037,2,-999.0000,5,    221.1,1, 23.6234,   -999.0,9,  -999.00,9,  -999.00,9,  -999.00,9,  -999.0,-999.000
     33KB170_1,  PRS2,     2,  1,     17,     17,2,20050614,0904, 22.6985,-158.0017, 4753,     46,     45.2,  23.6320,  35.2035,2,  35.2069,2,    221.4,1, 23.6226,   -999.0,9,  -999.00,9,  -999.00,9,  -999.00,9,  -999.0,-999.000
     33KB170_1,  PRS2,     2,  1,     16,     34,2,20050614,0904, 22.6985,-158.0017, 4753,     46,     45.4,  23.6235,  35.2056,2,-999.0000,5,    221.8,1, 23.6140,   -999.0,9,  -999.00,9,  -999.00,9,  -999.00,9,  -999.0,-999.000
     33KB170_1,  PRS2,     2,  1,     12,     12,2,20050614,0904, 22.6985,-158.0017, 4753,     50,     49.9,  23.5746,  35.2115,2,-999.0000,5,    222.5,1, 23.5642,   -999.0,9,  -999.00,9,  -999.00,9,  -999.00,9,  -999.0,-999.000
     33KB170_1,  PRS2,     2,  1,     11,     39,2,20050614,0904, 22.6985,-158.0017, 4753,     49,     49.9,  23.5793,  35.2117,2,-999.0000,5,    222.6,1, 23.5689,   -999.0,9,  -999.00,9,  -999.00,9,  -999.00,9,  -999.0,-999.000
     33KB170_1,  PRS2,     2,  1,     15,    102,2,20050614,0904, 22.6985,-158.0017, 4753,     49,     50.0,  23.5747,  35.2115,2,  35.2099,2,    222.3,1, 23.5643,   -999.0,9,  -999.00,9,  -999.00,9,  -999.00,9,  -999.0,-999.000
     33KB170_1,  PRS2,     2,  1,     13,     42,2,20050614,0904, 22.6985,-158.0017, 4753,     51,     50.0,  23.5695,  35.2118,2,  35.2121,2,    222.5,1, 23.5591,   -999.0,9,  -999.00,9,  -999.00,9,  -999.00,9,  -999.0,-999.000
     33KB170_1,  PRS2,     2,  1,     10,     33,2,20050614,0904, 22.6985,-158.0017, 4753,     50,     50.0,  23.5753,  35.2119,2,-999.0000,5,    222.8,1, 23.5649,   -999.0,9,  -999.00,9,  -999.00,9,  -999.00,9,  -999.0,-999.000
     33KB170_1,  PRS2,     2,  1,     14,    101,2,20050614,0904, 22.6985,-158.0017, 4753,     51,     50.3,  23.5682,  35.2122,2,-999.0000,5,    222.4,1, 23.5578,   -999.0,9,  -999.00,9,  -999.00,9,  -999.00,9,  -999.0,-999.000
     33KB170_1,  PRS2,     2,  1,      8,     29,2,20050614,0904, 22.6985,-158.0017, 4753,     76,     74.9,  22.3500,  35.2137,2,-999.0000,5,    219.4,1, 22.3350,   -999.0,9,  -999.00,9,  -999.00,9,  -999.00,9,  -999.0,-999.000
     33KB170_1,  PRS2,     2,  1,      7,     28,2,20050614,0904, 22.6985,-158.0017, 4753,     76,     74.9,  22.3542,  35.2133,2,  35.2117,2,    220.1,1, 22.3392,   -999.0,9,  -999.00,9,  -999.00,9,  -999.00,9,  -999.0,-999.000
     33KB170_1,  PRS2,     2,  1,      9,      3,2,20050614,0904, 22.6985,-158.0017, 4753,     75,     75.1,  22.3525,  35.2128,2,  35.2132,2,    218.6,1, 22.3375,   -999.0,9,  -999.00,9,  -999.00,9,  -999.00,9,  -999.0,-999.000
     33KB170_1,  PRS2,     2,  1,      6,     13,2,20050614,0904, 22.6985,-158.0017, 4753,    101,     99.8,  20.9549,  35.1440,2,-999.0000,5,    201.4,1, 20.9358,   -999.0,9,  -999.00,9,  -999.00,9,  -999.00,9,  -999.0,-999.000
     33KB170_1,  PRS2,     2,  1,      5,     38,2,20050614,0904, 22.6985,-158.0017, 4753,     99,     99.8,  20.9807,  35.1463,2,  35.1545,2,    200.1,1, 20.9617,   -999.0,9,  -999.00,9,  -999.00,9,  -999.00,9,  -999.0,-999.000
     33KB170_1,  PRS2,     2,  1,      4,     36,2,20050614,0904, 22.6985,-158.0017, 4753,    100,     99.8,  20.9846,  35.1474,2,-999.0000,5,    198.8,1, 20.9655,   -999.0,9,  -999.00,9,  -999.00,9,  -999.00,9,  -999.0,-999.000
     33KB170_1,  PRS2,     2,  1,      1,     11,2,20050614,0904, 22.6985,-158.0017, 4753,    126,    125.3,  20.5044,  35.1269,2,  35.1321,2,    198.6,1, 20.4808,   -999.0,9,  -999.00,9,  -999.00,9,  -999.00,9,  -999.0,-999.000
     33KB170_1,  PRS2,     2,  1,      2,      7,2,20050614,0904, 22.6985,-158.0017, 4753,    126,    125.4,  20.5045,  35.1301,2,-999.0000,5,    198.0,1, 20.4810,   -999.0,9,  -999.00,9,  -999.00,9,  -999.00,9,  -999.0,-999.000
     33KB170_1,  PRS2,     2,  1,      3,     35,2,20050614,0904, 22.6985,-158.0017, 4753,    126,    125.5,  20.5054,  35.1342,2,  35.1258,2,    197.5,1, 20.4818,   -999.0,9,  -999.00,9,  -999.00,9,  -999.00,9,  -999.0,-999.000
     33KB170_1,  PRS2,     2,  2,     21,     21,2,20050614,1051, 22.6987,-157.9902, 4745,      8,      7.7,  25.1355,  35.2593,2,  35.2629,2,    208.6,1, 25.1338,   -999.0,9,  -999.00,9,  -999.00,9,  -999.00,9,  -999.0,-999.000
     33KB170_1,  PRS2,     2,  2,     24,     23,2,20050614,1051, 22.6987,-157.9902, 4745,      8,      7.8,  25.1330,  35.2595,2,-999.0000,5,    208.6,1, 25.1313,   -999.0,9,  -999.00,9,  -999.00,9,  -999.00,9,  -999.0,-999.000
     33KB170_1,  PRS2,     2,  2,     23,     30,2,20050614,1051, 22.6987,-157.9902, 4745,      9,      8.0,  25.1338,  35.2594,2,-999.0000,5,    208.6,1, 25.1320,   -999.0,9,  -999.00,9,  -999.00,9,  -999.00,9,  -999.0,-999.000
     33KB170_1,  PRS2,     2,  2,     22,     22,3,20050614,1051, 22.6987,-157.9902, 4745,      9,      8.0,  25.1344,  35.2591,2,-999.0000,5,    208.6,1, 25.1326,   -999.0,9,  -999.00,9,  -999.00,9,  -999.00,9,  -999.0,-999.000
     33KB170_1,  PRS2,     2,  2,     19,     19,2,20050614,1051, 22.6987,-157.9902, 4745,     24,     24.6,  25.1387,  35.2597,2,-999.0000,5,    208.6,1, 25.1333,   -999.0,9,  -999.00,9,  -999.00,9,  -999.00,9,  -999.0,-999.000
     33KB170_1,  PRS2,     2,  2,     20,     41,3,20050614,1051, 22.6987,-157.9902, 4745,     25,     24.7,  25.1387,  35.2596,2,-999.0000,5,    208.6,1, 25.1334,   -999.0,9,  -999.00,9,  -999.00,9,  -999.00,9,  -999.0,-999.000
     33KB170_1,  PRS2,     2,  2,     18,     18,2,20050614,1051, 22.6987,-157.9902, 4745,     24,     24.8,  25.1387,  35.2596,2,-999.0000,5,    208.6,1, 25.1334,   -999.0,9,  -999.00,9,  -999.00,9,  -999.00,9,  -999.0,-999.000
     33KB170_1,  PRS2,     2,  2,     17,     17,2,20050614,1051, 22.6987,-157.9902, 4745,     25,     24.9,  25.1390,  35.2594,2,  35.2576,2,    208.6,1, 25.1336,   -999.0,9,  -999.00,9,  -999.00,9,  -999.00,9,  -999.0,-999.000
     33KB170_1,  PRS2,     2,  2,     15,    102,2,20050614,1051, 22.6987,-157.9902, 4745,     45,     45.1,  24.2289,  35.2540,2,-999.0000,5,    216.6,1, 24.2193,   -999.0,9,  -999.00,9,  -999.00,9,  -999.00,9,  -999.0,-999.000
     33KB170_1,  PRS2,     2,  2,     14,    101,2,20050614,1051, 22.6987,-157.9902, 4745,     45,     45.1,  24.2289,  35.2543,2,-999.0000,5,    217.4,1, 24.2193,   -999.0,9,  -999.00,9,  -999.00,9,  -999.00,9,  -999.0,-999.000
     33KB170_1,  PRS2,     2,  2,     13,     42,2,20050614,1051, 22.6987,-157.9902, 4745,     45,     45.1,  24.2330,  35.2549,2,  35.2526,2,    218.2,1, 24.2234,   -999.0,9,  -999.00,9,  -999.00,9,  -999.00,9,  -999.0,-999.000
     33KB170_1,  PRS2,     2,  2,     16,     34,2,20050614,1051, 22.6987,-157.9902, 4745,     45,     45.2,  24.2213,  35.2546,2,-999.0000,5,    215.8,1, 24.2117,   -999.0,9,  -999.00,9,  -999.00,9,  -999.00,9,  -999.0,-999.000
     33KB170_1,  PRS2,     2,  2,     12,     12,2,20050614,1051, 22.6987,-157.9902, 4745,     75,     75.1,  21.9912,  35.2142,2,-999.0000,5,    222.3,1, 21.9763,   -999.0,9,  -999.00,9,  -999.00,9,  -999.00,9,  -999.0,-999.000
     33KB170_1,  PRS2,     2,  2,      9,      3,2,20050614,1051, 22.6987,-157.9902, 4745,     75,     75.1,  22.0051,  35.2138,2,  35.2103,2,    222.2,1, 21.9902,   -999.0,9,  -999.00,9,  -999.00,9,  -999.00,9,  -999.0,-999.000
     33KB170_1,  PRS2,     2,  2,     10,     33,2,20050614,1051, 22.6987,-157.9902, 4745,     75,     75.2,  21.9888,  35.2146,2,-999.0000,5,    222.3,1, 21.9739,   -999.0,9,  -999.00,9,  -999.00,9,  -999.00,9,  -999.0,-999.000
     33KB170_1,  PRS2,     2,  2,     11,     39,2,20050614,1051, 22.6987,-157.9902, 4745,     75,     75.4,  21.9802,  35.2138,2,-999.0000,5,    222.3,1, 21.9653,   -999.0,9,  -999.00,9,  -999.00,9,  -999.00,9,  -999.0,-999.000
     33KB170_1,  PRS2,     2,  2,      7,     28,2,20050614,1051, 22.6987,-157.9902, 4745,     99,     99.3,  20.7307,  35.1326,2,-999.0000,5,    192.7,1, 20.7119,   -999.0,9,  -999.00,9,  -999.00,9,  -999.00,9,  -999.0,-999.000
     33KB170_1,  PRS2,     2,  2,      5,     38,2,20050614,1051, 22.6987,-157.9902, 4745,     99,     99.3,  20.7347,  35.1324,2,  35.1303,2,    192.9,1, 20.7159,   -999.0,9,  -999.00,9,  -999.00,9,  -999.00,9,  -999.0,-999.000
     33KB170_1,  PRS2,     2,  2,      8,     29,2,20050614,1051, 22.6987,-157.9902, 4745,    100,     99.5,  20.7254,  35.1321,2,-999.0000,5,    192.8,1, 20.7066,   -999.0,9,  -999.00,9,  -999.00,9,  -999.00,9,  -999.0,-999.000
     33KB170_1,  PRS2,     2,  2,      6,     13,2,20050614,1051, 22.6987,-157.9902, 4745,     99,     99.5,  20.7318,  35.1320,2,-999.0000,5,    192.7,1, 20.7130,   -999.0,9,  -999.00,9,  -999.00,9,  -999.00,9,  -999.0,-999.000
     33KB170_1,  PRS2,     2,  2,      2,      7,2,20050614,1051, 22.6987,-157.9902, 4745,    126,    125.0,  19.8969,  35.0797,2,-999.0000,5,    197.8,1, 19.8739,   -999.0,9,  -999.00,9,  -999.00,9,  -999.00,9,  -999.0,-999.000
     33KB170_1,  PRS2,     2,  2,      1,     11,2,20050614,1051, 22.6987,-157.9902, 4745,    126,    125.0,  19.8945,  35.0812,2,  35.0795,2,    197.8,1, 19.8714,   -999.0,9,  -999.00,9,  -999.00,9,  -999.00,9,  -999.0,-999.000
     33KB170_1,  PRS2,     2,  2,      4,     36,2,20050614,1051, 22.6987,-157.9902, 4745,    125,    125.1,  19.8981,  35.0789,2,-999.0000,5,    197.9,1, 19.8751,   -999.0,9,  -999.00,9,  -999.00,9,  -999.00,9,  -999.0,-999.000
     33KB170_1,  PRS2,     2,  2,      3,     35,2,20050614,1051, 22.6987,-157.9902, 4745,    125,    125.1,  19.8971,  35.0797,2,-999.0000,5,    197.8,1, 19.8741,   -999.0,9,  -999.00,9,  -999.00,9,  -999.00,9,  -999.0,-999.000