BOTTLE,20020308WHPSIOKJU
EXPOCODE,SECT_ID,STNNBR,CASTNO,SAMPNO,BTLNBR,BTLNBR_FLAG_W,DATE,TIME,LATITUDE,LONGITUDE,DEPTH,CTDPRS,CTDTMP,CTDSAL,CTDSAL_FLAG_W,SALNTY,SALNTY_FLAG_W,CTDOXY,CTDOXY_FLAG_W,OXYGEN,OXYGEN_FLAG_W,THETA
,,,,,,,,,,,,DBAR,ITS-90,PSS-78,,PSS-78,,UMOL/KG,,UMOL/KG,,DEG C
   33KMGP901_1,  PR15,   014,  1,     12,     12,2,20011104,1152, -0.9983, 164.7017, 4418,      2.7,  30.3152,  35.3389,2,  35.3587,2,   -999.0,9,   -999.0,9, 30.3145
   33KMGP901_1,  PR15,   014,  1,     11,     11,2,20011104,1152, -0.9983, 164.7017, 4418,     10.0,  30.2904,  35.3345,2,  35.3340,2,   -999.0,9,   -999.0,9, 30.2879
   33KMGP901_1,  PR15,   014,  1,     10,     10,2,20011104,1152, -0.9983, 164.7017, 4418,     24.9,  30.1898,  35.3268,2,  35.3270,2,   -999.0,9,   -999.0,9, 30.1835
   33KMGP901_1,  PR15,   014,  1,      9,      9,2,20011104,1152, -0.9983, 164.7017, 4418,     40.2,  30.1522,  35.3248,2,  35.3336,2,   -999.0,9,   -999.0,9, 30.1421
   33KMGP901_1,  PR15,   014,  1,      8,      8,2,20011104,1152, -0.9983, 164.7017, 4418,     59.0,  30.0468,  35.3206,2,  35.3385,2,   -999.0,9,   -999.0,9, 30.0321
   33KMGP901_1,  PR15,   014,  1,      7,      7,2,20011104,1152, -0.9983, 164.7017, 4418,     99.5,  28.4311,  35.5363,2,  35.5404,2,   -999.0,9,   -999.0,9, 28.4073
   33KMGP901_1,  PR15,   014,  1,      6,      6,2,20011104,1152, -0.9983, 164.7017, 4418,    149.5,  23.8859,  35.4257,2,  35.4331,2,   -999.0,9,   -999.0,9, 23.8544
   33KMGP901_1,  PR15,   014,  1,      5,      5,2,20011104,1152, -0.9983, 164.7017, 4418,    200.0,  16.7550,  35.3499,2,  35.3386,2,   -999.0,9,   -999.0,9, 16.7222
   33KMGP901_1,  PR15,   014,  1,      4,      4,2,20011104,1152, -0.9983, 164.7017, 4418,    399.7,   9.5340,  34.7109,2,  34.7682,2,   -999.0,9,   -999.0,9,  9.4887
   33KMGP901_1,  PR15,   014,  1,      3,      3,2,20011104,1152, -0.9983, 164.7017, 4418,    599.8,   6.8803,  34.5679,2,  34.5681,2,   -999.0,9,   -999.0,9,  6.8235
   33KMGP901_1,  PR15,   014,  1,      2,      2,2,20011104,1152, -0.9983, 164.7017, 4418,    800.7,   5.4520,  34.5438,2,  34.5438,2,   -999.0,9,   -999.0,9,  5.3836
   33KMGP901_1,  PR15,   015,  1,     12,     12,2,20011104,1545, -1.4983, 164.5450, 4423,      2.6,  30.1254,  35.3092,2,  35.3061,2,   -999.0,9,   -999.0,9, 30.1247
   33KMGP901_1,  PR15,   015,  1,     11,     11,2,20011104,1545, -1.4983, 164.5450, 4423,     10.4,  30.1470,  35.3074,2,  35.3070,2,   -999.0,9,   -999.0,9, 30.1444
   33KMGP901_1,  PR15,   015,  1,     10,     10,2,20011104,1545, -1.4983, 164.5450, 4423,     24.7,  30.1194,  35.2909,2,  35.2981,2,   -999.0,9,   -999.0,9, 30.1132
   33KMGP901_1,  PR15,   015,  1,      9,      9,2,20011104,1545, -1.4983, 164.5450, 4423,     40.1,  30.0704,  35.2848,2,  35.2875,2,   -999.0,9,   -999.0,9, 30.0604
   33KMGP901_1,  PR15,   015,  1,      7,      7,2,20011104,1545, -1.4983, 164.5450, 4423,     99.5,  29.2881,  35.4174,4,  35.5106,2,   -999.0,9,   -999.0,9, 29.2638
   33KMGP901_1,  PR15,   015,  1,      6,      6,2,20011104,1545, -1.4983, 164.5450, 4423,    150.0,  25.8827,  35.2003,4,  35.5257,2,   -999.0,9,   -999.0,9, 25.8492
   33KMGP901_1,  PR15,   015,  1,      5,      5,2,20011104,1545, -1.4983, 164.5450, 4423,    199.8,  15.8782,  34.2211,4,  35.3172,2,   -999.0,9,   -999.0,9, 15.8466
   33KMGP901_1,  PR15,   016,  1,     12,     12,2,20011104,1913, -1.9267, 164.4100, 4437,      2.3,  30.3141,  35.2671,2,  35.2625,2,   -999.0,9,   -999.0,9, 30.3135
   33KMGP901_1,  PR15,   016,  1,     11,     11,2,20011104,1913, -1.9267, 164.4100, 4437,      9.9,  30.3146,  35.2670,2,  35.2621,2,   -999.0,9,   -999.0,9, 30.3121
   33KMGP901_1,  PR15,   016,  1,     10,     10,2,20011104,1913, -1.9267, 164.4100, 4437,     24.9,  30.3192,  35.2671,2,  35.2771,2,   -999.0,9,   -999.0,9, 30.3130
   33KMGP901_1,  PR15,   016,  1,      9,      9,2,20011104,1913, -1.9267, 164.4100, 4437,     39.7,  30.3114,  35.2687,2,  35.2644,2,   -999.0,9,   -999.0,9, 30.3015
   33KMGP901_1,  PR15,   016,  1,      7,      7,2,20011104,1913, -1.9267, 164.4100, 4437,     99.7,  29.7608,  35.4270,2,  35.4250,2,   -999.0,9,   -999.0,9, 29.7361
   33KMGP901_1,  PR15,   016,  1,      5,      5,2,20011104,1913, -1.9267, 164.4100, 4437,    200.0,  21.0614,  35.6740,2,  35.6795,2,   -999.0,9,   -999.0,9, 21.0229
   33KMGP901_1,  PR15,   016,  1,      4,      4,2,20011104,1913, -1.9267, 164.4100, 4437,    400.0,  10.1616,  34.7561,2,  34.8031,2,   -999.0,9,   -999.0,9, 10.1143
   33KMGP901_1,  PR15,   016,  1,      3,      3,2,20011104,1913, -1.9267, 164.4100, 4437,    600.7,   7.0512,  34.5729,2,  34.5683,2,   -999.0,9,   -999.0,9,  6.9935
   33KMGP901_1,  PR15,   016,  1,      2,      2,2,20011104,1913, -1.9267, 164.4100, 4437,    800.4,   5.3316,  34.5325,2,  34.5313,2,   -999.0,9,   -999.0,9,  5.2640
   33KMGP901_1,  PR15,   016,  1,      1,      1,2,20011104,1913, -1.9267, 164.4100, 4437,   1000.8,   4.5587,  34.5478,2,  34.5837,2,   -999.0,9,   -999.0,9,  4.4786
   33KMGP901_1,  PR15,   017,  1,     12,     12,2,20011105,0024, -2.4933, 164.5533, 4462,      2.5,  30.5211,  35.1215,2,  35.1184,2,   -999.0,9,   -999.0,9, 30.5204
   33KMGP901_1,  PR15,   017,  1,     11,     11,2,20011105,0024, -2.4933, 164.5533, 4462,     10.2,  30.3198,  35.1136,2,  35.1100,2,   -999.0,9,   -999.0,9, 30.3173
   33KMGP901_1,  PR15,   017,  1,     10,     10,2,20011105,0024, -2.4933, 164.5533, 4462,     24.6,  30.2926,  35.1139,2,  35.1165,2,   -999.0,9,   -999.0,9, 30.2865
   33KMGP901_1,  PR15,   017,  1,      9,      9,2,20011105,0024, -2.4933, 164.5533, 4462,     40.2,  30.2869,  35.1158,2,  35.1507,2,   -999.0,9,   -999.0,9, 30.2769
   33KMGP901_1,  PR15,   017,  1,      7,      7,2,20011105,0024, -2.4933, 164.5533, 4462,     99.7,  29.1899,  35.5890,2,  35.6017,2,   -999.0,9,   -999.0,9, 29.1656
   33KMGP901_1,  PR15,   017,  1,      6,      6,2,20011105,0024, -2.4933, 164.5533, 4462,    149.3,  26.9022,  35.5808,2,  35.5746,2,   -999.0,9,   -999.0,9, 26.8680
   33KMGP901_1,  PR15,   017,  1,      5,      5,2,20011105,0024, -2.4933, 164.5533, 4462,    199.4,  16.5434,  35.3362,2,  35.3436,2,   -999.0,9,   -999.0,9, 16.5110
   33KMGP901_1,  PR15,   017,  1,      4,      4,2,20011105,0024, -2.4933, 164.5533, 4462,    400.4,  10.1660,  34.7496,2,  34.7455,2,   -999.0,9,   -999.0,9, 10.1187
   33KMGP901_1,  PR15,   017,  1,      3,      3,2,20011105,0024, -2.4933, 164.5533, 4462,    599.5,   6.9907,  34.5685,2,  34.5677,2,   -999.0,9,   -999.0,9,  6.9334
   33KMGP901_1,  PR15,   017,  1,      1,      1,2,20011105,0024, -2.4933, 164.5533, 4462,   1001.6,   4.5586,  34.5455,2,  34.5437,2,   -999.0,9,   -999.0,9,  4.4784
   33KMGP901_1,  PR15,   018,  1,     12,     12,2,20011105,0426, -2.9967, 164.6783, 3859,      2.4,  30.7132,  34.9798,4,  35.1008,2,   -999.0,9,   -999.0,9, 30.7126
   33KMGP901_1,  PR15,   018,  1,     11,     11,2,20011105,0426, -2.9967, 164.6783, 3859,     10.2,  30.5679,  34.9972,4,  35.0746,2,   -999.0,9,   -999.0,9, 30.5653
   33KMGP901_1,  PR15,   018,  1,      7,      7,2,20011105,0426, -2.9967, 164.6783, 3859,     99.8,  29.2847,  35.5245,4,  35.6436,2,   -999.0,9,   -999.0,9, 29.2603
   33KMGP901_1,  PR15,   018,  1,      6,      6,2,20011105,0426, -2.9967, 164.6783, 3859,    150.1,  27.2370,  35.0973,4,  35.6187,2,   -999.0,9,   -999.0,9, 27.2022
   33KMGP901_1,  PR15,   018,  1,      3,      3,2,20011105,0426, -2.9967, 164.6783, 3859,    600.0,   7.0074,  34.5132,4,  34.5802,2,   -999.0,9,   -999.0,9,  6.9499
   33KMGP901_1,  PR15,   018,  1,      2,      2,2,20011105,0426, -2.9967, 164.6783, 3859,    799.9,   5.6167,  34.5133,4,  34.5471,2,   -999.0,9,   -999.0,9,  5.5473
   33KMGP901_1,  PR15,   018,  1,      1,      1,2,20011105,0426, -2.9967, 164.6783, 3859,   1001.1,   4.6552,  34.5709,4,  34.5703,2,   -999.0,9,   -999.0,9,  4.5743
   33KMGP901_1,  PR15,   019,  1,      4,      4,2,20011105,1127, -3.9967, 164.9250, 3143,    400.3,   9.2716,  34.5537,4,  34.6970,2,   -999.0,9,   -999.0,9,  9.2269
   33KMGP901_1,  PR15,   019,  1,      3,      3,2,20011105,1127, -3.9967, 164.9250, 3143,    600.5,   6.9168,  34.4914,4,  34.5733,2,   -999.0,9,   -999.0,9,  6.8597
   33KMGP901_1,  PR15,   019,  1,      2,      2,2,20011105,1127, -3.9967, 164.9250, 3143,    800.2,   5.3182,  34.5206,4,  34.5477,2,   -999.0,9,   -999.0,9,  5.2507
   33KMGP901_1,  PR15,   019,  1,      1,      1,2,20011105,1127, -3.9967, 164.9250, 3143,   1000.7,   4.5815,  34.5738,4,  34.5477,2,   -999.0,9,   -999.0,9,  4.5012
   33KMGP901_1,  PR15,   020,  1,      6,      6,2,20011105,1904, -4.9967, 165.1883, 2659,    150.6,  28.2453,  35.1942,4,  35.6244,2,   -999.0,9,   -999.0,9, 28.2095
   33KMGP901_1,  PR15,   020,  1,      4,      4,2,20011105,1904, -4.9967, 165.1883, 2659,    400.1,   9.2487,  34.6436,4,  34.6962,2,   -999.0,9,   -999.0,9,  9.2041
   33KMGP901_1,  PR15,   020,  1,      2,      2,2,20011105,1904, -4.9967, 165.1883, 2659,    800.1,   5.6857,  34.4641,4,  34.5349,2,   -999.0,9,   -999.0,9,  5.6160
   33KMGP901_1,  PR15,   020,  1,      1,      1,2,20011105,1904, -4.9967, 165.1883, 2659,   1001.5,   4.6624,  34.5723,4,  34.5571,2,   -999.0,9,   -999.0,9,  4.5814
   33KMGP901_1,  PR15,   021,  1,     12,     12,2,20011106,0638, -5.9983, 165.0550, 3595,      2.2,  30.5243,  34.6759,2,  34.6754,2,   -999.0,9,   -999.0,9, 30.5237
   33KMGP901_1,  PR15,   021,  1,     11,     11,2,20011106,0638, -5.9983, 165.0550, 3595,     10.9,  30.3154,  34.6748,2,  34.6741,2,   -999.0,9,   -999.0,9, 30.3127
   33KMGP901_1,  PR15,   021,  1,     10,     10,2,20011106,0638, -5.9983, 165.0550, 3595,     25.6,  30.2877,  34.6784,2,  34.6785,2,   -999.0,9,   -999.0,9, 30.2813
   33KMGP901_1,  PR15,   021,  1,      9,      9,2,20011106,0638, -5.9983, 165.0550, 3595,     39.7,  30.2702,  34.6852,2,  34.6836,2,   -999.0,9,   -999.0,9, 30.2603
   33KMGP901_1,  PR15,   021,  1,      7,      7,2,20011106,0638, -5.9983, 165.0550, 3595,    100.5,  29.7964,  35.5333,2,  35.5363,2,   -999.0,9,   -999.0,9, 29.7716
   33KMGP901_1,  PR15,   021,  1,      6,      6,2,20011106,0638, -5.9983, 165.0550, 3595,    150.6,  27.0502,  35.6519,2,  35.6376,2,   -999.0,9,   -999.0,9, 27.0155
   33KMGP901_1,  PR15,   021,  1,      5,      5,2,20011106,0638, -5.9983, 165.0550, 3595,    200.6,  21.9110,  35.8969,2,  35.8848,2,   -999.0,9,   -999.0,9, 21.8713
   33KMGP901_1,  PR15,   021,  1,      4,      4,2,20011106,0638, -5.9983, 165.0550, 3595,    400.3,   9.1731,  34.6954,2,  34.6957,2,   -999.0,9,   -999.0,9,  9.1288
   33KMGP901_1,  PR15,   021,  1,      3,      3,2,20011106,0638, -5.9983, 165.0550, 3595,    599.2,   6.4974,  34.5394,2,  34.5387,2,   -999.0,9,   -999.0,9,  6.4424
   33KMGP901_1,  PR15,   021,  1,      2,      2,2,20011106,0638, -5.9983, 165.0550, 3595,    800.5,   5.2252,  34.5211,2,  34.5234,2,   -999.0,9,   -999.0,9,  5.1583
   33KMGP901_1,  PR15,   021,  1,      1,      1,2,20011106,0638, -5.9983, 165.0550, 3595,   1000.5,   4.3101,  34.5448,2,  34.5434,2,   -999.0,9,   -999.0,9,  4.2319
   33KMGP901_1,  PR15,   022,  1,     10,     10,2,20011106,1325, -6.9983, 164.9267, 3713,     25.6,  30.1390,  34.7134,4,  34.7229,2,   -999.0,9,   -999.0,9, 30.1326
   33KMGP901_1,  PR15,   022,  1,      9,      9,2,20011106,1325, -6.9983, 164.9267, 3713,     40.0,  30.1156,  34.7153,4,  34.7245,2,   -999.0,9,   -999.0,9, 30.1056
   33KMGP901_1,  PR15,   022,  1,      7,      7,2,20011106,1325, -6.9983, 164.9267, 3713,     99.8,  29.3306,  35.1911,4,  35.5441,2,   -999.0,9,   -999.0,9, 29.3062
   33KMGP901_1,  PR15,   022,  1,      6,      6,2,20011106,1325, -6.9983, 164.9267, 3713,    149.8,  26.4271,  35.1089,4,  35.6438,2,   -999.0,9,   -999.0,9, 26.3931
   33KMGP901_1,  PR15,   022,  1,      5,      5,2,20011106,1325, -6.9983, 164.9267, 3713,    199.6,  22.4392,  35.8074,4,  35.9096,2,   -999.0,9,   -999.0,9, 22.3990
   33KMGP901_1,  PR15,   022,  1,      4,      4,2,20011106,1325, -6.9983, 164.9267, 3713,    400.8,   9.5705,  34.7210,2,  34.7182,2,   -999.0,9,   -999.0,9,  9.5249
   33KMGP901_1,  PR15,   022,  1,      3,      3,2,20011106,1325, -6.9983, 164.9267, 3713,    600.3,   6.6882,  34.5439,2,  34.5419,2,   -999.0,9,   -999.0,9,  6.6321
   33KMGP901_1,  PR15,   022,  1,      2,      2,2,20011106,1325, -6.9983, 164.9267, 3713,    800.4,   5.0945,  34.5236,2,  34.5257,2,   -999.0,9,   -999.0,9,  5.0283
   33KMGP901_1,  PR15,   022,  1,      1,      1,2,20011106,1325, -6.9983, 164.9267, 3713,   1001.0,   4.1604,  34.5487,2,  34.5490,2,   -999.0,9,   -999.0,9,  4.0833
   33KMGP901_1,  PR15,   023,  1,     12,     12,2,20011106,2106, -8.0400, 164.8150, 3894,      3.6,  29.8625,  34.6270,2,  34.6404,2,   -999.0,9,   -999.0,9, 29.8616
   33KMGP901_1,  PR15,   023,  1,     11,     11,2,20011106,2106, -8.0400, 164.8150, 3894,     10.7,  29.8647,  34.6378,2,  34.6396,2,   -999.0,9,   -999.0,9, 29.8621
   33KMGP901_1,  PR15,   023,  1,     10,     10,2,20011106,2106, -8.0400, 164.8150, 3894,     25.2,  29.7508,  34.6194,2,  34.6226,2,   -999.0,9,   -999.0,9, 29.7446
   33KMGP901_1,  PR15,   023,  1,      9,      9,2,20011106,2106, -8.0400, 164.8150, 3894,     39.9,  29.7053,  34.6121,2,  34.6094,2,   -999.0,9,   -999.0,9, 29.6955
   33KMGP901_1,  PR15,   023,  1,      8,      8,2,20011106,2106, -8.0400, 164.8150, 3894,     60.3,  29.7022,  34.6187,2,  34.6194,2,   -999.0,9,   -999.0,9, 29.6873
   33KMGP901_1,  PR15,   023,  1,      7,      7,2,20011106,2106, -8.0400, 164.8150, 3894,    100.3,  28.3824,  35.2663,2,  35.2632,2,   -999.0,9,   -999.0,9, 28.3585
   33KMGP901_1,  PR15,   023,  1,      6,      6,2,20011106,2106, -8.0400, 164.8150, 3894,    150.4,  24.6959,  35.8089,2,  35.8035,2,   -999.0,9,   -999.0,9, 24.6634
   33KMGP901_1,  PR15,   023,  1,      5,      5,2,20011106,2106, -8.0400, 164.8150, 3894,    202.4,  21.3850,  35.9007,2,  35.9138,2,   -999.0,9,   -999.0,9, 21.3455
   33KMGP901_1,  PR15,   023,  1,      4,      4,2,20011106,2106, -8.0400, 164.8150, 3894,    402.1,   9.2225,  34.6939,2,  34.6902,2,   -999.0,9,   -999.0,9,  9.1778
   33KMGP901_1,  PR15,   023,  1,      3,      3,2,20011106,2106, -8.0400, 164.8150, 3894,    602.1,   6.4767,  34.5352,2,  34.5333,2,   -999.0,9,   -999.0,9,  6.4215
   33KMGP901_1,  PR15,   023,  1,      2,      2,2,20011106,2106, -8.0400, 164.8150, 3894,    801.6,   5.4299,  34.5203,2,  34.5201,2,   -999.0,9,   -999.0,9,  5.3616
   33KMGP901_1,  PR15,   023,  1,      1,      1,2,20011106,2106, -8.0400, 164.8150, 3894,   1001.2,   4.3931,  34.5425,2,  34.5408,2,   -999.0,9,   -999.0,9,  4.3143