BOTTLE,20020308WHPSIOKJU
#code : jjward hyd_to_exchange.pl 
#original files copied from HTML directory: 20020328
#original HYD file: pr15_jjhy.txt   Fri Mar  8 15:27:38 2002
#original SUM file: pr15_jjsu.txt   Fri Mar  8 15:15:48 2002
EXPOCODE,SECT_ID,STNNBR,CASTNO,SAMPNO,BTLNBR,BTLNBR_FLAG_W,DATE,TIME,LATITUDE,LONGITUDE,DEPTH,CTDPRS,CTDTMP,CTDSAL,CTDSAL_FLAG_W,SALNTY,SALNTY_FLAG_W,CTDOXY,CTDOXY_FLAG_W,OXYGEN,OXYGEN_FLAG_W,THETA
,,,,,,,,,,,,DBAR,ITS-90,PSS-78,,PSS-78,,UMOL/KG,,UMOL/KG,,DEG C
   33KMGP901_1,  PR15,   001,  1,     11,     11,2,20011031,1922,  8.0167, 165.1033, 5213,     10.3,  29.5589,  34.1473,2,  34.1447,2,   -999.0,9,   -999.0,9, 29.5564
   33KMGP901_1,  PR15,   001,  1,     10,     10,2,20011031,1922,  8.0167, 165.1033, 5213,     25.1,  29.5988,  34.3271,2,  34.3440,2,   -999.0,9,   -999.0,9, 29.5926
   33KMGP901_1,  PR15,   001,  1,      7,      7,2,20011031,1922,  8.0167, 165.1033, 5213,     99.7,  22.4688,  34.9769,2,  34.9796,2,   -999.0,9,   -999.0,9, 22.4488
   33KMGP901_1,  PR15,   001,  1,      5,      5,2,20011031,1922,  8.0167, 165.1033, 5213,    199.7,  11.8155,  34.5549,2,  34.5478,2,   -999.0,9,   -999.0,9, 11.7898
   33KMGP901_1,  PR15,   001,  1,      4,      4,2,20011031,1922,  8.0167, 165.1033, 5213,    397.8,   8.8162,  34.6156,2,  34.6341,2,   -999.0,9,   -999.0,9,  8.7732
   33KMGP901_1,  PR15,   001,  1,      2,      2,2,20011031,1922,  8.0167, 165.1033, 5213,    799.6,   5.5719,  34.5452,2,  34.5446,2,   -999.0,9,   -999.0,9,  5.5029
   33KMGP901_1,  PR15,   001,  1,      1,      1,2,20011031,1922,  8.0167, 165.1033, 5213,   1000.7,   4.6217,  34.5567,2,  34.5544,2,   -999.0,9,   -999.0,9,  4.5411
   33KMGP901_1,  PR15,   002,  1,     12,     12,2,20011101,0319,  7.0017, 165.0850, 5165,      2.8,  29.7763,  34.0877,2,  34.1114,2,   -999.0,9,   -999.0,9, 29.7756
   33KMGP901_1,  PR15,   002,  1,     11,     11,2,20011101,0319,  7.0017, 165.0850, 5165,      9.6,  29.6571,  34.0952,2,  34.1026,2,   -999.0,9,   -999.0,9, 29.6547
   33KMGP901_1,  PR15,   002,  1,     10,     10,2,20011101,0319,  7.0017, 165.0850, 5165,     25.4,  29.6470,  34.1011,2,  34.1053,2,   -999.0,9,   -999.0,9, 29.6408
   33KMGP901_1,  PR15,   002,  1,      7,      7,2,20011101,0319,  7.0017, 165.0850, 5165,     99.7,  25.9264,  34.9006,2,  34.9113,2,   -999.0,9,   -999.0,9, 25.9042
   33KMGP901_1,  PR15,   002,  1,      5,      5,2,20011101,0319,  7.0017, 165.0850, 5165,    200.5,  11.8458,  34.5655,2,  34.5679,2,   -999.0,9,   -999.0,9, 11.8199
   33KMGP901_1,  PR15,   002,  1,      4,      4,2,20011101,0319,  7.0017, 165.0850, 5165,    400.7,   8.7356,  34.6106,2,  34.6083,2,   -999.0,9,   -999.0,9,  8.6926
   33KMGP901_1,  PR15,   002,  1,      2,      2,2,20011101,0319,  7.0017, 165.0850, 5165,    799.3,   5.6684,  34.5422,2,  34.5443,2,   -999.0,9,   -999.0,9,  5.5989
   33KMGP901_1,  PR15,   002,  1,      1,      1,2,20011101,0319,  7.0017, 165.0850, 5165,   1002.0,   4.6334,  34.5568,2,  34.5565,2,   -999.0,9,   -999.0,9,  4.5526
   33KMGP901_1,  PR15,   003,  1,     12,     12,2,20011101,1025,  6.0033, 165.0650, 5012,      2.6,  29.6399,  33.7198,2,  33.7298,2,   -999.0,9,   -999.0,9, 29.6392
   33KMGP901_1,  PR15,   003,  1,     11,     11,2,20011101,1025,  6.0033, 165.0650, 5012,     10.1,  29.6501,  33.7211,2,  33.7414,2,   -999.0,9,   -999.0,9, 29.6476
   33KMGP901_1,  PR15,   003,  1,     10,     10,2,20011101,1025,  6.0033, 165.0650, 5012,     24.6,  29.6505,  33.7255,2,  33.7218,2,   -999.0,9,   -999.0,9, 29.6445
   33KMGP901_1,  PR15,   003,  1,      7,      7,2,20011101,1025,  6.0033, 165.0650, 5012,     98.4,  27.9553,  34.6724,2,  34.6595,2,   -999.0,9,   -999.0,9, 27.9321
   33KMGP901_1,  PR15,   003,  1,      6,      6,2,20011101,1025,  6.0033, 165.0650, 5012,    150.4,  19.6221,  34.7868,2,  34.7897,2,   -999.0,9,   -999.0,9, 19.5947
   33KMGP901_1,  PR15,   003,  1,      5,      5,2,20011101,1025,  6.0033, 165.0650, 5012,    198.5,  12.5324,  34.5574,2,  34.5606,2,   -999.0,9,   -999.0,9, 12.5059
   33KMGP901_1,  PR15,   003,  1,      1,      1,2,20011101,1025,  6.0033, 165.0650, 5012,   1001.8,   4.6338,  34.5579,2,  34.5978,2,   -999.0,9,   -999.0,9,  4.5530
   33KMGP901_1,  PR15,   004,  1,     10,     10,2,20011101,1804,  5.0283, 165.0150, 4776,     24.6,  29.8769,  33.7375,2,  33.7334,2,   -999.0,9,   -999.0,9, 29.8709
   33KMGP901_1,  PR15,   004,  1,      9,      9,2,20011101,1804,  5.0283, 165.0150, 4776,     40.2,  29.8816,  33.7510,2,  33.7461,2,   -999.0,9,   -999.0,9, 29.8717
   33KMGP901_1,  PR15,   004,  1,      6,      6,2,20011101,1804,  5.0283, 165.0150, 4776,    151.4,  23.3591,  34.8617,2,  34.8648,2,   -999.0,9,   -999.0,9, 23.3278
   33KMGP901_1,  PR15,   004,  1,      4,      4,2,20011101,1804,  5.0283, 165.0150, 4776,   1001.0,   4.5884,  34.5573,2,  34.5595,2,   -999.0,9,   -999.0,9,  4.5080
   33KMGP901_1,  PR15,   004,  1,      3,      3,2,20011101,1804,  5.0283, 165.0150, 4776,   1499.4,   3.2444,  34.5976,2,  34.5973,2,   -999.0,9,   -999.0,9,  3.1338
   33KMGP901_1,  PR15,   004,  1,      2,      2,2,20011101,1804,  5.0283, 165.0150, 4776,   2501.9,   1.8820,  34.6616,2,  34.6839,2,   -999.0,9,   -999.0,9,  1.7037
   33KMGP901_1,  PR15,   005,  1,     12,     12,2,20011102,0943,  4.0033, 165.0000, 4488,      2.8,  30.4029,  34.2734,2,  34.2725,2,   -999.0,9,   -999.0,9, 30.4022
   33KMGP901_1,  PR15,   005,  1,     11,     11,2,20011102,0943,  4.0033, 165.0000, 4488,     10.4,  30.3989,  34.2751,2,  34.2995,2,   -999.0,9,   -999.0,9, 30.3963
   33KMGP901_1,  PR15,   005,  1,     10,     10,2,20011102,0943,  4.0033, 165.0000, 4488,     25.3,  30.3528,  34.2666,2,  34.2941,2,   -999.0,9,   -999.0,9, 30.3465
   33KMGP901_1,  PR15,   005,  1,      9,      9,2,20011102,0943,  4.0033, 165.0000, 4488,     40.4,  30.3561,  34.2738,2,  34.2904,2,   -999.0,9,   -999.0,9, 30.3460
   33KMGP901_1,  PR15,   005,  1,      7,      7,2,20011102,0943,  4.0033, 165.0000, 4488,    101.3,  29.4962,  34.8197,2,  34.8245,2,   -999.0,9,   -999.0,9, 29.4714
   33KMGP901_1,  PR15,   005,  1,      6,      6,2,20011102,0943,  4.0033, 165.0000, 4488,    150.2,  26.4034,  34.9692,2,  34.9852,2,   -999.0,9,   -999.0,9, 26.3695
   33KMGP901_1,  PR15,   005,  1,      5,      5,2,20011102,0943,  4.0033, 165.0000, 4488,    200.1,  16.1383,  34.6723,2,  34.6731,2,   -999.0,9,   -999.0,9, 16.1065
   33KMGP901_1,  PR15,   005,  1,      4,      4,2,20011102,0943,  4.0033, 165.0000, 4488,    400.8,   8.5424,  34.6241,2,  34.6251,2,   -999.0,9,   -999.0,9,  8.5000
   33KMGP901_1,  PR15,   005,  1,      2,      2,2,20011102,0943,  4.0033, 165.0000, 4488,    799.5,   5.4903,  34.5447,2,  34.5440,2,   -999.0,9,   -999.0,9,  5.4218
   33KMGP901_1,  PR15,   005,  1,      1,      1,2,20011102,0943,  4.0033, 165.0000, 4488,   1033.1,   4.5657,  34.5566,2,  34.5556,2,   -999.0,9,   -999.0,9,  4.4827
   33KMGP901_1,  PR15,   006,  1,     11,     11,2,20011102,1640,  3.0033, 164.9917, 4230,     10.0,  30.1317,  34.5835,2,  34.6069,2,   -999.0,9,   -999.0,9, 30.1292
   33KMGP901_1,  PR15,   006,  1,     10,     10,2,20011102,1640,  3.0033, 164.9917, 4230,     25.1,  30.1374,  34.6694,2,  34.6211,2,   -999.0,9,   -999.0,9, 30.1311
   33KMGP901_1,  PR15,   006,  1,      9,      9,2,20011102,1640,  3.0033, 164.9917, 4230,     40.5,  30.2043,  34.7183,2,  34.7075,2,   -999.0,9,   -999.0,9, 30.1943
   33KMGP901_1,  PR15,   006,  1,      7,      7,2,20011102,1640,  3.0033, 164.9917, 4230,    100.8,  29.5332,  35.1579,2,  35.1538,2,   -999.0,9,   -999.0,9, 29.5085
   33KMGP901_1,  PR15,   006,  1,      6,      6,2,20011102,1640,  3.0033, 164.9917, 4230,    150.4,  27.2053,  35.3501,2,  35.3520,2,   -999.0,9,   -999.0,9, 27.1705
   33KMGP901_1,  PR15,   006,  1,      4,      4,2,20011102,1640,  3.0033, 164.9917, 4230,    400.5,   8.3143,  34.6052,2,  34.6058,2,   -999.0,9,   -999.0,9,  8.2725
   33KMGP901_1,  PR15,   006,  1,      3,      3,2,20011102,1640,  3.0033, 164.9917, 4230,    599.6,   6.8728,  34.5575,2,  34.5570,2,   -999.0,9,   -999.0,9,  6.8159
   33KMGP901_1,  PR15,   006,  1,      2,      2,2,20011102,1640,  3.0033, 164.9917, 4230,    800.3,   5.5048,  34.5437,2,  34.5872,2,   -999.0,9,   -999.0,9,  5.4361
   33KMGP901_1,  PR15,   007,  1,     11,     11,2,20011120,2037,  2.5017, 164.9817, 4120,      9.5,  30.0726,  34.7817,2,  34.7784,2,   -999.0,9,   -999.0,9, 30.0702
   33KMGP901_1,  PR15,   007,  1,     10,     10,2,20011120,2037,  2.5017, 164.9817, 4120,     24.6,  30.0764,  34.7831,2,  34.8010,2,   -999.0,9,   -999.0,9, 30.0703
   33KMGP901_1,  PR15,   007,  1,      9,      9,2,20011120,2037,  2.5017, 164.9817, 4120,     39.7,  30.0792,  34.7845,2,  34.7820,2,   -999.0,9,   -999.0,9, 30.0693
   33KMGP901_1,  PR15,   007,  1,      6,      6,2,20011120,2037,  2.5017, 164.9817, 4120,    149.6,  26.4358,  34.6977,4,  35.2177,2,   -999.0,9,   -999.0,9, 26.4019
   33KMGP901_1,  PR15,   007,  1,      5,      5,2,20011120,2037,  2.5017, 164.9817, 4120,    200.1,  14.8080,  33.4352,4,  34.6347,2,   -999.0,9,   -999.0,9, 14.7781
   33KMGP901_1,  PR15,   007,  1,      4,      4,2,20011120,2037,  2.5017, 164.9817, 4120,    399.4,   9.0930,  34.6555,2,  34.6528,2,   -999.0,9,   -999.0,9,  9.0490
   33KMGP901_1,  PR15,   007,  1,      2,      2,2,20011120,2037,  2.5017, 164.9817, 4120,    799.4,   5.6412,  34.5417,2,  34.5572,2,   -999.0,9,   -999.0,9,  5.5718
   33KMGP901_1,  PR15,   007,  1,      1,      1,2,20011120,2037,  2.5017, 164.9817, 4120,   1001.0,   4.7433,  34.5534,2,  34.5872,2,   -999.0,9,   -999.0,9,  4.6617
   33KMGP901_1,  PR15,   008,  1,     11,     11,2,20011103,0057,  1.9983, 164.9717, 4173,     10.2,  30.0272,  34.8361,2,  34.8474,2,   -999.0,9,   -999.0,9, 30.0247
   33KMGP901_1,  PR15,   008,  1,     10,     10,2,20011103,0057,  1.9983, 164.9717, 4173,     24.7,  30.0020,  34.8533,2,  34.8453,2,   -999.0,9,   -999.0,9, 29.9959
   33KMGP901_1,  PR15,   008,  1,      9,      9,2,20011103,0057,  1.9983, 164.9717, 4173,     39.9,  29.9560,  34.8827,2,  34.9204,2,   -999.0,9,   -999.0,9, 29.9461
   33KMGP901_1,  PR15,   008,  1,      7,      7,2,20011103,0057,  1.9983, 164.9717, 4173,     99.3,  28.2552,  35.1116,4,  35.2794,2,   -999.0,9,   -999.0,9, 28.2316
   33KMGP901_1,  PR15,   008,  1,      6,      6,2,20011103,0057,  1.9983, 164.9717, 4173,    150.3,  26.0874,  35.2202,2,  35.2433,2,   -999.0,9,   -999.0,9, 26.0538
   33KMGP901_1,  PR15,   008,  1,      4,      4,2,20011103,0057,  1.9983, 164.9717, 4173,    400.2,   9.6081,  34.7026,2,  34.7062,2,   -999.0,9,   -999.0,9,  9.5625
   33KMGP901_1,  PR15,   008,  1,      2,      2,2,20011103,0057,  1.9983, 164.9717, 4173,    799.7,   5.4642,  34.5391,2,  34.5440,2,   -999.0,9,   -999.0,9,  5.3958
   33KMGP901_1,  PR15,   008,  1,      1,      1,2,20011103,0057,  1.9983, 164.9717, 4173,   1003.7,   4.7132,  34.5529,2,  34.5522,2,   -999.0,9,   -999.0,9,  4.6316
   33KMGP901_1,  PR15,   009,  1,     11,     11,2,20011103,0510,  1.5017, 165.0250, 4256,     10.4,  29.8265,  35.0673,2,  35.0810,2,   -999.0,9,   -999.0,9, 29.8240
   33KMGP901_1,  PR15,   009,  1,      9,      9,2,20011103,0510,  1.5017, 165.0250, 4256,     40.7,  29.8005,  35.0831,2,  35.0869,2,   -999.0,9,   -999.0,9, 29.7905
   33KMGP901_1,  PR15,   009,  1,      8,      8,2,20011103,0510,  1.5017, 165.0250, 4256,     59.8,  29.8185,  35.0862,4,  35.1218,2,   -999.0,9,   -999.0,9, 29.8038
   33KMGP901_1,  PR15,   009,  1,      7,      7,2,20011103,0510,  1.5017, 165.0250, 4256,    100.8,  29.3181,  34.9223,4,  35.1520,2,   -999.0,9,   -999.0,9, 29.2935
   33KMGP901_1,  PR15,   009,  1,      6,      6,2,20011103,0510,  1.5017, 165.0250, 4256,    149.7,  25.9974,  35.0095,4,  35.3173,2,   -999.0,9,   -999.0,9, 25.9639
   33KMGP901_1,  PR15,   009,  1,      5,      5,2,20011103,0510,  1.5017, 165.0250, 4256,    200.4,  17.2000,  34.3017,4,  34.9806,2,   -999.0,9,   -999.0,9, 17.1666
   33KMGP901_1,  PR15,   009,  1,      4,      4,2,20011103,0510,  1.5017, 165.0250, 4256,    400.0,   9.8407,  34.7223,2,  34.7207,2,   -999.0,9,   -999.0,9,  9.7945
   33KMGP901_1,  PR15,   009,  1,      3,      3,2,20011103,0510,  1.5017, 165.0250, 4256,    600.3,   7.1854,  34.5741,2,  34.5740,2,   -999.0,9,   -999.0,9,  7.1271
   33KMGP901_1,  PR15,   009,  1,      2,      2,2,20011103,0510,  1.5017, 165.0250, 4256,    800.6,   5.4644,  34.5419,2,  34.5407,2,   -999.0,9,   -999.0,9,  5.3959
   33KMGP901_1,  PR15,   009,  1,      1,      1,2,20011103,0510,  1.5017, 165.0250, 4256,   1000.2,   4.6589,  34.5535,2,  34.5521,2,   -999.0,9,   -999.0,9,  4.5781
   33KMGP901_1,  PR15,   010,  1,     12,     12,2,20011103,0907,  1.0000, 165.0600, 4327,      2.9,  29.9013,  35.2451,2,  35.2428,2,   -999.0,9,   -999.0,9, 29.9006
   33KMGP901_1,  PR15,   010,  1,     11,     11,2,20011103,0907,  1.0000, 165.0600, 4327,      9.7,  29.9044,  35.2428,2,  35.2429,2,   -999.0,9,   -999.0,9, 29.9020
   33KMGP901_1,  PR15,   010,  1,     10,     10,2,20011103,0907,  1.0000, 165.0600, 4327,     25.4,  29.8198,  35.2389,2,  35.2538,2,   -999.0,9,   -999.0,9, 29.8136
   33KMGP901_1,  PR15,   010,  1,      9,      9,2,20011103,0907,  1.0000, 165.0600, 4327,     39.6,  29.8048,  35.2380,2,  35.2402,2,   -999.0,9,   -999.0,9, 29.7951
   33KMGP901_1,  PR15,   010,  1,      7,      7,2,20011103,0907,  1.0000, 165.0600, 4327,     99.7,  27.8855,  34.9768,4,  35.2274,2,   -999.0,9,   -999.0,9, 27.8621
   33KMGP901_1,  PR15,   010,  1,      5,      5,2,20011103,0907,  1.0000, 165.0600, 4327,    199.6,  15.4950,  34.7934,4,  35.2074,2,   -999.0,9,   -999.0,9, 15.4640
   33KMGP901_1,  PR15,   010,  1,      3,      3,2,20011103,0907,  1.0000, 165.0600, 4327,    599.7,   7.4367,  34.5887,2,  34.5909,2,   -999.0,9,   -999.0,9,  7.3773
   33KMGP901_1,  PR15,   010,  1,      2,      2,2,20011103,0907,  1.0000, 165.0600, 4327,    799.9,   5.5371,  34.5430,2,  34.5501,2,   -999.0,9,   -999.0,9,  5.4683
   33KMGP901_1,  PR15,   010,  1,      1,      1,2,20011103,0907,  1.0000, 165.0600, 4327,   1000.1,   4.7038,  34.5525,2,  34.5517,2,   -999.0,9,   -999.0,9,  4.6226
   33KMGP901_1,  PR15,   011,  1,     12,     12,2,20011103,1307,  0.5017, 165.1050, 4368,      2.8,  29.8931,  35.2732,2,  35.2694,2,   -999.0,9,   -999.0,9, 29.8924
   33KMGP901_1,  PR15,   011,  1,     11,     11,2,20011103,1307,  0.5017, 165.1050, 4368,     10.7,  29.8409,  35.2670,2,  35.2643,2,   -999.0,9,   -999.0,9, 29.8383
   33KMGP901_1,  PR15,   011,  1,     10,     10,2,20011103,1307,  0.5017, 165.1050, 4368,     25.3,  29.7991,  35.2651,2,  35.2607,2,   -999.0,9,   -999.0,9, 29.7929
   33KMGP901_1,  PR15,   011,  1,      8,      8,2,20011103,1307,  0.5017, 165.1050, 4368,     59.5,  29.7775,  35.2637,2,  35.2603,2,   -999.0,9,   -999.0,9, 29.7628
   33KMGP901_1,  PR15,   011,  1,      7,      7,2,20011103,1307,  0.5017, 165.1050, 4368,    100.4,  29.7510,  35.2535,2,  35.2521,2,   -999.0,9,   -999.0,9, 29.7262
   33KMGP901_1,  PR15,   011,  1,      5,      5,2,20011103,1307,  0.5017, 165.1050, 4368,    198.8,  15.9841,  35.0392,2,  35.0027,2,   -999.0,9,   -999.0,9, 15.9526
   33KMGP901_1,  PR15,   011,  1,      4,      4,2,20011103,1307,  0.5017, 165.1050, 4368,    398.8,   9.8929,  34.7251,2,  34.7243,2,   -999.0,9,   -999.0,9,  9.8466
   33KMGP901_1,  PR15,   011,  1,      3,      3,2,20011103,1307,  0.5017, 165.1050, 4368,    599.5,   7.0887,  34.5767,2,  34.5770,2,   -999.0,9,   -999.0,9,  7.0309
   33KMGP901_1,  PR15,   011,  1,      2,      2,2,20011103,1307,  0.5017, 165.1050, 4368,    800.1,   5.4534,  34.5438,2,  34.5442,2,   -999.0,9,   -999.0,9,  5.3851
   33KMGP901_1,  PR15,   011,  1,      1,      1,2,20011103,1307,  0.5017, 165.1050, 4368,    999.6,   4.6723,  34.5533,2,  34.5526,2,   -999.0,9,   -999.0,9,  4.5914
   33KMGP901_1,  PR15,   012,  1,     12,     12,2,20011103,1703,  0.0017, 165.1500, 4396,      3.5,  30.0240,  35.3289,2,  35.3309,2,   -999.0,9,   -999.0,9, 30.0231
   33KMGP901_1,  PR15,   012,  1,     11,     11,2,20011103,1703,  0.0017, 165.1500, 4396,     10.2,  30.0198,  35.3293,2,  35.3315,2,   -999.0,9,   -999.0,9, 30.0173
   33KMGP901_1,  PR15,   012,  1,     10,     10,2,20011103,1703,  0.0017, 165.1500, 4396,     25.3,  30.0047,  35.3459,2,  35.3437,2,   -999.0,9,   -999.0,9, 29.9984
   33KMGP901_1,  PR15,   012,  1,      9,      9,2,20011103,1703,  0.0017, 165.1500, 4396,     40.4,  29.9369,  35.3427,2,  35.3427,2,   -999.0,9,   -999.0,9, 29.9269
   33KMGP901_1,  PR15,   012,  1,      7,      7,2,20011103,1703,  0.0017, 165.1500, 4396,    100.6,  27.9923,  35.3278,2,  35.3474,2,   -999.0,9,   -999.0,9, 27.9686
   33KMGP901_1,  PR15,   012,  1,      6,      6,2,20011103,1703,  0.0017, 165.1500, 4396,    150.2,  22.0796,  35.3274,2,  35.3454,2,   -999.0,9,   -999.0,9, 22.0498
   33KMGP901_1,  PR15,   012,  1,      5,      5,2,20011103,1703,  0.0017, 165.1500, 4396,    201.5,  16.6731,  35.2120,2,  35.2107,2,   -999.0,9,   -999.0,9, 16.6402
   33KMGP901_1,  PR15,   012,  1,      4,      4,2,20011103,1703,  0.0017, 165.1500, 4396,    399.6,  10.0434,  34.7362,2,  34.7447,2,   -999.0,9,   -999.0,9,  9.9966
   33KMGP901_1,  PR15,   012,  1,      3,      3,2,20011103,1703,  0.0017, 165.1500, 4396,    601.0,   7.0711,  34.5742,2,  34.5741,2,   -999.0,9,   -999.0,9,  7.0132
   33KMGP901_1,  PR15,   012,  1,      2,      2,2,20011103,1703,  0.0017, 165.1500, 4396,    800.7,   5.5797,  34.5434,2,  34.5609,2,   -999.0,9,   -999.0,9,  5.5105
   33KMGP901_1,  PR15,   012,  1,      1,      1,2,20011103,1703,  0.0017, 165.1500, 4396,   1000.5,   4.3755,  34.5616,2,  34.5637,2,   -999.0,9,   -999.0,9,  4.2969
   33KMGP901_1,  PR15,   013,  1,     12,     12,2,20011104,0758, -0.5000, 164.8567, 4440,      2.6,  30.3422,  35.3296,2,  35.3310,2,   -999.0,9,   -999.0,9, 30.3416
   33KMGP901_1,  PR15,   013,  1,     11,     11,2,20011104,0758, -0.5000, 164.8567, 4440,      9.9,  30.2376,  35.3131,2,  35.3103,2,   -999.0,9,   -999.0,9, 30.2352
   33KMGP901_1,  PR15,   013,  1,     10,     10,2,20011104,0758, -0.5000, 164.8567, 4440,     25.1,  30.2106,  35.3231,2,  35.3221,2,   -999.0,9,   -999.0,9, 30.2044
   33KMGP901_1,  PR15,   013,  1,      9,      9,2,20011104,0758, -0.5000, 164.8567, 4440,     40.3,  30.0950,  35.3273,2,  35.3286,2,   -999.0,9,   -999.0,9, 30.0849
   33KMGP901_1,  PR15,   013,  1,      8,      8,2,20011104,0758, -0.5000, 164.8567, 4440,     60.0,  29.9392,  35.3462,2,  35.3590,2,   -999.0,9,   -999.0,9, 29.9243
   33KMGP901_1,  PR15,   013,  1,      7,      7,2,20011104,0758, -0.5000, 164.8567, 4440,     99.9,  28.7640,  35.4516,2,  35.4493,2,   -999.0,9,   -999.0,9, 28.7399
   33KMGP901_1,  PR15,   013,  1,      6,      6,2,20011104,0758, -0.5000, 164.8567, 4440,    149.7,  24.0575,  35.4383,2,  35.4326,2,   -999.0,9,   -999.0,9, 24.0259
   33KMGP901_1,  PR15,   013,  1,      5,      5,2,20011104,0758, -0.5000, 164.8567, 4440,    200.8,  16.8061,  35.3123,2,  35.3196,2,   -999.0,9,   -999.0,9, 16.7731