BOTTLE,20100608CCHDOSIODM
EXPOCODE,SECT_ID,STNNBR,CASTNO,BTLNBR,BTLNBR_FLAG_W,DATE,TIME,LATITUDE,LONGITUDE,DEPTH,CTDPRS,CTDTMP,CTDSAL,CTDSAL_FLAG_W,SALNTY,SALNTY_FLAG_W,CTDOXY,CTDOXY_FLAG_W,OXYGEN,OXYGEN_FLAG_W,SILCAT,SILCAT_FLAG_W,NITRAT,NITRAT_FLAG_W,NITRIT,NITRIT_FLAG_W,PHSPHT,PHSPHT_FLAG_W,CFC-11,CFC-11_FLAG_W,CFC-12,CFC-12_FLAG_W,TCARBN,TCARBN_FLAG_W,ALKALI,ALKALI_FLAG_W,THETA
,,,,,,,,,,METERS,DBAR,ITS-90,PSS-78,,PSS-78,,UMOL/KG,,UMOL/KG,,UMOL/KG,,UMOL/KG,,UMOL/KG,,UMOL/KG,,PMOL/KG,,PMOL/KG,,UMOL/KG,,UMOL/KG,,DEG C
  58GS20060721,   75N,   301,  1,      1,2,20060731,1107, 74.5000,   9.0000, 2599,   2550.5,  -0.8081,  34.9130,2,  34.9067,2,    297.6,2,    297.0,2,    12.27,2,    15.10,2,     0.00,2,     1.00,2,    0.882,2,    0.438,2,   2163.0,2,   2303.6,2,  -0.9399
  58GS20060721,   75N,   301,  1,      2,2,20060731,1107, 74.5000,   9.0000, 2599,   2000.6,  -0.8156,  34.9120,2,  34.9082,2,    295.2,2,    297.0,2,    12.02,2,    15.01,2,     0.00,2,     1.02,2,    1.043,2,    0.549,2,   2163.4,2,   2301.2,2,  -0.9094
  58GS20060721,   75N,   301,  1,      3,2,20060731,1107, 74.5000,   9.0000, 2599,   1499.8,  -0.7415,  34.9080,2,  34.9044,2,    298.0,2,    301.1,2,    10.47,2,    14.53,2,     0.00,2,     1.00,2,    2.095,2,    1.088,2,   2163.2,2,   2302.5,2,  -0.8061
  58GS20060721,   75N,   301,  1,      4,2,20060731,1107, 74.5000,   9.0000, 2599,    999.7,  -0.5328,  34.8990,2,  34.8932,2,    303.4,2,    307.0,2,     8.35,2,    13.98,2,     0.00,2,     0.96,2,    3.979,2,    1.924,2,   2165.3,2,   2301.0,2,  -0.5730
  58GS20060721,   75N,   301,  1,      5,2,20060731,1107, 74.5000,   9.0000, 2599,    800.4,  -0.2912,  34.8960,2,  34.8919,2,    306.0,2,    309.4,2,     7.46,2,    13.75,2,     0.00,2,     0.95,2,    4.725,2,    2.351,2,   2164.8,2,   2302.6,2,  -0.3236
  58GS20060721,   75N,   301,  1,      6,2,20060731,1107, 74.5000,   9.0000, 2599,    498.1,   1.2921,  34.9420,2,  34.9379,2,    308.7,2,    311.3,2,     5.93,2,    12.96,2,     0.01,2,     0.88,2,    5.751,2,    2.935,2,   2161.0,2,   2304.5,2,   1.2667
  58GS20060721,   75N,   301,  1,      7,2,20060731,1107, 74.5000,   9.0000, 2599,    399.9,   2.9997,  35.0390,2,  35.0328,2,    302.3,2,    306.3,2,     5.30,2,    12.49,2,     0.02,2,     0.86,2,    5.763,2,    3.085,2,   2155.8,2,   2307.3,2,   2.9741
  58GS20060721,   75N,   301,  1,      8,2,20060731,1107, 74.5000,   9.0000, 2599,    199.7,   4.6720,  35.1360,2,  35.1386,2,    296.0,2,    298.1,2,     4.89,2,    12.10,2,     0.00,2,     0.80,2,    5.412,2,    2.872,2,   2150.1,2,   2314.1,2,   4.6568
  58GS20060721,   75N,   301,  1,      9,2,20060731,1107, 74.5000,   9.0000, 2599,    100.0,   5.6424,  35.1590,2,  35.1610,2,    289.3,2,    291.8,2,     4.77,2,    11.66,2,     0.08,2,     0.77,2,    5.075,2,    2.638,2,   2147.2,2,   2314.7,2,   5.6341
  58GS20060721,   75N,   301,  1,     10,2,20060731,1107, 74.5000,   9.0000, 2599,     49.6,   6.5396,  35.1820,2,  35.1827,2,    283.2,2,    285.7,2,     4.65,2,    11.64,2,     0.04,2,     0.78,2,    4.889,2,    2.695,2,   2143.9,2,   2315.5,2,   6.5352
  58GS20060721,   75N,   301,  1,     11,2,20060731,1107, 74.5000,   9.0000, 2599,     30.4,   6.9110,  35.1640,2,  35.1687,2,    291.8,2,    293.2,2,     3.90,2,     9.06,2,     0.14,2,     0.65,2,    4.882,2,    2.714,2,   2129.5,2,   2315.8,2,   6.9082
  58GS20060721,   75N,   301,  1,     12,2,20060731,1107, 74.5000,   9.0000, 2599,      5.6,   7.9158,  35.1230,2,  35.1222,2,    295.4,2,    299.9,2,     1.95,2,     4.11,2,     0.08,2,     0.34,2,    4.829,2,    2.678,2,   2104.6,2,   2322.9,2,   7.9152
  58GS20060721,   75N,   302,  1,      1,2,20060731,1341, 74.5000,   9.5000, 2396,   2351.4,  -0.8259,  34.9130,2,  34.9072,2,    298.3,2,   -999.0,9,    12.55,2,    15.15,2,     0.00,2,     1.02,2, -999.000,9, -999.000,9,   -999.0,9,   -999.0,9,  -0.9431
  58GS20060721,   75N,   302,  1,      2,2,20060731,1341, 74.5000,   9.5000, 2396,   2000.2,  -0.8318,  34.9130,2,  34.9056,2,    296.8,2,   -999.0,9,    12.17,2,    15.08,2,     0.00,2,     1.01,2, -999.000,9, -999.000,9,   -999.0,9,   -999.0,9,  -0.9253
  58GS20060721,   75N,   302,  1,      3,2,20060731,1341, 74.5000,   9.5000, 2396,   1501.1,  -0.7741,  34.9100,2,-999.0000,9,    297.2,2,   -999.0,9,    11.11,2,    14.86,2,     0.00,2,     1.00,2, -999.000,9, -999.000,9,   -999.0,9,   -999.0,9,  -0.8384
  58GS20060721,   75N,   302,  1,      4,2,20060731,1341, 74.5000,   9.5000, 2396,    999.6,  -0.6029,  34.9010,2,  34.8956,2,    303.0,2,   -999.0,9,     8.93,2,    14.34,2,     0.00,2,     0.96,2, -999.000,9, -999.000,9,   -999.0,9,   -999.0,9,  -0.6426
  58GS20060721,   75N,   302,  1,      5,2,20060731,1341, 74.5000,   9.5000, 2396,    800.0,  -0.4603,  34.8960,2,-999.0000,9,    307.8,2,   -999.0,9,     7.75,2,    13.85,2,     0.00,2,     0.93,2, -999.000,9, -999.000,9,   -999.0,9,   -999.0,9,  -0.4915
  58GS20060721,   75N,   302,  1,      6,2,20060731,1341, 74.5000,   9.5000, 2396,    500.1,   0.2434,  34.9030,2,-999.0000,9,    314.1,2,   -999.0,9,     6.39,2,    13.26,2,     0.00,2,     0.90,2, -999.000,9, -999.000,9,   -999.0,9,   -999.0,9,   0.2223
  58GS20060721,   75N,   302,  1,      7,2,20060731,1341, 74.5000,   9.5000, 2396,    400.5,   1.0926,  34.9370,2,-999.0000,9,    305.0,2,   -999.0,9,     6.31,2,    13.39,2,     0.00,2,     0.90,2, -999.000,9, -999.000,9,   -999.0,9,   -999.0,9,   1.0732
  58GS20060721,   75N,   302,  1,      8,2,20060731,1341, 74.5000,   9.5000, 2396,    200.0,   3.6985,  35.0850,2,  35.0871,2,    303.4,2,   -999.0,9,     5.02,2,    12.40,2,     0.00,2,     0.82,2, -999.000,9, -999.000,9,   -999.0,9,   -999.0,9,   3.6849
  58GS20060721,   75N,   302,  1,      9,2,20060731,1341, 74.5000,   9.5000, 2396,    101.3,   4.5827,  35.1270,2,-999.0000,9,    299.0,2,   -999.0,9,     4.82,2,    12.07,2,     0.04,2,     0.80,2, -999.000,9, -999.000,9,   -999.0,9,   -999.0,9,   4.5752
  58GS20060721,   75N,   302,  1,     10,2,20060731,1341, 74.5000,   9.5000, 2396,     51.2,   5.2365,  35.1180,2,-999.0000,9,    296.5,2,   -999.0,9,     4.08,2,    10.06,2,     0.24,2,     0.74,2, -999.000,9, -999.000,9,   -999.0,9,   -999.0,9,   5.2324
  58GS20060721,   75N,   302,  1,     11,2,20060731,1341, 74.5000,   9.5000, 2396,     30.8,   6.7840,  35.0810,2,-999.0000,9,    300.2,2,   -999.0,9,     2.03,2,     3.59,2,     0.06,2,     0.38,2, -999.000,9, -999.000,9,   -999.0,9,   -999.0,9,   6.7812
  58GS20060721,   75N,   302,  1,     12,2,20060731,1341, 74.5000,   9.5000, 2396,      6.5,   7.2463,  35.0550,2,  35.0568,2,    303.2,2,   -999.0,9,     1.27,2,     3.16,2,     0.05,2,     0.31,2, -999.000,9, -999.000,9,   -999.0,9,   -999.0,9,   7.2457
  58GS20060721,   75N,   303,  1,      1,2,20060731,1608, 74.5000,  10.0000, 2465,   2400.2,  -0.8256,  34.9130,2,  34.9042,2,    298.3,2,    296.3,2,    12.70,2,    15.15,2,     0.00,2,     1.00,2,    0.787,2,    0.422,2,   2163.1,2,   2305.0,2,  -0.9462
  58GS20060721,   75N,   303,  1,      2,2,20060731,1608, 74.5000,  10.0000, 2465,   1999.7,  -0.8349,  34.9130,2,  34.9074,2,    297.1,2,    296.8,2,    12.22,2,    15.08,2,     0.00,2,     1.01,2,    0.890,2,    0.533,2,   2162.1,2,   2311.4,2,  -0.9283
  58GS20060721,   75N,   303,  1,      3,2,20060731,1608, 74.5000,  10.0000, 2465,   1500.1,  -0.7773,  34.9100,2,  34.9039,2,    297.3,2,    298.2,2,    11.12,2,    14.83,2,     0.00,2,     0.95,2,    1.490,2,    0.803,2,   2163.8,2,   2308.5,2,  -0.8414
  58GS20060721,   75N,   303,  1,      4,2,20060731,1608, 74.5000,  10.0000, 2465,   1000.2,  -0.6407,  34.8990,2,  34.8934,2,    307.7,2,    309.0,2,     8.51,2,    14.03,2,     0.00,2,     0.93,2,    3.712,2,    1.880,2,   2164.6,2,   2299.4,2,  -0.6801
  58GS20060721,   75N,   303,  1,      5,2,20060731,1608, 74.5000,  10.0000, 2465,    800.1,  -0.5288,  34.8950,2,  34.8885,2,    311.2,2,    312.4,2,     7.63,2,    13.74,2,     0.00,2,     0.92,2,    4.431,2,    2.286,2,   2165.0,2,   2300.4,2,  -0.5596
  58GS20060721,   75N,   303,  1,      6,2,20060731,1608, 74.5000,  10.0000, 2465,    500.1,   0.0161,  34.8980,2,  34.8925,2,    313.5,2,    313.5,2,     6.67,2,    13.39,2,     0.00,2,     0.89,2,    5.178,2,    2.526,2,   2163.4,2,   2298.9,2,  -0.0041
  58GS20060721,   75N,   303,  1,      7,2,20060731,1608, 74.5000,  10.0000, 2465,    399.7,   0.4129,  34.9070,2,  34.9000,2,    311.8,2,    312.1,2,     6.39,2,    13.35,2,     0.00,2,     0.90,2,    5.415,2,    2.674,2,   2163.6,2,   -999.0,9,   0.3958
  58GS20060721,   75N,   303,  1,      8,2,20060731,1608, 74.5000,  10.0000, 2465,    199.5,   2.7824,  35.0270,2,  35.0239,2,    310.0,2,    309.4,2,     5.17,2,    12.33,2,     0.04,2,     0.82,2,    5.773,2,    2.950,2,   2155.1,2,   2297.4,2,   2.7703
  58GS20060721,   75N,   303,  1,      9,2,20060731,1608, 74.5000,  10.0000, 2465,    100.4,   3.9838,  35.0870,2,  35.0853,2,    306.1,2,    305.5,2,     4.82,2,    11.45,2,     0.24,2,     0.78,2,    5.611,2,    2.912,2,   2149.7,2,   2308.2,2,   3.9768
  58GS20060721,   75N,   303,  1,     10,2,20060731,1608, 74.5000,  10.0000, 2465,     51.1,   4.9253,  35.0790,2,  35.0803,2,    309.1,2,    307.8,2,     4.01,2,     7.24,2,     0.18,2,     0.67,2,    5.596,2,    2.925,2,   2137.4,2,   2311.3,2,   4.9214
  58GS20060721,   75N,   303,  1,     11,2,20060731,1608, 74.5000,  10.0000, 2465,     27.5,   7.0871,  35.0430,2,  35.0470,2,    304.6,2,    304.4,2,     1.67,2,     3.19,2,     0.06,2,     0.34,2,    5.109,2,    2.751,2,   2102.6,2,   2317.8,2,   7.0845
  58GS20060721,   75N,   303,  1,     12,2,20060731,1608, 74.5000,  10.0000, 2465,      6.2,   7.8079,  35.0540,2,  35.0538,2,    301.8,2,    301.0,2,     1.49,2,     2.90,2,     0.04,2,     0.31,2,    5.000,2,    2.833,2,   2102.3,2,   2314.5,2,   7.8073
  58GS20060721,   75N,   304,  1,      1,2,20060801,0433, 74.5000,  10.5000, 2438,   2351.0,  -0.8269,  34.9130,2,  34.9075,2,    298.7,2,   -999.0,9,    12.43,2,    14.87,2,     0.00,2,     0.98,2, -999.000,9, -999.000,9,   -999.0,9,   -999.0,9,  -0.9440
  58GS20060721,   75N,   304,  1,      2,2,20060801,0433, 74.5000,  10.5000, 2438,   2000.7,  -0.8226,  34.9120,2,-999.0000,9,    297.3,2,   -999.0,9,    12.07,2,    14.82,2,     0.00,2,     0.98,2, -999.000,9, -999.000,9,   -999.0,9,   -999.0,9,  -0.9163
  58GS20060721,   75N,   304,  1,      3,2,20060801,0433, 74.5000,  10.5000, 2438,   1501.9,  -0.7465,  34.9080,2,-999.0000,9,    298.3,2,   -999.0,9,    10.71,2,    14.52,2,     0.00,2,     0.96,2, -999.000,9, -999.000,9,   -999.0,9,   -999.0,9,  -0.8111
  58GS20060721,   75N,   304,  1,      4,2,20060801,0433, 74.5000,  10.5000, 2438,   1000.6,  -0.5121,  34.9010,2,  34.8952,2,    301.7,2,   -999.0,9,     8.72,2,    14.14,2,     0.00,2,     0.94,2, -999.000,9, -999.000,9,   -999.0,9,   -999.0,9,  -0.5526
  58GS20060721,   75N,   304,  1,      5,2,20060801,0433, 74.5000,  10.5000, 2438,    800.3,  -0.2557,  34.8980,2,-999.0000,9,    303.4,2,   -999.0,9,     7.81,2,    13.94,2,     0.00,2,     0.94,2, -999.000,9, -999.000,9,   -999.0,9,   -999.0,9,  -0.2883
  58GS20060721,   75N,   304,  1,      6,2,20060801,0433, 74.5000,  10.5000, 2438,    500.0,   1.7468,  34.9710,2,-999.0000,9,    308.6,2,   -999.0,9,     5.77,2,    12.81,2,     0.00,2,     0.85,2, -999.000,9, -999.000,9,   -999.0,9,   -999.0,9,   1.7195
  58GS20060721,   75N,   304,  1,      7,2,20060801,0433, 74.5000,  10.5000, 2438,    400.2,   3.1291,  35.0630,2,-999.0000,9,    306.9,2,   -999.0,9,     5.07,2,    12.30,2,     0.01,2,     0.80,2, -999.000,9, -999.000,9,   -999.0,9,   -999.0,9,   3.1030
  58GS20060721,   75N,   304,  1,      8,2,20060801,0433, 74.5000,  10.5000, 2438,    200.2,   4.5561,  35.1350,2,  35.1372,2,    299.3,2,   -999.0,9,     4.85,2,    12.06,2,     0.01,2,     0.78,2, -999.000,9, -999.000,9,   -999.0,9,   -999.0,9,   4.5411
  58GS20060721,   75N,   304,  1,      9,2,20060801,0433, 74.5000,  10.5000, 2438,    100.8,   5.1456,  35.1500,2,-999.0000,9,    294.6,2,   -999.0,9,     4.89,2,    11.99,2,     0.01,2,     0.78,2, -999.000,9, -999.000,9,   -999.0,9,   -999.0,9,   5.1376
  58GS20060721,   75N,   304,  1,     10,2,20060801,0433, 74.5000,  10.5000, 2438,     50.1,   5.8291,  35.1520,2,-999.0000,9,    296.6,2,   -999.0,9,     4.32,2,     8.77,2,     0.22,2,     0.65,2, -999.000,9, -999.000,9,   -999.0,9,   -999.0,9,   5.8249
  58GS20060721,   75N,   304,  1,     11,2,20060801,0433, 74.5000,  10.5000, 2438,     30.5,   7.1425,  35.1280,2,-999.0000,9,    298.9,2,   -999.0,9,     3.01,2,     5.96,2,     0.14,2,     0.49,2, -999.000,9, -999.000,9,   -999.0,9,   -999.0,9,   7.1396
  58GS20060721,   75N,   304,  1,     12,2,20060801,0433, 74.5000,  10.5000, 2438,      5.7,   8.5232,  35.1220,2,  35.1230,2,    301.5,2,   -999.0,9,     1.35,2,     3.28,2,     0.09,2,     0.27,2, -999.000,9, -999.000,9,   -999.0,9,   -999.0,9,   8.5226
  58GS20060721,   75N,   305,  1,      1,2,20060801,0657, 74.5000,  11.0000, 2386,   2300.1,  -0.8328,  34.9130,2,  34.9073,2,    298.7,2,    296.5,2,    12.48,2,    15.00,2,     0.00,2,     0.99,2, -999.000,9,    0.340,2,   2163.1,2,   2302.2,2,  -0.9463
  58GS20060721,   75N,   305,  1,      2,2,20060801,0657, 74.5000,  11.0000, 2386,   2000.3,  -0.8218,  34.9120,2,  34.9060,2,    297.8,2,    296.7,2,    12.02,2,    14.88,2,     0.00,2,     0.98,2,    0.904,2,    0.428,2,   2160.6,2,   2310.7,2,  -0.9154
  58GS20060721,   75N,   305,  1,      3,2,20060801,0657, 74.5000,  11.0000, 2386,   1499.5,  -0.7363,  34.9080,2,  34.9056,2,    298.5,2,    298.5,2,    10.68,2,    14.58,2,     0.00,2,     0.97,2,    1.676,2,    0.815,2,   2162.5,2,   2301.8,2,  -0.8009
  58GS20060721,   75N,   305,  1,      4,2,20060801,0657, 74.5000,  11.0000, 2386,    999.8,  -0.4923,  34.8990,2,  34.8934,2,    303.8,2,    304.2,2,     8.45,2,    14.03,2,     0.00,2,     0.93,2,    3.540,2,    1.714,2,   2165.4,2,   2299.4,2,  -0.5329
  58GS20060721,   75N,   305,  1,      5,2,20060801,0657, 74.5000,  11.0000, 2386,    800.9,  -0.1963,  34.8970,2,  34.8912,2,    306.9,2,    307.1,2,     7.46,2,    13.70,2,     0.00,2,     0.90,2,    4.378,2,    2.133,2,   2164.5,2,   2305.0,2,  -0.2293
  58GS20060721,   75N,   305,  1,      6,2,20060801,0657, 74.5000,  11.0000, 2386,    499.7,   1.9045,  34.9800,2,  34.9773,2,    311.7,2,    310.6,2,     5.51,2,    12.63,2,     0.00,2,     0.84,2,    5.511,2,    2.813,2,   2156.1,2,   2313.4,2,   1.8765
  58GS20060721,   75N,   305,  1,      7,2,20060801,0657, 74.5000,  11.0000, 2386,    400.5,   3.2105,  35.0470,2,  35.0484,2,    303.7,2,    303.0,2,     5.30,2,    12.58,2,     0.01,2,     0.83,2,    5.283,2,    2.757,2,   2154.0,2,   2309.8,2,   3.1841
  58GS20060721,   75N,   305,  1,      8,2,20060801,0657, 74.5000,  11.0000, 2386,    200.9,   4.7547,  35.1420,2,  35.1437,2,    299.5,2,    298.4,2,     4.83,2,    12.00,2,     0.00,2,     0.77,2,    5.075,2,    2.712,2,   2146.3,2,   2315.8,2,   4.7393
  58GS20060721,   75N,   305,  1,      9,2,20060801,0657, 74.5000,  11.0000, 2386,    100.2,   5.5396,  35.1550,2,  35.1563,2,    294.9,2,    293.7,2,     4.70,2,    10.77,2,     0.15,2,     0.73,2,    4.850,2,    2.697,2,   2142.5,2,   2318.2,2,   5.5314
  58GS20060721,   75N,   305,  1,     10,2,20060801,0657, 74.5000,  11.0000, 2386,     50.4,   6.4749,  35.1530,2,  35.1573,2,    295.0,2,    293.5,2,     4.00,2,     8.58,2,     0.22,2,     0.64,2,    4.716,2,    2.607,2,   2131.9,2,   2320.4,2,   6.4704
  58GS20060721,   75N,   305,  1,     11,2,20060801,0657, 74.5000,  11.0000, 2386,     29.9,   7.6161,  35.1210,2,  35.1237,2,    301.2,2,    299.9,2,     2.13,2,     4.34,2,     0.09,2,     0.35,2,    4.564,2,    2.580,2,   2105.5,2,   2322.7,2,   7.6132
  58GS20060721,   75N,   305,  1,     12,2,20060801,0657, 74.5000,  11.0000, 2386,      5.6,   8.7116,  35.0990,2,  35.1026,2,    302.5,2,    301.0,2,     1.26,2,     2.94,2,     0.11,2,     0.23,2,    4.409,2,    2.596,2,   2096.8,2,   2323.0,2,   8.7110
  58GS20060721,   75N,   306,  1,      1,2,20060801,0917, 74.5000,  11.5000, 2350,   2300.2,  -0.8349,  34.9130,2,  34.9092,2,    298.2,2,   -999.0,9,    12.45,2,    15.20,2,     0.00,2,     1.00,2, -999.000,9, -999.000,9,   -999.0,9,   -999.0,9,  -0.9483
  58GS20060721,   75N,   306,  1,      2,2,20060801,0917, 74.5000,  11.5000, 2350,   2000.6,  -0.8268,  34.9120,2,-999.0000,9,    297.5,2,   -999.0,9,    12.07,2,    15.09,2,     0.00,2,     0.99,2, -999.000,9, -999.000,9,   -999.0,9,   -999.0,9,  -0.9204
  58GS20060721,   75N,   306,  1,      3,2,20060801,0917, 74.5000,  11.5000, 2350,   1499.4,  -0.7477,  34.9090,2,-999.0000,9,    298.1,2,   -999.0,9,    10.83,2,    14.79,2,     0.00,2,     0.97,2, -999.000,9, -999.000,9,   -999.0,9,   -999.0,9,  -0.8122
  58GS20060721,   75N,   306,  1,      4,2,20060801,0917, 74.5000,  11.5000, 2350,   1000.1,  -0.5031,  34.8990,2,  34.8968,2,    304.1,2,   -999.0,9,     8.40,2,    14.19,2,     0.00,2,     0.94,2, -999.000,9, -999.000,9,   -999.0,9,   -999.0,9,  -0.5436
  58GS20060721,   75N,   306,  1,      5,2,20060801,0917, 74.5000,  11.5000, 2350,    799.8,  -0.2426,  34.8970,2,-999.0000,9,    306.3,2,   -999.0,9,     7.44,2,    13.93,2,     0.00,2,     0.92,2, -999.000,9, -999.000,9,   -999.0,9,   -999.0,9,  -0.2753
  58GS20060721,   75N,   306,  1,      6,2,20060801,0917, 74.5000,  11.5000, 2350,    500.6,   2.2043,  35.0050,2,-999.0000,9,    311.3,2,   -999.0,9,     5.34,2,    12.62,2,     0.00,2,     0.82,2, -999.000,9, -999.000,9,   -999.0,9,   -999.0,9,   2.1750
  58GS20060721,   75N,   306,  1,      7,2,20060801,0917, 74.5000,  11.5000, 2350,    400.1,   3.1080,  35.0620,2,-999.0000,9,    307.5,2,   -999.0,9,     5.12,2,    12.45,2,     0.00,2,     0.81,2, -999.000,9, -999.000,9,   -999.0,9,   -999.0,9,   3.0820
  58GS20060721,   75N,   306,  1,      8,2,20060801,0917, 74.5000,  11.5000, 2350,    199.9,   4.8306,  35.1410,2,  35.1440,2,    297.6,2,   -999.0,9,     4.83,2,    12.09,2,     0.00,2,     0.77,2, -999.000,9, -999.000,9,   -999.0,9,   -999.0,9,   4.8152
  58GS20060721,   75N,   306,  1,      9,2,20060801,0917, 74.5000,  11.5000, 2350,     99.4,   5.7252,  35.1590,2,-999.0000,9,    293.1,2,   -999.0,9,     4.58,2,    11.15,2,     0.10,2,     0.72,2, -999.000,9, -999.000,9,   -999.0,9,   -999.0,9,   5.7169
  58GS20060721,   75N,   306,  1,     10,2,20060801,0917, 74.5000,  11.5000, 2350,     50.4,   6.4152,  35.1670,2,-999.0000,9,    287.7,2,   -999.0,9,     4.44,2,    11.05,2,     0.16,2,     0.73,2, -999.000,9, -999.000,9,   -999.0,9,   -999.0,9,   6.4107
  58GS20060721,   75N,   306,  1,     11,2,20060801,0917, 74.5000,  11.5000, 2350,     30.2,   7.6422,  35.1180,2,-999.0000,9,    303.6,2,   -999.0,9,     2.40,2,     5.25,2,     0.11,2,     0.41,2, -999.000,9, -999.000,9,   -999.0,9,   -999.0,9,   7.6393
  58GS20060721,   75N,   306,  1,     12,2,20060801,0917, 74.5000,  11.5000, 2350,      5.7,   8.5823,  35.0980,2,  35.1020,2,    298.5,2,   -999.0,9,     1.09,2,     3.12,2,     0.07,2,     0.25,2, -999.000,9, -999.000,9,   -999.0,9,   -999.0,9,   8.5817