BOTTLE,20100608CCHDOSIODM
EXPOCODE,SECT_ID,STNNBR,CASTNO,BTLNBR,BTLNBR_FLAG_W,DATE,TIME,LATITUDE,LONGITUDE,DEPTH,CTDPRS,CTDTMP,CTDSAL,CTDSAL_FLAG_W,SALNTY,SALNTY_FLAG_W,CTDOXY,CTDOXY_FLAG_W,OXYGEN,OXYGEN_FLAG_W,SILCAT,SILCAT_FLAG_W,NITRAT,NITRAT_FLAG_W,NITRIT,NITRIT_FLAG_W,PHSPHT,PHSPHT_FLAG_W,CFC-11,CFC-11_FLAG_W,CFC-12,CFC-12_FLAG_W,TCARBN,TCARBN_FLAG_W,ALKALI,ALKALI_FLAG_W,THETA
,,,,,,,,,,METERS,DBAR,ITS-90,PSS-78,,PSS-78,,UMOL/KG,,UMOL/KG,,UMOL/KG,,UMOL/KG,,UMOL/KG,,UMOL/KG,,PMOL/KG,,PMOL/KG,,UMOL/KG,,UMOL/KG,,DEG C
  58GS20060721,   75N,   307,  1,      1,2,20060801,1143, 74.5000,  12.0000, 2318,   2281.1,  -0.8419,  34.9120,2,  34.9094,2,    297.9,2,    295.8,2,    12.72,2,    15.18,2,     0.00,2,     0.99,2,    0.804,2,    0.421,2,   2165.1,2,   2307.0,2,  -0.9539
  58GS20060721,   75N,   307,  1,      2,2,20060801,1143, 74.5000,  12.0000, 2318,   2001.5,  -0.8267,  34.9120,2,  34.9076,2,    297.7,2,    296.7,2,    11.99,2,    14.98,2,     0.00,2,     0.99,2,    0.874,2,    0.417,2,   2163.4,2,   2308.0,2,  -0.9203
  58GS20060721,   75N,   307,  1,      3,2,20060801,1143, 74.5000,  12.0000, 2318,   1499.9,  -0.7464,  34.9090,2,  34.9047,2,    297.7,2,    297.7,2,    10.86,2,    14.73,2,     0.00,2,     0.98,2,    1.740,2,    0.832,2,   2163.9,2,   2309.7,2,  -0.8109
  58GS20060721,   75N,   307,  1,      4,2,20060801,1143, 74.5000,  12.0000, 2318,   1000.3,  -0.5058,  34.9000,2,  34.8943,2,    303.2,2,    303.6,2,     8.55,2,    14.19,2,     0.00,2,     0.94,2,    3.441,2,    1.609,2,   2165.8,2,   2301.7,2,  -0.5463
  58GS20060721,   75N,   307,  1,      5,2,20060801,1143, 74.5000,  12.0000, 2318,    800.9,  -0.1674,  34.8970,2,  34.8942,2,    307.6,2,    307.6,2,     7.35,2,    13.78,2,     0.00,2,     0.92,2,    4.441,2,    2.121,2,   2164.9,2,   2304.6,2,  -0.2006
  58GS20060721,   75N,   307,  1,      6,2,20060801,1143, 74.5000,  12.0000, 2318,    500.1,   2.4430,  35.0250,2,  35.0175,2,    311.5,2,    310.2,2,     5.20,2,    12.51,2,     0.00,2,     0.82,2,    5.484,2,    2.786,2,   2156.5,2,   2311.2,2,   2.4128
  58GS20060721,   75N,   307,  1,      7,2,20060801,1143, 74.5000,  12.0000, 2318,    400.0,   3.4114,  35.0660,2,  35.0639,2,    300.8,2,    300.1,2,     5.41,2,    12.36,2,     0.00,2,     0.81,2,    5.267,2,    2.723,2,   2157.7,2,   2313.6,2,   3.3844
  58GS20060721,   75N,   307,  1,      8,2,20060801,1143, 74.5000,  12.0000, 2318,    200.3,   5.0401,  35.1450,2,  35.1466,2,    296.6,2,    295.7,2,     4.82,2,    11.91,2,     0.00,2,     0.77,2,    5.065,2,    2.664,2,   2149.4,2,   2319.0,2,   5.0243
  58GS20060721,   75N,   307,  1,      9,2,20060801,1143, 74.5000,  12.0000, 2318,    100.4,   6.1366,  35.1690,2,  35.1716,2,    289.5,2,    288.4,2,     4.60,2,    11.51,2,     0.06,2,     0.74,2,    4.750,2,    2.555,2,   2145.6,2,   2319.7,2,   6.1279
  58GS20060721,   75N,   307,  1,     10,2,20060801,1143, 74.5000,  12.0000, 2318,     51.0,   6.7011,  35.1820,2,  35.1830,2,    284.7,2,    283.5,2,     4.42,2,    11.34,2,     0.06,2,     0.73,2,    4.646,2,    2.520,2,   2144.0,2,   2325.0,2,   6.6965
  58GS20060721,   75N,   307,  1,     11,2,20060801,1143, 74.5000,  12.0000, 2318,     30.6,   7.5302,  35.1290,2,  35.1350,2,    294.4,2,    292.6,2,     2.54,2,     5.99,2,     0.14,2,     0.45,2,    4.953,2,    2.513,2,   2118.8,2,   2324.2,2,   7.5272
  58GS20060721,   75N,   307,  1,     12,2,20060801,1143, 74.5000,  12.0000, 2318,      5.9,   8.8169,  35.0860,2,  35.0944,2,    303.8,2,    300.8,2,     1.25,2,     3.04,2,     0.07,2,     0.24,2,    4.766,2,    2.451,2,   2093.9,2,   2324.1,2,   8.8163
  58GS20060721,   75N,   308,  1,      1,2,20060801,1403, 74.5000,  12.5000, 2283,   2239.3,  -0.8361,  34.9130,2,  34.9101,2,    298.5,2,   -999.0,9,    12.21,2,    15.08,2,     0.00,2,     0.99,2, -999.000,9, -999.000,9,   -999.0,9,   -999.0,9,  -0.9453
  58GS20060721,   75N,   308,  1,      2,2,20060801,1403, 74.5000,  12.5000, 2283,   1999.6,  -0.8343,  34.9120,2,-999.0000,9,    297.9,2,   -999.0,9,    12.11,2,    15.01,2,     0.00,2,     0.97,2, -999.000,9, -999.000,9,   -999.0,9,   -999.0,9,  -0.9277
  58GS20060721,   75N,   308,  1,      3,2,20060801,1403, 74.5000,  12.5000, 2283,   1500.4,  -0.7629,  34.9090,2,-999.0000,9,    297.9,2,   -999.0,9,    10.92,2,    14.79,2,     0.00,2,     0.98,2, -999.000,9, -999.000,9,   -999.0,9,   -999.0,9,  -0.8273
  58GS20060721,   75N,   308,  1,      4,2,20060801,1403, 74.5000,  12.5000, 2283,   1000.2,  -0.5030,  34.9010,2,  34.8981,2,    301.5,2,   -999.0,9,     8.64,2,    14.34,2,     0.00,2,     0.91,2, -999.000,9, -999.000,9,   -999.0,9,   -999.0,9,  -0.5435
  58GS20060721,   75N,   308,  1,      5,2,20060801,1403, 74.5000,  12.5000, 2283,    799.1,  -0.2095,  34.8980,2,-999.0000,9,    305.4,2,   -999.0,9,     7.44,2,    13.94,2,     0.00,2,     0.90,2, -999.000,9, -999.000,9,   -999.0,9,   -999.0,9,  -0.2424
  58GS20060721,   75N,   308,  1,      6,2,20060801,1403, 74.5000,  12.5000, 2283,    499.8,   2.2158,  35.0000,2,-999.0000,9,    310.7,2,   -999.0,9,     5.28,2,    12.64,2,     0.00,2,     0.84,2, -999.000,9, -999.000,9,   -999.0,9,   -999.0,9,   2.1866
  58GS20060721,   75N,   308,  1,      7,2,20060801,1403, 74.5000,  12.5000, 2283,    399.5,   3.4517,  35.0770,2,-999.0000,9,    306.2,2,   -999.0,9,     5.01,2,    12.33,2,     0.00,2,     0.81,2, -999.000,9, -999.000,9,   -999.0,9,   -999.0,9,   3.4246
  58GS20060721,   75N,   308,  1,      8,2,20060801,1403, 74.5000,  12.5000, 2283,    200.3,   4.7089,  35.1360,2,  35.1397,2,    298.9,2,   -999.0,9,     4.78,2,    12.06,2,     0.00,2,     0.74,2, -999.000,9, -999.000,9,   -999.0,9,   -999.0,9,   4.6936
  58GS20060721,   75N,   308,  1,      9,2,20060801,1403, 74.5000,  12.5000, 2283,    100.4,   5.7865,  35.1580,2,-999.0000,9,    293.1,2,   -999.0,9,     4.52,2,    10.58,2,     0.19,2,     0.69,2, -999.000,9, -999.000,9,   -999.0,9,   -999.0,9,   5.7781
  58GS20060721,   75N,   308,  1,     10,2,20060801,1403, 74.5000,  12.5000, 2283,     49.8,   6.7485,  35.1760,2,-999.0000,9,    287.7,2,   -999.0,9,     4.03,2,    10.25,2,     0.23,2,     0.69,2, -999.000,9, -999.000,9,   -999.0,9,   -999.0,9,   6.7440
  58GS20060721,   75N,   308,  1,     11,2,20060801,1403, 74.5000,  12.5000, 2283,     30.4,   7.6862,  35.1230,2,-999.0000,9,    302.8,2,   -999.0,9,     2.20,2,     4.41,2,     0.09,2,     0.35,2, -999.000,9, -999.000,9,   -999.0,9,   -999.0,9,   7.6832
  58GS20060721,   75N,   308,  1,     12,2,20060801,1403, 74.5000,  12.5000, 2283,      5.8,   8.6672,  35.0840,2,  35.0904,2,    302.1,2,   -999.0,9,     1.06,2,     2.71,2,     0.07,2,     0.21,2, -999.000,9, -999.000,9,   -999.0,9,   -999.0,9,   8.6666
  58GS20060721,   75N,   309,  1,      1,2,20060801,1622, 74.5000,  13.0000, 2255,   2199.6,  -0.8452,  34.9120,2,  34.9098,2,    297.4,2,    295.7,2,    12.61,2,    14.97,2,     0.00,2,     1.01,2,    0.812,2,    0.421,2,   2164.3,2,   2310.4,2,  -0.9516
  58GS20060721,   75N,   309,  1,      2,2,20060801,1622, 74.5000,  13.0000, 2255,   2000.7,  -0.8385,  34.9120,2,  34.9081,2,    297.0,2,    296.2,2,    12.10,2,    14.84,2,     0.00,2,     1.00,2,    0.918,2,    0.466,2,   2162.6,2,   2308.6,2,  -0.9319
  58GS20060721,   75N,   309,  1,      3,2,20060801,1622, 74.5000,  13.0000, 2255,   1500.3,  -0.7591,  34.9090,2,  34.9062,2,    297.6,2,    297.7,2,    10.85,2,    14.54,2,     0.00,2,     0.99,2,    1.676,2,    0.776,2,   2163.7,2,   2307.3,2,  -0.8235
  58GS20060721,   75N,   309,  1,      4,2,20060801,1622, 74.5000,  13.0000, 2255,   1000.2,  -0.5147,  34.9020,2,  34.8986,2,    300.4,2,    301.0,2,     8.87,2,    14.13,2,     0.00,2,     0.96,2,    3.479,2,    1.575,2,   2165.2,2,   2311.0,2,  -0.5551
  58GS20060721,   75N,   309,  1,      5,2,20060801,1622, 74.5000,  13.0000, 2255,    800.1,  -0.2851,  34.8970,2,  34.8931,2,    307.2,2,    308.1,2,     7.44,2,    13.60,2,     0.00,2,     0.93,2,    4.685,2,    2.176,2,   2165.4,2,   2303.6,2,  -0.3175
  58GS20060721,   75N,   309,  1,      6,2,20060801,1622, 74.5000,  13.0000, 2255,    499.7,   1.9503,  34.9790,2,  34.9823,2,    306.1,2,    305.7,2,     5.79,2,    12.86,2,     0.00,2,     0.88,2,    5.643,2,    2.615,2,   2158.5,3,   2319.0,2,   1.9221
  58GS20060721,   75N,   309,  1,      7,2,20060801,1622, 74.5000,  13.0000, 2255,    399.7,   3.2242,  35.0700,2,  35.0700,2,    307.2,2,    306.4,2,     5.02,2,    12.17,2,     0.00,2,     0.81,2,    5.839,2,    2.797,2,   2154.0,2,   2313.8,2,   3.1978
  58GS20060721,   75N,   309,  1,      8,2,20060801,1622, 74.5000,  13.0000, 2255,    200.0,   4.5763,  35.1330,2,  35.1340,2,    299.9,2,    299.3,2,     4.82,2,    11.85,2,     0.00,2,     0.77,2,    5.547,2,    2.683,2,   2150.0,2,   2316.1,2,   4.5613
  58GS20060721,   75N,   309,  1,      9,2,20060801,1622, 74.5000,  13.0000, 2255,     98.7,   5.4377,  35.1520,2,  35.1560,2,    294.4,2,    293.6,2,     4.61,2,    11.41,2,     0.01,2,     0.76,2,    5.257,2,    2.618,2,   2146.1,2,   2319.5,2,   5.4297
  58GS20060721,   75N,   309,  1,     10,2,20060801,1622, 74.5000,  13.0000, 2255,     49.0,   6.2999,  35.1670,2,  35.1677,2,    290.5,2,    294.2,2,     4.32,2,    10.19,2,     0.16,2,     0.72,2,    5.113,2,    2.580,2,   2140.0,2,   2321.2,2,   6.2956
  58GS20060721,   75N,   309,  1,     11,2,20060801,1622, 74.5000,  13.0000, 2255,     29.9,   7.2152,  35.1290,2,  35.1297,2,    299.0,2,    297.6,2,     2.70,2,     5.40,2,     0.13,2,     0.44,2,    5.025,2,    2.560,2,   2115.0,2,   2321.0,2,   7.2124
  58GS20060721,   75N,   309,  1,     12,2,20060801,1622, 74.5000,  13.0000, 2255,      4.5,   8.0800,  35.1250,2,  35.1265,2,    303.1,2,    302.0,2,     1.68,2,     3.66,2,     0.08,2,     0.31,2,    4.884,2,    2.617,2,   2103.0,2,   2323.8,2,   8.0795
  58GS20060721,   75N,   310,  1,      1,2,20060801,1841, 74.5000,  13.5000, 2159,   2099.8,  -0.8434,  34.9120,2,  34.9095,2,    298.2,2,   -999.0,9,    12.91,2,    14.88,2,     0.00,2,     1.02,2, -999.000,9, -999.000,9,   -999.0,9,   -999.0,9,  -0.9432
  58GS20060721,   75N,   310,  1,      2,2,20060801,1841, 74.5000,  13.5000, 2159,   2099.9,  -0.8436,  34.9120,2,-999.0000,9,    298.2,2,   -999.0,9,    12.87,2,    14.87,2,     0.00,2,     1.01,2, -999.000,9, -999.000,9,   -999.0,9,   -999.0,9,  -0.9434
  58GS20060721,   75N,   310,  1,      3,2,20060801,1841, 74.5000,  13.5000, 2159,   1501.1,  -0.7719,  34.9090,2,-999.0000,9,    297.9,2,   -999.0,9,    11.47,2,    14.58,2,     0.00,2,     1.00,2, -999.000,9, -999.000,9,   -999.0,9,   -999.0,9,  -0.8362
  58GS20060721,   75N,   310,  1,      4,2,20060801,1841, 74.5000,  13.5000, 2159,   1000.5,  -0.5620,  34.9000,2,  34.8961,2,    304.6,2,   -999.0,9,     8.85,2,    13.94,2,     0.00,2,     0.97,2, -999.000,9, -999.000,9,   -999.0,9,   -999.0,9,  -0.6020
  58GS20060721,   75N,   310,  1,      5,2,20060801,1841, 74.5000,  13.5000, 2159,    800.2,  -0.2496,  34.8980,2,-999.0000,9,    304.4,2,   -999.0,9,     8.06,2,    13.80,2,     0.00,2,     0.96,2, -999.000,9, -999.000,9,   -999.0,9,   -999.0,9,  -0.2822
  58GS20060721,   75N,   310,  1,      6,2,20060801,1841, 74.5000,  13.5000, 2159,    500.8,   2.2366,  35.0030,2,-999.0000,9,    308.3,2,   -999.0,9,     5.74,2,    12.54,2,     0.00,2,     0.85,2, -999.000,9, -999.000,9,   -999.0,9,   -999.0,9,   2.2072
  58GS20060721,   75N,   310,  1,      7,2,20060801,1841, 74.5000,  13.5000, 2159,    400.2,   3.2679,  35.0660,2,-999.0000,9,    306.2,2,   -999.0,9,     5.32,2,    12.20,2,     0.00,2,     0.83,2, -999.000,9, -999.000,9,   -999.0,9,   -999.0,9,   3.2414
  58GS20060721,   75N,   310,  1,      8,2,20060801,1841, 74.5000,  13.5000, 2159,    200.1,   4.6256,  35.1360,2,  35.1376,2,    299.2,2,   -999.0,9,     5.05,2,    11.86,2,     0.00,2,     0.79,2, -999.000,9, -999.000,9,   -999.0,9,   -999.0,9,   4.6105
  58GS20060721,   75N,   310,  1,      9,2,20060801,1841, 74.5000,  13.5000, 2159,    100.5,   5.5299,  35.1520,2,-999.0000,9,    293.3,2,   -999.0,9,     4.91,2,    11.25,2,     0.11,2,     0.77,2, -999.000,9, -999.000,9,   -999.0,9,   -999.0,9,   5.5217
  58GS20060721,   75N,   310,  1,     10,2,20060801,1841, 74.5000,  13.5000, 2159,     50.0,   6.3236,  35.1590,2,-999.0000,9,    291.5,2,   -999.0,9,     4.50,2,     9.27,2,     0.31,2,     0.70,2, -999.000,9, -999.000,9,   -999.0,9,   -999.0,9,   6.3192
  58GS20060721,   75N,   310,  1,     11,2,20060801,1841, 74.5000,  13.5000, 2159,     30.8,   7.4203,  35.1240,2,-999.0000,9,    299.5,2,   -999.0,9,     2.78,2,     5.13,2,     0.15,2,     0.43,2, -999.000,9, -999.000,9,   -999.0,9,   -999.0,9,   7.4174
  58GS20060721,   75N,   310,  1,     12,2,20060801,1841, 74.5000,  13.5000, 2159,      5.2,   8.2763,  35.1200,2,  35.1230,2,    303.2,2,   -999.0,9,     1.86,2,     3.46,2,     0.08,2,     0.30,2, -999.000,9, -999.000,9,   -999.0,9,   -999.0,9,   8.2758
  58GS20060721,   75N,   311,  1,      1,2,20060801,2059, 74.5000,  14.0000, 2104,   2050.8,  -0.8568,  34.9120,2,  34.9069,2,    297.0,2,    295.2,2,    12.96,2,    15.08,2,     0.00,2,     0.98,2,    0.806,2,    0.421,2,   2164.0,2,   2303.6,2,  -0.9531
  58GS20060721,   75N,   311,  1,      2,2,20060801,2059, 74.5000,  14.0000, 2104,   1499.9,  -0.7603,  34.9090,2,  34.9049,2,    296.8,2,    296.7,2,    11.35,2,    14.69,2,     0.00,2,     1.00,2,    1.536,2,    0.750,2,   2164.0,2,   2308.2,2,  -0.8246
  58GS20060721,   75N,   311,  1,      3,2,20060801,2059, 74.5000,  14.0000, 2104,   1499.8,  -0.7603,  34.9090,2,  34.9051,2,    296.8,2,    296.7,2,    11.31,2,    14.67,2,     0.00,2,     1.00,2,    1.549,2,    0.766,2,   2163.9,2,   2305.0,2,  -0.8246
  58GS20060721,   75N,   311,  1,      4,2,20060801,2059, 74.5000,  14.0000, 2104,   1001.0,  -0.4630,  34.9030,2,  34.8969,2,    299.5,2,    299.9,2,     9.07,2,    14.23,2,     0.00,2,     0.96,2,    3.329,2,    1.537,2,   2164.2,2,   2300.2,2,  -0.5039
  58GS20060721,   75N,   311,  1,      5,2,20060801,2059, 74.5000,  14.0000, 2104,    800.5,  -0.1191,  34.9030,2,  34.8983,2,    301.0,2,    301.1,2,     8.10,2,    14.05,2,     0.00,2,     0.95,2,    4.197,2,    1.951,2,   2165.9,2,   2300.6,2,  -0.1526
  58GS20060721,   75N,   311,  1,      6,2,20060801,2059, 74.5000,  14.0000, 2104,    499.5,   2.4503,  35.0180,2,  35.0127,2,    308.6,2,    307.9,2,     5.48,2,    12.53,2,     0.00,2,     0.85,2,    5.725,2,    2.721,2,   2155.6,2,   2311.2,2,   2.4201
  58GS20060721,   75N,   311,  1,      7,2,20060801,2059, 74.5000,  14.0000, 2104,    400.3,   3.4387,  35.0690,2,  35.0661,2,    301.6,2,    300.2,2,     5.45,2,    12.47,2,     0.00,2,     0.83,2,    5.479,2,    2.633,2,   2153.7,2,   2310.4,2,   3.4116
  58GS20060721,   75N,   311,  1,      8,2,20060801,2059, 74.5000,  14.0000, 2104,    202.1,   4.6997,  35.1300,2,  35.1323,2,    297.5,2,    295.8,2,     4.88,2,    11.99,2,     0.01,2,     0.79,2,    5.383,2,    2.615,2,   2147.1,2,   2316.1,2,   4.6843
  58GS20060721,   75N,   311,  1,      9,2,20060801,2059, 74.5000,  14.0000, 2104,    100.0,   5.5498,  35.1570,2,  35.1602,2,    293.1,2,    291.8,2,     4.87,2,    11.52,2,     0.03,2,     0.75,2,    5.310,2,    2.613,2,   2145.0,2,   2314.8,2,   5.5416
  58GS20060721,   75N,   311,  1,     10,2,20060801,2059, 74.5000,  14.0000, 2104,     50.9,   6.3599,  35.1560,2,  35.1570,2,    293.2,2,    293.1,2,     4.20,2,     8.30,2,     0.24,2,     0.64,2,    5.174,2,    2.576,2,   2135.9,2,   2319.2,2,   6.3554
  58GS20060721,   75N,   311,  1,     11,2,20060801,2059, 74.5000,  14.0000, 2104,     30.5,   7.5720,  35.1160,2,  35.1232,2,    297.7,2,    296.4,2,     2.61,2,     4.65,2,     0.10,2,     0.40,2,    4.917,2,    2.501,2,   2109.8,2,   2323.0,2,   7.5690
  58GS20060721,   75N,   311,  1,     12,2,20060801,2059, 74.5000,  14.0000, 2104,      6.1,   8.4150,  35.1090,2,  35.1097,2,    298.7,2,    300.8,2,     1.41,2,     3.08,2,     0.07,2,     0.27,2,    4.517,2,    2.504,2,   2097.0,2,   2323.4,2,   8.4144
  58GS20060721,   75N,   312,  1,      1,2,20060801,2319, 74.5000,  14.5000, 2007,   1950.1,  -0.8637,  34.9120,2,  34.9070,2,    297.0,2,   -999.0,9,    13.04,2,    15.15,2,     0.00,2,     1.02,2, -999.000,9, -999.000,9,   -999.0,9,   -999.0,9,  -0.9535
  58GS20060721,   75N,   312,  1,      2,2,20060801,2319, 74.5000,  14.5000, 2007,   1500.7,  -0.7991,  34.9100,2,-999.0000,9,    297.1,2,   -999.0,9,    11.60,2,    14.81,2,     0.00,2,     1.00,2, -999.000,9, -999.000,9,   -999.0,9,   -999.0,9,  -0.8630
  58GS20060721,   75N,   312,  1,      3,2,20060801,2319, 74.5000,  14.5000, 2007,   1000.0,  -0.5822,  34.9030,2,-999.0000,9,    300.1,2,   -999.0,9,     9.53,2,    14.44,2,     0.00,2,     0.98,2, -999.000,9, -999.000,9,   -999.0,9,   -999.0,9,  -0.6221
  58GS20060721,   75N,   312,  1,      4,2,20060801,2319, 74.5000,  14.5000, 2007,   1000.2,  -0.5822,  34.9030,2,  34.8998,2,    300.1,2,   -999.0,9,     9.51,2,    14.41,2,     0.00,2,  -999.00,9, -999.000,9, -999.000,9,   -999.0,9,   -999.0,9,  -0.6221
  58GS20060721,   75N,   312,  1,      5,2,20060801,2319, 74.5000,  14.5000, 2007,    800.8,  -0.3211,  34.9010,2,-999.0000,9,    300.0,2,   -999.0,9,     8.56,2,    14.27,2,     0.00,2,     0.97,2, -999.000,9, -999.000,9,   -999.0,9,   -999.0,9,  -0.3533
  58GS20060721,   75N,   312,  1,      6,2,20060801,2319, 74.5000,  14.5000, 2007,    500.0,   1.6806,  34.9630,2,-999.0000,9,    304.5,2,   -999.0,9,     6.09,2,    13.15,2,     0.00,2,     0.88,2, -999.000,9, -999.000,9,   -999.0,9,   -999.0,9,   1.6535
  58GS20060721,   75N,   312,  1,      7,2,20060801,2319, 74.5000,  14.5000, 2007,    400.1,   3.2209,  35.0470,2,-999.0000,9,    298.8,2,   -999.0,9,     5.92,2,    12.84,2,     0.00,2,     0.86,2, -999.000,9, -999.000,9,   -999.0,9,   -999.0,9,   3.1946
  58GS20060721,   75N,   312,  1,      8,2,20060801,2319, 74.5000,  14.5000, 2007,    200.1,   4.8011,  35.1410,2,  35.1420,2,    298.6,2,   -999.0,9,     4.94,2,    11.90,2,     0.01,2,     0.80,2, -999.000,9, -999.000,9,   -999.0,9,   -999.0,9,   4.7857
  58GS20060721,   75N,   312,  1,      9,2,20060801,2319, 74.5000,  14.5000, 2007,     99.8,   5.7639,  35.1640,2,-999.0000,9,    291.9,2,   -999.0,9,     4.87,2,    11.65,2,     0.01,2,     0.78,2, -999.000,9, -999.000,9,   -999.0,9,   -999.0,9,   5.7555
  58GS20060721,   75N,   312,  1,     10,2,20060801,2319, 74.5000,  14.5000, 2007,     49.8,   6.4972,  35.1580,2,-999.0000,9,    292.6,2,   -999.0,9,     4.17,2,     8.80,2,     0.28,2,     0.67,2, -999.000,9, -999.000,9,   -999.0,9,   -999.0,9,   6.4928
  58GS20060721,   75N,   312,  1,     11,2,20060801,2319, 74.5000,  14.5000, 2007,     30.1,   7.5568,  35.1180,2,-999.0000,9,    299.7,2,   -999.0,9,     2.73,2,     5.12,2,     0.11,2,     0.43,2, -999.000,9, -999.000,9,   -999.0,9,   -999.0,9,   7.5539
  58GS20060721,   75N,   312,  1,     12,2,20060801,2319, 74.5000,  14.5000, 2007,      6.2,   8.2577,  35.1190,2,  35.1213,2,    301.2,2,   -999.0,9,     1.59,2,     3.53,2,     0.07,2,     0.31,2, -999.000,9, -999.000,9,   -999.0,9,   -999.0,9,   8.2571