BOTTLE,20100608CCHDOSIODM
EXPOCODE,SECT_ID,STNNBR,CASTNO,BTLNBR,BTLNBR_FLAG_W,DATE,TIME,LATITUDE,LONGITUDE,DEPTH,CTDPRS,CTDTMP,CTDSAL,CTDSAL_FLAG_W,SALNTY,SALNTY_FLAG_W,CTDOXY,CTDOXY_FLAG_W,OXYGEN,OXYGEN_FLAG_W,SILCAT,SILCAT_FLAG_W,NITRAT,NITRAT_FLAG_W,NITRIT,NITRIT_FLAG_W,PHSPHT,PHSPHT_FLAG_W,CFC-11,CFC-11_FLAG_W,CFC-12,CFC-12_FLAG_W,TCARBN,TCARBN_FLAG_W,ALKALI,ALKALI_FLAG_W,THETA
,,,,,,,,,,METERS,DBAR,ITS-90,PSS-78,,PSS-78,,UMOL/KG,,UMOL/KG,,UMOL/KG,,UMOL/KG,,UMOL/KG,,UMOL/KG,,PMOL/KG,,PMOL/KG,,UMOL/KG,,UMOL/KG,,DEG C
  58GS20060721,   75N,   294,  1,      1,2,20060730,1648, 75.0000,   6.2500, 2622,   1000.4,  -0.6040,  34.8980,2,  34.8870,2,    311.0,2,   -999.0,9,     8.03,2,    13.75,2,     0.00,2,     0.91,2, -999.000,9, -999.000,9,   -999.0,9,   -999.0,9,  -0.6437
  58GS20060721,   75N,   294,  1,      2,2,20060730,1648, 75.0000,   6.2500, 2622,    800.9,  -0.4536,  34.8960,2,-999.0000,9,    311.4,2,   -999.0,9,     7.50,2,    13.58,2,     0.00,2,     0.89,2, -999.000,9, -999.000,9,   -999.0,9,   -999.0,9,  -0.4849
  58GS20060721,   75N,   294,  1,      3,2,20060730,1648, 75.0000,   6.2500, 2622,    501.9,   0.0034,  34.8970,2,-999.0000,9,    317.7,2,   -999.0,9,     6.36,2,    13.00,2,     0.00,2,     0.86,2, -999.000,9, -999.000,9,   -999.0,9,   -999.0,9,  -0.0168
  58GS20060721,   75N,   294,  1,      4,2,20060730,1648, 75.0000,   6.2500, 2622,    400.2,   0.4038,  34.9070,2,  34.9016,2,    319.0,2,   -999.0,9,     5.94,2,    12.84,2,     0.01,2,     0.84,2, -999.000,9, -999.000,9,   -999.0,9,   -999.0,9,   0.3867
  58GS20060721,   75N,   294,  1,      5,2,20060730,1648, 75.0000,   6.2500, 2622,    299.5,   1.4253,  34.9530,2,-999.0000,9,    312.3,2,   -999.0,9,     5.74,2,    12.79,2,     0.01,2,     0.84,2, -999.000,9, -999.000,9,   -999.0,9,   -999.0,9,   1.4102
  58GS20060721,   75N,   294,  1,      6,2,20060730,1648, 75.0000,   6.2500, 2622,    201.0,   2.6768,  35.0290,2,-999.0000,9,    311.3,2,   -999.0,9,     5.10,2,    12.17,2,     0.02,2,     0.81,2, -999.000,9, -999.000,9,   -999.0,9,   -999.0,9,   2.6648
  58GS20060721,   75N,   294,  1,      7,2,20060730,1648, 75.0000,   6.2500, 2622,    151.1,   3.3346,  35.0660,2,-999.0000,9,    307.6,2,   -999.0,9,     4.99,2,    12.12,2,     0.01,2,     0.78,2, -999.000,9, -999.000,9,   -999.0,9,   -999.0,9,   3.3248
  58GS20060721,   75N,   294,  1,      8,2,20060730,1648, 75.0000,   6.2500, 2622,    100.8,   4.1478,  35.1140,2,  35.1086,2,    303.5,2,   -999.0,9,     4.74,2,    11.92,2,     0.02,2,     0.74,2, -999.000,9, -999.000,9,   -999.0,9,   -999.0,9,   4.1406
  58GS20060721,   75N,   294,  1,      9,2,20060730,1648, 75.0000,   6.2500, 2622,     74.6,   4.2764,  35.1090,2,-999.0000,9,    302.9,2,   -999.0,9,     4.78,2,    11.86,2,     0.05,2,     0.78,2, -999.000,9, -999.000,9,   -999.0,9,   -999.0,9,   4.2710
  58GS20060721,   75N,   294,  1,     10,2,20060730,1648, 75.0000,   6.2500, 2622,     50.0,   4.8963,  35.0910,2,-999.0000,9,    308.4,2,   -999.0,9,     4.30,2,     7.23,2,     0.20,2,     0.64,2, -999.000,9, -999.000,9,   -999.0,9,   -999.0,9,   4.8925
  58GS20060721,   75N,   294,  1,     11,2,20060730,1648, 75.0000,   6.2500, 2622,     29.7,   7.0570,  35.0910,2,-999.0000,9,    303.0,2,   -999.0,9,     2.24,2,     3.83,2,     0.07,2,     0.38,2, -999.000,9, -999.000,9,   -999.0,9,   -999.0,9,   7.0542
  58GS20060721,   75N,   294,  1,     12,2,20060730,1648, 75.0000,   6.2500, 2622,      5.3,   7.4868,  35.0790,2,  35.0827,2,    302.9,2,   -999.0,9,     1.86,2,     2.46,2,     0.04,2,     0.28,2, -999.000,9, -999.000,9,   -999.0,9,   -999.0,9,   7.4863
  58GS20060721,   75N,   295,  1,      1,2,20060730,1812, 75.0000,   6.5000, 2628,   2549.6,  -0.8100,  34.9150,2,  34.9115,2,    300.5,2,   -999.0,9,    11.77,2,    14.84,2,     0.00,2,     0.99,2, -999.000,9, -999.000,9,   -999.0,9,   -999.0,9,  -0.9417
  58GS20060721,   75N,   295,  1,      2,2,20060730,1812, 75.0000,   6.5000, 2628,   1999.9,  -0.7974,  34.9140,2,-999.0000,9,    298.6,2,   -999.0,9,    11.42,2,    14.81,2,     0.00,2,     0.99,2, -999.000,9, -999.000,9,   -999.0,9,   -999.0,9,  -0.8914
  58GS20060721,   75N,   295,  1,      3,2,20060730,1812, 75.0000,   6.5000, 2628,   1499.8,  -0.7337,  34.9060,2,-999.0000,9,    303.5,2,   -999.0,9,     9.77,2,    14.36,2,     0.00,2,     0.95,2, -999.000,9, -999.000,9,   -999.0,9,   -999.0,9,  -0.7984
  58GS20060721,   75N,   295,  1,      4,2,20060730,1812, 75.0000,   6.5000, 2628,   1000.4,  -0.5940,  34.8960,2,  34.8890,2,    311.5,2,   -999.0,9,     7.83,2,    13.67,2,     0.00,2,     0.91,2, -999.000,9, -999.000,9,   -999.0,9,   -999.0,9,  -0.6338
  58GS20060721,   75N,   295,  1,      5,2,20060730,1812, 75.0000,   6.5000, 2628,    800.3,  -0.4634,  34.8940,2,-999.0000,9,    314.0,2,   -999.0,9,     7.22,2,    13.44,2,     0.00,2,     0.90,2, -999.000,9, -999.000,9,   -999.0,9,   -999.0,9,  -0.4946
  58GS20060721,   75N,   295,  1,      6,2,20060730,1812, 75.0000,   6.5000, 2628,    500.6,   0.0424,  34.8980,2,-999.0000,9,    318.0,2,   -999.0,9,     6.36,2,    12.98,2,     0.00,2,     0.88,2, -999.000,9, -999.000,9,   -999.0,9,   -999.0,9,   0.0221
  58GS20060721,   75N,   295,  1,      7,2,20060730,1812, 75.0000,   6.5000, 2628,    270.5,   2.2080,  35.0020,2,-999.0000,9,    305.5,2,   -999.0,9,     5.58,2,    12.80,2,     0.00,2,     0.83,2, -999.000,9, -999.000,9,   -999.0,9,   -999.0,9,   2.1927
  58GS20060721,   75N,   295,  1,      8,2,20060730,1812, 75.0000,   6.5000, 2628,    200.1,   2.9672,  35.0450,2,  35.0431,2,    306.5,2,   -999.0,9,     5.16,2,    12.35,2,     0.00,2,     0.82,2, -999.000,9, -999.000,9,   -999.0,9,   -999.0,9,   2.9548
  58GS20060721,   75N,   295,  1,      9,2,20060730,1812, 75.0000,   6.5000, 2628,    100.4,   4.1455,  35.1100,2,-999.0000,9,    301.6,2,   -999.0,9,     4.94,2,    11.90,2,     0.04,2,     0.77,2, -999.000,9, -999.000,9,   -999.0,9,   -999.0,9,   4.1384
  58GS20060721,   75N,   295,  1,     10,2,20060730,1812, 75.0000,   6.5000, 2628,     51.4,   5.1447,  35.1180,2,-999.0000,9,    303.0,2,   -999.0,9,     4.37,2,     8.06,2,     0.25,2,     0.68,2, -999.000,9, -999.000,9,   -999.0,9,   -999.0,9,   5.1407
  58GS20060721,   75N,   295,  1,     11,2,20060730,1812, 75.0000,   6.5000, 2628,     30.6,   7.0385,  35.1010,2,-999.0000,9,    300.4,2,   -999.0,9,     2.72,2,     4.91,2,     0.10,2,     0.44,2, -999.000,9, -999.000,9,   -999.0,9,   -999.0,9,   7.0356
  58GS20060721,   75N,   295,  1,     12,2,20060730,1812, 75.0000,   6.5000, 2628,      6.1,   7.6449,  35.0780,2,  35.0810,2,    297.6,2,   -999.0,9,     2.07,2,     2.71,2,     0.03,2,     0.31,2, -999.000,9, -999.000,9,   -999.0,9,   -999.0,9,   7.6443
  58GS20060721,   75N,   297,  1,      1,2,20060731,0054, 74.5000,   7.0000, 2439,   2419.9,  -0.8091,  34.9140,2,  34.9113,2,    298.9,2,    297.9,2,    12.19,2,    14.96,2,  -999.00,9,     1.00,2,    0.920,2,    0.494,2,   2160.2,2,   2303.3,2,  -0.9314
  58GS20060721,   75N,   297,  1,      2,2,20060731,0054, 74.5000,   7.0000, 2439,   2000.3,  -0.8223,  34.9140,2,-999.0000,9,    296.8,2,    298.0,2,    11.82,2,    14.80,2,     0.00,2,     0.97,2,    1.002,2,    0.547,2,   2160.9,2,   2301.8,2,  -0.9160
  58GS20060721,   75N,   297,  1,      3,2,20060731,0054, 74.5000,   7.0000, 2439,   1500.1,  -0.7909,  34.9110,2,-999.0000,9,    297.3,2,    299.5,2,    10.99,2,    14.59,2,     0.00,2,     0.96,2,    1.439,2,    0.760,2,   2160.1,2,   2293.7,3,  -0.8549
  58GS20060721,   75N,   297,  1,      4,2,20060731,0054, 74.5000,   7.0000, 2439,    999.4,  -0.6494,  34.8990,2,  34.8940,2,    306.3,2,    308.9,2,     8.52,2,    13.88,2,     0.00,2,     0.93,2,    3.722,2,    1.754,2,   2161.4,2,   -999.0,9,  -0.6887
  58GS20060721,   75N,   297,  1,      5,2,20060731,0054, 74.5000,   7.0000, 2439,    800.9,  -0.5717,  34.8930,2,-999.0000,9,    314.9,2,    317.4,2,     7.22,2,    13.30,2,     0.00,2,     0.86,2,    4.978,2,    2.393,2,   2163.1,2,   2299.2,2,  -0.6022
  58GS20060721,   75N,   297,  1,      6,2,20060731,0054, 74.5000,   7.0000, 2439,    500.1,  -0.1877,  34.8950,2,-999.0000,9,    317.1,2,    319.4,2,     6.52,2,    13.05,2,     0.00,2,     0.87,2,    5.419,2,    2.658,2,   2162.0,2,   2298.1,2,  -0.2070
  58GS20060721,   75N,   297,  1,      7,2,20060731,0054, 74.5000,   7.0000, 2439,    399.7,   0.1197,  34.9020,2,-999.0000,9,    310.0,2,    312.6,2,     6.65,2,    13.35,2,     0.00,2,     0.86,2,    5.307,2,    2.617,2,   2163.9,2,   2299.8,2,   0.1036
  58GS20060721,   75N,   297,  1,      8,2,20060731,0054, 74.5000,   7.0000, 2439,    200.5,   2.5547,  35.0330,2,  35.0278,2,    309.0,2,    310.8,2,     5.18,2,    12.37,2,     0.00,2,     0.79,2,    5.627,2,    2.830,2,   2154.9,2,   2312.1,2,   2.5429
  58GS20060721,   75N,   297,  1,      9,2,20060731,0054, 74.5000,   7.0000, 2439,    100.0,   3.4780,  35.0440,2,-999.0000,9,    304.7,2,    306.3,2,     5.09,2,    12.11,2,     0.02,2,     0.79,2,    5.553,2,    2.998,2,   2151.5,2,   2317.2,2,   3.4714
  58GS20060721,   75N,   297,  1,     10,2,20060731,0054, 74.5000,   7.0000, 2439,     50.0,   4.4184,  35.0610,2,-999.0000,9,    304.5,2,    305.6,2,     4.42,2,     9.37,2,     0.19,2,     0.76,2, -999.000,9,    2.853,2,   2146.0,2,   2315.5,2,   4.4148
  58GS20060721,   75N,   297,  1,     11,2,20060731,0054, 74.5000,   7.0000, 2439,     30.4,   5.6332,  34.9970,2,-999.0000,9,    310.5,2,    311.1,2,     1.80,2,     3.87,2,     0.08,2,     0.39,2,    5.385,2,    2.875,2,   2109.0,2,   2310.0,2,   5.6307
  58GS20060721,   75N,   297,  1,     12,2,20060731,0054, 74.5000,   7.0000, 2439,      4.8,   7.0885,  34.9590,2,  34.9558,2,    307.9,2,    309.5,2,     0.82,2,     1.53,2,     0.03,2,     0.20,2,    5.217,2,    2.873,2,   2088.0,2,   2315.5,2,   7.0880
  58GS20060721,   75N,   298,  1,      1,2,20060731,0322, 74.5000,   7.5000, 2214,   2180.2,  -0.8291,  34.9140,2,  34.9110,2,    297.7,2,   -999.0,9,    12.20,2,    15.08,2,     0.00,2,     1.00,2, -999.000,9, -999.000,9,   -999.0,9,   -999.0,9,  -0.9345
  58GS20060721,   75N,   298,  1,      2,2,20060731,0322, 74.5000,   7.5000, 2214,   2000.4,  -0.8273,  34.9140,2,-999.0000,9,    296.8,2,   -999.0,9,    12.03,2,    14.95,2,     0.00,2,     1.00,2, -999.000,9, -999.000,9,   -999.0,9,   -999.0,9,  -0.9209
  58GS20060721,   75N,   298,  1,      3,2,20060731,0322, 74.5000,   7.5000, 2214,   1500.2,  -0.7811,  34.9110,2,-999.0000,9,    297.8,2,   -999.0,9,    10.92,2,    14.68,2,     0.00,2,     0.98,2, -999.000,9, -999.000,9,   -999.0,9,   -999.0,9,  -0.8452
  58GS20060721,   75N,   298,  1,      4,2,20060731,0322, 74.5000,   7.5000, 2214,   1000.4,  -0.6634,  34.9000,2,  34.8959,2,    304.6,2,   -999.0,9,     8.84,2,    14.17,2,     0.00,2,     0.94,2, -999.000,9, -999.000,9,   -999.0,9,   -999.0,9,  -0.7026
  58GS20060721,   75N,   298,  1,      5,2,20060731,0322, 74.5000,   7.5000, 2214,    800.7,  -0.5450,  34.8970,2,-999.0000,9,    306.7,2,   -999.0,9,     8.04,2,    13.95,2,     0.00,2,     0.93,2, -999.000,9, -999.000,9,   -999.0,9,   -999.0,9,  -0.5757
  58GS20060721,   75N,   298,  1,      6,2,20060731,0322, 74.5000,   7.5000, 2214,    499.9,  -0.2997,  34.8940,2,-999.0000,9,    315.7,2,   -999.0,9,     6.72,2,    13.22,2,     0.00,2,     0.88,2, -999.000,9, -999.000,9,   -999.0,9,   -999.0,9,  -0.3185
  58GS20060721,   75N,   298,  1,      7,2,20060731,0322, 74.5000,   7.5000, 2214,    401.3,  -0.0679,  34.8970,2,-999.0000,9,    314.4,2,   -999.0,9,     6.57,2,    13.22,2,     0.00,2,     0.90,2, -999.000,9, -999.000,9,   -999.0,9,   -999.0,9,  -0.0834
  58GS20060721,   75N,   298,  1,      8,2,20060731,0322, 74.5000,   7.5000, 2214,    199.6,   1.2577,  34.9450,2,  34.9408,2,    306.9,2,   -999.0,9,     6.03,2,    13.17,2,     0.00,2,     0.87,2, -999.000,9, -999.000,9,   -999.0,9,   -999.0,9,   1.2481
  58GS20060721,   75N,   298,  1,      9,2,20060731,0322, 74.5000,   7.5000, 2214,    100.4,   2.7221,  34.9800,2,-999.0000,9,    323.6,2,   -999.0,9,     4.41,2,     8.40,2,     0.28,2,     0.70,2, -999.000,9, -999.000,9,   -999.0,9,   -999.0,9,   2.7161
  58GS20060721,   75N,   298,  1,     10,2,20060731,0322, 74.5000,   7.5000, 2214,     51.1,   4.7532,  35.0240,2,-999.0000,9,    311.8,2,   -999.0,9,     3.57,2,     5.24,2,     0.07,2,     0.56,2, -999.000,9, -999.000,9,   -999.0,9,   -999.0,9,   4.7494
  58GS20060721,   75N,   298,  1,     11,2,20060731,0322, 74.5000,   7.5000, 2214,     30.2,   6.8355,  35.0700,2,-999.0000,9,    302.7,2,   -999.0,9,     1.56,2,     3.52,2,     0.06,2,     0.31,2, -999.000,9, -999.000,9,   -999.0,9,   -999.0,9,   6.8327
  58GS20060721,   75N,   298,  1,     12,2,20060731,0322, 74.5000,   7.5000, 2214,      5.9,   7.5557,  35.0700,2,  35.0730,2,    301.6,2,   -999.0,9,     1.81,2,     2.54,2,     0.04,2,     0.28,2, -999.000,9, -999.000,9,   -999.0,9,   -999.0,9,   7.5551
  58GS20060721,   75N,   299,  1,      1,2,20060731,0549, 74.5000,   8.0000, 2453,   2398.6,  -0.8221,  34.9140,2,  34.9108,2,    297.0,2,    297.0,2,    12.41,2,    15.22,2,     0.00,2,     0.96,2,    0.873,2,    0.403,2,   2162.8,2,   2306.6,2,  -0.9427
  58GS20060721,   75N,   299,  1,      2,2,20060731,0549, 74.5000,   8.0000, 2453,   2001.0,  -0.8312,  34.9130,2,  34.9090,2,    295.1,2,    297.2,2,    12.13,2,    15.11,2,     0.00,2,     0.98,2,    0.993,2,    0.474,2,   2160.7,2,   2305.6,2,  -0.9248
  58GS20060721,   75N,   299,  1,      3,2,20060731,0549, 74.5000,   8.0000, 2453,   1500.5,  -0.7805,  34.9110,2,  34.9063,2,    296.3,2,    299.6,2,    10.89,2,    14.78,2,     0.00,2,     0.97,2,    1.654,2,    0.807,2,   2161.9,2,   2308.7,2,  -0.8446
  58GS20060721,   75N,   299,  1,      4,2,20060731,0549, 74.5000,   8.0000, 2453,    999.8,  -0.6425,  34.9000,2,  34.8956,2,    304.5,2,    307.8,2,     8.64,2,    14.13,2,     0.00,2,     0.93,2,    3.681,2,    1.833,2,   2163.7,2,   2302.9,2,  -0.6818
  58GS20060721,   75N,   299,  1,      5,2,20060731,0549, 74.5000,   8.0000, 2453,    799.4,  -0.5552,  34.8960,2,  34.8887,2,    309.0,2,    312.4,2,     7.73,2,    13.76,2,     0.00,2,     0.90,2,    4.568,2,    2.375,2,   2164.2,2,   2305.2,2,  -0.5858
  58GS20060721,   75N,   299,  1,      6,2,20060731,0549, 74.5000,   8.0000, 2453,    498.6,  -0.1147,  34.8960,2,  34.8929,2,    313.8,2,    317.4,2,     6.56,2,    13.22,2,     0.00,2,     0.88,2,    5.421,2,    2.778,2,   2163.0,2,   2301.9,2,  -0.1342
  58GS20060721,   75N,   299,  1,      7,2,20060731,0549, 74.5000,   8.0000, 2453,    400.2,   0.1190,  34.9010,2,  34.8939,2,    308.7,2,    313.0,2,     6.60,2,    13.42,2,     0.00,2,     0.89,2,    5.380,2,    2.669,2,   2163.5,2,   2302.2,2,   0.1029
  58GS20060721,   75N,   299,  1,      8,2,20060731,0549, 74.5000,   8.0000, 2453,    199.4,   1.6105,  34.9580,2,  34.9536,2,    311.4,2,    314.0,2,     5.56,2,    12.59,2,     0.02,2,     0.84,2,    5.868,2,    3.048,2,   2159.0,2,   2306.0,2,   1.6003
  58GS20060721,   75N,   299,  1,      9,2,20060731,0549, 74.5000,   8.0000, 2453,    100.5,   2.6550,  34.9910,2,  34.9847,2,    313.5,2,    316.7,2,     4.86,2,    10.61,2,     0.19,2,     0.76,2,    6.081,2,    3.307,2,   2150.9,2,   2308.2,2,   2.6491
  58GS20060721,   75N,   299,  1,     10,2,20060731,0549, 74.5000,   8.0000, 2453,     49.8,   5.0049,  35.0490,2,  35.0501,2,    307.5,2,    310.1,2,     2.88,2,     6.53,2,     0.13,2,     0.60,2,    5.599,2,    3.084,2,   2128.4,2,   2312.8,2,   5.0010
  58GS20060721,   75N,   299,  1,     11,2,20060731,0549, 74.5000,   8.0000, 2453,     29.5,   6.3465,  34.9520,2,  34.9569,2,    307.9,2,    310.8,2,     0.86,2,     1.80,2,     0.04,2,     0.22,2,    5.309,2,    2.872,2,   2089.8,2,   2309.3,2,   6.3439
  58GS20060721,   75N,   299,  1,     12,2,20060731,0549, 74.5000,   8.0000, 2453,      5.2,   6.8136,  34.9250,2,  34.9326,2,    311.8,2,    314.2,2,     0.78,2,     1.04,2,     0.03,2,     0.18,2,    5.298,2,    2.986,2,   2083.9,2,   2324.7,3,   6.8131
  58GS20060721,   75N,   300,  1,      1,2,20060731,0821, 74.5000,   8.5000, 3141,   2999.9,  -0.7791,  34.9130,2,  34.9075,2,    298.6,2,   -999.0,9,    12.54,2,    15.13,2,     0.00,2,     1.00,2, -999.000,9, -999.000,9,   -999.0,9,   -999.0,9,  -0.9461
  58GS20060721,   75N,   300,  1,      2,2,20060731,0821, 74.5000,   8.5000, 3141,   1999.7,  -0.7996,  34.9120,2,-999.0000,9,    295.4,2,   -999.0,9,    11.65,2,    14.96,2,     0.00,2,     1.00,2, -999.000,9, -999.000,9,   -999.0,9,   -999.0,9,  -0.8936
  58GS20060721,   75N,   300,  1,      3,2,20060731,0821, 74.5000,   8.5000, 3141,   1499.9,  -0.7247,  34.9050,2,-999.0000,9,    302.2,2,   -999.0,9,     9.70,2,    14.32,2,     0.00,2,     0.97,2, -999.000,9, -999.000,9,   -999.0,9,   -999.0,9,  -0.7895
  58GS20060721,   75N,   300,  1,      4,4,20060731,0821, 74.5000,   8.5000, 3141,   1000.2,  -0.5782,  34.8950,2,-999.0000,9,    311.4,2,   -999.0,9,  -999.00,9,  -999.00,9,  -999.00,9,  -999.00,9, -999.000,9, -999.000,9,   -999.0,9,   -999.0,9,  -0.6181
  58GS20060721,   75N,   300,  1,      5,2,20060731,0821, 74.5000,   8.5000, 3141,    799.7,  -0.3620,  34.8950,2,  34.8898,2,    308.0,2,   -999.0,9,     7.44,2,    13.71,2,     0.00,2,     0.91,2, -999.000,9, -999.000,9,   -999.0,9,   -999.0,9,  -0.3939
  58GS20060721,   75N,   300,  1,      6,2,20060731,0821, 74.5000,   8.5000, 3141,    499.3,   0.3373,  34.8990,2,-999.0000,9,    315.1,2,   -999.0,9,     6.14,2,    12.98,2,     0.00,2,     0.87,2, -999.000,9, -999.000,9,   -999.0,9,   -999.0,9,   0.3158
  58GS20060721,   75N,   300,  1,      7,2,20060731,0821, 74.5000,   8.5000, 3141,    400.1,   1.2884,  34.9320,2,-999.0000,9,    313.4,2,   -999.0,9,     5.69,2,    12.65,2,     0.06,2,     0.85,2, -999.000,9, -999.000,9,   -999.0,9,   -999.0,9,   1.2684
  58GS20060721,   75N,   300,  1,      8,2,20060731,0821, 74.5000,   8.5000, 3141,    200.7,   4.3970,  35.1260,2,  35.1256,2,    298.7,2,   -999.0,9,     4.89,2,    12.20,2,     0.00,2,     0.79,2, -999.000,9, -999.000,9,   -999.0,9,   -999.0,9,   4.3822
  58GS20060721,   75N,   300,  1,      9,2,20060731,0821, 74.5000,   8.5000, 3141,    101.0,   5.0044,  35.1470,2,-999.0000,9,    293.9,2,   -999.0,9,     4.88,2,    12.06,2,     0.02,2,     0.77,2, -999.000,9, -999.000,9,   -999.0,9,   -999.0,9,   4.9965
  58GS20060721,   75N,   300,  1,     10,2,20060731,0821, 74.5000,   8.5000, 3141,     50.0,   5.5359,  35.1450,2,-999.0000,9,    294.3,2,   -999.0,9,     4.45,2,     9.87,2,     0.21,2,     0.72,2, -999.000,9, -999.000,9,   -999.0,9,   -999.0,9,   5.5318
  58GS20060721,   75N,   300,  1,     11,2,20060731,0821, 74.5000,   8.5000, 3141,     30.0,   6.2232,  35.0060,2,-999.0000,9,    312.7,2,   -999.0,9,     1.66,2,     4.64,2,     0.12,2,     0.40,2, -999.000,9, -999.000,9,   -999.0,9,   -999.0,9,   6.2206
  58GS20060721,   75N,   300,  1,     12,2,20060731,0821, 74.5000,   8.5000, 3141,      5.4,   7.6184,  35.0410,2,  35.0298,2,    311.5,2,   -999.0,9,     0.66,2,     2.51,2,     0.07,2,     0.23,2, -999.000,9, -999.000,9,   -999.0,9,   -999.0,9,   7.6179