BOTTLE,20100608CCHDOSIODM
EXPOCODE,SECT_ID,STNNBR,CASTNO,BTLNBR,BTLNBR_FLAG_W,DATE,TIME,LATITUDE,LONGITUDE,DEPTH,CTDPRS,CTDTMP,CTDSAL,CTDSAL_FLAG_W,SALNTY,SALNTY_FLAG_W,CTDOXY,CTDOXY_FLAG_W,OXYGEN,OXYGEN_FLAG_W,SILCAT,SILCAT_FLAG_W,NITRAT,NITRAT_FLAG_W,NITRIT,NITRIT_FLAG_W,PHSPHT,PHSPHT_FLAG_W,CFC-11,CFC-11_FLAG_W,CFC-12,CFC-12_FLAG_W,TCARBN,TCARBN_FLAG_W,ALKALI,ALKALI_FLAG_W,THETA
,,,,,,,,,,METERS,DBAR,ITS-90,PSS-78,,PSS-78,,UMOL/KG,,UMOL/KG,,UMOL/KG,,UMOL/KG,,UMOL/KG,,UMOL/KG,,PMOL/KG,,PMOL/KG,,UMOL/KG,,UMOL/KG,,DEG C
  58GS20060721,   75N,   273,  1,      1,2,20060728,1709, 75.0000,  -0.5000, 3689,   3499.5,  -0.8465,  34.9100,2,  34.9072,2,    304.8,2,   -999.0,9,    12.47,2,    14.88,2,     0.00,2,     0.98,2, -999.000,9, -999.000,9,   -999.0,9,   -999.0,9,  -1.0539
  58GS20060721,   75N,   273,  1,      2,2,20060728,1709, 75.0000,  -0.5000, 3689,   3000.0,  -0.8488,  34.9130,2,-999.0000,9,    301.1,2,   -999.0,9,    12.12,2,    15.00,2,     0.00,2,     0.99,2, -999.000,9, -999.000,9,   -999.0,9,   -999.0,9,  -1.0142
  58GS20060721,   75N,   273,  1,      3,2,20060728,1709, 75.0000,  -0.5000, 3689,   2475.6,  -0.8289,  34.9150,2,-999.0000,9,    298.5,2,   -999.0,9,    11.70,2,    14.96,2,     0.00,2,     0.98,2, -999.000,9, -999.000,9,   -999.0,9,   -999.0,9,  -0.9548
  58GS20060721,   75N,   273,  1,      4,2,20060728,1709, 75.0000,  -0.5000, 3689,   1999.8,  -0.7610,  34.9130,2,-999.0000,9,    298.6,2,   -999.0,9,    10.73,2,    14.74,2,     0.00,2,     0.96,2, -999.000,9, -999.000,9,   -999.0,9,   -999.0,9,  -0.8556
  58GS20060721,   75N,   273,  1,      5,2,20060728,1709, 75.0000,  -0.5000, 3689,   1500.2,  -0.7706,  34.8970,2,  34.8901,2,    314.5,2,   -999.0,9,     8.24,2,    13.83,2,     0.00,2,     0.92,2, -999.000,9, -999.000,9,   -999.0,9,   -999.0,9,  -0.8348
  58GS20060721,   75N,   273,  1,      6,2,20060728,1709, 75.0000,  -0.5000, 3689,   1000.3,  -0.6717,  34.8920,2,-999.0000,9,    323.6,2,   -999.0,9,     6.79,2,    13.21,2,     0.00,2,     0.87,2, -999.000,9, -999.000,9,   -999.0,9,   -999.0,9,  -0.7108
  58GS20060721,   75N,   273,  1,      7,2,20060728,1709, 75.0000,  -0.5000, 3689,    500.3,  -0.6353,  34.8900,2,-999.0000,9,    331.3,2,   -999.0,9,     6.16,2,    12.93,2,     0.00,2,     0.85,2, -999.000,9, -999.000,9,   -999.0,9,   -999.0,9,  -0.6527
  58GS20060721,   75N,   273,  1,      8,2,20060728,1709, 75.0000,  -0.5000, 3689,    299.7,  -0.5396,  34.8910,2,-999.0000,9,    328.6,2,   -999.0,9,     6.22,2,    12.91,2,     0.00,2,     0.85,2, -999.000,9, -999.000,9,   -999.0,9,   -999.0,9,  -0.5497
  58GS20060721,   75N,   273,  1,      9,2,20060728,1709, 75.0000,  -0.5000, 3689,    100.0,   0.0653,  34.8940,2,  34.8882,2,    336.5,2,   -999.0,9,     5.19,2,    10.94,2,     0.15,2,     0.80,2, -999.000,9, -999.000,9,   -999.0,9,   -999.0,9,   0.0616
  58GS20060721,   75N,   273,  1,     10,2,20060728,1709, 75.0000,  -0.5000, 3689,     49.9,   0.3405,  34.8820,2,-999.0000,9,    345.2,2,   -999.0,9,     4.13,2,     8.57,2,     0.08,2,     0.72,2, -999.000,9, -999.000,9,   -999.0,9,   -999.0,9,   0.3386
  58GS20060721,   75N,   273,  1,     11,2,20060728,1709, 75.0000,  -0.5000, 3689,     30.2,   1.2335,  34.8840,2,-999.0000,9,    351.7,2,   -999.0,9,     3.10,2,     5.38,2,     0.04,2,     0.60,2, -999.000,9, -999.000,9,   -999.0,9,   -999.0,9,   1.2321
  58GS20060721,   75N,   273,  1,     12,2,20060728,1709, 75.0000,  -0.5000, 3689,      9.7,   4.6119,  34.8270,2,  34.8255,2,    331.7,2,   -999.0,9,     1.38,2,     0.84,2,     0.02,2,     0.22,2, -999.000,9, -999.000,9,   -999.0,9,   -999.0,9,   4.6112
  58GS20060721,   75N,   274,  1,      1,2,20060728,2011, 75.0000,   0.0000, 3698,   3600.7,  -0.8411,  34.9100,2,  34.9035,2,    304.2,2,    301.0,2,    12.61,2,    14.75,2,     0.00,2,     0.97,2, -999.000,9,    0.372,2,   2160.0,2,   2302.3,2,  -1.0576
  58GS20060721,   75N,   274,  1,      2,2,20060728,2011, 75.0000,   0.0000, 3698,   2999.6,  -0.8537,  34.9130,2,  34.9062,2,    300.3,2,    300.3,2,    12.20,2,    14.77,2,     0.00,2,     0.97,2, -999.000,9,    0.386,2,   2159.3,2,   2305.3,2,  -1.0190
  58GS20060721,   75N,   274,  1,      3,2,20060728,2011, 75.0000,   0.0000, 3698,   2499.7,  -0.8354,  34.9150,2,  34.9079,2,    298.0,2,    299.0,2,    11.77,2,    14.73,2,     0.00,2,     0.98,2,    0.892,2,    0.499,2,   2159.5,2,   2308.6,2,  -0.9629
  58GS20060721,   75N,   274,  1,      4,4,20060728,2011, 75.0000,   0.0000, 3698,   2000.2,  -0.7720,  34.9140,2,-999.0000,9,    297.4,2,   -999.0,9,  -999.00,9,  -999.00,9,  -999.00,9,  -999.00,9, -999.000,9, -999.000,9,   -999.0,9,   -999.0,9,  -0.8665
  58GS20060721,   75N,   274,  1,      5,2,20060728,2011, 75.0000,   0.0000, 3698,   1500.0,  -0.7659,  34.8980,2,  34.8917,2,    312.4,2,    315.0,2,     8.48,2,    13.64,2,     0.00,2,     0.91,2,    3.917,2,    1.849,2,   2161.5,2,   2301.2,2,  -0.8301
  58GS20060721,   75N,   274,  1,      6,2,20060728,2011, 75.0000,   0.0000, 3698,   1000.7,  -0.6733,  34.8920,2,  34.8853,2,    321.9,2,    323.7,2,     7.02,2,    13.05,2,     0.00,2,     0.88,2,    5.308,2,    2.559,2,   2163.0,2,   2307.1,2,  -0.7124
  58GS20060721,   75N,   275,  1,      1,2,20060728,2257, 75.0000,   0.0000, 3698,    800.4,  -0.6364,  34.8910,2,  34.8798,2,    333.5,2,    333.2,2,     6.12,2,    12.61,2,     0.00,2,     0.85,2,    5.941,2,    2.948,2,   2162.9,2,   2301.1,2,  -0.6665
  58GS20060721,   75N,   275,  1,      2,2,20060728,2257, 75.0000,   0.0000, 3698,    499.8,  -0.6188,  34.8910,2,  34.8827,2,    333.0,2,    333.2,2,     6.12,2,    12.60,2,     0.00,2,     0.86,2,    6.078,2,    3.000,2,   2162.6,2,   2308.7,2,  -0.6363
  58GS20060721,   75N,   275,  1,      3,2,20060728,2257, 75.0000,   0.0000, 3698,    499.9,  -0.6185,  34.8910,2,  34.8844,2,    333.0,2,    333.3,2,     6.07,2,    12.58,2,     0.00,2,     0.86,2,    5.979,2,    2.989,2,   2163.3,2,   2309.9,2,  -0.6360
  58GS20060721,   75N,   275,  1,      4,4,20060728,2257, 75.0000,   0.0000, 3698,    399.2,  -0.6013,  34.8900,2,-999.0000,9,    332.1,2,   -999.0,9,  -999.00,9,  -999.00,9,  -999.00,9,  -999.00,9, -999.000,9, -999.000,9,   -999.0,9,   -999.0,9,  -0.6149
  58GS20060721,   75N,   275,  1,      5,2,20060728,2257, 75.0000,   0.0000, 3698,    299.4,  -0.5418,  34.8910,2,  34.8844,2,    331.7,2,    332.2,2,     6.07,2,    12.62,2,     0.00,2,     0.86,2,    6.059,2,    3.053,2,   2162.3,2,   2301.5,2,  -0.5519
  58GS20060721,   75N,   275,  1,      6,2,20060728,2257, 75.0000,   0.0000, 3698,    199.6,  -0.4317,  34.8880,2,  34.8819,2,    328.9,2,    329.6,2,     5.96,2,    12.65,2,     0.03,2,     0.85,2,    5.987,2,    2.921,2,   2163.6,2,   2301.8,2,  -0.4384
  58GS20060721,   75N,   275,  1,      7,2,20060728,2257, 75.0000,   0.0000, 3698,    149.2,  -0.2684,  34.8890,2,  34.8805,2,    329.5,2,    329.6,2,     5.66,2,    12.42,2,     0.12,2,     0.79,2,    6.152,2,    2.994,2,   2163.0,2,   2296.4,2,  -0.2736
  58GS20060721,   75N,   275,  1,      8,2,20060728,2257, 75.0000,   0.0000, 3698,     99.6,  -0.0389,  34.8840,2,  34.8791,2,    337.0,2,    336.9,2,     5.01,2,    10.55,2,     0.10,2,     0.76,2,    6.573,2,    3.356,2,   2161.4,2,   2305.5,2,  -0.0425
  58GS20060721,   75N,   275,  1,      9,2,20060728,2257, 75.0000,   0.0000, 3698,     72.8,   0.1475,  34.8810,2,  34.8755,2,    343.6,2,    343.5,2,     4.22,2,     9.10,2,     0.05,2,     0.71,2,    6.681,2,    3.303,2,   2156.8,2,   -999.0,9,   0.1448
  58GS20060721,   75N,   275,  1,     10,2,20060728,2257, 75.0000,   0.0000, 3698,     49.8,   0.4226,  34.8770,2,  34.8697,2,    349.4,2,    348.7,2,     3.52,2,     7.04,2,     0.04,2,     0.63,2,    6.773,2,    3.394,2,   2150.8,2,   2310.8,2,   0.4206
  58GS20060721,   75N,   275,  1,     11,2,20060728,2257, 75.0000,   0.0000, 3698,     29.4,   5.1129,  34.9300,2,  34.9013,2,    325.7,2,    334.2,2,     1.42,2,     2.45,2,     0.06,2,     0.33,2,    6.066,2,    3.221,2,   2100.8,2,   2308.6,2,   5.1106
  58GS20060721,   75N,   275,  1,     12,2,20060728,2257, 75.0000,   0.0000, 3698,      5.1,   5.8228,  34.8670,2,  34.8772,2,    328.6,2,    328.1,2,     0.39,2,     0.40,2,     0.04,2,     0.18,2,    5.611,2,    3.103,2,   2080.1,2,   2318.2,3,   5.8224
  58GS20060721,   75N,   276,  1,      1,2,20060729,0030, 75.0000,   0.3300, 3702,   3600.1,  -0.8396,  34.9100,2,  34.9075,2,    304.6,2,   -999.0,9,    12.44,2,    15.07,2,     0.00,2,     1.02,2, -999.000,9, -999.000,9,   -999.0,9,   -999.0,9,  -1.0561
  58GS20060721,   75N,   276,  1,      2,2,20060729,0030, 75.0000,   0.3300, 3702,   3000.7,  -0.8523,  34.9130,2,  34.9083,2,    300.5,2,   -999.0,9,    12.07,2,    14.86,2,     0.00,2,     0.99,2, -999.000,9, -999.000,9,   -999.0,9,   -999.0,9,  -1.0177
  58GS20060721,   75N,   276,  1,      3,2,20060729,0030, 75.0000,   0.3300, 3702,   2500.1,  -0.8357,  34.9150,2,-999.0000,9,    297.8,2,   -999.0,9,    11.68,2,    14.91,2,     0.00,2,     1.00,2, -999.000,9, -999.000,9,   -999.0,9,   -999.0,9,  -0.9633
  58GS20060721,   75N,   276,  1,      4,2,20060729,0030, 75.0000,   0.3300, 3702,   2000.7,  -0.7698,  34.9140,2,-999.0000,9,    297.4,2,   -999.0,9,    10.88,2,    14.68,2,     0.00,2,     0.97,2, -999.000,9, -999.000,9,   -999.0,9,   -999.0,9,  -0.8643
  58GS20060721,   75N,   276,  1,      5,2,20060729,0030, 75.0000,   0.3300, 3702,   1500.7,  -0.7587,  34.8990,2,-999.0000,9,    311.1,2,   -999.0,9,     8.43,2,    13.81,2,     0.00,2,     0.91,2, -999.000,9, -999.000,9,   -999.0,9,   -999.0,9,  -0.8231
  58GS20060721,   75N,   276,  1,      6,2,20060729,0030, 75.0000,   0.3300, 3702,   1000.7,  -0.6766,  34.8930,2,-999.0000,9,    317.4,2,   -999.0,9,     7.16,2,    13.36,2,     0.00,2,     0.83,2, -999.000,9, -999.000,9,   -999.0,9,   -999.0,9,  -0.7157
  58GS20060721,   75N,   276,  1,      7,2,20060729,0030, 75.0000,   0.3300, 3702,    501.0,  -0.6254,  34.8900,2,-999.0000,9,    330.4,2,   -999.0,9,     6.09,2,    12.70,2,     0.00,2,     0.81,2, -999.000,9, -999.000,9,   -999.0,9,   -999.0,9,  -0.6429
  58GS20060721,   75N,   276,  1,      8,2,20060729,0030, 75.0000,   0.3300, 3702,    301.1,  -0.5034,  34.8920,2,-999.0000,9,    329.2,2,   -999.0,9,     6.00,2,    12.74,2,     0.01,2,     0.81,2, -999.000,9, -999.000,9,   -999.0,9,   -999.0,9,  -0.5137
  58GS20060721,   75N,   276,  1,      9,2,20060729,0030, 75.0000,   0.3300, 3702,    100.9,  -0.0220,  34.8860,2,-999.0000,9,    333.6,2,   -999.0,9,     5.45,2,    11.79,2,     0.13,2,     0.81,2, -999.000,9, -999.000,9,   -999.0,9,   -999.0,9,  -0.0257
  58GS20060721,   75N,   276,  1,     10,2,20060729,0030, 75.0000,   0.3300, 3702,     50.1,   0.3463,  34.8750,2,-999.0000,9,    346.7,2,   -999.0,9,     3.58,2,     7.00,2,     0.04,2,     0.66,2, -999.000,9, -999.000,9,   -999.0,9,   -999.0,9,   0.3443
  58GS20060721,   75N,   276,  1,     11,2,20060729,0030, 75.0000,   0.3300, 3702,     30.8,   1.3945,  34.8730,2,  34.8690,2,    350.8,2,   -999.0,9,     2.82,2,     4.63,2,     0.03,2,     0.56,2, -999.000,9, -999.000,9,   -999.0,9,   -999.0,9,   1.3930
  58GS20060721,   75N,   276,  1,     12,2,20060729,0030, 75.0000,   0.3300, 3702,      9.9,   5.8721,  34.8850,2,  34.8796,2,    327.5,2,   -999.0,9,     0.48,2,     0.23,2,     0.03,2,     0.16,2, -999.000,9, -999.000,9,   -999.0,9,   -999.0,9,   5.8713
  58GS20060721,   75N,   277,  1,      1,2,20060729,0348, 75.0000,   1.0000, 3708,   3600.1,  -0.8420,  34.9100,2,  34.9081,2,    304.5,2,    301.0,2,    12.53,2,    14.78,2,     0.00,2,     0.99,2,    0.876,2,    0.504,2,   2160.3,2,   2312.8,3,  -1.0585
  58GS20060721,   75N,   277,  1,      2,2,20060729,0348, 75.0000,   1.0000, 3708,   2999.7,  -0.8512,  34.9140,2,  34.9100,2,    300.4,2,    300.0,2,    12.11,2,    14.76,2,     0.00,2,     0.99,2,    0.838,2,    0.479,2,   2161.4,2,   2306.4,2,  -1.0166
  58GS20060721,   75N,   277,  1,      3,2,20060729,0348, 75.0000,   1.0000, 3708,   2499.8,  -0.8391,  34.9150,2,  34.9107,2,    298.1,2,    299.1,2,    11.72,2,    14.60,2,     0.00,2,     0.99,2,    0.890,2,    0.505,2,   2161.0,2,   -999.0,9,  -0.9666
  58GS20060721,   75N,   277,  1,      4,2,20060729,0348, 75.0000,   1.0000, 3708,   2000.2,  -0.7783,  34.9140,2,  34.9117,2,    297.5,2,    299.0,2,    10.97,2,    14.61,2,     0.00,2,     0.98,2,    1.301,2,    0.717,2,   2161.5,2,   2307.8,2,  -0.8726
  58GS20060721,   75N,   277,  1,      5,2,20060729,0348, 75.0000,   1.0000, 3708,   1500.3,  -0.7673,  34.9000,2,  34.8969,2,    311.1,2,    313.2,2,     8.63,2,    13.68,2,     0.00,2,     0.92,2,    3.801,2,    1.967,2,   2161.9,2,   -999.0,9,  -0.8316
  58GS20060721,   75N,   277,  1,      6,3,20060729,0348, 75.0000,   1.0000, 3708,   1000.6,  -0.6865,  34.8940,2,  34.8905,2,    315.6,2,    317.8,2,     7.45,2,    13.35,2,     0.00,2,     0.89,2,    4.915,2,    2.305,2,   2163.3,2,   2303.8,2,  -0.7255
  58GS20060721,   75N,   278,  1,      1,2,20060729,0624, 75.0000,   1.0000, 3708,    800.7,  -0.6513,  34.8910,2,  34.8872,2,    328.6,2,    328.6,2,     6.43,2,    12.92,2,     0.01,2,     0.85,2,    5.682,2,    2.946,2,   2164.1,2,   -999.0,9,  -0.6813
  58GS20060721,   75N,   278,  1,      2,2,20060729,0624, 75.0000,   1.0000, 3708,    501.2,  -0.6324,  34.8890,2,  34.8834,2,    331.3,2,    331.6,2,     6.16,2,    12.83,2,     0.01,2,     0.86,2,    5.929,2, -999.000,9,   2164.5,2,   2305.2,2,  -0.6499
  58GS20060721,   75N,   278,  1,      3,2,20060729,0624, 75.0000,   1.0000, 3708,    400.5,  -0.6151,  34.8890,2,  34.8835,2,    332.1,2,    332.2,2,     6.06,2,    12.79,2,     0.01,2,     0.86,2,    6.154,2,    2.992,2,   2165.3,2,   -999.0,9,  -0.6287
  58GS20060721,   75N,   278,  1,      4,4,20060729,0624, 75.0000,   1.0000, 3708,    400.5,  -0.6150,  34.8890,2,-999.0000,9,    332.1,2,   -999.0,9,  -999.00,9,  -999.00,9,  -999.00,9,  -999.00,9, -999.000,9, -999.000,9,   -999.0,9,   -999.0,9,  -0.6286
  58GS20060721,   75N,   278,  1,      5,2,20060729,0624, 75.0000,   1.0000, 3708,    301.4,  -0.5533,  34.8900,2,  34.8838,2,    330.9,2,    331.2,2,     6.06,2,    12.79,2,     0.01,2,     0.83,2,    6.200,2,    3.191,2,   2165.4,2,   -999.0,9,  -0.5634
  58GS20060721,   75N,   278,  1,      6,2,20060729,0624, 75.0000,   1.0000, 3708,    200.7,  -0.4147,  34.8910,2,  34.8855,2,    329.4,2,    329.8,2,     5.94,2,    12.76,2,     0.08,2,     0.84,2,    6.225,2,    3.163,2,   2164.7,2,   2304.2,2,  -0.4215
  58GS20060721,   75N,   278,  1,      7,2,20060729,0624, 75.0000,   1.0000, 3708,    150.4,  -0.1913,  34.8920,2,  34.8933,2,    327.9,2,    328.0,2,     5.86,2,    12.51,2,     0.10,2,     0.82,2,    6.096,2,    3.039,2,   2163.9,2,   -999.0,9,  -0.1966
  58GS20060721,   75N,   278,  1,      8,2,20060729,0624, 75.0000,   1.0000, 3708,    101.1,  -0.0615,  34.8840,2,  34.8793,2,    339.0,2,    337.4,2,     4.92,2,    10.46,2,     0.09,2,     0.81,2,    6.775,2,    3.498,2,   2164.3,2,   2302.1,2,  -0.0651
  58GS20060721,   75N,   278,  1,      9,2,20060729,0624, 75.0000,   1.0000, 3708,     75.8,   0.1653,  34.8820,2,  34.8787,2,    338.0,2,    337.9,2,     4.84,2,     9.91,2,     0.15,2,     0.76,2,    6.707,2,    3.408,2,   2161.2,2,   -999.0,9,   0.1624
  58GS20060721,   75N,   278,  1,     10,2,20060729,0624, 75.0000,   1.0000, 3708,     51.1,   0.5099,  34.8740,2,  34.8714,2,    349.2,2,    347.6,2,     3.73,2,     7.20,2,     0.04,2,     0.68,2,    6.995,2,    3.642,2,   2150.9,2,   2309.7,2,   0.5078
  58GS20060721,   75N,   278,  1,     11,2,20060729,0624, 75.0000,   1.0000, 3708,     31.0,   4.3314,  34.8180,2,  34.8260,2,    327.6,2,    331.3,2,     1.75,2,     1.69,2,     0.02,2,     0.33,2,    6.396,2,    3.507,2,   2098.9,2,   -999.0,9,   4.3292
  58GS20060721,   75N,   278,  1,     12,2,20060729,0624, 75.0000,   1.0000, 3708,      4.8,   5.5735,  34.8150,2,  34.8108,2,    324.8,2,    323.7,2,     1.11,2,     0.22,2,     0.01,2,     0.23,2,    5.973,2,    3.225,2,   2082.5,2,   2305.7,2,   5.5731
  58GS20060721,   75N,   279,  1,      1,2,20060729,0753, 75.0000,   1.5000, 3558,   3450.5,  -0.8318,  34.9120,2,  34.9063,2,    303.8,2,   -999.0,9,    12.29,2,    14.97,2,     0.00,2,     0.97,2, -999.000,9, -999.000,9,   -999.0,9,   -999.0,9,  -1.0353
  58GS20060721,   75N,   279,  1,      2,2,20060729,0753, 75.0000,   1.5000, 3558,   2999.8,  -0.8386,  34.9140,2,  34.9076,2,    300.4,2,   -999.0,9,    12.24,2,    15.01,2,     0.00,2,     0.98,2, -999.000,9, -999.000,9,   -999.0,9,   -999.0,9,  -1.0042
  58GS20060721,   75N,   279,  1,      3,2,20060729,0753, 75.0000,   1.5000, 3558,   2500.6,  -0.8455,  34.9160,2,-999.0000,9,    298.4,2,   -999.0,9,    11.94,2,    14.96,2,     0.00,2,     0.96,2, -999.000,9, -999.000,9,   -999.0,9,   -999.0,9,  -0.9729
  58GS20060721,   75N,   279,  1,      4,2,20060729,0753, 75.0000,   1.5000, 3558,   1998.4,  -0.8023,  34.9150,2,-999.0000,9,    297.2,2,   -999.0,9,    11.26,2,    14.83,2,     0.00,2,     0.97,2, -999.000,9, -999.000,9,   -999.0,9,   -999.0,9,  -0.8962
  58GS20060721,   75N,   279,  1,      5,2,20060729,0753, 75.0000,   1.5000, 3558,   1499.8,  -0.7626,  34.9020,2,-999.0000,9,    308.8,2,   -999.0,9,     8.99,2,    14.04,2,     0.00,2,     0.92,2, -999.000,9, -999.000,9,   -999.0,9,   -999.0,9,  -0.8269
  58GS20060721,   75N,   279,  1,      6,2,20060729,0753, 75.0000,   1.5000, 3558,   1000.4,  -0.6868,  34.8940,2,-999.0000,9,    315.0,2,   -999.0,9,     7.58,2,    13.57,2,     0.00,2,     0.90,2, -999.000,9, -999.000,9,   -999.0,9,   -999.0,9,  -0.7258
  58GS20060721,   75N,   279,  1,      7,2,20060729,0753, 75.0000,   1.5000, 3558,    500.0,  -0.6230,  34.8900,2,-999.0000,9,    328.2,2,   -999.0,9,     6.33,2,    12.91,2,     0.02,2,     0.85,2, -999.000,9, -999.000,9,   -999.0,9,   -999.0,9,  -0.6405
  58GS20060721,   75N,   279,  1,      8,2,20060729,0753, 75.0000,   1.5000, 3558,    298.5,  -0.5148,  34.8910,2,-999.0000,9,    328.2,2,   -999.0,9,     6.16,2,    12.86,2,     0.02,2,     0.85,2, -999.000,9, -999.000,9,   -999.0,9,   -999.0,9,  -0.5249
  58GS20060721,   75N,   279,  1,      9,2,20060729,0753, 75.0000,   1.5000, 3558,     98.2,  -0.0552,  34.8780,2,-999.0000,9,    343.4,2,   -999.0,9,     4.46,2,     9.56,2,     0.06,2,     0.76,2, -999.000,9, -999.000,9,   -999.0,9,   -999.0,9,  -0.0587
  58GS20060721,   75N,   279,  1,     10,2,20060729,0753, 75.0000,   1.5000, 3558,     49.9,   0.4332,  34.8770,2,-999.0000,9,    347.7,2,   -999.0,9,     3.46,2,     7.14,2,     0.04,2,     0.65,2, -999.000,9, -999.000,9,   -999.0,9,   -999.0,9,   0.4312
  58GS20060721,   75N,   279,  1,     11,2,20060729,0753, 75.0000,   1.5000, 3558,     29.7,   2.1217,  34.8550,2,-999.0000,9,    343.4,2,   -999.0,9,     2.42,2,     4.18,2,     0.03,2,     0.52,2, -999.000,9, -999.000,9,   -999.0,9,   -999.0,9,   2.1201
  58GS20060721,   75N,   279,  1,     12,2,20060729,0753, 75.0000,   1.5000, 3558,     10.1,   5.8492,  34.8490,2,-999.0000,9,    326.9,2,   -999.0,9,     0.69,2,     0.02,2,     0.02,2,     0.15,2, -999.000,9, -999.000,9,   -999.0,9,   -999.0,9,   5.8484