BOTTLE,20100608CCHDOSIODM
EXPOCODE,SECT_ID,STNNBR,CASTNO,BTLNBR,BTLNBR_FLAG_W,DATE,TIME,LATITUDE,LONGITUDE,DEPTH,CTDPRS,CTDTMP,CTDSAL,CTDSAL_FLAG_W,SALNTY,SALNTY_FLAG_W,CTDOXY,CTDOXY_FLAG_W,OXYGEN,OXYGEN_FLAG_W,SILCAT,SILCAT_FLAG_W,NITRAT,NITRAT_FLAG_W,NITRIT,NITRIT_FLAG_W,PHSPHT,PHSPHT_FLAG_W,CFC-11,CFC-11_FLAG_W,CFC-12,CFC-12_FLAG_W,TCARBN,TCARBN_FLAG_W,ALKALI,ALKALI_FLAG_W,THETA
,,,,,,,,,,METERS,DBAR,ITS-90,PSS-78,,PSS-78,,UMOL/KG,,UMOL/KG,,UMOL/KG,,UMOL/KG,,UMOL/KG,,UMOL/KG,,PMOL/KG,,PMOL/KG,,UMOL/KG,,UMOL/KG,,DEG C
  58GS20060721,   75N,   268,  1,      1,2,20060728,0401, 75.0000,  -2.5000, 3634,   1999.5,  -0.7708,  34.9130,2,  34.9099,2,    301.4,2,   -999.0,9,    10.91,2,    14.66,2,     0.00,2,     0.98,2, -999.000,9, -999.000,9,   -999.0,9,   -999.0,9,  -0.8652
  58GS20060721,   75N,   268,  1,      2,2,20060728,0401, 75.0000,  -2.5000, 3634,   1999.4,  -0.7708,  34.9130,2,-999.0000,9,    301.5,2,   -999.0,9,    10.91,2,    14.63,2,     0.01,2,     0.96,2, -999.000,9, -999.000,9,   -999.0,9,   -999.0,9,  -0.8652
  58GS20060721,   75N,   268,  1,      3,2,20060728,0401, 75.0000,  -2.5000, 3634,   1498.7,  -0.7562,  34.8980,2,-999.0000,9,    314.7,2,   -999.0,9,     8.41,2,    13.83,2,     0.00,2,     0.92,2, -999.000,9, -999.000,9,   -999.0,9,   -999.0,9,  -0.8205
  58GS20060721,   75N,   268,  1,      4,2,20060728,0401, 75.0000,  -2.5000, 3634,    998.5,  -0.6546,  34.8930,2,-999.0000,9,    325.4,2,   -999.0,9,     6.76,2,    13.18,2,     0.00,2,     0.87,2, -999.000,9, -999.000,9,   -999.0,9,   -999.0,9,  -0.6938
  58GS20060721,   75N,   268,  1,      5,2,20060728,0401, 75.0000,  -2.5000, 3634,    798.9,  -0.6277,  34.8930,2,-999.0000,9,    329.5,2,   -999.0,9,     6.37,2,    12.93,2,     0.00,2,     0.86,2, -999.000,9, -999.000,9,   -999.0,9,   -999.0,9,  -0.6578
  58GS20060721,   75N,   268,  1,      6,2,20060728,0401, 75.0000,  -2.5000, 3634,    648.8,  -0.6079,  34.8930,2,  34.8883,2,    330.0,2,   -999.0,9,     6.34,2,    12.96,2,     0.01,2,     0.86,2, -999.000,9, -999.000,9,   -999.0,9,   -999.0,9,  -0.6315
  58GS20060721,   75N,   268,  1,      7,2,20060728,0401, 75.0000,  -2.5000, 3634,    498.4,  -0.5894,  34.8910,2,-999.0000,9,    329.8,2,   -999.0,9,     6.23,2,    12.98,2,     0.01,2,     0.85,2, -999.000,9, -999.000,9,   -999.0,9,   -999.0,9,  -0.6069
  58GS20060721,   75N,   268,  1,      8,2,20060728,0401, 75.0000,  -2.5000, 3634,    398.7,  -0.5602,  34.8910,2,-999.0000,9,    331.4,2,   -999.0,9,     6.09,2,    12.80,2,     0.01,2,     0.85,2, -999.000,9, -999.000,9,   -999.0,9,   -999.0,9,  -0.5740
  58GS20060721,   75N,   268,  1,      9,2,20060728,0401, 75.0000,  -2.5000, 3634,    298.6,  -0.3679,  34.8990,2,-999.0000,9,    327.2,2,   -999.0,9,     6.11,2,    12.97,2,     0.02,2,     0.86,2, -999.000,9, -999.000,9,   -999.0,9,   -999.0,9,  -0.3784
  58GS20060721,   75N,   268,  1,     10,2,20060728,0401, 75.0000,  -2.5000, 3634,    292.8,  -0.3550,  34.9000,2,-999.0000,9,    327.0,2,   -999.0,9,     6.13,2,    12.95,2,     0.02,2,     0.86,2, -999.000,9, -999.000,9,   -999.0,9,   -999.0,9,  -0.3653
  58GS20060721,   75N,   268,  1,     11,2,20060728,0401, 75.0000,  -2.5000, 3634,    199.2,   0.1441,  34.9250,2,-999.0000,9,    324.1,2,   -999.0,9,     5.96,2,    12.78,2,     0.02,2,     0.85,2, -999.000,9, -999.000,9,   -999.0,9,   -999.0,9,   0.1364
  58GS20060721,   75N,   268,  1,     12,2,20060728,0401, 75.0000,  -2.5000, 3634,    149.2,   0.3180,  34.9240,2,  34.9231,2,    321.8,2,   -999.0,9,     5.94,2,    12.65,2,     0.08,2,     0.83,2, -999.000,9, -999.000,9,   -999.0,9,   -999.0,9,   0.3121
  58GS20060721,   75N,   268,  1,     13,2,20060728,0401, 75.0000,  -2.5000, 3634,     98.4,   0.1760,  34.8880,2,-999.0000,9,    339.4,2,   -999.0,9,     5.14,2,    10.85,2,     0.10,2,     0.79,2, -999.000,9, -999.000,9,   -999.0,9,   -999.0,9,   0.1723
  58GS20060721,   75N,   268,  1,     14,2,20060728,0401, 75.0000,  -2.5000, 3634,     73.4,   0.3588,  34.8910,2,-999.0000,9,    340.6,2,   -999.0,9,     4.37,2,     8.86,2,     0.04,2,     0.73,2, -999.000,9, -999.000,9,   -999.0,9,   -999.0,9,   0.3559
  58GS20060721,   75N,   268,  1,     15,2,20060728,0401, 75.0000,  -2.5000, 3634,     49.2,   0.6951,  34.8810,2,-999.0000,9,    344.6,2,   -999.0,9,     3.56,2,     6.16,2,     0.04,2,     0.65,2, -999.000,9, -999.000,9,   -999.0,9,   -999.0,9,   0.6930
  58GS20060721,   75N,   268,  1,     16,2,20060728,0401, 75.0000,  -2.5000, 3634,     29.6,   3.8695,  34.8290,2,-999.0000,9,    335.1,2,   -999.0,9,     2.06,2,     1.57,2,     0.01,2,     0.33,2, -999.000,9, -999.000,9,   -999.0,9,   -999.0,9,   3.8675
  58GS20060721,   75N,   268,  1,     17,2,20060728,0401, 75.0000,  -2.5000, 3634,      4.6,   5.3999,  34.8720,2,  34.8697,2,    330.3,2,   -999.0,9,     0.38,2,     0.01,2,     0.01,2,     0.15,2, -999.000,9, -999.000,9,   -999.0,9,   -999.0,9,   5.3995
  58GS20060721,   75N,   269,  1,      1,2,20060728,0612, 75.0000,  -2.0000, 3581,   1999.6,  -0.7745,  34.9130,2,  34.9097,2,    301.1,2,    299.4,2,    10.94,2,    14.36,2,     0.00,2,     0.96,2,    1.329,2,    0.727,2,   2160.6,2,   2300.8,2,  -0.8689
  58GS20060721,   75N,   269,  1,      2,2,20060728,0612, 75.0000,  -2.0000, 3581,   1499.4,  -0.7602,  34.8980,2,-999.0000,9,    314.3,2,    314.4,2,     8.44,2,    13.48,2,     0.00,2,     0.89,2,    3.917,2,    1.926,2,   2161.2,2,   2305.7,2,  -0.8245
  58GS20060721,   75N,   269,  1,      3,2,20060728,0612, 75.0000,  -2.0000, 3581,   1298.8,  -0.7410,  34.8960,2,  34.8904,2,    316.4,2,    316.6,2,     7.93,2,    13.35,2,     0.00,2,     0.88,2,    4.465,2,    2.295,2,   2162.9,2,   2305.6,2,  -0.7946
  58GS20060721,   75N,   269,  1,      4,2,20060728,0612, 75.0000,  -2.0000, 3581,    999.5,  -0.6683,  34.8920,2,  34.8885,2,    323.6,2,    325.9,2,     6.78,2,    12.77,2,     0.00,2,     0.87,2,    5.579,2,    2.782,2,   2163.3,2,   2300.7,2,  -0.7074
  58GS20060721,   75N,   269,  1,      5,2,20060728,0612, 75.0000,  -2.0000, 3581,    798.8,  -0.6414,  34.8920,2,  34.8891,2,    326.8,2,    327.8,2,     6.56,2,    12.64,2,     0.01,2,     0.87,2,    5.753,2,    2.928,2,   2162.6,2,   2296.9,2,  -0.6714
  58GS20060721,   75N,   269,  1,      6,2,20060728,0612, 75.0000,  -2.0000, 3581,    648.9,  -0.6252,  34.8920,2,  34.8890,2,    332.5,2,    333.2,2,     6.17,2,    12.41,2,     0.00,2,     0.83,2,    6.138,2,    3.188,2,   2160.9,2,   2300.7,2,  -0.6487
  58GS20060721,   75N,   269,  1,      7,2,20060728,0612, 75.0000,  -2.0000, 3581,    498.6,  -0.6149,  34.8910,2,  34.8885,2,    331.6,2,    332.4,2,     6.19,2,    12.43,2,     0.01,2,     0.85,2,    6.100,2,    3.026,2,   2162.4,2,   2302.8,2,  -0.6323
  58GS20060721,   75N,   269,  1,      8,2,20060728,0612, 75.0000,  -2.0000, 3581,    398.4,  -0.5795,  34.8910,2,  34.8874,2,    331.5,2,    332.2,2,     6.17,2,    12.42,2,     0.01,2,     0.85,2, -999.000,9, -999.000,9,   2162.0,2,   2300.4,2,  -0.5932
  58GS20060721,   75N,   269,  1,      9,9,20060728,0612, 75.0000,  -2.0000, 3581,    389.5,  -0.5746,  34.8920,2,-999.0000,9,    331.4,2,   -999.0,9,  -999.00,9,  -999.00,9,  -999.00,9,  -999.00,9, -999.000,9, -999.000,9,   -999.0,9,   -999.0,9,  -0.5880
  58GS20060721,   75N,   269,  1,     10,2,20060728,0612, 75.0000,  -2.0000, 3581,    299.4,  -0.4821,  34.8940,2,  34.8910,2,    329.8,2,    330.1,2,     6.17,2,    12.44,2,     0.01,2,     0.84,2,    6.359,2,    3.083,2,   2161.4,2,   2300.8,2,  -0.4924
  58GS20060721,   75N,   269,  1,     11,2,20060728,0612, 75.0000,  -2.0000, 3581,    198.5,  -0.1701,  34.9070,2,  34.9038,2,    326.5,2,    326.8,2,     5.96,2,    12.44,2,     0.04,2,     0.85,2,    5.938,2,    2.891,2,   2160.6,2,   2300.2,2,  -0.1772
  58GS20060721,   75N,   269,  1,     12,2,20060728,0612, 75.0000,  -2.0000, 3581,    148.7,  -0.0227,  34.9070,2,  34.9040,2,    327.1,2,    327.7,2,     5.71,2,    12.15,2,     0.14,2,     0.83,2,    6.049,2,    2.965,2,   2161.0,2,   2323.3,3,  -0.0282
  58GS20060721,   75N,   269,  1,     13,2,20060728,0612, 75.0000,  -2.0000, 3581,     99.5,   0.0171,  34.8860,2,  34.8818,2,    338.6,2,    340.4,2,     4.73,2,     9.81,2,     0.07,2,     0.76,2,    6.650,2,    3.251,2,   2159.0,2,   2306.0,2,   0.0135
  58GS20060721,   75N,   269,  1,     14,2,20060728,0612, 75.0000,  -2.0000, 3581,     74.6,   0.1202,  34.8820,2,  34.8789,2,    342.3,2,    343.3,2,     4.34,2,     9.11,2,     0.05,2,     0.71,2,    6.715,2,    3.290,2,   2154.0,2,   2304.0,2,   0.1174
  58GS20060721,   75N,   269,  1,     15,2,20060728,0612, 75.0000,  -2.0000, 3581,     49.3,   0.3671,  34.8770,2,  34.8748,2,    345.7,2,    346.6,2,     3.68,2,     7.68,2,     0.03,2,     0.68,2,    6.842,2,    3.361,2,   2150.7,2,   2306.8,2,   0.3652
  58GS20060721,   75N,   269,  1,     16,2,20060728,0612, 75.0000,  -2.0000, 3581,     28.6,   4.1246,  34.8110,2,  34.8591,2,    336.9,2,    339.4,2,     1.80,2,     2.80,2,     0.02,2,     0.45,2,    6.499,2,    3.246,2,   2112.9,2,   2314.8,2,   4.1226
  58GS20060721,   75N,   269,  1,     17,2,20060728,0612, 75.0000,  -2.0000, 3581,      5.6,   5.4532,  34.8620,2,  34.8580,2,    332.0,2,    330.2,2,     0.42,2,     0.01,2,     0.01,2,     0.15,2,    5.759,2,    3.107,2,   2070.8,2,   2312.1,2,   5.4528
  58GS20060721,   75N,   269,  1,     18,2,20060728,0612, 75.0000,  -2.0000, 3581,      5.6,   5.4305,  34.8630,2,  34.8602,2,    332.2,2,    330.3,2,  -999.00,9,  -999.00,9,  -999.00,9,  -999.00,9,    5.639,2,    3.056,2,   2070.8,2,   2309.5,2,   5.4300
  58GS20060721,   75N,   270,  1,      1,2,20060728,0845, 75.0000,  -1.5000, 3659,   2000.2,  -0.7697,  34.9130,2,  34.9093,2,    301.3,2,   -999.0,9,    10.78,2,    14.45,2,     0.00,2,     0.98,2, -999.000,9, -999.000,9,   -999.0,9,   -999.0,9,  -0.8642
  58GS20060721,   75N,   270,  1,      2,2,20060728,0845, 75.0000,  -1.5000, 3659,   2000.3,  -0.7698,  34.9130,2,-999.0000,9,    301.3,2,   -999.0,9,    10.80,2,    14.46,2,     0.00,2,  -999.00,9, -999.000,9, -999.000,9,   -999.0,9,   -999.0,9,  -0.8643
  58GS20060721,   75N,   270,  1,      3,2,20060728,0845, 75.0000,  -1.5000, 3659,   1499.4,  -0.7601,  34.8990,2,-999.0000,9,    313.2,2,   -999.0,9,     8.56,2,    13.65,2,     0.00,2,     0.94,2, -999.000,9, -999.000,9,   -999.0,9,   -999.0,9,  -0.8244
  58GS20060721,   75N,   270,  1,      4,2,20060728,0845, 75.0000,  -1.5000, 3659,    997.6,  -0.6596,  34.8940,2,-999.0000,9,    320.4,2,   -999.0,9,     7.11,2,    13.06,2,     0.00,2,     0.89,2, -999.000,9, -999.000,9,   -999.0,9,   -999.0,9,  -0.6987
  58GS20060721,   75N,   270,  1,      5,2,20060728,0845, 75.0000,  -1.5000, 3659,    798.7,  -0.6347,  34.8930,2,-999.0000,9,    328.2,2,   -999.0,9,     6.44,2,    12.78,2,     0.00,2,  -999.00,9, -999.000,9, -999.000,9,   -999.0,9,   -999.0,9,  -0.6647
  58GS20060721,   75N,   270,  1,      6,2,20060728,0845, 75.0000,  -1.5000, 3659,    650.5,  -0.6235,  34.8920,2,  34.8875,2,    331.5,2,   -999.0,9,     6.21,2,    12.66,2,     0.01,2,     0.86,2, -999.000,9, -999.000,9,   -999.0,9,   -999.0,9,  -0.6471
  58GS20060721,   75N,   270,  1,      7,2,20060728,0845, 75.0000,  -1.5000, 3659,    499.0,  -0.5706,  34.8930,2,-999.0000,9,    329.9,2,   -999.0,9,     6.31,2,    12.66,2,     0.01,2,     0.87,2, -999.000,9, -999.000,9,   -999.0,9,   -999.0,9,  -0.5882
  58GS20060721,   75N,   270,  1,      8,2,20060728,0845, 75.0000,  -1.5000, 3659,    399.3,  -0.5078,  34.8950,2,-999.0000,9,    328.0,2,   -999.0,9,     6.40,2,    12.73,2,     0.01,2,     0.87,2, -999.000,9, -999.000,9,   -999.0,9,   -999.0,9,  -0.5218
  58GS20060721,   75N,   270,  1,      9,2,20060728,0845, 75.0000,  -1.5000, 3659,    299.3,  -0.2957,  34.9020,2,-999.0000,9,    324.1,2,   -999.0,9,     6.42,2,    12.73,2,     0.01,2,     0.88,2, -999.000,9, -999.000,9,   -999.0,9,   -999.0,9,  -0.3064
  58GS20060721,   75N,   270,  1,     10,2,20060728,0845, 75.0000,  -1.5000, 3659,    198.4,   0.1755,  34.9270,2,-999.0000,9,    324.9,2,   -999.0,9,     5.97,2,    12.62,2,     0.03,2,     0.86,2, -999.000,9, -999.000,9,   -999.0,9,   -999.0,9,   0.1678
  58GS20060721,   75N,   270,  1,     11,2,20060728,0845, 75.0000,  -1.5000, 3659,    149.1,   0.1919,  34.9160,2,  34.9117,2,    326.2,2,   -999.0,9,     5.86,2,    12.18,2,     0.18,2,     0.83,2, -999.000,9, -999.000,9,   -999.0,9,   -999.0,9,   0.1861
  58GS20060721,   75N,   270,  1,     12,2,20060728,0845, 75.0000,  -1.5000, 3659,     98.5,   0.2720,  34.8980,2,-999.0000,9,    337.5,2,   -999.0,9,     5.24,2,    10.52,2,     0.13,2,     0.78,2, -999.000,9, -999.000,9,   -999.0,9,   -999.0,9,   0.2682
  58GS20060721,   75N,   270,  1,     13,2,20060728,0845, 75.0000,  -1.5000, 3659,     72.5,   0.3859,  34.8950,2,-999.0000,9,    339.8,2,   -999.0,9,     5.06,2,    10.08,2,     0.08,2,     0.77,2, -999.000,9, -999.000,9,   -999.0,9,   -999.0,9,   0.3830
  58GS20060721,   75N,   270,  1,     14,2,20060728,0845, 75.0000,  -1.5000, 3659,     47.1,   0.9689,  34.9030,2,-999.0000,9,    337.9,2,   -999.0,9,     4.92,2,     9.47,2,     0.04,2,     0.73,2, -999.000,9, -999.000,9,   -999.0,9,   -999.0,9,   0.9668
  58GS20060721,   75N,   270,  1,     15,2,20060728,0845, 75.0000,  -1.5000, 3659,     28.5,   4.1550,  34.8210,2,-999.0000,9,    334.1,2,   -999.0,9,     3.14,2,     3.91,2,     0.04,2,     0.51,2, -999.000,9, -999.000,9,   -999.0,9,   -999.0,9,   4.1530
  58GS20060721,   75N,   270,  1,     16,2,20060728,0845, 75.0000,  -1.5000, 3659,      5.5,   5.0162,  34.8600,2,  34.8601,2,    330.8,2,   -999.0,9,     0.73,2,     0.33,2,     0.02,2,     0.19,2, -999.000,9, -999.000,9,   -999.0,9,   -999.0,9,   5.0158
  58GS20060721,   75N,   271,  1,      1,2,20060728,1136, 75.0000,  -1.0000, 3477,   3399.6,  -0.8544,  34.9100,2,  34.9037,2,    304.7,2,    301.0,2,    12.50,2,    14.93,2,     0.00,2,     0.98,2,    0.866,2,    0.504,2,   2161.2,2,   2298.7,2,  -1.0529
  58GS20060721,   75N,   271,  1,      2,2,20060728,1136, 75.0000,  -1.0000, 3477,   2999.4,  -0.8556,  34.9130,2,  34.9045,2,    301.0,2,    300.1,2,    12.14,2,    14.88,2,     0.00,2,     0.98,2,    0.840,2,    0.418,2,   2161.1,2,   2304.6,2,  -1.0208
  58GS20060721,   75N,   271,  1,      3,2,20060728,1136, 75.0000,  -1.0000, 3477,   2499.6,  -0.8361,  34.9150,2,  34.9079,2,    298.6,2,    299.2,2,    11.73,2,    14.86,2,     0.00,2,     0.98,2,    0.907,2,    0.440,2,   2161.2,2,   2313.2,3,  -0.9636
  58GS20060721,   75N,   271,  1,      4,2,20060728,1136, 75.0000,  -1.0000, 3477,   1999.5,  -0.7675,  34.9130,2,  34.9078,2,    298.1,2,    299.8,2,    10.91,2,    14.71,2,     0.00,2,     0.97,2,    1.340,2,    0.652,2,   2161.1,2,   2304.9,2,  -0.8620
  58GS20060721,   75N,   271,  1,      5,2,20060728,1136, 75.0000,  -1.0000, 3477,   1499.5,  -0.7710,  34.8980,2,  34.8897,2,    313.3,2,    315.1,2,     8.43,2,    13.63,2,     0.00,2,     0.92,2,    4.013,2,    1.873,2,   2162.8,2,   2299.7,2,  -0.8351
  58GS20060721,   75N,   271,  1,      6,2,20060728,1136, 75.0000,  -1.0000, 3477,    999.9,  -0.6729,  34.8920,2,  34.8879,2,    322.3,2,    323.5,2,     7.02,2,    13.07,2,     0.00,2,     0.89,2,    5.353,2,    2.539,2,   2163.6,2,   2310.0,2,  -0.7120
  58GS20060721,   75N,   271,  1,      7,9,20060728,1136, 75.0000,  -1.0000, 3477,    996.4,  -0.6723,  34.8920,2,-999.0000,9,    322.7,2,   -999.0,9,  -999.00,9,  -999.00,9,  -999.00,9,  -999.00,9, -999.000,9, -999.000,9,   -999.0,9,   -999.0,9,  -0.7112
  58GS20060721,   75N,   271,  1,      8,9,20060728,1136, 75.0000,  -1.0000, 3477,    989.2,  -0.6719,  34.8920,2,-999.0000,9,    323.1,2,   -999.0,9,  -999.00,9,  -999.00,9,  -999.00,9,  -999.00,9, -999.000,9, -999.000,9,   -999.0,9,   -999.0,9,  -0.7105
  58GS20060721,   75N,   271,  1,      9,9,20060728,1136, 75.0000,  -1.0000, 3477,    982.0,  -0.6717,  34.8920,2,-999.0000,9,    323.4,2,   -999.0,9,  -999.00,9,  -999.00,9,  -999.00,9,  -999.00,9, -999.000,9, -999.000,9,   -999.0,9,   -999.0,9,  -0.7099
  58GS20060721,   75N,   271,  1,     10,9,20060728,1136, 75.0000,  -1.0000, 3477,    974.2,  -0.6711,  34.8920,2,-999.0000,9,    323.4,2,   -999.0,9,  -999.00,9,  -999.00,9,  -999.00,9,  -999.00,9, -999.000,9, -999.000,9,   -999.0,9,   -999.0,9,  -0.7090
  58GS20060721,   75N,   271,  1,     11,9,20060728,1136, 75.0000,  -1.0000, 3477,    966.9,  -0.6704,  34.8920,2,-999.0000,9,    323.4,2,   -999.0,9,  -999.00,9,  -999.00,9,  -999.00,9,  -999.00,9, -999.000,9, -999.000,9,   -999.0,9,   -999.0,9,  -0.7079
  58GS20060721,   75N,   271,  1,     12,9,20060728,1136, 75.0000,  -1.0000, 3477,    958.3,  -0.6698,  34.8920,2,-999.0000,9,    323.7,2,   -999.0,9,  -999.00,9,  -999.00,9,  -999.00,9,  -999.00,9, -999.000,9, -999.000,9,   -999.0,9,   -999.0,9,  -0.7069
  58GS20060721,   75N,   272,  1,      1,2,20060728,1524, 75.0000,  -1.0000, 3477,    800.7,  -0.6418,  34.8920,2,  34.8899,2,    332.8,2,    332.2,2,     6.21,2,    12.89,2,     0.00,2,  -999.00,9,    6.051,2,    3.131,2,   2163.0,2,   2298.0,2,  -0.6719
  58GS20060721,   75N,   272,  1,      2,2,20060728,1524, 75.0000,  -1.0000, 3477,    800.5,  -0.6419,  34.8920,2,  34.8844,2,    332.8,2,    332.0,2,     6.22,2,    12.86,2,     0.00,2,     0.83,2,    6.010,2,    2.908,2,   2164.0,2,   2303.9,2,  -0.6719
  58GS20060721,   75N,   272,  1,      3,2,20060728,1524, 75.0000,  -1.0000, 3477,    500.4,  -0.6324,  34.8900,2,  34.8880,2,    333.7,2,    337.8,0,     6.13,2,    12.66,2,     0.00,2,     0.85,2,    6.134,2,    2.995,2,   2162.7,2,   2304.7,2,  -0.6498
  58GS20060721,   75N,   272,  1,      4,2,20060728,1524, 75.0000,  -1.0000, 3477,    399.9,  -0.6109,  34.8900,2,  34.8874,2,    333.6,2,    333.3,2,     6.12,2,    12.75,2,     0.00,2,     0.85,2,    6.119,2,    2.981,2,   2162.4,2,   -999.0,9,  -0.6245
  58GS20060721,   75N,   272,  1,      5,2,20060728,1524, 75.0000,  -1.0000, 3477,    299.7,  -0.5309,  34.8920,2,  34.8889,2,    332.1,2,    331.8,2,     6.11,2,    12.81,2,     0.00,2,     0.85,2,    6.079,2,    3.006,2,   2161.8,2,   -999.0,9,  -0.5410
  58GS20060721,   75N,   272,  1,      6,2,20060728,1524, 75.0000,  -1.0000, 3477,    200.5,  -0.3429,  34.8970,2,  34.8926,2,    329.1,2,    328.7,2,     6.05,2,    12.95,2,     0.02,2,     0.85,2,    5.920,2,    2.949,2,   2163.1,2,   2298.6,2,  -0.3498
  58GS20060721,   75N,   272,  1,      7,2,20060728,1524, 75.0000,  -1.0000, 3477,    149.0,  -0.1535,  34.9010,2,  34.8981,2,    330.7,2,    329.9,2,     5.81,2,    12.41,2,     0.16,2,     0.85,2,    6.084,2,    3.070,2,   2162.1,2,   -999.0,9,  -0.1588
  58GS20060721,   75N,   272,  1,      8,2,20060728,1524, 75.0000,  -1.0000, 3477,     99.3,   0.0809,  34.8920,2,  34.8901,2,    338.8,2,    337.2,2,     5.11,2,    10.65,2,     0.12,2,     0.79,2,    6.407,2,    3.230,2,   2159.8,2,   -999.0,9,   0.0772
  58GS20060721,   75N,   272,  1,      9,2,20060728,1524, 75.0000,  -1.0000, 3477,     73.9,   0.1166,  34.8810,2,  34.8797,2,    344.5,2,    343.3,2,     4.53,2,     9.55,2,     0.05,2,     0.76,2,    6.607,2,    3.263,2,   2158.2,2,   -999.0,9,   0.1138
  58GS20060721,   75N,   272,  1,     10,2,20060728,1524, 75.0000,  -1.0000, 3477,     49.9,   0.3784,  34.8780,2,  34.8736,2,    349.3,2,    348.7,2,     3.62,2,     7.75,2,     0.04,2,     0.69,2,    6.797,2,    3.376,2,   2150.6,2,   -999.0,9,   0.3764
  58GS20060721,   75N,   272,  1,     11,2,20060728,1524, 75.0000,  -1.0000, 3477,     29.8,   3.7858,  34.8250,2,  34.8493,2,    337.4,2,    342.4,2,     2.23,2,     3.44,2,     0.03,2,     0.44,2,    6.418,2,    3.255,2,   2113.0,2,   2306.9,2,   3.7838