BOTTLE,20100608CCHDOSIODM
EXPOCODE,SECT_ID,STNNBR,CASTNO,BTLNBR,BTLNBR_FLAG_W,DATE,TIME,LATITUDE,LONGITUDE,DEPTH,CTDPRS,CTDTMP,CTDSAL,CTDSAL_FLAG_W,SALNTY,SALNTY_FLAG_W,CTDOXY,CTDOXY_FLAG_W,OXYGEN,OXYGEN_FLAG_W,SILCAT,SILCAT_FLAG_W,NITRAT,NITRAT_FLAG_W,NITRIT,NITRIT_FLAG_W,PHSPHT,PHSPHT_FLAG_W,CFC-11,CFC-11_FLAG_W,CFC-12,CFC-12_FLAG_W,TCARBN,TCARBN_FLAG_W,ALKALI,ALKALI_FLAG_W,THETA
,,,,,,,,,,METERS,DBAR,ITS-90,PSS-78,,PSS-78,,UMOL/KG,,UMOL/KG,,UMOL/KG,,UMOL/KG,,UMOL/KG,,UMOL/KG,,PMOL/KG,,PMOL/KG,,UMOL/KG,,UMOL/KG,,DEG C
  58GS20060721,   75N,   260,  1,      1,2,20060726,2226, 75.0000,  -7.9000, 3318,   2501.9,  -0.8463,  34.9150,2,-999.0000,9,    301.8,2,    299.3,2,    11.86,2,    15.04,2,     0.00,2,     1.00,2,    0.870,2,    0.428,2,   2161.1,2,   2303.0,2,  -0.9738
  58GS20060721,   75N,   260,  1,      2,2,20060726,2226, 75.0000,  -7.9000, 3318,   2000.3,  -0.8125,  34.9140,2,-999.0000,9,    299.2,2,    299.3,2,    11.40,2,    15.00,2,     0.00,2,     0.98,2,    1.136,2,    0.515,2,   2161.5,2,   2304.4,2,  -0.9063
  58GS20060721,   75N,   260,  1,      3,2,20060726,2226, 75.0000,  -7.9000, 3318,   1500.7,  -0.7540,  34.9090,2,  34.9066,2,    303.2,2,    305.7,2,    10.07,2,    14.54,2,     0.01,2,     0.97,2,    2.274,2,    1.148,2,   2161.2,2,   2303.4,2,  -0.8185
  58GS20060721,   75N,   260,  1,      4,2,20060726,2226, 75.0000,  -7.9000, 3318,    999.8,  -0.7561,  34.8960,2,  34.8927,2,    316.0,2,    319.8,2,     8.06,2,    13.84,2,     0.00,2,     0.93,2,    4.420,2,    2.050,2,   2162.3,2,   2306.9,2,  -0.7945
  58GS20060721,   75N,   260,  1,      5,2,20060726,2226, 75.0000,  -7.9000, 3318,    799.8,  -0.7066,  34.8950,2,  34.8891,2,    315.5,2,    316.3,2,     7.82,2,    13.77,2,     0.00,2,     0.94,2,    4.540,2,    2.166,2,   2163.7,2,   2302.7,2,  -0.7362
  58GS20060721,   75N,   260,  1,      6,2,20060726,2226, 75.0000,  -7.9000, 3318,    649.7,  -0.6818,  34.8940,2,  34.8893,2,    318.7,2,    319.6,2,     7.32,2,    13.53,2,     0.00,2,     0.88,2,    4.984,2,    2.360,2,   2164.4,2,   2303.4,2,  -0.7051
  58GS20060721,   75N,   260,  1,      7,9,20060726,2226, 75.0000,  -7.9000, 3318,    500.6,  -0.6549,  34.8930,2,-999.0000,9,    325.0,2,   -999.0,9,  -999.00,9,  -999.00,9,  -999.00,9,  -999.00,9, -999.000,9, -999.000,9,   -999.0,9,   -999.0,9,  -0.6723
  58GS20060721,   75N,   260,  1,      8,2,20060726,2226, 75.0000,  -7.9000, 3318,    501.4,  -0.6544,  34.8930,2,  34.8897,2,    325.2,2,    325.8,2,  -999.00,9,  -999.00,9,  -999.00,9,  -999.00,9,    5.434,2,    2.602,2,   2162.3,2,   2297.8,2,  -0.6718
  58GS20060721,   75N,   260,  1,      9,2,20060726,2226, 75.0000,  -7.9000, 3318,    501.4,  -0.6542,  34.8930,2,  34.8889,2,    325.3,2,    325.9,2,     6.77,2,    13.17,2,     0.00,2,     0.91,2,    5.448,2,    2.631,2,   2163.5,2,   2307.7,2,  -0.6716
  58GS20060721,   75N,   260,  1,     10,2,20060726,2226, 75.0000,  -7.9000, 3318,    400.2,  -0.6394,  34.8930,2,  34.8896,2,    327.2,2,    327.9,2,     6.62,2,    13.07,2,     0.00,2,     0.88,2,    5.633,2,    2.691,2,   2163.5,2,   2301.3,2,  -0.6530
  58GS20060721,   75N,   260,  1,     11,2,20060726,2226, 75.0000,  -7.9000, 3318,    298.9,  -0.6089,  34.8930,2,  34.8877,2,    327.2,2,    327.8,2,     6.54,2,    13.06,2,     0.01,2,     0.88,2,    5.638,2,    2.771,2,   2162.4,2,   2304.7,2,  -0.6188
  58GS20060721,   75N,   260,  1,     12,2,20060726,2226, 75.0000,  -7.9000, 3318,    199.8,  -0.4280,  34.8880,2,  34.8838,2,    329.9,2,   -999.0,9,     6.13,2,    12.72,2,     0.13,2,     0.84,2,    6.030,2,    2.931,2,   2161.1,2,   2305.7,2,  -0.4347
  58GS20060721,   75N,   260,  1,     13,2,20060726,2226, 75.0000,  -7.9000, 3318,    149.6,  -0.0903,  34.8800,2,  34.8765,2,    335.6,2,    337.1,2,     5.32,2,    11.10,2,     0.13,2,     0.81,2,    6.307,2,    3.061,2,   2157.0,2,   2299.6,2,  -0.0957
  58GS20060721,   75N,   260,  1,     14,2,20060726,2226, 75.0000,  -7.9000, 3318,     99.5,   0.1612,  34.8730,2,  34.8692,2,    342.4,2,    343.1,2,     4.25,2,     9.61,2,     0.05,2,     0.74,2,    6.465,2,    3.233,2,   2152.3,2,   2305.1,2,   0.1574
  58GS20060721,   75N,   260,  1,     15,2,20060726,2226, 75.0000,  -7.9000, 3318,     75.1,   0.4474,  34.8660,2,  34.8658,2,    344.0,2,    344.9,2,     3.51,2,     8.79,2,     0.04,2,     0.72,2,    6.266,2,    3.288,2,   2150.2,2,   2309.0,2,   0.4444
  58GS20060721,   75N,   260,  1,     16,2,20060726,2226, 75.0000,  -7.9000, 3318,     49.9,   1.5572,  34.8410,2,  34.8464,2,    342.9,2,    344.2,2,     2.35,2,     6.17,2,     0.05,2,     0.64,2,    5.974,2,    3.226,2,   2132.5,2,   2311.5,2,   1.5548
  58GS20060721,   75N,   260,  1,     17,2,20060726,2226, 75.0000,  -7.9000, 3318,     29.6,   4.2043,  34.7550,2,  34.7814,2,    341.9,2,    340.3,2,     1.01,2,     0.66,2,     0.02,2,     0.26,2,    5.576,2,    3.049,2,   2071.1,2,   2309.5,2,   4.2022
  58GS20060721,   75N,   260,  1,     18,2,20060726,2226, 75.0000,  -7.9000, 3318,      6.3,   5.4771,  34.7400,2,  34.7371,2,    324.9,2,    323.4,2,     0.82,2,     0.00,2,     0.01,2,     0.19,2,    5.254,2,    2.945,2,   2063.5,2,   2300.6,2,   5.4766
  58GS20060721,   75N,   261,  1,      1,2,20060727,0133, 75.0000,  -6.9900, 3380,   3300.8,  -0.8556,  34.9110,2,  34.9066,2,    304.5,2,    301.0,2,    12.29,2,    15.10,2,     0.00,2,  -999.00,9,    0.768,2,    0.373,2,   2160.1,2,   -999.0,9,  -1.0457
  58GS20060721,   75N,   261,  1,      2,2,20060727,0133, 75.0000,  -6.9900, 3380,   2999.4,  -0.8427,  34.9140,2,  34.9023,2,    302.0,2,    300.1,2,    12.03,2,    15.08,2,     0.00,2,     0.95,2,    0.738,2,    0.376,2,   2159.3,2,   -999.0,9,  -1.0082
  58GS20060721,   75N,   261,  1,      3,2,20060727,0133, 75.0000,  -6.9900, 3380,   2499.5,  -0.8221,  34.9160,2,  34.9117,2,    298.8,2,    298.9,2,    11.76,2,    15.09,2,     0.00,2,     0.97,2,    0.773,2,    0.377,2,   2159.9,2,   -999.0,9,  -0.9499
  58GS20060721,   75N,   261,  1,      4,2,20060727,0133, 75.0000,  -6.9900, 3380,   1999.3,  -0.7662,  34.9130,2,  34.9080,2,    299.1,2,    300.7,2,    10.70,2,    14.79,2,     0.00,2,     0.95,2,    1.410,2,    0.654,2,   2161.2,2,   -999.0,9,  -0.8607
  58GS20060721,   75N,   261,  1,      5,2,20060727,0133, 75.0000,  -6.9900, 3380,   1499.2,  -0.7563,  34.8980,2,  34.8942,2,    313.5,2,    315.2,2,     8.34,2,    13.91,2,     0.00,2,     0.90,2,    3.889,2,    1.841,2,   2162.3,2,   -999.0,9,  -0.8206
  58GS20060721,   75N,   261,  1,      6,2,20060727,0133, 75.0000,  -6.9900, 3380,   1000.0,  -0.6325,  34.8930,2,  34.8875,2,    325.4,2,    327.3,2,     6.71,2,    13.17,2,     0.00,2,     0.86,2,    5.418,2,    2.547,2,   2163.3,2,   -999.0,9,  -0.6719
  58GS20060721,   75N,   261,  1,      7,2,20060727,0133, 75.0000,  -6.9900, 3380,    799.4,  -0.6079,  34.8930,2,  34.8872,2,    331.7,2,    333.1,2,     6.17,2,    12.86,2,     0.00,2,  -999.00,9,    5.804,2,    2.767,2,   2163.0,2,   -999.0,9,  -0.6381
  58GS20060721,   75N,   261,  1,      8,2,20060727,0133, 75.0000,  -6.9900, 3380,    799.6,  -0.6072,  34.8930,2,  34.8908,2,    331.4,2,    333.1,2,     6.20,2,    12.82,2,     0.00,2,     0.83,2,    5.853,2,    2.779,2,   2163.1,2,   -999.0,9,  -0.6374
  58GS20060721,   75N,   261,  1,      9,2,20060727,0133, 75.0000,  -6.9900, 3380,    501.6,  -0.4964,  34.8950,2,  34.8925,2,    326.9,2,    328.0,2,     6.42,2,    12.94,2,     0.00,2,     0.85,2,    5.495,2,    2.632,2,   2160.7,2,   -999.0,9,  -0.5145
  58GS20060721,   75N,   261,  1,     10,2,20060727,0133, 75.0000,  -6.9900, 3380,    400.3,  -0.3811,  34.8980,2,  34.8952,2,    327.2,2,    328.3,2,     6.22,2,    12.85,2,     0.01,2,     0.85,2,    5.665,2,    2.770,2,   2161.6,2,   -999.0,9,  -0.3955
  58GS20060721,   75N,   261,  1,     11,2,20060727,0133, 75.0000,  -6.9900, 3380,    299.9,   0.2561,  34.9330,2,  34.9285,2,    323.5,2,    324.1,2,     5.92,2,    12.70,2,     0.02,2,     0.83,2,    5.535,2,    2.754,2,   2160.2,2,   -999.0,9,   0.2439
  58GS20060721,   75N,   261,  1,     12,2,20060727,0133, 75.0000,  -6.9900, 3380,    199.7,   0.0485,  34.8890,2,  34.8866,2,    332.5,2,    332.0,2,     5.56,2,    11.46,2,     0.17,2,     0.80,2,    5.941,2,    2.843,2,   2158.9,2,   -999.0,9,   0.0409
  58GS20060721,   75N,   261,  1,     13,2,20060727,0133, 75.0000,  -6.9900, 3380,    150.4,   0.3104,  34.8850,2,  34.8776,2,    336.6,2,    338.1,2,     4.93,2,    10.24,2,     0.08,2,     0.75,2,    6.251,2,    3.140,2,   2154.8,2,   -999.0,9,   0.3044
  58GS20060721,   75N,   261,  1,     14,2,20060727,0133, 75.0000,  -6.9900, 3380,    100.1,   0.7494,  34.8950,2,  34.8893,2,    329.6,2,    329.4,2,     4.88,2,    10.50,2,     0.10,2,     0.76,2,    5.915,2,    3.053,2,   2152.6,2,   2305.1,2,   0.7451
  58GS20060721,   75N,   261,  1,     15,2,20060727,0133, 75.0000,  -6.9900, 3380,     74.0,   1.7893,  34.9690,2,  34.9607,2,    318.8,2,    319.2,2,     5.46,2,    11.01,2,     0.24,2,     0.73,2,    5.736,2,    3.126,2,   2152.4,2,   -999.0,9,   1.7855
  58GS20060721,   75N,   261,  1,     16,2,20060727,0133, 75.0000,  -6.9900, 3380,     50.1,   2.0277,  34.9030,2,  34.9030,2,    335.6,2,    334.1,2,     4.08,2,     8.10,2,     0.12,2,     0.64,2,    6.198,2,    3.425,2,   2138.8,2,   2314.1,2,   2.0250
  58GS20060721,   75N,   261,  1,     17,2,20060727,0133, 75.0000,  -6.9900, 3380,     30.0,   4.2756,  34.7690,2,  34.7650,2,    336.8,2,    336.6,2,     1.30,2,     1.09,2,     0.03,2,     0.26,2,    6.006,2,    3.279,2,   2073.2,2,   -999.0,9,   4.2735
  58GS20060721,   75N,   261,  1,     18,2,20060727,0133, 75.0000,  -6.9900, 3380,      4.8,   4.6724,  34.5400,2,  34.5316,2,    327.7,2,    326.0,2,     1.96,2,     1.88,2,     0.05,2,     0.25,2,    5.831,2,    3.402,2,   2082.4,2,   2292.8,2,   4.6720
  58GS20060721,   75N,   262,  1,      1,2,20060727,0519, 75.0000,  -6.0000, 3457,   3351.6,  -0.8584,  34.9110,2,  34.9052,2,    304.6,2,    301.0,2,    12.32,2,    15.06,2,     0.00,2,     0.99,2,    0.857,2,    0.425,2,   2161.6,2,   2302.6,2,  -1.0527
  58GS20060721,   75N,   262,  1,      2,2,20060727,0519, 75.0000,  -6.0000, 3457,   2999.2,  -0.8535,  34.9130,2,  34.9091,2,    301.9,2,    300.3,2,    12.03,2,    15.06,2,     0.00,2,     0.98,2,    0.791,2,    0.380,2,   2160.4,2,   2306.5,2,  -1.0188
  58GS20060721,   75N,   262,  1,      3,2,20060727,0519, 75.0000,  -6.0000, 3457,   2499.7,  -0.8307,  34.9150,2,  34.9088,2,    298.8,2,    298.9,2,    11.63,2,    15.01,2,     0.00,2,     1.00,2,    0.772,2,    0.384,2,   2159.2,2,   2317.7,3,  -0.9583
  58GS20060721,   75N,   262,  1,      4,2,20060727,0519, 75.0000,  -6.0000, 3457,   1999.0,  -0.7619,  34.9130,2,  34.9050,2,    298.6,2,    299.8,2,    10.76,2,    14.76,2,     0.00,2,     0.95,2,    1.450,2,    0.704,2,   2160.5,2,   2317.0,3,  -0.8564
  58GS20060721,   75N,   262,  1,      5,2,20060727,0519, 75.0000,  -6.0000, 3457,   1499.3,  -0.7423,  34.8980,2,  34.8904,2,    312.8,2,    315.0,2,     8.19,2,    13.84,2,     0.00,2,     0.88,2,    3.804,2,    1.895,2,   2162.3,2,   2308.8,2,  -0.8068
  58GS20060721,   75N,   262,  1,      6,2,20060727,0519, 75.0000,  -6.0000, 3457,   1001.6,  -0.6198,  34.8930,2,  34.8860,2,    328.9,2,    329.7,2,  -999.00,9,  -999.00,9,  -999.00,9,  -999.00,9,    5.537,2,    2.602,2,   2162.9,2,   2302.8,2,  -0.6594
  58GS20060721,   75N,   262,  1,      7,2,20060727,0519, 75.0000,  -6.0000, 3457,   1001.6,  -0.6196,  34.8930,2,  34.8867,2,    328.9,2,    330.3,2,     6.43,2,    12.95,2,     0.00,2,     0.88,2,    5.532,2,    2.619,2,   2163.1,2,   2302.5,2,  -0.6592
  58GS20060721,   75N,   262,  1,      8,2,20060727,0519, 75.0000,  -6.0000, 3457,    801.3,  -0.5847,  34.8930,2,  34.8872,2,    330.6,2,    332.1,2,     6.22,2,    12.82,2,     0.00,2,     0.86,2,    5.727,2,    2.732,2,   2162.3,2,   2303.6,2,  -0.6152
  58GS20060721,   75N,   262,  1,      9,2,20060727,0519, 75.0000,  -6.0000, 3457,    502.2,  -0.4223,  34.8940,2,  34.8891,2,    328.6,2,    330.0,2,     6.16,2,    12.71,2,     0.00,2,     0.86,2,    5.599,2,    2.802,2,   2160.9,2,   2305.7,2,  -0.4407
  58GS20060721,   75N,   262,  1,     10,2,20060727,0519, 75.0000,  -6.0000, 3457,    400.9,   0.0830,  34.9220,2,  34.9170,2,    323.1,2,    323.8,2,     6.08,2,    12.74,2,     0.01,2,     0.84,2,    5.792,2,    2.642,2,   2161.6,2,   2305.6,2,   0.0670
  58GS20060721,   75N,   262,  1,     11,2,20060727,0519, 75.0000,  -6.0000, 3457,    299.9,   0.2992,  34.9220,2,  34.9175,2,    317.9,2,    318.3,2,     6.11,2,    12.73,2,     0.01,2,     0.83,2,    4.893,2,    2.464,2,   2158.2,2,   2303.8,2,   0.2869
  58GS20060721,   75N,   262,  1,     12,2,20060727,0519, 75.0000,  -6.0000, 3457,    201.1,   0.8465,  34.9330,2,  34.9272,2,    316.9,2,    317.5,2,     5.91,2,    12.04,2,     0.19,2,     0.80,2, -999.000,9, -999.000,9,   2156.6,2,   2312.5,3,   0.8375
  58GS20060721,   75N,   262,  1,     13,2,20060727,0519, 75.0000,  -6.0000, 3457,    150.7,   1.0056,  34.9200,2,  34.9169,2,    320.9,2,    320.7,2,     5.50,2,    11.29,2,     0.15,2,     0.81,2,    5.336,2,    2.578,2,   2155.3,2,   2303.2,2,   0.9987
  58GS20060721,   75N,   262,  1,     14,2,20060727,0519, 75.0000,  -6.0000, 3457,    100.7,   2.4117,  35.0160,2,  35.0143,2,    311.1,2,    310.6,2,     5.28,2,    11.95,2,     0.02,2,     0.80,2,    5.277,2,    2.619,2,   2152.8,2,   2311.3,2,   2.4060
  58GS20060721,   75N,   262,  1,     15,2,20060727,0519, 75.0000,  -6.0000, 3457,     76.1,   2.3161,  34.9850,2,  34.9813,2,    309.3,2,    308.2,2,     5.15,2,    11.80,2,     0.13,2,     0.80,2,    5.359,2,    2.680,2,   2154.2,2,   2304.6,2,   2.3119
  58GS20060721,   75N,   262,  1,     16,2,20060727,0519, 75.0000,  -6.0000, 3457,     52.2,   2.7159,  35.0030,2,  34.9966,2,    307.4,2,    307.2,2,     5.45,2,    11.77,2,     0.07,2,     0.75,2,    5.273,2,    2.620,2,   2151.3,2,   2308.0,2,   2.7128
  58GS20060721,   75N,   262,  1,     17,2,20060727,0519, 75.0000,  -6.0000, 3457,     31.8,   2.2842,  34.8760,2,  34.8659,2,    324.6,2,    323.2,2,     4.81,2,     8.75,2,     0.18,2,     0.69,2,    5.789,2,    2.822,2,   2142.4,2,   2305.6,2,   2.2824
  58GS20060721,   75N,   262,  1,     18,2,20060727,0519, 75.0000,  -6.0000, 3457,      5.7,   5.1812,  34.6470,2,  34.6394,2,    323.1,2,    321.4,2,     1.60,2,     1.14,2,     0.03,2,     0.22,2,    5.503,2,    2.934,2,   2078.0,2,   2295.2,2,   5.1808
  58GS20060721,   75N,   263,  1,      1,2,20060727,0902, 75.0000,  -5.0000, 3527,   3446.7,  -0.8490,  34.9110,2,  34.9086,2,    304.7,2,    301.3,2,    12.40,2,    14.89,2,     0.00,2,     0.98,2,    0.831,2,    0.425,2,   2160.3,2,   -999.0,9,  -1.0518
  58GS20060721,   75N,   263,  1,      2,2,20060727,0902, 75.0000,  -5.0000, 3527,   2999.6,  -0.8406,  34.9140,2,  34.9121,2,    300.9,2,    299.9,2,    12.13,2,    14.88,2,     0.00,2,  -999.00,9,    0.752,2,    0.373,2,   2160.6,2,   -999.0,9,  -1.0062
  58GS20060721,   75N,   263,  1,      3,2,20060727,0902, 75.0000,  -5.0000, 3527,   2498.9,  -0.8218,  34.9150,2,  34.9127,2,    298.6,2,    298.9,2,    11.65,2,    14.83,2,     0.01,2,     0.98,2,    0.818,2,    0.388,2,   2160.9,2,   -999.0,9,  -0.9496
  58GS20060721,   75N,   263,  1,      4,2,20060727,0902, 75.0000,  -5.0000, 3527,   1999.7,  -0.7516,  34.9130,2,  34.9103,2,    298.9,2,    300.0,2,    10.74,2,    14.55,2,     0.00,2,     0.97,2,    1.450,2,    0.687,2,   2159.2,2,   -999.0,9,  -0.8463
  58GS20060721,   75N,   263,  1,      5,2,20060727,0902, 75.0000,  -5.0000, 3527,   1500.8,  -0.7627,  34.8960,2,  34.8938,2,    315.6,2,    317.1,2,  -999.00,9,  -999.00,9,  -999.00,9,  -999.00,9,    4.240,2,    1.980,2,   2163.3,2,   -999.0,9,  -0.8270
  58GS20060721,   75N,   263,  1,      6,2,20060727,0902, 75.0000,  -5.0000, 3527,   1500.8,  -0.7625,  34.8960,2,  34.8930,2,    315.6,2,    317.2,2,     8.09,2,    13.63,2,     0.00,2,     0.91,2,    4.287,2,    1.992,2,   2162.5,2,   -999.0,9,  -0.8268
  58GS20060721,   75N,   263,  1,      7,2,20060727,0902, 75.0000,  -5.0000, 3527,    999.5,  -0.6510,  34.8920,2,  34.8835,2,    325.7,2,    328.2,2,     6.58,2,    12.95,2,     0.00,2,     0.85,2,    5.616,2,    2.679,2,   2164.0,2,   -999.0,9,  -0.6902
  58GS20060721,   75N,   263,  1,      8,2,20060727,0902, 75.0000,  -5.0000, 3527,    800.0,  -0.6238,  34.8930,2,  34.8909,2,    330.4,2,    332.1,2,     6.23,2,    12.74,2,     0.01,2,     0.82,2,    5.951,2,    2.826,2,   2162.8,2,   -999.0,9,  -0.6539
  58GS20060721,   75N,   263,  1,      9,2,20060727,0902, 75.0000,  -5.0000, 3527,    500.3,  -0.5242,  34.8950,2,  34.8937,2,    326.9,2,    328.4,2,     6.39,2,    12.83,2,     0.01,2,     0.86,2,    5.644,2,    2.740,2,   2161.9,2,   -999.0,9,  -0.5421
  58GS20060721,   75N,   263,  1,     10,2,20060727,0902, 75.0000,  -5.0000, 3527,    400.3,  -0.4168,  34.8970,2,  34.8944,2,    325.1,2,    327.2,2,     6.37,2,    12.84,2,     0.00,2,     0.85,2,    5.643,2,    2.693,2,   2161.3,2,   -999.0,9,  -0.4311
  58GS20060721,   75N,   263,  1,     11,2,20060727,0902, 75.0000,  -5.0000, 3527,    300.2,   0.0613,  34.9230,2,  34.9216,2,    322.3,2,    323.0,2,     6.18,2,    12.74,2,     0.01,2,     0.85,2,    5.502,2,    2.638,2,   2160.9,2,   -999.0,9,   0.0496
  58GS20060721,   75N,   263,  1,     12,2,20060727,0902, 75.0000,  -5.0000, 3527,    199.6,   0.3248,  34.9260,2,  34.9219,2,    320.4,2,    321.9,2,     5.98,2,    12.43,2,     0.08,2,     0.84,2,    5.491,2,    2.625,2,   2159.3,2,   -999.0,9,   0.3168
  58GS20060721,   75N,   263,  1,     13,2,20060727,0902, 75.0000,  -5.0000, 3527,    149.9,   0.5443,  34.9270,2,  34.9239,2,    319.9,2,    320.1,2,     5.93,2,    12.11,2,     0.16,2,     0.82,2,    5.378,2,    2.564,2,   2157.4,2,   -999.0,9,   0.5381
  58GS20060721,   75N,   263,  1,     14,2,20060727,0902, 75.0000,  -5.0000, 3527,    100.2,   0.8944,  34.9360,2,  34.9321,2,    322.2,2,    322.4,2,     5.74,2,    11.38,2,     0.20,2,     0.79,2,    5.588,2,    2.629,2,   2155.8,2,   -999.0,9,   0.8900
  58GS20060721,   75N,   263,  1,     15,2,20060727,0902, 75.0000,  -5.0000, 3527,     73.8,   1.1468,  34.9410,2,  34.9367,2,    324.6,2,    324.8,2,     5.58,2,    10.88,2,     0.20,2,     0.75,2,    5.760,2,    2.760,2,   2156.2,2,   -999.0,9,   1.1434
  58GS20060721,   75N,   263,  1,     16,2,20060727,0902, 75.0000,  -5.0000, 3527,     48.8,   2.1176,  34.9670,2,  34.9620,2,    323.5,2,    323.1,2,     5.22,2,     9.96,2,     0.21,2,     0.74,2,    5.934,2,    2.889,2,   2148.8,2,   -999.0,9,   2.1150
  58GS20060721,   75N,   263,  1,     17,2,20060727,0902, 75.0000,  -5.0000, 3527,     29.0,   4.5315,  34.8710,2,  34.8692,2,    332.5,2,    329.9,2,     1.29,2,     1.60,2,     0.06,2,     0.27,2,    5.808,2,    2.931,2,   2089.7,2,   -999.0,9,   4.5294
  58GS20060721,   75N,   263,  1,     18,2,20060727,0902, 75.0000,  -5.0000, 3527,      5.0,   5.4253,  34.7940,2,  34.7927,2,    329.3,2,    327.5,2,     0.92,2,     0.30,2,     0.03,2,     0.16,2,    5.740,2,    2.988,2,   2072.2,2,   -999.0,9,   5.4249