BOTTLE,20020809WHPSIObren
EXPOCODE,SECT_ID,STNNBR,CASTNO,SAMPNO,BTLNBR,BTLNBR_FLAG_W,DATE,TIME,LATITUDE,LONGITUDE,DEPTH,CTDPRS,CTDTMP,CTDSAL,CTDSAL_FLAG_W,SALNTY,SALNTY_FLAG_W,CTDOXY,CTDOXY_FLAG_W,OXYGEN,OXYGEN_FLAG_W,SILCAT,SILCAT_FLAG_W,NO2+NO3,NO2+NO3_FLAG_W,PHSPHT,PHSPHT_FLAG_W,CTDRAW,REVTMP,REVPRS,THETA
,,,,,,,,,,,,DBAR,ITS-90,PSS-78,,PSS-78,,UMOL/KG,,UMOL/KG,,UMOL/KG,,UMOL/KG,,UMOL/KG,,,DEG C,DBAR,ITS-90
     32MW094_1,  PRS2,     2,  3,     22,     22,2,19980617,0702, 22.7510,-157.9995, 4721,      5.6,  24.1115,  35.2798,2,  35.2774,2,    213.4,2,    212.9,2,     1.65,2,     0.00,2,     0.08,2,      6,-999.000,  -999.0, 24.1103
     32MW094_1,  PRS2,     2,  3,     23,     30,2,19980617,0702, 22.7510,-157.9995, 4721,      5.7,  24.1114,  35.2798,2,  35.2850,2,    213.4,2,   -999.0,5,  -999.00,5,  -999.00,5,  -999.00,5,      6,-999.000,  -999.0, 24.1102
     32MW094_1,  PRS2,     2,  3,     21,     21,2,19980617,0702, 22.7510,-157.9995, 4721,     14.9,  24.1174,  35.2796,2,  35.2785,2,    213.4,2,    213.0,2,     1.52,2,     0.00,2,     0.08,2,     15,-999.000,  -999.0, 24.1142
     32MW094_1,  PRS2,     2,  3,     20,     20,2,19980617,0702, 22.7510,-157.9995, 4721,     25.3,  24.1230,  35.2789,2,  35.2774,2,    213.4,2,   -999.0,5,  -999.00,5,  -999.00,5,  -999.00,5,     25,-999.000,  -999.0, 24.1176
     32MW094_1,  PRS2,     2,  3,     19,     19,2,19980617,0702, 22.7510,-157.9995, 4721,     25.3,  24.1231,  35.2789,2,  35.2796,2,    213.4,2,    212.5,2,     1.49,2,     0.00,2,     0.08,2,     26,-999.000,  -999.0, 24.1178
     32MW094_1,  PRS2,     2,  3,     18,     18,2,19980617,0702, 22.7510,-157.9995, 4721,     35.7,  24.1253,  35.2789,2,  35.2783,2,    213.4,2,    212.9,2,     1.52,2,     0.00,2,     0.08,2,     36,-999.000,  -999.0, 24.1178
     32MW094_1,  PRS2,     2,  3,     17,     17,2,19980617,0702, 22.7510,-157.9995, 4721,     45.9,  24.1160,  35.2825,2,  35.2815,2,    213.4,2,    212.5,2,     1.45,2,     0.00,2,     0.08,2,     46,-999.000,  -999.0, 24.1063
     32MW094_1,  PRS2,     2,  3,     16,     16,2,19980617,0702, 22.7510,-157.9995, 4721,     60.4,  23.7067,  35.3002,2,  35.3256,4,    215.5,3,    216.2,2,     1.42,2,     0.00,2,     0.06,2,     60,-999.000,  -999.0, 23.6941
     32MW094_1,  PRS2,     2,  3,     15,     15,2,19980617,0702, 22.7510,-157.9995, 4721,     74.7,  23.1177,  35.2747,2,  35.2727,2,    216.2,2,    216.4,2,     1.40,2,     0.00,2,     0.06,2,     75,-999.000,  -999.0, 23.1024
     32MW094_1,  PRS2,     2,  3,     14,     14,2,19980617,0702, 22.7510,-157.9995, 4721,     84.9,  22.7851,  35.2829,2,  35.2807,2,    218.2,2,    217.1,2,     1.39,2,     0.00,2,     0.06,2,     85,-999.000,  -999.0, 22.7678
     32MW094_1,  PRS2,     2,  3,     13,     13,2,19980617,0702, 22.7510,-157.9995, 4721,     95.1,  22.6852,  35.3334,2,  35.3283,2,    216.7,2,    219.0,2,     2.15,2,     0.00,2,     0.05,2,     95,-999.000,  -999.0, 22.6660
     32MW094_1,  PRS2,     2,  3,     12,     12,2,19980617,0702, 22.7510,-157.9995, 4721,    105.4,  22.3607,  35.3102,2,  35.3079,2,    215.8,2,    218.2,2,     1.45,2,     0.01,2,     0.06,2,    106,-999.000,  -999.0, 22.3396
     32MW094_1,  PRS2,     2,  3,     11,     11,2,19980617,0702, 22.7510,-157.9995, 4721,    115.9,  21.9449,  35.2895,2,  35.3052,4,    213.1,3,    217.5,2,     2.13,2,     0.01,2,     0.08,2,    116,-999.000,  -999.0, 21.9220
     32MW094_1,  PRS2,     2,  3,     10,     32,2,19980617,0702, 22.7510,-157.9995, 4721,    125.8,  21.4549,  35.2285,2,  35.2350,2,    206.9,2,    211.6,2,     1.61,2,     0.10,2,     0.08,2,    126,-999.000,  -999.0, 21.4305
     32MW094_1,  PRS2,     2,  3,      9,      3,2,19980617,0702, 22.7510,-157.9995, 4721,    135.5,  21.0967,  35.2145,2,  35.2142,2,    200.0,2,    206.3,2,     2.22,2,     0.56,2,     0.11,2,    135,-999.000,  -999.0, 21.0706
     32MW094_1,  PRS2,     2,  3,      8,     29,2,19980617,0702, 22.7510,-157.9995, 4721,    150.4,  20.7058,  35.1780,2,  35.1830,2,    199.7,2,    203.2,2,     3.18,2,     0.85,2,     0.14,2,    150,-999.000,  -999.0, 20.6773
     32MW094_1,  PRS2,     2,  3,      7,     28,2,19980617,0702, 22.7510,-157.9995, 4721,    160.0,  20.4443,  35.1687,2,  35.1678,2,    203.6,2,    203.1,2,     2.07,2,     1.03,2,     0.15,2,    161,-999.000,  -999.0, 20.4142
     32MW094_1,  PRS2,     2,  3,      6,      7,2,19980617,0702, 22.7510,-157.9995, 4721,    175.4,  19.9567,  35.1228,2,  35.1233,2,    200.6,2,    201.1,2,  -999.00,5,  -999.00,5,  -999.00,5,    174,-999.000,  -999.0, 19.9243
     32MW094_1,  PRS2,     2,  3,      5,     38,2,19980617,0702, 22.7510,-157.9995, 4721,    185.6,  19.5096,  35.0803,2,  35.0808,2,    203.3,2,    201.6,2,  -999.00,5,  -999.00,5,  -999.00,5,    186,-999.000,  -999.0, 19.4759
     32MW094_1,  PRS2,     2,  3,      4,     36,2,19980617,0702, 22.7510,-157.9995, 4721,    202.1,  18.8093,  34.9978,2,  35.0006,2,    199.6,2,    200.6,2,     3.80,2,     1.90,2,     0.21,2,    202,-999.000,  -999.0, 18.7735
     32MW094_1,  PRS2,     2,  3,      3,     35,2,19980617,0702, 22.7510,-157.9995, 4721,    499.9,   7.3252,  34.0358,2,  34.0358,2,    143.2,2,    136.1,2,  -999.00,5,  -999.00,5,  -999.00,5,    499,-999.000,  -999.0,  7.2769
     32MW094_1,  PRS2,     2,  3,      2,     34,2,19980617,0702, 22.7510,-157.9995, 4721,    736.5,   5.2146,  34.3186,2,  34.3191,2,     25.0,2,     24.2,2,  -999.00,5,  -999.00,5,  -999.00,5,    737,-999.000,  -999.0,  5.1536
     32MW094_1,  PRS2,     2,  3,      1,     33,2,19980617,0702, 22.7510,-157.9995, 4721,   1018.3,   4.1160,  34.4954,2,  34.4959,2,     40.2,2,     40.8,2,  -999.00,5,  -999.00,5,  -999.00,5,   1018,-999.000,  -999.0,  4.0380
     32MW094_1,  PRS2,     2,  4,     17,     17,2,19980617,0957, 22.7488,-157.9990, 4721,      5.2,  24.0609,  35.2760,2,  35.2761,2,    213.1,2,    212.1,2,  -999.00,5,  -999.00,5,  -999.00,5,      5,-999.000,  -999.0, 24.0598
     32MW094_1,  PRS2,     2,  4,     16,     16,2,19980617,0957, 22.7488,-157.9990, 4721,    114.9,  22.2895,  35.3206,2,  35.3211,2,    218.9,2,    218.9,2,  -999.00,5,  -999.00,5,  -999.00,5,    115,-999.000,  -999.0, 22.2666
     32MW094_1,  PRS2,     2,  4,     15,     15,2,19980617,0957, 22.7488,-157.9990, 4721,    210.5,  18.6937,  35.0119,2,  35.0099,2,    208.2,2,    207.6,2,  -999.00,5,  -999.00,5,  -999.00,5,    211,-999.000,  -999.0, 18.6566
     32MW094_1,  PRS2,     2,  4,     14,     14,2,19980617,0957, 22.7488,-157.9990, 4721,    225.7,  17.7086,  34.8920,2,  34.8895,2,    209.0,2,    208.5,2,     3.26,2,     2.19,2,     0.23,2,    225,-999.000,  -999.0, 17.6703
     32MW094_1,  PRS2,     2,  4,     13,     13,2,19980617,0957, 22.7488,-157.9990, 4721,    235.7,  17.1827,  34.8069,2,  34.7932,2,    203.5,2,    203.7,2,     3.79,2,     3.05,2,     0.30,2,    236,-999.000,  -999.0, 17.1435
     32MW094_1,  PRS2,     2,  4,     12,     12,2,19980617,0957, 22.7488,-157.9990, 4721,    250.4,  15.9545,  34.6148,2,  34.6207,2,    192.3,2,    196.5,2,     4.92,2,     4.79,2,     0.42,2,    251,-999.000,  -999.0, 15.9150
     32MW094_1,  PRS2,     2,  4,     11,     11,2,19980617,0957, 22.7488,-157.9990, 4721,    274.8,  13.8320,  34.3785,2,  34.3754,2,    194.0,2,    193.1,2,     7.84,2,     8.25,2,     0.64,2,    275,-999.000,  -999.0, 13.7927
     32MW094_1,  PRS2,     2,  4,     10,     32,2,19980617,0957, 22.7488,-157.9990, 4721,    299.8,  13.1177,  34.3126,2,  34.3128,2,    196.4,2,    194.5,2,     8.98,2,     9.33,2,     0.72,2,    300,-999.000,  -999.0, 13.0764
     32MW094_1,  PRS2,     2,  4,      9,      3,2,19980617,0957, 22.7488,-157.9990, 4721,    325.5,  12.1141,  34.2355,2,  34.2234,2,    198.1,2,    195.6,2,    11.36,2,    11.40,2,     0.86,2,    325,-999.000,  -999.0, 12.0715
     32MW094_1,  PRS2,     2,  4,      8,     29,2,19980617,0957, 22.7488,-157.9990, 4721,    351.5,  10.8506,  34.1580,2,  34.1581,2,    196.5,2,    197.4,2,    15.17,2,    13.89,2,     1.02,2,    352,-999.000,  -999.0, 10.8077
     32MW094_1,  PRS2,     2,  4,      7,     28,2,19980617,0957, 22.7488,-157.9990, 4721,    399.2,   9.0619,  34.0693,2,  34.0764,2,    177.1,2,    176.5,2,    24.67,2,    19.37,2,     1.39,2,    399,-999.000,  -999.0,  9.0184
     32MW094_1,  PRS2,     2,  4,      6,      7,2,19980617,0957, 22.7488,-157.9990, 4721,    500.3,   7.0500,  34.0464,2,  34.0427,2,    120.1,2,    119.9,2,    46.93,2,    28.67,2,     2.11,2,    499,-999.000,  -999.0,  7.0027
     32MW094_1,  PRS2,     2,  4,      5,     38,2,19980617,0957, 22.7488,-157.9990, 4721,    600.2,   5.9881,  34.1497,2,  34.1474,2,     47.6,2,     47.4,2,    69.31,2,    36.80,2,     2.74,2,    600,-999.000,  -999.0,  5.9356
     32MW094_1,  PRS2,     2,  4,      4,     36,2,19980617,0957, 22.7488,-157.9990, 4721,    700.1,   5.3327,  34.2571,2,  34.2555,2,     25.9,2,     25.9,2,    83.67,2,    40.17,2,     2.98,2,    700,-999.000,  -999.0,  5.2744
     32MW094_1,  PRS2,     2,  4,      3,     35,2,19980617,0957, 22.7488,-157.9990, 4721,    799.9,   4.9679,  34.3657,2,  34.3634,2,     24.2,2,     24.4,2,    92.00,2,    41.36,2,     3.03,2,    800,-999.000,  -999.0,  4.9028
     32MW094_1,  PRS2,     2,  4,      2,     34,2,19980617,0957, 22.7488,-157.9990, 4721,    901.1,   4.5791,  34.4505,2,  34.4495,2,     30.8,2,     30.5,2,    99.30,2,    41.97,2,     3.05,2,    901,-999.000,  -999.0,  4.5076
     32MW094_1,  PRS2,     2,  4,      1,     33,2,19980617,0957, 22.7488,-157.9990, 4721,   1020.3,   4.1546,  34.4981,2,  34.4967,2,     38.8,2,     38.8,2,   107.20,2,    42.14,2,     3.04,2,   1020,-999.000,  -999.0,  4.0760
     32MW094_1,  PRS2,     2,  5,     10,     32,2,19980617,1256, 22.7577,-157.9483, 4700,      5.0,  24.1042,  35.2794,2,  35.2794,2,    213.5,1,   -999.0,9,  -999.00,9,  -999.00,9,  -999.00,9,      6,-999.000,  -999.0, 24.1031
     32MW094_1,  PRS2,     2,  5,      9,      3,2,19980617,1256, 22.7577,-157.9483, 4700,    109.8,  22.3357,  35.3336,2,  35.3337,2,    221.2,1,   -999.0,9,  -999.00,9,  -999.00,9,  -999.00,9,    110,-999.000,  -999.0, 22.3138
     32MW094_1,  PRS2,     2,  5,      8,     29,2,19980617,1256, 22.7577,-157.9483, 4700,    150.5,  21.1033,  35.2350,2,  35.2327,2,    208.7,1,   -999.0,9,  -999.00,9,  -999.00,9,  -999.00,9,    150,-999.000,  -999.0, 21.0744
     32MW094_1,  PRS2,     2,  5,      7,     28,2,19980617,1256, 22.7577,-157.9483, 4700,    470.5,   7.5115,  34.0381,2,  34.0373,2,    140.1,1,   -999.0,9,  -999.00,9,  -999.00,9,  -999.00,9,    470,-999.000,  -999.0,  7.4655
     32MW094_1,  PRS2,     2,  5,      6,      7,2,19980617,1256, 22.7577,-157.9483, 4700,   1018.4,   4.2252,  34.4927,2,  34.4931,2,     38.2,1,   -999.0,9,  -999.00,9,  -999.00,9,  -999.00,9,   1017,-999.000,  -999.0,  4.1463
     32MW094_1,  PRS2,     2,  5,      5,     38,2,19980617,1256, 22.7577,-157.9483, 4700,   1018.6,   4.2256,  34.4926,2,  34.4906,2,     38.2,1,   -999.0,9,  -999.00,9,  -999.00,9,  -999.00,9,   1019,-999.000,  -999.0,  4.1467
     32MW094_1,  PRS2,     2,  5,      4,     36,2,19980617,1256, 22.7577,-157.9483, 4700,   1018.9,   4.2251,  34.4926,2,  34.4911,2,     38.2,1,   -999.0,9,  -999.00,9,  -999.00,9,  -999.00,9,   1019,-999.000,  -999.0,  4.1461
     32MW094_1,  PRS2,     2,  5,      3,     35,2,19980617,1256, 22.7577,-157.9483, 4700,   1019.2,   4.2249,  34.4927,2,  34.4914,2,     38.1,1,   -999.0,9,  -999.00,9,  -999.00,9,  -999.00,9,   1020,-999.000,  -999.0,  4.1459
     32MW094_1,  PRS2,     2,  5,      2,     34,3,19980617,1256, 22.7577,-157.9483, 4700,   1019.3,   4.2247,  34.4929,2,  34.4906,2,     38.1,1,   -999.0,9,  -999.00,9,  -999.00,9,  -999.00,9,   1019,-999.000,  -999.0,  4.1457
     32MW094_1,  PRS2,     2,  5,      1,     33,2,19980617,1256, 22.7577,-157.9483, 4700,   1019.7,   4.2239,  34.4931,2,  34.4908,2,     38.1,1,   -999.0,9,  -999.00,9,  -999.00,9,  -999.00,9,   1019,-999.000,  -999.0,  4.1449
     32MW094_1,  PRS2,     2,  6,     24,     31,2,19980617,1600, 22.7558,-157.9878, 4715,      2.0,  24.2006,  35.2941,2,  35.2897,2,    212.7,1,   -999.0,9,  -999.00,9,  -999.00,9,  -999.00,9,      1,-999.000,  -999.0, 24.2002
     32MW094_1,  PRS2,     2,  6,     23,     30,2,19980617,1600, 22.7558,-157.9878, 4715,      5.0,  24.1975,  35.2940,2,  35.3053,3,    212.7,1,   -999.0,9,  -999.00,9,  -999.00,9,  -999.00,9,      6,-999.000,  -999.0, 24.1965
     32MW094_1,  PRS2,     2,  6,     22,     22,2,19980617,1600, 22.7558,-157.9878, 4715,      9.8,  24.2009,  35.2937,2,  35.3099,4,    212.7,1,   -999.0,9,  -999.00,9,  -999.00,9,  -999.00,9,     11,-999.000,  -999.0, 24.1989
     32MW094_1,  PRS2,     2,  6,     21,     21,2,19980617,1600, 22.7558,-157.9878, 4715,     14.5,  24.1965,  35.2938,2,  35.2900,2,    212.7,1,   -999.0,9,  -999.00,9,  -999.00,9,  -999.00,9,     14,-999.000,  -999.0, 24.1935
     32MW094_1,  PRS2,     2,  6,     20,     20,2,19980617,1600, 22.7558,-157.9878, 4715,     19.7,  24.2016,  35.2935,2,  35.2919,2,    212.7,1,   -999.0,9,  -999.00,9,  -999.00,9,  -999.00,9,     20,-999.000,  -999.0, 24.1974
     32MW094_1,  PRS2,     2,  6,     19,     19,2,19980617,1600, 22.7558,-157.9878, 4715,     24.7,  24.2051,  35.2931,2,  35.2898,2,    212.6,1,   -999.0,9,  -999.00,9,  -999.00,9,  -999.00,9,     24,-999.000,  -999.0, 24.1999
     32MW094_1,  PRS2,     2,  6,     18,     18,2,19980617,1600, 22.7558,-157.9878, 4715,     29.9,  24.2054,  35.2930,2,  35.2916,2,    212.6,1,   -999.0,9,  -999.00,9,  -999.00,9,  -999.00,9,     30,-999.000,  -999.0, 24.1990
     32MW094_1,  PRS2,     2,  6,     17,     17,2,19980617,1600, 22.7558,-157.9878, 4715,     34.8,  24.2065,  35.2931,2,  35.2932,2,    212.6,1,   -999.0,9,  -999.00,9,  -999.00,9,  -999.00,9,     35,-999.000,  -999.0, 24.1991
     32MW094_1,  PRS2,     2,  6,     16,     16,2,19980617,1600, 22.7558,-157.9878, 4715,     40.5,  24.2038,  35.2925,2,  35.2967,2,    212.6,1,   -999.0,9,  -999.00,9,  -999.00,9,  -999.00,9,     41,-999.000,  -999.0, 24.1952
     32MW094_1,  PRS2,     2,  6,     15,     15,2,19980617,1600, 22.7558,-157.9878, 4715,     44.4,  24.2062,  35.2925,2,  35.2909,2,    212.6,1,   -999.0,9,  -999.00,9,  -999.00,9,  -999.00,9,     44,-999.000,  -999.0, 24.1968
     32MW094_1,  PRS2,     2,  6,     14,     14,2,19980617,1600, 22.7558,-157.9878, 4715,     50.3,  24.1869,  35.2946,2,  35.2919,2,    212.6,1,   -999.0,9,  -999.00,9,  -999.00,9,  -999.00,9,     51,-999.000,  -999.0, 24.1763
     32MW094_1,  PRS2,     2,  6,     13,     13,2,19980617,1600, 22.7558,-157.9878, 4715,     54.6,  24.0815,  35.3057,2,  35.2992,2,    213.3,1,   -999.0,9,  -999.00,9,  -999.00,9,  -999.00,9,     55,-999.000,  -999.0, 24.0700
     32MW094_1,  PRS2,     2,  6,     12,     12,2,19980617,1600, 22.7558,-157.9878, 4715,     65.0,  23.6115,  35.3005,2,  35.2996,2,    216.1,1,   -999.0,9,  -999.00,9,  -999.00,9,  -999.00,9,     65,-999.000,  -999.0, 23.5979
     32MW094_1,  PRS2,     2,  6,     11,     11,2,19980617,1600, 22.7558,-157.9878, 4715,     75.3,  23.0263,  35.2803,2,  35.2951,4,    216.2,1,   -999.0,9,  -999.00,9,  -999.00,9,  -999.00,9,     76,-999.000,  -999.0, 23.0109
     32MW094_1,  PRS2,     2,  6,     10,     32,2,19980617,1600, 22.7558,-157.9878, 4715,     84.2,  22.8053,  35.2841,2,  35.2835,2,    215.1,1,   -999.0,9,  -999.00,9,  -999.00,9,  -999.00,9,     84,-999.000,  -999.0, 22.7882
     32MW094_1,  PRS2,     2,  6,      9,      3,2,19980617,1600, 22.7558,-157.9878, 4715,     95.3,  22.2958,  35.3244,2,  35.3310,2,    219.4,1,   -999.0,9,  -999.00,9,  -999.00,9,  -999.00,9,     95,-999.000,  -999.0, 22.2768
     32MW094_1,  PRS2,     2,  6,      8,     29,2,19980617,1600, 22.7558,-157.9878, 4715,    105.1,  21.8397,  35.2918,2,  35.2922,2,    217.1,1,   -999.0,9,  -999.00,9,  -999.00,9,  -999.00,9,    106,-999.000,  -999.0, 21.8190
     32MW094_1,  PRS2,     2,  6,      7,     28,2,19980617,1600, 22.7558,-157.9878, 4715,    115.1,  21.3997,  35.2338,2,  35.2383,2,    210.5,1,   -999.0,9,  -999.00,9,  -999.00,9,  -999.00,9,    115,-999.000,  -999.0, 21.3773
     32MW094_1,  PRS2,     2,  6,      6,      7,2,19980617,1600, 22.7558,-157.9878, 4715,    124.7,  21.0906,  35.2113,2,  35.2099,2,    205.5,1,   -999.0,9,  -999.00,9,  -999.00,9,  -999.00,9,    124,-999.000,  -999.0, 21.0667
     32MW094_1,  PRS2,     2,  6,      5,     38,2,19980617,1600, 22.7558,-157.9878, 4715,    150.7,  19.9744,  35.1220,2,  35.1162,2,    197.9,1,   -999.0,9,  -999.00,9,  -999.00,9,  -999.00,9,    151,-999.000,  -999.0, 19.9466
     32MW094_1,  PRS2,     2,  6,      4,     36,2,19980617,1600, 22.7558,-157.9878, 4715,    175.0,  19.4502,  35.1031,2,  35.1024,2,    212.5,1,   -999.0,9,  -999.00,9,  -999.00,9,  -999.00,9,    176,-999.000,  -999.0, 19.4185
     32MW094_1,  PRS2,     2,  6,      3,     35,2,19980617,1600, 22.7558,-157.9878, 4715,    252.0,  15.0643,  34.5060,2,  34.7370,4,    193.4,1,   -999.0,9,  -999.00,9,  -999.00,9,  -999.00,9,    252,-999.000,  -999.0, 15.0262
     32MW094_1,  PRS2,     2,  6,      2,     34,2,19980617,1600, 22.7558,-157.9878, 4715,    451.9,   8.0608,  34.0540,2,  34.0532,2,    153.1,1,   -999.0,9,  -999.00,9,  -999.00,9,  -999.00,9,    452,-999.000,  -999.0,  8.0148
     32MW094_1,  PRS2,     2,  6,      1,     33,2,19980617,1600, 22.7558,-157.9878, 4715,   1021.3,   4.1168,  34.5007,2,  34.5049,2,     40.1,1,   -999.0,9,  -999.00,9,  -999.00,9,  -999.00,9,   1021,-999.000,  -999.0,  4.0385