BOTTLE,20020809WHPSIObren
#code : jjward hyd_to_exchange.pl 
#original files copied from HTML directory: 20020809
#original HYD file: /whpo/11/HOTS/BOTTLE/hot94/hot94.sea   Fri Aug  9 09:51:38 2002
#original SUM file: /whpo/11/HOTS/BOTTLE/hot94/hot94.sum   Fri Aug  9 13:30:29 2002
EXPOCODE,SECT_ID,STNNBR,CASTNO,SAMPNO,BTLNBR,BTLNBR_FLAG_W,DATE,TIME,LATITUDE,LONGITUDE,DEPTH,CTDPRS,CTDTMP,CTDSAL,CTDSAL_FLAG_W,SALNTY,SALNTY_FLAG_W,CTDOXY,CTDOXY_FLAG_W,OXYGEN,OXYGEN_FLAG_W,SILCAT,SILCAT_FLAG_W,NO2+NO3,NO2+NO3_FLAG_W,PHSPHT,PHSPHT_FLAG_W,CTDRAW,REVTMP,REVPRS,THETA
,,,,,,,,,,,,DBAR,ITS-90,PSS-78,,PSS-78,,UMOL/KG,,UMOL/KG,,UMOL/KG,,UMOL/KG,,UMOL/KG,,,DEG C,DBAR,ITS-90
     32MW094_1,  PRS2,     1,  1,     24,     31,2,19980615,2347,  0.0000,  -0.0000, 1495,      5.1,  25.2525,  35.1828,2,  35.2005,3,    208.4,3,    209.0,2,  -999.00,5,  -999.00,5,  -999.00,5,      5,-999.000,  -999.0, 25.2513
     32MW094_1,  PRS2,     1,  1,     23,     30,2,19980615,2347,  0.0000,  -0.0000, 1495,      5.2,  25.1847,  35.1800,2,  35.1893,2,    208.4,2,    208.7,2,     1.20,2,     0.00,2,     0.11,2,      5,-999.000,  -999.0, 25.1836
     32MW094_1,  PRS2,     1,  1,     22,     22,2,19980615,2347,  0.0000,  -0.0000, 1495,     24.5,  24.7573,  35.2062,2,  35.2192,3,    209.7,3,    209.9,2,     1.24,2,     0.01,2,     0.10,2,     24,-999.000,  -999.0, 24.7520
     32MW094_1,  PRS2,     1,  1,     21,     21,2,19980615,2347,  0.0000,  -0.0000, 1495,     44.6,  24.6578,  35.1946,2,  35.1968,2,    210.2,2,    210.6,2,     1.22,2,     0.00,2,     0.10,2,     44,-999.000,  -999.0, 24.6482
     32MW094_1,  PRS2,     1,  1,     20,     20,2,19980615,2347,  0.0000,  -0.0000, 1495,     60.0,  24.6013,  35.2041,2,  35.2082,2,    210.6,2,    210.7,2,     1.20,2,     0.00,2,     0.10,2,     60,-999.000,  -999.0, 24.5884
     32MW094_1,  PRS2,     1,  1,     19,     19,2,19980615,2347,  0.0000,  -0.0000, 1495,     74.7,  24.1845,  35.2444,2,  35.2429,2,    213.1,2,    213.6,2,     1.22,2,     0.01,2,     0.08,2,     75,-999.000,  -999.0, 24.1687
     32MW094_1,  PRS2,     1,  1,     18,     18,2,19980615,2347,  0.0000,  -0.0000, 1495,     94.9,  22.8405,  35.1804,2,  35.1764,2,    209.0,2,    209.3,2,     1.33,2,     0.00,2,     0.09,2,     95,-999.000,  -999.0, 22.8212
     32MW094_1,  PRS2,     1,  1,     17,     17,2,19980615,2347,  0.0000,  -0.0000, 1495,    104.9,  22.0676,  35.1375,2,  35.1405,2,    202.7,2,    201.5,2,     1.51,2,     0.34,2,     0.13,2,    105,-999.000,  -999.0, 22.0468
     32MW094_1,  PRS2,     1,  1,     16,     16,2,19980615,2347,  0.0000,  -0.0000, 1495,    114.8,  21.6629,  35.1780,2,  35.1651,2,    200.8,2,    200.2,2,     1.56,2,     0.81,2,     0.14,2,    115,-999.000,  -999.0, 21.6404
     32MW094_1,  PRS2,     1,  1,     15,     15,2,19980615,2347,  0.0000,  -0.0000, 1495,    124.6,  21.4632,  35.2270,2,  35.2265,2,    207.6,2,    206.2,2,     1.45,2,     0.51,2,     0.11,2,    125,-999.000,  -999.0, 21.4390
     32MW094_1,  PRS2,     1,  1,     14,     14,2,19980615,2347,  0.0000,  -0.0000, 1495,    150.0,  20.0110,  35.0912,2,  35.0888,2,    199.0,2,    198.6,2,     2.05,2,     1.55,2,     0.19,2,    150,-999.000,  -999.0, 19.9832
     32MW094_1,  PRS2,     1,  1,     13,     13,2,19980615,2347,  0.0000,  -0.0000, 1495,    174.5,  18.4395,  34.8842,2,  34.8851,2,    192.4,2,    192.2,2,     2.98,2,     2.91,2,     0.28,2,    175,-999.000,  -999.0, 18.4090
     32MW094_1,  PRS2,     1,  1,     12,     12,2,19980615,2347,  0.0000,  -0.0000, 1495,    200.3,  16.8891,  34.6958,2,  34.6948,2,    190.2,2,    190.4,2,     4.10,2,     4.28,2,     0.38,2,    200,-999.000,  -999.0, 16.8563
     32MW094_1,  PRS2,     1,  1,     11,     11,2,19980615,2347,  0.0000,  -0.0000, 1495,    224.5,  15.0205,  34.5012,2,  34.5030,2,    190.1,2,    190.7,2,     6.39,2,     6.66,2,     0.55,2,    225,-999.000,  -999.0, 14.9866
     32MW094_1,  PRS2,     1,  1,     10,     32,2,19980615,2347,  0.0000,  -0.0000, 1495,    249.4,  13.7845,  34.3862,2,  34.3823,2,    190.0,2,    190.6,2,     8.68,2,     8.80,2,     0.69,2,    249,-999.000,  -999.0, 13.7489
     32MW094_1,  PRS2,     1,  1,      9,      3,2,19980615,2347,  0.0000,  -0.0000, 1495,    275.0,  12.6549,  34.2966,2,  34.2983,2,    185.6,2,    186.2,2,    11.91,2,    11.32,2,     0.86,2,    275,-999.000,  -999.0, 12.6179
     32MW094_1,  PRS2,     1,  1,      8,     29,2,19980615,2347,  0.0000,  -0.0000, 1495,    299.9,  12.0867,  34.2565,2,  34.2556,2,    183.8,2,    183.5,2,    13.76,2,    12.61,2,     0.96,2,    300,-999.000,  -999.0, 12.0476
     32MW094_1,  PRS2,     1,  1,      7,     28,2,19980615,2347,  0.0000,  -0.0000, 1495,    399.7,   9.2452,  34.1198,2,  34.1184,2,    159.3,2,    159.2,2,    27.76,2,    20.43,2,     1.50,2,    401,-999.000,  -999.0,  9.2010
     32MW094_1,  PRS2,     1,  1,      6,      7,2,19980615,2347,  0.0000,  -0.0000, 1495,    476.5,   7.2754,  34.0968,2,  34.0950,2,    113.0,2,    112.8,2,    48.09,2,    28.86,2,     2.14,2,    477,-999.000,  -999.0,  7.2295
     32MW094_1,  PRS2,     1,  1,      5,     38,2,19980615,2347,  0.0000,  -0.0000, 1495,    599.7,   5.5187,  34.1650,2,  34.1659,2,     54.4,2,     53.6,2,    76.68,2,    37.49,2,     2.74,2,    600,-999.000,  -999.0,  5.4684
     32MW094_1,  PRS2,     1,  1,      4,     36,2,19980615,2347,  0.0000,  -0.0000, 1495,    700.1,   4.9381,  34.2744,2,  34.2755,2,     39.3,2,     37.6,2,   101.83,4,    40.00,2,     2.93,2,    700,-999.000,  -999.0,  4.8819
     32MW094_1,  PRS2,     1,  1,      3,     35,2,19980615,2347,  0.0000,  -0.0000, 1495,    799.6,   4.5624,  34.3907,2,  34.3898,2,     34.9,2,     34.7,2,    99.24,2,    41.12,2,     3.00,2,    800,-999.000,  -999.0,  4.4998
     32MW094_1,  PRS2,     1,  1,      2,     34,2,19980615,2347,  0.0000,  -0.0000, 1495,    899.6,   4.3575,  34.4343,2,  34.4333,2,     36.7,2,     37.7,2,   103.35,2,    41.51,2,     3.04,2,    900,-999.000,  -999.0,  4.2878
     32MW094_1,  PRS2,     1,  1,      1,     33,2,19980615,2347,  0.0000,  -0.0000, 1495,   1021.3,   3.9373,  34.4988,2,  34.4971,2,     44.8,2,     46.1,2,   110.79,2,    41.66,2,     3.03,2,   1021,-999.000,  -999.0,  3.8604
     32MW094_1,  PRS2,     2,  1,     24,     31,2,19980616,1946, 22.7520,-157.9987, 4715,      5.0,  24.1695,  35.2823,2,  35.2855,2,    213.5,2,    212.4,2,     1.44,2,     0.01,2,     0.07,2,      5,-999.000,  -999.0, 24.1684
     32MW094_1,  PRS2,     2,  1,     23,     30,2,19980616,1946, 22.7520,-157.9987, 4715,     77.1,  23.1165,  35.2757,2,  35.2775,2,    214.5,2,    217.2,2,     1.50,2,     0.01,2,     0.06,2,     76,-999.000,  -999.0, 23.1007
     32MW094_1,  PRS2,     2,  1,     22,     22,2,19980616,1946, 22.7520,-157.9987, 4715,    479.1,   7.4144,  34.0570,2,  34.0601,2,    125.9,2,    123.8,2,    42.90,2,    27.05,2,     1.94,2,    479,-999.000,  -999.0,  7.3678
     32MW094_1,  PRS2,     2,  1,     21,     21,2,19980616,1946, 22.7520,-157.9987, 4715,    749.4,   5.0673,  34.3534,2,  34.3531,2,     25.8,2,     24.0,2,    88.89,2,    40.82,2,     2.96,2,    749,-999.000,  -999.0,  5.0060
     32MW094_1,  PRS2,     2,  1,     20,     20,2,19980616,1946, 22.7520,-157.9987, 4715,   1201.9,   3.6047,  34.5269,2,  34.5285,2,     49.0,2,     50.3,2,   117.03,2,    41.51,2,     2.94,2,   1202,-999.000,  -999.0,  3.5155
     32MW094_1,  PRS2,     2,  1,     19,     19,2,19980616,1946, 22.7520,-157.9987, 4715,   1400.3,   3.1187,  34.5601,2,  34.5603,2,     58.5,2,     58.5,2,   127.79,2,    41.19,2,     2.95,2,   1400,-999.000,  -999.0,  3.0179
     32MW094_1,  PRS2,     2,  1,     18,     18,2,19980616,1946, 22.7520,-157.9987, 4715,   1600.4,   2.7276,  34.5827,2,  34.5862,3,     69.7,3,     69.3,2,   135.94,2,    40.85,2,     2.91,2,   1600,-999.000,  -999.0,  2.6146
     32MW094_1,  PRS2,     2,  1,     17,     17,2,19980616,1946, 22.7520,-157.9987, 4715,   1799.7,   2.3995,  34.6030,2,  34.6036,2,     79.2,2,     78.8,2,   143.03,2,    40.02,2,     2.85,2,   1800,-999.000,  -999.0,  2.2742
     32MW094_1,  PRS2,     2,  1,     16,     16,2,19980616,1946, 22.7520,-157.9987, 4715,   2001.9,   2.1305,  34.6213,2,  34.6248,3,     89.2,3,     89.7,2,   147.43,2,    39.33,2,     2.79,2,   2002,-999.000,  -999.0,  1.9920
     32MW094_1,  PRS2,     2,  1,     15,     15,2,19980616,1946, 22.7520,-157.9987, 4715,   2195.7,   1.9616,  34.6329,2,  34.6333,2,     96.3,2,     96.1,2,   151.93,2,    39.07,2,     2.76,2,   2195,-999.000,  -999.0,  1.8091
     32MW094_1,  PRS2,     2,  1,     14,     14,2,19980616,1946, 22.7520,-157.9987, 4715,   2401.2,   1.8158,  34.6444,2,  34.6454,2,    103.4,2,    103.5,2,   155.80,2,    38.67,2,     2.74,2,   2400,-999.000,  -999.0,  1.6478
     32MW094_1,  PRS2,     2,  1,     13,     13,2,19980616,1946, 22.7520,-157.9987, 4715,   2600.6,   1.7139,  34.6527,2,  34.6533,2,    108.0,2,    110.0,2,   157.28,2,    38.59,2,     2.71,2,   2601,-999.000,  -999.0,  1.5299
     32MW094_1,  PRS2,     2,  1,     12,     12,2,19980616,1946, 22.7520,-157.9987, 4715,   2799.7,   1.6208,  34.6617,2,  34.6625,2,    116.0,2,    116.5,2,   158.49,2,    37.94,2,     2.67,2,   2799,-999.000,  -999.0,  1.4204
     32MW094_1,  PRS2,     2,  1,     11,     11,2,19980616,1946, 22.7520,-157.9987, 4715,   3000.4,   1.5670,  34.6680,2,  34.6693,2,    122.4,2,    123.2,2,   157.18,2,    37.90,2,     2.67,2,   3000,-999.000,  -999.0,  1.3487
     32MW094_1,  PRS2,     2,  1,     10,     32,2,19980616,1946, 22.7520,-157.9987, 4715,   3201.3,   1.5188,  34.6740,2,  34.6737,2,    129.3,2,    129.6,2,   156.51,2,    37.38,2,     2.62,2,   3199,-999.000,  -999.0,  1.2821
     32MW094_1,  PRS2,     2,  1,      9,      3,2,19980616,1946, 22.7520,-157.9987, 4715,   3400.6,   1.4916,  34.6778,2,  34.6778,2,    134.6,2,    135.2,2,   155.12,2,    36.84,2,     2.57,2,   3400,-999.000,  -999.0,  1.2358
     32MW094_1,  PRS2,     2,  1,      8,     29,2,19980616,1946, 22.7520,-157.9987, 4715,   3602.4,   1.4693,  34.6816,2,  34.6817,2,    139.9,2,    140.7,2,   153.46,2,    36.50,2,     2.56,2,   3601,-999.000,  -999.0,  1.1935
     32MW094_1,  PRS2,     2,  1,      7,     28,2,19980616,1946, 22.7520,-157.9987, 4715,   3800.2,   1.4602,  34.6843,2,  34.6842,2,    144.0,2,    144.0,2,   151.57,2,    36.19,2,     2.51,2,   3799,-999.000,  -999.0,  1.1639
     32MW094_1,  PRS2,     2,  1,      6,      7,2,19980616,1946, 22.7520,-157.9987, 4715,   4000.4,   1.4594,  34.6861,2,  34.6855,2,    147.6,2,    146.5,2,   150.17,2,    36.17,2,     2.51,2,   4000,-999.000,  -999.0,  1.1416
     32MW094_1,  PRS2,     2,  1,      5,     38,2,19980616,1946, 22.7520,-157.9987, 4715,   4200.3,   1.4648,  34.6876,2,  34.6871,2,    149.8,2,    149.7,2,   149.19,2,    36.03,2,     2.50,2,   4199,-999.000,  -999.0,  1.1249
     32MW094_1,  PRS2,     2,  1,      4,     36,2,19980616,1946, 22.7520,-157.9987, 4715,   4400.3,   1.4776,  34.6884,2,  34.6898,2,    151.9,2,    152.2,2,   148.70,2,    36.03,2,     2.50,2,   4399,-999.000,  -999.0,  1.1147
     32MW094_1,  PRS2,     2,  1,      3,     35,2,19980616,1946, 22.7520,-157.9987, 4715,   4501.1,   1.4862,  34.6887,2,  34.6907,2,    152.6,2,    151.5,2,   148.10,2,    35.92,2,     2.50,2,   4500,-999.000,  -999.0,  1.1116
     32MW094_1,  PRS2,     2,  1,      2,     34,2,19980616,1946, 22.7520,-157.9987, 4715,   4602.9,   1.4949,  34.6890,2,  34.6887,2,    152.5,2,    152.9,2,   147.58,2,    35.99,2,     2.50,2,   4603,-999.000,  -999.0,  1.1081
     32MW094_1,  PRS2,     2,  1,      1,     33,2,19980616,1946, 22.7520,-157.9987, 4715,   4797.9,   1.5150,  34.6894,2,  34.6902,2,    153.6,2,    153.1,2,   147.31,2,    35.77,2,     2.48,2,   4796,-999.000,  -999.0,  1.1046
     32MW094_1,  PRS2,     2,  2,     24,     31,2,19980617,0407, 22.7502,-157.9985, 4721,      5.2,  24.1321,  35.2747,2,  35.2874,3,    213.8,3,    212.9,2,     1.46,2,     0.01,2,     0.12,2,      5,-999.000,  -999.0, 24.1310
     32MW094_1,  PRS2,     2,  2,     23,     30,2,19980617,0407, 22.7502,-157.9985, 4721,     47.8,  24.0040,  35.2764,2,  35.2877,3,    214.3,3,    213.2,2,     3.31,3,     0.00,2,     0.07,2,     48,-999.000,  -999.0, 23.9940
     32MW094_1,  PRS2,     2,  2,     22,     22,2,19980617,0407, 22.7502,-157.9985, 4721,     84.8,  22.8673,  35.3288,2,  35.3325,2,    220.5,2,    219.1,2,     2.16,2,     0.00,2,     0.05,2,     85,-999.000,  -999.0, 22.8500
     32MW094_1,  PRS2,     2,  2,     21,     21,2,19980617,0407, 22.7502,-157.9985, 4721,    115.2,  22.1913,  35.2842,2,  35.2970,3,    215.4,3,    216.7,2,     1.44,2,     0.00,2,     0.05,2,    115,-999.000,  -999.0, 22.1683
     32MW094_1,  PRS2,     2,  2,     20,     20,2,19980617,0407, 22.7502,-157.9985, 4721,    174.8,  19.6218,  35.0955,2,  35.0937,2,    201.1,2,    202.0,2,     2.66,2,     1.43,2,     0.16,2,    174,-999.000,  -999.0, 19.5899
     32MW094_1,  PRS2,     2,  2,     19,     19,2,19980617,0407, 22.7502,-157.9985, 4721,    243.9,  16.2452,  34.6547,2,  34.6547,2,    192.8,2,    197.5,2,     5.28,2,     4.37,2,     0.37,2,    244,-999.000,  -999.0, 16.2063
     32MW094_1,  PRS2,     2,  2,     18,     18,2,19980617,0407, 22.7502,-157.9985, 4721,    322.9,  12.3869,  34.2625,2,  34.2608,2,    194.4,2,    196.4,2,    10.47,2,    10.64,2,     0.79,2,    323,-999.000,  -999.0, 12.3440
     32MW094_1,  PRS2,     2,  2,     17,     17,2,19980617,0407, 22.7502,-157.9985, 4721,    362.3,  10.5235,  34.1380,2,  34.1397,2,    199.9,2,    197.5,2,    16.06,2,    14.60,2,     1.04,2,    362,-999.000,  -999.0, 10.4802
     32MW094_1,  PRS2,     2,  2,     16,     16,2,19980617,0407, 22.7502,-157.9985, 4721,    400.3,   9.3630,  34.0778,2,  34.0792,2,    181.4,2,    182.5,2,    22.55,2,    18.51,2,     1.29,2,    401,-999.000,  -999.0,  9.3185
     32MW094_1,  PRS2,     2,  2,     15,     15,2,19980617,0407, 22.7502,-157.9985, 4721,    423.8,   9.0674,  34.0691,2,  34.0695,2,    181.3,2,    176.6,2,    24.65,2,    19.72,2,     1.39,2,    424,-999.000,  -999.0,  9.0211
     32MW094_1,  PRS2,     2,  2,     14,     14,2,19980617,0407, 22.7502,-157.9985, 4721,    449.8,   8.3288,  34.0570,2,  34.0595,2,    160.8,2,    170.4,2,    31.63,2,    22.68,2,     1.58,2,    449,-999.000,  -999.0,  8.2821
     32MW094_1,  PRS2,     2,  2,     13,     13,2,19980617,0407, 22.7502,-157.9985, 4721,    489.6,   7.4772,  34.0515,2,  34.0529,2,    137.5,2,    130.9,2,    41.46,2,    27.29,2,     1.96,2,    489,-999.000,  -999.0,  7.4294
     32MW094_1,  PRS2,     2,  2,     12,     12,2,19980617,0407, 22.7502,-157.9985, 4721,    515.0,   6.8372,  34.0308,2,  34.0318,2,    114.4,2,    119.2,2,    49.29,2,    29.84,2,     2.11,2,    515,-999.000,  -999.0,  6.7892
     32MW094_1,  PRS2,     2,  2,     11,     11,2,19980617,0407, 22.7502,-157.9985, 4721,    529.9,   6.6965,  34.0570,2,  34.0565,2,    105.9,2,    103.6,2,    53.50,2,    31.37,2,     2.25,2,    531,-999.000,  -999.0,  6.6477
     32MW094_1,  PRS2,     2,  2,     10,     32,2,19980617,0407, 22.7502,-157.9985, 4721,    572.4,   6.2044,  34.1185,2,  34.1179,2,     61.3,2,     62.3,2,    63.68,2,    35.61,2,     2.59,2,    573,-999.000,  -999.0,  6.1535
     32MW094_1,  PRS2,     2,  2,      9,      3,2,19980617,0407, 22.7502,-157.9985, 4721,    607.8,   5.7443,  34.1844,2,  34.1846,2,     34.9,2,     36.2,2,    74.07,2,    38.76,2,     2.84,2,    608,-999.000,  -999.0,  5.6922
     32MW094_1,  PRS2,     2,  2,      8,     29,2,19980617,0407, 22.7502,-157.9985, 4721,    650.1,   5.4648,  34.2375,2,  34.2394,2,     32.0,2,     31.0,2,    80.39,2,    39.97,2,     2.90,2,    650,-999.000,  -999.0,  5.4102
     32MW094_1,  PRS2,     2,  2,      7,     28,2,19980617,0407, 22.7502,-157.9985, 4721,    672.2,   5.3062,  34.2642,2,  34.2702,2,     25.9,2,     27.5,2,    83.63,2,    40.58,2,     2.95,2,    673,-999.000,  -999.0,  5.2505
     32MW094_1,  PRS2,     2,  2,      6,      7,2,19980617,0407, 22.7502,-157.9985, 4721,    699.7,   5.2158,  34.3186,2,  34.3196,2,     23.7,2,     23.2,2,    86.43,2,    41.21,2,     3.01,2,    700,-999.000,  -999.0,  5.1581
     32MW094_1,  PRS2,     2,  2,      5,     38,2,19980617,0407, 22.7502,-157.9985, 4721,    748.0,   5.0601,  34.3652,2,  34.3652,2,     26.0,2,     25.4,2,    89.48,2,    41.53,2,     3.02,2,    748,-999.000,  -999.0,  4.9989
     32MW094_1,  PRS2,     2,  2,      4,     36,2,19980617,0407, 22.7502,-157.9985, 4721,    801.0,   4.8151,  34.4111,2,  34.4101,2,     27.0,2,     26.4,2,    94.25,2,    42.09,2,     3.05,2,    801,-999.000,  -999.0,  4.7508
     32MW094_1,  PRS2,     2,  2,      3,     35,2,19980617,0407, 22.7502,-157.9985, 4721,    833.7,   4.6806,  34.4337,2,  34.4321,2,     28.7,2,     28.6,2,    96.75,2,    42.25,2,     3.06,2,    834,-999.000,  -999.0,  4.6143
     32MW094_1,  PRS2,     2,  2,      2,     34,2,19980617,0407, 22.7502,-157.9985, 4721,    901.1,   4.4541,  34.4607,2,  34.4594,2,     34.2,2,     34.0,2,   101.52,2,    42.16,2,     3.04,2,    901,-999.000,  -999.0,  4.3835
     32MW094_1,  PRS2,     2,  2,      1,     33,2,19980617,0407, 22.7502,-157.9985, 4721,   1025.4,   4.0016,  34.4963,2,  34.4957,2,     42.9,2,     42.5,2,   109.68,2,    42.03,2,     3.02,2,   1025,-999.000,  -999.0,  3.9238