BOTTLE,20020809WHPSIObren
EXPOCODE,SECT_ID,STNNBR,CASTNO,SAMPNO,BTLNBR,BTLNBR_FLAG_W,DATE,TIME,LATITUDE,LONGITUDE,DEPTH,CTDPRS,CTDTMP,CTDSAL,CTDSAL_FLAG_W,SALNTY,SALNTY_FLAG_W,CTDOXY,CTDOXY_FLAG_W,OXYGEN,OXYGEN_FLAG_W,SILCAT,SILCAT_FLAG_W,NO2+NO3,NO2+NO3_FLAG_W,PHSPHT,PHSPHT_FLAG_W,CTDRAW,REVTMP,REVPRS,THETA
,,,,,,,,,,,,DBAR,ITS-90,PSS-78,,PSS-78,,UMOL/KG,,UMOL/KG,,UMOL/KG,,UMOL/KG,,UMOL/KG,,,DEG C,DBAR,ITS-90
     32MW094_1,  PRS2,     2,  7,     24,     31,2,19980617,1858, 22.7452,-157.9785, 4717,      4.6,  24.1847,  35.2920,2,  35.2977,2,    212.5,1,   -999.0,9,  -999.00,9,  -999.00,9,  -999.00,9,      4,-999.000,  -999.0, 24.1837
     32MW094_1,  PRS2,     2,  7,     23,     30,2,19980617,1858, 22.7452,-157.9785, 4717,      4.6,  24.1862,  35.2921,2,  35.3010,2,    212.4,1,   -999.0,9,  -999.00,9,  -999.00,9,  -999.00,9,      5,-999.000,  -999.0, 24.1853
     32MW094_1,  PRS2,     2,  7,     22,     22,2,19980617,1858, 22.7452,-157.9785, 4717,     24.2,  24.1607,  35.2893,2,  35.2886,2,    212.4,1,   -999.0,9,  -999.00,9,  -999.00,9,  -999.00,9,     24,-999.000,  -999.0, 24.1555
     32MW094_1,  PRS2,     2,  7,     21,     21,2,19980617,1858, 22.7452,-157.9785, 4717,     24.2,  24.1608,  35.2893,2,  35.2890,2,    212.4,1,   -999.0,9,  -999.00,9,  -999.00,9,  -999.00,9,     24,-999.000,  -999.0, 24.1557
     32MW094_1,  PRS2,     2,  7,     20,     20,2,19980617,1858, 22.7452,-157.9785, 4717,     45.1,  23.8662,  35.3158,2,  35.3157,2,    213.9,1,   -999.0,9,  -999.00,9,  -999.00,9,  -999.00,9,     45,-999.000,  -999.0, 23.8567
     32MW094_1,  PRS2,     2,  7,     19,     19,2,19980617,1858, 22.7452,-157.9785, 4717,     45.3,  23.8614,  35.3159,2,  35.3158,2,    214.1,1,   -999.0,9,  -999.00,9,  -999.00,9,  -999.00,9,     45,-999.000,  -999.0, 23.8519
     32MW094_1,  PRS2,     2,  7,     18,     18,2,19980617,1858, 22.7452,-157.9785, 4717,     74.9,  22.8669,  35.2793,2,  35.2795,2,    214.0,1,   -999.0,9,  -999.00,9,  -999.00,9,  -999.00,9,     76,-999.000,  -999.0, 22.8517
     32MW094_1,  PRS2,     2,  7,     17,     17,2,19980617,1858, 22.7452,-157.9785, 4717,     75.1,  22.8661,  35.2792,2,  35.2789,2,    213.9,1,   -999.0,9,  -999.00,9,  -999.00,9,  -999.00,9,     74,-999.000,  -999.0, 22.8508
     32MW094_1,  PRS2,     2,  7,     16,     16,2,19980617,1858, 22.7452,-157.9785, 4717,    100.3,  22.3208,  35.3222,2,  35.3067,3,    218.7,1,   -999.0,9,  -999.00,9,  -999.00,9,  -999.00,9,    100,-999.000,  -999.0, 22.3008
     32MW094_1,  PRS2,     2,  7,     15,     15,2,19980617,1858, 22.7452,-157.9785, 4717,    100.3,  22.3116,  35.3227,2,  35.3139,2,    218.8,1,   -999.0,9,  -999.00,9,  -999.00,9,  -999.00,9,    100,-999.000,  -999.0, 22.2915
     32MW094_1,  PRS2,     2,  7,     14,     14,2,19980617,1858, 22.7452,-157.9785, 4717,    125.0,  21.4977,  35.2297,2,  35.2323,2,    208.5,1,   -999.0,9,  -999.00,9,  -999.00,9,  -999.00,9,    125,-999.000,  -999.0, 21.4734
     32MW094_1,  PRS2,     2,  7,     13,     13,2,19980617,1858, 22.7452,-157.9785, 4717,    125.1,  21.4967,  35.2292,2,  35.2304,2,    208.2,1,   -999.0,9,  -999.00,9,  -999.00,9,  -999.00,9,    125,-999.000,  -999.0, 21.4723
     32MW094_1,  PRS2,     2,  7,     11,     11,2,19980617,1858, 22.7452,-157.9785, 4717,    149.9,  20.7528,  35.2022,2,  35.2059,2,    202.8,1,   -999.0,9,  -999.00,9,  -999.00,9,  -999.00,9,    150,-999.000,  -999.0, 20.7243
     32MW094_1,  PRS2,     2,  7,     12,     12,2,19980617,1858, 22.7452,-157.9785, 4717,    150.0,  20.7457,  35.2001,2,  35.2028,2,    202.9,1,   -999.0,9,  -999.00,9,  -999.00,9,  -999.00,9,    150,-999.000,  -999.0, 20.7172
     32MW094_1,  PRS2,     2,  7,     10,     32,2,19980617,1858, 22.7452,-157.9785, 4717,    175.7,  19.5621,  35.1015,2,  35.1019,2,    201.5,1,   -999.0,9,  -999.00,9,  -999.00,9,  -999.00,9,    175,-999.000,  -999.0, 19.5301
     32MW094_1,  PRS2,     2,  7,      9,      3,2,19980617,1858, 22.7452,-157.9785, 4717,    175.8,  19.5607,  35.1013,2,  35.1043,2,    201.9,1,   -999.0,9,  -999.00,9,  -999.00,9,  -999.00,9,    176,-999.000,  -999.0, 19.5287
     32MW094_1,  PRS2,     2,  7,      7,     28,2,19980617,1858, 22.7452,-157.9785, 4717,    250.9,  16.4223,  34.6898,2,  34.6921,2,    200.6,1,   -999.0,9,  -999.00,9,  -999.00,9,  -999.00,9,    252,-999.000,  -999.0, 16.3819
     32MW094_1,  PRS2,     2,  7,      8,     29,2,19980617,1858, 22.7452,-157.9785, 4717,    251.1,  16.4201,  34.6894,2,  34.6887,2,    200.2,1,   -999.0,9,  -999.00,9,  -999.00,9,  -999.00,9,    252,-999.000,  -999.0, 16.3797
     32MW094_1,  PRS2,     2,  7,      6,      7,2,19980617,1858, 22.7452,-157.9785, 4717,    460.8,   8.1404,  34.0565,2,  34.0948,4,    155.6,1,   -999.0,9,  -999.00,9,  -999.00,9,  -999.00,9,    461,-999.000,  -999.0,  8.0931
     32MW094_1,  PRS2,     2,  7,      5,     38,2,19980617,1858, 22.7452,-157.9785, 4717,    460.9,   8.1369,  34.0567,2,  34.0565,2,    155.3,1,   -999.0,9,  -999.00,9,  -999.00,9,  -999.00,9,    461,-999.000,  -999.0,  8.0896
     32MW094_1,  PRS2,     2,  7,      4,     36,2,19980617,1858, 22.7452,-157.9785, 4717,    750.4,   4.9987,  34.3576,2,  34.3600,2,     25.8,1,   -999.0,9,  -999.00,9,  -999.00,9,  -999.00,9,    750,-999.000,  -999.0,  4.9377
     32MW094_1,  PRS2,     2,  7,      3,     35,2,19980617,1858, 22.7452,-157.9785, 4717,    750.4,   4.9985,  34.3578,2,  34.3592,2,     25.8,1,   -999.0,9,  -999.00,9,  -999.00,9,  -999.00,9,    751,-999.000,  -999.0,  4.9375
     32MW094_1,  PRS2,     2,  7,      1,     33,3,19980617,1858, 22.7452,-157.9785, 4717,   1021.3,   4.0858,  34.5027,2,  34.5075,2,     40.1,1,   -999.0,9,  -999.00,9,  -999.00,9,  -999.00,9,   1021,-999.000,  -999.0,  4.0077
     32MW094_1,  PRS2,     2,  7,      2,     34,4,19980617,1858, 22.7452,-157.9785, 4717,   1021.4,   4.0862,  34.5025,2,  34.4888,4,     40.3,1,   -999.0,9,  -999.00,9,  -999.00,9,  -999.00,9,   1021,-999.000,  -999.0,  4.0081
     32MW094_1,  PRS2,     2,  8,     12,     12,2,19980617,2158, 22.7485,-157.9590, 4707,      4.9,  24.3013,  35.2948,2,  35.2966,2,    212.6,1,   -999.0,9,  -999.00,9,  -999.00,9,  -999.00,9,      5,-999.000,  -999.0, 24.3003
     32MW094_1,  PRS2,     2,  8,     11,     11,2,19980617,2158, 22.7485,-157.9590, 4707,     24.6,  24.1720,  35.2880,2,  35.2867,2,    212.2,1,   -999.0,9,  -999.00,9,  -999.00,9,  -999.00,9,     25,-999.000,  -999.0, 24.1668
     32MW094_1,  PRS2,     2,  8,     10,     32,2,19980617,2158, 22.7485,-157.9590, 4707,     45.0,  23.8554,  35.3156,2,  35.3156,2,    216.4,1,   -999.0,9,  -999.00,9,  -999.00,9,  -999.00,9,     45,-999.000,  -999.0, 23.8460
     32MW094_1,  PRS2,     2,  8,      9,      3,2,19980617,2158, 22.7485,-157.9590, 4707,     75.1,  23.1912,  35.2920,2,  35.3137,4,    217.4,1,   -999.0,9,  -999.00,9,  -999.00,9,  -999.00,9,     75,-999.000,  -999.0, 23.1758
     32MW094_1,  PRS2,     2,  8,      8,     29,2,19980617,2158, 22.7485,-157.9590, 4707,    109.8,  22.2395,  35.3247,2,  35.3232,2,    220.9,1,   -999.0,9,  -999.00,9,  -999.00,9,  -999.00,9,    110,-999.000,  -999.0, 22.2176
     32MW094_1,  PRS2,     2,  8,      7,     28,2,19980617,2158, 22.7485,-157.9590, 4707,    124.9,  21.7390,  35.2563,2,  35.2612,2,    212.0,1,   -999.0,9,  -999.00,9,  -999.00,9,  -999.00,9,    125,-999.000,  -999.0, 21.7145
     32MW094_1,  PRS2,     2,  8,      6,      7,2,19980617,2158, 22.7485,-157.9590, 4707,    149.1,  20.8859,  35.2250,2,  35.2278,2,    204.8,1,   -999.0,9,  -999.00,9,  -999.00,9,  -999.00,9,    149,-999.000,  -999.0, 20.8574
     32MW094_1,  PRS2,     2,  8,      5,     38,2,19980617,2158, 22.7485,-157.9590, 4707,    174.1,  19.6325,  35.1040,2,  35.1062,2,    201.7,1,   -999.0,9,  -999.00,9,  -999.00,9,  -999.00,9,    174,-999.000,  -999.0, 19.6007
     32MW094_1,  PRS2,     2,  8,      4,     36,2,19980617,2158, 22.7485,-157.9590, 4707,    253.2,  16.4113,  34.6879,2,  34.6881,2,    199.2,1,   -999.0,9,  -999.00,9,  -999.00,9,  -999.00,9,    254,-999.000,  -999.0, 16.3705
     32MW094_1,  PRS2,     2,  8,      3,     35,2,19980617,2158, 22.7485,-157.9590, 4707,    500.8,   7.3689,  34.0486,2,  34.0497,2,    134.7,1,   -999.0,9,  -999.00,9,  -999.00,9,  -999.00,9,    501,-999.000,  -999.0,  7.3203
     32MW094_1,  PRS2,     2,  8,      2,     34,2,19980617,2158, 22.7485,-157.9590, 4707,    748.1,   5.0788,  34.3435,2,  34.3425,2,     25.0,1,   -999.0,9,  -999.00,9,  -999.00,9,  -999.00,9,    748,-999.000,  -999.0,  5.0176
     32MW094_1,  PRS2,     2,  8,      1,     33,2,19980617,2158, 22.7485,-157.9590, 4707,   1021.7,   4.1688,  34.4972,2,  34.4961,2,     39.0,1,   -999.0,9,  -999.00,9,  -999.00,9,  -999.00,9,   1021,-999.000,  -999.0,  4.0900
     32MW094_1,  PRS2,     2,  9,     12,     12,2,19980618,0056, 22.7582,-157.9377, 4700,      4.8,  24.3259,  35.2945,2,  35.2935,2,    212.2,1,   -999.0,9,  -999.00,9,  -999.00,9,  -999.00,9,      5,-999.000,  -999.0, 24.3248
     32MW094_1,  PRS2,     2,  9,     11,     11,2,19980618,0056, 22.7582,-157.9377, 4700,     25.0,  24.2223,  35.2909,2,  35.2905,2,    212.4,1,   -999.0,9,  -999.00,9,  -999.00,9,  -999.00,9,     25,-999.000,  -999.0, 24.2170
     32MW094_1,  PRS2,     2,  9,     10,     32,2,19980618,0056, 22.7582,-157.9377, 4700,     45.4,  24.0308,  35.3021,2,  35.3010,2,    214.4,1,   -999.0,9,  -999.00,9,  -999.00,9,  -999.00,9,     46,-999.000,  -999.0, 24.0212
     32MW094_1,  PRS2,     2,  9,      9,      3,2,19980618,0056, 22.7582,-157.9377, 4700,     75.2,  23.0479,  35.3010,2,  35.3006,2,    218.0,1,   -999.0,9,  -999.00,9,  -999.00,9,  -999.00,9,     75,-999.000,  -999.0, 23.0325
     32MW094_1,  PRS2,     2,  9,      8,     29,2,19980618,0056, 22.7582,-157.9377, 4700,    109.7,  22.2356,  35.3245,2,  35.3239,2,    220.5,1,   -999.0,9,  -999.00,9,  -999.00,9,  -999.00,9,    110,-999.000,  -999.0, 22.2137
     32MW094_1,  PRS2,     2,  9,      7,     28,2,19980618,0056, 22.7582,-157.9377, 4700,    125.0,  21.7316,  35.2488,2,  35.2472,2,    210.1,1,   -999.0,9,  -999.00,9,  -999.00,9,  -999.00,9,    126,-999.000,  -999.0, 21.7071
     32MW094_1,  PRS2,     2,  9,      6,      7,2,19980618,0056, 22.7582,-157.9377, 4700,    150.1,  20.6779,  35.2022,2,  35.2027,2,    202.6,1,   -999.0,9,  -999.00,9,  -999.00,9,  -999.00,9,    150,-999.000,  -999.0, 20.6494
     32MW094_1,  PRS2,     2,  9,      5,     38,2,19980618,0056, 22.7582,-157.9377, 4700,    174.6,  19.6254,  35.0832,2,  35.0846,2,    197.8,1,   -999.0,9,  -999.00,9,  -999.00,9,  -999.00,9,    175,-999.000,  -999.0, 19.5935
     32MW094_1,  PRS2,     2,  9,      4,     36,2,19980618,0056, 22.7582,-157.9377, 4700,    251.5,  16.1893,  34.6555,2,  34.6632,2,    193.0,1,   -999.0,9,  -999.00,9,  -999.00,9,  -999.00,9,    252,-999.000,  -999.0, 16.1493
     32MW094_1,  PRS2,     2,  9,      3,     35,2,19980618,0056, 22.7582,-157.9377, 4700,    499.9,   7.3502,  34.0539,2,  34.0525,2,    141.7,1,   -999.0,9,  -999.00,9,  -999.00,9,  -999.00,9,    500,-999.000,  -999.0,  7.3017
     32MW094_1,  PRS2,     2,  9,      2,     34,2,19980618,0056, 22.7582,-157.9377, 4700,    748.8,   5.0911,  34.3533,2,  34.3564,2,     27.1,1,   -999.0,9,  -999.00,9,  -999.00,9,  -999.00,9,    748,-999.000,  -999.0,  5.0297
     32MW094_1,  PRS2,     2,  9,      1,     33,2,19980618,0056, 22.7582,-157.9377, 4700,   1021.2,   4.1999,  34.4950,2,  34.4939,2,     38.9,1,   -999.0,9,  -999.00,9,  -999.00,9,  -999.00,9,   1021,-999.000,  -999.0,  4.1209
     32MW094_1,  PRS2,     2, 10,     24,     31,2,19980618,0325, 22.7563,-157.9403, 4700,      1.6,  24.2373,  35.2862,2,  35.2846,2,    212.9,1,   -999.0,9,  -999.00,9,  -999.00,9,  -999.00,9,      1,-999.000,  -999.0, 24.2369
     32MW094_1,  PRS2,     2, 10,     23,     30,2,19980618,0325, 22.7563,-157.9403, 4700,      5.0,  24.2365,  35.2861,2,  35.2836,2,    212.9,1,   -999.0,9,  -999.00,9,  -999.00,9,  -999.00,9,      5,-999.000,  -999.0, 24.2355
     32MW094_1,  PRS2,     2, 10,     22,     22,2,19980618,0325, 22.7563,-157.9403, 4700,      9.7,  24.2398,  35.2855,2,  35.2835,2,    212.9,1,   -999.0,9,  -999.00,9,  -999.00,9,  -999.00,9,      9,-999.000,  -999.0, 24.2377
     32MW094_1,  PRS2,     2, 10,     21,     21,2,19980618,0325, 22.7563,-157.9403, 4700,     15.1,  24.2400,  35.2854,2,  35.2840,2,    212.9,1,   -999.0,9,  -999.00,9,  -999.00,9,  -999.00,9,     16,-999.000,  -999.0, 24.2368
     32MW094_1,  PRS2,     2, 10,     20,     20,2,19980618,0325, 22.7563,-157.9403, 4700,     19.9,  24.2119,  35.2858,2,  35.3158,4,    212.6,1,   -999.0,9,  -999.00,9,  -999.00,9,  -999.00,9,     20,-999.000,  -999.0, 24.2077
     32MW094_1,  PRS2,     2, 10,     19,     19,2,19980618,0325, 22.7563,-157.9403, 4700,     24.6,  24.1565,  35.2856,2,  35.3194,4,    212.8,1,   -999.0,9,  -999.00,9,  -999.00,9,  -999.00,9,     24,-999.000,  -999.0, 24.1513
     32MW094_1,  PRS2,     2, 10,     18,     18,2,19980618,0325, 22.7563,-157.9403, 4700,     29.6,  24.1387,  35.2854,2,  35.2845,2,    213.0,1,   -999.0,9,  -999.00,9,  -999.00,9,  -999.00,9,     30,-999.000,  -999.0, 24.1324
     32MW094_1,  PRS2,     2, 10,     17,     17,2,19980618,0325, 22.7563,-157.9403, 4700,     34.5,  24.1223,  35.2861,2,  35.2853,2,    213.5,1,   -999.0,9,  -999.00,9,  -999.00,9,  -999.00,9,     35,-999.000,  -999.0, 24.1150
     32MW094_1,  PRS2,     2, 10,     16,     16,2,19980618,0325, 22.7563,-157.9403, 4700,     40.4,  24.0354,  35.3094,2,  35.3089,2,    214.1,1,   -999.0,9,  -999.00,9,  -999.00,9,  -999.00,9,     40,-999.000,  -999.0, 24.0268
     32MW094_1,  PRS2,     2, 10,     15,     15,2,19980618,0325, 22.7563,-157.9403, 4700,     45.0,  23.7717,  35.3281,2,  35.3274,2,    216.0,1,   -999.0,9,  -999.00,9,  -999.00,9,  -999.00,9,     45,-999.000,  -999.0, 23.7622
     32MW094_1,  PRS2,     2, 10,     14,     14,2,19980618,0325, 22.7563,-157.9403, 4700,     50.1,  23.6635,  35.3212,2,  35.3196,2,    217.3,1,   -999.0,9,  -999.00,9,  -999.00,9,  -999.00,9,     50,-999.000,  -999.0, 23.6531
     32MW094_1,  PRS2,     2, 10,     13,     13,2,19980618,0325, 22.7563,-157.9403, 4700,     54.6,  23.4191,  35.3017,2,  35.3023,2,    217.4,1,   -999.0,9,  -999.00,9,  -999.00,9,  -999.00,9,     55,-999.000,  -999.0, 23.4078
     32MW094_1,  PRS2,     2, 10,     12,     12,2,19980618,0325, 22.7563,-157.9403, 4700,     65.1,  23.0823,  35.2833,2,  35.2827,2,    217.7,1,   -999.0,9,  -999.00,9,  -999.00,9,  -999.00,9,     65,-999.000,  -999.0, 23.0690
     32MW094_1,  PRS2,     2, 10,     11,     11,2,19980618,0325, 22.7563,-157.9403, 4700,     74.9,  23.0088,  35.2953,2,  35.2957,2,    218.7,1,   -999.0,9,  -999.00,9,  -999.00,9,  -999.00,9,     75,-999.000,  -999.0, 22.9935
     32MW094_1,  PRS2,     2, 10,     10,     32,2,19980618,0325, 22.7563,-157.9403, 4700,     85.1,  22.6352,  35.2952,2,  35.2957,2,    217.3,1,   -999.0,9,  -999.00,9,  -999.00,9,  -999.00,9,     85,-999.000,  -999.0, 22.6180
     32MW094_1,  PRS2,     2, 10,      9,      3,4,19980618,0325, 22.7563,-157.9403, 4700,     94.9,  22.5281,  35.2979,2,-999.0000,5,    218.8,1,   -999.0,9,  -999.00,9,  -999.00,9,  -999.00,9,     95,-999.000,  -999.0, 22.5089
     32MW094_1,  PRS2,     2, 10,      8,     29,2,19980618,0325, 22.7563,-157.9403, 4700,    105.5,  22.2194,  35.3209,2,  35.3206,2,    220.7,1,   -999.0,9,  -999.00,9,  -999.00,9,  -999.00,9,    106,-999.000,  -999.0, 22.1983
     32MW094_1,  PRS2,     2, 10,      7,     28,2,19980618,0325, 22.7563,-157.9403, 4700,    115.6,  21.8769,  35.2877,2,  35.2991,2,    217.9,1,   -999.0,9,  -999.00,9,  -999.00,9,  -999.00,9,    115,-999.000,  -999.0, 21.8541
     32MW094_1,  PRS2,     2, 10,      6,      7,2,19980618,0325, 22.7563,-157.9403, 4700,    125.1,  21.4203,  35.2275,2,  35.2295,2,    203.2,1,   -999.0,9,  -999.00,9,  -999.00,9,  -999.00,9,    126,-999.000,  -999.0, 21.3960
     32MW094_1,  PRS2,     2, 10,      5,     38,2,19980618,0325, 22.7563,-157.9403, 4700,    151.2,  20.4303,  35.1639,2,  35.1723,2,    197.8,1,   -999.0,9,  -999.00,9,  -999.00,9,  -999.00,9,    151,-999.000,  -999.0, 20.4019
     32MW094_1,  PRS2,     2, 10,      4,     36,2,19980618,0325, 22.7563,-157.9403, 4700,    176.0,  19.3112,  35.0640,2,  35.0629,2,    202.3,1,   -999.0,9,  -999.00,9,  -999.00,9,  -999.00,9,    176,-999.000,  -999.0, 19.2795
     32MW094_1,  PRS2,     2, 10,      3,     35,2,19980618,0325, 22.7563,-157.9403, 4700,    253.0,  15.3037,  34.5405,2,  34.5397,2,    194.9,1,   -999.0,9,  -999.00,9,  -999.00,9,  -999.00,9,    253,-999.000,  -999.0, 15.2649
     32MW094_1,  PRS2,     2, 10,      2,     34,2,19980618,0325, 22.7563,-157.9403, 4700,    749.3,   4.9970,  34.3582,2,  34.3601,2,     23.9,1,   -999.0,9,  -999.00,9,  -999.00,9,  -999.00,9,    750,-999.000,  -999.0,  4.9361
     32MW094_1,  PRS2,     2, 10,      1,     33,2,19980618,0325, 22.7563,-157.9403, 4700,   1021.7,   4.0939,  34.5015,2,  34.5026,2,     40.6,1,   -999.0,9,  -999.00,9,  -999.00,9,  -999.00,9,   1021,-999.000,  -999.0,  4.0157
     32MW094_1,  PRS2,     2, 11,     12,     12,2,19980618,0656, 22.7507,-158.0077, 4723,      5.4,  24.1882,  35.2802,2,  35.2788,2,    211.8,1,   -999.0,9,  -999.00,9,  -999.00,9,  -999.00,9,      6,-999.000,  -999.0, 24.1870
     32MW094_1,  PRS2,     2, 11,     11,     11,2,19980618,0656, 22.7507,-158.0077, 4723,     25.2,  24.1975,  35.2818,2,  35.2815,2,    211.8,1,   -999.0,9,  -999.00,9,  -999.00,9,  -999.00,9,     25,-999.000,  -999.0, 24.1922
     32MW094_1,  PRS2,     2, 11,     10,     32,2,19980618,0656, 22.7507,-158.0077, 4723,     25.2,  24.1972,  35.2818,2,  35.2805,2,    211.9,1,   -999.0,9,  -999.00,9,  -999.00,9,  -999.00,9,     25,-999.000,  -999.0, 24.1919
     32MW094_1,  PRS2,     2, 11,      9,      3,2,19980618,0656, 22.7507,-158.0077, 4723,     45.2,  24.1271,  35.2989,2,  35.2976,2,    213.4,1,   -999.0,9,  -999.00,9,  -999.00,9,  -999.00,9,     45,-999.000,  -999.0, 24.1176
     32MW094_1,  PRS2,     2, 11,      8,     29,2,19980618,0656, 22.7507,-158.0077, 4723,     75.1,  23.2067,  35.3101,2,  35.3430,4,    217.6,1,   -999.0,9,  -999.00,9,  -999.00,9,  -999.00,9,     75,-999.000,  -999.0, 23.1913
     32MW094_1,  PRS2,     2, 11,      7,     28,2,19980618,0656, 22.7507,-158.0077, 4723,     99.6,  22.5649,  35.3220,2,  35.3204,2,    221.5,1,   -999.0,9,  -999.00,9,  -999.00,9,  -999.00,9,    100,-999.000,  -999.0, 22.5449
     32MW094_1,  PRS2,     2, 11,      6,      7,2,19980618,0656, 22.7507,-158.0077, 4723,    126.2,  21.7518,  35.2616,2,  35.2801,3,    214.5,1,   -999.0,9,  -999.00,9,  -999.00,9,  -999.00,9,    126,-999.000,  -999.0, 21.7271
     32MW094_1,  PRS2,     2, 11,      5,     38,2,19980618,0656, 22.7507,-158.0077, 4723,    133.0,  21.3665,  35.2160,2,  35.2081,2,    209.7,1,   -999.0,9,  -999.00,9,  -999.00,9,  -999.00,9,    133,-999.000,  -999.0, 21.3407
     32MW094_1,  PRS2,     2, 11,      4,     36,2,19980618,0656, 22.7507,-158.0077, 4723,    152.0,  20.4761,  35.1648,2,  35.1681,2,    199.2,1,   -999.0,9,  -999.00,9,  -999.00,9,  -999.00,9,    153,-999.000,  -999.0, 20.4475
     32MW094_1,  PRS2,     2, 11,      3,     35,3,19980618,0656, 22.7507,-158.0077, 4723,    175.7,  19.6060,  35.0819,2,  35.0843,2,    197.6,1,   -999.0,9,  -999.00,9,  -999.00,9,  -999.00,9,    176,-999.000,  -999.0, 19.5739
     32MW094_1,  PRS2,     2, 11,      2,     34,2,19980618,0656, 22.7507,-158.0077, 4723,    470.2,   7.8641,  34.0526,2,  34.0513,2,    142.1,1,   -999.0,9,  -999.00,9,  -999.00,9,  -999.00,9,    470,-999.000,  -999.0,  7.8169
     32MW094_1,  PRS2,     2, 11,      1,     33,2,19980618,0656, 22.7507,-158.0077, 4723,   1020.6,   4.1029,  34.4961,2,  34.4956,2,     40.5,1,   -999.0,9,  -999.00,9,  -999.00,9,  -999.00,9,   1021,-999.000,  -999.0,  4.0247