BOTTLE,20020809WHPSIObren
EXPOCODE,SECT_ID,STNNBR,CASTNO,SAMPNO,BTLNBR,BTLNBR_FLAG_W,DATE,TIME,LATITUDE,LONGITUDE,DEPTH,CTDPRS,CTDTMP,CTDSAL,CTDSAL_FLAG_W,SALNTY,SALNTY_FLAG_W,CTDOXY,CTDOXY_FLAG_W,OXYGEN,OXYGEN_FLAG_W,SILCAT,SILCAT_FLAG_W,NO2+NO3,NO2+NO3_FLAG_W,PHSPHT,PHSPHT_FLAG_W,CTDRAW,REVTMP,REVPRS,THETA
,,,,,,,,,,,,DBAR,ITS-90,PSS-78,,PSS-78,,UMOL/KG,,UMOL/KG,,UMOL/KG,,UMOL/KG,,UMOL/KG,,,DEG C,DBAR,ITS-90
     32MW094_1,  PRS2,     2, 12,     13,     13,2,19980618,0956, 22.7505,-157.9988, 4721,      5.5,  24.1975,  35.2949,2,  35.2938,2,    210.2,1,   -999.0,9,  -999.00,9,  -999.00,9,  -999.00,9,      6,-999.000,  -999.0, 24.1964
     32MW094_1,  PRS2,     2, 12,     12,     12,2,19980618,0956, 22.7505,-157.9988, 4721,     25.5,  24.2082,  35.2937,2,  35.2944,2,    210.3,1,   -999.0,9,  -999.00,9,  -999.00,9,  -999.00,9,     25,-999.000,  -999.0, 24.2028
     32MW094_1,  PRS2,     2, 12,     11,     11,2,19980618,0956, 22.7505,-157.9988, 4721,     50.0,  24.1607,  35.2970,2,  35.2972,2,    213.0,1,   -999.0,9,  -999.00,9,  -999.00,9,  -999.00,9,     50,-999.000,  -999.0, 24.1501
     32MW094_1,  PRS2,     2, 12,     10,     32,2,19980618,0956, 22.7505,-157.9988, 4721,     74.8,  23.1705,  35.3114,2,  35.3095,2,    217.5,1,   -999.0,9,  -999.00,9,  -999.00,9,  -999.00,9,     75,-999.000,  -999.0, 23.1551
     32MW094_1,  PRS2,     2, 12,      9,      3,4,19980618,0956, 22.7505,-157.9988, 4721,    100.9,  22.3709,  35.2764,2,-999.0000,5,    222.4,1,   -999.0,9,  -999.00,9,  -999.00,9,  -999.00,9,    101,-999.000,  -999.0, 22.3507
     32MW094_1,  PRS2,     2, 12,      8,     29,2,19980618,0956, 22.7505,-157.9988, 4721,    125.0,  21.5886,  35.1916,2,  35.2181,3,    208.9,1,   -999.0,9,  -999.00,9,  -999.00,9,  -999.00,9,    125,-999.000,  -999.0, 21.5642
     32MW094_1,  PRS2,     2, 12,      7,     28,2,19980618,0956, 22.7505,-157.9988, 4721,    150.0,  20.5212,  35.0955,2,  35.0976,2,    201.1,1,   -999.0,9,  -999.00,9,  -999.00,9,  -999.00,9,    151,-999.000,  -999.0, 20.4929
     32MW094_1,  PRS2,     2, 12,      6,      7,2,19980618,0956, 22.7505,-157.9988, 4721,    174.5,  20.0996,  35.1296,2,  35.1325,2,    199.6,1,   -999.0,9,  -999.00,9,  -999.00,9,  -999.00,9,    174,-999.000,  -999.0, 20.0672
     32MW094_1,  PRS2,     2, 12,      5,     38,2,19980618,0956, 22.7505,-157.9988, 4721,    200.7,  18.5593,  35.0058,2,  35.0215,2,    210.7,1,   -999.0,9,  -999.00,9,  -999.00,9,  -999.00,9,    201,-999.000,  -999.0, 18.5241
     32MW094_1,  PRS2,     2, 12,      4,     36,2,19980618,0956, 22.7505,-157.9988, 4721,    225.8,  17.0587,  34.7900,2,  34.7883,2,    203.0,1,   -999.0,9,  -999.00,9,  -999.00,9,  -999.00,9,    227,-999.000,  -999.0, 17.0214
     32MW094_1,  PRS2,     2, 12,      3,     35,2,19980618,0956, 22.7505,-157.9988, 4721,    250.2,  15.2091,  34.5393,2,  34.5424,2,    193.7,1,   -999.0,9,  -999.00,9,  -999.00,9,  -999.00,9,    250,-999.000,  -999.0, 15.1709
     32MW094_1,  PRS2,     2, 12,      2,     34,2,19980618,0956, 22.7505,-157.9988, 4721,    750.4,   5.1274,  34.3261,2,  34.3224,2,     23.7,1,   -999.0,9,  -999.00,9,  -999.00,9,  -999.00,9,    751,-999.000,  -999.0,  5.0657
     32MW094_1,  PRS2,     2, 12,      1,     33,2,19980618,0956, 22.7505,-157.9988, 4721,   1021.1,   4.2011,  34.4932,2,  34.4954,2,     39.1,1,   -999.0,9,  -999.00,9,  -999.00,9,  -999.00,9,   1022,-999.000,  -999.0,  4.1221
     32MW094_1,  PRS2,     2, 13,     11,     11,2,19980618,1259, 22.7492,-157.9832, 4716,      5.0,  24.1278,  35.2841,2,  35.2837,2,    212.1,1,   -999.0,9,  -999.00,9,  -999.00,9,  -999.00,9,      5,-999.000,  -999.0, 24.1268
     32MW094_1,  PRS2,     2, 13,     10,     32,2,19980618,1259, 22.7492,-157.9832, 4716,     25.1,  24.1346,  35.2837,2,  35.2839,2,    212.1,1,   -999.0,9,  -999.00,9,  -999.00,9,  -999.00,9,     25,-999.000,  -999.0, 24.1293
     32MW094_1,  PRS2,     2, 13,      9,      3,4,19980618,1259, 22.7492,-157.9832, 4716,     25.1,  24.1349,  35.2837,2,-999.0000,5,    212.1,1,   -999.0,9,  -999.00,9,  -999.00,9,  -999.00,9,     25,-999.000,  -999.0, 24.1296
     32MW094_1,  PRS2,     2, 13,      8,     29,2,19980618,1259, 22.7492,-157.9832, 4716,     45.4,  24.1230,  35.2904,2,  35.2909,2,    213.2,1,   -999.0,9,  -999.00,9,  -999.00,9,  -999.00,9,     45,-999.000,  -999.0, 24.1134
     32MW094_1,  PRS2,     2, 13,      7,     28,2,19980618,1259, 22.7492,-157.9832, 4716,     75.1,  23.1867,  35.3260,2,  35.3251,2,    217.3,1,   -999.0,9,  -999.00,9,  -999.00,9,  -999.00,9,     75,-999.000,  -999.0, 23.1713
     32MW094_1,  PRS2,     2, 13,      6,      7,2,19980618,1259, 22.7492,-157.9832, 4716,    101.4,  22.3896,  35.2754,2,  35.2774,2,    213.6,1,   -999.0,9,  -999.00,9,  -999.00,9,  -999.00,9,    101,-999.000,  -999.0, 22.3693
     32MW094_1,  PRS2,     2, 13,      5,     38,2,19980618,1259, 22.7492,-157.9832, 4716,    125.5,  21.6043,  35.1946,2,  35.1992,2,    206.9,1,   -999.0,9,  -999.00,9,  -999.00,9,  -999.00,9,    125,-999.000,  -999.0, 21.5798
     32MW094_1,  PRS2,     2, 13,      4,     36,2,19980618,1259, 22.7492,-157.9832, 4716,    149.8,  20.5805,  35.1153,2,  35.1653,4,    204.3,1,   -999.0,9,  -999.00,9,  -999.00,9,  -999.00,9,    150,-999.000,  -999.0, 20.5522
     32MW094_1,  PRS2,     2, 13,      3,     35,2,19980618,1259, 22.7492,-157.9832, 4716,    176.3,  20.1145,  35.1307,2,  35.1324,2,    198.9,1,   -999.0,9,  -999.00,9,  -999.00,9,  -999.00,9,    176,-999.000,  -999.0, 20.0818
     32MW094_1,  PRS2,     2, 13,      2,     34,2,19980618,1259, 22.7492,-157.9832, 4716,    459.6,   7.8235,  34.0526,2,  34.0516,2,    144.4,1,   -999.0,9,  -999.00,9,  -999.00,9,  -999.00,9,    459,-999.000,  -999.0,  7.7775
     32MW094_1,  PRS2,     2, 13,      1,     33,2,19980618,1259, 22.7492,-157.9832, 4716,   1020.8,   4.1981,  34.4939,2,  34.4932,2,     38.9,1,   -999.0,9,  -999.00,9,  -999.00,9,  -999.00,9,   1022,-999.000,  -999.0,  4.1192
     32MW094_1,  PRS2,     8,  1,     12,     12,2,19980619,0523, 22.4153,-158.0813, 4833,      4.9,  24.1632,  35.2422,2,  35.2420,2,    213.0,2,    212.8,2,  -999.00,9,  -999.00,9,  -999.00,9,      5,-999.000,  -999.0, 24.1621
     32MW094_1,  PRS2,     8,  1,     11,     11,2,19980619,0523, 22.4153,-158.0813, 4833,     26.6,  24.1560,  35.2433,2,  35.2430,2,    212.8,2,   -999.0,5,  -999.00,9,  -999.00,9,  -999.00,9,     27,-999.000,  -999.0, 24.1504
     32MW094_1,  PRS2,     8,  1,     10,     32,2,19980619,0523, 22.4153,-158.0813, 4833,     43.9,  24.0553,  35.2551,2,  35.2567,2,    214.0,2,   -999.0,5,  -999.00,9,  -999.00,9,  -999.00,9,     44,-999.000,  -999.0, 24.0460
     32MW094_1,  PRS2,     8,  1,      9,      3,2,19980619,0523, 22.4153,-158.0813, 4833,     75.7,  23.2722,  35.2285,2,  35.2303,2,    217.9,2,   -999.0,5,  -999.00,9,  -999.00,9,  -999.00,9,     75,-999.000,  -999.0, 23.2566
     32MW094_1,  PRS2,     8,  1,      8,     29,2,19980619,0523, 22.4153,-158.0813, 4833,    100.8,  22.7606,  35.2403,2,  35.2406,2,    213.5,2,    213.3,2,  -999.00,9,  -999.00,9,  -999.00,9,    101,-999.000,  -999.0, 22.7402
     32MW094_1,  PRS2,     8,  1,      7,     28,2,19980619,0523, 22.4153,-158.0813, 4833,    125.9,  22.1644,  35.2268,2,  35.2235,2,    207.5,2,   -999.0,5,  -999.00,9,  -999.00,9,  -999.00,9,    126,-999.000,  -999.0, 22.1394
     32MW094_1,  PRS2,     8,  1,      6,      7,2,19980619,0523, 22.4153,-158.0813, 4833,    150.4,  21.2950,  35.1531,2,  35.1588,2,    195.4,2,   -999.0,5,  -999.00,9,  -999.00,9,  -999.00,9,    150,-999.000,  -999.0, 21.2659
     32MW094_1,  PRS2,     8,  1,      5,     38,2,19980619,0523, 22.4153,-158.0813, 4833,    176.4,  20.4468,  35.1142,2,  35.1171,2,    198.4,2,    199.0,2,  -999.00,9,  -999.00,9,  -999.00,9,    176,-999.000,  -999.0, 20.4136
     32MW094_1,  PRS2,     8,  1,      4,     36,2,19980619,0523, 22.4153,-158.0813, 4833,    250.3,  16.2778,  34.6388,2,  34.6383,2,    191.1,2,    190.7,2,  -999.00,9,  -999.00,9,  -999.00,9,    250,-999.000,  -999.0, 16.2377
     32MW094_1,  PRS2,     8,  1,      3,     35,2,19980619,0523, 22.4153,-158.0813, 4833,    486.4,   7.2154,  34.0501,2,  34.0496,2,    122.9,2,    123.0,2,  -999.00,9,  -999.00,9,  -999.00,9,    486,-999.000,  -999.0,  7.1688
     32MW094_1,  PRS2,     8,  1,      2,     34,2,19980619,0523, 22.4153,-158.0813, 4833,    752.6,   5.0513,  34.3817,2,  34.3814,2,     26.4,2,     26.9,2,  -999.00,9,  -999.00,9,  -999.00,9,    753,-999.000,  -999.0,  4.9898
     32MW094_1,  PRS2,     8,  1,      1,     33,2,19980619,0523, 22.4153,-158.0813, 4833,   1020.3,   4.3013,  34.4887,2,  34.4875,2,     37.1,2,     36.7,2,  -999.00,9,  -999.00,9,  -999.00,9,   1020,-999.000,  -999.0,  4.2216