BOTTLE,20111109CCHDOSIOCBG
EXPOCODE,SECT_ID,STNNBR,CASTNO,SAMPNO,BTLNBR,BTLNBR_FLAG_W,DATE,TIME,LATITUDE,LONGITUDE,DEPTH,CTDPRS,CTDPRS_FLAG_W,CTDTMP,CTDTMP_FLAG_W,SBE35,SBE35_FLAG_W,CTDSAL,CTDSAL_FLAG_W,SALNTY,SALNTY_FLAG_W,CTDOXY,CTDOXY_FLAG_W,OXYGEN,OXYGEN_FLAG_W,SILCAT,SILCAT_FLAG_W,SILUNC,NITRAT,NITRAT_FLAG_W,NRAUNC,NITRIT,NITRIT_FLAG_W,NRIUNC,PHSPHT,PHSPHT_FLAG_W,PHPUNC,CFC-11,CFC-11_FLAG_W,CFC-12,CFC-12_FLAG_W,CFC113,CFC113_FLAG_W,TCARBN,TCARBN_FLAG_W,ALKALI,ALKALI_FLAG_W,PH_TOT,PH_TMP,PH_TOT_FLAG_W,DELC13,DELC13_FLAG_W,C13ERR,DELC14,DELC14_FLAG_W,C14ERR,THETA,SIG0
,,,,,,,,,,,METERS,DBAR,,ITS-90,,ITS-90,,PSS-78,,PSS-78,,UMOL/KG,,UMOL/KG,,UMOL/KG,,UMOL/KG,UMOL/KG,,UMOL/KG,UMOL/KG,,UMOL/KG,UMOL/KG,,UMOL/KG,PMOL/KG,,PMOL/KG,,PMOL/KG,,UMOL/KG,,UMOL/KG,,,DEG C,,/MILLE,,/MILLE,/MILLE,,/MILLE,DEG C,KG/M^3
  49NZ20090521,   P21,   192,  1,      0,    -99,9,20090531,1530,-17.4980,-167.6743, 5435,   -999.0,9,-999.0000,9,-999.00000,9,-999.0000,9,  35.0171,2,  -999.00,9,  -999.00,9,  -999.00,9,  -999.00,  -999.00,9,  -999.00,  -999.00,9,  -999.00, -999.000,9, -999.000, -999.000,9, -999.000,9, -999.000,9,   -999.0,9,   -999.0,9,-999.0000,-999,9,  -999.00,9,  -999.00,   -999.0,9,   -999.0,-999.0000,-999.0000
  49NZ20090521,   P21,   192,  1,     36, X12043,2,20090531,1530,-17.4980,-167.6743, 5435,     11.1,2,  28.0291,2,  28.02922,2,  35.1720,2,  35.1827,2,   197.85,2,   197.80,2,     0.64,2,     0.12,     0.06,2,     0.03,     0.01,2,     0.01,    0.078,2,    0.025,    1.428,2,    0.911,2, -999.000,5,   -999.0,9,   -999.0,9,-999.0000,-999,9,  -999.00,9,  -999.00,   -999.0,9,   -999.0,  28.0265,  22.5153
  49NZ20090521,   P21,   192,  1,     35, X12042,2,20090531,1530,-17.4980,-167.6743, 5435,     50.1,2,  28.0987,2,  28.09888,2,  35.2165,2,  35.2160,2,   197.53,2,   197.69,2,     0.64,2,     0.12,     0.04,2,     0.03,     0.01,2,     0.01,    0.070,2,    0.027,    1.419,2,    0.892,2, -999.000,5,   -999.0,9,   -999.0,9,-999.0000,-999,9,  -999.00,9,  -999.00,   -999.0,9,   -999.0,  28.0869,  22.5290
  49NZ20090521,   P21,   192,  1,     34, X12016,2,20090531,1530,-17.4980,-167.6743, 5435,    101.8,2,  25.5081,2,  25.50490,2,  35.5765,2,  35.5734,2,   203.95,2,   203.69,2,     0.69,2,     0.12,     0.05,2,     0.03,     0.01,2,     0.01,    0.135,2,    0.019,    1.672,6,    1.050,6, -999.000,5,   -999.0,9,   -999.0,9,-999.0000,-999,9,  -999.00,9,  -999.00,   -999.0,9,   -999.0,  25.4857,  23.6281
  49NZ20090521,   P21,   192,  1,     33, X12015,2,20090531,1530,-17.4980,-167.6743, 5435,    150.4,2,  23.2944,2,  23.30070,2,  35.7168,2,  35.7144,2,   187.26,2,   187.25,2,     0.67,2,     0.12,     0.61,2,     0.03,     0.04,2,     0.01,    0.216,2,    0.016,    1.828,2,    1.115,2, -999.000,5,   -999.0,9,   -999.0,9,-999.0000,-999,9,  -999.00,9,  -999.00,   -999.0,9,   -999.0,  23.2633,  24.4009
  49NZ20090521,   P21,   192,  1,     32, X12050,2,20090531,1530,-17.4980,-167.6743, 5435,    200.7,2,  22.0306,2,  22.02960,2,  35.8636,2,  35.8519,2,   166.74,2,   167.59,2,     0.79,2,     0.12,     3.00,2,     0.04,     0.02,2,     0.01,    0.410,2,    0.013,    1.960,2,    1.175,2,    0.079,2,   -999.0,9,   -999.0,9,-999.0000,-999,9,  -999.00,9,  -999.00,   -999.0,9,   -999.0,  21.9907,  24.8768
  49NZ20090521,   P21,   192,  1,     31, X12014,2,20090531,1530,-17.4980,-167.6743, 5435,    249.3,2,  19.7486,2,  19.77255,2,  35.6427,2,  35.6478,6,   175.34,2,   174.45,2,     1.02,2,     0.12,     3.99,2,     0.04,     0.02,2,     0.01,    0.475,2,    0.013,    2.170,2,    1.253,2,    0.027,2,   -999.0,9,   -999.0,9,-999.0000,-999,9,  -999.00,9,  -999.00,   -999.0,9,   -999.0,  19.7027,  25.3304
  49NZ20090521,   P21,   192,  1,     30, X12012,2,20090531,1530,-17.4980,-167.6743, 5435,    301.6,2,  16.9624,2,  16.96558,2,  35.3106,2,  35.3112,2,   177.15,2,   176.77,2,     1.99,2,     0.12,     6.64,2,     0.05,     0.01,2,     0.01,    0.659,2,    0.013,    2.306,2,    1.274,2,    0.018,2,   -999.0,9,   -999.0,9,-999.0000,-999,9,  -999.00,9,  -999.00,   -999.0,9,   -999.0,  16.9125,  25.7736
  49NZ20090521,   P21,   192,  1,     29, X12041,2,20090531,1530,-17.4980,-167.6743, 5435,    401.6,2,  12.4643,2,  12.45964,2,  34.8243,2,  34.8260,2,   158.82,2,   158.69,2,     6.90,2,     0.13,    15.84,2,     0.08,     0.02,2,     0.01,    1.283,2,    0.014,    1.870,6,    0.972,6,    0.018,6,   -999.0,9,   -999.0,9,-999.0000,-999,9,  -999.00,9,  -999.00,   -999.0,9,   -999.0,  12.4102,  26.3735
  49NZ20090521,   P21,   192,  1,     28, X12040,2,20090531,1530,-17.4980,-167.6743, 5435,    501.5,2,   8.7823,2,   8.78205,2,  34.5199,2,  34.5200,6,   164.54,2,   164.29,2,    12.37,2,     0.15,    23.71,2,     0.10,     0.01,2,     0.01,    1.759,2,    0.015,    1.383,2,    0.690,2,    0.022,2,   -999.0,9,   -999.0,9,-999.0000,-999,9,  -999.00,9,  -999.00,   -999.0,9,   -999.0,   8.7280,  26.7853
  49NZ20090521,   P21,   192,  1,     27, X12009,2,20090531,1530,-17.4980,-167.6743, 5435,    601.3,2,   6.5234,2,   6.52349,2,  34.3908,2,  34.3911,2,   182.58,2,   181.93,2,    18.30,2,     0.16,    28.05,2,     0.11,     0.01,2,     0.01,    1.992,2,    0.015,    0.858,6,    0.423,6,    0.014,6,   -999.0,9,   -999.0,9,-999.0000,-999,9,  -999.00,9,  -999.00,   -999.0,9,   -999.0,   6.4682,  27.0107
  49NZ20090521,   P21,   192,  1,     26, X12008,2,20090531,1530,-17.4980,-167.6743, 5435,    700.6,2,   5.5120,2,   5.51194,2,  34.3664,2,  34.3662,2,   183.72,2,   183.23,2,    25.62,2,     0.18,    30.28,2,     0.12,     0.01,2,     0.01,    2.129,2,    0.015,    0.464,2,    0.232,2,    0.000,2,   -999.0,9,   -999.0,9,-999.0000,-999,9,  -999.00,9,  -999.00,   -999.0,9,   -999.0,   5.4526,  27.1196
  49NZ20090521,   P21,   192,  1,     25, X12007,2,20090531,1530,-17.4980,-167.6743, 5435,    800.8,2,   4.9164,2,   4.91615,2,  34.3948,2,  34.3949,2,   169.00,2,   168.82,2,    37.13,2,     0.20,    32.43,2,     0.12,     0.01,2,     0.01,    2.280,2,    0.016,    0.185,2,    0.096,2,    0.000,2,   -999.0,9,   -999.0,9,-999.0000,-999,9,  -999.00,9,  -999.00,   -999.0,9,   -999.0,   4.8515,  27.2124
  49NZ20090521,   P21,   192,  1,     24, X12035,2,20090531,1530,-17.4980,-167.6743, 5435,    901.7,2,   4.3161,2,   4.31645,2,  34.4349,2,  34.4349,2,   159.01,2,   158.94,2,    50.81,2,     0.23,    33.98,2,     0.13,     0.01,2,     0.01,    2.385,2,    0.016,    0.065,2,    0.031,2,    0.000,2,   -999.0,9,   -999.0,9,-999.0000,-999,9,  -999.00,9,  -999.00,   -999.0,9,   -999.0,   4.2464,  27.3108
  49NZ20090521,   P21,   192,  1,     23, X12038,2,20090531,1530,-17.4980,-167.6743, 5435,   1001.8,2,   3.6880,2,   3.68843,2,  34.4733,2,  34.4731,6,   155.92,2,   155.83,2,    63.78,2,     0.26,    34.79,2,     0.13,     0.01,2,     0.01,    2.447,2,    0.016,    0.021,2,    0.011,2,    0.000,2,   -999.0,9,   -999.0,9,-999.0000,-999,9,  -999.00,9,  -999.00,   -999.0,9,   -999.0,   3.6147,  27.4062
  49NZ20090521,   P21,   192,  1,     22, X12034,2,20090531,1530,-17.4980,-167.6743, 5435,   1200.4,2,   3.2251,2,   3.22532,2,  34.5384,2,  34.5379,2,   145.27,2,   145.19,2,    82.25,2,     0.30,    35.74,2,     0.13,     0.01,2,     0.01,    2.527,2,    0.016,    0.005,2,    0.002,2,    0.000,2,   -999.0,9,   -999.0,9,-999.0000,-999,9,  -999.00,9,  -999.00,   -999.0,9,   -999.0,   3.1396,  27.5037
  49NZ20090521,   P21,   192,  1,     21, X12033,2,20090531,1530,-17.4980,-167.6743, 5435,   1401.0,2,   2.8344,2,   2.83485,2,  34.5724,2,  34.5721,2,   144.76,2,   144.52,2,    93.35,2,     0.32,    36.05,2,     0.13,     0.01,2,     0.01,    2.546,2,    0.016,    0.000,2,    0.000,2,    0.000,2,   -999.0,9,   -999.0,9,-999.0000,-999,9,  -999.00,9,  -999.00,   -999.0,9,   -999.0,   2.7365,  27.5675
  49NZ20090521,   P21,   192,  1,     20, X12032,2,20090531,1530,-17.4980,-167.6743, 5435,   1601.1,2,   2.5891,2,   2.58932,2,  34.5965,2,  34.5964,2,   144.51,2,   144.39,2,   101.46,2,     0.34,    36.09,2,     0.13,     0.01,2,     0.01,    2.545,2,    0.016,    0.000,2,    0.000,2,    0.000,2,   -999.0,9,   -999.0,9,-999.0000,-999,9,  -999.00,9,  -999.00,   -999.0,9,   -999.0,   2.4777,  27.6092
  49NZ20090521,   P21,   192,  1,     19, X12046,2,20090531,1530,-17.4980,-167.6743, 5435,   1800.5,2,   2.3765,2,   2.37662,2,  34.6153,2,  34.6154,2,   145.37,2,   145.25,2,   108.18,2,     0.36,    36.07,2,     0.13,     0.01,2,     0.01,    2.547,2,    0.016,    0.000,2,    0.000,2,    0.000,2,   -999.0,9,   -999.0,9,-999.0000,-999,9,  -999.00,9,  -999.00,   -999.0,9,   -999.0,   2.2514,  27.6432
  49NZ20090521,   P21,   192,  1,     18, X12006,2,20090531,1530,-17.4980,-167.6743, 5435,   2002.3,2,   2.2174,2,   2.21731,2,  34.6294,2,  34.6292,2,   146.12,2,   146.04,2,   113.00,2,     0.37,    36.18,2,     0.13,     0.01,2,     0.01,    2.550,2,    0.016,    0.000,2,    0.000,2,    0.000,2,   -999.0,9,   -999.0,9,-999.0000,-999,9,  -999.00,9,  -999.00,   -999.0,9,   -999.0,   2.0775,  27.6686
  49NZ20090521,   P21,   192,  1,     17, X12047,2,20090531,1530,-17.4980,-167.6743, 5435,   2201.0,2,   2.0721,2,   2.07216,2,  34.6422,2,  34.6424,2,   146.68,2,   146.60,2,   118.02,2,     0.38,    36.16,2,     0.13,     0.01,2,     0.01,    2.556,2,    0.016,    0.000,2,    0.000,2,    0.000,2,   -999.0,9,   -999.0,9,-999.0000,-999,9,  -999.00,9,  -999.00,   -999.0,9,   -999.0,   1.9173,  27.6915
  49NZ20090521,   P21,   192,  1,     16, X12004,2,20090531,1530,-17.4980,-167.6743, 5435,   2400.8,2,   1.9402,2,   1.94005,2,  34.6529,2,  34.6531,2,   149.06,2,   148.98,2,   121.12,2,     0.39,    36.02,2,     0.13,     0.01,2,     0.01,    2.539,2,    0.016,    0.000,2,    0.000,2,    0.000,2,   -999.0,9,   -999.0,9,-999.0000,-999,9,  -999.00,9,  -999.00,   -999.0,9,   -999.0,   1.7700,  27.7115
  49NZ20090521,   P21,   192,  1,     15, X12003,2,20090531,1530,-17.4980,-167.6743, 5435,   2600.6,2,   1.8741,2,   1.87412,2,  34.6591,2,  34.6587,6,   150.55,2,   150.37,2,   122.98,2,     0.39,    35.93,2,     0.13,     0.01,2,     0.01,    2.534,2,    0.016,    0.000,2,    0.000,2,    0.000,2,   -999.0,9,   -999.0,9,-999.0000,-999,9,  -999.00,9,  -999.00,   -999.0,9,   -999.0,   1.6870,  27.7228
  49NZ20090521,   P21,   192,  1,     14, X12002,2,20090531,1530,-17.4980,-167.6743, 5435,   2799.7,2,   1.7880,2,   1.78799,2,  34.6662,2,  34.6658,2,   152.80,2,   152.53,2,   125.18,2,     0.39,    35.80,2,     0.13,     0.01,2,     0.01,    2.523,2,    0.016,    0.001,2,    0.000,2,    0.000,2,   -999.0,9,   -999.0,9,-999.0000,-999,9,  -999.00,9,  -999.00,   -999.0,9,   -999.0,   1.5841,  27.7361
  49NZ20090521,   P21,   192,  1,     13, X12001,2,20090531,1530,-17.4980,-167.6743, 5435,   3000.8,2,   1.7129,2,   1.71289,2,  34.6723,2,  34.6720,2,   155.87,2,   155.60,2,   126.05,2,     0.40,    35.66,2,     0.13,     0.01,2,     0.01,    2.512,2,    0.016,    0.000,2,    0.000,2,    0.000,2,   -999.0,9,   -999.0,9,-999.0000,-999,9,  -999.00,9,  -999.00,   -999.0,9,   -999.0,   1.4914,  27.7478
  49NZ20090521,   P21,   192,  1,     12, X12030,2,20090531,1530,-17.4980,-167.6743, 5435,   3251.2,2,   1.6364,2,   1.63645,2,  34.6785,2,  34.6780,2,   161.23,2,   160.93,2,   125.47,2,     0.40,    35.22,2,     0.13,     0.02,2,     0.01,    2.470,2,    0.016,    0.000,2,    0.000,2,    0.000,2,   -999.0,9,   -999.0,9,-999.0000,-999,9,  -999.00,9,  -999.00,   -999.0,9,   -999.0,   1.3920,  27.7600
  49NZ20090521,   P21,   192,  1,     11, X12044,2,20090531,1530,-17.4980,-167.6743, 5435,   3501.2,2,   1.5683,2,   1.56834,2,  34.6839,2,  34.6834,2,   164.22,2,   163.98,2,   126.82,2,     0.40,    35.08,2,     0.13,     0.02,2,     0.01,    2.461,2,    0.016,    0.000,2,    0.000,2,    0.000,2,   -999.0,9,   -999.0,9,-999.0000,-999,9,  -999.00,9,  -999.00,   -999.0,9,   -999.0,   1.3003,  27.7708
  49NZ20090521,   P21,   192,  1,     10, X12048,2,20090531,1530,-17.4980,-167.6743, 5435,   3753.1,2,   1.4805,2,   1.48040,2,  34.6911,2,  34.6906,2,   171.87,2,   171.48,2,   124.84,2,     0.39,    34.59,2,     0.13,     0.01,2,     0.01,    2.423,2,    0.016,    0.002,2,    0.000,2,    0.000,2,   -999.0,9,   -999.0,9,-999.0000,-999,9,  -999.00,9,  -999.00,   -999.0,9,   -999.0,   1.1885,  27.7843
  49NZ20090521,   P21,   192,  1,      9, X12027,2,20090531,1530,-17.4980,-167.6743, 5435,   4000.1,2,   1.3664,2,   1.36662,2,  34.7001,2,  34.7000,6,   183.92,2,   183.76,2,   120.05,2,     0.38,    33.60,2,     0.13,     0.01,2,     0.01,    2.350,2,    0.016,    0.001,2,    0.000,2,    0.000,2,   -999.0,9,   -999.0,9,-999.0000,-999,9,  -999.00,9,  -999.00,   -999.0,9,   -999.0,   1.0512,  27.8010
  49NZ20090521,   P21,   192,  1,      8, X12026,2,20090531,1530,-17.4980,-167.6743, 5435,   4251.5,2,   1.2525,2,   1.25272,2,  34.7070,2,  34.7071,2,   194.40,2,   194.11,2,   116.60,2,     0.38,    32.70,2,     0.12,     0.01,2,     0.01,    2.286,2,    0.016,    0.007,2,    0.002,2,    0.000,2,   -999.0,9,   -999.0,9,-999.0000,-999,9,  -999.00,9,  -999.00,   -999.0,9,   -999.0,   0.9130,  27.8157
  49NZ20090521,   P21,   192,  1,      7, X12025,2,20090531,1530,-17.4980,-167.6743, 5435,   4502.1,2,   1.1548,2,   1.15501,2,  34.7094,2,  34.7091,2,   200.97,2,   200.58,2,   115.87,2,     0.37,    32.51,2,     0.12,     0.01,2,     0.01,    2.265,2,    0.016,    0.006,2,    0.004,2,    0.000,2,   -999.0,9,   -999.0,9,-999.0000,-999,9,  -999.00,9,  -999.00,   -999.0,9,   -999.0,   0.7902,  27.8255
  49NZ20090521,   P21,   192,  1,      6, X12024,2,20090531,1530,-17.4980,-167.6743, 5435,   4750.8,2,   1.1025,2,   1.10255,2,  34.7101,2,  34.7095,2,   204.77,2,   204.38,2,   116.17,2,     0.37,    32.28,2,     0.12,     0.01,2,     0.01,    2.254,2,    0.016,    0.022,2,    0.008,2,    0.000,2,   -999.0,9,   -999.0,9,-999.0000,-999,9,  -999.00,9,  -999.00,   -999.0,9,   -999.0,   0.7110,  27.8311
  49NZ20090521,   P21,   192,  1,      5, X12028,2,20090531,1530,-17.4980,-167.6743, 5435,   5001.7,2,   1.0791,2,   1.07908,2,  34.7087,2,  34.7086,2,   205.92,2,   205.56,2,   117.16,2,     0.38,    32.32,2,     0.12,     0.01,2,     0.01,    2.253,2,    0.016,    0.026,2,    0.011,2,    0.000,2,   -999.0,9,   -999.0,9,-999.0000,-999,9,  -999.00,9,  -999.00,   -999.0,9,   -999.0,   0.6588,  27.8332
  49NZ20090521,   P21,   192,  1,      4, X12022,2,20090531,1530,-17.4980,-167.6743, 5435,   5250.4,2,   1.0888,2,   1.08877,2,  34.7081,2,  34.7083,2,   206.23,2,   206.00,2,   117.53,2,     0.38,    32.20,2,     0.12,     0.01,2,     0.01,    2.254,2,    0.016,    0.035,2,    0.014,2,    0.000,2,   -999.0,9,   -999.0,9,-999.0000,-999,9,  -999.00,9,  -999.00,   -999.0,9,   -999.0,   0.6381,  27.8340
  49NZ20090521,   P21,   192,  1,      3, X12021,9,20090531,1530,-17.4980,-167.6743, 5435,   1401.1,2,   2.8347,2,   2.83470,2,  34.5724,2,-999.0000,9,   144.79,2,  -999.00,9,  -999.00,9,  -999.00,  -999.00,9,  -999.00,  -999.00,9,  -999.00, -999.000,9, -999.000, -999.000,9, -999.000,9, -999.000,9,   -999.0,9,   -999.0,9,-999.0000,-999,9,  -999.00,9,  -999.00,   -999.0,9,   -999.0,   2.7368,  27.5674
  49NZ20090521,   P21,   192,  1,      2, X12020,2,20090531,1530,-17.4980,-167.6743, 5435,   3251.2,2,   1.6357,2,   1.63588,2,  34.6786,2,  34.6783,2,   161.22,2,   160.98,2,   125.89,2,     0.40,    35.27,2,     0.13,     0.01,2,     0.01,    2.478,2,    0.016, -999.000,9, -999.000,9, -999.000,9,   -999.0,9,   -999.0,9,-999.0000,-999,9,  -999.00,9,  -999.00,   -999.0,9,   -999.0,   1.3914,  27.7601
  49NZ20090521,   P21,   192,  1,      1, X12019,2,20090531,1530,-17.4980,-167.6743, 5435,   5524.8,2,   1.1169,2,   1.11689,2,  34.7078,2,  34.7081,6,   206.44,2,   206.14,2,   117.86,2,     0.38,    32.34,2,     0.12,     0.01,2,     0.01,    2.261,2,    0.016,    0.036,2,    0.017,2,    0.000,2,   -999.0,9,   -999.0,9,-999.0000,-999,9,  -999.00,9,  -999.00,   -999.0,9,   -999.0,   0.6311,  27.8341