BOTTLE,20111109CCHDOSIOCBG
EXPOCODE,SECT_ID,STNNBR,CASTNO,SAMPNO,BTLNBR,BTLNBR_FLAG_W,DATE,TIME,LATITUDE,LONGITUDE,DEPTH,CTDPRS,CTDPRS_FLAG_W,CTDTMP,CTDTMP_FLAG_W,SBE35,SBE35_FLAG_W,CTDSAL,CTDSAL_FLAG_W,SALNTY,SALNTY_FLAG_W,CTDOXY,CTDOXY_FLAG_W,OXYGEN,OXYGEN_FLAG_W,SILCAT,SILCAT_FLAG_W,SILUNC,NITRAT,NITRAT_FLAG_W,NRAUNC,NITRIT,NITRIT_FLAG_W,NRIUNC,PHSPHT,PHSPHT_FLAG_W,PHPUNC,CFC-11,CFC-11_FLAG_W,CFC-12,CFC-12_FLAG_W,CFC113,CFC113_FLAG_W,TCARBN,TCARBN_FLAG_W,ALKALI,ALKALI_FLAG_W,PH_TOT,PH_TMP,PH_TOT_FLAG_W,DELC13,DELC13_FLAG_W,C13ERR,DELC14,DELC14_FLAG_W,C14ERR,THETA,SIG0
,,,,,,,,,,,METERS,DBAR,,ITS-90,,ITS-90,,PSS-78,,PSS-78,,UMOL/KG,,UMOL/KG,,UMOL/KG,,UMOL/KG,UMOL/KG,,UMOL/KG,UMOL/KG,,UMOL/KG,UMOL/KG,,UMOL/KG,PMOL/KG,,PMOL/KG,,PMOL/KG,,UMOL/KG,,UMOL/KG,,,DEG C,,/MILLE,,/MILLE,/MILLE,,/MILLE,DEG C,KG/M^3
  49NZ20090521,   P21,   187,  1,      0,   -999,9,20090530,0736,-17.4920,-164.3338, 5590,   -999.0,9,-999.0000,9,-999.00000,9,-999.0000,9,  35.5296,2,  -999.00,9,  -999.00,9,  -999.00,9,  -999.00,  -999.00,9,  -999.00,  -999.00,9,  -999.00, -999.000,9, -999.000, -999.000,9, -999.000,9, -999.000,9,   -999.0,9,   -999.0,9,-999.0000,-999,9,  -999.00,9,  -999.00,   -999.0,9,   -999.0,-999.0000,-999.0000
  49NZ20090521,   P21,   187,  1,     36, X12043,2,20090530,0736,-17.4920,-164.3338, 5590,      9.7,2,  28.0622,2,  28.06160,2,  35.5022,2,  35.5008,2,   197.25,2,   196.51,2,     0.60,2,     0.12,     0.10,2,     0.03,     0.01,2,     0.01,    0.116,2,    0.020,    1.427,2,    0.895,2, -999.000,5,   1970.6,2,   2334.2,2,   8.1370,  25,6,  -999.00,9,  -999.00,   -999.0,9,   -999.0,  28.0599,  22.7528
  49NZ20090521,   P21,   187,  1,     35, X12042,2,20090530,0736,-17.4920,-164.3338, 5590,     50.4,2,  28.0720,2,  28.07062,2,  35.5042,2,  35.5313,2,   196.88,2,   196.84,2,     0.58,2,     0.12,     0.09,2,     0.03,     0.01,2,     0.01,    0.121,2,    0.020,    1.439,2,    0.918,2, -999.000,5,   1973.3,6,   2338.9,2,   8.1362,  25,2,  -999.00,9,  -999.00,   -999.0,9,   -999.0,  28.0601,  22.7542
  49NZ20090521,   P21,   187,  1,     34, X12016,2,20090530,0736,-17.4920,-164.3338, 5590,    100.1,2,  25.2145,2,  25.20694,2,  35.9223,2,  35.9144,2,   202.38,2,   203.07,2,     0.54,2,     0.12,     0.08,2,     0.03,     0.01,2,     0.01,    0.166,2,    0.017,    1.668,6,    1.047,6, -999.000,5,   2016.3,2,   2362.1,6,   8.0986,  25,2,  -999.00,9,  -999.00,   -999.0,9,   -999.0,  25.1926,  23.9795
  49NZ20090521,   P21,   187,  1,     33, X12015,2,20090530,0736,-17.4920,-164.3338, 5590,    148.7,2,  23.7134,2,  23.71185,2,  36.0629,2,  36.0634,2,   174.13,2,   173.50,2,     0.60,2,     0.12,     1.09,2,     0.04,     0.14,2,     0.01,    0.336,2,    0.014,    1.783,2,    1.101,2,    0.136,2,   2067.3,2,   2371.8,2,   8.0287,  25,6,  -999.00,9,  -999.00,   -999.0,9,   -999.0,  23.6822,  24.5405
  49NZ20090521,   P21,   187,  1,     32, X12050,2,20090530,0736,-17.4920,-164.3338, 5590,    200.8,2,  21.8779,2,  21.88082,2,  35.9272,2,  35.9253,2,   169.49,2,   168.96,2,     0.70,2,     0.12,     3.13,2,     0.04,     0.02,2,     0.01,    0.440,2,    0.013,    1.947,2,    1.177,2,    0.060,2,   2085.0,2,   2365.5,2,   7.9876,  25,2,  -999.00,9,  -999.00,   -999.0,9,   -999.0,  21.8381,  24.9680
  49NZ20090521,   P21,   187,  1,     31, X12014,2,20090530,0736,-17.4920,-164.3338, 5590,    250.1,2,  19.7645,2,  19.76377,2,  35.6330,2,  35.6335,6,   180.06,2,   179.64,2,     0.83,2,     0.12,     3.44,2,     0.04,     0.01,2,     0.01,    0.413,2,    0.013,    2.098,2,    1.238,2,    0.032,2,   2079.0,2,   2341.0,2,   7.9693,  25,2,  -999.00,9,  -999.00,   -999.0,9,   -999.0,  19.7184,  25.3189
  49NZ20090521,   P21,   187,  1,     30, X12012,2,20090530,0736,-17.4920,-164.3338, 5590,    330.4,2,  15.8479,2,  15.86724,2,  35.1929,2,  35.1982,2,   184.81,2,   185.21,2,     1.86,2,     0.12,     7.01,2,     0.05,     0.01,2,     0.01,    0.652,2,    0.013,    2.331,2,    1.305,2,    0.024,2,   2096.8,2,   2314.6,2,   7.8961,  25,2,  -999.00,9,  -999.00,   -999.0,9,   -999.0,  15.7957,  25.9427
  49NZ20090521,   P21,   187,  1,     29, X12041,2,20090530,0736,-17.4920,-164.3338, 5590,    431.6,2,  11.0829,2,  11.07205,2,  34.6915,2,  34.6925,2,   185.39,2,   184.75,2,     5.39,2,     0.13,    16.02,2,     0.08,     0.01,2,     0.01,    1.234,2,    0.013,    2.226,6,    1.155,6,    0.035,6,   2129.3,2,   2290.0,2,   7.7756,  25,2,  -999.00,9,  -999.00,   -999.0,9,   -999.0,  11.0290,  26.5301
  49NZ20090521,   P21,   187,  1,     28, X12040,2,20090530,0736,-17.4920,-164.3338, 5590,    532.1,2,   7.6360,2,   7.63537,2,  34.4250,2,  34.4245,6,   203.11,2,   203.26,2,     9.27,2,     0.14,    23.20,2,     0.10,     0.01,2,     0.01,    1.663,2,    0.014,    2.037,2,    1.017,2,    0.053,2,   2153.6,2,   2282.5,2,   7.7030,  25,2,  -999.00,9,  -999.00,   -999.0,9,   -999.0,   7.5829,  26.8835
  49NZ20090521,   P21,   187,  1,     27, X12009,2,20090530,0736,-17.4920,-164.3338, 5590,    631.4,2,   6.1960,2,   6.19739,2,  34.3390,2,  34.3386,2,   217.90,2,   217.44,2,    12.40,2,     0.15,    25.98,2,     0.11,     0.01,2,     0.01,    1.805,2,    0.015,    1.521,6,    0.752,6,    0.032,6,   2159.0,2,   2283.1,2,   7.6946,  25,2,  -999.00,9,  -999.00,   -999.0,9,   -999.0,   6.1395,  27.0126
  49NZ20090521,   P21,   187,  1,     26, X12008,2,20090530,0736,-17.4920,-164.3338, 5590,    731.1,2,   5.4865,2,   5.48719,2,  34.3684,2,  34.3682,2,   178.71,2,   178.50,2,    26.58,2,     0.18,    30.75,2,     0.12,     0.01,2,     0.01,    2.148,2,    0.015,    0.498,2,    0.255,2,    0.009,2,   2193.8,6,   2295.8,2,   7.6277,  25,2,  -999.00,9,  -999.00,   -999.0,9,   -999.0,   5.4245,  27.1246
  49NZ20090521,   P21,   187,  1,     25, X12007,2,20090530,0736,-17.4920,-164.3338, 5590,    830.7,2,   4.9560,2,   4.95618,2,  34.4132,2,  34.4128,2,   159.95,2,   159.83,2,    40.06,2,     0.21,    33.06,2,     0.13,     0.01,2,     0.01,    2.320,2,    0.016,    0.159,2,    0.086,2,    0.000,2,   2220.3,2,   2309.8,6,   7.5973,  25,2,  -999.00,9,  -999.00,   -999.0,9,   -999.0,   4.8882,  27.2228
  49NZ20090521,   P21,   187,  1,     24, X12035,2,20090530,0736,-17.4920,-164.3338, 5590,    929.8,2,   4.3914,2,   4.39130,2,  34.4431,2,  34.4432,2,   155.49,2,   155.08,2,    51.42,2,     0.23,    34.09,2,     0.13,     0.01,2,     0.01,    2.386,2,    0.016,    0.054,2,    0.029,2,    0.000,2,   2235.2,2,   2321.1,2,   7.5879,  25,2,  -999.00,9,  -999.00,   -999.0,9,   -999.0,   4.3188,  27.3096
  49NZ20090521,   P21,   187,  1,     23, X12038,2,20090530,0736,-17.4920,-164.3338, 5590,   1071.0,2,   3.6318,2,   3.63059,2,  34.4921,2,  34.4916,6,   151.67,2,   151.37,2,    68.13,2,     0.27,    34.99,2,     0.13,     0.00,2,     0.01,    2.459,2,    0.016,    0.013,2,    0.009,2,    0.000,2,   2255.2,2,   2339.5,2,   7.5788,  25,2,  -999.00,9,  -999.00,   -999.0,9,   -999.0,   3.5533,  27.4272
  49NZ20090521,   P21,   187,  1,     22, X12034,2,20090530,0736,-17.4920,-164.3338, 5590,   1270.5,2,   3.0868,2,   3.08682,2,  34.5444,2,  34.5442,2,   146.90,2,   146.62,2,    84.25,2,     0.30,    35.73,2,     0.13,     0.01,2,     0.01,    2.508,2,    0.016,    0.007,2,    0.006,2,    0.000,2,   2274.4,2,   2357.9,2,   7.5726,  25,2,  -999.00,9,  -999.00,   -999.0,9,   -999.0,   2.9969,  27.5217
  49NZ20090521,   P21,   187,  1,     21, X12033,2,20090530,0736,-17.4920,-164.3338, 5590,   1470.4,2,   2.7507,2,   2.75076,2,  34.5769,2,  34.5768,2,   146.09,2,   145.91,2,    94.73,2,     0.33,    35.79,2,     0.13,     0.01,2,     0.01,    2.526,2,    0.016,    0.002,2,    0.001,2,    0.000,2,   2286.3,2,   2370.1,2,   7.5723,  25,2,  -999.00,9,  -999.00,   -999.0,9,   -999.0,   2.6481,  27.5788
  49NZ20090521,   P21,   187,  1,     20, X12032,2,20090530,0736,-17.4920,-164.3338, 5590,   1670.3,2,   2.5183,2,   2.51843,2,  34.6013,2,  34.6009,2,   145.43,2,   145.19,2,   102.78,2,     0.35,    36.06,2,     0.13,     0.01,2,     0.01,    2.533,2,    0.016,    0.002,2,    0.001,2,    0.000,2,   2294.2,2,   2379.0,2,   7.5736,  25,6,  -999.00,9,  -999.00,   -999.0,9,   -999.0,   2.4021,  27.6194
  49NZ20090521,   P21,   187,  1,     19, X12046,2,20090530,0736,-17.4920,-164.3338, 5590,   1870.7,2,   2.3574,2,   2.35744,2,  34.6167,2,  34.6165,2,   145.62,2,   145.21,2,   108.32,2,     0.36,    35.99,2,     0.13,     0.00,2,     0.01,    2.534,2,    0.016,    0.000,2,    0.000,2,    0.000,2,   2299.9,2,   2385.8,2,   7.5742,  25,2,  -999.00,9,  -999.00,   -999.0,9,   -999.0,   2.2266,  27.6464
  49NZ20090521,   P21,   187,  1,     18, X12006,2,20090530,0736,-17.4920,-164.3338, 5590,   2069.0,2,   2.1797,2,   2.17972,2,  34.6322,2,  34.6323,2,   146.98,2,   146.65,2,   113.54,2,     0.37,    36.01,2,     0.13,     0.01,2,     0.01,    2.534,2,    0.016,    0.000,2,    0.000,2,    0.000,2,   2306.8,3,   2393.5,2,   7.5770,  25,2,  -999.00,9,  -999.00,   -999.0,9,   -999.0,   2.0346,  27.6743
  49NZ20090521,   P21,   187,  1,     17, X12047,2,20090530,0736,-17.4920,-164.3338, 5590,   2271.0,2,   2.0255,2,   2.02558,2,  34.6454,2,  34.6450,2,   148.92,2,   148.72,2,   117.64,2,     0.38,    35.94,2,     0.13,     0.00,2,     0.01,    2.522,2,    0.016,    0.000,2,    0.000,2,    0.000,2,   2307.8,2,   2396.1,2,   7.5804,  25,2,  -999.00,9,  -999.00,   -999.0,9,   -999.0,   1.8653,  27.6982
  49NZ20090521,   P21,   187,  1,     16, X12004,2,20090530,0736,-17.4920,-164.3338, 5590,   2470.5,2,   1.9098,2,   1.90985,2,  34.6550,2,  34.6552,6,   151.40,2,   151.23,2,   120.51,2,     0.38,    35.69,2,     0.13,     0.01,2,     0.01,    2.516,2,    0.016,    0.000,2,    0.000,2,    0.000,2,   2310.5,6,   2397.2,2,   7.5841,  25,2,  -999.00,9,  -999.00,   -999.0,9,   -999.0,   1.7339,  27.7159
  49NZ20090521,   P21,   187,  1,     15, X12003,2,20090530,0736,-17.4920,-164.3338, 5590,   2671.4,2,   1.8224,2,   1.82239,2,  34.6628,2,  34.6625,2,   153.06,2,   152.88,2,   122.86,2,     0.39,    35.80,2,     0.13,     0.01,2,     0.01,    2.504,2,    0.016,    0.000,2,    0.000,2,    0.000,2,   2312.8,2,   2400.8,6,   7.5860,  25,2,  -999.00,9,  -999.00,   -999.0,9,   -999.0,   1.6297,  27.7300
  49NZ20090521,   P21,   187,  1,     14, X12002,2,20090530,0736,-17.4920,-164.3338, 5590,   2870.1,2,   1.7489,2,   1.74887,2,  34.6690,2,  34.6683,2,   155.87,2,   155.55,2,   124.17,2,     0.39,    35.64,2,     0.13,     0.01,2,     0.01,    2.492,2,    0.016,    0.000,2,    0.000,2,    0.000,2,   2311.1,2,   2402.3,2,   7.5893,  25,6,  -999.00,9,  -999.00,   -999.0,9,   -999.0,   1.5391,  27.7416
  49NZ20090521,   P21,   187,  1,     13, X12001,2,20090530,0736,-17.4920,-164.3338, 5590,   3082.1,2,   1.6725,2,   1.67257,2,  34.6752,2,  34.6747,2,   159.88,2,   159.55,2,   124.67,2,     0.39,    35.26,2,     0.13,     0.01,2,     0.01,    2.471,2,    0.016,    0.001,2,    0.001,2,    0.000,2,   2306.7,3,   2401.0,2,   7.5936,  25,2,  -999.00,9,  -999.00,   -999.0,9,   -999.0,   1.4440,  27.7536
  49NZ20090521,   P21,   187,  1,     12, X12030,2,20090530,0736,-17.4920,-164.3338, 5590,   3329.5,2,   1.6009,2,   1.60088,2,  34.6810,2,  34.6805,2,   162.00,2,   161.64,2,   126.42,2,     0.40,    35.06,2,     0.13,     0.01,2,     0.01,    2.454,2,    0.016,    0.001,2,    0.000,2,    0.000,2,   2308.3,2,   2401.9,2,   7.5956,  25,2,  -999.00,9,  -999.00,   -999.0,9,   -999.0,   1.3495,  27.7650
  49NZ20090521,   P21,   187,  1,     11, X12044,2,20090530,0736,-17.4920,-164.3338, 5590,   3580.8,2,   1.5223,2,   1.52249,2,  34.6873,2,  34.6868,2,   168.16,2,   167.97,2,   125.34,2,     0.39,    34.65,2,     0.13,     0.01,2,     0.01,    2.428,2,    0.016,    0.003,2,    0.001,2,    0.000,2,   2301.5,2,   2397.5,2,   7.6002,  25,2,  -999.00,9,  -999.00,   -999.0,9,   -999.0,   1.2473,  27.7772
  49NZ20090521,   P21,   187,  1,     10, X12048,2,20090530,0736,-17.4920,-164.3338, 5590,   3829.5,2,   1.4192,2,   1.41924,2,  34.6957,2,  34.6955,2,   178.33,2,   177.47,2,   121.78,2,     0.39,    33.93,2,     0.13,     0.01,2,     0.01,    2.365,2,    0.016,    0.004,2,    0.001,2,    0.000,2,   2293.4,2,   2389.7,2,   7.6070,  25,2,  -999.00,9,  -999.00,   -999.0,9,   -999.0,   1.1208,  27.7927
  49NZ20090521,   P21,   187,  1,      9, X12027,2,20090530,0736,-17.4920,-164.3338, 5590,   4082.2,2,   1.2988,2,   1.29889,2,  34.7041,2,  34.7040,6,   189.85,2,   189.49,2,   117.97,2,     0.38,    33.00,2,     0.13,     0.01,2,     0.01,    2.309,2,    0.016,    0.005,2,    0.003,2,    0.000,2,   2279.4,2,   2379.2,2,   7.6134,  25,2,  -999.00,9,  -999.00,   -999.0,9,   -999.0,   0.9766,  27.8091
  49NZ20090521,   P21,   187,  1,      8, X12026,2,20090530,0736,-17.4920,-164.3338, 5590,   4329.8,2,   1.2454,2,   1.24554,2,  34.7070,2,  34.7060,2,   194.91,2,   194.48,2,   116.63,2,     0.38,    32.82,2,     0.12,     0.01,2,     0.01,    2.280,2,    0.016,    0.007,2,    0.003,2,    0.000,2,   2274.6,6,   2374.5,2,   7.6156,  25,2,  -999.00,9,  -999.00,   -999.0,9,   -999.0,   0.8974,  27.8166
  49NZ20090521,   P21,   187,  1,      7, X12025,2,20090530,0736,-17.4920,-164.3338, 5590,   4580.8,2,   1.1655,2,   1.16542,2,  34.7084,2,  34.7084,2,   200.28,2,   199.91,2,   116.45,2,     0.38,    32.47,2,     0.12,     0.01,2,     0.01,    2.262,2,    0.016,    0.008,2,    0.004,2,    0.000,2,   2268.1,2,   2370.9,6,   7.6186,  25,2,  -999.00,9,  -999.00,   -999.0,9,   -999.0,   0.7916,  27.8246
  49NZ20090521,   P21,   187,  1,      6, X12024,2,20090530,0736,-17.4920,-164.3338, 5590,   4830.0,2,   1.1252,2,   1.12529,2,  34.7089,2,  34.7089,2,   203.22,2,   202.77,2,   116.72,2,     0.38,    32.30,2,     0.12,     0.01,2,     0.01,    2.256,2,    0.016,    0.009,2,    0.004,2,    0.000,2,   2265.6,2,   2368.5,2,   7.6198,  25,6,  -999.00,9,  -999.00,   -999.0,9,   -999.0,   0.7237,  27.8293
  49NZ20090521,   P21,   187,  1,      5, X12028,2,20090530,0736,-17.4920,-164.3338, 5590,   5080.1,2,   1.1132,2,   1.11331,2,  34.7087,2,  34.7085,2,   204.86,2,   203.79,2,   116.96,2,     0.38,    32.31,2,     0.12,     0.01,2,     0.01,    2.238,2,    0.016,    0.011,2,    0.006,2,    0.000,2,   2263.5,2,   2367.3,2,   7.6203,  25,2,  -999.00,9,  -999.00,   -999.0,9,   -999.0,   0.6823,  27.8318
  49NZ20090521,   P21,   187,  1,      4, X12022,2,20090530,0736,-17.4920,-164.3338, 5590,   5329.9,2,   1.1270,2,   1.12697,2,  34.7084,2,  34.7087,2,   205.41,2,   204.51,2,   117.14,2,     0.38,    32.32,2,     0.12,     0.01,2,     0.01,    2.239,2,    0.016,    0.012,2,    0.007,2,    0.000,2,   2264.3,2,   2367.2,2,   7.6204,  25,2,  -999.00,9,  -999.00,   -999.0,9,   -999.0,   0.6651,  27.8326
  49NZ20090521,   P21,   187,  1,      3, X12021,2,20090530,0736,-17.4920,-164.3338, 5590,   5579.8,2,   1.1523,2,   1.15230,2,  34.7082,2,  34.7083,2,   205.57,2,   204.62,2,   117.19,2,     0.38,    32.23,2,     0.12,     0.01,2,     0.01,    2.243,2,    0.016,    0.016,2,    0.009,2,    0.000,2,   2264.5,2,   2366.6,2,   7.6203,  25,2,  -999.00,9,  -999.00,   -999.0,9,   -999.0,   0.6582,  27.8328
  49NZ20090521,   P21,   187,  1,      2, X12020,9,20090530,0736,-17.4920,-164.3338, 5590,   1470.4,2,   2.7501,2,   2.74993,2,  34.5770,2,-999.0000,9,   146.11,2,  -999.00,9,  -999.00,9,  -999.00,  -999.00,9,  -999.00,  -999.00,9,  -999.00, -999.000,9, -999.000, -999.000,9, -999.000,9, -999.000,9,   -999.0,9,   -999.0,9,-999.0000,-999,9,  -999.00,9,  -999.00,   -999.0,9,   -999.0,   2.6475,  27.5790
  49NZ20090521,   P21,   187,  1,      1, X12019,2,20090530,0736,-17.4920,-164.3338, 5590,   5680.8,2,   1.1657,2,   1.16573,2,  34.7082,2,  34.7085,6,   205.55,2,   205.04,2,   117.34,2,     0.38,    32.28,2,     0.12,     0.01,2,     0.01,    2.250,2,    0.016,    0.016,2,    0.007,2,    0.000,2,   2263.1,2,   2366.9,2,   7.6203,  25,2,  -999.00,9,  -999.00,   -999.0,9,   -999.0,   0.6582,  27.8328