BOTTLE,20111109CCHDOSIOCBG
EXPOCODE,SECT_ID,STNNBR,CASTNO,SAMPNO,BTLNBR,BTLNBR_FLAG_W,DATE,TIME,LATITUDE,LONGITUDE,DEPTH,CTDPRS,CTDPRS_FLAG_W,CTDTMP,CTDTMP_FLAG_W,SBE35,SBE35_FLAG_W,CTDSAL,CTDSAL_FLAG_W,SALNTY,SALNTY_FLAG_W,CTDOXY,CTDOXY_FLAG_W,OXYGEN,OXYGEN_FLAG_W,SILCAT,SILCAT_FLAG_W,SILUNC,NITRAT,NITRAT_FLAG_W,NRAUNC,NITRIT,NITRIT_FLAG_W,NRIUNC,PHSPHT,PHSPHT_FLAG_W,PHPUNC,CFC-11,CFC-11_FLAG_W,CFC-12,CFC-12_FLAG_W,CFC113,CFC113_FLAG_W,TCARBN,TCARBN_FLAG_W,ALKALI,ALKALI_FLAG_W,PH_TOT,PH_TMP,PH_TOT_FLAG_W,DELC13,DELC13_FLAG_W,C13ERR,DELC14,DELC14_FLAG_W,C14ERR,THETA,SIG0
,,,,,,,,,,,METERS,DBAR,,ITS-90,,ITS-90,,PSS-78,,PSS-78,,UMOL/KG,,UMOL/KG,,UMOL/KG,,UMOL/KG,UMOL/KG,,UMOL/KG,UMOL/KG,,UMOL/KG,UMOL/KG,,UMOL/KG,PMOL/KG,,PMOL/KG,,PMOL/KG,,UMOL/KG,,UMOL/KG,,,DEG C,,/MILLE,,/MILLE,/MILLE,,/MILLE,DEG C,KG/M^3
  49NZ20090521,   P21,   226,  1,      0,   -999,9,20090607,0725,-17.8297, 175.6665, 1981,   -999.0,9,-999.0000,9,-999.00000,9,-999.0000,9,  34.7781,2,  -999.00,9,  -999.00,9,  -999.00,9,  -999.00,  -999.00,9,  -999.00,  -999.00,9,  -999.00, -999.000,9, -999.000, -999.000,9, -999.000,9, -999.000,9,   -999.0,9,   -999.0,9,-999.0000,-999,9,  -999.00,9,  -999.00,   -999.0,9,   -999.0,-999.0000,-999.0000
  49NZ20090521,   P21,   226,  1,     36, X12043,2,20090607,0725,-17.8297, 175.6665, 1981,     10.7,2,  26.4355,2,  26.43545,2,  34.7627,2,  34.7615,2,   201.53,2,   201.77,2,     0.55,2,     0.12,     0.07,2,     0.03,     0.01,2,     0.01,    0.068,2,    0.028,    1.517,2,    0.965,2, -999.000,5,   -999.0,9,   -999.0,9,-999.0000,-999,9,  -999.00,9,  -999.00,   -999.0,9,   -999.0,  26.4331,  22.7187
  49NZ20090521,   P21,   226,  1,     35, X12042,2,20090607,0725,-17.8297, 175.6665, 1981,     50.4,2,  26.2897,2,  26.29308,2,  34.7564,2,  34.7577,2,   201.74,2,   201.74,2,     0.52,2,     0.12,     0.06,2,     0.03,     0.01,2,     0.01,    0.066,2,    0.028,    1.507,2,    0.941,2, -999.000,5,   -999.0,9,   -999.0,9,-999.0000,-999,9,  -999.00,9,  -999.00,   -999.0,9,   -999.0,  26.2784,  22.7625
  49NZ20090521,   P21,   226,  1,     34, X12016,2,20090607,0725,-17.8297, 175.6665, 1981,    100.8,2,  24.7116,2,  24.71195,2,  35.2925,2,  35.2955,2,   195.65,2,   195.69,2,     0.56,2,     0.12,     0.09,2,     0.03,     0.07,2,     0.01,    0.124,2,    0.020,    1.723,6,    1.070,6, -999.000,5,   -999.0,9,   -999.0,9,-999.0000,-999,9,  -999.00,9,  -999.00,   -999.0,9,   -999.0,  24.6899,  23.6563
  49NZ20090521,   P21,   226,  1,     33, X12015,2,20090607,0725,-17.8297, 175.6665, 1981,    149.9,2,  23.1010,2,  23.10054,2,  35.5440,2,  35.5435,2,   170.00,2,   170.08,2,     0.78,2,     0.12,     2.57,2,     0.04,     0.03,2,     0.01,    0.310,2,    0.014,    1.839,2,    1.125,2,    0.143,2,   -999.0,9,   -999.0,9,-999.0000,-999,9,  -999.00,9,  -999.00,   -999.0,9,   -999.0,  23.0702,  24.3260
  49NZ20090521,   P21,   226,  1,     32, X12050,2,20090607,0725,-17.8297, 175.6665, 1981,    200.9,2,  20.8704,2,  20.86977,2,  35.6471,2,  35.6456,2,   172.08,2,   171.48,2,     0.89,2,     0.12,     3.85,2,     0.04,     0.02,2,     0.01,    0.383,2,    0.013,    2.004,2,    1.194,2,    0.073,2,   -999.0,9,   -999.0,9,-999.0000,-999,9,  -999.00,9,  -999.00,   -999.0,9,   -999.0,  20.8320,  25.0324
  49NZ20090521,   P21,   226,  1,     31, X12014,2,20090607,0725,-17.8297, 175.6665, 1981,    249.9,2,  19.2441,2,  19.24463,2,  35.5765,2,  35.5756,6,   168.45,2,   168.43,2,     1.30,2,     0.12,     5.48,2,     0.05,     0.02,2,     0.01,    0.521,2,    0.013,    2.123,2,    1.220,2,    0.036,2,   -999.0,9,   -999.0,9,-999.0000,-999,9,  -999.00,9,  -999.00,   -999.0,9,   -999.0,  19.1989,  25.4108
  49NZ20090521,   P21,   226,  1,     30, X12012,2,20090607,0725,-17.8297, 175.6665, 1981,    281.7,2,  17.8732,2,  17.87334,2,  35.4949,2,  35.4886,2,   178.04,2,   177.94,2,     1.57,2,     0.12,     5.96,2,     0.05,     0.01,2,     0.01,    0.538,2,    0.013,    2.208,2,    1.263,2,    0.038,2,   -999.0,9,   -999.0,9,-999.0000,-999,9,  -999.00,9,  -999.00,   -999.0,9,   -999.0,  17.8248,  25.6944
  49NZ20090521,   P21,   226,  1,     29, X12041,2,20090607,0725,-17.8297, 175.6665, 1981,    372.1,2,  13.8105,2,  13.81198,2,  35.0683,2,  35.0756,2,   181.82,2,   181.32,2,     3.76,2,     0.13,    11.36,2,     0.06,     0.01,2,     0.01,    0.911,2,    0.013,    2.208,6,    1.185,6,    0.037,6,   -999.0,9,   -999.0,9,-999.0000,-999,9,  -999.00,9,  -999.00,   -999.0,9,   -999.0,  13.7569,  26.2909
  49NZ20090521,   P21,   226,  1,     28, X12040,2,20090607,0725,-17.8297, 175.6665, 1981,    469.9,2,  10.1965,2,  10.19423,2,  34.6968,2,  34.6956,6,   190.28,2,   190.28,2,     6.89,2,     0.13,    18.15,2,     0.08,     0.01,2,     0.01,    1.342,2,    0.014,    2.053,2,    1.054,2,    0.056,2,   -999.0,9,   -999.0,9,-999.0000,-999,9,  -999.00,9,  -999.00,   -999.0,9,   -999.0,  10.1408,  26.6911
  49NZ20090521,   P21,   226,  1,     27, X12009,2,20090607,0725,-17.8297, 175.6665, 1981,    571.6,2,   7.2175,2,   7.21849,2,  34.4380,2,  34.4388,2,   208.08,2,   207.82,2,    11.61,2,     0.14,    23.89,2,     0.10,     0.01,2,     0.01,    1.692,2,    0.014,    1.642,6,    0.807,6,    0.047,6,   -999.0,9,   -999.0,9,-999.0000,-999,9,  -999.00,9,  -999.00,   -999.0,9,   -999.0,   7.1621,  26.9536
  49NZ20090521,   P21,   226,  1,     26, X12008,2,20090607,0725,-17.8297, 175.6665, 1981,    670.9,2,   6.2217,2,   6.22058,2,  34.3827,2,  34.3826,2,   204.02,2,   203.72,2,    17.65,2,     0.16,    26.73,2,     0.11,     0.01,2,     0.01,    1.882,2,    0.015,    1.075,2,    0.531,2,    0.022,2,   -999.0,9,   -999.0,9,-999.0000,-999,9,  -999.00,9,  -999.00,   -999.0,9,   -999.0,   6.1613,  27.0443
  49NZ20090521,   P21,   226,  1,     25, X12007,2,20090607,0725,-17.8297, 175.6665, 1981,    771.0,2,   5.4816,2,   5.48207,2,  34.3742,2,  34.3743,2,   193.95,2,   193.58,2,    26.18,2,     0.18,    29.27,2,     0.11,     0.01,2,     0.01,    2.046,2,    0.015,    0.606,2,    0.307,2,    0.019,2,   -999.0,9,   -999.0,9,-999.0000,-999,9,  -999.00,9,  -999.00,   -999.0,9,   -999.0,   5.4160,  27.1302
  49NZ20090521,   P21,   226,  1,     24, X12035,2,20090607,0725,-17.8297, 175.6665, 1981,    870.0,2,   4.7435,2,   4.74406,2,  34.4090,2,  34.4092,2,   176.79,2,   176.69,2,    40.74,2,     0.21,    31.63,2,     0.12,     0.01,2,     0.01,    2.226,2,    0.016,    0.256,2,    0.135,2,    0.000,2,   -999.0,9,   -999.0,9,-999.0000,-999,9,  -999.00,9,  -999.00,   -999.0,9,   -999.0,   4.6737,  27.2437
  49NZ20090521,   P21,   226,  1,     23, X12038,2,20090607,0725,-17.8297, 175.6665, 1981,    971.2,2,   4.3754,2,   4.37533,2,  34.4328,2,  34.4329,6,   169.38,2,   169.37,2,    49.43,2,     0.23,    32.72,2,     0.12,     0.01,2,     0.01,    2.308,2,    0.016,    0.155,2,    0.081,2,    0.000,2,   -999.0,9,   -999.0,9,-999.0000,-999,9,  -999.00,9,  -999.00,   -999.0,9,   -999.0,   4.2994,  27.3034
  49NZ20090521,   P21,   226,  1,     22, X12034,2,20090607,0725,-17.8297, 175.6665, 1981,   1130.0,2,   3.6658,2,   3.66656,2,  34.4940,2,  34.4946,2,   156.42,2,   156.33,2,    69.38,2,     0.27,    34.41,2,     0.13,     0.01,2,     0.01,    2.434,2,    0.016,    0.037,2,    0.020,2,    0.000,2,   -999.0,9,   -999.0,9,-999.0000,-999,9,  -999.00,9,  -999.00,   -999.0,9,   -999.0,   3.5821,  27.4259
  49NZ20090521,   P21,   226,  1,     21, X12033,2,20090607,0725,-17.8297, 175.6665, 1981,   1330.6,2,   3.1360,2,   3.13606,2,  34.5479,2,  34.5477,2,   149.66,2,   149.67,2,    86.28,2,     0.31,    35.16,2,     0.13,     0.01,2,     0.01,    2.495,2,    0.016,    0.010,2,    0.009,2,    0.000,2,   -999.0,9,   -999.0,9,-999.0000,-999,9,  -999.00,9,  -999.00,   -999.0,9,   -999.0,   3.0407,  27.5204
  49NZ20090521,   P21,   226,  1,     20, X12032,2,20090607,0725,-17.8297, 175.6665, 1981,   1530.4,2,   2.7356,2,   2.73547,2,  34.5863,2,  34.5862,6,   147.13,2,   147.13,2,    98.76,2,     0.34,    35.63,2,     0.13,     0.01,2,     0.01,    2.524,2,    0.016,    0.002,2,    0.004,2,    0.000,2,   -999.0,9,   -999.0,9,-999.0000,-999,9,  -999.00,9,  -999.00,   -999.0,9,   -999.0,   2.6283,  27.5880
  49NZ20090521,   P21,   226,  1,     19, X12046,2,20090607,0725,-17.8297, 175.6665, 1981,   1732.1,2,   2.5091,2,   2.50908,2,  34.6077,2,  34.6076,2,   147.04,2,   146.85,2,   105.37,2,     0.35,    35.74,2,     0.13,     0.01,2,     0.01,    2.532,2,    0.016,    0.001,2,    0.002,2,    0.000,2,   -999.0,9,   -999.0,9,-999.0000,-999,9,  -999.00,9,  -999.00,   -999.0,9,   -999.0,   2.3879,  27.6257
  49NZ20090521,   P21,   226,  1,     18, X12006,2,20090607,0725,-17.8297, 175.6665, 1981,   1930.3,2,   2.3396,2,   2.33955,2,  34.6239,2,  34.6238,2,   147.45,2,   147.15,2,   110.63,2,     0.36,    35.72,2,     0.13,     0.01,2,     0.01,    2.535,2,    0.016,    0.001,2,    0.002,2,    0.000,2,   -999.0,9,   -999.0,9,-999.0000,-999,9,  -999.00,9,  -999.00,   -999.0,9,   -999.0,   2.2040,  27.6540
  49NZ20090521,   P21,   226,  1,     17, X12047,9,20090607,0725,-17.8297, 175.6665, 1981,     10.8,2,  26.4356,2,  26.43577,2,  34.7629,2,-999.0000,9,   201.71,2,  -999.00,9,  -999.00,9,  -999.00,  -999.00,9,  -999.00,  -999.00,9,  -999.00, -999.000,9, -999.000, -999.000,9, -999.000,9, -999.000,9,   -999.0,9,   -999.0,9,-999.0000,-999,9,  -999.00,9,  -999.00,   -999.0,9,   -999.0,  26.4332,  22.7188
  49NZ20090521,   P21,   226,  1,     16, X12004,9,20090607,0725,-17.8297, 175.6665, 1981,    671.3,2,   6.2184,2,   6.21959,2,  34.3827,2,-999.0000,9,   203.94,2,  -999.00,9,  -999.00,9,  -999.00,  -999.00,9,  -999.00,  -999.00,9,  -999.00, -999.000,9, -999.000, -999.000,9, -999.000,9, -999.000,9,   -999.0,9,   -999.0,9,-999.0000,-999,9,  -999.00,9,  -999.00,   -999.0,9,   -999.0,   6.1580,  27.0447
  49NZ20090521,   P21,   226,  1,     15, X12003,9,20090607,0725,-17.8297, 175.6665, 1981,    770.4,2,   5.4775,2,   5.47692,2,  34.3747,2,-999.0000,9,   193.90,2,  -999.00,9,  -999.00,9,  -999.00,  -999.00,9,  -999.00,  -999.00,9,  -999.00, -999.000,9, -999.000, -999.000,9, -999.000,9, -999.000,9,   -999.0,9,   -999.0,9,-999.0000,-999,9,  -999.00,9,  -999.00,   -999.0,9,   -999.0,   5.4119,  27.1310
  49NZ20090521,   P21,   226,  1,     14, X12002,9,20090607,0725,-17.8297, 175.6665, 1981,    770.7,2,   5.4803,2,   5.48039,2,  34.3744,2,-999.0000,9,   193.83,2,  -999.00,9,  -999.00,9,  -999.00,  -999.00,9,  -999.00,  -999.00,9,  -999.00, -999.000,9, -999.000, -999.000,9, -999.000,9, -999.000,9,   -999.0,9,   -999.0,9,-999.0000,-999,9,  -999.00,9,  -999.00,   -999.0,9,   -999.0,   5.4147,  27.1305
  49NZ20090521,   P21,   226,  1,     13, X12001,9,20090607,0725,-17.8297, 175.6665, 1981,    870.4,2,   4.7390,2,   4.73810,2,  34.4088,2,-999.0000,9,   176.89,2,  -999.00,9,  -999.00,9,  -999.00,  -999.00,9,  -999.00,  -999.00,9,  -999.00, -999.000,9, -999.000, -999.000,9, -999.000,9, -999.000,9,   -999.0,9,   -999.0,9,-999.0000,-999,9,  -999.00,9,  -999.00,   -999.0,9,   -999.0,   4.6692,  27.2440
  49NZ20090521,   P21,   226,  1,     12, X12030,9,20090607,0725,-17.8297, 175.6665, 1981,    870.5,2,   4.7384,2,   4.73883,2,  34.4088,2,-999.0000,9,   176.94,2,  -999.00,9,  -999.00,9,  -999.00,  -999.00,9,  -999.00,  -999.00,9,  -999.00, -999.000,9, -999.000, -999.000,9, -999.000,9, -999.000,9,   -999.0,9,   -999.0,9,-999.0000,-999,9,  -999.00,9,  -999.00,   -999.0,9,   -999.0,   4.6686,  27.2441
  49NZ20090521,   P21,   226,  1,     11, X12044,9,20090607,0725,-17.8297, 175.6665, 1981,    971.3,2,   4.3747,2,   4.37446,2,  34.4329,2,-999.0000,9,   169.41,2,  -999.00,9,  -999.00,9,  -999.00,  -999.00,9,  -999.00,  -999.00,9,  -999.00, -999.000,9, -999.000, -999.000,9, -999.000,9, -999.000,9,   -999.0,9,   -999.0,9,-999.0000,-999,9,  -999.00,9,  -999.00,   -999.0,9,   -999.0,   4.2987,  27.3036
  49NZ20090521,   P21,   226,  1,     10, X12048,9,20090607,0725,-17.8297, 175.6665, 1981,    971.7,2,   4.3743,2,   4.37443,2,  34.4329,2,-999.0000,9,   169.37,2,  -999.00,9,  -999.00,9,  -999.00,  -999.00,9,  -999.00,  -999.00,9,  -999.00, -999.000,9, -999.000, -999.000,9, -999.000,9, -999.000,9,   -999.0,9,   -999.0,9,-999.0000,-999,9,  -999.00,9,  -999.00,   -999.0,9,   -999.0,   4.2983,  27.3037
  49NZ20090521,   P21,   226,  1,      9, X12027,9,20090607,0725,-17.8297, 175.6665, 1981,   1130.2,2,   3.6696,2,   3.66988,2,  34.4937,2,-999.0000,9,   156.44,2,  -999.00,9,  -999.00,9,  -999.00,  -999.00,9,  -999.00,  -999.00,9,  -999.00, -999.000,9, -999.000, -999.000,9, -999.000,9, -999.000,9,   -999.0,9,   -999.0,9,-999.0000,-999,9,  -999.00,9,  -999.00,   -999.0,9,   -999.0,   3.5859,  27.4253
  49NZ20090521,   P21,   226,  1,      8, X12026,9,20090607,0725,-17.8297, 175.6665, 1981,   1131.4,2,   3.6669,2,   3.66707,2,  34.4940,2,-999.0000,9,   156.45,2,  -999.00,9,  -999.00,9,  -999.00,  -999.00,9,  -999.00,  -999.00,9,  -999.00, -999.000,9, -999.000, -999.000,9, -999.000,9, -999.000,9,   -999.0,9,   -999.0,9,-999.0000,-999,9,  -999.00,9,  -999.00,   -999.0,9,   -999.0,   3.5831,  27.4258
  49NZ20090521,   P21,   226,  1,      7, X12025,9,20090607,0725,-17.8297, 175.6665, 1981,   1530.9,2,   2.7360,2,   2.73593,2,  34.5863,2,-999.0000,9,   147.15,2,  -999.00,9,  -999.00,9,  -999.00,  -999.00,9,  -999.00,  -999.00,9,  -999.00, -999.000,9, -999.000, -999.000,9, -999.000,9, -999.000,9,   -999.0,9,   -999.0,9,-999.0000,-999,9,  -999.00,9,  -999.00,   -999.0,9,   -999.0,   2.6287,  27.5880
  49NZ20090521,   P21,   226,  1,      6, X12024,9,20090607,0725,-17.8297, 175.6665, 1981,   1530.7,2,   2.7358,2,   2.73576,2,  34.5863,2,-999.0000,9,   147.13,2,  -999.00,9,  -999.00,9,  -999.00,  -999.00,9,  -999.00,  -999.00,9,  -999.00, -999.000,9, -999.000, -999.000,9, -999.000,9, -999.000,9,   -999.0,9,   -999.0,9,-999.0000,-999,9,  -999.00,9,  -999.00,   -999.0,9,   -999.0,   2.6285,  27.5880
  49NZ20090521,   P21,   226,  1,      5, X12028,9,20090607,0725,-17.8297, 175.6665, 1981,   1733.3,2,   2.5093,2,   2.50938,2,  34.6078,2,-999.0000,9,   147.02,2,  -999.00,9,  -999.00,9,  -999.00,  -999.00,9,  -999.00,  -999.00,9,  -999.00, -999.000,9, -999.000, -999.000,9, -999.000,9, -999.000,9,   -999.0,9,   -999.0,9,-999.0000,-999,9,  -999.00,9,  -999.00,   -999.0,9,   -999.0,   2.3880,  27.6258
  49NZ20090521,   P21,   226,  1,      4, X12022,9,20090607,0725,-17.8297, 175.6665, 1981,   1732.8,2,   2.5094,2,   2.50935,2,  34.6077,2,-999.0000,9,   147.02,2,  -999.00,9,  -999.00,9,  -999.00,  -999.00,9,  -999.00,  -999.00,9,  -999.00, -999.000,9, -999.000, -999.000,9, -999.000,9, -999.000,9,   -999.0,9,   -999.0,9,-999.0000,-999,9,  -999.00,9,  -999.00,   -999.0,9,   -999.0,   2.3881,  27.6257
  49NZ20090521,   P21,   226,  1,      3, X12021,9,20090607,0725,-17.8297, 175.6665, 1981,   1330.8,2,   3.1361,2,   3.13619,2,  34.5479,2,-999.0000,9,   149.66,2,  -999.00,9,  -999.00,9,  -999.00,  -999.00,9,  -999.00,  -999.00,9,  -999.00, -999.000,9, -999.000, -999.000,9, -999.000,9, -999.000,9,   -999.0,9,   -999.0,9,-999.0000,-999,9,  -999.00,9,  -999.00,   -999.0,9,   -999.0,   3.0408,  27.5204
  49NZ20090521,   P21,   226,  1,      2, X12020,2,20090607,0725,-17.8297, 175.6665, 1981,   1930.3,2,   2.3392,2,   2.33906,2,  34.6239,2,  34.6242,2,   147.40,2,   147.32,2,   110.67,2,     0.36,    35.73,2,     0.13,     0.01,2,     0.01,    2.536,2,    0.016, -999.000,9, -999.000,9, -999.000,9,   -999.0,9,   -999.0,9,-999.0000,-999,9,  -999.00,9,  -999.00,   -999.0,9,   -999.0,   2.2036,  27.6540
  49NZ20090521,   P21,   226,  1,      1, X12019,2,20090607,0725,-17.8297, 175.6665, 1981,   1962.8,2,   2.3315,2,   2.33142,2,  34.6249,2,  34.6248,6,   147.54,2,   147.23,2,   110.79,2,     0.36,    35.75,2,     0.13,     0.01,2,     0.01,    2.537,2,    0.016,    0.000,2,    0.001,2,    0.000,2,   -999.0,9,   -999.0,9,-999.0000,-999,9,  -999.00,9,  -999.00,   -999.0,9,   -999.0,   2.1932,  27.6556