BOTTLE,20111109CCHDOSIOCBG
EXPOCODE,SECT_ID,STNNBR,CASTNO,SAMPNO,BTLNBR,BTLNBR_FLAG_W,DATE,TIME,LATITUDE,LONGITUDE,DEPTH,CTDPRS,CTDPRS_FLAG_W,CTDTMP,CTDTMP_FLAG_W,SBE35,SBE35_FLAG_W,CTDSAL,CTDSAL_FLAG_W,SALNTY,SALNTY_FLAG_W,CTDOXY,CTDOXY_FLAG_W,OXYGEN,OXYGEN_FLAG_W,SILCAT,SILCAT_FLAG_W,SILUNC,NITRAT,NITRAT_FLAG_W,NRAUNC,NITRIT,NITRIT_FLAG_W,NRIUNC,PHSPHT,PHSPHT_FLAG_W,PHPUNC,CFC-11,CFC-11_FLAG_W,CFC-12,CFC-12_FLAG_W,CFC113,CFC113_FLAG_W,TCARBN,TCARBN_FLAG_W,ALKALI,ALKALI_FLAG_W,PH_TOT,PH_TMP,PH_TOT_FLAG_W,DELC13,DELC13_FLAG_W,C13ERR,DELC14,DELC14_FLAG_W,C14ERR,THETA,SIG0
,,,,,,,,,,,METERS,DBAR,,ITS-90,,ITS-90,,PSS-78,,PSS-78,,UMOL/KG,,UMOL/KG,,UMOL/KG,,UMOL/KG,UMOL/KG,,UMOL/KG,UMOL/KG,,UMOL/KG,UMOL/KG,,UMOL/KG,PMOL/KG,,PMOL/KG,,PMOL/KG,,UMOL/KG,,UMOL/KG,,,DEG C,,/MILLE,,/MILLE,/MILLE,,/MILLE,DEG C,KG/M^3
  49NZ20090521,   P21,   255,  1,      0,   -999,9,20090612,0218,-19.9463, 164.3513,  873,   -999.0,9,-999.0000,9,-999.00000,9,-999.0000,9,  34.8963,2,  -999.00,9,  -999.00,9,  -999.00,9,  -999.00,  -999.00,9,  -999.00,  -999.00,9,  -999.00, -999.000,9, -999.000, -999.000,9, -999.000,9, -999.000,9,   -999.0,9,   -999.0,9,-999.0000,-999,9,  -999.00,9,  -999.00,   -999.0,9,   -999.0,-999.0000,-999.0000
  49NZ20090521,   P21,   255,  1,     36, X12043,2,20090612,0218,-19.9463, 164.3513,  873,      9.9,2,  25.1987,2,  25.19953,2,  34.8215,2,  34.8339,2,   204.73,2,   205.30,2,     0.34,2,     0.12,     0.08,2,     0.03,     0.01,2,     0.01,    0.061,2,    0.030,    1.585,2,    1.024,2, -999.000,5,   1944.8,2,   2285.3,2,   8.1195,  25,6,  -999.00,9,  -999.00,   -999.0,9,   -999.0,  25.1965,  23.1464
  49NZ20090521,   P21,   255,  1,     35, X12042,2,20090612,0218,-19.9463, 164.3513,  873,     50.2,2,  25.3215,2,  25.32108,2,  34.8943,2,  34.8935,2,   204.00,2,   204.90,2,     0.26,2,     0.12,     0.09,2,     0.03,     0.01,2,     0.01,    0.058,2,    0.031,    1.585,2,    1.023,2, -999.000,5,   1949.5,6,   2288.1,2,   8.1182,  25,2,  -999.00,9,  -999.00,   -999.0,9,   -999.0,  25.3105,  23.1666
  49NZ20090521,   P21,   255,  1,     34, X12016,2,20090612,0218,-19.9463, 164.3513,  873,    100.2,2,  23.7949,2,  23.79370,2,  35.3956,2,  35.3890,2,   180.74,2,   181.40,2,     0.49,2,     0.12,     1.47,2,     0.04,     0.09,2,     0.01,    0.238,2,    0.015,    1.773,6,    1.117,6,    0.188,4,   2019.6,2,   2319.4,6,   8.0439,  25,2,  -999.00,9,  -999.00,   -999.0,9,   -999.0,  23.7739,  24.0078
  49NZ20090521,   P21,   255,  1,     33, X12015,9,20090612,0218,-19.9463, 164.3513,  873,    150.3,2,  21.4764,2,  21.47264,2,  35.6179,2,-999.0000,9,   168.32,2,  -999.00,9,  -999.00,9,  -999.00,  -999.00,9,  -999.00,  -999.00,9,  -999.00, -999.000,9, -999.000, -999.000,9, -999.000,9, -999.000,9,   -999.0,9,   -999.0,9,-999.0000,-999,9,  -999.00,9,  -999.00,   -999.0,9,   -999.0,  21.4471,  24.8416
  49NZ20090521,   P21,   255,  1,     32, X12050,2,20090612,0218,-19.9463, 164.3513,  873,    199.8,2,  20.3357,2,  20.33589,2,  35.6453,2,  35.6423,2,   169.01,2,   169.76,2,     1.00,2,     0.12,     4.93,2,     0.05,     0.02,2,     0.01,    0.458,2,    0.013,    2.005,2,    1.223,2,    0.071,2,   2077.1,2,   2336.9,2,   7.9667,  25,2,  -999.00,9,  -999.00,   -999.0,9,   -999.0,  20.2982,  25.1748
  49NZ20090521,   P21,   255,  1,     31, X12014,2,20090612,0218,-19.9463, 164.3513,  873,    250.4,2,  18.9330,2,  18.93565,2,  35.5958,2,  35.5945,6,   176.50,2,   176.85,2,     1.16,2,     0.12,     5.27,2,     0.05,     0.02,2,     0.01,    0.476,2,    0.013,    2.093,2,    1.268,2,    0.052,2,   2081.8,2,   2332.2,2,   7.9522,  25,2,  -999.00,9,  -999.00,   -999.0,9,   -999.0,  18.8882,  25.5052
  49NZ20090521,   P21,   255,  1,     30, X12012,2,20090612,0218,-19.9463, 164.3513,  873,    299.6,2,  17.5782,2,  17.57673,2,  35.5013,2,  35.4920,2,   177.86,2,   178.62,2,     1.71,2,     0.12,     6.72,2,     0.05,     0.01,2,     0.01,    0.578,2,    0.013,    2.154,2,    1.273,2,    0.041,2,   2092.0,2,   2326.9,2,   7.9239,  25,2,  -999.00,9,  -999.00,   -999.0,9,   -999.0,  17.5273,  25.7721
  49NZ20090521,   P21,   255,  1,     29, X12041,2,20090612,0218,-19.9463, 164.3513,  873,    399.9,2,  14.3064,2,  14.30513,2,  35.1659,2,  35.1633,2,   179.52,2,   180.12,2,     3.67,2,     0.13,    11.33,2,     0.06,     0.01,2,     0.01,    0.886,2,    0.013,    2.165,6,    1.227,6,    0.030,6,   2114.6,2,   2311.4,2,   7.8525,  25,2,  -999.00,9,  -999.00,   -999.0,9,   -999.0,  14.2473,  26.2629
  49NZ20090521,   P21,   255,  1,     28, X12040,2,20090612,0218,-19.9463, 164.3513,  873,    500.9,2,  11.0245,2,  11.02500,2,  34.8221,2,  34.8209,6,   185.46,2,   185.67,2,     6.98,2,     0.13,    17.11,2,     0.08,     0.01,2,     0.01,    1.256,2,    0.013,    2.003,2,    1.083,2,    0.048,2,   2138.2,2,   2297.2,2,   7.7762,  25,2,  -999.00,9,  -999.00,   -999.0,9,   -999.0,  10.9619,  26.6439
  49NZ20090521,   P21,   255,  1,     27, X12009,2,20090612,0218,-19.9463, 164.3513,  873,    601.4,2,   8.4065,2,   8.40666,2,  34.5589,2,  34.5578,2,   192.89,2,   193.08,2,    11.87,2,     0.15,    22.39,2,     0.10,     0.01,2,     0.01,    1.598,2,    0.014,    1.608,6,    0.836,6,    0.048,6,   2156.1,2,   2289.3,2,   7.7189,  25,2,  -999.00,9,  -999.00,   -999.0,9,   -999.0,   8.3426,  26.8756
  49NZ20090521,   P21,   255,  1,     26, X12008,2,20090612,0218,-19.9463, 164.3513,  873,    699.7,2,   6.5421,2,   6.54926,2,  34.4323,2,  34.4322,2,   195.93,2,   196.01,2,    19.69,2,     0.16,    26.50,2,     0.11,     0.01,2,     0.01,    1.861,2,    0.015,    1.039,2,    0.532,2,    0.021,2,   2174.2,2,   2291.5,2,   7.6801,  25,2,  -999.00,9,  -999.00,   -999.0,9,   -999.0,   6.4772,  27.0422
  49NZ20090521,   P21,   255,  1,     25, X12007,2,20090612,0218,-19.9463, 164.3513,  873,    800.3,2,   5.8905,2,   5.89030,2,  34.4112,2,  34.4109,2,   192.80,2,   192.63,2,    25.54,2,     0.18,    28.21,2,     0.11,     0.01,2,     0.01,    1.975,2,    0.015,    0.767,2,    0.391,2,    0.014,2,   2184.5,2,   2296.6,6,   7.6632,  25,2,  -999.00,9,  -999.00,   -999.0,9,   -999.0,   5.8197,  27.1100
  49NZ20090521,   P21,   255,  1,     24, X12035,9,20090612,0218,-19.9463, 164.3513,  873,    100.3,2,  23.8291,2,  23.83056,2,  35.3910,2,-999.0000,9,   181.49,2,  -999.00,9,  -999.00,9,  -999.00,  -999.00,9,  -999.00,  -999.00,9,  -999.00, -999.000,9, -999.000, -999.000,9, -999.000,9, -999.000,9,   -999.0,9,   -999.0,9,-999.0000,-999,9,  -999.00,9,  -999.00,   -999.0,9,   -999.0,  23.8081,  23.9942
  49NZ20090521,   P21,   255,  1,     23, X12038,9,20090612,0218,-19.9463, 164.3513,  873,   -999.0,9,-999.0000,9,-999.00000,9,-999.0000,9,-999.0000,9,  -999.00,9,  -999.00,9,  -999.00,9,  -999.00,  -999.00,9,  -999.00,  -999.00,9,  -999.00, -999.000,9, -999.000, -999.000,9, -999.000,9, -999.000,9,   -999.0,9,   -999.0,9,-999.0000,-999,9,  -999.00,9,  -999.00,   -999.0,9,   -999.0,-999.0000,-999.0000
  49NZ20090521,   P21,   255,  1,     22, X12034,9,20090612,0218,-19.9463, 164.3513,  873,   -999.0,9,-999.0000,9,-999.00000,9,-999.0000,9,-999.0000,9,  -999.00,9,  -999.00,9,  -999.00,9,  -999.00,  -999.00,9,  -999.00,  -999.00,9,  -999.00, -999.000,9, -999.000, -999.000,9, -999.000,9, -999.000,9,   -999.0,9,   -999.0,9,-999.0000,-999,9,  -999.00,9,  -999.00,   -999.0,9,   -999.0,-999.0000,-999.0000
  49NZ20090521,   P21,   255,  1,     21, X12033,9,20090612,0218,-19.9463, 164.3513,  873,   -999.0,9,-999.0000,9,-999.00000,9,-999.0000,9,-999.0000,9,  -999.00,9,  -999.00,9,  -999.00,9,  -999.00,  -999.00,9,  -999.00,  -999.00,9,  -999.00, -999.000,9, -999.000, -999.000,9, -999.000,9, -999.000,9,   -999.0,9,   -999.0,9,-999.0000,-999,9,  -999.00,9,  -999.00,   -999.0,9,   -999.0,-999.0000,-999.0000
  49NZ20090521,   P21,   255,  1,     20, X12032,9,20090612,0218,-19.9463, 164.3513,  873,    150.3,2,  21.4796,2,  21.48104,2,  35.6171,2,-999.0000,9,   168.35,2,  -999.00,9,  -999.00,9,  -999.00,  -999.00,9,  -999.00,  -999.00,9,  -999.00, -999.000,9, -999.000, -999.000,9, -999.000,9, -999.000,9,   -999.0,9,   -999.0,9,-999.0000,-999,9,  -999.00,9,  -999.00,   -999.0,9,   -999.0,  21.4503,  24.8401
  49NZ20090521,   P21,   255,  1,     19, X12046,9,20090612,0218,-19.9463, 164.3513,  873,    200.1,2,  20.3170,2,  20.31925,2,  35.6460,2,-999.0000,9,   169.65,2,  -999.00,9,  -999.00,9,  -999.00,  -999.00,9,  -999.00,  -999.00,9,  -999.00, -999.000,9, -999.000, -999.000,9, -999.000,9, -999.000,9,   -999.0,9,   -999.0,9,-999.0000,-999,9,  -999.00,9,  -999.00,   -999.0,9,   -999.0,  20.2794,  25.1803
  49NZ20090521,   P21,   255,  1,     18, X12006,9,20090612,0218,-19.9463, 164.3513,  873,    873.6,2,   5.3892,2,   5.38194,2,  34.4075,2,-999.0000,9,   188.51,2,  -999.00,9,  -999.00,9,  -999.00,  -999.00,9,  -999.00,  -999.00,9,  -999.00, -999.000,9, -999.000, -999.000,9, -999.000,9, -999.000,9,   -999.0,9,   -999.0,9,-999.0000,-999,9,  -999.00,9,  -999.00,   -999.0,9,   -999.0,   5.3148,  27.1686
  49NZ20090521,   P21,   255,  1,     17, X12047,9,20090612,0218,-19.9463, 164.3513,  873,    800.7,2,   5.8913,2,   5.89114,2,  34.4114,2,-999.0000,9,   192.74,2,  -999.00,9,  -999.00,9,  -999.00,  -999.00,9,  -999.00,  -999.00,9,  -999.00, -999.000,9, -999.000, -999.000,9, -999.000,9, -999.000,9,   -999.0,9,   -999.0,9,-999.0000,-999,9,  -999.00,9,  -999.00,   -999.0,9,   -999.0,   5.8204,  27.1101
  49NZ20090521,   P21,   255,  1,     16, X12004,9,20090612,0218,-19.9463, 164.3513,  873,    699.7,2,   6.5970,2,   6.59957,2,  34.4356,2,-999.0000,9,   195.84,2,  -999.00,9,  -999.00,9,  -999.00,  -999.00,9,  -999.00,  -999.00,9,  -999.00, -999.000,9, -999.000, -999.000,9, -999.000,9, -999.000,9,   -999.0,9,   -999.0,9,-999.0000,-999,9,  -999.00,9,  -999.00,   -999.0,9,   -999.0,   6.5318,  27.0376
  49NZ20090521,   P21,   255,  1,     15, X12003,9,20090612,0218,-19.9463, 164.3513,  873,      9.9,2,  25.1978,2,  25.19866,2,  34.8208,2,-999.0000,9,   204.73,2,  -999.00,9,  -999.00,9,  -999.00,  -999.00,9,  -999.00,  -999.00,9,  -999.00, -999.000,9, -999.000, -999.000,9, -999.000,9, -999.000,9,   -999.0,9,   -999.0,9,-999.0000,-999,9,  -999.00,9,  -999.00,   -999.0,9,   -999.0,  25.1956,  23.1463
  49NZ20090521,   P21,   255,  1,     14, X12002,9,20090612,0218,-19.9463, 164.3513,  873,     50.0,2,  25.3167,2,  25.31587,2,  34.8942,2,-999.0000,9,   204.09,2,  -999.00,9,  -999.00,9,  -999.00,  -999.00,9,  -999.00,  -999.00,9,  -999.00, -999.000,9, -999.000, -999.000,9, -999.000,9, -999.000,9,   -999.0,9,   -999.0,9,-999.0000,-999,9,  -999.00,9,  -999.00,   -999.0,9,   -999.0,  25.3058,  23.1680
  49NZ20090521,   P21,   255,  1,     13, X12001,9,20090612,0218,-19.9463, 164.3513,  873,    100.3,2,  23.8074,2,  23.80819,2,  35.3942,2,-999.0000,9,   180.78,2,  -999.00,9,  -999.00,9,  -999.00,  -999.00,9,  -999.00,  -999.00,9,  -999.00, -999.000,9, -999.000, -999.000,9, -999.000,9, -999.000,9,   -999.0,9,   -999.0,9,-999.0000,-999,9,  -999.00,9,  -999.00,   -999.0,9,   -999.0,  23.7864,  24.0031
  49NZ20090521,   P21,   255,  1,     12, X12030,2,20090612,0218,-19.9463, 164.3513,  873,    150.3,2,  21.4814,2,  21.48122,2,  35.6170,2,  35.6237,2,   168.39,2,   167.90,2,     0.82,2,     0.12,     4.23,2,     0.04,     0.02,2,     0.01,    0.407,2,    0.013,    1.934,2,    1.194,2,    0.097,2,   2065.0,2,   2334.5,2,   7.9869,  25,2,  -999.00,9,  -999.00,   -999.0,9,   -999.0,  21.4521,  24.8395
  49NZ20090521,   P21,   255,  1,     11, X12044,9,20090612,0218,-19.9463, 164.3513,  873,    200.1,2,  20.3179,2,  20.32148,2,  35.6458,2,-999.0000,9,   169.47,2,  -999.00,9,  -999.00,9,  -999.00,  -999.00,9,  -999.00,  -999.00,9,  -999.00, -999.000,9, -999.000, -999.000,9, -999.000,9, -999.000,9,   -999.0,9,   -999.0,9,-999.0000,-999,9,  -999.00,9,  -999.00,   -999.0,9,   -999.0,  20.2803,  25.1799
  49NZ20090521,   P21,   255,  1,     10, X12048,9,20090612,0218,-19.9463, 164.3513,  873,    250.4,2,  18.9302,2,  18.93219,2,  35.5960,2,-999.0000,9,   176.54,2,  -999.00,9,  -999.00,9,  -999.00,  -999.00,9,  -999.00,  -999.00,9,  -999.00, -999.000,9, -999.000, -999.000,9, -999.000,9, -999.000,9,   -999.0,9,   -999.0,9,-999.0000,-999,9,  -999.00,9,  -999.00,   -999.0,9,   -999.0,  18.8854,  25.5061
  49NZ20090521,   P21,   255,  1,      9, X12027,9,20090612,0218,-19.9463, 164.3513,  873,    299.7,2,  17.5791,2,  17.57863,2,  35.5029,2,-999.0000,9,   178.37,2,  -999.00,9,  -999.00,9,  -999.00,  -999.00,9,  -999.00,  -999.00,9,  -999.00, -999.000,9, -999.000, -999.000,9, -999.000,9, -999.000,9,   -999.0,9,   -999.0,9,-999.0000,-999,9,  -999.00,9,  -999.00,   -999.0,9,   -999.0,  17.5282,  25.7731
  49NZ20090521,   P21,   255,  1,      8, X12026,9,20090612,0218,-19.9463, 164.3513,  873,    400.7,2,  14.3049,2,  14.30501,2,  35.1661,2,-999.0000,9,   179.61,2,  -999.00,9,  -999.00,9,  -999.00,  -999.00,9,  -999.00,  -999.00,9,  -999.00, -999.000,9, -999.000, -999.000,9, -999.000,9, -999.000,9,   -999.0,9,   -999.0,9,-999.0000,-999,9,  -999.00,9,  -999.00,   -999.0,9,   -999.0,  14.2457,  26.2634
  49NZ20090521,   P21,   255,  1,      7, X12025,9,20090612,0218,-19.9463, 164.3513,  873,    501.2,2,  11.0176,2,  11.01902,2,  34.8218,2,-999.0000,9,   185.55,2,  -999.00,9,  -999.00,9,  -999.00,  -999.00,9,  -999.00,  -999.00,9,  -999.00, -999.000,9, -999.000, -999.000,9, -999.000,9, -999.000,9,   -999.0,9,   -999.0,9,-999.0000,-999,9,  -999.00,9,  -999.00,   -999.0,9,   -999.0,  10.9550,  26.6449
  49NZ20090521,   P21,   255,  1,      6, X12024,9,20090612,0218,-19.9463, 164.3513,  873,    601.1,2,   8.4077,2,   8.40749,2,  34.5591,2,-999.0000,9,   192.85,2,  -999.00,9,  -999.00,9,  -999.00,  -999.00,9,  -999.00,  -999.00,9,  -999.00, -999.000,9, -999.000, -999.000,9, -999.000,9, -999.000,9,   -999.0,9,   -999.0,9,-999.0000,-999,9,  -999.00,9,  -999.00,   -999.0,9,   -999.0,   8.3439,  26.8756
  49NZ20090521,   P21,   255,  1,      5, X12028,9,20090612,0218,-19.9463, 164.3513,  873,   -999.0,9,-999.0000,9,-999.00000,9,-999.0000,9,-999.0000,9,  -999.00,9,  -999.00,9,  -999.00,9,  -999.00,  -999.00,9,  -999.00,  -999.00,9,  -999.00, -999.000,9, -999.000, -999.000,9, -999.000,9, -999.000,9,   -999.0,9,   -999.0,9,-999.0000,-999,9,  -999.00,9,  -999.00,   -999.0,9,   -999.0,-999.0000,-999.0000
  49NZ20090521,   P21,   255,  1,      4, X12022,9,20090612,0218,-19.9463, 164.3513,  873,   -999.0,9,-999.0000,9,-999.00000,9,-999.0000,9,-999.0000,9,  -999.00,9,  -999.00,9,  -999.00,9,  -999.00,  -999.00,9,  -999.00,  -999.00,9,  -999.00, -999.000,9, -999.000, -999.000,9, -999.000,9, -999.000,9,   -999.0,9,   -999.0,9,-999.0000,-999,9,  -999.00,9,  -999.00,   -999.0,9,   -999.0,-999.0000,-999.0000
  49NZ20090521,   P21,   255,  1,      3, X12021,9,20090612,0218,-19.9463, 164.3513,  873,   -999.0,9,-999.0000,9,-999.00000,9,-999.0000,9,-999.0000,9,  -999.00,9,  -999.00,9,  -999.00,9,  -999.00,  -999.00,9,  -999.00,  -999.00,9,  -999.00, -999.000,9, -999.000, -999.000,9, -999.000,9, -999.000,9,   -999.0,9,   -999.0,9,-999.0000,-999,9,  -999.00,9,  -999.00,   -999.0,9,   -999.0,-999.0000,-999.0000
  49NZ20090521,   P21,   255,  1,      2, X12020,2,20090612,0218,-19.9463, 164.3513,  873,    100.4,2,  23.7572,2,  23.75845,2,  35.4022,2,-999.0000,9,   180.74,2,  -999.00,9,  -999.00,9,  -999.00,  -999.00,9,  -999.00,  -999.00,9,  -999.00, -999.000,9, -999.000, -999.000,9, -999.000,9, -999.000,9,   -999.0,9,   -999.0,9,-999.0000,-999,9,  -999.00,9,  -999.00,   -999.0,9,   -999.0,  23.7362,  24.0239
  49NZ20090521,   P21,   255,  1,      1, X12019,2,20090612,0218,-19.9463, 164.3513,  873,    873.5,2,   5.3589,2,   5.35878,2,  34.4083,2,  34.4078,6,   188.61,2,   188.08,2,    32.13,2,     0.19,    29.48,2,     0.12,     0.01,2,     0.01,    2.062,2,    0.015,    0.557,2,    0.287,2,    0.000,2,   2196.5,2,   2302.3,2,   7.6478,  25,2,  -999.00,9,  -999.00,   -999.0,9,   -999.0,   5.2847,  27.1728