BOTTLE,20111109CCHDOSIOCBG
EXPOCODE,SECT_ID,STNNBR,CASTNO,SAMPNO,BTLNBR,BTLNBR_FLAG_W,DATE,TIME,LATITUDE,LONGITUDE,DEPTH,CTDPRS,CTDPRS_FLAG_W,CTDTMP,CTDTMP_FLAG_W,SBE35,SBE35_FLAG_W,CTDSAL,CTDSAL_FLAG_W,SALNTY,SALNTY_FLAG_W,CTDOXY,CTDOXY_FLAG_W,OXYGEN,OXYGEN_FLAG_W,SILCAT,SILCAT_FLAG_W,SILUNC,NITRAT,NITRAT_FLAG_W,NRAUNC,NITRIT,NITRIT_FLAG_W,NRIUNC,PHSPHT,PHSPHT_FLAG_W,PHPUNC,CFC-11,CFC-11_FLAG_W,CFC-12,CFC-12_FLAG_W,CFC113,CFC113_FLAG_W,TCARBN,TCARBN_FLAG_W,ALKALI,ALKALI_FLAG_W,PH_TOT,PH_TMP,PH_TOT_FLAG_W,DELC13,DELC13_FLAG_W,C13ERR,DELC14,DELC14_FLAG_W,C14ERR,THETA,SIG0
,,,,,,,,,,,METERS,DBAR,,ITS-90,,ITS-90,,PSS-78,,PSS-78,,UMOL/KG,,UMOL/KG,,UMOL/KG,,UMOL/KG,UMOL/KG,,UMOL/KG,UMOL/KG,,UMOL/KG,UMOL/KG,,UMOL/KG,PMOL/KG,,PMOL/KG,,PMOL/KG,,UMOL/KG,,UMOL/KG,,,DEG C,,/MILLE,,/MILLE,/MILLE,,/MILLE,DEG C,KG/M^3
  49NZ20090521,   P21,   243,  1,      0,   -999,9,20090610,0002,-18.3690, 168.0462, 4191,   -999.0,9,-999.0000,9,-999.00000,9,-999.0000,9,  34.8766,2,  -999.00,9,  -999.00,9,  -999.00,9,  -999.00,  -999.00,9,  -999.00,  -999.00,9,  -999.00, -999.000,9, -999.000, -999.000,9, -999.000,9, -999.000,9,   -999.0,9,   -999.0,9,-999.0000,-999,9,  -999.00,9,  -999.00,   -999.0,9,   -999.0,-999.0000,-999.0000
  49NZ20090521,   P21,   243,  1,     36, X12043,2,20090610,0002,-18.3690, 168.0462, 4191,     10.5,2,  26.3073,2,  26.30761,2,  34.8332,2,  34.8317,2,   203.24,2,   202.61,2,     0.59,2,     0.12,     0.07,2,     0.03,     0.01,2,     0.01,    0.084,2,    0.024,    1.529,2,    0.981,2, -999.000,5,   1941.4,2,   2287.7,2,   8.1273,  25,6,  -999.00,9,  -999.00,   -999.0,9,   -999.0,  26.3049,  22.8121
  49NZ20090521,   P21,   243,  1,     35, X12042,2,20090610,0002,-18.3690, 168.0462, 4191,     49.8,2,  26.2626,2,  26.26243,2,  34.8307,2,  34.8297,2,   203.02,2,   202.29,2,     0.55,2,     0.12,     0.08,2,     0.03,     0.01,2,     0.01,    0.079,2,    0.025,    1.526,2,    0.985,2, -999.000,5,   1941.2,6,   2286.1,2,   8.1273,  25,2,  -999.00,9,  -999.00,   -999.0,9,   -999.0,  26.2514,  22.8271
  49NZ20090521,   P21,   243,  1,     34, X12016,2,20090610,0002,-18.3690, 168.0462, 4191,    100.6,2,  25.1489,2,  25.15019,2,  35.2356,2,  35.2391,2,   187.27,2,   185.94,2,     0.61,2,     0.12,     0.53,2,     0.03,     0.17,2,     0.01,    0.195,2,    0.016,    1.681,6,    1.056,6, -999.000,5,   1997.4,2,   2310.0,6,   8.0659,  25,2,  -999.00,9,  -999.00,   -999.0,9,   -999.0,  25.1270,  23.4806
  49NZ20090521,   P21,   243,  1,     33, X12015,2,20090610,0002,-18.3690, 168.0462, 4191,    149.9,2,  23.3994,2,  23.40123,2,  35.5277,2,  35.5286,2,   162.95,2,   162.62,2,     0.89,2,     0.12,     3.43,2,     0.04,     0.03,2,     0.01,    0.393,2,    0.013,    1.796,2,    1.123,2,    0.125,2,   2044.2,2,   2328.3,2,   8.0099,  25,6,  -999.00,9,  -999.00,   -999.0,9,   -999.0,  23.3683,  24.2269
  49NZ20090521,   P21,   243,  1,     32, X12050,2,20090610,0002,-18.3690, 168.0462, 4191,    199.7,2,  21.8571,2,  21.85909,2,  35.8124,2,  35.8100,2,   155.76,2,   155.53,2,     1.07,2,     0.12,     5.03,2,     0.05,     0.02,2,     0.01,    0.541,2,    0.013,    1.923,2,    1.162,2,    0.058,2,   2087.1,2,   2350.7,2,   7.9675,  25,2,  -999.00,9,  -999.00,   -999.0,9,   -999.0,  21.8176,  24.8865
  49NZ20090521,   P21,   243,  1,     31, X12014,2,20090610,0002,-18.3690, 168.0462, 4191,    250.3,2,  19.4606,2,  19.46362,2,  35.6038,2,  35.6022,6,   161.19,2,   160.61,2,     1.75,2,     0.12,     6.53,2,     0.05,     0.02,2,     0.01,    0.622,2,    0.013,    2.034,2,    1.207,2,    0.040,2,   2096.3,2,   2337.3,2,   7.9318,  25,2,  -999.00,9,  -999.00,   -999.0,9,   -999.0,  19.4150,  25.3757
  49NZ20090521,   P21,   243,  1,     30, X12012,2,20090610,0002,-18.3690, 168.0462, 4191,    300.4,2,  17.6319,2,  17.62914,2,  35.4595,2,  35.4566,2,   166.80,2,   166.29,2,     2.17,2,     0.12,     7.65,2,     0.05,     0.01,2,     0.01,    0.682,2,    0.013,    2.111,2,    1.224,2,    0.021,2,   2100.9,2,   2327.6,2,   7.9054,  25,2,  -999.00,9,  -999.00,   -999.0,9,   -999.0,  17.5808,  25.7270
  49NZ20090521,   P21,   243,  1,     29, X12041,2,20090610,0002,-18.3690, 168.0462, 4191,    400.4,2,  12.8989,2,  12.90418,2,  34.9625,2,  34.9568,2,   168.36,2,   168.98,2,     5.86,2,     0.13,    14.68,2,     0.07,     0.01,2,     0.01,    1.153,2,    0.013,    1.937,6,    1.058,6,    0.027,6,   2131.1,2,   2302.2,2,   7.7993,  25,2,  -999.00,9,  -999.00,   -999.0,9,   -999.0,  12.8437,  26.3951
  49NZ20090521,   P21,   243,  1,     28, X12040,2,20090610,0002,-18.3690, 168.0462, 4191,    500.4,2,   8.8559,2,   8.85915,2,  34.5842,2,  34.5830,6,   182.24,2,   181.73,2,    11.69,2,     0.14,    22.17,2,     0.09,     0.01,2,     0.01,    1.614,2,    0.014,    1.532,2,    0.795,2,    0.047,2,   2157.3,2,   2290.4,2,   7.7139,  25,2,  -999.00,9,  -999.00,   -999.0,9,   -999.0,   8.8014,  26.8241
  49NZ20090521,   P21,   243,  1,     27, X12009,2,20090610,0002,-18.3690, 168.0462, 4191,    599.7,2,   7.2771,2,   7.27719,2,  34.4752,2,  34.4750,2,   189.95,2,   189.54,2,    17.04,2,     0.16,    25.29,2,     0.10,     0.01,2,     0.01,    1.800,2,    0.015,    1.178,6,    0.603,6,    0.029,6,   2168.8,2,   2290.5,2,   7.6872,  25,2,  -999.00,9,  -999.00,   -999.0,9,   -999.0,   7.2185,  26.9749
  49NZ20090521,   P21,   243,  1,     26, X12008,2,20090610,0002,-18.3690, 168.0462, 4191,    699.8,2,   6.1446,2,   6.14635,2,  34.4319,2,  34.4312,2,   186.45,2,   186.27,2,    25.93,2,     0.18,    28.13,2,     0.11,     0.01,2,     0.01,    1.978,2,    0.015,    0.752,2,    0.388,2,    0.031,2,   2185.7,6,   2297.2,2,   7.6588,  25,2,  -999.00,9,  -999.00,   -999.0,9,   -999.0,   6.0818,  27.0933
  49NZ20090521,   P21,   243,  1,     25, X12007,2,20090610,0002,-18.3690, 168.0462, 4191,    801.0,2,   5.1381,2,   5.13818,2,  34.4270,2,  34.4268,2,   178.35,2,   178.09,2,    38.56,2,     0.20,    30.70,2,     0.12,     0.01,2,     0.01,    2.155,2,    0.015,    0.404,2,    0.209,2,    0.006,2,   2205.2,2,   2308.5,6,   7.6320,  25,2,  -999.00,9,  -999.00,   -999.0,9,   -999.0,   5.0718,  27.2126
  49NZ20090521,   P21,   243,  1,     24, X12035,2,20090610,0002,-18.3690, 168.0462, 4191,    900.7,2,   4.7950,2,   4.79465,2,  34.4650,2,  34.4644,2,   169.29,2,   169.25,2,    49.00,2,     0.23,    31.70,2,     0.12,     0.01,2,     0.01,    2.233,2,    0.016,    0.278,2,    0.149,2,    0.010,2,   2223.2,2,   2320.1,2,   7.6188,  25,2,  -999.00,9,  -999.00,   -999.0,9,   -999.0,   4.7221,  27.2827
  49NZ20090521,   P21,   243,  1,     23, X12038,2,20090610,0002,-18.3690, 168.0462, 4191,   1000.1,2,   4.2724,2,   4.27278,2,  34.4775,2,  34.4775,6,   164.80,2,   164.72,2,    58.09,2,     0.25,    32.85,2,     0.12,     0.01,2,     0.01,    2.313,2,    0.016,    0.159,2,    0.084,2,    0.024,2,   2237.0,2,   2330.5,2,   7.6070,  25,2,  -999.00,9,  -999.00,   -999.0,9,   -999.0,   4.1947,  27.3502
  49NZ20090521,   P21,   243,  1,     22, X12034,2,20090610,0002,-18.3690, 168.0462, 4191,   1201.2,2,   3.5705,2,   3.57052,2,  34.5257,2,  34.5258,2,   157.03,2,   156.65,2,    75.45,2,     0.28,    34.11,2,     0.13,     0.01,2,     0.01,    2.405,2,    0.016,    0.060,2,    0.033,2,    0.017,2,   2259.7,2,   2348.9,2,   7.5941,  25,2,  -999.00,9,  -999.00,   -999.0,9,   -999.0,   3.4817,  27.4610
  49NZ20090521,   P21,   243,  1,     21, X12033,2,20090610,0002,-18.3690, 168.0462, 4191,   1400.7,2,   3.1224,2,   3.12245,2,  34.5661,2,  34.5659,2,   152.00,2,   151.79,2,    88.25,2,     0.31,    34.78,2,     0.13,     0.01,2,     0.01,    2.454,2,    0.016,    0.030,2,    0.019,2,    0.011,2,   2274.4,2,   2363.6,2,   7.5865,  25,2,  -999.00,9,  -999.00,   -999.0,9,   -999.0,   3.0215,  27.5368
  49NZ20090521,   P21,   243,  1,     20, X12032,2,20090610,0002,-18.3690, 168.0462, 4191,   1601.1,2,   2.8414,2,   2.84142,2,  34.5912,2,  34.5912,2,   149.54,2,   149.19,2,    96.22,2,     0.33,    35.15,2,     0.13,     0.01,2,     0.01,    2.484,2,    0.016,    0.015,2,    0.008,2,    0.000,2,   2285.1,2,   2372.7,2,   7.5830,  25,6,  -999.00,9,  -999.00,   -999.0,9,   -999.0,   2.7270,  27.5833
  49NZ20090521,   P21,   243,  1,     19, X12046,2,20090610,0002,-18.3690, 168.0462, 4191,   1801.0,2,   2.5310,2,   2.53114,2,  34.6184,2,  34.6183,2,   148.45,2,   148.10,2,   104.21,2,     0.35,    35.43,2,     0.13,     0.01,2,     0.01,    2.503,2,    0.016,    0.005,2,    0.002,2,    0.000,2,   2294.8,2,   2380.5,2,   7.5810,  25,2,  -999.00,9,  -999.00,   -999.0,9,   -999.0,   2.4037,  27.6329
  49NZ20090521,   P21,   243,  1,     18, X12006,2,20090610,0002,-18.3690, 168.0462, 4191,   2001.8,2,   2.3450,2,   2.34506,2,  34.6353,2,  34.6351,6,   149.01,2,   148.63,2,   108.54,2,     0.36,    35.42,2,     0.13,     0.01,2,     0.01,    2.505,2,    0.016,    0.003,2,    0.001,2,    0.000,2,   2298.3,2,   2386.1,2,   7.5814,  25,2,  -999.00,9,  -999.00,   -999.0,9,   -999.0,   2.2032,  27.6631
  49NZ20090521,   P21,   243,  1,     17, X12047,2,20090610,0002,-18.3690, 168.0462, 4191,   2201.0,2,   2.1749,2,   2.17507,2,  34.6500,2,  34.6502,2,   150.47,2,   150.14,2,   112.50,2,     0.37,    35.46,2,     0.13,     0.01,2,     0.01,    2.500,2,    0.016,    0.001,2,    0.001,2,    0.000,2,   2303.7,2,   2390.2,2,   7.5829,  25,2,  -999.00,9,  -999.00,   -999.0,9,   -999.0,   2.0183,  27.6898
  49NZ20090521,   P21,   243,  1,     16, X12004,2,20090610,0002,-18.3690, 168.0462, 4191,   2400.3,2,   2.0251,2,   2.02511,2,  34.6627,2,  34.6627,2,   151.98,2,   151.66,2,   115.89,2,     0.37,    35.33,2,     0.13,     0.01,2,     0.01,    2.492,2,    0.016,    0.001,2,    0.001,2,    0.000,2,   2304.9,6,   2393.6,2,   7.5846,  25,2,  -999.00,9,  -999.00,   -999.0,9,   -999.0,   1.8533,  27.7129
  49NZ20090521,   P21,   243,  1,     15, X12003,2,20090610,0002,-18.3690, 168.0462, 4191,   2599.2,2,   1.9364,2,   1.93644,2,  34.6697,2,  34.6694,2,   152.93,2,   152.59,2,   118.21,2,     0.38,    35.27,2,     0.13,     0.01,2,     0.01,    2.489,2,    0.016,    0.000,2,    0.001,2,    0.000,2,   2307.8,2,   2395.0,6,   7.5856,  25,2,  -999.00,9,  -999.00,   -999.0,9,   -999.0,   1.7482,  27.7266
  49NZ20090521,   P21,   243,  1,     14, X12002,2,20090610,0002,-18.3690, 168.0462, 4191,   2800.2,2,   1.8869,2,   1.88697,2,  34.6739,2,  34.6736,2,   153.56,2,   153.11,2,   120.10,2,     0.38,    35.35,2,     0.13,     0.01,2,     0.01,    2.490,2,    0.016,    0.000,2,    0.000,2,    0.000,2,   2306.1,2,   2397.0,2,   7.5868,  25,6,  -999.00,9,  -999.00,   -999.0,9,   -999.0,   1.6808,  27.7350
  49NZ20090521,   P21,   243,  1,     13, X12001,2,20090610,0002,-18.3690, 168.0462, 4191,   3000.2,2,   1.8503,2,   1.85026,2,  34.6769,2,  34.6769,6,   154.13,2,   153.64,2,   121.34,2,     0.39,    35.31,2,     0.13,     0.01,2,     0.01,    2.488,2,    0.016,    0.000,2,    0.000,2,    0.000,2,   2308.0,2,   2398.4,2,   7.5868,  25,2,  -999.00,9,  -999.00,   -999.0,9,   -999.0,   1.6258,  27.7416
  49NZ20090521,   P21,   243,  1,     12, X12030,2,20090610,0002,-18.3690, 168.0462, 4191,   3251.2,2,   1.8249,2,   1.82484,2,  34.6793,2,  34.6791,2,   154.69,2,   154.26,2,   122.61,2,     0.39,    35.34,2,     0.13,     0.01,2,     0.01,    2.485,2,    0.016,    0.000,2,    0.000,2,    0.000,2,   2308.6,2,   2399.4,2,   7.5876,  25,2,  -999.00,9,  -999.00,   -999.0,9,   -999.0,   1.5761,  27.7472
  49NZ20090521,   P21,   243,  1,     11, X12044,2,20090610,0002,-18.3690, 168.0462, 4191,   3500.9,2,   1.8208,2,   1.82074,2,  34.6809,2,  34.6807,2,   155.27,2,   154.91,2,   123.24,2,     0.39,    35.28,2,     0.13,     0.01,2,     0.01,    2.486,2,    0.016,    0.002,2,    0.000,2,    0.000,2,   2311.1,2,   2400.1,2,   7.5882,  25,2,  -999.00,9,  -999.00,   -999.0,9,   -999.0,   1.5465,  27.7507
  49NZ20090521,   P21,   243,  1,     10, X12048,2,20090610,0002,-18.3690, 168.0462, 4191,   3751.3,2,   1.8327,2,   1.83256,2,  34.6819,2,  34.6819,2,   155.76,2,   155.49,2,   123.27,2,     0.39,    35.26,2,     0.13,     0.01,2,     0.01,    2.483,2,    0.016,    0.001,2,    0.000,2,    0.000,2,   2310.7,2,   2399.3,2,   7.5894,  25,2,  -999.00,9,  -999.00,   -999.0,9,   -999.0,   1.5316,  27.7526
  49NZ20090521,   P21,   243,  1,      9, X12027,2,20090610,0002,-18.3690, 168.0462, 4191,   3999.9,2,   1.8481,2,   1.84804,2,  34.6832,2,  34.6833,2,   156.62,2,   156.29,2,   123.20,2,     0.39,    35.18,2,     0.13,     0.01,2,     0.01,    2.479,2,    0.016,    0.000,2,    0.000,2,    0.000,2,   2308.6,2,   2399.9,2,   7.5907,  25,2,  -999.00,9,  -999.00,   -999.0,9,   -999.0,   1.5194,  27.7545
  49NZ20090521,   P21,   243,  1,      8, X12026,9,20090610,0002,-18.3690, 168.0462, 4191,     10.6,2,  26.3150,2,  26.31610,2,  34.8336,2,-999.0000,9,   203.39,2,  -999.00,9,  -999.00,9,  -999.00,  -999.00,9,  -999.00,  -999.00,9,  -999.00, -999.000,9, -999.000, -999.000,9, -999.000,9, -999.000,9,   -999.0,9,   -999.0,9,-999.0000,-999,9,  -999.00,9,  -999.00,   -999.0,9,   -999.0,  26.3126,  22.8100
  49NZ20090521,   P21,   243,  1,      7, X12025,9,20090610,0002,-18.3690, 168.0462, 4191,     49.8,2,  26.2621,2,  26.26157,2,  34.8309,2,-999.0000,9,   202.99,2,  -999.00,9,  -999.00,9,  -999.00,  -999.00,9,  -999.00,  -999.00,9,  -999.00, -999.000,9, -999.000, -999.000,9, -999.000,9, -999.000,9,   -999.0,9,   -999.0,9,-999.0000,-999,9,  -999.00,9,  -999.00,   -999.0,9,   -999.0,  26.2509,  22.8274
  49NZ20090521,   P21,   243,  1,      6, X12024,9,20090610,0002,-18.3690, 168.0462, 4191,    100.7,2,  25.1441,2,  25.14395,2,  35.2376,2,-999.0000,9,   187.32,2,  -999.00,9,  -999.00,9,  -999.00,  -999.00,9,  -999.00,  -999.00,9,  -999.00, -999.000,9, -999.000, -999.000,9, -999.000,9, -999.000,9,   -999.0,9,   -999.0,9,-999.0000,-999,9,  -999.00,9,  -999.00,   -999.0,9,   -999.0,  25.1222,  23.4835
  49NZ20090521,   P21,   243,  1,      5, X12028,9,20090610,0002,-18.3690, 168.0462, 4191,    150.1,2,  23.3605,2,  23.35915,2,  35.5333,2,-999.0000,9,   163.11,2,  -999.00,9,  -999.00,9,  -999.00,  -999.00,9,  -999.00,  -999.00,9,  -999.00, -999.000,9, -999.000, -999.000,9, -999.000,9, -999.000,9,   -999.0,9,   -999.0,9,-999.0000,-999,9,  -999.00,9,  -999.00,   -999.0,9,   -999.0,  23.3294,  24.2425
  49NZ20090521,   P21,   243,  1,      4, X12022,9,20090610,0002,-18.3690, 168.0462, 4191,    200.0,2,  21.8710,2,  21.87018,2,  35.8146,2,-999.0000,9,   155.85,2,  -999.00,9,  -999.00,9,  -999.00,  -999.00,9,  -999.00,  -999.00,9,  -999.00, -999.000,9, -999.000, -999.000,9, -999.000,9, -999.000,9,   -999.0,9,   -999.0,9,-999.0000,-999,9,  -999.00,9,  -999.00,   -999.0,9,   -999.0,  21.8314,  24.8843
  49NZ20090521,   P21,   243,  1,      3, X12021,9,20090610,0002,-18.3690, 168.0462, 4191,    250.4,2,  19.4722,2,  19.47214,2,  35.6041,2,-999.0000,9,   161.78,2,  -999.00,9,  -999.00,9,  -999.00,  -999.00,9,  -999.00,  -999.00,9,  -999.00, -999.000,9, -999.000, -999.000,9, -999.000,9, -999.000,9,   -999.0,9,   -999.0,9,-999.0000,-999,9,  -999.00,9,  -999.00,   -999.0,9,   -999.0,  19.4265,  25.3730
  49NZ20090521,   P21,   243,  1,      2, X12020,9,20090610,0002,-18.3690, 168.0462, 4191,   1401.1,2,   3.1233,2,   3.12334,2,  34.5661,2,-999.0000,9,   152.02,2,  -999.00,9,  -999.00,9,  -999.00,  -999.00,9,  -999.00,  -999.00,9,  -999.00, -999.000,9, -999.000, -999.000,9, -999.000,9, -999.000,9,   -999.0,9,   -999.0,9,-999.0000,-999,9,  -999.00,9,  -999.00,   -999.0,9,   -999.0,   3.0223,  27.5366
  49NZ20090521,   P21,   243,  1,      1, X12019,2,20090610,0002,-18.3690, 168.0462, 4191,   4215.1,2,   1.8675,2,   1.86741,2,  34.6836,2,  34.6835,6,   156.93,2,   156.53,2,   122.97,2,     0.39,    35.09,2,     0.13,     0.01,2,     0.01,    2.484,2,    0.016,    0.000,2,    0.000,2,    0.000,2,   2310.4,2,   2400.3,2,   7.5910,  25,2,  -999.00,9,  -999.00,   -999.0,9,   -999.0,   1.5141,  27.7552