BOTTLE,20111109CCHDOSIOCBG
EXPOCODE,SECT_ID,STNNBR,CASTNO,SAMPNO,BTLNBR,BTLNBR_FLAG_W,DATE,TIME,LATITUDE,LONGITUDE,DEPTH,CTDPRS,CTDPRS_FLAG_W,CTDTMP,CTDTMP_FLAG_W,SBE35,SBE35_FLAG_W,CTDSAL,CTDSAL_FLAG_W,SALNTY,SALNTY_FLAG_W,CTDOXY,CTDOXY_FLAG_W,OXYGEN,OXYGEN_FLAG_W,SILCAT,SILCAT_FLAG_W,SILUNC,NITRAT,NITRAT_FLAG_W,NRAUNC,NITRIT,NITRIT_FLAG_W,NRIUNC,PHSPHT,PHSPHT_FLAG_W,PHPUNC,CFC-11,CFC-11_FLAG_W,CFC-12,CFC-12_FLAG_W,CFC113,CFC113_FLAG_W,TCARBN,TCARBN_FLAG_W,ALKALI,ALKALI_FLAG_W,PH_TOT,PH_TMP,PH_TOT_FLAG_W,DELC13,DELC13_FLAG_W,C13ERR,DELC14,DELC14_FLAG_W,C14ERR,THETA,SIG0
,,,,,,,,,,,METERS,DBAR,,ITS-90,,ITS-90,,PSS-78,,PSS-78,,UMOL/KG,,UMOL/KG,,UMOL/KG,,UMOL/KG,UMOL/KG,,UMOL/KG,UMOL/KG,,UMOL/KG,UMOL/KG,,UMOL/KG,PMOL/KG,,PMOL/KG,,PMOL/KG,,UMOL/KG,,UMOL/KG,,,DEG C,,/MILLE,,/MILLE,/MILLE,,/MILLE,DEG C,KG/M^3
  49NZ20090521,   P21,   211,  1,      0,   -999,9,20090604,2140,-17.4985,-177.6697, 2271,   -999.0,9,-999.0000,9,-999.00000,9,-999.0000,9,  35.5615,2,  -999.00,9,  -999.00,9,  -999.00,9,  -999.00,  -999.00,9,  -999.00,  -999.00,9,  -999.00, -999.000,9, -999.000, -999.000,9, -999.000,9, -999.000,9,   -999.0,9,   -999.0,9,-999.0000,-999,9,  -999.00,9,  -999.00,   -999.0,9,   -999.0,-999.0000,-999.0000
  49NZ20090521,   P21,   211,  1,     36, X12043,2,20090604,2140,-17.4985,-177.6697, 2271,     11.2,2,  27.5165,2,  27.51680,2,  35.5538,2,  35.5515,2,   197.67,2,   198.16,2,     0.74,2,     0.12,     0.05,2,     0.03,     0.01,2,     0.01,    0.131,2,    0.019,    1.453,2,    0.897,2, -999.000,5,   -999.0,9,   -999.0,9,-999.0000,-999,9,  -999.00,9,  -999.00,   -999.0,9,   -999.0,  27.5139,  22.9695
  49NZ20090521,   P21,   211,  1,     35, X12042,2,20090604,2140,-17.4985,-177.6697, 2271,     52.4,2,  27.5244,2,  27.52413,2,  35.5523,2,  35.5516,2,   197.63,2,   198.07,2,     0.62,2,     0.12,     0.04,2,     0.03,     0.01,2,     0.01,    0.132,2,    0.019,    1.457,2,    0.902,2, -999.000,5,   -999.0,9,   -999.0,9,-999.0000,-999,9,  -999.00,9,  -999.00,   -999.0,9,   -999.0,  27.5122,  22.9690
  49NZ20090521,   P21,   211,  1,     34, X12016,2,20090604,2140,-17.4985,-177.6697, 2271,    100.7,2,  25.8965,2,  25.89461,2,  35.8499,2,  35.8509,2,   193.87,2,   195.67,2,     0.63,2,     0.12,     0.04,2,     0.03,     0.05,2,     0.01,    0.191,2,    0.016,    1.617,6,    1.004,6, -999.000,5,   -999.0,9,   -999.0,9,-999.0000,-999,9,  -999.00,9,  -999.00,   -999.0,9,   -999.0,  25.8740,  23.7141
  49NZ20090521,   P21,   211,  1,     33, X12015,2,20090604,2140,-17.4985,-177.6697, 2271,    149.9,2,  24.2221,2,  24.22703,2,  36.0176,2,  36.0172,2,   169.85,2,   170.28,2,     0.63,2,     0.12,     1.39,2,     0.04,     0.04,2,     0.01,    0.349,2,    0.014,    1.768,2,    1.079,2,    0.123,2,   -999.0,9,   -999.0,9,-999.0000,-999,9,  -999.00,9,  -999.00,   -999.0,9,   -999.0,  24.1902,  24.3553
  49NZ20090521,   P21,   211,  1,     32, X12050,2,20090604,2140,-17.4985,-177.6697, 2271,    202.6,2,  21.9869,2,  21.98293,2,  35.9396,2,  35.9396,2,   163.41,2,   163.64,2,     0.81,2,     0.12,     3.72,2,     0.04,     0.02,2,     0.01,    0.494,2,    0.013,    1.955,2,    1.151,2,    0.057,2,   -999.0,9,   -999.0,9,-999.0000,-999,9,  -999.00,9,  -999.00,   -999.0,9,   -999.0,  21.9466,  24.9470
  49NZ20090521,   P21,   211,  1,     31, X12014,2,20090604,2140,-17.4985,-177.6697, 2271,    250.7,2,  19.9882,2,  19.99248,2,  35.6854,2,  35.6831,6,   166.62,2,   167.18,2,     1.13,2,     0.12,     4.85,2,     0.05,     0.01,2,     0.01,    0.546,2,    0.013,    2.103,2,    1.219,2,    0.026,2,   -999.0,9,   -999.0,9,-999.0000,-999,9,  -999.00,9,  -999.00,   -999.0,9,   -999.0,  19.9416,  25.3001
  49NZ20090521,   P21,   211,  1,     30, X12012,2,20090604,2140,-17.4985,-177.6697, 2271,    301.7,2,  17.2868,2,  17.28331,2,  35.3915,2,  35.3915,2,   175.60,2,   175.84,2,     1.81,2,     0.12,     6.47,2,     0.05,     0.01,2,     0.01,    0.618,2,    0.013,    2.244,2,    1.261,2,    0.024,2,   -999.0,9,   -999.0,9,-999.0000,-999,9,  -999.00,9,  -999.00,   -999.0,9,   -999.0,  17.2362,  25.7583
  49NZ20090521,   P21,   211,  1,     29, X12041,2,20090604,2140,-17.4985,-177.6697, 2271,    402.7,2,  13.0989,2,  13.09367,2,  34.9732,2,  34.9824,2,   186.72,2,   186.64,2,     3.45,2,     0.13,    11.64,2,     0.07,     0.01,2,     0.01,    0.935,2,    0.013,    2.335,6,    1.234,6,    0.034,6,   -999.0,9,   -999.0,9,-999.0000,-999,9,  -999.00,9,  -999.00,   -999.0,9,   -999.0,  13.0428,  26.3635
  49NZ20090521,   P21,   211,  1,     28, X12040,2,20090604,2140,-17.4985,-177.6697, 2271,    501.8,2,   9.1465,2,   9.14567,2,  34.5695,2,  34.5725,6,   193.73,2,   193.41,2,     7.50,2,     0.14,    19.99,2,     0.09,     0.01,2,     0.01,    1.461,2,    0.014,    2.107,2,    1.055,2,    0.045,2,   -999.0,9,   -999.0,9,-999.0000,-999,9,  -999.00,9,  -999.00,   -999.0,9,   -999.0,   9.0908,  26.7664
  49NZ20090521,   P21,   211,  1,     27, X12009,2,20090604,2140,-17.4985,-177.6697, 2271,    601.2,2,   7.2267,2,   7.22707,2,  34.4117,2,  34.4117,2,   205.09,2,   205.03,2,    10.91,2,     0.14,    24.18,2,     0.10,     0.01,2,     0.01,    1.720,2,    0.014,    1.763,6,    0.865,6,    0.041,6,   -999.0,9,   -999.0,9,-999.0000,-999,9,  -999.00,9,  -999.00,   -999.0,9,   -999.0,   7.1683,  26.9320
  49NZ20090521,   P21,   211,  1,     26, X12008,2,20090604,2140,-17.4985,-177.6697, 2271,    702.7,2,   6.0033,2,   6.00401,2,  34.3560,2,  34.3558,2,   199.64,2,   199.72,2,    17.67,2,     0.16,    27.86,2,     0.11,     0.01,2,     0.01,    1.956,2,    0.015,    0.950,2,    0.471,2,    0.023,2,   -999.0,9,   -999.0,9,-999.0000,-999,9,  -999.00,9,  -999.00,   -999.0,9,   -999.0,   5.9411,  27.0512
  49NZ20090521,   P21,   211,  1,     25, X12007,2,20090604,2140,-17.4985,-177.6697, 2271,    802.4,2,   5.4473,2,   5.44753,2,  34.3669,2,  34.3663,2,   185.85,2,   186.23,2,    26.39,2,     0.18,    30.09,2,     0.12,     0.01,2,     0.01,    2.106,2,    0.015,    0.518,2,    0.264,2,    0.010,2,   -999.0,9,   -999.0,9,-999.0000,-999,9,  -999.00,9,  -999.00,   -999.0,9,   -999.0,   5.3790,  27.1288
  49NZ20090521,   P21,   211,  1,     24, X12035,2,20090604,2140,-17.4985,-177.6697, 2271,    900.0,2,   4.8328,2,   4.82787,2,  34.3996,2,  34.3991,2,   170.54,2,   170.96,2,    38.83,2,     0.20,    32.32,2,     0.12,     0.01,2,     0.01,    2.267,2,    0.016,    0.221,2,    0.114,2,    0.014,2,   -999.0,9,   -999.0,9,-999.0000,-999,9,  -999.00,9,  -999.00,   -999.0,9,   -999.0,   4.7598,  27.2266
  49NZ20090521,   P21,   211,  1,     23, X12038,2,20090604,2140,-17.4985,-177.6697, 2271,    999.2,2,   4.3710,2,   4.37088,2,  34.4257,2,  34.4257,2,   163.61,2,   163.91,2,    48.56,2,     0.23,    33.42,2,     0.13,     0.01,2,     0.01,    2.348,2,    0.016,    0.113,2,    0.059,2,    0.004,2,   -999.0,9,   -999.0,9,-999.0000,-999,9,  -999.00,9,  -999.00,   -999.0,9,   -999.0,   4.2927,  27.2986
  49NZ20090521,   P21,   211,  1,     22, X12034,2,20090604,2140,-17.4985,-177.6697, 2271,   1200.2,2,   3.4749,2,   3.47379,2,  34.4962,2,  34.4955,2,   156.91,2,   157.08,2,    70.98,2,     0.28,    34.71,2,     0.13,     0.01,2,     0.01,    2.435,2,    0.016,    0.041,2,    0.026,2,    0.000,2,   -999.0,9,   -999.0,9,-999.0000,-999,9,  -999.00,9,  -999.00,   -999.0,9,   -999.0,   3.3871,  27.4466
  49NZ20090521,   P21,   211,  1,     21, X12033,2,20090604,2140,-17.4985,-177.6697, 2271,   1400.2,2,   3.0668,2,   3.06753,2,  34.5337,2,  34.5328,6,   154.79,2,   155.03,2,    82.83,2,     0.30,    35.02,2,     0.13,     0.01,2,     0.01,    2.464,2,    0.016,    0.024,2,    0.016,2,    0.000,2,   -999.0,9,   -999.0,9,-999.0000,-999,9,  -999.00,9,  -999.00,   -999.0,9,   -999.0,   2.9666,  27.5159
  49NZ20090521,   P21,   211,  1,     20, X12032,2,20090604,2140,-17.4985,-177.6697, 2271,   1600.4,2,   2.7047,2,   2.70473,2,  34.5777,2,  34.5781,2,   149.51,2,   149.73,2,    97.64,2,     0.33,    35.51,2,     0.13,     0.01,2,     0.01,    2.502,2,    0.016,    0.009,2,    0.012,2,    0.000,2,   -999.0,9,   -999.0,9,-999.0000,-999,9,  -999.00,9,  -999.00,   -999.0,9,   -999.0,   2.5920,  27.5844
  49NZ20090521,   P21,   211,  1,     19, X12046,2,20090604,2140,-17.4985,-177.6697, 2271,   1800.9,2,   2.5026,2,   2.50251,2,  34.6017,2,  34.6013,6,   147.34,2,   147.53,2,   105.54,2,     0.35,    35.72,2,     0.13,     0.01,2,     0.01,    2.523,2,    0.016,    0.005,2,    0.012,2,    0.000,2,   -999.0,9,   -999.0,9,-999.0000,-999,9,  -999.00,9,  -999.00,   -999.0,9,   -999.0,   2.3757,  27.6219
  49NZ20090521,   P21,   211,  1,     18, X12006,2,20090604,2140,-17.4985,-177.6697, 2271,   2002.0,2,   2.4010,2,   2.40091,2,  34.6143,2,  34.6142,2,   146.24,2,   146.41,2,   110.00,2,     0.36,    35.85,2,     0.13,     0.01,2,     0.01,    2.532,2,    0.016,    0.006,2,    0.008,2,    0.000,2,   -999.0,9,   -999.0,9,-999.0000,-999,9,  -999.00,9,  -999.00,   -999.0,9,   -999.0,   2.2584,  27.6418
  49NZ20090521,   P21,   211,  1,     17, X12047,2,20090604,2140,-17.4985,-177.6697, 2271,   2201.1,2,   2.3848,2,   2.38486,2,  34.6175,2,  34.6177,2,   146.18,2,   146.20,2,   111.20,2,     0.36,    35.94,2,     0.13,     0.01,2,     0.01,    2.532,2,    0.016,    0.004,2,    0.008,2,    0.000,2,   -999.0,9,   -999.0,9,-999.0000,-999,9,  -999.00,9,  -999.00,   -999.0,9,   -999.0,   2.2249,  27.6471
  49NZ20090521,   P21,   211,  1,     16, X12004,9,20090604,2140,-17.4985,-177.6697, 2271,     51.9,2,  27.5236,2,  27.52338,2,  35.5527,2,-999.0000,9,   197.57,2,  -999.00,9,  -999.00,9,  -999.00,  -999.00,9,  -999.00,  -999.00,9,  -999.00, -999.000,9, -999.000, -999.000,9, -999.000,9, -999.000,9,   -999.0,9,   -999.0,9,-999.0000,-999,9,  -999.00,9,  -999.00,   -999.0,9,   -999.0,  27.5115,  22.9694
  49NZ20090521,   P21,   211,  1,     15, X12003,9,20090604,2140,-17.4985,-177.6697, 2271,    101.5,2,  25.9820,2,  25.98454,2,  35.8505,2,-999.0000,9,   195.71,2,  -999.00,9,  -999.00,9,  -999.00,  -999.00,9,  -999.00,  -999.00,9,  -999.00, -999.000,9, -999.000, -999.000,9, -999.000,9, -999.000,9,   -999.0,9,   -999.0,9,-999.0000,-999,9,  -999.00,9,  -999.00,   -999.0,9,   -999.0,  25.9593,  23.6879
  49NZ20090521,   P21,   211,  1,     14, X12002,9,20090604,2140,-17.4985,-177.6697, 2271,    149.9,2,  24.2279,2,  24.23087,2,  36.0183,2,-999.0000,9,   169.95,2,  -999.00,9,  -999.00,9,  -999.00,  -999.00,9,  -999.00,  -999.00,9,  -999.00, -999.000,9, -999.000, -999.000,9, -999.000,9, -999.000,9,   -999.0,9,   -999.0,9,-999.0000,-999,9,  -999.00,9,  -999.00,   -999.0,9,   -999.0,  24.1960,  24.3541
  49NZ20090521,   P21,   211,  1,     13, X12001,9,20090604,2140,-17.4985,-177.6697, 2271,    202.1,2,  21.9766,2,  21.98393,2,  35.9392,2,-999.0000,9,   163.44,2,  -999.00,9,  -999.00,9,  -999.00,  -999.00,9,  -999.00,  -999.00,9,  -999.00, -999.000,9, -999.000, -999.000,9, -999.000,9, -999.000,9,   -999.0,9,   -999.0,9,-999.0000,-999,9,  -999.00,9,  -999.00,   -999.0,9,   -999.0,  21.9364,  24.9496
  49NZ20090521,   P21,   211,  1,     12, X12030,9,20090604,2140,-17.4985,-177.6697, 2271,    250.0,2,  19.9938,2,  19.98462,2,  35.6868,2,-999.0000,9,   166.78,2,  -999.00,9,  -999.00,9,  -999.00,  -999.00,9,  -999.00,  -999.00,9,  -999.00, -999.000,9, -999.000, -999.000,9, -999.000,9, -999.000,9,   -999.0,9,   -999.0,9,-999.0000,-999,9,  -999.00,9,  -999.00,   -999.0,9,   -999.0,  19.9473,  25.2996
  49NZ20090521,   P21,   211,  1,     11, X12044,9,20090604,2140,-17.4985,-177.6697, 2271,    301.6,2,  17.2852,2,  17.28709,2,  35.3916,2,-999.0000,9,   175.84,2,  -999.00,9,  -999.00,9,  -999.00,  -999.00,9,  -999.00,  -999.00,9,  -999.00, -999.000,9, -999.000, -999.000,9, -999.000,9, -999.000,9,   -999.0,9,   -999.0,9,-999.0000,-999,9,  -999.00,9,  -999.00,   -999.0,9,   -999.0,  17.2346,  25.7587
  49NZ20090521,   P21,   211,  1,     10, X12048,9,20090604,2140,-17.4985,-177.6697, 2271,    401.2,2,  13.1348,2,  13.13274,2,  34.9772,2,-999.0000,9,   186.70,2,  -999.00,9,  -999.00,9,  -999.00,  -999.00,9,  -999.00,  -999.00,9,  -999.00, -999.000,9, -999.000, -999.000,9, -999.000,9, -999.000,9,   -999.0,9,   -999.0,9,-999.0000,-999,9,  -999.00,9,  -999.00,   -999.0,9,   -999.0,  13.0788,  26.3593
  49NZ20090521,   P21,   211,  1,      9, X12027,9,20090604,2140,-17.4985,-177.6697, 2271,    502.6,2,   9.1249,2,   9.13007,2,  34.5679,2,-999.0000,9,   194.07,2,  -999.00,9,  -999.00,9,  -999.00,  -999.00,9,  -999.00,  -999.00,9,  -999.00, -999.000,9, -999.000, -999.000,9, -999.000,9, -999.000,9,   -999.0,9,   -999.0,9,-999.0000,-999,9,  -999.00,9,  -999.00,   -999.0,9,   -999.0,   9.0692,  26.7687
  49NZ20090521,   P21,   211,  1,      8, X12026,9,20090604,2140,-17.4985,-177.6697, 2271,    600.8,2,   7.2288,2,   7.22902,2,  34.4119,2,-999.0000,9,   205.13,2,  -999.00,9,  -999.00,9,  -999.00,  -999.00,9,  -999.00,  -999.00,9,  -999.00, -999.000,9, -999.000, -999.000,9, -999.000,9, -999.000,9,   -999.0,9,   -999.0,9,-999.0000,-999,9,  -999.00,9,  -999.00,   -999.0,9,   -999.0,   7.1704,  26.9318
  49NZ20090521,   P21,   211,  1,      7, X12025,9,20090604,2140,-17.4985,-177.6697, 2271,    702.9,2,   6.0007,2,   6.00081,2,  34.3558,2,-999.0000,9,   199.66,2,  -999.00,9,  -999.00,9,  -999.00,  -999.00,9,  -999.00,  -999.00,9,  -999.00, -999.000,9, -999.000, -999.000,9, -999.000,9, -999.000,9,   -999.0,9,   -999.0,9,-999.0000,-999,9,  -999.00,9,  -999.00,   -999.0,9,   -999.0,   5.9384,  27.0514
  49NZ20090521,   P21,   211,  1,      6, X12024,9,20090604,2140,-17.4985,-177.6697, 2271,    801.5,2,   5.4478,2,   5.44729,2,  34.3670,2,-999.0000,9,   185.97,2,  -999.00,9,  -999.00,9,  -999.00,  -999.00,9,  -999.00,  -999.00,9,  -999.00, -999.000,9, -999.000, -999.000,9, -999.000,9, -999.000,9,   -999.0,9,   -999.0,9,-999.0000,-999,9,  -999.00,9,  -999.00,   -999.0,9,   -999.0,   5.3796,  27.1288
  49NZ20090521,   P21,   211,  1,      5, X12028,9,20090604,2140,-17.4985,-177.6697, 2271,    900.7,2,   4.8071,2,   4.80098,2,  34.4004,2,-999.0000,9,   170.41,2,  -999.00,9,  -999.00,9,  -999.00,  -999.00,9,  -999.00,  -999.00,9,  -999.00, -999.000,9, -999.000, -999.000,9, -999.000,9, -999.000,9,   -999.0,9,   -999.0,9,-999.0000,-999,9,  -999.00,9,  -999.00,   -999.0,9,   -999.0,   4.7342,  27.2301
  49NZ20090521,   P21,   211,  1,      4, X12022,9,20090604,2140,-17.4985,-177.6697, 2271,    998.6,2,   4.3620,2,   4.36236,2,  34.4266,2,-999.0000,9,   163.51,2,  -999.00,9,  -999.00,9,  -999.00,  -999.00,9,  -999.00,  -999.00,9,  -999.00, -999.000,9, -999.000, -999.000,9, -999.000,9, -999.000,9,   -999.0,9,   -999.0,9,-999.0000,-999,9,  -999.00,9,  -999.00,   -999.0,9,   -999.0,   4.2838,  27.3002
  49NZ20090521,   P21,   211,  1,      3, X12021,9,20090604,2140,-17.4985,-177.6697, 2271,   1199.2,2,   3.4777,2,   3.47759,2,  34.4958,2,-999.0000,9,   156.91,2,  -999.00,9,  -999.00,9,  -999.00,  -999.00,9,  -999.00,  -999.00,9,  -999.00, -999.000,9, -999.000, -999.000,9, -999.000,9, -999.000,9,   -999.0,9,   -999.0,9,-999.0000,-999,9,  -999.00,9,  -999.00,   -999.0,9,   -999.0,   3.3900,  27.4460
  49NZ20090521,   P21,   211,  1,      2, X12020,9,20090604,2140,-17.4985,-177.6697, 2271,   1400.3,2,   3.0685,2,   3.06889,2,  34.5337,2,-999.0000,9,   154.80,2,  -999.00,9,  -999.00,9,  -999.00,  -999.00,9,  -999.00,  -999.00,9,  -999.00, -999.000,9, -999.000, -999.000,9, -999.000,9, -999.000,9,   -999.0,9,   -999.0,9,-999.0000,-999,9,  -999.00,9,  -999.00,   -999.0,9,   -999.0,   2.9683,  27.5157
  49NZ20090521,   P21,   211,  1,      1, X12019,2,20090604,2140,-17.4985,-177.6697, 2271,   2277.7,2,   2.3725,2,   2.37242,2,  34.6192,2,  34.6193,6,   146.22,2,   146.20,2,   111.53,2,     0.36,    35.96,2,     0.13,     0.01,2,     0.01,    2.536,2,    0.016,    0.003,2,    0.008,2,    0.000,2,   -999.0,9,   -999.0,9,-999.0000,-999,9,  -999.00,9,  -999.00,   -999.0,9,   -999.0,   2.2059,  27.6500