BOTTLE,20111109CCHDOSIOCBG
EXPOCODE,SECT_ID,STNNBR,CASTNO,SAMPNO,BTLNBR,BTLNBR_FLAG_W,DATE,TIME,LATITUDE,LONGITUDE,DEPTH,CTDPRS,CTDPRS_FLAG_W,CTDTMP,CTDTMP_FLAG_W,SBE35,SBE35_FLAG_W,CTDSAL,CTDSAL_FLAG_W,SALNTY,SALNTY_FLAG_W,CTDOXY,CTDOXY_FLAG_W,OXYGEN,OXYGEN_FLAG_W,SILCAT,SILCAT_FLAG_W,SILUNC,NITRAT,NITRAT_FLAG_W,NRAUNC,NITRIT,NITRIT_FLAG_W,NRIUNC,PHSPHT,PHSPHT_FLAG_W,PHPUNC,CFC-11,CFC-11_FLAG_W,CFC-12,CFC-12_FLAG_W,CFC113,CFC113_FLAG_W,TCARBN,TCARBN_FLAG_W,ALKALI,ALKALI_FLAG_W,PH_TOT,PH_TMP,PH_TOT_FLAG_W,DELC13,DELC13_FLAG_W,C13ERR,DELC14,DELC14_FLAG_W,C14ERR,THETA,SIG0
,,,,,,,,,,,METERS,DBAR,,ITS-90,,ITS-90,,PSS-78,,PSS-78,,UMOL/KG,,UMOL/KG,,UMOL/KG,,UMOL/KG,UMOL/KG,,UMOL/KG,UMOL/KG,,UMOL/KG,UMOL/KG,,UMOL/KG,PMOL/KG,,PMOL/KG,,PMOL/KG,,UMOL/KG,,UMOL/KG,,,DEG C,,/MILLE,,/MILLE,/MILLE,,/MILLE,DEG C,KG/M^3
  49NZ20090521,   P21,   232,  1,      0,   -999,9,20090608,1149,-17.8327, 171.6638, 2757,   -999.0,9,-999.0000,9,-999.00000,9,-999.0000,9,  34.8984,2,  -999.00,9,  -999.00,9,  -999.00,9,  -999.00,  -999.00,9,  -999.00,  -999.00,9,  -999.00, -999.000,9, -999.000, -999.000,9, -999.000,9, -999.000,9,   -999.0,9,   -999.0,9,-999.0000,-999,9,  -999.00,9,  -999.00,   -999.0,9,   -999.0,-999.0000,-999.0000
  49NZ20090521,   P21,   232,  1,     36, X12043,2,20090608,1149,-17.8327, 171.6638, 2757,     10.2,2,  26.5554,2,  26.55566,2,  34.8914,2,  34.8881,2,   201.83,2,   201.52,2,     0.57,2,     0.12,     0.07,2,     0.03,     0.01,2,     0.01,    0.061,2,    0.030,    1.524,2,    0.990,2, -999.000,5,   -999.0,9,   -999.0,9,-999.0000,-999,9,  -999.00,9,  -999.00,   -999.0,9,   -999.0,  26.5531,  22.7779
  49NZ20090521,   P21,   232,  1,     35, X12042,2,20090608,1149,-17.8327, 171.6638, 2757,     50.5,2,  26.3679,2,  26.36778,2,  34.8769,2,  34.8739,2,   201.66,2,   201.52,2,     0.45,2,     0.12,     0.07,2,     0.03,     0.01,2,     0.01,    0.056,2,    0.032,    1.514,2,    0.973,2, -999.000,5,   -999.0,9,   -999.0,9,-999.0000,-999,9,  -999.00,9,  -999.00,   -999.0,9,   -999.0,  26.3565,  22.8289
  49NZ20090521,   P21,   232,  1,     34, X12016,2,20090608,1149,-17.8327, 171.6638, 2757,    101.1,2,  25.1329,2,  25.13513,2,  35.4149,2,  35.4112,2,   170.97,2,   170.51,2,     0.71,2,     0.12,     2.01,2,     0.04,     0.06,2,     0.01,    0.306,2,    0.014,    1.694,6,    1.069,6, -999.000,5,   -999.0,9,   -999.0,9,-999.0000,-999,9,  -999.00,9,  -999.00,   -999.0,9,   -999.0,  25.1109,  23.6210
  49NZ20090521,   P21,   232,  1,     33, X12015,2,20090608,1149,-17.8327, 171.6638, 2757,    150.4,2,  23.5294,2,  23.53286,2,  35.8417,2,  35.8442,2,   152.88,2,   152.60,2,     0.74,2,     0.12,     3.86,2,     0.04,     0.03,2,     0.01,    0.458,2,    0.013,    1.818,2,    1.130,2,    0.068,2,   -999.0,9,   -999.0,9,-999.0000,-999,9,  -999.00,9,  -999.00,   -999.0,9,   -999.0,  23.4981,  24.4270
  49NZ20090521,   P21,   232,  1,     32, X12050,2,20090608,1149,-17.8327, 171.6638, 2757,    200.4,2,  21.6245,2,  21.61902,2,  35.7800,2,  35.7769,2,   155.35,2,   155.47,2,     0.88,2,     0.12,     5.02,2,     0.05,     0.02,2,     0.01,    0.509,2,    0.013,    1.941,2,    1.175,2,    0.045,2,   -999.0,9,   -999.0,9,-999.0000,-999,9,  -999.00,9,  -999.00,   -999.0,9,   -999.0,  21.5852,  24.9266
  49NZ20090521,   P21,   232,  1,     31, X12014,2,20090608,1149,-17.8327, 171.6638, 2757,    250.1,2,  19.4474,2,  19.44602,2,  35.6207,2,  35.6187,6,   166.00,2,   165.50,2,     1.19,2,     0.12,     5.77,2,     0.05,     0.02,2,     0.01,    0.527,2,    0.013,    2.076,2,    1.233,2,    0.026,2,   -999.0,9,   -999.0,9,-999.0000,-999,9,  -999.00,9,  -999.00,   -999.0,9,   -999.0,  19.4018,  25.3921
  49NZ20090521,   P21,   232,  1,     30, X12012,2,20090608,1149,-17.8327, 171.6638, 2757,    281.2,2,  17.9525,2,  17.95372,2,  35.5017,2,  35.5010,2,   169.67,2,   169.97,2,     1.65,2,     0.12,     6.83,2,     0.05,     0.02,2,     0.01,    0.601,2,    0.013,    2.153,2,    1.247,2,    0.021,2,   -999.0,9,   -999.0,9,-999.0000,-999,9,  -999.00,9,  -999.00,   -999.0,9,   -999.0,  17.9040,  25.6801
  49NZ20090521,   P21,   232,  1,     29, X12041,2,20090608,1149,-17.8327, 171.6638, 2757,    370.4,2,  14.2292,2,  14.22827,2,  35.0827,2,  35.0805,2,   165.97,2,   165.69,2,     4.57,2,     0.13,    12.44,2,     0.07,     0.01,2,     0.01,    1.012,2,    0.013,    2.022,6,    1.113,6,    0.017,6,   -999.0,9,   -999.0,9,-999.0000,-999,9,  -999.00,9,  -999.00,   -999.0,9,   -999.0,  14.1747,  26.2141
  49NZ20090521,   P21,   232,  1,     28, X12040,2,20090608,1149,-17.8327, 171.6638, 2757,    471.2,2,  10.4449,2,  10.44634,2,  34.7019,2,  34.7011,6,   162.15,2,   161.84,2,    10.04,2,     0.14,    20.27,2,     0.09,     0.01,2,     0.01,    1.525,2,    0.014,    1.533,2,    0.805,2,    0.019,2,   -999.0,9,   -999.0,9,-999.0000,-999,9,  -999.00,9,  -999.00,   -999.0,9,   -999.0,  10.3881,  26.6521
  49NZ20090521,   P21,   232,  1,     27, X12009,2,20090608,1149,-17.8327, 171.6638, 2757,    572.0,2,   7.9179,2,   7.92023,2,  34.4894,2,  34.4899,2,   181.90,2,   181.66,2,    13.27,2,     0.15,    24.47,2,     0.10,     0.01,2,     0.01,    1.759,2,    0.015,    1.322,6,    0.674,6,    0.021,6,   -999.0,9,   -999.0,9,-999.0000,-999,9,  -999.00,9,  -999.00,   -999.0,9,   -999.0,   7.8594,  26.8937
  49NZ20090521,   P21,   232,  1,     26, X12008,2,20090608,1149,-17.8327, 171.6638, 2757,    669.9,2,   6.1216,2,   6.12077,2,  34.3791,2,  34.3788,2,   193.86,2,   193.41,2,    19.46,2,     0.16,    28.01,2,     0.11,     0.01,2,     0.01,    1.965,2,    0.015,    0.825,2,    0.422,2,    0.017,2,   -999.0,9,   -999.0,9,-999.0000,-999,9,  -999.00,9,  -999.00,   -999.0,9,   -999.0,   6.0618,  27.0542
  49NZ20090521,   P21,   232,  1,     25, X12007,2,20090608,1149,-17.8327, 171.6638, 2757,    770.6,2,   5.2203,2,   5.22014,2,  34.3911,2,  34.3909,2,   178.88,2,   178.62,2,    32.25,2,     0.19,    30.99,2,     0.12,     0.01,2,     0.01,    2.166,2,    0.015,    0.355,2,    0.184,2,    0.000,2,   -999.0,9,   -999.0,9,-999.0000,-999,9,  -999.00,9,  -999.00,   -999.0,9,   -999.0,   5.1562,  27.1744
  49NZ20090521,   P21,   232,  1,     24, X12035,2,20090608,1149,-17.8327, 171.6638, 2757,    871.0,2,   4.6034,2,   4.60361,2,  34.4152,2,  34.4147,2,   168.90,2,   168.60,2,    43.60,2,     0.21,    32.67,2,     0.12,     0.01,2,     0.01,    2.280,2,    0.016,    0.169,2,    0.087,2,    0.000,2,   -999.0,9,   -999.0,9,-999.0000,-999,9,  -999.00,9,  -999.00,   -999.0,9,   -999.0,   4.5344,  27.2640
  49NZ20090521,   P21,   232,  1,     23, X12038,2,20090608,1149,-17.8327, 171.6638, 2757,    970.1,2,   4.1715,2,   4.17155,2,  34.4500,2,  34.4498,6,   162.58,2,   162.25,2,    54.67,2,     0.24,    33.66,2,     0.13,     0.01,2,     0.01,    2.355,2,    0.016,    0.089,2,    0.050,2,    0.000,2,   -999.0,9,   -999.0,9,-999.0000,-999,9,  -999.00,9,  -999.00,   -999.0,9,   -999.0,   4.0971,  27.3386
  49NZ20090521,   P21,   232,  1,     22, X12034,2,20090608,1149,-17.8327, 171.6638, 2757,   1130.8,2,   3.5611,2,   3.56086,2,  34.5062,2,  34.5060,2,   154.98,2,   154.71,2,    72.55,2,     0.28,    34.59,2,     0.13,     0.01,2,     0.01,    2.423,2,    0.016,    0.033,2,    0.018,2,    0.000,2,   -999.0,9,   -999.0,9,-999.0000,-999,9,  -999.00,9,  -999.00,   -999.0,9,   -999.0,   3.4782,  27.4458
  49NZ20090521,   P21,   232,  1,     21, X12033,2,20090608,1149,-17.8327, 171.6638, 2757,   1331.7,2,   3.1255,2,   3.12548,2,  34.5506,2,  34.5505,2,   150.57,2,   150.26,2,    86.55,2,     0.31,    35.00,2,     0.13,     0.01,2,     0.01,    2.465,2,    0.016,    0.015,2,    0.008,2,    0.000,2,   -999.0,9,   -999.0,9,-999.0000,-999,9,  -999.00,9,  -999.00,   -999.0,9,   -999.0,   3.0303,  27.5236
  49NZ20090521,   P21,   232,  1,     20, X12032,2,20090608,1149,-17.8327, 171.6638, 2757,   1531.6,2,   2.8006,2,   2.80071,2,  34.5824,2,  34.5822,2,   146.86,2,   146.42,2,    97.34,2,     0.33,    35.66,2,     0.13,     0.01,2,     0.01,    2.509,2,    0.016,    0.005,2,    0.003,2,    0.000,2,   -999.0,9,   -999.0,9,-999.0000,-999,9,  -999.00,9,  -999.00,   -999.0,9,   -999.0,   2.6924,  27.5794
  49NZ20090521,   P21,   232,  1,     19, X12046,2,20090608,1149,-17.8327, 171.6638, 2757,   1731.0,2,   2.5529,2,   2.55300,2,  34.6051,2,  34.6050,2,   144.32,2,   144.02,2,   105.64,2,     0.35,    35.97,2,     0.13,     0.01,2,     0.01,    2.532,2,    0.016,    0.001,2,    0.001,2,    0.000,2,   -999.0,9,   -999.0,9,-999.0000,-999,9,  -999.00,9,  -999.00,   -999.0,9,   -999.0,   2.4312,  27.6200
  49NZ20090521,   P21,   232,  1,     18, X12006,2,20090608,1149,-17.8327, 171.6638, 2757,   1931.3,2,   2.3464,2,   2.34643,2,  34.6226,2,  34.6226,6,   144.95,2,   144.69,2,   111.67,2,     0.36,    36.00,2,     0.13,     0.01,2,     0.01,    2.537,2,    0.016,    0.002,2,    0.002,2,    0.000,2,   -999.0,9,   -999.0,9,-999.0000,-999,9,  -999.00,9,  -999.00,   -999.0,9,   -999.0,   2.2106,  27.6523
  49NZ20090521,   P21,   232,  1,     17, X12047,2,20090608,1149,-17.8327, 171.6638, 2757,   2130.2,2,   2.1613,2,   2.16126,2,  34.6381,2,  34.6381,2,   145.59,2,   145.24,2,   117.43,2,     0.38,    36.04,2,     0.13,     0.01,2,     0.01,    2.531,2,    0.016,    0.001,2,    0.000,2,    0.000,2,   -999.0,9,   -999.0,9,-999.0000,-999,9,  -999.00,9,  -999.00,   -999.0,9,   -999.0,   2.0112,  27.6809
  49NZ20090521,   P21,   232,  1,     16, X12004,2,20090608,1149,-17.8327, 171.6638, 2757,   2330.1,2,   2.0323,2,   2.03226,2,  34.6486,2,  34.6482,2,   145.44,2,   145.09,2,   122.20,2,     0.39,    36.12,2,     0.13,     0.01,2,     0.01,    2.540,2,    0.016,    0.002,2,    0.001,2,    0.000,2,   -999.0,9,   -999.0,9,-999.0000,-999,9,  -999.00,9,  -999.00,   -999.0,9,   -999.0,   1.8668,  27.7006
  49NZ20090521,   P21,   232,  1,     15, X12003,2,20090608,1149,-17.8327, 171.6638, 2757,   2531.1,2,   1.9414,2,   1.94132,2,  34.6550,2,  34.6549,2,   144.98,2,   144.62,2,   125.73,2,     0.40,    36.27,2,     0.13,     0.01,2,     0.01,    2.549,2,    0.016,    0.000,2,    0.000,2,    0.000,2,   -999.0,9,   -999.0,9,-999.0000,-999,9,  -999.00,9,  -999.00,   -999.0,9,   -999.0,   1.7594,  27.7140
  49NZ20090521,   P21,   232,  1,     14, X12002,9,20090608,1149,-17.8327, 171.6638, 2757,     10.3,2,  26.5583,2,  26.55803,2,  34.8921,2,-999.0000,9,   201.94,2,  -999.00,9,  -999.00,9,  -999.00,  -999.00,9,  -999.00,  -999.00,9,  -999.00, -999.000,9, -999.000, -999.000,9, -999.000,9, -999.000,9,   -999.0,9,   -999.0,9,-999.0000,-999,9,  -999.00,9,  -999.00,   -999.0,9,   -999.0,  26.5560,  22.7775
  49NZ20090521,   P21,   232,  1,     13, X12001,9,20090608,1149,-17.8327, 171.6638, 2757,     50.7,2,  26.3692,2,  26.36945,2,  34.8772,2,-999.0000,9,   201.65,2,  -999.00,9,  -999.00,9,  -999.00,  -999.00,9,  -999.00,  -999.00,9,  -999.00, -999.000,9, -999.000, -999.000,9, -999.000,9, -999.000,9,   -999.0,9,   -999.0,9,-999.0000,-999,9,  -999.00,9,  -999.00,   -999.0,9,   -999.0,  26.3578,  22.8287
  49NZ20090521,   P21,   232,  1,     12, X12030,9,20090608,1149,-17.8327, 171.6638, 2757,    100.7,2,  25.1444,2,  25.14647,2,  35.4117,2,-999.0000,9,   170.86,2,  -999.00,9,  -999.00,9,  -999.00,  -999.00,9,  -999.00,  -999.00,9,  -999.00, -999.000,9, -999.000, -999.000,9, -999.000,9, -999.000,9,   -999.0,9,   -999.0,9,-999.0000,-999,9,  -999.00,9,  -999.00,   -999.0,9,   -999.0,  25.1224,  23.6150
  49NZ20090521,   P21,   232,  1,     11, X12044,9,20090608,1149,-17.8327, 171.6638, 2757,    150.7,2,  23.5324,2,  23.53143,2,  35.8468,2,-999.0000,9,   153.11,2,  -999.00,9,  -999.00,9,  -999.00,  -999.00,9,  -999.00,  -999.00,9,  -999.00, -999.000,9, -999.000, -999.000,9, -999.000,9, -999.000,9,   -999.0,9,   -999.0,9,-999.0000,-999,9,  -999.00,9,  -999.00,   -999.0,9,   -999.0,  23.5010,  24.4300
  49NZ20090521,   P21,   232,  1,     10, X12048,9,20090608,1149,-17.8327, 171.6638, 2757,    202.4,2,  21.3931,2,  21.39514,2,  35.7690,2,-999.0000,9,   156.21,2,  -999.00,9,  -999.00,9,  -999.00,  -999.00,9,  -999.00,  -999.00,9,  -999.00, -999.000,9, -999.000, -999.000,9, -999.000,9, -999.000,9,   -999.0,9,   -999.0,9,-999.0000,-999,9,  -999.00,9,  -999.00,   -999.0,9,   -999.0,  21.3537,  24.9824
  49NZ20090521,   P21,   232,  1,      9, X12027,9,20090608,1149,-17.8327, 171.6638, 2757,    250.3,2,  19.4411,2,  19.44367,2,  35.6206,2,-999.0000,9,   166.06,2,  -999.00,9,  -999.00,9,  -999.00,  -999.00,9,  -999.00,  -999.00,9,  -999.00, -999.000,9, -999.000, -999.000,9, -999.000,9, -999.000,9,   -999.0,9,   -999.0,9,-999.0000,-999,9,  -999.00,9,  -999.00,   -999.0,9,   -999.0,  19.3955,  25.3937
  49NZ20090521,   P21,   232,  1,      8, X12026,9,20090608,1149,-17.8327, 171.6638, 2757,    281.7,2,  17.9482,2,  17.94912,2,  35.5018,2,-999.0000,9,   169.89,2,  -999.00,9,  -999.00,9,  -999.00,  -999.00,9,  -999.00,  -999.00,9,  -999.00, -999.000,9, -999.000, -999.000,9, -999.000,9, -999.000,9,   -999.0,9,   -999.0,9,-999.0000,-999,9,  -999.00,9,  -999.00,   -999.0,9,   -999.0,  17.8997,  25.6812
  49NZ20090521,   P21,   232,  1,      7, X12025,9,20090608,1149,-17.8327, 171.6638, 2757,    370.9,2,  14.2221,2,  14.22149,2,  35.0822,2,-999.0000,9,   166.08,2,  -999.00,9,  -999.00,9,  -999.00,  -999.00,9,  -999.00,  -999.00,9,  -999.00, -999.000,9, -999.000, -999.000,9, -999.000,9, -999.000,9,   -999.0,9,   -999.0,9,-999.0000,-999,9,  -999.00,9,  -999.00,   -999.0,9,   -999.0,  14.1676,  26.2152
  49NZ20090521,   P21,   232,  1,      6, X12024,9,20090608,1149,-17.8327, 171.6638, 2757,    470.8,2,  10.4513,2,  10.45174,2,  34.7025,2,-999.0000,9,   162.18,2,  -999.00,9,  -999.00,9,  -999.00,  -999.00,9,  -999.00,  -999.00,9,  -999.00, -999.000,9, -999.000, -999.000,9, -999.000,9, -999.000,9,   -999.0,9,   -999.0,9,-999.0000,-999,9,  -999.00,9,  -999.00,   -999.0,9,   -999.0,  10.3946,  26.6515
  49NZ20090521,   P21,   232,  1,      5, X12028,9,20090608,1149,-17.8327, 171.6638, 2757,    572.3,2,   7.9098,2,   7.90870,2,  34.4891,2,-999.0000,9,   182.05,2,  -999.00,9,  -999.00,9,  -999.00,  -999.00,9,  -999.00,  -999.00,9,  -999.00, -999.000,9, -999.000, -999.000,9, -999.000,9, -999.000,9,   -999.0,9,   -999.0,9,-999.0000,-999,9,  -999.00,9,  -999.00,   -999.0,9,   -999.0,   7.8513,  26.8947
  49NZ20090521,   P21,   232,  1,      4, X12022,9,20090608,1149,-17.8327, 171.6638, 2757,    670.5,2,   6.1208,2,   6.12093,2,  34.3793,2,-999.0000,9,   193.98,2,  -999.00,9,  -999.00,9,  -999.00,  -999.00,9,  -999.00,  -999.00,9,  -999.00, -999.000,9, -999.000, -999.000,9, -999.000,9, -999.000,9,   -999.0,9,   -999.0,9,-999.0000,-999,9,  -999.00,9,  -999.00,   -999.0,9,   -999.0,   6.0609,  27.0544
  49NZ20090521,   P21,   232,  1,      3, X12021,9,20090608,1149,-17.8327, 171.6638, 2757,    770.4,2,   5.2205,2,   5.22175,2,  34.3912,2,-999.0000,9,   178.95,2,  -999.00,9,  -999.00,9,  -999.00,  -999.00,9,  -999.00,  -999.00,9,  -999.00, -999.000,9, -999.000, -999.000,9, -999.000,9, -999.000,9,   -999.0,9,   -999.0,9,-999.0000,-999,9,  -999.00,9,  -999.00,   -999.0,9,   -999.0,   5.1564,  27.1744
  49NZ20090521,   P21,   232,  1,      2, X12020,9,20090608,1149,-17.8327, 171.6638, 2757,   1331.9,2,   3.1257,2,   3.12575,2,  34.5506,2,-999.0000,9,   150.59,2,  -999.00,9,  -999.00,9,  -999.00,  -999.00,9,  -999.00,  -999.00,9,  -999.00, -999.000,9, -999.000, -999.000,9, -999.000,9, -999.000,9,   -999.0,9,   -999.0,9,-999.0000,-999,9,  -999.00,9,  -999.00,   -999.0,9,   -999.0,   3.0304,  27.5236
  49NZ20090521,   P21,   232,  1,      1, X12019,2,20090608,1149,-17.8327, 171.6638, 2757,   2772.5,2,   1.8973,2,   1.89707,2,  34.6587,2,  34.6585,6,   145.00,2,   144.41,2,   128.14,2,     0.40,    36.36,2,     0.13,     0.01,2,     0.01,    2.556,2,    0.016,    0.000,2,    0.000,2,    0.000,2,   -999.0,9,   -999.0,9,-999.0000,-999,9,  -999.00,9,  -999.00,   -999.0,9,   -999.0,   1.6937,  27.7219