BOTTLE,20111109CCHDOSIOCBG
EXPOCODE,SECT_ID,STNNBR,CASTNO,SAMPNO,BTLNBR,BTLNBR_FLAG_W,DATE,TIME,LATITUDE,LONGITUDE,DEPTH,CTDPRS,CTDPRS_FLAG_W,CTDTMP,CTDTMP_FLAG_W,SBE35,SBE35_FLAG_W,CTDSAL,CTDSAL_FLAG_W,SALNTY,SALNTY_FLAG_W,CTDOXY,CTDOXY_FLAG_W,OXYGEN,OXYGEN_FLAG_W,SILCAT,SILCAT_FLAG_W,SILUNC,NITRAT,NITRAT_FLAG_W,NRAUNC,NITRIT,NITRIT_FLAG_W,NRIUNC,PHSPHT,PHSPHT_FLAG_W,PHPUNC,CFC-11,CFC-11_FLAG_W,CFC-12,CFC-12_FLAG_W,CFC113,CFC113_FLAG_W,TCARBN,TCARBN_FLAG_W,ALKALI,ALKALI_FLAG_W,PH_TOT,PH_TMP,PH_TOT_FLAG_W,DELC13,DELC13_FLAG_W,C13ERR,DELC14,DELC14_FLAG_W,C14ERR,THETA,SIG0
,,,,,,,,,,,METERS,DBAR,,ITS-90,,ITS-90,,PSS-78,,PSS-78,,UMOL/KG,,UMOL/KG,,UMOL/KG,,UMOL/KG,UMOL/KG,,UMOL/KG,UMOL/KG,,UMOL/KG,UMOL/KG,,UMOL/KG,PMOL/KG,,PMOL/KG,,PMOL/KG,,UMOL/KG,,UMOL/KG,,,DEG C,,/MILLE,,/MILLE,/MILLE,,/MILLE,DEG C,KG/M^3
  49NZ20090521,   P21,   222,  1,      0,   -999,9,20090606,1428,-18.5780, 177.2495, 2426,   -999.0,9,-999.0000,9,-999.00000,9,-999.0000,9,  34.8086,2,  -999.00,9,  -999.00,9,  -999.00,9,  -999.00,  -999.00,9,  -999.00,  -999.00,9,  -999.00, -999.000,9, -999.000, -999.000,9, -999.000,9, -999.000,9,   -999.0,9,   -999.0,9,-999.0000,-999,9,  -999.00,9,  -999.00,   -999.0,9,   -999.0,-999.0000,-999.0000
  49NZ20090521,   P21,   222,  1,     36, X12043,2,20090606,1428,-18.5780, 177.2495, 2426,     10.0,2,  26.7995,2,  26.80034,2,  34.8122,2,  34.8110,2,   199.24,2,   199.28,2,     0.92,2,     0.12,     0.08,2,     0.03,     0.01,2,     0.01,    0.074,2,    0.026,    1.485,2,    0.958,2, -999.000,5,   1937.9,2,   2282.1,2,   8.1277,  25,6,  -999.00,9,  -999.00,   -999.0,9,   -999.0,  26.7972,  22.6408
  49NZ20090521,   P21,   222,  1,     35, X12042,2,20090606,1428,-18.5780, 177.2495, 2426,     51.4,2,  26.8173,2,  26.81717,2,  34.8116,2,  34.8101,2,   198.95,2,   199.26,2,     0.87,2,     0.12,     0.08,2,     0.03,     0.01,2,     0.01,    0.074,2,    0.026,    1.469,2,    0.936,2, -999.000,5,   1938.0,6,   2281.4,2,   8.1274,  25,2,  -999.00,9,  -999.00,   -999.0,9,   -999.0,  26.8056,  22.6378
  49NZ20090521,   P21,   222,  1,     34, X12016,2,20090606,1428,-18.5780, 177.2495, 2426,    101.1,2,  25.5364,2,  25.53961,2,  35.3785,2,  35.3770,2,   180.36,2,   180.58,2,     0.97,2,     0.12,     0.49,2,     0.03,     0.16,2,     0.01,    0.214,2,    0.016,    1.665,6,    1.037,6, -999.000,5,   2007.8,2,   2322.2,6,   8.0671,  25,2,  -999.00,9,  -999.00,   -999.0,9,   -999.0,  25.5141,  23.4697
  49NZ20090521,   P21,   222,  1,     33, X12015,2,20090606,1428,-18.5780, 177.2495, 2426,    149.9,2,  23.4494,2,  23.44922,2,  35.6308,2,  35.6316,2,   163.92,2,   164.07,2,     0.96,2,     0.12,     2.93,2,     0.04,     0.03,2,     0.01,    0.354,2,    0.014,    1.826,2,    1.121,2,    0.142,2,   2049.4,2,   2336.9,2,   8.0176,  25,2,  -999.00,9,  -999.00,   -999.0,9,   -999.0,  23.4183,  24.2905
  49NZ20090521,   P21,   222,  1,     32, X12050,2,20090606,1428,-18.5780, 177.2495, 2426,    200.7,2,  22.0051,2,  21.99403,2,  35.7136,2,  35.7166,2,   159.44,2,   159.17,2,     1.05,2,     0.12,     4.24,2,     0.04,     0.02,2,     0.01,    0.441,2,    0.013,    1.934,2,    1.163,2,    0.080,2,   2072.3,2,   2344.1,2,   7.9847,  25,2,  -999.00,9,  -999.00,   -999.0,9,   -999.0,  21.9652,  24.7699
  49NZ20090521,   P21,   222,  1,     31, X12014,2,20090606,1428,-18.5780, 177.2495, 2426,    250.0,2,  20.2139,2,  20.21365,2,  35.6331,2,  35.6329,6,   166.30,2,   166.62,2,     1.37,2,     0.12,     4.85,2,     0.05,     0.02,2,     0.01,    0.470,2,    0.013,    2.071,2,    1.213,2,    0.071,2,   2081.5,2,   2337.6,2,   7.9616,  25,2,  -999.00,9,  -999.00,   -999.0,9,   -999.0,  20.1671,  25.2004
  49NZ20090521,   P21,   222,  1,     30, X12012,2,20090606,1428,-18.5780, 177.2495, 2426,    332.0,2,  16.2508,2,  16.25114,2,  35.2862,2,  35.2874,2,   174.75,2,   175.06,2,     2.71,2,     0.12,     8.33,2,     0.06,     0.01,2,     0.01,    0.718,2,    0.013,    2.227,2,    1.225,2,    0.038,2,   2103.3,2,   2318.4,2,   7.8903,  25,2,  -999.00,9,  -999.00,   -999.0,9,   -999.0,  16.1974,  25.9224
  49NZ20090521,   P21,   222,  1,     29, X12041,2,20090606,1428,-18.5780, 177.2495, 2426,    430.5,2,  11.3677,2,  11.36273,2,  34.7922,2,  34.7931,2,   180.57,2,   180.63,2,     6.61,2,     0.13,    16.60,2,     0.08,     0.01,2,     0.01,    1.255,2,    0.013,    2.003,6,    1.036,6,    0.046,6,   2135.1,2,   2296.2,2,   7.7790,  25,2,  -999.00,9,  -999.00,   -999.0,9,   -999.0,  11.3130,  26.5565
  49NZ20090521,   P21,   222,  1,     28, X12040,2,20090606,1428,-18.5780, 177.2495, 2426,    531.2,2,   8.3258,2,   8.32739,2,  34.5246,2,  34.5252,6,   191.98,2,   191.71,2,    11.40,2,     0.14,    22.62,2,     0.10,     0.01,2,     0.01,    1.622,2,    0.014,    1.638,2,    0.814,2,    0.034,2,   2156.4,2,   2288.2,2,   7.7147,  25,2,  -999.00,9,  -999.00,   -999.0,9,   -999.0,   8.2700,  26.8598
  49NZ20090521,   P21,   222,  1,     27, X12009,2,20090606,1428,-18.5780, 177.2495, 2426,    629.6,2,   6.5449,2,   6.54395,2,  34.4036,2,  34.4035,2,   199.64,2,   199.47,2,    17.11,2,     0.16,    26.40,2,     0.11,     0.01,2,     0.01,    1.858,2,    0.015,    1.157,6,    0.564,6,    0.030,6,   2168.7,2,   2289.1,2,   7.6825,  25,2,  -999.00,9,  -999.00,   -999.0,9,   -999.0,   6.4868,  27.0183
  49NZ20090521,   P21,   222,  1,     26, X12008,2,20090606,1428,-18.5780, 177.2495, 2426,    729.3,2,   5.7227,2,   5.72407,2,  34.3895,2,  34.3893,2,   190.51,2,   190.47,2,    25.53,2,     0.18,    29.01,2,     0.11,     0.01,2,     0.01,    2.032,2,    0.015,    0.680,2,    0.332,2,    0.014,2,   2186.5,6,   2295.2,2,   7.6554,  25,2,  -999.00,9,  -999.00,   -999.0,9,   -999.0,   5.6595,  27.1127
  49NZ20090521,   P21,   222,  1,     25, X12007,2,20090606,1428,-18.5780, 177.2495, 2426,    830.0,2,   4.9961,2,   4.99614,2,  34.4031,2,  34.4034,2,   177.89,2,   177.87,2,    36.86,2,     0.20,    31.33,2,     0.12,     0.01,2,     0.01,    2.192,2,    0.016,    0.314,2,    0.158,2,    0.000,2,   2207.1,2,   2306.4,6,   7.6272,  25,2,  -999.00,9,  -999.00,   -999.0,9,   -999.0,   4.9281,  27.2103
  49NZ20090521,   P21,   222,  1,     24, X12035,2,20090606,1428,-18.5780, 177.2495, 2426,    930.9,2,   4.3851,2,   4.38520,2,  34.4351,2,  34.4353,2,   168.33,2,   168.28,2,    49.57,2,     0.23,    32.79,2,     0.12,     0.01,2,     0.01,    2.304,2,    0.016,    0.157,2,    0.077,2,    0.000,2,   2227.2,2,   2320.4,2,   7.6078,  25,6,  -999.00,9,  -999.00,   -999.0,9,   -999.0,   4.3125,  27.3039
  49NZ20090521,   P21,   222,  1,     23, X12038,2,20090606,1428,-18.5780, 177.2495, 2426,   1072.5,2,   3.7918,2,   3.79226,2,  34.4822,2,  34.4822,6,   159.15,2,   159.24,2,    65.10,2,     0.26,    34.12,2,     0.13,     0.01,2,     0.01,    2.403,2,    0.016,    0.061,2,    0.033,2,    0.000,2,   2248.3,2,   2337.8,2,   7.5937,  25,2,  -999.00,9,  -999.00,   -999.0,9,   -999.0,   3.7118,  27.4036
  49NZ20090521,   P21,   222,  1,     22, X12034,2,20090606,1428,-18.5780, 177.2495, 2426,   1271.2,2,   3.2216,2,   3.22181,2,  34.5379,2,  34.5379,2,   150.30,2,   150.28,2,    83.01,2,     0.30,    35.22,2,     0.13,     0.01,2,     0.01,    2.485,2,    0.016,    0.019,2,    0.013,2,    0.000,2,   2271.2,2,   2357.7,2,   7.5811,  25,2,  -999.00,9,  -999.00,   -999.0,9,   -999.0,   3.1304,  27.5042
  49NZ20090521,   P21,   222,  1,     21, X12033,2,20090606,1428,-18.5780, 177.2495, 2426,   1469.9,2,   2.8994,2,   2.89955,2,  34.5703,2,  34.5706,2,   147.59,2,   147.81,2,    93.41,2,     0.32,    35.46,2,     0.13,     0.01,2,     0.01,    2.511,2,    0.016,    0.009,2,    0.004,2,    0.000,2,   2283.9,2,   2370.0,2,   7.5787,  25,2,  -999.00,9,  -999.00,   -999.0,9,   -999.0,   2.7952,  27.5606
  49NZ20090521,   P21,   222,  1,     20, X12032,2,20090606,1428,-18.5780, 177.2495, 2426,   1670.2,2,   2.6424,2,   2.64246,2,  34.5954,2,  34.5958,2,   147.07,2,   147.09,2,   101.52,2,     0.34,    35.67,2,     0.13,     0.01,2,     0.01,    2.521,2,    0.016,    0.005,2,    0.003,2,    0.000,2,   2292.3,2,   2378.3,2,   7.5794,  25,6,  -999.00,9,  -999.00,   -999.0,9,   -999.0,   2.5247,  27.6043
  49NZ20090521,   P21,   222,  1,     19, X12046,2,20090606,1428,-18.5780, 177.2495, 2426,   1870.6,2,   2.4330,2,   2.43285,2,  34.6160,2,  34.6166,2,   147.55,2,   147.53,2,   107.38,2,     0.36,    35.67,2,     0.13,     0.01,2,     0.01,    2.526,2,    0.016,    0.002,2,    0.001,2,    0.000,2,   2297.5,2,   2385.9,2,   7.5806,  25,2,  -999.00,9,  -999.00,   -999.0,9,   -999.0,   2.3012,  27.6396
  49NZ20090521,   P21,   222,  1,     18, X12006,2,20090606,1428,-18.5780, 177.2495, 2426,   2072.3,2,   2.2186,2,   2.21874,2,  34.6368,2,  34.6372,6,   148.28,2,   148.26,2,   112.81,2,     0.37,    35.69,2,     0.13,     0.01,2,     0.01,    2.522,2,    0.016,    0.005,2,    0.002,2,    0.000,2,   2303.7,2,   2393.0,2,   7.5835,  25,2,  -999.00,9,  -999.00,   -999.0,9,   -999.0,   2.0726,  27.6749
  49NZ20090521,   P21,   222,  1,     17, X12047,2,20090606,1428,-18.5780, 177.2495, 2426,   2273.3,2,   2.1093,2,   2.10991,2,  34.6475,2,  34.6478,2,   148.73,2,   148.75,2,   116.30,2,     0.37,    35.72,2,     0.13,     0.01,2,     0.01,    2.523,2,    0.016,    0.000,2,    0.001,2,    0.000,2,   2306.0,2,   2396.0,2,   7.5844,  25,2,  -999.00,9,  -999.00,   -999.0,9,   -999.0,   1.9475,  27.6934
  49NZ20090521,   P21,   222,  1,     16, X12004,9,20090606,1428,-18.5780, 177.2495, 2426,     10.4,2,  26.8020,2,  26.80163,2,  34.8117,2,-999.0000,9,   199.25,2,  -999.00,9,  -999.00,9,  -999.00,  -999.00,9,  -999.00,  -999.00,9,  -999.00, -999.000,9, -999.000, -999.000,9, -999.000,9, -999.000,9,   -999.0,9,   -999.0,9,-999.0000,-999,9,  -999.00,9,  -999.00,   -999.0,9,   -999.0,  26.7996,  22.6397
  49NZ20090521,   P21,   222,  1,     15, X12003,9,20090606,1428,-18.5780, 177.2495, 2426,    930.7,2,   4.3850,2,   4.38528,2,  34.4352,2,-999.0000,9,   168.39,2,  -999.00,9,  -999.00,9,  -999.00,  -999.00,9,  -999.00,  -999.00,9,  -999.00, -999.000,9, -999.000, -999.000,9, -999.000,9, -999.000,9,   -999.0,9,   -999.0,9,-999.0000,-999,9,  -999.00,9,  -999.00,   -999.0,9,   -999.0,   4.3124,  27.3040
  49NZ20090521,   P21,   222,  1,     14, X12002,9,20090606,1428,-18.5780, 177.2495, 2426,   1072.9,2,   3.7915,2,   3.79155,2,  34.4823,2,-999.0000,9,   159.15,2,  -999.00,9,  -999.00,9,  -999.00,  -999.00,9,  -999.00,  -999.00,9,  -999.00, -999.000,9, -999.000, -999.000,9, -999.000,9, -999.000,9,   -999.0,9,   -999.0,9,-999.0000,-999,9,  -999.00,9,  -999.00,   -999.0,9,   -999.0,   3.7115,  27.4037
  49NZ20090521,   P21,   222,  1,     13, X12001,9,20090606,1428,-18.5780, 177.2495, 2426,   1073.0,2,   3.7914,2,   3.79160,2,  34.4823,2,-999.0000,9,   159.15,2,  -999.00,9,  -999.00,9,  -999.00,  -999.00,9,  -999.00,  -999.00,9,  -999.00, -999.000,9, -999.000, -999.000,9, -999.000,9, -999.000,9,   -999.0,9,   -999.0,9,-999.0000,-999,9,  -999.00,9,  -999.00,   -999.0,9,   -999.0,   3.7114,  27.4037
  49NZ20090521,   P21,   222,  1,     12, X12030,9,20090606,1428,-18.5780, 177.2495, 2426,   1270.9,2,   3.2220,2,   3.22208,2,  34.5379,2,-999.0000,9,   150.31,2,  -999.00,9,  -999.00,9,  -999.00,  -999.00,9,  -999.00,  -999.00,9,  -999.00, -999.000,9, -999.000, -999.000,9, -999.000,9, -999.000,9,   -999.0,9,   -999.0,9,-999.0000,-999,9,  -999.00,9,  -999.00,   -999.0,9,   -999.0,   3.1308,  27.5041
  49NZ20090521,   P21,   222,  1,     11, X12044,9,20090606,1428,-18.5780, 177.2495, 2426,   1270.9,2,   3.2219,2,   3.22194,2,  34.5380,2,-999.0000,9,   150.30,2,  -999.00,9,  -999.00,9,  -999.00,  -999.00,9,  -999.00,  -999.00,9,  -999.00, -999.000,9, -999.000, -999.000,9, -999.000,9, -999.000,9,   -999.0,9,   -999.0,9,-999.0000,-999,9,  -999.00,9,  -999.00,   -999.0,9,   -999.0,   3.1307,  27.5042
  49NZ20090521,   P21,   222,  1,     10, X12048,9,20090606,1428,-18.5780, 177.2495, 2426,   1670.2,2,   2.6427,2,   2.64272,2,  34.5953,2,-999.0000,9,   147.13,2,  -999.00,9,  -999.00,9,  -999.00,  -999.00,9,  -999.00,  -999.00,9,  -999.00, -999.000,9, -999.000, -999.000,9, -999.000,9, -999.000,9,   -999.0,9,   -999.0,9,-999.0000,-999,9,  -999.00,9,  -999.00,   -999.0,9,   -999.0,   2.5250,  27.6042
  49NZ20090521,   P21,   222,  1,      9, X12027,9,20090606,1428,-18.5780, 177.2495, 2426,   1670.8,2,   2.6426,2,   2.64258,2,  34.5953,2,-999.0000,9,   147.07,2,  -999.00,9,  -999.00,9,  -999.00,  -999.00,9,  -999.00,  -999.00,9,  -999.00, -999.000,9, -999.000, -999.000,9, -999.000,9, -999.000,9,   -999.0,9,   -999.0,9,-999.0000,-999,9,  -999.00,9,  -999.00,   -999.0,9,   -999.0,   2.5248,  27.6042
  49NZ20090521,   P21,   222,  1,      8, X12026,9,20090606,1428,-18.5780, 177.2495, 2426,   1870.9,2,   2.4331,2,   2.43309,2,  34.6161,2,-999.0000,9,   147.55,2,  -999.00,9,  -999.00,9,  -999.00,  -999.00,9,  -999.00,  -999.00,9,  -999.00, -999.000,9, -999.000, -999.000,9, -999.000,9, -999.000,9,   -999.0,9,   -999.0,9,-999.0000,-999,9,  -999.00,9,  -999.00,   -999.0,9,   -999.0,   2.3012,  27.6397
  49NZ20090521,   P21,   222,  1,      7, X12025,9,20090606,1428,-18.5780, 177.2495, 2426,   1870.8,2,   2.4329,2,   2.43287,2,  34.6162,2,-999.0000,9,   147.53,2,  -999.00,9,  -999.00,9,  -999.00,  -999.00,9,  -999.00,  -999.00,9,  -999.00, -999.000,9, -999.000, -999.000,9, -999.000,9, -999.000,9,   -999.0,9,   -999.0,9,-999.0000,-999,9,  -999.00,9,  -999.00,   -999.0,9,   -999.0,   2.3010,  27.6398
  49NZ20090521,   P21,   222,  1,      6, X12024,9,20090606,1428,-18.5780, 177.2495, 2426,   2072.7,2,   2.2183,2,   2.21821,2,  34.6367,2,-999.0000,9,   148.30,2,  -999.00,9,  -999.00,9,  -999.00,  -999.00,9,  -999.00,  -999.00,9,  -999.00, -999.000,9, -999.000, -999.000,9, -999.000,9, -999.000,9,   -999.0,9,   -999.0,9,-999.0000,-999,9,  -999.00,9,  -999.00,   -999.0,9,   -999.0,   2.0723,  27.6748
  49NZ20090521,   P21,   222,  1,      5, X12028,9,20090606,1428,-18.5780, 177.2495, 2426,   2072.4,2,   2.2189,2,   2.21867,2,  34.6367,2,-999.0000,9,   148.27,2,  -999.00,9,  -999.00,9,  -999.00,  -999.00,9,  -999.00,  -999.00,9,  -999.00, -999.000,9, -999.000, -999.000,9, -999.000,9, -999.000,9,   -999.0,9,   -999.0,9,-999.0000,-999,9,  -999.00,9,  -999.00,   -999.0,9,   -999.0,   2.0729,  27.6748
  49NZ20090521,   P21,   222,  1,      4, X12022,9,20090606,1428,-18.5780, 177.2495, 2426,   2272.7,2,   2.1087,2,   2.10875,2,  34.6476,2,-999.0000,9,   148.73,2,  -999.00,9,  -999.00,9,  -999.00,  -999.00,9,  -999.00,  -999.00,9,  -999.00, -999.000,9, -999.000, -999.000,9, -999.000,9, -999.000,9,   -999.0,9,   -999.0,9,-999.0000,-999,9,  -999.00,9,  -999.00,   -999.0,9,   -999.0,   1.9469,  27.6935
  49NZ20090521,   P21,   222,  1,      3, X12021,9,20090606,1428,-18.5780, 177.2495, 2426,   2272.7,2,   2.1097,2,   2.10973,2,  34.6476,2,-999.0000,9,   148.76,2,  -999.00,9,  -999.00,9,  -999.00,  -999.00,9,  -999.00,  -999.00,9,  -999.00, -999.000,9, -999.000, -999.000,9, -999.000,9, -999.000,9,   -999.0,9,   -999.0,9,-999.0000,-999,9,  -999.00,9,  -999.00,   -999.0,9,   -999.0,   1.9479,  27.6934
  49NZ20090521,   P21,   222,  1,      2, X12020,9,20090606,1428,-18.5780, 177.2495, 2426,   1469.5,2,   2.8996,2,   2.89973,2,  34.5703,2,-999.0000,9,   147.65,2,  -999.00,9,  -999.00,9,  -999.00,  -999.00,9,  -999.00,  -999.00,9,  -999.00, -999.000,9, -999.000, -999.000,9, -999.000,9, -999.000,9,   -999.0,9,   -999.0,9,-999.0000,-999,9,  -999.00,9,  -999.00,   -999.0,9,   -999.0,   2.7954,  27.5606
  49NZ20090521,   P21,   222,  1,      1, X12019,2,20090606,1428,-18.5780, 177.2495, 2426,   2463.2,2,   2.0436,2,   2.04358,2,  34.6544,2,  34.6548,6,   149.33,2,   149.28,2,   118.54,2,     0.38,    35.73,2,     0.13,     0.01,2,     0.01,    2.525,2,    0.016,    0.000,2,    0.000,2,    0.000,2,   2307.5,2,   2398.6,2,   7.5846,  25,2,  -999.00,9,  -999.00,   -999.0,9,   -999.0,   1.8659,  27.7053