BOTTLE,20111109CCHDOSIOCBG
EXPOCODE,SECT_ID,STNNBR,CASTNO,SAMPNO,BTLNBR,BTLNBR_FLAG_W,DATE,TIME,LATITUDE,LONGITUDE,DEPTH,CTDPRS,CTDPRS_FLAG_W,CTDTMP,CTDTMP_FLAG_W,SBE35,SBE35_FLAG_W,CTDSAL,CTDSAL_FLAG_W,SALNTY,SALNTY_FLAG_W,CTDOXY,CTDOXY_FLAG_W,OXYGEN,OXYGEN_FLAG_W,SILCAT,SILCAT_FLAG_W,SILUNC,NITRAT,NITRAT_FLAG_W,NRAUNC,NITRIT,NITRIT_FLAG_W,NRIUNC,PHSPHT,PHSPHT_FLAG_W,PHPUNC,CFC-11,CFC-11_FLAG_W,CFC-12,CFC-12_FLAG_W,CFC113,CFC113_FLAG_W,TCARBN,TCARBN_FLAG_W,ALKALI,ALKALI_FLAG_W,PH_TOT,PH_TMP,PH_TOT_FLAG_W,DELC13,DELC13_FLAG_W,C13ERR,DELC14,DELC14_FLAG_W,C14ERR,THETA,SIG0
,,,,,,,,,,,METERS,DBAR,,ITS-90,,ITS-90,,PSS-78,,PSS-78,,UMOL/KG,,UMOL/KG,,UMOL/KG,,UMOL/KG,UMOL/KG,,UMOL/KG,UMOL/KG,,UMOL/KG,UMOL/KG,,UMOL/KG,PMOL/KG,,PMOL/KG,,PMOL/KG,,UMOL/KG,,UMOL/KG,,,DEG C,,/MILLE,,/MILLE,/MILLE,,/MILLE,DEG C,KG/M^3
  49NZ20090521,   P21,   175,  1,      0,   -999,9,20090527,0721,-17.5005,-156.3297, 4795,   -999.0,9,-999.0000,9,-999.00000,9,-999.0000,9,  35.9300,2,  -999.00,9,  -999.00,9,  -999.00,9,  -999.00,  -999.00,9,  -999.00,  -999.00,9,  -999.00, -999.000,9, -999.000, -999.000,9, -999.000,9, -999.000,9,   -999.0,9,   -999.0,9,-999.0000,-999,9,  -999.00,9,  -999.00,   -999.0,9,   -999.0,-999.0000,-999.0000
  49NZ20090521,   P21,   175,  1,     36, X12043,2,20090527,0721,-17.5005,-156.3297, 4795,      9.6,2,  28.5602,2,  28.55963,2,  35.9246,2,  35.9234,2,   194.51,2,   195.49,2,     0.85,2,     0.12,     0.07,2,     0.03,     0.01,2,     0.01,    0.209,2,    0.016,    1.412,2,    0.910,2, -999.000,5,   -999.0,9,   -999.0,9,-999.0000,-999,9,  -999.00,9,  -999.00,   -999.0,9,   -999.0,  28.5579,  22.9060
  49NZ20090521,   P21,   175,  1,     35, X12042,2,20090527,0721,-17.5005,-156.3297, 4795,     49.5,2,  28.5385,2,  28.52987,2,  35.9288,2,  35.9285,2,   194.68,2,   197.18,2,     0.83,2,     0.12,     0.06,2,     0.03,     0.01,2,     0.01,    0.207,2,    0.016,    1.411,2,    0.896,2, -999.000,5,   -999.0,9,   -999.0,9,-999.0000,-999,9,  -999.00,9,  -999.00,   -999.0,9,   -999.0,  28.5266,  22.9196
  49NZ20090521,   P21,   175,  1,     34, X12016,2,20090527,0721,-17.5005,-156.3297, 4795,     99.5,2,  25.4858,2,  25.48539,2,  36.1461,2,  36.1448,2,   208.41,2,   209.93,2,     0.66,2,     0.12,     0.06,2,     0.03,     0.01,2,     0.01,    0.181,2,    0.017,    1.675,6,    1.052,6, -999.000,5,   -999.0,9,   -999.0,9,-999.0000,-999,9,  -999.00,9,  -999.00,   -999.0,9,   -999.0,  25.4638,  24.0651
  49NZ20090521,   P21,   175,  1,     33, X12015,2,20090527,0721,-17.5005,-156.3297, 4795,    147.5,2,  24.2149,2,  24.21494,2,  36.1418,2,  36.1407,2,   190.59,2,   191.10,2,     0.66,2,     0.12,     0.23,2,     0.03,     0.13,2,     0.01,    0.244,2,    0.015,    1.749,2,    1.079,2, -999.000,5,   -999.0,9,   -999.0,9,-999.0000,-999,9,  -999.00,9,  -999.00,   -999.0,9,   -999.0,  24.1835,  24.4514
  49NZ20090521,   P21,   175,  1,     32, X12050,2,20090527,0721,-17.5005,-156.3297, 4795,    201.4,2,  22.2013,2,  22.17696,2,  35.9612,2,  35.9707,2,   175.70,2,   176.26,2,     0.71,2,     0.12,     2.24,2,     0.04,     0.03,2,     0.01,    0.381,2,    0.013,    1.934,2,    1.163,2,    0.110,2,   -999.0,9,   -999.0,9,-999.0000,-999,9,  -999.00,9,  -999.00,   -999.0,9,   -999.0,  22.1610,  24.9030
  49NZ20090521,   P21,   175,  1,     31, X12014,2,20090527,0721,-17.5005,-156.3297, 4795,    250.0,2,  19.9556,2,  19.95979,2,  35.6882,2,  35.6883,6,   175.22,2,   175.69,2,     1.03,2,     0.12,     4.03,2,     0.04,     0.01,2,     0.01,    0.491,2,    0.013,    2.162,2,    1.255,2,    0.042,2,   -999.0,9,   -999.0,9,-999.0000,-999,9,  -999.00,9,  -999.00,   -999.0,9,   -999.0,  19.9092,  25.3108
  49NZ20090521,   P21,   175,  1,     30, X12012,2,20090527,0721,-17.5005,-156.3297, 4795,    331.7,2,  15.9566,2,  15.96379,2,  35.1705,2,  35.1710,2,   173.28,2,   173.64,2,     2.76,2,     0.13,     8.51,2,     0.06,     0.01,2,     0.01,    0.794,2,    0.013,    2.300,2,    1.265,2,    0.025,2,   -999.0,9,   -999.0,9,-999.0000,-999,9,  -999.00,9,  -999.00,   -999.0,9,   -999.0,  15.9039,  25.9008
  49NZ20090521,   P21,   175,  1,     29, X12041,2,20090527,0721,-17.5005,-156.3297, 4795,    430.5,2,  11.0462,2,  11.04730,2,  34.6783,2,  34.6786,2,   151.84,2,   152.32,2,     9.62,2,     0.14,    19.38,2,     0.09,     0.01,2,     0.01,    1.522,2,    0.014,    1.682,6,    0.875,6,    0.024,6,   -999.0,9,   -999.0,9,-999.0000,-999,9,  -999.00,9,  -999.00,   -999.0,9,   -999.0,  10.9926,  26.5264
  49NZ20090521,   P21,   175,  1,     28, X12040,2,20090527,0721,-17.5005,-156.3297, 4795,    530.6,2,   7.8111,2,   7.80998,2,  34.4385,2,  34.4404,6,   176.83,2,   176.96,2,    12.70,2,     0.15,    25.11,2,     0.10,     0.01,2,     0.01,    1.815,2,    0.015,    1.541,2,    0.762,2,    0.035,2,   -999.0,9,   -999.0,9,-999.0000,-999,9,  -999.00,9,  -999.00,   -999.0,9,   -999.0,   7.7574,  26.8687
  49NZ20090521,   P21,   175,  1,     27, X12009,2,20090527,0721,-17.5005,-156.3297, 4795,    630.8,2,   6.3609,2,   6.36099,2,  34.3976,2,  34.3969,2,   172.67,2,   172.95,2,    21.43,2,     0.17,    29.22,2,     0.11,     0.01,2,     0.01,    2.070,2,    0.015,    0.776,6,    0.388,6,    0.015,6,   -999.0,9,   -999.0,9,-999.0000,-999,9,  -999.00,9,  -999.00,   -999.0,9,   -999.0,   6.3036,  27.0376
  49NZ20090521,   P21,   175,  1,     26, X12008,2,20090527,0721,-17.5005,-156.3297, 4795,    730.5,2,   5.3043,2,   5.30687,2,  34.3875,2,  34.3865,2,   167.20,2,   167.92,2,    31.72,2,     0.19,    32.06,2,     0.12,     0.01,2,     0.01,    2.241,2,    0.016,    0.348,2,    0.178,2,    0.010,2,   -999.0,9,   -999.0,9,-999.0000,-999,9,  -999.00,9,  -999.00,   -999.0,9,   -999.0,   5.2433,  27.1612
  49NZ20090521,   P21,   175,  1,     25, X12007,2,20090527,0721,-17.5005,-156.3297, 4795,    830.8,2,   4.7096,2,   4.70936,2,  34.4367,2,  34.4365,2,   155.29,2,   155.69,2,    46.54,2,     0.22,    33.65,2,     0.13,     0.01,2,     0.01,    2.361,2,    0.016,    0.079,2,    0.042,2,    0.000,2,   -999.0,9,   -999.0,9,-999.0000,-999,9,  -999.00,9,  -999.00,   -999.0,9,   -999.0,   4.6433,  27.2690
  49NZ20090521,   P21,   175,  1,     24, X12035,2,20090527,0721,-17.5005,-156.3297, 4795,    931.4,2,   4.2962,2,   4.29681,2,  34.4667,2,  34.4663,2,   150.35,2,   150.67,2,    56.55,2,     0.24,    34.50,2,     0.13,     0.01,2,     0.01,    2.422,2,    0.016,    0.034,2,    0.016,2,    0.000,2,   -999.0,9,   -999.0,9,-999.0000,-999,9,  -999.00,9,  -999.00,   -999.0,9,   -999.0,   4.2241,  27.3384
  49NZ20090521,   P21,   175,  1,     23, X12038,2,20090527,0721,-17.5005,-156.3297, 4795,   1072.0,2,   3.7254,2,   3.72506,2,  34.5055,2,  34.5056,6,   145.47,2,   146.00,2,    70.45,2,     0.27,    35.39,2,     0.13,     0.01,2,     0.01,    2.488,2,    0.016,    0.013,2,    0.004,2,    0.000,2,   -999.0,9,   -999.0,9,-999.0000,-999,9,  -999.00,9,  -999.00,   -999.0,9,   -999.0,   3.6460,  27.4287
  49NZ20090521,   P21,   175,  1,     22, X12034,2,20090527,0721,-17.5005,-156.3297, 4795,   1271.1,2,   3.2059,2,   3.20573,2,  34.5484,2,  34.5478,2,   141.79,2,   142.01,2,    84.56,2,     0.31,    36.14,2,     0.13,     0.01,2,     0.01,    2.543,2,    0.016,    0.000,2,    0.000,2,    0.000,2,   -999.0,9,   -999.0,9,-999.0000,-999,9,  -999.00,9,  -999.00,   -999.0,9,   -999.0,   3.1148,  27.5140
  49NZ20090521,   P21,   175,  1,     21, X12033,2,20090527,0721,-17.5005,-156.3297, 4795,   1470.0,2,   2.8314,2,   2.83120,2,  34.5749,2,  34.5747,2,   143.85,2,   144.15,2,    93.73,2,     0.33,    36.07,2,     0.13,     0.01,2,     0.01,    2.533,2,    0.016,    0.000,2,    0.001,2,    0.000,2,   -999.0,9,   -999.0,9,-999.0000,-999,9,  -999.00,9,  -999.00,   -999.0,9,   -999.0,   2.7280,  27.5702
  49NZ20090521,   P21,   175,  1,     20, X12032,2,20090527,0721,-17.5005,-156.3297, 4795,   1670.3,2,   2.5166,2,   2.51668,2,  34.6028,2,  34.6028,2,   145.07,2,   145.31,2,   102.78,2,     0.35,    36.08,2,     0.13,     0.01,2,     0.01,    2.540,2,    0.016,    0.000,2,    0.000,2,    0.000,2,   -999.0,9,   -999.0,9,-999.0000,-999,9,  -999.00,9,  -999.00,   -999.0,9,   -999.0,   2.4004,  27.6208
  49NZ20090521,   P21,   175,  1,     19, X12046,2,20090527,0721,-17.5005,-156.3297, 4795,   1871.9,2,   2.3071,2,   2.30718,2,  34.6204,2,  34.6203,2,   147.12,2,   147.43,2,   108.55,2,     0.36,    35.99,2,     0.13,     0.01,2,     0.01,    2.529,2,    0.016,    0.000,2,    0.000,2,    0.000,2,   -999.0,9,   -999.0,9,-999.0000,-999,9,  -999.00,9,  -999.00,   -999.0,9,   -999.0,   2.1769,  27.6533
  49NZ20090521,   P21,   175,  1,     18, X12006,2,20090527,0721,-17.5005,-156.3297, 4795,   2069.3,2,   2.1405,2,   2.14043,2,  34.6344,2,  34.6343,2,   149.61,2,   149.95,2,   112.82,2,     0.37,    35.89,2,     0.13,     0.01,2,     0.01,    2.524,2,    0.016,    0.000,2,    0.000,2,    0.000,2,   -999.0,9,   -999.0,9,-999.0000,-999,9,  -999.00,9,  -999.00,   -999.0,9,   -999.0,   1.9960,  27.6791
  49NZ20090521,   P21,   175,  1,     17, X12047,2,20090527,0721,-17.5005,-156.3297, 4795,   2269.6,2,   1.9998,2,   1.99985,2,  34.6468,2,  34.6468,6,   151.64,2,   152.02,2,   116.50,2,     0.38,    35.86,2,     0.13,     0.01,2,     0.01,    2.511,2,    0.016,    0.000,2,    0.000,2,    0.000,2,   -999.0,9,   -999.0,9,-999.0000,-999,9,  -999.00,9,  -999.00,   -999.0,9,   -999.0,   1.8402,  27.7012
  49NZ20090521,   P21,   175,  1,     16, X12004,2,20090527,0721,-17.5005,-156.3297, 4795,   2470.6,2,   1.8824,2,   1.88242,2,  34.6568,2,  34.6570,2,   154.47,2,   154.76,2,   119.34,2,     0.38,    35.65,2,     0.13,     0.01,2,     0.01,    2.500,2,    0.016,    0.000,2,    0.000,2,    0.000,2,   -999.0,9,   -999.0,9,-999.0000,-999,9,  -999.00,9,  -999.00,   -999.0,9,   -999.0,   1.7069,  27.7194
  49NZ20090521,   P21,   175,  1,     15, X12003,2,20090527,0721,-17.5005,-156.3297, 4795,   2672.3,2,   1.8035,2,   1.80350,2,  34.6637,2,  34.6635,2,   156.58,2,   156.85,2,   121.05,2,     0.39,    35.53,2,     0.13,     0.01,2,     0.01,    2.494,2,    0.016,    0.000,2,    0.000,2,    0.000,2,   -999.0,9,   -999.0,9,-999.0000,-999,9,  -999.00,9,  -999.00,   -999.0,9,   -999.0,   1.6111,  27.7321
  49NZ20090521,   P21,   175,  1,     14, X12002,2,20090527,0721,-17.5005,-156.3297, 4795,   2871.2,2,   1.7545,2,   1.75457,2,  34.6683,2,  34.6679,2,   158.07,2,   158.04,2,   122.24,2,     0.39,    35.37,2,     0.13,     0.01,2,     0.01,    2.477,2,    0.016,    0.000,2,    0.000,2,    0.000,2,   -999.0,9,   -999.0,9,-999.0000,-999,9,  -999.00,9,  -999.00,   -999.0,9,   -999.0,   1.5445,  27.7407
  49NZ20090521,   P21,   175,  1,     13, X12001,2,20090527,0721,-17.5005,-156.3297, 4795,   3079.1,2,   1.6678,2,   1.66797,2,  34.6750,2,  34.6748,2,   162.01,2,   161.92,2,   123.08,2,     0.39,    35.13,2,     0.13,     0.01,2,     0.01,    2.467,2,    0.016,    0.000,2,    0.000,2,    0.000,2,   -999.0,9,   -999.0,9,-999.0000,-999,9,  -999.00,9,  -999.00,   -999.0,9,   -999.0,   1.4397,  27.7537
  49NZ20090521,   P21,   175,  1,     12, X12030,2,20090527,0721,-17.5005,-156.3297, 4795,   3330.0,2,   1.5872,2,   1.58736,2,  34.6814,2,  34.6813,2,   167.09,2,   167.10,2,   122.79,2,     0.39,    34.79,2,     0.13,     0.01,2,     0.01,    2.432,2,    0.016,    0.000,2,    0.000,2,    0.000,2,   -999.0,9,   -999.0,9,-999.0000,-999,9,  -999.00,9,  -999.00,   -999.0,9,   -999.0,   1.3361,  27.7663
  49NZ20090521,   P21,   175,  1,     11, X12044,2,20090527,0721,-17.5005,-156.3297, 4795,   3580.0,2,   1.5201,2,   1.52018,2,  34.6867,2,  34.6868,6,   172.25,2,   172.63,2,   122.13,2,     0.39,    34.45,2,     0.13,     0.01,2,     0.01,    2.412,2,    0.016,    0.000,2,    0.000,2,    0.000,2,   -999.0,9,   -999.0,9,-999.0000,-999,9,  -999.00,9,  -999.00,   -999.0,9,   -999.0,   1.2452,  27.7769
  49NZ20090521,   P21,   175,  1,     10, X12048,2,20090527,0721,-17.5005,-156.3297, 4795,   3830.7,2,   1.4688,2,   1.46865,2,  34.6909,2,  34.6902,2,   177.06,2,   177.17,2,   121.04,2,     0.39,    34.15,2,     0.13,     0.01,2,     0.01,    2.388,2,    0.016,    0.000,2,    0.000,2,    0.000,2,   -999.0,9,   -999.0,9,-999.0000,-999,9,  -999.00,9,  -999.00,   -999.0,9,   -999.0,   1.1689,  27.7856
  49NZ20090521,   P21,   175,  1,      9, X12027,2,20090527,0721,-17.5005,-156.3297, 4795,   4079.0,2,   1.4189,2,   1.41883,2,  34.6948,2,  34.6946,2,   181.73,2,   181.81,2,   120.15,2,     0.38,    33.76,2,     0.13,     0.01,2,     0.01,    2.365,2,    0.016,    0.000,2,    0.000,2,    0.000,2,   -999.0,9,   -999.0,9,-999.0000,-999,9,  -999.00,9,  -999.00,   -999.0,9,   -999.0,   1.0936,  27.7939
  49NZ20090521,   P21,   175,  1,      8, X12026,2,20090527,0721,-17.5005,-156.3297, 4795,   4329.7,2,   1.3877,2,   1.38767,2,  34.6977,2,  34.6973,2,   185.33,2,   185.33,2,   119.31,2,     0.38,    33.52,2,     0.13,     0.01,2,     0.01,    2.349,2,    0.016,    0.000,2,    0.000,2,    0.000,2,   -999.0,9,   -999.0,9,-999.0000,-999,9,  -999.00,9,  -999.00,   -999.0,9,   -999.0,   1.0355,  27.8001
  49NZ20090521,   P21,   175,  1,      7, X12025,2,20090527,0721,-17.5005,-156.3297, 4795,   4580.4,2,   1.3846,2,   1.38462,2,  34.6994,2,  34.6993,2,   187.19,2,   187.28,2,   118.88,2,     0.38,    33.35,2,     0.13,     0.01,2,     0.01,    2.333,2,    0.016,    0.001,2,    0.000,2,    0.000,2,   -999.0,9,   -999.0,9,-999.0000,-999,9,  -999.00,9,  -999.00,   -999.0,9,   -999.0,   1.0039,  27.8036
  49NZ20090521,   P21,   175,  1,      6, X12024,9,20090527,0721,-17.5005,-156.3297, 4795,      9.9,2,  28.5647,2,  28.56421,2,  35.9244,2,-999.0000,9,   194.49,2,  -999.00,9,  -999.00,9,  -999.00,  -999.00,9,  -999.00,  -999.00,9,  -999.00, -999.000,9, -999.000, -999.000,9, -999.000,9, -999.000,9,   -999.0,9,   -999.0,9,-999.0000,-999,9,  -999.00,9,  -999.00,   -999.0,9,   -999.0,  28.5623,  22.9044
  49NZ20090521,   P21,   175,  1,      5, X12028,9,20090527,0721,-17.5005,-156.3297, 4795,     49.4,2,  28.5411,2,  28.54122,2,  35.9283,2,-999.0000,9,   194.55,2,  -999.00,9,  -999.00,9,  -999.00,  -999.00,9,  -999.00,  -999.00,9,  -999.00, -999.000,9, -999.000, -999.000,9, -999.000,9, -999.000,9,   -999.0,9,   -999.0,9,-999.0000,-999,9,  -999.00,9,  -999.00,   -999.0,9,   -999.0,  28.5293,  22.9183
  49NZ20090521,   P21,   175,  1,      4, X12022,9,20090527,0721,-17.5005,-156.3297, 4795,    100.0,2,  25.4890,2,  25.48960,2,  36.1460,2,-999.0000,9,   208.46,2,  -999.00,9,  -999.00,9,  -999.00,  -999.00,9,  -999.00,  -999.00,9,  -999.00, -999.000,9, -999.000, -999.000,9, -999.000,9, -999.000,9,   -999.0,9,   -999.0,9,-999.0000,-999,9,  -999.00,9,  -999.00,   -999.0,9,   -999.0,  25.4669,  24.0641
  49NZ20090521,   P21,   175,  1,      3, X12021,2,20090527,0721,-17.5005,-156.3297, 4795,   3080.2,2,   1.6681,2,   1.66810,2,  34.6750,2,-999.0000,9,   162.08,2,  -999.00,9,  -999.00,9,  -999.00,  -999.00,9,  -999.00,  -999.00,9,  -999.00, -999.000,9, -999.000,    0.000,2,    0.000,2,    0.000,2,   -999.0,9,   -999.0,9,-999.0000,-999,9,  -999.00,9,  -999.00,   -999.0,9,   -999.0,   1.4399,  27.7537
  49NZ20090521,   P21,   175,  1,      2, X12020,2,20090527,0721,-17.5005,-156.3297, 4795,   4858.3,2,   1.3983,2,   1.39829,2,  34.7004,2,  34.7006,2,   188.46,2,   188.51,2,   118.69,2,     0.38,    33.34,2,     0.13,     0.01,2,     0.01,    2.331,2,    0.016, -999.000,9, -999.000,9, -999.000,9,   -999.0,9,   -999.0,9,-999.0000,-999,9,  -999.00,9,  -999.00,   -999.0,9,   -999.0,   0.9845,  27.8056
  49NZ20090521,   P21,   175,  1,      1, X12019,2,20090527,0721,-17.5005,-156.3297, 4795,   4858.4,2,   1.3982,2,   1.39817,2,  34.7004,2,  34.7005,6,   188.41,2,   188.49,2,   118.67,2,     0.38,    33.28,2,     0.13,     0.01,2,     0.01,    2.324,2,    0.016,    0.000,2,    0.000,2,    0.000,2,   -999.0,9,   -999.0,9,-999.0000,-999,9,  -999.00,9,  -999.00,   -999.0,9,   -999.0,   0.9843,  27.8056