BOTTLE,20111109CCHDOSIOCBG
EXPOCODE,SECT_ID,STNNBR,CASTNO,SAMPNO,BTLNBR,BTLNBR_FLAG_W,DATE,TIME,LATITUDE,LONGITUDE,DEPTH,CTDPRS,CTDPRS_FLAG_W,CTDTMP,CTDTMP_FLAG_W,SBE35,SBE35_FLAG_W,CTDSAL,CTDSAL_FLAG_W,SALNTY,SALNTY_FLAG_W,CTDOXY,CTDOXY_FLAG_W,OXYGEN,OXYGEN_FLAG_W,SILCAT,SILCAT_FLAG_W,SILUNC,NITRAT,NITRAT_FLAG_W,NRAUNC,NITRIT,NITRIT_FLAG_W,NRIUNC,PHSPHT,PHSPHT_FLAG_W,PHPUNC,CFC-11,CFC-11_FLAG_W,CFC-12,CFC-12_FLAG_W,CFC113,CFC113_FLAG_W,TCARBN,TCARBN_FLAG_W,ALKALI,ALKALI_FLAG_W,PH_TOT,PH_TMP,PH_TOT_FLAG_W,DELC13,DELC13_FLAG_W,C13ERR,DELC14,DELC14_FLAG_W,C14ERR,THETA,SIG0
,,,,,,,,,,,METERS,DBAR,,ITS-90,,ITS-90,,PSS-78,,PSS-78,,UMOL/KG,,UMOL/KG,,UMOL/KG,,UMOL/KG,UMOL/KG,,UMOL/KG,UMOL/KG,,UMOL/KG,UMOL/KG,,UMOL/KG,PMOL/KG,,PMOL/KG,,PMOL/KG,,UMOL/KG,,UMOL/KG,,,DEG C,,/MILLE,,/MILLE,/MILLE,,/MILLE,DEG C,KG/M^3
  49NZ20090521,   P21,   172,  1,      0,   -999,9,20090523,1544,-17.5045,-154.3315, 4724,   -999.0,9,-999.0000,9,-999.00000,9,-999.0000,9,  35.9775,2,  -999.00,9,  -999.00,9,  -999.00,9,  -999.00,  -999.00,9,  -999.00,  -999.00,9,  -999.00, -999.000,9, -999.000, -999.000,9, -999.000,9, -999.000,9,   -999.0,9,   -999.0,9,-999.0000,-999,9,  -999.00,9,  -999.00,   -999.0,9,   -999.0,-999.0000,-999.0000
  49NZ20090521,   P21,   172,  1,     36, X12043,2,20090523,1544,-17.5045,-154.3315, 4724,      9.7,2,  28.3074,2,  28.30725,2,  35.9643,2,  35.9631,2,   195.14,2,   195.38,2,     0.87,2,     0.12,     0.11,2,     0.03,     0.01,2,     0.01,    0.185,2,    0.016,    1.407,2,    0.901,2, -999.000,5,   2001.6,2,   2367.8,2,   8.1353,  25,2,  -999.00,9,  -999.00,   -999.0,9,   -999.0,  28.3051,  23.0196
  49NZ20090521,   P21,   172,  1,     35, X12042,2,20090523,1544,-17.5045,-154.3315, 4724,     49.9,2,  28.3079,2,  28.30787,2,  35.9635,2,  35.9629,2,   194.90,2,   195.50,2,     0.80,2,     0.12,     0.09,2,     0.03,     0.01,2,     0.01,    0.188,2,    0.016,    1.400,2,    0.890,2, -999.000,5,   2001.7,6,   2368.3,2,   8.1356,  25,2,  -999.00,9,  -999.00,   -999.0,9,   -999.0,  28.2960,  23.0220
  49NZ20090521,   P21,   172,  1,     34, X12016,2,20090523,1544,-17.5045,-154.3315, 4724,    100.1,2,  26.4441,2,  26.44761,2,  36.2745,2,  36.2716,2,   201.31,2,   202.70,2,     0.78,2,     0.12,     0.08,2,     0.03,     0.01,2,     0.01,    0.203,2,    0.016,    1.588,6,    0.999,6, -999.000,5,   2036.7,2,   2387.2,6,   8.1063,  25,2,  -999.00,9,  -999.00,   -999.0,9,   -999.0,  26.4214,  23.8625
  49NZ20090521,   P21,   172,  1,     33, X12015,2,20090523,1544,-17.5045,-154.3315, 4724,    149.9,2,  24.5766,2,  24.60349,2,  36.2714,2,  36.2708,2,   180.76,2,   180.95,2,     0.78,2,     0.12,     1.24,2,     0.04,     0.15,2,     0.01,    0.326,2,    0.014,    1.710,2,    1.054,2, -999.000,5,   2067.6,2,   2386.3,2,   8.0546,  25,6,  -999.00,9,  -999.00,   -999.0,9,   -999.0,  24.5443,  24.4409
  49NZ20090521,   P21,   172,  1,     32, X12050,2,20090523,1544,-17.5045,-154.3315, 4724,    199.1,2,  22.9881,2,  22.98886,2,  36.1028,2,  36.0962,2,   171.54,2,   171.65,2,     0.81,2,     0.12,     2.65,2,     0.04,     0.02,2,     0.01,    0.415,2,    0.013,    1.877,2,    1.140,2,    0.120,2,   2084.7,2,   2375.0,2,   8.0099,  25,2,  -999.00,9,  -999.00,   -999.0,9,   -999.0,  22.9472,  24.7856
  49NZ20090521,   P21,   172,  1,     31, X12014,2,20090523,1544,-17.5045,-154.3315, 4724,    250.4,2,  20.6502,2,  20.65340,2,  35.7947,2,  35.7986,6,   172.62,2,   172.37,2,     1.02,2,     0.12,     4.02,2,     0.04,     0.01,2,     0.01,    0.502,2,    0.013,    2.092,2,    1.227,2,    0.057,2,   2093.2,2,   2355.2,2,   7.9675,  25,2,  -999.00,9,  -999.00,   -999.0,9,   -999.0,  20.6026,  25.2070
  49NZ20090521,   P21,   172,  1,     30, X12012,2,20090523,1544,-17.5045,-154.3315, 4724,    330.2,2,  16.3695,2,  16.37017,2,  35.1928,2,  35.1926,2,   164.82,2,   164.62,2,     2.96,2,     0.13,     8.95,2,     0.06,     0.01,2,     0.01,    0.864,2,    0.013,    2.273,2,    1.270,2,    0.041,2,   2114.2,2,   2319.1,2,   7.8684,  25,2,  -999.00,9,  -999.00,   -999.0,9,   -999.0,  16.3161,  25.8230
  49NZ20090521,   P21,   172,  1,     29, X12041,2,20090523,1544,-17.5045,-154.3315, 4724,    428.9,2,  11.5778,2,  11.59639,2,  34.7143,2,  34.7157,2,   154.00,2,   154.69,2,     8.26,2,     0.14,    17.77,2,     0.08,     0.01,2,     0.01,    1.425,2,    0.014,    1.845,6,    0.957,6,    0.034,6,   2148.3,2,   2293.4,2,   7.7423,  25,2,  -999.00,9,  -999.00,   -999.0,9,   -999.0,  11.5228,  26.4571
  49NZ20090521,   P21,   172,  1,     28, X12040,2,20090523,1544,-17.5045,-154.3315, 4724,    529.5,2,   7.9097,2,   7.91056,2,  34.4858,2,  34.4862,6,   149.14,2,   148.77,2,    18.53,2,     0.16,    27.21,2,     0.11,     0.01,2,     0.01,    1.998,2,    0.015,    0.921,2,    0.469,2,    0.016,2,   2187.7,2,   2291.1,2,   7.6351,  25,2,  -999.00,9,  -999.00,   -999.0,9,   -999.0,   7.8557,  26.8914
  49NZ20090521,   P21,   172,  1,     27, X12009,2,20090523,1544,-17.5045,-154.3315, 4724,    631.6,2,   6.4465,2,   6.44672,2,  34.4322,2,  34.4318,2,   156.87,2,   156.84,2,    26.11,2,     0.18,    30.19,2,     0.12,     0.01,2,     0.01,    2.158,2,    0.015,    0.518,6,    0.264,6,    0.012,6,   2200.2,2,   2296.4,2,   7.6171,  25,2,  -999.00,9,  -999.00,   -999.0,9,   -999.0,   6.3887,  27.0538
  49NZ20090521,   P21,   172,  1,     26, X12008,2,20090523,1544,-17.5045,-154.3315, 4724,    729.8,2,   5.4855,2,   5.48567,2,  34.4123,2,  34.4125,2,   160.63,2,   159.98,2,    33.72,2,     0.19,    31.98,2,     0.12,     0.01,2,     0.01,    2.258,2,    0.016,    0.273,2,    0.143,2,    0.000,2,   2210.0,6,   2303.2,2,   7.6074,  25,2,  -999.00,9,  -999.00,   -999.0,9,   -999.0,   5.4235,  27.1595
  49NZ20090521,   P21,   172,  1,     25, X12007,2,20090523,1544,-17.5045,-154.3315, 4724,    827.9,2,   4.8653,2,   4.86667,2,  34.4320,2,  34.4325,2,   152.66,2,   152.27,2,    44.54,2,     0.22,    33.70,2,     0.13,     0.01,2,     0.01,    2.377,2,    0.016,    0.123,2,    0.066,2,    0.000,2,   2225.0,2,   2314.4,6,   7.5879,  25,2,  -999.00,9,  -999.00,   -999.0,9,   -999.0,   4.7983,  27.2480
  49NZ20090521,   P21,   172,  1,     24, X12035,2,20090523,1544,-17.5045,-154.3315, 4724,    929.3,2,   4.3193,2,   4.32031,2,  34.4544,2,  34.4549,2,   152.60,2,   151.80,2,    54.27,2,     0.24,    34.29,2,     0.13,     0.01,2,     0.01,    2.417,2,    0.016,    0.043,2,    0.024,2,    0.000,2,   2236.7,2,   2324.5,2,   7.5850,  25,6,  -999.00,9,  -999.00,   -999.0,9,   -999.0,   4.2473,  27.3262
  49NZ20090521,   P21,   172,  1,     23, X12038,2,20090523,1544,-17.5045,-154.3315, 4724,   1069.9,2,   3.6623,2,   3.66289,2,  34.4959,2,  34.4948,6,   149.72,2,   149.38,2,    68.37,2,     0.27,    35.15,2,     0.13,     0.01,2,     0.01,    2.474,2,    0.016,    0.013,2,    0.009,2,    0.000,2,   2255.5,2,   2340.4,2,   7.5777,  25,2,  -999.00,9,  -999.00,   -999.0,9,   -999.0,   3.5836,  27.4272
  49NZ20090521,   P21,   172,  1,     22, X12034,2,20090523,1544,-17.5045,-154.3315, 4724,   1270.7,2,   3.1643,2,   3.16468,2,  34.5422,2,  34.5422,2,   145.48,2,   144.71,2,    83.41,2,     0.30,    35.79,2,     0.13,     0.01,2,     0.01,    2.527,2,    0.016,    0.002,2,    0.002,2,    0.000,2,   2273.8,2,   2356.8,2,   7.5720,  25,2,  -999.00,9,  -999.00,   -999.0,9,   -999.0,   3.0737,  27.5129
  49NZ20090521,   P21,   172,  1,     21, X12033,2,20090523,1544,-17.5045,-154.3315, 4724,   1469.4,2,   2.7708,2,   2.77076,2,  34.5766,2,  34.5774,2,   145.54,2,   145.73,2,    94.76,2,     0.33,    36.02,2,     0.13,     0.01,2,     0.01,    2.542,2,    0.016,    0.001,2,    0.000,2,    0.000,2,   2284.6,2,   2370.6,2,   7.5729,  25,2,  -999.00,9,  -999.00,   -999.0,9,   -999.0,   2.6681,  27.5768
  49NZ20090521,   P21,   172,  1,     20, X12032,2,20090523,1544,-17.5045,-154.3315, 4724,   1669.4,2,   2.5391,2,   2.53898,2,  34.6003,2,  34.6012,2,   145.50,2,   145.79,2,   102.20,2,     0.34,    36.02,2,     0.13,     0.01,2,     0.01,    2.544,2,    0.016,    0.000,2,    0.001,2,    0.000,2,   2293.8,2,   2377.8,2,   7.5739,  25,6,  -999.00,9,  -999.00,   -999.0,9,   -999.0,   2.4227,  27.6169
  49NZ20090521,   P21,   172,  1,     19, X12046,2,20090523,1544,-17.5045,-154.3315, 4724,   1869.4,2,   2.3138,2,   2.31363,2,  34.6189,2,  34.6192,2,   148.01,2,   148.03,2,   108.10,2,     0.36,    35.95,2,     0.13,     0.01,2,     0.01,    2.534,2,    0.016,    0.000,2,    0.000,2,    0.000,2,   2299.4,2,   2384.8,2,   7.5775,  25,2,  -999.00,9,  -999.00,   -999.0,9,   -999.0,   2.1837,  27.6516
  49NZ20090521,   P21,   172,  1,     18, X12006,2,20090523,1544,-17.5045,-154.3315, 4724,   2070.1,2,   2.1498,2,   2.14932,2,  34.6328,2,  34.6330,2,   150.28,2,   150.29,2,   112.31,2,     0.37,    35.89,2,     0.13,     0.01,2,     0.01,    2.528,2,    0.016,    0.000,2,    0.000,2,    0.000,2,   2302.3,2,   2389.7,2,   7.5807,  25,2,  -999.00,9,  -999.00,   -999.0,9,   -999.0,   2.0051,  27.6771
  49NZ20090521,   P21,   172,  1,     17, X12047,2,20090523,1544,-17.5045,-154.3315, 4724,   2269.7,2,   2.0109,2,   2.01064,2,  34.6449,2,  34.6448,6,   152.90,2,   152.98,2,   115.48,2,     0.37,    35.67,2,     0.13,     0.01,2,     0.01,    2.512,2,    0.016,    0.000,2,    0.000,2,    0.000,2,   2303.7,2,   2393.1,2,   7.5851,  25,2,  -999.00,9,  -999.00,   -999.0,9,   -999.0,   1.8511,  27.6988
  49NZ20090521,   P21,   172,  1,     16, X12004,2,20090523,1544,-17.5045,-154.3315, 4724,   2468.9,2,   1.9057,2,   1.90563,2,  34.6541,2,  34.6541,2,   155.30,2,   155.22,2,   118.04,2,     0.38,    35.56,2,     0.13,     0.01,2,     0.01,    2.500,2,    0.016,    0.000,2,    0.000,2,    0.000,2,   2304.5,6,   2394.6,2,   7.5888,  25,2,  -999.00,9,  -999.00,   -999.0,9,   -999.0,   1.7300,  27.7155
  49NZ20090521,   P21,   172,  1,     15, X12003,2,20090523,1544,-17.5045,-154.3315, 4724,   2669.3,2,   1.8056,2,   1.80566,2,  34.6623,2,  34.6626,2,   158.51,2,   158.58,2,   119.66,2,     0.38,    35.31,2,     0.13,     0.01,2,     0.01,    2.489,2,    0.016,    0.000,2,    0.000,2,    0.000,2,   2303.2,2,   2395.8,6,   7.5923,  25,2,  -999.00,9,  -999.00,   -999.0,9,   -999.0,   1.6135,  27.7308
  49NZ20090521,   P21,   172,  1,     14, X12002,2,20090523,1544,-17.5045,-154.3315, 4724,   2870.7,2,   1.7318,2,   1.73180,2,  34.6689,2,  34.6691,2,   161.35,2,   161.14,2,   120.84,2,     0.38,    35.18,2,     0.13,     0.01,2,     0.01,    2.477,2,    0.016,    0.000,2,    0.000,2,    0.000,2,   2302.2,2,   2396.4,2,   7.5942,  25,6,  -999.00,9,  -999.00,   -999.0,9,   -999.0,   1.5223,  27.7428
  49NZ20090521,   P21,   172,  1,     13, X12001,2,20090523,1544,-17.5045,-154.3315, 4724,   3080.8,2,   1.6826,2,   1.68254,2,  34.6734,2,  34.6737,2,   163.67,2,   163.12,2,   121.26,2,     0.39,    34.97,2,     0.13,     0.01,2,     0.01,    2.461,2,    0.016,    0.000,2,    0.000,2,    0.000,2,   2302.2,2,   2396.0,2,   7.5970,  25,2,  -999.00,9,  -999.00,   -999.0,9,   -999.0,   1.4540,  27.7514
  49NZ20090521,   P21,   172,  1,     12, X12030,2,20090523,1544,-17.5045,-154.3315, 4724,   3329.7,2,   1.5930,2,   1.59317,2,  34.6806,2,  34.6803,2,   168.46,2,   168.15,2,   121.53,2,     0.39,    34.62,2,     0.13,     0.01,2,     0.01,    2.431,2,    0.016,    0.000,2,    0.000,2,    0.000,2,   2299.4,2,   2395.0,2,   7.6013,  25,2,  -999.00,9,  -999.00,   -999.0,9,   -999.0,   1.3418,  27.7652
  49NZ20090521,   P21,   172,  1,     11, X12044,2,20090523,1544,-17.5045,-154.3315, 4724,   3579.6,2,   1.5264,2,   1.52635,2,  34.6859,2,  34.6855,6,   173.27,2,   172.28,2,   120.87,2,     0.38,    34.29,2,     0.13,     0.01,2,     0.01,    2.405,2,    0.016,    0.001,2,    0.000,2,    0.000,2,   2294.8,2,   2391.0,2,   7.6055,  25,2,  -999.00,9,  -999.00,   -999.0,9,   -999.0,   1.2514,  27.7758
  49NZ20090521,   P21,   172,  1,     10, X12048,2,20090523,1544,-17.5045,-154.3315, 4724,   3830.0,2,   1.4942,2,   1.49435,2,  34.6891,2,  34.6892,2,   176.52,2,   175.51,2,   120.51,2,     0.38,    34.05,2,     0.13,     0.01,2,     0.01,    2.390,2,    0.016,    0.000,2,    0.000,2,    0.000,2,   2291.7,2,   2389.0,2,   7.6069,  25,2,  -999.00,9,  -999.00,   -999.0,9,   -999.0,   1.1937,  27.7824
  49NZ20090521,   P21,   172,  1,      9, X12027,2,20090523,1544,-17.5045,-154.3315, 4724,   4080.4,2,   1.4415,2,   1.44137,2,  34.6934,2,  34.6939,2,   180.82,2,   180.47,2,   119.92,2,     0.38,    33.88,2,     0.13,     0.01,2,     0.01,    2.370,2,    0.016,    0.000,2,    0.000,2,    0.000,2,   2287.7,2,   2386.5,2,   7.6099,  25,2,  -999.00,9,  -999.00,   -999.0,9,   -999.0,   1.1154,  27.7912
  49NZ20090521,   P21,   172,  1,      8, X12026,2,20090523,1544,-17.5045,-154.3315, 4724,   4330.7,2,   1.4162,2,   1.41604,2,  34.6964,2,  34.6968,2,   183.86,2,   183.54,2,   119.42,2,     0.38,    33.63,2,     0.13,     0.01,2,     0.01,    2.350,2,    0.016,    0.001,2,    0.000,2,    0.000,2,   2285.3,2,   2384.1,2,   7.6121,  25,2,  -999.00,9,  -999.00,   -999.0,9,   -999.0,   1.0630,  27.7972
  49NZ20090521,   P21,   172,  1,      7, X12025,2,20090523,1544,-17.5045,-154.3315, 4724,   4580.6,2,   1.4155,2,   1.41534,2,  34.6979,2,  34.6986,2,   185.49,2,   184.88,2,   119.12,2,     0.38,    33.45,2,     0.13,     0.01,2,     0.01,    2.343,2,    0.016,    0.000,2,    0.000,2,    0.000,2,   2283.4,2,   2382.6,6,   7.6129,  25,2,  -999.00,9,  -999.00,   -999.0,9,   -999.0,   1.0338,  27.8004
  49NZ20090521,   P21,   172,  1,      6, X12024,2,20090523,1544,-17.5045,-154.3315, 4724,      9.7,2,  28.3069,2,  28.30644,2,  35.9644,2,-999.0000,9,   195.11,2,  -999.00,9,     0.85,2,     0.12,     0.09,2,     0.03,     0.01,2,     0.01,    0.192,2,    0.016, -999.000,9, -999.000,9, -999.000,9,   -999.0,9,   -999.0,9,-999.0000,-999,9,  -999.00,9,  -999.00,   -999.0,9,   -999.0,  28.3046,  23.0198
  49NZ20090521,   P21,   172,  1,      5, X12028,2,20090523,1544,-17.5045,-154.3315, 4724,     49.7,2,  28.3080,2,  28.30661,2,  35.9637,2,-999.0000,9,   194.84,2,  -999.00,9,     0.85,2,     0.12,     0.11,2,     0.03,     0.01,2,     0.01,    0.197,2,    0.016, -999.000,9, -999.000,9, -999.000,9,   -999.0,9,   -999.0,9,-999.0000,-999,9,  -999.00,9,  -999.00,   -999.0,9,   -999.0,  28.2962,  23.0221
  49NZ20090521,   P21,   172,  1,      4, X12022,2,20090523,1544,-17.5045,-154.3315, 4724,     99.8,2,  26.4475,2,  26.44485,2,  36.2746,2,-999.0000,9,   201.59,2,  -999.00,9,     0.94,2,     0.12,     0.12,2,     0.03,     0.01,2,     0.01,    0.211,2,    0.016, -999.000,9, -999.000,9, -999.000,9,   -999.0,9,   -999.0,9,-999.0000,-999,9,  -999.00,9,  -999.00,   -999.0,9,   -999.0,  26.4249,  23.8615
  49NZ20090521,   P21,   172,  1,      3, X12021,2,20090523,1544,-17.5045,-154.3315, 4724,    150.1,2,  24.6164,2,  24.62408,2,  36.2724,2,-999.0000,9,   180.76,2,  -999.00,9,     0.96,2,     0.12,     1.37,2,     0.04,     0.14,2,     0.01,    0.334,2,    0.014, -999.000,9, -999.000,9, -999.000,9,   -999.0,9,   -999.0,9,-999.0000,-999,9,  -999.00,9,  -999.00,   -999.0,9,   -999.0,  24.5840,  24.4297
  49NZ20090521,   P21,   172,  1,      2, X12020,2,20090523,1544,-17.5045,-154.3315, 4724,    199.1,2,  22.9631,2,  22.96663,2,  36.1011,2,-999.0000,9,   171.74,2,  -999.00,9,     1.06,2,     0.12,     2.78,2,     0.04,     0.02,2,     0.01,    0.422,2,    0.013, -999.000,9, -999.000,9, -999.000,9,   -999.0,9,   -999.0,9,-999.0000,-999,9,  -999.00,9,  -999.00,   -999.0,9,   -999.0,  22.9223,  24.7915
  49NZ20090521,   P21,   172,  1,      1, X12019,2,20090523,1544,-17.5045,-154.3315, 4724,   4785.8,2,   1.4241,2,   1.42393,2,  34.6987,2,  34.6990,6,   186.51,2,   185.73,2,   119.10,2,     0.38,    33.41,2,     0.13,     0.01,2,     0.01,    2.339,2,    0.016,    0.000,2,    0.000,2,    0.000,2,   2281.9,2,   2382.8,2,   7.6136,  25,2,  -999.00,9,  -999.00,   -999.0,9,   -999.0,   1.0180,  27.8020