BOTTLE,20111109CCHDOSIOCBG
EXPOCODE,SECT_ID,STNNBR,CASTNO,SAMPNO,BTLNBR,BTLNBR_FLAG_W,DATE,TIME,LATITUDE,LONGITUDE,DEPTH,CTDPRS,CTDPRS_FLAG_W,CTDTMP,CTDTMP_FLAG_W,SBE35,SBE35_FLAG_W,CTDSAL,CTDSAL_FLAG_W,SALNTY,SALNTY_FLAG_W,CTDOXY,CTDOXY_FLAG_W,OXYGEN,OXYGEN_FLAG_W,SILCAT,SILCAT_FLAG_W,SILUNC,NITRAT,NITRAT_FLAG_W,NRAUNC,NITRIT,NITRIT_FLAG_W,NRIUNC,PHSPHT,PHSPHT_FLAG_W,PHPUNC,CFC-11,CFC-11_FLAG_W,CFC-12,CFC-12_FLAG_W,CFC113,CFC113_FLAG_W,TCARBN,TCARBN_FLAG_W,ALKALI,ALKALI_FLAG_W,PH_TOT,PH_TMP,PH_TOT_FLAG_W,DELC13,DELC13_FLAG_W,C13ERR,DELC14,DELC14_FLAG_W,C14ERR,THETA,SIG0
,,,,,,,,,,,METERS,DBAR,,ITS-90,,ITS-90,,PSS-78,,PSS-78,,UMOL/KG,,UMOL/KG,,UMOL/KG,,UMOL/KG,UMOL/KG,,UMOL/KG,UMOL/KG,,UMOL/KG,UMOL/KG,,UMOL/KG,PMOL/KG,,PMOL/KG,,PMOL/KG,,UMOL/KG,,UMOL/KG,,,DEG C,,/MILLE,,/MILLE,/MILLE,,/MILLE,DEG C,KG/M^3
  49NZ20090521,   P21,   246,  1,      0,   -999,9,20090610,1548,-18.6950, 167.3173, 4835,   -999.0,9,-999.0000,9,-999.00000,9,-999.0000,9,  34.6669,2,  -999.00,9,  -999.00,9,  -999.00,9,  -999.00,  -999.00,9,  -999.00,  -999.00,9,  -999.00, -999.000,9, -999.000, -999.000,9, -999.000,9, -999.000,9,   -999.0,9,   -999.0,9,-999.0000,-999,9,  -999.00,9,  -999.00,   -999.0,9,   -999.0,-999.0000,-999.0000
  49NZ20090521,   P21,   246,  1,     36, X12043,2,20090610,1548,-18.6950, 167.3173, 4835,     10.1,2,  26.6144,2,  26.61453,2,  34.6616,2,  34.6593,2,   202.01,2,   201.36,2,     0.49,2,     0.12,     0.04,2,     0.03,     0.01,2,     0.01,    0.089,2,    0.023,    1.508,2,    0.967,2, -999.000,5,   -999.0,9,   -999.0,9,-999.0000,-999,9,  -999.00,9,  -999.00,   -999.0,9,   -999.0,  26.6121,  22.5860
  49NZ20090521,   P21,   246,  1,     35, X12042,2,20090610,1548,-18.6950, 167.3173, 4835,     50.5,2,  26.6292,2,  26.62892,2,  34.6635,2,  34.6623,2,   201.95,2,   201.37,2,     0.35,2,     0.12,     0.03,2,     0.03,     0.01,2,     0.01,    0.081,2,    0.025,    1.500,2,    0.951,2, -999.000,5,   -999.0,9,   -999.0,9,-999.0000,-999,9,  -999.00,9,  -999.00,   -999.0,9,   -999.0,  26.6178,  22.5857
  49NZ20090521,   P21,   246,  1,     34, X12016,2,20090610,1548,-18.6950, 167.3173, 4835,     99.9,2,  25.2110,2,  25.24209,2,  35.3700,2,  35.3733,2,   171.18,2,   170.90,2,     0.69,2,     0.12,     2.00,2,     0.04,     0.06,2,     0.01,    0.302,2,    0.014,    1.688,6,    1.053,6, -999.000,5,   -999.0,9,   -999.0,9,-999.0000,-999,9,  -999.00,9,  -999.00,   -999.0,9,   -999.0,  25.1892,  23.5632
  49NZ20090521,   P21,   246,  1,     33, X12015,2,20090610,1548,-18.6950, 167.3173, 4835,    150.3,2,  23.5490,2,  23.56122,2,  35.6445,2,  35.6242,2,   162.46,2,   162.71,2,     0.69,2,     0.12,     3.28,2,     0.04,     0.03,2,     0.01,    0.392,2,    0.013,    1.803,2,    1.114,2,    0.127,2,   -999.0,9,   -999.0,9,-999.0000,-999,9,  -999.00,9,  -999.00,   -999.0,9,   -999.0,  23.5177,  24.2718
  49NZ20090521,   P21,   246,  1,     32, X12050,2,20090610,1548,-18.6950, 167.3173, 4835,    200.3,2,  21.2813,2,  21.25243,2,  35.6551,2,  35.6590,2,   163.56,2,   162.28,2,     0.90,2,     0.12,     4.88,2,     0.05,     0.02,2,     0.01,    0.483,2,    0.013,    1.945,2,    1.177,2,    0.076,2,   -999.0,9,   -999.0,9,-999.0000,-999,9,  -999.00,9,  -999.00,   -999.0,9,   -999.0,  21.2425,  24.9263
  49NZ20090521,   P21,   246,  1,     31, X12014,2,20090610,1548,-18.6950, 167.3173, 4835,    249.8,2,  19.7623,2,  19.78087,2,  35.6496,2,  35.6498,6,   157.02,2,   156.72,2,     1.48,2,     0.12,     6.53,2,     0.05,     0.01,2,     0.01,    0.627,2,    0.013,    2.040,2,    1.203,2,    0.051,2,   -999.0,9,   -999.0,9,-999.0000,-999,9,  -999.00,9,  -999.00,   -999.0,9,   -999.0,  19.7163,  25.3321
  49NZ20090521,   P21,   246,  1,     30, X12012,2,20090610,1548,-18.6950, 167.3173, 4835,    299.7,2,  17.2499,2,  17.25689,2,  35.4247,2,  35.4199,2,   166.64,2,   166.75,2,     2.29,2,     0.12,     8.08,2,     0.06,     0.01,2,     0.01,    0.705,2,    0.013,    2.133,2,    1.227,2,    0.033,2,   -999.0,9,   -999.0,9,-999.0000,-999,9,  -999.00,9,  -999.00,   -999.0,9,   -999.0,  17.1997,  25.7925
  49NZ20090521,   P21,   246,  1,     29, X12041,2,20090610,1548,-18.6950, 167.3173, 4835,    399.3,2,  13.2853,2,  13.27134,2,  35.0153,2,  35.0143,2,   171.46,2,   171.96,2,     4.82,2,     0.13,    13.58,2,     0.07,     0.01,2,     0.01,    1.066,2,    0.013,    2.034,6,    1.116,6,    0.039,6,   -999.0,9,   -999.0,9,-999.0000,-999,9,  -999.00,9,  -999.00,   -999.0,9,   -999.0,  13.2292,  26.3585
  49NZ20090521,   P21,   246,  1,     28, X12040,2,20090610,1548,-18.6950, 167.3173, 4835,    501.6,2,   9.5241,2,   9.52381,2,  34.6434,2,  34.6409,6,   185.53,2,   185.42,2,     8.79,2,     0.14,    20.27,2,     0.09,     0.01,2,     0.01,    1.473,2,    0.014,    1.785,2,    0.929,2,    0.044,2,   -999.0,9,   -999.0,9,-999.0000,-999,9,  -999.00,9,  -999.00,   -999.0,9,   -999.0,   9.4670,  26.7629
  49NZ20090521,   P21,   246,  1,     27, X12009,2,20090610,1548,-18.6950, 167.3173, 4835,    600.8,2,   7.8254,2,   7.82591,2,  34.5012,2,  34.5000,2,   194.65,2,   194.38,2,    12.62,2,     0.15,    23.60,2,     0.10,     0.01,2,     0.01,    1.683,2,    0.014,    1.495,6,    0.763,6,    0.038,6,   -999.0,9,   -999.0,9,-999.0000,-999,9,  -999.00,9,  -999.00,   -999.0,9,   -999.0,   7.7642,  26.9169
  49NZ20090521,   P21,   246,  1,     26, X12008,2,20090610,1548,-18.6950, 167.3173, 4835,    700.2,2,   6.6450,2,   6.64545,2,  34.4661,2,  34.4642,2,   186.20,2,   187.44,2,    23.67,2,     0.17,    27.03,2,     0.11,     0.01,2,     0.01,    1.912,2,    0.015,    0.911,2,    0.466,2,    0.026,2,   -999.0,9,   -999.0,9,-999.0000,-999,9,  -999.00,9,  -999.00,   -999.0,9,   -999.0,   6.5795,  27.0553
  49NZ20090521,   P21,   246,  1,     25, X12007,2,20090610,1548,-18.6950, 167.3173, 4835,    800.6,2,   5.4690,2,   5.47071,2,  34.4032,2,  34.4025,2,   187.78,2,   187.78,2,    30.15,2,     0.19,    29.49,2,     0.12,     0.01,2,     0.01,    2.067,2,    0.015,    0.570,2,    0.289,2,    0.000,2,   -999.0,9,   -999.0,9,-999.0000,-999,9,  -999.00,9,  -999.00,   -999.0,9,   -999.0,   5.4007,  27.1549
  49NZ20090521,   P21,   246,  1,     24, X12035,2,20090610,1548,-18.6950, 167.3173, 4835,    900.9,2,   4.7822,2,   4.78235,2,  34.4267,2,  34.4267,2,   175.80,2,   175.94,2,    42.99,2,     0.21,    31.58,2,     0.12,     0.01,2,     0.01,    2.214,2,    0.016,    0.280,2,    0.143,2,    0.000,2,   -999.0,9,   -999.0,9,-999.0000,-999,9,  -999.00,9,  -999.00,   -999.0,9,   -999.0,   4.7094,  27.2538
  49NZ20090521,   P21,   246,  1,     23, X12038,2,20090610,1548,-18.6950, 167.3173, 4835,   1000.4,2,   4.1698,2,   4.16990,2,  34.4559,2,  34.4566,6,   169.28,2,   169.27,2,    55.69,2,     0.24,    32.85,2,     0.12,     0.01,2,     0.01,    2.306,2,    0.016,    0.153,2,    0.082,2,    0.000,2,   -999.0,9,   -999.0,9,-999.0000,-999,9,  -999.00,9,  -999.00,   -999.0,9,   -999.0,   4.0929,  27.3437
  49NZ20090521,   P21,   246,  1,     22, X12034,2,20090610,1548,-18.6950, 167.3173, 4835,   1202.4,2,   3.5355,2,   3.53546,2,  34.5222,2,  34.5223,2,   157.82,2,   158.02,2,    74.94,2,     0.28,    34.06,2,     0.13,     0.01,2,     0.01,    2.404,2,    0.016,    0.054,2,    0.031,2,    0.000,2,   -999.0,9,   -999.0,9,-999.0000,-999,9,  -999.00,9,  -999.00,   -999.0,9,   -999.0,   3.4470,  27.4615
  49NZ20090521,   P21,   246,  1,     21, X12033,2,20090610,1548,-18.6950, 167.3173, 4835,   1397.1,2,   3.0822,2,   3.08261,2,  34.5641,2,  34.5640,2,   153.14,2,   153.35,2,    88.25,2,     0.31,    34.82,2,     0.13,     0.01,2,     0.01,    2.456,2,    0.016,    0.024,2,    0.015,2,    0.000,2,   -999.0,9,   -999.0,9,-999.0000,-999,9,  -999.00,9,  -999.00,   -999.0,9,   -999.0,   2.9820,  27.5388
  49NZ20090521,   P21,   246,  1,     20, X12032,2,20090610,1548,-18.6950, 167.3173, 4835,   1600.5,2,   2.7521,2,   2.75215,2,  34.5970,2,  34.5973,2,   149.50,2,   149.37,2,    98.01,2,     0.33,    35.23,2,     0.13,     0.01,2,     0.01,    2.491,2,    0.016,    0.009,2,    0.005,2,    0.000,2,   -999.0,9,   -999.0,9,-999.0000,-999,9,  -999.00,9,  -999.00,   -999.0,9,   -999.0,   2.6388,  27.5957
  49NZ20090521,   P21,   246,  1,     19, X12046,2,20090610,1548,-18.6950, 167.3173, 4835,   1801.1,2,   2.5042,2,   2.50427,2,  34.6201,2,  34.6201,2,   149.37,2,   149.09,2,   104.19,2,     0.35,    35.31,2,     0.13,     0.01,2,     0.01,    2.495,2,    0.016,    0.005,2,    0.004,2,    0.000,2,   -999.0,9,   -999.0,9,-999.0000,-999,9,  -999.00,9,  -999.00,   -999.0,9,   -999.0,   2.3772,  27.6366
  49NZ20090521,   P21,   246,  1,     18, X12006,2,20090610,1548,-18.6950, 167.3173, 4835,   2000.0,2,   2.3319,2,   2.33208,2,  34.6375,2,  34.6375,2,   149.00,2,   148.83,2,   108.81,2,     0.36,    35.48,2,     0.13,     0.01,2,     0.01,    2.506,2,    0.016,    0.003,2,    0.001,2,    0.000,2,   -999.0,9,   -999.0,9,-999.0000,-999,9,  -999.00,9,  -999.00,   -999.0,9,   -999.0,   2.1904,  27.6660
  49NZ20090521,   P21,   246,  1,     17, X12047,2,20090610,1548,-18.6950, 167.3173, 4835,   2202.8,2,   2.1738,2,   2.17401,2,  34.6512,2,  34.6512,2,   150.23,2,   150.00,2,   112.44,2,     0.37,    35.49,2,     0.13,     0.00,2,     0.01,    2.505,2,    0.016,    0.000,2,    0.001,2,    0.000,2,   -999.0,9,   -999.0,9,-999.0000,-999,9,  -999.00,9,  -999.00,   -999.0,9,   -999.0,   2.0171,  27.6909
  49NZ20090521,   P21,   246,  1,     16, X12004,2,20090610,1548,-18.6950, 167.3173, 4835,   2401.1,2,   2.0452,2,   2.04534,2,  34.6635,2,  34.6633,6,   152.14,2,   151.93,2,   114.76,2,     0.37,    35.29,2,     0.13,     0.01,2,     0.01,    2.498,2,    0.016,    0.000,2,    0.001,2,    0.000,2,   -999.0,9,   -999.0,9,-999.0000,-999,9,  -999.00,9,  -999.00,   -999.0,9,   -999.0,   1.8730,  27.7120
  49NZ20090521,   P21,   246,  1,     15, X12003,2,20090610,1548,-18.6950, 167.3173, 4835,   2600.2,2,   1.9638,2,   1.96391,2,  34.6687,2,  34.6687,2,   152.58,2,   152.35,2,   117.52,2,     0.38,    35.41,2,     0.13,     0.01,2,     0.01,    2.499,2,    0.016,    0.000,2,    0.000,2,    0.000,2,   -999.0,9,   -999.0,9,-999.0000,-999,9,  -999.00,9,  -999.00,   -999.0,9,   -999.0,   1.7749,  27.7238
  49NZ20090521,   P21,   246,  1,     14, X12002,2,20090610,1548,-18.6950, 167.3173, 4835,   2801.1,2,   1.9155,2,   1.91561,2,  34.6732,2,  34.6730,2,   153.53,2,   153.14,2,   118.94,2,     0.38,    35.28,2,     0.13,     0.01,2,     0.01,    2.488,2,    0.016,    0.000,2,    0.000,2,    0.000,2,   -999.0,9,   -999.0,9,-999.0000,-999,9,  -999.00,9,  -999.00,   -999.0,9,   -999.0,   1.7088,  27.7324
  49NZ20090521,   P21,   246,  1,     13, X12001,2,20090610,1548,-18.6950, 167.3173, 4835,   3002.1,2,   1.8680,2,   1.86791,2,  34.6760,2,  34.6760,2,   153.76,2,   153.38,2,   121.12,2,     0.39,    35.28,2,     0.13,     0.01,2,     0.01,    2.491,2,    0.016,    0.000,2,    0.000,2,    0.000,2,   -999.0,9,   -999.0,9,-999.0000,-999,9,  -999.00,9,  -999.00,   -999.0,9,   -999.0,   1.6429,  27.7396
  49NZ20090521,   P21,   246,  1,     12, X12030,2,20090610,1548,-18.6950, 167.3173, 4835,   3251.4,2,   1.8437,2,   1.84373,2,  34.6793,2,  34.6788,2,   154.84,2,   154.40,2,   121.94,2,     0.39,    35.41,2,     0.13,     0.01,2,     0.01,    2.489,2,    0.016,    0.000,2,    0.000,2,    0.000,2,   -999.0,9,   -999.0,9,-999.0000,-999,9,  -999.00,9,  -999.00,   -999.0,9,   -999.0,   1.5944,  27.7459
  49NZ20090521,   P21,   246,  1,     11, X12044,2,20090610,1548,-18.6950, 167.3173, 4835,   3499.3,2,   1.8328,2,   1.83278,2,  34.6817,2,  34.6814,2,   155.94,2,   155.49,2,   122.31,2,     0.39,    35.30,2,     0.13,     0.00,2,     0.01,    2.486,2,    0.016,    0.000,2,    0.000,2,    0.000,2,   -999.0,9,   -999.0,9,-999.0000,-999,9,  -999.00,9,  -999.00,   -999.0,9,   -999.0,   1.5584,  27.7505
  49NZ20090521,   P21,   246,  1,     10, X12048,2,20090610,1548,-18.6950, 167.3173, 4835,   3750.3,2,   1.8349,2,   1.83492,2,  34.6831,2,  34.6827,6,   156.30,2,   155.88,2,   122.82,2,     0.39,    35.28,2,     0.13,     0.01,2,     0.01,    2.486,2,    0.016,    0.000,2,    0.000,2,    0.000,2,   -999.0,9,   -999.0,9,-999.0000,-999,9,  -999.00,9,  -999.00,   -999.0,9,   -999.0,   1.5338,  27.7534
  49NZ20090521,   P21,   246,  1,      9, X12027,2,20090610,1548,-18.6950, 167.3173, 4835,   4001.9,2,   1.8449,2,   1.84496,2,  34.6842,2,  34.6837,2,   157.03,2,   156.52,2,   123.01,2,     0.39,    35.25,2,     0.13,     0.00,2,     0.01,    2.479,2,    0.016,    0.000,2,    0.000,2,    0.000,2,   -999.0,9,   -999.0,9,-999.0000,-999,9,  -999.00,9,  -999.00,   -999.0,9,   -999.0,   1.5161,  27.7556
  49NZ20090521,   P21,   246,  1,      8, X12026,2,20090610,1548,-18.6950, 167.3173, 4835,   4251.5,2,   1.8636,2,   1.86375,2,  34.6847,2,  34.6844,2,   156.76,2,   156.37,2,   123.48,2,     0.39,    35.30,2,     0.13,     0.01,2,     0.01,    2.481,2,    0.016,    0.000,2,    0.000,2,    0.000,2,   -999.0,9,   -999.0,9,-999.0000,-999,9,  -999.00,9,  -999.00,   -999.0,9,   -999.0,   1.5062,  27.7567
  49NZ20090521,   P21,   246,  1,      7, X12025,2,20090610,1548,-18.6950, 167.3173, 4835,   4501.6,2,   1.8832,2,   1.88325,2,  34.6847,2,  34.6843,2,   157.01,2,   156.74,2,   123.65,2,     0.39,    35.25,2,     0.13,     0.00,2,     0.01,    2.477,2,    0.016,    0.001,2,    0.000,2,    0.000,2,   -999.0,9,   -999.0,9,-999.0000,-999,9,  -999.00,9,  -999.00,   -999.0,9,   -999.0,   1.4962,  27.7574
  49NZ20090521,   P21,   246,  1,      6, X12024,2,20090610,1548,-18.6950, 167.3173, 4835,   4749.9,2,   1.9097,2,   1.90962,2,  34.6845,2,  34.6842,2,   156.91,2,   156.61,2,   123.94,2,     0.39,    35.24,2,     0.13,     0.00,2,     0.01,    2.480,2,    0.016,    0.001,2,    0.002,2,    0.000,2,   -999.0,9,   -999.0,9,-999.0000,-999,9,  -999.00,9,  -999.00,   -999.0,9,   -999.0,   1.4923,  27.7576
  49NZ20090521,   P21,   246,  1,      5, X12028,9,20090610,1548,-18.6950, 167.3173, 4835,     10.1,2,  26.6141,2,  26.61360,2,  34.6620,2,-999.0000,9,   202.04,2,  -999.00,9,  -999.00,9,  -999.00,  -999.00,9,  -999.00,  -999.00,9,  -999.00, -999.000,9, -999.000, -999.000,9, -999.000,9, -999.000,9,   -999.0,9,   -999.0,9,-999.0000,-999,9,  -999.00,9,  -999.00,   -999.0,9,   -999.0,  26.6118,  22.5864
  49NZ20090521,   P21,   246,  1,      4, X12022,9,20090610,1548,-18.6950, 167.3173, 4835,     50.2,2,  26.6275,2,  26.62671,2,  34.6633,2,-999.0000,9,   201.77,2,  -999.00,9,  -999.00,9,  -999.00,  -999.00,9,  -999.00,  -999.00,9,  -999.00, -999.000,9, -999.000, -999.000,9, -999.000,9, -999.000,9,   -999.0,9,   -999.0,9,-999.0000,-999,9,  -999.00,9,  -999.00,   -999.0,9,   -999.0,  26.6161,  22.5861
  49NZ20090521,   P21,   246,  1,      3, X12021,9,20090610,1548,-18.6950, 167.3173, 4835,    100.2,2,  25.1912,2,  25.16241,2,  35.3620,2,-999.0000,9,   171.42,2,  -999.00,9,  -999.00,9,  -999.00,  -999.00,9,  -999.00,  -999.00,9,  -999.00, -999.000,9, -999.000, -999.000,9, -999.000,9, -999.000,9,   -999.0,9,   -999.0,9,-999.0000,-999,9,  -999.00,9,  -999.00,   -999.0,9,   -999.0,  25.1693,  23.5631
  49NZ20090521,   P21,   246,  1,      2, X12020,9,20090610,1548,-18.6950, 167.3173, 4835,   1396.9,2,   3.0810,2,   3.08089,2,  34.5642,2,-999.0000,9,   153.15,2,  -999.00,9,  -999.00,9,  -999.00,  -999.00,9,  -999.00,  -999.00,9,  -999.00, -999.000,9, -999.000, -999.000,9, -999.000,9, -999.000,9,   -999.0,9,   -999.0,9,-999.0000,-999,9,  -999.00,9,  -999.00,   -999.0,9,   -999.0,   2.9808,  27.5389
  49NZ20090521,   P21,   246,  1,      1, X12019,2,20090610,1548,-18.6950, 167.3173, 4835,   4897.2,2,   1.9270,2,   1.92700,2,  34.6845,2,  34.6842,6,   156.90,2,   156.55,2,   123.88,2,     0.39,    35.32,2,     0.13,     0.00,2,     0.01,    2.482,2,    0.016,    0.000,2,    0.000,2,    0.000,2,   -999.0,9,   -999.0,9,-999.0000,-999,9,  -999.00,9,  -999.00,   -999.0,9,   -999.0,   1.4911,  27.7576