BOTTLE,20111109CCHDOSIOCBG
EXPOCODE,SECT_ID,STNNBR,CASTNO,SAMPNO,BTLNBR,BTLNBR_FLAG_W,DATE,TIME,LATITUDE,LONGITUDE,DEPTH,CTDPRS,CTDPRS_FLAG_W,CTDTMP,CTDTMP_FLAG_W,SBE35,SBE35_FLAG_W,CTDSAL,CTDSAL_FLAG_W,SALNTY,SALNTY_FLAG_W,CTDOXY,CTDOXY_FLAG_W,OXYGEN,OXYGEN_FLAG_W,SILCAT,SILCAT_FLAG_W,SILUNC,NITRAT,NITRAT_FLAG_W,NRAUNC,NITRIT,NITRIT_FLAG_W,NRIUNC,PHSPHT,PHSPHT_FLAG_W,PHPUNC,CFC-11,CFC-11_FLAG_W,CFC-12,CFC-12_FLAG_W,CFC113,CFC113_FLAG_W,TCARBN,TCARBN_FLAG_W,ALKALI,ALKALI_FLAG_W,PH_TOT,PH_TMP,PH_TOT_FLAG_W,DELC13,DELC13_FLAG_W,C13ERR,DELC14,DELC14_FLAG_W,C14ERR,THETA,SIG0
,,,,,,,,,,,METERS,DBAR,,ITS-90,,ITS-90,,PSS-78,,PSS-78,,UMOL/KG,,UMOL/KG,,UMOL/KG,,UMOL/KG,UMOL/KG,,UMOL/KG,UMOL/KG,,UMOL/KG,UMOL/KG,,UMOL/KG,PMOL/KG,,PMOL/KG,,PMOL/KG,,UMOL/KG,,UMOL/KG,,,DEG C,,/MILLE,,/MILLE,/MILLE,,/MILLE,DEG C,KG/M^3
  49NZ20090521,   P21,   235,  1,      0,   -999,9,20090609,0126,-17.8323, 169.8303, 2057,   -999.0,9,-999.0000,9,-999.00000,9,-999.0000,9,  34.8754,2,  -999.00,9,  -999.00,9,  -999.00,9,  -999.00,  -999.00,9,  -999.00,  -999.00,9,  -999.00, -999.000,9, -999.000, -999.000,9, -999.000,9, -999.000,9,   -999.0,9,   -999.0,9,-999.0000,-999,9,  -999.00,9,  -999.00,   -999.0,9,   -999.0,-999.0000,-999.0000
  49NZ20090521,   P21,   235,  1,     36, X12043,2,20090609,0126,-17.8323, 169.8303, 2057,     10.6,2,  26.5539,2,  26.55223,2,  34.8664,2,  34.8645,2,   202.60,2,   202.52,2,     0.64,2,     0.12,     0.11,2,     0.03,     0.01,2,     0.01,    0.067,2,    0.028,    1.506,2,    0.968,2, -999.000,5,   1939.9,2,   2290.6,2,   8.1319,  25,2,  -999.00,9,  -999.00,   -999.0,9,   -999.0,  26.5515,  22.7595
  49NZ20090521,   P21,   235,  1,     35, X12042,2,20090609,0126,-17.8323, 169.8303, 2057,     50.3,2,  26.1954,2,  26.19539,2,  34.8620,2,  34.8602,2,   202.29,2,   202.23,2,     0.59,2,     0.12,     0.10,2,     0.03,     0.01,2,     0.01,    0.069,2,    0.028,    1.520,2,    0.986,2, -999.000,5,   1940.9,6,   2288.6,2,   8.1269,  25,2,  -999.00,9,  -999.00,   -999.0,9,   -999.0,  26.1841,  22.8717
  49NZ20090521,   P21,   235,  1,     34, X12016,2,20090609,0126,-17.8323, 169.8303, 2057,    100.7,2,  24.8052,2,  24.80352,2,  35.3686,2,  35.3755,2,   179.17,2,   177.99,2,     0.72,2,     0.12,     1.35,2,     0.04,     0.10,2,     0.01,    0.258,2,    0.015,    1.711,6,    1.080,6, -999.000,5,   2014.7,2,   2320.9,6,   8.0501,  25,2,  -999.00,9,  -999.00,   -999.0,9,   -999.0,  24.7835,  23.6856
  49NZ20090521,   P21,   235,  1,     33, X12015,2,20090609,0126,-17.8323, 169.8303, 2057,    150.4,2,  22.7460,2,  22.74503,2,  35.5409,2,  35.5417,2,   174.07,2,   173.79,2,     0.68,2,     0.12,     2.49,2,     0.04,     0.03,2,     0.01,    0.308,2,    0.014,    1.858,2,    1.168,2,    0.129,2,   2038.4,2,   2329.5,2,   8.0203,  25,6,  -999.00,9,  -999.00,   -999.0,9,   -999.0,  22.7155,  24.4258
  49NZ20090521,   P21,   235,  1,     32, X12050,2,20090609,0126,-17.8323, 169.8303, 2057,    200.6,2,  20.9837,2,  20.98257,2,  35.6578,2,  35.6561,2,   167.66,2,   167.43,2,     0.87,2,     0.12,     4.31,2,     0.04,     0.02,2,     0.01,    0.420,2,    0.013,    1.992,2,    1.219,2,    0.057,2,   2068.6,2,   2337.5,2,   7.9794,  25,2,  -999.00,9,  -999.00,   -999.0,9,   -999.0,  20.9452,  25.0097
  49NZ20090521,   P21,   235,  1,     31, X12014,2,20090609,0126,-17.8323, 169.8303, 2057,    251.1,2,  19.5551,2,  19.55469,2,  35.6263,2,  35.6240,6,   169.05,2,   168.66,2,     1.37,2,     0.12,     5.44,2,     0.05,     0.01,2,     0.01,    0.513,2,    0.013,    2.076,2,    1.248,2,    0.039,2,   2083.5,2,   2336.0,2,   7.9515,  25,2,  -999.00,9,  -999.00,   -999.0,9,   -999.0,  19.5092,  25.3685
  49NZ20090521,   P21,   235,  1,     30, X12012,2,20090609,0126,-17.8323, 169.8303, 2057,    280.5,2,  18.4234,2,  18.42397,2,  35.5426,2,  35.5395,2,   168.93,2,   169.21,2,     1.63,2,     0.12,     6.47,2,     0.05,     0.01,2,     0.01,    0.588,2,    0.013,    2.132,2,    1.264,2,    0.027,2,   2092.4,2,   2331.2,2,   7.9277,  25,2,  -999.00,9,  -999.00,   -999.0,9,   -999.0,  18.3742,  25.5945
  49NZ20090521,   P21,   235,  1,     29, X12041,2,20090609,0126,-17.8323, 169.8303, 2057,    371.3,2,  14.6774,2,  14.67639,2,  35.2263,2,  35.2187,2,   184.36,2,   184.02,2,     2.82,2,     0.13,    10.04,2,     0.06,     0.01,2,     0.01,    0.795,2,    0.013,    2.299,6,    1.306,6,    0.043,6,   2107.9,2,   2313.3,2,   7.8663,  25,2,  -999.00,9,  -999.00,   -999.0,9,   -999.0,  14.6216,  26.2292
  49NZ20090521,   P21,   235,  1,     28, X12040,2,20090609,0126,-17.8323, 169.8303, 2057,    470.6,2,  10.7092,2,  10.71124,2,  34.7663,2,  34.7628,6,   191.87,2,   191.58,2,     5.85,2,     0.13,    16.95,2,     0.08,     0.01,2,     0.01,    1.249,2,    0.013,    2.159,2,    1.152,2,    0.042,2,   2131.3,2,   2294.2,2,   7.7752,  25,2,  -999.00,9,  -999.00,   -999.0,9,   -999.0,  10.6516,  26.6560
  49NZ20090521,   P21,   235,  1,     27, X12009,2,20090609,0126,-17.8323, 169.8303, 2057,    570.6,2,   7.5462,2,   7.54659,2,  34.4615,2,  34.4604,2,   205.50,2,   204.74,2,    10.84,2,     0.14,    23.45,2,     0.10,     0.01,2,     0.01,    1.655,2,    0.014,    1.694,6,    0.867,6,    0.041,6,   2151.7,2,   2285.0,2,   7.7114,  25,2,  -999.00,9,  -999.00,   -999.0,9,   -999.0,   7.4894,  26.9256
  49NZ20090521,   P21,   235,  1,     26, X12008,2,20090609,0126,-17.8323, 169.8303, 2057,    670.4,2,   6.2106,2,   6.21049,2,  34.3864,2,  34.3860,2,   201.21,2,   200.69,2,    18.48,2,     0.16,    27.09,2,     0.11,     0.01,2,     0.01,    1.893,2,    0.015,    0.989,2,    0.503,2,    0.016,2,   2171.0,6,   2289.7,2,   7.6772,  25,2,  -999.00,9,  -999.00,   -999.0,9,   -999.0,   6.1503,  27.0486
  49NZ20090521,   P21,   235,  1,     25, X12007,2,20090609,0126,-17.8323, 169.8303, 2057,    769.9,2,   5.4567,2,   5.45724,2,  34.3799,2,  34.3796,2,   190.76,2,   190.57,2,    27.19,2,     0.18,    29.49,2,     0.12,     0.01,2,     0.01,    2.070,2,    0.015,    0.571,2,    0.296,2,    0.010,2,   2187.1,2,   2296.5,6,   7.6500,  25,2,  -999.00,9,  -999.00,   -999.0,9,   -999.0,   5.3913,  27.1376
  49NZ20090521,   P21,   235,  1,     24, X12035,2,20090609,0126,-17.8323, 169.8303, 2057,    870.6,2,   4.7941,2,   4.79348,2,  34.4069,2,  34.4068,2,   177.78,2,   177.19,2,    39.78,2,     0.21,    31.65,2,     0.12,     0.01,2,     0.01,    2.219,2,    0.016,    0.270,2,    0.140,2,    0.000,2,   2207.9,2,   2309.7,2,   7.6235,  25,6,  -999.00,9,  -999.00,   -999.0,9,   -999.0,   4.7239,  27.2364
  49NZ20090521,   P21,   235,  1,     23, X12038,2,20090609,0126,-17.8323, 169.8303, 2057,    971.9,2,   4.2761,2,   4.27615,2,  34.4378,2,  34.4378,6,   169.01,2,   168.54,2,    51.18,2,     0.23,    32.99,2,     0.13,     0.01,2,     0.01,    2.318,2,    0.016,    0.140,2,    0.071,2,    0.000,2,   2227.1,2,   2322.6,2,   7.6070,  25,2,  -999.00,9,  -999.00,   -999.0,9,   -999.0,   4.2008,  27.3179
  49NZ20090521,   P21,   235,  1,     22, X12034,2,20090609,0126,-17.8323, 169.8303, 2057,   1129.9,2,   3.7625,2,   3.76254,2,  34.4866,2,  34.4869,2,   159.57,2,   159.15,2,    66.55,2,     0.27,    34.10,2,     0.13,     0.01,2,     0.01,    2.404,2,    0.016,    0.058,2,    0.034,2,    0.000,2,   2249.6,2,   2339.0,2,   7.5932,  25,2,  -999.00,9,  -999.00,   -999.0,9,   -999.0,   3.6780,  27.4105
  49NZ20090521,   P21,   235,  1,     21, X12033,2,20090609,0126,-17.8323, 169.8303, 2057,   1330.3,2,   3.2805,2,   3.28050,2,  34.5355,2,  34.5359,2,   152.33,2,   151.94,2,    82.27,2,     0.30,    34.97,2,     0.13,     0.01,2,     0.01,    2.468,2,    0.016,    0.021,2,    0.011,2,    0.000,2,   2270.2,2,   2357.0,2,   7.5839,  25,2,  -999.00,9,  -999.00,   -999.0,9,   -999.0,   3.1838,  27.4972
  49NZ20090521,   P21,   235,  1,     20, X12032,2,20090609,0126,-17.8323, 169.8303, 2057,   1529.9,2,   2.9196,2,   2.91931,2,  34.5718,2,  34.5721,6,   147.02,2,   146.72,2,    94.43,2,     0.33,    35.56,2,     0.13,     0.01,2,     0.01,    2.514,2,    0.016,    0.011,2,    0.007,2,    0.000,2,   2282.2,3,   2370.3,2,   7.5773,  25,6,  -999.00,9,  -999.00,   -999.0,9,   -999.0,   2.8102,  27.5604
  49NZ20090521,   P21,   235,  1,     19, X12046,2,20090609,0126,-17.8323, 169.8303, 2057,   1730.8,2,   2.4423,2,   2.44229,2,  34.6135,2,  34.6135,2,   144.67,2,   144.26,2,   108.89,2,     0.36,    36.02,2,     0.13,     0.01,2,     0.01,    2.545,2,    0.016,    0.003,2,    0.001,2,    0.000,2,   2299.5,2,   2386.1,2,   7.5758,  25,2,  -999.00,9,  -999.00,   -999.0,9,   -999.0,   2.3221,  27.6359
  49NZ20090521,   P21,   235,  1,     18, X12006,2,20090609,0126,-17.8323, 169.8303, 2057,   1930.6,2,   2.2231,2,   2.22299,2,  34.6317,2,  34.6316,2,   145.92,2,   145.49,2,   115.42,2,     0.37,    35.94,2,     0.13,     0.01,2,     0.01,    2.543,2,    0.016,    0.002,2,    0.001,2,    0.000,2,   2305.9,2,   2393.2,2,   7.5785,  25,2,  -999.00,9,  -999.00,   -999.0,9,   -999.0,   2.0892,  27.6695
  49NZ20090521,   P21,   235,  1,     17, X12047,9,20090609,0126,-17.8323, 169.8303, 2057,     10.6,2,  26.5403,2,  26.54287,2,  34.8663,2,-999.0000,9,   202.62,2,  -999.00,9,  -999.00,9,  -999.00,  -999.00,9,  -999.00,  -999.00,9,  -999.00, -999.000,9, -999.000, -999.000,9, -999.000,9, -999.000,9,   -999.0,9,   -999.0,9,-999.0000,-999,9,  -999.00,9,  -999.00,   -999.0,9,   -999.0,  26.5379,  22.7638
  49NZ20090521,   P21,   235,  1,     16, X12004,9,20090609,0126,-17.8323, 169.8303, 2057,     50.5,2,  26.1962,2,  26.19616,2,  34.8619,2,-999.0000,9,   202.26,2,  -999.00,9,  -999.00,9,  -999.00,  -999.00,9,  -999.00,  -999.00,9,  -999.00, -999.000,9, -999.000, -999.000,9, -999.000,9, -999.000,9,   -999.0,9,   -999.0,9,-999.0000,-999,9,  -999.00,9,  -999.00,   -999.0,9,   -999.0,  26.1849,  22.8714
  49NZ20090521,   P21,   235,  1,     15, X12003,9,20090609,0126,-17.8323, 169.8303, 2057,    100.3,2,  24.7999,2,  24.80369,2,  35.3694,2,-999.0000,9,   179.06,2,  -999.00,9,  -999.00,9,  -999.00,  -999.00,9,  -999.00,  -999.00,9,  -999.00, -999.000,9, -999.000, -999.000,9, -999.000,9, -999.000,9,   -999.0,9,   -999.0,9,-999.0000,-999,9,  -999.00,9,  -999.00,   -999.0,9,   -999.0,  24.7783,  23.6878
  49NZ20090521,   P21,   235,  1,     14, X12002,9,20090609,0126,-17.8323, 169.8303, 2057,    150.4,2,  22.7484,2,  22.75188,2,  35.5418,2,-999.0000,9,   174.21,2,  -999.00,9,  -999.00,9,  -999.00,  -999.00,9,  -999.00,  -999.00,9,  -999.00, -999.000,9, -999.000, -999.000,9, -999.000,9, -999.000,9,   -999.0,9,   -999.0,9,-999.0000,-999,9,  -999.00,9,  -999.00,   -999.0,9,   -999.0,  22.7179,  24.4258
  49NZ20090521,   P21,   235,  1,     13, X12001,9,20090609,0126,-17.8323, 169.8303, 2057,    200.9,2,  20.9749,2,  20.97593,2,  35.6581,2,-999.0000,9,   167.83,2,  -999.00,9,  -999.00,9,  -999.00,  -999.00,9,  -999.00,  -999.00,9,  -999.00, -999.000,9, -999.000, -999.000,9, -999.000,9, -999.000,9,   -999.0,9,   -999.0,9,-999.0000,-999,9,  -999.00,9,  -999.00,   -999.0,9,   -999.0,  20.9363,  25.0124
  49NZ20090521,   P21,   235,  1,     12, X12030,9,20090609,0126,-17.8323, 169.8303, 2057,    250.5,2,  19.5475,2,  19.54799,2,  35.6263,2,-999.0000,9,   168.80,2,  -999.00,9,  -999.00,9,  -999.00,  -999.00,9,  -999.00,  -999.00,9,  -999.00, -999.000,9, -999.000, -999.000,9, -999.000,9, -999.000,9,   -999.0,9,   -999.0,9,-999.0000,-999,9,  -999.00,9,  -999.00,   -999.0,9,   -999.0,  19.5017,  25.3704
  49NZ20090521,   P21,   235,  1,     11, X12044,9,20090609,0126,-17.8323, 169.8303, 2057,    280.6,2,  18.4229,2,  18.42299,2,  35.5427,2,-999.0000,9,   168.98,2,  -999.00,9,  -999.00,9,  -999.00,  -999.00,9,  -999.00,  -999.00,9,  -999.00, -999.000,9, -999.000, -999.000,9, -999.000,9, -999.000,9,   -999.0,9,   -999.0,9,-999.0000,-999,9,  -999.00,9,  -999.00,   -999.0,9,   -999.0,  18.3737,  25.5948
  49NZ20090521,   P21,   235,  1,     10, X12048,9,20090609,0126,-17.8323, 169.8303, 2057,    371.4,2,  14.6711,2,  14.66743,2,  35.2262,2,-999.0000,9,   184.53,2,  -999.00,9,  -999.00,9,  -999.00,  -999.00,9,  -999.00,  -999.00,9,  -999.00, -999.000,9, -999.000, -999.000,9, -999.000,9, -999.000,9,   -999.0,9,   -999.0,9,-999.0000,-999,9,  -999.00,9,  -999.00,   -999.0,9,   -999.0,  14.6153,  26.2305
  49NZ20090521,   P21,   235,  1,      9, X12027,9,20090609,0126,-17.8323, 169.8303, 2057,    470.7,2,  10.6953,2,  10.69974,2,  34.7652,2,-999.0000,9,   192.02,2,  -999.00,9,  -999.00,9,  -999.00,  -999.00,9,  -999.00,  -999.00,9,  -999.00, -999.000,9, -999.000, -999.000,9, -999.000,9, -999.000,9,   -999.0,9,   -999.0,9,-999.0000,-999,9,  -999.00,9,  -999.00,   -999.0,9,   -999.0,  10.6377,  26.6576
  49NZ20090521,   P21,   235,  1,      8, X12026,9,20090609,0126,-17.8323, 169.8303, 2057,    570.4,2,   7.5452,2,   7.54564,2,  34.4616,2,-999.0000,9,   205.34,2,  -999.00,9,  -999.00,9,  -999.00,  -999.00,9,  -999.00,  -999.00,9,  -999.00, -999.000,9, -999.000, -999.000,9, -999.000,9, -999.000,9,   -999.0,9,   -999.0,9,-999.0000,-999,9,  -999.00,9,  -999.00,   -999.0,9,   -999.0,   7.4885,  26.9258
  49NZ20090521,   P21,   235,  1,      7, X12025,9,20090609,0126,-17.8323, 169.8303, 2057,    669.8,2,   6.2079,2,   6.20708,2,  34.3865,2,-999.0000,9,   201.22,2,  -999.00,9,  -999.00,9,  -999.00,  -999.00,9,  -999.00,  -999.00,9,  -999.00, -999.000,9, -999.000, -999.000,9, -999.000,9, -999.000,9,   -999.0,9,   -999.0,9,-999.0000,-999,9,  -999.00,9,  -999.00,   -999.0,9,   -999.0,   6.1477,  27.0490
  49NZ20090521,   P21,   235,  1,      6, X12024,9,20090609,0126,-17.8323, 169.8303, 2057,    770.3,2,   5.4558,2,   5.44846,2,  34.3796,2,-999.0000,9,   191.13,2,  -999.00,9,  -999.00,9,  -999.00,  -999.00,9,  -999.00,  -999.00,9,  -999.00, -999.000,9, -999.000, -999.000,9, -999.000,9, -999.000,9,   -999.0,9,   -999.0,9,-999.0000,-999,9,  -999.00,9,  -999.00,   -999.0,9,   -999.0,   5.3904,  27.1376
  49NZ20090521,   P21,   235,  1,      5, X12028,9,20090609,0126,-17.8323, 169.8303, 2057,    871.0,2,   4.7899,2,   4.79052,2,  34.4067,2,-999.0000,9,   177.78,2,  -999.00,9,  -999.00,9,  -999.00,  -999.00,9,  -999.00,  -999.00,9,  -999.00, -999.000,9, -999.000, -999.000,9, -999.000,9, -999.000,9,   -999.0,9,   -999.0,9,-999.0000,-999,9,  -999.00,9,  -999.00,   -999.0,9,   -999.0,   4.7197,  27.2367
  49NZ20090521,   P21,   235,  1,      4, X12022,9,20090609,0126,-17.8323, 169.8303, 2057,    972.3,2,   4.2755,2,   4.27563,2,  34.4378,2,-999.0000,9,   169.01,2,  -999.00,9,  -999.00,9,  -999.00,  -999.00,9,  -999.00,  -999.00,9,  -999.00, -999.000,9, -999.000, -999.000,9, -999.000,9, -999.000,9,   -999.0,9,   -999.0,9,-999.0000,-999,9,  -999.00,9,  -999.00,   -999.0,9,   -999.0,   4.2002,  27.3180
  49NZ20090521,   P21,   235,  1,      3, X12021,9,20090609,0126,-17.8323, 169.8303, 2057,   1129.7,2,   3.7633,2,   3.76325,2,  34.4866,2,-999.0000,9,   159.59,2,  -999.00,9,  -999.00,9,  -999.00,  -999.00,9,  -999.00,  -999.00,9,  -999.00, -999.000,9, -999.000, -999.000,9, -999.000,9, -999.000,9,   -999.0,9,   -999.0,9,-999.0000,-999,9,  -999.00,9,  -999.00,   -999.0,9,   -999.0,   3.6788,  27.4104
  49NZ20090521,   P21,   235,  1,      2, X12020,9,20090609,0126,-17.8323, 169.8303, 2057,   1330.6,2,   3.2702,2,   3.27075,2,  34.5367,2,-999.0000,9,   152.31,2,  -999.00,9,  -999.00,9,  -999.00,  -999.00,9,  -999.00,  -999.00,9,  -999.00, -999.000,9, -999.000, -999.000,9, -999.000,9, -999.000,9,   -999.0,9,   -999.0,9,-999.0000,-999,9,  -999.00,9,  -999.00,   -999.0,9,   -999.0,   3.1736,  27.4992
  49NZ20090521,   P21,   235,  1,      1, X12019,2,20090609,0126,-17.8323, 169.8303, 2057,   2070.3,2,   2.1341,2,   2.13397,2,  34.6392,2,  34.6389,6,   145.63,2,   145.33,2,   118.49,2,     0.38,    36.14,2,     0.13,     0.01,2,     0.01,    2.545,2,    0.016,    0.000,2,    0.000,2,    0.000,2,   2311.1,2,   2396.8,2,   7.5782,  25,2,  -999.00,9,  -999.00,   -999.0,9,   -999.0,   1.9896,  27.6834