BOTTLE,20111109CCHDOSIOCBG
EXPOCODE,SECT_ID,STNNBR,CASTNO,SAMPNO,BTLNBR,BTLNBR_FLAG_W,DATE,TIME,LATITUDE,LONGITUDE,DEPTH,CTDPRS,CTDPRS_FLAG_W,CTDTMP,CTDTMP_FLAG_W,SBE35,SBE35_FLAG_W,CTDSAL,CTDSAL_FLAG_W,SALNTY,SALNTY_FLAG_W,CTDOXY,CTDOXY_FLAG_W,OXYGEN,OXYGEN_FLAG_W,SILCAT,SILCAT_FLAG_W,SILUNC,NITRAT,NITRAT_FLAG_W,NRAUNC,NITRIT,NITRIT_FLAG_W,NRIUNC,PHSPHT,PHSPHT_FLAG_W,PHPUNC,CFC-11,CFC-11_FLAG_W,CFC-12,CFC-12_FLAG_W,CFC113,CFC113_FLAG_W,TCARBN,TCARBN_FLAG_W,ALKALI,ALKALI_FLAG_W,PH_TOT,PH_TMP,PH_TOT_FLAG_W,DELC13,DELC13_FLAG_W,C13ERR,DELC14,DELC14_FLAG_W,C14ERR,THETA,SIG0
,,,,,,,,,,,METERS,DBAR,,ITS-90,,ITS-90,,PSS-78,,PSS-78,,UMOL/KG,,UMOL/KG,,UMOL/KG,,UMOL/KG,UMOL/KG,,UMOL/KG,UMOL/KG,,UMOL/KG,UMOL/KG,,UMOL/KG,PMOL/KG,,PMOL/KG,,PMOL/KG,,UMOL/KG,,UMOL/KG,,,DEG C,,/MILLE,,/MILLE,/MILLE,,/MILLE,DEG C,KG/M^3
  49NZ20090521,   P21,   165,  1,      0,   -999,9,20090522,0122,-17.4958,-150.0902, 3085,   -999.0,9,-999.0000,9,-999.00000,9,-999.0000,9,  36.2181,2,  -999.00,9,  -999.00,9,  -999.00,9,  -999.00,  -999.00,9,  -999.00,  -999.00,9,  -999.00, -999.000,9, -999.000, -999.000,9, -999.000,9, -999.000,9,   -999.0,9,   -999.0,9,-999.0000,-999,9,  -999.00,9,  -999.00,   -999.0,9,   -999.0,-999.0000,-999.0000
  49NZ20090521,   P21,   165,  1,     36, X12043,2,20090522,0122,-17.4958,-150.0902, 3085,      9.7,2,  28.2256,2,  28.22563,2,  36.1928,2,  36.1905,2,   197.27,2,   196.79,2,     0.83,2,     0.12,     0.06,2,     0.03,     0.01,2,     0.01,    0.200,2,    0.016,    1.411,2,    0.922,2, -999.000,5,   -999.0,9,   -999.0,9,-999.0000,-999,9,  -999.00,9,  -999.00,   -999.0,9,   -999.0,  28.2233,  23.2185
  49NZ20090521,   P21,   165,  1,     35, X12042,2,20090522,0122,-17.4958,-150.0902, 3085,     49.4,2,  28.1474,2,  28.14682,2,  36.1904,2,  36.1898,2,   197.15,2,   197.33,2,     0.75,2,     0.12,     0.06,2,     0.03,     0.01,2,     0.01,    0.204,2,    0.016,    1.418,2,    0.935,2, -999.000,5,   -999.0,9,   -999.0,9,-999.0000,-999,9,  -999.00,9,  -999.00,   -999.0,9,   -999.0,  28.1357,  23.2456
  49NZ20090521,   P21,   165,  1,     34, X12016,2,20090522,0122,-17.4958,-150.0902, 3085,     99.8,2,  25.5688,2,  25.56829,2,  36.3633,2,  36.3613,2,   198.55,2,   198.28,2,     0.67,2,     0.12,     0.06,2,     0.03,     0.04,2,     0.01,    0.230,2,    0.015,    1.623,6,    1.048,6, -999.000,5,   -999.0,9,   -999.0,9,-999.0000,-999,9,  -999.00,9,  -999.00,   -999.0,9,   -999.0,  25.5467,  24.2036
  49NZ20090521,   P21,   165,  1,     33, X12015,2,20090522,0122,-17.4958,-150.0902, 3085,    149.7,2,  24.4293,2,  24.43116,2,  36.2820,2,  36.2814,2,   184.75,2,   184.96,2,     0.66,2,     0.12,     1.07,2,     0.04,     0.04,2,     0.01,    0.306,2,    0.014,    1.695,2,    1.075,2, -999.000,5,   -999.0,9,   -999.0,9,-999.0000,-999,9,  -999.00,9,  -999.00,   -999.0,9,   -999.0,  24.3972,  24.4934
  49NZ20090521,   P21,   165,  1,     32, X12050,2,20090522,0122,-17.4958,-150.0902, 3085,    199.8,2,  21.8668,2,  21.86673,2,  35.9721,2,  35.9711,2,   177.28,2,   176.90,2,     0.71,2,     0.12,     2.84,2,     0.04,     0.02,2,     0.01,    0.417,2,    0.013,    1.949,2,    1.241,2,    0.097,2,   -999.0,9,   -999.0,9,-999.0000,-999,9,  -999.00,9,  -999.00,   -999.0,9,   -999.0,  21.8272,  25.0052
  49NZ20090521,   P21,   165,  1,     31, X12014,2,20090522,0122,-17.4958,-150.0902, 3085,    250.2,2,  20.5594,2,  20.55651,2,  35.7794,2,  35.7803,6,   177.72,2,   177.99,2,     0.83,2,     0.12,     3.54,2,     0.04,     0.01,2,     0.01,    0.463,2,    0.013,    2.058,2,    1.248,2,    0.068,2,   -999.0,9,   -999.0,9,-999.0000,-999,9,  -999.00,9,  -999.00,   -999.0,9,   -999.0,  20.5120,  25.2198
  49NZ20090521,   P21,   165,  1,     30, X12012,2,20090522,0122,-17.4958,-150.0902, 3085,    300.4,2,  17.3668,2,  17.36291,2,  35.3191,2,  35.3145,2,   173.99,2,   174.47,2,     1.94,2,     0.12,     6.85,2,     0.05,     0.02,2,     0.01,    0.698,2,    0.013,    2.255,2,    1.307,2,    0.027,2,   -999.0,9,   -999.0,9,-999.0000,-999,9,  -999.00,9,  -999.00,   -999.0,9,   -999.0,  17.3162,  25.6834
  49NZ20090521,   P21,   165,  1,     29, X12041,2,20090522,0122,-17.4958,-150.0902, 3085,    399.6,2,  11.7927,2,  11.78331,2,  34.7084,2,  34.7089,2,   159.98,2,   160.12,2,     7.27,2,     0.13,    16.91,2,     0.08,     0.01,2,     0.01,    1.366,2,    0.014,    1.970,6,    1.057,6,    0.027,6,   -999.0,9,   -999.0,9,-999.0000,-999,9,  -999.00,9,  -999.00,   -999.0,9,   -999.0,  11.7409,  26.4117
  49NZ20090521,   P21,   165,  1,     28, X12040,2,20090522,0122,-17.4958,-150.0902, 3085,    499.7,2,   8.2844,2,   8.28299,2,  34.4937,2,  34.4937,6,   147.11,2,   147.10,2,    17.22,2,     0.16,    26.56,2,     0.11,     0.01,2,     0.01,    1.957,2,    0.015,    1.083,2,    0.569,2,    0.018,2,   -999.0,9,   -999.0,9,-999.0000,-999,9,  -999.00,9,  -999.00,   -999.0,9,   -999.0,   8.2322,  26.8413
  49NZ20090521,   P21,   165,  1,     27, X12009,2,20090522,0122,-17.4958,-150.0902, 3085,    598.6,2,   6.8817,2,   6.88197,2,  34.4370,2,  34.4362,2,   153.88,2,   154.06,2,    22.85,2,     0.17,    29.56,2,     0.12,     0.01,2,     0.01,    2.116,2,    0.015,    0.716,6,    0.371,6,    0.015,6,   -999.0,9,   -999.0,9,-999.0000,-999,9,  -999.00,9,  -999.00,   -999.0,9,   -999.0,   6.8251,  26.9993
  49NZ20090521,   P21,   165,  1,     26, X12008,2,20090522,0122,-17.4958,-150.0902, 3085,    698.5,2,   5.8113,2,   5.81189,2,  34.4220,2,  34.4212,2,   155.87,2,   156.22,2,    31.88,2,     0.19,    31.69,2,     0.12,     0.01,2,     0.01,    2.238,2,    0.016,    0.376,2,    0.198,2,    0.000,2,   -999.0,9,   -999.0,9,-999.0000,-999,9,  -999.00,9,  -999.00,   -999.0,9,   -999.0,   5.7504,  27.1272
  49NZ20090521,   P21,   165,  1,     25, X12007,2,20090522,0122,-17.4958,-150.0902, 3085,    799.3,2,   5.0484,2,   5.04793,2,  34.4377,2,  34.4374,2,   151.43,2,   151.72,2,    43.24,2,     0.21,    33.34,2,     0.13,     0.01,2,     0.01,    2.352,2,    0.016,    0.161,2,    0.088,2,    0.000,2,   -999.0,9,   -999.0,9,-999.0000,-999,9,  -999.00,9,  -999.00,   -999.0,9,   -999.0,   4.9828,  27.2315
  49NZ20090521,   P21,   165,  1,     24, X12035,2,20090522,0122,-17.4958,-150.0902, 3085,    899.2,2,   4.4444,2,   4.44533,2,  34.4639,2,  34.4640,2,   148.37,2,   148.25,2,    54.78,2,     0.24,    34.45,2,     0.13,     0.01,2,     0.01,    2.428,2,    0.016,    0.053,2,    0.032,2,    0.000,2,   -999.0,9,   -999.0,9,-999.0000,-999,9,  -999.00,9,  -999.00,   -999.0,9,   -999.0,   4.3740,  27.3201
  49NZ20090521,   P21,   165,  1,     23, X12038,2,20090522,0122,-17.4958,-150.0902, 3085,    999.3,2,   4.0082,2,   4.00830,2,  34.4876,2,  34.4874,6,   146.76,2,   147.20,2,    63.91,2,     0.26,    35.06,2,     0.13,     0.01,2,     0.01,    2.468,2,    0.016,    0.019,2,    0.014,2,    0.000,2,   -999.0,9,   -999.0,9,-999.0000,-999,9,  -999.00,9,  -999.00,   -999.0,9,   -999.0,   3.9326,  27.3855
  49NZ20090521,   P21,   165,  1,     22, X12034,2,20090522,0122,-17.4958,-150.0902, 3085,   1199.5,2,   3.3008,2,   3.30087,2,  34.5374,2,  34.5370,2,   143.94,2,   143.69,2,    81.18,2,     0.30,    35.81,2,     0.13,     0.01,2,     0.01,    2.530,2,    0.016,    0.002,2,    0.003,2,    0.000,2,   -999.0,9,   -999.0,9,-999.0000,-999,9,  -999.00,9,  -999.00,   -999.0,9,   -999.0,   3.2146,  27.4958
  49NZ20090521,   P21,   165,  1,     21, X12033,2,20090522,0122,-17.4958,-150.0902, 3085,   1400.4,2,   2.9170,2,   2.91736,2,  34.5662,2,  34.5661,2,   144.99,2,   144.66,2,    91.02,2,     0.32,    35.97,2,     0.13,     0.01,2,     0.01,    2.532,2,    0.016,    0.000,2,    0.000,2,    0.000,2,   -999.0,9,   -999.0,9,-999.0000,-999,9,  -999.00,9,  -999.00,   -999.0,9,   -999.0,   2.8183,  27.5552
  49NZ20090521,   P21,   165,  1,     20, X12032,2,20090522,0122,-17.4958,-150.0902, 3085,   1601.1,2,   2.6170,2,   2.61699,2,  34.5920,2,  34.5917,2,   145.98,2,   146.02,2,    99.43,2,     0.34,    35.91,2,     0.13,     0.01,2,     0.01,    2.539,2,    0.016,    0.000,2,    0.001,2,    0.000,2,   -999.0,9,   -999.0,9,-999.0000,-999,9,  -999.00,9,  -999.00,   -999.0,9,   -999.0,   2.5053,  27.6032
  49NZ20090521,   P21,   165,  1,     19, X12046,2,20090522,0122,-17.4958,-150.0902, 3085,   1799.3,2,   2.3839,2,   2.38432,2,  34.6118,2,  34.6120,6,   147.63,2,   147.46,2,   106.09,2,     0.35,    35.94,2,     0.13,     0.01,2,     0.01,    2.533,2,    0.016,    0.000,2,    0.000,2,    0.000,2,   -999.0,9,   -999.0,9,-999.0000,-999,9,  -999.00,9,  -999.00,   -999.0,9,   -999.0,   2.2588,  27.6398
  49NZ20090521,   P21,   165,  1,     18, X12006,2,20090522,0122,-17.4958,-150.0902, 3085,   2001.9,2,   2.1936,2,   2.19360,2,  34.6280,2,  34.6279,2,   150.26,2,   149.84,2,   110.73,2,     0.36,    35.78,2,     0.13,     0.01,2,     0.01,    2.524,2,    0.016,    0.000,2,    0.000,2,    0.000,2,   -999.0,9,   -999.0,9,-999.0000,-999,9,  -999.00,9,  -999.00,   -999.0,9,   -999.0,   2.0541,  27.6694
  49NZ20090521,   P21,   165,  1,     17, X12047,2,20090522,0122,-17.4958,-150.0902, 3085,   2199.9,2,   2.0225,2,   2.02197,2,  34.6428,2,  34.6427,2,   153.08,2,   153.08,2,   114.80,2,     0.37,    35.66,2,     0.13,     0.01,2,     0.01,    2.511,2,    0.016,    0.000,2,    0.000,2,    0.000,2,   -999.0,9,   -999.0,9,-999.0000,-999,9,  -999.00,9,  -999.00,   -999.0,9,   -999.0,   1.8686,  27.6958
  49NZ20090521,   P21,   165,  1,     16, X12004,2,20090522,0122,-17.4958,-150.0902, 3085,   2399.7,2,   1.9204,2,   1.92050,2,  34.6519,2,  34.6516,6,   155.39,2,   155.11,2,   116.97,2,     0.38,    35.46,2,     0.13,     0.01,2,     0.01,    2.490,2,    0.016,    0.001,2,    0.001,2,    0.000,2,   -999.0,9,   -999.0,9,-999.0000,-999,9,  -999.00,9,  -999.00,   -999.0,9,   -999.0,   1.7506,  27.7121
  49NZ20090521,   P21,   165,  1,     15, X12003,2,20090522,0122,-17.4958,-150.0902, 3085,   2597.8,2,   1.8154,2,   1.81515,2,  34.6611,2,  34.6611,2,   157.90,2,   157.42,2,   119.34,2,     0.38,    35.38,2,     0.13,     0.01,2,     0.01,    2.481,2,    0.016,    0.000,2,    0.000,2,    0.000,2,   -999.0,9,   -999.0,9,-999.0000,-999,9,  -999.00,9,  -999.00,   -999.0,9,   -999.0,   1.6297,  27.7287
  49NZ20090521,   P21,   165,  1,     14, X12002,2,20090522,0122,-17.4958,-150.0902, 3085,   2800.3,2,   1.7516,2,   1.75121,2,  34.6663,2,  34.6668,2,   161.00,2,   160.99,2,   120.03,2,     0.38,    35.18,2,     0.13,     0.01,2,     0.01,    2.471,2,    0.016,    0.000,2,    0.000,2,    0.000,2,   -999.0,9,   -999.0,9,-999.0000,-999,9,  -999.00,9,  -999.00,   -999.0,9,   -999.0,   1.5483,  27.7389
  49NZ20090521,   P21,   165,  1,     13, X12001,2,20090522,0122,-17.4958,-150.0902, 3085,   2999.5,2,   1.6539,2,   1.65375,2,  34.6736,2,  34.6741,2,   165.25,2,   164.77,2,   120.48,2,     0.38,    34.87,2,     0.13,     0.01,2,     0.01,    2.447,2,    0.016,    0.003,2,    0.001,2,    0.000,2,   -999.0,9,   -999.0,9,-999.0000,-999,9,  -999.00,9,  -999.00,   -999.0,9,   -999.0,   1.4338,  27.7530
  49NZ20090521,   P21,   165,  1,     12, X12030,9,20090522,0122,-17.4958,-150.0902, 3085,      9.4,2,  28.2228,2,  28.22178,2,  36.1930,2,-999.0000,9,   197.16,2,  -999.00,9,  -999.00,9,  -999.00,  -999.00,9,  -999.00,  -999.00,9,  -999.00, -999.000,9, -999.000, -999.000,9, -999.000,9, -999.000,9,   -999.0,9,   -999.0,9,-999.0000,-999,9,  -999.00,9,  -999.00,   -999.0,9,   -999.0,  28.2206,  23.2195
  49NZ20090521,   P21,   165,  1,     11, X12044,9,20090522,0122,-17.4958,-150.0902, 3085,   1400.3,2,   2.9194,2,   2.91963,2,  34.5660,2,-999.0000,9,   144.98,2,  -999.00,9,  -999.00,9,  -999.00,  -999.00,9,  -999.00,  -999.00,9,  -999.00, -999.000,9, -999.000, -999.000,9, -999.000,9, -999.000,9,   -999.0,9,   -999.0,9,-999.0000,-999,9,  -999.00,9,  -999.00,   -999.0,9,   -999.0,   2.8207,  27.5549
  49NZ20090521,   P21,   165,  1,     10, X12048,9,20090522,0122,-17.4958,-150.0902, 3085,   1601.0,2,   2.6171,2,   2.61699,2,  34.5918,2,-999.0000,9,   146.00,2,  -999.00,9,  -999.00,9,  -999.00,  -999.00,9,  -999.00,  -999.00,9,  -999.00, -999.000,9, -999.000, -999.000,9, -999.000,9, -999.000,9,   -999.0,9,   -999.0,9,-999.0000,-999,9,  -999.00,9,  -999.00,   -999.0,9,   -999.0,   2.5054,  27.6031
  49NZ20090521,   P21,   165,  1,      9, X12027,9,20090522,0122,-17.4958,-150.0902, 3085,   1798.9,2,   2.3848,2,   2.38489,2,  34.6117,2,-999.0000,9,   147.68,2,  -999.00,9,  -999.00,9,  -999.00,  -999.00,9,  -999.00,  -999.00,9,  -999.00, -999.000,9, -999.000, -999.000,9, -999.000,9, -999.000,9,   -999.0,9,   -999.0,9,-999.0000,-999,9,  -999.00,9,  -999.00,   -999.0,9,   -999.0,   2.2597,  27.6396
  49NZ20090521,   P21,   165,  1,      8, X12026,9,20090522,0122,-17.4958,-150.0902, 3085,   2002.2,2,   2.1944,2,   2.19430,2,  34.6279,2,-999.0000,9,   150.22,2,  -999.00,9,  -999.00,9,  -999.00,  -999.00,9,  -999.00,  -999.00,9,  -999.00, -999.000,9, -999.000, -999.000,9, -999.000,9, -999.000,9,   -999.0,9,   -999.0,9,-999.0000,-999,9,  -999.00,9,  -999.00,   -999.0,9,   -999.0,   2.0548,  27.6692
  49NZ20090521,   P21,   165,  1,      7, X12025,9,20090522,0122,-17.4958,-150.0902, 3085,   2200.7,2,   2.0224,2,   2.02227,2,  34.6429,2,-999.0000,9,   153.10,2,  -999.00,9,  -999.00,9,  -999.00,  -999.00,9,  -999.00,  -999.00,9,  -999.00, -999.000,9, -999.000, -999.000,9, -999.000,9, -999.000,9,   -999.0,9,   -999.0,9,-999.0000,-999,9,  -999.00,9,  -999.00,   -999.0,9,   -999.0,   1.8684,  27.6959
  49NZ20090521,   P21,   165,  1,      6, X12024,9,20090522,0122,-17.4958,-150.0902, 3085,   2400.3,2,   1.9208,2,   1.92065,2,  34.6518,2,-999.0000,9,   155.31,2,  -999.00,9,  -999.00,9,  -999.00,  -999.00,9,  -999.00,  -999.00,9,  -999.00, -999.000,9, -999.000, -999.000,9, -999.000,9, -999.000,9,   -999.0,9,   -999.0,9,-999.0000,-999,9,  -999.00,9,  -999.00,   -999.0,9,   -999.0,   1.7510,  27.7120
  49NZ20090521,   P21,   165,  1,      5, X12028,9,20090522,0122,-17.4958,-150.0902, 3085,   2599.0,2,   1.8142,2,   1.81395,2,  34.6613,2,-999.0000,9,   157.88,2,  -999.00,9,  -999.00,9,  -999.00,  -999.00,9,  -999.00,  -999.00,9,  -999.00, -999.000,9, -999.000, -999.000,9, -999.000,9, -999.000,9,   -999.0,9,   -999.0,9,-999.0000,-999,9,  -999.00,9,  -999.00,   -999.0,9,   -999.0,   1.6284,  27.7289
  49NZ20090521,   P21,   165,  1,      4, X12022,9,20090522,0122,-17.4958,-150.0902, 3085,   2800.9,2,   1.7505,2,   1.75017,2,  34.6665,2,-999.0000,9,   160.96,2,  -999.00,9,  -999.00,9,  -999.00,  -999.00,9,  -999.00,  -999.00,9,  -999.00, -999.000,9, -999.000, -999.000,9, -999.000,9, -999.000,9,   -999.0,9,   -999.0,9,-999.0000,-999,9,  -999.00,9,  -999.00,   -999.0,9,   -999.0,   1.5472,  27.7391
  49NZ20090521,   P21,   165,  1,      3, X12021,9,20090522,0122,-17.4958,-150.0902, 3085,   2999.6,2,   1.6542,2,   1.65384,2,  34.6735,2,-999.0000,9,   165.23,2,  -999.00,9,  -999.00,9,  -999.00,  -999.00,9,  -999.00,  -999.00,9,  -999.00, -999.000,9, -999.000, -999.000,9, -999.000,9, -999.000,9,   -999.0,9,   -999.0,9,-999.0000,-999,9,  -999.00,9,  -999.00,   -999.0,9,   -999.0,   1.4341,  27.7529
  49NZ20090521,   P21,   165,  1,      2, X12020,9,20090522,0122,-17.4958,-150.0902, 3085,   3119.3,2,   1.5879,2,   1.58756,2,  34.6784,2,-999.0000,9,   168.71,2,  -999.00,9,  -999.00,9,  -999.00,  -999.00,9,  -999.00,  -999.00,9,  -999.00, -999.000,9, -999.000, -999.000,9, -999.000,9, -999.000,9,   -999.0,9,   -999.0,9,-999.0000,-999,9,  -999.00,9,  -999.00,   -999.0,9,   -999.0,   1.3576,  27.7623
  49NZ20090521,   P21,   165,  1,      1, X12019,2,20090522,0122,-17.4958,-150.0902, 3085,   3119.1,2,   1.5862,2,   1.58576,2,  34.6786,2,  34.6790,6,   168.74,2,   168.27,2,   120.69,2,     0.38,    34.66,2,     0.13,     0.01,2,     0.01,    2.431,2,    0.016,    0.000,2,    0.000,2,    0.000,2,   -999.0,9,   -999.0,9,-999.0000,-999,9,  -999.00,9,  -999.00,   -999.0,9,   -999.0,   1.3560,  27.7626