BOTTLE,20111109CCHDOSIOCBG
EXPOCODE,SECT_ID,STNNBR,CASTNO,SAMPNO,BTLNBR,BTLNBR_FLAG_W,DATE,TIME,LATITUDE,LONGITUDE,DEPTH,CTDPRS,CTDPRS_FLAG_W,CTDTMP,CTDTMP_FLAG_W,SBE35,SBE35_FLAG_W,CTDSAL,CTDSAL_FLAG_W,SALNTY,SALNTY_FLAG_W,CTDOXY,CTDOXY_FLAG_W,OXYGEN,OXYGEN_FLAG_W,SILCAT,SILCAT_FLAG_W,SILUNC,NITRAT,NITRAT_FLAG_W,NRAUNC,NITRIT,NITRIT_FLAG_W,NRIUNC,PHSPHT,PHSPHT_FLAG_W,PHPUNC,CFC-11,CFC-11_FLAG_W,CFC-12,CFC-12_FLAG_W,CFC113,CFC113_FLAG_W,TCARBN,TCARBN_FLAG_W,ALKALI,ALKALI_FLAG_W,PH_TOT,PH_TMP,PH_TOT_FLAG_W,DELC13,DELC13_FLAG_W,C13ERR,DELC14,DELC14_FLAG_W,C14ERR,THETA,SIG0
,,,,,,,,,,,METERS,DBAR,,ITS-90,,ITS-90,,PSS-78,,PSS-78,,UMOL/KG,,UMOL/KG,,UMOL/KG,,UMOL/KG,UMOL/KG,,UMOL/KG,UMOL/KG,,UMOL/KG,UMOL/KG,,UMOL/KG,PMOL/KG,,PMOL/KG,,PMOL/KG,,UMOL/KG,,UMOL/KG,,,DEG C,,/MILLE,,/MILLE,/MILLE,,/MILLE,DEG C,KG/M^3
  49NZ20090521,   P21,   217,  1,      0,   -999,9,20090605,2304,-18.4150, 179.0028, 2240,   -999.0,9,-999.0000,9,-999.00000,9,-999.0000,9,  34.8879,2,  -999.00,9,  -999.00,9,  -999.00,9,  -999.00,  -999.00,9,  -999.00,  -999.00,9,  -999.00, -999.000,9, -999.000, -999.000,9, -999.000,9, -999.000,9,   -999.0,9,   -999.0,9,-999.0000,-999,9,  -999.00,9,  -999.00,   -999.0,9,   -999.0,-999.0000,-999.0000
  49NZ20090521,   P21,   217,  1,     36, X12043,2,20090605,2304,-18.4150, 179.0028, 2240,     11.0,2,  26.1768,2,  26.17956,2,  34.8732,2,  34.8714,2,   203.09,2,   203.20,2,     0.82,2,     0.12,     0.08,2,     0.03,     0.01,2,     0.01,    0.048,2,    0.035,    1.525,2,    0.959,2, -999.000,5,   -999.0,9,   -999.0,9,-999.0000,-999,9,  -999.00,9,  -999.00,   -999.0,9,   -999.0,  26.1743,  22.8832
  49NZ20090521,   P21,   217,  1,     35, X12042,2,20090605,2304,-18.4150, 179.0028, 2240,     50.7,2,  26.0705,2,  26.07037,2,  34.8820,2,  34.8802,2,   202.71,2,   203.06,2,     0.64,2,     0.12,     0.07,2,     0.03,     0.01,2,     0.01,    0.044,2,    0.038,    1.525,2,    0.960,2, -999.000,5,   -999.0,9,   -999.0,9,-999.0000,-999,9,  -999.00,9,  -999.00,   -999.0,9,   -999.0,  26.0592,  22.9259
  49NZ20090521,   P21,   217,  1,     34, X12016,2,20090605,2304,-18.4150, 179.0028, 2240,    101.3,2,  25.1120,2,  25.12301,2,  35.3339,2,  35.3210,2,   189.18,2,   191.06,2,     0.64,2,     0.12,     0.29,2,     0.03,     0.16,2,     0.01,    0.144,2,    0.018,    1.675,6,    1.040,6, -999.000,5,   -999.0,9,   -999.0,9,-999.0000,-999,9,  -999.00,9,  -999.00,   -999.0,9,   -999.0,  25.0899,  23.5662
  49NZ20090521,   P21,   217,  1,     33, X12015,2,20090605,2304,-18.4150, 179.0028, 2240,    150.9,2,  23.3087,2,  23.30533,2,  35.6440,2,  35.6419,2,   169.46,2,   169.69,2,     0.72,2,     0.12,     2.31,2,     0.04,     0.03,2,     0.01,    0.318,2,    0.014,    1.804,2,    1.106,2,    0.121,2,   -999.0,9,   -999.0,9,-999.0000,-999,9,  -999.00,9,  -999.00,   -999.0,9,   -999.0,  23.2775,  24.3416
  49NZ20090521,   P21,   217,  1,     32, X12050,2,20090605,2304,-18.4150, 179.0028, 2240,    202.0,2,  21.8096,2,  21.80996,2,  35.7663,2,  35.7663,2,   161.66,2,   161.93,2,     1.00,2,     0.12,     4.08,2,     0.04,     0.02,2,     0.01,    0.457,2,    0.013,    1.925,2,    1.151,2,    0.062,2,   -999.0,9,   -999.0,9,-999.0000,-999,9,  -999.00,9,  -999.00,   -999.0,9,   -999.0,  21.7697,  24.8648
  49NZ20090521,   P21,   217,  1,     31, X12014,2,20090605,2304,-18.4150, 179.0028, 2240,    250.1,2,  19.6040,2,  19.60285,2,  35.6223,2,  35.6219,6,   166.89,2,   167.03,2,     1.26,2,     0.12,     5.19,2,     0.05,     0.02,2,     0.01,    0.534,2,    0.013,    2.094,2,    1.211,2,    0.025,2,   -999.0,9,   -999.0,9,-999.0000,-999,9,  -999.00,9,  -999.00,   -999.0,9,   -999.0,  19.5582,  25.3526
  49NZ20090521,   P21,   217,  1,     30, X12012,2,20090605,2304,-18.4150, 179.0028, 2240,    301.4,2,  17.1001,2,  17.10333,2,  35.3711,2,  35.3701,2,   173.16,2,   173.38,2,     2.17,2,     0.12,     7.25,2,     0.05,     0.01,2,     0.01,    0.659,2,    0.013,    2.200,2,    1.236,2,    0.020,2,   -999.0,9,   -999.0,9,-999.0000,-999,9,  -999.00,9,  -999.00,   -999.0,9,   -999.0,  17.0499,  25.7873
  49NZ20090521,   P21,   217,  1,     29, X12041,2,20090605,2304,-18.4150, 179.0028, 2240,    400.7,2,  13.2583,2,  13.26006,2,  34.9768,2,  34.9776,2,   175.72,2,   175.95,2,     5.00,2,     0.13,    13.12,2,     0.07,     0.01,2,     0.01,    1.041,2,    0.013,    2.081,6,    1.115,6,    0.031,6,   -999.0,9,   -999.0,9,-999.0000,-999,9,  -999.00,9,  -999.00,   -999.0,9,   -999.0,  13.2021,  26.3341
  49NZ20090521,   P21,   217,  1,     28, X12040,2,20090605,2304,-18.4150, 179.0028, 2240,    500.5,2,   9.3392,2,   9.33975,2,  34.6028,2,  34.6037,6,   187.04,2,   187.06,2,     9.16,2,     0.14,    20.40,2,     0.09,     0.01,2,     0.01,    1.496,2,    0.014,    1.814,2,    0.921,2,    0.035,2,   -999.0,9,   -999.0,9,-999.0000,-999,9,  -999.00,9,  -999.00,   -999.0,9,   -999.0,   9.2829,  26.7614
  49NZ20090521,   P21,   217,  1,     27, X12009,3,20090605,2304,-18.4150, 179.0028, 2240,    600.4,2,   7.3051,2,   7.30445,2,  34.4443,2,  34.4439,2,   195.69,2,   195.80,2,    14.17,2,     0.15,    24.86,2,     0.10,     0.01,2,     0.01,    1.761,2,    0.015,    1.401,6,    0.699,6,    0.042,6,   -999.0,9,   -999.0,9,-999.0000,-999,9,  -999.00,9,  -999.00,   -999.0,9,   -999.0,   7.2464,  26.9467
  49NZ20090521,   P21,   217,  1,     26, X12008,2,20090605,2304,-18.4150, 179.0028, 2240,    699.7,2,   6.1596,2,   6.15942,2,  34.3934,2,  34.3936,2,   193.43,2,   193.53,2,    21.11,2,     0.17,    27.63,2,     0.11,     0.01,2,     0.01,    1.943,2,    0.015,    0.924,2,    0.461,2,    0.023,2,   -999.0,9,   -999.0,9,-999.0000,-999,9,  -999.00,9,  -999.00,   -999.0,9,   -999.0,   6.0968,  27.0610
  49NZ20090521,   P21,   217,  1,     25, X12007,2,20090605,2304,-18.4150, 179.0028, 2240,    801.2,2,   5.2884,2,   5.28841,2,  34.3971,2,  34.3970,2,   183.41,2,   183.62,2,    32.40,2,     0.19,    30.19,2,     0.12,     0.01,2,     0.01,    2.128,2,    0.015,    0.515,2,    0.256,2,    0.012,2,   -999.0,9,   -999.0,9,-999.0000,-999,9,  -999.00,9,  -999.00,   -999.0,9,   -999.0,   5.2212,  27.1715
  49NZ20090521,   P21,   217,  1,     24, X12035,2,20090605,2304,-18.4150, 179.0028, 2240,    899.6,2,   4.5715,2,   4.57271,2,  34.4193,2,  34.4196,2,   174.75,2,   174.91,2,    44.47,2,     0.22,    31.90,2,     0.12,     0.01,2,     0.01,    2.245,2,    0.016,    0.265,2,    0.132,2,    0.000,2,   -999.0,9,   -999.0,9,-999.0000,-999,9,  -999.00,9,  -999.00,   -999.0,9,   -999.0,   4.5003,  27.2710
  49NZ20090521,   P21,   217,  1,     23, X12038,2,20090605,2304,-18.4150, 179.0028, 2240,   1000.5,2,   4.2128,2,   4.21268,2,  34.4402,2,  34.4410,3,   169.77,2,   169.85,2,    52.37,2,     0.23,    32.83,2,     0.12,     0.01,2,     0.01,    2.308,2,    0.016,    0.171,2,    0.090,2,    0.000,2,   -999.0,9,   -999.0,9,-999.0000,-999,9,  -999.00,9,  -999.00,   -999.0,9,   -999.0,   4.1356,  27.3267
  49NZ20090521,   P21,   217,  1,     22, X12034,2,20090605,2304,-18.4150, 179.0028, 2240,   1199.5,2,   3.4241,2,   3.42410,2,  34.5176,2,  34.5188,3,   154.91,2,   154.98,2,    76.58,2,     0.29,    34.65,2,     0.13,     0.01,2,     0.01,    2.438,2,    0.016,    0.038,2,    0.023,2,    0.000,2,   -999.0,9,   -999.0,9,-999.0000,-999,9,  -999.00,9,  -999.00,   -999.0,9,   -999.0,   3.3368,  27.4685
  49NZ20090521,   P21,   217,  1,     21, X12033,2,20090605,2304,-18.4150, 179.0028, 2240,   1400.2,2,   3.0272,2,   3.02739,2,  34.5582,2,  34.5582,6,   149.73,2,   149.96,2,    89.03,2,     0.31,    35.15,2,     0.13,     0.01,2,     0.01,    2.478,2,    0.016,    0.016,2,    0.011,2,    0.000,2,   -999.0,9,   -999.0,9,-999.0000,-999,9,  -999.00,9,  -999.00,   -999.0,9,   -999.0,   2.9274,  27.5390
  49NZ20090521,   P21,   217,  1,     20, X12032,2,20090605,2304,-18.4150, 179.0028, 2240,   1601.6,2,   2.7436,2,   2.74459,2,  34.5862,2,  34.5863,2,   147.59,2,   147.80,2,    97.84,2,     0.33,    35.49,2,     0.13,     0.01,2,     0.01,    2.508,2,    0.016,    0.006,2,    0.005,2,    0.000,2,   -999.0,9,   -999.0,9,-999.0000,-999,9,  -999.00,9,  -999.00,   -999.0,9,   -999.0,   2.6303,  27.5878
  49NZ20090521,   P21,   217,  1,     19, X12046,2,20090605,2304,-18.4150, 179.0028, 2240,   1798.9,2,   2.4771,2,   2.47698,2,  34.6122,2,  34.6125,6,   147.90,2,   148.10,2,   105.05,2,     0.35,    35.44,2,     0.13,     0.01,2,     0.01,    2.500,2,    0.016,    0.003,2,    0.003,2,    0.000,2,   -999.0,9,   -999.0,9,-999.0000,-999,9,  -999.00,9,  -999.00,   -999.0,9,   -999.0,   2.3507,  27.6324
  49NZ20090521,   P21,   217,  1,     18, X12006,2,20090605,2304,-18.4150, 179.0028, 2240,   2002.1,2,   2.2796,2,   2.28001,2,  34.6321,2,  34.6321,2,   149.04,2,   149.22,2,   110.33,2,     0.36,    35.45,2,     0.13,     0.01,2,     0.01,    2.508,2,    0.016,    0.002,2,    0.002,2,    0.000,2,   -999.0,9,   -999.0,9,-999.0000,-999,9,  -999.00,9,  -999.00,   -999.0,9,   -999.0,   2.1387,  27.6658
  49NZ20090521,   P21,   217,  1,     17, X12047,2,20090605,2304,-18.4150, 179.0028, 2240,   2201.2,2,   2.1314,2,   2.13139,2,  34.6465,2,  34.6471,2,   149.78,2,   150.00,2,   113.99,2,     0.37,    35.52,2,     0.13,     0.01,2,     0.01,    2.502,2,    0.016,    0.001,2,    0.000,2,    0.000,2,   -999.0,9,   -999.0,9,-999.0000,-999,9,  -999.00,9,  -999.00,   -999.0,9,   -999.0,   1.9756,  27.6904
  49NZ20090521,   P21,   217,  1,     16, X12004,9,20090605,2304,-18.4150, 179.0028, 2240,     11.4,2,  26.1554,2,  26.16221,2,  34.8735,2,-999.0000,9,   203.09,2,  -999.00,9,  -999.00,9,  -999.00,  -999.00,9,  -999.00,  -999.00,9,  -999.00, -999.000,9, -999.000, -999.000,9, -999.000,9, -999.000,9,   -999.0,9,   -999.0,9,-999.0000,-999,9,  -999.00,9,  -999.00,   -999.0,9,   -999.0,  26.1528,  22.8902
  49NZ20090521,   P21,   217,  1,     15, X12003,9,20090605,2304,-18.4150, 179.0028, 2240,     50.4,2,  26.0687,2,  26.06887,2,  34.8818,2,-999.0000,9,   202.75,2,  -999.00,9,  -999.00,9,  -999.00,  -999.00,9,  -999.00,  -999.00,9,  -999.00, -999.000,9, -999.000, -999.000,9, -999.000,9, -999.000,9,   -999.0,9,   -999.0,9,-999.0000,-999,9,  -999.00,9,  -999.00,   -999.0,9,   -999.0,  26.0574,  22.9262
  49NZ20090521,   P21,   217,  1,     14, X12002,9,20090605,2304,-18.4150, 179.0028, 2240,    100.6,2,  25.1607,2,  25.15766,2,  35.3223,2,-999.0000,9,   190.51,2,  -999.00,9,  -999.00,9,  -999.00,  -999.00,9,  -999.00,  -999.00,9,  -999.00, -999.000,9, -999.000, -999.000,9, -999.000,9, -999.000,9,   -999.0,9,   -999.0,9,-999.0000,-999,9,  -999.00,9,  -999.00,   -999.0,9,   -999.0,  25.1388,  23.5425
  49NZ20090521,   P21,   217,  1,     13, X12001,9,20090605,2304,-18.4150, 179.0028, 2240,    151.2,2,  23.3029,2,  23.30355,2,  35.6450,2,-999.0000,9,   169.46,2,  -999.00,9,  -999.00,9,  -999.00,  -999.00,9,  -999.00,  -999.00,9,  -999.00, -999.000,9, -999.000, -999.000,9, -999.000,9, -999.000,9,   -999.0,9,   -999.0,9,-999.0000,-999,9,  -999.00,9,  -999.00,   -999.0,9,   -999.0,  23.2716,  24.3440
  49NZ20090521,   P21,   217,  1,     12, X12030,9,20090605,2304,-18.4150, 179.0028, 2240,    201.5,2,  21.8163,2,  21.81539,2,  35.7670,2,-999.0000,9,   161.71,2,  -999.00,9,  -999.00,9,  -999.00,  -999.00,9,  -999.00,  -999.00,9,  -999.00, -999.000,9, -999.000, -999.000,9, -999.000,9, -999.000,9,   -999.0,9,   -999.0,9,-999.0000,-999,9,  -999.00,9,  -999.00,   -999.0,9,   -999.0,  21.7765,  24.8634
  49NZ20090521,   P21,   217,  1,     11, X12044,9,20090605,2304,-18.4150, 179.0028, 2240,    250.9,2,  19.5914,2,  19.59151,2,  35.6215,2,-999.0000,9,   167.03,2,  -999.00,9,  -999.00,9,  -999.00,  -999.00,9,  -999.00,  -999.00,9,  -999.00, -999.000,9, -999.000, -999.000,9, -999.000,9, -999.000,9,   -999.0,9,   -999.0,9,-999.0000,-999,9,  -999.00,9,  -999.00,   -999.0,9,   -999.0,  19.5455,  25.3553
  49NZ20090521,   P21,   217,  1,     10, X12048,9,20090605,2304,-18.4150, 179.0028, 2240,    300.8,2,  17.1000,2,  17.09910,2,  35.3715,2,-999.0000,9,   173.13,2,  -999.00,9,  -999.00,9,  -999.00,  -999.00,9,  -999.00,  -999.00,9,  -999.00, -999.000,9, -999.000, -999.000,9, -999.000,9, -999.000,9,   -999.0,9,   -999.0,9,-999.0000,-999,9,  -999.00,9,  -999.00,   -999.0,9,   -999.0,  17.0499,  25.7876
  49NZ20090521,   P21,   217,  1,      9, X12027,9,20090605,2304,-18.4150, 179.0028, 2240,    400.7,2,  13.2600,2,  13.26142,2,  34.9775,2,-999.0000,9,   175.83,2,  -999.00,9,  -999.00,9,  -999.00,  -999.00,9,  -999.00,  -999.00,9,  -999.00, -999.000,9, -999.000, -999.000,9, -999.000,9, -999.000,9,   -999.0,9,   -999.0,9,-999.0000,-999,9,  -999.00,9,  -999.00,   -999.0,9,   -999.0,  13.2038,  26.3344
  49NZ20090521,   P21,   217,  1,      8, X12026,9,20090605,2304,-18.4150, 179.0028, 2240,    500.7,2,   9.3408,2,   9.34432,2,  34.6031,2,-999.0000,9,   187.08,2,  -999.00,9,  -999.00,9,  -999.00,  -999.00,9,  -999.00,  -999.00,9,  -999.00, -999.000,9, -999.000, -999.000,9, -999.000,9, -999.000,9,   -999.0,9,   -999.0,9,-999.0000,-999,9,  -999.00,9,  -999.00,   -999.0,9,   -999.0,   9.2845,  26.7614
  49NZ20090521,   P21,   217,  1,      7, X12025,9,20090605,2304,-18.4150, 179.0028, 2240,    600.3,2,   7.2988,2,   7.29839,2,  34.4441,2,-999.0000,9,   195.76,2,  -999.00,9,  -999.00,9,  -999.00,  -999.00,9,  -999.00,  -999.00,9,  -999.00, -999.000,9, -999.000, -999.000,9, -999.000,9, -999.000,9,   -999.0,9,   -999.0,9,-999.0000,-999,9,  -999.00,9,  -999.00,   -999.0,9,   -999.0,   7.2401,  26.9474
  49NZ20090521,   P21,   217,  1,      6, X12024,9,20090605,2304,-18.4150, 179.0028, 2240,    699.1,2,   6.1608,2,   6.15967,2,  34.3937,2,-999.0000,9,   193.47,2,  -999.00,9,  -999.00,9,  -999.00,  -999.00,9,  -999.00,  -999.00,9,  -999.00, -999.000,9, -999.000, -999.000,9, -999.000,9, -999.000,9,   -999.0,9,   -999.0,9,-999.0000,-999,9,  -999.00,9,  -999.00,   -999.0,9,   -999.0,   6.0980,  27.0610
  49NZ20090521,   P21,   217,  1,      5, X12028,9,20090605,2304,-18.4150, 179.0028, 2240,    801.1,2,   5.2885,2,   5.28849,2,  34.3971,2,-999.0000,9,   183.46,2,  -999.00,9,  -999.00,9,  -999.00,  -999.00,9,  -999.00,  -999.00,9,  -999.00, -999.000,9, -999.000, -999.000,9, -999.000,9, -999.000,9,   -999.0,9,   -999.0,9,-999.0000,-999,9,  -999.00,9,  -999.00,   -999.0,9,   -999.0,   5.2213,  27.1714
  49NZ20090521,   P21,   217,  1,      4, X12022,9,20090605,2304,-18.4150, 179.0028, 2240,    900.3,2,   4.5663,2,   4.56636,2,  34.4195,2,-999.0000,9,   174.84,2,  -999.00,9,  -999.00,9,  -999.00,  -999.00,9,  -999.00,  -999.00,9,  -999.00, -999.000,9, -999.000, -999.000,9, -999.000,9, -999.000,9,   -999.0,9,   -999.0,9,-999.0000,-999,9,  -999.00,9,  -999.00,   -999.0,9,   -999.0,   4.4951,  27.2717
  49NZ20090521,   P21,   217,  1,      3, X12021,9,20090605,2304,-18.4150, 179.0028, 2240,   1401.1,2,   3.0298,2,   3.02983,2,  34.5579,2,-999.0000,9,   149.80,2,  -999.00,9,  -999.00,9,  -999.00,  -999.00,9,  -999.00,  -999.00,9,  -999.00, -999.000,9, -999.000, -999.000,9, -999.000,9, -999.000,9,   -999.0,9,   -999.0,9,-999.0000,-999,9,  -999.00,9,  -999.00,   -999.0,9,   -999.0,   2.9299,  27.5386
  49NZ20090521,   P21,   217,  1,      2, X12020,2,20090605,2304,-18.4150, 179.0028, 2240,   2200.9,2,   2.1318,2,   2.13171,2,  34.6466,2,  34.6468,2,   149.76,2,   149.93,2,   114.15,2,     0.37,    35.47,2,     0.13,     0.01,2,     0.01,    2.504,2,    0.016, -999.000,9, -999.000,9, -999.000,9,   -999.0,9,   -999.0,9,-999.0000,-999,9,  -999.00,9,  -999.00,   -999.0,9,   -999.0,   1.9760,  27.6904
  49NZ20090521,   P21,   217,  1,      1, X12019,2,20090605,2304,-18.4150, 179.0028, 2240,   2251.4,2,   2.0738,2,   2.07356,2,  34.6520,2,  34.6521,6,   150.02,2,   150.15,2,   115.59,2,     0.37,    35.50,2,     0.13,     0.01,2,     0.01,    2.509,2,    0.016,    0.000,2,    0.000,2,    0.000,2,   -999.0,9,   -999.0,9,-999.0000,-999,9,  -999.00,9,  -999.00,   -999.0,9,   -999.0,   1.9145,  27.6996