BOTTLE,20111109CCHDOSIOCBG
EXPOCODE,SECT_ID,STNNBR,CASTNO,SAMPNO,BTLNBR,BTLNBR_FLAG_W,DATE,TIME,LATITUDE,LONGITUDE,DEPTH,CTDPRS,CTDPRS_FLAG_W,CTDTMP,CTDTMP_FLAG_W,SBE35,SBE35_FLAG_W,CTDSAL,CTDSAL_FLAG_W,SALNTY,SALNTY_FLAG_W,CTDOXY,CTDOXY_FLAG_W,OXYGEN,OXYGEN_FLAG_W,SILCAT,SILCAT_FLAG_W,SILUNC,NITRAT,NITRAT_FLAG_W,NRAUNC,NITRIT,NITRIT_FLAG_W,NRIUNC,PHSPHT,PHSPHT_FLAG_W,PHPUNC,CFC-11,CFC-11_FLAG_W,CFC-12,CFC-12_FLAG_W,CFC113,CFC113_FLAG_W,TCARBN,TCARBN_FLAG_W,ALKALI,ALKALI_FLAG_W,PH_TOT,PH_TMP,PH_TOT_FLAG_W,DELC13,DELC13_FLAG_W,C13ERR,DELC14,DELC14_FLAG_W,C14ERR,THETA,SIG0
,,,,,,,,,,,METERS,DBAR,,ITS-90,,ITS-90,,PSS-78,,PSS-78,,UMOL/KG,,UMOL/KG,,UMOL/KG,,UMOL/KG,UMOL/KG,,UMOL/KG,UMOL/KG,,UMOL/KG,UMOL/KG,,UMOL/KG,PMOL/KG,,PMOL/KG,,PMOL/KG,,UMOL/KG,,UMOL/KG,,,DEG C,,/MILLE,,/MILLE,/MILLE,,/MILLE,DEG C,KG/M^3
  49NZ20090521,   P21,   184,  1,      0,   -999,9,20090529,1312,-17.4953,-162.3387, 4808,   -999.0,9,-999.0000,9,-999.00000,9,-999.0000,9,  35.5259,2,  -999.00,9,  -999.00,9,  -999.00,9,  -999.00,  -999.00,9,  -999.00,  -999.00,9,  -999.00, -999.000,9, -999.000, -999.000,9, -999.000,9, -999.000,9,   -999.0,9,   -999.0,9,-999.0000,-999,9,  -999.00,9,  -999.00,   -999.0,9,   -999.0,-999.0000,-999.0000
  49NZ20090521,   P21,   184,  1,     36, X12043,2,20090529,1312,-17.4953,-162.3387, 4808,     10.5,2,  28.2204,2,  28.21977,2,  35.5617,2,  35.5611,2,   196.08,2,   196.55,2,     0.78,2,     0.12,     0.06,2,     0.03,     0.01,2,     0.01,    0.137,2,    0.019,    1.423,2,    0.910,2, -999.000,5,   -999.0,9,   -999.0,9,-999.0000,-999,9,  -999.00,9,  -999.00,   -999.0,9,   -999.0,  28.2179,  22.7456
  49NZ20090521,   P21,   184,  1,     35, X12042,2,20090529,1312,-17.4953,-162.3387, 4808,     51.5,2,  28.2369,2,  28.23596,2,  35.5668,2,  35.5727,2,   195.99,2,   196.93,2,     0.71,2,     0.12,     0.05,2,     0.03,     0.01,2,     0.01,    0.138,2,    0.019,    1.418,2,    0.893,2, -999.000,5,   -999.0,9,   -999.0,9,-999.0000,-999,9,  -999.00,9,  -999.00,   -999.0,9,   -999.0,  28.2247,  22.7472
  49NZ20090521,   P21,   184,  1,     34, X12016,2,20090529,1312,-17.4953,-162.3387, 4808,    100.2,2,  25.7723,2,  25.77041,2,  35.9755,2,  35.9752,2,   200.50,2,   200.82,2,     0.69,2,     0.12,     0.04,2,     0.03,     0.01,2,     0.01,    0.181,2,    0.017,    1.623,6,    1.021,6, -999.000,5,   -999.0,9,   -999.0,9,-999.0000,-999,9,  -999.00,9,  -999.00,   -999.0,9,   -999.0,  25.7500,  23.8476
  49NZ20090521,   P21,   184,  1,     33, X12015,2,20090529,1312,-17.4953,-162.3387, 4808,    150.3,2,  24.0452,2,  24.05689,2,  35.9911,2,  35.9920,2,   186.30,2,   186.01,2,     0.64,2,     0.12,     0.24,2,     0.03,     0.21,2,     0.01,    0.250,2,    0.015,    1.751,2,    1.091,2, -999.000,5,   -999.0,9,   -999.0,9,-999.0000,-999,9,  -999.00,9,  -999.00,   -999.0,9,   -999.0,  24.0134,  24.3880
  49NZ20090521,   P21,   184,  1,     32, X12050,2,20090529,1312,-17.4953,-162.3387, 4808,    200.8,2,  22.2760,2,  22.27019,2,  35.9169,2,  35.9175,2,   175.64,2,   175.76,2,     0.72,2,     0.12,     2.06,2,     0.04,     0.02,2,     0.01,    0.358,2,    0.014,    1.898,2,    1.159,2,    0.103,2,   -999.0,9,   -999.0,9,-999.0000,-999,9,  -999.00,9,  -999.00,   -999.0,9,   -999.0,  22.2357,  24.8482
  49NZ20090521,   P21,   184,  1,     31, X12014,2,20090529,1312,-17.4953,-162.3387, 4808,    251.8,2,  19.9013,2,  19.90295,2,  35.6554,2,  35.6570,6,   178.40,2,   178.65,2,     0.91,2,     0.12,     3.40,2,     0.04,     0.01,2,     0.01,    0.425,2,    0.013,    2.108,2,    1.249,2,    0.030,2,   -999.0,9,   -999.0,9,-999.0000,-999,9,  -999.00,9,  -999.00,   -999.0,9,   -999.0,  19.8547,  25.3001
  49NZ20090521,   P21,   184,  1,     30, X12012,2,20090529,1312,-17.4953,-162.3387, 4808,    331.0,2,  15.5918,2,  15.60032,2,  35.1383,2,  35.1391,2,   171.73,2,   171.17,2,     3.08,2,     0.13,     9.22,2,     0.06,     0.01,2,     0.01,    0.837,2,    0.013,    2.207,2,    1.221,2,    0.022,2,   -999.0,9,   -999.0,9,-999.0000,-999,9,  -999.00,9,  -999.00,   -999.0,9,   -999.0,  15.5401,  25.9584
  49NZ20090521,   P21,   184,  1,     29, X12041,2,20090529,1312,-17.4953,-162.3387, 4808,    430.6,2,  11.0633,2,  11.06360,2,  34.6959,2,  34.6972,3,   153.44,2,   153.70,2,     9.39,2,     0.14,    19.27,2,     0.09,     0.01,2,     0.01,    1.505,2,    0.014,    1.638,6,    0.852,6,    0.019,6,   -999.0,9,   -999.0,9,-999.0000,-999,9,  -999.00,9,  -999.00,   -999.0,9,   -999.0,  11.0096,  26.5369
  49NZ20090521,   P21,   184,  1,     28, X12040,2,20090529,1312,-17.4953,-162.3387, 4808,    530.5,2,   7.6718,2,   7.67157,2,  34.4467,2,  34.4464,2,   168.86,2,   168.98,2,    15.22,2,     0.15,    26.34,2,     0.11,     0.01,2,     0.01,    1.899,2,    0.015,    1.192,2,    0.602,2,    0.021,2,   -999.0,9,   -999.0,9,-999.0000,-999,9,  -999.00,9,  -999.00,   -999.0,9,   -999.0,   7.6187,  26.8953
  49NZ20090521,   P21,   184,  1,     27, X12009,2,20090529,1312,-17.4953,-162.3387, 4808,    631.9,2,   5.9505,2,   5.94945,2,  34.3328,2,  34.3327,2,   213.96,2,   214.08,2,    14.57,2,     0.15,    26.96,2,     0.11,     0.01,2,     0.01,    1.874,2,    0.015,    1.251,6,    0.620,6,    0.028,6,   -999.0,9,   -999.0,9,-999.0000,-999,9,  -999.00,9,  -999.00,   -999.0,9,   -999.0,   5.8951,  27.0387
  49NZ20090521,   P21,   184,  1,     26, X12008,2,20090529,1312,-17.4953,-162.3387, 4808,    731.7,2,   5.1162,2,   5.11598,2,  34.3485,2,  34.3498,2,   188.22,2,   188.06,2,    27.55,2,     0.18,    30.84,2,     0.12,     0.01,2,     0.01,    2.148,2,    0.015,    0.472,2,    0.242,2,    0.008,2,   -999.0,9,   -999.0,9,-999.0000,-999,9,  -999.00,9,  -999.00,   -999.0,9,   -999.0,   5.0562,  27.1522
  49NZ20090521,   P21,   184,  1,     25, X12007,2,20090529,1312,-17.4953,-162.3387, 4808,    830.3,2,   4.6356,2,   4.63560,2,  34.4166,2,  34.4176,2,   160.04,2,   159.97,2,    44.57,2,     0.22,    33.62,2,     0.13,     0.01,2,     0.01,    2.349,2,    0.016,    0.121,2,    0.067,2,    0.000,2,   -999.0,9,   -999.0,9,-999.0000,-999,9,  -999.00,9,  -999.00,   -999.0,9,   -999.0,   4.5699,  27.2612
  49NZ20090521,   P21,   184,  1,     24, X12035,2,20090529,1312,-17.4953,-162.3387, 4808,    931.2,2,   4.1577,2,   4.15817,2,  34.4562,2,  34.4562,2,   154.65,2,   154.85,2,    56.30,2,     0.24,    34.42,2,     0.13,     0.00,2,     0.01,    2.413,2,    0.016,    0.041,2,    0.023,2,    0.000,2,   -999.0,9,   -999.0,9,-999.0000,-999,9,  -999.00,9,  -999.00,   -999.0,9,   -999.0,   4.0867,  27.3446
  49NZ20090521,   P21,   184,  1,     23, X12038,2,20090529,1312,-17.4953,-162.3387, 4808,   1071.0,2,   3.6511,2,   3.65070,2,  34.5025,2,  34.5024,2,   148.47,2,   148.67,2,    70.68,2,     0.27,    35.25,2,     0.13,     0.01,2,     0.01,    2.481,2,    0.016,    0.019,2,    0.011,2,    0.000,2,   -999.0,9,   -999.0,9,-999.0000,-999,9,  -999.00,9,  -999.00,   -999.0,9,   -999.0,   3.5724,  27.4336
  49NZ20090521,   P21,   184,  1,     22, X12034,2,20090529,1312,-17.4953,-162.3387, 4808,   1271.9,2,   3.0956,2,   3.09547,2,  34.5464,2,  34.5463,2,   145.81,2,   146.02,2,    84.98,2,     0.31,    35.91,2,     0.13,     0.01,2,     0.01,    2.519,2,    0.016,    0.004,2,    0.003,2,    0.000,2,   -999.0,9,   -999.0,9,-999.0000,-999,9,  -999.00,9,  -999.00,   -999.0,9,   -999.0,   3.0055,  27.5225
  49NZ20090521,   P21,   184,  1,     21, X12033,2,20090529,1312,-17.4953,-162.3387, 4808,   1471.5,2,   2.7589,2,   2.75921,2,  34.5801,2,  34.5801,2,   144.40,2,   144.59,2,    95.60,2,     0.33,    36.10,2,     0.13,     0.01,2,     0.01,    2.537,2,    0.016,    0.001,2,    0.001,2,    0.000,2,   -999.0,9,   -999.0,9,-999.0000,-999,9,  -999.00,9,  -999.00,   -999.0,9,   -999.0,   2.6561,  27.5806
  49NZ20090521,   P21,   184,  1,     20, X12032,2,20090529,1312,-17.4953,-162.3387, 4808,   1671.3,2,   2.4909,2,   2.49094,2,  34.6043,2,  34.6046,2,   145.04,2,   145.12,2,   103.98,2,     0.35,    36.19,2,     0.13,     0.01,2,     0.01,    2.540,2,    0.016,    0.002,2,    0.002,2,    0.000,2,   -999.0,9,   -999.0,9,-999.0000,-999,9,  -999.00,9,  -999.00,   -999.0,9,   -999.0,   2.3750,  27.6241
  49NZ20090521,   P21,   184,  1,     19, X12046,2,20090529,1312,-17.4953,-162.3387, 4808,   1872.0,2,   2.3185,2,   2.31856,2,  34.6197,2,  34.6197,2,   145.97,2,   145.94,2,   109.24,2,     0.36,    36.08,2,     0.13,     0.01,2,     0.01,    2.539,2,    0.016,    0.000,2,    0.000,2,    0.000,2,   -999.0,9,   -999.0,9,-999.0000,-999,9,  -999.00,9,  -999.00,   -999.0,9,   -999.0,   2.1882,  27.6519
  49NZ20090521,   P21,   184,  1,     18, X12006,2,20090529,1312,-17.4953,-162.3387, 4808,   2072.4,2,   2.1528,2,   2.15278,2,  34.6342,2,  34.6341,2,   147.73,2,   147.72,2,   113.56,2,     0.37,    36.07,2,     0.13,     0.01,2,     0.01,    2.533,2,    0.016,    0.000,2,    0.000,2,    0.000,2,   -999.0,9,   -999.0,9,-999.0000,-999,9,  -999.00,9,  -999.00,   -999.0,9,   -999.0,   2.0078,  27.6780
  49NZ20090521,   P21,   184,  1,     17, X12047,2,20090529,1312,-17.4953,-162.3387, 4808,   2271.8,2,   2.0401,2,   2.04006,2,  34.6443,2,  34.6443,6,   149.08,2,   149.06,2,   117.00,2,     0.38,    36.04,2,     0.13,     0.01,2,     0.01,    2.525,2,    0.016,    0.000,2,    0.000,2,    0.000,2,   -999.0,9,   -999.0,9,-999.0000,-999,9,  -999.00,9,  -999.00,   -999.0,9,   -999.0,   1.8796,  27.6962
  49NZ20090521,   P21,   184,  1,     16, X12004,2,20090529,1312,-17.4953,-162.3387, 4808,   2470.5,2,   1.9174,2,   1.91730,2,  34.6550,2,  34.6544,2,   151.00,2,   150.90,2,   120.59,2,     0.38,    35.90,2,     0.13,     0.01,2,     0.01,    2.513,2,    0.016,    0.000,2,    0.000,2,    0.000,2,   -999.0,9,   -999.0,9,-999.0000,-999,9,  -999.00,9,  -999.00,   -999.0,9,   -999.0,   1.7413,  27.7154
  49NZ20090521,   P21,   184,  1,     15, X12003,2,20090529,1312,-17.4953,-162.3387, 4808,   2669.9,2,   1.8443,2,   1.84428,2,  34.6617,2,  34.6616,2,   153.17,2,   153.07,2,   122.23,2,     0.39,    35.85,2,     0.13,     0.01,2,     0.01,    2.507,2,    0.016,    0.002,2,    0.000,2,    0.000,2,   -999.0,9,   -999.0,9,-999.0000,-999,9,  -999.00,9,  -999.00,   -999.0,9,   -999.0,   1.6514,  27.7275
  49NZ20090521,   P21,   184,  1,     14, X12002,2,20090529,1312,-17.4953,-162.3387, 4808,   2871.1,2,   1.7748,2,   1.77486,2,  34.6676,2,  34.6670,2,   155.00,2,   155.04,2,   123.91,2,     0.39,    35.63,2,     0.13,     0.01,2,     0.01,    2.495,2,    0.016,    0.001,2,    0.000,2,    0.000,2,   -999.0,9,   -999.0,9,-999.0000,-999,9,  -999.00,9,  -999.00,   -999.0,9,   -999.0,   1.5644,  27.7387
  49NZ20090521,   P21,   184,  1,     13, X12001,2,20090529,1312,-17.4953,-162.3387, 4808,   3081.2,2,   1.7103,2,   1.71033,2,  34.6732,2,  34.6736,2,   158.14,2,   158.21,2,   124.70,2,     0.39,    35.46,2,     0.13,     0.01,2,     0.01,    2.480,2,    0.016,    0.002,2,    0.000,2,    0.000,2,   -999.0,9,   -999.0,9,-999.0000,-999,9,  -999.00,9,  -999.00,   -999.0,9,   -999.0,   1.4810,  27.7493
  49NZ20090521,   P21,   184,  1,     12, X12030,2,20090529,1312,-17.4953,-162.3387, 4808,   3330.6,2,   1.6249,2,   1.62501,2,  34.6796,2,  34.6794,2,   162.26,2,   162.15,2,   125.37,2,     0.39,    35.24,2,     0.13,     0.00,2,     0.01,    2.461,2,    0.016,    0.000,2,    0.000,2,    0.000,2,   -999.0,9,   -999.0,9,-999.0000,-999,9,  -999.00,9,  -999.00,   -999.0,9,   -999.0,   1.3729,  27.7622
  49NZ20090521,   P21,   184,  1,     11, X12044,2,20090529,1312,-17.4953,-162.3387, 4808,   3581.8,2,   1.5553,2,   1.55529,2,  34.6849,2,  34.6848,6,   166.54,2,   166.58,2,   125.40,2,     0.39,    34.93,2,     0.13,     0.01,2,     0.01,    2.444,2,    0.016,    0.002,2,    0.000,2,    0.000,2,   -999.0,9,   -999.0,9,-999.0000,-999,9,  -999.00,9,  -999.00,   -999.0,9,   -999.0,   1.2793,  27.7731
  49NZ20090521,   P21,   184,  1,     10, X12048,2,20090529,1312,-17.4953,-162.3387, 4808,   3832.0,2,   1.5028,2,   1.50288,2,  34.6899,2,  34.6900,2,   171.10,2,   171.48,2,   124.60,2,     0.39,    34.55,2,     0.13,     0.01,2,     0.01,    2.416,2,    0.016,    0.003,2,    0.000,2,    0.000,2,   -999.0,9,   -999.0,9,-999.0000,-999,9,  -999.00,9,  -999.00,   -999.0,9,   -999.0,   1.2019,  27.7825
  49NZ20090521,   P21,   184,  1,      9, X12027,2,20090529,1312,-17.4953,-162.3387, 4808,   4078.9,2,   1.4006,2,   1.40058,2,  34.7005,2,  34.7011,2,   183.75,2,   183.89,2,   119.10,2,     0.38,    33.52,2,     0.13,     0.00,2,     0.01,    2.340,2,    0.016,    0.006,2,    0.003,2,    0.000,2,   -999.0,9,   -999.0,9,-999.0000,-999,9,  -999.00,9,  -999.00,   -999.0,9,   -999.0,   1.0758,  27.7996
  49NZ20090521,   P21,   184,  1,      8, X12026,2,20090529,1312,-17.4953,-162.3387, 4808,   4331.2,2,   1.2460,2,   1.24599,2,  34.7066,2,  34.7066,2,   194.80,2,   194.88,2,   116.74,2,     0.38,    32.83,2,     0.12,     0.01,2,     0.01,    2.284,2,    0.016,    0.008,2,    0.003,2,    0.000,2,   -999.0,9,   -999.0,9,-999.0000,-999,9,  -999.00,9,  -999.00,   -999.0,9,   -999.0,   0.8978,  27.8163
  49NZ20090521,   P21,   184,  1,      7, X12025,2,20090529,1312,-17.4953,-162.3387, 4808,   4579.8,2,   1.1226,2,   1.12273,2,  34.7085,2,  34.7089,2,   201.92,2,   202.09,2,   116.43,2,     0.38,    32.43,2,     0.12,     0.01,2,     0.01,    2.260,2,    0.016,    0.011,2,    0.007,2,    0.000,2,   -999.0,9,   -999.0,9,-999.0000,-999,9,  -999.00,9,  -999.00,   -999.0,9,   -999.0,   0.7502,  27.8273
  49NZ20090521,   P21,   184,  1,      6, X12024,2,20090529,1312,-17.4953,-162.3387, 4808,   4830.7,2,   1.1069,2,   1.10676,2,  34.7085,2,  34.7089,2,   203.61,2,   203.68,2,   116.81,2,     0.38,    32.41,2,     0.12,     0.01,2,     0.01,    2.257,2,    0.016,    0.012,2,    0.006,2,    0.000,2,   -999.0,9,   -999.0,9,-999.0000,-999,9,  -999.00,9,  -999.00,   -999.0,9,   -999.0,   0.7059,  27.8301
  49NZ20090521,   P21,   184,  1,      5, X12028,9,20090529,1312,-17.4953,-162.3387, 4808,      3.7,2,  28.2237,2,  28.22431,2,  35.5640,2,-999.0000,9,   196.22,2,  -999.00,9,  -999.00,9,  -999.00,  -999.00,9,  -999.00,  -999.00,9,  -999.00, -999.000,9, -999.000, -999.000,9, -999.000,9, -999.000,9,   -999.0,9,   -999.0,9,-999.0000,-999,9,  -999.00,9,  -999.00,   -999.0,9,   -999.0,  28.2228,  22.7457
  49NZ20090521,   P21,   184,  1,      4, X12022,2,20090529,1312,-17.4953,-162.3387, 4808,      3.6,2,  28.2162,2,  28.21722,2,  35.5640,2,-999.0000,9,   196.26,2,  -999.00,9,  -999.00,9,  -999.00,  -999.00,9,  -999.00,  -999.00,9,  -999.00, -999.000,9, -999.000, -999.000,9, -999.000,9, -999.000,9,   -999.0,9,   -999.0,9,-999.0000,-999,9,  -999.00,9,  -999.00,   -999.0,9,   -999.0,  28.2153,  22.7482
  49NZ20090521,   P21,   184,  1,      3, X12021,9,20090529,1312,-17.4953,-162.3387, 4808,      3.7,2,  28.2154,2,  28.21497,2,  35.5636,2,-999.0000,9,   196.24,2,  -999.00,9,  -999.00,9,  -999.00,  -999.00,9,  -999.00,  -999.00,9,  -999.00, -999.000,9, -999.000, -999.000,9, -999.000,9, -999.000,9,   -999.0,9,   -999.0,9,-999.0000,-999,9,  -999.00,9,  -999.00,   -999.0,9,   -999.0,  28.2145,  22.7481
  49NZ20090521,   P21,   184,  1,      2, X12020,2,20090529,1312,-17.4953,-162.3387, 4808,   4079.4,2,   1.4010,2,   1.40095,2,  34.7005,2,  34.7004,2,   183.68,2,   183.66,2,   119.10,2,     0.38,    33.52,2,     0.13,     0.00,2,     0.01,    2.339,2,    0.016, -999.000,9, -999.000,9, -999.000,9,   -999.0,9,   -999.0,9,-999.0000,-999,9,  -999.00,9,  -999.00,   -999.0,9,   -999.0,   1.0762,  27.7996
  49NZ20090521,   P21,   184,  1,      1, X12019,2,20090529,1312,-17.4953,-162.3387, 4808,   4885.1,2,   1.1080,2,   1.10781,2,  34.7084,2,  34.7090,6,   203.91,2,   203.77,2,   116.95,2,     0.38,    32.35,2,     0.12,     0.01,2,     0.01,    2.252,2,    0.016,    0.010,2,    0.006,2,    0.000,2,   -999.0,9,   -999.0,9,-999.0000,-999,9,  -999.00,9,  -999.00,   -999.0,9,   -999.0,   0.7006,  27.8303