BOTTLE,20111109CCHDOSIOCBG
EXPOCODE,SECT_ID,STNNBR,CASTNO,SAMPNO,BTLNBR,BTLNBR_FLAG_W,DATE,TIME,LATITUDE,LONGITUDE,DEPTH,CTDPRS,CTDPRS_FLAG_W,CTDTMP,CTDTMP_FLAG_W,SBE35,SBE35_FLAG_W,CTDSAL,CTDSAL_FLAG_W,SALNTY,SALNTY_FLAG_W,CTDOXY,CTDOXY_FLAG_W,OXYGEN,OXYGEN_FLAG_W,SILCAT,SILCAT_FLAG_W,SILUNC,NITRAT,NITRAT_FLAG_W,NRAUNC,NITRIT,NITRIT_FLAG_W,NRIUNC,PHSPHT,PHSPHT_FLAG_W,PHPUNC,CFC-11,CFC-11_FLAG_W,CFC-12,CFC-12_FLAG_W,CFC113,CFC113_FLAG_W,TCARBN,TCARBN_FLAG_W,ALKALI,ALKALI_FLAG_W,PH_TOT,PH_TMP,PH_TOT_FLAG_W,DELC13,DELC13_FLAG_W,C13ERR,DELC14,DELC14_FLAG_W,C14ERR,THETA,SIG0
,,,,,,,,,,,METERS,DBAR,,ITS-90,,ITS-90,,PSS-78,,PSS-78,,UMOL/KG,,UMOL/KG,,UMOL/KG,,UMOL/KG,UMOL/KG,,UMOL/KG,UMOL/KG,,UMOL/KG,UMOL/KG,,UMOL/KG,PMOL/KG,,PMOL/KG,,PMOL/KG,,UMOL/KG,,UMOL/KG,,,DEG C,,/MILLE,,/MILLE,/MILLE,,/MILLE,DEG C,KG/M^3
  49NZ20090521,   P21,   170,  1,      0,   -999,9,20090523,0339,-17.5040,-152.9938, 4402,   -999.0,9,-999.0000,9,-999.00000,9,-999.0000,9,  35.9482,2,  -999.00,9,  -999.00,9,  -999.00,9,  -999.00,  -999.00,9,  -999.00,  -999.00,9,  -999.00, -999.000,9, -999.000, -999.000,9, -999.000,9, -999.000,9,   -999.0,9,   -999.0,9,-999.0000,-999,9,  -999.00,9,  -999.00,   -999.0,9,   -999.0,-999.0000,-999.0000
  49NZ20090521,   P21,   170,  1,     36, X12043,2,20090523,0339,-17.5040,-152.9938, 4402,      9.7,2,  28.2428,2,  28.24213,2,  35.9840,2,  35.9860,2,   196.11,2,   196.29,2,     0.45,2,     0.12,     0.09,2,     0.03,     0.01,2,     0.01,    0.189,2,    0.016,    1.412,2,    0.905,2, -999.000,5,   2002.7,2,   2370.8,2,   8.1350,  25,6,  -999.00,9,  -999.00,   -999.0,9,   -999.0,  28.2405,  23.0557
  49NZ20090521,   P21,   170,  1,     35, X12042,2,20090523,0339,-17.5040,-152.9938, 4402,     49.2,2,  28.2382,2,  28.23790,2,  36.0056,2,  36.0048,2,   196.08,2,   196.66,2,     0.51,2,     0.12,     0.07,2,     0.03,     0.01,2,     0.01,    0.191,2,    0.016,    1.417,2,    0.917,2, -999.000,5,   2003.2,6,   2370.9,2,   8.1349,  25,2,  -999.00,9,  -999.00,   -999.0,9,   -999.0,  28.2265,  23.0766
  49NZ20090521,   P21,   170,  1,     34, X12016,2,20090523,0339,-17.5040,-152.9938, 4402,     99.3,2,  26.1775,2,  26.18547,2,  36.2157,2,  36.2152,2,   210.82,2,   211.39,2,     0.37,2,     0.12,     0.06,2,     0.03,     0.01,2,     0.01,    0.168,2,    0.017,    1.629,6,    1.033,6, -999.000,5,   2028.3,2,   2382.4,6,   8.1092,  25,2,  -999.00,9,  -999.00,   -999.0,9,   -999.0,  26.1551,  23.9022
  49NZ20090521,   P21,   170,  1,     33, X12015,2,20090523,0339,-17.5040,-152.9938, 4402,    149.7,2,  24.6544,2,  24.65333,2,  36.2939,2,  36.2925,2,   179.32,2,   179.19,2,     0.52,2,     0.12,     1.36,2,     0.04,     0.18,2,     0.01,    0.342,2,    0.014,    1.703,2,    1.078,2, -999.000,5,   2068.8,2,   2387.6,2,   8.0518,  25,6,  -999.00,9,  -999.00,   -999.0,9,   -999.0,  24.6221,  24.4345
  49NZ20090521,   P21,   170,  1,     32, X12050,2,20090523,0339,-17.5040,-152.9938, 4402,    198.9,2,  22.6848,2,  22.68950,2,  36.1022,2,  36.0993,2,   171.33,2,   171.32,2,     0.55,2,     0.12,     3.19,2,     0.04,     0.02,2,     0.01,    0.453,2,    0.013,    1.885,2,    1.143,2,    0.103,2,   2089.8,2,   2375.5,2,   8.0004,  25,2,  -999.00,9,  -999.00,   -999.0,9,   -999.0,  22.6444,  24.8724
  49NZ20090521,   P21,   170,  1,     31, X12014,2,20090523,0339,-17.5040,-152.9938, 4402,    249.1,2,  20.4525,2,  20.45703,2,  35.7745,2,  35.7695,6,   172.86,2,   172.74,2,     0.76,2,     0.12,     4.51,2,     0.05,     0.01,2,     0.01,    0.540,2,    0.013,    2.096,2,    1.245,2,    0.046,2,   2096.5,2,   2354.4,2,   7.9593,  25,2,  -999.00,9,  -999.00,   -999.0,9,   -999.0,  20.4055,  25.2446
  49NZ20090521,   P21,   170,  1,     30, X12012,2,20090523,0339,-17.5040,-152.9938, 4402,    278.7,2,  19.1046,2,  19.12203,2,  35.5706,2,  35.5742,2,   174.62,2,   174.98,2,     0.97,2,     0.12,     5.12,2,     0.05,     0.01,2,     0.01,    0.571,2,    0.013,    2.192,2,    1.281,2,    0.030,2,   2095.9,2,   2341.2,2,   7.9400,  25,2,  -999.00,9,  -999.00,   -999.0,9,   -999.0,  19.0544,  25.4435
  49NZ20090521,   P21,   170,  1,     29, X12041,2,20090523,0339,-17.5040,-152.9938, 4402,    369.7,2,  14.0010,2,  14.02119,2,  34.9326,2,  34.9336,2,   165.67,2,   165.66,2,     4.35,2,     0.13,    12.28,2,     0.07,     0.01,2,     0.01,    1.061,2,    0.013,    2.188,6,    1.183,6,    0.026,6,   2123.2,2,   2302.8,2,   7.8193,  25,2,  -999.00,9,  -999.00,   -999.0,9,   -999.0,  13.9473,  26.1461
  49NZ20090521,   P21,   170,  1,     28, X12040,2,20090523,0339,-17.5040,-152.9938, 4402,    469.5,2,   9.3839,2,   9.38694,2,  34.5434,2,  34.5434,6,   159.07,2,   159.08,2,    11.22,2,     0.14,    22.59,2,     0.10,     0.00,2,     0.01,    1.705,2,    0.014,    1.543,2,    0.789,2,    0.026,2,   2164.2,2,   2286.4,2,   7.6850,  25,2,  -999.00,9,  -999.00,   -999.0,9,   -999.0,   9.3311,  26.7070
  49NZ20090521,   P21,   170,  1,     27, X12009,2,20090523,0339,-17.5040,-152.9938, 4402,    570.0,2,   6.9129,2,   6.91312,2,  34.4194,2,  34.4187,2,   165.94,2,   166.18,2,    19.29,2,     0.16,    28.49,2,     0.11,     0.00,2,     0.01,    2.029,2,    0.015,    0.894,6,    0.451,6,    0.016,6,   2186.2,2,   2288.9,2,   7.6357,  25,2,  -999.00,9,  -999.00,   -999.0,9,   -999.0,   6.8590,  26.9808
  49NZ20090521,   P21,   170,  1,     26, X12008,2,20090523,0339,-17.5040,-152.9938, 4402,    670.2,2,   5.8397,2,   5.83716,2,  34.4131,2,  34.4127,2,   162.04,2,   162.00,2,    29.61,2,     0.18,    31.25,2,     0.12,     0.00,2,     0.01,    2.200,2,    0.016,    0.397,2,    0.202,2,    0.007,2,   2202.6,6,   2299.9,2,   7.6150,  25,2,  -999.00,9,  -999.00,   -999.0,9,   -999.0,   5.7813,  27.1163
  49NZ20090521,   P21,   170,  1,     25, X12007,2,20090523,0339,-17.5040,-152.9938, 4402,    769.6,2,   4.9902,2,   4.99059,2,  34.4290,2,  34.4289,2,   156.18,2,   156.22,2,    42.07,2,     0.21,    33.21,2,     0.13,     0.01,2,     0.01,    2.325,2,    0.016,    0.137,2,    0.071,2,    0.000,2,   2221.1,2,   2311.4,6,   7.5970,  25,2,  -999.00,9,  -999.00,   -999.0,9,   -999.0,   4.9275,  27.2309
  49NZ20090521,   P21,   170,  1,     24, X12035,2,20090523,0339,-17.5040,-152.9938, 4402,    870.1,2,   4.4981,2,   4.49830,2,  34.4521,2,  34.4519,2,   152.33,2,   151.98,2,    51.52,2,     0.23,    34.15,2,     0.13,     0.00,2,     0.01,    2.396,2,    0.016,    0.048,2,    0.029,2,    0.000,2,   2232.8,2,   2322.2,2,   7.5881,  25,6,  -999.00,9,  -999.00,   -999.0,9,   -999.0,   4.4298,  27.3047
  49NZ20090521,   P21,   170,  1,     23, X12038,2,20090523,0339,-17.5040,-152.9938, 4402,    970.2,2,   3.9413,2,   3.94137,2,  34.4813,2,  34.4814,6,   149.81,2,   149.53,2,    63.16,2,     0.26,    34.89,2,     0.13,     0.01,2,     0.01,    2.455,2,    0.016,    0.019,2,    0.012,2,    0.000,2,   2248.5,2,   2334.9,2,   7.5802,  25,2,  -999.00,9,  -999.00,   -999.0,9,   -999.0,   3.8686,  27.3870
  49NZ20090521,   P21,   170,  1,     22, X12034,2,20090523,0339,-17.5040,-152.9938, 4402,   1130.0,2,   3.4387,2,   3.43875,2,  34.5246,2,  34.5248,2,   144.82,2,   144.40,2,    77.13,2,     0.29,    35.66,2,     0.13,     0.00,2,     0.01,    2.514,2,    0.016,    0.005,2,    0.005,2,    0.000,2,   2266.7,2,   2351.1,2,   7.5720,  25,2,  -999.00,9,  -999.00,   -999.0,9,   -999.0,   3.3569,  27.4721
  49NZ20090521,   P21,   170,  1,     21, X12033,2,20090523,0339,-17.5040,-152.9938, 4402,   1329.4,2,   3.0566,2,   3.05656,2,  34.5599,2,  34.5601,2,   142.47,2,   142.19,2,    88.62,2,     0.31,    36.07,2,     0.13,     0.00,2,     0.01,    2.542,2,    0.016,    0.001,2,    0.003,2,    0.000,2,   2280.2,2,   2362.9,2,   7.5693,  25,2,  -999.00,9,  -999.00,   -999.0,9,   -999.0,   2.9622,  27.5372
  49NZ20090521,   P21,   170,  1,     20, X12032,2,20090523,0339,-17.5040,-152.9938, 4402,   1529.8,2,   2.7250,2,   2.72467,2,  34.5857,2,  34.5858,2,   144.10,2,   143.98,2,    97.31,2,     0.33,    36.14,2,     0.13,     0.00,2,     0.01,    2.543,2,    0.016,    0.000,2,    0.000,2,    0.000,2,   2289.0,2,   2372.3,2,   7.5723,  25,6,  -999.00,9,  -999.00,   -999.0,9,   -999.0,   2.6179,  27.5885
  49NZ20090521,   P21,   170,  1,     19, X12046,2,20090523,0339,-17.5040,-152.9938, 4402,   1729.4,2,   2.4687,2,   2.46855,2,  34.6064,2,  34.6070,2,   146.38,2,   146.55,2,   104.11,2,     0.35,    36.04,2,     0.13,     0.00,2,     0.01,    2.539,2,    0.016,    0.000,2,    0.000,2,    0.000,2,   2295.5,2,   2379.9,2,   7.5761,  25,2,  -999.00,9,  -999.00,   -999.0,9,   -999.0,   2.3483,  27.6280
  49NZ20090521,   P21,   170,  1,     18, X12006,2,20090523,0339,-17.5040,-152.9938, 4402,   1930.0,2,   2.2604,2,   2.26028,2,  34.6235,2,  34.6240,2,   148.83,2,   148.74,2,   109.51,2,     0.36,    35.97,2,     0.13,     0.00,2,     0.01,    2.529,2,    0.016,    0.000,2,    0.000,2,    0.000,2,   2298.9,2,   2386.1,2,   7.5801,  25,2,  -999.00,9,  -999.00,   -999.0,9,   -999.0,   2.1260,  27.6600
  49NZ20090521,   P21,   170,  1,     17, X12047,2,20090523,0339,-17.5040,-152.9938, 4402,   2131.1,2,   2.1137,2,   2.11366,2,  34.6359,2,  34.6360,6,   151.06,2,   151.06,2,   113.00,2,     0.37,    35.79,2,     0.13,     0.00,2,     0.01,    2.517,2,    0.016,    0.000,2,    0.000,2,    0.000,2,   2301.7,2,   2389.6,2,   7.5829,  25,2,  -999.00,9,  -999.00,   -999.0,9,   -999.0,   1.9643,  27.6828
  49NZ20090521,   P21,   170,  1,     16, X12004,2,20090523,0339,-17.5040,-152.9938, 4402,   2330.3,2,   1.9797,2,   1.97975,2,  34.6475,2,  34.6480,2,   153.70,2,   153.62,2,   115.86,2,     0.37,    35.56,2,     0.13,     0.00,2,     0.01,    2.504,2,    0.016,    0.000,2,    0.000,2,    0.000,2,   2303.5,6,   2392.3,2,   7.5876,  25,2,  -999.00,9,  -999.00,   -999.0,9,   -999.0,   1.8151,  27.7037
  49NZ20090521,   P21,   170,  1,     15, X12003,2,20090523,0339,-17.5040,-152.9938, 4402,   2530.0,2,   1.8743,2,   1.87422,2,  34.6565,2,  34.6566,2,   156.48,2,   156.39,2,   118.26,2,     0.38,    35.42,2,     0.13,     0.00,2,     0.01,    2.485,2,    0.016,    0.000,2,    0.000,2,    0.000,2,   2303.1,2,   2394.2,6,   7.5906,  25,2,  -999.00,9,  -999.00,   -999.0,9,   -999.0,   1.6936,  27.7202
  49NZ20090521,   P21,   170,  1,     14, X12002,2,20090523,0339,-17.5040,-152.9938, 4402,   2730.1,2,   1.7771,2,   1.77699,2,  34.6645,2,  34.6646,2,   159.83,2,   159.78,2,   119.68,2,     0.38,    35.24,2,     0.13,     0.00,2,     0.01,    2.470,2,    0.016,    0.003,2,    0.002,2,    0.000,2,   2304.0,2,   2394.7,2,   7.5934,  25,2,  -999.00,9,  -999.00,   -999.0,9,   -999.0,   1.5799,  27.7351
  49NZ20090521,   P21,   170,  1,     13, X12001,2,20090523,0339,-17.5040,-152.9938, 4402,   2930.4,2,   1.6870,2,   1.68692,2,  34.6717,2,  34.6716,2,   163.68,2,   163.68,2,   120.62,2,     0.38,    35.05,2,     0.13,     0.00,2,     0.01,    2.454,2,    0.016,    0.002,2,    0.000,2,    0.000,2,   2301.2,2,   2395.0,2,   7.5973,  25,2,  -999.00,9,  -999.00,   -999.0,9,   -999.0,   1.4728,  27.7487
  49NZ20090521,   P21,   170,  1,     12, X12030,2,20090523,0339,-17.5040,-152.9938, 4402,   3170.2,2,   1.6156,2,   1.61555,2,  34.6778,2,  34.6779,2,   167.60,2,   167.66,2,   120.90,2,     0.38,    34.75,2,     0.13,     0.00,2,     0.01,    2.436,2,    0.016,    0.000,2,    0.000,2,    0.000,2,   2298.7,2,   2393.4,2,   7.6008,  25,2,  -999.00,9,  -999.00,   -999.0,9,   -999.0,   1.3797,  27.7603
  49NZ20090521,   P21,   170,  1,     11, X12044,2,20090523,0339,-17.5040,-152.9938, 4402,   3420.1,2,   1.5571,2,   1.55710,2,  34.6830,2,  34.6829,6,   171.07,2,   171.19,2,   121.26,2,     0.39,    34.53,2,     0.13,     0.00,2,     0.01,    2.414,2,    0.016,    0.000,2,    0.000,2,    0.000,2,   2296.1,2,   2392.4,2,   7.6033,  25,2,  -999.00,9,  -999.00,   -999.0,9,   -999.0,   1.2977,  27.7703
  49NZ20090521,   P21,   170,  1,     10, X12048,2,20090523,0339,-17.5040,-152.9938, 4402,   3669.2,2,   1.4822,2,   1.48227,2,  34.6889,2,  34.6890,2,   176.50,2,   176.51,2,   120.56,2,     0.38,    34.20,2,     0.13,     0.00,2,     0.01,    2.391,2,    0.016,    0.000,2,    0.000,2,    0.000,2,   2291.4,2,   2389.2,2,   7.6087,  25,2,  -999.00,9,  -999.00,   -999.0,9,   -999.0,   1.1990,  27.7819
  49NZ20090521,   P21,   170,  1,      9, X12027,2,20090523,0339,-17.5040,-152.9938, 4402,   3920.8,2,   1.4622,2,   1.46210,2,  34.6914,2,  34.6916,2,   179.05,2,   179.28,2,   120.11,2,     0.38,    33.98,2,     0.13,     0.00,2,     0.01,    2.373,2,    0.016,    0.001,2,    0.000,2,    0.000,2,   2289.4,2,   2388.0,2,   7.6102,  25,2,  -999.00,9,  -999.00,   -999.0,9,   -999.0,   1.1529,  27.7871
  49NZ20090521,   P21,   170,  1,      8, X12026,2,20090523,0339,-17.5040,-152.9938, 4402,   4170.2,2,   1.4500,2,   1.44981,2,  34.6935,2,  34.6937,2,   181.13,2,   180.73,2,   119.87,2,     0.38,    33.88,2,     0.13,     0.00,2,     0.01,    2.362,2,    0.016,    0.000,2,    0.000,2,    0.000,2,   2287.6,6,   2386.7,2,   7.6116,  25,2,  -999.00,9,  -999.00,   -999.0,9,   -999.0,   1.1138,  27.7914
  49NZ20090521,   P21,   170,  1,      7, X12025,2,20090523,0339,-17.5040,-152.9938, 4402,   4420.1,2,   1.4620,2,   1.46170,2,  34.6943,2,  34.6944,2,   181.96,2,   181.66,2,   119.83,2,     0.38,    33.82,2,     0.13,     0.00,2,     0.01,    2.360,2,    0.016,    0.000,2,    0.000,2,    0.000,2,   2287.5,2,   2385.9,6,   7.6115,  25,2,  -999.00,9,  -999.00,   -999.0,9,   -999.0,   1.0973,  27.7932
  49NZ20090521,   P21,   170,  1,      6, X12024,9,20090523,0339,-17.5040,-152.9938, 4402,      9.4,2,  28.2382,2,  28.23782,2,  35.9823,2,-999.0000,9,   196.16,2,  -999.00,9,  -999.00,9,  -999.00,  -999.00,9,  -999.00,  -999.00,9,  -999.00, -999.000,9, -999.000, -999.000,9, -999.000,9, -999.000,9,   -999.0,9,   -999.0,9,-999.0000,-999,9,  -999.00,9,  -999.00,   -999.0,9,   -999.0,  28.2360,  23.0560
  49NZ20090521,   P21,   170,  1,      5, X12028,9,20090523,0339,-17.5040,-152.9938, 4402,    869.9,2,   4.4979,2,   4.49828,2,  34.4520,2,-999.0000,9,   152.35,2,  -999.00,9,  -999.00,9,  -999.00,  -999.00,9,  -999.00,  -999.00,9,  -999.00, -999.000,9, -999.000, -999.000,9, -999.000,9, -999.000,9,   -999.0,9,   -999.0,9,-999.0000,-999,9,  -999.00,9,  -999.00,   -999.0,9,   -999.0,   4.4297,  27.3046
  49NZ20090521,   P21,   170,  1,      4, X12022,9,20090523,0339,-17.5040,-152.9938, 4402,   2530.3,2,   1.8743,2,   1.87428,2,  34.6565,2,-999.0000,9,   156.46,2,  -999.00,9,  -999.00,9,  -999.00,  -999.00,9,  -999.00,  -999.00,9,  -999.00, -999.000,9, -999.000, -999.000,9, -999.000,9, -999.000,9,   -999.0,9,   -999.0,9,-999.0000,-999,9,  -999.00,9,  -999.00,   -999.0,9,   -999.0,   1.6936,  27.7202
  49NZ20090521,   P21,   170,  1,      3, X12021,9,20090523,0339,-17.5040,-152.9938, 4402,   2730.8,2,   1.7770,2,   1.77687,2,  34.6646,2,-999.0000,9,   159.81,2,  -999.00,9,  -999.00,9,  -999.00,  -999.00,9,  -999.00,  -999.00,9,  -999.00, -999.000,9, -999.000, -999.000,9, -999.000,9, -999.000,9,   -999.0,9,   -999.0,9,-999.0000,-999,9,  -999.00,9,  -999.00,   -999.0,9,   -999.0,   1.5797,  27.7351
  49NZ20090521,   P21,   170,  1,      2, X12020,2,20090523,0339,-17.5040,-152.9938, 4402,   2929.8,2,   1.6866,2,   1.68660,2,  34.6719,2,-999.0000,9,   163.68,2,  -999.00,9,  -999.00,9,  -999.00,  -999.00,9,  -999.00,  -999.00,9,  -999.00, -999.000,9, -999.000,    0.000,2,    0.000,2,    0.000,2,   -999.0,9,   -999.0,9,-999.0000,-999,9,  -999.00,9,  -999.00,   -999.0,9,   -999.0,   1.4724,  27.7488
  49NZ20090521,   P21,   170,  1,      1, X12019,2,20090523,0339,-17.5040,-152.9938, 4402,   4550.6,2,   1.4614,2,   1.46129,2,  34.6951,2,  34.6953,6,   182.95,2,   182.47,2,   119.48,2,     0.38,    33.75,2,     0.13,     0.00,2,     0.01,    2.355,2,    0.016,    0.000,2,    0.000,2,    0.000,2,   2286.0,2,   2386.0,2,   7.6117,  25,2,  -999.00,9,  -999.00,   -999.0,9,   -999.0,   1.0817,  27.7948