BOTTLE,20111109CCHDOSIOCBG
EXPOCODE,SECT_ID,STNNBR,CASTNO,SAMPNO,BTLNBR,BTLNBR_FLAG_W,DATE,TIME,LATITUDE,LONGITUDE,DEPTH,CTDPRS,CTDPRS_FLAG_W,CTDTMP,CTDTMP_FLAG_W,SBE35,SBE35_FLAG_W,CTDSAL,CTDSAL_FLAG_W,SALNTY,SALNTY_FLAG_W,CTDOXY,CTDOXY_FLAG_W,OXYGEN,OXYGEN_FLAG_W,SILCAT,SILCAT_FLAG_W,SILUNC,NITRAT,NITRAT_FLAG_W,NRAUNC,NITRIT,NITRIT_FLAG_W,NRIUNC,PHSPHT,PHSPHT_FLAG_W,PHPUNC,CFC-11,CFC-11_FLAG_W,CFC-12,CFC-12_FLAG_W,CFC113,CFC113_FLAG_W,TCARBN,TCARBN_FLAG_W,ALKALI,ALKALI_FLAG_W,PH_TOT,PH_TMP,PH_TOT_FLAG_W,DELC13,DELC13_FLAG_W,C13ERR,DELC14,DELC14_FLAG_W,C14ERR,THETA,SIG0
,,,,,,,,,,,METERS,DBAR,,ITS-90,,ITS-90,,PSS-78,,PSS-78,,UMOL/KG,,UMOL/KG,,UMOL/KG,,UMOL/KG,UMOL/KG,,UMOL/KG,UMOL/KG,,UMOL/KG,UMOL/KG,,UMOL/KG,PMOL/KG,,PMOL/KG,,PMOL/KG,,UMOL/KG,,UMOL/KG,,,DEG C,,/MILLE,,/MILLE,/MILLE,,/MILLE,DEG C,KG/M^3
  49NZ20090521,   P21,   277,  1,      0,   -999,9,20090616,0041,-23.6797, 157.1810, 2189,   -999.0,9,-999.0000,9,-999.00000,9,-999.0000,9,  35.3006,2,  -999.00,9,  -999.00,9,  -999.00,9,  -999.00,  -999.00,9,  -999.00,  -999.00,9,  -999.00, -999.000,9, -999.000, -999.000,9, -999.000,9, -999.000,9,   -999.0,9,   -999.0,9,-999.0000,-999,9,  -999.00,9,  -999.00,   -999.0,9,   -999.0,-999.0000,-999.0000
  49NZ20090521,   P21,   277,  1,     36, X12043,2,20090616,0041,-23.6797, 157.1810, 2189,     10.4,2,  23.0578,2,  23.05764,2,  35.2841,2,  35.2824,2,   212.47,2,   212.36,2,     0.61,2,     0.12,     0.06,2,     0.03,     0.01,2,     0.01,    0.101,2,    0.022,    1.731,2,    1.088,2, -999.000,5,   -999.0,9,   -999.0,9,-999.0000,-999,9,  -999.00,9,  -999.00,   -999.0,9,   -999.0,  23.0557,  24.1330
  49NZ20090521,   P21,   277,  1,     35, X12042,2,20090616,0041,-23.6797, 157.1810, 2189,     49.9,2,  22.8318,2,  22.83203,2,  35.3316,2,  35.3311,2,   212.90,2,   212.75,2,     0.46,2,     0.12,     0.05,2,     0.03,     0.01,2,     0.01,    0.101,2,    0.022,    1.753,2,    1.107,2, -999.000,5,   -999.0,9,   -999.0,9,-999.0000,-999,9,  -999.00,9,  -999.00,   -999.0,9,   -999.0,  22.8217,  24.2365
  49NZ20090521,   P21,   277,  1,     34, X12016,2,20090616,0041,-23.6797, 157.1810, 2189,    100.2,2,  21.9597,2,  21.96140,2,  35.5918,2,  35.5966,2,   181.24,2,   182.10,2,     0.84,2,     0.12,     2.76,2,     0.04,     0.09,2,     0.01,    0.326,2,    0.014,    1.908,6,    1.171,6,    0.187,4,   -999.0,9,   -999.0,9,-999.0000,-999,9,  -999.00,9,  -999.00,   -999.0,9,   -999.0,  21.9399,  24.6845
  49NZ20090521,   P21,   277,  1,     33, X12015,2,20090616,0041,-23.6797, 157.1810, 2189,    150.5,2,  19.7200,2,  19.69977,2,  35.6409,2,  35.6400,2,   178.29,2,   179.77,2,     1.00,2,     0.12,     4.72,2,     0.05,     0.02,2,     0.01,    0.433,2,    0.013,    2.045,2,    1.247,2,    0.055,2,   -999.0,9,   -999.0,9,-999.0000,-999,9,  -999.00,9,  -999.00,   -999.0,9,   -999.0,  19.6924,  25.3318
  49NZ20090521,   P21,   277,  1,     32, X12050,2,20090616,0041,-23.6797, 157.1810, 2189,    202.4,2,  18.4052,2,  18.38727,2,  35.5931,2,  35.5901,2,   178.76,2,   178.64,2,     1.53,2,     0.12,     6.08,2,     0.05,     0.02,2,     0.01,    0.518,2,    0.013,    2.113,2,    1.263,2,    0.022,2,   -999.0,9,   -999.0,9,-999.0000,-999,9,  -999.00,9,  -999.00,   -999.0,9,   -999.0,  18.3698,  25.6343
  49NZ20090521,   P21,   277,  1,     31, X12014,2,20090616,0041,-23.6797, 157.1810, 2189,    249.9,2,  16.9158,2,  16.91939,2,  35.4909,2,  35.4908,6,   179.28,2,   179.04,2,     2.13,2,     0.12,     7.72,2,     0.05,     0.02,2,     0.01,    0.632,2,    0.013,    2.179,2,    1.276,2,    0.025,2,   -999.0,9,   -999.0,9,-999.0000,-999,9,  -999.00,9,  -999.00,   -999.0,9,   -999.0,  16.8745,  25.9210
  49NZ20090521,   P21,   277,  1,     30, X12012,2,20090616,0041,-23.6797, 157.1810, 2189,    300.4,2,  15.8483,2,  15.85509,2,  35.4049,2,  35.4013,2,   182.29,2,   182.43,2,     2.44,2,     0.12,     8.93,2,     0.06,     0.02,2,     0.01,    0.710,2,    0.013,    2.235,2,    1.291,2,    0.023,2,   -999.0,9,   -999.0,9,-999.0000,-999,9,  -999.00,9,  -999.00,   -999.0,9,   -999.0,  15.8008,  26.1048
  49NZ20090521,   P21,   277,  1,     29, X12041,2,20090616,0041,-23.6797, 157.1810, 2189,    401.0,2,  13.2187,2,  13.22009,2,  35.1278,2,  35.1255,2,   186.81,2,   186.99,2,     3.99,2,     0.13,    12.79,2,     0.07,     0.02,2,     0.01,    0.957,2,    0.013,    2.254,6,    1.257,6,    0.030,6,   -999.0,9,   -999.0,9,-999.0000,-999,9,  -999.00,9,  -999.00,   -999.0,9,   -999.0,  13.1624,  26.4591
  49NZ20090521,   P21,   277,  1,     28, X12040,2,20090616,0041,-23.6797, 157.1810, 2189,    500.9,2,   9.9621,2,   9.96234,2,  34.7516,2,  34.7515,6,   195.83,2,   195.85,2,     7.10,2,     0.13,    18.54,2,     0.08,     0.01,2,     0.01,    1.327,2,    0.014,    2.115,2,    1.124,2,    0.040,2,   -999.0,9,   -999.0,9,-999.0000,-999,9,  -999.00,9,  -999.00,   -999.0,9,   -999.0,   9.9034,  26.7745
  49NZ20090521,   P21,   277,  1,     27, X12009,2,20090616,0041,-23.6797, 157.1810, 2189,    600.9,2,   8.0254,2,   8.02735,2,  34.5458,2,  34.5471,2,   202.82,2,   202.77,2,    10.80,2,     0.14,    22.42,2,     0.10,     0.01,2,     0.01,    1.578,2,    0.014,    1.751,6,    0.899,6,    0.040,6,   -999.0,9,   -999.0,9,-999.0000,-999,9,  -999.00,9,  -999.00,   -999.0,9,   -999.0,   7.9633,  26.9226
  49NZ20090521,   P21,   277,  1,     26, X12008,2,20090616,0041,-23.6797, 157.1810, 2189,    701.6,2,   6.6745,2,   6.67559,2,  34.4434,2,  34.4433,2,   203.04,2,   202.95,2,    17.37,2,     0.16,    25.62,2,     0.10,     0.01,2,     0.01,    1.793,2,    0.015,    1.193,2,    0.605,2,    0.024,2,   -999.0,9,   -999.0,9,-999.0000,-999,9,  -999.00,9,  -999.00,   -999.0,9,   -999.0,   6.6087,  27.0335
  49NZ20090521,   P21,   277,  1,     25, X12007,2,20090616,0041,-23.6797, 157.1810, 2189,    800.0,2,   5.8627,2,   5.86302,2,  34.4210,2,  34.4208,2,   195.29,2,   195.52,2,    25.89,2,     0.18,    28.00,2,     0.11,     0.01,2,     0.01,    1.958,2,    0.015,    0.759,2,    0.389,2,    0.019,2,   -999.0,9,   -999.0,9,-999.0000,-999,9,  -999.00,9,  -999.00,   -999.0,9,   -999.0,   5.7921,  27.1213
  49NZ20090521,   P21,   277,  1,     24, X12035,2,20090616,0041,-23.6797, 157.1810, 2189,    900.4,2,   5.1271,2,   5.12739,2,  34.4302,2,  34.4306,2,   185.80,2,   185.83,2,    37.17,2,     0.20,    30.00,2,     0.12,     0.01,2,     0.01,    2.099,2,    0.015,    0.459,2,    0.237,2,    0.019,2,   -999.0,9,   -999.0,9,-999.0000,-999,9,  -999.00,9,  -999.00,   -999.0,9,   -999.0,   5.0520,  27.2175
  49NZ20090521,   P21,   277,  1,     23, X12038,2,20090616,0041,-23.6797, 157.1810, 2189,   1001.7,2,   4.5895,2,   4.58989,2,  34.4595,2,  34.4599,6,   176.48,2,   176.54,2,    49.01,2,     0.23,    31.39,2,     0.12,     0.01,2,     0.01,    2.204,2,    0.016,    0.273,2,    0.146,2,    0.007,2,   -999.0,9,   -999.0,9,-999.0000,-999,9,  -999.00,9,  -999.00,   -999.0,9,   -999.0,   4.5092,  27.3019
  49NZ20090521,   P21,   277,  1,     22, X12034,2,20090616,0041,-23.6797, 157.1810, 2189,   1200.8,2,   3.8022,2,   3.80222,2,  34.5181,2,  34.5185,2,   160.33,2,   160.39,2,    70.06,2,     0.27,    33.42,2,     0.13,     0.01,2,     0.01,    2.361,2,    0.016,    0.076,2,    0.044,2,    0.000,2,   -999.0,9,   -999.0,9,-999.0000,-999,9,  -999.00,9,  -999.00,   -999.0,9,   -999.0,   3.7113,  27.4322
  49NZ20090521,   P21,   277,  1,     21, X12033,2,20090616,0041,-23.6797, 157.1810, 2189,   1400.5,2,   3.3611,2,   3.36110,2,  34.5541,2,  34.5548,2,   153.02,2,   153.14,2,    82.38,2,     0.30,    34.41,2,     0.13,     0.01,2,     0.01,    2.436,2,    0.016,    0.030,2,    0.019,2,    0.000,2,   -999.0,9,   -999.0,9,-999.0000,-999,9,  -999.00,9,  -999.00,   -999.0,9,   -999.0,   3.2577,  27.5051
  49NZ20090521,   P21,   277,  1,     20, X12032,2,20090616,0041,-23.6797, 157.1810, 2189,   1601.0,2,   2.8858,2,   2.88577,2,  34.5963,2,  34.5966,6,   147.69,2,   147.56,2,    94.85,2,     0.33,    35.22,2,     0.13,     0.01,2,     0.01,    2.494,2,    0.016,    0.007,2,    0.004,2,    0.000,2,   -999.0,9,   -999.0,9,-999.0000,-999,9,  -999.00,9,  -999.00,   -999.0,9,   -999.0,   2.7708,  27.5835
  49NZ20090521,   P21,   277,  1,     19, X12046,2,20090616,0041,-23.6797, 157.1810, 2189,   1803.1,2,   2.5997,2,   2.59992,2,  34.6242,2,  34.6250,2,   149.16,2,   149.17,2,    99.84,2,     0.34,    35.09,2,     0.13,     0.01,2,     0.01,    2.494,2,    0.016,    0.004,2,    0.003,2,    0.000,2,   -999.0,9,   -999.0,9,-999.0000,-999,9,  -999.00,9,  -999.00,   -999.0,9,   -999.0,   2.4712,  27.6319
  49NZ20090521,   P21,   277,  1,     18, X12006,2,20090616,0041,-23.6797, 157.1810, 2189,   2000.5,2,   2.3924,2,   2.39240,2,  34.6494,2,  34.6499,2,   155.63,2,   155.60,2,    99.81,2,     0.34,    34.67,2,     0.13,     0.01,2,     0.01,    2.449,2,    0.016,    0.004,2,    0.005,2,    0.000,2,   -999.0,9,   -999.0,9,-999.0000,-999,9,  -999.00,9,  -999.00,   -999.0,9,   -999.0,   2.2499,  27.6706
  49NZ20090521,   P21,   277,  1,     17, X12047,9,20090616,0041,-23.6797, 157.1810, 2189,     10.4,2,  23.0612,2,  23.06595,2,  35.2843,2,-999.0000,9,   212.45,2,  -999.00,9,  -999.00,9,  -999.00,  -999.00,9,  -999.00,  -999.00,9,  -999.00, -999.000,9, -999.000, -999.000,9, -999.000,9, -999.000,9,   -999.0,9,   -999.0,9,-999.0000,-999,9,  -999.00,9,  -999.00,   -999.0,9,   -999.0,  23.0591,  24.1322
  49NZ20090521,   P21,   277,  1,     16, X12004,9,20090616,0041,-23.6797, 157.1810, 2189,     49.8,2,  22.8314,2,  22.83173,2,  35.3317,2,-999.0000,9,   212.80,2,  -999.00,9,  -999.00,9,  -999.00,  -999.00,9,  -999.00,  -999.00,9,  -999.00, -999.000,9, -999.000, -999.000,9, -999.000,9, -999.000,9,   -999.0,9,   -999.0,9,-999.0000,-999,9,  -999.00,9,  -999.00,   -999.0,9,   -999.0,  22.8213,  24.2367
  49NZ20090521,   P21,   277,  1,     15, X12003,9,20090616,0041,-23.6797, 157.1810, 2189,    100.2,2,  21.9549,2,  21.95750,2,  35.5925,2,-999.0000,9,   181.40,2,  -999.00,9,  -999.00,9,  -999.00,  -999.00,9,  -999.00,  -999.00,9,  -999.00, -999.000,9, -999.000, -999.000,9, -999.000,9, -999.000,9,   -999.0,9,   -999.0,9,-999.0000,-999,9,  -999.00,9,  -999.00,   -999.0,9,   -999.0,  21.9351,  24.6864
  49NZ20090521,   P21,   277,  1,     14, X12002,9,20090616,0041,-23.6797, 157.1810, 2189,   1201.2,2,   3.8030,2,   3.80283,2,  34.5180,2,-999.0000,9,   160.39,2,  -999.00,9,  -999.00,9,  -999.00,  -999.00,9,  -999.00,  -999.00,9,  -999.00, -999.000,9, -999.000, -999.000,9, -999.000,9, -999.000,9,   -999.0,9,   -999.0,9,-999.0000,-999,9,  -999.00,9,  -999.00,   -999.0,9,   -999.0,   3.7121,  27.4321
  49NZ20090521,   P21,   277,  1,     13, X12001,9,20090616,0041,-23.6797, 157.1810, 2189,    202.0,2,  18.3828,2,  18.39697,2,  35.5929,2,-999.0000,9,   178.76,2,  -999.00,9,  -999.00,9,  -999.00,  -999.00,9,  -999.00,  -999.00,9,  -999.00, -999.000,9, -999.000, -999.000,9, -999.000,9, -999.000,9,   -999.0,9,   -999.0,9,-999.0000,-999,9,  -999.00,9,  -999.00,   -999.0,9,   -999.0,  18.3475,  25.6397
  49NZ20090521,   P21,   277,  1,     12, X12030,9,20090616,0041,-23.6797, 157.1810, 2189,    250.0,2,  16.9880,2,  16.99333,2,  35.4942,2,-999.0000,9,   179.07,2,  -999.00,9,  -999.00,9,  -999.00,  -999.00,9,  -999.00,  -999.00,9,  -999.00, -999.000,9, -999.000, -999.000,9, -999.000,9, -999.000,9,   -999.0,9,   -999.0,9,-999.0000,-999,9,  -999.00,9,  -999.00,   -999.0,9,   -999.0,  16.9466,  25.9064
  49NZ20090521,   P21,   277,  1,     11, X12044,9,20090616,0041,-23.6797, 157.1810, 2189,    300.2,2,  15.8511,2,  15.84418,2,  35.4052,2,-999.0000,9,   182.45,2,  -999.00,9,  -999.00,9,  -999.00,  -999.00,9,  -999.00,  -999.00,9,  -999.00, -999.000,9, -999.000, -999.000,9, -999.000,9, -999.000,9,   -999.0,9,   -999.0,9,-999.0000,-999,9,  -999.00,9,  -999.00,   -999.0,9,   -999.0,  15.8036,  26.1043
  49NZ20090521,   P21,   277,  1,     10, X12048,9,20090616,0041,-23.6797, 157.1810, 2189,    401.2,2,  13.2136,2,  13.21477,2,  35.1275,2,-999.0000,9,   186.87,2,  -999.00,9,  -999.00,9,  -999.00,  -999.00,9,  -999.00,  -999.00,9,  -999.00, -999.000,9, -999.000, -999.000,9, -999.000,9, -999.000,9,   -999.0,9,   -999.0,9,-999.0000,-999,9,  -999.00,9,  -999.00,   -999.0,9,   -999.0,  13.1573,  26.4600
  49NZ20090521,   P21,   277,  1,      9, X12027,9,20090616,0041,-23.6797, 157.1810, 2189,    501.1,2,   9.9577,2,   9.95808,2,  34.7511,2,-999.0000,9,   195.86,2,  -999.00,9,  -999.00,9,  -999.00,  -999.00,9,  -999.00,  -999.00,9,  -999.00, -999.000,9, -999.000, -999.000,9, -999.000,9, -999.000,9,   -999.0,9,   -999.0,9,-999.0000,-999,9,  -999.00,9,  -999.00,   -999.0,9,   -999.0,   9.8990,  26.7748
  49NZ20090521,   P21,   277,  1,      8, X12026,9,20090616,0041,-23.6797, 157.1810, 2189,    601.3,2,   8.0237,2,   8.02526,2,  34.5456,2,-999.0000,9,   202.89,2,  -999.00,9,  -999.00,9,  -999.00,  -999.00,9,  -999.00,  -999.00,9,  -999.00, -999.000,9, -999.000, -999.000,9, -999.000,9, -999.000,9,   -999.0,9,   -999.0,9,-999.0000,-999,9,  -999.00,9,  -999.00,   -999.0,9,   -999.0,   7.9616,  26.9227
  49NZ20090521,   P21,   277,  1,      7, X12025,9,20090616,0041,-23.6797, 157.1810, 2189,    701.6,2,   6.6746,2,   6.67474,2,  34.4433,2,-999.0000,9,   202.98,2,  -999.00,9,  -999.00,9,  -999.00,  -999.00,9,  -999.00,  -999.00,9,  -999.00, -999.000,9, -999.000, -999.000,9, -999.000,9, -999.000,9,   -999.0,9,   -999.0,9,-999.0000,-999,9,  -999.00,9,  -999.00,   -999.0,9,   -999.0,   6.6088,  27.0334
  49NZ20090521,   P21,   277,  1,      6, X12024,9,20090616,0041,-23.6797, 157.1810, 2189,    800.5,2,   5.8598,2,   5.86075,2,  34.4212,2,-999.0000,9,   195.56,2,  -999.00,9,  -999.00,9,  -999.00,  -999.00,9,  -999.00,  -999.00,9,  -999.00, -999.000,9, -999.000, -999.000,9, -999.000,9, -999.000,9,   -999.0,9,   -999.0,9,-999.0000,-999,9,  -999.00,9,  -999.00,   -999.0,9,   -999.0,   5.7891,  27.1218
  49NZ20090521,   P21,   277,  1,      5, X12028,9,20090616,0041,-23.6797, 157.1810, 2189,    900.7,2,   5.1267,2,   5.12679,2,  34.4302,2,-999.0000,9,   185.83,2,  -999.00,9,  -999.00,9,  -999.00,  -999.00,9,  -999.00,  -999.00,9,  -999.00, -999.000,9, -999.000, -999.000,9, -999.000,9, -999.000,9,   -999.0,9,   -999.0,9,-999.0000,-999,9,  -999.00,9,  -999.00,   -999.0,9,   -999.0,   5.0515,  27.2175
  49NZ20090521,   P21,   277,  1,      4, X12022,9,20090616,0041,-23.6797, 157.1810, 2189,   1001.9,2,   4.5891,2,   4.58904,2,  34.4602,2,-999.0000,9,   176.39,2,  -999.00,9,  -999.00,9,  -999.00,  -999.00,9,  -999.00,  -999.00,9,  -999.00, -999.000,9, -999.000, -999.000,9, -999.000,9, -999.000,9,   -999.0,9,   -999.0,9,-999.0000,-999,9,  -999.00,9,  -999.00,   -999.0,9,   -999.0,   4.5088,  27.3025
  49NZ20090521,   P21,   277,  1,      3, X12021,9,20090616,0041,-23.6797, 157.1810, 2189,    150.4,2,  19.6919,2,  19.70378,2,  35.6420,2,-999.0000,9,   178.31,2,  -999.00,9,  -999.00,9,  -999.00,  -999.00,9,  -999.00,  -999.00,9,  -999.00, -999.000,9, -999.000, -999.000,9, -999.000,9, -999.000,9,   -999.0,9,   -999.0,9,-999.0000,-999,9,  -999.00,9,  -999.00,   -999.0,9,   -999.0,  19.6643,  25.3399
  49NZ20090521,   P21,   277,  1,      2, X12020,9,20090616,0041,-23.6797, 157.1810, 2189,   1400.6,2,   3.3607,2,   3.36082,2,  34.5542,2,-999.0000,9,   153.04,2,  -999.00,9,  -999.00,9,  -999.00,  -999.00,9,  -999.00,  -999.00,9,  -999.00, -999.000,9, -999.000, -999.000,9, -999.000,9, -999.000,9,   -999.0,9,   -999.0,9,-999.0000,-999,9,  -999.00,9,  -999.00,   -999.0,9,   -999.0,   3.2573,  27.5052
  49NZ20090521,   P21,   277,  1,      1, X12019,2,20090616,0041,-23.6797, 157.1810, 2189,   2196.5,2,   2.1737,2,   2.17357,2,  34.6813,2,  34.6817,6,   167.65,2,   167.51,2,    96.32,2,     0.33,    33.59,2,     0.13,     0.01,2,     0.01,    2.363,2,    0.016,    0.010,2,    0.007,2,    0.000,2,   -999.0,9,   -999.0,9,-999.0000,-999,9,  -999.00,9,  -999.00,   -999.0,9,   -999.0,   2.0174,  27.7150