BOTTLE,20111109CCHDOSIOCBG
EXPOCODE,SECT_ID,STNNBR,CASTNO,SAMPNO,BTLNBR,BTLNBR_FLAG_W,DATE,TIME,LATITUDE,LONGITUDE,DEPTH,CTDPRS,CTDPRS_FLAG_W,CTDTMP,CTDTMP_FLAG_W,SBE35,SBE35_FLAG_W,CTDSAL,CTDSAL_FLAG_W,SALNTY,SALNTY_FLAG_W,CTDOXY,CTDOXY_FLAG_W,OXYGEN,OXYGEN_FLAG_W,SILCAT,SILCAT_FLAG_W,SILUNC,NITRAT,NITRAT_FLAG_W,NRAUNC,NITRIT,NITRIT_FLAG_W,NRIUNC,PHSPHT,PHSPHT_FLAG_W,PHPUNC,CFC-11,CFC-11_FLAG_W,CFC-12,CFC-12_FLAG_W,CFC113,CFC113_FLAG_W,TCARBN,TCARBN_FLAG_W,ALKALI,ALKALI_FLAG_W,PH_TOT,PH_TMP,PH_TOT_FLAG_W,DELC13,DELC13_FLAG_W,C13ERR,DELC14,DELC14_FLAG_W,C14ERR,THETA,SIG0
,,,,,,,,,,,METERS,DBAR,,ITS-90,,ITS-90,,PSS-78,,PSS-78,,UMOL/KG,,UMOL/KG,,UMOL/KG,,UMOL/KG,UMOL/KG,,UMOL/KG,UMOL/KG,,UMOL/KG,UMOL/KG,,UMOL/KG,PMOL/KG,,PMOL/KG,,PMOL/KG,,UMOL/KG,,UMOL/KG,,,DEG C,,/MILLE,,/MILLE,/MILLE,,/MILLE,DEG C,KG/M^3
  49NZ20090521,   P21,   180,  1,      0,   -999,9,20090528,1309,-17.4942,-159.6695, 5123,   -999.0,9,-999.0000,9,-999.00000,9,-999.0000,9,  35.7453,2,  -999.00,9,  -999.00,9,  -999.00,9,  -999.00,  -999.00,9,  -999.00,  -999.00,9,  -999.00, -999.000,9, -999.000, -999.000,9, -999.000,9, -999.000,9,   -999.0,9,   -999.0,9,-999.0000,-999,9,  -999.00,9,  -999.00,   -999.0,9,   -999.0,-999.0000,-999.0000
  49NZ20090521,   P21,   180,  1,     36, X12043,2,20090528,1309,-17.4942,-159.6695, 5123,     11.3,2,  27.6928,2,  27.69237,2,  35.7070,2,  35.7052,2,   197.66,2,   198.37,2,     0.66,2,     0.12,     0.07,2,     0.03,     0.01,2,     0.01,    0.136,2,    0.019,    1.455,2,    0.932,2, -999.000,5,   1988.3,2,   2349.2,2,   8.1292,  25,6,  -999.00,9,  -999.00,   -999.0,9,   -999.0,  27.6902,  23.0276
  49NZ20090521,   P21,   180,  1,     35, X12042,2,20090528,1309,-17.4942,-159.6695, 5123,     50.8,2,  27.9637,2,  27.96296,2,  35.8851,2,  35.8878,2,   196.73,2,   197.71,2,     0.62,2,     0.12,     0.07,2,     0.03,     0.01,2,     0.01,    0.148,2,    0.018,    1.421,2,    0.896,2, -999.000,5,   1997.6,6,   2360.2,2,   8.1299,  25,2,  -999.00,9,  -999.00,   -999.0,9,   -999.0,  27.9517,  23.0763
  49NZ20090521,   P21,   180,  1,     34, X12016,2,20090528,1309,-17.4942,-159.6695, 5123,    101.1,2,  25.3017,2,  25.33326,2,  36.1281,2,  36.1302,2,   206.59,2,   207.09,2,     0.56,2,     0.12,     0.07,2,     0.03,     0.01,2,     0.01,    0.164,2,    0.017,    1.660,6,    1.045,6, -999.000,5,   2030.6,2,   2375.9,6,   8.0999,  25,2,  -999.00,9,  -999.00,   -999.0,9,   -999.0,  25.2795,  24.1084
  49NZ20090521,   P21,   180,  1,     33, X12015,2,20090528,1309,-17.4942,-159.6695, 5123,    150.9,2,  23.7348,2,  23.73456,2,  35.9817,2,  35.9773,2,   192.35,2,   192.74,2,     0.54,2,     0.12,     0.33,2,     0.03,     0.12,2,     0.01,    0.213,2,    0.016,    1.765,2,    1.091,2, -999.000,5,   2044.3,2,   2364.2,2,   8.0620,  25,6,  -999.00,9,  -999.00,   -999.0,9,   -999.0,  23.7031,  24.4728
  49NZ20090521,   P21,   180,  1,     32, X12050,2,20090528,1309,-17.4942,-159.6695, 5123,    200.3,2,  22.3320,2,  22.33003,2,  35.8831,2,  35.8736,2,   178.91,2,   179.53,2,     0.61,2,     0.12,     1.61,2,     0.04,     0.03,2,     0.01,    0.314,2,    0.014,    1.919,2,    1.166,2,    0.149,2,   2065.7,2,   2356.0,2,   8.0172,  25,2,  -999.00,9,  -999.00,   -999.0,9,   -999.0,  22.2918,  24.8066
  49NZ20090521,   P21,   180,  1,     31, X12014,2,20090528,1309,-17.4942,-159.6695, 5123,    251.0,2,  20.5629,2,  20.55723,2,  35.7334,2,  35.7299,6,   179.82,2,   180.16,2,     0.71,2,     0.12,     2.87,2,     0.04,     0.02,2,     0.01,    0.377,2,    0.014,    2.089,2,    1.241,2,    0.066,2,   2076.3,2,   2346.5,2,   7.9830,  25,2,  -999.00,9,  -999.00,   -999.0,9,   -999.0,  20.5153,  25.1838
  49NZ20090521,   P21,   180,  1,     30, X12012,2,20090528,1309,-17.4942,-159.6695, 5123,    300.9,2,  18.4646,2,  18.46435,2,  35.5235,2,  35.5237,2,   189.29,2,   189.65,2,     0.90,2,     0.12,     3.45,2,     0.04,     0.02,2,     0.01,    0.369,2,    0.014,    2.238,2,    1.288,2,    0.059,2,   2075.5,2,   2330.4,2,   7.9617,  25,2,  -999.00,9,  -999.00,   -999.0,9,   -999.0,  18.4117,  25.5705
  49NZ20090521,   P21,   180,  1,     29, X12041,2,20090528,1309,-17.4942,-159.6695, 5123,    400.9,2,  12.7664,2,  12.76416,2,  34.8297,2,  34.8321,2,   160.51,2,   162.15,2,     6.12,2,     0.13,    14.75,2,     0.07,     0.02,2,     0.01,    1.209,2,    0.013,    2.001,6,    1.052,6,    0.026,6,   2134.4,2,   2298.3,2,   7.7855,  25,2,  -999.00,9,  -999.00,   -999.0,9,   -999.0,  12.7116,  26.3184
  49NZ20090521,   P21,   180,  1,     28, X12040,2,20090528,1309,-17.4942,-159.6695, 5123,    500.0,2,   9.0021,2,   9.00708,2,  34.5447,2,  34.5457,6,   148.29,2,   148.71,2,    14.70,2,     0.15,    24.57,2,     0.10,     0.01,2,     0.01,    1.833,2,    0.015,    1.182,2,    0.603,2,    0.020,2,   2177.4,2,   2289.4,2,   7.6630,  25,2,  -999.00,9,  -999.00,   -999.0,9,   -999.0,   8.9471,  26.7700
  49NZ20090521,   P21,   180,  1,     27, X12009,2,20090528,1309,-17.4942,-159.6695, 5123,    599.5,2,   7.0145,2,   7.01498,2,  34.4430,2,  34.4424,2,   157.96,2,   158.04,2,    21.51,2,     0.17,    28.78,2,     0.11,     0.01,2,     0.01,    2.061,2,    0.015,    0.690,6,    0.347,6,    0.010,6,   2192.0,2,   2292.3,2,   7.6285,  25,2,  -999.00,9,  -999.00,   -999.0,9,   -999.0,   6.9572,  26.9859
  49NZ20090521,   P21,   180,  1,     26, X12008,2,20090528,1309,-17.4942,-159.6695, 5123,    699.4,2,   5.7006,2,   5.70115,2,  34.3969,2,  34.3964,2,   167.49,2,   170.48,2,    28.87,2,     0.18,    31.18,2,     0.12,     0.01,2,     0.01,    2.190,2,    0.016,    0.388,2,    0.196,2,    0.000,2,   2199.6,6,   2296.6,2,   7.6175,  25,2,  -999.00,9,  -999.00,   -999.0,9,   -999.0,   5.6402,  27.1209
  49NZ20090521,   P21,   180,  1,     25, X12007,2,20090528,1309,-17.4942,-159.6695, 5123,    799.6,2,   5.0042,2,   5.00759,2,  34.4199,2,  34.4192,2,   160.41,2,   160.86,2,    40.11,2,     0.21,    32.81,2,     0.12,     0.01,2,     0.01,    2.299,2,    0.016,    0.123,2,    0.064,2,    0.000,2,   2214.2,2,   2308.4,6,   7.6027,  25,2,  -999.00,9,  -999.00,   -999.0,9,   -999.0,   4.9388,  27.2224
  49NZ20090521,   P21,   180,  1,     24, X12035,2,20090528,1309,-17.4942,-159.6695, 5123,    900.2,2,   4.3507,2,   4.35048,2,  34.4504,2,  34.4499,2,   155.19,2,   155.68,2,    53.11,2,     0.24,    34.09,2,     0.13,     0.01,2,     0.01,    2.387,2,    0.016,    0.054,2,    0.030,2,    0.000,2,   2233.1,2,   2323.1,2,   7.5893,  25,6,  -999.00,9,  -999.00,   -999.0,9,   -999.0,   4.2809,  27.3194
  49NZ20090521,   P21,   180,  1,     23, X12038,2,20090528,1309,-17.4942,-159.6695, 5123,    999.9,2,   3.9466,2,   3.94625,2,  34.4828,2,  34.4823,6,   150.10,2,   150.44,2,    63.64,2,     0.26,    34.83,2,     0.13,     0.01,2,     0.01,    2.448,2,    0.016,    0.029,2,    0.016,2,    0.000,2,   2245.3,2,   2334.5,2,   7.5800,  25,2,  -999.00,9,  -999.00,   -999.0,9,   -999.0,   3.8714,  27.3879
  49NZ20090521,   P21,   180,  1,     22, X12034,2,20090528,1309,-17.4942,-159.6695, 5123,   1201.9,2,   3.3373,2,   3.33742,2,  34.5288,2,  34.5282,2,   145.63,2,   145.94,2,    79.06,2,     0.29,    35.69,2,     0.13,     0.01,2,     0.01,    2.514,2,    0.016,    0.004,2,    0.002,2,    0.000,2,   2267.2,2,   2352.0,2,   7.5715,  25,2,  -999.00,9,  -999.00,   -999.0,9,   -999.0,   3.2506,  27.4856
  49NZ20090521,   P21,   180,  1,     21, X12033,2,20090528,1309,-17.4942,-159.6695, 5123,   1400.1,2,   2.9338,2,   2.93404,2,  34.5647,2,  34.5641,2,   144.26,2,   144.60,2,    90.56,2,     0.32,    35.96,2,     0.13,     0.01,2,     0.01,    2.535,2,    0.016,    0.003,2,    0.000,2,    0.000,2,   2280.0,2,   2366.0,2,   7.5708,  25,2,  -999.00,9,  -999.00,   -999.0,9,   -999.0,   2.8350,  27.5525
  49NZ20090521,   P21,   180,  1,     20, X12032,2,20090528,1309,-17.4942,-159.6695, 5123,   1599.7,2,   2.6796,2,   2.67971,2,  34.5884,2,  34.5880,2,   144.35,2,   144.46,2,    98.37,2,     0.34,    36.10,2,     0.13,     0.01,2,     0.01,    2.542,2,    0.016,    0.000,2,    0.000,2,    0.000,2,   2289.0,2,   2374.0,2,   7.5717,  25,6,  -999.00,9,  -999.00,   -999.0,9,   -999.0,   2.5673,  27.5950
  49NZ20090521,   P21,   180,  1,     19, X12046,2,20090528,1309,-17.4942,-159.6695, 5123,   1799.5,2,   2.4420,2,   2.44248,2,  34.6092,2,  34.6094,2,   145.39,2,   145.47,2,   105.56,2,     0.35,    36.09,2,     0.13,     0.01,2,     0.01,    2.541,2,    0.016,    0.000,2,    0.000,2,    0.000,2,   2297.9,2,   2382.5,2,   7.5744,  25,2,  -999.00,9,  -999.00,   -999.0,9,   -999.0,   2.3161,  27.6329
  49NZ20090521,   P21,   180,  1,     18, X12006,2,20090528,1309,-17.4942,-159.6695, 5123,   2000.7,2,   2.2672,2,   2.26703,2,  34.6248,2,  34.6248,2,   146.41,2,   146.55,2,   110.65,2,     0.36,    36.10,2,     0.13,     0.01,2,     0.01,    2.538,2,    0.016,    0.000,2,    0.000,2,    0.000,2,   2301.5,2,   2388.0,2,   7.5763,  25,2,  -999.00,9,  -999.00,   -999.0,9,   -999.0,   2.1267,  27.6609
  49NZ20090521,   P21,   180,  1,     17, X12047,2,20090528,1309,-17.4942,-159.6695, 5123,   2199.8,2,   2.1025,2,   2.10240,2,  34.6389,2,  34.6390,2,   148.18,2,   148.19,2,   115.46,2,     0.37,    36.01,2,     0.13,     0.01,2,     0.01,    2.533,2,    0.016,    0.000,2,    0.000,2,    0.000,2,   2305.0,2,   2393.3,2,   7.5794,  25,2,  -999.00,9,  -999.00,   -999.0,9,   -999.0,   1.9473,  27.6865
  49NZ20090521,   P21,   180,  1,     16, X12004,2,20090528,1309,-17.4942,-159.6695, 5123,   2400.5,2,   1.9699,2,   1.96985,2,  34.6503,2,  34.6501,6,   150.96,2,   151.12,2,   118.51,2,     0.38,    35.91,2,     0.13,     0.01,2,     0.01,    2.518,2,    0.016,    0.000,2,    0.000,2,    0.000,2,   2306.5,6,   2394.8,2,   7.5833,  25,2,  -999.00,9,  -999.00,   -999.0,9,   -999.0,   1.7992,  27.7072
  49NZ20090521,   P21,   180,  1,     15, X12003,2,20090528,1309,-17.4942,-159.6695, 5123,   2601.3,2,   1.8655,2,   1.86538,2,  34.6591,2,  34.6587,2,   153.65,2,   153.63,2,   120.72,2,     0.38,    35.70,2,     0.13,     0.01,2,     0.01,    2.504,2,    0.016,    0.000,2,    0.000,2,    0.000,2,   2307.8,2,   2397.9,6,   7.5869,  25,2,  -999.00,9,  -999.00,   -999.0,9,   -999.0,   1.6785,  27.7234
  49NZ20090521,   P21,   180,  1,     14, X12002,2,20090528,1309,-17.4942,-159.6695, 5123,   2800.2,2,   1.7829,2,   1.78296,2,  34.6661,2,  34.6659,2,   156.42,2,   156.58,2,   122.51,2,     0.39,    35.53,2,     0.13,     0.01,2,     0.01,    2.491,2,    0.016,    0.000,2,    0.000,2,    0.000,2,   2305.7,2,   2398.0,2,   7.5903,  25,2,  -999.00,9,  -999.00,   -999.0,9,   -999.0,   1.5790,  27.7364
  49NZ20090521,   P21,   180,  1,     13, X12001,2,20090528,1309,-17.4942,-159.6695, 5123,   3000.4,2,   1.6954,2,   1.69531,2,  34.6731,2,  34.6726,2,   160.14,2,   160.06,2,   123.22,2,     0.39,    35.33,2,     0.13,     0.01,2,     0.01,    2.478,2,    0.016,    0.000,2,    0.000,2,    0.000,2,   2303.1,2,   2398.4,2,   7.5939,  25,2,  -999.00,9,  -999.00,   -999.0,9,   -999.0,   1.4743,  27.7497
  49NZ20090521,   P21,   180,  1,     12, X12030,2,20090528,1309,-17.4942,-159.6695, 5123,   3250.0,2,   1.6039,2,   1.60385,2,  34.6801,2,  34.6799,2,   165.96,2,   165.99,2,   122.81,2,     0.39,    34.85,2,     0.13,     0.01,2,     0.01,    2.434,2,    0.016,    0.000,2,    0.000,2,    0.000,2,   2298.2,2,   2396.6,2,   7.5996,  25,2,  -999.00,9,  -999.00,   -999.0,9,   -999.0,   1.3604,  27.7635
  49NZ20090521,   P21,   180,  1,     11, X12044,2,20090528,1309,-17.4942,-159.6695, 5123,   3501.2,2,   1.5375,2,   1.53742,2,  34.6853,2,  34.6854,2,   171.32,2,   171.42,2,   121.86,2,     0.39,    34.49,2,     0.13,     0.01,2,     0.01,    2.417,2,    0.016,    0.000,2,    0.000,2,    0.000,2,   2294.8,2,   2393.9,2,   7.6037,  25,2,  -999.00,9,  -999.00,   -999.0,9,   -999.0,   1.2703,  27.7740
  49NZ20090521,   P21,   180,  1,     10, X12048,2,20090528,1309,-17.4942,-159.6695, 5123,   3751.7,2,   1.4887,2,   1.48874,2,  34.6894,2,  34.6889,6,   175.99,2,   175.88,2,   120.87,2,     0.38,    34.17,2,     0.13,     0.01,2,     0.01,    2.387,2,    0.016,    0.000,2,    0.000,2,    0.000,2,   2289.0,2,   2389.8,2,   7.6072,  25,2,  -999.00,9,  -999.00,   -999.0,9,   -999.0,   1.1967,  27.7825
  49NZ20090521,   P21,   180,  1,      9, X12027,2,20090528,1309,-17.4942,-159.6695, 5123,   4001.0,2,   1.4577,2,   1.45785,2,  34.6926,2,  34.6922,2,   179.35,2,   179.35,2,   120.11,2,     0.38,    33.83,2,     0.13,     0.01,2,     0.01,    2.367,2,    0.016,    0.000,2,    0.000,2,    0.000,2,   2286.5,2,   2388.1,2,   7.6092,  25,2,  -999.00,9,  -999.00,   -999.0,9,   -999.0,   1.1398,  27.7889
  49NZ20090521,   P21,   180,  1,      8, X12026,2,20090528,1309,-17.4942,-159.6695, 5123,   4250.5,2,   1.4227,2,   1.42267,2,  34.6956,2,  34.6951,2,   182.88,2,   182.59,2,   119.76,2,     0.38,    33.75,2,     0.13,     0.01,2,     0.01,    2.357,2,    0.016,    0.002,2,    0.000,2,    0.000,2,   2284.6,6,   2384.6,2,   7.6111,  25,2,  -999.00,9,  -999.00,   -999.0,9,   -999.0,   1.0783,  27.7955
  49NZ20090521,   P21,   180,  1,      7, X12025,2,20090528,1309,-17.4942,-159.6695, 5123,   4502.2,2,   1.3904,2,   1.39054,2,  34.6985,2,  34.6980,2,   186.50,2,   186.57,2,   118.76,2,     0.38,    33.46,2,     0.13,     0.01,2,     0.01,    2.334,2,    0.016,    0.003,2,    0.000,2,    0.000,2,   2280.1,2,   2383.5,3,   7.6132,  25,2,  -999.00,9,  -999.00,   -999.0,9,   -999.0,   1.0185,  27.8019
  49NZ20090521,   P21,   180,  1,      6, X12024,2,20090528,1309,-17.4942,-159.6695, 5123,   4751.6,2,   1.3161,2,   1.31605,2,  34.7031,2,  34.7029,2,   192.46,2,   192.46,2,   117.95,2,     0.38,    33.08,2,     0.13,     0.01,2,     0.01,    2.302,2,    0.016,    0.005,2,    0.000,2,    0.000,2,   2275.1,2,   2377.2,2,   7.6157,  25,6,  -999.00,9,  -999.00,   -999.0,9,   -999.0,   0.9176,  27.8122
  49NZ20090521,   P21,   180,  1,      5, X12028,2,20090528,1309,-17.4942,-159.6695, 5123,   5000.6,2,   1.2635,2,   1.26345,2,  34.7064,2,  34.7062,2,   197.16,2,   197.32,2,   116.92,2,     0.38,    32.74,2,     0.12,     0.01,2,     0.01,    2.277,2,    0.016,    0.006,2,    0.002,2,    0.000,2,   2266.9,2,   2372.2,2,   7.6178,  25,2,  -999.00,9,  -999.00,   -999.0,9,   -999.0,   0.8371,  27.8201
  49NZ20090521,   P21,   180,  1,      4, X12022,2,20090528,1309,-17.4942,-159.6695, 5123,     11.0,2,  27.6928,2,  27.69192,2,  35.7075,2,-999.0000,9,   197.72,2,  -999.00,9,     0.66,2,     0.12,     0.08,2,     0.03,     0.01,2,     0.01,    0.139,2,    0.019, -999.000,9, -999.000,9, -999.000,9,   -999.0,9,   -999.0,9,-999.0000,-999,9,  -999.00,9,  -999.00,   -999.0,9,   -999.0,  27.6902,  23.0280
  49NZ20090521,   P21,   180,  1,      3, X12021,2,20090528,1309,-17.4942,-159.6695, 5123,     51.0,2,  27.9698,2,  27.97072,2,  35.8845,2,-999.0000,9,   196.64,2,  -999.00,9,     0.83,2,     0.12,     0.12,2,     0.03,     0.01,2,     0.01,    0.163,2,    0.017, -999.000,9, -999.000,9, -999.000,9,   -999.0,9,   -999.0,9,-999.0000,-999,9,  -999.00,9,  -999.00,   -999.0,9,   -999.0,  27.9578,  23.0738
  49NZ20090521,   P21,   180,  1,      2, X12020,2,20090528,1309,-17.4942,-159.6695, 5123,    101.5,2,  25.4137,2,  25.39150,2,  36.1584,2,-999.0000,9,   206.01,2,  -999.00,9,     0.86,2,     0.12,     0.16,2,     0.03,     0.01,2,     0.01,    0.179,2,    0.017, -999.000,9, -999.000,9, -999.000,9,   -999.0,9,   -999.0,9,-999.0000,-999,9,  -999.00,9,  -999.00,   -999.0,9,   -999.0,  25.3913,  24.0968
  49NZ20090521,   P21,   180,  1,      1, X12019,2,20090528,1309,-17.4942,-159.6695, 5123,   5201.2,2,   1.2603,2,   1.26013,2,  34.7070,2,  34.7073,6,   198.72,2,   198.86,2,   116.96,2,     0.38,    32.74,2,     0.12,     0.01,2,     0.01,    2.276,2,    0.016,    0.007,2,    0.004,2,    0.000,2,   2264.3,2,   2370.5,2,   7.6186,  25,2,  -999.00,9,  -999.00,   -999.0,9,   -999.0,   0.8096,  27.8224