BOTTLE,20111109CCHDOSIOCBG
EXPOCODE,SECT_ID,STNNBR,CASTNO,SAMPNO,BTLNBR,BTLNBR_FLAG_W,DATE,TIME,LATITUDE,LONGITUDE,DEPTH,CTDPRS,CTDPRS_FLAG_W,CTDTMP,CTDTMP_FLAG_W,SBE35,SBE35_FLAG_W,CTDSAL,CTDSAL_FLAG_W,SALNTY,SALNTY_FLAG_W,CTDOXY,CTDOXY_FLAG_W,OXYGEN,OXYGEN_FLAG_W,SILCAT,SILCAT_FLAG_W,SILUNC,NITRAT,NITRAT_FLAG_W,NRAUNC,NITRIT,NITRIT_FLAG_W,NRIUNC,PHSPHT,PHSPHT_FLAG_W,PHPUNC,CFC-11,CFC-11_FLAG_W,CFC-12,CFC-12_FLAG_W,CFC113,CFC113_FLAG_W,TCARBN,TCARBN_FLAG_W,ALKALI,ALKALI_FLAG_W,PH_TOT,PH_TMP,PH_TOT_FLAG_W,DELC13,DELC13_FLAG_W,C13ERR,DELC14,DELC14_FLAG_W,C14ERR,THETA,SIG0
,,,,,,,,,,,METERS,DBAR,,ITS-90,,ITS-90,,PSS-78,,PSS-78,,UMOL/KG,,UMOL/KG,,UMOL/KG,,UMOL/KG,UMOL/KG,,UMOL/KG,UMOL/KG,,UMOL/KG,UMOL/KG,,UMOL/KG,PMOL/KG,,PMOL/KG,,PMOL/KG,,UMOL/KG,,UMOL/KG,,,DEG C,,/MILLE,,/MILLE,/MILLE,,/MILLE,DEG C,KG/M^3
  49NZ20090521,   P21,   239,  1,      0,   -999,9,20090609,1421,-18.1482, 168.6010,  867,   -999.0,9,-999.0000,9,-999.00000,9,-999.0000,9,  34.8751,2,  -999.00,9,  -999.00,9,  -999.00,9,  -999.00,  -999.00,9,  -999.00,  -999.00,9,  -999.00, -999.000,9, -999.000, -999.000,9, -999.000,9, -999.000,9,   -999.0,9,   -999.0,9,-999.0000,-999,9,  -999.00,9,  -999.00,   -999.0,9,   -999.0,-999.0000,-999.0000
  49NZ20090521,   P21,   239,  1,     36, X12043,2,20090609,1421,-18.1482, 168.6010,  867,     10.4,2,  26.4869,2,  26.48724,2,  34.8695,2,  34.8679,2,   200.80,2,   201.09,2,     0.82,2,     0.12,     0.09,2,     0.03,     0.02,2,     0.01,    0.071,2,    0.027,    1.519,2,    0.963,2, -999.000,5,   1942.4,2,   2288.2,2,   8.1282,  25,2,  -999.00,9,  -999.00,   -999.0,9,   -999.0,  26.4846,  22.7830
  49NZ20090521,   P21,   239,  1,     35, X12042,2,20090609,1421,-18.1482, 168.6010,  867,     50.8,2,  26.4966,2,  26.49655,2,  34.8691,2,  34.8672,2,   200.55,2,   200.91,2,     0.79,2,     0.12,     0.07,2,     0.03,     0.02,2,     0.01,    0.073,2,    0.027,    1.525,2,    0.978,2, -999.000,5,   1942.3,6,   2288.1,2,   8.1274,  25,2,  -999.00,9,  -999.00,   -999.0,9,   -999.0,  26.4851,  22.7825
  49NZ20090521,   P21,   239,  1,     34, X12016,2,20090609,1421,-18.1482, 168.6010,  867,    100.5,2,  26.2303,2,  26.22959,2,  35.0760,2,  35.0789,2,   186.69,2,   187.13,2,     0.85,2,     0.12,     0.66,2,     0.03,     0.15,2,     0.01,    0.174,2,    0.017,    1.584,6,    1.010,6, -999.000,5,   1975.8,2,   2301.7,6,   8.0923,  25,2,  -999.00,9,  -999.00,   -999.0,9,   -999.0,  26.2077,  23.0257
  49NZ20090521,   P21,   239,  1,     33, X12015,2,20090609,1421,-18.1482, 168.6010,  867,    150.8,2,  23.7366,2,  23.73763,2,  35.7350,2,  35.7323,2,   157.28,2,   157.68,2,     1.02,2,     0.12,     3.45,2,     0.04,     0.04,2,     0.01,    0.441,2,    0.013,    1.793,2,    1.113,2,    0.126,2,   2060.3,2,   2343.3,2,   8.0065,  25,6,  -999.00,9,  -999.00,   -999.0,9,   -999.0,  23.7050,  24.2853
  49NZ20090521,   P21,   239,  1,     32, X12050,2,20090609,1421,-18.1482, 168.6010,  867,    201.1,2,  22.1440,2,  22.14506,2,  35.8415,2,  35.8408,2,   152.89,2,   153.06,2,     1.18,2,     0.12,     4.93,2,     0.05,     0.02,2,     0.01,    0.540,2,    0.013,    1.916,2,    1.169,2,    0.074,2,   2088.8,2,   2352.0,2,   7.9706,  25,2,  -999.00,9,  -999.00,   -999.0,9,   -999.0,  22.1038,  24.8281
  49NZ20090521,   P21,   239,  1,     31, X12014,2,20090609,1421,-18.1482, 168.6010,  867,    251.0,2,  20.9274,2,  20.92840,2,  35.7551,2,  35.7542,6,   155.50,2,   155.49,2,     1.46,2,     0.12,     5.61,2,     0.05,     0.02,2,     0.01,    0.571,2,    0.013,    2.001,2,    1.197,2,    0.045,2,   2092.7,2,   2347.0,2,   7.9527,  25,2,  -999.00,9,  -999.00,   -999.0,9,   -999.0,  20.8792,  25.1018
  49NZ20090521,   P21,   239,  1,     30, X12012,2,20090609,1421,-18.1482, 168.6010,  867,    300.3,2,  17.9174,2,  17.91583,2,  35.4867,2,  35.4876,2,   165.71,2,   165.81,2,     2.11,2,     0.12,     7.29,2,     0.05,     0.02,2,     0.01,    0.653,2,    0.013,    2.138,2,    1.250,2,    0.024,2,   2099.5,2,   2329.2,2,   7.9125,  25,2,  -999.00,9,  -999.00,   -999.0,9,   -999.0,  17.8657,  25.6781
  49NZ20090521,   P21,   239,  1,     29, X12041,2,20090609,1421,-18.1482, 168.6010,  867,    400.8,2,  12.9217,2,  12.92649,2,  34.9500,2,  34.9517,2,   161.48,2,   161.25,2,     6.60,2,     0.13,    15.21,2,     0.08,     0.01,2,     0.01,    1.202,2,    0.013,    1.864,6,    1.017,6,    0.021,6,   2135.7,2,   2303.6,2,   7.7899,  25,2,  -999.00,9,  -999.00,   -999.0,9,   -999.0,  12.8664,  26.3809
  49NZ20090521,   P21,   239,  1,     28, X12040,2,20090609,1421,-18.1482, 168.6010,  867,    499.8,2,  10.1078,2,  10.10743,2,  34.6897,2,  34.6890,6,   174.02,2,   173.72,2,     9.81,2,     0.14,    19.93,2,     0.09,     0.01,2,     0.01,    1.486,2,    0.014,    1.677,2,    0.876,2,    0.031,2,   2149.5,2,   2292.5,2,   7.7349,  25,2,  -999.00,9,  -999.00,   -999.0,9,   -999.0,  10.0487,  26.7013
  49NZ20090521,   P21,   239,  1,     27, X12009,2,20090609,1421,-18.1482, 168.6010,  867,    601.5,2,   8.1358,2,   8.13672,2,  34.5259,2,  34.5269,2,   184.92,2,   184.21,2,    13.63,2,     0.15,    23.74,2,     0.10,     0.01,2,     0.01,    1.704,2,    0.014,    1.395,6,    0.713,6,    0.020,6,   2160.7,2,   2289.6,2,   7.6992,  25,2,  -999.00,9,  -999.00,   -999.0,9,   -999.0,   8.0732,  26.8906
  49NZ20090521,   P21,   239,  1,     26, X12008,2,20090609,1421,-18.1482, 168.6010,  867,    699.8,2,   6.5209,2,   6.52078,2,  34.4304,2,  34.4301,2,   191.37,2,   190.61,2,    20.81,2,     0.16,    27.05,2,     0.11,     0.01,2,     0.01,    1.906,2,    0.015,    0.976,2,    0.495,2,    0.012,2,   2174.2,6,   2292.2,2,   7.6716,  25,2,  -999.00,9,  -999.00,   -999.0,9,   -999.0,   6.4561,  27.0435
  49NZ20090521,   P21,   239,  1,     25, X12007,2,20090609,1421,-18.1482, 168.6010,  867,    800.3,2,   5.1044,2,   5.10391,2,  34.4265,2,  34.4271,2,   178.59,2,   177.42,2,    38.90,2,     0.20,    30.87,2,     0.12,     0.01,2,     0.01,    2.165,2,    0.015,    0.407,2,    0.207,2,    0.007,2,   2204.2,2,   2309.0,6,   7.6310,  25,2,  -999.00,9,  -999.00,   -999.0,9,   -999.0,   5.0383,  27.2161
  49NZ20090521,   P21,   239,  1,     24, X12035,9,20090609,1421,-18.1482, 168.6010,  867,   -999.0,9,-999.0000,9,-999.00000,9,-999.0000,9,-999.0000,9,  -999.00,9,  -999.00,9,  -999.00,9,  -999.00,  -999.00,9,  -999.00,  -999.00,9,  -999.00, -999.000,9, -999.000, -999.000,9, -999.000,9, -999.000,9,   -999.0,9,   -999.0,9,-999.0000,-999,9,  -999.00,9,  -999.00,   -999.0,9,   -999.0,-999.0000,-999.0000
  49NZ20090521,   P21,   239,  1,     23, X12038,9,20090609,1421,-18.1482, 168.6010,  867,   -999.0,9,-999.0000,9,-999.00000,9,-999.0000,9,-999.0000,9,  -999.00,9,  -999.00,9,  -999.00,9,  -999.00,  -999.00,9,  -999.00,  -999.00,9,  -999.00, -999.000,9, -999.000, -999.000,9, -999.000,9, -999.000,9,   -999.0,9,   -999.0,9,-999.0000,-999,9,  -999.00,9,  -999.00,   -999.0,9,   -999.0,-999.0000,-999.0000
  49NZ20090521,   P21,   239,  1,     22, X12034,9,20090609,1421,-18.1482, 168.6010,  867,   -999.0,9,-999.0000,9,-999.00000,9,-999.0000,9,-999.0000,9,  -999.00,9,  -999.00,9,  -999.00,9,  -999.00,  -999.00,9,  -999.00,  -999.00,9,  -999.00, -999.000,9, -999.000, -999.000,9, -999.000,9, -999.000,9,   -999.0,9,   -999.0,9,-999.0000,-999,9,  -999.00,9,  -999.00,   -999.0,9,   -999.0,-999.0000,-999.0000
  49NZ20090521,   P21,   239,  1,     21, X12033,9,20090609,1421,-18.1482, 168.6010,  867,   -999.0,9,-999.0000,9,-999.00000,9,-999.0000,9,-999.0000,9,  -999.00,9,  -999.00,9,  -999.00,9,  -999.00,  -999.00,9,  -999.00,  -999.00,9,  -999.00, -999.000,9, -999.000, -999.000,9, -999.000,9, -999.000,9,   -999.0,9,   -999.0,9,-999.0000,-999,9,  -999.00,9,  -999.00,   -999.0,9,   -999.0,-999.0000,-999.0000
  49NZ20090521,   P21,   239,  1,     20, X12032,9,20090609,1421,-18.1482, 168.6010,  867,   -999.0,9,-999.0000,9,-999.00000,9,-999.0000,9,-999.0000,9,  -999.00,9,  -999.00,9,  -999.00,9,  -999.00,  -999.00,9,  -999.00,  -999.00,9,  -999.00, -999.000,9, -999.000, -999.000,9, -999.000,9, -999.000,9,   -999.0,9,   -999.0,9,-999.0000,-999,9,  -999.00,9,  -999.00,   -999.0,9,   -999.0,-999.0000,-999.0000
  49NZ20090521,   P21,   239,  1,     19, X12046,9,20090609,1421,-18.1482, 168.6010,  867,   -999.0,9,-999.0000,9,-999.00000,9,-999.0000,9,-999.0000,9,  -999.00,9,  -999.00,9,  -999.00,9,  -999.00,  -999.00,9,  -999.00,  -999.00,9,  -999.00, -999.000,9, -999.000, -999.000,9, -999.000,9, -999.000,9,   -999.0,9,   -999.0,9,-999.0000,-999,9,  -999.00,9,  -999.00,   -999.0,9,   -999.0,-999.0000,-999.0000
  49NZ20090521,   P21,   239,  1,     18, X12006,9,20090609,1421,-18.1482, 168.6010,  867,     10.3,2,  26.4868,2,  26.48761,2,  34.8693,2,-999.0000,9,   200.70,2,  -999.00,9,  -999.00,9,  -999.00,  -999.00,9,  -999.00,  -999.00,9,  -999.00, -999.000,9, -999.000, -999.000,9, -999.000,9, -999.000,9,   -999.0,9,   -999.0,9,-999.0000,-999,9,  -999.00,9,  -999.00,   -999.0,9,   -999.0,  26.4845,  22.7829
  49NZ20090521,   P21,   239,  1,     17, X12047,9,20090609,1421,-18.1482, 168.6010,  867,     50.7,2,  26.4936,2,  26.49336,2,  34.8689,2,-999.0000,9,   200.54,2,  -999.00,9,  -999.00,9,  -999.00,  -999.00,9,  -999.00,  -999.00,9,  -999.00, -999.000,9, -999.000, -999.000,9, -999.000,9, -999.000,9,   -999.0,9,   -999.0,9,-999.0000,-999,9,  -999.00,9,  -999.00,   -999.0,9,   -999.0,  26.4821,  22.7833
  49NZ20090521,   P21,   239,  1,     16, X12004,9,20090609,1421,-18.1482, 168.6010,  867,    100.7,2,  26.2351,2,  26.23464,2,  35.0761,2,-999.0000,9,   186.87,2,  -999.00,9,  -999.00,9,  -999.00,  -999.00,9,  -999.00,  -999.00,9,  -999.00, -999.000,9, -999.000, -999.000,9, -999.000,9, -999.000,9,   -999.0,9,   -999.0,9,-999.0000,-999,9,  -999.00,9,  -999.00,   -999.0,9,   -999.0,  26.2125,  23.0243
  49NZ20090521,   P21,   239,  1,     15, X12003,9,20090609,1421,-18.1482, 168.6010,  867,    151.0,2,  23.7320,2,  23.73463,2,  35.7364,2,-999.0000,9,   157.28,2,  -999.00,9,  -999.00,9,  -999.00,  -999.00,9,  -999.00,  -999.00,9,  -999.00, -999.000,9, -999.000, -999.000,9, -999.000,9, -999.000,9,   -999.0,9,   -999.0,9,-999.0000,-999,9,  -999.00,9,  -999.00,   -999.0,9,   -999.0,  23.7004,  24.2877
  49NZ20090521,   P21,   239,  1,     14, X12002,9,20090609,1421,-18.1482, 168.6010,  867,    201.1,2,  22.1664,2,  22.17287,2,  35.8424,2,-999.0000,9,   152.81,2,  -999.00,9,  -999.00,9,  -999.00,  -999.00,9,  -999.00,  -999.00,9,  -999.00, -999.000,9, -999.000, -999.000,9, -999.000,9, -999.000,9,   -999.0,9,   -999.0,9,-999.0000,-999,9,  -999.00,9,  -999.00,   -999.0,9,   -999.0,  22.1262,  24.8225
  49NZ20090521,   P21,   239,  1,     13, X12001,9,20090609,1421,-18.1482, 168.6010,  867,    251.2,2,  20.9224,2,  20.92285,2,  35.7553,2,-999.0000,9,   155.57,2,  -999.00,9,  -999.00,9,  -999.00,  -999.00,9,  -999.00,  -999.00,9,  -999.00, -999.000,9, -999.000, -999.000,9, -999.000,9, -999.000,9,   -999.0,9,   -999.0,9,-999.0000,-999,9,  -999.00,9,  -999.00,   -999.0,9,   -999.0,  20.8742,  25.1033
  49NZ20090521,   P21,   239,  1,     12, X12030,9,20090609,1421,-18.1482, 168.6010,  867,    299.9,2,  17.8941,2,  17.85826,2,  35.4850,2,-999.0000,9,   165.94,2,  -999.00,9,  -999.00,9,  -999.00,  -999.00,9,  -999.00,  -999.00,9,  -999.00, -999.000,9, -999.000, -999.000,9, -999.000,9, -999.000,9,   -999.0,9,   -999.0,9,-999.0000,-999,9,  -999.00,9,  -999.00,   -999.0,9,   -999.0,  17.8425,  25.6825
  49NZ20090521,   P21,   239,  1,     11, X12044,9,20090609,1421,-18.1482, 168.6010,  867,    401.5,2,  12.9117,2,  12.92142,2,  34.9496,2,-999.0000,9,   161.72,2,  -999.00,9,  -999.00,9,  -999.00,  -999.00,9,  -999.00,  -999.00,9,  -999.00, -999.000,9, -999.000, -999.000,9, -999.000,9, -999.000,9,   -999.0,9,   -999.0,9,-999.0000,-999,9,  -999.00,9,  -999.00,   -999.0,9,   -999.0,  12.8563,  26.3826
  49NZ20090521,   P21,   239,  1,     10, X12048,9,20090609,1421,-18.1482, 168.6010,  867,    499.5,2,  10.1097,2,  10.11167,2,  34.6902,2,-999.0000,9,   174.12,2,  -999.00,9,  -999.00,9,  -999.00,  -999.00,9,  -999.00,  -999.00,9,  -999.00, -999.000,9, -999.000, -999.000,9, -999.000,9, -999.000,9,   -999.0,9,   -999.0,9,-999.0000,-999,9,  -999.00,9,  -999.00,   -999.0,9,   -999.0,  10.0507,  26.7014
  49NZ20090521,   P21,   239,  1,      9, X12027,9,20090609,1421,-18.1482, 168.6010,  867,    601.4,2,   8.1342,2,   8.13482,2,  34.5259,2,-999.0000,9,   184.95,2,  -999.00,9,  -999.00,9,  -999.00,  -999.00,9,  -999.00,  -999.00,9,  -999.00, -999.000,9, -999.000, -999.000,9, -999.000,9, -999.000,9,   -999.0,9,   -999.0,9,-999.0000,-999,9,  -999.00,9,  -999.00,   -999.0,9,   -999.0,   8.0716,  26.8908
  49NZ20090521,   P21,   239,  1,      8, X12026,9,20090609,1421,-18.1482, 168.6010,  867,    699.6,2,   6.5377,2,   6.54471,2,  34.4317,2,-999.0000,9,   191.30,2,  -999.00,9,  -999.00,9,  -999.00,  -999.00,9,  -999.00,  -999.00,9,  -999.00, -999.000,9, -999.000, -999.000,9, -999.000,9, -999.000,9,   -999.0,9,   -999.0,9,-999.0000,-999,9,  -999.00,9,  -999.00,   -999.0,9,   -999.0,   6.4728,  27.0423
  49NZ20090521,   P21,   239,  1,      7, X12025,9,20090609,1421,-18.1482, 168.6010,  867,    800.8,2,   5.1057,2,   5.10557,2,  34.4267,2,-999.0000,9,   178.66,2,  -999.00,9,  -999.00,9,  -999.00,  -999.00,9,  -999.00,  -999.00,9,  -999.00, -999.000,9, -999.000, -999.000,9, -999.000,9, -999.000,9,   -999.0,9,   -999.0,9,-999.0000,-999,9,  -999.00,9,  -999.00,   -999.0,9,   -999.0,   5.0396,  27.2161
  49NZ20090521,   P21,   239,  1,      6, X12024,9,20090609,1421,-18.1482, 168.6010,  867,   -999.0,9,-999.0000,9,-999.00000,9,-999.0000,9,-999.0000,9,  -999.00,9,  -999.00,9,  -999.00,9,  -999.00,  -999.00,9,  -999.00,  -999.00,9,  -999.00, -999.000,9, -999.000, -999.000,9, -999.000,9, -999.000,9,   -999.0,9,   -999.0,9,-999.0000,-999,9,  -999.00,9,  -999.00,   -999.0,9,   -999.0,-999.0000,-999.0000
  49NZ20090521,   P21,   239,  1,      5, X12028,9,20090609,1421,-18.1482, 168.6010,  867,   -999.0,9,-999.0000,9,-999.00000,9,-999.0000,9,-999.0000,9,  -999.00,9,  -999.00,9,  -999.00,9,  -999.00,  -999.00,9,  -999.00,  -999.00,9,  -999.00, -999.000,9, -999.000, -999.000,9, -999.000,9, -999.000,9,   -999.0,9,   -999.0,9,-999.0000,-999,9,  -999.00,9,  -999.00,   -999.0,9,   -999.0,-999.0000,-999.0000
  49NZ20090521,   P21,   239,  1,      4, X12022,9,20090609,1421,-18.1482, 168.6010,  867,   -999.0,9,-999.0000,9,-999.00000,9,-999.0000,9,-999.0000,9,  -999.00,9,  -999.00,9,  -999.00,9,  -999.00,  -999.00,9,  -999.00,  -999.00,9,  -999.00, -999.000,9, -999.000, -999.000,9, -999.000,9, -999.000,9,   -999.0,9,   -999.0,9,-999.0000,-999,9,  -999.00,9,  -999.00,   -999.0,9,   -999.0,-999.0000,-999.0000
  49NZ20090521,   P21,   239,  1,      3, X12021,9,20090609,1421,-18.1482, 168.6010,  867,   -999.0,9,-999.0000,9,-999.00000,9,-999.0000,9,-999.0000,9,  -999.00,9,  -999.00,9,  -999.00,9,  -999.00,  -999.00,9,  -999.00,  -999.00,9,  -999.00, -999.000,9, -999.000, -999.000,9, -999.000,9, -999.000,9,   -999.0,9,   -999.0,9,-999.0000,-999,9,  -999.00,9,  -999.00,   -999.0,9,   -999.0,-999.0000,-999.0000
  49NZ20090521,   P21,   239,  1,      2, X12020,9,20090609,1421,-18.1482, 168.6010,  867,   -999.0,9,-999.0000,9,-999.00000,9,-999.0000,9,-999.0000,9,  -999.00,9,  -999.00,9,  -999.00,9,  -999.00,  -999.00,9,  -999.00,  -999.00,9,  -999.00, -999.000,9, -999.000, -999.000,9, -999.000,9, -999.000,9,   -999.0,9,   -999.0,9,-999.0000,-999,9,  -999.00,9,  -999.00,   -999.0,9,   -999.0,-999.0000,-999.0000
  49NZ20090521,   P21,   239,  1,      1, X12019,2,20090609,1421,-18.1482, 168.6010,  867,    859.2,2,   4.6858,2,   4.68874,2,  34.4439,2,  34.4421,6,   173.01,2,   172.26,2,    46.56,2,     0.22,    31.74,2,     0.12,     0.02,2,     0.01,    2.224,2,    0.016,    0.283,2,    0.142,2,    0.000,2,   2217.0,2,   2317.4,2,   7.6193,  25,2,  -999.00,9,  -999.00,   -999.0,9,   -999.0,   4.6172,  27.2776