BOTTLE,20111109CCHDOSIOCBG
EXPOCODE,SECT_ID,STNNBR,CASTNO,SAMPNO,BTLNBR,BTLNBR_FLAG_W,DATE,TIME,LATITUDE,LONGITUDE,DEPTH,CTDPRS,CTDPRS_FLAG_W,CTDTMP,CTDTMP_FLAG_W,SBE35,SBE35_FLAG_W,CTDSAL,CTDSAL_FLAG_W,SALNTY,SALNTY_FLAG_W,CTDOXY,CTDOXY_FLAG_W,OXYGEN,OXYGEN_FLAG_W,SILCAT,SILCAT_FLAG_W,SILUNC,NITRAT,NITRAT_FLAG_W,NRAUNC,NITRIT,NITRIT_FLAG_W,NRIUNC,PHSPHT,PHSPHT_FLAG_W,PHPUNC,CFC-11,CFC-11_FLAG_W,CFC-12,CFC-12_FLAG_W,CFC113,CFC113_FLAG_W,TCARBN,TCARBN_FLAG_W,ALKALI,ALKALI_FLAG_W,PH_TOT,PH_TMP,PH_TOT_FLAG_W,DELC13,DELC13_FLAG_W,C13ERR,DELC14,DELC14_FLAG_W,C14ERR,THETA,SIG0
,,,,,,,,,,,METERS,DBAR,,ITS-90,,ITS-90,,PSS-78,,PSS-78,,UMOL/KG,,UMOL/KG,,UMOL/KG,,UMOL/KG,UMOL/KG,,UMOL/KG,UMOL/KG,,UMOL/KG,UMOL/KG,,UMOL/KG,PMOL/KG,,PMOL/KG,,PMOL/KG,,UMOL/KG,,UMOL/KG,,,DEG C,,/MILLE,,/MILLE,/MILLE,,/MILLE,DEG C,KG/M^3
  49NZ20090521,   P21,   252,  1,      0,   -999,9,20090611,1821,-19.7127, 164.9290, 3261,   -999.0,9,-999.0000,9,-999.00000,9,-999.0000,9,  34.8021,2,  -999.00,9,  -999.00,9,  -999.00,9,  -999.00,  -999.00,9,  -999.00,  -999.00,9,  -999.00, -999.000,9, -999.000, -999.000,9, -999.000,9, -999.000,9,   -999.0,9,   -999.0,9,-999.0000,-999,9,  -999.00,9,  -999.00,   -999.0,9,   -999.0,-999.0000,-999.0000
  49NZ20090521,   P21,   252,  1,     36, X12043,2,20090611,1821,-19.7127, 164.9290, 3261,     10.2,2,  25.5704,2,  25.57084,2,  34.7831,2,  34.7824,2,   204.79,2,   204.60,2,     0.83,2,     0.12,     0.07,2,     0.03,     0.01,2,     0.01,    0.077,2,    0.026,    1.562,2,    0.992,2, -999.000,5,   1938.3,2,   2283.2,2,   8.1248,  25,6,  -999.00,9,  -999.00,   -999.0,9,   -999.0,  25.5682,  23.0035
  49NZ20090521,   P21,   252,  1,     35, X12042,2,20090611,1821,-19.7127, 164.9290, 3261,     50.5,2,  25.4550,2,  25.45463,2,  34.8852,2,  34.8873,2,   204.72,2,   204.81,2,     0.73,2,     0.12,     0.07,2,     0.03,     0.01,2,     0.01,    0.068,2,    0.028,    1.586,2,    1.017,2, -999.000,5,   1946.5,6,   2288.7,2,   8.1198,  25,2,  -999.00,9,  -999.00,   -999.0,9,   -999.0,  25.4439,  23.1188
  49NZ20090521,   P21,   252,  1,     34, X12016,2,20090611,1821,-19.7127, 164.9290, 3261,    100.7,2,  23.7866,2,  23.78012,2,  35.3667,2,  35.3672,2,   198.12,2,   197.77,2,     0.82,2,     0.12,     0.09,2,     0.03,     0.03,2,     0.01,    0.146,2,    0.018,    1.790,6,    1.127,6, -999.000,5,   2003.7,2,   2319.7,6,   8.0654,  25,2,  -999.00,9,  -999.00,   -999.0,9,   -999.0,  23.7655,  23.9884
  49NZ20090521,   P21,   252,  1,     33, X12015,2,20090611,1821,-19.7127, 164.9290, 3261,    150.5,2,  21.9750,2,  21.97477,2,  35.5903,2,  35.5908,2,   171.41,2,   171.11,2,     1.05,2,     0.12,     3.40,2,     0.04,     0.03,2,     0.01,    0.354,2,    0.014,    1.906,2,    1.181,2,    0.120,2,   2052.0,2,   2332.0,2,   8.0026,  25,6,  -999.00,9,  -999.00,   -999.0,9,   -999.0,  21.9452,  24.6819
  49NZ20090521,   P21,   252,  1,     32, X12050,2,20090611,1821,-19.7127, 164.9290, 3261,    200.3,2,  20.5678,2,  20.57067,2,  35.6520,2,  35.6510,2,   169.27,2,   168.96,2,     1.33,2,     0.12,     4.56,2,     0.05,     0.02,2,     0.01,    0.441,2,    0.013,    2.004,2,    1.221,2,    0.076,2,   2072.7,2,   2337.6,2,   7.9724,  25,2,  -999.00,9,  -999.00,   -999.0,9,   -999.0,  20.5299,  25.1178
  49NZ20090521,   P21,   252,  1,     31, X12014,2,20090611,1821,-19.7127, 164.9290, 3261,    250.3,2,  18.6464,2,  18.64740,2,  35.5563,2,  35.5525,6,   167.86,2,   168.39,2,     2.09,2,     0.12,     6.43,2,     0.05,     0.01,2,     0.01,    0.587,2,    0.013,    2.091,2,    1.240,2,    0.071,2,   2092.1,2,   2333.5,2,   7.9307,  25,2,  -999.00,9,  -999.00,   -999.0,9,   -999.0,  18.6021,  25.5477
  49NZ20090521,   P21,   252,  1,     30, X12012,2,20090611,1821,-19.7127, 164.9290, 3261,    300.3,2,  17.0899,2,  17.09941,2,  35.4313,2,  35.4247,2,   174.26,2,   173.99,2,     2.43,2,     0.12,     7.50,2,     0.05,     0.01,2,     0.01,    0.649,2,    0.013,    2.161,2,    1.257,2,    0.049,2,   2098.6,2,   2325.0,2,   7.9075,  25,2,  -999.00,9,  -999.00,   -999.0,9,   -999.0,  17.0399,  25.8358
  49NZ20090521,   P21,   252,  1,     29, X12041,3,20090611,1821,-19.7127, 164.9290, 3261,    400.1,2,  13.3493,2,  13.35024,2,  35.0693,2,  35.0674,2,   180.25,2,   180.49,2,     4.78,2,     0.13,    12.80,2,     0.07,     0.01,2,     0.01,    0.989,2,    0.013,    2.145,6,    1.193,6,    0.061,6,   2122.5,2,   2307.3,2,   7.8289,  25,2,  -999.00,9,  -999.00,   -999.0,9,   -999.0,  13.2928,  26.3873
  49NZ20090521,   P21,   252,  1,     28, X12040,2,20090611,1821,-19.7127, 164.9290, 3261,    499.7,2,  10.1471,2,  10.14644,2,  34.7373,2,  34.7365,6,   191.28,2,   191.33,2,     7.83,2,     0.14,    18.37,2,     0.08,     0.01,2,     0.01,    1.334,2,    0.014,    2.027,2,    1.074,2,    0.058,2,   2140.9,2,   2294.7,2,   7.7611,  25,2,  -999.00,9,  -999.00,   -999.0,9,   -999.0,  10.0879,  26.7318
  49NZ20090521,   P21,   252,  1,     27, X12009,2,20090611,1821,-19.7127, 164.9290, 3261,    599.6,2,   7.9564,2,   7.95258,2,  34.5186,2,  34.5182,2,   192.94,2,   193.14,2,    13.54,2,     0.15,    23.41,2,     0.10,     0.01,2,     0.01,    1.670,2,    0.014,    1.489,6,    0.766,6,    0.067,6,   2159.9,2,   2290.5,2,   7.7077,  25,2,  -999.00,9,  -999.00,   -999.0,9,   -999.0,   7.8948,  26.9114
  49NZ20090521,   P21,   252,  1,     26, X12008,2,20090611,1821,-19.7127, 164.9290, 3261,    700.3,2,   6.5159,2,   6.51805,2,  34.4183,2,  34.4183,2,   198.70,2,   198.38,2,    18.54,2,     0.16,    26.42,2,     0.11,     0.01,2,     0.01,    1.857,2,    0.015,    1.093,2,    0.558,2,    0.034,2,   2170.9,6,   2291.5,2,   7.6820,  25,2,  -999.00,9,  -999.00,   -999.0,9,   -999.0,   6.4511,  27.0347
  49NZ20090521,   P21,   252,  1,     25, X12007,2,20090611,1821,-19.7127, 164.9290, 3261,    800.3,2,   5.6778,2,   5.67807,2,  34.3954,2,  34.3954,2,   191.94,2,   192.10,2,    26.83,2,     0.18,    28.78,2,     0.11,     0.01,2,     0.01,    2.020,2,    0.015,    0.686,2,    0.348,2,    0.033,2,   2185.8,2,   2297.5,6,   7.6570,  25,2,  -999.00,9,  -999.00,   -999.0,9,   -999.0,   5.6083,  27.1236
  49NZ20090521,   P21,   252,  1,     24, X12035,2,20090611,1821,-19.7127, 164.9290, 3261,    901.0,2,   4.8485,2,   4.84822,2,  34.4194,2,  34.4194,2,   177.39,2,   177.59,2,    41.24,2,     0.21,    31.36,2,     0.12,     0.01,2,     0.01,    2.196,2,    0.016,    0.317,2,    0.166,2,    0.017,2,   2211.2,2,   2312.1,2,   7.6263,  25,2,  -999.00,9,  -999.00,   -999.0,9,   -999.0,   4.7752,  27.2405
  49NZ20090521,   P21,   252,  1,     23, X12038,2,20090611,1821,-19.7127, 164.9290, 3261,    998.8,2,   4.2391,2,   4.23829,2,  34.4531,2,  34.4535,6,   169.18,2,   169.36,2,    54.32,2,     0.24,    32.73,2,     0.12,     0.01,2,     0.01,    2.295,2,    0.016,    0.160,2,    0.084,2,    0.025,2,   2229.5,2,   2324.4,2,   7.6102,  25,2,  -999.00,9,  -999.00,   -999.0,9,   -999.0,   4.1618,  27.3342
  49NZ20090521,   P21,   252,  1,     22, X12034,2,20090611,1821,-19.7127, 164.9290, 3261,   1198.8,2,   3.5339,2,   3.53399,2,  34.5130,2,  34.5139,2,   163.26,2,   163.55,2,    72.63,2,     0.28,    33.67,2,     0.13,     0.01,2,     0.01,    2.363,2,    0.016,    0.091,2,    0.046,2,    0.020,2,   2252.7,2,   2346.6,2,   7.6014,  25,2,  -999.00,9,  -999.00,   -999.0,9,   -999.0,   3.4457,  27.4544
  49NZ20090521,   P21,   252,  1,     21, X12033,2,20090611,1821,-19.7127, 164.9290, 3261,   1401.6,2,   3.0889,2,   3.08932,2,  34.5638,2,  34.5643,2,   153.30,2,   153.52,2,    87.99,2,     0.31,    34.75,2,     0.13,     0.01,2,     0.01,    2.447,2,    0.016,    0.028,2,    0.014,2,    0.008,2,   2275.0,2,   2364.0,2,   7.5886,  25,2,  -999.00,9,  -999.00,   -999.0,9,   -999.0,   2.9883,  27.5379
  49NZ20090521,   P21,   252,  1,     20, X12032,2,20090611,1821,-19.7127, 164.9290, 3261,   1600.1,2,   2.7405,2,   2.74041,2,  34.5945,2,  34.5946,2,   152.87,2,   153.18,2,    96.46,2,     0.33,    34.91,2,     0.13,     0.01,2,     0.01,    2.461,2,    0.016,    0.020,2,    0.012,2,    0.000,2,   2285.0,2,   2374.8,2,   7.5884,  25,6,  -999.00,9,  -999.00,   -999.0,9,   -999.0,   2.6274,  27.5947
  49NZ20090521,   P21,   252,  1,     19, X12046,2,20090611,1821,-19.7127, 164.9290, 3261,   1800.7,2,   2.5384,2,   2.53844,2,  34.6165,2,  34.6170,2,   150.82,2,   151.00,2,   102.30,2,     0.34,    35.22,2,     0.13,     0.01,2,     0.01,    2.484,2,    0.016,    0.009,2,    0.004,2,    0.000,2,   2291.5,2,   2380.7,2,   7.5850,  25,2,  -999.00,9,  -999.00,   -999.0,9,   -999.0,   2.4110,  27.6308
  49NZ20090521,   P21,   252,  1,     18, X12006,2,20090611,1821,-19.7127, 164.9290, 3261,   2000.1,2,   2.3460,2,   2.34606,2,  34.6371,2,  34.6374,2,   150.01,2,   150.15,2,   107.34,2,     0.36,    35.35,2,     0.13,     0.01,2,     0.01,    2.497,2,    0.016,    0.002,2,    0.002,2,    0.000,2,   2296.4,2,   2385.4,2,   7.5831,  25,2,  -999.00,9,  -999.00,   -999.0,9,   -999.0,   2.2043,  27.6645
  49NZ20090521,   P21,   252,  1,     17, X12047,2,20090611,1821,-19.7127, 164.9290, 3261,   2199.7,2,   2.1769,2,   2.17701,2,  34.6530,2,  34.6532,2,   151.79,2,   151.81,2,   110.76,2,     0.36,    35.29,2,     0.13,     0.01,2,     0.01,    2.489,2,    0.016,    0.001,2,    0.001,2,    0.000,2,   2301.6,2,   2389.3,2,   7.5851,  25,2,  -999.00,9,  -999.00,   -999.0,9,   -999.0,   2.0204,  27.6921
  49NZ20090521,   P21,   252,  1,     16, X12004,2,20090611,1821,-19.7127, 164.9290, 3261,   2400.8,2,   2.0566,2,   2.05670,2,  34.6643,2,  34.6644,2,   153.48,2,   153.66,2,   113.01,2,     0.37,    35.25,2,     0.13,     0.01,2,     0.01,    2.486,2,    0.016,    0.000,2,    0.000,2,    0.000,2,   2303.0,2,   2391.6,2,   7.5867,  25,2,  -999.00,9,  -999.00,   -999.0,9,   -999.0,   1.8842,  27.7118
  49NZ20090521,   P21,   252,  1,     15, X12003,2,20090611,1821,-19.7127, 164.9290, 3261,   2600.8,2,   1.9735,2,   1.97354,2,  34.6714,2,  34.6711,6,   154.74,2,   154.98,2,   115.08,2,     0.37,    34.99,2,     0.13,     0.01,2,     0.01,    2.475,2,    0.016,    0.000,2,    0.000,2,    0.000,2,   2303.6,2,   2393.8,6,   7.5892,  25,2,  -999.00,9,  -999.00,   -999.0,9,   -999.0,   1.7844,  27.7252
  49NZ20090521,   P21,   252,  1,     14, X12002,2,20090611,1821,-19.7127, 164.9290, 3261,   2800.3,2,   1.9138,2,   1.91379,2,  34.6763,2,  34.6764,2,   155.74,2,   156.00,2,   116.73,2,     0.38,    35.03,2,     0.13,     0.01,2,     0.01,    2.471,2,    0.016,    0.000,2,    0.001,2,    0.000,2,   2304.1,2,   2395.4,2,   7.5903,  25,6,  -999.00,9,  -999.00,   -999.0,9,   -999.0,   1.7072,  27.7350
  49NZ20090521,   P21,   252,  1,     13, X12001,2,20090611,1821,-19.7127, 164.9290, 3261,   3001.9,2,   1.8677,2,   1.86774,2,  34.6802,2,  34.6801,2,   156.70,2,   156.93,2,   118.04,2,     0.38,    35.08,2,     0.13,     0.01,2,     0.01,    2.472,2,    0.016,    0.000,2,    0.001,2,    0.000,2,   2305.3,2,   2397.1,2,   7.5917,  25,2,  -999.00,9,  -999.00,   -999.0,9,   -999.0,   1.6426,  27.7430
  49NZ20090521,   P21,   252,  1,     12, X12030,9,20090611,1821,-19.7127, 164.9290, 3261,    300.6,2,  17.0678,2,  17.07784,2,  35.4293,2,-999.0000,9,   174.34,2,  -999.00,9,  -999.00,9,  -999.00,  -999.00,9,  -999.00,  -999.00,9,  -999.00, -999.000,9, -999.000, -999.000,9, -999.000,9, -999.000,9,   -999.0,9,   -999.0,9,-999.0000,-999,9,  -999.00,9,  -999.00,   -999.0,9,   -999.0,  17.0178,  25.8396
  49NZ20090521,   P21,   252,  1,     11, X12044,9,20090611,1821,-19.7127, 164.9290, 3261,    399.9,2,  13.3571,2,  13.35625,2,  35.0701,2,-999.0000,9,   180.33,2,  -999.00,9,  -999.00,9,  -999.00,  -999.00,9,  -999.00,  -999.00,9,  -999.00, -999.000,9, -999.000, -999.000,9, -999.000,9, -999.000,9,   -999.0,9,   -999.0,9,-999.0000,-999,9,  -999.00,9,  -999.00,   -999.0,9,   -999.0,  13.3007,  26.3863
  49NZ20090521,   P21,   252,  1,     10, X12048,9,20090611,1821,-19.7127, 164.9290, 3261,    499.6,2,  10.1457,2,  10.14606,2,  34.7373,2,-999.0000,9,   191.45,2,  -999.00,9,  -999.00,9,  -999.00,  -999.00,9,  -999.00,  -999.00,9,  -999.00, -999.000,9, -999.000, -999.000,9, -999.000,9, -999.000,9,   -999.0,9,   -999.0,9,-999.0000,-999,9,  -999.00,9,  -999.00,   -999.0,9,   -999.0,  10.0865,  26.7320
  49NZ20090521,   P21,   252,  1,      9, X12027,9,20090611,1821,-19.7127, 164.9290, 3261,    599.6,2,   7.9629,2,   7.96473,2,  34.5194,2,-999.0000,9,   192.90,2,  -999.00,9,  -999.00,9,  -999.00,  -999.00,9,  -999.00,  -999.00,9,  -999.00, -999.000,9, -999.000, -999.000,9, -999.000,9, -999.000,9,   -999.0,9,   -999.0,9,-999.0000,-999,9,  -999.00,9,  -999.00,   -999.0,9,   -999.0,   7.9012,  26.9111
  49NZ20090521,   P21,   252,  1,      8, X12026,9,20090611,1821,-19.7127, 164.9290, 3261,   1401.6,2,   3.0884,2,   3.08866,2,  34.5638,2,-999.0000,9,   153.42,2,  -999.00,9,  -999.00,9,  -999.00,  -999.00,9,  -999.00,  -999.00,9,  -999.00, -999.000,9, -999.000, -999.000,9, -999.000,9, -999.000,9,   -999.0,9,   -999.0,9,-999.0000,-999,9,  -999.00,9,  -999.00,   -999.0,9,   -999.0,   2.9878,  27.5380
  49NZ20090521,   P21,   252,  1,      7, X12025,2,20090611,1821,-19.7127, 164.9290, 3261,     10.1,2,  25.5711,2,  25.57011,2,  34.7835,2,-999.0000,9,   204.65,2,  -999.00,9,     0.63,2,     0.12,     0.07,2,     0.03,     0.01,2,     0.01,    0.087,2,    0.024, -999.000,9, -999.000,9, -999.000,9,   -999.0,9,   -999.0,9,-999.0000,-999,9,  -999.00,9,  -999.00,   -999.0,9,   -999.0,  25.5689,  23.0036
  49NZ20090521,   P21,   252,  1,      6, X12024,2,20090611,1821,-19.7127, 164.9290, 3261,     50.5,2,  25.4544,2,  25.45380,2,  34.8860,2,-999.0000,9,   204.92,2,  -999.00,9,     0.78,2,     0.12,     0.08,2,     0.03,     0.01,2,     0.01,    0.080,2,    0.025, -999.000,9, -999.000,9, -999.000,9,   -999.0,9,   -999.0,9,-999.0000,-999,9,  -999.00,9,  -999.00,   -999.0,9,   -999.0,  25.4433,  23.1196
  49NZ20090521,   P21,   252,  1,      5, X12028,2,20090611,1821,-19.7127, 164.9290, 3261,    100.7,2,  23.7870,2,  23.78770,2,  35.3664,2,-999.0000,9,   198.39,2,  -999.00,9,     0.80,2,     0.12,     0.47,2,     0.03,     0.06,2,     0.01,    0.176,2,    0.017, -999.000,9, -999.000,9, -999.000,9,   -999.0,9,   -999.0,9,-999.0000,-999,9,  -999.00,9,  -999.00,   -999.0,9,   -999.0,  23.7659,  23.9880
  49NZ20090521,   P21,   252,  1,      4, X12022,2,20090611,1821,-19.7127, 164.9290, 3261,    150.6,2,  21.9703,2,  21.96985,2,  35.5909,2,-999.0000,9,   171.38,2,  -999.00,9,     1.11,2,     0.12,     3.50,2,     0.04,     0.03,2,     0.01,    0.367,2,    0.014, -999.000,9, -999.000,9, -999.000,9,   -999.0,9,   -999.0,9,-999.0000,-999,9,  -999.00,9,  -999.00,   -999.0,9,   -999.0,  21.9405,  24.6836
  49NZ20090521,   P21,   252,  1,      3, X12021,2,20090611,1821,-19.7127, 164.9290, 3261,    200.2,2,  20.5693,2,  20.57115,2,  35.6518,2,-999.0000,9,   169.16,2,  -999.00,9,     1.36,2,     0.12,     4.66,2,     0.05,     0.02,2,     0.01,    0.449,2,    0.013, -999.000,9, -999.000,9, -999.000,9,   -999.0,9,   -999.0,9,-999.0000,-999,9,  -999.00,9,  -999.00,   -999.0,9,   -999.0,  20.5314,  25.1172
  49NZ20090521,   P21,   252,  1,      2, X12020,2,20090611,1821,-19.7127, 164.9290, 3261,    250.4,2,  18.6466,2,  18.64659,2,  35.5565,2,-999.0000,9,   168.08,2,  -999.00,9,     2.27,2,     0.12,     6.55,2,     0.05,     0.02,2,     0.01,    0.596,2,    0.013, -999.000,9, -999.000,9, -999.000,9,   -999.0,9,   -999.0,9,-999.0000,-999,9,  -999.00,9,  -999.00,   -999.0,9,   -999.0,  18.6023,  25.5478
  49NZ20090521,   P21,   252,  1,      1, X12019,2,20090611,1821,-19.7127, 164.9290, 3261,   3289.9,2,   1.8379,2,   1.83779,2,  34.6835,2,  34.6837,6,   156.98,2,   157.19,2,   119.50,2,     0.38,    35.06,2,     0.13,     0.01,2,     0.01,    2.472,2,    0.016,    0.000,2,    0.000,2,    0.000,2,   2308.2,2,   2400.7,2,   7.5939,  25,2,  -999.00,9,  -999.00,   -999.0,9,   -999.0,   1.5849,  27.7499