BOTTLE,20111109CCHDOSIOCBG
EXPOCODE,SECT_ID,STNNBR,CASTNO,SAMPNO,BTLNBR,BTLNBR_FLAG_W,DATE,TIME,LATITUDE,LONGITUDE,DEPTH,CTDPRS,CTDPRS_FLAG_W,CTDTMP,CTDTMP_FLAG_W,SBE35,SBE35_FLAG_W,CTDSAL,CTDSAL_FLAG_W,SALNTY,SALNTY_FLAG_W,CTDOXY,CTDOXY_FLAG_W,OXYGEN,OXYGEN_FLAG_W,SILCAT,SILCAT_FLAG_W,SILUNC,NITRAT,NITRAT_FLAG_W,NRAUNC,NITRIT,NITRIT_FLAG_W,NRIUNC,PHSPHT,PHSPHT_FLAG_W,PHPUNC,CFC-11,CFC-11_FLAG_W,CFC-12,CFC-12_FLAG_W,CFC113,CFC113_FLAG_W,TCARBN,TCARBN_FLAG_W,ALKALI,ALKALI_FLAG_W,PH_TOT,PH_TMP,PH_TOT_FLAG_W,DELC13,DELC13_FLAG_W,C13ERR,DELC14,DELC14_FLAG_W,C14ERR,THETA,SIG0
,,,,,,,,,,,METERS,DBAR,,ITS-90,,ITS-90,,PSS-78,,PSS-78,,UMOL/KG,,UMOL/KG,,UMOL/KG,,UMOL/KG,UMOL/KG,,UMOL/KG,UMOL/KG,,UMOL/KG,UMOL/KG,,UMOL/KG,PMOL/KG,,PMOL/KG,,PMOL/KG,,UMOL/KG,,UMOL/KG,,,DEG C,,/MILLE,,/MILLE,/MILLE,,/MILLE,DEG C,KG/M^3
  49NZ20090521,   P21,   237,  1,      0,   -999,9,20090609,0905,-17.9480, 169.0803, 1979,   -999.0,9,-999.0000,9,-999.00000,9,-999.0000,9,  34.8860,2,  -999.00,9,  -999.00,9,  -999.00,9,  -999.00,  -999.00,9,  -999.00,  -999.00,9,  -999.00, -999.000,9, -999.000, -999.000,9, -999.000,9, -999.000,9,   -999.0,9,   -999.0,9,-999.0000,-999,9,  -999.00,9,  -999.00,   -999.0,9,   -999.0,-999.0000,-999.0000
  49NZ20090521,   P21,   237,  1,     36, X12043,2,20090609,0905,-17.9480, 169.0803, 1979,     10.8,2,  26.5342,2,  26.53381,2,  34.8768,2,  34.8742,2,   201.95,2,   201.53,2,     0.68,2,     0.12,     0.09,2,     0.03,     0.01,2,     0.01,    0.071,2,    0.027,    1.557,2,    0.980,2, -999.000,5,   -999.0,9,   -999.0,9,-999.0000,-999,9,  -999.00,9,  -999.00,   -999.0,9,   -999.0,  26.5318,  22.7736
  49NZ20090521,   P21,   237,  1,     35, X12042,2,20090609,0905,-17.9480, 169.0803, 1979,     51.1,2,  26.4037,2,  26.40366,2,  34.8751,2,  34.8733,2,   201.15,2,   201.13,2,     0.58,2,     0.12,     0.08,2,     0.03,     0.01,2,     0.01,    0.078,2,    0.025,    1.564,2,    0.981,2, -999.000,5,   -999.0,9,   -999.0,9,-999.0000,-999,9,  -999.00,9,  -999.00,   -999.0,9,   -999.0,  26.3922,  22.8163
  49NZ20090521,   P21,   237,  1,     34, X12016,2,20090609,0905,-17.9480, 169.0803, 1979,    100.9,2,  25.6653,2,  25.66499,2,  35.3526,2,  35.3405,2,   172.72,2,   173.35,2,     0.84,2,     0.12,     1.64,2,     0.04,     0.09,2,     0.01,    0.284,2,    0.014,    1.714,6,    1.064,6, -999.000,5,   -999.0,9,   -999.0,9,-999.0000,-999,9,  -999.00,9,  -999.00,   -999.0,9,   -999.0,  25.6430,  23.4104
  49NZ20090521,   P21,   237,  1,     33, X12015,2,20090609,0905,-17.9480, 169.0803, 1979,    151.2,2,  23.7832,2,  23.78300,2,  35.7720,2,  35.7787,2,   155.68,2,   155.13,2,     0.91,2,     0.12,     3.59,2,     0.04,     0.03,2,     0.01,    0.443,2,    0.013,    1.874,2,    1.137,2,    0.099,2,   -999.0,9,   -999.0,9,-999.0000,-999,9,  -999.00,9,  -999.00,   -999.0,9,   -999.0,  23.7515,  24.2996
  49NZ20090521,   P21,   237,  1,     32, X12050,2,20090609,0905,-17.9480, 169.0803, 1979,    199.8,2,  21.6693,2,  21.66850,2,  35.7968,2,  35.7972,2,   155.35,2,   154.79,2,     1.13,2,     0.12,     5.21,2,     0.05,     0.02,2,     0.01,    0.548,2,    0.013,    2.018,2,    1.202,2,    0.055,2,   -999.0,9,   -999.0,9,-999.0000,-999,9,  -999.00,9,  -999.00,   -999.0,9,   -999.0,  21.6300,  24.9269
  49NZ20090521,   P21,   237,  1,     31, X12014,2,20090609,0905,-17.9480, 169.0803, 1979,    249.8,2,  19.7254,2,  19.72990,2,  35.6525,2,  35.6518,6,   156.70,2,   156.65,2,     1.67,2,     0.12,     6.58,2,     0.05,     0.02,2,     0.01,    0.650,2,    0.013,    2.109,2,    1.210,2,    0.020,2,   -999.0,9,   -999.0,9,-999.0000,-999,9,  -999.00,9,  -999.00,   -999.0,9,   -999.0,  19.6794,  25.3440
  49NZ20090521,   P21,   237,  1,     30, X12012,2,20090609,0905,-17.9480, 169.0803, 1979,    330.9,2,  16.4978,2,  16.50049,2,  35.3212,2,  35.3187,2,   159.40,2,   159.44,2,     3.45,2,     0.13,     9.84,2,     0.06,     0.02,2,     0.01,    0.861,2,    0.013,    2.125,2,    1.173,2,    0.018,2,   -999.0,9,   -999.0,9,-999.0000,-999,9,  -999.00,9,  -999.00,   -999.0,9,   -999.0,  16.4440,  25.8920
  49NZ20090521,   P21,   237,  1,     29, X12041,2,20090609,0905,-17.9480, 169.0803, 1979,    430.5,2,  12.0264,2,  12.02517,2,  34.8812,2,  34.8769,2,   173.46,2,   173.41,2,     6.50,2,     0.13,    16.03,2,     0.08,     0.02,2,     0.01,    1.230,2,    0.013,    1.989,6,    1.035,6,    0.026,6,   -999.0,9,   -999.0,9,-999.0000,-999,9,  -999.00,9,  -999.00,   -999.0,9,   -999.0,  11.9697,  26.5026
  49NZ20090521,   P21,   237,  1,     28, X12040,2,20090609,0905,-17.9480, 169.0803, 1979,    530.6,2,   8.3708,2,   8.36678,2,  34.5397,2,  34.5448,6,   187.09,2,   186.58,2,    11.86,2,     0.15,    22.89,2,     0.10,     0.01,2,     0.01,    1.652,2,    0.014,    1.569,2,    0.783,2,    0.032,2,   -999.0,9,   -999.0,9,-999.0000,-999,9,  -999.00,9,  -999.00,   -999.0,9,   -999.0,   8.3149,  26.8648
  49NZ20090521,   P21,   237,  1,     27, X12009,2,20090609,0905,-17.9480, 169.0803, 1979,    630.5,2,   6.6452,2,   6.64641,2,  34.4124,2,  34.4120,2,   197.53,2,   197.18,2,    16.80,2,     0.16,    26.37,2,     0.11,     0.01,2,     0.01,    1.857,2,    0.015,    1.127,6,    0.556,6,    0.017,6,   -999.0,9,   -999.0,9,-999.0000,-999,9,  -999.00,9,  -999.00,   -999.0,9,   -999.0,   6.5865,  27.0120
  49NZ20090521,   P21,   237,  1,     26, X12008,2,20090609,0905,-17.9480, 169.0803, 1979,    730.5,2,   5.5795,2,   5.57865,2,  34.3972,2,  34.3967,2,   184.72,2,   184.47,2,    28.45,2,     0.18,    29.70,2,     0.12,     0.01,2,     0.01,    2.096,2,    0.015,    0.529,2,    0.268,2,    0.009,2,   -999.0,9,   -999.0,9,-999.0000,-999,9,  -999.00,9,  -999.00,   -999.0,9,   -999.0,   5.5170,  27.1362
  49NZ20090521,   P21,   237,  1,     25, X12007,2,20090609,0905,-17.9480, 169.0803, 1979,    830.7,2,   4.8480,2,   4.84815,2,  34.4221,2,  34.4224,2,   172.88,2,   172.55,2,    41.63,2,     0.21,    31.91,2,     0.12,     0.01,2,     0.01,    2.245,2,    0.016,    0.266,2,    0.135,2,    0.000,2,   -999.0,9,   -999.0,9,-999.0000,-999,9,  -999.00,9,  -999.00,   -999.0,9,   -999.0,   4.7809,  27.2421
  49NZ20090521,   P21,   237,  1,     24, X12035,2,20090609,0905,-17.9480, 169.0803, 1979,    930.9,2,   4.2661,2,   4.26774,2,  34.4475,2,  34.4473,2,   165.02,2,   164.84,2,    53.29,2,     0.24,    33.21,2,     0.13,     0.01,2,     0.01,    2.331,2,    0.016,    0.124,2,    0.066,2,    0.000,2,   -999.0,9,   -999.0,9,-999.0000,-999,9,  -999.00,9,  -999.00,   -999.0,9,   -999.0,   4.1943,  27.3263
  49NZ20090521,   P21,   237,  1,     23, X12038,2,20090609,0905,-17.9480, 169.0803, 1979,   1069.8,2,   3.9219,2,   3.92206,2,  34.4745,2,  34.4743,2,   159.98,2,   159.73,2,    62.71,2,     0.26,    33.93,2,     0.13,     0.01,2,     0.01,    2.391,2,    0.016,    0.073,2,    0.038,2,    0.000,2,   -999.0,9,   -999.0,9,-999.0000,-999,9,  -999.00,9,  -999.00,   -999.0,9,   -999.0,   3.8411,  27.3844
  49NZ20090521,   P21,   237,  1,     22, X12034,2,20090609,0905,-17.9480, 169.0803, 1979,   1269.9,2,   3.3209,2,   3.32100,2,  34.5325,2,  34.5326,2,   151.72,2,   151.41,2,    81.40,2,     0.30,    34.97,2,     0.13,     0.01,2,     0.01,    2.474,2,    0.016,    0.029,2,    0.015,2,    0.000,2,   -999.0,9,   -999.0,9,-999.0000,-999,9,  -999.00,9,  -999.00,   -999.0,9,   -999.0,   3.2288,  27.4906
  49NZ20090521,   P21,   237,  1,     21, X12033,2,20090609,0905,-17.9480, 169.0803, 1979,   1470.7,2,   2.9840,2,   2.98395,2,  34.5644,2,  34.5639,6,   149.37,2,   149.13,2,    91.93,2,     0.32,    35.30,2,     0.13,     0.01,2,     0.01,    2.492,2,    0.016,    0.019,2,    0.011,2,    0.000,2,   -999.0,9,   -999.0,9,-999.0000,-999,9,  -999.00,9,  -999.00,   -999.0,9,   -999.0,   2.8788,  27.5484
  49NZ20090521,   P21,   237,  1,     20, X12032,2,20090609,0905,-17.9480, 169.0803, 1979,   1669.9,2,   2.8295,2,   2.82943,2,  34.5801,2,  34.5798,2,   147.60,2,   147.24,2,    97.20,2,     0.33,    35.48,2,     0.13,     0.01,2,     0.01,    2.506,2,    0.016,    0.012,2,    0.007,2,    0.000,2,   -999.0,9,   -999.0,9,-999.0000,-999,9,  -999.00,9,  -999.00,   -999.0,9,   -999.0,   2.7094,  27.5760
  49NZ20090521,   P21,   237,  1,     19, X12046,2,20090609,0905,-17.9480, 169.0803, 1979,   1872.3,2,   2.7413,2,   2.74124,2,  34.5894,2,  34.5895,2,   146.82,2,   146.37,2,   100.47,2,     0.34,    35.62,2,     0.13,     0.01,2,     0.01,    2.519,2,    0.016,    0.010,2,    0.006,2,    0.000,2,   -999.0,9,   -999.0,9,-999.0000,-999,9,  -999.00,9,  -999.00,   -999.0,9,   -999.0,   2.6050,  27.5925
  49NZ20090521,   P21,   237,  1,     18, X12006,9,20090609,0905,-17.9480, 169.0803, 1979,     10.7,2,  26.5367,2,  26.53684,2,  34.8768,2,-999.0000,9,   201.90,2,  -999.00,9,  -999.00,9,  -999.00,  -999.00,9,  -999.00,  -999.00,9,  -999.00, -999.000,9, -999.000, -999.000,9, -999.000,9, -999.000,9,   -999.0,9,   -999.0,9,-999.0000,-999,9,  -999.00,9,  -999.00,   -999.0,9,   -999.0,  26.5343,  22.7728
  49NZ20090521,   P21,   237,  1,     17, X12047,9,20090609,0905,-17.9480, 169.0803, 1979,     10.7,2,  26.5339,2,  26.53381,2,  34.8768,2,-999.0000,9,   201.92,2,  -999.00,9,  -999.00,9,  -999.00,  -999.00,9,  -999.00,  -999.00,9,  -999.00, -999.000,9, -999.000, -999.000,9, -999.000,9, -999.000,9,   -999.0,9,   -999.0,9,-999.0000,-999,9,  -999.00,9,  -999.00,   -999.0,9,   -999.0,  26.5315,  22.7737
  49NZ20090521,   P21,   237,  1,     16, X12004,9,20090609,0905,-17.9480, 169.0803, 1979,     50.9,2,  26.4027,2,  26.40209,2,  34.8752,2,-999.0000,9,   201.28,2,  -999.00,9,  -999.00,9,  -999.00,  -999.00,9,  -999.00,  -999.00,9,  -999.00, -999.000,9, -999.000, -999.000,9, -999.000,9, -999.000,9,   -999.0,9,   -999.0,9,-999.0000,-999,9,  -999.00,9,  -999.00,   -999.0,9,   -999.0,  26.3912,  22.8167
  49NZ20090521,   P21,   237,  1,     15, X12003,9,20090609,0905,-17.9480, 169.0803, 1979,    101.2,2,  25.6308,2,  25.63203,2,  35.3639,2,-999.0000,9,   172.49,2,  -999.00,9,  -999.00,9,  -999.00,  -999.00,9,  -999.00,  -999.00,9,  -999.00, -999.000,9, -999.000, -999.000,9, -999.000,9, -999.000,9,   -999.0,9,   -999.0,9,-999.0000,-999,9,  -999.00,9,  -999.00,   -999.0,9,   -999.0,  25.6084,  23.4296
  49NZ20090521,   P21,   237,  1,     14, X12002,9,20090609,0905,-17.9480, 169.0803, 1979,    150.9,2,  23.7750,2,  23.77707,2,  35.7738,2,-999.0000,9,   155.58,2,  -999.00,9,  -999.00,9,  -999.00,  -999.00,9,  -999.00,  -999.00,9,  -999.00, -999.000,9, -999.000, -999.000,9, -999.000,9, -999.000,9,   -999.0,9,   -999.0,9,-999.0000,-999,9,  -999.00,9,  -999.00,   -999.0,9,   -999.0,  23.7433,  24.3034
  49NZ20090521,   P21,   237,  1,     13, X12001,9,20090609,0905,-17.9480, 169.0803, 1979,    199.4,2,  21.6768,2,  21.67699,2,  35.7980,2,-999.0000,9,   155.25,2,  -999.00,9,  -999.00,9,  -999.00,  -999.00,9,  -999.00,  -999.00,9,  -999.00, -999.000,9, -999.000, -999.000,9, -999.000,9, -999.000,9,   -999.0,9,   -999.0,9,-999.0000,-999,9,  -999.00,9,  -999.00,   -999.0,9,   -999.0,  21.6376,  24.9257
  49NZ20090521,   P21,   237,  1,     12, X12030,9,20090609,0905,-17.9480, 169.0803, 1979,    248.9,2,  19.7312,2,  19.73490,2,  35.6536,2,-999.0000,9,   156.87,2,  -999.00,9,  -999.00,9,  -999.00,  -999.00,9,  -999.00,  -999.00,9,  -999.00, -999.000,9, -999.000, -999.000,9, -999.000,9, -999.000,9,   -999.0,9,   -999.0,9,-999.0000,-999,9,  -999.00,9,  -999.00,   -999.0,9,   -999.0,  19.6854,  25.3433
  49NZ20090521,   P21,   237,  1,     11, X12044,9,20090609,0905,-17.9480, 169.0803, 1979,    331.2,2,  16.4885,2,  16.49006,2,  35.3213,2,-999.0000,9,   159.44,2,  -999.00,9,  -999.00,9,  -999.00,  -999.00,9,  -999.00,  -999.00,9,  -999.00, -999.000,9, -999.000, -999.000,9, -999.000,9, -999.000,9,   -999.0,9,   -999.0,9,-999.0000,-999,9,  -999.00,9,  -999.00,   -999.0,9,   -999.0,  16.4347,  25.8943
  49NZ20090521,   P21,   237,  1,     10, X12048,9,20090609,0905,-17.9480, 169.0803, 1979,    431.2,2,  12.0042,2,  12.00286,2,  34.8799,2,-999.0000,9,   173.59,2,  -999.00,9,  -999.00,9,  -999.00,  -999.00,9,  -999.00,  -999.00,9,  -999.00, -999.000,9, -999.000, -999.000,9, -999.000,9, -999.000,9,   -999.0,9,   -999.0,9,-999.0000,-999,9,  -999.00,9,  -999.00,   -999.0,9,   -999.0,  11.9475,  26.5059
  49NZ20090521,   P21,   237,  1,      9, X12027,9,20090609,0905,-17.9480, 169.0803, 1979,    530.4,2,   8.4035,2,   8.39971,2,  34.5426,2,-999.0000,9,   186.90,2,  -999.00,9,  -999.00,9,  -999.00,  -999.00,9,  -999.00,  -999.00,9,  -999.00, -999.000,9, -999.000, -999.000,9, -999.000,9, -999.000,9,   -999.0,9,   -999.0,9,-999.0000,-999,9,  -999.00,9,  -999.00,   -999.0,9,   -999.0,   8.3474,  26.8621
  49NZ20090521,   P21,   237,  1,      8, X12026,9,20090609,0905,-17.9480, 169.0803, 1979,    630.8,2,   6.6371,2,   6.63770,2,  34.4120,2,-999.0000,9,   197.64,2,  -999.00,9,  -999.00,9,  -999.00,  -999.00,9,  -999.00,  -999.00,9,  -999.00, -999.000,9, -999.000, -999.000,9, -999.000,9, -999.000,9,   -999.0,9,   -999.0,9,-999.0000,-999,9,  -999.00,9,  -999.00,   -999.0,9,   -999.0,   6.5785,  27.0128
  49NZ20090521,   P21,   237,  1,      7, X12025,9,20090609,0905,-17.9480, 169.0803, 1979,    730.9,2,   5.5711,2,   5.57120,2,  34.3968,2,-999.0000,9,   184.83,2,  -999.00,9,  -999.00,9,  -999.00,  -999.00,9,  -999.00,  -999.00,9,  -999.00, -999.000,9, -999.000, -999.000,9, -999.000,9, -999.000,9,   -999.0,9,   -999.0,9,-999.0000,-999,9,  -999.00,9,  -999.00,   -999.0,9,   -999.0,   5.5086,  27.1369
  49NZ20090521,   P21,   237,  1,      6, X12024,9,20090609,0905,-17.9480, 169.0803, 1979,    831.4,2,   4.8426,2,   4.84357,2,  34.4224,2,-999.0000,9,   172.73,2,  -999.00,9,  -999.00,9,  -999.00,  -999.00,9,  -999.00,  -999.00,9,  -999.00, -999.000,9, -999.000, -999.000,9, -999.000,9, -999.000,9,   -999.0,9,   -999.0,9,-999.0000,-999,9,  -999.00,9,  -999.00,   -999.0,9,   -999.0,   4.7755,  27.2429
  49NZ20090521,   P21,   237,  1,      5, X12028,9,20090609,0905,-17.9480, 169.0803, 1979,    931.2,2,   4.2607,2,   4.26081,2,  34.4478,2,-999.0000,9,   164.94,2,  -999.00,9,  -999.00,9,  -999.00,  -999.00,9,  -999.00,  -999.00,9,  -999.00, -999.000,9, -999.000, -999.000,9, -999.000,9, -999.000,9,   -999.0,9,   -999.0,9,-999.0000,-999,9,  -999.00,9,  -999.00,   -999.0,9,   -999.0,   4.1889,  27.3271
  49NZ20090521,   P21,   237,  1,      4, X12022,9,20090609,0905,-17.9480, 169.0803, 1979,   1070.1,2,   3.9208,2,   3.92110,2,  34.4746,2,-999.0000,9,   159.95,2,  -999.00,9,  -999.00,9,  -999.00,  -999.00,9,  -999.00,  -999.00,9,  -999.00, -999.000,9, -999.000, -999.000,9, -999.000,9, -999.000,9,   -999.0,9,   -999.0,9,-999.0000,-999,9,  -999.00,9,  -999.00,   -999.0,9,   -999.0,   3.8400,  27.3846
  49NZ20090521,   P21,   237,  1,      3, X12021,9,20090609,0905,-17.9480, 169.0803, 1979,   1270.0,2,   3.3204,2,   3.32049,2,  34.5325,2,-999.0000,9,   151.72,2,  -999.00,9,  -999.00,9,  -999.00,  -999.00,9,  -999.00,  -999.00,9,  -999.00, -999.000,9, -999.000, -999.000,9, -999.000,9, -999.000,9,   -999.0,9,   -999.0,9,-999.0000,-999,9,  -999.00,9,  -999.00,   -999.0,9,   -999.0,   3.2283,  27.4907
  49NZ20090521,   P21,   237,  1,      2, X12020,9,20090609,0905,-17.9480, 169.0803, 1979,   1470.5,2,   2.9832,2,   2.98270,2,  34.5644,2,-999.0000,9,   149.42,2,  -999.00,9,  -999.00,9,  -999.00,  -999.00,9,  -999.00,  -999.00,9,  -999.00, -999.000,9, -999.000, -999.000,9, -999.000,9, -999.000,9,   -999.0,9,   -999.0,9,-999.0000,-999,9,  -999.00,9,  -999.00,   -999.0,9,   -999.0,   2.8780,  27.5485
  49NZ20090521,   P21,   237,  1,      1, X12019,2,20090609,0905,-17.9480, 169.0803, 1979,   2001.0,2,   2.7376,2,   2.73748,2,  34.5908,2,  34.5907,6,   146.87,2,   146.24,2,   100.96,2,     0.34,    35.68,2,     0.13,     0.01,2,     0.01,    2.523,2,    0.016,    0.007,2,    0.002,2,    0.000,2,   -999.0,9,   -999.0,9,-999.0000,-999,9,  -999.00,9,  -999.00,   -999.0,9,   -999.0,   2.5900,  27.5949