BOTTLE,20111109CCHDOSIOCBG
EXPOCODE,SECT_ID,STNNBR,CASTNO,SAMPNO,BTLNBR,BTLNBR_FLAG_W,DATE,TIME,LATITUDE,LONGITUDE,DEPTH,CTDPRS,CTDPRS_FLAG_W,CTDTMP,CTDTMP_FLAG_W,SBE35,SBE35_FLAG_W,CTDSAL,CTDSAL_FLAG_W,SALNTY,SALNTY_FLAG_W,CTDOXY,CTDOXY_FLAG_W,OXYGEN,OXYGEN_FLAG_W,SILCAT,SILCAT_FLAG_W,SILUNC,NITRAT,NITRAT_FLAG_W,NRAUNC,NITRIT,NITRIT_FLAG_W,NRIUNC,PHSPHT,PHSPHT_FLAG_W,PHPUNC,CFC-11,CFC-11_FLAG_W,CFC-12,CFC-12_FLAG_W,CFC113,CFC113_FLAG_W,TCARBN,TCARBN_FLAG_W,ALKALI,ALKALI_FLAG_W,PH_TOT,PH_TMP,PH_TOT_FLAG_W,DELC13,DELC13_FLAG_W,C13ERR,DELC14,DELC14_FLAG_W,C14ERR,THETA,SIG0
,,,,,,,,,,,METERS,DBAR,,ITS-90,,ITS-90,,PSS-78,,PSS-78,,UMOL/KG,,UMOL/KG,,UMOL/KG,,UMOL/KG,UMOL/KG,,UMOL/KG,UMOL/KG,,UMOL/KG,UMOL/KG,,UMOL/KG,PMOL/KG,,PMOL/KG,,PMOL/KG,,UMOL/KG,,UMOL/KG,,,DEG C,,/MILLE,,/MILLE,/MILLE,,/MILLE,DEG C,KG/M^3
  49NZ20090521,   P21,   247,  1,      0,   -999,9,20090610,2123,-18.9120, 166.7998, 4516,   -999.0,9,-999.0000,9,-999.00000,9,-999.0000,9,  34.8138,2,  -999.00,9,  -999.00,9,  -999.00,9,  -999.00,  -999.00,9,  -999.00,  -999.00,9,  -999.00, -999.000,9, -999.000, -999.000,9, -999.000,9, -999.000,9,   -999.0,9,   -999.0,9,-999.0000,-999,9,  -999.00,9,  -999.00,   -999.0,9,   -999.0,-999.0000,-999.0000
  49NZ20090521,   P21,   247,  1,     36, X12043,2,20090610,2123,-18.9120, 166.7998, 4516,     10.9,2,  26.4476,2,  26.44771,2,  34.7583,2,  34.7608,2,   202.55,2,   201.74,2,     0.57,2,     0.12,     0.03,2,     0.03,     0.01,2,     0.01,    0.097,2,    0.022,    1.533,2,    0.964,2, -999.000,5,   1936.1,2,   2282.3,2,   8.1300,  25,6,  -999.00,9,  -999.00,   -999.0,9,   -999.0,  26.4451,  22.7116
  49NZ20090521,   P21,   247,  1,     35, X12042,2,20090610,2123,-18.9120, 166.7998, 4516,     50.1,2,  26.5097,2,  26.50803,2,  34.8050,2,  34.8035,2,   201.65,2,   201.07,2,     0.58,2,     0.12,     0.02,2,     0.03,     0.01,2,     0.01,    0.085,2,    0.024,    1.538,2,    0.977,2, -999.000,5,   1939.3,6,   2284.7,2,   8.1285,  25,2,  -999.00,9,  -999.00,   -999.0,9,   -999.0,  26.4984,  22.7300
  49NZ20090521,   P21,   247,  1,     34, X12016,2,20090610,2123,-18.9120, 166.7998, 4516,    100.6,2,  25.2161,2,  25.21768,2,  35.3360,2,  35.3372,2,   172.93,2,   172.88,2,     0.83,2,     0.12,     1.77,2,     0.04,     0.07,2,     0.01,    0.290,2,    0.014,    1.726,6,    1.068,6, -999.000,5,   2014.6,2,   2317.5,6,   8.0480,  25,2,  -999.00,9,  -999.00,   -999.0,9,   -999.0,  25.1941,  23.5360
  49NZ20090521,   P21,   247,  1,     33, X12015,2,20090610,2123,-18.9120, 166.7998, 4516,    150.3,2,  23.1978,2,  23.19715,2,  35.5032,2,  35.5029,2,   167.57,2,   167.07,2,     0.78,2,     0.12,     3.08,2,     0.04,     0.03,2,     0.01,    0.352,2,    0.014,    1.874,2,    1.141,2,    0.174,4,   2039.5,2,   2326.0,2,   8.0155,  25,6,  -999.00,9,  -999.00,   -999.0,9,   -999.0,  23.1668,  24.2670
  49NZ20090521,   P21,   247,  1,     32, X12050,2,20090610,2123,-18.9120, 166.7998, 4516,    201.7,2,  21.3598,2,  21.36937,2,  35.6469,2,  35.6453,2,   166.74,2,   166.32,2,     0.92,2,     0.12,     4.35,2,     0.04,     0.02,2,     0.01,    0.413,2,    0.013,    2.017,2,    1.200,2,    0.088,2,   2065.5,2,   2335.1,2,   7.9833,  25,2,  -999.00,9,  -999.00,   -999.0,9,   -999.0,  21.3206,  24.8986
  49NZ20090521,   P21,   247,  1,     31, X12014,2,20090610,2123,-18.9120, 166.7998, 4516,    249.7,2,  19.2785,2,  19.27875,2,  35.6025,2,  35.6007,6,   167.49,2,   167.12,2,     1.44,2,     0.12,     5.92,2,     0.05,     0.01,2,     0.01,    0.539,2,    0.013,    2.131,2,    1.236,2,    0.075,2,   2088.6,2,   2333.8,2,   7.9426,  25,2,  -999.00,9,  -999.00,   -999.0,9,   -999.0,  19.2333,  25.4218
  49NZ20090521,   P21,   247,  1,     30, X12012,2,20090610,2123,-18.9120, 166.7998, 4516,    329.9,2,  15.8066,2,  15.80740,2,  35.2709,2,  35.2678,2,   165.33,2,   165.39,2,     3.40,2,     0.13,    10.14,2,     0.06,     0.01,2,     0.01,    0.848,2,    0.013,    2.155,2,    1.178,2,    0.022,2,   2113.8,2,   2317.9,2,   7.8645,  25,2,  -999.00,9,  -999.00,   -999.0,9,   -999.0,  15.7545,  26.0121
  49NZ20090521,   P21,   247,  1,     29, X12041,2,20090610,2123,-18.9120, 166.7998, 4516,    429.9,2,  12.0421,2,  12.04977,2,  34.9174,2,  34.9205,2,   182.28,2,   182.54,2,     5.44,2,     0.13,    15.03,2,     0.07,     0.01,2,     0.01,    1.130,2,    0.013,    2.163,6,    1.145,6,    0.061,6,   2130.3,2,   2300.8,2,   7.7995,  25,2,  -999.00,9,  -999.00,   -999.0,9,   -999.0,  11.9854,  26.5278
  49NZ20090521,   P21,   247,  1,     28, X12040,2,20090610,2123,-18.9120, 166.7998, 4516,    530.9,2,   8.9642,2,   8.96366,2,  34.6022,2,  34.6029,6,   192.34,2,   191.62,2,     9.96,2,     0.14,    21.01,2,     0.09,     0.01,2,     0.01,    1.518,2,    0.014,    1.835,2,    0.935,2,    0.069,2,   2149.8,2,   2289.4,2,   7.7313,  25,2,  -999.00,9,  -999.00,   -999.0,9,   -999.0,   8.9059,  26.8216
  49NZ20090521,   P21,   247,  1,     27, X12009,2,20090610,2123,-18.9120, 166.7998, 4516,    630.7,2,   7.0760,2,   7.07578,2,  34.4371,2,  34.4365,2,   205.30,2,   205.08,2,    13.19,2,     0.15,    24.51,2,     0.10,     0.01,2,     0.01,    1.742,2,    0.014,    1.511,6,    0.754,6,    0.038,6,   2157.9,2,   2286.1,2,   7.7015,  25,2,  -999.00,9,  -999.00,   -999.0,9,   -999.0,   7.0153,  26.9732
  49NZ20090521,   P21,   247,  1,     26, X12008,2,20090610,2123,-18.9120, 166.7998, 4516,    731.1,2,   5.7852,2,   5.78543,2,  34.3794,2,  34.3791,2,   198.95,2,   198.80,2,    22.51,2,     0.17,    28.11,2,     0.11,     0.01,2,     0.01,    1.962,2,    0.015,    0.820,2,    0.409,2,    0.000,2,   2178.8,6,   2291.2,2,   7.6665,  25,2,  -999.00,9,  -999.00,   -999.0,9,   -999.0,   5.7215,  27.0971
  49NZ20090521,   P21,   247,  1,     25, X12007,2,20090610,2123,-18.9120, 166.7998, 4516,    830.6,2,   5.0799,2,   5.07973,2,  34.3931,2,  34.3927,2,   186.80,2,   186.76,2,    33.52,2,     0.19,    30.38,2,     0.12,     0.01,2,     0.01,    2.122,2,    0.015,    0.442,2,    0.226,2,    0.000,2,   2198.5,2,   2302.2,6,   7.6381,  25,2,  -999.00,9,  -999.00,   -999.0,9,   -999.0,   5.0114,  27.1928
  49NZ20090521,   P21,   247,  1,     24, X12035,2,20090610,2123,-18.9120, 166.7998, 4516,    930.4,2,   4.5187,2,   4.51946,2,  34.4259,2,  34.4251,2,   175.68,2,   175.73,2,    45.74,2,     0.22,    31.93,2,     0.12,     0.01,2,     0.01,    2.239,2,    0.016,    0.244,2,    0.127,2,    0.000,2,   2219.5,2,   2315.9,2,   7.6194,  25,6,  -999.00,9,  -999.00,   -999.0,9,   -999.0,   4.4452,  27.2822
  49NZ20090521,   P21,   247,  1,     23, X12038,2,20090610,2123,-18.9120, 166.7998, 4516,   1071.8,2,   3.9023,2,   3.90192,2,  34.4797,2,  34.4789,6,   164.70,2,   164.71,2,    62.62,2,     0.26,    33.34,2,     0.13,     0.01,2,     0.01,    2.348,2,    0.016,    0.104,2,    0.057,2,    0.000,2,   2243.2,2,   2334.3,2,   7.6028,  25,2,  -999.00,9,  -999.00,   -999.0,9,   -999.0,   3.8215,  27.3906
  49NZ20090521,   P21,   247,  1,     22, X12034,2,20090610,2123,-18.9120, 166.7998, 4516,   1270.4,2,   3.3080,2,   3.30813,2,  34.5418,2,  34.5415,2,   155.86,2,   155.91,2,    81.09,2,     0.30,    34.29,2,     0.13,     0.01,2,     0.01,    2.429,2,    0.016,    0.041,2,    0.021,2,    0.000,2,   2266.6,2,   2355.4,2,   7.5913,  25,2,  -999.00,9,  -999.00,   -999.0,9,   -999.0,   3.2160,  27.4993
  49NZ20090521,   P21,   247,  1,     21, X12033,2,20090610,2123,-18.9120, 166.7998, 4516,   1471.8,2,   2.9840,2,   2.98418,2,  34.5744,2,  34.5745,2,   152.12,2,   152.21,2,    91.05,2,     0.32,    34.87,2,     0.13,     0.01,2,     0.01,    2.459,2,    0.016,    0.024,2,    0.013,2,    0.000,2,   2279.1,2,   2366.6,2,   7.5862,  25,2,  -999.00,9,  -999.00,   -999.0,9,   -999.0,   2.8787,  27.5564
  49NZ20090521,   P21,   247,  1,     20, X12032,2,20090610,2123,-18.9120, 166.7998, 4516,   1671.3,2,   2.6532,2,   2.65327,2,  34.6061,2,  34.6054,2,   149.46,2,   149.52,2,   100.18,2,     0.34,    35.25,2,     0.13,     0.01,2,     0.01,    2.490,2,    0.016,    0.009,2,    0.005,2,    0.000,2,   2290.4,2,   2376.7,2,   7.5825,  25,6,  -999.00,9,  -999.00,   -999.0,9,   -999.0,   2.5352,  27.6119
  49NZ20090521,   P21,   247,  1,     19, X12046,2,20090610,2123,-18.9120, 166.7998, 4516,   1870.5,2,   2.4298,2,   2.42983,2,  34.6280,2,  34.6277,2,   148.79,2,   148.75,2,   106.07,2,     0.35,    35.45,2,     0.13,     0.01,2,     0.01,    2.505,2,    0.016,    0.005,2,    0.001,2,    0.000,2,   2296.6,2,   2383.0,2,   7.5811,  25,2,  -999.00,9,  -999.00,   -999.0,9,   -999.0,   2.2980,  27.6495
  49NZ20090521,   P21,   247,  1,     18, X12006,2,20090610,2123,-18.9120, 166.7998, 4516,   2070.3,2,   2.3036,2,   2.30370,2,  34.6410,2,  34.6403,2,   149.29,2,   149.29,2,   108.88,2,     0.36,    35.37,2,     0.13,     0.01,2,     0.01,    2.501,2,    0.016,    0.003,2,    0.001,2,    0.000,2,   2299.9,2,   2386.3,2,   7.5820,  25,2,  -999.00,9,  -999.00,   -999.0,9,   -999.0,   2.1564,  27.6715
  49NZ20090521,   P21,   247,  1,     17, X12047,2,20090610,2123,-18.9120, 166.7998, 4516,   2270.4,2,   2.1929,2,   2.19310,2,  34.6508,2,  34.6503,6,   150.33,2,   150.30,2,   111.72,2,     0.36,    35.35,2,     0.13,     0.01,2,     0.01,    2.507,2,    0.016,    0.003,2,    0.000,2,    0.000,2,   2302.2,2,   2389.4,2,   7.5828,  25,2,  -999.00,9,  -999.00,   -999.0,9,   -999.0,   2.0299,  27.6895
  49NZ20090521,   P21,   247,  1,     16, X12004,2,20090610,2123,-18.9120, 166.7998, 4516,   2472.2,2,   2.0603,2,   2.06062,2,  34.6636,2,  34.6634,2,   152.58,2,   152.56,2,   114.06,2,     0.37,    35.19,2,     0.13,     0.01,2,     0.01,    2.483,2,    0.016,    0.000,2,    0.000,2,    0.000,2,   2303.6,6,   2391.5,2,   7.5850,  25,2,  -999.00,9,  -999.00,   -999.0,9,   -999.0,   1.8814,  27.7115
  49NZ20090521,   P21,   247,  1,     15, X12003,2,20090610,2123,-18.9120, 166.7998, 4516,   2671.1,2,   1.9881,2,   1.98830,2,  34.6696,2,  34.6692,2,   153.71,2,   153.69,2,   115.80,2,     0.37,    35.21,2,     0.13,     0.01,2,     0.01,    2.485,2,    0.016,    0.000,2,    0.000,2,    0.000,2,   2304.9,2,   2393.2,6,   7.5863,  25,2,  -999.00,9,  -999.00,   -999.0,9,   -999.0,   1.7922,  27.7232
  49NZ20090521,   P21,   247,  1,     14, X12002,2,20090610,2123,-18.9120, 166.7998, 4516,   2869.7,2,   1.9151,2,   1.91519,2,  34.6749,2,  34.6744,2,   154.47,2,   154.38,2,   118.34,2,     0.38,    35.27,2,     0.13,     0.01,2,     0.01,    2.485,2,    0.016,    0.000,2,    0.000,2,    0.000,2,   2306.4,2,   2395.6,2,   7.5871,  25,2,  -999.00,9,  -999.00,   -999.0,9,   -999.0,   1.7018,  27.7343
  49NZ20090521,   P21,   247,  1,     13, X12001,2,20090610,2123,-18.9120, 166.7998, 4516,   3078.8,2,   1.8788,2,   1.87885,2,  34.6776,2,  34.6775,2,   154.92,2,   154.82,2,   119.70,2,     0.38,    35.25,2,     0.13,     0.01,2,     0.01,    2.487,2,    0.016,    0.000,2,    0.000,2,    0.000,2,   2306.3,2,   2397.4,2,   7.5878,  25,2,  -999.00,9,  -999.00,   -999.0,9,   -999.0,   1.6459,  27.7407
  49NZ20090521,   P21,   247,  1,     12, X12030,2,20090610,2123,-18.9120, 166.7998, 4516,   3331.2,2,   1.8348,2,   1.83490,2,  34.6811,2,  34.6806,6,   155.66,2,   155.60,2,   121.49,2,     0.39,    35.20,2,     0.13,     0.01,2,     0.01,    2.483,2,    0.016,    0.000,2,    0.000,2,    0.000,2,   2308.6,2,   2398.9,2,   7.5890,  25,2,  -999.00,9,  -999.00,   -999.0,9,   -999.0,   1.5776,  27.7485
  49NZ20090521,   P21,   247,  1,     11, X12044,2,20090610,2123,-18.9120, 166.7998, 4516,   3581.3,2,   1.8283,2,   1.82827,2,  34.6823,2,  34.6822,2,   155.93,2,   155.90,2,   122.39,2,     0.39,    35.24,2,     0.13,     0.01,2,     0.01,    2.479,2,    0.016,    0.000,2,    0.001,2,    0.000,2,   2309.0,2,   2399.9,2,   7.5897,  25,2,  -999.00,9,  -999.00,   -999.0,9,   -999.0,   1.5454,  27.7519
  49NZ20090521,   P21,   247,  1,     10, X12048,2,20090610,2123,-18.9120, 166.7998, 4516,   3830.3,2,   1.8324,2,   1.83243,2,  34.6836,2,  34.6834,2,   156.32,2,   156.18,2,   122.81,2,     0.39,    35.22,2,     0.13,     0.01,2,     0.01,    2.485,2,    0.016,    0.001,2,    0.000,2,    0.000,2,   2310.0,2,   2401.4,2,   7.5908,  25,2,  -999.00,9,  -999.00,   -999.0,9,   -999.0,   1.5228,  27.7546
  49NZ20090521,   P21,   247,  1,      9, X12027,2,20090610,2123,-18.9120, 166.7998, 4516,   4080.2,2,   1.8516,2,   1.85156,2,  34.6840,2,  34.6839,2,   156.44,2,   156.33,2,   122.97,2,     0.39,    35.24,2,     0.13,     0.01,2,     0.01,    2.480,2,    0.016,    0.000,6,    0.001,6,    0.000,6,   2310.1,2,   2401.0,2,   7.5912,  25,2,  -999.00,9,  -999.00,   -999.0,9,   -999.0,   1.5139,  27.7556
  49NZ20090521,   P21,   247,  1,      8, X12026,2,20090610,2123,-18.9120, 166.7998, 4516,   4330.6,2,   1.8720,2,   1.87200,2,  34.6843,2,  34.6843,2,   156.53,2,   156.58,2,   123.12,2,     0.39,    35.20,2,     0.13,     0.01,2,     0.01,    2.485,2,    0.016,    0.000,2,    0.000,2,    0.000,2,   2310.1,6,   2401.6,2,   7.5914,  25,2,  -999.00,9,  -999.00,   -999.0,9,   -999.0,   1.5052,  27.7565
  49NZ20090521,   P21,   247,  1,      7, X12025,2,20090610,2123,-18.9120, 166.7998, 4516,     10.7,2,  26.4479,2,  26.44810,2,  34.7585,2,-999.0000,9,   202.51,2,  -999.00,9,  -999.00,9,  -999.00,  -999.00,9,  -999.00,  -999.00,9,  -999.00, -999.000,9, -999.000, -999.000,9, -999.000,9, -999.000,9,   -999.0,9,   -999.0,9,-999.0000,-999,9,  -999.00,9,  -999.00,   -999.0,9,   -999.0,  26.4455,  22.7117
  49NZ20090521,   P21,   247,  1,      6, X12024,2,20090610,2123,-18.9120, 166.7998, 4516,     50.3,2,  26.5104,2,  26.50956,2,  34.8052,2,-999.0000,9,   201.71,2,  -999.00,9,  -999.00,9,  -999.00,  -999.00,9,  -999.00,  -999.00,9,  -999.00, -999.000,9, -999.000, -999.000,9, -999.000,9, -999.000,9,   -999.0,9,   -999.0,9,-999.0000,-999,9,  -999.00,9,  -999.00,   -999.0,9,   -999.0,  26.4990,  22.7300
  49NZ20090521,   P21,   247,  1,      5, X12028,2,20090610,2123,-18.9120, 166.7998, 4516,    100.5,2,  25.2182,2,  25.21838,2,  35.3371,2,-999.0000,9,   172.92,2,  -999.00,9,  -999.00,9,  -999.00,  -999.00,9,  -999.00,  -999.00,9,  -999.00, -999.000,9, -999.000, -999.000,9, -999.000,9, -999.000,9,   -999.0,9,   -999.0,9,-999.0000,-999,9,  -999.00,9,  -999.00,   -999.0,9,   -999.0,  25.1962,  23.5361
  49NZ20090521,   P21,   247,  1,      4, X12022,2,20090610,2123,-18.9120, 166.7998, 4516,    150.2,2,  23.2005,2,  23.20177,2,  35.5031,2,-999.0000,9,   167.76,2,  -999.00,9,  -999.00,9,  -999.00,  -999.00,9,  -999.00,  -999.00,9,  -999.00, -999.000,9, -999.000, -999.000,9, -999.000,9, -999.000,9,   -999.0,9,   -999.0,9,-999.0000,-999,9,  -999.00,9,  -999.00,   -999.0,9,   -999.0,  23.1696,  24.2661
  49NZ20090521,   P21,   247,  1,      3, X12021,2,20090610,2123,-18.9120, 166.7998, 4516,    202.0,2,  21.3309,2,  21.34151,2,  35.6492,2,-999.0000,9,   166.77,2,  -999.00,9,  -999.00,9,  -999.00,  -999.00,9,  -999.00,  -999.00,9,  -999.00, -999.000,9, -999.000, -999.000,9, -999.000,9, -999.000,9,   -999.0,9,   -999.0,9,-999.0000,-999,9,  -999.00,9,  -999.00,   -999.0,9,   -999.0,  21.2917,  24.9083
  49NZ20090521,   P21,   247,  1,      2, X12020,2,20090610,2123,-18.9120, 166.7998, 4516,    249.6,2,  19.2743,2,  19.27276,2,  35.6028,2,-999.0000,9,   167.63,2,  -999.00,9,  -999.00,9,  -999.00,  -999.00,9,  -999.00,  -999.00,9,  -999.00, -999.000,9, -999.000, -999.000,9, -999.000,9, -999.000,9,   -999.0,9,   -999.0,9,-999.0000,-999,9,  -999.00,9,  -999.00,   -999.0,9,   -999.0,  19.2291,  25.4231
  49NZ20090521,   P21,   247,  1,      1, X12019,2,20090610,2123,-18.9120, 166.7998, 4516,   4567.1,2,   1.8960,2,   1.89590,2,  34.6844,2,  34.6844,6,   156.65,2,   156.76,2,   123.24,2,     0.39,    35.17,2,     0.13,     0.01,2,     0.01,    2.482,2,    0.016,    0.000,2,    0.000,2,    0.000,2,   2310.3,2,   2401.6,2,   7.5918,  25,2,  -999.00,9,  -999.00,   -999.0,9,   -999.0,   1.5009,  27.7569