BOTTLE,20111109CCHDOSIOCBG
EXPOCODE,SECT_ID,STNNBR,CASTNO,SAMPNO,BTLNBR,BTLNBR_FLAG_W,DATE,TIME,LATITUDE,LONGITUDE,DEPTH,CTDPRS,CTDPRS_FLAG_W,CTDTMP,CTDTMP_FLAG_W,SBE35,SBE35_FLAG_W,CTDSAL,CTDSAL_FLAG_W,SALNTY,SALNTY_FLAG_W,CTDOXY,CTDOXY_FLAG_W,OXYGEN,OXYGEN_FLAG_W,SILCAT,SILCAT_FLAG_W,SILUNC,NITRAT,NITRAT_FLAG_W,NRAUNC,NITRIT,NITRIT_FLAG_W,NRIUNC,PHSPHT,PHSPHT_FLAG_W,PHPUNC,CFC-11,CFC-11_FLAG_W,CFC-12,CFC-12_FLAG_W,CFC113,CFC113_FLAG_W,TCARBN,TCARBN_FLAG_W,ALKALI,ALKALI_FLAG_W,PH_TOT,PH_TMP,PH_TOT_FLAG_W,DELC13,DELC13_FLAG_W,C13ERR,DELC14,DELC14_FLAG_W,C14ERR,THETA,SIG0
,,,,,,,,,,,METERS,DBAR,,ITS-90,,ITS-90,,PSS-78,,PSS-78,,UMOL/KG,,UMOL/KG,,UMOL/KG,,UMOL/KG,UMOL/KG,,UMOL/KG,UMOL/KG,,UMOL/KG,UMOL/KG,,UMOL/KG,PMOL/KG,,PMOL/KG,,PMOL/KG,,UMOL/KG,,UMOL/KG,,,DEG C,,/MILLE,,/MILLE,/MILLE,,/MILLE,DEG C,KG/M^3
  49NZ20090521,   P21,   199,  1,      0,   -999,9,20090602,1030,-17.4932,-171.9972, 5810,   -999.0,9,-999.0000,9,-999.00000,9,-999.0000,9,  35.3908,2,  -999.00,9,  -999.00,9,  -999.00,9,  -999.00,  -999.00,9,  -999.00,  -999.00,9,  -999.00, -999.000,9, -999.000, -999.000,9, -999.000,9, -999.000,9,   -999.0,9,   -999.0,9,-999.0000,-999,9,  -999.00,9,  -999.00,   -999.0,9,   -999.0,-999.0000,-999.0000
  49NZ20090521,   P21,   199,  1,     36, X12043,2,20090602,1030,-17.4932,-171.9972, 5810,     11.9,2,  27.8948,2,  27.89486,2,  35.3805,2,  35.3788,2,   198.00,2,   197.34,2,     0.50,2,     0.12,     0.09,2,     0.03,     0.01,2,     0.01,    0.094,2,    0.023,    1.426,2,    0.895,2, -999.000,5,   -999.0,9,   -999.0,9,-999.0000,-999,9,  -999.00,9,  -999.00,   -999.0,9,   -999.0,  27.8920,  22.7161
  49NZ20090521,   P21,   199,  1,     35, X12042,2,20090602,1030,-17.4932,-171.9972, 5810,     50.7,2,  27.9014,2,  27.90125,2,  35.3811,2,  35.3792,2,   197.76,2,   197.65,2,     0.42,2,     0.12,     0.08,2,     0.03,     0.01,2,     0.01,    0.093,2,    0.023,    1.441,2,    0.914,2, -999.000,5,   -999.0,9,   -999.0,9,-999.0000,-999,9,  -999.00,9,  -999.00,   -999.0,9,   -999.0,  27.8895,  22.7174
  49NZ20090521,   P21,   199,  1,     34, X12016,2,20090602,1030,-17.4932,-171.9972, 5810,    100.0,2,  26.5291,2,  26.52841,2,  35.7486,2,  35.7538,2,   199.77,2,   199.66,2,     0.47,2,     0.12,     0.08,2,     0.03,     0.01,2,     0.01,    0.171,2,    0.017,    1.593,6,    1.005,6, -999.000,5,   -999.0,9,   -999.0,9,-999.0000,-999,9,  -999.00,9,  -999.00,   -999.0,9,   -999.0,  26.5064,  23.4389
  49NZ20090521,   P21,   199,  1,     33, X12015,2,20090602,1030,-17.4932,-171.9972, 5810,    149.9,2,  24.3832,2,  24.37457,2,  35.7550,2,  35.7551,2,   180.14,2,   180.30,2,     0.44,2,     0.12,     0.94,2,     0.04,     0.04,2,     0.01,    0.264,2,    0.015,    1.737,2,    1.074,2, -999.000,5,   -999.0,9,   -999.0,9,-999.0000,-999,9,  -999.00,9,  -999.00,   -999.0,9,   -999.0,  24.3512,  24.1082
  49NZ20090521,   P21,   199,  1,     32, X12050,2,20090602,1030,-17.4932,-171.9972, 5810,    200.0,2,  21.9034,2,  21.89793,2,  35.7745,2,  35.7770,2,   169.87,2,   169.40,2,     0.58,2,     0.12,     2.91,2,     0.04,     0.02,2,     0.01,    0.377,2,    0.014,    1.937,2,    1.170,2,    0.062,2,   -999.0,9,   -999.0,9,-999.0000,-999,9,  -999.00,9,  -999.00,   -999.0,9,   -999.0,  21.8638,  24.8447
  49NZ20090521,   P21,   199,  1,     31, X12014,2,20090602,1030,-17.4932,-171.9972, 5810,    249.6,2,  20.2004,2,  20.20105,2,  35.6668,2,  35.6675,6,   172.71,2,   172.76,2,     0.74,2,     0.12,     3.83,2,     0.04,     0.02,2,     0.01,    0.425,2,    0.013,    2.075,2,    1.226,2,    0.033,2,   -999.0,9,   -999.0,9,-999.0000,-999,9,  -999.00,9,  -999.00,   -999.0,9,   -999.0,  20.1537,  25.2297
  49NZ20090521,   P21,   199,  1,     30, X12012,2,20090602,1030,-17.4932,-171.9972, 5810,    331.5,2,  16.7482,2,  16.74863,2,  35.3432,2,  35.3441,2,   180.74,2,   180.64,2,     1.64,2,     0.12,     6.49,2,     0.05,     0.02,2,     0.01,    0.616,2,    0.013,    2.276,2,    1.286,2,    0.019,2,   -999.0,9,   -999.0,9,-999.0000,-999,9,  -999.00,9,  -999.00,   -999.0,9,   -999.0,  16.6937,  25.8503
  49NZ20090521,   P21,   199,  1,     29, X12041,2,20090602,1030,-17.4932,-171.9972, 5810,    430.5,2,  11.2098,2,  11.20694,2,  34.7437,2,  34.7446,2,   182.85,2,   182.65,2,     5.33,2,     0.13,    15.97,2,     0.08,     0.01,2,     0.01,    1.234,2,    0.013,    2.163,6,    1.125,6,    0.031,6,   -999.0,9,   -999.0,9,-999.0000,-999,9,  -999.00,9,  -999.00,   -999.0,9,   -999.0,  11.1557,  26.5476
  49NZ20090521,   P21,   199,  1,     28, X12040,2,20090602,1030,-17.4932,-171.9972, 5810,    530.9,2,   7.7625,2,   7.75708,2,  34.4412,2,  34.4423,6,   194.93,2,   194.52,2,    10.07,2,     0.14,    23.54,2,     0.10,     0.01,2,     0.01,    1.704,2,    0.014,    1.812,2,    0.907,2,    0.040,2,   -999.0,9,   -999.0,9,-999.0000,-999,9,  -999.00,9,  -999.00,   -999.0,9,   -999.0,   7.7090,  26.8779
  49NZ20090521,   P21,   199,  1,     27, X12009,2,20090602,1030,-17.4932,-171.9972, 5810,    632.3,2,   6.2834,2,   6.28133,2,  34.3612,2,  34.3619,2,   203.66,2,   203.54,2,    14.84,2,     0.15,    26.91,2,     0.11,     0.01,2,     0.01,    1.891,2,    0.015,    1.154,6,    0.571,6,    0.018,6,   -999.0,9,   -999.0,9,-999.0000,-999,9,  -999.00,9,  -999.00,   -999.0,9,   -999.0,   6.2264,  27.0189
  49NZ20090521,   P21,   199,  1,     26, X12008,2,20090602,1030,-17.4932,-171.9972, 5810,    732.1,2,   5.3366,2,   5.33782,2,  34.3610,2,  34.3609,2,   185.65,2,   186.08,2,    26.25,2,     0.18,    30.33,2,     0.12,     0.01,2,     0.01,    2.128,2,    0.015,    0.463,2,    0.238,2,    0.006,2,   -999.0,9,   -999.0,9,-999.0000,-999,9,  -999.00,9,  -999.00,   -999.0,9,   -999.0,   5.2753,  27.1365
  49NZ20090521,   P21,   199,  1,     25, X12007,2,20090602,1030,-17.4932,-171.9972, 5810,    831.5,2,   4.6150,2,   4.61508,2,  34.3946,2,  34.3932,2,   169.30,2,   170.25,2,    39.94,2,     0.21,    32.79,2,     0.12,     0.01,2,     0.01,    2.308,2,    0.016,    0.156,2,    0.082,2,    0.000,2,   -999.0,9,   -999.0,9,-999.0000,-999,9,  -999.00,9,  -999.00,   -999.0,9,   -999.0,   4.5493,  27.2460
  49NZ20090521,   P21,   199,  1,     24, X12035,2,20090602,1030,-17.4932,-171.9972, 5810,    930.3,2,   4.0589,2,   4.05901,2,  34.4432,2,  34.4433,2,   159.73,2,   159.98,2,    54.54,2,     0.24,    34.01,2,     0.13,     0.01,2,     0.01,    2.402,2,    0.016,    0.064,2,    0.031,2,    0.000,2,   -999.0,9,   -999.0,9,-999.0000,-999,9,  -999.00,9,  -999.00,   -999.0,9,   -999.0,   3.9887,  27.3444
  49NZ20090521,   P21,   199,  1,     23, X12038,2,20090602,1030,-17.4932,-171.9972, 5810,   1071.5,2,   3.4408,2,   3.44012,2,  34.4864,2,  34.4861,6,   156.44,2,   156.66,2,    68.02,2,     0.27,    34.89,2,     0.13,     0.01,2,     0.01,    2.451,2,    0.016,    0.017,2,    0.009,2,    0.000,2,   -999.0,9,   -999.0,9,-999.0000,-999,9,  -999.00,9,  -999.00,   -999.0,9,   -999.0,   3.3638,  27.4411
  49NZ20090521,   P21,   199,  1,     22, X12034,2,20090602,1030,-17.4932,-171.9972, 5810,   1271.3,2,   3.1569,2,   3.15671,2,  34.5540,2,  34.5534,2,   141.16,2,   141.21,2,    86.67,2,     0.31,    35.95,2,     0.13,     0.01,2,     0.01,    2.545,2,    0.016,    0.005,2,    0.004,2,    0.000,2,   -999.0,9,   -999.0,9,-999.0000,-999,9,  -999.00,9,  -999.00,   -999.0,9,   -999.0,   3.0662,  27.5230
  49NZ20090521,   P21,   199,  1,     21, X12033,2,20090602,1030,-17.4932,-171.9972, 5810,   1470.0,2,   2.8046,2,   2.80492,2,  34.5820,2,  34.5819,2,   141.34,2,   141.17,2,    96.00,2,     0.33,    36.20,2,     0.13,     0.01,2,     0.01,    2.563,2,    0.016,    0.000,2,    0.000,2,    0.000,2,   -999.0,9,   -999.0,9,-999.0000,-999,9,  -999.00,9,  -999.00,   -999.0,9,   -999.0,   2.7014,  27.5782
  49NZ20090521,   P21,   199,  1,     20, X12032,2,20090602,1030,-17.4932,-171.9972, 5810,   1672.5,2,   2.5318,2,   2.53229,2,  34.6032,2,  34.6026,2,   143.65,2,   143.59,2,   103.58,2,     0.35,    36.07,2,     0.13,     0.01,2,     0.01,    2.550,2,    0.016,    0.001,2,    0.001,2,    0.000,2,   -999.0,9,   -999.0,9,-999.0000,-999,9,  -999.00,9,  -999.00,   -999.0,9,   -999.0,   2.4153,  27.6198
  49NZ20090521,   P21,   199,  1,     19, X12046,2,20090602,1030,-17.4932,-171.9972, 5810,   1871.7,2,   2.3115,2,   2.31166,2,  34.6214,2,  34.6213,2,   144.88,2,   145.02,2,   110.03,2,     0.36,    36.03,2,     0.13,     0.01,2,     0.01,    2.545,2,    0.016,    0.000,2,    0.000,2,    0.000,2,   -999.0,9,   -999.0,9,-999.0000,-999,9,  -999.00,9,  -999.00,   -999.0,9,   -999.0,   2.1813,  27.6538
  49NZ20090521,   P21,   199,  1,     18, X12006,2,20090602,1030,-17.4932,-171.9972, 5810,   2072.3,2,   2.1713,2,   2.17152,2,  34.6338,2,  34.6334,2,   145.53,2,   145.83,2,   114.42,2,     0.37,    36.12,2,     0.13,     0.01,2,     0.01,    2.544,2,    0.016,    0.000,2,    0.000,2,    0.000,2,   -999.0,9,   -999.0,9,-999.0000,-999,9,  -999.00,9,  -999.00,   -999.0,9,   -999.0,   2.0261,  27.6762
  49NZ20090521,   P21,   199,  1,     17, X12047,2,20090602,1030,-17.4932,-171.9972, 5810,   2269.9,2,   2.0283,2,   2.02833,2,  34.6462,2,  34.6460,2,   146.23,2,   146.52,2,   119.27,2,     0.38,    36.11,2,     0.13,     0.01,2,     0.01,    2.548,2,    0.016,    0.000,2,    0.000,2,    0.000,2,   -999.0,9,   -999.0,9,-999.0000,-999,9,  -999.00,9,  -999.00,   -999.0,9,   -999.0,   1.8682,  27.6986
  49NZ20090521,   P21,   199,  1,     16, X12004,2,20090602,1030,-17.4932,-171.9972, 5810,   2471.4,2,   1.9220,2,   1.92213,2,  34.6558,2,  34.6560,2,   146.38,2,   146.63,2,   123.53,2,     0.39,    36.09,2,     0.13,     0.01,2,     0.01,    2.548,2,    0.016,    0.000,2,    0.000,2,    0.000,2,   -999.0,9,   -999.0,9,-999.0000,-999,9,  -999.00,9,  -999.00,   -999.0,9,   -999.0,   1.7457,  27.7156
  49NZ20090521,   P21,   199,  1,     15, X12003,2,20090602,1030,-17.4932,-171.9972, 5810,   2674.5,2,   1.8413,2,   1.84127,2,  34.6625,2,  34.6624,6,   147.38,2,   147.59,2,   126.25,2,     0.40,    36.06,2,     0.13,     0.01,2,     0.01,    2.544,2,    0.016,    0.001,2,    0.000,2,    0.000,2,   -999.0,9,   -999.0,9,-999.0000,-999,9,  -999.00,9,  -999.00,   -999.0,9,   -999.0,   1.6480,  27.7284
  49NZ20090521,   P21,   199,  1,     14, X12002,2,20090602,1030,-17.4932,-171.9972, 5810,   2871.9,2,   1.7619,2,   1.76195,2,  34.6688,2,  34.6680,2,   148.92,2,   149.07,2,   128.79,2,     0.40,    36.14,2,     0.13,     0.01,2,     0.01,    2.541,2,    0.016,    0.000,2,    0.000,2,    0.000,2,   -999.0,9,   -999.0,9,-999.0000,-999,9,  -999.00,9,  -999.00,   -999.0,9,   -999.0,   1.5517,  27.7406
  49NZ20090521,   P21,   199,  1,     13, X12001,2,20090602,1030,-17.4932,-171.9972, 5810,   3081.6,2,   1.7054,2,   1.70536,2,  34.6729,2,  34.6725,2,   149.98,2,   150.00,2,   130.86,2,     0.41,    35.93,2,     0.13,     0.01,2,     0.01,    2.535,2,    0.016,    0.001,2,    0.000,2,    0.000,2,   -999.0,9,   -999.0,9,-999.0000,-999,9,  -999.00,9,  -999.00,   -999.0,9,   -999.0,   1.4762,  27.7494
  49NZ20090521,   P21,   199,  1,     12, X12030,2,20090602,1030,-17.4932,-171.9972, 5810,   3331.8,2,   1.6203,2,   1.62047,2,  34.6786,2,  34.6781,2,   153.42,2,   153.30,2,   132.01,2,     0.41,    35.70,2,     0.13,     0.01,2,     0.01,    2.514,2,    0.016,    0.002,2,    0.001,2,    0.000,2,   -999.0,9,   -999.0,9,-999.0000,-999,9,  -999.00,9,  -999.00,   -999.0,9,   -999.0,   1.3683,  27.7617
  49NZ20090521,   P21,   199,  1,     11, X12044,2,20090602,1030,-17.4932,-171.9972, 5810,   3581.6,2,   1.4778,2,   1.47790,2,  34.6922,2,  34.6919,2,   169.99,2,   169.84,2,   124.80,2,     0.39,    34.36,2,     0.13,     0.01,2,     0.01,    2.414,2,    0.016,    0.011,2,    0.005,2,    0.000,2,   -999.0,9,   -999.0,9,-999.0000,-999,9,  -999.00,9,  -999.00,   -999.0,9,   -999.0,   1.2038,  27.7842
  49NZ20090521,   P21,   199,  1,     10, X12048,2,20090602,1030,-17.4932,-171.9972, 5810,   3831.3,2,   1.3132,2,   1.31334,2,  34.7127,2,  34.7129,2,   193.69,2,   193.85,2,   112.73,2,     0.37,    32.40,2,     0.12,     0.01,2,     0.01,    2.274,2,    0.016,    0.033,2,    0.016,2,    0.000,2,   -999.0,9,   -999.0,9,-999.0000,-999,9,  -999.00,9,  -999.00,   -999.0,9,   -999.0,   1.0174,  27.8134
  49NZ20090521,   P21,   199,  1,      9, X12027,2,20090602,1030,-17.4932,-171.9972, 5810,   4080.8,2,   1.1939,2,   1.19402,2,  34.7162,2,  34.7161,6,   202.00,2,   201.98,2,   111.93,2,     0.37,    32.09,2,     0.12,     0.01,2,     0.01,    2.235,2,    0.016,    0.059,2,    0.028,2,    0.000,2,   -999.0,9,   -999.0,9,-999.0000,-999,9,  -999.00,9,  -999.00,   -999.0,9,   -999.0,   0.8747,  27.8255
  49NZ20090521,   P21,   199,  1,      8, X12026,2,20090602,1030,-17.4932,-171.9972, 5810,   4330.1,2,   1.1407,2,   1.14113,2,  34.7143,2,  34.7141,2,   203.68,2,   203.64,2,   113.65,2,     0.37,    31.99,2,     0.12,     0.01,2,     0.01,    2.243,2,    0.016,    0.072,2,    0.034,2,    0.000,2,   -999.0,9,   -999.0,9,-999.0000,-999,9,  -999.00,9,  -999.00,   -999.0,9,   -999.0,   0.7958,  27.8291
  49NZ20090521,   P21,   199,  1,      7, X12025,2,20090602,1030,-17.4932,-171.9972, 5810,   4580.1,2,   1.1098,2,   1.11013,2,  34.7124,2,  34.7119,2,   204.74,2,   204.60,2,   115.12,2,     0.37,    32.10,2,     0.12,     0.01,2,     0.01,    2.244,2,    0.016,    0.080,2,    0.036,2,    0.001,2,   -999.0,9,   -999.0,9,-999.0000,-999,9,  -999.00,9,  -999.00,   -999.0,9,   -999.0,   0.7377,  27.8312
  49NZ20090521,   P21,   199,  1,      6, X12024,2,20090602,1030,-17.4932,-171.9972, 5810,   4830.4,2,   1.1028,2,   1.10289,2,  34.7109,2,  34.7107,2,   205.41,2,   205.04,2,   116.31,2,     0.37,    32.15,2,     0.12,     0.01,2,     0.01,    2.246,2,    0.016,    0.085,2,    0.039,2,    0.004,2,   -999.0,9,   -999.0,9,-999.0000,-999,9,  -999.00,9,  -999.00,   -999.0,9,   -999.0,   0.7020,  27.8322
  49NZ20090521,   P21,   199,  1,      5, X12028,2,20090602,1030,-17.4932,-171.9972, 5810,   5081.1,2,   1.0944,2,   1.09467,2,  34.7094,2,  34.7090,2,   205.84,2,   205.64,2,   117.06,2,     0.38,    32.14,2,     0.12,     0.01,2,     0.01,    2.244,2,    0.016,    0.070,2,    0.034,2,    0.005,2,   -999.0,9,   -999.0,9,-999.0000,-999,9,  -999.00,9,  -999.00,   -999.0,9,   -999.0,   0.6640,  27.8335
  49NZ20090521,   P21,   199,  1,      4, X12022,2,20090602,1030,-17.4932,-171.9972, 5810,   5332.5,2,   1.1076,2,   1.10771,2,  34.7084,2,  34.7088,2,   206.10,2,   205.85,2,   117.54,2,     0.38,    32.13,2,     0.12,     0.01,2,     0.01,    2.245,2,    0.016,    0.072,2,    0.034,2,    0.003,2,   -999.0,9,   -999.0,9,-999.0000,-999,9,  -999.00,9,  -999.00,   -999.0,9,   -999.0,   0.6461,  27.8337
  49NZ20090521,   P21,   199,  1,      3, X12021,2,20090602,1030,-17.4932,-171.9972, 5810,   5578.0,2,   1.1257,2,   1.12590,2,  34.7078,2,  34.7087,2,   206.11,2,   205.92,2,   117.88,2,     0.38,    32.11,2,     0.12,     0.01,2,     0.01,    2.249,2,    0.016,    0.067,2,    0.031,2,    0.013,2,   -999.0,9,   -999.0,9,-999.0000,-999,9,  -999.00,9,  -999.00,   -999.0,9,   -999.0,   0.6328,  27.8341
  49NZ20090521,   P21,   199,  1,      2, X12020,2,20090602,1030,-17.4932,-171.9972, 5810,   5829.5,2,   1.1485,2,   1.14870,2,  34.7072,2,  34.7076,2,   206.11,2,   205.96,2,   118.35,2,     0.38,    32.25,2,     0.12,     0.01,2,     0.01,    2.249,2,    0.016,    0.069,2,    0.031,2,    0.000,2,   -999.0,9,   -999.0,9,-999.0000,-999,9,  -999.00,9,  -999.00,   -999.0,9,   -999.0,   0.6225,  27.8342
  49NZ20090521,   P21,   199,  1,      1, X12019,2,20090602,1030,-17.4932,-171.9972, 5810,   5894.3,2,   1.1555,2,   1.15543,2,  34.7069,2,  34.7081,6,   206.11,2,   205.98,2,   118.33,2,     0.38,    32.14,2,     0.12,     0.01,2,     0.01,    2.258,2,    0.016,    0.068,2,    0.032,2,    0.005,2,   -999.0,9,   -999.0,9,-999.0000,-999,9,  -999.00,9,  -999.00,   -999.0,9,   -999.0,   0.6208,  27.8341