BOTTLE,20111109CCHDOSIOCBG
EXPOCODE,SECT_ID,STNNBR,CASTNO,SAMPNO,BTLNBR,BTLNBR_FLAG_W,DATE,TIME,LATITUDE,LONGITUDE,DEPTH,CTDPRS,CTDPRS_FLAG_W,CTDTMP,CTDTMP_FLAG_W,SBE35,SBE35_FLAG_W,CTDSAL,CTDSAL_FLAG_W,SALNTY,SALNTY_FLAG_W,CTDOXY,CTDOXY_FLAG_W,OXYGEN,OXYGEN_FLAG_W,SILCAT,SILCAT_FLAG_W,SILUNC,NITRAT,NITRAT_FLAG_W,NRAUNC,NITRIT,NITRIT_FLAG_W,NRIUNC,PHSPHT,PHSPHT_FLAG_W,PHPUNC,CFC-11,CFC-11_FLAG_W,CFC-12,CFC-12_FLAG_W,CFC113,CFC113_FLAG_W,TCARBN,TCARBN_FLAG_W,ALKALI,ALKALI_FLAG_W,PH_TOT,PH_TMP,PH_TOT_FLAG_W,DELC13,DELC13_FLAG_W,C13ERR,DELC14,DELC14_FLAG_W,C14ERR,THETA,SIG0
,,,,,,,,,,,METERS,DBAR,,ITS-90,,ITS-90,,PSS-78,,PSS-78,,UMOL/KG,,UMOL/KG,,UMOL/KG,,UMOL/KG,UMOL/KG,,UMOL/KG,UMOL/KG,,UMOL/KG,UMOL/KG,,UMOL/KG,PMOL/KG,,PMOL/KG,,PMOL/KG,,UMOL/KG,,UMOL/KG,,,DEG C,,/MILLE,,/MILLE,/MILLE,,/MILLE,DEG C,KG/M^3
  49NZ20090521,   P21,   287,  1,      0,   -999,9,20090617,1205,-24.9943, 153.7423, 1050,   -999.0,9,-999.0000,9,-999.00000,9,-999.0000,9,  35.3618,2,  -999.00,9,  -999.00,9,  -999.00,9,  -999.00,  -999.00,9,  -999.00,  -999.00,9,  -999.00, -999.000,9, -999.000, -999.000,9, -999.000,9, -999.000,9,   -999.0,9,   -999.0,9,-999.0000,-999,9,  -999.00,9,  -999.00,   -999.0,9,   -999.0,-999.0000,-999.0000
  49NZ20090521,   P21,   287,  1,     36, X12043,2,20090617,1205,-24.9943, 153.7423, 1050,     10.7,2,  22.3833,2,  22.38425,2,  35.3435,2,  35.3426,2,   213.33,2,   213.53,2,     0.63,2,     0.12,     0.19,2,     0.03,     0.02,2,     0.01,    0.121,2,    0.020,    1.780,2,    1.134,2, -999.000,5,   1996.0,2,   2316.2,2,   8.0746,  25,6,  -999.00,9,  -999.00,   -999.0,9,   -999.0,  22.3812,  24.3713
  49NZ20090521,   P21,   287,  1,     35, X12042,2,20090617,1205,-24.9943, 153.7423, 1050,     50.5,2,  22.0102,2,  22.01024,2,  35.4150,2,  35.4140,2,   215.25,2,   215.66,2,     0.52,2,     0.12,     0.09,2,     0.03,     0.01,2,     0.01,    0.092,2,    0.023,    1.814,2,    1.144,2, -999.000,5,   2001.4,6,   2319.5,2,   8.0720,  25,2,  -999.00,9,  -999.00,   -999.0,9,   -999.0,  22.0002,  24.5331
  49NZ20090521,   P21,   287,  1,     34, X12016,2,20090617,1205,-24.9943, 153.7423, 1050,    100.6,2,  20.5968,2,  20.59558,2,  35.6330,2,  35.6323,2,   182.51,2,   182.71,2,     0.99,2,     0.12,     3.56,2,     0.04,     0.03,2,     0.01,    0.361,2,    0.014,    1.986,6,    1.214,6,    0.161,6,   2059.6,2,   2333.3,6,   7.9915,  25,2,  -999.00,9,  -999.00,   -999.0,9,   -999.0,  20.5778,  25.0904
  49NZ20090521,   P21,   287,  1,     33, X12015,2,20090617,1205,-24.9943, 153.7423, 1050,    150.5,2,  19.3541,2,  19.35304,2,  35.6445,2,  35.6442,2,   188.11,2,   189.07,2,     1.07,2,     0.12,     4.02,2,     0.04,     0.02,2,     0.01,    0.382,2,    0.013,    2.075,2,    1.266,2,    0.106,2,   2066.2,2,   2333.4,2,   7.9806,  25,6,  -999.00,9,  -999.00,   -999.0,9,   -999.0,  19.3268,  25.4297
  49NZ20090521,   P21,   287,  1,     32, X12050,2,20090617,1205,-24.9943, 153.7423, 1050,    203.5,2,  17.4868,2,  17.48681,2,  35.5623,2,  35.5624,2,   183.13,2,   183.44,2,     1.82,2,     0.12,     6.59,2,     0.05,     0.02,2,     0.01,    0.548,2,    0.013,    2.172,2,    1.288,2,    0.041,2,   2087.4,2,   2329.3,2,   7.9352,  25,2,  -999.00,9,  -999.00,   -999.0,9,   -999.0,  17.4524,  25.8370
  49NZ20090521,   P21,   287,  1,     31, X12014,2,20090617,1205,-24.9943, 153.7423, 1050,    254.0,2,  16.1327,2,  16.12849,2,  35.4434,2,  35.4472,6,   183.48,2,   183.40,2,     2.51,2,     0.12,     8.31,2,     0.06,     0.02,2,     0.01,    0.660,2,    0.013,    2.227,2,    1.306,2,    0.051,2,   2099.3,2,   2324.4,2,   7.9037,  25,2,  -999.00,9,  -999.00,   -999.0,9,   -999.0,  16.0921,  26.0676
  49NZ20090521,   P21,   287,  1,     30, X12012,2,20090617,1205,-24.9943, 153.7423, 1050,    302.2,2,  15.7466,2,  15.74754,2,  35.4121,2,  35.4116,2,   184.83,2,   185.23,2,     2.70,2,     0.12,     8.84,2,     0.06,     0.02,2,     0.01,    0.693,2,    0.013,    2.236,2,    1.303,2,    0.047,2,   2102.4,2,   2321.9,2,   7.8962,  25,2,  -999.00,9,  -999.00,   -999.0,9,   -999.0,  15.6990,  26.1334
  49NZ20090521,   P21,   287,  1,     29, X12041,2,20090617,1205,-24.9943, 153.7423, 1050,    403.0,2,  12.9797,2,  12.98187,2,  35.1228,2,  35.1275,2,   187.52,2,   188.15,2,     4.58,2,     0.13,    13.12,2,     0.07,     0.02,2,     0.01,    0.983,2,    0.013,    2.246,6,    1.260,6,    0.052,6,   2124.3,2,   2309.7,2,   7.8301,  25,2,  -999.00,9,  -999.00,   -999.0,9,   -999.0,  12.9238,  26.5034
  49NZ20090521,   P21,   287,  1,     28, X12040,2,20090617,1205,-24.9943, 153.7423, 1050,    502.8,2,  10.6418,2,  10.64184,2,  34.8481,2,  34.8509,6,   191.97,2,   192.19,2,     6.93,2,     0.13,    17.48,2,     0.08,     0.01,2,     0.01,    1.256,2,    0.013,    2.107,2,    1.145,2,    0.069,2,   2139.4,2,   2298.5,2,   7.7755,  25,2,  -999.00,9,  -999.00,   -999.0,9,   -999.0,  10.5803,  26.7324
  49NZ20090521,   P21,   287,  1,     27, X12009,2,20090617,1205,-24.9943, 153.7423, 1050,    602.5,2,   8.5760,2,   8.57891,2,  34.6168,2,  34.6143,2,   197.64,2,   198.00,2,    10.62,2,     0.14,    21.71,2,     0.09,     0.01,2,     0.01,    1.539,2,    0.014,    1.799,6,    0.954,6,    0.061,6,   2152.7,2,   2291.3,2,   7.7299,  25,2,  -999.00,9,  -999.00,   -999.0,9,   -999.0,   8.5112,  26.8951
  49NZ20090521,   P21,   287,  1,     26, X12008,2,20090617,1205,-24.9943, 153.7423, 1050,    702.9,2,   7.5157,2,   7.51631,2,  34.5144,2,  34.5137,2,   200.16,2,   200.56,2,    13.93,2,     0.15,    23.91,2,     0.10,     0.01,2,     0.01,    1.680,2,    0.014,    1.471,2,    0.772,2,    0.045,2,   2159.7,6,   2289.6,2,   7.7086,  25,2,  -999.00,9,  -999.00,   -999.0,9,   -999.0,   7.4453,  26.9736
  49NZ20090521,   P21,   287,  1,     25, X12007,2,20090617,1205,-24.9943, 153.7423, 1050,    802.6,2,   6.5393,2,   6.53961,2,  34.4503,2,  34.4497,2,   198.33,2,   198.48,2,    19.98,2,     0.16,    26.34,2,     0.11,     0.01,2,     0.01,    1.839,2,    0.015,    1.036,2,    0.544,2,    0.017,2,   2171.6,2,   2293.7,6,   7.6862,  25,2,  -999.00,9,  -999.00,   -999.0,9,   -999.0,   6.4643,  27.0582
  49NZ20090521,   P21,   287,  1,     24, X12035,2,20090617,1205,-24.9943, 153.7423, 1050,    902.3,2,   6.0757,2,   6.07607,2,  34.4417,2,  34.4414,2,   193.18,2,   193.30,2,    25.18,2,     0.17,    27.60,2,     0.11,     0.01,2,     0.01,    1.934,2,    0.015,    0.791,2,    0.418,2,    0.021,2,   2180.7,2,   2298.1,2,   7.6718,  25,2,  -999.00,9,  -999.00,   -999.0,9,   -999.0,   5.9939,  27.1123
  49NZ20090521,   P21,   287,  1,     23, X12038,9,20090617,1205,-24.9943, 153.7423, 1050,   -999.0,9,-999.0000,9,-999.00000,9,-999.0000,9,-999.0000,9,  -999.00,9,  -999.00,9,  -999.00,9,  -999.00,  -999.00,9,  -999.00,  -999.00,9,  -999.00, -999.000,9, -999.000, -999.000,9, -999.000,9, -999.000,9,   -999.0,9,   -999.0,9,-999.0000,-999,9,  -999.00,9,  -999.00,   -999.0,9,   -999.0,-999.0000,-999.0000
  49NZ20090521,   P21,   287,  1,     22, X12034,9,20090617,1205,-24.9943, 153.7423, 1050,   -999.0,9,-999.0000,9,-999.00000,9,-999.0000,9,-999.0000,9,  -999.00,9,  -999.00,9,  -999.00,9,  -999.00,  -999.00,9,  -999.00,  -999.00,9,  -999.00, -999.000,9, -999.000, -999.000,9, -999.000,9, -999.000,9,   -999.0,9,   -999.0,9,-999.0000,-999,9,  -999.00,9,  -999.00,   -999.0,9,   -999.0,-999.0000,-999.0000
  49NZ20090521,   P21,   287,  1,     21, X12033,9,20090617,1205,-24.9943, 153.7423, 1050,   -999.0,9,-999.0000,9,-999.00000,9,-999.0000,9,-999.0000,9,  -999.00,9,  -999.00,9,  -999.00,9,  -999.00,  -999.00,9,  -999.00,  -999.00,9,  -999.00, -999.000,9, -999.000, -999.000,9, -999.000,9, -999.000,9,   -999.0,9,   -999.0,9,-999.0000,-999,9,  -999.00,9,  -999.00,   -999.0,9,   -999.0,-999.0000,-999.0000
  49NZ20090521,   P21,   287,  1,     20, X12032,9,20090617,1205,-24.9943, 153.7423, 1050,   -999.0,9,-999.0000,9,-999.00000,9,-999.0000,9,-999.0000,9,  -999.00,9,  -999.00,9,  -999.00,9,  -999.00,  -999.00,9,  -999.00,  -999.00,9,  -999.00, -999.000,9, -999.000, -999.000,9, -999.000,9, -999.000,9,   -999.0,9,   -999.0,9,-999.0000,-999,9,  -999.00,9,  -999.00,   -999.0,9,   -999.0,-999.0000,-999.0000
  49NZ20090521,   P21,   287,  1,     19, X12046,9,20090617,1205,-24.9943, 153.7423, 1050,   -999.0,9,-999.0000,9,-999.00000,9,-999.0000,9,-999.0000,9,  -999.00,9,  -999.00,9,  -999.00,9,  -999.00,  -999.00,9,  -999.00,  -999.00,9,  -999.00, -999.000,9, -999.000, -999.000,9, -999.000,9, -999.000,9,   -999.0,9,   -999.0,9,-999.0000,-999,9,  -999.00,9,  -999.00,   -999.0,9,   -999.0,-999.0000,-999.0000
  49NZ20090521,   P21,   287,  1,     18, X12006,9,20090617,1205,-24.9943, 153.7423, 1050,     10.7,2,  22.3806,2,  22.38110,2,  35.3433,2,-999.0000,9,   213.42,2,  -999.00,9,  -999.00,9,  -999.00,  -999.00,9,  -999.00,  -999.00,9,  -999.00, -999.000,9, -999.000, -999.000,9, -999.000,9, -999.000,9,   -999.0,9,   -999.0,9,-999.0000,-999,9,  -999.00,9,  -999.00,   -999.0,9,   -999.0,  22.3785,  24.3719
  49NZ20090521,   P21,   287,  1,     17, X12047,9,20090617,1205,-24.9943, 153.7423, 1050,     50.8,2,  22.0122,2,  22.01213,2,  35.4146,2,-999.0000,9,   215.44,2,  -999.00,9,  -999.00,9,  -999.00,  -999.00,9,  -999.00,  -999.00,9,  -999.00, -999.000,9, -999.000, -999.000,9, -999.000,9, -999.000,9,   -999.0,9,   -999.0,9,-999.0000,-999,9,  -999.00,9,  -999.00,   -999.0,9,   -999.0,  22.0021,  24.5323
  49NZ20090521,   P21,   287,  1,     16, X12004,9,20090617,1205,-24.9943, 153.7423, 1050,    100.7,2,  20.5898,2,  20.59106,2,  35.6334,2,-999.0000,9,   182.47,2,  -999.00,9,  -999.00,9,  -999.00,  -999.00,9,  -999.00,  -999.00,9,  -999.00, -999.000,9, -999.000, -999.000,9, -999.000,9, -999.000,9,   -999.0,9,   -999.0,9,-999.0000,-999,9,  -999.00,9,  -999.00,   -999.0,9,   -999.0,  20.5708,  25.0926
  49NZ20090521,   P21,   287,  1,     15, X12003,9,20090617,1205,-24.9943, 153.7423, 1050,    150.1,2,  19.3448,2,  19.34776,2,  35.6456,2,-999.0000,9,   188.50,2,  -999.00,9,  -999.00,9,  -999.00,  -999.00,9,  -999.00,  -999.00,9,  -999.00, -999.000,9, -999.000, -999.000,9, -999.000,9, -999.000,9,   -999.0,9,   -999.0,9,-999.0000,-999,9,  -999.00,9,  -999.00,   -999.0,9,   -999.0,  19.3176,  25.4329
  49NZ20090521,   P21,   287,  1,     14, X12002,9,20090617,1205,-24.9943, 153.7423, 1050,    202.2,2,  17.5067,2,  17.49340,2,  35.5630,2,-999.0000,9,   183.44,2,  -999.00,9,  -999.00,9,  -999.00,  -999.00,9,  -999.00,  -999.00,9,  -999.00, -999.000,9, -999.000, -999.000,9, -999.000,9, -999.000,9,   -999.0,9,   -999.0,9,-999.0000,-999,9,  -999.00,9,  -999.00,   -999.0,9,   -999.0,  17.4725,  25.8327
  49NZ20090521,   P21,   287,  1,     13, X12001,9,20090617,1205,-24.9943, 153.7423, 1050,    255.0,2,  16.1103,2,  16.11198,2,  35.4410,2,-999.0000,9,   183.54,2,  -999.00,9,  -999.00,9,  -999.00,  -999.00,9,  -999.00,  -999.00,9,  -999.00, -999.000,9, -999.000, -999.000,9, -999.000,9, -999.000,9,   -999.0,9,   -999.0,9,-999.0000,-999,9,  -999.00,9,  -999.00,   -999.0,9,   -999.0,  16.0695,  26.0710
  49NZ20090521,   P21,   287,  1,     12, X12030,9,20090617,1205,-24.9943, 153.7423, 1050,    302.7,2,  15.7429,2,  15.74496,2,  35.4121,2,-999.0000,9,   184.91,2,  -999.00,9,  -999.00,9,  -999.00,  -999.00,9,  -999.00,  -999.00,9,  -999.00, -999.000,9, -999.000, -999.000,9, -999.000,9, -999.000,9,   -999.0,9,   -999.0,9,-999.0000,-999,9,  -999.00,9,  -999.00,   -999.0,9,   -999.0,  15.6952,  26.1343
  49NZ20090521,   P21,   287,  1,     11, X12044,9,20090617,1205,-24.9943, 153.7423, 1050,    402.2,2,  12.9966,2,  12.99753,2,  35.1255,2,-999.0000,9,   187.54,2,  -999.00,9,  -999.00,9,  -999.00,  -999.00,9,  -999.00,  -999.00,9,  -999.00, -999.000,9, -999.000, -999.000,9, -999.000,9, -999.000,9,   -999.0,9,   -999.0,9,-999.0000,-999,9,  -999.00,9,  -999.00,   -999.0,9,   -999.0,  12.9408,  26.5021
  49NZ20090521,   P21,   287,  1,     10, X12048,9,20090617,1205,-24.9943, 153.7423, 1050,    502.9,2,  10.6449,2,  10.64428,2,  34.8487,2,-999.0000,9,   191.95,2,  -999.00,9,  -999.00,9,  -999.00,  -999.00,9,  -999.00,  -999.00,9,  -999.00, -999.000,9, -999.000, -999.000,9, -999.000,9, -999.000,9,   -999.0,9,   -999.0,9,-999.0000,-999,9,  -999.00,9,  -999.00,   -999.0,9,   -999.0,  10.5834,  26.7323
  49NZ20090521,   P21,   287,  1,      9, X12027,9,20090617,1205,-24.9943, 153.7423, 1050,    601.4,2,   8.5831,2,   8.58417,2,  34.6177,2,-999.0000,9,   197.59,2,  -999.00,9,  -999.00,9,  -999.00,  -999.00,9,  -999.00,  -999.00,9,  -999.00, -999.000,9, -999.000, -999.000,9, -999.000,9, -999.000,9,   -999.0,9,   -999.0,9,-999.0000,-999,9,  -999.00,9,  -999.00,   -999.0,9,   -999.0,   8.5184,  26.8947
  49NZ20090521,   P21,   287,  1,      8, X12026,9,20090617,1205,-24.9943, 153.7423, 1050,    703.6,2,   7.5128,2,   7.51283,2,  34.5141,2,-999.0000,9,   200.19,2,  -999.00,9,  -999.00,9,  -999.00,  -999.00,9,  -999.00,  -999.00,9,  -999.00, -999.000,9, -999.000, -999.000,9, -999.000,9, -999.000,9,   -999.0,9,   -999.0,9,-999.0000,-999,9,  -999.00,9,  -999.00,   -999.0,9,   -999.0,   7.4423,  26.9738
  49NZ20090521,   P21,   287,  1,      7, X12025,9,20090617,1205,-24.9943, 153.7423, 1050,    802.7,2,   6.5393,2,   6.53949,2,  34.4503,2,-999.0000,9,   198.28,2,  -999.00,9,  -999.00,9,  -999.00,  -999.00,9,  -999.00,  -999.00,9,  -999.00, -999.000,9, -999.000, -999.000,9, -999.000,9, -999.000,9,   -999.0,9,   -999.0,9,-999.0000,-999,9,  -999.00,9,  -999.00,   -999.0,9,   -999.0,   6.4643,  27.0581
  49NZ20090521,   P21,   287,  1,      6, X12024,9,20090617,1205,-24.9943, 153.7423, 1050,    901.7,2,   6.0763,2,   6.07854,2,  34.4418,2,-999.0000,9,   193.31,2,  -999.00,9,  -999.00,9,  -999.00,  -999.00,9,  -999.00,  -999.00,9,  -999.00, -999.000,9, -999.000, -999.000,9, -999.000,9, -999.000,9,   -999.0,9,   -999.0,9,-999.0000,-999,9,  -999.00,9,  -999.00,   -999.0,9,   -999.0,   5.9946,  27.1122
  49NZ20090521,   P21,   287,  1,      5, X12028,9,20090617,1205,-24.9943, 153.7423, 1050,   -999.0,9,-999.0000,9,-999.00000,9,-999.0000,9,-999.0000,9,  -999.00,9,  -999.00,9,  -999.00,9,  -999.00,  -999.00,9,  -999.00,  -999.00,9,  -999.00, -999.000,9, -999.000, -999.000,9, -999.000,9, -999.000,9,   -999.0,9,   -999.0,9,-999.0000,-999,9,  -999.00,9,  -999.00,   -999.0,9,   -999.0,-999.0000,-999.0000
  49NZ20090521,   P21,   287,  1,      4, X12022,9,20090617,1205,-24.9943, 153.7423, 1050,   -999.0,9,-999.0000,9,-999.00000,9,-999.0000,9,-999.0000,9,  -999.00,9,  -999.00,9,  -999.00,9,  -999.00,  -999.00,9,  -999.00,  -999.00,9,  -999.00, -999.000,9, -999.000, -999.000,9, -999.000,9, -999.000,9,   -999.0,9,   -999.0,9,-999.0000,-999,9,  -999.00,9,  -999.00,   -999.0,9,   -999.0,-999.0000,-999.0000
  49NZ20090521,   P21,   287,  1,      3, X12021,9,20090617,1205,-24.9943, 153.7423, 1050,   -999.0,9,-999.0000,9,-999.00000,9,-999.0000,9,-999.0000,9,  -999.00,9,  -999.00,9,  -999.00,9,  -999.00,  -999.00,9,  -999.00,  -999.00,9,  -999.00, -999.000,9, -999.000, -999.000,9, -999.000,9, -999.000,9,   -999.0,9,   -999.0,9,-999.0000,-999,9,  -999.00,9,  -999.00,   -999.0,9,   -999.0,-999.0000,-999.0000
  49NZ20090521,   P21,   287,  1,      2, X12020,9,20090617,1205,-24.9943, 153.7423, 1050,    150.2,2,  19.3519,2,  19.35283,2,  35.6451,2,-999.0000,9,   188.32,2,  -999.00,9,  -999.00,9,  -999.00,  -999.00,9,  -999.00,  -999.00,9,  -999.00, -999.000,9, -999.000, -999.000,9, -999.000,9, -999.000,9,   -999.0,9,   -999.0,9,-999.0000,-999,9,  -999.00,9,  -999.00,   -999.0,9,   -999.0,  19.3247,  25.4308
  49NZ20090521,   P21,   287,  1,      1, X12019,2,20090617,1205,-24.9943, 153.7423, 1050,   1025.5,2,   4.9915,2,   4.99161,2,  34.4505,2,  34.4501,6,   180.62,2,   180.27,2,    41.78,2,     0.21,    30.45,2,     0.12,     0.01,2,     0.01,    2.149,2,    0.015,    0.364,2,    0.195,2,    0.005,2,   2210.3,2,   2313.3,2,   7.6390,  25,2,  -999.00,9,  -999.00,   -999.0,9,   -999.0,   4.9060,  27.2504