BOTTLE,20111109CCHDOSIOCBG
EXPOCODE,SECT_ID,STNNBR,CASTNO,SAMPNO,BTLNBR,BTLNBR_FLAG_W,DATE,TIME,LATITUDE,LONGITUDE,DEPTH,CTDPRS,CTDPRS_FLAG_W,CTDTMP,CTDTMP_FLAG_W,SBE35,SBE35_FLAG_W,CTDSAL,CTDSAL_FLAG_W,SALNTY,SALNTY_FLAG_W,CTDOXY,CTDOXY_FLAG_W,OXYGEN,OXYGEN_FLAG_W,SILCAT,SILCAT_FLAG_W,SILUNC,NITRAT,NITRAT_FLAG_W,NRAUNC,NITRIT,NITRIT_FLAG_W,NRIUNC,PHSPHT,PHSPHT_FLAG_W,PHPUNC,CFC-11,CFC-11_FLAG_W,CFC-12,CFC-12_FLAG_W,CFC113,CFC113_FLAG_W,TCARBN,TCARBN_FLAG_W,ALKALI,ALKALI_FLAG_W,PH_TOT,PH_TMP,PH_TOT_FLAG_W,DELC13,DELC13_FLAG_W,C13ERR,DELC14,DELC14_FLAG_W,C14ERR,THETA,SIG0
,,,,,,,,,,,METERS,DBAR,,ITS-90,,ITS-90,,PSS-78,,PSS-78,,UMOL/KG,,UMOL/KG,,UMOL/KG,,UMOL/KG,UMOL/KG,,UMOL/KG,UMOL/KG,,UMOL/KG,UMOL/KG,,UMOL/KG,PMOL/KG,,PMOL/KG,,PMOL/KG,,UMOL/KG,,UMOL/KG,,,DEG C,,/MILLE,,/MILLE,/MILLE,,/MILLE,DEG C,KG/M^3
  49NZ20090521,   P21,   193,  1,      0,    -99,9,20090531,2147,-17.5040,-168.3405, 4802,   -999.0,9,-999.0000,9,-999.00000,9,-999.0000,9,  35.0803,2,  -999.00,9,  -999.00,9,  -999.00,9,  -999.00,  -999.00,9,  -999.00,  -999.00,9,  -999.00, -999.000,9, -999.000, -999.000,9, -999.000,9, -999.000,9,   -999.0,9,   -999.0,9,-999.0000,-999,9,  -999.00,9,  -999.00,   -999.0,9,   -999.0,-999.0000,-999.0000
  49NZ20090521,   P21,   193,  1,     36, X12043,2,20090531,2147,-17.5040,-168.3405, 4802,     10.8,2,  27.9068,2,  27.90871,2,  35.1217,2,  35.1137,2,   198.86,2,   198.66,2,     0.42,2,     0.12,     0.07,2,     0.03,     0.02,2,     0.01,    0.070,2,    0.027,    1.456,2,    0.920,2, -999.000,5,   1948.0,2,   2305.5,2,   8.1456,  25,2,  -999.00,9,  -999.00,   -999.0,9,   -999.0,  27.9043,  22.5174
  49NZ20090521,   P21,   193,  1,     35, X12042,2,20090531,2147,-17.5040,-168.3405, 4802,     50.4,2,  28.0890,2,  28.08439,2,  35.4206,2,  35.4228,2,   197.90,2,   198.32,2,     0.49,2,     0.12,     0.06,2,     0.03,     0.01,2,     0.01,    0.124,2,    0.020,    1.462,2,    0.927,2, -999.000,5,   1967.5,6,   2329.1,2,   8.1420,  25,2,  -999.00,9,  -999.00,   -999.0,9,   -999.0,  28.0771,  22.6857
  49NZ20090521,   P21,   193,  1,     34, X12016,2,20090531,2147,-17.5040,-168.3405, 4802,    101.0,2,  24.9547,2,  24.95261,2,  35.6294,2,  35.6289,2,   206.15,2,   205.17,2,     0.45,2,     0.12,     0.07,2,     0.03,     0.01,2,     0.01,    0.157,2,    0.018,    1.719,6,    1.066,6, -999.000,5,   2003.9,2,   2342.5,6,   8.0984,  25,2,  -999.00,9,  -999.00,   -999.0,9,   -999.0,  24.9328,  23.8375
  49NZ20090521,   P21,   193,  1,     33, X12015,2,20090531,2147,-17.5040,-168.3405, 4802,    151.3,2,  23.3470,2,  23.33600,2,  35.8187,2,  35.8173,2,   177.36,2,   176.88,2,     0.52,2,     0.12,     1.23,2,     0.04,     0.04,2,     0.01,    0.303,2,    0.014,    1.835,2,    1.117,2,    0.164,2,   2051.5,2,   2353.3,2,   8.0337,  25,6,  -999.00,9,  -999.00,   -999.0,9,   -999.0,  23.3157,  24.4630
  49NZ20090521,   P21,   193,  1,     32, X12050,2,20090531,2147,-17.5040,-168.3405, 4802,    200.5,2,  21.6392,2,  21.64036,2,  35.7718,2,  35.7713,2,   176.16,2,   175.59,2,     0.53,2,     0.12,     2.35,2,     0.04,     0.03,2,     0.01,    0.353,2,    0.014,    1.958,2,    1.162,2,    0.086,2,   2066.0,2,   2348.7,2,   8.0021,  25,2,  -999.00,9,  -999.00,   -999.0,9,   -999.0,  21.5998,  24.9163
  49NZ20090521,   P21,   193,  1,     31, X12014,2,20090531,2147,-17.5040,-168.3405, 4802,    251.1,2,  19.8010,2,  19.80317,2,  35.6366,2,  35.6358,6,   176.62,2,   176.40,2,     0.76,2,     0.12,     3.73,2,     0.04,     0.02,2,     0.01,    0.446,2,    0.013,    2.132,2,    1.240,2,    0.031,2,   2082.4,2,   2340.4,2,   7.9654,  25,2,  -999.00,9,  -999.00,   -999.0,9,   -999.0,  19.7547,  25.3121
  49NZ20090521,   P21,   193,  1,     30, X12012,2,20090531,2147,-17.5040,-168.3405, 4802,    331.3,2,  15.7973,2,  15.80203,2,  35.1697,2,  35.1710,2,   166.67,2,   166.46,2,     3.03,2,     0.13,     9.40,2,     0.06,     0.02,2,     0.01,    0.868,2,    0.013,    2.170,2,    1.181,2,    0.021,2,   2113.7,2,   2315.6,2,   7.8652,  25,2,  -999.00,9,  -999.00,   -999.0,9,   -999.0,  15.7451,  25.9363
  49NZ20090521,   P21,   193,  1,     29, X12041,2,20090531,2147,-17.5040,-168.3405, 4802,    430.4,2,  11.5634,2,  11.56315,2,  34.7416,2,  34.7444,2,   160.04,2,   159.83,2,     7.63,2,     0.14,    17.50,2,     0.08,     0.02,2,     0.01,    1.391,2,    0.014,    1.789,6,    0.925,6,    0.021,6,   2145.3,2,   2295.5,2,   7.7522,  25,2,  -999.00,9,  -999.00,   -999.0,9,   -999.0,  11.5082,  26.4811
  49NZ20090521,   P21,   193,  1,     28, X12040,2,20090531,2147,-17.5040,-168.3405, 4802,    531.6,2,   7.6925,2,   7.69282,2,  34.4521,2,  34.4524,6,   169.23,2,   168.76,2,    15.02,2,     0.15,    26.03,2,     0.11,     0.01,2,     0.01,    1.907,2,    0.015,    1.128,2,    0.562,2,    0.017,2,   2176.5,2,   2287.2,2,   7.6581,  25,2,  -999.00,9,  -999.00,   -999.0,9,   -999.0,   7.6392,  26.8966
  49NZ20090521,   P21,   193,  1,     27, X12009,2,20090531,2147,-17.5040,-168.3405, 4802,    632.0,2,   6.0802,2,   6.08015,2,  34.3786,2,  34.3781,2,   181.29,2,   180.89,2,    21.22,2,     0.17,    29.23,2,     0.11,     0.02,2,     0.01,    2.071,2,    0.015,    0.687,6,    0.343,6,    0.015,6,   2183.1,2,   2290.1,2,   7.6420,  25,2,  -999.00,9,  -999.00,   -999.0,9,   -999.0,   6.0241,  27.0585
  49NZ20090521,   P21,   193,  1,     26, X12008,2,20090531,2147,-17.5040,-168.3405, 4802,    730.7,2,   5.2745,2,   5.27495,2,  34.3901,2,  34.3900,2,   170.70,2,   170.33,2,    32.13,2,     0.19,    31.62,2,     0.12,     0.01,2,     0.01,    2.232,2,    0.016,    0.270,2,    0.140,2,    0.004,2,   2206.4,6,   2301.6,2,   7.6164,  25,2,  -999.00,9,  -999.00,   -999.0,9,   -999.0,   5.2136,  27.1668
  49NZ20090521,   P21,   193,  1,     25, X12007,2,20090531,2147,-17.5040,-168.3405, 4802,    831.9,2,   4.6258,2,   4.62589,2,  34.4191,2,  34.4187,2,   161.88,2,   161.65,2,    44.36,2,     0.22,    33.26,2,     0.13,     0.01,2,     0.01,    2.349,2,    0.016,    0.105,2,    0.057,2,    0.000,2,   2222.9,2,   2314.0,6,   7.5972,  25,2,  -999.00,9,  -999.00,   -999.0,9,   -999.0,   4.5600,  27.2643
  49NZ20090521,   P21,   193,  1,     24, X12035,2,20090531,2147,-17.5040,-168.3405, 4802,    931.7,2,   4.0796,2,   4.07998,2,  34.4521,2,  34.4516,2,   156.54,2,   156.11,2,    56.02,2,     0.24,    34.29,2,     0.13,     0.01,2,     0.01,    2.421,2,    0.016,    0.040,2,    0.024,2,    0.000,2,   2240.7,2,   2327.1,2,   7.5860,  25,6,  -999.00,9,  -999.00,   -999.0,9,   -999.0,   4.0091,  27.3494
  49NZ20090521,   P21,   193,  1,     23, X12038,2,20090531,2147,-17.5040,-168.3405, 4802,   1073.0,2,   3.4164,2,   3.41705,2,  34.4979,2,  34.4977,6,   153.94,2,   153.82,2,    70.86,2,     0.27,    35.04,2,     0.13,     0.01,2,     0.01,    2.478,2,    0.016,    0.012,2,    0.008,2,    0.000,2,   2258.1,2,   2343.3,2,   7.5794,  25,2,  -999.00,9,  -999.00,   -999.0,9,   -999.0,   3.3395,  27.4526
  49NZ20090521,   P21,   193,  1,     22, X12034,2,20090531,2147,-17.5040,-168.3405, 4802,   1271.0,2,   3.0810,2,   3.08114,2,  34.5533,2,  34.5531,2,   143.83,2,   143.46,2,    86.82,2,     0.31,    35.97,2,     0.13,     0.01,2,     0.01,    2.537,2,    0.016,    0.003,2,    0.002,2,    0.000,2,   2280.3,2,   2363.6,2,   7.5691,  25,2,  -999.00,9,  -999.00,   -999.0,9,   -999.0,   2.9911,  27.5293
  49NZ20090521,   P21,   193,  1,     21, X12033,2,20090531,2147,-17.5040,-168.3405, 4802,   1471.5,2,   2.7397,2,   2.73949,2,  34.5821,2,  34.5813,2,   144.57,2,   144.33,2,    96.34,2,     0.33,    35.95,2,     0.13,     0.01,2,     0.01,    2.548,2,    0.016,    0.003,2,    0.002,2,    0.000,2,   2290.4,2,   2372.2,2,   7.5708,  25,2,  -999.00,9,  -999.00,   -999.0,9,   -999.0,   2.6372,  27.5839
  49NZ20090521,   P21,   193,  1,     20, X12032,2,20090531,2147,-17.5040,-168.3405, 4802,   1671.8,2,   2.4931,2,   2.49311,2,  34.6040,2,  34.6040,2,   145.43,2,   144.96,2,   103.94,2,     0.35,    36.03,2,     0.13,     0.01,2,     0.01,    2.551,2,    0.016,    0.000,2,    0.001,2,    0.000,2,   2296.8,2,   2381.2,2,   7.5735,  25,6,  -999.00,9,  -999.00,   -999.0,9,   -999.0,   2.3771,  27.6237
  49NZ20090521,   P21,   193,  1,     19, X12046,2,20090531,2147,-17.5040,-168.3405, 4802,   1869.6,2,   2.3045,2,   2.30452,2,  34.6217,2,  34.6218,2,   145.53,2,   145.30,2,   110.26,2,     0.36,    36.03,2,     0.13,     0.01,2,     0.01,    2.546,2,    0.016,    0.001,2,    0.001,2,    0.000,2,   2301.0,2,   2389.0,2,   7.5748,  25,2,  -999.00,9,  -999.00,   -999.0,9,   -999.0,   2.1746,  27.6545
  49NZ20090521,   P21,   193,  1,     18, X12006,2,20090531,2147,-17.5040,-168.3405, 4802,   2070.3,2,   2.1274,2,   2.12732,2,  34.6370,2,  34.6372,2,   146.25,2,   145.82,2,   115.90,2,     0.37,    36.05,2,     0.13,     0.01,2,     0.01,    2.556,2,    0.016,    0.000,2,    0.000,2,    0.000,2,   2307.4,2,   2394.9,2,   7.5769,  25,2,  -999.00,9,  -999.00,   -999.0,9,   -999.0,   1.9830,  27.6822
  49NZ20090521,   P21,   193,  1,     17, X12047,2,20090531,2147,-17.5040,-168.3405, 4802,   2270.6,2,   2.0038,2,   2.00382,2,  34.6473,2,  34.6473,6,   148.21,2,   147.84,2,   119.17,2,     0.38,    35.98,2,     0.13,     0.01,2,     0.01,    2.542,2,    0.016,    0.000,2,    0.000,2,    0.000,2,   2308.1,3,   2397.8,2,   7.5798,  25,2,  -999.00,9,  -999.00,   -999.0,9,   -999.0,   1.8440,  27.7013
  49NZ20090521,   P21,   193,  1,     16, X12004,2,20090531,2147,-17.5040,-168.3405, 4802,   2469.9,2,   1.8966,2,   1.89706,2,  34.6565,2,  34.6565,2,   149.95,2,   149.65,2,   122.26,2,     0.39,    35.89,2,     0.13,     0.01,2,     0.01,    2.540,2,    0.016,    0.000,2,    0.000,2,    0.000,2,   2311.0,6,   2401.1,2,   7.5828,  25,2,  -999.00,9,  -999.00,   -999.0,9,   -999.0,   1.7209,  27.7181
  49NZ20090521,   P21,   193,  1,     15, X12003,2,20090531,2147,-17.5040,-168.3405, 4802,   2669.7,2,   1.8102,2,   1.81016,2,  34.6636,2,  34.6634,2,   153.02,2,   152.70,2,   123.40,2,     0.39,    35.77,2,     0.13,     0.01,2,     0.01,    2.519,2,    0.016,    0.000,2,    0.000,2,    0.000,2,   2313.4,2,   2402.1,6,   7.5863,  25,2,  -999.00,9,  -999.00,   -999.0,9,   -999.0,   1.6179,  27.7315
  49NZ20090521,   P21,   193,  1,     14, X12002,2,20090531,2147,-17.5040,-168.3405, 4802,   2869.1,2,   1.7441,2,   1.74399,2,  34.6693,2,  34.6694,2,   155.09,2,   154.72,2,   125.05,2,     0.39,    35.51,2,     0.13,     0.01,2,     0.01,    2.506,2,    0.016,    0.000,2,    0.000,2,    0.000,2,   2313.5,2,   2403.4,2,   7.5891,  25,6,  -999.00,9,  -999.00,   -999.0,9,   -999.0,   1.5345,  27.7423
  49NZ20090521,   P21,   193,  1,     13, X12001,2,20090531,2147,-17.5040,-168.3405, 4802,   3080.5,2,   1.6756,2,   1.67559,2,  34.6748,2,  34.6740,3,   157.61,2,   157.08,2,   126.51,2,     0.40,    35.49,2,     0.13,     0.01,2,     0.01,    2.495,2,    0.016,    0.001,2,    0.000,2,    0.000,2,   2313.0,2,   2404.0,2,   7.5913,  25,2,  -999.00,9,  -999.00,   -999.0,9,   -999.0,   1.4472,  27.7531
  49NZ20090521,   P21,   193,  1,     12, X12030,2,20090531,2147,-17.5040,-168.3405, 4802,   3330.2,2,   1.6028,2,   1.60306,2,  34.6807,2,  34.6799,3,   161.84,2,   161.54,2,   126.63,2,     0.40,    35.19,2,     0.13,     0.01,2,     0.01,    2.474,2,    0.016,    0.002,2,    0.000,2,    0.000,2,   2309.1,2,   2403.2,2,   7.5953,  25,2,  -999.00,9,  -999.00,   -999.0,9,   -999.0,   1.3513,  27.7646
  49NZ20090521,   P21,   193,  1,     11, X12044,2,20090531,2147,-17.5040,-168.3405, 4802,   3579.5,2,   1.5495,2,   1.54949,2,  34.6853,2,  34.6854,6,   166.36,2,   166.15,2,   125.81,2,     0.40,    34.85,2,     0.13,     0.01,2,     0.01,    2.450,2,    0.016,    0.001,2,    0.001,2,    0.000,2,   2305.5,2,   2399.6,2,   7.5987,  25,2,  -999.00,9,  -999.00,   -999.0,9,   -999.0,   1.2739,  27.7738
  49NZ20090521,   P21,   193,  1,     10, X12048,2,20090531,2147,-17.5040,-168.3405, 4802,   3831.0,2,   1.4399,2,   1.44004,2,  34.6949,2,  34.6952,2,   176.83,2,   176.59,2,   122.15,2,     0.39,    34.06,2,     0.13,     0.01,2,     0.01,    2.391,2,    0.016,    0.004,2,    0.001,2,    0.000,2,   2293.8,2,   2391.0,2,   7.6055,  25,2,  -999.00,9,  -999.00,   -999.0,9,   -999.0,   1.1408,  27.7907
  49NZ20090521,   P21,   193,  1,      9, X12027,2,20090531,2147,-17.5040,-168.3405, 4802,   4080.3,2,   1.3353,2,   1.33544,2,  34.7041,2,  34.7050,2,   188.40,2,   188.18,2,   117.61,2,     0.38,    33.06,2,     0.13,     0.01,2,     0.01,    2.325,2,    0.016,    0.006,2,    0.002,2,    0.000,2,   2276.2,2,   2379.6,2,   7.6130,  25,2,  -999.00,9,  -999.00,   -999.0,9,   -999.0,   1.0122,  27.8068
  49NZ20090521,   P21,   193,  1,      8, X12026,2,20090531,2147,-17.5040,-168.3405, 4802,   4331.0,2,   1.2061,2,   1.20589,2,  34.7099,2,  34.7106,2,   198.64,2,   198.19,2,   114.95,2,     0.37,    32.45,2,     0.12,     0.01,2,     0.01,    2.272,2,    0.016,    0.011,2,    0.005,2,    0.000,2,   2268.6,6,   2370.8,2,   7.6178,  25,2,  -999.00,9,  -999.00,   -999.0,9,   -999.0,   0.8591,  27.8215
  49NZ20090521,   P21,   193,  1,      7, X12025,2,20090531,2147,-17.5040,-168.3405, 4802,   4579.9,2,   1.0625,2,   1.06244,2,  34.7092,2,  34.7097,2,   204.84,2,   204.34,2,   116.63,2,     0.38,    32.24,2,     0.12,     0.01,2,     0.01,    2.255,2,    0.016,    0.022,2,    0.011,2,    0.000,2,   2264.8,2,   2366.9,6,   7.6193,  25,2,  -999.00,9,  -999.00,   -999.0,9,   -999.0,   0.6919,  27.8316
  49NZ20090521,   P21,   193,  1,      6, X12024,9,20090531,2147,-17.5040,-168.3405, 4802,     10.6,2,  27.9088,2,  27.91088,2,  35.1162,2,-999.0000,9,   198.82,2,  -999.00,9,  -999.00,9,  -999.00,  -999.00,9,  -999.00,  -999.00,9,  -999.00, -999.000,9, -999.000, -999.000,9, -999.000,9, -999.000,9,   -999.0,9,   -999.0,9,-999.0000,-999,9,  -999.00,9,  -999.00,   -999.0,9,   -999.0,  27.9063,  22.5126
  49NZ20090521,   P21,   193,  1,      5, X12028,9,20090531,2147,-17.5040,-168.3405, 4802,     10.8,2,  27.9043,2,  27.90635,2,  35.1175,2,-999.0000,9,   199.00,2,  -999.00,9,  -999.00,9,  -999.00,  -999.00,9,  -999.00,  -999.00,9,  -999.00, -999.000,9, -999.000, -999.000,9, -999.000,9, -999.000,9,   -999.0,9,   -999.0,9,-999.0000,-999,9,  -999.00,9,  -999.00,   -999.0,9,   -999.0,  27.9018,  22.5151
  49NZ20090521,   P21,   193,  1,      4, X12022,9,20090531,2147,-17.5040,-168.3405, 4802,     10.6,2,  27.9109,2,  27.90856,2,  35.1174,2,-999.0000,9,   198.81,2,  -999.00,9,  -999.00,9,  -999.00,  -999.00,9,  -999.00,  -999.00,9,  -999.00, -999.000,9, -999.000, -999.000,9, -999.000,9, -999.000,9,   -999.0,9,   -999.0,9,-999.0000,-999,9,  -999.00,9,  -999.00,   -999.0,9,   -999.0,  27.9084,  22.5128
  49NZ20090521,   P21,   193,  1,      3, X12021,9,20090531,2147,-17.5040,-168.3405, 4802,     10.3,2,  27.9120,2,  27.91068,2,  35.1188,2,-999.0000,9,   198.89,2,  -999.00,9,  -999.00,9,  -999.00,  -999.00,9,  -999.00,  -999.00,9,  -999.00, -999.000,9, -999.000, -999.000,9, -999.000,9, -999.000,9,   -999.0,9,   -999.0,9,-999.0000,-999,9,  -999.00,9,  -999.00,   -999.0,9,   -999.0,  27.9096,  22.5136
  49NZ20090521,   P21,   193,  1,      2, X12020,9,20090531,2147,-17.5040,-168.3405, 4802,   1472.2,2,   2.7381,2,   2.73848,2,  34.5821,2,-999.0000,9,   144.59,2,  -999.00,9,  -999.00,9,  -999.00,  -999.00,9,  -999.00,  -999.00,9,  -999.00, -999.000,9, -999.000, -999.000,9, -999.000,9, -999.000,9,   -999.0,9,   -999.0,9,-999.0000,-999,9,  -999.00,9,  -999.00,   -999.0,9,   -999.0,   2.6355,  27.5841
  49NZ20090521,   P21,   193,  1,      1, X12019,2,20090531,2147,-17.5040,-168.3405, 4802,   4848.9,2,   1.0451,2,   1.04501,2,  34.7081,2,  34.7085,6,   206.14,2,   205.82,2,   117.53,2,     0.38,    32.26,2,     0.12,     0.01,2,     0.01,    2.254,2,    0.016,    0.031,2,    0.016,2,    0.003,2,   2261.7,2,   2366.9,2,   7.6196,  25,2,  -999.00,9,  -999.00,   -999.0,9,   -999.0,   0.6440,  27.8336