BOTTLE,20111109CCHDOSIOCBG
EXPOCODE,SECT_ID,STNNBR,CASTNO,SAMPNO,BTLNBR,BTLNBR_FLAG_W,DATE,TIME,LATITUDE,LONGITUDE,DEPTH,CTDPRS,CTDPRS_FLAG_W,CTDTMP,CTDTMP_FLAG_W,SBE35,SBE35_FLAG_W,CTDSAL,CTDSAL_FLAG_W,SALNTY,SALNTY_FLAG_W,CTDOXY,CTDOXY_FLAG_W,OXYGEN,OXYGEN_FLAG_W,SILCAT,SILCAT_FLAG_W,SILUNC,NITRAT,NITRAT_FLAG_W,NRAUNC,NITRIT,NITRIT_FLAG_W,NRIUNC,PHSPHT,PHSPHT_FLAG_W,PHPUNC,CFC-11,CFC-11_FLAG_W,CFC-12,CFC-12_FLAG_W,CFC113,CFC113_FLAG_W,TCARBN,TCARBN_FLAG_W,ALKALI,ALKALI_FLAG_W,PH_TOT,PH_TMP,PH_TOT_FLAG_W,DELC13,DELC13_FLAG_W,C13ERR,DELC14,DELC14_FLAG_W,C14ERR,THETA,SIG0
,,,,,,,,,,,METERS,DBAR,,ITS-90,,ITS-90,,PSS-78,,PSS-78,,UMOL/KG,,UMOL/KG,,UMOL/KG,,UMOL/KG,UMOL/KG,,UMOL/KG,UMOL/KG,,UMOL/KG,UMOL/KG,,UMOL/KG,PMOL/KG,,PMOL/KG,,PMOL/KG,,UMOL/KG,,UMOL/KG,,,DEG C,,/MILLE,,/MILLE,/MILLE,,/MILLE,DEG C,KG/M^3
  49NZ20090521,   P21,   215,  1,      0,   -999,9,20090605,1308,-18.4150,-179.6637, 2951,   -999.0,9,-999.0000,9,-999.00000,9,-999.0000,9,  35.0855,2,  -999.00,9,  -999.00,9,  -999.00,9,  -999.00,  -999.00,9,  -999.00,  -999.00,9,  -999.00, -999.000,9, -999.000, -999.000,9, -999.000,9, -999.000,9,   -999.0,9,   -999.0,9,-999.0000,-999,9,  -999.00,9,  -999.00,   -999.0,9,   -999.0,-999.0000,-999.0000
  49NZ20090521,   P21,   215,  1,     36, X12043,2,20090605,1308,-18.4150,-179.6637, 2951,     10.3,2,  26.7288,2,  26.72923,2,  35.0532,2,  35.0517,2,   200.77,2,   200.88,2,     0.64,2,     0.12,     0.07,2,     0.03,     0.01,2,     0.01,    0.051,2,    0.034,    1.504,2,    0.939,2, -999.000,5,   -999.0,9,   -999.0,9,-999.0000,-999,9,  -999.00,9,  -999.00,   -999.0,9,   -999.0,  26.7265,  22.8449
  49NZ20090521,   P21,   215,  1,     35, X12042,2,20090605,1308,-18.4150,-179.6637, 2951,     50.0,2,  26.8312,2,  26.81740,2,  35.0940,2,  35.0854,2,   199.91,2,   200.41,2,     0.56,2,     0.12,     0.06,2,     0.03,     0.01,2,     0.01,    0.051,2,    0.034,    1.493,2,    0.910,2, -999.000,5,   -999.0,9,   -999.0,9,-999.0000,-999,9,  -999.00,9,  -999.00,   -999.0,9,   -999.0,  26.8198,  22.8460
  49NZ20090521,   P21,   215,  1,     34, X12016,2,20090605,1308,-18.4150,-179.6637, 2951,    101.0,2,  25.1815,2,  25.17962,2,  35.3275,2,  35.3167,2,   187.86,2,   188.25,2,     0.55,2,     0.12,     0.43,2,     0.03,     0.25,2,     0.01,    0.157,2,    0.018,    1.702,6,    1.034,6, -999.000,5,   -999.0,9,   -999.0,9,-999.0000,-999,9,  -999.00,9,  -999.00,   -999.0,9,   -999.0,  25.1595,  23.5401
  49NZ20090521,   P21,   215,  1,     33, X12015,2,20090605,1308,-18.4150,-179.6637, 2951,    151.5,2,  23.3289,2,  23.32764,2,  35.6617,2,  35.6603,2,   168.66,2,   168.51,2,     0.64,2,     0.12,     2.43,2,     0.04,     0.02,2,     0.01,    0.324,2,    0.014,    1.861,2,    1.112,2,    0.123,2,   -999.0,9,   -999.0,9,-999.0000,-999,9,  -999.00,9,  -999.00,   -999.0,9,   -999.0,  23.2976,  24.3492
  49NZ20090521,   P21,   215,  1,     32, X12050,2,20090605,1308,-18.4150,-179.6637, 2951,    200.8,2,  21.6852,2,  21.68969,2,  35.8002,2,  35.7991,2,   162.81,2,   163.02,2,     0.79,2,     0.12,     3.89,2,     0.04,     0.01,2,     0.01,    0.455,2,    0.013,    2.016,2,    1.174,2,    0.062,2,   -999.0,9,   -999.0,9,-999.0000,-999,9,  -999.00,9,  -999.00,   -999.0,9,   -999.0,  21.6457,  24.9252
  49NZ20090521,   P21,   215,  1,     31, X12014,2,20090605,1308,-18.4150,-179.6637, 2951,    251.8,2,  19.2090,2,  19.21743,2,  35.5903,2,  35.5926,6,   167.81,2,   167.67,2,     1.32,2,     0.12,     5.55,2,     0.05,     0.01,2,     0.01,    0.564,2,    0.013,    2.184,2,    1.235,2,    0.022,2,   -999.0,9,   -999.0,9,-999.0000,-999,9,  -999.00,9,  -999.00,   -999.0,9,   -999.0,  19.1635,  25.4304
  49NZ20090521,   P21,   215,  1,     30, X12012,2,20090605,1308,-18.4150,-179.6637, 2951,    329.9,2,  16.3442,2,  16.33647,2,  35.2875,2,  35.2883,2,   172.73,2,   172.93,2,     2.48,2,     0.12,     8.14,2,     0.06,     0.01,2,     0.01,    0.731,2,    0.013,    2.264,2,    1.239,2,    0.019,2,   -999.0,9,   -999.0,9,-999.0000,-999,9,  -999.00,9,  -999.00,   -999.0,9,   -999.0,  16.2909,  25.9018
  49NZ20090521,   P21,   215,  1,     29, X12041,2,20090605,1308,-18.4150,-179.6637, 2951,    430.8,2,  11.8884,2,  11.88850,2,  34.8470,2,  34.8469,2,   179.49,2,   179.52,2,     6.54,2,     0.13,    15.73,2,     0.08,     0.01,2,     0.01,    1.202,2,    0.013,    2.014,6,    1.035,6,    0.031,6,   -999.0,9,   -999.0,9,-999.0000,-999,9,  -999.00,9,  -999.00,   -999.0,9,   -999.0,  11.8321,  26.5022
  49NZ20090521,   P21,   215,  1,     28, X12040,2,20090605,1308,-18.4150,-179.6637, 2951,    531.2,2,   9.0351,2,   9.03880,2,  34.5750,2,  34.5761,6,   184.99,2,   185.22,2,    10.25,2,     0.14,    21.39,2,     0.09,     0.01,2,     0.01,    1.561,2,    0.014,    1.717,2,    0.853,2,    0.051,2,   -999.0,9,   -999.0,9,-999.0000,-999,9,  -999.00,9,  -999.00,   -999.0,9,   -999.0,   8.9765,  26.7891
  49NZ20090521,   P21,   215,  1,     27, X12009,2,20090605,1308,-18.4150,-179.6637, 2951,    631.9,2,   6.8587,2,   6.85915,2,  34.4259,2,  34.4253,2,   194.52,2,   194.32,2,    16.89,2,     0.16,    25.94,2,     0.11,     0.01,2,     0.01,    1.836,2,    0.015,    1.211,6,    0.587,6,    0.026,6,   -999.0,9,   -999.0,9,-999.0000,-999,9,  -999.00,9,  -999.00,   -999.0,9,   -999.0,   6.7989,  26.9940
  49NZ20090521,   P21,   215,  1,     26, X12008,2,20090605,1308,-18.4150,-179.6637, 2951,    730.0,2,   5.7840,2,   5.78359,2,  34.3937,2,  34.3936,2,   188.53,2,   188.51,2,    25.83,2,     0.18,    28.87,2,     0.11,     0.01,2,     0.01,    2.022,2,    0.015,    0.715,2,    0.345,2,    0.015,2,   -999.0,9,   -999.0,9,-999.0000,-999,9,  -999.00,9,  -999.00,   -999.0,9,   -999.0,   5.7204,  27.1086
  49NZ20090521,   P21,   215,  1,     25, X12007,3,20090605,1308,-18.4150,-179.6637, 2951,    830.6,2,   5.1198,2,   5.11976,2,  34.4145,2,  34.4150,2,   179.36,2,   179.26,2,    37.26,2,     0.20,    30.59,2,     0.12,     0.01,2,     0.01,    2.146,2,    0.015,    0.460,2,    0.223,2,    0.000,2,   -999.0,9,   -999.0,9,-999.0000,-999,9,  -999.00,9,  -999.00,   -999.0,9,   -999.0,   5.0510,  27.2052
  49NZ20090521,   P21,   215,  1,     24, X12035,2,20090605,1308,-18.4150,-179.6637, 2951,    931.1,2,   4.4284,2,   4.42838,2,  34.4420,2,  34.4420,2,   170.47,2,   170.58,2,    50.28,2,     0.23,    32.38,2,     0.12,     0.01,2,     0.01,    2.267,2,    0.016,    0.237,2,    0.114,2,    0.000,2,   -999.0,9,   -999.0,9,-999.0000,-999,9,  -999.00,9,  -999.00,   -999.0,9,   -999.0,   4.3555,  27.3047
  49NZ20090521,   P21,   215,  1,     23, X12038,2,20090605,1308,-18.4150,-179.6637, 2951,   1072.1,2,   3.8775,2,   3.87746,2,  34.4790,2,  34.4791,6,   162.24,2,   162.37,2,    63.54,2,     0.26,    33.65,2,     0.13,     0.01,2,     0.01,    2.357,2,    0.016,    0.115,2,    0.055,2,    0.000,2,   -999.0,9,   -999.0,9,-999.0000,-999,9,  -999.00,9,  -999.00,   -999.0,9,   -999.0,   3.7969,  27.3925
  49NZ20090521,   P21,   215,  1,     22, X12034,2,20090605,1308,-18.4150,-179.6637, 2951,   1270.5,2,   3.3143,2,   3.31422,2,  34.5308,2,  34.5308,2,   153.67,2,   153.73,2,    80.23,2,     0.30,    34.71,2,     0.13,     0.01,2,     0.01,    2.442,2,    0.016,    0.036,2,    0.020,2,    0.000,2,   -999.0,9,   -999.0,9,-999.0000,-999,9,  -999.00,9,  -999.00,   -999.0,9,   -999.0,   3.2222,  27.4899
  49NZ20090521,   P21,   215,  1,     21, X12033,2,20090605,1308,-18.4150,-179.6637, 2951,   1470.6,2,   2.8734,2,   2.87352,2,  34.5736,2,  34.5739,2,   149.45,2,   149.63,2,    93.50,2,     0.32,    35.25,2,     0.13,     0.01,2,     0.01,    2.481,2,    0.016,    0.015,2,    0.007,2,    0.000,2,   -999.0,9,   -999.0,9,-999.0000,-999,9,  -999.00,9,  -999.00,   -999.0,9,   -999.0,   2.7694,  27.5655
  49NZ20090521,   P21,   215,  1,     20, X12032,2,20090605,1308,-18.4150,-179.6637, 2951,   1669.8,2,   2.7049,2,   2.70498,2,  34.5909,2,  34.5913,6,   148.68,2,   148.83,2,    98.62,2,     0.34,    35.37,2,     0.13,     0.01,2,     0.01,    2.490,2,    0.016,    0.008,2,    0.003,2,    0.000,2,   -999.0,9,   -999.0,9,-999.0000,-999,9,  -999.00,9,  -999.00,   -999.0,9,   -999.0,   2.5864,  27.5953
  49NZ20090521,   P21,   215,  1,     19, X12046,2,20090605,1308,-18.4150,-179.6637, 2951,   1870.6,2,   2.4476,2,   2.44775,2,  34.6160,2,  34.6166,2,   148.51,2,   148.65,2,   105.72,2,     0.35,    35.52,2,     0.13,     0.01,2,     0.01,    2.504,2,    0.016,    0.002,2,    0.002,2,    0.000,2,   -999.0,9,   -999.0,9,-999.0000,-999,9,  -999.00,9,  -999.00,   -999.0,9,   -999.0,   2.3156,  27.6384
  49NZ20090521,   P21,   215,  1,     18, X12006,2,20090605,1308,-18.4150,-179.6637, 2951,   2070.4,2,   2.2792,2,   2.27916,2,  34.6330,2,  34.6333,2,   148.85,2,   148.97,2,   110.36,2,     0.36,    35.49,2,     0.13,     0.01,2,     0.01,    2.504,2,    0.016,    0.003,2,    0.001,2,    0.000,2,   -999.0,9,   -999.0,9,-999.0000,-999,9,  -999.00,9,  -999.00,   -999.0,9,   -999.0,   2.1324,  27.6670
  49NZ20090521,   P21,   215,  1,     17, X12047,2,20090605,1308,-18.4150,-179.6637, 2951,   2272.1,2,   2.1467,2,   2.14667,2,  34.6464,2,  34.6464,2,   149.55,2,   149.60,2,   113.94,2,     0.37,    35.51,2,     0.13,     0.01,2,     0.01,    2.507,2,    0.016,    0.000,2,    0.001,2,    0.000,2,   -999.0,9,   -999.0,9,-999.0000,-999,9,  -999.00,9,  -999.00,   -999.0,9,   -999.0,   1.9843,  27.6896
  49NZ20090521,   P21,   215,  1,     16, X12004,2,20090605,1308,-18.4150,-179.6637, 2951,   2470.3,2,   2.0752,2,   2.07532,2,  34.6546,2,  34.6547,6,   149.73,2,   149.91,2,   116.03,2,     0.37,    35.51,2,     0.13,     0.01,2,     0.01,    2.502,2,    0.016,    0.000,2,    0.000,2,    0.000,2,   -999.0,9,   -999.0,9,-999.0000,-999,9,  -999.00,9,  -999.00,   -999.0,9,   -999.0,   1.8962,  27.7031
  49NZ20090521,   P21,   215,  1,     15, X12003,2,20090605,1308,-18.4150,-179.6637, 2951,   2671.0,2,   2.0759,2,   2.07570,2,  34.6560,2,  34.6561,2,   149.69,2,   149.77,2,   116.41,2,     0.38,    35.55,2,     0.13,     0.01,2,     0.01,    2.503,2,    0.016,    0.002,2,    0.000,2,    0.000,2,   -999.0,9,   -999.0,9,-999.0000,-999,9,  -999.00,9,  -999.00,   -999.0,9,   -999.0,   1.8783,  27.7056
  49NZ20090521,   P21,   215,  1,     14, X12002,2,20090605,1308,-18.4150,-179.6637, 2951,   2870.5,2,   2.0903,2,   2.09013,2,  34.6566,2,  34.6569,2,   149.55,2,   149.62,2,   116.73,2,     0.38,    35.66,2,     0.13,     0.01,2,     0.01,    2.505,2,    0.016,    0.000,2,    0.000,2,    0.000,2,   -999.0,9,   -999.0,9,-999.0000,-999,9,  -999.00,9,  -999.00,   -999.0,9,   -999.0,   1.8733,  27.7065
  49NZ20090521,   P21,   215,  1,     13, X12001,9,20090605,1308,-18.4150,-179.6637, 2951,     10.5,2,  26.7324,2,  26.73340,2,  35.0558,2,-999.0000,9,   200.75,2,  -999.00,9,  -999.00,9,  -999.00,  -999.00,9,  -999.00,  -999.00,9,  -999.00, -999.000,9, -999.000, -999.000,9, -999.000,9, -999.000,9,   -999.0,9,   -999.0,9,-999.0000,-999,9,  -999.00,9,  -999.00,   -999.0,9,   -999.0,  26.7300,  22.8458
  49NZ20090521,   P21,   215,  1,     12, X12030,9,20090605,1308,-18.4150,-179.6637, 2951,     50.5,2,  26.8142,2,  26.82014,2,  35.0850,2,-999.0000,9,   199.99,2,  -999.00,9,  -999.00,9,  -999.00,  -999.00,9,  -999.00,  -999.00,9,  -999.00, -999.000,9, -999.000, -999.000,9, -999.000,9, -999.000,9,   -999.0,9,   -999.0,9,-999.0000,-999,9,  -999.00,9,  -999.00,   -999.0,9,   -999.0,  26.8027,  22.8447
  49NZ20090521,   P21,   215,  1,     11, X12044,9,20090605,1308,-18.4150,-179.6637, 2951,    101.2,2,  25.1915,2,  25.19146,2,  35.3293,2,-999.0000,9,   187.89,2,  -999.00,9,  -999.00,9,  -999.00,  -999.00,9,  -999.00,  -999.00,9,  -999.00, -999.000,9, -999.000, -999.000,9, -999.000,9, -999.000,9,   -999.0,9,   -999.0,9,-999.0000,-999,9,  -999.00,9,  -999.00,   -999.0,9,   -999.0,  25.1694,  23.5384
  49NZ20090521,   P21,   215,  1,     10, X12048,9,20090605,1308,-18.4150,-179.6637, 2951,    151.1,2,  23.3275,2,  23.32812,2,  35.6618,2,-999.0000,9,   168.71,2,  -999.00,9,  -999.00,9,  -999.00,  -999.00,9,  -999.00,  -999.00,9,  -999.00, -999.000,9, -999.000, -999.000,9, -999.000,9, -999.000,9,   -999.0,9,   -999.0,9,-999.0000,-999,9,  -999.00,9,  -999.00,   -999.0,9,   -999.0,  23.2962,  24.3496
  49NZ20090521,   P21,   215,  1,      9, X12027,9,20090605,1308,-18.4150,-179.6637, 2951,    201.0,2,  21.6903,2,  21.69254,2,  35.8009,2,-999.0000,9,   162.90,2,  -999.00,9,  -999.00,9,  -999.00,  -999.00,9,  -999.00,  -999.00,9,  -999.00, -999.000,9, -999.000, -999.000,9, -999.000,9, -999.000,9,   -999.0,9,   -999.0,9,-999.0000,-999,9,  -999.00,9,  -999.00,   -999.0,9,   -999.0,  21.6508,  24.9243
  49NZ20090521,   P21,   215,  1,      8, X12026,9,20090605,1308,-18.4150,-179.6637, 2951,    251.0,2,  19.2468,2,  19.24026,2,  35.5940,2,-999.0000,9,   167.56,2,  -999.00,9,  -999.00,9,  -999.00,  -999.00,9,  -999.00,  -999.00,9,  -999.00, -999.000,9, -999.000, -999.000,9, -999.000,9, -999.000,9,   -999.0,9,   -999.0,9,-999.0000,-999,9,  -999.00,9,  -999.00,   -999.0,9,   -999.0,  19.2014,  25.4235
  49NZ20090521,   P21,   215,  1,      7, X12025,9,20090605,1308,-18.4150,-179.6637, 2951,    330.2,2,  16.3352,2,  16.33242,2,  35.2875,2,-999.0000,9,   172.98,2,  -999.00,9,  -999.00,9,  -999.00,  -999.00,9,  -999.00,  -999.00,9,  -999.00, -999.000,9, -999.000, -999.000,9, -999.000,9, -999.000,9,   -999.0,9,   -999.0,9,-999.0000,-999,9,  -999.00,9,  -999.00,   -999.0,9,   -999.0,  16.2819,  25.9038
  49NZ20090521,   P21,   215,  1,      6, X12024,9,20090605,1308,-18.4150,-179.6637, 2951,    432.0,2,  11.8822,2,  11.88349,2,  34.8468,2,-999.0000,9,   179.68,2,  -999.00,9,  -999.00,9,  -999.00,  -999.00,9,  -999.00,  -999.00,9,  -999.00, -999.000,9, -999.000, -999.000,9, -999.000,9, -999.000,9,   -999.0,9,   -999.0,9,-999.0000,-999,9,  -999.00,9,  -999.00,   -999.0,9,   -999.0,  11.8257,  26.5032
  49NZ20090521,   P21,   215,  1,      5, X12028,9,20090605,1308,-18.4150,-179.6637, 2951,    531.1,2,   9.0439,2,   9.04439,2,  34.5759,2,-999.0000,9,   184.85,2,  -999.00,9,  -999.00,9,  -999.00,  -999.00,9,  -999.00,  -999.00,9,  -999.00, -999.000,9, -999.000, -999.000,9, -999.000,9, -999.000,9,   -999.0,9,   -999.0,9,-999.0000,-999,9,  -999.00,9,  -999.00,   -999.0,9,   -999.0,   8.9852,  26.7884
  49NZ20090521,   P21,   215,  1,      4, X12022,9,20090605,1308,-18.4150,-179.6637, 2951,    632.0,2,   6.8593,2,   6.85949,2,  34.4261,2,-999.0000,9,   194.49,2,  -999.00,9,  -999.00,9,  -999.00,  -999.00,9,  -999.00,  -999.00,9,  -999.00, -999.000,9, -999.000, -999.000,9, -999.000,9, -999.000,9,   -999.0,9,   -999.0,9,-999.0000,-999,9,  -999.00,9,  -999.00,   -999.0,9,   -999.0,   6.7995,  26.9941
  49NZ20090521,   P21,   215,  1,      3, X12021,9,20090605,1308,-18.4150,-179.6637, 2951,   1470.5,2,   2.8732,2,   2.87321,2,  34.5737,2,-999.0000,9,   149.47,2,  -999.00,9,  -999.00,9,  -999.00,  -999.00,9,  -999.00,  -999.00,9,  -999.00, -999.000,9, -999.000, -999.000,9, -999.000,9, -999.000,9,   -999.0,9,   -999.0,9,-999.0000,-999,9,  -999.00,9,  -999.00,   -999.0,9,   -999.0,   2.7693,  27.5656
  49NZ20090521,   P21,   215,  1,      2, X12020,2,20090605,1308,-18.4150,-179.6637, 2951,   2469.6,2,   2.0753,2,   2.07532,2,  34.6545,2,  34.6545,2,   149.73,2,   149.94,2,   115.95,2,     0.37,    35.55,2,     0.13,     0.01,2,     0.01,    2.503,2,    0.016, -999.000,9, -999.000,9, -999.000,9,   -999.0,9,   -999.0,9,-999.0000,-999,9,  -999.00,9,  -999.00,   -999.0,9,   -999.0,   1.8964,  27.7030
  49NZ20090521,   P21,   215,  1,      1, X12019,2,20090605,1308,-18.4150,-179.6637, 2951,   2969.0,2,   2.1004,2,   2.10018,2,  34.6565,2,  34.6568,6,   149.62,2,   149.74,2,   116.81,2,     0.38,    35.55,2,     0.13,     0.01,2,     0.01,    2.509,2,    0.016,    0.001,2,    0.000,2,    0.000,2,   -999.0,9,   -999.0,9,-999.0000,-999,9,  -999.00,9,  -999.00,   -999.0,9,   -999.0,   1.8736,  27.7064