BOTTLE,20111109CCHDOSIOCBG
EXPOCODE,SECT_ID,STNNBR,CASTNO,SAMPNO,BTLNBR,BTLNBR_FLAG_W,DATE,TIME,LATITUDE,LONGITUDE,DEPTH,CTDPRS,CTDPRS_FLAG_W,CTDTMP,CTDTMP_FLAG_W,SBE35,SBE35_FLAG_W,CTDSAL,CTDSAL_FLAG_W,SALNTY,SALNTY_FLAG_W,CTDOXY,CTDOXY_FLAG_W,OXYGEN,OXYGEN_FLAG_W,SILCAT,SILCAT_FLAG_W,SILUNC,NITRAT,NITRAT_FLAG_W,NRAUNC,NITRIT,NITRIT_FLAG_W,NRIUNC,PHSPHT,PHSPHT_FLAG_W,PHPUNC,CFC-11,CFC-11_FLAG_W,CFC-12,CFC-12_FLAG_W,CFC113,CFC113_FLAG_W,TCARBN,TCARBN_FLAG_W,ALKALI,ALKALI_FLAG_W,PH_TOT,PH_TMP,PH_TOT_FLAG_W,DELC13,DELC13_FLAG_W,C13ERR,DELC14,DELC14_FLAG_W,C14ERR,THETA,SIG0
,,,,,,,,,,,METERS,DBAR,,ITS-90,,ITS-90,,PSS-78,,PSS-78,,UMOL/KG,,UMOL/KG,,UMOL/KG,,UMOL/KG,UMOL/KG,,UMOL/KG,UMOL/KG,,UMOL/KG,UMOL/KG,,UMOL/KG,PMOL/KG,,PMOL/KG,,PMOL/KG,,UMOL/KG,,UMOL/KG,,,DEG C,,/MILLE,,/MILLE,/MILLE,,/MILLE,DEG C,KG/M^3
  49NZ20090521,   P21,   268,  1,      0,   -999,9,20090614,1736,-22.2150, 160.9197, 1561,   -999.0,9,-999.0000,9,-999.00000,9,-999.0000,9,  35.2501,2,  -999.00,9,  -999.00,9,  -999.00,9,  -999.00,  -999.00,9,  -999.00,  -999.00,9,  -999.00, -999.000,9, -999.000, -999.000,9, -999.000,9, -999.000,9,   -999.0,9,   -999.0,9,-999.0000,-999,9,  -999.00,9,  -999.00,   -999.0,9,   -999.0,-999.0000,-999.0000
  49NZ20090521,   P21,   268,  1,     36, X12043,2,20090614,1736,-22.2150, 160.9197, 1561,     10.6,2,  23.4664,2,  23.46575,2,  35.2280,2,  35.2250,2,   209.98,2,   210.09,2,     0.53,2,     0.12,     0.08,2,     0.03,     0.01,2,     0.01,    0.100,2,    0.022,    1.723,2,    1.090,2, -999.000,5,   1982.7,2,   2305.2,2,   8.0828,  25,6,  -999.00,9,  -999.00,   -999.0,9,   -999.0,  23.4642,  23.9717
  49NZ20090521,   P21,   268,  1,     35, X12042,2,20090614,1736,-22.2150, 160.9197, 1561,     50.1,2,  23.1153,2,  23.11529,2,  35.3490,2,  35.3472,2,   212.03,2,   211.96,2,     0.49,2,     0.12,     0.07,2,     0.03,     0.01,2,     0.01,    0.097,2,    0.022,    1.762,2,    1.109,2, -999.000,5,   1992.0,6,   2314.9,2,   8.0798,  25,2,  -999.00,9,  -999.00,   -999.0,9,   -999.0,  23.1050,  24.1679
  49NZ20090521,   P21,   268,  1,     34, X12016,2,20090614,1736,-22.2150, 160.9197, 1561,    100.5,2,  22.7382,2,  22.73883,2,  35.5137,2,  35.5183,2,   180.60,2,   180.78,2,     0.87,2,     0.12,     2.37,2,     0.04,     0.06,2,     0.01,    0.297,2,    0.014,    1.859,6,    1.149,6,    0.162,4,   2036.2,2,   2325.4,6,   8.0181,  25,2,  -999.00,9,  -999.00,   -999.0,9,   -999.0,  22.7178,  24.4045
  49NZ20090521,   P21,   268,  1,     33, X12015,2,20090614,1736,-22.2150, 160.9197, 1561,    150.8,2,  20.4353,2,  20.43569,2,  35.6410,2,  35.6390,2,   176.16,2,   176.41,2,     1.15,2,     0.12,     4.25,2,     0.04,     0.02,2,     0.01,    0.407,2,    0.013,    2.017,2,    1.228,2,    0.069,2,   2065.1,2,   2332.7,2,   7.9800,  25,6,  -999.00,9,  -999.00,   -999.0,9,   -999.0,  20.4069,  25.1424
  49NZ20090521,   P21,   268,  1,     32, X12050,2,20090614,1736,-22.2150, 160.9197, 1561,    199.9,2,  19.1814,2,  19.18146,2,  35.6466,2,  35.6456,2,   185.93,2,   185.91,2,     1.13,2,     0.12,     4.44,2,     0.05,     0.01,2,     0.01,    0.411,2,    0.013,    2.104,2,    1.277,2,    0.059,2,   2067.8,2,   2334.8,2,   7.9728,  25,2,  -999.00,9,  -999.00,   -999.0,9,   -999.0,  19.1454,  25.4782
  49NZ20090521,   P21,   268,  1,     31, X12014,3,20090614,1736,-22.2150, 160.9197, 1561,    250.1,2,  18.3285,2,  18.32938,2,  35.6216,2,-999.0000,9,   186.67,2,   186.91,2,     1.33,2,     0.12,     5.34,2,     0.05,     0.01,2,     0.01,    0.459,2,    0.013, -999.000,9, -999.000,9, -999.000,9,   2077.7,2,   2331.0,2,   7.9554,  25,2,  -999.00,9,  -999.00,   -999.0,9,   -999.0,  18.2848,  25.6774
  49NZ20090521,   P21,   268,  1,     30, X12012,2,20090614,1736,-22.2150, 160.9197, 1561,    299.9,2,  17.0290,2,  17.03016,2,  35.5340,2,  35.5335,2,   186.60,2,   186.79,2,     1.73,2,     0.12,     6.69,2,     0.05,     0.01,2,     0.01,    0.549,2,    0.013,    2.237,2,    1.320,2,    0.017,2,   2088.4,2,   2328.3,2,   7.9277,  25,2,  -999.00,9,  -999.00,   -999.0,9,   -999.0,  16.9791,  25.9292
  49NZ20090521,   P21,   268,  1,     29, X12041,2,20090614,1736,-22.2150, 160.9197, 1561,    400.2,2,  14.0476,2,  14.04882,2,  35.1950,2,  35.1947,2,   184.06,2,   184.34,2,     3.63,2,     0.13,    11.47,2,     0.06,     0.01,2,     0.01,    0.869,2,    0.013,    2.239,6,    1.256,6,    0.024,6,   2115.4,2,   2311.8,2,   7.8523,  25,2,  -999.00,9,  -999.00,   -999.0,9,   -999.0,  13.9891,  26.3402
  49NZ20090521,   P21,   268,  1,     28, X12040,2,20090614,1736,-22.2150, 160.9197, 1561,    499.9,2,  10.8167,2,  10.81498,2,  34.8260,2,  34.8259,6,   190.68,2,   191.04,2,     6.67,2,     0.13,    17.09,2,     0.08,     0.01,2,     0.01,    1.237,2,    0.013,    2.092,2,    1.116,2,    0.015,2,   2136.3,2,   2297.5,2,   7.7791,  25,2,  -999.00,9,  -999.00,   -999.0,9,   -999.0,  10.7550,  26.6841
  49NZ20090521,   P21,   268,  1,     27, X12009,2,20090614,1736,-22.2150, 160.9197, 1561,    600.1,2,   7.8489,2,   7.85362,2,  34.5360,2,  34.5351,2,   199.26,2,   199.37,2,    12.89,2,     0.15,    23.09,2,     0.10,     0.01,2,     0.01,    1.625,2,    0.014,    1.540,6,    0.792,6,    0.030,6,   2156.2,2,   2290.2,2,   7.7165,  25,2,  -999.00,9,  -999.00,   -999.0,9,   -999.0,   7.7877,  26.9409
  49NZ20090521,   P21,   268,  1,     26, X12008,2,20090614,1736,-22.2150, 160.9197, 1561,    700.6,2,   6.6262,2,   6.62596,2,  34.4540,2,  34.4536,2,   198.05,2,   198.26,2,    20.03,2,     0.16,    26.06,2,     0.11,     0.01,2,     0.01,    1.821,2,    0.015,    1.063,2,    0.542,2,    0.016,2,   2170.8,6,   2293.5,2,   7.6885,  25,2,  -999.00,9,  -999.00,   -999.0,9,   -999.0,   6.5607,  27.0482
  49NZ20090521,   P21,   268,  1,     25, X12007,2,20090614,1736,-22.2150, 160.9197, 1561,    801.3,2,   5.7365,2,   5.73762,2,  34.4292,2,  34.4287,2,   191.63,2,   191.74,2,    28.89,2,     0.18,    28.39,2,     0.11,     0.01,2,     0.01,    1.985,2,    0.015,    0.674,2,    0.348,2,    0.011,2,   2187.6,2,   2300.8,6,   7.6639,  25,2,  -999.00,9,  -999.00,   -999.0,9,   -999.0,   5.6665,  27.1433
  49NZ20090521,   P21,   268,  1,     24, X12035,2,20090614,1736,-22.2150, 160.9197, 1561,    901.4,2,   5.0288,2,   5.02888,2,  34.4376,2,  34.4374,2,   183.11,2,   183.57,2,    39.88,2,     0.21,    30.30,2,     0.12,     0.01,2,     0.01,    2.115,2,    0.015,    0.417,2,    0.218,2,    0.006,2,   2205.2,2,   2311.3,2,   7.6419,  25,2,  -999.00,9,  -999.00,   -999.0,9,   -999.0,   4.9542,  27.2346
  49NZ20090521,   P21,   268,  1,     23, X12038,2,20090614,1736,-22.2150, 160.9197, 1561,    999.8,2,   4.4087,2,   4.40866,2,  34.4671,2,  34.4674,2,   174.36,2,   174.55,2,    52.59,2,     0.23,    31.75,2,     0.12,     0.01,2,     0.01,    2.224,2,    0.016,    0.243,2,    0.125,2,    0.000,2,   2224.7,2,   2324.6,2,   7.6238,  25,2,  -999.00,9,  -999.00,   -999.0,9,   -999.0,   4.3300,  27.3274
  49NZ20090521,   P21,   268,  1,     22, X12034,2,20090614,1736,-22.2150, 160.9197, 1561,   1199.8,2,   3.7235,2,   3.72349,2,  34.5254,2,  34.5262,2,   161.30,2,   161.57,2,    71.38,2,     0.28,    33.40,2,     0.13,     0.01,2,     0.01,    2.349,2,    0.016,    0.091,2,    0.050,2,    0.000,2,   2252.3,2,   2347.6,2,   7.6041,  25,2,  -999.00,9,  -999.00,   -999.0,9,   -999.0,   3.6334,  27.4458
  49NZ20090521,   P21,   268,  1,     21, X12033,2,20090614,1736,-22.2150, 160.9197, 1561,   1399.8,2,   3.1573,2,   3.15737,2,  34.5722,2,  34.5729,2,   153.17,2,   153.11,2,    86.70,2,     0.31,    34.49,2,     0.13,     0.01,2,     0.01,    2.434,2,    0.016,    0.025,2,    0.014,2,    0.000,2,   2273.6,2,   2362.9,2,   7.5906,  25,2,  -999.00,9,  -999.00,   -999.0,9,   -999.0,   3.0561,  27.5384
  49NZ20090521,   P21,   268,  1,     20, X12032,9,20090614,1736,-22.2150, 160.9197, 1561,   -999.0,9,-999.0000,9,-999.00000,9,-999.0000,9,-999.0000,9,  -999.00,9,  -999.00,9,  -999.00,9,  -999.00,  -999.00,9,  -999.00,  -999.00,9,  -999.00, -999.000,9, -999.000, -999.000,9, -999.000,9, -999.000,9,   -999.0,9,   -999.0,9,-999.0000,-999,9,  -999.00,9,  -999.00,   -999.0,9,   -999.0,-999.0000,-999.0000
  49NZ20090521,   P21,   268,  1,     19, X12046,9,20090614,1736,-22.2150, 160.9197, 1561,     10.7,2,  23.4621,2,  23.46289,2,  35.2275,2,-999.0000,9,   209.94,2,  -999.00,9,  -999.00,9,  -999.00,  -999.00,9,  -999.00,  -999.00,9,  -999.00, -999.000,9, -999.000, -999.000,9, -999.000,9, -999.000,9,   -999.0,9,   -999.0,9,-999.0000,-999,9,  -999.00,9,  -999.00,   -999.0,9,   -999.0,  23.4599,  23.9726
  49NZ20090521,   P21,   268,  1,     18, X12006,9,20090614,1736,-22.2150, 160.9197, 1561,     10.6,2,  23.4663,2,  23.46625,2,  35.2272,2,-999.0000,9,   210.04,2,  -999.00,9,  -999.00,9,  -999.00,  -999.00,9,  -999.00,  -999.00,9,  -999.00, -999.000,9, -999.000, -999.000,9, -999.000,9, -999.000,9,   -999.0,9,   -999.0,9,-999.0000,-999,9,  -999.00,9,  -999.00,   -999.0,9,   -999.0,  23.4641,  23.9712
  49NZ20090521,   P21,   268,  1,     17, X12047,9,20090614,1736,-22.2150, 160.9197, 1561,     50.2,2,  23.1184,2,  23.11869,2,  35.3485,2,-999.0000,9,   212.01,2,  -999.00,9,  -999.00,9,  -999.00,  -999.00,9,  -999.00,  -999.00,9,  -999.00, -999.000,9, -999.000, -999.000,9, -999.000,9, -999.000,9,   -999.0,9,   -999.0,9,-999.0000,-999,9,  -999.00,9,  -999.00,   -999.0,9,   -999.0,  23.1081,  24.1667
  49NZ20090521,   P21,   268,  1,     16, X12004,9,20090614,1736,-22.2150, 160.9197, 1561,    100.5,2,  22.7407,2,  22.74144,2,  35.5139,2,-999.0000,9,   181.02,2,  -999.00,9,  -999.00,9,  -999.00,  -999.00,9,  -999.00,  -999.00,9,  -999.00, -999.000,9, -999.000, -999.000,9, -999.000,9, -999.000,9,   -999.0,9,   -999.0,9,-999.0000,-999,9,  -999.00,9,  -999.00,   -999.0,9,   -999.0,  22.7203,  24.4040
  49NZ20090521,   P21,   268,  1,     15, X12003,9,20090614,1736,-22.2150, 160.9197, 1561,    150.5,2,  20.4380,2,  20.43804,2,  35.6413,2,-999.0000,9,   176.19,2,  -999.00,9,  -999.00,9,  -999.00,  -999.00,9,  -999.00,  -999.00,9,  -999.00, -999.000,9, -999.000, -999.000,9, -999.000,9, -999.000,9,   -999.0,9,   -999.0,9,-999.0000,-999,9,  -999.00,9,  -999.00,   -999.0,9,   -999.0,  20.4097,  25.1419
  49NZ20090521,   P21,   268,  1,     14, X12002,9,20090614,1736,-22.2150, 160.9197, 1561,    199.7,2,  19.1825,2,  19.18278,2,  35.6467,2,-999.0000,9,   185.78,2,  -999.00,9,  -999.00,9,  -999.00,  -999.00,9,  -999.00,  -999.00,9,  -999.00, -999.000,9, -999.000, -999.000,9, -999.000,9, -999.000,9,   -999.0,9,   -999.0,9,-999.0000,-999,9,  -999.00,9,  -999.00,   -999.0,9,   -999.0,  19.1465,  25.4780
  49NZ20090521,   P21,   268,  1,     13, X12001,2,20090614,1736,-22.2150, 160.9197, 1561,    251.0,2,  18.3160,2,  18.31632,2,  35.6220,2,  35.6168,6,   186.86,2,   186.89,2,  -999.00,9,  -999.00,  -999.00,9,  -999.00,  -999.00,9,  -999.00, -999.000,9, -999.000,    2.170,2,    1.304,2,    0.031,2,   -999.0,9,   -999.0,9,-999.0000,-999,9,  -999.00,9,  -999.00,   -999.0,9,   -999.0,  18.2721,  25.6809
  49NZ20090521,   P21,   268,  1,     12, X12030,9,20090614,1736,-22.2150, 160.9197, 1561,    299.8,2,  17.0378,2,  17.03636,2,  35.5349,2,-999.0000,9,   186.63,2,  -999.00,9,  -999.00,9,  -999.00,  -999.00,9,  -999.00,  -999.00,9,  -999.00, -999.000,9, -999.000, -999.000,9, -999.000,9, -999.000,9,   -999.0,9,   -999.0,9,-999.0000,-999,9,  -999.00,9,  -999.00,   -999.0,9,   -999.0,  16.9879,  25.9278
  49NZ20090521,   P21,   268,  1,     11, X12044,9,20090614,1736,-22.2150, 160.9197, 1561,    400.6,2,  14.0579,2,  14.05536,2,  35.1965,2,-999.0000,9,   184.08,2,  -999.00,9,  -999.00,9,  -999.00,  -999.00,9,  -999.00,  -999.00,9,  -999.00, -999.000,9, -999.000, -999.000,9, -999.000,9, -999.000,9,   -999.0,9,   -999.0,9,-999.0000,-999,9,  -999.00,9,  -999.00,   -999.0,9,   -999.0,  13.9993,  26.3391
  49NZ20090521,   P21,   268,  1,     10, X12048,9,20090614,1736,-22.2150, 160.9197, 1561,    500.2,2,  10.8033,2,  10.80220,2,  34.8251,2,-999.0000,9,   190.91,2,  -999.00,9,  -999.00,9,  -999.00,  -999.00,9,  -999.00,  -999.00,9,  -999.00, -999.000,9, -999.000, -999.000,9, -999.000,9, -999.000,9,   -999.0,9,   -999.0,9,-999.0000,-999,9,  -999.00,9,  -999.00,   -999.0,9,   -999.0,  10.7416,  26.6858
  49NZ20090521,   P21,   268,  1,      9, X12027,9,20090614,1736,-22.2150, 160.9197, 1561,    600.3,2,   7.8238,2,   7.81812,2,  34.5342,2,-999.0000,9,   199.44,2,  -999.00,9,  -999.00,9,  -999.00,  -999.00,9,  -999.00,  -999.00,9,  -999.00, -999.000,9, -999.000, -999.000,9, -999.000,9, -999.000,9,   -999.0,9,   -999.0,9,-999.0000,-999,9,  -999.00,9,  -999.00,   -999.0,9,   -999.0,   7.7627,  26.9431
  49NZ20090521,   P21,   268,  1,      8, X12026,9,20090614,1736,-22.2150, 160.9197, 1561,    700.8,2,   6.6269,2,   6.62751,2,  34.4542,2,-999.0000,9,   198.02,2,  -999.00,9,  -999.00,9,  -999.00,  -999.00,9,  -999.00,  -999.00,9,  -999.00, -999.000,9, -999.000, -999.000,9, -999.000,9, -999.000,9,   -999.0,9,   -999.0,9,-999.0000,-999,9,  -999.00,9,  -999.00,   -999.0,9,   -999.0,   6.5614,  27.0483
  49NZ20090521,   P21,   268,  1,      7, X12025,9,20090614,1736,-22.2150, 160.9197, 1561,    801.1,2,   5.7289,2,   5.72770,2,  34.4293,2,-999.0000,9,   191.58,2,  -999.00,9,  -999.00,9,  -999.00,  -999.00,9,  -999.00,  -999.00,9,  -999.00, -999.000,9, -999.000, -999.000,9, -999.000,9, -999.000,9,   -999.0,9,   -999.0,9,-999.0000,-999,9,  -999.00,9,  -999.00,   -999.0,9,   -999.0,   5.6590,  27.1442
  49NZ20090521,   P21,   268,  1,      6, X12024,9,20090614,1736,-22.2150, 160.9197, 1561,    900.4,2,   5.0295,2,   5.02953,2,  34.4376,2,-999.0000,9,   183.18,2,  -999.00,9,  -999.00,9,  -999.00,  -999.00,9,  -999.00,  -999.00,9,  -999.00, -999.000,9, -999.000, -999.000,9, -999.000,9, -999.000,9,   -999.0,9,   -999.0,9,-999.0000,-999,9,  -999.00,9,  -999.00,   -999.0,9,   -999.0,   4.9550,  27.2345
  49NZ20090521,   P21,   268,  1,      5, X12028,9,20090614,1736,-22.2150, 160.9197, 1561,   1000.0,2,   4.4084,2,   4.40845,2,  34.4672,2,-999.0000,9,   174.37,2,  -999.00,9,  -999.00,9,  -999.00,  -999.00,9,  -999.00,  -999.00,9,  -999.00, -999.000,9, -999.000, -999.000,9, -999.000,9, -999.000,9,   -999.0,9,   -999.0,9,-999.0000,-999,9,  -999.00,9,  -999.00,   -999.0,9,   -999.0,   4.3297,  27.3276
  49NZ20090521,   P21,   268,  1,      4, X12022,9,20090614,1736,-22.2150, 160.9197, 1561,   1199.9,2,   3.7232,2,   3.72322,2,  34.5255,2,-999.0000,9,   161.28,2,  -999.00,9,  -999.00,9,  -999.00,  -999.00,9,  -999.00,  -999.00,9,  -999.00, -999.000,9, -999.000, -999.000,9, -999.000,9, -999.000,9,   -999.0,9,   -999.0,9,-999.0000,-999,9,  -999.00,9,  -999.00,   -999.0,9,   -999.0,   3.6331,  27.4459
  49NZ20090521,   P21,   268,  1,      3, X12021,9,20090614,1736,-22.2150, 160.9197, 1561,   1400.1,2,   3.1533,2,   3.15473,2,  34.5726,2,-999.0000,9,   153.09,2,  -999.00,9,  -999.00,9,  -999.00,  -999.00,9,  -999.00,  -999.00,9,  -999.00, -999.000,9, -999.000, -999.000,9, -999.000,9, -999.000,9,   -999.0,9,   -999.0,9,-999.0000,-999,9,  -999.00,9,  -999.00,   -999.0,9,   -999.0,   3.0521,  27.5391
  49NZ20090521,   P21,   268,  1,      2, X12020,9,20090614,1736,-22.2150, 160.9197, 1561,   -999.0,9,-999.0000,9,-999.00000,9,-999.0000,9,-999.0000,9,  -999.00,9,  -999.00,9,  -999.00,9,  -999.00,  -999.00,9,  -999.00,  -999.00,9,  -999.00, -999.000,9, -999.000, -999.000,9, -999.000,9, -999.000,9,   -999.0,9,   -999.0,9,-999.0000,-999,9,  -999.00,9,  -999.00,   -999.0,9,   -999.0,-999.0000,-999.0000
  49NZ20090521,   P21,   268,  1,      1, X12019,2,20090614,1736,-22.2150, 160.9197, 1561,   1560.6,2,   2.9670,2,   2.96684,2,  34.5885,2,  34.5887,6,   151.47,2,   151.57,2,    91.57,2,     0.32,    34.69,2,     0.13,     0.01,2,     0.01,    2.459,2,    0.016,    0.014,2,    0.007,2,    0.000,2,   2280.2,2,   2370.2,2,   7.5884,  25,2,  -999.00,9,  -999.00,   -999.0,9,   -999.0,   2.8544,  27.5698