BOTTLE,20111109CCHDOSIOCBG
EXPOCODE,SECT_ID,STNNBR,CASTNO,SAMPNO,BTLNBR,BTLNBR_FLAG_W,DATE,TIME,LATITUDE,LONGITUDE,DEPTH,CTDPRS,CTDPRS_FLAG_W,CTDTMP,CTDTMP_FLAG_W,SBE35,SBE35_FLAG_W,CTDSAL,CTDSAL_FLAG_W,SALNTY,SALNTY_FLAG_W,CTDOXY,CTDOXY_FLAG_W,OXYGEN,OXYGEN_FLAG_W,SILCAT,SILCAT_FLAG_W,SILUNC,NITRAT,NITRAT_FLAG_W,NRAUNC,NITRIT,NITRIT_FLAG_W,NRIUNC,PHSPHT,PHSPHT_FLAG_W,PHPUNC,CFC-11,CFC-11_FLAG_W,CFC-12,CFC-12_FLAG_W,CFC113,CFC113_FLAG_W,TCARBN,TCARBN_FLAG_W,ALKALI,ALKALI_FLAG_W,PH_TOT,PH_TMP,PH_TOT_FLAG_W,DELC13,DELC13_FLAG_W,C13ERR,DELC14,DELC14_FLAG_W,C14ERR,THETA,SIG0
,,,,,,,,,,,METERS,DBAR,,ITS-90,,ITS-90,,PSS-78,,PSS-78,,UMOL/KG,,UMOL/KG,,UMOL/KG,,UMOL/KG,UMOL/KG,,UMOL/KG,UMOL/KG,,UMOL/KG,UMOL/KG,,UMOL/KG,PMOL/KG,,PMOL/KG,,PMOL/KG,,UMOL/KG,,UMOL/KG,,,DEG C,,/MILLE,,/MILLE,/MILLE,,/MILLE,DEG C,KG/M^3
  49NZ20090521,   P21,   200,  1,      0,   -999,9,20090602,1641,-17.4970,-172.3358, 7932,   -999.0,9,-999.0000,9,-999.00000,9,-999.0000,9,  35.4150,2,  -999.00,9,  -999.00,9,  -999.00,9,  -999.00,  -999.00,9,  -999.00,  -999.00,9,  -999.00, -999.000,9, -999.000, -999.000,9, -999.000,9, -999.000,9,   -999.0,9,   -999.0,9,-999.0000,-999,9,  -999.00,9,  -999.00,   -999.0,9,   -999.0,-999.0000,-999.0000
  49NZ20090521,   P21,   200,  1,     36, X12043,2,20090602,1641,-17.4970,-172.3358, 7932,     10.7,2,  27.7745,2,  27.77482,2,  35.3862,2,  35.3865,2,   198.13,2,   197.87,2,     0.84,2,     0.12,     0.08,2,     0.03,     0.01,2,     0.01,    0.084,2,    0.024,    1.427,2,    0.914,2, -999.000,5,   1960.9,2,   2328.7,2,   8.1440,  25,6,  -999.00,9,  -999.00,   -999.0,9,   -999.0,  27.7720,  22.7596
  49NZ20090521,   P21,   200,  1,     35, X12042,2,20090602,1641,-17.4970,-172.3358, 7932,     49.3,2,  27.7874,2,  27.78712,2,  35.3872,2,  35.3866,2,   198.02,2,   197.91,2,     0.73,2,     0.12,     0.07,2,     0.03,     0.01,2,     0.01,    0.080,2,    0.025,    1.401,2,    0.874,2, -999.000,5,   1963.2,6,   2328.8,2,   8.1441,  25,2,  -999.00,9,  -999.00,   -999.0,9,   -999.0,  27.7758,  22.7591
  49NZ20090521,   P21,   200,  1,     34, X12016,2,20090602,1641,-17.4970,-172.3358, 7932,    100.9,2,  27.2248,2,  27.22535,2,  35.7934,2,  35.7946,2,   202.51,2,   202.53,2,     0.89,2,     0.12,     0.07,2,     0.03,     0.01,2,     0.01,    0.158,2,    0.017,    1.537,6,    0.979,6, -999.000,5,   1997.2,2,   2353.2,3,   8.1207,  25,2,  -999.00,9,  -999.00,   -999.0,9,   -999.0,  27.2015,  23.2508
  49NZ20090521,   P21,   200,  1,     33, X12015,2,20090602,1641,-17.4970,-172.3358, 7932,    151.3,2,  24.1277,2,  24.12619,2,  35.5567,2,  35.5629,2,   186.76,2,   186.28,2,     0.76,2,     0.12,     0.63,2,     0.03,     0.06,2,     0.01,    0.198,2,    0.016,    1.753,2,    1.087,2, -999.000,5,   2017.0,2,   2336.2,2,   8.0643,  25,6,  -999.00,9,  -999.00,   -999.0,9,   -999.0,  24.0956,  24.0345
  49NZ20090521,   P21,   200,  1,     32, X12050,2,20090602,1641,-17.4970,-172.3358, 7932,    197.8,2,  22.4009,2,  22.35874,2,  35.7188,2,  35.7253,2,   176.79,2,   176.28,2,     0.88,2,     0.12,     2.01,2,     0.04,     0.02,2,     0.01,    0.305,2,    0.014,    1.879,2,    1.153,2,    0.129,2,   2051.6,2,   2346.7,2,   8.0208,  25,2,  -999.00,9,  -999.00,   -999.0,9,   -999.0,  22.3611,  24.6620
  49NZ20090521,   P21,   200,  1,     31, X12014,2,20090602,1641,-17.4970,-172.3358, 7932,    249.5,2,  20.1564,2,  20.16410,2,  35.6528,2,  35.6570,6,   176.49,2,   176.49,2,     0.98,2,     0.12,     3.34,2,     0.04,     0.02,2,     0.01,    0.380,2,    0.013,    2.076,2,    1.228,2,    0.039,2,   2072.8,2,   2340.5,2,   7.9775,  25,2,  -999.00,9,  -999.00,   -999.0,9,   -999.0,  20.1098,  25.2307
  49NZ20090521,   P21,   200,  1,     30, X12012,2,20090602,1641,-17.4970,-172.3358, 7932,    279.3,2,  18.8280,2,  18.83053,2,  35.5526,2,  35.5546,2,   178.08,2,   178.02,2,     1.23,2,     0.12,     4.44,2,     0.05,     0.02,2,     0.01,    0.457,2,    0.013,    2.192,2,    1.274,2,    0.030,2,   2083.3,2,   2335.8,2,   7.9512,  25,2,  -999.00,9,  -999.00,   -999.0,9,   -999.0,  18.7782,  25.5002
  49NZ20090521,   P21,   200,  1,     29, X12041,2,20090602,1641,-17.4970,-172.3358, 7932,    370.8,2,  14.6292,2,  14.62535,2,  35.1187,2,  35.1270,2,   181.53,2,   182.26,2,     3.05,2,     0.13,     9.38,2,     0.06,     0.01,2,     0.01,    0.799,2,    0.013,    2.319,6,    1.271,6,    0.028,6,   2107.6,2,   2311.6,2,   7.8651,  25,2,  -999.00,9,  -999.00,   -999.0,9,   -999.0,  14.5736,  26.1565
  49NZ20090521,   P21,   200,  1,     28, X12040,2,20090602,1641,-17.4970,-172.3358, 7932,    468.4,2,  10.0254,2,  10.03044,2,  34.6363,2,  34.6384,6,   169.52,2,   169.76,2,     8.91,2,     0.14,    20.05,2,     0.09,     0.01,2,     0.01,    1.515,2,    0.014,    1.732,2,    0.885,2,    0.028,2,   2152.4,2,   2292.0,2,   7.7256,  25,2,  -999.00,9,  -999.00,   -999.0,9,   -999.0,   9.9705,  26.6730
  49NZ20090521,   P21,   200,  1,     27, X12009,2,20090602,1641,-17.4970,-172.3358, 7932,    569.1,2,   7.2348,2,   7.23463,2,  34.4115,2,  34.4125,2,   206.42,2,   206.99,2,    10.32,2,     0.14,    23.89,2,     0.10,     0.01,2,     0.01,    1.705,2,    0.014,    1.859,6,    0.917,6,    0.045,6,   2155.5,2,   2284.1,2,   7.7029,  25,2,  -999.00,9,  -999.00,   -999.0,9,   -999.0,   7.1796,  26.9302
  49NZ20090521,   P21,   200,  1,     26, X12008,2,20090602,1641,-17.4970,-172.3358, 7932,    670.6,2,   6.1875,2,   6.18876,2,  34.3938,2,  34.3935,2,   181.05,2,   182.20,2,    21.72,2,     0.17,    28.88,2,     0.11,     0.01,2,     0.01,    2.034,2,    0.015,    0.648,2,    0.324,2,    0.020,2,   2183.5,6,   2292.4,2,   7.6490,  25,2,  -999.00,9,  -999.00,   -999.0,9,   -999.0,   6.1273,  27.0574
  49NZ20090521,   P21,   200,  1,     25, X12007,2,20090602,1641,-17.4970,-172.3358, 7932,    770.3,2,   5.2635,2,   5.26527,2,  34.4223,2,  34.4165,2,   162.84,2,   165.41,2,    36.40,2,     0.20,    31.91,2,     0.12,     0.01,2,     0.01,    2.254,2,    0.016,    0.228,2,    0.120,2,    0.005,2,   2210.5,2,   2307.7,6,   7.6120,  25,2,  -999.00,9,  -999.00,   -999.0,9,   -999.0,   5.1992,  27.1941
  49NZ20090521,   P21,   200,  1,     24, X12035,2,20090602,1641,-17.4970,-172.3358, 7932,    871.4,2,   4.8272,2,   4.82752,2,  34.4609,2,  34.4611,2,   150.40,2,   151.25,2,    49.35,2,     0.23,    33.79,2,     0.13,     0.01,2,     0.01,    2.370,2,    0.016,    0.094,2,    0.049,2,    0.004,2,   2230.0,2,   2321.1,2,   7.5915,  25,6,  -999.00,9,  -999.00,   -999.0,9,   -999.0,   4.7566,  27.2756
  49NZ20090521,   P21,   200,  1,     23, X12038,2,20090602,1641,-17.4970,-172.3358, 7932,    971.9,2,   4.2464,2,   4.24672,2,  34.4883,2,  34.4883,6,   144.04,2,   144.72,2,    61.74,2,     0.25,    34.87,2,     0.13,     0.01,2,     0.01,    2.470,2,    0.016,    0.038,2,    0.020,2,    0.000,2,   2247.0,2,   2333.9,2,   7.5765,  25,2,  -999.00,9,  -999.00,   -999.0,9,   -999.0,   4.1713,  27.3612
  49NZ20090521,   P21,   200,  1,     22, X12034,2,20090602,1641,-17.4970,-172.3358, 7932,   1131.7,2,   3.6595,2,   3.65962,2,  34.5145,2,  34.5139,2,   143.16,2,   143.94,2,    73.33,2,     0.28,    35.46,2,     0.13,     0.01,2,     0.01,    2.517,2,    0.016,    0.014,2,    0.008,2,    0.000,2,   2263.5,2,   2346.7,2,   7.5706,  25,2,  -999.00,9,  -999.00,   -999.0,9,   -999.0,   3.5757,  27.4428
  49NZ20090521,   P21,   200,  1,     21, X12033,2,20090602,1641,-17.4970,-172.3358, 7932,   1330.2,2,   3.1953,2,   3.19488,2,  34.5496,2,  34.5487,2,   140.92,2,   141.68,2,    85.13,2,     0.31,    35.97,2,     0.13,     0.01,2,     0.01,    2.556,2,    0.016,    0.003,2,    0.002,2,    0.000,2,   2275.8,2,   2360.4,2,   7.5671,  25,2,  -999.00,9,  -999.00,   -999.0,9,   -999.0,   3.0995,  27.5163
  49NZ20090521,   P21,   200,  1,     20, X12032,2,20090602,1641,-17.4970,-172.3358, 7932,   1529.7,2,   2.8100,2,   2.81052,2,  34.5785,2,  34.5784,2,   142.36,2,   143.22,2,    95.09,2,     0.33,    36.03,2,     0.13,     0.01,2,     0.01,    2.558,2,    0.016,    0.001,2,    0.001,2,    0.000,2,   2285.1,2,   2372.2,2,   7.5688,  25,2,  -999.00,9,  -999.00,   -999.0,9,   -999.0,   2.7019,  27.5754
  49NZ20090521,   P21,   200,  1,     19, X12046,2,20090602,1641,-17.4970,-172.3358, 7932,   1729.7,2,   2.5657,2,   2.56584,2,  34.5996,2,  34.5998,2,   143.51,2,   144.38,2,   102.48,2,     0.34,    36.23,2,     0.13,     0.01,2,     0.01,    2.557,2,    0.016,    0.000,2,    0.000,2,    0.000,2,   2292.2,2,   2380.0,2,   7.5720,  25,2,  -999.00,9,  -999.00,   -999.0,9,   -999.0,   2.4440,  27.6145
  49NZ20090521,   P21,   200,  1,     18, X12006,2,20090602,1641,-17.4970,-172.3358, 7932,   1930.7,2,   2.3450,2,   2.34538,2,  34.6190,2,  34.6189,2,   144.40,2,   145.35,2,   109.11,2,     0.36,    36.21,2,     0.13,     0.01,2,     0.01,    2.559,2,    0.016,    0.000,2,    0.000,2,    0.000,2,   2298.4,2,   2387.4,2,   7.5743,  25,2,  -999.00,9,  -999.00,   -999.0,9,   -999.0,   2.2093,  27.6496
  49NZ20090521,   P21,   200,  1,     17, X12047,2,20090602,1641,-17.4970,-172.3358, 7932,   2131.6,2,   2.1303,2,   2.13044,2,  34.6374,2,  34.6368,2,   145.44,2,   146.25,2,   115.46,2,     0.37,    36.03,2,     0.13,     0.01,2,     0.01,    2.553,2,    0.016,    0.001,2,    0.000,2,    0.000,2,   2304.2,2,   2395.7,2,   7.5772,  25,2,  -999.00,9,  -999.00,   -999.0,9,   -999.0,   1.9806,  27.6827
  49NZ20090521,   P21,   200,  1,     16, X12004,2,20090602,1641,-17.4970,-172.3358, 7932,   2332.6,2,   1.9994,2,   1.99915,2,  34.6491,2,  34.6494,2,   145.09,2,   145.93,2,   120.90,2,     0.38,    36.16,2,     0.13,     0.01,2,     0.01,    2.561,2,    0.016,    0.000,2,    0.000,2,    0.000,2,   2310.6,6,   2401.6,2,   7.5776,  25,2,  -999.00,9,  -999.00,   -999.0,9,   -999.0,   1.8342,  27.7035
  49NZ20090521,   P21,   200,  1,     15, X12003,2,20090602,1641,-17.4970,-172.3358, 7932,   2532.2,2,   1.9155,2,   1.91587,2,  34.6566,2,  34.6566,2,   145.74,2,   146.60,2,   124.03,2,     0.39,    36.15,2,     0.13,     0.01,2,     0.01,    2.555,2,    0.016,    0.000,2,    0.000,2,    0.000,2,   2314.3,2,   2404.2,6,   7.5794,  25,2,  -999.00,9,  -999.00,   -999.0,9,   -999.0,   1.7338,  27.7172
  49NZ20090521,   P21,   200,  1,     14, X12002,2,20090602,1641,-17.4970,-172.3358, 7932,   2731.3,2,   1.8334,2,   1.83350,2,  34.6634,2,  34.6630,6,   146.75,2,   147.64,2,   126.68,2,     0.40,    36.20,2,     0.13,     0.01,2,     0.01,    2.549,2,    0.016,    0.000,2,    0.000,2,    0.000,2,   2314.9,2,   2407.3,2,   7.5809,  25,6,  -999.00,9,  -999.00,   -999.0,9,   -999.0,   1.6350,  27.7301
  49NZ20090521,   P21,   200,  1,     13, X12001,2,20090602,1641,-17.4970,-172.3358, 7932,   2931.3,2,   1.7663,2,   1.76651,2,  34.6687,2,  34.6685,2,   148.39,2,   148.95,2,   128.96,2,     0.40,    36.20,2,     0.13,     0.01,2,     0.01,    2.545,2,    0.016,    0.001,2,    0.000,2,    0.000,2,   2317.6,2,   2408.7,2,   7.5838,  25,2,  -999.00,9,  -999.00,   -999.0,9,   -999.0,   1.5503,  27.7406
  49NZ20090521,   P21,   200,  1,     12, X12030,2,20090602,1641,-17.4970,-172.3358, 7932,   3171.7,2,   1.6927,2,   1.69298,2,  34.6742,2,  34.6746,2,   150.77,2,   151.80,2,   130.08,2,     0.41,    35.85,2,     0.13,     0.01,2,     0.01,    2.533,2,    0.016,    0.003,2,    0.001,2,    0.000,2,   2315.4,2,   2409.0,2,   7.5866,  25,2,  -999.00,9,  -999.00,   -999.0,9,   -999.0,   1.4549,  27.7520
  49NZ20090521,   P21,   200,  1,     11, X12044,2,20090602,1641,-17.4970,-172.3358, 7932,   3421.0,2,   1.6023,2,   1.60245,2,  34.6808,2,  34.6808,2,   156.40,2,   157.41,2,   130.18,2,     0.41,    35.53,2,     0.13,     0.01,2,     0.01,    2.504,2,    0.016,    0.004,2,    0.000,2,    0.000,2,   2310.6,2,   2406.8,2,   7.5899,  25,2,  -999.00,9,  -999.00,   -999.0,9,   -999.0,   1.3417,  27.7654
  49NZ20090521,   P21,   200,  1,     10, X12048,2,20090602,1641,-17.4970,-172.3358, 7932,   3670.8,2,   1.4831,2,   1.48310,2,  34.6959,2,  34.6963,2,   173.23,2,   174.17,2,   121.94,2,     0.39,    34.11,2,     0.13,     0.01,2,     0.01,    2.401,2,    0.016,    0.010,2,    0.004,2,    0.000,2,   2290.3,2,   2390.6,2,   7.6015,  25,2,  -999.00,9,  -999.00,   -999.0,9,   -999.0,   1.1997,  27.7875
  49NZ20090521,   P21,   200,  1,      9, X12027,2,20090602,1641,-17.4970,-172.3358, 7932,   3920.1,2,   1.2963,2,   1.29649,2,  34.7162,2,  34.7162,2,   196.75,2,   197.70,2,   111.14,2,     0.36,    32.24,2,     0.12,     0.01,2,     0.01,    2.260,2,    0.016,    0.040,2,    0.016,2,    0.000,2,   2262.2,2,   2368.3,2,   7.6173,  25,2,  -999.00,9,  -999.00,   -999.0,9,   -999.0,   0.9915,  27.8178
  49NZ20090521,   P21,   200,  1,      8, X12026,2,20090602,1641,-17.4970,-172.3358, 7932,   4170.2,2,   1.2011,2,   1.20135,2,  34.7160,2,  34.7158,2,   201.23,2,   202.09,2,   112.02,2,     0.37,    32.20,2,     0.12,     0.01,2,     0.01,    2.248,2,    0.016,    0.059,2,    0.023,2,    0.000,2,   2260.9,6,   2366.3,2,   7.6187,  25,2,  -999.00,9,  -999.00,   -999.0,9,   -999.0,   0.8720,  27.8256
  49NZ20090521,   P21,   200,  1,      7, X12025,2,20090602,1641,-17.4970,-172.3358, 7932,   4419.8,2,   1.1545,2,   1.15475,2,  34.7141,2,  34.7140,2,   202.93,2,   203.61,2,   113.84,2,     0.37,    32.06,2,     0.12,     0.01,2,     0.01,    2.247,2,    0.016,    0.065,2,    0.029,2,    0.000,2,   2261.7,2,   2366.3,6,   7.6189,  25,2,  -999.00,9,  -999.00,   -999.0,9,   -999.0,   0.7992,  27.8287
  49NZ20090521,   P21,   200,  1,      6, X12024,2,20090602,1641,-17.4970,-172.3358, 7932,   4671.8,2,   1.1310,2,   1.13130,2,  34.7125,2,  34.7124,6,   203.98,2,   204.69,2,   115.01,2,     0.37,    32.16,2,     0.12,     0.01,2,     0.01,    2.248,2,    0.016,    0.077,2,    0.031,2,    0.006,2,   2261.4,2,   2365.6,2,   7.6190,  25,6,  -999.00,9,  -999.00,   -999.0,9,   -999.0,   0.7477,  27.8307
  49NZ20090521,   P21,   200,  1,      5, X12028,2,20090602,1641,-17.4970,-172.3358, 7932,   4921.3,2,   1.1190,2,   1.11922,2,  34.7110,2,  34.7111,2,   204.77,2,   205.29,2,   116.02,2,     0.37,    32.19,2,     0.12,     0.01,2,     0.01,    2.253,2,    0.016,    0.079,2,    0.036,2,    0.004,2,   2261.6,2,   2366.8,2,   7.6188,  25,2,  -999.00,9,  -999.00,   -999.0,9,   -999.0,   0.7069,  27.8321
  49NZ20090521,   P21,   200,  1,      4, X12022,2,20090602,1641,-17.4970,-172.3358, 7932,   5170.5,2,   1.1077,2,   1.10789,2,  34.7094,2,  34.7095,2,   205.46,2,   205.83,2,   116.56,2,     0.38,    32.08,2,     0.12,     0.01,2,     0.01,    2.257,2,    0.016,    0.071,2,    0.034,2,    0.009,2,   2260.9,2,   2366.7,2,   7.6184,  25,2,  -999.00,9,  -999.00,   -999.0,9,   -999.0,   0.6661,  27.8333
  49NZ20090521,   P21,   200,  1,      3, X12021,2,20090602,1641,-17.4970,-172.3358, 7932,   5422.8,2,   1.1211,2,   1.12136,2,  34.7086,2,  34.7088,2,   205.77,2,   205.92,2,   117.37,2,     0.38,    32.31,2,     0.12,     0.01,2,     0.01,    2.258,2,    0.016,    0.074,2,    0.033,2,    0.000,2,   2260.2,2,   2367.9,2,   7.6184,  25,2,  -999.00,9,  -999.00,   -999.0,9,   -999.0,   0.6479,  27.8338
  49NZ20090521,   P21,   200,  1,      2, X12020,2,20090602,1641,-17.4970,-172.3358, 7932,   5999.8,2,   1.1744,2,   1.17469,2,  34.7074,2,  34.7084,2,   206.13,2,   206.29,2,   117.98,2,     0.38,    32.30,2,     0.12,     0.01,2,     0.01,    2.256,2,    0.016,    0.068,2,    0.031,2,    0.000,2,   2261.1,2,   2368.6,2,   7.6187,  25,2,  -999.00,9,  -999.00,   -999.0,9,   -999.0,   0.6251,  27.8342
  49NZ20090521,   P21,   200,  1,      1, X12019,2,20090602,1641,-17.4970,-172.3358, 7932,   6501.3,2,   1.2360,2,   1.23624,2,  34.7064,2,  34.7077,6,   205.82,2,   206.31,2,   118.45,2,     0.38,    32.39,2,     0.12,     0.01,2,     0.01,    2.260,2,    0.016,    0.068,2,    0.031,2,    0.000,2,   2260.1,2,   2368.0,2,   7.6187,  25,2,  -999.00,9,  -999.00,   -999.0,9,   -999.0,   0.6166,  27.8340