BOTTLE,20111109CCHDOSIOCBG
EXPOCODE,SECT_ID,STNNBR,CASTNO,SAMPNO,BTLNBR,BTLNBR_FLAG_W,DATE,TIME,LATITUDE,LONGITUDE,DEPTH,CTDPRS,CTDPRS_FLAG_W,CTDTMP,CTDTMP_FLAG_W,SBE35,SBE35_FLAG_W,CTDSAL,CTDSAL_FLAG_W,SALNTY,SALNTY_FLAG_W,CTDOXY,CTDOXY_FLAG_W,OXYGEN,OXYGEN_FLAG_W,SILCAT,SILCAT_FLAG_W,SILUNC,NITRAT,NITRAT_FLAG_W,NRAUNC,NITRIT,NITRIT_FLAG_W,NRIUNC,PHSPHT,PHSPHT_FLAG_W,PHPUNC,CFC-11,CFC-11_FLAG_W,CFC-12,CFC-12_FLAG_W,CFC113,CFC113_FLAG_W,TCARBN,TCARBN_FLAG_W,ALKALI,ALKALI_FLAG_W,PH_TOT,PH_TMP,PH_TOT_FLAG_W,DELC13,DELC13_FLAG_W,C13ERR,DELC14,DELC14_FLAG_W,C14ERR,THETA,SIG0
,,,,,,,,,,,METERS,DBAR,,ITS-90,,ITS-90,,PSS-78,,PSS-78,,UMOL/KG,,UMOL/KG,,UMOL/KG,,UMOL/KG,UMOL/KG,,UMOL/KG,UMOL/KG,,UMOL/KG,UMOL/KG,,UMOL/KG,PMOL/KG,,PMOL/KG,,PMOL/KG,,UMOL/KG,,UMOL/KG,,,DEG C,,/MILLE,,/MILLE,/MILLE,,/MILLE,DEG C,KG/M^3
  49NZ20090521,   P21,   203,  1,      0,   -999,9,20090603,0830,-17.4968,-172.8317, 4342,   -999.0,9,-999.0000,9,-999.00000,9,-999.0000,9,  35.3845,2,  -999.00,9,  -999.00,9,  -999.00,9,  -999.00,  -999.00,9,  -999.00,  -999.00,9,  -999.00, -999.000,9, -999.000, -999.000,9, -999.000,9, -999.000,9,   -999.0,9,   -999.0,9,-999.0000,-999,9,  -999.00,9,  -999.00,   -999.0,9,   -999.0,-999.0000,-999.0000
  49NZ20090521,   P21,   203,  1,     36, X12043,2,20090603,0830,-17.4968,-172.8317, 4342,     10.0,2,  27.7291,2,  27.72916,2,  35.3779,2,  35.3758,2,   198.05,2,   198.01,2,     0.53,2,     0.12,     0.09,2,     0.03,     0.01,2,     0.01,    0.103,2,    0.022,    1.452,2,    0.913,2, -999.000,5,   1960.4,2,   2326.4,2,   8.1416,  25,6,  -999.00,9,  -999.00,   -999.0,9,   -999.0,  27.7268,  22.7680
  49NZ20090521,   P21,   203,  1,     35, X12042,2,20090603,0830,-17.4968,-172.8317, 4342,     50.7,2,  27.7395,2,  27.73890,2,  35.3766,2,  35.3758,2,   197.87,2,   198.10,2,     0.50,2,     0.12,     0.09,2,     0.03,     0.01,2,     0.01,    0.101,2,    0.022,    1.446,2,    0.914,2, -999.000,5,   1961.3,6,   2326.6,2,   8.1404,  25,2,  -999.00,9,  -999.00,   -999.0,9,   -999.0,  27.7276,  22.7668
  49NZ20090521,   P21,   203,  1,     34, X12016,2,20090603,0830,-17.4968,-172.8317, 4342,     97.9,2,  26.8307,2,  26.82824,2,  35.8013,2,  35.8044,2,   200.44,2,   200.54,2,     0.51,2,     0.12,     0.09,2,     0.03,     0.01,2,     0.01,    0.171,2,    0.017,    1.583,6,    0.990,6, -999.000,5,   2001.1,2,   2356.0,6,   8.1148,  25,2,  -999.00,9,  -999.00,   -999.0,9,   -999.0,  26.8083,  23.3827
  49NZ20090521,   P21,   203,  1,     33, X12015,2,20090603,0830,-17.4968,-172.8317, 4342,    150.5,2,  24.4308,2,  24.42806,2,  35.6733,2,  35.6719,2,   181.54,2,   181.36,2,     0.48,2,     0.12,     0.90,2,     0.04,     0.04,2,     0.01,    0.238,2,    0.015,    1.747,2,    1.066,2, -999.000,5,   2025.1,2,   2343.7,2,   8.0600,  25,6,  -999.00,9,  -999.00,   -999.0,9,   -999.0,  24.3986,  24.0321
  49NZ20090521,   P21,   203,  1,     32, X12050,2,20090603,0830,-17.4968,-172.8317, 4342,    201.7,2,  22.0058,2,  22.00369,2,  35.6502,2,  35.6342,2,   183.55,2,   184.14,2,     0.45,2,     0.12,     1.56,2,     0.04,     0.03,2,     0.01,    0.250,2,    0.015,    1.933,2,    1.163,2,    0.153,2,   2042.2,2,   2338.7,2,   8.0263,  25,2,  -999.00,9,  -999.00,   -999.0,9,   -999.0,  21.9657,  24.7216
  49NZ20090521,   P21,   203,  1,     31, X12014,2,20090603,0830,-17.4968,-172.8317, 4342,    250.3,2,  20.8594,2,  20.85994,2,  35.7611,2,  35.7620,6,   167.72,2,   167.67,2,     0.80,2,     0.12,     3.97,2,     0.04,     0.02,2,     0.01,    0.467,2,    0.013,    2.075,2,    1.220,2,    0.039,2,   2081.1,2,   2349.5,2,   7.9703,  25,2,  -999.00,9,  -999.00,   -999.0,9,   -999.0,  20.8115,  25.1248
  49NZ20090521,   P21,   203,  1,     30, X12012,2,20090603,0830,-17.4968,-172.8317, 4342,    332.0,2,  16.7865,2,  16.78832,2,  35.3438,2,  35.3420,2,   179.83,2,   179.97,2,     1.70,2,     0.12,     6.55,2,     0.05,     0.02,2,     0.01,    0.610,2,    0.013,    2.315,2,    1.294,2,    0.024,2,   2091.6,2,   2322.2,2,   7.9075,  25,2,  -999.00,9,  -999.00,   -999.0,9,   -999.0,  16.7319,  25.8418
  49NZ20090521,   P21,   203,  1,     29, X12041,2,20090603,0830,-17.4968,-172.8317, 4342,    432.3,2,  11.5308,2,  11.53588,2,  34.7680,2,  34.7749,2,   158.29,2,   156.82,2,     8.00,2,     0.14,    17.68,2,     0.08,     0.01,2,     0.01,    1.391,2,    0.014,    1.732,6,    0.893,6,    0.022,6,   2144.4,2,   2296.4,2,   7.7485,  25,2,  -999.00,9,  -999.00,   -999.0,9,   -999.0,  11.4754,  26.5077
  49NZ20090521,   P21,   203,  1,     28, X12040,2,20090603,0830,-17.4968,-172.8317, 4342,    528.3,2,   8.0921,2,   8.09457,2,  34.4941,2,  34.4947,6,   168.56,2,   168.97,2,    14.26,2,     0.15,    24.90,2,     0.10,     0.01,2,     0.01,    1.817,2,    0.015,    1.202,2,    0.595,2,    0.033,2,   2169.5,2,   2288.5,2,   7.6726,  25,2,  -999.00,9,  -999.00,   -999.0,9,   -999.0,   8.0375,  26.8709
  49NZ20090521,   P21,   203,  1,     27, X12009,2,20090603,0830,-17.4968,-172.8317, 4342,    630.1,2,   6.6029,2,   6.60110,2,  34.4064,2,  34.4070,2,   183.35,2,   183.08,2,    18.74,2,     0.16,    27.62,2,     0.11,     0.01,2,     0.01,    1.961,2,    0.015,    0.844,6,    0.415,6,    0.014,6,   2175.5,2,   2290.0,2,   7.6580,  25,2,  -999.00,9,  -999.00,   -999.0,9,   -999.0,   6.5445,  27.0129
  49NZ20090521,   P21,   203,  1,     26, X12008,2,20090603,0830,-17.4968,-172.8317, 4342,    732.1,2,   5.4433,2,   5.44227,2,  34.3845,2,  34.3850,2,   177.45,2,   177.43,2,    18.84,4,     0.16,    27.63,4,     0.11,     0.01,4,     0.01,    1.959,4,    0.015,    0.371,2,    0.187,2,    0.000,2,   2194.9,6,   2297.7,2,   7.6294,  25,2,  -999.00,9,  -999.00,   -999.0,9,   -999.0,   5.3814,  27.1425
  49NZ20090521,   P21,   203,  1,     25, X12007,2,20090603,0830,-17.4968,-172.8317, 4342,    830.6,2,   4.7848,2,   4.78518,2,  34.4256,2,  34.4234,2,   161.08,2,   161.90,2,    43.36,2,     0.21,    32.86,2,     0.12,     0.01,2,     0.01,    2.312,2,    0.016,    0.132,2,    0.070,2,    0.000,2,   2219.3,2,   2312.8,6,   7.6007,  25,2,  -999.00,9,  -999.00,   -999.0,9,   -999.0,   4.7181,  27.2519
  49NZ20090521,   P21,   203,  1,     24, X12035,2,20090603,0830,-17.4968,-172.8317, 4342,    929.5,2,   4.4043,2,   4.40477,2,  34.4723,2,  34.4719,2,   148.79,2,   149.30,2,    56.68,2,     0.24,    34.26,2,     0.13,     0.01,2,     0.01,    2.415,2,    0.016,    0.058,2,    0.031,2,    0.000,2,   2240.3,2,   2328.1,2,   7.5836,  25,6,  -999.00,9,  -999.00,   -999.0,9,   -999.0,   4.3316,  27.3314
  49NZ20090521,   P21,   203,  1,     23, X12038,2,20090603,0830,-17.4968,-172.8317, 4342,   1069.5,2,   3.8509,2,   3.84900,2,  34.4989,2,  34.4990,6,   145.84,2,   145.65,2,    68.09,2,     0.27,    35.07,2,     0.13,     0.01,2,     0.01,    2.475,2,    0.016,    0.022,2,    0.013,2,    0.000,2,   2253.1,2,   2340.7,2,   7.5750,  25,2,  -999.00,9,  -999.00,   -999.0,9,   -999.0,   3.7707,  27.4110
  49NZ20090521,   P21,   203,  1,     22, X12034,2,20090603,0830,-17.4968,-172.8317, 4342,   1270.7,2,   3.3043,2,   3.30408,2,  34.5334,2,  34.5337,2,   144.23,2,   144.55,2,    80.78,2,     0.30,    35.64,2,     0.13,     0.01,2,     0.01,    2.522,2,    0.016,    0.004,2,    0.000,2,    0.000,2,   2269.0,2,   2354.5,2,   7.5696,  25,2,  -999.00,9,  -999.00,   -999.0,9,   -999.0,   3.2123,  27.4929
  49NZ20090521,   P21,   203,  1,     21, X12033,2,20090603,0830,-17.4968,-172.8317, 4342,   1469.3,2,   2.9917,2,   2.99162,2,  34.5681,2,  34.5681,2,   141.54,2,   141.91,2,    92.45,2,     0.32,    35.97,2,     0.13,     0.01,2,     0.01,    2.543,2,    0.016,    0.005,2,    0.003,2,    0.000,2,   2283.3,2,   2367.7,2,   7.5677,  25,2,  -999.00,9,  -999.00,   -999.0,9,   -999.0,   2.8865,  27.5506
  49NZ20090521,   P21,   203,  1,     20, X12032,2,20090603,0830,-17.4968,-172.8317, 4342,   1668.8,2,   2.7104,2,   2.71049,2,  34.5903,2,  34.5901,2,   142.28,2,   142.70,2,   100.30,2,     0.34,    35.99,2,     0.13,     0.01,2,     0.01,    2.543,2,    0.016,    0.002,2,    0.001,2,    0.000,2,   2289.9,2,   2376.3,2,   7.5694,  25,6,  -999.00,9,  -999.00,   -999.0,9,   -999.0,   2.5919,  27.5944
  49NZ20090521,   P21,   203,  1,     19, X12046,2,20090603,0830,-17.4968,-172.8317, 4342,   1870.1,2,   2.5548,2,   2.55469,2,  34.6029,2,  34.6026,2,   143.51,2,   143.97,2,   105.12,2,     0.35,    35.86,2,     0.13,     0.01,2,     0.01,    2.538,2,    0.016,    0.000,2,    0.000,2,    0.000,2,   2294.3,2,   2382.0,2,   7.5720,  25,2,  -999.00,9,  -999.00,   -999.0,9,   -999.0,   2.4213,  27.6191
  49NZ20090521,   P21,   203,  1,     18, X12006,2,20090603,0830,-17.4968,-172.8317, 4342,   2068.8,2,   2.4017,2,   2.40220,2,  34.6170,2,  34.6168,2,   143.56,2,   144.07,2,   109.88,2,     0.36,    36.03,2,     0.13,     0.01,2,     0.01,    2.541,2,    0.016,    0.000,2,    0.002,2,    0.000,2,   2300.6,2,   2387.3,2,   7.5729,  25,2,  -999.00,9,  -999.00,   -999.0,9,   -999.0,   2.2532,  27.6444
  49NZ20090521,   P21,   203,  1,     17, X12047,2,20090603,0830,-17.4968,-172.8317, 4342,   2270.9,2,   2.2298,2,   2.23046,2,  34.6309,2,  34.6305,6,   145.01,2,   145.37,2,   113.57,2,     0.37,    36.04,2,     0.13,     0.01,2,     0.01,    2.543,2,    0.016,    0.000,2,    0.000,2,    0.000,2,   2301.9,3,   2392.1,2,   7.5746,  25,2,  -999.00,9,  -999.00,   -999.0,9,   -999.0,   2.0662,  27.6707
  49NZ20090521,   P21,   203,  1,     16, X12004,2,20090603,0830,-17.4968,-172.8317, 4342,   2469.5,2,   2.0471,2,   2.04719,2,  34.6466,2,  34.6465,2,   143.50,2,   143.90,2,   121.25,2,     0.39,    36.05,2,     0.13,     0.01,2,     0.01,    2.548,2,    0.016,    0.000,2,    0.000,2,    0.000,2,   2313.7,2,   2400.7,2,   7.5751,  25,2,  -999.00,9,  -999.00,   -999.0,9,   -999.0,   1.8688,  27.6989
  49NZ20090521,   P21,   203,  1,     15, X12003,2,20090603,0830,-17.4968,-172.8317, 4342,   2669.9,2,   1.7843,2,   1.78444,2,  34.6655,2,  34.6653,2,   144.77,2,   145.21,2,   130.24,2,     0.41,    36.20,2,     0.13,     0.01,2,     0.01,    2.547,2,    0.016,    0.000,2,    0.000,2,    0.000,2,   2320.1,2,   2409.4,6,   7.5783,  25,2,  -999.00,9,  -999.00,   -999.0,9,   -999.0,   1.5925,  27.7349
  49NZ20090521,   P21,   203,  1,     14, X12002,2,20090603,0830,-17.4968,-172.8317, 4342,   2869.4,2,   1.6631,2,   1.66306,2,  34.6734,2,  34.6732,2,   148.60,2,   148.99,2,   132.26,2,     0.41,    36.02,2,     0.13,     0.01,2,     0.01,    2.528,2,    0.016,    0.000,2,    0.000,2,    0.000,2,   2318.6,2,   2409.9,2,   7.5825,  25,2,  -999.00,9,  -999.00,   -999.0,9,   -999.0,   1.4552,  27.7513
  49NZ20090521,   P21,   203,  1,     13, X12001,2,20090603,0830,-17.4968,-172.8317, 4342,   3081.6,2,   1.5767,2,   1.57671,2,  34.6794,2,  34.6795,2,   154.67,2,   155.24,2,   131.28,2,     0.41,    35.57,2,     0.13,     0.01,2,     0.01,    2.501,2,    0.016,    0.004,2,    0.000,2,    0.000,2,   2313.4,2,   2406.8,2,   7.5882,  25,2,  -999.00,9,  -999.00,   -999.0,9,   -999.0,   1.3503,  27.7637
  49NZ20090521,   P21,   203,  1,     12, X12030,2,20090603,0830,-17.4968,-172.8317, 4342,   3330.2,2,   1.4800,2,   1.48144,2,  34.6936,2,  34.6939,6,   170.68,2,   171.36,2,   122.83,2,     0.39,    34.18,2,     0.13,     0.01,2,     0.01,    2.399,2,    0.016,    0.010,2,    0.004,2,    0.000,2,   2294.0,2,   2391.9,2,   7.5995,  25,2,  -999.00,9,  -999.00,   -999.0,9,   -999.0,   1.2314,  27.7834
  49NZ20090521,   P21,   203,  1,     11, X12044,2,20090603,0830,-17.4968,-172.8317, 4342,   3580.2,2,   1.3769,2,   1.37684,2,  34.7105,2,  34.7106,2,   188.46,2,   189.36,2,   113.14,2,     0.37,    32.67,2,     0.12,     0.01,2,     0.01,    2.283,2,    0.016,    0.022,2,    0.009,2,    0.000,2,   2271.0,2,   2374.1,2,   7.6127,  25,2,  -999.00,9,  -999.00,   -999.0,9,   -999.0,   1.1055,  27.8057
  49NZ20090521,   P21,   203,  1,     10, X12048,2,20090603,0830,-17.4968,-172.8317, 4342,   3830.7,2,   1.2581,2,   1.25810,2,  34.7150,2,  34.7148,2,   197.22,2,   197.81,2,   111.54,2,     0.36,    32.12,2,     0.12,     0.01,2,     0.01,    2.244,2,    0.016,    0.041,2,    0.017,2,    0.000,2,   2262.0,2,   2367.8,2,   7.6169,  25,2,  -999.00,9,  -999.00,   -999.0,9,   -999.0,   0.9638,  27.8188
  49NZ20090521,   P21,   203,  1,      9, X12027,2,20090603,0830,-17.4968,-172.8317, 4342,   4080.2,2,   1.1648,2,   1.16480,2,  34.7146,2,  34.7146,2,   201.64,2,   202.37,2,   112.97,2,     0.37,    31.97,2,     0.12,     0.01,2,     0.01,    2.230,2,    0.016,    0.058,2,    0.025,2,    0.000,2,   2261.4,2,   2365.7,2,   7.6185,  25,2,  -999.00,9,  -999.00,   -999.0,9,   -999.0,   0.8466,  27.8261
  49NZ20090521,   P21,   203,  1,      8, X12026,9,20090603,0830,-17.4968,-172.8317, 4342,      9.9,2,  27.7300,2,  27.72945,2,  35.3782,2,-999.0000,9,   197.98,2,  -999.00,9,  -999.00,9,  -999.00,  -999.00,9,  -999.00,  -999.00,9,  -999.00, -999.000,9, -999.000, -999.000,9, -999.000,9, -999.000,9,   -999.0,9,   -999.0,9,-999.0000,-999,9,  -999.00,9,  -999.00,   -999.0,9,   -999.0,  27.7277,  22.7679
  49NZ20090521,   P21,   203,  1,      7, X12025,9,20090603,0830,-17.4968,-172.8317, 4342,      9.2,2,  27.7274,2,  27.72897,2,  35.3780,2,-999.0000,9,   198.12,2,  -999.00,9,  -999.00,9,  -999.00,  -999.00,9,  -999.00,  -999.00,9,  -999.00, -999.000,9, -999.000, -999.000,9, -999.000,9, -999.000,9,   -999.0,9,   -999.0,9,-999.0000,-999,9,  -999.00,9,  -999.00,   -999.0,9,   -999.0,  27.7252,  22.7686
  49NZ20090521,   P21,   203,  1,      6, X12024,9,20090603,0830,-17.4968,-172.8317, 4342,     49.3,2,  27.7375,2,  27.73780,2,  35.3772,2,-999.0000,9,   197.87,2,  -999.00,9,  -999.00,9,  -999.00,  -999.00,9,  -999.00,  -999.00,9,  -999.00, -999.000,9, -999.000, -999.000,9, -999.000,9, -999.000,9,   -999.0,9,   -999.0,9,-999.0000,-999,9,  -999.00,9,  -999.00,   -999.0,9,   -999.0,  27.7260,  22.7677
  49NZ20090521,   P21,   203,  1,      5, X12028,9,20090603,0830,-17.4968,-172.8317, 4342,     48.1,2,  27.7386,2,  27.73851,2,  35.3770,2,-999.0000,9,   197.89,2,  -999.00,9,  -999.00,9,  -999.00,  -999.00,9,  -999.00,  -999.00,9,  -999.00, -999.000,9, -999.000, -999.000,9, -999.000,9, -999.000,9,   -999.0,9,   -999.0,9,-999.0000,-999,9,  -999.00,9,  -999.00,   -999.0,9,   -999.0,  27.7273,  22.7671
  49NZ20090521,   P21,   203,  1,      4, X12022,9,20090603,0830,-17.4968,-172.8317, 4342,     98.3,2,  26.8143,2,  26.80687,2,  35.8049,2,-999.0000,9,   200.41,2,  -999.00,9,  -999.00,9,  -999.00,  -999.00,9,  -999.00,  -999.00,9,  -999.00, -999.000,9, -999.000, -999.000,9, -999.000,9, -999.000,9,   -999.0,9,   -999.0,9,-999.0000,-999,9,  -999.00,9,  -999.00,   -999.0,9,   -999.0,  26.7918,  23.3907
  49NZ20090521,   P21,   203,  1,      3, X12021,9,20090603,0830,-17.4968,-172.8317, 4342,     98.2,2,  26.8437,2,  26.83256,2,  35.8006,2,-999.0000,9,   200.53,2,  -999.00,9,  -999.00,9,  -999.00,  -999.00,9,  -999.00,  -999.00,9,  -999.00, -999.000,9, -999.000, -999.000,9, -999.000,9, -999.000,9,   -999.0,9,   -999.0,9,-999.0000,-999,9,  -999.00,9,  -999.00,   -999.0,9,   -999.0,  26.8212,  23.3781
  49NZ20090521,   P21,   203,  1,      2, X12020,9,20090603,0830,-17.4968,-172.8317, 4342,   1468.8,2,   2.9921,2,   2.99223,2,  34.5682,2,-999.0000,9,   141.55,2,  -999.00,9,  -999.00,9,  -999.00,  -999.00,9,  -999.00,  -999.00,9,  -999.00, -999.000,9, -999.000, -999.000,9, -999.000,9, -999.000,9,   -999.0,9,   -999.0,9,-999.0000,-999,9,  -999.00,9,  -999.00,   -999.0,9,   -999.0,   2.8870,  27.5506
  49NZ20090521,   P21,   203,  1,      1, X12019,2,20090603,0830,-17.4968,-172.8317, 4342,   4376.3,2,   1.1103,2,   1.11005,2,  34.7123,2,  34.7128,6,   203.51,2,   204.14,2,   114.86,2,     0.37,    32.04,2,     0.12,     0.01,2,     0.01,    2.234,2,    0.016,    0.073,2,    0.031,2,    0.000,2,   2260.2,2,   2364.5,2,   7.6180,  25,2,  -999.00,9,  -999.00,   -999.0,9,   -999.0,   0.7612,  27.8297