BOTTLE,20111109CCHDOSIOCBG
EXPOCODE,SECT_ID,STNNBR,CASTNO,SAMPNO,BTLNBR,BTLNBR_FLAG_W,DATE,TIME,LATITUDE,LONGITUDE,DEPTH,CTDPRS,CTDPRS_FLAG_W,CTDTMP,CTDTMP_FLAG_W,SBE35,SBE35_FLAG_W,CTDSAL,CTDSAL_FLAG_W,SALNTY,SALNTY_FLAG_W,CTDOXY,CTDOXY_FLAG_W,OXYGEN,OXYGEN_FLAG_W,SILCAT,SILCAT_FLAG_W,SILUNC,NITRAT,NITRAT_FLAG_W,NRAUNC,NITRIT,NITRIT_FLAG_W,NRIUNC,PHSPHT,PHSPHT_FLAG_W,PHPUNC,CFC-11,CFC-11_FLAG_W,CFC-12,CFC-12_FLAG_W,CFC113,CFC113_FLAG_W,TCARBN,TCARBN_FLAG_W,ALKALI,ALKALI_FLAG_W,PH_TOT,PH_TMP,PH_TOT_FLAG_W,DELC13,DELC13_FLAG_W,C13ERR,DELC14,DELC14_FLAG_W,C14ERR,THETA,SIG0
,,,,,,,,,,,METERS,DBAR,,ITS-90,,ITS-90,,PSS-78,,PSS-78,,UMOL/KG,,UMOL/KG,,UMOL/KG,,UMOL/KG,UMOL/KG,,UMOL/KG,UMOL/KG,,UMOL/KG,UMOL/KG,,UMOL/KG,PMOL/KG,,PMOL/KG,,PMOL/KG,,UMOL/KG,,UMOL/KG,,,DEG C,,/MILLE,,/MILLE,/MILLE,,/MILLE,DEG C,KG/M^3
  49NZ20090521,   P21,   244,  1,      0,   -999,9,20090610,0511,-18.4945, 167.7922, 4997,   -999.0,9,-999.0000,9,-999.00000,9,-999.0000,9,  34.8867,2,  -999.00,9,  -999.00,9,  -999.00,9,  -999.00,  -999.00,9,  -999.00,  -999.00,9,  -999.00, -999.000,9, -999.000, -999.000,9, -999.000,9, -999.000,9,   -999.0,9,   -999.0,9,-999.0000,-999,9,  -999.00,9,  -999.00,   -999.0,9,   -999.0,-999.0000,-999.0000
  49NZ20090521,   P21,   244,  1,     36, X12043,2,20090610,0511,-18.4945, 167.7922, 4997,     10.2,2,  26.4386,2,  26.43922,2,  34.8937,2,  34.8921,2,   201.78,2,   200.74,2,     0.76,2,     0.12,     0.08,2,     0.03,     0.01,2,     0.01,    0.092,2,    0.023,    1.552,2,    0.966,2, -999.000,5,   -999.0,9,   -999.0,9,-999.0000,-999,9,  -999.00,9,  -999.00,   -999.0,9,   -999.0,  26.4363,  22.8165
  49NZ20090521,   P21,   244,  1,     35, X12042,2,20090610,0511,-18.4945, 167.7922, 4997,     50.9,2,  26.4440,2,  26.44291,2,  34.9011,2,  34.8983,2,   200.44,2,   199.84,2,     0.71,2,     0.12,     0.06,2,     0.03,     0.01,2,     0.01,    0.094,2,    0.023,    1.558,2,    0.970,2, -999.000,5,   -999.0,9,   -999.0,9,-999.0000,-999,9,  -999.00,9,  -999.00,   -999.0,9,   -999.0,  26.4325,  22.8232
  49NZ20090521,   P21,   244,  1,     34, X12016,2,20090610,0511,-18.4945, 167.7922, 4997,    100.4,2,  25.1111,2,  25.11090,2,  35.2651,2,  35.2711,2,   184.49,2,   183.23,2,     0.70,2,     0.12,     0.72,2,     0.03,     0.16,2,     0.01,    0.221,2,    0.015,    1.737,6,    1.053,6, -999.000,5,   -999.0,9,   -999.0,9,-999.0000,-999,9,  -999.00,9,  -999.00,   -999.0,9,   -999.0,  25.0892,  23.5144
  49NZ20090521,   P21,   244,  1,     33, X12015,2,20090610,0511,-18.4945, 167.7922, 4997,    150.6,2,  23.1378,2,  23.14241,2,  35.4796,2,  35.5398,2,   168.79,2,   164.94,2,     0.85,2,     0.12,     3.50,2,     0.04,     0.03,2,     0.01,    0.382,2,    0.013,    1.889,2,    1.131,2,    0.163,4,   -999.0,9,   -999.0,9,-999.0000,-999,9,  -999.00,9,  -999.00,   -999.0,9,   -999.0,  23.1068,  24.2665
  49NZ20090521,   P21,   244,  1,     32, X12050,2,20090610,0511,-18.4945, 167.7922, 4997,    200.6,2,  21.6323,2,  21.63322,2,  35.6680,2,  35.6665,2,   162.95,2,   162.47,2,     1.05,2,     0.12,     4.53,2,     0.05,     0.02,2,     0.01,    0.450,2,    0.013,    1.990,2,    1.157,2,    0.068,2,   -999.0,9,   -999.0,9,-999.0000,-999,9,  -999.00,9,  -999.00,   -999.0,9,   -999.0,  21.5929,  24.8393
  49NZ20090521,   P21,   244,  1,     31, X12014,2,20090610,0511,-18.4945, 167.7922, 4997,    249.5,2,  19.3534,2,  19.36196,2,  35.6055,2,  35.6039,6,   163.16,2,   162.40,2,     1.72,2,     0.12,     6.33,2,     0.05,     0.01,2,     0.01,    0.596,2,    0.013,    2.130,2,    1.207,2,    0.056,2,   -999.0,9,   -999.0,9,-999.0000,-999,9,  -999.00,9,  -999.00,   -999.0,9,   -999.0,  19.3081,  25.4048
  49NZ20090521,   P21,   244,  1,     30, X12012,2,20090610,0511,-18.4945, 167.7922, 4997,    331.1,2,  15.7190,2,  15.72479,2,  35.2785,2,  35.2802,2,   174.15,2,   173.51,2,     2.87,2,     0.13,     9.33,2,     0.06,     0.01,2,     0.01,    0.792,2,    0.013,    2.238,2,    1.218,2,    0.052,2,   -999.0,9,   -999.0,9,-999.0000,-999,9,  -999.00,9,  -999.00,   -999.0,9,   -999.0,  15.6669,  26.0378
  49NZ20090521,   P21,   244,  1,     29, X12041,2,20090610,0511,-18.4945, 167.7922, 4997,    429.9,2,  11.8490,2,  11.85670,2,  34.8743,2,  34.8758,2,   179.00,2,   178.78,2,     5.72,2,     0.13,    15.68,2,     0.08,     0.01,2,     0.01,    1.200,2,    0.013,    2.077,6,    1.078,6,    0.033,6,   -999.0,9,   -999.0,9,-999.0000,-999,9,  -999.00,9,  -999.00,   -999.0,9,   -999.0,  11.7929,  26.5308
  49NZ20090521,   P21,   244,  1,     28, X12040,2,20090610,0511,-18.4945, 167.7922, 4997,    530.8,2,   8.9087,2,   8.91404,2,  34.5922,2,  34.5941,6,   190.33,2,   189.84,2,     9.98,2,     0.14,    21.32,2,     0.09,     0.01,2,     0.01,    1.548,2,    0.014,    1.761,2,    0.873,2,    0.045,2,   -999.0,9,   -999.0,9,-999.0000,-999,9,  -999.00,9,  -999.00,   -999.0,9,   -999.0,   8.8506,  26.8226
  49NZ20090521,   P21,   244,  1,     27, X12009,2,20090610,0511,-18.4945, 167.7922, 4997,    630.9,2,   6.7921,2,   6.79236,2,  34.4320,2,  34.4316,2,   194.14,2,   193.90,2,    17.26,2,     0.16,    26.27,2,     0.11,     0.01,2,     0.01,    1.856,2,    0.015,    1.128,6,    0.556,6,    0.026,6,   -999.0,9,   -999.0,9,-999.0000,-999,9,  -999.00,9,  -999.00,   -999.0,9,   -999.0,   6.7327,  27.0078
  49NZ20090521,   P21,   244,  1,     26, X12008,2,20090610,0511,-18.4945, 167.7922, 4997,    732.5,2,   5.6803,2,   5.67987,2,  34.4027,2,  34.4017,2,   190.36,2,   190.39,2,    27.06,2,     0.18,    28.80,2,     0.11,     0.01,2,     0.01,    2.041,2,    0.015,    0.685,2,    0.334,2,    0.003,2,   -999.0,9,   -999.0,9,-999.0000,-999,9,  -999.00,9,  -999.00,   -999.0,9,   -999.0,   5.6170,  27.1284
  49NZ20090521,   P21,   244,  1,     25, X12007,2,20090610,0511,-18.4945, 167.7922, 4997,    830.6,2,   5.0036,2,   5.00442,2,  34.4462,2,  34.4453,2,   172.81,2,   172.75,2,    43.07,2,     0.21,    31.26,2,     0.12,     0.01,2,     0.01,    2.201,2,    0.016,    0.314,2,    0.158,2,    0.007,2,   -999.0,9,   -999.0,9,-999.0000,-999,9,  -999.00,9,  -999.00,   -999.0,9,   -999.0,   4.9355,  27.2436
  49NZ20090521,   P21,   244,  1,     24, X12035,2,20090610,0511,-18.4945, 167.7922, 4997,    930.2,2,   4.2966,2,   4.29703,2,  34.4716,2,  34.4708,2,   165.07,2,   165.01,2,    56.46,2,     0.24,    32.83,2,     0.12,     0.01,2,     0.01,    2.312,2,    0.016,    0.146,2,    0.080,2,    0.000,2,   -999.0,9,   -999.0,9,-999.0000,-999,9,  -999.00,9,  -999.00,   -999.0,9,   -999.0,   4.2246,  27.3423
  49NZ20090521,   P21,   244,  1,     23, X12038,2,20090610,0511,-18.4945, 167.7922, 4997,   1070.0,2,   3.7402,2,   3.74023,2,  34.5105,2,  34.5100,6,   158.96,2,   158.98,2,    70.34,2,     0.27,    33.82,2,     0.13,     0.01,2,     0.01,    2.385,2,    0.016,    0.075,2,    0.039,2,    0.000,2,   -999.0,9,   -999.0,9,-999.0000,-999,9,  -999.00,9,  -999.00,   -999.0,9,   -999.0,   3.6608,  27.4312
  49NZ20090521,   P21,   244,  1,     22, X12034,2,20090610,0511,-18.4945, 167.7922, 4997,   1269.2,2,   3.2755,2,   3.27561,2,  34.5480,2,  34.5476,2,   154.65,2,   154.65,2,    82.73,2,     0.30,    34.53,2,     0.13,     0.01,2,     0.01,    2.441,2,    0.016,    0.039,2,    0.021,2,    0.000,2,   -999.0,9,   -999.0,9,-999.0000,-999,9,  -999.00,9,  -999.00,   -999.0,9,   -999.0,   3.1839,  27.5072
  49NZ20090521,   P21,   244,  1,     21, X12033,2,20090610,0511,-18.4945, 167.7922, 4997,   1470.9,2,   2.9649,2,   2.96476,2,  34.5791,2,  34.5790,2,   150.58,2,   150.50,2,    92.32,2,     0.32,    35.04,2,     0.13,     0.01,2,     0.01,    2.480,2,    0.016,    0.020,2,    0.011,2,    0.000,2,   -999.0,9,   -999.0,9,-999.0000,-999,9,  -999.00,9,  -999.00,   -999.0,9,   -999.0,   2.8599,  27.5618
  49NZ20090521,   P21,   244,  1,     20, X12032,2,20090610,0511,-18.4945, 167.7922, 4997,   1670.2,2,   2.6824,2,   2.68297,2,  34.6043,2,  34.6034,2,   148.83,2,   148.72,2,    99.97,2,     0.34,    35.33,2,     0.13,     0.01,2,     0.01,    2.501,2,    0.016,    0.012,2,    0.007,2,    0.000,2,   -999.0,9,   -999.0,9,-999.0000,-999,9,  -999.00,9,  -999.00,   -999.0,9,   -999.0,   2.5641,  27.6080
  49NZ20090521,   P21,   244,  1,     19, X12046,2,20090610,0511,-18.4945, 167.7922, 4997,   1871.3,2,   2.4498,2,   2.45002,2,  34.6255,2,  34.6253,2,   148.58,2,   148.39,2,   106.00,2,     0.35,    35.46,2,     0.13,     0.01,2,     0.01,    2.516,2,    0.016,    0.006,2,    0.003,2,    0.000,2,   -999.0,9,   -999.0,9,-999.0000,-999,9,  -999.00,9,  -999.00,   -999.0,9,   -999.0,   2.3176,  27.6459
  49NZ20090521,   P21,   244,  1,     18, X12006,2,20090610,0511,-18.4945, 167.7922, 4997,   2071.6,2,   2.2484,2,   2.24855,2,  34.6438,2,  34.6435,2,   149.58,2,   149.41,2,   110.65,2,     0.36,    35.54,2,     0.13,     0.01,2,     0.01,    2.517,2,    0.016,    0.001,2,    0.001,2,    0.000,2,   -999.0,9,   -999.0,9,-999.0000,-999,9,  -999.00,9,  -999.00,   -999.0,9,   -999.0,   2.1020,  27.6781
  49NZ20090521,   P21,   244,  1,     17, X12047,2,20090610,0511,-18.4945, 167.7922, 4997,   2270.4,2,   2.1044,2,   2.10451,2,  34.6565,2,  34.6561,6,   151.09,2,   150.97,2,   113.90,2,     0.37,    35.48,2,     0.13,     0.01,2,     0.01,    2.505,2,    0.016,    0.002,2,    0.001,2,    0.000,2,   -999.0,9,   -999.0,9,-999.0000,-999,9,  -999.00,9,  -999.00,   -999.0,9,   -999.0,   1.9429,  27.7010
  49NZ20090521,   P21,   244,  1,     16, X12004,2,20090610,0511,-18.4945, 167.7922, 4997,   2470.3,2,   1.9783,2,   1.97851,2,  34.6671,2,  34.6673,2,   152.70,2,   152.48,2,   116.78,2,     0.38,    35.37,2,     0.13,     0.01,2,     0.01,    2.497,2,    0.016,    0.002,2,    0.001,2,    0.000,2,   -999.0,9,   -999.0,9,-999.0000,-999,9,  -999.00,9,  -999.00,   -999.0,9,   -999.0,   1.8011,  27.7205
  49NZ20090521,   P21,   244,  1,     15, X12003,2,20090610,0511,-18.4945, 167.7922, 4997,   2670.4,2,   1.9134,2,   1.91355,2,  34.6725,2,  34.6720,2,   153.47,2,   153.10,2,   118.67,2,     0.38,    35.52,2,     0.13,     0.01,2,     0.01,    2.507,2,    0.016,    0.000,2,    0.000,2,    0.000,2,   -999.0,9,   -999.0,9,-999.0000,-999,9,  -999.00,9,  -999.00,   -999.0,9,   -999.0,   1.7190,  27.7311
  49NZ20090521,   P21,   244,  1,     14, X12002,2,20090610,0511,-18.4945, 167.7922, 4997,   2869.8,2,   1.8734,2,   1.87344,2,  34.6758,2,  34.6751,2,   154.03,2,   153.75,2,   120.20,2,     0.38,    35.27,2,     0.13,     0.01,2,     0.01,    2.496,2,    0.016,    0.000,2,    0.000,2,    0.000,2,   -999.0,9,   -999.0,9,-999.0000,-999,9,  -999.00,9,  -999.00,   -999.0,9,   -999.0,   1.6610,  27.7381
  49NZ20090521,   P21,   244,  1,     13, X12001,2,20090610,0511,-18.4945, 167.7922, 4997,   3080.3,2,   1.8385,2,   1.83858,2,  34.6786,2,  34.6778,2,   154.64,2,   154.24,2,   121.56,2,     0.39,    35.32,2,     0.13,     0.01,2,     0.01,    2.493,2,    0.016,    0.000,2,    0.000,2,    0.000,2,   -999.0,9,   -999.0,9,-999.0000,-999,9,  -999.00,9,  -999.00,   -999.0,9,   -999.0,   1.6064,  27.7444
  49NZ20090521,   P21,   244,  1,     12, X12030,2,20090610,0511,-18.4945, 167.7922, 4997,   3330.8,2,   1.8251,2,   1.82522,2,  34.6801,2,  34.6794,2,   154.93,2,   154.40,2,   122.95,2,     0.39,    35.39,2,     0.13,     0.01,2,     0.01,    2.498,2,    0.016,    0.001,2,    0.000,2,    0.000,2,   -999.0,9,   -999.0,9,-999.0000,-999,9,  -999.00,9,  -999.00,   -999.0,9,   -999.0,   1.5682,  27.7485
  49NZ20090521,   P21,   244,  1,     11, X12044,2,20090610,0511,-18.4945, 167.7922, 4997,   3580.3,2,   1.8262,2,   1.82617,2,  34.6814,2,  34.6806,6,   155.53,2,   155.04,2,   123.25,2,     0.39,    35.41,2,     0.13,     0.01,2,     0.01,    2.499,2,    0.016,    0.000,2,    0.000,2,    0.000,2,   -999.0,9,   -999.0,9,-999.0000,-999,9,  -999.00,9,  -999.00,   -999.0,9,   -999.0,   1.5435,  27.7513
  49NZ20090521,   P21,   244,  1,     10, X12048,2,20090610,0511,-18.4945, 167.7922, 4997,   3829.8,2,   1.8338,2,   1.83390,2,  34.6827,2,  34.6822,2,   156.16,2,   155.56,2,   123.31,2,     0.39,    35.32,2,     0.13,     0.01,2,     0.01,    2.491,2,    0.016,    0.001,2,    0.001,2,    0.000,2,   -999.0,9,   -999.0,9,-999.0000,-999,9,  -999.00,9,  -999.00,   -999.0,9,   -999.0,   1.5242,  27.7538
  49NZ20090521,   P21,   244,  1,      9, X12027,2,20090610,0511,-18.4945, 167.7922, 4997,   4079.5,2,   1.8516,2,   1.85169,2,  34.6839,2,  34.6834,2,   157.07,2,   156.61,2,   123.14,2,     0.39,    35.17,2,     0.13,     0.01,2,     0.01,    2.485,2,    0.016,    0.001,2,    0.000,2,    0.000,2,   -999.0,9,   -999.0,9,-999.0000,-999,9,  -999.00,9,  -999.00,   -999.0,9,   -999.0,   1.5140,  27.7555
  49NZ20090521,   P21,   244,  1,      8, X12026,2,20090610,0511,-18.4945, 167.7922, 4997,   4330.9,2,   1.8705,2,   1.87061,2,  34.6846,2,  34.6835,2,   157.37,2,   156.85,2,   122.99,2,     0.39,    35.24,2,     0.13,     0.01,2,     0.01,    2.488,2,    0.016,    0.002,2,    0.000,2,    0.000,2,   -999.0,9,   -999.0,9,-999.0000,-999,9,  -999.00,9,  -999.00,   -999.0,9,   -999.0,   1.5037,  27.7568
  49NZ20090521,   P21,   244,  1,      7, X12025,2,20090610,0511,-18.4945, 167.7922, 4997,   4580.8,2,   1.8957,2,   1.89579,2,  34.6847,2,  34.6840,2,   157.44,2,   156.88,2,   123.28,2,     0.39,    35.18,2,     0.13,     0.01,2,     0.01,    2.485,2,    0.016,    0.001,2,    0.001,2,    0.000,2,   -999.0,9,   -999.0,9,-999.0000,-999,9,  -999.00,9,  -999.00,   -999.0,9,   -999.0,   1.4989,  27.7572
  49NZ20090521,   P21,   244,  1,      6, X12024,2,20090610,0511,-18.4945, 167.7922, 4997,   4830.7,2,   1.9245,2,   1.92458,2,  34.6847,2,  34.6840,2,   157.43,2,   157.01,2,   123.30,2,     0.39,    35.20,2,     0.13,     0.01,2,     0.01,    2.484,2,    0.016,    0.001,2,    0.001,2,    0.000,2,   -999.0,9,   -999.0,9,-999.0000,-999,9,  -999.00,9,  -999.00,   -999.0,9,   -999.0,   1.4968,  27.7574
  49NZ20090521,   P21,   244,  1,      5, X12028,9,20090610,0511,-18.4945, 167.7922, 4997,     10.3,2,  26.4424,2,  26.44251,2,  34.8937,2,-999.0000,9,   201.88,2,  -999.00,9,  -999.00,9,  -999.00,  -999.00,9,  -999.00,  -999.00,9,  -999.00, -999.000,9, -999.000, -999.000,9, -999.000,9, -999.000,9,   -999.0,9,   -999.0,9,-999.0000,-999,9,  -999.00,9,  -999.00,   -999.0,9,   -999.0,  26.4401,  22.8153
  49NZ20090521,   P21,   244,  1,      4, X12022,9,20090610,0511,-18.4945, 167.7922, 4997,     50.6,2,  26.4359,2,  26.43556,2,  34.9006,2,-999.0000,9,   200.36,2,  -999.00,9,  -999.00,9,  -999.00,  -999.00,9,  -999.00,  -999.00,9,  -999.00, -999.000,9, -999.000, -999.000,9, -999.000,9, -999.000,9,   -999.0,9,   -999.0,9,-999.0000,-999,9,  -999.00,9,  -999.00,   -999.0,9,   -999.0,  26.4245,  22.8254
  49NZ20090521,   P21,   244,  1,      3, X12021,9,20090610,0511,-18.4945, 167.7922, 4997,    100.2,2,  25.1086,2,  25.10819,2,  35.2643,2,-999.0000,9,   184.31,2,  -999.00,9,  -999.00,9,  -999.00,  -999.00,9,  -999.00,  -999.00,9,  -999.00, -999.000,9, -999.000, -999.000,9, -999.000,9, -999.000,9,   -999.0,9,   -999.0,9,-999.0000,-999,9,  -999.00,9,  -999.00,   -999.0,9,   -999.0,  25.0868,  23.5145
  49NZ20090521,   P21,   244,  1,      2, X12020,9,20090610,0511,-18.4945, 167.7922, 4997,   1470.9,2,   2.9647,2,   2.96475,2,  34.5791,2,-999.0000,9,   150.57,2,  -999.00,9,  -999.00,9,  -999.00,  -999.00,9,  -999.00,  -999.00,9,  -999.00, -999.000,9, -999.000, -999.000,9, -999.000,9, -999.000,9,   -999.0,9,   -999.0,9,-999.0000,-999,9,  -999.00,9,  -999.00,   -999.0,9,   -999.0,   2.8597,  27.5619
  49NZ20090521,   P21,   244,  1,      1, X12019,2,20090610,0511,-18.4945, 167.7922, 4997,   5084.4,2,   1.9544,2,   1.95452,2,  34.6846,2,  34.6839,6,   157.28,2,   157.09,2,   123.43,2,     0.39,    35.22,2,     0.13,     0.01,2,     0.01,    2.486,2,    0.016,    0.001,2,    0.001,2,    0.000,2,   -999.0,9,   -999.0,9,-999.0000,-999,9,  -999.00,9,  -999.00,   -999.0,9,   -999.0,   1.4944,  27.7575