BOTTLE,20111109CCHDOSIOCBG
EXPOCODE,SECT_ID,STNNBR,CASTNO,SAMPNO,BTLNBR,BTLNBR_FLAG_W,DATE,TIME,LATITUDE,LONGITUDE,DEPTH,CTDPRS,CTDPRS_FLAG_W,CTDTMP,CTDTMP_FLAG_W,SBE35,SBE35_FLAG_W,CTDSAL,CTDSAL_FLAG_W,SALNTY,SALNTY_FLAG_W,CTDOXY,CTDOXY_FLAG_W,OXYGEN,OXYGEN_FLAG_W,SILCAT,SILCAT_FLAG_W,SILUNC,NITRAT,NITRAT_FLAG_W,NRAUNC,NITRIT,NITRIT_FLAG_W,NRIUNC,PHSPHT,PHSPHT_FLAG_W,PHPUNC,CFC-11,CFC-11_FLAG_W,CFC-12,CFC-12_FLAG_W,CFC113,CFC113_FLAG_W,TCARBN,TCARBN_FLAG_W,ALKALI,ALKALI_FLAG_W,PH_TOT,PH_TMP,PH_TOT_FLAG_W,DELC13,DELC13_FLAG_W,C13ERR,DELC14,DELC14_FLAG_W,C14ERR,THETA,SIG0
,,,,,,,,,,,METERS,DBAR,,ITS-90,,ITS-90,,PSS-78,,PSS-78,,UMOL/KG,,UMOL/KG,,UMOL/KG,,UMOL/KG,UMOL/KG,,UMOL/KG,UMOL/KG,,UMOL/KG,UMOL/KG,,UMOL/KG,PMOL/KG,,PMOL/KG,,PMOL/KG,,UMOL/KG,,UMOL/KG,,,DEG C,,/MILLE,,/MILLE,/MILLE,,/MILLE,DEG C,KG/M^3
  49NZ20090521,   P21,   208,  1,      0,   -999,9,20090604,0749,-17.4962,-175.6673, 2195,   -999.0,9,-999.0000,9,-999.00000,9,-999.0000,9,  35.2486,2,  -999.00,9,  -999.00,9,  -999.00,9,  -999.00,  -999.00,9,  -999.00,  -999.00,9,  -999.00, -999.000,9, -999.000, -999.000,9, -999.000,9, -999.000,9,   -999.0,9,   -999.0,9,-999.0000,-999,9,  -999.00,9,  -999.00,   -999.0,9,   -999.0,-999.0000,-999.0000
  49NZ20090521,   P21,   208,  1,     36, X12043,2,20090604,0749,-17.4962,-175.6673, 2195,     11.8,2,  26.8709,2,  26.87097,2,  35.2554,2,  35.2532,2,   200.28,2,   200.86,2,     0.56,2,     0.12,     0.09,2,     0.03,     0.01,2,     0.01,    0.094,2,    0.023,    1.512,2,    0.955,2, -999.000,5,   -999.0,9,   -999.0,9,-999.0000,-999,9,  -999.00,9,  -999.00,   -999.0,9,   -999.0,  26.8682,  22.9522
  49NZ20090521,   P21,   208,  1,     35, X12042,2,20090604,0749,-17.4962,-175.6673, 2195,     50.7,2,  26.8938,2,  26.89399,2,  35.2698,2,  35.2667,2,   199.90,2,   200.53,2,     0.51,2,     0.12,     0.09,2,     0.03,     0.01,2,     0.01,    0.088,2,    0.024,    1.514,2,    0.956,2, -999.000,5,   -999.0,9,   -999.0,9,-999.0000,-999,9,  -999.00,9,  -999.00,   -999.0,9,   -999.0,  26.8822,  22.9586
  49NZ20090521,   P21,   208,  1,     34, X12016,2,20090604,0749,-17.4962,-175.6673, 2195,     99.6,2,  25.1372,2,  25.13636,2,  35.8243,2,  35.8238,2,   189.59,2,   190.55,2,     0.53,2,     0.12,     0.10,2,     0.03,     0.05,2,     0.01,    0.210,2,    0.016,    1.691,6,    1.042,6, -999.000,5,   -999.0,9,   -999.0,9,-999.0000,-999,9,  -999.00,9,  -999.00,   -999.0,9,   -999.0,  25.1155,  23.9291
  49NZ20090521,   P21,   208,  1,     33, X12015,2,20090604,0749,-17.4962,-175.6673, 2195,    151.6,2,  22.8401,2,  22.83873,2,  35.8059,2,  35.8041,2,   162.49,2,   162.79,2,     0.66,2,     0.12,     2.92,2,     0.04,     0.02,2,     0.01,    0.400,2,    0.013,    1.881,2,    1.128,2,    0.074,2,   -999.0,9,   -999.0,9,-999.0000,-999,9,  -999.00,9,  -999.00,   -999.0,9,   -999.0,  22.8092,  24.6001
  49NZ20090521,   P21,   208,  1,     32, X12050,2,20090604,0749,-17.4962,-175.6673, 2195,    199.6,2,  21.5167,2,  21.51277,2,  35.8304,2,  35.8338,2,   163.73,2,   163.88,2,     0.82,2,     0.12,     3.95,2,     0.04,     0.01,2,     0.01,    0.472,2,    0.013,    1.992,2,    1.186,2,    0.040,2,   -999.0,9,   -999.0,9,-999.0000,-999,9,  -999.00,9,  -999.00,   -999.0,9,   -999.0,  21.4777,  24.9948
  49NZ20090521,   P21,   208,  1,     31, X12014,2,20090604,0749,-17.4962,-175.6673, 2195,    249.8,2,  18.6180,2,  18.61164,2,  35.5390,2,  35.5414,6,   176.02,2,   175.73,2,     1.19,2,     0.12,     5.05,2,     0.05,     0.01,2,     0.01,    0.512,2,    0.013,    2.190,2,    1.256,2,    0.017,2,   -999.0,9,   -999.0,9,-999.0000,-999,9,  -999.00,9,  -999.00,   -999.0,9,   -999.0,  18.5739,  25.5416
  49NZ20090521,   P21,   208,  1,     30, X12012,2,20090604,0749,-17.4962,-175.6673, 2195,    300.9,2,  16.9464,2,  16.94550,2,  35.4264,2,  35.4280,2,   188.09,2,   188.36,2,     1.30,2,     0.12,     5.41,2,     0.05,     0.01,2,     0.01,    0.500,2,    0.013,    2.309,2,    1.305,2,    0.021,2,   -999.0,9,   -999.0,9,-999.0000,-999,9,  -999.00,9,  -999.00,   -999.0,9,   -999.0,  16.8966,  25.8662
  49NZ20090521,   P21,   208,  1,     29, X12041,2,20090604,0749,-17.4962,-175.6673, 2195,    402.0,2,  12.6645,2,  12.66590,2,  34.9412,2,  34.9450,2,   188.14,2,   188.16,2,     3.69,2,     0.13,    12.53,2,     0.07,     0.01,2,     0.01,    0.983,2,    0.013,    2.344,6,    1.244,6,    0.032,6,   -999.0,9,   -999.0,9,-999.0000,-999,9,  -999.00,9,  -999.00,   -999.0,9,   -999.0,  12.6098,  26.4250
  49NZ20090521,   P21,   208,  1,     28, X12040,2,20090604,0749,-17.4962,-175.6673, 2195,    501.3,2,   9.0823,2,   9.08256,2,  34.5720,2,  34.5733,6,   198.73,2,   198.74,2,     6.99,2,     0.13,    19.74,2,     0.09,     0.01,2,     0.01,    1.439,2,    0.014,    2.235,2,    1.133,2,    0.043,2,   -999.0,9,   -999.0,9,-999.0000,-999,9,  -999.00,9,  -999.00,   -999.0,9,   -999.0,   9.0269,  26.7786
  49NZ20090521,   P21,   208,  1,     27, X12009,2,20090604,0749,-17.4962,-175.6673, 2195,    600.4,2,   7.1530,2,   7.15287,2,  34.4020,2,  34.4019,2,   204.79,2,   204.56,2,    10.83,2,     0.14,    24.48,2,     0.10,     0.01,2,     0.01,    1.743,2,    0.014,    1.783,6,    0.875,6,    0.038,6,   -999.0,9,   -999.0,9,-999.0000,-999,9,  -999.00,9,  -999.00,   -999.0,9,   -999.0,   7.0950,  26.9345
  49NZ20090521,   P21,   208,  1,     26, X12008,2,20090604,0749,-17.4962,-175.6673, 2195,    699.8,2,   5.9604,2,   5.96061,2,  34.3569,2,  34.3567,2,   202.96,2,   203.12,2,    17.99,2,     0.16,    27.59,2,     0.11,     0.01,2,     0.01,    1.928,2,    0.015,    1.026,2,    0.510,2,    0.018,2,   -999.0,9,   -999.0,9,-999.0000,-999,9,  -999.00,9,  -999.00,   -999.0,9,   -999.0,   5.8987,  27.0572
  49NZ20090521,   P21,   208,  1,     25, X12007,2,20090604,0749,-17.4962,-175.6673, 2195,    800.2,2,   5.3174,2,   5.31752,2,  34.3564,2,  34.3562,2,   187.91,2,   188.15,2,    26.10,2,     0.18,    30.19,2,     0.12,     0.01,2,     0.01,    2.108,2,    0.015,    0.504,2,    0.255,2,    0.007,2,   -999.0,9,   -999.0,9,-999.0000,-999,9,  -999.00,9,  -999.00,   -999.0,9,   -999.0,   5.2501,  27.1358
  49NZ20090521,   P21,   208,  1,     24, X12035,2,20090604,0749,-17.4962,-175.6673, 2195,    901.5,2,   4.5092,2,   4.50912,2,  34.3929,2,  34.3924,2,   171.36,2,   171.60,2,    41.10,2,     0.21,    32.77,2,     0.12,     0.01,2,     0.01,    2.298,2,    0.016,    0.163,2,    0.087,2,    0.004,2,   -999.0,9,   -999.0,9,-999.0000,-999,9,  -999.00,9,  -999.00,   -999.0,9,   -999.0,   4.4383,  27.2568
  49NZ20090521,   P21,   208,  1,     23, X12038,2,20090604,0749,-17.4962,-175.6673, 2195,    999.1,2,   4.1336,2,   4.13346,2,  34.4301,2,  34.4300,6,   163.51,2,   163.90,2,    51.48,2,     0.23,    33.81,2,     0.13,     0.01,2,     0.01,    2.366,2,    0.016,    0.088,2,    0.047,2,    0.000,2,   -999.0,9,   -999.0,9,-999.0000,-999,9,  -999.00,9,  -999.00,   -999.0,9,   -999.0,   4.0571,  27.3268
  49NZ20090521,   P21,   208,  1,     22, X12034,2,20090604,0749,-17.4962,-175.6673, 2195,   1199.8,2,   3.5569,2,   3.55693,2,  34.5016,2,  34.5015,2,   151.77,2,   152.10,2,    71.70,2,     0.28,    34.94,2,     0.13,     0.01,2,     0.01,    2.460,2,    0.016,    0.028,2,    0.017,2,    0.000,2,   -999.0,9,   -999.0,9,-999.0000,-999,9,  -999.00,9,  -999.00,   -999.0,9,   -999.0,   3.4684,  27.4431
  49NZ20090521,   P21,   208,  1,     21, X12033,2,20090604,0749,-17.4962,-175.6673, 2195,   1398.8,2,   2.9278,2,   2.92767,2,  34.5517,2,  34.5518,2,   151.53,2,   151.93,2,    88.65,2,     0.31,    35.19,2,     0.13,     0.01,2,     0.01,    2.486,2,    0.016,    0.015,2,    0.012,2,    0.000,2,   -999.0,9,   -999.0,9,-999.0000,-999,9,  -999.00,9,  -999.00,   -999.0,9,   -999.0,   2.8292,  27.5427
  49NZ20090521,   P21,   208,  1,     20, X12032,2,20090604,0749,-17.4962,-175.6673, 2195,   1600.5,2,   2.6586,2,   2.65864,2,  34.5830,2,  34.5829,6,   148.93,2,   149.19,2,    99.05,2,     0.34,    35.41,2,     0.13,     0.01,2,     0.01,    2.502,2,    0.016,    0.007,2,    0.012,2,    0.000,2,   -999.0,9,   -999.0,9,-999.0000,-999,9,  -999.00,9,  -999.00,   -999.0,9,   -999.0,   2.5465,  27.5925
  49NZ20090521,   P21,   208,  1,     19, X12046,2,20090604,0749,-17.4962,-175.6673, 2195,   1800.2,2,   2.4740,2,   2.47397,2,  34.6047,2,  34.6048,2,   147.03,2,   147.27,2,   106.70,2,     0.35,    35.69,2,     0.13,     0.01,2,     0.01,    2.525,2,    0.016,    0.004,2,    0.011,2,    0.000,2,   -999.0,9,   -999.0,9,-999.0000,-999,9,  -999.00,9,  -999.00,   -999.0,9,   -999.0,   2.3476,  27.6267
  49NZ20090521,   P21,   208,  1,     18, X12006,2,20090604,0749,-17.4962,-175.6673, 2195,   2002.5,2,   2.3557,2,   2.35620,2,  34.6193,2,  34.6194,2,   145.58,2,   145.80,2,   111.51,2,     0.36,    35.82,2,     0.13,     0.01,2,     0.01,    2.526,2,    0.016,    0.004,2,    0.009,2,    0.000,2,   -999.0,9,   -999.0,9,-999.0000,-999,9,  -999.00,9,  -999.00,   -999.0,9,   -999.0,   2.2137,  27.6494
  49NZ20090521,   P21,   208,  1,     17, X12047,9,20090604,0749,-17.4962,-175.6673, 2195,     12.0,2,  26.8716,2,  26.87187,2,  35.2560,2,-999.0000,9,   200.21,2,  -999.00,9,  -999.00,9,  -999.00,  -999.00,9,  -999.00,  -999.00,9,  -999.00, -999.000,9, -999.000, -999.000,9, -999.000,9, -999.000,9,   -999.0,9,   -999.0,9,-999.0000,-999,9,  -999.00,9,  -999.00,   -999.0,9,   -999.0,  26.8689,  22.9524
  49NZ20090521,   P21,   208,  1,     16, X12004,9,20090604,0749,-17.4962,-175.6673, 2195,     50.5,2,  26.8911,2,  26.89180,2,  35.2688,2,-999.0000,9,   199.95,2,  -999.00,9,  -999.00,9,  -999.00,  -999.00,9,  -999.00,  -999.00,9,  -999.00, -999.000,9, -999.000, -999.000,9, -999.000,9, -999.000,9,   -999.0,9,   -999.0,9,-999.0000,-999,9,  -999.00,9,  -999.00,   -999.0,9,   -999.0,  26.8795,  22.9587
  49NZ20090521,   P21,   208,  1,     15, X12003,9,20090604,0749,-17.4962,-175.6673, 2195,    100.7,2,  25.1368,2,  25.13811,2,  35.8234,2,-999.0000,9,   190.09,2,  -999.00,9,  -999.00,9,  -999.00,  -999.00,9,  -999.00,  -999.00,9,  -999.00, -999.000,9, -999.000, -999.000,9, -999.000,9, -999.000,9,   -999.0,9,   -999.0,9,-999.0000,-999,9,  -999.00,9,  -999.00,   -999.0,9,   -999.0,  25.1148,  23.9286
  49NZ20090521,   P21,   208,  1,     14, X12002,9,20090604,0749,-17.4962,-175.6673, 2195,    152.1,2,  22.8409,2,  22.84155,2,  35.8057,2,-999.0000,9,   162.60,2,  -999.00,9,  -999.00,9,  -999.00,  -999.00,9,  -999.00,  -999.00,9,  -999.00, -999.000,9, -999.000, -999.000,9, -999.000,9, -999.000,9,   -999.0,9,   -999.0,9,-999.0000,-999,9,  -999.00,9,  -999.00,   -999.0,9,   -999.0,  22.8099,  24.5997
  49NZ20090521,   P21,   208,  1,     13, X12001,9,20090604,0749,-17.4962,-175.6673, 2195,    200.4,2,  21.5010,2,  21.49883,2,  35.8281,2,-999.0000,9,   163.98,2,  -999.00,9,  -999.00,9,  -999.00,  -999.00,9,  -999.00,  -999.00,9,  -999.00, -999.000,9, -999.000, -999.000,9, -999.000,9, -999.000,9,   -999.0,9,   -999.0,9,-999.0000,-999,9,  -999.00,9,  -999.00,   -999.0,9,   -999.0,  21.4618,  24.9974
  49NZ20090521,   P21,   208,  1,     12, X12030,9,20090604,0749,-17.4962,-175.6673, 2195,    250.0,2,  18.6054,2,  18.60899,2,  35.5386,2,-999.0000,9,   176.42,2,  -999.00,9,  -999.00,9,  -999.00,  -999.00,9,  -999.00,  -999.00,9,  -999.00, -999.000,9, -999.000, -999.000,9, -999.000,9, -999.000,9,   -999.0,9,   -999.0,9,-999.0000,-999,9,  -999.00,9,  -999.00,   -999.0,9,   -999.0,  18.5613,  25.5445
  49NZ20090521,   P21,   208,  1,     11, X12044,9,20090604,0749,-17.4962,-175.6673, 2195,    299.9,2,  16.9486,2,  16.94881,2,  35.4269,2,-999.0000,9,   188.10,2,  -999.00,9,  -999.00,9,  -999.00,  -999.00,9,  -999.00,  -999.00,9,  -999.00, -999.000,9, -999.000, -999.000,9, -999.000,9, -999.000,9,   -999.0,9,   -999.0,9,-999.0000,-999,9,  -999.00,9,  -999.00,   -999.0,9,   -999.0,  16.8989,  25.8661
  49NZ20090521,   P21,   208,  1,     10, X12048,9,20090604,0749,-17.4962,-175.6673, 2195,    402.3,2,  12.6505,2,  12.65092,2,  34.9391,2,-999.0000,9,   188.10,2,  -999.00,9,  -999.00,9,  -999.00,  -999.00,9,  -999.00,  -999.00,9,  -999.00, -999.000,9, -999.000, -999.000,9, -999.000,9, -999.000,9,   -999.0,9,   -999.0,9,-999.0000,-999,9,  -999.00,9,  -999.00,   -999.0,9,   -999.0,  12.5958,  26.4262
  49NZ20090521,   P21,   208,  1,      9, X12027,9,20090604,0749,-17.4962,-175.6673, 2195,    502.1,2,   9.0791,2,   9.08160,2,  34.5717,2,-999.0000,9,   198.73,2,  -999.00,9,  -999.00,9,  -999.00,  -999.00,9,  -999.00,  -999.00,9,  -999.00, -999.000,9, -999.000, -999.000,9, -999.000,9, -999.000,9,   -999.0,9,   -999.0,9,-999.0000,-999,9,  -999.00,9,  -999.00,   -999.0,9,   -999.0,   9.0236,  26.7790
  49NZ20090521,   P21,   208,  1,      8, X12026,9,20090604,0749,-17.4962,-175.6673, 2195,    600.3,2,   7.1515,2,   7.15147,2,  34.4020,2,-999.0000,9,   204.74,2,  -999.00,9,  -999.00,9,  -999.00,  -999.00,9,  -999.00,  -999.00,9,  -999.00, -999.000,9, -999.000, -999.000,9, -999.000,9, -999.000,9,   -999.0,9,   -999.0,9,-999.0000,-999,9,  -999.00,9,  -999.00,   -999.0,9,   -999.0,   7.0935,  26.9347
  49NZ20090521,   P21,   208,  1,      7, X12025,9,20090604,0749,-17.4962,-175.6673, 2195,    699.9,2,   5.9602,2,   5.96041,2,  34.3568,2,-999.0000,9,   202.96,2,  -999.00,9,  -999.00,9,  -999.00,  -999.00,9,  -999.00,  -999.00,9,  -999.00, -999.000,9, -999.000, -999.000,9, -999.000,9, -999.000,9,   -999.0,9,   -999.0,9,-999.0000,-999,9,  -999.00,9,  -999.00,   -999.0,9,   -999.0,   5.8984,  27.0572
  49NZ20090521,   P21,   208,  1,      6, X12024,9,20090604,0749,-17.4962,-175.6673, 2195,    800.3,2,   5.3172,2,   5.31734,2,  34.3564,2,-999.0000,9,   187.96,2,  -999.00,9,  -999.00,9,  -999.00,  -999.00,9,  -999.00,  -999.00,9,  -999.00, -999.000,9, -999.000, -999.000,9, -999.000,9, -999.000,9,   -999.0,9,   -999.0,9,-999.0000,-999,9,  -999.00,9,  -999.00,   -999.0,9,   -999.0,   5.2499,  27.1359
  49NZ20090521,   P21,   208,  1,      5, X12028,9,20090604,0749,-17.4962,-175.6673, 2195,    901.4,2,   4.5099,2,   4.50998,2,  34.3929,2,-999.0000,9,   171.36,2,  -999.00,9,  -999.00,9,  -999.00,  -999.00,9,  -999.00,  -999.00,9,  -999.00, -999.000,9, -999.000, -999.000,9, -999.000,9, -999.000,9,   -999.0,9,   -999.0,9,-999.0000,-999,9,  -999.00,9,  -999.00,   -999.0,9,   -999.0,   4.4390,  27.2567
  49NZ20090521,   P21,   208,  1,      4, X12022,9,20090604,0749,-17.4962,-175.6673, 2195,    999.3,2,   4.1332,2,   4.13316,2,  34.4301,2,-999.0000,9,   163.54,2,  -999.00,9,  -999.00,9,  -999.00,  -999.00,9,  -999.00,  -999.00,9,  -999.00, -999.000,9, -999.000, -999.000,9, -999.000,9, -999.000,9,   -999.0,9,   -999.0,9,-999.0000,-999,9,  -999.00,9,  -999.00,   -999.0,9,   -999.0,   4.0567,  27.3270
  49NZ20090521,   P21,   208,  1,      3, X12021,9,20090604,0749,-17.4962,-175.6673, 2195,   1199.2,2,   3.5568,2,   3.55686,2,  34.5017,2,-999.0000,9,   151.81,2,  -999.00,9,  -999.00,9,  -999.00,  -999.00,9,  -999.00,  -999.00,9,  -999.00, -999.000,9, -999.000, -999.000,9, -999.000,9, -999.000,9,   -999.0,9,   -999.0,9,-999.0000,-999,9,  -999.00,9,  -999.00,   -999.0,9,   -999.0,   3.4684,  27.4431
  49NZ20090521,   P21,   208,  1,      2, X12020,9,20090604,0749,-17.4962,-175.6673, 2195,   1399.2,2,   2.9285,2,   2.92854,2,  34.5518,2,-999.0000,9,   151.57,2,  -999.00,9,  -999.00,9,  -999.00,  -999.00,9,  -999.00,  -999.00,9,  -999.00, -999.000,9, -999.000, -999.000,9, -999.000,9, -999.000,9,   -999.0,9,   -999.0,9,-999.0000,-999,9,  -999.00,9,  -999.00,   -999.0,9,   -999.0,   2.8298,  27.5427
  49NZ20090521,   P21,   208,  1,      1, X12019,2,20090604,0749,-17.4962,-175.6673, 2195,   2177.5,2,   2.2942,2,   2.29423,2,  34.6271,2,  34.6272,6,   145.24,2,   145.40,2,   114.14,2,     0.37,    35.81,2,     0.13,     0.01,2,     0.01,    2.537,2,    0.016,    0.003,2,    0.012,2,    0.000,2,   -999.0,9,   -999.0,9,-999.0000,-999,9,  -999.00,9,  -999.00,   -999.0,9,   -999.0,   2.1378,  27.6619