BOTTLE,20111109CCHDOSIOCBG
EXPOCODE,SECT_ID,STNNBR,CASTNO,SAMPNO,BTLNBR,BTLNBR_FLAG_W,DATE,TIME,LATITUDE,LONGITUDE,DEPTH,CTDPRS,CTDPRS_FLAG_W,CTDTMP,CTDTMP_FLAG_W,SBE35,SBE35_FLAG_W,CTDSAL,CTDSAL_FLAG_W,SALNTY,SALNTY_FLAG_W,CTDOXY,CTDOXY_FLAG_W,OXYGEN,OXYGEN_FLAG_W,SILCAT,SILCAT_FLAG_W,SILUNC,NITRAT,NITRAT_FLAG_W,NRAUNC,NITRIT,NITRIT_FLAG_W,NRIUNC,PHSPHT,PHSPHT_FLAG_W,PHPUNC,CFC-11,CFC-11_FLAG_W,CFC-12,CFC-12_FLAG_W,CFC113,CFC113_FLAG_W,TCARBN,TCARBN_FLAG_W,ALKALI,ALKALI_FLAG_W,PH_TOT,PH_TMP,PH_TOT_FLAG_W,DELC13,DELC13_FLAG_W,C13ERR,DELC14,DELC14_FLAG_W,C14ERR,THETA,SIG0
,,,,,,,,,,,METERS,DBAR,,ITS-90,,ITS-90,,PSS-78,,PSS-78,,UMOL/KG,,UMOL/KG,,UMOL/KG,,UMOL/KG,UMOL/KG,,UMOL/KG,UMOL/KG,,UMOL/KG,UMOL/KG,,UMOL/KG,PMOL/KG,,PMOL/KG,,PMOL/KG,,UMOL/KG,,UMOL/KG,,,DEG C,,/MILLE,,/MILLE,/MILLE,,/MILLE,DEG C,KG/M^3
  49NZ20090521,   P21,   260,  1,      0,   -999,9,20090613,0959,-20.9342, 164.1830, 3414,   -999.0,9,-999.0000,9,-999.00000,9,-999.0000,9,  34.9056,2,  -999.00,9,  -999.00,9,  -999.00,9,  -999.00,  -999.00,9,  -999.00,  -999.00,9,  -999.00, -999.000,9, -999.000, -999.000,9, -999.000,9, -999.000,9,   -999.0,9,   -999.0,9,-999.0000,-999,9,  -999.00,9,  -999.00,   -999.0,9,   -999.0,-999.0000,-999.0000
  49NZ20090521,   P21,   260,  1,     36, X12043,2,20090613,0959,-20.9342, 164.1830, 3414,     11.2,2,  24.2106,2,  24.21385,2,  34.9548,2,  34.9458,2,   210.85,2,   209.26,2,     0.72,2,     0.12,     0.04,2,     0.03,     0.01,2,     0.01,    0.088,2,    0.024,    1.662,2,    1.051,2, -999.000,5,   -999.0,9,   -999.0,9,-999.0000,-999,9,  -999.00,9,  -999.00,   -999.0,9,   -999.0,  24.2082,  23.5453
  49NZ20090521,   P21,   260,  1,     35, X12042,2,20090613,0959,-20.9342, 164.1830, 3414,     51.1,2,  23.6151,2,  23.61517,2,  35.2692,2,  35.2671,2,   212.65,2,   211.14,2,     0.65,2,     0.12,     0.04,2,     0.03,     0.01,2,     0.01,    0.083,2,    0.024,    1.712,2,    1.083,2, -999.000,5,   -999.0,9,   -999.0,9,-999.0000,-999,9,  -999.00,9,  -999.00,   -999.0,9,   -999.0,  23.6045,  23.9619
  49NZ20090521,   P21,   260,  1,     34, X12016,2,20090613,0959,-20.9342, 164.1830, 3414,    100.9,2,  23.3853,2,  23.38235,2,  35.3530,2,  35.3486,2,   210.57,2,   209.90,2,     0.65,2,     0.12,     0.04,2,     0.03,     0.02,2,     0.01,    0.077,2,    0.026,    1.738,6,    1.096,6, -999.000,5,   -999.0,9,   -999.0,9,-999.0000,-999,9,  -999.00,9,  -999.00,   -999.0,9,   -999.0,  23.3644,  24.0956
  49NZ20090521,   P21,   260,  1,     33, X12015,2,20090613,0959,-20.9342, 164.1830, 3414,    151.0,2,  20.9017,2,  20.89741,2,  35.6227,2,  35.6192,2,   179.58,2,   178.14,2,     1.29,2,     0.12,     3.70,2,     0.04,     0.03,2,     0.01,    0.367,2,    0.014,    1.975,2,    1.215,2,    0.095,2,   -999.0,9,   -999.0,9,-999.0000,-999,9,  -999.00,9,  -999.00,   -999.0,9,   -999.0,  20.8728,  25.0027
  49NZ20090521,   P21,   260,  1,     32, X12050,2,20090613,0959,-20.9342, 164.1830, 3414,    200.2,2,  19.8549,2,  19.85500,2,  35.6523,2,  35.6506,2,   181.69,2,   180.20,2,     1.27,2,     0.12,     4.38,2,     0.05,     0.02,2,     0.01,    0.401,2,    0.013,    2.042,2,    1.243,2,    0.038,2,   -999.0,9,   -999.0,9,-999.0000,-999,9,  -999.00,9,  -999.00,   -999.0,9,   -999.0,  19.8179,  25.3075
  49NZ20090521,   P21,   260,  1,     31, X12014,2,20090613,0959,-20.9342, 164.1830, 3414,    254.0,2,  18.6041,2,  18.59879,2,  35.6101,2,  35.6166,6,   179.19,2,   177.92,2,     1.73,2,     0.12,     5.73,2,     0.05,     0.02,2,     0.01,    0.494,2,    0.013,    2.102,2,    1.262,2,    0.036,2,   -999.0,9,   -999.0,9,-999.0000,-999,9,  -999.00,9,  -999.00,   -999.0,9,   -999.0,  18.5592,  25.5997
  49NZ20090521,   P21,   260,  1,     30, X12012,2,20090613,0959,-20.9342, 164.1830, 3414,    281.2,2,  17.9513,2,  17.95982,2,  35.5678,2,  35.5686,2,   178.58,2,   177.18,2,     1.83,2,     0.12,     6.63,2,     0.05,     0.02,2,     0.01,    0.551,2,    0.013,    2.146,2,    1.267,2,    0.032,2,   -999.0,9,   -999.0,9,-999.0000,-999,9,  -999.00,9,  -999.00,   -999.0,9,   -999.0,  17.9028,  25.7311
  49NZ20090521,   P21,   260,  1,     29, X12041,2,20090613,0959,-20.9342, 164.1830, 3414,    371.8,2,  15.4026,2,  15.41153,2,  35.3660,2,  35.3722,2,   187.08,2,   185.97,2,     2.81,2,     0.13,     9.11,2,     0.06,     0.02,2,     0.01,    0.709,2,    0.013,    2.289,6,    1.322,6,    0.041,6,   -999.0,9,   -999.0,9,-999.0000,-999,9,  -999.00,9,  -999.00,   -999.0,9,   -999.0,  15.3448,  26.1777
  49NZ20090521,   P21,   260,  1,     28, X12040,2,20090613,0959,-20.9342, 164.1830, 3414,    470.2,2,  11.8763,2,  11.87706,2,  34.9696,2,  34.9704,6,   192.14,2,   191.03,2,     5.27,2,     0.13,    14.94,2,     0.07,     0.02,2,     0.01,    1.088,2,    0.013,    2.258,2,    1.231,2,    0.040,2,   -999.0,9,   -999.0,9,-999.0000,-999,9,  -999.00,9,  -999.00,   -999.0,9,   -999.0,  11.8147,  26.6008
  49NZ20090521,   P21,   260,  1,     27, X12009,2,20090613,0959,-20.9342, 164.1830, 3414,    571.4,2,   9.0714,2,   9.07150,2,  34.6421,2,  34.6446,2,   199.91,2,   199.01,2,     8.57,2,     0.14,    20.36,2,     0.09,     0.02,2,     0.01,    1.442,2,    0.014,    1.965,6,    1.023,6,    0.049,6,   -999.0,9,   -999.0,9,-999.0000,-999,9,  -999.00,9,  -999.00,   -999.0,9,   -999.0,   9.0080,  26.8366
  49NZ20090521,   P21,   260,  1,     26, X12008,2,20090613,0959,-20.9342, 164.1830, 3414,    673.0,2,   7.0145,2,   7.01687,2,  34.4511,2,  34.4511,2,   207.20,2,   206.08,2,    14.60,2,     0.15,    24.71,2,     0.10,     0.01,2,     0.01,    1.731,2,    0.014,    1.415,2,    0.716,2,    0.036,2,   -999.0,9,   -999.0,9,-999.0000,-999,9,  -999.00,9,  -999.00,   -999.0,9,   -999.0,   6.9498,  26.9933
  49NZ20090521,   P21,   260,  1,     25, X12007,2,20090613,0959,-20.9342, 164.1830, 3414,    770.1,2,   6.0596,2,   6.05799,2,  34.4113,2,  34.4108,2,   200.67,2,   199.73,2,    22.44,2,     0.17,    27.43,2,     0.11,     0.01,2,     0.01,    1.911,2,    0.015,    0.903,2,    0.455,2,    0.024,2,   -999.0,9,   -999.0,9,-999.0000,-999,9,  -999.00,9,  -999.00,   -999.0,9,   -999.0,   5.9906,  27.0887
  49NZ20090521,   P21,   260,  1,     24, X12035,2,20090613,0959,-20.9342, 164.1830, 3414,    871.3,2,   5.1884,2,   5.18880,2,  34.4299,2,  34.4294,2,   186.41,2,   185.73,2,    36.68,2,     0.20,    29.96,2,     0.12,     0.02,2,     0.01,    2.098,2,    0.015,    0.457,2,    0.234,2,    0.010,2,   -999.0,9,   -999.0,9,-999.0000,-999,9,  -999.00,9,  -999.00,   -999.0,9,   -999.0,   5.1155,  27.2099
  49NZ20090521,   P21,   260,  1,     23, X12038,2,20090613,0959,-20.9342, 164.1830, 3414,    970.4,2,   4.6277,2,   4.62693,2,  34.4628,2,  34.4621,6,   176.09,2,   175.52,2,    49.36,2,     0.23,    31.54,2,     0.12,     0.01,2,     0.01,    2.209,2,    0.016,    0.265,2,    0.135,2,    0.000,2,   -999.0,9,   -999.0,9,-999.0000,-999,9,  -999.00,9,  -999.00,   -999.0,9,   -999.0,   4.5499,  27.3001
  49NZ20090521,   P21,   260,  1,     22, X12034,2,20090613,0959,-20.9342, 164.1830, 3414,   1130.3,2,   3.9932,2,   3.99362,2,  34.5052,2,  34.5047,2,   165.42,2,   164.96,2,    65.09,2,     0.26,    33.01,2,     0.13,     0.01,2,     0.01,    2.322,2,    0.016,    0.125,2,    0.067,2,    0.000,2,   -999.0,9,   -999.0,9,-999.0000,-999,9,  -999.00,9,  -999.00,   -999.0,9,   -999.0,   3.9066,  27.4022
  49NZ20090521,   P21,   260,  1,     21, X12033,2,20090613,0959,-20.9342, 164.1830, 3414,   1329.9,2,   3.4369,2,   3.43656,2,  34.5474,2,  34.5470,2,   157.23,2,   156.84,2,    79.40,2,     0.29,    34.21,2,     0.13,     0.02,2,     0.01,    2.404,2,    0.016,    0.049,2,    0.024,2,    0.000,2,   -999.0,9,   -999.0,9,-999.0000,-999,9,  -999.00,9,  -999.00,   -999.0,9,   -999.0,   3.3386,  27.4921
  49NZ20090521,   P21,   260,  1,     20, X12032,2,20090613,0959,-20.9342, 164.1830, 3414,   1531.7,2,   2.9948,2,   2.99414,2,  34.5849,2,  34.5846,2,   152.08,2,   151.65,2,    91.16,2,     0.32,    34.90,2,     0.13,     0.01,2,     0.01,    2.468,2,    0.016,    0.017,2,    0.009,2,    0.000,2,   -999.0,9,   -999.0,9,-999.0000,-999,9,  -999.00,9,  -999.00,   -999.0,9,   -999.0,   2.8844,  27.5642
  49NZ20090521,   P21,   260,  1,     19, X12046,2,20090613,0959,-20.9342, 164.1830, 3414,   1733.7,2,   2.6772,2,   2.67783,2,  34.6133,2,  34.6124,6,   150.39,2,   149.99,2,    98.96,2,     0.34,    35.25,2,     0.13,     0.01,2,     0.01,    2.488,2,    0.016,    0.007,2,    0.005,2,    0.000,2,   -999.0,9,   -999.0,9,-999.0000,-999,9,  -999.00,9,  -999.00,   -999.0,9,   -999.0,   2.5536,  27.6161
  49NZ20090521,   P21,   260,  1,     18, X12006,2,20090613,0959,-20.9342, 164.1830, 3414,   1934.2,2,   2.4461,2,   2.44613,2,  34.6340,2,  34.6335,2,   150.87,2,   150.47,2,   104.12,2,     0.35,    35.25,2,     0.13,     0.02,2,     0.01,    2.490,2,    0.016,    0.003,2,    0.002,2,    0.000,2,   -999.0,9,   -999.0,9,-999.0000,-999,9,  -999.00,9,  -999.00,   -999.0,9,   -999.0,   2.3086,  27.6534
  49NZ20090521,   P21,   260,  1,     17, X12047,2,20090613,0959,-20.9342, 164.1830, 3414,   2131.7,2,   2.2589,2,   2.25893,2,  34.6510,2,  34.6509,2,   152.67,2,   152.30,2,   107.32,2,     0.36,    35.30,2,     0.13,     0.01,2,     0.01,    2.486,2,    0.016,    0.000,2,    0.000,2,    0.000,2,   -999.0,9,   -999.0,9,-999.0000,-999,9,  -999.00,9,  -999.00,   -999.0,9,   -999.0,   2.1071,  27.6835
  49NZ20090521,   P21,   260,  1,     16, X12004,2,20090613,0959,-20.9342, 164.1830, 3414,   2329.8,2,   2.1082,2,   2.10828,2,  34.6651,2,  34.6647,2,   154.62,2,   154.12,2,   110.16,2,     0.36,    35.17,2,     0.13,     0.01,2,     0.01,    2.478,2,    0.016,    0.001,2,    0.001,2,    0.000,2,   -999.0,9,   -999.0,9,-999.0000,-999,9,  -999.00,9,  -999.00,   -999.0,9,   -999.0,   1.9413,  27.7080
  49NZ20090521,   P21,   260,  1,     15, X12003,2,20090613,0959,-20.9342, 164.1830, 3414,   2531.8,2,   2.0211,2,   2.02132,2,  34.6733,2,  34.6734,6,   156.49,2,   156.00,2,   111.79,2,     0.36,    34.99,2,     0.13,     0.01,2,     0.01,    2.472,2,    0.016,    0.001,2,    0.002,2,    0.000,2,   -999.0,9,   -999.0,9,-999.0000,-999,9,  -999.00,9,  -999.00,   -999.0,9,   -999.0,   1.8374,  27.7227
  49NZ20090521,   P21,   260,  1,     14, X12002,2,20090613,0959,-20.9342, 164.1830, 3414,   2730.2,2,   1.9682,2,   1.96820,2,  34.6784,2,  34.6782,2,   158.19,2,   157.80,2,   112.75,2,     0.37,    34.97,2,     0.13,     0.01,2,     0.01,    2.465,2,    0.016,    0.001,2,    0.002,2,    0.000,2,   -999.0,9,   -999.0,9,-999.0000,-999,9,  -999.00,9,  -999.00,   -999.0,9,   -999.0,   1.7671,  27.7322
  49NZ20090521,   P21,   260,  1,     13, X12001,2,20090613,0959,-20.9342, 164.1830, 3414,   2930.9,2,   1.9411,2,   1.94114,2,  34.6818,2,  34.6813,2,   159.32,2,   158.90,2,   113.39,2,     0.37,    34.93,2,     0.13,     0.01,2,     0.01,    2.454,2,    0.016,    0.001,2,    0.001,2,    0.000,2,   -999.0,9,   -999.0,9,-999.0000,-999,9,  -999.00,9,  -999.00,   -999.0,9,   -999.0,   1.7213,  27.7383
  49NZ20090521,   P21,   260,  1,     12, X12030,2,20090613,0959,-20.9342, 164.1830, 3414,   3170.3,2,   1.9035,2,   1.90348,2,  34.6850,2,  34.6848,2,   160.76,2,   160.30,2,   114.70,2,     0.37,    34.84,2,     0.13,     0.01,2,     0.01,    2.446,2,    0.016,    0.000,2,    0.001,2,    0.000,2,   -999.0,9,   -999.0,9,-999.0000,-999,9,  -999.00,9,  -999.00,   -999.0,9,   -999.0,   1.6610,  27.7455
  49NZ20090521,   P21,   260,  1,     11, X12044,9,20090613,0959,-20.9342, 164.1830, 3414,     11.2,2,  24.1827,2,  24.19055,2,  34.9651,2,-999.0000,9,   210.94,2,  -999.00,9,  -999.00,9,  -999.00,  -999.00,9,  -999.00,  -999.00,9,  -999.00, -999.000,9, -999.000, -999.000,9, -999.000,9, -999.000,9,   -999.0,9,   -999.0,9,-999.0000,-999,9,  -999.00,9,  -999.00,   -999.0,9,   -999.0,  24.1803,  23.5614
  49NZ20090521,   P21,   260,  1,     10, X12048,9,20090613,0959,-20.9342, 164.1830, 3414,    470.0,2,  11.8756,2,  11.87683,2,  34.9698,2,-999.0000,9,   192.26,2,  -999.00,9,  -999.00,9,  -999.00,  -999.00,9,  -999.00,  -999.00,9,  -999.00, -999.000,9, -999.000, -999.000,9, -999.000,9, -999.000,9,   -999.0,9,   -999.0,9,-999.0000,-999,9,  -999.00,9,  -999.00,   -999.0,9,   -999.0,  11.8140,  26.6011
  49NZ20090521,   P21,   260,  1,      9, X12027,9,20090613,0959,-20.9342, 164.1830, 3414,    570.4,2,   9.0832,2,   9.07970,2,  34.6435,2,-999.0000,9,   200.05,2,  -999.00,9,  -999.00,9,  -999.00,  -999.00,9,  -999.00,  -999.00,9,  -999.00, -999.000,9, -999.000, -999.000,9, -999.000,9, -999.000,9,   -999.0,9,   -999.0,9,-999.0000,-999,9,  -999.00,9,  -999.00,   -999.0,9,   -999.0,   9.0198,  26.8358
  49NZ20090521,   P21,   260,  1,      8, X12026,9,20090613,0959,-20.9342, 164.1830, 3414,    673.0,2,   7.0159,2,   7.01709,2,  34.4510,2,-999.0000,9,   207.16,2,  -999.00,9,  -999.00,9,  -999.00,  -999.00,9,  -999.00,  -999.00,9,  -999.00, -999.000,9, -999.000, -999.000,9, -999.000,9, -999.000,9,   -999.0,9,   -999.0,9,-999.0000,-999,9,  -999.00,9,  -999.00,   -999.0,9,   -999.0,   6.9512,  26.9930
  49NZ20090521,   P21,   260,  1,      7, X12025,9,20090613,0959,-20.9342, 164.1830, 3414,    770.7,2,   6.0500,2,   6.05097,2,  34.4115,2,-999.0000,9,   200.57,2,  -999.00,9,  -999.00,9,  -999.00,  -999.00,9,  -999.00,  -999.00,9,  -999.00, -999.000,9, -999.000, -999.000,9, -999.000,9, -999.000,9,   -999.0,9,   -999.0,9,-999.0000,-999,9,  -999.00,9,  -999.00,   -999.0,9,   -999.0,   5.9810,  27.0900
  49NZ20090521,   P21,   260,  1,      6, X12024,9,20090613,0959,-20.9342, 164.1830, 3414,    871.6,2,   5.1873,2,   5.18724,2,  34.4299,2,-999.0000,9,   186.50,2,  -999.00,9,  -999.00,9,  -999.00,  -999.00,9,  -999.00,  -999.00,9,  -999.00, -999.000,9, -999.000, -999.000,9, -999.000,9, -999.000,9,   -999.0,9,   -999.0,9,-999.0000,-999,9,  -999.00,9,  -999.00,   -999.0,9,   -999.0,   5.1144,  27.2100
  49NZ20090521,   P21,   260,  1,      5, X12028,9,20090613,0959,-20.9342, 164.1830, 3414,    971.0,2,   4.6260,2,   4.62508,2,  34.4629,2,-999.0000,9,   176.15,2,  -999.00,9,  -999.00,9,  -999.00,  -999.00,9,  -999.00,  -999.00,9,  -999.00, -999.000,9, -999.000, -999.000,9, -999.000,9, -999.000,9,   -999.0,9,   -999.0,9,-999.0000,-999,9,  -999.00,9,  -999.00,   -999.0,9,   -999.0,   4.5481,  27.3004
  49NZ20090521,   P21,   260,  1,      4, X12022,9,20090613,0959,-20.9342, 164.1830, 3414,   1131.5,2,   3.9926,2,   3.99308,2,  34.5052,2,-999.0000,9,   165.38,2,  -999.00,9,  -999.00,9,  -999.00,  -999.00,9,  -999.00,  -999.00,9,  -999.00, -999.000,9, -999.000, -999.000,9, -999.000,9, -999.000,9,   -999.0,9,   -999.0,9,-999.0000,-999,9,  -999.00,9,  -999.00,   -999.0,9,   -999.0,   3.9059,  27.4023
  49NZ20090521,   P21,   260,  1,      3, X12021,9,20090613,0959,-20.9342, 164.1830, 3414,    150.9,2,  20.9086,2,  20.91105,2,  35.6224,2,-999.0000,9,   179.76,2,  -999.00,9,  -999.00,9,  -999.00,  -999.00,9,  -999.00,  -999.00,9,  -999.00, -999.000,9, -999.000, -999.000,9, -999.000,9, -999.000,9,   -999.0,9,   -999.0,9,-999.0000,-999,9,  -999.00,9,  -999.00,   -999.0,9,   -999.0,  20.8797,  25.0006
  49NZ20090521,   P21,   260,  1,      2, X12020,9,20090613,0959,-20.9342, 164.1830, 3414,   1330.2,2,   3.4379,2,   3.43772,2,  34.5473,2,-999.0000,9,   157.28,2,  -999.00,9,  -999.00,9,  -999.00,  -999.00,9,  -999.00,  -999.00,9,  -999.00, -999.000,9, -999.000, -999.000,9, -999.000,9, -999.000,9,   -999.0,9,   -999.0,9,-999.0000,-999,9,  -999.00,9,  -999.00,   -999.0,9,   -999.0,   3.3396,  27.4919
  49NZ20090521,   P21,   260,  1,      1, X12019,2,20090613,0959,-20.9342, 164.1830, 3414,   3444.5,2,   1.8735,2,   1.87336,2,  34.6879,2,  34.6877,6,   161.57,2,   160.88,2,   115.80,2,     0.37,    34.81,2,     0.13,     0.01,2,     0.01,    2.448,2,    0.016,    0.000,2,    0.000,2,    0.000,2,   -999.0,9,   -999.0,9,-999.0000,-999,9,  -999.00,9,  -999.00,   -999.0,9,   -999.0,   1.6037,  27.7521