BOTTLE,20111109CCHDOSIOCBG
EXPOCODE,SECT_ID,STNNBR,CASTNO,SAMPNO,BTLNBR,BTLNBR_FLAG_W,DATE,TIME,LATITUDE,LONGITUDE,DEPTH,CTDPRS,CTDPRS_FLAG_W,CTDTMP,CTDTMP_FLAG_W,SBE35,SBE35_FLAG_W,CTDSAL,CTDSAL_FLAG_W,SALNTY,SALNTY_FLAG_W,CTDOXY,CTDOXY_FLAG_W,OXYGEN,OXYGEN_FLAG_W,SILCAT,SILCAT_FLAG_W,SILUNC,NITRAT,NITRAT_FLAG_W,NRAUNC,NITRIT,NITRIT_FLAG_W,NRIUNC,PHSPHT,PHSPHT_FLAG_W,PHPUNC,CFC-11,CFC-11_FLAG_W,CFC-12,CFC-12_FLAG_W,CFC113,CFC113_FLAG_W,TCARBN,TCARBN_FLAG_W,ALKALI,ALKALI_FLAG_W,PH_TOT,PH_TMP,PH_TOT_FLAG_W,DELC13,DELC13_FLAG_W,C13ERR,DELC14,DELC14_FLAG_W,C14ERR,THETA,SIG0
,,,,,,,,,,,METERS,DBAR,,ITS-90,,ITS-90,,PSS-78,,PSS-78,,UMOL/KG,,UMOL/KG,,UMOL/KG,,UMOL/KG,UMOL/KG,,UMOL/KG,UMOL/KG,,UMOL/KG,UMOL/KG,,UMOL/KG,PMOL/KG,,PMOL/KG,,PMOL/KG,,UMOL/KG,,UMOL/KG,,,DEG C,,/MILLE,,/MILLE,/MILLE,,/MILLE,DEG C,KG/M^3
  49NZ20090521,   P21,   286,  1,      0,   -999,9,20090617,1525,-24.9495, 153.8660, 3232,   -999.0,9,-999.0000,9,-999.00000,9,-999.0000,9,  35.4331,2,  -999.00,9,  -999.00,9,  -999.00,9,  -999.00,  -999.00,9,  -999.00,  -999.00,9,  -999.00, -999.000,9, -999.000, -999.000,9, -999.000,9, -999.000,9,   -999.0,9,   -999.0,9,-999.0000,-999,9,  -999.00,9,  -999.00,   -999.0,9,   -999.0,-999.0000,-999.0000
  49NZ20090521,   P21,   286,  1,     36, X12043,2,20090617,1525,-24.9495, 153.8660, 3232,     10.2,2,  21.9906,2,  21.99043,2,  35.3874,2,  35.3879,2,   215.97,2,   215.60,2,     0.67,2,     0.12,     0.13,2,     0.03,     0.01,2,     0.01,    0.125,2,    0.020,    1.834,2,    1.148,2, -999.000,5,   -999.0,9,   -999.0,9,-999.0000,-999,9,  -999.00,9,  -999.00,   -999.0,9,   -999.0,  21.9886,  24.5154
  49NZ20090521,   P21,   286,  1,     35, X12042,2,20090617,1525,-24.9495, 153.8660, 3232,     50.1,2,  21.8625,2,  21.86406,2,  35.4477,2,  35.4482,2,   214.23,2,   214.67,2,     0.56,2,     0.12,     0.16,2,     0.03,     0.03,2,     0.01,    0.112,2,    0.021,    1.841,2,    1.152,2, -999.000,5,   -999.0,9,   -999.0,9,-999.0000,-999,9,  -999.00,9,  -999.00,   -999.0,9,   -999.0,  21.8526,  24.5994
  49NZ20090521,   P21,   286,  1,     34, X12016,2,20090617,1525,-24.9495, 153.8660, 3232,    100.1,2,  20.3670,2,  20.32243,2,  35.6358,2,  35.6355,2,   183.55,2,   183.24,2,     1.04,2,     0.12,     3.61,2,     0.04,     0.03,2,     0.01,    0.361,2,    0.014,    2.014,6,    1.234,6,    0.116,6,   -999.0,9,   -999.0,9,-999.0000,-999,9,  -999.00,9,  -999.00,   -999.0,9,   -999.0,  20.3482,  25.1542
  49NZ20090521,   P21,   286,  1,     33, X12015,2,20090617,1525,-24.9495, 153.8660, 3232,    149.8,2,  19.0934,2,  19.09400,2,  35.6418,2,  35.6409,2,   191.62,2,   191.73,2,     1.07,2,     0.12,     4.14,2,     0.04,     0.02,2,     0.01,    0.382,2,    0.013,    2.105,2,    1.280,2,    0.050,2,   -999.0,9,   -999.0,9,-999.0000,-999,9,  -999.00,9,  -999.00,   -999.0,9,   -999.0,  19.0665,  25.4947
  49NZ20090521,   P21,   286,  1,     32, X12050,2,20090617,1525,-24.9495, 153.8660, 3232,    206.4,2,  17.7636,2,  17.76366,2,  35.5822,2,  35.5821,2,   184.25,2,   183.99,2,     1.67,2,     0.12,     6.25,2,     0.05,     0.01,2,     0.01,    0.518,2,    0.013,    2.176,2,    1.302,2,    0.031,2,   -999.0,9,   -999.0,9,-999.0000,-999,9,  -999.00,9,  -999.00,   -999.0,9,   -999.0,  17.7283,  25.7850
  49NZ20090521,   P21,   286,  1,     31, X12014,2,20090617,1525,-24.9495, 153.8660, 3232,    250.3,2,  16.5362,2,  16.53744,2,  35.4832,2,  35.4802,6,   184.88,2,   184.75,2,     2.21,2,     0.12,     7.83,2,     0.05,     0.01,2,     0.01,    0.622,2,    0.013,    2.229,2,    1.304,2,    0.057,2,   -999.0,9,   -999.0,9,-999.0000,-999,9,  -999.00,9,  -999.00,   -999.0,9,   -999.0,  16.4955,  26.0045
  49NZ20090521,   P21,   286,  1,     30, X12012,2,20090617,1525,-24.9495, 153.8660, 3232,    278.7,2,  15.8412,2,  15.84419,2,  35.4186,2,  35.4171,2,   184.09,2,   184.29,2,     2.53,2,     0.12,     8.85,2,     0.06,     0.01,2,     0.01,    0.688,2,    0.013,    2.251,2,    1.309,2,    0.038,2,   -999.0,9,   -999.0,9,-999.0000,-999,9,  -999.00,9,  -999.00,   -999.0,9,   -999.0,  15.7971,  26.1161
  49NZ20090521,   P21,   286,  1,     29, X12041,2,20090617,1525,-24.9495, 153.8660, 3232,    369.5,2,  13.3351,2,  13.32913,2,  35.1752,2,  35.1732,2,   188.56,2,   189.05,2,     4.16,2,     0.13,    12.52,2,     0.07,     0.01,2,     0.01,    0.918,2,    0.013,    2.274,6,    1.282,6,    0.053,6,   -999.0,9,   -999.0,9,-999.0000,-999,9,  -999.00,9,  -999.00,   -999.0,9,   -999.0,  13.2830,  26.4713
  49NZ20090521,   P21,   286,  1,     28, X12040,2,20090617,1525,-24.9495, 153.8660, 3232,    470.8,2,  10.8382,2,  10.83917,2,  34.8747,2,  34.8736,6,   192.28,2,   192.20,2,     6.69,2,     0.13,    17.17,2,     0.08,     0.01,2,     0.01,    1.220,2,    0.013,    2.157,2,    1.169,2,    0.037,2,   -999.0,9,   -999.0,9,-999.0000,-999,9,  -999.00,9,  -999.00,   -999.0,9,   -999.0,  10.7801,  26.7176
  49NZ20090521,   P21,   286,  1,     27, X12009,2,20090617,1525,-24.9495, 153.8660, 3232,    571.2,2,   9.2438,2,   9.24496,2,  34.6913,2,  34.6901,2,   198.11,2,   197.98,2,     8.76,2,     0.14,    20.19,2,     0.09,     0.01,2,     0.01,    1.420,2,    0.014,    2.050,6,    1.091,6,    0.073,6,   -999.0,9,   -999.0,9,-999.0000,-999,9,  -999.00,9,  -999.00,   -999.0,9,   -999.0,   9.1796,  26.8474
  49NZ20090521,   P21,   286,  1,     26, X12008,2,20090617,1525,-24.9495, 153.8660, 3232,    670.1,2,   7.6295,2,   7.62978,2,  34.5328,2,  34.5324,2,   198.23,2,   197.97,2,    14.20,2,     0.15,    23.96,2,     0.10,     0.01,2,     0.01,    1.665,2,    0.014,    1.482,2,    0.771,2,    0.031,2,   -999.0,9,   -999.0,9,-999.0000,-999,9,  -999.00,9,  -999.00,   -999.0,9,   -999.0,   7.5619,  26.9713
  49NZ20090521,   P21,   286,  1,     25, X12007,2,20090617,1525,-24.9495, 153.8660, 3232,    771.1,2,   6.5601,2,   6.56089,2,  34.4543,2,  34.4538,2,   197.55,2,   197.46,2,    20.08,2,     0.16,    26.33,2,     0.11,     0.01,2,     0.01,    1.831,2,    0.015,    1.030,2,    0.524,2,    0.026,2,   -999.0,9,   -999.0,9,-999.0000,-999,9,  -999.00,9,  -999.00,   -999.0,9,   -999.0,   6.4881,  27.0582
  49NZ20090521,   P21,   286,  1,     24, X12035,2,20090617,1525,-24.9495, 153.8660, 3232,    870.0,2,   5.8499,2,   5.85154,2,  34.4375,2,  34.4366,2,   191.46,2,   191.56,2,    27.88,2,     0.18,    28.30,2,     0.11,     0.01,2,     0.01,    1.964,2,    0.015,    0.690,2,    0.357,2,    0.017,2,   -999.0,9,   -999.0,9,-999.0000,-999,9,  -999.00,9,  -999.00,   -999.0,9,   -999.0,   5.7727,  27.1367
  49NZ20090521,   P21,   286,  1,     23, X12038,2,20090617,1525,-24.9495, 153.8660, 3232,    969.8,2,   5.1841,2,   5.18426,2,  34.4453,2,  34.4454,6,   183.01,2,   183.03,2,    38.13,2,     0.20,    30.13,2,     0.12,     0.01,2,     0.01,    2.091,2,    0.015,    0.427,2,    0.225,2,    0.022,2,   -999.0,9,   -999.0,9,-999.0000,-999,9,  -999.00,9,  -999.00,   -999.0,9,   -999.0,   5.1023,  27.2236
  49NZ20090521,   P21,   286,  1,     22, X12034,2,20090617,1525,-24.9495, 153.8660, 3232,   1130.9,2,   4.2714,2,   4.27158,2,  34.4874,2,  34.4872,2,   168.97,2,   169.02,2,    57.42,2,     0.25,    32.36,2,     0.12,     0.01,2,     0.01,    2.262,2,    0.016,    0.176,2,    0.095,2,    0.000,2,   -999.0,9,   -999.0,9,-999.0000,-999,9,  -999.00,9,  -999.00,   -999.0,9,   -999.0,   4.1824,  27.3593
  49NZ20090521,   P21,   286,  1,     21, X12033,2,20090617,1525,-24.9495, 153.8660, 3232,   1331.1,2,   3.4239,2,   3.42406,2,  34.5494,2,  34.5496,2,   154.64,2,   154.64,2,    79.30,2,     0.29,    34.36,2,     0.13,     0.01,2,     0.01,    2.410,2,    0.016,    0.045,2,    0.028,2,    0.000,2,   -999.0,9,   -999.0,9,-999.0000,-999,9,  -999.00,9,  -999.00,   -999.0,9,   -999.0,   3.3257,  27.4949
  49NZ20090521,   P21,   286,  1,     20, X12032,2,20090617,1525,-24.9495, 153.8660, 3232,   1530.2,2,   2.8361,2,   2.83627,2,  34.6020,2,  34.6020,2,   151.50,2,   151.58,2,    91.44,2,     0.32,    34.92,2,     0.13,     0.01,2,     0.01,    2.454,2,    0.016,    0.014,2,    0.009,2,    0.000,2,   -999.0,9,   -999.0,9,-999.0000,-999,9,  -999.00,9,  -999.00,   -999.0,9,   -999.0,   2.7276,  27.5919
  49NZ20090521,   P21,   286,  1,     19, X12046,2,20090617,1525,-24.9495, 153.8660, 3232,   1731.7,2,   2.5452,2,   2.54526,2,  34.6346,2,  34.6344,6,   156.09,2,   156.16,2,    93.75,2,     0.33,    34.61,2,     0.13,     0.01,2,     0.01,    2.429,2,    0.016,    0.012,2,    0.009,2,    0.000,2,   -999.0,9,   -999.0,9,-999.0000,-999,9,  -999.00,9,  -999.00,   -999.0,9,   -999.0,   2.4235,  27.6443
  49NZ20090521,   P21,   286,  1,     18, X12006,2,20090617,1525,-24.9495, 153.8660, 3232,   1930.6,2,   2.3544,2,   2.35450,2,  34.6602,2,  34.6601,2,   162.55,2,   162.67,2,    93.46,2,     0.32,    34.12,2,     0.13,     0.01,2,     0.01,    2.384,2,    0.016,    0.010,2,    0.007,2,    0.000,2,   -999.0,9,   -999.0,9,-999.0000,-999,9,  -999.00,9,  -999.00,   -999.0,9,   -999.0,   2.2184,  27.6818
  49NZ20090521,   P21,   286,  1,     17, X12047,2,20090617,1525,-24.9495, 153.8660, 3232,   2130.3,2,   2.1735,2,   2.17354,2,  34.6857,2,  34.6858,2,   170.39,2,   170.50,2,    92.76,2,     0.32,    33.31,2,     0.13,     0.00,2,     0.01,    2.322,2,    0.016,    0.012,2,    0.008,2,    0.000,2,   -999.0,9,   -999.0,9,-999.0000,-999,9,  -999.00,9,  -999.00,   -999.0,9,   -999.0,   2.0230,  27.7180
  49NZ20090521,   P21,   286,  1,     16, X12004,2,20090617,1525,-24.9495, 153.8660, 3232,   2331.2,2,   2.0818,2,   2.08193,2,  34.6982,2,  34.6981,2,   174.59,2,   174.79,2,    93.15,2,     0.32,    32.82,2,     0.12,     0.01,2,     0.01,    2.283,2,    0.016,    0.011,2,    0.007,2,    0.000,2,   -999.0,9,   -999.0,9,-999.0000,-999,9,  -999.00,9,  -999.00,   -999.0,9,   -999.0,   1.9151,  27.7366
  49NZ20090521,   P21,   286,  1,     15, X12003,2,20090617,1525,-24.9495, 153.8660, 3232,   2530.7,2,   1.9104,2,   1.91046,2,  34.7135,2,  34.7136,6,   180.54,2,   180.59,2,    95.49,2,     0.33,    32.55,2,     0.12,     0.00,2,     0.01,    2.261,2,    0.016,    0.009,2,    0.006,2,    0.000,2,   -999.0,9,   -999.0,9,-999.0000,-999,9,  -999.00,9,  -999.00,   -999.0,9,   -999.0,   1.7287,  27.7632
  49NZ20090521,   P21,   286,  1,     14, X12002,2,20090617,1525,-24.9495, 153.8660, 3232,   2730.9,2,   1.7108,2,   1.71098,2,  34.7224,2,  34.7224,2,   185.68,2,   185.91,2,    99.58,2,     0.34,    32.44,2,     0.12,     0.01,2,     0.01,    2.243,2,    0.016,    0.009,2,    0.006,2,    0.000,2,   -999.0,9,   -999.0,9,-999.0000,-999,9,  -999.00,9,  -999.00,   -999.0,9,   -999.0,   1.5146,  27.7863
  49NZ20090521,   P21,   286,  1,     13, X12001,2,20090617,1525,-24.9495, 153.8660, 3232,   2931.0,2,   1.6077,2,   1.60767,2,  34.7226,2,  34.7225,2,   187.80,2,   187.82,2,   102.20,2,     0.34,    32.42,2,     0.12,     0.01,2,     0.01,    2.245,2,    0.016,    0.008,2,    0.003,2,    0.000,2,   -999.0,9,   -999.0,9,-999.0000,-999,9,  -999.00,9,  -999.00,   -999.0,9,   -999.0,   1.3949,  27.7952
  49NZ20090521,   P21,   286,  1,     12, X12030,2,20090617,1525,-24.9495, 153.8660, 3232,   3170.6,2,   1.4954,2,   1.49533,2,  34.7220,2,  34.7221,2,   189.98,2,   190.02,2,   105.23,2,     0.35,    32.36,2,     0.12,     0.01,2,     0.01,    2.249,2,    0.016,    0.007,2,    0.005,2,    0.000,2,   -999.0,9,   -999.0,9,-999.0000,-999,9,  -999.00,9,  -999.00,   -999.0,9,   -999.0,   1.2620,  27.8041
  49NZ20090521,   P21,   286,  1,     11, X12044,9,20090617,1525,-24.9495, 153.8660, 3232,     10.0,2,  21.9913,2,  21.99136,2,  35.3872,2,-999.0000,9,   216.03,2,  -999.00,9,  -999.00,9,  -999.00,  -999.00,9,  -999.00,  -999.00,9,  -999.00, -999.000,9, -999.000, -999.000,9, -999.000,9, -999.000,9,   -999.0,9,   -999.0,9,-999.0000,-999,9,  -999.00,9,  -999.00,   -999.0,9,   -999.0,  21.9893,  24.5151
  49NZ20090521,   P21,   286,  1,     10, X12048,9,20090617,1525,-24.9495, 153.8660, 3232,    471.2,2,  10.8417,2,  10.84261,2,  34.8750,2,-999.0000,9,   192.34,2,  -999.00,9,  -999.00,9,  -999.00,  -999.00,9,  -999.00,  -999.00,9,  -999.00, -999.000,9, -999.000, -999.000,9, -999.000,9, -999.000,9,   -999.0,9,   -999.0,9,-999.0000,-999,9,  -999.00,9,  -999.00,   -999.0,9,   -999.0,  10.7835,  26.7172
  49NZ20090521,   P21,   286,  1,      9, X12027,9,20090617,1525,-24.9495, 153.8660, 3232,    570.9,2,   9.2441,2,   9.24458,2,  34.6913,2,-999.0000,9,   198.19,2,  -999.00,9,  -999.00,9,  -999.00,  -999.00,9,  -999.00,  -999.00,9,  -999.00, -999.000,9, -999.000, -999.000,9, -999.000,9, -999.000,9,   -999.0,9,   -999.0,9,-999.0000,-999,9,  -999.00,9,  -999.00,   -999.0,9,   -999.0,   9.1800,  26.8474
  49NZ20090521,   P21,   286,  1,      8, X12026,9,20090617,1525,-24.9495, 153.8660, 3232,    670.5,2,   7.6290,2,   7.62841,2,  34.5328,2,-999.0000,9,   198.24,2,  -999.00,9,  -999.00,9,  -999.00,  -999.00,9,  -999.00,  -999.00,9,  -999.00, -999.000,9, -999.000, -999.000,9, -999.000,9, -999.000,9,   -999.0,9,   -999.0,9,-999.0000,-999,9,  -999.00,9,  -999.00,   -999.0,9,   -999.0,   7.5614,  26.9713
  49NZ20090521,   P21,   286,  1,      7, X12025,9,20090617,1525,-24.9495, 153.8660, 3232,    771.7,2,   6.5519,2,   6.55249,2,  34.4547,2,-999.0000,9,   197.45,2,  -999.00,9,  -999.00,9,  -999.00,  -999.00,9,  -999.00,  -999.00,9,  -999.00, -999.000,9, -999.000, -999.000,9, -999.000,9, -999.000,9,   -999.0,9,   -999.0,9,-999.0000,-999,9,  -999.00,9,  -999.00,   -999.0,9,   -999.0,   6.4799,  27.0595
  49NZ20090521,   P21,   286,  1,      6, X12024,9,20090617,1525,-24.9495, 153.8660, 3232,    870.3,2,   5.8494,2,   5.84908,2,  34.4375,2,-999.0000,9,   191.54,2,  -999.00,9,  -999.00,9,  -999.00,  -999.00,9,  -999.00,  -999.00,9,  -999.00, -999.000,9, -999.000, -999.000,9, -999.000,9, -999.000,9,   -999.0,9,   -999.0,9,-999.0000,-999,9,  -999.00,9,  -999.00,   -999.0,9,   -999.0,   5.7722,  27.1368
  49NZ20090521,   P21,   286,  1,      5, X12028,9,20090617,1525,-24.9495, 153.8660, 3232,    970.0,2,   5.1862,2,   5.18636,2,  34.4453,2,-999.0000,9,   182.99,2,  -999.00,9,  -999.00,9,  -999.00,  -999.00,9,  -999.00,  -999.00,9,  -999.00, -999.000,9, -999.000, -999.000,9, -999.000,9, -999.000,9,   -999.0,9,   -999.0,9,-999.0000,-999,9,  -999.00,9,  -999.00,   -999.0,9,   -999.0,   5.1043,  27.2234
  49NZ20090521,   P21,   286,  1,      4, X12022,9,20090617,1525,-24.9495, 153.8660, 3232,   1130.9,2,   4.2720,2,   4.27229,2,  34.4874,2,-999.0000,9,   168.97,2,  -999.00,9,  -999.00,9,  -999.00,  -999.00,9,  -999.00,  -999.00,9,  -999.00, -999.000,9, -999.000, -999.000,9, -999.000,9, -999.000,9,   -999.0,9,   -999.0,9,-999.0000,-999,9,  -999.00,9,  -999.00,   -999.0,9,   -999.0,   4.1830,  27.3592
  49NZ20090521,   P21,   286,  1,      3, X12021,9,20090617,1525,-24.9495, 153.8660, 3232,    150.0,2,  19.0994,2,  19.09954,2,  35.6418,2,-999.0000,9,   191.55,2,  -999.00,9,  -999.00,9,  -999.00,  -999.00,9,  -999.00,  -999.00,9,  -999.00, -999.000,9, -999.000, -999.000,9, -999.000,9, -999.000,9,   -999.0,9,   -999.0,9,-999.0000,-999,9,  -999.00,9,  -999.00,   -999.0,9,   -999.0,  19.0725,  25.4932
  49NZ20090521,   P21,   286,  1,      2, X12020,9,20090617,1525,-24.9495, 153.8660, 3232,   1331.2,2,   3.4240,2,   3.42391,2,  34.5492,2,-999.0000,9,   154.62,2,  -999.00,9,  -999.00,9,  -999.00,  -999.00,9,  -999.00,  -999.00,9,  -999.00, -999.000,9, -999.000, -999.000,9, -999.000,9, -999.000,9,   -999.0,9,   -999.0,9,-999.0000,-999,9,  -999.00,9,  -999.00,   -999.0,9,   -999.0,   3.3257,  27.4948
  49NZ20090521,   P21,   286,  1,      1, X12019,2,20090617,1525,-24.9495, 153.8660, 3232,   3274.9,2,   1.4368,2,   1.43671,2,  34.7212,2,  34.7214,6,   191.16,2,   191.00,2,   106.75,2,     0.35,    32.42,2,     0.12,     0.01,2,     0.01,    2.256,2,    0.016,    0.009,2,    0.008,2,    0.000,2,   -999.0,9,   -999.0,9,-999.0000,-999,9,  -999.00,9,  -999.00,   -999.0,9,   -999.0,   1.1946,  27.8082