BOTTLE,20111109CCHDOSIOCBG
EXPOCODE,SECT_ID,STNNBR,CASTNO,SAMPNO,BTLNBR,BTLNBR_FLAG_W,DATE,TIME,LATITUDE,LONGITUDE,DEPTH,CTDPRS,CTDPRS_FLAG_W,CTDTMP,CTDTMP_FLAG_W,SBE35,SBE35_FLAG_W,CTDSAL,CTDSAL_FLAG_W,SALNTY,SALNTY_FLAG_W,CTDOXY,CTDOXY_FLAG_W,OXYGEN,OXYGEN_FLAG_W,SILCAT,SILCAT_FLAG_W,SILUNC,NITRAT,NITRAT_FLAG_W,NRAUNC,NITRIT,NITRIT_FLAG_W,NRIUNC,PHSPHT,PHSPHT_FLAG_W,PHPUNC,CFC-11,CFC-11_FLAG_W,CFC-12,CFC-12_FLAG_W,CFC113,CFC113_FLAG_W,TCARBN,TCARBN_FLAG_W,ALKALI,ALKALI_FLAG_W,PH_TOT,PH_TMP,PH_TOT_FLAG_W,DELC13,DELC13_FLAG_W,C13ERR,DELC14,DELC14_FLAG_W,C14ERR,THETA,SIG0
,,,,,,,,,,,METERS,DBAR,,ITS-90,,ITS-90,,PSS-78,,PSS-78,,UMOL/KG,,UMOL/KG,,UMOL/KG,,UMOL/KG,UMOL/KG,,UMOL/KG,UMOL/KG,,UMOL/KG,UMOL/KG,,UMOL/KG,PMOL/KG,,PMOL/KG,,PMOL/KG,,UMOL/KG,,UMOL/KG,,,DEG C,,/MILLE,,/MILLE,/MILLE,,/MILLE,DEG C,KG/M^3
  49NZ20090521,   P21,   250,  1,      0,   -999,9,20090611,1106,-19.4837, 165.4848, 1732,   -999.0,9,-999.0000,9,-999.00000,9,-999.0000,9,  34.9427,2,  -999.00,9,  -999.00,9,  -999.00,9,  -999.00,  -999.00,9,  -999.00,  -999.00,9,  -999.00, -999.000,9, -999.000, -999.000,9, -999.000,9, -999.000,9,   -999.0,9,   -999.0,9,-999.0000,-999,9,  -999.00,9,  -999.00,   -999.0,9,   -999.0,-999.0000,-999.0000
  49NZ20090521,   P21,   250,  1,     36, X12043,2,20090611,1106,-19.4837, 165.4848, 1732,     10.7,2,  25.0099,2,  25.00979,2,  34.9461,2,  34.9440,2,   206.96,2,   207.12,2,     0.59,2,     0.12,     0.09,2,     0.03,     0.01,2,     0.01,    0.059,2,    0.030,    1.647,2,    1.021,2, -999.000,5,   1952.8,2,   2292.4,2,   8.1170,  25,6,  -999.00,9,  -999.00,   -999.0,9,   -999.0,  25.0076,  23.2982
  49NZ20090521,   P21,   250,  1,     35, X12042,2,20090611,1106,-19.4837, 165.4848, 1732,     49.5,2,  25.0188,2,  25.01894,2,  34.9470,2,  34.9471,2,   206.32,2,   207.03,2,     0.58,2,     0.12,     0.07,2,     0.03,     0.01,2,     0.01,    0.061,2,    0.030,    1.653,2,    1.024,2, -999.000,5,   1953.1,6,   2292.2,2,   8.1170,  25,2,  -999.00,9,  -999.00,   -999.0,9,   -999.0,  25.0081,  23.2987
  49NZ20090521,   P21,   250,  1,     34, X12016,2,20090611,1106,-19.4837, 165.4848, 1732,    100.5,2,  22.6045,2,  22.60522,2,  35.5275,2,  35.5269,2,   175.20,2,   175.11,2,     0.88,2,     0.12,     2.46,2,     0.04,     0.06,2,     0.01,    0.302,2,    0.014,    1.903,6,    1.140,6,    0.156,4,   2039.9,2,   2327.7,6,   8.0188,  25,2,  -999.00,9,  -999.00,   -999.0,9,   -999.0,  22.5842,  24.4532
  49NZ20090521,   P21,   250,  1,     33, X12015,2,20090611,1106,-19.4837, 165.4848, 1732,    150.6,2,  21.1195,2,  21.12156,2,  35.6314,2,  35.6302,2,   172.31,2,   172.17,2,     1.05,2,     0.12,     3.80,2,     0.04,     0.02,2,     0.01,    0.378,2,    0.014,    2.027,2,    1.198,2,    0.094,2,   2062.4,2,   2334.4,2,   7.9903,  25,2,  -999.00,9,  -999.00,   -999.0,9,   -999.0,  21.0905,  24.9499
  49NZ20090521,   P21,   250,  1,     32, X12050,2,20090611,1106,-19.4837, 165.4848, 1732,    199.2,2,  19.5805,2,  19.58264,2,  35.6264,2,  35.6243,2,   164.44,2,   164.46,2,     1.63,2,     0.12,     5.91,2,     0.05,     0.02,2,     0.01,    0.559,2,    0.013,    2.119,2,    1.215,2,    0.028,2,   2088.9,2,   2337.8,2,   7.9439,  25,2,  -999.00,9,  -999.00,   -999.0,9,   -999.0,  19.5441,  25.3594
  49NZ20090521,   P21,   250,  1,     31, X12014,2,20090611,1106,-19.4837, 165.4848, 1732,    249.8,2,  18.5921,2,  18.59245,2,  35.5786,2,  35.5773,6,   178.38,2,   178.55,2,     1.48,2,     0.12,     5.26,2,     0.05,     0.02,2,     0.01,    0.479,2,    0.013,    2.220,2,    1.277,2,    0.030,2,   2083.6,2,   2331.9,2,   7.9476,  25,2,  -999.00,9,  -999.00,   -999.0,9,   -999.0,  18.5480,  25.5784
  49NZ20090521,   P21,   250,  1,     30, X12012,2,20090611,1106,-19.4837, 165.4848, 1732,    328.9,2,  15.9316,2,  15.93836,2,  35.3377,2,  35.3339,2,   180.58,2,   180.83,2,     2.54,2,     0.12,     8.38,2,     0.06,     0.01,2,     0.01,    0.695,2,    0.013,    2.318,2,    1.280,2,    0.054,2,   2102.3,2,   2319.3,2,   7.8923,  25,2,  -999.00,9,  -999.00,   -999.0,9,   -999.0,  15.8794,  26.0350
  49NZ20090521,   P21,   250,  1,     29, X12041,2,20090611,1106,-19.4837, 165.4848, 1732,    429.8,2,  12.2222,2,  12.22263,2,  34.9392,2,  34.9396,2,   185.97,2,   186.43,2,     4.88,2,     0.13,    14.26,2,     0.07,     0.01,2,     0.01,    1.079,2,    0.013,    2.267,6,    1.188,6,    0.034,6,   2126.5,2,   2300.9,2,   7.8078,  25,2,  -999.00,9,  -999.00,   -999.0,9,   -999.0,  12.1650,  26.5102
  49NZ20090521,   P21,   250,  1,     28, X12040,2,20090611,1106,-19.4837, 165.4848, 1732,    530.5,2,   9.4851,2,   9.48442,2,  34.6545,2,  34.6539,6,   186.67,2,   186.73,2,    10.24,2,     0.14,    20.35,2,     0.09,     0.01,2,     0.01,    1.482,2,    0.014,    1.819,2,    0.923,2,    0.027,2,   2150.5,2,   2292.9,2,   7.7387,  25,2,  -999.00,9,  -999.00,   -999.0,9,   -999.0,   9.4247,  26.7786
  49NZ20090521,   P21,   250,  1,     27, X12009,2,20090611,1106,-19.4837, 165.4848, 1732,    630.5,2,   7.1640,2,   7.16294,2,  34.4452,2,  34.4456,2,   203.82,2,   203.28,2,    13.67,2,     0.15,    24.53,2,     0.10,     0.01,2,     0.01,    1.740,2,    0.014,    1.494,6,    0.735,6,    0.024,6,   2160.0,2,   2287.2,2,   7.7018,  25,2,  -999.00,9,  -999.00,   -999.0,9,   -999.0,   7.1029,  26.9675
  49NZ20090521,   P21,   250,  1,     26, X12008,2,20090611,1106,-19.4837, 165.4848, 1732,    730.5,2,   5.9953,2,   5.99538,2,  34.3993,2,  34.3990,2,   195.55,2,   195.46,2,    23.12,2,     0.17,    27.86,2,     0.11,     0.01,2,     0.01,    1.960,2,    0.015,    0.855,2,    0.427,2,    0.015,2,   2179.4,6,   2293.7,2,   7.6674,  25,2,  -999.00,9,  -999.00,   -999.0,9,   -999.0,   5.9304,  27.0868
  49NZ20090521,   P21,   250,  1,     25, X12007,2,20090611,1106,-19.4837, 165.4848, 1732,    828.5,2,   5.0545,2,   5.05554,2,  34.4068,2,  34.4066,2,   183.00,2,   182.93,2,    36.38,2,     0.20,    30.61,2,     0.12,     0.01,2,     0.01,    2.149,2,    0.015,    0.418,2,    0.212,2,    0.000,2,   2202.9,2,   2306.3,6,   7.6361,  25,2,  -999.00,9,  -999.00,   -999.0,9,   -999.0,   4.9863,  27.2066
  49NZ20090521,   P21,   250,  1,     24, X12035,2,20090611,1106,-19.4837, 165.4848, 1732,    929.6,2,   4.5343,2,   4.53463,2,  34.4295,2,  34.4299,2,   174.90,2,   174.88,2,    46.71,2,     0.22,    32.01,2,     0.12,     0.01,2,     0.01,    2.249,2,    0.016,    0.237,2,    0.117,2,    0.000,2,   2219.6,2,   2317.1,2,   7.6198,  25,6,  -999.00,9,  -999.00,   -999.0,9,   -999.0,   4.4607,  27.2834
  49NZ20090521,   P21,   250,  1,     23, X12038,2,20090611,1106,-19.4837, 165.4848, 1732,   1069.3,2,   3.9199,2,   3.91968,2,  34.4776,2,  34.4779,6,   164.91,2,   165.02,2,    62.38,2,     0.26,    33.37,2,     0.13,     0.01,2,     0.01,    2.344,2,    0.016,    0.106,2,    0.058,2,    0.000,2,   2240.7,2,   2334.5,2,   7.6039,  25,2,  -999.00,9,  -999.00,   -999.0,9,   -999.0,   3.8391,  27.3871
  49NZ20090521,   P21,   250,  1,     22, X12034,2,20090611,1106,-19.4837, 165.4848, 1732,   1270.7,2,   3.4168,2,   3.41673,2,  34.5296,2,  34.5298,2,   157.31,2,   157.32,2,    78.01,2,     0.29,    34.20,2,     0.13,     0.01,2,     0.01,    2.416,2,    0.016,    0.050,2,    0.022,2,    0.000,2,   2262.7,2,   2352.1,2,   7.5932,  25,2,  -999.00,9,  -999.00,   -999.0,9,   -999.0,   3.3237,  27.4793
  49NZ20090521,   P21,   250,  1,     21, X12033,2,20090611,1106,-19.4837, 165.4848, 1732,   1470.0,2,   2.9620,2,   2.96198,2,  34.5746,2,  34.5751,2,   152.51,2,   152.50,2,    91.54,2,     0.32,    34.85,2,     0.13,     0.01,2,     0.01,    2.462,2,    0.016,    0.022,2,    0.013,2,    0.000,2,   2280.2,2,   2367.9,2,   7.5872,  25,2,  -999.00,9,  -999.00,   -999.0,9,   -999.0,   2.8571,  27.5585
  49NZ20090521,   P21,   250,  1,     20, X12032,9,20090611,1106,-19.4837, 165.4848, 1732,     10.6,2,  25.0069,2,  25.00666,2,  34.9461,2,-999.0000,9,   206.92,2,  -999.00,9,  -999.00,9,  -999.00,  -999.00,9,  -999.00,  -999.00,9,  -999.00, -999.000,9, -999.000, -999.000,9, -999.000,9, -999.000,9,   -999.0,9,   -999.0,9,-999.0000,-999,9,  -999.00,9,  -999.00,   -999.0,9,   -999.0,  25.0046,  23.2991
  49NZ20090521,   P21,   250,  1,     19, X12046,9,20090611,1106,-19.4837, 165.4848, 1732,     10.6,2,  25.0070,2,  25.00777,2,  34.9459,2,-999.0000,9,   207.01,2,  -999.00,9,  -999.00,9,  -999.00,  -999.00,9,  -999.00,  -999.00,9,  -999.00, -999.000,9, -999.000, -999.000,9, -999.000,9, -999.000,9,   -999.0,9,   -999.0,9,-999.0000,-999,9,  -999.00,9,  -999.00,   -999.0,9,   -999.0,  25.0047,  23.2989
  49NZ20090521,   P21,   250,  1,     18, X12006,9,20090611,1106,-19.4837, 165.4848, 1732,     49.5,2,  25.0128,2,  25.01463,2,  34.9477,2,-999.0000,9,   206.52,2,  -999.00,9,  -999.00,9,  -999.00,  -999.00,9,  -999.00,  -999.00,9,  -999.00, -999.000,9, -999.000, -999.000,9, -999.000,9, -999.000,9,   -999.0,9,   -999.0,9,-999.0000,-999,9,  -999.00,9,  -999.00,   -999.0,9,   -999.0,  25.0021,  23.3011
  49NZ20090521,   P21,   250,  1,     17, X12047,9,20090611,1106,-19.4837, 165.4848, 1732,     49.5,2,  25.0199,2,  25.02073,2,  34.9461,2,-999.0000,9,   206.35,2,  -999.00,9,  -999.00,9,  -999.00,  -999.00,9,  -999.00,  -999.00,9,  -999.00, -999.000,9, -999.000, -999.000,9, -999.000,9, -999.000,9,   -999.0,9,   -999.0,9,-999.0000,-999,9,  -999.00,9,  -999.00,   -999.0,9,   -999.0,  25.0092,  23.2977
  49NZ20090521,   P21,   250,  1,     16, X12004,9,20090611,1106,-19.4837, 165.4848, 1732,    100.4,2,  22.6099,2,  22.60894,2,  35.5258,2,-999.0000,9,   174.97,2,  -999.00,9,  -999.00,9,  -999.00,  -999.00,9,  -999.00,  -999.00,9,  -999.00, -999.000,9, -999.000, -999.000,9, -999.000,9, -999.000,9,   -999.0,9,   -999.0,9,-999.0000,-999,9,  -999.00,9,  -999.00,   -999.0,9,   -999.0,  22.5896,  24.4503
  49NZ20090521,   P21,   250,  1,     15, X12003,9,20090611,1106,-19.4837, 165.4848, 1732,    150.8,2,  21.1494,2,  21.14995,2,  35.6307,2,-999.0000,9,   172.23,2,  -999.00,9,  -999.00,9,  -999.00,  -999.00,9,  -999.00,  -999.00,9,  -999.00, -999.000,9, -999.000, -999.000,9, -999.000,9, -999.000,9,   -999.0,9,   -999.0,9,-999.0000,-999,9,  -999.00,9,  -999.00,   -999.0,9,   -999.0,  21.1203,  24.9413
  49NZ20090521,   P21,   250,  1,     14, X12002,9,20090611,1106,-19.4837, 165.4848, 1732,    199.4,2,  19.5872,2,  19.58732,2,  35.6267,2,-999.0000,9,   164.50,2,  -999.00,9,  -999.00,9,  -999.00,  -999.00,9,  -999.00,  -999.00,9,  -999.00, -999.000,9, -999.000, -999.000,9, -999.000,9, -999.000,9,   -999.0,9,   -999.0,9,-999.0000,-999,9,  -999.00,9,  -999.00,   -999.0,9,   -999.0,  19.5507,  25.3579
  49NZ20090521,   P21,   250,  1,     13, X12001,9,20090611,1106,-19.4837, 165.4848, 1732,    250.1,2,  18.5861,2,  18.58686,2,  35.5786,2,-999.0000,9,   178.52,2,  -999.00,9,  -999.00,9,  -999.00,  -999.00,9,  -999.00,  -999.00,9,  -999.00, -999.000,9, -999.000, -999.000,9, -999.000,9, -999.000,9,   -999.0,9,   -999.0,9,-999.0000,-999,9,  -999.00,9,  -999.00,   -999.0,9,   -999.0,  18.5420,  25.5799
  49NZ20090521,   P21,   250,  1,     12, X12030,9,20090611,1106,-19.4837, 165.4848, 1732,    328.9,2,  15.9294,2,  15.93045,2,  35.3385,2,-999.0000,9,   180.67,2,  -999.00,9,  -999.00,9,  -999.00,  -999.00,9,  -999.00,  -999.00,9,  -999.00, -999.000,9, -999.000, -999.000,9, -999.000,9, -999.000,9,   -999.0,9,   -999.0,9,-999.0000,-999,9,  -999.00,9,  -999.00,   -999.0,9,   -999.0,  15.8772,  26.0362
  49NZ20090521,   P21,   250,  1,     11, X12044,9,20090611,1106,-19.4837, 165.4848, 1732,    430.1,2,  12.2229,2,  12.22250,2,  34.9397,2,-999.0000,9,   186.07,2,  -999.00,9,  -999.00,9,  -999.00,  -999.00,9,  -999.00,  -999.00,9,  -999.00, -999.000,9, -999.000, -999.000,9, -999.000,9, -999.000,9,   -999.0,9,   -999.0,9,-999.0000,-999,9,  -999.00,9,  -999.00,   -999.0,9,   -999.0,  12.1656,  26.5104
  49NZ20090521,   P21,   250,  1,     10, X12048,9,20090611,1106,-19.4837, 165.4848, 1732,    530.8,2,   9.4838,2,   9.48449,2,  34.6546,2,-999.0000,9,   186.83,2,  -999.00,9,  -999.00,9,  -999.00,  -999.00,9,  -999.00,  -999.00,9,  -999.00, -999.000,9, -999.000, -999.000,9, -999.000,9, -999.000,9,   -999.0,9,   -999.0,9,-999.0000,-999,9,  -999.00,9,  -999.00,   -999.0,9,   -999.0,   9.4234,  26.7789
  49NZ20090521,   P21,   250,  1,      9, X12027,9,20090611,1106,-19.4837, 165.4848, 1732,    630.6,2,   7.1595,2,   7.15937,2,  34.4458,2,-999.0000,9,   204.02,2,  -999.00,9,  -999.00,9,  -999.00,  -999.00,9,  -999.00,  -999.00,9,  -999.00, -999.000,9, -999.000, -999.000,9, -999.000,9, -999.000,9,   -999.0,9,   -999.0,9,-999.0000,-999,9,  -999.00,9,  -999.00,   -999.0,9,   -999.0,   7.0984,  26.9686
  49NZ20090521,   P21,   250,  1,      8, X12026,9,20090611,1106,-19.4837, 165.4848, 1732,    731.0,2,   5.9892,2,   5.98951,2,  34.3995,2,-999.0000,9,   195.46,2,  -999.00,9,  -999.00,9,  -999.00,  -999.00,9,  -999.00,  -999.00,9,  -999.00, -999.000,9, -999.000, -999.000,9, -999.000,9, -999.000,9,   -999.0,9,   -999.0,9,-999.0000,-999,9,  -999.00,9,  -999.00,   -999.0,9,   -999.0,   5.9243,  27.0877
  49NZ20090521,   P21,   250,  1,      7, X12025,9,20090611,1106,-19.4837, 165.4848, 1732,    828.6,2,   5.0558,2,   5.05583,2,  34.4069,2,-999.0000,9,   183.04,2,  -999.00,9,  -999.00,9,  -999.00,  -999.00,9,  -999.00,  -999.00,9,  -999.00, -999.000,9, -999.000, -999.000,9, -999.000,9, -999.000,9,   -999.0,9,   -999.0,9,-999.0000,-999,9,  -999.00,9,  -999.00,   -999.0,9,   -999.0,   4.9876,  27.2065
  49NZ20090521,   P21,   250,  1,      6, X12024,9,20090611,1106,-19.4837, 165.4848, 1732,    929.7,2,   4.5355,2,   4.53537,2,  34.4295,2,-999.0000,9,   174.92,2,  -999.00,9,  -999.00,9,  -999.00,  -999.00,9,  -999.00,  -999.00,9,  -999.00, -999.000,9, -999.000, -999.000,9, -999.000,9, -999.000,9,   -999.0,9,   -999.0,9,-999.0000,-999,9,  -999.00,9,  -999.00,   -999.0,9,   -999.0,   4.4619,  27.2833
  49NZ20090521,   P21,   250,  1,      5, X12028,9,20090611,1106,-19.4837, 165.4848, 1732,   1069.5,2,   3.9217,2,   3.92207,2,  34.4776,2,-999.0000,9,   164.98,2,  -999.00,9,  -999.00,9,  -999.00,  -999.00,9,  -999.00,  -999.00,9,  -999.00, -999.000,9, -999.000, -999.000,9, -999.000,9, -999.000,9,   -999.0,9,   -999.0,9,-999.0000,-999,9,  -999.00,9,  -999.00,   -999.0,9,   -999.0,   3.8409,  27.3869
  49NZ20090521,   P21,   250,  1,      4, X12022,9,20090611,1106,-19.4837, 165.4848, 1732,   1271.4,2,   3.4156,2,   3.41546,2,  34.5297,2,-999.0000,9,   157.30,2,  -999.00,9,  -999.00,9,  -999.00,  -999.00,9,  -999.00,  -999.00,9,  -999.00, -999.000,9, -999.000, -999.000,9, -999.000,9, -999.000,9,   -999.0,9,   -999.0,9,-999.0000,-999,9,  -999.00,9,  -999.00,   -999.0,9,   -999.0,   3.3225,  27.4795
  49NZ20090521,   P21,   250,  1,      3, X12021,9,20090611,1106,-19.4837, 165.4848, 1732,   1271.5,2,   3.4158,2,   3.41567,2,  34.5297,2,-999.0000,9,   157.34,2,  -999.00,9,  -999.00,9,  -999.00,  -999.00,9,  -999.00,  -999.00,9,  -999.00, -999.000,9, -999.000, -999.000,9, -999.000,9, -999.000,9,   -999.0,9,   -999.0,9,-999.0000,-999,9,  -999.00,9,  -999.00,   -999.0,9,   -999.0,   3.3227,  27.4795
  49NZ20090521,   P21,   250,  1,      2, X12020,9,20090611,1106,-19.4837, 165.4848, 1732,   1470.2,2,   2.9614,2,   2.96124,2,  34.5747,2,-999.0000,9,   152.50,2,  -999.00,9,  -999.00,9,  -999.00,  -999.00,9,  -999.00,  -999.00,9,  -999.00, -999.000,9, -999.000, -999.000,9, -999.000,9, -999.000,9,   -999.0,9,   -999.0,9,-999.0000,-999,9,  -999.00,9,  -999.00,   -999.0,9,   -999.0,   2.8565,  27.5586
  49NZ20090521,   P21,   250,  1,      1, X12019,2,20090611,1106,-19.4837, 165.4848, 1732,   1726.3,2,   2.6539,2,   2.65374,2,  34.6055,2,  34.6057,6,   150.19,2,   149.94,2,   100.25,2,     0.34,    35.25,2,     0.13,     0.01,2,     0.01,    2.496,2,    0.016,    0.008,2,    0.003,2,    0.000,2,   2289.9,2,   2377.8,2,   7.5831,  25,2,  -999.00,9,  -999.00,   -999.0,9,   -999.0,   2.5313,  27.6118