BOTTLE,20111109CCHDOSIOCBG
EXPOCODE,SECT_ID,STNNBR,CASTNO,SAMPNO,BTLNBR,BTLNBR_FLAG_W,DATE,TIME,LATITUDE,LONGITUDE,DEPTH,CTDPRS,CTDPRS_FLAG_W,CTDTMP,CTDTMP_FLAG_W,SBE35,SBE35_FLAG_W,CTDSAL,CTDSAL_FLAG_W,SALNTY,SALNTY_FLAG_W,CTDOXY,CTDOXY_FLAG_W,OXYGEN,OXYGEN_FLAG_W,SILCAT,SILCAT_FLAG_W,SILUNC,NITRAT,NITRAT_FLAG_W,NRAUNC,NITRIT,NITRIT_FLAG_W,NRIUNC,PHSPHT,PHSPHT_FLAG_W,PHPUNC,CFC-11,CFC-11_FLAG_W,CFC-12,CFC-12_FLAG_W,CFC113,CFC113_FLAG_W,TCARBN,TCARBN_FLAG_W,ALKALI,ALKALI_FLAG_W,PH_TOT,PH_TMP,PH_TOT_FLAG_W,DELC13,DELC13_FLAG_W,C13ERR,DELC14,DELC14_FLAG_W,C14ERR,THETA,SIG0
,,,,,,,,,,,METERS,DBAR,,ITS-90,,ITS-90,,PSS-78,,PSS-78,,UMOL/KG,,UMOL/KG,,UMOL/KG,,UMOL/KG,UMOL/KG,,UMOL/KG,UMOL/KG,,UMOL/KG,UMOL/KG,,UMOL/KG,PMOL/KG,,PMOL/KG,,PMOL/KG,,UMOL/KG,,UMOL/KG,,,DEG C,,/MILLE,,/MILLE,/MILLE,,/MILLE,DEG C,KG/M^3
  49NZ20090521,   P21,   178,  1,      0,   -999,9,20090528,0112,-17.4975,-158.3450, 4713,   -999.0,9,-999.0000,9,-999.00000,9,-999.0000,9,  35.6806,2,  -999.00,9,  -999.00,9,  -999.00,9,  -999.00,  -999.00,9,  -999.00,  -999.00,9,  -999.00, -999.000,9, -999.000, -999.000,9, -999.000,9, -999.000,9,   -999.0,9,   -999.0,9,-999.0000,-999,9,  -999.00,9,  -999.00,   -999.0,9,   -999.0,-999.0000,-999.0000
  49NZ20090521,   P21,   178,  1,     36, X12043,2,20090528,0112,-17.4975,-158.3450, 4713,     11.1,2,  27.6921,2,  27.69324,2,  35.6499,2,  35.6446,2,   198.20,2,   198.70,2,     0.53,2,     0.12,     0.10,2,     0.03,     0.01,2,     0.01,    0.148,2,    0.018,    1.456,2,    0.940,2, -999.000,5,   1987.3,2,   2345.3,2,   8.1277,  25,6,  -999.00,9,  -999.00,   -999.0,9,   -999.0,  27.6895,  22.9848
  49NZ20090521,   P21,   178,  1,     35, X12042,2,20090528,0112,-17.4975,-158.3450, 4713,     50.7,2,  27.5933,2,  27.59190,2,  35.6628,2,  35.6616,2,   197.99,2,   198.47,2,     0.51,2,     0.12,     0.07,2,     0.03,     0.01,2,     0.01,    0.153,2,    0.018,    1.449,2,    0.933,2, -999.000,5,   1988.5,6,   2346.2,2,   8.1270,  25,2,  -999.00,9,  -999.00,   -999.0,9,   -999.0,  27.5815,  23.0297
  49NZ20090521,   P21,   178,  1,     34, X12016,2,20090528,0112,-17.4975,-158.3450, 4713,    101.6,2,  26.5443,2,  26.54546,2,  36.2623,2,  36.2616,2,   200.44,2,   200.87,2,     0.71,2,     0.12,     0.07,2,     0.03,     0.01,2,     0.01,    0.244,2,    0.015,    1.579,6,    1.004,6, -999.000,5,   2039.0,2,   2388.1,6,   8.1006,  25,2,  -999.00,9,  -999.00,   -999.0,9,   -999.0,  26.5212,  23.8217
  49NZ20090521,   P21,   178,  1,     33, X12015,2,20090528,0112,-17.4975,-158.3450, 4713,    150.8,2,  24.5080,2,  24.50809,2,  36.1713,2,  36.1678,2,   194.04,2,   194.33,2,     0.51,2,     0.12,     0.11,2,     0.03,     0.12,2,     0.01,    0.235,2,    0.015,    1.683,2,    1.054,2, -999.000,5,   2047.1,2,   2379.5,2,   8.0764,  25,6,  -999.00,9,  -999.00,   -999.0,9,   -999.0,  24.4756,  24.3860
  49NZ20090521,   P21,   178,  1,     32, X12050,2,20090528,0112,-17.4975,-158.3450, 4713,    199.5,2,  22.7774,2,  22.77493,2,  36.0090,2,  36.0071,2,   177.15,2,   177.53,2,     0.56,2,     0.12,     1.85,2,     0.04,     0.02,2,     0.01,    0.350,2,    0.014,    1.874,2,    1.147,2,    0.122,2,   2072.0,2,   2367.0,2,   8.0204,  25,2,  -999.00,9,  -999.00,   -999.0,9,   -999.0,  22.7367,  24.7750
  49NZ20090521,   P21,   178,  1,     31, X12014,2,20090528,0112,-17.4975,-158.3450, 4713,    250.0,2,  20.4040,2,  20.39793,2,  35.7393,2,  35.7490,6,   177.24,2,   177.37,2,     0.72,2,     0.12,     3.34,2,     0.04,     0.02,2,     0.01,    0.446,2,    0.013,    2.056,2,    1.219,2,    0.055,2,   2084.0,2,   2351.3,2,   7.9749,  25,2,  -999.00,9,  -999.00,   -999.0,9,   -999.0,  20.3569,  25.2308
  49NZ20090521,   P21,   178,  1,     30, X12012,2,20090528,0112,-17.4975,-158.3450, 4713,    331.0,2,  16.2265,2,  16.22584,2,  35.2451,2,  35.2446,2,   184.92,2,   185.02,2,     1.79,2,     0.12,     6.65,2,     0.05,     0.01,2,     0.01,    0.634,2,    0.013,    2.370,2,    1.325,2,    0.030,2,   2095.6,2,   2317.8,2,   7.9033,  25,2,  -999.00,9,  -999.00,   -999.0,9,   -999.0,  16.1733,  25.8963
  49NZ20090521,   P21,   178,  1,     29, X12041,2,20090528,0112,-17.4975,-158.3450, 4713,    431.2,2,  11.1191,2,  11.12088,2,  34.6961,2,  34.7028,2,   184.10,2,   183.94,2,     5.25,2,     0.13,    15.87,2,     0.08,     0.01,2,     0.01,    1.232,2,    0.013,    2.265,6,    1.172,6,    0.044,6,   2129.9,2,   2291.3,2,   7.7779,  25,2,  -999.00,9,  -999.00,   -999.0,9,   -999.0,  11.0652,  26.5270
  49NZ20090521,   P21,   178,  1,     28, X12040,2,20090528,0112,-17.4975,-158.3450, 4713,    530.8,2,   7.9960,2,   7.99803,2,  34.4740,2,  34.4765,6,   160.04,2,   158.67,2,    15.95,2,     0.15,    26.25,2,     0.11,     0.01,2,     0.01,    1.914,2,    0.015,    1.138,2,    0.579,2,    0.019,2,   2180.4,2,   2289.6,2,   7.6511,  25,2,  -999.00,9,  -999.00,   -999.0,9,   -999.0,   7.9416,  26.8694
  49NZ20090521,   P21,   178,  1,     27, X12009,2,20090528,0112,-17.4975,-158.3450, 4713,    630.7,2,   6.3660,2,   6.36693,2,  34.4171,2,  34.4166,2,   163.53,2,   163.52,2,    24.46,2,     0.17,    29.91,2,     0.12,     0.01,2,     0.01,    2.118,2,    0.015,    0.564,6,    0.286,6,    0.008,6,   2196.3,2,   2296.3,2,   7.6243,  25,2,  -999.00,9,  -999.00,   -999.0,9,   -999.0,   6.3087,  27.0523
  49NZ20090521,   P21,   178,  1,     26, X12008,2,20090528,0112,-17.4975,-158.3450, 4713,    731.1,2,   5.2882,2,   5.28784,2,  34.4175,2,  34.4169,2,   160.36,2,   160.36,2,    36.40,2,     0.20,    32.29,2,     0.12,     0.01,2,     0.01,    2.272,2,    0.016,    0.186,2,    0.096,2,    0.000,2,   2210.9,2,   2306.4,2,   7.6060,  25,2,  -999.00,9,  -999.00,   -999.0,9,   -999.0,   5.2272,  27.1869
  49NZ20090521,   P21,   178,  1,     25, X12007,2,20090528,0112,-17.4975,-158.3450, 4713,    830.8,2,   4.7103,2,   4.71110,2,  34.4342,2,  34.4343,2,   154.70,2,   154.89,2,    46.46,2,     0.22,    33.68,2,     0.13,     0.01,2,     0.01,    2.359,2,    0.016,    0.093,2,    0.048,2,    0.000,2,   2230.1,2,   2316.5,6,   7.5907,  25,2,  -999.00,9,  -999.00,   -999.0,9,   -999.0,   4.6440,  27.2669
  49NZ20090521,   P21,   178,  1,     24, X12035,2,20090528,0112,-17.4975,-158.3450, 4713,    931.0,2,   4.1664,2,   4.16664,2,  34.4655,2,  34.4656,2,   152.29,2,   152.26,2,    57.80,2,     0.25,    34.54,2,     0.13,     0.01,2,     0.01,    2.422,2,    0.016, -999.000,5, -999.000,5, -999.000,5,   2245.4,2,   2328.8,2,   7.5845,  25,6,  -999.00,9,  -999.00,   -999.0,9,   -999.0,   4.0953,  27.3511
  49NZ20090521,   P21,   178,  1,     23, X12038,2,20090528,0112,-17.4975,-158.3450, 4713,   1070.8,2,   3.6206,2,   3.62054,2,  34.5115,2,  34.5115,6,   145.48,2,   145.48,2,    72.58,2,     0.28,    35.48,2,     0.13,     0.01,2,     0.01,    2.498,2,    0.016, -999.000,5, -999.000,5, -999.000,5,   2262.1,2,   2347.1,2,   7.5735,  25,2,  -999.00,9,  -999.00,   -999.0,9,   -999.0,   3.5421,  27.4438
  49NZ20090521,   P21,   178,  1,     22, X12034,2,20090528,0112,-17.4975,-158.3450, 4713,   1272.1,2,   3.1231,2,   3.12316,2,  34.5524,2,  34.5523,2,   142.64,2,   142.52,2,    86.11,2,     0.31,    35.98,2,     0.13,     0.01,2,     0.01,    2.540,2,    0.016,    0.000,2,    0.000,2,    0.000,2,   2281.6,2,   2361.0,2,   7.5694,  25,2,  -999.00,9,  -999.00,   -999.0,9,   -999.0,   3.0327,  27.5248
  49NZ20090521,   P21,   178,  1,     21, X12033,2,20090528,0112,-17.4975,-158.3450, 4713,   1471.1,2,   2.7714,2,   2.77141,2,  34.5797,2,  34.5795,2,   144.10,2,   144.38,2,    95.33,2,     0.33,    36.08,2,     0.13,     0.01,2,     0.01,    2.541,2,    0.016,    0.000,2,    0.000,2,    0.000,2,   2288.5,2,   2371.0,2,   7.5710,  25,2,  -999.00,9,  -999.00,   -999.0,9,   -999.0,   2.6685,  27.5793
  49NZ20090521,   P21,   178,  1,     20, X12032,2,20090528,0112,-17.4975,-158.3450, 4713,   1671.5,2,   2.5719,2,   2.57211,2,  34.5977,2,  34.5975,2,   144.79,2,   145.09,2,   101.37,2,     0.34,    36.13,2,     0.13,     0.01,2,     0.01,    2.540,2,    0.016,    0.000,2,    0.000,2,    0.000,2,   2295.8,2,   2377.5,2,   7.5735,  25,2,  -999.00,9,  -999.00,   -999.0,9,   -999.0,   2.4549,  27.6120
  49NZ20090521,   P21,   178,  1,     19, X12046,2,20090528,0112,-17.4975,-158.3450, 4713,   1872.1,2,   2.3548,2,   2.35493,2,  34.6164,2,  34.6167,2,   146.15,2,   146.37,2,   107.68,2,     0.36,    35.97,2,     0.13,     0.01,2,     0.01,    2.537,2,    0.016,    0.000,2,    0.000,2,    0.000,2,   2299.9,2,   2386.0,2,   7.5764,  25,2,  -999.00,9,  -999.00,   -999.0,9,   -999.0,   2.2239,  27.6463
  49NZ20090521,   P21,   178,  1,     18, X12006,2,20090528,0112,-17.4975,-158.3450, 4713,   2071.8,2,   2.1729,2,   2.17291,2,  34.6320,2,  34.6323,2,   148.51,2,   148.80,2,   112.16,2,     0.37,    35.99,2,     0.13,     0.01,2,     0.01,    2.526,2,    0.016,    0.000,2,    0.000,2,    0.000,2,   2302.6,2,   2391.6,2,   7.5801,  25,2,  -999.00,9,  -999.00,   -999.0,9,   -999.0,   2.0277,  27.6747
  49NZ20090521,   P21,   178,  1,     17, X12047,2,20090528,0112,-17.4975,-158.3450, 4713,   2271.7,2,   1.9923,2,   1.99229,2,  34.6473,2,  34.6475,6,   151.09,2,   152.99,4,   117.00,2,     0.38,    35.87,2,     0.13,     0.01,2,     0.01,    2.515,2,    0.016,    0.000,2,    0.000,2,    0.000,2,   2305.1,2,   2394.5,2,   7.5849,  25,2,  -999.00,9,  -999.00,   -999.0,9,   -999.0,   1.8326,  27.7022
  49NZ20090521,   P21,   178,  1,     16, X12004,2,20090528,0112,-17.4975,-158.3450, 4713,   2471.5,2,   1.8916,2,   1.89167,2,  34.6560,2,  34.6559,2,   153.56,2,   154.72,4,   119.50,2,     0.38,    35.69,2,     0.13,     0.01,2,     0.01,    2.506,2,    0.016,    0.000,2,    0.000,2,    0.000,2,   2306.9,2,   2397.5,2,   7.5877,  25,2,  -999.00,9,  -999.00,   -999.0,9,   -999.0,   1.7159,  27.7181
  49NZ20090521,   P21,   178,  1,     15, X12003,2,20090528,0112,-17.4975,-158.3450, 4713,   2670.4,2,   1.7879,2,   1.78795,2,  34.6646,2,  34.6647,2,   156.28,2,   159.90,4,   121.36,2,     0.39,    35.30,2,     0.13,     0.01,2,     0.01,    2.485,2,    0.016,    0.000,2,    0.000,2,    0.000,2,   2308.4,2,   2399.1,6,   7.5906,  25,2,  -999.00,9,  -999.00,   -999.0,9,   -999.0,   1.5960,  27.7340
  49NZ20090521,   P21,   178,  1,     14, X12002,2,20090528,0112,-17.4975,-158.3450, 4713,   2869.9,2,   1.7159,2,   1.71586,2,  34.6706,2,  34.6707,2,   159.36,2,   160.72,4,   122.20,2,     0.39,    35.28,2,     0.13,     0.01,2,     0.01,    2.472,2,    0.016,    0.000,2,    0.000,2,    0.000,2,   2307.5,2,   2400.6,2,   7.5937,  25,6,  -999.00,9,  -999.00,   -999.0,9,   -999.0,   1.5068,  27.7454
  49NZ20090521,   P21,   178,  1,     13, X12001,2,20090528,0112,-17.4975,-158.3450, 4713,   3080.7,2,   1.6547,2,   1.65488,2,  34.6759,2,  34.6757,2,   161.96,2,   162.01,2,   122.92,2,     0.39,    35.00,2,     0.13,     0.01,2,     0.01,    2.463,2,    0.016,    0.000,2,    0.000,2,    0.000,2,   2303.4,2,   2398.6,2,   7.5964,  25,2,  -999.00,9,  -999.00,   -999.0,9,   -999.0,   1.4267,  27.7554
  49NZ20090521,   P21,   178,  1,     12, X12030,2,20090528,0112,-17.4975,-158.3450, 4713,   3329.6,2,   1.5790,2,   1.57894,2,  34.6817,2,  34.6818,2,   167.35,2,   169.64,4,   122.75,2,     0.39,    34.55,2,     0.13,     0.01,2,     0.01,    2.433,2,    0.016,    0.000,2,    0.000,2,    0.000,2,   2299.6,2,   2396.2,2,   7.6016,  25,2,  -999.00,9,  -999.00,   -999.0,9,   -999.0,   1.3282,  27.7671
  49NZ20090521,   P21,   178,  1,     11, X12044,2,20090528,0112,-17.4975,-158.3450, 4713,   3579.5,2,   1.5182,2,   1.51818,2,  34.6866,2,  34.6867,6,   172.69,2,   174.93,4,   121.66,2,     0.39,    34.40,2,     0.13,     0.01,2,     0.01,    2.406,2,    0.016,    0.000,2,    0.000,2,    0.000,2,   2296.9,2,   2392.6,2,   7.6050,  25,2,  -999.00,9,  -999.00,   -999.0,9,   -999.0,   1.2434,  27.7769
  49NZ20090521,   P21,   178,  1,     10, X12048,2,20090528,0112,-17.4975,-158.3450, 4713,   3828.9,2,   1.4721,2,   1.47208,2,  34.6905,2,  34.6907,2,   177.07,2,   177.07,3,   120.64,2,     0.38,    34.10,2,     0.13,     0.01,2,     0.01,    2.381,2,    0.016,    0.000,2,    0.000,2,    0.000,2,   2289.0,2,   2389.6,2,   7.6082,  25,2,  -999.00,9,  -999.00,   -999.0,9,   -999.0,   1.1723,  27.7850
  49NZ20090521,   P21,   178,  1,      9, X12027,2,20090528,0112,-17.4975,-158.3450, 4713,   4079.5,2,   1.4420,2,   1.44205,2,  34.6935,2,  34.6932,2,   180.51,2,   182.58,4,   119.99,2,     0.38,    33.88,2,     0.13,     0.01,2,     0.01,    2.368,2,    0.016,    0.000,2,    0.000,2,    0.000,2,   2288.4,2,   2388.4,2,   7.6102,  25,2,  -999.00,9,  -999.00,   -999.0,9,   -999.0,   1.1160,  27.7913
  49NZ20090521,   P21,   178,  1,      8, X12026,2,20090528,0112,-17.4975,-158.3450, 4713,   4330.4,2,   1.4085,2,   1.40838,2,  34.6964,2,  34.6966,2,   184.21,2,   185.95,4,   119.23,2,     0.38,    33.55,2,     0.13,     0.01,2,     0.01,    2.348,2,    0.016,    0.001,2,    0.000,2,    0.000,2,   2285.5,6,   2384.0,2,   7.6123,  25,2,  -999.00,9,  -999.00,   -999.0,9,   -999.0,   1.0556,  27.7977
  49NZ20090521,   P21,   178,  1,      7, X12025,2,20090528,0112,-17.4975,-158.3450, 4713,   4580.6,2,   1.3592,2,   1.35914,2,  34.7002,2,  34.7002,2,   188.75,2,   192.21,4,   118.37,2,     0.38,    33.13,2,     0.13,     0.01,2,     0.01,    2.322,2,    0.016,    0.003,2,    0.000,2,    0.000,2,   2280.3,2,   2380.5,6,   7.6153,  25,2,  -999.00,9,  -999.00,   -999.0,9,   -999.0,   0.9792,  27.8058
  49NZ20090521,   P21,   178,  1,      6, X12024,9,20090528,0112,-17.4975,-158.3450, 4713,     11.1,2,  27.6802,2,  27.67994,2,  35.6543,2,-999.0000,9,   198.20,2,  -999.00,9,  -999.00,9,  -999.00,  -999.00,9,  -999.00,  -999.00,9,  -999.00, -999.000,9, -999.000, -999.000,9, -999.000,9, -999.000,9,   -999.0,9,   -999.0,9,-999.0000,-999,9,  -999.00,9,  -999.00,   -999.0,9,   -999.0,  27.6776,  22.9920
  49NZ20090521,   P21,   178,  1,      5, X12028,9,20090528,0112,-17.4975,-158.3450, 4713,    101.5,2,  26.5427,2,  26.54087,2,  36.2625,2,-999.0000,9,   200.36,2,  -999.00,9,  -999.00,9,  -999.00,  -999.00,9,  -999.00,  -999.00,9,  -999.00, -999.000,9, -999.000, -999.000,9, -999.000,9, -999.000,9,   -999.0,9,   -999.0,9,-999.0000,-999,9,  -999.00,9,  -999.00,   -999.0,9,   -999.0,  26.5196,  23.8224
  49NZ20090521,   P21,   178,  1,      4, X12022,9,20090528,0112,-17.4975,-158.3450, 4713,    199.9,2,  22.7242,2,  22.71244,2,  36.0060,2,-999.0000,9,   177.25,2,  -999.00,9,  -999.00,9,  -999.00,  -999.00,9,  -999.00,  -999.00,9,  -999.00, -999.000,9, -999.000, -999.000,9, -999.000,9, -999.000,9,   -999.0,9,   -999.0,9,-999.0000,-999,9,  -999.00,9,  -999.00,   -999.0,9,   -999.0,  22.6835,  24.7881
  49NZ20090521,   P21,   178,  1,      3, X12021,9,20090528,0112,-17.4975,-158.3450, 4713,   1471.9,2,   2.7715,2,   2.77171,2,  34.5797,2,-999.0000,9,   144.04,2,  -999.00,9,  -999.00,9,  -999.00,  -999.00,9,  -999.00,  -999.00,9,  -999.00, -999.000,9, -999.000, -999.000,9, -999.000,9, -999.000,9,   -999.0,9,   -999.0,9,-999.0000,-999,9,  -999.00,9,  -999.00,   -999.0,9,   -999.0,   2.6686,  27.5793
  49NZ20090521,   P21,   178,  1,      2, X12020,2,20090528,0112,-17.4975,-158.3450, 4713,   3080.6,2,   1.6546,2,   1.65444,2,  34.6759,2,-999.0000,9,   162.04,2,  -999.00,9,  -999.00,9,  -999.00,  -999.00,9,  -999.00,  -999.00,9,  -999.00, -999.000,9, -999.000,    0.000,2,    0.000,2,    0.000,2,   -999.0,9,   -999.0,9,-999.0000,-999,9,  -999.00,9,  -999.00,   -999.0,9,   -999.0,   1.4266,  27.7554
  49NZ20090521,   P21,   178,  1,      1, X12019,2,20090528,0112,-17.4975,-158.3450, 4713,   4810.3,2,   1.3101,2,   1.31006,2,  34.7036,2,  34.7039,6,   193.23,2,   195.85,4,   117.11,2,     0.38,    32.86,2,     0.12,     0.01,2,     0.01,    2.302,2,    0.016,    0.007,2,    0.000,2,    0.000,2,   2273.3,2,   2376.6,2,   7.6171,  25,2,  -999.00,9,  -999.00,   -999.0,9,   -999.0,   0.9048,  27.8134