BOTTLE,20111109CCHDOSIOCBG
EXPOCODE,SECT_ID,STNNBR,CASTNO,SAMPNO,BTLNBR,BTLNBR_FLAG_W,DATE,TIME,LATITUDE,LONGITUDE,DEPTH,CTDPRS,CTDPRS_FLAG_W,CTDTMP,CTDTMP_FLAG_W,SBE35,SBE35_FLAG_W,CTDSAL,CTDSAL_FLAG_W,SALNTY,SALNTY_FLAG_W,CTDOXY,CTDOXY_FLAG_W,OXYGEN,OXYGEN_FLAG_W,SILCAT,SILCAT_FLAG_W,SILUNC,NITRAT,NITRAT_FLAG_W,NRAUNC,NITRIT,NITRIT_FLAG_W,NRIUNC,PHSPHT,PHSPHT_FLAG_W,PHPUNC,CFC-11,CFC-11_FLAG_W,CFC-12,CFC-12_FLAG_W,CFC113,CFC113_FLAG_W,TCARBN,TCARBN_FLAG_W,ALKALI,ALKALI_FLAG_W,PH_TOT,PH_TMP,PH_TOT_FLAG_W,DELC13,DELC13_FLAG_W,C13ERR,DELC14,DELC14_FLAG_W,C14ERR,THETA,SIG0
,,,,,,,,,,,METERS,DBAR,,ITS-90,,ITS-90,,PSS-78,,PSS-78,,UMOL/KG,,UMOL/KG,,UMOL/KG,,UMOL/KG,UMOL/KG,,UMOL/KG,UMOL/KG,,UMOL/KG,UMOL/KG,,UMOL/KG,PMOL/KG,,PMOL/KG,,PMOL/KG,,UMOL/KG,,UMOL/KG,,,DEG C,,/MILLE,,/MILLE,/MILLE,,/MILLE,DEG C,KG/M^3
  49NZ20090521,   P21,   206,  1,      0,   -999,9,20090603,2249,-17.4162,-174.3335, 1486,   -999.0,9,-999.0000,9,-999.00000,9,-999.0000,9,  35.5519,2,  -999.00,9,  -999.00,9,  -999.00,9,  -999.00,  -999.00,9,  -999.00,  -999.00,9,  -999.00, -999.000,9, -999.000, -999.000,9, -999.000,9, -999.000,9,   -999.0,9,   -999.0,9,-999.0000,-999,9,  -999.00,9,  -999.00,   -999.0,9,   -999.0,-999.0000,-999.0000
  49NZ20090521,   P21,   206,  1,     36, X12043,2,20090603,2249,-17.4162,-174.3335, 1486,     10.9,2,  27.9250,2,  27.92523,2,  35.5234,2,  35.5216,2,   196.85,2,   197.84,2,     0.79,2,     0.12,     0.08,2,     0.03,     0.01,2,     0.01,    0.116,2,    0.020,    1.412,2,    0.879,2, -999.000,5,   -999.0,9,   -999.0,9,-999.0000,-999,9,  -999.00,9,  -999.00,   -999.0,9,   -999.0,  27.9224,  22.8137
  49NZ20090521,   P21,   206,  1,     35, X12042,2,20090603,2249,-17.4162,-174.3335, 1486,     50.7,2,  27.9323,2,  27.93229,2,  35.5225,2,  35.5216,2,   196.47,2,   197.87,2,     0.72,2,     0.12,     0.07,2,     0.03,     0.01,2,     0.01,    0.111,2,    0.021,    1.423,2,    0.897,2, -999.000,5,   -999.0,9,   -999.0,9,-999.0000,-999,9,  -999.00,9,  -999.00,   -999.0,9,   -999.0,  27.9204,  22.8137
  49NZ20090521,   P21,   206,  1,     34, X12016,2,20090603,2249,-17.4162,-174.3335, 1486,    101.0,2,  25.9776,2,  25.98109,2,  35.7549,2,  35.7536,2,   196.52,2,   197.48,2,     0.67,2,     0.12,     0.07,2,     0.03,     0.02,2,     0.01,    0.167,2,    0.017,    1.606,6,    1.000,6, -999.000,5,   -999.0,9,   -999.0,9,-999.0000,-999,9,  -999.00,9,  -999.00,   -999.0,9,   -999.0,  25.9550,  23.6171
  49NZ20090521,   P21,   206,  1,     33, X12015,2,20090603,2249,-17.4162,-174.3335, 1486,    151.2,2,  24.2488,2,  24.24994,2,  35.7636,2,  35.7619,2,   183.02,2,   183.63,2,     0.67,2,     0.12,     0.70,2,     0.03,     0.05,2,     0.01,    0.238,2,    0.015,    1.744,2,    1.074,2, -999.000,5,   -999.0,9,   -999.0,9,-999.0000,-999,9,  -999.00,9,  -999.00,   -999.0,9,   -999.0,  24.2166,  24.1550
  49NZ20090521,   P21,   206,  1,     32, X12050,2,20090603,2249,-17.4162,-174.3335, 1486,    202.0,2,  21.8627,2,  21.86695,2,  35.9109,2,  35.9123,2,   163.40,2,   163.93,2,     1.00,2,     0.12,     3.77,2,     0.04,     0.02,2,     0.01,    0.488,2,    0.013,    1.958,2,    1.156,2,    0.066,2,   -999.0,9,   -999.0,9,-999.0000,-999,9,  -999.00,9,  -999.00,   -999.0,9,   -999.0,  21.8227,  24.9599
  49NZ20090521,   P21,   206,  1,     31, X12014,2,20090603,2249,-17.4162,-174.3335, 1486,    250.8,2,  19.7145,2,  19.71389,2,  35.6541,2,  35.6538,6,   165.37,2,   165.84,2,     1.37,2,     0.12,     5.29,2,     0.05,     0.01,2,     0.01,    0.573,2,    0.013,    2.112,2,    1.223,2,    0.033,2,   -999.0,9,   -999.0,9,-999.0000,-999,9,  -999.00,9,  -999.00,   -999.0,9,   -999.0,  19.6684,  25.3481
  49NZ20090521,   P21,   206,  1,     30, X12012,2,20090603,2249,-17.4162,-174.3335, 1486,    331.5,2,  15.9845,2,  15.98713,2,  35.2442,2,  35.2435,2,   182.06,2,   182.43,2,     2.15,2,     0.12,     7.34,2,     0.05,     0.01,2,     0.01,    0.669,2,    0.013,    2.338,2,    1.291,2,    0.028,2,   -999.0,9,   -999.0,9,-999.0000,-999,9,  -999.00,9,  -999.00,   -999.0,9,   -999.0,  15.9318,  25.9511
  49NZ20090521,   P21,   206,  1,     29, X12041,2,20090603,2249,-17.4162,-174.3335, 1486,    429.8,2,  11.6823,2,  11.68236,2,  34.7986,2,  34.7991,2,   180.48,2,   181.03,2,     5.35,2,     0.13,    15.23,2,     0.08,     0.01,2,     0.01,    1.178,2,    0.013,    2.172,6,    1.115,6,    0.045,6,   -999.0,9,   -999.0,9,-999.0000,-999,9,  -999.00,9,  -999.00,   -999.0,9,   -999.0,  11.6268,  26.5033
  49NZ20090521,   P21,   206,  1,     28, X12040,2,20090603,2249,-17.4162,-174.3335, 1486,    529.4,2,   8.0177,2,   8.01792,2,  34.4637,2,  34.4642,6,   200.28,2,   200.16,2,     8.85,2,     0.14,    22.39,2,     0.10,     0.01,2,     0.01,    1.611,2,    0.014,    2.049,2,    1.009,2,    0.055,2,   -999.0,9,   -999.0,9,-999.0000,-999,9,  -999.00,9,  -999.00,   -999.0,9,   -999.0,   7.9633,  26.8581
  49NZ20090521,   P21,   206,  1,     27, X12009,2,20090603,2249,-17.4162,-174.3335, 1486,    630.9,2,   6.4802,2,   6.48047,2,  34.3716,2,  34.3719,2,   204.98,2,   205.08,2,    14.09,2,     0.15,    26.21,2,     0.11,     0.01,2,     0.01,    1.844,2,    0.015,    1.342,6,    0.651,6,    0.038,6,   -999.0,9,   -999.0,9,-999.0000,-999,9,  -999.00,9,  -999.00,   -999.0,9,   -999.0,   6.4223,  27.0015
  49NZ20090521,   P21,   206,  1,     26, X12008,2,20090603,2249,-17.4162,-174.3335, 1486,    730.3,2,   5.7038,2,   5.70196,2,  34.3558,2,  34.3564,2,   195.20,2,   195.35,2,    21.50,2,     0.17,    28.78,2,     0.11,     0.01,2,     0.01,    2.015,2,    0.015,    0.746,2,    0.362,2,    0.013,2,   -999.0,9,   -999.0,9,-999.0000,-999,9,  -999.00,9,  -999.00,   -999.0,9,   -999.0,   5.6406,  27.0884
  49NZ20090521,   P21,   206,  1,     25, X12007,2,20090603,2249,-17.4162,-174.3335, 1486,    829.6,2,   4.8468,2,   4.84712,2,  34.3783,2,  34.3785,2,   179.36,2,   179.56,2,    34.95,2,     0.20,    31.69,2,     0.12,     0.01,2,     0.01,    2.215,2,    0.016,    0.308,2,    0.155,2,    0.001,2,   -999.0,9,   -999.0,9,-999.0000,-999,9,  -999.00,9,  -999.00,   -999.0,9,   -999.0,   4.7799,  27.2074
  49NZ20090521,   P21,   206,  1,     24, X12035,2,20090603,2249,-17.4162,-174.3335, 1486,    930.3,2,   4.3797,2,   4.37806,2,  34.4023,2,  34.4030,2,   171.07,2,   171.35,2,    44.05,2,     0.22,    32.99,2,     0.13,     0.01,2,     0.01,    2.306,2,    0.016,    0.160,2,    0.081,2,    0.012,2,   -999.0,9,   -999.0,9,-999.0000,-999,9,  -999.00,9,  -999.00,   -999.0,9,   -999.0,   4.3072,  27.2784
  49NZ20090521,   P21,   206,  1,     23, X12038,2,20090603,2249,-17.4162,-174.3335, 1486,   1072.7,2,   4.0007,2,   4.00020,2,  34.4480,2,  34.4483,6,   161.89,2,   162.12,2,    56.50,2,     0.24,    34.01,2,     0.13,     0.01,2,     0.01,    2.376,2,    0.016,    0.080,2,    0.041,2,    0.006,2,   -999.0,9,   -999.0,9,-999.0000,-999,9,  -999.00,9,  -999.00,   -999.0,9,   -999.0,   3.9190,  27.3554
  49NZ20090521,   P21,   206,  1,     22, X12034,2,20090603,2249,-17.4162,-174.3335, 1486,   1270.7,2,   3.2058,2,   3.20766,2,  34.5287,2,  34.5279,3,   151.09,2,   151.33,2,    80.68,2,     0.30,    35.24,2,     0.13,     0.01,2,     0.01,    2.481,2,    0.016,    0.018,2,    0.012,2,    0.000,2,   -999.0,9,   -999.0,9,-999.0000,-999,9,  -999.00,9,  -999.00,   -999.0,9,   -999.0,   3.1148,  27.4983
  49NZ20090521,   P21,   206,  1,     21, X12033,9,20090603,2249,-17.4162,-174.3335, 1486,     10.6,2,  27.9247,2,  27.92453,2,  35.5234,2,-999.0000,9,   196.88,2,  -999.00,9,  -999.00,9,  -999.00,  -999.00,9,  -999.00,  -999.00,9,  -999.00, -999.000,9, -999.000, -999.000,9, -999.000,9, -999.000,9,   -999.0,9,   -999.0,9,-999.0000,-999,9,  -999.00,9,  -999.00,   -999.0,9,   -999.0,  27.9222,  22.8138
  49NZ20090521,   P21,   206,  1,     20, X12032,9,20090603,2249,-17.4162,-174.3335, 1486,     50.7,2,  27.9310,2,  27.93048,2,  35.5228,2,-999.0000,9,   196.69,2,  -999.00,9,  -999.00,9,  -999.00,  -999.00,9,  -999.00,  -999.00,9,  -999.00, -999.000,9, -999.000, -999.000,9, -999.000,9, -999.000,9,   -999.0,9,   -999.0,9,-999.0000,-999,9,  -999.00,9,  -999.00,   -999.0,9,   -999.0,  27.9191,  22.8143
  49NZ20090521,   P21,   206,  1,     19, X12046,9,20090603,2249,-17.4162,-174.3335, 1486,     50.6,2,  27.9302,2,  27.93003,2,  35.5226,2,-999.0000,9,   196.67,2,  -999.00,9,  -999.00,9,  -999.00,  -999.00,9,  -999.00,  -999.00,9,  -999.00, -999.000,9, -999.000, -999.000,9, -999.000,9, -999.000,9,   -999.0,9,   -999.0,9,-999.0000,-999,9,  -999.00,9,  -999.00,   -999.0,9,   -999.0,  27.9183,  22.8144
  49NZ20090521,   P21,   206,  1,     18, X12006,9,20090603,2249,-17.4162,-174.3335, 1486,    100.5,2,  26.0002,2,  25.99538,2,  35.7559,2,-999.0000,9,   196.82,2,  -999.00,9,  -999.00,9,  -999.00,  -999.00,9,  -999.00,  -999.00,9,  -999.00, -999.000,9, -999.000, -999.000,9, -999.000,9, -999.000,9,   -999.0,9,   -999.0,9,-999.0000,-999,9,  -999.00,9,  -999.00,   -999.0,9,   -999.0,  25.9777,  23.6107
  49NZ20090521,   P21,   206,  1,     17, X12047,9,20090603,2249,-17.4162,-174.3335, 1486,    100.4,2,  26.0022,2,  26.00463,2,  35.7550,2,-999.0000,9,   196.65,2,  -999.00,9,  -999.00,9,  -999.00,  -999.00,9,  -999.00,  -999.00,9,  -999.00, -999.000,9, -999.000, -999.000,9, -999.000,9, -999.000,9,   -999.0,9,   -999.0,9,-999.0000,-999,9,  -999.00,9,  -999.00,   -999.0,9,   -999.0,  25.9797,  23.6094
  49NZ20090521,   P21,   206,  1,     16, X12004,9,20090603,2249,-17.4162,-174.3335, 1486,    152.7,2,  24.2198,2,  24.22262,2,  35.7677,2,-999.0000,9,   183.12,2,  -999.00,9,  -999.00,9,  -999.00,  -999.00,9,  -999.00,  -999.00,9,  -999.00, -999.000,9, -999.000, -999.000,9, -999.000,9, -999.000,9,   -999.0,9,   -999.0,9,-999.0000,-999,9,  -999.00,9,  -999.00,   -999.0,9,   -999.0,  24.1873,  24.1669
  49NZ20090521,   P21,   206,  1,     15, X12003,9,20090603,2249,-17.4162,-174.3335, 1486,    151.1,2,  24.2531,2,  24.25271,2,  35.7633,2,-999.0000,9,   183.08,2,  -999.00,9,  -999.00,9,  -999.00,  -999.00,9,  -999.00,  -999.00,9,  -999.00, -999.000,9, -999.000, -999.000,9, -999.000,9, -999.000,9,   -999.0,9,   -999.0,9,-999.0000,-999,9,  -999.00,9,  -999.00,   -999.0,9,   -999.0,  24.2209,  24.1535
  49NZ20090521,   P21,   206,  1,     14, X12002,9,20090603,2249,-17.4162,-174.3335, 1486,    201.3,2,  21.8770,2,  21.86971,2,  35.9125,2,-999.0000,9,   163.63,2,  -999.00,9,  -999.00,9,  -999.00,  -999.00,9,  -999.00,  -999.00,9,  -999.00, -999.000,9, -999.000, -999.000,9, -999.000,9, -999.000,9,   -999.0,9,   -999.0,9,-999.0000,-999,9,  -999.00,9,  -999.00,   -999.0,9,   -999.0,  21.8371,  24.9571
  49NZ20090521,   P21,   206,  1,     13, X12001,9,20090603,2249,-17.4162,-174.3335, 1486,    200.6,2,  21.8870,2,  21.88365,2,  35.9140,2,-999.0000,9,   163.49,2,  -999.00,9,  -999.00,9,  -999.00,  -999.00,9,  -999.00,  -999.00,9,  -999.00, -999.000,9, -999.000, -999.000,9, -999.000,9, -999.000,9,   -999.0,9,   -999.0,9,-999.0000,-999,9,  -999.00,9,  -999.00,   -999.0,9,   -999.0,  21.8473,  24.9554
  49NZ20090521,   P21,   206,  1,     12, X12030,9,20090603,2249,-17.4162,-174.3335, 1486,    250.9,2,  19.7120,2,  19.71159,2,  35.6542,2,-999.0000,9,   165.60,2,  -999.00,9,  -999.00,9,  -999.00,  -999.00,9,  -999.00,  -999.00,9,  -999.00, -999.000,9, -999.000, -999.000,9, -999.000,9, -999.000,9,   -999.0,9,   -999.0,9,-999.0000,-999,9,  -999.00,9,  -999.00,   -999.0,9,   -999.0,  19.6658,  25.3489
  49NZ20090521,   P21,   206,  1,     11, X12044,9,20090603,2249,-17.4162,-174.3335, 1486,    250.6,2,  19.7117,2,  19.70931,2,  35.6541,2,-999.0000,9,   165.55,2,  -999.00,9,  -999.00,9,  -999.00,  -999.00,9,  -999.00,  -999.00,9,  -999.00, -999.000,9, -999.000, -999.000,9, -999.000,9, -999.000,9,   -999.0,9,   -999.0,9,-999.0000,-999,9,  -999.00,9,  -999.00,   -999.0,9,   -999.0,  19.6656,  25.3488
  49NZ20090521,   P21,   206,  1,     10, X12048,9,20090603,2249,-17.4162,-174.3335, 1486,    331.6,2,  15.9999,2,  16.00050,2,  35.2477,2,-999.0000,9,   182.20,2,  -999.00,9,  -999.00,9,  -999.00,  -999.00,9,  -999.00,  -999.00,9,  -999.00, -999.000,9, -999.000, -999.000,9, -999.000,9, -999.000,9,   -999.0,9,   -999.0,9,-999.0000,-999,9,  -999.00,9,  -999.00,   -999.0,9,   -999.0,  15.9471,  25.9504
  49NZ20090521,   P21,   206,  1,      9, X12027,9,20090603,2249,-17.4162,-174.3335, 1486,    430.4,2,  11.6656,2,  11.67189,2,  34.7991,2,-999.0000,9,   181.31,2,  -999.00,9,  -999.00,9,  -999.00,  -999.00,9,  -999.00,  -999.00,9,  -999.00, -999.000,9, -999.000, -999.000,9, -999.000,9, -999.000,9,   -999.0,9,   -999.0,9,-999.0000,-999,9,  -999.00,9,  -999.00,   -999.0,9,   -999.0,  11.6100,  26.5068
  49NZ20090521,   P21,   206,  1,      8, X12026,9,20090603,2249,-17.4162,-174.3335, 1486,    529.5,2,   8.0188,2,   8.01895,2,  34.4641,2,-999.0000,9,   200.19,2,  -999.00,9,  -999.00,9,  -999.00,  -999.00,9,  -999.00,  -999.00,9,  -999.00, -999.000,9, -999.000, -999.000,9, -999.000,9, -999.000,9,   -999.0,9,   -999.0,9,-999.0000,-999,9,  -999.00,9,  -999.00,   -999.0,9,   -999.0,   7.9644,  26.8582
  49NZ20090521,   P21,   206,  1,      7, X12025,9,20090603,2249,-17.4162,-174.3335, 1486,    630.8,2,   6.4784,2,   6.47855,2,  34.3718,2,-999.0000,9,   205.10,2,  -999.00,9,  -999.00,9,  -999.00,  -999.00,9,  -999.00,  -999.00,9,  -999.00, -999.000,9, -999.000, -999.000,9, -999.000,9, -999.000,9,   -999.0,9,   -999.0,9,-999.0000,-999,9,  -999.00,9,  -999.00,   -999.0,9,   -999.0,   6.4206,  27.0019
  49NZ20090521,   P21,   206,  1,      6, X12024,9,20090603,2249,-17.4162,-174.3335, 1486,    730.1,2,   5.7035,2,   5.70235,2,  34.3560,2,-999.0000,9,   195.20,2,  -999.00,9,  -999.00,9,  -999.00,  -999.00,9,  -999.00,  -999.00,9,  -999.00, -999.000,9, -999.000, -999.000,9, -999.000,9, -999.000,9,   -999.0,9,   -999.0,9,-999.0000,-999,9,  -999.00,9,  -999.00,   -999.0,9,   -999.0,   5.6403,  27.0886
  49NZ20090521,   P21,   206,  1,      5, X12028,9,20090603,2249,-17.4162,-174.3335, 1486,    831.0,2,   4.8480,2,   4.84807,2,  34.3783,2,-999.0000,9,   179.41,2,  -999.00,9,  -999.00,9,  -999.00,  -999.00,9,  -999.00,  -999.00,9,  -999.00, -999.000,9, -999.000, -999.000,9, -999.000,9, -999.000,9,   -999.0,9,   -999.0,9,-999.0000,-999,9,  -999.00,9,  -999.00,   -999.0,9,   -999.0,   4.7809,  27.2073
  49NZ20090521,   P21,   206,  1,      4, X12022,9,20090603,2249,-17.4162,-174.3335, 1486,    929.7,2,   4.3759,2,   4.37602,2,  34.4027,2,-999.0000,9,   171.09,2,  -999.00,9,  -999.00,9,  -999.00,  -999.00,9,  -999.00,  -999.00,9,  -999.00, -999.000,9, -999.000, -999.000,9, -999.000,9, -999.000,9,   -999.0,9,   -999.0,9,-999.0000,-999,9,  -999.00,9,  -999.00,   -999.0,9,   -999.0,   4.3035,  27.2791
  49NZ20090521,   P21,   206,  1,      3, X12021,9,20090603,2249,-17.4162,-174.3335, 1486,   1071.9,2,   3.9992,2,   4.00010,2,  34.4481,2,-999.0000,9,   161.79,2,  -999.00,9,  -999.00,9,  -999.00,  -999.00,9,  -999.00,  -999.00,9,  -999.00, -999.000,9, -999.000, -999.000,9, -999.000,9, -999.000,9,   -999.0,9,   -999.0,9,-999.0000,-999,9,  -999.00,9,  -999.00,   -999.0,9,   -999.0,   3.9176,  27.3556
  49NZ20090521,   P21,   206,  1,      2, X12020,9,20090603,2249,-17.4162,-174.3335, 1486,   1271.3,2,   3.2126,2,   3.21294,2,  34.5278,2,-999.0000,9,   151.18,2,  -999.00,9,  -999.00,9,  -999.00,  -999.00,9,  -999.00,  -999.00,9,  -999.00, -999.000,9, -999.000, -999.000,9, -999.000,9, -999.000,9,   -999.0,9,   -999.0,9,-999.0000,-999,9,  -999.00,9,  -999.00,   -999.0,9,   -999.0,   3.1215,  27.4970
  49NZ20090521,   P21,   206,  1,      1, X12019,2,20090603,2249,-17.4162,-174.3335, 1486,   1483.2,2,   2.8187,2,   2.81830,2,  34.5746,2,  34.5752,6,   146.39,2,   146.24,2,    96.02,2,     0.33,    35.91,2,     0.13,     0.01,2,     0.01,    2.523,2,    0.016,    0.006,2,    0.006,2,    0.009,2,   -999.0,9,   -999.0,9,-999.0000,-999,9,  -999.00,9,  -999.00,   -999.0,9,   -999.0,   2.7143,  27.5712