BOTTLE,20111109CCHDOSIOCBG
EXPOCODE,SECT_ID,STNNBR,CASTNO,SAMPNO,BTLNBR,BTLNBR_FLAG_W,DATE,TIME,LATITUDE,LONGITUDE,DEPTH,CTDPRS,CTDPRS_FLAG_W,CTDTMP,CTDTMP_FLAG_W,SBE35,SBE35_FLAG_W,CTDSAL,CTDSAL_FLAG_W,SALNTY,SALNTY_FLAG_W,CTDOXY,CTDOXY_FLAG_W,OXYGEN,OXYGEN_FLAG_W,SILCAT,SILCAT_FLAG_W,SILUNC,NITRAT,NITRAT_FLAG_W,NRAUNC,NITRIT,NITRIT_FLAG_W,NRIUNC,PHSPHT,PHSPHT_FLAG_W,PHPUNC,CFC-11,CFC-11_FLAG_W,CFC-12,CFC-12_FLAG_W,CFC113,CFC113_FLAG_W,TCARBN,TCARBN_FLAG_W,ALKALI,ALKALI_FLAG_W,PH_TOT,PH_TMP,PH_TOT_FLAG_W,DELC13,DELC13_FLAG_W,C13ERR,DELC14,DELC14_FLAG_W,C14ERR,THETA,SIG0
,,,,,,,,,,,METERS,DBAR,,ITS-90,,ITS-90,,PSS-78,,PSS-78,,UMOL/KG,,UMOL/KG,,UMOL/KG,,UMOL/KG,UMOL/KG,,UMOL/KG,UMOL/KG,,UMOL/KG,UMOL/KG,,UMOL/KG,PMOL/KG,,PMOL/KG,,PMOL/KG,,UMOL/KG,,UMOL/KG,,,DEG C,,/MILLE,,/MILLE,/MILLE,,/MILLE,DEG C,KG/M^3
  49NZ20090521,   P21,   248,  1,      0,   -999,9,20090611,0235,-19.1320, 166.2988, 4034,   -999.0,9,-999.0000,9,-999.00000,9,-999.0000,9,  34.6287,2,  -999.00,9,  -999.00,9,  -999.00,9,  -999.00,  -999.00,9,  -999.00,  -999.00,9,  -999.00, -999.000,9, -999.000, -999.000,9, -999.000,9, -999.000,9,   -999.0,9,   -999.0,9,-999.0000,-999,9,  -999.00,9,  -999.00,   -999.0,9,   -999.0,-999.0000,-999.0000
  49NZ20090521,   P21,   248,  1,     36, X12043,2,20090611,0235,-19.1320, 166.2988, 4034,     10.0,2,  26.6802,2,  26.68110,2,  34.6221,2,  34.6198,2,   201.78,2,   201.59,2,     0.70,2,     0.12,     0.06,2,     0.03,     0.01,2,     0.01,    0.095,2,    0.023,    1.503,2,    0.985,2, -999.000,5,   -999.0,9,   -999.0,9,-999.0000,-999,9,  -999.00,9,  -999.00,   -999.0,9,   -999.0,  26.6779,  22.5355
  49NZ20090521,   P21,   248,  1,     35, X12042,2,20090611,0235,-19.1320, 166.2988, 4034,     50.0,2,  26.0481,2,  26.07233,2,  34.8266,2,  34.8248,2,   203.61,2,   203.68,2,     0.66,2,     0.12,     0.05,2,     0.03,     0.01,2,     0.01,    0.063,2,    0.029,    1.534,2,    0.998,2, -999.000,5,   -999.0,9,   -999.0,9,-999.0000,-999,9,  -999.00,9,  -999.00,   -999.0,9,   -999.0,  26.0369,  22.8910
  49NZ20090521,   P21,   248,  1,     34, X12016,2,20090611,0235,-19.1320, 166.2988, 4034,    100.5,2,  25.0427,2,  25.04972,2,  35.1981,2,  35.2315,2,   196.06,2,   196.17,2,     0.72,2,     0.12,     0.07,2,     0.03,     0.03,2,     0.01,    0.127,2,    0.019,    1.695,6,    1.077,6, -999.000,5,   -999.0,9,   -999.0,9,-999.0000,-999,9,  -999.00,9,  -999.00,   -999.0,9,   -999.0,  25.0209,  23.4846
  49NZ20090521,   P21,   248,  1,     33, X12015,2,20090611,0235,-19.1320, 166.2988, 4034,    150.2,2,  22.4038,2,  22.37779,2,  35.5577,2,  35.5623,2,   173.81,2,   172.50,2,     0.85,2,     0.12,     2.91,2,     0.04,     0.04,2,     0.01,    0.326,2,    0.014,    1.867,2,    1.163,2,    0.125,2,   -999.0,9,   -999.0,9,-999.0000,-999,9,  -999.00,9,  -999.00,   -999.0,9,   -999.0,  22.3736,  24.5361
  49NZ20090521,   P21,   248,  1,     32, X12050,2,20090611,0235,-19.1320, 166.2988, 4034,    200.1,2,  20.7163,2,  20.71567,2,  35.6464,2,  35.6465,2,   169.67,2,   169.37,2,     1.18,2,     0.12,     4.56,2,     0.05,     0.02,2,     0.01,    0.432,2,    0.013,    1.995,2,    1.219,2,    0.072,2,   -999.0,9,   -999.0,9,-999.0000,-999,9,  -999.00,9,  -999.00,   -999.0,9,   -999.0,  20.6782,  25.0736
  49NZ20090521,   P21,   248,  1,     31, X12014,2,20090611,0235,-19.1320, 166.2988, 4034,    250.5,2,  18.7514,2,  18.75186,2,  35.5949,2,  35.5936,6,   179.78,2,   178.99,2,     1.53,2,     0.12,     5.24,2,     0.05,     0.01,2,     0.01,    0.478,2,    0.013,    2.121,2,    1.271,2,    0.046,2,   -999.0,9,   -999.0,9,-999.0000,-999,9,  -999.00,9,  -999.00,   -999.0,9,   -999.0,  18.7069,  25.5507
  49NZ20090521,   P21,   248,  1,     30, X12012,2,20090611,0235,-19.1320, 166.2988, 4034,    280.7,2,  18.0387,2,  18.03910,2,  35.5456,2,  35.5428,2,   180.37,2,   180.42,2,     1.53,2,     0.12,     5.87,2,     0.05,     0.01,2,     0.01,    0.516,2,    0.013,    2.162,2,    1.286,2,    0.029,2,   -999.0,9,   -999.0,9,-999.0000,-999,9,  -999.00,9,  -999.00,   -999.0,9,   -999.0,  17.9902,  25.6924
  49NZ20090521,   P21,   248,  1,     29, X12041,2,20090611,0235,-19.1320, 166.2988, 4034,    367.9,2,  14.9554,2,  14.96158,2,  35.2580,2,  35.2553,2,   182.50,2,   182.02,2,     3.12,2,     0.13,     9.84,2,     0.06,     0.01,2,     0.01,    0.787,2,    0.013,    2.238,6,    1.272,6,    0.028,6,   -999.0,9,   -999.0,9,-999.0000,-999,9,  -999.00,9,  -999.00,   -999.0,9,   -999.0,  14.8994,  26.1930
  49NZ20090521,   P21,   248,  1,     28, X12040,2,20090611,0235,-19.1320, 166.2988, 4034,    470.9,2,  10.9834,2,  10.98563,2,  34.8080,2,  34.8085,6,   185.76,2,   185.51,2,     6.96,2,     0.13,    17.14,2,     0.08,     0.01,2,     0.01,    1.266,2,    0.014,    2.022,2,    1.085,2,    0.046,2,   -999.0,9,   -999.0,9,-999.0000,-999,9,  -999.00,9,  -999.00,   -999.0,9,   -999.0,  10.9248,  26.6396
  49NZ20090521,   P21,   248,  1,     27, X12009,2,20090611,0235,-19.1320, 166.2988, 4034,    570.3,2,   8.3600,2,   8.35871,2,  34.5539,2,  34.5532,2,   203.81,2,   203.41,2,     9.27,2,     0.14,    21.52,2,     0.09,     0.01,2,     0.01,    1.537,2,    0.014,    1.918,6,    0.993,6,    0.054,6,   -999.0,9,   -999.0,9,-999.0000,-999,9,  -999.00,9,  -999.00,   -999.0,9,   -999.0,   8.2998,  26.8782
  49NZ20090521,   P21,   248,  1,     26, X12008,2,20090611,0235,-19.1320, 166.2988, 4034,    670.1,2,   6.7384,2,   6.74186,2,  34.4369,2,  34.4355,2,   196.90,2,   196.97,2,    17.94,2,     0.16,    25.97,2,     0.11,     0.01,2,     0.01,    1.829,2,    0.015,    1.134,2,    0.582,2,    0.024,2,   -999.0,9,   -999.0,9,-999.0000,-999,9,  -999.00,9,  -999.00,   -999.0,9,   -999.0,   6.6754,  27.0194
  49NZ20090521,   P21,   248,  1,     25, X12007,2,20090611,0235,-19.1320, 166.2988, 4034,    771.3,2,   5.6735,2,   5.67295,2,  34.4071,2,  34.4068,2,   187.84,2,   187.67,2,    28.31,2,     0.18,    29.12,2,     0.11,     0.01,2,     0.01,    2.042,2,    0.015,    0.600,2,    0.312,2,    0.006,2,   -999.0,9,   -999.0,9,-999.0000,-999,9,  -999.00,9,  -999.00,   -999.0,9,   -999.0,   5.6067,  27.1332
  49NZ20090521,   P21,   248,  1,     24, X12035,2,20090611,0235,-19.1320, 166.2988, 4034,    870.7,2,   4.9453,2,   4.94592,2,  34.4296,2,  34.4289,2,   175.54,2,   175.47,2,    41.43,2,     0.21,    31.28,2,     0.12,     0.01,2,     0.01,    2.192,2,    0.016,    0.298,2,    0.158,2,    0.000,2,   -999.0,9,   -999.0,9,-999.0000,-999,9,  -999.00,9,  -999.00,   -999.0,9,   -999.0,   4.8740,  27.2375
  49NZ20090521,   P21,   248,  1,     23, X12038,2,20090611,0235,-19.1320, 166.2988, 4034,    969.5,2,   4.3623,2,   4.36179,2,  34.4525,2,  34.4522,6,   169.62,2,   169.75,2,    52.56,2,     0.23,    32.58,2,     0.12,     0.01,2,     0.01,    2.284,2,    0.016,    0.170,2,    0.088,2,    0.000,2,   -999.0,9,   -999.0,9,-999.0000,-999,9,  -999.00,9,  -999.00,   -999.0,9,   -999.0,   4.2865,  27.3205
  49NZ20090521,   P21,   248,  1,     22, X12034,2,20090611,0235,-19.1320, 166.2988, 4034,   1129.7,2,   3.7010,2,   3.70179,2,  34.5056,2,  34.5053,2,   161.10,2,   161.19,2,    69.91,2,     0.27,    33.84,2,     0.13,     0.01,2,     0.01,    2.376,2,    0.016,    0.081,2,    0.042,2,    0.000,2,   -999.0,9,   -999.0,9,-999.0000,-999,9,  -999.00,9,  -999.00,   -999.0,9,   -999.0,   3.6170,  27.4317
  49NZ20090521,   P21,   248,  1,     21, X12033,2,20090611,0235,-19.1320, 166.2988, 4034,   1329.8,2,   3.2590,2,   3.25912,2,  34.5470,2,  34.5460,2,   155.89,2,   155.97,2,    82.62,2,     0.30,    34.48,2,     0.13,     0.01,2,     0.01,    2.424,2,    0.016,    0.042,2,    0.022,2,    0.000,2,   -999.0,9,   -999.0,9,-999.0000,-999,9,  -999.00,9,  -999.00,   -999.0,9,   -999.0,   3.1626,  27.5084
  49NZ20090521,   P21,   248,  1,     20, X12032,2,20090611,0235,-19.1320, 166.2988, 4034,   1530.0,2,   2.8996,2,   2.89972,2,  34.5825,2,  34.5821,2,   151.11,2,   151.30,2,    93.53,2,     0.32,    35.06,2,     0.13,     0.01,2,     0.01,    2.470,2,    0.016,    0.015,2,    0.011,2,    0.000,2,   -999.0,9,   -999.0,9,-999.0000,-999,9,  -999.00,9,  -999.00,   -999.0,9,   -999.0,   2.7904,  27.5707
  49NZ20090521,   P21,   248,  1,     19, X12046,2,20090611,0235,-19.1320, 166.2988, 4034,   1729.9,2,   2.6374,2,   2.63756,2,  34.6084,2,  34.6078,2,   149.00,2,   149.12,2,   101.17,2,     0.34,    35.38,2,     0.13,     0.01,2,     0.01,    2.497,2,    0.016,    0.008,2,    0.006,2,    0.000,2,   -999.0,9,   -999.0,9,-999.0000,-999,9,  -999.00,9,  -999.00,   -999.0,9,   -999.0,   2.5147,  27.6155
  49NZ20090521,   P21,   248,  1,     18, X12006,2,20090611,0235,-19.1320, 166.2988, 4034,   1932.0,2,   2.4148,2,   2.41492,2,  34.6305,2,  34.6302,6,   148.41,2,   148.45,2,   106.88,2,     0.35,    35.60,2,     0.13,     0.01,2,     0.01,    2.507,2,    0.016,    0.003,2,    0.001,2,    0.000,2,   -999.0,9,   -999.0,9,-999.0000,-999,9,  -999.00,9,  -999.00,   -999.0,9,   -999.0,   2.2779,  27.6532
  49NZ20090521,   P21,   248,  1,     17, X12047,3,20090611,0235,-19.1320, 166.2988, 4034,   2129.7,2,   2.2560,2,   2.25596,2,  34.6455,2,-999.0000,9,   149.44,2,   149.70,3,  -999.00,9,  -999.00,  -999.00,9,  -999.00,  -999.00,9,  -999.00, -999.000,9, -999.000, -999.000,9, -999.000,9, -999.000,9,   -999.0,9,   -999.0,9,-999.0000,-999,9,  -999.00,9,  -999.00,   -999.0,9,   -999.0,   2.1044,  27.6793
  49NZ20090521,   P21,   248,  1,     16, X12004,2,20090611,0235,-19.1320, 166.2988, 4034,   2329.1,2,   2.1244,2,   2.12452,2,  34.6574,2,  34.6569,2,   151.39,2,   151.56,2,   112.83,2,     0.37,    35.39,2,     0.13,     0.01,2,     0.01,    2.495,2,    0.016,    0.001,2,    0.000,2,    0.000,2,   -999.0,9,   -999.0,9,-999.0000,-999,9,  -999.00,9,  -999.00,   -999.0,9,   -999.0,   1.9573,  27.7006
  49NZ20090521,   P21,   248,  1,     15, X12003,2,20090611,0235,-19.1320, 166.2988, 4034,   2530.4,2,   2.0339,2,   2.03394,2,  34.6655,2,  34.6649,2,   152.93,2,   152.91,2,   114.68,2,     0.37,    35.26,2,     0.13,     0.01,2,     0.01,    2.486,2,    0.016,    0.000,2,    0.000,2,    0.000,2,   -999.0,9,   -999.0,9,-999.0000,-999,9,  -999.00,9,  -999.00,   -999.0,9,   -999.0,   1.8501,  27.7154
  49NZ20090521,   P21,   248,  1,     14, X12002,2,20090611,0235,-19.1320, 166.2988, 4034,   2729.5,2,   1.9675,2,   1.96758,2,  34.6713,2,  34.6707,2,   154.08,2,   154.14,2,   116.42,2,     0.38,    35.23,2,     0.13,     0.01,2,     0.01,    2.484,2,    0.016,    0.000,2,    0.000,2,    0.000,2,   -999.0,9,   -999.0,9,-999.0000,-999,9,  -999.00,9,  -999.00,   -999.0,9,   -999.0,   1.7665,  27.7265
  49NZ20090521,   P21,   248,  1,     13, X12001,2,20090611,0235,-19.1320, 166.2988, 4034,   2930.6,2,   1.9166,2,   1.91659,2,  34.6759,2,  34.6758,6,   155.24,2,   155.21,2,   118.02,2,     0.38,    35.21,2,     0.13,     0.01,2,     0.01,    2.480,2,    0.016,    0.000,2,    0.000,2,    0.000,2,   -999.0,9,   -999.0,9,-999.0000,-999,9,  -999.00,9,  -999.00,   -999.0,9,   -999.0,   1.6974,  27.7354
  49NZ20090521,   P21,   248,  1,     12, X12030,2,20090611,0235,-19.1320, 166.2988, 4034,   3169.9,2,   1.8545,2,   1.85446,2,  34.6789,2,  34.6784,2,   155.04,2,   155.06,2,   120.79,2,     0.38,    35.36,2,     0.13,     0.01,2,     0.01,    2.484,2,    0.016,    0.000,2,    0.000,2,    0.000,2,   -999.0,9,   -999.0,9,-999.0000,-999,9,  -999.00,9,  -999.00,   -999.0,9,   -999.0,   1.6132,  27.7442
  49NZ20090521,   P21,   248,  1,     11, X12044,2,20090611,0235,-19.1320, 166.2988, 4034,   3420.7,2,   1.8294,2,   1.82928,2,  34.6814,2,  34.6810,2,   155.71,2,   155.81,2,   121.80,2,     0.39,    35.26,2,     0.13,     0.01,2,     0.01,    2.479,2,    0.016,    0.002,2,    0.000,2,    0.000,2,   -999.0,9,   -999.0,9,-999.0000,-999,9,  -999.00,9,  -999.00,   -999.0,9,   -999.0,   1.5632,  27.7499
  49NZ20090521,   P21,   248,  1,     10, X12048,2,20090611,0235,-19.1320, 166.2988, 4034,   3670.3,2,   1.8281,2,   1.82805,2,  34.6829,2,  34.6820,2,   156.07,2,   156.01,2,   122.50,2,     0.39,    35.25,2,     0.13,     0.01,2,     0.01,    2.480,2,    0.016,    0.000,2,    0.000,2,    0.000,2,   -999.0,9,   -999.0,9,-999.0000,-999,9,  -999.00,9,  -999.00,   -999.0,9,   -999.0,   1.5358,  27.7531
  49NZ20090521,   P21,   248,  1,      9, X12027,2,20090611,0235,-19.1320, 166.2988, 4034,   3920.3,2,   1.8425,2,   1.84244,2,  34.6835,2,  34.6830,2,   156.12,2,   156.20,2,   122.70,2,     0.39,    35.26,2,     0.13,     0.01,2,     0.01,    2.494,2,    0.016,    0.000,2,    0.000,2,    0.000,2,   -999.0,9,   -999.0,9,-999.0000,-999,9,  -999.00,9,  -999.00,   -999.0,9,   -999.0,   1.5228,  27.7545
  49NZ20090521,   P21,   248,  1,      8, X12026,9,20090611,0235,-19.1320, 166.2988, 4034,     10.0,2,  26.6803,2,  26.68080,2,  34.6216,2,-999.0000,9,   201.88,2,  -999.00,9,  -999.00,9,  -999.00,  -999.00,9,  -999.00,  -999.00,9,  -999.00, -999.000,9, -999.000, -999.000,9, -999.000,9, -999.000,9,   -999.0,9,   -999.0,9,-999.0000,-999,9,  -999.00,9,  -999.00,   -999.0,9,   -999.0,  26.6780,  22.5351
  49NZ20090521,   P21,   248,  1,      7, X12025,9,20090611,0235,-19.1320, 166.2988, 4034,     50.0,2,  25.9986,2,  26.01425,2,  34.8287,2,-999.0000,9,   203.92,2,  -999.00,9,  -999.00,9,  -999.00,  -999.00,9,  -999.00,  -999.00,9,  -999.00, -999.000,9, -999.000, -999.000,9, -999.000,9, -999.000,9,   -999.0,9,   -999.0,9,-999.0000,-999,9,  -999.00,9,  -999.00,   -999.0,9,   -999.0,  25.9875,  22.9080
  49NZ20090521,   P21,   248,  1,      6, X12024,9,20090611,0235,-19.1320, 166.2988, 4034,    100.5,2,  24.8785,2,  24.86105,2,  35.2222,2,-999.0000,9,   194.16,2,  -999.00,9,  -999.00,9,  -999.00,  -999.00,9,  -999.00,  -999.00,9,  -999.00, -999.000,9, -999.000, -999.000,9, -999.000,9, -999.000,9,   -999.0,9,   -999.0,9,-999.0000,-999,9,  -999.00,9,  -999.00,   -999.0,9,   -999.0,  24.8568,  23.5527
  49NZ20090521,   P21,   248,  1,      5, X12028,9,20090611,0235,-19.1320, 166.2988, 4034,    149.9,2,  22.3816,2,  22.37387,2,  35.5611,2,-999.0000,9,   173.40,2,  -999.00,9,  -999.00,9,  -999.00,  -999.00,9,  -999.00,  -999.00,9,  -999.00, -999.000,9, -999.000, -999.000,9, -999.000,9, -999.000,9,   -999.0,9,   -999.0,9,-999.0000,-999,9,  -999.00,9,  -999.00,   -999.0,9,   -999.0,  22.3515,  24.5450
  49NZ20090521,   P21,   248,  1,      4, X12022,9,20090611,0235,-19.1320, 166.2988, 4034,    200.4,2,  20.6945,2,  20.69913,2,  35.6476,2,-999.0000,9,   170.01,2,  -999.00,9,  -999.00,9,  -999.00,  -999.00,9,  -999.00,  -999.00,9,  -999.00, -999.000,9, -999.000, -999.000,9, -999.000,9, -999.000,9,   -999.0,9,   -999.0,9,-999.0000,-999,9,  -999.00,9,  -999.00,   -999.0,9,   -999.0,  20.6564,  25.0803
  49NZ20090521,   P21,   248,  1,      3, X12021,2,20090611,0235,-19.1320, 166.2988, 4034,   2129.9,2,   2.2552,2,   2.25521,2,  34.6455,2,  34.6455,2,   149.47,2,   149.63,2,   110.35,2,     0.36,    35.52,2,     0.13,     0.01,2,     0.01,    2.505,2,    0.016,    0.002,2,    0.001,2,    0.000,2,   -999.0,9,   -999.0,9,-999.0000,-999,9,  -999.00,9,  -999.00,   -999.0,9,   -999.0,   2.1036,  27.6794
  49NZ20090521,   P21,   248,  1,      2, X12020,9,20090611,0235,-19.1320, 166.2988, 4034,   1329.4,2,   3.2644,2,   3.26454,2,  34.5465,2,-999.0000,9,   155.96,2,  -999.00,9,  -999.00,9,  -999.00,  -999.00,9,  -999.00,  -999.00,9,  -999.00, -999.000,9, -999.000, -999.000,9, -999.000,9, -999.000,9,   -999.0,9,   -999.0,9,-999.0000,-999,9,  -999.00,9,  -999.00,   -999.0,9,   -999.0,   3.1679,  27.5075
  49NZ20090521,   P21,   248,  1,      1, X12019,2,20090611,0235,-19.1320, 166.2988, 4034,   4036.2,2,   1.8554,2,   1.85517,2,  34.6834,2,  34.6830,6,   156.23,2,   156.15,2,   122.68,2,     0.39,    35.33,2,     0.13,     0.01,2,     0.01,    2.493,2,    0.016,    0.000,2,    0.000,2,    0.000,2,   -999.0,9,   -999.0,9,-999.0000,-999,9,  -999.00,9,  -999.00,   -999.0,9,   -999.0,   1.5225,  27.7544