BOTTLE,20111109CCHDOSIOCBG
EXPOCODE,SECT_ID,STNNBR,CASTNO,SAMPNO,BTLNBR,BTLNBR_FLAG_W,DATE,TIME,LATITUDE,LONGITUDE,DEPTH,CTDPRS,CTDPRS_FLAG_W,CTDTMP,CTDTMP_FLAG_W,SBE35,SBE35_FLAG_W,CTDSAL,CTDSAL_FLAG_W,SALNTY,SALNTY_FLAG_W,CTDOXY,CTDOXY_FLAG_W,OXYGEN,OXYGEN_FLAG_W,SILCAT,SILCAT_FLAG_W,SILUNC,NITRAT,NITRAT_FLAG_W,NRAUNC,NITRIT,NITRIT_FLAG_W,NRIUNC,PHSPHT,PHSPHT_FLAG_W,PHPUNC,CFC-11,CFC-11_FLAG_W,CFC-12,CFC-12_FLAG_W,CFC113,CFC113_FLAG_W,TCARBN,TCARBN_FLAG_W,ALKALI,ALKALI_FLAG_W,PH_TOT,PH_TMP,PH_TOT_FLAG_W,DELC13,DELC13_FLAG_W,C13ERR,DELC14,DELC14_FLAG_W,C14ERR,THETA,SIG0
,,,,,,,,,,,METERS,DBAR,,ITS-90,,ITS-90,,PSS-78,,PSS-78,,UMOL/KG,,UMOL/KG,,UMOL/KG,,UMOL/KG,UMOL/KG,,UMOL/KG,UMOL/KG,,UMOL/KG,UMOL/KG,,UMOL/KG,PMOL/KG,,PMOL/KG,,PMOL/KG,,UMOL/KG,,UMOL/KG,,,DEG C,,/MILLE,,/MILLE,/MILLE,,/MILLE,DEG C,KG/M^3
  49NZ20090521,   P21,   276,  1,      0,   -999,9,20090615,2103,-23.5032, 157.6497, 2140,   -999.0,9,-999.0000,9,-999.00000,9,-999.0000,9,  35.2036,2,  -999.00,9,  -999.00,9,  -999.00,9,  -999.00,  -999.00,9,  -999.00,  -999.00,9,  -999.00, -999.000,9, -999.000, -999.000,9, -999.000,9, -999.000,9,   -999.0,9,   -999.0,9,-999.0000,-999,9,  -999.00,9,  -999.00,   -999.0,9,   -999.0,-999.0000,-999.0000
  49NZ20090521,   P21,   276,  1,     36, X12043,2,20090615,2103,-23.5032, 157.6497, 2140,     10.6,2,  23.9921,2,  23.99278,2,  35.1994,2,  35.1983,2,   206.03,2,   205.79,2,     0.47,2,     0.12,     0.14,2,     0.03,     0.02,2,     0.01,    0.125,2,    0.020,    1.667,2,    1.062,2, -999.000,5,   1980.8,2,   2306.2,2,   8.0859,  25,6,  -999.00,9,  -999.00,   -999.0,9,   -999.0,  23.9899,  23.7953
  49NZ20090521,   P21,   276,  1,     35, X12042,2,20090615,2103,-23.5032, 157.6497, 2140,     51.5,2,  23.0692,2,  23.07002,2,  35.3060,2,  35.3048,2,   211.86,2,   211.53,2,     0.34,2,     0.12,     0.07,2,     0.03,     0.01,2,     0.01,    0.097,2,    0.022,    1.741,2,    1.101,2, -999.000,5,   1987.7,6,   2314.1,2,   8.0821,  25,2,  -999.00,9,  -999.00,   -999.0,9,   -999.0,  23.0587,  24.1488
  49NZ20090521,   P21,   276,  1,     34, X12016,2,20090615,2103,-23.5032, 157.6497, 2140,    101.5,2,  22.0185,2,  22.01974,2,  35.6198,2,  35.6198,2,   156.53,2,   156.51,2,     1.08,2,     0.12,     5.31,2,     0.05,     0.03,2,     0.01,    0.493,2,    0.013,    1.894,6,    1.150,6,    0.111,6,   2067.2,2,   2334.4,6,   7.9768,  25,2,  -999.00,9,  -999.00,   -999.0,9,   -999.0,  21.9984,  24.6893
  49NZ20090521,   P21,   276,  1,     33, X12015,2,20090615,2103,-23.5032, 157.6497, 2140,    151.1,2,  19.9095,2,  19.91025,2,  35.6290,2,  35.6294,2,   169.42,2,   169.95,2,     1.28,2,     0.12,     5.52,2,     0.05,     0.02,2,     0.01,    0.490,2,    0.013,    2.035,2,    1.220,2,    0.091,2,   2075.8,2,   2333.5,2,   7.9608,  25,6,  -999.00,9,  -999.00,   -999.0,9,   -999.0,  19.8816,  25.2729
  49NZ20090521,   P21,   276,  1,     32, X12050,2,20090615,2103,-23.5032, 157.6497, 2140,    202.3,2,  18.7751,2,  18.77525,2,  35.6393,2,  35.6374,2,   189.63,2,   188.74,2,     1.05,2,     0.12,     4.68,2,     0.05,     0.02,2,     0.01,    0.419,2,    0.013,    2.125,2,    1.276,2,    0.068,2,   2070.4,2,   2333.4,2,   7.9708,  25,2,  -999.00,9,  -999.00,   -999.0,9,   -999.0,  18.7392,  25.5765
  49NZ20090521,   P21,   276,  1,     31, X12014,2,20090615,2103,-23.5032, 157.6497, 2140,    249.0,2,  17.7421,2,  17.74162,2,  35.5826,2,  35.5809,6,   184.99,2,   184.78,2,     1.48,2,     0.12,     6.23,2,     0.05,     0.01,2,     0.01,    0.519,2,    0.013,    2.182,2,    1.296,2,    0.057,2,   2083.8,2,   2329.9,2,   7.9424,  25,2,  -999.00,9,  -999.00,   -999.0,9,   -999.0,  17.6995,  25.7923
  49NZ20090521,   P21,   276,  1,     30, X12012,2,20090615,2103,-23.5032, 157.6497, 2140,    281.9,2,  17.0417,2,  17.02467,2,  35.5159,2,  35.5148,2,   182.02,2,   182.36,2,     1.88,2,     0.12,     7.30,2,     0.05,     0.01,2,     0.01,    0.596,2,    0.013,    2.214,2,    1.292,2,    0.047,2,   2092.0,2,   2327.2,2,   7.9213,  25,2,  -999.00,9,  -999.00,   -999.0,9,   -999.0,  16.9948,  25.9116
  49NZ20090521,   P21,   276,  1,     29, X12041,2,20090615,2103,-23.5032, 157.6497, 2140,    371.4,2,  13.7364,2,  13.73531,2,  35.1747,2,  35.1858,2,   183.93,2,   183.12,2,     3.81,2,     0.13,    12.03,2,     0.07,     0.01,2,     0.01,    0.910,2,    0.013,    2.224,6,    1.237,6,    0.043,6,   2118.0,2,   2311.5,2,   7.8457,  25,2,  -999.00,9,  -999.00,   -999.0,9,   -999.0,  13.6830,  26.3886
  49NZ20090521,   P21,   276,  1,     28, X12040,2,20090615,2103,-23.5032, 157.6497, 2140,    469.9,2,  10.8109,2,  10.80995,2,  34.8324,2,  34.8326,6,   191.89,2,   191.80,2,     6.20,2,     0.13,    17.04,2,     0.08,     0.01,2,     0.01,    1.231,2,    0.013,    2.150,2,    1.145,2,    0.060,2,   2135.9,2,   2298.0,2,   7.7794,  25,2,  -999.00,9,  -999.00,   -999.0,9,   -999.0,  10.7530,  26.6894
  49NZ20090521,   P21,   276,  1,     27, X12009,2,20090615,2103,-23.5032, 157.6497, 2140,    568.6,2,   8.6294,2,   8.62996,2,  34.5983,2,  34.5962,2,   199.87,2,   199.66,2,     9.52,2,     0.14,    21.32,2,     0.09,     0.01,2,     0.01,    1.504,2,    0.014,    1.858,6,    0.962,6,    0.069,6,   2148.6,2,   2291.3,2,   7.7342,  25,2,  -999.00,9,  -999.00,   -999.0,9,   -999.0,   8.5682,  26.8717
  49NZ20090521,   P21,   276,  1,     26, X12008,2,20090615,2103,-23.5032, 157.6497, 2140,    669.2,2,   7.3329,2,   7.33291,2,  34.4885,2,  34.4866,2,   202.12,2,   202.00,2,    14.10,2,     0.15,    24.27,2,     0.10,     0.01,2,     0.01,    1.700,2,    0.014,    1.419,2,    0.730,2,    0.049,2,   2159.4,6,   2289.6,2,   7.7069,  25,2,  -999.00,9,  -999.00,   -999.0,9,   -999.0,   7.2669,  26.9786
  49NZ20090521,   P21,   276,  1,     25, X12007,2,20090615,2103,-23.5032, 157.6497, 2140,    769.1,2,   6.0972,2,   6.09667,2,  34.4336,2,  34.4328,2,   195.25,2,   194.85,2,    24.13,2,     0.17,    27.47,2,     0.11,     0.01,2,     0.01,    1.924,2,    0.015,    0.810,2,    0.422,2,    0.034,2,   2179.3,2,   2297.3,6,   7.6737,  25,2,  -999.00,9,  -999.00,   -999.0,9,   -999.0,   6.0281,  27.1015
  49NZ20090521,   P21,   276,  1,     24, X12035,2,20090615,2103,-23.5032, 157.6497, 2140,    869.9,2,   5.3072,2,   5.30761,2,  34.4340,2,  34.4343,2,   186.12,2,   185.91,2,    35.18,2,     0.20,    29.62,2,     0.12,     0.01,2,     0.01,    2.074,2,    0.015,    0.492,2,    0.263,2,    0.018,2,   2198.5,2,   2307.9,2,   7.6491,  25,6,  -999.00,9,  -999.00,   -999.0,9,   -999.0,   5.2336,  27.1992
  49NZ20090521,   P21,   276,  1,     23, X12038,2,20090615,2103,-23.5032, 157.6497, 2140,    970.8,2,   4.7499,2,   4.75103,2,  34.4471,2,  34.4483,6,   180.07,2,   179.63,2,    44.76,2,     0.22,    30.97,2,     0.12,     0.01,2,     0.01,    2.168,2,    0.015,    0.331,2,    0.179,2,    0.011,2,   2214.1,2,   2318.0,2,   7.6336,  25,2,  -999.00,9,  -999.00,   -999.0,9,   -999.0,   4.6712,  27.2742
  49NZ20090521,   P21,   276,  1,     22, X12034,2,20090615,2103,-23.5032, 157.6497, 2140,   1132.2,2,   3.9461,2,   3.94605,2,  34.5060,2,  34.5063,2,   165.94,2,   165.81,2,    64.58,2,     0.26,    32.89,2,     0.12,     0.01,2,     0.01,    2.312,2,    0.016,    0.137,2,    0.076,2,    0.000,2,   2243.8,2,   2339.4,2,   7.6106,  25,2,  -999.00,9,  -999.00,   -999.0,9,   -999.0,   3.8598,  27.4076
  49NZ20090521,   P21,   276,  1,     21, X12033,2,20090615,2103,-23.5032, 157.6497, 2140,   1331.7,2,   3.6082,2,   3.60830,2,  34.5370,2,  34.5375,2,   159.53,2,   159.30,2,    74.36,2,     0.28,    33.66,2,     0.13,     0.01,2,     0.01,    2.374,2,    0.016,    0.079,2,    0.046,2,    0.000,2,   2256.8,2,   2350.2,2,   7.6006,  25,2,  -999.00,9,  -999.00,   -999.0,9,   -999.0,   3.5081,  27.4674
  49NZ20090521,   P21,   276,  1,     20, X12032,2,20090615,2103,-23.5032, 157.6497, 2140,   1530.9,2,   3.1047,2,   3.10468,2,  34.5767,2,  34.5772,6,   149.26,2,   149.05,2,    89.33,2,     0.32,    34.95,2,     0.13,     0.01,2,     0.01,    2.467,2,    0.016,    0.015,2,    0.011,2,    0.000,2,   2279.2,2,   2366.9,2,   7.5839,  25,2,  -999.00,9,  -999.00,   -999.0,9,   -999.0,   2.9931,  27.5478
  49NZ20090521,   P21,   276,  1,     19, X12046,2,20090615,2103,-23.5032, 157.6497, 2140,   1730.4,2,   2.7329,2,   2.73286,2,  34.6111,2,  34.6114,2,   147.93,2,   147.62,2,    97.55,2,     0.33,    35.23,2,     0.13,     0.01,2,     0.01,    2.492,2,    0.016,    0.002,2,    0.002,2,    0.000,2,   2289.1,2,   2375.2,2,   7.5795,  25,2,  -999.00,9,  -999.00,   -999.0,9,   -999.0,   2.6089,  27.6095
  49NZ20090521,   P21,   276,  1,     18, X12006,2,20090615,2103,-23.5032, 157.6497, 2140,   1930.1,2,   2.4887,2,   2.48872,2,  34.6376,2,  34.6383,2,   152.20,2,   152.25,2,    99.73,2,     0.34,    34.88,2,     0.13,     0.01,2,     0.01,    2.464,2,    0.016,    0.000,2,    0.000,2,    0.000,2,   2288.8,2,   2378.1,2,   7.5825,  25,2,  -999.00,9,  -999.00,   -999.0,9,   -999.0,   2.3509,  27.6527
  49NZ20090521,   P21,   276,  1,     17, X12047,9,20090615,2103,-23.5032, 157.6497, 2140,    282.2,2,  17.0460,2,  17.03805,2,  35.5167,2,-999.0000,9,   181.95,2,  -999.00,9,  -999.00,9,  -999.00,  -999.00,9,  -999.00,  -999.00,9,  -999.00, -999.000,9, -999.000, -999.000,9, -999.000,9, -999.000,9,   -999.0,9,   -999.0,9,-999.0000,-999,9,  -999.00,9,  -999.00,   -999.0,9,   -999.0,  16.9991,  25.9112
  49NZ20090521,   P21,   276,  1,     16, X12004,9,20090615,2103,-23.5032, 157.6497, 2140,    372.1,2,  13.9336,2,  13.93106,2,  35.1965,2,-999.0000,9,   182.76,2,  -999.00,9,  -999.00,9,  -999.00,  -999.00,9,  -999.00,  -999.00,9,  -999.00, -999.000,9, -999.000, -999.000,9, -999.000,9, -999.000,9,   -999.0,9,   -999.0,9,-999.0000,-999,9,  -999.00,9,  -999.00,   -999.0,9,   -999.0,  13.8796,  26.3643
  49NZ20090521,   P21,   276,  1,     15, X12003,9,20090615,2103,-23.5032, 157.6497, 2140,    469.8,2,  10.8124,2,  10.81302,2,  34.8329,2,-999.0000,9,   191.99,2,  -999.00,9,  -999.00,9,  -999.00,  -999.00,9,  -999.00,  -999.00,9,  -999.00, -999.000,9, -999.000, -999.000,9, -999.000,9, -999.000,9,   -999.0,9,   -999.0,9,-999.0000,-999,9,  -999.00,9,  -999.00,   -999.0,9,   -999.0,  10.7545,  26.6896
  49NZ20090521,   P21,   276,  1,     14, X12002,9,20090615,2103,-23.5032, 157.6497, 2140,    568.6,2,   8.6316,2,   8.63152,2,  34.5985,2,-999.0000,9,   199.83,2,  -999.00,9,  -999.00,9,  -999.00,  -999.00,9,  -999.00,  -999.00,9,  -999.00, -999.000,9, -999.000, -999.000,9, -999.000,9, -999.000,9,   -999.0,9,   -999.0,9,-999.0000,-999,9,  -999.00,9,  -999.00,   -999.0,9,   -999.0,   8.5704,  26.8715
  49NZ20090521,   P21,   276,  1,     13, X12001,9,20090615,2103,-23.5032, 157.6497, 2140,    669.2,2,   7.3373,2,   7.33555,2,  34.4889,2,-999.0000,9,   202.09,2,  -999.00,9,  -999.00,9,  -999.00,  -999.00,9,  -999.00,  -999.00,9,  -999.00, -999.000,9, -999.000, -999.000,9, -999.000,9, -999.000,9,   -999.0,9,   -999.0,9,-999.0000,-999,9,  -999.00,9,  -999.00,   -999.0,9,   -999.0,   7.2713,  26.9782
  49NZ20090521,   P21,   276,  1,     12, X12030,9,20090615,2103,-23.5032, 157.6497, 2140,    768.9,2,   6.0900,2,   6.08966,2,  34.4335,2,-999.0000,9,   195.25,2,  -999.00,9,  -999.00,9,  -999.00,  -999.00,9,  -999.00,  -999.00,9,  -999.00, -999.000,9, -999.000, -999.000,9, -999.000,9, -999.000,9,   -999.0,9,   -999.0,9,-999.0000,-999,9,  -999.00,9,  -999.00,   -999.0,9,   -999.0,   6.0209,  27.1024
  49NZ20090521,   P21,   276,  1,     11, X12044,9,20090615,2103,-23.5032, 157.6497, 2140,    870.3,2,   5.3049,2,   5.30520,2,  34.4340,2,-999.0000,9,   186.21,2,  -999.00,9,  -999.00,9,  -999.00,  -999.00,9,  -999.00,  -999.00,9,  -999.00, -999.000,9, -999.000, -999.000,9, -999.000,9, -999.000,9,   -999.0,9,   -999.0,9,-999.0000,-999,9,  -999.00,9,  -999.00,   -999.0,9,   -999.0,   5.2313,  27.1996
  49NZ20090521,   P21,   276,  1,     10, X12048,9,20090615,2103,-23.5032, 157.6497, 2140,     10.6,2,  23.9946,2,  23.99445,2,  35.1996,2,-999.0000,9,   206.02,2,  -999.00,9,  -999.00,9,  -999.00,  -999.00,9,  -999.00,  -999.00,9,  -999.00, -999.000,9, -999.000, -999.000,9, -999.000,9, -999.000,9,   -999.0,9,   -999.0,9,-999.0000,-999,9,  -999.00,9,  -999.00,   -999.0,9,   -999.0,  23.9924,  23.7947
  49NZ20090521,   P21,   276,  1,      9, X12027,9,20090615,2103,-23.5032, 157.6497, 2140,    151.0,2,  19.9131,2,  19.91368,2,  35.6300,2,-999.0000,9,   169.80,2,  -999.00,9,  -999.00,9,  -999.00,  -999.00,9,  -999.00,  -999.00,9,  -999.00, -999.000,9, -999.000, -999.000,9, -999.000,9, -999.000,9,   -999.0,9,   -999.0,9,-999.0000,-999,9,  -999.00,9,  -999.00,   -999.0,9,   -999.0,  19.8852,  25.2727
  49NZ20090521,   P21,   276,  1,      8, X12026,9,20090615,2103,-23.5032, 157.6497, 2140,   1331.9,2,   3.6082,2,   3.60829,2,  34.5370,2,-999.0000,9,   159.46,2,  -999.00,9,  -999.00,9,  -999.00,  -999.00,9,  -999.00,  -999.00,9,  -999.00, -999.000,9, -999.000, -999.000,9, -999.000,9, -999.000,9,   -999.0,9,   -999.0,9,-999.0000,-999,9,  -999.00,9,  -999.00,   -999.0,9,   -999.0,   3.5080,  27.4674
  49NZ20090521,   P21,   276,  1,      7, X12025,2,20090615,2103,-23.5032, 157.6497, 2140,     10.7,2,  23.9937,2,  23.99412,2,  35.1995,2,-999.0000,9,   205.89,2,  -999.00,9,  -999.00,9,  -999.00,  -999.00,9,  -999.00,  -999.00,9,  -999.00, -999.000,9, -999.000, -999.000,9, -999.000,9, -999.000,9,   -999.0,9,   -999.0,9,-999.0000,-999,9,  -999.00,9,  -999.00,   -999.0,9,   -999.0,  23.9914,  23.7949
  49NZ20090521,   P21,   276,  1,      6, X12024,2,20090615,2103,-23.5032, 157.6497, 2140,     51.6,2,  23.0694,2,  23.06892,2,  35.3061,2,-999.0000,9,   211.96,2,  -999.00,9,  -999.00,9,  -999.00,  -999.00,9,  -999.00,  -999.00,9,  -999.00, -999.000,9, -999.000, -999.000,9, -999.000,9, -999.000,9,   -999.0,9,   -999.0,9,-999.0000,-999,9,  -999.00,9,  -999.00,   -999.0,9,   -999.0,  23.0588,  24.1488
  49NZ20090521,   P21,   276,  1,      5, X12028,2,20090615,2103,-23.5032, 157.6497, 2140,    101.4,2,  22.0084,2,  22.01043,2,  35.6205,2,-999.0000,9,   156.44,2,  -999.00,9,  -999.00,9,  -999.00,  -999.00,9,  -999.00,  -999.00,9,  -999.00, -999.000,9, -999.000, -999.000,9, -999.000,9, -999.000,9,   -999.0,9,   -999.0,9,-999.0000,-999,9,  -999.00,9,  -999.00,   -999.0,9,   -999.0,  21.9883,  24.6927
  49NZ20090521,   P21,   276,  1,      4, X12022,2,20090615,2103,-23.5032, 157.6497, 2140,    151.5,2,  19.9024,2,  19.90501,2,  35.6290,2,-999.0000,9,   169.36,2,  -999.00,9,  -999.00,9,  -999.00,  -999.00,9,  -999.00,  -999.00,9,  -999.00, -999.000,9, -999.000, -999.000,9, -999.000,9, -999.000,9,   -999.0,9,   -999.0,9,-999.0000,-999,9,  -999.00,9,  -999.00,   -999.0,9,   -999.0,  19.8744,  25.2748
  49NZ20090521,   P21,   276,  1,      3, X12021,2,20090615,2103,-23.5032, 157.6497, 2140,    202.4,2,  18.7748,2,  18.77761,2,  35.6393,2,-999.0000,9,   189.35,2,  -999.00,9,  -999.00,9,  -999.00,  -999.00,9,  -999.00,  -999.00,9,  -999.00, -999.000,9, -999.000, -999.000,9, -999.000,9, -999.000,9,   -999.0,9,   -999.0,9,-999.0000,-999,9,  -999.00,9,  -999.00,   -999.0,9,   -999.0,  18.7389,  25.5766
  49NZ20090521,   P21,   276,  1,      2, X12020,2,20090615,2103,-23.5032, 157.6497, 2140,    249.2,2,  17.7451,2,  17.74635,2,  35.5828,2,-999.0000,9,   185.05,2,  -999.00,9,  -999.00,9,  -999.00,  -999.00,9,  -999.00,  -999.00,9,  -999.00, -999.000,9, -999.000, -999.000,9, -999.000,9, -999.000,9,   -999.0,9,   -999.0,9,-999.0000,-999,9,  -999.00,9,  -999.00,   -999.0,9,   -999.0,  17.7025,  25.7918
  49NZ20090521,   P21,   276,  1,      1, X12019,2,20090615,2103,-23.5032, 157.6497, 2140,   2152.3,2,   2.2616,2,   2.26146,2,  34.6694,2,  34.6686,3,   163.30,2,   162.76,2,    96.92,2,     0.33,    34.00,2,     0.13,     0.01,2,     0.01,    2.389,2,    0.016,    0.001,2,    0.002,2,    0.000,2,   2279.0,2,   2371.6,2,   7.5912,  25,2,  -999.00,9,  -999.00,   -999.0,9,   -999.0,   2.1078,  27.6982