BOTTLE,20111109CCHDOSIOCBG
EXPOCODE,SECT_ID,STNNBR,CASTNO,SAMPNO,BTLNBR,BTLNBR_FLAG_W,DATE,TIME,LATITUDE,LONGITUDE,DEPTH,CTDPRS,CTDPRS_FLAG_W,CTDTMP,CTDTMP_FLAG_W,SBE35,SBE35_FLAG_W,CTDSAL,CTDSAL_FLAG_W,SALNTY,SALNTY_FLAG_W,CTDOXY,CTDOXY_FLAG_W,OXYGEN,OXYGEN_FLAG_W,SILCAT,SILCAT_FLAG_W,SILUNC,NITRAT,NITRAT_FLAG_W,NRAUNC,NITRIT,NITRIT_FLAG_W,NRIUNC,PHSPHT,PHSPHT_FLAG_W,PHPUNC,CFC-11,CFC-11_FLAG_W,CFC-12,CFC-12_FLAG_W,CFC113,CFC113_FLAG_W,TCARBN,TCARBN_FLAG_W,ALKALI,ALKALI_FLAG_W,PH_TOT,PH_TMP,PH_TOT_FLAG_W,DELC13,DELC13_FLAG_W,C13ERR,DELC14,DELC14_FLAG_W,C14ERR,THETA,SIG0
,,,,,,,,,,,METERS,DBAR,,ITS-90,,ITS-90,,PSS-78,,PSS-78,,UMOL/KG,,UMOL/KG,,UMOL/KG,,UMOL/KG,UMOL/KG,,UMOL/KG,UMOL/KG,,UMOL/KG,UMOL/KG,,UMOL/KG,PMOL/KG,,PMOL/KG,,PMOL/KG,,UMOL/KG,,UMOL/KG,,,DEG C,,/MILLE,,/MILLE,/MILLE,,/MILLE,DEG C,KG/M^3
  49NZ20090521,   P21,   262,  1,      0,   -999,9,20090613,1824,-21.1120, 163.7217, 3580,   -999.0,9,-999.0000,9,-999.00000,9,-999.0000,9,  35.2704,2,  -999.00,9,  -999.00,9,  -999.00,9,  -999.00,  -999.00,9,  -999.00,  -999.00,9,  -999.00, -999.000,9, -999.000, -999.000,9, -999.000,9, -999.000,9,   -999.0,9,   -999.0,9,-999.0000,-999,9,  -999.00,9,  -999.00,   -999.0,9,   -999.0,-999.0000,-999.0000
  49NZ20090521,   P21,   262,  1,     36, X12043,2,20090613,1824,-21.1120, 163.7217, 3580,     10.1,2,  23.5346,2,  23.53487,2,  35.2673,2,  35.2653,2,   212.07,2,   210.99,2,     0.53,2,     0.12,     0.10,2,     0.03,     0.01,2,     0.01,    0.085,2,    0.024,    1.691,2,    1.082,2, -999.000,5,   1983.0,2,   2309.7,2,   8.0873,  25,6,  -999.00,1,  -999.00,   -999.0,1,   -999.0,  23.5325,  23.9815
  49NZ20090521,   P21,   262,  1,     35, X12042,2,20090613,1824,-21.1120, 163.7217, 3580,     50.8,2,  23.5400,2,  23.53983,2,  35.2674,2,  35.2654,2,   211.97,2,   210.91,2,     0.51,2,     0.12,     0.08,2,     0.03,     0.01,2,     0.01,    0.084,2,    0.024,    1.698,2,    1.084,2, -999.000,5,   1982.7,6,   2310.4,2,   8.0863,  25,2,  -999.00,1,  -999.00,   -999.0,1,   -999.0,  23.5295,  23.9825
  49NZ20090521,   P21,   262,  1,     34, X12016,2,20090613,1824,-21.1120, 163.7217, 3580,    100.6,2,  22.7663,2,  22.76820,2,  35.5211,2,  35.5242,2,   192.20,2,   191.49,2,     0.73,2,     0.12,     1.20,2,     0.04,     0.19,2,     0.01,    0.227,2,    0.015,    1.826,6,    1.139,6, -999.000,5,   2028.6,2,   2326.6,6,   8.0332,  25,2,  -999.00,1,  -999.00,   -999.0,1,   -999.0,  22.7459,  24.4020
  49NZ20090521,   P21,   262,  1,     33, X12015,2,20090613,1824,-21.1120, 163.7217, 3580,    150.2,2,  20.6579,2,  20.65500,2,  35.6287,2,  35.6272,2,   180.33,2,   179.53,2,     0.92,2,     0.12,     3.82,2,     0.04,     0.02,2,     0.01,    0.364,2,    0.014,    1.974,2,    1.213,2,    0.115,2,   2058.0,2,   2332.5,2,   7.9905,  25,6,  -999.00,1,  -999.00,   -999.0,1,   -999.0,  20.6294,  25.0732
  49NZ20090521,   P21,   262,  1,     32, X12050,2,20090613,1824,-21.1120, 163.7217, 3580,    199.4,2,  19.5318,2,  19.53271,2,  35.6463,2,  35.6445,2,   181.21,2,   180.13,2,     1.20,2,     0.12,     4.72,2,     0.05,     0.01,2,     0.01,    0.423,2,    0.013,    2.062,2,    1.250,2,    0.063,2,   2070.3,2,   2333.4,2,   7.9720,  25,2,  -999.00,1,  -999.00,   -999.0,1,   -999.0,  19.4954,  25.3873
  49NZ20090521,   P21,   262,  1,     31, X12014,2,20090613,1824,-21.1120, 163.7217, 3580,    249.5,2,  18.4813,2,  18.48201,2,  35.6377,2,  35.6365,6,   191.09,2,   190.04,2,     1.24,2,     0.12,     4.77,2,     0.05,     0.01,2,     0.01,    0.425,2,    0.013,    2.141,2,    1.289,2,    0.044,2,   2072.6,2,   2333.1,2,   7.9637,  25,2,  -999.00,1,  -999.00,   -999.0,1,   -999.0,  18.4374,  25.6515
  49NZ20090521,   P21,   262,  1,     30, X12012,2,20090613,1824,-21.1120, 163.7217, 3580,    300.4,2,  17.4553,2,  17.45458,2,  35.5607,2,  35.5603,2,   186.28,2,   185.52,2,     1.68,2,     0.12,     6.40,2,     0.05,     0.01,2,     0.01,    0.531,2,    0.013,    2.194,2,    1.300,2,    0.040,2,   2086.0,2,   2328.4,2,   7.9339,  25,2,  -999.00,1,  -999.00,   -999.0,1,   -999.0,  17.4045,  25.8475
  49NZ20090521,   P21,   262,  1,     29, X12041,2,20090613,1824,-21.1120, 163.7217, 3580,    401.2,2,  14.5004,2,  14.50093,2,  35.2710,2,  35.2604,2,   186.34,2,   184.74,2,     3.33,2,     0.13,    10.72,2,     0.06,     0.01,2,     0.01,    0.821,2,    0.013,    2.267,6,    1.287,6,    0.040,6,   2110.6,2,   2315.3,2,   7.8627,  25,2,  -999.00,1,  -999.00,   -999.0,1,   -999.0,  14.4405,  26.3028
  49NZ20090521,   P21,   262,  1,     28, X12040,2,20090613,1824,-21.1120, 163.7217, 3580,    498.8,2,  11.0127,2,  11.01460,2,  34.8556,2,  34.8645,6,   192.45,2,   191.56,2,     5.90,2,     0.13,    16.40,2,     0.08,     0.01,2,     0.01,    1.198,2,    0.013,    2.152,2,    1.163,2,    0.063,2,   2132.7,2,   2298.4,2,   7.7872,  25,2,  -999.00,1,  -999.00,   -999.0,1,   -999.0,  10.9504,  26.6720
  49NZ20090521,   P21,   262,  1,     27, X12009,2,20090613,1824,-21.1120, 163.7217, 3580,    600.5,2,   8.6273,2,   8.66387,2,  34.5969,2,  34.6052,2,   203.17,2,   202.14,2,     8.74,2,     0.14,    20.84,2,     0.09,     0.00,2,     0.01,    1.477,2,    0.014,    1.956,6,    1.022,6,    0.050,6,   2145.3,2,   2290.3,2,   7.7387,  25,2,  -999.00,1,  -999.00,   -999.0,1,   -999.0,   8.5625,  26.8715
  49NZ20090521,   P21,   262,  1,     26, X12008,2,20090613,1824,-21.1120, 163.7217, 3580,    700.0,2,   7.1088,2,   7.11150,2,  34.4565,2,  34.4568,2,   206.66,2,   206.24,2,    13.44,2,     0.15,    24.28,2,     0.10,     0.01,2,     0.01,    1.705,2,    0.014,    1.452,2,    0.742,2,    0.031,2,   2157.7,6,   2287.3,2,   7.7074,  25,2,  -999.00,1,  -999.00,   -999.0,1,   -999.0,   7.0409,  26.9850
  49NZ20090521,   P21,   262,  1,     25, X12007,2,20090613,1824,-21.1120, 163.7217, 3580,    801.1,2,   6.1446,2,   6.14252,2,  34.4237,2,  34.4226,2,   198.39,2,   198.36,2,    22.58,2,     0.17,    27.15,2,     0.11,     0.00,2,     0.01,    1.901,2,    0.015,    0.869,2,    0.451,2,    0.019,2,   2174.9,2,   2295.0,6,   7.6773,  25,2,  -999.00,1,  -999.00,   -999.0,1,   -999.0,   6.0721,  27.0881
  49NZ20090521,   P21,   262,  1,     24, X12035,2,20090613,1824,-21.1120, 163.7217, 3580,    899.9,2,   5.1643,2,   5.16731,2,  34.4361,2,  34.4346,2,   184.58,2,   184.53,2,    37.22,2,     0.20,    29.93,2,     0.12,     0.00,2,     0.01,    2.096,2,    0.015,    0.453,2,    0.244,2,    0.014,2,   2200.7,2,   2309.1,2,   7.6457,  25,2,  -999.00,1,  -999.00,   -999.0,1,   -999.0,   5.0890,  27.2179
  49NZ20090521,   P21,   262,  1,     23, X12038,2,20090613,1824,-21.1120, 163.7217, 3580,   1001.0,2,   4.5810,2,   4.58097,2,  34.4636,2,  34.4633,6,   175.39,2,   175.16,2,    49.64,2,     0.23,    31.42,2,     0.12,     0.00,2,     0.01,    2.212,2,    0.016,    0.247,2,    0.132,2,    0.000,2,   2219.7,2,   2322.7,2,   7.6275,  25,2,  -999.00,1,  -999.00,   -999.0,1,   -999.0,   4.5009,  27.3061
  49NZ20090521,   P21,   262,  1,     22, X12034,2,20090613,1824,-21.1120, 163.7217, 3580,   1200.8,2,   3.7331,2,   3.73307,2,  34.5247,2,  34.5247,2,   160.93,2,   160.88,2,    71.20,2,     0.28,    33.44,2,     0.13,     0.00,2,     0.01,    2.359,2,    0.016,    0.079,2,    0.044,2,    0.000,2,   2251.7,2,   2347.0,2,   7.6040,  25,2,  -999.00,1,  -999.00,   -999.0,1,   -999.0,   3.6429,  27.4443
  49NZ20090521,   P21,   262,  1,     21, X12033,2,20090613,1824,-21.1120, 163.7217, 3580,   1400.0,2,   3.2056,2,   3.20568,2,  34.5649,2,  34.5648,2,   153.98,2,   153.77,2,    85.02,2,     0.31,    34.52,2,     0.13,     0.00,2,     0.01,    2.435,2,    0.016,    0.026,2,    0.016,2,    0.000,2,   2271.3,2,   2362.6,2,   7.5919,  25,2,  -999.00,1,  -999.00,   -999.0,1,   -999.0,   3.1038,  27.5282
  49NZ20090521,   P21,   262,  1,     20, X12032,2,20090613,1824,-21.1120, 163.7217, 3580,   1601.1,2,   2.8668,2,   2.86681,2,  34.5958,2,  34.5957,2,   150.91,2,   150.73,2,    93.55,2,     0.32,    34.91,2,     0.13,     0.00,2,     0.01,    2.471,2,    0.016,    0.010,2,    0.007,2,    0.000,2,   2282.7,2,   2372.1,2,   7.5863,  25,6,  -999.00,1,  -999.00,   -999.0,1,   -999.0,   2.7520,  27.5848
  49NZ20090521,   P21,   262,  1,     19, X12046,2,20090613,1824,-21.1120, 163.7217, 3580,   1800.1,2,   2.5991,2,   2.59907,2,  34.6199,2,  34.6197,6,   149.95,2,   149.70,2,   100.04,2,     0.34,    35.09,2,     0.13,     0.00,2,     0.01,    2.485,2,    0.016,    0.002,2,    0.000,2,    0.000,2,   2290.1,2,   2379.4,2,   7.5839,  25,2,  -999.00,1,  -999.00,   -999.0,1,   -999.0,   2.4709,  27.6285
  49NZ20090521,   P21,   262,  1,     18, X12006,2,20090613,1824,-21.1120, 163.7217, 3580,   2001.1,2,   2.3537,2,   2.35390,2,  34.6420,2,  34.6415,2,   151.13,2,   150.89,2,   105.32,2,     0.35,    35.24,2,     0.13,     0.00,2,     0.01,    2.483,2,    0.016,    0.000,2,    0.000,2,    0.000,2,   2295.6,2,   2385.2,2,   7.5851,  25,2,  -999.00,1,  -999.00,   -999.0,1,   -999.0,   2.2118,  27.6678
  49NZ20090521,   P21,   262,  1,     17, X12047,2,20090613,1824,-21.1120, 163.7217, 3580,   2199.7,2,   2.1860,2,   2.18626,2,  34.6575,2,  34.6569,2,   153.12,2,   152.86,2,   108.28,2,     0.36,    35.15,2,     0.13,     0.00,2,     0.01,    2.476,2,    0.016,    0.000,2,    0.000,2,    0.000,2,   2298.4,2,   2389.1,2,   7.5880,  25,2,  -999.00,1,  -999.00,   -999.0,1,   -999.0,   2.0293,  27.6949
  49NZ20090521,   P21,   262,  1,     16, X12004,2,20090613,1824,-21.1120, 163.7217, 3580,   2399.3,2,   2.0702,2,   2.07021,2,  34.6683,2,  34.6680,2,   155.01,2,   154.69,2,   110.41,2,     0.36,    34.98,2,     0.13,     0.00,2,     0.01,    2.465,2,    0.016,    0.002,2,    0.000,2,    0.000,2,   2300.2,6,   2392.5,2,   7.5915,  25,2,  -999.00,1,  -999.00,   -999.0,1,   -999.0,   1.8977,  27.7140
  49NZ20090521,   P21,   262,  1,     15, X12003,2,20090613,1824,-21.1120, 163.7217, 3580,   2602.6,2,   1.9937,2,   1.99374,2,  34.6758,2,  34.6754,6,   156.50,2,   156.32,2,   111.82,2,     0.37,    34.91,2,     0.13,     0.00,2,     0.01,    2.459,2,    0.016,    0.000,2,    0.000,2,    0.000,2,   2301.1,2,   2394.1,6,   7.5928,  25,2,  -999.00,1,  -999.00,   -999.0,1,   -999.0,   1.8040,  27.7272
  49NZ20090521,   P21,   262,  1,     14, X12002,2,20090613,1824,-21.1120, 163.7217, 3580,   2800.3,2,   1.9570,2,   1.95700,2,  34.6799,2,  34.6794,2,   158.08,2,   157.75,2,   112.55,2,     0.37,    34.76,2,     0.13,     0.00,2,     0.01,    2.452,2,    0.016,    0.000,2,    0.000,2,    0.000,2,   2300.3,2,   2394.0,2,   7.5943,  25,6,  -999.00,1,  -999.00,   -999.0,1,   -999.0,   1.7494,  27.7347
  49NZ20090521,   P21,   262,  1,     13, X12001,2,20090613,1824,-21.1120, 163.7217, 3580,   3000.9,2,   1.9267,2,   1.92666,2,  34.6832,2,  34.6832,2,   159.36,2,   159.16,2,   113.19,2,     0.37,    34.74,2,     0.13,     0.00,2,     0.01,    2.446,2,    0.016,    0.000,2,    0.000,2,    0.000,2,   2300.6,2,   2394.1,2,   7.5955,  25,2,  -999.00,1,  -999.00,   -999.0,1,   -999.0,   1.7004,  27.7411
  49NZ20090521,   P21,   262,  1,     12, X12030,2,20090613,1824,-21.1120, 163.7217, 3580,   3251.4,2,   1.9091,2,   1.90902,2,  34.6856,2,  34.6851,2,   160.77,2,   160.55,2,   113.94,2,     0.37,    34.70,2,     0.13,     0.00,2,     0.01,    2.437,2,    0.016,    0.000,2,    0.000,2,    0.000,2,   2300.1,2,   2394.8,2,   7.5974,  25,2,  -999.00,1,  -999.00,   -999.0,1,   -999.0,   1.6583,  27.7462
  49NZ20090521,   P21,   262,  1,     11, X12044,2,20090613,1824,-21.1120, 163.7217, 3580,   3499.5,2,   1.8904,2,   1.89025,2,  34.6877,2,  34.6876,2,   161.79,2,   161.59,2,   114.94,2,     0.37,    34.63,2,     0.13,     0.00,2,     0.01,    2.434,2,    0.016,    0.000,2,    0.000,2,    0.000,2,   2300.6,2,   2394.8,2,   7.5977,  25,2,  -999.00,1,  -999.00,   -999.0,1,   -999.0,   1.6145,  27.7511
  49NZ20090521,   P21,   262,  1,     10, X12048,9,20090613,1824,-21.1120, 163.7217, 3580,      3.0,2,  23.5311,2,  23.53074,2,  35.2676,2,-999.0000,9,   212.29,2,  -999.00,9,  -999.00,9,  -999.00,  -999.00,9,  -999.00,  -999.00,9,  -999.00, -999.000,9, -999.000, -999.000,9, -999.000,9, -999.000,9,   -999.0,9,   -999.0,9,-999.0000,-999,9,  -999.00,9,  -999.00,   -999.0,9,   -999.0,  23.5305,  23.9823
  49NZ20090521,   P21,   262,  1,      9, X12027,9,20090613,1824,-21.1120, 163.7217, 3580,      2.6,2,  23.5295,2,  23.53006,2,  35.2675,2,-999.0000,9,   212.36,2,  -999.00,9,  -999.00,9,  -999.00,  -999.00,9,  -999.00,  -999.00,9,  -999.00, -999.000,9, -999.000, -999.000,9, -999.000,9, -999.000,9,   -999.0,9,   -999.0,9,-999.0000,-999,9,  -999.00,9,  -999.00,   -999.0,9,   -999.0,  23.5290,  23.9827
  49NZ20090521,   P21,   262,  1,      8, X12026,2,20090613,1824,-21.1120, 163.7217, 3580,      2.4,2,  23.5274,2,  23.52813,2,  35.2676,2,-999.0000,9,   212.28,2,  -999.00,9,  -999.00,9,  -999.00,  -999.00,9,  -999.00,  -999.00,9,  -999.00, -999.000,9, -999.000, -999.000,9, -999.000,9, -999.000,9,   -999.0,9,   -999.0,9,-999.0000,-999,9,  -999.00,9,  -999.00,   -999.0,9,   -999.0,  23.5269,  23.9834
  49NZ20090521,   P21,   262,  1,      7, X12025,2,20090613,1824,-21.1120, 163.7217, 3580,     10.4,2,  23.5331,2,  23.53349,2,  35.2673,2,-999.0000,9,   212.04,2,  -999.00,9,  -999.00,9,  -999.00,  -999.00,9,  -999.00,  -999.00,9,  -999.00, -999.000,9, -999.000, -999.000,9, -999.000,9, -999.000,9,   -999.0,9,   -999.0,9,-999.0000,-999,9,  -999.00,9,  -999.00,   -999.0,9,   -999.0,  23.5309,  23.9820
  49NZ20090521,   P21,   262,  1,      6, X12024,2,20090613,1824,-21.1120, 163.7217, 3580,     50.9,2,  23.5399,2,  23.54026,2,  35.2669,2,-999.0000,9,   211.87,2,  -999.00,9,  -999.00,9,  -999.00,  -999.00,9,  -999.00,  -999.00,9,  -999.00, -999.000,9, -999.000, -999.000,9, -999.000,9, -999.000,9,   -999.0,9,   -999.0,9,-999.0000,-999,9,  -999.00,9,  -999.00,   -999.0,9,   -999.0,  23.5293,  23.9822
  49NZ20090521,   P21,   262,  1,      5, X12028,2,20090613,1824,-21.1120, 163.7217, 3580,    100.4,2,  22.7695,2,  22.77173,2,  35.5215,2,-999.0000,9,   193.06,2,  -999.00,9,  -999.00,9,  -999.00,  -999.00,9,  -999.00,  -999.00,9,  -999.00, -999.000,9, -999.000, -999.000,9, -999.000,9, -999.000,9,   -999.0,9,   -999.0,9,-999.0000,-999,9,  -999.00,9,  -999.00,   -999.0,9,   -999.0,  22.7491,  24.4014
  49NZ20090521,   P21,   262,  1,      4, X12022,2,20090613,1824,-21.1120, 163.7217, 3580,    150.0,2,  20.6585,2,  20.66125,2,  35.6289,2,-999.0000,9,   180.30,2,  -999.00,9,  -999.00,9,  -999.00,  -999.00,9,  -999.00,  -999.00,9,  -999.00, -999.000,9, -999.000, -999.000,9, -999.000,9, -999.000,9,   -999.0,9,   -999.0,9,-999.0000,-999,9,  -999.00,9,  -999.00,   -999.0,9,   -999.0,  20.6300,  25.0732
  49NZ20090521,   P21,   262,  1,      3, X12021,2,20090613,1824,-21.1120, 163.7217, 3580,    199.5,2,  19.5354,2,  19.53587,2,  35.6466,2,-999.0000,9,   181.19,2,  -999.00,9,  -999.00,9,  -999.00,  -999.00,9,  -999.00,  -999.00,9,  -999.00, -999.000,9, -999.000, -999.000,9, -999.000,9, -999.000,9,   -999.0,9,   -999.0,9,-999.0000,-999,9,  -999.00,9,  -999.00,   -999.0,9,   -999.0,  19.4990,  25.3866
  49NZ20090521,   P21,   262,  1,      2, X12020,2,20090613,1824,-21.1120, 163.7217, 3580,    250.2,2,  18.4826,2,  18.48270,2,  35.6379,2,-999.0000,9,   191.26,2,  -999.00,9,  -999.00,9,  -999.00,  -999.00,9,  -999.00,  -999.00,9,  -999.00, -999.000,9, -999.000, -999.000,9, -999.000,9, -999.000,9,   -999.0,9,   -999.0,9,-999.0000,-999,9,  -999.00,9,  -999.00,   -999.0,9,   -999.0,  18.4386,  25.6514
  49NZ20090521,   P21,   262,  1,      1, X12019,2,20090613,1824,-21.1120, 163.7217, 3580,   3611.0,2,   1.8820,2,   1.88184,2,  34.6888,2,  34.6889,6,   162.13,2,   161.77,2,   115.18,2,     0.37,    34.62,2,     0.13,     0.01,2,     0.01,    2.433,2,    0.016,    0.000,2,    0.000,2,    0.000,2,   2302.3,2,   2396.3,2,   7.6011,  25,2,  -999.00,1,  -999.00,   -999.0,1,   -999.0,   1.5946,  27.7535