BOTTLE,20111109CCHDOSIOCBG
EXPOCODE,SECT_ID,STNNBR,CASTNO,SAMPNO,BTLNBR,BTLNBR_FLAG_W,DATE,TIME,LATITUDE,LONGITUDE,DEPTH,CTDPRS,CTDPRS_FLAG_W,CTDTMP,CTDTMP_FLAG_W,SBE35,SBE35_FLAG_W,CTDSAL,CTDSAL_FLAG_W,SALNTY,SALNTY_FLAG_W,CTDOXY,CTDOXY_FLAG_W,OXYGEN,OXYGEN_FLAG_W,SILCAT,SILCAT_FLAG_W,SILUNC,NITRAT,NITRAT_FLAG_W,NRAUNC,NITRIT,NITRIT_FLAG_W,NRIUNC,PHSPHT,PHSPHT_FLAG_W,PHPUNC,CFC-11,CFC-11_FLAG_W,CFC-12,CFC-12_FLAG_W,CFC113,CFC113_FLAG_W,TCARBN,TCARBN_FLAG_W,ALKALI,ALKALI_FLAG_W,PH_TOT,PH_TMP,PH_TOT_FLAG_W,DELC13,DELC13_FLAG_W,C13ERR,DELC14,DELC14_FLAG_W,C14ERR,THETA,SIG0
,,,,,,,,,,,METERS,DBAR,,ITS-90,,ITS-90,,PSS-78,,PSS-78,,UMOL/KG,,UMOL/KG,,UMOL/KG,,UMOL/KG,UMOL/KG,,UMOL/KG,UMOL/KG,,UMOL/KG,UMOL/KG,,UMOL/KG,PMOL/KG,,PMOL/KG,,PMOL/KG,,UMOL/KG,,UMOL/KG,,,DEG C,,/MILLE,,/MILLE,/MILLE,,/MILLE,DEG C,KG/M^3
  49NZ20090521,   P21,   274,  1,      0,   -999,9,20090615,1303,-23.1370, 158.5818, 2535,   -999.0,9,-999.0000,9,-999.00000,9,-999.0000,9,  35.2389,2,  -999.00,9,  -999.00,9,  -999.00,9,  -999.00,  -999.00,9,  -999.00,  -999.00,9,  -999.00, -999.000,9, -999.000, -999.000,9, -999.000,9, -999.000,9,   -999.0,9,   -999.0,9,-999.0000,-999,9,  -999.00,9,  -999.00,   -999.0,9,   -999.0,-999.0000,-999.0000
  49NZ20090521,   P21,   274,  1,     36, X12043,2,20090615,1303,-23.1370, 158.5818, 2535,     10.2,2,  23.6537,2,  23.65330,2,  35.2334,2,  35.2308,2,   210.88,2,   210.37,2,     0.48,2,     0.12,     0.08,2,     0.03,     0.01,2,     0.01,    0.104,2,    0.021,    1.700,2,    1.074,2, -999.000,5,   -999.0,9,   -999.0,9,-999.0000,-999,9,  -999.00,9,  -999.00,   -999.0,9,   -999.0,  23.6516,  23.9209
  49NZ20090521,   P21,   274,  1,     35, X12042,2,20090615,1303,-23.1370, 158.5818, 2535,     49.6,2,  23.4700,2,  23.46937,2,  35.2475,2,  35.2540,2,   211.27,2,   210.98,2,     0.41,2,     0.12,     0.07,2,     0.03,     0.01,2,     0.01,    0.098,2,    0.022,    1.712,2,    1.072,2, -999.000,5,   -999.0,9,   -999.0,9,-999.0000,-999,9,  -999.00,9,  -999.00,   -999.0,9,   -999.0,  23.4597,  23.9878
  49NZ20090521,   P21,   274,  1,     34, X12016,2,20090615,1303,-23.1370, 158.5818, 2535,    100.0,2,  22.8535,2,  22.84701,2,  35.5252,2,  35.5253,2,   177.68,2,   177.60,2,     0.78,2,     0.12,     2.58,2,     0.04,     0.08,2,     0.01,    0.323,2,    0.014,    1.841,6,    1.138,6,    0.162,4,   -999.0,9,   -999.0,9,-999.0000,-999,9,  -999.00,9,  -999.00,   -999.0,9,   -999.0,  22.8331,  24.3801
  49NZ20090521,   P21,   274,  1,     33, X12015,2,20090615,1303,-23.1370, 158.5818, 2535,    150.4,2,  20.6740,2,  20.67181,2,  35.6384,2,  35.6369,2,   174.47,2,   174.16,2,     1.03,2,     0.12,     4.33,2,     0.04,     0.02,2,     0.01,    0.421,2,    0.013,    1.986,2,    1.208,2,    0.075,2,   -999.0,9,   -999.0,9,-999.0000,-999,9,  -999.00,9,  -999.00,   -999.0,9,   -999.0,  20.6454,  25.0763
  49NZ20090521,   P21,   274,  1,     32, X12050,2,20090615,1303,-23.1370, 158.5818, 2535,    200.3,2,  19.2467,2,  19.25033,2,  35.6485,2,  35.6461,2,   192.08,2,   191.04,2,     0.94,2,     0.12,     3.93,2,     0.04,     0.02,2,     0.01,    0.384,2,    0.013,    2.090,2,    1.271,2,    0.054,2,   -999.0,9,   -999.0,9,-999.0000,-999,9,  -999.00,9,  -999.00,   -999.0,9,   -999.0,  19.2105,  25.4629
  49NZ20090521,   P21,   274,  1,     31, X12014,2,20090615,1303,-23.1370, 158.5818, 2535,    251.7,2,  18.4448,2,  18.44746,2,  35.6091,2,  35.6091,6,   182.33,2,   182.59,2,     1.41,2,     0.12,     5.61,2,     0.05,     0.02,2,     0.01,    0.494,2,    0.013,    2.130,2,    1.276,2,    0.038,2,   -999.0,9,   -999.0,9,-999.0000,-999,9,  -999.00,9,  -999.00,   -999.0,9,   -999.0,  18.4006,  25.6388
  49NZ20090521,   P21,   274,  1,     30, X12012,2,20090615,1303,-23.1370, 158.5818, 2535,    302.3,2,  17.1376,2,  17.14406,2,  35.5418,2,  35.5519,2,   186.27,2,   186.40,2,     1.71,2,     0.12,     6.60,2,     0.05,     0.02,2,     0.01,    0.560,2,    0.013,    2.201,2,    1.304,2,    0.041,2,   -999.0,9,   -999.0,9,-999.0000,-999,9,  -999.00,9,  -999.00,   -999.0,9,   -999.0,  17.0871,  25.9094
  49NZ20090521,   P21,   274,  1,     29, X12041,2,20090615,1303,-23.1370, 158.5818, 2535,    400.4,2,  13.6545,2,  13.65795,2,  35.1737,2,  35.1731,2,   185.92,2,   185.89,2,     3.85,2,     0.13,    12.08,2,     0.07,     0.01,2,     0.01,    0.918,2,    0.013,    2.272,6,    1.269,6,    0.039,6,   -999.0,9,   -999.0,9,-999.0000,-999,9,  -999.00,9,  -999.00,   -999.0,9,   -999.0,  13.5971,  26.4056
  49NZ20090521,   P21,   274,  1,     28, X12040,2,20090615,1303,-23.1370, 158.5818, 2535,    501.1,2,  10.9358,2,  10.93704,2,  34.8530,2,  34.8525,6,   190.69,2,   190.63,2,     6.31,2,     0.13,    16.90,2,     0.08,     0.01,2,     0.01,    1.230,2,    0.013,    2.143,2,    1.151,2,    0.037,2,   -999.0,9,   -999.0,9,-999.0000,-999,9,  -999.00,9,  -999.00,   -999.0,9,   -999.0,  10.8735,  26.6839
  49NZ20090521,   P21,   274,  1,     27, X12009,2,20090615,1303,-23.1370, 158.5818, 2535,    601.2,2,   8.6030,2,   8.60345,2,  34.6170,2,  34.6155,2,   199.66,2,   199.58,2,     9.98,2,     0.14,    21.40,2,     0.09,     0.01,2,     0.01,    1.522,2,    0.014,    1.904,6,    0.994,6,    0.041,6,   -999.0,9,   -999.0,9,-999.0000,-999,9,  -999.00,9,  -999.00,   -999.0,9,   -999.0,   8.5382,  26.8910
  49NZ20090521,   P21,   274,  1,     26, X12008,2,20090615,1303,-23.1370, 158.5818, 2535,    700.3,2,   6.9135,2,   6.91600,2,  34.4566,2,  34.4561,2,   203.82,2,   203.69,2,    15.63,2,     0.15,    25.05,2,     0.10,     0.01,2,     0.01,    1.756,2,    0.015,    1.319,2,    0.666,2,    0.032,2,   -999.0,9,   -999.0,9,-999.0000,-999,9,  -999.00,9,  -999.00,   -999.0,9,   -999.0,   6.8466,  27.0117
  49NZ20090521,   P21,   274,  1,     25, X12007,2,20090615,1303,-23.1370, 158.5818, 2535,    800.5,2,   5.9288,2,   5.92893,2,  34.4175,2,  34.4177,2,   197.32,2,   197.25,2,    24.27,2,     0.17,    27.65,2,     0.11,     0.01,2,     0.01,    1.939,2,    0.015,    0.819,2,    0.410,2,    0.013,2,   -999.0,9,   -999.0,9,-999.0000,-999,9,  -999.00,9,  -999.00,   -999.0,9,   -999.0,   5.8577,  27.1103
  49NZ20090521,   P21,   274,  1,     24, X12035,2,20090615,1303,-23.1370, 158.5818, 2535,    900.9,2,   5.1894,2,   5.18970,2,  34.4332,2,  34.4334,2,   186.20,2,   186.46,2,    36.17,2,     0.20,    29.80,2,     0.12,     0.01,2,     0.01,    2.091,2,    0.015,    0.491,2,    0.255,2,    0.007,2,   -999.0,9,   -999.0,9,-999.0000,-999,9,  -999.00,9,  -999.00,   -999.0,9,   -999.0,   5.1138,  27.2127
  49NZ20090521,   P21,   274,  1,     23, X12038,2,20090615,1303,-23.1370, 158.5818, 2535,   1001.5,2,   4.6049,2,   4.60461,2,  34.4607,2,  34.4608,6,   176.25,2,   176.33,2,    48.65,2,     0.23,    31.37,2,     0.12,     0.01,2,     0.01,    2.200,2,    0.016,    0.278,2,    0.143,2,    0.000,2,   -999.0,9,   -999.0,9,-999.0000,-999,9,  -999.00,9,  -999.00,   -999.0,9,   -999.0,   4.5245,  27.3012
  49NZ20090521,   P21,   274,  1,     22, X12034,2,20090615,1303,-23.1370, 158.5818, 2535,   1201.1,2,   3.8020,2,   3.80201,2,  34.5189,2,  34.5193,2,   160.06,2,   160.16,2,    69.89,2,     0.27,    33.45,2,     0.13,     0.01,2,     0.01,    2.365,2,    0.016,    0.073,2,    0.040,2,    0.000,2,   -999.0,9,   -999.0,9,-999.0000,-999,9,  -999.00,9,  -999.00,   -999.0,9,   -999.0,   3.7111,  27.4329
  49NZ20090521,   P21,   274,  1,     21, X12033,2,20090615,1303,-23.1370, 158.5818, 2535,   1399.5,2,   3.2900,2,   3.28993,2,  34.5602,2,  34.5602,2,   151.80,2,   151.93,2,    84.00,2,     0.30,    34.66,2,     0.13,     0.01,2,     0.01,    2.448,2,    0.016,    0.027,2,    0.014,2,    0.000,2,   -999.0,9,   -999.0,9,-999.0000,-999,9,  -999.00,9,  -999.00,   -999.0,9,   -999.0,   3.1874,  27.5166
  49NZ20090521,   P21,   274,  1,     20, X12032,2,20090615,1303,-23.1370, 158.5818, 2535,   1600.9,2,   2.8841,2,   2.88416,2,  34.5953,2,  34.5955,2,   146.27,2,   146.40,2,    95.55,2,     0.33,    35.34,2,     0.13,     0.01,2,     0.01,    2.502,2,    0.016,    0.009,2,    0.005,2,    0.000,2,   -999.0,9,   -999.0,9,-999.0000,-999,9,  -999.00,9,  -999.00,   -999.0,9,   -999.0,   2.7691,  27.5829
  49NZ20090521,   P21,   274,  1,     19, X12046,2,20090615,1303,-23.1370, 158.5818, 2535,   1801.4,2,   2.5813,2,   2.58140,2,  34.6268,2,  34.6270,6,   149.84,2,   150.02,2,    99.31,2,     0.34,    35.11,2,     0.13,     0.01,2,     0.01,    2.484,2,    0.016,    0.005,2,    0.004,2,    0.000,2,   -999.0,9,   -999.0,9,-999.0000,-999,9,  -999.00,9,  -999.00,   -999.0,9,   -999.0,   2.4532,  27.6355
  49NZ20090521,   P21,   274,  1,     18, X12006,2,20090615,1303,-23.1370, 158.5818, 2535,   2001.9,2,   2.3771,2,   2.37702,2,  34.6515,2,  34.6519,2,   156.27,2,   156.53,2,    99.09,2,     0.34,    34.55,2,     0.13,     0.01,2,     0.01,    2.438,2,    0.016,    0.007,2,    0.003,2,    0.000,2,   -999.0,9,   -999.0,9,-999.0000,-999,9,  -999.00,9,  -999.00,   -999.0,9,   -999.0,   2.2347,  27.6735
  49NZ20090521,   P21,   274,  1,     17, X12047,2,20090615,1303,-23.1370, 158.5818, 2535,   2202.7,2,   2.2131,2,   2.21316,2,  34.6766,2,  34.6770,2,   165.93,2,   166.05,2,    95.95,2,     0.33,    33.61,2,     0.13,     0.01,2,     0.01,    2.373,2,    0.016,    0.007,2,    0.004,2,    0.000,2,   -999.0,9,   -999.0,9,-999.0000,-999,9,  -999.00,9,  -999.00,   -999.0,9,   -999.0,   2.0557,  27.7082
  49NZ20090521,   P21,   274,  1,     16, X12004,2,20090615,1303,-23.1370, 158.5818, 2535,   2399.7,2,   2.0155,2,   2.01575,2,  34.6999,2,  34.7007,2,   174.92,2,   175.20,2,    95.51,2,     0.33,    33.04,2,     0.13,     0.01,2,     0.01,    2.317,2,    0.016,    0.008,2,    0.003,2,    0.000,2,   -999.0,9,   -999.0,9,-999.0000,-999,9,  -999.00,9,  -999.00,   -999.0,9,   -999.0,   1.8438,  27.7435
  49NZ20090521,   P21,   274,  1,     15, X12003,9,20090615,1303,-23.1370, 158.5818, 2535,     10.1,2,  23.6482,2,  23.64860,2,  35.2336,2,-999.0000,9,   210.85,2,  -999.00,9,  -999.00,9,  -999.00,  -999.00,9,  -999.00,  -999.00,9,  -999.00, -999.000,9, -999.000, -999.000,9, -999.000,9, -999.000,9,   -999.0,9,   -999.0,9,-999.0000,-999,9,  -999.00,9,  -999.00,   -999.0,9,   -999.0,  23.6461,  23.9227
  49NZ20090521,   P21,   274,  1,     14, X12002,9,20090615,1303,-23.1370, 158.5818, 2535,     49.6,2,  23.4691,2,  23.46925,2,  35.2473,2,-999.0000,9,   211.24,2,  -999.00,9,  -999.00,9,  -999.00,  -999.00,9,  -999.00,  -999.00,9,  -999.00, -999.000,9, -999.000, -999.000,9, -999.000,9, -999.000,9,   -999.0,9,   -999.0,9,-999.0000,-999,9,  -999.00,9,  -999.00,   -999.0,9,   -999.0,  23.4588,  23.9879
  49NZ20090521,   P21,   274,  1,     13, X12001,9,20090615,1303,-23.1370, 158.5818, 2535,     99.7,2,  22.8509,2,  22.86204,2,  35.5254,2,-999.0000,9,   177.59,2,  -999.00,9,  -999.00,9,  -999.00,  -999.00,9,  -999.00,  -999.00,9,  -999.00, -999.000,9, -999.000, -999.000,9, -999.000,9, -999.000,9,   -999.0,9,   -999.0,9,-999.0000,-999,9,  -999.00,9,  -999.00,   -999.0,9,   -999.0,  22.8306,  24.3810
  49NZ20090521,   P21,   274,  1,     12, X12030,9,20090615,1303,-23.1370, 158.5818, 2535,    150.7,2,  20.6834,2,  20.68482,2,  35.6384,2,-999.0000,9,   174.86,2,  -999.00,9,  -999.00,9,  -999.00,  -999.00,9,  -999.00,  -999.00,9,  -999.00, -999.000,9, -999.000, -999.000,9, -999.000,9, -999.000,9,   -999.0,9,   -999.0,9,-999.0000,-999,9,  -999.00,9,  -999.00,   -999.0,9,   -999.0,  20.6548,  25.0738
  49NZ20090521,   P21,   274,  1,     11, X12044,9,20090615,1303,-23.1370, 158.5818, 2535,    200.2,2,  19.2488,2,  19.24982,2,  35.6491,2,-999.0000,9,   192.32,2,  -999.00,9,  -999.00,9,  -999.00,  -999.00,9,  -999.00,  -999.00,9,  -999.00, -999.000,9, -999.000, -999.000,9, -999.000,9, -999.000,9,   -999.0,9,   -999.0,9,-999.0000,-999,9,  -999.00,9,  -999.00,   -999.0,9,   -999.0,  19.2126,  25.4627
  49NZ20090521,   P21,   274,  1,     10, X12048,9,20090615,1303,-23.1370, 158.5818, 2535,    251.9,2,  18.4253,2,  18.42554,2,  35.6076,2,-999.0000,9,   182.20,2,  -999.00,9,  -999.00,9,  -999.00,  -999.00,9,  -999.00,  -999.00,9,  -999.00, -999.000,9, -999.000, -999.000,9, -999.000,9, -999.000,9,   -999.0,9,   -999.0,9,-999.0000,-999,9,  -999.00,9,  -999.00,   -999.0,9,   -999.0,  18.3811,  25.6426
  49NZ20090521,   P21,   274,  1,      9, X12027,9,20090615,1303,-23.1370, 158.5818, 2535,    302.5,2,  17.1460,2,  17.16234,2,  35.5406,2,-999.0000,9,   185.36,2,  -999.00,9,  -999.00,9,  -999.00,  -999.00,9,  -999.00,  -999.00,9,  -999.00, -999.000,9, -999.000, -999.000,9, -999.000,9, -999.000,9,   -999.0,9,   -999.0,9,-999.0000,-999,9,  -999.00,9,  -999.00,   -999.0,9,   -999.0,  17.0955,  25.9065
  49NZ20090521,   P21,   274,  1,      8, X12026,9,20090615,1303,-23.1370, 158.5818, 2535,    400.6,2,  13.6619,2,  13.66186,2,  35.1748,2,-999.0000,9,   185.95,2,  -999.00,9,  -999.00,9,  -999.00,  -999.00,9,  -999.00,  -999.00,9,  -999.00, -999.000,9, -999.000, -999.000,9, -999.000,9, -999.000,9,   -999.0,9,   -999.0,9,-999.0000,-999,9,  -999.00,9,  -999.00,   -999.0,9,   -999.0,  13.6045,  26.4049
  49NZ20090521,   P21,   274,  1,      7, X12025,9,20090615,1303,-23.1370, 158.5818, 2535,    501.2,2,  10.9343,2,  10.93522,2,  34.8530,2,-999.0000,9,   190.78,2,  -999.00,9,  -999.00,9,  -999.00,  -999.00,9,  -999.00,  -999.00,9,  -999.00, -999.000,9, -999.000, -999.000,9, -999.000,9, -999.000,9,   -999.0,9,   -999.0,9,-999.0000,-999,9,  -999.00,9,  -999.00,   -999.0,9,   -999.0,  10.8720,  26.6842
  49NZ20090521,   P21,   274,  1,      6, X12024,9,20090615,1303,-23.1370, 158.5818, 2535,    601.0,2,   8.6032,2,   8.60351,2,  34.6172,2,-999.0000,9,   199.66,2,  -999.00,9,  -999.00,9,  -999.00,  -999.00,9,  -999.00,  -999.00,9,  -999.00, -999.000,9, -999.000, -999.000,9, -999.000,9, -999.000,9,   -999.0,9,   -999.0,9,-999.0000,-999,9,  -999.00,9,  -999.00,   -999.0,9,   -999.0,   8.5385,  26.8911
  49NZ20090521,   P21,   274,  1,      5, X12028,9,20090615,1303,-23.1370, 158.5818, 2535,    700.7,2,   6.9178,2,   6.91832,2,  34.4571,2,-999.0000,9,   203.79,2,  -999.00,9,  -999.00,9,  -999.00,  -999.00,9,  -999.00,  -999.00,9,  -999.00, -999.000,9, -999.000, -999.000,9, -999.000,9, -999.000,9,   -999.0,9,   -999.0,9,-999.0000,-999,9,  -999.00,9,  -999.00,   -999.0,9,   -999.0,   6.8508,  27.0116
  49NZ20090521,   P21,   274,  1,      4, X12022,9,20090615,1303,-23.1370, 158.5818, 2535,    800.5,2,   5.9292,2,   5.92969,2,  34.4176,2,-999.0000,9,   197.24,2,  -999.00,9,  -999.00,9,  -999.00,  -999.00,9,  -999.00,  -999.00,9,  -999.00, -999.000,9, -999.000, -999.000,9, -999.000,9, -999.000,9,   -999.0,9,   -999.0,9,-999.0000,-999,9,  -999.00,9,  -999.00,   -999.0,9,   -999.0,   5.8581,  27.1103
  49NZ20090521,   P21,   274,  1,      3, X12021,9,20090615,1303,-23.1370, 158.5818, 2535,    150.7,2,  20.6861,2,  20.68584,2,  35.6381,2,-999.0000,9,   174.51,2,  -999.00,9,  -999.00,9,  -999.00,  -999.00,9,  -999.00,  -999.00,9,  -999.00, -999.000,9, -999.000, -999.000,9, -999.000,9, -999.000,9,   -999.0,9,   -999.0,9,-999.0000,-999,9,  -999.00,9,  -999.00,   -999.0,9,   -999.0,  20.6575,  25.0728
  49NZ20090521,   P21,   274,  1,      2, X12020,9,20090615,1303,-23.1370, 158.5818, 2535,   1399.0,2,   3.2896,2,   3.28969,2,  34.5602,2,-999.0000,9,   151.76,2,  -999.00,9,  -999.00,9,  -999.00,  -999.00,9,  -999.00,  -999.00,9,  -999.00, -999.000,9, -999.000, -999.000,9, -999.000,9, -999.000,9,   -999.0,9,   -999.0,9,-999.0000,-999,9,  -999.00,9,  -999.00,   -999.0,9,   -999.0,   3.1870,  27.5167
  49NZ20090521,   P21,   274,  1,      1, X12019,2,20090615,1303,-23.1370, 158.5818, 2535,   2551.5,2,   1.7635,2,   1.76337,2,  34.7148,2,  34.7152,6,   182.24,2,   182.20,2,    99.27,2,     0.34,    32.53,2,     0.12,     0.01,2,     0.01,    2.278,2,    0.016,    0.009,2,    0.004,2,    0.000,2,   -999.0,9,   -999.0,9,-999.0000,-999,9,  -999.00,9,  -999.00,   -999.0,9,   -999.0,   1.5827,  27.7752