BOTTLE,20111109CCHDOSIOCBG
EXPOCODE,SECT_ID,STNNBR,CASTNO,SAMPNO,BTLNBR,BTLNBR_FLAG_W,DATE,TIME,LATITUDE,LONGITUDE,DEPTH,CTDPRS,CTDPRS_FLAG_W,CTDTMP,CTDTMP_FLAG_W,SBE35,SBE35_FLAG_W,CTDSAL,CTDSAL_FLAG_W,SALNTY,SALNTY_FLAG_W,CTDOXY,CTDOXY_FLAG_W,OXYGEN,OXYGEN_FLAG_W,SILCAT,SILCAT_FLAG_W,SILUNC,NITRAT,NITRAT_FLAG_W,NRAUNC,NITRIT,NITRIT_FLAG_W,NRIUNC,PHSPHT,PHSPHT_FLAG_W,PHPUNC,CFC-11,CFC-11_FLAG_W,CFC-12,CFC-12_FLAG_W,CFC113,CFC113_FLAG_W,TCARBN,TCARBN_FLAG_W,ALKALI,ALKALI_FLAG_W,PH_TOT,PH_TMP,PH_TOT_FLAG_W,DELC13,DELC13_FLAG_W,C13ERR,DELC14,DELC14_FLAG_W,C14ERR,THETA,SIG0
,,,,,,,,,,,METERS,DBAR,,ITS-90,,ITS-90,,PSS-78,,PSS-78,,UMOL/KG,,UMOL/KG,,UMOL/KG,,UMOL/KG,UMOL/KG,,UMOL/KG,UMOL/KG,,UMOL/KG,UMOL/KG,,UMOL/KG,PMOL/KG,,PMOL/KG,,PMOL/KG,,UMOL/KG,,UMOL/KG,,,DEG C,,/MILLE,,/MILLE,/MILLE,,/MILLE,DEG C,KG/M^3
  49NZ20090521,   P21,   194,  1,      0,   -999,9,20090601,0350,-17.5090,-169.0067, 5321,   -999.0,9,-999.0000,9,-999.00000,9,-999.0000,9,  35.0272,2,  -999.00,9,  -999.00,9,  -999.00,9,  -999.00,  -999.00,9,  -999.00,  -999.00,9,  -999.00, -999.000,9, -999.000, -999.000,9, -999.000,9, -999.000,9,   -999.0,9,   -999.0,9,-999.0000,-999,9,  -999.00,9,  -999.00,   -999.0,9,   -999.0,-999.0000,-999.0000
  49NZ20090521,   P21,   194,  1,     36, X12043,2,20090601,0350,-17.5090,-169.0067, 5321,     11.1,2,  27.9316,2,  27.93071,2,  35.0594,2,  35.0533,2,   199.18,2,   198.81,2,     0.62,2,     0.12,     0.08,2,     0.03,     0.01,2,     0.01,    0.056,2,    0.032,    1.444,2,    0.917,2, -999.000,5,   -999.0,9,   -999.0,9,-999.0000,-999,9,  -999.00,9,  -999.00,   -999.0,9,   -999.0,  27.9290,  22.4625
  49NZ20090521,   P21,   194,  1,     35, X12042,2,20090601,0350,-17.5090,-169.0067, 5321,     50.5,2,  27.4080,2,  27.40785,2,  35.2496,2,  35.2626,2,   200.44,2,   200.49,2,     0.60,2,     0.12,     0.07,2,     0.03,     0.01,2,     0.01,    0.086,2,    0.024,    1.476,2,    0.931,2, -999.000,5,   -999.0,9,   -999.0,9,-999.0000,-999,9,  -999.00,9,  -999.00,   -999.0,9,   -999.0,  27.3963,  22.7785
  49NZ20090521,   P21,   194,  1,     34, X12016,2,20090601,0350,-17.5090,-169.0067, 5321,     99.9,2,  25.3835,2,  25.38599,2,  35.7488,2,  35.7471,2,   205.77,2,   205.02,2,     0.65,2,     0.12,     0.06,2,     0.03,     0.01,2,     0.01,    0.151,2,    0.018,    1.665,6,    1.039,6, -999.000,5,   -999.0,9,   -999.0,9,-999.0000,-999,9,  -999.00,9,  -999.00,   -999.0,9,   -999.0,  25.3615,  23.7965
  49NZ20090521,   P21,   194,  1,     33, X12015,2,20090601,0350,-17.5090,-169.0067, 5321,    150.4,2,  23.8436,2,  23.84869,2,  35.9458,2,  35.9427,2,   175.40,2,   174.64,2,     0.75,2,     0.12,     1.12,2,     0.04,     0.03,2,     0.01,    0.315,2,    0.014,    1.802,2,    1.100,2,    0.173,4,   -999.0,9,   -999.0,9,-999.0000,-999,9,  -999.00,9,  -999.00,   -999.0,9,   -999.0,  23.8120,  24.4134
  49NZ20090521,   P21,   194,  1,     32, X12050,2,20090601,0350,-17.5090,-169.0067, 5321,    200.5,2,  22.0217,2,  22.02071,2,  35.8921,2,  35.8901,2,   168.51,2,   167.84,2,     0.88,2,     0.12,     3.00,2,     0.04,     0.02,2,     0.01,    0.427,2,    0.013,    1.989,2,    1.177,2,    0.076,2,   -999.0,9,   -999.0,9,-999.0000,-999,9,  -999.00,9,  -999.00,   -999.0,9,   -999.0,  21.9818,  24.9010
  49NZ20090521,   P21,   194,  1,     31, X12014,2,20090601,0350,-17.5090,-169.0067, 5321,    249.2,2,  19.9327,2,  19.93330,2,  35.6666,2,  35.6628,6,   172.82,2,   172.29,2,     1.01,2,     0.12,     4.18,2,     0.04,     0.02,2,     0.01,    0.490,2,    0.013,    2.160,2,    1.246,2,    0.031,2,   -999.0,9,   -999.0,9,-999.0000,-999,9,  -999.00,9,  -999.00,   -999.0,9,   -999.0,  19.8865,  25.3003
  49NZ20090521,   P21,   194,  1,     30, X12012,2,20090601,0350,-17.5090,-169.0067, 5321,    280.6,2,  18.2306,2,  18.23144,2,  35.4591,2,  35.4579,2,   175.75,2,   175.36,2,     1.49,2,     0.12,     5.43,2,     0.05,     0.02,2,     0.01,    0.571,2,    0.013,    2.263,2,    1.270,2,    0.015,2,   -999.0,9,   -999.0,9,-999.0000,-999,9,  -999.00,9,  -999.00,   -999.0,9,   -999.0,  18.1817,  25.5786
  49NZ20090521,   P21,   194,  1,     29, X12041,2,20090601,0350,-17.5090,-169.0067, 5321,    370.3,2,  13.3979,2,  13.39940,2,  34.9161,2,  34.9160,2,   163.16,2,   162.46,2,     5.54,2,     0.13,    13.67,2,     0.07,     0.01,2,     0.01,    1.137,2,    0.013,    2.004,6,    1.053,6,    0.018,6,   -999.0,9,   -999.0,9,-999.0000,-999,9,  -999.00,9,  -999.00,   -999.0,9,   -999.0,  13.3457,  26.2579
  49NZ20090521,   P21,   194,  1,     28, X12040,2,20090601,0350,-17.5090,-169.0067, 5321,    469.7,2,  10.0397,2,  10.04043,2,  34.6129,2,  34.6125,6,   161.45,2,   161.16,2,     9.99,2,     0.14,    20.91,2,     0.09,     0.01,2,     0.01,    1.589,2,    0.014,    1.602,2,    0.806,2,    0.021,2,   -999.0,9,   -999.0,9,-999.0000,-999,9,  -999.00,9,  -999.00,   -999.0,9,   -999.0,   9.9846,  26.6523
  49NZ20090521,   P21,   194,  1,     27, X12009,2,20090601,0350,-17.5090,-169.0067, 5321,    570.9,2,   7.2772,2,   7.27705,2,  34.4263,2,  34.4267,2,   175.53,2,   175.20,2,    15.57,2,     0.15,    26.72,2,     0.11,     0.01,2,     0.01,    1.912,2,    0.015,    1.100,6,    0.537,6,    0.018,6,   -999.0,9,   -999.0,9,-999.0000,-999,9,  -999.00,9,  -999.00,   -999.0,9,   -999.0,   7.2216,  26.9360
  49NZ20090521,   P21,   194,  1,     26, X12008,2,20090601,0350,-17.5090,-169.0067, 5321,    670.8,2,   5.7380,2,   5.73846,2,  34.3629,2,  34.3621,2,   187.97,2,   187.66,2,    22.09,2,     0.17,    29.44,2,     0.12,     0.01,2,     0.01,    2.059,2,    0.015,    0.603,2,    0.299,2,    0.008,2,   -999.0,9,   -999.0,9,-999.0000,-999,9,  -999.00,9,  -999.00,   -999.0,9,   -999.0,   5.6801,  27.0892
  49NZ20090521,   P21,   194,  1,     25, X12007,2,20090601,0350,-17.5090,-169.0067, 5321,    769.7,2,   4.8955,2,   4.89567,2,  34.4010,2,  34.4011,2,   168.16,2,   167.90,2,    38.29,2,     0.20,    32.55,2,     0.12,     0.01,2,     0.01,    2.279,2,    0.016,    0.172,2,    0.089,2,    0.000,2,   -999.0,9,   -999.0,9,-999.0000,-999,9,  -999.00,9,  -999.00,   -999.0,9,   -999.0,   4.8334,  27.2193
  49NZ20090521,   P21,   194,  1,     24, X12035,2,20090601,0350,-17.5090,-169.0067, 5321,    871.4,2,   4.4259,2,   4.43294,2,  34.4446,2,  34.4444,2,   157.04,2,   156.97,2,    51.14,2,     0.23,    33.73,2,     0.13,     0.01,2,     0.01,    2.372,2,    0.016,    0.072,2,    0.038,2,    0.000,2,   -999.0,9,   -999.0,9,-999.0000,-999,9,  -999.00,9,  -999.00,   -999.0,9,   -999.0,   4.3580,  27.3065
  49NZ20090521,   P21,   194,  1,     23, X12038,2,20090601,0350,-17.5090,-169.0067, 5321,    970.3,2,   3.9118,2,   3.91137,2,  34.4664,2,  34.4659,6,   155.28,2,   155.16,2,    60.48,2,     0.25,    34.56,2,     0.13,     0.01,2,     0.01,    2.427,2,    0.016,    0.033,2,    0.017,2,    0.000,2,   -999.0,9,   -999.0,9,-999.0000,-999,9,  -999.00,9,  -999.00,   -999.0,9,   -999.0,   3.8393,  27.3782
  49NZ20090521,   P21,   194,  1,     22, X12034,2,20090601,0350,-17.5090,-169.0067, 5321,   1130.6,2,   3.3380,2,   3.33761,2,  34.5229,2,  34.5224,2,   148.01,2,   147.77,2,    77.76,2,     0.29,    35.57,2,     0.13,     0.01,2,     0.01,    2.504,2,    0.016,    0.008,2,    0.004,2,    0.000,2,   -999.0,9,   -999.0,9,-999.0000,-999,9,  -999.00,9,  -999.00,   -999.0,9,   -999.0,   3.2571,  27.4803
  49NZ20090521,   P21,   194,  1,     21, X12033,2,20090601,0350,-17.5090,-169.0067, 5321,   1330.9,2,   2.9467,2,   2.94683,2,  34.5626,2,  34.5621,2,   144.65,2,   144.50,2,    89.96,2,     0.32,    35.94,2,     0.13,     0.01,2,     0.01,    2.532,2,    0.016,    0.000,2,    0.002,2,    0.000,2,   -999.0,9,   -999.0,9,-999.0000,-999,9,  -999.00,9,  -999.00,   -999.0,9,   -999.0,   2.8533,  27.5492
  49NZ20090521,   P21,   194,  1,     20, X12032,2,20090601,0350,-17.5090,-169.0067, 5321,   1531.2,2,   2.6694,2,   2.66944,2,  34.5883,2,  34.5883,2,   144.67,2,   144.70,2,    98.72,2,     0.34,    36.07,2,     0.13,     0.01,2,     0.01,    2.541,2,    0.016,    0.000,2,    0.000,2,    0.000,2,   -999.0,9,   -999.0,9,-999.0000,-999,9,  -999.00,9,  -999.00,   -999.0,9,   -999.0,   2.5628,  27.5953
  49NZ20090521,   P21,   194,  1,     19, X12046,2,20090601,0350,-17.5090,-169.0067, 5321,   1733.1,2,   2.4411,2,   2.44123,2,  34.6099,2,  34.6095,2,   144.95,2,   144.90,2,   106.34,2,     0.35,    36.15,2,     0.13,     0.01,2,     0.01,    2.545,2,    0.016,    0.000,2,    0.000,2,    0.000,2,   -999.0,9,   -999.0,9,-999.0000,-999,9,  -999.00,9,  -999.00,   -999.0,9,   -999.0,   2.3207,  27.6331
  49NZ20090521,   P21,   194,  1,     18, X12006,2,20090601,0350,-17.5090,-169.0067, 5321,   1930.5,2,   2.2697,2,   2.26973,2,  34.6250,2,  34.6251,2,   145.54,2,   145.39,2,   111.73,2,     0.36,    36.23,2,     0.13,     0.01,2,     0.01,    2.547,2,    0.016,    0.000,2,    0.000,2,    0.000,2,   -999.0,9,   -999.0,9,-999.0000,-999,9,  -999.00,9,  -999.00,   -999.0,9,   -999.0,   2.1351,  27.6605
  49NZ20090521,   P21,   194,  1,     17, X12047,2,20090601,0350,-17.5090,-169.0067, 5321,   2132.9,2,   2.1093,2,   2.10936,2,  34.6384,2,  34.6383,2,   147.07,2,   147.02,2,   116.30,2,     0.37,    36.11,2,     0.13,     0.01,2,     0.01,    2.543,2,    0.016,    0.000,2,    0.000,2,    0.000,2,   -999.0,9,   -999.0,9,-999.0000,-999,9,  -999.00,9,  -999.00,   -999.0,9,   -999.0,   1.9598,  27.6852
  49NZ20090521,   P21,   194,  1,     16, X12004,2,20090601,0350,-17.5090,-169.0067, 5321,   2329.5,2,   1.9867,2,   1.98679,2,  34.6490,2,  34.6490,2,   148.27,2,   148.16,2,   119.94,2,     0.38,    36.10,2,     0.13,     0.01,2,     0.01,    2.535,2,    0.016,    0.000,2,    0.000,2,    0.000,2,   -999.0,9,   -999.0,9,-999.0000,-999,9,  -999.00,9,  -999.00,   -999.0,9,   -999.0,   1.8220,  27.7044
  49NZ20090521,   P21,   194,  1,     15, X12003,2,20090601,0350,-17.5090,-169.0067, 5321,   2530.6,2,   1.8784,2,   1.87855,2,  34.6581,2,  34.6577,6,   150.94,2,   150.80,2,   122.32,2,     0.39,    35.99,2,     0.13,     0.01,2,     0.01,    2.524,2,    0.016,    0.000,2,    0.000,2,    0.000,2,   -999.0,9,   -999.0,9,-999.0000,-999,9,  -999.00,9,  -999.00,   -999.0,9,   -999.0,   1.6976,  27.7212
  49NZ20090521,   P21,   194,  1,     14, X12002,2,20090601,0350,-17.5090,-169.0067, 5321,   2730.1,2,   1.8011,2,   1.80117,2,  34.6647,2,  34.6644,2,   152.65,2,   152.44,2,   124.55,2,     0.39,    35.88,2,     0.13,     0.01,2,     0.01,    2.514,2,    0.016,    0.000,2,    0.000,2,    0.000,2,   -999.0,9,   -999.0,9,-999.0000,-999,9,  -999.00,9,  -999.00,   -999.0,9,   -999.0,   1.6034,  27.7335
  49NZ20090521,   P21,   194,  1,     13, X12001,2,20090601,0350,-17.5090,-169.0067, 5321,   2929.5,2,   1.7418,2,   1.74197,2,  34.6702,2,  34.6698,2,   151.71,2,   151.62,2,   128.10,2,     0.40,    35.98,2,     0.13,     0.01,2,     0.01,    2.525,2,    0.016,    0.001,2,    0.000,2,    0.000,2,   -999.0,9,   -999.0,9,-999.0000,-999,9,  -999.00,9,  -999.00,   -999.0,9,   -999.0,   1.5265,  27.7435
  49NZ20090521,   P21,   194,  1,     12, X12030,2,20090601,0350,-17.5090,-169.0067, 5321,   3170.4,2,   1.6683,2,   1.66843,2,  34.6760,2,  34.6748,3,   155.30,2,   155.18,2,   128.99,2,     0.40,    35.60,2,     0.13,     0.01,2,     0.01,    2.500,2,    0.016,    0.000,2,    0.000,2,    0.000,2,   -999.0,9,   -999.0,9,-999.0000,-999,9,  -999.00,9,  -999.00,   -999.0,9,   -999.0,   1.4312,  27.7552
  49NZ20090521,   P21,   194,  1,     11, X12044,2,20090601,0350,-17.5090,-169.0067, 5321,   3423.6,2,   1.5968,2,   1.59684,2,  34.6821,2,  34.6819,2,   159.86,2,   159.74,2,   128.17,2,     0.40,    35.26,2,     0.13,     0.01,2,     0.01,    2.472,2,    0.016,    0.002,2,    0.000,2,    0.000,2,   -999.0,9,   -999.0,9,-999.0000,-999,9,  -999.00,9,  -999.00,   -999.0,9,   -999.0,   1.3360,  27.7669
  49NZ20090521,   P21,   194,  1,     10, X12048,2,20090601,0350,-17.5090,-169.0067, 5321,   3671.2,2,   1.4997,2,   1.49973,2,  34.6926,2,  34.6925,2,   171.01,2,   171.03,2,   124.12,2,     0.39,    34.45,2,     0.13,     0.01,2,     0.01,    2.411,2,    0.016,    0.009,2,    0.005,2,    0.000,2,   -999.0,9,   -999.0,9,-999.0000,-999,9,  -999.00,9,  -999.00,   -999.0,9,   -999.0,   1.2158,  27.7837
  49NZ20090521,   P21,   194,  1,      9, X12027,2,20090601,0350,-17.5090,-169.0067, 5321,   3921.8,2,   1.3574,2,   1.35749,2,  34.7073,2,  34.7072,6,   189.05,2,   188.88,2,   115.75,2,     0.37,    33.04,2,     0.13,     0.01,2,     0.01,    2.303,2,    0.016,    0.008,2,    0.004,2,    0.000,2,   -999.0,9,   -999.0,9,-999.0000,-999,9,  -999.00,9,  -999.00,   -999.0,9,   -999.0,   1.0508,  27.8067
  49NZ20090521,   P21,   194,  1,      8, X12026,2,20090601,0350,-17.5090,-169.0067, 5321,   4170.9,2,   1.2328,2,   1.23280,2,  34.7135,2,  34.7137,2,   199.60,2,   199.47,2,   113.01,2,     0.37,    32.36,2,     0.12,     0.01,2,     0.01,    2.250,2,    0.016,    0.018,2,    0.010,2,    0.000,2,   -999.0,9,   -999.0,9,-999.0000,-999,9,  -999.00,9,  -999.00,   -999.0,9,   -999.0,   0.9027,  27.8215
  49NZ20090521,   P21,   194,  1,      7, X12025,2,20090601,0350,-17.5090,-169.0067, 5321,   4422.7,2,   1.0962,2,   1.09629,2,  34.7115,2,  34.7112,2,   204.37,2,   204.04,2,   115.26,2,     0.37,    32.19,2,     0.12,     0.01,2,     0.01,    2.244,2,    0.016,    0.025,2,    0.012,2,    0.000,2,   -999.0,9,   -999.0,9,-999.0000,-999,9,  -999.00,9,  -999.00,   -999.0,9,   -999.0,   0.7423,  27.8302
  49NZ20090521,   P21,   194,  1,      6, X12024,3,20090601,0350,-17.5090,-169.0067, 5321,   4671.0,2,   1.0554,2,   1.05536,2,  34.7094,2,  34.7099,2,   205.71,2,   205.31,3,   116.93,2,     0.38,    32.28,2,     0.12,     0.01,2,     0.01,    2.249,2,    0.016,    0.030,2,    0.013,2,    0.000,2,   -999.0,9,   -999.0,9,-999.0000,-999,9,  -999.00,9,  -999.00,   -999.0,9,   -999.0,   0.6746,  27.8327
  49NZ20090521,   P21,   194,  1,      5, X12028,2,20090601,0350,-17.5090,-169.0067, 5321,   4919.9,2,   1.0580,2,   1.05810,2,  34.7086,2,  34.7080,3,   206.11,2,   205.86,2,   117.48,2,     0.38,    32.38,2,     0.12,     0.01,2,     0.01,    2.250,2,    0.016,    0.032,2,    0.014,2,    0.000,2,   -999.0,9,   -999.0,9,-999.0000,-999,9,  -999.00,9,  -999.00,   -999.0,9,   -999.0,   0.6481,  27.8338
  49NZ20090521,   P21,   194,  1,      4, X12022,2,20090601,0350,-17.5090,-169.0067, 5321,   5169.5,2,   1.0818,2,   1.08186,2,  34.7082,2,  34.7082,2,   206.21,2,   205.89,2,   117.48,2,     0.38,    32.26,2,     0.12,     0.01,2,     0.01,    2.248,2,    0.016,    0.034,2,    0.013,2,    0.006,2,   -999.0,9,   -999.0,9,-999.0000,-999,9,  -999.00,9,  -999.00,   -999.0,9,   -999.0,   0.6412,  27.8339
  49NZ20090521,   P21,   194,  1,      3, X12021,9,20090601,0350,-17.5090,-169.0067, 5321,   1331.1,2,   2.9465,2,   2.94659,2,  34.5625,2,-999.0000,9,   144.66,2,  -999.00,9,  -999.00,9,  -999.00,  -999.00,9,  -999.00,  -999.00,9,  -999.00, -999.000,9, -999.000, -999.000,9, -999.000,9, -999.000,9,   -999.0,9,   -999.0,9,-999.0000,-999,9,  -999.00,9,  -999.00,   -999.0,9,   -999.0,   2.8531,  27.5491
  49NZ20090521,   P21,   194,  1,      2, X12020,3,20090601,0350,-17.5090,-169.0067, 5321,   2930.4,2,   1.7413,2,   1.74127,2,  34.6702,2,  34.6706,2,   151.77,2,   151.66,3,   127.92,2,     0.40,    35.95,2,     0.13,     0.01,2,     0.01,    2.522,2,    0.016, -999.000,9, -999.000,9, -999.000,9,   -999.0,9,   -999.0,9,-999.0000,-999,9,  -999.00,9,  -999.00,   -999.0,9,   -999.0,   1.5259,  27.7436
  49NZ20090521,   P21,   194,  1,      1, X12019,2,20090601,0350,-17.5090,-169.0067, 5321,   5398.3,2,   1.1089,2,   1.10890,2,  34.7080,2,  34.7082,6,   206.21,2,   205.98,2,   117.51,2,     0.38,    32.34,2,     0.12,     0.01,2,     0.01,    2.251,2,    0.016,    0.034,2,    0.017,2,    0.008,2,   -999.0,9,   -999.0,9,-999.0000,-999,9,  -999.00,9,  -999.00,   -999.0,9,   -999.0,   0.6392,  27.8339