BOTTLE,20111109CCHDOSIOCBG
EXPOCODE,SECT_ID,STNNBR,CASTNO,SAMPNO,BTLNBR,BTLNBR_FLAG_W,DATE,TIME,LATITUDE,LONGITUDE,DEPTH,CTDPRS,CTDPRS_FLAG_W,CTDTMP,CTDTMP_FLAG_W,SBE35,SBE35_FLAG_W,CTDSAL,CTDSAL_FLAG_W,SALNTY,SALNTY_FLAG_W,CTDOXY,CTDOXY_FLAG_W,OXYGEN,OXYGEN_FLAG_W,SILCAT,SILCAT_FLAG_W,SILUNC,NITRAT,NITRAT_FLAG_W,NRAUNC,NITRIT,NITRIT_FLAG_W,NRIUNC,PHSPHT,PHSPHT_FLAG_W,PHPUNC,CFC-11,CFC-11_FLAG_W,CFC-12,CFC-12_FLAG_W,CFC113,CFC113_FLAG_W,TCARBN,TCARBN_FLAG_W,ALKALI,ALKALI_FLAG_W,PH_TOT,PH_TMP,PH_TOT_FLAG_W,DELC13,DELC13_FLAG_W,C13ERR,DELC14,DELC14_FLAG_W,C14ERR,THETA,SIG0
,,,,,,,,,,,METERS,DBAR,,ITS-90,,ITS-90,,PSS-78,,PSS-78,,UMOL/KG,,UMOL/KG,,UMOL/KG,,UMOL/KG,UMOL/KG,,UMOL/KG,UMOL/KG,,UMOL/KG,UMOL/KG,,UMOL/KG,PMOL/KG,,PMOL/KG,,PMOL/KG,,UMOL/KG,,UMOL/KG,,,DEG C,,/MILLE,,/MILLE,/MILLE,,/MILLE,DEG C,KG/M^3
  49NZ20090521,   P21,   201,  1,      0,   -999,9,20090603,0308,-17.4957,-172.6620, 5168,   -999.0,9,-999.0000,9,-999.00000,9,-999.0000,9,  35.4038,2,  -999.00,9,  -999.00,9,  -999.00,9,  -999.00,  -999.00,9,  -999.00,  -999.00,9,  -999.00, -999.000,9, -999.000, -999.000,9, -999.000,9, -999.000,9,   -999.0,9,   -999.0,9,-999.0000,-999,9,  -999.00,9,  -999.00,   -999.0,9,   -999.0,-999.0000,-999.0000
  49NZ20090521,   P21,   201,  1,     36, X12043,2,20090603,0308,-17.4957,-172.6620, 5168,     10.4,2,  27.8020,2,  27.80207,2,  35.3916,2,  35.3898,2,   197.89,2,   197.90,2,     0.66,2,     0.12,     0.07,2,     0.03,     0.01,2,     0.01,    0.086,2,    0.024,    1.435,2,    0.914,2, -999.000,5,   -999.0,9,   -999.0,9,-999.0000,-999,9,  -999.00,9,  -999.00,   -999.0,9,   -999.0,  27.7996,  22.7546
  49NZ20090521,   P21,   201,  1,     35, X12042,2,20090603,0308,-17.4957,-172.6620, 5168,     50.9,2,  27.8090,2,  27.80900,2,  35.3946,2,  35.3935,2,   197.63,2,   197.93,2,     0.62,2,     0.12,     0.07,2,     0.03,     0.01,2,     0.01,    0.087,2,    0.024,    1.438,2,    0.919,2, -999.000,5,   -999.0,9,   -999.0,9,-999.0000,-999,9,  -999.00,9,  -999.00,   -999.0,9,   -999.0,  27.7971,  22.7577
  49NZ20090521,   P21,   201,  1,     34, X12016,2,20090603,0308,-17.4957,-172.6620, 5168,     98.2,2,  26.4611,2,  26.45703,2,  35.7828,2,  35.7820,2,   197.46,2,   197.96,2,     0.74,2,     0.12,     0.07,2,     0.03,     0.02,2,     0.01,    0.169,2,    0.017,    1.586,6,    0.994,6, -999.000,5,   -999.0,9,   -999.0,9,-999.0000,-999,9,  -999.00,9,  -999.00,   -999.0,9,   -999.0,  26.4388,  23.4861
  49NZ20090521,   P21,   201,  1,     33, X12015,2,20090603,0308,-17.4957,-172.6620, 5168,    149.8,2,  23.8685,2,  23.88110,2,  35.8246,2,  35.8267,3,   175.77,2,   175.91,2,     0.66,2,     0.12,     1.23,2,     0.04,     0.04,2,     0.01,    0.290,2,    0.014,    1.761,2,    1.081,2,    0.149,2,   -999.0,9,   -999.0,9,-999.0000,-999,9,  -999.00,9,  -999.00,   -999.0,9,   -999.0,  23.8370,  24.3142
  49NZ20090521,   P21,   201,  1,     32, X12050,2,20090603,0308,-17.4957,-172.6620, 5168,    198.9,2,  21.9334,2,  21.93156,2,  35.6753,2,  35.6608,2,   180.46,2,   181.33,2,     0.66,2,     0.12,     1.82,2,     0.04,     0.03,2,     0.01,    0.273,2,    0.014,    1.900,2,    1.155,2,    0.130,2,   -999.0,9,   -999.0,9,-999.0000,-999,9,  -999.00,9,  -999.00,   -999.0,9,   -999.0,  21.8940,  24.7608
  49NZ20090521,   P21,   201,  1,     31, X12014,2,20090603,0308,-17.4957,-172.6620, 5168,    252.2,2,  19.9987,2,  20.00119,2,  35.6512,2,  35.6553,6,   173.99,2,   173.79,2,     0.78,2,     0.12,     3.81,2,     0.04,     0.02,2,     0.01,    0.419,2,    0.013,    2.088,2,    1.236,2,    0.038,2,   -999.0,9,   -999.0,9,-999.0000,-999,9,  -999.00,9,  -999.00,   -999.0,9,   -999.0,  19.9518,  25.2713
  49NZ20090521,   P21,   201,  1,     30, X12012,2,20090603,0308,-17.4957,-172.6620, 5168,    299.1,2,  17.8842,2,  17.88289,2,  35.4536,2,  35.4535,2,   177.21,2,   177.13,2,     1.42,2,     0.12,     5.58,2,     0.05,     0.02,2,     0.01,    0.544,2,    0.013,    2.212,2,    1.277,2,    0.022,2,   -999.0,9,   -999.0,9,-999.0000,-999,9,  -999.00,9,  -999.00,   -999.0,9,   -999.0,  17.8328,  25.6608
  49NZ20090521,   P21,   201,  1,     29, X12041,2,20090603,0308,-17.4957,-172.6620, 5168,    397.6,2,  13.7279,2,  13.72087,2,  34.9789,2,  34.9799,2,   160.43,2,   160.56,2,     5.31,2,     0.13,    13.42,2,     0.07,     0.01,2,     0.01,    1.112,2,    0.013,    1.980,6,    1.067,6,    0.029,6,   -999.0,9,   -999.0,9,-999.0000,-999,9,  -999.00,9,  -999.00,   -999.0,9,   -999.0,  13.6708,  26.2396
  49NZ20090521,   P21,   201,  1,     28, X12040,2,20090603,0308,-17.4957,-172.6620, 5168,    498.5,2,   9.3038,2,   9.31090,2,  34.5752,2,  34.5739,6,   180.49,2,   181.30,2,     8.79,2,     0.14,    20.92,2,     0.09,     0.01,2,     0.01,    1.537,2,    0.014,    1.862,2,    0.947,2,    0.040,2,   -999.0,9,   -999.0,9,-999.0000,-999,9,  -999.00,9,  -999.00,   -999.0,9,   -999.0,   9.2479,  26.7455
  49NZ20090521,   P21,   201,  1,     27, X12009,2,20090603,0308,-17.4957,-172.6620, 5168,    600.9,2,   6.9418,2,   6.94376,2,  34.4221,2,  34.4214,2,   181.16,2,   182.10,2,    16.76,2,     0.16,    26.97,2,     0.11,     0.01,2,     0.01,    1.916,2,    0.015,    1.010,6,    0.507,6,    0.025,6,   -999.0,9,   -999.0,9,-999.0000,-999,9,  -999.00,9,  -999.00,   -999.0,9,   -999.0,   6.8847,  26.9794
  49NZ20090521,   P21,   201,  1,     26, X12008,2,20090603,0308,-17.4957,-172.6620, 5168,    701.4,2,   5.7603,2,   5.76039,2,  34.3987,2,  34.3997,2,   174.46,2,   174.76,2,    27.29,2,     0.18,    30.35,2,     0.12,     0.01,2,     0.01,    2.128,2,    0.015,    0.413,2,    0.213,2,    0.000,2,   -999.0,9,   -999.0,9,-999.0000,-999,9,  -999.00,9,  -999.00,   -999.0,9,   -999.0,   5.6994,  27.1151
  49NZ20090521,   P21,   201,  1,     25, X12007,2,20090603,0308,-17.4957,-172.6620, 5168,    799.4,2,   5.1314,2,   5.13129,2,  34.4312,2,  34.4306,2,   160.61,2,   161.09,2,    40.20,2,     0.21,    32.68,2,     0.12,     0.01,2,     0.01,    2.283,2,    0.016,    0.188,2,    0.098,2,    0.000,2,   -999.0,9,   -999.0,9,-999.0000,-999,9,  -999.00,9,  -999.00,   -999.0,9,   -999.0,   5.0653,  27.2168
  49NZ20090521,   P21,   201,  1,     24, X12035,2,20090603,0308,-17.4957,-172.6620, 5168,    900.6,2,   4.4808,2,   4.48194,2,  34.4453,2,  34.4460,2,   155.98,2,   156.21,2,    51.00,2,     0.23,    33.84,2,     0.13,     0.01,2,     0.01,    2.375,2,    0.016,    0.081,2,    0.043,2,    0.000,2,   -999.0,9,   -999.0,9,-999.0000,-999,9,  -999.00,9,  -999.00,   -999.0,9,   -999.0,   4.4101,  27.3015
  49NZ20090521,   P21,   201,  1,     23, X12038,2,20090603,0308,-17.4957,-172.6620, 5168,   1001.4,2,   4.1894,2,   4.18969,2,  34.4866,2,  34.4866,6,   145.48,2,   146.03,2,    62.19,2,     0.26,    34.94,2,     0.13,     0.01,2,     0.01,    2.458,2,    0.016,    0.036,2,    0.020,2,    0.000,2,   -999.0,9,   -999.0,9,-999.0000,-999,9,  -999.00,9,  -999.00,   -999.0,9,   -999.0,   4.1122,  27.3661
  49NZ20090521,   P21,   201,  1,     22, X12034,2,20090603,0308,-17.4957,-172.6620, 5168,   1200.3,2,   3.4916,2,   3.49187,2,  34.5249,2,  34.5246,2,   142.90,2,   143.46,2,    77.45,2,     0.29,    35.76,2,     0.13,     0.01,2,     0.01,    2.522,2,    0.016,    0.008,2,    0.006,2,    0.000,2,   -999.0,9,   -999.0,9,-999.0000,-999,9,  -999.00,9,  -999.00,   -999.0,9,   -999.0,   3.4036,  27.4679
  49NZ20090521,   P21,   201,  1,     21, X12033,2,20090603,0308,-17.4957,-172.6620, 5168,   1401.0,2,   3.0984,2,   3.09825,2,  34.5590,2,  34.5585,2,   140.35,2,   140.91,2,    88.70,2,     0.31,    36.16,2,     0.13,     0.01,2,     0.01,    2.558,2,    0.016,    0.001,2,    0.001,2,    0.000,2,   -999.0,9,   -999.0,9,-999.0000,-999,9,  -999.00,9,  -999.00,   -999.0,9,   -999.0,   2.9977,  27.5333
  49NZ20090521,   P21,   201,  1,     20, X12032,2,20090603,0308,-17.4957,-172.6620, 5168,   1599.9,2,   2.7762,2,   2.77642,2,  34.5811,2,  34.5809,2,   143.11,2,   143.65,2,    96.37,2,     0.33,    36.09,2,     0.13,     0.01,2,     0.01,    2.548,2,    0.016,    0.000,2,    0.001,2,    0.000,2,   -999.0,9,   -999.0,9,-999.0000,-999,9,  -999.00,9,  -999.00,   -999.0,9,   -999.0,   2.6627,  27.5809
  49NZ20090521,   P21,   201,  1,     19, X12046,2,20090603,0308,-17.4957,-172.6620, 5168,   1800.6,2,   2.5656,2,   2.56561,2,  34.6008,2,  34.6012,2,   143.50,2,   144.02,2,   103.49,2,     0.35,    36.13,2,     0.13,     0.01,2,     0.01,    2.549,2,    0.016,    0.001,2,    0.002,2,    0.000,2,   -999.0,9,   -999.0,9,-999.0000,-999,9,  -999.00,9,  -999.00,   -999.0,9,   -999.0,   2.4379,  27.6160
  49NZ20090521,   P21,   201,  1,     18, X12006,2,20090603,0308,-17.4957,-172.6620, 5168,   2000.4,2,   2.3984,2,   2.39852,2,  34.6166,2,  34.6164,2,   143.48,2,   144.07,2,   109.96,2,     0.36,    36.25,2,     0.13,     0.01,2,     0.01,    2.554,2,    0.016,    0.002,2,    0.002,2,    0.000,2,   -999.0,9,   -999.0,9,-999.0000,-999,9,  -999.00,9,  -999.00,   -999.0,9,   -999.0,   2.2559,  27.6438
  49NZ20090521,   P21,   201,  1,     17, X12047,2,20090603,0308,-17.4957,-172.6620, 5168,   2200.6,2,   2.2187,2,   2.21875,2,  34.6316,2,  34.6317,2,   144.31,2,   144.83,2,   114.34,2,     0.37,    36.33,2,     0.13,     0.01,2,     0.01,    2.555,2,    0.016,    0.000,2,    0.000,2,    0.000,2,   -999.0,9,   -999.0,9,-999.0000,-999,9,  -999.00,9,  -999.00,   -999.0,9,   -999.0,   2.0615,  27.6716
  49NZ20090521,   P21,   201,  1,     16, X12004,2,20090603,0308,-17.4957,-172.6620, 5168,   2399.9,2,   2.0199,2,   2.01993,2,  34.6485,2,  34.6484,6,   143.64,2,   144.08,2,   122.13,2,     0.39,    36.36,2,     0.13,     0.01,2,     0.01,    2.563,2,    0.016,    0.000,2,    0.000,2,    0.000,2,   -999.0,9,   -999.0,9,-999.0000,-999,9,  -999.00,9,  -999.00,   -999.0,9,   -999.0,   1.8483,  27.7019
  49NZ20090521,   P21,   201,  1,     15, X12003,2,20090603,0308,-17.4957,-172.6620, 5168,   2602.8,2,   1.9017,2,   1.90199,2,  34.6577,2,  34.6572,2,   141.82,2,   142.14,2,   128.29,2,     0.40,    36.63,2,     0.14,     0.01,2,     0.01,    2.578,2,    0.016,    0.000,2,    0.000,2,    0.000,2,   -999.0,9,   -999.0,9,-999.0000,-999,9,  -999.00,9,  -999.00,   -999.0,9,   -999.0,   1.7138,  27.7196
  49NZ20090521,   P21,   201,  1,     14, X12002,2,20090603,0308,-17.4957,-172.6620, 5168,   2800.5,2,   1.8053,2,   1.80559,2,  34.6651,2,  34.6650,2,   143.69,2,   143.99,2,   131.02,2,     0.41,    36.61,2,     0.14,     0.01,2,     0.01,    2.570,2,    0.016,    0.000,2,    0.000,2,    0.000,2,   -999.0,9,   -999.0,9,-999.0000,-999,9,  -999.00,9,  -999.00,   -999.0,9,   -999.0,   1.6009,  27.7340
  49NZ20090521,   P21,   201,  1,     13, X12001,2,20090603,0308,-17.4957,-172.6620, 5168,   3002.1,2,   1.7096,2,   1.70970,2,  34.6715,2,  34.6714,2,   147.20,2,   147.62,2,   132.47,2,     0.41,    36.24,2,     0.13,     0.01,2,     0.01,    2.548,2,    0.016,    0.001,2,    0.001,2,    0.000,2,   -999.0,9,   -999.0,9,-999.0000,-999,9,  -999.00,9,  -999.00,   -999.0,9,   -999.0,   1.4880,  27.7474
  49NZ20090521,   P21,   201,  1,     12, X12030,2,20090603,0308,-17.4957,-172.6620, 5168,   3250.5,2,   1.6013,2,   1.60145,2,  34.6790,2,  34.6790,2,   154.06,2,   154.52,2,   131.90,2,     0.41,    35.79,2,     0.13,     0.01,2,     0.01,    2.514,2,    0.016,    0.004,2,    0.002,2,    0.000,2,   -999.0,9,   -999.0,9,-999.0000,-999,9,  -999.00,9,  -999.00,   -999.0,9,   -999.0,   1.3578,  27.7628
  49NZ20090521,   P21,   201,  1,     11, X12044,2,20090603,0308,-17.4957,-172.6620, 5168,   3499.0,2,   1.4818,2,   1.48175,2,  34.6925,2,  34.6924,2,   169.79,2,   170.35,2,   124.59,2,     0.39,    34.51,2,     0.13,     0.01,2,     0.01,    2.417,2,    0.016,    0.012,2,    0.005,2,    0.000,2,   -999.0,9,   -999.0,9,-999.0000,-999,9,  -999.00,9,  -999.00,   -999.0,9,   -999.0,   1.2162,  27.7836
  49NZ20090521,   P21,   201,  1,     10, X12048,2,20090603,0308,-17.4957,-172.6620, 5168,   3750.6,2,   1.3295,2,   1.32956,2,  34.7122,2,  34.7125,6,   192.23,2,   192.81,2,   113.18,2,     0.37,    32.64,2,     0.12,     0.01,2,     0.01,    2.278,2,    0.016,    0.030,2,    0.015,2,    0.000,2,   -999.0,9,   -999.0,9,-999.0000,-999,9,  -999.00,9,  -999.00,   -999.0,9,   -999.0,   1.0417,  27.8114
  49NZ20090521,   P21,   201,  1,      9, X12027,2,20090603,0308,-17.4957,-172.6620, 5168,   3999.4,2,   1.1758,2,   1.17599,2,  34.7152,2,  34.7152,2,   201.27,2,   201.85,2,   112.89,2,     0.37,    32.27,2,     0.12,     0.01,2,     0.01,    2.240,2,    0.016,    0.058,2,    0.029,2,    0.007,2,   -999.0,9,   -999.0,9,-999.0000,-999,9,  -999.00,9,  -999.00,   -999.0,9,   -999.0,   0.8659,  27.8253
  49NZ20090521,   P21,   201,  1,      8, X12026,2,20090603,0308,-17.4957,-172.6620, 5168,   4251.2,2,   1.1126,2,   1.11268,2,  34.7132,2,  34.7134,2,   203.41,2,   203.92,2,   114.58,2,     0.37,    32.25,2,     0.12,     0.01,2,     0.01,    2.246,2,    0.016,    0.072,2,    0.035,2,    0.015,2,   -999.0,9,   -999.0,9,-999.0000,-999,9,  -999.00,9,  -999.00,   -999.0,9,   -999.0,   0.7773,  27.8294
  49NZ20090521,   P21,   201,  1,      7, X12025,2,20090603,0308,-17.4957,-172.6620, 5168,   4500.1,2,   1.1043,2,   1.10445,2,  34.7120,2,  34.7123,2,   203.99,2,   204.60,2,   115.56,2,     0.37,    32.30,2,     0.12,     0.01,2,     0.01,    2.242,2,    0.016,    0.077,2,    0.037,2,    0.013,2,   -999.0,9,   -999.0,9,-999.0000,-999,9,  -999.00,9,  -999.00,   -999.0,9,   -999.0,   0.7415,  27.8307
  49NZ20090521,   P21,   201,  1,      6, X12024,2,20090603,0308,-17.4957,-172.6620, 5168,   4750.9,2,   1.0857,2,   1.08568,2,  34.7100,2,  34.7105,2,   204.70,2,   205.25,2,   116.54,2,     0.38,    32.28,2,     0.12,     0.01,2,     0.01,    2.248,2,    0.016,    0.083,2,    0.041,2,    0.017,2,   -999.0,9,   -999.0,9,-999.0000,-999,9,  -999.00,9,  -999.00,   -999.0,9,   -999.0,   0.6947,  27.8320
  49NZ20090521,   P21,   201,  1,      5, X12028,2,20090603,0308,-17.4957,-172.6620, 5168,   5000.5,2,   1.0900,2,   1.09023,2,  34.7091,2,  34.7097,2,   205.06,2,   205.61,2,   117.21,2,     0.38,    32.37,2,     0.12,     0.01,2,     0.01,    2.254,2,    0.016,    0.087,2,    0.044,2,    0.013,2,   -999.0,9,   -999.0,9,-999.0000,-999,9,  -999.00,9,  -999.00,   -999.0,9,   -999.0,   0.6695,  27.8329
  49NZ20090521,   P21,   201,  1,      4, X12022,9,20090603,0308,-17.4957,-172.6620, 5168,     10.2,2,  27.7995,2,  27.79980,2,  35.3916,2,-999.0000,9,   197.87,2,  -999.00,9,  -999.00,9,  -999.00,  -999.00,9,  -999.00,  -999.00,9,  -999.00, -999.000,9, -999.000, -999.000,9, -999.000,9, -999.000,9,   -999.0,9,   -999.0,9,-999.0000,-999,9,  -999.00,9,  -999.00,   -999.0,9,   -999.0,  27.7971,  22.7555
  49NZ20090521,   P21,   201,  1,      3, X12021,9,20090603,0308,-17.4957,-172.6620, 5168,   1401.3,2,   3.0975,2,   3.09707,2,  34.5591,2,-999.0000,9,   140.34,2,  -999.00,9,  -999.00,9,  -999.00,  -999.00,9,  -999.00,  -999.00,9,  -999.00, -999.000,9, -999.000, -999.000,9, -999.000,9, -999.000,9,   -999.0,9,   -999.0,9,-999.0000,-999,9,  -999.00,9,  -999.00,   -999.0,9,   -999.0,   2.9968,  27.5334
  49NZ20090521,   P21,   201,  1,      2, X12020,2,20090603,0308,-17.4957,-172.6620, 5168,   2603.0,2,   1.9020,2,   1.90231,2,  34.6577,2,  34.6574,2,   141.83,2,   142.29,2,   128.20,2,     0.40,    36.60,2,     0.14,     0.01,2,     0.01,    2.580,2,    0.016, -999.000,9, -999.000,9, -999.000,9,   -999.0,9,   -999.0,9,-999.0000,-999,9,  -999.00,9,  -999.00,   -999.0,9,   -999.0,   1.7141,  27.7195
  49NZ20090521,   P21,   201,  1,      1, X12019,2,20090603,0308,-17.4957,-172.6620, 5168,   5204.9,2,   1.1008,2,   1.10077,2,  34.7085,2,  34.7091,6,   205.23,2,   205.75,2,   117.73,2,     0.38,    32.40,2,     0.12,     0.01,2,     0.01,    2.250,2,    0.016,    0.087,2,    0.043,2,    0.006,2,   -999.0,9,   -999.0,9,-999.0000,-999,9,  -999.00,9,  -999.00,   -999.0,9,   -999.0,   0.6552,  27.8332