BOTTLE,20111109CCHDOSIOCBG
EXPOCODE,SECT_ID,STNNBR,CASTNO,SAMPNO,BTLNBR,BTLNBR_FLAG_W,DATE,TIME,LATITUDE,LONGITUDE,DEPTH,CTDPRS,CTDPRS_FLAG_W,CTDTMP,CTDTMP_FLAG_W,SBE35,SBE35_FLAG_W,CTDSAL,CTDSAL_FLAG_W,SALNTY,SALNTY_FLAG_W,CTDOXY,CTDOXY_FLAG_W,OXYGEN,OXYGEN_FLAG_W,SILCAT,SILCAT_FLAG_W,SILUNC,NITRAT,NITRAT_FLAG_W,NRAUNC,NITRIT,NITRIT_FLAG_W,NRIUNC,PHSPHT,PHSPHT_FLAG_W,PHPUNC,CFC-11,CFC-11_FLAG_W,CFC-12,CFC-12_FLAG_W,CFC113,CFC113_FLAG_W,TCARBN,TCARBN_FLAG_W,ALKALI,ALKALI_FLAG_W,PH_TOT,PH_TMP,PH_TOT_FLAG_W,DELC13,DELC13_FLAG_W,C13ERR,DELC14,DELC14_FLAG_W,C14ERR,THETA,SIG0
,,,,,,,,,,,METERS,DBAR,,ITS-90,,ITS-90,,PSS-78,,PSS-78,,UMOL/KG,,UMOL/KG,,UMOL/KG,,UMOL/KG,UMOL/KG,,UMOL/KG,UMOL/KG,,UMOL/KG,UMOL/KG,,UMOL/KG,PMOL/KG,,PMOL/KG,,PMOL/KG,,UMOL/KG,,UMOL/KG,,,DEG C,,/MILLE,,/MILLE,/MILLE,,/MILLE,DEG C,KG/M^3
  49NZ20090521,   P21,   280,  1,      0,   -999,9,20090616,1229,-24.2365, 155.7938, 3897,   -999.0,9,-999.0000,9,-999.00000,9,-999.0000,9,  35.1995,2,  -999.00,9,  -999.00,9,  -999.00,9,  -999.00,  -999.00,9,  -999.00,  -999.00,9,  -999.00, -999.000,9, -999.000, -999.000,9, -999.000,9, -999.000,9,   -999.0,9,   -999.0,9,-999.0000,-999,9,  -999.00,9,  -999.00,   -999.0,9,   -999.0,-999.0000,-999.0000
  49NZ20090521,   P21,   280,  1,     36, X12043,2,20090616,1229,-24.2365, 155.7938, 3897,     10.6,2,  24.1936,2,  24.19321,2,  35.1901,2,  35.1886,2,   206.68,2,   206.15,2,     0.63,2,     0.12,     0.09,2,     0.03,     0.01,2,     0.01,    0.127,2,    0.019,    1.655,2,    1.049,2, -999.000,5,   -999.0,9,   -999.0,9,-999.0000,-999,9,  -999.00,9,  -999.00,   -999.0,9,   -999.0,  24.1914,  23.7284
  49NZ20090521,   P21,   280,  1,     35, X12042,2,20090616,1229,-24.2365, 155.7938, 3897,     49.4,2,  23.2704,2,  23.27042,2,  35.2310,2,  35.2289,2,   214.57,2,   213.86,2,     0.16,2,     0.12,     0.07,2,     0.03,     0.01,2,     0.01,    0.112,2,    0.021,    1.713,2,    1.078,2,    0.176,4,   -999.0,9,   -999.0,9,-999.0000,-999,9,  -999.00,9,  -999.00,   -999.0,9,   -999.0,  23.2602,  24.0335
  49NZ20090521,   P21,   280,  1,     34, X12016,2,20090616,1229,-24.2365, 155.7938, 3897,    100.4,2,  22.8235,2,  22.82370,2,  35.3834,2,  35.3821,2,   212.31,2,   211.81,2,     0.46,2,     0.12,     0.07,2,     0.03,     0.01,2,     0.01,    0.108,2,    0.021,    1.752,6,    1.108,6, -999.000,5,   -999.0,9,   -999.0,9,-999.0000,-999,9,  -999.00,9,  -999.00,   -999.0,9,   -999.0,  22.8031,  24.2811
  49NZ20090521,   P21,   280,  1,     33, X12015,2,20090616,1229,-24.2365, 155.7938, 3897,    150.4,2,  21.3962,2,  21.39574,2,  35.6160,2,  35.6143,2,   158.36,2,   158.14,2,     1.40,2,     0.12,     5.65,2,     0.05,     0.03,2,     0.01,    0.522,2,    0.013,    1.911,2,    1.165,2,    0.054,2,   -999.0,9,   -999.0,9,-999.0000,-999,9,  -999.00,9,  -999.00,   -999.0,9,   -999.0,  21.3669,  24.8622
  49NZ20090521,   P21,   280,  1,     32, X12050,2,20090616,1229,-24.2365, 155.7938, 3897,    200.6,2,  18.8632,2,  18.86652,2,  35.5856,2,  35.5857,2,   167.25,2,   167.39,2,     1.81,2,     0.12,     6.79,2,     0.05,     0.02,2,     0.01,    0.593,2,    0.013,    2.055,2,    1.219,2,    0.032,2,   -999.0,9,   -999.0,9,-999.0000,-999,9,  -999.00,9,  -999.00,   -999.0,9,   -999.0,  18.8275,  25.5129
  49NZ20090521,   P21,   280,  1,     31, X12014,2,20090616,1229,-24.2365, 155.7938, 3897,    249.9,2,  17.7326,2,  17.72767,2,  35.5189,2,  35.5178,6,   170.42,2,   169.95,2,     2.26,2,     0.12,     7.78,2,     0.05,     0.01,2,     0.01,    0.646,2,    0.013,    2.087,2,    1.231,2,    0.018,2,   -999.0,9,   -999.0,9,-999.0000,-999,9,  -999.00,9,  -999.00,   -999.0,9,   -999.0,  17.6899,  25.7459
  49NZ20090521,   P21,   280,  1,     30, X12012,2,20090616,1229,-24.2365, 155.7938, 3897,    299.6,2,  16.3510,2,  16.35582,2,  35.4111,2,  35.4097,2,   173.09,2,   173.31,2,     2.95,2,     0.13,     9.26,2,     0.06,     0.01,2,     0.01,    0.736,2,    0.013,    2.151,2,    1.248,2,    0.024,2,   -999.0,9,   -999.0,9,-999.0000,-999,9,  -999.00,9,  -999.00,   -999.0,9,   -999.0,  16.3026,  25.9941
  49NZ20090521,   P21,   280,  1,     29, X12041,2,20090616,1229,-24.2365, 155.7938, 3897,    400.3,2,  13.2853,2,  13.28702,2,  35.1356,2,  35.1336,2,   185.79,2,   185.74,2,     4.21,2,     0.13,    12.87,2,     0.07,     0.01,2,     0.01,    0.955,2,    0.013,    2.233,6,    1.258,6,    0.037,6,   -999.0,9,   -999.0,9,-999.0000,-999,9,  -999.00,9,  -999.00,   -999.0,9,   -999.0,  13.2290,  26.4517
  49NZ20090521,   P21,   280,  1,     28, X12040,2,20090616,1229,-24.2365, 155.7938, 3897,    501.5,2,  10.6833,2,  10.68351,2,  34.8446,2,  34.8439,6,   193.53,2,   193.33,2,     6.45,2,     0.13,    17.30,2,     0.08,     0.01,2,     0.01,    1.241,2,    0.013,    2.158,2,    1.162,2,    0.042,2,   -999.0,9,   -999.0,9,-999.0000,-999,9,  -999.00,9,  -999.00,   -999.0,9,   -999.0,  10.6219,  26.7223
  49NZ20090521,   P21,   280,  1,     27, X12009,2,20090616,1229,-24.2365, 155.7938, 3897,    601.0,2,   8.5324,2,   8.53307,2,  34.6038,2,  34.6032,2,   196.85,2,   196.74,2,    10.79,2,     0.14,    21.92,2,     0.09,     0.01,2,     0.01,    1.543,2,    0.014,    1.705,6,    0.892,6,    0.031,6,   -999.0,9,   -999.0,9,-999.0000,-999,9,  -999.00,9,  -999.00,   -999.0,9,   -999.0,   8.4680,  26.8915
  49NZ20090521,   P21,   280,  1,     26, X12008,2,20090616,1229,-24.2365, 155.7938, 3897,    700.5,2,   7.0995,2,   7.10050,2,  34.4776,2,  34.4773,2,   201.10,2,   200.86,2,    15.74,2,     0.15,    24.89,2,     0.10,     0.01,2,     0.01,    1.742,2,    0.014,    1.287,2,    0.657,2,    0.035,2,   -999.0,9,   -999.0,9,-999.0000,-999,9,  -999.00,9,  -999.00,   -999.0,9,   -999.0,   7.0315,  27.0029
  49NZ20090521,   P21,   280,  1,     25, X12007,2,20090616,1229,-24.2365, 155.7938, 3897,    800.6,2,   6.2022,2,   6.20279,2,  34.4385,2,  34.4384,2,   195.08,2,   194.98,2,    23.40,2,     0.17,    27.30,2,     0.11,     0.01,2,     0.01,    1.907,2,    0.015,    0.833,2,    0.429,2,    0.015,2,   -999.0,9,   -999.0,9,-999.0000,-999,9,  -999.00,9,  -999.00,   -999.0,9,   -999.0,   6.1294,  27.0924
  49NZ20090521,   P21,   280,  1,     24, X12035,2,20090616,1229,-24.2365, 155.7938, 3897,    900.8,2,   5.5269,2,   5.52714,2,  34.4352,2,  34.4351,2,   187.03,2,   186.95,2,    32.45,2,     0.19,    29.28,2,     0.11,     0.01,2,     0.01,    2.045,2,    0.015,    0.534,2,    0.282,2,    0.011,2,   -999.0,9,   -999.0,9,-999.0000,-999,9,  -999.00,9,  -999.00,   -999.0,9,   -999.0,   5.4490,  27.1745
  49NZ20090521,   P21,   280,  1,     23, X12038,2,20090616,1229,-24.2365, 155.7938, 3897,   1000.3,2,   4.9805,2,   4.98108,2,  34.4494,2,  34.4494,6,   180.13,2,   180.09,2,    42.00,2,     0.21,    30.65,2,     0.12,     0.01,2,     0.01,    2.141,2,    0.015,    0.352,2,    0.187,2,    0.000,2,   -999.0,9,   -999.0,9,-999.0000,-999,9,  -999.00,9,  -999.00,   -999.0,9,   -999.0,   4.8974,  27.2505
  49NZ20090521,   P21,   280,  1,     22, X12034,2,20090616,1229,-24.2365, 155.7938, 3897,   1199.5,2,   3.9572,2,   3.95735,2,  34.5051,2,  34.5051,2,   162.26,2,   162.21,2,    65.89,2,     0.26,    33.23,2,     0.13,     0.01,2,     0.01,    2.340,2,    0.016,    0.100,2,    0.059,2,    0.000,2,   -999.0,9,   -999.0,9,-999.0000,-999,9,  -999.00,9,  -999.00,   -999.0,9,   -999.0,   3.8650,  27.4063
  49NZ20090521,   P21,   280,  1,     21, X12033,2,20090616,1229,-24.2365, 155.7938, 3897,   1401.0,2,   3.3227,2,   3.32289,2,  34.5574,2,  34.5573,2,   153.28,2,   153.30,2,    81.97,2,     0.30,    34.54,2,     0.13,     0.01,2,     0.01,    2.432,2,    0.016,    0.036,2,    0.022,2,    0.000,2,   -999.0,9,   -999.0,9,-999.0000,-999,9,  -999.00,9,  -999.00,   -999.0,9,   -999.0,   3.2196,  27.5114
  49NZ20090521,   P21,   280,  1,     20, X12032,2,20090616,1229,-24.2365, 155.7938, 3897,   1599.8,2,   2.8765,2,   2.87661,2,  34.5977,2,  34.5984,2,   150.46,2,   150.62,2,    91.93,2,     0.32,    35.00,2,     0.13,     0.01,2,     0.01,    2.471,2,    0.016,    0.013,2,    0.008,2,    0.000,2,   -999.0,9,   -999.0,9,-999.0000,-999,9,  -999.00,9,  -999.00,   -999.0,9,   -999.0,   2.7617,  27.5854
  49NZ20090521,   P21,   280,  1,     19, X12046,2,20090616,1229,-24.2365, 155.7938, 3897,   1799.8,2,   2.5107,2,   2.51089,2,  34.6383,2,  34.6400,3,   156.70,2,   156.96,2,    94.42,2,     0.33,    34.57,2,     0.13,     0.01,2,     0.01,    2.434,2,    0.016,    0.007,2,    0.006,2,    0.000,2,   -999.0,9,   -999.0,9,-999.0000,-999,9,  -999.00,9,  -999.00,   -999.0,9,   -999.0,   2.3837,  27.6506
  49NZ20090521,   P21,   280,  1,     18, X12006,2,20090616,1229,-24.2365, 155.7938, 3897,   2000.7,2,   2.3092,2,   2.30909,2,  34.6656,2,  34.6663,6,   164.00,2,   164.09,2,    94.36,2,     0.33,    33.92,2,     0.13,     0.01,2,     0.01,    2.385,2,    0.016,    0.008,2,    0.007,2,    0.000,2,   -999.0,9,   -999.0,9,-999.0000,-999,9,  -999.00,9,  -999.00,   -999.0,9,   -999.0,   2.1679,  27.6903
  49NZ20090521,   P21,   280,  1,     17, X12047,2,20090616,1229,-24.2365, 155.7938, 3897,   2200.3,2,   2.1412,2,   2.14131,2,  34.6908,2,  34.6913,2,   172.41,2,   172.62,2,    92.81,2,     0.32,    33.14,2,     0.13,     0.01,2,     0.01,    2.321,2,    0.016,    0.012,2,    0.007,2,    0.000,2,   -999.0,9,   -999.0,9,-999.0000,-999,9,  -999.00,9,  -999.00,   -999.0,9,   -999.0,   1.9851,  27.7252
  49NZ20090521,   P21,   280,  1,     16, X12004,2,20090616,1229,-24.2365, 155.7938, 3897,   2401.0,2,   1.9728,2,   1.97284,2,  34.7095,2,  34.7096,2,   178.93,2,   179.01,2,    94.13,2,     0.33,    32.66,2,     0.12,     0.01,2,     0.01,    2.275,2,    0.016,    0.010,2,    0.004,2,    0.000,2,   -999.0,9,   -999.0,9,-999.0000,-999,9,  -999.00,9,  -999.00,   -999.0,9,   -999.0,   1.8017,  27.7544
  49NZ20090521,   P21,   280,  1,     15, X12003,2,20090616,1229,-24.2365, 155.7938, 3897,   2601.6,2,   1.8210,2,   1.82111,2,  34.7197,2,  34.7200,2,   183.50,2,   183.55,2,    97.20,2,     0.33,    32.34,2,     0.12,     0.01,2,     0.01,    2.258,2,    0.016,    0.009,2,    0.006,2,    0.000,2,   -999.0,9,   -999.0,9,-999.0000,-999,9,  -999.00,9,  -999.00,   -999.0,9,   -999.0,   1.6345,  27.7753
  49NZ20090521,   P21,   280,  1,     14, X12002,2,20090616,1229,-24.2365, 155.7938, 3897,   2800.4,2,   1.6391,2,   1.63922,2,  34.7233,2,  34.7234,2,   187.37,2,   187.59,2,   101.29,2,     0.34,    32.36,2,     0.12,     0.01,2,     0.01,    2.256,2,    0.016,    0.006,2,    0.004,2,    0.000,2,   -999.0,9,   -999.0,9,-999.0000,-999,9,  -999.00,9,  -999.00,   -999.0,9,   -999.0,   1.4379,  27.7926
  49NZ20090521,   P21,   280,  1,     13, X12001,2,20090616,1229,-24.2365, 155.7938, 3897,   3001.3,2,   1.4440,2,   1.44406,2,  34.7221,2,  34.7220,6,   190.82,2,   190.79,2,   106.15,2,     0.35,    32.46,2,     0.12,     0.01,2,     0.01,    2.258,2,    0.016,    0.004,2,    0.003,2,    0.000,2,   -999.0,9,   -999.0,9,-999.0000,-999,9,  -999.00,9,  -999.00,   -999.0,9,   -999.0,   1.2281,  27.8065
  49NZ20090521,   P21,   280,  1,     12, X12030,2,20090616,1229,-24.2365, 155.7938, 3897,   3248.2,2,   1.2616,2,   1.26124,2,  34.7189,2,  34.7190,2,   193.61,2,   193.73,2,   110.70,2,     0.36,    32.53,2,     0.12,     0.01,2,     0.01,    2.271,2,    0.016,    0.006,2,    0.003,2,    0.000,2,   -999.0,9,   -999.0,9,-999.0000,-999,9,  -999.00,9,  -999.00,   -999.0,9,   -999.0,   1.0262,  27.8177
  49NZ20090521,   P21,   280,  1,     11, X12044,2,20090616,1229,-24.2365, 155.7938, 3897,   3500.4,2,   1.1454,2,   1.14531,2,  34.7157,2,  34.7160,2,   195.31,2,   195.32,2,   113.80,2,     0.37,    32.76,2,     0.12,     0.01,2,     0.01,    2.286,2,    0.016,    0.011,2,    0.005,2,    0.000,2,   -999.0,9,   -999.0,9,-999.0000,-999,9,  -999.00,9,  -999.00,   -999.0,9,   -999.0,   0.8880,  27.8243
  49NZ20090521,   P21,   280,  1,     10, X12048,2,20090616,1229,-24.2365, 155.7938, 3897,   3748.9,2,   1.1524,2,   1.15216,2,  34.7152,2,  34.7156,2,   195.43,2,   195.41,2,   114.42,2,     0.37,    32.78,2,     0.12,     0.01,2,     0.01,    2.283,2,    0.016,    0.013,2,    0.009,2,    0.000,2,   -999.0,9,   -999.0,9,-999.0000,-999,9,  -999.00,9,  -999.00,   -999.0,9,   -999.0,   0.8695,  27.8251
  49NZ20090521,   P21,   280,  1,      9, X12027,9,20090616,1229,-24.2365, 155.7938, 3897,    400.1,2,  13.2770,2,  13.28282,2,  35.1350,2,-999.0000,9,   185.92,2,  -999.00,9,  -999.00,9,  -999.00,  -999.00,9,  -999.00,  -999.00,9,  -999.00, -999.000,9, -999.000, -999.000,9, -999.000,9, -999.000,9,   -999.0,9,   -999.0,9,-999.0000,-999,9,  -999.00,9,  -999.00,   -999.0,9,   -999.0,  13.2207,  26.4529
  49NZ20090521,   P21,   280,  1,      8, X12026,9,20090616,1229,-24.2365, 155.7938, 3897,    700.1,2,   7.1040,2,   7.10365,2,  34.4780,2,-999.0000,9,   201.04,2,  -999.00,9,  -999.00,9,  -999.00,  -999.00,9,  -999.00,  -999.00,9,  -999.00, -999.000,9, -999.000, -999.000,9, -999.000,9, -999.000,9,   -999.0,9,   -999.0,9,-999.0000,-999,9,  -999.00,9,  -999.00,   -999.0,9,   -999.0,   7.0361,  27.0026
  49NZ20090521,   P21,   280,  1,      7, X12025,9,20090616,1229,-24.2365, 155.7938, 3897,    801.7,2,   6.1795,2,   6.18347,2,  34.4383,2,-999.0000,9,   195.30,2,  -999.00,9,  -999.00,9,  -999.00,  -999.00,9,  -999.00,  -999.00,9,  -999.00, -999.000,9, -999.000, -999.000,9, -999.000,9, -999.000,9,   -999.0,9,   -999.0,9,-999.0000,-999,9,  -999.00,9,  -999.00,   -999.0,9,   -999.0,   6.1068,  27.0952
  49NZ20090521,   P21,   280,  1,      6, X12024,9,20090616,1229,-24.2365, 155.7938, 3897,    900.4,2,   5.5291,2,   5.52854,2,  34.4352,2,-999.0000,9,   187.06,2,  -999.00,9,  -999.00,9,  -999.00,  -999.00,9,  -999.00,  -999.00,9,  -999.00, -999.000,9, -999.000, -999.000,9, -999.000,9, -999.000,9,   -999.0,9,   -999.0,9,-999.0000,-999,9,  -999.00,9,  -999.00,   -999.0,9,   -999.0,   5.4512,  27.1743
  49NZ20090521,   P21,   280,  1,      5, X12028,9,20090616,1229,-24.2365, 155.7938, 3897,   1000.7,2,   4.9826,2,   4.98254,2,  34.4494,2,-999.0000,9,   180.27,2,  -999.00,9,  -999.00,9,  -999.00,  -999.00,9,  -999.00,  -999.00,9,  -999.00, -999.000,9, -999.000, -999.000,9, -999.000,9, -999.000,9,   -999.0,9,   -999.0,9,-999.0000,-999,9,  -999.00,9,  -999.00,   -999.0,9,   -999.0,   4.8994,  27.2503
  49NZ20090521,   P21,   280,  1,      4, X12022,9,20090616,1229,-24.2365, 155.7938, 3897,   1199.3,2,   3.9573,2,   3.95742,2,  34.5051,2,-999.0000,9,   162.21,2,  -999.00,9,  -999.00,9,  -999.00,  -999.00,9,  -999.00,  -999.00,9,  -999.00, -999.000,9, -999.000, -999.000,9, -999.000,9, -999.000,9,   -999.0,9,   -999.0,9,-999.0000,-999,9,  -999.00,9,  -999.00,   -999.0,9,   -999.0,   3.8652,  27.4063
  49NZ20090521,   P21,   280,  1,      3, X12021,9,20090616,1229,-24.2365, 155.7938, 3897,    150.9,2,  21.3973,2,  21.40116,2,  35.6182,2,-999.0000,9,   157.48,2,  -999.00,9,  -999.00,9,  -999.00,  -999.00,9,  -999.00,  -999.00,9,  -999.00, -999.000,9, -999.000, -999.000,9, -999.000,9, -999.000,9,   -999.0,9,   -999.0,9,-999.0000,-999,9,  -999.00,9,  -999.00,   -999.0,9,   -999.0,  21.3679,  24.8637
  49NZ20090521,   P21,   280,  1,      2, X12020,9,20090616,1229,-24.2365, 155.7938, 3897,   1400.7,2,   3.3226,2,   3.32273,2,  34.5575,2,-999.0000,9,   153.32,2,  -999.00,9,  -999.00,9,  -999.00,  -999.00,9,  -999.00,  -999.00,9,  -999.00, -999.000,9, -999.000, -999.000,9, -999.000,9, -999.000,9,   -999.0,9,   -999.0,9,-999.0000,-999,9,  -999.00,9,  -999.00,   -999.0,9,   -999.0,   3.2195,  27.5114
  49NZ20090521,   P21,   280,  1,      1, X12019,2,20090616,1229,-24.2365, 155.7938, 3897,   3944.4,2,   1.1633,2,   1.16318,2,  34.7150,2,  34.7153,6,   195.77,2,   195.58,2,   114.51,2,     0.37,    32.79,2,     0.12,     0.01,2,     0.01,    2.287,2,    0.016,    0.012,2,    0.007,2,    0.000,2,   -999.0,9,   -999.0,9,-999.0000,-999,9,  -999.00,9,  -999.00,   -999.0,9,   -999.0,   0.8596,  27.8255