BOTTLE,20111109CCHDOSIOCBG
EXPOCODE,SECT_ID,STNNBR,CASTNO,SAMPNO,BTLNBR,BTLNBR_FLAG_W,DATE,TIME,LATITUDE,LONGITUDE,DEPTH,CTDPRS,CTDPRS_FLAG_W,CTDTMP,CTDTMP_FLAG_W,SBE35,SBE35_FLAG_W,CTDSAL,CTDSAL_FLAG_W,SALNTY,SALNTY_FLAG_W,CTDOXY,CTDOXY_FLAG_W,OXYGEN,OXYGEN_FLAG_W,SILCAT,SILCAT_FLAG_W,SILUNC,NITRAT,NITRAT_FLAG_W,NRAUNC,NITRIT,NITRIT_FLAG_W,NRIUNC,PHSPHT,PHSPHT_FLAG_W,PHPUNC,CFC-11,CFC-11_FLAG_W,CFC-12,CFC-12_FLAG_W,CFC113,CFC113_FLAG_W,TCARBN,TCARBN_FLAG_W,ALKALI,ALKALI_FLAG_W,PH_TOT,PH_TMP,PH_TOT_FLAG_W,DELC13,DELC13_FLAG_W,C13ERR,DELC14,DELC14_FLAG_W,C14ERR,THETA,SIG0
,,,,,,,,,,,METERS,DBAR,,ITS-90,,ITS-90,,PSS-78,,PSS-78,,UMOL/KG,,UMOL/KG,,UMOL/KG,,UMOL/KG,UMOL/KG,,UMOL/KG,UMOL/KG,,UMOL/KG,UMOL/KG,,UMOL/KG,PMOL/KG,,PMOL/KG,,PMOL/KG,,UMOL/KG,,UMOL/KG,,,DEG C,,/MILLE,,/MILLE,/MILLE,,/MILLE,DEG C,KG/M^3
  49NZ20090521,   P21,   233,  1,      0,   -999,9,20090608,1642,-17.8350, 171.0008, 2819,   -999.0,9,-999.0000,9,-999.00000,9,-999.0000,9,  34.8354,2,  -999.00,9,  -999.00,9,  -999.00,9,  -999.00,  -999.00,9,  -999.00,  -999.00,9,  -999.00, -999.000,9, -999.000, -999.000,9, -999.000,9, -999.000,9,   -999.0,9,   -999.0,9,-999.0000,-999,9,  -999.00,9,  -999.00,   -999.0,9,   -999.0,-999.0000,-999.0000
  49NZ20090521,   P21,   233,  1,     36, X12043,2,20090608,1642,-17.8350, 171.0008, 2819,     10.2,2,  26.7818,2,  26.78169,2,  34.8349,2,  34.8325,2,   201.13,2,   200.78,2,     0.71,2,     0.12,     0.10,2,     0.03,     0.01,2,     0.01,    0.079,2,    0.025,    1.521,2,    0.973,2, -999.000,5,   1936.9,2,   2288.2,2,   8.1360,  25,6,  -999.00,9,  -999.00,   -999.0,9,   -999.0,  26.7795,  22.6636
  49NZ20090521,   P21,   233,  1,     35, X12042,2,20090608,1642,-17.8350, 171.0008, 2819,     50.9,2,  26.7195,2,  26.71578,2,  34.8322,2,  34.8326,2,   200.73,2,   200.65,2,     0.68,2,     0.12,     0.09,2,     0.03,     0.01,2,     0.01,    0.073,2,    0.027,    1.523,2,    0.976,2, -999.000,5,   1937.3,6,   2287.2,2,   8.1361,  25,2,  -999.00,9,  -999.00,   -999.0,9,   -999.0,  26.7079,  22.6843
  49NZ20090521,   P21,   233,  1,     34, X12016,2,20090608,1642,-17.8350, 171.0008, 2819,    100.5,2,  25.6807,2,  25.67923,2,  35.3170,2,  35.3192,2,   174.57,2,   174.55,2,     0.92,2,     0.12,     1.56,2,     0.04,     0.09,2,     0.01,    0.273,2,    0.014,    1.679,6,    1.054,6, -999.000,5,   2008.9,2,   2317.9,6,   8.0565,  25,2,  -999.00,9,  -999.00,   -999.0,9,   -999.0,  25.6585,  23.3787
  49NZ20090521,   P21,   233,  1,     33, X12015,2,20090608,1642,-17.8350, 171.0008, 2819,    150.9,2,  22.8609,2,  22.86173,2,  35.5483,2,  35.5516,2,   171.92,2,   171.04,2,     0.84,2,     0.12,     2.69,2,     0.04,     0.02,2,     0.01,    0.318,2,    0.014,    1.867,2,    1.165,2,    0.133,2,   2040.8,2,   2330.3,2,   8.0190,  25,6,  -999.00,9,  -999.00,   -999.0,9,   -999.0,  22.8301,  24.3985
  49NZ20090521,   P21,   233,  1,     32, X12050,2,20090608,1642,-17.8350, 171.0008, 2819,    200.2,2,  21.2446,2,  21.24930,2,  35.7466,2,  35.7448,2,   158.24,2,   157.99,2,     1.19,2,     0.12,     5.12,2,     0.05,     0.02,2,     0.01,    0.515,2,    0.013,    1.995,2,    1.200,2,    0.053,2,   2084.2,2,   2345.1,2,   7.9642,  25,2,  -999.00,9,  -999.00,   -999.0,9,   -999.0,  21.2058,  25.0061
  49NZ20090521,   P21,   233,  1,     31, X12014,2,20090608,1642,-17.8350, 171.0008, 2819,    249.7,2,  19.4560,2,  19.46428,2,  35.6302,2,  35.6294,6,   159.27,2,   159.01,2,     1.76,2,     0.12,     6.49,2,     0.05,     0.01,2,     0.01,    0.616,2,    0.013,    2.090,2,    1.229,2,    0.042,2,   2096.9,2,   2339.8,2,   7.9314,  25,2,  -999.00,9,  -999.00,   -999.0,9,   -999.0,  19.4105,  25.3971
  49NZ20090521,   P21,   233,  1,     30, X12012,2,20090608,1642,-17.8350, 171.0008, 2819,    301.6,2,  17.6182,2,  17.62006,2,  35.4739,2,  35.4736,2,   172.66,2,   172.39,2,     1.95,2,     0.12,     6.90,2,     0.05,     0.01,2,     0.01,    0.606,2,    0.013,    2.194,2,    1.282,2,    0.034,2,   2093.1,2,   2327.5,2,   7.9173,  25,2,  -999.00,9,  -999.00,   -999.0,9,   -999.0,  17.5669,  25.7415
  49NZ20090521,   P21,   233,  1,     29, X12041,2,20090608,1642,-17.8350, 171.0008, 2819,    399.8,2,  12.8426,2,  12.84195,2,  34.9732,2,  34.9717,2,   181.65,2,   181.29,2,     4.67,2,     0.13,    13.42,2,     0.07,     0.01,2,     0.01,    1.036,2,    0.013,    2.168,6,    1.185,6,    0.030,6,   2122.3,2,   2302.7,2,   7.8182,  25,2,  -999.00,9,  -999.00,   -999.0,9,   -999.0,  12.7877,  26.4146
  49NZ20090521,   P21,   233,  1,     28, X12040,2,20090608,1642,-17.8350, 171.0008, 2819,    500.3,2,   8.8952,2,   8.89635,2,  34.5783,2,  34.5778,6,   196.60,2,   196.26,2,     8.64,2,     0.14,    20.71,2,     0.09,     0.00,2,     0.01,    1.490,2,    0.014,    1.940,2,    1.004,2,    0.048,2,   2144.6,2,   2288.1,2,   7.7341,  25,2,  -999.00,9,  -999.00,   -999.0,9,   -999.0,   8.8406,  26.8133
  49NZ20090521,   P21,   233,  1,     27, X12009,2,20090608,1642,-17.8350, 171.0008, 2819,    599.9,2,   7.0038,2,   7.00602,2,  34.4216,2,  34.4207,2,   205.51,2,   205.00,2,    13.15,2,     0.15,    24.80,2,     0.10,     0.01,2,     0.01,    1.744,2,    0.014,    1.483,6,    0.750,6,    0.039,6,   2157.8,2,   2285.6,2,   7.6992,  25,2,  -999.00,9,  -999.00,   -999.0,9,   -999.0,   6.9465,  26.9705
  49NZ20090521,   P21,   233,  1,     26, X12008,2,20090608,1642,-17.8350, 171.0008, 2819,    701.4,2,   5.9357,2,   5.93567,2,  34.3820,2,  34.3818,2,   196.94,2,   196.12,2,    21.43,2,     0.17,    28.12,2,     0.11,     0.01,2,     0.01,    1.963,2,    0.015,    0.808,2,    0.410,2,    0.017,2,   2177.0,6,   2292.4,2,   7.6656,  25,2,  -999.00,9,  -999.00,   -999.0,9,   -999.0,   5.8739,  27.0802
  49NZ20090521,   P21,   233,  1,     25, X12007,2,20090608,1642,-17.8350, 171.0008, 2819,    800.2,2,   5.1923,2,   5.19237,2,  34.3993,2,  34.3996,2,   179.16,2,   178.50,2,    33.78,2,     0.19,    30.94,2,     0.12,     0.00,2,     0.01,    2.167,2,    0.015,    0.351,2,    0.187,2,    0.009,2,   2202.5,2,   2302.9,6,   7.6302,  25,2,  -999.00,9,  -999.00,   -999.0,9,   -999.0,   5.1257,  27.1844
  49NZ20090521,   P21,   233,  1,     24, X12035,2,20090608,1642,-17.8350, 171.0008, 2819,    900.3,2,   4.5410,2,   4.54042,2,  34.4316,2,  34.4315,2,   168.13,2,   167.60,2,    47.22,2,     0.22,    32.68,2,     0.12,     0.01,2,     0.01,    2.284,2,    0.016,    0.168,2,    0.090,2,    0.000,2,   2222.4,2,   2317.5,2,   7.6083,  25,6,  -999.00,9,  -999.00,   -999.0,9,   -999.0,   4.4699,  27.2841
  49NZ20090521,   P21,   233,  1,     23, X12038,2,20090608,1642,-17.8350, 171.0008, 2819,   1000.4,2,   4.1119,2,   4.11194,2,  34.4590,2,  34.4596,6,   163.32,2,   162.88,2,    57.34,2,     0.25,    33.48,2,     0.13,     0.01,2,     0.01,    2.343,2,    0.016,    0.100,2,    0.054,2,    0.000,2,   2234.2,2,   2328.6,2,   7.5991,  25,2,  -999.00,9,  -999.00,   -999.0,9,   -999.0,   4.0354,  27.3521
  49NZ20090521,   P21,   233,  1,     22, X12034,2,20090608,1642,-17.8350, 171.0008, 2819,   1200.0,2,   3.4500,2,   3.45003,2,  34.5193,2,  34.5195,2,   153.58,2,   153.22,2,    76.90,2,     0.29,    34.70,2,     0.13,     0.01,2,     0.01,    2.439,2,    0.016,    0.035,2,    0.019,2,    0.000,2,   2261.9,2,   2350.2,2,   7.5853,  25,2,  -999.00,9,  -999.00,   -999.0,9,   -999.0,   3.3624,  27.4674
  49NZ20090521,   P21,   233,  1,     21, X12033,2,20090608,1642,-17.8350, 171.0008, 2819,   1400.5,2,   3.0552,2,   3.05518,2,  34.5596,2,  34.5598,2,   147.81,2,   147.40,2,    89.91,2,     0.32,    35.44,2,     0.13,     0.01,2,     0.01,    2.494,2,    0.016,    0.012,2,    0.007,2,    0.000,2,   2278.5,2,   2364.7,2,   7.5780,  25,2,  -999.00,9,  -999.00,   -999.0,9,   -999.0,   2.9550,  27.5376
  49NZ20090521,   P21,   233,  1,     20, X12032,2,20090608,1642,-17.8350, 171.0008, 2819,   1600.9,2,   2.7657,2,   2.76631,2,  34.5862,2,  34.5863,2,   146.37,2,   146.00,2,    98.82,2,     0.34,    35.65,2,     0.13,     0.01,2,     0.01,    2.512,2,    0.016,    0.007,2,    0.005,2,    0.000,2,   2289.3,2,   2375.2,2,   7.5772,  25,2,  -999.00,9,  -999.00,   -999.0,9,   -999.0,   2.6522,  27.5859
  49NZ20090521,   P21,   233,  1,     19, X12046,2,20090608,1642,-17.8350, 171.0008, 2819,   1800.2,2,   2.4864,2,   2.48676,2,  34.6107,2,  34.6109,2,   144.78,2,   144.31,2,   107.68,2,     0.36,    35.98,2,     0.13,     0.01,2,     0.01,    2.528,2,    0.016,    0.002,2,    0.001,2,    0.000,2,   2298.3,2,   2385.5,2,   7.5750,  25,2,  -999.00,9,  -999.00,   -999.0,9,   -999.0,   2.3598,  27.6305
  49NZ20090521,   P21,   233,  1,     18, X12006,2,20090608,1642,-17.8350, 171.0008, 2819,   2000.4,2,   2.2607,2,   2.26067,2,  34.6295,2,  34.6294,6,   144.85,2,   144.38,2,   114.72,2,     0.37,    36.00,2,     0.13,     0.01,2,     0.01,    2.540,2,    0.016,    0.001,2,    0.002,2,    0.000,2,   2306.2,2,   2392.7,2,   7.5763,  25,2,  -999.00,9,  -999.00,   -999.0,9,   -999.0,   2.1203,  27.6652
  49NZ20090521,   P21,   233,  1,     17, X12047,2,20090608,1642,-17.8350, 171.0008, 2819,   2200.9,2,   2.1239,2,   2.12400,2,  34.6414,2,  34.6417,2,   145.43,2,   145.11,2,   119.15,2,     0.38,    36.13,2,     0.13,     0.01,2,     0.01,    2.536,2,    0.016,    0.002,2,    0.002,2,    0.000,2,   2308.3,3,   2397.2,2,   7.5786,  25,2,  -999.00,9,  -999.00,   -999.0,9,   -999.0,   1.9682,  27.6869
  49NZ20090521,   P21,   233,  1,     16, X12004,2,20090608,1642,-17.8350, 171.0008, 2819,   2401.2,2,   2.0240,2,   2.02385,2,  34.6495,2,  34.6496,2,   145.18,2,   144.75,2,   122.84,2,     0.39,    36.19,2,     0.13,     0.01,2,     0.01,    2.542,2,    0.016,    0.002,2,    0.000,2,    0.000,2,   2314.0,6,   2400.8,2,   7.5783,  25,2,  -999.00,9,  -999.00,   -999.0,9,   -999.0,   1.8522,  27.7024
  49NZ20090521,   P21,   233,  1,     15, X12003,2,20090608,1642,-17.8350, 171.0008, 2819,   2600.7,2,   1.9657,2,   1.96561,2,  34.6540,2,  34.6535,2,   144.85,2,   144.29,2,   125.41,2,     0.39,    36.26,2,     0.13,     0.01,2,     0.01,    2.549,2,    0.016,    0.004,2,    0.002,2,    0.000,2,   2316.8,2,   2403.4,6,   7.5781,  25,2,  -999.00,9,  -999.00,   -999.0,9,   -999.0,   1.7768,  27.7119
  49NZ20090521,   P21,   233,  1,     14, X12002,9,20090608,1642,-17.8350, 171.0008, 2819,     10.3,2,  26.7769,2,  26.77652,2,  34.8350,2,-999.0000,9,   201.06,2,  -999.00,9,  -999.00,9,  -999.00,  -999.00,9,  -999.00,  -999.00,9,  -999.00, -999.000,9, -999.000, -999.000,9, -999.000,9, -999.000,9,   -999.0,9,   -999.0,9,-999.0000,-999,9,  -999.00,9,  -999.00,   -999.0,9,   -999.0,  26.7746,  22.6653
  49NZ20090521,   P21,   233,  1,     13, X12001,9,20090608,1642,-17.8350, 171.0008, 2819,     50.9,2,  26.7216,2,  26.72030,2,  34.8332,2,-999.0000,9,   200.91,2,  -999.00,9,  -999.00,9,  -999.00,  -999.00,9,  -999.00,  -999.00,9,  -999.00, -999.000,9, -999.000, -999.000,9, -999.000,9, -999.000,9,   -999.0,9,   -999.0,9,-999.0000,-999,9,  -999.00,9,  -999.00,   -999.0,9,   -999.0,  26.7100,  22.6844
  49NZ20090521,   P21,   233,  1,     12, X12030,9,20090608,1642,-17.8350, 171.0008, 2819,    100.2,2,  25.6762,2,  25.67669,2,  35.3171,2,-999.0000,9,   174.93,2,  -999.00,9,  -999.00,9,  -999.00,  -999.00,9,  -999.00,  -999.00,9,  -999.00, -999.000,9, -999.000, -999.000,9, -999.000,9, -999.000,9,   -999.0,9,   -999.0,9,-999.0000,-999,9,  -999.00,9,  -999.00,   -999.0,9,   -999.0,  25.6540,  23.3801
  49NZ20090521,   P21,   233,  1,     11, X12044,9,20090608,1642,-17.8350, 171.0008, 2819,   1400.5,2,   3.0560,2,   3.05616,2,  34.5594,2,-999.0000,9,   147.81,2,  -999.00,9,  -999.00,9,  -999.00,  -999.00,9,  -999.00,  -999.00,9,  -999.00, -999.000,9, -999.000, -999.000,9, -999.000,9, -999.000,9,   -999.0,9,   -999.0,9,-999.0000,-999,9,  -999.00,9,  -999.00,   -999.0,9,   -999.0,   2.9558,  27.5374
  49NZ20090521,   P21,   233,  1,     10, X12048,9,20090608,1642,-17.8350, 171.0008, 2819,      2.8,2,  26.7495,2,  26.74818,2,  34.8340,2,-999.0000,9,   201.16,2,  -999.00,9,  -999.00,9,  -999.00,  -999.00,9,  -999.00,  -999.00,9,  -999.00, -999.000,9, -999.000, -999.000,9, -999.000,9, -999.000,9,   -999.0,9,   -999.0,9,-999.0000,-999,9,  -999.00,9,  -999.00,   -999.0,9,   -999.0,  26.7489,  22.6726
  49NZ20090521,   P21,   233,  1,      9, X12027,2,20090608,1642,-17.8350, 171.0008, 2819,      2.9,2,  26.7533,2,  26.75248,2,  34.8337,2,-999.0000,9,   201.11,2,  -999.00,9,  -999.00,9,  -999.00,  -999.00,9,  -999.00,  -999.00,9,  -999.00, -999.000,9, -999.000, -999.000,9, -999.000,9, -999.000,9,   -999.0,9,   -999.0,9,-999.0000,-999,9,  -999.00,9,  -999.00,   -999.0,9,   -999.0,  26.7526,  22.6712
  49NZ20090521,   P21,   233,  1,      8, X12026,2,20090608,1642,-17.8350, 171.0008, 2819,      2.8,2,  26.7407,2,  26.74047,2,  34.8333,2,-999.0000,9,   201.21,2,  -999.00,9,  -999.00,9,  -999.00,  -999.00,9,  -999.00,  -999.00,9,  -999.00, -999.000,9, -999.000, -999.000,9, -999.000,9, -999.000,9,   -999.0,9,   -999.0,9,-999.0000,-999,9,  -999.00,9,  -999.00,   -999.0,9,   -999.0,  26.7401,  22.6749
  49NZ20090521,   P21,   233,  1,      7, X12025,2,20090608,1642,-17.8350, 171.0008, 2819,     10.4,2,  26.7771,2,  26.77828,2,  34.8349,2,-999.0000,9,   201.10,2,  -999.00,9,  -999.00,9,  -999.00,  -999.00,9,  -999.00,  -999.00,9,  -999.00, -999.000,9, -999.000, -999.000,9, -999.000,9, -999.000,9,   -999.0,9,   -999.0,9,-999.0000,-999,9,  -999.00,9,  -999.00,   -999.0,9,   -999.0,  26.7747,  22.6651
  49NZ20090521,   P21,   233,  1,      6, X12024,2,20090608,1642,-17.8350, 171.0008, 2819,     51.0,2,  26.7225,2,  26.72383,2,  34.8326,2,-999.0000,9,   201.00,2,  -999.00,9,  -999.00,9,  -999.00,  -999.00,9,  -999.00,  -999.00,9,  -999.00, -999.000,9, -999.000, -999.000,9, -999.000,9, -999.000,9,   -999.0,9,   -999.0,9,-999.0000,-999,9,  -999.00,9,  -999.00,   -999.0,9,   -999.0,  26.7109,  22.6836
  49NZ20090521,   P21,   233,  1,      5, X12028,2,20090608,1642,-17.8350, 171.0008, 2819,    100.1,2,  25.6656,2,  25.66377,2,  35.3198,2,-999.0000,9,   174.77,2,  -999.00,9,  -999.00,9,  -999.00,  -999.00,9,  -999.00,  -999.00,9,  -999.00, -999.000,9, -999.000, -999.000,9, -999.000,9, -999.000,9,   -999.0,9,   -999.0,9,-999.0000,-999,9,  -999.00,9,  -999.00,   -999.0,9,   -999.0,  25.6435,  23.3855
  49NZ20090521,   P21,   233,  1,      4, X12022,2,20090608,1642,-17.8350, 171.0008, 2819,    150.8,2,  22.8410,2,  22.84208,2,  35.5498,2,-999.0000,9,   172.07,2,  -999.00,9,  -999.00,9,  -999.00,  -999.00,9,  -999.00,  -999.00,9,  -999.00, -999.000,9, -999.000, -999.000,9, -999.000,9, -999.000,9,   -999.0,9,   -999.0,9,-999.0000,-999,9,  -999.00,9,  -999.00,   -999.0,9,   -999.0,  22.8103,  24.4053
  49NZ20090521,   P21,   233,  1,      3, X12021,2,20090608,1642,-17.8350, 171.0008, 2819,    200.3,2,  21.2318,2,  21.23610,2,  35.7481,2,-999.0000,9,   158.35,2,  -999.00,9,  -999.00,9,  -999.00,  -999.00,9,  -999.00,  -999.00,9,  -999.00, -999.000,9, -999.000, -999.000,9, -999.000,9, -999.000,9,   -999.0,9,   -999.0,9,-999.0000,-999,9,  -999.00,9,  -999.00,   -999.0,9,   -999.0,  21.1930,  25.0107
  49NZ20090521,   P21,   233,  1,      2, X12020,2,20090608,1642,-17.8350, 171.0008, 2819,    249.8,2,  19.4846,2,  19.48344,2,  35.6325,2,-999.0000,9,   159.10,2,  -999.00,9,  -999.00,9,  -999.00,  -999.00,9,  -999.00,  -999.00,9,  -999.00, -999.000,9, -999.000, -999.000,9, -999.000,9, -999.000,9,   -999.0,9,   -999.0,9,-999.0000,-999,9,  -999.00,9,  -999.00,   -999.0,9,   -999.0,  19.4390,  25.3915
  49NZ20090521,   P21,   233,  1,      1, X12019,2,20090608,1642,-17.8350, 171.0008, 2819,   2828.3,2,   1.8549,2,   1.85465,2,  34.6611,2,  34.6610,6,   144.40,2,   144.00,2,   129.69,2,     0.40,    36.36,2,     0.13,     0.00,2,     0.01,    2.559,2,    0.016,    0.004,2,    0.001,2,    0.000,2,   2322.2,2,   2408.3,2,   7.5764,  25,2,  -999.00,9,  -999.00,   -999.0,9,   -999.0,   1.6469,  27.7273