BOTTLE,20111109CCHDOSIOCBG
EXPOCODE,SECT_ID,STNNBR,CASTNO,SAMPNO,BTLNBR,BTLNBR_FLAG_W,DATE,TIME,LATITUDE,LONGITUDE,DEPTH,CTDPRS,CTDPRS_FLAG_W,CTDTMP,CTDTMP_FLAG_W,SBE35,SBE35_FLAG_W,CTDSAL,CTDSAL_FLAG_W,SALNTY,SALNTY_FLAG_W,CTDOXY,CTDOXY_FLAG_W,OXYGEN,OXYGEN_FLAG_W,SILCAT,SILCAT_FLAG_W,SILUNC,NITRAT,NITRAT_FLAG_W,NRAUNC,NITRIT,NITRIT_FLAG_W,NRIUNC,PHSPHT,PHSPHT_FLAG_W,PHPUNC,CFC-11,CFC-11_FLAG_W,CFC-12,CFC-12_FLAG_W,CFC113,CFC113_FLAG_W,TCARBN,TCARBN_FLAG_W,ALKALI,ALKALI_FLAG_W,PH_TOT,PH_TMP,PH_TOT_FLAG_W,DELC13,DELC13_FLAG_W,C13ERR,DELC14,DELC14_FLAG_W,C14ERR,THETA,SIG0
,,,,,,,,,,,METERS,DBAR,,ITS-90,,ITS-90,,PSS-78,,PSS-78,,UMOL/KG,,UMOL/KG,,UMOL/KG,,UMOL/KG,UMOL/KG,,UMOL/KG,UMOL/KG,,UMOL/KG,UMOL/KG,,UMOL/KG,PMOL/KG,,PMOL/KG,,PMOL/KG,,UMOL/KG,,UMOL/KG,,,DEG C,,/MILLE,,/MILLE,/MILLE,,/MILLE,DEG C,KG/M^3
  49NZ20090521,   P21,   174,  1,      0,   -999,9,20090527,0113,-17.4990,-155.6653, 4822,   -999.0,9,-999.0000,9,-999.00000,9,-999.0000,9,  35.9214,2,  -999.00,9,  -999.00,9,  -999.00,9,  -999.00,  -999.00,9,  -999.00,  -999.00,9,  -999.00, -999.000,9, -999.000, -999.000,9, -999.000,9, -999.000,9,   -999.0,9,   -999.0,9,-999.0000,-999,9,  -999.00,9,  -999.00,   -999.0,9,   -999.0,-999.0000,-999.0000
  49NZ20090521,   P21,   174,  1,     36, X12043,2,20090527,0113,-17.4990,-155.6653, 4822,     10.7,2,  28.5839,2,  28.58431,2,  35.9413,2,  35.9402,2,   194.74,2,   195.61,2,     0.71,2,     0.12,     0.09,2,     0.03,     0.01,2,     0.01,    0.203,2,    0.016,    1.412,2,    0.915,2, -999.000,5,   1998.4,2,   2367.1,2,   8.1334,  25,6,  -999.00,9,  -999.00,   -999.0,9,   -999.0,  28.5813,  22.9108
  49NZ20090521,   P21,   174,  1,     35, X12042,2,20090527,0113,-17.4990,-155.6653, 4822,     50.4,2,  28.5216,2,  28.52016,2,  35.9290,2,  35.9352,2,   194.91,2,   196.11,2,     0.61,2,     0.12,     0.09,2,     0.03,     0.01,2,     0.01,    0.199,2,    0.016,    1.422,2,    0.916,2, -999.000,5,   1998.8,6,   2366.9,2,   8.1340,  25,2,  -999.00,9,  -999.00,   -999.0,9,   -999.0,  28.5095,  22.9254
  49NZ20090521,   P21,   174,  1,     34, X12016,2,20090527,0113,-17.4990,-155.6653, 4822,    100.2,2,  26.3154,2,  26.31991,2,  36.2007,2,  36.2017,2,   205.56,2,   206.15,2,     0.56,2,     0.12,     0.09,2,     0.03,     0.01,2,     0.01,    0.190,2,    0.016,    1.613,6,    1.024,6, -999.000,5,   2027.9,2,   2381.8,6,   8.1061,  25,2,  -999.00,9,  -999.00,   -999.0,9,   -999.0,  26.2928,  23.8475
  49NZ20090521,   P21,   174,  1,     33, X12015,2,20090527,0113,-17.4990,-155.6653, 4822,    150.2,2,  24.7393,2,  24.74386,2,  36.1886,2,  36.1881,2,   192.15,2,   193.04,2,     0.52,2,     0.12,     0.24,2,     0.03,     0.16,2,     0.01,    0.238,2,    0.015,    1.698,2,    1.059,2, -999.000,5,   2047.5,2,   2379.4,2,   8.0756,  25,2,  -999.00,9,  -999.00,   -999.0,9,   -999.0,  24.7068,  24.3291
  49NZ20090521,   P21,   174,  1,     32, X12050,2,20090527,0113,-17.4990,-155.6653, 4822,    200.0,2,  23.0805,2,  23.08272,2,  36.1298,2,  36.1258,2,   171.37,2,   171.84,2,     0.65,2,     0.12,     2.74,2,     0.04,     0.02,2,     0.01,    0.425,2,    0.013,    1.871,2,    1.143,2,    0.112,2,   2084.4,2,   2375.9,2,   8.0097,  25,2,  -999.00,9,  -999.00,   -999.0,9,   -999.0,  23.0393,  24.7794
  49NZ20090521,   P21,   174,  1,     31, X12014,2,20090527,0113,-17.4990,-155.6653, 4822,    249.9,2,  20.2277,2,  20.22502,2,  35.7250,2,  35.7250,6,   175.03,2,   175.31,2,     0.82,2,     0.12,     3.86,2,     0.04,     0.01,2,     0.01,    0.480,2,    0.013,    2.107,2,    1.239,2,    0.046,2,   2088.6,2,   2349.3,2,   7.9643,  25,2,  -999.00,9,  -999.00,   -999.0,9,   -999.0,  20.1809,  25.2668
  49NZ20090521,   P21,   174,  1,     30, X12012,2,20090527,0113,-17.4990,-155.6653, 4822,    299.1,2,  17.9914,2,  17.98833,2,  35.4244,2,  35.4256,2,   174.57,2,   175.00,2,     1.53,2,     0.12,     6.00,2,     0.05,     0.01,2,     0.01,    0.636,2,    0.013,    2.223,2,    1.265,2,    0.033,2,   2097.3,2,   2332.0,2,   7.9208,  25,2,  -999.00,9,  -999.00,   -999.0,9,   -999.0,  17.9398,  25.6120
  49NZ20090521,   P21,   174,  1,     29, X12041,2,20090527,0113,-17.4990,-155.6653, 4822,    400.3,2,  12.5878,2,  12.58284,2,  34.8072,2,  34.8067,2,   156.61,2,   157.12,2,     6.83,2,     0.13,    15.62,2,     0.08,     0.01,2,     0.01,    1.291,2,    0.014,    1.938,6,    1.028,6,    0.029,6,   2139.0,2,   2296.6,2,   7.7708,  25,2,  -999.00,9,  -999.00,   -999.0,9,   -999.0,  12.5336,  26.3361
  49NZ20090521,   P21,   174,  1,     28, X12040,2,20090527,0113,-17.4990,-155.6653, 4822,    501.3,2,   8.7459,2,   8.74481,2,  34.5300,2,  34.5296,6,   143.11,2,   143.28,2,    16.22,2,     0.15,    25.62,2,     0.10,     0.01,2,     0.01,    1.913,2,    0.015,    1.085,2,    0.558,2,    0.017,2,   2183.0,2,   2290.2,2,   7.6455,  25,2,  -999.00,9,  -999.00,   -999.0,9,   -999.0,   8.6918,  26.7989
  49NZ20090521,   P21,   174,  1,     27, X12009,2,20090527,0113,-17.4990,-155.6653, 4822,    601.0,2,   7.0849,2,   7.08530,2,  34.4639,2,  34.4633,2,   147.68,2,   147.93,2,    23.87,2,     0.17,    29.47,2,     0.12,     0.01,2,     0.01,    2.124,2,    0.015,    0.599,6,    0.307,6,    0.012,6,   2197.1,2,   2294.4,2,   7.6155,  25,2,  -999.00,9,  -999.00,   -999.0,9,   -999.0,   7.0271,  26.9927
  49NZ20090521,   P21,   174,  1,     26, X12008,2,20090527,0113,-17.4990,-155.6653, 4822,    701.2,2,   5.6440,2,   5.63995,2,  34.4089,2,  34.4076,2,   163.06,2,   163.43,2,    30.83,2,     0.19,    31.41,2,     0.12,     0.01,2,     0.01,    2.218,2,    0.016,    0.346,2,    0.178,2,    0.000,2,   2205.1,6,   2300.2,2,   7.6120,  25,2,  -999.00,9,  -999.00,   -999.0,9,   -999.0,   5.5838,  27.1374
  49NZ20090521,   P21,   174,  1,     25, X12007,2,20090527,0113,-17.4990,-155.6653, 4822,    800.8,2,   4.8215,2,   4.82212,2,  34.4285,2,  34.4284,2,   157.15,2,   157.36,2,    43.88,2,     0.22,    33.27,2,     0.13,     0.01,2,     0.01,    2.337,2,    0.016,    0.103,2,    0.054,2,    0.000,2,   2223.5,2,   2312.6,6,   7.5953,  25,2,  -999.00,9,  -999.00,   -999.0,9,   -999.0,   4.7571,  27.2498
  49NZ20090521,   P21,   174,  1,     24, X12035,2,20090527,0113,-17.4990,-155.6653, 4822,    903.0,2,   4.3245,2,   4.32418,2,  34.4599,2,  34.4599,2,   152.23,2,   152.47,2,    54.94,2,     0.24,    34.17,2,     0.13,     0.01,2,     0.01,    2.412,2,    0.016,    0.042,2,    0.021,2,    0.000,2,   2237.4,2,   2324.1,2,   7.5857,  25,6,  -999.00,9,  -999.00,   -999.0,9,   -999.0,   4.2546,  27.3298
  49NZ20090521,   P21,   174,  1,     23, X12038,2,20090527,0113,-17.4990,-155.6653, 4822,   1001.2,2,   3.9352,2,   3.93711,2,  34.4944,2,  34.4942,6,   145.87,2,   146.22,2,    66.07,2,     0.26,    35.12,2,     0.13,     0.01,2,     0.01,    2.481,2,    0.016,    0.015,2,    0.010,2,    0.000,2,   2252.6,2,   2336.2,2,   7.5758,  25,2,  -999.00,9,  -999.00,   -999.0,9,   -999.0,   3.8600,  27.3983
  49NZ20090521,   P21,   174,  1,     22, X12034,2,20090527,0113,-17.4990,-155.6653, 4822,   1200.2,2,   3.4083,2,   3.40815,2,  34.5305,2,  34.5304,2,   143.14,2,   143.33,2,    78.82,2,     0.29,    35.73,2,     0.13,     0.01,2,     0.01,    2.523,2,    0.016,    0.001,2,    0.001,2,    0.000,2,   2268.7,2,   2350.9,2,   7.5696,  25,2,  -999.00,9,  -999.00,   -999.0,9,   -999.0,   3.3211,  27.4803
  49NZ20090521,   P21,   174,  1,     21, X12033,2,20090527,0113,-17.4990,-155.6653, 4822,   1401.1,2,   2.9994,2,   2.99924,2,  34.5626,2,  34.5624,2,   142.87,2,   143.11,2,    89.49,2,     0.32,    35.96,2,     0.13,     0.01,2,     0.01,    2.545,2,    0.016,    0.000,2,    0.000,2,    0.000,2,   2279.4,2,   2362.7,2,   7.5690,  25,2,  -999.00,9,  -999.00,   -999.0,9,   -999.0,   2.8998,  27.5451
  49NZ20090521,   P21,   174,  1,     20, X12032,2,20090527,0113,-17.4990,-155.6653, 4822,   1600.0,2,   2.6652,2,   2.66536,2,  34.5883,2,  34.5881,2,   145.06,2,   145.28,2,    98.34,2,     0.34,    35.99,2,     0.13,     0.01,2,     0.01,    2.543,2,    0.016,    0.000,2,    0.000,2,    0.000,2,   2288.9,2,   2372.6,2,   7.5728,  25,6,  -999.00,9,  -999.00,   -999.0,9,   -999.0,   2.5530,  27.5962
  49NZ20090521,   P21,   174,  1,     19, X12046,2,20090527,0113,-17.4990,-155.6653, 4822,   1802.0,2,   2.4486,2,   2.44821,2,  34.6079,2,  34.6078,2,   145.91,2,   146.07,2,   104.82,2,     0.35,    35.97,2,     0.13,     0.01,2,     0.01,    2.543,2,    0.016,    0.000,2,    0.000,2,    0.000,2,   2296.1,2,   2380.7,2,   7.5747,  25,2,  -999.00,9,  -999.00,   -999.0,9,   -999.0,   2.3224,  27.6314
  49NZ20090521,   P21,   174,  1,     18, X12006,2,20090527,0113,-17.4990,-155.6653, 4822,   1999.5,2,   2.2454,2,   2.24525,2,  34.6257,2,  34.6261,2,   147.60,2,   147.76,2,   110.63,2,     0.36,    35.91,2,     0.13,     0.01,2,     0.01,    2.537,2,    0.016,    0.000,2,    0.000,2,    0.000,2,   2301.5,2,   2386.2,2,   7.5779,  25,2,  -999.00,9,  -999.00,   -999.0,9,   -999.0,   2.1053,  27.6634
  49NZ20090521,   P21,   174,  1,     17, X12047,2,20090527,0113,-17.4990,-155.6653, 4822,   2201.9,2,   2.0791,2,   2.07933,2,  34.6402,2,  34.6399,6,   150.03,2,   150.23,2,   114.94,2,     0.37,    35.84,2,     0.13,     0.01,2,     0.01,    2.529,2,    0.016,    0.000,2,    0.000,2,    0.000,2,   2305.2,2,   2391.3,2,   7.5822,  25,2,  -999.00,9,  -999.00,   -999.0,9,   -999.0,   1.9241,  27.6894
  49NZ20090521,   P21,   174,  1,     16, X12004,2,20090527,0113,-17.4990,-155.6653, 4822,   2401.3,2,   1.9526,2,   1.95282,2,  34.6510,2,  34.6512,2,   152.34,2,   152.52,2,   118.14,2,     0.38,    35.75,2,     0.13,     0.01,2,     0.01,    2.516,2,    0.016,    0.000,2,    0.000,2,    0.000,2,   2305.6,6,   2393.9,2,   7.5853,  25,2,  -999.00,9,  -999.00,   -999.0,9,   -999.0,   1.7821,  27.7090
  49NZ20090521,   P21,   174,  1,     15, X12003,2,20090527,0113,-17.4990,-155.6653, 4822,   2599.4,2,   1.8438,2,   1.84394,2,  34.6603,2,  34.6601,2,   155.15,2,   155.42,2,   120.47,2,     0.38,    35.50,2,     0.13,     0.01,2,     0.01,    2.504,2,    0.016,    0.000,2,    0.000,2,    0.000,2,   2306.1,2,   2396.3,6,   7.5886,  25,2,  -999.00,9,  -999.00,   -999.0,9,   -999.0,   1.6574,  27.7259
  49NZ20090521,   P21,   174,  1,     14, X12002,2,20090527,0113,-17.4990,-155.6653, 4822,   2800.5,2,   1.7633,2,   1.76331,2,  34.6669,2,  34.6672,2,   158.62,2,   158.71,2,   121.13,2,     0.39,    35.20,2,     0.13,     0.01,2,     0.01,    2.472,2,    0.016,    0.000,2,    0.000,2,    0.000,2,   2305.6,2,   2395.8,2,   7.5922,  25,6,  -999.00,9,  -999.00,   -999.0,9,   -999.0,   1.5598,  27.7385
  49NZ20090521,   P21,   174,  1,     13, X12001,2,20090527,0113,-17.4990,-155.6653, 4822,   3001.0,2,   1.7012,2,   1.70108,2,  34.6719,2,  34.6720,2,   162.11,2,   161.85,2,   121.56,2,     0.39,    35.05,2,     0.13,     0.01,2,     0.01,    2.462,2,    0.016,    0.000,2,    0.000,2,    0.000,2,   2302.6,2,   2396.3,2,   7.5957,  25,2,  -999.00,9,  -999.00,   -999.0,9,   -999.0,   1.4799,  27.7483
  49NZ20090521,   P21,   174,  1,     12, X12030,2,20090527,0113,-17.4990,-155.6653, 4822,   3251.6,2,   1.6282,2,   1.62819,2,  34.6782,2,  34.6776,3,   165.83,2,   165.66,2,   122.11,2,     0.39,    34.82,2,     0.13,     0.01,2,     0.01,    2.443,2,    0.016,    0.000,2,    0.000,2,    0.000,2,   2300.3,2,   2394.7,2,   7.5990,  25,2,  -999.00,9,  -999.00,   -999.0,9,   -999.0,   1.3840,  27.7603
  49NZ20090521,   P21,   174,  1,     11, X12044,2,20090527,0113,-17.4990,-155.6653, 4822,   3499.9,2,   1.5494,2,   1.54960,2,  34.6844,2,  34.6841,6,   170.66,2,   170.48,2,   122.07,2,     0.39,    34.46,2,     0.13,     0.01,2,     0.01,    2.417,2,    0.016,    0.000,2,    0.000,2,    0.000,2,   2296.9,2,   2392.3,2,   7.6031,  25,2,  -999.00,9,  -999.00,   -999.0,9,   -999.0,   1.2820,  27.7725
  49NZ20090521,   P21,   174,  1,     10, X12048,2,20090527,0113,-17.4990,-155.6653, 4822,   3750.1,2,   1.4916,2,   1.49158,2,  34.6891,2,  34.6895,2,   175.57,2,   175.35,2,   121.22,2,     0.39,    34.13,2,     0.13,     0.01,2,     0.01,    2.395,2,    0.016,    0.000,2,    0.000,2,    0.000,2,   2291.9,2,   2389.1,2,   7.6065,  25,2,  -999.00,9,  -999.00,   -999.0,9,   -999.0,   1.1997,  27.7820
  49NZ20090521,   P21,   174,  1,      9, X12027,2,20090527,0113,-17.4990,-155.6653, 4822,   4002.0,2,   1.4333,2,   1.43335,2,  34.6937,2,  34.6939,2,   180.47,2,   180.37,2,   120.30,2,     0.38,    33.76,2,     0.13,     0.01,2,     0.01,    2.370,2,    0.016,    0.000,2,    0.000,2,    0.000,2,   2287.3,2,   2386.2,2,   7.6098,  25,2,  -999.00,9,  -999.00,   -999.0,9,   -999.0,   1.1160,  27.7914
  49NZ20090521,   P21,   174,  1,      8, X12026,2,20090527,0113,-17.4990,-155.6653, 4822,   4251.0,2,   1.3988,2,   1.39875,2,  34.6969,2,  34.6971,2,   184.31,2,   184.21,2,   119.45,2,     0.38,    33.51,2,     0.13,     0.01,2,     0.01,    2.349,2,    0.016,    0.000,2,    0.000,2,    0.000,2,   2283.7,6,   2384.0,2,   7.6121,  25,2,  -999.00,9,  -999.00,   -999.0,9,   -999.0,   1.0551,  27.7981
  49NZ20090521,   P21,   174,  1,      7, X12025,2,20090527,0113,-17.4990,-155.6653, 4822,   4500.1,2,   1.3753,2,   1.37519,2,  34.6995,2,  34.7000,2,   187.36,2,   187.28,2,   118.90,2,     0.38,    33.27,2,     0.13,     0.01,2,     0.01,    2.332,2,    0.016,    0.000,2,    0.000,2,    0.000,2,   2280.1,2,   2380.5,6,   7.6139,  25,2,  -999.00,9,  -999.00,   -999.0,9,   -999.0,   1.0041,  27.8036
  49NZ20090521,   P21,   174,  1,      6, X12024,2,20090527,0113,-17.4990,-155.6653, 4822,   4748.2,2,   1.3889,2,   1.38877,2,  34.7003,2,  34.7003,2,   188.35,2,   188.28,2,   118.44,2,     0.38,    33.19,2,     0.13,     0.01,2,     0.01,    2.328,2,    0.016,    0.000,2,    0.000,2,    0.000,2,   2279.2,2,   2379.2,2,   7.6147,  25,6,  -999.00,9,  -999.00,   -999.0,9,   -999.0,   0.9884,  27.8053
  49NZ20090521,   P21,   174,  1,      5, X12028,9,20090527,0113,-17.4990,-155.6653, 4822,     10.4,2,  28.5842,2,  28.58403,2,  35.9411,2,-999.0000,9,   194.65,2,  -999.00,9,  -999.00,9,  -999.00,  -999.00,9,  -999.00,  -999.00,9,  -999.00, -999.000,9, -999.000, -999.000,9, -999.000,9, -999.000,9,   -999.0,9,   -999.0,9,-999.0000,-999,9,  -999.00,9,  -999.00,   -999.0,9,   -999.0,  28.5817,  22.9105
  49NZ20090521,   P21,   174,  1,      4, X12022,9,20090527,0113,-17.4990,-155.6653, 4822,     50.4,2,  28.5297,2,  28.52990,2,  35.9291,2,-999.0000,9,   194.90,2,  -999.00,9,  -999.00,9,  -999.00,  -999.00,9,  -999.00,  -999.00,9,  -999.00, -999.000,9, -999.000, -999.000,9, -999.000,9, -999.000,9,   -999.0,9,   -999.0,9,-999.0000,-999,9,  -999.00,9,  -999.00,   -999.0,9,   -999.0,  28.5176,  22.9228
  49NZ20090521,   P21,   174,  1,      3, X12021,9,20090527,0113,-17.4990,-155.6653, 4822,    100.4,2,  26.3230,2,  26.32399,2,  36.2004,2,-999.0000,9,   205.61,2,  -999.00,9,  -999.00,9,  -999.00,  -999.00,9,  -999.00,  -999.00,9,  -999.00, -999.000,9, -999.000, -999.000,9, -999.000,9, -999.000,9,   -999.0,9,   -999.0,9,-999.0000,-999,9,  -999.00,9,  -999.00,   -999.0,9,   -999.0,  26.3003,  23.8449
  49NZ20090521,   P21,   174,  1,      2, X12020,9,20090527,0113,-17.4990,-155.6653, 4822,    298.9,2,  17.9962,2,  17.99174,2,  35.4257,2,-999.0000,9,   174.68,2,  -999.00,9,  -999.00,9,  -999.00,  -999.00,9,  -999.00,  -999.00,9,  -999.00, -999.000,9, -999.000, -999.000,9, -999.000,9, -999.000,9,   -999.0,9,   -999.0,9,-999.0000,-999,9,  -999.00,9,  -999.00,   -999.0,9,   -999.0,  17.9446,  25.6119
  49NZ20090521,   P21,   174,  1,      1, X12019,2,20090527,0113,-17.4990,-155.6653, 4822,   4884.4,2,   1.4018,2,   1.40165,2,  34.7003,2,  34.7007,6,   188.62,2,   188.58,2,   118.58,2,     0.38,    33.22,2,     0.13,     0.01,2,     0.01,    2.325,2,    0.016,    0.001,2,    0.000,2,    0.000,2,   2279.0,2,   2379.7,2,   7.6155,  25,2,  -999.00,9,  -999.00,   -999.0,9,   -999.0,   0.9847,  27.8055