BOTTLE,20111109CCHDOSIOCBG
EXPOCODE,SECT_ID,STNNBR,CASTNO,SAMPNO,BTLNBR,BTLNBR_FLAG_W,DATE,TIME,LATITUDE,LONGITUDE,DEPTH,CTDPRS,CTDPRS_FLAG_W,CTDTMP,CTDTMP_FLAG_W,SBE35,SBE35_FLAG_W,CTDSAL,CTDSAL_FLAG_W,SALNTY,SALNTY_FLAG_W,CTDOXY,CTDOXY_FLAG_W,OXYGEN,OXYGEN_FLAG_W,SILCAT,SILCAT_FLAG_W,SILUNC,NITRAT,NITRAT_FLAG_W,NRAUNC,NITRIT,NITRIT_FLAG_W,NRIUNC,PHSPHT,PHSPHT_FLAG_W,PHPUNC,CFC-11,CFC-11_FLAG_W,CFC-12,CFC-12_FLAG_W,CFC113,CFC113_FLAG_W,TCARBN,TCARBN_FLAG_W,ALKALI,ALKALI_FLAG_W,PH_TOT,PH_TMP,PH_TOT_FLAG_W,DELC13,DELC13_FLAG_W,C13ERR,DELC14,DELC14_FLAG_W,C14ERR,THETA,SIG0
,,,,,,,,,,,METERS,DBAR,,ITS-90,,ITS-90,,PSS-78,,PSS-78,,UMOL/KG,,UMOL/KG,,UMOL/KG,,UMOL/KG,UMOL/KG,,UMOL/KG,UMOL/KG,,UMOL/KG,UMOL/KG,,UMOL/KG,PMOL/KG,,PMOL/KG,,PMOL/KG,,UMOL/KG,,UMOL/KG,,,DEG C,,/MILLE,,/MILLE,/MILLE,,/MILLE,DEG C,KG/M^3
  49NZ20090521,   P21,   241,  1,      0,   -999,9,20090609,2030,-18.2983, 168.2093, 2352,   -999.0,9,-999.0000,9,-999.00000,9,-999.0000,9,  34.8704,2,  -999.00,9,  -999.00,9,  -999.00,9,  -999.00,  -999.00,9,  -999.00,  -999.00,9,  -999.00, -999.000,9, -999.000, -999.000,9, -999.000,9, -999.000,9,   -999.0,9,   -999.0,9,-999.0000,-999,9,  -999.00,9,  -999.00,   -999.0,9,   -999.0,-999.0000,-999.0000
  49NZ20090521,   P21,   241,  1,     36, X12043,2,20090609,2030,-18.2983, 168.2093, 2352,     11.0,2,  26.4162,2,  26.41669,2,  34.8575,2,  34.8564,2,   201.68,2,   201.37,2,     0.78,2,     0.12,     0.06,2,     0.03,     0.01,2,     0.01,    0.068,2,    0.028,    1.506,2,    0.982,2, -999.000,5,   -999.0,9,   -999.0,9,-999.0000,-999,9,  -999.00,9,  -999.00,   -999.0,9,   -999.0,  26.4137,  22.7963
  49NZ20090521,   P21,   241,  1,     35, X12042,2,20090609,2030,-18.2983, 168.2093, 2352,     50.5,2,  26.3462,2,  26.34628,2,  34.8415,2,  34.8408,2,   201.71,2,   201.40,2,     0.70,2,     0.12,     0.05,2,     0.03,     0.01,2,     0.01,    0.075,2,    0.026,    1.497,2,    0.959,2, -999.000,5,   -999.0,9,   -999.0,9,-999.0000,-999,9,  -999.00,9,  -999.00,   -999.0,9,   -999.0,  26.3348,  22.8090
  49NZ20090521,   P21,   241,  1,     34, X12016,2,20090609,2030,-18.2983, 168.2093, 2352,    100.8,2,  26.0904,2,  26.07271,2,  34.9769,2,  34.9914,2,   197.12,2,   196.17,2,     0.61,2,     0.12,     0.06,2,     0.03,     0.03,2,     0.01,    0.102,2,    0.022,    1.578,6,    1.011,6, -999.000,5,   -999.0,9,   -999.0,9,-999.0000,-999,9,  -999.00,9,  -999.00,   -999.0,9,   -999.0,  26.0679,  22.9948
  49NZ20090521,   P21,   241,  1,     33, X12015,2,20090609,2030,-18.2983, 168.2093, 2352,    151.2,2,  23.6687,2,  23.66946,2,  35.5724,2,  35.5863,2,   165.24,2,   164.71,2,     0.90,2,     0.12,     2.99,2,     0.04,     0.04,2,     0.01,    0.383,2,    0.013,    1.777,2,    1.107,2,    0.127,2,   -999.0,9,   -999.0,9,-999.0000,-999,9,  -999.00,9,  -999.00,   -999.0,9,   -999.0,  23.6371,  24.1820
  49NZ20090521,   P21,   241,  1,     32, X12050,2,20090609,2030,-18.2983, 168.2093, 2352,    199.5,2,  22.5556,2,  22.55592,2,  35.8332,2,  35.8339,2,   154.66,2,   154.69,2,     1.06,2,     0.12,     4.57,2,     0.05,     0.02,2,     0.01,    0.520,2,    0.013,    1.891,2,    1.160,2,    0.080,2,   -999.0,9,   -999.0,9,-999.0000,-999,9,  -999.00,9,  -999.00,   -999.0,9,   -999.0,  22.5152,  24.7050
  49NZ20090521,   P21,   241,  1,     31, X12014,2,20090609,2030,-18.2983, 168.2093, 2352,    249.8,2,  20.2096,2,  20.20912,2,  35.6641,2,  35.6628,6,   161.06,2,   160.94,2,     1.48,2,     0.12,     5.72,2,     0.05,     0.02,2,     0.01,    0.560,2,    0.013,    2.017,2,    1.206,2,    0.044,2,   -999.0,9,   -999.0,9,-999.0000,-999,9,  -999.00,9,  -999.00,   -999.0,9,   -999.0,  20.1628,  25.2252
  49NZ20090521,   P21,   241,  1,     30, X12012,2,20090609,2030,-18.2983, 168.2093, 2352,    281.0,2,  18.6494,2,  18.64922,2,  35.5527,2,  35.5553,2,   165.20,2,   165.10,2,     1.85,2,     0.12,     6.67,2,     0.05,     0.02,2,     0.01,    0.624,2,    0.013,    2.086,2,    1.224,2,    0.026,2,   -999.0,9,   -999.0,9,-999.0000,-999,9,  -999.00,9,  -999.00,   -999.0,9,   -999.0,  18.5997,  25.5455
  49NZ20090521,   P21,   241,  1,     29, X12041,2,20090609,2030,-18.2983, 168.2093, 2352,    369.1,2,  14.2378,2,  14.23901,2,  35.0852,2,  35.0847,2,   161.45,2,   161.49,2,     5.13,2,     0.13,    12.91,2,     0.07,     0.01,2,     0.01,    1.064,2,    0.013,    1.974,6,    1.096,6,    0.021,6,   -999.0,9,   -999.0,9,-999.0000,-999,9,  -999.00,9,  -999.00,   -999.0,9,   -999.0,  14.1835,  26.2141
  49NZ20090521,   P21,   241,  1,     28, X12040,2,20090609,2030,-18.2983, 168.2093, 2352,    470.3,2,  10.5811,2,  10.58153,2,  34.7331,2,  34.7331,6,   172.77,2,   172.69,2,     8.99,2,     0.14,    19.05,2,     0.09,     0.01,2,     0.01,    1.432,2,    0.014,    1.715,2,    0.907,2,    0.031,2,   -999.0,9,   -999.0,9,-999.0000,-999,9,  -999.00,9,  -999.00,   -999.0,9,   -999.0,  10.5240,  26.6526
  49NZ20090521,   P21,   241,  1,     27, X12009,2,20090609,2030,-18.2983, 168.2093, 2352,    569.8,2,   7.9592,2,   7.96315,2,  34.5171,2,  34.5183,2,   190.72,2,   190.29,2,    13.34,2,     0.15,    23.60,2,     0.10,     0.01,2,     0.01,    1.689,2,    0.014,    1.431,6,    0.738,6,    0.027,6,   -999.0,9,   -999.0,9,-999.0000,-999,9,  -999.00,9,  -999.00,   -999.0,9,   -999.0,   7.9007,  26.9094
  49NZ20090521,   P21,   241,  1,     26, X12008,2,20090609,2030,-18.2983, 168.2093, 2352,    670.6,2,   6.3620,2,   6.36224,2,  34.4228,2,  34.4228,2,   190.84,2,   190.62,2,    21.35,2,     0.17,    27.40,2,     0.11,     0.01,2,     0.01,    1.931,2,    0.015,    0.888,2,    0.454,2,    0.012,2,   -999.0,9,   -999.0,9,-999.0000,-999,9,  -999.00,9,  -999.00,   -999.0,9,   -999.0,   6.3009,  27.0579
  49NZ20090521,   P21,   241,  1,     25, X12007,2,20090609,2030,-18.2983, 168.2093, 2352,    769.7,2,   5.5257,2,   5.52276,2,  34.4151,2,  34.4146,2,   184.03,2,   183.48,2,    31.49,2,     0.19,    29.63,2,     0.12,     0.01,2,     0.01,    2.080,2,    0.015,    0.554,2,    0.287,2,    0.010,2,   -999.0,9,   -999.0,9,-999.0000,-999,9,  -999.00,9,  -999.00,   -999.0,9,   -999.0,   5.4599,  27.1573
  49NZ20090521,   P21,   241,  1,     24, X12035,2,20090609,2030,-18.2983, 168.2093, 2352,    870.8,2,   5.0944,2,   5.09480,2,  34.4296,2,  34.4301,2,   177.41,2,   176.95,2,    39.48,2,     0.21,    30.89,2,     0.12,     0.01,2,     0.01,    2.165,2,    0.015,    0.385,2,    0.202,2,    0.016,2,   -999.0,9,   -999.0,9,-999.0000,-999,9,  -999.00,9,  -999.00,   -999.0,9,   -999.0,   5.0221,  27.2204
  49NZ20090521,   P21,   241,  1,     23, X12038,2,20090609,2030,-18.2983, 168.2093, 2352,    970.5,2,   4.5170,2,   4.51697,2,  34.4850,2,  34.4855,6,   164.78,2,   164.44,2,    56.05,2,     0.24,    32.38,2,     0.12,     0.01,2,     0.01,    2.280,2,    0.016,    0.215,2,    0.114,2,    0.007,2,   -999.0,9,   -999.0,9,-999.0000,-999,9,  -999.00,9,  -999.00,   -999.0,9,   -999.0,   4.4400,  27.3297
  49NZ20090521,   P21,   241,  1,     22, X12034,2,20090609,2030,-18.2983, 168.2093, 2352,   1130.2,2,   3.9142,2,   3.91413,2,  34.5060,2,  34.5063,2,   159.48,2,   159.20,2,    67.52,2,     0.27,    33.55,2,     0.13,     0.01,2,     0.01,    2.365,2,    0.016,    0.097,2,    0.055,2,    0.000,2,   -999.0,9,   -999.0,9,-999.0000,-999,9,  -999.00,9,  -999.00,   -999.0,9,   -999.0,   3.8283,  27.4108
  49NZ20090521,   P21,   241,  1,     21, X12033,2,20090609,2030,-18.2983, 168.2093, 2352,   1332.7,2,   3.2901,2,   3.29016,2,  34.5488,2,  34.5491,2,   154.17,2,   153.98,2,    82.94,2,     0.30,    34.56,2,     0.13,     0.01,2,     0.01,    2.437,2,    0.016,    0.032,2,    0.020,2,    0.000,2,   -999.0,9,   -999.0,9,-999.0000,-999,9,  -999.00,9,  -999.00,   -999.0,9,   -999.0,   3.1931,  27.5070
  49NZ20090521,   P21,   241,  1,     20, X12032,2,20090609,2030,-18.2983, 168.2093, 2352,   1531.4,2,   2.9170,2,   2.91702,2,  34.5830,2,  34.5831,6,   150.05,2,   149.78,2,    93.73,2,     0.33,    35.12,2,     0.13,     0.01,2,     0.01,    2.479,2,    0.016,    0.013,2,    0.009,2,    0.000,2,   -999.0,9,   -999.0,9,-999.0000,-999,9,  -999.00,9,  -999.00,   -999.0,9,   -999.0,   2.8075,  27.5696
  49NZ20090521,   P21,   241,  1,     19, X12046,2,20090609,2030,-18.2983, 168.2093, 2352,   1731.4,2,   2.6027,2,   2.60288,2,  34.6117,2,  34.6119,2,   148.58,2,   148.29,2,   101.91,2,     0.34,    35.37,2,     0.13,     0.01,2,     0.01,    2.505,2,    0.016,    0.008,2,    0.006,2,    0.000,2,   -999.0,9,   -999.0,9,-999.0000,-999,9,  -999.00,9,  -999.00,   -999.0,9,   -999.0,   2.4803,  27.6211
  49NZ20090521,   P21,   241,  1,     18, X12006,2,20090609,2030,-18.2983, 168.2093, 2352,   1930.5,2,   2.3869,2,   2.38681,2,  34.6306,2,  34.6310,2,   149.32,2,   149.00,2,   107.30,2,     0.36,    35.44,2,     0.13,     0.01,2,     0.01,    2.502,2,    0.016,    0.004,2,    0.001,2,    0.000,2,   -999.0,9,   -999.0,9,-999.0000,-999,9,  -999.00,9,  -999.00,   -999.0,9,   -999.0,   2.2506,  27.6555
  49NZ20090521,   P21,   241,  1,     17, X12047,2,20090609,2030,-18.2983, 168.2093, 2352,   2132.8,2,   2.2795,2,   2.27941,2,  34.6408,2,  34.6412,2,   149.83,2,   149.35,2,   109.99,2,     0.36,    35.49,2,     0.13,     0.01,2,     0.01,    2.505,2,    0.016,    0.000,2,    0.000,2,    0.000,2,   -999.0,9,   -999.0,9,-999.0000,-999,9,  -999.00,9,  -999.00,   -999.0,9,   -999.0,   2.1273,  27.6737
  49NZ20090521,   P21,   241,  1,     16, X12004,9,20090609,2030,-18.2983, 168.2093, 2352,     10.8,2,  26.4197,2,  26.41993,2,  34.8576,2,-999.0000,9,   201.72,2,  -999.00,9,  -999.00,9,  -999.00,  -999.00,9,  -999.00,  -999.00,9,  -999.00, -999.000,9, -999.000, -999.000,9, -999.000,9, -999.000,9,   -999.0,9,   -999.0,9,-999.0000,-999,9,  -999.00,9,  -999.00,   -999.0,9,   -999.0,  26.4173,  22.7952
  49NZ20090521,   P21,   241,  1,     15, X12003,9,20090609,2030,-18.2983, 168.2093, 2352,     50.7,2,  26.3458,2,  26.34555,2,  34.8413,2,-999.0000,9,   201.65,2,  -999.00,9,  -999.00,9,  -999.00,  -999.00,9,  -999.00,  -999.00,9,  -999.00, -999.000,9, -999.000, -999.000,9, -999.000,9, -999.000,9,   -999.0,9,   -999.0,9,-999.0000,-999,9,  -999.00,9,  -999.00,   -999.0,9,   -999.0,  26.3344,  22.8090
  49NZ20090521,   P21,   241,  1,     14, X12002,9,20090609,2030,-18.2983, 168.2093, 2352,    100.6,2,  26.0975,2,  26.09835,2,  34.9833,2,-999.0000,9,   197.31,2,  -999.00,9,  -999.00,9,  -999.00,  -999.00,9,  -999.00,  -999.00,9,  -999.00, -999.000,9, -999.000, -999.000,9, -999.000,9, -999.000,9,   -999.0,9,   -999.0,9,-999.0000,-999,9,  -999.00,9,  -999.00,   -999.0,9,   -999.0,  26.0750,  22.9974
  49NZ20090521,   P21,   241,  1,     13, X12001,9,20090609,2030,-18.2983, 168.2093, 2352,    151.1,2,  23.6844,2,  23.69732,2,  35.5748,2,-999.0000,9,   165.31,2,  -999.00,9,  -999.00,9,  -999.00,  -999.00,9,  -999.00,  -999.00,9,  -999.00, -999.000,9, -999.000, -999.000,9, -999.000,9, -999.000,9,   -999.0,9,   -999.0,9,-999.0000,-999,9,  -999.00,9,  -999.00,   -999.0,9,   -999.0,  23.6528,  24.1792
  49NZ20090521,   P21,   241,  1,     12, X12030,9,20090609,2030,-18.2983, 168.2093, 2352,    199.5,2,  22.5556,2,  22.55586,2,  35.8339,2,-999.0000,9,   154.75,2,  -999.00,9,  -999.00,9,  -999.00,  -999.00,9,  -999.00,  -999.00,9,  -999.00, -999.000,9, -999.000, -999.000,9, -999.000,9, -999.000,9,   -999.0,9,   -999.0,9,-999.0000,-999,9,  -999.00,9,  -999.00,   -999.0,9,   -999.0,  22.5152,  24.7055
  49NZ20090521,   P21,   241,  1,     11, X12044,9,20090609,2030,-18.2983, 168.2093, 2352,    250.0,2,  20.2016,2,  20.19862,2,  35.6638,2,-999.0000,9,   161.17,2,  -999.00,9,  -999.00,9,  -999.00,  -999.00,9,  -999.00,  -999.00,9,  -999.00, -999.000,9, -999.000, -999.000,9, -999.000,9, -999.000,9,   -999.0,9,   -999.0,9,-999.0000,-999,9,  -999.00,9,  -999.00,   -999.0,9,   -999.0,  20.1548,  25.2271
  49NZ20090521,   P21,   241,  1,     10, X12048,9,20090609,2030,-18.2983, 168.2093, 2352,    279.4,2,  18.6990,2,  18.69487,2,  35.5588,2,-999.0000,9,   165.05,2,  -999.00,9,  -999.00,9,  -999.00,  -999.00,9,  -999.00,  -999.00,9,  -999.00, -999.000,9, -999.000, -999.000,9, -999.000,9, -999.000,9,   -999.0,9,   -999.0,9,-999.0000,-999,9,  -999.00,9,  -999.00,   -999.0,9,   -999.0,  18.6495,  25.5376
  49NZ20090521,   P21,   241,  1,      9, X12027,9,20090609,2030,-18.2983, 168.2093, 2352,    369.2,2,  14.2364,2,  14.23739,2,  35.0855,2,-999.0000,9,   161.63,2,  -999.00,9,  -999.00,9,  -999.00,  -999.00,9,  -999.00,  -999.00,9,  -999.00, -999.000,9, -999.000, -999.000,9, -999.000,9, -999.000,9,   -999.0,9,   -999.0,9,-999.0000,-999,9,  -999.00,9,  -999.00,   -999.0,9,   -999.0,  14.1821,  26.2147
  49NZ20090521,   P21,   241,  1,      8, X12026,9,20090609,2030,-18.2983, 168.2093, 2352,    471.0,2,  10.5694,2,  10.57056,2,  34.7325,2,-999.0000,9,   172.94,2,  -999.00,9,  -999.00,9,  -999.00,  -999.00,9,  -999.00,  -999.00,9,  -999.00, -999.000,9, -999.000, -999.000,9, -999.000,9, -999.000,9,   -999.0,9,   -999.0,9,-999.0000,-999,9,  -999.00,9,  -999.00,   -999.0,9,   -999.0,  10.5122,  26.6542
  49NZ20090521,   P21,   241,  1,      7, X12025,9,20090609,2030,-18.2983, 168.2093, 2352,    569.5,2,   7.9707,2,   7.97244,2,  34.5179,2,-999.0000,9,   190.67,2,  -999.00,9,  -999.00,9,  -999.00,  -999.00,9,  -999.00,  -999.00,9,  -999.00, -999.000,9, -999.000, -999.000,9, -999.000,9, -999.000,9,   -999.0,9,   -999.0,9,-999.0000,-999,9,  -999.00,9,  -999.00,   -999.0,9,   -999.0,   7.9122,  26.9082
  49NZ20090521,   P21,   241,  1,      6, X12024,9,20090609,2030,-18.2983, 168.2093, 2352,    670.7,2,   6.3620,2,   6.36138,2,  34.4227,2,-999.0000,9,   190.84,2,  -999.00,9,  -999.00,9,  -999.00,  -999.00,9,  -999.00,  -999.00,9,  -999.00, -999.000,9, -999.000, -999.000,9, -999.000,9, -999.000,9,   -999.0,9,   -999.0,9,-999.0000,-999,9,  -999.00,9,  -999.00,   -999.0,9,   -999.0,   6.3008,  27.0578
  49NZ20090521,   P21,   241,  1,      5, X12028,9,20090609,2030,-18.2983, 168.2093, 2352,    770.0,2,   5.5312,2,   5.53203,2,  34.4149,2,-999.0000,9,   183.90,2,  -999.00,9,  -999.00,9,  -999.00,  -999.00,9,  -999.00,  -999.00,9,  -999.00, -999.000,9, -999.000, -999.000,9, -999.000,9, -999.000,9,   -999.0,9,   -999.0,9,-999.0000,-999,9,  -999.00,9,  -999.00,   -999.0,9,   -999.0,   5.4653,  27.1565
  49NZ20090521,   P21,   241,  1,      4, X12022,9,20090609,2030,-18.2983, 168.2093, 2352,    870.8,2,   5.0920,2,   5.09216,2,  34.4295,2,-999.0000,9,   177.44,2,  -999.00,9,  -999.00,9,  -999.00,  -999.00,9,  -999.00,  -999.00,9,  -999.00, -999.000,9, -999.000, -999.000,9, -999.000,9, -999.000,9,   -999.0,9,   -999.0,9,-999.0000,-999,9,  -999.00,9,  -999.00,   -999.0,9,   -999.0,   5.0198,  27.2207
  49NZ20090521,   P21,   241,  1,      3, X12021,9,20090609,2030,-18.2983, 168.2093, 2352,    971.1,2,   4.5167,2,   4.51677,2,  34.4852,2,-999.0000,9,   164.78,2,  -999.00,9,  -999.00,9,  -999.00,  -999.00,9,  -999.00,  -999.00,9,  -999.00, -999.000,9, -999.000, -999.000,9, -999.000,9, -999.000,9,   -999.0,9,   -999.0,9,-999.0000,-999,9,  -999.00,9,  -999.00,   -999.0,9,   -999.0,   4.4396,  27.3300
  49NZ20090521,   P21,   241,  1,      2, X12020,9,20090609,2030,-18.2983, 168.2093, 2352,   1333.0,2,   3.2884,2,   3.28867,2,  34.5489,2,-999.0000,9,   154.18,2,  -999.00,9,  -999.00,9,  -999.00,  -999.00,9,  -999.00,  -999.00,9,  -999.00, -999.000,9, -999.000, -999.000,9, -999.000,9, -999.000,9,   -999.0,9,   -999.0,9,-999.0000,-999,9,  -999.00,9,  -999.00,   -999.0,9,   -999.0,   3.1914,  27.5073
  49NZ20090521,   P21,   241,  1,      1, X12019,2,20090609,2030,-18.2983, 168.2093, 2352,   2301.9,2,   2.0255,2,   2.02548,2,  34.6614,2,  34.6615,6,   151.99,2,   151.71,2,   115.54,2,     0.37,    35.50,2,     0.13,     0.01,2,     0.01,    2.498,2,    0.016,    0.000,2,    0.000,2,    0.000,2,   -999.0,9,   -999.0,9,-999.0000,-999,9,  -999.00,9,  -999.00,   -999.0,9,   -999.0,   1.8625,  27.7111