BOTTLE,20111109CCHDOSIOCBG
EXPOCODE,SECT_ID,STNNBR,CASTNO,SAMPNO,BTLNBR,BTLNBR_FLAG_W,DATE,TIME,LATITUDE,LONGITUDE,DEPTH,CTDPRS,CTDPRS_FLAG_W,CTDTMP,CTDTMP_FLAG_W,SBE35,SBE35_FLAG_W,CTDSAL,CTDSAL_FLAG_W,SALNTY,SALNTY_FLAG_W,CTDOXY,CTDOXY_FLAG_W,OXYGEN,OXYGEN_FLAG_W,SILCAT,SILCAT_FLAG_W,SILUNC,NITRAT,NITRAT_FLAG_W,NRAUNC,NITRIT,NITRIT_FLAG_W,NRIUNC,PHSPHT,PHSPHT_FLAG_W,PHPUNC,CFC-11,CFC-11_FLAG_W,CFC-12,CFC-12_FLAG_W,CFC113,CFC113_FLAG_W,TCARBN,TCARBN_FLAG_W,ALKALI,ALKALI_FLAG_W,PH_TOT,PH_TMP,PH_TOT_FLAG_W,DELC13,DELC13_FLAG_W,C13ERR,DELC14,DELC14_FLAG_W,C14ERR,THETA,SIG0
,,,,,,,,,,,METERS,DBAR,,ITS-90,,ITS-90,,PSS-78,,PSS-78,,UMOL/KG,,UMOL/KG,,UMOL/KG,,UMOL/KG,UMOL/KG,,UMOL/KG,UMOL/KG,,UMOL/KG,UMOL/KG,,UMOL/KG,PMOL/KG,,PMOL/KG,,PMOL/KG,,UMOL/KG,,UMOL/KG,,,DEG C,,/MILLE,,/MILLE,/MILLE,,/MILLE,DEG C,KG/M^3
  49NZ20090521,   P21,   253,  1,      0,   -999,9,20090611,2240,-19.8293, 164.6613, 3170,   -999.0,9,-999.0000,9,-999.00000,9,-999.0000,9,  34.8056,2,  -999.00,9,  -999.00,9,  -999.00,9,  -999.00,  -999.00,9,  -999.00,  -999.00,9,  -999.00, -999.000,9, -999.000, -999.000,9, -999.000,9, -999.000,9,   -999.0,9,   -999.0,9,-999.0000,-999,9,  -999.00,9,  -999.00,   -999.0,9,   -999.0,-999.0000,-999.0000
  49NZ20090521,   P21,   253,  1,     36, X12043,2,20090611,2240,-19.8293, 164.6613, 3170,     10.5,2,  25.2124,2,  25.21691,2,  34.8470,2,  34.8556,2,   205.88,2,   205.65,2,     0.54,2,     0.12,     0.08,2,     0.03,     0.01,2,     0.01,    0.063,2,    0.029,    1.575,2,    1.026,2, -999.000,5,   -999.0,9,   -999.0,9,-999.0000,-999,9,  -999.00,9,  -999.00,   -999.0,9,   -999.0,  25.2101,  23.1616
  49NZ20090521,   P21,   253,  1,     35, X12042,2,20090611,2240,-19.8293, 164.6613, 3170,     50.5,2,  25.2646,2,  25.26435,2,  34.9313,2,  34.9485,2,   204.78,2,   204.68,2,     0.47,2,     0.12,     0.08,2,     0.03,     0.01,2,     0.01,    0.061,2,    0.030,    1.592,2,    1.026,2, -999.000,5,   -999.0,9,   -999.0,9,-999.0000,-999,9,  -999.00,9,  -999.00,   -999.0,9,   -999.0,  25.2536,  23.2120
  49NZ20090521,   P21,   253,  1,     34, X12016,2,20090611,2240,-19.8293, 164.6613, 3170,    100.6,2,  23.9642,2,  23.96528,2,  35.3676,2,  35.3754,2,   183.94,2,   183.00,2,     0.67,2,     0.12,     1.14,2,     0.04,     0.13,2,     0.01,    0.221,2,    0.015,    1.758,6,    1.113,6, -999.000,5,   -999.0,9,   -999.0,9,-999.0000,-999,9,  -999.00,9,  -999.00,   -999.0,9,   -999.0,  23.9430,  23.9366
  49NZ20090521,   P21,   253,  1,     33, X12015,2,20090611,2240,-19.8293, 164.6613, 3170,    150.3,2,  22.1661,2,  22.16562,2,  35.5873,2,  35.5868,2,   169.31,2,   169.12,2,     0.78,2,     0.12,     3.51,2,     0.04,     0.02,2,     0.01,    0.366,2,    0.014,    1.885,2,    1.174,2,    0.105,2,   -999.0,9,   -999.0,9,-999.0000,-999,9,  -999.00,9,  -999.00,   -999.0,9,   -999.0,  22.1361,  24.6259
  49NZ20090521,   P21,   253,  1,     32, X12050,2,20090611,2240,-19.8293, 164.6613, 3170,    200.5,2,  20.6848,2,  20.69734,2,  35.6477,2,  35.6458,2,   170.47,2,   170.17,2,     0.98,2,     0.12,     4.32,2,     0.04,     0.01,2,     0.01,    0.418,2,    0.013,    1.991,2,    1.214,2,    0.059,2,   -999.0,9,   -999.0,9,-999.0000,-999,9,  -999.00,9,  -999.00,   -999.0,9,   -999.0,  20.6467,  25.0830
  49NZ20090521,   P21,   253,  1,     31, X12014,2,20090611,2240,-19.8293, 164.6613, 3170,    249.1,2,  19.3562,2,  19.35988,2,  35.6145,2,  35.6125,6,   176.55,2,   176.68,2,     1.18,2,     0.12,     4.81,2,     0.05,     0.01,2,     0.01,    0.442,2,    0.013,    2.088,2,    1.260,2,    0.045,2,   -999.0,9,   -999.0,9,-999.0000,-999,9,  -999.00,9,  -999.00,   -999.0,9,   -999.0,  19.3110,  25.4109
  49NZ20090521,   P21,   253,  1,     30, X12012,2,20090611,2240,-19.8293, 164.6613, 3170,    330.0,2,  16.3001,2,  16.30786,2,  35.3492,2,  35.3494,2,   173.77,2,   174.02,2,     2.43,2,     0.12,     8.49,2,     0.06,     0.01,2,     0.01,    0.720,2,    0.013,    2.172,2,    1.250,2,    0.027,2,   -999.0,9,   -999.0,9,-999.0000,-999,9,  -999.00,9,  -999.00,   -999.0,9,   -999.0,  16.2469,  25.9594
  49NZ20090521,   P21,   253,  1,     29, X12041,2,20090611,2240,-19.8293, 164.6613, 3170,    430.4,2,  12.8808,2,  12.87717,2,  35.0214,2,  35.0148,2,   185.31,2,   185.53,2,     4.20,2,     0.13,    13.25,2,     0.07,     0.01,2,     0.01,    1.008,2,    0.013,    2.196,6,    1.210,6,    0.032,6,   -999.0,9,   -999.0,9,-999.0000,-999,9,  -999.00,9,  -999.00,   -999.0,9,   -999.0,  12.8214,  26.4453
  49NZ20090521,   P21,   253,  1,     28, X12040,2,20090611,2240,-19.8293, 164.6613, 3170,    530.4,2,   9.4480,2,   9.45659,2,  34.6671,2,  34.6680,6,   194.02,2,   193.89,2,     8.29,2,     0.14,    19.80,2,     0.09,     0.01,2,     0.01,    1.419,2,    0.014,    1.951,2,    1.032,2,    0.047,2,   -999.0,9,   -999.0,9,-999.0000,-999,9,  -999.00,9,  -999.00,   -999.0,9,   -999.0,   9.3878,  26.7945
  49NZ20090521,   P21,   253,  1,     27, X12009,2,20090611,2240,-19.8293, 164.6613, 3170,    629.1,2,   7.7622,2,   7.76485,2,  34.4926,2,  34.4879,2,   201.32,2,   201.25,2,    11.71,2,     0.14,    23.34,2,     0.10,     0.01,2,     0.01,    1.652,2,    0.014,    1.604,6,    0.824,6,    0.041,6,   -999.0,9,   -999.0,9,-999.0000,-999,9,  -999.00,9,  -999.00,   -999.0,9,   -999.0,   7.6984,  26.9198
  49NZ20090521,   P21,   253,  1,     26, X12008,2,20090611,2240,-19.8293, 164.6613, 3170,    731.3,2,   6.1865,2,   6.18933,2,  34.4098,2,  34.4101,2,   194.42,2,   194.42,2,    21.78,2,     0.17,    27.52,2,     0.11,     0.01,2,     0.01,    1.922,2,    0.015,    0.889,2,    0.459,2,    0.028,2,   -999.0,9,   -999.0,9,-999.0000,-999,9,  -999.00,9,  -999.00,   -999.0,9,   -999.0,   6.1205,  27.0709
  49NZ20090521,   P21,   253,  1,     25, X12007,2,20090611,2240,-19.8293, 164.6613, 3170,    829.7,2,   5.3864,2,   5.38565,2,  34.3987,2,  34.3986,2,   187.28,2,   187.34,2,    30.55,2,     0.19,    29.72,2,     0.12,     0.01,2,     0.01,    2.075,2,    0.015,    0.533,2,    0.278,2,    0.010,2,   -999.0,9,   -999.0,9,-999.0000,-999,9,  -999.00,9,  -999.00,   -999.0,9,   -999.0,   5.3160,  27.1615
  49NZ20090521,   P21,   253,  1,     24, X12035,2,20090611,2240,-19.8293, 164.6613, 3170,    930.1,2,   4.7078,2,   4.70780,2,  34.4230,2,  34.4230,2,   176.38,2,   176.63,2,    43.14,2,     0.21,    31.63,2,     0.12,     0.01,2,     0.01,    2.216,2,    0.016,    0.276,2,    0.145,2,    0.004,2,   -999.0,9,   -999.0,9,-999.0000,-999,9,  -999.00,9,  -999.00,   -999.0,9,   -999.0,   4.6330,  27.2593
  49NZ20090521,   P21,   253,  1,     23, X12038,2,20090611,2240,-19.8293, 164.6613, 3170,   1071.4,2,   3.9804,2,   3.98051,2,  34.4739,2,  34.4740,6,   165.41,2,   165.60,2,    60.72,2,     0.25,    33.39,2,     0.13,     0.01,2,     0.01,    2.336,2,    0.016,    0.113,2,    0.061,2,    0.005,2,   -999.0,9,   -999.0,9,-999.0000,-999,9,  -999.00,9,  -999.00,   -999.0,9,   -999.0,   3.8990,  27.3780
  49NZ20090521,   P21,   253,  1,     22, X12034,2,20090611,2240,-19.8293, 164.6613, 3170,   1270.1,2,   3.3294,2,   3.32885,2,  34.5322,2,  34.5327,2,   159.87,2,   160.10,2,    78.54,2,     0.29,    34.10,2,     0.13,     0.01,2,     0.01,    2.398,2,    0.016,    0.061,2,    0.034,2,    0.000,2,   -999.0,9,   -999.0,9,-999.0000,-999,9,  -999.00,9,  -999.00,   -999.0,9,   -999.0,   3.2372,  27.4896
  49NZ20090521,   P21,   253,  1,     21, X12033,2,20090611,2240,-19.8293, 164.6613, 3170,   1470.7,2,   2.9734,2,   2.97345,2,  34.5695,2,  34.5696,2,   155.73,2,   155.94,2,    89.26,2,     0.32,    34.67,2,     0.13,     0.01,2,     0.01,    2.438,2,    0.016,    0.036,2,    0.021,2,    0.000,2,   -999.0,9,   -999.0,9,-999.0000,-999,9,  -999.00,9,  -999.00,   -999.0,9,   -999.0,   2.8683,  27.5534
  49NZ20090521,   P21,   253,  1,     20, X12032,2,20090611,2240,-19.8293, 164.6613, 3170,   1669.5,2,   2.7167,2,   2.71666,2,  34.5987,2,  34.5990,6,   151.36,2,   151.61,2,    97.55,2,     0.33,    35.11,2,     0.13,     0.01,2,     0.01,    2.475,2,    0.016,    0.012,2,    0.008,2,    0.000,2,   -999.0,9,   -999.0,9,-999.0000,-999,9,  -999.00,9,  -999.00,   -999.0,9,   -999.0,   2.5981,  27.6006
  49NZ20090521,   P21,   253,  1,     19, X12046,2,20090611,2240,-19.8293, 164.6613, 3170,   1870.0,2,   2.4751,2,   2.47491,2,  34.6236,2,  34.6242,2,   150.21,2,   150.42,2,   104.02,2,     0.35,    35.33,2,     0.13,     0.01,2,     0.01,    2.489,2,    0.016,    0.006,2,    0.004,2,    0.000,2,   -999.0,9,   -999.0,9,-999.0000,-999,9,  -999.00,9,  -999.00,   -999.0,9,   -999.0,   2.3427,  27.6422
  49NZ20090521,   P21,   253,  1,     18, X12006,2,20090611,2240,-19.8293, 164.6613, 3170,   2070.3,2,   2.2641,2,   2.26430,2,  34.6446,2,  34.6448,2,   150.85,2,   151.09,2,   108.47,2,     0.36,    35.37,2,     0.13,     0.01,2,     0.01,    2.491,2,    0.016,    0.001,2,    0.001,2,    0.000,2,   -999.0,9,   -999.0,9,-999.0000,-999,9,  -999.00,9,  -999.00,   -999.0,9,   -999.0,   2.1175,  27.6775
  49NZ20090521,   P21,   253,  1,     17, X12047,2,20090611,2240,-19.8293, 164.6613, 3170,   2270.5,2,   2.1076,2,   2.10741,2,  34.6589,2,  34.6587,2,   152.70,2,   152.85,2,   111.65,2,     0.36,    35.27,2,     0.13,     0.01,2,     0.01,    2.484,2,    0.016,    0.000,2,    0.000,2,    0.000,2,   -999.0,9,   -999.0,9,-999.0000,-999,9,  -999.00,9,  -999.00,   -999.0,9,   -999.0,   1.9460,  27.7027
  49NZ20090521,   P21,   253,  1,     16, X12004,2,20090611,2240,-19.8293, 164.6613, 3170,   2468.6,2,   2.0254,2,   2.02544,2,  34.6667,2,  34.6664,6,   153.90,2,   154.16,2,   113.53,2,     0.37,    35.20,2,     0.13,     0.01,2,     0.01,    2.476,2,    0.016,    0.001,2,    0.001,2,    0.000,2,   -999.0,9,   -999.0,9,-999.0000,-999,9,  -999.00,9,  -999.00,   -999.0,9,   -999.0,   1.8474,  27.7166
  49NZ20090521,   P21,   253,  1,     15, X12003,2,20090611,2240,-19.8293, 164.6613, 3170,   2670.1,2,   1.9479,2,   1.94792,2,  34.6733,2,  34.6728,2,   155.10,2,   155.35,2,   115.18,2,     0.37,    35.09,2,     0.13,     0.01,2,     0.01,    2.469,2,    0.016,    0.000,2,    0.002,2,    0.000,2,   -999.0,9,   -999.0,9,-999.0000,-999,9,  -999.00,9,  -999.00,   -999.0,9,   -999.0,   1.7528,  27.7292
  49NZ20090521,   P21,   253,  1,     14, X12002,2,20090611,2240,-19.8293, 164.6613, 3170,   2872.1,2,   1.8867,2,   1.88664,2,  34.6783,2,  34.6780,2,   155.93,2,   156.13,2,   117.05,2,     0.38,    35.15,2,     0.13,     0.01,2,     0.01,    2.471,2,    0.016,    0.000,2,    0.000,2,    0.000,2,   -999.0,9,   -999.0,9,-999.0000,-999,9,  -999.00,9,  -999.00,   -999.0,9,   -999.0,   1.6738,  27.7391
  49NZ20090521,   P21,   253,  1,     13, X12001,2,20090611,2240,-19.8293, 164.6613, 3170,   3081.0,2,   1.8578,2,   1.85774,2,  34.6810,2,  34.6811,2,   156.74,2,   156.96,2,   118.09,2,     0.38,    35.09,2,     0.13,     0.01,2,     0.01,    2.465,2,    0.016,    0.000,2,    0.000,2,    0.000,2,   -999.0,9,   -999.0,9,-999.0000,-999,9,  -999.00,9,  -999.00,   -999.0,9,   -999.0,   1.6252,  27.7450
  49NZ20090521,   P21,   253,  1,     12, X12030,9,20090611,2240,-19.8293, 164.6613, 3170,     10.5,2,  25.1988,2,  25.20129,2,  34.8401,2,-999.0000,9,   206.03,2,  -999.00,9,  -999.00,9,  -999.00,  -999.00,9,  -999.00,  -999.00,9,  -999.00, -999.000,9, -999.000, -999.000,9, -999.000,9, -999.000,9,   -999.0,9,   -999.0,9,-999.0000,-999,9,  -999.00,9,  -999.00,   -999.0,9,   -999.0,  25.1965,  23.1605
  49NZ20090521,   P21,   253,  1,     11, X12044,9,20090611,2240,-19.8293, 164.6613, 3170,     50.4,2,  25.2446,2,  25.25954,2,  34.9431,2,-999.0000,9,   204.85,2,  -999.00,9,  -999.00,9,  -999.00,  -999.00,9,  -999.00,  -999.00,9,  -999.00, -999.000,9, -999.000, -999.000,9, -999.000,9, -999.000,9,   -999.0,9,   -999.0,9,-999.0000,-999,9,  -999.00,9,  -999.00,   -999.0,9,   -999.0,  25.2336,  23.2270
  49NZ20090521,   P21,   253,  1,     10, X12048,9,20090611,2240,-19.8293, 164.6613, 3170,    100.7,2,  23.9485,2,  23.95085,2,  35.3684,2,-999.0000,9,   184.59,2,  -999.00,9,  -999.00,9,  -999.00,  -999.00,9,  -999.00,  -999.00,9,  -999.00, -999.000,9, -999.000, -999.000,9, -999.000,9, -999.000,9,   -999.0,9,   -999.0,9,-999.0000,-999,9,  -999.00,9,  -999.00,   -999.0,9,   -999.0,  23.9273,  23.9418
  49NZ20090521,   P21,   253,  1,      9, X12027,9,20090611,2240,-19.8293, 164.6613, 3170,    150.5,2,  22.1710,2,  22.17019,2,  35.5869,2,-999.0000,9,   169.41,2,  -999.00,9,  -999.00,9,  -999.00,  -999.00,9,  -999.00,  -999.00,9,  -999.00, -999.000,9, -999.000, -999.000,9, -999.000,9, -999.000,9,   -999.0,9,   -999.0,9,-999.0000,-999,9,  -999.00,9,  -999.00,   -999.0,9,   -999.0,  22.1410,  24.6242
  49NZ20090521,   P21,   253,  1,      8, X12026,9,20090611,2240,-19.8293, 164.6613, 3170,    200.6,2,  20.6737,2,  20.67856,2,  35.6479,2,-999.0000,9,   170.48,2,  -999.00,9,  -999.00,9,  -999.00,  -999.00,9,  -999.00,  -999.00,9,  -999.00, -999.000,9, -999.000, -999.000,9, -999.000,9, -999.000,9,   -999.0,9,   -999.0,9,-999.0000,-999,9,  -999.00,9,  -999.00,   -999.0,9,   -999.0,  20.6356,  25.0862
  49NZ20090521,   P21,   253,  1,      7, X12025,9,20090611,2240,-19.8293, 164.6613, 3170,    249.5,2,  19.3548,2,  19.35627,2,  35.6143,2,-999.0000,9,   176.71,2,  -999.00,9,  -999.00,9,  -999.00,  -999.00,9,  -999.00,  -999.00,9,  -999.00, -999.000,9, -999.000, -999.000,9, -999.000,9, -999.000,9,   -999.0,9,   -999.0,9,-999.0000,-999,9,  -999.00,9,  -999.00,   -999.0,9,   -999.0,  19.3095,  25.4111
  49NZ20090521,   P21,   253,  1,      6, X12024,9,20090611,2240,-19.8293, 164.6613, 3170,    330.0,2,  16.3123,2,  16.31128,2,  35.3509,2,-999.0000,9,   173.80,2,  -999.00,9,  -999.00,9,  -999.00,  -999.00,9,  -999.00,  -999.00,9,  -999.00, -999.000,9, -999.000, -999.000,9, -999.000,9, -999.000,9,   -999.0,9,   -999.0,9,-999.0000,-999,9,  -999.00,9,  -999.00,   -999.0,9,   -999.0,  16.2590,  25.9579
  49NZ20090521,   P21,   253,  1,      5, X12028,9,20090611,2240,-19.8293, 164.6613, 3170,    430.6,2,  12.8728,2,  12.87086,2,  35.0207,2,-999.0000,9,   185.49,2,  -999.00,9,  -999.00,9,  -999.00,  -999.00,9,  -999.00,  -999.00,9,  -999.00, -999.000,9, -999.000, -999.000,9, -999.000,9, -999.000,9,   -999.0,9,   -999.0,9,-999.0000,-999,9,  -999.00,9,  -999.00,   -999.0,9,   -999.0,  12.8134,  26.4463
  49NZ20090521,   P21,   253,  1,      4, X12022,9,20090611,2240,-19.8293, 164.6613, 3170,    530.8,2,   9.4424,2,   9.44668,2,  34.6656,2,-999.0000,9,   194.00,2,  -999.00,9,  -999.00,9,  -999.00,  -999.00,9,  -999.00,  -999.00,9,  -999.00, -999.000,9, -999.000, -999.000,9, -999.000,9, -999.000,9,   -999.0,9,   -999.0,9,-999.0000,-999,9,  -999.00,9,  -999.00,   -999.0,9,   -999.0,   9.3822,  26.7943
  49NZ20090521,   P21,   253,  1,      3, X12021,9,20090611,2240,-19.8293, 164.6613, 3170,    629.4,2,   7.7579,2,   7.76150,2,  34.4925,2,-999.0000,9,   201.26,2,  -999.00,9,  -999.00,9,  -999.00,  -999.00,9,  -999.00,  -999.00,9,  -999.00, -999.000,9, -999.000, -999.000,9, -999.000,9, -999.000,9,   -999.0,9,   -999.0,9,-999.0000,-999,9,  -999.00,9,  -999.00,   -999.0,9,   -999.0,   7.6940,  26.9204
  49NZ20090521,   P21,   253,  1,      2, X12020,9,20090611,2240,-19.8293, 164.6613, 3170,   1469.3,2,   2.9721,2,   2.97260,2,  34.5698,2,-999.0000,9,   155.71,2,  -999.00,9,  -999.00,9,  -999.00,  -999.00,9,  -999.00,  -999.00,9,  -999.00, -999.000,9, -999.000, -999.000,9, -999.000,9, -999.000,9,   -999.0,9,   -999.0,9,-999.0000,-999,9,  -999.00,9,  -999.00,   -999.0,9,   -999.0,   2.8671,  27.5537
  49NZ20090521,   P21,   253,  1,      1, X12019,2,20090611,2240,-19.8293, 164.6613, 3170,   3186.1,2,   1.8526,2,   1.85241,2,  34.6820,2,  34.6820,6,   156.66,2,   156.89,2,   118.62,2,     0.38,    35.15,2,     0.13,     0.01,2,     0.01,    2.470,2,    0.016,    0.000,2,    0.000,2,    0.000,2,   -999.0,9,   -999.0,9,-999.0000,-999,9,  -999.00,9,  -999.00,   -999.0,9,   -999.0,   1.6097,  27.7469