BOTTLE,20111109CCHDOSIOCBG
EXPOCODE,SECT_ID,STNNBR,CASTNO,SAMPNO,BTLNBR,BTLNBR_FLAG_W,DATE,TIME,LATITUDE,LONGITUDE,DEPTH,CTDPRS,CTDPRS_FLAG_W,CTDTMP,CTDTMP_FLAG_W,SBE35,SBE35_FLAG_W,CTDSAL,CTDSAL_FLAG_W,SALNTY,SALNTY_FLAG_W,CTDOXY,CTDOXY_FLAG_W,OXYGEN,OXYGEN_FLAG_W,SILCAT,SILCAT_FLAG_W,SILUNC,NITRAT,NITRAT_FLAG_W,NRAUNC,NITRIT,NITRIT_FLAG_W,NRIUNC,PHSPHT,PHSPHT_FLAG_W,PHPUNC,CFC-11,CFC-11_FLAG_W,CFC-12,CFC-12_FLAG_W,CFC113,CFC113_FLAG_W,TCARBN,TCARBN_FLAG_W,ALKALI,ALKALI_FLAG_W,PH_TOT,PH_TMP,PH_TOT_FLAG_W,DELC13,DELC13_FLAG_W,C13ERR,DELC14,DELC14_FLAG_W,C14ERR,THETA,SIG0
,,,,,,,,,,,METERS,DBAR,,ITS-90,,ITS-90,,PSS-78,,PSS-78,,UMOL/KG,,UMOL/KG,,UMOL/KG,,UMOL/KG,UMOL/KG,,UMOL/KG,UMOL/KG,,UMOL/KG,UMOL/KG,,UMOL/KG,PMOL/KG,,PMOL/KG,,PMOL/KG,,UMOL/KG,,UMOL/KG,,,DEG C,,/MILLE,,/MILLE,/MILLE,,/MILLE,DEG C,KG/M^3
  49NZ20090521,   P21,   204,  1,      0,   -999,9,20090603,1302,-17.4977,-172.9997, 2555,   -999.0,9,-999.0000,9,-999.00000,9,-999.0000,9,  35.5344,2,  -999.00,9,  -999.00,9,  -999.00,9,  -999.00,  -999.00,9,  -999.00,  -999.00,9,  -999.00, -999.000,9, -999.000, -999.000,9, -999.000,9, -999.000,9,   -999.0,9,   -999.0,9,-999.0000,-999,9,  -999.00,9,  -999.00,   -999.0,9,   -999.0,-999.0000,-999.0000
  49NZ20090521,   P21,   204,  1,     36, X12043,2,20090603,1302,-17.4977,-172.9997, 2555,      9.9,2,  28.0614,2,  28.06231,2,  35.4469,2,  35.4450,2,   196.61,2,   197.17,2,     0.88,2,     0.12,     0.05,2,     0.03,     0.01,2,     0.01,    0.104,2,    0.021,    1.426,2,    0.877,2, -999.000,5,   -999.0,9,   -999.0,9,-999.0000,-999,9,  -999.00,9,  -999.00,   -999.0,9,   -999.0,  28.0591,  22.7114
  49NZ20090521,   P21,   204,  1,     35, X12042,2,20090603,1302,-17.4977,-172.9997, 2555,     51.8,2,  28.0262,2,  28.02636,2,  35.4320,2,  35.4313,2,   196.58,2,   197.30,2,     0.81,2,     0.12,     0.05,2,     0.03,     0.01,2,     0.01,    0.108,2,    0.021,    1.441,2,    0.895,2, -999.000,5,   -999.0,9,   -999.0,9,-999.0000,-999,9,  -999.00,9,  -999.00,   -999.0,9,   -999.0,  28.0140,  22.7150
  49NZ20090521,   P21,   204,  1,     34, X12016,2,20090603,1302,-17.4977,-172.9997, 2555,    102.3,2,  26.9100,2,  26.89679,2,  35.7616,2,  35.7536,2,   198.86,2,   200.00,2,     0.83,2,     0.12,     0.05,2,     0.03,     0.01,2,     0.01,    0.175,2,    0.017,    1.603,6,    0.986,6, -999.000,5,   -999.0,9,   -999.0,9,-999.0000,-999,9,  -999.00,9,  -999.00,   -999.0,9,   -999.0,  26.8865,  23.3278
  49NZ20090521,   P21,   204,  1,     33, X12015,2,20090603,1302,-17.4977,-172.9997, 2555,    152.1,2,  24.6057,2,  24.60499,2,  35.7235,2,  35.7250,2,   179.93,2,   180.42,2,     0.65,2,     0.12,     0.95,2,     0.04,     0.03,2,     0.01,    0.257,2,    0.015,    1.768,2,    1.066,2, -999.000,5,   -999.0,9,   -999.0,9,-999.0000,-999,9,  -999.00,9,  -999.00,   -999.0,9,   -999.0,  24.5730,  24.0177
  49NZ20090521,   P21,   204,  1,     32, X12050,2,20090603,1302,-17.4977,-172.9997, 2555,    202.9,2,  22.5912,2,  22.59843,2,  35.7895,2,  35.7616,2,   172.20,2,   174.27,2,     0.85,2,     0.12,     2.06,2,     0.04,     0.02,2,     0.01,    0.325,2,    0.014,    1.937,2,    1.147,2,    0.153,2,   -999.0,9,   -999.0,9,-999.0000,-999,9,  -999.00,9,  -999.00,   -999.0,9,   -999.0,  22.5501,  24.6619
  49NZ20090521,   P21,   204,  1,     31, X12014,2,20090603,1302,-17.4977,-172.9997, 2555,    250.0,2,  21.1644,2,  21.16486,2,  35.8104,2,  35.8099,6,   165.72,2,   165.78,2,     1.06,2,     0.12,     4.00,2,     0.04,     0.01,2,     0.01,    0.479,2,    0.013,    2.072,2,    1.233,2,    0.051,2,   -999.0,9,   -999.0,9,-999.0000,-999,9,  -999.00,9,  -999.00,   -999.0,9,   -999.0,  21.1160,  25.0793
  49NZ20090521,   P21,   204,  1,     30, X12012,2,20090603,1302,-17.4977,-172.9997, 2555,    281.2,2,  19.6329,2,  19.63914,2,  35.6345,2,  35.6496,2,   168.16,2,   168.51,2,     1.34,2,     0.12,     4.82,2,     0.05,     0.01,2,     0.01,    0.529,2,    0.013,    2.190,2,    1.239,2,    0.022,2,   -999.0,9,   -999.0,9,-999.0000,-999,9,  -999.00,9,  -999.00,   -999.0,9,   -999.0,  19.5813,  25.3559
  49NZ20090521,   P21,   204,  1,     29, X12041,2,20090603,1302,-17.4977,-172.9997, 2555,    373.2,2,  14.4504,2,  14.44472,2,  35.0489,2,  35.0628,2,   155.20,2,   156.78,2,     4.95,2,     0.13,    12.34,2,     0.07,     0.01,2,     0.01,    1.061,2,    0.013,    2.070,6,    1.088,6,    0.016,6,   -999.0,9,   -999.0,9,-999.0000,-999,9,  -999.00,9,  -999.00,   -999.0,9,   -999.0,  14.3950,  26.1410
  49NZ20090521,   P21,   204,  1,     28, X12040,2,20090603,1302,-17.4977,-172.9997, 2555,    472.7,2,   9.4595,2,   9.45602,2,  34.5863,2,  34.5885,6,   168.52,2,   168.19,2,    10.27,2,     0.14,    21.45,2,     0.09,     0.01,2,     0.01,    1.602,2,    0.014,    1.622,2,    0.798,2,    0.031,2,   -999.0,9,   -999.0,9,-999.0000,-999,9,  -999.00,9,  -999.00,   -999.0,9,   -999.0,   9.4060,  26.7283
  49NZ20090521,   P21,   204,  1,     27, X12009,2,20090603,1302,-17.4977,-172.9997, 2555,    574.0,2,   7.4508,2,   7.44822,2,  34.4335,2,  34.4388,2,   190.61,2,   189.28,2,    12.70,2,     0.15,    24.85,2,     0.10,     0.01,2,     0.01,    1.780,2,    0.015,    1.521,6,    0.728,6,    0.024,6,   -999.0,9,   -999.0,9,-999.0000,-999,9,  -999.00,9,  -999.00,   -999.0,9,   -999.0,   7.3941,  26.9172
  49NZ20090521,   P21,   204,  1,     26, X12008,2,20090603,1302,-17.4977,-172.9997, 2555,    668.9,2,   5.9059,2,   5.90568,2,  34.3692,2,  34.3701,2,   190.39,2,   190.37,2,    20.94,2,     0.17,    28.73,2,     0.11,     0.00,2,     0.01,    2.018,2,    0.015,    0.693,2,    0.338,2,    0.009,2,   -999.0,9,   -999.0,9,-999.0000,-999,9,  -999.00,9,  -999.00,   -999.0,9,   -999.0,   5.8473,  27.0734
  49NZ20090521,   P21,   204,  1,     25, X12007,2,20090603,1302,-17.4977,-172.9997, 2555,    772.7,2,   5.2202,2,   5.21999,2,  34.4245,2,  34.4241,2,   162.12,2,   162.45,2,    38.00,2,     0.20,    32.21,2,     0.12,     0.01,2,     0.01,    2.264,2,    0.016,    0.192,2,    0.098,2,    0.000,2,   -999.0,9,   -999.0,9,-999.0000,-999,9,  -999.00,9,  -999.00,   -999.0,9,   -999.0,   5.1559,  27.2009
  49NZ20090521,   P21,   204,  1,     24, X12035,2,20090603,1302,-17.4977,-172.9997, 2555,    871.8,2,   4.7585,2,   4.75829,2,  34.4501,2,  34.4501,2,   154.45,2,   154.81,2,    48.46,2,     0.23,    33.54,2,     0.13,     0.00,2,     0.01,    2.355,2,    0.016,    0.104,2,    0.053,2,    0.000,2,   -999.0,9,   -999.0,9,-999.0000,-999,9,  -999.00,9,  -999.00,   -999.0,9,   -999.0,   4.6884,  27.2746
  49NZ20090521,   P21,   204,  1,     23, X12038,2,20090603,1302,-17.4977,-172.9997, 2555,    972.3,2,   4.2435,2,   4.24330,2,  34.4677,2,  34.4671,6,   150.85,2,   151.43,2,    57.56,2,     0.25,    34.45,2,     0.13,     0.00,2,     0.01,    2.424,2,    0.016,    0.053,2,    0.027,2,    0.000,2,   -999.0,9,   -999.0,9,-999.0000,-999,9,  -999.00,9,  -999.00,   -999.0,9,   -999.0,   4.1684,  27.3451
  49NZ20090521,   P21,   204,  1,     22, X12034,2,20090603,1302,-17.4977,-172.9997, 2555,   1130.5,2,   3.6532,2,   3.65306,2,  34.4953,2,  34.4957,2,   149.98,2,   150.39,2,    69.20,2,     0.27,    35.00,2,     0.13,     0.00,2,     0.01,    2.474,2,    0.016,    0.020,2,    0.011,2,    0.000,2,   -999.0,9,   -999.0,9,-999.0000,-999,9,  -999.00,9,  -999.00,   -999.0,9,   -999.0,   3.5696,  27.4282
  49NZ20090521,   P21,   204,  1,     21, X12033,2,20090603,1302,-17.4977,-172.9997, 2555,   1330.7,2,   3.2426,2,   3.24346,2,  34.5443,2,  34.5441,2,   141.97,2,   142.39,2,    83.83,2,     0.30,    35.95,2,     0.13,     0.00,2,     0.01,    2.540,2,    0.016,    0.007,2,    0.002,2,    0.000,2,   -999.0,9,   -999.0,9,-999.0000,-999,9,  -999.00,9,  -999.00,   -999.0,9,   -999.0,   3.1463,  27.5078
  49NZ20090521,   P21,   204,  1,     20, X12032,2,20090603,1302,-17.4977,-172.9997, 2555,   1529.8,2,   2.8744,2,   2.87449,2,  34.5773,2,  34.5776,6,   141.48,2,   141.83,2,    95.65,2,     0.33,    36.09,2,     0.13,     0.01,2,     0.01,    2.550,2,    0.016,    0.003,2,    0.001,2,    0.000,2,   -999.0,9,   -999.0,9,-999.0000,-999,9,  -999.00,9,  -999.00,   -999.0,9,   -999.0,   2.7655,  27.5688
  49NZ20090521,   P21,   204,  1,     19, X12046,2,20090603,1302,-17.4977,-172.9997, 2555,   1729.9,2,   2.6233,2,   2.62335,2,  34.5968,2,  34.5971,2,   143.00,2,   143.41,2,   102.92,2,     0.35,    36.03,2,     0.13,     0.01,2,     0.01,    2.548,2,    0.016,    0.001,2,    0.001,2,    0.000,2,   -999.0,9,   -999.0,9,-999.0000,-999,9,  -999.00,9,  -999.00,   -999.0,9,   -999.0,   2.5008,  27.6074
  49NZ20090521,   P21,   204,  1,     18, X12006,2,20090603,1302,-17.4977,-172.9997, 2555,   1931.2,2,   2.4572,2,   2.45764,2,  34.6118,2,  34.6120,2,   142.96,2,   143.36,2,   107.99,2,     0.36,    36.21,2,     0.13,     0.01,2,     0.01,    2.551,2,    0.016,    0.001,2,    0.000,2,    0.000,2,   -999.0,9,   -999.0,9,-999.0000,-999,9,  -999.00,9,  -999.00,   -999.0,9,   -999.0,   2.3198,  27.6347
  49NZ20090521,   P21,   204,  1,     17, X12047,2,20090603,1302,-17.4977,-172.9997, 2555,   2130.2,2,   2.3408,2,   2.34068,2,  34.6211,2,  34.6213,6,   144.24,2,   144.69,2,   110.33,2,     0.36,    36.18,2,     0.13,     0.01,2,     0.01,    2.548,2,    0.016,    0.001,2,    0.000,2,    0.000,2,   -999.0,9,   -999.0,9,-999.0000,-999,9,  -999.00,9,  -999.00,   -999.0,9,   -999.0,   2.1879,  27.6530
  49NZ20090521,   P21,   204,  1,     16, X12004,2,20090603,1302,-17.4977,-172.9997, 2555,   2331.3,2,   2.0615,2,   2.06115,2,  34.6439,2,  34.6442,2,   143.97,2,   144.31,2,   120.23,2,     0.38,    36.23,2,     0.13,     0.00,2,     0.01,    2.551,2,    0.016,    0.000,2,    0.001,2,    0.000,2,   -999.0,9,   -999.0,9,-999.0000,-999,9,  -999.00,9,  -999.00,   -999.0,9,   -999.0,   1.8954,  27.6946
  49NZ20090521,   P21,   204,  1,     15, X12003,9,20090603,1302,-17.4977,-172.9997, 2555,     10.8,2,  28.0636,2,  28.06235,2,  35.4474,2,-999.0000,9,   196.60,2,  -999.00,9,  -999.00,9,  -999.00,  -999.00,9,  -999.00,  -999.00,9,  -999.00, -999.000,9, -999.000, -999.000,9, -999.000,9, -999.000,9,   -999.0,9,   -999.0,9,-999.0000,-999,9,  -999.00,9,  -999.00,   -999.0,9,   -999.0,  28.0610,  22.7111
  49NZ20090521,   P21,   204,  1,     14, X12002,9,20090603,1302,-17.4977,-172.9997, 2555,     51.7,2,  28.0339,2,  28.03174,2,  35.4328,2,-999.0000,9,   196.66,2,  -999.00,9,  -999.00,9,  -999.00,  -999.00,9,  -999.00,  -999.00,9,  -999.00, -999.000,9, -999.000, -999.000,9, -999.000,9, -999.000,9,   -999.0,9,   -999.0,9,-999.0000,-999,9,  -999.00,9,  -999.00,   -999.0,9,   -999.0,  28.0217,  22.7131
  49NZ20090521,   P21,   204,  1,     13, X12001,9,20090603,1302,-17.4977,-172.9997, 2555,     51.6,2,  28.0234,2,  28.02373,2,  35.4310,2,-999.0000,9,   196.66,2,  -999.00,9,  -999.00,9,  -999.00,  -999.00,9,  -999.00,  -999.00,9,  -999.00, -999.000,9, -999.000, -999.000,9, -999.000,9, -999.000,9,   -999.0,9,   -999.0,9,-999.0000,-999,9,  -999.00,9,  -999.00,   -999.0,9,   -999.0,  28.0112,  22.7151
  49NZ20090521,   P21,   204,  1,     12, X12030,9,20090603,1302,-17.4977,-172.9997, 2555,    101.2,2,  26.8455,2,  26.84449,2,  35.7569,2,-999.0000,9,   198.95,2,  -999.00,9,  -999.00,9,  -999.00,  -999.00,9,  -999.00,  -999.00,9,  -999.00, -999.000,9, -999.000, -999.000,9, -999.000,9, -999.000,9,   -999.0,9,   -999.0,9,-999.0000,-999,9,  -999.00,9,  -999.00,   -999.0,9,   -999.0,  26.8223,  23.3448
  49NZ20090521,   P21,   204,  1,     11, X12044,9,20090603,1302,-17.4977,-172.9997, 2555,    101.0,2,  26.8155,2,  26.82017,2,  35.7556,2,-999.0000,9,   198.78,2,  -999.00,9,  -999.00,9,  -999.00,  -999.00,9,  -999.00,  -999.00,9,  -999.00, -999.000,9, -999.000, -999.000,9, -999.000,9, -999.000,9,   -999.0,9,   -999.0,9,-999.0000,-999,9,  -999.00,9,  -999.00,   -999.0,9,   -999.0,  26.7924,  23.3533
  49NZ20090521,   P21,   204,  1,     10, X12048,9,20090603,1302,-17.4977,-172.9997, 2555,    153.4,2,  24.5549,2,  24.57388,2,  35.7212,2,-999.0000,9,   180.31,2,  -999.00,9,  -999.00,9,  -999.00,  -999.00,9,  -999.00,  -999.00,9,  -999.00, -999.000,9, -999.000, -999.000,9, -999.000,9, -999.000,9,   -999.0,9,   -999.0,9,-999.0000,-999,9,  -999.00,9,  -999.00,   -999.0,9,   -999.0,  24.5220,  24.0313
  49NZ20090521,   P21,   204,  1,      9, X12027,9,20090603,1302,-17.4977,-172.9997, 2555,    152.3,2,  24.6071,2,  24.60207,2,  35.7242,2,-999.0000,9,   179.97,2,  -999.00,9,  -999.00,9,  -999.00,  -999.00,9,  -999.00,  -999.00,9,  -999.00, -999.000,9, -999.000, -999.000,9, -999.000,9, -999.000,9,   -999.0,9,   -999.0,9,-999.0000,-999,9,  -999.00,9,  -999.00,   -999.0,9,   -999.0,  24.5743,  24.0178
  49NZ20090521,   P21,   204,  1,      8, X12026,9,20090603,1302,-17.4977,-172.9997, 2555,    201.7,2,  22.6308,2,  22.63864,2,  35.7804,2,-999.0000,9,   173.17,2,  -999.00,9,  -999.00,9,  -999.00,  -999.00,9,  -999.00,  -999.00,9,  -999.00, -999.000,9, -999.000, -999.000,9, -999.000,9, -999.000,9,   -999.0,9,   -999.0,9,-999.0000,-999,9,  -999.00,9,  -999.00,   -999.0,9,   -999.0,  22.5899,  24.6436
  49NZ20090521,   P21,   204,  1,      7, X12025,9,20090603,1302,-17.4977,-172.9997, 2555,    200.0,2,  22.6233,2,  22.62251,2,  35.7672,2,-999.0000,9,   173.49,2,  -999.00,9,  -999.00,9,  -999.00,  -999.00,9,  -999.00,  -999.00,9,  -999.00, -999.000,9, -999.000, -999.000,9, -999.000,9, -999.000,9,   -999.0,9,   -999.0,9,-999.0000,-999,9,  -999.00,9,  -999.00,   -999.0,9,   -999.0,  22.5828,  24.6356
  49NZ20090521,   P21,   204,  1,      6, X12024,9,20090603,1302,-17.4977,-172.9997, 2555,    247.8,2,  21.1700,2,  21.16679,2,  35.8112,2,-999.0000,9,   165.85,2,  -999.00,9,  -999.00,9,  -999.00,  -999.00,9,  -999.00,  -999.00,9,  -999.00, -999.000,9, -999.000, -999.000,9, -999.000,9, -999.000,9,   -999.0,9,   -999.0,9,-999.0000,-999,9,  -999.00,9,  -999.00,   -999.0,9,   -999.0,  21.1220,  25.0782
  49NZ20090521,   P21,   204,  1,      5, X12028,9,20090603,1302,-17.4977,-172.9997, 2555,    249.1,2,  21.1685,2,  21.16805,2,  35.8111,2,-999.0000,9,   165.74,2,  -999.00,9,  -999.00,9,  -999.00,  -999.00,9,  -999.00,  -999.00,9,  -999.00, -999.000,9, -999.000, -999.000,9, -999.000,9, -999.000,9,   -999.0,9,   -999.0,9,-999.0000,-999,9,  -999.00,9,  -999.00,   -999.0,9,   -999.0,  21.1203,  25.0786
  49NZ20090521,   P21,   204,  1,      4, X12022,9,20090603,1302,-17.4977,-172.9997, 2555,    282.9,2,  19.4976,2,  19.49450,2,  35.6203,2,-999.0000,9,   169.12,2,  -999.00,9,  -999.00,9,  -999.00,  -999.00,9,  -999.00,  -999.00,9,  -999.00, -999.000,9, -999.000, -999.000,9, -999.000,9, -999.000,9,   -999.0,9,   -999.0,9,-999.0000,-999,9,  -999.00,9,  -999.00,   -999.0,9,   -999.0,  19.4459,  25.3803
  49NZ20090521,   P21,   204,  1,      3, X12021,9,20090603,1302,-17.4977,-172.9997, 2555,    281.4,2,  19.6065,2,  19.61586,2,  35.6327,2,-999.0000,9,   168.39,2,  -999.00,9,  -999.00,9,  -999.00,  -999.00,9,  -999.00,  -999.00,9,  -999.00, -999.000,9, -999.000, -999.000,9, -999.000,9, -999.000,9,   -999.0,9,   -999.0,9,-999.0000,-999,9,  -999.00,9,  -999.00,   -999.0,9,   -999.0,  19.5549,  25.3614
  49NZ20090521,   P21,   204,  1,      2, X12020,2,20090603,1302,-17.4977,-172.9997, 2555,   1328.5,2,   3.2471,2,   3.24754,2,  34.5439,2,  34.5440,2,   141.96,2,   142.41,2,    83.89,2,     0.30,    35.94,2,     0.13,     0.00,2,     0.01,    2.539,2,    0.016, -999.000,9, -999.000,9, -999.000,9,   -999.0,9,   -999.0,9,-999.0000,-999,9,  -999.00,9,  -999.00,   -999.0,9,   -999.0,   3.1509,  27.5071
  49NZ20090521,   P21,   204,  1,      1, X12019,2,20090603,1302,-17.4977,-172.9997, 2555,   2567.5,2,   1.7431,2,   1.74326,2,  34.6668,2,  34.6667,6,   147.49,2,   147.76,2,   129.25,2,     0.40,    36.24,2,     0.13,     0.00,2,     0.01,    2.547,2,    0.016,    0.001,2,    0.000,2,    0.000,2,   -999.0,9,   -999.0,9,-999.0000,-999,9,  -999.00,9,  -999.00,   -999.0,9,   -999.0,   1.5615,  27.7382