BOTTLE,20111109CCHDOSIOCBG
EXPOCODE,SECT_ID,STNNBR,CASTNO,SAMPNO,BTLNBR,BTLNBR_FLAG_W,DATE,TIME,LATITUDE,LONGITUDE,DEPTH,CTDPRS,CTDPRS_FLAG_W,CTDTMP,CTDTMP_FLAG_W,SBE35,SBE35_FLAG_W,CTDSAL,CTDSAL_FLAG_W,SALNTY,SALNTY_FLAG_W,CTDOXY,CTDOXY_FLAG_W,OXYGEN,OXYGEN_FLAG_W,SILCAT,SILCAT_FLAG_W,SILUNC,NITRAT,NITRAT_FLAG_W,NRAUNC,NITRIT,NITRIT_FLAG_W,NRIUNC,PHSPHT,PHSPHT_FLAG_W,PHPUNC,CFC-11,CFC-11_FLAG_W,CFC-12,CFC-12_FLAG_W,CFC113,CFC113_FLAG_W,TCARBN,TCARBN_FLAG_W,ALKALI,ALKALI_FLAG_W,PH_TOT,PH_TMP,PH_TOT_FLAG_W,DELC13,DELC13_FLAG_W,C13ERR,DELC14,DELC14_FLAG_W,C14ERR,THETA,SIG0
,,,,,,,,,,,METERS,DBAR,,ITS-90,,ITS-90,,PSS-78,,PSS-78,,UMOL/KG,,UMOL/KG,,UMOL/KG,,UMOL/KG,UMOL/KG,,UMOL/KG,UMOL/KG,,UMOL/KG,UMOL/KG,,UMOL/KG,PMOL/KG,,PMOL/KG,,PMOL/KG,,UMOL/KG,,UMOL/KG,,,DEG C,,/MILLE,,/MILLE,/MILLE,,/MILLE,DEG C,KG/M^3
  49NZ20090521,   P21,   275,  1,      0,   -999,9,20090615,1707,-23.3170, 158.1187, 2448,   -999.0,9,-999.0000,9,-999.00000,9,-999.0000,9,  35.2524,2,  -999.00,9,  -999.00,9,  -999.00,9,  -999.00,  -999.00,9,  -999.00,  -999.00,9,  -999.00, -999.000,9, -999.000, -999.000,9, -999.000,9, -999.000,9,   -999.0,9,   -999.0,9,-999.0000,-999,9,  -999.00,9,  -999.00,   -999.0,9,   -999.0,-999.0000,-999.0000
  49NZ20090521,   P21,   275,  1,     36, X12043,2,20090615,1707,-23.3170, 158.1187, 2448,     10.6,2,  23.5502,2,  23.54983,2,  35.2493,2,  35.2470,2,   210.11,2,   209.82,2,     0.26,2,     0.12,     0.08,2,     0.03,     0.01,2,     0.01,    0.087,2,    0.024,    1.709,2,    1.064,2, -999.000,5,   1982.4,2,   2308.0,2,   8.0861,  25,6,  -999.00,9,  -999.00,   -999.0,9,   -999.0,  23.5480,  23.9633
  49NZ20090521,   P21,   275,  1,     35, X12042,2,20090615,1707,-23.3170, 158.1187, 2448,     50.4,2,  23.5332,2,  23.53425,2,  35.2609,2,  35.2589,2,   210.13,2,   209.91,2,     0.30,2,     0.12,     0.08,2,     0.03,     0.01,2,     0.01,    0.088,2,    0.024,    1.709,2,    1.061,2, -999.000,5,   1982.9,6,   2308.7,2,   8.0836,  25,2,  -999.00,9,  -999.00,   -999.0,9,   -999.0,  23.5227,  23.9795
  49NZ20090521,   P21,   275,  1,     34, X12016,2,20090615,1707,-23.3170, 158.1187, 2448,    101.3,2,  22.6995,2,  22.69657,2,  35.5162,2,  35.5182,2,   196.80,2,   195.79,2,     0.30,2,     0.12,     0.98,2,     0.04,     0.16,2,     0.01,    0.191,2,    0.016,    1.838,6,    1.125,6, -999.000,5,   2023.6,2,   2326.8,6,   8.0417,  25,2,  -999.00,9,  -999.00,   -999.0,9,   -999.0,  22.6790,  24.4175
  49NZ20090521,   P21,   275,  1,     33, X12015,2,20090615,1707,-23.3170, 158.1187, 2448,    150.8,2,  20.4430,2,  20.44393,2,  35.6432,2,  35.6409,2,   175.63,2,   175.39,2,     0.71,2,     0.12,     4.39,2,     0.05,     0.02,2,     0.01,    0.407,2,    0.013,    2.031,2,    1.212,2,    0.134,2,   2065.5,2,   2334.9,2,   7.9799,  25,6,  -999.00,9,  -999.00,   -999.0,9,   -999.0,  20.4146,  25.1421
  49NZ20090521,   P21,   275,  1,     32, X12050,2,20090615,1707,-23.3170, 158.1187, 2448,    200.0,2,  19.2943,2,  19.29430,2,  35.6492,2,  35.6467,2,   190.92,2,   189.86,2,     0.81,2,     0.12,     4.01,2,     0.04,     0.02,2,     0.01,    0.371,2,    0.014,    2.121,2,    1.273,2,    0.119,2,   2063.6,2,   2333.6,2,   7.9821,  25,2,  -999.00,9,  -999.00,   -999.0,9,   -999.0,  19.2581,  25.4511
  49NZ20090521,   P21,   275,  1,     31, X12014,2,20090615,1707,-23.3170, 158.1187, 2448,    248.5,2,  18.1268,2,  18.11981,2,  35.6057,2,  35.6083,6,   186.31,2,   185.90,2,     1.14,2,     0.12,     5.52,2,     0.05,     0.01,2,     0.01,    0.473,2,    0.013,    2.181,2,    1.289,2,    0.052,2,   2077.9,2,   2331.5,2,   7.9539,  25,2,  -999.00,9,  -999.00,   -999.0,9,   -999.0,  18.0837,  25.7153
  49NZ20090521,   P21,   275,  1,     30, X12012,2,20090615,1707,-23.3170, 158.1187, 2448,    329.1,2,  16.3825,2,  16.37643,2,  35.4790,2,  35.4744,2,   188.48,2,   188.12,2,     1.88,2,     0.12,     7.58,2,     0.05,     0.01,2,     0.01,    0.607,2,    0.013,    2.280,2,    1.312,2,    0.052,2,   2095.4,2,   2325.4,2,   7.9134,  25,2,  -999.00,9,  -999.00,   -999.0,9,   -999.0,  16.3292,  26.0401
  49NZ20090521,   P21,   275,  1,     29, X12041,2,20090615,1707,-23.3170, 158.1187, 2448,    429.1,2,  12.6722,2,  12.67506,2,  35.0615,2,  35.0598,2,   186.76,2,   187.06,2,     4.39,2,     0.13,    13.81,2,     0.07,     0.01,2,     0.01,    1.019,2,    0.013,    2.218,6,    1.203,6,    0.053,6,   2123.7,2,   2307.3,2,   7.8213,  25,2,  -999.00,9,  -999.00,   -999.0,9,   -999.0,  12.6136,  26.5176
  49NZ20090521,   P21,   275,  1,     28, X12040,2,20090615,1707,-23.3170, 158.1187, 2448,    530.5,2,   9.9952,2,   9.99621,2,  34.7426,2,  34.7420,6,   194.04,2,   193.99,2,     7.10,2,     0.13,    18.61,2,     0.08,     0.01,2,     0.01,    1.338,2,    0.014,    2.049,2,    1.056,2,    0.066,2,   2139.8,2,   2294.4,2,   7.7615,  25,2,  -999.00,9,  -999.00,   -999.0,9,   -999.0,   9.9328,  26.7624
  49NZ20090521,   P21,   275,  1,     27, X12009,2,20090615,1707,-23.3170, 158.1187, 2448,    632.1,2,   8.1068,2,   8.10746,2,  34.5527,2,  34.5501,2,   201.10,2,   201.33,2,    10.78,2,     0.14,    22.38,2,     0.10,     0.01,2,     0.01,    1.580,2,    0.014,    1.708,6,    0.855,6,    0.055,6,   2150.9,2,   2289.9,2,   7.7244,  25,2,  -999.00,9,  -999.00,   -999.0,9,   -999.0,   8.0410,  26.9164
  49NZ20090521,   P21,   275,  1,     26, X12008,2,20090615,1707,-23.3170, 158.1187, 2448,    730.8,2,   6.7980,2,   6.79636,2,  34.4580,2,  34.4575,2,   200.10,2,   199.94,2,    17.43,2,     0.16,    25.54,2,     0.10,     0.01,2,     0.01,    1.800,2,    0.015,    1.138,2,    0.571,2,    0.051,2,   2165.5,6,   2292.1,2,   7.6935,  25,2,  -999.00,9,  -999.00,   -999.0,9,   -999.0,   6.7286,  27.0289
  49NZ20090521,   P21,   275,  1,     25, X12007,2,20090615,1707,-23.3170, 158.1187, 2448,    830.2,2,   5.9951,2,   5.99513,2,  34.4313,2,  34.4311,2,   194.29,2,   194.20,2,    25.21,2,     0.17,    27.75,2,     0.11,     0.01,2,     0.01,    1.943,2,    0.015, -999.000,5, -999.000,5, -999.000,5,   2179.9,2,   2297.5,6,   7.6709,  25,2,  -999.00,9,  -999.00,   -999.0,9,   -999.0,   5.9208,  27.1133
  49NZ20090521,   P21,   275,  1,     24, X12035,2,20090615,1707,-23.3170, 158.1187, 2448,    930.5,2,   5.1302,2,   5.12928,2,  34.4411,2,  34.4415,2,   182.75,2,   182.60,2,    38.70,2,     0.20,    30.12,2,     0.12,     0.01,2,     0.01,    2.114,2,    0.015,    0.385,2,    0.199,2,    0.000,2,   2203.4,2,   2311.2,2,   7.6430,  25,2,  -999.00,9,  -999.00,   -999.0,9,   -999.0,   5.0523,  27.2261
  49NZ20090521,   P21,   275,  1,     23, X12038,2,20090615,1707,-23.3170, 158.1187, 2448,   1069.0,2,   4.4068,2,   4.40710,2,  34.4772,2,  34.4778,6,   170.92,2,   170.98,2,    54.49,2,     0.24,    32.05,2,     0.12,     0.01,2,     0.01,    2.252,2,    0.016,    0.185,2,    0.095,2,    0.000,2,   2227.9,2,   2327.5,2,   7.6208,  25,2,  -999.00,9,  -999.00,   -999.0,9,   -999.0,   4.3221,  27.3363
  49NZ20090521,   P21,   275,  1,     22, X12034,2,20090615,1707,-23.3170, 158.1187, 2448,   1270.9,2,   3.6521,2,   3.65189,2,  34.5291,2,  34.5293,2,   157.26,2,   157.29,2,    74.32,2,     0.28,    33.85,2,     0.13,     0.01,2,     0.01,    2.397,2,    0.016,    0.054,2,    0.026,2,    0.000,2,   2256.6,2,   2350.1,2,   7.5976,  25,2,  -999.00,9,  -999.00,   -999.0,9,   -999.0,   3.5567,  27.4564
  49NZ20090521,   P21,   275,  1,     21, X12033,2,20090615,1707,-23.3170, 158.1187, 2448,   1470.3,2,   3.1361,2,   3.13605,2,  34.5730,2,  34.5730,2,   148.84,2,   148.70,2,    88.95,2,     0.31,    34.98,2,     0.13,     0.01,2,     0.01,    2.480,2,    0.016,    0.014,2,    0.008,2,    0.000,2,   2277.0,2,   2366.1,2,   7.5835,  25,2,  -999.00,9,  -999.00,   -999.0,9,   -999.0,   3.0292,  27.5415
  49NZ20090521,   P21,   275,  1,     20, X12032,2,20090615,1707,-23.3170, 158.1187, 2448,   1670.4,2,   2.7576,2,   2.75761,2,  34.6077,2,  34.6081,2,   146.90,2,   146.85,2,    97.84,2,     0.33,    35.32,2,     0.13,     0.01,2,     0.01,    2.502,2,    0.016,    0.002,2,    0.001,2,    0.000,2,   2288.6,2,   2375.6,2,   7.5790,  25,6,  -999.00,9,  -999.00,   -999.0,9,   -999.0,   2.6383,  27.6043
  49NZ20090521,   P21,   275,  1,     19, X12046,2,20090615,1707,-23.3170, 158.1187, 2448,   1869.3,2,   2.5185,2,   2.51858,2,  34.6341,2,  34.6344,6,   151.50,2,   151.44,2,    99.79,2,     0.34,    34.99,2,     0.13,     0.01,2,     0.01,    2.480,2,    0.016,    0.001,2,    0.000,2,    0.000,2,   2288.3,2,   2376.3,2,   7.5827,  25,2,  -999.00,9,  -999.00,   -999.0,9,   -999.0,   2.3855,  27.6470
  49NZ20090521,   P21,   275,  1,     18, X12006,2,20090615,1707,-23.3170, 158.1187, 2448,   2069.3,2,   2.3426,2,   2.34218,2,  34.6574,2,  34.6575,2,   158.69,2,   158.80,2,    98.39,2,     0.34,    34.38,2,     0.13,     0.01,2,     0.01,    2.430,2,    0.016,    0.007,2,    0.004,2,    0.000,2,   2283.6,2,   2374.1,2,   7.5885,  25,2,  -999.00,9,  -999.00,   -999.0,9,   -999.0,   2.1949,  27.6815
  49NZ20090521,   P21,   275,  1,     17, X12047,2,20090615,1707,-23.3170, 158.1187, 2448,   2269.7,2,   2.1672,2,   2.16723,2,  34.6844,2,  34.6850,2,   169.34,2,   169.47,2,    94.83,2,     0.33,    33.41,2,     0.13,     0.01,2,     0.01,    2.348,2,    0.016,    0.005,2,    0.001,2,    0.000,2,   2274.4,2,   2368.4,2,   7.5977,  25,2,  -999.00,9,  -999.00,   -999.0,9,   -999.0,   2.0046,  27.7185
  49NZ20090521,   P21,   275,  1,     16, X12004,9,20090615,1707,-23.3170, 158.1187, 2448,     50.4,2,  23.5342,2,  23.53487,2,  35.2611,2,-999.0000,9,   210.15,2,  -999.00,9,  -999.00,9,  -999.00,  -999.00,9,  -999.00,  -999.00,9,  -999.00, -999.000,9, -999.000, -999.000,9, -999.000,9, -999.000,9,   -999.0,9,   -999.0,9,-999.0000,-999,9,  -999.00,9,  -999.00,   -999.0,9,   -999.0,  23.5237,  23.9794
  49NZ20090521,   P21,   275,  1,     15, X12003,9,20090615,1707,-23.3170, 158.1187, 2448,    101.3,2,  22.6963,2,  22.69772,2,  35.5176,2,-999.0000,9,   196.67,2,  -999.00,9,  -999.00,9,  -999.00,  -999.00,9,  -999.00,  -999.00,9,  -999.00, -999.000,9, -999.000, -999.000,9, -999.000,9, -999.000,9,   -999.0,9,   -999.0,9,-999.0000,-999,9,  -999.00,9,  -999.00,   -999.0,9,   -999.0,  22.6758,  24.4195
  49NZ20090521,   P21,   275,  1,     14, X12002,9,20090615,1707,-23.3170, 158.1187, 2448,     10.5,2,  23.5442,2,  23.54375,2,  35.2492,2,-999.0000,9,   210.04,2,  -999.00,9,  -999.00,9,  -999.00,  -999.00,9,  -999.00,  -999.00,9,  -999.00, -999.000,9, -999.000, -999.000,9, -999.000,9, -999.000,9,   -999.0,9,   -999.0,9,-999.0000,-999,9,  -999.00,9,  -999.00,   -999.0,9,   -999.0,  23.5420,  23.9650
  49NZ20090521,   P21,   275,  1,     13, X12001,9,20090615,1707,-23.3170, 158.1187, 2448,    200.1,2,  19.2875,2,  19.28763,2,  35.6494,2,-999.0000,9,   190.91,2,  -999.00,9,  -999.00,9,  -999.00,  -999.00,9,  -999.00,  -999.00,9,  -999.00, -999.000,9, -999.000, -999.000,9, -999.000,9, -999.000,9,   -999.0,9,   -999.0,9,-999.0000,-999,9,  -999.00,9,  -999.00,   -999.0,9,   -999.0,  19.2513,  25.4530
  49NZ20090521,   P21,   275,  1,     12, X12030,9,20090615,1707,-23.3170, 158.1187, 2448,    248.7,2,  18.1424,2,  18.14099,2,  35.6075,2,-999.0000,9,   186.22,2,  -999.00,9,  -999.00,9,  -999.00,  -999.00,9,  -999.00,  -999.00,9,  -999.00, -999.000,9, -999.000, -999.000,9, -999.000,9, -999.000,9,   -999.0,9,   -999.0,9,-999.0000,-999,9,  -999.00,9,  -999.00,   -999.0,9,   -999.0,  18.0992,  25.7128
  49NZ20090521,   P21,   275,  1,     11, X12044,9,20090615,1707,-23.3170, 158.1187, 2448,    328.8,2,  16.3884,2,  16.38976,2,  35.4797,2,-999.0000,9,   188.57,2,  -999.00,9,  -999.00,9,  -999.00,  -999.00,9,  -999.00,  -999.00,9,  -999.00, -999.000,9, -999.000, -999.000,9, -999.000,9, -999.000,9,   -999.0,9,   -999.0,9,-999.0000,-999,9,  -999.00,9,  -999.00,   -999.0,9,   -999.0,  16.3351,  26.0393
  49NZ20090521,   P21,   275,  1,     10, X12048,9,20090615,1707,-23.3170, 158.1187, 2448,    429.2,2,  12.8044,2,  12.80290,2,  35.0750,2,-999.0000,9,   186.32,2,  -999.00,9,  -999.00,9,  -999.00,  -999.00,9,  -999.00,  -999.00,9,  -999.00, -999.000,9, -999.000, -999.000,9, -999.000,9, -999.000,9,   -999.0,9,   -999.0,9,-999.0000,-999,9,  -999.00,9,  -999.00,   -999.0,9,   -999.0,  12.7454,  26.5020
  49NZ20090521,   P21,   275,  1,      9, X12027,9,20090615,1707,-23.3170, 158.1187, 2448,    530.5,2,   9.9964,2,   9.99732,2,  34.7432,2,-999.0000,9,   194.19,2,  -999.00,9,  -999.00,9,  -999.00,  -999.00,9,  -999.00,  -999.00,9,  -999.00, -999.000,9, -999.000, -999.000,9, -999.000,9, -999.000,9,   -999.0,9,   -999.0,9,-999.0000,-999,9,  -999.00,9,  -999.00,   -999.0,9,   -999.0,   9.9340,  26.7627
  49NZ20090521,   P21,   275,  1,      8, X12026,9,20090615,1707,-23.3170, 158.1187, 2448,    632.0,2,   8.1038,2,   8.10536,2,  34.5514,2,-999.0000,9,   201.40,2,  -999.00,9,  -999.00,9,  -999.00,  -999.00,9,  -999.00,  -999.00,9,  -999.00, -999.000,9, -999.000, -999.000,9, -999.000,9, -999.000,9,   -999.0,9,   -999.0,9,-999.0000,-999,9,  -999.00,9,  -999.00,   -999.0,9,   -999.0,   8.0380,  26.9159
  49NZ20090521,   P21,   275,  1,      7, X12025,9,20090615,1707,-23.3170, 158.1187, 2448,    730.7,2,   6.8029,2,   6.80339,2,  34.4582,2,-999.0000,9,   200.12,2,  -999.00,9,  -999.00,9,  -999.00,  -999.00,9,  -999.00,  -999.00,9,  -999.00, -999.000,9, -999.000, -999.000,9, -999.000,9, -999.000,9,   -999.0,9,   -999.0,9,-999.0000,-999,9,  -999.00,9,  -999.00,   -999.0,9,   -999.0,   6.7335,  27.0284
  49NZ20090521,   P21,   275,  1,      6, X12024,9,20090615,1707,-23.3170, 158.1187, 2448,    830.2,2,   5.9882,2,   5.99154,2,  34.4316,2,-999.0000,9,   194.31,2,  -999.00,9,  -999.00,9,  -999.00,  -999.00,9,  -999.00,  -999.00,9,  -999.00, -999.000,9, -999.000, -999.000,9, -999.000,9, -999.000,9,   -999.0,9,   -999.0,9,-999.0000,-999,9,  -999.00,9,  -999.00,   -999.0,9,   -999.0,   5.9139,  27.1144
  49NZ20090521,   P21,   275,  1,      5, X12028,9,20090615,1707,-23.3170, 158.1187, 2448,    930.6,2,   5.1318,2,   5.13191,2,  34.4412,2,-999.0000,9,   182.78,2,  -999.00,9,  -999.00,9,  -999.00,  -999.00,9,  -999.00,  -999.00,9,  -999.00, -999.000,9, -999.000, -999.000,9, -999.000,9, -999.000,9,   -999.0,9,   -999.0,9,-999.0000,-999,9,  -999.00,9,  -999.00,   -999.0,9,   -999.0,   5.0539,  27.2260
  49NZ20090521,   P21,   275,  1,      4, X12022,9,20090615,1707,-23.3170, 158.1187, 2448,   1068.7,2,   4.4018,2,   4.40129,2,  34.4776,2,-999.0000,9,   171.11,2,  -999.00,9,  -999.00,9,  -999.00,  -999.00,9,  -999.00,  -999.00,9,  -999.00, -999.000,9, -999.000, -999.000,9, -999.000,9, -999.000,9,   -999.0,9,   -999.0,9,-999.0000,-999,9,  -999.00,9,  -999.00,   -999.0,9,   -999.0,   4.3171,  27.3372
  49NZ20090521,   P21,   275,  1,      3, X12021,9,20090615,1707,-23.3170, 158.1187, 2448,    151.0,2,  20.4611,2,  20.46463,2,  35.6431,2,-999.0000,9,   175.66,2,  -999.00,9,  -999.00,9,  -999.00,  -999.00,9,  -999.00,  -999.00,9,  -999.00, -999.000,9, -999.000, -999.000,9, -999.000,9, -999.000,9,   -999.0,9,   -999.0,9,-999.0000,-999,9,  -999.00,9,  -999.00,   -999.0,9,   -999.0,  20.4326,  25.1371
  49NZ20090521,   P21,   275,  1,      2, X12020,9,20090615,1707,-23.3170, 158.1187, 2448,   1470.7,2,   3.1351,2,   3.13526,2,  34.5731,2,-999.0000,9,   148.83,2,  -999.00,9,  -999.00,9,  -999.00,  -999.00,9,  -999.00,  -999.00,9,  -999.00, -999.000,9, -999.000, -999.000,9, -999.000,9, -999.000,9,   -999.0,9,   -999.0,9,-999.0000,-999,9,  -999.00,9,  -999.00,   -999.0,9,   -999.0,   3.0282,  27.5418
  49NZ20090521,   P21,   275,  1,      1, X12019,2,20090615,1707,-23.3170, 158.1187, 2448,   2462.8,2,   1.9605,2,   1.96039,2,  34.7055,2,  34.7060,6,   177.42,2,   177.52,2,    96.02,2,     0.33,    32.76,2,     0.12,     0.01,2,     0.01,    2.303,2,    0.016,    0.007,2,    0.002,2,    0.000,2,   2270.4,2,   2367.5,2,   7.6061,  25,2,  -999.00,9,  -999.00,   -999.0,9,   -999.0,   1.7841,  27.7526