BOTTLE,20111109CCHDOSIOCBG
EXPOCODE,SECT_ID,STNNBR,CASTNO,SAMPNO,BTLNBR,BTLNBR_FLAG_W,DATE,TIME,LATITUDE,LONGITUDE,DEPTH,CTDPRS,CTDPRS_FLAG_W,CTDTMP,CTDTMP_FLAG_W,SBE35,SBE35_FLAG_W,CTDSAL,CTDSAL_FLAG_W,SALNTY,SALNTY_FLAG_W,CTDOXY,CTDOXY_FLAG_W,OXYGEN,OXYGEN_FLAG_W,SILCAT,SILCAT_FLAG_W,SILUNC,NITRAT,NITRAT_FLAG_W,NRAUNC,NITRIT,NITRIT_FLAG_W,NRIUNC,PHSPHT,PHSPHT_FLAG_W,PHPUNC,CFC-11,CFC-11_FLAG_W,CFC-12,CFC-12_FLAG_W,CFC113,CFC113_FLAG_W,TCARBN,TCARBN_FLAG_W,ALKALI,ALKALI_FLAG_W,PH_TOT,PH_TMP,PH_TOT_FLAG_W,DELC13,DELC13_FLAG_W,C13ERR,DELC14,DELC14_FLAG_W,C14ERR,THETA,SIG0
,,,,,,,,,,,METERS,DBAR,,ITS-90,,ITS-90,,PSS-78,,PSS-78,,UMOL/KG,,UMOL/KG,,UMOL/KG,,UMOL/KG,UMOL/KG,,UMOL/KG,UMOL/KG,,UMOL/KG,UMOL/KG,,UMOL/KG,PMOL/KG,,PMOL/KG,,PMOL/KG,,UMOL/KG,,UMOL/KG,,,DEG C,,/MILLE,,/MILLE,/MILLE,,/MILLE,DEG C,KG/M^3
  49NZ20090521,   P21,   271,  1,      0,   -999,9,20090615,0412,-22.7168, 159.6513, 1447,   -999.0,9,-999.0000,9,-999.00000,9,-999.0000,9,  35.2205,2,  -999.00,9,  -999.00,9,  -999.00,9,  -999.00,  -999.00,9,  -999.00,  -999.00,9,  -999.00, -999.000,9, -999.000, -999.000,9, -999.000,9, -999.000,9,   -999.0,9,   -999.0,9,-999.0000,-999,9,  -999.00,9,  -999.00,   -999.0,9,   -999.0,-999.0000,-999.0000
  49NZ20090521,   P21,   271,  1,     36, X12043,2,20090615,0412,-22.7168, 159.6513, 1447,     10.3,2,  23.7415,2,  23.74219,2,  35.2028,2,  35.2001,2,   209.88,2,   210.08,2,     0.51,2,     0.12,     0.09,2,     0.03,     0.01,2,     0.01,    0.095,2,    0.023,    1.701,2,    1.070,2, -999.000,5,   -999.0,9,   -999.0,9,-999.0000,-999,9,  -999.00,9,  -999.00,   -999.0,9,   -999.0,  23.7393,  23.8719
  49NZ20090521,   P21,   271,  1,     35, X12042,2,20090615,0412,-22.7168, 159.6513, 1447,     50.6,2,  23.6604,2,  23.66076,2,  35.2128,2,  35.2138,2,   209.68,2,   210.01,2,     0.49,2,     0.12,     0.08,2,     0.03,     0.01,2,     0.01,    0.100,2,    0.022,    1.704,2,    1.080,2, -999.000,5,   -999.0,9,   -999.0,9,-999.0000,-999,9,  -999.00,9,  -999.00,   -999.0,9,   -999.0,  23.6499,  23.9058
  49NZ20090521,   P21,   271,  1,     34, X12016,2,20090615,0412,-22.7168, 159.6513, 1447,     99.9,2,  23.1818,2,  23.18153,2,  35.3135,2,  35.3127,2,   211.56,2,   212.03,2,     0.46,2,     0.12,     0.08,2,     0.03,     0.01,2,     0.01,    0.093,2,    0.023,    1.755,6,    1.108,6, -999.000,5,   -999.0,9,   -999.0,9,-999.0000,-999,9,  -999.00,9,  -999.00,   -999.0,9,   -999.0,  23.1613,  24.1247
  49NZ20090521,   P21,   271,  1,     33, X12015,2,20090615,0412,-22.7168, 159.6513, 1447,    149.9,2,  21.9557,2,  21.95917,2,  35.5863,2,  35.5859,2,   180.54,2,   180.69,2,     0.88,2,     0.12,     2.77,2,     0.04,     0.09,2,     0.01,    0.320,2,    0.014,    1.915,2,    1.183,2,    0.154,2,   -999.0,9,   -999.0,9,-999.0000,-999,9,  -999.00,9,  -999.00,   -999.0,9,   -999.0,  21.9260,  24.6842
  49NZ20090521,   P21,   271,  1,     32, X12050,2,20090615,0412,-22.7168, 159.6513, 1447,    200.1,2,  20.0551,2,  20.06433,2,  35.6430,2,  35.6436,2,   178.88,2,   179.05,2,     1.08,2,     0.12,     4.38,2,     0.05,     0.02,2,     0.01,    0.403,2,    0.013,    2.038,2,    1.247,2,    0.063,2,   -999.0,9,   -999.0,9,-999.0000,-999,9,  -999.00,9,  -999.00,   -999.0,9,   -999.0,  20.0179,  25.2476
  49NZ20090521,   P21,   271,  1,     31, X12014,2,20090615,0412,-22.7168, 159.6513, 1447,    250.6,2,  19.0591,2,  19.07159,2,  35.6423,2,  35.6404,6,   187.31,2,   186.57,2,     1.15,2,     0.12,     4.57,2,     0.05,     0.01,2,     0.01,    0.411,2,    0.013,    2.100,2,    1.276,2,    0.038,2,   -999.0,9,   -999.0,9,-999.0000,-999,9,  -999.00,9,  -999.00,   -999.0,9,   -999.0,  19.0141,  25.5086
  49NZ20090521,   P21,   271,  1,     30, X12012,2,20090615,0412,-22.7168, 159.6513, 1447,    300.3,2,  18.0099,2,  18.00920,2,  35.5804,2,  35.5797,2,   180.51,2,   181.05,2,     1.64,2,     0.12,     6.24,2,     0.05,     0.01,2,     0.01,    0.520,2,    0.013,    2.160,2,    1.286,2,    0.026,2,   -999.0,9,   -999.0,9,-999.0000,-999,9,  -999.00,9,  -999.00,   -999.0,9,   -999.0,  17.9580,  25.7271
  49NZ20090521,   P21,   271,  1,     29, X12041,2,20090615,0412,-22.7168, 159.6513, 1447,    400.9,2,  14.6908,2,  14.69171,2,  35.2728,2,  35.2670,2,   182.49,2,   183.05,2,     3.38,2,     0.13,    10.75,2,     0.06,     0.01,2,     0.01,    0.817,2,    0.013,    2.253,6,    1.282,6,    0.021,6,   -999.0,9,   -999.0,9,-999.0000,-999,9,  -999.00,9,  -999.00,   -999.0,9,   -999.0,  14.6304,  26.2632
  49NZ20090521,   P21,   271,  1,     28, X12040,2,20090615,0412,-22.7168, 159.6513, 1447,    500.4,2,  11.5028,2,  11.50391,2,  34.9157,2,  34.9146,6,   189.03,2,   189.69,2,     5.93,2,     0.13,    15.88,2,     0.08,     0.01,2,     0.01,    1.151,2,    0.013,    2.151,2,    1.168,2,    0.041,2,   -999.0,9,   -999.0,9,-999.0000,-999,9,  -999.00,9,  -999.00,   -999.0,9,   -999.0,  11.4385,  26.6295
  49NZ20090521,   P21,   271,  1,     27, X12009,2,20090615,0412,-22.7168, 159.6513, 1447,    599.8,2,   8.4477,2,   8.44493,2,  34.5927,2,  34.5889,2,   197.94,2,   198.54,2,    11.69,2,     0.14,    21.99,2,     0.09,     0.01,2,     0.01,    1.548,2,    0.014,    1.688,6,    0.880,6,    0.036,6,   -999.0,9,   -999.0,9,-999.0000,-999,9,  -999.00,9,  -999.00,   -999.0,9,   -999.0,   8.3838,  26.8959
  49NZ20090521,   P21,   271,  1,     26, X12008,2,20090615,0412,-22.7168, 159.6513, 1447,    700.3,2,   7.2063,2,   7.20639,2,  34.4937,2,  34.4931,2,   198.78,2,   199.01,2,    16.80,2,     0.16,    24.64,2,     0.10,     0.01,2,     0.01,    1.726,2,    0.014,    1.306,2,    0.669,2,    0.019,2,   -999.0,9,   -999.0,9,-999.0000,-999,9,  -999.00,9,  -999.00,   -999.0,9,   -999.0,   7.1378,  27.0007
  49NZ20090521,   P21,   271,  1,     25, X12007,2,20090615,0412,-22.7168, 159.6513, 1447,    799.2,2,   6.0159,2,   6.01737,2,  34.4454,2,  34.4457,2,   191.00,2,   191.52,2,    26.74,2,     0.18,    27.74,2,     0.11,     0.01,2,     0.01,    1.939,2,    0.015,    0.783,2,    0.404,2,    0.012,2,   -999.0,9,   -999.0,9,-999.0000,-999,9,  -999.00,9,  -999.00,   -999.0,9,   -999.0,   5.9444,  27.1214
  49NZ20090521,   P21,   271,  1,     24, X12035,2,20090615,0412,-22.7168, 159.6513, 1447,    899.0,2,   5.0901,2,   5.09019,2,  34.4548,2,  34.4553,2,   179.54,2,   179.84,2,    41.91,2,     0.21,    30.45,2,     0.12,     0.01,2,     0.01,    2.120,2,    0.015,    0.411,2,    0.217,2,    0.000,2,   -999.0,9,   -999.0,9,-999.0000,-999,9,  -999.00,9,  -999.00,   -999.0,9,   -999.0,   5.0153,  27.2412
  49NZ20090521,   P21,   271,  1,     23, X12038,2,20090615,0412,-22.7168, 159.6513, 1447,   1001.5,2,   4.5486,2,   4.57882,2,  34.4768,2,  34.4737,3,   172.43,2,   172.48,2,    52.02,2,     0.23,    31.64,2,     0.12,     0.01,2,     0.01,    2.216,2,    0.016,    0.251,2,    0.134,2,    0.000,2,   -999.0,9,   -999.0,9,-999.0000,-999,9,  -999.00,9,  -999.00,   -999.0,9,   -999.0,   4.4686,  27.3201
  49NZ20090521,   P21,   271,  1,     22, X12034,2,20090615,0412,-22.7168, 159.6513, 1447,   1200.0,2,   3.8382,2,   3.83797,2,  34.5169,2,  34.5177,2,   161.75,2,   161.84,2,    69.02,2,     0.27,    33.44,2,     0.13,     0.01,2,     0.01,    2.344,2,    0.016,    0.099,2,    0.055,2,    0.000,2,   -999.0,9,   -999.0,9,-999.0000,-999,9,  -999.00,9,  -999.00,   -999.0,9,   -999.0,   3.7471,  27.4277
  49NZ20090521,   P21,   271,  1,     21, X12033,9,20090615,0412,-22.7168, 159.6513, 1447,     50.7,2,  23.6583,2,  23.65858,2,  35.2128,2,-999.0000,9,   209.63,2,  -999.00,9,  -999.00,9,  -999.00,  -999.00,9,  -999.00,  -999.00,9,  -999.00, -999.000,9, -999.000, -999.000,9, -999.000,9, -999.000,9,   -999.0,9,   -999.0,9,-999.0000,-999,9,  -999.00,9,  -999.00,   -999.0,9,   -999.0,  23.6477,  23.9064
  49NZ20090521,   P21,   271,  1,     20, X12032,9,20090615,0412,-22.7168, 159.6513, 1447,   1001.7,2,   4.5838,2,   4.58360,2,  34.4738,2,-999.0000,9,   172.68,2,  -999.00,9,  -999.00,9,  -999.00,  -999.00,9,  -999.00,  -999.00,9,  -999.00, -999.000,9, -999.000, -999.000,9, -999.000,9, -999.000,9,   -999.0,9,   -999.0,9,-999.0000,-999,9,  -999.00,9,  -999.00,   -999.0,9,   -999.0,   4.5036,  27.3139
  49NZ20090521,   P21,   271,  1,     19, X12046,9,20090615,0412,-22.7168, 159.6513, 1447,   1200.1,2,   3.8404,2,   3.83818,2,  34.5168,2,-999.0000,9,   161.78,2,  -999.00,9,  -999.00,9,  -999.00,  -999.00,9,  -999.00,  -999.00,9,  -999.00, -999.000,9, -999.000, -999.000,9, -999.000,9, -999.000,9,   -999.0,9,   -999.0,9,-999.0000,-999,9,  -999.00,9,  -999.00,   -999.0,9,   -999.0,   3.7492,  27.4274
  49NZ20090521,   P21,   271,  1,     18, X12006,9,20090615,0412,-22.7168, 159.6513, 1447,     10.3,2,  23.7403,2,  23.74097,2,  35.2027,2,-999.0000,9,   209.96,2,  -999.00,9,  -999.00,9,  -999.00,  -999.00,9,  -999.00,  -999.00,9,  -999.00, -999.000,9, -999.000, -999.000,9, -999.000,9, -999.000,9,   -999.0,9,   -999.0,9,-999.0000,-999,9,  -999.00,9,  -999.00,   -999.0,9,   -999.0,  23.7382,  23.8722
  49NZ20090521,   P21,   271,  1,     17, X12047,9,20090615,0412,-22.7168, 159.6513, 1447,     50.5,2,  23.6580,2,  23.65816,2,  35.2129,2,-999.0000,9,   209.56,2,  -999.00,9,  -999.00,9,  -999.00,  -999.00,9,  -999.00,  -999.00,9,  -999.00, -999.000,9, -999.000, -999.000,9, -999.000,9, -999.000,9,   -999.0,9,   -999.0,9,-999.0000,-999,9,  -999.00,9,  -999.00,   -999.0,9,   -999.0,  23.6475,  23.9066
  49NZ20090521,   P21,   271,  1,     16, X12004,9,20090615,0412,-22.7168, 159.6513, 1447,    100.1,2,  23.1831,2,  23.18323,2,  35.3135,2,-999.0000,9,   211.65,2,  -999.00,9,  -999.00,9,  -999.00,  -999.00,9,  -999.00,  -999.00,9,  -999.00, -999.000,9, -999.000, -999.000,9, -999.000,9, -999.000,9,   -999.0,9,   -999.0,9,-999.0000,-999,9,  -999.00,9,  -999.00,   -999.0,9,   -999.0,  23.1625,  24.1244
  49NZ20090521,   P21,   271,  1,     15, X12003,9,20090615,0412,-22.7168, 159.6513, 1447,    150.1,2,  21.9610,2,  21.96113,2,  35.5870,2,-999.0000,9,   180.57,2,  -999.00,9,  -999.00,9,  -999.00,  -999.00,9,  -999.00,  -999.00,9,  -999.00, -999.000,9, -999.000, -999.000,9, -999.000,9, -999.000,9,   -999.0,9,   -999.0,9,-999.0000,-999,9,  -999.00,9,  -999.00,   -999.0,9,   -999.0,  21.9313,  24.6832
  49NZ20090521,   P21,   271,  1,     14, X12002,9,20090615,0412,-22.7168, 159.6513, 1447,    200.0,2,  20.0320,2,  20.02075,2,  35.6479,2,-999.0000,9,   178.79,2,  -999.00,9,  -999.00,9,  -999.00,  -999.00,9,  -999.00,  -999.00,9,  -999.00, -999.000,9, -999.000, -999.000,9, -999.000,9, -999.000,9,   -999.0,9,   -999.0,9,-999.0000,-999,9,  -999.00,9,  -999.00,   -999.0,9,   -999.0,  19.9948,  25.2574
  49NZ20090521,   P21,   271,  1,     13, X12001,9,20090615,0412,-22.7168, 159.6513, 1447,    250.7,2,  19.1135,2,  19.11727,2,  35.6418,2,-999.0000,9,   186.59,2,  -999.00,9,  -999.00,9,  -999.00,  -999.00,9,  -999.00,  -999.00,9,  -999.00, -999.000,9, -999.000, -999.000,9, -999.000,9, -999.000,9,   -999.0,9,   -999.0,9,-999.0000,-999,9,  -999.00,9,  -999.00,   -999.0,9,   -999.0,  19.0684,  25.4943
  49NZ20090521,   P21,   271,  1,     12, X12030,9,20090615,0412,-22.7168, 159.6513, 1447,    300.5,2,  18.0264,2,  18.02081,2,  35.5804,2,-999.0000,9,   180.60,2,  -999.00,9,  -999.00,9,  -999.00,  -999.00,9,  -999.00,  -999.00,9,  -999.00, -999.000,9, -999.000, -999.000,9, -999.000,9, -999.000,9,   -999.0,9,   -999.0,9,-999.0000,-999,9,  -999.00,9,  -999.00,   -999.0,9,   -999.0,  17.9744,  25.7230
  49NZ20090521,   P21,   271,  1,     11, X12044,9,20090615,0412,-22.7168, 159.6513, 1447,    401.1,2,  14.6887,2,  14.68923,2,  35.2728,2,-999.0000,9,   182.66,2,  -999.00,9,  -999.00,9,  -999.00,  -999.00,9,  -999.00,  -999.00,9,  -999.00, -999.000,9, -999.000, -999.000,9, -999.000,9, -999.000,9,   -999.0,9,   -999.0,9,-999.0000,-999,9,  -999.00,9,  -999.00,   -999.0,9,   -999.0,  14.6283,  26.2636
  49NZ20090521,   P21,   271,  1,     10, X12048,9,20090615,0412,-22.7168, 159.6513, 1447,    500.3,2,  11.4966,2,  11.53593,2,  34.9105,2,-999.0000,9,   189.31,2,  -999.00,9,  -999.00,9,  -999.00,  -999.00,9,  -999.00,  -999.00,9,  -999.00, -999.000,9, -999.000, -999.000,9, -999.000,9, -999.000,9,   -999.0,9,   -999.0,9,-999.0000,-999,9,  -999.00,9,  -999.00,   -999.0,9,   -999.0,  11.4324,  26.6266
  49NZ20090521,   P21,   271,  1,      9, X12027,9,20090615,0412,-22.7168, 159.6513, 1447,    599.9,2,   8.4693,2,   8.46831,2,  34.5955,2,-999.0000,9,   198.14,2,  -999.00,9,  -999.00,9,  -999.00,  -999.00,9,  -999.00,  -999.00,9,  -999.00, -999.000,9, -999.000, -999.000,9, -999.000,9, -999.000,9,   -999.0,9,   -999.0,9,-999.0000,-999,9,  -999.00,9,  -999.00,   -999.0,9,   -999.0,   8.4053,  26.8947
  49NZ20090521,   P21,   271,  1,      8, X12026,9,20090615,0412,-22.7168, 159.6513, 1447,    698.8,2,   7.2059,2,   7.20605,2,  34.4937,2,-999.0000,9,   198.75,2,  -999.00,9,  -999.00,9,  -999.00,  -999.00,9,  -999.00,  -999.00,9,  -999.00, -999.000,9, -999.000, -999.000,9, -999.000,9, -999.000,9,   -999.0,9,   -999.0,9,-999.0000,-999,9,  -999.00,9,  -999.00,   -999.0,9,   -999.0,   7.1375,  27.0008
  49NZ20090521,   P21,   271,  1,      7, X12025,9,20090615,0412,-22.7168, 159.6513, 1447,    799.8,2,   6.0921,2,   6.09160,2,  34.4458,2,-999.0000,9,   191.40,2,  -999.00,9,  -999.00,9,  -999.00,  -999.00,9,  -999.00,  -999.00,9,  -999.00, -999.000,9, -999.000, -999.000,9, -999.000,9, -999.000,9,   -999.0,9,   -999.0,9,-999.0000,-999,9,  -999.00,9,  -999.00,   -999.0,9,   -999.0,   6.0201,  27.1122
  49NZ20090521,   P21,   271,  1,      6, X12024,9,20090615,0412,-22.7168, 159.6513, 1447,    898.7,2,   5.0902,2,   5.09006,2,  34.4549,2,-999.0000,9,   179.64,2,  -999.00,9,  -999.00,9,  -999.00,  -999.00,9,  -999.00,  -999.00,9,  -999.00, -999.000,9, -999.000, -999.000,9, -999.000,9, -999.000,9,   -999.0,9,   -999.0,9,-999.0000,-999,9,  -999.00,9,  -999.00,   -999.0,9,   -999.0,   5.0154,  27.2413
  49NZ20090521,   P21,   271,  1,      5, X12028,9,20090615,0412,-22.7168, 159.6513, 1447,   1001.4,2,   4.5988,2,   4.59772,2,  34.4724,2,-999.0000,9,   172.54,2,  -999.00,9,  -999.00,9,  -999.00,  -999.00,9,  -999.00,  -999.00,9,  -999.00, -999.000,9, -999.000, -999.000,9, -999.000,9, -999.000,9,   -999.0,9,   -999.0,9,-999.0000,-999,9,  -999.00,9,  -999.00,   -999.0,9,   -999.0,   4.5185,  27.3111
  49NZ20090521,   P21,   271,  1,      4, X12022,9,20090615,0412,-22.7168, 159.6513, 1447,   1199.7,2,   3.8352,2,   3.83511,2,  34.5173,2,-999.0000,9,   161.76,2,  -999.00,9,  -999.00,9,  -999.00,  -999.00,9,  -999.00,  -999.00,9,  -999.00, -999.000,9, -999.000, -999.000,9, -999.000,9, -999.000,9,   -999.0,9,   -999.0,9,-999.0000,-999,9,  -999.00,9,  -999.00,   -999.0,9,   -999.0,   3.7441,  27.4283
  49NZ20090521,   P21,   271,  1,      3, X12021,9,20090615,0412,-22.7168, 159.6513, 1447,    100.1,2,  23.1838,2,  23.18352,2,  35.3134,2,-999.0000,9,   211.48,2,  -999.00,9,  -999.00,9,  -999.00,  -999.00,9,  -999.00,  -999.00,9,  -999.00, -999.000,9, -999.000, -999.000,9, -999.000,9, -999.000,9,   -999.0,9,   -999.0,9,-999.0000,-999,9,  -999.00,9,  -999.00,   -999.0,9,   -999.0,  23.1632,  24.1241
  49NZ20090521,   P21,   271,  1,      2, X12020,9,20090615,0412,-22.7168, 159.6513, 1447,    149.9,2,  21.9604,2,  21.95891,2,  35.5866,2,-999.0000,9,   180.57,2,  -999.00,9,  -999.00,9,  -999.00,  -999.00,9,  -999.00,  -999.00,9,  -999.00, -999.000,9, -999.000, -999.000,9, -999.000,9, -999.000,9,   -999.0,9,   -999.0,9,-999.0000,-999,9,  -999.00,9,  -999.00,   -999.0,9,   -999.0,  21.9307,  24.6831
  49NZ20090521,   P21,   271,  1,      1, X12019,2,20090615,0412,-22.7168, 159.6513, 1447,   1413.7,2,   3.2538,2,   3.25362,2,  34.5638,2,  34.5632,6,   152.38,2,   152.58,2,    84.60,2,     0.31,    34.56,2,     0.13,     0.01,2,     0.01,    2.436,2,    0.016,    0.027,2,    0.019,2,    0.000,2,   -999.0,9,   -999.0,9,-999.0000,-999,9,  -999.00,9,  -999.00,   -999.0,9,   -999.0,   3.1504,  27.5230