BOTTLE,20111109CCHDOSIOCBG
EXPOCODE,SECT_ID,STNNBR,CASTNO,SAMPNO,BTLNBR,BTLNBR_FLAG_W,DATE,TIME,LATITUDE,LONGITUDE,DEPTH,CTDPRS,CTDPRS_FLAG_W,CTDTMP,CTDTMP_FLAG_W,SBE35,SBE35_FLAG_W,CTDSAL,CTDSAL_FLAG_W,SALNTY,SALNTY_FLAG_W,CTDOXY,CTDOXY_FLAG_W,OXYGEN,OXYGEN_FLAG_W,SILCAT,SILCAT_FLAG_W,SILUNC,NITRAT,NITRAT_FLAG_W,NRAUNC,NITRIT,NITRIT_FLAG_W,NRIUNC,PHSPHT,PHSPHT_FLAG_W,PHPUNC,CFC-11,CFC-11_FLAG_W,CFC-12,CFC-12_FLAG_W,CFC113,CFC113_FLAG_W,TCARBN,TCARBN_FLAG_W,ALKALI,ALKALI_FLAG_W,PH_TOT,PH_TMP,PH_TOT_FLAG_W,DELC13,DELC13_FLAG_W,C13ERR,DELC14,DELC14_FLAG_W,C14ERR,THETA,SIG0
,,,,,,,,,,,METERS,DBAR,,ITS-90,,ITS-90,,PSS-78,,PSS-78,,UMOL/KG,,UMOL/KG,,UMOL/KG,,UMOL/KG,UMOL/KG,,UMOL/KG,UMOL/KG,,UMOL/KG,UMOL/KG,,UMOL/KG,PMOL/KG,,PMOL/KG,,PMOL/KG,,UMOL/KG,,UMOL/KG,,,DEG C,,/MILLE,,/MILLE,/MILLE,,/MILLE,DEG C,KG/M^3
  49NZ20090521,   P21,   240,  1,      0,   -999,9,20090609,1706,-18.2493, 168.3638, 1000,   -999.0,9,-999.0000,9,-999.00000,9,-999.0000,9,  34.8688,2,  -999.00,9,  -999.00,9,  -999.00,9,  -999.00,  -999.00,9,  -999.00,  -999.00,9,  -999.00, -999.000,9, -999.000, -999.000,9, -999.000,9, -999.000,9,   -999.0,9,   -999.0,9,-999.0000,-999,9,  -999.00,9,  -999.00,   -999.0,9,   -999.0,-999.0000,-999.0000
  49NZ20090521,   P21,   240,  1,     36, X12043,2,20090609,1706,-18.2493, 168.3638, 1000,     10.5,2,  26.4724,2,  26.47221,2,  34.8639,2,  34.8617,2,   200.44,2,   200.55,2,     0.73,2,     0.12,     0.08,2,     0.03,     0.02,2,     0.01,    0.068,2,    0.028,    1.536,2,    0.955,2, -999.000,5,   1939.7,2,   2287.0,2,   8.1295,  25,6,  -999.00,9,  -999.00,   -999.0,9,   -999.0,  26.4700,  22.7833
  49NZ20090521,   P21,   240,  1,     35, X12042,2,20090609,1706,-18.2493, 168.3638, 1000,     50.9,2,  26.4807,2,  26.48069,2,  34.8635,2,  34.8620,2,   199.89,2,   200.10,2,     0.71,2,     0.12,     0.07,2,     0.03,     0.02,2,     0.01,    0.067,2,    0.028,    1.537,2,    0.963,2, -999.000,5,   1940.3,6,   2288.3,2,   8.1293,  25,2,  -999.00,9,  -999.00,   -999.0,9,   -999.0,  26.4692,  22.7833
  49NZ20090521,   P21,   240,  1,     34, X12016,2,20090609,1706,-18.2493, 168.3638, 1000,    101.0,2,  26.1162,2,  26.11533,2,  35.2172,2,  35.2195,2,   182.04,2,   182.73,2,     0.96,2,     0.12,     0.76,2,     0.03,     0.20,2,     0.01,    0.219,2,    0.015,    1.660,6,    1.020,6, -999.000,5,   1992.0,2,   2310.7,6,   8.0741,  25,2,  -999.00,9,  -999.00,   -999.0,9,   -999.0,  26.0936,  23.1680
  49NZ20090521,   P21,   240,  1,     33, X12015,2,20090609,1706,-18.2493, 168.3638, 1000,    150.6,2,  23.8374,2,  23.84050,2,  35.6420,2,  35.6211,2,   162.90,2,   162.77,2,     1.06,2,     0.12,     3.00,2,     0.04,     0.04,2,     0.01,    0.390,2,    0.013,    1.832,2,    1.099,2,    0.160,4,   2047.1,2,   2335.7,2,   8.0150,  25,2,  -999.00,9,  -999.00,   -999.0,9,   -999.0,  23.8058,  24.1851
  49NZ20090521,   P21,   240,  1,     32, X12050,2,20090609,1706,-18.2493, 168.3638, 1000,    200.3,2,  22.1540,2,  22.15142,2,  35.7955,2,  35.7949,2,   154.55,2,   154.93,2,     1.14,2,     0.12,     4.82,2,     0.05,     0.02,2,     0.01,    0.511,2,    0.013,    1.967,2,    1.154,2,    0.059,2,   2081.0,2,   2349.1,2,   7.9749,  25,2,  -999.00,9,  -999.00,   -999.0,9,   -999.0,  22.1140,  24.7903
  49NZ20090521,   P21,   240,  1,     31, X12014,2,20090609,1706,-18.2493, 168.3638, 1000,    250.6,2,  19.6543,2,  19.65322,2,  35.6406,2,  35.6380,6,   156.39,2,   156.85,2,     1.74,2,     0.12,     6.68,2,     0.05,     0.02,2,     0.01,    0.640,2,    0.013,    2.152,2,    1.196,2,    0.028,2,   2099.6,2,   2340.7,2,   7.9291,  25,2,  -999.00,9,  -999.00,   -999.0,9,   -999.0,  19.6083,  25.3535
  49NZ20090521,   P21,   240,  1,     30, X12012,2,20090609,1706,-18.2493, 168.3638, 1000,    329.7,2,  16.4585,2,  16.45847,2,  35.3209,2,  35.3185,2,   160.98,2,   160.99,2,     3.29,2,     0.13,     9.64,2,     0.06,     0.02,2,     0.01,    0.835,2,    0.013,    2.129,2,    1.172,2,    0.023,2,   2111.7,2,   2321.0,2,   7.8720,  25,2,  -999.00,9,  -999.00,   -999.0,9,   -999.0,  16.4050,  25.9009
  49NZ20090521,   P21,   240,  1,     29, X12041,2,20090609,1706,-18.2493, 168.3638, 1000,    430.2,2,  10.9021,2,  10.90156,2,  34.7624,2,  34.7609,2,   170.03,2,   169.98,2,     8.75,2,     0.14,    18.62,2,     0.08,     0.01,2,     0.01,    1.398,2,    0.014,    1.778,6,    0.914,6,    0.022,6,   2145.2,2,   2295.0,2,   7.7504,  25,2,  -999.00,9,  -999.00,   -999.0,9,   -999.0,  10.8489,  26.6177
  49NZ20090521,   P21,   240,  1,     28, X12040,2,20090609,1706,-18.2493, 168.3638, 1000,    532.9,2,   7.1476,2,   7.14829,2,  34.4545,2,  34.4543,6,   192.27,2,   191.78,2,    16.02,2,     0.15,    25.54,2,     0.10,     0.01,2,     0.01,    1.805,2,    0.015,    1.225,2,    0.610,2,    0.009,2,   2166.4,2,   2288.1,2,   7.6865,  25,2,  -999.00,9,  -999.00,   -999.0,9,   -999.0,   7.0963,  26.9757
  49NZ20090521,   P21,   240,  1,     27, X12009,2,20090609,1706,-18.2493, 168.3638, 1000,    630.6,2,   6.1641,2,   6.16419,2,  34.4178,2,  34.4177,2,   188.82,2,   188.13,2,    23.69,2,     0.17,    28.02,2,     0.11,     0.01,2,     0.01,    1.965,2,    0.015,    0.807,6,    0.405,6,    0.007,6,   2181.3,2,   2294.3,2,   7.6620,  25,2,  -999.00,9,  -999.00,   -999.0,9,   -999.0,   6.1077,  27.0789
  49NZ20090521,   P21,   240,  1,     26, X12008,2,20090609,1706,-18.2493, 168.3638, 1000,    730.3,2,   5.6482,2,   5.64963,2,  34.4245,2,  34.4247,2,   183.46,2,   182.92,2,    31.15,2,     0.19,    29.37,2,     0.12,     0.01,2,     0.01,    2.058,2,    0.015,    0.592,2,    0.296,2,    0.000,2,   2193.3,6,   2300.8,2,   7.6469,  25,2,  -999.00,9,  -999.00,   -999.0,9,   -999.0,   5.5853,  27.1495
  49NZ20090521,   P21,   240,  1,     25, X12007,2,20090609,1706,-18.2493, 168.3638, 1000,    830.0,2,   4.6419,2,   4.64194,2,  34.4527,2,  34.4532,2,   170.59,2,   170.01,2,    48.85,2,     0.23,    32.05,2,     0.12,     0.01,2,     0.01,    2.245,2,    0.016,    0.237,2,    0.123,2,    0.000,2,   2221.8,2,   2319.6,6,   7.6175,  25,2,  -999.00,9,  -999.00,   -999.0,9,   -999.0,   4.5761,  27.2891
  49NZ20090521,   P21,   240,  1,     24, X12035,2,20090609,1706,-18.2493, 168.3638, 1000,    931.3,2,   4.1625,2,   4.16228,2,  34.4862,2,  34.4867,2,   163.78,2,   163.14,2,    60.80,2,     0.25,    33.09,2,     0.13,     0.01,2,     0.01,    2.327,2,    0.016,    0.146,2,    0.078,2,    0.000,2,   2238.6,2,   2333.4,2,   7.6055,  25,6,  -999.00,9,  -999.00,   -999.0,9,   -999.0,   4.0914,  27.3679
  49NZ20090521,   P21,   240,  1,     23, X12038,9,20090609,1706,-18.2493, 168.3638, 1000,     10.5,2,  26.4710,2,  26.47141,2,  34.8640,2,-999.0000,9,   200.23,2,  -999.00,9,  -999.00,9,  -999.00,  -999.00,9,  -999.00,  -999.00,9,  -999.00, -999.000,9, -999.000, -999.000,9, -999.000,9, -999.000,9,   -999.0,9,   -999.0,9,-999.0000,-999,9,  -999.00,9,  -999.00,   -999.0,9,   -999.0,  26.4686,  22.7839
  49NZ20090521,   P21,   240,  1,     22, X12034,9,20090609,1706,-18.2493, 168.3638, 1000,     50.8,2,  26.4801,2,  26.47997,2,  34.8640,2,-999.0000,9,   200.17,2,  -999.00,9,  -999.00,9,  -999.00,  -999.00,9,  -999.00,  -999.00,9,  -999.00, -999.000,9, -999.000, -999.000,9, -999.000,9, -999.000,9,   -999.0,9,   -999.0,9,-999.0000,-999,9,  -999.00,9,  -999.00,   -999.0,9,   -999.0,  26.4686,  22.7838
  49NZ20090521,   P21,   240,  1,     21, X12033,9,20090609,1706,-18.2493, 168.3638, 1000,    101.0,2,  26.1108,2,  26.11018,2,  35.2171,2,-999.0000,9,   182.54,2,  -999.00,9,  -999.00,9,  -999.00,  -999.00,9,  -999.00,  -999.00,9,  -999.00, -999.000,9, -999.000, -999.000,9, -999.000,9, -999.000,9,   -999.0,9,   -999.0,9,-999.0000,-999,9,  -999.00,9,  -999.00,   -999.0,9,   -999.0,  26.0882,  23.1696
  49NZ20090521,   P21,   240,  1,     20, X12032,9,20090609,1706,-18.2493, 168.3638, 1000,    150.8,2,  23.8389,2,  23.83958,2,  35.6453,2,-999.0000,9,   162.20,2,  -999.00,9,  -999.00,9,  -999.00,  -999.00,9,  -999.00,  -999.00,9,  -999.00, -999.000,9, -999.000, -999.000,9, -999.000,9, -999.000,9,   -999.0,9,   -999.0,9,-999.0000,-999,9,  -999.00,9,  -999.00,   -999.0,9,   -999.0,  23.8072,  24.1871
  49NZ20090521,   P21,   240,  1,     19, X12046,9,20090609,1706,-18.2493, 168.3638, 1000,    200.3,2,  22.1631,2,  22.16565,2,  35.7950,2,-999.0000,9,   154.85,2,  -999.00,9,  -999.00,9,  -999.00,  -999.00,9,  -999.00,  -999.00,9,  -999.00, -999.000,9, -999.000, -999.000,9, -999.000,9, -999.000,9,   -999.0,9,   -999.0,9,-999.0000,-999,9,  -999.00,9,  -999.00,   -999.0,9,   -999.0,  22.1231,  24.7874
  49NZ20090521,   P21,   240,  1,     18, X12006,9,20090609,1706,-18.2493, 168.3638, 1000,    250.7,2,  19.6372,2,  19.62968,2,  35.6401,2,-999.0000,9,   156.76,2,  -999.00,9,  -999.00,9,  -999.00,  -999.00,9,  -999.00,  -999.00,9,  -999.00, -999.000,9, -999.000, -999.000,9, -999.000,9, -999.000,9,   -999.0,9,   -999.0,9,-999.0000,-999,9,  -999.00,9,  -999.00,   -999.0,9,   -999.0,  19.5912,  25.3576
  49NZ20090521,   P21,   240,  1,     17, X12047,9,20090609,1706,-18.2493, 168.3638, 1000,    329.8,2,  16.4507,2,  16.45231,2,  35.3208,2,-999.0000,9,   161.07,2,  -999.00,9,  -999.00,9,  -999.00,  -999.00,9,  -999.00,  -999.00,9,  -999.00, -999.000,9, -999.000, -999.000,9, -999.000,9, -999.000,9,   -999.0,9,   -999.0,9,-999.0000,-999,9,  -999.00,9,  -999.00,   -999.0,9,   -999.0,  16.3972,  25.9026
  49NZ20090521,   P21,   240,  1,     16, X12004,9,20090609,1706,-18.2493, 168.3638, 1000,    430.3,2,  10.9203,2,  10.92489,2,  34.7636,2,-999.0000,9,   170.18,2,  -999.00,9,  -999.00,9,  -999.00,  -999.00,9,  -999.00,  -999.00,9,  -999.00, -999.000,9, -999.000, -999.000,9, -999.000,9, -999.000,9,   -999.0,9,   -999.0,9,-999.0000,-999,9,  -999.00,9,  -999.00,   -999.0,9,   -999.0,  10.8671,  26.6154
  49NZ20090521,   P21,   240,  1,     15, X12003,9,20090609,1706,-18.2493, 168.3638, 1000,    532.5,2,   7.1503,2,   7.15056,2,  34.4545,2,-999.0000,9,   192.30,2,  -999.00,9,  -999.00,9,  -999.00,  -999.00,9,  -999.00,  -999.00,9,  -999.00, -999.000,9, -999.000, -999.000,9, -999.000,9, -999.000,9,   -999.0,9,   -999.0,9,-999.0000,-999,9,  -999.00,9,  -999.00,   -999.0,9,   -999.0,   7.0991,  26.9753
  49NZ20090521,   P21,   240,  1,     14, X12002,9,20090609,1706,-18.2493, 168.3638, 1000,    630.4,2,   6.1646,2,   6.16475,2,  34.4180,2,-999.0000,9,   188.84,2,  -999.00,9,  -999.00,9,  -999.00,  -999.00,9,  -999.00,  -999.00,9,  -999.00, -999.000,9, -999.000, -999.000,9, -999.000,9, -999.000,9,   -999.0,9,   -999.0,9,-999.0000,-999,9,  -999.00,9,  -999.00,   -999.0,9,   -999.0,   6.1082,  27.0790
  49NZ20090521,   P21,   240,  1,     13, X12001,9,20090609,1706,-18.2493, 168.3638, 1000,    730.3,2,   5.6503,2,   5.65120,2,  34.4247,2,-999.0000,9,   183.47,2,  -999.00,9,  -999.00,9,  -999.00,  -999.00,9,  -999.00,  -999.00,9,  -999.00, -999.000,9, -999.000, -999.000,9, -999.000,9, -999.000,9,   -999.0,9,   -999.0,9,-999.0000,-999,9,  -999.00,9,  -999.00,   -999.0,9,   -999.0,   5.5873,  27.1494
  49NZ20090521,   P21,   240,  1,     12, X12030,9,20090609,1706,-18.2493, 168.3638, 1000,    730.5,2,   5.6501,2,   5.65078,2,  34.4246,2,-999.0000,9,   183.55,2,  -999.00,9,  -999.00,9,  -999.00,  -999.00,9,  -999.00,  -999.00,9,  -999.00, -999.000,9, -999.000, -999.000,9, -999.000,9, -999.000,9,   -999.0,9,   -999.0,9,-999.0000,-999,9,  -999.00,9,  -999.00,   -999.0,9,   -999.0,   5.5871,  27.1493
  49NZ20090521,   P21,   240,  1,     11, X12044,9,20090609,1706,-18.2493, 168.3638, 1000,    830.7,2,   4.6425,2,   4.64257,2,  34.4526,2,-999.0000,9,   170.61,2,  -999.00,9,  -999.00,9,  -999.00,  -999.00,9,  -999.00,  -999.00,9,  -999.00, -999.000,9, -999.000, -999.000,9, -999.000,9, -999.000,9,   -999.0,9,   -999.0,9,-999.0000,-999,9,  -999.00,9,  -999.00,   -999.0,9,   -999.0,   4.5767,  27.2890
  49NZ20090521,   P21,   240,  1,     10, X12048,9,20090609,1706,-18.2493, 168.3638, 1000,    830.6,2,   4.6422,2,   4.64222,2,  34.4526,2,-999.0000,9,   170.59,2,  -999.00,9,  -999.00,9,  -999.00,  -999.00,9,  -999.00,  -999.00,9,  -999.00, -999.000,9, -999.000, -999.000,9, -999.000,9, -999.000,9,   -999.0,9,   -999.0,9,-999.0000,-999,9,  -999.00,9,  -999.00,   -999.0,9,   -999.0,   4.5764,  27.2891
  49NZ20090521,   P21,   240,  1,      9, X12027,9,20090609,1706,-18.2493, 168.3638, 1000,    932.0,2,   4.1520,2,   4.14975,2,  34.4871,2,-999.0000,9,   163.62,2,  -999.00,9,  -999.00,9,  -999.00,  -999.00,9,  -999.00,  -999.00,9,  -999.00, -999.000,9, -999.000, -999.000,9, -999.000,9, -999.000,9,   -999.0,9,   -999.0,9,-999.0000,-999,9,  -999.00,9,  -999.00,   -999.0,9,   -999.0,   4.0809,  27.3697
  49NZ20090521,   P21,   240,  1,      8, X12026,9,20090609,1706,-18.2493, 168.3638, 1000,    931.5,2,   4.1583,2,   4.15825,2,  34.4865,2,-999.0000,9,   163.84,2,  -999.00,9,  -999.00,9,  -999.00,  -999.00,9,  -999.00,  -999.00,9,  -999.00, -999.000,9, -999.000, -999.000,9, -999.000,9, -999.000,9,   -999.0,9,   -999.0,9,-999.0000,-999,9,  -999.00,9,  -999.00,   -999.0,9,   -999.0,   4.0872,  27.3686
  49NZ20090521,   P21,   240,  1,      7, X12025,2,20090609,1706,-18.2493, 168.3638, 1000,     10.6,2,  26.4716,2,  26.47161,2,  34.8639,2,-999.0000,9,   200.35,2,  -999.00,9,     0.55,2,     0.12,     0.07,2,     0.03,     0.01,2,     0.01,    0.061,2,    0.030, -999.000,9, -999.000,9, -999.000,9,   -999.0,9,   -999.0,9,-999.0000,-999,9,  -999.00,9,  -999.00,   -999.0,9,   -999.0,  26.4692,  22.7836
  49NZ20090521,   P21,   240,  1,      6, X12024,2,20090609,1706,-18.2493, 168.3638, 1000,     50.9,2,  26.4807,2,  26.48061,2,  34.8637,2,-999.0000,9,   200.05,2,  -999.00,9,     0.67,2,     0.12,     0.08,2,     0.03,     0.02,2,     0.01,    0.060,2,    0.030, -999.000,9, -999.000,9, -999.000,9,   -999.0,9,   -999.0,9,-999.0000,-999,9,  -999.00,9,  -999.00,   -999.0,9,   -999.0,  26.4692,  22.7835
  49NZ20090521,   P21,   240,  1,      5, X12028,2,20090609,1706,-18.2493, 168.3638, 1000,    100.9,2,  26.1098,2,  26.10923,2,  35.2177,2,-999.0000,9,   182.35,2,  -999.00,9,     0.68,2,     0.12,     0.89,2,     0.04,     0.18,2,     0.01,    0.222,2,    0.015, -999.000,9, -999.000,9, -999.000,9,   -999.0,9,   -999.0,9,-999.0000,-999,9,  -999.00,9,  -999.00,   -999.0,9,   -999.0,  26.0872,  23.1704
  49NZ20090521,   P21,   240,  1,      4, X12022,2,20090609,1706,-18.2493, 168.3638, 1000,    150.9,2,  23.8374,2,  23.83782,2,  35.6485,2,-999.0000,9,   162.39,2,  -999.00,9,     0.89,2,     0.12,     3.35,2,     0.04,     0.04,2,     0.01,    0.414,2,    0.013, -999.000,9, -999.000,9, -999.000,9,   -999.0,9,   -999.0,9,-999.0000,-999,9,  -999.00,9,  -999.00,   -999.0,9,   -999.0,  23.8057,  24.1900
  49NZ20090521,   P21,   240,  1,      3, X12021,2,20090609,1706,-18.2493, 168.3638, 1000,    200.0,2,  22.1961,2,  22.20490,2,  35.7952,2,-999.0000,9,   154.62,2,  -999.00,9,     1.30,2,     0.12,     4.87,2,     0.05,     0.02,2,     0.01,    0.518,2,    0.013, -999.000,9, -999.000,9, -999.000,9,   -999.0,9,   -999.0,9,-999.0000,-999,9,  -999.00,9,  -999.00,   -999.0,9,   -999.0,  22.1561,  24.7782
  49NZ20090521,   P21,   240,  1,      2, X12020,2,20090609,1706,-18.2493, 168.3638, 1000,    250.6,2,  19.6302,2,  19.63259,2,  35.6407,2,-999.0000,9,   156.66,2,  -999.00,9,     1.97,2,     0.12,     6.81,2,     0.05,     0.02,2,     0.01,    0.655,2,    0.013, -999.000,9, -999.000,9, -999.000,9,   -999.0,9,   -999.0,9,-999.0000,-999,9,  -999.00,9,  -999.00,   -999.0,9,   -999.0,  19.5842,  25.3599
  49NZ20090521,   P21,   240,  1,      1, X12019,2,20090609,1706,-18.2493, 168.3638, 1000,    996.0,2,   3.9574,2,   3.95742,2,  34.5024,2,  34.5007,3,   161.26,2,   160.50,2,    65.63,2,     0.26,    33.48,2,     0.13,     0.01,2,     0.01,    2.352,2,    0.016,    0.115,2,    0.060,2,    0.000,2,   2246.7,2,   2338.1,2,   7.6016,  25,2,  -999.00,9,  -999.00,   -999.0,9,   -999.0,   3.8824,  27.4024