BOTTLE,20111109CCHDOSIOCBG
EXPOCODE,SECT_ID,STNNBR,CASTNO,SAMPNO,BTLNBR,BTLNBR_FLAG_W,DATE,TIME,LATITUDE,LONGITUDE,DEPTH,CTDPRS,CTDPRS_FLAG_W,CTDTMP,CTDTMP_FLAG_W,SBE35,SBE35_FLAG_W,CTDSAL,CTDSAL_FLAG_W,SALNTY,SALNTY_FLAG_W,CTDOXY,CTDOXY_FLAG_W,OXYGEN,OXYGEN_FLAG_W,SILCAT,SILCAT_FLAG_W,SILUNC,NITRAT,NITRAT_FLAG_W,NRAUNC,NITRIT,NITRIT_FLAG_W,NRIUNC,PHSPHT,PHSPHT_FLAG_W,PHPUNC,CFC-11,CFC-11_FLAG_W,CFC-12,CFC-12_FLAG_W,CFC113,CFC113_FLAG_W,TCARBN,TCARBN_FLAG_W,ALKALI,ALKALI_FLAG_W,PH_TOT,PH_TMP,PH_TOT_FLAG_W,DELC13,DELC13_FLAG_W,C13ERR,DELC14,DELC14_FLAG_W,C14ERR,THETA,SIG0
,,,,,,,,,,,METERS,DBAR,,ITS-90,,ITS-90,,PSS-78,,PSS-78,,UMOL/KG,,UMOL/KG,,UMOL/KG,,UMOL/KG,UMOL/KG,,UMOL/KG,UMOL/KG,,UMOL/KG,UMOL/KG,,UMOL/KG,PMOL/KG,,PMOL/KG,,PMOL/KG,,UMOL/KG,,UMOL/KG,,,DEG C,,/MILLE,,/MILLE,/MILLE,,/MILLE,DEG C,KG/M^3
  49NZ20090521,   P21,   169,  1,      0,   -999,9,20090522,2151,-17.5013,-152.3360, 4516,   -999.0,9,-999.0000,9,-999.00000,9,-999.0000,9,  36.0435,2,  -999.00,9,  -999.00,9,  -999.00,9,  -999.00,  -999.00,9,  -999.00,  -999.00,9,  -999.00, -999.000,9, -999.000, -999.000,9, -999.000,9, -999.000,9,   -999.0,9,   -999.0,9,-999.0000,-999,9,  -999.00,9,  -999.00,   -999.0,9,   -999.0,-999.0000,-999.0000
  49NZ20090521,   P21,   169,  1,     36, X12043,2,20090522,2151,-17.5013,-152.3360, 4516,     10.2,2,  28.1587,2,  28.15910,2,  36.0316,2,  36.0299,2,   196.66,2,   196.32,2,     0.79,2,     0.12,     0.05,2,     0.03,     0.01,2,     0.01,    0.204,2,    0.016,    1.418,2,    0.912,2, -999.000,5,   -999.0,9,   -999.0,9,-999.0000,-999,9,  -999.00,9,  -999.00,   -999.0,9,   -999.0,  28.1563,  23.1193
  49NZ20090521,   P21,   169,  1,     35, X12042,2,20090522,2151,-17.5013,-152.3360, 4516,     50.5,2,  28.1022,2,  28.10188,2,  36.0285,2,  36.0283,2,   196.49,2,   196.53,2,     0.75,2,     0.12,     0.03,2,     0.03,     0.01,2,     0.01,    0.208,2,    0.016,    1.419,2,    0.911,2, -999.000,5,   -999.0,9,   -999.0,9,-999.0000,-999,9,  -999.00,9,  -999.00,   -999.0,9,   -999.0,  28.0902,  23.1387
  49NZ20090521,   P21,   169,  1,     34, X12016,2,20090522,2151,-17.5013,-152.3360, 4516,    100.3,2,  24.7712,2,  24.75920,2,  35.9908,2,  35.9851,2,   208.81,2,   209.34,2,     0.60,2,     0.12,     0.03,2,     0.03,     0.01,2,     0.01,    0.168,2,    0.017,    1.700,6,    1.068,6, -999.000,5,   -999.0,9,   -999.0,9,-999.0000,-999,9,  -999.00,9,  -999.00,   -999.0,9,   -999.0,  24.7495,  24.1665
  49NZ20090521,   P21,   169,  1,     33, X12015,2,20090522,2151,-17.5013,-152.3360, 4516,    150.5,2,  23.7738,2,  23.76736,2,  35.9817,2,  35.9843,2,   198.55,2,   197.76,2,     0.60,2,     0.12,     0.10,2,     0.03,     0.07,2,     0.01,    0.212,2,    0.016,    1.776,2,    1.106,2, -999.000,5,   -999.0,9,   -999.0,9,-999.0000,-999,9,  -999.00,9,  -999.00,   -999.0,9,   -999.0,  23.7422,  24.4613
  49NZ20090521,   P21,   169,  1,     32, X12050,2,20090522,2151,-17.5013,-152.3360, 4516,    201.1,2,  22.5033,2,  22.50319,2,  35.9049,2,  35.9405,2,   185.27,2,   183.30,2,     0.69,2,     0.12,     1.68,2,     0.04,     0.04,2,     0.01,    0.330,2,    0.014,    1.908,2,    1.172,2,    0.154,2,   -999.0,9,   -999.0,9,-999.0000,-999,9,  -999.00,9,  -999.00,   -999.0,9,   -999.0,  22.4627,  24.7745
  49NZ20090521,   P21,   169,  1,     31, X12014,2,20090522,2151,-17.5013,-152.3360, 4516,    252.0,2,  20.4965,2,  20.49156,2,  35.7583,2,  35.7674,6,   177.02,2,   176.42,2,     0.89,2,     0.12,     3.68,2,     0.04,     0.01,2,     0.01,    0.488,2,    0.013,    2.102,2,    1.241,2,    0.064,2,   -999.0,9,   -999.0,9,-999.0000,-999,9,  -999.00,9,  -999.00,   -999.0,9,   -999.0,  20.4488,  25.2206
  49NZ20090521,   P21,   169,  1,     30, X12012,2,20090522,2151,-17.5013,-152.3360, 4516,    328.1,2,  16.6857,2,  16.66838,2,  35.2345,2,  35.2479,2,   175.55,2,   176.10,2,     2.13,2,     0.12,     7.17,2,     0.05,     0.01,2,     0.01,    0.718,2,    0.013,    2.313,2,    1.293,2,    0.042,2,   -999.0,9,   -999.0,9,-999.0000,-999,9,  -999.00,9,  -999.00,   -999.0,9,   -999.0,  16.6320,  25.7813
  49NZ20090521,   P21,   169,  1,     29, X12041,2,20090522,2151,-17.5013,-152.3360, 4516,    430.6,2,  11.1713,2,  11.15585,2,  34.6647,2,  34.6639,2,   152.04,2,   151.94,2,     9.29,2,     0.14,    19.04,2,     0.09,     0.01,2,     0.01,    1.523,2,    0.014,    1.754,6,    0.913,6,    0.035,6,   -999.0,9,   -999.0,9,-999.0000,-999,9,  -999.00,9,  -999.00,   -999.0,9,   -999.0,  11.1173,  26.4931
  49NZ20090521,   P21,   169,  1,     28, X12040,3,20090522,2151,-17.5013,-152.3360, 4516,    531.0,2,   8.3704,2,   8.37108,2,  34.5044,2,  34.5042,6,   142.53,2,   142.45,2,    17.86,2,     0.16,    26.71,2,     0.11,     0.01,2,     0.01,    1.982,2,    0.015,    0.997,2,    0.506,2,    0.022,2,   -999.0,9,   -999.0,9,-999.0000,-999,9,  -999.00,9,  -999.00,   -999.0,9,   -999.0,   8.3144,  26.8371
  49NZ20090521,   P21,   169,  1,     27, X12009,2,20090522,2151,-17.5013,-152.3360, 4516,    629.0,2,   6.4315,2,   6.42213,2,  34.4251,2,  34.4250,2,   158.60,2,   158.27,2,    24.73,2,     0.17,    30.03,2,     0.12,     0.01,2,     0.01,    2.147,2,    0.015,    0.596,6,    0.302,6,    0.017,6,   -999.0,9,   -999.0,9,-999.0000,-999,9,  -999.00,9,  -999.00,   -999.0,9,   -999.0,   6.3740,  27.0501
  49NZ20090521,   P21,   169,  1,     26, X12008,2,20090522,2151,-17.5013,-152.3360, 4516,    730.0,2,   5.5540,2,   5.55599,2,  34.4280,2,  34.4278,2,   155.25,2,   155.17,2,    35.64,2,     0.20,    32.21,2,     0.12,     0.01,2,     0.01,    2.281,2,    0.016,    0.254,2,    0.132,2,    0.007,2,   -999.0,9,   -999.0,9,-999.0000,-999,9,  -999.00,9,  -999.00,   -999.0,9,   -999.0,   5.4916,  27.1636
  49NZ20090521,   P21,   169,  1,     25, X12007,2,20090522,2151,-17.5013,-152.3360, 4516,    828.5,2,   4.7267,2,   4.72588,2,  34.4485,2,  34.4478,2,   152.20,2,   152.17,2,    48.42,2,     0.23,    33.70,2,     0.13,     0.01,2,     0.01,    2.381,2,    0.016,    0.070,2,    0.038,2,    0.000,2,   -999.0,9,   -999.0,9,-999.0000,-999,9,  -999.00,9,  -999.00,   -999.0,9,   -999.0,   4.6605,  27.2765
  49NZ20090521,   P21,   169,  1,     24, X12035,2,20090522,2151,-17.5013,-152.3360, 4516,    930.5,2,   4.2292,2,   4.23115,2,  34.4748,2,  34.4747,2,   148.41,2,   148.41,2,    58.90,2,     0.25,    34.61,2,     0.13,     0.01,2,     0.01,    2.447,2,    0.016,    0.031,2,    0.019,2,    0.000,2,   -999.0,9,   -999.0,9,-999.0000,-999,9,  -999.00,9,  -999.00,   -999.0,9,   -999.0,   4.1577,  27.3519
  49NZ20090521,   P21,   169,  1,     23, X12038,2,20090522,2151,-17.5013,-152.3360, 4516,   1068.3,2,   3.7201,2,   3.71998,2,  34.5109,2,  34.5104,6,   143.95,2,   143.68,2,    71.52,2,     0.28,    35.45,2,     0.13,     0.01,2,     0.01,    2.510,2,    0.016,    0.008,2,    0.005,2,    0.000,2,   -999.0,9,   -999.0,9,-999.0000,-999,9,  -999.00,9,  -999.00,   -999.0,9,   -999.0,   3.6410,  27.4335
  49NZ20090521,   P21,   169,  1,     22, X12034,2,20090522,2151,-17.5013,-152.3360, 4516,   1271.3,2,   3.2528,2,   3.25301,2,  34.5466,2,  34.5464,2,   141.71,2,   141.67,2,    83.77,2,     0.30,    36.07,2,     0.13,     0.01,2,     0.01,    2.553,2,    0.016,    0.004,2,    0.003,2,    0.000,2,   -999.0,9,   -999.0,9,-999.0000,-999,9,  -999.00,9,  -999.00,   -999.0,9,   -999.0,   3.1612,  27.5082
  49NZ20090521,   P21,   169,  1,     21, X12033,2,20090522,2151,-17.5013,-152.3360, 4516,   1470.3,2,   2.8672,2,   2.86726,2,  34.5719,2,  34.5721,2,   144.61,2,   144.52,2,    92.77,2,     0.32,    36.05,2,     0.13,     0.01,2,     0.01,    2.545,2,    0.016,    0.005,2,    0.000,2,    0.000,2,   -999.0,9,   -999.0,9,-999.0000,-999,9,  -999.00,9,  -999.00,   -999.0,9,   -999.0,   2.7633,  27.5647
  49NZ20090521,   P21,   169,  1,     20, X12032,2,20090522,2151,-17.5013,-152.3360, 4516,   1671.3,2,   2.5306,2,   2.53048,2,  34.6002,2,  34.6004,2,   146.34,2,   146.27,2,   102.15,2,     0.34,    35.85,2,     0.13,     0.01,2,     0.01,    2.544,2,    0.016,    0.000,2,    0.003,2,    0.000,2,   -999.0,9,   -999.0,9,-999.0000,-999,9,  -999.00,9,  -999.00,   -999.0,9,   -999.0,   2.4142,  27.6175
  49NZ20090521,   P21,   169,  1,     19, X12046,2,20090522,2151,-17.5013,-152.3360, 4516,   1869.4,2,   2.3066,2,   2.30638,2,  34.6188,2,  34.6188,2,   148.51,2,   148.66,2,   107.93,2,     0.36,    35.81,2,     0.13,     0.01,2,     0.01,    2.531,2,    0.016,    0.002,2,    0.004,2,    0.000,2,   -999.0,9,   -999.0,9,-999.0000,-999,9,  -999.00,9,  -999.00,   -999.0,9,   -999.0,   2.1766,  27.6521
  49NZ20090521,   P21,   169,  1,     18, X12006,2,20090522,2151,-17.5013,-152.3360, 4516,   2070.5,2,   2.1241,2,   2.12457,2,  34.6346,2,  34.6347,2,   151.09,2,   151.00,2,   112.57,2,     0.37,    35.64,2,     0.13,     0.01,2,     0.01,    2.522,2,    0.016,    0.000,2,    0.000,2,    0.000,2,   -999.0,9,   -999.0,9,-999.0000,-999,9,  -999.00,9,  -999.00,   -999.0,9,   -999.0,   1.9798,  27.6805
  49NZ20090521,   P21,   169,  1,     17, X12047,2,20090522,2151,-17.5013,-152.3360, 4516,   2269.2,2,   1.9811,2,   1.98116,2,  34.6468,2,  34.6467,6,   153.70,2,   153.72,2,   115.89,2,     0.37,    35.63,2,     0.13,     0.01,2,     0.01,    2.515,2,    0.016,    0.002,2,    0.000,2,    0.000,2,   -999.0,9,   -999.0,9,-999.0000,-999,9,  -999.00,9,  -999.00,   -999.0,9,   -999.0,   1.8218,  27.7026
  49NZ20090521,   P21,   169,  1,     16, X12004,2,20090522,2151,-17.5013,-152.3360, 4516,   2472.0,2,   1.8798,2,   1.87972,2,  34.6560,2,  34.6562,2,   156.19,2,   156.16,2,   118.03,2,     0.38,    35.41,2,     0.13,     0.01,2,     0.01,    2.490,2,    0.016,    0.002,2,    0.002,2,    0.000,2,   -999.0,9,   -999.0,9,-999.0000,-999,9,  -999.00,9,  -999.00,   -999.0,9,   -999.0,   1.7043,  27.7189
  49NZ20090521,   P21,   169,  1,     15, X12003,2,20090522,2151,-17.5013,-152.3360, 4516,   2670.0,2,   1.8018,2,   1.80161,2,  34.6625,2,  34.6630,2,   158.78,2,   158.88,2,   119.55,2,     0.38,    35.29,2,     0.13,     0.01,2,     0.01,    2.487,2,    0.016,    0.000,2,    0.000,2,    0.000,2,   -999.0,9,   -999.0,9,-999.0000,-999,9,  -999.00,9,  -999.00,   -999.0,9,   -999.0,   1.6097,  27.7313
  49NZ20090521,   P21,   169,  1,     14, X12002,2,20090522,2151,-17.5013,-152.3360, 4516,   2870.5,2,   1.7231,2,   1.72298,2,  34.6693,2,  34.6695,2,   161.96,2,   161.97,2,   120.43,2,     0.38,    35.07,2,     0.13,     0.01,2,     0.01,    2.461,2,    0.016,    0.001,2,    0.000,2,    0.000,2,   -999.0,9,   -999.0,9,-999.0000,-999,9,  -999.00,9,  -999.00,   -999.0,9,   -999.0,   1.5138,  27.7438
  49NZ20090521,   P21,   169,  1,     13, X12001,2,20090522,2151,-17.5013,-152.3360, 4516,   3079.9,2,   1.6424,2,   1.64234,2,  34.6757,2,  34.6755,2,   165.85,2,   165.86,2,   121.09,2,     0.39,    34.82,2,     0.13,     0.01,2,     0.01,    2.449,2,    0.016,    0.001,2,    0.000,2,    0.000,2,   -999.0,9,   -999.0,9,-999.0000,-999,9,  -999.00,9,  -999.00,   -999.0,9,   -999.0,   1.4148,  27.7561
  49NZ20090521,   P21,   169,  1,     12, X12030,2,20090522,2151,-17.5013,-152.3360, 4516,   3330.2,2,   1.5767,2,   1.57681,2,  34.6813,2,  34.6809,2,   170.05,2,   170.01,2,   120.83,2,     0.38,    34.61,2,     0.13,     0.01,2,     0.01,    2.428,2,    0.016,    0.001,2,    0.000,2,    0.000,2,   -999.0,9,   -999.0,9,-999.0000,-999,9,  -999.00,9,  -999.00,   -999.0,9,   -999.0,   1.3259,  27.7669
  49NZ20090521,   P21,   169,  1,     11, X12044,2,20090522,2151,-17.5013,-152.3360, 4516,   3579.9,2,   1.5248,2,   1.52465,2,  34.6859,2,  34.6855,6,   173.80,2,   173.74,2,   120.61,2,     0.38,    34.16,2,     0.13,     0.01,2,     0.01,    2.420,2,    0.016,    0.000,2,    0.000,2,    0.000,2,   -999.0,9,   -999.0,9,-999.0000,-999,9,  -999.00,9,  -999.00,   -999.0,9,   -999.0,   1.2498,  27.7760
  49NZ20090521,   P21,   169,  1,     10, X12048,2,20090522,2151,-17.5013,-152.3360, 4516,   3830.5,2,   1.4857,2,   1.48537,2,  34.6895,2,  34.6897,2,   177.20,2,   177.28,2,   120.34,2,     0.38,    34.08,2,     0.13,     0.01,2,     0.01,    2.387,2,    0.016,    0.000,2,    0.000,2,    0.000,2,   -999.0,9,   -999.0,9,-999.0000,-999,9,  -999.00,9,  -999.00,   -999.0,9,   -999.0,   1.1854,  27.7833
  49NZ20090521,   P21,   169,  1,      9, X12027,2,20090522,2151,-17.5013,-152.3360, 4516,   4079.8,2,   1.4563,2,   1.45601,2,  34.6925,2,  34.6926,2,   180.28,2,   180.26,2,   119.58,2,     0.38,    33.76,2,     0.13,     0.01,2,     0.01,    2.369,2,    0.016,    0.000,2,    0.000,2,    0.000,2,   -999.0,9,   -999.0,9,-999.0000,-999,9,  -999.00,9,  -999.00,   -999.0,9,   -999.0,   1.1299,  27.7895
  49NZ20090521,   P21,   169,  1,      8, X12026,2,20090522,2151,-17.5013,-152.3360, 4516,   4329.9,2,   1.4535,2,   1.45335,2,  34.6942,2,  34.6943,2,   181.93,2,   181.95,2,   119.61,2,     0.38,    33.67,2,     0.13,     0.01,2,     0.01,    2.365,2,    0.016,    0.001,2,    0.000,2,    0.000,2,   -999.0,9,   -999.0,9,-999.0000,-999,9,  -999.00,9,  -999.00,   -999.0,9,   -999.0,   1.0993,  27.7930
  49NZ20090521,   P21,   169,  1,      7, X12025,9,20090522,2151,-17.5013,-152.3360, 4516,     10.3,2,  28.1557,2,  28.15452,2,  36.0319,2,-999.0000,9,   196.64,2,  -999.00,9,  -999.00,9,  -999.00,  -999.00,9,  -999.00,  -999.00,9,  -999.00, -999.000,9, -999.000, -999.000,9, -999.000,9, -999.000,9,   -999.0,9,   -999.0,9,-999.0000,-999,9,  -999.00,9,  -999.00,   -999.0,9,   -999.0,  28.1533,  23.1205
  49NZ20090521,   P21,   169,  1,      6, X12024,9,20090522,2151,-17.5013,-152.3360, 4516,   3580.2,2,   1.5249,2,   1.52479,2,  34.6859,2,-999.0000,9,   173.80,2,  -999.00,9,  -999.00,9,  -999.00,  -999.00,9,  -999.00,  -999.00,9,  -999.00, -999.000,9, -999.000, -999.000,9, -999.000,9, -999.000,9,   -999.0,9,   -999.0,9,-999.0000,-999,9,  -999.00,9,  -999.00,   -999.0,9,   -999.0,   1.2499,  27.7760
  49NZ20090521,   P21,   169,  1,      5, X12028,9,20090522,2151,-17.5013,-152.3360, 4516,   3829.3,2,   1.4862,2,   1.48594,2,  34.6894,2,-999.0000,9,   177.19,2,  -999.00,9,  -999.00,9,  -999.00,  -999.00,9,  -999.00,  -999.00,9,  -999.00, -999.000,9, -999.000, -999.000,9, -999.000,9, -999.000,9,   -999.0,9,   -999.0,9,-999.0000,-999,9,  -999.00,9,  -999.00,   -999.0,9,   -999.0,   1.1860,  27.7832
  49NZ20090521,   P21,   169,  1,      4, X12022,9,20090522,2151,-17.5013,-152.3360, 4516,   4079.7,2,   1.4562,2,   1.45606,2,  34.6926,2,-999.0000,9,   180.24,2,  -999.00,9,  -999.00,9,  -999.00,  -999.00,9,  -999.00,  -999.00,9,  -999.00, -999.000,9, -999.000, -999.000,9, -999.000,9, -999.000,9,   -999.0,9,   -999.0,9,-999.0000,-999,9,  -999.00,9,  -999.00,   -999.0,9,   -999.0,   1.1298,  27.7896
  49NZ20090521,   P21,   169,  1,      3, X12021,9,20090522,2151,-17.5013,-152.3360, 4516,   4330.0,2,   1.4536,2,   1.45330,2,  34.6941,2,-999.0000,9,   181.95,2,  -999.00,9,  -999.00,9,  -999.00,  -999.00,9,  -999.00,  -999.00,9,  -999.00, -999.000,9, -999.000, -999.000,9, -999.000,9, -999.000,9,   -999.0,9,   -999.0,9,-999.0000,-999,9,  -999.00,9,  -999.00,   -999.0,9,   -999.0,   1.0994,  27.7929
  49NZ20090521,   P21,   169,  1,      2, X12020,9,20090522,2151,-17.5013,-152.3360, 4516,   4573.0,2,   1.4606,2,   1.46044,2,  34.6954,2,-999.0000,9,   183.15,2,  -999.00,9,  -999.00,9,  -999.00,  -999.00,9,  -999.00,  -999.00,9,  -999.00, -999.000,9, -999.000, -999.000,9, -999.000,9, -999.000,9,   -999.0,9,   -999.0,9,-999.0000,-999,9,  -999.00,9,  -999.00,   -999.0,9,   -999.0,   1.0784,  27.7953
  49NZ20090521,   P21,   169,  1,      1, X12019,2,20090522,2151,-17.5013,-152.3360, 4516,   4572.0,2,   1.4606,2,   1.46040,2,  34.6953,2,  34.6958,6,   183.15,2,   183.04,2,   119.37,2,     0.38,    33.61,2,     0.13,     0.01,2,     0.01,    2.362,2,    0.016,    0.001,2,    0.000,2,    0.000,2,   -999.0,9,   -999.0,9,-999.0000,-999,9,  -999.00,9,  -999.00,   -999.0,9,   -999.0,   1.0785,  27.7953