BOTTLE,20111109CCHDOSIOCBG
EXPOCODE,SECT_ID,STNNBR,CASTNO,SAMPNO,BTLNBR,BTLNBR_FLAG_W,DATE,TIME,LATITUDE,LONGITUDE,DEPTH,CTDPRS,CTDPRS_FLAG_W,CTDTMP,CTDTMP_FLAG_W,SBE35,SBE35_FLAG_W,CTDSAL,CTDSAL_FLAG_W,SALNTY,SALNTY_FLAG_W,CTDOXY,CTDOXY_FLAG_W,OXYGEN,OXYGEN_FLAG_W,SILCAT,SILCAT_FLAG_W,SILUNC,NITRAT,NITRAT_FLAG_W,NRAUNC,NITRIT,NITRIT_FLAG_W,NRIUNC,PHSPHT,PHSPHT_FLAG_W,PHPUNC,CFC-11,CFC-11_FLAG_W,CFC-12,CFC-12_FLAG_W,CFC113,CFC113_FLAG_W,TCARBN,TCARBN_FLAG_W,ALKALI,ALKALI_FLAG_W,PH_TOT,PH_TMP,PH_TOT_FLAG_W,DELC13,DELC13_FLAG_W,C13ERR,DELC14,DELC14_FLAG_W,C14ERR,THETA,SIG0
,,,,,,,,,,,METERS,DBAR,,ITS-90,,ITS-90,,PSS-78,,PSS-78,,UMOL/KG,,UMOL/KG,,UMOL/KG,,UMOL/KG,UMOL/KG,,UMOL/KG,UMOL/KG,,UMOL/KG,UMOL/KG,,UMOL/KG,PMOL/KG,,PMOL/KG,,PMOL/KG,,UMOL/KG,,UMOL/KG,,,DEG C,,/MILLE,,/MILLE,/MILLE,,/MILLE,DEG C,KG/M^3
  49NZ20090521,   P21,   245,  1,      0,   -999,9,20090610,1026,-18.5693, 167.5835, 5603,   -999.0,9,-999.0000,9,-999.00000,9,-999.0000,9,  34.8235,2,  -999.00,9,  -999.00,9,  -999.00,9,  -999.00,  -999.00,9,  -999.00,  -999.00,9,  -999.00, -999.000,9, -999.000, -999.000,9, -999.000,9, -999.000,9,   -999.0,9,   -999.0,9,-999.0000,-999,9,  -999.00,9,  -999.00,   -999.0,9,   -999.0,-999.0000,-999.0000
  49NZ20090521,   P21,   245,  1,     36, X12043,2,20090610,1026,-18.5693, 167.5835, 5603,     10.3,2,  26.5771,2,  26.57677,2,  34.8180,2,  34.8148,2,   202.14,2,   201.13,2,     0.55,2,     0.12,     0.05,2,     0.03,     0.01,2,     0.01,    0.094,2,    0.023,    1.498,2,    0.963,2, -999.000,5,   1940.5,2,   2286.6,2,   8.1296,  25,6,  -999.00,1,  -999.00,   -999.0,1,   -999.0,  26.5748,  22.7157
  49NZ20090521,   P21,   245,  1,     35, X12042,2,20090610,1026,-18.5693, 167.5835, 5603,     50.6,2,  26.6115,2,  26.61123,2,  34.8446,2,  34.8815,2,   200.36,2,   198.47,2,     0.53,2,     0.12,     0.05,2,     0.03,     0.01,2,     0.01,    0.091,2,    0.023,    1.520,2,    0.985,2, -999.000,5,   1946.8,6,   2290.2,2,   8.1234,  25,2,  -999.00,1,  -999.00,   -999.0,1,   -999.0,  26.6000,  22.7278
  49NZ20090521,   P21,   245,  1,     34, X12016,2,20090610,1026,-18.5693, 167.5835, 5603,    100.4,2,  25.1553,2,  25.15693,2,  35.3159,2,  35.3003,2,   173.31,2,   173.14,2,     0.69,2,     0.12,     1.78,2,     0.04,     0.07,2,     0.01,    0.288,2,    0.014,    1.676,6,    1.056,6, -999.000,5,   2011.0,2,   2316.0,6,   8.0495,  25,2,  -999.00,1,  -999.00,   -999.0,1,   -999.0,  25.1334,  23.5393
  49NZ20090521,   P21,   245,  1,     33, X12015,2,20090610,1026,-18.5693, 167.5835, 5603,    150.0,2,  23.0752,2,  23.07179,2,  35.4741,2,  35.4758,2,   172.19,2,   170.97,2,     0.61,2,     0.12,     2.88,2,     0.04,     0.03,2,     0.01,    0.328,2,    0.014,    1.822,2,    1.145,2,    0.138,2,   2035.4,2,   2324.0,2,   8.0197,  25,6,  -999.00,1,  -999.00,   -999.0,1,   -999.0,  23.0444,  24.2804
  49NZ20090521,   P21,   245,  1,     32, X12050,2,20090610,1026,-18.5693, 167.5835, 5603,    198.9,2,  21.7194,2,  21.72204,2,  35.6166,2,  35.6189,2,   169.07,2,   167.91,2,     0.69,2,     0.12,     3.97,2,     0.04,     0.01,2,     0.01,    0.395,2,    0.013,    1.923,2,    1.188,2,    0.084,2,   2057.8,2,   2333.6,2,   7.9943,  25,2,  -999.00,1,  -999.00,   -999.0,1,   -999.0,  21.6803,  24.7759
  49NZ20090521,   P21,   245,  1,     31, X12014,2,20090610,1026,-18.5693, 167.5835, 5603,    248.7,2,  19.5081,2,  19.50659,2,  35.6097,2,  35.6076,6,   168.43,2,   167.53,2,     1.31,2,     0.12,     5.74,2,     0.05,     0.01,2,     0.01,    0.541,2,    0.013,    2.050,2,    1.226,2,    0.037,2,   2086.2,2,   2335.5,2,   7.9469,  25,2,  -999.00,1,  -999.00,   -999.0,1,   -999.0,  19.4627,  25.3679
  49NZ20090521,   P21,   245,  1,     30, X12012,2,20090610,1026,-18.5693, 167.5835, 5603,    277.8,2,  17.9988,2,  17.99869,2,  35.4805,2,  35.4791,2,   160.44,2,   160.50,2,     2.17,2,     0.12,     7.95,2,     0.06,     0.01,2,     0.01,    0.727,2,    0.013,    2.073,2,    1.204,2,    0.020,2,   2105.3,2,   2330.6,2,   7.9026,  25,2,  -999.00,1,  -999.00,   -999.0,1,   -999.0,  17.9509,  25.6523
  49NZ20090521,   P21,   245,  1,     29, X12041,2,20090610,1026,-18.5693, 167.5835, 5603,    371.5,2,  14.5185,2,  14.52309,2,  35.1510,2,  35.1505,2,   172.27,2,   172.17,2,     3.71,2,     0.13,    11.36,2,     0.06,     0.01,2,     0.01,    0.924,2,    0.013,    2.121,6,    1.190,6,    0.021,6,   2117.4,2,   2311.5,2,   7.8462,  25,2,  -999.00,1,  -999.00,   -999.0,1,   -999.0,  14.4631,  26.2052
  49NZ20090521,   P21,   245,  1,     28, X12040,2,20090610,1026,-18.5693, 167.5835, 5603,    469.7,2,  10.6546,2,  10.65340,2,  34.7528,2,  34.7513,6,   182.78,2,   182.74,2,     7.07,2,     0.13,    17.88,2,     0.08,     0.01,2,     0.01,    1.338,2,    0.014,    1.905,2,    1.013,2,    0.049,2,   2140.1,2,   2294.9,2,   7.7628,  25,2,  -999.00,1,  -999.00,   -999.0,1,   -999.0,  10.5973,  26.6551
  49NZ20090521,   P21,   245,  1,     27, X12009,2,20090610,1026,-18.5693, 167.5835, 5603,    569.4,2,   7.9691,2,   7.97108,2,  34.5071,2,  34.5067,2,   188.74,2,   188.58,2,    12.67,2,     0.15,    23.78,2,     0.10,     0.01,2,     0.01,    1.707,2,    0.014,    1.400,6,    0.725,6,    0.035,6,   2160.9,2,   2288.9,2,   7.7010,  25,2,  -999.00,1,  -999.00,   -999.0,1,   -999.0,   7.9106,  26.9000
  49NZ20090521,   P21,   245,  1,     26, X12008,2,20090610,1026,-18.5693, 167.5835, 5603,    667.7,2,   6.6006,2,   6.60152,2,  34.4643,2,  34.4638,2,   183.05,2,   182.70,2,    24.55,2,     0.17,    27.39,2,     0.11,     0.01,2,     0.01,    1.943,2,    0.015,    0.821,2,    0.428,2,    0.014,2,   2183.3,6,   2297.0,2,   7.6635,  25,2,  -999.00,1,  -999.00,   -999.0,1,   -999.0,   6.5385,  27.0594
  49NZ20090521,   P21,   245,  1,     25, X12007,2,20090610,1026,-18.5693, 167.5835, 5603,    768.7,2,   6.0129,2,   6.01266,2,  34.4745,2,  34.4737,2,   175.73,2,   175.62,2,    33.73,2,     0.19,    29.04,2,     0.11,     0.01,2,     0.01,    2.055,2,    0.015,    0.585,2,    0.306,2,    0.010,2,   2198.9,2,   2305.6,6,   7.6448,  25,2,  -999.00,1,  -999.00,   -999.0,1,   -999.0,   5.9443,  27.1445
  49NZ20090521,   P21,   245,  1,     24, X12035,2,20090610,1026,-18.5693, 167.5835, 5603,    869.3,2,   5.0502,2,   5.05099,2,  34.4409,2,  34.4452,2,   173.41,2,   172.64,2,    42.02,2,     0.21,    31.20,2,     0.12,     0.01,2,     0.01,    2.190,2,    0.016,    0.312,2,    0.166,2,    0.003,2,   2213.9,2,   2312.3,2,   7.6260,  25,6,  -999.00,1,  -999.00,   -999.0,1,   -999.0,   4.9784,  27.2345
  49NZ20090521,   P21,   245,  1,     23, X12038,2,20090610,1026,-18.5693, 167.5835, 5603,    970.6,2,   4.3945,2,   4.39448,2,  34.4618,2,  34.4615,6,   166.54,2,   166.48,2,    53.66,2,     0.24,    32.65,2,     0.12,     0.01,2,     0.01,    2.298,2,    0.016,    0.160,2,    0.083,2,    0.000,2,   2231.2,2,   2324.9,2,   7.6100,  25,2,  -999.00,1,  -999.00,   -999.0,1,   -999.0,   4.3184,  27.3245
  49NZ20090521,   P21,   245,  1,     22, X12034,2,20090610,1026,-18.5693, 167.5835, 5603,   1129.7,2,   3.8276,2,   3.82843,2,  34.5008,2,  34.5006,2,   160.46,2,   160.50,2,    67.58,2,     0.27,    33.69,2,     0.13,     0.01,2,     0.01,    2.371,2,    0.016,    0.081,2,    0.045,2,    0.000,2,   2247.3,2,   2340.9,2,   7.5994,  25,2,  -999.00,1,  -999.00,   -999.0,1,   -999.0,   3.7425,  27.4154
  49NZ20090521,   P21,   245,  1,     21, X12033,2,20090610,1026,-18.5693, 167.5835, 5603,   1329.8,2,   3.2555,2,   3.25581,2,  34.5512,2,  34.5505,2,   153.94,2,   153.97,2,    83.66,2,     0.30,    34.58,2,     0.13,     0.01,2,     0.01,    2.440,2,    0.016,    0.033,2,    0.019,2,    0.000,2,   2271.6,2,   2358.5,2,   7.5897,  25,2,  -999.00,1,  -999.00,   -999.0,1,   -999.0,   3.1591,  27.5121
  49NZ20090521,   P21,   245,  1,     20, X12032,2,20090610,1026,-18.5693, 167.5835, 5603,   1529.2,2,   2.9058,2,   2.90560,2,  34.5839,2,  34.5833,2,   150.18,2,   150.27,2,    93.94,2,     0.33,    35.09,2,     0.13,     0.01,2,     0.01,    2.479,2,    0.016,    0.015,2,    0.007,2,    0.000,2,   2284.5,2,   2370.2,2,   7.5847,  25,2,  -999.00,1,  -999.00,   -999.0,1,   -999.0,   2.7966,  27.5713
  49NZ20090521,   P21,   245,  1,     19, X12046,2,20090610,1026,-18.5693, 167.5835, 5603,   1732.6,2,   2.6088,2,   2.60893,2,  34.6115,2,  34.6112,2,   148.51,2,   148.61,2,   101.88,2,     0.34,    35.38,2,     0.13,     0.01,2,     0.01,    2.503,2,    0.016,    0.004,2,    0.003,2,    0.000,2,   2293.6,2,   2378.9,2,   7.5818,  25,2,  -999.00,1,  -999.00,   -999.0,1,   -999.0,   2.4862,  27.6204
  49NZ20090521,   P21,   245,  1,     18, X12006,2,20090610,1026,-18.5693, 167.5835, 5603,   1929.4,2,   2.3934,2,   2.39353,2,  34.6312,2,  34.6308,2,   148.48,2,   148.49,2,   107.29,2,     0.36,    35.47,2,     0.13,     0.01,2,     0.01,    2.511,2,    0.016,    0.000,2,    0.000,2,    0.000,2,   2299.5,2,   2385.6,2,   7.5815,  25,2,  -999.00,1,  -999.00,   -999.0,1,   -999.0,   2.2571,  27.6554
  49NZ20090521,   P21,   245,  1,     17, X12047,2,20090610,1026,-18.5693, 167.5835, 5603,   2130.8,2,   2.2396,2,   2.23987,2,  34.6456,2,  34.6449,2,   149.53,2,   149.53,2,   110.84,2,     0.36,    35.46,2,     0.13,     0.01,2,     0.01,    2.505,2,    0.016,    0.000,2,    0.000,2,    0.000,2,   2302.3,2,   2388.1,2,   7.5818,  25,2,  -999.00,1,  -999.00,   -999.0,1,   -999.0,   2.0882,  27.6807
  49NZ20090521,   P21,   245,  1,     16, X12004,2,20090610,1026,-18.5693, 167.5835, 5603,   2331.4,2,   2.1118,2,   2.11199,2,  34.6570,2,  34.6564,2,   151.02,2,   150.99,2,   113.65,2,     0.37,    35.38,2,     0.13,     0.01,2,     0.01,    2.505,2,    0.016,    0.001,2,    0.000,2,    0.000,2,   2302.4,6,   2391.6,2,   7.5836,  25,2,  -999.00,1,  -999.00,   -999.0,1,   -999.0,   1.9447,  27.7013
  49NZ20090521,   P21,   245,  1,     15, X12003,2,20090610,1026,-18.5693, 167.5835, 5603,   2529.1,2,   2.0093,2,   2.00939,2,  34.6663,2,  34.6656,6,   152.61,2,   152.58,2,   115.93,2,     0.37,    35.35,2,     0.13,     0.01,2,     0.01,    2.498,2,    0.016,    0.000,2,    0.001,2,    0.000,2,   2305.8,2,   2393.3,6,   7.5853,  25,2,  -999.00,1,  -999.00,   -999.0,1,   -999.0,   1.8261,  27.7179
  49NZ20090521,   P21,   245,  1,     14, X12002,2,20090610,1026,-18.5693, 167.5835, 5603,   2730.8,2,   1.9294,2,   1.92951,2,  34.6718,2,  34.6710,2,   153.16,2,   153.01,2,   118.56,2,     0.38,    35.32,2,     0.13,     0.01,2,     0.01,    2.495,2,    0.016,    0.000,2,    0.000,2,    0.000,2,   2308.8,2,   2396.3,2,   7.5858,  25,6,  -999.00,1,  -999.00,   -999.0,1,   -999.0,   1.7290,  27.7298
  49NZ20090521,   P21,   245,  1,     13, X12001,2,20090610,1026,-18.5693, 167.5835, 5603,   2929.4,2,   1.8877,2,   1.88772,2,  34.6748,2,  34.6743,2,   153.58,2,   153.41,2,   120.23,2,     0.38,    35.37,2,     0.13,     0.01,2,     0.01,    2.502,2,    0.016,    0.000,2,    0.000,2,    0.007,2,   2309.9,2,   2397.7,2,   7.5861,  25,2,  -999.00,1,  -999.00,   -999.0,1,   -999.0,   1.6692,  27.7367
  49NZ20090521,   P21,   245,  1,     12, X12030,2,20090610,1026,-18.5693, 167.5835, 5603,   3171.4,2,   1.8555,2,   1.85568,2,  34.6779,2,  34.6767,2,   154.02,2,   153.74,2,   121.73,2,     0.39,    35.37,2,     0.13,     0.01,2,     0.01,    2.489,2,    0.016,    0.000,2,    0.000,2,    0.000,2,   2311.0,2,   2398.8,2,   7.5871,  25,2,  -999.00,1,  -999.00,   -999.0,1,   -999.0,   1.6140,  27.7433
  49NZ20090521,   P21,   245,  1,     11, X12044,2,20090610,1026,-18.5693, 167.5835, 5603,   3420.7,2,   1.8325,2,   1.83253,2,  34.6801,2,  34.6791,2,   154.74,2,   154.44,2,   122.98,2,     0.39,    35.32,2,     0.13,     0.01,2,     0.01,    2.491,2,    0.016,    0.002,2,    0.001,2,    0.004,2,   2312.7,2,   2400.6,2,   7.5874,  25,2,  -999.00,1,  -999.00,   -999.0,1,   -999.0,   1.5662,  27.7486
  49NZ20090521,   P21,   245,  1,     10, X12048,2,20090610,1026,-18.5693, 167.5835, 5603,   3669.3,2,   1.8296,2,   1.82974,2,  34.6830,2,  34.6823,2,   156.54,2,   156.20,2,   122.59,2,     0.39,    35.26,2,     0.13,     0.01,2,     0.01,    2.482,2,    0.016,    0.000,2,    0.000,2,    0.000,2,   2311.3,2,   2399.2,2,   7.5894,  25,2,  -999.00,1,  -999.00,   -999.0,1,   -999.0,   1.5374,  27.7531
  49NZ20090521,   P21,   245,  1,      9, X12027,2,20090610,1026,-18.5693, 167.5835, 5603,   3920.9,2,   1.8427,2,   1.84289,2,  34.6841,2,  34.6831,6,   157.20,2,   156.77,2,   122.68,2,     0.39,    35.18,2,     0.13,     0.01,2,     0.01,    2.478,2,    0.016,    0.000,2,    0.000,2,    0.000,2,   2310.3,2,   2399.7,2,   7.5904,  25,2,  -999.00,1,  -999.00,   -999.0,1,   -999.0,   1.5229,  27.7550
  49NZ20090521,   P21,   245,  1,      8, X12026,2,20090610,1026,-18.5693, 167.5835, 5603,   4170.0,2,   1.8551,2,   1.85524,2,  34.6851,2,  34.6839,2,   157.78,2,   157.33,2,   122.72,2,     0.39,    35.16,2,     0.13,     0.01,2,     0.01,    2.480,2,    0.016,    0.000,2,    0.000,2,    0.000,2,   2309.7,6,   2399.5,2,   7.5912,  25,2,  -999.00,1,  -999.00,   -999.0,1,   -999.0,   1.5072,  27.7569
  49NZ20090521,   P21,   245,  1,      7, X12025,2,20090610,1026,-18.5693, 167.5835, 5603,   4421.5,2,   1.8738,2,   1.87393,2,  34.6851,2,  34.6840,2,   157.78,2,   157.31,2,   123.20,2,     0.39,    35.25,2,     0.13,     0.00,2,     0.01,    2.479,2,    0.016,    0.000,2,    0.000,2,    0.000,2,   2309.5,2,   2400.1,6,   7.5913,  25,2,  -999.00,1,  -999.00,   -999.0,1,   -999.0,   1.4964,  27.7578
  49NZ20090521,   P21,   245,  1,      6, X12024,2,20090610,1026,-18.5693, 167.5835, 5603,   4673.0,2,   1.9022,2,   1.90234,2,  34.6851,2,  34.6839,2,   157.71,2,   157.28,2,   123.39,2,     0.39,    35.23,2,     0.13,     0.01,2,     0.01,    2.478,2,    0.016,    0.000,2,    0.000,2,    0.000,2,   2310.8,2,   2400.3,2,   7.5913,  25,6,  -999.00,1,  -999.00,   -999.0,1,   -999.0,   1.4942,  27.7579
  49NZ20090521,   P21,   245,  1,      5, X12028,2,20090610,1026,-18.5693, 167.5835, 5603,   4921.1,2,   1.9321,2,   1.93234,2,  34.6851,2,  34.6845,2,   157.70,2,   157.23,2,   123.36,2,     0.39,    35.25,2,     0.13,     0.01,2,     0.01,    2.482,2,    0.016,    0.000,2,    0.000,2,    0.009,2,   2312.2,2,   2400.0,2,   7.5911,  25,2,  -999.00,1,  -999.00,   -999.0,1,   -999.0,   1.4931,  27.7580
  49NZ20090521,   P21,   245,  1,      4, X12022,2,20090610,1026,-18.5693, 167.5835, 5603,   5169.8,2,   1.9634,2,   1.96355,2,  34.6850,2,  34.6847,2,   157.58,2,   157.18,2,   123.55,2,     0.39,    35.20,2,     0.13,     0.01,2,     0.01,    2.479,2,    0.016,    0.001,2,    0.000,2,    0.000,2,   2311.2,2,   2399.8,2,   7.5913,  25,2,  -999.00,1,  -999.00,   -999.0,1,   -999.0,   1.4923,  27.7579
  49NZ20090521,   P21,   245,  1,      3, X12021,2,20090610,1026,-18.5693, 167.5835, 5603,   5420.9,2,   1.9959,2,   1.99590,2,  34.6848,2,  34.6847,2,   157.38,2,   157.14,2,   123.58,2,     0.39,    35.19,2,     0.13,     0.01,2,     0.01,    2.478,2,    0.016,    0.000,2,    0.000,2,    0.000,2,   2310.1,2,   2400.9,2,   7.5910,  25,2,  -999.00,1,  -999.00,   -999.0,1,   -999.0,   1.4916,  27.7578
  49NZ20090521,   P21,   245,  1,      2, X12020,9,20090610,1026,-18.5693, 167.5835, 5603,   1330.3,2,   3.2526,2,   3.25304,2,  34.5516,2,-999.0000,9,   153.91,2,  -999.00,9,  -999.00,9,  -999.00,  -999.00,9,  -999.00,  -999.00,9,  -999.00, -999.000,9, -999.000, -999.000,9, -999.000,9, -999.000,9,   -999.0,9,   -999.0,9,-999.0000,-999,9,  -999.00,9,  -999.00,   -999.0,9,   -999.0,   3.1562,  27.5127
  49NZ20090521,   P21,   245,  1,      1, X12019,2,20090610,1026,-18.5693, 167.5835, 5603,   5698.1,2,   2.0319,2,   2.03197,2,  34.6846,2,  34.6842,6,   157.19,2,   157.02,2,   123.57,2,     0.39,    35.22,2,     0.13,     0.01,2,     0.01,    2.483,2,    0.016,    0.000,2,    0.000,2,    0.000,2,   2310.4,2,   2401.6,2,   7.5913,  25,2,  -999.00,1,  -999.00,   -999.0,1,   -999.0,   1.4900,  27.7578