BOTTLE,20111109CCHDOSIOCBG
EXPOCODE,SECT_ID,STNNBR,CASTNO,SAMPNO,BTLNBR,BTLNBR_FLAG_W,DATE,TIME,LATITUDE,LONGITUDE,DEPTH,CTDPRS,CTDPRS_FLAG_W,CTDTMP,CTDTMP_FLAG_W,SBE35,SBE35_FLAG_W,CTDSAL,CTDSAL_FLAG_W,SALNTY,SALNTY_FLAG_W,CTDOXY,CTDOXY_FLAG_W,OXYGEN,OXYGEN_FLAG_W,SILCAT,SILCAT_FLAG_W,SILUNC,NITRAT,NITRAT_FLAG_W,NRAUNC,NITRIT,NITRIT_FLAG_W,NRIUNC,PHSPHT,PHSPHT_FLAG_W,PHPUNC,CFC-11,CFC-11_FLAG_W,CFC-12,CFC-12_FLAG_W,CFC113,CFC113_FLAG_W,TCARBN,TCARBN_FLAG_W,ALKALI,ALKALI_FLAG_W,PH_TOT,PH_TMP,PH_TOT_FLAG_W,DELC13,DELC13_FLAG_W,C13ERR,DELC14,DELC14_FLAG_W,C14ERR,THETA,SIG0
,,,,,,,,,,,METERS,DBAR,,ITS-90,,ITS-90,,PSS-78,,PSS-78,,UMOL/KG,,UMOL/KG,,UMOL/KG,,UMOL/KG,UMOL/KG,,UMOL/KG,UMOL/KG,,UMOL/KG,UMOL/KG,,UMOL/KG,PMOL/KG,,PMOL/KG,,PMOL/KG,,UMOL/KG,,UMOL/KG,,,DEG C,,/MILLE,,/MILLE,/MILLE,,/MILLE,DEG C,KG/M^3
  49NZ20090521,   P21,   195,  1,      0,   -999,9,20090601,1004,-17.5023,-169.6733, 4977,   -999.0,9,-999.0000,9,-999.00000,9,-999.0000,9,  35.2290,2,  -999.00,9,  -999.00,9,  -999.00,9,  -999.00,  -999.00,9,  -999.00,  -999.00,9,  -999.00, -999.000,9, -999.000, -999.000,9, -999.000,9, -999.000,9,   -999.0,9,   -999.0,9,-999.0000,-999,9,  -999.00,9,  -999.00,   -999.0,9,   -999.0,-999.0000,-999.0000
  49NZ20090521,   P21,   195,  1,     36, X12043,2,20090601,1004,-17.5023,-169.6733, 4977,     10.9,2,  27.7795,2,  27.77994,2,  35.2426,2,  35.2404,2,   200.26,2,   199.96,2,     0.46,2,     0.12,     0.06,2,     0.03,     0.01,2,     0.01,    0.066,2,    0.028,    1.445,2,    0.902,2, -999.000,5,   1953.0,2,   2317.9,2,   8.1445,  25,6,  -999.00,1,  -999.00,   -999.0,1,   -999.0,  27.7769,  22.6499
  49NZ20090521,   P21,   195,  1,     35, X12042,2,20090601,1004,-17.5023,-169.6733, 4977,     50.5,2,  27.3818,2,  27.38169,2,  35.1885,2,  35.1861,2,   200.18,2,   200.05,2,     0.42,2,     0.12,     0.06,2,     0.03,     0.01,2,     0.01,    0.074,2,    0.026,    1.468,2,    0.933,2, -999.000,5,   1954.8,6,   2315.2,2,   8.1371,  25,2,  -999.00,1,  -999.00,   -999.0,1,   -999.0,  27.3701,  22.7410
  49NZ20090521,   P21,   195,  1,     34, X12016,2,20090601,1004,-17.5023,-169.6733, 4977,    101.2,2,  25.5661,2,  25.56909,2,  35.8038,2,  35.8031,2,   206.93,2,   206.54,2,     0.45,2,     0.12,     0.06,2,     0.03,     0.01,2,     0.01,    0.153,2,    0.018,    1.653,6,    1.033,6, -999.000,5,   2006.2,2,   2356.2,6,   8.1070,  25,2,  -999.00,1,  -999.00,   -999.0,1,   -999.0,  25.5437,  23.7818
  49NZ20090521,   P21,   195,  1,     33, X12015,2,20090601,1004,-17.5023,-169.6733, 4977,    150.8,2,  23.9248,2,  23.92451,2,  35.8762,2,  35.8696,2,   183.21,2,   182.80,2,     0.48,2,     0.12,     0.66,2,     0.03,     0.06,2,     0.01,    0.254,2,    0.015,    1.767,2,    1.080,2, -999.000,5,   2044.6,2,   2358.2,2,   8.0516,  25,6,  -999.00,1,  -999.00,   -999.0,1,   -999.0,  23.8930,  24.3367
  49NZ20090521,   P21,   195,  1,     32, X12050,2,20090601,1004,-17.5023,-169.6733, 4977,    201.1,2,  22.3852,2,  22.38442,2,  35.9094,2,  35.9083,2,   169.66,2,   168.96,2,     0.61,2,     0.12,     2.70,2,     0.04,     0.02,2,     0.01,    0.403,2,    0.013,    1.921,2,    1.147,2,    0.090,2,   2078.2,2,   2360.8,2,   7.9997,  25,2,  -999.00,1,  -999.00,   -999.0,1,   -999.0,  22.3447,  24.8115
  49NZ20090521,   P21,   195,  1,     31, X12014,2,20090601,1004,-17.5023,-169.6733, 4977,    251.0,2,  20.4249,2,  20.42230,2,  35.7090,2,  35.7087,6,   173.49,2,   173.05,2,     0.74,2,     0.12,     3.66,2,     0.04,     0.01,2,     0.01,    0.438,2,    0.013,    2.084,2,    1.218,2,    0.050,2,   2081.0,2,   2346.5,2,   7.9710,  25,2,  -999.00,1,  -999.00,   -999.0,1,   -999.0,  20.3776,  25.2022
  49NZ20090521,   P21,   195,  1,     30, X12012,2,20090601,1004,-17.5023,-169.6733, 4977,    301.6,2,  17.8787,2,  17.87900,2,  35.4300,2,  35.4316,2,   182.10,2,   181.82,2,     1.13,2,     0.12,     4.96,2,     0.05,     0.01,2,     0.01,    0.508,2,    0.013,    2.280,2,    1.285,2,    0.020,2,   2085.0,2,   2328.7,2,   7.9344,  25,2,  -999.00,1,  -999.00,   -999.0,1,   -999.0,  17.8269,  25.6441
  49NZ20090521,   P21,   195,  1,     29, X12041,2,20090601,1004,-17.5023,-169.6733, 4977,    402.6,2,  12.9277,2,  12.92804,2,  34.8745,2,  34.8740,2,   165.01,2,   164.78,2,     5.58,2,     0.13,    14.29,2,     0.07,     0.01,2,     0.01,    1.170,2,    0.013,    1.968,6,    1.025,6,    0.019,6,   2128.2,2,   2301.0,2,   7.7957,  25,2,  -999.00,1,  -999.00,   -999.0,1,   -999.0,  12.8722,  26.3213
  49NZ20090521,   P21,   195,  1,     28, X12040,2,20090601,1004,-17.5023,-169.6733, 4977,    500.7,2,   8.6136,2,   8.61639,2,  34.5138,2,  34.5137,6,   168.33,2,   168.15,2,    12.25,2,     0.15,    23.86,2,     0.10,     0.01,2,     0.01,    1.743,2,    0.014,    1.368,2,    0.679,2,    0.025,2,   2164.7,2,   2287.6,2,   7.6821,  25,2,  -999.00,1,  -999.00,   -999.0,1,   -999.0,   8.5600,  26.8067
  49NZ20090521,   P21,   195,  1,     27, X12009,2,20090601,1004,-17.5023,-169.6733, 4977,    600.7,2,   6.6356,2,   6.63588,2,  34.3801,2,  34.3794,2,   200.31,2,   199.96,2,    14.06,2,     0.15,    26.29,2,     0.11,     0.01,2,     0.01,    1.848,2,    0.015,    1.276,6,    0.620,6,    0.031,6,   2163.3,2,   2285.9,2,   7.6789,  25,2,  -999.00,1,  -999.00,   -999.0,1,   -999.0,   6.5799,  26.9874
  49NZ20090521,   P21,   195,  1,     26, X12008,2,20090601,1004,-17.5023,-169.6733, 4977,    700.7,2,   5.5835,2,   5.58338,2,  34.3627,2,  34.3621,2,   185.14,2,   184.87,2,    24.28,2,     0.17,    30.06,2,     0.12,     0.01,2,     0.01,    2.101,2,    0.015,    0.526,2,    0.264,2,    0.015,2,   2187.1,6,   2295.4,2,   7.6384,  25,2,  -999.00,1,  -999.00,   -999.0,1,   -999.0,   5.5237,  27.1081
  49NZ20090521,   P21,   195,  1,     25, X12007,2,20090601,1004,-17.5023,-169.6733, 4977,    800.7,2,   4.9720,2,   4.97270,2,  34.3896,2,  34.3890,2,   171.67,2,   171.45,2,    35.58,2,     0.20,    32.16,2,     0.12,     0.01,2,     0.01,    2.246,2,    0.016,    0.214,2,    0.109,2,    0.000,2,   2208.9,2,   2305.6,6,   7.6135,  25,2,  -999.00,1,  -999.00,   -999.0,1,   -999.0,   4.9068,  27.2020
  49NZ20090521,   P21,   195,  1,     24, X12035,2,20090601,1004,-17.5023,-169.6733, 4977,    900.6,2,   4.2021,2,   4.20254,2,  34.4133,2,  34.4146,2,   166.64,2,   166.02,2,    47.85,2,     0.22,    33.72,2,     0.13,     0.01,2,     0.01,    2.350,2,    0.016,    0.081,2,    0.044,2,    0.000,2,   2227.4,2,   2317.9,2,   7.5959,  25,6,  -999.00,1,  -999.00,   -999.0,1,   -999.0,   4.1334,  27.3055
  49NZ20090521,   P21,   195,  1,     23, X12038,2,20090601,1004,-17.5023,-169.6733, 4977,   1000.3,2,   3.7917,2,   3.79212,2,  34.4565,2,  34.4565,6,   159.00,2,   158.61,2,    59.48,2,     0.25,    34.56,2,     0.13,     0.01,2,     0.01,    2.421,2,    0.016,    0.031,2,    0.017,2,    0.000,2,   2243.8,2,   2331.5,2,   7.5853,  25,2,  -999.00,1,  -999.00,   -999.0,1,   -999.0,   3.7177,  27.3826
  49NZ20090521,   P21,   195,  1,     22, X12034,2,20090601,1004,-17.5023,-169.6733, 4977,   1200.5,2,   3.0781,2,   3.08018,2,  34.5307,2,  34.5313,3,   151.45,2,   151.14,2,    80.82,2,     0.30,    35.56,2,     0.13,     0.01,2,     0.01,    2.487,2,    0.016,    0.001,2,    0.001,2,    0.000,2,   2270.2,2,   2354.8,2,   7.5764,  25,2,  -999.00,1,  -999.00,   -999.0,1,   -999.0,   2.9939,  27.5110
  49NZ20090521,   P21,   195,  1,     21, X12033,2,20090601,1004,-17.5023,-169.6733, 4977,   1400.0,2,   2.7456,2,   2.74571,2,  34.5755,2,  34.5752,2,   146.98,2,   146.77,2,    94.30,2,     0.33,    35.90,2,     0.13,     0.01,2,     0.01,    2.524,2,    0.016,    0.000,2,    0.000,2,    0.000,2,   2286.2,2,   2370.1,2,   7.5728,  25,2,  -999.00,1,  -999.00,   -999.0,1,   -999.0,   2.6488,  27.5776
  49NZ20090521,   P21,   195,  1,     20, X12032,2,20090601,1004,-17.5023,-169.6733, 4977,   1601.3,2,   2.5410,2,   2.54105,2,  34.6015,2,  34.6012,2,   144.30,2,   144.20,2,   102.99,2,     0.35,    36.23,2,     0.13,     0.01,2,     0.01,    2.539,2,    0.016,    0.000,2,    0.000,2,    0.000,2,   2295.7,2,   2380.9,2,   7.5719,  25,6,  -999.00,1,  -999.00,   -999.0,1,   -999.0,   2.4302,  27.6172
  49NZ20090521,   P21,   195,  1,     19, X12046,2,20090601,1004,-17.5023,-169.6733, 4977,   1801.3,2,   2.3594,2,   2.35937,2,  34.6173,2,  34.6170,2,   145.18,2,   145.12,2,   108.63,2,     0.36,    36.20,2,     0.13,     0.01,2,     0.01,    2.539,2,    0.016,    0.000,2,    0.000,2,    0.000,2,   2300.2,2,   2387.8,2,   7.5739,  25,2,  -999.00,1,  -999.00,   -999.0,1,   -999.0,   2.2344,  27.6462
  49NZ20090521,   P21,   195,  1,     18, X12006,2,20090601,1004,-17.5023,-169.6733, 4977,   2002.5,2,   2.1859,2,   2.18606,2,  34.6330,2,  34.6324,2,   145.30,2,   145.12,2,   114.36,2,     0.37,    36.31,2,     0.13,     0.01,2,     0.01,    2.544,2,    0.016,    0.000,2,    0.000,2,    0.000,2,   2308.6,2,   2393.1,2,   7.5757,  25,2,  -999.00,1,  -999.00,   -999.0,1,   -999.0,   2.0464,  27.6739
  49NZ20090521,   P21,   195,  1,     17, X12047,2,20090601,1004,-17.5023,-169.6733, 4977,   2202.2,2,   2.0330,2,   2.03297,2,  34.6450,2,  34.6445,2,   147.79,2,   147.77,2,   118.18,2,     0.38,    36.09,2,     0.13,     0.01,2,     0.01,    2.529,2,    0.016,    0.000,2,    0.000,2,    0.000,2,   2308.8,2,   2397.6,2,   7.5795,  25,2,  -999.00,1,  -999.00,   -999.0,1,   -999.0,   1.8787,  27.6968
  49NZ20090521,   P21,   195,  1,     16, X12004,2,20090601,1004,-17.5023,-169.6733, 4977,   2400.7,2,   1.9100,2,   1.91007,2,  34.6558,2,  34.6555,6,   147.92,2,   147.81,2,   123.04,2,     0.39,    36.14,2,     0.13,     0.01,2,     0.01,    2.533,2,    0.016,    0.000,2,    0.000,2,    0.000,2,   2313.0,2,   2402.6,2,   7.5810,  25,2,  -999.00,1,  -999.00,   -999.0,1,   -999.0,   1.7403,  27.7160
  49NZ20090521,   P21,   195,  1,     15, X12003,2,20090601,1004,-17.5023,-169.6733, 4977,   2599.8,2,   1.8255,2,   1.82536,2,  34.6629,2,  34.6624,2,   150.35,2,   150.14,2,   124.94,2,     0.39,    36.03,2,     0.13,     0.01,2,     0.01,    2.520,2,    0.016,    0.000,2,    0.000,2,    0.000,2,   2313.8,2,   2404.3,6,   7.5836,  25,2,  -999.00,1,  -999.00,   -999.0,1,   -999.0,   1.6394,  27.7294
  49NZ20090521,   P21,   195,  1,     14, X12002,2,20090601,1004,-17.5023,-169.6733, 4977,   2801.8,2,   1.7570,2,   1.75695,2,  34.6686,2,  34.6682,2,   150.32,2,   150.19,2,   128.00,2,     0.40,    35.99,2,     0.13,     0.01,2,     0.01,    2.520,2,    0.016,    0.000,2,    0.000,2,    0.000,2,   2317.7,2,   2407.4,2,   7.5843,  25,6,  -999.00,1,  -999.00,   -999.0,1,   -999.0,   1.5535,  27.7403
  49NZ20090521,   P21,   195,  1,     13, X12001,2,20090601,1004,-17.5023,-169.6733, 4977,   3000.8,2,   1.6868,2,   1.68672,2,  34.6741,2,  34.6735,2,   154.27,2,   154.04,2,   128.28,2,     0.40,    35.77,2,     0.13,     0.01,2,     0.01,    2.503,2,    0.016,    0.000,2,    0.000,2,    0.000,2,   2316.0,2,   2408.2,2,   7.5887,  25,2,  -999.00,1,  -999.00,   -999.0,1,   -999.0,   1.4658,  27.7511
  49NZ20090521,   P21,   195,  1,     12, X12030,2,20090601,1004,-17.5023,-169.6733, 4977,   3250.0,2,   1.6109,2,   1.61095,2,  34.6801,2,  34.6794,2,   159.33,2,   159.13,2,   128.10,2,     0.40,    35.53,2,     0.13,     0.01,2,     0.01,    2.477,2,    0.016,    0.000,2,    0.000,2,    0.000,2,   2311.6,2,   2406.3,2,   7.5940,  25,2,  -999.00,1,  -999.00,   -999.0,1,   -999.0,   1.3672,  27.7630
  49NZ20090521,   P21,   195,  1,     11, X12044,2,20090601,1004,-17.5023,-169.6733, 4977,   3499.5,2,   1.5639,2,   1.56393,2,  34.6840,2,  34.6834,2,   163.14,2,   163.06,2,   127.74,2,     0.40,    35.22,2,     0.13,     0.01,2,     0.01,    2.453,2,    0.016,    0.001,2,    0.000,2,    0.000,2,   2308.1,2,   2402.8,2,   7.5965,  25,2,  -999.00,1,  -999.00,   -999.0,1,   -999.0,   1.2962,  27.7712
  49NZ20090521,   P21,   195,  1,     10, X12048,2,20090601,1004,-17.5023,-169.6733, 4977,   3750.4,2,   1.4908,2,   1.49091,2,  34.6906,2,  34.6900,6,   170.95,2,   170.98,2,   125.02,2,     0.39,    34.62,2,     0.13,     0.01,2,     0.01,    2.410,2,    0.016,    0.001,2,    0.000,2,    0.000,2,   2300.4,2,   2396.0,2,   7.6021,  25,2,  -999.00,1,  -999.00,   -999.0,1,   -999.0,   1.1989,  27.7833
  49NZ20090521,   P21,   195,  1,      9, X12027,2,20090601,1004,-17.5023,-169.6733, 4977,   4000.8,2,   1.3771,2,   1.37728,2,  34.7039,2,  34.7040,2,   186.13,2,   186.10,2,   117.49,2,     0.38,    33.30,2,     0.13,     0.01,2,     0.01,    2.318,2,    0.016,    0.006,2,    0.002,2,    0.000,2,   2281.3,2,   2381.9,2,   7.6107,  25,2,  -999.00,1,  -999.00,   -999.0,1,   -999.0,   1.0615,  27.8034
  49NZ20090521,   P21,   195,  1,      8, X12026,2,20090601,1004,-17.5023,-169.6733, 4977,   4250.7,2,   1.2266,2,   1.22692,2,  34.7130,2,  34.7125,2,   199.51,2,   199.42,2,   113.42,2,     0.37,    32.35,2,     0.12,     0.01,2,     0.01,    2.248,2,    0.016,    0.018,2,    0.008,2,    0.000,2,   2265.9,6,   2370.1,2,   7.6183,  25,2,  -999.00,1,  -999.00,   -999.0,1,   -999.0,   0.8879,  27.8221
  49NZ20090521,   P21,   195,  1,      7, X12025,2,20090601,1004,-17.5023,-169.6733, 4977,   4499.2,2,   1.0852,2,   1.08533,2,  34.7110,2,  34.7098,3,   204.66,2,   204.47,2,   115.62,2,     0.37,    32.28,2,     0.12,     0.01,2,     0.01,    2.231,2,    0.016,    0.028,2,    0.012,2,    0.003,2,   2266.1,2,   2366.5,6,   7.6195,  25,2,  -999.00,1,  -999.00,   -999.0,1,   -999.0,   0.7231,  27.8311
  49NZ20090521,   P21,   195,  1,      6, X12024,2,20090601,1004,-17.5023,-169.6733, 4977,   4749.8,2,   1.0572,2,   1.05715,2,  34.7092,2,  34.7094,2,   205.67,2,   205.57,2,   116.98,2,     0.38,    32.24,2,     0.12,     0.01,2,     0.01,    2.239,2,    0.016,    0.031,2,    0.016,2,    0.005,2,   2265.1,2,   2366.8,2,   7.6192,  25,2,  -999.00,1,  -999.00,   -999.0,1,   -999.0,   0.6673,  27.8331
  49NZ20090521,   P21,   195,  1,      5, X12028,9,20090601,1004,-17.5023,-169.6733, 4977,     10.9,2,  27.7793,2,  27.77896,2,  35.2426,2,-999.0000,9,   200.13,2,  -999.00,9,  -999.00,9,  -999.00,  -999.00,9,  -999.00,  -999.00,9,  -999.00, -999.000,9, -999.000, -999.000,9, -999.000,9, -999.000,9,   -999.0,9,   -999.0,9,-999.0000,-999,9,  -999.00,9,  -999.00,   -999.0,9,   -999.0,  27.7767,  22.6499
  49NZ20090521,   P21,   195,  1,      4, X12022,9,20090601,1004,-17.5023,-169.6733, 4977,     50.8,2,  27.3999,2,  27.39880,2,  35.1894,2,-999.0000,9,   200.14,2,  -999.00,9,  -999.00,9,  -999.00,  -999.00,9,  -999.00,  -999.00,9,  -999.00, -999.000,9, -999.000, -999.000,9, -999.000,9, -999.000,9,   -999.0,9,   -999.0,9,-999.0000,-999,9,  -999.00,9,  -999.00,   -999.0,9,   -999.0,  27.3881,  22.7358
  49NZ20090521,   P21,   195,  1,      3, X12021,9,20090601,1004,-17.5023,-169.6733, 4977,    100.4,2,  25.5872,2,  25.58730,2,  35.8017,2,-999.0000,9,   206.94,2,  -999.00,9,  -999.00,9,  -999.00,  -999.00,9,  -999.00,  -999.00,9,  -999.00, -999.000,9, -999.000, -999.000,9, -999.000,9, -999.000,9,   -999.0,9,   -999.0,9,-999.0000,-999,9,  -999.00,9,  -999.00,   -999.0,9,   -999.0,  25.5650,  23.7737
  49NZ20090521,   P21,   195,  1,      2, X12020,9,20090601,1004,-17.5023,-169.6733, 4977,   1400.1,2,   2.7453,2,   2.74517,2,  34.5754,2,-999.0000,9,   147.06,2,  -999.00,9,  -999.00,9,  -999.00,  -999.00,9,  -999.00,  -999.00,9,  -999.00, -999.000,9, -999.000, -999.000,9, -999.000,9, -999.000,9,   -999.0,9,   -999.0,9,-999.0000,-999,9,  -999.00,9,  -999.00,   -999.0,9,   -999.0,   2.6485,  27.5776
  49NZ20090521,   P21,   195,  1,      1, X12019,2,20090601,1004,-17.5023,-169.6733, 4977,   5043.8,2,   1.0673,2,   1.06702,2,  34.7082,2,  34.7083,6,   206.18,2,   205.71,2,   117.59,2,     0.38,    32.32,2,     0.12,     0.01,2,     0.01,    2.237,2,    0.016,    0.033,2,    0.016,2,    0.003,2,   2264.8,2,   2365.9,2,   7.6197,  25,2,  -999.00,1,  -999.00,   -999.0,1,   -999.0,   0.6424,  27.8338