BOTTLE,20111109CCHDOSIOCBG
EXPOCODE,SECT_ID,STNNBR,CASTNO,SAMPNO,BTLNBR,BTLNBR_FLAG_W,DATE,TIME,LATITUDE,LONGITUDE,DEPTH,CTDPRS,CTDPRS_FLAG_W,CTDTMP,CTDTMP_FLAG_W,SBE35,SBE35_FLAG_W,CTDSAL,CTDSAL_FLAG_W,SALNTY,SALNTY_FLAG_W,CTDOXY,CTDOXY_FLAG_W,OXYGEN,OXYGEN_FLAG_W,SILCAT,SILCAT_FLAG_W,SILUNC,NITRAT,NITRAT_FLAG_W,NRAUNC,NITRIT,NITRIT_FLAG_W,NRIUNC,PHSPHT,PHSPHT_FLAG_W,PHPUNC,CFC-11,CFC-11_FLAG_W,CFC-12,CFC-12_FLAG_W,CFC113,CFC113_FLAG_W,TCARBN,TCARBN_FLAG_W,ALKALI,ALKALI_FLAG_W,PH_TOT,PH_TMP,PH_TOT_FLAG_W,DELC13,DELC13_FLAG_W,C13ERR,DELC14,DELC14_FLAG_W,C14ERR,THETA,SIG0
,,,,,,,,,,,METERS,DBAR,,ITS-90,,ITS-90,,PSS-78,,PSS-78,,UMOL/KG,,UMOL/KG,,UMOL/KG,,UMOL/KG,UMOL/KG,,UMOL/KG,UMOL/KG,,UMOL/KG,UMOL/KG,,UMOL/KG,PMOL/KG,,PMOL/KG,,PMOL/KG,,UMOL/KG,,UMOL/KG,,,DEG C,,/MILLE,,/MILLE,/MILLE,,/MILLE,DEG C,KG/M^3
  49NZ20090521,   P21,   179,  1,      0,   -999,9,20090528,0703,-17.4995,-159.0078, 4925,   -999.0,9,-999.0000,9,-999.00000,9,-999.0000,9,  35.7337,2,  -999.00,9,  -999.00,9,  -999.00,9,  -999.00,  -999.00,9,  -999.00,  -999.00,9,  -999.00, -999.000,9, -999.000, -999.000,9, -999.000,9, -999.000,9,   -999.0,9,   -999.0,9,-999.0000,-999,9,  -999.00,9,  -999.00,   -999.0,9,   -999.0,-999.0000,-999.0000
  49NZ20090521,   P21,   179,  1,     36, X12043,2,20090528,0703,-17.4995,-159.0078, 4925,     10.2,2,  27.6613,2,  27.66069,2,  35.6917,2,  35.6902,2,   197.81,2,   198.23,2,     0.76,2,     0.12,     0.07,2,     0.03,     0.01,2,     0.01,    0.134,2,    0.019,    1.447,2,    0.930,2, -999.000,5,   -999.0,9,   -999.0,9,-999.0000,-999,9,  -999.00,9,  -999.00,   -999.0,9,   -999.0,  27.6589,  23.0263
  49NZ20090521,   P21,   179,  1,     35, X12042,2,20090528,0703,-17.4995,-159.0078, 4925,     50.1,2,  27.9245,2,  27.92381,2,  35.9669,2,  35.9668,2,   196.65,2,   197.32,2,     0.66,2,     0.12,     0.05,2,     0.03,     0.01,2,     0.01,    0.136,2,    0.019,    1.431,2,    0.914,2, -999.000,5,   -999.0,9,   -999.0,9,-999.0000,-999,9,  -999.00,9,  -999.00,   -999.0,9,   -999.0,  27.9127,  23.1506
  49NZ20090521,   P21,   179,  1,     34, X12016,2,20090528,0703,-17.4995,-159.0078, 4925,    100.5,2,  26.1791,2,  26.17640,2,  36.3259,2,  36.3253,2,   209.66,2,   210.17,2,     0.65,2,     0.12,     0.06,2,     0.03,     0.01,2,     0.01,    0.171,2,    0.017,    1.618,6,    1.023,6, -999.000,5,   -999.0,9,   -999.0,9,-999.0000,-999,9,  -999.00,9,  -999.00,   -999.0,9,   -999.0,  26.1565,  23.9849
  49NZ20090521,   P21,   179,  1,     33, X12015,2,20090528,0703,-17.4995,-159.0078, 4925,    151.0,2,  24.2530,2,  24.25028,2,  36.1914,2,  36.1949,2,   191.22,2,   191.56,2,     0.61,2,     0.12,     0.30,2,     0.03,     0.15,2,     0.01,    0.228,2,    0.015,    1.719,2,    1.062,2, -999.000,5,   -999.0,9,   -999.0,9,-999.0000,-999,9,  -999.00,9,  -999.00,   -999.0,9,   -999.0,  24.2208,  24.4777
  49NZ20090521,   P21,   179,  1,     32, X12050,2,20090528,0703,-17.4995,-159.0078, 4925,    201.5,2,  23.0921,2,  23.09237,2,  36.0490,2,  36.0421,2,   180.69,2,   181.53,2,     0.65,2,     0.12,     1.60,2,     0.04,     0.03,2,     0.01,    0.308,2,    0.014,    1.840,2,    1.123,2,    0.178,4,   -999.0,9,   -999.0,9,-999.0000,-999,9,  -999.00,9,  -999.00,   -999.0,9,   -999.0,  23.0506,  24.7148
  49NZ20090521,   P21,   179,  1,     31, X12014,2,20090528,0703,-17.4995,-159.0078, 4925,    252.5,2,  20.4893,2,  20.48742,2,  35.7322,2,  35.7344,6,   179.72,2,   179.67,2,     0.77,2,     0.12,     2.98,2,     0.04,     0.01,2,     0.01,    0.385,2,    0.013,    2.120,2,    1.240,2,    0.062,2,   -999.0,9,   -999.0,9,-999.0000,-999,9,  -999.00,9,  -999.00,   -999.0,9,   -999.0,  20.4416,  25.2026
  49NZ20090521,   P21,   179,  1,     30, X12012,2,20090528,0703,-17.4995,-159.0078, 4925,    281.0,2,  19.2877,2,  19.28270,2,  35.5823,2,  35.5856,2,   181.95,2,   182.20,2,     0.88,2,     0.12,     3.60,2,     0.04,     0.01,2,     0.01,    0.424,2,    0.013,    2.217,2,    1.284,2,    0.038,2,   -999.0,9,   -999.0,9,-999.0000,-999,9,  -999.00,9,  -999.00,   -999.0,9,   -999.0,  19.2368,  25.4054
  49NZ20090521,   P21,   179,  1,     29, X12041,2,20090528,0703,-17.4995,-159.0078, 4925,    371.5,2,  14.4628,2,  14.46267,2,  35.0180,2,  35.0249,2,   179.72,2,   180.30,2,     3.10,2,     0.13,     9.70,2,     0.06,     0.01,2,     0.01,    0.844,2,    0.013,    2.320,6,    1.246,6,    0.028,6,   -999.0,9,   -999.0,9,-999.0000,-999,9,  -999.00,9,  -999.00,   -999.0,9,   -999.0,  14.4076,  26.1145
  49NZ20090521,   P21,   179,  1,     28, X12040,2,20090528,0703,-17.4995,-159.0078, 4925,    470.6,2,   9.6460,2,   9.64890,2,  34.5864,2,  34.5908,6,   147.09,2,   146.95,2,    13.14,2,     0.15,    22.99,2,     0.10,     0.01,2,     0.01,    1.740,2,    0.014,    1.318,2,    0.671,2,    0.028,2,   -999.0,9,   -999.0,9,-999.0000,-999,9,  -999.00,9,  -999.00,   -999.0,9,   -999.0,   9.5921,  26.6977
  49NZ20090521,   P21,   179,  1,     27, X12009,2,20090528,0703,-17.4995,-159.0078, 4925,    569.2,2,   7.4331,2,   7.43321,2,  34.4580,2,  34.4567,2,   155.65,2,   156.20,2,    19.44,2,     0.16,    27.83,2,     0.11,     0.01,2,     0.01,    2.012,2,    0.015,    0.840,6,    0.419,6,    0.015,6,   -999.0,9,   -999.0,9,-999.0000,-999,9,  -999.00,9,  -999.00,   -999.0,9,   -999.0,   7.3770,  26.9389
  49NZ20090521,   P21,   179,  1,     26, X12008,2,20090528,0703,-17.4995,-159.0078, 4925,    669.5,2,   5.9284,2,   5.92885,2,  34.4121,2,  34.4124,2,   163.44,2,   163.44,2,    28.35,2,     0.18,    30.83,2,     0.12,     0.01,2,     0.01,    2.176,2,    0.015,    0.377,2,    0.193,2,    0.004,2,   -999.0,9,   -999.0,9,-999.0000,-999,9,  -999.00,9,  -999.00,   -999.0,9,   -999.0,   5.8696,  27.1046
  49NZ20090521,   P21,   179,  1,     25, X12007,2,20090528,0703,-17.4995,-159.0078, 4925,    769.8,2,   5.1036,2,   5.10431,2,  34.4134,2,  34.4128,2,   160.93,2,   161.01,2,    38.26,2,     0.20,    32.60,2,     0.12,     0.01,2,     0.01,    2.299,2,    0.016,    0.164,2,    0.085,2,    0.000,2,   -999.0,9,   -999.0,9,-999.0000,-999,9,  -999.00,9,  -999.00,   -999.0,9,   -999.0,   5.0403,  27.2055
  49NZ20090521,   P21,   179,  1,     24, X12035,2,20090528,0703,-17.4995,-159.0078, 4925,    867.8,2,   4.5746,2,   4.57468,2,  34.4412,2,  34.4406,2,   153.54,2,   153.08,2,    49.18,2,     0.23,    34.00,2,     0.13,     0.01,2,     0.01,    2.378,2,    0.016,    0.071,2,    0.035,2,    0.000,2,   -999.0,9,   -999.0,9,-999.0000,-999,9,  -999.00,9,  -999.00,   -999.0,9,   -999.0,   4.5060,  27.2878
  49NZ20090521,   P21,   179,  1,     23, X12038,2,20090528,0703,-17.4995,-159.0078, 4925,    972.2,2,   4.0183,2,   4.01837,2,  34.4722,2,  34.4716,6,   151.80,2,   151.55,2,    60.73,2,     0.25,    34.61,2,     0.13,     0.01,2,     0.01,    2.431,2,    0.016,    0.032,2,    0.019,2,    0.000,2,   -999.0,9,   -999.0,9,-999.0000,-999,9,  -999.00,9,  -999.00,   -999.0,9,   -999.0,   3.9449,  27.3720
  49NZ20090521,   P21,   179,  1,     22, X12034,2,20090528,0703,-17.4995,-159.0078, 4925,   1129.5,2,   3.6310,2,   3.63139,2,  34.5144,2,  34.5142,2,   144.27,2,   143.61,2,    73.38,2,     0.28,    35.56,2,     0.13,     0.01,2,     0.01,    2.504,2,    0.016,    0.005,2,    0.003,2,    0.000,2,   -999.0,9,   -999.0,9,-999.0000,-999,9,  -999.00,9,  -999.00,   -999.0,9,   -999.0,   3.5476,  27.4455
  49NZ20090521,   P21,   179,  1,     21, X12033,2,20090528,0703,-17.4995,-159.0078, 4925,   1331.1,2,   3.1113,2,   3.11147,2,  34.5517,2,  34.5511,2,   143.40,2,   143.50,2,    86.11,2,     0.31,    35.92,2,     0.13,     0.01,2,     0.01,    2.534,2,    0.016,    0.001,2,    0.000,2,    0.000,2,   -999.0,9,   -999.0,9,-999.0000,-999,9,  -999.00,9,  -999.00,   -999.0,9,   -999.0,   3.0162,  27.5258
  49NZ20090521,   P21,   179,  1,     20, X12032,2,20090528,0703,-17.4995,-159.0078, 4925,   1531.7,2,   2.7885,2,   2.78875,2,  34.5782,2,  34.5778,2,   144.18,2,   144.61,2,    94.91,2,     0.33,    35.99,2,     0.13,     0.01,2,     0.01,    2.545,2,    0.016,    0.000,2,    0.000,2,    0.000,2,   -999.0,9,   -999.0,9,-999.0000,-999,9,  -999.00,9,  -999.00,   -999.0,9,   -999.0,   2.6805,  27.5770
  49NZ20090521,   P21,   179,  1,     19, X12046,2,20090528,0703,-17.4995,-159.0078, 4925,   1731.8,2,   2.5115,2,   2.51123,2,  34.6040,2,  34.6036,2,   144.72,2,   145.17,2,   103.29,2,     0.35,    36.05,2,     0.13,     0.01,2,     0.01,    2.541,2,    0.016,    0.000,2,    0.000,2,    0.000,2,   -999.0,9,   -999.0,9,-999.0000,-999,9,  -999.00,9,  -999.00,   -999.0,9,   -999.0,   2.3903,  27.6226
  49NZ20090521,   P21,   179,  1,     18, X12006,2,20090528,0703,-17.4995,-159.0078, 4925,   1929.9,2,   2.2706,2,   2.27061,2,  34.6238,2,  34.6240,2,   146.66,2,   147.17,2,   110.33,2,     0.36,    35.99,2,     0.13,     0.00,2,     0.01,    2.540,2,    0.016,    0.000,2,    0.000,2,    0.000,2,   -999.0,9,   -999.0,9,-999.0000,-999,9,  -999.00,9,  -999.00,   -999.0,9,   -999.0,   2.1361,  27.6594
  49NZ20090521,   P21,   179,  1,     17, X12047,2,20090528,0703,-17.4995,-159.0078, 4925,   2131.2,2,   2.0891,2,   2.08920,2,  34.6390,2,  34.6390,2,   149.34,2,   149.88,2,   114.80,2,     0.37,    35.90,2,     0.13,     0.00,2,     0.01,    2.518,2,    0.016,    0.000,2,    0.000,2,    0.000,2,   -999.0,9,   -999.0,9,-999.0000,-999,9,  -999.00,9,  -999.00,   -999.0,9,   -999.0,   1.9401,  27.6872
  49NZ20090521,   P21,   179,  1,     16, X12004,2,20090528,0703,-17.4995,-159.0078, 4925,   2329.4,2,   1.9613,2,   1.96126,2,  34.6499,2,  34.6499,6,   151.19,2,   151.62,2,   118.29,2,     0.38,    35.73,2,     0.13,     0.00,2,     0.01,    2.515,2,    0.016,    0.000,2,    0.000,2,    0.000,2,   -999.0,9,   -999.0,9,-999.0000,-999,9,  -999.00,9,  -999.00,   -999.0,9,   -999.0,   1.7971,  27.7070
  49NZ20090521,   P21,   179,  1,     15, X12003,2,20090528,0703,-17.4995,-159.0078, 4925,   2530.3,2,   1.8583,2,   1.85845,2,  34.6588,2,  34.6588,2,   153.33,2,   153.72,2,   120.94,2,     0.39,    35.72,2,     0.13,     0.00,2,     0.01,    2.502,2,    0.016,    0.000,2,    0.000,2,    0.000,2,   -999.0,9,   -999.0,9,-999.0000,-999,9,  -999.00,9,  -999.00,   -999.0,9,   -999.0,   1.6779,  27.7232
  49NZ20090521,   P21,   179,  1,     14, X12002,2,20090528,0703,-17.4995,-159.0078, 4925,   2730.3,2,   1.7676,2,   1.76761,2,  34.6662,2,  34.6658,2,   156.30,2,   156.57,2,   122.60,2,     0.39,    35.52,2,     0.13,     0.01,2,     0.01,    2.493,2,    0.016,    0.000,2,    0.000,2,    0.000,2,   -999.0,9,   -999.0,9,-999.0000,-999,9,  -999.00,9,  -999.00,   -999.0,9,   -999.0,   1.5706,  27.7371
  49NZ20090521,   P21,   179,  1,     13, X12001,2,20090528,0703,-17.4995,-159.0078, 4925,   2930.5,2,   1.6837,2,   1.68368,2,  34.6730,2,  34.6728,2,   159.78,2,   159.99,2,   123.37,2,     0.39,    35.25,2,     0.13,     0.01,2,     0.01,    2.462,2,    0.016,    0.000,2,    0.000,2,    0.000,2,   -999.0,9,   -999.0,9,-999.0000,-999,9,  -999.00,9,  -999.00,   -999.0,9,   -999.0,   1.4695,  27.7500
  49NZ20090521,   P21,   179,  1,     12, X12030,2,20090528,0703,-17.4995,-159.0078, 4925,   3170.2,2,   1.6140,2,   1.61391,2,  34.6789,2,  34.6788,2,   164.22,2,   164.09,2,   123.39,2,     0.39,    34.90,2,     0.13,     0.01,2,     0.01,    2.445,2,    0.016,    0.000,2,    0.000,2,    0.000,2,   -999.0,9,   -999.0,9,-999.0000,-999,9,  -999.00,9,  -999.00,   -999.0,9,   -999.0,   1.3782,  27.7612
  49NZ20090521,   P21,   179,  1,     11, X12044,2,20090528,0703,-17.4995,-159.0078, 4925,   3420.0,2,   1.5518,2,   1.55185,2,  34.6841,2,  34.6836,2,   169.57,2,   169.85,2,   122.56,2,     0.39,    34.54,2,     0.13,     0.01,2,     0.01,    2.415,2,    0.016,    0.000,2,    0.000,2,    0.000,2,   -999.0,9,   -999.0,9,-999.0000,-999,9,  -999.00,9,  -999.00,   -999.0,9,   -999.0,   1.2925,  27.7715
  49NZ20090521,   P21,   179,  1,     10, X12048,2,20090528,0703,-17.4995,-159.0078, 4925,   3669.8,2,   1.4888,2,   1.48902,2,  34.6890,2,  34.6885,6,   174.99,2,   175.18,2,   121.34,2,     0.39,    34.16,2,     0.13,     0.00,2,     0.01,    2.383,2,    0.016,    0.000,2,    0.000,2,    0.000,2,   -999.0,9,   -999.0,9,-999.0000,-999,9,  -999.00,9,  -999.00,   -999.0,9,   -999.0,   1.2054,  27.7815
  49NZ20090521,   P21,   179,  1,      9, X12027,2,20090528,0703,-17.4995,-159.0078, 4925,   3920.6,2,   1.4298,2,   1.42984,2,  34.6933,2,  34.6932,2,   180.20,2,   180.43,2,   120.31,2,     0.38,    33.86,2,     0.13,     0.00,2,     0.01,    2.363,2,    0.016,    0.000,2,    0.000,2,    0.000,2,   -999.0,9,   -999.0,9,-999.0000,-999,9,  -999.00,9,  -999.00,   -999.0,9,   -999.0,   1.1214,  27.7908
  49NZ20090521,   P21,   179,  1,      8, X12026,2,20090528,0703,-17.4995,-159.0078, 4925,   4170.5,2,   1.4108,2,   1.41071,2,  34.6956,2,  34.6954,2,   183.05,2,   183.25,2,   119.65,2,     0.38,    33.58,2,     0.13,     0.01,2,     0.01,    2.349,2,    0.016,    0.001,2,    0.000,2,    0.000,2,   -999.0,9,   -999.0,9,-999.0000,-999,9,  -999.00,9,  -999.00,   -999.0,9,   -999.0,   1.0757,  27.7957
  49NZ20090521,   P21,   179,  1,      7, X12025,2,20090528,0703,-17.4995,-159.0078, 4925,   4420.8,2,   1.3842,2,   1.38409,2,  34.6982,2,  34.6983,2,   186.33,2,   186.60,2,   119.09,2,     0.38,    33.42,2,     0.13,     0.01,2,     0.01,    2.335,2,    0.016,    0.002,2,    0.000,2,    0.000,2,   -999.0,9,   -999.0,9,-999.0000,-999,9,  -999.00,9,  -999.00,   -999.0,9,   -999.0,   1.0218,  27.8014
  49NZ20090521,   P21,   179,  1,      6, X12024,2,20090528,0703,-17.4995,-159.0078, 4925,   4670.1,2,   1.3523,2,   1.35216,2,  34.7010,2,  34.7007,2,   189.82,2,   190.18,2,   118.22,2,     0.38,    33.15,2,     0.13,     0.00,2,     0.01,    2.316,2,    0.016,    0.004,2,    0.000,2,    0.000,2,   -999.0,9,   -999.0,9,-999.0000,-999,9,  -999.00,9,  -999.00,   -999.0,9,   -999.0,   0.9622,  27.8076
  49NZ20090521,   P21,   179,  1,      5, X12028,2,20090528,0703,-17.4995,-159.0078, 4925,   4872.3,2,   1.3141,2,   1.31401,2,  34.7037,2,  34.7034,2,   193.45,2,   193.80,2,   117.67,2,     0.38,    32.81,2,     0.12,     0.01,2,     0.01,    2.299,2,    0.016,    0.005,2,    0.000,2,    0.000,2,   -999.0,9,   -999.0,9,-999.0000,-999,9,  -999.00,9,  -999.00,   -999.0,9,   -999.0,   0.9014,  27.8138
  49NZ20090521,   P21,   179,  1,      4, X12022,2,20090528,0703,-17.4995,-159.0078, 4925,   4669.9,2,   1.3524,2,   1.35236,2,  34.7011,2,  34.7011,2,   189.74,2,   190.16,2,   118.36,2,     0.38,    33.14,2,     0.13,     0.00,2,     0.01,    2.316,2,    0.016, -999.000,9, -999.000,9, -999.000,9,   -999.0,9,   -999.0,9,-999.0000,-999,9,  -999.00,9,  -999.00,   -999.0,9,   -999.0,   0.9623,  27.8077
  49NZ20090521,   P21,   179,  1,      3, X12021,9,20090528,0703,-17.4995,-159.0078, 4925,   1331.8,2,   3.1112,2,   3.11140,2,  34.5523,2,-999.0000,9,   143.19,2,  -999.00,9,  -999.00,9,  -999.00,  -999.00,9,  -999.00,  -999.00,9,  -999.00, -999.000,9, -999.000, -999.000,9, -999.000,9, -999.000,9,   -999.0,9,   -999.0,9,-999.0000,-999,9,  -999.00,9,  -999.00,   -999.0,9,   -999.0,   3.0161,  27.5262
  49NZ20090521,   P21,   179,  1,      2, X12020,2,20090528,0703,-17.4995,-159.0078, 4925,   2930.0,2,   1.6835,2,   1.68348,2,  34.6730,2,-999.0000,9,   159.78,2,  -999.00,9,  -999.00,9,  -999.00,  -999.00,9,  -999.00,  -999.00,9,  -999.00, -999.000,9, -999.000,    0.000,2,    0.000,2,    0.000,2,   -999.0,9,   -999.0,9,-999.0000,-999,9,  -999.00,9,  -999.00,   -999.0,9,   -999.0,   1.4694,  27.7500
  49NZ20090521,   P21,   179,  1,      1, X12019,2,20090528,0703,-17.4995,-159.0078, 4925,   5011.1,2,   1.3001,2,   1.29994,2,  34.7049,2,  34.7048,6,   195.26,2,   195.60,2,   117.38,2,     0.38,    32.73,2,     0.12,     0.00,2,     0.01,    2.292,2,    0.016,    0.012,2,    0.002,2,    0.000,2,   -999.0,9,   -999.0,9,-999.0000,-999,9,  -999.00,9,  -999.00,   -999.0,9,   -999.0,   0.8712,  27.8167