BOTTLE,20111109CCHDOSIOCBG
EXPOCODE,SECT_ID,STNNBR,CASTNO,SAMPNO,BTLNBR,BTLNBR_FLAG_W,DATE,TIME,LATITUDE,LONGITUDE,DEPTH,CTDPRS,CTDPRS_FLAG_W,CTDTMP,CTDTMP_FLAG_W,SBE35,SBE35_FLAG_W,CTDSAL,CTDSAL_FLAG_W,SALNTY,SALNTY_FLAG_W,CTDOXY,CTDOXY_FLAG_W,OXYGEN,OXYGEN_FLAG_W,SILCAT,SILCAT_FLAG_W,SILUNC,NITRAT,NITRAT_FLAG_W,NRAUNC,NITRIT,NITRIT_FLAG_W,NRIUNC,PHSPHT,PHSPHT_FLAG_W,PHPUNC,CFC-11,CFC-11_FLAG_W,CFC-12,CFC-12_FLAG_W,CFC113,CFC113_FLAG_W,TCARBN,TCARBN_FLAG_W,ALKALI,ALKALI_FLAG_W,PH_TOT,PH_TMP,PH_TOT_FLAG_W,DELC13,DELC13_FLAG_W,C13ERR,DELC14,DELC14_FLAG_W,C14ERR,THETA,SIG0
,,,,,,,,,,,METERS,DBAR,,ITS-90,,ITS-90,,PSS-78,,PSS-78,,UMOL/KG,,UMOL/KG,,UMOL/KG,,UMOL/KG,UMOL/KG,,UMOL/KG,UMOL/KG,,UMOL/KG,UMOL/KG,,UMOL/KG,PMOL/KG,,PMOL/KG,,PMOL/KG,,UMOL/KG,,UMOL/KG,,,DEG C,,/MILLE,,/MILLE,/MILLE,,/MILLE,DEG C,KG/M^3
  49NZ20090521,   P21,   254,  1,      0,   -999,9,20090612,0526,-19.9117, 164.4655, 2433,   -999.0,9,-999.0000,9,-999.00000,9,-999.0000,9,  34.7947,2,  -999.00,9,  -999.00,9,  -999.00,9,  -999.00,  -999.00,9,  -999.00,  -999.00,9,  -999.00, -999.000,9, -999.000, -999.000,9, -999.000,9, -999.000,9,   -999.0,9,   -999.0,9,-999.0000,-999,9,  -999.00,9,  -999.00,   -999.0,9,   -999.0,-999.0000,-999.0000
  49NZ20090521,   P21,   254,  1,     36, X12043,2,20090612,0526,-19.9117, 164.4655, 2433,     10.6,2,  25.2279,2,  25.22836,2,  34.7881,2,  34.7882,2,   205.23,2,   205.41,2,     0.36,2,     0.12,     0.06,2,     0.03,     0.01,2,     0.01,    0.061,2,    0.030,    1.585,2,    1.021,2, -999.000,5,   -999.0,9,   -999.0,9,-999.0000,-999,9,  -999.00,9,  -999.00,   -999.0,9,   -999.0,  25.2256,  23.1123
  49NZ20090521,   P21,   254,  1,     35, X12042,2,20090612,0526,-19.9117, 164.4655, 2433,     50.3,2,  25.2728,2,  25.27238,2,  34.8223,2,  34.8238,2,   203.83,2,   204.29,2,     0.31,2,     0.12,     0.08,2,     0.03,     0.01,2,     0.01,    0.061,2,    0.030,    1.598,2,    1.024,2, -999.000,5,   -999.0,9,   -999.0,9,-999.0000,-999,9,  -999.00,9,  -999.00,   -999.0,9,   -999.0,  25.2618,  23.1271
  49NZ20090521,   P21,   254,  1,     34, X12016,2,20090612,0526,-19.9117, 164.4655, 2433,    100.3,2,  23.5051,2,  23.52749,2,  35.4338,2,  35.4383,2,   179.75,2,   178.83,2,     0.56,2,     0.12,     2.07,2,     0.04,     0.05,2,     0.01,    0.272,2,    0.015,    1.804,6,    1.120,6, -999.000,5,   -999.0,9,   -999.0,9,-999.0000,-999,9,  -999.00,9,  -999.00,   -999.0,9,   -999.0,  23.4843,  24.1218
  49NZ20090521,   P21,   254,  1,     33, X12015,2,20090612,0526,-19.9117, 164.4655, 2433,    150.2,2,  22.3444,2,  22.34547,2,  35.5869,2,  35.5948,2,   166.07,2,   166.02,2,     0.76,2,     0.12,     3.84,2,     0.04,     0.03,2,     0.01,    0.390,2,    0.013,    1.877,2,    1.156,2,    0.108,2,   -999.0,9,   -999.0,9,-999.0000,-999,9,  -999.00,9,  -999.00,   -999.0,9,   -999.0,  22.3143,  24.5751
  49NZ20090521,   P21,   254,  1,     32, X12050,2,20090612,0526,-19.9117, 164.4655, 2433,    199.8,2,  20.5445,2,  20.56509,2,  35.6510,2,  35.6472,2,   168.30,2,   169.09,2,     0.95,2,     0.12,     4.69,2,     0.05,     0.02,2,     0.01,    0.445,2,    0.013,    2.016,2,    1.218,2,    0.053,2,   -999.0,9,   -999.0,9,-999.0000,-999,9,  -999.00,9,  -999.00,   -999.0,9,   -999.0,  20.5067,  25.1233
  49NZ20090521,   P21,   254,  1,     31, X12014,2,20090612,0526,-19.9117, 164.4655, 2433,    249.1,2,  18.5662,2,  18.56382,2,  35.5614,2,  35.5614,6,   171.24,2,   169.36,2,     1.49,2,     0.12,     6.26,2,     0.05,     0.01,2,     0.01,    0.569,2,    0.013,    2.135,2,    1.255,2,    0.034,2,   -999.0,9,   -999.0,9,-999.0000,-999,9,  -999.00,9,  -999.00,   -999.0,9,   -999.0,  18.5223,  25.5717
  49NZ20090521,   P21,   254,  1,     30, X12012,2,20090612,0526,-19.9117, 164.4655, 2433,    280.8,2,  17.6439,2,  17.64792,2,  35.4852,2,  35.4841,2,   172.79,2,   173.03,2,     1.85,2,     0.12,     7.00,2,     0.05,     0.01,2,     0.01,    0.616,2,    0.013,    2.156,2,    1.259,2,    0.025,2,   -999.0,9,   -999.0,9,-999.0000,-999,9,  -999.00,9,  -999.00,   -999.0,9,   -999.0,  17.5961,  25.7430
  49NZ20090521,   P21,   254,  1,     29, X12041,3,20090612,0526,-19.9117, 164.4655, 2433,    369.9,2,  14.8430,2,  14.84497,2,  35.2160,2,  35.2132,2,   180.41,2,   180.77,2,     2.97,2,     0.13,    10.06,2,     0.06,     0.01,2,     0.01,    0.807,2,    0.013,    2.248,6,    1.272,6,    0.024,6,   -999.0,9,   -999.0,9,-999.0000,-999,9,  -999.00,9,  -999.00,   -999.0,9,   -999.0,  14.7870,  26.1852
  49NZ20090521,   P21,   254,  1,     28, X12040,2,20090612,0526,-19.9117, 164.4655, 2433,    470.0,2,  11.1265,2,  11.12151,2,  34.7997,2,  34.8021,6,   185.22,2,   185.42,2,     6.02,2,     0.13,    16.59,2,     0.08,     0.01,2,     0.01,    1.232,2,    0.013,    2.067,2,    1.100,2,    0.039,2,   -999.0,9,   -999.0,9,-999.0000,-999,9,  -999.00,9,  -999.00,   -999.0,9,   -999.0,  11.0675,  26.6073
  49NZ20090521,   P21,   254,  1,     27, X12009,2,20090612,0526,-19.9117, 164.4655, 2433,    569.6,2,   8.7447,2,   8.74508,2,  34.5885,2,  34.5865,2,   189.81,2,   190.38,2,    11.44,2,     0.14,    21.85,2,     0.09,     0.01,2,     0.01,    1.560,2,    0.014,    1.642,6,    0.856,6,    0.031,6,   -999.0,9,   -999.0,9,-999.0000,-999,9,  -999.00,9,  -999.00,   -999.0,9,   -999.0,   8.6829,  26.8461
  49NZ20090521,   P21,   254,  1,     26, X12008,2,20090612,0526,-19.9117, 164.4655, 2433,    669.0,2,   7.0487,2,   7.05070,2,  34.4513,2,  34.4508,2,   196.11,2,   196.40,2,    16.12,2,     0.15,    25.39,2,     0.10,     0.01,2,     0.01,    1.783,2,    0.015,    1.235,2,    0.631,2,    0.032,2,   -999.0,9,   -999.0,9,-999.0000,-999,9,  -999.00,9,  -999.00,   -999.0,9,   -999.0,   6.9842,  26.9887
  49NZ20090521,   P21,   254,  1,     25, X12007,2,20090612,0526,-19.9117, 164.4655, 2433,    769.6,2,   5.6574,2,   5.65893,2,  34.3933,2,  34.3936,2,   191.16,2,   191.12,2,    26.62,2,     0.18,    28.95,2,     0.11,     0.01,2,     0.01,    2.023,2,    0.015,    0.644,2,    0.333,2,    0.011,2,   -999.0,9,   -999.0,9,-999.0000,-999,9,  -999.00,9,  -999.00,   -999.0,9,   -999.0,   5.5908,  27.1241
  49NZ20090521,   P21,   254,  1,     24, X12035,2,20090612,0526,-19.9117, 164.4655, 2433,    872.0,2,   4.7931,2,   4.80152,2,  34.4114,2,  34.4132,2,   182.64,2,   182.69,2,    40.37,2,     0.21,    30.99,2,     0.12,     0.01,2,     0.01,    2.166,2,    0.015,    0.356,2,    0.184,2,    0.013,2,   -999.0,9,   -999.0,9,-999.0000,-999,9,  -999.00,9,  -999.00,   -999.0,9,   -999.0,   4.7228,  27.2401
  49NZ20090521,   P21,   254,  1,     23, X12038,2,20090612,0526,-19.9117, 164.4655, 2433,    969.3,2,   4.3372,2,   4.33686,2,  34.4473,2,  34.4476,6,   170.01,2,   170.30,2,    52.16,2,     0.23,    32.59,2,     0.12,     0.01,2,     0.01,    2.280,2,    0.016,    0.176,2,    0.091,2,    0.000,2,   -999.0,9,   -999.0,9,-999.0000,-999,9,  -999.00,9,  -999.00,   -999.0,9,   -999.0,   4.2617,  27.3190
  49NZ20090521,   P21,   254,  1,     22, X12034,2,20090612,0526,-19.9117, 164.4655, 2433,   1128.8,2,   3.6876,2,   3.68899,2,  34.4978,2,  34.4972,3,   165.10,2,   165.54,2,    67.94,2,     0.27,    33.44,2,     0.13,     0.01,2,     0.01,    2.344,2,    0.016,    0.107,2,    0.055,2,    0.000,2,   -999.0,9,   -999.0,9,-999.0000,-999,9,  -999.00,9,  -999.00,   -999.0,9,   -999.0,   3.6038,  27.4268
  49NZ20090521,   P21,   254,  1,     21, X12033,2,20090612,0526,-19.9117, 164.4655, 2433,   1330.1,2,   3.2967,2,   3.29648,2,  34.5399,2,  34.5397,2,   156.35,2,   156.64,2,    81.13,2,     0.30,    34.45,2,     0.13,     0.01,2,     0.01,    2.420,2,    0.016,    0.039,2,    0.021,2,    0.000,2,   -999.0,9,   -999.0,9,-999.0000,-999,9,  -999.00,9,  -999.00,   -999.0,9,   -999.0,   3.1999,  27.4993
  49NZ20090521,   P21,   254,  1,     20, X12032,2,20090612,0526,-19.9117, 164.4655, 2433,   1530.0,2,   2.9200,2,   2.91969,2,  34.5743,2,  34.5747,2,   155.67,2,   155.95,2,    90.99,2,     0.32,    34.67,2,     0.13,     0.01,2,     0.01,    2.436,2,    0.016,    0.035,2,    0.016,2,    0.000,2,   -999.0,9,   -999.0,9,-999.0000,-999,9,  -999.00,9,  -999.00,   -999.0,9,   -999.0,   2.8106,  27.5624
  49NZ20090521,   P21,   254,  1,     19, X12046,2,20090612,0526,-19.9117, 164.4655, 2433,   1729.6,2,   2.6331,2,   2.63306,2,  34.6055,2,  34.6056,6,   152.53,2,   152.87,2,    99.25,2,     0.34,    34.99,2,     0.13,     0.01,2,     0.01,    2.467,2,    0.016,    0.015,2,    0.010,2,    0.000,2,   -999.0,9,   -999.0,9,-999.0000,-999,9,  -999.00,9,  -999.00,   -999.0,9,   -999.0,   2.5105,  27.6135
  49NZ20090521,   P21,   254,  1,     18, X12006,2,20090612,0526,-19.9117, 164.4655, 2433,   1930.4,2,   2.4201,2,   2.41983,2,  34.6278,2,  34.6279,2,   151.31,2,   151.60,2,   104.97,2,     0.35,    35.16,2,     0.13,     0.01,2,     0.01,    2.480,2,    0.016,    0.008,2,    0.006,2,    0.000,2,   -999.0,9,   -999.0,9,-999.0000,-999,9,  -999.00,9,  -999.00,   -999.0,9,   -999.0,   2.2833,  27.6505
  49NZ20090521,   P21,   254,  1,     17, X12047,2,20090612,0526,-19.9117, 164.4655, 2433,   2130.3,2,   2.2129,2,   2.21294,2,  34.6479,2,  34.6481,2,   152.05,2,   152.38,2,   109.85,2,     0.36,    35.21,2,     0.13,     0.01,2,     0.01,    2.483,2,    0.016,    0.003,2,    0.001,2,    0.000,2,   -999.0,9,   -999.0,9,-999.0000,-999,9,  -999.00,9,  -999.00,   -999.0,9,   -999.0,   2.0619,  27.6846
  49NZ20090521,   P21,   254,  1,     16, X12004,2,20090612,0526,-19.9117, 164.4655, 2433,   2330.2,2,   2.0568,2,   2.05677,2,  34.6619,2,  34.6620,2,   153.63,2,   153.90,2,   113.21,2,     0.37,    35.16,2,     0.13,     0.01,2,     0.01,    2.479,2,    0.016,    0.001,2,    0.000,2,    0.000,2,   -999.0,9,   -999.0,9,-999.0000,-999,9,  -999.00,9,  -999.00,   -999.0,9,   -999.0,   1.8908,  27.7094
  49NZ20090521,   P21,   254,  1,     15, X12003,9,20090612,0526,-19.9117, 164.4655, 2433,    100.4,2,  23.5718,2,  23.57600,2,  35.4271,2,-999.0000,9,   179.81,2,  -999.00,9,  -999.00,9,  -999.00,  -999.00,9,  -999.00,  -999.00,9,  -999.00, -999.000,9, -999.000, -999.000,9, -999.000,9, -999.000,9,   -999.0,9,   -999.0,9,-999.0000,-999,9,  -999.00,9,  -999.00,   -999.0,9,   -999.0,  23.5509,  24.0972
  49NZ20090521,   P21,   254,  1,     14, X12002,9,20090612,0526,-19.9117, 164.4655, 2433,    199.8,2,  20.5822,2,  20.57621,2,  35.6500,2,-999.0000,9,   168.45,2,  -999.00,9,  -999.00,9,  -999.00,  -999.00,9,  -999.00,  -999.00,9,  -999.00, -999.000,9, -999.000, -999.000,9, -999.000,9, -999.000,9,   -999.0,9,   -999.0,9,-999.0000,-999,9,  -999.00,9,  -999.00,   -999.0,9,   -999.0,  20.5444,  25.1124
  49NZ20090521,   P21,   254,  1,     13, X12001,9,20090612,0526,-19.9117, 164.4655, 2433,    249.4,2,  18.6186,2,  18.60638,2,  35.5620,2,-999.0000,9,   169.10,2,  -999.00,9,  -999.00,9,  -999.00,  -999.00,9,  -999.00,  -999.00,9,  -999.00, -999.000,9, -999.000, -999.000,9, -999.000,9, -999.000,9,   -999.0,9,   -999.0,9,-999.0000,-999,9,  -999.00,9,  -999.00,   -999.0,9,   -999.0,  18.5745,  25.5590
  49NZ20090521,   P21,   254,  1,     12, X12030,9,20090612,0526,-19.9117, 164.4655, 2433,    281.2,2,  17.6113,2,  17.61255,2,  35.4834,2,-999.0000,9,   173.02,2,  -999.00,9,  -999.00,9,  -999.00,  -999.00,9,  -999.00,  -999.00,9,  -999.00, -999.000,9, -999.000, -999.000,9, -999.000,9, -999.000,9,   -999.0,9,   -999.0,9,-999.0000,-999,9,  -999.00,9,  -999.00,   -999.0,9,   -999.0,  17.5635,  25.7495
  49NZ20090521,   P21,   254,  1,     11, X12044,9,20090612,0526,-19.9117, 164.4655, 2433,    369.8,2,  14.8429,2,  14.84435,2,  35.2160,2,-999.0000,9,   180.51,2,  -999.00,9,  -999.00,9,  -999.00,  -999.00,9,  -999.00,  -999.00,9,  -999.00, -999.000,9, -999.000, -999.000,9, -999.000,9, -999.000,9,   -999.0,9,   -999.0,9,-999.0000,-999,9,  -999.00,9,  -999.00,   -999.0,9,   -999.0,  14.7869,  26.1852
  49NZ20090521,   P21,   254,  1,     10, X12048,9,20090612,0526,-19.9117, 164.4655, 2433,    469.8,2,  11.1496,2,  11.15510,2,  34.8031,2,-999.0000,9,   185.17,2,  -999.00,9,  -999.00,9,  -999.00,  -999.00,9,  -999.00,  -999.00,9,  -999.00, -999.000,9, -999.000, -999.000,9, -999.000,9, -999.000,9,   -999.0,9,   -999.0,9,-999.0000,-999,9,  -999.00,9,  -999.00,   -999.0,9,   -999.0,  11.0906,  26.6058
  49NZ20090521,   P21,   254,  1,      9, X12027,9,20090612,0526,-19.9117, 164.4655, 2433,    569.9,2,   8.7495,2,   8.74936,2,  34.5889,2,-999.0000,9,   189.96,2,  -999.00,9,  -999.00,9,  -999.00,  -999.00,9,  -999.00,  -999.00,9,  -999.00, -999.000,9, -999.000, -999.000,9, -999.000,9, -999.000,9,   -999.0,9,   -999.0,9,-999.0000,-999,9,  -999.00,9,  -999.00,   -999.0,9,   -999.0,   8.6876,  26.8457
  49NZ20090521,   P21,   254,  1,      8, X12026,9,20090612,0526,-19.9117, 164.4655, 2433,    669.1,2,   7.0547,2,   7.05323,2,  34.4516,2,-999.0000,9,   196.13,2,  -999.00,9,  -999.00,9,  -999.00,  -999.00,9,  -999.00,  -999.00,9,  -999.00, -999.000,9, -999.000, -999.000,9, -999.000,9, -999.000,9,   -999.0,9,   -999.0,9,-999.0000,-999,9,  -999.00,9,  -999.00,   -999.0,9,   -999.0,   6.9902,  26.9881
  49NZ20090521,   P21,   254,  1,      7, X12025,9,20090612,0526,-19.9117, 164.4655, 2433,    769.8,2,   5.6595,2,   5.66012,2,  34.3936,2,-999.0000,9,   191.09,2,  -999.00,9,  -999.00,9,  -999.00,  -999.00,9,  -999.00,  -999.00,9,  -999.00, -999.000,9, -999.000, -999.000,9, -999.000,9, -999.000,9,   -999.0,9,   -999.0,9,-999.0000,-999,9,  -999.00,9,  -999.00,   -999.0,9,   -999.0,   5.5929,  27.1241
  49NZ20090521,   P21,   254,  1,      6, X12024,9,20090612,0526,-19.9117, 164.4655, 2433,    871.8,2,   4.8067,2,   4.80789,2,  34.4105,2,-999.0000,9,   183.34,2,  -999.00,9,  -999.00,9,  -999.00,  -999.00,9,  -999.00,  -999.00,9,  -999.00, -999.000,9, -999.000, -999.000,9, -999.000,9, -999.000,9,   -999.0,9,   -999.0,9,-999.0000,-999,9,  -999.00,9,  -999.00,   -999.0,9,   -999.0,   4.7363,  27.2378
  49NZ20090521,   P21,   254,  1,      5, X12028,9,20090612,0526,-19.9117, 164.4655, 2433,    969.4,2,   4.3260,2,   4.32525,2,  34.4480,2,-999.0000,9,   170.10,2,  -999.00,9,  -999.00,9,  -999.00,  -999.00,9,  -999.00,  -999.00,9,  -999.00, -999.000,9, -999.000, -999.000,9, -999.000,9, -999.000,9,   -999.0,9,   -999.0,9,-999.0000,-999,9,  -999.00,9,  -999.00,   -999.0,9,   -999.0,   4.2505,  27.3207
  49NZ20090521,   P21,   254,  1,      4, X12022,9,20090612,0526,-19.9117, 164.4655, 2433,   1128.2,2,   3.7016,2,   3.70153,2,  34.4961,2,-999.0000,9,   165.22,2,  -999.00,9,  -999.00,9,  -999.00,  -999.00,9,  -999.00,  -999.00,9,  -999.00, -999.000,9, -999.000, -999.000,9, -999.000,9, -999.000,9,   -999.0,9,   -999.0,9,-999.0000,-999,9,  -999.00,9,  -999.00,   -999.0,9,   -999.0,   3.6178,  27.4241
  49NZ20090521,   P21,   254,  1,      3, X12021,9,20090612,0526,-19.9117, 164.4655, 2433,    150.4,2,  22.3426,2,  22.34174,2,  35.5876,2,-999.0000,9,   166.13,2,  -999.00,9,  -999.00,9,  -999.00,  -999.00,9,  -999.00,  -999.00,9,  -999.00, -999.000,9, -999.000, -999.000,9, -999.000,9, -999.000,9,   -999.0,9,   -999.0,9,-999.0000,-999,9,  -999.00,9,  -999.00,   -999.0,9,   -999.0,  22.3124,  24.5762
  49NZ20090521,   P21,   254,  1,      2, X12020,9,20090612,0526,-19.9117, 164.4655, 2433,   1328.8,2,   3.2979,2,   3.29811,2,  34.5398,2,-999.0000,9,   156.25,2,  -999.00,9,  -999.00,9,  -999.00,  -999.00,9,  -999.00,  -999.00,9,  -999.00, -999.000,9, -999.000, -999.000,9, -999.000,9, -999.000,9,   -999.0,9,   -999.0,9,-999.0000,-999,9,  -999.00,9,  -999.00,   -999.0,9,   -999.0,   3.2012,  27.4991
  49NZ20090521,   P21,   254,  1,      1, X12019,2,20090612,0526,-19.9117, 164.4655, 2433,   2470.4,2,   1.9713,2,   1.97357,2,  34.6700,2,  34.6681,3,   154.56,2,   154.67,2,   114.70,2,     0.37,    35.20,2,     0.13,     0.01,2,     0.01,    2.478,2,    0.016,    0.000,2,    0.000,2,    0.000,2,   -999.0,9,   -999.0,9,-999.0000,-999,9,  -999.00,9,  -999.00,   -999.0,9,   -999.0,   1.7942,  27.7233