BOTTLE,20111109CCHDOSIOCBG
EXPOCODE,SECT_ID,STNNBR,CASTNO,SAMPNO,BTLNBR,BTLNBR_FLAG_W,DATE,TIME,LATITUDE,LONGITUDE,DEPTH,CTDPRS,CTDPRS_FLAG_W,CTDTMP,CTDTMP_FLAG_W,SBE35,SBE35_FLAG_W,CTDSAL,CTDSAL_FLAG_W,SALNTY,SALNTY_FLAG_W,CTDOXY,CTDOXY_FLAG_W,OXYGEN,OXYGEN_FLAG_W,SILCAT,SILCAT_FLAG_W,SILUNC,NITRAT,NITRAT_FLAG_W,NRAUNC,NITRIT,NITRIT_FLAG_W,NRIUNC,PHSPHT,PHSPHT_FLAG_W,PHPUNC,CFC-11,CFC-11_FLAG_W,CFC-12,CFC-12_FLAG_W,CFC113,CFC113_FLAG_W,TCARBN,TCARBN_FLAG_W,ALKALI,ALKALI_FLAG_W,PH_TOT,PH_TMP,PH_TOT_FLAG_W,DELC13,DELC13_FLAG_W,C13ERR,DELC14,DELC14_FLAG_W,C14ERR,THETA,SIG0
,,,,,,,,,,,METERS,DBAR,,ITS-90,,ITS-90,,PSS-78,,PSS-78,,UMOL/KG,,UMOL/KG,,UMOL/KG,,UMOL/KG,UMOL/KG,,UMOL/KG,UMOL/KG,,UMOL/KG,UMOL/KG,,UMOL/KG,PMOL/KG,,PMOL/KG,,PMOL/KG,,UMOL/KG,,UMOL/KG,,,DEG C,,/MILLE,,/MILLE,/MILLE,,/MILLE,DEG C,KG/M^3
  49NZ20090521,   P21,   190,  1,      0,   -999,9,20090531,0233,-17.4922,-166.3422, 4536,   -999.0,9,-999.0000,9,-999.00000,9,-999.0000,9,  35.3256,2,  -999.00,9,  -999.00,9,  -999.00,9,  -999.00,  -999.00,9,  -999.00,  -999.00,9,  -999.00, -999.000,9, -999.000, -999.000,9, -999.000,9, -999.000,9,   -999.0,9,   -999.0,9,-999.0000,-999,9,  -999.00,9,  -999.00,   -999.0,9,   -999.0,-999.0000,-999.0000
  49NZ20090521,   P21,   190,  1,     36, X12043,2,20090531,0233,-17.4922,-166.3422, 4536,     10.9,2,  28.2157,2,  28.21557,2,  35.3203,2,  35.3188,2,   197.50,2,   197.38,2,     0.78,2,     0.12,     0.09,2,     0.03,     0.01,2,     0.01,    0.083,2,    0.024,    1.426,2,    0.911,2,    0.393,4,   -999.0,9,   -999.0,9,-999.0000,-999,9,  -999.00,9,  -999.00,   -999.0,9,   -999.0,  28.2131,  22.5656
  49NZ20090521,   P21,   190,  1,     35, X12042,2,20090531,0233,-17.4922,-166.3422, 4536,     50.9,2,  28.1772,2,  28.17623,2,  35.3158,2,  35.3151,2,   197.19,2,   197.32,2,     0.76,2,     0.12,     0.08,2,     0.03,     0.01,2,     0.01,    0.085,2,    0.024,    1.431,2,    0.915,2, -999.000,5,   -999.0,9,   -999.0,9,-999.0000,-999,9,  -999.00,9,  -999.00,   -999.0,9,   -999.0,  28.1651,  22.5780
  49NZ20090521,   P21,   190,  1,     34, X12016,2,20090531,0233,-17.4922,-166.3422, 4536,    100.8,2,  25.9817,2,  25.98531,2,  35.6310,2,  35.6338,2,   207.66,2,   207.55,2,     0.75,2,     0.12,     0.05,2,     0.03,     0.01,2,     0.01,    0.125,2,    0.019,    1.642,6,    1.024,6, -999.000,5,   -999.0,9,   -999.0,9,-999.0000,-999,9,  -999.00,9,  -999.00,   -999.0,9,   -999.0,  25.9592,  23.5222
  49NZ20090521,   P21,   190,  1,     33, X12015,2,20090531,0233,-17.4922,-166.3422, 4536,    151.2,2,  24.3083,2,  24.30255,2,  35.7982,2,  35.7988,2,   189.47,2,   188.76,2,     0.73,2,     0.12,     0.45,2,     0.03,     0.14,2,     0.01,    0.219,2,    0.015,    1.737,2,    1.075,2, -999.000,5,   -999.0,9,   -999.0,9,-999.0000,-999,9,  -999.00,9,  -999.00,   -999.0,9,   -999.0,  24.2761,  24.1634
  49NZ20090521,   P21,   190,  1,     32, X12050,2,20090531,0233,-17.4922,-166.3422, 4536,    199.2,2,  22.3013,2,  22.29193,2,  35.8902,2,  35.8955,2,   170.06,2,   169.97,2,     0.81,2,     0.12,     2.34,2,     0.04,     0.02,2,     0.01,    0.374,2,    0.014,    1.912,2,    1.156,2,    0.078,2,   -999.0,9,   -999.0,9,-999.0000,-999,9,  -999.00,9,  -999.00,   -999.0,9,   -999.0,  22.2613,  24.8206
  49NZ20090521,   P21,   190,  1,     31, X12014,2,20090531,0233,-17.4922,-166.3422, 4536,    253.4,2,  19.3658,2,  19.35462,2,  35.5963,2,  35.5939,6,   175.05,2,   174.43,2,     1.12,2,     0.12,     4.46,2,     0.05,     0.02,2,     0.01,    0.505,2,    0.013,    2.152,2,    1.249,2,    0.025,2,   -999.0,9,   -999.0,9,-999.0000,-999,9,  -999.00,9,  -999.00,   -999.0,9,   -999.0,  19.3198,  25.3947
  49NZ20090521,   P21,   190,  1,     30, X12012,2,20090531,0233,-17.4922,-166.3422, 4536,    331.4,2,  15.5632,2,  15.56339,2,  35.1456,2,  35.1512,2,   164.75,2,   164.65,2,     3.53,2,     0.13,     9.81,2,     0.06,     0.01,2,     0.01,    0.883,2,    0.013,    2.141,2,    1.174,2,    0.016,2,   -999.0,9,   -999.0,9,-999.0000,-999,9,  -999.00,9,  -999.00,   -999.0,9,   -999.0,  15.5115,  25.9705
  49NZ20090521,   P21,   190,  1,     29, X12041,2,20090531,0233,-17.4922,-166.3422, 4536,    430.7,2,  10.8721,2,  10.88088,2,  34.6850,2,  34.6884,2,   155.43,2,   155.35,2,     9.37,2,     0.14,    19.33,2,     0.09,     0.01,2,     0.01,    1.504,2,    0.014,    1.617,6,    0.841,6,    0.020,6,   -999.0,9,   -999.0,9,-999.0000,-999,9,  -999.00,9,  -999.00,   -999.0,9,   -999.0,  10.8190,  26.5627
  49NZ20090521,   P21,   190,  1,     28, X12040,2,20090531,0233,-17.4922,-166.3422, 4536,    534.2,2,   8.3360,2,   8.33358,2,  34.4952,2,  34.4963,6,   163.38,2,   162.46,2,    14.00,2,     0.15,    24.96,2,     0.10,     0.01,2,     0.01,    1.833,2,    0.015,    1.191,2,    0.604,2,    0.022,2,   -999.0,9,   -999.0,9,-999.0000,-999,9,  -999.00,9,  -999.00,   -999.0,9,   -999.0,   8.2798,  26.8352
  49NZ20090521,   P21,   190,  1,     27, X12009,2,20090531,0233,-17.4922,-166.3422, 4536,    630.8,2,   6.2880,2,   6.28903,2,  34.3820,2,  34.3818,2,   184.53,2,   183.96,2,    19.25,2,     0.16,    28.41,2,     0.11,     0.01,2,     0.01,    2.000,2,    0.015,    0.771,6,    0.389,6,    0.014,6,   -999.0,9,   -999.0,9,-999.0000,-999,9,  -999.00,9,  -999.00,   -999.0,9,   -999.0,   6.2311,  27.0347
  49NZ20090521,   P21,   190,  1,     26, X12008,2,20090531,0233,-17.4922,-166.3422, 4536,    730.1,2,   5.3878,2,   5.38783,2,  34.3830,2,  34.3829,2,   175.63,2,   175.21,2,    29.45,2,     0.18,    31.03,2,     0.12,     0.01,2,     0.01,    2.177,2,    0.015,    0.328,2,    0.169,2,    0.000,2,   -999.0,9,   -999.0,9,-999.0000,-999,9,  -999.00,9,  -999.00,   -999.0,9,   -999.0,   5.3264,  27.1479
  49NZ20090521,   P21,   190,  1,     25, X12007,2,20090531,0233,-17.4922,-166.3422, 4536,    828.4,2,   4.7593,2,   4.75975,2,  34.4190,2,  34.4189,2,   160.48,2,   160.25,2,    43.23,2,     0.21,    33.29,2,     0.13,     0.01,2,     0.01,    2.325,2,    0.016,    0.106,2,    0.060,2,    0.000,2,   -999.0,9,   -999.0,9,-999.0000,-999,9,  -999.00,9,  -999.00,   -999.0,9,   -999.0,   4.6930,  27.2495
  49NZ20090521,   P21,   190,  1,     24, X12035,2,20090531,0233,-17.4922,-166.3422, 4536,    930.8,2,   4.2184,2,   4.21852,2,  34.4477,2,  34.4482,2,   156.31,2,   156.01,2,    54.14,2,     0.24,    34.16,2,     0.13,     0.01,2,     0.01,    2.400,2,    0.016,    0.044,2,    0.024,2,    0.000,2,   -999.0,9,   -999.0,9,-999.0000,-999,9,  -999.00,9,  -999.00,   -999.0,9,   -999.0,   4.1470,  27.3315
  49NZ20090521,   P21,   190,  1,     23, X12038,2,20090531,0233,-17.4922,-166.3422, 4536,   1070.2,2,   3.5863,2,   3.58900,2,  34.4841,2,  34.4841,6,   154.75,2,   154.55,2,    66.96,2,     0.27,    34.89,2,     0.13,     0.01,2,     0.01,    2.454,2,    0.016,    0.017,2,    0.011,2,    0.000,2,   -999.0,9,   -999.0,9,-999.0000,-999,9,  -999.00,9,  -999.00,   -999.0,9,   -999.0,   3.5082,  27.4252
  49NZ20090521,   P21,   190,  1,     22, X12034,2,20090531,0233,-17.4922,-166.3422, 4536,   1269.5,2,   3.0718,2,   3.07186,2,  34.5435,2,  34.5441,2,   147.88,2,   147.64,2,    84.38,2,     0.30,    35.55,2,     0.13,     0.01,2,     0.01,    2.512,2,    0.016,    0.005,2,    0.002,2,    0.000,2,   -999.0,9,   -999.0,9,-999.0000,-999,9,  -999.00,9,  -999.00,   -999.0,9,   -999.0,   2.9822,  27.5223
  49NZ20090521,   P21,   190,  1,     21, X12033,2,20090531,0233,-17.4922,-166.3422, 4536,   1469.9,2,   2.7574,2,   2.75676,2,  34.5785,2,  34.5786,2,   145.37,2,   145.32,2,    95.44,2,     0.33,    35.95,2,     0.13,     0.01,2,     0.01,    2.538,2,    0.016,    0.002,2,    0.002,2,    0.000,2,   -999.0,9,   -999.0,9,-999.0000,-999,9,  -999.00,9,  -999.00,   -999.0,9,   -999.0,   2.6548,  27.5795
  49NZ20090521,   P21,   190,  1,     20, X12032,2,20090531,0233,-17.4922,-166.3422, 4536,   1668.8,2,   2.5003,2,   2.50033,2,  34.6037,2,  34.6039,2,   145.24,2,   145.13,2,   104.06,2,     0.35,    36.00,2,     0.13,     0.01,2,     0.01,    2.541,2,    0.016,    0.000,2,    0.000,2,    0.000,2,   -999.0,9,   -999.0,9,-999.0000,-999,9,  -999.00,9,  -999.00,   -999.0,9,   -999.0,   2.3845,  27.6228
  49NZ20090521,   P21,   190,  1,     19, X12046,2,20090531,0233,-17.4922,-166.3422, 4536,   1869.7,2,   2.3050,2,   2.30511,2,  34.6210,2,  34.6213,2,   146.12,2,   146.03,2,   109.96,2,     0.36,    36.11,2,     0.13,     0.01,2,     0.01,    2.540,2,    0.016,    0.000,2,    0.000,2,    0.000,2,   -999.0,9,   -999.0,9,-999.0000,-999,9,  -999.00,9,  -999.00,   -999.0,9,   -999.0,   2.1750,  27.6540
  49NZ20090521,   P21,   190,  1,     18, X12006,2,20090531,0233,-17.4922,-166.3422, 4536,   2069.6,2,   2.1301,2,   2.13008,2,  34.6360,2,  34.6364,2,   147.69,2,   147.53,2,   114.78,2,     0.37,    36.11,2,     0.13,     0.01,2,     0.01,    2.534,2,    0.016,    0.000,2,    0.000,2,    0.000,2,   -999.0,9,   -999.0,9,-999.0000,-999,9,  -999.00,9,  -999.00,   -999.0,9,   -999.0,   1.9857,  27.6811
  49NZ20090521,   P21,   190,  1,     17, X12047,2,20090531,0233,-17.4922,-166.3422, 4536,   2270.9,2,   1.9929,2,   1.99276,2,  34.6479,2,  34.6484,6,   148.44,2,   148.33,2,   119.38,2,     0.38,    35.97,2,     0.13,     0.01,2,     0.01,    2.535,2,    0.016,    0.001,2,    0.001,2,    0.000,2,   -999.0,9,   -999.0,9,-999.0000,-999,9,  -999.00,9,  -999.00,   -999.0,9,   -999.0,   1.8333,  27.7026
  49NZ20090521,   P21,   190,  1,     16, X12004,2,20090531,0233,-17.4922,-166.3422, 4536,   2473.1,2,   1.9172,2,   1.91733,2,  34.6551,2,  34.6552,2,   150.44,2,   150.25,2,   121.19,2,     0.39,    35.87,2,     0.13,     0.01,2,     0.01,    2.526,2,    0.016,    0.000,2,    0.000,2,    0.000,2,   -999.0,9,   -999.0,9,-999.0000,-999,9,  -999.00,9,  -999.00,   -999.0,9,   -999.0,   1.7409,  27.7154
  49NZ20090521,   P21,   190,  1,     15, X12003,2,20090531,0233,-17.4922,-166.3422, 4536,   2670.7,2,   1.8320,2,   1.83190,2,  34.6622,2,  34.6624,2,   152.34,2,   152.13,2,   123.40,2,     0.39,    35.75,2,     0.13,     0.01,2,     0.01,    2.517,2,    0.016,    0.000,2,    0.000,2,    0.000,2,   -999.0,9,   -999.0,9,-999.0000,-999,9,  -999.00,9,  -999.00,   -999.0,9,   -999.0,   1.6392,  27.7288
  49NZ20090521,   P21,   190,  1,     14, X12002,2,20090531,0233,-17.4922,-166.3422, 4536,   2871.6,2,   1.7599,2,   1.76001,2,  34.6685,2,  34.6682,2,   154.58,2,   154.35,2,   125.12,2,     0.39,    35.61,2,     0.13,     0.01,2,     0.01,    2.493,2,    0.016,    0.000,2,    0.000,2,    0.000,2,   -999.0,9,   -999.0,9,-999.0000,-999,9,  -999.00,9,  -999.00,   -999.0,9,   -999.0,   1.5497,  27.7405
  49NZ20090521,   P21,   190,  1,     13, X12001,2,20090531,0233,-17.4922,-166.3422, 4536,   3081.8,2,   1.6796,2,   1.67969,2,  34.6747,2,  34.6746,2,   158.07,2,   157.79,2,   126.05,2,     0.40,    35.37,2,     0.13,     0.01,2,     0.01,    2.488,2,    0.016,    0.000,2,    0.000,2,    0.000,2,   -999.0,9,   -999.0,9,-999.0000,-999,9,  -999.00,9,  -999.00,   -999.0,9,   -999.0,   1.4509,  27.7526
  49NZ20090521,   P21,   190,  1,     12, X12030,2,20090531,0233,-17.4922,-166.3422, 4536,   3331.5,2,   1.6188,2,   1.61900,2,  34.6798,2,  34.6801,2,   161.47,2,   161.23,2,   126.66,2,     0.40,    35.16,2,     0.13,     0.01,2,     0.01,    2.470,2,    0.016,    0.000,2,    0.000,2,    0.000,2,   -999.0,9,   -999.0,9,-999.0000,-999,9,  -999.00,9,  -999.00,   -999.0,9,   -999.0,   1.3668,  27.7628
  49NZ20090521,   P21,   190,  1,     11, X12044,2,20090531,0233,-17.4922,-166.3422, 4536,   3580.7,2,   1.5561,2,   1.55607,2,  34.6850,2,  34.6851,6,   165.80,2,   165.44,2,   126.42,2,     0.40,    34.87,2,     0.13,     0.01,2,     0.01,    2.447,2,    0.016,    0.002,2,    0.000,2,    0.000,2,   -999.0,9,   -999.0,9,-999.0000,-999,9,  -999.00,9,  -999.00,   -999.0,9,   -999.0,   1.2802,  27.7731
  49NZ20090521,   P21,   190,  1,     10, X12048,2,20090531,0233,-17.4922,-166.3422, 4536,   3830.3,2,   1.4963,2,   1.49626,2,  34.6903,2,  34.6906,2,   172.02,2,   171.86,2,   124.44,2,     0.39,    34.41,2,     0.13,     0.01,2,     0.01,    2.412,2,    0.016,    0.003,2,    0.001,2,    0.000,2,   -999.0,9,   -999.0,9,-999.0000,-999,9,  -999.00,9,  -999.00,   -999.0,9,   -999.0,   1.1957,  27.7832
  49NZ20090521,   P21,   190,  1,      9, X12027,2,20090531,0233,-17.4922,-166.3422, 4536,   4081.3,2,   1.3909,2,   1.39119,2,  34.6983,2,  34.6983,2,   182.33,2,   182.00,2,   120.90,2,     0.38,    33.62,2,     0.13,     0.01,2,     0.01,    2.351,2,    0.016,    0.002,2,    0.001,2,    0.000,2,   -999.0,9,   -999.0,9,-999.0000,-999,9,  -999.00,9,  -999.00,   -999.0,9,   -999.0,   1.0661,  27.7985
  49NZ20090521,   P21,   190,  1,      8, X12026,2,20090531,0233,-17.4922,-166.3422, 4536,   4331.7,2,   1.2371,2,   1.23827,2,  34.7062,2,  34.7065,2,   194.94,2,   194.80,2,   117.05,2,     0.38,    32.86,2,     0.12,     0.01,2,     0.01,    2.289,2,    0.016,    0.004,2,    0.003,2,    0.000,2,   -999.0,9,   -999.0,9,-999.0000,-999,9,  -999.00,9,  -999.00,   -999.0,9,   -999.0,   0.8892,  27.8166
  49NZ20090521,   P21,   190,  1,      7, X12025,2,20090531,0233,-17.4922,-166.3422, 4536,   4580.3,2,   1.1876,2,   1.18769,2,  34.7077,2,  34.7082,2,   199.09,2,   199.17,2,   116.58,2,     0.38,    32.56,2,     0.12,     0.01,2,     0.01,    2.266,2,    0.016,    0.006,2,    0.004,2,    0.000,2,   -999.0,9,   -999.0,9,-999.0000,-999,9,  -999.00,9,  -999.00,   -999.0,9,   -999.0,   0.8130,  27.8227
  49NZ20090521,   P21,   190,  1,      6, X12024,9,20090531,0233,-17.4922,-166.3422, 4536,     10.8,2,  28.2105,2,  28.21087,2,  35.3204,2,-999.0000,9,   197.53,2,  -999.00,9,  -999.00,9,  -999.00,  -999.00,9,  -999.00,  -999.00,9,  -999.00, -999.000,9, -999.000, -999.000,9, -999.000,9, -999.000,9,   -999.0,9,   -999.0,9,-999.0000,-999,9,  -999.00,9,  -999.00,   -999.0,9,   -999.0,  28.2079,  22.5674
  49NZ20090521,   P21,   190,  1,      5, X12028,9,20090531,0233,-17.4922,-166.3422, 4536,     11.2,2,  28.2122,2,  28.21222,2,  35.3204,2,-999.0000,9,   197.49,2,  -999.00,9,  -999.00,9,  -999.00,  -999.00,9,  -999.00,  -999.00,9,  -999.00, -999.000,9, -999.000, -999.000,9, -999.000,9, -999.000,9,   -999.0,9,   -999.0,9,-999.0000,-999,9,  -999.00,9,  -999.00,   -999.0,9,   -999.0,  28.2095,  22.5669
  49NZ20090521,   P21,   190,  1,      4, X12022,9,20090531,0233,-17.4922,-166.3422, 4536,     50.5,2,  28.1732,2,  28.17280,2,  35.3162,2,-999.0000,9,   197.28,2,  -999.00,9,  -999.00,9,  -999.00,  -999.00,9,  -999.00,  -999.00,9,  -999.00, -999.000,9, -999.000, -999.000,9, -999.000,9, -999.000,9,   -999.0,9,   -999.0,9,-999.0000,-999,9,  -999.00,9,  -999.00,   -999.0,9,   -999.0,  28.1612,  22.5796
  49NZ20090521,   P21,   190,  1,      3, X12021,9,20090531,0233,-17.4922,-166.3422, 4536,   1470.3,2,   2.7610,2,   2.76119,2,  34.5782,2,-999.0000,9,   145.41,2,  -999.00,9,  -999.00,9,  -999.00,  -999.00,9,  -999.00,  -999.00,9,  -999.00, -999.000,9, -999.000, -999.000,9, -999.000,9, -999.000,9,   -999.0,9,   -999.0,9,-999.0000,-999,9,  -999.00,9,  -999.00,   -999.0,9,   -999.0,   2.6583,  27.5790
  49NZ20090521,   P21,   190,  1,      2, X12020,2,20090531,0233,-17.4922,-166.3422, 4536,   3580.3,2,   1.5564,2,   1.55639,2,  34.6849,2,  34.6849,2,   165.79,2,   165.39,2,   126.42,2,     0.40,    34.89,2,     0.13,     0.01,2,     0.01,    2.441,2,    0.016, -999.000,9, -999.000,9, -999.000,9,   -999.0,9,   -999.0,9,-999.0000,-999,9,  -999.00,9,  -999.00,   -999.0,9,   -999.0,   1.2806,  27.7730
  49NZ20090521,   P21,   190,  1,      1, X12019,2,20090531,0233,-17.4922,-166.3422, 4536,   4754.0,2,   1.1589,2,   1.15866,2,  34.7083,2,  34.7091,6,   201.61,2,   201.27,2,   116.67,2,     0.38,    32.38,2,     0.12,     0.01,2,     0.01,    2.262,2,    0.016,    0.007,2,    0.005,2,    0.000,2,   -999.0,9,   -999.0,9,-999.0000,-999,9,  -999.00,9,  -999.00,   -999.0,9,   -999.0,   0.7652,  27.8262