BOTTLE,20111109CCHDOSIOCBG
EXPOCODE,SECT_ID,STNNBR,CASTNO,SAMPNO,BTLNBR,BTLNBR_FLAG_W,DATE,TIME,LATITUDE,LONGITUDE,DEPTH,CTDPRS,CTDPRS_FLAG_W,CTDTMP,CTDTMP_FLAG_W,SBE35,SBE35_FLAG_W,CTDSAL,CTDSAL_FLAG_W,SALNTY,SALNTY_FLAG_W,CTDOXY,CTDOXY_FLAG_W,OXYGEN,OXYGEN_FLAG_W,SILCAT,SILCAT_FLAG_W,SILUNC,NITRAT,NITRAT_FLAG_W,NRAUNC,NITRIT,NITRIT_FLAG_W,NRIUNC,PHSPHT,PHSPHT_FLAG_W,PHPUNC,CFC-11,CFC-11_FLAG_W,CFC-12,CFC-12_FLAG_W,CFC113,CFC113_FLAG_W,TCARBN,TCARBN_FLAG_W,ALKALI,ALKALI_FLAG_W,PH_TOT,PH_TMP,PH_TOT_FLAG_W,DELC13,DELC13_FLAG_W,C13ERR,DELC14,DELC14_FLAG_W,C14ERR,THETA,SIG0
,,,,,,,,,,,METERS,DBAR,,ITS-90,,ITS-90,,PSS-78,,PSS-78,,UMOL/KG,,UMOL/KG,,UMOL/KG,,UMOL/KG,UMOL/KG,,UMOL/KG,UMOL/KG,,UMOL/KG,UMOL/KG,,UMOL/KG,PMOL/KG,,PMOL/KG,,PMOL/KG,,UMOL/KG,,UMOL/KG,,,DEG C,,/MILLE,,/MILLE,/MILLE,,/MILLE,DEG C,KG/M^3
  49NZ20090521,   P21,   221,  1,      0,   -999,9,20090606,1018,-18.7487, 177.8328, 1953,   -999.0,9,-999.0000,9,-999.00000,9,-999.0000,9,  34.7894,2,  -999.00,9,  -999.00,9,  -999.00,9,  -999.00,  -999.00,9,  -999.00,  -999.00,9,  -999.00, -999.000,9, -999.000, -999.000,9, -999.000,9, -999.000,9,   -999.0,9,   -999.0,9,-999.0000,-999,9,  -999.00,9,  -999.00,   -999.0,9,   -999.0,-999.0000,-999.0000
  49NZ20090521,   P21,   221,  1,     36, X12043,2,20090606,1018,-18.7487, 177.8328, 1953,     10.3,2,  26.4330,2,  26.43311,2,  34.7779,2,  34.7758,2,   200.69,2,   200.69,2,     0.96,2,     0.12,     0.08,2,     0.03,     0.01,2,     0.01,    0.086,2,    0.024,    1.515,2,    0.960,2, -999.000,5,   -999.0,9,   -999.0,9,-999.0000,-999,9,  -999.00,9,  -999.00,   -999.0,9,   -999.0,  26.4307,  22.7309
  49NZ20090521,   P21,   221,  1,     35, X12042,2,20090606,1018,-18.7487, 177.8328, 1953,     49.9,2,  26.4383,2,  26.43873,2,  34.7789,2,  34.7760,2,   200.41,2,   200.61,2,     0.83,2,     0.12,     0.07,2,     0.03,     0.01,2,     0.01,    0.074,2,    0.026,    1.505,2,    0.933,2, -999.000,5,   -999.0,9,   -999.0,9,-999.0000,-999,9,  -999.00,9,  -999.00,   -999.0,9,   -999.0,  26.4270,  22.7328
  49NZ20090521,   P21,   221,  1,     34, X12016,2,20090606,1018,-18.7487, 177.8328, 1953,    101.0,2,  25.5059,2,  25.51143,2,  35.2909,2,  35.2863,2,   191.80,2,   191.98,2,     0.60,2,     0.12,     0.36,2,     0.03,     0.20,2,     0.01,    0.149,2,    0.018,    1.657,6,    1.036,6, -999.000,5,   -999.0,9,   -999.0,9,-999.0000,-999,9,  -999.00,9,  -999.00,   -999.0,9,   -999.0,  25.4837,  23.4129
  49NZ20090521,   P21,   221,  1,     33, X12015,2,20090606,1018,-18.7487, 177.8328, 1953,    150.7,2,  23.5866,2,  23.58006,2,  35.6433,2,  35.6504,2,   165.94,2,   165.99,2,     0.84,2,     0.12,     2.73,2,     0.04,     0.03,2,     0.01,    0.354,2,    0.014,    1.787,2,    1.094,2,    0.112,2,   -999.0,9,   -999.0,9,-999.0000,-999,9,  -999.00,9,  -999.00,   -999.0,9,   -999.0,  23.5552,  24.2598
  49NZ20090521,   P21,   221,  1,     32, X12050,2,20090606,1018,-18.7487, 177.8328, 1953,    199.8,2,  21.4519,2,  21.45260,2,  35.7142,2,  35.7144,2,   161.51,2,   161.63,2,     1.08,2,     0.12,     4.42,2,     0.05,     0.02,2,     0.01,    0.471,2,    0.013,    1.955,2,    1.170,2,    0.044,2,   -999.0,9,   -999.0,9,-999.0000,-999,9,  -999.00,9,  -999.00,   -999.0,9,   -999.0,  21.4129,  24.9243
  49NZ20090521,   P21,   221,  1,     31, X12014,2,20090606,1018,-18.7487, 177.8328, 1953,    250.6,2,  19.0657,2,  19.06817,2,  35.5462,2,  35.5466,6,   167.96,2,   167.88,2,     1.57,2,     0.12,     5.80,2,     0.05,     0.02,2,     0.01,    0.549,2,    0.013,    2.112,2,    1.221,2,    0.029,2,   -999.0,9,   -999.0,9,-999.0000,-999,9,  -999.00,9,  -999.00,   -999.0,9,   -999.0,  19.0207,  25.4334
  49NZ20090521,   P21,   221,  1,     30, X12012,2,20090606,1018,-18.7487, 177.8328, 1953,    300.7,2,  16.8616,2,  16.86824,2,  35.3471,2,  35.3490,2,   173.52,2,   173.82,2,     2.21,2,     0.12,     7.52,2,     0.05,     0.01,2,     0.01,    0.674,2,    0.013,    2.195,2,    1.234,2,    0.023,2,   -999.0,9,   -999.0,9,-999.0000,-999,9,  -999.00,9,  -999.00,   -999.0,9,   -999.0,  16.8120,  25.8254
  49NZ20090521,   P21,   221,  1,     29, X12041,2,20090606,1018,-18.7487, 177.8328, 1953,    399.7,2,  12.6140,2,  12.61793,2,  34.9143,2,  34.9230,2,   178.47,2,   178.42,2,     5.32,2,     0.13,    14.00,2,     0.07,     0.01,2,     0.01,    1.094,2,    0.013,    2.056,6,    1.094,6,    0.039,6,   -999.0,9,   -999.0,9,-999.0000,-999,9,  -999.00,9,  -999.00,   -999.0,9,   -999.0,  12.5597,  26.4140
  49NZ20090521,   P21,   221,  1,     28, X12040,2,20090606,1018,-18.7487, 177.8328, 1953,    501.4,2,   9.4817,2,   9.48197,2,  34.6165,2,  34.6166,6,   185.33,2,   185.21,2,     9.35,2,     0.14,    20.27,2,     0.09,     0.01,2,     0.01,    1.489,2,    0.014,    1.772,2,    0.903,2,    0.038,2,   -999.0,9,   -999.0,9,-999.0000,-999,9,  -999.00,9,  -999.00,   -999.0,9,   -999.0,   9.4248,  26.7488
  49NZ20090521,   P21,   221,  1,     27, X12009,2,20090606,1018,-18.7487, 177.8328, 1953,    600.9,2,   7.1522,2,   7.15550,2,  34.4321,2,  34.4341,2,   199.11,2,   198.85,2,    13.79,2,     0.15,    24.78,2,     0.10,     0.01,2,     0.01,    1.765,2,    0.015,    1.426,6,    0.714,6,    0.037,6,   -999.0,9,   -999.0,9,-999.0000,-999,9,  -999.00,9,  -999.00,   -999.0,9,   -999.0,   7.0941,  26.9583
  49NZ20090521,   P21,   221,  1,     26, X12008,2,20090606,1018,-18.7487, 177.8328, 1953,    703.0,2,   6.0840,2,   6.08506,2,  34.3929,2,  34.3927,2,   192.32,2,   192.57,2,    21.97,2,     0.17,    27.88,2,     0.11,     0.01,2,     0.01,    1.961,2,    0.015,    0.880,2,    0.439,2,    0.028,2,   -999.0,9,   -999.0,9,-999.0000,-999,9,  -999.00,9,  -999.00,   -999.0,9,   -999.0,   6.0213,  27.0702
  49NZ20090521,   P21,   221,  1,     25, X12007,2,20090606,1018,-18.7487, 177.8328, 1953,    801.8,2,   5.2840,2,   5.28441,2,  34.3967,2,  34.3968,2,   183.66,2,   183.67,2,    32.52,2,     0.19,    30.19,2,     0.12,     0.01,2,     0.01,    2.114,2,    0.015,    0.504,2,    0.256,2,    0.022,2,   -999.0,9,   -999.0,9,-999.0000,-999,9,  -999.00,9,  -999.00,   -999.0,9,   -999.0,   5.2167,  27.1717
  49NZ20090521,   P21,   221,  1,     24, X12035,2,20090606,1018,-18.7487, 177.8328, 1953,    902.3,2,   4.5626,2,   4.56275,2,  34.4273,2,  34.4275,2,   172.53,2,   172.66,2,    46.23,2,     0.22,    32.14,2,     0.12,     0.01,2,     0.01,    2.256,2,    0.016,    0.253,2,    0.131,2,    0.000,2,   -999.0,9,   -999.0,9,-999.0000,-999,9,  -999.00,9,  -999.00,   -999.0,9,   -999.0,   4.4912,  27.2784
  49NZ20090521,   P21,   221,  1,     23, X12038,2,20090606,1018,-18.7487, 177.8328, 1953,   1000.9,2,   4.1193,2,   4.11997,2,  34.4595,2,  34.4586,3,   163.94,2,   164.28,2,    57.06,2,     0.24,    33.31,2,     0.13,     0.01,2,     0.01,    2.342,2,    0.016,    0.136,2,    0.071,2,    0.000,2,   -999.0,9,   -999.0,9,-999.0000,-999,9,  -999.00,9,  -999.00,   -999.0,9,   -999.0,   4.0427,  27.3518
  49NZ20090521,   P21,   221,  1,     22, X12034,2,20090606,1018,-18.7487, 177.8328, 1953,   1199.4,2,   3.4031,2,   3.40361,2,  34.5202,2,  34.5201,2,   153.67,2,   153.68,2,    77.39,2,     0.29,    34.74,2,     0.13,     0.01,2,     0.01,    2.447,2,    0.016,    0.028,2,    0.017,2,    0.000,2,   -999.0,9,   -999.0,9,-999.0000,-999,9,  -999.00,9,  -999.00,   -999.0,9,   -999.0,   3.3160,  27.4726
  49NZ20090521,   P21,   221,  1,     21, X12033,2,20090606,1018,-18.7487, 177.8328, 1953,   1402.0,2,   3.0307,2,   3.03078,2,  34.5581,2,  34.5578,2,   149.27,2,   149.41,2,    89.47,2,     0.32,    35.29,2,     0.13,     0.01,2,     0.01,    2.487,2,    0.016,    0.014,2,    0.010,2,    0.000,2,   -999.0,9,   -999.0,9,-999.0000,-999,9,  -999.00,9,  -999.00,   -999.0,9,   -999.0,   2.9307,  27.5386
  49NZ20090521,   P21,   221,  1,     20, X12032,2,20090606,1018,-18.7487, 177.8328, 1953,   1600.7,2,   2.7525,2,   2.75264,2,  34.5850,2,  34.5852,2,   147.40,2,   147.57,2,    98.06,2,     0.33,    35.48,2,     0.13,     0.01,2,     0.01,    2.505,2,    0.016,    0.005,2,    0.004,2,    0.000,2,   -999.0,9,   -999.0,9,-999.0000,-999,9,  -999.00,9,  -999.00,   -999.0,9,   -999.0,   2.6392,  27.5861
  49NZ20090521,   P21,   221,  1,     19, X12046,2,20090606,1018,-18.7487, 177.8328, 1953,   1801.0,2,   2.4797,2,   2.47948,2,  34.6114,2,  34.6117,2,   147.81,2,   147.94,2,   105.82,2,     0.35,    35.63,2,     0.13,     0.01,2,     0.01,    2.510,2,    0.016,    0.003,2,    0.004,2,    0.000,2,   -999.0,9,   -999.0,9,-999.0000,-999,9,  -999.00,9,  -999.00,   -999.0,9,   -999.0,   2.3531,  27.6316
  49NZ20090521,   P21,   221,  1,     18, X12006,9,20090606,1018,-18.7487, 177.8328, 1953,      9.9,2,  26.4565,2,  26.45716,2,  34.7792,2,-999.0000,9,   200.62,2,  -999.00,9,  -999.00,9,  -999.00,  -999.00,9,  -999.00,  -999.00,9,  -999.00, -999.000,9, -999.000, -999.000,9, -999.000,9, -999.000,9,   -999.0,9,   -999.0,9,-999.0000,-999,9,  -999.00,9,  -999.00,   -999.0,9,   -999.0,  26.4543,  22.7245
  49NZ20090521,   P21,   221,  1,     17, X12047,9,20090606,1018,-18.7487, 177.8328, 1953,     10.4,2,  26.4329,2,  26.43498,2,  34.7779,2,-999.0000,9,   200.69,2,  -999.00,9,  -999.00,9,  -999.00,  -999.00,9,  -999.00,  -999.00,9,  -999.00, -999.000,9, -999.000, -999.000,9, -999.000,9, -999.000,9,   -999.0,9,   -999.0,9,-999.0000,-999,9,  -999.00,9,  -999.00,   -999.0,9,   -999.0,  26.4306,  22.7310
  49NZ20090521,   P21,   221,  1,     16, X12004,9,20090606,1018,-18.7487, 177.8328, 1953,     49.7,2,  26.4398,2,  26.43937,2,  34.7794,2,-999.0000,9,   200.30,2,  -999.00,9,  -999.00,9,  -999.00,  -999.00,9,  -999.00,  -999.00,9,  -999.00, -999.000,9, -999.000, -999.000,9, -999.000,9, -999.000,9,   -999.0,9,   -999.0,9,-999.0000,-999,9,  -999.00,9,  -999.00,   -999.0,9,   -999.0,  26.4286,  22.7327
  49NZ20090521,   P21,   221,  1,     15, X12003,9,20090606,1018,-18.7487, 177.8328, 1953,    101.0,2,  25.4892,2,  25.49693,2,  35.2963,2,-999.0000,9,   190.74,2,  -999.00,9,  -999.00,9,  -999.00,  -999.00,9,  -999.00,  -999.00,9,  -999.00, -999.000,9, -999.000, -999.000,9, -999.000,9, -999.000,9,   -999.0,9,   -999.0,9,-999.0000,-999,9,  -999.00,9,  -999.00,   -999.0,9,   -999.0,  25.4670,  23.4222
  49NZ20090521,   P21,   221,  1,     14, X12002,9,20090606,1018,-18.7487, 177.8328, 1953,    150.5,2,  23.5988,2,  23.61299,2,  35.6460,2,-999.0000,9,   166.07,2,  -999.00,9,  -999.00,9,  -999.00,  -999.00,9,  -999.00,  -999.00,9,  -999.00, -999.000,9, -999.000, -999.000,9, -999.000,9, -999.000,9,   -999.0,9,   -999.0,9,-999.0000,-999,9,  -999.00,9,  -999.00,   -999.0,9,   -999.0,  23.5674,  24.2583
  49NZ20090521,   P21,   221,  1,     13, X12001,9,20090606,1018,-18.7487, 177.8328, 1953,    199.7,2,  21.4615,2,  21.46017,2,  35.7151,2,-999.0000,9,   161.53,2,  -999.00,9,  -999.00,9,  -999.00,  -999.00,9,  -999.00,  -999.00,9,  -999.00, -999.000,9, -999.000, -999.000,9, -999.000,9, -999.000,9,   -999.0,9,   -999.0,9,-999.0000,-999,9,  -999.00,9,  -999.00,   -999.0,9,   -999.0,  21.4225,  24.9223
  49NZ20090521,   P21,   221,  1,     12, X12030,9,20090606,1018,-18.7487, 177.8328, 1953,    250.1,2,  19.0630,2,  19.06342,2,  35.5462,2,-999.0000,9,   168.00,2,  -999.00,9,  -999.00,9,  -999.00,  -999.00,9,  -999.00,  -999.00,9,  -999.00, -999.000,9, -999.000, -999.000,9, -999.000,9, -999.000,9,   -999.0,9,   -999.0,9,-999.0000,-999,9,  -999.00,9,  -999.00,   -999.0,9,   -999.0,  19.0181,  25.4341
  49NZ20090521,   P21,   221,  1,     11, X12044,9,20090606,1018,-18.7487, 177.8328, 1953,    300.8,2,  16.8504,2,  16.85393,2,  35.3470,2,-999.0000,9,   173.58,2,  -999.00,9,  -999.00,9,  -999.00,  -999.00,9,  -999.00,  -999.00,9,  -999.00, -999.000,9, -999.000, -999.000,9, -999.000,9, -999.000,9,   -999.0,9,   -999.0,9,-999.0000,-999,9,  -999.00,9,  -999.00,   -999.0,9,   -999.0,  16.8008,  25.8279
  49NZ20090521,   P21,   221,  1,     10, X12048,9,20090606,1018,-18.7487, 177.8328, 1953,    400.1,2,  12.5828,2,  12.58427,2,  34.9139,2,-999.0000,9,   178.66,2,  -999.00,9,  -999.00,9,  -999.00,  -999.00,9,  -999.00,  -999.00,9,  -999.00, -999.000,9, -999.000, -999.000,9, -999.000,9, -999.000,9,   -999.0,9,   -999.0,9,-999.0000,-999,9,  -999.00,9,  -999.00,   -999.0,9,   -999.0,  12.5286,  26.4198
  49NZ20090521,   P21,   221,  1,      9, X12027,9,20090606,1018,-18.7487, 177.8328, 1953,    501.2,2,   9.4802,2,   9.48081,2,  34.6165,2,-999.0000,9,   185.44,2,  -999.00,9,  -999.00,9,  -999.00,  -999.00,9,  -999.00,  -999.00,9,  -999.00, -999.000,9, -999.000, -999.000,9, -999.000,9, -999.000,9,   -999.0,9,   -999.0,9,-999.0000,-999,9,  -999.00,9,  -999.00,   -999.0,9,   -999.0,   9.4233,  26.7491
  49NZ20090521,   P21,   221,  1,      8, X12026,9,20090606,1018,-18.7487, 177.8328, 1953,    601.2,2,   7.1238,2,   7.13314,2,  34.4306,2,-999.0000,9,   199.53,2,  -999.00,9,  -999.00,9,  -999.00,  -999.00,9,  -999.00,  -999.00,9,  -999.00, -999.000,9, -999.000, -999.000,9, -999.000,9, -999.000,9,   -999.0,9,   -999.0,9,-999.0000,-999,9,  -999.00,9,  -999.00,   -999.0,9,   -999.0,   7.0658,  26.9611
  49NZ20090521,   P21,   221,  1,      7, X12025,9,20090606,1018,-18.7487, 177.8328, 1953,    702.8,2,   6.0815,2,   6.08258,2,  34.3932,2,-999.0000,9,   192.41,2,  -999.00,9,  -999.00,9,  -999.00,  -999.00,9,  -999.00,  -999.00,9,  -999.00, -999.000,9, -999.000, -999.000,9, -999.000,9, -999.000,9,   -999.0,9,   -999.0,9,-999.0000,-999,9,  -999.00,9,  -999.00,   -999.0,9,   -999.0,   6.0188,  27.0707
  49NZ20090521,   P21,   221,  1,      6, X12024,9,20090606,1018,-18.7487, 177.8328, 1953,    801.8,2,   5.2845,2,   5.28447,2,  34.3966,2,-999.0000,9,   183.65,2,  -999.00,9,  -999.00,9,  -999.00,  -999.00,9,  -999.00,  -999.00,9,  -999.00, -999.000,9, -999.000, -999.000,9, -999.000,9, -999.000,9,   -999.0,9,   -999.0,9,-999.0000,-999,9,  -999.00,9,  -999.00,   -999.0,9,   -999.0,   5.2172,  27.1715
  49NZ20090521,   P21,   221,  1,      5, X12028,9,20090606,1018,-18.7487, 177.8328, 1953,    902.9,2,   4.5621,2,   4.56216,2,  34.4275,2,-999.0000,9,   172.54,2,  -999.00,9,  -999.00,9,  -999.00,  -999.00,9,  -999.00,  -999.00,9,  -999.00, -999.000,9, -999.000, -999.000,9, -999.000,9, -999.000,9,   -999.0,9,   -999.0,9,-999.0000,-999,9,  -999.00,9,  -999.00,   -999.0,9,   -999.0,   4.4906,  27.2785
  49NZ20090521,   P21,   221,  1,      4, X12022,9,20090606,1018,-18.7487, 177.8328, 1953,   1000.8,2,   4.1233,2,   4.12375,2,  34.4592,2,-999.0000,9,   163.94,2,  -999.00,9,  -999.00,9,  -999.00,  -999.00,9,  -999.00,  -999.00,9,  -999.00, -999.000,9, -999.000, -999.000,9, -999.000,9, -999.000,9,   -999.0,9,   -999.0,9,-999.0000,-999,9,  -999.00,9,  -999.00,   -999.0,9,   -999.0,   4.0467,  27.3511
  49NZ20090521,   P21,   221,  1,      3, X12021,9,20090606,1018,-18.7487, 177.8328, 1953,   1199.1,2,   3.4064,2,   3.40613,2,  34.5198,2,-999.0000,9,   153.64,2,  -999.00,9,  -999.00,9,  -999.00,  -999.00,9,  -999.00,  -999.00,9,  -999.00, -999.000,9, -999.000, -999.000,9, -999.000,9, -999.000,9,   -999.0,9,   -999.0,9,-999.0000,-999,9,  -999.00,9,  -999.00,   -999.0,9,   -999.0,   3.3193,  27.4719
  49NZ20090521,   P21,   221,  1,      2, X12020,9,20090606,1018,-18.7487, 177.8328, 1953,   1401.5,2,   3.0311,2,   3.03102,2,  34.5581,2,-999.0000,9,   149.26,2,  -999.00,9,  -999.00,9,  -999.00,  -999.00,9,  -999.00,  -999.00,9,  -999.00, -999.000,9, -999.000, -999.000,9, -999.000,9, -999.000,9,   -999.0,9,   -999.0,9,-999.0000,-999,9,  -999.00,9,  -999.00,   -999.0,9,   -999.0,   2.9311,  27.5386
  49NZ20090521,   P21,   221,  1,      1, X12019,2,20090606,1018,-18.7487, 177.8328, 1953,   1912.3,2,   2.3976,2,   2.39741,2,  34.6197,2,  34.6199,6,   147.99,2,   147.89,2,   108.32,2,     0.36,    35.57,2,     0.13,     0.01,2,     0.01,    2.515,2,    0.016,    0.003,2,    0.003,2,    0.000,2,   -999.0,9,   -999.0,9,-999.0000,-999,9,  -999.00,9,  -999.00,   -999.0,9,   -999.0,   2.2627,  27.6457