BOTTLE,20111109CCHDOSIOCBG
EXPOCODE,SECT_ID,STNNBR,CASTNO,SAMPNO,BTLNBR,BTLNBR_FLAG_W,DATE,TIME,LATITUDE,LONGITUDE,DEPTH,CTDPRS,CTDPRS_FLAG_W,CTDTMP,CTDTMP_FLAG_W,SBE35,SBE35_FLAG_W,CTDSAL,CTDSAL_FLAG_W,SALNTY,SALNTY_FLAG_W,CTDOXY,CTDOXY_FLAG_W,OXYGEN,OXYGEN_FLAG_W,SILCAT,SILCAT_FLAG_W,SILUNC,NITRAT,NITRAT_FLAG_W,NRAUNC,NITRIT,NITRIT_FLAG_W,NRIUNC,PHSPHT,PHSPHT_FLAG_W,PHPUNC,CFC-11,CFC-11_FLAG_W,CFC-12,CFC-12_FLAG_W,CFC113,CFC113_FLAG_W,TCARBN,TCARBN_FLAG_W,ALKALI,ALKALI_FLAG_W,PH_TOT,PH_TMP,PH_TOT_FLAG_W,DELC13,DELC13_FLAG_W,C13ERR,DELC14,DELC14_FLAG_W,C14ERR,THETA,SIG0
,,,,,,,,,,,METERS,DBAR,,ITS-90,,ITS-90,,PSS-78,,PSS-78,,UMOL/KG,,UMOL/KG,,UMOL/KG,,UMOL/KG,UMOL/KG,,UMOL/KG,UMOL/KG,,UMOL/KG,UMOL/KG,,UMOL/KG,PMOL/KG,,PMOL/KG,,PMOL/KG,,UMOL/KG,,UMOL/KG,,,DEG C,,/MILLE,,/MILLE,/MILLE,,/MILLE,DEG C,KG/M^3
  49NZ20090521,   P21,   171,  1,      0,   -999,9,20090523,0944,-17.5027,-153.6623, 4675,   -999.0,9,-999.0000,9,-999.00000,9,-999.0000,9,  35.9691,2,  -999.00,9,  -999.00,9,  -999.00,9,  -999.00,  -999.00,9,  -999.00,  -999.00,9,  -999.00, -999.000,9, -999.000, -999.000,9, -999.000,9, -999.000,9,   -999.0,9,   -999.0,9,-999.0000,-999,9,  -999.00,9,  -999.00,   -999.0,9,   -999.0,-999.0000,-999.0000
  49NZ20090521,   P21,   171,  1,     36, X12043,2,20090523,0944,-17.5027,-153.6623, 4675,      9.7,2,  28.3510,2,  28.35139,2,  35.9566,2,  35.9546,2,   195.26,2,   195.58,2,     0.68,2,     0.12,     0.07,2,     0.03,     0.01,2,     0.01,    0.211,2,    0.016,    1.384,2,    0.911,2, -999.000,5,   -999.0,9,   -999.0,9,-999.0000,-999,9,  -999.00,9,  -999.00,   -999.0,9,   -999.0,  28.3487,  22.9994
  49NZ20090521,   P21,   171,  1,     35, X12042,2,20090523,0944,-17.5027,-153.6623, 4675,     49.7,2,  28.2418,2,  28.23445,2,  35.9992,2,  35.9830,2,   196.87,2,   196.54,2,     0.63,2,     0.12,     0.06,2,     0.03,     0.01,2,     0.01,    0.205,2,    0.016,    1.395,2,    0.915,2, -999.000,5,   -999.0,9,   -999.0,9,-999.0000,-999,9,  -999.00,9,  -999.00,   -999.0,9,   -999.0,  28.2300,  23.0706
  49NZ20090521,   P21,   171,  1,     34, X12016,2,20090523,0944,-17.5027,-153.6623, 4675,     99.5,2,  26.1762,2,  26.17090,2,  36.2752,2,  36.2774,2,   203.11,2,   203.54,2,     0.54,2,     0.12,     0.06,2,     0.03,     0.01,2,     0.01,    0.208,2,    0.016,    1.580,6,    1.021,6, -999.000,5,   -999.0,9,   -999.0,9,-999.0000,-999,9,  -999.00,9,  -999.00,   -999.0,9,   -999.0,  26.1538,  23.9475
  49NZ20090521,   P21,   171,  1,     33, X12015,2,20090523,0944,-17.5027,-153.6623, 4675,    150.0,2,  24.7190,2,  24.69902,2,  36.2379,2,  36.2369,2,   196.14,2,   196.33,2,     0.48,2,     0.12,     0.07,2,     0.03,     0.08,2,     0.01,    0.230,2,    0.015,    1.644,2,    1.046,2, -999.000,5,   -999.0,9,   -999.0,9,-999.0000,-999,9,  -999.00,9,  -999.00,   -999.0,9,   -999.0,  24.6866,  24.3726
  49NZ20090521,   P21,   171,  1,     32, X12050,2,20090523,0944,-17.5027,-153.6623, 4675,    199.6,2,  23.0529,2,  23.05684,2,  36.1075,2,  36.1020,2,   174.41,2,   175.31,2,     0.60,2,     0.12,     2.44,2,     0.04,     0.02,2,     0.01,    0.409,2,    0.013,    1.795,2,    1.127,2,    0.122,2,   -999.0,9,   -999.0,9,-999.0000,-999,9,  -999.00,9,  -999.00,   -999.0,9,   -999.0,  23.0118,  24.7704
  49NZ20090521,   P21,   171,  1,     31, X12014,2,20090523,0944,-17.5027,-153.6623, 4675,    248.9,2,  20.7006,2,  20.69823,2,  35.8001,2,  35.7948,6,   173.82,2,   173.98,2,     0.79,2,     0.12,     3.99,2,     0.04,     0.01,2,     0.01,    0.510,2,    0.013,    2.011,2,    1.223,2,    0.053,2,   -999.0,9,   -999.0,9,-999.0000,-999,9,  -999.00,9,  -999.00,   -999.0,9,   -999.0,  20.6532,  25.1974
  49NZ20090521,   P21,   171,  1,     30, X12012,2,20090523,0944,-17.5027,-153.6623, 4675,    299.6,2,  18.0562,2,  18.05775,2,  35.4219,2,  35.4219,2,   175.50,2,   175.52,2,     1.46,2,     0.12,     5.94,2,     0.05,     0.01,2,     0.01,    0.640,2,    0.013,    2.186,2,    1.280,2,    0.029,2,   -999.0,9,   -999.0,9,-999.0000,-999,9,  -999.00,9,  -999.00,   -999.0,9,   -999.0,  18.0044,  25.5942
  49NZ20090521,   P21,   171,  1,     29, X12041,2,20090523,0944,-17.5027,-153.6623, 4675,    399.4,2,  12.3466,2,  12.34661,2,  34.7738,2,  34.7720,2,   167.01,2,   167.59,2,     5.87,2,     0.13,    15.17,2,     0.08,     0.01,2,     0.01,    1.245,2,    0.013,    2.042,6,    1.104,6,    0.034,6,   -999.0,9,   -999.0,9,-999.0000,-999,9,  -999.00,9,  -999.00,   -999.0,9,   -999.0,  12.2932,  26.3570
  49NZ20090521,   P21,   171,  1,     28, X12040,2,20090523,0944,-17.5027,-153.6623, 4675,    498.7,2,   8.4322,2,   8.43122,2,  34.4973,2,  34.4961,6,   154.29,2,   154.54,2,    15.20,2,     0.15,    25.64,2,     0.10,     0.01,2,     0.01,    1.894,2,    0.015,    1.180,2,    0.612,2,    0.023,2,   -999.0,9,   -999.0,9,-999.0000,-999,9,  -999.00,9,  -999.00,   -999.0,9,   -999.0,   8.3795,  26.8216
  49NZ20090521,   P21,   171,  1,     27, X12009,2,20090523,0944,-17.5027,-153.6623, 4675,    601.1,2,   6.6770,2,   6.67761,2,  34.4341,2,  34.4336,2,   157.32,2,   157.47,2,    23.85,2,     0.17,    29.65,2,     0.12,     0.01,2,     0.01,    2.130,2,    0.015,    0.620,6,    0.322,6,    0.015,6,   -999.0,9,   -999.0,9,-999.0000,-999,9,  -999.00,9,  -999.00,   -999.0,9,   -999.0,   6.6210,  27.0245
  49NZ20090521,   P21,   171,  1,     26, X12008,2,20090523,0944,-17.5027,-153.6623, 4675,    698.8,2,   5.7217,2,   5.72281,2,  34.4332,2,  34.4330,2,   154.98,2,   155.08,2,    34.23,2,     0.19,    31.94,2,     0.12,     0.01,2,     0.01,    2.259,2,    0.016,    0.299,2,    0.163,2,    0.011,2,   -999.0,9,   -999.0,9,-999.0000,-999,9,  -999.00,9,  -999.00,   -999.0,9,   -999.0,   5.6612,  27.1471
  49NZ20090521,   P21,   171,  1,     25, X12007,2,20090523,0944,-17.5027,-153.6623, 4675,    801.9,2,   5.0954,2,   5.09438,2,  34.4475,2,  34.4478,2,   151.01,2,   151.15,2,    44.11,2,     0.22,    33.32,2,     0.13,     0.01,2,     0.01,    2.346,2,    0.016,    0.114,2,    0.066,2,    0.006,2,   -999.0,9,   -999.0,9,-999.0000,-999,9,  -999.00,9,  -999.00,   -999.0,9,   -999.0,   5.0292,  27.2338
  49NZ20090521,   P21,   171,  1,     24, X12035,2,20090523,0944,-17.5027,-153.6623, 4675,    899.8,2,   4.3672,2,   4.36629,2,  34.4570,2,  34.4577,2,   152.35,2,   152.40,2,    54.17,2,     0.24,    34.28,2,     0.13,     0.01,2,     0.01,    2.417,2,    0.016,    0.038,2,    0.024,2,    0.000,2,   -999.0,9,   -999.0,9,-999.0000,-999,9,  -999.00,9,  -999.00,   -999.0,9,   -999.0,   4.2973,  27.3229
  49NZ20090521,   P21,   171,  1,     23, X12038,2,20090523,0944,-17.5027,-153.6623, 4675,    996.8,2,   4.0251,2,   4.02390,2,  34.4881,2,  34.4881,6,   146.53,2,   146.81,2,    63.88,2,     0.26,    35.03,2,     0.13,     0.01,2,     0.01,    2.473,2,    0.016,    0.020,2,    0.013,2,    0.000,2,   -999.0,9,   -999.0,9,-999.0000,-999,9,  -999.00,9,  -999.00,   -999.0,9,   -999.0,   3.9495,  27.3841
  49NZ20090521,   P21,   171,  1,     22, X12034,2,20090523,0944,-17.5027,-153.6623, 4675,   1202.2,2,   3.4079,2,   3.40770,2,  34.5319,2,  34.5318,2,   142.85,2,   143.01,2,    79.31,2,     0.29,    35.79,2,     0.13,     0.00,2,     0.01,    2.533,2,    0.016,    0.004,2,    0.004,2,    0.000,2,   -999.0,9,   -999.0,9,-999.0000,-999,9,  -999.00,9,  -999.00,   -999.0,9,   -999.0,   3.3205,  27.4815
  49NZ20090521,   P21,   171,  1,     21, X12033,2,20090523,0944,-17.5027,-153.6623, 4675,   1399.2,2,   2.9825,2,   2.98225,2,  34.5651,2,  34.5661,3,   142.80,2,   142.84,2,    90.36,2,     0.32,    35.98,2,     0.13,     0.01,2,     0.01,    2.554,2,    0.016,    0.002,2,    0.002,2,    0.000,2,   -999.0,9,   -999.0,9,-999.0000,-999,9,  -999.00,9,  -999.00,   -999.0,9,   -999.0,   2.8832,  27.5485
  49NZ20090521,   P21,   171,  1,     20, X12032,2,20090523,0944,-17.5027,-153.6623, 4675,   1600.3,2,   2.6554,2,   2.65523,2,  34.5899,2,  34.5902,2,   144.87,2,   144.91,2,    99.04,2,     0.34,    36.02,2,     0.13,     0.00,2,     0.01,    2.546,2,    0.016,    0.002,2,    0.002,2,    0.000,2,   -999.0,9,   -999.0,9,-999.0000,-999,9,  -999.00,9,  -999.00,   -999.0,9,   -999.0,   2.5433,  27.5983
  49NZ20090521,   P21,   171,  1,     19, X12046,2,20090523,0944,-17.5027,-153.6623, 4675,   1799.1,2,   2.4215,2,   2.42142,2,  34.6099,2,  34.6105,2,   146.87,2,   146.60,2,   105.53,2,     0.35,    35.95,2,     0.13,     0.00,2,     0.01,    2.540,2,    0.016,    0.001,2,    0.001,2,    0.000,2,   -999.0,9,   -999.0,9,-999.0000,-999,9,  -999.00,9,  -999.00,   -999.0,9,   -999.0,   2.2959,  27.6352
  49NZ20090521,   P21,   171,  1,     18, X12006,2,20090523,0944,-17.5027,-153.6623, 4675,   2001.5,2,   2.2117,2,   2.21165,2,  34.6280,2,  34.6287,2,   149.02,2,   149.13,2,   111.03,2,     0.36,    35.93,2,     0.13,     0.00,2,     0.01,    2.527,2,    0.016,    0.000,2,    0.000,2,    0.000,2,   -999.0,9,   -999.0,9,-999.0000,-999,9,  -999.00,9,  -999.00,   -999.0,9,   -999.0,   2.0719,  27.6679
  49NZ20090521,   P21,   171,  1,     17, X12047,2,20090523,0944,-17.5027,-153.6623, 4675,   2199.5,2,   2.0268,2,   2.02708,2,  34.6436,2,  34.6437,6,   152.10,2,   152.20,2,   115.41,2,     0.37,    35.71,2,     0.13,     0.00,2,     0.01,    2.521,2,    0.016,    0.000,2,    0.000,2,    0.000,2,   -999.0,9,   -999.0,9,-999.0000,-999,9,  -999.00,9,  -999.00,   -999.0,9,   -999.0,   1.8729,  27.6961
  49NZ20090521,   P21,   171,  1,     16, X12004,2,20090523,0944,-17.5027,-153.6623, 4675,   2400.5,2,   1.9183,2,   1.91821,2,  34.6529,2,  34.6529,2,   154.74,2,   154.74,2,   117.74,2,     0.38,    35.68,2,     0.13,     0.01,2,     0.01,    2.508,2,    0.016,    0.001,2,    0.000,2,    0.000,2,   -999.0,9,   -999.0,9,-999.0000,-999,9,  -999.00,9,  -999.00,   -999.0,9,   -999.0,   1.7485,  27.7131
  49NZ20090521,   P21,   171,  1,     15, X12003,2,20090523,0944,-17.5027,-153.6623, 4675,   2599.2,2,   1.8306,2,   1.83051,2,  34.6600,2,  34.6605,2,   157.91,2,   157.97,2,   118.98,2,     0.38,    35.38,2,     0.13,     0.00,2,     0.01,    2.484,2,    0.016,    0.000,2,    0.000,2,    0.000,2,   -999.0,9,   -999.0,9,-999.0000,-999,9,  -999.00,9,  -999.00,   -999.0,9,   -999.0,   1.6444,  27.7267
  49NZ20090521,   P21,   171,  1,     14, X12002,2,20090523,0944,-17.5027,-153.6623, 4675,   2802.0,2,   1.7502,2,   1.75024,2,  34.6673,2,  34.6673,2,   160.10,2,   160.12,2,   120.85,2,     0.38,    35.16,2,     0.13,     0.01,2,     0.01,    2.474,2,    0.016,    0.000,2,    0.000,2,    0.000,2,   -999.0,9,   -999.0,9,-999.0000,-999,9,  -999.00,9,  -999.00,   -999.0,9,   -999.0,   1.5468,  27.7398
  49NZ20090521,   P21,   171,  1,     13, X12001,2,20090523,0944,-17.5027,-153.6623, 4675,   3001.9,2,   1.6842,2,   1.68415,2,  34.6728,2,  34.6729,2,   163.13,2,   163.09,2,   121.42,2,     0.39,    35.03,2,     0.13,     0.00,2,     0.01,    2.467,2,    0.016,    0.001,2,    0.000,2,    0.000,2,   -999.0,9,   -999.0,9,-999.0000,-999,9,  -999.00,9,  -999.00,   -999.0,9,   -999.0,   1.4632,  27.7503
  49NZ20090521,   P21,   171,  1,     12, X12030,2,20090523,0944,-17.5027,-153.6623, 4675,   3249.8,2,   1.6047,2,   1.60464,2,  34.6793,2,  34.6800,2,   167.25,2,   167.41,2,   121.99,2,     0.39,    34.72,2,     0.13,     0.00,2,     0.01,    2.438,2,    0.016,    0.000,2,    0.000,2,    0.000,2,   -999.0,9,   -999.0,9,-999.0000,-999,9,  -999.00,9,  -999.00,   -999.0,9,   -999.0,   1.3612,  27.7628
  49NZ20090521,   P21,   171,  1,     11, X12044,2,20090523,0944,-17.5027,-153.6623, 4675,   3500.0,2,   1.5333,2,   1.53320,2,  34.6848,2,  34.6850,6,   172.76,2,   172.77,2,   121.12,2,     0.39,    34.31,2,     0.13,     0.01,2,     0.01,    2.414,2,    0.016,    0.001,2,    0.000,2,    0.000,2,   -999.0,9,   -999.0,9,-999.0000,-999,9,  -999.00,9,  -999.00,   -999.0,9,   -999.0,   1.2663,  27.7739
  49NZ20090521,   P21,   171,  1,     10, X12048,2,20090523,0944,-17.5027,-153.6623, 4675,   3750.2,2,   1.4751,2,   1.47500,2,  34.6896,2,  34.6899,2,   177.14,2,   177.12,2,   120.47,2,     0.38,    34.08,2,     0.13,     0.01,2,     0.01,    2.398,2,    0.016,    0.002,2,    0.001,2,    0.000,2,   -999.0,9,   -999.0,9,-999.0000,-999,9,  -999.00,9,  -999.00,   -999.0,9,   -999.0,   1.1836,  27.7835
  49NZ20090521,   P21,   171,  1,      9, X12027,2,20090523,0944,-17.5027,-153.6623, 4675,   3998.5,2,   1.4509,2,   1.45073,2,  34.6923,2,  34.6929,2,   179.79,2,   179.96,2,   120.41,2,     0.38,    33.85,2,     0.13,     0.01,2,     0.01,    2.373,2,    0.016,    0.001,2,    0.000,2,    0.000,2,   -999.0,9,   -999.0,9,-999.0000,-999,9,  -999.00,9,  -999.00,   -999.0,9,   -999.0,   1.1335,  27.7891
  49NZ20090521,   P21,   171,  1,      8, X12026,2,20090523,0944,-17.5027,-153.6623, 4675,   4250.1,2,   1.4347,2,   1.43467,2,  34.6948,2,  34.6952,2,   182.18,2,   182.22,2,   119.70,2,     0.38,    33.72,2,     0.13,     0.01,2,     0.01,    2.359,2,    0.016,    0.000,2,    0.001,2,    0.000,2,   -999.0,9,   -999.0,9,-999.0000,-999,9,  -999.00,9,  -999.00,   -999.0,9,   -999.0,   1.0900,  27.7941
  49NZ20090521,   P21,   171,  1,      7, X12025,2,20090523,0944,-17.5027,-153.6623, 4675,   4501.1,2,   1.4260,2,   1.42601,2,  34.6968,2,  34.6981,3,   184.40,2,   184.53,2,   119.56,2,     0.38,    33.56,2,     0.13,     0.01,2,     0.01,    2.350,2,    0.016,    0.003,2,    0.001,2,    0.000,2,   -999.0,9,   -999.0,9,-999.0000,-999,9,  -999.00,9,  -999.00,   -999.0,9,   -999.0,   1.0531,  27.7981
  49NZ20090521,   P21,   171,  1,      6, X12024,9,20090523,0944,-17.5027,-153.6623, 4675,      9.7,2,  28.3552,2,  28.35482,2,  35.9565,2,-999.0000,9,   195.27,2,  -999.00,9,  -999.00,9,  -999.00,  -999.00,9,  -999.00,  -999.00,9,  -999.00, -999.000,9, -999.000, -999.000,9, -999.000,9, -999.000,9,   -999.0,9,   -999.0,9,-999.0000,-999,9,  -999.00,9,  -999.00,   -999.0,9,   -999.0,  28.3529,  22.9979
  49NZ20090521,   P21,   171,  1,      5, X12028,9,20090523,0944,-17.5027,-153.6623, 4675,    898.2,2,   4.3586,2,   4.35527,2,  34.4577,2,-999.0000,9,   152.22,2,  -999.00,9,  -999.00,9,  -999.00,  -999.00,9,  -999.00,  -999.00,9,  -999.00, -999.000,9, -999.000, -999.000,9, -999.000,9, -999.000,9,   -999.0,9,   -999.0,9,-999.0000,-999,9,  -999.00,9,  -999.00,   -999.0,9,   -999.0,   4.2889,  27.3243
  49NZ20090521,   P21,   171,  1,      4, X12022,9,20090523,0944,-17.5027,-153.6623, 4675,   2598.8,2,   1.8287,2,   1.82914,2,  34.6603,2,-999.0000,9,   157.96,2,  -999.00,9,  -999.00,9,  -999.00,  -999.00,9,  -999.00,  -999.00,9,  -999.00, -999.000,9, -999.000, -999.000,9, -999.000,9, -999.000,9,   -999.0,9,   -999.0,9,-999.0000,-999,9,  -999.00,9,  -999.00,   -999.0,9,   -999.0,   1.6426,  27.7271
  49NZ20090521,   P21,   171,  1,      3, X12021,9,20090523,0944,-17.5027,-153.6623, 4675,   2801.7,2,   1.7502,2,   1.75019,2,  34.6674,2,-999.0000,9,   160.10,2,  -999.00,9,  -999.00,9,  -999.00,  -999.00,9,  -999.00,  -999.00,9,  -999.00, -999.000,9, -999.000, -999.000,9, -999.000,9, -999.000,9,   -999.0,9,   -999.0,9,-999.0000,-999,9,  -999.00,9,  -999.00,   -999.0,9,   -999.0,   1.5468,  27.7398
  49NZ20090521,   P21,   171,  1,      2, X12020,2,20090523,0944,-17.5027,-153.6623, 4675,   3001.5,2,   1.6842,2,   1.68404,2,  34.6728,2,-999.0000,9,   163.13,2,  -999.00,9,  -999.00,9,  -999.00,  -999.00,9,  -999.00,  -999.00,9,  -999.00, -999.000,9, -999.000,    0.000,2,    0.000,2,    0.000,2,   -999.0,9,   -999.0,9,-999.0000,-999,9,  -999.00,9,  -999.00,   -999.0,9,   -999.0,   1.4632,  27.7503
  49NZ20090521,   P21,   171,  1,      1, X12019,2,20090523,0944,-17.5027,-153.6623, 4675,   4749.3,2,   1.4247,2,   1.42444,2,  34.6982,2,  34.6996,3,   186.22,2,   186.32,2,   119.19,2,     0.38,    33.46,2,     0.13,     0.01,2,     0.01,    2.346,2,    0.016,    0.001,2,    0.000,2,    0.000,2,   -999.0,9,   -999.0,9,-999.0000,-999,9,  -999.00,9,  -999.00,   -999.0,9,   -999.0,   1.0229,  27.8013