BOTTLE,20111109CCHDOSIOCBG
EXPOCODE,SECT_ID,STNNBR,CASTNO,SAMPNO,BTLNBR,BTLNBR_FLAG_W,DATE,TIME,LATITUDE,LONGITUDE,DEPTH,CTDPRS,CTDPRS_FLAG_W,CTDTMP,CTDTMP_FLAG_W,SBE35,SBE35_FLAG_W,CTDSAL,CTDSAL_FLAG_W,SALNTY,SALNTY_FLAG_W,CTDOXY,CTDOXY_FLAG_W,OXYGEN,OXYGEN_FLAG_W,SILCAT,SILCAT_FLAG_W,SILUNC,NITRAT,NITRAT_FLAG_W,NRAUNC,NITRIT,NITRIT_FLAG_W,NRIUNC,PHSPHT,PHSPHT_FLAG_W,PHPUNC,CFC-11,CFC-11_FLAG_W,CFC-12,CFC-12_FLAG_W,CFC113,CFC113_FLAG_W,TCARBN,TCARBN_FLAG_W,ALKALI,ALKALI_FLAG_W,PH_TOT,PH_TMP,PH_TOT_FLAG_W,DELC13,DELC13_FLAG_W,C13ERR,DELC14,DELC14_FLAG_W,C14ERR,THETA,SIG0
,,,,,,,,,,,METERS,DBAR,,ITS-90,,ITS-90,,PSS-78,,PSS-78,,UMOL/KG,,UMOL/KG,,UMOL/KG,,UMOL/KG,UMOL/KG,,UMOL/KG,UMOL/KG,,UMOL/KG,UMOL/KG,,UMOL/KG,PMOL/KG,,PMOL/KG,,PMOL/KG,,UMOL/KG,,UMOL/KG,,,DEG C,,/MILLE,,/MILLE,/MILLE,,/MILLE,DEG C,KG/M^3
  49NZ20090521,   P21,   216,  1,      0,   -999,9,20090605,1814,-18.4145, 179.6685, 3193,   -999.0,9,-999.0000,9,-999.00000,9,-999.0000,9,  34.9645,2,  -999.00,9,  -999.00,9,  -999.00,9,  -999.00,  -999.00,9,  -999.00,  -999.00,9,  -999.00, -999.000,9, -999.000, -999.000,9, -999.000,9, -999.000,9,   -999.0,9,   -999.0,9,-999.0000,-999,9,  -999.00,9,  -999.00,   -999.0,9,   -999.0,-999.0000,-999.0000
  49NZ20090521,   P21,   216,  1,     36, X12043,2,20090605,1814,-18.4145, 179.6685, 3193,     10.2,2,  26.6280,2,  26.62876,2,  34.9984,2,  34.9960,2,   201.37,2,   201.38,2,     0.74,2,     0.12,     0.07,2,     0.03,     0.01,2,     0.01,    0.057,2,    0.031,    1.520,2,    0.947,2, -999.000,5,   1944.8,2,   2294.0,2,   8.1308,  25,6,  -999.00,9,  -999.00,   -999.0,9,   -999.0,  26.6257,  22.8356
  49NZ20090521,   P21,   216,  1,     35, X12042,2,20090605,1814,-18.4145, 179.6685, 3193,     50.0,2,  26.6180,2,  26.61807,2,  34.9944,2,  34.9943,2,   200.96,2,   201.16,2,     0.69,2,     0.12,     0.07,2,     0.03,     0.01,2,     0.01,    0.057,2,    0.031,    1.517,2,    0.931,2, -999.000,5,   1944.9,6,   2293.6,2,   8.1306,  25,2,  -999.00,9,  -999.00,   -999.0,9,   -999.0,  26.6067,  22.8386
  49NZ20090521,   P21,   216,  1,     34, X12016,2,20090605,1814,-18.4145, 179.6685, 3193,    100.7,2,  24.4802,2,  24.47535,2,  35.4202,2,  35.4222,2,   182.54,2,   182.63,2,     0.69,2,     0.12,     1.07,2,     0.04,     0.05,2,     0.01,    0.210,2,    0.016,    1.750,6,    1.055,6,    0.184,4,   2010.4,2,   2323.9,6,   8.0636,  25,2,  -999.00,9,  -999.00,   -999.0,9,   -999.0,  24.4587,  23.8226
  49NZ20090521,   P21,   216,  1,     33, X12015,2,20090605,1814,-18.4145, 179.6685, 3193,    150.8,2,  22.8954,2,  22.90064,2,  35.7163,2,  35.7166,2,   166.20,2,   165.57,2,     0.76,2,     0.12,     2.86,2,     0.04,     0.03,2,     0.01,    0.367,2,    0.014,    1.879,2,    1.109,2,    0.094,2,   2057.7,2,   2344.1,2,   8.0099,  25,6,  -999.00,9,  -999.00,   -999.0,9,   -999.0,  22.8646,  24.5161
  49NZ20090521,   P21,   216,  1,     32, X12050,2,20090605,1814,-18.4145, 179.6685, 3193,    200.2,2,  21.5147,2,  21.52035,2,  35.7634,2,  35.7592,2,   163.63,2,   163.88,2,     0.92,2,     0.12,     3.93,2,     0.04,     0.02,2,     0.01,    0.457,2,    0.013,    2.200,2,    1.223,2,    0.022,2,   2080.8,2,   2348.2,2,   7.9778,  25,2,  -999.00,9,  -999.00,   -999.0,9,   -999.0,  21.4755,  24.9444
  49NZ20090521,   P21,   216,  1,     31, X12014,2,20090605,1814,-18.4145, 179.6685, 3193,    249.8,2,  19.4566,2,  19.45897,2,  35.5986,2,  35.5930,6,   169.12,2,   169.23,2,     1.31,2,     0.12,     5.19,2,     0.05,     0.02,2,     0.01,    0.528,2,    0.013,    2.137,2,    1.206,2,    0.028,2,   2088.4,2,   2336.9,2,   7.9459,  25,2,  -999.00,9,  -999.00,   -999.0,9,   -999.0,  19.4111,  25.3728
  49NZ20090521,   P21,   216,  1,     30, X12012,2,20090605,1814,-18.4145, 179.6685, 3193,    279.8,2,  18.2572,2,  18.26940,2,  35.4878,2,  35.4890,2,   172.03,2,   172.16,2,     1.57,2,     0.12,     6.04,2,     0.05,     0.02,2,     0.01,    0.572,2,    0.013,    2.004,2,    1.152,2,    0.055,2,   2093.7,2,   2330.0,2,   7.9289,  25,2,  -999.00,9,  -999.00,   -999.0,9,   -999.0,  18.2084,  25.5940
  49NZ20090521,   P21,   216,  1,     29, X12041,2,20090605,1814,-18.4145, 179.6685, 3193,    369.8,2,  14.6325,2,  14.63410,2,  35.1073,2,  35.1057,2,   171.94,2,   172.26,2,     3.80,2,     0.13,    10.90,2,     0.06,     0.02,2,     0.01,    0.918,2,    0.013,    2.197,6,    1.162,6,    0.028,6,   2116.9,2,   2311.0,2,   7.8478,  25,2,  -999.00,9,  -999.00,   -999.0,9,   -999.0,  14.5771,  26.1469
  49NZ20090521,   P21,   216,  1,     28, X12040,2,20090605,1814,-18.4145, 179.6685, 3193,    469.8,2,  10.5928,2,  10.58966,2,  34.6975,2,  34.6988,6,   176.53,2,   176.56,2,     7.61,2,     0.14,    18.29,2,     0.08,     0.01,2,     0.01,    1.387,2,    0.014,    1.913,2,    0.955,2,    0.039,2,   2144.2,2,   2292.8,2,   7.7512,  25,2,  -999.00,9,  -999.00,   -999.0,9,   -999.0,  10.5357,  26.6228
  49NZ20090521,   P21,   216,  1,     27, X12009,2,20090605,1814,-18.4145, 179.6685, 3193,    571.1,2,   8.0870,2,   8.08909,2,  34.4959,2,  34.4958,2,   189.02,2,   189.04,2,    12.04,2,     0.15,    23.41,2,     0.10,     0.01,2,     0.01,    1.687,2,    0.014,    1.586,6,    0.766,6,    0.032,6,   2160.1,2,   2287.7,2,   7.7024,  25,2,  -999.00,9,  -999.00,   -999.0,9,   -999.0,   8.0279,  26.8737
  49NZ20090521,   P21,   216,  1,     26, X12008,2,20090605,1814,-18.4145, 179.6685, 3193,    669.9,2,   6.1477,2,   6.14630,2,  34.3918,2,  34.3914,2,   193.63,2,   193.92,2,    20.78,2,     0.16,    27.80,2,     0.11,     0.01,2,     0.01,    1.952,2,    0.015,    0.908,2,    0.434,2,    0.023,2,   2177.1,6,   2291.9,2,   7.6656,  25,2,  -999.00,9,  -999.00,   -999.0,9,   -999.0,   6.0877,  27.0609
  49NZ20090521,   P21,   216,  1,     25, X12007,2,20090605,1814,-18.4145, 179.6685, 3193,    771.6,2,   5.3594,2,   5.35757,2,  34.3942,2,  34.3943,2,   184.97,2,   185.22,2,    31.18,2,     0.19,    29.96,2,     0.12,     0.01,2,     0.01,    2.103,2,    0.015,    0.543,2,    0.260,2,    0.008,2,   2193.6,2,   2300.9,6,   7.6424,  25,2,  -999.00,9,  -999.00,   -999.0,9,   -999.0,   5.2944,  27.1605
  49NZ20090521,   P21,   216,  1,     24, X12035,2,20090605,1814,-18.4145, 179.6685, 3193,    871.0,2,   4.6199,2,   4.62042,2,  34.4268,2,  34.4269,2,   173.82,2,   173.92,2,    45.47,2,     0.22,    31.95,2,     0.12,     0.01,2,     0.01,    2.246,2,    0.016,    0.282,2,    0.137,2,    0.008,2,   2216.9,2,   2316.2,2,   7.6198,  25,2,  -999.00,9,  -999.00,   -999.0,9,   -999.0,   4.5508,  27.2714
  49NZ20090521,   P21,   216,  1,     23, X12038,2,20090605,1814,-18.4145, 179.6685, 3193,    970.0,2,   4.1537,2,   4.15371,2,  34.4544,2,  34.4545,6,   167.16,2,   167.21,2,    55.70,2,     0.24,    33.01,2,     0.13,     0.01,2,     0.01,    2.321,2,    0.016,    0.159,2,    0.079,2,    0.009,2,   2234.5,2,   2327.5,2,   7.6069,  25,2,  -999.00,9,  -999.00,   -999.0,9,   -999.0,   4.0795,  27.3438
  49NZ20090521,   P21,   216,  1,     22, X12034,2,20090605,1814,-18.4145, 179.6685, 3193,   1129.2,2,   3.6861,2,   3.68622,2,  34.4937,2,  34.4941,2,   159.11,2,   159.37,2,    68.65,2,     0.27,    34.10,2,     0.13,     0.01,2,     0.01,    2.401,2,    0.016,    0.072,2,    0.035,2,    0.000,2,   2252.2,2,   2342.4,2,   7.5952,  25,2,  -999.00,9,  -999.00,   -999.0,9,   -999.0,   3.6023,  27.4237
  49NZ20090521,   P21,   216,  1,     21, X12033,2,20090605,1814,-18.4145, 179.6685, 3193,   1330.3,2,   3.1642,2,   3.16436,2,  34.5449,2,  34.5453,2,   151.23,2,   151.61,2,    84.70,2,     0.31,    35.06,2,     0.13,     0.01,2,     0.01,    2.474,2,    0.016,    0.022,2,    0.010,2,    0.000,2,   2273.4,2,   2360.5,2,   7.5840,  25,2,  -999.00,9,  -999.00,   -999.0,9,   -999.0,   3.0687,  27.5155
  49NZ20090521,   P21,   216,  1,     20, X12032,2,20090605,1814,-18.4145, 179.6685, 3193,   1531.1,2,   2.7960,2,   2.79595,2,  34.5812,2,  34.5817,6,   148.62,2,   148.85,2,    96.08,2,     0.33,    35.51,2,     0.13,     0.01,2,     0.01,    2.500,2,    0.016,    0.008,2,    0.004,2,    0.000,2,   2289.1,2,   2374.0,2,   7.5823,  25,6,  -999.00,9,  -999.00,   -999.0,9,   -999.0,   2.6879,  27.5788
  49NZ20090521,   P21,   216,  1,     19, X12046,2,20090605,1814,-18.4145, 179.6685, 3193,   1730.9,2,   2.5680,2,   2.56800,2,  34.6039,2,  34.6036,2,   148.26,2,   148.56,2,   102.53,2,     0.34,    35.51,2,     0.13,     0.01,2,     0.01,    2.507,2,    0.016,    0.003,2,    0.002,2,    0.000,2,   2295.1,2,   2381.7,2,   7.5830,  25,2,  -999.00,9,  -999.00,   -999.0,9,   -999.0,   2.4461,  27.6178
  49NZ20090521,   P21,   216,  1,     18, X12006,2,20090605,1814,-18.4145, 179.6685, 3193,   1930.7,2,   2.3345,2,   2.33462,2,  34.6269,2,  34.6276,2,   148.69,2,   148.91,2,   108.69,2,     0.36,    35.57,2,     0.13,     0.01,2,     0.01,    2.512,2,    0.016,    0.003,2,    0.001,2,    0.000,2,   2300.9,2,   2390.1,2,   7.5853,  25,2,  -999.00,9,  -999.00,   -999.0,9,   -999.0,   2.1989,  27.6568
  49NZ20090521,   P21,   216,  1,     17, X12047,2,20090605,1814,-18.4145, 179.6685, 3193,   2130.4,2,   2.1872,2,   2.18733,2,  34.6417,2,  34.6422,2,   149.19,2,   149.46,2,   112.67,2,     0.37,    35.60,2,     0.13,     0.01,2,     0.01,    2.515,2,    0.016,    0.000,2,    0.000,2,    0.000,2,   2304.9,2,   2395.2,2,   7.5861,  25,2,  -999.00,9,  -999.00,   -999.0,9,   -999.0,   2.0367,  27.6817
  49NZ20090521,   P21,   216,  1,     16, X12004,2,20090605,1814,-18.4145, 179.6685, 3193,   2329.9,2,   2.0812,2,   2.08117,2,  34.6524,2,  34.6527,6,   150.09,2,   150.37,2,   115.51,2,     0.37,    35.56,2,     0.13,     0.01,2,     0.01,    2.510,2,    0.016,    0.000,2,    0.000,2,    0.000,2,   2305.7,2,   2397.1,2,   7.5876,  25,2,  -999.00,9,  -999.00,   -999.0,9,   -999.0,   1.9148,  27.6999
  49NZ20090521,   P21,   216,  1,     15, X12003,2,20090605,1814,-18.4145, 179.6685, 3193,   2531.0,2,   1.9903,2,   1.99018,2,  34.6616,2,  34.6619,2,   151.12,2,   151.39,2,   117.68,2,     0.38,    35.56,2,     0.13,     0.01,2,     0.01,    2.506,2,    0.016,    0.001,2,    0.000,2,    0.000,2,   2308.1,2,   2400.0,6,   7.5893,  25,2,  -999.00,9,  -999.00,   -999.0,9,   -999.0,   1.8073,  27.7156
  49NZ20090521,   P21,   216,  1,     14, X12002,2,20090605,1814,-18.4145, 179.6685, 3193,   2731.9,2,   1.8904,2,   1.89019,2,  34.6712,2,  34.6715,2,   152.41,2,   152.71,2,   119.96,2,     0.38,    35.48,2,     0.13,     0.01,2,     0.01,    2.501,2,    0.016,    0.000,2,    0.000,2,    0.000,2,   2310.1,2,   2402.6,2,   7.5907,  25,6,  -999.00,9,  -999.00,   -999.0,9,   -999.0,   1.6907,  27.7321
  49NZ20090521,   P21,   216,  1,     13, X12001,2,20090605,1814,-18.4145, 179.6685, 3193,   2931.6,2,   1.8393,2,   1.83934,2,  34.6766,2,  34.6771,2,   152.96,2,   153.30,2,   121.65,2,     0.39,    35.49,2,     0.13,     0.01,2,     0.01,    2.495,2,    0.016,    0.001,2,    0.000,2,    0.000,2,   2311.8,2,   2404.7,2,   7.5921,  25,2,  -999.00,9,  -999.00,   -999.0,9,   -999.0,   1.6217,  27.7416
  49NZ20090521,   P21,   216,  1,     12, X12030,2,20090605,1814,-18.4145, 179.6685, 3193,   3169.0,2,   1.8236,2,   1.82350,2,  34.6796,2,  34.6798,2,   153.44,2,   153.69,2,   122.51,2,     0.39,    35.42,2,     0.13,     0.01,2,     0.01,    2.498,2,    0.016,    0.000,2,    0.000,2,    0.000,2,   2312.6,2,   2405.9,2,   7.5927,  25,2,  -999.00,9,  -999.00,   -999.0,9,   -999.0,   1.5830,  27.7469
  49NZ20090521,   P21,   216,  1,     11, X12044,9,20090605,1814,-18.4145, 179.6685, 3193,     10.2,2,  26.6268,2,  26.63737,2,  34.9996,2,-999.0000,9,   201.22,2,  -999.00,9,  -999.00,9,  -999.00,  -999.00,9,  -999.00,  -999.00,9,  -999.00, -999.000,9, -999.000, -999.000,9, -999.000,9, -999.000,9,   -999.0,9,   -999.0,9,-999.0000,-999,9,  -999.00,9,  -999.00,   -999.0,9,   -999.0,  26.6245,  22.8368
  49NZ20090521,   P21,   216,  1,     10, X12048,9,20090605,1814,-18.4145, 179.6685, 3193,     50.7,2,  26.6281,2,  26.62614,2,  34.9977,2,-999.0000,9,   200.99,2,  -999.00,9,  -999.00,9,  -999.00,  -999.00,9,  -999.00,  -999.00,9,  -999.00, -999.000,9, -999.000, -999.000,9, -999.000,9, -999.000,9,   -999.0,9,   -999.0,9,-999.0000,-999,9,  -999.00,9,  -999.00,   -999.0,9,   -999.0,  26.6166,  22.8379
  49NZ20090521,   P21,   216,  1,      9, X12027,9,20090605,1814,-18.4145, 179.6685, 3193,    100.4,2,  24.4862,2,  24.49009,2,  35.4184,2,-999.0000,9,   183.45,2,  -999.00,9,  -999.00,9,  -999.00,  -999.00,9,  -999.00,  -999.00,9,  -999.00, -999.000,9, -999.000, -999.000,9, -999.000,9, -999.000,9,   -999.0,9,   -999.0,9,-999.0000,-999,9,  -999.00,9,  -999.00,   -999.0,9,   -999.0,  24.4647,  23.8194
  49NZ20090521,   P21,   216,  1,      8, X12026,9,20090605,1814,-18.4145, 179.6685, 3193,   1330.2,2,   3.1647,2,   3.16473,2,  34.5448,2,-999.0000,9,   151.24,2,  -999.00,9,  -999.00,9,  -999.00,  -999.00,9,  -999.00,  -999.00,9,  -999.00, -999.000,9, -999.000, -999.000,9, -999.000,9, -999.000,9,   -999.0,9,   -999.0,9,-999.0000,-999,9,  -999.00,9,  -999.00,   -999.0,9,   -999.0,   3.0692,  27.5154
  49NZ20090521,   P21,   216,  1,      7, X12025,2,20090605,1814,-18.4145, 179.6685, 3193,     10.1,2,  26.6371,2,  26.63867,2,  34.9987,2,-999.0000,9,   201.32,2,  -999.00,9,     0.58,2,     0.12,     0.07,2,     0.03,     0.01,2,     0.01,    0.049,2,    0.035, -999.000,9, -999.000,9, -999.000,9,   -999.0,9,   -999.0,9,-999.0000,-999,9,  -999.00,9,  -999.00,   -999.0,9,   -999.0,  26.6348,  22.8329
  49NZ20090521,   P21,   216,  1,      6, X12024,2,20090605,1814,-18.4145, 179.6685, 3193,     49.9,2,  26.6265,2,  26.62830,2,  34.9979,2,-999.0000,9,   201.00,2,  -999.00,9,     0.63,2,     0.12,     0.08,2,     0.03,     0.02,2,     0.01,    0.049,2,    0.035, -999.000,9, -999.000,9, -999.000,9,   -999.0,9,   -999.0,9,-999.0000,-999,9,  -999.00,9,  -999.00,   -999.0,9,   -999.0,  26.6152,  22.8385
  49NZ20090521,   P21,   216,  1,      5, X12028,2,20090605,1814,-18.4145, 179.6685, 3193,    100.4,2,  24.4970,2,  24.49645,2,  35.4163,2,-999.0000,9,   183.75,2,  -999.00,9,     0.63,2,     0.12,     1.16,2,     0.04,     0.05,2,     0.01,    0.205,2,    0.016, -999.000,9, -999.000,9, -999.000,9,   -999.0,9,   -999.0,9,-999.0000,-999,9,  -999.00,9,  -999.00,   -999.0,9,   -999.0,  24.4755,  23.8145
  49NZ20090521,   P21,   216,  1,      4, X12022,2,20090605,1814,-18.4145, 179.6685, 3193,    150.7,2,  22.9042,2,  22.89887,2,  35.7152,2,-999.0000,9,   165.77,2,  -999.00,9,     0.73,2,     0.12,     2.90,2,     0.04,     0.03,2,     0.01,    0.370,2,    0.014, -999.000,9, -999.000,9, -999.000,9,   -999.0,9,   -999.0,9,-999.0000,-999,9,  -999.00,9,  -999.00,   -999.0,9,   -999.0,  22.8734,  24.5127
  49NZ20090521,   P21,   216,  1,      3, X12021,2,20090605,1814,-18.4145, 179.6685, 3193,    199.6,2,  21.4862,2,  21.48880,2,  35.7624,2,-999.0000,9,   163.80,2,  -999.00,9,     1.19,2,     0.12,     4.00,2,     0.04,     0.02,2,     0.01,    0.456,2,    0.013, -999.000,9, -999.000,9, -999.000,9,   -999.0,9,   -999.0,9,-999.0000,-999,9,  -999.00,9,  -999.00,   -999.0,9,   -999.0,  21.4472,  24.9515
  49NZ20090521,   P21,   216,  1,      2, X12020,2,20090605,1814,-18.4145, 179.6685, 3193,    249.5,2,  19.4124,2,  19.40529,2,  35.5953,2,-999.0000,9,   169.33,2,  -999.00,9,     1.61,2,     0.12,     5.32,2,     0.05,     0.02,2,     0.01,    0.520,2,    0.013, -999.000,9, -999.000,9, -999.000,9,   -999.0,9,   -999.0,9,-999.0000,-999,9,  -999.00,9,  -999.00,   -999.0,9,   -999.0,  19.3670,  25.3817
  49NZ20090521,   P21,   216,  1,      1, X12019,2,20090605,1814,-18.4145, 179.6685, 3193,   3228.7,2,   1.8276,2,   1.82746,2,  34.6797,2,  34.6801,6,   153.51,2,   153.64,2,   122.80,2,     0.39,    35.48,2,     0.13,     0.01,2,     0.01,    2.500,2,    0.016,    0.000,2,    0.000,2,    0.000,2,   2312.5,2,   2405.8,2,   7.5936,  25,2,  -999.00,9,  -999.00,   -999.0,9,   -999.0,   1.5810,  27.7472