BOTTLE,20111109CCHDOSIOCBG
EXPOCODE,SECT_ID,STNNBR,CASTNO,SAMPNO,BTLNBR,BTLNBR_FLAG_W,DATE,TIME,LATITUDE,LONGITUDE,DEPTH,CTDPRS,CTDPRS_FLAG_W,CTDTMP,CTDTMP_FLAG_W,SBE35,SBE35_FLAG_W,CTDSAL,CTDSAL_FLAG_W,SALNTY,SALNTY_FLAG_W,CTDOXY,CTDOXY_FLAG_W,OXYGEN,OXYGEN_FLAG_W,SILCAT,SILCAT_FLAG_W,SILUNC,NITRAT,NITRAT_FLAG_W,NRAUNC,NITRIT,NITRIT_FLAG_W,NRIUNC,PHSPHT,PHSPHT_FLAG_W,PHPUNC,CFC-11,CFC-11_FLAG_W,CFC-12,CFC-12_FLAG_W,CFC113,CFC113_FLAG_W,TCARBN,TCARBN_FLAG_W,ALKALI,ALKALI_FLAG_W,PH_TOT,PH_TMP,PH_TOT_FLAG_W,DELC13,DELC13_FLAG_W,C13ERR,DELC14,DELC14_FLAG_W,C14ERR,THETA,SIG0
,,,,,,,,,,,METERS,DBAR,,ITS-90,,ITS-90,,PSS-78,,PSS-78,,UMOL/KG,,UMOL/KG,,UMOL/KG,,UMOL/KG,UMOL/KG,,UMOL/KG,UMOL/KG,,UMOL/KG,UMOL/KG,,UMOL/KG,PMOL/KG,,PMOL/KG,,PMOL/KG,,UMOL/KG,,UMOL/KG,,,DEG C,,/MILLE,,/MILLE,/MILLE,,/MILLE,DEG C,KG/M^3
  49NZ20090521,   P21,   229,  1,      0,   -999,9,20090607,2116,-17.8305, 173.6652, 2661,   -999.0,9,-999.0000,9,-999.00000,9,-999.0000,9,  34.7510,2,  -999.00,9,  -999.00,9,  -999.00,9,  -999.00,  -999.00,9,  -999.00,  -999.00,9,  -999.00, -999.000,9, -999.000, -999.000,9, -999.000,9, -999.000,9,   -999.0,9,   -999.0,9,-999.0000,-999,9,  -999.00,9,  -999.00,   -999.0,9,   -999.0,-999.0000,-999.0000
  49NZ20090521,   P21,   229,  1,     36, X12043,2,20090607,2116,-17.8305, 173.6652, 2661,     10.5,2,  26.7046,2,  26.70463,2,  34.7424,2,  34.7404,2,   200.89,2,   200.78,2,     0.50,2,     0.12,     0.07,2,     0.03,     0.01,2,     0.01,    0.077,2,    0.026,    1.498,2,    0.967,2, -999.000,5,   1930.9,2,   2282.8,2,   8.1376,  25,6,  -999.00,9,  -999.00,   -999.0,9,   -999.0,  26.7022,  22.6184
  49NZ20090521,   P21,   229,  1,     35, X12042,2,20090607,2116,-17.8305, 173.6652, 2661,     51.0,2,  26.7038,2,  26.70342,2,  34.7413,2,  34.7406,2,   200.52,2,   200.75,2,     0.48,2,     0.12,     0.07,2,     0.03,     0.01,2,     0.01,    0.076,2,    0.026,    1.495,2,    0.962,2, -999.000,5,   1931.2,6,   2281.3,2,   8.1366,  25,2,  -999.00,9,  -999.00,   -999.0,9,   -999.0,  26.6922,  22.6207
  49NZ20090521,   P21,   229,  1,     34, X12016,2,20090607,2116,-17.8305, 173.6652, 2661,    101.8,2,  24.6481,2,  24.64787,2,  35.3588,2,  35.3577,2,   180.92,2,   180.75,2,     0.63,2,     0.12,     0.90,2,     0.04,     0.11,2,     0.01,    0.221,2,    0.015,    1.722,6,    1.075,6, -999.000,5,   2009.9,2,   2320.3,6,   8.0565,  25,2,  -999.00,9,  -999.00,   -999.0,9,   -999.0,  24.6262,  23.7257
  49NZ20090521,   P21,   229,  1,     33, X12015,2,20090607,2116,-17.8305, 173.6652, 2661,    150.7,2,  23.0593,2,  23.05710,2,  35.7067,2,  35.7044,2,   156.36,2,   156.83,2,     0.78,2,     0.12,     3.74,2,     0.04,     0.03,2,     0.01,    0.425,2,    0.013,    1.841,2,    1.124,2,    0.081,2,   2061.7,2,   2343.4,2,   7.9995,  25,2,  -999.00,9,  -999.00,   -999.0,9,   -999.0,  23.0284,  24.4615
  49NZ20090521,   P21,   229,  1,     32, X12050,2,20090607,2116,-17.8305, 173.6652, 2661,    201.2,2,  20.7964,2,  20.80059,2,  35.6808,2,  35.6794,2,   162.79,2,   162.44,2,     0.95,2,     0.12,     4.73,2,     0.05,     0.02,2,     0.01,    0.478,2,    0.013,    2.016,2,    1.193,2,    0.035,2,   2078.1,2,   2341.6,2,   7.9663,  25,2,  -999.00,9,  -999.00,   -999.0,9,   -999.0,  20.7580,  25.0782
  49NZ20090521,   P21,   229,  1,     31, X12014,2,20090607,2116,-17.8305, 173.6652, 2661,    251.2,2,  19.0832,2,  19.08850,2,  35.5586,2,  35.5583,6,   168.90,2,   168.68,2,     1.28,2,     0.12,     5.59,2,     0.05,     0.02,2,     0.01,    0.530,2,    0.013,    2.136,2,    1.242,2,    0.025,2,   2087.6,2,   2333.8,2,   7.9411,  25,2,  -999.00,9,  -999.00,   -999.0,9,   -999.0,  19.0381,  25.4385
  49NZ20090521,   P21,   229,  1,     30, X12012,2,20090607,2116,-17.8305, 173.6652, 2661,    281.0,2,  17.5936,2,  17.61132,2,  35.4317,2,  35.4308,2,   173.55,2,   173.39,2,     1.70,2,     0.12,     6.71,2,     0.05,     0.02,2,     0.01,    0.620,2,    0.013,    2.193,2,    1.249,2,    0.018,2,   2093.7,2,   2326.9,2,   7.9180,  25,2,  -999.00,9,  -999.00,   -999.0,9,   -999.0,  17.5459,  25.7142
  49NZ20090521,   P21,   229,  1,     29, X12041,2,20090607,2116,-17.8305, 173.6652, 2661,    370.8,2,  13.9661,2,  13.96968,2,  35.1296,2,  35.1285,2,   184.65,2,   184.26,2,     3.28,2,     0.13,    11.00,2,     0.06,     0.01,2,     0.01,    0.873,2,    0.013,    2.246,6,    1.233,6,    0.023,6,   2112.6,2,   2309.6,2,   7.8505,  25,2,  -999.00,9,  -999.00,   -999.0,9,   -999.0,  13.9122,  26.3058
  49NZ20090521,   P21,   229,  1,     28, X12040,2,20090607,2116,-17.8305, 173.6652, 2661,    469.6,2,  10.2495,2,  10.25509,2,  34.7315,2,  34.7309,6,   192.60,2,   192.43,2,     6.53,2,     0.13,    17.84,2,     0.08,     0.01,2,     0.01,    1.304,2,    0.014,    2.136,2,    1.110,2,    0.043,2,   2137.2,2,   2294.1,2,   7.7655,  25,2,  -999.00,9,  -999.00,   -999.0,9,   -999.0,  10.1936,  26.7091
  49NZ20090521,   P21,   229,  1,     27, X12009,2,20090607,2116,-17.8305, 173.6652, 2661,    570.2,2,   7.4996,2,   7.50169,2,  34.4603,2,  34.4602,2,   204.26,2,   203.77,2,    11.31,2,     0.14,    23.54,2,     0.10,     0.01,2,     0.01,    1.668,2,    0.014,    1.669,6,    0.836,6,    0.029,6,   2154.4,2,   2285.4,2,   7.7101,  25,2,  -999.00,9,  -999.00,   -999.0,9,   -999.0,   7.4431,  26.9313
  49NZ20090521,   P21,   229,  1,     26, X12008,2,20090607,2116,-17.8305, 173.6652, 2661,    669.4,2,   6.1742,2,   6.17175,2,  34.3880,2,  34.3864,2,   198.46,2,   198.24,2,    19.43,2,     0.16,    27.35,2,     0.11,     0.01,2,     0.01,    1.924,2,    0.015,    0.962,2,    0.483,2,    0.011,2,   2173.3,6,   2290.7,2,   7.6726,  25,2,  -999.00,9,  -999.00,   -999.0,9,   -999.0,   6.1142,  27.0545
  49NZ20090521,   P21,   229,  1,     25, X12007,2,20090607,2116,-17.8305, 173.6652, 2661,    769.8,2,   5.3289,2,   5.32828,2,  34.3937,2,  34.3934,2,   181.84,2,   181.57,2,    31.16,2,     0.19,    30.41,2,     0.12,     0.01,2,     0.01,    2.136,2,    0.015,    0.441,2,    0.224,2,    0.009,2,   2196.6,2,   2301.6,6,   7.6358,  25,2,  -999.00,9,  -999.00,   -999.0,9,   -999.0,   5.2642,  27.1637
  49NZ20090521,   P21,   229,  1,     24, X12035,2,20090607,2116,-17.8305, 173.6652, 2661,    871.4,2,   4.7126,2,   4.71283,2,  34.4149,2,  34.4149,2,   172.28,2,   171.87,2,    42.39,2,     0.21,    32.13,2,     0.12,     0.01,2,     0.01,    2.247,2,    0.016,    0.221,2,    0.116,2,    0.005,2,   2215.0,2,   2312.7,2,   7.6151,  25,6,  -999.00,9,  -999.00,   -999.0,9,   -999.0,   4.6429,  27.2518
  49NZ20090521,   P21,   229,  1,     23, X12038,2,20090607,2116,-17.8305, 173.6652, 2661,    971.2,2,   4.2182,2,   4.21816,2,  34.4452,2,  34.4451,6,   164.58,2,   164.38,2,    53.20,2,     0.24,    33.41,2,     0.13,     0.01,2,     0.01,    2.340,2,    0.016,    0.110,2,    0.060,2,    0.000,2,   2232.2,2,   2324.9,2,   7.6003,  25,2,  -999.00,9,  -999.00,   -999.0,9,   -999.0,   4.1434,  27.3298
  49NZ20090521,   P21,   229,  1,     22, X12034,2,20090607,2116,-17.8305, 173.6652, 2661,   1129.9,2,   3.7251,2,   3.72520,2,  34.4888,2,  34.4887,2,   156.87,2,   156.53,2,    67.36,2,     0.27,    34.38,2,     0.13,     0.01,2,     0.01,    2.414,2,    0.016,    0.047,2,    0.023,2,    0.000,2,   2251.1,2,   2340.1,2,   7.5888,  25,2,  -999.00,9,  -999.00,   -999.0,9,   -999.0,   3.6409,  27.4159
  49NZ20090521,   P21,   229,  1,     21, X12033,2,20090607,2116,-17.8305, 173.6652, 2661,   1329.6,2,   3.2626,2,   3.26278,2,  34.5368,2,  34.5365,2,   149.72,2,   149.59,2,    82.60,2,     0.30,    35.23,2,     0.13,     0.01,2,     0.01,    2.481,2,    0.016,    0.015,2,    0.011,2,    0.000,2,   2270.5,2,   2357.1,2,   7.5802,  25,2,  -999.00,9,  -999.00,   -999.0,9,   -999.0,   3.1662,  27.4999
  49NZ20090521,   P21,   229,  1,     20, X12032,2,20090607,2116,-17.8305, 173.6652, 2661,   1529.3,2,   2.8651,2,   2.86530,2,  34.5761,2,  34.5764,2,   146.87,2,   146.60,2,    95.34,2,     0.33,    35.57,2,     0.13,     0.01,2,     0.01,    2.504,2,    0.016,    0.003,2,    0.004,2,    0.000,2,   2285.5,2,   2372.0,2,   7.5778,  25,6,  -999.00,9,  -999.00,   -999.0,9,   -999.0,   2.7564,  27.5686
  49NZ20090521,   P21,   229,  1,     19, X12046,2,20090607,2116,-17.8305, 173.6652, 2661,   1730.6,2,   2.5403,2,   2.54031,2,  34.6057,2,  34.6058,2,   146.03,2,   145.77,2,   105.35,2,     0.35,    35.78,2,     0.13,     0.01,2,     0.01,    2.524,2,    0.016,    0.001,2,    0.002,2,    0.000,2,   2296.1,2,   2383.3,2,   7.5777,  25,2,  -999.00,9,  -999.00,   -999.0,9,   -999.0,   2.4188,  27.6215
  49NZ20090521,   P21,   229,  1,     18, X12006,2,20090607,2116,-17.8305, 173.6652, 2661,   1931.2,2,   2.3184,2,   2.31860,2,  34.6252,2,  34.6251,6,   145.94,2,   145.70,2,   111.84,2,     0.37,    35.88,2,     0.13,     0.01,2,     0.01,    2.527,2,    0.016,    0.000,2,    0.002,2,    0.000,2,   2303.8,2,   2390.5,2,   7.5788,  25,2,  -999.00,9,  -999.00,   -999.0,9,   -999.0,   2.1830,  27.6567
  49NZ20090521,   P21,   229,  1,     17, X12047,2,20090607,2116,-17.8305, 173.6652, 2661,   2132.5,2,   2.1241,2,   2.12421,2,  34.6413,2,  34.6412,2,   145.73,2,   145.39,2,   118.70,2,     0.38,    36.01,2,     0.13,     0.01,2,     0.01,    2.534,2,    0.016,    0.000,2,    0.000,2,    0.000,2,   2309.5,2,   2397.2,2,   7.5791,  25,2,  -999.00,9,  -999.00,   -999.0,9,   -999.0,   1.9744,  27.6863
  49NZ20090521,   P21,   229,  1,     16, X12004,2,20090607,2116,-17.8305, 173.6652, 2661,   2330.0,2,   2.0424,2,   2.04233,2,  34.6485,2,  34.6490,2,   145.33,2,   145.08,2,   122.47,2,     0.39,    36.07,2,     0.13,     0.01,2,     0.01,    2.543,2,    0.016,    0.001,2,    0.001,2,    0.000,2,   2313.5,6,   2400.9,2,   7.5795,  25,2,  -999.00,9,  -999.00,   -999.0,9,   -999.0,   1.8767,  27.6997
  49NZ20090521,   P21,   229,  1,     15, X12003,2,20090607,2116,-17.8305, 173.6652, 2661,   2531.1,2,   1.9852,2,   1.98513,2,  34.6532,2,  34.6531,2,   144.95,2,   144.72,2,   124.84,2,     0.39,    36.22,2,     0.13,     0.01,2,     0.01,    2.543,2,    0.016,    0.000,2,    0.000,2,    0.000,2,   2316.0,2,   2404.3,6,   7.5786,  25,2,  -999.00,9,  -999.00,   -999.0,9,   -999.0,   1.8024,  27.7092
  49NZ20090521,   P21,   229,  1,     14, X12002,9,20090607,2116,-17.8305, 173.6652, 2661,     10.6,2,  26.7063,2,  26.70550,2,  34.7425,2,-999.0000,9,   200.91,2,  -999.00,9,  -999.00,9,  -999.00,  -999.00,9,  -999.00,  -999.00,9,  -999.00, -999.000,9, -999.000, -999.000,9, -999.000,9, -999.000,9,   -999.0,9,   -999.0,9,-999.0000,-999,9,  -999.00,9,  -999.00,   -999.0,9,   -999.0,  26.7039,  22.6180
  49NZ20090521,   P21,   229,  1,     13, X12001,9,20090607,2116,-17.8305, 173.6652, 2661,     10.5,2,  26.7088,2,  26.70854,2,  34.7426,2,-999.0000,9,   200.90,2,  -999.00,9,  -999.00,9,  -999.00,  -999.00,9,  -999.00,  -999.00,9,  -999.00, -999.000,9, -999.000, -999.000,9, -999.000,9, -999.000,9,   -999.0,9,   -999.0,9,-999.0000,-999,9,  -999.00,9,  -999.00,   -999.0,9,   -999.0,  26.7064,  22.6172
  49NZ20090521,   P21,   229,  1,     12, X12030,9,20090607,2116,-17.8305, 173.6652, 2661,     51.1,2,  26.7052,2,  26.70460,2,  34.7414,2,-999.0000,9,   200.45,2,  -999.00,9,  -999.00,9,  -999.00,  -999.00,9,  -999.00,  -999.00,9,  -999.00, -999.000,9, -999.000, -999.000,9, -999.000,9, -999.000,9,   -999.0,9,   -999.0,9,-999.0000,-999,9,  -999.00,9,  -999.00,   -999.0,9,   -999.0,  26.6936,  22.6204
  49NZ20090521,   P21,   229,  1,     11, X12044,9,20090607,2116,-17.8305, 173.6652, 2661,    102.0,2,  24.6460,2,  24.64588,2,  35.3597,2,-999.0000,9,   180.96,2,  -999.00,9,  -999.00,9,  -999.00,  -999.00,9,  -999.00,  -999.00,9,  -999.00, -999.000,9, -999.000, -999.000,9, -999.000,9, -999.000,9,   -999.0,9,   -999.0,9,-999.0000,-999,9,  -999.00,9,  -999.00,   -999.0,9,   -999.0,  24.6241,  23.7270
  49NZ20090521,   P21,   229,  1,     10, X12048,9,20090607,2116,-17.8305, 173.6652, 2661,    151.0,2,  23.0586,2,  23.06034,2,  35.7090,2,-999.0000,9,   156.58,2,  -999.00,9,  -999.00,9,  -999.00,  -999.00,9,  -999.00,  -999.00,9,  -999.00, -999.000,9, -999.000, -999.000,9, -999.000,9, -999.000,9,   -999.0,9,   -999.0,9,-999.0000,-999,9,  -999.00,9,  -999.00,   -999.0,9,   -999.0,  23.0276,  24.4634
  49NZ20090521,   P21,   229,  1,      9, X12027,9,20090607,2116,-17.8305, 173.6652, 2661,    201.0,2,  20.7937,2,  20.79427,2,  35.6810,2,-999.0000,9,   162.80,2,  -999.00,9,  -999.00,9,  -999.00,  -999.00,9,  -999.00,  -999.00,9,  -999.00, -999.000,9, -999.000, -999.000,9, -999.000,9, -999.000,9,   -999.0,9,   -999.0,9,-999.0000,-999,9,  -999.00,9,  -999.00,   -999.0,9,   -999.0,  20.7553,  25.0790
  49NZ20090521,   P21,   229,  1,      8, X12026,9,20090607,2116,-17.8305, 173.6652, 2661,    251.1,2,  19.0827,2,  19.08548,2,  35.5588,2,-999.0000,9,   169.03,2,  -999.00,9,  -999.00,9,  -999.00,  -999.00,9,  -999.00,  -999.00,9,  -999.00, -999.000,9, -999.000, -999.000,9, -999.000,9, -999.000,9,   -999.0,9,   -999.0,9,-999.0000,-999,9,  -999.00,9,  -999.00,   -999.0,9,   -999.0,  19.0376,  25.4388
  49NZ20090521,   P21,   229,  1,      7, X12025,9,20090607,2116,-17.8305, 173.6652, 2661,    281.2,2,  17.5866,2,  17.59185,2,  35.4318,2,-999.0000,9,   173.67,2,  -999.00,9,  -999.00,9,  -999.00,  -999.00,9,  -999.00,  -999.00,9,  -999.00, -999.000,9, -999.000, -999.000,9, -999.000,9, -999.000,9,   -999.0,9,   -999.0,9,-999.0000,-999,9,  -999.00,9,  -999.00,   -999.0,9,   -999.0,  17.5388,  25.7160
  49NZ20090521,   P21,   229,  1,      6, X12024,9,20090607,2116,-17.8305, 173.6652, 2661,    371.1,2,  13.9587,2,  13.96373,2,  35.1298,2,-999.0000,9,   184.75,2,  -999.00,9,  -999.00,9,  -999.00,  -999.00,9,  -999.00,  -999.00,9,  -999.00, -999.000,9, -999.000, -999.000,9, -999.000,9, -999.000,9,   -999.0,9,   -999.0,9,-999.0000,-999,9,  -999.00,9,  -999.00,   -999.0,9,   -999.0,  13.9048,  26.3075
  49NZ20090521,   P21,   229,  1,      5, X12028,9,20090607,2116,-17.8305, 173.6652, 2661,    469.6,2,  10.2478,2,  10.25215,2,  34.7319,2,-999.0000,9,   192.85,2,  -999.00,9,  -999.00,9,  -999.00,  -999.00,9,  -999.00,  -999.00,9,  -999.00, -999.000,9, -999.000, -999.000,9, -999.000,9, -999.000,9,   -999.0,9,   -999.0,9,-999.0000,-999,9,  -999.00,9,  -999.00,   -999.0,9,   -999.0,  10.1919,  26.7096
  49NZ20090521,   P21,   229,  1,      4, X12022,9,20090607,2116,-17.8305, 173.6652, 2661,    570.4,2,   7.5083,2,   7.51126,2,  34.4613,2,-999.0000,9,   204.31,2,  -999.00,9,  -999.00,9,  -999.00,  -999.00,9,  -999.00,  -999.00,9,  -999.00, -999.000,9, -999.000, -999.000,9, -999.000,9, -999.000,9,   -999.0,9,   -999.0,9,-999.0000,-999,9,  -999.00,9,  -999.00,   -999.0,9,   -999.0,   7.4517,  26.9308
  49NZ20090521,   P21,   229,  1,      3, X12021,9,20090607,2116,-17.8305, 173.6652, 2661,    671.1,2,   6.1345,2,   6.13683,2,  34.3870,2,-999.0000,9,   198.61,2,  -999.00,9,  -999.00,9,  -999.00,  -999.00,9,  -999.00,  -999.00,9,  -999.00, -999.000,9, -999.000, -999.000,9, -999.000,9, -999.000,9,   -999.0,9,   -999.0,9,-999.0000,-999,9,  -999.00,9,  -999.00,   -999.0,9,   -999.0,   6.0745,  27.0588
  49NZ20090521,   P21,   229,  1,      2, X12020,9,20090607,2116,-17.8305, 173.6652, 2661,   1329.5,2,   3.2621,2,   3.26182,2,  34.5368,2,-999.0000,9,   149.75,2,  -999.00,9,  -999.00,9,  -999.00,  -999.00,9,  -999.00,  -999.00,9,  -999.00, -999.000,9, -999.000, -999.000,9, -999.000,9, -999.000,9,   -999.0,9,   -999.0,9,-999.0000,-999,9,  -999.00,9,  -999.00,   -999.0,9,   -999.0,   3.1657,  27.5000
  49NZ20090521,   P21,   229,  1,      1, X12019,2,20090607,2116,-17.8305, 173.6652, 2661,   2699.5,2,   1.9831,2,   1.98291,2,  34.6544,2,  34.6547,6,   144.72,2,   144.32,2,   125.41,2,     0.39,    36.13,2,     0.13,     0.01,2,     0.01,    2.547,2,    0.016,    0.009,2,    0.005,2,    0.000,2,   2317.2,2,   2404.7,2,   7.5788,  25,2,  -999.00,9,  -999.00,   -999.0,9,   -999.0,   1.7847,  27.7116