BOTTLE,20111109CCHDOSIOCBG
EXPOCODE,SECT_ID,STNNBR,CASTNO,SAMPNO,BTLNBR,BTLNBR_FLAG_W,DATE,TIME,LATITUDE,LONGITUDE,DEPTH,CTDPRS,CTDPRS_FLAG_W,CTDTMP,CTDTMP_FLAG_W,SBE35,SBE35_FLAG_W,CTDSAL,CTDSAL_FLAG_W,SALNTY,SALNTY_FLAG_W,CTDOXY,CTDOXY_FLAG_W,OXYGEN,OXYGEN_FLAG_W,SILCAT,SILCAT_FLAG_W,SILUNC,NITRAT,NITRAT_FLAG_W,NRAUNC,NITRIT,NITRIT_FLAG_W,NRIUNC,PHSPHT,PHSPHT_FLAG_W,PHPUNC,CFC-11,CFC-11_FLAG_W,CFC-12,CFC-12_FLAG_W,CFC113,CFC113_FLAG_W,TCARBN,TCARBN_FLAG_W,ALKALI,ALKALI_FLAG_W,PH_TOT,PH_TMP,PH_TOT_FLAG_W,DELC13,DELC13_FLAG_W,C13ERR,DELC14,DELC14_FLAG_W,C14ERR,THETA,SIG0
,,,,,,,,,,,METERS,DBAR,,ITS-90,,ITS-90,,PSS-78,,PSS-78,,UMOL/KG,,UMOL/KG,,UMOL/KG,,UMOL/KG,UMOL/KG,,UMOL/KG,UMOL/KG,,UMOL/KG,UMOL/KG,,UMOL/KG,PMOL/KG,,PMOL/KG,,PMOL/KG,,UMOL/KG,,UMOL/KG,,,DEG C,,/MILLE,,/MILLE,/MILLE,,/MILLE,DEG C,KG/M^3
  49NZ20090521,   P21,   273,  1,      0,   -999,9,20090615,0909,-22.9562, 159.0482, 2520,   -999.0,9,-999.0000,9,-999.00000,9,-999.0000,9,  35.1812,2,  -999.00,9,  -999.00,9,  -999.00,9,  -999.00,  -999.00,9,  -999.00,  -999.00,9,  -999.00, -999.000,9, -999.000, -999.000,9, -999.000,9, -999.000,9,   -999.0,9,   -999.0,9,-999.0000,-999,9,  -999.00,9,  -999.00,   -999.0,9,   -999.0,-999.0000,-999.0000
  49NZ20090521,   P21,   273,  1,     36, X12043,2,20090615,0909,-22.9562, 159.0482, 2520,     10.8,2,  23.7473,2,  23.74757,2,  35.1755,2,  35.1742,2,   210.07,2,   209.63,2,     0.68,2,     0.12,     0.08,2,     0.03,     0.01,2,     0.01,    0.097,2,    0.022,    1.691,2,    1.082,2, -999.000,5,   1976.8,2,   2302.8,2,   8.0870,  25,6,  -999.00,1,  -999.00,   -999.0,1,   -999.0,  23.7450,  23.8496
  49NZ20090521,   P21,   273,  1,     35, X12042,2,20090615,0909,-22.9562, 159.0482, 2520,     50.4,2,  23.7089,2,  23.70884,2,  35.1682,2,  35.1661,2,   209.95,2,   209.58,2,     0.65,2,     0.12,     0.08,2,     0.03,     0.01,2,     0.01,    0.092,2,    0.023,    1.692,2,    1.083,2, -999.000,5,   1975.9,6,   2303.2,2,   8.0882,  25,2,  -999.00,1,  -999.00,   -999.0,1,   -999.0,  23.6984,  23.8577
  49NZ20090521,   P21,   273,  1,     34, X12016,2,20090615,0909,-22.9562, 159.0482, 2520,    100.9,2,  23.3369,2,  23.33965,2,  35.3510,2,  35.3524,2,   208.12,2,   208.25,2,     0.65,2,     0.12,     0.12,2,     0.03,     0.03,2,     0.01,    0.102,2,    0.022,    1.725,6,    1.096,6, -999.000,5,   1992.9,2,   2316.0,6,   8.0777,  25,2,  -999.00,1,  -999.00,   -999.0,1,   -999.0,  23.3161,  24.1082
  49NZ20090521,   P21,   273,  1,     33, X12015,2,20090615,0909,-22.9562, 159.0482, 2520,    150.1,2,  21.1873,2,  21.18675,2,  35.6223,2,  35.6227,2,   179.77,2,   179.20,2,     1.12,2,     0.12,     3.35,2,     0.04,     0.03,2,     0.01,    0.351,2,    0.014,    1.956,2,    1.205,2, -999.000,5,   2052.0,2,   2332.2,2,   7.9962,  25,2,  -999.00,1,  -999.00,   -999.0,1,   -999.0,  21.1583,  24.9244
  49NZ20090521,   P21,   273,  1,     32, X12050,2,20090615,0909,-22.9562, 159.0482, 2520,    199.2,2,  19.5702,2,  19.58174,2,  35.6487,2,  35.6490,2,   184.76,2,   185.12,2,     1.28,2,     0.12,     4.16,2,     0.04,     0.02,2,     0.01,    0.391,2,    0.013,    2.053,2,    1.261,2,    0.082,2,   2063.6,2,   2333.9,2,   7.9793,  25,2,  -999.00,1,  -999.00,   -999.0,1,   -999.0,  19.5338,  25.3791
  49NZ20090521,   P21,   273,  1,     31, X12014,2,20090615,0909,-22.9562, 159.0482, 2520,    249.9,2,  18.6143,2,  18.61793,2,  35.6395,2,  35.6384,6,   191.60,2,   191.01,2,     1.36,2,     0.12,     4.61,2,     0.05,     0.02,2,     0.01,    0.415,2,    0.013,    2.124,2,    1.298,2,    0.061,2,   2066.6,2,   2332.7,2,   7.9700,  25,2,  -999.00,1,  -999.00,   -999.0,1,   -999.0,  18.5701,  25.6194
  49NZ20090521,   P21,   273,  1,     30, X12012,2,20090615,0909,-22.9562, 159.0482, 2520,    280.9,2,  17.7755,2,  17.77410,2,  35.5788,2,  35.5787,2,   184.06,2,   183.99,2,     1.89,2,     0.12,     6.17,2,     0.05,     0.02,2,     0.01,    0.518,2,    0.013,    2.174,2,    1.303,2,    0.047,2,   2082.2,2,   2330.2,2,   7.9413,  25,2,  -999.00,1,  -999.00,   -999.0,1,   -999.0,  17.7274,  25.7826
  49NZ20090521,   P21,   273,  1,     29, X12041,2,20090615,0909,-22.9562, 159.0482, 2520,    370.0,2,  15.5657,2,  15.56595,2,  35.3814,2,  35.3808,2,   184.12,2,   184.20,2,     2.70,2,     0.12,     9.15,2,     0.06,     0.01,2,     0.01,    0.718,2,    0.013,    2.259,6,    1.317,6,    0.046,6,   2101.9,2,   2321.4,2,   7.8898,  25,2,  -999.00,1,  -999.00,   -999.0,1,   -999.0,  15.5078,  26.1530
  49NZ20090521,   P21,   273,  1,     28, X12040,2,20090615,0909,-22.9562, 159.0482, 2520,    470.2,2,  12.3649,2,  12.36803,2,  35.0385,2,  35.0448,6,   189.46,2,   189.60,2,     5.05,2,     0.13,    14.11,2,     0.07,     0.01,2,     0.01,    1.033,2,    0.013,    2.253,2,    1.255,2,    0.057,2,   2125.2,2,   2306.3,2,   7.8168,  25,2,  -999.00,1,  -999.00,   -999.0,1,   -999.0,  12.3016,  26.5608
  49NZ20090521,   P21,   273,  1,     27, X12009,2,20090615,0909,-22.9562, 159.0482, 2520,    571.5,2,   9.0527,2,   9.05166,2,  34.6428,2,  34.6450,2,   197.42,2,   197.47,2,     9.45,2,     0.14,    20.45,2,     0.09,     0.01,2,     0.01,    1.452,2,    0.014,    1.879,6,    0.990,6,    0.052,6,   2143.5,2,   2292.5,2,   7.7441,  25,2,  -999.00,1,  -999.00,   -999.0,1,   -999.0,   8.9893,  26.8401
  49NZ20090521,   P21,   273,  1,     26, X12008,2,20090615,0909,-22.9562, 159.0482, 2520,    669.5,2,   6.9642,2,   6.96419,2,  34.4596,2,  34.4599,2,   201.71,2,   201.84,2,    16.26,2,     0.15,    25.09,2,     0.10,     0.01,2,     0.01,    1.758,2,    0.015,    1.296,2,    0.674,2,    0.043,2,   2161.0,6,   2291.0,2,   7.6993,  25,2,  -999.00,1,  -999.00,   -999.0,1,   -999.0,   6.9001,  27.0068
  49NZ20090521,   P21,   273,  1,     25, X12007,2,20090615,0909,-22.9562, 159.0482, 2520,    770.2,2,   6.0751,2,   6.07275,2,  34.4271,2,  34.4277,2,   196.04,2,   196.16,2,    24.21,2,     0.17,    27.42,2,     0.11,     0.01,2,     0.01,    1.917,2,    0.015,    0.852,2,    0.450,2,    0.024,2,   2176.9,2,   2296.9,6,   7.6747,  25,2,  -999.00,1,  -999.00,   -999.0,1,   -999.0,   6.0060,  27.0992
  49NZ20090521,   P21,   273,  1,     24, X12035,2,20090615,0909,-22.9562, 159.0482, 2520,    869.8,2,   5.1560,2,   5.15625,2,  34.4350,2,  34.4352,2,   184.96,2,   185.01,2,    37.63,2,     0.20,    29.95,2,     0.12,     0.01,2,     0.01,    2.091,2,    0.015,    0.452,2,    0.244,2,    0.018,2,   2199.2,2,   2309.8,2,   7.6464,  25,6,  -999.00,1,  -999.00,   -999.0,1,   -999.0,   5.0834,  27.2176
  49NZ20090521,   P21,   273,  1,     23, X12038,2,20090615,0909,-22.9562, 159.0482, 2520,    969.2,2,   4.6237,2,   4.62440,2,  34.4656,2,  34.4664,6,   174.14,2,   174.11,2,    50.05,2,     0.23,    31.51,2,     0.12,     0.01,2,     0.01,    2.209,2,    0.016,    0.243,2,    0.133,2,    0.000,2,   2218.0,2,   2322.9,2,   7.6272,  25,2,  -999.00,1,  -999.00,   -999.0,1,   -999.0,   4.5460,  27.3028
  49NZ20090521,   P21,   273,  1,     22, X12034,2,20090615,0909,-22.9562, 159.0482, 2520,   1129.3,2,   3.9522,2,   3.94714,2,  34.5082,2,  34.5095,2,   162.13,2,   162.23,2,    66.80,2,     0.27,    33.19,2,     0.13,     0.01,2,     0.01,    2.341,2,    0.016,    0.098,2,    0.055,2,    0.000,2,   2245.4,2,   2341.3,2,   7.6063,  25,2,  -999.00,1,  -999.00,   -999.0,1,   -999.0,   3.8661,  27.4087
  49NZ20090521,   P21,   273,  1,     21, X12033,2,20090615,0909,-22.9562, 159.0482, 2520,   1331.6,2,   3.4535,2,   3.45363,2,  34.5459,2,  34.5468,2,   154.01,2,   154.05,2,    80.09,2,     0.30,    34.36,2,     0.13,     0.01,2,     0.01,    2.426,2,    0.016,    0.038,2,    0.022,2,    0.000,2,   2264.8,2,   2355.6,2,   7.5922,  25,2,  -999.00,1,  -999.00,   -999.0,1,   -999.0,   3.3549,  27.4894
  49NZ20090521,   P21,   273,  1,     20, X12032,2,20090615,0909,-22.9562, 159.0482, 2520,   1529.2,2,   3.0348,2,   3.03442,2,  34.5811,2,  34.5815,2,   147.31,2,   147.42,2,    92.01,2,     0.32,    35.19,2,     0.13,     0.01,2,     0.01,    2.488,2,    0.016,    0.009,2,    0.006,2,    0.000,2,   2282.3,2,   2369.6,2,   7.5816,  25,6,  -999.00,1,  -999.00,   -999.0,1,   -999.0,   2.9241,  27.5576
  49NZ20090521,   P21,   273,  1,     19, X12046,2,20090615,0909,-22.9562, 159.0482, 2520,   1730.4,2,   2.7002,2,   2.70009,2,  34.6130,2,  34.6138,6,   146.68,2,   146.77,2,    99.60,2,     0.34,    35.42,2,     0.13,     0.01,2,     0.01,    2.506,2,    0.016,    0.002,2,    0.002,2,    0.000,2,   2291.5,2,   2377.3,2,   7.5789,  25,2,  -999.00,1,  -999.00,   -999.0,1,   -999.0,   2.5766,  27.6138
  49NZ20090521,   P21,   273,  1,     18, X12006,2,20090615,0909,-22.9562, 159.0482, 2520,   1929.2,2,   2.4796,2,   2.47956,2,  34.6384,2,  34.6391,2,   152.03,2,   152.15,2,   100.31,2,     0.34,    35.02,2,     0.13,     0.01,2,     0.01,    2.474,2,    0.016,    0.000,2,    0.001,2,    0.000,2,   2288.1,2,   2377.6,2,   7.5841,  25,2,  -999.00,1,  -999.00,   -999.0,1,   -999.0,   2.3420,  27.6541
  49NZ20090521,   P21,   273,  1,     17, X12047,2,20090615,0909,-22.9562, 159.0482, 2520,   2129.9,2,   2.3508,2,   2.35065,2,  34.6562,2,  34.6572,2,   157.74,2,   158.10,2,    98.91,2,     0.34,    34.52,2,     0.13,     0.01,2,     0.01,    2.429,2,    0.016,    0.001,2,    0.001,2,    0.000,2,   2283.9,2,   2375.5,2,   7.5879,  25,2,  -999.00,1,  -999.00,   -999.0,1,   -999.0,   2.1976,  27.6803
  49NZ20090521,   P21,   273,  1,     16, X12004,2,20090615,0909,-22.9562, 159.0482, 2520,   2331.0,2,   2.1690,2,   2.16886,2,  34.6819,2,  34.6829,2,   167.51,2,   167.76,2,    96.61,2,     0.33,    33.60,2,     0.13,     0.01,2,     0.01,    2.362,2,    0.016,    0.002,2,    0.001,2,    0.000,2,   2276.2,6,   2370.8,2,   7.5972,  25,2,  -999.00,1,  -999.00,   -999.0,1,   -999.0,   2.0009,  27.7168
  49NZ20090521,   P21,   273,  1,     15, X12003,9,20090615,0909,-22.9562, 159.0482, 2520,    870.1,2,   5.1549,2,   5.15523,2,  34.4351,2,-999.0000,9,   184.92,2,  -999.00,9,  -999.00,9,  -999.00,  -999.00,9,  -999.00,  -999.00,9,  -999.00, -999.000,9, -999.000, -999.000,9, -999.000,9, -999.000,9,   -999.0,9,   -999.0,9,-999.0000,-999,9,  -999.00,9,  -999.00,   -999.0,9,   -999.0,   5.0823,  27.2179
  49NZ20090521,   P21,   273,  1,     14, X12002,9,20090615,0909,-22.9562, 159.0482, 2520,     10.5,2,  23.7476,2,  23.74778,2,  35.1755,2,-999.0000,9,   210.03,2,  -999.00,9,  -999.00,9,  -999.00,  -999.00,9,  -999.00,  -999.00,9,  -999.00, -999.000,9, -999.000, -999.000,9, -999.000,9, -999.000,9,   -999.0,9,   -999.0,9,-999.0000,-999,9,  -999.00,9,  -999.00,   -999.0,9,   -999.0,  23.7454,  23.8495
  49NZ20090521,   P21,   273,  1,     13, X12001,9,20090615,0909,-22.9562, 159.0482, 2520,     50.5,2,  23.7095,2,  23.70965,2,  35.1682,2,-999.0000,9,   209.88,2,  -999.00,9,  -999.00,9,  -999.00,  -999.00,9,  -999.00,  -999.00,9,  -999.00, -999.000,9, -999.000, -999.000,9, -999.000,9, -999.000,9,   -999.0,9,   -999.0,9,-999.0000,-999,9,  -999.00,9,  -999.00,   -999.0,9,   -999.0,  23.6990,  23.8576
  49NZ20090521,   P21,   273,  1,     12, X12030,9,20090615,0909,-22.9562, 159.0482, 2520,    101.0,2,  23.3408,2,  23.34087,2,  35.3515,2,-999.0000,9,   208.26,2,  -999.00,9,  -999.00,9,  -999.00,  -999.00,9,  -999.00,  -999.00,9,  -999.00, -999.000,9, -999.000, -999.000,9, -999.000,9, -999.000,9,   -999.0,9,   -999.0,9,-999.0000,-999,9,  -999.00,9,  -999.00,   -999.0,9,   -999.0,  23.3199,  24.1074
  49NZ20090521,   P21,   273,  1,     11, X12044,9,20090615,0909,-22.9562, 159.0482, 2520,    150.4,2,  21.1744,2,  21.17570,2,  35.6233,2,-999.0000,9,   179.55,2,  -999.00,9,  -999.00,9,  -999.00,  -999.00,9,  -999.00,  -999.00,9,  -999.00, -999.000,9, -999.000, -999.000,9, -999.000,9, -999.000,9,   -999.0,9,   -999.0,9,-999.0000,-999,9,  -999.00,9,  -999.00,   -999.0,9,   -999.0,  21.1454,  24.9288
  49NZ20090521,   P21,   273,  1,     10, X12048,9,20090615,0909,-22.9562, 159.0482, 2520,    199.4,2,  19.5867,2,  19.59050,2,  35.6496,2,-999.0000,9,   184.88,2,  -999.00,9,  -999.00,9,  -999.00,  -999.00,9,  -999.00,  -999.00,9,  -999.00, -999.000,9, -999.000, -999.000,9, -999.000,9, -999.000,9,   -999.0,9,   -999.0,9,-999.0000,-999,9,  -999.00,9,  -999.00,   -999.0,9,   -999.0,  19.5502,  25.3755
  49NZ20090521,   P21,   273,  1,      9, X12027,9,20090615,0909,-22.9562, 159.0482, 2520,    249.9,2,  18.6085,2,  18.61372,2,  35.6391,2,-999.0000,9,   191.53,2,  -999.00,9,  -999.00,9,  -999.00,  -999.00,9,  -999.00,  -999.00,9,  -999.00, -999.000,9, -999.000, -999.000,9, -999.000,9, -999.000,9,   -999.0,9,   -999.0,9,-999.0000,-999,9,  -999.00,9,  -999.00,   -999.0,9,   -999.0,  18.5643,  25.6206
  49NZ20090521,   P21,   273,  1,      8, X12026,9,20090615,0909,-22.9562, 159.0482, 2520,    281.5,2,  17.7662,2,  17.76902,2,  35.5791,2,-999.0000,9,   184.33,2,  -999.00,9,  -999.00,9,  -999.00,  -999.00,9,  -999.00,  -999.00,9,  -999.00, -999.000,9, -999.000, -999.000,9, -999.000,9, -999.000,9,   -999.0,9,   -999.0,9,-999.0000,-999,9,  -999.00,9,  -999.00,   -999.0,9,   -999.0,  17.7180,  25.7851
  49NZ20090521,   P21,   273,  1,      7, X12025,9,20090615,0909,-22.9562, 159.0482, 2520,    369.9,2,  15.5662,2,  15.56612,2,  35.3813,2,-999.0000,9,   184.14,2,  -999.00,9,  -999.00,9,  -999.00,  -999.00,9,  -999.00,  -999.00,9,  -999.00, -999.000,9, -999.000, -999.000,9, -999.000,9, -999.000,9,   -999.0,9,   -999.0,9,-999.0000,-999,9,  -999.00,9,  -999.00,   -999.0,9,   -999.0,  15.5083,  26.1528
  49NZ20090521,   P21,   273,  1,      6, X12024,9,20090615,0909,-22.9562, 159.0482, 2520,    469.8,2,  12.3954,2,  12.38999,2,  35.0423,2,-999.0000,9,   189.58,2,  -999.00,9,  -999.00,9,  -999.00,  -999.00,9,  -999.00,  -999.00,9,  -999.00, -999.000,9, -999.000, -999.000,9, -999.000,9, -999.000,9,   -999.0,9,   -999.0,9,-999.0000,-999,9,  -999.00,9,  -999.00,   -999.0,9,   -999.0,  12.3321,  26.5579
  49NZ20090521,   P21,   273,  1,      5, X12028,9,20090615,0909,-22.9562, 159.0482, 2520,    571.2,2,   9.0703,2,   9.06888,2,  34.6442,2,-999.0000,9,   197.32,2,  -999.00,9,  -999.00,9,  -999.00,  -999.00,9,  -999.00,  -999.00,9,  -999.00, -999.000,9, -999.000, -999.000,9, -999.000,9, -999.000,9,   -999.0,9,   -999.0,9,-999.0000,-999,9,  -999.00,9,  -999.00,   -999.0,9,   -999.0,   9.0069,  26.8384
  49NZ20090521,   P21,   273,  1,      4, X12022,9,20090615,0909,-22.9562, 159.0482, 2520,    669.6,2,   6.9653,2,   6.96499,2,  34.4598,2,-999.0000,9,   201.84,2,  -999.00,9,  -999.00,9,  -999.00,  -999.00,9,  -999.00,  -999.00,9,  -999.00, -999.000,9, -999.000, -999.000,9, -999.000,9, -999.000,9,   -999.0,9,   -999.0,9,-999.0000,-999,9,  -999.00,9,  -999.00,   -999.0,9,   -999.0,   6.9012,  27.0068
  49NZ20090521,   P21,   273,  1,      3, X12021,9,20090615,0909,-22.9562, 159.0482, 2520,    770.5,2,   6.0756,2,   6.07649,2,  34.4272,2,-999.0000,9,   196.12,2,  -999.00,9,  -999.00,9,  -999.00,  -999.00,9,  -999.00,  -999.00,9,  -999.00, -999.000,9, -999.000, -999.000,9, -999.000,9, -999.000,9,   -999.0,9,   -999.0,9,-999.0000,-999,9,  -999.00,9,  -999.00,   -999.0,9,   -999.0,   6.0065,  27.0992
  49NZ20090521,   P21,   273,  1,      2, X12020,9,20090615,0909,-22.9562, 159.0482, 2520,   1331.7,2,   3.4549,2,   3.45454,2,  34.5458,2,-999.0000,9,   154.00,2,  -999.00,9,  -999.00,9,  -999.00,  -999.00,9,  -999.00,  -999.00,9,  -999.00, -999.000,9, -999.000, -999.000,9, -999.000,9, -999.000,9,   -999.0,9,   -999.0,9,-999.0000,-999,9,  -999.00,9,  -999.00,   -999.0,9,   -999.0,   3.3563,  27.4891
  49NZ20090521,   P21,   273,  1,      1, X12019,2,20090615,0909,-22.9562, 159.0482, 2520,   2533.0,2,   1.8864,2,   1.88615,2,  34.7098,2,  34.7104,6,   178.49,2,   178.39,2,    97.79,2,     0.33,    32.81,2,     0.12,     0.01,2,     0.01,    2.300,2,    0.016,    0.004,2,    0.001,2,    0.000,2,   2272.6,2,   2369.7,2,   7.6079,  25,2,  -999.00,1,  -999.00,   -999.0,1,   -999.0,   1.7050,  27.7620