BOTTLE,20111109CCHDOSIOCBG
EXPOCODE,SECT_ID,STNNBR,CASTNO,SAMPNO,BTLNBR,BTLNBR_FLAG_W,DATE,TIME,LATITUDE,LONGITUDE,DEPTH,CTDPRS,CTDPRS_FLAG_W,CTDTMP,CTDTMP_FLAG_W,SBE35,SBE35_FLAG_W,CTDSAL,CTDSAL_FLAG_W,SALNTY,SALNTY_FLAG_W,CTDOXY,CTDOXY_FLAG_W,OXYGEN,OXYGEN_FLAG_W,SILCAT,SILCAT_FLAG_W,SILUNC,NITRAT,NITRAT_FLAG_W,NRAUNC,NITRIT,NITRIT_FLAG_W,NRIUNC,PHSPHT,PHSPHT_FLAG_W,PHPUNC,CFC-11,CFC-11_FLAG_W,CFC-12,CFC-12_FLAG_W,CFC113,CFC113_FLAG_W,TCARBN,TCARBN_FLAG_W,ALKALI,ALKALI_FLAG_W,PH_TOT,PH_TMP,PH_TOT_FLAG_W,DELC13,DELC13_FLAG_W,C13ERR,DELC14,DELC14_FLAG_W,C14ERR,THETA,SIG0
,,,,,,,,,,,METERS,DBAR,,ITS-90,,ITS-90,,PSS-78,,PSS-78,,UMOL/KG,,UMOL/KG,,UMOL/KG,,UMOL/KG,UMOL/KG,,UMOL/KG,UMOL/KG,,UMOL/KG,UMOL/KG,,UMOL/KG,PMOL/KG,,PMOL/KG,,PMOL/KG,,UMOL/KG,,UMOL/KG,,,DEG C,,/MILLE,,/MILLE,/MILLE,,/MILLE,DEG C,KG/M^3
  49NZ20090521,   P21,   214,  1,      0,   -999,9,20090605,0914,-18.1667,-179.1643,  962,   -999.0,9,-999.0000,9,-999.00000,9,-999.0000,9,  35.1450,2,  -999.00,9,  -999.00,9,  -999.00,9,  -999.00,  -999.00,9,  -999.00,  -999.00,9,  -999.00, -999.000,9, -999.000, -999.000,9, -999.000,9, -999.000,9,   -999.0,9,   -999.0,9,-999.0000,-999,9,  -999.00,9,  -999.00,   -999.0,9,   -999.0,-999.0000,-999.0000
  49NZ20090521,   P21,   214,  1,     36, X12043,2,20090605,0914,-18.1667,-179.1643,  962,     10.6,2,  26.9014,2,  26.90133,2,  35.1349,2,  35.1319,2,   199.11,2,   199.73,2,     0.54,2,     0.12,     0.09,2,     0.03,     0.02,2,     0.01,    0.066,2,    0.028,    1.479,2,    0.925,2, -999.000,5,   -999.0,9,   -999.0,9,-999.0000,-999,9,  -999.00,9,  -999.00,   -999.0,9,   -999.0,  26.8990,  22.8516
  49NZ20090521,   P21,   214,  1,     35, X12042,2,20090605,0914,-18.1667,-179.1643,  962,     50.2,2,  26.9111,2,  26.91098,2,  35.1342,2,  35.1330,2,   198.99,2,   199.76,2,     0.64,2,     0.12,     0.09,2,     0.03,     0.02,2,     0.01,    0.061,2,    0.030,    1.488,2,    0.942,2, -999.000,5,   -999.0,9,   -999.0,9,-999.0000,-999,9,  -999.00,9,  -999.00,   -999.0,9,   -999.0,  26.8996,  22.8509
  49NZ20090521,   P21,   214,  1,     34, X12016,2,20090605,0914,-18.1667,-179.1643,  962,    100.6,2,  25.7594,2,  25.76592,2,  35.2544,2,  35.2680,2,   194.75,2,   195.39,2,     0.62,2,     0.12,     0.17,2,     0.03,     0.21,2,     0.01,    0.124,2,    0.020,    1.659,6,    1.037,6, -999.000,5,   -999.0,9,   -999.0,9,-999.0000,-999,9,  -999.00,9,  -999.00,   -999.0,9,   -999.0,  25.7371,  23.3071
  49NZ20090521,   P21,   214,  1,     33, X12015,2,20090605,0914,-18.1667,-179.1643,  962,    150.5,2,  23.1363,2,  23.13429,2,  35.6898,2,  35.6874,2,   166.98,2,   167.53,2,     0.76,2,     0.12,     2.55,2,     0.04,     0.03,2,     0.01,    0.340,2,    0.014,    1.842,2,    1.112,2,    0.100,2,   -999.0,9,   -999.0,9,-999.0000,-999,9,  -999.00,9,  -999.00,   -999.0,9,   -999.0,  23.1053,  24.4264
  49NZ20090521,   P21,   214,  1,     32, X12050,2,20090605,0914,-18.1667,-179.1643,  962,    200.2,2,  21.9702,2,  21.96801,2,  35.8121,2,  35.8118,2,   162.69,2,   163.14,2,     1.06,2,     0.12,     3.68,2,     0.04,     0.02,2,     0.01,    0.447,2,    0.013,    1.948,2,    1.157,2,    0.056,2,   -999.0,9,   -999.0,9,-999.0000,-999,9,  -999.00,9,  -999.00,   -999.0,9,   -999.0,  21.9305,  24.8546
  49NZ20090521,   P21,   214,  1,     31, X12014,2,20090605,0914,-18.1667,-179.1643,  962,    248.3,2,  20.1626,2,  20.15911,2,  35.6829,2,  35.6818,6,   166.35,2,   166.91,2,     1.23,2,     0.12,     4.79,2,     0.05,     0.02,2,     0.01,    0.511,2,    0.013,    2.079,2,    1.213,2,    0.030,2,   -999.0,9,   -999.0,9,-999.0000,-999,9,  -999.00,9,  -999.00,   -999.0,9,   -999.0,  20.1162,  25.2520
  49NZ20090521,   P21,   214,  1,     30, X12012,2,20090605,0914,-18.1667,-179.1643,  962,    300.4,2,  17.6610,2,  17.66278,2,  35.4360,2,  35.4365,2,   175.22,2,   175.76,2,     1.73,2,     0.12,     6.17,2,     0.05,     0.02,2,     0.01,    0.584,2,    0.013,    2.233,2,    1.287,2,    0.009,2,   -999.0,9,   -999.0,9,-999.0000,-999,9,  -999.00,9,  -999.00,   -999.0,9,   -999.0,  17.6098,  25.7019
  49NZ20090521,   P21,   214,  1,     29, X12041,2,20090605,0914,-18.1667,-179.1643,  962,    399.3,2,  12.9969,2,  12.99789,2,  34.9473,2,  34.9466,2,   178.39,2,   178.59,2,     4.58,2,     0.13,    12.97,2,     0.07,     0.02,2,     0.01,    1.033,2,    0.013,    2.204,6,    1.186,6,    0.038,6,   -999.0,9,   -999.0,9,-999.0000,-999,9,  -999.00,9,  -999.00,   -999.0,9,   -999.0,  12.9416,  26.3638
  49NZ20090521,   P21,   214,  1,     28, X12040,2,20090605,0914,-18.1667,-179.1643,  962,    500.1,2,   9.6307,2,   9.63044,2,  34.6207,2,  34.6213,6,   185.11,2,   185.05,2,     8.47,2,     0.14,    19.92,2,     0.09,     0.01,2,     0.01,    1.469,2,    0.014,    1.887,2,    0.964,2,    0.043,2,   -999.0,9,   -999.0,9,-999.0000,-999,9,  -999.00,9,  -999.00,   -999.0,9,   -999.0,   9.5734,  26.7275
  49NZ20090521,   P21,   214,  1,     27, X12009,2,20090605,0914,-18.1667,-179.1643,  962,    600.6,2,   7.1091,2,   7.10978,2,  34.4145,2,  34.4143,2,   199.33,2,   199.32,2,    12.96,2,     0.15,    25.07,2,     0.10,     0.01,2,     0.01,    1.777,2,    0.015,    1.479,6,    0.737,6,    0.041,6,   -999.0,9,   -999.0,9,-999.0000,-999,9,  -999.00,9,  -999.00,   -999.0,9,   -999.0,   7.0513,  26.9505
  49NZ20090521,   P21,   214,  1,     26, X12008,2,20090605,0914,-18.1667,-179.1643,  962,    699.9,2,   5.9943,2,   5.99886,2,  34.4015,2,  34.4021,2,   189.54,2,   189.17,2,    24.80,2,     0.17,    28.41,2,     0.11,     0.01,2,     0.01,    2.004,2,    0.015,    0.818,2,    0.419,2,    0.016,2,   -999.0,9,   -999.0,9,-999.0000,-999,9,  -999.00,9,  -999.00,   -999.0,9,   -999.0,   5.9323,  27.0883
  49NZ20090521,   P21,   214,  1,     25, X12007,2,20090605,0914,-18.1667,-179.1643,  962,    800.0,2,   5.3167,2,   5.31712,2,  34.3950,2,  34.3957,2,   181.73,2,   181.52,2,    32.36,2,     0.19,    30.46,2,     0.12,     0.01,2,     0.01,    2.138,2,    0.015,    0.501,2,    0.249,2,    0.014,2,   -999.0,9,   -999.0,9,-999.0000,-999,9,  -999.00,9,  -999.00,   -999.0,9,   -999.0,   5.2494,  27.1665
  49NZ20090521,   P21,   214,  1,     24, X12035,2,20090605,0914,-18.1667,-179.1643,  962,    898.9,2,   4.7397,2,   4.74025,2,  34.4304,2,  34.4302,2,   174.65,2,   174.16,2,    44.90,2,     0.22,    31.66,2,     0.12,     0.01,2,     0.01,    2.226,2,    0.016,    0.347,2,    0.177,2,    0.000,2,   -999.0,9,   -999.0,9,-999.0000,-999,9,  -999.00,9,  -999.00,   -999.0,9,   -999.0,   4.6674,  27.2614
  49NZ20090521,   P21,   214,  1,     23, X12038,9,20090605,0914,-18.1667,-179.1643,  962,   -999.0,9,-999.0000,9,-999.00000,9,-999.0000,9,-999.0000,9,  -999.00,9,  -999.00,9,  -999.00,9,  -999.00,  -999.00,9,  -999.00,  -999.00,9,  -999.00, -999.000,9, -999.000, -999.000,9, -999.000,9, -999.000,9,   -999.0,9,   -999.0,9,-999.0000,-999,9,  -999.00,9,  -999.00,   -999.0,9,   -999.0,-999.0000,-999.0000
  49NZ20090521,   P21,   214,  1,     22, X12034,9,20090605,0914,-18.1667,-179.1643,  962,   -999.0,9,-999.0000,9,-999.00000,9,-999.0000,9,-999.0000,9,  -999.00,9,  -999.00,9,  -999.00,9,  -999.00,  -999.00,9,  -999.00,  -999.00,9,  -999.00, -999.000,9, -999.000, -999.000,9, -999.000,9, -999.000,9,   -999.0,9,   -999.0,9,-999.0000,-999,9,  -999.00,9,  -999.00,   -999.0,9,   -999.0,-999.0000,-999.0000
  49NZ20090521,   P21,   214,  1,     21, X12033,9,20090605,0914,-18.1667,-179.1643,  962,   -999.0,9,-999.0000,9,-999.00000,9,-999.0000,9,-999.0000,9,  -999.00,9,  -999.00,9,  -999.00,9,  -999.00,  -999.00,9,  -999.00,  -999.00,9,  -999.00, -999.000,9, -999.000, -999.000,9, -999.000,9, -999.000,9,   -999.0,9,   -999.0,9,-999.0000,-999,9,  -999.00,9,  -999.00,   -999.0,9,   -999.0,-999.0000,-999.0000
  49NZ20090521,   P21,   214,  1,     20, X12032,9,20090605,0914,-18.1667,-179.1643,  962,   -999.0,9,-999.0000,9,-999.00000,9,-999.0000,9,-999.0000,9,  -999.00,9,  -999.00,9,  -999.00,9,  -999.00,  -999.00,9,  -999.00,  -999.00,9,  -999.00, -999.000,9, -999.000, -999.000,9, -999.000,9, -999.000,9,   -999.0,9,   -999.0,9,-999.0000,-999,9,  -999.00,9,  -999.00,   -999.0,9,   -999.0,-999.0000,-999.0000
  49NZ20090521,   P21,   214,  1,     19, X12046,9,20090605,0914,-18.1667,-179.1643,  962,   -999.0,9,-999.0000,9,-999.00000,9,-999.0000,9,-999.0000,9,  -999.00,9,  -999.00,9,  -999.00,9,  -999.00,  -999.00,9,  -999.00,  -999.00,9,  -999.00, -999.000,9, -999.000, -999.000,9, -999.000,9, -999.000,9,   -999.0,9,   -999.0,9,-999.0000,-999,9,  -999.00,9,  -999.00,   -999.0,9,   -999.0,-999.0000,-999.0000
  49NZ20090521,   P21,   214,  1,     18, X12006,9,20090605,0914,-18.1667,-179.1643,  962,     10.7,2,  26.8994,2,  26.89889,2,  35.1349,2,-999.0000,9,   199.15,2,  -999.00,9,  -999.00,9,  -999.00,  -999.00,9,  -999.00,  -999.00,9,  -999.00, -999.000,9, -999.000, -999.000,9, -999.000,9, -999.000,9,   -999.0,9,   -999.0,9,-999.0000,-999,9,  -999.00,9,  -999.00,   -999.0,9,   -999.0,  26.8970,  22.8523
  49NZ20090521,   P21,   214,  1,     17, X12047,9,20090605,0914,-18.1667,-179.1643,  962,     50.2,2,  26.9107,2,  26.91072,2,  35.1340,2,-999.0000,9,   199.11,2,  -999.00,9,  -999.00,9,  -999.00,  -999.00,9,  -999.00,  -999.00,9,  -999.00, -999.000,9, -999.000, -999.000,9, -999.000,9, -999.000,9,   -999.0,9,   -999.0,9,-999.0000,-999,9,  -999.00,9,  -999.00,   -999.0,9,   -999.0,  26.8992,  22.8509
  49NZ20090521,   P21,   214,  1,     16, X12004,9,20090605,0914,-18.1667,-179.1643,  962,    100.5,2,  25.7669,2,  25.77637,2,  35.2548,2,-999.0000,9,   195.37,2,  -999.00,9,  -999.00,9,  -999.00,  -999.00,9,  -999.00,  -999.00,9,  -999.00, -999.000,9, -999.000, -999.000,9, -999.000,9, -999.000,9,   -999.0,9,   -999.0,9,-999.0000,-999,9,  -999.00,9,  -999.00,   -999.0,9,   -999.0,  25.7446,  23.3051
  49NZ20090521,   P21,   214,  1,     15, X12003,9,20090605,0914,-18.1667,-179.1643,  962,    150.8,2,  23.1280,2,  23.12795,2,  35.6917,2,-999.0000,9,   167.21,2,  -999.00,9,  -999.00,9,  -999.00,  -999.00,9,  -999.00,  -999.00,9,  -999.00, -999.000,9, -999.000, -999.000,9, -999.000,9, -999.000,9,   -999.0,9,   -999.0,9,-999.0000,-999,9,  -999.00,9,  -999.00,   -999.0,9,   -999.0,  23.0970,  24.4302
  49NZ20090521,   P21,   214,  1,     14, X12002,9,20090605,0914,-18.1667,-179.1643,  962,    200.5,2,  21.9751,2,  21.97786,2,  35.8131,2,-999.0000,9,   162.69,2,  -999.00,9,  -999.00,9,  -999.00,  -999.00,9,  -999.00,  -999.00,9,  -999.00, -999.000,9, -999.000, -999.000,9, -999.000,9, -999.000,9,   -999.0,9,   -999.0,9,-999.0000,-999,9,  -999.00,9,  -999.00,   -999.0,9,   -999.0,  21.9353,  24.8540
  49NZ20090521,   P21,   214,  1,     13, X12001,9,20090605,0914,-18.1667,-179.1643,  962,    249.0,2,  20.1629,2,  20.16212,2,  35.6833,2,-999.0000,9,   166.51,2,  -999.00,9,  -999.00,9,  -999.00,  -999.00,9,  -999.00,  -999.00,9,  -999.00, -999.000,9, -999.000, -999.000,9, -999.000,9, -999.000,9,   -999.0,9,   -999.0,9,-999.0000,-999,9,  -999.00,9,  -999.00,   -999.0,9,   -999.0,  20.1164,  25.2522
  49NZ20090521,   P21,   214,  1,     12, X12030,9,20090605,0914,-18.1667,-179.1643,  962,    300.6,2,  17.6614,2,  17.66160,2,  35.4363,2,-999.0000,9,   175.32,2,  -999.00,9,  -999.00,9,  -999.00,  -999.00,9,  -999.00,  -999.00,9,  -999.00, -999.000,9, -999.000, -999.000,9, -999.000,9, -999.000,9,   -999.0,9,   -999.0,9,-999.0000,-999,9,  -999.00,9,  -999.00,   -999.0,9,   -999.0,  17.6102,  25.7020
  49NZ20090521,   P21,   214,  1,     11, X12044,9,20090605,0914,-18.1667,-179.1643,  962,    399.5,2,  13.0004,2,  12.99853,2,  34.9479,2,-999.0000,9,   178.42,2,  -999.00,9,  -999.00,9,  -999.00,  -999.00,9,  -999.00,  -999.00,9,  -999.00, -999.000,9, -999.000, -999.000,9, -999.000,9, -999.000,9,   -999.0,9,   -999.0,9,-999.0000,-999,9,  -999.00,9,  -999.00,   -999.0,9,   -999.0,  12.9451,  26.3636
  49NZ20090521,   P21,   214,  1,     10, X12048,9,20090605,0914,-18.1667,-179.1643,  962,    499.8,2,   9.6291,2,   9.62858,2,  34.6210,2,-999.0000,9,   185.19,2,  -999.00,9,  -999.00,9,  -999.00,  -999.00,9,  -999.00,  -999.00,9,  -999.00, -999.000,9, -999.000, -999.000,9, -999.000,9, -999.000,9,   -999.0,9,   -999.0,9,-999.0000,-999,9,  -999.00,9,  -999.00,   -999.0,9,   -999.0,   9.5718,  26.7281
  49NZ20090521,   P21,   214,  1,      9, X12027,9,20090605,0914,-18.1667,-179.1643,  962,    600.5,2,   7.1056,2,   7.10633,2,  34.4145,2,-999.0000,9,   199.41,2,  -999.00,9,  -999.00,9,  -999.00,  -999.00,9,  -999.00,  -999.00,9,  -999.00, -999.000,9, -999.000, -999.000,9, -999.000,9, -999.000,9,   -999.0,9,   -999.0,9,-999.0000,-999,9,  -999.00,9,  -999.00,   -999.0,9,   -999.0,   7.0478,  26.9509
  49NZ20090521,   P21,   214,  1,      8, X12026,9,20090605,0914,-18.1667,-179.1643,  962,    700.0,2,   5.9988,2,   5.99581,2,  34.4023,2,-999.0000,9,   189.36,2,  -999.00,9,  -999.00,9,  -999.00,  -999.00,9,  -999.00,  -999.00,9,  -999.00, -999.000,9, -999.000, -999.000,9, -999.000,9, -999.000,9,   -999.0,9,   -999.0,9,-999.0000,-999,9,  -999.00,9,  -999.00,   -999.0,9,   -999.0,   5.9368,  27.0883
  49NZ20090521,   P21,   214,  1,      7, X12025,9,20090605,0914,-18.1667,-179.1643,  962,    800.1,2,   5.3164,2,   5.31669,2,  34.3952,2,-999.0000,9,   181.79,2,  -999.00,9,  -999.00,9,  -999.00,  -999.00,9,  -999.00,  -999.00,9,  -999.00, -999.000,9, -999.000, -999.000,9, -999.000,9, -999.000,9,   -999.0,9,   -999.0,9,-999.0000,-999,9,  -999.00,9,  -999.00,   -999.0,9,   -999.0,   5.2491,  27.1667
  49NZ20090521,   P21,   214,  1,      6, X12024,9,20090605,0914,-18.1667,-179.1643,  962,    899.5,2,   4.7422,2,   4.74227,2,  34.4305,2,-999.0000,9,   174.64,2,  -999.00,9,  -999.00,9,  -999.00,  -999.00,9,  -999.00,  -999.00,9,  -999.00, -999.000,9, -999.000, -999.000,9, -999.000,9, -999.000,9,   -999.0,9,   -999.0,9,-999.0000,-999,9,  -999.00,9,  -999.00,   -999.0,9,   -999.0,   4.6698,  27.2611
  49NZ20090521,   P21,   214,  1,      5, X12028,9,20090605,0914,-18.1667,-179.1643,  962,   -999.0,9,-999.0000,9,-999.00000,9,-999.0000,9,-999.0000,9,  -999.00,9,  -999.00,9,  -999.00,9,  -999.00,  -999.00,9,  -999.00,  -999.00,9,  -999.00, -999.000,9, -999.000, -999.000,9, -999.000,9, -999.000,9,   -999.0,9,   -999.0,9,-999.0000,-999,9,  -999.00,9,  -999.00,   -999.0,9,   -999.0,-999.0000,-999.0000
  49NZ20090521,   P21,   214,  1,      4, X12022,9,20090605,0914,-18.1667,-179.1643,  962,   -999.0,9,-999.0000,9,-999.00000,9,-999.0000,9,-999.0000,9,  -999.00,9,  -999.00,9,  -999.00,9,  -999.00,  -999.00,9,  -999.00,  -999.00,9,  -999.00, -999.000,9, -999.000, -999.000,9, -999.000,9, -999.000,9,   -999.0,9,   -999.0,9,-999.0000,-999,9,  -999.00,9,  -999.00,   -999.0,9,   -999.0,-999.0000,-999.0000
  49NZ20090521,   P21,   214,  1,      3, X12021,9,20090605,0914,-18.1667,-179.1643,  962,   -999.0,9,-999.0000,9,-999.00000,9,-999.0000,9,-999.0000,9,  -999.00,9,  -999.00,9,  -999.00,9,  -999.00,  -999.00,9,  -999.00,  -999.00,9,  -999.00, -999.000,9, -999.000, -999.000,9, -999.000,9, -999.000,9,   -999.0,9,   -999.0,9,-999.0000,-999,9,  -999.00,9,  -999.00,   -999.0,9,   -999.0,-999.0000,-999.0000
  49NZ20090521,   P21,   214,  1,      2, X12020,9,20090605,0914,-18.1667,-179.1643,  962,   -999.0,9,-999.0000,9,-999.00000,9,-999.0000,9,-999.0000,9,  -999.00,9,  -999.00,9,  -999.00,9,  -999.00,  -999.00,9,  -999.00,  -999.00,9,  -999.00, -999.000,9, -999.000, -999.000,9, -999.000,9, -999.000,9,   -999.0,9,   -999.0,9,-999.0000,-999,9,  -999.00,9,  -999.00,   -999.0,9,   -999.0,-999.0000,-999.0000
  49NZ20090521,   P21,   214,  1,      1, X12019,2,20090605,0914,-18.1667,-179.1643,  962,    959.7,2,   4.1958,2,   4.19901,2,  34.4628,2,  34.4593,6,   167.63,2,   167.39,2,    56.00,2,     0.24,    32.82,2,     0.12,     0.01,2,     0.01,    2.308,2,    0.016,    0.225,2,    0.116,2,    0.000,2,   -999.0,9,   -999.0,9,-999.0000,-999,9,  -999.00,9,  -999.00,   -999.0,9,   -999.0,   4.1221,  27.3461