BOTTLE,20111109CCHDOSIOCBG
EXPOCODE,SECT_ID,STNNBR,CASTNO,SAMPNO,BTLNBR,BTLNBR_FLAG_W,DATE,TIME,LATITUDE,LONGITUDE,DEPTH,CTDPRS,CTDPRS_FLAG_W,CTDTMP,CTDTMP_FLAG_W,SBE35,SBE35_FLAG_W,CTDSAL,CTDSAL_FLAG_W,SALNTY,SALNTY_FLAG_W,CTDOXY,CTDOXY_FLAG_W,OXYGEN,OXYGEN_FLAG_W,SILCAT,SILCAT_FLAG_W,SILUNC,NITRAT,NITRAT_FLAG_W,NRAUNC,NITRIT,NITRIT_FLAG_W,NRIUNC,PHSPHT,PHSPHT_FLAG_W,PHPUNC,CFC-11,CFC-11_FLAG_W,CFC-12,CFC-12_FLAG_W,CFC113,CFC113_FLAG_W,TCARBN,TCARBN_FLAG_W,ALKALI,ALKALI_FLAG_W,PH_TOT,PH_TMP,PH_TOT_FLAG_W,DELC13,DELC13_FLAG_W,C13ERR,DELC14,DELC14_FLAG_W,C14ERR,THETA,SIG0
,,,,,,,,,,,METERS,DBAR,,ITS-90,,ITS-90,,PSS-78,,PSS-78,,UMOL/KG,,UMOL/KG,,UMOL/KG,,UMOL/KG,UMOL/KG,,UMOL/KG,UMOL/KG,,UMOL/KG,UMOL/KG,,UMOL/KG,PMOL/KG,,PMOL/KG,,PMOL/KG,,UMOL/KG,,UMOL/KG,,,DEG C,,/MILLE,,/MILLE,/MILLE,,/MILLE,DEG C,KG/M^3
  49NZ20090521,   P21,   261,  1,      0,   -999,9,20090613,1344,-20.8930, 164.2843, 2083,   -999.0,9,-999.0000,9,-999.00000,9,-999.0000,9,  34.9365,2,  -999.00,9,  -999.00,9,  -999.00,9,  -999.00,  -999.00,9,  -999.00,  -999.00,9,  -999.00, -999.000,9, -999.000, -999.000,9, -999.000,9, -999.000,9,   -999.0,9,   -999.0,9,-999.0000,-999,9,  -999.00,9,  -999.00,   -999.0,9,   -999.0,-999.0000,-999.0000
  49NZ20090521,   P21,   261,  1,     36, X12043,2,20090613,1344,-20.8930, 164.2843, 2083,      9.9,2,  24.4278,2,  24.42780,2,  34.9356,2,  34.9329,2,   208.78,2,   207.88,2,     0.49,2,     0.12,     0.02,2,     0.03,     0.01,2,     0.01,    0.080,2,    0.025,    1.647,2,    1.038,2, -999.000,5,   1958.2,2,   2287.3,2,   8.1011,  25,2,  -999.00,9,  -999.00,   -999.0,9,   -999.0,  24.4257,  23.4659
  49NZ20090521,   P21,   261,  1,     35, X12042,2,20090613,1344,-20.8930, 164.2843, 2083,     50.4,2,  24.4317,2,  24.43137,2,  34.9325,2,  34.9312,2,   208.72,2,   207.82,2,     0.45,2,     0.12,     0.02,2,     0.03,     0.01,2,     0.01,    0.081,2,    0.025,    1.648,2,    1.041,2, -999.000,5,   1958.7,6,   2286.5,2,   8.0977,  25,2,  -999.00,9,  -999.00,   -999.0,9,   -999.0,  24.4210,  23.4649
  49NZ20090521,   P21,   261,  1,     34, X12016,2,20090613,1344,-20.8930, 164.2843, 2083,     99.7,2,  23.6231,2,  23.63057,2,  35.3158,2,  35.3143,2,   208.91,2,   207.82,2,     0.37,2,     0.12,     0.02,2,     0.03,     0.02,2,     0.01,    0.091,2,    0.023,    1.726,6,    1.082,6, -999.000,5,   1988.0,2,   2312.4,6,   8.0820,  25,2,  -999.00,9,  -999.00,   -999.0,9,   -999.0,  23.6023,  23.9978
  49NZ20090521,   P21,   261,  1,     33, X12015,2,20090613,1344,-20.8930, 164.2843, 2083,    151.1,2,  21.5345,2,  21.53840,2,  35.5964,2,  35.5966,2,   178.23,2,   177.71,2,     0.84,2,     0.12,     3.33,2,     0.04,     0.04,2,     0.01,    0.347,2,    0.014,    1.962,2,    1.184,2,    0.179,4,   2052.6,2,   2330.4,2,   7.9990,  25,6,  -999.00,9,  -999.00,   -999.0,9,   -999.0,  21.5050,  24.8092
  49NZ20090521,   P21,   261,  1,     32, X12050,2,20090613,1344,-20.8930, 164.2843, 2083,    200.5,2,  20.0545,2,  20.05455,2,  35.6449,2,  35.6437,2,   182.14,2,   181.18,2,     0.91,2,     0.12,     4.04,2,     0.04,     0.02,2,     0.01,    0.381,2,    0.013,    2.059,2,    1.230,2,    0.098,2,   2063.7,2,   2332.9,2,   7.9842,  25,2,  -999.00,9,  -999.00,   -999.0,9,   -999.0,  20.0172,  25.2492
  49NZ20090521,   P21,   261,  1,     31, X12014,2,20090613,1344,-20.8930, 164.2843, 2083,    250.5,2,  18.6649,2,  18.66608,2,  35.6392,2,  35.6378,6,   190.51,2,   189.79,2,     1.10,2,     0.12,     4.56,2,     0.05,     0.02,2,     0.01,    0.408,2,    0.013,    2.178,2,    1.278,2,    0.054,2,   2072.1,2,   2331.7,2,   7.9680,  25,2,  -999.00,9,  -999.00,   -999.0,9,   -999.0,  18.6205,  25.6064
  49NZ20090521,   P21,   261,  1,     30, X12012,2,20090613,1344,-20.8930, 164.2843, 2083,    331.3,2,  17.0993,2,  17.09795,2,  35.5376,2,  35.5367,2,   188.86,2,   188.33,2,     1.68,2,     0.12,     6.50,2,     0.05,     0.01,2,     0.01,    0.537,2,    0.013,    2.286,2,    1.318,2,    0.044,2,   2087.2,2,   2327.6,2,   7.9303,  25,2,  -999.00,9,  -999.00,   -999.0,9,   -999.0,  17.0440,  25.9165
  49NZ20090521,   P21,   261,  1,     29, X12041,2,20090613,1344,-20.8930, 164.2843, 2083,    430.5,2,  13.9187,2,  13.91096,2,  35.2031,2,  35.2059,2,   187.95,2,   187.74,2,     3.52,2,     0.13,    11.30,2,     0.06,     0.01,2,     0.01,    0.856,2,    0.013,    2.334,6,    1.283,6,    0.043,6,   2114.1,2,   2312.0,2,   7.8511,  25,2,  -999.00,9,  -999.00,   -999.0,9,   -999.0,  13.8561,  26.3743
  49NZ20090521,   P21,   261,  1,     28, X12040,2,20090613,1344,-20.8930, 164.2843, 2083,    530.1,2,   9.9376,2,   9.93619,2,  34.7318,2,  34.7254,6,   196.53,2,   196.32,2,     7.94,2,     0.14,    18.65,2,     0.09,     0.01,2,     0.01,    1.339,2,    0.014,    2.082,2,    1.074,2,    0.047,2,   2139.6,2,   2294.1,2,   7.7614,  25,2,  -999.00,9,  -999.00,   -999.0,9,   -999.0,   9.8755,  26.7637
  49NZ20090521,   P21,   261,  1,     27, X12009,2,20090613,1344,-20.8930, 164.2843, 2083,    632.1,2,   7.7920,2,   7.79138,2,  34.5222,2,  34.5218,2,   203.58,2,   202.99,2,    12.60,2,     0.15,    22.83,2,     0.10,     0.01,2,     0.01,    1.615,2,    0.014,    1.667,6,    0.834,6,    0.034,6,   2154.9,2,   2289.0,2,   7.7189,  25,2,  -999.00,9,  -999.00,   -999.0,9,   -999.0,   7.7277,  26.9388
  49NZ20090521,   P21,   261,  1,     26, X12008,2,20090613,1344,-20.8930, 164.2843, 2083,    731.2,2,   6.1262,2,   6.13416,2,  34.4153,2,  34.4150,2,   200.42,2,   200.12,2,    21.58,2,     0.17,    26.97,2,     0.11,     0.01,2,     0.01,    1.887,2,    0.015,    0.928,2,    0.462,2,    0.016,2,   2173.7,6,   2293.5,2,   7.6782,  25,2,  -999.00,9,  -999.00,   -999.0,9,   -999.0,   6.0605,  27.0829
  49NZ20090521,   P21,   261,  1,     25, X12007,2,20090613,1344,-20.8930, 164.2843, 2083,    829.8,2,   5.4155,2,   5.41832,2,  34.4242,2,  34.4215,2,   189.36,2,   189.78,2,    31.82,2,     0.19,    29.19,2,     0.11,     0.01,2,     0.01,    2.033,2,    0.015,    0.565,2,    0.287,2,    0.022,2,   2192.5,2,   2302.5,6,   7.6563,  25,2,  -999.00,9,  -999.00,   -999.0,9,   -999.0,   5.3449,  27.1783
  49NZ20090521,   P21,   261,  1,     24, X12035,2,20090613,1344,-20.8930, 164.2843, 2083,    929.8,2,   4.8990,2,   4.89579,2,  34.4530,2,  34.4516,2,   178.37,2,   179.05,2,    43.63,2,     0.21,    30.65,2,     0.12,     0.01,2,     0.01,    2.147,2,    0.015,    0.356,2,    0.180,2,    0.018,2,   2211.7,2,   2315.4,2,   7.6362,  25,6,  -999.00,9,  -999.00,   -999.0,9,   -999.0,   4.8228,  27.2618
  49NZ20090521,   P21,   261,  1,     23, X12038,2,20090613,1344,-20.8930, 164.2843, 2083,   1070.3,2,   4.1657,2,   4.16442,2,  34.4932,2,  34.4940,6,   167.95,2,   167.67,2,    60.52,2,     0.25,    32.53,2,     0.12,     0.01,2,     0.01,    2.285,2,    0.016,    0.156,2,    0.076,2,    0.000,2,   2236.8,2,   2333.9,2,   7.6138,  25,2,  -999.00,9,  -999.00,   -999.0,9,   -999.0,   4.0828,  27.3744
  49NZ20090521,   P21,   261,  1,     22, X12034,2,20090613,1344,-20.8930, 164.2843, 2083,   1268.8,2,   3.4571,2,   3.45641,2,  34.5451,2,  34.5445,2,   157.47,2,   157.41,2,    78.23,2,     0.29,    33.94,2,     0.13,     0.01,2,     0.01,    2.393,2,    0.016,    0.055,2,    0.026,2,    0.000,2,   2261.8,2,   2354.2,2,   7.5975,  25,2,  -999.00,9,  -999.00,   -999.0,9,   -999.0,   3.3637,  27.4878
  49NZ20090521,   P21,   261,  1,     21, X12033,2,20090613,1344,-20.8930, 164.2843, 2083,   1470.0,2,   2.9703,2,   2.97032,2,  34.5860,2,  34.5864,2,   151.95,2,   151.73,2,    91.32,2,     0.32,    34.67,2,     0.13,     0.01,2,     0.01,    2.457,2,    0.016,    0.013,2,    0.007,2,    0.000,2,   2279.3,2,   2369.1,2,   7.5880,  25,2,  -999.00,9,  -999.00,   -999.0,9,   -999.0,   2.8653,  27.5668
  49NZ20090521,   P21,   261,  1,     20, X12032,2,20090613,1344,-20.8930, 164.2843, 2083,   1671.2,2,   2.7177,2,   2.71755,2,  34.6088,2,  34.6089,2,   150.68,2,   150.49,2,    97.39,2,     0.33,    35.03,2,     0.13,     0.01,2,     0.01,    2.473,2,    0.016,    0.008,2,    0.004,2,    0.000,2,   2288.0,2,   2375.6,2,   7.5858,  25,6,  -999.00,9,  -999.00,   -999.0,9,   -999.0,   2.5989,  27.6086
  49NZ20090521,   P21,   261,  1,     19, X12046,2,20090613,1344,-20.8930, 164.2843, 2083,   1869.2,2,   2.5034,2,   2.50290,2,  34.6280,2,  34.6286,2,   150.98,2,   150.68,2,   102.38,2,     0.34,    35.04,2,     0.13,     0.01,2,     0.01,    2.482,2,    0.016,    0.003,2,    0.002,2,    0.000,2,   2292.8,2,   2380.3,2,   7.5845,  25,2,  -999.00,9,  -999.00,   -999.0,9,   -999.0,   2.3706,  27.6434
  49NZ20090521,   P21,   261,  1,     18, X12006,9,20090613,1344,-20.8930, 164.2843, 2083,      9.8,2,  24.4273,2,  24.42807,2,  34.9360,2,-999.0000,9,   208.74,2,  -999.00,9,  -999.00,9,  -999.00,  -999.00,9,  -999.00,  -999.00,9,  -999.00, -999.000,9, -999.000, -999.000,9, -999.000,9, -999.000,9,   -999.0,9,   -999.0,9,-999.0000,-999,9,  -999.00,9,  -999.00,   -999.0,9,   -999.0,  24.4252,  23.4663
  49NZ20090521,   P21,   261,  1,     17, X12047,9,20090613,1344,-20.8930, 164.2843, 2083,     50.2,2,  24.4323,2,  24.43277,2,  34.9332,2,-999.0000,9,   208.72,2,  -999.00,9,  -999.00,9,  -999.00,  -999.00,9,  -999.00,  -999.00,9,  -999.00, -999.000,9, -999.000, -999.000,9, -999.000,9, -999.000,9,   -999.0,9,   -999.0,9,-999.0000,-999,9,  -999.00,9,  -999.00,   -999.0,9,   -999.0,  24.4216,  23.4652
  49NZ20090521,   P21,   261,  1,     16, X12004,9,20090613,1344,-20.8930, 164.2843, 2083,    100.0,2,  23.6434,2,  23.64476,2,  35.3138,2,-999.0000,9,   208.66,2,  -999.00,9,  -999.00,9,  -999.00,  -999.00,9,  -999.00,  -999.00,9,  -999.00, -999.000,9, -999.000, -999.000,9, -999.000,9, -999.000,9,   -999.0,9,   -999.0,9,-999.0000,-999,9,  -999.00,9,  -999.00,   -999.0,9,   -999.0,  23.6226,  23.9903
  49NZ20090521,   P21,   261,  1,     15, X12003,9,20090613,1344,-20.8930, 164.2843, 2083,    150.9,2,  21.5405,2,  21.54814,2,  35.5969,2,-999.0000,9,   178.68,2,  -999.00,9,  -999.00,9,  -999.00,  -999.00,9,  -999.00,  -999.00,9,  -999.00, -999.000,9, -999.000, -999.000,9, -999.000,9, -999.000,9,   -999.0,9,   -999.0,9,-999.0000,-999,9,  -999.00,9,  -999.00,   -999.0,9,   -999.0,  21.5110,  24.8079
  49NZ20090521,   P21,   261,  1,     14, X12002,9,20090613,1344,-20.8930, 164.2843, 2083,    200.5,2,  20.0534,2,  20.05303,2,  35.6454,2,-999.0000,9,   182.10,2,  -999.00,9,  -999.00,9,  -999.00,  -999.00,9,  -999.00,  -999.00,9,  -999.00, -999.000,9, -999.000, -999.000,9, -999.000,9, -999.000,9,   -999.0,9,   -999.0,9,-999.0000,-999,9,  -999.00,9,  -999.00,   -999.0,9,   -999.0,  20.0161,  25.2499
  49NZ20090521,   P21,   261,  1,     13, X12001,9,20090613,1344,-20.8930, 164.2843, 2083,    250.5,2,  18.6707,2,  18.67104,2,  35.6394,2,-999.0000,9,   190.62,2,  -999.00,9,  -999.00,9,  -999.00,  -999.00,9,  -999.00,  -999.00,9,  -999.00, -999.000,9, -999.000, -999.000,9, -999.000,9, -999.000,9,   -999.0,9,   -999.0,9,-999.0000,-999,9,  -999.00,9,  -999.00,   -999.0,9,   -999.0,  18.6263,  25.6052
  49NZ20090521,   P21,   261,  1,     12, X12030,9,20090613,1344,-20.8930, 164.2843, 2083,    331.6,2,  17.1202,2,  17.12080,2,  35.5394,2,-999.0000,9,   188.90,2,  -999.00,9,  -999.00,9,  -999.00,  -999.00,9,  -999.00,  -999.00,9,  -999.00, -999.000,9, -999.000, -999.000,9, -999.000,9, -999.000,9,   -999.0,9,   -999.0,9,-999.0000,-999,9,  -999.00,9,  -999.00,   -999.0,9,   -999.0,  17.0648,  25.9129
  49NZ20090521,   P21,   261,  1,     11, X12044,9,20090613,1344,-20.8930, 164.2843, 2083,    430.6,2,  13.9244,2,  13.92359,2,  35.2043,2,-999.0000,9,   188.12,2,  -999.00,9,  -999.00,9,  -999.00,  -999.00,9,  -999.00,  -999.00,9,  -999.00, -999.000,9, -999.000, -999.000,9, -999.000,9, -999.000,9,   -999.0,9,   -999.0,9,-999.0000,-999,9,  -999.00,9,  -999.00,   -999.0,9,   -999.0,  13.8618,  26.3741
  49NZ20090521,   P21,   261,  1,     10, X12048,9,20090613,1344,-20.8930, 164.2843, 2083,    530.3,2,   9.9485,2,   9.94990,2,  34.7333,2,-999.0000,9,   196.62,2,  -999.00,9,  -999.00,9,  -999.00,  -999.00,9,  -999.00,  -999.00,9,  -999.00, -999.000,9, -999.000, -999.000,9, -999.000,9, -999.000,9,   -999.0,9,   -999.0,9,-999.0000,-999,9,  -999.00,9,  -999.00,   -999.0,9,   -999.0,   9.8863,  26.7630
  49NZ20090521,   P21,   261,  1,      9, X12027,9,20090613,1344,-20.8930, 164.2843, 2083,    631.3,2,   7.7922,2,   7.79224,2,  34.5225,2,-999.0000,9,   203.49,2,  -999.00,9,  -999.00,9,  -999.00,  -999.00,9,  -999.00,  -999.00,9,  -999.00, -999.000,9, -999.000, -999.000,9, -999.000,9, -999.000,9,   -999.0,9,   -999.0,9,-999.0000,-999,9,  -999.00,9,  -999.00,   -999.0,9,   -999.0,   7.7279,  26.9390
  49NZ20090521,   P21,   261,  1,      8, X12026,9,20090613,1344,-20.8930, 164.2843, 2083,    731.7,2,   6.1553,2,   6.15511,2,  34.4159,2,-999.0000,9,   200.90,2,  -999.00,9,  -999.00,9,  -999.00,  -999.00,9,  -999.00,  -999.00,9,  -999.00, -999.000,9, -999.000, -999.000,9, -999.000,9, -999.000,9,   -999.0,9,   -999.0,9,-999.0000,-999,9,  -999.00,9,  -999.00,   -999.0,9,   -999.0,   6.0894,  27.0797
  49NZ20090521,   P21,   261,  1,      7, X12025,9,20090613,1344,-20.8930, 164.2843, 2083,    830.0,2,   5.4224,2,   5.42422,2,  34.4234,2,-999.0000,9,   189.71,2,  -999.00,9,  -999.00,9,  -999.00,  -999.00,9,  -999.00,  -999.00,9,  -999.00, -999.000,9, -999.000, -999.000,9, -999.000,9, -999.000,9,   -999.0,9,   -999.0,9,-999.0000,-999,9,  -999.00,9,  -999.00,   -999.0,9,   -999.0,   5.3517,  27.1768
  49NZ20090521,   P21,   261,  1,      6, X12024,9,20090613,1344,-20.8930, 164.2843, 2083,    929.8,2,   4.9085,2,   4.90613,2,  34.4524,2,-999.0000,9,   178.96,2,  -999.00,9,  -999.00,9,  -999.00,  -999.00,9,  -999.00,  -999.00,9,  -999.00, -999.000,9, -999.000, -999.000,9, -999.000,9, -999.000,9,   -999.0,9,   -999.0,9,-999.0000,-999,9,  -999.00,9,  -999.00,   -999.0,9,   -999.0,   4.8322,  27.2603
  49NZ20090521,   P21,   261,  1,      5, X12028,9,20090613,1344,-20.8930, 164.2843, 2083,   1070.6,2,   4.1675,2,   4.16755,2,  34.4931,2,-999.0000,9,   168.05,2,  -999.00,9,  -999.00,9,  -999.00,  -999.00,9,  -999.00,  -999.00,9,  -999.00, -999.000,9, -999.000, -999.000,9, -999.000,9, -999.000,9,   -999.0,9,   -999.0,9,-999.0000,-999,9,  -999.00,9,  -999.00,   -999.0,9,   -999.0,   4.0846,  27.3741
  49NZ20090521,   P21,   261,  1,      4, X12022,9,20090613,1344,-20.8930, 164.2843, 2083,   1269.3,2,   3.4606,2,   3.45926,2,  34.5446,2,-999.0000,9,   157.52,2,  -999.00,9,  -999.00,9,  -999.00,  -999.00,9,  -999.00,  -999.00,9,  -999.00, -999.000,9, -999.000, -999.000,9, -999.000,9, -999.000,9,   -999.0,9,   -999.0,9,-999.0000,-999,9,  -999.00,9,  -999.00,   -999.0,9,   -999.0,   3.3672,  27.4871
  49NZ20090521,   P21,   261,  1,      3, X12021,9,20090613,1344,-20.8930, 164.2843, 2083,    150.9,2,  21.5476,2,  21.54462,2,  35.5956,2,-999.0000,9,   178.35,2,  -999.00,9,  -999.00,9,  -999.00,  -999.00,9,  -999.00,  -999.00,9,  -999.00, -999.000,9, -999.000, -999.000,9, -999.000,9, -999.000,9,   -999.0,9,   -999.0,9,-999.0000,-999,9,  -999.00,9,  -999.00,   -999.0,9,   -999.0,  21.5181,  24.8050
  49NZ20090521,   P21,   261,  1,      2, X12020,9,20090613,1344,-20.8930, 164.2843, 2083,   1469.2,2,   2.9691,2,   2.96898,2,  34.5862,2,-999.0000,9,   151.91,2,  -999.00,9,  -999.00,9,  -999.00,  -999.00,9,  -999.00,  -999.00,9,  -999.00, -999.000,9, -999.000, -999.000,9, -999.000,9, -999.000,9,   -999.0,9,   -999.0,9,-999.0000,-999,9,  -999.00,9,  -999.00,   -999.0,9,   -999.0,   2.8641,  27.5671
  49NZ20090521,   P21,   261,  1,      1, X12019,2,20090613,1344,-20.8930, 164.2843, 2083,   2018.0,2,   2.3371,2,   2.33690,2,  34.6431,2,  34.6437,6,   152.07,2,   151.68,2,   105.75,2,     0.35,    35.17,2,     0.13,     0.01,2,     0.01,    2.484,2,    0.016,    0.001,2,    0.003,2,    0.000,2,   2296.9,2,   2385.4,2,   7.5875,  25,2,  -999.00,9,  -999.00,   -999.0,9,   -999.0,   2.1940,  27.6702