BOTTLE,20111109CCHDOSIOCBG
EXPOCODE,SECT_ID,STNNBR,CASTNO,SAMPNO,BTLNBR,BTLNBR_FLAG_W,DATE,TIME,LATITUDE,LONGITUDE,DEPTH,CTDPRS,CTDPRS_FLAG_W,CTDTMP,CTDTMP_FLAG_W,SBE35,SBE35_FLAG_W,CTDSAL,CTDSAL_FLAG_W,SALNTY,SALNTY_FLAG_W,CTDOXY,CTDOXY_FLAG_W,OXYGEN,OXYGEN_FLAG_W,SILCAT,SILCAT_FLAG_W,SILUNC,NITRAT,NITRAT_FLAG_W,NRAUNC,NITRIT,NITRIT_FLAG_W,NRIUNC,PHSPHT,PHSPHT_FLAG_W,PHPUNC,CFC-11,CFC-11_FLAG_W,CFC-12,CFC-12_FLAG_W,CFC113,CFC113_FLAG_W,TCARBN,TCARBN_FLAG_W,ALKALI,ALKALI_FLAG_W,PH_TOT,PH_TMP,PH_TOT_FLAG_W,DELC13,DELC13_FLAG_W,C13ERR,DELC14,DELC14_FLAG_W,C14ERR,THETA,SIG0
,,,,,,,,,,,METERS,DBAR,,ITS-90,,ITS-90,,PSS-78,,PSS-78,,UMOL/KG,,UMOL/KG,,UMOL/KG,,UMOL/KG,UMOL/KG,,UMOL/KG,UMOL/KG,,UMOL/KG,UMOL/KG,,UMOL/KG,PMOL/KG,,PMOL/KG,,PMOL/KG,,UMOL/KG,,UMOL/KG,,,DEG C,,/MILLE,,/MILLE,/MILLE,,/MILLE,DEG C,KG/M^3
  49NZ20090521,   P21,   167,  1,      0,   -999,9,20090522,1039,-17.4988,-151.0035, 3666,   -999.0,9,-999.0000,9,-999.00000,9,-999.0000,9,  36.1520,2,  -999.00,9,  -999.00,9,  -999.00,9,  -999.00,  -999.00,9,  -999.00,  -999.00,9,  -999.00, -999.000,9, -999.000, -999.000,9, -999.000,9, -999.000,9,   -999.0,9,   -999.0,9,-999.0000,-999,9,  -999.00,9,  -999.00,   -999.0,9,   -999.0,-999.0000,-999.0000
  49NZ20090521,   P21,   167,  1,     36, X12043,2,20090522,1039,-17.4988,-151.0035, 3666,     10.0,2,  28.0394,2,  28.03814,2,  36.1396,2,  36.1375,2,   196.63,2,   196.28,2,     0.74,2,     0.12,     0.06,2,     0.03,     0.01,2,     0.01,    0.220,2,    0.015,    1.418,2,    0.920,2, -999.000,5,   -999.0,9,   -999.0,9,-999.0000,-999,9,  -999.00,9,  -999.00,   -999.0,9,   -999.0,  28.0370,  23.2398
  49NZ20090521,   P21,   167,  1,     35, X12042,2,20090522,1039,-17.4988,-151.0035, 3666,     50.4,2,  27.9572,2,  27.95559,2,  36.1402,2,  36.1383,2,   196.44,2,   196.19,2,     0.63,2,     0.12,     0.04,2,     0.03,     0.01,2,     0.01,    0.199,2,    0.016,    1.425,2,    0.925,2, -999.000,5,   -999.0,9,   -999.0,9,-999.0000,-999,9,  -999.00,9,  -999.00,   -999.0,9,   -999.0,  27.9453,  23.2703
  49NZ20090521,   P21,   167,  1,     34, X12016,2,20090522,1039,-17.4988,-151.0035, 3666,    100.3,2,  26.0909,2,  26.09009,2,  36.4196,2,  36.4170,2,   198.81,2,   198.29,2,     0.69,2,     0.12,     0.04,2,     0.03,     0.02,2,     0.01,    0.245,2,    0.015,    1.604,6,    1.029,6, -999.000,5,   -999.0,9,   -999.0,9,-999.0000,-999,9,  -999.00,9,  -999.00,   -999.0,9,   -999.0,  26.0684,  24.0834
  49NZ20090521,   P21,   167,  1,     33, X12015,2,20090522,1039,-17.4988,-151.0035, 3666,    150.7,2,  24.7468,2,  24.74458,2,  36.3033,2,  36.3008,2,   189.90,2,   189.60,2,     0.61,2,     0.12,     0.64,2,     0.03,     0.04,2,     0.01,    0.281,2,    0.014,    1.677,2,    1.064,2, -999.000,5,   -999.0,9,   -999.0,9,-999.0000,-999,9,  -999.00,9,  -999.00,   -999.0,9,   -999.0,  24.7142,  24.4136
  49NZ20090521,   P21,   167,  1,     32, X12050,2,20090522,1039,-17.4988,-151.0035, 3666,    199.8,2,  23.0713,2,  23.07345,2,  36.1015,2,  36.1014,2,   178.68,2,   178.21,2,     0.63,2,     0.12,     2.03,2,     0.04,     0.03,2,     0.01,    0.372,2,    0.014,    1.834,2,    1.150,2,    0.152,2,   -999.0,9,   -999.0,9,-999.0000,-999,9,  -999.00,9,  -999.00,   -999.0,9,   -999.0,  23.0302,  24.7606
  49NZ20090521,   P21,   167,  1,     31, X12014,2,20090522,1039,-17.4988,-151.0035, 3666,    247.5,2,  21.2287,2,  21.22956,2,  35.8653,2,  35.8653,6,   178.67,2,   178.33,2,     0.68,2,     0.12,     2.91,2,     0.04,     0.02,2,     0.01,    0.423,2,    0.013,    2.025,2,    1.230,2,    0.090,2,   -999.0,9,   -999.0,9,-999.0000,-999,9,  -999.00,9,  -999.00,   -999.0,9,   -999.0,  21.1807,  25.1034
  49NZ20090521,   P21,   167,  1,     30, X12012,2,20090522,1039,-17.4988,-151.0035, 3666,    280.7,2,  19.5664,2,  19.56348,2,  35.6324,2,  35.6337,2,   178.16,2,   178.27,2,     0.93,2,     0.12,     4.13,2,     0.04,     0.01,2,     0.01,    0.504,2,    0.013,    2.165,2,    1.292,2,    0.049,2,   -999.0,9,   -999.0,9,-999.0000,-999,9,  -999.00,9,  -999.00,   -999.0,9,   -999.0,  19.5150,  25.3716
  49NZ20090521,   P21,   167,  1,     29, X12041,2,20090522,1039,-17.4988,-151.0035, 3666,    372.0,2,  13.9793,2,  13.97959,2,  34.9340,2,  34.9342,2,   173.15,2,   173.28,2,     3.92,2,     0.13,    11.36,2,     0.06,     0.01,2,     0.01,    0.990,2,    0.013,    2.279,6,    1.245,6,    0.032,6,   -999.0,9,   -999.0,9,-999.0000,-999,9,  -999.00,9,  -999.00,   -999.0,9,   -999.0,  13.9253,  26.1518
  49NZ20090521,   P21,   167,  1,     28, X12040,2,20090522,1039,-17.4988,-151.0035, 3666,    469.2,2,   9.1320,2,   9.13753,2,  34.5185,2,  34.5182,6,   156.51,2,   156.73,2,    12.01,2,     0.15,    23.30,2,     0.10,     0.01,2,     0.01,    1.760,2,    0.015,    1.532,2,    0.788,2,    0.031,2,   -999.0,9,   -999.0,9,-999.0000,-999,9,  -999.00,9,  -999.00,   -999.0,9,   -999.0,   9.0801,  26.7283
  49NZ20090521,   P21,   167,  1,     27, X12009,2,20090522,1039,-17.4988,-151.0035, 3666,    568.8,2,   7.2385,2,   7.24427,2,  34.4399,2,  34.4399,2,   156.41,2,   156.31,2,    19.36,2,     0.16,    28.19,2,     0.11,     0.01,2,     0.01,    2.044,2,    0.015,    0.931,6,    0.475,6,    0.021,6,   -999.0,9,   -999.0,9,-999.0000,-999,9,  -999.00,9,  -999.00,   -999.0,9,   -999.0,   7.1833,  26.9521
  49NZ20090521,   P21,   167,  1,     26, X12008,2,20090522,1039,-17.4988,-151.0035, 3666,    670.0,2,   5.8122,2,   5.81507,2,  34.3916,2,  34.3916,2,   167.85,2,   167.98,2,    26.87,2,     0.18,    30.79,2,     0.12,     0.01,2,     0.01,    2.171,2,    0.015,    0.525,2,    0.269,2,    0.012,2,   -999.0,9,   -999.0,9,-999.0000,-999,9,  -999.00,9,  -999.00,   -999.0,9,   -999.0,   5.7539,  27.1027
  49NZ20090521,   P21,   167,  1,     25, X12007,2,20090522,1039,-17.4988,-151.0035, 3666,    768.3,2,   5.1670,2,   5.16891,2,  34.4281,2,  34.4263,2,   153.77,2,   154.30,2,    39.68,2,     0.21,    32.82,2,     0.12,     0.01,2,     0.01,    2.320,2,    0.016,    0.202,2,    0.106,2,    0.000,2,   -999.0,9,   -999.0,9,-999.0000,-999,9,  -999.00,9,  -999.00,   -999.0,9,   -999.0,   5.1034,  27.2098
  49NZ20090521,   P21,   167,  1,     24, X12035,2,20090522,1039,-17.4988,-151.0035, 3666,    871.1,2,   4.6578,2,   4.65809,2,  34.4576,2,  34.4571,2,   148.89,2,   149.01,2,    50.87,2,     0.23,    34.01,2,     0.13,     0.01,2,     0.01,    2.398,2,    0.016,    0.075,2,    0.042,2,    0.000,2,   -999.0,9,   -999.0,9,-999.0000,-999,9,  -999.00,9,  -999.00,   -999.0,9,   -999.0,   4.5884,  27.2917
  49NZ20090521,   P21,   167,  1,     23, X12038,2,20090522,1039,-17.4988,-151.0035, 3666,    970.1,2,   4.2152,2,   4.21589,2,  34.4844,2,  34.4842,6,   145.23,2,   145.33,2,    60.78,2,     0.25,    34.74,2,     0.13,     0.00,2,     0.01,    2.459,2,    0.016,    0.028,2,    0.015,2,    0.000,2,   -999.0,9,   -999.0,9,-999.0000,-999,9,  -999.00,9,  -999.00,   -999.0,9,   -999.0,   4.1404,  27.3613
  49NZ20090521,   P21,   167,  1,     22, X12034,2,20090522,1039,-17.4988,-151.0035, 3666,   1129.1,2,   3.5955,2,   3.59268,2,  34.5210,2,  34.5206,2,   142.65,2,   142.85,2,    74.78,2,     0.28,    35.57,2,     0.13,     0.01,2,     0.01,    2.512,2,    0.016,    0.007,2,    0.006,2,    0.000,2,   -999.0,9,   -999.0,9,-999.0000,-999,9,  -999.00,9,  -999.00,   -999.0,9,   -999.0,   3.5125,  27.4542
  49NZ20090521,   P21,   167,  1,     21, X12033,2,20090522,1039,-17.4988,-151.0035, 3666,   1328.4,2,   3.1254,2,   3.12512,2,  34.5541,2,  34.5543,2,   142.77,2,   143.02,2,    86.45,2,     0.31,    35.89,2,     0.13,     0.01,2,     0.01,    2.537,2,    0.016,    0.002,2,    0.003,2,    0.000,2,   -999.0,9,   -999.0,9,-999.0000,-999,9,  -999.00,9,  -999.00,   -999.0,9,   -999.0,   3.0304,  27.5264
  49NZ20090521,   P21,   167,  1,     20, X12032,2,20090522,1039,-17.4988,-151.0035, 3666,   1529.7,2,   2.7471,2,   2.74700,2,  34.5837,2,  34.5838,2,   144.48,2,   144.67,2,    96.29,2,     0.33,    35.85,2,     0.13,     0.01,2,     0.01,    2.538,2,    0.016,    0.000,2,    0.001,2,    0.000,2,   -999.0,9,   -999.0,9,-999.0000,-999,9,  -999.00,9,  -999.00,   -999.0,9,   -999.0,   2.6397,  27.5850
  49NZ20090521,   P21,   167,  1,     19, X12046,2,20090522,1039,-17.4988,-151.0035, 3666,   1730.1,2,   2.4642,2,   2.46626,2,  34.6044,2,  34.6044,2,   147.38,2,   147.49,2,   103.28,2,     0.35,    35.75,2,     0.13,     0.01,2,     0.01,    2.525,2,    0.016,    0.001,2,    0.001,2,    0.000,2,   -999.0,9,   -999.0,9,-999.0000,-999,9,  -999.00,9,  -999.00,   -999.0,9,   -999.0,   2.3438,  27.6268
  49NZ20090521,   P21,   167,  1,     18, X12006,2,20090522,1039,-17.4988,-151.0035, 3666,   1929.4,2,   2.2636,2,   2.26416,2,  34.6220,2,  34.6225,6,   149.45,2,   149.50,2,   108.59,2,     0.36,    35.74,2,     0.13,     0.01,2,     0.01,    2.516,2,    0.016,    0.000,2,    0.000,2,    0.000,2,   -999.0,9,   -999.0,9,-999.0000,-999,9,  -999.00,9,  -999.00,   -999.0,9,   -999.0,   2.1292,  27.6585
  49NZ20090521,   P21,   167,  1,     17, X12047,2,20090522,1039,-17.4988,-151.0035, 3666,   2129.6,2,   2.0983,2,   2.09822,2,  34.6363,2,  34.6368,2,   151.89,2,   152.00,2,   112.80,2,     0.37,    35.58,2,     0.13,     0.01,2,     0.01,    2.512,2,    0.016,    0.000,2,    0.000,2,    0.000,2,   -999.0,9,   -999.0,9,-999.0000,-999,9,  -999.00,9,  -999.00,   -999.0,9,   -999.0,   1.9493,  27.6843
  49NZ20090521,   P21,   167,  1,     16, X12004,2,20090522,1039,-17.4988,-151.0035, 3666,   2330.3,2,   1.9554,2,   1.95630,2,  34.6492,2,  34.6499,2,   154.12,2,   154.22,2,   116.43,2,     0.38,    35.41,2,     0.13,     0.01,2,     0.01,    2.498,2,    0.016,    0.000,2,    0.000,2,    0.000,2,   -999.0,9,   -999.0,9,-999.0000,-999,9,  -999.00,9,  -999.00,   -999.0,9,   -999.0,   1.7912,  27.7069
  49NZ20090521,   P21,   167,  1,     15, X12003,2,20090522,1039,-17.4988,-151.0035, 3666,   2530.4,2,   1.8703,2,   1.87021,2,  34.6566,2,  34.6567,2,   156.49,2,   156.60,2,   118.06,2,     0.38,    35.29,2,     0.13,     0.01,2,     0.01,    2.485,2,    0.016,    0.001,2,    0.001,2,    0.000,2,   -999.0,9,   -999.0,9,-999.0000,-999,9,  -999.00,9,  -999.00,   -999.0,9,   -999.0,   1.6897,  27.7205
  49NZ20090521,   P21,   167,  1,     14, X12002,2,20090522,1039,-17.4988,-151.0035, 3666,   2729.9,2,   1.7974,2,   1.79733,2,  34.6628,2,  34.6638,6,   159.13,2,   159.29,2,   119.33,2,     0.38,    35.14,2,     0.13,     0.01,2,     0.01,    2.473,2,    0.016,    0.002,2,    0.000,2,    0.000,2,   -999.0,9,   -999.0,9,-999.0000,-999,9,  -999.00,9,  -999.00,   -999.0,9,   -999.0,   1.5998,  27.7322
  49NZ20090521,   P21,   167,  1,     13, X12001,2,20090522,1039,-17.4988,-151.0035, 3666,   2930.2,2,   1.7115,2,   1.71150,2,  34.6699,2,  34.6705,2,   162.64,2,   162.82,2,   120.12,2,     0.38,    34.84,2,     0.13,     0.01,2,     0.01,    2.459,2,    0.016,    0.004,2,    0.000,2,    0.000,2,   -999.0,9,   -999.0,9,-999.0000,-999,9,  -999.00,9,  -999.00,   -999.0,9,   -999.0,   1.4968,  27.7455
  49NZ20090521,   P21,   167,  1,     12, X12030,2,20090522,1039,-17.4988,-151.0035, 3666,   3170.2,2,   1.6265,2,   1.62671,2,  34.6766,2,  34.6772,2,   166.81,2,   167.16,2,   120.76,2,     0.38,    34.59,2,     0.13,     0.01,2,     0.01,    2.435,2,    0.016,    0.000,2,    0.000,2,    0.000,2,   -999.0,9,   -999.0,9,-999.0000,-999,9,  -999.00,9,  -999.00,   -999.0,9,   -999.0,   1.3904,  27.7586
  49NZ20090521,   P21,   167,  1,     11, X12044,2,20090522,1039,-17.4988,-151.0035, 3666,   3419.8,2,   1.5697,2,   1.56951,2,  34.6818,2,  34.6824,2,   170.62,2,   170.88,2,   120.69,2,     0.38,    34.32,2,     0.13,     0.01,2,     0.01,    2.412,2,    0.016,    0.000,2,    0.000,2,    0.000,2,   -999.0,9,   -999.0,9,-999.0000,-999,9,  -999.00,9,  -999.00,   -999.0,9,   -999.0,   1.3100,  27.7684
  49NZ20090521,   P21,   167,  1,     10, X12048,9,20090522,1039,-17.4988,-151.0035, 3666,     10.5,2,  28.0424,2,  28.04212,2,  36.1395,2,-999.0000,9,   196.56,2,  -999.00,9,  -999.00,9,  -999.00,  -999.00,9,  -999.00,  -999.00,9,  -999.00, -999.000,9, -999.000, -999.000,9, -999.000,9, -999.000,9,   -999.0,9,   -999.0,9,-999.0000,-999,9,  -999.00,9,  -999.00,   -999.0,9,   -999.0,  28.0399,  23.2388
  49NZ20090521,   P21,   167,  1,      9, X12027,9,20090522,1039,-17.4988,-151.0035, 3666,    871.6,2,   4.6570,2,   4.65697,2,  34.4577,2,-999.0000,9,   148.99,2,  -999.00,9,  -999.00,9,  -999.00,  -999.00,9,  -999.00,  -999.00,9,  -999.00, -999.000,9, -999.000, -999.000,9, -999.000,9, -999.000,9,   -999.0,9,   -999.0,9,-999.0000,-999,9,  -999.00,9,  -999.00,   -999.0,9,   -999.0,   4.5875,  27.2919
  49NZ20090521,   P21,   167,  1,      8, X12026,9,20090522,1039,-17.4988,-151.0035, 3666,   2129.2,2,   2.0984,2,   2.09836,2,  34.6363,2,-999.0000,9,   151.87,2,  -999.00,9,  -999.00,9,  -999.00,  -999.00,9,  -999.00,  -999.00,9,  -999.00, -999.000,9, -999.000, -999.000,9, -999.000,9, -999.000,9,   -999.0,9,   -999.0,9,-999.0000,-999,9,  -999.00,9,  -999.00,   -999.0,9,   -999.0,   1.9494,  27.6843
  49NZ20090521,   P21,   167,  1,      7, X12025,9,20090522,1039,-17.4988,-151.0035, 3666,   2330.3,2,   1.9560,2,   1.95571,2,  34.6491,2,-999.0000,9,   154.12,2,  -999.00,9,  -999.00,9,  -999.00,  -999.00,9,  -999.00,  -999.00,9,  -999.00, -999.000,9, -999.000, -999.000,9, -999.000,9, -999.000,9,   -999.0,9,   -999.0,9,-999.0000,-999,9,  -999.00,9,  -999.00,   -999.0,9,   -999.0,   1.7918,  27.7067
  49NZ20090521,   P21,   167,  1,      6, X12024,9,20090522,1039,-17.4988,-151.0035, 3666,   2530.8,2,   1.8700,2,   1.87007,2,  34.6567,2,-999.0000,9,   156.52,2,  -999.00,9,  -999.00,9,  -999.00,  -999.00,9,  -999.00,  -999.00,9,  -999.00, -999.000,9, -999.000, -999.000,9, -999.000,9, -999.000,9,   -999.0,9,   -999.0,9,-999.0000,-999,9,  -999.00,9,  -999.00,   -999.0,9,   -999.0,   1.6893,  27.7206
  49NZ20090521,   P21,   167,  1,      5, X12028,9,20090522,1039,-17.4988,-151.0035, 3666,   2729.6,2,   1.7958,2,   1.79566,2,  34.6630,2,-999.0000,9,   159.14,2,  -999.00,9,  -999.00,9,  -999.00,  -999.00,9,  -999.00,  -999.00,9,  -999.00, -999.000,9, -999.000, -999.000,9, -999.000,9, -999.000,9,   -999.0,9,   -999.0,9,-999.0000,-999,9,  -999.00,9,  -999.00,   -999.0,9,   -999.0,   1.5983,  27.7325
  49NZ20090521,   P21,   167,  1,      4, X12022,9,20090522,1039,-17.4988,-151.0035, 3666,   2929.7,2,   1.7115,2,   1.71145,2,  34.6699,2,-999.0000,9,   162.63,2,  -999.00,9,  -999.00,9,  -999.00,  -999.00,9,  -999.00,  -999.00,9,  -999.00, -999.000,9, -999.000, -999.000,9, -999.000,9, -999.000,9,   -999.0,9,   -999.0,9,-999.0000,-999,9,  -999.00,9,  -999.00,   -999.0,9,   -999.0,   1.4968,  27.7455
  49NZ20090521,   P21,   167,  1,      3, X12021,9,20090522,1039,-17.4988,-151.0035, 3666,   3170.1,2,   1.6270,2,   1.62696,2,  34.6766,2,-999.0000,9,   166.87,2,  -999.00,9,  -999.00,9,  -999.00,  -999.00,9,  -999.00,  -999.00,9,  -999.00, -999.000,9, -999.000, -999.000,9, -999.000,9, -999.000,9,   -999.0,9,   -999.0,9,-999.0000,-999,9,  -999.00,9,  -999.00,   -999.0,9,   -999.0,   1.3909,  27.7585
  49NZ20090521,   P21,   167,  1,      2, X12020,9,20090522,1039,-17.4988,-151.0035, 3666,   3420.1,2,   1.5697,2,   1.56957,2,  34.6817,2,-999.0000,9,   170.62,2,  -999.00,9,  -999.00,9,  -999.00,  -999.00,9,  -999.00,  -999.00,9,  -999.00, -999.000,9, -999.000, -999.000,9, -999.000,9, -999.000,9,   -999.0,9,   -999.0,9,-999.0000,-999,9,  -999.00,9,  -999.00,   -999.0,9,   -999.0,   1.3100,  27.7684
  49NZ20090521,   P21,   167,  1,      1, X12019,2,20090522,1039,-17.4988,-151.0035, 3666,   3675.6,2,   1.4907,2,   1.49034,2,  34.6879,2,  34.6889,6,   176.06,2,   176.06,2,   120.20,2,     0.38,    34.02,2,     0.13,     0.01,2,     0.01,    2.386,2,    0.016,    0.001,2,    0.001,2,    0.000,2,   -999.0,9,   -999.0,9,-999.0000,-999,9,  -999.00,9,  -999.00,   -999.0,9,   -999.0,   1.2066,  27.7805