BOTTLE,20111109CCHDOSIOCBG
EXPOCODE,SECT_ID,STNNBR,CASTNO,SAMPNO,BTLNBR,BTLNBR_FLAG_W,DATE,TIME,LATITUDE,LONGITUDE,DEPTH,CTDPRS,CTDPRS_FLAG_W,CTDTMP,CTDTMP_FLAG_W,SBE35,SBE35_FLAG_W,CTDSAL,CTDSAL_FLAG_W,SALNTY,SALNTY_FLAG_W,CTDOXY,CTDOXY_FLAG_W,OXYGEN,OXYGEN_FLAG_W,SILCAT,SILCAT_FLAG_W,SILUNC,NITRAT,NITRAT_FLAG_W,NRAUNC,NITRIT,NITRIT_FLAG_W,NRIUNC,PHSPHT,PHSPHT_FLAG_W,PHPUNC,CFC-11,CFC-11_FLAG_W,CFC-12,CFC-12_FLAG_W,CFC113,CFC113_FLAG_W,TCARBN,TCARBN_FLAG_W,ALKALI,ALKALI_FLAG_W,PH_TOT,PH_TMP,PH_TOT_FLAG_W,DELC13,DELC13_FLAG_W,C13ERR,DELC14,DELC14_FLAG_W,C14ERR,THETA,SIG0
,,,,,,,,,,,METERS,DBAR,,ITS-90,,ITS-90,,PSS-78,,PSS-78,,UMOL/KG,,UMOL/KG,,UMOL/KG,,UMOL/KG,UMOL/KG,,UMOL/KG,UMOL/KG,,UMOL/KG,UMOL/KG,,UMOL/KG,PMOL/KG,,PMOL/KG,,PMOL/KG,,UMOL/KG,,UMOL/KG,,,DEG C,,/MILLE,,/MILLE,/MILLE,,/MILLE,DEG C,KG/M^3
  49NZ20090521,   P21,   231,  1,      0,   -999,9,20090608,0700,-17.8348, 172.3303, 2928,   -999.0,9,-999.0000,9,-999.00000,9,-999.0000,9,  34.8121,2,  -999.00,9,  -999.00,9,  -999.00,9,  -999.00,  -999.00,9,  -999.00,  -999.00,9,  -999.00, -999.000,9, -999.000, -999.000,9, -999.000,9, -999.000,9,   -999.0,9,   -999.0,9,-999.0000,-999,9,  -999.00,9,  -999.00,   -999.0,9,   -999.0,-999.0000,-999.0000
  49NZ20090521,   P21,   231,  1,     36, X12043,2,20090608,0700,-17.8348, 172.3303, 2928,     10.5,2,  26.2496,2,  26.24966,2,  34.8029,2,  34.8008,2,   203.22,2,   202.43,2,     0.50,2,     0.12,     0.09,2,     0.03,     0.01,2,     0.01,    0.063,2,    0.029,    1.549,2,    0.977,2, -999.000,5,   1936.8,2,   2284.5,2,   8.1338,  25,6,  -999.00,1,  -999.00,   -999.0,1,   -999.0,  26.2472,  22.8074
  49NZ20090521,   P21,   231,  1,     35, X12042,2,20090608,0700,-17.8348, 172.3303, 2928,     50.5,2,  26.2079,2,  26.20765,2,  34.8026,2,  34.8009,2,   202.79,2,   202.46,2,     0.48,2,     0.12,     0.07,2,     0.03,     0.01,2,     0.01,    0.065,2,    0.029,    1.534,2,    0.951,2, -999.000,5,   1935.8,6,   2284.8,2,   8.1329,  25,2,  -999.00,1,  -999.00,   -999.0,1,   -999.0,  26.1966,  22.8230
  49NZ20090521,   P21,   231,  1,     34, X12016,2,20090608,0700,-17.8348, 172.3303, 2928,    100.4,2,  25.1532,2,  25.15258,2,  35.3944,2,  35.4061,2,   186.83,2,   185.78,2,     0.61,2,     0.12,     0.16,2,     0.03,     0.06,2,     0.01,    0.191,2,    0.016,    1.734,6,    1.060,6, -999.000,5,   2008.3,2,   2324.3,6,   8.0681,  25,2,  -999.00,1,  -999.00,   -999.0,1,   -999.0,  25.1313,  23.5993
  49NZ20090521,   P21,   231,  1,     33, X12015,2,20090608,0700,-17.8348, 172.3303, 2928,    152.0,2,  22.6656,2,  22.66625,2,  35.6108,2,  35.6064,2,   165.71,2,   165.17,2,     0.78,2,     0.12,     3.30,2,     0.04,     0.02,2,     0.01,    0.371,2,    0.014,    1.905,2,    1.143,2,    0.093,2,   2051.5,2,   2334.3,2,   8.0086,  25,6,  -999.00,1,  -999.00,   -999.0,1,   -999.0,  22.6348,  24.5020
  49NZ20090521,   P21,   231,  1,     32, X12050,2,20090608,0700,-17.8348, 172.3303, 2928,    200.3,2,  21.0763,2,  21.07751,2,  35.7089,2,  35.7083,2,   160.93,2,   160.25,2,     1.05,2,     0.12,     4.83,2,     0.05,     0.02,2,     0.01,    0.484,2,    0.013,    2.028,2,    1.193,2,    0.044,2,   2080.7,2,   2342.4,2,   7.9688,  25,2,  -999.00,1,  -999.00,   -999.0,1,   -999.0,  21.0377,  25.0234
  49NZ20090521,   P21,   231,  1,     31, X12014,2,20090608,0700,-17.8348, 172.3303, 2928,    250.9,2,  19.1315,2,  19.13672,2,  35.5934,2,  35.5928,6,   166.83,2,   166.16,2,     1.49,2,     0.12,     5.89,2,     0.05,     0.01,2,     0.01,    0.553,2,    0.013,    2.159,2,    1.229,2,    0.022,2,   2090.3,2,   2334.1,2,   7.9399,  25,2,  -999.00,1,  -999.00,   -999.0,1,   -999.0,  19.0863,  25.4527
  49NZ20090521,   P21,   231,  1,     30, X12012,2,20090608,0700,-17.8348, 172.3303, 2928,    330.5,2,  15.6617,2,  15.65848,2,  35.2565,2,  35.2595,2,   175.58,2,   174.91,2,     2.81,2,     0.13,     9.10,2,     0.06,     0.01,2,     0.01,    0.776,2,    0.013,    2.248,2,    1.236,2,    0.019,2,   2104.8,2,   2316.8,2,   7.8785,  25,2,  -999.00,1,  -999.00,   -999.0,1,   -999.0,  15.6098,  26.0338
  49NZ20090521,   P21,   231,  1,     29, X12041,2,20090608,0700,-17.8348, 172.3303, 2928,    429.9,2,  12.1518,2,  12.15496,2,  34.9222,2,  34.9208,2,   186.26,2,   185.61,2,     4.94,2,     0.13,    14.38,2,     0.07,     0.01,2,     0.01,    1.096,2,    0.013,    2.237,6,    1.180,6,    0.028,6,   2125.1,2,   2301.4,2,   7.8059,  25,2,  -999.00,1,  -999.00,   -999.0,1,   -999.0,  12.0948,  26.5105
  49NZ20090521,   P21,   231,  1,     28, X12040,2,20090608,0700,-17.8348, 172.3303, 2928,    530.6,2,   8.6528,2,   8.65368,2,  34.5579,2,  34.5572,6,   182.10,2,   181.64,2,    11.62,2,     0.14,    22.71,2,     0.10,     0.01,2,     0.01,    1.643,2,    0.014,    1.529,2,    0.767,2,    0.021,2,   2157.1,2,   2290.3,2,   7.7086,  25,2,  -999.00,1,  -999.00,   -999.0,1,   -999.0,   8.5957,  26.8357
  49NZ20090521,   P21,   231,  1,     27, X12009,2,20090608,0700,-17.8348, 172.3303, 2928,    630.5,2,   6.9274,2,   6.92812,2,  34.4340,2,  34.4337,2,   187.69,2,   187.28,2,    17.37,2,     0.16,    26.57,2,     0.11,     0.01,2,     0.01,    1.886,2,    0.015,    1.052,6,    0.514,6,    0.022,6,   2171.7,2,   2290.3,2,   7.6738,  25,2,  -999.00,1,  -999.00,   -999.0,1,   -999.0,   6.8674,  26.9911
  49NZ20090521,   P21,   231,  1,     26, X12008,2,20090608,0700,-17.8348, 172.3303, 2928,    730.7,2,   5.7380,2,   5.73793,2,  34.3916,2,  34.3910,2,   185.95,2,   185.73,2,    26.03,2,     0.18,    29.45,2,     0.12,     0.01,2,     0.01,    2.061,2,    0.015,    0.590,2,    0.294,2,    0.018,2,   2187.5,6,   2296.3,2,   7.6479,  25,2,  -999.00,1,  -999.00,   -999.0,1,   -999.0,   5.6746,  27.1126
  49NZ20090521,   P21,   231,  1,     25, X12007,2,20090608,0700,-17.8348, 172.3303, 2928,    830.2,2,   4.9617,2,   4.96184,2,  34.4041,2,  34.4040,2,   175.34,2,   175.04,2,    37.43,2,     0.20,    31.69,2,     0.12,     0.01,2,     0.01,    2.222,2,    0.016,    0.277,2,    0.139,2,    0.000,2,   2208.8,2,   2307.6,6,   7.6217,  25,2,  -999.00,1,  -999.00,   -999.0,1,   -999.0,   4.8939,  27.2150
  49NZ20090521,   P21,   231,  1,     24, X12035,2,20090608,0700,-17.8348, 172.3303, 2928,    930.4,2,   4.3809,2,   4.38138,2,  34.4358,2,  34.4358,2,   165.96,2,   165.44,2,    50.06,2,     0.23,    33.13,2,     0.13,     0.01,2,     0.01,    2.330,2,    0.016,    0.131,2,    0.070,2,    0.010,2,   2225.4,2,   2320.8,2,   7.6033,  25,2,  -999.00,1,  -999.00,   -999.0,1,   -999.0,   4.3084,  27.3049
  49NZ20090521,   P21,   231,  1,     23, X12038,2,20090608,0700,-17.8348, 172.3303, 2928,   1071.0,2,   3.7636,2,   3.76366,2,  34.4837,2,  34.4835,6,   156.75,2,   156.45,2,    65.85,2,     0.26,    34.35,2,     0.13,     0.01,2,     0.01,    2.414,2,    0.016,    0.049,2,    0.026,2,    0.000,2,   2248.6,2,   2338.6,2,   7.5877,  25,2,  -999.00,1,  -999.00,   -999.0,1,   -999.0,   3.6840,  27.4075
  49NZ20090521,   P21,   231,  1,     22, X12034,2,20090608,0700,-17.8348, 172.3303, 2928,   1270.8,2,   3.3357,2,   3.33558,2,  34.5266,2,  34.5269,2,   150.97,2,   150.66,2,    79.60,2,     0.29,    35.05,2,     0.13,     0.01,2,     0.01,    2.475,2,    0.016,    0.021,2,    0.013,2,    0.000,2,   2266.1,2,   2353.2,2,   7.5803,  25,2,  -999.00,1,  -999.00,   -999.0,1,   -999.0,   3.2434,  27.4845
  49NZ20090521,   P21,   231,  1,     21, X12033,2,20090608,0700,-17.8348, 172.3303, 2928,   1470.4,2,   2.9620,2,   2.96203,2,  34.5683,2,  34.5681,2,   146.51,2,   146.18,2,    93.12,2,     0.32,    35.63,2,     0.13,     0.01,2,     0.01,    2.519,2,    0.016,    0.007,2,    0.003,2,    0.000,2,   2283.5,2,   2369.3,2,   7.5764,  25,2,  -999.00,1,  -999.00,   -999.0,1,   -999.0,   2.8571,  27.5534
  49NZ20090521,   P21,   231,  1,     20, X12032,2,20090608,0700,-17.8348, 172.3303, 2928,   1669.5,2,   2.6444,2,   2.64448,2,  34.5971,2,  34.5970,2,   145.22,2,   144.82,2,   102.97,2,     0.35,    35.85,2,     0.13,     0.01,2,     0.01,    2.533,2,    0.016,    0.001,2,    0.001,2,    0.000,2,   2294.5,2,   2379.8,2,   7.5757,  25,6,  -999.00,1,  -999.00,   -999.0,1,   -999.0,   2.5267,  27.6055
  49NZ20090521,   P21,   231,  1,     19, X12046,2,20090608,0700,-17.8348, 172.3303, 2928,   1870.0,2,   2.4215,2,   2.42161,2,  34.6163,2,  34.6166,2,   145.72,2,   145.33,2,   109.80,2,     0.36,    35.85,2,     0.13,     0.01,2,     0.01,    2.532,2,    0.016,    0.002,2,    0.000,2,    0.000,2,   2300.5,2,   2387.9,2,   7.5774,  25,2,  -999.00,1,  -999.00,   -999.0,1,   -999.0,   2.2899,  27.6408
  49NZ20090521,   P21,   231,  1,     18, X12006,2,20090608,0700,-17.8348, 172.3303, 2928,   2070.2,2,   2.1975,2,   2.19754,2,  34.6350,2,  34.6349,6,   145.75,2,   145.40,2,   116.75,2,     0.38,    35.99,2,     0.13,     0.01,2,     0.01,    2.541,2,    0.016,    0.001,2,    0.000,2,    0.000,2,   2307.7,2,   2395.4,2,   7.5787,  25,2,  -999.00,1,  -999.00,   -999.0,1,   -999.0,   2.0520,  27.6751
  49NZ20090521,   P21,   231,  1,     17, X12047,2,20090608,0700,-17.8348, 172.3303, 2928,   2270.1,2,   2.0774,2,   2.07738,2,  34.6452,2,  34.6450,2,   145.66,2,   145.29,2,   121.14,2,     0.39,    36.12,2,     0.13,     0.01,2,     0.01,    2.543,2,    0.016,    0.000,2,    0.000,2,    0.000,2,   2312.3,2,   2400.4,2,   7.5786,  25,2,  -999.00,1,  -999.00,   -999.0,1,   -999.0,   1.9164,  27.6940
  49NZ20090521,   P21,   231,  1,     16, X12004,2,20090608,0700,-17.8348, 172.3303, 2928,   2470.8,2,   1.9796,2,   1.97956,2,  34.6529,2,  34.6525,2,   145.33,2,   144.97,2,   124.73,2,     0.39,    36.16,2,     0.13,     0.01,2,     0.01,    2.552,2,    0.016,    0.000,2,    0.000,2,    0.000,2,   2315.1,6,   2403.3,2,   7.5785,  25,2,  -999.00,1,  -999.00,   -999.0,1,   -999.0,   1.8023,  27.7090
  49NZ20090521,   P21,   231,  1,     15, X12003,2,20090608,0700,-17.8348, 172.3303, 2928,   2671.0,2,   1.9400,2,   1.93994,2,  34.6563,2,  34.6561,2,   145.12,2,   144.79,2,   126.80,2,     0.40,    36.32,2,     0.13,     0.01,2,     0.01,    2.561,2,    0.016,    0.001,2,    0.000,2,    0.000,2,   2316.4,2,   2405.4,6,   7.5781,  25,2,  -999.00,1,  -999.00,   -999.0,1,   -999.0,   1.7451,  27.7161
  49NZ20090521,   P21,   231,  1,     14, X12002,2,20090608,0700,-17.8348, 172.3303, 2928,   2870.5,2,   1.9330,2,   1.93265,2,  34.6577,2,  34.6578,2,   145.03,2,   144.55,2,   127.67,2,     0.40,    36.36,2,     0.13,     0.01,2,     0.01,    2.557,2,    0.016,    0.000,2,    0.000,2,    0.000,2,   2317.8,2,   2406.5,2,   7.5782,  25,6,  -999.00,1,  -999.00,   -999.0,1,   -999.0,   1.7193,  27.7192
  49NZ20090521,   P21,   231,  1,     13, X12001,9,20090608,0700,-17.8348, 172.3303, 2928,     10.7,2,  26.2630,2,  26.26644,2,  34.8027,2,-999.0000,9,   203.01,2,  -999.00,9,  -999.00,9,  -999.00,  -999.00,9,  -999.00,  -999.00,9,  -999.00, -999.000,9, -999.000, -999.000,9, -999.000,9, -999.000,9,   -999.0,9,   -999.0,9,-999.0000,-999,9,  -999.00,9,  -999.00,   -999.0,9,   -999.0,  26.2606,  22.8031
  49NZ20090521,   P21,   231,  1,     12, X12030,9,20090608,0700,-17.8348, 172.3303, 2928,     50.1,2,  26.2063,2,  26.20630,2,  34.8030,2,-999.0000,9,   202.80,2,  -999.00,9,  -999.00,9,  -999.00,  -999.00,9,  -999.00,  -999.00,9,  -999.00, -999.000,9, -999.000, -999.000,9, -999.000,9, -999.000,9,   -999.0,9,   -999.0,9,-999.0000,-999,9,  -999.00,9,  -999.00,   -999.0,9,   -999.0,  26.1951,  22.8238
  49NZ20090521,   P21,   231,  1,     11, X12044,9,20090608,0700,-17.8348, 172.3303, 2928,    100.2,2,  25.1417,2,  25.14059,2,  35.3957,2,-999.0000,9,   187.17,2,  -999.00,9,  -999.00,9,  -999.00,  -999.00,9,  -999.00,  -999.00,9,  -999.00, -999.000,9, -999.000, -999.000,9, -999.000,9, -999.000,9,   -999.0,9,   -999.0,9,-999.0000,-999,9,  -999.00,9,  -999.00,   -999.0,9,   -999.0,  25.1199,  23.6038
  49NZ20090521,   P21,   231,  1,     10, X12048,9,20090608,0700,-17.8348, 172.3303, 2928,    152.0,2,  22.6658,2,  22.66541,2,  35.6108,2,-999.0000,9,   165.59,2,  -999.00,9,  -999.00,9,  -999.00,  -999.00,9,  -999.00,  -999.00,9,  -999.00, -999.000,9, -999.000, -999.000,9, -999.000,9, -999.000,9,   -999.0,9,   -999.0,9,-999.0000,-999,9,  -999.00,9,  -999.00,   -999.0,9,   -999.0,  22.6350,  24.5020
  49NZ20090521,   P21,   231,  1,      9, X12027,9,20090608,0700,-17.8348, 172.3303, 2928,    200.2,2,  21.0743,2,  21.07494,2,  35.7089,2,-999.0000,9,   160.94,2,  -999.00,9,  -999.00,9,  -999.00,  -999.00,9,  -999.00,  -999.00,9,  -999.00, -999.000,9, -999.000, -999.000,9, -999.000,9, -999.000,9,   -999.0,9,   -999.0,9,-999.0000,-999,9,  -999.00,9,  -999.00,   -999.0,9,   -999.0,  21.0357,  25.0240
  49NZ20090521,   P21,   231,  1,      8, X12026,9,20090608,0700,-17.8348, 172.3303, 2928,    250.7,2,  19.1135,2,  19.11286,2,  35.5923,2,-999.0000,9,   166.97,2,  -999.00,9,  -999.00,9,  -999.00,  -999.00,9,  -999.00,  -999.00,9,  -999.00, -999.000,9, -999.000, -999.000,9, -999.000,9, -999.000,9,   -999.0,9,   -999.0,9,-999.0000,-999,9,  -999.00,9,  -999.00,   -999.0,9,   -999.0,  19.0684,  25.4565
  49NZ20090521,   P21,   231,  1,      7, X12025,9,20090608,0700,-17.8348, 172.3303, 2928,    330.5,2,  15.6538,2,  15.65539,2,  35.2560,2,-999.0000,9,   175.75,2,  -999.00,9,  -999.00,9,  -999.00,  -999.00,9,  -999.00,  -999.00,9,  -999.00, -999.000,9, -999.000, -999.000,9, -999.000,9, -999.000,9,   -999.0,9,   -999.0,9,-999.0000,-999,9,  -999.00,9,  -999.00,   -999.0,9,   -999.0,  15.6020,  26.0352
  49NZ20090521,   P21,   231,  1,      6, X12024,9,20090608,0700,-17.8348, 172.3303, 2928,    429.4,2,  12.1621,2,  12.16174,2,  34.9245,2,-999.0000,9,   186.63,2,  -999.00,9,  -999.00,9,  -999.00,  -999.00,9,  -999.00,  -999.00,9,  -999.00, -999.000,9, -999.000, -999.000,9, -999.000,9, -999.000,9,   -999.0,9,   -999.0,9,-999.0000,-999,9,  -999.00,9,  -999.00,   -999.0,9,   -999.0,  12.1051,  26.5103
  49NZ20090521,   P21,   231,  1,      5, X12028,9,20090608,0700,-17.8348, 172.3303, 2928,    530.8,2,   8.6716,2,   8.67240,2,  34.5582,2,-999.0000,9,   181.93,2,  -999.00,9,  -999.00,9,  -999.00,  -999.00,9,  -999.00,  -999.00,9,  -999.00, -999.000,9, -999.000, -999.000,9, -999.000,9, -999.000,9,   -999.0,9,   -999.0,9,-999.0000,-999,9,  -999.00,9,  -999.00,   -999.0,9,   -999.0,   8.6144,  26.8330
  49NZ20090521,   P21,   231,  1,      4, X12022,9,20090608,0700,-17.8348, 172.3303, 2928,    630.6,2,   6.9284,2,   6.92851,2,  34.4341,2,-999.0000,9,   187.71,2,  -999.00,9,  -999.00,9,  -999.00,  -999.00,9,  -999.00,  -999.00,9,  -999.00, -999.000,9, -999.000, -999.000,9, -999.000,9, -999.000,9,   -999.0,9,   -999.0,9,-999.0000,-999,9,  -999.00,9,  -999.00,   -999.0,9,   -999.0,   6.8684,  26.9911
  49NZ20090521,   P21,   231,  1,      3, X12021,9,20090608,0700,-17.8348, 172.3303, 2928,    730.5,2,   5.7372,2,   5.73729,2,  34.3918,2,-999.0000,9,   186.03,2,  -999.00,9,  -999.00,9,  -999.00,  -999.00,9,  -999.00,  -999.00,9,  -999.00, -999.000,9, -999.000, -999.000,9, -999.000,9, -999.000,9,   -999.0,9,   -999.0,9,-999.0000,-999,9,  -999.00,9,  -999.00,   -999.0,9,   -999.0,   5.6738,  27.1128
  49NZ20090521,   P21,   231,  1,      2, X12020,9,20090608,0700,-17.8348, 172.3303, 2928,   1470.6,2,   2.9623,2,   2.96238,2,  34.5682,2,-999.0000,9,   146.49,2,  -999.00,9,  -999.00,9,  -999.00,  -999.00,9,  -999.00,  -999.00,9,  -999.00, -999.000,9, -999.000, -999.000,9, -999.000,9, -999.000,9,   -999.0,9,   -999.0,9,-999.0000,-999,9,  -999.00,9,  -999.00,   -999.0,9,   -999.0,   2.8574,  27.5533
  49NZ20090521,   P21,   231,  1,      1, X12019,2,20090608,0700,-17.8348, 172.3303, 2928,   2954.1,2,   1.9255,2,   1.92543,2,  34.6585,2,  34.6583,6,   144.90,2,   144.44,2,   128.33,2,     0.40,    36.34,2,     0.13,     0.01,2,     0.01,    2.564,2,    0.016,    0.000,2,    0.000,2,    0.000,2,   2319.2,2,   2407.3,2,   7.5784,  25,2,  -999.00,1,  -999.00,   -999.0,1,   -999.0,   1.7039,  27.7210