BOTTLE,20111109CCHDOSIOCBG
EXPOCODE,SECT_ID,STNNBR,CASTNO,SAMPNO,BTLNBR,BTLNBR_FLAG_W,DATE,TIME,LATITUDE,LONGITUDE,DEPTH,CTDPRS,CTDPRS_FLAG_W,CTDTMP,CTDTMP_FLAG_W,SBE35,SBE35_FLAG_W,CTDSAL,CTDSAL_FLAG_W,SALNTY,SALNTY_FLAG_W,CTDOXY,CTDOXY_FLAG_W,OXYGEN,OXYGEN_FLAG_W,SILCAT,SILCAT_FLAG_W,SILUNC,NITRAT,NITRAT_FLAG_W,NRAUNC,NITRIT,NITRIT_FLAG_W,NRIUNC,PHSPHT,PHSPHT_FLAG_W,PHPUNC,CFC-11,CFC-11_FLAG_W,CFC-12,CFC-12_FLAG_W,CFC113,CFC113_FLAG_W,TCARBN,TCARBN_FLAG_W,ALKALI,ALKALI_FLAG_W,PH_TOT,PH_TMP,PH_TOT_FLAG_W,DELC13,DELC13_FLAG_W,C13ERR,DELC14,DELC14_FLAG_W,C14ERR,THETA,SIG0
,,,,,,,,,,,METERS,DBAR,,ITS-90,,ITS-90,,PSS-78,,PSS-78,,UMOL/KG,,UMOL/KG,,UMOL/KG,,UMOL/KG,UMOL/KG,,UMOL/KG,UMOL/KG,,UMOL/KG,UMOL/KG,,UMOL/KG,PMOL/KG,,PMOL/KG,,PMOL/KG,,UMOL/KG,,UMOL/KG,,,DEG C,,/MILLE,,/MILLE,/MILLE,,/MILLE,DEG C,KG/M^3
  49NZ20090521,   P21,   223,  1,      0,   -999,9,20090606,1854,-18.0307, 177.0010, 2213,   -999.0,9,-999.0000,9,-999.00000,9,-999.0000,9,  34.7995,2,  -999.00,9,  -999.00,9,  -999.00,9,  -999.00,  -999.00,9,  -999.00,  -999.00,9,  -999.00, -999.000,9, -999.000, -999.000,9, -999.000,9, -999.000,9,   -999.0,9,   -999.0,9,-999.0000,-999,9,  -999.00,9,  -999.00,   -999.0,9,   -999.0,-999.0000,-999.0000
  49NZ20090521,   P21,   223,  1,     36, X12043,2,20090606,1854,-18.0307, 177.0010, 2213,     10.8,2,  26.9878,2,  26.98810,2,  34.7897,2,  34.7882,2,   198.97,2,   199.24,2,     0.45,2,     0.12,     0.08,2,     0.03,     0.01,2,     0.01,    0.068,2,    0.028,    1.474,2,    0.939,2, -999.000,5,   -999.0,9,   -999.0,9,-999.0000,-999,9,  -999.00,9,  -999.00,   -999.0,9,   -999.0,  26.9853,  22.5641
  49NZ20090521,   P21,   223,  1,     35, X12042,2,20090606,1854,-18.0307, 177.0010, 2213,     50.5,2,  26.9992,2,  27.00033,2,  34.7888,2,  34.7885,2,   198.59,2,   199.01,2,     0.43,2,     0.12,     0.06,2,     0.03,     0.01,2,     0.01,    0.068,2,    0.028,    1.472,2,    0.935,2, -999.000,5,   -999.0,9,   -999.0,9,-999.0000,-999,9,  -999.00,9,  -999.00,   -999.0,9,   -999.0,  26.9876,  22.5626
  49NZ20090521,   P21,   223,  1,     34, X12016,2,20090606,1854,-18.0307, 177.0010, 2213,    100.4,2,  24.8178,2,  24.81744,2,  35.3547,2,  35.3535,2,   178.29,2,   178.53,2,     0.56,2,     0.12,     1.18,2,     0.04,     0.09,2,     0.01,    0.235,2,    0.015,    1.711,6,    1.057,6, -999.000,5,   -999.0,9,   -999.0,9,-999.0000,-999,9,  -999.00,9,  -999.00,   -999.0,9,   -999.0,  24.7961,  23.6713
  49NZ20090521,   P21,   223,  1,     33, X12015,2,20090606,1854,-18.0307, 177.0010, 2213,    150.7,2,  23.2229,2,  23.22300,2,  35.6369,2,  35.6346,2,   161.65,2,   161.83,2,     0.61,2,     0.12,     3.26,2,     0.04,     0.02,2,     0.01,    0.374,2,    0.014,    1.844,2,    1.124,2,    0.105,2,   -999.0,9,   -999.0,9,-999.0000,-999,9,  -999.00,9,  -999.00,   -999.0,9,   -999.0,  23.1918,  24.3611
  49NZ20090521,   P21,   223,  1,     32, X12050,2,20090606,1854,-18.0307, 177.0010, 2213,    200.0,2,  21.4311,2,  21.42948,2,  35.7103,2,  35.7092,2,   158.86,2,   159.09,2,     0.97,2,     0.12,     4.70,2,     0.05,     0.02,2,     0.01,    0.466,2,    0.013,    1.979,2,    1.165,2,    0.054,2,   -999.0,9,   -999.0,9,-999.0000,-999,9,  -999.00,9,  -999.00,   -999.0,9,   -999.0,  21.3921,  24.9271
  49NZ20090521,   P21,   223,  1,     31, X12014,2,20090606,1854,-18.0307, 177.0010, 2213,    249.8,2,  19.6595,2,  19.65662,2,  35.6109,2,  35.6073,6,   164.06,2,   164.34,2,     1.18,2,     0.12,     5.66,2,     0.05,     0.01,2,     0.01,    0.539,2,    0.013,    2.105,2,    1.216,2,    0.032,2,   -999.0,9,   -999.0,9,-999.0000,-999,9,  -999.00,9,  -999.00,   -999.0,9,   -999.0,  19.6136,  25.3294
  49NZ20090521,   P21,   223,  1,     30, X12012,2,20090606,1854,-18.0307, 177.0010, 2213,    280.2,2,  18.1891,2,  18.18267,2,  35.4817,2,  35.4811,2,   169.35,2,   169.73,2,     1.62,2,     0.12,     6.47,2,     0.05,     0.01,2,     0.01,    0.591,2,    0.013,    2.179,2,    1.239,2,    0.025,2,   -999.0,9,   -999.0,9,-999.0000,-999,9,  -999.00,9,  -999.00,   -999.0,9,   -999.0,  18.1404,  25.6062
  49NZ20090521,   P21,   223,  1,     29, X12041,2,20090606,1854,-18.0307, 177.0010, 2213,    372.6,2,  14.2213,2,  14.22153,2,  35.0845,2,  35.0855,2,   177.12,2,   177.31,2,     3.66,2,     0.13,    11.26,2,     0.06,     0.01,2,     0.01,    0.915,2,    0.013,    2.213,6,    1.191,6,    0.024,6,   -999.0,9,   -999.0,9,-999.0000,-999,9,  -999.00,9,  -999.00,   -999.0,9,   -999.0,  14.1665,  26.2172
  49NZ20090521,   P21,   223,  1,     28, X12040,2,20090606,1854,-18.0307, 177.0010, 2213,    470.6,2,   9.7910,2,   9.79302,2,  34.6640,2,  34.6642,6,   191.65,2,   191.74,2,     7.46,2,     0.14,    19.00,2,     0.09,     0.01,2,     0.01,    1.386,2,    0.014,    2.003,2,    1.009,2,    0.043,2,   -999.0,9,   -999.0,9,-999.0000,-999,9,  -999.00,9,  -999.00,   -999.0,9,   -999.0,   9.7366,  26.7342
  49NZ20090521,   P21,   223,  1,     27, X12009,2,20090606,1854,-18.0307, 177.0010, 2213,    570.9,2,   7.3756,2,   7.37507,2,  34.4527,2,  34.4540,2,   206.00,2,   206.02,2,    11.30,2,     0.14,    23.59,2,     0.10,     0.01,2,     0.01,    1.664,2,    0.014,    1.662,6,    0.815,6,    0.045,6,   -999.0,9,   -999.0,9,-999.0000,-999,9,  -999.00,9,  -999.00,   -999.0,9,   -999.0,   7.3196,  26.9429
  49NZ20090521,   P21,   223,  1,     26, X12008,2,20090606,1854,-18.0307, 177.0010, 2213,    670.7,2,   6.2525,2,   6.25000,2,  34.4001,2,  34.4001,2,   193.44,2,   193.78,2,    20.14,2,     0.16,    27.51,2,     0.11,     0.01,2,     0.01,    1.928,2,    0.015,    0.900,2,    0.441,2,    0.025,2,   -999.0,9,   -999.0,9,-999.0000,-999,9,  -999.00,9,  -999.00,   -999.0,9,   -999.0,   6.1919,  27.0541
  49NZ20090521,   P21,   223,  1,     25, X12007,2,20090606,1854,-18.0307, 177.0010, 2213,    771.8,2,   5.2974,2,   5.29760,2,  34.3943,2,  34.3945,2,   182.08,2,   182.01,2,    31.65,2,     0.19,    30.48,2,     0.12,     0.01,2,     0.01,    2.130,2,    0.015,    0.426,2,    0.213,2,    0.007,2,   -999.0,9,   -999.0,9,-999.0000,-999,9,  -999.00,9,  -999.00,   -999.0,9,   -999.0,   5.2328,  27.1679
  49NZ20090521,   P21,   223,  1,     24, X12035,2,20090606,1854,-18.0307, 177.0010, 2213,    872.0,2,   4.6703,2,   4.67057,2,  34.4210,2,  34.4215,2,   170.77,2,   170.78,2,    43.92,2,     0.22,    32.23,2,     0.12,     0.01,2,     0.01,    2.266,2,    0.016,    0.207,2,    0.101,2,    0.000,2,   -999.0,9,   -999.0,9,-999.0000,-999,9,  -999.00,9,  -999.00,   -999.0,9,   -999.0,   4.6008,  27.2613
  49NZ20090521,   P21,   223,  1,     23, X12038,2,20090606,1854,-18.0307, 177.0010, 2213,    971.1,2,   4.1762,2,   4.17705,2,  34.4520,2,  34.4522,6,   163.35,2,   163.53,2,    55.16,2,     0.24,    33.46,2,     0.13,     0.01,2,     0.01,    2.353,2,    0.016,    0.110,2,    0.056,2,    0.000,2,   -999.0,9,   -999.0,9,-999.0000,-999,9,  -999.00,9,  -999.00,   -999.0,9,   -999.0,   4.1017,  27.3397
  49NZ20090521,   P21,   223,  1,     22, X12034,2,20090606,1854,-18.0307, 177.0010, 2213,   1130.8,2,   3.6259,2,   3.62575,2,  34.5002,2,  34.5007,2,   155.42,2,   155.46,2,    70.92,2,     0.28,    34.47,2,     0.13,     0.01,2,     0.01,    2.428,2,    0.016,    0.051,2,    0.030,2,    0.000,2,   -999.0,9,   -999.0,9,-999.0000,-999,9,  -999.00,9,  -999.00,   -999.0,9,   -999.0,   3.5425,  27.4347
  49NZ20090521,   P21,   223,  1,     21, X12033,2,20090606,1854,-18.0307, 177.0010, 2213,   1330.5,2,   3.1658,2,   3.16609,2,  34.5437,2,  34.5445,2,   149.66,2,   149.80,2,    85.25,2,     0.31,    35.28,2,     0.13,     0.01,2,     0.01,    2.485,2,    0.016,    0.015,2,    0.011,2,    0.000,2,   -999.0,9,   -999.0,9,-999.0000,-999,9,  -999.00,9,  -999.00,   -999.0,9,   -999.0,   3.0703,  27.5144
  49NZ20090521,   P21,   223,  1,     20, X12032,2,20090606,1854,-18.0307, 177.0010, 2213,   1531.6,2,   2.8166,2,   2.81651,2,  34.5779,2,  34.5784,6,   147.27,2,   147.34,2,    96.08,2,     0.33,    35.61,2,     0.13,     0.01,2,     0.01,    2.510,2,    0.016,    0.006,2,    0.005,2,    0.000,2,   -999.0,9,   -999.0,9,-999.0000,-999,9,  -999.00,9,  -999.00,   -999.0,9,   -999.0,   2.7083,  27.5743
  49NZ20090521,   P21,   223,  1,     19, X12046,2,20090606,1854,-18.0307, 177.0010, 2213,   1731.3,2,   2.5814,2,   2.58129,2,  34.6008,2,  34.6016,2,   146.88,2,   147.00,2,   103.37,2,     0.35,    35.67,2,     0.13,     0.01,2,     0.01,    2.515,2,    0.016,    0.003,2,    0.004,2,    0.000,2,   -999.0,9,   -999.0,9,-999.0000,-999,9,  -999.00,9,  -999.00,   -999.0,9,   -999.0,   2.4593,  27.6142
  49NZ20090521,   P21,   223,  1,     18, X12006,2,20090606,1854,-18.0307, 177.0010, 2213,   1931.0,2,   2.3453,2,   2.34540,2,  34.6239,2,  34.6245,2,   147.70,2,   147.83,2,   109.91,2,     0.36,    35.77,2,     0.13,     0.01,2,     0.01,    2.524,2,    0.016,    0.000,2,    0.002,2,    0.000,2,   -999.0,9,   -999.0,9,-999.0000,-999,9,  -999.00,9,  -999.00,   -999.0,9,   -999.0,   2.2096,  27.6535
  49NZ20090521,   P21,   223,  1,     17, X12047,2,20090606,1854,-18.0307, 177.0010, 2213,   2131.1,2,   2.1566,2,   2.15658,2,  34.6421,2,  34.6430,2,   148.40,2,   148.41,2,   115.11,2,     0.37,    35.66,2,     0.13,     0.01,2,     0.01,    2.517,2,    0.016,    0.000,2,    0.000,2,    0.000,2,   -999.0,9,   -999.0,9,-999.0000,-999,9,  -999.00,9,  -999.00,   -999.0,9,   -999.0,   2.0065,  27.6844
  49NZ20090521,   P21,   223,  1,     16, X12004,2,20090606,1854,-18.0307, 177.0010, 2213,     10.6,2,  26.9910,2,  26.99027,2,  34.7900,2,-999.0000,9,   198.86,2,  -999.00,9,  -999.00,9,  -999.00,  -999.00,9,  -999.00,  -999.00,9,  -999.00, -999.000,9, -999.000, -999.000,9, -999.000,9, -999.000,9,   -999.0,9,   -999.0,9,-999.0000,-999,9,  -999.00,9,  -999.00,   -999.0,9,   -999.0,  26.9886,  22.5632
  49NZ20090521,   P21,   223,  1,     15, X12003,9,20090606,1854,-18.0307, 177.0010, 2213,     50.3,2,  26.9981,2,  26.99751,2,  34.7905,2,-999.0000,9,   198.66,2,  -999.00,9,  -999.00,9,  -999.00,  -999.00,9,  -999.00,  -999.00,9,  -999.00, -999.000,9, -999.000, -999.000,9, -999.000,9, -999.000,9,   -999.0,9,   -999.0,9,-999.0000,-999,9,  -999.00,9,  -999.00,   -999.0,9,   -999.0,  26.9866,  22.5642
  49NZ20090521,   P21,   223,  1,     14, X12002,9,20090606,1854,-18.0307, 177.0010, 2213,    100.2,2,  24.8182,2,  24.81829,2,  35.3553,2,-999.0000,9,   178.42,2,  -999.00,9,  -999.00,9,  -999.00,  -999.00,9,  -999.00,  -999.00,9,  -999.00, -999.000,9, -999.000, -999.000,9, -999.000,9, -999.000,9,   -999.0,9,   -999.0,9,-999.0000,-999,9,  -999.00,9,  -999.00,   -999.0,9,   -999.0,  24.7966,  23.6716
  49NZ20090521,   P21,   223,  1,     13, X12001,9,20090606,1854,-18.0307, 177.0010, 2213,    150.8,2,  23.2217,2,  23.22171,2,  35.6376,2,-999.0000,9,   161.75,2,  -999.00,9,  -999.00,9,  -999.00,  -999.00,9,  -999.00,  -999.00,9,  -999.00, -999.000,9, -999.000, -999.000,9, -999.000,9, -999.000,9,   -999.0,9,   -999.0,9,-999.0000,-999,9,  -999.00,9,  -999.00,   -999.0,9,   -999.0,  23.1906,  24.3620
  49NZ20090521,   P21,   223,  1,     12, X12030,9,20090606,1854,-18.0307, 177.0010, 2213,    201.2,2,  21.4260,2,  21.42773,2,  35.7106,2,-999.0000,9,   158.95,2,  -999.00,9,  -999.00,9,  -999.00,  -999.00,9,  -999.00,  -999.00,9,  -999.00, -999.000,9, -999.000, -999.000,9, -999.000,9, -999.000,9,   -999.0,9,   -999.0,9,-999.0000,-999,9,  -999.00,9,  -999.00,   -999.0,9,   -999.0,  21.3868,  24.9288
  49NZ20090521,   P21,   223,  1,     11, X12044,9,20090606,1854,-18.0307, 177.0010, 2213,    249.9,2,  19.6087,2,  19.59433,2,  35.6077,2,-999.0000,9,   164.44,2,  -999.00,9,  -999.00,9,  -999.00,  -999.00,9,  -999.00,  -999.00,9,  -999.00, -999.000,9, -999.000, -999.000,9, -999.000,9, -999.000,9,   -999.0,9,   -999.0,9,-999.0000,-999,9,  -999.00,9,  -999.00,   -999.0,9,   -999.0,  19.5629,  25.3402
  49NZ20090521,   P21,   223,  1,     10, X12048,9,20090606,1854,-18.0307, 177.0010, 2213,    279.9,2,  18.1873,2,  18.18474,2,  35.4821,2,-999.0000,9,   169.41,2,  -999.00,9,  -999.00,9,  -999.00,  -999.00,9,  -999.00,  -999.00,9,  -999.00, -999.000,9, -999.000, -999.000,9, -999.000,9, -999.000,9,   -999.0,9,   -999.0,9,-999.0000,-999,9,  -999.00,9,  -999.00,   -999.0,9,   -999.0,  18.1386,  25.6070
  49NZ20090521,   P21,   223,  1,      9, X12027,9,20090606,1854,-18.0307, 177.0010, 2213,    372.3,2,  14.2207,2,  14.22121,2,  35.0849,2,-999.0000,9,   177.14,2,  -999.00,9,  -999.00,9,  -999.00,  -999.00,9,  -999.00,  -999.00,9,  -999.00, -999.000,9, -999.000, -999.000,9, -999.000,9, -999.000,9,   -999.0,9,   -999.0,9,-999.0000,-999,9,  -999.00,9,  -999.00,   -999.0,9,   -999.0,  14.1660,  26.2176
  49NZ20090521,   P21,   223,  1,      8, X12026,9,20090606,1854,-18.0307, 177.0010, 2213,   1330.4,2,   3.1663,2,   3.16636,2,  34.5437,2,-999.0000,9,   149.62,2,  -999.00,9,  -999.00,9,  -999.00,  -999.00,9,  -999.00,  -999.00,9,  -999.00, -999.000,9, -999.000, -999.000,9, -999.000,9, -999.000,9,   -999.0,9,   -999.0,9,-999.0000,-999,9,  -999.00,9,  -999.00,   -999.0,9,   -999.0,   3.0708,  27.5143
  49NZ20090521,   P21,   223,  1,      7, X12025,9,20090606,1854,-18.0307, 177.0010, 2213,     10.5,2,  26.9849,2,  26.98639,2,  34.7901,2,-999.0000,9,   198.95,2,  -999.00,9,  -999.00,9,  -999.00,  -999.00,9,  -999.00,  -999.00,9,  -999.00, -999.000,9, -999.000, -999.000,9, -999.000,9, -999.000,9,   -999.0,9,   -999.0,9,-999.0000,-999,9,  -999.00,9,  -999.00,   -999.0,9,   -999.0,  26.9825,  22.5652
  49NZ20090521,   P21,   223,  1,      6, X12024,2,20090606,1854,-18.0307, 177.0010, 2213,     51.2,2,  27.0011,2,  27.00090,2,  34.7896,2,-999.0000,9,   198.62,2,  -999.00,9,  -999.00,9,  -999.00,  -999.00,9,  -999.00,  -999.00,9,  -999.00, -999.000,9, -999.000, -999.000,9, -999.000,9, -999.000,9,   -999.0,9,   -999.0,9,-999.0000,-999,9,  -999.00,9,  -999.00,   -999.0,9,   -999.0,  26.9894,  22.5626
  49NZ20090521,   P21,   223,  1,      5, X12028,2,20090606,1854,-18.0307, 177.0010, 2213,    100.6,2,  24.8183,2,  24.81826,2,  35.3551,2,-999.0000,9,   178.53,2,  -999.00,9,  -999.00,9,  -999.00,  -999.00,9,  -999.00,  -999.00,9,  -999.00, -999.000,9, -999.000, -999.000,9, -999.000,9, -999.000,9,   -999.0,9,   -999.0,9,-999.0000,-999,9,  -999.00,9,  -999.00,   -999.0,9,   -999.0,  24.7966,  23.6714
  49NZ20090521,   P21,   223,  1,      4, X12022,2,20090606,1854,-18.0307, 177.0010, 2213,    150.5,2,  23.2219,2,  23.22131,2,  35.6367,2,-999.0000,9,   161.61,2,  -999.00,9,  -999.00,9,  -999.00,  -999.00,9,  -999.00,  -999.00,9,  -999.00, -999.000,9, -999.000, -999.000,9, -999.000,9, -999.000,9,   -999.0,9,   -999.0,9,-999.0000,-999,9,  -999.00,9,  -999.00,   -999.0,9,   -999.0,  23.1909,  24.3613
  49NZ20090521,   P21,   223,  1,      3, X12021,2,20090606,1854,-18.0307, 177.0010, 2213,    201.1,2,  21.4232,2,  21.42547,2,  35.7103,2,-999.0000,9,   158.99,2,  -999.00,9,  -999.00,9,  -999.00,  -999.00,9,  -999.00,  -999.00,9,  -999.00, -999.000,9, -999.000, -999.000,9, -999.000,9, -999.000,9,   -999.0,9,   -999.0,9,-999.0000,-999,9,  -999.00,9,  -999.00,   -999.0,9,   -999.0,  21.3840,  24.9294
  49NZ20090521,   P21,   223,  1,      2, X12020,2,20090606,1854,-18.0307, 177.0010, 2213,    250.1,2,  19.6123,2,  19.64127,2,  35.6093,2,-999.0000,9,   164.39,2,  -999.00,9,  -999.00,9,  -999.00,  -999.00,9,  -999.00,  -999.00,9,  -999.00, -999.000,9, -999.000, -999.000,9, -999.000,9, -999.000,9,   -999.0,9,   -999.0,9,-999.0000,-999,9,  -999.00,9,  -999.00,   -999.0,9,   -999.0,  19.5665,  25.3405
  49NZ20090521,   P21,   223,  1,      1, X12019,2,20090606,1854,-18.0307, 177.0010, 2213,   2224.9,2,   2.1024,2,   2.10252,2,  34.6476,2,  34.6482,6,   148.48,2,   148.42,2,   116.89,2,     0.38,    35.60,2,     0.13,     0.01,2,     0.01,    2.522,2,    0.016,    0.001,2,    0.001,2,    0.000,2,   -999.0,9,   -999.0,9,-999.0000,-999,9,  -999.00,9,  -999.00,   -999.0,9,   -999.0,   1.9450,  27.6937