BOTTLE,20111109CCHDOSIOCBG
EXPOCODE,SECT_ID,STNNBR,CASTNO,SAMPNO,BTLNBR,BTLNBR_FLAG_W,DATE,TIME,LATITUDE,LONGITUDE,DEPTH,CTDPRS,CTDPRS_FLAG_W,CTDTMP,CTDTMP_FLAG_W,SBE35,SBE35_FLAG_W,CTDSAL,CTDSAL_FLAG_W,SALNTY,SALNTY_FLAG_W,CTDOXY,CTDOXY_FLAG_W,OXYGEN,OXYGEN_FLAG_W,SILCAT,SILCAT_FLAG_W,SILUNC,NITRAT,NITRAT_FLAG_W,NRAUNC,NITRIT,NITRIT_FLAG_W,NRIUNC,PHSPHT,PHSPHT_FLAG_W,PHPUNC,CFC-11,CFC-11_FLAG_W,CFC-12,CFC-12_FLAG_W,CFC113,CFC113_FLAG_W,TCARBN,TCARBN_FLAG_W,ALKALI,ALKALI_FLAG_W,PH_TOT,PH_TMP,PH_TOT_FLAG_W,DELC13,DELC13_FLAG_W,C13ERR,DELC14,DELC14_FLAG_W,C14ERR,THETA,SIG0
,,,,,,,,,,,METERS,DBAR,,ITS-90,,ITS-90,,PSS-78,,PSS-78,,UMOL/KG,,UMOL/KG,,UMOL/KG,,UMOL/KG,UMOL/KG,,UMOL/KG,UMOL/KG,,UMOL/KG,UMOL/KG,,UMOL/KG,PMOL/KG,,PMOL/KG,,PMOL/KG,,UMOL/KG,,UMOL/KG,,,DEG C,,/MILLE,,/MILLE,/MILLE,,/MILLE,DEG C,KG/M^3
  49NZ20090521,   P21,   168,  1,      0,   -999,9,20090522,1610,-17.5008,-151.6730, 4064,   -999.0,9,-999.0000,9,-999.00000,9,-999.0000,9,  36.1000,2,  -999.00,9,  -999.00,9,  -999.00,9,  -999.00,  -999.00,9,  -999.00,  -999.00,9,  -999.00, -999.000,9, -999.000, -999.000,9, -999.000,9, -999.000,9,   -999.0,9,   -999.0,9,-999.0000,-999,9,  -999.00,9,  -999.00,   -999.0,9,   -999.0,-999.0000,-999.0000
  49NZ20090521,   P21,   168,  1,     36, X12043,2,20090522,1610,-17.5008,-151.6730, 4064,     10.7,2,  28.0791,2,  28.07907,2,  36.0779,2,  36.0771,2,   196.45,2,   196.43,2,     0.70,2,     0.12,     0.06,2,     0.03,     0.01,2,     0.01,    0.189,2,    0.016,    1.402,2,    0.924,2, -999.000,5,   2007.4,2,   2375.1,2,   8.1329,  25,6,  -999.00,9,  -999.00,   -999.0,9,   -999.0,  28.0766,  23.1803
  49NZ20090521,   P21,   168,  1,     35, X12042,2,20090522,1610,-17.5008,-151.6730, 4064,     50.2,2,  28.0964,2,  28.09623,2,  36.0808,2,  36.0799,2,   196.18,2,   196.41,2,     0.68,2,     0.12,     0.05,2,     0.03,     0.01,2,     0.01,    0.189,2,    0.016,    1.394,2,    0.909,2, -999.000,5,   2007.9,6,   2375.0,2,   8.1330,  25,2,  -999.00,9,  -999.00,   -999.0,9,   -999.0,  28.0845,  23.1799
  49NZ20090521,   P21,   168,  1,     34, X12016,2,20090522,1610,-17.5008,-151.6730, 4064,     99.4,2,  25.9308,2,  25.93074,2,  36.4089,2,  36.4095,2,   199.43,2,   199.24,2,     0.69,2,     0.12,     0.04,2,     0.03,     0.01,2,     0.01,    0.225,2,    0.015,    1.584,6,    1.025,6, -999.000,5,   2049.3,2,   2396.9,6,   8.0905,  25,2,  -999.00,9,  -999.00,   -999.0,9,   -999.0,  25.9086,  24.1254
  49NZ20090521,   P21,   168,  1,     33, X12015,2,20090522,1610,-17.5008,-151.6730, 4064,    149.2,2,  24.3700,2,  24.37084,2,  36.2629,2,  36.2624,2,   186.93,2,   186.93,2,     0.63,2,     0.12,     0.96,2,     0.04,     0.04,2,     0.01,    0.282,2,    0.014,    1.667,2,    1.061,2, -999.000,5,   2060.5,2,   2384.7,2,   8.0623,  25,6,  -999.00,9,  -999.00,   -999.0,9,   -999.0,  24.3381,  24.4967
  49NZ20090521,   P21,   168,  1,     32, X12050,2,20090522,1610,-17.5008,-151.6730, 4064,    199.9,2,  22.8210,2,  22.83054,2,  36.0765,2,  36.0720,2,   179.25,2,   179.15,2,     0.62,2,     0.12,     2.17,2,     0.04,     0.03,2,     0.01,    0.361,2,    0.014,    1.819,2,    1.147,2,    0.126,2,   2075.1,2,   2372.0,2,   8.0213,  25,2,  -999.00,9,  -999.00,   -999.0,9,   -999.0,  22.7802,  24.8138
  49NZ20090521,   P21,   168,  1,     31, X12014,2,20090522,1610,-17.5008,-151.6730, 4064,    249.3,2,  20.4435,2,  20.45430,2,  35.7612,2,  35.7587,6,   178.59,2,   178.76,2,     0.77,2,     0.12,     3.46,2,     0.04,     0.01,2,     0.01,    0.447,2,    0.013,    2.048,2,    1.252,2,    0.052,2,   2087.6,2,   2352.3,2,   7.9724,  25,2,  -999.00,9,  -999.00,   -999.0,9,   -999.0,  20.3964,  25.2369
  49NZ20090521,   P21,   168,  1,     30, X12012,2,20090522,1610,-17.5008,-151.6730, 4064,    300.3,2,  17.8842,2,  17.88291,2,  35.3933,2,  35.3915,2,   179.58,2,   180.04,2,     1.37,2,     0.12,     5.50,2,     0.05,     0.01,2,     0.01,    0.578,2,    0.013,    2.225,2,    1.309,2,    0.024,2,   2093.9,2,   2328.5,2,   7.9269,  25,2,  -999.00,9,  -999.00,   -999.0,9,   -999.0,  17.8326,  25.6146
  49NZ20090521,   P21,   168,  1,     29, X12041,2,20090522,1610,-17.5008,-151.6730, 4064,    399.5,2,  12.0622,2,  12.06404,2,  34.7431,2,  34.7440,2,   165.46,2,   165.75,2,     6.38,2,     0.13,    15.80,2,     0.08,     0.01,2,     0.01,    1.276,2,    0.014,    2.033,6,    1.101,6,    0.030,6,   2134.8,2,   2294.2,2,   7.7703,  25,2,  -999.00,9,  -999.00,   -999.0,9,   -999.0,  12.0096,  26.3877
  49NZ20090521,   P21,   168,  1,     28, X12040,2,20090522,1610,-17.5008,-151.6730, 4064,    501.4,2,   8.3437,2,   8.34712,2,  34.4804,2,  34.4806,6,   156.53,2,   156.69,2,    14.56,2,     0.15,    25.45,2,     0.10,     0.01,2,     0.01,    1.879,2,    0.015,    1.306,2,    0.677,2,    0.028,2,   2176.4,2,   2287.1,2,   7.6538,  25,2,  -999.00,9,  -999.00,   -999.0,9,   -999.0,   8.2911,  26.8219
  49NZ20090521,   P21,   168,  1,     27, X12009,2,20090522,1610,-17.5008,-151.6730, 4064,    598.9,2,   6.7203,2,   6.72153,2,  34.4227,2,  34.4237,2,   160.34,2,   159.67,2,    22.43,2,     0.17,    29.47,2,     0.12,     0.01,2,     0.01,    2.102,2,    0.015,    0.748,6,    0.385,6,    0.014,6,   2193.5,2,   2292.5,2,   7.6235,  25,2,  -999.00,9,  -999.00,   -999.0,9,   -999.0,   6.6644,  27.0097
  49NZ20090521,   P21,   168,  1,     26, X12008,2,20090522,1610,-17.5008,-151.6730, 4064,    699.6,2,   5.7177,2,   5.71735,2,  34.4026,2,  34.4023,2,   163.83,2,   163.74,2,    29.65,2,     0.18,    31.32,2,     0.12,     0.01,2,     0.01,    2.205,2,    0.016,    0.428,2,    0.223,2,    0.006,2,   2202.9,6,   2298.3,2,   7.6132,  25,2,  -999.00,9,  -999.00,   -999.0,9,   -999.0,   5.6572,  27.1234
  49NZ20090521,   P21,   168,  1,     25, X12007,2,20090522,1610,-17.5008,-151.6730, 4064,    800.7,2,   5.1293,2,   5.12934,2,  34.4326,2,  34.4332,2,   152.89,2,   153.22,2,    41.58,2,     0.21,    33.17,2,     0.13,     0.01,2,     0.01,    2.336,2,    0.016,    0.165,2,    0.089,2,    0.000,2,   2222.4,2,   2311.6,6,   7.5928,  25,2,  -999.00,9,  -999.00,   -999.0,9,   -999.0,   5.0630,  27.2181
  49NZ20090521,   P21,   168,  1,     24, X12035,2,20090522,1610,-17.5008,-151.6730, 4064,    899.5,2,   4.3788,2,   4.37806,2,  34.4630,2,  34.4630,2,   149.72,2,   149.73,2,    55.17,2,     0.24,    34.39,2,     0.13,     0.01,2,     0.01,    2.425,2,    0.016,    0.042,2,    0.026,2,    0.000,2,   2239.0,2,   2326.4,2,   7.5831,  25,6,  -999.00,9,  -999.00,   -999.0,9,   -999.0,   4.3089,  27.3264
  49NZ20090521,   P21,   168,  1,     23, X12038,2,20090522,1610,-17.5008,-151.6730, 4064,   1000.2,2,   3.9400,2,   3.94106,2,  34.4879,2,  34.4877,6,   147.65,2,   147.48,2,    64.49,2,     0.26,    34.99,2,     0.13,     0.01,2,     0.01,    2.468,2,    0.016,    0.018,2,    0.011,2,    0.000,2,   2249.9,2,   2335.2,2,   7.5786,  25,2,  -999.00,9,  -999.00,   -999.0,9,   -999.0,   3.8648,  27.3927
  49NZ20090521,   P21,   168,  1,     22, X12034,2,20090522,1610,-17.5008,-151.6730, 4064,   1199.2,2,   3.3454,2,   3.34036,2,  34.5318,2,  34.5318,2,   144.63,2,   144.28,2,    79.49,2,     0.29,    35.76,2,     0.13,     0.01,2,     0.01,    2.521,2,    0.016,    0.005,2,    0.004,2,    0.000,2,   2269.2,2,   2352.7,2,   7.5716,  25,2,  -999.00,9,  -999.00,   -999.0,9,   -999.0,   3.2589,  27.4873
  49NZ20090521,   P21,   168,  1,     21, X12033,2,20090522,1610,-17.5008,-151.6730, 4064,   1399.8,2,   2.9295,2,   2.92961,2,  34.5656,2,  34.5657,2,   144.56,2,   144.32,2,    90.73,2,     0.32,    35.97,2,     0.13,     0.01,2,     0.01,    2.538,2,    0.016,    0.003,2,    0.003,2,    0.000,2,   2281.8,2,   2365.0,2,   7.5728,  25,2,  -999.00,9,  -999.00,   -999.0,9,   -999.0,   2.8307,  27.5536
  49NZ20090521,   P21,   168,  1,     20, X12032,2,20090522,1610,-17.5008,-151.6730, 4064,   1600.1,2,   2.6003,2,   2.60037,2,  34.5958,2,  34.5961,2,   145.53,2,   145.11,2,   100.39,2,     0.34,    36.08,2,     0.13,     0.01,2,     0.01,    2.539,2,    0.016,    0.001,2,    0.001,2,    0.000,2,   2289.0,2,   2376.3,2,   7.5744,  25,2,  -999.00,9,  -999.00,   -999.0,9,   -999.0,   2.4889,  27.6077
  49NZ20090521,   P21,   168,  1,     19, X12046,2,20090522,1610,-17.5008,-151.6730, 4064,   1798.8,2,   2.3620,2,   2.36364,2,  34.6144,2,  34.6148,2,   147.74,2,   147.53,2,   106.54,2,     0.35,    35.98,2,     0.13,     0.01,2,     0.01,    2.534,2,    0.016,    0.000,2,    0.001,2,    0.000,2,   2294.1,2,   2382.4,2,   7.5788,  25,2,  -999.00,9,  -999.00,   -999.0,9,   -999.0,   2.2372,  27.6436
  49NZ20090521,   P21,   168,  1,     18, X12006,2,20090522,1610,-17.5008,-151.6730, 4064,   2000.3,2,   2.1644,2,   2.16434,2,  34.6312,2,  34.6317,6,   150.41,2,   150.20,2,   111.50,2,     0.36,    35.83,2,     0.13,     0.01,2,     0.01,    2.523,2,    0.016,    0.000,2,    0.000,2,    0.000,2,   2299.3,2,   2388.5,2,   7.5827,  25,2,  -999.00,9,  -999.00,   -999.0,9,   -999.0,   2.0254,  27.6742
  49NZ20090521,   P21,   168,  1,     17, X12047,2,20090522,1610,-17.5008,-151.6730, 4064,   2200.5,2,   2.0225,2,   2.02266,2,  34.6434,2,  34.6435,2,   152.70,2,   152.58,2,   115.13,2,     0.37,    35.75,2,     0.13,     0.01,2,     0.01,    2.511,2,    0.016,    0.000,2,    0.000,2,    0.000,2,   2301.4,2,   2393.5,2,   7.5858,  25,2,  -999.00,9,  -999.00,   -999.0,9,   -999.0,   1.8685,  27.6963
  49NZ20090521,   P21,   168,  1,     16, X12004,2,20090522,1610,-17.5008,-151.6730, 4064,   2399.0,2,   1.9152,2,   1.91510,2,  34.6527,2,  34.6523,2,   155.27,2,   155.06,2,   117.18,2,     0.38,    35.55,2,     0.13,     0.01,2,     0.01,    2.489,2,    0.016,    0.000,2,    0.000,2,    0.000,2,   2302.6,6,   2394.3,2,   7.5890,  25,2,  -999.00,9,  -999.00,   -999.0,9,   -999.0,   1.7456,  27.7132
  49NZ20090521,   P21,   168,  1,     15, X12003,2,20090522,1610,-17.5008,-151.6730, 4064,   2599.9,2,   1.8137,2,   1.81364,2,  34.6612,2,  34.6613,2,   158.21,2,   157.99,2,   119.30,2,     0.38,    35.31,2,     0.13,     0.01,2,     0.01,    2.480,2,    0.016,    0.002,2,    0.000,2,    0.000,2,   2303.3,2,   2395.2,6,   7.5920,  25,2,  -999.00,9,  -999.00,   -999.0,9,   -999.0,   1.6278,  27.7289
  49NZ20090521,   P21,   168,  1,     14, X12002,2,20090522,1610,-17.5008,-151.6730, 4064,   2800.2,2,   1.7315,2,   1.73133,2,  34.6687,2,  34.6689,2,   160.47,2,   160.32,2,   121.05,2,     0.39,    35.20,2,     0.13,     0.01,2,     0.01,    2.473,2,    0.016,    0.002,2,    0.001,2,    0.000,2,   2301.5,2,   2397.5,2,   7.5950,  25,6,  -999.00,9,  -999.00,   -999.0,9,   -999.0,   1.5287,  27.7422
  49NZ20090521,   P21,   168,  1,     13, X12001,2,20090522,1610,-17.5008,-151.6730, 4064,   2999.8,2,   1.6609,2,   1.66086,2,  34.6739,2,  34.6740,6,   164.63,2,   164.61,2,   120.66,2,     0.38,    34.79,2,     0.13,     0.01,2,     0.01,    2.447,2,    0.016,    0.004,2,    0.000,2,    0.000,2,   2298.3,2,   2395.1,2,   7.5992,  25,2,  -999.00,9,  -999.00,   -999.0,9,   -999.0,   1.4406,  27.7528
  49NZ20090521,   P21,   168,  1,     12, X12030,2,20090522,1610,-17.5008,-151.6730, 4064,   3249.9,2,   1.5745,2,   1.57471,2,  34.6806,2,  34.6805,2,   169.75,2,   169.76,2,   120.73,2,     0.38,    34.57,2,     0.13,     0.01,2,     0.01,    2.422,2,    0.016,    0.000,2,    0.001,2,    0.000,2,   2294.7,2,   2392.8,2,   7.6035,  25,2,  -999.00,9,  -999.00,   -999.0,9,   -999.0,   1.3317,  27.7659
  49NZ20090521,   P21,   168,  1,     11, X12044,2,20090522,1610,-17.5008,-151.6730, 4064,   3499.4,2,   1.5294,2,   1.52893,2,  34.6849,2,  34.6848,2,   173.14,2,   173.19,2,   120.60,2,     0.38,    34.39,2,     0.13,     0.01,2,     0.01,    2.406,2,    0.016,    0.000,2,    0.001,2,    0.000,2,   2292.0,2,   2391.1,2,   7.6054,  25,2,  -999.00,9,  -999.00,   -999.0,9,   -999.0,   1.2626,  27.7742
  49NZ20090521,   P21,   168,  1,     10, X12048,2,20090522,1610,-17.5008,-151.6730, 4064,   3748.8,2,   1.4984,2,   1.49821,2,  34.6881,2,  34.6883,2,   176.06,2,   175.93,2,   120.36,2,     0.38,    34.03,2,     0.13,     0.01,2,     0.01,    2.390,2,    0.016,    0.001,2,    0.000,2,    0.000,2,   2290.8,2,   2389.2,2,   7.6075,  25,2,  -999.00,9,  -999.00,   -999.0,9,   -999.0,   1.2064,  27.7808
  49NZ20090521,   P21,   168,  1,      9, X12027,2,20090522,1610,-17.5008,-151.6730, 4064,   4000.1,2,   1.4858,2,   1.48561,2,  34.6903,2,  34.6909,2,   178.16,2,   178.17,2,   120.19,2,     0.38,    33.96,2,     0.13,     0.01,2,     0.01,    2.378,2,    0.016,    0.000,2,    0.001,2,    0.000,2,   2287.8,2,   2388.5,2,   7.6092,  25,2,  -999.00,9,  -999.00,   -999.0,9,   -999.0,   1.1673,  27.7852
  49NZ20090521,   P21,   168,  1,      8, X12026,9,20090522,1610,-17.5008,-151.6730, 4064,     10.3,2,  28.0786,2,  28.07857,2,  36.0782,2,-999.0000,9,   196.42,2,  -999.00,9,  -999.00,9,  -999.00,  -999.00,9,  -999.00,  -999.00,9,  -999.00, -999.000,9, -999.000, -999.000,9, -999.000,9, -999.000,9,   -999.0,9,   -999.0,9,-999.0000,-999,9,  -999.00,9,  -999.00,   -999.0,9,   -999.0,  28.0762,  23.1807
  49NZ20090521,   P21,   168,  1,      7, X12025,9,20090522,1610,-17.5008,-151.6730, 4064,   3000.2,2,   1.6616,2,   1.66136,2,  34.6739,2,-999.0000,9,   164.57,2,  -999.00,9,  -999.00,9,  -999.00,  -999.00,9,  -999.00,  -999.00,9,  -999.00, -999.000,9, -999.000, -999.000,9, -999.000,9, -999.000,9,   -999.0,9,   -999.0,9,-999.0000,-999,9,  -999.00,9,  -999.00,   -999.0,9,   -999.0,   1.4412,  27.7527
  49NZ20090521,   P21,   168,  1,      6, X12024,9,20090522,1610,-17.5008,-151.6730, 4064,   3249.5,2,   1.5745,2,   1.57454,2,  34.6807,2,-999.0000,9,   169.68,2,  -999.00,9,  -999.00,9,  -999.00,  -999.00,9,  -999.00,  -999.00,9,  -999.00, -999.000,9, -999.000, -999.000,9, -999.000,9, -999.000,9,   -999.0,9,   -999.0,9,-999.0000,-999,9,  -999.00,9,  -999.00,   -999.0,9,   -999.0,   1.3318,  27.7660
  49NZ20090521,   P21,   168,  1,      5, X12028,9,20090522,1610,-17.5008,-151.6730, 4064,   3499.1,2,   1.5290,2,   1.52895,2,  34.6849,2,-999.0000,9,   173.14,2,  -999.00,9,  -999.00,9,  -999.00,  -999.00,9,  -999.00,  -999.00,9,  -999.00, -999.000,9, -999.000, -999.000,9, -999.000,9, -999.000,9,   -999.0,9,   -999.0,9,-999.0000,-999,9,  -999.00,9,  -999.00,   -999.0,9,   -999.0,   1.2622,  27.7743
  49NZ20090521,   P21,   168,  1,      4, X12022,9,20090522,1610,-17.5008,-151.6730, 4064,   3748.8,2,   1.4984,2,   1.49815,2,  34.6881,2,-999.0000,9,   176.04,2,  -999.00,9,  -999.00,9,  -999.00,  -999.00,9,  -999.00,  -999.00,9,  -999.00, -999.000,9, -999.000, -999.000,9, -999.000,9, -999.000,9,   -999.0,9,   -999.0,9,-999.0000,-999,9,  -999.00,9,  -999.00,   -999.0,9,   -999.0,   1.2064,  27.7808
  49NZ20090521,   P21,   168,  1,      3, X12021,9,20090522,1610,-17.5008,-151.6730, 4064,   4000.2,2,   1.4858,2,   1.48561,2,  34.6904,2,-999.0000,9,   178.18,2,  -999.00,9,  -999.00,9,  -999.00,  -999.00,9,  -999.00,  -999.00,9,  -999.00, -999.000,9, -999.000, -999.000,9, -999.000,9, -999.000,9,   -999.0,9,   -999.0,9,-999.0000,-999,9,  -999.00,9,  -999.00,   -999.0,9,   -999.0,   1.1672,  27.7853
  49NZ20090521,   P21,   168,  1,      2, X12020,9,20090522,1610,-17.5008,-151.6730, 4064,   4107.3,2,   1.4868,2,   1.48657,2,  34.6909,2,-999.0000,9,   178.80,2,  -999.00,9,  -999.00,9,  -999.00,  -999.00,9,  -999.00,  -999.00,9,  -999.00, -999.000,9, -999.000, -999.000,9, -999.000,9, -999.000,9,   -999.0,9,   -999.0,9,-999.0000,-999,9,  -999.00,9,  -999.00,   -999.0,9,   -999.0,   1.1565,  27.7864
  49NZ20090521,   P21,   168,  1,      1, X12019,2,20090522,1610,-17.5008,-151.6730, 4064,   4108.0,2,   1.4867,2,   1.48643,2,  34.6909,2,  34.6912,6,   178.83,2,   178.81,2,   120.02,2,     0.38,    33.92,2,     0.13,     0.01,2,     0.01,    2.376,2,    0.016,    0.001,2,    0.000,2,    0.000,2,   2289.6,2,   2387.2,2,   7.6102,  25,2,  -999.00,9,  -999.00,   -999.0,9,   -999.0,   1.1563,  27.7864