BOTTLE,20111109CCHDOSIOCBG
EXPOCODE,SECT_ID,STNNBR,CASTNO,SAMPNO,BTLNBR,BTLNBR_FLAG_W,DATE,TIME,LATITUDE,LONGITUDE,DEPTH,CTDPRS,CTDPRS_FLAG_W,CTDTMP,CTDTMP_FLAG_W,SBE35,SBE35_FLAG_W,CTDSAL,CTDSAL_FLAG_W,SALNTY,SALNTY_FLAG_W,CTDOXY,CTDOXY_FLAG_W,OXYGEN,OXYGEN_FLAG_W,SILCAT,SILCAT_FLAG_W,SILUNC,NITRAT,NITRAT_FLAG_W,NRAUNC,NITRIT,NITRIT_FLAG_W,NRIUNC,PHSPHT,PHSPHT_FLAG_W,PHPUNC,CFC-11,CFC-11_FLAG_W,CFC-12,CFC-12_FLAG_W,CFC113,CFC113_FLAG_W,TCARBN,TCARBN_FLAG_W,ALKALI,ALKALI_FLAG_W,PH_TOT,PH_TMP,PH_TOT_FLAG_W,DELC13,DELC13_FLAG_W,C13ERR,DELC14,DELC14_FLAG_W,C14ERR,THETA,SIG0
,,,,,,,,,,,METERS,DBAR,,ITS-90,,ITS-90,,PSS-78,,PSS-78,,UMOL/KG,,UMOL/KG,,UMOL/KG,,UMOL/KG,UMOL/KG,,UMOL/KG,UMOL/KG,,UMOL/KG,UMOL/KG,,UMOL/KG,PMOL/KG,,PMOL/KG,,PMOL/KG,,UMOL/KG,,UMOL/KG,,,DEG C,,/MILLE,,/MILLE,/MILLE,,/MILLE,DEG C,KG/M^3
  49NZ20090521,   P21,   176,  1,      0,   -999,9,20090527,1322,-17.5022,-157.0002, 4889,   -999.0,9,-999.0000,9,-999.00000,9,-999.0000,9,  35.9890,2,  -999.00,9,  -999.00,9,  -999.00,9,  -999.00,  -999.00,9,  -999.00,  -999.00,9,  -999.00, -999.000,9, -999.000, -999.000,9, -999.000,9, -999.000,9,   -999.0,9,   -999.0,9,-999.0000,-999,9,  -999.00,9,  -999.00,   -999.0,9,   -999.0,-999.0000,-999.0000
  49NZ20090521,   P21,   176,  1,     36, X12043,2,20090527,1322,-17.5022,-157.0002, 4889,     10.7,2,  28.0099,2,  28.00963,2,  35.9955,2,  35.9930,2,   195.83,2,   196.33,2,     0.61,2,     0.12,     0.07,2,     0.03,     0.01,2,     0.01,    0.168,2,    0.017,    1.432,2,    0.922,2, -999.000,5,   2004.0,2,   2368.9,2,   8.1299,  25,6,  -999.00,1,  -999.00,   -999.0,1,   -999.0,  28.0074,  23.1411
  49NZ20090521,   P21,   176,  1,     35, X12042,2,20090527,1322,-17.5022,-157.0002, 4889,     50.8,2,  27.5269,2,  27.53379,2,  36.2033,2,  36.2279,2,   204.77,2,   207.37,2,     0.59,2,     0.12,     0.06,2,     0.03,     0.01,2,     0.01,    0.185,2,    0.016,    1.533,2,    0.958,2, -999.000,5,   2022.2,6,   2382.9,2,   8.1185,  25,2,  -999.00,1,  -999.00,   -999.0,1,   -999.0,  27.5150,  23.4582
  49NZ20090521,   P21,   176,  1,     34, X12016,2,20090527,1322,-17.5022,-157.0002, 4889,    101.8,2,  24.7420,2,  24.73660,2,  36.1678,2,  36.1760,2,   200.20,2,   200.84,2,     0.55,2,     0.12,     0.06,2,     0.03,     0.01,2,     0.01,    0.206,2,    0.016,    1.683,6,    1.060,6, -999.000,5,   2040.7,2,   2378.9,6,   8.0855,  25,2,  -999.00,1,  -999.00,   -999.0,1,   -999.0,  24.7200,  24.3094
  49NZ20090521,   P21,   176,  1,     33, X12015,2,20090527,1322,-17.5022,-157.0002, 4889,    149.5,2,  23.5485,2,  23.55385,2,  36.0770,2,  36.0762,2,   184.47,2,   185.08,2,     0.56,2,     0.12,     0.96,2,     0.04,     0.10,2,     0.01,    0.297,2,    0.014,    1.788,2,    1.105,2, -999.000,5,   2058.7,2,   2371.7,2,   8.0466,  25,2,  -999.00,1,  -999.00,   -999.0,1,   -999.0,  23.5173,  24.5997
  49NZ20090521,   P21,   176,  1,     32, X12050,2,20090527,1322,-17.5022,-157.0002, 4889,    200.5,2,  21.6514,2,  21.65126,2,  35.8940,2,  35.8919,2,   176.71,2,   176.93,2,     0.63,2,     0.12,     2.60,2,     0.04,     0.02,2,     0.01,    0.398,2,    0.013,    1.995,2,    1.204,2,    0.095,2,   2078.8,2,   2358.7,2,   7.9968,  25,2,  -999.00,1,  -999.00,   -999.0,1,   -999.0,  21.6120,  25.0059
  49NZ20090521,   P21,   176,  1,     31, X12014,2,20090527,1322,-17.5022,-157.0002, 4889,    250.4,2,  19.6066,2,  19.60687,2,  35.6235,2,  35.6232,6,   181.66,2,   181.92,2,     0.79,2,     0.12,     3.41,2,     0.04,     0.02,2,     0.01,    0.425,2,    0.013,    2.180,2,    1.283,2,    0.050,2,   2078.8,2,   2340.3,2,   7.9665,  25,2,  -999.00,1,  -999.00,   -999.0,1,   -999.0,  19.5607,  25.3528
  49NZ20090521,   P21,   176,  1,     30, X12012,2,20090527,1322,-17.5022,-157.0002, 4889,    279.7,2,  18.5230,2,  18.51990,2,  35.4915,2,  35.4927,2,   182.86,2,   183.68,2,     0.99,2,     0.12,     4.20,2,     0.04,     0.02,2,     0.01,    0.482,2,    0.013,    2.253,2,    1.305,2,    0.038,2,   2083.6,2,   2331.4,2,   7.9484,  25,2,  -999.00,1,  -999.00,   -999.0,1,   -999.0,  18.4738,  25.5304
  49NZ20090521,   P21,   176,  1,     29, X12041,2,20090527,1322,-17.5022,-157.0002, 4889,    369.9,2,  13.7529,2,  13.74992,2,  34.9254,2,  34.9250,2,   176.58,2,   177.15,2,     3.79,2,     0.13,    11.45,2,     0.06,     0.01,2,     0.01,    0.979,2,    0.013,    2.328,6,    1.248,6,    0.041,6,   2115.0,2,   2301.5,2,   7.8324,  25,2,  -999.00,1,  -999.00,   -999.0,1,   -999.0,  13.6998,  26.1922
  49NZ20090521,   P21,   176,  1,     28, X12040,2,20090527,1322,-17.5022,-157.0002, 4889,    471.0,2,   9.3179,2,   9.32429,2,  34.5331,2,  34.5389,6,   172.48,2,   172.43,2,     9.31,2,     0.14,    21.31,2,     0.09,     0.01,2,     0.01,    1.604,2,    0.014,    1.867,2,    0.948,2,    0.039,2,   2154.5,2,   2284.8,2,   7.7063,  25,2,  -999.00,1,  -999.00,   -999.0,1,   -999.0,   9.2651,  26.7097
  49NZ20090521,   P21,   176,  1,     27, X12009,2,20090527,1322,-17.5022,-157.0002, 4889,    572.3,2,   6.9239,2,   6.92320,2,  34.3786,2,  34.3788,2,   193.74,2,   194.14,2,    12.72,2,     0.15,    26.13,2,     0.11,     0.01,2,     0.01,    1.858,2,    0.015,    1.554,6,    0.767,6,    0.043,6,   2165.7,2,   2281.8,2,   7.6717,  25,2,  -999.00,1,  -999.00,   -999.0,1,   -999.0,   6.8697,  26.9472
  49NZ20090521,   P21,   176,  1,     26, X12008,2,20090527,1322,-17.5022,-157.0002, 4889,    671.7,2,   5.7639,2,   5.76344,2,  34.3513,2,  34.3507,2,   190.19,2,   190.30,2,    20.54,2,     0.16,    29.40,2,     0.12,     0.01,2,     0.01,    2.052,2,    0.015,    0.817,2,    0.408,2,    0.015,2,   2178.7,6,   2288.3,2,   7.6477,  25,2,  -999.00,1,  -999.00,   -999.0,1,   -999.0,   5.7058,  27.0768
  49NZ20090521,   P21,   176,  1,     25, X12007,2,20090527,1322,-17.5022,-157.0002, 4889,    771.0,2,   5.2204,2,   5.22045,2,  34.4087,2,  34.4080,2,   158.45,2,   158.89,2,    36.62,2,     0.20,    32.76,2,     0.12,     0.01,2,     0.01,    2.300,2,    0.016,    0.255,2,    0.129,2,    0.000,2,   2214.5,2,   2304.4,6,   7.5980,  25,2,  -999.00,1,  -999.00,   -999.0,1,   -999.0,   5.1563,  27.1883
  49NZ20090521,   P21,   176,  1,     24, X12035,2,20090527,1322,-17.5022,-157.0002, 4889,    870.2,2,   4.6355,2,   4.63744,2,  34.4465,2,  34.4458,2,   149.91,2,   150.18,2,    49.51,2,     0.23,    34.18,2,     0.13,     0.01,2,     0.01,    2.404,2,    0.016,    0.088,2,    0.045,2,    0.000,2,   2233.5,2,   2318.4,2,   7.5830,  25,2,  -999.00,1,  -999.00,   -999.0,1,   -999.0,   4.5663,  27.2853
  49NZ20090521,   P21,   176,  1,     23, X12038,2,20090527,1322,-17.5022,-157.0002, 4889,    971.8,2,   3.9876,2,   3.98718,2,  34.4732,2,  34.4734,6,   150.91,2,   151.24,2,    61.44,2,     0.25,    34.94,2,     0.13,     0.01,2,     0.01,    2.449,2,    0.016,    0.022,2,    0.014,2,    0.000,2,   2246.6,2,   2332.1,2,   7.5802,  25,2,  -999.00,1,  -999.00,   -999.0,1,   -999.0,   3.9144,  27.3759
  49NZ20090521,   P21,   176,  1,     22, X12034,2,20090527,1322,-17.5022,-157.0002, 4889,   1130.1,2,   3.3614,2,   3.36174,2,  34.5162,2,  34.5160,2,   149.26,2,   149.65,2,    75.63,2,     0.29,    35.50,2,     0.13,     0.01,2,     0.01,    2.493,2,    0.016,    0.003,2,    0.002,2,    0.000,2,   2264.8,2,   2347.6,2,   7.5768,  25,2,  -999.00,1,  -999.00,   -999.0,1,   -999.0,   3.2803,  27.4728
  49NZ20090521,   P21,   176,  1,     21, X12033,2,20090527,1322,-17.5022,-157.0002, 4889,   1330.6,2,   2.9638,2,   2.96428,2,  34.5561,2,  34.5560,2,   146.47,2,   147.94,4,    88.18,2,     0.31,    35.88,2,     0.13,     0.01,2,     0.01,    2.527,2,    0.016,    0.001,2,    0.000,2,    0.000,2,   2279.6,2,   2362.7,2,   7.5737,  25,2,  -999.00,1,  -999.00,   -999.0,1,   -999.0,   2.8703,  27.5425
  49NZ20090521,   P21,   176,  1,     20, X12032,2,20090527,1322,-17.5022,-157.0002, 4889,   1529.9,2,   2.6678,2,   2.66793,2,  34.5852,2,  34.5848,2,   145.90,2,   149.98,4,    97.57,2,     0.33,    35.97,2,     0.13,     0.01,2,     0.01,    2.539,2,    0.016,    0.000,2,    0.000,2,    0.000,2,   2292.4,2,   2372.2,2,   7.5740,  25,6,  -999.00,1,  -999.00,   -999.0,1,   -999.0,   2.5613,  27.5930
  49NZ20090521,   P21,   176,  1,     19, X12046,2,20090527,1322,-17.5022,-157.0002, 4889,   1729.8,2,   2.4625,2,   2.46259,2,  34.6057,2,  34.6057,2,   145.74,2,   147.30,4,   104.51,2,     0.35,    36.14,2,     0.13,     0.01,2,     0.01,    2.545,2,    0.016,    0.000,2,    0.000,2,    0.000,2,   2297.6,2,   2380.7,2,   7.5749,  25,2,  -999.00,1,  -999.00,   -999.0,1,   -999.0,   2.3421,  27.6279
  49NZ20090521,   P21,   176,  1,     18, X12006,2,20090527,1322,-17.5022,-157.0002, 4889,   1930.5,2,   2.2671,2,   2.26905,2,  34.6240,2,  34.6238,2,   146.66,2,   148.00,4,   110.69,2,     0.36,    36.10,2,     0.13,     0.01,2,     0.01,    2.540,2,    0.016,    0.000,2,    0.000,2,    0.000,2,   2302.8,2,   2387.7,2,   7.5769,  25,2,  -999.00,1,  -999.00,   -999.0,1,   -999.0,   2.1326,  27.6598
  49NZ20090521,   P21,   176,  1,     17, X12047,2,20090527,1322,-17.5022,-157.0002, 4889,   2130.7,2,   2.0892,2,   2.08916,2,  34.6391,2,  34.6389,2,   148.86,2,   149.75,4,   115.45,2,     0.37,    36.06,2,     0.13,     0.01,2,     0.01,    2.535,2,    0.016,    0.000,2,    0.000,2,    0.000,2,   2306.0,2,   2392.2,2,   7.5806,  25,2,  -999.00,1,  -999.00,   -999.0,1,   -999.0,   1.9402,  27.6872
  49NZ20090521,   P21,   176,  1,     16, X12004,2,20090527,1322,-17.5022,-157.0002, 4889,   2332.5,2,   1.9673,2,   1.96728,2,  34.6495,2,  34.6492,6,   151.22,2,   153.39,4,   118.26,2,     0.38,    35.91,2,     0.13,     0.01,2,     0.01,    2.519,2,    0.016,    0.000,2,    0.000,2,    0.000,2,   2307.8,6,   2396.0,2,   7.5842,  25,2,  -999.00,1,  -999.00,   -999.0,1,   -999.0,   1.8027,  27.7063
  49NZ20090521,   P21,   176,  1,     15, X12003,2,20090527,1322,-17.5022,-157.0002, 4889,   2531.3,2,   1.8507,2,   1.85076,2,  34.6593,2,  34.6594,2,   154.54,2,   159.79,4,   120.51,2,     0.38,    35.67,2,     0.13,     0.01,2,     0.01,    2.500,2,    0.016,    0.000,2,    0.000,2,    0.000,2,   2306.4,2,   2397.3,6,   7.5877,  25,2,  -999.00,1,  -999.00,   -999.0,1,   -999.0,   1.6703,  27.7242
  49NZ20090521,   P21,   176,  1,     14, X12002,2,20090527,1322,-17.5022,-157.0002, 4889,   2732.0,2,   1.7687,2,   1.76868,2,  34.6662,2,  34.6657,2,   157.51,2,   158.29,4,   121.50,2,     0.39,    35.45,2,     0.13,     0.01,2,     0.01,    2.480,2,    0.016,    0.000,2,    0.000,2,    0.000,2,   2307.2,2,   2397.4,2,   7.5917,  25,6,  -999.00,1,  -999.00,   -999.0,1,   -999.0,   1.5715,  27.7370
  49NZ20090521,   P21,   176,  1,     13, X12001,2,20090527,1322,-17.5022,-157.0002, 4889,   2929.9,2,   1.6982,2,   1.69829,2,  34.6721,2,  34.6719,2,   160.27,2,   162.07,4,   122.75,2,     0.39,    35.27,2,     0.13,     0.01,2,     0.01,    2.471,2,    0.016,    0.000,2,    0.000,2,    0.000,2,   2306.2,2,   2397.4,2,   7.5942,  25,2,  -999.00,1,  -999.00,   -999.0,1,   -999.0,   1.4838,  27.7482
  49NZ20090521,   P21,   176,  1,     12, X12030,2,20090527,1322,-17.5022,-157.0002, 4889,   3172.0,2,   1.6134,2,   1.61337,2,  34.6789,2,  34.6784,2,   164.63,2,   167.68,4,   123.39,2,     0.39,    34.99,2,     0.13,     0.01,2,     0.01,    2.453,2,    0.016,    0.000,2,    0.000,2,    0.000,2,   2303.1,2,   2395.9,2,   7.5987,  25,2,  -999.00,1,  -999.00,   -999.0,1,   -999.0,   1.3774,  27.7613
  49NZ20090521,   P21,   176,  1,     11, X12044,2,20090527,1322,-17.5022,-157.0002, 4889,   3420.9,2,   1.5371,2,   1.53707,2,  34.6849,2,  34.6843,2,   170.54,2,   172.08,4,   122.27,2,     0.39,    34.71,2,     0.13,     0.01,2,     0.01,    2.419,2,    0.016,    0.000,2,    0.000,2,    0.000,2,   2299.1,2,   2393.6,2,   7.6027,  25,2,  -999.00,1,  -999.00,   -999.0,1,   -999.0,   1.2781,  27.7731
  49NZ20090521,   P21,   176,  1,     10, X12048,2,20090527,1322,-17.5022,-157.0002, 4889,   3671.2,2,   1.4926,2,   1.49285,2,  34.6888,2,  34.6886,2,   174.74,2,   176.96,4,   121.51,2,     0.39,    34.30,2,     0.13,     0.01,2,     0.01,    2.396,2,    0.016,    0.000,2,    0.000,2,    0.000,2,   2294.2,2,   2392.0,2,   7.6059,  25,2,  -999.00,1,  -999.00,   -999.0,1,   -999.0,   1.2089,  27.7811
  49NZ20090521,   P21,   176,  1,      9, X12027,2,20090527,1322,-17.5022,-157.0002, 4889,   3922.6,2,   1.4377,2,   1.43796,2,  34.6931,2,  34.6929,2,   179.69,2,   182.35,4,   120.49,2,     0.38,    33.99,2,     0.13,     0.01,2,     0.01,    2.376,2,    0.016,    0.000,2,    0.000,2,    0.000,2,   2288.7,2,   2386.2,2,   7.6102,  25,2,  -999.00,1,  -999.00,   -999.0,1,   -999.0,   1.1289,  27.7901
  49NZ20090521,   P21,   176,  1,      8, X12026,2,20090527,1322,-17.5022,-157.0002, 4889,   4169.4,2,   1.4145,2,   1.41417,2,  34.6956,2,  34.6957,2,   182.69,2,   183.96,4,   119.79,2,     0.38,    33.77,2,     0.13,     0.01,2,     0.01,    2.357,2,    0.016,    0.001,2,    0.000,2,    0.000,2,   2286.9,6,   2384.4,2,   7.6113,  25,2,  -999.00,1,  -999.00,   -999.0,1,   -999.0,   1.0794,  27.7954
  49NZ20090521,   P21,   176,  1,      7, X12025,2,20090527,1322,-17.5022,-157.0002, 4889,   4419.5,2,   1.3945,2,   1.39464,2,  34.6980,2,  34.6981,2,   185.55,2,   186.71,4,   119.33,2,     0.38,    33.59,2,     0.13,     0.01,2,     0.01,    2.343,2,    0.016,    0.000,2,    0.000,2,    0.000,2,   2284.1,2,   2382.7,6,   7.6129,  25,2,  -999.00,1,  -999.00,   -999.0,1,   -999.0,   1.0319,  27.8006
  49NZ20090521,   P21,   176,  1,      6, X12024,2,20090527,1322,-17.5022,-157.0002, 4889,   4670.6,2,   1.3887,2,   1.38869,2,  34.6999,2,  34.6999,2,   187.58,2,   189.84,4,   118.94,2,     0.38,    33.40,2,     0.13,     0.01,2,     0.01,    2.331,2,    0.016,    0.002,2,    0.000,2,    0.000,2,   2278.6,2,   2382.1,2,   7.6147,  25,6,  -999.00,1,  -999.00,   -999.0,1,   -999.0,   0.9973,  27.8044
  49NZ20090521,   P21,   176,  1,      5, X12028,9,20090527,1322,-17.5022,-157.0002, 4889,     11.3,2,  28.0095,2,  28.00933,2,  35.9946,2,-999.0000,9,   195.81,2,  -999.00,9,  -999.00,9,  -999.00,  -999.00,9,  -999.00,  -999.00,9,  -999.00, -999.000,9, -999.000, -999.000,9, -999.000,9, -999.000,9,   -999.0,9,   -999.0,9,-999.0000,-999,9,  -999.00,9,  -999.00,   -999.0,9,   -999.0,  28.0068,  23.1406
  49NZ20090521,   P21,   176,  1,      4, X12022,9,20090527,1322,-17.5022,-157.0002, 4889,     50.0,2,  27.5021,2,  27.50530,2,  36.2010,2,-999.0000,9,   205.04,2,  -999.00,9,  -999.00,9,  -999.00,  -999.00,9,  -999.00,  -999.00,9,  -999.00, -999.000,9, -999.000, -999.000,9, -999.000,9, -999.000,9,   -999.0,9,   -999.0,9,-999.0000,-999,9,  -999.00,9,  -999.00,   -999.0,9,   -999.0,  27.4904,  23.4645
  49NZ20090521,   P21,   176,  1,      3, X12021,9,20090527,1322,-17.5022,-157.0002, 4889,    101.6,2,  24.7409,2,  24.74061,2,  36.1684,2,-999.0000,9,   200.27,2,  -999.00,9,  -999.00,9,  -999.00,  -999.00,9,  -999.00,  -999.00,9,  -999.00, -999.000,9, -999.000, -999.000,9, -999.000,9, -999.000,9,   -999.0,9,   -999.0,9,-999.0000,-999,9,  -999.00,9,  -999.00,   -999.0,9,   -999.0,  24.7189,  24.3101
  49NZ20090521,   P21,   176,  1,      2, X12020,2,20090527,1322,-17.5022,-157.0002, 4889,   2930.1,2,   1.6984,2,   1.69831,2,  34.6721,2,-999.0000,9,   160.27,2,  -999.00,9,  -999.00,9,  -999.00,  -999.00,9,  -999.00,  -999.00,9,  -999.00, -999.000,9, -999.000,    0.000,2,    0.000,2,    0.000,2,   -999.0,9,   -999.0,9,-999.0000,-999,9,  -999.00,9,  -999.00,   -999.0,9,   -999.0,   1.4840,  27.7482
  49NZ20090521,   P21,   176,  1,      1, X12019,2,20090527,1322,-17.5022,-157.0002, 4889,   4956.0,2,   1.4125,2,   1.41245,2,  34.7001,2,  34.7006,6,   188.37,2,   188.47,2,   118.72,2,     0.38,    33.40,2,     0.13,     0.01,2,     0.01,    2.329,2,    0.016,    0.001,2,    0.000,2,    0.000,2,   2281.1,2,   2380.1,2,   7.6148,  25,2,  -999.00,1,  -999.00,   -999.0,1,   -999.0,   0.9865,  27.8053