BOTTLE,20111109CCHDOSIOCBG
EXPOCODE,SECT_ID,STNNBR,CASTNO,SAMPNO,BTLNBR,BTLNBR_FLAG_W,DATE,TIME,LATITUDE,LONGITUDE,DEPTH,CTDPRS,CTDPRS_FLAG_W,CTDTMP,CTDTMP_FLAG_W,SBE35,SBE35_FLAG_W,CTDSAL,CTDSAL_FLAG_W,SALNTY,SALNTY_FLAG_W,CTDOXY,CTDOXY_FLAG_W,OXYGEN,OXYGEN_FLAG_W,SILCAT,SILCAT_FLAG_W,SILUNC,NITRAT,NITRAT_FLAG_W,NRAUNC,NITRIT,NITRIT_FLAG_W,NRIUNC,PHSPHT,PHSPHT_FLAG_W,PHPUNC,CFC-11,CFC-11_FLAG_W,CFC-12,CFC-12_FLAG_W,CFC113,CFC113_FLAG_W,TCARBN,TCARBN_FLAG_W,ALKALI,ALKALI_FLAG_W,PH_TOT,PH_TMP,PH_TOT_FLAG_W,DELC13,DELC13_FLAG_W,C13ERR,DELC14,DELC14_FLAG_W,C14ERR,THETA,SIG0
,,,,,,,,,,,METERS,DBAR,,ITS-90,,ITS-90,,PSS-78,,PSS-78,,UMOL/KG,,UMOL/KG,,UMOL/KG,,UMOL/KG,UMOL/KG,,UMOL/KG,UMOL/KG,,UMOL/KG,UMOL/KG,,UMOL/KG,PMOL/KG,,PMOL/KG,,PMOL/KG,,UMOL/KG,,UMOL/KG,,,DEG C,,/MILLE,,/MILLE,/MILLE,,/MILLE,DEG C,KG/M^3
  49NZ20090521,   P21,   267,  1,      0,   -999,9,20090614,1311,-21.9662, 161.5527, 1628,   -999.0,9,-999.0000,9,-999.00000,9,-999.0000,9,  35.3147,2,  -999.00,9,  -999.00,9,  -999.00,9,  -999.00,  -999.00,9,  -999.00,  -999.00,9,  -999.00, -999.000,9, -999.000, -999.000,9, -999.000,9, -999.000,9,   -999.0,9,   -999.0,9,-999.0000,-999,9,  -999.00,9,  -999.00,   -999.0,9,   -999.0,-999.0000,-999.0000
  49NZ20090521,   P21,   267,  1,     36, X12043,2,20090614,1311,-21.9662, 161.5527, 1628,     10.0,2,  23.0506,2,  23.05100,2,  35.3071,2,  35.3046,2,   212.47,2,   212.22,2,     0.37,2,     0.12,     0.08,2,     0.03,     0.01,2,     0.01,    0.088,2,    0.024,    1.726,2,    1.090,2, -999.000,5,   -999.0,9,   -999.0,9,-999.0000,-999,9,  -999.00,9,  -999.00,   -999.0,9,   -999.0,  23.0486,  24.1525
  49NZ20090521,   P21,   267,  1,     35, X12042,2,20090614,1311,-21.9662, 161.5527, 1628,     48.9,2,  22.7927,2,  22.80006,2,  35.3971,2,  35.3986,2,   213.97,2,   213.83,2,     0.27,2,     0.12,     0.07,2,     0.03,     0.01,2,     0.01,    0.061,2,    0.030,    1.758,2,    1.107,2, -999.000,5,   -999.0,9,   -999.0,9,-999.0000,-999,9,  -999.00,9,  -999.00,   -999.0,9,   -999.0,  22.7828,  24.2974
  49NZ20090521,   P21,   267,  1,     34, X12016,2,20090614,1311,-21.9662, 161.5527, 1628,     99.9,2,  22.3633,2,  22.37808,2,  35.4857,2,  35.4845,2,   208.72,2,   207.54,2,     0.31,2,     0.12,     0.32,2,     0.03,     0.07,2,     0.01,    0.094,2,    0.023,    1.812,6,    1.132,6, -999.000,5,   -999.0,9,   -999.0,9,-999.0000,-999,9,  -999.00,9,  -999.00,   -999.0,9,   -999.0,  22.3433,  24.4901
  49NZ20090521,   P21,   267,  1,     33, X12015,2,20090614,1311,-21.9662, 161.5527, 1628,    149.5,2,  20.1724,2,  20.18228,2,  35.6477,2,  35.6458,2,   181.62,2,   181.74,2,     0.87,2,     0.12,     3.85,2,     0.04,     0.02,2,     0.01,    0.365,2,    0.014,    2.017,2,    1.232,2,    0.105,2,   -999.0,9,   -999.0,9,-999.0000,-999,9,  -999.00,9,  -999.00,   -999.0,9,   -999.0,  20.1445,  25.2176
  49NZ20090521,   P21,   267,  1,     32, X12050,2,20090614,1311,-21.9662, 161.5527, 1628,    201.5,2,  18.7166,2,  18.71653,2,  35.6361,2,  35.6373,2,   185.34,2,   185.37,2,     1.10,2,     0.12,     4.92,2,     0.05,     0.02,2,     0.01,    0.431,2,    0.013,    2.107,2,    1.264,2,    0.041,2,   -999.0,9,   -999.0,9,-999.0000,-999,9,  -999.00,9,  -999.00,   -999.0,9,   -999.0,  18.6809,  25.5888
  49NZ20090521,   P21,   267,  1,     31, X12014,2,20090614,1311,-21.9662, 161.5527, 1628,    250.2,2,  17.5835,2,  17.59155,2,  35.5627,2,  35.5615,6,   181.98,2,   181.96,2,     1.62,2,     0.12,     6.58,2,     0.05,     0.01,2,     0.01,    0.541,2,    0.013,    2.170,2,    1.276,2,    0.030,2,   -999.0,9,   -999.0,9,-999.0000,-999,9,  -999.00,9,  -999.00,   -999.0,9,   -999.0,  17.5410,  25.8158
  49NZ20090521,   P21,   267,  1,     30, X12012,2,20090614,1311,-21.9662, 161.5527, 1628,    282.2,2,  17.0920,2,  17.09268,2,  35.5316,2,  35.5294,2,   185.49,2,   185.21,2,     1.71,2,     0.12,     6.87,2,     0.05,     0.01,2,     0.01,    0.561,2,    0.013,    2.203,2,    1.288,2,    0.036,2,   -999.0,9,   -999.0,9,-999.0000,-999,9,  -999.00,9,  -999.00,   -999.0,9,   -999.0,  17.0450,  25.9116
  49NZ20090521,   P21,   267,  1,     29, X12041,2,20090614,1311,-21.9662, 161.5527, 1628,    369.6,2,  14.8593,2,  14.85828,2,  35.2969,2,  35.2954,2,   183.26,2,   183.63,2,     3.07,2,     0.13,    10.31,2,     0.06,     0.01,2,     0.01,    0.793,2,    0.013,    2.253,6,    1.272,6,    0.038,6,   -999.0,9,   -999.0,9,-999.0000,-999,9,  -999.00,9,  -999.00,   -999.0,9,   -999.0,  14.8033,  26.2441
  49NZ20090521,   P21,   267,  1,     28, X12040,2,20090614,1311,-21.9662, 161.5527, 1628,    470.7,2,  11.2659,2,  11.27159,2,  34.8787,2,  34.8792,6,   190.22,2,   190.30,2,     5.93,2,     0.13,    16.19,2,     0.08,     0.01,2,     0.01,    1.181,2,    0.013,    2.126,2,    1.140,2,    0.055,2,   -999.0,9,   -999.0,9,-999.0000,-999,9,  -999.00,9,  -999.00,   -999.0,9,   -999.0,  11.2063,  26.6435
  49NZ20090521,   P21,   267,  1,     27, X12009,2,20090614,1311,-21.9662, 161.5527, 1628,    572.7,2,   8.7519,2,   8.75209,2,  34.6088,2,  34.6087,2,   198.79,2,   198.97,2,     9.54,2,     0.14,    21.05,2,     0.09,     0.01,2,     0.01,    1.496,2,    0.014,    1.828,6,    0.949,6,    0.045,6,   -999.0,9,   -999.0,9,-999.0000,-999,9,  -999.00,9,  -999.00,   -999.0,9,   -999.0,   8.6897,  26.8610
  49NZ20090521,   P21,   267,  1,     26, X12008,2,20090614,1311,-21.9662, 161.5527, 1628,    669.0,2,   7.2401,2,   7.24197,2,  34.4768,2,  34.4769,2,   203.03,2,   203.20,2,    14.16,2,     0.15,    24.23,2,     0.10,     0.01,2,     0.01,    1.705,2,    0.014,    1.421,2,    0.728,2,    0.040,2,   -999.0,9,   -999.0,9,-999.0000,-999,9,  -999.00,9,  -999.00,   -999.0,9,   -999.0,   7.1746,  26.9823
  49NZ20090521,   P21,   267,  1,     25, X12007,2,20090614,1311,-21.9662, 161.5527, 1628,    771.0,2,   5.9709,2,   5.97173,2,  34.4264,2,  34.4261,2,   195.10,2,   195.40,2,    24.84,2,     0.17,    27.68,2,     0.11,     0.01,2,     0.01,    1.944,2,    0.015,    0.794,2,    0.413,2,    0.018,2,   -999.0,9,   -999.0,9,-999.0000,-999,9,  -999.00,9,  -999.00,   -999.0,9,   -999.0,   5.9023,  27.1117
  49NZ20090521,   P21,   267,  1,     24, X12035,2,20090614,1311,-21.9662, 161.5527, 1628,    870.1,2,   5.1649,2,   5.16572,2,  34.4397,2,  34.4390,2,   183.78,2,   184.10,2,    37.94,2,     0.20,    30.00,2,     0.12,     0.01,2,     0.01,    2.101,2,    0.015,    0.452,2,    0.237,2,    0.009,2,   -999.0,9,   -999.0,9,-999.0000,-999,9,  -999.00,9,  -999.00,   -999.0,9,   -999.0,   5.0922,  27.2204
  49NZ20090521,   P21,   267,  1,     23, X12038,2,20090614,1311,-21.9662, 161.5527, 1628,    969.8,2,   4.5164,2,   4.51615,2,  34.4626,2,  34.4626,6,   175.33,2,   175.97,2,    50.12,2,     0.23,    31.56,2,     0.12,     0.01,2,     0.01,    2.216,2,    0.016,    0.258,2,    0.138,2,    0.009,2,   -999.0,9,   -999.0,9,-999.0000,-999,9,  -999.00,9,  -999.00,   -999.0,9,   -999.0,   4.4395,  27.3120
  49NZ20090521,   P21,   267,  1,     22, X12034,2,20090614,1311,-21.9662, 161.5527, 1628,   1132.5,2,   3.8085,2,   3.80865,2,  34.5182,2,  34.5184,2,   162.43,2,   162.71,2,    68.68,2,     0.27,    33.33,2,     0.13,     0.01,2,     0.01,    2.347,2,    0.016,    0.098,2,    0.056,2,    0.000,2,   -999.0,9,   -999.0,9,-999.0000,-999,9,  -999.00,9,  -999.00,   -999.0,9,   -999.0,   3.7233,  27.4311
  49NZ20090521,   P21,   267,  1,     21, X12033,2,20090614,1311,-21.9662, 161.5527, 1628,   1330.8,2,   3.3000,2,   3.30006,2,  34.5605,2,  34.5608,2,   154.58,2,   154.90,2,    82.62,2,     0.30,    34.29,2,     0.13,     0.01,2,     0.01,    2.426,2,    0.016,    0.033,2,    0.020,2,    0.000,2,   -999.0,9,   -999.0,9,-999.0000,-999,9,  -999.00,9,  -999.00,   -999.0,9,   -999.0,   3.2030,  27.5154
  49NZ20090521,   P21,   267,  1,     20, X12032,2,20090614,1311,-21.9662, 161.5527, 1628,   1532.3,2,   2.8552,2,   2.85475,2,  34.5987,2,  34.5989,2,   150.25,2,   150.42,2,    93.58,2,     0.32,    35.11,2,     0.13,     0.01,2,     0.01,    2.479,2,    0.016,    0.009,2,    0.007,2,    0.000,2,   -999.0,9,   -999.0,9,-999.0000,-999,9,  -999.00,9,  -999.00,   -999.0,9,   -999.0,   2.7463,  27.5876
  49NZ20090521,   P21,   267,  1,     19, X12046,9,20090614,1311,-21.9662, 161.5527, 1628,   1532.8,2,   2.8545,2,   2.85396,2,  34.5987,2,-999.0000,9,   150.28,2,  -999.00,9,  -999.00,9,  -999.00,  -999.00,9,  -999.00,  -999.00,9,  -999.00, -999.000,9, -999.000, -999.000,9, -999.000,9, -999.000,9,   -999.0,9,   -999.0,9,-999.0000,-999,9,  -999.00,9,  -999.00,   -999.0,9,   -999.0,   2.7456,  27.5877
  49NZ20090521,   P21,   267,  1,     18, X12006,9,20090614,1311,-21.9662, 161.5527, 1628,      9.9,2,  23.0510,2,  23.05119,2,  35.3072,2,-999.0000,9,   212.43,2,  -999.00,9,  -999.00,9,  -999.00,  -999.00,9,  -999.00,  -999.00,9,  -999.00, -999.000,9, -999.000, -999.000,9, -999.000,9, -999.000,9,   -999.0,9,   -999.0,9,-999.0000,-999,9,  -999.00,9,  -999.00,   -999.0,9,   -999.0,  23.0490,  24.1524
  49NZ20090521,   P21,   267,  1,     17, X12047,9,20090614,1311,-21.9662, 161.5527, 1628,     49.5,2,  22.8454,2,  22.84530,2,  35.3844,2,-999.0000,9,   213.85,2,  -999.00,9,  -999.00,9,  -999.00,  -999.00,9,  -999.00,  -999.00,9,  -999.00, -999.000,9, -999.000, -999.000,9, -999.000,9, -999.000,9,   -999.0,9,   -999.0,9,-999.0000,-999,9,  -999.00,9,  -999.00,   -999.0,9,   -999.0,  22.8353,  24.2727
  49NZ20090521,   P21,   267,  1,     16, X12004,9,20090614,1311,-21.9662, 161.5527, 1628,    100.1,2,  22.3873,2,  22.39371,2,  35.4811,2,-999.0000,9,   209.28,2,  -999.00,9,  -999.00,9,  -999.00,  -999.00,9,  -999.00,  -999.00,9,  -999.00, -999.000,9, -999.000, -999.000,9, -999.000,9, -999.000,9,   -999.0,9,   -999.0,9,-999.0000,-999,9,  -999.00,9,  -999.00,   -999.0,9,   -999.0,  22.3672,  24.4798
  49NZ20090521,   P21,   267,  1,     15, X12003,9,20090614,1311,-21.9662, 161.5527, 1628,    150.2,2,  20.2412,2,  20.23166,2,  35.6458,2,-999.0000,9,   182.10,2,  -999.00,9,  -999.00,9,  -999.00,  -999.00,9,  -999.00,  -999.00,9,  -999.00, -999.000,9, -999.000, -999.000,9, -999.000,9, -999.000,9,   -999.0,9,   -999.0,9,-999.0000,-999,9,  -999.00,9,  -999.00,   -999.0,9,   -999.0,  20.2131,  25.1979
  49NZ20090521,   P21,   267,  1,     14, X12002,9,20090614,1311,-21.9662, 161.5527, 1628,    202.6,2,  18.6799,2,  18.68296,2,  35.6346,2,-999.0000,9,   185.12,2,  -999.00,9,  -999.00,9,  -999.00,  -999.00,9,  -999.00,  -999.00,9,  -999.00, -999.000,9, -999.000, -999.000,9, -999.000,9, -999.000,9,   -999.0,9,   -999.0,9,-999.0000,-999,9,  -999.00,9,  -999.00,   -999.0,9,   -999.0,  18.6440,  25.5970
  49NZ20090521,   P21,   267,  1,     13, X12001,9,20090614,1311,-21.9662, 161.5527, 1628,    250.2,2,  17.6013,2,  17.60173,2,  35.5641,2,-999.0000,9,   182.01,2,  -999.00,9,  -999.00,9,  -999.00,  -999.00,9,  -999.00,  -999.00,9,  -999.00, -999.000,9, -999.000, -999.000,9, -999.000,9, -999.000,9,   -999.0,9,   -999.0,9,-999.0000,-999,9,  -999.00,9,  -999.00,   -999.0,9,   -999.0,  17.5588,  25.8126
  49NZ20090521,   P21,   267,  1,     12, X12030,9,20090614,1311,-21.9662, 161.5527, 1628,    282.0,2,  17.0914,2,  17.09230,2,  35.5318,2,-999.0000,9,   185.49,2,  -999.00,9,  -999.00,9,  -999.00,  -999.00,9,  -999.00,  -999.00,9,  -999.00, -999.000,9, -999.000, -999.000,9, -999.000,9, -999.000,9,   -999.0,9,   -999.0,9,-999.0000,-999,9,  -999.00,9,  -999.00,   -999.0,9,   -999.0,  17.0444,  25.9120
  49NZ20090521,   P21,   267,  1,     11, X12044,9,20090614,1311,-21.9662, 161.5527, 1628,    370.0,2,  14.8592,2,  14.85935,2,  35.2975,2,-999.0000,9,   183.29,2,  -999.00,9,  -999.00,9,  -999.00,  -999.00,9,  -999.00,  -999.00,9,  -999.00, -999.000,9, -999.000, -999.000,9, -999.000,9, -999.000,9,   -999.0,9,   -999.0,9,-999.0000,-999,9,  -999.00,9,  -999.00,   -999.0,9,   -999.0,  14.8031,  26.2446
  49NZ20090521,   P21,   267,  1,     10, X12048,9,20090614,1311,-21.9662, 161.5527, 1628,    471.0,2,  11.3178,2,  11.31456,2,  34.8831,2,-999.0000,9,   190.02,2,  -999.00,9,  -999.00,9,  -999.00,  -999.00,9,  -999.00,  -999.00,9,  -999.00, -999.000,9, -999.000, -999.000,9, -999.000,9, -999.000,9,   -999.0,9,   -999.0,9,-999.0000,-999,9,  -999.00,9,  -999.00,   -999.0,9,   -999.0,  11.2580,  26.6374
  49NZ20090521,   P21,   267,  1,      9, X12027,9,20090614,1311,-21.9662, 161.5527, 1628,    572.6,2,   8.7524,2,   8.75190,2,  34.6089,2,-999.0000,9,   198.81,2,  -999.00,9,  -999.00,9,  -999.00,  -999.00,9,  -999.00,  -999.00,9,  -999.00, -999.000,9, -999.000, -999.000,9, -999.000,9, -999.000,9,   -999.0,9,   -999.0,9,-999.0000,-999,9,  -999.00,9,  -999.00,   -999.0,9,   -999.0,   8.6902,  26.8610
  49NZ20090521,   P21,   267,  1,      8, X12026,9,20090614,1311,-21.9662, 161.5527, 1628,    669.0,2,   7.2480,2,   7.24995,2,  34.4773,2,-999.0000,9,   203.08,2,  -999.00,9,  -999.00,9,  -999.00,  -999.00,9,  -999.00,  -999.00,9,  -999.00, -999.000,9, -999.000, -999.000,9, -999.000,9, -999.000,9,   -999.0,9,   -999.0,9,-999.0000,-999,9,  -999.00,9,  -999.00,   -999.0,9,   -999.0,   7.1825,  26.9816
  49NZ20090521,   P21,   267,  1,      7, X12025,9,20090614,1311,-21.9662, 161.5527, 1628,    770.5,2,   5.9787,2,   5.97594,2,  34.4264,2,-999.0000,9,   194.97,2,  -999.00,9,  -999.00,9,  -999.00,  -999.00,9,  -999.00,  -999.00,9,  -999.00, -999.000,9, -999.000, -999.000,9, -999.000,9, -999.000,9,   -999.0,9,   -999.0,9,-999.0000,-999,9,  -999.00,9,  -999.00,   -999.0,9,   -999.0,   5.9101,  27.1108
  49NZ20090521,   P21,   267,  1,      6, X12024,9,20090614,1311,-21.9662, 161.5527, 1628,    870.0,2,   5.1697,2,   5.17018,2,  34.4395,2,-999.0000,9,   183.72,2,  -999.00,9,  -999.00,9,  -999.00,  -999.00,9,  -999.00,  -999.00,9,  -999.00, -999.000,9, -999.000, -999.000,9, -999.000,9, -999.000,9,   -999.0,9,   -999.0,9,-999.0000,-999,9,  -999.00,9,  -999.00,   -999.0,9,   -999.0,   5.0970,  27.2197
  49NZ20090521,   P21,   267,  1,      5, X12028,9,20090614,1311,-21.9662, 161.5527, 1628,    969.7,2,   4.5171,2,   4.51715,2,  34.4627,2,-999.0000,9,   175.42,2,  -999.00,9,  -999.00,9,  -999.00,  -999.00,9,  -999.00,  -999.00,9,  -999.00, -999.000,9, -999.000, -999.000,9, -999.000,9, -999.000,9,   -999.0,9,   -999.0,9,-999.0000,-999,9,  -999.00,9,  -999.00,   -999.0,9,   -999.0,   4.4402,  27.3120
  49NZ20090521,   P21,   267,  1,      4, X12022,9,20090614,1311,-21.9662, 161.5527, 1628,   1132.5,2,   3.8084,2,   3.80850,2,  34.5183,2,-999.0000,9,   162.39,2,  -999.00,9,  -999.00,9,  -999.00,  -999.00,9,  -999.00,  -999.00,9,  -999.00, -999.000,9, -999.000, -999.000,9, -999.000,9, -999.000,9,   -999.0,9,   -999.0,9,-999.0000,-999,9,  -999.00,9,  -999.00,   -999.0,9,   -999.0,   3.7232,  27.4312
  49NZ20090521,   P21,   267,  1,      3, X12021,9,20090614,1311,-21.9662, 161.5527, 1628,    149.9,2,  20.1937,2,  20.19350,2,  35.6473,2,-999.0000,9,   181.85,2,  -999.00,9,  -999.00,9,  -999.00,  -999.00,9,  -999.00,  -999.00,9,  -999.00, -999.000,9, -999.000, -999.000,9, -999.000,9, -999.000,9,   -999.0,9,   -999.0,9,-999.0000,-999,9,  -999.00,9,  -999.00,   -999.0,9,   -999.0,  20.1657,  25.2116
  49NZ20090521,   P21,   267,  1,      2, X12020,9,20090614,1311,-21.9662, 161.5527, 1628,   1330.4,2,   3.2992,2,   3.29938,2,  34.5606,2,-999.0000,9,   154.58,2,  -999.00,9,  -999.00,9,  -999.00,  -999.00,9,  -999.00,  -999.00,9,  -999.00, -999.000,9, -999.000, -999.000,9, -999.000,9, -999.000,9,   -999.0,9,   -999.0,9,-999.0000,-999,9,  -999.00,9,  -999.00,   -999.0,9,   -999.0,   3.2023,  27.5155
  49NZ20090521,   P21,   267,  1,      1, X12019,2,20090614,1311,-21.9662, 161.5527, 1628,   1628.2,2,   2.7185,2,   2.71829,2,  34.6108,2,  34.6110,6,   150.26,2,   150.26,2,    96.78,2,     0.33,    35.08,2,     0.13,     0.01,2,     0.01,    2.480,2,    0.016,    0.004,2,    0.005,2,    0.000,2,   -999.0,9,   -999.0,9,-999.0000,-999,9,  -999.00,9,  -999.00,   -999.0,9,   -999.0,   2.6033,  27.6098