BOTTLE,20111109CCHDOSIOCBG
EXPOCODE,SECT_ID,STNNBR,CASTNO,SAMPNO,BTLNBR,BTLNBR_FLAG_W,DATE,TIME,LATITUDE,LONGITUDE,DEPTH,CTDPRS,CTDPRS_FLAG_W,CTDTMP,CTDTMP_FLAG_W,SBE35,SBE35_FLAG_W,CTDSAL,CTDSAL_FLAG_W,SALNTY,SALNTY_FLAG_W,CTDOXY,CTDOXY_FLAG_W,OXYGEN,OXYGEN_FLAG_W,SILCAT,SILCAT_FLAG_W,SILUNC,NITRAT,NITRAT_FLAG_W,NRAUNC,NITRIT,NITRIT_FLAG_W,NRIUNC,PHSPHT,PHSPHT_FLAG_W,PHPUNC,CFC-11,CFC-11_FLAG_W,CFC-12,CFC-12_FLAG_W,CFC113,CFC113_FLAG_W,TCARBN,TCARBN_FLAG_W,ALKALI,ALKALI_FLAG_W,PH_TOT,PH_TMP,PH_TOT_FLAG_W,DELC13,DELC13_FLAG_W,C13ERR,DELC14,DELC14_FLAG_W,C14ERR,THETA,SIG0
,,,,,,,,,,,METERS,DBAR,,ITS-90,,ITS-90,,PSS-78,,PSS-78,,UMOL/KG,,UMOL/KG,,UMOL/KG,,UMOL/KG,UMOL/KG,,UMOL/KG,UMOL/KG,,UMOL/KG,UMOL/KG,,UMOL/KG,PMOL/KG,,PMOL/KG,,PMOL/KG,,UMOL/KG,,UMOL/KG,,,DEG C,,/MILLE,,/MILLE,/MILLE,,/MILLE,DEG C,KG/M^3
  49NZ20090521,   P21,   210,  1,      0,   -999,9,20090604,1655,-17.4945,-177.0013, 2440,   -999.0,9,-999.0000,9,-999.00000,9,-999.0000,9,  35.4694,2,  -999.00,9,  -999.00,9,  -999.00,9,  -999.00,  -999.00,9,  -999.00,  -999.00,9,  -999.00, -999.000,9, -999.000, -999.000,9, -999.000,9, -999.000,9,   -999.0,9,   -999.0,9,-999.0000,-999,9,  -999.00,9,  -999.00,   -999.0,9,   -999.0,-999.0000,-999.0000
  49NZ20090521,   P21,   210,  1,     36, X12043,2,20090604,1655,-17.4945,-177.0013, 2440,     10.4,2,  27.4328,2,  27.43171,2,  35.4442,2,  35.4427,2,   198.03,2,   198.37,2,     0.44,2,     0.12,     0.05,2,     0.03,     0.01,2,     0.01,    0.129,2,    0.019,    1.456,2,    0.921,2, -999.000,5,   1971.6,2,   2330.5,2,   8.1363,  25,6,  -999.00,1,  -999.00,   -999.0,1,   -999.0,  27.4304,  22.9140
  49NZ20090521,   P21,   210,  1,     35, X12042,2,20090604,1655,-17.4945,-177.0013, 2440,     49.8,2,  27.4521,2,  27.45152,2,  35.4547,2,  35.4520,2,   197.81,2,   198.32,2,     0.42,2,     0.12,     0.05,2,     0.03,     0.01,2,     0.01,    0.133,2,    0.019,    1.443,2,    0.888,2, -999.000,5,   1973.9,6,   2331.3,2,   8.1346,  25,2,  -999.00,1,  -999.00,   -999.0,1,   -999.0,  27.4405,  22.9186
  49NZ20090521,   P21,   210,  1,     34, X12016,2,20090604,1655,-17.4945,-177.0013, 2440,     99.7,2,  26.7869,2,  26.78953,2,  36.0472,2,  36.0446,2,   190.54,2,   191.18,2,     0.45,2,     0.12,     0.04,2,     0.03,     0.02,2,     0.01,    0.226,2,    0.015,    1.568,6,    0.982,6, -999.000,5,   2026.6,2,   2373.1,6,   8.0995,  25,2,  -999.00,1,  -999.00,   -999.0,1,   -999.0,  26.7641,  23.5822
  49NZ20090521,   P21,   210,  1,     33, X12015,2,20090604,1655,-17.4945,-177.0013, 2440,    151.0,2,  24.1536,2,  24.16069,2,  36.0189,2,  36.0180,2,   164.87,2,   165.59,2,     0.48,2,     0.12,     1.90,2,     0.04,     0.03,2,     0.01,    0.387,2,    0.013,    1.801,2,    1.091,2,    0.151,2,   2070.6,2,   2369.2,2,   8.0231,  25,6,  -999.00,1,  -999.00,   -999.0,1,   -999.0,  24.1215,  24.3768
  49NZ20090521,   P21,   210,  1,     32, X12050,2,20090604,1655,-17.4945,-177.0013, 2440,    199.8,2,  22.4119,2,  22.41156,2,  35.9833,2,  35.9815,2,   162.13,2,   162.39,2,     0.59,2,     0.12,     3.54,2,     0.04,     0.02,2,     0.01,    0.486,2,    0.013,    1.963,2,    1.167,2,    0.083,2,   2092.8,2,   2366.8,2,   7.9843,  25,2,  -999.00,1,  -999.00,   -999.0,1,   -999.0,  22.3716,  24.8600
  49NZ20090521,   P21,   210,  1,     31, X12014,2,20090604,1655,-17.4945,-177.0013, 2440,    251.8,2,  19.6155,2,  19.61547,2,  35.6467,2,  35.6478,6,   165.02,2,   165.09,2,     1.13,2,     0.12,     5.50,2,     0.05,     0.01,2,     0.01,    0.598,2,    0.013,    2.159,2,    1.231,2,    0.058,2,   2100.0,2,   2345.1,2,   7.9374,  25,2,  -999.00,1,  -999.00,   -999.0,1,   -999.0,  19.5693,  25.3683
  49NZ20090521,   P21,   210,  1,     30, X12012,2,20090604,1655,-17.4945,-177.0013, 2440,    280.4,2,  18.6708,2,  18.66684,2,  35.5367,2,  35.5366,2,   171.14,2,   171.50,2,     1.18,2,     0.12,     5.55,2,     0.05,     0.01,2,     0.01,    0.565,2,    0.013,    2.219,2,    1.257,2,    0.051,2,   2095.2,2,   2335.2,2,   7.9340,  25,2,  -999.00,1,  -999.00,   -999.0,1,   -999.0,  18.6211,  25.5278
  49NZ20090521,   P21,   210,  1,     29, X12041,2,20090604,1655,-17.4945,-177.0013, 2440,    370.8,2,  14.4093,2,  14.40910,2,  35.0948,2,  35.0944,2,   178.58,2,   178.75,2,     3.09,2,     0.13,    10.28,2,     0.06,     0.01,2,     0.01,    0.864,2,    0.013,    2.308,6,    1.236,6,    0.039,6,   2114.6,2,   2309.8,2,   7.8529,  25,2,  -999.00,1,  -999.00,   -999.0,1,   -999.0,  14.3543,  26.1851
  49NZ20090521,   P21,   210,  1,     28, X12040,2,20090604,1655,-17.4945,-177.0013, 2440,    470.8,2,  10.6055,2,  10.60535,2,  34.7054,2,  34.7072,6,   185.28,2,   185.30,2,     6.12,2,     0.13,    17.26,2,     0.08,     0.01,2,     0.01,    1.306,2,    0.014,    2.155,2,    1.086,2,    0.072,2,   2140.9,2,   2291.9,2,   7.7641,  25,2,  -999.00,1,  -999.00,   -999.0,1,   -999.0,  10.5483,  26.6268
  49NZ20090521,   P21,   210,  1,     27, X12009,2,20090604,1655,-17.4945,-177.0013, 2440,    571.7,2,   7.5469,2,   7.55080,2,  34.4487,2,  34.4490,2,   191.65,2,   191.73,2,    12.39,2,     0.15,    24.44,2,     0.10,     0.01,2,     0.01,    1.754,2,    0.015,    1.526,6,    0.741,6,    0.065,6,   2164.9,2,   2286.5,2,   7.6910,  25,2,  -999.00,1,  -999.00,   -999.0,1,   -999.0,   7.4900,  26.9154
  49NZ20090521,   P21,   210,  1,     26, X12008,2,20090604,1655,-17.4945,-177.0013, 2440,    671.2,2,   6.1341,2,   6.13353,2,  34.3755,2,  34.3756,2,   195.63,2,   195.73,2,    18.68,2,     0.16,    27.76,2,     0.11,     0.01,2,     0.01,    1.952,2,    0.015,    0.919,2,    0.445,2,    0.054,2,   2178.0,6,   2289.0,2,   7.6659,  25,2,  -999.00,1,  -999.00,   -999.0,1,   -999.0,   6.0741,  27.0497
  49NZ20090521,   P21,   210,  1,     25, X12007,2,20090604,1655,-17.4945,-177.0013, 2440,    769.9,2,   5.0991,2,   5.09911,2,  34.3851,2,  34.3851,2,   178.11,2,   178.21,2,    33.04,2,     0.19,    31.18,2,     0.12,     0.01,2,     0.01,    2.189,2,    0.015,    0.337,2,    0.166,2,    0.023,2,   2205.5,2,   2302.9,6,   7.6257,  25,2,  -999.00,1,  -999.00,   -999.0,1,   -999.0,   5.0358,  27.1836
  49NZ20090521,   P21,   210,  1,     24, X12035,2,20090604,1655,-17.4945,-177.0013, 2440,    870.3,2,   4.4952,2,   4.49681,2,  34.4147,2,  34.4146,2,   167.82,2,   168.05,2,    44.76,2,     0.22,    32.93,2,     0.13,     0.01,2,     0.01,    2.312,2,    0.016,    0.152,2,    0.078,2,    0.010,2,   2224.0,2,   2315.3,2,   7.6045,  25,6,  -999.00,1,  -999.00,   -999.0,1,   -999.0,   4.4270,  27.2753
  49NZ20090521,   P21,   210,  1,     23, X12038,2,20090604,1655,-17.4945,-177.0013, 2440,    970.8,2,   4.1508,2,   4.15073,2,  34.4414,2,  34.4415,6,   161.39,2,   161.74,2,    53.41,2,     0.24,    33.83,2,     0.13,     0.01,2,     0.01,    2.375,2,    0.016,    0.085,2,    0.042,2,    0.000,2,   2237.5,2,   2324.2,2,   7.5936,  25,2,  -999.00,1,  -999.00,   -999.0,1,   -999.0,   4.0765,  27.3339
  49NZ20090521,   P21,   210,  1,     22, X12034,2,20090604,1655,-17.4945,-177.0013, 2440,   1130.4,2,   3.5933,2,   3.59286,2,  34.4865,2,  34.4867,2,   156.75,2,   157.08,2,    67.77,2,     0.27,    34.58,2,     0.13,     0.01,2,     0.01,    2.432,2,    0.016,    0.040,2,    0.020,2,    0.000,2,   2255.0,2,   2340.1,2,   7.5851,  25,2,  -999.00,1,  -999.00,   -999.0,1,   -999.0,   3.5102,  27.4269
  49NZ20090521,   P21,   210,  1,     21, X12033,2,20090604,1655,-17.4945,-177.0013, 2440,   1332.2,2,   3.1302,2,   3.13044,2,  34.5302,2,  34.5301,2,   153.75,2,   154.17,2,    81.62,2,     0.30,    35.02,2,     0.13,     0.01,2,     0.01,    2.466,2,    0.016,    0.025,2,    0.011,2,    0.000,2,   2272.9,2,   2356.0,2,   7.5825,  25,2,  -999.00,1,  -999.00,   -999.0,1,   -999.0,   3.0349,  27.5069
  49NZ20090521,   P21,   210,  1,     20, X12032,2,20090604,1655,-17.4945,-177.0013, 2440,   1530.4,2,   2.7333,2,   2.73320,2,  34.5739,2,  34.5739,6,   149.79,2,   150.07,2,    96.17,2,     0.33,    35.46,2,     0.13,     0.01,2,     0.01,    2.500,2,    0.016,    0.010,2,    0.008,2,    0.000,2,   2288.2,2,   2373.0,2,   7.5804,  25,2,  -999.00,1,  -999.00,   -999.0,1,   -999.0,   2.6261,  27.5783
  49NZ20090521,   P21,   210,  1,     19, X12046,2,20090604,1655,-17.4945,-177.0013, 2440,   1733.8,2,   2.5514,2,   2.55151,2,  34.5978,2,  34.5981,2,   146.65,2,   146.92,2,   104.02,2,     0.35,    35.75,2,     0.13,     0.01,2,     0.01,    2.518,2,    0.016,    0.008,2,    0.006,2,    0.000,2,   2298.6,2,   2382.4,2,   7.5778,  25,2,  -999.00,1,  -999.00,   -999.0,1,   -999.0,   2.4295,  27.6143
  49NZ20090521,   P21,   210,  1,     18, X12006,2,20090604,1655,-17.4945,-177.0013, 2440,   1931.2,2,   2.4666,2,   2.46658,2,  34.6090,2,  34.6094,6,   145.40,2,   145.70,2,   107.86,2,     0.36,    35.73,2,     0.13,     0.01,2,     0.01,    2.528,2,    0.016,    0.008,2,    0.004,2,    0.000,2,   2303.9,2,   2387.4,2,   7.5773,  25,2,  -999.00,1,  -999.00,   -999.0,1,   -999.0,   2.3291,  27.6317
  49NZ20090521,   P21,   210,  1,     17, X12047,2,20090604,1655,-17.4945,-177.0013, 2440,   2130.1,2,   2.2920,2,   2.29200,2,  34.6261,2,  34.6267,2,   145.36,2,   145.64,2,   113.55,2,     0.37,    35.90,2,     0.13,     0.01,2,     0.01,    2.536,2,    0.016,    0.002,2,    0.003,2,    0.000,2,   2308.4,2,   2393.5,2,   7.5781,  25,2,  -999.00,1,  -999.00,   -999.0,1,   -999.0,   2.1399,  27.6610
  49NZ20090521,   P21,   210,  1,     16, X12004,2,20090604,1655,-17.4945,-177.0013, 2440,   2332.4,2,   2.1335,2,   2.13347,2,  34.6413,2,  34.6413,2,   145.40,2,   145.51,2,   118.86,2,     0.38,    36.01,2,     0.13,     0.01,2,     0.01,    2.542,2,    0.016,    0.002,2,    0.000,2,    0.000,2,   2313.3,2,   2399.0,2,   7.5794,  25,2,  -999.00,1,  -999.00,   -999.0,1,   -999.0,   1.9660,  27.6870
  49NZ20090521,   P21,   210,  1,     15, X12003,9,20090604,1655,-17.4945,-177.0013, 2440,     10.6,2,  27.4330,2,  27.43312,2,  35.4437,2,-999.0000,9,   198.06,2,  -999.00,9,  -999.00,9,  -999.00,  -999.00,9,  -999.00,  -999.00,9,  -999.00, -999.000,9, -999.000, -999.000,9, -999.000,9, -999.000,9,   -999.0,9,   -999.0,9,-999.0000,-999,9,  -999.00,9,  -999.00,   -999.0,9,   -999.0,  27.4305,  22.9136
  49NZ20090521,   P21,   210,  1,     14, X12002,9,20090604,1655,-17.4945,-177.0013, 2440,     50.1,2,  27.4510,2,  27.45056,2,  35.4541,2,-999.0000,9,   197.85,2,  -999.00,9,  -999.00,9,  -999.00,  -999.00,9,  -999.00,  -999.00,9,  -999.00, -999.000,9, -999.000, -999.000,9, -999.000,9, -999.000,9,   -999.0,9,   -999.0,9,-999.0000,-999,9,  -999.00,9,  -999.00,   -999.0,9,   -999.0,  27.4394,  22.9186
  49NZ20090521,   P21,   210,  1,     13, X12001,9,20090604,1655,-17.4945,-177.0013, 2440,    100.4,2,  26.8229,2,  26.82108,2,  36.0457,2,-999.0000,9,   190.64,2,  -999.00,9,  -999.00,9,  -999.00,  -999.00,9,  -999.00,  -999.00,9,  -999.00, -999.000,9, -999.000, -999.000,9, -999.000,9, -999.000,9,   -999.0,9,   -999.0,9,-999.0000,-999,9,  -999.00,9,  -999.00,   -999.0,9,   -999.0,  26.7999,  23.5697
  49NZ20090521,   P21,   210,  1,     12, X12030,9,20090604,1655,-17.4945,-177.0013, 2440,    151.6,2,  24.1853,2,  24.16347,2,  36.0197,2,-999.0000,9,   165.10,2,  -999.00,9,  -999.00,9,  -999.00,  -999.00,9,  -999.00,  -999.00,9,  -999.00, -999.000,9, -999.000, -999.000,9, -999.000,9, -999.000,9,   -999.0,9,   -999.0,9,-999.0000,-999,9,  -999.00,9,  -999.00,   -999.0,9,   -999.0,  24.1531,  24.3679
  49NZ20090521,   P21,   210,  1,     11, X12044,9,20090604,1655,-17.4945,-177.0013, 2440,    199.0,2,  22.4122,2,  22.41247,2,  35.9832,2,-999.0000,9,   162.13,2,  -999.00,9,  -999.00,9,  -999.00,  -999.00,9,  -999.00,  -999.00,9,  -999.00, -999.000,9, -999.000, -999.000,9, -999.000,9, -999.000,9,   -999.0,9,   -999.0,9,-999.0000,-999,9,  -999.00,9,  -999.00,   -999.0,9,   -999.0,  22.3721,  24.8598
  49NZ20090521,   P21,   210,  1,     10, X12048,9,20090604,1655,-17.4945,-177.0013, 2440,    251.7,2,  19.5987,2,  19.59866,2,  35.6451,2,-999.0000,9,   164.87,2,  -999.00,9,  -999.00,9,  -999.00,  -999.00,9,  -999.00,  -999.00,9,  -999.00, -999.000,9, -999.000, -999.000,9, -999.000,9, -999.000,9,   -999.0,9,   -999.0,9,-999.0000,-999,9,  -999.00,9,  -999.00,   -999.0,9,   -999.0,  19.5526,  25.3715
  49NZ20090521,   P21,   210,  1,      9, X12027,9,20090604,1655,-17.4945,-177.0013, 2440,    280.5,2,  18.6691,2,  18.66432,2,  35.5369,2,-999.0000,9,   171.19,2,  -999.00,9,  -999.00,9,  -999.00,  -999.00,9,  -999.00,  -999.00,9,  -999.00, -999.000,9, -999.000, -999.000,9, -999.000,9, -999.000,9,   -999.0,9,   -999.0,9,-999.0000,-999,9,  -999.00,9,  -999.00,   -999.0,9,   -999.0,  18.6194,  25.5284
  49NZ20090521,   P21,   210,  1,      8, X12026,9,20090604,1655,-17.4945,-177.0013, 2440,    370.2,2,  14.4104,2,  14.41052,2,  35.0951,2,-999.0000,9,   178.60,2,  -999.00,9,  -999.00,9,  -999.00,  -999.00,9,  -999.00,  -999.00,9,  -999.00, -999.000,9, -999.000, -999.000,9, -999.000,9, -999.000,9,   -999.0,9,   -999.0,9,-999.0000,-999,9,  -999.00,9,  -999.00,   -999.0,9,   -999.0,  14.3555,  26.1851
  49NZ20090521,   P21,   210,  1,      7, X12025,9,20090604,1655,-17.4945,-177.0013, 2440,    470.2,2,  10.6073,2,  10.60870,2,  34.7051,2,-999.0000,9,   185.37,2,  -999.00,9,  -999.00,9,  -999.00,  -999.00,9,  -999.00,  -999.00,9,  -999.00, -999.000,9, -999.000, -999.000,9, -999.000,9, -999.000,9,   -999.0,9,   -999.0,9,-999.0000,-999,9,  -999.00,9,  -999.00,   -999.0,9,   -999.0,  10.5501,  26.6262
  49NZ20090521,   P21,   210,  1,      6, X12024,9,20090604,1655,-17.4945,-177.0013, 2440,    571.9,2,   7.5320,2,   7.53154,2,  34.4479,2,-999.0000,9,   191.78,2,  -999.00,9,  -999.00,9,  -999.00,  -999.00,9,  -999.00,  -999.00,9,  -999.00, -999.000,9, -999.000, -999.000,9, -999.000,9, -999.000,9,   -999.0,9,   -999.0,9,-999.0000,-999,9,  -999.00,9,  -999.00,   -999.0,9,   -999.0,   7.4752,  26.9170
  49NZ20090521,   P21,   210,  1,      5, X12028,9,20090604,1655,-17.4945,-177.0013, 2440,    671.1,2,   6.1330,2,   6.13293,2,  34.3755,2,-999.0000,9,   195.64,2,  -999.00,9,  -999.00,9,  -999.00,  -999.00,9,  -999.00,  -999.00,9,  -999.00, -999.000,9, -999.000, -999.000,9, -999.000,9, -999.000,9,   -999.0,9,   -999.0,9,-999.0000,-999,9,  -999.00,9,  -999.00,   -999.0,9,   -999.0,   6.0730,  27.0499
  49NZ20090521,   P21,   210,  1,      4, X12022,2,20090604,1655,-17.4945,-177.0013, 2440,      2.6,2,  27.4199,2,  27.42050,2,  35.4432,2,-999.0000,9,   198.14,2,  -999.00,9,  -999.00,9,  -999.00,  -999.00,9,  -999.00,  -999.00,9,  -999.00, -999.000,9, -999.000, -999.000,9, -999.000,9, -999.000,9,   -999.0,9,   -999.0,9,-999.0000,-999,9,  -999.00,9,  -999.00,   -999.0,9,   -999.0,  27.4193,  22.9169
  49NZ20090521,   P21,   210,  1,      3, X12021,2,20090604,1655,-17.4945,-177.0013, 2440,      2.4,2,  27.4197,2,  27.41984,2,  35.4428,2,-999.0000,9,   198.04,2,  -999.00,9,  -999.00,9,  -999.00,  -999.00,9,  -999.00,  -999.00,9,  -999.00, -999.000,9, -999.000, -999.000,9, -999.000,9, -999.000,9,   -999.0,9,   -999.0,9,-999.0000,-999,9,  -999.00,9,  -999.00,   -999.0,9,   -999.0,  27.4191,  22.9166
  49NZ20090521,   P21,   210,  1,      2, X12020,9,20090604,1655,-17.4945,-177.0013, 2440,   1333.2,2,   3.1258,2,   3.12643,2,  34.5304,2,-999.0000,9,   153.78,2,  -999.00,9,  -999.00,9,  -999.00,  -999.00,9,  -999.00,  -999.00,9,  -999.00, -999.000,9, -999.000, -999.000,9, -999.000,9, -999.000,9,   -999.0,9,   -999.0,9,-999.0000,-999,9,  -999.00,9,  -999.00,   -999.0,9,   -999.0,   3.0305,  27.5075
  49NZ20090521,   P21,   210,  1,      1, X12019,2,20090604,1655,-17.4945,-177.0013, 2440,   2439.8,2,   2.1253,2,   2.12503,2,  34.6425,2,  34.6430,6,   145.50,2,   145.87,2,   119.46,2,     0.38,    35.99,2,     0.13,     0.01,2,     0.01,    2.548,2,    0.016,    0.003,2,    0.002,2,    0.000,2,   2312.6,2,   2399.5,2,   7.5798,  25,2,  -999.00,1,  -999.00,   -999.0,1,   -999.0,   1.9482,  27.6894