BOTTLE,20111109CCHDOSIOCBG
EXPOCODE,SECT_ID,STNNBR,CASTNO,SAMPNO,BTLNBR,BTLNBR_FLAG_W,DATE,TIME,LATITUDE,LONGITUDE,DEPTH,CTDPRS,CTDPRS_FLAG_W,CTDTMP,CTDTMP_FLAG_W,SBE35,SBE35_FLAG_W,CTDSAL,CTDSAL_FLAG_W,SALNTY,SALNTY_FLAG_W,CTDOXY,CTDOXY_FLAG_W,OXYGEN,OXYGEN_FLAG_W,SILCAT,SILCAT_FLAG_W,SILUNC,NITRAT,NITRAT_FLAG_W,NRAUNC,NITRIT,NITRIT_FLAG_W,NRIUNC,PHSPHT,PHSPHT_FLAG_W,PHPUNC,CFC-11,CFC-11_FLAG_W,CFC-12,CFC-12_FLAG_W,CFC113,CFC113_FLAG_W,TCARBN,TCARBN_FLAG_W,ALKALI,ALKALI_FLAG_W,PH_TOT,PH_TMP,PH_TOT_FLAG_W,DELC13,DELC13_FLAG_W,C13ERR,DELC14,DELC14_FLAG_W,C14ERR,THETA,SIG0
,,,,,,,,,,,METERS,DBAR,,ITS-90,,ITS-90,,PSS-78,,PSS-78,,UMOL/KG,,UMOL/KG,,UMOL/KG,,UMOL/KG,UMOL/KG,,UMOL/KG,UMOL/KG,,UMOL/KG,UMOL/KG,,UMOL/KG,PMOL/KG,,PMOL/KG,,PMOL/KG,,UMOL/KG,,UMOL/KG,,,DEG C,,/MILLE,,/MILLE,/MILLE,,/MILLE,DEG C,KG/M^3
  49NZ20090521,   P21,   198,  1,      0,   -999,9,20090602,0452,-17.4928,-171.6660, 4969,   -999.0,9,-999.0000,9,-999.00000,9,-999.0000,9,  35.3951,2,  -999.00,9,  -999.00,9,  -999.00,9,  -999.00,  -999.00,9,  -999.00,  -999.00,9,  -999.00, -999.000,9, -999.000, -999.000,9, -999.000,9, -999.000,9,   -999.0,9,   -999.0,9,-999.0000,-999,9,  -999.00,9,  -999.00,   -999.0,9,   -999.0,-999.0000,-999.0000
  49NZ20090521,   P21,   198,  1,     36, X12043,2,20090602,0452,-17.4928,-171.6660, 4969,     10.4,2,  27.9091,2,  27.90880,2,  35.3873,2,  35.3858,2,   198.01,2,   198.00,2,     0.65,2,     0.12,     0.07,2,     0.03,     0.01,2,     0.01,    0.089,2,    0.023,    1.415,2,    0.910,2, -999.000,5,   1962.7,2,   2327.4,2,   8.1449,  25,6,  -999.00,9,  -999.00,   -999.0,9,   -999.0,  27.9067,  22.7164
  49NZ20090521,   P21,   198,  1,     35, X12042,2,20090602,0452,-17.4928,-171.6660, 4969,     49.8,2,  27.8654,2,  27.86605,2,  35.4021,2,  35.4024,2,   197.74,2,   197.79,2,     0.65,2,     0.12,     0.09,2,     0.03,     0.01,2,     0.01,    0.091,2,    0.023,    1.425,2,    0.916,2, -999.000,5,   1963.2,6,   2329.0,2,   8.1439,  25,2,  -999.00,9,  -999.00,   -999.0,9,   -999.0,  27.8537,  22.7449
  49NZ20090521,   P21,   198,  1,     34, X12016,2,20090602,0452,-17.4928,-171.6660, 4969,     99.9,2,  26.0408,2,  26.05070,2,  35.5009,2,  35.5016,2,   200.69,2,   201.12,2,     0.67,2,     0.12,     0.06,2,     0.03,     0.02,2,     0.01,    0.129,2,    0.019,    1.609,6,    1.011,6, -999.000,5,   1988.7,2,   2333.6,6,   8.1095,  25,2,  -999.00,9,  -999.00,   -999.0,9,   -999.0,  26.0184,  23.4055
  49NZ20090521,   P21,   198,  1,     33, X12015,2,20090602,0452,-17.4928,-171.6660, 4969,    151.6,2,  23.8860,2,  23.86869,2,  35.7197,2,  35.7327,2,   181.42,2,   179.81,2,     0.66,2,     0.12,     1.17,2,     0.04,     0.04,2,     0.01,    0.261,2,    0.015,    1.776,2,    1.092,2, -999.000,5,   2039.1,2,   2347.7,2,   8.0463,  25,6,  -999.00,9,  -999.00,   -999.0,9,   -999.0,  23.8541,  24.2296
  49NZ20090521,   P21,   198,  1,     32, X12050,2,20090602,0452,-17.4928,-171.6660, 4969,    200.8,2,  22.1443,2,  22.13868,2,  35.8028,2,  35.8043,2,   169.19,2,   168.64,2,     0.78,2,     0.12,     2.83,2,     0.04,     0.02,2,     0.01,    0.376,2,    0.014,    1.927,2,    1.160,2,    0.090,2,   2068.7,2,   2351.5,2,   8.0007,  25,2,  -999.00,9,  -999.00,   -999.0,9,   -999.0,  22.1042,  24.7986
  49NZ20090521,   P21,   198,  1,     31, X12014,2,20090602,0452,-17.4928,-171.6660, 4969,    250.6,2,  20.1371,2,  20.13535,2,  35.6892,2,  35.6889,6,   167.97,2,   167.54,2,     0.91,2,     0.12,     4.62,2,     0.05,     0.02,2,     0.01,    0.507,2,    0.013,    2.092,2,    1.224,2,    0.037,2,   2089.9,2,   2345.1,2,   7.9561,  25,2,  -999.00,9,  -999.00,   -999.0,9,   -999.0,  20.0903,  25.2636
  49NZ20090521,   P21,   198,  1,     30, X12012,2,20090602,0452,-17.4928,-171.6660, 4969,    301.7,2,  17.8584,2,  17.86380,2,  35.4510,2,  35.4545,2,   176.84,2,   176.32,2,     1.45,2,     0.12,     5.68,2,     0.05,     0.02,2,     0.01,    0.553,2,    0.013,    2.245,2,    1.272,2,    0.023,2,   2092.5,2,   2328.8,2,   7.9273,  25,2,  -999.00,9,  -999.00,   -999.0,9,   -999.0,  17.8066,  25.6652
  49NZ20090521,   P21,   198,  1,     29, X12041,2,20090602,0452,-17.4928,-171.6660, 4969,    399.7,2,  13.7681,2,  13.76586,2,  35.0275,2,  35.0332,2,   183.67,2,   183.58,2,     3.07,2,     0.13,    10.70,2,     0.06,     0.01,2,     0.01,    0.878,2,    0.013,    2.304,6,    1.233,6,    0.038,6,   2111.9,2,   2306.3,2,   7.8466,  25,2,  -999.00,9,  -999.00,   -999.0,9,   -999.0,  13.7106,  26.2689
  49NZ20090521,   P21,   198,  1,     28, X12040,2,20090602,0452,-17.4928,-171.6660, 4969,    500.5,2,   9.1188,2,   9.12164,2,  34.5428,2,  34.5459,6,   189.18,2,   188.59,2,     7.70,2,     0.14,    20.40,2,     0.09,     0.01,2,     0.01,    1.500,2,    0.014,    2.034,2,    1.014,2,    0.055,2,   2147.0,2,   2286.4,2,   7.7273,  25,2,  -999.00,9,  -999.00,   -999.0,9,   -999.0,   9.0634,  26.7499
  49NZ20090521,   P21,   198,  1,     27, X12009,2,20090602,0452,-17.4928,-171.6660, 4969,    600.4,2,   6.8204,2,   6.82150,2,  34.3738,2,  34.3738,2,   215.23,2,   215.04,2,    10.18,2,     0.14,    24.52,2,     0.10,     0.01,2,     0.01,    1.730,2,    0.014,    1.849,6,    0.894,6,    0.052,6,   2153.0,2,   2282.7,2,   7.7033,  25,2,  -999.00,9,  -999.00,   -999.0,9,   -999.0,   6.7639,  26.9577
  49NZ20090521,   P21,   198,  1,     26, X12008,2,20090602,0452,-17.4928,-171.6660, 4969,    699.5,2,   5.9123,2,   5.91416,2,  34.3534,2,  34.3533,2,   196.88,2,   196.98,2,    18.35,2,     0.16,    28.32,2,     0.11,     0.01,2,     0.01,    1.990,2,    0.015,    0.838,2,    0.416,2,    0.021,2,   2174.3,6,   2288.2,2,   7.6616,  25,2,  -999.00,9,  -999.00,   -999.0,9,   -999.0,   5.8508,  27.0604
  49NZ20090521,   P21,   198,  1,     25, X12007,2,20090602,0452,-17.4928,-171.6660, 4969,    800.5,2,   5.1953,2,   5.19550,2,  34.3615,2,  34.3613,2,   182.68,2,   182.99,2,    28.62,2,     0.18,    30.99,2,     0.12,     0.01,2,     0.01,    2.168,2,    0.015,    0.369,2,    0.185,2,    0.005,2,   2195.1,2,   2296.9,6,   7.6309,  25,2,  -999.00,9,  -999.00,   -999.0,9,   -999.0,   5.1288,  27.1541
  49NZ20090521,   P21,   198,  1,     24, X12035,2,20090602,0452,-17.4928,-171.6660, 4969,    902.1,2,   4.4530,2,   4.45308,2,  34.4170,2,  34.4144,3,   163.48,2,   163.58,2,    45.47,2,     0.22,    33.51,2,     0.13,     0.01,2,     0.01,    2.348,2,    0.016,    0.094,2,    0.051,2,    0.007,2,   2224.3,2,   2314.8,2,   7.5975,  25,2,  -999.00,9,  -999.00,   -999.0,9,   -999.0,   4.3824,  27.2820
  49NZ20090521,   P21,   198,  1,     23, X12038,2,20090602,0452,-17.4928,-171.6660, 4969,   1000.0,2,   3.8395,2,   3.83901,2,  34.4410,2,  34.4433,3,   161.68,2,   161.77,2,    56.68,2,     0.24,    34.38,2,     0.13,     0.01,2,     0.01,    2.416,2,    0.016,    0.035,2,    0.018,2,    0.000,2,   2239.0,2,   2326.4,2,   7.5880,  25,2,  -999.00,9,  -999.00,   -999.0,9,   -999.0,   3.7652,  27.3655
  49NZ20090521,   P21,   198,  1,     22, X12034,2,20090602,0452,-17.4928,-171.6660, 4969,   1200.3,2,   3.0624,2,   3.06296,2,  34.5210,2,  34.5205,2,   155.45,2,   155.57,2,    77.85,2,     0.29,    35.26,2,     0.13,     0.01,2,     0.01,    2.479,2,    0.016,    0.003,2,    0.002,2,    0.000,2,   2264.6,2,   2351.4,2,   7.5798,  25,2,  -999.00,9,  -999.00,   -999.0,9,   -999.0,   2.9784,  27.5047
  49NZ20090521,   P21,   198,  1,     21, X12033,2,20090602,0452,-17.4928,-171.6660, 4969,   1400.0,2,   2.7745,2,   2.77452,2,  34.5697,2,  34.5695,2,   147.92,2,   148.09,2,    92.53,2,     0.32,    35.75,2,     0.13,     0.01,2,     0.01,    2.527,2,    0.016,    0.001,2,    0.000,2,    0.000,2,   2283.0,2,   2368.7,2,   7.5743,  25,2,  -999.00,9,  -999.00,   -999.0,9,   -999.0,   2.6774,  27.5705
  49NZ20090521,   P21,   198,  1,     20, X12032,2,20090602,0452,-17.4928,-171.6660, 4969,   1600.4,2,   2.5419,2,   2.54219,2,  34.5990,2,  34.5987,2,   145.24,2,   145.31,2,   102.60,2,     0.34,    35.98,2,     0.13,     0.01,2,     0.01,    2.548,2,    0.016,    0.000,2,    0.001,2,    0.000,2,   2295.5,2,   2380.1,2,   7.5732,  25,6,  -999.00,9,  -999.00,   -999.0,9,   -999.0,   2.4312,  27.6151
  49NZ20090521,   P21,   198,  1,     19, X12046,2,20090602,0452,-17.4928,-171.6660, 4969,   1800.1,2,   2.3935,2,   2.39339,2,  34.6142,2,  34.6143,2,   144.77,2,   144.93,2,   108.21,2,     0.36,    36.16,2,     0.13,     0.01,2,     0.01,    2.554,2,    0.016,    0.000,2,    0.000,2,    0.000,2,   2302.0,2,   2385.9,2,   7.5741,  25,2,  -999.00,9,  -999.00,   -999.0,9,   -999.0,   2.2682,  27.6409
  49NZ20090521,   P21,   198,  1,     18, X12006,2,20090602,0452,-17.4928,-171.6660, 4969,   2000.1,2,   2.2598,2,   2.25972,2,  34.6266,2,  34.6268,2,   144.99,2,   145.08,2,   112.59,2,     0.37,    36.11,2,     0.13,     0.01,2,     0.01,    2.557,2,    0.016,    0.000,2,    0.000,2,    0.000,2,   2305.2,2,   2391.2,2,   7.5747,  25,2,  -999.00,9,  -999.00,   -999.0,9,   -999.0,   2.1194,  27.6629
  49NZ20090521,   P21,   198,  1,     17, X12047,2,20090602,0452,-17.4928,-171.6660, 4969,   2199.3,2,   2.1227,2,   2.12293,2,  34.6387,2,  34.6388,2,   145.33,2,   145.39,2,   117.40,2,     0.38,    36.21,2,     0.13,     0.01,2,     0.01,    2.557,2,    0.016,    0.001,2,    0.001,2,    0.000,2,   2308.6,2,   2396.1,2,   7.5759,  25,2,  -999.00,9,  -999.00,   -999.0,9,   -999.0,   1.9672,  27.6848
  49NZ20090521,   P21,   198,  1,     16, X12004,2,20090602,0452,-17.4928,-171.6660, 4969,   2400.5,2,   2.0265,2,   2.02644,2,  34.6475,2,  34.6474,6,   145.62,2,   145.64,2,   120.81,2,     0.38,    36.28,2,     0.13,     0.01,2,     0.01,    2.561,2,    0.016,    0.000,2,    0.000,2,    0.000,2,   2312.0,6,   2400.2,2,   7.5772,  25,2,  -999.00,9,  -999.00,   -999.0,9,   -999.0,   1.8548,  27.7006
  49NZ20090521,   P21,   198,  1,     15, X12003,2,20090602,0452,-17.4928,-171.6660, 4969,   2600.3,2,   1.9412,2,   1.94140,2,  34.6553,2,  34.6550,2,   144.90,2,   144.91,2,   125.04,2,     0.39,    36.31,2,     0.13,     0.01,2,     0.01,    2.564,2,    0.016,    0.000,2,    0.000,2,    0.000,2,   2316.4,2,   2404.8,6,   7.5778,  25,2,  -999.00,9,  -999.00,   -999.0,9,   -999.0,   1.7528,  27.7147
  49NZ20090521,   P21,   198,  1,     14, X12002,2,20090602,0452,-17.4928,-171.6660, 4969,   2799.8,2,   1.8010,2,   1.80151,2,  34.6656,2,  34.6656,2,   146.44,2,   146.48,2,   129.41,2,     0.40,    36.31,2,     0.13,     0.01,2,     0.01,    2.549,2,    0.016,    0.000,2,    0.000,2,    0.000,2,   2319.9,2,   2409.0,2,   7.5796,  25,6,  -999.00,9,  -999.00,   -999.0,9,   -999.0,   1.5968,  27.7347
  49NZ20090521,   P21,   198,  1,     13, X12001,2,20090602,0452,-17.4928,-171.6660, 4969,   2998.7,2,   1.6750,2,   1.67462,2,  34.6737,2,  34.6736,2,   150.42,2,   150.48,2,   131.68,2,     0.41,    36.05,2,     0.13,     0.01,2,     0.01,    2.536,2,    0.016,    0.000,2,    0.000,2,    0.000,2,   2318.9,2,   2409.4,2,   7.5839,  25,2,  -999.00,9,  -999.00,   -999.0,9,   -999.0,   1.4545,  27.7516
  49NZ20090521,   P21,   198,  1,     12, X12030,2,20090602,0452,-17.4928,-171.6660, 4969,   3251.4,2,   1.5625,2,   1.56266,2,  34.6838,2,  34.6840,2,   160.19,2,   160.36,2,   128.91,2,     0.40,    35.32,2,     0.13,     0.01,2,     0.01,    2.482,2,    0.016,    0.003,2,    0.002,2,    0.000,2,   2310.0,2,   2403.5,2,   7.5917,  25,2,  -999.00,9,  -999.00,   -999.0,9,   -999.0,   1.3198,  27.7694
  49NZ20090521,   P21,   198,  1,     11, X12044,2,20090602,0452,-17.4928,-171.6660, 4969,   3499.6,2,   1.4306,2,   1.43082,2,  34.7029,2,  34.7031,2,   180.64,2,   181.18,2,   117.57,2,     0.38,    33.62,2,     0.13,     0.01,2,     0.01,    2.349,2,    0.016,    0.011,2,    0.006,2,    0.000,2,   2282.8,2,   2383.6,2,   7.6065,  25,2,  -999.00,9,  -999.00,   -999.0,9,   -999.0,   1.1661,  27.7954
  49NZ20090521,   P21,   198,  1,     10, X12048,2,20090602,0452,-17.4928,-171.6660, 4969,   3751.4,2,   1.2925,2,   1.29244,2,  34.7153,2,  34.7156,6,   196.57,2,   196.83,2,   111.48,2,     0.36,    32.28,2,     0.12,     0.01,2,     0.01,    2.263,2,    0.016,    0.028,2,    0.014,2,    0.000,2,   2265.2,2,   2369.3,2,   7.6165,  25,2,  -999.00,9,  -999.00,   -999.0,9,   -999.0,   1.0056,  27.8162
  49NZ20090521,   P21,   198,  1,      9, X12027,2,20090602,0452,-17.4928,-171.6660, 4969,   4001.0,2,   1.1673,2,   1.16732,2,  34.7152,2,  34.7153,2,   202.19,2,   202.25,2,   112.64,2,     0.37,    32.06,2,     0.12,     0.01,2,     0.01,    2.248,2,    0.016,    0.041,2,    0.020,2,    0.000,2,   2261.8,2,   2366.4,2,   7.6192,  25,2,  -999.00,9,  -999.00,   -999.0,9,   -999.0,   0.8575,  27.8259
  49NZ20090521,   P21,   198,  1,      8, X12026,2,20090602,0452,-17.4928,-171.6660, 4969,   4250.8,2,   1.0938,2,   1.09395,2,  34.7128,2,  34.7128,2,   204.36,2,   204.36,2,   114.79,2,     0.37,    32.17,2,     0.12,     0.01,2,     0.01,    2.246,2,    0.016,    0.059,2,    0.026,2,    0.000,2,   2261.4,2,   2365.8,2,   7.6197,  25,2,  -999.00,9,  -999.00,   -999.0,9,   -999.0,   0.7591,  27.8302
  49NZ20090521,   P21,   198,  1,      7, X12025,2,20090602,0452,-17.4928,-171.6660, 4969,   4502.0,2,   1.0552,2,   1.05534,2,  34.7104,2,  34.7105,2,   205.42,2,   205.46,2,   116.58,2,     0.38,    32.21,2,     0.12,     0.01,2,     0.01,    2.253,2,    0.016,    0.071,2,    0.031,2,    0.007,2,   2262.5,2,   2366.6,6,   7.6188,  25,2,  -999.00,9,  -999.00,   -999.0,9,   -999.0,   0.6937,  27.8324
  49NZ20090521,   P21,   198,  1,      6, X12024,2,20090602,0452,-17.4928,-171.6660, 4969,   4748.9,2,   1.0495,2,   1.04949,2,  34.7089,2,  34.7091,2,   205.75,2,   205.89,2,   117.13,2,     0.38,    32.35,2,     0.12,     0.01,2,     0.01,    2.254,2,    0.016,    0.074,2,    0.032,2,    0.000,2,   2262.9,2,   2367.2,2,   7.6188,  25,6,  -999.00,9,  -999.00,   -999.0,9,   -999.0,   0.6599,  27.8333
  49NZ20090521,   P21,   198,  1,      5, X12028,9,20090602,0452,-17.4928,-171.6660, 4969,     10.7,2,  27.9089,2,  27.90904,2,  35.3874,2,-999.0000,9,   198.05,2,  -999.00,9,  -999.00,9,  -999.00,  -999.00,9,  -999.00,  -999.00,9,  -999.00, -999.000,9, -999.000, -999.000,9, -999.000,9, -999.000,9,   -999.0,9,   -999.0,9,-999.0000,-999,9,  -999.00,9,  -999.00,   -999.0,9,   -999.0,  27.9064,  22.7166
  49NZ20090521,   P21,   198,  1,      4, X12022,9,20090602,0452,-17.4928,-171.6660, 4969,     49.7,2,  27.8632,2,  27.86370,2,  35.4027,2,-999.0000,9,   197.97,2,  -999.00,9,  -999.00,9,  -999.00,  -999.00,9,  -999.00,  -999.00,9,  -999.00, -999.000,9, -999.000, -999.000,9, -999.000,9, -999.000,9,   -999.0,9,   -999.0,9,-999.0000,-999,9,  -999.00,9,  -999.00,   -999.0,9,   -999.0,  27.8515,  22.7460
  49NZ20090521,   P21,   198,  1,      3, X12021,9,20090602,0452,-17.4928,-171.6660, 4969,     99.6,2,  26.0644,2,  26.06503,2,  35.5050,2,-999.0000,9,   201.17,2,  -999.00,9,  -999.00,9,  -999.00,  -999.00,9,  -999.00,  -999.00,9,  -999.00, -999.000,9, -999.000, -999.000,9, -999.000,9, -999.000,9,   -999.0,9,   -999.0,9,-999.0000,-999,9,  -999.00,9,  -999.00,   -999.0,9,   -999.0,  26.0421,  23.4013
  49NZ20090521,   P21,   198,  1,      2, X12020,9,20090602,0452,-17.4928,-171.6660, 4969,    151.5,2,  23.8171,2,  23.81474,2,  35.7289,2,-999.0000,9,   181.11,2,  -999.00,9,  -999.00,9,  -999.00,  -999.00,9,  -999.00,  -999.00,9,  -999.00, -999.000,9, -999.000, -999.000,9, -999.000,9, -999.000,9,   -999.0,9,   -999.0,9,-999.0000,-999,9,  -999.00,9,  -999.00,   -999.0,9,   -999.0,  23.7853,  24.2569
  49NZ20090521,   P21,   198,  1,      1, X12019,2,20090602,0452,-17.4928,-171.6660, 4969,   5037.1,2,   1.0625,2,   1.06229,2,  34.7079,2,  34.7086,6,   206.09,2,   206.12,2,   118.08,2,     0.38,    32.37,2,     0.12,     0.01,2,     0.01,    2.263,2,    0.016,    0.066,2,    0.031,2,    0.001,2,   2263.8,2,   2366.7,2,   7.6195,  25,2,  -999.00,9,  -999.00,   -999.0,9,   -999.0,   0.6385,  27.8338