BOTTLE,20111109CCHDOSIOCBG
EXPOCODE,SECT_ID,STNNBR,CASTNO,SAMPNO,BTLNBR,BTLNBR_FLAG_W,DATE,TIME,LATITUDE,LONGITUDE,DEPTH,CTDPRS,CTDPRS_FLAG_W,CTDTMP,CTDTMP_FLAG_W,SBE35,SBE35_FLAG_W,CTDSAL,CTDSAL_FLAG_W,SALNTY,SALNTY_FLAG_W,CTDOXY,CTDOXY_FLAG_W,OXYGEN,OXYGEN_FLAG_W,SILCAT,SILCAT_FLAG_W,SILUNC,NITRAT,NITRAT_FLAG_W,NRAUNC,NITRIT,NITRIT_FLAG_W,NRIUNC,PHSPHT,PHSPHT_FLAG_W,PHPUNC,CFC-11,CFC-11_FLAG_W,CFC-12,CFC-12_FLAG_W,CFC113,CFC113_FLAG_W,TCARBN,TCARBN_FLAG_W,ALKALI,ALKALI_FLAG_W,PH_TOT,PH_TMP,PH_TOT_FLAG_W,DELC13,DELC13_FLAG_W,C13ERR,DELC14,DELC14_FLAG_W,C14ERR,THETA,SIG0
,,,,,,,,,,,METERS,DBAR,,ITS-90,,ITS-90,,PSS-78,,PSS-78,,UMOL/KG,,UMOL/KG,,UMOL/KG,,UMOL/KG,UMOL/KG,,UMOL/KG,UMOL/KG,,UMOL/KG,UMOL/KG,,UMOL/KG,PMOL/KG,,PMOL/KG,,PMOL/KG,,UMOL/KG,,UMOL/KG,,,DEG C,,/MILLE,,/MILLE,/MILLE,,/MILLE,DEG C,KG/M^3
  49NZ20090521,   P21,   281,  1,      0,   -999,9,20090616,1657,-24.3502, 155.4993, 4079,   -999.0,9,-999.0000,9,-999.00000,9,-999.0000,9,  35.2414,2,  -999.00,9,  -999.00,9,  -999.00,9,  -999.00,  -999.00,9,  -999.00,  -999.00,9,  -999.00, -999.000,9, -999.000, -999.000,9, -999.000,9, -999.000,9,   -999.0,9,   -999.0,9,-999.0000,-999,9,  -999.00,9,  -999.00,   -999.0,9,   -999.0,-999.0000,-999.0000
  49NZ20090521,   P21,   281,  1,     36, X12043,2,20090616,1657,-24.3502, 155.4993, 4079,     10.4,2,  23.3826,2,  23.38312,2,  35.2038,2,  35.2010,2,   212.31,2,   211.67,2,     0.24,2,     0.12,     0.10,2,     0.03,     0.01,2,     0.01,    0.109,2,    0.021,    1.689,2,    1.075,2, -999.000,5,   -999.0,9,   -999.0,9,-999.0000,-999,9,  -999.00,9,  -999.00,   -999.0,9,   -999.0,  23.3805,  23.9779
  49NZ20090521,   P21,   281,  1,     35, X12042,2,20090616,1657,-24.3502, 155.4993, 4079,     50.4,2,  23.3918,2,  23.39275,2,  35.2025,2,  35.2001,2,   212.22,2,   211.67,2,     0.20,2,     0.12,     0.08,2,     0.03,     0.01,2,     0.01,    0.104,2,    0.021,    1.695,2,    1.073,2, -999.000,5,   -999.0,9,   -999.0,9,-999.0000,-999,9,  -999.00,9,  -999.00,   -999.0,9,   -999.0,  23.3814,  23.9766
  49NZ20090521,   P21,   281,  1,     34, X12016,2,20090616,1657,-24.3502, 155.4993, 4079,    100.5,2,  23.3840,2,  23.38334,2,  35.2113,2,  35.2117,2,   211.53,2,   211.07,2,     0.08,2,     0.12,     0.12,2,     0.03,     0.02,2,     0.01,    0.108,2,    0.021,    1.689,6,    1.067,6, -999.000,5,   -999.0,9,   -999.0,9,-999.0000,-999,9,  -999.00,9,  -999.00,   -999.0,9,   -999.0,  23.3632,  23.9885
  49NZ20090521,   P21,   281,  1,     33, X12015,2,20090616,1657,-24.3502, 155.4993, 4079,    151.1,2,  20.5439,2,  20.54917,2,  35.6176,2,  35.6125,2,   161.14,2,   160.34,2,     1.43,2,     0.12,     6.14,2,     0.05,     0.03,2,     0.01,    0.530,2,    0.013,    1.980,2,    1.193,2,    0.081,2,   -999.0,9,   -999.0,9,-999.0000,-999,9,  -999.00,9,  -999.00,   -999.0,9,   -999.0,  20.5153,  25.0955
  49NZ20090521,   P21,   281,  1,     32, X12050,2,20090616,1657,-24.3502, 155.4993, 4079,    199.9,2,  18.6615,2,  18.66283,2,  35.6199,2,  35.6185,2,   185.43,2,   184.75,2,     1.29,2,     0.12,     5.13,2,     0.05,     0.02,2,     0.01,    0.455,2,    0.013,    2.129,2,    1.277,2,    0.063,2,   -999.0,9,   -999.0,9,-999.0000,-999,9,  -999.00,9,  -999.00,   -999.0,9,   -999.0,  18.6262,  25.5903
  49NZ20090521,   P21,   281,  1,     31, X12014,2,20090616,1657,-24.3502, 155.4993, 4079,    249.3,2,  17.3207,2,  17.31583,2,  35.5460,2,  35.5444,6,   183.41,2,   183.31,2,     1.73,2,     0.12,     6.85,2,     0.05,     0.02,2,     0.01,    0.562,2,    0.013,    2.200,2,    1.290,2,    0.038,2,   -999.0,9,   -999.0,9,-999.0000,-999,9,  -999.00,9,  -999.00,   -999.0,9,   -999.0,  17.2788,  25.8665
  49NZ20090521,   P21,   281,  1,     30, X12012,2,20090616,1657,-24.3502, 155.4993, 4079,    330.4,2,  15.1605,2,  15.16086,2,  35.3375,2,  35.3352,2,   182.95,2,   182.76,2,     2.89,2,     0.13,     9.94,2,     0.06,     0.01,2,     0.01,    0.768,2,    0.013,    2.272,2,    1.281,2,    0.029,2,   -999.0,9,   -999.0,9,-999.0000,-999,9,  -999.00,9,  -999.00,   -999.0,9,   -999.0,  15.1098,  26.2080
  49NZ20090521,   P21,   281,  1,     29, X12041,2,20090616,1657,-24.3502, 155.4993, 4079,    429.2,2,  12.6129,2,  12.63152,2,  35.0670,2,  35.0711,2,   187.38,2,   187.01,2,     4.68,2,     0.13,    13.96,2,     0.07,     0.01,2,     0.01,    1.029,2,    0.013,    2.231,6,    1.217,6,    0.038,6,   -999.0,9,   -999.0,9,-999.0000,-999,9,  -999.00,9,  -999.00,   -999.0,9,   -999.0,  12.5545,  26.5335
  49NZ20090521,   P21,   281,  1,     28, X12040,2,20090616,1657,-24.3502, 155.4993, 4079,    530.2,2,  10.1603,2,  10.16083,2,  34.7802,2,  34.7794,6,   194.66,2,   194.46,2,     6.94,2,     0.13,    18.37,2,     0.08,     0.01,2,     0.01,    1.307,2,    0.014,    2.126,2,    1.117,2,    0.053,2,   -999.0,9,   -999.0,9,-999.0000,-999,9,  -999.00,9,  -999.00,   -999.0,9,   -999.0,  10.0973,  26.7637
  49NZ20090521,   P21,   281,  1,     27, X12009,2,20090616,1657,-24.3502, 155.4993, 4079,    630.6,2,   8.3348,2,   8.33451,2,  34.5726,2,  34.5670,2,   200.52,2,   200.70,2,    10.41,2,     0.14,    22.03,2,     0.09,     0.01,2,     0.01,    1.551,2,    0.014,    1.771,6,    0.896,6,    0.036,6,   -999.0,9,   -999.0,9,-999.0000,-999,9,  -999.00,9,  -999.00,   -999.0,9,   -999.0,   8.2680,  26.8977
  49NZ20090521,   P21,   281,  1,     26, X12008,2,20090616,1657,-24.3502, 155.4993, 4079,    730.0,2,   6.9980,2,   6.99872,2,  34.4643,2,  34.4639,2,   202.63,2,   202.48,2,    15.35,2,     0.15,    24.86,2,     0.10,     0.01,2,     0.01,    1.744,2,    0.014,    1.372,2,    0.660,2,    0.029,2,   -999.0,9,   -999.0,9,-999.0000,-999,9,  -999.00,9,  -999.00,   -999.0,9,   -999.0,   6.9276,  27.0067
  49NZ20090521,   P21,   281,  1,     25, X12007,2,20090616,1657,-24.3502, 155.4993, 4079,    830.7,2,   6.0141,2,   6.01519,2,  34.4155,2,  34.4158,2,   198.22,2,   197.75,2,    23.00,2,     0.17,    27.54,2,     0.11,     0.01,2,     0.01,    1.922,2,    0.015,    0.847,2,    0.420,2,    0.018,2,   -999.0,9,   -999.0,9,-999.0000,-999,9,  -999.00,9,  -999.00,   -999.0,9,   -999.0,   5.9396,  27.0984
  49NZ20090521,   P21,   281,  1,     24, X12035,2,20090616,1657,-24.3502, 155.4993, 4079,    930.7,2,   5.3952,2,   5.39496,2,  34.4314,2,  34.4315,2,   187.40,2,   187.53,2,    33.65,2,     0.19,    29.37,2,     0.12,     0.01,2,     0.01,    2.052,2,    0.015,    0.520,2,    0.260,2,    0.000,2,   -999.0,9,   -999.0,9,-999.0000,-999,9,  -999.00,9,  -999.00,   -999.0,9,   -999.0,   5.3154,  27.1875
  49NZ20090521,   P21,   281,  1,     23, X12038,2,20090616,1657,-24.3502, 155.4993, 4079,   1072.4,2,   4.6307,2,   4.63082,2,  34.4683,2,  34.4682,6,   174.40,2,   174.38,2,    49.53,2,     0.23,    31.47,2,     0.12,     0.01,2,     0.01,    2.206,2,    0.016,    0.253,2,    0.122,2,    0.000,2,   -999.0,9,   -999.0,9,-999.0000,-999,9,  -999.00,9,  -999.00,   -999.0,9,   -999.0,   4.5439,  27.3051
  49NZ20090521,   P21,   281,  1,     22, X12034,2,20090616,1657,-24.3502, 155.4993, 4079,   1269.6,2,   3.6479,2,   3.64788,2,  34.5295,2,  34.5299,2,   157.01,2,   157.06,2,    74.18,2,     0.28,    33.95,2,     0.13,     0.01,2,     0.01,    2.389,2,    0.016,    0.059,2,    0.033,2,    0.000,2,   -999.0,9,   -999.0,9,-999.0000,-999,9,  -999.00,9,  -999.00,   -999.0,9,   -999.0,   3.5526,  27.4571
  49NZ20090521,   P21,   281,  1,     21, X12033,2,20090616,1657,-24.3502, 155.4993, 4079,   1471.5,2,   3.1532,2,   3.15331,2,  34.5721,2,  34.5720,2,   150.83,2,   150.83,2,    86.68,2,     0.31,    34.73,2,     0.13,     0.01,2,     0.01,    2.457,2,    0.016,    0.024,2,    0.016,2,    0.000,2,   -999.0,9,   -999.0,9,-999.0000,-999,9,  -999.00,9,  -999.00,   -999.0,9,   -999.0,   3.0460,  27.5393
  49NZ20090521,   P21,   281,  1,     20, X12032,2,20090616,1657,-24.3502, 155.4993, 4079,   1671.1,2,   2.6976,2,   2.69777,2,  34.6161,2,  34.6166,2,   151.28,2,   151.42,2,    94.96,2,     0.33,    34.93,2,     0.13,     0.01,2,     0.01,    2.468,2,    0.016,    0.009,2,    0.003,2,    0.000,2,   -999.0,9,   -999.0,9,-999.0000,-999,9,  -999.00,9,  -999.00,   -999.0,9,   -999.0,   2.5790,  27.6162
  49NZ20090521,   P21,   281,  1,     19, X12046,2,20090616,1657,-24.3502, 155.4993, 4079,   1870.2,2,   2.3858,2,   2.38573,2,  34.6551,2,  34.6553,2,   160.98,2,   161.02,2,    93.86,2,     0.33,    34.07,2,     0.13,     0.01,2,     0.01,    2.403,2,    0.016,    0.010,2,    0.010,2,    0.000,2,   -999.0,9,   -999.0,9,-999.0000,-999,9,  -999.00,9,  -999.00,   -999.0,9,   -999.0,   2.2545,  27.6747
  49NZ20090521,   P21,   281,  1,     18, X12006,2,20090616,1657,-24.3502, 155.4993, 4079,   2070.7,2,   2.2001,2,   2.20019,2,  34.6818,2,  34.6820,6,   169.20,2,   169.26,2,    93.17,2,     0.32,    33.47,2,     0.13,     0.01,2,     0.01,    2.343,2,    0.016,    0.012,2,    0.005,2,    0.000,2,   -999.0,9,   -999.0,9,-999.0000,-999,9,  -999.00,9,  -999.00,   -999.0,9,   -999.0,   2.0544,  27.7124
  49NZ20090521,   P21,   281,  1,     17, X12047,2,20090616,1657,-24.3502, 155.4993, 4079,   2269.6,2,   2.0341,2,   2.03452,2,  34.7036,2,  34.7037,2,   176.53,2,   176.62,2,    93.39,2,     0.32,    32.70,2,     0.12,     0.01,2,     0.01,    2.294,2,    0.016,    0.010,2,    0.006,2,    0.000,2,   -999.0,9,   -999.0,9,-999.0000,-999,9,  -999.00,9,  -999.00,   -999.0,9,   -999.0,   1.8737,  27.7441
  49NZ20090521,   P21,   281,  1,     16, X12004,2,20090616,1657,-24.3502, 155.4993, 4079,   2470.0,2,   1.8679,2,   1.86794,2,  34.7168,2,  34.7168,2,   181.94,2,   181.99,2,    96.31,2,     0.33,    32.43,2,     0.12,     0.01,2,     0.01,    2.265,2,    0.016,    0.009,2,    0.007,2,    0.000,2,   -999.0,9,   -999.0,9,-999.0000,-999,9,  -999.00,9,  -999.00,   -999.0,9,   -999.0,   1.6925,  27.7686
  49NZ20090521,   P21,   281,  1,     15, X12003,2,20090616,1657,-24.3502, 155.4993, 4079,   2670.1,2,   1.7015,2,   1.70179,2,  34.7230,2,  34.7229,2,   186.01,2,   186.02,2,   100.07,2,     0.34,    32.28,2,     0.12,     0.01,2,     0.01,    2.257,2,    0.016,    0.011,2,    0.006,2,    0.000,2,   -999.0,9,   -999.0,9,-999.0000,-999,9,  -999.00,9,  -999.00,   -999.0,9,   -999.0,   1.5111,  27.7871
  49NZ20090521,   P21,   281,  1,     14, X12002,2,20090616,1657,-24.3502, 155.4993, 4079,   2869.5,2,   1.5230,2,   1.52316,2,  34.7230,2,  34.7234,2,   189.31,2,   189.22,2,   104.14,2,     0.35,    32.39,2,     0.12,     0.01,2,     0.01,    2.259,2,    0.016,    0.007,2,    0.003,2,    0.000,2,   -999.0,9,   -999.0,9,-999.0000,-999,9,  -999.00,9,  -999.00,   -999.0,9,   -999.0,   1.3178,  27.8010
  49NZ20090521,   P21,   281,  1,     13, X12001,2,20090616,1657,-24.3502, 155.4993, 4079,   3081.3,2,   1.3442,2,   1.34420,2,  34.7208,2,  34.7210,6,   192.26,2,   192.25,2,   108.44,2,     0.36,    32.49,2,     0.12,     0.01,2,     0.01,    2.264,2,    0.016,    0.007,2,    0.005,2,    0.000,2,   -999.0,9,   -999.0,9,-999.0000,-999,9,  -999.00,9,  -999.00,   -999.0,9,   -999.0,   1.1229,  27.8127
  49NZ20090521,   P21,   281,  1,     12, X12030,2,20090616,1657,-24.3502, 155.4993, 4079,   3330.1,2,   1.2270,2,   1.22712,2,  34.7183,2,  34.7182,2,   194.23,2,   194.06,2,   111.86,2,     0.37,    32.60,2,     0.12,     0.01,2,     0.01,    2.276,2,    0.016,    0.006,2,    0.006,2,    0.000,2,   -999.0,9,   -999.0,9,-999.0000,-999,9,  -999.00,9,  -999.00,   -999.0,9,   -999.0,   0.9844,  27.8200
  49NZ20090521,   P21,   281,  1,     11, X12044,2,20090616,1657,-24.3502, 155.4993, 4079,   3580.4,2,   1.1631,2,   1.16295,2,  34.7161,2,  34.7163,2,   195.31,2,   195.13,2,   113.92,2,     0.37,    32.66,2,     0.12,     0.01,2,     0.01,    2.282,2,    0.016,    0.010,2,    0.007,2,    0.000,2,   -999.0,9,   -999.0,9,-999.0000,-999,9,  -999.00,9,  -999.00,   -999.0,9,   -999.0,   0.8972,  27.8240
  49NZ20090521,   P21,   281,  1,     10, X12048,2,20090616,1657,-24.3502, 155.4993, 4079,   3830.2,2,   1.1470,2,   1.14697,2,  34.7152,2,  34.7152,2,   195.67,2,   195.73,2,   114.83,2,     0.37,    32.78,2,     0.12,     0.01,2,     0.01,    2.285,2,    0.016,    0.010,2,    0.008,2,    0.000,2,   -999.0,9,   -999.0,9,-999.0000,-999,9,  -999.00,9,  -999.00,   -999.0,9,   -999.0,   0.8558,  27.8259
  49NZ20090521,   P21,   281,  1,      9, X12027,9,20090616,1657,-24.3502, 155.4993, 4079,    150.8,2,  20.5691,2,  20.57174,2,  35.6154,2,-999.0000,9,   160.95,2,  -999.00,9,  -999.00,9,  -999.00,  -999.00,9,  -999.00,  -999.00,9,  -999.00, -999.000,9, -999.000, -999.000,9, -999.000,9, -999.000,9,   -999.0,9,   -999.0,9,-999.0000,-999,9,  -999.00,9,  -999.00,   -999.0,9,   -999.0,  20.5406,  25.0870
  49NZ20090521,   P21,   281,  1,      8, X12026,9,20090616,1657,-24.3502, 155.4993, 4079,   1471.2,2,   3.1547,2,   3.15489,2,  34.5720,2,-999.0000,9,   150.84,2,  -999.00,9,  -999.00,9,  -999.00,  -999.00,9,  -999.00,  -999.00,9,  -999.00, -999.000,9, -999.000, -999.000,9, -999.000,9, -999.000,9,   -999.0,9,   -999.0,9,-999.0000,-999,9,  -999.00,9,  -999.00,   -999.0,9,   -999.0,   3.0475,  27.5390
  49NZ20090521,   P21,   281,  1,      7, X12025,2,20090616,1657,-24.3502, 155.4993, 4079,     10.4,2,  23.3829,2,  23.38338,2,  35.2040,2,-999.0000,9,   212.25,2,  -999.00,9,     0.13,2,     0.12,     0.08,2,     0.03,     0.01,2,     0.01,    0.107,2,    0.021, -999.000,9, -999.000,9, -999.000,9,   -999.0,9,   -999.0,9,-999.0000,-999,9,  -999.00,9,  -999.00,   -999.0,9,   -999.0,  23.3808,  23.9779
  49NZ20090521,   P21,   281,  1,      6, X12024,2,20090616,1657,-24.3502, 155.4993, 4079,     50.2,2,  23.3922,2,  23.39278,2,  35.2026,2,-999.0000,9,   212.19,2,  -999.00,9,     0.17,2,     0.12,     0.08,2,     0.03,     0.01,2,     0.01,    0.107,2,    0.021, -999.000,9, -999.000,9, -999.000,9,   -999.0,9,   -999.0,9,-999.0000,-999,9,  -999.00,9,  -999.00,   -999.0,9,   -999.0,  23.3818,  23.9765
  49NZ20090521,   P21,   281,  1,      5, X12028,2,20090616,1657,-24.3502, 155.4993, 4079,    100.3,2,  23.3844,2,  23.38417,2,  35.2107,2,-999.0000,9,   211.86,2,  -999.00,9,     0.19,2,     0.12,     0.25,2,     0.03,     0.02,2,     0.01,    0.122,2,    0.020, -999.000,9, -999.000,9, -999.000,9,   -999.0,9,   -999.0,9,-999.0000,-999,9,  -999.00,9,  -999.00,   -999.0,9,   -999.0,  23.3637,  23.9880
  49NZ20090521,   P21,   281,  1,      4, X12022,2,20090616,1657,-24.3502, 155.4993, 4079,    151.0,2,  20.5568,2,  20.55783,2,  35.6168,2,-999.0000,9,   160.96,2,  -999.00,9,     1.57,2,     0.12,     6.20,2,     0.05,     0.03,2,     0.01,    0.539,2,    0.013, -999.000,9, -999.000,9, -999.000,9,   -999.0,9,   -999.0,9,-999.0000,-999,9,  -999.00,9,  -999.00,   -999.0,9,   -999.0,  20.5283,  25.0914
  49NZ20090521,   P21,   281,  1,      3, X12021,2,20090616,1657,-24.3502, 155.4993, 4079,    199.8,2,  18.6659,2,  18.66659,2,  35.6200,2,-999.0000,9,   185.38,2,  -999.00,9,     1.48,2,     0.12,     5.19,2,     0.05,     0.02,2,     0.01,    0.460,2,    0.013, -999.000,9, -999.000,9, -999.000,9,   -999.0,9,   -999.0,9,-999.0000,-999,9,  -999.00,9,  -999.00,   -999.0,9,   -999.0,  18.6306,  25.5892
  49NZ20090521,   P21,   281,  1,      2, X12020,2,20090616,1657,-24.3502, 155.4993, 4079,    249.0,2,  17.3505,2,  17.34899,2,  35.5508,2,-999.0000,9,   184.40,2,  -999.00,9,     2.11,2,     0.12,     6.95,2,     0.05,     0.01,2,     0.01,    0.573,2,    0.013, -999.000,9, -999.000,9, -999.000,9,   -999.0,9,   -999.0,9,-999.0000,-999,9,  -999.00,9,  -999.00,   -999.0,9,   -999.0,  17.3086,  25.8631
  49NZ20090521,   P21,   281,  1,      1, X12019,2,20090616,1657,-24.3502, 155.4993, 4079,   4120.7,2,   1.1484,2,   1.14818,2,  34.7142,2,  34.7143,6,   195.79,2,   195.56,2,   115.71,2,     0.37,    32.77,2,     0.12,     0.01,2,     0.01,    2.290,2,    0.016,    0.015,2,    0.010,2,    0.000,2,   -999.0,9,   -999.0,9,-999.0000,-999,9,  -999.00,9,  -999.00,   -999.0,9,   -999.0,   0.8263,  27.8271