BOTTLE,20111109CCHDOSIOCBG
EXPOCODE,SECT_ID,STNNBR,CASTNO,SAMPNO,BTLNBR,BTLNBR_FLAG_W,DATE,TIME,LATITUDE,LONGITUDE,DEPTH,CTDPRS,CTDPRS_FLAG_W,CTDTMP,CTDTMP_FLAG_W,SBE35,SBE35_FLAG_W,CTDSAL,CTDSAL_FLAG_W,SALNTY,SALNTY_FLAG_W,CTDOXY,CTDOXY_FLAG_W,OXYGEN,OXYGEN_FLAG_W,SILCAT,SILCAT_FLAG_W,SILUNC,NITRAT,NITRAT_FLAG_W,NRAUNC,NITRIT,NITRIT_FLAG_W,NRIUNC,PHSPHT,PHSPHT_FLAG_W,PHPUNC,CFC-11,CFC-11_FLAG_W,CFC-12,CFC-12_FLAG_W,CFC113,CFC113_FLAG_W,TCARBN,TCARBN_FLAG_W,ALKALI,ALKALI_FLAG_W,PH_TOT,PH_TMP,PH_TOT_FLAG_W,DELC13,DELC13_FLAG_W,C13ERR,DELC14,DELC14_FLAG_W,C14ERR,THETA,SIG0
,,,,,,,,,,,METERS,DBAR,,ITS-90,,ITS-90,,PSS-78,,PSS-78,,UMOL/KG,,UMOL/KG,,UMOL/KG,,UMOL/KG,UMOL/KG,,UMOL/KG,UMOL/KG,,UMOL/KG,UMOL/KG,,UMOL/KG,PMOL/KG,,PMOL/KG,,PMOL/KG,,UMOL/KG,,UMOL/KG,,,DEG C,,/MILLE,,/MILLE,/MILLE,,/MILLE,DEG C,KG/M^3
  49NZ20090521,   P21,   183,  1,      0,   -999,9,20090529,0710,-17.5017,-161.6695, 4870,   -999.0,9,-999.0000,9,-999.00000,9,-999.0000,9,  35.5976,2,  -999.00,9,  -999.00,9,  -999.00,9,  -999.00,  -999.00,9,  -999.00,  -999.00,9,  -999.00, -999.000,9, -999.000, -999.000,9, -999.000,9, -999.000,9,   -999.0,9,   -999.0,9,-999.0000,-999,9,  -999.00,9,  -999.00,   -999.0,9,   -999.0,-999.0000,-999.0000
  49NZ20090521,   P21,   183,  1,     36, X12043,2,20090529,0710,-17.5017,-161.6695, 4870,     10.1,2,  28.1600,2,  28.16010,2,  35.5501,2,  35.5492,2,   196.63,2,   196.73,2,     0.57,2,     0.12,     0.07,2,     0.03,     0.01,2,     0.01,    0.135,2,    0.019,    1.416,2,    0.896,2, -999.000,5,   1977.3,2,   2336.6,2,   8.1346,  25,2,  -999.00,1,  -999.00,   -999.0,1,   -999.0,  28.1576,  22.7567
  49NZ20090521,   P21,   183,  1,     35, X12042,2,20090529,0710,-17.5017,-161.6695, 4870,     50.2,2,  28.1789,2,  28.17812,2,  35.5590,2,  35.5595,2,   196.14,2,   196.55,2,     0.56,2,     0.12,     0.05,2,     0.03,     0.01,2,     0.01,    0.138,2,    0.019,    1.401,2,    0.892,2, -999.000,5,   1978.1,6,   2337.7,2,   8.1341,  25,2,  -999.00,1,  -999.00,   -999.0,1,   -999.0,  28.1670,  22.7603
  49NZ20090521,   P21,   183,  1,     34, X12016,2,20090529,0710,-17.5017,-161.6695, 4870,    100.0,2,  26.0987,2,  26.11354,2,  36.1040,2,  36.0996,2,   207.86,2,   207.57,2,     0.55,2,     0.12,     0.05,2,     0.03,     0.01,2,     0.01,    0.169,2,    0.017,    1.603,6,    1.004,6, -999.000,5,   2023.1,2,   2373.7,6,   8.1088,  25,2,  -999.00,1,  -999.00,   -999.0,1,   -999.0,  26.0762,  23.8426
  49NZ20090521,   P21,   183,  1,     33, X12015,2,20090529,0710,-17.5017,-161.6695, 4870,    150.1,2,  24.0373,2,  24.05289,2,  35.9630,2,  35.9603,2,   190.74,2,   190.33,2,     0.53,2,     0.12,     0.13,2,     0.03,     0.08,2,     0.01,    0.221,2,    0.015,    1.736,2,    1.073,2, -999.000,5,   2043.3,2,   2363.1,2,   8.0621,  25,6,  -999.00,1,  -999.00,   -999.0,1,   -999.0,  24.0055,  24.3690
  49NZ20090521,   P21,   183,  1,     32, X12050,2,20090529,0710,-17.5017,-161.6695, 4870,    200.6,2,  22.3549,2,  22.35439,2,  35.9090,2,  35.9069,2,   175.80,2,   175.33,2,     0.63,2,     0.12,     1.96,2,     0.04,     0.03,2,     0.01,    0.343,2,    0.014,    1.910,2,    1.154,2,    0.116,2,   2070.2,2,   2357.8,2,   8.0100,  25,2,  -999.00,1,  -999.00,   -999.0,1,   -999.0,  22.3146,  24.8198
  49NZ20090521,   P21,   183,  1,     31, X12014,2,20090529,0710,-17.5017,-161.6695, 4870,    249.9,2,  20.1264,2,  20.11372,2,  35.6894,2,  35.6829,6,   174.99,2,   175.07,2,     0.85,2,     0.12,     3.68,2,     0.04,     0.01,2,     0.01,    0.461,2,    0.013,    2.123,2,    1.245,2,    0.044,2,   2085.0,2,   2344.4,2,   7.9648,  25,2,  -999.00,1,  -999.00,   -999.0,1,   -999.0,  20.0798,  25.2666
  49NZ20090521,   P21,   183,  1,     30, X12012,2,20090529,0710,-17.5017,-161.6695, 4870,    301.2,2,  17.7745,2,  17.80365,2,  35.3991,2,  35.4086,2,   175.51,2,   174.94,2,     1.52,2,     0.12,     5.91,2,     0.05,     0.01,2,     0.01,    0.616,2,    0.013,    2.234,2,    1.265,2,    0.034,2,   2095.1,2,   2327.2,2,   7.9198,  25,2,  -999.00,1,  -999.00,   -999.0,1,   -999.0,  17.7230,  25.6459
  49NZ20090521,   P21,   183,  1,     29, X12041,2,20090529,0710,-17.5017,-161.6695, 4870,    400.2,2,  12.6206,2,  12.61978,2,  34.8249,2,  34.8235,2,   167.71,2,   167.52,2,     5.62,2,     0.13,    14.52,2,     0.07,     0.01,2,     0.01,    1.189,2,    0.013,    2.037,6,    1.071,6,    0.028,6,   2130.1,2,   2295.5,2,   7.7905,  25,2,  -999.00,1,  -999.00,   -999.0,1,   -999.0,  12.5663,  26.3433
  49NZ20090521,   P21,   183,  1,     28, X12040,2,20090529,0710,-17.5017,-161.6695, 4870,    500.7,2,   8.7632,2,   8.76006,2,  34.5312,2,  34.5376,6,   148.89,2,   148.11,2,    15.08,2,     0.15,    24.97,2,     0.10,     0.01,2,     0.01,    1.865,2,    0.015,    1.098,2,    0.557,2,    0.013,2,   2178.7,2,   2289.8,2,   7.6578,  25,2,  -999.00,1,  -999.00,   -999.0,1,   -999.0,   8.7091,  26.7971
  49NZ20090521,   P21,   183,  1,     27, X12009,2,20090529,0710,-17.5017,-161.6695, 4870,    600.8,2,   6.8686,2,   6.87173,2,  34.4334,2,  34.4334,2,   161.55,2,   161.57,2,    21.45,2,     0.17,    28.83,2,     0.11,     0.01,2,     0.01,    2.065,2,    0.015,    0.637,6,    0.321,6,    0.012,6,   2191.3,2,   2290.9,2,   7.6308,  25,2,  -999.00,1,  -999.00,   -999.0,1,   -999.0,   6.8118,  26.9983
  49NZ20090521,   P21,   183,  1,     26, X12008,2,20090529,0710,-17.5017,-161.6695, 4870,    699.8,2,   5.6111,2,   5.61235,2,  34.3950,2,  34.3947,2,   169.71,2,   169.65,2,    29.28,2,     0.18,    31.07,2,     0.12,     0.01,2,     0.01,    2.188,2,    0.015,    0.323,2,    0.164,2,    0.000,2,   2200.5,6,   2297.4,2,   7.6205,  25,2,  -999.00,1,  -999.00,   -999.0,1,   -999.0,   5.5512,  27.1303
  49NZ20090521,   P21,   183,  1,     25, X12007,2,20090529,0710,-17.5017,-161.6695, 4870,    799.8,2,   4.7501,2,   4.75189,2,  34.4236,2,  34.4226,2,   158.99,2,   159.04,2,    43.70,2,     0.22,    33.28,2,     0.13,     0.01,2,     0.01,    2.338,2,    0.016,    0.110,2,    0.058,2,    0.000,2,   2222.7,2,   2312.2,6,   7.5964,  25,2,  -999.00,1,  -999.00,   -999.0,1,   -999.0,   4.6863,  27.2539
  49NZ20090521,   P21,   183,  1,     24, X12035,2,20090529,0710,-17.5017,-161.6695, 4870,    901.1,2,   4.3049,2,   4.30506,2,  34.4473,2,  34.4477,2,   155.65,2,   155.63,2,    53.07,2,     0.24,    34.13,2,     0.13,     0.01,2,     0.01,    2.399,2,    0.016,    0.046,2,    0.022,2,    0.000,2,   2236.1,2,   2321.0,2,   7.5881,  25,6,  -999.00,1,  -999.00,   -999.0,1,   -999.0,   4.2354,  27.3218
  49NZ20090521,   P21,   183,  1,     23, X12038,2,20090529,0710,-17.5017,-161.6695, 4870,    999.9,2,   3.8922,2,   3.89252,2,  34.4755,2,  34.4757,6,   152.67,2,   152.64,2,    62.63,2,     0.26,    34.73,2,     0.13,     0.00,2,     0.01,    2.446,2,    0.016,    0.024,2,    0.013,2,    0.000,2,   2248.3,2,   2332.5,2,   7.5814,  25,2,  -999.00,1,  -999.00,   -999.0,1,   -999.0,   3.8174,  27.3876
  49NZ20090521,   P21,   183,  1,     22, X12034,2,20090529,0710,-17.5017,-161.6695, 4870,   1199.1,2,   3.2415,2,   3.24153,2,  34.5303,2,  34.5305,2,   147.61,2,   147.40,2,    79.97,2,     0.29,    35.57,2,     0.13,     0.01,2,     0.01,    2.509,2,    0.016,    0.004,2,    0.002,2,    0.000,2,   2269.6,2,   2351.4,2,   7.5728,  25,2,  -999.00,1,  -999.00,   -999.0,1,   -999.0,   3.1559,  27.4957
  49NZ20090521,   P21,   183,  1,     21, X12033,2,20090529,0710,-17.5017,-161.6695, 4870,   1400.4,2,   2.8914,2,   2.89145,2,  34.5663,2,  34.5660,2,   145.18,2,   145.12,2,    91.08,2,     0.32,    35.86,2,     0.13,     0.01,2,     0.01,    2.533,2,    0.016,    0.001,2,    0.001,2,    0.000,2,   2283.3,2,   2365.0,2,   7.5713,  25,2,  -999.00,1,  -999.00,   -999.0,1,   -999.0,   2.7930,  27.5575
  49NZ20090521,   P21,   183,  1,     20, X12032,2,20090529,0710,-17.5017,-161.6695, 4870,   1599.4,2,   2.6214,2,   2.62164,2,  34.5922,2,  34.5916,2,   145.11,2,   145.29,2,    99.54,2,     0.34,    35.90,2,     0.13,     0.01,2,     0.01,    2.542,2,    0.016, -999.000,5, -999.000,5, -999.000,5,   2293.0,2,   2374.5,2,   7.5726,  25,6,  -999.00,1,  -999.00,   -999.0,1,   -999.0,   2.5098,  27.6030
  49NZ20090521,   P21,   183,  1,     19, X12046,2,20090529,0710,-17.5017,-161.6695, 4870,   1800.5,2,   2.4075,2,   2.40746,2,  34.6125,2,  34.6126,2,   145.47,2,   145.60,2,   106.45,2,     0.35,    36.00,2,     0.13,     0.01,2,     0.01,    2.543,2,    0.016,    0.000,2,    0.000,2,    0.000,2,   2298.7,2,   2382.2,2,   7.5740,  25,2,  -999.00,1,  -999.00,   -999.0,1,   -999.0,   2.2819,  27.6384
  49NZ20090521,   P21,   183,  1,     18, X12006,2,20090529,0710,-17.5017,-161.6695, 4870,   2002.9,2,   2.1970,2,   2.19691,2,  34.6302,2,  34.6296,2,   147.23,2,   147.25,2,   112.19,2,     0.37,    35.98,2,     0.13,     0.01,2,     0.01,    2.539,2,    0.016,    0.000,2,    0.000,2,    0.000,2,   2304.2,2,   2389.2,2,   7.5774,  25,2,  -999.00,1,  -999.00,   -999.0,1,   -999.0,   2.0573,  27.6708
  49NZ20090521,   P21,   183,  1,     17, X12047,2,20090529,0710,-17.5017,-161.6695, 4870,   2199.2,2,   2.0467,2,   2.04674,2,  34.6433,2,  34.6424,6,   149.06,2,   149.13,2,   116.36,2,     0.37,    35.93,2,     0.13,     0.01,2,     0.01,    2.531,2,    0.016,    0.000,2,    0.000,2,    0.000,2,   2307.7,2,   2392.6,2,   7.5804,  25,2,  -999.00,1,  -999.00,   -999.0,1,   -999.0,   1.8925,  27.6943
  49NZ20090521,   P21,   183,  1,     16, X12004,2,20090529,0710,-17.5017,-161.6695, 4870,   2402.2,2,   1.9467,2,   1.94666,2,  34.6520,2,  34.6514,2,   151.04,2,   151.08,2,   119.06,2,     0.38,    35.78,2,     0.13,     0.01,2,     0.01,    2.516,2,    0.016,    0.000,2,    0.000,2,    0.000,2,   2308.8,6,   2396.3,2,   7.5834,  25,2,  -999.00,1,  -999.00,   -999.0,1,   -999.0,   1.7762,  27.7103
  49NZ20090521,   P21,   183,  1,     15, X12003,2,20090529,0710,-17.5017,-161.6695, 4870,   2601.4,2,   1.8474,2,   1.84751,2,  34.6603,2,  34.6600,2,   153.40,2,   153.42,2,   121.61,2,     0.39,    35.69,2,     0.13,     0.01,2,     0.01,    2.513,2,    0.016,    0.000,2,    0.000,2,    0.000,2,   2309.0,2,   2398.2,6,   7.5863,  25,2,  -999.00,1,  -999.00,   -999.0,1,   -999.0,   1.6607,  27.7257
  49NZ20090521,   P21,   183,  1,     14, X12002,2,20090529,0710,-17.5017,-161.6695, 4870,   2801.2,2,   1.7792,2,   1.77940,2,  34.6661,2,  34.6653,2,   156.10,2,   155.98,2,   122.32,2,     0.39,    35.62,2,     0.13,     0.01,2,     0.01,    2.493,2,    0.016,    0.000,2,    0.000,2,    0.000,2,   2309.0,2,   2397.6,2,   7.5892,  25,6,  -999.00,1,  -999.00,   -999.0,1,   -999.0,   1.5753,  27.7367
  49NZ20090521,   P21,   183,  1,     13, X12001,2,20090529,0710,-17.5017,-161.6695, 4870,   2999.3,2,   1.6873,2,   1.68714,2,  34.6734,2,  34.6717,3,   160.08,2,   159.94,2,   123.42,2,     0.39,    35.23,2,     0.13,     0.01,2,     0.01,    2.475,2,    0.016,    0.000,2,    0.000,2,    0.000,2,   2307.3,2,   2398.6,2,   7.5936,  25,2,  -999.00,1,  -999.00,   -999.0,1,   -999.0,   1.4665,  27.7505
  49NZ20090521,   P21,   183,  1,     12, X12030,2,20090529,0710,-17.5017,-161.6695, 4870,   3251.0,2,   1.6264,2,   1.62706,2,  34.6795,2,  34.6788,2,   163.67,2,   163.51,2,   124.17,2,     0.39,    35.00,2,     0.13,     0.01,2,     0.01,    2.455,2,    0.016,    0.000,2,    0.000,2,    0.000,2,   2305.9,2,   2399.4,2,   7.5981,  25,2,  -999.00,1,  -999.00,   -999.0,1,   -999.0,   1.3823,  27.7615
  49NZ20090521,   P21,   183,  1,     11, X12044,2,20090529,0710,-17.5017,-161.6695, 4870,   3498.9,2,   1.5615,2,   1.56173,2,  34.6841,2,  34.6838,6,   169.64,2,   169.48,2,   122.51,2,     0.39,    34.59,2,     0.13,     0.01,2,     0.01,    2.423,2,    0.016,    0.000,2,    0.000,2,    0.000,2,   2300.4,2,   2394.6,2,   7.6027,  25,2,  -999.00,1,  -999.00,   -999.0,1,   -999.0,   1.2939,  27.7714
  49NZ20090521,   P21,   183,  1,     10, X12048,2,20090529,0710,-17.5017,-161.6695, 4870,   3750.9,2,   1.4999,2,   1.49984,2,  34.6886,2,  34.6879,2,   174.90,2,   174.88,2,   121.25,2,     0.39,    34.22,2,     0.13,     0.01,2,     0.01,    2.398,2,    0.016,    0.000,2,    0.000,2,    0.000,2,   2294.9,2,   2390.7,2,   7.6065,  25,2,  -999.00,1,  -999.00,   -999.0,1,   -999.0,   1.2077,  27.7811
  49NZ20090521,   P21,   183,  1,      9, X12027,2,20090529,0710,-17.5017,-161.6695, 4870,   4000.0,2,   1.4479,2,   1.44786,2,  34.6928,2,  34.6923,2,   179.16,2,   179.09,2,   120.71,2,     0.38,    33.96,2,     0.13,     0.01,2,     0.01,    2.375,2,    0.016,    0.000,2,    0.000,2,    0.000,2,   2290.3,2,   2387.2,2,   7.6087,  25,2,  -999.00,1,  -999.00,   -999.0,1,   -999.0,   1.1304,  27.7897
  49NZ20090521,   P21,   183,  1,      8, X12026,2,20090529,0710,-17.5017,-161.6695, 4870,   4249.1,2,   1.3593,2,   1.35935,2,  34.6999,2,  34.6994,2,   186.59,2,   186.65,2,   118.87,2,     0.38,    33.32,2,     0.13,     0.01,2,     0.01,    2.336,2,    0.016,    0.004,2,    0.001,2,    0.000,2,   2282.7,6,   2381.2,2,   7.6122,  25,2,  -999.00,1,  -999.00,   -999.0,1,   -999.0,   1.0170,  27.8031
  49NZ20090521,   P21,   183,  1,      7, X12025,2,20090529,0710,-17.5017,-161.6695, 4870,   4500.6,2,   1.2167,2,   1.21665,2,  34.7066,2,  34.7067,2,   196.92,2,   197.13,2,   116.57,2,     0.38,    32.65,2,     0.12,     0.01,2,     0.01,    2.283,2,    0.016,    0.004,2,    0.002,2,    0.000,2,   2271.6,2,   2371.5,6,   7.6175,  25,2,  -999.00,1,  -999.00,   -999.0,1,   -999.0,   0.8503,  27.8194
  49NZ20090521,   P21,   183,  1,      6, X12024,2,20090529,0710,-17.5017,-161.6695, 4870,   4749.0,2,   1.1386,2,   1.13844,2,  34.7081,2,  34.7081,2,   201.87,2,   201.92,2,   116.73,2,     0.38,    32.42,2,     0.12,     0.01,2,     0.01,    2.263,2,    0.016,    0.013,2,    0.007,2,    0.000,2,   2266.9,2,   2368.7,2,   7.6194,  25,6,  -999.00,1,  -999.00,   -999.0,1,   -999.0,   0.7461,  27.8273
  49NZ20090521,   P21,   183,  1,      5, X12028,9,20090529,0710,-17.5017,-161.6695, 4870,     10.4,2,  28.1611,2,  28.16059,2,  35.5502,2,-999.0000,9,   196.68,2,  -999.00,9,  -999.00,9,  -999.00,  -999.00,9,  -999.00,  -999.00,9,  -999.00, -999.000,9, -999.000, -999.000,9, -999.000,9, -999.000,9,   -999.0,9,   -999.0,9,-999.0000,-999,9,  -999.00,9,  -999.00,   -999.0,9,   -999.0,  28.1586,  22.7565
  49NZ20090521,   P21,   183,  1,      4, X12022,9,20090529,0710,-17.5017,-161.6695, 4870,     50.1,2,  28.1783,2,  28.17847,2,  35.5590,2,-999.0000,9,   196.30,2,  -999.00,9,  -999.00,9,  -999.00,  -999.00,9,  -999.00,  -999.00,9,  -999.00, -999.000,9, -999.000, -999.000,9, -999.000,9, -999.000,9,   -999.0,9,   -999.0,9,-999.0000,-999,9,  -999.00,9,  -999.00,   -999.0,9,   -999.0,  28.1664,  22.7605
  49NZ20090521,   P21,   183,  1,      3, X12021,9,20090529,0710,-17.5017,-161.6695, 4870,     99.8,2,  26.1348,2,  26.13217,2,  36.1091,2,-999.0000,9,   207.73,2,  -999.00,9,  -999.00,9,  -999.00,  -999.00,9,  -999.00,  -999.00,9,  -999.00, -999.000,9, -999.000, -999.000,9, -999.000,9, -999.000,9,   -999.0,9,   -999.0,9,-999.0000,-999,9,  -999.00,9,  -999.00,   -999.0,9,   -999.0,  26.1124,  23.8352
  49NZ20090521,   P21,   183,  1,      2, X12020,9,20090529,0710,-17.5017,-161.6695, 4870,    149.4,2,  24.0385,2,  24.03690,2,  35.9646,2,-999.0000,9,   190.90,2,  -999.00,9,  -999.00,9,  -999.00,  -999.00,9,  -999.00,  -999.00,9,  -999.00, -999.000,9, -999.000, -999.000,9, -999.000,9, -999.000,9,   -999.0,9,   -999.0,9,-999.0000,-999,9,  -999.00,9,  -999.00,   -999.0,9,   -999.0,  24.0069,  24.3698
  49NZ20090521,   P21,   183,  1,      1, X12019,2,20090529,0710,-17.5017,-161.6695, 4870,   4936.5,2,   1.1591,2,   1.15899,2,  34.7081,2,  34.7081,6,   202.02,2,   202.12,2,   116.60,2,     0.38,    32.40,2,     0.12,     0.01,2,     0.01,    2.264,2,    0.016,    0.014,2,    0.007,2,    0.000,2,   2267.6,2,   2368.6,2,   7.6191,  25,2,  -999.00,1,  -999.00,   -999.0,1,   -999.0,   0.7439,  27.8274