BOTTLE,20111109CCHDOSIOCBG
EXPOCODE,SECT_ID,STNNBR,CASTNO,SAMPNO,BTLNBR,BTLNBR_FLAG_W,DATE,TIME,LATITUDE,LONGITUDE,DEPTH,CTDPRS,CTDPRS_FLAG_W,CTDTMP,CTDTMP_FLAG_W,SBE35,SBE35_FLAG_W,CTDSAL,CTDSAL_FLAG_W,SALNTY,SALNTY_FLAG_W,CTDOXY,CTDOXY_FLAG_W,OXYGEN,OXYGEN_FLAG_W,SILCAT,SILCAT_FLAG_W,SILUNC,NITRAT,NITRAT_FLAG_W,NRAUNC,NITRIT,NITRIT_FLAG_W,NRIUNC,PHSPHT,PHSPHT_FLAG_W,PHPUNC,CFC-11,CFC-11_FLAG_W,CFC-12,CFC-12_FLAG_W,CFC113,CFC113_FLAG_W,TCARBN,TCARBN_FLAG_W,ALKALI,ALKALI_FLAG_W,PH_TOT,PH_TMP,PH_TOT_FLAG_W,DELC13,DELC13_FLAG_W,C13ERR,DELC14,DELC14_FLAG_W,C14ERR,THETA,SIG0
,,,,,,,,,,,METERS,DBAR,,ITS-90,,ITS-90,,PSS-78,,PSS-78,,UMOL/KG,,UMOL/KG,,UMOL/KG,,UMOL/KG,UMOL/KG,,UMOL/KG,UMOL/KG,,UMOL/KG,UMOL/KG,,UMOL/KG,PMOL/KG,,PMOL/KG,,PMOL/KG,,UMOL/KG,,UMOL/KG,,,DEG C,,/MILLE,,/MILLE,/MILLE,,/MILLE,DEG C,KG/M^3
  49NZ20090521,   P21,   249,  1,      0,   -999,9,20090611,0737,-19.3818, 165.6970, 2420,   -999.0,9,-999.0000,9,-999.00000,9,-999.0000,9,  34.8929,2,  -999.00,9,  -999.00,9,  -999.00,9,  -999.00,  -999.00,9,  -999.00,  -999.00,9,  -999.00, -999.000,9, -999.000, -999.000,9, -999.000,9, -999.000,9,   -999.0,9,   -999.0,9,-999.0000,-999,9,  -999.00,9,  -999.00,   -999.0,9,   -999.0,-999.0000,-999.0000
  49NZ20090521,   P21,   249,  1,     36, X12043,2,20090611,0737,-19.3818, 165.6970, 2420,     10.3,2,  25.3174,2,  25.31733,2,  34.8657,2,  34.8637,2,   206.47,2,   206.28,2,     0.53,2,     0.12,     0.07,2,     0.03,     0.01,2,     0.01,    0.067,2,    0.028,    1.614,2,    1.026,2, -999.000,5,   1945.1,2,   2286.5,2,   8.1213,  25,2,  -999.00,9,  -999.00,   -999.0,9,   -999.0,  25.3151,  23.1436
  49NZ20090521,   P21,   249,  1,     35, X12042,2,20090611,0737,-19.3818, 165.6970, 2420,     50.7,2,  25.1516,2,  25.15109,2,  34.9407,2,  34.9412,2,   206.71,2,   206.67,2,     0.47,2,     0.12,     0.06,2,     0.03,     0.01,2,     0.01,    0.059,2,    0.031,    1.636,2,    1.039,2, -999.000,5,   1952.5,6,   2291.4,2,   8.1168,  25,2,  -999.00,9,  -999.00,   -999.0,9,   -999.0,  25.1406,  23.2536
  49NZ20090521,   P21,   249,  1,     34, X12016,2,20090611,0737,-19.3818, 165.6970, 2420,    100.9,2,  23.0133,2,  23.01445,2,  35.4719,2,  35.4725,2,   186.23,2,   185.24,2,     0.65,2,     0.12,     0.87,2,     0.04,     0.14,2,     0.01,    0.218,2,    0.015,    1.850,6,    1.154,6,    0.165,6,   2025.1,2,   2325.0,6,   8.0391,  25,2,  -999.00,9,  -999.00,   -999.0,9,   -999.0,  22.9927,  24.2937
  49NZ20090521,   P21,   249,  1,     33, X12015,2,20090611,0737,-19.3818, 165.6970, 2420,    150.0,2,  21.2649,2,  21.26378,2,  35.6263,2,  35.6243,2,   172.43,2,   172.18,2,     0.87,2,     0.12,     3.69,2,     0.04,     0.02,2,     0.01,    0.368,2,    0.014,    1.980,2,    1.212,2,    0.087,2,   2060.7,2,   2333.5,2,   7.9930,  25,6,  -999.00,9,  -999.00,   -999.0,9,   -999.0,  21.2359,  24.9062
  49NZ20090521,   P21,   249,  1,     32, X12050,2,20090611,0737,-19.3818, 165.6970, 2420,    200.2,2,  20.1895,2,  20.19185,2,  35.6399,2,  35.6377,2,   174.48,2,   174.25,2,     1.00,2,     0.12,     4.25,2,     0.04,     0.02,2,     0.01,    0.410,2,    0.013,    2.060,2,    1.247,2,    0.056,2,   2071.8,2,   2335.2,2,   7.9745,  25,2,  -999.00,9,  -999.00,   -999.0,9,   -999.0,  20.1521,  25.2096
  49NZ20090521,   P21,   249,  1,     31, X12014,2,20090611,0737,-19.3818, 165.6970, 2420,    250.3,2,  18.4335,2,  18.43406,2,  35.5854,2,  35.5833,6,   182.88,2,   182.44,2,     1.28,2,     0.12,     5.03,2,     0.05,     0.01,2,     0.01,    0.456,2,    0.013,    2.185,2,    1.297,2,    0.033,2,   2081.6,2,   2330.7,2,   7.9515,  25,2,  -999.00,9,  -999.00,   -999.0,9,   -999.0,  18.3896,  25.6235
  49NZ20090521,   P21,   249,  1,     30, X12012,2,20090611,0737,-19.3818, 165.6970, 2420,    301.0,2,  17.0298,2,  17.02882,2,  35.4708,2,  35.4698,2,   183.83,2,   183.67,2,     1.78,2,     0.12,     6.57,2,     0.05,     0.01,2,     0.01,    0.570,2,    0.013,    2.262,2,    1.323,2,    0.039,2,   2092.5,2,   2325.0,2,   7.9218,  25,2,  -999.00,9,  -999.00,   -999.0,9,   -999.0,  16.9798,  25.8805
  49NZ20090521,   P21,   249,  1,     29, X12041,2,20090611,0737,-19.3818, 165.6970, 2420,    400.7,2,  13.1337,2,  13.13465,2,  35.0486,2,  35.0416,2,   184.47,2,   183.65,2,     4.40,2,     0.13,    12.89,2,     0.07,     0.01,2,     0.01,    0.991,2,    0.013,    2.228,6,    1.236,6,    0.042,6,   2122.8,2,   2305.0,2,   7.8269,  25,2,  -999.00,9,  -999.00,   -999.0,9,   -999.0,  13.0778,  26.4149
  49NZ20090521,   P21,   249,  1,     28, X12040,2,20090611,0737,-19.3818, 165.6970, 2420,    500.6,2,   9.8745,2,   9.87399,2,  34.6972,2,  34.6955,6,   193.02,2,   192.93,2,     7.72,2,     0.14,    18.85,2,     0.09,     0.01,2,     0.01,    1.374,2,    0.014,    2.037,2,    1.070,2,    0.054,2,   2142.5,2,   2292.6,2,   7.7563,  25,2,  -999.00,9,  -999.00,   -999.0,9,   -999.0,   9.8162,  26.7467
  49NZ20090521,   P21,   249,  1,     27, X12009,2,20090611,0737,-19.3818, 165.6970, 2420,    601.1,2,   7.7107,2,   7.71166,2,  34.4992,2,  34.4979,2,   196.24,2,   196.19,2,    13.53,2,     0.15,    23.78,2,     0.10,     0.01,2,     0.01,    1.692,2,    0.014,    1.482,6,    0.763,6,    0.036,6,   2160.7,2,   2288.7,2,   7.7056,  25,2,  -999.00,9,  -999.00,   -999.0,9,   -999.0,   7.6500,  26.9320
  49NZ20090521,   P21,   249,  1,     26, X12008,2,20090611,0737,-19.3818, 165.6970, 2420,    700.1,2,   6.3251,2,   6.32526,2,  34.4081,2,  34.4074,2,   197.78,2,   197.75,2,    19.80,2,     0.16,    26.99,2,     0.11,     0.01,2,     0.01,    1.905,2,    0.015,    0.999,2,    0.510,2,    0.015,2,   2174.9,6,   2290.7,2,   7.6765,  25,2,  -999.00,9,  -999.00,   -999.0,9,   -999.0,   6.2613,  27.0514
  49NZ20090521,   P21,   249,  1,     25, X12007,2,20090611,0737,-19.3818, 165.6970, 2420,    800.0,2,   5.3776,2,   5.37759,2,  34.3922,2,  34.3919,2,   189.49,2,   189.26,2,    30.10,2,     0.19,    29.64,2,     0.12,     0.01,2,     0.01,    2.081,2,    0.015,    0.560,2,    0.287,2,    0.013,2,   2193.6,2,   2299.9,6,   7.6480,  25,2,  -999.00,9,  -999.00,   -999.0,9,   -999.0,   5.3099,  27.1571
  49NZ20090521,   P21,   249,  1,     24, X12035,2,20090611,0737,-19.3818, 165.6970, 2420,    899.8,2,   4.8169,2,   4.81674,2,  34.4161,2,  34.4157,2,   178.98,2,   178.99,2,    40.90,2,     0.21,    31.31,2,     0.12,     0.01,2,     0.01,    2.198,2,    0.016,    0.325,2,    0.172,2,    0.014,2,   2211.0,2,   2310.8,2,   7.6279,  25,6,  -999.00,9,  -999.00,   -999.0,9,   -999.0,   4.7440,  27.2415
  49NZ20090521,   P21,   249,  1,     23, X12038,2,20090611,0737,-19.3818, 165.6970, 2420,   1001.1,2,   4.3147,2,   4.31548,2,  34.4489,2,  34.4509,3,   170.69,2,   170.42,2,    53.23,2,     0.24,    32.59,2,     0.12,     0.01,2,     0.01,    2.286,2,    0.016,    0.181,2,    0.099,2,    0.000,2,   2229.9,2,   2324.4,2,   7.6130,  25,2,  -999.00,9,  -999.00,   -999.0,9,   -999.0,   4.2366,  27.3230
  49NZ20090521,   P21,   249,  1,     22, X12034,2,20090611,0737,-19.3818, 165.6970, 2420,   1201.0,2,   3.5237,2,   3.52385,2,  34.5212,2,  34.5208,2,   158.68,2,   158.77,2,    74.95,2,     0.28,    34.06,2,     0.13,     0.01,2,     0.01,    2.402,2,    0.016,    0.062,2,    0.037,2,    0.000,2,   2259.9,2,   2349.1,2,   7.5958,  25,2,  -999.00,9,  -999.00,   -999.0,9,   -999.0,   3.4354,  27.4619
  49NZ20090521,   P21,   249,  1,     21, X12033,2,20090611,0737,-19.3818, 165.6970, 2420,   1400.9,2,   3.0892,2,   3.08906,2,  34.5623,2,  34.5620,2,   153.65,2,   153.70,2,    87.57,2,     0.31,    34.74,2,     0.13,     0.01,2,     0.01,    2.449,2,    0.016,    0.028,2,    0.018,2,    0.000,2,   2276.8,2,   2363.5,2,   7.5889,  25,2,  -999.00,9,  -999.00,   -999.0,9,   -999.0,   2.9886,  27.5367
  49NZ20090521,   P21,   249,  1,     20, X12032,2,20090611,0737,-19.3818, 165.6970, 2420,   1602.4,2,   2.7728,2,   2.77297,2,  34.5939,2,  34.5940,2,   150.48,2,   150.56,2,    96.95,2,     0.33,    35.14,2,     0.13,     0.01,2,     0.01,    2.486,2,    0.016,    0.014,2,    0.008,2,    0.000,2,   2287.4,2,   2374.5,2,   7.5848,  25,6,  -999.00,9,  -999.00,   -999.0,9,   -999.0,   2.6591,  27.5915
  49NZ20090521,   P21,   249,  1,     19, X12046,2,20090611,0737,-19.3818, 165.6970, 2420,   1800.3,2,   2.6139,2,   2.61374,2,  34.6101,2,  34.6103,6,   149.53,2,   149.71,2,   101.30,2,     0.34,    35.33,2,     0.13,     0.01,2,     0.01,    2.498,2,    0.016,    0.007,2,    0.004,2,    0.000,2,   2292.7,2,   2378.9,2,   7.5832,  25,2,  -999.00,9,  -999.00,   -999.0,9,   -999.0,   2.4855,  27.6194
  49NZ20090521,   P21,   249,  1,     18, X12006,2,20090611,0737,-19.3818, 165.6970, 2420,   2001.0,2,   2.3546,2,   2.35460,2,  34.6352,2,  34.6351,2,   149.59,2,   149.69,2,   107.66,2,     0.36,    35.38,2,     0.13,     0.01,2,     0.01,    2.502,2,    0.016,    0.003,2,    0.003,2,    0.000,2,   2298.9,2,   2385.9,2,   7.5824,  25,2,  -999.00,9,  -999.00,   -999.0,9,   -999.0,   2.2127,  27.6623
  49NZ20090521,   P21,   249,  1,     17, X12047,2,20090611,0737,-19.3818, 165.6970, 2420,   2202.7,2,   2.1922,2,   2.19262,2,  34.6504,2,  34.6501,2,   150.85,2,   150.90,2,   111.17,2,     0.36,    35.40,2,     0.13,     0.01,2,     0.01,    2.503,2,    0.016,    0.002,2,    0.001,2,    0.000,2,   2301.7,2,   2390.0,2,   7.5835,  25,2,  -999.00,9,  -999.00,   -999.0,9,   -999.0,   2.0352,  27.6888
  49NZ20090521,   P21,   249,  1,     16, X12004,2,20090611,0737,-19.3818, 165.6970, 2420,   2400.6,2,   2.0588,2,   2.05720,2,  34.6620,2,  34.6633,3,   152.51,2,   152.68,2,   114.32,2,     0.37,    35.28,2,     0.13,     0.01,2,     0.01,    2.491,2,    0.016,    0.000,2,    0.000,2,    0.000,2,   2303.6,2,   2392.6,2,   7.5858,  25,2,  -999.00,9,  -999.00,   -999.0,9,   -999.0,   1.8864,  27.7098
  49NZ20090521,   P21,   249,  1,     15, X12003,9,20090611,0737,-19.3818, 165.6970, 2420,     10.3,2,  25.3182,2,  25.31815,2,  34.8656,2,-999.0000,9,   206.37,2,  -999.00,9,  -999.00,9,  -999.00,  -999.00,9,  -999.00,  -999.00,9,  -999.00, -999.000,9, -999.000, -999.000,9, -999.000,9, -999.000,9,   -999.0,9,   -999.0,9,-999.0000,-999,9,  -999.00,9,  -999.00,   -999.0,9,   -999.0,  25.3159,  23.1432
  49NZ20090521,   P21,   249,  1,     14, X12002,9,20090611,0737,-19.3818, 165.6970, 2420,     50.8,2,  25.1516,2,  25.15039,2,  34.9419,2,-999.0000,9,   206.78,2,  -999.00,9,  -999.00,9,  -999.00,  -999.00,9,  -999.00,  -999.00,9,  -999.00, -999.000,9, -999.000, -999.000,9, -999.000,9, -999.000,9,   -999.0,9,   -999.0,9,-999.0000,-999,9,  -999.00,9,  -999.00,   -999.0,9,   -999.0,  25.1405,  23.2545
  49NZ20090521,   P21,   249,  1,     13, X12001,9,20090611,0737,-19.3818, 165.6970, 2420,    100.8,2,  23.0170,2,  23.01658,2,  35.4720,2,-999.0000,9,   186.21,2,  -999.00,9,  -999.00,9,  -999.00,  -999.00,9,  -999.00,  -999.00,9,  -999.00, -999.000,9, -999.000, -999.000,9, -999.000,9, -999.000,9,   -999.0,9,   -999.0,9,-999.0000,-999,9,  -999.00,9,  -999.00,   -999.0,9,   -999.0,  22.9964,  24.2926
  49NZ20090521,   P21,   249,  1,     12, X12030,9,20090611,0737,-19.3818, 165.6970, 2420,    150.0,2,  21.2755,2,  21.27616,2,  35.6260,2,-999.0000,9,   172.53,2,  -999.00,9,  -999.00,9,  -999.00,  -999.00,9,  -999.00,  -999.00,9,  -999.00, -999.000,9, -999.000, -999.000,9, -999.000,9, -999.000,9,   -999.0,9,   -999.0,9,-999.0000,-999,9,  -999.00,9,  -999.00,   -999.0,9,   -999.0,  21.2464,  24.9031
  49NZ20090521,   P21,   249,  1,     11, X12044,9,20090611,0737,-19.3818, 165.6970, 2420,    200.5,2,  20.2091,2,  20.20890,2,  35.6400,2,-999.0000,9,   174.38,2,  -999.00,9,  -999.00,9,  -999.00,  -999.00,9,  -999.00,  -999.00,9,  -999.00, -999.000,9, -999.000, -999.000,9, -999.000,9, -999.000,9,   -999.0,9,   -999.0,9,-999.0000,-999,9,  -999.00,9,  -999.00,   -999.0,9,   -999.0,  20.1716,  25.2045
  49NZ20090521,   P21,   249,  1,     10, X12048,9,20090611,0737,-19.3818, 165.6970, 2420,    250.3,2,  18.4294,2,  18.43107,2,  35.5856,2,-999.0000,9,   182.90,2,  -999.00,9,  -999.00,9,  -999.00,  -999.00,9,  -999.00,  -999.00,9,  -999.00, -999.000,9, -999.000, -999.000,9, -999.000,9, -999.000,9,   -999.0,9,   -999.0,9,-999.0000,-999,9,  -999.00,9,  -999.00,   -999.0,9,   -999.0,  18.3855,  25.6246
  49NZ20090521,   P21,   249,  1,      9, X12027,9,20090611,0737,-19.3818, 165.6970, 2420,    300.9,2,  17.0305,2,  17.03036,2,  35.4706,2,-999.0000,9,   183.72,2,  -999.00,9,  -999.00,9,  -999.00,  -999.00,9,  -999.00,  -999.00,9,  -999.00, -999.000,9, -999.000, -999.000,9, -999.000,9, -999.000,9,   -999.0,9,   -999.0,9,-999.0000,-999,9,  -999.00,9,  -999.00,   -999.0,9,   -999.0,  16.9805,  25.8803
  49NZ20090521,   P21,   249,  1,      8, X12026,9,20090611,0737,-19.3818, 165.6970, 2420,    400.9,2,  13.1285,2,  13.13132,2,  35.0487,2,-999.0000,9,   184.48,2,  -999.00,9,  -999.00,9,  -999.00,  -999.00,9,  -999.00,  -999.00,9,  -999.00, -999.000,9, -999.000, -999.000,9, -999.000,9, -999.000,9,   -999.0,9,   -999.0,9,-999.0000,-999,9,  -999.00,9,  -999.00,   -999.0,9,   -999.0,  13.0726,  26.4160
  49NZ20090521,   P21,   249,  1,      7, X12025,9,20090611,0737,-19.3818, 165.6970, 2420,    500.8,2,   9.8727,2,   9.87229,2,  34.6974,2,-999.0000,9,   193.12,2,  -999.00,9,  -999.00,9,  -999.00,  -999.00,9,  -999.00,  -999.00,9,  -999.00, -999.000,9, -999.000, -999.000,9, -999.000,9, -999.000,9,   -999.0,9,   -999.0,9,-999.0000,-999,9,  -999.00,9,  -999.00,   -999.0,9,   -999.0,   9.8144,  26.7472
  49NZ20090521,   P21,   249,  1,      6, X12024,9,20090611,0737,-19.3818, 165.6970, 2420,    600.4,2,   7.7177,2,   7.71885,2,  34.4999,2,-999.0000,9,   196.24,2,  -999.00,9,  -999.00,9,  -999.00,  -999.00,9,  -999.00,  -999.00,9,  -999.00, -999.000,9, -999.000, -999.000,9, -999.000,9, -999.000,9,   -999.0,9,   -999.0,9,-999.0000,-999,9,  -999.00,9,  -999.00,   -999.0,9,   -999.0,   7.6571,  26.9316
  49NZ20090521,   P21,   249,  1,      5, X12028,9,20090611,0737,-19.3818, 165.6970, 2420,    700.0,2,   6.3237,2,   6.32364,2,  34.4081,2,-999.0000,9,   197.90,2,  -999.00,9,  -999.00,9,  -999.00,  -999.00,9,  -999.00,  -999.00,9,  -999.00, -999.000,9, -999.000, -999.000,9, -999.000,9, -999.000,9,   -999.0,9,   -999.0,9,-999.0000,-999,9,  -999.00,9,  -999.00,   -999.0,9,   -999.0,   6.2600,  27.0516
  49NZ20090521,   P21,   249,  1,      4, X12022,9,20090611,0737,-19.3818, 165.6970, 2420,    799.9,2,   5.3776,2,   5.37757,2,  34.3922,2,-999.0000,9,   189.41,2,  -999.00,9,  -999.00,9,  -999.00,  -999.00,9,  -999.00,  -999.00,9,  -999.00, -999.000,9, -999.000, -999.000,9, -999.000,9, -999.000,9,   -999.0,9,   -999.0,9,-999.0000,-999,9,  -999.00,9,  -999.00,   -999.0,9,   -999.0,   5.3100,  27.1571
  49NZ20090521,   P21,   249,  1,      3, X12021,9,20090611,0737,-19.3818, 165.6970, 2420,   2202.8,2,   2.1931,2,   2.19301,2,  34.6502,2,-999.0000,9,   150.82,2,  -999.00,9,  -999.00,9,  -999.00,  -999.00,9,  -999.00,  -999.00,9,  -999.00, -999.000,9, -999.000, -999.000,9, -999.000,9, -999.000,9,   -999.0,9,   -999.0,9,-999.0000,-999,9,  -999.00,9,  -999.00,   -999.0,9,   -999.0,   2.0361,  27.6886
  49NZ20090521,   P21,   249,  1,      2, X12020,9,20090611,0737,-19.3818, 165.6970, 2420,   1401.1,2,   3.0884,2,   3.08843,2,  34.5624,2,-999.0000,9,   153.61,2,  -999.00,9,  -999.00,9,  -999.00,  -999.00,9,  -999.00,  -999.00,9,  -999.00, -999.000,9, -999.000, -999.000,9, -999.000,9, -999.000,9,   -999.0,9,   -999.0,9,-999.0000,-999,9,  -999.00,9,  -999.00,   -999.0,9,   -999.0,   2.9878,  27.5369
  49NZ20090521,   P21,   249,  1,      1, X12019,2,20090611,0737,-19.3818, 165.6970, 2420,   2433.1,2,   2.0053,2,   2.00506,2,  34.6662,2,  34.6663,6,   153.31,2,   153.22,2,   115.16,2,     0.37,    35.29,2,     0.13,     0.01,2,     0.01,    2.495,2,    0.016,    0.001,2,    0.003,2,    0.000,2,   2305.2,2,   2393.5,2,   7.5861,  25,2,  -999.00,9,  -999.00,   -999.0,9,   -999.0,   1.8309,  27.7174