BOTTLE,20111109CCHDOSIOCBG
EXPOCODE,SECT_ID,STNNBR,CASTNO,SAMPNO,BTLNBR,BTLNBR_FLAG_W,DATE,TIME,LATITUDE,LONGITUDE,DEPTH,CTDPRS,CTDPRS_FLAG_W,CTDTMP,CTDTMP_FLAG_W,SBE35,SBE35_FLAG_W,CTDSAL,CTDSAL_FLAG_W,SALNTY,SALNTY_FLAG_W,CTDOXY,CTDOXY_FLAG_W,OXYGEN,OXYGEN_FLAG_W,SILCAT,SILCAT_FLAG_W,SILUNC,NITRAT,NITRAT_FLAG_W,NRAUNC,NITRIT,NITRIT_FLAG_W,NRIUNC,PHSPHT,PHSPHT_FLAG_W,PHPUNC,CFC-11,CFC-11_FLAG_W,CFC-12,CFC-12_FLAG_W,CFC113,CFC113_FLAG_W,TCARBN,TCARBN_FLAG_W,ALKALI,ALKALI_FLAG_W,PH_TOT,PH_TMP,PH_TOT_FLAG_W,DELC13,DELC13_FLAG_W,C13ERR,DELC14,DELC14_FLAG_W,C14ERR,THETA,SIG0
,,,,,,,,,,,METERS,DBAR,,ITS-90,,ITS-90,,PSS-78,,PSS-78,,UMOL/KG,,UMOL/KG,,UMOL/KG,,UMOL/KG,UMOL/KG,,UMOL/KG,UMOL/KG,,UMOL/KG,UMOL/KG,,UMOL/KG,PMOL/KG,,PMOL/KG,,PMOL/KG,,UMOL/KG,,UMOL/KG,,,DEG C,,/MILLE,,/MILLE,/MILLE,,/MILLE,DEG C,KG/M^3
  49NZ20090521,   P21,   185,  1,      0,   -999,9,20090529,1913,-17.4972,-163.0055, 4830,   -999.0,9,-999.0000,9,-999.00000,9,-999.0000,9,  35.4898,2,  -999.00,9,  -999.00,9,  -999.00,9,  -999.00,  -999.00,9,  -999.00,  -999.00,9,  -999.00, -999.000,9, -999.000, -999.000,9, -999.000,9, -999.000,9,   -999.0,9,   -999.0,9,-999.0000,-999,9,  -999.00,9,  -999.00,   -999.0,9,   -999.0,-999.0000,-999.0000
  49NZ20090521,   P21,   185,  1,     36, X12043,2,20090529,1913,-17.4972,-163.0055, 4830,     10.2,2,  28.0184,2,  28.01851,2,  35.4892,2,  35.4880,2,   197.45,2,   197.62,2,     0.51,2,     0.12,     0.06,2,     0.03,     0.01,2,     0.01,    0.131,2,    0.019,    1.420,2,    0.917,2, -999.000,5,   1975.7,2,   2334.0,2,   8.1295,  25,6,  -999.00,9,  -999.00,   -999.0,9,   -999.0,  28.0160,  22.7574
  49NZ20090521,   P21,   185,  1,     35, X12042,2,20090529,1913,-17.4972,-163.0055, 4830,     50.3,2,  28.0154,2,  28.01467,2,  35.4883,2,  35.4883,2,   197.16,2,   197.73,2,     0.49,2,     0.12,     0.04,2,     0.03,     0.01,2,     0.01,    0.128,2,    0.019,    1.423,2,    0.923,2, -999.000,5,   1977.2,6,   2334.9,2,   8.1309,  25,2,  -999.00,9,  -999.00,   -999.0,9,   -999.0,  28.0035,  22.7607
  49NZ20090521,   P21,   185,  1,     34, X12016,2,20090529,1913,-17.4972,-163.0055, 4830,    100.7,2,  26.2546,2,  26.25719,2,  36.0636,2,  36.0656,2,   212.26,2,   212.78,2,     0.48,2,     0.12,     0.03,2,     0.03,     0.01,2,     0.01,    0.153,2,    0.018,    1.626,2,    1.033,2, -999.000,5,   2016.0,2,   2373.2,6,   8.1122,  25,2,  -999.00,9,  -999.00,   -999.0,9,   -999.0,  26.2319,  23.7632
  49NZ20090521,   P21,   185,  1,     33, X12015,2,20090529,1913,-17.4972,-163.0055, 4830,    149.8,2,  24.1082,2,  24.11196,2,  36.0047,2,  36.0035,2,   196.29,2,   196.25,2,     0.49,2,     0.12,     0.05,2,     0.03,     0.01,2,     0.01,    0.197,2,    0.016,    1.730,2,    1.074,2, -999.000,5,   2040.2,2,   2367.5,2,   8.0725,  25,2,  -999.00,9,  -999.00,   -999.0,9,   -999.0,  24.0764,  24.3794
  49NZ20090521,   P21,   185,  1,     32, X12050,2,20090529,1913,-17.4972,-163.0055, 4830,    198.6,2,  21.8299,2,  21.82996,2,  35.8582,2,  35.8541,2,   176.31,2,   176.41,2,     0.57,2,     0.12,     2.23,2,     0.04,     0.02,2,     0.01,    0.359,2,    0.014,    1.964,2,    1.168,2,    0.102,2,   2073.6,2,   2356.5,2,   8.0008,  25,2,  -999.00,9,  -999.00,   -999.0,9,   -999.0,  21.7906,  24.9289
  49NZ20090521,   P21,   185,  1,     31, X12014,2,20090529,1913,-17.4972,-163.0055, 4830,    249.2,2,  19.9425,2,  19.93211,2,  35.6576,2,  35.6523,6,   178.53,2,   178.73,2,     0.74,2,     0.12,     3.41,2,     0.04,     0.02,2,     0.01,    0.429,2,    0.013,    2.151,2,    1.247,2,    0.048,2,   2082.0,2,   2344.0,2,   7.9677,  25,2,  -999.00,9,  -999.00,   -999.0,9,   -999.0,  19.8963,  25.2909
  49NZ20090521,   P21,   185,  1,     30, X12012,2,20090529,1913,-17.4972,-163.0055, 4830,    279.5,2,  18.7938,2,  18.79428,2,  35.5232,2,  35.5193,2,   179.82,2,   180.40,2,     0.96,2,     0.12,     4.34,2,     0.04,     0.01,2,     0.01,    0.494,2,    0.013,    2.228,2,    1.274,2,    0.037,2,   2086.6,2,   2336.0,2,   7.9465,  25,2,  -999.00,9,  -999.00,   -999.0,9,   -999.0,  18.7441,  25.4864
  49NZ20090521,   P21,   185,  1,     29, X12041,2,20090529,1913,-17.4972,-163.0055, 4830,    370.1,2,  13.3153,2,  13.35082,2,  34.8971,2,  34.9013,2,   178.57,2,   179.22,2,     3.87,2,     0.13,    11.91,2,     0.07,     0.01,2,     0.01,    0.995,2,    0.013,    2.264,6,    1.193,6,    0.037,6,   2117.7,2,   2300.8,2,   7.8255,  25,2,  -999.00,9,  -999.00,   -999.0,9,   -999.0,  13.2633,  26.2599
  49NZ20090521,   P21,   185,  1,     28, X12040,2,20090529,1913,-17.4972,-163.0055, 4830,    471.0,2,   8.9262,2,   8.92596,2,  34.5067,2,  34.5083,6,   174.46,2,   174.32,2,     9.85,2,     0.14,    22.26,2,     0.10,     0.01,2,     0.01,    1.662,2,    0.014,    1.741,2,    0.866,2,    0.041,2,   2158.6,2,   2285.5,2,   7.6966,  25,2,  -999.00,9,  -999.00,   -999.0,9,   -999.0,   8.8748,  26.7518
  49NZ20090521,   P21,   185,  1,     27, X12009,2,20090529,1913,-17.4972,-163.0055, 4830,    569.7,2,   6.8113,2,   6.81140,2,  34.4237,2,  34.4234,2,   169.25,2,   169.16,2,    20.00,2,     0.16,    28.35,2,     0.11,     0.01,2,     0.01,    2.027,2,    0.015,    0.690,6,    0.348,6,    0.017,6,   2183.0,2,   2290.9,2,   7.6413,  25,2,  -999.00,9,  -999.00,   -999.0,9,   -999.0,   6.7578,  26.9979
  49NZ20090521,   P21,   185,  1,     26, X12008,2,20090529,1913,-17.4972,-163.0055, 4830,    669.5,2,   5.9573,2,   5.95750,2,  34.4117,2,  34.4115,2,   166.43,2,   166.43,2,    27.77,2,     0.18,    30.51,2,     0.12,     0.01,2,     0.01,    2.164,2,    0.015,    0.331,2,    0.173,2,    0.013,2,   2199.0,6,   2298.9,2,   7.6241,  25,2,  -999.00,9,  -999.00,   -999.0,9,   -999.0,   5.8983,  27.1006
  49NZ20090521,   P21,   185,  1,     25, X12007,2,20090529,1913,-17.4972,-163.0055, 4830,    771.0,2,   4.9495,2,   4.94973,2,  34.4130,2,  34.4130,2,   164.55,2,   164.58,2,    39.62,2,     0.21,    32.34,2,     0.12,     0.01,2,     0.01,    2.285,2,    0.016,    0.153,2,    0.081,2,    0.000,2,   2215.8,2,   2309.9,6,   7.6064,  25,2,  -999.00,9,  -999.00,   -999.0,9,   -999.0,   4.8870,  27.2228
  49NZ20090521,   P21,   185,  1,     24, X12035,2,20090529,1913,-17.4972,-163.0055, 4830,    870.5,2,   4.3233,2,   4.32336,2,  34.4449,2,  34.4449,2,   157.43,2,   157.41,2,    52.54,2,     0.23,    33.86,2,     0.13,     0.01,2,     0.01,    2.391,2,    0.016,    0.065,2,    0.035,2,    0.000,2,   2235.1,2,   2323.5,2,   7.5903,  25,6,  -999.00,9,  -999.00,   -999.0,9,   -999.0,   4.2562,  27.3177
  49NZ20090521,   P21,   185,  1,     23, X12038,2,20090529,1913,-17.4972,-163.0055, 4830,    969.5,2,   3.8581,2,   3.85844,2,  34.4809,2,  34.4806,6,   152.02,2,   152.11,2,    64.09,2,     0.26,    34.71,2,     0.13,     0.01,2,     0.01,    2.457,2,    0.016,    0.028,2,    0.015,2,    0.000,2,   2250.6,2,   2336.0,2,   7.5809,  25,2,  -999.00,9,  -999.00,   -999.0,9,   -999.0,   3.7861,  27.3951
  49NZ20090521,   P21,   185,  1,     22, X12034,2,20090529,1913,-17.4972,-163.0055, 4830,   1131.4,2,   3.3651,2,   3.36512,2,  34.5254,2,  34.5255,2,   146.19,2,   146.30,2,    78.10,2,     0.29,    35.59,2,     0.13,     0.01,2,     0.01,    2.516,2,    0.016,    0.008,2,    0.003,2,    0.000,2,   2268.8,2,   2350.3,2,   7.5719,  25,2,  -999.00,9,  -999.00,   -999.0,9,   -999.0,   3.2839,  27.4797
  49NZ20090521,   P21,   185,  1,     21, X12033,9,20090529,1913,-17.4972,-163.0055, 4830,   1332.2,2,   2.9742,2,   2.97403,2,  34.5565,2,-999.0000,9,   146.06,2,  -999.00,9,  -999.00,9,  -999.00,  -999.00,9,  -999.00,  -999.00,9,  -999.00, -999.000,9, -999.000, -999.000,9, -999.000,9, -999.000,9,   -999.0,9,   -999.0,9,-999.0000,-999,9,  -999.00,9,  -999.00,   -999.0,9,   -999.0,   2.8805,  27.5419
  49NZ20090521,   P21,   185,  1,     20, X12032,2,20090529,1913,-17.4972,-163.0055, 4830,   1529.6,2,   2.6959,2,   2.69574,2,  34.5838,2,  34.5841,2,   145.48,2,   145.49,2,    97.25,2,     0.33,    35.91,2,     0.13,     0.01,2,     0.01,    2.545,2,    0.016,    0.000,2,    0.000,2,    0.000,2,   2288.0,2,   2372.2,2,   7.5725,  25,6,  -999.00,9,  -999.00,   -999.0,9,   -999.0,   2.5891,  27.5895
  49NZ20090521,   P21,   185,  1,     19, X12046,2,20090529,1913,-17.4972,-163.0055, 4830,   1728.9,2,   2.4577,2,   2.45761,2,  34.6075,2,  34.6076,2,   145.33,2,   145.42,2,   105.04,2,     0.35,    36.06,2,     0.13,     0.01,2,     0.01,    2.548,2,    0.016,    0.000,2,    0.000,2,    0.000,2,   2295.9,2,   2383.2,2,   7.5739,  25,2,  -999.00,9,  -999.00,   -999.0,9,   -999.0,   2.3374,  27.6298
  49NZ20090521,   P21,   185,  1,     18, X12006,2,20090529,1913,-17.4972,-163.0055, 4830,   1930.4,2,   2.2658,2,   2.26575,2,  34.6244,2,  34.6249,2,   146.45,2,   146.46,2,   110.82,2,     0.36,    36.07,2,     0.13,     0.01,2,     0.01,    2.545,2,    0.016,    0.000,2,    0.000,2,    0.000,2,   2300.6,2,   2387.8,2,   7.5762,  25,2,  -999.00,9,  -999.00,   -999.0,9,   -999.0,   2.1313,  27.6603
  49NZ20090521,   P21,   185,  1,     17, X12047,2,20090529,1913,-17.4972,-163.0055, 4830,   2131.6,2,   2.1207,2,   2.12071,2,  34.6371,2,  34.6373,2,   148.07,2,   148.11,2,   114.85,2,     0.37,    35.93,2,     0.13,     0.01,2,     0.01,    2.545,2,    0.016,    0.000,2,    0.000,2,    0.000,2,   2302.7,2,   2393.4,2,   7.5790,  25,2,  -999.00,9,  -999.00,   -999.0,9,   -999.0,   1.9711,  27.6832
  49NZ20090521,   P21,   185,  1,     16, X12004,2,20090529,1913,-17.4972,-163.0055, 4830,   2332.4,2,   2.0068,2,   2.00682,2,  34.6470,2,  34.6473,2,   149.38,2,   149.38,2,   118.01,2,     0.38,    35.95,2,     0.13,     0.01,2,     0.01,    2.535,2,    0.016,    0.000,2,    0.000,2,    0.000,2,   2306.5,6,   2397.1,2,   7.5813,  25,2,  -999.00,9,  -999.00,   -999.0,9,   -999.0,   1.8415,  27.7012
  49NZ20090521,   P21,   185,  1,     15, X12003,2,20090529,1913,-17.4972,-163.0055, 4830,   2530.2,2,   1.9041,2,   1.90402,2,  34.6560,2,  34.6564,2,   151.27,2,   151.16,2,   121.13,2,     0.39,    35.71,2,     0.13,     0.01,2,     0.01,    2.528,2,    0.016,    0.000,2,    0.000,2,    0.000,2,   2308.2,2,   2398.6,2,   7.5843,  25,2,  -999.00,9,  -999.00,   -999.0,9,   -999.0,   1.7228,  27.7176
  49NZ20090521,   P21,   185,  1,     14, X12002,2,20090529,1913,-17.4972,-163.0055, 4830,   2729.3,2,   1.8166,2,   1.81645,2,  34.6634,2,  34.6636,2,   153.91,2,   153.90,2,   122.53,2,     0.39,    35.51,2,     0.13,     0.01,2,     0.01,    2.497,2,    0.016,    0.000,2,    0.000,2,    0.000,2,   2310.0,2,   2399.7,2,   7.5875,  25,6,  -999.00,9,  -999.00,   -999.0,9,   -999.0,   1.6187,  27.7313
  49NZ20090521,   P21,   185,  1,     13, X12001,2,20090529,1913,-17.4972,-163.0055, 4830,   2930.3,2,   1.7468,2,   1.74677,2,  34.6694,2,  34.6694,2,   156.20,2,   156.18,2,   124.39,2,     0.39,    35.47,2,     0.13,     0.01,2,     0.01,    2.503,2,    0.016,    0.000,2,    0.000,2,    0.000,2,   2309.9,2,   2402.1,2,   7.5900,  25,2,  -999.00,9,  -999.00,   -999.0,9,   -999.0,   1.5313,  27.7426
  49NZ20090521,   P21,   185,  1,     12, X12030,2,20090529,1913,-17.4972,-163.0055, 4830,   3169.1,2,   1.6782,2,   1.67813,2,  34.6752,2,  34.6750,2,   157.92,2,   157.96,2,   126.42,2,     0.40,    35.41,2,     0.13,     0.01,2,     0.01,    2.495,2,    0.016,    0.000,2,    0.000,2,    0.000,2,   2308.5,2,   2403.2,2,   7.5926,  25,2,  -999.00,9,  -999.00,   -999.0,9,   -999.0,   1.4410,  27.7538
  49NZ20090521,   P21,   185,  1,     11, X12044,2,20090529,1913,-17.4972,-163.0055, 4830,   3421.1,2,   1.6186,2,   1.61859,2,  34.6803,2,  34.6801,2,   162.95,2,   163.04,2,   125.56,2,     0.40,    35.09,2,     0.13,     0.01,2,     0.01,    2.467,2,    0.016,    0.000,2,    0.000,2,    0.000,2,   2305.2,2,   2402.2,2,   7.5968,  25,2,  -999.00,9,  -999.00,   -999.0,9,   -999.0,   1.3576,  27.7639
  49NZ20090521,   P21,   185,  1,     10, X12048,2,20090529,1913,-17.4972,-163.0055, 4830,   3670.7,2,   1.5479,2,   1.54791,2,  34.6862,2,  34.6861,6,   168.00,2,   168.11,2,   125.10,2,     0.39,    34.69,2,     0.13,     0.01,2,     0.01,    2.441,2,    0.016,    0.000,2,    0.000,2,    0.000,2,   2300.8,2,   2397.1,2,   7.6006,  25,2,  -999.00,9,  -999.00,   -999.0,9,   -999.0,   1.2629,  27.7753
  49NZ20090521,   P21,   185,  1,      9, X12027,2,20090529,1913,-17.4972,-163.0055, 4830,   3921.1,2,   1.4471,2,   1.44711,2,  34.6959,2,  34.6958,2,   178.11,2,   178.19,2,   121.44,2,     0.39,    33.87,2,     0.13,     0.01,2,     0.01,    2.379,2,    0.016,    0.002,2,    0.000,2,    0.000,2,   2287.9,2,   2388.0,2,   7.6062,  25,2,  -999.00,9,  -999.00,   -999.0,9,   -999.0,   1.1381,  27.7917
  49NZ20090521,   P21,   185,  1,      8, X12026,2,20090529,1913,-17.4972,-163.0055, 4830,   4170.2,2,   1.3187,2,   1.31872,2,  34.7060,2,  34.7059,2,   190.78,2,   191.01,2,   116.76,2,     0.38,    33.01,2,     0.13,     0.01,2,     0.01,    2.310,2,    0.016,    0.007,2,    0.003,2,    0.000,2,   2273.1,6,   2378.1,2,   7.6143,  25,2,  -999.00,9,  -999.00,   -999.0,9,   -999.0,   0.9862,  27.8101
  49NZ20090521,   P21,   185,  1,      7, X12025,2,20090529,1913,-17.4972,-163.0055, 4830,   4419.2,2,   1.1956,2,   1.19550,2,  34.7080,2,  34.7082,2,   198.04,2,   198.19,2,   116.36,2,     0.37,    32.51,2,     0.12,     0.01,2,     0.01,    2.277,2,    0.016,    0.007,2,    0.003,2,    0.000,2,   2267.4,2,   2371.6,6,   7.6174,  25,2,  -999.00,9,  -999.00,   -999.0,9,   -999.0,   0.8391,  27.8213
  49NZ20090521,   P21,   185,  1,      6, X12024,2,20090529,1913,-17.4972,-163.0055, 4830,   4671.2,2,   1.1081,2,   1.10800,2,  34.7086,2,  34.7089,2,   202.92,2,   203.06,2,   116.77,2,     0.38,    32.36,2,     0.12,     0.01,2,     0.01,    2.264,2,    0.016,    0.015,2,    0.005,2,    0.000,2,   2262.5,2,   2371.2,2,   7.6192,  25,6,  -999.00,9,  -999.00,   -999.0,9,   -999.0,   0.7256,  27.8289
  49NZ20090521,   P21,   185,  1,      5, X12028,9,20090529,1913,-17.4972,-163.0055, 4830,      9.9,2,  28.0192,2,  28.01942,2,  35.4895,2,-999.0000,9,   197.51,2,  -999.00,9,  -999.00,9,  -999.00,  -999.00,9,  -999.00,  -999.00,9,  -999.00, -999.000,9, -999.000, -999.000,9, -999.000,9, -999.000,9,   -999.0,9,   -999.0,9,-999.0000,-999,9,  -999.00,9,  -999.00,   -999.0,9,   -999.0,  28.0169,  22.7573
  49NZ20090521,   P21,   185,  1,      4, X12022,9,20090529,1913,-17.4972,-163.0055, 4830,     50.1,2,  28.0154,2,  28.01508,2,  35.4882,2,-999.0000,9,   197.28,2,  -999.00,9,  -999.00,9,  -999.00,  -999.00,9,  -999.00,  -999.00,9,  -999.00, -999.000,9, -999.000, -999.000,9, -999.000,9, -999.000,9,   -999.0,9,   -999.0,9,-999.0000,-999,9,  -999.00,9,  -999.00,   -999.0,9,   -999.0,  28.0036,  22.7607
  49NZ20090521,   P21,   185,  1,      3, X12021,9,20090529,1913,-17.4972,-163.0055, 4830,    100.5,2,  26.2509,2,  26.25145,2,  36.0635,2,-999.0000,9,   212.28,2,  -999.00,9,  -999.00,9,  -999.00,  -999.00,9,  -999.00,  -999.00,9,  -999.00, -999.000,9, -999.000, -999.000,9, -999.000,9, -999.000,9,   -999.0,9,   -999.0,9,-999.0000,-999,9,  -999.00,9,  -999.00,   -999.0,9,   -999.0,  26.2282,  23.7643
  49NZ20090521,   P21,   185,  1,      2, X12020,2,20090529,1913,-17.4972,-163.0055, 4830,   1332.7,2,   2.9730,2,   2.97307,2,  34.5566,2,  34.5572,2,   146.08,2,   146.19,2,    88.24,2,     0.31,    35.81,2,     0.13,     0.01,2,     0.01,    2.531,2,    0.016,    0.003,2,    0.002,2,    0.000,2,   2278.8,2,   2362.7,2,   7.5718,  25,2,  -999.00,9,  -999.00,   -999.0,9,   -999.0,   2.8792,  27.5421
  49NZ20090521,   P21,   185,  1,      1, X12019,2,20090529,1913,-17.4972,-163.0055, 4830,   4896.8,2,   1.1048,2,   1.10464,2,  34.7083,2,  34.7089,6,   204.02,2,   204.28,2,   117.16,2,     0.38,    32.33,2,     0.12,     0.01,2,     0.01,    2.264,2,    0.016,    0.008,2,    0.004,2,    0.000,2,   2262.4,2,   2368.9,2,   7.6206,  25,2,  -999.00,9,  -999.00,   -999.0,9,   -999.0,   0.6961,  27.8306