BOTTLE,20111109CCHDOSIOCBG
EXPOCODE,SECT_ID,STNNBR,CASTNO,SAMPNO,BTLNBR,BTLNBR_FLAG_W,DATE,TIME,LATITUDE,LONGITUDE,DEPTH,CTDPRS,CTDPRS_FLAG_W,CTDTMP,CTDTMP_FLAG_W,SBE35,SBE35_FLAG_W,CTDSAL,CTDSAL_FLAG_W,SALNTY,SALNTY_FLAG_W,CTDOXY,CTDOXY_FLAG_W,OXYGEN,OXYGEN_FLAG_W,SILCAT,SILCAT_FLAG_W,SILUNC,NITRAT,NITRAT_FLAG_W,NRAUNC,NITRIT,NITRIT_FLAG_W,NRIUNC,PHSPHT,PHSPHT_FLAG_W,PHPUNC,CFC-11,CFC-11_FLAG_W,CFC-12,CFC-12_FLAG_W,CFC113,CFC113_FLAG_W,TCARBN,TCARBN_FLAG_W,ALKALI,ALKALI_FLAG_W,PH_TOT,PH_TMP,PH_TOT_FLAG_W,DELC13,DELC13_FLAG_W,C13ERR,DELC14,DELC14_FLAG_W,C14ERR,THETA,SIG0
,,,,,,,,,,,METERS,DBAR,,ITS-90,,ITS-90,,PSS-78,,PSS-78,,UMOL/KG,,UMOL/KG,,UMOL/KG,,UMOL/KG,UMOL/KG,,UMOL/KG,UMOL/KG,,UMOL/KG,UMOL/KG,,UMOL/KG,PMOL/KG,,PMOL/KG,,PMOL/KG,,UMOL/KG,,UMOL/KG,,,DEG C,,/MILLE,,/MILLE,/MILLE,,/MILLE,DEG C,KG/M^3
  49NZ20090521,   P21,   220,  1,      0,   -999,9,20090606,0701,-18.7490, 178.0635, 2150,   -999.0,9,-999.0000,9,-999.00000,9,-999.0000,9,  34.8325,2,  -999.00,9,  -999.00,9,  -999.00,9,  -999.00,  -999.00,9,  -999.00,  -999.00,9,  -999.00, -999.000,9, -999.000, -999.000,9, -999.000,9, -999.000,9,   -999.0,9,   -999.0,9,-999.0000,-999,9,  -999.00,9,  -999.00,   -999.0,9,   -999.0,-999.0000,-999.0000
  49NZ20090521,   P21,   220,  1,     36, X12043,2,20090606,0701,-18.7490, 178.0635, 2150,     10.3,2,  26.3099,2,  26.31000,2,  34.8203,2,  34.8188,2,   201.95,2,   202.02,2,     0.98,2,     0.12,     0.09,2,     0.03,     0.01,2,     0.01,    0.054,2,    0.033,    1.518,2,    0.933,2, -999.000,5,   1938.9,2,   2280.1,2,   8.1225,  25,2,  -999.00,1,  -999.00,   -999.0,1,   -999.0,  26.3076,  22.8016
  49NZ20090521,   P21,   220,  1,     35, X12042,2,20090606,0701,-18.7490, 178.0635, 2150,     50.3,2,  26.2870,2,  26.28679,2,  34.8445,2,  34.8491,2,   201.42,2,   201.57,2,     0.92,2,     0.12,     0.07,2,     0.03,     0.01,2,     0.01,    0.057,2,    0.031,    1.531,2,    0.959,2, -999.000,5,   1940.1,6,   2280.5,2,   8.1212,  25,2,  -999.00,1,  -999.00,   -999.0,1,   -999.0,  26.2757,  22.8298
  49NZ20090521,   P21,   220,  1,     34, X12016,2,20090606,0701,-18.7490, 178.0635, 2150,    100.3,2,  24.8689,2,  24.86939,2,  35.3324,2,  35.3437,2,   179.52,2,   178.89,2,     0.71,2,     0.12,     1.45,2,     0.04,     0.06,2,     0.01,    0.230,2,    0.015,    1.703,6,    1.038,6, -999.000,5,   2005.7,2,   2317.7,6,   8.0608,  25,2,  -999.00,1,  -999.00,   -999.0,1,   -999.0,  24.8472,  23.6389
  49NZ20090521,   P21,   220,  1,     33, X12015,2,20090606,0701,-18.7490, 178.0635, 2150,    150.6,2,  23.1734,2,  23.18029,2,  35.7183,2,  35.7165,2,   161.83,2,   161.74,2,     1.00,2,     0.12,     3.29,2,     0.04,     0.02,2,     0.01,    0.391,2,    0.013,    1.846,2,    1.105,2,    0.098,2,   2058.8,2,   2343.0,2,   8.0082,  25,6,  -999.00,1,  -999.00,   -999.0,1,   -999.0,  23.1424,  24.4372
  49NZ20090521,   P21,   220,  1,     32, X12050,2,20090606,0701,-18.7490, 178.0635, 2150,    199.7,2,  21.8181,2,  21.82293,2,  35.7858,2,  35.7792,2,   161.13,2,   161.54,2,     0.98,2,     0.12,     4.15,2,     0.04,     0.02,2,     0.01,    0.458,2,    0.013,    1.972,2,    1.159,2,    0.063,2,   2079.3,2,   2348.6,2,   7.9791,  25,2,  -999.00,1,  -999.00,   -999.0,1,   -999.0,  21.7787,  24.8771
  49NZ20090521,   P21,   220,  1,     31, X12014,2,20090606,0701,-18.7490, 178.0635, 2150,    250.9,2,  20.0391,2,  20.04607,2,  35.6465,2,  35.6518,6,   166.00,2,   165.51,2,     1.29,2,     0.12,     5.01,2,     0.05,     0.02,2,     0.01,    0.503,2,    0.013,    2.085,2,    1.200,2,    0.033,2,   2084.5,2,   2340.5,2,   7.9562,  25,2,  -999.00,1,  -999.00,   -999.0,1,   -999.0,  19.9924,  25.2570
  49NZ20090521,   P21,   220,  1,     30, X12012,2,20090606,0701,-18.7490, 178.0635, 2150,    280.6,2,  18.6277,2,  18.62905,2,  35.5196,2,  35.5135,2,   171.26,2,   171.54,2,     1.44,2,     0.12,     5.83,2,     0.05,     0.02,2,     0.01,    0.554,2,    0.013,    2.175,2,    1.227,2,    0.035,2,   2089.6,2,   2332.5,2,   7.9344,  25,2,  -999.00,1,  -999.00,   -999.0,1,   -999.0,  18.5781,  25.5256
  49NZ20090521,   P21,   220,  1,     29, X12041,2,20090606,0701,-18.7490, 178.0635, 2150,    369.9,2,  14.9021,2,  14.91909,2,  35.1598,2,  35.1579,2,   178.23,2,   178.57,2,     3.23,2,     0.13,    10.01,2,     0.06,     0.01,2,     0.01,    0.825,2,    0.013,    2.234,6,    1.197,6,    0.033,6,   2107.6,2,   2312.1,2,   7.8643,  25,2,  -999.00,1,  -999.00,   -999.0,1,   -999.0,  14.8460,  26.1290
  49NZ20090521,   P21,   220,  1,     28, X12040,2,20090606,0701,-18.7490, 178.0635, 2150,    470.5,2,  10.3299,2,  10.31953,2,  34.6912,2,  34.6964,6,   182.40,2,   182.29,2,     7.73,2,     0.14,    18.45,2,     0.08,     0.01,2,     0.01,    1.371,2,    0.014,    1.901,2,    0.961,2,    0.038,2,   2140.1,2,   2292.7,2,   7.7560,  25,2,  -999.00,1,  -999.00,   -999.0,1,   -999.0,  10.2736,  26.6637
  49NZ20090521,   P21,   220,  1,     27, X12009,2,20090606,0701,-18.7490, 178.0635, 2150,    570.3,2,   7.8402,2,   7.83805,2,  34.4810,2,  34.4802,2,   197.79,2,   197.75,2,    11.53,2,     0.14,    23.24,2,     0.10,     0.01,2,     0.01,    1.663,2,    0.014,    1.657,6,    0.809,6,    0.037,6,   2154.7,2,   2286.4,2,   7.7091,  25,2,  -999.00,1,  -999.00,   -999.0,1,   -999.0,   7.7822,  26.8984
  49NZ20090521,   P21,   220,  1,     26, X12008,2,20090606,0701,-18.7490, 178.0635, 2150,    670.0,2,   6.4576,2,   6.45796,2,  34.4020,2,  34.4019,2,   197.55,2,   197.67,2,    18.27,2,     0.16,    26.65,2,     0.11,     0.01,2,     0.01,    1.875,2,    0.015,    1.112,2,    0.541,2,    0.023,2,   2170.3,6,   2289.5,2,   7.6777,  25,2,  -999.00,1,  -999.00,   -999.0,1,   -999.0,   6.3961,  27.0290
  49NZ20090521,   P21,   220,  1,     25, X12007,2,20090606,0701,-18.7490, 178.0635, 2150,    770.0,2,   5.6531,2,   5.65221,2,  34.3926,2,  34.3930,2,   187.69,2,   187.54,2,    27.53,2,     0.18,    29.25,2,     0.11,     0.01,2,     0.01,    2.054,2,    0.015,    0.645,2,    0.313,2,    0.007,2,   2188.3,2,   2297.6,6,   7.6498,  25,2,  -999.00,1,  -999.00,   -999.0,1,   -999.0,   5.5865,  27.1241
  49NZ20090521,   P21,   220,  1,     24, X12035,2,20090606,0701,-18.7490, 178.0635, 2150,    870.1,2,   4.8464,2,   4.84660,2,  34.4139,2,  34.4138,2,   176.90,2,   176.83,2,    40.56,2,     0.21,    31.42,2,     0.12,     0.01,2,     0.01,    2.204,2,    0.016,    0.335,2,    0.165,2,    0.000,2,   2210.1,2,   2311.8,2,   7.6250,  25,6,  -999.00,1,  -999.00,   -999.0,1,   -999.0,   4.7759,  27.2361
  49NZ20090521,   P21,   220,  1,     23, X12038,2,20090606,0701,-18.7490, 178.0635, 2150,    968.5,2,   4.3376,2,   4.33922,2,  34.4376,2,  34.4373,6,   169.65,2,   170.06,2,    50.57,2,     0.23,    32.67,2,     0.12,     0.01,2,     0.01,    2.297,2,    0.016,    0.188,2,    0.095,2,    0.000,2,   2224.8,2,   2322.2,2,   7.6107,  25,2,  -999.00,1,  -999.00,   -999.0,1,   -999.0,   4.2621,  27.3112
  49NZ20090521,   P21,   220,  1,     22, X12034,2,20090606,0701,-18.7490, 178.0635, 2150,   1129.4,2,   3.6941,2,   3.69261,2,  34.4911,2,  34.4906,2,   157.24,2,   157.69,2,    68.03,2,     0.27,    34.25,2,     0.13,     0.01,2,     0.01,    2.413,2,    0.016,    0.052,2,    0.028,2,    0.000,2,   2250.1,2,   2340.9,2,   7.5908,  25,2,  -999.00,1,  -999.00,   -999.0,1,   -999.0,   3.6102,  27.4208
  49NZ20090521,   P21,   220,  1,     21, X12033,2,20090606,0701,-18.7490, 178.0635, 2150,   1330.1,2,   3.1627,2,   3.16275,2,  34.5449,2,  34.5451,6,   150.41,2,   150.55,2,    85.39,2,     0.31,    35.12,2,     0.13,     0.01,2,     0.01,    2.482,2,    0.016,    0.014,2,    0.010,2,    0.000,2,   2272.3,2,   2360.7,2,   7.5822,  25,2,  -999.00,1,  -999.00,   -999.0,1,   -999.0,   3.0672,  27.5156
  49NZ20090521,   P21,   220,  1,     20, X12032,2,20090606,0701,-18.7490, 178.0635, 2150,   1530.4,2,   2.8271,2,   2.82706,2,  34.5782,2,  34.5786,2,   147.86,2,   147.82,2,    95.71,2,     0.33,    35.51,2,     0.13,     0.01,2,     0.01,    2.509,2,    0.016,    0.005,2,    0.003,2,    0.000,2,   2285.0,2,   2372.1,2,   7.5802,  25,6,  -999.00,1,  -999.00,   -999.0,1,   -999.0,   2.7187,  27.5737
  49NZ20090521,   P21,   220,  1,     19, X12046,2,20090606,0701,-18.7490, 178.0635, 2150,   1729.6,2,   2.5755,2,   2.57543,2,  34.6026,2,  34.6030,6,   147.60,2,   147.60,2,   103.36,2,     0.35,    35.60,2,     0.13,     0.01,2,     0.01,    2.513,2,    0.016,    0.001,2,    0.002,2,    0.000,2,   2292.8,2,   2380.5,2,   7.5805,  25,2,  -999.00,1,  -999.00,   -999.0,1,   -999.0,   2.4536,  27.6161
  49NZ20090521,   P21,   220,  1,     18, X12006,2,20090606,0701,-18.7490, 178.0635, 2150,   1930.9,2,   2.3428,2,   2.34267,2,  34.6250,2,  34.6252,2,   148.05,2,   147.97,2,   109.41,2,     0.36,    35.55,2,     0.13,     0.01,2,     0.01,    2.516,2,    0.016,    0.001,2,    0.002,2,    0.000,2,   2299.6,2,   2389.3,2,   7.5828,  25,2,  -999.00,1,  -999.00,   -999.0,1,   -999.0,   2.2071,  27.6546
  49NZ20090521,   P21,   220,  1,     17, X12047,9,20090606,0701,-18.7490, 178.0635, 2150,     50.3,2,  26.2852,2,  26.28539,2,  34.8445,2,-999.0000,9,   201.59,2,  -999.00,9,  -999.00,9,  -999.00,  -999.00,9,  -999.00,  -999.00,9,  -999.00, -999.000,9, -999.000, -999.000,9, -999.000,9, -999.000,9,   -999.0,9,   -999.0,9,-999.0000,-999,9,  -999.00,9,  -999.00,   -999.0,9,   -999.0,  26.2739,  22.8304
  49NZ20090521,   P21,   220,  1,     16, X12004,9,20090606,0701,-18.7490, 178.0635, 2150,    100.7,2,  24.8946,2,  24.89312,2,  35.3294,2,-999.0000,9,   179.50,2,  -999.00,9,  -999.00,9,  -999.00,  -999.00,9,  -999.00,  -999.00,9,  -999.00, -999.000,9, -999.000, -999.000,9, -999.000,9, -999.000,9,   -999.0,9,   -999.0,9,-999.0000,-999,9,  -999.00,9,  -999.00,   -999.0,9,   -999.0,  24.8728,  23.6288
  49NZ20090521,   P21,   220,  1,     15, X12003,9,20090606,0701,-18.7490, 178.0635, 2150,    150.5,2,  23.1853,2,  23.19780,2,  35.7167,2,-999.0000,9,   161.82,2,  -999.00,9,  -999.00,9,  -999.00,  -999.00,9,  -999.00,  -999.00,9,  -999.00, -999.000,9, -999.000, -999.000,9, -999.000,9, -999.000,9,   -999.0,9,   -999.0,9,-999.0000,-999,9,  -999.00,9,  -999.00,   -999.0,9,   -999.0,  23.1543,  24.4326
  49NZ20090521,   P21,   220,  1,     14, X12002,9,20090606,0701,-18.7490, 178.0635, 2150,    199.7,2,  21.8593,2,  21.85609,2,  35.7863,2,-999.0000,9,   160.98,2,  -999.00,9,  -999.00,9,  -999.00,  -999.00,9,  -999.00,  -999.00,9,  -999.00, -999.000,9, -999.000, -999.000,9, -999.000,9, -999.000,9,   -999.0,9,   -999.0,9,-999.0000,-999,9,  -999.00,9,  -999.00,   -999.0,9,   -999.0,  21.8198,  24.8660
  49NZ20090521,   P21,   220,  1,     13, X12001,9,20090606,0701,-18.7490, 178.0635, 2150,    251.0,2,  20.0253,2,  20.02629,2,  35.6452,2,-999.0000,9,   166.10,2,  -999.00,9,  -999.00,9,  -999.00,  -999.00,9,  -999.00,  -999.00,9,  -999.00, -999.000,9, -999.000, -999.000,9, -999.000,9, -999.000,9,   -999.0,9,   -999.0,9,-999.0000,-999,9,  -999.00,9,  -999.00,   -999.0,9,   -999.0,  19.9786,  25.2597
  49NZ20090521,   P21,   220,  1,     12, X12030,9,20090606,0701,-18.7490, 178.0635, 2150,    280.1,2,  18.6149,2,  18.62770,2,  35.5192,2,-999.0000,9,   171.53,2,  -999.00,9,  -999.00,9,  -999.00,  -999.00,9,  -999.00,  -999.00,9,  -999.00, -999.000,9, -999.000, -999.000,9, -999.000,9, -999.000,9,   -999.0,9,   -999.0,9,-999.0000,-999,9,  -999.00,9,  -999.00,   -999.0,9,   -999.0,  18.5654,  25.5285
  49NZ20090521,   P21,   220,  1,     11, X12044,9,20090606,0701,-18.7490, 178.0635, 2150,    369.9,2,  14.8965,2,  14.90469,2,  35.1599,2,-999.0000,9,   178.44,2,  -999.00,9,  -999.00,9,  -999.00,  -999.00,9,  -999.00,  -999.00,9,  -999.00, -999.000,9, -999.000, -999.000,9, -999.000,9, -999.000,9,   -999.0,9,   -999.0,9,-999.0000,-999,9,  -999.00,9,  -999.00,   -999.0,9,   -999.0,  14.8404,  26.1303
  49NZ20090521,   P21,   220,  1,     10, X12048,9,20090606,0701,-18.7490, 178.0635, 2150,    470.1,2,  10.4272,2,  10.38639,2,  34.6977,2,-999.0000,9,   181.98,2,  -999.00,9,  -999.00,9,  -999.00,  -999.00,9,  -999.00,  -999.00,9,  -999.00, -999.000,9, -999.000, -999.000,9, -999.000,9, -999.000,9,   -999.0,9,   -999.0,9,-999.0000,-999,9,  -999.00,9,  -999.00,   -999.0,9,   -999.0,  10.3706,  26.6519
  49NZ20090521,   P21,   220,  1,      9, X12027,9,20090606,0701,-18.7490, 178.0635, 2150,    569.9,2,   7.8268,2,   7.83003,2,  34.4806,2,-999.0000,9,   197.91,2,  -999.00,9,  -999.00,9,  -999.00,  -999.00,9,  -999.00,  -999.00,9,  -999.00, -999.000,9, -999.000, -999.000,9, -999.000,9, -999.000,9,   -999.0,9,   -999.0,9,-999.0000,-999,9,  -999.00,9,  -999.00,   -999.0,9,   -999.0,   7.7689,  26.9001
  49NZ20090521,   P21,   220,  1,      8, X12026,9,20090606,0701,-18.7490, 178.0635, 2150,    670.9,2,   6.4650,2,   6.46532,2,  34.4021,2,-999.0000,9,   198.01,2,  -999.00,9,  -999.00,9,  -999.00,  -999.00,9,  -999.00,  -999.00,9,  -999.00, -999.000,9, -999.000, -999.000,9, -999.000,9, -999.000,9,   -999.0,9,   -999.0,9,-999.0000,-999,9,  -999.00,9,  -999.00,   -999.0,9,   -999.0,   6.4033,  27.0281
  49NZ20090521,   P21,   220,  1,      7, X12025,9,20090606,0701,-18.7490, 178.0635, 2150,    770.6,2,   5.6525,2,   5.65048,2,  34.3929,2,-999.0000,9,   187.72,2,  -999.00,9,  -999.00,9,  -999.00,  -999.00,9,  -999.00,  -999.00,9,  -999.00, -999.000,9, -999.000, -999.000,9, -999.000,9, -999.000,9,   -999.0,9,   -999.0,9,-999.0000,-999,9,  -999.00,9,  -999.00,   -999.0,9,   -999.0,   5.5859,  27.1244
  49NZ20090521,   P21,   220,  1,      6, X12024,9,20090606,0701,-18.7490, 178.0635, 2150,    870.4,2,   4.8472,2,   4.84728,2,  34.4138,2,-999.0000,9,   176.89,2,  -999.00,9,  -999.00,9,  -999.00,  -999.00,9,  -999.00,  -999.00,9,  -999.00, -999.000,9, -999.000, -999.000,9, -999.000,9, -999.000,9,   -999.0,9,   -999.0,9,-999.0000,-999,9,  -999.00,9,  -999.00,   -999.0,9,   -999.0,   4.7766,  27.2360
  49NZ20090521,   P21,   220,  1,      5, X12028,9,20090606,0701,-18.7490, 178.0635, 2150,    968.6,2,   4.3307,2,   4.33674,2,  34.4382,2,-999.0000,9,   169.33,2,  -999.00,9,  -999.00,9,  -999.00,  -999.00,9,  -999.00,  -999.00,9,  -999.00, -999.000,9, -999.000, -999.000,9, -999.000,9, -999.000,9,   -999.0,9,   -999.0,9,-999.0000,-999,9,  -999.00,9,  -999.00,   -999.0,9,   -999.0,   4.2553,  27.3125
  49NZ20090521,   P21,   220,  1,      4, X12022,9,20090606,0701,-18.7490, 178.0635, 2150,   1129.3,2,   3.7020,2,   3.70116,2,  34.4909,2,-999.0000,9,   157.38,2,  -999.00,9,  -999.00,9,  -999.00,  -999.00,9,  -999.00,  -999.00,9,  -999.00, -999.000,9, -999.000, -999.000,9, -999.000,9, -999.000,9,   -999.0,9,   -999.0,9,-999.0000,-999,9,  -999.00,9,  -999.00,   -999.0,9,   -999.0,   3.6181,  27.4198
  49NZ20090521,   P21,   220,  1,      3, X12021,9,20090606,0701,-18.7490, 178.0635, 2150,   1330.3,2,   3.1614,2,   3.16157,2,  34.5452,2,-999.0000,9,   150.46,2,  -999.00,9,  -999.00,9,  -999.00,  -999.00,9,  -999.00,  -999.00,9,  -999.00, -999.000,9, -999.000, -999.000,9, -999.000,9, -999.000,9,   -999.0,9,   -999.0,9,-999.0000,-999,9,  -999.00,9,  -999.00,   -999.0,9,   -999.0,   3.0659,  27.5160
  49NZ20090521,   P21,   220,  1,      2, X12020,9,20090606,0701,-18.7490, 178.0635, 2150,   1330.4,2,   3.1612,2,   3.16125,2,  34.5452,2,-999.0000,9,   150.42,2,  -999.00,9,  -999.00,9,  -999.00,  -999.00,9,  -999.00,  -999.00,9,  -999.00, -999.000,9, -999.000, -999.000,9, -999.000,9, -999.000,9,   -999.0,9,   -999.0,9,-999.0000,-999,9,  -999.00,9,  -999.00,   -999.0,9,   -999.0,   3.0657,  27.5160
  49NZ20090521,   P21,   220,  1,      1, X12019,2,20090606,0701,-18.7490, 178.0635, 2150,   2157.4,2,   2.1959,2,   2.19577,2,  34.6404,2,  34.6406,6,   145.92,2,   145.83,2,   113.72,2,     0.37,    35.51,2,     0.13,     0.01,2,     0.01,    2.529,2,    0.016,    0.001,2,    0.000,2,    0.000,2,   2309.2,2,   2397.7,2,   7.5835,  25,2,  -999.00,1,  -999.00,   -999.0,1,   -999.0,   2.0429,  27.6801