BOTTLE,20111109CCHDOSIOCBG
EXPOCODE,SECT_ID,STNNBR,CASTNO,SAMPNO,BTLNBR,BTLNBR_FLAG_W,DATE,TIME,LATITUDE,LONGITUDE,DEPTH,CTDPRS,CTDPRS_FLAG_W,CTDTMP,CTDTMP_FLAG_W,SBE35,SBE35_FLAG_W,CTDSAL,CTDSAL_FLAG_W,SALNTY,SALNTY_FLAG_W,CTDOXY,CTDOXY_FLAG_W,OXYGEN,OXYGEN_FLAG_W,SILCAT,SILCAT_FLAG_W,SILUNC,NITRAT,NITRAT_FLAG_W,NRAUNC,NITRIT,NITRIT_FLAG_W,NRIUNC,PHSPHT,PHSPHT_FLAG_W,PHPUNC,CFC-11,CFC-11_FLAG_W,CFC-12,CFC-12_FLAG_W,CFC113,CFC113_FLAG_W,TCARBN,TCARBN_FLAG_W,ALKALI,ALKALI_FLAG_W,PH_TOT,PH_TMP,PH_TOT_FLAG_W,DELC13,DELC13_FLAG_W,C13ERR,DELC14,DELC14_FLAG_W,C14ERR,THETA,SIG0
,,,,,,,,,,,METERS,DBAR,,ITS-90,,ITS-90,,PSS-78,,PSS-78,,UMOL/KG,,UMOL/KG,,UMOL/KG,,UMOL/KG,UMOL/KG,,UMOL/KG,UMOL/KG,,UMOL/KG,UMOL/KG,,UMOL/KG,PMOL/KG,,PMOL/KG,,PMOL/KG,,UMOL/KG,,UMOL/KG,,,DEG C,,/MILLE,,/MILLE,/MILLE,,/MILLE,DEG C,KG/M^3
  49NZ20090521,   P21,   218,  1,      0,   -999,9,20090606,0330,-18.4155, 178.3327, 2017,   -999.0,9,-999.0000,9,-999.00000,9,-999.0000,9,  34.7223,2,  -999.00,9,  -999.00,9,  -999.00,9,  -999.00,  -999.00,9,  -999.00,  -999.00,9,  -999.00, -999.000,9, -999.000, -999.000,9, -999.000,9, -999.000,9,   -999.0,9,   -999.0,9,-999.0000,-999,9,  -999.00,9,  -999.00,   -999.0,9,   -999.0,-999.0000,-999.0000
  49NZ20090521,   P21,   218,  1,     36, X12043,2,20090606,0330,-18.4155, 178.3327, 2017,     10.8,2,  26.4016,2,  26.40372,2,  34.7114,2,  34.7114,2,   202.74,2,   202.77,2,     1.50,2,     0.12,     0.08,2,     0.03,     0.01,2,     0.01,    0.070,2,    0.027,    1.527,2,    0.957,2, -999.000,5,   1934.2,2,   2272.0,2,   8.1199,  25,6,  -999.00,9,  -999.00,   -999.0,9,   -999.0,  26.3992,  22.6907
  49NZ20090521,   P21,   218,  1,     35, X12042,2,20090606,0330,-18.4155, 178.3327, 2017,     50.5,2,  26.3275,2,  26.32763,2,  34.7159,2,  34.7143,2,   201.43,2,   201.54,2,     1.43,2,     0.12,     0.08,2,     0.03,     0.01,2,     0.01,    0.060,2,    0.030,    1.526,2,    0.958,2, -999.000,5,   1935.0,6,   2272.0,2,   8.1189,  25,2,  -999.00,9,  -999.00,   -999.0,9,   -999.0,  26.3161,  22.7201
  49NZ20090521,   P21,   218,  1,     34, X12016,2,20090606,0330,-18.4155, 178.3327, 2017,    100.1,2,  25.5354,2,  25.53932,2,  35.2430,2,  35.2439,2,   183.09,2,   183.40,2,     0.74,2,     0.12,     0.98,2,     0.04,     0.09,2,     0.01,    0.198,2,    0.016,    1.674,6,    1.029,6, -999.000,5,   1994.1,2,   2311.4,6,   8.0740,  25,2,  -999.00,9,  -999.00,   -999.0,9,   -999.0,  25.5133,  23.3677
  49NZ20090521,   P21,   218,  1,     33, X12015,2,20090606,0330,-18.4155, 178.3327, 2017,    150.2,2,  23.8212,2,  23.84214,2,  35.6645,2,  35.6661,2,   166.19,2,   167.38,2,     0.77,2,     0.12,     2.49,2,     0.04,     0.03,2,     0.01,    0.348,2,    0.014,    1.800,2,    1.086,2,    0.142,2,   2044.8,2,   2340.7,2,   8.0274,  25,6,  -999.00,9,  -999.00,   -999.0,9,   -999.0,  23.7897,  24.2069
  49NZ20090521,   P21,   218,  1,     32, X12050,2,20090606,0330,-18.4155, 178.3327, 2017,    200.0,2,  21.9333,2,  21.93815,2,  35.7400,2,  35.7394,2,   164.68,2,   164.75,2,     0.81,2,     0.12,     3.45,2,     0.04,     0.02,2,     0.01,    0.415,2,    0.013,    1.973,2,    1.160,2,    0.089,2,   2071.9,2,   2345.2,2,   7.9909,  25,2,  -999.00,9,  -999.00,   -999.0,9,   -999.0,  21.8937,  24.8101
  49NZ20090521,   P21,   218,  1,     31, X12014,2,20090606,0330,-18.4155, 178.3327, 2017,    250.5,2,  19.7496,2,  19.74932,2,  35.6199,2,  35.6179,6,   166.15,2,   166.24,2,     1.28,2,     0.12,     5.29,2,     0.05,     0.02,2,     0.01,    0.539,2,    0.013,    2.131,2,    1.214,2,    0.067,2,   2088.2,2,   2338.7,2,   7.9483,  25,2,  -999.00,9,  -999.00,   -999.0,9,   -999.0,  19.7035,  25.3128
  49NZ20090521,   P21,   218,  1,     30, X12012,2,20090606,0330,-18.4155, 178.3327, 2017,    330.4,2,  16.4137,2,  16.41718,2,  35.3005,2,  35.2971,2,   173.60,2,   173.98,2,     2.59,2,     0.12,     8.31,2,     0.06,     0.01,2,     0.01,    0.727,2,    0.013,    2.235,2,    1.213,2,    0.050,2,   2103.2,2,   2319.9,2,   7.8917,  25,2,  -999.00,9,  -999.00,   -999.0,9,   -999.0,  16.3602,  25.8956
  49NZ20090521,   P21,   218,  1,     29, X12041,2,20090606,0330,-18.4155, 178.3327, 2017,    429.9,2,  11.4678,2,  11.46850,2,  34.8008,2,  34.7997,2,   180.43,2,   180.48,2,     6.40,2,     0.13,    16.23,2,     0.08,     0.01,2,     0.01,    1.249,2,    0.013,    2.030,6,    1.032,6,    0.040,6,   2134.0,2,   2296.6,2,   7.7815,  25,2,  -999.00,9,  -999.00,   -999.0,9,   -999.0,  11.4129,  26.5448
  49NZ20090521,   P21,   218,  1,     28, X12040,2,20090606,0330,-18.4155, 178.3327, 2017,    529.9,2,   8.3181,2,   8.31176,2,  34.5177,2,  34.5189,6,   191.56,2,   191.62,2,    11.08,2,     0.14,    22.50,2,     0.10,     0.01,2,     0.01,    1.634,2,    0.014,    1.678,2,    0.817,2,    0.028,2,   2154.7,2,   2287.7,2,   7.7133,  25,2,  -999.00,9,  -999.00,   -999.0,9,   -999.0,   8.2625,  26.8555
  49NZ20090521,   P21,   218,  1,     27, X12009,2,20090606,0330,-18.4155, 178.3327, 2017,    628.0,2,   6.7167,2,   6.71674,2,  34.4179,2,  34.4173,2,   194.29,2,   194.24,2,    17.62,2,     0.16,    26.17,2,     0.11,     0.01,2,     0.01,    1.863,2,    0.015,    1.152,6,    0.553,6,    0.019,6,   2170.5,2,   2289.5,2,   7.6791,  25,2,  -999.00,9,  -999.00,   -999.0,9,   -999.0,   6.6579,  27.0068
  49NZ20090521,   P21,   218,  1,     26, X12008,2,20090606,0330,-18.4155, 178.3327, 2017,    730.1,2,   5.7283,2,   5.72817,2,  34.3898,2,  34.3896,2,   188.89,2,   189.02,2,    26.06,2,     0.18,    28.93,2,     0.11,     0.01,2,     0.01,    2.048,2,    0.015,    0.691,2,    0.332,2,    0.027,2,   2187.1,6,   2296.2,2,   7.6525,  25,2,  -999.00,9,  -999.00,   -999.0,9,   -999.0,   5.6650,  27.1123
  49NZ20090521,   P21,   218,  1,     25, X12007,2,20090606,0330,-18.4155, 178.3327, 2017,    829.6,2,   5.0259,2,   5.02571,2,  34.3983,2,  34.3981,2,   181.81,2,   181.78,2,    35.74,2,     0.20,    30.77,2,     0.12,     0.01,2,     0.01,    2.172,2,    0.015,    0.404,2,    0.197,2,    0.003,2,   2203.2,2,   2305.8,6,   7.6329,  25,2,  -999.00,9,  -999.00,   -999.0,9,   -999.0,   4.9578,  27.2031
  49NZ20090521,   P21,   218,  1,     24, X12035,2,20090606,0330,-18.4155, 178.3327, 2017,    929.5,2,   4.5696,2,   4.56965,2,  34.4273,2,  34.4272,2,   172.81,2,   172.96,2,    46.25,2,     0.22,    32.05,2,     0.12,     0.01,2,     0.01,    2.265,2,    0.016,    0.256,2,    0.125,2,    0.000,2,   2219.0,2,   2317.7,2,   7.6168,  25,6,  -999.00,9,  -999.00,   -999.0,9,   -999.0,   4.4958,  27.2778
  49NZ20090521,   P21,   218,  1,     23, X12038,2,20090606,0330,-18.4155, 178.3327, 2017,   1070.1,2,   3.9239,2,   3.92397,2,  34.4697,2,  34.4699,6,   160.53,2,   160.70,2,    61.45,2,     0.25,    33.89,2,     0.13,     0.01,2,     0.01,    2.395,2,    0.016,    0.074,2,    0.035,2,    0.000,2,   2244.3,2,   2332.7,2,   7.5951,  25,2,  -999.00,9,  -999.00,   -999.0,9,   -999.0,   3.8431,  27.3804
  49NZ20090521,   P21,   218,  1,     22, X12034,2,20090606,0330,-18.4155, 178.3327, 2017,   1271.3,2,   3.4468,2,   3.44676,2,  34.5164,2,  34.5168,2,   154.24,2,   154.38,2,    76.20,2,     0.29,    34.62,2,     0.13,     0.01,2,     0.01,    2.452,2,    0.016,    0.037,2,    0.017,2,    0.000,2,   2262.5,2,   2349.8,2,   7.5874,  25,2,  -999.00,9,  -999.00,   -999.0,9,   -999.0,   3.3534,  27.4659
  49NZ20090521,   P21,   218,  1,     21, X12033,2,20090606,0330,-18.4155, 178.3327, 2017,   1469.5,2,   3.0175,2,   3.01818,2,  34.5597,2,  34.5598,6,   149.49,2,   149.49,2,    89.92,2,     0.32,    35.24,2,     0.13,     0.01,2,     0.01,    2.497,2,    0.016,    0.021,2,    0.006,2,    0.000,2,   2279.6,2,   2365.7,2,   7.5814,  25,2,  -999.00,9,  -999.00,   -999.0,9,   -999.0,   2.9120,  27.5416
  49NZ20090521,   P21,   218,  1,     20, X12032,2,20090606,0330,-18.4155, 178.3327, 2017,   1669.0,2,   2.7153,2,   2.71522,2,  34.5890,2,  34.5895,2,   147.32,2,   147.35,2,    99.39,2,     0.34,    35.55,2,     0.13,     0.01,2,     0.01,    2.518,2,    0.016,    0.008,2,    0.004,2,    0.000,2,   2290.9,2,   2376.2,2,   7.5793,  25,2,  -999.00,9,  -999.00,   -999.0,9,   -999.0,   2.5967,  27.5929
  49NZ20090521,   P21,   218,  1,     19, X12046,2,20090606,0330,-18.4155, 178.3327, 2017,   1869.6,2,   2.4374,2,   2.43740,2,  34.6159,2,  34.6162,2,   147.72,2,   147.65,2,   107.00,2,     0.35,    35.53,2,     0.13,     0.01,2,     0.01,    2.523,2,    0.016,    0.008,2,    0.002,2,    0.000,2,   2301.5,2,   2386.0,2,   7.5823,  25,2,  -999.00,9,  -999.00,   -999.0,9,   -999.0,   2.3056,  27.6392
  49NZ20090521,   P21,   218,  1,     18, X12006,9,20090606,0330,-18.4155, 178.3327, 2017,     10.6,2,  26.4053,2,  26.40560,2,  34.7122,2,-999.0000,9,   202.63,2,  -999.00,9,  -999.00,9,  -999.00,  -999.00,9,  -999.00,  -999.00,9,  -999.00, -999.000,9, -999.000, -999.000,9, -999.000,9, -999.000,9,   -999.0,9,   -999.0,9,-999.0000,-999,9,  -999.00,9,  -999.00,   -999.0,9,   -999.0,  26.4029,  22.6901
  49NZ20090521,   P21,   218,  1,     17, X12047,9,20090606,0330,-18.4155, 178.3327, 2017,     10.7,2,  26.4019,2,  26.40302,2,  34.7116,2,-999.0000,9,   202.74,2,  -999.00,9,  -999.00,9,  -999.00,  -999.00,9,  -999.00,  -999.00,9,  -999.00, -999.000,9, -999.000, -999.000,9, -999.000,9, -999.000,9,   -999.0,9,   -999.0,9,-999.0000,-999,9,  -999.00,9,  -999.00,   -999.0,9,   -999.0,  26.3995,  22.6908
  49NZ20090521,   P21,   218,  1,     16, X12004,9,20090606,0330,-18.4155, 178.3327, 2017,     50.6,2,  26.3291,2,  26.32914,2,  34.7170,2,-999.0000,9,   201.38,2,  -999.00,9,  -999.00,9,  -999.00,  -999.00,9,  -999.00,  -999.00,9,  -999.00, -999.000,9, -999.000, -999.000,9, -999.000,9, -999.000,9,   -999.0,9,   -999.0,9,-999.0000,-999,9,  -999.00,9,  -999.00,   -999.0,9,   -999.0,  26.3177,  22.7205
  49NZ20090521,   P21,   218,  1,     15, X12003,9,20090606,0330,-18.4155, 178.3327, 2017,    100.1,2,  25.5462,2,  25.54255,2,  35.2417,2,-999.0000,9,   183.20,2,  -999.00,9,  -999.00,9,  -999.00,  -999.00,9,  -999.00,  -999.00,9,  -999.00, -999.000,9, -999.000, -999.000,9, -999.000,9, -999.000,9,   -999.0,9,   -999.0,9,-999.0000,-999,9,  -999.00,9,  -999.00,   -999.0,9,   -999.0,  25.5241,  23.3633
  49NZ20090521,   P21,   218,  1,     14, X12002,9,20090606,0330,-18.4155, 178.3327, 2017,    150.4,2,  23.9032,2,  23.91009,2,  35.6821,2,-999.0000,9,   166.09,2,  -999.00,9,  -999.00,9,  -999.00,  -999.00,9,  -999.00,  -999.00,9,  -999.00, -999.000,9, -999.000, -999.000,9, -999.000,9, -999.000,9,   -999.0,9,   -999.0,9,-999.0000,-999,9,  -999.00,9,  -999.00,   -999.0,9,   -999.0,  23.8715,  24.1960
  49NZ20090521,   P21,   218,  1,     13, X12001,9,20090606,0330,-18.4155, 178.3327, 2017,    200.2,2,  21.9423,2,  21.94294,2,  35.7406,2,-999.0000,9,   164.71,2,  -999.00,9,  -999.00,9,  -999.00,  -999.00,9,  -999.00,  -999.00,9,  -999.00, -999.000,9, -999.000, -999.000,9, -999.000,9, -999.000,9,   -999.0,9,   -999.0,9,-999.0000,-999,9,  -999.00,9,  -999.00,   -999.0,9,   -999.0,  21.9026,  24.8081
  49NZ20090521,   P21,   218,  1,     12, X12030,9,20090606,0330,-18.4155, 178.3327, 2017,    250.7,2,  19.7356,2,  19.73530,2,  35.6185,2,-999.0000,9,   166.32,2,  -999.00,9,  -999.00,9,  -999.00,  -999.00,9,  -999.00,  -999.00,9,  -999.00, -999.000,9, -999.000, -999.000,9, -999.000,9, -999.000,9,   -999.0,9,   -999.0,9,-999.0000,-999,9,  -999.00,9,  -999.00,   -999.0,9,   -999.0,  19.6895,  25.3154
  49NZ20090521,   P21,   218,  1,     11, X12044,9,20090606,0330,-18.4155, 178.3327, 2017,    330.4,2,  16.3957,2,  16.39807,2,  35.2998,2,-999.0000,9,   173.65,2,  -999.00,9,  -999.00,9,  -999.00,  -999.00,9,  -999.00,  -999.00,9,  -999.00, -999.000,9, -999.000, -999.000,9, -999.000,9, -999.000,9,   -999.0,9,   -999.0,9,-999.0000,-999,9,  -999.00,9,  -999.00,   -999.0,9,   -999.0,  16.3422,  25.8993
  49NZ20090521,   P21,   218,  1,     10, X12048,9,20090606,0330,-18.4155, 178.3327, 2017,    429.6,2,  11.4706,2,  11.47131,2,  34.8015,2,-999.0000,9,   180.51,2,  -999.00,9,  -999.00,9,  -999.00,  -999.00,9,  -999.00,  -999.00,9,  -999.00, -999.000,9, -999.000, -999.000,9, -999.000,9, -999.000,9,   -999.0,9,   -999.0,9,-999.0000,-999,9,  -999.00,9,  -999.00,   -999.0,9,   -999.0,  11.4157,  26.5448
  49NZ20090521,   P21,   218,  1,      9, X12027,9,20090606,0330,-18.4155, 178.3327, 2017,    530.1,2,   8.3431,2,   8.34297,2,  34.5201,2,-999.0000,9,   191.58,2,  -999.00,9,  -999.00,9,  -999.00,  -999.00,9,  -999.00,  -999.00,9,  -999.00, -999.000,9, -999.000, -999.000,9, -999.000,9, -999.000,9,   -999.0,9,   -999.0,9,-999.0000,-999,9,  -999.00,9,  -999.00,   -999.0,9,   -999.0,   8.2873,  26.8536
  49NZ20090521,   P21,   218,  1,      8, X12026,9,20090606,0330,-18.4155, 178.3327, 2017,    628.0,2,   6.7111,2,   6.71185,2,  34.4176,2,-999.0000,9,   194.31,2,  -999.00,9,  -999.00,9,  -999.00,  -999.00,9,  -999.00,  -999.00,9,  -999.00, -999.000,9, -999.000, -999.000,9, -999.000,9, -999.000,9,   -999.0,9,   -999.0,9,-999.0000,-999,9,  -999.00,9,  -999.00,   -999.0,9,   -999.0,   6.6524,  27.0073
  49NZ20090521,   P21,   218,  1,      7, X12025,9,20090606,0330,-18.4155, 178.3327, 2017,    730.1,2,   5.7294,2,   5.72918,2,  34.3899,2,-999.0000,9,   188.96,2,  -999.00,9,  -999.00,9,  -999.00,  -999.00,9,  -999.00,  -999.00,9,  -999.00, -999.000,9, -999.000, -999.000,9, -999.000,9, -999.000,9,   -999.0,9,   -999.0,9,-999.0000,-999,9,  -999.00,9,  -999.00,   -999.0,9,   -999.0,   5.6661,  27.1122
  49NZ20090521,   P21,   218,  1,      6, X12024,9,20090606,0330,-18.4155, 178.3327, 2017,    829.7,2,   5.0312,2,   5.03114,2,  34.3982,2,-999.0000,9,   181.80,2,  -999.00,9,  -999.00,9,  -999.00,  -999.00,9,  -999.00,  -999.00,9,  -999.00, -999.000,9, -999.000, -999.000,9, -999.000,9, -999.000,9,   -999.0,9,   -999.0,9,-999.0000,-999,9,  -999.00,9,  -999.00,   -999.0,9,   -999.0,   4.9630,  27.2024
  49NZ20090521,   P21,   218,  1,      5, X12028,9,20090606,0330,-18.4155, 178.3327, 2017,    929.7,2,   4.5692,2,   4.56907,2,  34.4273,2,-999.0000,9,   172.86,2,  -999.00,9,  -999.00,9,  -999.00,  -999.00,9,  -999.00,  -999.00,9,  -999.00, -999.000,9, -999.000, -999.000,9, -999.000,9, -999.000,9,   -999.0,9,   -999.0,9,-999.0000,-999,9,  -999.00,9,  -999.00,   -999.0,9,   -999.0,   4.4954,  27.2778
  49NZ20090521,   P21,   218,  1,      4, X12022,9,20090606,0330,-18.4155, 178.3327, 2017,   1070.0,2,   3.9235,2,   3.92356,2,  34.4698,2,-999.0000,9,   160.53,2,  -999.00,9,  -999.00,9,  -999.00,  -999.00,9,  -999.00,  -999.00,9,  -999.00, -999.000,9, -999.000, -999.000,9, -999.000,9, -999.000,9,   -999.0,9,   -999.0,9,-999.0000,-999,9,  -999.00,9,  -999.00,   -999.0,9,   -999.0,   3.8427,  27.3805
  49NZ20090521,   P21,   218,  1,      3, X12021,9,20090606,0330,-18.4155, 178.3327, 2017,   1271.4,2,   3.4469,2,   3.44694,2,  34.5164,2,-999.0000,9,   154.30,2,  -999.00,9,  -999.00,9,  -999.00,  -999.00,9,  -999.00,  -999.00,9,  -999.00, -999.000,9, -999.000, -999.000,9, -999.000,9, -999.000,9,   -999.0,9,   -999.0,9,-999.0000,-999,9,  -999.00,9,  -999.00,   -999.0,9,   -999.0,   3.3535,  27.4660
  49NZ20090521,   P21,   218,  1,      2, X12020,9,20090606,0330,-18.4155, 178.3327, 2017,   1470.1,2,   3.0208,2,   3.02023,2,  34.5592,2,-999.0000,9,   149.52,2,  -999.00,9,  -999.00,9,  -999.00,  -999.00,9,  -999.00,  -999.00,9,  -999.00, -999.000,9, -999.000, -999.000,9, -999.000,9, -999.000,9,   -999.0,9,   -999.0,9,-999.0000,-999,9,  -999.00,9,  -999.00,   -999.0,9,   -999.0,   2.9153,  27.5409
  49NZ20090521,   P21,   218,  1,      1, X12019,2,20090606,0330,-18.4155, 178.3327, 2017,   2022.2,2,   2.2599,2,   2.25945,2,  34.6332,2,  34.6334,6,   147.73,2,   147.56,2,   111.65,2,     0.36,    35.54,2,     0.13,     0.01,2,     0.01,    2.525,2,    0.016,    0.006,2,    0.001,2,    0.000,2,   2305.0,2,   2393.0,2,   7.5838,  25,2,  -999.00,9,  -999.00,   -999.0,9,   -999.0,   2.1176,  27.6684