BOTTLE,20111109CCHDOSIOCBG
EXPOCODE,SECT_ID,STNNBR,CASTNO,SAMPNO,BTLNBR,BTLNBR_FLAG_W,DATE,TIME,LATITUDE,LONGITUDE,DEPTH,CTDPRS,CTDPRS_FLAG_W,CTDTMP,CTDTMP_FLAG_W,SBE35,SBE35_FLAG_W,CTDSAL,CTDSAL_FLAG_W,SALNTY,SALNTY_FLAG_W,CTDOXY,CTDOXY_FLAG_W,OXYGEN,OXYGEN_FLAG_W,SILCAT,SILCAT_FLAG_W,SILUNC,NITRAT,NITRAT_FLAG_W,NRAUNC,NITRIT,NITRIT_FLAG_W,NRIUNC,PHSPHT,PHSPHT_FLAG_W,PHPUNC,CFC-11,CFC-11_FLAG_W,CFC-12,CFC-12_FLAG_W,CFC113,CFC113_FLAG_W,TCARBN,TCARBN_FLAG_W,ALKALI,ALKALI_FLAG_W,PH_TOT,PH_TMP,PH_TOT_FLAG_W,DELC13,DELC13_FLAG_W,C13ERR,DELC14,DELC14_FLAG_W,C14ERR,THETA,SIG0
,,,,,,,,,,,METERS,DBAR,,ITS-90,,ITS-90,,PSS-78,,PSS-78,,UMOL/KG,,UMOL/KG,,UMOL/KG,,UMOL/KG,UMOL/KG,,UMOL/KG,UMOL/KG,,UMOL/KG,UMOL/KG,,UMOL/KG,PMOL/KG,,PMOL/KG,,PMOL/KG,,UMOL/KG,,UMOL/KG,,,DEG C,,/MILLE,,/MILLE,/MILLE,,/MILLE,DEG C,KG/M^3
  49NZ20090521,   P21,   224,  1,      0,   -999,9,20090606,2220,-17.8325, 176.9982, 1349,   -999.0,9,-999.0000,9,-999.00000,9,-999.0000,9,  34.8576,2,  -999.00,9,  -999.00,9,  -999.00,9,  -999.00,  -999.00,9,  -999.00,  -999.00,9,  -999.00, -999.000,9, -999.000, -999.000,9, -999.000,9, -999.000,9,   -999.0,9,   -999.0,9,-999.0000,-999,9,  -999.00,9,  -999.00,   -999.0,9,   -999.0,-999.0000,-999.0000
  49NZ20090521,   P21,   224,  1,     36, X12043,2,20090606,2220,-17.8325, 176.9982, 1349,     10.8,2,  27.2596,2,  27.26013,2,  34.8375,2,  34.8357,2,   197.44,2,   198.19,2,     0.39,2,     0.12,     0.07,2,     0.03,     0.01,2,     0.01,    0.077,2,    0.026,    1.463,2,    0.937,2, -999.000,5,   1936.2,2,   2279.6,2,   8.1236,  25,6,  -999.00,9,  -999.00,   -999.0,9,   -999.0,  27.2571,  22.5131
  49NZ20090521,   P21,   224,  1,     35, X12042,2,20090606,2220,-17.8325, 176.9982, 1349,     50.6,2,  27.2443,2,  27.24426,2,  34.8370,2,  34.8367,2,   197.12,2,   197.87,2,     0.35,2,     0.12,     0.06,2,     0.03,     0.01,2,     0.01,    0.075,2,    0.026,    1.466,2,    0.941,2, -999.000,5,   1935.6,6,   2278.6,2,   8.1238,  25,2,  -999.00,9,  -999.00,   -999.0,9,   -999.0,  27.2326,  22.5205
  49NZ20090521,   P21,   224,  1,     34, X12016,2,20090606,2220,-17.8325, 176.9982, 1349,    100.4,2,  26.0664,2,  26.06096,2,  35.3486,2,  35.3754,2,   182.11,2,   181.56,2,     0.70,2,     0.12,     0.38,2,     0.03,     0.18,2,     0.01,    0.212,2,    0.016,    1.641,6,    1.027,6, -999.000,5,   2003.9,2,   2322.1,6,   8.0716,  25,2,  -999.00,9,  -999.00,   -999.0,9,   -999.0,  26.0439,  23.2826
  49NZ20090521,   P21,   224,  1,     33, X12015,2,20090606,2220,-17.8325, 176.9982, 1349,    150.4,2,  23.9495,2,  23.94434,2,  35.7989,2,  35.8002,2,   158.46,2,   159.39,2,     0.84,2,     0.12,     3.01,2,     0.04,     0.03,2,     0.01,    0.412,2,    0.013,    1.773,2,    1.089,2,    0.091,2,   2061.0,2,   2350.6,2,   8.0133,  25,6,  -999.00,9,  -999.00,   -999.0,9,   -999.0,  23.9178,  24.2708
  49NZ20090521,   P21,   224,  1,     32, X12050,2,20090606,2220,-17.8325, 176.9982, 1349,    201.2,2,  21.5446,2,  21.54944,2,  35.7316,2,  35.7315,2,   157.63,2,   158.19,2,     1.02,2,     0.12,     4.75,2,     0.05,     0.02,2,     0.01,    0.485,2,    0.013,    1.953,2,    1.167,2,    0.037,2,   2080.4,2,   2344.3,2,   7.9726,  25,2,  -999.00,9,  -999.00,   -999.0,9,   -999.0,  21.5052,  24.9120
  49NZ20090521,   P21,   224,  1,     31, X12014,2,20090606,2220,-17.8325, 176.9982, 1349,    250.1,2,  19.4933,2,  19.49065,2,  35.6027,2,  35.6025,6,   162.33,2,   163.03,2,     1.57,2,     0.12,     6.03,2,     0.05,     0.02,2,     0.01,    0.571,2,    0.013,    2.071,2,    1.205,2,    0.030,2,   2093.0,2,   2337.2,2,   7.9394,  25,2,  -999.00,9,  -999.00,   -999.0,9,   -999.0,  19.4477,  25.3665
  49NZ20090521,   P21,   224,  1,     30, X12012,2,20090606,2220,-17.8325, 176.9982, 1349,    300.8,2,  17.2046,2,  17.20443,2,  35.3846,2,  35.3833,2,   167.13,2,   167.75,2,     2.40,2,     0.12,     8.08,2,     0.06,     0.02,2,     0.01,    0.708,2,    0.013,    2.123,2,    1.204,2,    0.019,2,   2103.8,2,   2324.4,2,   7.8992,  25,2,  -999.00,9,  -999.00,   -999.0,9,   -999.0,  17.1543,  25.7726
  49NZ20090521,   P21,   224,  1,     29, X12041,2,20090606,2220,-17.8325, 176.9982, 1349,    401.0,2,  13.0387,2,  13.04311,2,  34.9627,2,  34.9588,2,   177.28,2,   177.73,2,     4.92,2,     0.13,    13.62,2,     0.07,     0.01,2,     0.01,    1.064,2,    0.013,    2.081,6,    1.113,6,    0.028,6,   2126.3,2,   2303.3,2,   7.8165,  25,2,  -999.00,9,  -999.00,   -999.0,9,   -999.0,  12.9830,  26.3674
  49NZ20090521,   P21,   224,  1,     28, X12040,2,20090606,2220,-17.8325, 176.9982, 1349,    500.8,2,   9.1482,2,   9.15138,2,  34.6126,2,  34.6129,6,   196.52,2,   196.57,2,     8.19,2,     0.14,    20.24,2,     0.09,     0.01,2,     0.01,    1.461,2,    0.014,    1.991,2,    1.023,2,    0.042,2,   2146.6,2,   2289.4,2,   7.7412,  25,2,  -999.00,9,  -999.00,   -999.0,9,   -999.0,   9.0926,  26.7999
  49NZ20090521,   P21,   224,  1,     27, X12009,2,20090606,2220,-17.8325, 176.9982, 1349,    601.4,2,   6.8390,2,   6.83882,2,  34.4162,2,  34.4176,2,   204.91,2,   204.97,2,    14.03,2,     0.15,    25.25,2,     0.10,     0.01,2,     0.01,    1.773,2,    0.015,    1.394,6,    0.697,6,    0.035,6,   2161.9,2,   2286.3,2,   7.6963,  25,2,  -999.00,9,  -999.00,   -999.0,9,   -999.0,   6.7823,  26.9887
  49NZ20090521,   P21,   224,  1,     26, X12008,2,20090606,2220,-17.8325, 176.9982, 1349,    700.5,2,   5.7303,2,   5.72972,2,  34.3908,2,  34.3911,2,   189.75,2,   189.68,2,    25.66,2,     0.18,    29.04,2,     0.11,     0.01,2,     0.01,    2.027,2,    0.015,    0.663,2,    0.338,2,    0.009,2,   2186.5,6,   2294.9,2,   7.6542,  25,2,  -999.00,9,  -999.00,   -999.0,9,   -999.0,   5.6697,  27.1125
  49NZ20090521,   P21,   224,  1,     25, X12007,3,20090606,2220,-17.8325, 176.9982, 1349,    798.7,2,   4.9852,2,   4.98483,2,  34.4095,2,  34.4112,2,   175.50,2,   175.49,2,    38.32,2,     0.20,    31.44,2,     0.12,     0.01,2,     0.01,    2.208,2,    0.016,    0.313,2,    0.165,2,    0.000,2,   2211.6,2,   2308.1,6,   7.6242,  25,2,  -999.00,9,  -999.00,   -999.0,9,   -999.0,   4.9200,  27.2162
  49NZ20090521,   P21,   224,  1,     24, X12035,2,20090606,2220,-17.8325, 176.9982, 1349,    900.8,2,   4.3867,2,   4.38582,2,  34.4365,2,  34.4368,2,   166.25,2,   166.55,2,    49.84,2,     0.23,    32.97,2,     0.13,     0.01,2,     0.01,    2.319,2,    0.016,    0.150,2,    0.080,2,    0.000,2,   2228.8,2,   2320.1,2,   7.6051,  25,2,  -999.00,9,  -999.00,   -999.0,9,   -999.0,   4.3166,  27.3046
  49NZ20090521,   P21,   224,  1,     23, X12038,2,20090606,2220,-17.8325, 176.9982, 1349,   1000.8,2,   4.0595,2,   4.05923,2,  34.4624,2,  34.4631,6,   161.42,2,   160.92,2,    58.76,2,     0.25,    33.74,2,     0.13,     0.01,2,     0.01,    2.372,2,    0.016,    0.100,2,    0.056,2,    0.000,2,   2241.5,2,   2329.7,2,   7.5965,  25,2,  -999.00,9,  -999.00,   -999.0,9,   -999.0,   3.9834,  27.3602
  49NZ20090521,   P21,   224,  1,     22, X12034,2,20090606,2220,-17.8325, 176.9982, 1349,   1199.9,2,   3.3410,2,   3.34100,2,  34.5260,2,  34.5264,2,   152.35,2,   152.23,2,    79.63,2,     0.29,    34.95,2,     0.13,     0.01,2,     0.01,    2.463,2,    0.016,    0.033,2,    0.020,2,    0.000,2,   2268.0,2,   2353.4,2,   7.5834,  25,2,  -999.00,9,  -999.00,   -999.0,9,   -999.0,   3.2545,  27.4830
  49NZ20090521,   P21,   224,  1,     21, X12033,9,20090606,2220,-17.8325, 176.9982, 1349,     10.6,2,  27.2804,2,  27.28386,2,  34.8387,2,-999.0000,9,   197.57,2,  -999.00,9,  -999.00,9,  -999.00,  -999.00,9,  -999.00,  -999.00,9,  -999.00, -999.000,9, -999.000, -999.000,9, -999.000,9, -999.000,9,   -999.0,9,   -999.0,9,-999.0000,-999,9,  -999.00,9,  -999.00,   -999.0,9,   -999.0,  27.2780,  22.5073
  49NZ20090521,   P21,   224,  1,     20, X12032,9,20090606,2220,-17.8325, 176.9982, 1349,     10.7,2,  27.2909,2,  27.29098,2,  34.8391,2,-999.0000,9,   197.54,2,  -999.00,9,  -999.00,9,  -999.00,  -999.00,9,  -999.00,  -999.00,9,  -999.00, -999.000,9, -999.000, -999.000,9, -999.000,9, -999.000,9,   -999.0,9,   -999.0,9,-999.0000,-999,9,  -999.00,9,  -999.00,   -999.0,9,   -999.0,  27.2884,  22.5042
  49NZ20090521,   P21,   224,  1,     19, X12046,9,20090606,2220,-17.8325, 176.9982, 1349,     10.8,2,  27.2794,2,  27.27756,2,  34.8387,2,-999.0000,9,   197.54,2,  -999.00,9,  -999.00,9,  -999.00,  -999.00,9,  -999.00,  -999.00,9,  -999.00, -999.000,9, -999.000, -999.000,9, -999.000,9, -999.000,9,   -999.0,9,   -999.0,9,-999.0000,-999,9,  -999.00,9,  -999.00,   -999.0,9,   -999.0,  27.2769,  22.5076
  49NZ20090521,   P21,   224,  1,     18, X12006,9,20090606,2220,-17.8325, 176.9982, 1349,     10.8,2,  27.2660,2,  27.26400,2,  34.8375,2,-999.0000,9,   197.50,2,  -999.00,9,  -999.00,9,  -999.00,  -999.00,9,  -999.00,  -999.00,9,  -999.00, -999.000,9, -999.000, -999.000,9, -999.000,9, -999.000,9,   -999.0,9,   -999.0,9,-999.0000,-999,9,  -999.00,9,  -999.00,   -999.0,9,   -999.0,  27.2635,  22.5110
  49NZ20090521,   P21,   224,  1,     17, X12047,9,20090606,2220,-17.8325, 176.9982, 1349,     50.9,2,  27.2423,2,  27.24336,2,  34.8374,2,-999.0000,9,   197.20,2,  -999.00,9,  -999.00,9,  -999.00,  -999.00,9,  -999.00,  -999.00,9,  -999.00, -999.000,9, -999.000, -999.000,9, -999.000,9, -999.000,9,   -999.0,9,   -999.0,9,-999.0000,-999,9,  -999.00,9,  -999.00,   -999.0,9,   -999.0,  27.2306,  22.5215
  49NZ20090521,   P21,   224,  1,     16, X12004,9,20090606,2220,-17.8325, 176.9982, 1349,     50.7,2,  27.2447,2,  27.24443,2,  34.8374,2,-999.0000,9,   197.12,2,  -999.00,9,  -999.00,9,  -999.00,  -999.00,9,  -999.00,  -999.00,9,  -999.00, -999.000,9, -999.000, -999.000,9, -999.000,9, -999.000,9,   -999.0,9,   -999.0,9,-999.0000,-999,9,  -999.00,9,  -999.00,   -999.0,9,   -999.0,  27.2330,  22.5207
  49NZ20090521,   P21,   224,  1,     15, X12003,9,20090606,2220,-17.8325, 176.9982, 1349,     50.6,2,  27.2442,2,  27.24398,2,  34.8373,2,-999.0000,9,   197.00,2,  -999.00,9,  -999.00,9,  -999.00,  -999.00,9,  -999.00,  -999.00,9,  -999.00, -999.000,9, -999.000, -999.000,9, -999.000,9, -999.000,9,   -999.0,9,   -999.0,9,-999.0000,-999,9,  -999.00,9,  -999.00,   -999.0,9,   -999.0,  27.2325,  22.5208
  49NZ20090521,   P21,   224,  1,     14, X12002,9,20090606,2220,-17.8325, 176.9982, 1349,    100.4,2,  26.0167,2,  26.02761,2,  35.3546,2,-999.0000,9,   182.81,2,  -999.00,9,  -999.00,9,  -999.00,  -999.00,9,  -999.00,  -999.00,9,  -999.00, -999.000,9, -999.000, -999.000,9, -999.000,9, -999.000,9,   -999.0,9,   -999.0,9,-999.0000,-999,9,  -999.00,9,  -999.00,   -999.0,9,   -999.0,  25.9943,  23.3027
  49NZ20090521,   P21,   224,  1,     13, X12001,9,20090606,2220,-17.8325, 176.9982, 1349,    150.5,2,  23.9899,2,  23.98986,2,  35.7947,2,-999.0000,9,   159.13,2,  -999.00,9,  -999.00,9,  -999.00,  -999.00,9,  -999.00,  -999.00,9,  -999.00, -999.000,9, -999.000, -999.000,9, -999.000,9, -999.000,9,   -999.0,9,   -999.0,9,-999.0000,-999,9,  -999.00,9,  -999.00,   -999.0,9,   -999.0,  23.9581,  24.2556
  49NZ20090521,   P21,   224,  1,     12, X12030,9,20090606,2220,-17.8325, 176.9982, 1349,    201.2,2,  21.5377,2,  21.53807,2,  35.7315,2,-999.0000,9,   157.82,2,  -999.00,9,  -999.00,9,  -999.00,  -999.00,9,  -999.00,  -999.00,9,  -999.00, -999.000,9, -999.000, -999.000,9, -999.000,9, -999.000,9,   -999.0,9,   -999.0,9,-999.0000,-999,9,  -999.00,9,  -999.00,   -999.0,9,   -999.0,  21.4983,  24.9139
  49NZ20090521,   P21,   224,  1,     11, X12044,9,20090606,2220,-17.8325, 176.9982, 1349,    250.2,2,  19.4751,2,  19.48289,2,  35.6023,2,-999.0000,9,   162.75,2,  -999.00,9,  -999.00,9,  -999.00,  -999.00,9,  -999.00,  -999.00,9,  -999.00, -999.000,9, -999.000, -999.000,9, -999.000,9, -999.000,9,   -999.0,9,   -999.0,9,-999.0000,-999,9,  -999.00,9,  -999.00,   -999.0,9,   -999.0,  19.4295,  25.3708
  49NZ20090521,   P21,   224,  1,     10, X12048,9,20090606,2220,-17.8325, 176.9982, 1349,    300.7,2,  17.2036,2,  17.20298,2,  35.3846,2,-999.0000,9,   167.25,2,  -999.00,9,  -999.00,9,  -999.00,  -999.00,9,  -999.00,  -999.00,9,  -999.00, -999.000,9, -999.000, -999.000,9, -999.000,9, -999.000,9,   -999.0,9,   -999.0,9,-999.0000,-999,9,  -999.00,9,  -999.00,   -999.0,9,   -999.0,  17.1533,  25.7729
  49NZ20090521,   P21,   224,  1,      9, X12027,9,20090606,2220,-17.8325, 176.9982, 1349,    400.6,2,  13.0121,2,  13.02384,2,  34.9621,2,-999.0000,9,   177.46,2,  -999.00,9,  -999.00,9,  -999.00,  -999.00,9,  -999.00,  -999.00,9,  -999.00, -999.000,9, -999.000, -999.000,9, -999.000,9, -999.000,9,   -999.0,9,   -999.0,9,-999.0000,-999,9,  -999.00,9,  -999.00,   -999.0,9,   -999.0,  12.9566,  26.3723
  49NZ20090521,   P21,   224,  1,      8, X12026,9,20090606,2220,-17.8325, 176.9982, 1349,    499.5,2,   9.1542,2,   9.15641,2,  34.6135,2,-999.0000,9,   196.42,2,  -999.00,9,  -999.00,9,  -999.00,  -999.00,9,  -999.00,  -999.00,9,  -999.00, -999.000,9, -999.000, -999.000,9, -999.000,9, -999.000,9,   -999.0,9,   -999.0,9,-999.0000,-999,9,  -999.00,9,  -999.00,   -999.0,9,   -999.0,   9.0987,  26.7996
  49NZ20090521,   P21,   224,  1,      7, X12025,9,20090606,2220,-17.8325, 176.9982, 1349,    601.9,2,   6.8359,2,   6.83926,2,  34.4166,2,-999.0000,9,   204.65,2,  -999.00,9,  -999.00,9,  -999.00,  -999.00,9,  -999.00,  -999.00,9,  -999.00, -999.000,9, -999.000, -999.000,9, -999.000,9, -999.000,9,   -999.0,9,   -999.0,9,-999.0000,-999,9,  -999.00,9,  -999.00,   -999.0,9,   -999.0,   6.7792,  26.9894
  49NZ20090521,   P21,   224,  1,      6, X12024,9,20090606,2220,-17.8325, 176.9982, 1349,    699.1,2,   5.7314,2,   5.73109,2,  34.3910,2,-999.0000,9,   189.77,2,  -999.00,9,  -999.00,9,  -999.00,  -999.00,9,  -999.00,  -999.00,9,  -999.00, -999.000,9, -999.000, -999.000,9, -999.000,9, -999.000,9,   -999.0,9,   -999.0,9,-999.0000,-999,9,  -999.00,9,  -999.00,   -999.0,9,   -999.0,   5.6709,  27.1125
  49NZ20090521,   P21,   224,  1,      5, X12028,9,20090606,2220,-17.8325, 176.9982, 1349,    799.4,2,   4.9837,2,   4.98232,2,  34.4102,2,-999.0000,9,   175.56,2,  -999.00,9,  -999.00,9,  -999.00,  -999.00,9,  -999.00,  -999.00,9,  -999.00, -999.000,9, -999.000, -999.000,9, -999.000,9, -999.000,9,   -999.0,9,   -999.0,9,-999.0000,-999,9,  -999.00,9,  -999.00,   -999.0,9,   -999.0,   4.9185,  27.2170
  49NZ20090521,   P21,   224,  1,      4, X12022,9,20090606,2220,-17.8325, 176.9982, 1349,    900.7,2,   4.3853,2,   4.38569,2,  34.4368,2,-999.0000,9,   166.57,2,  -999.00,9,  -999.00,9,  -999.00,  -999.00,9,  -999.00,  -999.00,9,  -999.00, -999.000,9, -999.000, -999.000,9, -999.000,9, -999.000,9,   -999.0,9,   -999.0,9,-999.0000,-999,9,  -999.00,9,  -999.00,   -999.0,9,   -999.0,   4.3152,  27.3050
  49NZ20090521,   P21,   224,  1,      3, X12021,9,20090606,2220,-17.8325, 176.9982, 1349,   1001.2,2,   4.0626,2,   4.06208,2,  34.4622,2,-999.0000,9,   161.46,2,  -999.00,9,  -999.00,9,  -999.00,  -999.00,9,  -999.00,  -999.00,9,  -999.00, -999.000,9, -999.000, -999.000,9, -999.000,9, -999.000,9,   -999.0,9,   -999.0,9,-999.0000,-999,9,  -999.00,9,  -999.00,   -999.0,9,   -999.0,   3.9864,  27.3598
  49NZ20090521,   P21,   224,  1,      2, X12020,9,20090606,2220,-17.8325, 176.9982, 1349,   1200.1,2,   3.3421,2,   3.34363,2,  34.5259,2,-999.0000,9,   152.43,2,  -999.00,9,  -999.00,9,  -999.00,  -999.00,9,  -999.00,  -999.00,9,  -999.00, -999.000,9, -999.000, -999.000,9, -999.000,9, -999.000,9,   -999.0,9,   -999.0,9,-999.0000,-999,9,  -999.00,9,  -999.00,   -999.0,9,   -999.0,   3.2555,  27.4828
  49NZ20090521,   P21,   224,  1,      1, X12019,2,20090606,2220,-17.8325, 176.9982, 1349,   1354.7,2,   2.8606,2,   2.86111,2,  34.5724,2,  34.5724,6,   148.12,2,   147.82,2,    94.47,2,     0.33,    35.60,2,     0.13,     0.01,2,     0.01,    2.513,2,    0.016,    0.011,2,    0.009,2,    0.000,2,   2286.4,2,   2370.3,2,   7.5784,  25,2,  -999.00,9,  -999.00,   -999.0,9,   -999.0,   2.7662,  27.5648