BOTTLE,20111109CCHDOSIOCBG
EXPOCODE,SECT_ID,STNNBR,CASTNO,SAMPNO,BTLNBR,BTLNBR_FLAG_W,DATE,TIME,LATITUDE,LONGITUDE,DEPTH,CTDPRS,CTDPRS_FLAG_W,CTDTMP,CTDTMP_FLAG_W,SBE35,SBE35_FLAG_W,CTDSAL,CTDSAL_FLAG_W,SALNTY,SALNTY_FLAG_W,CTDOXY,CTDOXY_FLAG_W,OXYGEN,OXYGEN_FLAG_W,SILCAT,SILCAT_FLAG_W,SILUNC,NITRAT,NITRAT_FLAG_W,NRAUNC,NITRIT,NITRIT_FLAG_W,NRIUNC,PHSPHT,PHSPHT_FLAG_W,PHPUNC,CFC-11,CFC-11_FLAG_W,CFC-12,CFC-12_FLAG_W,CFC113,CFC113_FLAG_W,TCARBN,TCARBN_FLAG_W,ALKALI,ALKALI_FLAG_W,PH_TOT,PH_TMP,PH_TOT_FLAG_W,DELC13,DELC13_FLAG_W,C13ERR,DELC14,DELC14_FLAG_W,C14ERR,THETA,SIG0
,,,,,,,,,,,METERS,DBAR,,ITS-90,,ITS-90,,PSS-78,,PSS-78,,UMOL/KG,,UMOL/KG,,UMOL/KG,,UMOL/KG,UMOL/KG,,UMOL/KG,UMOL/KG,,UMOL/KG,UMOL/KG,,UMOL/KG,PMOL/KG,,PMOL/KG,,PMOL/KG,,UMOL/KG,,UMOL/KG,,,DEG C,,/MILLE,,/MILLE,/MILLE,,/MILLE,DEG C,KG/M^3
  49NZ20090521,   P21,   177,  1,      0,   -999,9,20090527,1923,-17.4972,-157.6675, 4697,   -999.0,9,-999.0000,9,-999.00000,9,-999.0000,9,  36.0873,2,  -999.00,9,  -999.00,9,  -999.00,9,  -999.00,  -999.00,9,  -999.00,  -999.00,9,  -999.00, -999.000,9, -999.000, -999.000,9, -999.000,9, -999.000,9,   -999.0,9,   -999.0,9,-999.0000,-999,9,  -999.00,9,  -999.00,   -999.0,9,   -999.0,-999.0000,-999.0000
  49NZ20090521,   P21,   177,  1,     36, X12043,2,20090527,1923,-17.4972,-157.6675, 4697,      9.6,2,  27.7917,2,  27.79392,2,  36.0086,2,  36.0000,2,   197.15,2,   197.91,2,     0.59,2,     0.12,     0.07,2,     0.03,     0.01,2,     0.01,    0.159,2,    0.017,    1.437,2,    0.921,2, -999.000,5,   -999.0,9,   -999.0,9,-999.0000,-999,9,  -999.00,9,  -999.00,   -999.0,9,   -999.0,  27.7894,  23.2222
  49NZ20090521,   P21,   177,  1,     35, X12042,2,20090527,1923,-17.4972,-157.6675, 4697,     49.9,2,  27.8427,2,  27.84132,2,  36.0493,2,  36.0486,2,   196.82,2,   197.96,2,     0.53,2,     0.12,     0.07,2,     0.03,     0.01,2,     0.01,    0.166,2,    0.017,    1.443,2,    0.928,2, -999.000,5,   -999.0,9,   -999.0,9,-999.0000,-999,9,  -999.00,9,  -999.00,   -999.0,9,   -999.0,  27.8310,  23.2393
  49NZ20090521,   P21,   177,  1,     34, X12016,2,20090527,1923,-17.4972,-157.6675, 4697,     99.8,2,  25.5614,2,  25.56085,2,  36.1887,2,  36.1890,2,   205.22,2,   206.02,2,     0.46,2,     0.12,     0.06,2,     0.03,     0.01,2,     0.01,    0.180,2,    0.017,    1.645,6,    1.036,6, -999.000,5,   -999.0,9,   -999.0,9,-999.0000,-999,9,  -999.00,9,  -999.00,   -999.0,9,   -999.0,  25.5393,  24.0740
  49NZ20090521,   P21,   177,  1,     33, X12015,2,20090527,1923,-17.4972,-157.6675, 4697,    150.9,2,  24.0515,2,  24.04767,2,  36.1206,2,  36.1208,2,   190.55,2,   190.86,2,     0.49,2,     0.12,     0.29,2,     0.03,     0.16,2,     0.01,    0.257,2,    0.015,    1.742,2,    1.074,2, -999.000,5,   -999.0,9,   -999.0,9,-999.0000,-999,9,  -999.00,9,  -999.00,   -999.0,9,   -999.0,  24.0195,  24.4842
  49NZ20090521,   P21,   177,  1,     32, X12050,2,20090527,1923,-17.4972,-157.6675, 4697,    199.6,2,  22.1066,2,  22.10049,2,  35.8782,2,  35.8779,2,   183.30,2,   183.52,2,     0.46,2,     0.12,     1.70,2,     0.04,     0.03,2,     0.01,    0.312,2,    0.014,    1.938,2,    1.164,2,    0.137,2,   -999.0,9,   -999.0,9,-999.0000,-999,9,  -999.00,9,  -999.00,   -999.0,9,   -999.0,  22.0668,  24.8665
  49NZ20090521,   P21,   177,  1,     31, X12014,2,20090527,1923,-17.4972,-157.6675, 4697,    252.1,2,  20.2791,2,  20.27491,2,  35.7080,2,  35.7087,6,   179.59,2,   180.18,2,     0.61,2,     0.12,     3.10,2,     0.04,     0.02,2,     0.01,    0.410,2,    0.013,    2.128,2,    1.246,2,    0.063,2,   -999.0,9,   -999.0,9,-999.0000,-999,9,  -999.00,9,  -999.00,   -999.0,9,   -999.0,  20.2318,  25.2404
  49NZ20090521,   P21,   177,  1,     30, X12012,2,20090527,1923,-17.4972,-157.6675, 4697,    301.7,2,  17.4687,2,  17.46998,2,  35.3732,2,  35.3810,2,   185.74,2,   186.68,2,     1.09,2,     0.12,     4.76,2,     0.05,     0.01,2,     0.01,    0.506,2,    0.013,    2.353,2,    1.327,2,    0.035,2,   -999.0,9,   -999.0,9,-999.0000,-999,9,  -999.00,9,  -999.00,   -999.0,9,   -999.0,  17.4177,  25.7004
  49NZ20090521,   P21,   177,  1,     29, X12041,2,20090527,1923,-17.4972,-157.6675, 4697,    400.0,2,  11.8635,2,  11.86424,2,  34.7324,2,  34.7322,2,   170.95,2,   171.39,2,     5.83,2,     0.13,    15.65,2,     0.08,     0.01,2,     0.01,    1.261,2,    0.014,    2.132,6,    1.103,6,    0.036,6,   -999.0,9,   -999.0,9,-999.0000,-999,9,  -999.00,9,  -999.00,   -999.0,9,   -999.0,  11.8114,  26.4171
  49NZ20090521,   P21,   177,  1,     28, X12040,2,20090527,1923,-17.4972,-157.6675, 4697,    500.9,2,   8.3529,2,   8.35322,2,  34.4635,2,  34.4640,6,   179.20,2,   178.54,2,    10.48,2,     0.14,    23.42,2,     0.10,     0.01,2,     0.01,    1.727,2,    0.014,    1.764,2,    0.868,2,    0.038,2,   -999.0,9,   -999.0,9,-999.0000,-999,9,  -999.00,9,  -999.00,   -999.0,9,   -999.0,   8.3003,  26.8072
  49NZ20090521,   P21,   177,  1,     27, X12009,2,20090527,1923,-17.4972,-157.6675, 4697,    601.3,2,   6.1858,2,   6.18754,2,  34.3525,2,  34.3523,2,   197.96,2,   197.66,2,    15.65,2,     0.15,    27.40,2,     0.11,     0.01,2,     0.01,    1.937,2,    0.015,    1.210,6,    0.594,6,    0.027,6,   -999.0,9,   -999.0,9,-999.0000,-999,9,  -999.00,9,  -999.00,   -999.0,9,   -999.0,   6.1321,  27.0241
  49NZ20090521,   P21,   177,  1,     26, X12008,2,20090527,1923,-17.4972,-157.6675, 4697,    699.2,2,   5.4914,2,   5.49137,2,  34.3920,2,  34.3924,2,   168.13,2,   168.16,2,    30.39,2,     0.19,    31.41,2,     0.12,     0.01,2,     0.01,    2.213,2,    0.016,    0.364,2,    0.186,2,    0.006,2,   -999.0,9,   -999.0,9,-999.0000,-999,9,  -999.00,9,  -999.00,   -999.0,9,   -999.0,   5.4322,  27.1423
  49NZ20090521,   P21,   177,  1,     25, X12007,2,20090527,1923,-17.4972,-157.6675, 4697,    801.1,2,   4.9827,2,   4.98301,2,  34.4296,2,  34.4293,2,   156.85,2,   157.13,2,    42.27,2,     0.21,    33.03,2,     0.13,     0.01,2,     0.01,    2.330,2,    0.016,    0.107,2,    0.061,2,    0.003,2,   -999.0,9,   -999.0,9,-999.0000,-999,9,  -999.00,9,  -999.00,   -999.0,9,   -999.0,   4.9173,  27.2325
  49NZ20090521,   P21,   177,  1,     24, X12035,2,20090527,1923,-17.4972,-157.6675, 4697,    902.5,2,   4.3387,2,   4.33874,2,  34.4533,2,  34.4530,2,   153.21,2,   153.39,2,    53.74,2,     0.24,    34.23,2,     0.13,     0.01,2,     0.01,    2.416,2,    0.016,    0.051,2,    0.026,2,    0.000,2,   -999.0,9,   -999.0,9,-999.0000,-999,9,  -999.00,9,  -999.00,   -999.0,9,   -999.0,   4.2688,  27.3230
  49NZ20090521,   P21,   177,  1,     23, X12038,2,20090527,1923,-17.4972,-157.6675, 4697,    999.1,2,   3.8771,2,   3.87736,2,  34.4806,2,  34.4806,6,   151.06,2,   151.39,2,    63.89,2,     0.26,    34.81,2,     0.13,     0.01,2,     0.01,    2.460,2,    0.016,    0.021,2,    0.012,2,    0.000,2,   -999.0,9,   -999.0,9,-999.0000,-999,9,  -999.00,9,  -999.00,   -999.0,9,   -999.0,   3.8025,  27.3932
  49NZ20090521,   P21,   177,  1,     22, X12034,2,20090527,1923,-17.4972,-157.6675, 4697,   1201.2,2,   3.3322,2,   3.33266,2,  34.5297,2,  34.5296,2,   145.37,2,   145.49,2,    79.19,2,     0.29,    35.62,2,     0.13,     0.01,2,     0.01,    2.524,2,    0.016,    0.004,2,    0.002,2,    0.000,2,   -999.0,9,   -999.0,9,-999.0000,-999,9,  -999.00,9,  -999.00,   -999.0,9,   -999.0,   3.2456,  27.4868
  49NZ20090521,   P21,   177,  1,     21, X12033,9,20090527,1923,-17.4972,-157.6675, 4697,   1400.8,2,   2.9376,2,   2.93722,2,  34.5644,2,-999.0000,9,   144.15,2,  -999.00,9,  -999.00,9,  -999.00,  -999.00,9,  -999.00,  -999.00,9,  -999.00, -999.000,9, -999.000, -999.000,9, -999.000,9, -999.000,9,   -999.0,9,   -999.0,9,-999.0000,-999,9,  -999.00,9,  -999.00,   -999.0,9,   -999.0,   2.8387,  27.5520
  49NZ20090521,   P21,   177,  1,     20, X12032,2,20090527,1923,-17.4972,-157.6675, 4697,   1600.5,2,   2.5956,2,   2.59564,2,  34.5945,2,  34.5946,2,   145.01,2,   144.85,2,   100.59,2,     0.34,    35.98,2,     0.13,     0.01,2,     0.01,    2.542,2,    0.016,    0.000,2,    0.000,2,    0.000,2,   -999.0,9,   -999.0,9,-999.0000,-999,9,  -999.00,9,  -999.00,   -999.0,9,   -999.0,   2.4842,  27.6070
  49NZ20090521,   P21,   177,  1,     19, X12046,2,20090527,1923,-17.4972,-157.6675, 4697,   1801.1,2,   2.3864,2,   2.38623,2,  34.6131,2,  34.6129,2,   145.91,2,   146.05,2,   106.95,2,     0.35,    36.00,2,     0.13,     0.01,2,     0.01,    2.541,2,    0.016,    0.000,2,    0.000,2,    0.000,2,   -999.0,9,   -999.0,9,-999.0000,-999,9,  -999.00,9,  -999.00,   -999.0,9,   -999.0,   2.2611,  27.6406
  49NZ20090521,   P21,   177,  1,     18, X12006,2,20090527,1923,-17.4972,-157.6675, 4697,   2000.8,2,   2.1658,2,   2.16564,2,  34.6321,2,  34.6323,2,   148.43,2,   148.65,2,   112.69,2,     0.37,    35.91,2,     0.13,     0.01,2,     0.01,    2.535,2,    0.016,    0.000,2,    0.000,2,    0.000,2,   -999.0,9,   -999.0,9,-999.0000,-999,9,  -999.00,9,  -999.00,   -999.0,9,   -999.0,   2.0268,  27.6748
  49NZ20090521,   P21,   177,  1,     17, X12047,2,20090527,1923,-17.4972,-157.6675, 4697,   2201.3,2,   2.0373,2,   2.03736,2,  34.6434,2,  34.6435,6,   150.40,2,   150.55,2,   116.04,2,     0.37,    35.78,2,     0.13,     0.01,2,     0.01,    2.529,2,    0.016,    0.000,2,    0.000,2,    0.000,2,   -999.0,9,   -999.0,9,-999.0000,-999,9,  -999.00,9,  -999.00,   -999.0,9,   -999.0,   1.8830,  27.6952
  49NZ20090521,   P21,   177,  1,     16, X12004,2,20090527,1923,-17.4972,-157.6675, 4697,   2398.9,2,   1.9247,2,   1.92471,2,  34.6531,2,  34.6533,2,   152.71,2,   152.84,2,   118.76,2,     0.38,    35.62,2,     0.13,     0.01,2,     0.01,    2.511,2,    0.016,    0.000,2,    0.000,2,    0.000,2,   -999.0,9,   -999.0,9,-999.0000,-999,9,  -999.00,9,  -999.00,   -999.0,9,   -999.0,   1.7549,  27.7128
  49NZ20090521,   P21,   177,  1,     15, X12003,2,20090527,1923,-17.4972,-157.6675, 4697,   2600.3,2,   1.8378,2,   1.83780,2,  34.6607,2,  34.6608,2,   154.76,2,   154.89,2,   120.80,2,     0.38,    35.42,2,     0.13,     0.01,2,     0.01,    2.512,2,    0.016,    0.000,2,    0.000,2,    0.000,2,   -999.0,9,   -999.0,9,-999.0000,-999,9,  -999.00,9,  -999.00,   -999.0,9,   -999.0,   1.6514,  27.7267
  49NZ20090521,   P21,   177,  1,     14, X12002,2,20090527,1923,-17.4972,-157.6675, 4697,   2801.5,2,   1.7578,2,   1.75793,2,  34.6674,2,  34.6670,2,   157.41,2,   157.51,2,   122.23,2,     0.39,    35.32,2,     0.13,     0.01,2,     0.01,    2.485,2,    0.016,    0.000,2,    0.000,2,    0.000,2,   -999.0,9,   -999.0,9,-999.0000,-999,9,  -999.00,9,  -999.00,   -999.0,9,   -999.0,   1.5543,  27.7393
  49NZ20090521,   P21,   177,  1,     13, X12001,2,20090527,1923,-17.4972,-157.6675, 4697,   3000.3,2,   1.6814,2,   1.68137,2,  34.6735,2,  34.6734,2,   161.28,2,   161.32,2,   122.93,2,     0.39,    35.15,2,     0.13,     0.01,2,     0.01,    2.468,2,    0.016,    0.001,2,    0.000,2,    0.000,2,   -999.0,9,   -999.0,9,-999.0000,-999,9,  -999.00,9,  -999.00,   -999.0,9,   -999.0,   1.4606,  27.7510
  49NZ20090521,   P21,   177,  1,     12, X12030,2,20090527,1923,-17.4972,-157.6675, 4697,   3250.6,2,   1.5958,2,   1.59582,2,  34.6803,2,  34.6797,2,   166.68,2,   166.76,2,   122.62,2,     0.39,    34.76,2,     0.13,     0.01,2,     0.01,    2.443,2,    0.016,    0.000,2,    0.000,2,    0.000,2,   -999.0,9,   -999.0,9,-999.0000,-999,9,  -999.00,9,  -999.00,   -999.0,9,   -999.0,   1.3524,  27.7642
  49NZ20090521,   P21,   177,  1,     11, X12044,2,20090527,1923,-17.4972,-157.6675, 4697,   3500.3,2,   1.5340,2,   1.53398,2,  34.6852,2,  34.6848,6,   171.71,2,   171.81,2,   121.70,2,     0.39,    34.33,2,     0.13,     0.01,2,     0.01,    2.416,2,    0.016,    0.004,2,    0.002,2,    0.000,2,   -999.0,9,   -999.0,9,-999.0000,-999,9,  -999.00,9,  -999.00,   -999.0,9,   -999.0,   1.2670,  27.7742
  49NZ20090521,   P21,   177,  1,     10, X12048,2,20090527,1923,-17.4972,-157.6675, 4697,   3751.2,2,   1.4808,2,   1.48083,2,  34.6896,2,  34.6896,2,   176.48,2,   176.64,2,   120.79,2,     0.38,    34.02,2,     0.13,     0.01,2,     0.01,    2.393,2,    0.016,    0.000,2,    0.000,2,    0.000,2,   -999.0,9,   -999.0,9,-999.0000,-999,9,  -999.00,9,  -999.00,   -999.0,9,   -999.0,   1.1891,  27.7831
  49NZ20090521,   P21,   177,  1,      9, X12027,2,20090527,1923,-17.4972,-157.6675, 4697,   4000.6,2,   1.4382,2,   1.43818,2,  34.6933,2,  34.6932,2,   180.25,2,   180.33,2,   120.31,2,     0.38,    33.83,2,     0.13,     0.01,2,     0.01,    2.369,2,    0.016,    0.000,2,    0.000,2,    0.000,2,   -999.0,9,   -999.0,9,-999.0000,-999,9,  -999.00,9,  -999.00,   -999.0,9,   -999.0,   1.1209,  27.7907
  49NZ20090521,   P21,   177,  1,      8, X12026,2,20090527,1923,-17.4972,-157.6675, 4697,   4250.5,2,   1.4030,2,   1.40308,2,  34.6964,2,  34.6965,2,   183.88,2,   184.02,2,   119.66,2,     0.38,    33.54,2,     0.13,     0.01,2,     0.01,    2.348,2,    0.016,    0.001,2,    0.000,2,    0.000,2,   -999.0,9,   -999.0,9,-999.0000,-999,9,  -999.00,9,  -999.00,   -999.0,9,   -999.0,   1.0592,  27.7975
  49NZ20090521,   P21,   177,  1,      7, X12025,2,20090527,1923,-17.4972,-157.6675, 4697,   4500.0,2,   1.3988,2,   1.39874,2,  34.6979,2,  34.6981,2,   185.79,2,   185.88,2,   119.28,2,     0.38,    33.38,2,     0.13,     0.01,2,     0.01,    2.342,2,    0.016,    0.002,2,    0.000,2,    0.000,2,   -999.0,9,   -999.0,9,-999.0000,-999,9,  -999.00,9,  -999.00,   -999.0,9,   -999.0,   1.0269,  27.8008
  49NZ20090521,   P21,   177,  1,      6, X12024,9,20090527,1923,-17.4972,-157.6675, 4697,      9.4,2,  27.7912,2,  27.79159,2,  36.0046,2,-999.0000,9,   197.16,2,  -999.00,9,  -999.00,9,  -999.00,  -999.00,9,  -999.00,  -999.00,9,  -999.00, -999.000,9, -999.000, -999.000,9, -999.000,9, -999.000,9,   -999.0,9,   -999.0,9,-999.0000,-999,9,  -999.00,9,  -999.00,   -999.0,9,   -999.0,  27.7890,  23.2194
  49NZ20090521,   P21,   177,  1,      5, X12028,9,20090527,1923,-17.4972,-157.6675, 4697,     50.3,2,  27.8410,2,  27.84075,2,  36.0497,2,-999.0000,9,   196.86,2,  -999.00,9,  -999.00,9,  -999.00,  -999.00,9,  -999.00,  -999.00,9,  -999.00, -999.000,9, -999.000, -999.000,9, -999.000,9, -999.000,9,   -999.0,9,   -999.0,9,-999.0000,-999,9,  -999.00,9,  -999.00,   -999.0,9,   -999.0,  27.8292,  23.2402
  49NZ20090521,   P21,   177,  1,      4, X12022,9,20090527,1923,-17.4972,-157.6675, 4697,     99.4,2,  25.5608,2,  25.55991,2,  36.1885,2,-999.0000,9,   205.22,2,  -999.00,9,  -999.00,9,  -999.00,  -999.00,9,  -999.00,  -999.00,9,  -999.00, -999.000,9, -999.000, -999.000,9, -999.000,9, -999.000,9,   -999.0,9,   -999.0,9,-999.0000,-999,9,  -999.00,9,  -999.00,   -999.0,9,   -999.0,  25.5388,  24.0740
  49NZ20090521,   P21,   177,  1,      3, X12021,2,20090527,1923,-17.4972,-157.6675, 4697,   4500.2,2,   1.3990,2,   1.39897,2,  34.6979,2,  34.6978,2,   185.84,2,   185.99,2,   119.25,2,     0.38,    33.40,2,     0.13,     0.01,2,     0.01,    2.344,2,    0.016, -999.000,9, -999.000,9, -999.000,9,   -999.0,9,   -999.0,9,-999.0000,-999,9,  -999.00,9,  -999.00,   -999.0,9,   -999.0,   1.0271,  27.8008
  49NZ20090521,   P21,   177,  1,      2, X12020,2,20090527,1923,-17.4972,-157.6675, 4697,   3000.7,2,   1.6812,2,   1.68120,2,  34.6736,2,-999.0000,9,   161.28,2,  -999.00,9,  -999.00,9,  -999.00,  -999.00,9,  -999.00,  -999.00,9,  -999.00, -999.000,9, -999.000,    0.000,2,    0.000,2,    0.000,2,   -999.0,9,   -999.0,9,-999.0000,-999,9,  -999.00,9,  -999.00,   -999.0,9,   -999.0,   1.4604,  27.7511
  49NZ20090521,   P21,   177,  1,      1, X12019,2,20090527,1923,-17.4972,-157.6675, 4697,   4770.5,2,   1.3817,2,   1.38167,2,  34.7002,2,  34.7002,6,   188.77,2,   188.83,2,   118.80,2,     0.38,    33.20,2,     0.13,     0.01,2,     0.01,    2.334,2,    0.016,    0.003,2,    0.000,2,    0.000,2,   -999.0,9,   -999.0,9,-999.0000,-999,9,  -999.00,9,  -999.00,   -999.0,9,   -999.0,   0.9788,  27.8059