BOTTLE,20111109CCHDOSIOCBG
EXPOCODE,SECT_ID,STNNBR,CASTNO,SAMPNO,BTLNBR,BTLNBR_FLAG_W,DATE,TIME,LATITUDE,LONGITUDE,DEPTH,CTDPRS,CTDPRS_FLAG_W,CTDTMP,CTDTMP_FLAG_W,SBE35,SBE35_FLAG_W,CTDSAL,CTDSAL_FLAG_W,SALNTY,SALNTY_FLAG_W,CTDOXY,CTDOXY_FLAG_W,OXYGEN,OXYGEN_FLAG_W,SILCAT,SILCAT_FLAG_W,SILUNC,NITRAT,NITRAT_FLAG_W,NRAUNC,NITRIT,NITRIT_FLAG_W,NRIUNC,PHSPHT,PHSPHT_FLAG_W,PHPUNC,CFC-11,CFC-11_FLAG_W,CFC-12,CFC-12_FLAG_W,CFC113,CFC113_FLAG_W,TCARBN,TCARBN_FLAG_W,ALKALI,ALKALI_FLAG_W,PH_TOT,PH_TMP,PH_TOT_FLAG_W,DELC13,DELC13_FLAG_W,C13ERR,DELC14,DELC14_FLAG_W,C14ERR,THETA,SIG0
,,,,,,,,,,,METERS,DBAR,,ITS-90,,ITS-90,,PSS-78,,PSS-78,,UMOL/KG,,UMOL/KG,,UMOL/KG,,UMOL/KG,UMOL/KG,,UMOL/KG,UMOL/KG,,UMOL/KG,UMOL/KG,,UMOL/KG,PMOL/KG,,PMOL/KG,,PMOL/KG,,UMOL/KG,,UMOL/KG,,,DEG C,,/MILLE,,/MILLE,/MILLE,,/MILLE,DEG C,KG/M^3
  49NZ20090521,   P21,   263,  1,      0,   -999,9,20090613,2312,-21.2975, 163.2510, 3580,   -999.0,9,-999.0000,9,-999.00000,9,-999.0000,9,  34.9109,2,  -999.00,9,  -999.00,9,  -999.00,9,  -999.00,  -999.00,9,  -999.00,  -999.00,9,  -999.00, -999.000,9, -999.000, -999.000,9, -999.000,9, -999.000,9,   -999.0,9,   -999.0,9,-999.0000,-999,9,  -999.00,9,  -999.00,   -999.0,9,   -999.0,-999.0000,-999.0000
  49NZ20090521,   P21,   263,  1,     36, X12043,2,20090613,2312,-21.2975, 163.2510, 3580,     10.7,2,  24.4767,2,  24.47734,2,  34.9028,2,  34.9008,2,   208.89,2,   208.10,2,     0.54,2,     0.12,     0.11,2,     0.03,     0.01,2,     0.01,    0.099,2,    0.022,    1.635,2,    1.046,2, -999.000,5,   -999.0,9,   -999.0,9,-999.0000,-999,9,  -999.00,9,  -999.00,   -999.0,9,   -999.0,  24.4744,  23.4265
  49NZ20090521,   P21,   263,  1,     35, X12042,2,20090613,2312,-21.2975, 163.2510, 3580,     51.0,2,  23.7890,2,  23.78884,2,  35.2416,2,  35.2398,2,   210.87,2,   210.04,2,     0.46,2,     0.12,     0.11,2,     0.03,     0.01,2,     0.01,    0.101,2,    0.022,    1.696,2,    1.074,2, -999.000,5,   -999.0,9,   -999.0,9,-999.0000,-999,9,  -999.00,9,  -999.00,   -999.0,9,   -999.0,  23.7783,  23.8898
  49NZ20090521,   P21,   263,  1,     34, X12016,2,20090613,2312,-21.2975, 163.2510, 3580,    101.5,2,  23.5647,2,  23.56473,2,  35.3330,2,  35.3286,2,   206.85,2,   206.41,2,     0.46,2,     0.12,     0.19,2,     0.03,     0.03,2,     0.01,    0.118,2,    0.020,    1.719,6,    1.084,6, -999.000,5,   -999.0,9,   -999.0,9,-999.0000,-999,9,  -999.00,9,  -999.00,   -999.0,9,   -999.0,  23.5436,  24.0281
  49NZ20090521,   P21,   263,  1,     33, X12015,2,20090613,2312,-21.2975, 163.2510, 3580,    151.0,2,  21.0527,2,  21.05187,2,  35.6155,2,  35.6133,2,   180.08,2,   179.30,2,     0.89,2,     0.12,     3.48,2,     0.04,     0.03,2,     0.01,    0.362,2,    0.014,    1.951,2,    1.202,2,    0.101,2,   -999.0,9,   -999.0,9,-999.0000,-999,9,  -999.00,9,  -999.00,   -999.0,9,   -999.0,  21.0237,  24.9562
  49NZ20090521,   P21,   263,  1,     32, X12050,2,20090613,2312,-21.2975, 163.2510, 3580,    203.1,2,  19.6112,2,  19.62287,2,  35.6538,2,  35.6507,2,   182.13,2,   180.61,2,     1.06,2,     0.12,     4.57,2,     0.05,     0.01,2,     0.01,    0.423,2,    0.013,    2.047,2,    1.247,2,    0.043,2,   -999.0,9,   -999.0,9,-999.0000,-999,9,  -999.00,9,  -999.00,   -999.0,9,   -999.0,  19.5740,  25.3725
  49NZ20090521,   P21,   263,  1,     31, X12014,2,20090613,2312,-21.2975, 163.2510, 3580,    253.2,2,  18.7315,2,  18.73493,2,  35.6471,2,  35.6465,6,   189.70,2,   188.84,2,     1.10,2,     0.12,     4.62,2,     0.05,     0.01,2,     0.01,    0.423,2,    0.013,    2.108,2,    1.277,2,    0.038,2,   -999.0,9,   -999.0,9,-999.0000,-999,9,  -999.00,9,  -999.00,   -999.0,9,   -999.0,  18.6866,  25.5958
  49NZ20090521,   P21,   263,  1,     30, X12012,2,20090613,2312,-21.2975, 163.2510, 3580,    333.2,2,  16.8072,2,  16.80368,2,  35.5019,2,  35.5096,2,   186.75,2,   186.42,2,     1.90,2,     0.12,     7.04,2,     0.05,     0.01,2,     0.01,    0.586,2,    0.013,    2.219,2,    1.308,2,    0.035,2,   -999.0,9,   -999.0,9,-999.0000,-999,9,  -999.00,9,  -999.00,   -999.0,9,   -999.0,  16.7523,  25.9585
  49NZ20090521,   P21,   263,  1,     29, X12041,2,20090613,2312,-21.2975, 163.2510, 3580,    432.0,2,  13.9389,2,  13.93752,2,  35.1967,2,  35.1964,2,   186.01,2,   185.96,2,     3.58,2,     0.13,    11.51,2,     0.07,     0.01,2,     0.01,    0.877,2,    0.013,    2.253,6,    1.268,6,    0.024,6,   -999.0,9,   -999.0,9,-999.0000,-999,9,  -999.00,9,  -999.00,   -999.0,9,   -999.0,  13.8760,  26.3653
  49NZ20090521,   P21,   263,  1,     28, X12040,2,20090613,2312,-21.2975, 163.2510, 3580,    530.8,2,  10.5734,2,  10.57263,2,  34.8243,2,  34.8235,6,   195.11,2,   194.90,2,     6.54,2,     0.13,    17.36,2,     0.08,     0.01,2,     0.01,    1.252,2,    0.013,    2.183,2,    1.165,2,    0.035,2,   -999.0,9,   -999.0,9,-999.0000,-999,9,  -999.00,9,  -999.00,   -999.0,9,   -999.0,  10.5087,  26.7265
  49NZ20090521,   P21,   263,  1,     27, X12009,2,20090613,2312,-21.2975, 163.2510, 3580,    633.2,2,   8.1295,2,   8.12982,2,  34.5418,2,  34.5429,2,   204.57,2,   204.04,2,    10.00,2,     0.14,    22.04,2,     0.09,     0.01,2,     0.01,    1.567,2,    0.014,    1.821,6,    0.935,6,    0.035,6,   -999.0,9,   -999.0,9,-999.0000,-999,9,  -999.00,9,  -999.00,   -999.0,9,   -999.0,   8.0634,  26.9045
  49NZ20090521,   P21,   263,  1,     26, X12008,2,20090613,2312,-21.2975, 163.2510, 3580,    733.7,2,   6.7056,2,   6.70708,2,  34.4345,2,  34.4351,2,   205.04,2,   204.73,2,    16.29,2,     0.15,    25.44,2,     0.10,     0.01,2,     0.01,    1.785,2,    0.015,    1.254,2,    0.637,2,    0.027,2,   -999.0,9,   -999.0,9,-999.0000,-999,9,  -999.00,9,  -999.00,   -999.0,9,   -999.0,   6.6365,  27.0228
  49NZ20090521,   P21,   263,  1,     25, X12007,2,20090613,2312,-21.2975, 163.2510, 3580,    831.2,2,   5.8801,2,   5.87651,2,  34.4214,2,  34.4214,2,   195.51,2,   195.26,2,    25.62,2,     0.18,    27.93,2,     0.11,     0.01,2,     0.01,    1.956,2,    0.015,    0.764,2,    0.395,2,    0.021,2,   -999.0,9,   -999.0,9,-999.0000,-999,9,  -999.00,9,  -999.00,   -999.0,9,   -999.0,   5.8064,  27.1198
  49NZ20090521,   P21,   263,  1,     24, X12035,2,20090613,2312,-21.2975, 163.2510, 3580,    932.1,2,   4.9591,2,   4.96061,2,  34.4432,2,  34.4417,2,   181.43,2,   181.64,2,    40.96,2,     0.21,    30.54,2,     0.12,     0.01,2,     0.01,    2.140,2,    0.015,    0.371,2,    0.192,2,    0.005,2,   -999.0,9,   -999.0,9,-999.0000,-999,9,  -999.00,9,  -999.00,   -999.0,9,   -999.0,   4.8823,  27.2473
  49NZ20090521,   P21,   263,  1,     23, X12038,2,20090613,2312,-21.2975, 163.2510, 3580,   1069.7,2,   4.1843,2,   4.18414,2,  34.4898,2,  34.4897,6,   168.70,2,   168.71,2,    59.20,2,     0.25,    32.44,2,     0.12,     0.01,2,     0.01,    2.280,2,    0.016,    0.163,2,    0.087,2,    0.010,2,   -999.0,9,   -999.0,9,-999.0000,-999,9,  -999.00,9,  -999.00,   -999.0,9,   -999.0,   4.1013,  27.3698
  49NZ20090521,   P21,   263,  1,     22, X12034,2,20090613,2312,-21.2975, 163.2510, 3580,   1269.3,2,   3.5329,2,   3.53285,2,  34.5387,2,  34.5389,2,   157.97,2,   157.97,2,    76.28,2,     0.29,    33.98,2,     0.13,     0.01,2,     0.01,    2.398,2,    0.016,    0.060,2,    0.033,2,    0.000,2,   -999.0,9,   -999.0,9,-999.0000,-999,9,  -999.00,9,  -999.00,   -999.0,9,   -999.0,   3.4388,  27.4755
  49NZ20090521,   P21,   263,  1,     21, X12033,2,20090613,2312,-21.2975, 163.2510, 3580,   1471.8,2,   3.1474,2,   3.14680,2,  34.5709,2,  34.5705,2,   153.01,2,   153.05,2,    86.64,2,     0.31,    34.58,2,     0.13,     0.01,2,     0.01,    2.445,2,    0.016,    0.025,2,    0.016,2,    0.000,2,   -999.0,9,   -999.0,9,-999.0000,-999,9,  -999.00,9,  -999.00,   -999.0,9,   -999.0,   3.0403,  27.5389
  49NZ20090521,   P21,   263,  1,     20, X12032,2,20090613,2312,-21.2975, 163.2510, 3580,   1670.3,2,   2.7642,2,   2.76433,2,  34.6044,2,  34.6050,2,   149.60,2,   149.58,2,    96.72,2,     0.33,    35.12,2,     0.13,     0.01,2,     0.01,    2.487,2,    0.016,    0.009,2,    0.006,2,    0.000,2,   -999.0,9,   -999.0,9,-999.0000,-999,9,  -999.00,9,  -999.00,   -999.0,9,   -999.0,   2.6449,  27.6011
  49NZ20090521,   P21,   263,  1,     19, X12046,2,20090613,2312,-21.2975, 163.2510, 3580,   1873.4,2,   2.4625,2,   2.46345,2,  34.6318,2,  34.6316,6,   149.98,2,   150.09,2,   103.38,2,     0.35,    35.26,2,     0.13,     0.01,2,     0.01,    2.490,2,    0.016,    0.002,2,    0.002,2,    0.000,2,   -999.0,9,   -999.0,9,-999.0000,-999,9,  -999.00,9,  -999.00,   -999.0,9,   -999.0,   2.3300,  27.6499
  49NZ20090521,   P21,   263,  1,     18, X12006,2,20090613,2312,-21.2975, 163.2510, 3580,   2071.2,2,   2.2531,2,   2.25324,2,  34.6510,2,  34.6509,2,   151.63,2,   151.60,2,   107.60,2,     0.36,    35.19,2,     0.13,     0.01,2,     0.01,    2.486,2,    0.016,    0.002,2,    0.002,2,    0.000,2,   -999.0,9,   -999.0,9,-999.0000,-999,9,  -999.00,9,  -999.00,   -999.0,9,   -999.0,   2.1066,  27.6835
  49NZ20090521,   P21,   263,  1,     17, X12047,2,20090613,2312,-21.2975, 163.2510, 3580,   2271.8,2,   2.1316,2,   2.13163,2,  34.6624,2,  34.6622,2,   153.85,2,   153.78,2,   109.43,2,     0.36,    35.17,2,     0.13,     0.01,2,     0.01,    2.483,2,    0.016,    0.000,2,    0.001,2,    0.000,2,   -999.0,9,   -999.0,9,-999.0000,-999,9,  -999.00,9,  -999.00,   -999.0,9,   -999.0,   1.9695,  27.7036
  49NZ20090521,   P21,   263,  1,     16, X12004,2,20090613,2312,-21.2975, 163.2510, 3580,   2471.0,2,   2.0482,2,   2.04828,2,  34.6709,2,  34.6707,2,   155.80,2,   155.86,2,   110.78,2,     0.36,    34.91,2,     0.13,     0.01,2,     0.01,    2.462,2,    0.016,    0.001,2,    0.001,2,    0.000,2,   -999.0,9,   -999.0,9,-999.0000,-999,9,  -999.00,9,  -999.00,   -999.0,9,   -999.0,   1.8696,  27.7182
  49NZ20090521,   P21,   263,  1,     15, X12003,2,20090613,2312,-21.2975, 163.2510, 3580,   2669.8,2,   1.9829,2,   1.98302,2,  34.6771,2,  34.6771,6,   156.81,2,   156.89,2,   111.96,2,     0.37,    34.93,2,     0.13,     0.01,2,     0.01,    2.467,2,    0.016,    0.000,2,    0.003,2,    0.000,2,   -999.0,9,   -999.0,9,-999.0000,-999,9,  -999.00,9,  -999.00,   -999.0,9,   -999.0,   1.7872,  27.7296
  49NZ20090521,   P21,   263,  1,     14, X12002,2,20090613,2312,-21.2975, 163.2510, 3580,   2868.8,2,   1.9508,2,   1.95097,2,  34.6808,2,  34.6807,2,   157.92,2,   157.90,2,   112.94,2,     0.37,    34.91,2,     0.13,     0.01,2,     0.01,    2.457,2,    0.016,    0.001,2,    0.001,2,    0.000,2,   -999.0,9,   -999.0,9,-999.0000,-999,9,  -999.00,9,  -999.00,   -999.0,9,   -999.0,   1.7368,  27.7364
  49NZ20090521,   P21,   263,  1,     13, X12001,2,20090613,2312,-21.2975, 163.2510, 3580,   3079.8,2,   1.9278,2,   1.92776,2,  34.6833,2,  34.6834,2,   159.24,2,   159.18,2,   113.62,2,     0.37,    34.73,2,     0.13,     0.01,2,     0.01,    2.448,2,    0.016,    0.005,2,    0.005,2,    0.000,2,   -999.0,9,   -999.0,9,-999.0000,-999,9,  -999.00,9,  -999.00,   -999.0,9,   -999.0,   1.6937,  27.7417
  49NZ20090521,   P21,   263,  1,     12, X12030,2,20090613,2312,-21.2975, 163.2510, 3580,   3330.2,2,   1.9013,2,   1.90115,2,  34.6854,2,  34.6857,2,   160.42,2,   160.51,2,   114.66,2,     0.37,    34.81,2,     0.13,     0.01,2,     0.01,    2.451,2,    0.016,    0.000,2,    0.002,2,    0.000,2,   -999.0,9,   -999.0,9,-999.0000,-999,9,  -999.00,9,  -999.00,   -999.0,9,   -999.0,   1.6426,  27.7472
  49NZ20090521,   P21,   263,  1,     11, X12044,9,20090613,2312,-21.2975, 163.2510, 3580,    202.3,2,  19.6229,2,  19.62011,2,  35.6539,2,-999.0000,9,   181.66,2,  -999.00,9,  -999.00,9,  -999.00,  -999.00,9,  -999.00,  -999.00,9,  -999.00, -999.000,9, -999.000, -999.000,9, -999.000,9, -999.000,9,   -999.0,9,   -999.0,9,-999.0000,-999,9,  -999.00,9,  -999.00,   -999.0,9,   -999.0,  19.5858,  25.3695
  49NZ20090521,   P21,   263,  1,     10, X12048,9,20090613,2312,-21.2975, 163.2510, 3580,    253.2,2,  18.7323,2,  18.73420,2,  35.6472,2,-999.0000,9,   189.66,2,  -999.00,9,  -999.00,9,  -999.00,  -999.00,9,  -999.00,  -999.00,9,  -999.00, -999.000,9, -999.000, -999.000,9, -999.000,9, -999.000,9,   -999.0,9,   -999.0,9,-999.0000,-999,9,  -999.00,9,  -999.00,   -999.0,9,   -999.0,  18.6874,  25.5956
  49NZ20090521,   P21,   263,  1,      9, X12027,9,20090613,2312,-21.2975, 163.2510, 3580,    333.0,2,  16.8415,2,  16.85867,2,  35.5068,2,-999.0000,9,   186.08,2,  -999.00,9,  -999.00,9,  -999.00,  -999.00,9,  -999.00,  -999.00,9,  -999.00, -999.000,9, -999.000, -999.000,9, -999.000,9, -999.000,9,   -999.0,9,   -999.0,9,-999.0000,-999,9,  -999.00,9,  -999.00,   -999.0,9,   -999.0,  16.7865,  25.9541
  49NZ20090521,   P21,   263,  1,      8, X12026,9,20090613,2312,-21.2975, 163.2510, 3580,    432.0,2,  13.9344,2,  13.93621,2,  35.1970,2,-999.0000,9,   186.24,2,  -999.00,9,  -999.00,9,  -999.00,  -999.00,9,  -999.00,  -999.00,9,  -999.00, -999.000,9, -999.000, -999.000,9, -999.000,9, -999.000,9,   -999.0,9,   -999.0,9,-999.0000,-999,9,  -999.00,9,  -999.00,   -999.0,9,   -999.0,  13.8716,  26.3664
  49NZ20090521,   P21,   263,  1,      7, X12025,9,20090613,2312,-21.2975, 163.2510, 3580,    531.5,2,  10.5648,2,  10.56429,2,  34.8237,2,-999.0000,9,   195.28,2,  -999.00,9,  -999.00,9,  -999.00,  -999.00,9,  -999.00,  -999.00,9,  -999.00, -999.000,9, -999.000, -999.000,9, -999.000,9, -999.000,9,   -999.0,9,   -999.0,9,-999.0000,-999,9,  -999.00,9,  -999.00,   -999.0,9,   -999.0,  10.5001,  26.7275
  49NZ20090521,   P21,   263,  1,      6, X12024,9,20090613,2312,-21.2975, 163.2510, 3580,     10.4,2,  24.4752,2,  24.47532,2,  34.9030,2,-999.0000,9,   208.89,2,  -999.00,9,  -999.00,9,  -999.00,  -999.00,9,  -999.00,  -999.00,9,  -999.00, -999.000,9, -999.000, -999.000,9, -999.000,9, -999.000,9,   -999.0,9,   -999.0,9,-999.0000,-999,9,  -999.00,9,  -999.00,   -999.0,9,   -999.0,  24.4730,  23.4270
  49NZ20090521,   P21,   263,  1,      5, X12028,9,20090613,2312,-21.2975, 163.2510, 3580,     51.0,2,  23.7915,2,  23.79131,2,  35.2419,2,-999.0000,9,   210.72,2,  -999.00,9,  -999.00,9,  -999.00,  -999.00,9,  -999.00,  -999.00,9,  -999.00, -999.000,9, -999.000, -999.000,9, -999.000,9, -999.000,9,   -999.0,9,   -999.0,9,-999.0000,-999,9,  -999.00,9,  -999.00,   -999.0,9,   -999.0,  23.7808,  23.8893
  49NZ20090521,   P21,   263,  1,      4, X12022,9,20090613,2312,-21.2975, 163.2510, 3580,    101.7,2,  23.5609,2,  23.55861,2,  35.3360,2,-999.0000,9,   206.87,2,  -999.00,9,  -999.00,9,  -999.00,  -999.00,9,  -999.00,  -999.00,9,  -999.00, -999.000,9, -999.000, -999.000,9, -999.000,9, -999.000,9,   -999.0,9,   -999.0,9,-999.0000,-999,9,  -999.00,9,  -999.00,   -999.0,9,   -999.0,  23.5398,  24.0315
  49NZ20090521,   P21,   263,  1,      3, X12021,9,20090613,2312,-21.2975, 163.2510, 3580,    150.3,2,  21.0549,2,  21.05307,2,  35.6155,2,-999.0000,9,   180.09,2,  -999.00,9,  -999.00,9,  -999.00,  -999.00,9,  -999.00,  -999.00,9,  -999.00, -999.000,9, -999.000, -999.000,9, -999.000,9, -999.000,9,   -999.0,9,   -999.0,9,-999.0000,-999,9,  -999.00,9,  -999.00,   -999.0,9,   -999.0,  21.0260,  24.9555
  49NZ20090521,   P21,   263,  1,      2, X12020,9,20090613,2312,-21.2975, 163.2510, 3580,   1473.0,2,   3.1449,2,   3.14512,2,  34.5712,2,-999.0000,9,   152.95,2,  -999.00,9,  -999.00,9,  -999.00,  -999.00,9,  -999.00,  -999.00,9,  -999.00, -999.000,9, -999.000, -999.000,9, -999.000,9, -999.000,9,   -999.0,9,   -999.0,9,-999.0000,-999,9,  -999.00,9,  -999.00,   -999.0,9,   -999.0,   3.0377,  27.5393
  49NZ20090521,   P21,   263,  1,      1, X12019,2,20090613,2312,-21.2975, 163.2510, 3580,   3611.4,2,   1.8666,2,   1.86645,2,  34.6892,2,  34.6893,6,   162.33,2,   162.45,2,   115.59,2,     0.37,    34.56,2,     0.13,     0.01,2,     0.01,    2.434,2,    0.016,    0.001,2,    0.002,2,    0.000,2,   -999.0,9,   -999.0,9,-999.0000,-999,9,  -999.00,9,  -999.00,   -999.0,9,   -999.0,   1.5795,  27.7549