BOTTLE,20111109CCHDOSIOCBG
EXPOCODE,SECT_ID,STNNBR,CASTNO,SAMPNO,BTLNBR,BTLNBR_FLAG_W,DATE,TIME,LATITUDE,LONGITUDE,DEPTH,CTDPRS,CTDPRS_FLAG_W,CTDTMP,CTDTMP_FLAG_W,SBE35,SBE35_FLAG_W,CTDSAL,CTDSAL_FLAG_W,SALNTY,SALNTY_FLAG_W,CTDOXY,CTDOXY_FLAG_W,OXYGEN,OXYGEN_FLAG_W,SILCAT,SILCAT_FLAG_W,SILUNC,NITRAT,NITRAT_FLAG_W,NRAUNC,NITRIT,NITRIT_FLAG_W,NRIUNC,PHSPHT,PHSPHT_FLAG_W,PHPUNC,CFC-11,CFC-11_FLAG_W,CFC-12,CFC-12_FLAG_W,CFC113,CFC113_FLAG_W,TCARBN,TCARBN_FLAG_W,ALKALI,ALKALI_FLAG_W,PH_TOT,PH_TMP,PH_TOT_FLAG_W,DELC13,DELC13_FLAG_W,C13ERR,DELC14,DELC14_FLAG_W,C14ERR,THETA,SIG0
,,,,,,,,,,,METERS,DBAR,,ITS-90,,ITS-90,,PSS-78,,PSS-78,,UMOL/KG,,UMOL/KG,,UMOL/KG,,UMOL/KG,UMOL/KG,,UMOL/KG,UMOL/KG,,UMOL/KG,UMOL/KG,,UMOL/KG,PMOL/KG,,PMOL/KG,,PMOL/KG,,UMOL/KG,,UMOL/KG,,,DEG C,,/MILLE,,/MILLE,/MILLE,,/MILLE,DEG C,KG/M^3
  49NZ20090521,   P21,   234,  1,      0,   -999,9,20090608,2136,-17.8313, 170.3310, 2588,   -999.0,9,-999.0000,9,-999.00000,9,-999.0000,9,  34.8288,2,  -999.00,9,  -999.00,9,  -999.00,9,  -999.00,  -999.00,9,  -999.00,  -999.00,9,  -999.00, -999.000,9, -999.000, -999.000,9, -999.000,9, -999.000,9,   -999.0,9,   -999.0,9,-999.0000,-999,9,  -999.00,9,  -999.00,   -999.0,9,   -999.0,-999.0000,-999.0000
  49NZ20090521,   P21,   234,  1,     36, X12043,2,20090608,2136,-17.8313, 170.3310, 2588,     10.5,2,  27.1590,2,  27.16014,2,  34.8410,2,  34.8394,2,   199.51,2,   199.31,2,     0.85,2,     0.12,     0.09,2,     0.03,     0.01,2,     0.01,    0.078,2,    0.025,    1.491,2,    0.928,2, -999.000,5,   -999.0,9,   -999.0,9,-999.0000,-999,9,  -999.00,9,  -999.00,   -999.0,9,   -999.0,  27.1566,  22.5479
  49NZ20090521,   P21,   234,  1,     35, X12042,2,20090608,2136,-17.8313, 170.3310, 2588,     50.8,2,  27.1453,2,  27.14499,2,  34.8411,2,  34.8403,2,   198.99,2,   198.93,2,     0.79,2,     0.12,     0.08,2,     0.03,     0.01,2,     0.01,    0.085,2,    0.024,    1.494,2,    0.938,2, -999.000,5,   -999.0,9,   -999.0,9,-999.0000,-999,9,  -999.00,9,  -999.00,   -999.0,9,   -999.0,  27.1336,  22.5553
  49NZ20090521,   P21,   234,  1,     34, X12016,2,20090608,2136,-17.8313, 170.3310, 2588,    100.9,2,  25.3966,2,  25.39685,2,  35.4201,2,  35.4198,2,   169.86,2,   169.67,2,     0.88,2,     0.12,     1.96,2,     0.04,     0.06,2,     0.01,    0.297,2,    0.014,    1.718,6,    1.045,6, -999.000,5,   -999.0,9,   -999.0,9,-999.0000,-999,9,  -999.00,9,  -999.00,   -999.0,9,   -999.0,  25.3744,  23.5442
  49NZ20090521,   P21,   234,  1,     33, X12015,2,20090608,2136,-17.8313, 170.3310, 2588,    150.9,2,  22.9123,2,  22.91317,2,  35.7641,2,  35.7628,2,   156.76,2,   156.59,2,     1.02,2,     0.12,     4.11,2,     0.04,     0.02,2,     0.01,    0.459,2,    0.013,    1.900,2,    1.118,2,    0.084,2,   -999.0,9,   -999.0,9,-999.0000,-999,9,  -999.00,9,  -999.00,   -999.0,9,   -999.0,  22.8815,  24.5475
  49NZ20090521,   P21,   234,  1,     32, X12050,2,20090608,2136,-17.8313, 170.3310, 2588,    199.4,2,  20.6212,2,  20.62109,2,  35.6740,2,  35.6710,2,   167.84,2,   167.37,2,     1.07,2,     0.12,     4.67,2,     0.05,     0.01,2,     0.01,    0.450,2,    0.013,    2.066,2,    1.204,2,    0.061,2,   -999.0,9,   -999.0,9,-999.0000,-999,9,  -999.00,9,  -999.00,   -999.0,9,   -999.0,  20.5834,  25.1201
  49NZ20090521,   P21,   234,  1,     31, X12014,2,20090608,2136,-17.8313, 170.3310, 2588,    249.6,2,  18.9105,2,  18.90714,2,  35.5920,2,  35.5910,6,   173.86,2,   172.85,2,     1.42,2,     0.12,     5.57,2,     0.05,     0.01,2,     0.01,    0.498,2,    0.013,    2.171,2,    1.240,2,    0.034,2,   -999.0,9,   -999.0,9,-999.0000,-999,9,  -999.00,9,  -999.00,   -999.0,9,   -999.0,  18.8659,  25.5080
  49NZ20090521,   P21,   234,  1,     30, X12012,2,20090608,2136,-17.8313, 170.3310, 2588,    331.4,2,  15.6812,2,  15.68338,2,  35.3369,2,  35.3393,2,   183.87,2,   183.30,2,     2.37,2,     0.12,     8.33,2,     0.06,     0.01,2,     0.01,    0.678,2,    0.013,    2.344,2,    1.287,2,    0.035,2,   -999.0,9,   -999.0,9,-999.0000,-999,9,  -999.00,9,  -999.00,   -999.0,9,   -999.0,  15.6291,  26.0913
  49NZ20090521,   P21,   234,  1,     29, X12041,2,20090608,2136,-17.8313, 170.3310, 2588,    430.6,2,  11.6247,2,  11.62519,2,  34.8724,2,  34.8732,2,   190.38,2,   190.02,2,     4.91,2,     0.13,    14.94,2,     0.07,     0.01,2,     0.01,    1.117,2,    0.013,    2.313,6,    1.193,6,    0.035,6,   -999.0,9,   -999.0,9,-999.0000,-999,9,  -999.00,9,  -999.00,   -999.0,9,   -999.0,  11.5692,  26.5714
  49NZ20090521,   P21,   234,  1,     28, X12040,2,20090608,2136,-17.8313, 170.3310, 2588,    531.2,2,   8.0889,2,   8.09095,2,  34.5077,2,  34.5083,6,   198.95,2,   198.66,2,    10.25,2,     0.14,    22.47,2,     0.10,     0.01,2,     0.01,    1.607,2,    0.014,    1.805,2,    0.882,2,    0.037,2,   -999.0,9,   -999.0,9,-999.0000,-999,9,  -999.00,9,  -999.00,   -999.0,9,   -999.0,   8.0340,  26.8821
  49NZ20090521,   P21,   234,  1,     27, X12009,2,20090608,2136,-17.8313, 170.3310, 2588,    632.2,2,   6.7685,2,   6.76887,2,  34.4055,2,  34.4058,2,   208.08,2,   207.56,2,    13.54,2,     0.15,    25.09,2,     0.10,     0.01,2,     0.01,    1.764,2,    0.015,    1.451,6,    0.704,6,    0.029,2,   -999.0,9,   -999.0,9,-999.0000,-999,9,  -999.00,9,  -999.00,   -999.0,9,   -999.0,   6.7091,  26.9901
  49NZ20090521,   P21,   234,  1,     26, X12008,2,20090608,2136,-17.8313, 170.3310, 2588,    730.1,2,   5.7237,2,   5.72572,2,  34.3767,2,  34.3766,2,   196.20,2,   195.49,2,    23.26,2,     0.17,    28.55,2,     0.11,     0.00,2,     0.01,    1.994,2,    0.015,    0.752,2,    0.370,2,    0.022,2,   -999.0,9,   -999.0,9,-999.0000,-999,9,  -999.00,9,  -999.00,   -999.0,9,   -999.0,   5.6604,  27.1025
  49NZ20090521,   P21,   234,  1,     25, X12007,2,20090608,2136,-17.8313, 170.3310, 2588,    829.9,2,   4.9489,2,   4.94788,2,  34.3950,2,  34.3952,2,   181.39,2,   180.85,2,    35.87,2,     0.20,    31.12,2,     0.12,     0.01,2,     0.01,    2.180,2,    0.015,    0.350,2,    0.177,2,    0.000,2,   -999.0,9,   -999.0,9,-999.0000,-999,9,  -999.00,9,  -999.00,   -999.0,9,   -999.0,   4.8813,  27.2092
  49NZ20090521,   P21,   234,  1,     24, X12035,2,20090608,2136,-17.8313, 170.3310, 2588,    930.9,2,   4.4467,2,   4.44727,2,  34.4275,2,  34.4279,2,   170.96,2,   170.61,2,    47.43,2,     0.22,    32.56,2,     0.12,     0.01,2,     0.01,    2.287,2,    0.016,    0.180,2,    0.093,2,    0.007,2,   -999.0,9,   -999.0,9,-999.0000,-999,9,  -999.00,9,  -999.00,   -999.0,9,   -999.0,   4.3737,  27.2913
  49NZ20090521,   P21,   234,  1,     23, X12038,2,20090608,2136,-17.8313, 170.3310, 2588,   1071.1,2,   3.8521,2,   3.85227,2,  34.4719,2,  34.4720,6,   162.57,2,   162.23,2,    62.32,2,     0.26,    33.84,2,     0.13,     0.01,2,     0.01,    2.378,2,    0.016,    0.076,2,    0.041,2,    0.000,2,   -999.0,9,   -999.0,9,-999.0000,-999,9,  -999.00,9,  -999.00,   -999.0,9,   -999.0,   3.7718,  27.3894
  49NZ20090521,   P21,   234,  1,     22, X12034,2,20090608,2136,-17.8313, 170.3310, 2588,   1270.7,2,   3.3581,2,   3.35809,2,  34.5275,2,  34.5277,2,   153.93,2,   153.47,2,    79.39,2,     0.29,    34.73,2,     0.13,     0.01,2,     0.01,    2.455,2,    0.016,    0.034,2,    0.018,2,    0.000,2,   -999.0,9,   -999.0,9,-999.0000,-999,9,  -999.00,9,  -999.00,   -999.0,9,   -999.0,   3.2656,  27.4832
  49NZ20090521,   P21,   234,  1,     21, X12033,2,20090608,2136,-17.8313, 170.3310, 2588,   1471.1,2,   2.9623,2,   2.96196,2,  34.5670,2,  34.5673,2,   148.99,2,   148.67,2,    92.07,2,     0.32,    35.41,2,     0.13,     0.00,2,     0.01,    2.498,2,    0.016,    0.015,2,    0.009,2,    0.000,2,   -999.0,9,   -999.0,9,-999.0000,-999,9,  -999.00,9,  -999.00,   -999.0,9,   -999.0,   2.8573,  27.5524
  49NZ20090521,   P21,   234,  1,     20, X12032,2,20090608,2136,-17.8313, 170.3310, 2588,   1671.8,2,   2.6082,2,   2.60891,2,  34.5998,2,  34.6000,2,   146.08,2,   145.78,2,   103.28,2,     0.35,    35.77,2,     0.13,     0.01,2,     0.01,    2.529,2,    0.016,    0.004,2,    0.001,2,    0.000,2,   -999.0,9,   -999.0,9,-999.0000,-999,9,  -999.00,9,  -999.00,   -999.0,9,   -999.0,   2.4907,  27.6107
  49NZ20090521,   P21,   234,  1,     19, X12046,2,20090608,2136,-17.8313, 170.3310, 2588,   1871.3,2,   2.3894,2,   2.38943,2,  34.6189,2,  34.6191,6,   146.42,2,   146.02,2,   110.11,2,     0.36,    35.77,2,     0.13,     0.00,2,     0.01,    2.535,2,    0.016,    0.003,2,    0.001,2,    0.000,2,   -999.0,9,   -999.0,9,-999.0000,-999,9,  -999.00,9,  -999.00,   -999.0,9,   -999.0,   2.2581,  27.6455
  49NZ20090521,   P21,   234,  1,     18, X12006,2,20090608,2136,-17.8313, 170.3310, 2588,   2072.6,2,   2.1914,2,   2.19140,2,  34.6352,2,  34.6354,2,   145.56,2,   145.23,2,   116.56,2,     0.38,    35.97,2,     0.13,     0.01,2,     0.01,    2.543,2,    0.016,    0.000,2,    0.000,2,    0.000,2,   -999.0,9,   -999.0,9,-999.0000,-999,9,  -999.00,9,  -999.00,   -999.0,9,   -999.0,   2.0458,  27.6758
  49NZ20090521,   P21,   234,  1,     17, X12047,2,20090608,2136,-17.8313, 170.3310, 2588,   2272.2,2,   2.0771,2,   2.07712,2,  34.6449,2,  34.6453,2,   145.42,2,   145.05,2,   120.78,2,     0.38,    36.12,2,     0.13,     0.01,2,     0.01,    2.552,2,    0.016,    0.001,2,    0.000,2,    0.000,2,   -999.0,9,   -999.0,9,-999.0000,-999,9,  -999.00,9,  -999.00,   -999.0,9,   -999.0,   1.9159,  27.6938
  49NZ20090521,   P21,   234,  1,     16, X12004,2,20090608,2136,-17.8313, 170.3310, 2588,   2469.6,2,   1.9918,2,   1.99177,2,  34.6518,2,  34.6522,2,   145.08,2,   144.61,2,   124.16,2,     0.39,    36.16,2,     0.13,     0.01,2,     0.01,    2.557,2,    0.016,    0.001,2,    0.000,2,    0.000,2,   -999.0,9,   -999.0,9,-999.0000,-999,9,  -999.00,9,  -999.00,   -999.0,9,   -999.0,   1.8144,  27.7072
  49NZ20090521,   P21,   234,  1,     15, X12003,9,20090608,2136,-17.8313, 170.3310, 2588,     10.6,2,  27.1631,2,  27.16378,2,  34.8413,2,-999.0000,9,   199.48,2,  -999.00,9,  -999.00,9,  -999.00,  -999.00,9,  -999.00,  -999.00,9,  -999.00, -999.000,9, -999.000, -999.000,9, -999.000,9, -999.000,9,   -999.0,9,   -999.0,9,-999.0000,-999,9,  -999.00,9,  -999.00,   -999.0,9,   -999.0,  27.1607,  22.5468
  49NZ20090521,   P21,   234,  1,     14, X12002,9,20090608,2136,-17.8313, 170.3310, 2588,     50.8,2,  27.1452,2,  27.14591,2,  34.8413,2,-999.0000,9,   199.08,2,  -999.00,9,  -999.00,9,  -999.00,  -999.00,9,  -999.00,  -999.00,9,  -999.00, -999.000,9, -999.000, -999.000,9, -999.000,9, -999.000,9,   -999.0,9,   -999.0,9,-999.0000,-999,9,  -999.00,9,  -999.00,   -999.0,9,   -999.0,  27.1335,  22.5556
  49NZ20090521,   P21,   234,  1,     13, X12001,9,20090608,2136,-17.8313, 170.3310, 2588,    100.6,2,  25.4042,2,  25.40422,2,  35.4164,2,-999.0000,9,   170.05,2,  -999.00,9,  -999.00,9,  -999.00,  -999.00,9,  -999.00,  -999.00,9,  -999.00, -999.000,9, -999.000, -999.000,9, -999.000,9, -999.000,9,   -999.0,9,   -999.0,9,-999.0000,-999,9,  -999.00,9,  -999.00,   -999.0,9,   -999.0,  25.3821,  23.5390
  49NZ20090521,   P21,   234,  1,     12, X12030,9,20090608,2136,-17.8313, 170.3310, 2588,    150.9,2,  22.8982,2,  22.90150,2,  35.7639,2,-999.0000,9,   156.87,2,  -999.00,9,  -999.00,9,  -999.00,  -999.00,9,  -999.00,  -999.00,9,  -999.00, -999.000,9, -999.000, -999.000,9, -999.000,9, -999.000,9,   -999.0,9,   -999.0,9,-999.0000,-999,9,  -999.00,9,  -999.00,   -999.0,9,   -999.0,  22.8674,  24.5514
  49NZ20090521,   P21,   234,  1,     11, X12044,9,20090608,2136,-17.8313, 170.3310, 2588,    199.1,2,  20.6106,2,  20.61136,2,  35.6739,2,-999.0000,9,   167.70,2,  -999.00,9,  -999.00,9,  -999.00,  -999.00,9,  -999.00,  -999.00,9,  -999.00, -999.000,9, -999.000, -999.000,9, -999.000,9, -999.000,9,   -999.0,9,   -999.0,9,-999.0000,-999,9,  -999.00,9,  -999.00,   -999.0,9,   -999.0,  20.5728,  25.1229
  49NZ20090521,   P21,   234,  1,     10, X12048,9,20090608,2136,-17.8313, 170.3310, 2588,    249.5,2,  18.9076,2,  18.91925,2,  35.5923,2,-999.0000,9,   173.97,2,  -999.00,9,  -999.00,9,  -999.00,  -999.00,9,  -999.00,  -999.00,9,  -999.00, -999.000,9, -999.000, -999.000,9, -999.000,9, -999.000,9,   -999.0,9,   -999.0,9,-999.0000,-999,9,  -999.00,9,  -999.00,   -999.0,9,   -999.0,  18.8630,  25.5089
  49NZ20090521,   P21,   234,  1,      9, X12027,9,20090608,2136,-17.8313, 170.3310, 2588,    331.8,2,  15.6994,2,  15.69963,2,  35.3380,2,-999.0000,9,   183.84,2,  -999.00,9,  -999.00,9,  -999.00,  -999.00,9,  -999.00,  -999.00,9,  -999.00, -999.000,9, -999.000, -999.000,9, -999.000,9, -999.000,9,   -999.0,9,   -999.0,9,-999.0000,-999,9,  -999.00,9,  -999.00,   -999.0,9,   -999.0,  15.6472,  26.0881
  49NZ20090521,   P21,   234,  1,      8, X12026,9,20090608,2136,-17.8313, 170.3310, 2588,    430.8,2,  11.6216,2,  11.62027,2,  34.8723,2,-999.0000,9,   190.48,2,  -999.00,9,  -999.00,9,  -999.00,  -999.00,9,  -999.00,  -999.00,9,  -999.00, -999.000,9, -999.000, -999.000,9, -999.000,9, -999.000,9,   -999.0,9,   -999.0,9,-999.0000,-999,9,  -999.00,9,  -999.00,   -999.0,9,   -999.0,  11.5661,  26.5719
  49NZ20090521,   P21,   234,  1,      7, X12025,9,20090608,2136,-17.8313, 170.3310, 2588,    531.4,2,   8.0877,2,   8.09119,2,  34.5077,2,-999.0000,9,   198.68,2,  -999.00,9,  -999.00,9,  -999.00,  -999.00,9,  -999.00,  -999.00,9,  -999.00, -999.000,9, -999.000, -999.000,9, -999.000,9, -999.000,9,   -999.0,9,   -999.0,9,-999.0000,-999,9,  -999.00,9,  -999.00,   -999.0,9,   -999.0,   8.0328,  26.8823
  49NZ20090521,   P21,   234,  1,      6, X12024,9,20090608,2136,-17.8313, 170.3310, 2588,    632.1,2,   6.7697,2,   6.77000,2,  34.4057,2,-999.0000,9,   208.13,2,  -999.00,9,  -999.00,9,  -999.00,  -999.00,9,  -999.00,  -999.00,9,  -999.00, -999.000,9, -999.000, -999.000,9, -999.000,9, -999.000,9,   -999.0,9,   -999.0,9,-999.0000,-999,9,  -999.00,9,  -999.00,   -999.0,9,   -999.0,   6.7103,  26.9901
  49NZ20090521,   P21,   234,  1,      5, X12028,9,20090608,2136,-17.8313, 170.3310, 2588,    730.2,2,   5.7264,2,   5.72667,2,  34.3770,2,-999.0000,9,   195.99,2,  -999.00,9,  -999.00,9,  -999.00,  -999.00,9,  -999.00,  -999.00,9,  -999.00, -999.000,9, -999.000, -999.000,9, -999.000,9, -999.000,9,   -999.0,9,   -999.0,9,-999.0000,-999,9,  -999.00,9,  -999.00,   -999.0,9,   -999.0,   5.6631,  27.1024
  49NZ20090521,   P21,   234,  1,      4, X12022,9,20090608,2136,-17.8313, 170.3310, 2588,    829.9,2,   4.9475,2,   4.94784,2,  34.3948,2,-999.0000,9,   181.40,2,  -999.00,9,  -999.00,9,  -999.00,  -999.00,9,  -999.00,  -999.00,9,  -999.00, -999.000,9, -999.000, -999.000,9, -999.000,9, -999.000,9,   -999.0,9,   -999.0,9,-999.0000,-999,9,  -999.00,9,  -999.00,   -999.0,9,   -999.0,   4.8799,  27.2092
  49NZ20090521,   P21,   234,  1,      3, X12021,9,20090608,2136,-17.8313, 170.3310, 2588,    930.7,2,   4.4497,2,   4.44989,2,  34.4278,2,-999.0000,9,   170.96,2,  -999.00,9,  -999.00,9,  -999.00,  -999.00,9,  -999.00,  -999.00,9,  -999.00, -999.000,9, -999.000, -999.000,9, -999.000,9, -999.000,9,   -999.0,9,   -999.0,9,-999.0000,-999,9,  -999.00,9,  -999.00,   -999.0,9,   -999.0,   4.3767,  27.2912
  49NZ20090521,   P21,   234,  1,      2, X12020,9,20090608,2136,-17.8313, 170.3310, 2588,   1471.1,2,   2.9626,2,   2.96256,2,  34.5669,2,-999.0000,9,   149.05,2,  -999.00,9,  -999.00,9,  -999.00,  -999.00,9,  -999.00,  -999.00,9,  -999.00, -999.000,9, -999.000, -999.000,9, -999.000,9, -999.000,9,   -999.0,9,   -999.0,9,-999.0000,-999,9,  -999.00,9,  -999.00,   -999.0,9,   -999.0,   2.8576,  27.5523
  49NZ20090521,   P21,   234,  1,      1, X12019,2,20090608,2136,-17.8313, 170.3310, 2588,   2606.5,2,   1.9581,2,   1.95803,2,  34.6545,2,  34.6544,6,   144.80,2,   144.42,2,   125.63,2,     0.40,    36.21,2,     0.13,     0.01,2,     0.01,    2.565,2,    0.016,    0.001,2,    0.000,2,    0.000,2,   -999.0,9,   -999.0,9,-999.0000,-999,9,  -999.00,9,  -999.00,   -999.0,9,   -999.0,   1.7688,  27.7128