BOTTLE,20111109CCHDOSIOCBG
EXPOCODE,SECT_ID,STNNBR,CASTNO,SAMPNO,BTLNBR,BTLNBR_FLAG_W,DATE,TIME,LATITUDE,LONGITUDE,DEPTH,CTDPRS,CTDPRS_FLAG_W,CTDTMP,CTDTMP_FLAG_W,SBE35,SBE35_FLAG_W,CTDSAL,CTDSAL_FLAG_W,SALNTY,SALNTY_FLAG_W,CTDOXY,CTDOXY_FLAG_W,OXYGEN,OXYGEN_FLAG_W,SILCAT,SILCAT_FLAG_W,SILUNC,NITRAT,NITRAT_FLAG_W,NRAUNC,NITRIT,NITRIT_FLAG_W,NRIUNC,PHSPHT,PHSPHT_FLAG_W,PHPUNC,CFC-11,CFC-11_FLAG_W,CFC-12,CFC-12_FLAG_W,CFC113,CFC113_FLAG_W,TCARBN,TCARBN_FLAG_W,ALKALI,ALKALI_FLAG_W,PH_TOT,PH_TMP,PH_TOT_FLAG_W,DELC13,DELC13_FLAG_W,C13ERR,DELC14,DELC14_FLAG_W,C14ERR,THETA,SIG0
,,,,,,,,,,,METERS,DBAR,,ITS-90,,ITS-90,,PSS-78,,PSS-78,,UMOL/KG,,UMOL/KG,,UMOL/KG,,UMOL/KG,UMOL/KG,,UMOL/KG,UMOL/KG,,UMOL/KG,UMOL/KG,,UMOL/KG,PMOL/KG,,PMOL/KG,,PMOL/KG,,UMOL/KG,,UMOL/KG,,,DEG C,,/MILLE,,/MILLE,/MILLE,,/MILLE,DEG C,KG/M^3
  49NZ20090521,   P21,   209,  1,      0,   -999,9,20090604,1221,-17.4978,-176.3312, 1855,   -999.0,9,-999.0000,9,-999.00000,9,-999.0000,9,  35.2666,2,  -999.00,9,  -999.00,9,  -999.00,9,  -999.00,  -999.00,9,  -999.00,  -999.00,9,  -999.00, -999.000,9, -999.000, -999.000,9, -999.000,9, -999.000,9,   -999.0,9,   -999.0,9,-999.0000,-999,9,  -999.00,9,  -999.00,   -999.0,9,   -999.0,-999.0000,-999.0000
  49NZ20090521,   P21,   209,  1,     36, X12043,2,20090604,1221,-17.4978,-176.3312, 1855,     11.5,2,  27.0227,2,  27.02243,2,  35.2583,2,  35.2558,2,   198.81,2,   199.29,2,     0.69,2,     0.12,     0.07,2,     0.03,     0.00,2,     0.01,    0.086,2,    0.024,    1.464,2,    0.916,2, -999.000,5,   1960.9,2,   2316.5,2,   8.1365,  25,6,  -999.00,9,  -999.00,   -999.0,9,   -999.0,  27.0201,  22.9059
  49NZ20090521,   P21,   209,  1,     35, X12042,2,20090604,1221,-17.4978,-176.3312, 1855,     50.1,2,  27.0367,2,  27.03681,2,  35.2612,2,  35.2603,2,   198.66,2,   199.35,2,     0.70,2,     0.12,     0.08,2,     0.03,     0.00,2,     0.01,    0.084,2,    0.024,    1.470,2,    0.937,2, -999.000,5,   1961.5,6,   2317.1,2,   8.1367,  25,2,  -999.00,9,  -999.00,   -999.0,9,   -999.0,  27.0252,  22.9065
  49NZ20090521,   P21,   209,  1,     34, X12016,2,20090604,1221,-17.4978,-176.3312, 1855,    101.4,2,  26.2242,2,  26.26343,2,  35.5238,2,  35.5112,2,   196.43,2,   198.12,2,     0.72,2,     0.12,     0.05,2,     0.03,     0.01,2,     0.01,    0.151,2,    0.018,    1.597,6,    1.003,6, -999.000,5,   1994.2,2,   2334.5,6,   8.1081,  25,2,  -999.00,9,  -999.00,   -999.0,9,   -999.0,  26.2014,  23.3655
  49NZ20090521,   P21,   209,  1,     33, X12015,2,20090604,1221,-17.4978,-176.3312, 1855,    150.6,2,  23.2186,2,  23.21848,2,  35.5168,2,  35.5150,2,   175.16,2,   175.42,2,     0.80,2,     0.12,     1.94,2,     0.04,     0.03,2,     0.01,    0.274,2,    0.014,    1.826,2,    1.118,2,    0.158,2,   2035.2,2,   2329.9,2,   8.0347,  25,6,  -999.00,9,  -999.00,   -999.0,9,   -999.0,  23.1876,  24.2713
  49NZ20090521,   P21,   209,  1,     32, X12050,2,20090604,1221,-17.4978,-176.3312, 1855,    200.3,2,  22.5155,2,  22.51561,2,  35.9997,2,  35.9991,2,   161.96,2,   162.46,2,     0.92,2,     0.12,     3.49,2,     0.04,     0.02,2,     0.01,    0.488,2,    0.013,    1.917,2,    1.146,2,    0.081,2,   2094.0,2,   2367.4,2,   7.9870,  25,2,  -999.00,9,  -999.00,   -999.0,9,   -999.0,  22.4750,  24.8430
  49NZ20090521,   P21,   209,  1,     31, X12014,2,20090604,1221,-17.4978,-176.3312, 1855,    252.0,2,  19.7843,2,  19.78525,2,  35.6248,2,  35.6266,6,   175.57,2,   175.58,2,     1.00,2,     0.12,     4.00,2,     0.04,     0.01,2,     0.01,    0.429,2,    0.013,    2.125,2,    1.241,2,    0.037,2,   2083.5,2,   2338.3,2,   7.9661,  25,2,  -999.00,9,  -999.00,   -999.0,9,   -999.0,  19.7378,  25.3075
  49NZ20090521,   P21,   209,  1,     30, X12012,2,20090604,1221,-17.4978,-176.3312, 1855,    331.1,2,  16.6286,2,  16.62811,2,  35.3676,2,  35.3678,2,   185.54,2,   185.73,2,     1.68,2,     0.12,     6.09,2,     0.05,     0.01,2,     0.01,    0.564,2,    0.013,    2.348,2,    1.319,2,    0.034,2,   2094.1,2,   2321.2,2,   7.9158,  25,2,  -999.00,9,  -999.00,   -999.0,9,   -999.0,  16.5745,  25.8971
  49NZ20090521,   P21,   209,  1,     29, X12041,2,20090604,1221,-17.4978,-176.3312, 1855,    430.5,2,  11.8238,2,  11.83572,2,  34.8331,2,  34.8355,2,   177.69,2,   178.00,2,     5.73,2,     0.13,    15.28,2,     0.08,     0.01,2,     0.01,    1.183,2,    0.013,    2.133,6,    1.116,6,    0.041,6,   2134.4,2,   2298.0,2,   7.7870,  25,2,  -999.00,9,  -999.00,   -999.0,9,   -999.0,  11.7677,  26.5036
  49NZ20090521,   P21,   209,  1,     28, X12040,2,20090604,1221,-17.4978,-176.3312, 1855,    530.0,2,   8.0308,2,   8.02963,2,  34.4836,2,  34.4840,6,   181.79,2,   182.23,2,    12.33,2,     0.15,    24.12,2,     0.10,     0.00,2,     0.01,    1.742,2,    0.014,    1.520,2,    0.753,2,    0.048,2,   2166.3,2,   2287.7,2,   7.6887,  25,2,  -999.00,9,  -999.00,   -999.0,9,   -999.0,   7.9763,  26.8718
  49NZ20090521,   P21,   209,  1,     27, X12009,2,20090604,1221,-17.4978,-176.3312, 1855,    630.7,2,   6.4670,2,   6.46823,2,  34.3781,2,  34.3776,2,   200.39,2,   200.83,2,    15.29,2,     0.15,    26.53,2,     0.11,     0.00,2,     0.01,    1.873,2,    0.015,    1.194,6,    0.586,6,    0.025,6,   2169.6,2,   2286.1,2,   7.6787,  25,2,  -999.00,9,  -999.00,   -999.0,9,   -999.0,   6.4092,  27.0084
  49NZ20090521,   P21,   209,  1,     26, X12008,2,20090604,1221,-17.4978,-176.3312, 1855,    731.1,2,   5.7244,2,   5.72299,2,  34.3835,2,  34.3846,2,   181.05,2,   181.17,2,    25.91,2,     0.18,    29.91,2,     0.12,     0.00,2,     0.01,    2.099,2,    0.015,    0.517,2,    0.253,2,    0.007,2,   2193.0,6,   2295.7,2,   7.6387,  25,2,  -999.00,9,  -999.00,   -999.0,9,   -999.0,   5.6610,  27.1078
  49NZ20090521,   P21,   209,  1,     25, X12007,2,20090604,1221,-17.4978,-176.3312, 1855,    832.8,2,   4.8463,2,   4.84632,2,  34.3946,2,  34.3938,2,   172.98,2,   173.29,2,    37.73,2,     0.20,    32.10,2,     0.12,     0.00,2,     0.01,    2.253,2,    0.016,    0.231,2,    0.115,2,    0.000,2,   2213.4,2,   2306.7,6,   7.6148,  25,2,  -999.00,9,  -999.00,   -999.0,9,   -999.0,   4.7791,  27.2205
  49NZ20090521,   P21,   209,  1,     24, X12035,2,20090604,1221,-17.4978,-176.3312, 1855,    930.0,2,   4.2342,2,   4.23403,2,  34.4284,2,  34.4283,2,   165.27,2,   165.54,2,    50.34,2,     0.23,    33.56,2,     0.13,     0.00,2,     0.01,    2.354,2,    0.016,    0.108,2,    0.053,2,    0.000,2,   2231.6,2,   2320.0,2,   7.5988,  25,2,  -999.00,9,  -999.00,   -999.0,9,   -999.0,   4.1628,  27.3145
  49NZ20090521,   P21,   209,  1,     23, X12038,2,20090604,1221,-17.4978,-176.3312, 1855,   1070.7,2,   3.7013,2,   3.70092,2,  34.4711,2,  34.4712,6,   159.71,2,   160.20,2,    63.84,2,     0.26,    34.47,2,     0.13,     0.00,2,     0.01,    2.415,2,    0.016,    0.053,2,    0.029,2,    0.000,2,   2249.9,2,   2334.7,2,   7.5889,  25,2,  -999.00,9,  -999.00,   -999.0,9,   -999.0,   3.6222,  27.4036
  49NZ20090521,   P21,   209,  1,     22, X12034,2,20090604,1221,-17.4978,-176.3312, 1855,   1272.4,2,   3.2008,2,   3.20055,2,  34.5184,2,  34.5183,2,   155.98,2,   156.41,2,    78.41,2,     0.29,    34.87,2,     0.13,     0.00,2,     0.01,    2.455,2,    0.016,    0.026,2,    0.016,2,    0.000,2,   2268.5,2,   2351.5,2,   7.5845,  25,2,  -999.00,9,  -999.00,   -999.0,9,   -999.0,   3.1097,  27.4905
  49NZ20090521,   P21,   209,  1,     21, X12033,2,20090604,1221,-17.4978,-176.3312, 1855,   1471.1,2,   2.7502,2,   2.75066,2,  34.5703,2,  34.5707,6,   150.51,2,   150.95,2,    95.28,2,     0.33,    35.42,2,     0.13,     0.00,2,     0.01,    2.497,2,    0.016,    0.010,2,    0.011,2,    0.000,2,   2288.4,2,   2371.8,2,   7.5805,  25,2,  -999.00,9,  -999.00,   -999.0,9,   -999.0,   2.6476,  27.5736
  49NZ20090521,   P21,   209,  1,     20, X12032,2,20090604,1221,-17.4978,-176.3312, 1855,   1670.4,2,   2.5703,2,   2.57027,2,  34.5924,2,  34.5926,2,   148.50,2,   148.81,2,   102.67,2,     0.34,    35.62,2,     0.13,     0.00,2,     0.01,    2.513,2,    0.016,    0.005,2,    0.010,2,    0.000,2,   2295.9,2,   2379.3,2,   7.5795,  25,6,  -999.00,9,  -999.00,   -999.0,9,   -999.0,   2.4535,  27.6079
  49NZ20090521,   P21,   209,  1,     19, X12046,2,20090604,1221,-17.4978,-176.3312, 1855,   1870.6,2,   2.4589,2,   2.45827,2,  34.6080,2,  34.6087,2,   146.16,2,   146.48,2,   108.03,2,     0.36,    35.88,2,     0.13,     0.00,2,     0.01,    2.531,2,    0.016,    0.002,2,    0.006,2,    0.000,2,   2303.5,2,   2385.6,2,   7.5780,  25,2,  -999.00,9,  -999.00,   -999.0,9,   -999.0,   2.3267,  27.6311
  49NZ20090521,   P21,   209,  1,     18, X12006,9,20090604,1221,-17.4978,-176.3312, 1855,     11.5,2,  27.0249,2,  27.02462,2,  35.2588,2,-999.0000,9,   198.80,2,  -999.00,9,  -999.00,9,  -999.00,  -999.00,9,  -999.00,  -999.00,9,  -999.00, -999.000,9, -999.000, -999.000,9, -999.000,9, -999.000,9,   -999.0,9,   -999.0,9,-999.0000,-999,9,  -999.00,9,  -999.00,   -999.0,9,   -999.0,  27.0223,  22.9056
  49NZ20090521,   P21,   209,  1,     17, X12047,9,20090604,1221,-17.4978,-176.3312, 1855,     11.2,2,  27.0218,2,  27.02174,2,  35.2584,2,-999.0000,9,   198.78,2,  -999.00,9,  -999.00,9,  -999.00,  -999.00,9,  -999.00,  -999.00,9,  -999.00, -999.000,9, -999.000, -999.000,9, -999.000,9, -999.000,9,   -999.0,9,   -999.0,9,-999.0000,-999,9,  -999.00,9,  -999.00,   -999.0,9,   -999.0,  27.0192,  22.9063
  49NZ20090521,   P21,   209,  1,     16, X12004,9,20090604,1221,-17.4978,-176.3312, 1855,     50.6,2,  27.0365,2,  27.03608,2,  35.2613,2,-999.0000,9,   198.66,2,  -999.00,9,  -999.00,9,  -999.00,  -999.00,9,  -999.00,  -999.00,9,  -999.00, -999.000,9, -999.000, -999.000,9, -999.000,9, -999.000,9,   -999.0,9,   -999.0,9,-999.0000,-999,9,  -999.00,9,  -999.00,   -999.0,9,   -999.0,  27.0249,  22.9066
  49NZ20090521,   P21,   209,  1,     15, X12003,9,20090604,1221,-17.4978,-176.3312, 1855,    101.9,2,  26.2975,2,  26.31489,2,  35.5135,2,-999.0000,9,   197.40,2,  -999.00,9,  -999.00,9,  -999.00,  -999.00,9,  -999.00,  -999.00,9,  -999.00, -999.000,9, -999.000, -999.000,9, -999.000,9, -999.000,9,   -999.0,9,   -999.0,9,-999.0000,-999,9,  -999.00,9,  -999.00,   -999.0,9,   -999.0,  26.2745,  23.3348
  49NZ20090521,   P21,   209,  1,     14, X12002,9,20090604,1221,-17.4978,-176.3312, 1855,    150.6,2,  23.2190,2,  23.21774,2,  35.5204,2,-999.0000,9,   175.23,2,  -999.00,9,  -999.00,9,  -999.00,  -999.00,9,  -999.00,  -999.00,9,  -999.00, -999.000,9, -999.000, -999.000,9, -999.000,9, -999.000,9,   -999.0,9,   -999.0,9,-999.0000,-999,9,  -999.00,9,  -999.00,   -999.0,9,   -999.0,  23.1880,  24.2739
  49NZ20090521,   P21,   209,  1,     13, X12001,9,20090604,1221,-17.4978,-176.3312, 1855,    200.8,2,  22.5112,2,  22.51111,2,  36.0001,2,-999.0000,9,   162.01,2,  -999.00,9,  -999.00,9,  -999.00,  -999.00,9,  -999.00,  -999.00,9,  -999.00, -999.000,9, -999.000, -999.000,9, -999.000,9, -999.000,9,   -999.0,9,   -999.0,9,-999.0000,-999,9,  -999.00,9,  -999.00,   -999.0,9,   -999.0,  22.4706,  24.8446
  49NZ20090521,   P21,   209,  1,     12, X12030,9,20090604,1221,-17.4978,-176.3312, 1855,    251.7,2,  19.7845,2,  19.78598,2,  35.6251,2,-999.0000,9,   175.67,2,  -999.00,9,  -999.00,9,  -999.00,  -999.00,9,  -999.00,  -999.00,9,  -999.00, -999.000,9, -999.000, -999.000,9, -999.000,9, -999.000,9,   -999.0,9,   -999.0,9,-999.0000,-999,9,  -999.00,9,  -999.00,   -999.0,9,   -999.0,  19.7381,  25.3077
  49NZ20090521,   P21,   209,  1,     11, X12044,9,20090604,1221,-17.4978,-176.3312, 1855,    330.9,2,  16.6308,2,  16.63076,2,  35.3676,2,-999.0000,9,   185.35,2,  -999.00,9,  -999.00,9,  -999.00,  -999.00,9,  -999.00,  -999.00,9,  -999.00, -999.000,9, -999.000, -999.000,9, -999.000,9, -999.000,9,   -999.0,9,   -999.0,9,-999.0000,-999,9,  -999.00,9,  -999.00,   -999.0,9,   -999.0,  16.5767,  25.8966
  49NZ20090521,   P21,   209,  1,     10, X12048,9,20090604,1221,-17.4978,-176.3312, 1855,    431.0,2,  11.7279,2,  11.71565,2,  34.8237,2,-999.0000,9,   178.16,2,  -999.00,9,  -999.00,9,  -999.00,  -999.00,9,  -999.00,  -999.00,9,  -999.00, -999.000,9, -999.000, -999.000,9, -999.000,9, -999.000,9,   -999.0,9,   -999.0,9,-999.0000,-999,9,  -999.00,9,  -999.00,   -999.0,9,   -999.0,  11.6721,  26.5143
  49NZ20090521,   P21,   209,  1,      9, X12027,9,20090604,1221,-17.4978,-176.3312, 1855,    530.1,2,   8.0152,2,   8.01495,2,  34.4830,2,-999.0000,9,   181.97,2,  -999.00,9,  -999.00,9,  -999.00,  -999.00,9,  -999.00,  -999.00,9,  -999.00, -999.000,9, -999.000, -999.000,9, -999.000,9, -999.000,9,   -999.0,9,   -999.0,9,-999.0000,-999,9,  -999.00,9,  -999.00,   -999.0,9,   -999.0,   7.9607,  26.8736
  49NZ20090521,   P21,   209,  1,      8, X12026,9,20090604,1221,-17.4978,-176.3312, 1855,    630.1,2,   6.4658,2,   6.46540,2,  34.3779,2,-999.0000,9,   200.75,2,  -999.00,9,  -999.00,9,  -999.00,  -999.00,9,  -999.00,  -999.00,9,  -999.00, -999.000,9, -999.000, -999.000,9, -999.000,9, -999.000,9,   -999.0,9,   -999.0,9,-999.0000,-999,9,  -999.00,9,  -999.00,   -999.0,9,   -999.0,   6.4081,  27.0084
  49NZ20090521,   P21,   209,  1,      7, X12025,9,20090604,1221,-17.4978,-176.3312, 1855,    731.2,2,   5.7248,2,   5.72529,2,  34.3837,2,-999.0000,9,   181.27,2,  -999.00,9,  -999.00,9,  -999.00,  -999.00,9,  -999.00,  -999.00,9,  -999.00, -999.000,9, -999.000, -999.000,9, -999.000,9, -999.000,9,   -999.0,9,   -999.0,9,-999.0000,-999,9,  -999.00,9,  -999.00,   -999.0,9,   -999.0,   5.6614,  27.1079
  49NZ20090521,   P21,   209,  1,      6, X12024,9,20090604,1221,-17.4978,-176.3312, 1855,    833.8,2,   4.8458,2,   4.84610,2,  34.3953,2,-999.0000,9,   172.50,2,  -999.00,9,  -999.00,9,  -999.00,  -999.00,9,  -999.00,  -999.00,9,  -999.00, -999.000,9, -999.000, -999.000,9, -999.000,9, -999.000,9,   -999.0,9,   -999.0,9,-999.0000,-999,9,  -999.00,9,  -999.00,   -999.0,9,   -999.0,   4.7785,  27.2211
  49NZ20090521,   P21,   209,  1,      5, X12028,9,20090604,1221,-17.4978,-176.3312, 1855,    930.9,2,   4.2342,2,   4.23411,2,  34.4285,2,-999.0000,9,   165.25,2,  -999.00,9,  -999.00,9,  -999.00,  -999.00,9,  -999.00,  -999.00,9,  -999.00, -999.000,9, -999.000, -999.000,9, -999.000,9, -999.000,9,   -999.0,9,   -999.0,9,-999.0000,-999,9,  -999.00,9,  -999.00,   -999.0,9,   -999.0,   4.1627,  27.3145
  49NZ20090521,   P21,   209,  1,      4, X12022,9,20090604,1221,-17.4978,-176.3312, 1855,   1071.8,2,   3.6952,2,   3.69506,2,  34.4717,2,-999.0000,9,   159.60,2,  -999.00,9,  -999.00,9,  -999.00,  -999.00,9,  -999.00,  -999.00,9,  -999.00, -999.000,9, -999.000, -999.000,9, -999.000,9, -999.000,9,   -999.0,9,   -999.0,9,-999.0000,-999,9,  -999.00,9,  -999.00,   -999.0,9,   -999.0,   3.6161,  27.4048
  49NZ20090521,   P21,   209,  1,      3, X12021,9,20090604,1221,-17.4978,-176.3312, 1855,   1272.4,2,   3.2006,2,   3.20060,2,  34.5184,2,-999.0000,9,   156.01,2,  -999.00,9,  -999.00,9,  -999.00,  -999.00,9,  -999.00,  -999.00,9,  -999.00, -999.000,9, -999.000, -999.000,9, -999.000,9, -999.000,9,   -999.0,9,   -999.0,9,-999.0000,-999,9,  -999.00,9,  -999.00,   -999.0,9,   -999.0,   3.1095,  27.4905
  49NZ20090521,   P21,   209,  1,      2, X12020,9,20090604,1221,-17.4978,-176.3312, 1855,   1471.3,2,   2.7512,2,   2.75111,2,  34.5702,2,-999.0000,9,   150.48,2,  -999.00,9,  -999.00,9,  -999.00,  -999.00,9,  -999.00,  -999.00,9,  -999.00, -999.000,9, -999.000, -999.000,9, -999.000,9, -999.000,9,   -999.0,9,   -999.0,9,-999.0000,-999,9,  -999.00,9,  -999.00,   -999.0,9,   -999.0,   2.6486,  27.5734
  49NZ20090521,   P21,   209,  1,      1, X12019,2,20090604,1221,-17.4978,-176.3312, 1855,   1920.3,2,   2.4290,2,   2.42896,2,  34.6112,2,  34.6108,6,   146.27,2,   146.42,2,   108.76,2,     0.36,    35.84,2,     0.13,     0.00,2,     0.01,    2.534,2,    0.016,    0.003,2,    0.007,2,    0.000,2,   2304.2,2,   2386.3,2,   7.5790,  25,2,  -999.00,9,  -999.00,   -999.0,9,   -999.0,   2.2930,  27.6365