BOTTLE,20111109CCHDOSIOCBG
EXPOCODE,SECT_ID,STNNBR,CASTNO,SAMPNO,BTLNBR,BTLNBR_FLAG_W,DATE,TIME,LATITUDE,LONGITUDE,DEPTH,CTDPRS,CTDPRS_FLAG_W,CTDTMP,CTDTMP_FLAG_W,SBE35,SBE35_FLAG_W,CTDSAL,CTDSAL_FLAG_W,SALNTY,SALNTY_FLAG_W,CTDOXY,CTDOXY_FLAG_W,OXYGEN,OXYGEN_FLAG_W,SILCAT,SILCAT_FLAG_W,SILUNC,NITRAT,NITRAT_FLAG_W,NRAUNC,NITRIT,NITRIT_FLAG_W,NRIUNC,PHSPHT,PHSPHT_FLAG_W,PHPUNC,CFC-11,CFC-11_FLAG_W,CFC-12,CFC-12_FLAG_W,CFC113,CFC113_FLAG_W,TCARBN,TCARBN_FLAG_W,ALKALI,ALKALI_FLAG_W,PH_TOT,PH_TMP,PH_TOT_FLAG_W,DELC13,DELC13_FLAG_W,C13ERR,DELC14,DELC14_FLAG_W,C14ERR,THETA,SIG0
,,,,,,,,,,,METERS,DBAR,,ITS-90,,ITS-90,,PSS-78,,PSS-78,,UMOL/KG,,UMOL/KG,,UMOL/KG,,UMOL/KG,UMOL/KG,,UMOL/KG,UMOL/KG,,UMOL/KG,UMOL/KG,,UMOL/KG,PMOL/KG,,PMOL/KG,,PMOL/KG,,UMOL/KG,,UMOL/KG,,,DEG C,,/MILLE,,/MILLE,/MILLE,,/MILLE,DEG C,KG/M^3
  49NZ20090521,   P21,   283,  1,      0,   -999,9,20090617,0322,-24.7655, 154.3835, 4154,   -999.0,9,-999.0000,9,-999.00000,9,-999.0000,9,  35.4429,2,  -999.00,9,  -999.00,9,  -999.00,9,  -999.00,  -999.00,9,  -999.00,  -999.00,9,  -999.00, -999.000,9, -999.000, -999.000,9, -999.000,9, -999.000,9,   -999.0,9,   -999.0,9,-999.0000,-999,9,  -999.00,9,  -999.00,   -999.0,9,   -999.0,-999.0000,-999.0000
  49NZ20090521,   P21,   283,  1,     36, X12043,2,20090617,0322,-24.7655, 154.3835, 4154,     10.4,2,  22.7829,2,  22.78402,2,  35.4044,2,  35.4030,2,   214.98,2,   214.40,2,     0.67,2,     0.12,     0.08,2,     0.03,     0.01,2,     0.01,    0.090,2,    0.023,    1.778,2,    1.119,2, -999.000,5,   -999.0,9,   -999.0,9,-999.0000,-999,9,  -999.00,9,  -999.00,   -999.0,9,   -999.0,  22.7808,  24.3035
  49NZ20090521,   P21,   283,  1,     35, X12042,2,20090617,0322,-24.7655, 154.3835, 4154,     50.2,2,  22.6484,2,  22.64882,2,  35.4182,2,  35.4180,2,   214.44,2,   214.14,2,     0.52,2,     0.12,     0.08,2,     0.03,     0.01,2,     0.01,    0.089,2,    0.023,    1.778,2,    1.122,2, -999.000,5,   -999.0,9,   -999.0,9,-999.0000,-999,9,  -999.00,9,  -999.00,   -999.0,9,   -999.0,  22.6383,  24.3548
  49NZ20090521,   P21,   283,  1,     34, X12016,2,20090617,0322,-24.7655, 154.3835, 4154,    100.8,2,  19.9043,2,  19.90331,2,  35.6335,2,  35.6319,2,   185.32,2,   183.86,2,     1.19,2,     0.12,     3.84,2,     0.04,     0.04,2,     0.01,    0.390,2,    0.013,    2.055,6,    1.246,6,    0.109,6,   -999.0,9,   -999.0,9,-999.0000,-999,9,  -999.00,9,  -999.00,   -999.0,9,   -999.0,  19.8857,  25.2753
  49NZ20090521,   P21,   283,  1,     33, X12015,2,20090617,0322,-24.7655, 154.3835, 4154,    150.5,2,  18.3841,2,  18.38621,2,  35.6002,2,  35.5973,2,   179.53,2,   178.97,2,     1.61,2,     0.12,     5.97,2,     0.05,     0.02,2,     0.01,    0.510,2,    0.013,    2.124,2,    1.273,2,    0.029,2,   -999.0,9,   -999.0,9,-999.0000,-999,9,  -999.00,9,  -999.00,   -999.0,9,   -999.0,  18.3578,  25.6427
  49NZ20090521,   P21,   283,  1,     32, X12050,2,20090617,0322,-24.7655, 154.3835, 4154,    200.2,2,  16.9807,2,  16.98106,2,  35.4595,2,  35.4520,2,   170.77,2,   170.19,2,     2.74,2,     0.13,     8.70,2,     0.06,     0.01,2,     0.01,    0.699,2,    0.013,    2.128,2,    1.243,2,    0.013,2,   -999.0,9,   -999.0,9,-999.0000,-999,9,  -999.00,9,  -999.00,   -999.0,9,   -999.0,  16.9476,  25.8795
  49NZ20090521,   P21,   283,  1,     31, X12014,2,20090617,0322,-24.7655, 154.3835, 4154,    260.0,2,  15.7523,2,  15.71393,2,  35.4147,2,  35.4125,6,   184.69,2,   184.97,2,     2.60,2,     0.12,     8.80,2,     0.06,     0.01,2,     0.01,    0.689,2,    0.013,    2.263,2,    1.316,2,    0.027,2,   -999.0,9,   -999.0,9,-999.0000,-999,9,  -999.00,9,  -999.00,   -999.0,9,   -999.0,  15.7114,  26.1326
  49NZ20090521,   P21,   283,  1,     30, X12012,2,20090617,0322,-24.7655, 154.3835, 4154,    301.7,2,  14.5554,2,  14.55584,2,  35.2740,2,  35.2772,2,   184.41,2,   184.14,2,     3.34,2,     0.13,    10.63,2,     0.06,     0.01,2,     0.01,    0.811,2,    0.013,    2.245,2,    1.278,2,    0.030,2,   -999.0,9,   -999.0,9,-999.0000,-999,9,  -999.00,9,  -999.00,   -999.0,9,   -999.0,  14.5104,  26.2901
  49NZ20090521,   P21,   283,  1,     29, X12041,2,20090617,0322,-24.7655, 154.3835, 4154,    400.2,2,  11.8898,2,  11.89030,2,  34.9692,2,  34.9669,2,   189.72,2,   189.77,2,     5.22,2,     0.13,    15.02,2,     0.07,     0.01,2,     0.01,    1.097,2,    0.013,    2.230,6,    1.219,6,    0.029,6,   -999.0,9,   -999.0,9,-999.0000,-999,9,  -999.00,9,  -999.00,   -999.0,9,   -999.0,  11.8375,  26.5962
  49NZ20090521,   P21,   283,  1,     28, X12040,2,20090617,0322,-24.7655, 154.3835, 4154,    500.0,2,   9.8769,2,   9.88087,2,  34.7514,2,  34.7471,6,   195.45,2,   195.58,2,     7.68,2,     0.14,    18.87,2,     0.09,     0.01,2,     0.01,    1.351,2,    0.014,    2.078,2,    1.110,2,    0.039,2,   -999.0,9,   -999.0,9,-999.0000,-999,9,  -999.00,9,  -999.00,   -999.0,9,   -999.0,   9.8186,  26.7886
  49NZ20090521,   P21,   283,  1,     27, X12009,2,20090617,0322,-24.7655, 154.3835, 4154,    600.2,2,   8.2585,2,   8.26293,2,  34.5712,2,  34.5692,2,   200.72,2,   200.81,2,    10.59,2,     0.14,    22.12,2,     0.09,     0.01,2,     0.01,    1.562,2,    0.014,    1.758,6,    0.911,6,    0.027,6,   -999.0,9,   -999.0,9,-999.0000,-999,9,  -999.00,9,  -999.00,   -999.0,9,   -999.0,   8.1954,  26.9077
  49NZ20090521,   P21,   283,  1,     26, X12008,2,20090617,0322,-24.7655, 154.3835, 4154,    700.6,2,   6.9484,2,   6.94894,2,  34.4683,2,  34.4675,2,   200.77,2,   200.64,2,    16.69,2,     0.16,    25.21,2,     0.10,     0.01,2,     0.01,    1.765,2,    0.015,    1.218,2,    0.626,2,    0.018,2,   -999.0,9,   -999.0,9,-999.0000,-999,9,  -999.00,9,  -999.00,   -999.0,9,   -999.0,   6.8812,  27.0162
  49NZ20090521,   P21,   283,  1,     25, X12007,2,20090617,0322,-24.7655, 154.3835, 4154,    802.4,2,   6.2178,2,   6.21862,2,  34.4406,2,  34.4407,2,   195.10,2,   195.18,2,    23.07,2,     0.17,    27.19,2,     0.11,     0.01,2,     0.01,    1.901,2,    0.015,    0.849,2,    0.437,2,    0.009,2,   -999.0,9,   -999.0,9,-999.0000,-999,9,  -999.00,9,  -999.00,   -999.0,9,   -999.0,   6.1448,  27.0922
  49NZ20090521,   P21,   283,  1,     24, X12035,2,20090617,0322,-24.7655, 154.3835, 4154,    901.4,2,   5.4422,2,   5.44215,2,  34.4347,2,  34.4347,2,   186.83,2,   186.92,2,    33.48,2,     0.19,    29.39,2,     0.12,     0.01,2,     0.01,    2.058,2,    0.015,    0.501,2,    0.263,2,    0.008,2,   -999.0,9,   -999.0,9,-999.0000,-999,9,  -999.00,9,  -999.00,   -999.0,9,   -999.0,   5.3648,  27.1842
  49NZ20090521,   P21,   283,  1,     23, X12038,2,20090617,0322,-24.7655, 154.3835, 4154,   1000.7,2,   4.6951,2,   4.69483,2,  34.4549,2,  34.4549,6,   177.99,2,   178.13,2,    46.68,2,     0.22,    31.19,2,     0.12,     0.01,2,     0.01,    2.186,2,    0.015,    0.294,2,    0.160,2,    0.000,2,   -999.0,9,   -999.0,9,-999.0000,-999,9,  -999.00,9,  -999.00,   -999.0,9,   -999.0,   4.6141,  27.2867
  49NZ20090521,   P21,   283,  1,     22, X12034,2,20090617,0322,-24.7655, 154.3835, 4154,   1201.9,2,   3.8056,2,   3.80558,2,  34.5165,2,  34.5162,2,   159.76,2,   159.90,2,    69.70,2,     0.27,    33.60,2,     0.13,     0.00,2,     0.01,    2.375,2,    0.016,    0.074,2,    0.041,2,    0.000,2,   -999.0,9,   -999.0,9,-999.0000,-999,9,  -999.00,9,  -999.00,   -999.0,9,   -999.0,   3.7146,  27.4306
  49NZ20090521,   P21,   283,  1,     21, X12033,2,20090617,0322,-24.7655, 154.3835, 4154,   1400.1,2,   3.3401,2,   3.34033,2,  34.5546,2,  34.5547,2,   151.53,2,   151.73,2,    83.17,2,     0.30,    34.70,2,     0.13,     0.01,2,     0.01,    2.448,2,    0.016,    0.027,2,    0.017,2,    0.000,2,   -999.0,9,   -999.0,9,-999.0000,-999,9,  -999.00,9,  -999.00,   -999.0,9,   -999.0,   3.2369,  27.5075
  49NZ20090521,   P21,   283,  1,     20, X12032,2,20090617,0322,-24.7655, 154.3835, 4154,   1600.4,2,   2.8722,2,   2.87242,2,  34.5977,2,  34.5978,2,   148.14,2,   148.39,2,    93.85,2,     0.33,    35.20,2,     0.13,     0.00,2,     0.01,    2.488,2,    0.016,    0.013,2,    0.008,2,    0.000,2,   -999.0,9,   -999.0,9,-999.0000,-999,9,  -999.00,9,  -999.00,   -999.0,9,   -999.0,   2.7574,  27.5858
  49NZ20090521,   P21,   283,  1,     19, X12046,2,20090617,0322,-24.7655, 154.3835, 4154,   1802.4,2,   2.5394,2,   2.53944,2,  34.6346,2,  34.6350,2,   154.79,2,   155.11,2,    95.44,2,     0.33,    34.70,2,     0.13,     0.00,2,     0.01,    2.451,2,    0.016,    0.007,2,    0.005,2,    0.000,2,   -999.0,9,   -999.0,9,-999.0000,-999,9,  -999.00,9,  -999.00,   -999.0,9,   -999.0,   2.4118,  27.6452
  49NZ20090521,   P21,   283,  1,     18, X12006,2,20090617,0322,-24.7655, 154.3835, 4154,   2000.0,2,   2.3143,2,   2.31454,2,  34.6657,2,  34.6658,6,   163.79,2,   164.10,2,    93.84,2,     0.33,    33.89,2,     0.13,     0.00,2,     0.01,    2.388,2,    0.016,    0.009,2,    0.008,2,    0.000,2,   -999.0,9,   -999.0,9,-999.0000,-999,9,  -999.00,9,  -999.00,   -999.0,9,   -999.0,   2.1730,  27.6899
  49NZ20090521,   P21,   283,  1,     17, X12047,2,20090617,0322,-24.7655, 154.3835, 4154,   2200.1,2,   2.0857,2,   2.08581,2,  34.6979,2,  34.6981,2,   174.41,2,   174.83,2,    92.66,2,     0.32,    32.94,2,     0.13,     0.01,2,     0.01,    2.306,2,    0.016,    0.010,2,    0.007,2,    0.000,2,   -999.0,9,   -999.0,9,-999.0000,-999,9,  -999.00,9,  -999.00,   -999.0,9,   -999.0,   1.9305,  27.7351
  49NZ20090521,   P21,   283,  1,     16, X12004,2,20090617,0322,-24.7655, 154.3835, 4154,   2400.5,2,   1.9034,2,   1.90405,2,  34.7142,2,  34.7139,2,   180.57,2,   180.87,2,    95.45,2,     0.33,    32.41,2,     0.12,     0.00,2,     0.01,    2.269,2,    0.016,    0.008,2,    0.005,2,    0.000,2,   -999.0,9,   -999.0,9,-999.0000,-999,9,  -999.00,9,  -999.00,   -999.0,9,   -999.0,   1.7336,  27.7634
  49NZ20090521,   P21,   283,  1,     15, X12003,2,20090617,0322,-24.7655, 154.3835, 4154,   2600.0,2,   1.7002,2,   1.70015,2,  34.7228,2,  34.7228,2,   185.81,2,   186.19,2,    99.75,2,     0.34,    32.29,2,     0.12,     0.00,2,     0.01,    2.255,2,    0.016,    0.007,2,    0.003,2,    0.000,2,   -999.0,9,   -999.0,9,-999.0000,-999,9,  -999.00,9,  -999.00,   -999.0,9,   -999.0,   1.5162,  27.7866
  49NZ20090521,   P21,   283,  1,     14, X12002,2,20090617,0322,-24.7655, 154.3835, 4154,   2802.7,2,   1.5788,2,   1.57886,2,  34.7237,2,  34.7237,2,   188.26,2,   188.51,2,   102.73,2,     0.35,    32.23,2,     0.12,     0.01,2,     0.01,    2.256,2,    0.016,    0.007,2,    0.005,2,    0.000,2,   -999.0,9,   -999.0,9,-999.0000,-999,9,  -999.00,9,  -999.00,   -999.0,9,   -999.0,   1.3786,  27.7972
  49NZ20090521,   P21,   283,  1,     13, X12001,2,20090617,0322,-24.7655, 154.3835, 4154,   3000.6,2,   1.4153,2,   1.41542,2,  34.7218,2,  34.7216,6,   190.96,2,   191.10,2,   106.83,2,     0.35,    32.41,2,     0.12,     0.00,2,     0.01,    2.267,2,    0.016,    0.006,2,    0.005,2,    0.000,2,   -999.0,9,   -999.0,9,-999.0000,-999,9,  -999.00,9,  -999.00,   -999.0,9,   -999.0,   1.2001,  27.8083
  49NZ20090521,   P21,   283,  1,     12, X12030,2,20090617,0322,-24.7655, 154.3835, 4154,   3250.1,2,   1.2313,2,   1.23156,2,  34.7184,2,  34.7182,2,   193.78,2,   193.94,2,   111.51,2,     0.36,    32.54,2,     0.12,     0.00,2,     0.01,    2.280,2,    0.016,    0.005,2,    0.005,2,    0.000,2,   -999.0,9,   -999.0,9,-999.0000,-999,9,  -999.00,9,  -999.00,   -999.0,9,   -999.0,   0.9964,  27.8193
  49NZ20090521,   P21,   283,  1,     11, X12044,2,20090617,0322,-24.7655, 154.3835, 4154,   3500.8,2,   1.1699,2,   1.16995,2,  34.7166,2,  34.7162,2,   194.92,2,   195.05,2,   113.31,2,     0.37,    32.68,2,     0.12,     0.00,2,     0.01,    2.282,2,    0.016,    0.006,2,    0.005,2,    0.000,2,   -999.0,9,   -999.0,9,-999.0000,-999,9,  -999.00,9,  -999.00,   -999.0,9,   -999.0,   0.9118,  27.8235
  49NZ20090521,   P21,   283,  1,     10, X12048,2,20090617,0322,-24.7655, 154.3835, 4154,   3750.6,2,   1.1490,2,   1.14900,2,  34.7154,2,  34.7153,2,   195.43,2,   195.50,2,   114.38,2,     0.37,    32.72,2,     0.12,     0.00,2,     0.01,    2.282,2,    0.016,    0.011,2,    0.006,2,    0.000,2,   -999.0,9,   -999.0,9,-999.0000,-999,9,  -999.00,9,  -999.00,   -999.0,9,   -999.0,   0.8660,  27.8255
  49NZ20090521,   P21,   283,  1,      9, X12027,2,20090617,0322,-24.7655, 154.3835, 4154,   3999.7,2,   1.1482,2,   1.14816,2,  34.7146,2,  34.7144,2,   195.68,2,   195.72,2,   115.19,2,     0.37,    32.73,2,     0.12,     0.00,2,     0.01,    2.288,2,    0.016,    0.013,2,    0.008,2,    0.000,2,   -999.0,9,   -999.0,9,-999.0000,-999,9,  -999.00,9,  -999.00,   -999.0,9,   -999.0,   0.8391,  27.8266
  49NZ20090521,   P21,   283,  1,      8, X12026,9,20090617,0322,-24.7655, 154.3835, 4154,     10.6,2,  22.7822,2,  22.78262,2,  35.4033,2,-999.0000,9,   214.92,2,  -999.00,9,  -999.00,9,  -999.00,  -999.00,9,  -999.00,  -999.00,9,  -999.00, -999.000,9, -999.000, -999.000,9, -999.000,9, -999.000,9,   -999.0,9,   -999.0,9,-999.0000,-999,9,  -999.00,9,  -999.00,   -999.0,9,   -999.0,  22.7801,  24.3029
  49NZ20090521,   P21,   283,  1,      7, X12025,9,20090617,0322,-24.7655, 154.3835, 4154,     50.0,2,  22.6503,2,  22.65387,2,  35.4187,2,-999.0000,9,   214.42,2,  -999.00,9,  -999.00,9,  -999.00,  -999.00,9,  -999.00,  -999.00,9,  -999.00, -999.000,9, -999.000, -999.000,9, -999.000,9, -999.000,9,   -999.0,9,   -999.0,9,-999.0000,-999,9,  -999.00,9,  -999.00,   -999.0,9,   -999.0,  22.6402,  24.3546
  49NZ20090521,   P21,   283,  1,      6, X12024,9,20090617,0322,-24.7655, 154.3835, 4154,    100.8,2,  19.8899,2,  19.89334,2,  35.6334,2,-999.0000,9,   185.65,2,  -999.00,9,  -999.00,9,  -999.00,  -999.00,9,  -999.00,  -999.00,9,  -999.00, -999.000,9, -999.000, -999.000,9, -999.000,9, -999.000,9,   -999.0,9,   -999.0,9,-999.0000,-999,9,  -999.00,9,  -999.00,   -999.0,9,   -999.0,  19.8713,  25.2790
  49NZ20090521,   P21,   283,  1,      5, X12028,9,20090617,0322,-24.7655, 154.3835, 4154,    200.2,2,  16.9847,2,  16.98518,2,  35.4604,2,-999.0000,9,   170.82,2,  -999.00,9,  -999.00,9,  -999.00,  -999.00,9,  -999.00,  -999.00,9,  -999.00, -999.000,9, -999.000, -999.000,9, -999.000,9, -999.000,9,   -999.0,9,   -999.0,9,-999.0000,-999,9,  -999.00,9,  -999.00,   -999.0,9,   -999.0,  16.9516,  25.8793
  49NZ20090521,   P21,   283,  1,      4, X12022,9,20090617,0322,-24.7655, 154.3835, 4154,    258.5,2,  15.6233,2,  15.62332,2,  35.4013,2,-999.0000,9,   185.15,2,  -999.00,9,  -999.00,9,  -999.00,  -999.00,9,  -999.00,  -999.00,9,  -999.00, -999.000,9, -999.000, -999.000,9, -999.000,9, -999.000,9,   -999.0,9,   -999.0,9,-999.0000,-999,9,  -999.00,9,  -999.00,   -999.0,9,   -999.0,  15.5828,  26.1513
  49NZ20090521,   P21,   283,  1,      3, X12021,9,20090617,0322,-24.7655, 154.3835, 4154,    150.3,2,  18.4012,2,  18.40122,2,  35.5998,2,-999.0000,9,   179.54,2,  -999.00,9,  -999.00,9,  -999.00,  -999.00,9,  -999.00,  -999.00,9,  -999.00, -999.000,9, -999.000, -999.000,9, -999.000,9, -999.000,9,   -999.0,9,   -999.0,9,-999.0000,-999,9,  -999.00,9,  -999.00,   -999.0,9,   -999.0,  18.3749,  25.6381
  49NZ20090521,   P21,   283,  1,      2, X12020,9,20090617,0322,-24.7655, 154.3835, 4154,   1400.3,2,   3.3445,2,   3.34514,2,  34.5541,2,-999.0000,9,   151.55,2,  -999.00,9,  -999.00,9,  -999.00,  -999.00,9,  -999.00,  -999.00,9,  -999.00, -999.000,9, -999.000, -999.000,9, -999.000,9, -999.000,9,   -999.0,9,   -999.0,9,-999.0000,-999,9,  -999.00,9,  -999.00,   -999.0,9,   -999.0,   3.2413,  27.5067
  49NZ20090521,   P21,   283,  1,      1, X12019,2,20090617,0322,-24.7655, 154.3835, 4154,   4200.3,2,   1.1523,2,   1.15229,2,  34.7141,2,  34.7141,6,   195.71,2,   195.52,2,   115.81,2,     0.37,    32.81,2,     0.12,     0.00,2,     0.01,    2.301,2,    0.016,    0.016,2,    0.009,2,    0.000,2,   -999.0,9,   -999.0,9,-999.0000,-999,9,  -999.00,9,  -999.00,   -999.0,9,   -999.0,   0.8214,  27.8273