BOTTLE,20111109CCHDOSIOCBG
EXPOCODE,SECT_ID,STNNBR,CASTNO,SAMPNO,BTLNBR,BTLNBR_FLAG_W,DATE,TIME,LATITUDE,LONGITUDE,DEPTH,CTDPRS,CTDPRS_FLAG_W,CTDTMP,CTDTMP_FLAG_W,SBE35,SBE35_FLAG_W,CTDSAL,CTDSAL_FLAG_W,SALNTY,SALNTY_FLAG_W,CTDOXY,CTDOXY_FLAG_W,OXYGEN,OXYGEN_FLAG_W,SILCAT,SILCAT_FLAG_W,SILUNC,NITRAT,NITRAT_FLAG_W,NRAUNC,NITRIT,NITRIT_FLAG_W,NRIUNC,PHSPHT,PHSPHT_FLAG_W,PHPUNC,CFC-11,CFC-11_FLAG_W,CFC-12,CFC-12_FLAG_W,CFC113,CFC113_FLAG_W,TCARBN,TCARBN_FLAG_W,ALKALI,ALKALI_FLAG_W,PH_TOT,PH_TMP,PH_TOT_FLAG_W,DELC13,DELC13_FLAG_W,C13ERR,DELC14,DELC14_FLAG_W,C14ERR,THETA,SIG0
,,,,,,,,,,,METERS,DBAR,,ITS-90,,ITS-90,,PSS-78,,PSS-78,,UMOL/KG,,UMOL/KG,,UMOL/KG,,UMOL/KG,UMOL/KG,,UMOL/KG,UMOL/KG,,UMOL/KG,UMOL/KG,,UMOL/KG,PMOL/KG,,PMOL/KG,,PMOL/KG,,UMOL/KG,,UMOL/KG,,,DEG C,,/MILLE,,/MILLE,/MILLE,,/MILLE,DEG C,KG/M^3
  49NZ20090521,   P21,   213,  1,      0,   -999,9,20090605,0523,-17.8993,-178.5500,  991,   -999.0,9,-999.0000,9,-999.00000,9,-999.0000,9,  35.2428,2,  -999.00,9,  -999.00,9,  -999.00,9,  -999.00,  -999.00,9,  -999.00,  -999.00,9,  -999.00, -999.000,9, -999.000, -999.000,9, -999.000,9, -999.000,9,   -999.0,9,   -999.0,9,-999.0000,-999,9,  -999.00,9,  -999.00,   -999.0,9,   -999.0,-999.0000,-999.0000
  49NZ20090521,   P21,   213,  1,     36, X12043,2,20090605,0523,-17.8993,-178.5500,  991,     10.0,2,  26.8169,2,  26.81979,2,  35.1574,2,  35.1554,2,   199.40,2,   199.79,2,     0.58,2,     0.12,     0.09,2,     0.03,     0.02,2,     0.01,    0.072,2,    0.027,    1.472,2,    0.943,2, -999.000,5,   1953.7,2,   2308.1,2,   8.1312,  25,6,  -999.00,9,  -999.00,   -999.0,9,   -999.0,  26.8146,  22.8955
  49NZ20090521,   P21,   213,  1,     35, X12042,2,20090605,0523,-17.8993,-178.5500,  991,     50.4,2,  26.9738,2,  26.97406,2,  35.2341,2,  35.2320,2,   197.68,2,   198.48,2,     0.59,2,     0.12,     0.07,2,     0.03,     0.01,2,     0.01,    0.082,2,    0.025,    1.468,2,    0.942,2, -999.000,5,   1959.0,6,   2313.8,2,   8.1307,  25,2,  -999.00,9,  -999.00,   -999.0,9,   -999.0,  26.9622,  22.9062
  49NZ20090521,   P21,   213,  1,     34, X12016,2,20090605,0523,-17.8993,-178.5500,  991,    100.2,2,  25.3942,2,  25.38886,2,  35.5135,2,  35.5214,2,   186.59,2,   186.02,2,     0.61,2,     0.12,     0.49,2,     0.03,     0.16,2,     0.01,    0.187,2,    0.016,    1.668,6,    1.047,6, -999.000,5,   2009.9,2,   2333.0,6,   8.0765,  25,2,  -999.00,9,  -999.00,   -999.0,9,   -999.0,  25.3722,  23.6154
  49NZ20090521,   P21,   213,  1,     33, X12015,2,20090605,0523,-17.8993,-178.5500,  991,    151.0,2,  23.8374,2,  23.83935,2,  35.7822,2,  35.7764,2,   168.41,2,   168.74,2,     0.74,2,     0.12,     2.02,2,     0.04,     0.03,2,     0.01,    0.329,2,    0.014,    1.797,2,    1.103,2,    0.162,4,   2053.7,2,   2350.1,2,   8.0281,  25,2,  -999.00,9,  -999.00,   -999.0,9,   -999.0,  23.8057,  24.2913
  49NZ20090521,   P21,   213,  1,     32, X12050,2,20090605,0523,-17.8993,-178.5500,  991,    199.8,2,  22.0122,2,  21.97166,2,  35.8106,2,  35.8153,3,   164.22,2,   164.62,2,     0.81,2,     0.12,     3.49,2,     0.04,     0.02,2,     0.01,    0.428,2,    0.013,    1.954,2,    1.162,2,    0.056,2,   2079.9,2,   2353.0,2,   7.9872,  25,2,  -999.00,9,  -999.00,   -999.0,9,   -999.0,  21.9725,  24.8417
  49NZ20090521,   P21,   213,  1,     31, X12014,2,20090605,0523,-17.8993,-178.5500,  991,    249.7,2,  20.5352,2,  20.54349,2,  35.7551,2,  35.7174,6,   163.72,2,   164.89,2,     1.21,2,     0.12,     5.05,2,     0.05,     0.02,2,     0.01,    0.547,2,    0.013,    2.096,2,    1.209,2,    0.015,2,   2097.5,2,   2349.5,2,   7.9505,  25,2,  -999.00,9,  -999.00,   -999.0,9,   -999.0,  20.4879,  25.2077
  49NZ20090521,   P21,   213,  1,     30, X12012,2,20090605,0523,-17.8993,-178.5500,  991,    280.9,2,  18.2973,2,  18.29527,2,  35.4860,2,  35.4866,2,   159.79,2,   160.42,2,     1.93,2,     0.12,     7.45,2,     0.05,     0.02,2,     0.01,    0.736,2,    0.013,    2.142,2,    1.204,2,    0.026,2,   2112.5,2,   2337.0,2,   7.9026,  25,2,  -999.00,9,  -999.00,   -999.0,9,   -999.0,  18.2483,  25.5827
  49NZ20090521,   P21,   213,  1,     29, X12041,2,20090605,0523,-17.8993,-178.5500,  991,    371.6,2,  13.8748,2,  13.88004,2,  34.9817,2,  34.9824,2,   147.48,2,   147.80,2,     6.27,2,     0.13,    14.54,2,     0.07,     0.02,2,     0.01,    1.218,2,    0.013,    1.859,6,    0.986,6,    0.012,6,   2140.5,2,   2308.3,2,   7.7913,  25,2,  -999.00,9,  -999.00,   -999.0,9,   -999.0,  13.8211,  26.2105
  49NZ20090521,   P21,   213,  1,     28, X12040,2,20090605,0523,-17.8993,-178.5500,  991,    469.6,2,   9.8466,2,   9.84814,2,  34.6215,2,  34.6222,6,   171.09,2,   171.30,2,     9.37,2,     0.14,    20.49,2,     0.09,     0.02,2,     0.01,    1.533,2,    0.014,    1.716,2,    0.869,2,    0.021,2,   2155.2,2,   2290.4,2,   7.7218,  25,2,  -999.00,9,  -999.00,   -999.0,9,   -999.0,   9.7921,  26.6916
  49NZ20090521,   P21,   213,  1,     27, X12009,2,20090605,0523,-17.8993,-178.5500,  991,    570.1,2,   7.2412,2,   7.24075,2,  34.4257,2,  34.4263,2,   191.98,2,   190.67,2,    13.61,2,     0.15,    25.44,2,     0.10,     0.01,2,     0.01,    1.813,2,    0.015,    1.376,6,    0.674,6,    0.022,6,   2168.0,2,   2286.0,2,   7.6811,  25,2,  -999.00,9,  -999.00,   -999.0,9,   -999.0,   7.1858,  26.9405
  49NZ20090521,   P21,   213,  1,     26, X12008,2,20090605,0523,-17.8993,-178.5500,  991,    670.3,2,   6.1100,2,   6.10809,2,  34.3777,2,  34.3753,2,   190.43,2,   190.99,2,    20.35,2,     0.16,    28.42,2,     0.11,     0.01,2,     0.01,    1.999,2,    0.015,    0.792,2,    0.386,2,    0.016,2,   2180.6,6,   2290.7,2,   7.6581,  25,2,  -999.00,9,  -999.00,   -999.0,9,   -999.0,   6.0502,  27.0545
  49NZ20090521,   P21,   213,  1,     25, X12007,2,20090605,0523,-17.8993,-178.5500,  991,    770.6,2,   5.3665,2,   5.36635,2,  34.3773,2,  34.3770,2,   182.66,2,   182.47,2,    28.97,2,     0.18,    30.49,2,     0.12,     0.01,2,     0.01,    2.135,2,    0.015,    0.442,2,    0.225,2,    0.013,2,   2196.0,2,   2298.8,6,   7.6348,  25,2,  -999.00,9,  -999.00,   -999.0,9,   -999.0,   5.3016,  27.1463
  49NZ20090521,   P21,   213,  1,     24, X12035,2,20090605,0523,-17.8993,-178.5500,  991,    871.4,2,   4.7547,2,   4.75461,2,  34.4103,2,  34.4101,2,   173.80,2,   173.39,2,    41.40,2,     0.21,    32.09,2,     0.12,     0.01,2,     0.01,    2.249,2,    0.016,    0.274,2,    0.138,2,    0.000,2,   2214.6,2,   2311.7,2,   7.6165,  25,6,  -999.00,9,  -999.00,   -999.0,9,   -999.0,   4.6847,  27.2435
  49NZ20090521,   P21,   213,  1,     23, X12038,9,20090605,0523,-17.8993,-178.5500,  991,    151.2,2,  23.8238,2,  23.82534,2,  35.7567,2,-999.0000,9,   168.63,2,  -999.00,9,  -999.00,9,  -999.00,  -999.00,9,  -999.00,  -999.00,9,  -999.00, -999.000,9, -999.000, -999.000,9, -999.000,9, -999.000,9,   -999.0,9,   -999.0,9,-999.0000,-999,9,  -999.00,9,  -999.00,   -999.0,9,   -999.0,  23.7920,  24.2760
  49NZ20090521,   P21,   213,  1,     22, X12034,9,20090605,0523,-17.8993,-178.5500,  991,    199.5,2,  21.9883,2,  21.98383,2,  35.8129,2,-999.0000,9,   164.55,2,  -999.00,9,  -999.00,9,  -999.00,  -999.00,9,  -999.00,  -999.00,9,  -999.00, -999.000,9, -999.000, -999.000,9, -999.000,9, -999.000,9,   -999.0,9,   -999.0,9,-999.0000,-999,9,  -999.00,9,  -999.00,   -999.0,9,   -999.0,  21.9487,  24.8501
  49NZ20090521,   P21,   213,  1,     21, X12033,9,20090605,0523,-17.8993,-178.5500,  991,    249.8,2,  20.5856,2,  20.57354,2,  35.7589,2,-999.0000,9,   163.63,2,  -999.00,9,  -999.00,9,  -999.00,  -999.00,9,  -999.00,  -999.00,9,  -999.00, -999.000,9, -999.000, -999.000,9, -999.000,9, -999.000,9,   -999.0,9,   -999.0,9,-999.0000,-999,9,  -999.00,9,  -999.00,   -999.0,9,   -999.0,  20.5382,  25.1970
  49NZ20090521,   P21,   213,  1,     20, X12032,9,20090605,0523,-17.8993,-178.5500,  991,   -999.0,9,-999.0000,9,-999.00000,9,-999.0000,9,-999.0000,9,  -999.00,9,  -999.00,9,  -999.00,9,  -999.00,  -999.00,9,  -999.00,  -999.00,9,  -999.00, -999.000,9, -999.000, -999.000,9, -999.000,9, -999.000,9,   -999.0,9,   -999.0,9,-999.0000,-999,9,  -999.00,9,  -999.00,   -999.0,9,   -999.0,-999.0000,-999.0000
  49NZ20090521,   P21,   213,  1,     19, X12046,9,20090605,0523,-17.8993,-178.5500,  991,    371.2,2,  13.8841,2,  13.88270,2,  34.9835,2,-999.0000,9,   147.41,2,  -999.00,9,  -999.00,9,  -999.00,  -999.00,9,  -999.00,  -999.00,9,  -999.00, -999.000,9, -999.000, -999.000,9, -999.000,9, -999.000,9,   -999.0,9,   -999.0,9,-999.0000,-999,9,  -999.00,9,  -999.00,   -999.0,9,   -999.0,  13.8304,  26.2099
  49NZ20090521,   P21,   213,  1,     18, X12006,9,20090605,0523,-17.8993,-178.5500,  991,    469.9,2,   9.8457,2,   9.84566,2,  34.6217,2,-999.0000,9,   171.17,2,  -999.00,9,  -999.00,9,  -999.00,  -999.00,9,  -999.00,  -999.00,9,  -999.00, -999.000,9, -999.000, -999.000,9, -999.000,9, -999.000,9,   -999.0,9,   -999.0,9,-999.0000,-999,9,  -999.00,9,  -999.00,   -999.0,9,   -999.0,   9.7912,  26.6920
  49NZ20090521,   P21,   213,  1,     17, X12047,9,20090605,0523,-17.8993,-178.5500,  991,    570.2,2,   7.2555,2,   7.25651,2,  34.4247,2,-999.0000,9,   192.23,2,  -999.00,9,  -999.00,9,  -999.00,  -999.00,9,  -999.00,  -999.00,9,  -999.00, -999.000,9, -999.000, -999.000,9, -999.000,9, -999.000,9,   -999.0,9,   -999.0,9,-999.0000,-999,9,  -999.00,9,  -999.00,   -999.0,9,   -999.0,   7.2001,  26.9377
  49NZ20090521,   P21,   213,  1,     16, X12004,9,20090605,0523,-17.8993,-178.5500,  991,     10.0,2,  26.8412,2,  26.84390,2,  35.1690,2,-999.0000,9,   199.16,2,  -999.00,9,  -999.00,9,  -999.00,  -999.00,9,  -999.00,  -999.00,9,  -999.00, -999.000,9, -999.000, -999.000,9, -999.000,9, -999.000,9,   -999.0,9,   -999.0,9,-999.0000,-999,9,  -999.00,9,  -999.00,   -999.0,9,   -999.0,  26.8389,  22.8964
  49NZ20090521,   P21,   213,  1,     15, X12003,9,20090605,0523,-17.8993,-178.5500,  991,     50.4,2,  26.9752,2,  26.97590,2,  35.2345,2,-999.0000,9,   197.67,2,  -999.00,9,  -999.00,9,  -999.00,  -999.00,9,  -999.00,  -999.00,9,  -999.00, -999.000,9, -999.000, -999.000,9, -999.000,9, -999.000,9,   -999.0,9,   -999.0,9,-999.0000,-999,9,  -999.00,9,  -999.00,   -999.0,9,   -999.0,  26.9636,  22.9060
  49NZ20090521,   P21,   213,  1,     14, X12002,9,20090605,0523,-17.8993,-178.5500,  991,    100.1,2,  25.3802,2,  25.37909,2,  35.5179,2,-999.0000,9,   186.52,2,  -999.00,9,  -999.00,9,  -999.00,  -999.00,9,  -999.00,  -999.00,9,  -999.00, -999.000,9, -999.000, -999.000,9, -999.000,9, -999.000,9,   -999.0,9,   -999.0,9,-999.0000,-999,9,  -999.00,9,  -999.00,   -999.0,9,   -999.0,  25.3582,  23.6230
  49NZ20090521,   P21,   213,  1,     13, X12001,9,20090605,0523,-17.8993,-178.5500,  991,    151.0,2,  23.8055,2,  23.80611,2,  35.7728,2,-999.0000,9,   168.65,2,  -999.00,9,  -999.00,9,  -999.00,  -999.00,9,  -999.00,  -999.00,9,  -999.00, -999.000,9, -999.000, -999.000,9, -999.000,9, -999.000,9,   -999.0,9,   -999.0,9,-999.0000,-999,9,  -999.00,9,  -999.00,   -999.0,9,   -999.0,  23.7738,  24.2936
  49NZ20090521,   P21,   213,  1,     12, X12030,9,20090605,0523,-17.8993,-178.5500,  991,    199.9,2,  22.0449,2,  22.02542,2,  35.8100,2,-999.0000,9,   164.37,2,  -999.00,9,  -999.00,9,  -999.00,  -999.00,9,  -999.00,  -999.00,9,  -999.00, -999.000,9, -999.000, -999.000,9, -999.000,9, -999.000,9,   -999.0,9,   -999.0,9,-999.0000,-999,9,  -999.00,9,  -999.00,   -999.0,9,   -999.0,  22.0051,  24.8320
  49NZ20090521,   P21,   213,  1,     11, X12044,9,20090605,0523,-17.8993,-178.5500,  991,    249.7,2,  20.6201,2,  20.61986,2,  35.7642,2,-999.0000,9,   163.52,2,  -999.00,9,  -999.00,9,  -999.00,  -999.00,9,  -999.00,  -999.00,9,  -999.00, -999.000,9, -999.000, -999.000,9, -999.000,9, -999.000,9,   -999.0,9,   -999.0,9,-999.0000,-999,9,  -999.00,9,  -999.00,   -999.0,9,   -999.0,  20.5727,  25.1918
  49NZ20090521,   P21,   213,  1,     10, X12048,9,20090605,0523,-17.8993,-178.5500,  991,    280.8,2,  18.2958,2,  18.29586,2,  35.4873,2,-999.0000,9,   160.15,2,  -999.00,9,  -999.00,9,  -999.00,  -999.00,9,  -999.00,  -999.00,9,  -999.00, -999.000,9, -999.000, -999.000,9, -999.000,9, -999.000,9,   -999.0,9,   -999.0,9,-999.0000,-999,9,  -999.00,9,  -999.00,   -999.0,9,   -999.0,  18.2468,  25.5840
  49NZ20090521,   P21,   213,  1,      9, X12027,9,20090605,0523,-17.8993,-178.5500,  991,    371.7,2,  13.8737,2,  13.87381,2,  34.9825,2,-999.0000,9,   147.51,2,  -999.00,9,  -999.00,9,  -999.00,  -999.00,9,  -999.00,  -999.00,9,  -999.00, -999.000,9, -999.000, -999.000,9, -999.000,9, -999.000,9,   -999.0,9,   -999.0,9,-999.0000,-999,9,  -999.00,9,  -999.00,   -999.0,9,   -999.0,  13.8200,  26.2113
  49NZ20090521,   P21,   213,  1,      8, X12026,9,20090605,0523,-17.8993,-178.5500,  991,    470.0,2,   9.8420,2,   9.84376,2,  34.6216,2,-999.0000,9,   171.40,2,  -999.00,9,  -999.00,9,  -999.00,  -999.00,9,  -999.00,  -999.00,9,  -999.00, -999.000,9, -999.000, -999.000,9, -999.000,9, -999.000,9,   -999.0,9,   -999.0,9,-999.0000,-999,9,  -999.00,9,  -999.00,   -999.0,9,   -999.0,   9.7875,  26.6925
  49NZ20090521,   P21,   213,  1,      7, X12025,9,20090605,0523,-17.8993,-178.5500,  991,    570.2,2,   7.2967,2,   7.29784,2,  34.4287,2,-999.0000,9,   191.76,2,  -999.00,9,  -999.00,9,  -999.00,  -999.00,9,  -999.00,  -999.00,9,  -999.00, -999.000,9, -999.000, -999.000,9, -999.000,9, -999.000,9,   -999.0,9,   -999.0,9,-999.0000,-999,9,  -999.00,9,  -999.00,   -999.0,9,   -999.0,   7.2411,  26.9351
  49NZ20090521,   P21,   213,  1,      6, X12024,9,20090605,0523,-17.8993,-178.5500,  991,    670.4,2,   6.1094,2,   6.10981,2,  34.3778,2,-999.0000,9,   190.85,2,  -999.00,9,  -999.00,9,  -999.00,  -999.00,9,  -999.00,  -999.00,9,  -999.00, -999.000,9, -999.000, -999.000,9, -999.000,9, -999.000,9,   -999.0,9,   -999.0,9,-999.0000,-999,9,  -999.00,9,  -999.00,   -999.0,9,   -999.0,   6.0496,  27.0547
  49NZ20090521,   P21,   213,  1,      5, X12028,9,20090605,0523,-17.8993,-178.5500,  991,    770.8,2,   5.3530,2,   5.35372,2,  34.3780,2,-999.0000,9,   182.70,2,  -999.00,9,  -999.00,9,  -999.00,  -999.00,9,  -999.00,  -999.00,9,  -999.00, -999.000,9, -999.000, -999.000,9, -999.000,9, -999.000,9,   -999.0,9,   -999.0,9,-999.0000,-999,9,  -999.00,9,  -999.00,   -999.0,9,   -999.0,   5.2881,  27.1485
  49NZ20090521,   P21,   213,  1,      4, X12022,9,20090605,0523,-17.8993,-178.5500,  991,    871.9,2,   4.7542,2,   4.75414,2,  34.4103,2,-999.0000,9,   173.80,2,  -999.00,9,  -999.00,9,  -999.00,  -999.00,9,  -999.00,  -999.00,9,  -999.00, -999.000,9, -999.000, -999.000,9, -999.000,9, -999.000,9,   -999.0,9,   -999.0,9,-999.0000,-999,9,  -999.00,9,  -999.00,   -999.0,9,   -999.0,   4.6841,  27.2435
  49NZ20090521,   P21,   213,  1,      3, X12021,9,20090605,0523,-17.8993,-178.5500,  991,     10.1,2,  26.8226,2,  26.82244,2,  35.1599,2,-999.0000,9,   199.34,2,  -999.00,9,  -999.00,9,  -999.00,  -999.00,9,  -999.00,  -999.00,9,  -999.00, -999.000,9, -999.000, -999.000,9, -999.000,9, -999.000,9,   -999.0,9,   -999.0,9,-999.0000,-999,9,  -999.00,9,  -999.00,   -999.0,9,   -999.0,  26.8203,  22.8955
  49NZ20090521,   P21,   213,  1,      2, X12020,9,20090605,0523,-17.8993,-178.5500,  991,     50.5,2,  26.9759,2,  26.97583,2,  35.2346,2,-999.0000,9,   197.82,2,  -999.00,9,  -999.00,9,  -999.00,  -999.00,9,  -999.00,  -999.00,9,  -999.00, -999.000,9, -999.000, -999.000,9, -999.000,9, -999.000,9,   -999.0,9,   -999.0,9,-999.0000,-999,9,  -999.00,9,  -999.00,   -999.0,9,   -999.0,  26.9643,  22.9059
  49NZ20090521,   P21,   213,  1,      1, X12019,2,20090605,0523,-17.8993,-178.5500,  991,    983.0,2,   4.4788,2,   4.47890,2,  34.4248,2,  34.4243,6,   169.64,2,   168.83,2,    46.99,2,     0.22,    32.84,2,     0.12,     0.02,2,     0.01,    2.299,2,    0.016,    0.196,2,    0.099,2,    0.000,2,   2222.9,2,   2317.7,2,   7.6080,  25,2,  -999.00,9,  -999.00,   -999.0,9,   -999.0,   4.4011,  27.2862