BOTTLE,20111109CCHDOSIOCBG
EXPOCODE,SECT_ID,STNNBR,CASTNO,SAMPNO,BTLNBR,BTLNBR_FLAG_W,DATE,TIME,LATITUDE,LONGITUDE,DEPTH,CTDPRS,CTDPRS_FLAG_W,CTDTMP,CTDTMP_FLAG_W,SBE35,SBE35_FLAG_W,CTDSAL,CTDSAL_FLAG_W,SALNTY,SALNTY_FLAG_W,CTDOXY,CTDOXY_FLAG_W,OXYGEN,OXYGEN_FLAG_W,SILCAT,SILCAT_FLAG_W,SILUNC,NITRAT,NITRAT_FLAG_W,NRAUNC,NITRIT,NITRIT_FLAG_W,NRIUNC,PHSPHT,PHSPHT_FLAG_W,PHPUNC,CFC-11,CFC-11_FLAG_W,CFC-12,CFC-12_FLAG_W,CFC113,CFC113_FLAG_W,TCARBN,TCARBN_FLAG_W,ALKALI,ALKALI_FLAG_W,PH_TOT,PH_TMP,PH_TOT_FLAG_W,DELC13,DELC13_FLAG_W,C13ERR,DELC14,DELC14_FLAG_W,C14ERR,THETA,SIG0
,,,,,,,,,,,METERS,DBAR,,ITS-90,,ITS-90,,PSS-78,,PSS-78,,UMOL/KG,,UMOL/KG,,UMOL/KG,,UMOL/KG,UMOL/KG,,UMOL/KG,UMOL/KG,,UMOL/KG,UMOL/KG,,UMOL/KG,PMOL/KG,,PMOL/KG,,PMOL/KG,,UMOL/KG,,UMOL/KG,,,DEG C,,/MILLE,,/MILLE,/MILLE,,/MILLE,DEG C,KG/M^3
  49NZ20090521,   P21,   270,  1,      0,   -999,9,20090615,0114,-22.5998, 159.9482, 2232,   -999.0,9,-999.0000,9,-999.00000,9,-999.0000,9,  35.2326,2,  -999.00,9,  -999.00,9,  -999.00,9,  -999.00,  -999.00,9,  -999.00,  -999.00,9,  -999.00, -999.000,9, -999.000, -999.000,9, -999.000,9, -999.000,9,   -999.0,9,   -999.0,9,-999.0000,-999,9,  -999.00,9,  -999.00,   -999.0,9,   -999.0,-999.0000,-999.0000
  49NZ20090521,   P21,   270,  1,     36, X12043,2,20090615,0114,-22.5998, 159.9482, 2232,     10.3,2,  23.6902,2,  23.69096,2,  35.2431,2,  35.2417,2,   210.02,2,   209.82,2,     0.60,2,     0.12,     0.10,2,     0.03,     0.01,2,     0.01,    0.112,2,    0.021,    1.694,2,    1.098,2, -999.000,5,   1980.7,2,   2308.5,2,   8.0865,  25,6,  -999.00,9,  -999.00,   -999.0,9,   -999.0,  23.6881,  23.9175
  49NZ20090521,   P21,   270,  1,     35, X12042,2,20090615,0114,-22.5998, 159.9482, 2232,     49.9,2,  23.6699,2,  23.67046,2,  35.2447,2,  35.2427,2,   209.88,2,   209.76,2,     0.64,2,     0.12,     0.09,2,     0.03,     0.01,2,     0.01,    0.110,2,    0.021,    1.692,2,    1.097,2, -999.000,5,   1981.2,6,   2307.7,2,   8.0858,  25,2,  -999.00,9,  -999.00,   -999.0,9,   -999.0,  23.6595,  23.9272
  49NZ20090521,   P21,   270,  1,     34, X12016,2,20090615,0114,-22.5998, 159.9482, 2232,    100.3,2,  23.4508,2,  23.45665,2,  35.3613,2,  35.3725,2,   198.30,2,   195.16,2,     0.62,2,     0.12,     0.91,2,     0.04,     0.12,2,     0.01,    0.191,2,    0.016,    1.747,6,    1.109,6, -999.000,5,   2005.7,2,   2317.0,6,   8.0582,  25,2,  -999.00,9,  -999.00,   -999.0,9,   -999.0,  23.4300,  24.0828
  49NZ20090521,   P21,   270,  1,     33, X12015,2,20090615,0114,-22.5998, 159.9482, 2232,    150.1,2,  21.8028,2,  21.79604,2,  35.5821,2,  35.5813,2,   169.76,2,   170.17,2,     0.95,2,     0.12,     3.95,2,     0.04,     0.03,2,     0.01,    0.395,2,    0.013,    1.902,2,    1.188,2,    0.151,2,   2052.4,2,   2330.1,2,   7.9957,  25,6,  -999.00,9,  -999.00,   -999.0,9,   -999.0,  21.7732,  24.7238
  49NZ20090521,   P21,   270,  1,     32, X12050,2,20090615,0114,-22.5998, 159.9482, 2232,    200.8,2,  20.1028,2,  20.10488,2,  35.6401,2,  35.6386,2,   174.68,2,   174.65,2,     1.08,2,     0.12,     4.77,2,     0.05,     0.02,2,     0.01,    0.439,2,    0.013,    2.019,2,    1.235,2,    0.079,2,   2068.0,2,   2333.4,2,   7.9729,  25,2,  -999.00,9,  -999.00,   -999.0,9,   -999.0,  20.0654,  25.2328
  49NZ20090521,   P21,   270,  1,     31, X12014,2,20090615,0114,-22.5998, 159.9482, 2232,    249.9,2,  18.8181,2,  18.81814,2,  35.6270,2,  35.6253,6,   183.37,2,   183.23,2,     1.27,2,     0.12,     5.14,2,     0.05,     0.01,2,     0.01,    0.456,2,    0.013,    2.104,2,    1.278,2,    0.059,2,   2073.1,2,   2332.5,2,   7.9622,  25,2,  -999.00,9,  -999.00,   -999.0,9,   -999.0,  18.7736,  25.5583
  49NZ20090521,   P21,   270,  1,     30, X12012,2,20090615,0114,-22.5998, 159.9482, 2232,    280.2,2,  18.1969,2,  18.19481,2,  35.5999,2,  35.5991,2,   182.41,2,   182.36,2,     1.59,2,     0.12,     5.87,2,     0.05,     0.01,2,     0.01,    0.506,2,    0.013,    2.138,2,    1.282,2,    0.051,2,   2080.9,2,   2330.9,2,   7.9487,  25,2,  -999.00,9,  -999.00,   -999.0,9,   -999.0,  18.1481,  25.6949
  49NZ20090521,   P21,   270,  1,     29, X12041,2,20090615,0114,-22.5998, 159.9482, 2232,    370.5,2,  15.9576,2,  15.96096,2,  35.4345,2,  35.4352,2,   186.94,2,   187.11,2,     2.25,2,     0.12,     8.24,2,     0.06,     0.01,2,     0.01,    0.662,2,    0.013,    2.267,6,    1.325,6,    0.053,6,   2096.3,2,   2322.4,2,   7.9027,  25,2,  -999.00,9,  -999.00,   -999.0,9,   -999.0,  15.8986,  26.1052
  49NZ20090521,   P21,   270,  1,     28, X12040,2,20090615,0114,-22.5998, 159.9482, 2232,    471.1,2,  12.6114,2,  12.63114,2,  35.0625,2,  35.0683,6,   188.76,2,   189.02,2,     4.55,2,     0.13,    13.65,2,     0.07,     0.01,2,     0.01,    1.015,2,    0.013,    2.221,2,    1.229,2,    0.071,2,   2122.6,2,   2306.9,2,   7.8227,  25,2,  -999.00,9,  -999.00,   -999.0,9,   -999.0,  12.5472,  26.5314
  49NZ20090521,   P21,   270,  1,     27, X12009,2,20090615,0114,-22.5998, 159.9482, 2232,    571.3,2,   9.2902,2,   9.30099,2,  34.6737,2,  34.6740,2,   195.39,2,   195.51,2,     9.26,2,     0.14,    20.24,2,     0.09,     0.01,2,     0.01,    1.441,2,    0.014,    1.854,6,    0.983,6,    0.065,6,   2146.1,2,   2292.8,2,   7.7475,  25,2,  -999.00,9,  -999.00,   -999.0,9,   -999.0,   9.2259,  26.8262
  49NZ20090521,   P21,   270,  1,     26, X12008,2,20090615,0114,-22.5998, 159.9482, 2232,    671.3,2,   7.2994,2,   7.29955,2,  34.5051,2,  34.5064,2,   197.13,2,   197.27,2,    16.65,2,     0.16,    24.58,2,     0.10,     0.01,2,     0.01,    1.732,2,    0.014,    1.290,2,    0.678,2,    0.039,2,   2162.2,6,   2293.6,2,   7.7035,  25,2,  -999.00,9,  -999.00,   -999.0,9,   -999.0,   7.2334,  26.9963
  49NZ20090521,   P21,   270,  1,     25, X12007,2,20090615,0114,-22.5998, 159.9482, 2232,    771.1,2,   6.1967,2,   6.19708,2,  34.4435,2,  34.4432,2,   193.59,2,   193.83,2,    24.67,2,     0.17,    27.30,2,     0.11,     0.01,2,     0.01,    1.914,2,    0.015,    0.844,2,    0.446,2,    0.034,2,   2178.1,2,   2297.5,6,   7.6751,  25,2,  -999.00,9,  -999.00,   -999.0,9,   -999.0,   6.1268,  27.0967
  49NZ20090521,   P21,   270,  1,     24, X12035,2,20090615,0114,-22.5998, 159.9482, 2232,    870.6,2,   5.3928,2,   5.39307,2,  34.4461,2,  34.4458,2,   183.36,2,   183.70,2,    36.34,2,     0.20,    29.52,2,     0.12,     0.01,2,     0.01,    2.075,2,    0.015,    0.500,2,    0.270,2,    0.026,2,   2197.2,2,   2308.2,2,   7.6492,  25,6,  -999.00,9,  -999.00,   -999.0,9,   -999.0,   5.3186,  27.1988
  49NZ20090521,   P21,   270,  1,     23, X12038,2,20090615,0114,-22.5998, 159.9482, 2232,    972.1,2,   4.7822,2,   4.78210,2,  34.4645,2,  34.4646,6,   175.27,2,   175.51,2,    47.65,2,     0.22,    31.13,2,     0.12,     0.01,2,     0.01,    2.190,2,    0.015,    0.309,2,    0.170,2,    0.008,2,   2216.9,2,   2320.3,2,   7.6311,  25,2,  -999.00,9,  -999.00,   -999.0,9,   -999.0,   4.7031,  27.2845
  49NZ20090521,   P21,   270,  1,     22, X12034,2,20090615,0114,-22.5998, 159.9482, 2232,   1131.0,2,   4.0175,2,   4.01665,2,  34.5035,2,  34.5037,2,   164.13,2,   164.37,2,    64.60,2,     0.26,    33.02,2,     0.13,     0.01,2,     0.01,    2.329,2,    0.016,    0.123,2,    0.072,2,    0.000,2,   2241.9,2,   2338.5,2,   7.6095,  25,2,  -999.00,9,  -999.00,   -999.0,9,   -999.0,   3.9307,  27.3983
  49NZ20090521,   P21,   270,  1,     21, X12033,2,20090615,0114,-22.5998, 159.9482, 2232,   1331.0,2,   3.4448,2,   3.44534,2,  34.5481,2,  34.5489,2,   154.91,2,   155.12,2,    79.70,2,     0.29,    34.23,2,     0.13,     0.01,2,     0.01,    2.419,2,    0.016,    0.039,2,    0.027,2,    0.000,2,   2262.2,2,   2355.5,2,   7.5947,  25,2,  -999.00,9,  -999.00,   -999.0,9,   -999.0,   3.3464,  27.4919
  49NZ20090521,   P21,   270,  1,     20, X12032,2,20090615,0114,-22.5998, 159.9482, 2232,   1530.4,2,   3.0279,2,   3.02810,2,  34.5837,2,  34.5842,6,   149.40,2,   149.55,2,    90.94,2,     0.32,    34.96,2,     0.13,     0.01,2,     0.01,    2.476,2,    0.016,    0.012,2,    0.010,2,    0.000,2,   2278.6,2,   2368.1,2,   7.5847,  25,2,  -999.00,9,  -999.00,   -999.0,9,   -999.0,   2.9172,  27.5603
  49NZ20090521,   P21,   270,  1,     19, X12046,2,20090615,0114,-22.5998, 159.9482, 2232,   1730.6,2,   2.7050,2,   2.70480,2,  34.6150,2,  34.6152,2,   149.44,2,   149.66,2,    97.27,2,     0.33,    35.06,2,     0.13,     0.01,2,     0.01,    2.490,2,    0.016,    0.003,2,    0.005,2,    0.000,2,   2285.3,2,   2374.4,2,   7.5824,  25,2,  -999.00,9,  -999.00,   -999.0,9,   -999.0,   2.5813,  27.6151
  49NZ20090521,   P21,   270,  1,     18, X12006,2,20090615,0114,-22.5998, 159.9482, 2232,   1932.2,2,   2.4859,2,   2.48588,2,  34.6382,2,  34.6386,2,   152.64,2,   152.91,2,    99.74,2,     0.34,    34.95,2,     0.13,     0.01,2,     0.01,    2.469,2,    0.016,    0.002,2,    0.003,2,    0.000,2,   2287.6,2,   2377.0,2,   7.5846,  25,2,  -999.00,9,  -999.00,   -999.0,9,   -999.0,   2.3480,  27.6535
  49NZ20090521,   P21,   270,  1,     17, X12047,2,20090615,0114,-22.5998, 159.9482, 2232,   2131.7,2,   2.3035,2,   2.30345,2,  34.6606,2,  34.6610,2,   158.62,2,   158.85,2,    99.51,2,     0.34,    34.40,2,     0.13,     0.01,2,     0.01,    2.427,2,    0.016,    0.001,2,    0.002,2,    0.000,2,   2284.0,2,   2376.0,2,   7.5897,  25,2,  -999.00,9,  -999.00,   -999.0,9,   -999.0,   2.1509,  27.6877
  49NZ20090521,   P21,   270,  1,     16, X12004,9,20090615,0114,-22.5998, 159.9482, 2232,     10.1,2,  23.6895,2,  23.69042,2,  35.2434,2,-999.0000,9,   209.99,2,  -999.00,9,  -999.00,9,  -999.00,  -999.00,9,  -999.00,  -999.00,9,  -999.00, -999.000,9, -999.000, -999.000,9, -999.000,9, -999.000,9,   -999.0,9,   -999.0,9,-999.0000,-999,9,  -999.00,9,  -999.00,   -999.0,9,   -999.0,  23.6874,  23.9179
  49NZ20090521,   P21,   270,  1,     15, X12003,9,20090615,0114,-22.5998, 159.9482, 2232,     50.2,2,  23.6740,2,  23.67374,2,  35.2445,2,-999.0000,9,   209.76,2,  -999.00,9,  -999.00,9,  -999.00,  -999.00,9,  -999.00,  -999.00,9,  -999.00, -999.000,9, -999.000, -999.000,9, -999.000,9, -999.000,9,   -999.0,9,   -999.0,9,-999.0000,-999,9,  -999.00,9,  -999.00,   -999.0,9,   -999.0,  23.6635,  23.9258
  49NZ20090521,   P21,   270,  1,     14, X12002,9,20090615,0114,-22.5998, 159.9482, 2232,    100.7,2,  23.4672,2,  23.46580,2,  35.3546,2,-999.0000,9,   198.77,2,  -999.00,9,  -999.00,9,  -999.00,  -999.00,9,  -999.00,  -999.00,9,  -999.00, -999.000,9, -999.000, -999.000,9, -999.000,9, -999.000,9,   -999.0,9,   -999.0,9,-999.0000,-999,9,  -999.00,9,  -999.00,   -999.0,9,   -999.0,  23.4463,  24.0729
  49NZ20090521,   P21,   270,  1,     13, X12001,9,20090615,0114,-22.5998, 159.9482, 2232,    150.2,2,  21.7848,2,  21.78813,2,  35.5838,2,-999.0000,9,   169.60,2,  -999.00,9,  -999.00,9,  -999.00,  -999.00,9,  -999.00,  -999.00,9,  -999.00, -999.000,9, -999.000, -999.000,9, -999.000,9, -999.000,9,   -999.0,9,   -999.0,9,-999.0000,-999,9,  -999.00,9,  -999.00,   -999.0,9,   -999.0,  21.7552,  24.7300
  49NZ20090521,   P21,   270,  1,     12, X12030,9,20090615,0114,-22.5998, 159.9482, 2232,    200.3,2,  20.1090,2,  20.10950,2,  35.6403,2,-999.0000,9,   174.62,2,  -999.00,9,  -999.00,9,  -999.00,  -999.00,9,  -999.00,  -999.00,9,  -999.00, -999.000,9, -999.000, -999.000,9, -999.000,9, -999.000,9,   -999.0,9,   -999.0,9,-999.0000,-999,9,  -999.00,9,  -999.00,   -999.0,9,   -999.0,  20.0717,  25.2313
  49NZ20090521,   P21,   270,  1,     11, X12044,9,20090615,0114,-22.5998, 159.9482, 2232,    250.3,2,  18.8084,2,  18.81067,2,  35.6268,2,-999.0000,9,   183.48,2,  -999.00,9,  -999.00,9,  -999.00,  -999.00,9,  -999.00,  -999.00,9,  -999.00, -999.000,9, -999.000, -999.000,9, -999.000,9, -999.000,9,   -999.0,9,   -999.0,9,-999.0000,-999,9,  -999.00,9,  -999.00,   -999.0,9,   -999.0,  18.7638,  25.5606
  49NZ20090521,   P21,   270,  1,     10, X12048,9,20090615,0114,-22.5998, 159.9482, 2232,    280.6,2,  18.1920,2,  18.19331,2,  35.6000,2,-999.0000,9,   182.44,2,  -999.00,9,  -999.00,9,  -999.00,  -999.00,9,  -999.00,  -999.00,9,  -999.00, -999.000,9, -999.000, -999.000,9, -999.000,9, -999.000,9,   -999.0,9,   -999.0,9,-999.0000,-999,9,  -999.00,9,  -999.00,   -999.0,9,   -999.0,  18.1432,  25.6962
  49NZ20090521,   P21,   270,  1,      9, X12027,9,20090615,0114,-22.5998, 159.9482, 2232,    370.3,2,  15.9595,2,  15.95546,2,  35.4349,2,-999.0000,9,   186.98,2,  -999.00,9,  -999.00,9,  -999.00,  -999.00,9,  -999.00,  -999.00,9,  -999.00, -999.000,9, -999.000, -999.000,9, -999.000,9, -999.000,9,   -999.0,9,   -999.0,9,-999.0000,-999,9,  -999.00,9,  -999.00,   -999.0,9,   -999.0,  15.9005,  26.1051
  49NZ20090521,   P21,   270,  1,      8, X12026,9,20090615,0114,-22.5998, 159.9482, 2232,    470.7,2,  12.6121,2,  12.60818,2,  35.0618,2,-999.0000,9,   188.65,2,  -999.00,9,  -999.00,9,  -999.00,  -999.00,9,  -999.00,  -999.00,9,  -999.00, -999.000,9, -999.000, -999.000,9, -999.000,9, -999.000,9,   -999.0,9,   -999.0,9,-999.0000,-999,9,  -999.00,9,  -999.00,   -999.0,9,   -999.0,  12.5479,  26.5307
  49NZ20090521,   P21,   270,  1,      7, X12025,9,20090615,0114,-22.5998, 159.9482, 2232,    570.8,2,   9.2848,2,   9.28307,2,  34.6733,2,-999.0000,9,   195.50,2,  -999.00,9,  -999.00,9,  -999.00,  -999.00,9,  -999.00,  -999.00,9,  -999.00, -999.000,9, -999.000, -999.000,9, -999.000,9, -999.000,9,   -999.0,9,   -999.0,9,-999.0000,-999,9,  -999.00,9,  -999.00,   -999.0,9,   -999.0,   9.2205,  26.8267
  49NZ20090521,   P21,   270,  1,      6, X12024,9,20090615,0114,-22.5998, 159.9482, 2232,    671.1,2,   7.3170,2,   7.32056,2,  34.5058,2,-999.0000,9,   197.11,2,  -999.00,9,  -999.00,9,  -999.00,  -999.00,9,  -999.00,  -999.00,9,  -999.00, -999.000,9, -999.000, -999.000,9, -999.000,9, -999.000,9,   -999.0,9,   -999.0,9,-999.0000,-999,9,  -999.00,9,  -999.00,   -999.0,9,   -999.0,   7.2509,  26.9944
  49NZ20090521,   P21,   270,  1,      5, X12028,9,20090615,0114,-22.5998, 159.9482, 2232,    771.4,2,   6.1969,2,   6.19730,2,  34.4436,2,-999.0000,9,   193.59,2,  -999.00,9,  -999.00,9,  -999.00,  -999.00,9,  -999.00,  -999.00,9,  -999.00, -999.000,9, -999.000, -999.000,9, -999.000,9, -999.000,9,   -999.0,9,   -999.0,9,-999.0000,-999,9,  -999.00,9,  -999.00,   -999.0,9,   -999.0,   6.1270,  27.0968
  49NZ20090521,   P21,   270,  1,      4, X12022,9,20090615,0114,-22.5998, 159.9482, 2232,    870.4,2,   5.3925,2,   5.39366,2,  34.4462,2,-999.0000,9,   183.41,2,  -999.00,9,  -999.00,9,  -999.00,  -999.00,9,  -999.00,  -999.00,9,  -999.00, -999.000,9, -999.000, -999.000,9, -999.000,9, -999.000,9,   -999.0,9,   -999.0,9,-999.0000,-999,9,  -999.00,9,  -999.00,   -999.0,9,   -999.0,   5.3183,  27.1989
  49NZ20090521,   P21,   270,  1,      3, X12021,9,20090615,0114,-22.5998, 159.9482, 2232,    972.5,2,   4.7830,2,   4.78305,2,  34.4645,2,-999.0000,9,   175.26,2,  -999.00,9,  -999.00,9,  -999.00,  -999.00,9,  -999.00,  -999.00,9,  -999.00, -999.000,9, -999.000, -999.000,9, -999.000,9, -999.000,9,   -999.0,9,   -999.0,9,-999.0000,-999,9,  -999.00,9,  -999.00,   -999.0,9,   -999.0,   4.7038,  27.2843
  49NZ20090521,   P21,   270,  1,      2, X12020,9,20090615,0114,-22.5998, 159.9482, 2232,   1330.9,2,   3.4427,2,   3.44292,2,  34.5483,2,-999.0000,9,   154.92,2,  -999.00,9,  -999.00,9,  -999.00,  -999.00,9,  -999.00,  -999.00,9,  -999.00, -999.000,9, -999.000, -999.000,9, -999.000,9, -999.000,9,   -999.0,9,   -999.0,9,-999.0000,-999,9,  -999.00,9,  -999.00,   -999.0,9,   -999.0,   3.3443,  27.4923
  49NZ20090521,   P21,   270,  1,      1, X12019,2,20090615,0114,-22.5998, 159.9482, 2232,   2242.0,2,   2.2257,2,   2.22558,2,  34.6726,2,  34.6731,6,   163.09,2,   163.24,2,    98.07,2,     0.33,    33.99,2,     0.13,     0.01,2,     0.01,    2.397,2,    0.016,    0.003,2,    0.003,2,    0.000,2,   2279.1,2,   2373.6,2,   7.5936,  25,2,  -999.00,9,  -999.00,   -999.0,9,   -999.0,   2.0646,  27.7042