BOTTLE,20111109CCHDOSIOCBG
EXPOCODE,SECT_ID,STNNBR,CASTNO,SAMPNO,BTLNBR,BTLNBR_FLAG_W,DATE,TIME,LATITUDE,LONGITUDE,DEPTH,CTDPRS,CTDPRS_FLAG_W,CTDTMP,CTDTMP_FLAG_W,SBE35,SBE35_FLAG_W,CTDSAL,CTDSAL_FLAG_W,SALNTY,SALNTY_FLAG_W,CTDOXY,CTDOXY_FLAG_W,OXYGEN,OXYGEN_FLAG_W,SILCAT,SILCAT_FLAG_W,SILUNC,NITRAT,NITRAT_FLAG_W,NRAUNC,NITRIT,NITRIT_FLAG_W,NRIUNC,PHSPHT,PHSPHT_FLAG_W,PHPUNC,CFC-11,CFC-11_FLAG_W,CFC-12,CFC-12_FLAG_W,CFC113,CFC113_FLAG_W,TCARBN,TCARBN_FLAG_W,ALKALI,ALKALI_FLAG_W,PH_TOT,PH_TMP,PH_TOT_FLAG_W,DELC13,DELC13_FLAG_W,C13ERR,DELC14,DELC14_FLAG_W,C14ERR,THETA,SIG0
,,,,,,,,,,,METERS,DBAR,,ITS-90,,ITS-90,,PSS-78,,PSS-78,,UMOL/KG,,UMOL/KG,,UMOL/KG,,UMOL/KG,UMOL/KG,,UMOL/KG,UMOL/KG,,UMOL/KG,UMOL/KG,,UMOL/KG,PMOL/KG,,PMOL/KG,,PMOL/KG,,UMOL/KG,,UMOL/KG,,,DEG C,,/MILLE,,/MILLE,/MILLE,,/MILLE,DEG C,KG/M^3
  49NZ20090521,   P21,   265,  1,      0,   -999,9,20090614,0606,-21.6005, 162.5002,  768,   -999.0,9,-999.0000,9,-999.00000,9,-999.0000,9,  34.8400,2,  -999.00,9,  -999.00,9,  -999.00,9,  -999.00,  -999.00,9,  -999.00,  -999.00,9,  -999.00, -999.000,9, -999.000, -999.000,9, -999.000,9, -999.000,9,   -999.0,9,   -999.0,9,-999.0000,-999,9,  -999.00,9,  -999.00,   -999.0,9,   -999.0,-999.0000,-999.0000
  49NZ20090521,   P21,   265,  1,     36, X12043,2,20090614,0606,-21.6005, 162.5002,  768,      9.9,2,  24.3595,2,  24.35907,2,  34.8275,2,  34.8246,2,   208.08,2,   208.30,2,     0.26,2,     0.12,     0.12,2,     0.03,     0.01,2,     0.01,    0.096,2,    0.022,    1.618,2,    1.039,2, -999.000,5,   1950.4,2,   2281.6,2,   8.1062,  25,2,  -999.00,9,  -999.00,   -999.0,9,   -999.0,  24.3574,  23.4045
  49NZ20090521,   P21,   265,  1,     35, X12042,2,20090614,0606,-21.6005, 162.5002,  768,     50.3,2,  24.4677,2,  24.47066,2,  34.9565,2,  34.9830,2,   206.15,2,   206.48,2,     0.29,2,     0.12,     0.09,2,     0.03,     0.01,2,     0.01,    0.106,2,    0.021,    1.627,2,    1.034,2, -999.000,5,   1964.2,6,   2291.3,2,   8.0940,  25,2,  -999.00,9,  -999.00,   -999.0,9,   -999.0,  24.4570,  23.4723
  49NZ20090521,   P21,   265,  1,     34, X12016,2,20090614,0606,-21.6005, 162.5002,  768,    100.6,2,  24.1211,2,  24.12202,2,  35.2085,2,  35.2075,2,   200.39,2,   201.21,2,     0.57,2,     0.12,     0.26,2,     0.03,     0.05,2,     0.01,    0.135,2,    0.019,    1.671,6,    1.066,6, -999.000,5,   1986.2,2,   2305.4,6,   8.0770,  25,2,  -999.00,9,  -999.00,   -999.0,9,   -999.0,  24.0998,  23.7696
  49NZ20090521,   P21,   265,  1,     33, X12015,2,20090614,0606,-21.6005, 162.5002,  768,    149.2,2,  21.7388,2,  21.73668,2,  35.5829,2,  35.5808,2,   173.07,2,   173.57,2,     0.87,2,     0.12,     3.68,2,     0.04,     0.03,2,     0.01,    0.374,2,    0.014,    1.881,2,    1.154,2,    0.137,2,   2051.8,2,   2328.9,2,   7.9988,  25,6,  -999.00,9,  -999.00,   -999.0,9,   -999.0,  21.7095,  24.7421
  49NZ20090521,   P21,   265,  1,     32, X12050,2,20090614,0606,-21.6005, 162.5002,  768,    200.4,2,  19.9353,2,  19.94200,2,  35.6466,2,  35.6444,2,   182.27,2,   181.45,2,     0.91,2,     0.12,     4.11,2,     0.04,     0.02,2,     0.01,    0.389,2,    0.013,    2.011,2,    1.229,2,    0.084,2,   2064.5,2,   2332.7,2,   7.9822,  25,2,  -999.00,9,  -999.00,   -999.0,9,   -999.0,  19.8982,  25.2819
  49NZ20090521,   P21,   265,  1,     31, X12014,2,20090614,0606,-21.6005, 162.5002,  768,    250.6,2,  19.2026,2,  19.20204,2,  35.6340,2,  35.6331,6,   179.44,2,   179.76,2,     1.09,2,     0.12,     5.09,2,     0.05,     0.02,2,     0.01,    0.450,2,    0.013,    2.058,2,    1.241,2,    0.036,2,   2074.1,2,   2332.8,2,   7.9645,  25,2,  -999.00,9,  -999.00,   -999.0,9,   -999.0,  19.1573,  25.4655
  49NZ20090521,   P21,   265,  1,     30, X12012,2,20090614,0606,-21.6005, 162.5002,  768,    300.2,2,  17.4682,2,  17.46447,2,  35.5415,2,  35.5371,2,   180.93,2,   181.31,2,     1.71,2,     0.12,     6.89,2,     0.05,     0.01,2,     0.01,    0.567,2,    0.013,    2.156,2,    1.276,2,    0.028,2,   2089.3,2,   2327.7,2,   7.9297,  25,2,  -999.00,9,  -999.00,   -999.0,9,   -999.0,  17.4174,  25.8296
  49NZ20090521,   P21,   265,  1,     29, X12041,2,20090614,0606,-21.6005, 162.5002,  768,    399.7,2,  13.8192,2,  13.81835,2,  35.1802,2,  35.1812,2,   184.69,2,   185.03,2,     3.71,2,     0.13,    11.85,2,     0.07,     0.01,2,     0.01,    0.898,2,    0.013,    2.191,6,    1.229,6,    0.045,6,   2116.0,2,   2311.7,2,   7.8483,  25,2,  -999.00,9,  -999.00,   -999.0,9,   -999.0,  13.7614,  26.3764
  49NZ20090521,   P21,   265,  1,     28, X12040,2,20090614,0606,-21.6005, 162.5002,  768,    499.0,2,  10.7072,2,  10.71388,2,  34.8221,2,  34.8329,6,   191.63,2,   191.71,2,     6.37,2,     0.13,    17.15,2,     0.08,     0.01,2,     0.01,    1.239,2,    0.013,    2.068,2,    1.116,2,    0.047,2,   2135.0,2,   2297.9,2,   7.7806,  25,2,  -999.00,9,  -999.00,   -999.0,9,   -999.0,  10.6460,  26.7005
  49NZ20090521,   P21,   265,  1,     27, X12009,2,20090614,0606,-21.6005, 162.5002,  768,    600.9,2,   8.5019,2,   8.50135,2,  34.5877,2,  34.5888,2,   200.63,2,   200.61,2,     9.86,2,     0.14,    21.48,2,     0.09,     0.01,2,     0.01,    1.521,2,    0.014,    1.793,6,    0.935,6,    0.045,6,   2148.6,2,   2290.5,2,   7.7330,  25,2,  -999.00,9,  -999.00,   -999.0,9,   -999.0,   8.4377,  26.8836
  49NZ20090521,   P21,   265,  1,     26, X12008,2,20090614,0606,-21.6005, 162.5002,  768,    701.3,2,   6.5335,2,   6.53772,2,  34.4636,2,  34.4651,2,   196.06,2,   195.98,2,    21.78,2,     0.17,    26.16,2,     0.11,     0.01,2,     0.01,    1.848,2,    0.015,    1.039,2,    0.548,2,    0.019,2,   2174.3,6,   2296.1,2,   7.6851,  25,2,  -999.00,9,  -999.00,   -999.0,9,   -999.0,   6.4685,  27.0681
  49NZ20090521,   P21,   265,  1,     25, X12007,9,20090614,0606,-21.6005, 162.5002,  768,   -999.0,9,-999.0000,9,-999.00000,9,-999.0000,9,-999.0000,9,  -999.00,9,  -999.00,9,  -999.00,9,  -999.00,  -999.00,9,  -999.00,  -999.00,9,  -999.00, -999.000,9, -999.000, -999.000,9, -999.000,9, -999.000,9,   -999.0,9,   -999.0,9,-999.0000,-999,9,  -999.00,9,  -999.00,   -999.0,9,   -999.0,-999.0000,-999.0000
  49NZ20090521,   P21,   265,  1,     24, X12035,9,20090614,0606,-21.6005, 162.5002,  768,   -999.0,9,-999.0000,9,-999.00000,9,-999.0000,9,-999.0000,9,  -999.00,9,  -999.00,9,  -999.00,9,  -999.00,  -999.00,9,  -999.00,  -999.00,9,  -999.00, -999.000,9, -999.000, -999.000,9, -999.000,9, -999.000,9,   -999.0,9,   -999.0,9,-999.0000,-999,9,  -999.00,9,  -999.00,   -999.0,9,   -999.0,-999.0000,-999.0000
  49NZ20090521,   P21,   265,  1,     23, X12038,9,20090614,0606,-21.6005, 162.5002,  768,   -999.0,9,-999.0000,9,-999.00000,9,-999.0000,9,-999.0000,9,  -999.00,9,  -999.00,9,  -999.00,9,  -999.00,  -999.00,9,  -999.00,  -999.00,9,  -999.00, -999.000,9, -999.000, -999.000,9, -999.000,9, -999.000,9,   -999.0,9,   -999.0,9,-999.0000,-999,9,  -999.00,9,  -999.00,   -999.0,9,   -999.0,-999.0000,-999.0000
  49NZ20090521,   P21,   265,  1,     22, X12034,9,20090614,0606,-21.6005, 162.5002,  768,   -999.0,9,-999.0000,9,-999.00000,9,-999.0000,9,-999.0000,9,  -999.00,9,  -999.00,9,  -999.00,9,  -999.00,  -999.00,9,  -999.00,  -999.00,9,  -999.00, -999.000,9, -999.000, -999.000,9, -999.000,9, -999.000,9,   -999.0,9,   -999.0,9,-999.0000,-999,9,  -999.00,9,  -999.00,   -999.0,9,   -999.0,-999.0000,-999.0000
  49NZ20090521,   P21,   265,  1,     21, X12033,9,20090614,0606,-21.6005, 162.5002,  768,   -999.0,9,-999.0000,9,-999.00000,9,-999.0000,9,-999.0000,9,  -999.00,9,  -999.00,9,  -999.00,9,  -999.00,  -999.00,9,  -999.00,  -999.00,9,  -999.00, -999.000,9, -999.000, -999.000,9, -999.000,9, -999.000,9,   -999.0,9,   -999.0,9,-999.0000,-999,9,  -999.00,9,  -999.00,   -999.0,9,   -999.0,-999.0000,-999.0000
  49NZ20090521,   P21,   265,  1,     20, X12032,9,20090614,0606,-21.6005, 162.5002,  768,   -999.0,9,-999.0000,9,-999.00000,9,-999.0000,9,-999.0000,9,  -999.00,9,  -999.00,9,  -999.00,9,  -999.00,  -999.00,9,  -999.00,  -999.00,9,  -999.00, -999.000,9, -999.000, -999.000,9, -999.000,9, -999.000,9,   -999.0,9,   -999.0,9,-999.0000,-999,9,  -999.00,9,  -999.00,   -999.0,9,   -999.0,-999.0000,-999.0000
  49NZ20090521,   P21,   265,  1,     19, X12046,9,20090614,0606,-21.6005, 162.5002,  768,   -999.0,9,-999.0000,9,-999.00000,9,-999.0000,9,-999.0000,9,  -999.00,9,  -999.00,9,  -999.00,9,  -999.00,  -999.00,9,  -999.00,  -999.00,9,  -999.00, -999.000,9, -999.000, -999.000,9, -999.000,9, -999.000,9,   -999.0,9,   -999.0,9,-999.0000,-999,9,  -999.00,9,  -999.00,   -999.0,9,   -999.0,-999.0000,-999.0000
  49NZ20090521,   P21,   265,  1,     18, X12006,9,20090614,0606,-21.6005, 162.5002,  768,      9.4,2,  24.3580,2,  24.35733,2,  34.8277,2,-999.0000,9,   208.05,2,  -999.00,9,  -999.00,9,  -999.00,  -999.00,9,  -999.00,  -999.00,9,  -999.00, -999.000,9, -999.000, -999.000,9, -999.000,9, -999.000,9,   -999.0,9,   -999.0,9,-999.0000,-999,9,  -999.00,9,  -999.00,   -999.0,9,   -999.0,  24.3560,  23.4050
  49NZ20090521,   P21,   265,  1,     17, X12047,9,20090614,0606,-21.6005, 162.5002,  768,     50.8,2,  24.4735,2,  24.47155,2,  34.9614,2,-999.0000,9,   206.34,2,  -999.00,9,  -999.00,9,  -999.00,  -999.00,9,  -999.00,  -999.00,9,  -999.00, -999.000,9, -999.000, -999.000,9, -999.000,9, -999.000,9,   -999.0,9,   -999.0,9,-999.0000,-999,9,  -999.00,9,  -999.00,   -999.0,9,   -999.0,  24.4627,  23.4743
  49NZ20090521,   P21,   265,  1,     16, X12004,9,20090614,0606,-21.6005, 162.5002,  768,    100.3,2,  24.1117,2,  24.12196,2,  35.2132,2,-999.0000,9,   200.56,2,  -999.00,9,  -999.00,9,  -999.00,  -999.00,9,  -999.00,  -999.00,9,  -999.00, -999.000,9, -999.000, -999.000,9, -999.000,9, -999.000,9,   -999.0,9,   -999.0,9,-999.0000,-999,9,  -999.00,9,  -999.00,   -999.0,9,   -999.0,  24.0905,  23.7759
  49NZ20090521,   P21,   265,  1,     15, X12003,9,20090614,0606,-21.6005, 162.5002,  768,    150.4,2,  21.7191,2,  21.72491,2,  35.5848,2,-999.0000,9,   172.28,2,  -999.00,9,  -999.00,9,  -999.00,  -999.00,9,  -999.00,  -999.00,9,  -999.00, -999.000,9, -999.000, -999.000,9, -999.000,9, -999.000,9,   -999.0,9,   -999.0,9,-999.0000,-999,9,  -999.00,9,  -999.00,   -999.0,9,   -999.0,  21.6895,  24.7491
  49NZ20090521,   P21,   265,  1,     14, X12002,9,20090614,0606,-21.6005, 162.5002,  768,    200.0,2,  19.9826,2,  19.99449,2,  35.6451,2,-999.0000,9,   181.77,2,  -999.00,9,  -999.00,9,  -999.00,  -999.00,9,  -999.00,  -999.00,9,  -999.00, -999.000,9, -999.000, -999.000,9, -999.000,9, -999.000,9,   -999.0,9,   -999.0,9,-999.0000,-999,9,  -999.00,9,  -999.00,   -999.0,9,   -999.0,  19.9455,  25.2683
  49NZ20090521,   P21,   265,  1,     13, X12001,9,20090614,0606,-21.6005, 162.5002,  768,    250.6,2,  19.2019,2,  19.20197,2,  35.6341,2,-999.0000,9,   179.42,2,  -999.00,9,  -999.00,9,  -999.00,  -999.00,9,  -999.00,  -999.00,9,  -999.00, -999.000,9, -999.000, -999.000,9, -999.000,9, -999.000,9,   -999.0,9,   -999.0,9,-999.0000,-999,9,  -999.00,9,  -999.00,   -999.0,9,   -999.0,  19.1566,  25.4657
  49NZ20090521,   P21,   265,  1,     12, X12030,9,20090614,0606,-21.6005, 162.5002,  768,    299.3,2,  17.4840,2,  17.48497,2,  35.5429,2,-999.0000,9,   180.91,2,  -999.00,9,  -999.00,9,  -999.00,  -999.00,9,  -999.00,  -999.00,9,  -999.00, -999.000,9, -999.000, -999.000,9, -999.000,9, -999.000,9,   -999.0,9,   -999.0,9,-999.0000,-999,9,  -999.00,9,  -999.00,   -999.0,9,   -999.0,  17.4333,  25.8268
  49NZ20090521,   P21,   265,  1,     11, X12044,9,20090614,0606,-21.6005, 162.5002,  768,    400.2,2,  13.8537,2,  13.85399,2,  35.1829,2,-999.0000,9,   184.69,2,  -999.00,9,  -999.00,9,  -999.00,  -999.00,9,  -999.00,  -999.00,9,  -999.00, -999.000,9, -999.000, -999.000,9, -999.000,9, -999.000,9,   -999.0,9,   -999.0,9,-999.0000,-999,9,  -999.00,9,  -999.00,   -999.0,9,   -999.0,  13.7958,  26.3714
  49NZ20090521,   P21,   265,  1,     10, X12048,9,20090614,0606,-21.6005, 162.5002,  768,    499.7,2,  10.7642,2,  10.76580,2,  34.8281,2,-999.0000,9,   191.60,2,  -999.00,9,  -999.00,9,  -999.00,  -999.00,9,  -999.00,  -999.00,9,  -999.00, -999.000,9, -999.000, -999.000,9, -999.000,9, -999.000,9,   -999.0,9,   -999.0,9,-999.0000,-999,9,  -999.00,9,  -999.00,   -999.0,9,   -999.0,  10.7027,  26.6951
  49NZ20090521,   P21,   265,  1,      9, X12027,9,20090614,0606,-21.6005, 162.5002,  768,    601.0,2,   8.4383,2,   8.44930,2,  34.5838,2,-999.0000,9,   201.05,2,  -999.00,9,  -999.00,9,  -999.00,  -999.00,9,  -999.00,  -999.00,9,  -999.00, -999.000,9, -999.000, -999.000,9, -999.000,9, -999.000,9,   -999.0,9,   -999.0,9,-999.0000,-999,9,  -999.00,9,  -999.00,   -999.0,9,   -999.0,   8.3743,  26.8903
  49NZ20090521,   P21,   265,  1,      8, X12026,9,20090614,0606,-21.6005, 162.5002,  768,    700.9,2,   6.5329,2,   6.53356,2,  34.4638,2,-999.0000,9,   195.85,2,  -999.00,9,  -999.00,9,  -999.00,  -999.00,9,  -999.00,  -999.00,9,  -999.00, -999.000,9, -999.000, -999.000,9, -999.000,9, -999.000,9,   -999.0,9,   -999.0,9,-999.0000,-999,9,  -999.00,9,  -999.00,   -999.0,9,   -999.0,   6.4679,  27.0683
  49NZ20090521,   P21,   265,  1,      7, X12025,9,20090614,0606,-21.6005, 162.5002,  768,   -999.0,9,-999.0000,9,-999.00000,9,-999.0000,9,-999.0000,9,  -999.00,9,  -999.00,9,  -999.00,9,  -999.00,  -999.00,9,  -999.00,  -999.00,9,  -999.00, -999.000,9, -999.000, -999.000,9, -999.000,9, -999.000,9,   -999.0,9,   -999.0,9,-999.0000,-999,9,  -999.00,9,  -999.00,   -999.0,9,   -999.0,-999.0000,-999.0000
  49NZ20090521,   P21,   265,  1,      6, X12024,9,20090614,0606,-21.6005, 162.5002,  768,   -999.0,9,-999.0000,9,-999.00000,9,-999.0000,9,-999.0000,9,  -999.00,9,  -999.00,9,  -999.00,9,  -999.00,  -999.00,9,  -999.00,  -999.00,9,  -999.00, -999.000,9, -999.000, -999.000,9, -999.000,9, -999.000,9,   -999.0,9,   -999.0,9,-999.0000,-999,9,  -999.00,9,  -999.00,   -999.0,9,   -999.0,-999.0000,-999.0000
  49NZ20090521,   P21,   265,  1,      5, X12028,9,20090614,0606,-21.6005, 162.5002,  768,   -999.0,9,-999.0000,9,-999.00000,9,-999.0000,9,-999.0000,9,  -999.00,9,  -999.00,9,  -999.00,9,  -999.00,  -999.00,9,  -999.00,  -999.00,9,  -999.00, -999.000,9, -999.000, -999.000,9, -999.000,9, -999.000,9,   -999.0,9,   -999.0,9,-999.0000,-999,9,  -999.00,9,  -999.00,   -999.0,9,   -999.0,-999.0000,-999.0000
  49NZ20090521,   P21,   265,  1,      4, X12022,9,20090614,0606,-21.6005, 162.5002,  768,   -999.0,9,-999.0000,9,-999.00000,9,-999.0000,9,-999.0000,9,  -999.00,9,  -999.00,9,  -999.00,9,  -999.00,  -999.00,9,  -999.00,  -999.00,9,  -999.00, -999.000,9, -999.000, -999.000,9, -999.000,9, -999.000,9,   -999.0,9,   -999.0,9,-999.0000,-999,9,  -999.00,9,  -999.00,   -999.0,9,   -999.0,-999.0000,-999.0000
  49NZ20090521,   P21,   265,  1,      3, X12021,9,20090614,0606,-21.6005, 162.5002,  768,   -999.0,9,-999.0000,9,-999.00000,9,-999.0000,9,-999.0000,9,  -999.00,9,  -999.00,9,  -999.00,9,  -999.00,  -999.00,9,  -999.00,  -999.00,9,  -999.00, -999.000,9, -999.000, -999.000,9, -999.000,9, -999.000,9,   -999.0,9,   -999.0,9,-999.0000,-999,9,  -999.00,9,  -999.00,   -999.0,9,   -999.0,-999.0000,-999.0000
  49NZ20090521,   P21,   265,  1,      2, X12020,9,20090614,0606,-21.6005, 162.5002,  768,    149.4,2,  21.7367,2,  21.73406,2,  35.5837,2,-999.0000,9,   172.87,2,  -999.00,9,  -999.00,9,  -999.00,  -999.00,9,  -999.00,  -999.00,9,  -999.00, -999.000,9, -999.000, -999.000,9, -999.000,9, -999.000,9,   -999.0,9,   -999.0,9,-999.0000,-999,9,  -999.00,9,  -999.00,   -999.0,9,   -999.0,  21.7073,  24.7433
  49NZ20090521,   P21,   265,  1,      1, X12019,2,20090614,0606,-21.6005, 162.5002,  768,    761.6,2,   5.9424,2,   5.94173,2,  34.4440,2,  34.4444,6,   192.40,2,   192.46,2,    26.62,2,     0.18,    27.75,2,     0.11,     0.01,2,     0.01,    1.950,2,    0.015,    0.795,2,    0.421,2,    0.014,2,   2183.8,2,   2300.1,2,   7.6704,  25,2,  -999.00,9,  -999.00,   -999.0,9,   -999.0,   5.8749,  27.1291