BOTTLE,20111109CCHDOSIOCBG
EXPOCODE,SECT_ID,STNNBR,CASTNO,SAMPNO,BTLNBR,BTLNBR_FLAG_W,DATE,TIME,LATITUDE,LONGITUDE,DEPTH,CTDPRS,CTDPRS_FLAG_W,CTDTMP,CTDTMP_FLAG_W,SBE35,SBE35_FLAG_W,CTDSAL,CTDSAL_FLAG_W,SALNTY,SALNTY_FLAG_W,CTDOXY,CTDOXY_FLAG_W,OXYGEN,OXYGEN_FLAG_W,SILCAT,SILCAT_FLAG_W,SILUNC,NITRAT,NITRAT_FLAG_W,NRAUNC,NITRIT,NITRIT_FLAG_W,NRIUNC,PHSPHT,PHSPHT_FLAG_W,PHPUNC,CFC-11,CFC-11_FLAG_W,CFC-12,CFC-12_FLAG_W,CFC113,CFC113_FLAG_W,TCARBN,TCARBN_FLAG_W,ALKALI,ALKALI_FLAG_W,PH_TOT,PH_TMP,PH_TOT_FLAG_W,DELC13,DELC13_FLAG_W,C13ERR,DELC14,DELC14_FLAG_W,C14ERR,THETA,SIG0
,,,,,,,,,,,METERS,DBAR,,ITS-90,,ITS-90,,PSS-78,,PSS-78,,UMOL/KG,,UMOL/KG,,UMOL/KG,,UMOL/KG,UMOL/KG,,UMOL/KG,UMOL/KG,,UMOL/KG,UMOL/KG,,UMOL/KG,PMOL/KG,,PMOL/KG,,PMOL/KG,,UMOL/KG,,UMOL/KG,,,DEG C,,/MILLE,,/MILLE,/MILLE,,/MILLE,DEG C,KG/M^3
  49NZ20090521,   P21,   197,  1,      0,   -999,9,20090601,2238,-17.4975,-170.9938, 5118,   -999.0,9,-999.0000,9,-999.00000,9,-999.0000,9,  35.3916,2,  -999.00,9,  -999.00,9,  -999.00,9,  -999.00,  -999.00,9,  -999.00,  -999.00,9,  -999.00, -999.000,9, -999.000, -999.000,9, -999.000,9, -999.000,9,   -999.0,9,   -999.0,9,-999.0000,-999,9,  -999.00,9,  -999.00,   -999.0,9,   -999.0,-999.0000,-999.0000
  49NZ20090521,   P21,   197,  1,     36, X12043,2,20090601,2238,-17.4975,-170.9938, 5118,     10.3,2,  28.1167,2,  28.11675,2,  35.3473,2,  35.3457,2,   197.83,2,   197.91,2,     0.59,2,     0.12,     0.07,2,     0.03,     0.01,2,     0.01,    0.102,2,    0.022,    1.414,2,    0.905,2, -999.000,5,   -999.0,9,   -999.0,9,-999.0000,-999,9,  -999.00,9,  -999.00,   -999.0,9,   -999.0,  28.1143,  22.6184
  49NZ20090521,   P21,   197,  1,     35, X12042,2,20090601,2238,-17.4975,-170.9938, 5118,     49.9,2,  28.1291,2,  28.12970,2,  35.5006,2,  35.5014,2,   198.22,2,   198.29,2,     0.56,2,     0.12,     0.08,2,     0.03,     0.00,2,     0.01,    0.128,2,    0.019,    1.422,2,    0.919,2, -999.000,5,   -999.0,9,   -999.0,9,-999.0000,-999,9,  -999.00,9,  -999.00,   -999.0,9,   -999.0,  28.1173,  22.7327
  49NZ20090521,   P21,   197,  1,     34, X12016,2,20090601,2238,-17.4975,-170.9938, 5118,     99.7,2,  26.9198,2,  26.91319,2,  35.9204,2,  35.9025,2,   203.80,2,   203.79,2,     0.53,2,     0.12,     0.07,2,     0.03,     0.00,2,     0.01,    0.182,2,    0.017,    1.555,6,    0.983,6, -999.000,5,   -999.0,9,   -999.0,9,-999.0000,-999,9,  -999.00,9,  -999.00,   -999.0,9,   -999.0,  26.8969,  23.4442
  49NZ20090521,   P21,   197,  1,     33, X12015,2,20090601,2238,-17.4975,-170.9938, 5118,    150.9,2,  24.2262,2,  24.22962,2,  35.7791,2,  35.7843,2,   190.07,2,   189.45,2,     0.45,2,     0.12,     0.24,2,     0.03,     0.09,2,     0.01,    0.212,2,    0.016,    1.752,2,    1.081,2, -999.000,5,   -999.0,9,   -999.0,9,-999.0000,-999,9,  -999.00,9,  -999.00,   -999.0,9,   -999.0,  24.1941,  24.1735
  49NZ20090521,   P21,   197,  1,     32, X12050,2,20090601,2238,-17.4975,-170.9938, 5118,    199.9,2,  22.0945,2,  22.09305,2,  35.8465,2,  35.8456,2,   170.09,2,   169.62,2,     0.58,2,     0.12,     2.68,2,     0.04,     0.02,2,     0.01,    0.395,2,    0.013,    1.952,2,    1.164,2,    0.068,2,   -999.0,9,   -999.0,9,-999.0000,-999,9,  -999.00,9,  -999.00,   -999.0,9,   -999.0,  22.0546,  24.8458
  49NZ20090521,   P21,   197,  1,     31, X12014,2,20090601,2238,-17.4975,-170.9938, 5118,    250.1,2,  20.4354,2,  20.43812,2,  35.7339,2,  35.7332,6,   168.54,2,   167.97,2,     0.84,2,     0.12,     4.29,2,     0.04,     0.01,2,     0.01,    0.519,2,    0.013,    2.111,2,    1.235,2,    0.028,2,   -999.0,9,   -999.0,9,-999.0000,-999,9,  -999.00,9,  -999.00,   -999.0,9,   -999.0,  20.3882,  25.2183
  49NZ20090521,   P21,   197,  1,     30, X12012,2,20090601,2238,-17.4975,-170.9938, 5118,    280.5,2,  19.0602,2,  19.06437,2,  35.5639,2,  35.5633,2,   170.32,2,   169.88,2,     1.18,2,     0.12,     5.32,2,     0.05,     0.01,2,     0.01,    0.585,2,    0.013,    2.197,2,    1.267,2,    0.021,2,   -999.0,9,   -999.0,9,-999.0000,-999,9,  -999.00,9,  -999.00,   -999.0,9,   -999.0,  19.0098,  25.4498
  49NZ20090521,   P21,   197,  1,     29, X12041,2,20090601,2238,-17.4975,-170.9938, 5118,    370.3,2,  14.5796,2,  14.58073,2,  35.0370,2,  35.0372,2,   148.40,2,   148.28,2,     5.33,2,     0.13,    13.09,2,     0.07,     0.00,2,     0.01,    1.149,2,    0.013,    1.998,6,    1.082,6,    0.010,6,   -999.0,9,   -999.0,9,-999.0000,-999,9,  -999.00,9,  -999.00,   -999.0,9,   -999.0,  14.5243,  26.1040
  49NZ20090521,   P21,   197,  1,     28, X12040,2,20090601,2238,-17.4975,-170.9938, 5118,    470.6,2,  11.1555,2,  11.15546,2,  34.7325,2,  34.7321,6,   132.25,2,   132.23,2,    12.00,2,     0.15,    21.18,2,     0.09,     0.01,2,     0.01,    1.668,2,    0.014,    1.288,2,    0.671,2,    0.013,2,   -999.0,9,   -999.0,9,-999.0000,-999,9,  -999.00,9,  -999.00,   -999.0,9,   -999.0,  11.0964,  26.5497
  49NZ20090521,   P21,   197,  1,     27, X12009,2,20090601,2238,-17.4975,-170.9938, 5118,    570.8,2,   7.5024,2,   7.50323,2,  34.4236,2,  34.4231,2,   201.58,2,   201.31,2,    10.00,2,     0.14,    23.79,2,     0.10,     0.00,2,     0.01,    1.705,2,    0.014,    1.914,6,    0.933,6,    0.052,6,   -999.0,9,   -999.0,9,-999.0000,-999,9,  -999.00,9,  -999.00,   -999.0,9,   -999.0,   7.4458,  26.9020
  49NZ20090521,   P21,   197,  1,     26, X12008,2,20090601,2238,-17.4975,-170.9938, 5118,    671.7,2,   6.0701,2,   6.07020,2,  34.3511,2,  34.3505,2,   203.18,2,   202.95,2,    16.26,2,     0.15,    27.47,2,     0.11,     0.00,2,     0.01,    1.926,2,    0.015,    1.040,2,    0.512,2,    0.007,2,   -999.0,9,   -999.0,9,-999.0000,-999,9,  -999.00,9,  -999.00,   -999.0,9,   -999.0,   6.0104,  27.0386
  49NZ20090521,   P21,   197,  1,     25, X12007,2,20090601,2238,-17.4975,-170.9938, 5118,    772.3,2,   5.2516,2,   5.25226,2,  34.3693,2,  34.3683,2,   180.52,2,   180.81,2,    28.87,2,     0.18,    31.01,2,     0.12,     0.01,2,     0.01,    2.174,2,    0.015,    0.350,2,    0.178,2,    0.000,2,   -999.0,9,   -999.0,9,-999.0000,-999,9,  -999.00,9,  -999.00,   -999.0,9,   -999.0,   5.1872,  27.1535
  49NZ20090521,   P21,   197,  1,     24, X12035,2,20090601,2238,-17.4975,-170.9938, 5118,    870.3,2,   4.4401,2,   4.44022,2,  34.4109,2,  34.4114,2,   164.24,2,   164.15,2,    45.32,2,     0.22,    33.57,2,     0.13,     0.00,2,     0.01,    2.348,2,    0.016,    0.094,2,    0.051,2,    0.000,2,   -999.0,9,   -999.0,9,-999.0000,-999,9,  -999.00,9,  -999.00,   -999.0,9,   -999.0,   4.3723,  27.2782
  49NZ20090521,   P21,   197,  1,     23, X12038,2,20090601,2238,-17.4975,-170.9938, 5118,    971.9,2,   3.8142,2,   3.81488,2,  34.4423,2,  34.4425,6,   162.29,2,   162.47,2,    56.43,2,     0.24,    34.44,2,     0.13,     0.00,2,     0.01,    2.410,2,    0.016,    0.035,2,    0.019,2,    0.000,2,   -999.0,9,   -999.0,9,-999.0000,-999,9,  -999.00,9,  -999.00,   -999.0,9,   -999.0,   3.7424,  27.3688
  49NZ20090521,   P21,   197,  1,     22, X12034,2,20090601,2238,-17.4975,-170.9938, 5118,   1132.9,2,   3.1162,2,   3.11599,2,  34.5134,2,  34.5134,2,   156.44,2,   156.49,2,    75.73,2,     0.29,    35.17,2,     0.13,     0.00,2,     0.01,    2.470,2,    0.016,    0.005,2,    0.005,2,    0.000,2,   -999.0,9,   -999.0,9,-999.0000,-999,9,  -999.00,9,  -999.00,   -999.0,9,   -999.0,   3.0371,  27.4933
  49NZ20090521,   P21,   197,  1,     21, X12033,2,20090601,2238,-17.4975,-170.9938, 5118,   1330.0,2,   2.7975,2,   2.79777,2,  34.5667,2,  34.5668,2,   148.34,2,   148.31,2,    91.24,2,     0.32,    35.68,2,     0.13,     0.00,2,     0.01,    2.526,2,    0.016,    0.000,2,    0.000,2,    0.000,2,   -999.0,9,   -999.0,9,-999.0000,-999,9,  -999.00,9,  -999.00,   -999.0,9,   -999.0,   2.7057,  27.5656
  49NZ20090521,   P21,   197,  1,     20, X12032,2,20090601,2238,-17.4975,-170.9938, 5118,   1530.6,2,   2.5660,2,   2.56565,2,  34.5987,2,  34.5985,2,   144.12,2,   144.23,2,   102.07,2,     0.34,    36.17,2,     0.13,     0.00,2,     0.01,    2.549,2,    0.016,    0.000,2,    0.000,2,    0.000,2,   -999.0,9,   -999.0,9,-999.0000,-999,9,  -999.00,9,  -999.00,   -999.0,9,   -999.0,   2.4606,  27.6124
  49NZ20090521,   P21,   197,  1,     19, X12046,2,20090601,2238,-17.4975,-170.9938, 5118,   1730.4,2,   2.4340,2,   2.43412,2,  34.6109,2,  34.6112,2,   144.73,2,   144.62,2,   106.55,2,     0.35,    36.12,2,     0.13,     0.00,2,     0.01,    2.552,2,    0.016,    0.000,2,    0.000,2,    0.000,2,   -999.0,9,   -999.0,9,-999.0000,-999,9,  -999.00,9,  -999.00,   -999.0,9,   -999.0,   2.3139,  27.6345
  49NZ20090521,   P21,   197,  1,     18, X12006,2,20090601,2238,-17.4975,-170.9938, 5118,   1930.6,2,   2.2644,2,   2.26451,2,  34.6259,2,  34.6257,2,   145.23,2,   145.06,2,   111.75,2,     0.36,    36.13,2,     0.13,     0.00,2,     0.01,    2.551,2,    0.016,    0.000,2,    0.000,2,    0.000,2,   -999.0,9,   -999.0,9,-999.0000,-999,9,  -999.00,9,  -999.00,   -999.0,9,   -999.0,   2.1299,  27.6615
  49NZ20090521,   P21,   197,  1,     17, X12047,2,20090601,2238,-17.4975,-170.9938, 5118,   2130.9,2,   2.1093,2,   2.10972,2,  34.6395,2,  34.6394,2,   145.71,2,   145.51,2,   117.00,2,     0.38,    36.18,2,     0.13,     0.01,2,     0.01,    2.550,2,    0.016,    0.000,2,    0.000,2,    0.000,2,   -999.0,9,   -999.0,9,-999.0000,-999,9,  -999.00,9,  -999.00,   -999.0,9,   -999.0,   1.9600,  27.6860
  49NZ20090521,   P21,   197,  1,     16, X12004,2,20090601,2238,-17.4975,-170.9938, 5118,   2330.0,2,   1.9965,2,   1.99641,2,  34.6493,2,  34.6491,6,   146.17,2,   145.99,2,   120.94,2,     0.39,    36.27,2,     0.13,     0.00,2,     0.01,    2.559,2,    0.016,    0.000,2,    0.000,2,    0.000,2,   -999.0,9,   -999.0,9,-999.0000,-999,9,  -999.00,9,  -999.00,   -999.0,9,   -999.0,   1.8316,  27.7038
  49NZ20090521,   P21,   197,  1,     15, X12003,2,20090601,2238,-17.4975,-170.9938, 5118,   2531.0,2,   1.8981,2,   1.89806,2,  34.6580,2,  34.6578,2,   146.42,2,   146.16,2,   124.90,2,     0.39,    36.28,2,     0.13,     0.00,2,     0.01,    2.545,2,    0.016,    0.000,2,    0.000,2,    0.000,2,   -999.0,9,   -999.0,9,-999.0000,-999,9,  -999.00,9,  -999.00,   -999.0,9,   -999.0,   1.7169,  27.7196
  49NZ20090521,   P21,   197,  1,     14, X12002,2,20090601,2238,-17.4975,-170.9938, 5118,   2730.9,2,   1.8261,2,   1.82627,2,  34.6637,2,  34.6636,2,   145.71,2,   145.63,2,   128.58,2,     0.40,    36.37,2,     0.13,     0.00,2,     0.01,    2.553,2,    0.016,    0.000,2,    0.000,2,    0.000,2,   -999.0,9,   -999.0,9,-999.0000,-999,9,  -999.00,9,  -999.00,   -999.0,9,   -999.0,   1.6278,  27.7308
  49NZ20090521,   P21,   197,  1,     13, X12001,2,20090601,2238,-17.4975,-170.9938, 5118,   2930.7,2,   1.7650,2,   1.76516,2,  34.6687,2,  34.6682,2,   147.54,2,   147.27,2,   130.22,2,     0.41,    36.11,2,     0.13,     0.00,2,     0.01,    2.544,2,    0.016,    0.002,2,    0.000,2,    0.000,2,   -999.0,9,   -999.0,9,-999.0000,-999,9,  -999.00,9,  -999.00,   -999.0,9,   -999.0,   1.5491,  27.7407
  49NZ20090521,   P21,   197,  1,     12, X12030,2,20090601,2238,-17.4975,-170.9938, 5118,   3170.8,2,   1.6861,2,   1.68596,2,  34.6746,2,  34.6742,2,   151.53,2,   151.27,2,   130.65,2,     0.41,    35.95,2,     0.13,     0.00,2,     0.01,    2.527,2,    0.016,    0.000,2,    0.000,2,    0.000,2,   -999.0,9,   -999.0,9,-999.0000,-999,9,  -999.00,9,  -999.00,   -999.0,9,   -999.0,   1.4486,  27.7527
  49NZ20090521,   P21,   197,  1,     11, X12044,2,20090601,2238,-17.4975,-170.9938, 5118,   3420.1,2,   1.5862,2,   1.58643,2,  34.6826,2,  34.6823,2,   158.90,2,   158.98,2,   129.50,2,     0.40,    35.43,2,     0.13,     0.00,2,     0.01,    2.484,2,    0.016,    0.002,2,    0.001,2,    0.000,2,   -999.0,9,   -999.0,9,-999.0000,-999,9,  -999.00,9,  -999.00,   -999.0,9,   -999.0,   1.3260,  27.7679
  49NZ20090521,   P21,   197,  1,     10, X12048,2,20090601,2238,-17.4975,-170.9938, 5118,   3669.9,2,   1.4359,2,   1.43612,2,  34.7017,2,  34.7015,6,   180.13,2,   180.41,2,   118.54,2,     0.38,    33.58,2,     0.13,     0.00,2,     0.01,    2.354,2,    0.016,    0.010,2,    0.005,2,    0.000,2,   -999.0,9,   -999.0,9,-999.0000,-999,9,  -999.00,9,  -999.00,   -999.0,9,   -999.0,   1.1538,  27.7953
  49NZ20090521,   P21,   197,  1,      9, X12027,2,20090601,2238,-17.4975,-170.9938, 5118,   3921.8,2,   1.2891,2,   1.28938,2,  34.7140,2,  34.7136,2,   196.43,2,   196.36,2,   111.95,2,     0.37,    32.44,2,     0.12,     0.00,2,     0.01,    2.257,2,    0.016,    0.022,2,    0.009,2,    0.000,2,   -999.0,9,   -999.0,9,-999.0000,-999,9,  -999.00,9,  -999.00,   -999.0,9,   -999.0,   0.9843,  27.8166
  49NZ20090521,   P21,   197,  1,      8, X12026,2,20090601,2238,-17.4975,-170.9938, 5118,   4170.2,2,   1.1660,2,   1.16601,2,  34.7148,2,  34.7144,2,   202.74,2,   202.61,2,   112.83,2,     0.37,    32.14,2,     0.12,     0.00,2,     0.01,    2.238,2,    0.016,    0.043,2,    0.018,2,    0.000,2,   -999.0,9,   -999.0,9,-999.0000,-999,9,  -999.00,9,  -999.00,   -999.0,9,   -999.0,   0.8380,  27.8268
  49NZ20090521,   P21,   197,  1,      7, X12025,2,20090601,2238,-17.4975,-170.9938, 5118,   4421.0,2,   1.0999,2,   1.09989,2,  34.7123,2,  34.7124,2,   204.64,2,   204.55,2,   114.49,2,     0.37,    32.21,2,     0.12,     0.00,2,     0.01,    2.240,2,    0.016,    0.053,2,    0.022,2,    0.000,2,   -999.0,9,   -999.0,9,-999.0000,-999,9,  -999.00,9,  -999.00,   -999.0,9,   -999.0,   0.7461,  27.8306
  49NZ20090521,   P21,   197,  1,      6, X12024,2,20090601,2238,-17.4975,-170.9938, 5118,   4671.5,2,   1.0550,2,   1.05489,2,  34.7095,2,  34.7088,2,   205.77,2,   205.63,2,   116.72,2,     0.38,    32.28,2,     0.12,     0.00,2,     0.01,    2.243,2,    0.016,    0.049,2,    0.022,2,    0.000,2,   -999.0,9,   -999.0,9,-999.0000,-999,9,  -999.00,9,  -999.00,   -999.0,9,   -999.0,   0.6742,  27.8329
  49NZ20090521,   P21,   197,  1,      5, X12028,2,20090601,2238,-17.4975,-170.9938, 5118,   4920.1,2,   1.0617,2,   1.06169,2,  34.7087,2,  34.7082,2,   205.95,2,   205.91,2,   117.34,2,     0.38,    32.33,2,     0.12,     0.00,2,     0.01,    2.249,2,    0.016,    0.046,2,    0.021,2,    0.008,2,   -999.0,9,   -999.0,9,-999.0000,-999,9,  -999.00,9,  -999.00,   -999.0,9,   -999.0,   0.6517,  27.8337
  49NZ20090521,   P21,   197,  1,      4, X12022,9,20090601,2238,-17.4975,-170.9938, 5118,     10.6,2,  28.1169,2,  28.11627,2,  35.3470,2,-999.0000,9,   198.08,2,  -999.00,9,  -999.00,9,  -999.00,  -999.00,9,  -999.00,  -999.00,9,  -999.00, -999.000,9, -999.000, -999.000,9, -999.000,9, -999.000,9,   -999.0,9,   -999.0,9,-999.0000,-999,9,  -999.00,9,  -999.00,   -999.0,9,   -999.0,  28.1144,  22.6182
  49NZ20090521,   P21,   197,  1,      3, X12021,9,20090601,2238,-17.4975,-170.9938, 5118,   1329.9,2,   2.7978,2,   2.79782,2,  34.5666,2,-999.0000,9,   148.36,2,  -999.00,9,  -999.00,9,  -999.00,  -999.00,9,  -999.00,  -999.00,9,  -999.00, -999.000,9, -999.000, -999.000,9, -999.000,9, -999.000,9,   -999.0,9,   -999.0,9,-999.0000,-999,9,  -999.00,9,  -999.00,   -999.0,9,   -999.0,   2.7060,  27.5655
  49NZ20090521,   P21,   197,  1,      2, X12020,2,20090601,2238,-17.4975,-170.9938, 5118,   2730.5,2,   1.8260,2,   1.82617,2,  34.6638,2,  34.6638,2,   145.78,2,   145.70,2,   128.50,2,     0.40,    36.33,2,     0.13,     0.00,2,     0.01,    2.549,2,    0.016, -999.000,9, -999.000,9, -999.000,9,   -999.0,9,   -999.0,9,-999.0000,-999,9,  -999.00,9,  -999.00,   -999.0,9,   -999.0,   1.6278,  27.7309
  49NZ20090521,   P21,   197,  1,      1, X12019,2,20090601,2238,-17.4975,-170.9938, 5118,   5185.2,2,   1.0844,2,   1.08436,2,  34.7082,2,  34.7083,6,   206.19,2,   206.03,2,   117.62,2,     0.38,    32.26,2,     0.12,     0.00,2,     0.01,    2.251,2,    0.016,    0.056,2,    0.025,2,    0.000,2,   -999.0,9,   -999.0,9,-999.0000,-999,9,  -999.00,9,  -999.00,   -999.0,9,   -999.0,   0.6418,  27.8338