BOTTLE,20111109CCHDOSIOCBG
#BOTTLE,20110314JAMSTECRIGC
#Software_Version: whp_btl_exchange.rb_v2.2 (occrp)
#ORIGINAL_SUM_FILE: 49NZ20090521_sum.txt Tue May 18 11:22:34 +0900 2010
#ORIGINAL_HYD_FILE: 49NZ20090521_sea.txt Mon Mar 14 14:45:15 +0900 2011
#DEPTH_TYPE: COR
#EVENT_CODE: BO
EXPOCODE,SECT_ID,STNNBR,CASTNO,SAMPNO,BTLNBR,BTLNBR_FLAG_W,DATE,TIME,LATITUDE,LONGITUDE,DEPTH,CTDPRS,CTDPRS_FLAG_W,CTDTMP,CTDTMP_FLAG_W,SBE35,SBE35_FLAG_W,CTDSAL,CTDSAL_FLAG_W,SALNTY,SALNTY_FLAG_W,CTDOXY,CTDOXY_FLAG_W,OXYGEN,OXYGEN_FLAG_W,SILCAT,SILCAT_FLAG_W,SILUNC,NITRAT,NITRAT_FLAG_W,NRAUNC,NITRIT,NITRIT_FLAG_W,NRIUNC,PHSPHT,PHSPHT_FLAG_W,PHPUNC,CFC-11,CFC-11_FLAG_W,CFC-12,CFC-12_FLAG_W,CFC113,CFC113_FLAG_W,TCARBN,TCARBN_FLAG_W,ALKALI,ALKALI_FLAG_W,PH_TOT,PH_TMP,PH_TOT_FLAG_W,DELC13,DELC13_FLAG_W,C13ERR,DELC14,DELC14_FLAG_W,C14ERR,THETA,SIG0
,,,,,,,,,,,METERS,DBAR,,ITS-90,,ITS-90,,PSS-78,,PSS-78,,UMOL/KG,,UMOL/KG,,UMOL/KG,,UMOL/KG,UMOL/KG,,UMOL/KG,UMOL/KG,,UMOL/KG,UMOL/KG,,UMOL/KG,PMOL/KG,,PMOL/KG,,PMOL/KG,,UMOL/KG,,UMOL/KG,,,DEG C,,/MILLE,,/MILLE,/MILLE,,/MILLE,DEG C,KG/M^3
  49NZ20090521,   P21,   164,  1,      0,   -999,9,20090521,2127,-17.5017,-149.9560, 1467,   -999.0,9,-999.0000,9,-999.00000,9,-999.0000,9,  36.2352,2,  -999.00,9,  -999.00,9,  -999.00,9,  -999.00,  -999.00,9,  -999.00,  -999.00,9,  -999.00, -999.000,9, -999.000, -999.000,9, -999.000,9, -999.000,9,   -999.0,9,   -999.0,9,-999.0000,-999,9,  -999.00,9,  -999.00,   -999.0,9,   -999.0,-999.0000,-999.0000
  49NZ20090521,   P21,   164,  1,     36, X12043,2,20090521,2127,-17.5017,-149.9560, 1467,     10.4,2,  28.2302,2,  28.22922,2,  36.1986,2,  36.1962,2,   196.49,2,   196.36,2,     0.83,2,     0.12,     0.06,2,     0.03,     0.01,2,     0.01,    0.195,2,    0.016,    1.410,2,    0.918,2, -999.000,5,   2014.8,2,   2384.6,2,   8.1341,  25,6,  -999.00,9,  -999.00,   -999.0,9,   -999.0,  28.2277,  23.2214
  49NZ20090521,   P21,   164,  1,     35, X12042,2,20090521,2127,-17.5017,-149.9560, 1467,     51.3,2,  28.1936,2,  28.19330,2,  36.1961,2,  36.1944,2,   196.28,2,   196.52,2,     0.77,2,     0.12,     0.06,2,     0.03,     0.01,2,     0.01,    0.199,2,    0.016,    1.415,2,    0.920,2, -999.000,5,   2015.8,6,   2379.7,2,   8.1345,  25,2,  -999.00,9,  -999.00,   -999.0,9,   -999.0,  28.1814,  23.2348
  49NZ20090521,   P21,   164,  1,     34, X12016,2,20090521,2127,-17.5017,-149.9560, 1467,     99.9,2,  25.7447,2,  25.72909,2,  36.4406,2,  36.4388,2,   193.86,2,   193.31,2,     0.78,2,     0.12,     0.10,2,     0.03,     0.20,2,     0.01,    0.261,2,    0.015,    1.620,6,    1.024,6, -999.000,5,   2059.4,2,   2383.5,3,   8.0842,  25,2,  -999.00,9,  -999.00,   -999.0,9,   -999.0,  25.7225,  24.2074
  49NZ20090521,   P21,   164,  1,     33, X12015,2,20090521,2127,-17.5017,-149.9560, 1467,    150.2,2,  25.0003,2,  24.99241,2,  36.3768,2,  36.3755,2,   187.08,2,   186.78,2,     0.74,2,     0.12,     0.64,2,     0.03,     0.26,2,     0.01,    0.290,2,    0.014,    1.661,2,    1.044,2, -999.000,5,   2063.5,2,   2389.2,2,   8.0702,  25,2,  -999.00,9,  -999.00,   -999.0,9,   -999.0,  24.9675,  24.3921
  49NZ20090521,   P21,   164,  1,     32, X12050,2,20090521,2127,-17.5017,-149.9560, 1467,    201.1,2,  22.6136,2,  22.61168,2,  36.1052,2,  36.1029,2,   176.63,2,   176.22,2,     0.77,2,     0.12,     2.66,2,     0.04,     0.03,2,     0.01,    0.404,2,    0.013,    1.895,2,    1.159,2,    0.119,2,   2086.0,2,   2375.4,2,   8.0099,  25,2,  -999.00,9,  -999.00,   -999.0,9,   -999.0,  22.5728,  24.8952
  49NZ20090521,   P21,   164,  1,     31, X12014,2,20090521,2127,-17.5017,-149.9560, 1467,    249.9,2,  21.0249,2,  21.02529,2,  35.8618,2,  35.8612,6,   176.49,2,   176.29,2,     0.87,2,     0.12,     3.47,2,     0.04,     0.02,2,     0.01,    0.453,2,    0.013,    2.055,2,    1.227,2,    0.080,2,   2091.2,2,   2358.5,2,   7.9802,  25,2,  -999.00,9,  -999.00,   -999.0,9,   -999.0,  20.9768,  25.1565
  49NZ20090521,   P21,   164,  1,     30, X12012,2,20090521,2127,-17.5017,-149.9560, 1467,    280.1,2,  18.8754,2,  18.87791,2,  35.5375,2,  35.5412,2,   176.86,2,   176.78,2,     1.25,2,     0.12,     4.98,2,     0.05,     0.01,2,     0.01,    0.554,2,    0.013,    2.215,2,    1.296,2,    0.045,2,   2094.4,2,   2338.4,2,   7.9410,  25,2,  -999.00,9,  -999.00,   -999.0,9,   -999.0,  18.8254,  25.4767
  49NZ20090521,   P21,   164,  1,     29, X12041,2,20090521,2127,-17.5017,-149.9560, 1467,    370.0,2,  13.1448,2,  13.14529,2,  34.8527,2,  34.8523,2,   166.14,2,   165.71,2,     5.74,2,     0.13,    13.94,2,     0.07,     0.01,2,     0.01,    1.157,2,    0.013,    2.076,6,    1.112,6,    0.031,2,   2129.4,2,   2299.3,2,   7.7989,  25,2,  -999.00,9,  -999.00,   -999.0,9,   -999.0,  13.0933,  26.2600
  49NZ20090521,   P21,   164,  1,     28, X12040,2,20090521,2127,-17.5017,-149.9560, 1467,    467.8,2,   9.3882,2,   9.38891,2,  34.5504,2,  34.5532,6,   147.82,2,   148.60,2,    13.48,2,     0.15,    23.51,2,     0.10,     0.01,2,     0.01,    1.780,2,    0.015,    1.391,2,    0.714,2,    0.024,2,   2173.2,2,   2289.2,2,   7.6709,  25,2,  -999.00,9,  -999.00,   -999.0,9,   -999.0,   9.3356,  26.7118
  49NZ20090521,   P21,   164,  1,     27, X12009,2,20090521,2127,-17.5017,-149.9560, 1467,    570.0,2,   7.0415,2,   7.04667,2,  34.4567,2,  34.4558,2,   145.89,2,   145.96,2,    24.18,2,     0.17,    29.69,2,     0.12,     0.01,2,     0.01,    2.142,2,    0.015,    0.644,6,    0.328,6,    0.009,6,   2201.4,2,   2294.4,2,   7.6099,  25,2,  -999.00,9,  -999.00,   -999.0,9,   -999.0,   6.9870,  26.9925
  49NZ20090521,   P21,   164,  1,     26, X12008,2,20090521,2127,-17.5017,-149.9560, 1467,    670.1,2,   6.1017,2,   6.10211,2,  34.4347,2,  34.4349,2,   151.99,2,   151.94,2,    30.78,2,     0.19,    31.44,2,     0.12,     0.01,2,     0.01,    2.233,2,    0.016,    0.413,2,    0.215,2,    0.006,2,   2209.5,6,   2300.2,2,   7.6047,  25,2,  -999.00,9,  -999.00,   -999.0,9,   -999.0,   6.0419,  27.1006
  49NZ20090521,   P21,   164,  1,     25, X12007,2,20090521,2127,-17.5017,-149.9560, 1467,    770.5,2,   5.0907,2,   5.09154,2,  34.4425,2,  34.4420,2,   150.56,2,   150.75,2,    43.57,2,     0.21,    33.37,2,     0.13,     0.01,2,     0.01,    2.354,2,    0.016,    0.169,2,    0.090,2,    0.000,2,   2226.9,2,   2313.6,6,   7.5908,  25,2,  -999.00,9,  -999.00,   -999.0,9,   -999.0,   5.0273,  27.2301
  49NZ20090521,   P21,   164,  1,     24, X12035,2,20090521,2127,-17.5017,-149.9560, 1467,    872.3,2,   4.6290,2,   4.62922,2,  34.4618,2,  34.4612,2,   148.20,2,   148.44,2,    52.33,2,     0.23,    34.04,2,     0.13,     0.01,2,     0.01,    2.403,2,    0.016,    0.088,2,    0.046,2,    0.000,2,   2237.7,2,   2323.0,2,   7.5843,  25,6,  -999.00,9,  -999.00,   -999.0,9,   -999.0,   4.5597,  27.2983
  49NZ20090521,   P21,   164,  1,     23, X12038,2,20090521,2127,-17.5017,-149.9560, 1467,    968.6,2,   4.0403,2,   4.04143,2,  34.4921,2,  34.4915,6,   145.54,2,   145.32,2,    64.37,2,     0.26,    34.91,2,     0.13,     0.01,2,     0.01,    2.469,2,    0.016,    0.032,2,    0.018,2,    0.000,2,   2253.1,2,   2336.9,2,   7.5770,  25,2,  -999.00,9,  -999.00,   -999.0,9,   -999.0,   3.9670,  27.3856
  49NZ20090521,   P21,   164,  1,     22, X12034,2,20090521,2127,-17.5017,-149.9560, 1467,   1129.4,2,   3.4341,2,   3.43365,2,  34.5286,2,  34.5282,2,   144.17,2,   144.18,2,    78.22,2,     0.29,    35.63,2,     0.13,     0.01,2,     0.01,    2.521,2,    0.016,    0.007,2,    0.004,2,    0.000,2,   2269.3,2,   2351.6,2,   7.5723,  25,2,  -999.00,9,  -999.00,   -999.0,9,   -999.0,   3.3524,  27.4758
  49NZ20090521,   P21,   164,  1,     21, X12033,2,20090521,2127,-17.5017,-149.9560, 1467,   1331.5,2,   3.0191,2,   3.01826,2,  34.5585,2,  34.5584,2,   144.68,2,   144.31,2,    88.44,2,     0.31,    35.94,2,     0.13,     0.01,2,     0.01,    2.535,2,    0.016,    0.002,2,    0.002,2,    0.000,2,   2280.7,2,   2362.4,2,   7.5729,  25,2,  -999.00,9,  -999.00,   -999.0,9,   -999.0,   2.9249,  27.5395
  49NZ20090521,   P21,   164,  1,     20, X12032,9,20090521,2127,-17.5017,-149.9560, 1467,      3.4,2,  28.2418,2,  28.24298,2,  36.2003,2,-999.0000,9,   196.67,2,  -999.00,9,  -999.00,9,  -999.00,  -999.00,9,  -999.00,  -999.00,9,  -999.00, -999.000,9, -999.000, -999.000,9, -999.000,9, -999.000,9,   -999.0,9,   -999.0,9,-999.0000,-999,9,  -999.00,9,  -999.00,   -999.0,9,   -999.0,  28.2410,  23.2183
  49NZ20090521,   P21,   164,  1,     19, X12046,9,20090521,2127,-17.5017,-149.9560, 1467,      3.5,2,  28.2449,2,  28.24557,2,  36.2004,2,-999.0000,9,   196.62,2,  -999.00,9,  -999.00,9,  -999.00,  -999.00,9,  -999.00,  -999.00,9,  -999.00, -999.000,9, -999.000, -999.000,9, -999.000,9, -999.000,9,   -999.0,9,   -999.0,9,-999.0000,-999,9,  -999.00,9,  -999.00,   -999.0,9,   -999.0,  28.2441,  23.2173
  49NZ20090521,   P21,   164,  1,     18, X12006,9,20090521,2127,-17.5017,-149.9560, 1467,      3.6,2,  28.2473,2,  28.24765,2,  36.2005,2,-999.0000,9,   196.64,2,  -999.00,9,  -999.00,9,  -999.00,  -999.00,9,  -999.00,  -999.00,9,  -999.00, -999.000,9, -999.000, -999.000,9, -999.000,9, -999.000,9,   -999.0,9,   -999.0,9,-999.0000,-999,9,  -999.00,9,  -999.00,   -999.0,9,   -999.0,  28.2464,  23.2166
  49NZ20090521,   P21,   164,  1,     17, X12047,9,20090521,2127,-17.5017,-149.9560, 1467,    669.8,2,   6.1126,2,   6.11072,2,  34.4351,2,-999.0000,9,   151.97,2,  -999.00,9,  -999.00,9,  -999.00,  -999.00,9,  -999.00,  -999.00,9,  -999.00, -999.000,9, -999.000, -999.000,9, -999.000,9, -999.000,9,   -999.0,9,   -999.0,9,-999.0000,-999,9,  -999.00,9,  -999.00,   -999.0,9,   -999.0,   6.0528,  27.0996
  49NZ20090521,   P21,   164,  1,     16, X12004,9,20090521,2127,-17.5017,-149.9560, 1467,    771.2,2,   5.0962,2,   5.09674,2,  34.4428,2,-999.0000,9,   150.53,2,  -999.00,9,  -999.00,9,  -999.00,  -999.00,9,  -999.00,  -999.00,9,  -999.00, -999.000,9, -999.000, -999.000,9, -999.000,9, -999.000,9,   -999.0,9,   -999.0,9,-999.0000,-999,9,  -999.00,9,  -999.00,   -999.0,9,   -999.0,   5.0327,  27.2297
  49NZ20090521,   P21,   164,  1,     15, X12003,9,20090521,2127,-17.5017,-149.9560, 1467,    870.5,2,   4.6295,2,   4.62989,2,  34.4620,2,-999.0000,9,   148.19,2,  -999.00,9,  -999.00,9,  -999.00,  -999.00,9,  -999.00,  -999.00,9,  -999.00, -999.000,9, -999.000, -999.000,9, -999.000,9, -999.000,9,   -999.0,9,   -999.0,9,-999.0000,-999,9,  -999.00,9,  -999.00,   -999.0,9,   -999.0,   4.5603,  27.2983
  49NZ20090521,   P21,   164,  1,     14, X12002,9,20090521,2127,-17.5017,-149.9560, 1467,    967.8,2,   4.0383,2,   4.03809,2,  34.4922,2,-999.0000,9,   145.61,2,  -999.00,9,  -999.00,9,  -999.00,  -999.00,9,  -999.00,  -999.00,9,  -999.00, -999.000,9, -999.000, -999.000,9, -999.000,9, -999.000,9,   -999.0,9,   -999.0,9,-999.0000,-999,9,  -999.00,9,  -999.00,   -999.0,9,   -999.0,   3.9650,  27.3858
  49NZ20090521,   P21,   164,  1,     13, X12001,9,20090521,2127,-17.5017,-149.9560, 1467,   1129.3,2,   3.4411,2,   3.44098,2,  34.5281,2,-999.0000,9,   144.19,2,  -999.00,9,  -999.00,9,  -999.00,  -999.00,9,  -999.00,  -999.00,9,  -999.00, -999.000,9, -999.000, -999.000,9, -999.000,9, -999.000,9,   -999.0,9,   -999.0,9,-999.0000,-999,9,  -999.00,9,  -999.00,   -999.0,9,   -999.0,   3.3594,  27.4747
  49NZ20090521,   P21,   164,  1,     12, X12030,9,20090521,2127,-17.5017,-149.9560, 1467,   1331.6,2,   3.0216,2,   3.02111,2,  34.5583,2,-999.0000,9,   144.69,2,  -999.00,9,  -999.00,9,  -999.00,  -999.00,9,  -999.00,  -999.00,9,  -999.00, -999.000,9, -999.000, -999.000,9, -999.000,9, -999.000,9,   -999.0,9,   -999.0,9,-999.0000,-999,9,  -999.00,9,  -999.00,   -999.0,9,   -999.0,   2.9274,  27.5391
  49NZ20090521,   P21,   164,  1,     11, X12044,9,20090521,2127,-17.5017,-149.9560, 1467,   1466.7,2,   2.8121,2,   2.81303,2,  34.5750,2,-999.0000,9,   145.52,2,  -999.00,9,  -999.00,9,  -999.00,  -999.00,9,  -999.00,  -999.00,9,  -999.00, -999.000,9, -999.000, -999.000,9, -999.000,9, -999.000,9,   -999.0,9,   -999.0,9,-999.0000,-999,9,  -999.00,9,  -999.00,   -999.0,9,   -999.0,   2.7092,  27.5719
  49NZ20090521,   P21,   164,  1,     10, X12048,2,20090521,2127,-17.5017,-149.9560, 1467,      3.6,2,  28.2462,2,  28.24672,2,  36.2005,2,-999.0000,9,   196.62,2,  -999.00,9,  -999.00,9,  -999.00,  -999.00,9,  -999.00,  -999.00,9,  -999.00, -999.000,9, -999.000, -999.000,9, -999.000,9, -999.000,9,   -999.0,9,   -999.0,9,-999.0000,-999,9,  -999.00,9,  -999.00,   -999.0,9,   -999.0,  28.2453,  23.2170
  49NZ20090521,   P21,   164,  1,      9, X12027,2,20090521,2127,-17.5017,-149.9560, 1467,      3.5,2,  28.2453,2,  28.24623,2,  36.2003,2,-999.0000,9,   196.62,2,  -999.00,9,  -999.00,9,  -999.00,  -999.00,9,  -999.00,  -999.00,9,  -999.00, -999.000,9, -999.000, -999.000,9, -999.000,9, -999.000,9,   -999.0,9,   -999.0,9,-999.0000,-999,9,  -999.00,9,  -999.00,   -999.0,9,   -999.0,  28.2445,  23.2172
  49NZ20090521,   P21,   164,  1,      8, X12026,9,20090521,2127,-17.5017,-149.9560, 1467,      3.9,2,  28.2466,2,  28.24641,2,  36.2002,2,-999.0000,9,   196.59,2,  -999.00,9,  -999.00,9,  -999.00,  -999.00,9,  -999.00,  -999.00,9,  -999.00, -999.000,9, -999.000, -999.000,9, -999.000,9, -999.000,9,   -999.0,9,   -999.0,9,-999.0000,-999,9,  -999.00,9,  -999.00,   -999.0,9,   -999.0,  28.2457,  23.2167
  49NZ20090521,   P21,   164,  1,      7, X12025,2,20090521,2127,-17.5017,-149.9560, 1467,     10.8,2,  28.2246,2,  28.22499,2,  36.1985,2,-999.0000,9,   196.52,2,  -999.00,9,     0.79,2,     0.12,     0.06,2,     0.03,     0.01,2,     0.01,    0.194,2,    0.016, -999.000,9, -999.000,9, -999.000,9,   -999.0,9,   -999.0,9,-999.0000,-999,9,  -999.00,9,  -999.00,   -999.0,9,   -999.0,  28.2220,  23.2232
  49NZ20090521,   P21,   164,  1,      6, X12024,2,20090521,2127,-17.5017,-149.9560, 1467,     51.8,2,  28.1934,2,  28.19349,2,  36.1964,2,-999.0000,9,   196.34,2,  -999.00,9,     0.80,2,     0.12,     0.06,2,     0.03,     0.01,2,     0.01,    0.195,2,    0.016, -999.000,9, -999.000,9, -999.000,9,   -999.0,9,   -999.0,9,-999.0000,-999,9,  -999.00,9,  -999.00,   -999.0,9,   -999.0,  28.1811,  23.2351
  49NZ20090521,   P21,   164,  1,      5, X12028,2,20090521,2127,-17.5017,-149.9560, 1467,    100.4,2,  25.7734,2,  25.76541,2,  36.4422,2,-999.0000,9,   194.29,2,  -999.00,9,     0.83,2,     0.12,     0.13,2,     0.03,     0.19,2,     0.01,    0.266,2,    0.015, -999.000,9, -999.000,9, -999.000,9,   -999.0,9,   -999.0,9,-999.0000,-999,9,  -999.00,9,  -999.00,   -999.0,9,   -999.0,  25.7510,  24.1997
  49NZ20090521,   P21,   164,  1,      4, X12022,2,20090521,2127,-17.5017,-149.9560, 1467,    150.4,2,  24.9997,2,  24.99330,2,  36.3771,2,-999.0000,9,   187.17,2,  -999.00,9,     0.79,2,     0.12,     0.72,2,     0.03,     0.24,2,     0.01,    0.300,2,    0.014, -999.000,9, -999.000,9, -999.000,9,   -999.0,9,   -999.0,9,-999.0000,-999,9,  -999.00,9,  -999.00,   -999.0,9,   -999.0,  24.9669,  24.3926
  49NZ20090521,   P21,   164,  1,      3, X12021,2,20090521,2127,-17.5017,-149.9560, 1467,    200.9,2,  22.5868,2,  22.59074,2,  36.1028,2,-999.0000,9,   176.65,2,  -999.00,9,     0.87,2,     0.12,     2.74,2,     0.04,     0.02,2,     0.01,    0.414,2,    0.013, -999.000,9, -999.000,9, -999.000,9,   -999.0,9,   -999.0,9,-999.0000,-999,9,  -999.00,9,  -999.00,   -999.0,9,   -999.0,  22.5461,  24.9010
  49NZ20090521,   P21,   164,  1,      2, X12020,2,20090521,2127,-17.5017,-149.9560, 1467,    250.4,2,  21.0073,2,  21.00870,2,  35.8595,2,-999.0000,9,   176.69,2,  -999.00,9,     1.09,2,     0.12,     3.61,2,     0.04,     0.02,2,     0.01,    0.468,2,    0.013, -999.000,9, -999.000,9, -999.000,9,   -999.0,9,   -999.0,9,-999.0000,-999,9,  -999.00,9,  -999.00,   -999.0,9,   -999.0,  20.9591,  25.1596
  49NZ20090521,   P21,   164,  1,      1, X12019,2,20090521,2127,-17.5017,-149.9560, 1467,   1466.5,2,   2.8105,2,   2.81089,2,  34.5750,2,  34.5747,6,   145.53,2,   145.31,2,    93.81,2,     0.33,    35.91,2,     0.13,     0.01,2,     0.01,    2.537,2,    0.016,    0.000,2,    0.001,2,    0.000,2,   2285.9,2,   2369.3,2,   7.5733,  25,2,  -999.00,9,  -999.00,   -999.0,9,   -999.0,   2.7076,  27.5721