BOTTLE,20111109CCHDOSIOCBG
EXPOCODE,SECT_ID,STNNBR,CASTNO,SAMPNO,BTLNBR,BTLNBR_FLAG_W,DATE,TIME,LATITUDE,LONGITUDE,DEPTH,CTDPRS,CTDPRS_FLAG_W,CTDTMP,CTDTMP_FLAG_W,SBE35,SBE35_FLAG_W,CTDSAL,CTDSAL_FLAG_W,SALNTY,SALNTY_FLAG_W,CTDOXY,CTDOXY_FLAG_W,OXYGEN,OXYGEN_FLAG_W,SILCAT,SILCAT_FLAG_W,SILUNC,NITRAT,NITRAT_FLAG_W,NRAUNC,NITRIT,NITRIT_FLAG_W,NRIUNC,PHSPHT,PHSPHT_FLAG_W,PHPUNC,CFC-11,CFC-11_FLAG_W,CFC-12,CFC-12_FLAG_W,CFC113,CFC113_FLAG_W,TCARBN,TCARBN_FLAG_W,ALKALI,ALKALI_FLAG_W,PH_TOT,PH_TMP,PH_TOT_FLAG_W,DELC13,DELC13_FLAG_W,C13ERR,DELC14,DELC14_FLAG_W,C14ERR,THETA,SIG0
,,,,,,,,,,,METERS,DBAR,,ITS-90,,ITS-90,,PSS-78,,PSS-78,,UMOL/KG,,UMOL/KG,,UMOL/KG,,UMOL/KG,UMOL/KG,,UMOL/KG,UMOL/KG,,UMOL/KG,UMOL/KG,,UMOL/KG,PMOL/KG,,PMOL/KG,,PMOL/KG,,UMOL/KG,,UMOL/KG,,,DEG C,,/MILLE,,/MILLE,/MILLE,,/MILLE,DEG C,KG/M^3
  49NZ20090521,   P21,   251,  1,      0,   -999,9,20090611,1425,-19.5797, 165.2448, 2452,   -999.0,9,-999.0000,9,-999.00000,9,-999.0000,9,  34.8595,2,  -999.00,9,  -999.00,9,  -999.00,9,  -999.00,  -999.00,9,  -999.00,  -999.00,9,  -999.00, -999.000,9, -999.000, -999.000,9, -999.000,9, -999.000,9,   -999.0,9,   -999.0,9,-999.0000,-999,9,  -999.00,9,  -999.00,   -999.0,9,   -999.0,-999.0000,-999.0000
  49NZ20090521,   P21,   251,  1,     36, X12043,2,20090611,1425,-19.5797, 165.2448, 2452,      9.9,2,  25.4174,2,  25.41761,2,  34.8667,2,  34.8642,2,   205.59,2,   205.51,2,     0.38,2,     0.12,     0.09,2,     0.03,     0.01,2,     0.01,    0.072,2,    0.027,    1.561,2,    1.011,2, -999.000,5,   -999.0,9,   -999.0,9,-999.0000,-999,9,  -999.00,9,  -999.00,   -999.0,9,   -999.0,  25.4152,  23.1136
  49NZ20090521,   P21,   251,  1,     35, X12042,2,20090611,1425,-19.5797, 165.2448, 2452,     50.1,2,  25.4296,2,  25.42872,2,  34.8971,2,  34.8960,2,   204.42,2,   204.52,2,     0.33,2,     0.12,     0.09,2,     0.03,     0.01,2,     0.01,    0.060,2,    0.030,    1.567,2,    1.008,2, -999.000,5,   -999.0,9,   -999.0,9,-999.0000,-999,9,  -999.00,9,  -999.00,   -999.0,9,   -999.0,  25.4186,  23.1356
  49NZ20090521,   P21,   251,  1,     34, X12016,2,20090611,1425,-19.5797, 165.2448, 2452,    100.1,2,  23.2689,2,  23.26700,2,  35.4474,2,  35.4499,2,   185.57,2,   185.12,2,     0.53,2,     0.12,     1.01,2,     0.04,     0.10,2,     0.01,    0.207,2,    0.016,    1.814,6,    1.144,6,    0.187,4,   -999.0,9,   -999.0,9,-999.0000,-999,9,  -999.00,9,  -999.00,   -999.0,9,   -999.0,  23.2483,  24.2010
  49NZ20090521,   P21,   251,  1,     33, X12015,2,20090611,1425,-19.5797, 165.2448, 2452,    150.4,2,  22.1944,2,  22.19445,2,  35.5679,2,  35.5669,2,   171.69,2,   171.58,2,     0.64,2,     0.12,     3.25,2,     0.04,     0.04,2,     0.01,    0.332,2,    0.014,    1.894,2,    1.184,2,    0.117,2,   -999.0,9,   -999.0,9,-999.0000,-999,9,  -999.00,9,  -999.00,   -999.0,9,   -999.0,  22.1644,  24.6031
  49NZ20090521,   P21,   251,  1,     32, X12050,2,20090611,1425,-19.5797, 165.2448, 2452,    199.7,2,  20.6867,2,  20.68840,2,  35.6595,2,  35.6565,2,   166.24,2,   166.99,2,     0.95,2,     0.12,     4.75,2,     0.05,     0.01,2,     0.01,    0.454,2,    0.013,    2.007,2,    1.230,2,    0.057,2,   -999.0,9,   -999.0,9,-999.0000,-999,9,  -999.00,9,  -999.00,   -999.0,9,   -999.0,  20.6487,  25.0915
  49NZ20090521,   P21,   251,  1,     31, X12014,2,20090611,1425,-19.5797, 165.2448, 2452,    250.0,2,  18.5666,2,  18.56538,2,  35.5802,2,  35.5769,6,   178.83,2,   178.78,2,     1.11,2,     0.12,     5.30,2,     0.05,     0.01,2,     0.01,    0.474,2,    0.013,    2.150,2,    1.292,2,    0.024,2,   -999.0,9,   -999.0,9,-999.0000,-999,9,  -999.00,9,  -999.00,   -999.0,9,   -999.0,  18.5225,  25.5861
  49NZ20090521,   P21,   251,  1,     30, X12012,2,20090611,1425,-19.5797, 165.2448, 2452,    280.3,2,  17.7437,2,  17.74236,2,  35.5134,2,  35.5111,2,   179.36,2,   179.51,2,     1.36,2,     0.12,     6.06,2,     0.05,     0.01,2,     0.01,    0.528,2,    0.013,    2.182,2,    1.295,2,    0.022,2,   -999.0,9,   -999.0,9,-999.0000,-999,9,  -999.00,9,  -999.00,   -999.0,9,   -999.0,  17.6958,  25.7402
  49NZ20090521,   P21,   251,  1,     29, X12041,3,20090611,1425,-19.5797, 165.2448, 2452,    371.0,2,  14.4684,2,  14.46940,2,  35.1773,2,  35.1758,2,   181.08,2,   181.31,2,     3.21,2,     0.13,    10.62,2,     0.06,     0.01,2,     0.01,    0.842,2,    0.013,    2.224,6,    1.262,6,    0.027,6,   -999.0,9,   -999.0,9,-999.0000,-999,9,  -999.00,9,  -999.00,   -999.0,9,   -999.0,  14.4132,  26.2363
  49NZ20090521,   P21,   251,  1,     28, X12040,2,20090611,1425,-19.5797, 165.2448, 2452,    470.6,2,  10.9106,2,  10.91780,2,  34.8186,2,  34.8173,6,   191.39,2,   191.68,2,     5.90,2,     0.13,    16.69,2,     0.08,     0.01,2,     0.01,    1.217,2,    0.013,    2.147,2,    1.165,2,    0.039,2,   -999.0,9,   -999.0,9,-999.0000,-999,9,  -999.00,9,  -999.00,   -999.0,9,   -999.0,  10.8523,  26.6610
  49NZ20090521,   P21,   251,  1,     27, X12009,2,20090611,1425,-19.5797, 165.2448, 2452,    570.7,2,   8.0047,2,   8.00428,2,  34.5145,2,  34.5144,2,   201.67,2,   201.80,2,    10.55,2,     0.14,    22.48,2,     0.10,     0.01,2,     0.01,    1.596,2,    0.014,    1.727,6,    0.895,6,    0.037,6,   -999.0,9,   -999.0,9,-999.0000,-999,9,  -999.00,9,  -999.00,   -999.0,9,   -999.0,   7.9459,  26.9006
  49NZ20090521,   P21,   251,  1,     26, X12008,2,20090611,1425,-19.5797, 165.2448, 2452,    670.9,2,   6.4424,2,   6.44257,2,  34.4166,2,  34.4162,2,   197.33,2,   197.29,2,    19.10,2,     0.16,    26.66,2,     0.11,     0.01,2,     0.01,    1.872,2,    0.015,    1.022,2,    0.525,2,    0.022,2,   -999.0,9,   -999.0,9,-999.0000,-999,9,  -999.00,9,  -999.00,   -999.0,9,   -999.0,   6.3808,  27.0425
  49NZ20090521,   P21,   251,  1,     25, X12007,2,20090611,1425,-19.5797, 165.2448, 2452,    770.3,2,   5.4693,2,   5.46929,2,  34.3971,2,  34.3977,2,   188.94,2,   188.61,2,    29.39,2,     0.18,    29.45,2,     0.12,     0.01,2,     0.01,    2.056,2,    0.015,    0.573,2,    0.300,2,    0.009,2,   -999.0,9,   -999.0,9,-999.0000,-999,9,  -999.00,9,  -999.00,   -999.0,9,   -999.0,   5.4038,  27.1498
  49NZ20090521,   P21,   251,  1,     24, X12035,2,20090611,1425,-19.5797, 165.2448, 2452,    869.7,2,   4.8200,2,   4.82023,2,  34.4147,2,  34.4149,2,   179.66,2,   179.77,2,    40.09,2,     0.21,    31.21,2,     0.12,     0.01,2,     0.01,    2.180,2,    0.015,    0.322,2,    0.166,2,    0.005,2,   -999.0,9,   -999.0,9,-999.0000,-999,9,  -999.00,9,  -999.00,   -999.0,9,   -999.0,   4.7497,  27.2397
  49NZ20090521,   P21,   251,  1,     23, X12038,2,20090611,1425,-19.5797, 165.2448, 2452,    969.9,2,   4.2627,2,   4.26261,2,  34.4517,2,  34.4517,6,   169.87,2,   169.95,2,    53.24,2,     0.24,    32.65,2,     0.12,     0.01,2,     0.01,    2.288,2,    0.016, -999.000,5, -999.000,5, -999.000,5,   -999.0,9,   -999.0,9,-999.0000,-999,9,  -999.00,9,  -999.00,   -999.0,9,   -999.0,   4.1877,  27.3304
  49NZ20090521,   P21,   251,  1,     22, X12034,2,20090611,1425,-19.5797, 165.2448, 2452,   1130.7,2,   3.6482,2,   3.64821,2,  34.5045,2,  34.5056,3,   161.36,2,   161.29,2,    70.26,2,     0.27,    33.81,2,     0.13,     0.01,2,     0.01,    2.376,2,    0.016,    0.070,2,    0.039,2,    0.000,2,   -999.0,9,   -999.0,9,-999.0000,-999,9,  -999.00,9,  -999.00,   -999.0,9,   -999.0,   3.5646,  27.4360
  49NZ20090521,   P21,   251,  1,     21, X12033,2,20090611,1425,-19.5797, 165.2448, 2452,   1330.4,2,   3.1747,2,   3.17449,2,  34.5552,2,  34.5555,2,   154.47,2,   154.63,2,    84.98,2,     0.31,    34.57,2,     0.13,     0.01,2,     0.01,    2.434,2,    0.016,    0.033,2,    0.018,2,    0.000,2,   -999.0,9,   -999.0,9,-999.0000,-999,9,  -999.00,9,  -999.00,   -999.0,9,   -999.0,   3.0790,  27.5228
  49NZ20090521,   P21,   251,  1,     20, X12032,2,20090611,1425,-19.5797, 165.2448, 2452,   1531.0,2,   2.8267,2,   2.82663,2,  34.5884,2,  34.5890,2,   151.01,2,   151.11,2,    94.88,2,     0.33,    35.00,2,     0.13,     0.01,2,     0.01,    2.473,2,    0.016,    0.016,2,    0.008,2,    0.000,2,   -999.0,9,   -999.0,9,-999.0000,-999,9,  -999.00,9,  -999.00,   -999.0,9,   -999.0,   2.7183,  27.5818
  49NZ20090521,   P21,   251,  1,     19, X12046,2,20090611,1425,-19.5797, 165.2448, 2452,   1729.8,2,   2.6039,2,   2.60391,2,  34.6109,2,  34.6111,6,   150.04,2,   150.12,2,   100.84,2,     0.34,    35.19,2,     0.13,     0.01,2,     0.01,    2.484,2,    0.016,    0.008,2,    0.006,2,    0.000,2,   -999.0,9,   -999.0,9,-999.0000,-999,9,  -999.00,9,  -999.00,   -999.0,9,   -999.0,   2.4816,  27.6203
  49NZ20090521,   P21,   251,  1,     18, X12006,2,20090611,1425,-19.5797, 165.2448, 2452,   1932.0,2,   2.4019,2,   2.40195,2,  34.6311,2,  34.6313,2,   150.00,2,   150.07,2,   105.69,2,     0.35,    35.30,2,     0.13,     0.01,2,     0.01,    2.493,2,    0.016,    0.003,2,    0.002,2,    0.000,2,   -999.0,9,   -999.0,9,-999.0000,-999,9,  -999.00,9,  -999.00,   -999.0,9,   -999.0,   2.2652,  27.6547
  49NZ20090521,   P21,   251,  1,     17, X12047,2,20090611,1425,-19.5797, 165.2448, 2452,   2130.0,2,   2.2377,2,   2.23761,2,  34.6472,2,  34.6473,2,   151.34,2,   151.36,2,   109.22,2,     0.36,    35.26,2,     0.13,     0.01,2,     0.01,    2.483,2,    0.016,    0.000,2,    0.000,2,    0.000,2,   -999.0,9,   -999.0,9,-999.0000,-999,9,  -999.00,9,  -999.00,   -999.0,9,   -999.0,   2.0864,  27.6821
  49NZ20090521,   P21,   251,  1,     16, X12004,2,20090611,1425,-19.5797, 165.2448, 2452,   2332.0,2,   2.0787,2,   2.07849,2,  34.6611,2,  34.6615,2,   153.19,2,   153.24,2,   112.49,2,     0.37,    35.21,2,     0.13,     0.01,2,     0.01,    2.489,2,    0.016,    0.000,2,    0.002,2,    0.000,2,   -999.0,9,   -999.0,9,-999.0000,-999,9,  -999.00,9,  -999.00,   -999.0,9,   -999.0,   1.9121,  27.7071
  49NZ20090521,   P21,   251,  1,     15, X12003,9,20090611,1425,-19.5797, 165.2448, 2452,      9.9,2,  25.4155,2,  25.41581,2,  34.8655,2,-999.0000,9,   205.61,2,  -999.00,9,  -999.00,9,  -999.00,  -999.00,9,  -999.00,  -999.00,9,  -999.00, -999.000,9, -999.000, -999.000,9, -999.000,9, -999.000,9,   -999.0,9,   -999.0,9,-999.0000,-999,9,  -999.00,9,  -999.00,   -999.0,9,   -999.0,  25.4133,  23.1133
  49NZ20090521,   P21,   251,  1,     14, X12002,9,20090611,1425,-19.5797, 165.2448, 2452,   1130.7,2,   3.6493,2,   3.64899,2,  34.5043,2,-999.0000,9,   161.34,2,  -999.00,9,  -999.00,9,  -999.00,  -999.00,9,  -999.00,  -999.00,9,  -999.00, -999.000,9, -999.000, -999.000,9, -999.000,9, -999.000,9,   -999.0,9,   -999.0,9,-999.0000,-999,9,  -999.00,9,  -999.00,   -999.0,9,   -999.0,   3.5657,  27.4357
  49NZ20090521,   P21,   251,  1,     13, X12001,9,20090611,1425,-19.5797, 165.2448, 2452,   1130.6,2,   3.6482,2,   3.64742,2,  34.5045,2,-999.0000,9,   161.34,2,  -999.00,9,  -999.00,9,  -999.00,  -999.00,9,  -999.00,  -999.00,9,  -999.00, -999.000,9, -999.000, -999.000,9, -999.000,9, -999.000,9,   -999.0,9,   -999.0,9,-999.0000,-999,9,  -999.00,9,  -999.00,   -999.0,9,   -999.0,   3.5646,  27.4360
  49NZ20090521,   P21,   251,  1,     12, X12030,9,20090611,1425,-19.5797, 165.2448, 2452,   1530.9,2,   2.8264,2,   2.82633,2,  34.5884,2,-999.0000,9,   151.05,2,  -999.00,9,  -999.00,9,  -999.00,  -999.00,9,  -999.00,  -999.00,9,  -999.00, -999.000,9, -999.000, -999.000,9, -999.000,9, -999.000,9,   -999.0,9,   -999.0,9,-999.0000,-999,9,  -999.00,9,  -999.00,   -999.0,9,   -999.0,   2.7180,  27.5819
  49NZ20090521,   P21,   251,  1,     11, X12044,9,20090611,1425,-19.5797, 165.2448, 2452,   1530.9,2,   2.8266,2,   2.82655,2,  34.5885,2,-999.0000,9,   151.03,2,  -999.00,9,  -999.00,9,  -999.00,  -999.00,9,  -999.00,  -999.00,9,  -999.00, -999.000,9, -999.000, -999.000,9, -999.000,9, -999.000,9,   -999.0,9,   -999.0,9,-999.0000,-999,9,  -999.00,9,  -999.00,   -999.0,9,   -999.0,   2.7182,  27.5819
  49NZ20090521,   P21,   251,  1,     10, X12048,9,20090611,1425,-19.5797, 165.2448, 2452,   1730.0,2,   2.6038,2,   2.60410,2,  34.6108,2,-999.0000,9,   150.09,2,  -999.00,9,  -999.00,9,  -999.00,  -999.00,9,  -999.00,  -999.00,9,  -999.00, -999.000,9, -999.000, -999.000,9, -999.000,9, -999.000,9,   -999.0,9,   -999.0,9,-999.0000,-999,9,  -999.00,9,  -999.00,   -999.0,9,   -999.0,   2.4815,  27.6203
  49NZ20090521,   P21,   251,  1,      9, X12027,9,20090611,1425,-19.5797, 165.2448, 2452,   1729.9,2,   2.6047,2,   2.60459,2,  34.6107,2,-999.0000,9,   150.04,2,  -999.00,9,  -999.00,9,  -999.00,  -999.00,9,  -999.00,  -999.00,9,  -999.00, -999.000,9, -999.000, -999.000,9, -999.000,9, -999.000,9,   -999.0,9,   -999.0,9,-999.0000,-999,9,  -999.00,9,  -999.00,   -999.0,9,   -999.0,   2.4824,  27.6201
  49NZ20090521,   P21,   251,  1,      8, X12026,9,20090611,1425,-19.5797, 165.2448, 2452,   1932.1,2,   2.4012,2,   2.40119,2,  34.6312,2,-999.0000,9,   150.01,2,  -999.00,9,  -999.00,9,  -999.00,  -999.00,9,  -999.00,  -999.00,9,  -999.00, -999.000,9, -999.000, -999.000,9, -999.000,9, -999.000,9,   -999.0,9,   -999.0,9,-999.0000,-999,9,  -999.00,9,  -999.00,   -999.0,9,   -999.0,   2.2645,  27.6548
  49NZ20090521,   P21,   251,  1,      7, X12025,9,20090611,1425,-19.5797, 165.2448, 2452,   1932.0,2,   2.4015,2,   2.40147,2,  34.6311,2,-999.0000,9,   150.00,2,  -999.00,9,  -999.00,9,  -999.00,  -999.00,9,  -999.00,  -999.00,9,  -999.00, -999.000,9, -999.000, -999.000,9, -999.000,9, -999.000,9,   -999.0,9,   -999.0,9,-999.0000,-999,9,  -999.00,9,  -999.00,   -999.0,9,   -999.0,   2.2648,  27.6547
  49NZ20090521,   P21,   251,  1,      6, X12024,9,20090611,1425,-19.5797, 165.2448, 2452,   2129.9,2,   2.2381,2,   2.23793,2,  34.6471,2,-999.0000,9,   151.36,2,  -999.00,9,  -999.00,9,  -999.00,  -999.00,9,  -999.00,  -999.00,9,  -999.00, -999.000,9, -999.000, -999.000,9, -999.000,9, -999.000,9,   -999.0,9,   -999.0,9,-999.0000,-999,9,  -999.00,9,  -999.00,   -999.0,9,   -999.0,   2.0868,  27.6820
  49NZ20090521,   P21,   251,  1,      5, X12028,9,20090611,1425,-19.5797, 165.2448, 2452,   2129.9,2,   2.2374,2,   2.23742,2,  34.6473,2,-999.0000,9,   151.28,2,  -999.00,9,  -999.00,9,  -999.00,  -999.00,9,  -999.00,  -999.00,9,  -999.00, -999.000,9, -999.000, -999.000,9, -999.000,9, -999.000,9,   -999.0,9,   -999.0,9,-999.0000,-999,9,  -999.00,9,  -999.00,   -999.0,9,   -999.0,   2.0861,  27.6822
  49NZ20090521,   P21,   251,  1,      4, X12022,9,20090611,1425,-19.5797, 165.2448, 2452,   2332.1,2,   2.0763,2,   2.07650,2,  34.6612,2,-999.0000,9,   153.24,2,  -999.00,9,  -999.00,9,  -999.00,  -999.00,9,  -999.00,  -999.00,9,  -999.00, -999.000,9, -999.000, -999.000,9, -999.000,9, -999.000,9,   -999.0,9,   -999.0,9,-999.0000,-999,9,  -999.00,9,  -999.00,   -999.0,9,   -999.0,   1.9098,  27.7074
  49NZ20090521,   P21,   251,  1,      3, X12021,9,20090611,1425,-19.5797, 165.2448, 2452,   2331.9,2,   2.0781,2,   2.07782,2,  34.6611,2,-999.0000,9,   153.21,2,  -999.00,9,  -999.00,9,  -999.00,  -999.00,9,  -999.00,  -999.00,9,  -999.00, -999.000,9, -999.000, -999.000,9, -999.000,9, -999.000,9,   -999.0,9,   -999.0,9,-999.0000,-999,9,  -999.00,9,  -999.00,   -999.0,9,   -999.0,   1.9115,  27.7071
  49NZ20090521,   P21,   251,  1,      2, X12020,9,20090611,1425,-19.5797, 165.2448, 2452,   1330.3,2,   3.1736,2,   3.17356,2,  34.5552,2,-999.0000,9,   154.42,2,  -999.00,9,  -999.00,9,  -999.00,  -999.00,9,  -999.00,  -999.00,9,  -999.00, -999.000,9, -999.000, -999.000,9, -999.000,9, -999.000,9,   -999.0,9,   -999.0,9,-999.0000,-999,9,  -999.00,9,  -999.00,   -999.0,9,   -999.0,   3.0780,  27.5229
  49NZ20090521,   P21,   251,  1,      1, X12019,2,20090611,1425,-19.5797, 165.2448, 2452,   2546.4,2,   1.9548,2,   1.95409,2,  34.6717,2,  34.6716,6,   155.05,2,   155.20,2,   115.16,2,     0.37,    35.18,2,     0.13,     0.01,2,     0.01,    2.482,2,    0.016,    0.000,2,    0.000,2,    0.000,2,   -999.0,9,   -999.0,9,-999.0000,-999,9,  -999.00,9,  -999.00,   -999.0,9,   -999.0,   1.7710,  27.7265