BOTTLE,20111109CCHDOSIOCBG
EXPOCODE,SECT_ID,STNNBR,CASTNO,SAMPNO,BTLNBR,BTLNBR_FLAG_W,DATE,TIME,LATITUDE,LONGITUDE,DEPTH,CTDPRS,CTDPRS_FLAG_W,CTDTMP,CTDTMP_FLAG_W,SBE35,SBE35_FLAG_W,CTDSAL,CTDSAL_FLAG_W,SALNTY,SALNTY_FLAG_W,CTDOXY,CTDOXY_FLAG_W,OXYGEN,OXYGEN_FLAG_W,SILCAT,SILCAT_FLAG_W,SILUNC,NITRAT,NITRAT_FLAG_W,NRAUNC,NITRIT,NITRIT_FLAG_W,NRIUNC,PHSPHT,PHSPHT_FLAG_W,PHPUNC,CFC-11,CFC-11_FLAG_W,CFC-12,CFC-12_FLAG_W,CFC113,CFC113_FLAG_W,TCARBN,TCARBN_FLAG_W,ALKALI,ALKALI_FLAG_W,PH_TOT,PH_TMP,PH_TOT_FLAG_W,DELC13,DELC13_FLAG_W,C13ERR,DELC14,DELC14_FLAG_W,C14ERR,THETA,SIG0
,,,,,,,,,,,METERS,DBAR,,ITS-90,,ITS-90,,PSS-78,,PSS-78,,UMOL/KG,,UMOL/KG,,UMOL/KG,,UMOL/KG,UMOL/KG,,UMOL/KG,UMOL/KG,,UMOL/KG,UMOL/KG,,UMOL/KG,PMOL/KG,,PMOL/KG,,PMOL/KG,,UMOL/KG,,UMOL/KG,,,DEG C,,/MILLE,,/MILLE,/MILLE,,/MILLE,DEG C,KG/M^3
  49NZ20090521,   P21,   282,  1,      0,   -999,9,20090616,2211,-24.5470, 154.9583, 4376,   -999.0,9,-999.0000,9,-999.00000,9,-999.0000,9,  35.2139,2,  -999.00,9,  -999.00,9,  -999.00,9,  -999.00,  -999.00,9,  -999.00,  -999.00,9,  -999.00, -999.000,9, -999.000, -999.000,9, -999.000,9, -999.000,9,   -999.0,9,   -999.0,9,-999.0000,-999,9,  -999.00,9,  -999.00,   -999.0,9,   -999.0,-999.0000,-999.0000
  49NZ20090521,   P21,   282,  1,     36, X12043,2,20090616,2211,-24.5470, 154.9583, 4376,     10.1,2,  22.7819,2,  22.78230,2,  35.2182,2,  35.2173,2,   218.33,2,   217.76,2,     0.04,2,     0.12,     0.09,2,     0.03,     0.01,2,     0.01,    0.096,2,    0.021,    1.731,2,    1.104,2,    0.190,4,   1976.4,2,   2295.4,2,   8.0761,  25,6,  -999.00,1,  -999.00,   -999.0,1,   -999.0,  22.7799,  24.1624
  49NZ20090521,   P21,   282,  1,     35, X12042,2,20090616,2211,-24.5470, 154.9583, 4376,     50.3,2,  22.0778,2,  22.07891,2,  35.2793,2,  35.2782,2,   216.50,2,   216.00,2,    -0.11,2,     0.12,     0.08,2,     0.03,     0.01,2,     0.01,    0.114,2,    0.020,    1.785,2,    1.137,2,    0.196,4,   1988.6,6,   2305.4,2,   8.0711,  25,2,  -999.00,1,  -999.00,   -999.0,1,   -999.0,  22.0678,  24.4110
  49NZ20090521,   P21,   282,  1,     34, X12016,2,20090616,2211,-24.5470, 154.9583, 4376,    100.4,2,  19.8239,2,  19.82604,2,  35.6373,2,  35.6359,2,   181.49,2,   181.36,2,     1.09,2,     0.12,     4.24,2,     0.04,     0.04,2,     0.01,    0.419,2,    0.013,    2.038,6,    1.250,6,    0.136,6,   2069.6,2,   2333.4,6,   7.9751,  25,2,  -999.00,1,  -999.00,   -999.0,1,   -999.0,  19.8054,  25.2993
  49NZ20090521,   P21,   282,  1,     33, X12015,2,20090616,2211,-24.5470, 154.9583, 4376,    150.3,2,  18.5032,2,  18.49813,2,  35.6142,2,  35.6127,2,   185.14,2,   184.77,2,     1.30,2,     0.12,     5.25,2,     0.05,     0.02,2,     0.01,    0.463,2,    0.013,    2.116,2,    1.283,2,    0.079,2,   2075.6,2,   2331.8,2,   7.9570,  25,6,  -999.00,1,  -999.00,   -999.0,1,   -999.0,  18.4768,  25.6236
  49NZ20090521,   P21,   282,  1,     32, X12050,2,20090616,2211,-24.5470, 154.9583, 4376,    201.1,2,  17.2894,2,  17.29002,2,  35.5575,2,  35.5558,2,   186.87,2,   186.33,2,     1.68,2,     0.12,     6.60,2,     0.05,     0.01,2,     0.01,    0.550,2,    0.013,    2.207,2,    1.324,2,    0.043,2,   2085.3,2,   2328.7,2,   7.9341,  25,2,  -999.00,1,  -999.00,   -999.0,1,   -999.0,  17.2557,  25.8810
  49NZ20090521,   P21,   282,  1,     31, X12014,2,20090616,2211,-24.5470, 154.9583, 4376,    248.6,2,  16.1106,2,  16.11048,2,  35.4243,2,  35.4241,6,   180.66,2,   180.52,2,     2.55,2,     0.12,     8.79,2,     0.06,     0.01,2,     0.01,    0.698,2,    0.013,    2.193,2,    1.280,2,    0.036,2,   2099.7,2,   2322.9,2,   7.8974,  25,2,  -999.00,1,  -999.00,   -999.0,1,   -999.0,  16.0709,  26.0578
  49NZ20090521,   P21,   282,  1,     30, X12012,2,20090616,2211,-24.5470, 154.9583, 4376,    279.3,2,  15.4276,2,  15.41325,2,  35.3960,2,  35.3921,2,   187.25,2,   187.23,2,     2.65,2,     0.12,     9.19,2,     0.06,     0.01,2,     0.01,    0.722,2,    0.013,    2.268,2,    1.324,2,    0.043,2,   2101.9,2,   2320.8,2,   7.8898,  25,2,  -999.00,1,  -999.00,   -999.0,1,   -999.0,  15.3842,  26.1919
  49NZ20090521,   P21,   282,  1,     29, X12041,2,20090616,2211,-24.5470, 154.9583, 4376,    370.7,2,  13.1629,2,  13.16311,2,  35.1406,2,  35.1406,2,   187.36,2,   187.33,2,     4.38,2,     0.13,    12.95,2,     0.07,     0.01,2,     0.01,    0.967,2,    0.013,    2.212,6,    1.247,6,    0.062,6,   2120.4,2,   2308.6,2,   7.8336,  25,2,  -999.00,1,  -999.00,   -999.0,1,   -999.0,  13.1111,  26.4795
  49NZ20090521,   P21,   282,  1,     28, X12040,2,20090616,2211,-24.5470, 154.9583, 4376,    468.0,2,  10.3305,2,  10.33141,2,  34.7951,2,  34.7946,6,   194.32,2,   194.28,2,     6.83,2,     0.13,    17.92,2,     0.08,     0.01,2,     0.01,    1.289,2,    0.014,    2.108,2,    1.136,2,    0.070,2,   2137.5,2,   2296.8,2,   7.7692,  25,2,  -999.00,1,  -999.00,   -999.0,1,   -999.0,  10.2745,  26.7447
  49NZ20090521,   P21,   282,  1,     27, X12009,2,20090616,2211,-24.5470, 154.9583, 4376,    570.6,2,   8.1328,2,   8.13346,2,  34.5494,2,  34.5480,2,   201.80,2,   201.83,2,    10.79,2,     0.14,    22.33,2,     0.10,     0.01,2,     0.01,    1.577,2,    0.014,    1.716,6,    0.899,6,    0.050,6,   2150.0,2,   2289.1,2,   7.7249,  25,2,  -999.00,1,  -999.00,   -999.0,1,   -999.0,   8.0735,  26.9090
  49NZ20090521,   P21,   282,  1,     26, X12008,2,20090616,2211,-24.5470, 154.9583, 4376,    673.1,2,   7.0944,2,   7.08983,2,  34.4774,2,  34.4790,2,   200.56,2,   200.43,2,    15.65,2,     0.15,    24.88,2,     0.10,     0.01,2,     0.01,    1.746,2,    0.014,    1.309,2,    0.686,2,    0.026,2,   2161.9,2,   2288.7,2,   7.7002,  25,2,  -999.00,1,  -999.00,   -999.0,1,   -999.0,   7.0293,  27.0030
  49NZ20090521,   P21,   282,  1,     25, X12007,2,20090616,2211,-24.5470, 154.9583, 4376,    772.7,2,   6.1473,2,   6.14903,2,  34.4299,2,  34.4298,2,   197.07,2,   197.02,2,    22.57,2,     0.17,    27.22,2,     0.11,     0.01,2,     0.01,    1.907,2,    0.015,    0.886,2,    0.472,2,    0.023,2,   2175.1,2,   2295.5,6,   7.6766,  25,2,  -999.00,1,  -999.00,   -999.0,1,   -999.0,   6.0775,  27.0923
  49NZ20090521,   P21,   282,  1,     24, X12035,2,20090616,2211,-24.5470, 154.9583, 4376,    871.6,2,   5.5648,2,   5.56593,2,  34.4314,2,  34.4312,2,   189.60,2,   189.58,2,    30.87,2,     0.19,    29.01,2,     0.11,     0.01,2,     0.01,    2.032,2,    0.015,    0.576,2,    0.307,2,    0.022,2,   2189.3,2,   2301.8,2,   7.6577,  25,6,  -999.00,1,  -999.00,   -999.0,1,   -999.0,   5.4894,  27.1667
  49NZ20090521,   P21,   282,  1,     23, X12038,2,20090616,2211,-24.5470, 154.9583, 4376,    970.4,2,   4.9407,2,   4.94089,2,  34.4458,2,  34.4458,6,   180.50,2,   180.51,2,    41.96,2,     0.21,    30.70,2,     0.12,     0.01,2,     0.01,    2.155,2,    0.015,    0.344,2,    0.186,2,    0.014,2,   2207.6,2,   2312.9,2,   7.6375,  25,2,  -999.00,1,  -999.00,   -999.0,1,   -999.0,   4.8606,  27.2518
  49NZ20090521,   P21,   282,  1,     22, X12034,2,20090616,2211,-24.5470, 154.9583, 4376,   1131.3,2,   4.1311,2,   4.13208,2,  34.4941,2,  34.4944,2,   166.10,2,   166.09,2,    61.06,2,     0.25,    32.74,2,     0.12,     0.01,2,     0.01,    2.310,2,    0.016,    0.128,2,    0.072,2,    0.000,2,   2236.8,2,   2335.8,2,   7.6123,  25,2,  -999.00,1,  -999.00,   -999.0,1,   -999.0,   4.0433,  27.3792
  49NZ20090521,   P21,   282,  1,     21, X12033,2,20090616,2211,-24.5470, 154.9583, 4376,   1332.1,2,   3.4202,2,   3.42094,2,  34.5477,2,  34.5477,2,   152.90,2,   153.00,2,    80.63,2,     0.30,    34.49,2,     0.13,     0.01,2,     0.01,    2.441,2,    0.016,    0.027,2,    0.019,2,    0.000,2,   2264.7,2,   2356.1,2,   7.5901,  25,2,  -999.00,1,  -999.00,   -999.0,1,   -999.0,   3.3219,  27.4939
  49NZ20090521,   P21,   282,  1,     20, X12032,2,20090616,2211,-24.5470, 154.9583, 4376,   1530.5,2,   2.9108,2,   2.91077,2,  34.5932,2,  34.5933,2,   147.65,2,   147.61,2,    93.64,2,     0.33,    35.23,2,     0.13,     0.01,2,     0.01,    2.499,2,    0.016,    0.007,2,    0.006,2,    0.000,2,   2282.0,2,   2369.6,2,   7.5800,  25,6,  -999.00,1,  -999.00,   -999.0,1,   -999.0,   2.8014,  27.5783
  49NZ20090521,   P21,   282,  1,     19, X12046,2,20090616,2211,-24.5470, 154.9583, 4376,   1732.4,2,   2.5643,2,   2.56425,2,  34.6298,2,  34.6304,2,   152.57,2,   152.56,2,    96.77,2,     0.33,    34.95,2,     0.13,     0.01,2,     0.01,    2.471,2,    0.016,    0.005,2,    0.005,2,    0.000,2,   2283.8,2,   2372.8,2,   7.5826,  25,2,  -999.00,1,  -999.00,   -999.0,1,   -999.0,   2.4423,  27.6388
  49NZ20090521,   P21,   282,  1,     18, X12006,2,20090616,2211,-24.5470, 154.9583, 4376,   1930.9,2,   2.2745,2,   2.27436,2,  34.6709,2,  34.6718,2,   165.69,2,   166.04,2,    92.99,2,     0.32,    33.70,2,     0.13,     0.01,2,     0.01,    2.378,2,    0.016,    0.008,2,    0.006,2,    0.000,2,   2273.9,2,   2365.1,2,   7.5934,  25,2,  -999.00,1,  -999.00,   -999.0,1,   -999.0,   2.1397,  27.6968
  49NZ20090521,   P21,   282,  1,     17, X12047,2,20090616,2211,-24.5470, 154.9583, 4376,   2130.2,2,   2.0333,2,   2.03326,2,  34.7042,2,  34.7045,6,   176.64,2,   176.90,2,    92.67,2,     0.32,    32.78,2,     0.12,     0.01,2,     0.01,    2.296,2,    0.016,    0.010,2,    0.006,2,    0.000,2,   2265.9,2,   2363.7,2,   7.6041,  25,2,  -999.00,1,  -999.00,   -999.0,1,   -999.0,   1.8850,  27.7438
  49NZ20090521,   P21,   282,  1,     16, X12004,2,20090616,2211,-24.5470, 154.9583, 4376,   2330.9,2,   1.9196,2,   1.91970,2,  34.7151,2,  34.7151,2,   180.65,2,   180.82,2,    94.52,2,     0.33,    32.43,2,     0.12,     0.01,2,     0.01,    2.263,2,    0.016,    0.008,2,    0.007,2,    0.000,2,   2264.4,6,   2363.3,2,   7.6087,  25,2,  -999.00,1,  -999.00,   -999.0,1,   -999.0,   1.7557,  27.7624
  49NZ20090521,   P21,   282,  1,     15, X12003,2,20090616,2211,-24.5470, 154.9583, 4376,   2530.2,2,   1.8286,2,   1.82876,2,  34.7209,2,  34.7210,2,   183.43,2,   183.51,2,    96.66,2,     0.33,    32.29,2,     0.12,     0.01,2,     0.01,    2.260,2,    0.016,    0.008,2,    0.006,2,    0.000,2,   2265.5,2,   2363.7,2,   7.6127,  25,2,  -999.00,1,  -999.00,   -999.0,1,   -999.0,   1.6485,  27.7752
  49NZ20090521,   P21,   282,  1,     14, X12002,2,20090616,2211,-24.5470, 154.9583, 4376,   2730.4,2,   1.7161,2,   1.71621,2,  34.7235,2,  34.7239,2,   185.95,2,   186.21,2,    99.60,2,     0.34,    32.24,2,     0.12,     0.01,2,     0.01,    2.264,2,    0.016,    0.006,2,    0.004,2,    0.000,2,   2266.1,2,   2367.8,2,   7.6152,  25,2,  -999.00,1,  -999.00,   -999.0,1,   -999.0,   1.5198,  27.7869
  49NZ20090521,   P21,   282,  1,     13, X12001,2,20090616,2211,-24.5470, 154.9583, 4376,   2929.9,2,   1.5756,2,   1.57566,2,  34.7236,2,  34.7240,2,   188.69,2,   188.76,2,   103.12,2,     0.35,    32.32,2,     0.12,     0.01,2,     0.01,    2.263,2,    0.016,    0.004,2,    0.003,2,    0.000,2,   2267.8,2,   2369.7,2,   7.6186,  25,2,  -999.00,1,  -999.00,   -999.0,1,   -999.0,   1.3636,  27.7982
  49NZ20090521,   P21,   282,  1,     12, X12030,2,20090616,2211,-24.5470, 154.9583, 4376,   3169.3,2,   1.4020,2,   1.40219,2,  34.7217,2,  34.7217,6,   191.60,2,   191.68,2,   107.31,2,     0.36,    32.44,2,     0.12,     0.01,2,     0.01,    2.273,2,    0.016,    0.004,2,    0.005,2,    0.000,2,   2270.4,2,   2373.2,2,   7.6218,  25,2,  -999.00,1,  -999.00,   -999.0,1,   -999.0,   1.1709,  27.8102
  49NZ20090521,   P21,   282,  1,     11, X12044,2,20090616,2211,-24.5470, 154.9583, 4376,   3421.8,2,   1.2826,2,   1.28263,2,  34.7191,2,  34.7186,2,   193.57,2,   193.63,2,   110.51,2,     0.36,    32.57,2,     0.12,     0.01,2,     0.01,    2.283,2,    0.016,    0.004,2,    0.004,2,    0.000,2,   2273.1,2,   2377.1,2,   7.6228,  25,2,  -999.00,1,  -999.00,   -999.0,1,   -999.0,   1.0296,  27.8177
  49NZ20090521,   P21,   282,  1,     10, X12048,2,20090616,2211,-24.5470, 154.9583, 4376,   3671.8,2,   1.2041,2,   1.20421,2,  34.7170,2,  34.7166,2,   194.87,2,   194.98,2,   113.01,2,     0.37,    32.65,2,     0.12,     0.01,2,     0.01,    2.287,2,    0.016,    0.009,2,    0.006,2,    0.000,2,   2274.7,2,   2381.2,2,   7.6252,  25,2,  -999.00,1,  -999.00,   -999.0,1,   -999.0,   0.9278,  27.8227
  49NZ20090521,   P21,   282,  1,      9, X12027,2,20090616,2211,-24.5470, 154.9583, 4376,   3921.8,2,   1.1704,2,   1.17041,2,  34.7155,2,  34.7154,2,   195.55,2,   195.55,2,   114.34,2,     0.37,    32.79,2,     0.12,     0.01,2,     0.01,    2.290,2,    0.016,    0.008,2,    0.007,2,    0.000,2,   2274.9,2,   2382.0,2,   7.6260,  25,2,  -999.00,1,  -999.00,   -999.0,1,   -999.0,   0.8689,  27.8254
  49NZ20090521,   P21,   282,  1,      8, X12026,2,20090616,2211,-24.5470, 154.9583, 4376,   4170.3,2,   1.1634,2,   1.16339,2,  34.7145,2,  34.7142,2,   195.84,2,   195.88,2,   115.10,2,     0.37,    32.70,2,     0.12,     0.01,2,     0.01,    2.292,2,    0.016,    0.011,2,    0.008,2,    0.000,2,   2277.2,6,   2383.7,2,   7.6267,  25,2,  -999.00,1,  -999.00,   -999.0,1,   -999.0,   0.8354,  27.8268
  49NZ20090521,   P21,   282,  1,      7, X12025,9,20090616,2211,-24.5470, 154.9583, 4376,     10.4,2,  22.7745,2,  22.77523,2,  35.2191,2,-999.0000,9,   218.55,2,  -999.00,9,  -999.00,9,  -999.00,  -999.00,9,  -999.00,  -999.00,9,  -999.00, -999.000,9, -999.000, -999.000,9, -999.000,9, -999.000,9,   -999.0,9,   -999.0,9,-999.0000,-999,9,  -999.00,9,  -999.00,   -999.0,9,   -999.0,  22.7724,  24.1653
  49NZ20090521,   P21,   282,  1,      6, X12024,9,20090616,2211,-24.5470, 154.9583, 4376,     50.4,2,  22.0742,2,  22.07447,2,  35.2793,2,-999.0000,9,   216.59,2,  -999.00,9,  -999.00,9,  -999.00,  -999.00,9,  -999.00,  -999.00,9,  -999.00, -999.000,9, -999.000, -999.000,9, -999.000,9, -999.000,9,   -999.0,9,   -999.0,9,-999.0000,-999,9,  -999.00,9,  -999.00,   -999.0,9,   -999.0,  22.0642,  24.4121
  49NZ20090521,   P21,   282,  1,      5, X12028,9,20090616,2211,-24.5470, 154.9583, 4376,    100.3,2,  19.8416,2,  19.84176,2,  35.6376,2,-999.0000,9,   181.60,2,  -999.00,9,  -999.00,9,  -999.00,  -999.00,9,  -999.00,  -999.00,9,  -999.00, -999.000,9, -999.000, -999.000,9, -999.000,9, -999.000,9,   -999.0,9,   -999.0,9,-999.0000,-999,9,  -999.00,9,  -999.00,   -999.0,9,   -999.0,  19.8231,  25.2949
  49NZ20090521,   P21,   282,  1,      4, X12022,9,20090616,2211,-24.5470, 154.9583, 4376,    201.3,2,  17.2863,2,  17.28711,2,  35.5576,2,-999.0000,9,   186.97,2,  -999.00,9,  -999.00,9,  -999.00,  -999.00,9,  -999.00,  -999.00,9,  -999.00, -999.000,9, -999.000, -999.000,9, -999.000,9, -999.000,9,   -999.0,9,   -999.0,9,-999.0000,-999,9,  -999.00,9,  -999.00,   -999.0,9,   -999.0,  17.2526,  25.8818
  49NZ20090521,   P21,   282,  1,      3, X12021,9,20090616,2211,-24.5470, 154.9583, 4376,    149.9,2,  18.5007,2,  18.50296,2,  35.6145,2,-999.0000,9,   185.34,2,  -999.00,9,  -999.00,9,  -999.00,  -999.00,9,  -999.00,  -999.00,9,  -999.00, -999.000,9, -999.000, -999.000,9, -999.000,9, -999.000,9,   -999.0,9,   -999.0,9,-999.0000,-999,9,  -999.00,9,  -999.00,   -999.0,9,   -999.0,  18.4744,  25.6244
  49NZ20090521,   P21,   282,  1,      2, X12020,9,20090616,2211,-24.5470, 154.9583, 4376,   1331.9,2,   3.4208,2,   3.42107,2,  34.5478,2,-999.0000,9,   152.88,2,  -999.00,9,  -999.00,9,  -999.00,  -999.00,9,  -999.00,  -999.00,9,  -999.00, -999.000,9, -999.000, -999.000,9, -999.000,9, -999.000,9,   -999.0,9,   -999.0,9,-999.0000,-999,9,  -999.00,9,  -999.00,   -999.0,9,   -999.0,   3.3225,  27.4939
  49NZ20090521,   P21,   282,  1,      1, X12019,2,20090616,2211,-24.5470, 154.9583, 4376,   4435.4,2,   1.1778,2,   1.17771,2,  34.7140,2,  34.7138,2,   195.77,2,   195.74,2,   115.64,2,     0.37,    32.82,2,     0.12,     0.01,2,     0.01,    2.301,2,    0.016,    0.015,2,    0.010,2,    0.000,2,   2279.5,2,   2385.4,2,   7.6276,  25,2,  -999.00,1,  -999.00,   -999.0,1,   -999.0,   0.8200,  27.8273