BOTTLE,20111109CCHDOSIOCBG
EXPOCODE,SECT_ID,STNNBR,CASTNO,SAMPNO,BTLNBR,BTLNBR_FLAG_W,DATE,TIME,LATITUDE,LONGITUDE,DEPTH,CTDPRS,CTDPRS_FLAG_W,CTDTMP,CTDTMP_FLAG_W,SBE35,SBE35_FLAG_W,CTDSAL,CTDSAL_FLAG_W,SALNTY,SALNTY_FLAG_W,CTDOXY,CTDOXY_FLAG_W,OXYGEN,OXYGEN_FLAG_W,SILCAT,SILCAT_FLAG_W,SILUNC,NITRAT,NITRAT_FLAG_W,NRAUNC,NITRIT,NITRIT_FLAG_W,NRIUNC,PHSPHT,PHSPHT_FLAG_W,PHPUNC,CFC-11,CFC-11_FLAG_W,CFC-12,CFC-12_FLAG_W,CFC113,CFC113_FLAG_W,TCARBN,TCARBN_FLAG_W,ALKALI,ALKALI_FLAG_W,PH_TOT,PH_TMP,PH_TOT_FLAG_W,DELC13,DELC13_FLAG_W,C13ERR,DELC14,DELC14_FLAG_W,C14ERR,THETA,SIG0
,,,,,,,,,,,METERS,DBAR,,ITS-90,,ITS-90,,PSS-78,,PSS-78,,UMOL/KG,,UMOL/KG,,UMOL/KG,,UMOL/KG,UMOL/KG,,UMOL/KG,UMOL/KG,,UMOL/KG,UMOL/KG,,UMOL/KG,PMOL/KG,,PMOL/KG,,PMOL/KG,,UMOL/KG,,UMOL/KG,,,DEG C,,/MILLE,,/MILLE,/MILLE,,/MILLE,DEG C,KG/M^3
  49NZ20090521,   P21,   188,  1,      0,   -999,9,20090530,1403,-17.4933,-165.0022, 5455,   -999.0,9,-999.0000,9,-999.00000,9,-999.0000,9,  35.6583,2,  -999.00,9,  -999.00,9,  -999.00,9,  -999.00,  -999.00,9,  -999.00,  -999.00,9,  -999.00, -999.000,9, -999.000, -999.000,9, -999.000,9, -999.000,9,   -999.0,9,   -999.0,9,-999.0000,-999,9,  -999.00,9,  -999.00,   -999.0,9,   -999.0,-999.0000,-999.0000
  49NZ20090521,   P21,   188,  1,     36, X12043,2,20090530,1403,-17.4933,-165.0022, 5455,     11.2,2,  28.4614,2,  28.46112,2,  35.6981,2,  35.6964,2,   195.69,2,   195.80,2,     0.82,2,     0.12,     0.10,2,     0.03,     0.01,2,     0.01,    0.166,2,    0.017,    1.406,2,    0.899,2, -999.000,5,   -999.0,9,   -999.0,9,-999.0000,-999,9,  -999.00,9,  -999.00,   -999.0,9,   -999.0,  28.4587,  22.7686
  49NZ20090521,   P21,   188,  1,     35, X12042,2,20090530,1403,-17.4933,-165.0022, 5455,     51.5,2,  28.4724,2,  28.47208,2,  35.6969,2,  35.6963,2,   195.26,2,   195.93,2,     0.72,2,     0.12,     0.08,2,     0.03,     0.01,2,     0.01,    0.164,2,    0.017,    1.395,2,    0.870,2, -999.000,5,   -999.0,9,   -999.0,9,-999.0000,-999,9,  -999.00,9,  -999.00,   -999.0,9,   -999.0,  28.4601,  22.7673
  49NZ20090521,   P21,   188,  1,     34, X12016,2,20090530,1403,-17.4933,-165.0022, 5455,    102.1,2,  26.1311,2,  26.14759,2,  35.8409,2,  35.8481,2,   204.59,2,   204.87,2,     0.63,2,     0.12,     0.09,2,     0.03,     0.01,2,     0.01,    0.162,2,    0.017,    1.616,6,    1.011,6, -999.000,5,   -999.0,9,   -999.0,9,-999.0000,-999,9,  -999.00,9,  -999.00,   -999.0,9,   -999.0,  26.1082,  23.6340
  49NZ20090521,   P21,   188,  1,     33, X12015,2,20090530,1403,-17.4933,-165.0022, 5455,    151.3,2,  24.3126,2,  24.30803,2,  35.9627,2,  35.9825,2,   188.65,2,   187.68,2,     0.62,2,     0.12,     0.41,2,     0.03,     0.18,2,     0.01,    0.252,2,    0.015,    1.751,2,    1.073,2, -999.000,5,   -999.0,9,   -999.0,9,-999.0000,-999,9,  -999.00,9,  -999.00,   -999.0,9,   -999.0,  24.2803,  24.2867
  49NZ20090521,   P21,   188,  1,     32, X12050,2,20090530,1403,-17.4933,-165.0022, 5455,    200.9,2,  22.3398,2,  22.34380,2,  35.9742,2,  35.9779,2,   168.01,2,   167.60,2,     0.73,2,     0.12,     2.96,2,     0.04,     0.02,2,     0.01,    0.430,2,    0.013,    1.950,2,    1.159,2,    0.072,2,   -999.0,9,   -999.0,9,-999.0000,-999,9,  -999.00,9,  -999.00,   -999.0,9,   -999.0,  22.2994,  24.8736
  49NZ20090521,   P21,   188,  1,     31, X12014,2,20090530,1403,-17.4933,-165.0022, 5455,    250.0,2,  20.6143,2,  20.60977,2,  35.7818,2,  35.7772,6,   170.34,2,   170.15,2,     0.95,2,     0.12,     4.13,2,     0.04,     0.02,2,     0.01,    0.509,2,    0.013,    2.106,2,    1.223,2,    0.043,2,   -999.0,9,   -999.0,9,-999.0000,-999,9,  -999.00,9,  -999.00,   -999.0,9,   -999.0,  20.5668,  25.2068
  49NZ20090521,   P21,   188,  1,     30, X12012,2,20090530,1403,-17.4933,-165.0022, 5455,    281.1,2,  19.1977,2,  19.19991,2,  35.5911,2,  35.5880,2,   170.28,2,   170.54,2,     1.34,2,     0.12,     5.37,2,     0.05,     0.02,2,     0.01,    0.593,2,    0.013,    2.193,2,    1.252,2,    0.039,2,   -999.0,9,   -999.0,9,-999.0000,-999,9,  -999.00,9,  -999.00,   -999.0,9,   -999.0,  19.1469,  25.4354
  49NZ20090521,   P21,   188,  1,     29, X12041,2,20090530,1403,-17.4933,-165.0022, 5455,    370.2,2,  14.5651,2,  14.56370,2,  35.0327,2,  35.0306,2,   161.56,2,   161.71,2,     4.52,2,     0.13,    11.84,2,     0.07,     0.01,2,     0.01,    1.025,2,    0.013,    2.123,6,    1.126,6,    0.027,6,   -999.0,9,   -999.0,9,-999.0000,-999,9,  -999.00,9,  -999.00,   -999.0,9,   -999.0,  14.5098,  26.1038
  49NZ20090521,   P21,   188,  1,     28, X12040,2,20090530,1403,-17.4933,-165.0022, 5455,    468.2,2,   9.8187,2,   9.81971,2,  34.6111,2,  34.6105,6,   145.61,2,   145.65,2,    12.85,2,     0.15,    22.86,2,     0.10,     0.01,2,     0.01,    1.737,2,    0.014,    1.252,2,    0.636,2,    0.032,2,   -999.0,9,   -999.0,9,-999.0000,-999,9,  -999.00,9,  -999.00,   -999.0,9,   -999.0,   9.7645,  26.6881
  49NZ20090521,   P21,   188,  1,     27, X12009,2,20090530,1403,-17.4933,-165.0022, 5455,    572.9,2,   7.2256,2,   7.22596,2,  34.4530,2,  34.4493,2,   159.90,2,   161.92,2,    19.27,2,     0.16,    27.91,2,     0.11,     0.01,2,     0.01,    2.006,2,    0.015,    0.734,6,    0.366,6,    0.020,6,   -999.0,9,   -999.0,9,-999.0000,-999,9,  -999.00,9,  -999.00,   -999.0,9,   -999.0,   7.1700,  26.9642
  49NZ20090521,   P21,   188,  1,     26, X12008,2,20090530,1403,-17.4933,-165.0022, 5455,    670.6,2,   5.8351,2,   5.83593,2,  34.3869,2,  34.3864,2,   177.18,2,   177.09,2,    25.03,2,     0.17,    30.13,2,     0.12,     0.01,2,     0.01,    2.104,2,    0.015,    0.441,2,    0.224,2,    0.012,2,   -999.0,9,   -999.0,9,-999.0000,-999,9,  -999.00,9,  -999.00,   -999.0,9,   -999.0,   5.7767,  27.0962
  49NZ20090521,   P21,   188,  1,     25, X12007,2,20090530,1403,-17.4933,-165.0022, 5455,    770.7,2,   5.0297,2,   5.02861,2,  34.3970,2,  34.3970,2,   168.74,2,   168.71,2,    36.16,2,     0.20,    32.25,2,     0.12,     0.01,2,     0.01,    2.262,2,    0.016,    0.191,2,    0.098,2,    0.003,2,   -999.0,9,   -999.0,9,-999.0000,-999,9,  -999.00,9,  -999.00,   -999.0,9,   -999.0,   4.9667,  27.2010
  49NZ20090521,   P21,   188,  1,     24, X12035,2,20090530,1403,-17.4933,-165.0022, 5455,    871.1,2,   4.4182,2,   4.41752,2,  34.4344,2,  34.4344,2,   159.43,2,   159.57,2,    49.46,2,     0.23,    33.81,2,     0.13,     0.01,2,     0.01,    2.368,2,    0.016,    0.078,2,    0.040,2,    0.000,2,   -999.0,9,   -999.0,9,-999.0000,-999,9,  -999.00,9,  -999.00,   -999.0,9,   -999.0,   4.3504,  27.2992
  49NZ20090521,   P21,   188,  1,     23, X12038,2,20090530,1403,-17.4933,-165.0022, 5455,    970.1,2,   3.9068,2,   3.90777,2,  34.4784,2,  34.4771,6,   152.12,2,   152.15,2,    62.80,2,     0.26,    34.89,2,     0.13,     0.01,2,     0.01,    2.445,2,    0.016,    0.032,2,    0.016,2,    0.000,2,   -999.0,9,   -999.0,9,-999.0000,-999,9,  -999.00,9,  -999.00,   -999.0,9,   -999.0,   3.8344,  27.3882
  49NZ20090521,   P21,   188,  1,     22, X12034,2,20090530,1403,-17.4933,-165.0022, 5455,   1132.1,2,   3.4714,2,   3.47188,2,  34.5260,2,  34.5253,2,   143.47,2,   143.39,2,    77.35,2,     0.29,    35.76,2,     0.13,     0.01,2,     0.01,    2.515,2,    0.016,    0.009,2,    0.005,2,    0.000,2,   -999.0,9,   -999.0,9,-999.0000,-999,9,  -999.00,9,  -999.00,   -999.0,9,   -999.0,   3.3892,  27.4702
  49NZ20090521,   P21,   188,  1,     21, X12033,9,20090530,1403,-17.4933,-165.0022, 5455,   1331.8,2,   2.9778,2,   2.97787,2,  34.5552,2,-999.0000,9,   146.36,2,  -999.00,9,  -999.00,9,  -999.00,  -999.00,9,  -999.00,  -999.00,9,  -999.00, -999.000,9, -999.000, -999.000,9, -999.000,9, -999.000,9,   -999.0,9,   -999.0,9,-999.0000,-999,9,  -999.00,9,  -999.00,   -999.0,9,   -999.0,   2.8841,  27.5406
  49NZ20090521,   P21,   188,  1,     20, X12032,2,20090530,1403,-17.4933,-165.0022, 5455,   1530.3,2,   2.7184,2,   2.71846,2,  34.5828,2,  34.5826,2,   145.10,2,   145.25,2,    96.52,2,     0.33,    35.98,2,     0.13,     0.01,2,     0.01,    2.532,2,    0.016,    0.003,2,    0.000,2,    0.000,2,   -999.0,9,   -999.0,9,-999.0000,-999,9,  -999.00,9,  -999.00,   -999.0,9,   -999.0,   2.6113,  27.5867
  49NZ20090521,   P21,   188,  1,     19, X12046,2,20090530,1403,-17.4933,-165.0022, 5455,   1731.4,2,   2.4875,2,   2.48789,2,  34.6050,2,  34.6050,2,   145.26,2,   145.23,2,   104.16,2,     0.35,    36.08,2,     0.13,     0.01,2,     0.01,    2.539,2,    0.016,    0.000,2,    0.000,2,    0.000,2,   -999.0,9,   -999.0,9,-999.0000,-999,9,  -999.00,9,  -999.00,   -999.0,9,   -999.0,   2.3666,  27.6253
  49NZ20090521,   P21,   188,  1,     18, X12006,2,20090530,1403,-17.4933,-165.0022, 5455,   1929.4,2,   2.2898,2,   2.29003,2,  34.6229,2,  34.6220,2,   145.95,2,   145.94,2,   110.32,2,     0.36,    36.13,2,     0.13,     0.01,2,     0.01,    2.541,2,    0.016,    0.000,2,    0.000,2,    0.000,2,   -999.0,9,   -999.0,9,-999.0000,-999,9,  -999.00,9,  -999.00,   -999.0,9,   -999.0,   2.1550,  27.6571
  49NZ20090521,   P21,   188,  1,     17, X12047,2,20090530,1403,-17.4933,-165.0022, 5455,   2134.2,2,   2.1212,2,   2.12140,2,  34.6372,2,  34.6369,2,   147.49,2,   147.56,2,   115.06,2,     0.37,    36.12,2,     0.13,     0.01,2,     0.01,    2.534,2,    0.016,    0.000,2,    0.000,2,    0.000,2,   -999.0,9,   -999.0,9,-999.0000,-999,9,  -999.00,9,  -999.00,   -999.0,9,   -999.0,   1.9714,  27.6833
  49NZ20090521,   P21,   188,  1,     16, X12004,2,20090530,1403,-17.4933,-165.0022, 5455,   2329.7,2,   2.0046,2,   2.00445,2,  34.6476,2,  34.6473,2,   148.33,2,   148.44,2,   119.05,2,     0.38,    35.95,2,     0.13,     0.01,2,     0.01,    2.535,2,    0.016,    0.000,2,    0.000,2,    0.000,2,   -999.0,9,   -999.0,9,-999.0000,-999,9,  -999.00,9,  -999.00,   -999.0,9,   -999.0,   1.8396,  27.7019
  49NZ20090521,   P21,   188,  1,     15, X12003,2,20090530,1403,-17.4933,-165.0022, 5455,   2531.5,2,   1.8840,2,   1.88299,2,  34.6577,2,  34.6575,6,   150.41,2,   150.48,2,   122.28,2,     0.39,    35.93,2,     0.13,     0.01,2,     0.01,    2.527,2,    0.016,    0.000,2,    0.000,2,    0.000,2,   -999.0,9,   -999.0,9,-999.0000,-999,9,  -999.00,9,  -999.00,   -999.0,9,   -999.0,   1.7030,  27.7204
  49NZ20090521,   P21,   188,  1,     14, X12002,2,20090530,1403,-17.4933,-165.0022, 5455,   2731.4,2,   1.8005,2,   1.80039,2,  34.6647,2,  34.6645,2,   152.71,2,   152.71,2,   124.03,2,     0.39,    35.80,2,     0.13,     0.01,2,     0.01,    2.510,2,    0.016,    0.001,2,    0.000,2,    0.000,2,   -999.0,9,   -999.0,9,-999.0000,-999,9,  -999.00,9,  -999.00,   -999.0,9,   -999.0,   1.6027,  27.7335
  49NZ20090521,   P21,   188,  1,     13, X12001,2,20090530,1403,-17.4933,-165.0022, 5455,   2931.7,2,   1.7414,2,   1.74138,2,  34.6701,2,  34.6695,2,   154.61,2,   154.51,2,   125.78,2,     0.40,    35.67,2,     0.13,     0.01,2,     0.01,    2.512,2,    0.016,    0.001,2,    0.000,2,    0.000,2,   -999.0,9,   -999.0,9,-999.0000,-999,9,  -999.00,9,  -999.00,   -999.0,9,   -999.0,   1.5259,  27.7435
  49NZ20090521,   P21,   188,  1,     12, X12030,2,20090530,1403,-17.4933,-165.0022, 5455,   3172.3,2,   1.6446,2,   1.64441,2,  34.6774,2,  34.6767,2,   158.78,2,   158.80,2,   126.72,2,     0.40,    35.50,2,     0.13,     0.01,2,     0.01,    2.483,2,    0.016,    0.001,2,    0.000,2,    0.000,2,   -999.0,9,   -999.0,9,-999.0000,-999,9,  -999.00,9,  -999.00,   -999.0,9,   -999.0,   1.4079,  27.7580
  49NZ20090521,   P21,   188,  1,     11, X12044,2,20090530,1403,-17.4933,-165.0022, 5455,   3422.4,2,   1.5640,2,   1.56398,2,  34.6837,2,  34.6830,2,   164.53,2,   164.41,2,   125.82,2,     0.40,    35.04,2,     0.13,     0.01,2,     0.01,    2.452,2,    0.016,    0.000,2,    0.000,2,    0.000,2,   -999.0,9,   -999.0,9,-999.0000,-999,9,  -999.00,9,  -999.00,   -999.0,9,   -999.0,   1.3042,  27.7704
  49NZ20090521,   P21,   188,  1,     10, X12048,2,20090530,1403,-17.4933,-165.0022, 5455,   3668.9,2,   1.4850,2,   1.48511,2,  34.6903,2,  34.6899,2,   171.53,2,   171.53,2,   123.92,2,     0.39,    34.52,2,     0.13,     0.01,2,     0.01,    2.410,2,    0.016,    0.001,2,    0.000,2,    0.000,2,   -999.0,9,   -999.0,9,-999.0000,-999,9,  -999.00,9,  -999.00,   -999.0,9,   -999.0,   1.2018,  27.7828
  49NZ20090521,   P21,   188,  1,      9, X12027,2,20090530,1403,-17.4933,-165.0022, 5455,   3922.4,2,   1.3560,2,   1.35602,2,  34.7002,2,  34.7000,6,   184.17,2,   184.17,2,   119.67,2,     0.38,    33.62,2,     0.13,     0.01,2,     0.01,    2.343,2,    0.016,    0.001,2,    0.000,2,    0.000,2,   -999.0,9,   -999.0,9,-999.0000,-999,9,  -999.00,9,  -999.00,   -999.0,9,   -999.0,   1.0494,  27.8012
  49NZ20090521,   P21,   188,  1,      8, X12026,2,20090530,1403,-17.4933,-165.0022, 5455,   4171.9,2,   1.2624,2,   1.26239,2,  34.7054,2,  34.7052,2,   192.35,2,   192.31,2,   117.50,2,     0.38,    33.10,2,     0.13,     0.01,2,     0.01,    2.298,2,    0.016,    0.007,2,    0.001,2,    0.000,2,   -999.0,9,   -999.0,9,-999.0000,-999,9,  -999.00,9,  -999.00,   -999.0,9,   -999.0,   0.9314,  27.8131
  49NZ20090521,   P21,   188,  1,      7, X12025,2,20090530,1403,-17.4933,-165.0022, 5455,   4421.2,2,   1.1845,2,   1.18451,2,  34.7079,2,  34.7076,2,   198.35,2,   198.28,2,   116.52,2,     0.38,    32.73,2,     0.12,     0.01,2,     0.01,    2.274,2,    0.016,    0.005,2,    0.002,2,    0.000,2,   -999.0,9,   -999.0,9,-999.0000,-999,9,  -999.00,9,  -999.00,   -999.0,9,   -999.0,   0.8281,  27.8219
  49NZ20090521,   P21,   188,  1,      6, X12024,2,20090530,1403,-17.4933,-165.0022, 5455,   4671.7,2,   1.1129,2,   1.11292,2,  34.7090,2,  34.7087,2,   202.90,2,   202.86,2,   116.44,2,     0.38,    32.38,2,     0.12,     0.01,2,     0.01,    2.255,2,    0.016,    0.008,2,    0.003,2,    0.000,2,   -999.0,9,   -999.0,9,-999.0000,-999,9,  -999.00,9,  -999.00,   -999.0,9,   -999.0,   0.7302,  27.8290
  49NZ20090521,   P21,   188,  1,      5, X12028,2,20090530,1403,-17.4933,-165.0022, 5455,   4918.9,2,   1.0961,2,   1.09611,2,  34.7089,2,  34.7087,2,   204.70,2,   204.62,2,   116.64,2,     0.38,    32.33,2,     0.12,     0.01,2,     0.01,    2.248,2,    0.016,    0.011,2,    0.004,2,    0.000,2,   -999.0,9,   -999.0,9,-999.0000,-999,9,  -999.00,9,  -999.00,   -999.0,9,   -999.0,   0.6851,  27.8317
  49NZ20090521,   P21,   188,  1,      4, X12022,2,20090530,1403,-17.4933,-165.0022, 5455,   5169.8,2,   1.1018,2,   1.10179,2,  34.7085,2,  34.7090,2,   205.51,2,   205.48,2,   117.01,2,     0.38,    32.27,2,     0.12,     0.01,2,     0.01,    2.250,2,    0.016,    0.014,2,    0.007,2,    0.000,2,   -999.0,9,   -999.0,9,-999.0000,-999,9,  -999.00,9,  -999.00,   -999.0,9,   -999.0,   0.6605,  27.8329
  49NZ20090521,   P21,   188,  1,      3, X12021,2,20090530,1403,-17.4933,-165.0022, 5455,   5419.9,2,   1.1274,2,   1.12744,2,  34.7083,2,  34.7086,2,   205.59,2,   205.68,2,   117.20,2,     0.38,    32.41,2,     0.12,     0.01,2,     0.01,    2.249,2,    0.016,    0.017,2,    0.006,2,    0.000,2,   -999.0,9,   -999.0,9,-999.0000,-999,9,  -999.00,9,  -999.00,   -999.0,9,   -999.0,   0.6543,  27.8332
  49NZ20090521,   P21,   188,  1,      2, X12020,2,20090530,1403,-17.4933,-165.0022, 5455,     10.9,2,  28.4636,2,  28.46278,2,  35.6984,2,-999.0000,9,   195.58,2,  -999.00,9,     0.87,2,     0.12,     0.18,2,     0.03,     0.01,2,     0.01,    0.166,2,    0.017, -999.000,9, -999.000,9, -999.000,9,   -999.0,9,   -999.0,9,-999.0000,-999,9,  -999.00,9,  -999.00,   -999.0,9,   -999.0,  28.4610,  22.7681
  49NZ20090521,   P21,   188,  1,      1, X12019,2,20090530,1403,-17.4933,-165.0022, 5455,   5531.7,2,   1.1420,2,   1.14193,2,  34.7082,2,  34.7086,6,   205.60,2,   205.73,2,   117.26,2,     0.38,    32.35,2,     0.12,     0.01,2,     0.01,    2.250,2,    0.016,    0.014,2,    0.009,2,    0.000,2,   -999.0,9,   -999.0,9,-999.0000,-999,9,  -999.00,9,  -999.00,   -999.0,9,   -999.0,   0.6544,  27.8330