BOTTLE,20111109CCHDOSIOCBG
EXPOCODE,SECT_ID,STNNBR,CASTNO,SAMPNO,BTLNBR,BTLNBR_FLAG_W,DATE,TIME,LATITUDE,LONGITUDE,DEPTH,CTDPRS,CTDPRS_FLAG_W,CTDTMP,CTDTMP_FLAG_W,SBE35,SBE35_FLAG_W,CTDSAL,CTDSAL_FLAG_W,SALNTY,SALNTY_FLAG_W,CTDOXY,CTDOXY_FLAG_W,OXYGEN,OXYGEN_FLAG_W,SILCAT,SILCAT_FLAG_W,SILUNC,NITRAT,NITRAT_FLAG_W,NRAUNC,NITRIT,NITRIT_FLAG_W,NRIUNC,PHSPHT,PHSPHT_FLAG_W,PHPUNC,CFC-11,CFC-11_FLAG_W,CFC-12,CFC-12_FLAG_W,CFC113,CFC113_FLAG_W,TCARBN,TCARBN_FLAG_W,ALKALI,ALKALI_FLAG_W,PH_TOT,PH_TMP,PH_TOT_FLAG_W,DELC13,DELC13_FLAG_W,C13ERR,DELC14,DELC14_FLAG_W,C14ERR,THETA,SIG0
,,,,,,,,,,,METERS,DBAR,,ITS-90,,ITS-90,,PSS-78,,PSS-78,,UMOL/KG,,UMOL/KG,,UMOL/KG,,UMOL/KG,UMOL/KG,,UMOL/KG,UMOL/KG,,UMOL/KG,UMOL/KG,,UMOL/KG,PMOL/KG,,PMOL/KG,,PMOL/KG,,UMOL/KG,,UMOL/KG,,,DEG C,,/MILLE,,/MILLE,/MILLE,,/MILLE,DEG C,KG/M^3
  49NZ20090521,   P21,   272,  1,      0,   -999,9,20090615,0641,-22.8367, 159.3492,  307,   -999.0,9,-999.0000,9,-999.00000,9,-999.0000,9,  35.2002,2,  -999.00,9,  -999.00,9,  -999.00,9,  -999.00,  -999.00,9,  -999.00,  -999.00,9,  -999.00, -999.000,9, -999.000, -999.000,9, -999.000,9, -999.000,9,   -999.0,9,   -999.0,9,-999.0000,-999,9,  -999.00,9,  -999.00,   -999.0,9,   -999.0,-999.0000,-999.0000
  49NZ20090521,   P21,   272,  1,     36, X12043,2,20090615,0641,-22.8367, 159.3492,  307,      9.8,2,  23.7113,2,  23.71140,2,  35.1840,2,  35.1813,2,   209.73,2,   209.96,2,     0.51,2,     0.12,     0.11,2,     0.03,     0.01,2,     0.01,    0.098,2,    0.022,    1.703,2,    1.075,2, -999.000,5,   1976.8,2,   2302.0,2,   8.0870,  25,2,  -999.00,9,  -999.00,   -999.0,9,   -999.0,  23.7093,  23.8666
  49NZ20090521,   P21,   272,  1,     35, X12042,2,20090615,0641,-22.8367, 159.3492,  307,     50.3,2,  23.7013,2,  23.70179,2,  35.2164,2,  35.2142,2,   209.12,2,   209.43,2,     0.47,2,     0.12,     0.11,2,     0.03,     0.01,2,     0.01,    0.099,2,    0.022,    1.695,2,    1.068,2, -999.000,5,   1979.7,6,   2304.9,2,   8.0868,  25,2,  -999.00,9,  -999.00,   -999.0,9,   -999.0,  23.6908,  23.8965
  49NZ20090521,   P21,   272,  1,     34, X12016,2,20090615,0641,-22.8367, 159.3492,  307,    100.9,2,  23.3786,2,  23.37850,2,  35.3654,2,  35.3623,2,   207.47,2,   208.14,2,     0.55,2,     0.12,     0.26,2,     0.03,     0.04,2,     0.01,    0.111,2,    0.021,    1.736,6,    1.092,6, -999.000,5,   1994.1,2,   2316.0,6,   8.0765,  25,2,  -999.00,9,  -999.00,   -999.0,9,   -999.0,  23.3577,  24.1070
  49NZ20090521,   P21,   272,  1,     33, X12015,2,20090615,0641,-22.8367, 159.3492,  307,    150.2,2,  21.8444,2,  21.84388,2,  35.5795,2,  35.5806,2,   173.14,2,   173.95,2,     0.99,2,     0.12,     3.63,2,     0.04,     0.04,2,     0.01,    0.375,2,    0.014,    1.931,2,    1.174,2,    0.161,2,   2051.2,2,   2329.4,2,   7.9983,  25,6,  -999.00,9,  -999.00,   -999.0,9,   -999.0,  21.8148,  24.7102
  49NZ20090521,   P21,   272,  1,     32, X12050,2,20090615,0641,-22.8367, 159.3492,  307,    200.4,2,  20.3924,2,  20.41620,2,  35.6402,2,  35.6443,2,   179.06,2,   179.83,2,     1.03,2,     0.12,     4.03,2,     0.04,     0.02,2,     0.01,    0.388,2,    0.013,    2.041,2,    1.226,2,    0.117,2,   2063.5,2,   2333.3,2,   7.9835,  25,2,  -999.00,9,  -999.00,   -999.0,9,   -999.0,  20.3547,  25.1558
  49NZ20090521,   P21,   272,  1,     31, X12014,2,20090615,0641,-22.8367, 159.3492,  307,    250.1,2,  18.9306,2,  18.93037,2,  35.6453,2,  35.6427,6,   191.12,2,   191.01,2,     1.11,2,     0.12,     4.31,2,     0.04,     0.02,2,     0.01,    0.393,2,    0.013,    2.139,2,    1.274,2,    0.054,2,   2064.7,2,   2332.6,2,   7.9767,  25,2,  -999.00,9,  -999.00,   -999.0,9,   -999.0,  18.8859,  25.5437
  49NZ20090521,   P21,   272,  1,     30, X12012,9,20090615,0641,-22.8367, 159.3492,  307,   -999.0,9,-999.0000,9,-999.00000,9,-999.0000,9,-999.0000,9,  -999.00,9,  -999.00,9,  -999.00,9,  -999.00,  -999.00,9,  -999.00,  -999.00,9,  -999.00, -999.000,9, -999.000, -999.000,9, -999.000,9, -999.000,9,   -999.0,9,   -999.0,9,-999.0000,-999,9,  -999.00,9,  -999.00,   -999.0,9,   -999.0,-999.0000,-999.0000
  49NZ20090521,   P21,   272,  1,     29, X12041,9,20090615,0641,-22.8367, 159.3492,  307,   -999.0,9,-999.0000,9,-999.00000,9,-999.0000,9,-999.0000,9,  -999.00,9,  -999.00,9,  -999.00,9,  -999.00,  -999.00,9,  -999.00,  -999.00,9,  -999.00, -999.000,9, -999.000, -999.000,9, -999.000,9, -999.000,9,   -999.0,9,   -999.0,9,-999.0000,-999,9,  -999.00,9,  -999.00,   -999.0,9,   -999.0,-999.0000,-999.0000
  49NZ20090521,   P21,   272,  1,     28, X12040,9,20090615,0641,-22.8367, 159.3492,  307,   -999.0,9,-999.0000,9,-999.00000,9,-999.0000,9,-999.0000,9,  -999.00,9,  -999.00,9,  -999.00,9,  -999.00,  -999.00,9,  -999.00,  -999.00,9,  -999.00, -999.000,9, -999.000, -999.000,9, -999.000,9, -999.000,9,   -999.0,9,   -999.0,9,-999.0000,-999,9,  -999.00,9,  -999.00,   -999.0,9,   -999.0,-999.0000,-999.0000
  49NZ20090521,   P21,   272,  1,     27, X12009,9,20090615,0641,-22.8367, 159.3492,  307,   -999.0,9,-999.0000,9,-999.00000,9,-999.0000,9,-999.0000,9,  -999.00,9,  -999.00,9,  -999.00,9,  -999.00,  -999.00,9,  -999.00,  -999.00,9,  -999.00, -999.000,9, -999.000, -999.000,9, -999.000,9, -999.000,9,   -999.0,9,   -999.0,9,-999.0000,-999,9,  -999.00,9,  -999.00,   -999.0,9,   -999.0,-999.0000,-999.0000
  49NZ20090521,   P21,   272,  1,     26, X12008,9,20090615,0641,-22.8367, 159.3492,  307,   -999.0,9,-999.0000,9,-999.00000,9,-999.0000,9,-999.0000,9,  -999.00,9,  -999.00,9,  -999.00,9,  -999.00,  -999.00,9,  -999.00,  -999.00,9,  -999.00, -999.000,9, -999.000, -999.000,9, -999.000,9, -999.000,9,   -999.0,9,   -999.0,9,-999.0000,-999,9,  -999.00,9,  -999.00,   -999.0,9,   -999.0,-999.0000,-999.0000
  49NZ20090521,   P21,   272,  1,     25, X12007,9,20090615,0641,-22.8367, 159.3492,  307,   -999.0,9,-999.0000,9,-999.00000,9,-999.0000,9,-999.0000,9,  -999.00,9,  -999.00,9,  -999.00,9,  -999.00,  -999.00,9,  -999.00,  -999.00,9,  -999.00, -999.000,9, -999.000, -999.000,9, -999.000,9, -999.000,9,   -999.0,9,   -999.0,9,-999.0000,-999,9,  -999.00,9,  -999.00,   -999.0,9,   -999.0,-999.0000,-999.0000
  49NZ20090521,   P21,   272,  1,     24, X12035,9,20090615,0641,-22.8367, 159.3492,  307,   -999.0,9,-999.0000,9,-999.00000,9,-999.0000,9,-999.0000,9,  -999.00,9,  -999.00,9,  -999.00,9,  -999.00,  -999.00,9,  -999.00,  -999.00,9,  -999.00, -999.000,9, -999.000, -999.000,9, -999.000,9, -999.000,9,   -999.0,9,   -999.0,9,-999.0000,-999,9,  -999.00,9,  -999.00,   -999.0,9,   -999.0,-999.0000,-999.0000
  49NZ20090521,   P21,   272,  1,     23, X12038,9,20090615,0641,-22.8367, 159.3492,  307,   -999.0,9,-999.0000,9,-999.00000,9,-999.0000,9,-999.0000,9,  -999.00,9,  -999.00,9,  -999.00,9,  -999.00,  -999.00,9,  -999.00,  -999.00,9,  -999.00, -999.000,9, -999.000, -999.000,9, -999.000,9, -999.000,9,   -999.0,9,   -999.0,9,-999.0000,-999,9,  -999.00,9,  -999.00,   -999.0,9,   -999.0,-999.0000,-999.0000
  49NZ20090521,   P21,   272,  1,     22, X12034,9,20090615,0641,-22.8367, 159.3492,  307,   -999.0,9,-999.0000,9,-999.00000,9,-999.0000,9,-999.0000,9,  -999.00,9,  -999.00,9,  -999.00,9,  -999.00,  -999.00,9,  -999.00,  -999.00,9,  -999.00, -999.000,9, -999.000, -999.000,9, -999.000,9, -999.000,9,   -999.0,9,   -999.0,9,-999.0000,-999,9,  -999.00,9,  -999.00,   -999.0,9,   -999.0,-999.0000,-999.0000
  49NZ20090521,   P21,   272,  1,     21, X12033,9,20090615,0641,-22.8367, 159.3492,  307,   -999.0,9,-999.0000,9,-999.00000,9,-999.0000,9,-999.0000,9,  -999.00,9,  -999.00,9,  -999.00,9,  -999.00,  -999.00,9,  -999.00,  -999.00,9,  -999.00, -999.000,9, -999.000, -999.000,9, -999.000,9, -999.000,9,   -999.0,9,   -999.0,9,-999.0000,-999,9,  -999.00,9,  -999.00,   -999.0,9,   -999.0,-999.0000,-999.0000
  49NZ20090521,   P21,   272,  1,     20, X12032,9,20090615,0641,-22.8367, 159.3492,  307,   -999.0,9,-999.0000,9,-999.00000,9,-999.0000,9,-999.0000,9,  -999.00,9,  -999.00,9,  -999.00,9,  -999.00,  -999.00,9,  -999.00,  -999.00,9,  -999.00, -999.000,9, -999.000, -999.000,9, -999.000,9, -999.000,9,   -999.0,9,   -999.0,9,-999.0000,-999,9,  -999.00,9,  -999.00,   -999.0,9,   -999.0,-999.0000,-999.0000
  49NZ20090521,   P21,   272,  1,     19, X12046,9,20090615,0641,-22.8367, 159.3492,  307,   -999.0,9,-999.0000,9,-999.00000,9,-999.0000,9,-999.0000,9,  -999.00,9,  -999.00,9,  -999.00,9,  -999.00,  -999.00,9,  -999.00,  -999.00,9,  -999.00, -999.000,9, -999.000, -999.000,9, -999.000,9, -999.000,9,   -999.0,9,   -999.0,9,-999.0000,-999,9,  -999.00,9,  -999.00,   -999.0,9,   -999.0,-999.0000,-999.0000
  49NZ20090521,   P21,   272,  1,     18, X12006,9,20090615,0641,-22.8367, 159.3492,  307,      9.7,2,  23.7115,2,  23.71236,2,  35.1843,2,-999.0000,9,   209.83,2,  -999.00,9,  -999.00,9,  -999.00,  -999.00,9,  -999.00,  -999.00,9,  -999.00, -999.000,9, -999.000, -999.000,9, -999.000,9, -999.000,9,   -999.0,9,   -999.0,9,-999.0000,-999,9,  -999.00,9,  -999.00,   -999.0,9,   -999.0,  23.7095,  23.8667
  49NZ20090521,   P21,   272,  1,     17, X12047,9,20090615,0641,-22.8367, 159.3492,  307,     50.4,2,  23.7021,2,  23.70242,2,  35.2164,2,-999.0000,9,   209.15,2,  -999.00,9,  -999.00,9,  -999.00,  -999.00,9,  -999.00,  -999.00,9,  -999.00, -999.000,9, -999.000, -999.000,9, -999.000,9, -999.000,9,   -999.0,9,   -999.0,9,-999.0000,-999,9,  -999.00,9,  -999.00,   -999.0,9,   -999.0,  23.6916,  23.8963
  49NZ20090521,   P21,   272,  1,     16, X12004,9,20090615,0641,-22.8367, 159.3492,  307,    100.7,2,  23.3791,2,  23.37895,2,  35.3653,2,-999.0000,9,   207.46,2,  -999.00,9,  -999.00,9,  -999.00,  -999.00,9,  -999.00,  -999.00,9,  -999.00, -999.000,9, -999.000, -999.000,9, -999.000,9, -999.000,9,   -999.0,9,   -999.0,9,-999.0000,-999,9,  -999.00,9,  -999.00,   -999.0,9,   -999.0,  23.3583,  24.1067
  49NZ20090521,   P21,   272,  1,     15, X12003,9,20090615,0641,-22.8367, 159.3492,  307,    150.4,2,  21.8522,2,  21.85229,2,  35.5794,2,-999.0000,9,   173.17,2,  -999.00,9,  -999.00,9,  -999.00,  -999.00,9,  -999.00,  -999.00,9,  -999.00, -999.000,9, -999.000, -999.000,9, -999.000,9, -999.000,9,   -999.0,9,   -999.0,9,-999.0000,-999,9,  -999.00,9,  -999.00,   -999.0,9,   -999.0,  21.8225,  24.7079
  49NZ20090521,   P21,   272,  1,     14, X12002,9,20090615,0641,-22.8367, 159.3492,  307,    200.5,2,  20.4601,2,  20.44745,2,  35.6445,2,-999.0000,9,   178.42,2,  -999.00,9,  -999.00,9,  -999.00,  -999.00,9,  -999.00,  -999.00,9,  -999.00, -999.000,9, -999.000, -999.000,9, -999.000,9, -999.000,9,   -999.0,9,   -999.0,9,-999.0000,-999,9,  -999.00,9,  -999.00,   -999.0,9,   -999.0,  20.4223,  25.1410
  49NZ20090521,   P21,   272,  1,     13, X12001,9,20090615,0641,-22.8367, 159.3492,  307,    250.3,2,  18.9316,2,  18.93213,2,  35.6455,2,-999.0000,9,   191.26,2,  -999.00,9,  -999.00,9,  -999.00,  -999.00,9,  -999.00,  -999.00,9,  -999.00, -999.000,9, -999.000, -999.000,9, -999.000,9, -999.000,9,   -999.0,9,   -999.0,9,-999.0000,-999,9,  -999.00,9,  -999.00,   -999.0,9,   -999.0,  18.8868,  25.5436
  49NZ20090521,   P21,   272,  1,     12, X12030,9,20090615,0641,-22.8367, 159.3492,  307,   -999.0,9,-999.0000,9,-999.00000,9,-999.0000,9,-999.0000,9,  -999.00,9,  -999.00,9,  -999.00,9,  -999.00,  -999.00,9,  -999.00,  -999.00,9,  -999.00, -999.000,9, -999.000, -999.000,9, -999.000,9, -999.000,9,   -999.0,9,   -999.0,9,-999.0000,-999,9,  -999.00,9,  -999.00,   -999.0,9,   -999.0,-999.0000,-999.0000
  49NZ20090521,   P21,   272,  1,     11, X12044,9,20090615,0641,-22.8367, 159.3492,  307,   -999.0,9,-999.0000,9,-999.00000,9,-999.0000,9,-999.0000,9,  -999.00,9,  -999.00,9,  -999.00,9,  -999.00,  -999.00,9,  -999.00,  -999.00,9,  -999.00, -999.000,9, -999.000, -999.000,9, -999.000,9, -999.000,9,   -999.0,9,   -999.0,9,-999.0000,-999,9,  -999.00,9,  -999.00,   -999.0,9,   -999.0,-999.0000,-999.0000
  49NZ20090521,   P21,   272,  1,     10, X12048,9,20090615,0641,-22.8367, 159.3492,  307,   -999.0,9,-999.0000,9,-999.00000,9,-999.0000,9,-999.0000,9,  -999.00,9,  -999.00,9,  -999.00,9,  -999.00,  -999.00,9,  -999.00,  -999.00,9,  -999.00, -999.000,9, -999.000, -999.000,9, -999.000,9, -999.000,9,   -999.0,9,   -999.0,9,-999.0000,-999,9,  -999.00,9,  -999.00,   -999.0,9,   -999.0,-999.0000,-999.0000
  49NZ20090521,   P21,   272,  1,      9, X12027,9,20090615,0641,-22.8367, 159.3492,  307,   -999.0,9,-999.0000,9,-999.00000,9,-999.0000,9,-999.0000,9,  -999.00,9,  -999.00,9,  -999.00,9,  -999.00,  -999.00,9,  -999.00,  -999.00,9,  -999.00, -999.000,9, -999.000, -999.000,9, -999.000,9, -999.000,9,   -999.0,9,   -999.0,9,-999.0000,-999,9,  -999.00,9,  -999.00,   -999.0,9,   -999.0,-999.0000,-999.0000
  49NZ20090521,   P21,   272,  1,      8, X12026,9,20090615,0641,-22.8367, 159.3492,  307,   -999.0,9,-999.0000,9,-999.00000,9,-999.0000,9,-999.0000,9,  -999.00,9,  -999.00,9,  -999.00,9,  -999.00,  -999.00,9,  -999.00,  -999.00,9,  -999.00, -999.000,9, -999.000, -999.000,9, -999.000,9, -999.000,9,   -999.0,9,   -999.0,9,-999.0000,-999,9,  -999.00,9,  -999.00,   -999.0,9,   -999.0,-999.0000,-999.0000
  49NZ20090521,   P21,   272,  1,      7, X12025,9,20090615,0641,-22.8367, 159.3492,  307,   -999.0,9,-999.0000,9,-999.00000,9,-999.0000,9,-999.0000,9,  -999.00,9,  -999.00,9,  -999.00,9,  -999.00,  -999.00,9,  -999.00,  -999.00,9,  -999.00, -999.000,9, -999.000, -999.000,9, -999.000,9, -999.000,9,   -999.0,9,   -999.0,9,-999.0000,-999,9,  -999.00,9,  -999.00,   -999.0,9,   -999.0,-999.0000,-999.0000
  49NZ20090521,   P21,   272,  1,      6, X12024,9,20090615,0641,-22.8367, 159.3492,  307,   -999.0,9,-999.0000,9,-999.00000,9,-999.0000,9,-999.0000,9,  -999.00,9,  -999.00,9,  -999.00,9,  -999.00,  -999.00,9,  -999.00,  -999.00,9,  -999.00, -999.000,9, -999.000, -999.000,9, -999.000,9, -999.000,9,   -999.0,9,   -999.0,9,-999.0000,-999,9,  -999.00,9,  -999.00,   -999.0,9,   -999.0,-999.0000,-999.0000
  49NZ20090521,   P21,   272,  1,      5, X12028,9,20090615,0641,-22.8367, 159.3492,  307,   -999.0,9,-999.0000,9,-999.00000,9,-999.0000,9,-999.0000,9,  -999.00,9,  -999.00,9,  -999.00,9,  -999.00,  -999.00,9,  -999.00,  -999.00,9,  -999.00, -999.000,9, -999.000, -999.000,9, -999.000,9, -999.000,9,   -999.0,9,   -999.0,9,-999.0000,-999,9,  -999.00,9,  -999.00,   -999.0,9,   -999.0,-999.0000,-999.0000
  49NZ20090521,   P21,   272,  1,      4, X12022,9,20090615,0641,-22.8367, 159.3492,  307,   -999.0,9,-999.0000,9,-999.00000,9,-999.0000,9,-999.0000,9,  -999.00,9,  -999.00,9,  -999.00,9,  -999.00,  -999.00,9,  -999.00,  -999.00,9,  -999.00, -999.000,9, -999.000, -999.000,9, -999.000,9, -999.000,9,   -999.0,9,   -999.0,9,-999.0000,-999,9,  -999.00,9,  -999.00,   -999.0,9,   -999.0,-999.0000,-999.0000
  49NZ20090521,   P21,   272,  1,      3, X12021,9,20090615,0641,-22.8367, 159.3492,  307,   -999.0,9,-999.0000,9,-999.00000,9,-999.0000,9,-999.0000,9,  -999.00,9,  -999.00,9,  -999.00,9,  -999.00,  -999.00,9,  -999.00,  -999.00,9,  -999.00, -999.000,9, -999.000, -999.000,9, -999.000,9, -999.000,9,   -999.0,9,   -999.0,9,-999.0000,-999,9,  -999.00,9,  -999.00,   -999.0,9,   -999.0,-999.0000,-999.0000
  49NZ20090521,   P21,   272,  1,      2, X12020,9,20090615,0641,-22.8367, 159.3492,  307,    150.7,2,  21.8482,2,  21.84897,2,  35.5792,2,-999.0000,9,   173.07,2,  -999.00,9,  -999.00,9,  -999.00,  -999.00,9,  -999.00,  -999.00,9,  -999.00, -999.000,9, -999.000, -999.000,9, -999.000,9, -999.000,9,   -999.0,9,   -999.0,9,-999.0000,-999,9,  -999.00,9,  -999.00,   -999.0,9,   -999.0,  21.8185,  24.7089
  49NZ20090521,   P21,   272,  1,      1, X12019,2,20090615,0641,-22.8367, 159.3492,  307,    292.9,2,  17.1838,2,  17.18767,2,  35.5232,2,  35.5314,6,   183.12,2,   182.92,2,     1.91,2,     0.12,     6.96,2,     0.05,     0.03,2,     0.01,    0.566,2,    0.013,    2.213,2,    1.284,2,    0.061,2,   2088.9,2,   2327.8,2,   7.9295,  25,2,  -999.00,9,  -999.00,   -999.0,9,   -999.0,  17.1348,  25.8837