BOTTLE,20111109CCHDOSIOCBG
EXPOCODE,SECT_ID,STNNBR,CASTNO,SAMPNO,BTLNBR,BTLNBR_FLAG_W,DATE,TIME,LATITUDE,LONGITUDE,DEPTH,CTDPRS,CTDPRS_FLAG_W,CTDTMP,CTDTMP_FLAG_W,SBE35,SBE35_FLAG_W,CTDSAL,CTDSAL_FLAG_W,SALNTY,SALNTY_FLAG_W,CTDOXY,CTDOXY_FLAG_W,OXYGEN,OXYGEN_FLAG_W,SILCAT,SILCAT_FLAG_W,SILUNC,NITRAT,NITRAT_FLAG_W,NRAUNC,NITRIT,NITRIT_FLAG_W,NRIUNC,PHSPHT,PHSPHT_FLAG_W,PHPUNC,CFC-11,CFC-11_FLAG_W,CFC-12,CFC-12_FLAG_W,CFC113,CFC113_FLAG_W,TCARBN,TCARBN_FLAG_W,ALKALI,ALKALI_FLAG_W,PH_TOT,PH_TMP,PH_TOT_FLAG_W,DELC13,DELC13_FLAG_W,C13ERR,DELC14,DELC14_FLAG_W,C14ERR,THETA,SIG0
,,,,,,,,,,,METERS,DBAR,,ITS-90,,ITS-90,,PSS-78,,PSS-78,,UMOL/KG,,UMOL/KG,,UMOL/KG,,UMOL/KG,UMOL/KG,,UMOL/KG,UMOL/KG,,UMOL/KG,UMOL/KG,,UMOL/KG,PMOL/KG,,PMOL/KG,,PMOL/KG,,UMOL/KG,,UMOL/KG,,,DEG C,,/MILLE,,/MILLE,/MILLE,,/MILLE,DEG C,KG/M^3
  49NZ20090521,   P21,   269,  1,      0,   -999,9,20090614,2201,-22.4665, 160.2793, 2183,   -999.0,9,-999.0000,9,-999.00000,9,-999.0000,9,  35.2264,2,  -999.00,9,  -999.00,9,  -999.00,9,  -999.00,  -999.00,9,  -999.00,  -999.00,9,  -999.00, -999.000,9, -999.000, -999.000,9, -999.000,9, -999.000,9,   -999.0,9,   -999.0,9,-999.0000,-999,9,  -999.00,9,  -999.00,   -999.0,9,   -999.0,-999.0000,-999.0000
  49NZ20090521,   P21,   269,  1,     36, X12043,2,20090614,2201,-22.4665, 160.2793, 2183,     10.2,2,  23.6617,2,  23.66210,2,  35.2188,2,  35.2167,2,   209.23,2,   209.18,2,     0.39,2,     0.12,     0.08,2,     0.03,     0.01,2,     0.01,    0.101,2,    0.022,    1.706,2,    1.061,2, -999.000,5,   -999.0,9,   -999.0,9,-999.0000,-999,9,  -999.00,9,  -999.00,   -999.0,9,   -999.0,  23.6596,  23.9075
  49NZ20090521,   P21,   269,  1,     35, X12042,2,20090614,2201,-22.4665, 160.2793, 2183,     50.2,2,  23.6681,2,  23.66862,2,  35.2180,2,  35.2160,2,   209.16,2,   209.17,2,     0.36,2,     0.12,     0.08,2,     0.03,     0.01,2,     0.01,    0.100,2,    0.022,    1.693,2,    1.048,2, -999.000,5,   -999.0,9,   -999.0,9,-999.0000,-999,9,  -999.00,9,  -999.00,   -999.0,9,   -999.0,  23.6576,  23.9074
  49NZ20090521,   P21,   269,  1,     34, X12016,2,20090614,2201,-22.4665, 160.2793, 2183,    100.8,2,  23.6765,2,  23.67732,2,  35.2333,2,  35.2357,2,   207.27,2,   207.40,2,     0.33,2,     0.12,     0.14,2,     0.03,     0.02,2,     0.01,    0.108,2,    0.021,    1.711,6,    1.064,6, -999.000,5,   -999.0,9,   -999.0,9,-999.0000,-999,9,  -999.00,9,  -999.00,   -999.0,9,   -999.0,  23.6555,  23.9197
  49NZ20090521,   P21,   269,  1,     33, X12015,2,20090614,2201,-22.4665, 160.2793, 2183,    150.4,2,  21.5034,2,  21.50653,2,  35.6004,2,  35.6000,2,   168.73,2,   169.05,2,     0.75,2,     0.12,     3.16,2,     0.04,     0.01,2,     0.01,    0.312,2,    0.014,    1.959,2,    1.170,2,    0.155,2,   -999.0,9,   -999.0,9,-999.0000,-999,9,  -999.00,9,  -999.00,   -999.0,9,   -999.0,  21.4740,  24.8208
  49NZ20090521,   P21,   269,  1,     32, X12050,2,20090614,2201,-22.4665, 160.2793, 2183,    201.5,2,  19.6783,2,  19.67879,2,  35.6469,2,  35.6451,2,   188.59,2,   188.34,2,     0.84,2,     0.12,     3.78,2,     0.04,     0.02,2,     0.01,    0.362,2,    0.014,    2.087,2,    1.242,2,    0.140,2,   -999.0,9,   -999.0,9,-999.0000,-999,9,  -999.00,9,  -999.00,   -999.0,9,   -999.0,  19.6413,  25.3497
  49NZ20090521,   P21,   269,  1,     31, X12014,2,20090614,2201,-22.4665, 160.2793, 2183,    250.7,2,  19.0279,2,  19.02834,2,  35.6432,2,  35.6422,6,   202.69,2,   202.56,2,     0.91,2,     0.12,     4.39,2,     0.05,     0.02,2,     0.01,    0.409,2,    0.013,    2.133,2,    1.264,2,    0.108,2,   -999.0,9,   -999.0,9,-999.0000,-999,9,  -999.00,9,  -999.00,   -999.0,9,   -999.0,  18.9829,  25.5173
  49NZ20090521,   P21,   269,  1,     30, X12012,2,20090614,2201,-22.4665, 160.2793, 2183,    332.0,2,  17.1319,2,  17.13231,2,  35.4960,2,  35.4957,2,   178.34,2,   178.34,2,     1.87,2,     0.12,     7.41,2,     0.05,     0.01,2,     0.01,    0.594,2,    0.013,    2.249,2,    1.273,2,    0.044,2,   -999.0,9,   -999.0,9,-999.0000,-999,9,  -999.00,9,  -999.00,   -999.0,9,   -999.0,  17.0764,  25.8768
  49NZ20090521,   P21,   269,  1,     29, X12041,2,20090614,2201,-22.4665, 160.2793, 2183,    430.7,2,  14.7307,2,  14.73673,2,  35.2740,2,  35.2727,2,   182.50,2,   182.90,2,     3.23,2,     0.13,    10.63,2,     0.06,     0.01,2,     0.01,    0.804,2,    0.013,    2.297,6,    1.275,6,    0.076,6,   -999.0,9,   -999.0,9,-999.0000,-999,9,  -999.00,9,  -999.00,   -999.0,9,   -999.0,  14.6657,  26.2564
  49NZ20090521,   P21,   269,  1,     28, X12040,2,20090614,2201,-22.4665, 160.2793, 2183,    530.9,2,  11.2315,2,  11.23208,2,  34.8849,2,  34.8846,6,   190.01,2,   190.39,2,     6.03,2,     0.13,    16.41,2,     0.08,     0.01,2,     0.01,    1.174,2,    0.013,    2.168,2,    1.143,2,    0.073,2,   -999.0,9,   -999.0,9,-999.0000,-999,9,  -999.00,9,  -999.00,   -999.0,9,   -999.0,  11.1643,  26.6560
  49NZ20090521,   P21,   269,  1,     27, X12009,2,20090614,2201,-22.4665, 160.2793, 2183,    630.2,2,   8.4434,2,   8.44453,2,  34.5908,2,  34.5897,2,   196.71,2,   196.87,2,    11.45,2,     0.14,    22.04,2,     0.09,     0.01,2,     0.01,    1.545,2,    0.014,    1.685,6,    0.851,6,    0.054,6,   -999.0,9,   -999.0,9,-999.0000,-999,9,  -999.00,9,  -999.00,   -999.0,9,   -999.0,   8.3762,  26.8955
  49NZ20090521,   P21,   269,  1,     26, X12008,2,20090614,2201,-22.4665, 160.2793, 2183,    731.4,2,   6.9966,2,   6.99738,2,  34.4835,2,  34.4835,2,   197.13,2,   197.49,2,    18.28,2,     0.16,    25.26,2,     0.10,     0.01,2,     0.01,    1.758,2,    0.015,    1.198,2,    0.602,2,    0.040,2,   -999.0,9,   -999.0,9,-999.0000,-999,9,  -999.00,9,  -999.00,   -999.0,9,   -999.0,   6.9261,  27.0221
  49NZ20090521,   P21,   269,  1,     25, X12007,2,20090614,2201,-22.4665, 160.2793, 2183,    831.0,2,   5.8973,2,   5.89491,2,  34.4498,2,  34.4496,2,   188.39,2,   188.74,2,    29.61,2,     0.18,    28.26,2,     0.11,     0.01,2,     0.01,    1.970,2,    0.015,    0.704,2,    0.351,2,    0.020,2,   -999.0,9,   -999.0,9,-999.0000,-999,9,  -999.00,9,  -999.00,   -999.0,9,   -999.0,   5.8235,  27.1401
  49NZ20090521,   P21,   269,  1,     24, X12035,2,20090614,2201,-22.4665, 160.2793, 2183,    930.2,2,   5.2107,2,   5.21057,2,  34.4527,2,  34.4528,2,   180.99,2,   181.14,2,    39.79,2,     0.21,    30.04,2,     0.12,     0.01,2,     0.01,    2.093,2,    0.015,    0.447,2,    0.227,2,    0.000,2,   -999.0,9,   -999.0,9,-999.0000,-999,9,  -999.00,9,  -999.00,   -999.0,9,   -999.0,   5.1323,  27.2259
  49NZ20090521,   P21,   269,  1,     23, X12038,2,20090614,2201,-22.4665, 160.2793, 2183,   1070.4,2,   4.3769,2,   4.37692,2,  34.4804,2,  34.4805,6,   169.97,2,   170.32,2,    55.30,2,     0.24,    32.07,2,     0.12,     0.01,2,     0.01,    2.240,2,    0.016,    0.199,2,    0.102,2,    0.000,2,   -999.0,9,   -999.0,9,-999.0000,-999,9,  -999.00,9,  -999.00,   -999.0,9,   -999.0,   4.2923,  27.3420
  49NZ20090521,   P21,   269,  1,     22, X12034,2,20090614,2201,-22.4665, 160.2793, 2183,   1271.2,2,   3.5982,2,   3.59839,2,  34.5360,2,  34.5356,2,   158.91,2,   159.13,2,    74.57,2,     0.28,    33.70,2,     0.13,     0.01,2,     0.01,    2.364,2,    0.016,    0.072,2,    0.035,2,    0.000,2,   -999.0,9,   -999.0,9,-999.0000,-999,9,  -999.00,9,  -999.00,   -999.0,9,   -999.0,   3.5033,  27.4671
  49NZ20090521,   P21,   269,  1,     21, X12033,2,20090614,2201,-22.4665, 160.2793, 2183,   1471.0,2,   3.1126,2,   3.11253,2,  34.5762,2,  34.5763,2,   151.72,2,   152.00,2,    87.61,2,     0.31,    34.68,2,     0.13,     0.01,2,     0.01,    2.438,2,    0.016,    0.025,2,    0.011,2,    0.000,2,   -999.0,9,   -999.0,9,-999.0000,-999,9,  -999.00,9,  -999.00,   -999.0,9,   -999.0,   3.0059,  27.5463
  49NZ20090521,   P21,   269,  1,     20, X12032,2,20090614,2201,-22.4665, 160.2793, 2183,   1670.8,2,   2.7412,2,   2.74106,2,  34.6098,2,  34.6103,6,   149.27,2,   149.63,2,    96.45,2,     0.33,    35.14,2,     0.13,     0.01,2,     0.01,    2.469,2,    0.016,    0.005,2,    0.003,2,    0.000,2,   -999.0,9,   -999.0,9,-999.0000,-999,9,  -999.00,9,  -999.00,   -999.0,9,   -999.0,   2.6221,  27.6074
  49NZ20090521,   P21,   269,  1,     19, X12046,2,20090614,2201,-22.4665, 160.2793, 2183,   1870.4,2,   2.4854,2,   2.48548,2,  34.6357,2,  34.6364,2,   151.97,2,   152.22,2,   100.14,2,     0.34,    35.00,2,     0.13,     0.01,2,     0.01,    2.458,2,    0.016,    0.000,2,    0.001,2,    0.000,2,   -999.0,9,   -999.0,9,-999.0000,-999,9,  -999.00,9,  -999.00,   -999.0,9,   -999.0,   2.3528,  27.6511
  49NZ20090521,   P21,   269,  1,     18, X12006,2,20090614,2201,-22.4665, 160.2793, 2183,   2071.0,2,   2.2924,2,   2.29202,2,  34.6574,2,  34.6577,2,   156.46,2,   156.62,2,   101.56,2,     0.34,    34.68,2,     0.13,     0.01,2,     0.01,    2.432,2,    0.016,    0.002,2,    0.001,2,    0.000,2,   -999.0,9,   -999.0,9,-999.0000,-999,9,  -999.00,9,  -999.00,   -999.0,9,   -999.0,   2.1453,  27.6855
  49NZ20090521,   P21,   269,  1,     17, X12047,9,20090614,2201,-22.4665, 160.2793, 2183,     10.5,2,  23.6620,2,  23.66276,2,  35.2189,2,-999.0000,9,   209.26,2,  -999.00,9,  -999.00,9,  -999.00,  -999.00,9,  -999.00,  -999.00,9,  -999.00, -999.000,9, -999.000, -999.000,9, -999.000,9, -999.000,9,   -999.0,9,   -999.0,9,-999.0000,-999,9,  -999.00,9,  -999.00,   -999.0,9,   -999.0,  23.6598,  23.9075
  49NZ20090521,   P21,   269,  1,     16, X12004,9,20090614,2201,-22.4665, 160.2793, 2183,     50.2,2,  23.6681,2,  23.66796,2,  35.2180,2,-999.0000,9,   209.16,2,  -999.00,9,  -999.00,9,  -999.00,  -999.00,9,  -999.00,  -999.00,9,  -999.00, -999.000,9, -999.000, -999.000,9, -999.000,9, -999.000,9,   -999.0,9,   -999.0,9,-999.0000,-999,9,  -999.00,9,  -999.00,   -999.0,9,   -999.0,  23.6576,  23.9075
  49NZ20090521,   P21,   269,  1,     15, X12003,9,20090614,2201,-22.4665, 160.2793, 2183,    100.9,2,  23.6776,2,  23.67754,2,  35.2308,2,-999.0000,9,   207.72,2,  -999.00,9,  -999.00,9,  -999.00,  -999.00,9,  -999.00,  -999.00,9,  -999.00, -999.000,9, -999.000, -999.000,9, -999.000,9, -999.000,9,   -999.0,9,   -999.0,9,-999.0000,-999,9,  -999.00,9,  -999.00,   -999.0,9,   -999.0,  23.6566,  23.9175
  49NZ20090521,   P21,   269,  1,     14, X12002,9,20090614,2201,-22.4665, 160.2793, 2183,    531.3,2,  11.2263,2,  11.22824,2,  34.8850,2,-999.0000,9,   190.20,2,  -999.00,9,  -999.00,9,  -999.00,  -999.00,9,  -999.00,  -999.00,9,  -999.00, -999.000,9, -999.000, -999.000,9, -999.000,9, -999.000,9,   -999.0,9,   -999.0,9,-999.0000,-999,9,  -999.00,9,  -999.00,   -999.0,9,   -999.0,  11.1590,  26.6570
  49NZ20090521,   P21,   269,  1,     13, X12001,9,20090614,2201,-22.4665, 160.2793, 2183,    201.2,2,  19.6803,2,  19.68008,2,  35.6471,2,-999.0000,9,   188.81,2,  -999.00,9,  -999.00,9,  -999.00,  -999.00,9,  -999.00,  -999.00,9,  -999.00, -999.000,9, -999.000, -999.000,9, -999.000,9, -999.000,9,   -999.0,9,   -999.0,9,-999.0000,-999,9,  -999.00,9,  -999.00,   -999.0,9,   -999.0,  19.6434,  25.3493
  49NZ20090521,   P21,   269,  1,     12, X12030,9,20090614,2201,-22.4665, 160.2793, 2183,    250.4,2,  19.0288,2,  19.02897,2,  35.6435,2,-999.0000,9,   202.74,2,  -999.00,9,  -999.00,9,  -999.00,  -999.00,9,  -999.00,  -999.00,9,  -999.00, -999.000,9, -999.000, -999.000,9, -999.000,9, -999.000,9,   -999.0,9,   -999.0,9,-999.0000,-999,9,  -999.00,9,  -999.00,   -999.0,9,   -999.0,  18.9839,  25.5173
  49NZ20090521,   P21,   269,  1,     11, X12044,9,20090614,2201,-22.4665, 160.2793, 2183,    333.0,2,  17.1000,2,  17.10143,2,  35.4950,2,-999.0000,9,   178.60,2,  -999.00,9,  -999.00,9,  -999.00,  -999.00,9,  -999.00,  -999.00,9,  -999.00, -999.000,9, -999.000, -999.000,9, -999.000,9, -999.000,9,   -999.0,9,   -999.0,9,-999.0000,-999,9,  -999.00,9,  -999.00,   -999.0,9,   -999.0,  17.0444,  25.8837
  49NZ20090521,   P21,   269,  1,     10, X12048,9,20090614,2201,-22.4665, 160.2793, 2183,    429.1,2,  14.7293,2,  14.73011,2,  35.2748,2,-999.0000,9,   182.51,2,  -999.00,9,  -999.00,9,  -999.00,  -999.00,9,  -999.00,  -999.00,9,  -999.00, -999.000,9, -999.000, -999.000,9, -999.000,9, -999.000,9,   -999.0,9,   -999.0,9,-999.0000,-999,9,  -999.00,9,  -999.00,   -999.0,9,   -999.0,  14.6645,  26.2573
  49NZ20090521,   P21,   269,  1,      9, X12027,9,20090614,2201,-22.4665, 160.2793, 2183,    150.4,2,  21.5235,2,  21.52374,2,  35.5999,2,-999.0000,9,   168.70,2,  -999.00,9,  -999.00,9,  -999.00,  -999.00,9,  -999.00,  -999.00,9,  -999.00, -999.000,9, -999.000, -999.000,9, -999.000,9, -999.000,9,   -999.0,9,   -999.0,9,-999.0000,-999,9,  -999.00,9,  -999.00,   -999.0,9,   -999.0,  21.4941,  24.8148
  49NZ20090521,   P21,   269,  1,      8, X12026,9,20090614,2201,-22.4665, 160.2793, 2183,   1471.6,2,   3.1065,2,   3.10671,2,  34.5767,2,-999.0000,9,   151.69,2,  -999.00,9,  -999.00,9,  -999.00,  -999.00,9,  -999.00,  -999.00,9,  -999.00, -999.000,9, -999.000, -999.000,9, -999.000,9, -999.000,9,   -999.0,9,   -999.0,9,-999.0000,-999,9,  -999.00,9,  -999.00,   -999.0,9,   -999.0,   2.9998,  27.5472
  49NZ20090521,   P21,   269,  1,      7, X12025,2,20090614,2201,-22.4665, 160.2793, 2183,     10.8,2,  23.6624,2,  23.66308,2,  35.2189,2,-999.0000,9,   209.33,2,  -999.00,9,     0.39,2,     0.12,     0.08,2,     0.03,     0.01,2,     0.01,    0.096,2,    0.022, -999.000,9, -999.000,9, -999.000,9,   -999.0,9,   -999.0,9,-999.0000,-999,9,  -999.00,9,  -999.00,   -999.0,9,   -999.0,  23.6602,  23.9074
  49NZ20090521,   P21,   269,  1,      6, X12024,2,20090614,2201,-22.4665, 160.2793, 2183,     50.2,2,  23.6674,2,  23.66759,2,  35.2182,2,-999.0000,9,   209.10,2,  -999.00,9,     0.40,2,     0.12,     0.09,2,     0.03,     0.01,2,     0.01,    0.093,2,    0.023, -999.000,9, -999.000,9, -999.000,9,   -999.0,9,   -999.0,9,-999.0000,-999,9,  -999.00,9,  -999.00,   -999.0,9,   -999.0,  23.6569,  23.9078
  49NZ20090521,   P21,   269,  1,      5, X12028,2,20090614,2201,-22.4665, 160.2793, 2183,    100.8,2,  23.6756,2,  23.67653,2,  35.2324,2,-999.0000,9,   207.51,2,  -999.00,9,     0.49,2,     0.12,     0.56,2,     0.03,     0.04,2,     0.01,    0.146,2,    0.018, -999.000,9, -999.000,9, -999.000,9,   -999.0,9,   -999.0,9,-999.0000,-999,9,  -999.00,9,  -999.00,   -999.0,9,   -999.0,  23.6546,  23.9193
  49NZ20090521,   P21,   269,  1,      4, X12022,2,20090614,2201,-22.4665, 160.2793, 2183,    150.7,2,  21.5115,2,  21.50978,2,  35.6002,2,-999.0000,9,   168.76,2,  -999.00,9,     0.97,2,     0.12,     4.42,2,     0.05,     0.02,2,     0.01,    0.406,2,    0.013, -999.000,9, -999.000,9, -999.000,9,   -999.0,9,   -999.0,9,-999.0000,-999,9,  -999.00,9,  -999.00,   -999.0,9,   -999.0,  21.4821,  24.8184
  49NZ20090521,   P21,   269,  1,      3, X12021,2,20090614,2201,-22.4665, 160.2793, 2183,    201.0,2,  19.6858,2,  19.68381,2,  35.6467,2,-999.0000,9,   188.75,2,  -999.00,9,     0.94,2,     0.12,     3.79,2,     0.04,     0.02,2,     0.01,    0.357,2,    0.014, -999.000,9, -999.000,9, -999.000,9,   -999.0,9,   -999.0,9,-999.0000,-999,9,  -999.00,9,  -999.00,   -999.0,9,   -999.0,  19.6489,  25.3475
  49NZ20090521,   P21,   269,  1,      2, X12020,2,20090614,2201,-22.4665, 160.2793, 2183,    250.1,2,  19.0284,2,  19.02862,2,  35.6434,2,-999.0000,9,   202.74,2,  -999.00,9,     0.87,2,     0.12,     3.20,2,     0.04,     0.01,2,     0.01,    0.314,2,    0.014, -999.000,9, -999.000,9, -999.000,9,   -999.0,9,   -999.0,9,-999.0000,-999,9,  -999.00,9,  -999.00,   -999.0,9,   -999.0,  18.9835,  25.5173
  49NZ20090521,   P21,   269,  1,      1, X12019,2,20090614,2201,-22.4665, 160.2793, 2183,   2193.5,2,   2.2563,2,   2.25628,2,  34.6614,2,  34.6617,6,   157.12,2,   157.36,2,   102.24,2,     0.34,    34.60,2,     0.13,     0.01,2,     0.01,    2.430,2,    0.016,    0.002,2,    0.002,2,    0.000,2,   -999.0,9,   -999.0,9,-999.0000,-999,9,  -999.00,9,  -999.00,   -999.0,9,   -999.0,   2.0990,  27.6925