BOTTLE,20111109CCHDOSIOCBG
EXPOCODE,SECT_ID,STNNBR,CASTNO,SAMPNO,BTLNBR,BTLNBR_FLAG_W,DATE,TIME,LATITUDE,LONGITUDE,DEPTH,CTDPRS,CTDPRS_FLAG_W,CTDTMP,CTDTMP_FLAG_W,SBE35,SBE35_FLAG_W,CTDSAL,CTDSAL_FLAG_W,SALNTY,SALNTY_FLAG_W,CTDOXY,CTDOXY_FLAG_W,OXYGEN,OXYGEN_FLAG_W,SILCAT,SILCAT_FLAG_W,SILUNC,NITRAT,NITRAT_FLAG_W,NRAUNC,NITRIT,NITRIT_FLAG_W,NRIUNC,PHSPHT,PHSPHT_FLAG_W,PHPUNC,CFC-11,CFC-11_FLAG_W,CFC-12,CFC-12_FLAG_W,CFC113,CFC113_FLAG_W,TCARBN,TCARBN_FLAG_W,ALKALI,ALKALI_FLAG_W,PH_TOT,PH_TMP,PH_TOT_FLAG_W,DELC13,DELC13_FLAG_W,C13ERR,DELC14,DELC14_FLAG_W,C14ERR,THETA,SIG0
,,,,,,,,,,,METERS,DBAR,,ITS-90,,ITS-90,,PSS-78,,PSS-78,,UMOL/KG,,UMOL/KG,,UMOL/KG,,UMOL/KG,UMOL/KG,,UMOL/KG,UMOL/KG,,UMOL/KG,UMOL/KG,,UMOL/KG,PMOL/KG,,PMOL/KG,,PMOL/KG,,UMOL/KG,,UMOL/KG,,,DEG C,,/MILLE,,/MILLE,/MILLE,,/MILLE,DEG C,KG/M^3
  49NZ20090521,   P21,   278,  1,      0,   -999,9,20090616,0428,-23.8685, 156.7187, 2204,   -999.0,9,-999.0000,9,-999.00000,9,-999.0000,9,  35.3220,2,  -999.00,9,  -999.00,9,  -999.00,9,  -999.00,  -999.00,9,  -999.00,  -999.00,9,  -999.00, -999.000,9, -999.000, -999.000,9, -999.000,9, -999.000,9,   -999.0,9,   -999.0,9,-999.0000,-999,9,  -999.00,9,  -999.00,   -999.0,9,   -999.0,-999.0000,-999.0000
  49NZ20090521,   P21,   278,  1,     36, X12043,2,20090616,0428,-23.8685, 156.7187, 2204,     10.5,2,  22.8468,2,  22.84721,2,  35.3155,2,  35.3128,2,   213.78,2,   213.45,2,     0.44,2,     0.12,     0.05,2,     0.03,     0.01,2,     0.01,    0.089,2,    0.023,    1.739,2,    1.099,2, -999.000,5,   1988.0,2,   2315.9,2,   8.0843,  25,2,  -999.00,9,  -999.00,   -999.0,9,   -999.0,  22.8447,  24.2177
  49NZ20090521,   P21,   278,  1,     35, X12042,2,20090616,0428,-23.8685, 156.7187, 2204,     50.3,2,  22.8124,2,  22.81207,2,  35.3503,2,  35.3540,2,   213.05,2,   212.72,2,     0.38,2,     0.12,     0.04,2,     0.03,     0.01,2,     0.01,    0.090,2,    0.023,    1.748,2,    1.098,2, -999.000,5,   1993.4,6,   2316.9,2,   8.0783,  25,2,  -999.00,9,  -999.00,   -999.0,9,   -999.0,  22.8022,  24.2563
  49NZ20090521,   P21,   278,  1,     34, X12016,2,20090616,0428,-23.8685, 156.7187, 2204,    100.4,2,  22.1736,2,  22.17349,2,  35.5623,2,  35.5626,2,   193.39,2,   193.09,2,     0.59,2,     0.12,     1.42,2,     0.04,     0.20,2,     0.01,    0.224,2,    0.015,    1.865,6,    1.147,6, -999.000,5,   2033.4,2,   2328.9,6,   8.0288,  25,2,  -999.00,9,  -999.00,   -999.0,9,   -999.0,  22.1536,  24.6019
  49NZ20090521,   P21,   278,  1,     33, X12015,2,20090616,0428,-23.8685, 156.7187, 2204,    149.9,2,  20.0960,2,  20.09672,2,  35.6451,2,  35.6441,2,   181.78,2,   181.68,2,     0.97,2,     0.12,     4.02,2,     0.04,     0.02,2,     0.01,    0.381,2,    0.013,    2.034,2,    1.222,2,    0.105,2,   2064.7,2,   2333.0,2,   7.9821,  25,6,  -999.00,9,  -999.00,   -999.0,9,   -999.0,  20.0681,  25.2359
  49NZ20090521,   P21,   278,  1,     32, X12050,2,20090616,0428,-23.8685, 156.7187, 2204,    200.8,2,  18.8683,2,  18.86983,2,  35.6328,2,  35.6318,2,   188.54,2,   188.21,2,     1.11,2,     0.12,     4.64,2,     0.05,     0.02,2,     0.01,    0.415,2,    0.013,    2.101,2,    1.252,2,    0.088,4,   2070.3,2,   2332.9,2,   7.9690,  25,2,  -999.00,9,  -999.00,   -999.0,9,   -999.0,  18.8325,  25.5477
  49NZ20090521,   P21,   278,  1,     31, X12014,2,20090616,0428,-23.8685, 156.7187, 2204,    250.2,2,  17.7402,2,  17.73984,2,  35.5843,2,  35.5814,6,   185.77,2,   185.54,2,     1.54,2,     0.12,     6.12,2,     0.05,     0.02,2,     0.01,    0.508,2,    0.013,    2.201,2,    1.289,2,    0.052,2,   2084.4,2,   2330.3,2,   7.9424,  25,2,  -999.00,9,  -999.00,   -999.0,9,   -999.0,  17.6974,  25.7942
  49NZ20090521,   P21,   278,  1,     30, X12012,2,20090616,0428,-23.8685, 156.7187, 2204,    330.1,2,  15.7867,2,  15.79652,2,  35.4167,2,  35.4133,2,   185.15,2,   185.52,2,     2.51,2,     0.12,     8.76,2,     0.06,     0.01,2,     0.01,    0.684,2,    0.013,    2.275,2,    1.298,2,    0.064,2,   2101.5,2,   2321.1,2,   7.8950,  25,2,  -999.00,9,  -999.00,   -999.0,9,   -999.0,  15.7346,  26.1289
  49NZ20090521,   P21,   278,  1,     29, X12041,2,20090616,0428,-23.8685, 156.7187, 2204,    429.3,2,  12.8623,2,  12.86115,2,  35.0777,2,  35.0763,2,   186.48,2,   186.74,2,     4.45,2,     0.13,    13.37,2,     0.07,     0.01,2,     0.01,    0.991,2,    0.013,    2.258,6,    1.221,6,    0.038,6,   2124.0,2,   2307.4,2,   7.8249,  25,2,  -999.00,9,  -999.00,   -999.0,9,   -999.0,  12.8031,  26.4926
  49NZ20090521,   P21,   278,  1,     28, X12040,2,20090616,0428,-23.8685, 156.7187, 2204,    531.8,2,   9.8768,2,   9.87554,2,  34.7324,2,  34.7304,6,   194.73,2,   194.90,2,     7.57,2,     0.14,    18.81,2,     0.09,     0.01,2,     0.01,    1.344,2,    0.014,    2.052,2,    1.056,2,    0.049,2,   2142.3,2,   2296.8,2,   7.7584,  25,2,  -999.00,9,  -999.00,   -999.0,9,   -999.0,   9.8147,  26.7744
  49NZ20090521,   P21,   278,  1,     27, X12009,2,20090616,0428,-23.8685, 156.7187, 2204,    630.6,2,   7.9308,2,   7.93116,2,  34.5349,2,  34.5354,2,   201.98,2,   202.21,2,    11.47,2,     0.14,    22.69,2,     0.10,     0.01,2,     0.01,    1.596,2,    0.014,    1.667,6,    0.829,6,    0.044,6,   2154.2,2,   2289.1,2,   7.7200,  25,2,  -999.00,9,  -999.00,   -999.0,9,   -999.0,   7.8660,  26.9285
  49NZ20090521,   P21,   278,  1,     26, X12008,2,20090616,0428,-23.8685, 156.7187, 2204,    733.1,2,   6.4890,2,   6.48919,2,  34.4457,2,  34.4454,2,   198.00,2,   198.14,2,    20.21,2,     0.16,    26.35,2,     0.11,     0.01,2,     0.01,    1.845,2,    0.015,    0.972,2,    0.482,2,    0.013,2,   2172.6,6,   2293.2,2,   7.6850,  25,2,  -999.00,9,  -999.00,   -999.0,9,   -999.0,   6.4211,  27.0602
  49NZ20090521,   P21,   278,  1,     25, X12007,2,20090616,0428,-23.8685, 156.7187, 2204,    832.3,2,   5.8585,2,   5.85870,2,  34.4327,2,  34.4324,2,   191.90,2,   192.10,2,    27.27,2,     0.18,    28.12,2,     0.11,     0.01,2,     0.01,    1.970,2,    0.015,    0.667,2,    0.330,2,    0.008,2,   2185.7,2,   2300.1,6,   7.6654,  25,2,  -999.00,9,  -999.00,   -999.0,9,   -999.0,   5.7848,  27.1314
  49NZ20090521,   P21,   278,  1,     24, X12035,2,20090616,0428,-23.8685, 156.7187, 2204,    930.9,2,   5.1474,2,   5.14885,2,  34.4434,2,  34.4432,2,   181.85,2,   182.01,2,    38.94,2,     0.20,    30.08,2,     0.12,     0.01,2,     0.01,    2.111,2,    0.015,    0.379,2,    0.193,2,    0.012,2,   2206.1,2,   2311.0,2,   7.6418,  25,6,  -999.00,9,  -999.00,   -999.0,9,   -999.0,   5.0694,  27.2259
  49NZ20090521,   P21,   278,  1,     23, X12038,2,20090616,0428,-23.8685, 156.7187, 2204,   1069.6,2,   4.3708,2,   4.37103,2,  34.4793,2,  34.4796,6,   170.73,2,   171.07,2,    55.09,2,     0.24,    31.98,2,     0.12,     0.01,2,     0.01,    2.252,2,    0.016,    0.178,2,    0.092,2,    0.000,2,   2231.3,2,   2329.6,2,   7.6196,  25,2,  -999.00,9,  -999.00,   -999.0,9,   -999.0,   4.2863,  27.3418
  49NZ20090521,   P21,   278,  1,     22, X12034,2,20090616,0428,-23.8685, 156.7187, 2204,   1270.4,2,   3.7054,2,   3.70542,2,  34.5234,2,  34.5236,2,   157.72,2,   157.81,2,    72.70,2,     0.28,    33.74,2,     0.13,     0.01,2,     0.01,    2.384,2,    0.016,    0.058,2,    0.029,2,    0.000,2,   2257.2,2,   2348.1,2,   7.5982,  25,2,  -999.00,9,  -999.00,   -999.0,9,   -999.0,   3.6095,  27.4466
  49NZ20090521,   P21,   278,  1,     21, X12033,2,20090616,0428,-23.8685, 156.7187, 2204,   1469.7,2,   3.2203,2,   3.22031,2,  34.5651,2,  34.5651,2,   149.60,2,   149.71,2,    86.73,2,     0.31,    34.86,2,     0.13,     0.01,2,     0.01,    2.464,2,    0.016,    0.019,2,    0.012,2,    0.000,2,   2276.7,2,   2362.2,2,   7.5847,  25,2,  -999.00,9,  -999.00,   -999.0,9,   -999.0,   3.1125,  27.5275
  49NZ20090521,   P21,   278,  1,     20, X12032,2,20090616,0428,-23.8685, 156.7187, 2204,   1669.8,2,   2.8036,2,   2.80367,2,  34.6027,2,  34.6034,6,   145.65,2,   145.72,2,    97.84,2,     0.33,    35.39,2,     0.13,     0.01,2,     0.01,    2.502,2,    0.016,    0.006,2,    0.004,2,    0.000,2,   2290.3,2,   2377.2,2,   7.5773,  25,6,  -999.00,9,  -999.00,   -999.0,9,   -999.0,   2.6838,  27.5963
  49NZ20090521,   P21,   278,  1,     19, X12046,2,20090616,0428,-23.8685, 156.7187, 2204,   1869.4,2,   2.4894,2,   2.48955,2,  34.6361,2,  34.6365,2,   151.77,2,   151.88,2,   100.11,2,     0.34,    34.92,2,     0.13,     0.01,2,     0.01,    2.468,2,    0.016,    0.005,2,    0.003,2,    0.000,2,   2291.3,2,   2376.9,2,   7.5815,  25,2,  -999.00,9,  -999.00,   -999.0,9,   -999.0,   2.3568,  27.6510
  49NZ20090521,   P21,   278,  1,     18, X12006,2,20090616,0428,-23.8685, 156.7187, 2204,   2070.0,2,   2.2890,2,   2.28886,2,  34.6643,2,  34.6650,2,   161.23,2,   161.46,2,    97.58,2,     0.33,    34.07,2,     0.13,     0.01,2,     0.01,    2.400,2,    0.016,    0.003,2,    0.002,2,    0.000,2,   2283.5,2,   2372.7,2,   7.5900,  25,2,  -999.00,9,  -999.00,   -999.0,9,   -999.0,   2.1420,  27.6914
  49NZ20090521,   P21,   278,  1,     17, X12047,9,20090616,0428,-23.8685, 156.7187, 2204,     50.3,2,  22.8123,2,  22.81264,2,  35.3510,2,-999.0000,9,   213.08,2,  -999.00,9,  -999.00,9,  -999.00,  -999.00,9,  -999.00,  -999.00,9,  -999.00, -999.000,9, -999.000, -999.000,9, -999.000,9, -999.000,9,   -999.0,9,   -999.0,9,-999.0000,-999,9,  -999.00,9,  -999.00,   -999.0,9,   -999.0,  22.8021,  24.2568
  49NZ20090521,   P21,   278,  1,     16, X12004,9,20090616,0428,-23.8685, 156.7187, 2204,    100.3,2,  22.1729,2,  22.17418,2,  35.5626,2,-999.0000,9,   193.51,2,  -999.00,9,  -999.00,9,  -999.00,  -999.00,9,  -999.00,  -999.00,9,  -999.00, -999.000,9, -999.000, -999.000,9, -999.000,9, -999.000,9,   -999.0,9,   -999.0,9,-999.0000,-999,9,  -999.00,9,  -999.00,   -999.0,9,   -999.0,  22.1529,  24.6023
  49NZ20090521,   P21,   278,  1,     15, X12003,9,20090616,0428,-23.8685, 156.7187, 2204,    150.1,2,  20.1031,2,  20.10333,2,  35.6455,2,-999.0000,9,   181.98,2,  -999.00,9,  -999.00,9,  -999.00,  -999.00,9,  -999.00,  -999.00,9,  -999.00, -999.000,9, -999.000, -999.000,9, -999.000,9, -999.000,9,   -999.0,9,   -999.0,9,-999.0000,-999,9,  -999.00,9,  -999.00,   -999.0,9,   -999.0,  20.0752,  25.2343
  49NZ20090521,   P21,   278,  1,     14, X12002,9,20090616,0428,-23.8685, 156.7187, 2204,    200.9,2,  18.8475,2,  18.84969,2,  35.6330,2,-999.0000,9,   188.61,2,  -999.00,9,  -999.00,9,  -999.00,  -999.00,9,  -999.00,  -999.00,9,  -999.00, -999.000,9, -999.000, -999.000,9, -999.000,9, -999.000,9,   -999.0,9,   -999.0,9,-999.0000,-999,9,  -999.00,9,  -999.00,   -999.0,9,   -999.0,  18.8117,  25.5532
  49NZ20090521,   P21,   278,  1,     13, X12001,9,20090616,0428,-23.8685, 156.7187, 2204,    250.2,2,  17.7375,2,  17.73771,2,  35.5842,2,-999.0000,9,   185.86,2,  -999.00,9,  -999.00,9,  -999.00,  -999.00,9,  -999.00,  -999.00,9,  -999.00, -999.000,9, -999.000, -999.000,9, -999.000,9, -999.000,9,   -999.0,9,   -999.0,9,-999.0000,-999,9,  -999.00,9,  -999.00,   -999.0,9,   -999.0,  17.6947,  25.7948
  49NZ20090521,   P21,   278,  1,     12, X12030,9,20090616,0428,-23.8685, 156.7187, 2204,    330.1,2,  15.8582,2,  15.86994,2,  35.4238,2,-999.0000,9,   185.59,2,  -999.00,9,  -999.00,9,  -999.00,  -999.00,9,  -999.00,  -999.00,9,  -999.00, -999.000,9, -999.000, -999.000,9, -999.000,9, -999.000,9,   -999.0,9,   -999.0,9,-999.0000,-999,9,  -999.00,9,  -999.00,   -999.0,9,   -999.0,  15.8059,  26.1181
  49NZ20090521,   P21,   278,  1,     11, X12044,9,20090616,0428,-23.8685, 156.7187, 2204,    429.4,2,  12.8688,2,  12.87018,2,  35.0785,2,-999.0000,9,   186.49,2,  -999.00,9,  -999.00,9,  -999.00,  -999.00,9,  -999.00,  -999.00,9,  -999.00, -999.000,9, -999.000, -999.000,9, -999.000,9, -999.000,9,   -999.0,9,   -999.0,9,-999.0000,-999,9,  -999.00,9,  -999.00,   -999.0,9,   -999.0,  12.8096,  26.4919
  49NZ20090521,   P21,   278,  1,     10, X12048,9,20090616,0428,-23.8685, 156.7187, 2204,    531.6,2,   9.8799,2,   9.87987,2,  34.7335,2,-999.0000,9,   194.79,2,  -999.00,9,  -999.00,9,  -999.00,  -999.00,9,  -999.00,  -999.00,9,  -999.00, -999.000,9, -999.000, -999.000,9, -999.000,9, -999.000,9,   -999.0,9,   -999.0,9,-999.0000,-999,9,  -999.00,9,  -999.00,   -999.0,9,   -999.0,   9.8178,  26.7748
  49NZ20090521,   P21,   278,  1,      9, X12027,9,20090616,0428,-23.8685, 156.7187, 2204,    630.5,2,   7.9227,2,   7.92553,2,  34.5349,2,-999.0000,9,   202.32,2,  -999.00,9,  -999.00,9,  -999.00,  -999.00,9,  -999.00,  -999.00,9,  -999.00, -999.000,9, -999.000, -999.000,9, -999.000,9, -999.000,9,   -999.0,9,   -999.0,9,-999.0000,-999,9,  -999.00,9,  -999.00,   -999.0,9,   -999.0,   7.8579,  26.9297
  49NZ20090521,   P21,   278,  1,      8, X12026,9,20090616,0428,-23.8685, 156.7187, 2204,    732.0,2,   6.4856,2,   6.48713,2,  34.4458,2,-999.0000,9,   197.86,2,  -999.00,9,  -999.00,9,  -999.00,  -999.00,9,  -999.00,  -999.00,9,  -999.00, -999.000,9, -999.000, -999.000,9, -999.000,9, -999.000,9,   -999.0,9,   -999.0,9,-999.0000,-999,9,  -999.00,9,  -999.00,   -999.0,9,   -999.0,   6.4178,  27.0607
  49NZ20090521,   P21,   278,  1,      7, X12025,9,20090616,0428,-23.8685, 156.7187, 2204,    832.1,2,   5.8564,2,   5.85625,2,  34.4327,2,-999.0000,9,   191.96,2,  -999.00,9,  -999.00,9,  -999.00,  -999.00,9,  -999.00,  -999.00,9,  -999.00, -999.000,9, -999.000, -999.000,9, -999.000,9, -999.000,9,   -999.0,9,   -999.0,9,-999.0000,-999,9,  -999.00,9,  -999.00,   -999.0,9,   -999.0,   5.7828,  27.1316
  49NZ20090521,   P21,   278,  1,      6, X12024,9,20090616,0428,-23.8685, 156.7187, 2204,    930.8,2,   5.1484,2,   5.14867,2,  34.4433,2,-999.0000,9,   181.87,2,  -999.00,9,  -999.00,9,  -999.00,  -999.00,9,  -999.00,  -999.00,9,  -999.00, -999.000,9, -999.000, -999.000,9, -999.000,9, -999.000,9,   -999.0,9,   -999.0,9,-999.0000,-999,9,  -999.00,9,  -999.00,   -999.0,9,   -999.0,   5.0704,  27.2257
  49NZ20090521,   P21,   278,  1,      5, X12028,9,20090616,0428,-23.8685, 156.7187, 2204,   1069.6,2,   4.3707,2,   4.37079,2,  34.4793,2,-999.0000,9,   170.76,2,  -999.00,9,  -999.00,9,  -999.00,  -999.00,9,  -999.00,  -999.00,9,  -999.00, -999.000,9, -999.000, -999.000,9, -999.000,9, -999.000,9,   -999.0,9,   -999.0,9,-999.0000,-999,9,  -999.00,9,  -999.00,   -999.0,9,   -999.0,   4.2862,  27.3418
  49NZ20090521,   P21,   278,  1,      4, X12022,9,20090616,0428,-23.8685, 156.7187, 2204,   1270.5,2,   3.7050,2,   3.70492,2,  34.5234,2,-999.0000,9,   157.70,2,  -999.00,9,  -999.00,9,  -999.00,  -999.00,9,  -999.00,  -999.00,9,  -999.00, -999.000,9, -999.000, -999.000,9, -999.000,9, -999.000,9,   -999.0,9,   -999.0,9,-999.0000,-999,9,  -999.00,9,  -999.00,   -999.0,9,   -999.0,   3.6091,  27.4466
  49NZ20090521,   P21,   278,  1,      3, X12021,9,20090616,0428,-23.8685, 156.7187, 2204,    150.1,2,  20.1046,2,  20.10620,2,  35.6455,2,-999.0000,9,   181.84,2,  -999.00,9,  -999.00,9,  -999.00,  -999.00,9,  -999.00,  -999.00,9,  -999.00, -999.000,9, -999.000, -999.000,9, -999.000,9, -999.000,9,   -999.0,9,   -999.0,9,-999.0000,-999,9,  -999.00,9,  -999.00,   -999.0,9,   -999.0,  20.0767,  25.2339
  49NZ20090521,   P21,   278,  1,      2, X12020,9,20090616,0428,-23.8685, 156.7187, 2204,   1469.7,2,   3.2207,2,   3.22074,2,  34.5651,2,-999.0000,9,   149.66,2,  -999.00,9,  -999.00,9,  -999.00,  -999.00,9,  -999.00,  -999.00,9,  -999.00, -999.000,9, -999.000, -999.000,9, -999.000,9, -999.000,9,   -999.0,9,   -999.0,9,-999.0000,-999,9,  -999.00,9,  -999.00,   -999.0,9,   -999.0,   3.1129,  27.5275
  49NZ20090521,   P21,   278,  1,      1, X12019,2,20090616,0428,-23.8685, 156.7187, 2204,   2215.8,2,   2.1810,2,   2.18081,2,  34.6817,2,  34.6823,6,   168.23,2,   168.28,2,    95.29,2,     0.33,    33.41,2,     0.13,     0.01,2,     0.01,    2.355,2,    0.016,    0.009,2,    0.004,2,    0.000,2,   2277.3,2,   2369.8,2,   7.5966,  25,2,  -999.00,9,  -999.00,   -999.0,9,   -999.0,   2.0229,  27.7148