BOTTLE,20111109CCHDOSIOCBG
EXPOCODE,SECT_ID,STNNBR,CASTNO,SAMPNO,BTLNBR,BTLNBR_FLAG_W,DATE,TIME,LATITUDE,LONGITUDE,DEPTH,CTDPRS,CTDPRS_FLAG_W,CTDTMP,CTDTMP_FLAG_W,SBE35,SBE35_FLAG_W,CTDSAL,CTDSAL_FLAG_W,SALNTY,SALNTY_FLAG_W,CTDOXY,CTDOXY_FLAG_W,OXYGEN,OXYGEN_FLAG_W,SILCAT,SILCAT_FLAG_W,SILUNC,NITRAT,NITRAT_FLAG_W,NRAUNC,NITRIT,NITRIT_FLAG_W,NRIUNC,PHSPHT,PHSPHT_FLAG_W,PHPUNC,CFC-11,CFC-11_FLAG_W,CFC-12,CFC-12_FLAG_W,CFC113,CFC113_FLAG_W,TCARBN,TCARBN_FLAG_W,ALKALI,ALKALI_FLAG_W,PH_TOT,PH_TMP,PH_TOT_FLAG_W,DELC13,DELC13_FLAG_W,C13ERR,DELC14,DELC14_FLAG_W,C14ERR,THETA,SIG0
,,,,,,,,,,,METERS,DBAR,,ITS-90,,ITS-90,,PSS-78,,PSS-78,,UMOL/KG,,UMOL/KG,,UMOL/KG,,UMOL/KG,UMOL/KG,,UMOL/KG,UMOL/KG,,UMOL/KG,UMOL/KG,,UMOL/KG,PMOL/KG,,PMOL/KG,,PMOL/KG,,UMOL/KG,,UMOL/KG,,,DEG C,,/MILLE,,/MILLE,/MILLE,,/MILLE,DEG C,KG/M^3
  49NZ20090521,   P21,   236,  1,      0,   -999,9,20090609,0522,-17.8313, 169.3300, 2644,   -999.0,9,-999.0000,9,-999.00000,9,-999.0000,9,  34.8539,2,  -999.00,9,  -999.00,9,  -999.00,9,  -999.00,  -999.00,9,  -999.00,  -999.00,9,  -999.00, -999.000,9, -999.000, -999.000,9, -999.000,9, -999.000,9,   -999.0,9,   -999.0,9,-999.0000,-999,9,  -999.00,9,  -999.00,   -999.0,9,   -999.0,-999.0000,-999.0000
  49NZ20090521,   P21,   236,  1,     36, X12043,2,20090609,0522,-17.8313, 169.3300, 2644,     10.3,2,  26.7691,2,  26.76759,2,  34.8397,2,  34.8363,2,   201.36,2,   201.04,2,     0.74,2,     0.12,     0.09,2,     0.03,     0.01,2,     0.01,    0.059,2,    0.030,    1.522,2,    0.978,2, -999.000,5,   1937.7,2,   2289.5,2,   8.1334,  25,6,  -999.00,9,  -999.00,   -999.0,9,   -999.0,  26.7668,  22.6713
  49NZ20090521,   P21,   236,  1,     35, X12042,2,20090609,0522,-17.8313, 169.3300, 2644,     50.5,2,  26.6228,2,  26.62272,2,  34.8375,2,  34.8361,2,   201.28,2,   201.00,2,     0.71,2,     0.12,     0.09,2,     0.03,     0.01,2,     0.01,    0.059,2,    0.030,    1.520,2,    0.966,2, -999.000,5,   1938.2,6,   2288.9,2,   8.1327,  25,2,  -999.00,9,  -999.00,   -999.0,9,   -999.0,  26.6113,  22.7189
  49NZ20090521,   P21,   236,  1,     34, X12016,2,20090609,0522,-17.8313, 169.3300, 2644,    100.5,2,  25.4163,2,  25.42462,2,  35.3456,2,  35.3511,2,   173.51,2,   173.11,2,     0.84,2,     0.12,     1.87,2,     0.04,     0.07,2,     0.01,    0.280,2,    0.014,    1.701,6,    1.075,6, -999.000,5,   2012.6,2,   2320.5,6,   8.0523,  25,2,  -999.00,9,  -999.00,   -999.0,9,   -999.0,  25.3942,  23.4818
  49NZ20090521,   P21,   236,  1,     33, X12015,2,20090609,0522,-17.8313, 169.3300, 2644,    150.5,2,  23.3080,2,  23.32734,2,  35.7998,2,  35.8002,2,   153.94,2,   154.38,2,     0.99,2,     0.12,     4.11,2,     0.04,     0.02,2,     0.01,    0.479,2,    0.013,    1.851,2,    1.147,2,    0.103,2,   2071.8,2,   2352.2,2,   7.9925,  25,2,  -999.00,9,  -999.00,   -999.0,9,   -999.0,  23.2769,  24.4599
  49NZ20090521,   P21,   236,  1,     32, X12050,2,20090609,0522,-17.8313, 169.3300, 2644,    200.5,2,  21.2500,2,  21.25058,2,  35.6987,2,  35.6970,2,   162.14,2,   161.88,2,     1.09,2,     0.12,     4.78,2,     0.05,     0.02,2,     0.01,    0.472,2,    0.013,    1.984,2,    1.211,2,    0.074,2,   2076.1,2,   2342.1,2,   7.9719,  25,2,  -999.00,9,  -999.00,   -999.0,9,   -999.0,  21.2111,  24.9681
  49NZ20090521,   P21,   236,  1,     31, X12014,2,20090609,0522,-17.8313, 169.3300, 2644,    249.9,2,  19.1902,2,  19.19178,2,  35.6002,2,  35.5995,6,   158.17,2,   157.53,2,     1.86,2,     0.12,     6.98,2,     0.05,     0.01,2,     0.01,    0.663,2,    0.013,    2.076,2,    1.224,2,    0.036,2,   2102.0,2,   2339.8,2,   7.9229,  25,2,  -999.00,9,  -999.00,   -999.0,9,   -999.0,  19.1451,  25.4428
  49NZ20090521,   P21,   236,  1,     30, X12012,2,20090609,0522,-17.8313, 169.3300, 2644,    300.4,2,  17.3347,2,  17.31831,2,  35.4307,2,  35.4364,2,   166.59,2,   165.72,2,     2.34,2,     0.12,     7.92,2,     0.05,     0.01,2,     0.01,    0.701,2,    0.013,    2.137,2,    1.243,2,    0.041,2,   2102.1,2,   2327.0,2,   7.9018,  25,2,  -999.00,9,  -999.00,   -999.0,9,   -999.0,  17.2842,  25.7768
  49NZ20090521,   P21,   236,  1,     29, X12041,2,20090609,0522,-17.8313, 169.3300, 2644,    399.9,2,  12.9641,2,  12.96013,2,  34.9738,2,  34.9710,2,   170.46,2,   170.35,2,     5.59,2,     0.13,    14.40,2,     0.07,     0.01,2,     0.01,    1.124,2,    0.013,    1.989,6,    1.089,6,    0.054,6,   2128.7,2,   2304.9,2,   7.8046,  25,2,  -999.00,9,  -999.00,   -999.0,9,   -999.0,  12.9088,  26.3909
  49NZ20090521,   P21,   236,  1,     28, X12040,2,20090609,0522,-17.8313, 169.3300, 2644,    499.7,2,   9.3178,2,   9.31742,2,  34.6252,2,  34.6228,6,   179.17,2,   179.30,2,    11.21,2,     0.14,    21.42,2,     0.09,     0.01,2,     0.01,    1.571,2,    0.014,    1.596,2,    0.836,2,    0.060,2,   2153.8,2,   2293.8,2,   7.7213,  25,2,  -999.00,9,  -999.00,   -999.0,9,   -999.0,   9.2617,  26.7824
  49NZ20090521,   P21,   236,  1,     27, X12009,2,20090609,0522,-17.8313, 169.3300, 2644,    600.4,2,   7.0101,2,   7.01088,2,  34.4428,2,  34.4421,2,   195.08,2,   194.73,2,    15.99,2,     0.15,    25.58,2,     0.10,     0.01,2,     0.01,    1.816,2,    0.015,    1.211,6,    0.618,6,    0.043,6,   2165.3,2,   2289.9,2,   7.6870,  25,2,  -999.00,9,  -999.00,   -999.0,9,   -999.0,   6.9527,  26.9864
  49NZ20090521,   P21,   236,  1,     26, X12008,2,20090609,0522,-17.8313, 169.3300, 2644,    700.8,2,   6.0463,2,   6.04639,2,  34.4229,2,  34.4226,2,   181.31,2,   180.84,2,    26.37,2,     0.18,    28.90,2,     0.11,     0.01,2,     0.01,    2.042,2,    0.015,    0.625,2,    0.318,2,    0.030,2,   2187.8,6,   2297.2,2,   7.6491,  25,2,  -999.00,9,  -999.00,   -999.0,9,   -999.0,   5.9839,  27.0987
  49NZ20090521,   P21,   236,  1,     25, X12007,2,20090609,0522,-17.8313, 169.3300, 2644,    800.1,2,   5.4658,2,   5.46603,2,  34.4210,2,  34.4202,2,   176.46,2,   176.23,2,    33.56,2,     0.19,    30.49,2,     0.12,     0.01,2,     0.01,    2.151,2,    0.015,    0.429,2,    0.221,2,    0.012,2,   2199.8,2,   2304.1,6,   7.6329,  25,2,  -999.00,9,  -999.00,   -999.0,9,   -999.0,   5.3976,  27.1695
  49NZ20090521,   P21,   236,  1,     24, X12035,2,20090609,0522,-17.8313, 169.3300, 2644,    900.6,2,   4.7633,2,   4.76349,2,  34.4306,2,  34.4304,2,   168.05,2,   167.96,2,    44.31,2,     0.22,    32.28,2,     0.12,     0.01,2,     0.01,    2.268,2,    0.016,    0.200,2,    0.106,2,    0.000,2,   2217.5,2,   2314.9,2,   7.6113,  25,6,  -999.00,9,  -999.00,   -999.0,9,   -999.0,   4.6907,  27.2589
  49NZ20090521,   P21,   236,  1,     23, X12038,2,20090609,0522,-17.8313, 169.3300, 2644,   1000.1,2,   4.2259,2,   4.22594,2,  34.4500,2,  34.4500,6,   164.26,2,   164.18,2,    54.24,2,     0.24,    33.35,2,     0.13,     0.01,2,     0.01,    2.338,2,    0.016,    0.112,2,    0.063,2,    0.000,2,   2231.5,2,   2325.3,2,   7.6009,  25,2,  -999.00,9,  -999.00,   -999.0,9,   -999.0,   4.1486,  27.3331
  49NZ20090521,   P21,   236,  1,     22, X12034,2,20090609,0522,-17.8313, 169.3300, 2644,   1199.9,2,   3.4710,2,   3.47151,2,  34.5173,2,  34.5170,2,   155.59,2,   155.34,2,    75.99,2,     0.29,    34.53,2,     0.13,     0.01,2,     0.01,    2.426,2,    0.016,    0.048,2,    0.029,2,    0.000,2,   2259.5,2,   2350.2,2,   7.5881,  25,2,  -999.00,9,  -999.00,   -999.0,9,   -999.0,   3.3833,  27.4638
  49NZ20090521,   P21,   236,  1,     21, X12033,2,20090609,0522,-17.8313, 169.3300, 2644,   1399.2,2,   3.1950,2,   3.19515,2,  34.5447,2,  34.5446,2,   151.54,2,   151.47,2,    85.06,2,     0.31,    34.98,2,     0.13,     0.01,2,     0.01,    2.461,2,    0.016,    0.025,2,    0.017,2,    0.000,2,   2271.4,2,   2360.9,2,   7.5833,  25,2,  -999.00,9,  -999.00,   -999.0,9,   -999.0,   3.0935,  27.5130
  49NZ20090521,   P21,   236,  1,     20, X12032,2,20090609,0522,-17.8313, 169.3300, 2644,   1600.4,2,   2.8952,2,   2.89529,2,  34.5738,2,  34.5736,2,   148.70,2,   148.46,2,    94.60,2,     0.33,    35.37,2,     0.13,     0.01,2,     0.01,    2.492,2,    0.016,    0.013,2,    0.010,2,    0.000,2,   2282.5,2,   2371.6,2,   7.5797,  25,6,  -999.00,9,  -999.00,   -999.0,9,   -999.0,   2.7802,  27.5647
  49NZ20090521,   P21,   236,  1,     19, X12046,2,20090609,0522,-17.8313, 169.3300, 2644,   1799.8,2,   2.7710,2,   2.77072,2,  34.5864,2,  34.5866,6,   147.46,2,   147.16,2,    99.08,2,     0.34,    35.54,2,     0.13,     0.01,2,     0.01,    2.501,2,    0.016,    0.008,2,    0.005,2,    0.000,2,   2288.7,2,   2377.2,2,   7.5778,  25,2,  -999.00,9,  -999.00,   -999.0,9,   -999.0,   2.6406,  27.5870
  49NZ20090521,   P21,   236,  1,     18, X12006,2,20090609,0522,-17.8313, 169.3300, 2644,   2000.4,2,   2.7288,2,   2.72876,2,  34.5918,2,  34.5916,2,   146.62,2,   146.38,2,   100.96,2,     0.34,    35.63,2,     0.13,     0.01,2,     0.01,    2.511,2,    0.016,    0.008,2,    0.005,2,    0.000,2,   2290.7,2,   2378.1,2,   7.5772,  25,2,  -999.00,9,  -999.00,   -999.0,9,   -999.0,   2.5814,  27.5965
  49NZ20090521,   P21,   236,  1,     17, X12047,2,20090609,0522,-17.8313, 169.3300, 2644,   2200.7,2,   2.7243,2,   2.72432,2,  34.5938,2,  34.5935,2,   146.58,2,   146.33,2,   101.43,2,     0.34,    35.62,2,     0.13,     0.01,2,     0.01,    2.510,2,    0.016,    0.006,2,    0.005,2,    0.000,2,   2291.0,2,   2379.1,2,   7.5775,  25,2,  -999.00,9,  -999.00,   -999.0,9,   -999.0,   2.5589,  27.6001
  49NZ20090521,   P21,   236,  1,     16, X12004,2,20090609,0522,-17.8313, 169.3300, 2644,   2401.2,2,   2.7290,2,   2.72890,2,  34.5950,2,  34.5947,2,   146.48,2,   146.22,2,   102.00,2,     0.34,    35.64,2,     0.13,     0.01,2,     0.01,    2.514,2,    0.016,    0.005,2,    0.004,2,    0.000,2,   2291.7,6,   2380.5,2,   7.5778,  25,2,  -999.00,9,  -999.00,   -999.0,9,   -999.0,   2.5449,  27.6022
  49NZ20090521,   P21,   236,  1,     15, X12003,2,20090609,0522,-17.8313, 169.3300, 2644,   2601.2,2,   2.7446,2,   2.74449,2,  34.5954,2,  34.5951,2,   146.17,2,   145.70,2,   102.22,2,     0.34,    35.68,2,     0.13,     0.01,2,     0.01,    2.519,2,    0.016,    0.007,2,    0.004,2,    0.000,2,   2291.8,2,   2379.7,6,   7.5775,  25,2,  -999.00,9,  -999.00,   -999.0,9,   -999.0,   2.5410,  27.6029
  49NZ20090521,   P21,   236,  1,     14, X12002,9,20090609,0522,-17.8313, 169.3300, 2644,     10.5,2,  26.7597,2,  26.76107,2,  34.8389,2,-999.0000,9,   201.38,2,  -999.00,9,  -999.00,9,  -999.00,  -999.00,9,  -999.00,  -999.00,9,  -999.00, -999.000,9, -999.000, -999.000,9, -999.000,9, -999.000,9,   -999.0,9,   -999.0,9,-999.0000,-999,9,  -999.00,9,  -999.00,   -999.0,9,   -999.0,  26.7573,  22.6737
  49NZ20090521,   P21,   236,  1,     13, X12001,9,20090609,0522,-17.8313, 169.3300, 2644,     10.5,2,  26.7582,2,  26.75831,2,  34.8394,2,-999.0000,9,   201.48,2,  -999.00,9,  -999.00,9,  -999.00,  -999.00,9,  -999.00,  -999.00,9,  -999.00, -999.000,9, -999.000, -999.000,9, -999.000,9, -999.000,9,   -999.0,9,   -999.0,9,-999.0000,-999,9,  -999.00,9,  -999.00,   -999.0,9,   -999.0,  26.7558,  22.6745
  49NZ20090521,   P21,   236,  1,     12, X12030,9,20090609,0522,-17.8313, 169.3300, 2644,     50.5,2,  26.6243,2,  26.62343,2,  34.8380,2,-999.0000,9,   201.30,2,  -999.00,9,  -999.00,9,  -999.00,  -999.00,9,  -999.00,  -999.00,9,  -999.00, -999.000,9, -999.000, -999.000,9, -999.000,9, -999.000,9,   -999.0,9,   -999.0,9,-999.0000,-999,9,  -999.00,9,  -999.00,   -999.0,9,   -999.0,  26.6128,  22.7187
  49NZ20090521,   P21,   236,  1,     11, X12044,9,20090609,0522,-17.8313, 169.3300, 2644,    100.9,2,  25.4303,2,  25.43050,2,  35.3422,2,-999.0000,9,   173.55,2,  -999.00,9,  -999.00,9,  -999.00,  -999.00,9,  -999.00,  -999.00,9,  -999.00, -999.000,9, -999.000, -999.000,9, -999.000,9, -999.000,9,   -999.0,9,   -999.0,9,-999.0000,-999,9,  -999.00,9,  -999.00,   -999.0,9,   -999.0,  25.4081,  23.4750
  49NZ20090521,   P21,   236,  1,     10, X12048,9,20090609,0522,-17.8313, 169.3300, 2644,    150.7,2,  23.3703,2,  23.37170,2,  35.8009,2,-999.0000,9,   154.48,2,  -999.00,9,  -999.00,9,  -999.00,  -999.00,9,  -999.00,  -999.00,9,  -999.00, -999.000,9, -999.000, -999.000,9, -999.000,9, -999.000,9,   -999.0,9,   -999.0,9,-999.0000,-999,9,  -999.00,9,  -999.00,   -999.0,9,   -999.0,  23.3391,  24.4426
  49NZ20090521,   P21,   236,  1,      9, X12027,9,20090609,0522,-17.8313, 169.3300, 2644,    200.2,2,  21.2281,2,  21.23297,2,  35.6985,2,-999.0000,9,   162.27,2,  -999.00,9,  -999.00,9,  -999.00,  -999.00,9,  -999.00,  -999.00,9,  -999.00, -999.000,9, -999.000, -999.000,9, -999.000,9, -999.000,9,   -999.0,9,   -999.0,9,-999.0000,-999,9,  -999.00,9,  -999.00,   -999.0,9,   -999.0,  21.1893,  24.9740
  49NZ20090521,   P21,   236,  1,      8, X12026,9,20090609,0522,-17.8313, 169.3300, 2644,    250.5,2,  19.1912,2,  19.19226,2,  35.6001,2,-999.0000,9,   158.17,2,  -999.00,9,  -999.00,9,  -999.00,  -999.00,9,  -999.00,  -999.00,9,  -999.00, -999.000,9, -999.000, -999.000,9, -999.000,9, -999.000,9,   -999.0,9,   -999.0,9,-999.0000,-999,9,  -999.00,9,  -999.00,   -999.0,9,   -999.0,  19.1460,  25.4424
  49NZ20090521,   P21,   236,  1,      7, X12025,9,20090609,0522,-17.8313, 169.3300, 2644,    300.8,2,  17.2235,2,  17.20949,2,  35.4198,2,-999.0000,9,   166.39,2,  -999.00,9,  -999.00,9,  -999.00,  -999.00,9,  -999.00,  -999.00,9,  -999.00, -999.000,9, -999.000, -999.000,9, -999.000,9, -999.000,9,   -999.0,9,   -999.0,9,-999.0000,-999,9,  -999.00,9,  -999.00,   -999.0,9,   -999.0,  17.1731,  25.7952
  49NZ20090521,   P21,   236,  1,      6, X12024,9,20090609,0522,-17.8313, 169.3300, 2644,    400.0,2,  12.9513,2,  12.94503,2,  34.9730,2,-999.0000,9,   170.72,2,  -999.00,9,  -999.00,9,  -999.00,  -999.00,9,  -999.00,  -999.00,9,  -999.00, -999.000,9, -999.000, -999.000,9, -999.000,9, -999.000,9,   -999.0,9,   -999.0,9,-999.0000,-999,9,  -999.00,9,  -999.00,   -999.0,9,   -999.0,  12.8960,  26.3928
  49NZ20090521,   P21,   236,  1,      5, X12028,9,20090609,0522,-17.8313, 169.3300, 2644,    499.9,2,   9.3067,2,   9.30793,2,  34.6247,2,-999.0000,9,   179.38,2,  -999.00,9,  -999.00,9,  -999.00,  -999.00,9,  -999.00,  -999.00,9,  -999.00, -999.000,9, -999.000, -999.000,9, -999.000,9, -999.000,9,   -999.0,9,   -999.0,9,-999.0000,-999,9,  -999.00,9,  -999.00,   -999.0,9,   -999.0,   9.2506,  26.7838
  49NZ20090521,   P21,   236,  1,      4, X12022,9,20090609,0522,-17.8313, 169.3300, 2644,    600.3,2,   7.0173,2,   7.01787,2,  34.4436,2,-999.0000,9,   195.06,2,  -999.00,9,  -999.00,9,  -999.00,  -999.00,9,  -999.00,  -999.00,9,  -999.00, -999.000,9, -999.000, -999.000,9, -999.000,9, -999.000,9,   -999.0,9,   -999.0,9,-999.0000,-999,9,  -999.00,9,  -999.00,   -999.0,9,   -999.0,   6.9599,  26.9860
  49NZ20090521,   P21,   236,  1,      3, X12021,9,20090609,0522,-17.8313, 169.3300, 2644,    700.8,2,   6.0456,2,   6.04598,2,  34.4229,2,-999.0000,9,   181.33,2,  -999.00,9,  -999.00,9,  -999.00,  -999.00,9,  -999.00,  -999.00,9,  -999.00, -999.000,9, -999.000, -999.000,9, -999.000,9, -999.000,9,   -999.0,9,   -999.0,9,-999.0000,-999,9,  -999.00,9,  -999.00,   -999.0,9,   -999.0,   5.9832,  27.0988
  49NZ20090521,   P21,   236,  1,      2, X12020,9,20090609,0522,-17.8313, 169.3300, 2644,   1399.4,2,   3.1963,2,   3.19665,2,  34.5446,2,-999.0000,9,   151.53,2,  -999.00,9,  -999.00,9,  -999.00,  -999.00,9,  -999.00,  -999.00,9,  -999.00, -999.000,9, -999.000, -999.000,9, -999.000,9, -999.000,9,   -999.0,9,   -999.0,9,-999.0000,-999,9,  -999.00,9,  -999.00,   -999.0,9,   -999.0,   3.0947,  27.5128
  49NZ20090521,   P21,   236,  1,      1, X12019,2,20090609,0522,-17.8313, 169.3300, 2644,   2666.0,2,   2.7500,2,   2.74996,2,  34.5955,2,  34.5953,6,   146.16,2,   145.76,2,   102.26,2,     0.34,    35.60,2,     0.13,     0.01,2,     0.01,    2.517,2,    0.016,    0.007,2,    0.005,2,    0.000,2,   2291.9,2,   2380.8,2,   7.5776,  25,2,  -999.00,9,  -999.00,   -999.0,9,   -999.0,   2.5399,  27.6031