BOTTLE,20111109CCHDOSIOCBG
EXPOCODE,SECT_ID,STNNBR,CASTNO,SAMPNO,BTLNBR,BTLNBR_FLAG_W,DATE,TIME,LATITUDE,LONGITUDE,DEPTH,CTDPRS,CTDPRS_FLAG_W,CTDTMP,CTDTMP_FLAG_W,SBE35,SBE35_FLAG_W,CTDSAL,CTDSAL_FLAG_W,SALNTY,SALNTY_FLAG_W,CTDOXY,CTDOXY_FLAG_W,OXYGEN,OXYGEN_FLAG_W,SILCAT,SILCAT_FLAG_W,SILUNC,NITRAT,NITRAT_FLAG_W,NRAUNC,NITRIT,NITRIT_FLAG_W,NRIUNC,PHSPHT,PHSPHT_FLAG_W,PHPUNC,CFC-11,CFC-11_FLAG_W,CFC-12,CFC-12_FLAG_W,CFC113,CFC113_FLAG_W,TCARBN,TCARBN_FLAG_W,ALKALI,ALKALI_FLAG_W,PH_TOT,PH_TMP,PH_TOT_FLAG_W,DELC13,DELC13_FLAG_W,C13ERR,DELC14,DELC14_FLAG_W,C14ERR,THETA,SIG0
,,,,,,,,,,,METERS,DBAR,,ITS-90,,ITS-90,,PSS-78,,PSS-78,,UMOL/KG,,UMOL/KG,,UMOL/KG,,UMOL/KG,UMOL/KG,,UMOL/KG,UMOL/KG,,UMOL/KG,UMOL/KG,,UMOL/KG,PMOL/KG,,PMOL/KG,,PMOL/KG,,UMOL/KG,,UMOL/KG,,,DEG C,,/MILLE,,/MILLE,/MILLE,,/MILLE,DEG C,KG/M^3
  49NZ20090521,   P21,   212,  1,      0,   -999,9,20090605,0202,-17.7513,-178.2502, 1942,   -999.0,9,-999.0000,9,-999.00000,9,-999.0000,9,  35.5431,2,  -999.00,9,  -999.00,9,  -999.00,9,  -999.00,  -999.00,9,  -999.00,  -999.00,9,  -999.00, -999.000,9, -999.000, -999.000,9, -999.000,9, -999.000,9,   -999.0,9,   -999.0,9,-999.0000,-999,9,  -999.00,9,  -999.00,   -999.0,9,   -999.0,-999.0000,-999.0000
  49NZ20090521,   P21,   212,  1,     36, X12043,2,20090605,0202,-17.7513,-178.2502, 1942,     10.1,2,  27.6451,2,  27.64540,2,  35.5185,2,  35.5164,2,   197.70,2,   198.00,2,     0.73,2,     0.12,     0.05,2,     0.03,     0.01,2,     0.01,    0.122,2,    0.020,    1.434,2,    0.904,2, -999.000,5,   1974.0,2,   2337.3,2,   8.1391,  25,2,  -999.00,9,  -999.00,   -999.0,9,   -999.0,  27.6427,  22.9011
  49NZ20090521,   P21,   212,  1,     35, X12042,2,20090605,0202,-17.7513,-178.2502, 1942,     50.7,2,  27.6190,2,  27.61852,2,  35.5162,2,  35.5146,2,   197.41,2,   197.98,2,     0.69,2,     0.12,     0.05,2,     0.03,     0.01,2,     0.01,    0.124,2,    0.020,    1.437,2,    0.907,2, -999.000,5,   1973.7,6,   2337.4,2,   8.1380,  25,2,  -999.00,9,  -999.00,   -999.0,9,   -999.0,  27.6072,  22.9110
  49NZ20090521,   P21,   212,  1,     34, X12016,2,20090605,0202,-17.7513,-178.2502, 1942,    101.3,2,  26.1444,2,  26.15001,2,  35.8026,2,  35.7864,2,   189.88,2,   189.27,2,     0.71,2,     0.12,     0.23,2,     0.03,     0.12,2,     0.01,    0.206,2,    0.016,    1.609,6,    1.003,6, -999.000,5,   2017.1,2,   2353.9,6,   8.0893,  25,2,  -999.00,9,  -999.00,   -999.0,9,   -999.0,  26.1216,  23.6009
  49NZ20090521,   P21,   212,  1,     33, X12015,2,20090605,0202,-17.7513,-178.2502, 1942,    150.2,2,  24.5834,2,  24.58478,2,  36.0158,2,  36.0078,2,   167.91,2,   168.51,2,     0.75,2,     0.12,     1.57,2,     0.04,     0.03,2,     0.01,    0.353,2,    0.014,    1.743,2,    1.068,2,    0.182,4,   2063.7,2,   2368.1,2,   8.0348,  25,6,  -999.00,9,  -999.00,   -999.0,9,   -999.0,  24.5511,  24.2455
  49NZ20090521,   P21,   212,  1,     32, X12050,2,20090605,0202,-17.7513,-178.2502, 1942,    200.6,2,  22.6741,2,  22.67501,2,  36.0474,2,  36.0528,2,   161.51,2,   161.32,2,     0.91,2,     0.12,     3.64,2,     0.04,     0.02,2,     0.01,    0.506,2,    0.013,    1.904,2,    1.134,2,    0.093,2,   2097.7,2,   2373.3,2,   7.9848,  25,2,  -999.00,9,  -999.00,   -999.0,9,   -999.0,  22.6333,  24.8340
  49NZ20090521,   P21,   212,  1,     31, X12014,2,20090605,0202,-17.7513,-178.2502, 1942,    251.8,2,  19.6548,2,  19.65210,2,  35.6555,2,  35.6547,6,   160.94,2,   161.22,2,     1.57,2,     0.12,     5.99,2,     0.05,     0.01,2,     0.01,    0.643,2,    0.013,    2.112,2,    1.218,2,    0.046,2,   2105.1,2,   2347.2,2,   7.9306,  25,2,  -999.00,9,  -999.00,   -999.0,9,   -999.0,  19.6086,  25.3648
  49NZ20090521,   P21,   212,  1,     30, X12012,2,20090605,0202,-17.7513,-178.2502, 1942,    330.4,2,  16.3777,2,  16.39001,2,  35.2536,2,  35.2568,2,   154.46,2,   154.87,2,     3.69,2,     0.13,    10.11,2,     0.06,     0.01,2,     0.01,    0.931,2,    0.013,    2.087,2,    1.146,2,    0.027,2,   2122.0,2,   2323.7,2,   7.8574,  25,2,  -999.00,9,  -999.00,   -999.0,9,   -999.0,  16.3243,  25.8679
  49NZ20090521,   P21,   212,  1,     29, X12041,2,20090605,0202,-17.7513,-178.2502, 1942,    431.3,2,  12.2620,2,  12.26675,2,  34.8710,2,  34.8741,2,   185.55,2,   185.52,2,     4.41,2,     0.13,    13.51,2,     0.07,     0.01,2,     0.01,    1.057,2,    0.013,    2.288,6,    1.196,6,    0.049,6,   2123.8,2,   2300.0,2,   7.8092,  25,2,  -999.00,9,  -999.00,   -999.0,9,   -999.0,  12.2045,  26.4496
  49NZ20090521,   P21,   212,  1,     28, X12040,2,20090605,0202,-17.7513,-178.2502, 1942,    530.4,2,   8.0015,2,   8.01786,2,  34.4702,2,  34.4742,6,   198.05,2,   197.66,2,     9.58,2,     0.14,    22.56,2,     0.10,     0.01,2,     0.01,    1.620,2,    0.014,    1.903,2,    0.938,2,    0.061,2,   2157.1,2,   2286.0,2,   7.7106,  25,2,  -999.00,9,  -999.00,   -999.0,9,   -999.0,   7.9471,  26.8656
  49NZ20090521,   P21,   212,  1,     27, X12009,2,20090605,0202,-17.7513,-178.2502, 1942,    631.4,2,   6.4435,2,   6.44414,2,  34.3721,2,  34.3726,2,   203.41,2,   203.10,2,    14.89,2,     0.15,    26.39,2,     0.11,     0.01,2,     0.01,    1.858,2,    0.015,    1.249,6,    0.606,6,    0.036,6,   2167.2,2,   2286.0,2,   7.6808,  25,2,  -999.00,9,  -999.00,   -999.0,9,   -999.0,   6.3858,  27.0067
  49NZ20090521,   P21,   212,  1,     26, X12008,2,20090605,0202,-17.7513,-178.2502, 1942,    729.1,2,   5.6237,2,   5.62306,2,  34.3646,2,  34.3643,2,   188.57,2,   188.46,2,    24.01,2,     0.17,    29.51,2,     0.12,     0.00,2,     0.01,    2.071,2,    0.015,    0.579,2,    0.290,2,    0.012,2,   2187.3,6,   2294.4,2,   7.6458,  25,2,  -999.00,9,  -999.00,   -999.0,9,   -999.0,   5.5611,  27.1051
  49NZ20090521,   P21,   212,  1,     25, X12007,2,20090605,0202,-17.7513,-178.2502, 1942,    830.9,2,   5.0470,2,   5.04702,2,  34.3842,2,  34.3842,2,   177.11,2,   176.99,2,    33.87,2,     0.19,    31.49,2,     0.12,     0.00,2,     0.01,    2.203,2,    0.016,    0.307,2,    0.154,2,    0.000,2,   2206.4,2,   2304.1,6,   7.6223,  25,2,  -999.00,9,  -999.00,   -999.0,9,   -999.0,   4.9787,  27.1895
  49NZ20090521,   P21,   212,  1,     24, X12035,2,20090605,0202,-17.7513,-178.2502, 1942,    930.3,2,   4.4262,2,   4.42485,2,  34.4222,2,  34.4220,2,   164.62,2,   164.77,2,    47.06,2,     0.22,    33.32,2,     0.13,     0.00,2,     0.01,    2.339,2,    0.016,    0.115,2,    0.059,2,    0.000,2,   2227.5,2,   2317.9,2,   7.5995,  25,6,  -999.00,9,  -999.00,   -999.0,9,   -999.0,   4.3534,  27.2892
  49NZ20090521,   P21,   212,  1,     23, X12038,2,20090605,0202,-17.7513,-178.2502, 1942,   1070.1,2,   3.8091,2,   3.80846,2,  34.4629,2,  34.4622,6,   160.50,2,   160.72,2,    60.76,2,     0.25,    34.20,2,     0.13,     0.00,2,     0.01,    2.402,2,    0.016,    0.058,2,    0.031,2,    0.000,2,   2243.8,2,   2333.1,2,   7.5903,  25,2,  -999.00,9,  -999.00,   -999.0,9,   -999.0,   3.7292,  27.3865
  49NZ20090521,   P21,   212,  1,     22, X12034,2,20090605,0202,-17.7513,-178.2502, 1942,   1269.6,2,   3.2672,2,   3.26696,2,  34.5191,2,  34.5196,2,   153.57,2,   153.79,2,    78.36,2,     0.29,    35.00,2,     0.13,     0.00,2,     0.01,    2.464,2,    0.016,    0.022,2,    0.011,2,    0.000,2,   2265.2,2,   2353.0,2,   7.5816,  25,2,  -999.00,9,  -999.00,   -999.0,9,   -999.0,   3.1757,  27.4849
  49NZ20090521,   P21,   212,  1,     21, X12033,2,20090605,0202,-17.7513,-178.2502, 1942,   1471.0,2,   2.8470,2,   2.84693,2,  34.5659,2,  34.5660,6,   149.07,2,   149.30,2,    93.25,2,     0.32,    35.42,2,     0.13,     0.00,2,     0.01,    2.507,2,    0.016,    0.012,2,    0.008,2,    0.000,2,   2284.6,2,   2369.6,2,   7.5788,  25,2,  -999.00,9,  -999.00,   -999.0,9,   -999.0,   2.7433,  27.5617
  49NZ20090521,   P21,   212,  1,     20, X12032,2,20090605,0202,-17.7513,-178.2502, 1942,   1670.4,2,   2.5988,2,   2.59860,2,  34.5884,2,  34.5886,2,   149.36,2,   149.39,2,   101.18,2,     0.34,    35.58,2,     0.13,     0.00,2,     0.01,    2.507,2,    0.016,    0.006,2,    0.010,2,    0.000,2,   2292.1,2,   2379.1,2,   7.5803,  25,6,  -999.00,9,  -999.00,   -999.0,9,   -999.0,   2.4816,  27.6023
  49NZ20090521,   P21,   212,  1,     19, X12046,2,20090605,0202,-17.7513,-178.2502, 1942,   1869.5,2,   2.4408,2,   2.44034,2,  34.6078,2,  34.6082,2,   147.26,2,   147.23,2,   107.96,2,     0.36,    35.71,2,     0.13,     0.00,2,     0.01,    2.525,2,    0.016,    0.005,2,    0.011,2,    0.000,2,   2302.7,2,   2386.9,2,   7.5791,  25,2,  -999.00,9,  -999.00,   -999.0,9,   -999.0,   2.3090,  27.6324
  49NZ20090521,   P21,   212,  1,     18, X12006,9,20090605,0202,-17.7513,-178.2502, 1942,      9.6,2,  27.6456,2,-999.00000,9,  35.5187,2,-999.0000,9,   197.63,2,  -999.00,9,  -999.00,9,  -999.00,  -999.00,9,  -999.00,  -999.00,9,  -999.00, -999.000,9, -999.000, -999.000,9, -999.000,9, -999.000,9,   -999.0,9,   -999.0,9,-999.0000,-999,9,  -999.00,9,  -999.00,   -999.0,9,   -999.0,  27.6434,  22.9011
  49NZ20090521,   P21,   212,  1,     17, X12047,9,20090605,0202,-17.7513,-178.2502, 1942,     10.1,2,  27.6446,2,  27.64479,2,  35.5186,2,-999.0000,9,   197.58,2,  -999.00,9,  -999.00,9,  -999.00,  -999.00,9,  -999.00,  -999.00,9,  -999.00, -999.000,9, -999.000, -999.000,9, -999.000,9, -999.000,9,   -999.0,9,   -999.0,9,-999.0000,-999,9,  -999.00,9,  -999.00,   -999.0,9,   -999.0,  27.6422,  22.9014
  49NZ20090521,   P21,   212,  1,     16, X12004,9,20090605,0202,-17.7513,-178.2502, 1942,     51.1,2,  27.6196,2,  27.61937,2,  35.5164,2,-999.0000,9,   197.41,2,  -999.00,9,  -999.00,9,  -999.00,  -999.00,9,  -999.00,  -999.00,9,  -999.00, -999.000,9, -999.000, -999.000,9, -999.000,9, -999.000,9,   -999.0,9,   -999.0,9,-999.0000,-999,9,  -999.00,9,  -999.00,   -999.0,9,   -999.0,  27.6077,  22.9110
  49NZ20090521,   P21,   212,  1,     15, X12003,9,20090605,0202,-17.7513,-178.2502, 1942,    100.5,2,  26.1394,2,  26.14087,2,  35.7828,2,-999.0000,9,   188.65,2,  -999.00,9,  -999.00,9,  -999.00,  -999.00,9,  -999.00,  -999.00,9,  -999.00, -999.000,9, -999.000, -999.000,9, -999.000,9, -999.000,9,   -999.0,9,   -999.0,9,-999.0000,-999,9,  -999.00,9,  -999.00,   -999.0,9,   -999.0,  26.1168,  23.5875
  49NZ20090521,   P21,   212,  1,     14, X12002,9,20090605,0202,-17.7513,-178.2502, 1942,    150.6,2,  24.5844,2,  24.58259,2,  36.0205,2,-999.0000,9,   167.80,2,  -999.00,9,  -999.00,9,  -999.00,  -999.00,9,  -999.00,  -999.00,9,  -999.00, -999.000,9, -999.000, -999.000,9, -999.000,9, -999.000,9,   -999.0,9,   -999.0,9,-999.0000,-999,9,  -999.00,9,  -999.00,   -999.0,9,   -999.0,  24.5520,  24.2488
  49NZ20090521,   P21,   212,  1,     13, X12001,9,20090605,0202,-17.7513,-178.2502, 1942,    200.7,2,  22.6629,2,  22.66535,2,  36.0437,2,-999.0000,9,   161.62,2,  -999.00,9,  -999.00,9,  -999.00,  -999.00,9,  -999.00,  -999.00,9,  -999.00, -999.000,9, -999.000, -999.000,9, -999.000,9, -999.000,9,   -999.0,9,   -999.0,9,-999.0000,-999,9,  -999.00,9,  -999.00,   -999.0,9,   -999.0,  22.6221,  24.8343
  49NZ20090521,   P21,   212,  1,     12, X12030,9,20090605,0202,-17.7513,-178.2502, 1942,    252.3,2,  19.6503,2,  19.64988,2,  35.6549,2,-999.0000,9,   161.17,2,  -999.00,9,  -999.00,9,  -999.00,  -999.00,9,  -999.00,  -999.00,9,  -999.00, -999.000,9, -999.000, -999.000,9, -999.000,9, -999.000,9,   -999.0,9,   -999.0,9,-999.0000,-999,9,  -999.00,9,  -999.00,   -999.0,9,   -999.0,  19.6040,  25.3655
  49NZ20090521,   P21,   212,  1,     11, X12044,9,20090605,0202,-17.7513,-178.2502, 1942,    330.9,2,  16.3958,2,  16.39797,2,  35.2548,2,-999.0000,9,   154.57,2,  -999.00,9,  -999.00,9,  -999.00,  -999.00,9,  -999.00,  -999.00,9,  -999.00, -999.000,9, -999.000, -999.000,9, -999.000,9, -999.000,9,   -999.0,9,   -999.0,9,-999.0000,-999,9,  -999.00,9,  -999.00,   -999.0,9,   -999.0,  16.3422,  25.8647
  49NZ20090521,   P21,   212,  1,     10, X12048,9,20090605,0202,-17.7513,-178.2502, 1942,    431.5,2,  12.2339,2,  12.23849,2,  34.8693,2,-999.0000,9,   185.75,2,  -999.00,9,  -999.00,9,  -999.00,  -999.00,9,  -999.00,  -999.00,9,  -999.00, -999.000,9, -999.000, -999.000,9, -999.000,9, -999.000,9,   -999.0,9,   -999.0,9,-999.0000,-999,9,  -999.00,9,  -999.00,   -999.0,9,   -999.0,  12.1764,  26.4537
  49NZ20090521,   P21,   212,  1,      9, X12027,9,20090605,0202,-17.7513,-178.2502, 1942,    530.2,2,   8.0354,2,   8.02900,2,  34.4725,2,-999.0000,9,   197.70,2,  -999.00,9,  -999.00,9,  -999.00,  -999.00,9,  -999.00,  -999.00,9,  -999.00, -999.000,9, -999.000, -999.000,9, -999.000,9, -999.000,9,   -999.0,9,   -999.0,9,-999.0000,-999,9,  -999.00,9,  -999.00,   -999.0,9,   -999.0,   7.9809,  26.8624
  49NZ20090521,   P21,   212,  1,      8, X12026,9,20090605,0202,-17.7513,-178.2502, 1942,    631.3,2,   6.4445,2,   6.44465,2,  34.3715,2,-999.0000,9,   204.12,2,  -999.00,9,  -999.00,9,  -999.00,  -999.00,9,  -999.00,  -999.00,9,  -999.00, -999.000,9, -999.000, -999.000,9, -999.000,9, -999.000,9,   -999.0,9,   -999.0,9,-999.0000,-999,9,  -999.00,9,  -999.00,   -999.0,9,   -999.0,   6.3868,  27.0061
  49NZ20090521,   P21,   212,  1,      7, X12025,9,20090605,0202,-17.7513,-178.2502, 1942,    729.5,2,   5.6166,2,   5.61435,2,  34.3647,2,-999.0000,9,   188.73,2,  -999.00,9,  -999.00,9,  -999.00,  -999.00,9,  -999.00,  -999.00,9,  -999.00, -999.000,9, -999.000, -999.000,9, -999.000,9, -999.000,9,   -999.0,9,   -999.0,9,-999.0000,-999,9,  -999.00,9,  -999.00,   -999.0,9,   -999.0,   5.5540,  27.1060
  49NZ20090521,   P21,   212,  1,      6, X12024,9,20090605,0202,-17.7513,-178.2502, 1942,    830.8,2,   5.0398,2,   5.03964,2,  34.3849,2,-999.0000,9,   177.09,2,  -999.00,9,  -999.00,9,  -999.00,  -999.00,9,  -999.00,  -999.00,9,  -999.00, -999.000,9, -999.000, -999.000,9, -999.000,9, -999.000,9,   -999.0,9,   -999.0,9,-999.0000,-999,9,  -999.00,9,  -999.00,   -999.0,9,   -999.0,   4.9715,  27.1909
  49NZ20090521,   P21,   212,  1,      5, X12028,9,20090605,0202,-17.7513,-178.2502, 1942,    929.8,2,   4.4268,2,   4.42452,2,  34.4224,2,-999.0000,9,   164.64,2,  -999.00,9,  -999.00,9,  -999.00,  -999.00,9,  -999.00,  -999.00,9,  -999.00, -999.000,9, -999.000, -999.000,9, -999.000,9, -999.000,9,   -999.0,9,   -999.0,9,-999.0000,-999,9,  -999.00,9,  -999.00,   -999.0,9,   -999.0,   4.3540,  27.2893
  49NZ20090521,   P21,   212,  1,      4, X12022,9,20090605,0202,-17.7513,-178.2502, 1942,   1069.2,2,   3.8075,2,   3.80715,2,  34.4629,2,-999.0000,9,   160.57,2,  -999.00,9,  -999.00,9,  -999.00,  -999.00,9,  -999.00,  -999.00,9,  -999.00, -999.000,9, -999.000, -999.000,9, -999.000,9, -999.000,9,   -999.0,9,   -999.0,9,-999.0000,-999,9,  -999.00,9,  -999.00,   -999.0,9,   -999.0,   3.7277,  27.3867
  49NZ20090521,   P21,   212,  1,      3, X12021,9,20090605,0202,-17.7513,-178.2502, 1942,   1270.3,2,   3.2644,2,   3.26466,2,  34.5195,2,-999.0000,9,   153.67,2,  -999.00,9,  -999.00,9,  -999.00,  -999.00,9,  -999.00,  -999.00,9,  -999.00, -999.000,9, -999.000, -999.000,9, -999.000,9, -999.000,9,   -999.0,9,   -999.0,9,-999.0000,-999,9,  -999.00,9,  -999.00,   -999.0,9,   -999.0,   3.1729,  27.4855
  49NZ20090521,   P21,   212,  1,      2, X12020,9,20090605,0202,-17.7513,-178.2502, 1942,   1470.6,2,   2.8462,2,   2.84592,2,  34.5660,2,-999.0000,9,   149.13,2,  -999.00,9,  -999.00,9,  -999.00,  -999.00,9,  -999.00,  -999.00,9,  -999.00, -999.000,9, -999.000, -999.000,9, -999.000,9, -999.000,9,   -999.0,9,   -999.0,9,-999.0000,-999,9,  -999.00,9,  -999.00,   -999.0,9,   -999.0,   2.7426,  27.5618
  49NZ20090521,   P21,   212,  1,      1, X12019,2,20090605,0202,-17.7513,-178.2502, 1942,   1953.6,2,   2.4351,2,   2.43497,2,  34.6095,2,  34.6098,6,   147.19,2,   147.14,2,   108.30,2,     0.36,    35.78,2,     0.13,     0.00,2,     0.01,    2.524,2,    0.016,    0.003,2,    0.008,2,    0.000,2,   2301.6,2,   2387.4,2,   7.5788,  25,2,  -999.00,9,  -999.00,   -999.0,9,   -999.0,   2.2962,  27.6348