BOTTLE,20111109CCHDOSIOCBG
EXPOCODE,SECT_ID,STNNBR,CASTNO,SAMPNO,BTLNBR,BTLNBR_FLAG_W,DATE,TIME,LATITUDE,LONGITUDE,DEPTH,CTDPRS,CTDPRS_FLAG_W,CTDTMP,CTDTMP_FLAG_W,SBE35,SBE35_FLAG_W,CTDSAL,CTDSAL_FLAG_W,SALNTY,SALNTY_FLAG_W,CTDOXY,CTDOXY_FLAG_W,OXYGEN,OXYGEN_FLAG_W,SILCAT,SILCAT_FLAG_W,SILUNC,NITRAT,NITRAT_FLAG_W,NRAUNC,NITRIT,NITRIT_FLAG_W,NRIUNC,PHSPHT,PHSPHT_FLAG_W,PHPUNC,CFC-11,CFC-11_FLAG_W,CFC-12,CFC-12_FLAG_W,CFC113,CFC113_FLAG_W,TCARBN,TCARBN_FLAG_W,ALKALI,ALKALI_FLAG_W,PH_TOT,PH_TMP,PH_TOT_FLAG_W,DELC13,DELC13_FLAG_W,C13ERR,DELC14,DELC14_FLAG_W,C14ERR,THETA,SIG0
,,,,,,,,,,,METERS,DBAR,,ITS-90,,ITS-90,,PSS-78,,PSS-78,,UMOL/KG,,UMOL/KG,,UMOL/KG,,UMOL/KG,UMOL/KG,,UMOL/KG,UMOL/KG,,UMOL/KG,UMOL/KG,,UMOL/KG,PMOL/KG,,PMOL/KG,,PMOL/KG,,UMOL/KG,,UMOL/KG,,,DEG C,,/MILLE,,/MILLE,/MILLE,,/MILLE,DEG C,KG/M^3
  49NZ20090521,   P21,   191,  1,      0,    -99,9,20090531,0858,-17.4962,-167.0015, 5578,   -999.0,9,-999.0000,9,-999.00000,9,-999.0000,9,  35.3064,2,  -999.00,9,  -999.00,9,  -999.00,9,  -999.00,  -999.00,9,  -999.00,  -999.00,9,  -999.00, -999.000,9, -999.000, -999.000,9, -999.000,9, -999.000,9,   -999.0,9,   -999.0,9,-999.0000,-999,9,  -999.00,9,  -999.00,   -999.0,9,   -999.0,-999.0000,-999.0000
  49NZ20090521,   P21,   191,  1,     36, X12043,2,20090531,0858,-17.4962,-167.0015, 5578,     10.5,2,  28.1435,2,  28.14570,2,  35.3081,2,  35.3066,2,   197.65,2,   197.47,2,     0.65,2,     0.12,     0.07,2,     0.03,     0.01,2,     0.01,    0.076,2,    0.026,    1.417,2,    0.899,2, -999.000,5,   1958.8,2,   2322.5,2,   8.1449,  25,6,  -999.00,1,  -999.00,   -999.0,1,   -999.0,  28.1410,  22.5802
  49NZ20090521,   P21,   191,  1,     35, X12042,2,20090531,0858,-17.4962,-167.0015, 5578,     50.9,2,  28.1431,2,  28.14269,2,  35.3072,2,  35.3070,2,   197.47,2,   197.65,2,     0.62,2,     0.12,     0.06,2,     0.03,     0.01,2,     0.01,    0.076,2,    0.026,    1.445,2,    0.931,2, -999.000,5,   1956.9,6,   2322.6,2,   8.1452,  25,2,  -999.00,1,  -999.00,   -999.0,1,   -999.0,  28.1311,  22.5827
  49NZ20090521,   P21,   191,  1,     34, X12016,2,20090531,0858,-17.4962,-167.0015, 5578,     99.3,2,  26.1709,2,  26.15501,2,  35.9462,2,  35.9576,2,   199.46,2,   199.36,2,     0.69,2,     0.12,     0.05,2,     0.03,     0.01,2,     0.01,    0.193,2,    0.016,    1.620,6,    1.033,6, -999.000,5,   2018.0,2,   2366.5,2,   8.1037,  25,2,  -999.00,1,  -999.00,   -999.0,1,   -999.0,  26.1486,  23.7008
  49NZ20090521,   P21,   191,  1,     33, X12015,2,20090531,0858,-17.4962,-167.0015, 5578,    150.1,2,  24.4829,2,  24.48131,2,  36.1869,2,  36.1783,2,   172.56,2,   172.47,2,     0.72,2,     0.12,     1.10,2,     0.04,     0.25,2,     0.01,    0.355,2,    0.014,    1.776,2,    1.100,2, -999.000,5,   2072.2,2,   2379.3,2,   8.0366,  25,6,  -999.00,1,  -999.00,   -999.0,1,   -999.0,  24.4507,  24.4053
  49NZ20090521,   P21,   191,  1,     32, X12050,2,20090531,0858,-17.4962,-167.0015, 5578,    201.5,2,  21.7684,2,  21.75990,2,  35.8788,2,  35.8821,2,   168.27,2,   167.37,2,     0.80,2,     0.12,     3.29,2,     0.04,     0.02,2,     0.01,    0.440,2,    0.013,    2.029,2,    1.205,2,    0.083,2,   2083.5,2,   2358.9,2,   7.9850,  25,2,  -999.00,1,  -999.00,   -999.0,1,   -999.0,  21.7286,  24.9618
  49NZ20090521,   P21,   191,  1,     31, X12014,2,20090531,0858,-17.4962,-167.0015, 5578,    250.8,2,  19.7539,2,  19.75083,2,  35.6400,2,  35.6400,6,   176.39,2,   175.32,2,     0.97,2,     0.12,     3.89,2,     0.04,     0.02,2,     0.01,    0.463,2,    0.013,    2.199,2,    1.274,2,    0.036,2,   2083.8,2,   2342.7,2,   7.9599,  25,2,  -999.00,1,  -999.00,   -999.0,1,   -999.0,  19.7077,  25.3270
  49NZ20090521,   P21,   191,  1,     30, X12012,2,20090531,0858,-17.4962,-167.0015, 5578,    280.7,2,  18.4725,2,  18.47463,2,  35.4871,2,  35.4876,2,   177.83,2,   177.07,2,     1.24,2,     0.12,     4.91,2,     0.05,     0.01,2,     0.01,    0.523,2,    0.013,    2.274,2,    1.287,2,    0.024,2,   2088.6,2,   2333.7,2,   7.9381,  25,2,  -999.00,1,  -999.00,   -999.0,1,   -999.0,  18.4232,  25.5398
  49NZ20090521,   P21,   191,  1,     29, X12041,2,20090531,0858,-17.4962,-167.0015, 5578,    372.0,2,  13.8921,2,  13.89780,2,  34.9693,2,  34.9718,2,   169.48,2,   167.70,2,     4.48,2,     0.13,    12.18,2,     0.07,     0.01,2,     0.01,    1.031,2,    0.013,    2.178,6,    1.161,6,    0.025,6,   2120.7,2,   2306.2,2,   7.8243,  25,2,  -999.00,1,  -999.00,   -999.0,1,   -999.0,  13.8383,  26.1973
  49NZ20090521,   P21,   191,  1,     28, X12040,2,20090531,0858,-17.4962,-167.0015, 5578,    471.1,2,   9.7602,2,   9.75770,2,  34.5946,2,  34.5956,6,   157.47,2,   156.75,2,    11.22,2,     0.14,    22.01,2,     0.09,     0.01,2,     0.01,    1.660,2,    0.014,    1.459,2,    0.736,2,    0.027,2,   2161.4,2,   2290.7,2,   7.6971,  25,2,  -999.00,1,  -999.00,   -999.0,1,   -999.0,   9.7059,  26.6851
  49NZ20090521,   P21,   191,  1,     27, X12009,2,20090531,0858,-17.4962,-167.0015, 5578,    573.5,2,   7.5236,2,   7.52057,2,  34.4463,2,  34.4477,2,   167.22,2,   166.48,2,    16.39,2,     0.16,    26.86,2,     0.11,     0.01,2,     0.01,    1.933,2,    0.015,    1.004,6,    0.496,6,    0.023,6,   2178.1,2,   2288.0,2,   7.6514,  25,2,  -999.00,1,  -999.00,   -999.0,1,   -999.0,   7.4667,  26.9169
  49NZ20090521,   P21,   191,  1,     26, X12008,2,20090531,0858,-17.4962,-167.0015, 5578,    668.8,2,   6.1294,2,   6.12860,2,  34.3847,2,  34.3851,2,   178.20,2,   177.83,2,    21.95,2,     0.17,    29.46,2,     0.12,     0.01,2,     0.01,    2.069,2,    0.015,    0.631,2,    0.314,2,    0.015,2,   2185.7,6,   2291.5,2,   7.6386,  25,2,  -999.00,1,  -999.00,   -999.0,1,   -999.0,   6.0696,  27.0576
  49NZ20090521,   P21,   191,  1,     25, X12007,2,20090531,0858,-17.4962,-167.0015, 5578,    771.2,2,   5.2085,2,   5.20997,2,  34.3934,2,  34.3933,2,   169.16,2,   168.76,2,    33.65,2,     0.19,    31.98,2,     0.12,     0.01,2,     0.01,    2.235,2,    0.016,    0.234,2,    0.124,2,    0.000,2,   2207.2,2,   2303.0,6,   7.6130,  25,2,  -999.00,1,  -999.00,   -999.0,1,   -999.0,   5.1444,  27.1776
  49NZ20090521,   P21,   191,  1,     24, X12035,2,20090531,0858,-17.4962,-167.0015, 5578,    870.4,2,   4.5666,2,   4.56641,2,  34.4180,2,  34.4183,2,   162.67,2,   162.42,2,    44.83,2,     0.22,    33.48,2,     0.13,     0.01,2,     0.01,    2.334,2,    0.016,    0.100,2,    0.051,2,    0.000,2,   2222.6,2,   2314.8,2,   7.5976,  25,6,  -999.00,1,  -999.00,   -999.0,1,   -999.0,   4.4979,  27.2702
  49NZ20090521,   P21,   191,  1,     23, X12038,2,20090531,0858,-17.4962,-167.0015, 5578,    971.7,2,   3.9499,2,   3.94965,2,  34.4609,2,  34.4594,3,   156.25,2,   155.97,2,    58.68,2,     0.25,    34.57,2,     0.13,     0.01,2,     0.01,    2.412,2,    0.016,    0.037,2,    0.017,2,    0.000,2,   2241.0,2,   2328.8,2,   7.5856,  25,2,  -999.00,1,  -999.00,   -999.0,1,   -999.0,   3.8770,  27.3699
  49NZ20090521,   P21,   191,  1,     22, X12034,2,20090531,0858,-17.4962,-167.0015, 5578,   1131.9,2,   3.2977,2,   3.29766,2,  34.5157,2,  34.5147,3,   151.30,2,   151.29,2,    75.65,2,     0.29,    35.39,2,     0.13,     0.01,2,     0.01,    2.479,2,    0.016,    0.005,2,    0.003,2,    0.000,2,   2262.4,2,   2348.7,2,   7.5773,  25,2,  -999.00,1,  -999.00,   -999.0,1,   -999.0,   3.2170,  27.4783
  49NZ20090521,   P21,   191,  1,     21, X12033,2,20090531,0858,-17.4962,-167.0015, 5578,   1329.8,2,   2.9178,2,   2.91816,2,  34.5636,2,  34.5637,2,   145.20,2,   144.90,2,    90.20,2,     0.32,    36.02,2,     0.13,     0.01,2,     0.01,    2.526,2,    0.016,    0.002,2,    0.000,2,    0.000,2,   2282.3,2,   2365.1,2,   7.5708,  25,2,  -999.00,1,  -999.00,   -999.0,1,   -999.0,   2.8248,  27.5526
  49NZ20090521,   P21,   191,  1,     20, X12032,2,20090531,0858,-17.4962,-167.0015, 5578,   1530.1,2,   2.6323,2,   2.63242,2,  34.5911,2,  34.5911,2,   145.09,2,   144.86,2,    99.51,2,     0.34,    36.13,2,     0.13,     0.01,2,     0.01,    2.533,2,    0.016,    0.000,2,    0.000,2,    0.000,2,   2290.5,2,   2376.5,2,   7.5723,  25,6,  -999.00,1,  -999.00,   -999.0,1,   -999.0,   2.5262,  27.6007
  49NZ20090521,   P21,   191,  1,     19, X12046,2,20090531,0858,-17.4962,-167.0015, 5578,   1729.7,2,   2.4192,2,   2.42053,2,  34.6110,2,  34.6106,2,   145.50,2,   145.15,2,   106.17,2,     0.35,    36.20,2,     0.13,     0.01,2,     0.01,    2.530,2,    0.016,    0.000,2,    0.000,2,    0.000,2,   2296.5,2,   2384.2,2,   7.5741,  25,2,  -999.00,1,  -999.00,   -999.0,1,   -999.0,   2.2994,  27.6358
  49NZ20090521,   P21,   191,  1,     18, X12006,2,20090531,0858,-17.4962,-167.0015, 5578,   1931.4,2,   2.2559,2,   2.25578,2,  34.6259,2,  34.6262,2,   145.93,2,   145.57,2,   111.82,2,     0.36,    36.11,2,     0.13,     0.01,2,     0.01,    2.535,2,    0.016,    0.000,2,    0.000,2,    0.000,2,   2304.2,2,   2390.1,2,   7.5755,  25,2,  -999.00,1,  -999.00,   -999.0,1,   -999.0,   2.1214,  27.6622
  49NZ20090521,   P21,   191,  1,     17, X12047,2,20090531,0858,-17.4962,-167.0015, 5578,   2131.2,2,   2.0918,2,   2.09165,2,  34.6397,2,  34.6401,2,   147.27,2,   146.99,2,   116.37,2,     0.38,    36.20,2,     0.13,     0.01,2,     0.01,    2.533,2,    0.016,    0.000,2,    0.000,2,    0.000,2,   2307.9,2,   2395.8,2,   7.5784,  25,2,  -999.00,1,  -999.00,   -999.0,1,   -999.0,   1.9427,  27.6876
  49NZ20090521,   P21,   191,  1,     16, X12004,2,20090531,0858,-17.4962,-167.0015, 5578,   2329.0,2,   1.9765,2,   1.97646,2,  34.6496,2,  34.6500,2,   149.06,2,   148.73,2,   119.56,2,     0.38,    36.09,2,     0.13,     0.01,2,     0.01,    2.526,2,    0.016,    0.000,2,    0.000,2,    0.000,2,   2309.5,6,   2398.8,2,   7.5808,  25,2,  -999.00,1,  -999.00,   -999.0,1,   -999.0,   1.8120,  27.7056
  49NZ20090521,   P21,   191,  1,     15, X12003,2,20090531,0858,-17.4962,-167.0015, 5578,   2530.2,2,   1.8783,2,   1.87821,2,  34.6582,2,  34.6576,6,   150.73,2,   150.20,2,   122.45,2,     0.39,    36.06,2,     0.13,     0.01,2,     0.01,    2.521,2,    0.016,    0.000,2,    0.000,2,    0.000,2,   2312.4,2,   2401.0,6,   7.5834,  25,2,  -999.00,1,  -999.00,   -999.0,1,   -999.0,   1.6975,  27.7213
  49NZ20090521,   P21,   191,  1,     14, X12002,2,20090531,0858,-17.4962,-167.0015, 5578,   2729.4,2,   1.7915,2,   1.79142,2,  34.6654,2,  34.6656,2,   153.24,2,   152.99,2,   124.35,2,     0.39,    35.89,2,     0.13,     0.01,2,     0.01,    2.509,2,    0.016,    0.000,2,    0.000,2,    0.000,2,   2312.3,2,   2402.4,2,   7.5868,  25,2,  -999.00,1,  -999.00,   -999.0,1,   -999.0,   1.5941,  27.7347
  49NZ20090521,   P21,   191,  1,     13, X12001,2,20090531,0858,-17.4962,-167.0015, 5578,   2930.7,2,   1.7372,2,   1.73726,2,  34.6704,2,  34.6701,2,   155.35,2,   154.88,2,   125.49,2,     0.40,    35.74,2,     0.13,     0.01,2,     0.01,    2.495,2,    0.016,    0.002,2,    0.000,2,    0.000,2,   2311.8,2,   2403.9,2,   7.5895,  25,2,  -999.00,1,  -999.00,   -999.0,1,   -999.0,   1.5219,  27.7441
  49NZ20090521,   P21,   191,  1,     12, X12030,2,20090531,0858,-17.4962,-167.0015, 5578,   3170.1,2,   1.6547,2,   1.65488,2,  34.6770,2,  34.6769,2,   159.58,2,   159.00,2,   125.77,2,     0.40,    35.49,2,     0.13,     0.01,2,     0.01,    2.466,2,    0.016,    0.000,2,    0.000,2,    0.000,2,   2309.5,2,   2403.3,2,   7.5940,  25,2,  -999.00,1,  -999.00,   -999.0,1,   -999.0,   1.4179,  27.7569
  49NZ20090521,   P21,   191,  1,     11, X12044,2,20090531,0858,-17.4962,-167.0015, 5578,   3421.7,2,   1.5833,2,   1.58342,2,  34.6826,2,  34.6825,2,   164.20,2,   163.75,2,   125.64,2,     0.40,    35.08,2,     0.13,     0.01,2,     0.01,    2.451,2,    0.016,    0.000,2,    0.000,2,    0.000,2,   2306.1,2,   2400.7,2,   7.5974,  25,2,  -999.00,1,  -999.00,   -999.0,1,   -999.0,   1.3231,  27.7682
  49NZ20090521,   P21,   191,  1,     10, X12048,2,20090531,0858,-17.4962,-167.0015, 5578,   3669.4,2,   1.5090,2,   1.50912,2,  34.6888,2,  34.6889,2,   170.12,2,   169.72,2,   124.66,2,     0.39,    34.76,2,     0.13,     0.01,2,     0.01,    2.418,2,    0.016,    0.001,2,    0.000,2,    0.000,2,   2300.3,2,   2396.3,2,   7.6014,  25,2,  -999.00,1,  -999.00,   -999.0,1,   -999.0,   1.2251,  27.7800
  49NZ20090521,   P21,   191,  1,      9, X12027,2,20090531,0858,-17.4962,-167.0015, 5578,   3920.6,2,   1.4216,2,   1.42175,2,  34.6969,2,  34.6968,6,   179.50,2,   179.17,2,   121.24,2,     0.39,    34.06,2,     0.13,     0.01,2,     0.01,    2.364,2,    0.016,    0.004,2,    0.000,2,    0.000,2,   2288.4,2,   2387.6,2,   7.6077,  25,2,  -999.00,1,  -999.00,   -999.0,1,   -999.0,   1.1134,  27.7941
  49NZ20090521,   P21,   191,  1,      8, X12026,2,20090531,0858,-17.4962,-167.0015, 5578,   4170.1,2,   1.2961,2,   1.29615,2,  34.7048,2,  34.7050,2,   190.88,2,   190.58,2,   117.73,2,     0.38,    33.17,2,     0.13,     0.01,2,     0.01,    2.303,2,    0.016,    0.005,2,    0.002,2,    0.000,2,   2277.4,6,   2378.8,2,   7.6141,  25,2,  -999.00,1,  -999.00,   -999.0,1,   -999.0,   0.9643,  27.8105
  49NZ20090521,   P21,   191,  1,      7, X12025,2,20090531,0858,-17.4962,-167.0015, 5578,   4422.2,2,   1.1995,2,   1.19958,2,  34.7086,2,  34.7087,2,   198.39,2,   197.92,2,   116.11,2,     0.37,    32.74,2,     0.12,     0.01,2,     0.01,    2.263,2,    0.016,    0.008,2,    0.003,2,    0.000,2,   2269.6,2,   2372.1,6,   7.6180,  25,2,  -999.00,1,  -999.00,   -999.0,1,   -999.0,   0.8425,  27.8215
  49NZ20090521,   P21,   191,  1,      6, X12024,2,20090531,0858,-17.4962,-167.0015, 5578,   4669.2,2,   1.1341,2,   1.13406,2,  34.7100,2,  34.7103,2,   203.10,2,   202.52,2,   115.84,2,     0.37,    32.40,2,     0.12,     0.01,2,     0.01,    2.240,2,    0.016,    0.014,2,    0.005,2,    0.000,2,   2264.4,2,   2368.2,2,   7.6197,  25,6,  -999.00,1,  -999.00,   -999.0,1,   -999.0,   0.7510,  27.8285
  49NZ20090521,   P21,   191,  1,      5, X12028,2,20090531,0858,-17.4962,-167.0015, 5578,   4919.6,2,   1.0946,2,   1.09462,2,  34.7092,2,  34.7095,2,   205.29,2,   204.66,2,   116.67,2,     0.38,    32.34,2,     0.12,     0.01,2,     0.01,    2.242,2,    0.016,    0.019,2,    0.008,2,    0.000,2,   2262.9,2,   2366.3,2,   7.6198,  25,2,  -999.00,1,  -999.00,   -999.0,1,   -999.0,   0.6835,  27.8321
  49NZ20090521,   P21,   191,  1,      4, X12022,2,20090531,0858,-17.4962,-167.0015, 5578,   5168.6,2,   1.1074,2,   1.10746,2,  34.7088,2,  34.7095,2,   205.68,2,   205.05,2,   116.94,2,     0.38,    32.36,2,     0.12,     0.01,2,     0.01,    2.238,2,    0.016,    0.023,2,    0.012,2,    0.000,2,   2263.6,2,   2366.4,2,   7.6200,  25,2,  -999.00,1,  -999.00,   -999.0,1,   -999.0,   0.6660,  27.8329
  49NZ20090521,   P21,   191,  1,      3, X12021,2,20090531,0858,-17.4962,-167.0015, 5578,   5420.4,2,   1.1159,2,   1.11587,2,  34.7081,2,  34.7088,2,   206.17,2,   205.23,2,   117.65,2,     0.38,    32.37,2,     0.12,     0.01,2,     0.01,    2.244,2,    0.016,    0.026,2,    0.011,2,    0.000,2,   2263.7,2,   2366.9,2,   7.6199,  25,2,  -999.00,1,  -999.00,   -999.0,1,   -999.0,   0.6432,  27.8337
  49NZ20090521,   P21,   191,  1,      2, X12020,9,20090531,0858,-17.4962,-167.0015, 5578,   1329.8,2,   2.9181,2,   2.91818,2,  34.5637,2,-999.0000,9,   145.23,2,  -999.00,9,  -999.00,9,  -999.00,  -999.00,9,  -999.00,  -999.00,9,  -999.00, -999.000,9, -999.000, -999.000,9, -999.000,9, -999.000,9,   -999.0,9,   -999.0,9,-999.0000,-999,9,  -999.00,9,  -999.00,   -999.0,9,   -999.0,   2.8251,  27.5526
  49NZ20090521,   P21,   191,  1,      1, X12019,2,20090531,0858,-17.4962,-167.0015, 5578,   5658.8,2,   1.1414,2,   1.14151,2,  34.7079,2,  34.7088,6,   206.23,2,   205.71,2,   117.64,2,     0.38,    32.43,2,     0.12,     0.01,2,     0.01,    2.245,2,    0.016,    0.032,2,    0.015,2,    0.000,2,   2263.5,2,   2366.4,2,   7.6198,  25,2,  -999.00,1,  -999.00,   -999.0,1,   -999.0,   0.6377,  27.8339