BOTTLE,20111109CCHDOSIOCBG
EXPOCODE,SECT_ID,STNNBR,CASTNO,SAMPNO,BTLNBR,BTLNBR_FLAG_W,DATE,TIME,LATITUDE,LONGITUDE,DEPTH,CTDPRS,CTDPRS_FLAG_W,CTDTMP,CTDTMP_FLAG_W,SBE35,SBE35_FLAG_W,CTDSAL,CTDSAL_FLAG_W,SALNTY,SALNTY_FLAG_W,CTDOXY,CTDOXY_FLAG_W,OXYGEN,OXYGEN_FLAG_W,SILCAT,SILCAT_FLAG_W,SILUNC,NITRAT,NITRAT_FLAG_W,NRAUNC,NITRIT,NITRIT_FLAG_W,NRIUNC,PHSPHT,PHSPHT_FLAG_W,PHPUNC,CFC-11,CFC-11_FLAG_W,CFC-12,CFC-12_FLAG_W,CFC113,CFC113_FLAG_W,TCARBN,TCARBN_FLAG_W,ALKALI,ALKALI_FLAG_W,PH_TOT,PH_TMP,PH_TOT_FLAG_W,DELC13,DELC13_FLAG_W,C13ERR,DELC14,DELC14_FLAG_W,C14ERR,THETA,SIG0
,,,,,,,,,,,METERS,DBAR,,ITS-90,,ITS-90,,PSS-78,,PSS-78,,UMOL/KG,,UMOL/KG,,UMOL/KG,,UMOL/KG,UMOL/KG,,UMOL/KG,UMOL/KG,,UMOL/KG,UMOL/KG,,UMOL/KG,PMOL/KG,,PMOL/KG,,PMOL/KG,,UMOL/KG,,UMOL/KG,,,DEG C,,/MILLE,,/MILLE,/MILLE,,/MILLE,DEG C,KG/M^3
  49NZ20090521,   P21,   196,  1,      0,   -999,9,20090601,1617,-17.4997,-170.3323, 5258,   -999.0,9,-999.0000,9,-999.00000,9,-999.0000,9,  35.5784,2,  -999.00,9,  -999.00,9,  -999.00,9,  -999.00,  -999.00,9,  -999.00,  -999.00,9,  -999.00, -999.000,9, -999.000, -999.000,9, -999.000,9, -999.000,9,   -999.0,9,   -999.0,9,-999.0000,-999,9,  -999.00,9,  -999.00,   -999.0,9,   -999.0,-999.0000,-999.0000
  49NZ20090521,   P21,   196,  1,     36, X12043,2,20090601,1617,-17.4997,-170.3323, 5258,     10.9,2,  28.2896,2,  28.28896,2,  35.5714,2,  35.5696,2,   196.68,2,   196.45,2,     0.89,2,     0.12,     0.10,2,     0.03,     0.01,2,     0.01,    0.142,2,    0.018,    1.410,2,    0.903,2, -999.000,5,   -999.0,9,   -999.0,9,-999.0000,-999,9,  -999.00,9,  -999.00,   -999.0,9,   -999.0,  28.2870,  22.7301
  49NZ20090521,   P21,   196,  1,     35, X12042,2,20090601,1617,-17.4997,-170.3323, 5258,     50.5,2,  28.2706,2,  28.27037,2,  35.5952,2,  35.5954,2,   196.41,2,   196.35,2,     0.85,2,     0.12,     0.10,2,     0.03,     0.01,2,     0.01,    0.149,2,    0.018,    1.397,2,    0.885,2, -999.000,5,   -999.0,9,   -999.0,9,-999.0000,-999,9,  -999.00,9,  -999.00,   -999.0,9,   -999.0,  28.2586,  22.7574
  49NZ20090521,   P21,   196,  1,     34, X12016,2,20090601,1617,-17.4997,-170.3323, 5258,    100.9,2,  26.1944,2,  26.19389,2,  35.7241,2,  35.7229,2,   206.42,2,   206.05,2,     0.70,2,     0.12,     0.09,2,     0.03,     0.01,2,     0.01,    0.140,2,    0.018,    1.607,6,    1.012,6, -999.000,5,   -999.0,9,   -999.0,9,-999.0000,-999,9,  -999.00,9,  -999.00,   -999.0,9,   -999.0,  26.1717,  23.5260
  49NZ20090521,   P21,   196,  1,     33, X12015,2,20090601,1617,-17.4997,-170.3323, 5258,    150.1,2,  24.2967,2,  24.29061,2,  35.9094,2,  35.9083,2,   181.62,2,   180.84,2,     0.73,2,     0.12,     0.66,2,     0.03,     0.05,2,     0.01,    0.258,2,    0.015,    1.726,2,    1.072,2, -999.000,5,   -999.0,9,   -999.0,9,-999.0000,-999,9,  -999.00,9,  -999.00,   -999.0,9,   -999.0,  24.2647,  24.2511
  49NZ20090521,   P21,   196,  1,     32, X12050,2,20090601,1617,-17.4997,-170.3323, 5258,    199.7,2,  22.9986,2,  23.01237,2,  35.9411,2,  35.9427,2,   170.78,2,   170.21,2,     0.81,2,     0.12,     2.03,2,     0.04,     0.02,2,     0.01,    0.369,2,    0.014,    1.847,2,    1.134,2,    0.102,2,   -999.0,9,   -999.0,9,-999.0000,-999,9,  -999.00,9,  -999.00,   -999.0,9,   -999.0,  22.9576,  24.6598
  49NZ20090521,   P21,   196,  1,     31, X12014,2,20090601,1617,-17.4997,-170.3323, 5258,    250.3,2,  20.4481,2,  20.44698,2,  35.7257,2,  35.7249,6,   169.10,2,   168.64,2,     1.08,2,     0.12,     4.19,2,     0.04,     0.01,2,     0.01,    0.495,2,    0.013,    2.060,2,    1.208,2,    0.024,2,   -999.0,9,   -999.0,9,-999.0000,-999,9,  -999.00,9,  -999.00,   -999.0,9,   -999.0,  20.4008,  25.2086
  49NZ20090521,   P21,   196,  1,     30, X12012,2,20090601,1617,-17.4997,-170.3323, 5258,    331.1,2,  16.7390,2,  16.74572,2,  35.3251,2,  35.3296,2,   174.60,2,   173.84,2,     2.14,2,     0.12,     7.34,2,     0.05,     0.01,2,     0.01,    0.676,2,    0.013,    2.208,2,    1.237,2,    0.009,2,   -999.0,9,   -999.0,9,-999.0000,-999,9,  -999.00,9,  -999.00,   -999.0,9,   -999.0,  16.6846,  25.8386
  49NZ20090521,   P21,   196,  1,     29, X12041,2,20090601,1617,-17.4997,-170.3323, 5258,    430.3,2,  11.7773,2,  11.76849,2,  34.7748,2,  34.7779,2,   171.29,2,   170.75,2,     6.32,2,     0.13,    16.07,2,     0.08,     0.01,2,     0.01,    1.252,2,    0.013,    1.992,6,    1.037,6,    0.022,6,   -999.0,9,   -999.0,9,-999.0000,-999,9,  -999.00,9,  -999.00,   -999.0,9,   -999.0,  11.7214,  26.4670
  49NZ20090521,   P21,   196,  1,     28, X12040,2,20090601,1617,-17.4997,-170.3323, 5258,    532.5,2,   8.3960,2,   8.39280,2,  34.5207,2,  34.5254,6,   150.89,2,   150.18,2,    16.12,2,     0.15,    25.76,2,     0.10,     0.01,2,     0.01,    1.897,2,    0.015,    0.965,2,    0.492,2,    0.009,2,   -999.0,9,   -999.0,9,-999.0000,-999,9,  -999.00,9,  -999.00,   -999.0,9,   -999.0,   8.3398,  26.8461
  49NZ20090521,   P21,   196,  1,     27, X12009,2,20090601,1617,-17.4997,-170.3323, 5258,    630.4,2,   6.4865,2,   6.48701,2,  34.3936,2,  34.3930,2,   183.35,2,   182.99,2,    18.61,2,     0.16,    28.09,2,     0.11,     0.01,2,     0.01,    1.987,2,    0.015,    0.842,6,    0.422,6,    0.009,6,   -999.0,9,   -999.0,9,-999.0000,-999,9,  -999.00,9,  -999.00,   -999.0,9,   -999.0,   6.4286,  27.0181
  49NZ20090521,   P21,   196,  1,     26, X12008,2,20090601,1617,-17.4997,-170.3323, 5258,    731.2,2,   5.3834,2,   5.38444,2,  34.3504,2,  34.3495,2,   191.99,2,   191.65,2,    24.10,2,     0.17,    29.93,2,     0.12,     0.01,2,     0.01,    2.087,2,    0.015,    0.540,2,    0.274,2,    0.005,2,   -999.0,9,   -999.0,9,-999.0000,-999,9,  -999.00,9,  -999.00,   -999.0,9,   -999.0,   5.3219,  27.1226
  49NZ20090521,   P21,   196,  1,     25, X12007,2,20090601,1617,-17.4997,-170.3323, 5258,    830.5,2,   4.7495,2,   4.75177,2,  34.3905,2,  34.3914,2,   171.88,2,   171.19,2,    37.90,2,     0.20,    32.49,2,     0.12,     0.00,2,     0.01,    2.278,2,    0.016,    0.191,2,    0.101,2,    0.000,2,   -999.0,9,   -999.0,9,-999.0000,-999,9,  -999.00,9,  -999.00,   -999.0,9,   -999.0,   4.6831,  27.2280
  49NZ20090521,   P21,   196,  1,     24, X12035,2,20090601,1617,-17.4997,-170.3323, 5258,    932.4,2,   4.0919,2,   4.09265,2,  34.4460,2,  34.4454,2,   158.74,2,   158.60,2,    54.88,2,     0.24,    34.35,2,     0.13,     0.01,2,     0.01,    2.398,2,    0.016,    0.054,2,    0.032,2,    0.000,2,   -999.0,9,   -999.0,9,-999.0000,-999,9,  -999.00,9,  -999.00,   -999.0,9,   -999.0,   4.0213,  27.3433
  49NZ20090521,   P21,   196,  1,     23, X12038,2,20090601,1617,-17.4997,-170.3323, 5258,   1070.3,2,   3.5107,2,   3.51073,2,  34.5057,2,  34.5053,6,   149.83,2,   149.70,2,    72.39,2,     0.28,    35.29,2,     0.13,     0.01,2,     0.01,    2.480,2,    0.016,    0.018,2,    0.010,2,    0.000,2,   -999.0,9,   -999.0,9,-999.0000,-999,9,  -999.00,9,  -999.00,   -999.0,9,   -999.0,   3.4332,  27.4498
  49NZ20090521,   P21,   196,  1,     22, X12034,2,20090601,1617,-17.4997,-170.3323, 5258,   1270.3,2,   3.0398,2,   3.03964,2,  34.5557,2,  34.5553,2,   144.10,2,   143.89,2,    87.73,2,     0.31,    36.05,2,     0.13,     0.01,2,     0.01,    2.538,2,    0.016,    0.004,2,    0.004,2,    0.000,2,   -999.0,9,   -999.0,9,-999.0000,-999,9,  -999.00,9,  -999.00,   -999.0,9,   -999.0,   2.9504,  27.5349
  49NZ20090521,   P21,   196,  1,     21, X12033,2,20090601,1617,-17.4997,-170.3323, 5258,   1470.5,2,   2.7727,2,   2.77281,2,  34.5867,2,  34.5864,2,   140.72,2,   140.55,2,    97.59,2,     0.33,    36.34,2,     0.13,     0.01,2,     0.01,    2.564,2,    0.016,    0.001,2,    0.001,2,    0.000,2,   -999.0,9,   -999.0,9,-999.0000,-999,9,  -999.00,9,  -999.00,   -999.0,9,   -999.0,   2.6699,  27.5847
  49NZ20090521,   P21,   196,  1,     20, X12032,2,20090601,1617,-17.4997,-170.3323, 5258,   1670.8,2,   2.4903,2,   2.49083,2,  34.6055,2,  34.6050,2,   144.74,2,   144.71,2,   104.58,2,     0.35,    36.23,2,     0.13,     0.01,2,     0.01,    2.548,2,    0.016,    0.001,2,    0.000,2,    0.000,2,   -999.0,9,   -999.0,9,-999.0000,-999,9,  -999.00,9,  -999.00,   -999.0,9,   -999.0,   2.3744,  27.6251
  49NZ20090521,   P21,   196,  1,     19, X12046,2,20090601,1617,-17.4997,-170.3323, 5258,   1870.2,2,   2.2894,2,   2.28945,2,  34.6229,2,  34.6226,2,   146.24,2,   146.23,2,   109.83,2,     0.36,    36.17,2,     0.13,     0.01,2,     0.01,    2.542,2,    0.016,    0.000,2,    0.000,2,    0.000,2,   -999.0,9,   -999.0,9,-999.0000,-999,9,  -999.00,9,  -999.00,   -999.0,9,   -999.0,   2.1596,  27.6567
  49NZ20090521,   P21,   196,  1,     18, X12006,2,20090601,1617,-17.4997,-170.3323, 5258,   2070.9,2,   2.1409,2,   2.14106,2,  34.6369,2,  34.6365,2,   145.41,2,   145.25,2,   116.33,2,     0.37,    36.29,2,     0.13,     0.01,2,     0.01,    2.548,2,    0.016,    0.000,2,    0.000,2,    0.000,2,   -999.0,9,   -999.0,9,-999.0000,-999,9,  -999.00,9,  -999.00,   -999.0,9,   -999.0,   1.9963,  27.6811
  49NZ20090521,   P21,   196,  1,     17, X12047,2,20090601,1617,-17.4997,-170.3323, 5258,   2271.9,2,   2.0173,2,   2.01730,2,  34.6477,2,  34.6476,2,   146.01,2,   145.85,2,   120.65,2,     0.38,    36.29,2,     0.13,     0.01,2,     0.01,    2.550,2,    0.016,    0.000,2,    0.000,2,    0.000,2,   -999.0,9,   -999.0,9,-999.0000,-999,9,  -999.00,9,  -999.00,   -999.0,9,   -999.0,   1.8572,  27.7006
  49NZ20090521,   P21,   196,  1,     16, X12004,2,20090601,1617,-17.4997,-170.3323, 5258,   2472.5,2,   1.9174,2,   1.91731,2,  34.6561,2,  34.6555,6,   147.48,2,   147.16,2,   123.36,2,     0.39,    36.23,2,     0.13,     0.01,2,     0.01,    2.543,2,    0.016,    0.000,2,    0.000,2,    0.000,2,   -999.0,9,   -999.0,9,-999.0000,-999,9,  -999.00,9,  -999.00,   -999.0,9,   -999.0,   1.7411,  27.7162
  49NZ20090521,   P21,   196,  1,     15, X12003,2,20090601,1617,-17.4997,-170.3323, 5258,    150.9,2,  24.2713,2,  24.27095,2,  35.9031,2,-999.0000,9,   181.81,2,  -999.00,9,     0.87,2,     0.12,     0.73,2,     0.03,     0.06,2,     0.01,    0.270,2,    0.015, -999.000,9, -999.000,9, -999.000,9,   -999.0,9,   -999.0,9,-999.0000,-999,9,  -999.00,9,  -999.00,   -999.0,9,   -999.0,  24.2391,  24.2539
  49NZ20090521,   P21,   196,  1,     14, X12002,2,20090601,1617,-17.4997,-170.3323, 5258,   2671.5,2,   1.8311,2,   1.83113,2,  34.6631,2,  34.6627,2,   148.51,2,   148.44,2,   126.28,2,     0.40,    36.21,2,     0.13,     0.01,2,     0.01,    2.537,2,    0.016,    0.001,2,    0.000,2,    0.000,2,   -999.0,9,   -999.0,9,-999.0000,-999,9,  -999.00,9,  -999.00,   -999.0,9,   -999.0,   1.6383,  27.7296
  49NZ20090521,   P21,   196,  1,     13, X12001,2,20090601,1617,-17.4997,-170.3323, 5258,   3079.9,2,   1.7059,2,   1.70590,2,  34.6731,2,  34.6723,2,   151.15,2,   150.97,2,   130.06,2,     0.41,    36.02,2,     0.13,     0.01,2,     0.01,    2.525,2,    0.016,    0.001,2,    0.001,2,    0.000,2,   -999.0,9,   -999.0,9,-999.0000,-999,9,  -999.00,9,  -999.00,   -999.0,9,   -999.0,   1.4768,  27.7495
  49NZ20090521,   P21,   196,  1,     12, X12030,2,20090601,1617,-17.4997,-170.3323, 5258,   3330.7,2,   1.6403,2,   1.64038,2,  34.6785,2,  34.6776,2,   155.99,2,   155.82,2,   129.81,2,     0.40,    35.77,2,     0.13,     0.01,2,     0.01,    2.500,2,    0.016,    0.002,2,    0.001,2,    0.000,2,   -999.0,9,   -999.0,9,-999.0000,-999,9,  -999.00,9,  -999.00,   -999.0,9,   -999.0,   1.3879,  27.7603
  49NZ20090521,   P21,   196,  1,     11, X12044,2,20090601,1617,-17.4997,-170.3323, 5258,   3581.6,2,   1.5460,2,   1.54594,2,  34.6870,2,  34.6865,2,   164.49,2,   164.39,2,   127.10,2,     0.40,    34.98,2,     0.13,     0.01,2,     0.01,    2.445,2,    0.016,    0.004,2,    0.003,2,    0.000,2,   -999.0,9,   -999.0,9,-999.0000,-999,9,  -999.00,9,  -999.00,   -999.0,9,   -999.0,   1.2703,  27.7754
  49NZ20090521,   P21,   196,  1,     10, X12048,2,20090601,1617,-17.4997,-170.3323, 5258,   3830.4,2,   1.3971,2,   1.39718,2,  34.7093,2,  34.7092,3,   188.50,2,   189.18,2,   113.95,2,     0.37,    32.84,2,     0.12,     0.01,2,     0.01,    2.288,2,    0.016,    0.019,2,    0.008,2,    0.000,2,   -999.0,9,   -999.0,9,-999.0000,-999,9,  -999.00,9,  -999.00,   -999.0,9,   -999.0,   1.0991,  27.8051
  49NZ20090521,   P21,   196,  1,      9, X12027,2,20090601,1617,-17.4997,-170.3323, 5258,   4081.0,2,   1.2260,2,   1.22595,2,  34.7147,2,  34.7139,2,   200.12,2,   200.24,2,   112.39,2,     0.37,    32.32,2,     0.12,     0.01,2,     0.01,    2.246,2,    0.016,    0.031,2,    0.016,2,    0.000,2,   -999.0,9,   -999.0,9,-999.0000,-999,9,  -999.00,9,  -999.00,   -999.0,9,   -999.0,   0.9059,  27.8223
  49NZ20090521,   P21,   196,  1,      8, X12026,2,20090601,1617,-17.4997,-170.3323, 5258,   4329.5,2,   1.1150,2,   1.11440,2,  34.7124,2,  34.7118,2,   203.81,2,   203.59,2,   114.76,2,     0.37,    32.20,2,     0.12,     0.01,2,     0.01,    2.244,2,    0.016,    0.035,2,    0.018,2,    0.000,2,   -999.0,9,   -999.0,9,-999.0000,-999,9,  -999.00,9,  -999.00,   -999.0,9,   -999.0,   0.7710,  27.8292
  49NZ20090521,   P21,   196,  1,      7, X12025,2,20090601,1617,-17.4997,-170.3323, 5258,   4582.8,2,   1.0596,2,   1.05970,2,  34.7103,2,  34.7097,2,   205.58,2,   205.42,2,   116.53,2,     0.38,    32.27,2,     0.12,     0.01,2,     0.01,    2.248,2,    0.016,    0.049,2,    0.023,2,    0.000,2,   -999.0,9,   -999.0,9,-999.0000,-999,9,  -999.00,9,  -999.00,   -999.0,9,   -999.0,   0.6888,  27.8326
  49NZ20090521,   P21,   196,  1,      6, X12024,2,20090601,1617,-17.4997,-170.3323, 5258,   4830.2,2,   1.0483,2,   1.04818,2,  34.7087,2,  34.7084,2,   206.22,2,   205.87,2,   117.51,2,     0.38,    32.35,2,     0.12,     0.01,2,     0.01,    2.250,2,    0.016,    0.047,2,    0.023,2,    0.000,2,   -999.0,9,   -999.0,9,-999.0000,-999,9,  -999.00,9,  -999.00,   -999.0,9,   -999.0,   0.6493,  27.8338
  49NZ20090521,   P21,   196,  1,      5, X12028,2,20090601,1617,-17.4997,-170.3323, 5258,   5079.7,2,   1.0707,2,   1.07076,2,  34.7085,2,  34.7081,2,   206.17,2,   206.31,2,   117.22,2,     0.38,    32.13,2,     0.12,     0.01,2,     0.01,    2.240,2,    0.016,    0.051,2,    0.024,2,    0.000,2,   -999.0,9,   -999.0,9,-999.0000,-999,9,  -999.00,9,  -999.00,   -999.0,9,   -999.0,   0.6413,  27.8341
  49NZ20090521,   P21,   196,  1,      4, X12022,2,20090601,1617,-17.4997,-170.3323, 5258,     10.9,2,  28.2909,2,  28.29120,2,  35.5720,2,-999.0000,9,   196.73,2,  -999.00,9,     0.77,2,     0.12,     0.11,2,     0.03,     0.01,2,     0.01,    0.141,2,    0.018, -999.000,9, -999.000,9, -999.000,9,   -999.0,9,   -999.0,9,-999.0000,-999,9,  -999.00,9,  -999.00,   -999.0,9,   -999.0,  28.2883,  22.7301
  49NZ20090521,   P21,   196,  1,      3, X12021,2,20090601,1617,-17.4997,-170.3323, 5258,     50.4,2,  28.2773,2,  28.27684,2,  35.5931,2,-999.0000,9,   196.47,2,  -999.00,9,     0.83,2,     0.12,     0.18,2,     0.03,     0.01,2,     0.01,    0.149,2,    0.018, -999.000,9, -999.000,9, -999.000,9,   -999.0,9,   -999.0,9,-999.0000,-999,9,  -999.00,9,  -999.00,   -999.0,9,   -999.0,  28.2653,  22.7536
  49NZ20090521,   P21,   196,  1,      2, X12020,2,20090601,1617,-17.4997,-170.3323, 5258,    101.4,2,  26.1901,2,  26.18971,2,  35.7242,2,-999.0000,9,   206.64,2,  -999.00,9,     0.69,2,     0.12,     0.13,2,     0.03,     0.01,2,     0.01,    0.146,2,    0.018, -999.000,9, -999.000,9, -999.000,9,   -999.0,9,   -999.0,9,-999.0000,-999,9,  -999.00,9,  -999.00,   -999.0,9,   -999.0,  26.1673,  23.5274
  49NZ20090521,   P21,   196,  1,      1, X12019,2,20090601,1617,-17.4997,-170.3323, 5258,   5335.7,2,   1.0982,2,   1.09804,2,  34.7080,2,  34.7080,6,   206.22,2,   205.89,2,   118.01,2,     0.38,    32.35,2,     0.12,     0.01,2,     0.01,    2.249,2,    0.016,    0.048,2,    0.023,2,    0.000,2,   -999.0,9,   -999.0,9,-999.0000,-999,9,  -999.00,9,  -999.00,   -999.0,9,   -999.0,   0.6366,  27.8340