BOTTLE,20111109CCHDOSIOCBG
EXPOCODE,SECT_ID,STNNBR,CASTNO,SAMPNO,BTLNBR,BTLNBR_FLAG_W,DATE,TIME,LATITUDE,LONGITUDE,DEPTH,CTDPRS,CTDPRS_FLAG_W,CTDTMP,CTDTMP_FLAG_W,SBE35,SBE35_FLAG_W,CTDSAL,CTDSAL_FLAG_W,SALNTY,SALNTY_FLAG_W,CTDOXY,CTDOXY_FLAG_W,OXYGEN,OXYGEN_FLAG_W,SILCAT,SILCAT_FLAG_W,SILUNC,NITRAT,NITRAT_FLAG_W,NRAUNC,NITRIT,NITRIT_FLAG_W,NRIUNC,PHSPHT,PHSPHT_FLAG_W,PHPUNC,CFC-11,CFC-11_FLAG_W,CFC-12,CFC-12_FLAG_W,CFC113,CFC113_FLAG_W,TCARBN,TCARBN_FLAG_W,ALKALI,ALKALI_FLAG_W,PH_TOT,PH_TMP,PH_TOT_FLAG_W,DELC13,DELC13_FLAG_W,C13ERR,DELC14,DELC14_FLAG_W,C14ERR,THETA,SIG0
,,,,,,,,,,,METERS,DBAR,,ITS-90,,ITS-90,,PSS-78,,PSS-78,,UMOL/KG,,UMOL/KG,,UMOL/KG,,UMOL/KG,UMOL/KG,,UMOL/KG,UMOL/KG,,UMOL/KG,UMOL/KG,,UMOL/KG,PMOL/KG,,PMOL/KG,,PMOL/KG,,UMOL/KG,,UMOL/KG,,,DEG C,,/MILLE,,/MILLE,/MILLE,,/MILLE,DEG C,KG/M^3
  49NZ20090521,   P21,   230,  1,      0,   -999,9,20090608,0200,-17.8340, 172.9927, 3145,   -999.0,9,-999.0000,9,-999.00000,9,-999.0000,9,  34.8082,2,  -999.00,9,  -999.00,9,  -999.00,9,  -999.00,  -999.00,9,  -999.00,  -999.00,9,  -999.00, -999.000,9, -999.000, -999.000,9, -999.000,9, -999.000,9,   -999.0,9,   -999.0,9,-999.0000,-999,9,  -999.00,9,  -999.00,   -999.0,9,   -999.0,-999.0000,-999.0000
  49NZ20090521,   P21,   230,  1,     36, X12043,2,20090608,0200,-17.8340, 172.9927, 3145,      9.2,2,  26.5345,2,  26.51907,2,  34.7790,2,  34.7802,2,   202.37,2,   201.86,2,     0.35,2,     0.12,     0.09,2,     0.03,     0.01,2,     0.01,    0.068,2,    0.028,    1.511,2,    0.965,2, -999.000,5,   -999.0,9,   -999.0,9,-999.0000,-999,9,  -999.00,9,  -999.00,   -999.0,9,   -999.0,  26.5324,  22.6997
  49NZ20090521,   P21,   230,  1,     35, X12042,2,20090608,0200,-17.8340, 172.9927, 3145,     51.0,2,  26.4014,2,  26.40121,2,  34.7712,2,  34.7704,2,   202.20,2,   201.74,2,     0.35,2,     0.12,     0.08,2,     0.03,     0.01,2,     0.01,    0.065,2,    0.028,    1.522,2,    0.976,2, -999.000,5,   -999.0,9,   -999.0,9,-999.0000,-999,9,  -999.00,9,  -999.00,   -999.0,9,   -999.0,  26.3899,  22.7387
  49NZ20090521,   P21,   230,  1,     34, X12016,2,20090608,0200,-17.8340, 172.9927, 3145,    100.3,2,  24.5435,2,  24.54258,2,  35.3741,2,  35.3759,2,   182.45,2,   181.32,2,     0.52,2,     0.12,     0.70,2,     0.03,     0.11,2,     0.01,    0.213,2,    0.016,    1.713,6,    1.075,6,    0.181,4,   -999.0,9,   -999.0,9,-999.0000,-999,9,  -999.00,9,  -999.00,   -999.0,9,   -999.0,  24.5220,  23.7686
  49NZ20090521,   P21,   230,  1,     33, X12015,2,20090608,0200,-17.8340, 172.9927, 3145,    151.0,2,  23.0340,2,  23.03378,2,  35.6819,2,  35.6803,2,   158.80,2,   158.41,2,     0.73,2,     0.12,     3.66,2,     0.04,     0.02,2,     0.01,    0.419,2,    0.013,    1.832,2,    1.137,2,    0.096,2,   -999.0,9,   -999.0,9,-999.0000,-999,9,  -999.00,9,  -999.00,   -999.0,9,   -999.0,  23.0030,  24.4500
  49NZ20090521,   P21,   230,  1,     32, X12050,2,20090608,0200,-17.8340, 172.9927, 3145,    200.5,2,  21.1806,2,  21.18816,2,  35.7201,2,  35.7192,2,   158.67,2,   158.09,2,     0.94,2,     0.12,     4.98,2,     0.05,     0.02,2,     0.01,    0.498,2,    0.013,    1.974,2,    1.194,2,    0.050,2,   -999.0,9,   -999.0,9,-999.0000,-999,9,  -999.00,9,  -999.00,   -999.0,9,   -999.0,  21.1418,  25.0034
  49NZ20090521,   P21,   230,  1,     31, X12014,2,20090608,0200,-17.8340, 172.9927, 3145,    250.4,2,  19.1056,2,  19.10788,2,  35.5875,2,  35.5861,6,   165.86,2,   165.54,2,     1.39,2,     0.12,     6.01,2,     0.05,     0.01,2,     0.01,    0.565,2,    0.013,    2.086,2,    1.234,2,    0.042,2,   -999.0,9,   -999.0,9,-999.0000,-999,9,  -999.00,9,  -999.00,   -999.0,9,   -999.0,  19.0606,  25.4548
  49NZ20090521,   P21,   230,  1,     30, X12012,2,20090608,0200,-17.8340, 172.9927, 3145,    299.6,2,  17.2688,2,  17.26988,2,  35.4144,2,  35.4129,2,   169.85,2,   169.75,2,     2.08,2,     0.12,     7.62,2,     0.05,     0.01,2,     0.01,    0.677,2,    0.013,    2.133,2,    1.230,2,    0.023,2,   -999.0,9,   -999.0,9,-999.0000,-999,9,  -999.00,9,  -999.00,   -999.0,9,   -999.0,  17.2185,  25.7801
  49NZ20090521,   P21,   230,  1,     29, X12041,2,20090608,0200,-17.8340, 172.9927, 3145,    399.7,2,  12.2927,2,  12.29450,2,  34.8809,2,  34.8796,2,   167.37,2,   167.03,2,     6.66,2,     0.13,    15.90,2,     0.08,     0.01,2,     0.01,    1.245,2,    0.013,    1.863,6,    1.006,6,    0.039,6,   -999.0,9,   -999.0,9,-999.0000,-999,9,  -999.00,9,  -999.00,   -999.0,9,   -999.0,  12.2394,  26.4506
  49NZ20090521,   P21,   230,  1,     28, X12040,2,20090608,0200,-17.8340, 172.9927, 3145,    500.9,2,   9.4792,2,   9.47518,2,  34.6213,2,  34.6223,6,   175.58,2,   175.29,2,    10.34,2,     0.14,    21.22,2,     0.09,     0.01,2,     0.01,    1.563,2,    0.014,    1.585,2,    0.824,2,    0.041,2,   -999.0,9,   -999.0,9,-999.0000,-999,9,  -999.00,9,  -999.00,   -999.0,9,   -999.0,   9.4223,  26.7530
  49NZ20090521,   P21,   230,  1,     27, X12009,2,20090608,0200,-17.8340, 172.9927, 3145,    599.2,2,   7.1360,2,   7.13584,2,  34.4436,2,  34.4430,2,   190.73,2,   190.35,2,    15.49,2,     0.15,    25.72,2,     0.10,     0.01,2,     0.01,    1.825,2,    0.015,    1.191,6,    0.605,6,    0.043,6,   -999.0,9,   -999.0,9,-999.0000,-999,9,  -999.00,9,  -999.00,   -999.0,9,   -999.0,   7.0781,  26.9696
  49NZ20090521,   P21,   230,  1,     26, X12008,2,20090608,0200,-17.8340, 172.9927, 3145,    699.3,2,   5.8004,2,   5.80154,2,  34.3915,2,  34.3910,2,   186.61,2,   186.30,2,    25.02,2,     0.17,    29.20,2,     0.11,     0.01,2,     0.01,    2.046,2,    0.015,    0.618,2,    0.318,2,    0.020,2,   -999.0,9,   -999.0,9,-999.0000,-999,9,  -999.00,9,  -999.00,   -999.0,9,   -999.0,   5.7395,  27.1044
  49NZ20090521,   P21,   230,  1,     25, X12007,2,20090608,0200,-17.8340, 172.9927, 3145,    799.8,2,   4.9512,2,   4.95197,2,  34.4073,2,  34.4073,2,   173.50,2,   173.27,2,    38.16,2,     0.20,    31.85,2,     0.12,     0.01,2,     0.01,    2.231,2,    0.016,    0.266,2,    0.141,2,    0.009,2,   -999.0,9,   -999.0,9,-999.0000,-999,9,  -999.00,9,  -999.00,   -999.0,9,   -999.0,   4.8862,  27.2184
  49NZ20090521,   P21,   230,  1,     24, X12035,2,20090608,0200,-17.8340, 172.9927, 3145,    900.2,2,   4.3522,2,   4.35242,2,  34.4368,2,  34.4369,2,   165.80,2,   165.51,2,    50.37,2,     0.23,    33.17,2,     0.13,     0.01,2,     0.01,    2.325,2,    0.016,    0.126,2,    0.071,2,    0.012,2,   -999.0,9,   -999.0,9,-999.0000,-999,9,  -999.00,9,  -999.00,   -999.0,9,   -999.0,   4.2824,  27.3084
  49NZ20090521,   P21,   230,  1,     23, X12038,2,20090608,0200,-17.8340, 172.9927, 3145,   1000.7,2,   3.9629,2,   3.96458,2,  34.4666,2,  34.4663,6,   160.04,2,   159.89,2,    60.26,2,     0.25,    33.96,2,     0.13,     0.01,2,     0.01,    2.388,2,    0.016,    0.072,2,    0.041,2,    0.006,2,   -999.0,9,   -999.0,9,-999.0000,-999,9,  -999.00,9,  -999.00,   -999.0,9,   -999.0,   3.8875,  27.3734
  49NZ20090521,   P21,   230,  1,     22, X12034,2,20090608,0200,-17.8340, 172.9927, 3145,   1200.9,2,   3.4039,2,   3.40320,2,  34.5209,2,  34.5208,2,   151.81,2,   151.50,2,    77.64,2,     0.29,    35.03,2,     0.13,     0.01,2,     0.01,    2.469,2,    0.016,    0.026,2,    0.015,2,    0.014,2,   -999.0,9,   -999.0,9,-999.0000,-999,9,  -999.00,9,  -999.00,   -999.0,9,   -999.0,   3.3167,  27.4730
  49NZ20090521,   P21,   230,  1,     21, X12033,2,20090608,0200,-17.8340, 172.9927, 3145,   1400.1,2,   3.0985,2,   3.09879,2,  34.5530,2,  34.5529,2,   148.16,2,   147.90,2,    88.02,2,     0.31,    35.44,2,     0.13,     0.01,2,     0.01,    2.501,2,    0.016,    0.012,2,    0.008,2,    0.000,2,   -999.0,9,   -999.0,9,-999.0000,-999,9,  -999.00,9,  -999.00,   -999.0,9,   -999.0,   2.9979,  27.5285
  49NZ20090521,   P21,   230,  1,     20, X12032,2,20090608,0200,-17.8340, 172.9927, 3145,   1602.0,2,   2.7625,2,   2.76271,2,  34.5862,2,  34.5860,2,   145.40,2,   145.12,2,    98.94,2,     0.34,    35.79,2,     0.13,     0.01,2,     0.01,    2.530,2,    0.016,    0.005,2,    0.003,2,    0.000,2,   -999.0,9,   -999.0,9,-999.0000,-999,9,  -999.00,9,  -999.00,   -999.0,9,   -999.0,   2.6490,  27.5862
  49NZ20090521,   P21,   230,  1,     19, X12046,2,20090608,0200,-17.8340, 172.9927, 3145,   1803.2,2,   2.5229,2,   2.52248,2,  34.6078,2,  34.6069,2,   145.18,2,   144.94,2,   106.31,2,     0.35,    35.96,2,     0.13,     0.01,2,     0.01,    2.536,2,    0.016,    0.002,2,    0.002,2,    0.000,2,   -999.0,9,   -999.0,9,-999.0000,-999,9,  -999.00,9,  -999.00,   -999.0,9,   -999.0,   2.3955,  27.6251
  49NZ20090521,   P21,   230,  1,     18, X12006,2,20090608,0200,-17.8340, 172.9927, 3145,   2002.1,2,   2.2909,2,   2.29122,2,  34.6276,2,  34.6273,6,   145.69,2,   145.47,2,   113.11,2,     0.37,    36.00,2,     0.13,     0.01,2,     0.01,    2.542,2,    0.016,    0.001,2,    0.000,2,    0.000,2,   -999.0,9,   -999.0,9,-999.0000,-999,9,  -999.00,9,  -999.00,   -999.0,9,   -999.0,   2.1499,  27.6613
  49NZ20090521,   P21,   230,  1,     17, X12047,2,20090608,0200,-17.8340, 172.9927, 3145,   2201.2,2,   2.1238,2,   2.12404,2,  34.6414,2,  34.6413,2,   145.62,2,   145.38,2,   118.93,2,     0.38,    36.05,2,     0.13,     0.01,2,     0.01,    2.543,2,    0.016,    0.001,2,    0.001,2,    0.000,2,   -999.0,9,   -999.0,9,-999.0000,-999,9,  -999.00,9,  -999.00,   -999.0,9,   -999.0,   1.9681,  27.6869
  49NZ20090521,   P21,   230,  1,     16, X12004,2,20090608,0200,-17.8340, 172.9927, 3145,   2402.2,2,   2.0199,2,   2.01997,2,  34.6499,2,  34.6497,2,   145.45,2,   145.09,2,   122.86,2,     0.39,    36.15,2,     0.13,     0.01,2,     0.01,    2.548,2,    0.016,    0.001,2,    0.001,2,    0.000,2,   -999.0,9,   -999.0,9,-999.0000,-999,9,  -999.00,9,  -999.00,   -999.0,9,   -999.0,   1.8481,  27.7031
  49NZ20090521,   P21,   230,  1,     15, X12003,2,20090608,0200,-17.8340, 172.9927, 3145,   2603.2,2,   1.9720,2,   1.97188,2,  34.6539,2,  34.6537,2,   145.05,2,   144.81,2,   124.92,2,     0.39,    36.25,2,     0.13,     0.01,2,     0.01,    2.554,2,    0.016,    0.000,2,    0.000,2,    0.000,2,   -999.0,9,   -999.0,9,-999.0000,-999,9,  -999.00,9,  -999.00,   -999.0,9,   -999.0,   1.7828,  27.7113
  49NZ20090521,   P21,   230,  1,     14, X12002,2,20090608,0200,-17.8340, 172.9927, 3145,   2800.2,2,   1.9005,2,   1.90047,2,  34.6589,2,  34.6586,2,   144.74,2,   144.35,2,   128.09,2,     0.40,    36.31,2,     0.13,     0.01,2,     0.01,    2.565,2,    0.016,    0.000,2,    0.000,2,    0.000,2,   -999.0,9,   -999.0,9,-999.0000,-999,9,  -999.00,9,  -999.00,   -999.0,9,   -999.0,   1.6942,  27.7220
  49NZ20090521,   P21,   230,  1,     13, X12001,9,20090608,0200,-17.8340, 172.9927, 3145,      9.3,2,  26.4806,2,  26.49569,2,  34.7767,2,-999.0000,9,   202.56,2,  -999.00,9,  -999.00,9,  -999.00,  -999.00,9,  -999.00,  -999.00,9,  -999.00, -999.000,9, -999.000, -999.000,9, -999.000,9, -999.000,9,   -999.0,9,   -999.0,9,-999.0000,-999,9,  -999.00,9,  -999.00,   -999.0,9,   -999.0,  26.4785,  22.7149
  49NZ20090521,   P21,   230,  1,     12, X12030,9,20090608,0200,-17.8340, 172.9927, 3145,     51.0,2,  26.4018,2,  26.40192,2,  34.7715,2,-999.0000,9,   202.26,2,  -999.00,9,  -999.00,9,  -999.00,  -999.00,9,  -999.00,  -999.00,9,  -999.00, -999.000,9, -999.000, -999.000,9, -999.000,9, -999.000,9,   -999.0,9,   -999.0,9,-999.0000,-999,9,  -999.00,9,  -999.00,   -999.0,9,   -999.0,  26.3903,  22.7388
  49NZ20090521,   P21,   230,  1,     11, X12044,9,20090608,0200,-17.8340, 172.9927, 3145,     99.9,2,  24.5497,2,  24.54929,2,  35.3730,2,-999.0000,9,   182.30,2,  -999.00,9,  -999.00,9,  -999.00,  -999.00,9,  -999.00,  -999.00,9,  -999.00, -999.000,9, -999.000, -999.000,9, -999.000,9, -999.000,9,   -999.0,9,   -999.0,9,-999.0000,-999,9,  -999.00,9,  -999.00,   -999.0,9,   -999.0,  24.5283,  23.7659
  49NZ20090521,   P21,   230,  1,     10, X12048,9,20090608,0200,-17.8340, 172.9927, 3145,    150.4,2,  23.0380,2,  23.03807,2,  35.6809,2,-999.0000,9,   158.81,2,  -999.00,9,  -999.00,9,  -999.00,  -999.00,9,  -999.00,  -999.00,9,  -999.00, -999.000,9, -999.000, -999.000,9, -999.000,9, -999.000,9,   -999.0,9,   -999.0,9,-999.0000,-999,9,  -999.00,9,  -999.00,   -999.0,9,   -999.0,  23.0072,  24.4481
  49NZ20090521,   P21,   230,  1,      9, X12027,9,20090608,0200,-17.8340, 172.9927, 3145,    201.0,2,  21.1411,2,  21.14573,2,  35.7185,2,-999.0000,9,   158.87,2,  -999.00,9,  -999.00,9,  -999.00,  -999.00,9,  -999.00,  -999.00,9,  -999.00, -999.000,9, -999.000, -999.000,9, -999.000,9, -999.000,9,   -999.0,9,   -999.0,9,-999.0000,-999,9,  -999.00,9,  -999.00,   -999.0,9,   -999.0,  21.1023,  25.0130
  49NZ20090521,   P21,   230,  1,      8, X12026,9,20090608,0200,-17.8340, 172.9927, 3145,    250.5,2,  19.1414,2,  19.14544,2,  35.5916,2,-999.0000,9,   165.67,2,  -999.00,9,  -999.00,9,  -999.00,  -999.00,9,  -999.00,  -999.00,9,  -999.00, -999.000,9, -999.000, -999.000,9, -999.000,9, -999.000,9,   -999.0,9,   -999.0,9,-999.0000,-999,9,  -999.00,9,  -999.00,   -999.0,9,   -999.0,  19.0963,  25.4487
  49NZ20090521,   P21,   230,  1,      7, X12025,9,20090608,0200,-17.8340, 172.9927, 3145,    299.5,2,  17.2629,2,  17.26455,2,  35.4145,2,-999.0000,9,   170.10,2,  -999.00,9,  -999.00,9,  -999.00,  -999.00,9,  -999.00,  -999.00,9,  -999.00, -999.000,9, -999.000, -999.000,9, -999.000,9, -999.000,9,   -999.0,9,   -999.0,9,-999.0000,-999,9,  -999.00,9,  -999.00,   -999.0,9,   -999.0,  17.2127,  25.7816
  49NZ20090521,   P21,   230,  1,      6, X12024,9,20090608,0200,-17.8340, 172.9927, 3145,    399.9,2,  12.2898,2,  12.28841,2,  34.8804,2,-999.0000,9,   167.46,2,  -999.00,9,  -999.00,9,  -999.00,  -999.00,9,  -999.00,  -999.00,9,  -999.00, -999.000,9, -999.000, -999.000,9, -999.000,9, -999.000,9,   -999.0,9,   -999.0,9,-999.0000,-999,9,  -999.00,9,  -999.00,   -999.0,9,   -999.0,  12.2364,  26.4508
  49NZ20090521,   P21,   230,  1,      5, X12028,9,20090608,0200,-17.8340, 172.9927, 3145,    500.9,2,   9.4714,2,   9.47756,2,  34.6212,2,-999.0000,9,   176.52,2,  -999.00,9,  -999.00,9,  -999.00,  -999.00,9,  -999.00,  -999.00,9,  -999.00, -999.000,9, -999.000, -999.000,9, -999.000,9, -999.000,9,   -999.0,9,   -999.0,9,-999.0000,-999,9,  -999.00,9,  -999.00,   -999.0,9,   -999.0,   9.4146,  26.7542
  49NZ20090521,   P21,   230,  1,      4, X12022,9,20090608,0200,-17.8340, 172.9927, 3145,    599.2,2,   7.1386,2,   7.13782,2,  34.4439,2,-999.0000,9,   190.77,2,  -999.00,9,  -999.00,9,  -999.00,  -999.00,9,  -999.00,  -999.00,9,  -999.00, -999.000,9, -999.000, -999.000,9, -999.000,9, -999.000,9,   -999.0,9,   -999.0,9,-999.0000,-999,9,  -999.00,9,  -999.00,   -999.0,9,   -999.0,   7.0807,  26.9695
  49NZ20090521,   P21,   230,  1,      3, X12021,9,20090608,0200,-17.8340, 172.9927, 3145,    699.5,2,   5.7959,2,   5.79517,2,  34.3915,2,-999.0000,9,   186.71,2,  -999.00,9,  -999.00,9,  -999.00,  -999.00,9,  -999.00,  -999.00,9,  -999.00, -999.000,9, -999.000, -999.000,9, -999.000,9, -999.000,9,   -999.0,9,   -999.0,9,-999.0000,-999,9,  -999.00,9,  -999.00,   -999.0,9,   -999.0,   5.7350,  27.1050
  49NZ20090521,   P21,   230,  1,      2, X12020,9,20090608,0200,-17.8340, 172.9927, 3145,   1400.3,2,   3.1000,2,   3.10024,2,  34.5529,2,-999.0000,9,   148.17,2,  -999.00,9,  -999.00,9,  -999.00,  -999.00,9,  -999.00,  -999.00,9,  -999.00, -999.000,9, -999.000, -999.000,9, -999.000,9, -999.000,9,   -999.0,9,   -999.0,9,-999.0000,-999,9,  -999.00,9,  -999.00,   -999.0,9,   -999.0,   2.9994,  27.5282
  49NZ20090521,   P21,   230,  1,      1, X12019,2,20090608,0200,-17.8340, 172.9927, 3145,   2991.9,2,   1.9078,2,   1.90766,2,  34.6593,2,  34.6594,6,   144.64,2,   144.22,2,   128.37,2,     0.40,    36.31,2,     0.13,     0.01,2,     0.01,    2.563,2,    0.016,    0.000,2,    0.000,2,    0.000,2,   -999.0,9,   -999.0,9,-999.0000,-999,9,  -999.00,9,  -999.00,   -999.0,9,   -999.0,   1.6829,  27.7232