BOTTLE,20111109CCHDOSIOCBG
EXPOCODE,SECT_ID,STNNBR,CASTNO,SAMPNO,BTLNBR,BTLNBR_FLAG_W,DATE,TIME,LATITUDE,LONGITUDE,DEPTH,CTDPRS,CTDPRS_FLAG_W,CTDTMP,CTDTMP_FLAG_W,SBE35,SBE35_FLAG_W,CTDSAL,CTDSAL_FLAG_W,SALNTY,SALNTY_FLAG_W,CTDOXY,CTDOXY_FLAG_W,OXYGEN,OXYGEN_FLAG_W,SILCAT,SILCAT_FLAG_W,SILUNC,NITRAT,NITRAT_FLAG_W,NRAUNC,NITRIT,NITRIT_FLAG_W,NRIUNC,PHSPHT,PHSPHT_FLAG_W,PHPUNC,CFC-11,CFC-11_FLAG_W,CFC-12,CFC-12_FLAG_W,CFC113,CFC113_FLAG_W,TCARBN,TCARBN_FLAG_W,ALKALI,ALKALI_FLAG_W,PH_TOT,PH_TMP,PH_TOT_FLAG_W,DELC13,DELC13_FLAG_W,C13ERR,DELC14,DELC14_FLAG_W,C14ERR,THETA,SIG0
,,,,,,,,,,,METERS,DBAR,,ITS-90,,ITS-90,,PSS-78,,PSS-78,,UMOL/KG,,UMOL/KG,,UMOL/KG,,UMOL/KG,UMOL/KG,,UMOL/KG,UMOL/KG,,UMOL/KG,UMOL/KG,,UMOL/KG,PMOL/KG,,PMOL/KG,,PMOL/KG,,UMOL/KG,,UMOL/KG,,,DEG C,,/MILLE,,/MILLE,/MILLE,,/MILLE,DEG C,KG/M^3
  49NZ20090521,   P21,   279,  1,      0,   -999,9,20090616,0820,-24.0428, 156.2527, 2021,   -999.0,9,-999.0000,9,-999.00000,9,-999.0000,9,  35.2269,2,  -999.00,9,  -999.00,9,  -999.00,9,  -999.00,  -999.00,9,  -999.00,  -999.00,9,  -999.00, -999.000,9, -999.000, -999.000,9, -999.000,9, -999.000,9,   -999.0,9,   -999.0,9,-999.0000,-999,9,  -999.00,9,  -999.00,   -999.0,9,   -999.0,-999.0000,-999.0000
  49NZ20090521,   P21,   279,  1,     36, X12043,2,20090616,0820,-24.0428, 156.2527, 2021,     10.3,2,  23.1988,2,  23.19879,2,  35.2761,2,  35.2745,2,   212.64,2,   212.29,2,     0.64,2,     0.12,     0.06,2,     0.03,     0.01,2,     0.01,    0.100,2,    0.022,    1.730,2,    1.094,2, -999.000,5,   1983.6,2,   2311.3,2,   8.0847,  25,6,  -999.00,9,  -999.00,   -999.0,9,   -999.0,  23.1967,  24.0861
  49NZ20090521,   P21,   279,  1,     35, X12042,2,20090616,0820,-24.0428, 156.2527, 2021,     50.3,2,  22.9972,2,  22.99852,2,  35.3303,2,  35.3288,2,   211.04,2,   211.12,2,     0.57,2,     0.12,     0.13,2,     0.03,     0.02,2,     0.01,    0.106,2,    0.021,    1.745,2,    1.099,2, -999.000,5,   1991.4,6,   2314.8,2,   8.0769,  25,2,  -999.00,9,  -999.00,   -999.0,9,   -999.0,  22.9869,  24.1879
  49NZ20090521,   P21,   279,  1,     34, X12016,2,20090616,0820,-24.0428, 156.2527, 2021,    100.5,2,  22.4429,2,  22.44295,2,  35.4083,2,  35.4149,2,   209.70,2,   209.26,2,     0.61,2,     0.12,     0.24,2,     0.03,     0.07,2,     0.01,    0.134,2,    0.019,    1.810,6,    1.140,6, -999.000,5,   2003.8,2,   2320.3,6,   8.0620,  25,2,  -999.00,9,  -999.00,   -999.0,9,   -999.0,  22.4227,  24.4087
  49NZ20090521,   P21,   279,  1,     33, X12015,2,20090616,0820,-24.0428, 156.2527, 2021,    150.3,2,  20.6742,2,  20.67493,2,  35.6384,2,  35.6369,2,   177.22,2,   177.17,2,     1.12,2,     0.12,     4.02,2,     0.04,     0.03,2,     0.01,    0.392,2,    0.013,    1.988,2,    1.214,2,    0.132,2,   2060.8,2,   2333.6,2,   7.9837,  25,2,  -999.00,9,  -999.00,   -999.0,9,   -999.0,  20.6457,  25.0762
  49NZ20090521,   P21,   279,  1,     32, X12050,2,20090616,0820,-24.0428, 156.2527, 2021,    202.2,2,  19.0650,2,  19.06639,2,  35.6331,2,  35.6316,2,   191.92,2,   191.81,2,     1.27,2,     0.12,     3.81,2,     0.04,     0.02,2,     0.01,    0.381,2,    0.013,    2.115,2,    1.283,2,    0.122,2,   2065.3,2,   2333.6,2,   7.9752,  25,2,  -999.00,9,  -999.00,   -999.0,9,   -999.0,  19.0287,  25.4978
  49NZ20090521,   P21,   279,  1,     31, X12014,2,20090616,0820,-24.0428, 156.2527, 2021,    251.4,2,  17.6037,2,  17.60408,2,  35.5687,2,  35.5710,6,   183.98,2,   183.53,2,     1.71,2,     0.12,     6.39,2,     0.05,     0.02,2,     0.01,    0.536,2,    0.013,    2.191,2,    1.298,2,    0.037,2,   2083.7,2,   2330.9,2,   7.9382,  25,2,  -999.00,9,  -999.00,   -999.0,9,   -999.0,  17.5610,  25.8156
  49NZ20090521,   P21,   279,  1,     30, X12012,2,20090616,0820,-24.0428, 156.2527, 2021,    280.1,2,  16.8268,2,  16.82763,2,  35.5151,2,  35.5106,2,   185.73,2,   185.60,2,     2.03,2,     0.12,     7.30,2,     0.05,     0.02,2,     0.01,    0.593,2,    0.013,    2.221,2,    1.309,2,    0.042,2,   2091.5,2,   2327.0,2,   7.9203,  25,2,  -999.00,9,  -999.00,   -999.0,9,   -999.0,  16.7806,  25.9619
  49NZ20090521,   P21,   279,  1,     29, X12041,3,20090616,0820,-24.0428, 156.2527, 2021,    370.0,2,  14.5061,2,  14.50882,2,  35.2790,2,  35.2787,2,   184.94,2,   184.99,2,     3.39,2,     0.13,    10.78,2,     0.06,     0.01,2,     0.01,    0.826,2,    0.013,    2.274,6,    1.289,6,    0.046,6,   2111.7,2,   2316.4,2,   7.8638,  25,2,  -999.00,9,  -999.00,   -999.0,9,   -999.0,  14.4509,  26.3067
  49NZ20090521,   P21,   279,  1,     28, X12040,2,20090616,0820,-24.0428, 156.2527, 2021,    469.8,2,  11.7823,2,  11.77937,2,  34.9622,2,  34.9622,6,   188.75,2,   188.92,2,     5.52,2,     0.13,    15.35,2,     0.08,     0.01,2,     0.01,    1.120,2,    0.013,    2.175,2,    1.180,2,    0.047,2,   2128.9,2,   2303.2,2,   7.7989,  25,2,  -999.00,9,  -999.00,   -999.0,9,   -999.0,  11.7211,  26.6128
  49NZ20090521,   P21,   279,  1,     27, X12009,2,20090616,0820,-24.0428, 156.2527, 2021,    569.7,2,   9.5880,2,   9.58770,2,  34.7158,2,  34.7132,2,   195.46,2,   195.52,2,     8.22,2,     0.14,    19.62,2,     0.09,     0.01,2,     0.01,    1.391,2,    0.014,    2.013,6,    1.066,6,    0.057,6,   2144.6,2,   2294.9,2,   7.7503,  25,2,  -999.00,9,  -999.00,   -999.0,9,   -999.0,   9.5226,  26.8104
  49NZ20090521,   P21,   279,  1,     26, X12008,2,20090616,0820,-24.0428, 156.2527, 2021,    669.3,2,   7.7209,2,   7.72338,2,  34.5193,2,  34.5153,2,   202.31,2,   202.67,2,    12.65,2,     0.15,    23.33,2,     0.10,     0.01,2,     0.01,    1.636,2,    0.014,    1.567,2,    0.809,2,    0.042,2,   2154.2,6,   2290.0,2,   7.7149,  25,2,  -999.00,9,  -999.00,   -999.0,9,   -999.0,   7.6530,  26.9474
  49NZ20090521,   P21,   279,  1,     25, X12007,2,20090616,0820,-24.0428, 156.2527, 2021,    769.4,2,   6.4409,2,   6.43901,2,  34.4310,2,  34.4316,2,   200.56,2,   200.90,2,    19.78,2,     0.16,    26.38,2,     0.11,     0.01,2,     0.01,    1.850,2,    0.015,    1.042,2,    0.539,2,    0.023,2,   2170.0,2,   2292.2,6,   7.6855,  25,2,  -999.00,9,  -999.00,   -999.0,9,   -999.0,   6.3698,  27.0554
  49NZ20090521,   P21,   279,  1,     24, X12035,2,20090616,0820,-24.0428, 156.2527, 2021,    870.4,2,   5.7412,2,   5.74644,2,  34.4296,2,  34.4291,2,   191.86,2,   192.13,2,    28.82,2,     0.18,    28.50,2,     0.11,     0.01,2,     0.01,    1.995,2,    0.015,    0.662,2,    0.344,2,    0.018,2,   2186.3,2,   2301.2,2,   7.6625,  25,6,  -999.00,9,  -999.00,   -999.0,9,   -999.0,   5.6647,  27.1438
  49NZ20090521,   P21,   279,  1,     23, X12038,2,20090616,0820,-24.0428, 156.2527, 2021,    970.2,2,   5.0578,2,   5.05603,2,  34.4417,2,  34.4421,6,   181.30,2,   181.18,2,    40.38,2,     0.21,    30.39,2,     0.12,     0.01,2,     0.01,    2.131,2,    0.015,    0.370,2,    0.198,2,    0.015,2,   2206.1,2,   2312.9,2,   7.6393,  25,2,  -999.00,9,  -999.00,   -999.0,9,   -999.0,   4.9769,  27.2353
  49NZ20090521,   P21,   279,  1,     22, X12034,2,20090616,0820,-24.0428, 156.2527, 2021,   1130.3,2,   4.2218,2,   4.22195,2,  34.4851,2,  34.4876,3,   166.06,2,   166.28,2,    59.84,2,     0.25,    32.67,2,     0.12,     0.01,2,     0.01,    2.296,2,    0.016,    0.136,2,    0.078,2,    0.000,2,   2235.8,2,   2333.8,2,   7.6120,  25,2,  -999.00,9,  -999.00,   -999.0,9,   -999.0,   4.1333,  27.3627
  49NZ20090521,   P21,   279,  1,     21, X12033,2,20090616,0820,-24.0428, 156.2527, 2021,   1329.6,2,   3.5487,2,   3.55131,2,  34.5375,2,  34.5401,3,   155.30,2,   154.93,2,    78.04,2,     0.29,    34.17,2,     0.13,     0.01,2,     0.01,    2.418,2,    0.016,    0.041,2,    0.025,2,    0.000,2,   2262.6,2,   2353.9,2,   7.5941,  25,2,  -999.00,9,  -999.00,   -999.0,9,   -999.0,   3.4493,  27.4735
  49NZ20090521,   P21,   279,  1,     20, X12032,2,20090616,0820,-24.0428, 156.2527, 2021,   1529.9,2,   3.0272,2,   3.02702,2,  34.5828,2,  34.5831,6,   148.41,2,   148.25,2,    91.17,2,     0.32,    35.07,2,     0.13,     0.01,2,     0.01,    2.486,2,    0.016,    0.010,2,    0.007,2,    0.000,2,   2279.1,2,   2368.0,2,   7.5818,  25,6,  -999.00,9,  -999.00,   -999.0,9,   -999.0,   2.9165,  27.5596
  49NZ20090521,   P21,   279,  1,     19, X12046,2,20090616,0820,-24.0428, 156.2527, 2021,   1730.1,2,   2.6661,2,   2.66593,2,  34.6186,2,  34.6191,2,   150.51,2,   150.40,2,    96.65,2,     0.33,    35.05,2,     0.13,     0.01,2,     0.01,    2.480,2,    0.016,    0.006,2,    0.004,2,    0.000,2,   2286.1,2,   2373.5,2,   7.5809,  25,2,  -999.00,9,  -999.00,   -999.0,9,   -999.0,   2.5430,  27.6213
  49NZ20090521,   P21,   279,  1,     18, X12006,2,20090616,0820,-24.0428, 156.2527, 2021,   1931.1,2,   2.4206,2,   2.42040,2,  34.6445,2,  34.6457,2,   154.12,2,   154.34,2,   100.01,2,     0.34,    34.82,2,     0.13,     0.01,2,     0.01,    2.458,2,    0.016,    0.005,2,    0.003,2,    0.000,2,   2285.8,2,   2377.0,2,   7.5841,  25,2,  -999.00,9,  -999.00,   -999.0,9,   -999.0,   2.2837,  27.6639
  49NZ20090521,   P21,   279,  1,     17, X12047,9,20090616,0820,-24.0428, 156.2527, 2021,     10.3,2,  23.2000,2,  23.19946,2,  35.2757,2,-999.0000,9,   212.60,2,  -999.00,9,  -999.00,9,  -999.00,  -999.00,9,  -999.00,  -999.00,9,  -999.00, -999.000,9, -999.000, -999.000,9, -999.000,9, -999.000,9,   -999.0,9,   -999.0,9,-999.0000,-999,9,  -999.00,9,  -999.00,   -999.0,9,   -999.0,  23.1979,  24.0855
  49NZ20090521,   P21,   279,  1,     16, X12004,9,20090616,0820,-24.0428, 156.2527, 2021,     49.8,2,  22.9837,2,  22.99105,2,  35.3322,2,-999.0000,9,   210.99,2,  -999.00,9,  -999.00,9,  -999.00,  -999.00,9,  -999.00,  -999.00,9,  -999.00, -999.000,9, -999.000, -999.000,9, -999.000,9, -999.000,9,   -999.0,9,   -999.0,9,-999.0000,-999,9,  -999.00,9,  -999.00,   -999.0,9,   -999.0,  22.9735,  24.1932
  49NZ20090521,   P21,   279,  1,     15, X12003,9,20090616,0820,-24.0428, 156.2527, 2021,    100.5,2,  22.4392,2,  22.43696,2,  35.4086,2,-999.0000,9,   209.78,2,  -999.00,9,  -999.00,9,  -999.00,  -999.00,9,  -999.00,  -999.00,9,  -999.00, -999.000,9, -999.000, -999.000,9, -999.000,9, -999.000,9,   -999.0,9,   -999.0,9,-999.0000,-999,9,  -999.00,9,  -999.00,   -999.0,9,   -999.0,  22.4190,  24.4100
  49NZ20090521,   P21,   279,  1,     14, X12002,9,20090616,0820,-24.0428, 156.2527, 2021,    150.9,2,  20.6727,2,  20.67498,2,  35.6389,2,-999.0000,9,   177.34,2,  -999.00,9,  -999.00,9,  -999.00,  -999.00,9,  -999.00,  -999.00,9,  -999.00, -999.000,9, -999.000, -999.000,9, -999.000,9, -999.000,9,   -999.0,9,   -999.0,9,-999.0000,-999,9,  -999.00,9,  -999.00,   -999.0,9,   -999.0,  20.6441,  25.0770
  49NZ20090521,   P21,   279,  1,     13, X12001,9,20090616,0820,-24.0428, 156.2527, 2021,    202.0,2,  19.0612,2,  19.06217,2,  35.6333,2,-999.0000,9,   192.06,2,  -999.00,9,  -999.00,9,  -999.00,  -999.00,9,  -999.00,  -999.00,9,  -999.00, -999.000,9, -999.000, -999.000,9, -999.000,9, -999.000,9,   -999.0,9,   -999.0,9,-999.0000,-999,9,  -999.00,9,  -999.00,   -999.0,9,   -999.0,  19.0249,  25.4989
  49NZ20090521,   P21,   279,  1,     12, X12030,9,20090616,0820,-24.0428, 156.2527, 2021,    251.6,2,  17.6161,2,  17.61921,2,  35.5693,2,-999.0000,9,   183.99,2,  -999.00,9,  -999.00,9,  -999.00,  -999.00,9,  -999.00,  -999.00,9,  -999.00, -999.000,9, -999.000, -999.000,9, -999.000,9, -999.000,9,   -999.0,9,   -999.0,9,-999.0000,-999,9,  -999.00,9,  -999.00,   -999.0,9,   -999.0,  17.5733,  25.8130
  49NZ20090521,   P21,   279,  1,     11, X12044,9,20090616,0820,-24.0428, 156.2527, 2021,    280.0,2,  16.8258,2,  16.82569,2,  35.5153,2,-999.0000,9,   185.87,2,  -999.00,9,  -999.00,9,  -999.00,  -999.00,9,  -999.00,  -999.00,9,  -999.00, -999.000,9, -999.000, -999.000,9, -999.000,9, -999.000,9,   -999.0,9,   -999.0,9,-999.0000,-999,9,  -999.00,9,  -999.00,   -999.0,9,   -999.0,  16.7796,  25.9623
  49NZ20090521,   P21,   279,  1,     10, X12048,9,20090616,0820,-24.0428, 156.2527, 2021,    370.2,2,  14.4971,2,  14.49814,2,  35.2781,2,-999.0000,9,   184.97,2,  -999.00,9,  -999.00,9,  -999.00,  -999.00,9,  -999.00,  -999.00,9,  -999.00, -999.000,9, -999.000, -999.000,9, -999.000,9, -999.000,9,   -999.0,9,   -999.0,9,-999.0000,-999,9,  -999.00,9,  -999.00,   -999.0,9,   -999.0,  14.4419,  26.3079
  49NZ20090521,   P21,   279,  1,      9, X12027,9,20090616,0820,-24.0428, 156.2527, 2021,    469.7,2,  11.7900,2,  11.78445,2,  34.9632,2,-999.0000,9,   188.81,2,  -999.00,9,  -999.00,9,  -999.00,  -999.00,9,  -999.00,  -999.00,9,  -999.00, -999.000,9, -999.000, -999.000,9, -999.000,9, -999.000,9,   -999.0,9,   -999.0,9,-999.0000,-999,9,  -999.00,9,  -999.00,   -999.0,9,   -999.0,  11.7288,  26.6121
  49NZ20090521,   P21,   279,  1,      8, X12026,9,20090616,0820,-24.0428, 156.2527, 2021,    570.0,2,   9.5858,2,   9.58724,2,  34.7159,2,-999.0000,9,   195.56,2,  -999.00,9,  -999.00,9,  -999.00,  -999.00,9,  -999.00,  -999.00,9,  -999.00, -999.000,9, -999.000, -999.000,9, -999.000,9, -999.000,9,   -999.0,9,   -999.0,9,-999.0000,-999,9,  -999.00,9,  -999.00,   -999.0,9,   -999.0,   9.5203,  26.8108
  49NZ20090521,   P21,   279,  1,      7, X12025,9,20090616,0820,-24.0428, 156.2527, 2021,    669.7,2,   7.7234,2,   7.72451,2,  34.5193,2,-999.0000,9,   202.58,2,  -999.00,9,  -999.00,9,  -999.00,  -999.00,9,  -999.00,  -999.00,9,  -999.00, -999.000,9, -999.000, -999.000,9, -999.000,9, -999.000,9,   -999.0,9,   -999.0,9,-999.0000,-999,9,  -999.00,9,  -999.00,   -999.0,9,   -999.0,   7.6554,  26.9471
  49NZ20090521,   P21,   279,  1,      6, X12024,9,20090616,0820,-24.0428, 156.2527, 2021,    769.4,2,   6.4455,2,   6.44561,2,  34.4310,2,-999.0000,9,   201.19,2,  -999.00,9,  -999.00,9,  -999.00,  -999.00,9,  -999.00,  -999.00,9,  -999.00, -999.000,9, -999.000, -999.000,9, -999.000,9, -999.000,9,   -999.0,9,   -999.0,9,-999.0000,-999,9,  -999.00,9,  -999.00,   -999.0,9,   -999.0,   6.3743,  27.0548
  49NZ20090521,   P21,   279,  1,      5, X12028,9,20090616,0820,-24.0428, 156.2527, 2021,    870.5,2,   5.7371,2,   5.74076,2,  34.4302,2,-999.0000,9,   192.34,2,  -999.00,9,  -999.00,9,  -999.00,  -999.00,9,  -999.00,  -999.00,9,  -999.00, -999.000,9, -999.000, -999.000,9, -999.000,9, -999.000,9,   -999.0,9,   -999.0,9,-999.0000,-999,9,  -999.00,9,  -999.00,   -999.0,9,   -999.0,   5.6606,  27.1448
  49NZ20090521,   P21,   279,  1,      4, X12022,9,20090616,0820,-24.0428, 156.2527, 2021,    970.1,2,   5.1206,2,   5.08755,2,  34.4397,2,-999.0000,9,   180.89,2,  -999.00,9,  -999.00,9,  -999.00,  -999.00,9,  -999.00,  -999.00,9,  -999.00, -999.000,9, -999.000, -999.000,9, -999.000,9, -999.000,9,   -999.0,9,   -999.0,9,-999.0000,-999,9,  -999.00,9,  -999.00,   -999.0,9,   -999.0,   5.0392,  27.2265
  49NZ20090521,   P21,   279,  1,      3, X12021,9,20090616,0820,-24.0428, 156.2527, 2021,    150.7,2,  20.6778,2,  20.67728,2,  35.6384,2,-999.0000,9,   177.15,2,  -999.00,9,  -999.00,9,  -999.00,  -999.00,9,  -999.00,  -999.00,9,  -999.00, -999.000,9, -999.000, -999.000,9, -999.000,9, -999.000,9,   -999.0,9,   -999.0,9,-999.0000,-999,9,  -999.00,9,  -999.00,   -999.0,9,   -999.0,  20.6492,  25.0752
  49NZ20090521,   P21,   279,  1,      2, X12020,9,20090616,0820,-24.0428, 156.2527, 2021,   1329.8,2,   3.5531,2,   3.55160,2,  34.5367,2,-999.0000,9,   155.43,2,  -999.00,9,  -999.00,9,  -999.00,  -999.00,9,  -999.00,  -999.00,9,  -999.00, -999.000,9, -999.000, -999.000,9, -999.000,9, -999.000,9,   -999.0,9,   -999.0,9,-999.0000,-999,9,  -999.00,9,  -999.00,   -999.0,9,   -999.0,   3.4537,  27.4725
  49NZ20090521,   P21,   279,  1,      1, X12019,2,20090616,0820,-24.0428, 156.2527, 2021,   2028.1,2,   2.3495,2,   2.34929,2,  34.6550,2,  34.6556,6,   157.95,2,   157.85,2,    98.76,2,     0.34,    34.55,2,     0.13,     0.01,2,     0.01,    2.437,2,    0.016,    0.004,2,    0.005,2,    0.000,2,   2282.4,2,   2375.0,2,   7.5865,  25,2,  -999.00,9,  -999.00,   -999.0,9,   -999.0,   2.2053,  27.6788