BOTTLE,20111109CCHDOSIOCBG
EXPOCODE,SECT_ID,STNNBR,CASTNO,SAMPNO,BTLNBR,BTLNBR_FLAG_W,DATE,TIME,LATITUDE,LONGITUDE,DEPTH,CTDPRS,CTDPRS_FLAG_W,CTDTMP,CTDTMP_FLAG_W,SBE35,SBE35_FLAG_W,CTDSAL,CTDSAL_FLAG_W,SALNTY,SALNTY_FLAG_W,CTDOXY,CTDOXY_FLAG_W,OXYGEN,OXYGEN_FLAG_W,SILCAT,SILCAT_FLAG_W,SILUNC,NITRAT,NITRAT_FLAG_W,NRAUNC,NITRIT,NITRIT_FLAG_W,NRIUNC,PHSPHT,PHSPHT_FLAG_W,PHPUNC,CFC-11,CFC-11_FLAG_W,CFC-12,CFC-12_FLAG_W,CFC113,CFC113_FLAG_W,TCARBN,TCARBN_FLAG_W,ALKALI,ALKALI_FLAG_W,PH_TOT,PH_TMP,PH_TOT_FLAG_W,DELC13,DELC13_FLAG_W,C13ERR,DELC14,DELC14_FLAG_W,C14ERR,THETA,SIG0
,,,,,,,,,,,METERS,DBAR,,ITS-90,,ITS-90,,PSS-78,,PSS-78,,UMOL/KG,,UMOL/KG,,UMOL/KG,,UMOL/KG,UMOL/KG,,UMOL/KG,UMOL/KG,,UMOL/KG,UMOL/KG,,UMOL/KG,PMOL/KG,,PMOL/KG,,PMOL/KG,,UMOL/KG,,UMOL/KG,,,DEG C,,/MILLE,,/MILLE,/MILLE,,/MILLE,DEG C,KG/M^3
  49NZ20090521,   P21,   189,  1,      0,   -999,9,20090530,2025,-17.4958,-165.6732, 5479,   -999.0,9,-999.0000,9,-999.00000,9,-999.0000,9,  35.4961,2,  -999.00,9,  -999.00,9,  -999.00,9,  -999.00,  -999.00,9,  -999.00,  -999.00,9,  -999.00, -999.000,9, -999.000, -999.000,9, -999.000,9, -999.000,9,   -999.0,9,   -999.0,9,-999.0000,-999,9,  -999.00,9,  -999.00,   -999.0,9,   -999.0,-999.0000,-999.0000
  49NZ20090521,   P21,   189,  1,     36, X12043,2,20090530,2025,-17.4958,-165.6732, 5479,     10.3,2,  28.2777,2,  28.27732,2,  35.4991,2,  35.4986,2,   196.74,2,   196.94,2,     0.71,2,     0.12,     0.08,2,     0.03,     0.01,2,     0.01,    0.111,2,    0.021,    1.408,2,    0.899,2, -999.000,5,   1972.9,2,   2335.8,2,   8.1407,  25,6,  -999.00,9,  -999.00,   -999.0,9,   -999.0,  28.2753,  22.6796
  49NZ20090521,   P21,   189,  1,     35, X12042,2,20090530,2025,-17.4958,-165.6732, 5479,     50.5,2,  28.6114,2,  28.61017,2,  35.7471,2,  35.7507,2,   195.46,2,   196.15,2,     0.80,2,     0.12,     0.08,2,     0.03,     0.01,2,     0.01,    0.162,2,    0.017,    1.404,2,    0.898,2, -999.000,5,   1986.6,6,   2353.5,2,   8.1372,  25,2,  -999.00,9,  -999.00,   -999.0,9,   -999.0,  28.5993,  22.7589
  49NZ20090521,   P21,   189,  1,     34, X12016,2,20090530,2025,-17.4958,-165.6732, 5479,    100.9,2,  25.8167,2,  25.81440,2,  35.8294,2,  35.8300,2,   200.48,2,   201.25,2,     0.81,2,     0.12,     0.07,2,     0.03,     0.01,2,     0.01,    0.167,2,    0.017,    1.622,6,    1.015,6, -999.000,5,   2013.0,2,   2357.8,6,   8.1037,  25,2,  -999.00,9,  -999.00,   -999.0,9,   -999.0,  25.7942,  23.7234
  49NZ20090521,   P21,   189,  1,     33, X12015,2,20090530,2025,-17.4958,-165.6732, 5479,    150.4,2,  23.9790,2,  23.97892,2,  35.9661,2,  35.9662,2,   181.99,2,   181.47,2,     0.75,2,     0.12,     0.81,2,     0.04,     0.09,2,     0.01,    0.273,2,    0.014,    1.750,2,    1.067,2, -999.000,5,   2052.8,2,   2365.1,2,   8.0491,  25,6,  -999.00,9,  -999.00,   -999.0,9,   -999.0,  23.9472,  24.3887
  49NZ20090521,   P21,   189,  1,     32, X12050,2,20090530,2025,-17.4958,-165.6732, 5479,    200.2,2,  22.5928,2,  22.59828,2,  35.9465,2,  35.9435,2,   173.35,2,   173.21,2,     0.78,2,     0.12,     2.14,2,     0.04,     0.02,2,     0.01,    0.362,2,    0.014,    1.894,2,    1.135,2,    0.112,2,   2073.7,2,   2362.5,2,   8.0087,  25,2,  -999.00,9,  -999.00,   -999.0,9,   -999.0,  22.5522,  24.7806
  49NZ20090521,   P21,   189,  1,     31, X12014,2,20090530,2025,-17.4958,-165.6732, 5479,    249.1,2,  20.6633,2,  20.66584,2,  35.7698,2,  35.7734,6,   172.31,2,   171.79,2,     0.92,2,     0.12,     3.83,2,     0.04,     0.01,2,     0.01,    0.473,2,    0.013,    2.065,2,    1.206,2,    0.066,2,   2088.0,2,   2352.6,2,   7.9689,  25,2,  -999.00,9,  -999.00,   -999.0,9,   -999.0,  20.6159,  25.1844
  49NZ20090521,   P21,   189,  1,     30, X12012,2,20090530,2025,-17.4958,-165.6732, 5479,    299.3,2,  18.3934,2,  18.39260,2,  35.4777,2,  35.4784,2,   173.58,2,   173.49,2,     1.45,2,     0.12,     5.63,2,     0.05,     0.01,2,     0.01,    0.591,2,    0.013,    2.229,2,    1.255,2,    0.030,2,   2094.5,2,   2334.2,2,   7.9278,  25,2,  -999.00,9,  -999.00,   -999.0,9,   -999.0,  18.3409,  25.5532
  49NZ20090521,   P21,   189,  1,     29, X12041,2,20090530,2025,-17.4958,-165.6732, 5479,    401.3,2,  13.1102,2,  13.11048,2,  34.8863,2,  34.8887,2,   151.28,2,   151.45,2,     6.69,2,     0.13,    15.27,2,     0.08,     0.01,2,     0.01,    1.260,2,    0.013,    1.846,6,    0.971,6,    0.024,6,   2138.3,2,   2301.9,2,   7.7787,  25,2,  -999.00,9,  -999.00,   -999.0,9,   -999.0,  13.0543,  26.2939
  49NZ20090521,   P21,   189,  1,     28, X12040,2,20090530,2025,-17.4958,-165.6732, 5479,    500.1,2,   8.9110,2,   8.91433,2,  34.5291,2,  34.5302,6,   165.26,2,   164.91,2,    11.69,2,     0.14,    23.34,2,     0.10,     0.01,2,     0.01,    1.719,2,    0.014,    1.394,2,    0.693,2,    0.027,2,   2163.9,2,   2287.9,2,   7.6855,  25,2,  -999.00,9,  -999.00,   -999.0,9,   -999.0,   8.8564,  26.7723
  49NZ20090521,   P21,   189,  1,     27, X12009,2,20090530,2025,-17.4958,-165.6732, 5479,    600.0,2,   6.8049,2,   6.80451,2,  34.4131,2,  34.4131,2,   174.62,2,   174.53,2,    18.40,2,     0.16,    27.96,2,     0.11,     0.01,2,     0.01,    1.986,2,    0.015,    0.798,6,    0.395,6,    0.019,6,   2180.5,2,   2289.6,2,   7.6478,  25,2,  -999.00,9,  -999.00,   -999.0,9,   -999.0,   6.7485,  26.9908
  49NZ20090521,   P21,   189,  1,     26, X12008,2,20090530,2025,-17.4958,-165.6732, 5479,    700.5,2,   5.5251,2,   5.52520,2,  34.3678,2,  34.3679,2,   183.26,2,   182.99,2,    25.44,2,     0.17,    30.33,2,     0.12,     0.00,2,     0.01,    2.117,2,    0.015,    0.457,2,    0.229,2,    0.015,2,   2189.3,6,   2294.4,2,   7.6368,  25,2,  -999.00,9,  -999.00,   -999.0,9,   -999.0,   5.4656,  27.1192
  49NZ20090521,   P21,   189,  1,     25, X12007,2,20090530,2025,-17.4958,-165.6732, 5479,    800.4,2,   5.0437,2,   5.04361,2,  34.3863,2,  34.3860,2,   171.56,2,   171.67,2,    33.99,2,     0.19,    32.15,2,     0.12,     0.00,2,     0.01,    2.244,2,    0.016,    0.234,2,    0.118,2,    0.000,2,   2205.5,2,   2302.9,6,   7.6151,  25,2,  -999.00,9,  -999.00,   -999.0,9,   -999.0,   4.9781,  27.1912
  49NZ20090521,   P21,   189,  1,     24, X12035,2,20090530,2025,-17.4958,-165.6732, 5479,    901.0,2,   4.3184,2,   4.32020,2,  34.4385,2,  34.4374,2,   158.57,2,   158.48,2,    50.77,2,     0.23,    34.03,2,     0.13,     0.01,2,     0.01,    2.374,2,    0.016,    0.065,2,    0.035,2,    0.000,2,   2231.2,2,   2321.0,2,   7.5913,  25,6,  -999.00,9,  -999.00,   -999.0,9,   -999.0,   4.2488,  27.3134
  49NZ20090521,   P21,   189,  1,     23, X12038,2,20090530,2025,-17.4958,-165.6732, 5479,    998.9,2,   3.7973,2,   3.79735,2,  34.4710,2,  34.4708,6,   155.15,2,   155.17,2,    62.51,2,     0.26,    34.79,2,     0.13,     0.01,2,     0.01,    2.434,2,    0.016,    0.026,2,    0.015,2,    0.000,2,   2245.8,2,   2333.9,2,   7.5829,  25,2,  -999.00,9,  -999.00,   -999.0,9,   -999.0,   3.7233,  27.3935
  49NZ20090521,   P21,   189,  1,     22, X12034,2,20090530,2025,-17.4958,-165.6732, 5479,   1201.1,2,   3.2678,2,   3.26802,2,  34.5273,2,  34.5252,3,   148.03,2,   148.63,2,    78.59,2,     0.29,    35.56,2,     0.13,     0.01,2,     0.01,    2.498,2,    0.016,    0.008,2,    0.006,2,    0.000,2,   2266.3,2,   2351.9,2,   7.5742,  25,2,  -999.00,9,  -999.00,   -999.0,9,   -999.0,   3.1818,  27.4909
  49NZ20090521,   P21,   189,  1,     21, X12033,2,20090530,2025,-17.4958,-165.6732, 5479,   1400.3,2,   2.8373,2,   2.83665,2,  34.5710,2,  34.5704,2,   145.19,2,   145.18,2,    92.67,2,     0.32,    35.90,2,     0.13,     0.01,2,     0.01,    2.536,2,    0.016,    0.004,2,    0.001,2,    0.000,2,   2283.8,2,   2367.4,2,   7.5701,  25,2,  -999.00,9,  -999.00,   -999.0,9,   -999.0,   2.7395,  27.5661
  49NZ20090521,   P21,   189,  1,     20, X12032,2,20090530,2025,-17.4958,-165.6732, 5479,   1600.5,2,   2.5859,2,   2.58595,2,  34.5948,2,  34.5948,2,   145.46,2,   145.46,2,   100.71,2,     0.34,    36.16,2,     0.13,     0.01,2,     0.01,    2.538,2,    0.016,    0.000,2,    0.000,2,    0.000,2,   2291.9,2,   2377.8,2,   7.5733,  25,6,  -999.00,9,  -999.00,   -999.0,9,   -999.0,   2.4746,  27.6080
  49NZ20090521,   P21,   189,  1,     19, X12046,2,20090530,2025,-17.4958,-165.6732, 5479,   1801.1,2,   2.3916,2,   2.39178,2,  34.6132,2,  34.6132,2,   145.60,2,   145.55,2,   107.23,2,     0.35,    36.12,2,     0.13,     0.01,2,     0.01,    2.543,2,    0.016,    0.001,2,    0.000,2,    0.000,2,   2298.5,2,   2380.2,3,   7.5745,  25,2,  -999.00,9,  -999.00,   -999.0,9,   -999.0,   2.2662,  27.6403
  49NZ20090521,   P21,   189,  1,     18, X12006,2,20090530,2025,-17.4958,-165.6732, 5479,   2001.3,2,   2.2017,2,   2.20193,2,  34.6299,2,  34.6297,2,   147.03,2,   146.94,2,   112.65,2,     0.37,    36.05,2,     0.13,     0.01,2,     0.01,    2.538,2,    0.016,    0.000,2,    0.000,2,    0.000,2,   2302.4,2,   2390.3,2,   7.5774,  25,2,  -999.00,9,  -999.00,   -999.0,9,   -999.0,   2.0621,  27.6702
  49NZ20090521,   P21,   189,  1,     17, X12047,2,20090530,2025,-17.4958,-165.6732, 5479,   2199.9,2,   2.0676,2,   2.06768,2,  34.6419,2,  34.6418,2,   147.87,2,   147.67,2,   116.82,2,     0.38,    36.14,2,     0.13,     0.01,2,     0.01,    2.531,2,    0.016,    0.000,2,    0.000,2,    0.000,2,   2306.8,2,   2392.3,3,   7.5797,  25,2,  -999.00,9,  -999.00,   -999.0,9,   -999.0,   1.9129,  27.6917
  49NZ20090521,   P21,   189,  1,     16, X12004,2,20090530,2025,-17.4958,-165.6732, 5479,   2401.5,2,   1.9409,2,   1.94069,2,  34.6526,2,  34.6523,6,   149.64,2,   149.42,2,   120.48,2,     0.38,    36.18,2,     0.13,     0.00,2,     0.01,    2.529,2,    0.016,    0.000,2,    0.000,2,    0.000,2,   2309.9,6,   2398.4,2,   7.5821,  25,2,  -999.00,9,  -999.00,   -999.0,9,   -999.0,   1.7706,  27.7112
  49NZ20090521,   P21,   189,  1,     15, X12003,2,20090530,2025,-17.4958,-165.6732, 5479,   2600.3,2,   1.8409,2,   1.84100,2,  34.6610,2,  34.6606,2,   152.45,2,   152.24,2,   122.59,2,     0.39,    35.91,2,     0.13,     0.01,2,     0.01,    2.514,2,    0.016,    0.001,2,    0.001,2,    0.000,2,   2310.9,2,   2400.8,6,   7.5862,  25,2,  -999.00,9,  -999.00,   -999.0,9,   -999.0,   1.6544,  27.7267
  49NZ20090521,   P21,   189,  1,     14, X12002,2,20090530,2025,-17.4958,-165.6732, 5479,   2801.1,2,   1.7629,2,   1.76285,2,  34.6681,2,  34.6683,2,   154.34,2,   154.13,2,   124.76,2,     0.39,    35.75,2,     0.13,     0.01,2,     0.01,    2.511,2,    0.016,    0.000,2,    0.000,2,    0.000,2,   2311.3,2,   2401.0,2,   7.5886,  25,6,  -999.00,9,  -999.00,   -999.0,9,   -999.0,   1.5593,  27.7395
  49NZ20090521,   P21,   189,  1,     13, X12001,2,20090530,2025,-17.4958,-165.6732, 5479,   3000.4,2,   1.6943,2,   1.69424,2,  34.6733,2,  34.6737,2,   156.91,2,   156.68,2,   125.86,2,     0.40,    35.56,2,     0.13,     0.01,2,     0.01,    2.483,2,    0.016,    0.001,2,    0.000,2,    0.000,2,   2310.8,2,   2402.5,2,   7.5913,  25,2,  -999.00,9,  -999.00,   -999.0,9,   -999.0,   1.4732,  27.7500
  49NZ20090521,   P21,   189,  1,     12, X12030,2,20090530,2025,-17.4958,-165.6732, 5479,   3249.6,2,   1.6163,2,   1.61631,2,  34.6795,2,  34.6794,2,   160.45,2,   160.31,2,   126.90,2,     0.40,    35.40,2,     0.13,     0.00,2,     0.01,    2.470,2,    0.016,    0.002,2,    0.000,2,    0.000,2,   2308.8,2,   2402.6,2,   7.5948,  25,2,  -999.00,9,  -999.00,   -999.0,9,   -999.0,   1.3726,  27.7622
  49NZ20090521,   P21,   189,  1,     11, X12044,2,20090530,2025,-17.4958,-165.6732, 5479,   3500.6,2,   1.5504,2,   1.55037,2,  34.6846,2,  34.6844,2,   166.11,2,   165.88,2,   126.07,2,     0.40,    34.93,2,     0.13,     0.01,2,     0.01,    2.441,2,    0.016,    0.001,2,    0.000,2,    0.000,2,   2304.4,2,   2400.0,2,   7.5997,  25,2,  -999.00,9,  -999.00,   -999.0,9,   -999.0,   1.2829,  27.7726
  49NZ20090521,   P21,   189,  1,     10, X12048,2,20090530,2025,-17.4958,-165.6732, 5479,   3750.0,2,   1.4880,2,   1.48806,2,  34.6898,2,  34.6893,2,   171.64,2,   171.60,2,   124.51,2,     0.39,    34.58,2,     0.13,     0.01,2,     0.01,    2.413,2,    0.016,    0.001,2,    0.000,2,    0.000,2,   2298.3,2,   2395.8,2,   7.6036,  25,2,  -999.00,9,  -999.00,   -999.0,9,   -999.0,   1.1962,  27.7828
  49NZ20090521,   P21,   189,  1,      9, X12027,2,20090530,2025,-17.4958,-165.6732, 5479,   4000.5,2,   1.3976,2,   1.39779,2,  34.6970,2,  34.6966,6,   180.56,2,   180.49,2,   121.80,2,     0.39,    33.82,2,     0.13,     0.01,2,     0.01,    2.365,2,    0.016,    0.002,2,    0.002,2,    0.000,2,   2288.8,2,   2387.4,2,   7.6088,  25,2,  -999.00,9,  -999.00,   -999.0,9,   -999.0,   1.0815,  27.7964
  49NZ20090521,   P21,   189,  1,      8, X12026,2,20090530,2025,-17.4958,-165.6732, 5479,   4251.4,2,   1.2990,2,   1.29922,2,  34.7039,2,  34.7033,2,   190.29,2,   190.17,2,   118.35,2,     0.38,    33.20,2,     0.13,     0.01,2,     0.01,    2.309,2,    0.016,    0.005,2,    0.003,2,    0.000,2,   2277.7,6,   2378.0,2,   7.6142,  25,2,  -999.00,9,  -999.00,   -999.0,9,   -999.0,   0.9582,  27.8102
  49NZ20090521,   P21,   189,  1,      7, X12025,2,20090530,2025,-17.4958,-165.6732, 5479,   4489.4,2,   1.2105,2,   1.21052,2,  34.7084,2,  34.7086,2,   198.09,2,   197.82,2,   116.36,2,     0.37,    32.63,2,     0.12,     0.01,2,     0.01,    2.272,2,    0.016,    0.008,2,    0.005,2,    0.000,2,   2269.1,2,   2371.3,6,   7.6178,  25,2,  -999.00,9,  -999.00,   -999.0,9,   -999.0,   0.8456,  27.8211
  49NZ20090521,   P21,   189,  1,      6, X12024,2,20090530,2025,-17.4958,-165.6732, 5479,   4751.6,2,   1.1389,2,   1.13885,2,  34.7087,2,  34.7085,2,   202.37,2,   202.26,2,   116.48,2,     0.38,    32.45,2,     0.12,     0.01,2,     0.01,    2.253,2,    0.016,    0.009,2,    0.005,2,    0.000,2,   2266.2,2,   2369.6,2,   7.6201,  25,2,  -999.00,9,  -999.00,   -999.0,9,   -999.0,   0.7461,  27.8278
  49NZ20090521,   P21,   189,  1,      5, X12028,2,20090530,2025,-17.4958,-165.6732, 5479,   4998.0,2,   1.1171,2,   1.11703,2,  34.7087,2,  34.7086,2,   204.40,2,   204.21,2,   116.82,2,     0.38,    32.39,2,     0.12,     0.01,2,     0.01,    2.246,2,    0.016,    0.009,2,    0.004,2,    0.000,2,   2264.5,2,   2367.8,2,   7.6206,  25,2,  -999.00,9,  -999.00,   -999.0,9,   -999.0,   0.6959,  27.8309
  49NZ20090521,   P21,   189,  1,      4, X12022,2,20090530,2025,-17.4958,-165.6732, 5479,   5249.4,2,   1.1199,2,   1.11979,2,  34.7084,2,  34.7091,2,   205.28,2,   205.27,2,   116.74,2,     0.38,    32.36,2,     0.12,     0.01,2,     0.01,    2.245,2,    0.016,    0.019,2,    0.008,2,    0.000,2,   2263.9,2,   2367.3,2,   7.6205,  25,2,  -999.00,9,  -999.00,   -999.0,9,   -999.0,   0.6682,  27.8324
  49NZ20090521,   P21,   189,  1,      3, X12021,9,20090530,2025,-17.4958,-165.6732, 5479,    298.3,2,  18.3952,2,  18.39481,2,  35.4789,2,-999.0000,9,   173.67,2,  -999.00,9,  -999.00,9,  -999.00,  -999.00,9,  -999.00,  -999.00,9,  -999.00, -999.000,9, -999.000, -999.000,9, -999.000,9, -999.000,9,   -999.0,9,   -999.0,9,-999.0000,-999,9,  -999.00,9,  -999.00,   -999.0,9,   -999.0,  18.3429,  25.5536
  49NZ20090521,   P21,   189,  1,      2, X12020,2,20090530,2025,-17.4958,-165.6732, 5479,    126.3,2,  24.9488,2,  24.94392,2,  35.9287,2,-999.0000,9,   194.55,2,  -999.00,9,  -999.00,9,  -999.00,  -999.00,9,  -999.00,  -999.00,9,  -999.00, -999.000,9, -999.000, -999.000,9, -999.000,9, -999.000,9,   -999.0,9,   -999.0,9,-999.0000,-999,9,  -999.00,9,  -999.00,   -999.0,9,   -999.0,  24.9214,  24.0673
  49NZ20090521,   P21,   189,  1,      1, X12019,2,20090530,2025,-17.4958,-165.6732, 5479,   5533.3,2,   1.1461,2,   1.14609,2,  34.7081,2,  34.7086,6,   205.61,2,   205.39,2,   117.15,2,     0.38,    32.42,2,     0.12,     0.01,2,     0.01,    2.246,2,    0.016,    0.019,2,    0.009,2,    0.000,2,   2264.0,2,   2366.7,2,   7.6208,  25,2,  -999.00,9,  -999.00,   -999.0,9,   -999.0,   0.6581,  27.8327