BOTTLE,20111109CCHDOSIOCBG
EXPOCODE,SECT_ID,STNNBR,CASTNO,SAMPNO,BTLNBR,BTLNBR_FLAG_W,DATE,TIME,LATITUDE,LONGITUDE,DEPTH,CTDPRS,CTDPRS_FLAG_W,CTDTMP,CTDTMP_FLAG_W,SBE35,SBE35_FLAG_W,CTDSAL,CTDSAL_FLAG_W,SALNTY,SALNTY_FLAG_W,CTDOXY,CTDOXY_FLAG_W,OXYGEN,OXYGEN_FLAG_W,SILCAT,SILCAT_FLAG_W,SILUNC,NITRAT,NITRAT_FLAG_W,NRAUNC,NITRIT,NITRIT_FLAG_W,NRIUNC,PHSPHT,PHSPHT_FLAG_W,PHPUNC,CFC-11,CFC-11_FLAG_W,CFC-12,CFC-12_FLAG_W,CFC113,CFC113_FLAG_W,TCARBN,TCARBN_FLAG_W,ALKALI,ALKALI_FLAG_W,PH_TOT,PH_TMP,PH_TOT_FLAG_W,DELC13,DELC13_FLAG_W,C13ERR,DELC14,DELC14_FLAG_W,C14ERR,THETA,SIG0
,,,,,,,,,,,METERS,DBAR,,ITS-90,,ITS-90,,PSS-78,,PSS-78,,UMOL/KG,,UMOL/KG,,UMOL/KG,,UMOL/KG,UMOL/KG,,UMOL/KG,UMOL/KG,,UMOL/KG,UMOL/KG,,UMOL/KG,PMOL/KG,,PMOL/KG,,PMOL/KG,,UMOL/KG,,UMOL/KG,,,DEG C,,/MILLE,,/MILLE,/MILLE,,/MILLE,DEG C,KG/M^3
  49NZ20090521,   P21,   264,  1,      0,   -999,9,20090614,0316,-21.4842, 162.7642, 1540,   -999.0,9,-999.0000,9,-999.00000,9,-999.0000,9,  34.9245,2,  -999.00,9,  -999.00,9,  -999.00,9,  -999.00,  -999.00,9,  -999.00,  -999.00,9,  -999.00, -999.000,9, -999.000, -999.000,9, -999.000,9, -999.000,9,   -999.0,9,   -999.0,9,-999.0000,-999,9,  -999.00,9,  -999.00,   -999.0,9,   -999.0,-999.0000,-999.0000
  49NZ20090521,   P21,   264,  1,     36, X12043,2,20090614,0316,-21.4842, 162.7642, 1540,     10.9,2,  24.2761,2,  24.27653,2,  34.8888,2,  34.8864,2,   209.23,2,   209.28,2,     0.46,2,     0.12,     0.10,2,     0.03,     0.01,2,     0.01,    0.086,2,    0.024,    1.647,2,    1.044,2, -999.000,5,   -999.0,9,   -999.0,9,-999.0000,-999,9,  -999.00,9,  -999.00,   -999.0,9,   -999.0,  24.2738,  23.4758
  49NZ20090521,   P21,   264,  1,     35, X12042,2,20090614,0316,-21.4842, 162.7642, 1540,     51.0,2,  24.0436,2,  24.04322,2,  35.1515,2,  35.1464,2,   208.73,2,   208.88,2,     0.39,2,     0.12,     0.09,2,     0.03,     0.01,2,     0.01,    0.097,2,    0.022,    1.674,2,    1.059,2, -999.000,5,   -999.0,9,   -999.0,9,-999.0000,-999,9,  -999.00,9,  -999.00,   -999.0,9,   -999.0,  24.0329,  23.7463
  49NZ20090521,   P21,   264,  1,     34, X12016,2,20090614,0316,-21.4842, 162.7642, 1540,    101.3,2,  23.5649,2,  23.56524,2,  35.4068,2,  35.4061,2,   188.37,2,   188.57,2,     0.56,2,     0.12,     1.19,2,     0.04,     0.15,2,     0.01,    0.221,2,    0.015,    1.767,6,    1.100,6, -999.000,5,   -999.0,9,   -999.0,9,-999.0000,-999,9,  -999.00,9,  -999.00,   -999.0,9,   -999.0,  23.5438,  24.0840
  49NZ20090521,   P21,   264,  1,     33, X12015,2,20090614,0316,-21.4842, 162.7642, 1540,    150.3,2,  21.4336,2,  21.43426,2,  35.6130,2,  35.6112,2,   168.60,2,   168.52,2,     0.83,2,     0.12,     4.35,2,     0.04,     0.02,2,     0.01,    0.414,2,    0.013,    1.953,2,    1.178,2,    0.113,2,   -999.0,9,   -999.0,9,-999.0000,-999,9,  -999.00,9,  -999.00,   -999.0,9,   -999.0,  21.4043,  24.8497
  49NZ20090521,   P21,   264,  1,     32, X12050,2,20090614,0316,-21.4842, 162.7642, 1540,    199.8,2,  20.2621,2,  20.26258,2,  35.6440,2,  35.6428,2,   169.50,2,   169.57,2,     1.06,2,     0.12,     5.07,2,     0.05,     0.02,2,     0.01,    0.461,2,    0.013,    2.033,2,    1.208,2,    0.058,2,   -999.0,9,   -999.0,9,-999.0000,-999,9,  -999.00,9,  -999.00,   -999.0,9,   -999.0,  20.2247,  25.1934
  49NZ20090521,   P21,   264,  1,     31, X12014,2,20090614,0316,-21.4842, 162.7642, 1540,    250.2,2,  18.5755,2,  18.57707,2,  35.6231,2,  35.6222,6,   181.71,2,   181.40,2,     1.25,2,     0.12,     5.48,2,     0.05,     0.02,2,     0.01,    0.479,2,    0.013,    2.146,2,    1.263,2,    0.039,2,   -999.0,9,   -999.0,9,-999.0000,-999,9,  -999.00,9,  -999.00,   -999.0,9,   -999.0,  18.5314,  25.6166
  49NZ20090521,   P21,   264,  1,     30, X12012,2,20090614,0316,-21.4842, 162.7642, 1540,    282.0,2,  17.8668,2,  17.87741,2,  35.5853,2,  35.5869,2,   187.69,2,   187.58,2,     1.24,2,     0.12,     5.74,2,     0.05,     0.02,2,     0.01,    0.487,2,    0.013,    2.200,2,    1.289,2,    0.046,2,   -999.0,9,   -999.0,9,-999.0000,-999,9,  -999.00,9,  -999.00,   -999.0,9,   -999.0,  17.8183,  25.7653
  49NZ20090521,   P21,   264,  1,     29, X12041,2,20090614,0316,-21.4842, 162.7642, 1540,    370.5,2,  15.7225,2,  15.72011,2,  35.3924,2,  35.3938,2,   185.04,2,   185.33,2,     2.27,2,     0.12,     8.77,2,     0.06,     0.01,2,     0.01,    0.690,2,    0.013,    2.292,6,    1.298,6,    0.045,6,   -999.0,9,   -999.0,9,-999.0000,-999,9,  -999.00,9,  -999.00,   -999.0,9,   -999.0,  15.6641,  26.1261
  49NZ20090521,   P21,   264,  1,     28, X12040,2,20090614,0316,-21.4842, 162.7642, 1540,    471.3,2,  12.0078,2,  12.01305,2,  34.9726,2,  34.9742,6,   189.80,2,   190.00,2,     5.33,2,     0.13,    14.89,2,     0.07,     0.01,2,     0.01,    1.089,2,    0.013,    2.184,2,    1.169,2,    0.040,2,   -999.0,9,   -999.0,9,-999.0000,-999,9,  -999.00,9,  -999.00,   -999.0,9,   -999.0,  11.9456,  26.5783
  49NZ20090521,   P21,   264,  1,     27, X12009,2,20090614,0316,-21.4842, 162.7642, 1540,    571.2,2,   9.3165,2,   9.31634,2,  34.6686,2,  34.6680,2,   197.57,2,   197.65,2,     8.27,2,     0.14,    19.82,2,     0.09,     0.01,2,     0.01,    1.411,2,    0.014,    1.988,6,    1.014,6,    0.051,6,   -999.0,9,   -999.0,9,-999.0000,-999,9,  -999.00,9,  -999.00,   -999.0,9,   -999.0,   9.2521,  26.8179
  49NZ20090521,   P21,   264,  1,     26, X12008,2,20090614,0316,-21.4842, 162.7642, 1540,    671.2,2,   7.1726,2,   7.17271,2,  34.4654,2,  34.4645,2,   205.94,2,   206.04,2,    13.14,2,     0.15,    24.19,2,     0.10,     0.01,2,     0.01,    1.698,2,    0.014,    1.486,2,    0.742,2,    0.032,2,   -999.0,9,   -999.0,9,-999.0000,-999,9,  -999.00,9,  -999.00,   -999.0,9,   -999.0,   7.1073,  26.9828
  49NZ20090521,   P21,   264,  1,     25, X12007,2,20090614,0316,-21.4842, 162.7642, 1540,    770.0,2,   6.2774,2,   6.27748,2,  34.4390,2,  34.4385,2,   195.09,2,   195.18,2,    22.94,2,     0.17,    26.96,2,     0.11,     0.01,2,     0.01,    1.905,2,    0.015,    0.869,2,    0.439,2,    0.027,2,   -999.0,9,   -999.0,9,-999.0000,-999,9,  -999.00,9,  -999.00,   -999.0,9,   -999.0,   6.2071,  27.0829
  49NZ20090521,   P21,   264,  1,     24, X12035,2,20090614,0316,-21.4842, 162.7642, 1540,    870.2,2,   5.4518,2,   5.45200,2,  34.4316,2,  34.4313,2,   187.39,2,   187.48,2,    32.98,2,     0.19,    29.15,2,     0.11,     0.01,2,     0.01,    2.064,2,    0.015,    0.527,2,    0.268,2,    0.016,2,   -999.0,9,   -999.0,9,-999.0000,-999,9,  -999.00,9,  -999.00,   -999.0,9,   -999.0,   5.3772,  27.1803
  49NZ20090521,   P21,   264,  1,     23, X12038,2,20090614,0316,-21.4842, 162.7642, 1540,    970.5,2,   4.7832,2,   4.78161,2,  34.4566,2,  34.4562,6,   177.15,2,   177.24,2,    46.01,2,     0.22,    31.05,2,     0.12,     0.01,2,     0.01,    2.186,2,    0.015,    0.296,2,    0.153,2,    0.016,2,   -999.0,9,   -999.0,9,-999.0000,-999,9,  -999.00,9,  -999.00,   -999.0,9,   -999.0,   4.7042,  27.2781
  49NZ20090521,   P21,   264,  1,     22, X12034,2,20090614,0316,-21.4842, 162.7642, 1540,   1129.8,2,   3.9995,2,   3.99934,2,  34.5041,2,  34.5043,2,   165.05,2,   165.15,2,    64.61,2,     0.26,    32.81,2,     0.12,     0.01,2,     0.01,    2.324,2,    0.016,    0.127,2,    0.067,2,    0.000,2,   -999.0,9,   -999.0,9,-999.0000,-999,9,  -999.00,9,  -999.00,   -999.0,9,   -999.0,   3.9129,  27.4006
  49NZ20090521,   P21,   264,  1,     21, X12033,2,20090614,0316,-21.4842, 162.7642, 1540,   1331.8,2,   3.4423,2,   3.44226,2,  34.5428,2,  34.5428,2,   157.22,2,   157.28,2,    78.67,2,     0.29,    34.02,2,     0.13,     0.01,2,     0.01,    2.417,2,    0.016,    0.057,2,    0.032,2,    0.000,2,   -999.0,9,   -999.0,9,-999.0000,-999,9,  -999.00,9,  -999.00,   -999.0,9,   -999.0,   3.3438,  27.4879
  49NZ20090521,   P21,   264,  1,     20, X12032,9,20090614,0316,-21.4842, 162.7642, 1540,     10.6,2,  24.2748,2,  24.27512,2,  34.8888,2,-999.0000,9,   209.34,2,  -999.00,9,  -999.00,9,  -999.00,  -999.00,9,  -999.00,  -999.00,9,  -999.00, -999.000,9, -999.000, -999.000,9, -999.000,9, -999.000,9,   -999.0,9,   -999.0,9,-999.0000,-999,9,  -999.00,9,  -999.00,   -999.0,9,   -999.0,  24.2726,  23.4762
  49NZ20090521,   P21,   264,  1,     19, X12046,9,20090614,0316,-21.4842, 162.7642, 1540,     10.7,2,  24.2746,2,  24.27474,2,  34.8887,2,-999.0000,9,   209.34,2,  -999.00,9,  -999.00,9,  -999.00,  -999.00,9,  -999.00,  -999.00,9,  -999.00, -999.000,9, -999.000, -999.000,9, -999.000,9, -999.000,9,   -999.0,9,   -999.0,9,-999.0000,-999,9,  -999.00,9,  -999.00,   -999.0,9,   -999.0,  24.2723,  23.4762
  49NZ20090521,   P21,   264,  1,     18, X12006,9,20090614,0316,-21.4842, 162.7642, 1540,     10.7,2,  24.2739,2,  24.27366,2,  34.8882,2,-999.0000,9,   209.28,2,  -999.00,9,  -999.00,9,  -999.00,  -999.00,9,  -999.00,  -999.00,9,  -999.00, -999.000,9, -999.000, -999.000,9, -999.000,9, -999.000,9,   -999.0,9,   -999.0,9,-999.0000,-999,9,  -999.00,9,  -999.00,   -999.0,9,   -999.0,  24.2716,  23.4760
  49NZ20090521,   P21,   264,  1,     17, X12047,9,20090614,0316,-21.4842, 162.7642, 1540,     50.3,2,  24.0408,2,  24.04180,2,  35.1448,2,-999.0000,9,   208.91,2,  -999.00,9,  -999.00,9,  -999.00,  -999.00,9,  -999.00,  -999.00,9,  -999.00, -999.000,9, -999.000, -999.000,9, -999.000,9, -999.000,9,   -999.0,9,   -999.0,9,-999.0000,-999,9,  -999.00,9,  -999.00,   -999.0,9,   -999.0,  24.0302,  23.7420
  49NZ20090521,   P21,   264,  1,     16, X12004,9,20090614,0316,-21.4842, 162.7642, 1540,     50.9,2,  24.0428,2,  24.04380,2,  35.1505,2,-999.0000,9,   208.80,2,  -999.00,9,  -999.00,9,  -999.00,  -999.00,9,  -999.00,  -999.00,9,  -999.00, -999.000,9, -999.000, -999.000,9, -999.000,9, -999.000,9,   -999.0,9,   -999.0,9,-999.0000,-999,9,  -999.00,9,  -999.00,   -999.0,9,   -999.0,  24.0321,  23.7458
  49NZ20090521,   P21,   264,  1,     15, X12003,9,20090614,0316,-21.4842, 162.7642, 1540,    100.6,2,  23.5714,2,  23.57377,2,  35.4063,2,-999.0000,9,   188.64,2,  -999.00,9,  -999.00,9,  -999.00,  -999.00,9,  -999.00,  -999.00,9,  -999.00, -999.000,9, -999.000, -999.000,9, -999.000,9, -999.000,9,   -999.0,9,   -999.0,9,-999.0000,-999,9,  -999.00,9,  -999.00,   -999.0,9,   -999.0,  23.5505,  24.0816
  49NZ20090521,   P21,   264,  1,     14, X12002,9,20090614,0316,-21.4842, 162.7642, 1540,    199.9,2,  20.2754,2,  20.27579,2,  35.6447,2,-999.0000,9,   169.38,2,  -999.00,9,  -999.00,9,  -999.00,  -999.00,9,  -999.00,  -999.00,9,  -999.00, -999.000,9, -999.000, -999.000,9, -999.000,9, -999.000,9,   -999.0,9,   -999.0,9,-999.0000,-999,9,  -999.00,9,  -999.00,   -999.0,9,   -999.0,  20.2379,  25.1905
  49NZ20090521,   P21,   264,  1,     13, X12001,9,20090614,0316,-21.4842, 162.7642, 1540,    250.7,2,  18.5690,2,  18.56990,2,  35.6227,2,-999.0000,9,   181.62,2,  -999.00,9,  -999.00,9,  -999.00,  -999.00,9,  -999.00,  -999.00,9,  -999.00, -999.000,9, -999.000, -999.000,9, -999.000,9, -999.000,9,   -999.0,9,   -999.0,9,-999.0000,-999,9,  -999.00,9,  -999.00,   -999.0,9,   -999.0,  18.5248,  25.6180
  49NZ20090521,   P21,   264,  1,     12, X12030,9,20090614,0316,-21.4842, 162.7642, 1540,    281.8,2,  17.8692,2,  17.87412,2,  35.5859,2,-999.0000,9,   188.09,2,  -999.00,9,  -999.00,9,  -999.00,  -999.00,9,  -999.00,  -999.00,9,  -999.00, -999.000,9, -999.000, -999.000,9, -999.000,9, -999.000,9,   -999.0,9,   -999.0,9,-999.0000,-999,9,  -999.00,9,  -999.00,   -999.0,9,   -999.0,  17.8208,  25.7651
  49NZ20090521,   P21,   264,  1,     11, X12044,9,20090614,0316,-21.4842, 162.7642, 1540,    371.0,2,  15.6794,2,  15.67455,2,  35.3895,2,-999.0000,9,   185.04,2,  -999.00,9,  -999.00,9,  -999.00,  -999.00,9,  -999.00,  -999.00,9,  -999.00, -999.000,9, -999.000, -999.000,9, -999.000,9, -999.000,9,   -999.0,9,   -999.0,9,-999.0000,-999,9,  -999.00,9,  -999.00,   -999.0,9,   -999.0,  15.6210,  26.1337
  49NZ20090521,   P21,   264,  1,     10, X12048,9,20090614,0316,-21.4842, 162.7642, 1540,    472.2,2,  11.9726,2,  11.98268,2,  34.9696,2,-999.0000,9,   190.11,2,  -999.00,9,  -999.00,9,  -999.00,  -999.00,9,  -999.00,  -999.00,9,  -999.00, -999.000,9, -999.000, -999.000,9, -999.000,9, -999.000,9,   -999.0,9,   -999.0,9,-999.0000,-999,9,  -999.00,9,  -999.00,   -999.0,9,   -999.0,  11.9104,  26.5826
  49NZ20090521,   P21,   264,  1,      9, X12027,9,20090614,0316,-21.4842, 162.7642, 1540,    571.0,2,   9.3162,2,   9.31572,2,  34.6688,2,-999.0000,9,   197.54,2,  -999.00,9,  -999.00,9,  -999.00,  -999.00,9,  -999.00,  -999.00,9,  -999.00, -999.000,9, -999.000, -999.000,9, -999.000,9, -999.000,9,   -999.0,9,   -999.0,9,-999.0000,-999,9,  -999.00,9,  -999.00,   -999.0,9,   -999.0,   9.2518,  26.8181
  49NZ20090521,   P21,   264,  1,      8, X12026,9,20090614,0316,-21.4842, 162.7642, 1540,    671.0,2,   7.1736,2,   7.17332,2,  34.4653,2,-999.0000,9,   205.88,2,  -999.00,9,  -999.00,9,  -999.00,  -999.00,9,  -999.00,  -999.00,9,  -999.00, -999.000,9, -999.000, -999.000,9, -999.000,9, -999.000,9,   -999.0,9,   -999.0,9,-999.0000,-999,9,  -999.00,9,  -999.00,   -999.0,9,   -999.0,   7.1083,  26.9826
  49NZ20090521,   P21,   264,  1,      7, X12025,9,20090614,0316,-21.4842, 162.7642, 1540,    769.4,2,   6.2789,2,   6.27902,2,  34.4391,2,-999.0000,9,   195.10,2,  -999.00,9,  -999.00,9,  -999.00,  -999.00,9,  -999.00,  -999.00,9,  -999.00, -999.000,9, -999.000, -999.000,9, -999.000,9, -999.000,9,   -999.0,9,   -999.0,9,-999.0000,-999,9,  -999.00,9,  -999.00,   -999.0,9,   -999.0,   6.2087,  27.0827
  49NZ20090521,   P21,   264,  1,      6, X12024,9,20090614,0316,-21.4842, 162.7642, 1540,    871.2,2,   5.4515,2,   5.45170,2,  34.4317,2,-999.0000,9,   187.50,2,  -999.00,9,  -999.00,9,  -999.00,  -999.00,9,  -999.00,  -999.00,9,  -999.00, -999.000,9, -999.000, -999.000,9, -999.000,9, -999.000,9,   -999.0,9,   -999.0,9,-999.0000,-999,9,  -999.00,9,  -999.00,   -999.0,9,   -999.0,   5.3768,  27.1804
  49NZ20090521,   P21,   264,  1,      5, X12028,9,20090614,0316,-21.4842, 162.7642, 1540,    971.0,2,   4.7759,2,   4.77619,2,  34.4570,2,-999.0000,9,   177.08,2,  -999.00,9,  -999.00,9,  -999.00,  -999.00,9,  -999.00,  -999.00,9,  -999.00, -999.000,9, -999.000, -999.000,9, -999.000,9, -999.000,9,   -999.0,9,   -999.0,9,-999.0000,-999,9,  -999.00,9,  -999.00,   -999.0,9,   -999.0,   4.6969,  27.2792
  49NZ20090521,   P21,   264,  1,      4, X12022,9,20090614,0316,-21.4842, 162.7642, 1540,   1130.0,2,   4.0006,2,   4.00063,2,  34.5040,2,-999.0000,9,   165.02,2,  -999.00,9,  -999.00,9,  -999.00,  -999.00,9,  -999.00,  -999.00,9,  -999.00, -999.000,9, -999.000, -999.000,9, -999.000,9, -999.000,9,   -999.0,9,   -999.0,9,-999.0000,-999,9,  -999.00,9,  -999.00,   -999.0,9,   -999.0,   3.9140,  27.4005
  49NZ20090521,   P21,   264,  1,      3, X12021,9,20090614,0316,-21.4842, 162.7642, 1540,    150.4,2,  21.4383,2,  21.43768,2,  35.6134,2,-999.0000,9,   168.45,2,  -999.00,9,  -999.00,9,  -999.00,  -999.00,9,  -999.00,  -999.00,9,  -999.00, -999.000,9, -999.000, -999.000,9, -999.000,9, -999.000,9,   -999.0,9,   -999.0,9,-999.0000,-999,9,  -999.00,9,  -999.00,   -999.0,9,   -999.0,  21.4090,  24.8487
  49NZ20090521,   P21,   264,  1,      2, X12020,9,20090614,0316,-21.4842, 162.7642, 1540,   1331.4,2,   3.4432,2,   3.44363,2,  34.5428,2,-999.0000,9,   157.23,2,  -999.00,9,  -999.00,9,  -999.00,  -999.00,9,  -999.00,  -999.00,9,  -999.00, -999.000,9, -999.000, -999.000,9, -999.000,9, -999.000,9,   -999.0,9,   -999.0,9,-999.0000,-999,9,  -999.00,9,  -999.00,   -999.0,9,   -999.0,   3.3447,  27.4878
  49NZ20090521,   P21,   264,  1,      1, X12019,2,20090614,0316,-21.4842, 162.7642, 1540,   1534.2,2,   3.0804,2,   3.08012,2,  34.5752,2,  34.5753,6,   152.79,2,   152.60,2,    88.44,2,     0.31,    34.63,2,     0.13,     0.01,2,     0.01,    2.457,2,    0.016,    0.024,2,    0.015,2,    0.000,2,   -999.0,9,   -999.0,9,-999.0000,-999,9,  -999.00,9,  -999.00,   -999.0,9,   -999.0,   2.9688,  27.5488