BOTTLE,20111109CCHDOSIOCBG
EXPOCODE,SECT_ID,STNNBR,CASTNO,SAMPNO,BTLNBR,BTLNBR_FLAG_W,DATE,TIME,LATITUDE,LONGITUDE,DEPTH,CTDPRS,CTDPRS_FLAG_W,CTDTMP,CTDTMP_FLAG_W,SBE35,SBE35_FLAG_W,CTDSAL,CTDSAL_FLAG_W,SALNTY,SALNTY_FLAG_W,CTDOXY,CTDOXY_FLAG_W,OXYGEN,OXYGEN_FLAG_W,SILCAT,SILCAT_FLAG_W,SILUNC,NITRAT,NITRAT_FLAG_W,NRAUNC,NITRIT,NITRIT_FLAG_W,NRIUNC,PHSPHT,PHSPHT_FLAG_W,PHPUNC,CFC-11,CFC-11_FLAG_W,CFC-12,CFC-12_FLAG_W,CFC113,CFC113_FLAG_W,TCARBN,TCARBN_FLAG_W,ALKALI,ALKALI_FLAG_W,PH_TOT,PH_TMP,PH_TOT_FLAG_W,DELC13,DELC13_FLAG_W,C13ERR,DELC14,DELC14_FLAG_W,C14ERR,THETA,SIG0
,,,,,,,,,,,METERS,DBAR,,ITS-90,,ITS-90,,PSS-78,,PSS-78,,UMOL/KG,,UMOL/KG,,UMOL/KG,,UMOL/KG,UMOL/KG,,UMOL/KG,UMOL/KG,,UMOL/KG,UMOL/KG,,UMOL/KG,PMOL/KG,,PMOL/KG,,PMOL/KG,,UMOL/KG,,UMOL/KG,,,DEG C,,/MILLE,,/MILLE,/MILLE,,/MILLE,DEG C,KG/M^3
  49NZ20090521,   P21,   181,  1,      0,   -999,9,20090528,1917,-17.4958,-160.3400, 4895,   -999.0,9,-999.0000,9,-999.00000,9,-999.0000,9,  35.8324,2,  -999.00,9,  -999.00,9,  -999.00,9,  -999.00,  -999.00,9,  -999.00,  -999.00,9,  -999.00, -999.000,9, -999.000, -999.000,9, -999.000,9, -999.000,9,   -999.0,9,   -999.0,9,-999.0000,-999,9,  -999.00,9,  -999.00,   -999.0,9,   -999.0,-999.0000,-999.0000
  49NZ20090521,   P21,   181,  1,     36, X12043,2,20090528,1917,-17.4958,-160.3400, 4895,      9.9,2,  27.8035,2,  27.80548,2,  35.8142,2,  35.8129,2,   197.47,2,   198.16,2,     0.80,2,     0.12,     0.06,2,     0.03,     0.01,2,     0.01,    0.160,2,    0.017,    1.440,2,    0.919,2, -999.000,5,   -999.0,9,   -999.0,9,-999.0000,-999,9,  -999.00,9,  -999.00,   -999.0,9,   -999.0,  27.8012,  23.0721
  49NZ20090521,   P21,   181,  1,     35, X12042,2,20090528,1917,-17.4958,-160.3400, 4895,     50.5,2,  27.7978,2,  27.79710,2,  35.8130,2,  35.8121,2,   197.35,2,   198.02,2,     0.73,2,     0.12,     0.06,2,     0.03,     0.01,2,     0.01,    0.158,2,    0.018,    1.454,2,    0.934,2, -999.000,5,   -999.0,9,   -999.0,9,-999.0000,-999,9,  -999.00,9,  -999.00,   -999.0,9,   -999.0,  27.7859,  23.0762
  49NZ20090521,   P21,   181,  1,     34, X12016,2,20090528,1917,-17.4958,-160.3400, 4895,    100.3,2,  26.5322,2,  26.53072,2,  36.3138,2,  36.3207,2,   209.69,2,   210.67,2,     0.73,2,     0.12,     0.05,2,     0.03,     0.01,2,     0.01,    0.182,2,    0.017,    1.600,6,    1.018,6, -999.000,5,   -999.0,9,   -999.0,9,-999.0000,-999,9,  -999.00,9,  -999.00,   -999.0,9,   -999.0,  26.5094,  23.8643
  49NZ20090521,   P21,   181,  1,     33, X12015,2,20090528,1917,-17.4958,-160.3400, 4895,    150.5,2,  24.6218,2,  24.61289,2,  36.2354,2,  36.2379,2,   191.50,2,   192.52,2,     0.69,2,     0.12,     0.12,2,     0.03,     0.15,2,     0.01,    0.238,2,    0.015,    1.662,2,    1.049,2, -999.000,5,   -999.0,9,   -999.0,9,-999.0000,-999,9,  -999.00,9,  -999.00,   -999.0,9,   -999.0,  24.5894,  24.4001
  49NZ20090521,   P21,   181,  1,     32, X12050,2,20090528,1917,-17.4958,-160.3400, 4895,    198.7,2,  22.3702,2,  22.40940,2,  35.9927,2,  35.9978,2,   175.10,2,   175.77,2,     0.75,2,     0.12,     2.19,2,     0.04,     0.02,2,     0.01,    0.375,2,    0.014,    1.868,2,    1.146,2,    0.105,2,   -999.0,9,   -999.0,9,-999.0000,-999,9,  -999.00,9,  -999.00,   -999.0,9,   -999.0,  22.3302,  24.8789
  49NZ20090521,   P21,   181,  1,     31, X12014,2,20090528,1917,-17.4958,-160.3400, 4895,    250.8,2,  20.3811,2,  20.37945,2,  35.7296,2,  35.7302,6,   177.31,2,   178.20,2,     0.94,2,     0.12,     3.32,2,     0.04,     0.02,2,     0.01,    0.431,2,    0.013, -999.000,5, -999.000,5, -999.000,5,   -999.0,9,   -999.0,9,-999.0000,-999,9,  -999.00,9,  -999.00,   -999.0,9,   -999.0,  20.3339,  25.2296
  49NZ20090521,   P21,   181,  1,     30, X12012,2,20090528,1917,-17.4958,-160.3400, 4895,    329.5,2,  16.7892,2,  16.76784,2,  35.2710,2,  35.2705,2,   170.49,2,   171.33,2,     2.51,2,     0.12,     7.77,2,     0.05,     0.01,2,     0.01,    0.757,2,    0.013,    2.187,2,    1.250,2,    0.023,2,   -999.0,9,   -999.0,9,-999.0000,-999,9,  -999.00,9,  -999.00,   -999.0,9,   -999.0,  16.7350,  25.7851
  49NZ20090521,   P21,   181,  1,     29, X12041,2,20090528,1917,-17.4958,-160.3400, 4895,    429.2,2,  12.3677,2,  12.37023,2,  34.7947,2,  34.7947,2,   151.43,2,   152.04,2,     7.81,2,     0.14,    16.56,2,     0.08,     0.01,2,     0.01,    1.358,2,    0.014,    1.812,6,    0.973,6,    0.025,6,   -999.0,9,   -999.0,9,-999.0000,-999,9,  -999.00,9,  -999.00,   -999.0,9,   -999.0,  12.3102,  26.3699
  49NZ20090521,   P21,   181,  1,     28, X12040,2,20090528,1917,-17.4958,-160.3400, 4895,    529.7,2,   8.4615,2,   8.46526,2,  34.5176,2,  34.5175,6,   146.68,2,   146.99,2,    17.11,2,     0.16,    26.14,2,     0.11,     0.01,2,     0.01,    1.933,2,    0.015,    0.990,2,    0.512,2,    0.019,2,   -999.0,9,   -999.0,9,-999.0000,-999,9,  -999.00,9,  -999.00,   -999.0,9,   -999.0,   8.4053,  26.8336
  49NZ20090521,   P21,   181,  1,     27, X12009,3,20090528,1917,-17.4958,-160.3400, 4895,    630.2,2,   6.5890,2,   6.58718,2,  34.4471,2,  34.4471,2,   152.81,2,   153.27,2,    26.57,2,     0.18,    30.25,2,     0.12,     0.01,2,     0.01,    2.152,2,    0.015,    0.427,6,    0.224,6,    0.000,6,   -999.0,9,   -999.0,9,-999.0000,-999,9,  -999.00,9,  -999.00,   -999.0,9,   -999.0,   6.5306,  27.0468
  49NZ20090521,   P21,   181,  1,     26, X12008,2,20090528,1917,-17.4958,-160.3400, 4895,    731.4,2,   5.4642,2,   5.46496,2,  34.3974,2,  34.3970,2,   168.46,2,   168.70,2,    31.48,2,     0.19,    31.44,2,     0.12,     0.01,2,     0.01,    2.213,2,    0.016,    0.274,2,    0.145,2,    0.000,2,   -999.0,9,   -999.0,9,-999.0000,-999,9,  -999.00,9,  -999.00,   -999.0,9,   -999.0,   5.4022,  27.1502
  49NZ20090521,   P21,   181,  1,     25, X12007,2,20090528,1917,-17.4958,-160.3400, 4895,    832.4,2,   4.7271,2,   4.72901,2,  34.4382,2,  34.4366,2,   156.34,2,   156.73,2,    46.33,2,     0.22,    33.54,2,     0.13,     0.01,2,     0.01,    2.350,2,    0.016,    0.080,2,    0.047,2,    0.000,2,   -999.0,9,   -999.0,9,-999.0000,-999,9,  -999.00,9,  -999.00,   -999.0,9,   -999.0,   4.6606,  27.2683
  49NZ20090521,   P21,   181,  1,     24, X12035,2,20090528,1917,-17.4958,-160.3400, 4895,    930.1,2,   4.2580,2,   4.25875,2,  34.4750,2,  34.4741,2,   148.45,2,   148.91,2,    58.60,2,     0.25,    34.64,2,     0.13,     0.01,2,     0.01,    2.436,2,    0.016,    0.030,2,    0.020,2,    0.000,2,   -999.0,9,   -999.0,9,-999.0000,-999,9,  -999.00,9,  -999.00,   -999.0,9,   -999.0,   4.1863,  27.3490
  49NZ20090521,   P21,   181,  1,     23, X12038,2,20090528,1917,-17.4958,-160.3400, 4895,   1070.6,2,   3.8525,2,   3.85357,2,  34.4990,2,  34.4986,6,   145.96,2,   146.14,2,    68.15,2,     0.27,    35.25,2,     0.13,     0.01,2,     0.01,    2.482,2,    0.016,    0.019,2,    0.012,2,    0.000,2,   -999.0,9,   -999.0,9,-999.0000,-999,9,  -999.00,9,  -999.00,   -999.0,9,   -999.0,   3.7722,  27.4109
  49NZ20090521,   P21,   181,  1,     22, X12034,2,20090528,1917,-17.4958,-160.3400, 4895,   1270.5,2,   3.2476,2,   3.24744,2,  34.5367,2,  34.5365,2,   145.29,2,   145.49,2,    81.63,2,     0.30,    35.83,2,     0.13,     0.01,2,     0.01,    2.520,2,    0.016,    0.005,2,    0.004,2,    0.000,2,   -999.0,9,   -999.0,9,-999.0000,-999,9,  -999.00,9,  -999.00,   -999.0,9,   -999.0,   3.1562,  27.5008
  49NZ20090521,   P21,   181,  1,     21, X12033,2,20090528,1917,-17.4958,-160.3400, 4895,   1471.8,2,   2.8380,2,   2.83805,2,  34.5748,2,  34.5741,2,   143.61,2,   144.06,2,    93.72,2,     0.33,    36.05,2,     0.13,     0.01,2,     0.01,    2.545,2,    0.016,    0.001,2,    0.002,2,    0.000,2,   -999.0,9,   -999.0,9,-999.0000,-999,9,  -999.00,9,  -999.00,   -999.0,9,   -999.0,   2.7343,  27.5696
  49NZ20090521,   P21,   181,  1,     20, X12032,2,20090528,1917,-17.4958,-160.3400, 4895,   1669.9,2,   2.5477,2,   2.54815,2,  34.6001,2,  34.5997,2,   144.67,2,   144.63,2,   102.22,2,     0.34,    36.20,2,     0.13,     0.01,2,     0.01,    2.544,2,    0.016,    0.000,2,    0.001,2,    0.000,2,   -999.0,9,   -999.0,9,-999.0000,-999,9,  -999.00,9,  -999.00,   -999.0,9,   -999.0,   2.4312,  27.6160
  49NZ20090521,   P21,   181,  1,     19, X12046,2,20090528,1917,-17.4958,-160.3400, 4895,   1870.7,2,   2.3514,2,   2.35149,2,  34.6172,2,  34.6169,2,   145.81,2,   145.77,2,   108.28,2,     0.36,    36.10,2,     0.13,     0.01,2,     0.01,    2.543,2,    0.016,    0.000,2,    0.001,2,    0.000,2,   -999.0,9,   -999.0,9,-999.0000,-999,9,  -999.00,9,  -999.00,   -999.0,9,   -999.0,   2.2207,  27.6472
  49NZ20090521,   P21,   181,  1,     18, X12006,2,20090528,1917,-17.4958,-160.3400, 4895,   2070.0,2,   2.1967,2,   2.19724,2,  34.6305,2,  34.6308,2,   147.13,2,   147.14,2,   112.84,2,     0.37,    36.05,2,     0.13,     0.01,2,     0.01,    2.542,2,    0.016,    0.000,2,    0.000,2,    0.000,2,   -999.0,9,   -999.0,9,-999.0000,-999,9,  -999.00,9,  -999.00,   -999.0,9,   -999.0,   2.0513,  27.6716
  49NZ20090521,   P21,   181,  1,     17, X12047,2,20090528,1917,-17.4958,-160.3400, 4895,   2269.8,2,   2.0452,2,   2.04158,2,  34.6435,2,  34.6439,6,   149.08,2,   149.01,2,   116.96,2,     0.38,    36.03,2,     0.13,     0.01,2,     0.01,    2.529,2,    0.016,    0.000,2,    0.000,2,    0.000,2,   -999.0,9,   -999.0,9,-999.0000,-999,9,  -999.00,9,  -999.00,   -999.0,9,   -999.0,   1.8848,  27.6951
  49NZ20090521,   P21,   181,  1,     16, X12004,2,20090528,1917,-17.4958,-160.3400, 4895,   2470.4,2,   1.9118,2,   1.91180,2,  34.6546,2,  34.6544,2,   151.70,2,   151.57,2,   120.17,2,     0.38,    35.80,2,     0.13,     0.01,2,     0.01,    2.520,2,    0.016,    0.000,2,    0.000,2,    0.000,2,   -999.0,9,   -999.0,9,-999.0000,-999,9,  -999.00,9,  -999.00,   -999.0,9,   -999.0,   1.7358,  27.7155
  49NZ20090521,   P21,   181,  1,     15, X12003,2,20090528,1917,-17.4958,-160.3400, 4895,   2671.7,2,   1.8124,2,   1.81229,2,  34.6628,2,  34.6627,2,   154.52,2,   154.45,2,   121.90,2,     0.39,    35.64,2,     0.13,     0.01,2,     0.01,    2.504,2,    0.016,    0.001,2,    0.000,2,    0.000,2,   -999.0,9,   -999.0,9,-999.0000,-999,9,  -999.00,9,  -999.00,   -999.0,9,   -999.0,   1.6199,  27.7308
  49NZ20090521,   P21,   181,  1,     14, X12002,2,20090528,1917,-17.4958,-160.3400, 4895,   2871.3,2,   1.7411,2,   1.74095,2,  34.6691,2,  34.6685,2,   157.51,2,   157.44,2,   123.15,2,     0.39,    35.44,2,     0.13,     0.01,2,     0.01,    2.484,2,    0.016,    0.001,2,    0.002,2,    0.000,2,   -999.0,9,   -999.0,9,-999.0000,-999,9,  -999.00,9,  -999.00,   -999.0,9,   -999.0,   1.5314,  27.7423
  49NZ20090521,   P21,   181,  1,     13, X12001,2,20090528,1917,-17.4958,-160.3400, 4895,   3080.0,2,   1.6648,2,   1.66493,2,  34.6756,2,  34.6751,2,   161.34,2,   161.29,2,   123.47,2,     0.39,    35.23,2,     0.13,     0.01,2,     0.01,    2.467,2,    0.016,    0.001,2,    0.000,2,    0.000,2,   -999.0,9,   -999.0,9,-999.0000,-999,9,  -999.00,9,  -999.00,   -999.0,9,   -999.0,   1.4366,  27.7545
  49NZ20090521,   P21,   181,  1,     12, X12030,2,20090528,1917,-17.4958,-160.3400, 4895,   3330.1,2,   1.5935,2,   1.59343,2,  34.6813,2,  34.6809,2,   166.68,2,   166.62,2,   123.10,2,     0.39,    34.82,2,     0.13,     0.01,2,     0.01,    2.444,2,    0.016,    0.000,2,    0.000,2,    0.000,2,   -999.0,9,   -999.0,9,-999.0000,-999,9,  -999.00,9,  -999.00,   -999.0,9,   -999.0,   1.3423,  27.7657
  49NZ20090521,   P21,   181,  1,     11, X12044,2,20090528,1917,-17.4958,-160.3400, 4895,   3579.4,2,   1.5438,2,   1.54387,2,  34.6852,2,  34.6843,6,   171.41,2,   171.47,2,   121.43,2,     0.39,    34.37,2,     0.13,     0.01,2,     0.01,    2.415,2,    0.016,    0.001,2,    0.001,2,    0.000,2,   -999.0,9,   -999.0,9,-999.0000,-999,9,  -999.00,9,  -999.00,   -999.0,9,   -999.0,   1.2684,  27.7741
  49NZ20090521,   P21,   181,  1,     10, X12048,2,20090528,1917,-17.4958,-160.3400, 4895,   3829.8,2,   1.4893,2,   1.48927,2,  34.6896,2,  34.6893,2,   176.33,2,   176.41,2,   120.81,2,     0.38,    34.16,2,     0.13,     0.01,2,     0.01,    2.398,2,    0.016,    0.003,2,    0.001,2,    0.000,2,   -999.0,9,   -999.0,9,-999.0000,-999,9,  -999.00,9,  -999.00,   -999.0,9,   -999.0,   1.1890,  27.7831
  49NZ20090521,   P21,   181,  1,      9, X12027,2,20090528,1917,-17.4958,-160.3400, 4895,   4079.8,2,   1.4473,2,   1.44737,2,  34.6933,2,  34.6927,2,   180.26,2,   180.21,2,   120.22,2,     0.38,    33.89,2,     0.13,     0.01,2,     0.01,    2.373,2,    0.016,    0.001,2,    0.000,2,    0.000,2,   -999.0,9,   -999.0,9,-999.0000,-999,9,  -999.00,9,  -999.00,   -999.0,9,   -999.0,   1.1211,  27.7907
  49NZ20090521,   P21,   181,  1,      8, X12026,2,20090528,1917,-17.4958,-160.3400, 4895,   4329.7,2,   1.3991,2,   1.39911,2,  34.6973,2,  34.6971,2,   184.49,2,   184.53,2,   119.51,2,     0.38,    33.60,2,     0.13,     0.01,2,     0.01,    2.346,2,    0.016,    0.003,2,    0.001,2,    0.000,2,   -999.0,9,   -999.0,9,-999.0000,-999,9,  -999.00,9,  -999.00,   -999.0,9,   -999.0,   1.0466,  27.7990
  49NZ20090521,   P21,   181,  1,      7, X12025,2,20090528,1917,-17.4958,-160.3400, 4895,   4580.1,2,   1.2669,2,   1.26687,2,  34.7045,2,  34.7046,2,   194.13,2,   194.31,2,   117.38,2,     0.38,    32.95,2,     0.13,     0.01,2,     0.01,    2.294,2,    0.016,    0.006,2,    0.003,2,    0.000,2,   -999.0,9,   -999.0,9,-999.0000,-999,9,  -999.00,9,  -999.00,   -999.0,9,   -999.0,   0.8899,  27.8152
  49NZ20090521,   P21,   181,  1,      6, X12024,2,20090528,1917,-17.4958,-160.3400, 4895,   4831.1,2,   1.2187,2,   1.21855,2,  34.7069,2,  34.7070,2,   198.36,2,   198.48,2,   116.88,2,     0.38,    32.66,2,     0.12,     0.01,2,     0.01,    2.279,2,    0.016,    0.008,2,    0.003,2,    0.000,2,   -999.0,9,   -999.0,9,-999.0000,-999,9,  -999.00,9,  -999.00,   -999.0,9,   -999.0,   0.8140,  27.8220
  49NZ20090521,   P21,   181,  1,      5, X12028,2,20090528,1917,-17.4958,-160.3400, 4895,   4329.8,2,   1.3991,2,   1.39905,2,  34.6973,2,  34.6973,2,   184.52,2,   184.64,2,   119.47,2,     0.38,    33.63,2,     0.13,     0.01,2,     0.01,    2.349,2,    0.016, -999.000,9, -999.000,9, -999.000,9,   -999.0,9,   -999.0,9,-999.0000,-999,9,  -999.00,9,  -999.00,   -999.0,9,   -999.0,   1.0465,  27.7990
  49NZ20090521,   P21,   181,  1,      4, X12022,9,20090528,1917,-17.4958,-160.3400, 4895,     10.0,2,  27.8041,2,  27.80409,2,  35.8143,2,-999.0000,9,   197.50,2,  -999.00,9,  -999.00,9,  -999.00,  -999.00,9,  -999.00,  -999.00,9,  -999.00, -999.000,9, -999.000, -999.000,9, -999.000,9, -999.000,9,   -999.0,9,   -999.0,9,-999.0000,-999,9,  -999.00,9,  -999.00,   -999.0,9,   -999.0,  27.8018,  23.0720
  49NZ20090521,   P21,   181,  1,      3, X12021,9,20090528,1917,-17.4958,-160.3400, 4895,   1469.7,2,   2.8389,2,   2.83878,2,  34.5746,2,-999.0000,9,   143.62,2,  -999.00,9,  -999.00,9,  -999.00,  -999.00,9,  -999.00,  -999.00,9,  -999.00, -999.000,9, -999.000, -999.000,9, -999.000,9, -999.000,9,   -999.0,9,   -999.0,9,-999.0000,-999,9,  -999.00,9,  -999.00,   -999.0,9,   -999.0,   2.7354,  27.5693
  49NZ20090521,   P21,   181,  1,      2, X12020,2,20090528,1917,-17.4958,-160.3400, 4895,   3080.2,2,   1.6648,2,   1.66478,2,  34.6755,2,-999.0000,9,   161.39,2,  -999.00,9,  -999.00,9,  -999.00,  -999.00,9,  -999.00,  -999.00,9,  -999.00, -999.000,9, -999.000,    0.000,2,    0.000,2,    0.000,2,   -999.0,9,   -999.0,9,-999.0000,-999,9,  -999.00,9,  -999.00,   -999.0,9,   -999.0,   1.4366,  27.7543
  49NZ20090521,   P21,   181,  1,      1, X12019,2,20090528,1917,-17.4958,-160.3400, 4895,   4960.2,2,   1.2078,2,   1.20780,2,  34.7074,2,  34.7075,6,   199.80,2,   199.84,2,   116.85,2,     0.38,    32.57,2,     0.12,     0.01,2,     0.01,    2.270,2,    0.016,    0.010,2,    0.007,2,    0.000,2,   -999.0,9,   -999.0,9,-999.0000,-999,9,  -999.00,9,  -999.00,   -999.0,9,   -999.0,   0.7881,  27.8240