BOTTLE,20111109CCHDOSIOCBG
EXPOCODE,SECT_ID,STNNBR,CASTNO,SAMPNO,BTLNBR,BTLNBR_FLAG_W,DATE,TIME,LATITUDE,LONGITUDE,DEPTH,CTDPRS,CTDPRS_FLAG_W,CTDTMP,CTDTMP_FLAG_W,SBE35,SBE35_FLAG_W,CTDSAL,CTDSAL_FLAG_W,SALNTY,SALNTY_FLAG_W,CTDOXY,CTDOXY_FLAG_W,OXYGEN,OXYGEN_FLAG_W,SILCAT,SILCAT_FLAG_W,SILUNC,NITRAT,NITRAT_FLAG_W,NRAUNC,NITRIT,NITRIT_FLAG_W,NRIUNC,PHSPHT,PHSPHT_FLAG_W,PHPUNC,CFC-11,CFC-11_FLAG_W,CFC-12,CFC-12_FLAG_W,CFC113,CFC113_FLAG_W,TCARBN,TCARBN_FLAG_W,ALKALI,ALKALI_FLAG_W,PH_TOT,PH_TMP,PH_TOT_FLAG_W,DELC13,DELC13_FLAG_W,C13ERR,DELC14,DELC14_FLAG_W,C14ERR,THETA,SIG0
,,,,,,,,,,,METERS,DBAR,,ITS-90,,ITS-90,,PSS-78,,PSS-78,,UMOL/KG,,UMOL/KG,,UMOL/KG,,UMOL/KG,UMOL/KG,,UMOL/KG,UMOL/KG,,UMOL/KG,UMOL/KG,,UMOL/KG,PMOL/KG,,PMOL/KG,,PMOL/KG,,UMOL/KG,,UMOL/KG,,,DEG C,,/MILLE,,/MILLE,/MILLE,,/MILLE,DEG C,KG/M^3
  49NZ20090521,   P21,   228,  1,      0,   -999,9,20090607,1625,-17.8315, 174.3328, 2848,   -999.0,9,-999.0000,9,-999.00000,9,-999.0000,9,  34.7739,2,  -999.00,9,  -999.00,9,  -999.00,9,  -999.00,  -999.00,9,  -999.00,  -999.00,9,  -999.00, -999.000,9, -999.000, -999.000,9, -999.000,9, -999.000,9,   -999.0,9,   -999.0,9,-999.0000,-999,9,  -999.00,9,  -999.00,   -999.0,9,   -999.0,-999.0000,-999.0000
  49NZ20090521,   P21,   228,  1,     36, X12043,2,20090607,1625,-17.8315, 174.3328, 2848,     10.7,2,  26.3614,2,  26.36156,2,  34.7579,2,  34.7562,2,   201.53,2,   201.48,2,     0.54,2,     0.12,     0.08,2,     0.03,     0.02,2,     0.01,    0.061,2,    0.030, -999.000,9, -999.000,9, -999.000,9,   -999.0,9,   -999.0,9,-999.0000,-999,9,  -999.00,9,  -999.00,   -999.0,9,   -999.0,  26.3590,  22.7384
  49NZ20090521,   P21,   228,  1,     35, X12042,2,20090607,1625,-17.8315, 174.3328, 2848,     49.7,2,  26.3705,2,  26.36993,2,  34.7596,2,  34.7576,2,   201.28,2,   201.32,2,     0.44,2,     0.12,     0.08,2,     0.03,     0.01,2,     0.01,    0.066,2,    0.028,    1.502,2,    0.942,2, -999.000,5,   -999.0,9,   -999.0,9,-999.0000,-999,9,  -999.00,9,  -999.00,   -999.0,9,   -999.0,  26.3593,  22.7396
  49NZ20090521,   P21,   228,  1,     34, X12016,2,20090607,1625,-17.8315, 174.3328, 2848,    101.2,2,  25.4683,2,  25.46858,2,  35.2823,2,  35.2766,2,   192.28,2,   192.54,2,     0.60,2,     0.12,     0.07,2,     0.03,     0.02,2,     0.01,    0.143,2,    0.018,    1.663,6,    1.030,6, -999.000,5,   -999.0,9,   -999.0,9,-999.0000,-999,9,  -999.00,9,  -999.00,   -999.0,9,   -999.0,  25.4460,  23.4181
  49NZ20090521,   P21,   228,  1,     33, X12015,2,20090607,1625,-17.8315, 174.3328, 2848,    150.9,2,  23.4895,2,  23.49437,2,  35.5852,2,  35.5831,2,   165.00,2,   165.06,2,     0.67,2,     0.12,     2.80,2,     0.04,     0.03,2,     0.01,    0.341,2,    0.014,    1.808,2,    1.098,2,    0.155,4,   -999.0,9,   -999.0,9,-999.0000,-999,9,  -999.00,9,  -999.00,   -999.0,9,   -999.0,  23.4581,  24.2442
  49NZ20090521,   P21,   228,  1,     32, X12050,2,20090607,1625,-17.8315, 174.3328, 2848,    200.3,2,  21.3343,2,  21.33086,2,  35.6541,2,  35.6534,2,   167.82,2,   167.80,2,     0.71,2,     0.12,     3.87,2,     0.04,     0.02,2,     0.01,    0.398,2,    0.013,    1.986,2,    1.173,2,    0.078,2,   -999.0,9,   -999.0,9,-999.0000,-999,9,  -999.00,9,  -999.00,   -999.0,9,   -999.0,  21.2954,  24.9110
  49NZ20090521,   P21,   228,  1,     31, X12014,2,20090607,1625,-17.8315, 174.3328, 2848,    249.9,2,  19.1762,2,  19.17798,2,  35.5917,2,  35.5900,6,   176.83,2,   176.19,2,     1.10,2,     0.12,     4.77,2,     0.05,     0.02,2,     0.01,    0.446,2,    0.013,    2.143,2,    1.244,2,    0.046,2,   -999.0,9,   -999.0,9,-999.0000,-999,9,  -999.00,9,  -999.00,   -999.0,9,   -999.0,  19.1311,  25.4399
  49NZ20090521,   P21,   228,  1,     30, X12012,2,20090607,1625,-17.8315, 174.3328, 2848,    329.8,2,  16.0560,2,  16.05525,2,  35.2831,2,  35.2825,2,   177.44,2,   177.38,2,     2.29,2,     0.12,     8.27,2,     0.06,     0.02,2,     0.01,    0.705,2,    0.013,    2.230,2,    1.244,2,    0.033,2,   -999.0,9,   -999.0,9,-999.0000,-999,9,  -999.00,9,  -999.00,   -999.0,9,   -999.0,  16.0034,  25.9647
  49NZ20090521,   P21,   228,  1,     29, X12041,2,20090607,1625,-17.8315, 174.3328, 2848,    431.2,2,  11.6700,2,  11.67018,2,  34.8677,2,  34.8653,2,   188.56,2,   188.45,2,     5.04,2,     0.13,    15.10,2,     0.08,     0.02,2,     0.01,    1.135,2,    0.013,    2.229,6,    1.178,6,    0.050,6,   -999.0,9,   -999.0,9,-999.0000,-999,9,  -999.00,9,  -999.00,   -999.0,9,   -999.0,  11.6143,  26.5594
  49NZ20090521,   P21,   228,  1,     28, X12040,2,20090607,1625,-17.8315, 174.3328, 2848,    529.3,2,   8.1417,2,   8.13060,2,  34.5111,2,  34.5109,6,   203.89,2,   203.55,2,     9.12,2,     0.14,    21.91,2,     0.09,     0.02,2,     0.01,    1.559,2,    0.014,    1.911,2,    0.961,2,    0.046,2,   -999.0,9,   -999.0,9,-999.0000,-999,9,  -999.00,9,  -999.00,   -999.0,9,   -999.0,   8.0868,  26.8768
  49NZ20090521,   P21,   228,  1,     27, X12009,2,20090607,1625,-17.8315, 174.3328, 2848,    628.9,2,   6.6512,2,   6.65108,2,  34.3968,2,  34.3967,2,   208.88,2,   208.35,2,    13.75,2,     0.15,    25.38,2,     0.10,     0.02,2,     0.01,    1.780,2,    0.015,    1.373,6,    0.686,6,    0.039,6,   -999.0,9,   -999.0,9,-999.0000,-999,9,  -999.00,9,  -999.00,   -999.0,9,   -999.0,   6.5927,  26.9989
  49NZ20090521,   P21,   228,  1,     26, X12008,2,20090607,1625,-17.8315, 174.3328, 2848,    730.4,2,   5.8640,2,   5.86072,2,  34.3822,2,  34.3819,2,   193.79,2,   193.65,2,    22.90,2,     0.17,    28.38,2,     0.11,     0.02,2,     0.01,    1.989,2,    0.015,    0.726,2,    0.365,2,    0.015,2,   -999.0,9,   -999.0,9,-999.0000,-999,9,  -999.00,9,  -999.00,   -999.0,9,   -999.0,   5.7999,  27.0896
  49NZ20090521,   P21,   228,  1,     25, X12007,2,20090607,1625,-17.8315, 174.3328, 2848,    833.3,2,   5.0058,2,   5.00527,2,  34.3961,2,  34.3959,2,   181.54,2,   181.13,2,    35.40,2,     0.20,    31.05,2,     0.12,     0.02,2,     0.01,    2.170,2,    0.015,    0.346,2,    0.180,2,    0.000,2,   -999.0,9,   -999.0,9,-999.0000,-999,9,  -999.00,9,  -999.00,   -999.0,9,   -999.0,   4.9375,  27.2036
  49NZ20090521,   P21,   228,  1,     24, X12035,2,20090607,1625,-17.8315, 174.3328, 2848,    927.7,2,   4.3909,2,   4.39268,2,  34.4328,2,  34.4319,2,   167.96,2,   167.61,2,    48.90,2,     0.23,    32.96,2,     0.13,     0.02,2,     0.01,    2.310,2,    0.016,    0.133,2,    0.072,2,    0.000,2,   -999.0,9,   -999.0,9,-999.0000,-999,9,  -999.00,9,  -999.00,   -999.0,9,   -999.0,   4.3185,  27.3014
  49NZ20090521,   P21,   228,  1,     23, X12038,2,20090607,1625,-17.8315, 174.3328, 2848,   1071.1,2,   3.8151,2,   3.81474,2,  34.4801,2,  34.4799,6,   161.13,2,   160.99,2,    64.28,2,     0.26,    33.97,2,     0.13,     0.02,2,     0.01,    2.383,2,    0.016,    0.061,2,    0.036,2,    0.000,2,   -999.0,9,   -999.0,9,-999.0000,-999,9,  -999.00,9,  -999.00,   -999.0,9,   -999.0,   3.7351,  27.3996
  49NZ20090521,   P21,   228,  1,     22, X12034,2,20090607,1625,-17.8315, 174.3328, 2848,   1270.1,2,   3.2934,2,   3.29237,2,  34.5338,2,  34.5328,3,   152.37,2,   152.45,2,    80.98,2,     0.30,    34.92,2,     0.13,     0.02,2,     0.01,    2.454,2,    0.016,    0.020,2,    0.013,2,    0.000,2,   -999.0,9,   -999.0,9,-999.0000,-999,9,  -999.00,9,  -999.00,   -999.0,9,   -999.0,   3.2016,  27.4942
  49NZ20090521,   P21,   228,  1,     21, X12033,2,20090607,1625,-17.8315, 174.3328, 2848,   1469.5,2,   2.9088,2,   2.90928,2,  34.5718,2,  34.5710,3,   148.20,2,   148.67,2,    93.32,2,     0.32,    35.41,2,     0.13,     0.02,2,     0.01,    2.496,2,    0.016,    0.008,2,    0.006,2,    0.000,2,   -999.0,9,   -999.0,9,-999.0000,-999,9,  -999.00,9,  -999.00,   -999.0,9,   -999.0,   2.8045,  27.5610
  49NZ20090521,   P21,   228,  1,     20, X12032,2,20090607,1625,-17.8315, 174.3328, 2848,   1669.8,2,   2.5928,2,   2.59268,2,  34.6009,2,  34.6012,2,   146.08,2,   145.91,2,   103.41,2,     0.35,    35.77,2,     0.13,     0.02,2,     0.01,    2.524,2,    0.016,    0.000,2,    0.000,2,    0.000,2,   -999.0,9,   -999.0,9,-999.0000,-999,9,  -999.00,9,  -999.00,   -999.0,9,   -999.0,   2.4757,  27.6128
  49NZ20090521,   P21,   228,  1,     19, X12046,2,20090607,1625,-17.8315, 174.3328, 2848,   1870.4,2,   2.3396,2,   2.33966,2,  34.6233,2,  34.6234,2,   146.05,2,   145.90,2,   111.25,2,     0.36,    35.88,2,     0.13,     0.02,2,     0.01,    2.531,2,    0.016,    0.000,2,    0.000,2,    0.000,2,   -999.0,9,   -999.0,9,-999.0000,-999,9,  -999.00,9,  -999.00,   -999.0,9,   -999.0,   2.2091,  27.6530
  49NZ20090521,   P21,   228,  1,     18, X12006,2,20090607,1625,-17.8315, 174.3328, 2848,   2072.1,2,   2.1813,2,   2.18136,2,  34.6367,2,  34.6367,6,   145.79,2,   145.65,2,   116.68,2,     0.38,    36.07,2,     0.13,     0.02,2,     0.01,    2.540,2,    0.016,    0.000,2,    0.000,2,    0.000,2,   -999.0,9,   -999.0,9,-999.0000,-999,9,  -999.00,9,  -999.00,   -999.0,9,   -999.0,   2.0359,  27.6778
  49NZ20090521,   P21,   228,  1,     17, X12047,2,20090607,1625,-17.8315, 174.3328, 2848,   2270.6,2,   2.0478,2,   2.04780,2,  34.6480,2,  34.6481,2,   145.38,2,   145.21,2,   121.79,2,     0.39,    36.18,2,     0.13,     0.02,2,     0.01,    2.542,2,    0.016,    0.000,2,    0.000,2,    0.000,2,   -999.0,9,   -999.0,9,-999.0000,-999,9,  -999.00,9,  -999.00,   -999.0,9,   -999.0,   1.8873,  27.6985
  49NZ20090521,   P21,   228,  1,     16, X12004,2,20090607,1625,-17.8315, 174.3328, 2848,   2467.9,2,   1.9939,2,   1.99386,2,  34.6532,2,  34.6531,2,   144.62,2,   144.46,2,   124.59,2,     0.39,    36.10,2,     0.13,     0.02,2,     0.01,    2.545,2,    0.016,    0.002,2,    0.000,2,    0.000,2,   -999.0,9,   -999.0,9,-999.0000,-999,9,  -999.00,9,  -999.00,   -999.0,9,   -999.0,   1.8166,  27.7082
  49NZ20090521,   P21,   228,  1,     15, X12003,2,20090607,1625,-17.8315, 174.3328, 2848,   2669.4,2,   1.9954,2,   1.99529,2,  34.6544,2,  34.6545,2,   144.52,2,   144.36,2,   125.14,2,     0.39,    36.18,2,     0.13,     0.02,2,     0.01,    2.550,2,    0.016,    0.000,2,    0.000,2,    0.000,2,   -999.0,9,   -999.0,9,-999.0000,-999,9,  -999.00,9,  -999.00,   -999.0,9,   -999.0,   1.7995,  27.7104
  49NZ20090521,   P21,   228,  1,     14, X12002,9,20090607,1625,-17.8315, 174.3328, 2848,    329.6,2,  16.0592,2,  16.05965,2,  35.2840,2,-999.0000,9,   177.57,2,  -999.00,9,  -999.00,9,  -999.00,  -999.00,9,  -999.00,  -999.00,9,  -999.00, -999.000,9, -999.000, -999.000,9, -999.000,9, -999.000,9,   -999.0,9,   -999.0,9,-999.0000,-999,9,  -999.00,9,  -999.00,   -999.0,9,   -999.0,  16.0066,  25.9646
  49NZ20090521,   P21,   228,  1,     13, X12001,9,20090607,1625,-17.8315, 174.3328, 2848,    429.6,2,  11.6792,2,  11.67493,2,  34.8668,2,-999.0000,9,   188.70,2,  -999.00,9,  -999.00,9,  -999.00,  -999.00,9,  -999.00,  -999.00,9,  -999.00, -999.000,9, -999.000, -999.000,9, -999.000,9, -999.000,9,   -999.0,9,   -999.0,9,-999.0000,-999,9,  -999.00,9,  -999.00,   -999.0,9,   -999.0,  11.6237,  26.5568
  49NZ20090521,   P21,   228,  1,     12, X12030,9,20090607,1625,-17.8315, 174.3328, 2848,    529.9,2,   8.1400,2,   8.14083,2,  34.5108,2,-999.0000,9,   203.96,2,  -999.00,9,  -999.00,9,  -999.00,  -999.00,9,  -999.00,  -999.00,9,  -999.00, -999.000,9, -999.000, -999.000,9, -999.000,9, -999.000,9,   -999.0,9,   -999.0,9,-999.0000,-999,9,  -999.00,9,  -999.00,   -999.0,9,   -999.0,   8.0851,  26.8769
  49NZ20090521,   P21,   228,  1,     11, X12044,9,20090607,1625,-17.8315, 174.3328, 2848,    629.6,2,   6.6495,2,   6.65038,2,  34.3968,2,-999.0000,9,   208.93,2,  -999.00,9,  -999.00,9,  -999.00,  -999.00,9,  -999.00,  -999.00,9,  -999.00, -999.000,9, -999.000, -999.000,9, -999.000,9, -999.000,9,   -999.0,9,   -999.0,9,-999.0000,-999,9,  -999.00,9,  -999.00,   -999.0,9,   -999.0,   6.5909,  26.9991
  49NZ20090521,   P21,   228,  1,     10, X12048,9,20090607,1625,-17.8315, 174.3328, 2848,    730.4,2,   5.8610,2,   5.85880,2,  34.3818,2,-999.0000,9,   194.18,2,  -999.00,9,  -999.00,9,  -999.00,  -999.00,9,  -999.00,  -999.00,9,  -999.00, -999.000,9, -999.000, -999.000,9, -999.000,9, -999.000,9,   -999.0,9,   -999.0,9,-999.0000,-999,9,  -999.00,9,  -999.00,   -999.0,9,   -999.0,   5.7969,  27.0896
  49NZ20090521,   P21,   228,  1,      9, X12027,9,20090607,1625,-17.8315, 174.3328, 2848,    833.4,2,   5.0063,2,   5.00569,2,  34.3957,2,-999.0000,9,   181.56,2,  -999.00,9,  -999.00,9,  -999.00,  -999.00,9,  -999.00,  -999.00,9,  -999.00, -999.000,9, -999.000, -999.000,9, -999.000,9, -999.000,9,   -999.0,9,   -999.0,9,-999.0000,-999,9,  -999.00,9,  -999.00,   -999.0,9,   -999.0,   4.9380,  27.2033
  49NZ20090521,   P21,   228,  1,      8, X12026,9,20090607,1625,-17.8315, 174.3328, 2848,   1469.4,2,   2.9062,2,   2.90871,2,  34.5722,2,-999.0000,9,   148.44,2,  -999.00,9,  -999.00,9,  -999.00,  -999.00,9,  -999.00,  -999.00,9,  -999.00, -999.000,9, -999.000, -999.000,9, -999.000,9, -999.000,9,   -999.0,9,   -999.0,9,-999.0000,-999,9,  -999.00,9,  -999.00,   -999.0,9,   -999.0,   2.8020,  27.5615
  49NZ20090521,   P21,   228,  1,      7, X12025,2,20090607,1625,-17.8315, 174.3328, 2848,     10.4,2,  26.3618,2,  26.36180,2,  34.7581,2,-999.0000,9,   201.58,2,  -999.00,9,     0.41,2,     0.12,     0.07,2,     0.03,     0.02,2,     0.01,    0.068,2,    0.028, -999.000,9, -999.000,9, -999.000,9,   -999.0,9,   -999.0,9,-999.0000,-999,9,  -999.00,9,  -999.00,   -999.0,9,   -999.0,  26.3595,  22.7384
  49NZ20090521,   P21,   228,  1,      6, X12024,2,20090607,1625,-17.8315, 174.3328, 2848,     49.7,2,  26.3674,2,  26.36792,2,  34.7596,2,-999.0000,9,   201.42,2,  -999.00,9,     0.47,2,     0.12,     0.08,2,     0.03,     0.02,2,     0.01,    0.067,2,    0.028, -999.000,9, -999.000,9, -999.000,9,   -999.0,9,   -999.0,9,-999.0000,-999,9,  -999.00,9,  -999.00,   -999.0,9,   -999.0,  26.3562,  22.7405
  49NZ20090521,   P21,   228,  1,      5, X12028,2,20090607,1625,-17.8315, 174.3328, 2848,    100.6,2,  25.4883,2,  25.48420,2,  35.2783,2,-999.0000,9,   192.38,2,  -999.00,9,     0.62,2,     0.12,     0.13,2,     0.03,     0.02,2,     0.01,    0.150,2,    0.018, -999.000,9, -999.000,9, -999.000,9,   -999.0,9,   -999.0,9,-999.0000,-999,9,  -999.00,9,  -999.00,   -999.0,9,   -999.0,  25.4662,  23.4089
  49NZ20090521,   P21,   228,  1,      4, X12022,2,20090607,1625,-17.8315, 174.3328, 2848,    150.7,2,  23.5111,2,  23.51106,2,  35.5836,2,-999.0000,9,   165.18,2,  -999.00,9,     0.80,2,     0.12,     2.86,2,     0.04,     0.03,2,     0.01,    0.353,2,    0.014, -999.000,9, -999.000,9, -999.000,9,   -999.0,9,   -999.0,9,-999.0000,-999,9,  -999.00,9,  -999.00,   -999.0,9,   -999.0,  23.4798,  24.2367
  49NZ20090521,   P21,   228,  1,      3, X12021,2,20090607,1625,-17.8315, 174.3328, 2848,    200.3,2,  21.3358,2,  21.33410,2,  35.6546,2,-999.0000,9,   167.93,2,  -999.00,9,     1.13,2,     0.12,     4.01,2,     0.04,     0.03,2,     0.01,    0.409,2,    0.013, -999.000,9, -999.000,9, -999.000,9,   -999.0,9,   -999.0,9,-999.0000,-999,9,  -999.00,9,  -999.00,   -999.0,9,   -999.0,  21.2969,  24.9110
  49NZ20090521,   P21,   228,  1,      2, X12020,2,20090607,1625,-17.8315, 174.3328, 2848,    249.5,2,  19.1897,2,  19.19039,2,  35.5905,2,-999.0000,9,   176.17,2,  -999.00,9,     1.57,2,     0.12,     4.88,2,     0.05,     0.02,2,     0.01,    0.463,2,    0.013, -999.000,9, -999.000,9, -999.000,9,   -999.0,9,   -999.0,9,-999.0000,-999,9,  -999.00,9,  -999.00,   -999.0,9,   -999.0,  19.1447,  25.4354
  49NZ20090521,   P21,   228,  1,      1, X12019,2,20090607,1625,-17.8315, 174.3328, 2848,   2876.9,2,   2.0092,2,   2.00886,2,  34.6548,2,  34.6551,6,   144.65,2,   144.36,2,   125.42,2,     0.39,    36.16,2,     0.13,     0.02,2,     0.01,    2.553,2,    0.016,    0.000,2,    0.000,2,    0.000,2,   -999.0,9,   -999.0,9,-999.0000,-999,9,  -999.00,9,  -999.00,   -999.0,9,   -999.0,   1.7933,  27.7113