BOTTLE,20111109CCHDOSIOCBG
EXPOCODE,SECT_ID,STNNBR,CASTNO,SAMPNO,BTLNBR,BTLNBR_FLAG_W,DATE,TIME,LATITUDE,LONGITUDE,DEPTH,CTDPRS,CTDPRS_FLAG_W,CTDTMP,CTDTMP_FLAG_W,SBE35,SBE35_FLAG_W,CTDSAL,CTDSAL_FLAG_W,SALNTY,SALNTY_FLAG_W,CTDOXY,CTDOXY_FLAG_W,OXYGEN,OXYGEN_FLAG_W,SILCAT,SILCAT_FLAG_W,SILUNC,NITRAT,NITRAT_FLAG_W,NRAUNC,NITRIT,NITRIT_FLAG_W,NRIUNC,PHSPHT,PHSPHT_FLAG_W,PHPUNC,CFC-11,CFC-11_FLAG_W,CFC-12,CFC-12_FLAG_W,CFC113,CFC113_FLAG_W,TCARBN,TCARBN_FLAG_W,ALKALI,ALKALI_FLAG_W,PH_TOT,PH_TMP,PH_TOT_FLAG_W,DELC13,DELC13_FLAG_W,C13ERR,DELC14,DELC14_FLAG_W,C14ERR,THETA,SIG0
,,,,,,,,,,,METERS,DBAR,,ITS-90,,ITS-90,,PSS-78,,PSS-78,,UMOL/KG,,UMOL/KG,,UMOL/KG,,UMOL/KG,UMOL/KG,,UMOL/KG,UMOL/KG,,UMOL/KG,UMOL/KG,,UMOL/KG,PMOL/KG,,PMOL/KG,,PMOL/KG,,UMOL/KG,,UMOL/KG,,,DEG C,,/MILLE,,/MILLE,/MILLE,,/MILLE,DEG C,KG/M^3
  49NZ20090521,   P21,   227,  1,      0,   -999,9,20090607,1148,-17.8290, 175.0000, 2056,   -999.0,9,-999.0000,9,-999.00000,9,-999.0000,9,  34.7928,2,  -999.00,9,  -999.00,9,  -999.00,9,  -999.00,  -999.00,9,  -999.00,  -999.00,9,  -999.00, -999.000,9, -999.000, -999.000,9, -999.000,9, -999.000,9,   -999.0,9,   -999.0,9,-999.0000,-999,9,  -999.00,9,  -999.00,   -999.0,9,   -999.0,-999.0000,-999.0000
  49NZ20090521,   P21,   227,  1,     36, X12043,2,20090607,1148,-17.8290, 175.0000, 2056,     10.8,2,  26.0575,2,  26.05780,2,  34.7842,2,  34.7814,2,   202.72,2,   202.61,2,     0.51,2,     0.12,     0.08,2,     0.03,     0.01,2,     0.01,    0.056,2,    0.032,    1.561,2,    1.013,2, -999.000,5,   1934.7,2,   2282.6,2,   8.1311,  25,2,  -999.00,9,  -999.00,   -999.0,9,   -999.0,  26.0551,  22.8533
  49NZ20090521,   P21,   227,  1,     35, X12042,2,20090607,1148,-17.8290, 175.0000, 2056,     50.5,2,  25.9877,2,  25.98807,2,  34.7927,2,  34.7895,2,   202.23,2,   202.33,2,     0.49,2,     0.12,     0.07,2,     0.03,     0.01,2,     0.01,    0.058,2,    0.031,    1.554,2,    0.995,2, -999.000,5,   1936.8,6,   2283.0,2,   8.1290,  25,2,  -999.00,9,  -999.00,   -999.0,9,   -999.0,  25.9765,  22.8842
  49NZ20090521,   P21,   227,  1,     34, X12016,2,20090607,1148,-17.8290, 175.0000, 2056,    100.1,2,  25.0732,2,  25.08361,2,  35.3591,2,  35.3596,2,   176.81,2,   177.33,2,     0.68,2,     0.12,     1.18,2,     0.04,     0.11,2,     0.01,    0.237,2,    0.015,    1.692,6,    1.076,6, -999.000,5,   2008.1,2,   2319.5,6,   8.0597,  25,2,  -999.00,9,  -999.00,   -999.0,9,   -999.0,  25.0514,  23.5970
  49NZ20090521,   P21,   227,  1,     33, X12015,2,20090607,1148,-17.8290, 175.0000, 2056,    151.3,2,  23.1748,2,  23.17763,2,  35.5350,2,  35.5350,2,   170.90,2,   170.50,2,     0.64,2,     0.12,     2.50,2,     0.04,     0.03,2,     0.01,    0.303,2,    0.014,    1.829,2,    1.151,2,    0.135,2,   2036.8,2,   2329.9,2,   8.0256,  25,6,  -999.00,9,  -999.00,   -999.0,9,   -999.0,  23.1437,  24.2978
  49NZ20090521,   P21,   227,  1,     32, X12050,2,20090607,1148,-17.8290, 175.0000, 2056,    200.8,2,  21.1921,2,  21.19890,2,  35.6966,2,  35.6958,2,   161.96,2,   161.87,2,     0.97,2,     0.12,     4.53,2,     0.05,     0.02,2,     0.01,    0.466,2,    0.013,    1.988,2,    1.217,2,    0.054,2,   2077.4,2,   2341.9,2,   7.9728,  25,2,  -999.00,9,  -999.00,   -999.0,9,   -999.0,  21.1533,  24.9824
  49NZ20090521,   P21,   227,  1,     31, X12014,2,20090607,1148,-17.8290, 175.0000, 2056,    249.9,2,  19.0634,2,  19.07463,2,  35.5688,2,  35.5685,6,   171.43,2,   171.14,2,     1.24,2,     0.12,     5.31,2,     0.05,     0.01,2,     0.01,    0.506,2,    0.013,    2.131,6,    1.268,6,    0.040,6,   2086.5,2,   2333.8,2,   7.9460,  25,2,  -999.00,9,  -999.00,   -999.0,9,   -999.0,  19.0185,  25.4513
  49NZ20090521,   P21,   227,  1,     30, X12012,2,20090607,1148,-17.8290, 175.0000, 2056,    300.1,2,  17.5675,2,  17.56779,2,  35.4324,2,  35.4302,2,   174.11,2,   174.21,2,     1.71,2,     0.12,     6.62,2,     0.05,     0.01,2,     0.01,    0.609,2,    0.013,    2.202,2,    1.283,2,    0.033,2,   2092.7,2,   2326.2,2,   7.9184,  25,2,  -999.00,9,  -999.00,   -999.0,9,   -999.0,  17.5166,  25.7219
  49NZ20090521,   P21,   227,  1,     29, X12041,2,20090607,1148,-17.8290, 175.0000, 2056,    400.6,2,  13.3040,2,  13.29235,2,  35.0154,2,  35.0239,2,   182.47,2,   182.64,2,     3.96,2,     0.13,    12.21,2,     0.07,     0.01,2,     0.01,    0.975,2,    0.013,    2.199,6,    1.209,6,    0.043,6,   2118.7,2,   2305.0,2,   7.8331,  25,2,  -999.00,9,  -999.00,   -999.0,9,   -999.0,  13.2476,  26.3547
  49NZ20090521,   P21,   227,  1,     28, X12040,2,20090607,1148,-17.8290, 175.0000, 2056,    502.9,2,   8.8917,2,   8.89493,2,  34.5810,2,  34.5831,6,   200.90,2,   200.74,2,     7.72,2,     0.14,    20.15,2,     0.09,     0.01,2,     0.01,    1.463,2,    0.014,    2.075,2,    1.077,2,    0.066,2,   2143.0,2,   2288.9,2,   7.7412,  25,2,  -999.00,9,  -999.00,   -999.0,9,   -999.0,   8.8368,  26.8160
  49NZ20090521,   P21,   227,  1,     27, X12009,2,20090607,1148,-17.8290, 175.0000, 2056,    601.5,2,   6.7511,2,   6.75136,2,  34.4024,2,  34.4025,2,   208.93,2,   208.84,2,    13.33,2,     0.15,    25.04,2,     0.10,     0.01,2,     0.01,    1.770,2,    0.015,    1.469,6,    0.744,6,    0.044,6,   2158.9,2,   2285.6,2,   7.6982,  25,2,  -999.00,9,  -999.00,   -999.0,9,   -999.0,   6.6948,  26.9896
  49NZ20090521,   P21,   227,  1,     26, X12008,2,20090607,1148,-17.8290, 175.0000, 2056,    701.2,2,   5.8070,2,   5.80761,2,  34.3757,2,  34.3751,2,   198.52,2,   198.39,2,    21.86,2,     0.17,    28.05,2,     0.11,     0.01,2,     0.01,    1.974,2,    0.015,    0.829,2,    0.416,2,    0.032,2,   2177.6,6,   2292.5,2,   7.6665,  25,2,  -999.00,9,  -999.00,   -999.0,9,   -999.0,   5.7459,  27.0912
  49NZ20090521,   P21,   227,  1,     25, X12007,2,20090607,1148,-17.8290, 175.0000, 2056,    800.8,2,   5.1539,2,   5.15535,2,  34.3902,2,  34.3900,2,   184.60,2,   184.51,2,    32.61,2,     0.19,    30.37,2,     0.12,     0.01,2,     0.01,    2.139,2,    0.015,    0.442,2,    0.230,2,    0.010,2,   2197.7,2,   2302.3,6,   7.6378,  25,2,  -999.00,9,  -999.00,   -999.0,9,   -999.0,   5.0875,  27.1816
  49NZ20090521,   P21,   227,  1,     24, X12035,2,20090607,1148,-17.8290, 175.0000, 2056,    900.4,2,   4.5189,2,   4.51913,2,  34.4180,2,  34.4179,2,   174.21,2,   174.15,2,    44.88,2,     0.22,    32.23,2,     0.12,     0.01,2,     0.01,    2.268,2,    0.016,    0.222,2,    0.113,2,    0.000,2,   2217.2,2,   2315.3,2,   7.6161,  25,6,  -999.00,9,  -999.00,   -999.0,9,   -999.0,   4.4480,  27.2757
  49NZ20090521,   P21,   227,  1,     23, X12038,2,20090607,1148,-17.8290, 175.0000, 2056,   1000.1,2,   4.0305,2,   4.02997,2,  34.4597,2,  34.4599,6,   162.31,2,   162.43,2,    58.16,2,     0.25,    33.69,2,     0.13,     0.01,2,     0.01,    2.376,2,    0.016,    0.082,2,    0.046,2,    0.000,2,   2237.4,2,   2329.8,2,   7.5967,  25,2,  -999.00,9,  -999.00,   -999.0,9,   -999.0,   3.9547,  27.3611
  49NZ20090521,   P21,   227,  1,     22, X12034,2,20090607,1148,-17.8290, 175.0000, 2056,   1200.3,2,   3.4588,2,   3.45902,2,  34.5152,2,  34.5151,2,   153.34,2,   153.27,2,    75.69,2,     0.29,    34.79,2,     0.13,     0.01,2,     0.01,    2.457,2,    0.016,    0.027,2,    0.019,2,    0.000,2,   2260.8,2,   2350.2,2,   7.5844,  25,2,  -999.00,9,  -999.00,   -999.0,9,   -999.0,   3.3711,  27.4633
  49NZ20090521,   P21,   227,  1,     21, X12033,2,20090607,1148,-17.8290, 175.0000, 2056,   1402.0,2,   3.1338,2,   3.13381,2,  34.5490,2,  34.5489,2,   149.19,2,   149.14,2,    86.64,2,     0.31,    35.22,2,     0.13,     0.01,2,     0.01,    2.497,2,    0.016,    0.016,2,    0.011,2,    0.000,2,   2275.7,2,   2361.8,2,   7.5797,  25,2,  -999.00,9,  -999.00,   -999.0,9,   -999.0,   3.0327,  27.5221
  49NZ20090521,   P21,   227,  1,     20, X12032,2,20090607,1148,-17.8290, 175.0000, 2056,   1602.7,2,   2.7122,2,   2.71205,2,  34.5894,2,  34.5893,6,   146.97,2,   146.83,2,    99.63,2,     0.34,    35.61,2,     0.13,     0.01,2,     0.01,    2.523,2,    0.016,    0.005,2,    0.004,2,    0.000,2,   2289.8,2,   2376.2,2,   7.5784,  25,6,  -999.00,9,  -999.00,   -999.0,9,   -999.0,   2.5992,  27.5931
  49NZ20090521,   P21,   227,  1,     19, X12046,2,20090607,1148,-17.8290, 175.0000, 2056,   1802.1,2,   2.4386,2,   2.43838,2,  34.6144,2,  34.6146,2,   146.26,2,   146.12,2,   108.08,2,     0.36,    35.79,2,     0.13,     0.01,2,     0.01,    2.535,2,    0.016,    0.001,2,    0.003,2,    0.000,2,   2299.1,2,   2386.6,2,   7.5783,  25,2,  -999.00,9,  -999.00,   -999.0,9,   -999.0,   2.3125,  27.6374
  49NZ20090521,   P21,   227,  1,     18, X12006,2,20090607,1148,-17.8290, 175.0000, 2056,   2000.8,2,   2.2133,2,   2.21018,2,  34.6345,2,  34.6350,2,   146.96,2,   146.76,2,   114.78,2,     0.37,    35.80,2,     0.13,     0.01,2,     0.01,    2.533,2,    0.016,    0.004,2,    0.001,2,    0.000,2,   2305.2,2,   2393.5,2,   7.5805,  25,2,  -999.00,9,  -999.00,   -999.0,9,   -999.0,   2.0735,  27.6730
  49NZ20090521,   P21,   227,  1,     17, X12047,9,20090607,1148,-17.8290, 175.0000, 2056,     10.7,2,  26.0543,2,  26.05296,2,  34.7843,2,-999.0000,9,   202.74,2,  -999.00,9,  -999.00,9,  -999.00,  -999.00,9,  -999.00,  -999.00,9,  -999.00, -999.000,9, -999.000, -999.000,9, -999.000,9, -999.000,9,   -999.0,9,   -999.0,9,-999.0000,-999,9,  -999.00,9,  -999.00,   -999.0,9,   -999.0,  26.0519,  22.8544
  49NZ20090521,   P21,   227,  1,     16, X12004,9,20090607,1148,-17.8290, 175.0000, 2056,     50.5,2,  25.9896,2,  25.98949,2,  34.7929,2,-999.0000,9,   202.22,2,  -999.00,9,  -999.00,9,  -999.00,  -999.00,9,  -999.00,  -999.00,9,  -999.00, -999.000,9, -999.000, -999.000,9, -999.000,9, -999.000,9,   -999.0,9,   -999.0,9,-999.0000,-999,9,  -999.00,9,  -999.00,   -999.0,9,   -999.0,  25.9783,  22.8838
  49NZ20090521,   P21,   227,  1,     15, X12003,9,20090607,1148,-17.8290, 175.0000, 2056,    100.0,2,  25.0502,2,  25.03746,2,  35.3650,2,-999.0000,9,   177.45,2,  -999.00,9,  -999.00,9,  -999.00,  -999.00,9,  -999.00,  -999.00,9,  -999.00, -999.000,9, -999.000, -999.000,9, -999.000,9, -999.000,9,   -999.0,9,   -999.0,9,-999.0000,-999,9,  -999.00,9,  -999.00,   -999.0,9,   -999.0,  25.0285,  23.6084
  49NZ20090521,   P21,   227,  1,     14, X12002,9,20090607,1148,-17.8290, 175.0000, 2056,    151.5,2,  23.1709,2,  23.17160,2,  35.5360,2,-999.0000,9,   170.92,2,  -999.00,9,  -999.00,9,  -999.00,  -999.00,9,  -999.00,  -999.00,9,  -999.00, -999.000,9, -999.000, -999.000,9, -999.000,9, -999.000,9,   -999.0,9,   -999.0,9,-999.0000,-999,9,  -999.00,9,  -999.00,   -999.0,9,   -999.0,  23.1397,  24.2997
  49NZ20090521,   P21,   227,  1,     13, X12001,9,20090607,1148,-17.8290, 175.0000, 2056,    200.6,2,  21.1771,2,  21.18357,2,  35.6972,2,-999.0000,9,   162.03,2,  -999.00,9,  -999.00,9,  -999.00,  -999.00,9,  -999.00,  -999.00,9,  -999.00, -999.000,9, -999.000, -999.000,9, -999.000,9, -999.000,9,   -999.0,9,   -999.0,9,-999.0000,-999,9,  -999.00,9,  -999.00,   -999.0,9,   -999.0,  21.1383,  24.9870
  49NZ20090521,   P21,   227,  1,     12, X12030,9,20090607,1148,-17.8290, 175.0000, 2056,    250.0,2,  19.0484,2,  19.05350,2,  35.5681,2,-999.0000,9,   171.59,2,  -999.00,9,  -999.00,9,  -999.00,  -999.00,9,  -999.00,  -999.00,9,  -999.00, -999.000,9, -999.000, -999.000,9, -999.000,9, -999.000,9,   -999.0,9,   -999.0,9,-999.0000,-999,9,  -999.00,9,  -999.00,   -999.0,9,   -999.0,  19.0035,  25.4546
  49NZ20090521,   P21,   227,  1,     11, X12044,9,20090607,1148,-17.8290, 175.0000, 2056,    299.9,2,  17.5396,2,  17.53673,2,  35.4299,2,-999.0000,9,   174.24,2,  -999.00,9,  -999.00,9,  -999.00,  -999.00,9,  -999.00,  -999.00,9,  -999.00, -999.000,9, -999.000, -999.000,9, -999.000,9, -999.000,9,   -999.0,9,   -999.0,9,-999.0000,-999,9,  -999.00,9,  -999.00,   -999.0,9,   -999.0,  17.4887,  25.7266
  49NZ20090521,   P21,   227,  1,     10, X12048,9,20090607,1148,-17.8290, 175.0000, 2056,    401.2,2,  13.2776,2,  13.28167,2,  35.0150,2,-999.0000,9,   182.51,2,  -999.00,9,  -999.00,9,  -999.00,  -999.00,9,  -999.00,  -999.00,9,  -999.00, -999.000,9, -999.000, -999.000,9, -999.000,9, -999.000,9,   -999.0,9,   -999.0,9,-999.0000,-999,9,  -999.00,9,  -999.00,   -999.0,9,   -999.0,  13.2212,  26.3598
  49NZ20090521,   P21,   227,  1,      9, X12027,9,20090607,1148,-17.8290, 175.0000, 2056,    502.7,2,   8.8955,2,   8.89885,2,  34.5814,2,-999.0000,9,   200.96,2,  -999.00,9,  -999.00,9,  -999.00,  -999.00,9,  -999.00,  -999.00,9,  -999.00, -999.000,9, -999.000, -999.000,9, -999.000,9, -999.000,9,   -999.0,9,   -999.0,9,-999.0000,-999,9,  -999.00,9,  -999.00,   -999.0,9,   -999.0,   8.8406,  26.8158
  49NZ20090521,   P21,   227,  1,      8, X12026,9,20090607,1148,-17.8290, 175.0000, 2056,    601.2,2,   6.7516,2,   6.75152,2,  34.4025,2,-999.0000,9,   208.98,2,  -999.00,9,  -999.00,9,  -999.00,  -999.00,9,  -999.00,  -999.00,9,  -999.00, -999.000,9, -999.000, -999.000,9, -999.000,9, -999.000,9,   -999.0,9,   -999.0,9,-999.0000,-999,9,  -999.00,9,  -999.00,   -999.0,9,   -999.0,   6.6953,  26.9896
  49NZ20090521,   P21,   227,  1,      7, X12025,9,20090607,1148,-17.8290, 175.0000, 2056,    701.8,2,   5.8047,2,   5.80503,2,  34.3757,2,-999.0000,9,   198.51,2,  -999.00,9,  -999.00,9,  -999.00,  -999.00,9,  -999.00,  -999.00,9,  -999.00, -999.000,9, -999.000, -999.000,9, -999.000,9, -999.000,9,   -999.0,9,   -999.0,9,-999.0000,-999,9,  -999.00,9,  -999.00,   -999.0,9,   -999.0,   5.7436,  27.0914
  49NZ20090521,   P21,   227,  1,      6, X12024,9,20090607,1148,-17.8290, 175.0000, 2056,    800.7,2,   5.1504,2,   5.15154,2,  34.3906,2,-999.0000,9,   184.57,2,  -999.00,9,  -999.00,9,  -999.00,  -999.00,9,  -999.00,  -999.00,9,  -999.00, -999.000,9, -999.000, -999.000,9, -999.000,9, -999.000,9,   -999.0,9,   -999.0,9,-999.0000,-999,9,  -999.00,9,  -999.00,   -999.0,9,   -999.0,   5.0841,  27.1824
  49NZ20090521,   P21,   227,  1,      5, X12028,9,20090607,1148,-17.8290, 175.0000, 2056,    900.3,2,   4.5191,2,   4.51885,2,  34.4180,2,-999.0000,9,   174.24,2,  -999.00,9,  -999.00,9,  -999.00,  -999.00,9,  -999.00,  -999.00,9,  -999.00, -999.000,9, -999.000, -999.000,9, -999.000,9, -999.000,9,   -999.0,9,   -999.0,9,-999.0000,-999,9,  -999.00,9,  -999.00,   -999.0,9,   -999.0,   4.4482,  27.2756
  49NZ20090521,   P21,   227,  1,      4, X12022,9,20090607,1148,-17.8290, 175.0000, 2056,   1000.2,2,   4.0357,2,   4.03612,2,  34.4593,2,-999.0000,9,   162.46,2,  -999.00,9,  -999.00,9,  -999.00,  -999.00,9,  -999.00,  -999.00,9,  -999.00, -999.000,9, -999.000, -999.000,9, -999.000,9, -999.000,9,   -999.0,9,   -999.0,9,-999.0000,-999,9,  -999.00,9,  -999.00,   -999.0,9,   -999.0,   3.9598,  27.3602
  49NZ20090521,   P21,   227,  1,      3, X12021,9,20090607,1148,-17.8290, 175.0000, 2056,   1200.4,2,   3.4586,2,   3.45872,2,  34.5153,2,-999.0000,9,   153.34,2,  -999.00,9,  -999.00,9,  -999.00,  -999.00,9,  -999.00,  -999.00,9,  -999.00, -999.000,9, -999.000, -999.000,9, -999.000,9, -999.000,9,   -999.0,9,   -999.0,9,-999.0000,-999,9,  -999.00,9,  -999.00,   -999.0,9,   -999.0,   3.3709,  27.4634
  49NZ20090521,   P21,   227,  1,      2, X12020,9,20090607,1148,-17.8290, 175.0000, 2056,   1402.1,2,   3.1338,2,   3.13387,2,  34.5490,2,-999.0000,9,   149.15,2,  -999.00,9,  -999.00,9,  -999.00,  -999.00,9,  -999.00,  -999.00,9,  -999.00, -999.000,9, -999.000, -999.000,9, -999.000,9, -999.000,9,   -999.0,9,   -999.0,9,-999.0000,-999,9,  -999.00,9,  -999.00,   -999.0,9,   -999.0,   3.0327,  27.5221
  49NZ20090521,   P21,   227,  1,      1, X12019,2,20090607,1148,-17.8290, 175.0000, 2056,   2062.9,2,   2.1680,2,   2.16781,2,  34.6388,2,  34.6389,6,   147.30,2,   146.80,2,   116.13,2,     0.37,    35.81,2,     0.13,     0.01,2,     0.01,    2.536,2,    0.016,    0.001,2,    0.003,2,    0.000,2,   2308.0,2,   2395.3,2,   7.5810,  25,2,  -999.00,9,  -999.00,   -999.0,9,   -999.0,   2.0236,  27.6804