BOTTLE,20111109CCHDOSIOCBG
EXPOCODE,SECT_ID,STNNBR,CASTNO,SAMPNO,BTLNBR,BTLNBR_FLAG_W,DATE,TIME,LATITUDE,LONGITUDE,DEPTH,CTDPRS,CTDPRS_FLAG_W,CTDTMP,CTDTMP_FLAG_W,SBE35,SBE35_FLAG_W,CTDSAL,CTDSAL_FLAG_W,SALNTY,SALNTY_FLAG_W,CTDOXY,CTDOXY_FLAG_W,OXYGEN,OXYGEN_FLAG_W,SILCAT,SILCAT_FLAG_W,SILUNC,NITRAT,NITRAT_FLAG_W,NRAUNC,NITRIT,NITRIT_FLAG_W,NRIUNC,PHSPHT,PHSPHT_FLAG_W,PHPUNC,CFC-11,CFC-11_FLAG_W,CFC-12,CFC-12_FLAG_W,CFC113,CFC113_FLAG_W,TCARBN,TCARBN_FLAG_W,ALKALI,ALKALI_FLAG_W,PH_TOT,PH_TMP,PH_TOT_FLAG_W,DELC13,DELC13_FLAG_W,C13ERR,DELC14,DELC14_FLAG_W,C14ERR,THETA,SIG0
,,,,,,,,,,,METERS,DBAR,,ITS-90,,ITS-90,,PSS-78,,PSS-78,,UMOL/KG,,UMOL/KG,,UMOL/KG,,UMOL/KG,UMOL/KG,,UMOL/KG,UMOL/KG,,UMOL/KG,UMOL/KG,,UMOL/KG,PMOL/KG,,PMOL/KG,,PMOL/KG,,UMOL/KG,,UMOL/KG,,,DEG C,,/MILLE,,/MILLE,/MILLE,,/MILLE,DEG C,KG/M^3
  49NZ20090521,   P21,   186,  1,      0,   -999,9,20090530,0114,-17.4938,-163.6710, 5305,   -999.0,9,-999.0000,9,-999.00000,9,-999.0000,9,  35.5310,2,  -999.00,9,  -999.00,9,  -999.00,9,  -999.00,  -999.00,9,  -999.00,  -999.00,9,  -999.00, -999.000,9, -999.000, -999.000,9, -999.000,9, -999.000,9,   -999.0,9,   -999.0,9,-999.0000,-999,9,  -999.00,9,  -999.00,   -999.0,9,   -999.0,-999.0000,-999.0000
  49NZ20090521,   P21,   186,  1,     36, X12043,2,20090530,0114,-17.4938,-163.6710, 5305,     10.8,2,  27.7908,2,  27.78947,2,  35.5411,2,  35.5414,2,   198.11,2,   198.26,2,     0.54,2,     0.12,     0.12,2,     0.03,     0.01,2,     0.01,    0.138,2,    0.019,    1.443,2,    0.917,2, -999.000,5,   -999.0,9,   -999.0,9,-999.0000,-999,9,  -999.00,9,  -999.00,   -999.0,9,   -999.0,  27.7883,  22.8708
  49NZ20090521,   P21,   186,  1,     35, X12042,2,20090530,0114,-17.4938,-163.6710, 5305,     50.4,2,  27.7930,2,  27.79282,2,  35.5528,2,  35.5584,2,   197.99,2,   198.36,2,     0.49,2,     0.12,     0.11,2,     0.03,     0.01,2,     0.01,    0.146,2,    0.018,    1.443,2,    0.916,2, -999.000,5,   -999.0,9,   -999.0,9,-999.0000,-999,9,  -999.00,9,  -999.00,   -999.0,9,   -999.0,  27.7812,  22.8819
  49NZ20090521,   P21,   186,  1,     34, X12016,2,20090530,0114,-17.4938,-163.6710, 5305,    100.8,2,  25.2164,2,  25.21696,2,  36.0550,2,  36.0535,2,   207.17,2,   207.06,2,     0.43,2,     0.12,     0.10,2,     0.03,     0.01,2,     0.01,    0.168,2,    0.017,    1.657,6,    1.036,6, -999.000,5,   -999.0,9,   -999.0,9,-999.0000,-999,9,  -999.00,9,  -999.00,   -999.0,9,   -999.0,  25.1943,  24.0793
  49NZ20090521,   P21,   186,  1,     33, X12015,2,20090530,0114,-17.4938,-163.6710, 5305,    150.4,2,  23.3008,2,  23.30052,2,  35.9635,2,  35.9633,2,   183.10,2,   182.71,2,     0.45,2,     0.12,     0.40,2,     0.03,     0.18,2,     0.01,    0.264,2,    0.015,    1.807,2,    1.105,2,    0.169,4,   -999.0,9,   -999.0,9,-999.0000,-999,9,  -999.00,9,  -999.00,   -999.0,9,   -999.0,  23.2697,  24.5862
  49NZ20090521,   P21,   186,  1,     32, X12050,2,20090530,0114,-17.4938,-163.6710, 5305,    201.5,2,  21.6012,2,  21.60132,2,  35.8429,2,  35.8429,2,   176.74,2,   176.39,2,     0.55,2,     0.12,     2.43,2,     0.04,     0.02,2,     0.01,    0.374,2,    0.014,    1.974,2,    1.178,2,    0.086,2,   -999.0,9,   -999.0,9,-999.0000,-999,9,  -999.00,9,  -999.00,   -999.0,9,   -999.0,  21.5617,  24.9811
  49NZ20090521,   P21,   186,  1,     31, X12014,2,20090530,0114,-17.4938,-163.6710, 5305,    249.3,2,  19.2865,2,  19.28610,2,  35.5850,2,  35.5848,6,   178.78,2,   178.59,2,     0.87,2,     0.12,     4.02,2,     0.04,     0.01,2,     0.01,    0.472,2,    0.013,    2.178,2,    1.258,2,    0.033,2,   -999.0,9,   -999.0,9,-999.0000,-999,9,  -999.00,9,  -999.00,   -999.0,9,   -999.0,  19.2414,  25.4063
  49NZ20090521,   P21,   186,  1,     30, X12012,2,20090530,0114,-17.4938,-163.6710, 5305,    301.3,2,  16.7768,2,  16.78101,2,  35.2813,2,  35.2808,2,   181.79,2,   181.55,2,     1.57,2,     0.12,     6.33,2,     0.05,     0.01,2,     0.01,    0.620,2,    0.013,    2.333,2,    1.295,2,    0.023,2,   -999.0,9,   -999.0,9,-999.0000,-999,9,  -999.00,9,  -999.00,   -999.0,9,   -999.0,  16.7273,  25.7949
  49NZ20090521,   P21,   186,  1,     29, X12041,2,20090530,0114,-17.4938,-163.6710, 5305,    399.9,2,  12.3934,2,  12.38797,2,  34.8073,2,  34.8094,2,   164.22,2,   164.34,2,     6.17,2,     0.13,    15.19,2,     0.08,     0.01,2,     0.01,    1.245,2,    0.013,    1.956,6,    1.016,6,    0.025,6,   -999.0,9,   -999.0,9,-999.0000,-999,9,  -999.00,9,  -999.00,   -999.0,9,   -999.0,  12.3398,  26.3739
  49NZ20090521,   P21,   186,  1,     28, X12040,2,20090530,0114,-17.4938,-163.6710, 5305,    500.3,2,   8.1706,2,   8.17568,2,  34.4584,2,  34.4600,6,   182.31,2,   181.90,2,    10.64,2,     0.14,    23.46,2,     0.10,     0.01,2,     0.01,    1.724,2,    0.014,    1.711,2,    0.846,2,    0.040,2,   -999.0,9,   -999.0,9,-999.0000,-999,9,  -999.00,9,  -999.00,   -999.0,9,   -999.0,   8.1187,  26.8307
  49NZ20090521,   P21,   186,  1,     27, X12009,2,20090530,0114,-17.4938,-163.6710, 5305,    600.1,2,   6.1895,2,   6.19024,2,  34.3408,2,  34.3407,2,   215.03,2,   214.64,2,    12.86,2,     0.15,    26.02,2,     0.11,     0.00,2,     0.01,    1.836,2,    0.015,    1.437,6,    0.697,6,    0.038,6,   -999.0,9,   -999.0,9,-999.0000,-999,9,  -999.00,9,  -999.00,   -999.0,9,   -999.0,   6.1359,  27.0144
  49NZ20090521,   P21,   186,  1,     26, X12008,2,20090530,0114,-17.4938,-163.6710, 5305,    700.3,2,   5.3937,2,   5.39415,2,  34.3423,2,  34.3420,2,   194.01,2,   193.88,2,    22.97,2,     0.17,    29.59,2,     0.12,     0.00,2,     0.01,    2.082,2,    0.015,    0.620,2,    0.308,2,    0.010,2,   -999.0,9,   -999.0,9,-999.0000,-999,9,  -999.00,9,  -999.00,   -999.0,9,   -999.0,   5.3349,  27.1146
  49NZ20090521,   P21,   186,  1,     25, X12007,2,20090530,0114,-17.4938,-163.6710, 5305,    800.1,2,   4.8595,2,   4.85948,2,  34.4059,2,  34.4057,2,   162.13,2,   161.92,2,    39.94,2,     0.21,    32.96,2,     0.13,     0.01,2,     0.01,    2.328,2,    0.016,    0.163,2,    0.085,2,    0.000,2,   -999.0,9,   -999.0,9,-999.0000,-999,9,  -999.00,9,  -999.00,   -999.0,9,   -999.0,   4.7950,  27.2276
  49NZ20090521,   P21,   186,  1,     24, X12035,2,20090530,0114,-17.4938,-163.6710, 5305,    901.1,2,   4.3468,2,   4.34790,2,  34.4414,2,  34.4418,2,   155.14,2,   155.05,2,    51.71,2,     0.23,    34.03,2,     0.13,     0.00,2,     0.01,    2.396,2,    0.016,    0.057,2,    0.031,2,    0.000,2,   -999.0,9,   -999.0,9,-999.0000,-999,9,  -999.00,9,  -999.00,   -999.0,9,   -999.0,   4.2770,  27.3127
  49NZ20090521,   P21,   186,  1,     23, X12038,2,20090530,0114,-17.4938,-163.6710, 5305,   1000.4,2,   3.9200,2,   3.92068,2,  34.4684,2,  34.4686,6,   152.79,2,   152.69,2,    61.01,2,     0.25,    34.62,2,     0.13,     0.00,2,     0.01,    2.449,2,    0.016,    0.024,2,    0.014,2,    0.000,2,   -999.0,9,   -999.0,9,-999.0000,-999,9,  -999.00,9,  -999.00,   -999.0,9,   -999.0,   3.8450,  27.3792
  49NZ20090521,   P21,   186,  1,     22, X12034,2,20090530,0114,-17.4938,-163.6710, 5305,   1200.4,2,   3.1221,2,   3.12328,2,  34.5265,2,  34.5262,2,   151.85,2,   151.99,2,    79.41,2,     0.29,    35.35,2,     0.13,     0.01,2,     0.01,    2.495,2,    0.016,    0.006,2,    0.003,2,    0.000,2,   -999.0,9,   -999.0,9,-999.0000,-999,9,  -999.00,9,  -999.00,   -999.0,9,   -999.0,   3.0375,  27.5036
  49NZ20090521,   P21,   186,  1,     21, X12033,2,20090530,0114,-17.4938,-163.6710, 5305,   1400.6,2,   2.7393,2,   2.73941,2,  34.5773,2,  34.5774,2,   146.19,2,   146.19,2,    94.85,2,     0.33,    35.76,2,     0.13,     0.01,2,     0.01,    2.530,2,    0.016,    0.003,2,    0.000,2,    0.000,2,   -999.0,9,   -999.0,9,-999.0000,-999,9,  -999.00,9,  -999.00,   -999.0,9,   -999.0,   2.6425,  27.5796
  49NZ20090521,   P21,   186,  1,     20, X12032,2,20090530,0114,-17.4938,-163.6710, 5305,   1598.6,2,   2.5098,2,   2.51008,2,  34.6015,2,  34.6018,2,   145.43,2,   145.45,2,   103.15,2,     0.35,    35.90,2,     0.13,     0.01,2,     0.01,    2.543,2,    0.016,    0.000,2,    0.000,2,    0.000,2,   -999.0,9,   -999.0,9,-999.0000,-999,9,  -999.00,9,  -999.00,   -999.0,9,   -999.0,   2.3996,  27.6198
  49NZ20090521,   P21,   186,  1,     19, X12046,2,20090530,0114,-17.4938,-163.6710, 5305,   1799.7,2,   2.3439,2,   2.34397,2,  34.6173,2,  34.6176,2,   145.73,2,   145.84,2,   108.62,2,     0.36,    35.98,2,     0.13,     0.00,2,     0.01,    2.550,2,    0.016,    0.000,2,    0.000,2,    0.000,2,   -999.0,9,   -999.0,9,-999.0000,-999,9,  -999.00,9,  -999.00,   -999.0,9,   -999.0,   2.2193,  27.6474
  49NZ20090521,   P21,   186,  1,     18, X12006,2,20090530,0114,-17.4938,-163.6710, 5305,   2000.9,2,   2.1729,2,   2.17285,2,  34.6322,2,  34.6325,2,   147.00,2,   146.92,2,   113.55,2,     0.37,    35.95,2,     0.13,     0.01,2,     0.01,    2.544,2,    0.016,    0.001,2,    0.000,2,    0.000,2,   -999.0,9,   -999.0,9,-999.0000,-999,9,  -999.00,9,  -999.00,   -999.0,9,   -999.0,   2.0338,  27.6743
  49NZ20090521,   P21,   186,  1,     17, X12047,2,20090530,0114,-17.4938,-163.6710, 5305,   2201.6,2,   2.0313,2,   2.03129,2,  34.6445,2,  34.6450,2,   149.50,2,   149.56,2,   116.99,2,     0.38,    35.77,2,     0.13,     0.00,2,     0.01,    2.529,2,    0.016,    0.002,2,    0.000,2,    0.000,2,   -999.0,9,   -999.0,9,-999.0000,-999,9,  -999.00,9,  -999.00,   -999.0,9,   -999.0,   1.8771,  27.6965
  49NZ20090521,   P21,   186,  1,     16, X12004,2,20090530,0114,-17.4938,-163.6710, 5305,   2400.6,2,   1.9435,2,   1.94351,2,  34.6524,2,  34.6525,6,   149.21,2,   149.20,2,   120.93,2,     0.39,    35.95,2,     0.13,     0.01,2,     0.01,    2.534,2,    0.016,    0.000,2,    0.000,2,    0.000,2,   -999.0,9,   -999.0,9,-999.0000,-999,9,  -999.00,9,  -999.00,   -999.0,9,   -999.0,   1.7732,  27.7108
  49NZ20090521,   P21,   186,  1,     15, X12003,2,20090530,0114,-17.4938,-163.6710, 5305,   2601.2,2,   1.8583,2,   1.85836,2,  34.6600,2,  34.6598,2,   150.90,2,   150.83,2,   123.28,2,     0.39,    35.86,2,     0.13,     0.00,2,     0.01,    2.528,2,    0.016,    0.000,2,    0.000,2,    0.000,2,   -999.0,9,   -999.0,9,-999.0000,-999,9,  -999.00,9,  -999.00,   -999.0,9,   -999.0,   1.6714,  27.7246
  49NZ20090521,   P21,   186,  1,     14, X12002,2,20090530,0114,-17.4938,-163.6710, 5305,   2801.0,2,   1.7892,2,   1.78923,2,  34.6658,2,  34.6657,2,   154.18,2,   154.11,2,   124.08,2,     0.39,    35.65,2,     0.13,     0.00,2,     0.01,    2.506,2,    0.016,    0.000,2,    0.000,2,    0.000,2,   -999.0,9,   -999.0,9,-999.0000,-999,9,  -999.00,9,  -999.00,   -999.0,9,   -999.0,   1.5851,  27.7357
  49NZ20090521,   P21,   186,  1,     13, X12001,2,20090530,0114,-17.4938,-163.6710, 5305,   3001.3,2,   1.7126,2,   1.71274,2,  34.6722,2,  34.6718,2,   157.61,2,   157.44,2,   125.12,2,     0.39,    35.32,2,     0.13,     0.01,2,     0.01,    2.494,2,    0.016,    0.001,2,    0.000,2,    0.000,2,   -999.0,9,   -999.0,9,-999.0000,-999,9,  -999.00,9,  -999.00,   -999.0,9,   -999.0,   1.4910,  27.7477
  49NZ20090521,   P21,   186,  1,     12, X12030,2,20090530,0114,-17.4938,-163.6710, 5305,   3251.6,2,   1.6274,2,   1.62733,2,  34.6788,2,  34.6786,2,   159.81,2,   159.50,2,   126.94,2,     0.40,    35.12,2,     0.13,     0.01,2,     0.01,    2.474,2,    0.016,    0.001,2,    0.000,2,    0.000,2,   -999.0,9,   -999.0,9,-999.0000,-999,9,  -999.00,9,  -999.00,   -999.0,9,   -999.0,   1.3832,  27.7608
  49NZ20090521,   P21,   186,  1,     11, X12044,2,20090530,0114,-17.4938,-163.6710, 5305,   3500.0,2,   1.5556,2,   1.55565,2,  34.6848,2,  34.6847,2,   165.84,2,   165.79,2,   125.69,2,     0.40,    34.68,2,     0.13,     0.01,2,     0.01,    2.444,2,    0.016,    0.000,2,    0.000,2,    0.000,2,   -999.0,9,   -999.0,9,-999.0000,-999,9,  -999.00,9,  -999.00,   -999.0,9,   -999.0,   1.2880,  27.7724
  49NZ20090521,   P21,   186,  1,     10, X12048,2,20090530,0114,-17.4938,-163.6710, 5305,   3751.0,2,   1.4620,2,   1.46203,2,  34.6942,2,  34.6939,6,   175.61,2,   175.61,2,   122.03,2,     0.39,    33.96,2,     0.13,     0.01,2,     0.01,    2.391,2,    0.016,    0.003,2,    0.001,2,    0.000,2,   -999.0,9,   -999.0,9,-999.0000,-999,9,  -999.00,9,  -999.00,   -999.0,9,   -999.0,   1.1707,  27.7881
  49NZ20090521,   P21,   186,  1,      9, X12027,2,20090530,0114,-17.4938,-163.6710, 5305,   3998.6,2,   1.3373,2,   1.33738,2,  34.7042,2,  34.7040,2,   188.20,2,   188.28,2,   117.42,2,     0.38,    33.02,2,     0.13,     0.00,2,     0.01,    2.318,2,    0.016,    0.006,2,    0.003,2,    0.000,2,   -999.0,9,   -999.0,9,-999.0000,-999,9,  -999.00,9,  -999.00,   -999.0,9,   -999.0,   1.0230,  27.8061
  49NZ20090521,   P21,   186,  1,      8, X12026,2,20090530,0114,-17.4938,-163.6710, 5305,   4249.2,2,   1.2549,2,   1.25500,2,  34.7074,2,  34.7074,2,   194.59,2,   194.56,2,   116.27,2,     0.37,    32.58,2,     0.12,     0.00,2,     0.01,    2.286,2,    0.016,    0.008,2,    0.003,2,    0.000,2,   -999.0,9,   -999.0,9,-999.0000,-999,9,  -999.00,9,  -999.00,   -999.0,9,   -999.0,   0.9156,  27.8158
  49NZ20090521,   P21,   186,  1,      7, X12025,2,20090530,0114,-17.4938,-163.6710, 5305,   4499.7,2,   1.1937,2,   1.19410,2,  34.7087,2,  34.7088,2,   199.02,2,   199.02,2,   116.26,2,     0.37,    32.49,2,     0.12,     0.01,2,     0.01,    2.271,2,    0.016,    0.010,2,    0.005,2,    0.000,2,   -999.0,9,   -999.0,9,-999.0000,-999,9,  -999.00,9,  -999.00,   -999.0,9,   -999.0,   0.8281,  27.8225
  49NZ20090521,   P21,   186,  1,      6, X12024,2,20090530,0114,-17.4938,-163.6710, 5305,   4751.2,2,   1.1169,2,   1.11690,2,  34.7085,2,  34.7085,2,   203.01,2,   202.89,2,   116.81,2,     0.38,    32.24,2,     0.12,     0.00,2,     0.01,    2.260,2,    0.016,    0.010,2,    0.004,2,    0.000,2,   -999.0,9,   -999.0,9,-999.0000,-999,9,  -999.00,9,  -999.00,   -999.0,9,   -999.0,   0.7249,  27.8289
  49NZ20090521,   P21,   186,  1,      5, X12028,2,20090530,0114,-17.4938,-163.6710, 5305,   4999.7,2,   1.1132,2,   1.11321,2,  34.7085,2,  34.7084,2,   204.26,2,   204.27,2,   117.27,2,     0.38,    32.20,2,     0.12,     0.00,2,     0.01,    2.254,2,    0.016,    0.012,2,    0.007,2,    0.000,2,   -999.0,9,   -999.0,9,-999.0000,-999,9,  -999.00,9,  -999.00,   -999.0,9,   -999.0,   0.6920,  27.8309
  49NZ20090521,   P21,   186,  1,      4, X12022,2,20090530,0114,-17.4938,-163.6710, 5305,   5249.0,2,   1.1176,2,   1.11743,2,  34.7082,2,  34.7092,2,   205.20,2,   205.31,2,   116.90,2,     0.38,    32.08,2,     0.12,     0.01,2,     0.01,    2.255,2,    0.016,    0.011,2,    0.006,2,    0.000,2,   -999.0,9,   -999.0,9,-999.0000,-999,9,  -999.00,9,  -999.00,   -999.0,9,   -999.0,   0.6660,  27.8324
  49NZ20090521,   P21,   186,  1,      3, X12021,9,20090530,0114,-17.4938,-163.6710, 5305,   1400.4,2,   2.7402,2,   2.74046,2,  34.5773,2,-999.0000,9,   146.22,2,  -999.00,9,  -999.00,9,  -999.00,  -999.00,9,  -999.00,  -999.00,9,  -999.00, -999.000,9, -999.000, -999.000,9, -999.000,9, -999.000,9,   -999.0,9,   -999.0,9,-999.0000,-999,9,  -999.00,9,  -999.00,   -999.0,9,   -999.0,   2.6434,  27.5795
  49NZ20090521,   P21,   186,  1,      2, X12020,2,20090530,0114,-17.4938,-163.6710, 5305,   3749.9,2,   1.4618,2,   1.46184,2,  34.6943,2,  34.6938,2,   175.68,2,   175.59,2,   122.01,2,     0.39,    33.97,2,     0.13,     0.01,2,     0.01,    2.390,2,    0.016, -999.000,9, -999.000,9, -999.000,9,   -999.0,9,   -999.0,9,-999.0000,-999,9,  -999.00,9,  -999.00,   -999.0,9,   -999.0,   1.1707,  27.7881
  49NZ20090521,   P21,   186,  1,      1, X12019,2,20090530,0114,-17.4938,-163.6710, 5305,   5375.9,2,   1.1284,2,   1.12832,2,  34.7081,2,  34.7088,6,   205.42,2,   205.49,2,   117.32,2,     0.38,    32.13,2,     0.12,     0.01,2,     0.01,    2.256,2,    0.016,    0.012,2,    0.006,2,    0.000,2,   -999.0,9,   -999.0,9,-999.0000,-999,9,  -999.00,9,  -999.00,   -999.0,9,   -999.0,   0.6608,  27.8326