BOTTLE,20111109CCHDOSIOCBG
EXPOCODE,SECT_ID,STNNBR,CASTNO,SAMPNO,BTLNBR,BTLNBR_FLAG_W,DATE,TIME,LATITUDE,LONGITUDE,DEPTH,CTDPRS,CTDPRS_FLAG_W,CTDTMP,CTDTMP_FLAG_W,SBE35,SBE35_FLAG_W,CTDSAL,CTDSAL_FLAG_W,SALNTY,SALNTY_FLAG_W,CTDOXY,CTDOXY_FLAG_W,OXYGEN,OXYGEN_FLAG_W,SILCAT,SILCAT_FLAG_W,SILUNC,NITRAT,NITRAT_FLAG_W,NRAUNC,NITRIT,NITRIT_FLAG_W,NRIUNC,PHSPHT,PHSPHT_FLAG_W,PHPUNC,CFC-11,CFC-11_FLAG_W,CFC-12,CFC-12_FLAG_W,CFC113,CFC113_FLAG_W,TCARBN,TCARBN_FLAG_W,ALKALI,ALKALI_FLAG_W,PH_TOT,PH_TMP,PH_TOT_FLAG_W,DELC13,DELC13_FLAG_W,C13ERR,DELC14,DELC14_FLAG_W,C14ERR,THETA,SIG0
,,,,,,,,,,,METERS,DBAR,,ITS-90,,ITS-90,,PSS-78,,PSS-78,,UMOL/KG,,UMOL/KG,,UMOL/KG,,UMOL/KG,UMOL/KG,,UMOL/KG,UMOL/KG,,UMOL/KG,UMOL/KG,,UMOL/KG,PMOL/KG,,PMOL/KG,,PMOL/KG,,UMOL/KG,,UMOL/KG,,,DEG C,,/MILLE,,/MILLE,/MILLE,,/MILLE,DEG C,KG/M^3
  49NZ20090521,   P21,   205,  1,      0,   -999,9,20090603,1740,-17.4992,-173.6690, 1364,   -999.0,9,-999.0000,9,-999.00000,9,-999.0000,9,  35.4533,2,  -999.00,9,  -999.00,9,  -999.00,9,  -999.00,  -999.00,9,  -999.00,  -999.00,9,  -999.00, -999.000,9, -999.000, -999.000,9, -999.000,9, -999.000,9,   -999.0,9,   -999.0,9,-999.0000,-999,9,  -999.00,9,  -999.00,   -999.0,9,   -999.0,-999.0000,-999.0000
  49NZ20090521,   P21,   205,  1,     36, X12043,2,20090603,1740,-17.4992,-173.6690, 1364,     11.2,2,  28.0499,2,  28.04880,2,  35.4313,2,  35.4296,2,   195.76,2,   196.80,2,     0.65,2,     0.12,     0.07,2,     0.03,     0.01,2,     0.01,    0.099,2,    0.022,    1.429,2,    0.909,2, -999.000,5,   1965.1,2,   2330.4,2,   8.1427,  25,2,  -999.00,9,  -999.00,   -999.0,9,   -999.0,  28.0473,  22.7035
  49NZ20090521,   P21,   205,  1,     35, X12042,2,20090603,1740,-17.4992,-173.6690, 1364,     51.0,2,  28.0474,2,  28.04712,2,  35.4395,2,  35.4377,2,   195.61,2,   196.83,2,     0.65,2,     0.12,     0.07,2,     0.03,     0.01,2,     0.01,    0.100,2,    0.022,    1.425,2,    0.884,2, -999.000,5,   1966.7,6,   2330.5,2,   8.1427,  25,2,  -999.00,9,  -999.00,   -999.0,9,   -999.0,  28.0354,  22.7136
  49NZ20090521,   P21,   205,  1,     34, X12016,2,20090603,1740,-17.4992,-173.6690, 1364,    100.5,2,  26.5608,2,  26.55793,2,  35.8850,2,  35.8933,2,   197.76,2,   198.70,2,     0.66,2,     0.12,     0.08,2,     0.03,     0.01,2,     0.01,    0.180,2,    0.017,    1.584,6,    0.994,6, -999.000,5,   2014.2,2,   2362.0,6,   8.1106,  25,2,  -999.00,9,  -999.00,   -999.0,9,   -999.0,  26.5380,  23.5318
  49NZ20090521,   P21,   205,  1,     33, X12015,2,20090603,1740,-17.4992,-173.6690, 1364,    151.2,2,  25.2134,2,  25.18681,2,  36.1366,2,  36.1428,2,   173.45,2,   174.17,2,     0.69,2,     0.12,     1.32,2,     0.04,     0.05,2,     0.01,    0.345,2,    0.014,    1.684,2,    1.052,2,    0.165,4,   2061.5,2,   2376.9,2,   8.0517,  25,6,  -999.00,9,  -999.00,   -999.0,9,   -999.0,  25.1803,  24.1453
  49NZ20090521,   P21,   205,  1,     32, X12050,2,20090603,1740,-17.4992,-173.6690, 1364,    200.5,2,  23.7922,2,  23.79222,2,  36.2153,2,  36.2155,2,   164.67,2,   165.41,2,     0.76,2,     0.12,     2.92,2,     0.04,     0.02,2,     0.01,    0.461,2,    0.013,    1.807,2,    1.106,2,    0.091,2,   2091.0,2,   2383.8,2,   8.0089,  25,2,  -999.00,9,  -999.00,   -999.0,9,   -999.0,  23.7500,  24.6360
  49NZ20090521,   P21,   205,  1,     31, X12014,2,20090603,1740,-17.4992,-173.6690, 1364,    251.1,2,  20.7508,2,  20.76524,2,  35.7715,2,  35.7873,6,   165.61,2,   165.73,2,     0.95,2,     0.12,     4.20,2,     0.04,     0.01,2,     0.01,    0.505,2,    0.013,    2.044,2,    1.203,2,    0.027,2,   2092.0,2,   2352.7,2,   7.9656,  25,2,  -999.00,9,  -999.00,   -999.0,9,   -999.0,  20.7029,  25.1622
  49NZ20090521,   P21,   205,  1,     30, X12012,2,20090603,1740,-17.4992,-173.6690, 1364,    301.1,2,  18.3216,2,  18.31665,2,  35.4885,2,  35.4908,2,   165.21,2,   165.83,2,     1.83,2,     0.12,     6.61,2,     0.05,     0.01,2,     0.01,    0.665,2,    0.013,    2.168,2,    1.238,2,    0.011,2,   2103.2,2,   2333.8,2,   7.9160,  25,2,  -999.00,9,  -999.00,   -999.0,9,   -999.0,  18.2690,  25.5794
  49NZ20090521,   P21,   205,  1,     29, X12041,2,20090603,1740,-17.4992,-173.6690, 1364,    401.3,2,  14.2339,2,  14.23266,2,  35.1289,2,  35.1295,2,   187.01,2,   187.31,2,     2.83,2,     0.13,     9.72,2,     0.06,     0.01,2,     0.01,    0.799,2,    0.013,    2.378,6,    1.297,6,    0.022,6,   2109.6,2,   2310.2,2,   7.8604,  25,2,  -999.00,9,  -999.00,   -999.0,9,   -999.0,  14.1748,  26.2498
  49NZ20090521,   P21,   205,  1,     28, X12040,2,20090603,1740,-17.4992,-173.6690, 1364,    501.9,2,   9.7987,2,   9.79582,2,  34.5924,2,  34.5936,6,   172.56,2,   172.81,2,     8.71,2,     0.14,    20.31,2,     0.09,     0.01,2,     0.01,    1.527,2,    0.014,    1.788,2,    0.908,2,    0.024,2,   2152.0,2,   2287.4,2,   7.7230,  25,2,  -999.00,9,  -999.00,   -999.0,9,   -999.0,   9.7406,  26.6775
  49NZ20090521,   P21,   205,  1,     27, X12009,2,20090603,1740,-17.4992,-173.6690, 1364,    601.7,2,   7.2580,2,   7.25827,2,  34.4139,2,  34.4139,2,   185.95,2,   186.17,2,    13.58,2,     0.15,    25.85,2,     0.11,     0.01,2,     0.01,    1.848,2,    0.015,    1.355,6,    0.672,6,    0.023,6,   2169.8,2,   2284.8,2,   7.6716,  25,2,  -999.00,9,  -999.00,   -999.0,9,   -999.0,   7.1994,  26.9293
  49NZ20090521,   P21,   205,  1,     26, X12008,2,20090603,1740,-17.4992,-173.6690, 1364,    699.5,2,   5.8142,2,   5.81410,2,  34.3606,2,  34.3606,2,   188.01,2,   188.43,2,    21.28,2,     0.17,    29.28,2,     0.11,     0.01,2,     0.01,    2.047,2,    0.015,    0.707,2,    0.352,2,    0.010,2,   2184.6,6,   2290.2,2,   7.6468,  25,2,  -999.00,9,  -999.00,   -999.0,9,   -999.0,   5.7533,  27.0783
  49NZ20090521,   P21,   205,  1,     25, X12007,2,20090603,1740,-17.4992,-173.6690, 1364,    800.6,2,   5.1335,2,   5.13259,2,  34.3869,2,  34.3873,2,   169.83,2,   170.00,2,    33.64,2,     0.19,    32.02,2,     0.12,     0.01,2,     0.01,    2.243,2,    0.016,    0.270,2,    0.141,2,    0.000,2,   2209.0,2,   2302.7,6,   7.6129,  25,2,  -999.00,9,  -999.00,   -999.0,9,   -999.0,   5.0673,  27.1814
  49NZ20090521,   P21,   205,  1,     24, X12035,2,20090603,1740,-17.4992,-173.6690, 1364,    902.6,2,   4.4471,2,   4.44713,2,  34.4178,2,  34.4178,2,   161.15,2,   161.45,2,    46.22,2,     0.22,    33.74,2,     0.13,     0.01,2,     0.01,    2.355,2,    0.016,    0.101,2,    0.054,2,    0.000,2,   2229.2,2,   2315.9,2,   7.5932,  25,6,  -999.00,9,  -999.00,   -999.0,9,   -999.0,   4.3765,  27.2832
  49NZ20090521,   P21,   205,  1,     23, X12038,2,20090603,1740,-17.4992,-173.6690, 1364,   1000.3,2,   3.9398,2,   3.93952,2,  34.4385,2,  34.4398,3,   162.00,2,   162.24,2,    54.77,2,     0.24,    34.22,2,     0.13,     0.01,2,     0.01,    2.394,2,    0.016,    0.056,2,    0.032,2,    0.000,2,   2237.9,2,   2324.5,2,   7.5899,  25,2,  -999.00,9,  -999.00,   -999.0,9,   -999.0,   3.8647,  27.3534
  49NZ20090521,   P21,   205,  1,     22, X12034,2,20090603,1740,-17.4992,-173.6690, 1364,   1201.3,2,   3.2763,2,   3.27653,2,  34.5033,2,  34.5043,3,   155.53,2,   155.75,2,    72.97,2,     0.28,    35.06,2,     0.13,     0.01,2,     0.01,    2.460,2,    0.016,    0.014,2,    0.009,2,    0.000,2,   2262.1,2,   2345.7,2,   7.5802,  25,2,  -999.00,9,  -999.00,   -999.0,9,   -999.0,   3.1903,  27.4709
  49NZ20090521,   P21,   205,  1,     21, X12033,9,20090603,1740,-17.4992,-173.6690, 1364,     52.2,2,  28.0458,2,  28.04546,2,  35.4445,2,-999.0000,9,   195.74,2,  -999.00,9,  -999.00,9,  -999.00,  -999.00,9,  -999.00,  -999.00,9,  -999.00, -999.000,9, -999.000, -999.000,9, -999.000,9, -999.000,9,   -999.0,9,   -999.0,9,-999.0000,-999,9,  -999.00,9,  -999.00,   -999.0,9,   -999.0,  28.0335,  22.7180
  49NZ20090521,   P21,   205,  1,     20, X12032,9,20090603,1740,-17.4992,-173.6690, 1364,    100.4,2,  26.5364,2,  26.53500,2,  35.8796,2,-999.0000,9,   197.96,2,  -999.00,9,  -999.00,9,  -999.00,  -999.00,9,  -999.00,  -999.00,9,  -999.00, -999.000,9, -999.000, -999.000,9, -999.000,9, -999.000,9,   -999.0,9,   -999.0,9,-999.0000,-999,9,  -999.00,9,  -999.00,   -999.0,9,   -999.0,  26.5136,  23.5354
  49NZ20090521,   P21,   205,  1,     19, X12046,9,20090603,1740,-17.4992,-173.6690, 1364,    151.5,2,  25.1230,2,  25.11082,2,  36.1136,2,-999.0000,9,   173.96,2,  -999.00,9,  -999.00,9,  -999.00,  -999.00,9,  -999.00,  -999.00,9,  -999.00, -999.000,9, -999.000, -999.000,9, -999.000,9, -999.000,9,   -999.0,9,   -999.0,9,-999.0000,-999,9,  -999.00,9,  -999.00,   -999.0,9,   -999.0,  25.0899,  24.1556
  49NZ20090521,   P21,   205,  1,     18, X12006,9,20090603,1740,-17.4992,-173.6690, 1364,    201.4,2,  23.7923,2,  23.79127,2,  36.2162,2,-999.0000,9,   164.81,2,  -999.00,9,  -999.00,9,  -999.00,  -999.00,9,  -999.00,  -999.00,9,  -999.00, -999.000,9, -999.000, -999.000,9, -999.000,9, -999.000,9,   -999.0,9,   -999.0,9,-999.0000,-999,9,  -999.00,9,  -999.00,   -999.0,9,   -999.0,  23.7499,  24.6367
  49NZ20090521,   P21,   205,  1,     17, X12047,9,20090603,1740,-17.4992,-173.6690, 1364,    249.4,2,  20.9198,2,  20.92806,2,  35.7868,2,-999.0000,9,   165.52,2,  -999.00,9,  -999.00,9,  -999.00,  -999.00,9,  -999.00,  -999.00,9,  -999.00, -999.000,9, -999.000, -999.000,9, -999.000,9, -999.000,9,   -999.0,9,   -999.0,9,-999.0000,-999,9,  -999.00,9,  -999.00,   -999.0,9,   -999.0,  20.8719,  25.1279
  49NZ20090521,   P21,   205,  1,     16, X12004,9,20090603,1740,-17.4992,-173.6690, 1364,    300.5,2,  18.3473,2,  18.34492,2,  35.4915,2,-999.0000,9,   165.28,2,  -999.00,9,  -999.00,9,  -999.00,  -999.00,9,  -999.00,  -999.00,9,  -999.00, -999.000,9, -999.000, -999.000,9, -999.000,9, -999.000,9,   -999.0,9,   -999.0,9,-999.0000,-999,9,  -999.00,9,  -999.00,   -999.0,9,   -999.0,  18.2947,  25.5753
  49NZ20090521,   P21,   205,  1,     15, X12003,9,20090603,1740,-17.4992,-173.6690, 1364,    401.3,2,  14.2305,2,  14.22920,2,  35.1288,2,-999.0000,9,   187.13,2,  -999.00,9,  -999.00,9,  -999.00,  -999.00,9,  -999.00,  -999.00,9,  -999.00, -999.000,9, -999.000, -999.000,9, -999.000,9, -999.000,9,   -999.0,9,   -999.0,9,-999.0000,-999,9,  -999.00,9,  -999.00,   -999.0,9,   -999.0,  14.1714,  26.2504
  49NZ20090521,   P21,   205,  1,     14, X12002,9,20090603,1740,-17.4992,-173.6690, 1364,    502.8,2,   9.7787,2,   9.77874,2,  34.5909,2,-999.0000,9,   172.59,2,  -999.00,9,  -999.00,9,  -999.00,  -999.00,9,  -999.00,  -999.00,9,  -999.00, -999.000,9, -999.000, -999.000,9, -999.000,9, -999.000,9,   -999.0,9,   -999.0,9,-999.0000,-999,9,  -999.00,9,  -999.00,   -999.0,9,   -999.0,   9.7206,  26.6797
  49NZ20090521,   P21,   205,  1,     13, X12001,9,20090603,1740,-17.4992,-173.6690, 1364,    602.3,2,   7.2578,2,   7.25815,2,  34.4143,2,-999.0000,9,   185.78,2,  -999.00,9,  -999.00,9,  -999.00,  -999.00,9,  -999.00,  -999.00,9,  -999.00, -999.000,9, -999.000, -999.000,9, -999.000,9, -999.000,9,   -999.0,9,   -999.0,9,-999.0000,-999,9,  -999.00,9,  -999.00,   -999.0,9,   -999.0,   7.1991,  26.9296
  49NZ20090521,   P21,   205,  1,     12, X12030,9,20090603,1740,-17.4992,-173.6690, 1364,    698.9,2,   5.8155,2,   5.81576,2,  34.3607,2,-999.0000,9,   188.15,2,  -999.00,9,  -999.00,9,  -999.00,  -999.00,9,  -999.00,  -999.00,9,  -999.00, -999.000,9, -999.000, -999.000,9, -999.000,9, -999.000,9,   -999.0,9,   -999.0,9,-999.0000,-999,9,  -999.00,9,  -999.00,   -999.0,9,   -999.0,   5.7546,  27.0782
  49NZ20090521,   P21,   205,  1,     11, X12044,9,20090603,1740,-17.4992,-173.6690, 1364,    800.1,2,   5.1340,2,   5.13433,2,  34.3871,2,-999.0000,9,   169.76,2,  -999.00,9,  -999.00,9,  -999.00,  -999.00,9,  -999.00,  -999.00,9,  -999.00, -999.000,9, -999.000, -999.000,9, -999.000,9, -999.000,9,   -999.0,9,   -999.0,9,-999.0000,-999,9,  -999.00,9,  -999.00,   -999.0,9,   -999.0,   5.0678,  27.1815
  49NZ20090521,   P21,   205,  1,     10, X12048,9,20090603,1740,-17.4992,-173.6690, 1364,    902.8,2,   4.4474,2,   4.44745,2,  34.4178,2,-999.0000,9,   161.24,2,  -999.00,9,  -999.00,9,  -999.00,  -999.00,9,  -999.00,  -999.00,9,  -999.00, -999.000,9, -999.000, -999.000,9, -999.000,9, -999.000,9,   -999.0,9,   -999.0,9,-999.0000,-999,9,  -999.00,9,  -999.00,   -999.0,9,   -999.0,   4.3768,  27.2832
  49NZ20090521,   P21,   205,  1,      9, X12027,9,20090603,1740,-17.4992,-173.6690, 1364,   1000.3,2,   3.9365,2,   3.93753,2,  34.4391,2,-999.0000,9,   161.95,2,  -999.00,9,  -999.00,9,  -999.00,  -999.00,9,  -999.00,  -999.00,9,  -999.00, -999.000,9, -999.000, -999.000,9, -999.000,9, -999.000,9,   -999.0,9,   -999.0,9,-999.0000,-999,9,  -999.00,9,  -999.00,   -999.0,9,   -999.0,   3.8614,  27.3541
  49NZ20090521,   P21,   205,  1,      8, X12026,9,20090603,1740,-17.4992,-173.6690, 1364,   1201.6,2,   3.2766,2,   3.27653,2,  34.5033,2,-999.0000,9,   155.61,2,  -999.00,9,  -999.00,9,  -999.00,  -999.00,9,  -999.00,  -999.00,9,  -999.00, -999.000,9, -999.000, -999.000,9, -999.000,9, -999.000,9,   -999.0,9,   -999.0,9,-999.0000,-999,9,  -999.00,9,  -999.00,   -999.0,9,   -999.0,   3.1906,  27.4709
  49NZ20090521,   P21,   205,  1,      7, X12025,2,20090603,1740,-17.4992,-173.6690, 1364,     11.1,2,  28.0454,2,  28.04581,2,  35.4310,2,-999.0000,9,   195.82,2,  -999.00,9,     0.63,2,     0.12,     0.07,2,     0.03,     0.01,2,     0.01,    0.104,2,    0.021, -999.000,9, -999.000,9, -999.000,9,   -999.0,9,   -999.0,9,-999.0000,-999,9,  -999.00,9,  -999.00,   -999.0,9,   -999.0,  28.0428,  22.7048
  49NZ20090521,   P21,   205,  1,      6, X12024,2,20090603,1740,-17.4992,-173.6690, 1364,     51.8,2,  28.0470,2,  28.04708,2,  35.4409,2,-999.0000,9,   195.65,2,  -999.00,9,     0.67,2,     0.12,     0.08,2,     0.03,     0.01,2,     0.01,    0.108,2,    0.021, -999.000,9, -999.000,9, -999.000,9,   -999.0,9,   -999.0,9,-999.0000,-999,9,  -999.00,9,  -999.00,   -999.0,9,   -999.0,  28.0348,  22.7148
  49NZ20090521,   P21,   205,  1,      5, X12028,2,20090603,1740,-17.4992,-173.6690, 1364,    101.1,2,  26.5389,2,  26.53821,2,  35.8813,2,-999.0000,9,   197.92,2,  -999.00,9,     0.68,2,     0.12,     0.09,2,     0.03,     0.01,2,     0.01,    0.190,2,    0.016, -999.000,9, -999.000,9, -999.000,9,   -999.0,9,   -999.0,9,-999.0000,-999,9,  -999.00,9,  -999.00,   -999.0,9,   -999.0,  26.5159,  23.5360
  49NZ20090521,   P21,   205,  1,      4, X12022,2,20090603,1740,-17.4992,-173.6690, 1364,    151.7,2,  25.0924,2,  25.09030,2,  36.1043,2,-999.0000,9,   174.20,2,  -999.00,9,     0.78,2,     0.12,     1.36,2,     0.04,     0.05,2,     0.01,    0.353,2,    0.014, -999.000,9, -999.000,9, -999.000,9,   -999.0,9,   -999.0,9,-999.0000,-999,9,  -999.00,9,  -999.00,   -999.0,9,   -999.0,  25.0593,  24.1580
  49NZ20090521,   P21,   205,  1,      3, X12021,2,20090603,1740,-17.4992,-173.6690, 1364,    200.8,2,  23.7916,2,  23.79091,2,  36.2157,2,-999.0000,9,   164.67,2,  -999.00,9,     0.88,2,     0.12,     2.96,2,     0.04,     0.03,2,     0.01,    0.472,2,    0.013, -999.000,9, -999.000,9, -999.000,9,   -999.0,9,   -999.0,9,-999.0000,-999,9,  -999.00,9,  -999.00,   -999.0,9,   -999.0,  23.7493,  24.6365
  49NZ20090521,   P21,   205,  1,      2, X12020,2,20090603,1740,-17.4992,-173.6690, 1364,    250.2,2,  20.9187,2,  20.93571,2,  35.7862,2,-999.0000,9,   165.15,2,  -999.00,9,     1.07,2,     0.12,     4.30,2,     0.04,     0.02,2,     0.01,    0.519,2,    0.013, -999.000,9, -999.000,9, -999.000,9,   -999.0,9,   -999.0,9,-999.0000,-999,9,  -999.00,9,  -999.00,   -999.0,9,   -999.0,  20.8707,  25.1278
  49NZ20090521,   P21,   205,  1,      1, X12019,2,20090603,1740,-17.4992,-173.6690, 1364,   1361.2,2,   3.0483,2,   3.04864,2,  34.5420,2,  34.5423,6,   149.43,2,   149.64,2,    84.15,2,     0.30,    35.60,2,     0.13,     0.01,2,     0.01,    2.503,2,    0.016,    0.008,2,    0.005,2,    0.000,2,   2276.0,2,   2358.2,2,   7.5754,  25,2,  -999.00,9,  -999.00,   -999.0,9,   -999.0,   2.9515,  27.5239