BOTTLE,20111109CCHDOSIOCBG
EXPOCODE,SECT_ID,STNNBR,CASTNO,SAMPNO,BTLNBR,BTLNBR_FLAG_W,DATE,TIME,LATITUDE,LONGITUDE,DEPTH,CTDPRS,CTDPRS_FLAG_W,CTDTMP,CTDTMP_FLAG_W,SBE35,SBE35_FLAG_W,CTDSAL,CTDSAL_FLAG_W,SALNTY,SALNTY_FLAG_W,CTDOXY,CTDOXY_FLAG_W,OXYGEN,OXYGEN_FLAG_W,SILCAT,SILCAT_FLAG_W,SILUNC,NITRAT,NITRAT_FLAG_W,NRAUNC,NITRIT,NITRIT_FLAG_W,NRIUNC,PHSPHT,PHSPHT_FLAG_W,PHPUNC,CFC-11,CFC-11_FLAG_W,CFC-12,CFC-12_FLAG_W,CFC113,CFC113_FLAG_W,TCARBN,TCARBN_FLAG_W,ALKALI,ALKALI_FLAG_W,PH_TOT,PH_TMP,PH_TOT_FLAG_W,DELC13,DELC13_FLAG_W,C13ERR,DELC14,DELC14_FLAG_W,C14ERR,THETA,SIG0
,,,,,,,,,,,METERS,DBAR,,ITS-90,,ITS-90,,PSS-78,,PSS-78,,UMOL/KG,,UMOL/KG,,UMOL/KG,,UMOL/KG,UMOL/KG,,UMOL/KG,UMOL/KG,,UMOL/KG,UMOL/KG,,UMOL/KG,PMOL/KG,,PMOL/KG,,PMOL/KG,,UMOL/KG,,UMOL/KG,,,DEG C,,/MILLE,,/MILLE,/MILLE,,/MILLE,DEG C,KG/M^3
  49NZ20090521,   P21,   266,  1,      0,   -999,9,20090614,0853,-21.7210, 162.1875, 1638,   -999.0,9,-999.0000,9,-999.00000,9,-999.0000,9,  34.9663,2,  -999.00,9,  -999.00,9,  -999.00,9,  -999.00,  -999.00,9,  -999.00,  -999.00,9,  -999.00, -999.000,9, -999.000, -999.000,9, -999.000,9, -999.000,9,   -999.0,9,   -999.0,9,-999.0000,-999,9,  -999.00,9,  -999.00,   -999.0,9,   -999.0,-999.0000,-999.0000
  49NZ20090521,   P21,   266,  1,     36, X12043,2,20090614,0853,-21.7210, 162.1875, 1638,      9.7,2,  24.1243,2,  24.12404,2,  34.9442,2,  34.9415,2,   209.08,2,   209.09,2,     0.63,2,     0.12,     0.09,2,     0.03,     0.01,2,     0.01,    0.093,2,    0.023,    1.647,2,    1.032,2, -999.000,5,   1957.3,2,   2288.9,2,   8.0987,  25,6,  -999.00,9,  -999.00,   -999.0,9,   -999.0,  24.1223,  23.5628
  49NZ20090521,   P21,   266,  1,     35, X12042,2,20090614,0853,-21.7210, 162.1875, 1638,     50.3,2,  24.1446,2,  24.14400,2,  34.9864,2,  34.9902,2,   208.80,2,   209.04,2,     0.58,2,     0.12,     0.07,2,     0.03,     0.01,2,     0.01,    0.089,2,    0.023,    1.653,2,    1.042,2, -999.000,5,   1961.7,6,   2292.3,2,   8.0971,  25,2,  -999.00,9,  -999.00,   -999.0,9,   -999.0,  24.1340,  23.5913
  49NZ20090521,   P21,   266,  1,     34, X12016,2,20090614,0853,-21.7210, 162.1875, 1638,    101.1,2,  23.3390,2,  23.34418,2,  35.4313,2,  35.4274,2,   181.28,2,   181.79,2,     0.85,2,     0.12,     1.77,2,     0.04,     0.11,2,     0.01,    0.268,2,    0.015,    1.791,6,    1.106,6, -999.000,5,   2022.9,2,   2321.0,6,   8.0320,  25,2,  -999.00,9,  -999.00,   -999.0,9,   -999.0,  23.3181,  24.1685
  49NZ20090521,   P21,   266,  1,     33, X12015,2,20090614,0853,-21.7210, 162.1875, 1638,    150.1,2,  20.9970,2,  21.00062,2,  35.6217,2,  35.6204,2,   175.71,2,   175.62,2,     1.14,2,     0.12,     3.92,2,     0.04,     0.02,2,     0.01,    0.382,2,    0.013,    1.978,2,    1.193,2,    0.140,2,   2057.7,2,   2331.5,2,   7.9897,  25,2,  -999.00,9,  -999.00,   -999.0,9,   -999.0,  20.9682,  24.9760
  49NZ20090521,   P21,   266,  1,     32, X12050,2,20090614,0853,-21.7210, 162.1875, 1638,    200.3,2,  19.4950,2,  19.49653,2,  35.6545,2,  35.6529,2,   189.67,2,   189.47,2,     1.11,2,     0.12,     3.76,2,     0.04,     0.02,2,     0.01,    0.361,2,    0.014,    2.093,2,    1.260,2,    0.101,2,   2061.0,2,   2333.7,2,   7.9851,  25,2,  -999.00,9,  -999.00,   -999.0,9,   -999.0,  19.4585,  25.4031
  49NZ20090521,   P21,   266,  1,     31, X12014,2,20090614,0853,-21.7210, 162.1875, 1638,    249.8,2,  18.4676,2,  18.46618,2,  35.6347,2,  35.6350,6,   190.77,2,   190.87,2,     1.33,2,     0.12,     4.73,2,     0.05,     0.02,2,     0.01,    0.420,2,    0.013,    2.165,2,    1.281,2,    0.074,2,   2070.1,2,   2331.9,2,   7.9671,  25,2,  -999.00,9,  -999.00,   -999.0,9,   -999.0,  18.4237,  25.6526
  49NZ20090521,   P21,   266,  1,     30, X12012,2,20090614,0853,-21.7210, 162.1875, 1638,    331.3,2,  16.3303,2,  16.33111,2,  35.4739,2,  35.4751,2,   186.93,2,   187.15,2,     2.24,2,     0.12,     7.75,2,     0.05,     0.02,2,     0.01,    0.619,2,    0.013,    2.281,2,    1.315,2,    0.056,2,   2093.6,2,   2325.6,2,   7.9136,  25,2,  -999.00,9,  -999.00,   -999.0,9,   -999.0,  16.2767,  26.0484
  49NZ20090521,   P21,   266,  1,     29, X12041,2,20090614,0853,-21.7210, 162.1875, 1638,    431.1,2,  13.6994,2,  13.69228,2,  35.2020,2,  35.2043,2,   189.61,2,   189.93,2,     3.73,2,     0.13,    11.62,2,     0.07,     0.01,2,     0.01,    0.871,2,    0.013,    2.317,6,    1.288,6,    0.053,6,   2114.5,2,   2313.1,2,   7.8502,  25,2,  -999.00,9,  -999.00,   -999.0,9,   -999.0,  13.6374,  26.4191
  49NZ20090521,   P21,   266,  1,     28, X12040,2,20090614,0853,-21.7210, 162.1875, 1638,    532.1,2,  10.0409,2,  10.03723,2,  34.7563,2,  34.7656,6,   193.51,2,   193.53,2,     7.88,2,     0.14,    18.51,2,     0.08,     0.01,2,     0.01,    1.322,2,    0.014,    2.023,2,    1.054,2,    0.044,2,   2139.1,2,   2295.7,2,   7.7660,  25,2,  -999.00,9,  -999.00,   -999.0,9,   -999.0,   9.9781,  26.7654
  49NZ20090521,   P21,   266,  1,     27, X12009,2,20090614,0853,-21.7210, 162.1875, 1638,    632.0,2,   7.6456,2,   7.65384,2,  34.5270,2,  34.5297,2,   199.16,2,   199.34,2,    14.35,2,     0.15,    23.58,2,     0.10,     0.01,2,     0.01,    1.658,2,    0.014,    1.479,6,    0.746,6,    0.059,6,   2157.5,2,   2292.9,2,   7.7138,  25,2,  -999.00,9,  -999.00,   -999.0,9,   -999.0,   7.5820,  26.9638
  49NZ20090521,   P21,   266,  1,     26, X12008,2,20090614,0853,-21.7210, 162.1875, 1638,    729.9,2,   6.5946,2,   6.59528,2,  34.4540,2,  34.4539,2,   197.19,2,   197.55,2,    20.55,2,     0.16,    26.18,2,     0.11,     0.01,2,     0.01,    1.836,2,    0.015,    1.047,2,    0.527,2,    0.052,2,   2171.0,6,   2293.6,2,   7.6873,  25,2,  -999.00,9,  -999.00,   -999.0,9,   -999.0,   6.5264,  27.0528
  49NZ20090521,   P21,   266,  1,     25, X12007,2,20090614,0853,-21.7210, 162.1875, 1638,    830.8,2,   5.6256,2,   5.62721,2,  34.4394,2,  34.4389,2,   187.89,2,   188.29,2,    31.96,2,     0.19,    28.86,2,     0.11,     0.01,2,     0.01,    2.020,2,    0.015,    0.606,2,    0.305,2,    0.018,2,   2190.9,2,   2305.0,6,   7.6580,  25,2,  -999.00,9,  -999.00,   -999.0,9,   -999.0,   5.5535,  27.1652
  49NZ20090521,   P21,   266,  1,     24, X12035,2,20090614,0853,-21.7210, 162.1875, 1638,    931.1,2,   4.8611,2,   4.86095,2,  34.4451,2,  34.4460,2,   180.68,2,   180.96,2,    43.27,2,     0.21,    30.75,2,     0.12,     0.01,2,     0.01,    2.154,2,    0.015,    0.350,2,    0.177,2,    0.000,2,   2210.8,2,   2314.9,2,   7.6369,  25,6,  -999.00,9,  -999.00,   -999.0,9,   -999.0,   4.7851,  27.2599
  49NZ20090521,   P21,   266,  1,     23, X12038,2,20090614,0853,-21.7210, 162.1875, 1638,   1069.8,2,   4.1282,2,   4.12825,2,  34.4900,2,  34.4903,6,   168.96,2,   169.37,2,    60.04,2,     0.25,    32.42,2,     0.12,     0.01,2,     0.01,    2.287,2,    0.016,    0.172,2,    0.088,2,    0.000,2,   2236.3,2,   2334.7,2,   7.6158,  25,2,  -999.00,9,  -999.00,   -999.0,9,   -999.0,   4.0457,  27.3757
  49NZ20090521,   P21,   266,  1,     22, X12034,2,20090614,0853,-21.7210, 162.1875, 1638,   1269.2,2,   3.4991,2,   3.49966,2,  34.5440,2,  34.5440,2,   157.25,2,   157.51,2,    77.30,2,     0.29,    33.89,2,     0.13,     0.01,2,     0.01,    2.397,2,    0.016,    0.063,2,    0.032,2,    0.000,2,   2261.4,2,   2353.5,2,   7.5990,  25,2,  -999.00,9,  -999.00,   -999.0,9,   -999.0,   3.4053,  27.4829
  49NZ20090521,   P21,   266,  1,     21, X12033,2,20090614,0853,-21.7210, 162.1875, 1638,   1469.9,2,   3.0586,2,   3.05837,2,  34.5812,2,  34.5820,2,   151.83,2,   152.01,2,    88.91,2,     0.31,    34.66,2,     0.13,     0.01,2,     0.01,    2.456,2,    0.016,    0.020,2,    0.012,2,    0.000,2,   2278.6,2,   2366.7,2,   7.5884,  25,2,  -999.00,9,  -999.00,   -999.0,9,   -999.0,   2.9526,  27.5551
  49NZ20090521,   P21,   266,  1,     20, X12032,9,20090614,0853,-21.7210, 162.1875, 1638,     10.2,2,  24.1335,2,  24.13348,2,  34.9420,2,-999.0000,9,   208.90,2,  -999.00,9,  -999.00,9,  -999.00,  -999.00,9,  -999.00,  -999.00,9,  -999.00, -999.000,9, -999.000, -999.000,9, -999.000,9, -999.000,9,   -999.0,9,   -999.0,9,-999.0000,-999,9,  -999.00,9,  -999.00,   -999.0,9,   -999.0,  24.1313,  23.5585
  49NZ20090521,   P21,   266,  1,     19, X12046,9,20090614,0853,-21.7210, 162.1875, 1638,      9.9,2,  24.1253,2,  24.12529,2,  34.9439,2,-999.0000,9,   209.01,2,  -999.00,9,  -999.00,9,  -999.00,  -999.00,9,  -999.00,  -999.00,9,  -999.00, -999.000,9, -999.000, -999.000,9, -999.000,9, -999.000,9,   -999.0,9,   -999.0,9,-999.0000,-999,9,  -999.00,9,  -999.00,   -999.0,9,   -999.0,  24.1232,  23.5623
  49NZ20090521,   P21,   266,  1,     18, X12006,9,20090614,0853,-21.7210, 162.1875, 1638,     49.7,2,  24.1411,2,  24.14166,2,  34.9844,2,-999.0000,9,   208.92,2,  -999.00,9,  -999.00,9,  -999.00,  -999.00,9,  -999.00,  -999.00,9,  -999.00, -999.000,9, -999.000, -999.000,9, -999.000,9, -999.000,9,   -999.0,9,   -999.0,9,-999.0000,-999,9,  -999.00,9,  -999.00,   -999.0,9,   -999.0,  24.1306,  23.5908
  49NZ20090521,   P21,   266,  1,     17, X12047,9,20090614,0853,-21.7210, 162.1875, 1638,     49.9,2,  24.1389,2,  24.14013,2,  34.9817,2,-999.0000,9,   208.78,2,  -999.00,9,  -999.00,9,  -999.00,  -999.00,9,  -999.00,  -999.00,9,  -999.00, -999.000,9, -999.000, -999.000,9, -999.000,9, -999.000,9,   -999.0,9,   -999.0,9,-999.0000,-999,9,  -999.00,9,  -999.00,   -999.0,9,   -999.0,  24.1284,  23.5894
  49NZ20090521,   P21,   266,  1,     16, X12004,9,20090614,0853,-21.7210, 162.1875, 1638,    101.1,2,  23.3106,2,  23.32396,2,  35.4375,2,-999.0000,9,   181.23,2,  -999.00,9,  -999.00,9,  -999.00,  -999.00,9,  -999.00,  -999.00,9,  -999.00, -999.000,9, -999.000, -999.000,9, -999.000,9, -999.000,9,   -999.0,9,   -999.0,9,-999.0000,-999,9,  -999.00,9,  -999.00,   -999.0,9,   -999.0,  23.2897,  24.1814
  49NZ20090521,   P21,   266,  1,     15, X12003,9,20090614,0853,-21.7210, 162.1875, 1638,    149.7,2,  21.0071,2,  21.00803,2,  35.6223,2,-999.0000,9,   175.91,2,  -999.00,9,  -999.00,9,  -999.00,  -999.00,9,  -999.00,  -999.00,9,  -999.00, -999.000,9, -999.000, -999.000,9, -999.000,9, -999.000,9,   -999.0,9,   -999.0,9,-999.0000,-999,9,  -999.00,9,  -999.00,   -999.0,9,   -999.0,  20.9784,  24.9737
  49NZ20090521,   P21,   266,  1,     14, X12002,9,20090614,0853,-21.7210, 162.1875, 1638,    200.3,2,  19.4985,2,  19.49779,2,  35.6547,2,-999.0000,9,   189.73,2,  -999.00,9,  -999.00,9,  -999.00,  -999.00,9,  -999.00,  -999.00,9,  -999.00, -999.000,9, -999.000, -999.000,9, -999.000,9, -999.000,9,   -999.0,9,   -999.0,9,-999.0000,-999,9,  -999.00,9,  -999.00,   -999.0,9,   -999.0,  19.4620,  25.4024
  49NZ20090521,   P21,   266,  1,     13, X12001,9,20090614,0853,-21.7210, 162.1875, 1638,    249.7,2,  18.4646,2,  18.46299,2,  35.6347,2,-999.0000,9,   190.71,2,  -999.00,9,  -999.00,9,  -999.00,  -999.00,9,  -999.00,  -999.00,9,  -999.00, -999.000,9, -999.000, -999.000,9, -999.000,9, -999.000,9,   -999.0,9,   -999.0,9,-999.0000,-999,9,  -999.00,9,  -999.00,   -999.0,9,   -999.0,  18.4207,  25.6534
  49NZ20090521,   P21,   266,  1,     12, X12030,9,20090614,0853,-21.7210, 162.1875, 1638,    331.4,2,  16.3318,2,  16.33238,2,  35.4743,2,-999.0000,9,   187.02,2,  -999.00,9,  -999.00,9,  -999.00,  -999.00,9,  -999.00,  -999.00,9,  -999.00, -999.000,9, -999.000, -999.000,9, -999.000,9, -999.000,9,   -999.0,9,   -999.0,9,-999.0000,-999,9,  -999.00,9,  -999.00,   -999.0,9,   -999.0,  16.2782,  26.0483
  49NZ20090521,   P21,   266,  1,     11, X12044,9,20090614,0853,-21.7210, 162.1875, 1638,    431.7,2,  13.6837,2,  13.68703,2,  35.2007,2,-999.0000,9,   189.55,2,  -999.00,9,  -999.00,9,  -999.00,  -999.00,9,  -999.00,  -999.00,9,  -999.00, -999.000,9, -999.000, -999.000,9, -999.000,9, -999.000,9,   -999.0,9,   -999.0,9,-999.0000,-999,9,  -999.00,9,  -999.00,   -999.0,9,   -999.0,  13.6216,  26.4214
  49NZ20090521,   P21,   266,  1,     10, X12048,9,20090614,0853,-21.7210, 162.1875, 1638,    532.5,2,  10.0144,2,  10.01294,2,  34.7541,2,-999.0000,9,   193.60,2,  -999.00,9,  -999.00,9,  -999.00,  -999.00,9,  -999.00,  -999.00,9,  -999.00, -999.000,9, -999.000, -999.000,9, -999.000,9, -999.000,9,   -999.0,9,   -999.0,9,-999.0000,-999,9,  -999.00,9,  -999.00,   -999.0,9,   -999.0,   9.9517,  26.7682
  49NZ20090521,   P21,   266,  1,      9, X12027,9,20090614,0853,-21.7210, 162.1875, 1638,    631.9,2,   7.6611,2,   7.66358,2,  34.5274,2,-999.0000,9,   199.02,2,  -999.00,9,  -999.00,9,  -999.00,  -999.00,9,  -999.00,  -999.00,9,  -999.00, -999.000,9, -999.000, -999.000,9, -999.000,9, -999.000,9,   -999.0,9,   -999.0,9,-999.0000,-999,9,  -999.00,9,  -999.00,   -999.0,9,   -999.0,   7.5974,  26.9619
  49NZ20090521,   P21,   266,  1,      8, X12026,9,20090614,0853,-21.7210, 162.1875, 1638,    729.7,2,   6.5991,2,   6.59870,2,  34.4542,2,-999.0000,9,   197.32,2,  -999.00,9,  -999.00,9,  -999.00,  -999.00,9,  -999.00,  -999.00,9,  -999.00, -999.000,9, -999.000, -999.000,9, -999.000,9, -999.000,9,   -999.0,9,   -999.0,9,-999.0000,-999,9,  -999.00,9,  -999.00,   -999.0,9,   -999.0,   6.5309,  27.0524
  49NZ20090521,   P21,   266,  1,      7, X12025,9,20090614,0853,-21.7210, 162.1875, 1638,    829.9,2,   5.6318,2,   5.63232,2,  34.4391,2,-999.0000,9,   187.97,2,  -999.00,9,  -999.00,9,  -999.00,  -999.00,9,  -999.00,  -999.00,9,  -999.00, -999.000,9, -999.000, -999.000,9, -999.000,9, -999.000,9,   -999.0,9,   -999.0,9,-999.0000,-999,9,  -999.00,9,  -999.00,   -999.0,9,   -999.0,   5.5598,  27.1642
  49NZ20090521,   P21,   266,  1,      6, X12024,9,20090614,0853,-21.7210, 162.1875, 1638,    931.4,2,   4.8596,2,   4.85941,2,  34.4453,2,-999.0000,9,   180.67,2,  -999.00,9,  -999.00,9,  -999.00,  -999.00,9,  -999.00,  -999.00,9,  -999.00, -999.000,9, -999.000, -999.000,9, -999.000,9, -999.000,9,   -999.0,9,   -999.0,9,-999.0000,-999,9,  -999.00,9,  -999.00,   -999.0,9,   -999.0,   4.7836,  27.2601
  49NZ20090521,   P21,   266,  1,      5, X12028,9,20090614,0853,-21.7210, 162.1875, 1638,   1069.5,2,   4.1269,2,   4.12704,2,  34.4902,2,-999.0000,9,   168.99,2,  -999.00,9,  -999.00,9,  -999.00,  -999.00,9,  -999.00,  -999.00,9,  -999.00, -999.000,9, -999.000, -999.000,9, -999.000,9, -999.000,9,   -999.0,9,   -999.0,9,-999.0000,-999,9,  -999.00,9,  -999.00,   -999.0,9,   -999.0,   4.0444,  27.3760
  49NZ20090521,   P21,   266,  1,      4, X12022,9,20090614,0853,-21.7210, 162.1875, 1638,   1269.0,2,   3.5006,2,   3.50197,2,  34.5439,2,-999.0000,9,   157.28,2,  -999.00,9,  -999.00,9,  -999.00,  -999.00,9,  -999.00,  -999.00,9,  -999.00, -999.000,9, -999.000, -999.000,9, -999.000,9, -999.000,9,   -999.0,9,   -999.0,9,-999.0000,-999,9,  -999.00,9,  -999.00,   -999.0,9,   -999.0,   3.4068,  27.4828
  49NZ20090521,   P21,   266,  1,      3, X12021,9,20090614,0853,-21.7210, 162.1875, 1638,    150.3,2,  20.9965,2,  20.99747,2,  35.6224,2,-999.0000,9,   175.90,2,  -999.00,9,  -999.00,9,  -999.00,  -999.00,9,  -999.00,  -999.00,9,  -999.00, -999.000,9, -999.000, -999.000,9, -999.000,9, -999.000,9,   -999.0,9,   -999.0,9,-999.0000,-999,9,  -999.00,9,  -999.00,   -999.0,9,   -999.0,  20.9677,  24.9766
  49NZ20090521,   P21,   266,  1,      2, X12020,9,20090614,0853,-21.7210, 162.1875, 1638,   1469.9,2,   3.0559,2,   3.05635,2,  34.5815,2,-999.0000,9,   151.87,2,  -999.00,9,  -999.00,9,  -999.00,  -999.00,9,  -999.00,  -999.00,9,  -999.00, -999.000,9, -999.000, -999.000,9, -999.000,9, -999.000,9,   -999.0,9,   -999.0,9,-999.0000,-999,9,  -999.00,9,  -999.00,   -999.0,9,   -999.0,   2.9499,  27.5556
  49NZ20090521,   P21,   266,  1,      1, X12019,2,20090614,0853,-21.7210, 162.1875, 1638,   1641.5,2,   2.8146,2,   2.81437,2,  34.6025,2,  34.6029,6,   150.64,2,   150.61,2,    94.78,2,     0.33,    34.98,2,     0.13,     0.01,2,     0.01,    2.476,2,    0.016,    0.011,2,    0.006,2,    0.000,2,   2285.1,2,   2374.3,2,   7.5857,  25,2,  -999.00,9,  -999.00,   -999.0,9,   -999.0,   2.6971,  27.5950