BOTTLE,20111109CCHDOSIOCBG
EXPOCODE,SECT_ID,STNNBR,CASTNO,SAMPNO,BTLNBR,BTLNBR_FLAG_W,DATE,TIME,LATITUDE,LONGITUDE,DEPTH,CTDPRS,CTDPRS_FLAG_W,CTDTMP,CTDTMP_FLAG_W,SBE35,SBE35_FLAG_W,CTDSAL,CTDSAL_FLAG_W,SALNTY,SALNTY_FLAG_W,CTDOXY,CTDOXY_FLAG_W,OXYGEN,OXYGEN_FLAG_W,SILCAT,SILCAT_FLAG_W,SILUNC,NITRAT,NITRAT_FLAG_W,NRAUNC,NITRIT,NITRIT_FLAG_W,NRIUNC,PHSPHT,PHSPHT_FLAG_W,PHPUNC,CFC-11,CFC-11_FLAG_W,CFC-12,CFC-12_FLAG_W,CFC113,CFC113_FLAG_W,TCARBN,TCARBN_FLAG_W,ALKALI,ALKALI_FLAG_W,PH_TOT,PH_TMP,PH_TOT_FLAG_W,DELC13,DELC13_FLAG_W,C13ERR,DELC14,DELC14_FLAG_W,C14ERR,THETA,SIG0
,,,,,,,,,,,METERS,DBAR,,ITS-90,,ITS-90,,PSS-78,,PSS-78,,UMOL/KG,,UMOL/KG,,UMOL/KG,,UMOL/KG,UMOL/KG,,UMOL/KG,UMOL/KG,,UMOL/KG,UMOL/KG,,UMOL/KG,PMOL/KG,,PMOL/KG,,PMOL/KG,,UMOL/KG,,UMOL/KG,,,DEG C,,/MILLE,,/MILLE,/MILLE,,/MILLE,DEG C,KG/M^3
  49NZ20090521,   P21,   285,  1,      0,   -999,9,20090617,0754,-24.8720, 154.0527, 3870,   -999.0,9,-999.0000,9,-999.00000,9,-999.0000,9,  35.3456,2,  -999.00,9,  -999.00,9,  -999.00,9,  -999.00,  -999.00,9,  -999.00,  -999.00,9,  -999.00, -999.000,9, -999.000, -999.000,9, -999.000,9, -999.000,9,   -999.0,9,   -999.0,9,-999.0000,-999,9,  -999.00,9,  -999.00,   -999.0,9,   -999.0,-999.0000,-999.0000
  49NZ20090521,   P21,   285,  1,     36, X12043,2,20090617,0754,-24.8720, 154.0527, 3870,     10.5,2,  22.5951,2,  22.59537,2,  35.2877,2,  35.3184,2,   214.27,2,   213.58,2,     0.62,2,     0.12,     0.18,2,     0.03,     0.01,2,     0.01,    0.125,2,    0.019,    1.739,2,    1.088,2, -999.000,5,   1992.0,2,   2313.2,2,   8.0777,  25,6,  -999.00,9,  -999.00,   -999.0,9,   -999.0,  22.5930,  24.2687
  49NZ20090521,   P21,   285,  1,     35, X12042,2,20090617,0754,-24.8720, 154.0527, 3870,     50.8,2,  22.2601,2,  22.25507,2,  35.3913,2,  35.3979,2,   214.89,2,   214.71,2,     0.48,2,     0.12,     0.14,2,     0.03,     0.01,2,     0.01,    0.116,2,    0.020,    1.780,2,    1.108,2, -999.000,5,   2000.2,6,   2317.9,2,   8.0719,  25,2,  -999.00,9,  -999.00,   -999.0,9,   -999.0,  22.2500,  24.4447
  49NZ20090521,   P21,   285,  1,     34, X12016,2,20090617,0754,-24.8720, 154.0527, 3870,    100.5,2,  21.1689,2,  21.16204,2,  35.6022,2,  35.6031,2,   186.23,2,   185.95,2,     0.90,2,     0.12,     2.98,2,     0.04,     0.05,2,     0.01,    0.317,2,    0.014,    1.928,6,    1.171,6,    0.200,4,   2049.7,2,   2330.3,6,   8.0037,  25,2,  -999.00,9,  -999.00,   -999.0,9,   -999.0,  21.1495,  24.9116
  49NZ20090521,   P21,   285,  1,     33, X12015,2,20090617,0754,-24.8720, 154.0527, 3870,    151.0,2,  18.8602,2,  18.85986,2,  35.6258,2,  35.6247,2,   192.38,2,   191.47,2,     1.21,2,     0.12,     3.93,2,     0.04,     0.02,2,     0.01,    0.401,2,    0.013,    2.112,2,    1.259,2,    0.139,2,   2070.4,2,   2331.9,2,   7.9711,  25,6,  -999.00,9,  -999.00,   -999.0,9,   -999.0,  18.8333,  25.5422
  49NZ20090521,   P21,   285,  1,     32, X12050,2,20090617,0754,-24.8720, 154.0527, 3870,    201.9,2,  17.6432,2,  17.64580,2,  35.5677,2,  35.5658,2,   183.59,2,   182.91,2,     1.73,2,     0.12,     6.42,2,     0.05,     0.02,2,     0.01,    0.537,2,    0.013,    2.163,2,    1.263,2,    0.039,2,   2087.3,2,   2330.0,2,   7.9361,  25,2,  -999.00,9,  -999.00,   -999.0,9,   -999.0,  17.6089,  25.8031
  49NZ20090521,   P21,   285,  1,     31, X12014,2,20090617,0754,-24.8720, 154.0527, 3870,    249.6,2,  16.4711,2,  16.47068,2,  35.4791,2,  35.4772,6,   184.77,2,   184.38,2,     2.27,2,     0.12,     7.85,2,     0.05,     0.01,2,     0.01,    0.633,2,    0.013,    2.227,2,    1.289,2,    0.034,2,   2096.7,2,   2325.4,2,   7.9116,  25,2,  -999.00,9,  -999.00,   -999.0,9,   -999.0,  16.4306,  26.0165
  49NZ20090521,   P21,   285,  1,     30, X12012,2,20090617,0754,-24.8720, 154.0527, 3870,    333.3,2,  14.2975,2,  14.29828,2,  35.2525,2,  35.2570,2,   184.01,2,   183.58,2,     3.65,2,     0.13,    11.16,2,     0.06,     0.01,2,     0.01,    0.865,2,    0.013,    2.221,2,    1.248,2,    0.039,2,   2114.9,2,   2314.5,2,   7.8583,  25,2,  -999.00,9,  -999.00,   -999.0,9,   -999.0,  14.2483,  26.3296
  49NZ20090521,   P21,   285,  1,     29, X12041,2,20090617,0754,-24.8720, 154.0527, 3870,    431.7,2,  11.7525,2,  11.75206,2,  34.9772,2,  34.9740,2,   189.77,2,   189.33,2,     5.70,2,     0.13,    15.37,2,     0.08,     0.01,2,     0.01,    1.137,2,    0.013,    2.192,6,    1.181,6,    0.042,6,   2133.0,2,   2303.2,2,   7.8005,  25,2,  -999.00,9,  -999.00,   -999.0,9,   -999.0,  11.6964,  26.6291
  49NZ20090521,   P21,   285,  1,     28, X12040,2,20090617,0754,-24.8720, 154.0527, 3870,    531.4,2,   9.4732,2,   9.47357,2,  34.7040,2,  34.7037,6,   194.96,2,   194.66,2,     8.58,2,     0.14,    19.83,2,     0.09,     0.01,2,     0.01,    1.423,2,    0.014,    1.958,2,    1.005,2,    0.050,2,   2147.7,2,   2294.0,2,   7.7492,  25,2,  -999.00,9,  -999.00,   -999.0,9,   -999.0,   9.4127,  26.8193
  49NZ20090521,   P21,   285,  1,     27, X12009,2,20090617,0754,-24.8720, 154.0527, 3870,    631.0,2,   8.0855,2,   8.08725,2,  34.5684,2,  34.5680,2,   198.99,2,   198.87,2,    11.86,2,     0.15,    22.70,2,     0.10,     0.01,2,     0.01,    1.598,2,    0.014,    1.673,6,    0.845,6,    0.035,6,   2156.4,2,   2290.8,2,   7.7195,  25,2,  -999.00,9,  -999.00,   -999.0,9,   -999.0,   8.0199,  26.9319
  49NZ20090521,   P21,   285,  1,     26, X12008,2,20090617,0754,-24.8720, 154.0527, 3870,    728.9,2,   7.1529,2,   7.15294,2,  34.4914,2,  34.4906,2,   198.16,2,   197.91,2,    16.34,2,     0.15,    24.90,2,     0.10,     0.01,2,     0.01,    1.754,2,    0.015,    1.245,2,    0.625,2,    0.017,2,   2166.3,6,   2290.4,2,   7.6983,  25,2,  -999.00,9,  -999.00,   -999.0,9,   -999.0,   7.0817,  27.0068
  49NZ20090521,   P21,   285,  1,     25, X12007,2,20090617,0754,-24.8720, 154.0527, 3870,    831.4,2,   5.9900,2,   5.99113,2,  34.4196,2,  34.4194,2,   197.35,2,   197.26,2,    23.81,2,     0.17,    27.56,2,     0.11,     0.01,2,     0.01,    1.929,2,    0.015,    0.821,2,    0.409,2,    0.014,2,   2180.5,2,   2294.9,6,   7.6726,  25,2,  -999.00,9,  -999.00,   -999.0,9,   -999.0,   5.9156,  27.1047
  49NZ20090521,   P21,   285,  1,     24, X12035,2,20090617,0754,-24.8720, 154.0527, 3870,    930.6,2,   5.4390,2,   5.43845,2,  34.4376,2,  34.4381,2,   186.34,2,   186.44,2,    33.68,2,     0.19,    29.34,2,     0.11,     0.01,2,     0.01,    2.064,2,    0.015,    0.500,2,    0.251,2,    0.004,2,   2197.9,2,   2305.7,2,   7.6516,  25,6,  -999.00,9,  -999.00,   -999.0,9,   -999.0,   5.3589,  27.1872
  49NZ20090521,   P21,   285,  1,     23, X12038,2,20090617,0754,-24.8720, 154.0527, 3870,   1072.1,2,   4.6199,2,   4.62197,2,  34.4666,2,  34.4661,6,   174.46,2,   174.60,2,    49.34,2,     0.23,    31.52,2,     0.12,     0.01,2,     0.01,    2.213,2,    0.016,    0.243,2,    0.128,2,    0.000,2,   2222.7,2,   2320.9,2,   7.6273,  25,2,  -999.00,9,  -999.00,   -999.0,9,   -999.0,   4.5332,  27.3050
  49NZ20090521,   P21,   285,  1,     22, X12034,2,20090617,0754,-24.8720, 154.0527, 3870,   1271.1,2,   3.7333,2,   3.73355,2,  34.5245,2,  34.5248,2,   159.12,2,   159.35,2,    71.35,2,     0.28,    33.69,2,     0.13,     0.01,2,     0.01,    2.371,2,    0.016,    0.073,2,    0.040,2,    0.000,2,   2255.7,2,   2347.3,2,   7.5997,  25,2,  -999.00,9,  -999.00,   -999.0,9,   -999.0,   3.6371,  27.4447
  49NZ20090521,   P21,   285,  1,     21, X12033,2,20090617,0754,-24.8720, 154.0527, 3870,   1470.3,2,   3.1270,2,   3.12784,2,  34.5744,2,  34.5743,2,   151.85,2,   152.08,2,    85.90,2,     0.31,    34.75,2,     0.13,     0.01,2,     0.01,    2.464,2,    0.016,    0.025,2,    0.013,2,    0.000,2,   2276.2,2,   2361.5,2,   7.5858,  25,2,  -999.00,9,  -999.00,   -999.0,9,   -999.0,   3.0202,  27.5435
  49NZ20090521,   P21,   285,  1,     20, X12032,2,20090617,0754,-24.8720, 154.0527, 3870,   1671.1,2,   2.6812,2,   2.68134,2,  34.6182,2,  34.6183,2,   152.98,2,   153.15,2,    93.09,2,     0.32,    34.88,2,     0.13,     0.01,2,     0.01,    2.463,2,    0.016,    0.011,2,    0.006,2,    0.000,2,   2283.1,2,   2368.0,2,   7.5824,  25,2,  -999.00,9,  -999.00,   -999.0,9,   -999.0,   2.5628,  27.6192
  49NZ20090521,   P21,   285,  1,     19, X12046,2,20090617,0754,-24.8720, 154.0527, 3870,   1870.5,2,   2.4050,2,   2.40501,2,  34.6526,2,  34.6532,2,   160.40,2,   160.72,2,    93.47,2,     0.32,    34.16,2,     0.13,     0.01,2,     0.01,    2.408,2,    0.016,    0.009,2,    0.006,2,    0.000,2,   2280.3,2,   2367.9,2,   7.5880,  25,2,  -999.00,9,  -999.00,   -999.0,9,   -999.0,   2.2735,  27.6712
  49NZ20090521,   P21,   285,  1,     18, X12006,2,20090617,0754,-24.8720, 154.0527, 3870,   2071.3,2,   2.2250,2,   2.22519,2,  34.6791,2,  34.6793,6,   168.24,2,   168.64,2,    92.63,2,     0.32,    33.51,2,     0.13,     0.01,2,     0.01,    2.347,2,    0.016,    0.008,2,    0.004,2,    0.000,2,   2274.9,2,   2365.7,2,   7.5959,  25,2,  -999.00,9,  -999.00,   -999.0,9,   -999.0,   2.0789,  27.7083
  49NZ20090521,   P21,   285,  1,     17, X12047,2,20090617,0754,-24.8720, 154.0527, 3870,   2270.7,2,   2.0513,2,   2.05122,2,  34.7044,2,  34.7045,2,   176.58,2,   176.94,2,    92.45,2,     0.32,    32.68,2,     0.12,     0.01,2,     0.01,    2.287,2,    0.016,    0.012,2,    0.007,2,    0.000,2,   2269.8,2,   2362.5,2,   7.6037,  25,2,  -999.00,9,  -999.00,   -999.0,9,   -999.0,   1.8905,  27.7435
  49NZ20090521,   P21,   285,  1,     16, X12004,2,20090617,0754,-24.8720, 154.0527, 3870,   2469.2,2,   1.8827,2,   1.88326,2,  34.7174,2,  34.7178,2,   181.71,2,   182.09,2,    95.60,2,     0.33,    32.31,2,     0.12,     0.01,2,     0.01,    2.270,2,    0.016,    0.010,2,    0.006,2,    0.000,2,   2269.3,6,   2366.0,2,   7.6108,  25,2,  -999.00,9,  -999.00,   -999.0,9,   -999.0,   1.7071,  27.7680
  49NZ20090521,   P21,   285,  1,     15, X12003,2,20090617,0754,-24.8720, 154.0527, 3870,   2669.5,2,   1.6964,2,   1.69643,2,  34.7224,2,  34.7222,2,   185.82,2,   186.00,2,    99.96,2,     0.34,    32.31,2,     0.12,     0.01,2,     0.01,    2.256,2,    0.016,    0.005,2,    0.004,2,    0.000,2,   2270.9,2,   2368.0,6,   7.6158,  25,2,  -999.00,9,  -999.00,   -999.0,9,   -999.0,   1.5062,  27.7869
  49NZ20090521,   P21,   285,  1,     14, X12002,2,20090617,0754,-24.8720, 154.0527, 3870,   2870.2,2,   1.5372,2,   1.53726,2,  34.7230,2,  34.7229,2,   188.93,2,   189.13,2,   103.75,2,     0.35,    32.37,2,     0.12,     0.01,2,     0.01,    2.266,2,    0.016,    0.006,2,    0.004,2,    0.000,2,   2271.9,2,   2371.5,2,   7.6189,  25,6,  -999.00,9,  -999.00,   -999.0,9,   -999.0,   1.3316,  27.8000
  49NZ20090521,   P21,   285,  1,     13, X12001,2,20090617,0754,-24.8720, 154.0527, 3870,   3080.9,2,   1.3975,2,   1.39754,2,  34.7216,2,  34.7214,6,   191.36,2,   191.51,2,   107.17,2,     0.35,    32.50,2,     0.12,     0.01,2,     0.01,    2.267,2,    0.016,    0.004,2,    0.005,2,    0.000,2,   2274.4,2,   2374.1,2,   7.6215,  25,2,  -999.00,9,  -999.00,   -999.0,9,   -999.0,   1.1750,  27.8098
  49NZ20090521,   P21,   285,  1,     12, X12030,2,20090617,0754,-24.8720, 154.0527, 3870,   3330.7,2,   1.2721,2,   1.27228,2,  34.7192,2,  34.7185,2,   193.41,2,   193.47,2,   110.55,2,     0.36,    32.55,2,     0.12,     0.01,2,     0.01,    2.282,2,    0.016,    0.003,2,    0.002,2,    0.000,2,   2275.8,2,   2377.4,2,   7.6226,  25,2,  -999.00,9,  -999.00,   -999.0,9,   -999.0,   1.0284,  27.8178
  49NZ20090521,   P21,   285,  1,     11, X12044,2,20090617,0754,-24.8720, 154.0527, 3870,   3580.3,2,   1.1940,2,   1.19387,2,  34.7168,2,  34.7165,2,   194.74,2,   194.87,2,   112.71,2,     0.37,    32.63,2,     0.12,     0.01,2,     0.01,    2.282,2,    0.016,    0.007,2,    0.004,2,    0.000,2,   2278.2,2,   2380.5,2,   7.6244,  25,2,  -999.00,9,  -999.00,   -999.0,9,   -999.0,   0.9273,  27.8226
  49NZ20090521,   P21,   285,  1,     10, X12048,2,20090617,0754,-24.8720, 154.0527, 3870,   3830.7,2,   1.1507,2,   1.15063,2,  34.7152,2,  34.7150,2,   195.55,2,   195.57,2,   114.63,2,     0.37,    32.70,2,     0.12,     0.01,2,     0.01,    2.285,2,    0.016,    0.011,2,    0.007,2,    0.000,2,   2279.2,2,   2383.4,2,   7.6266,  25,2,  -999.00,9,  -999.00,   -999.0,9,   -999.0,   0.8594,  27.8257
  49NZ20090521,   P21,   285,  1,      9, X12027,9,20090617,0754,-24.8720, 154.0527, 3870,     10.5,2,  22.5981,2,  22.59702,2,  35.2915,2,-999.0000,9,   214.48,2,  -999.00,9,  -999.00,9,  -999.00,  -999.00,9,  -999.00,  -999.00,9,  -999.00, -999.000,9, -999.000, -999.000,9, -999.000,9, -999.000,9,   -999.0,9,   -999.0,9,-999.0000,-999,9,  -999.00,9,  -999.00,   -999.0,9,   -999.0,  22.5960,  24.2707
  49NZ20090521,   P21,   285,  1,      8, X12026,9,20090617,0754,-24.8720, 154.0527, 3870,     50.8,2,  22.2531,2,  22.23868,2,  35.3927,2,-999.0000,9,   214.87,2,  -999.00,9,  -999.00,9,  -999.00,  -999.00,9,  -999.00,  -999.00,9,  -999.00, -999.000,9, -999.000, -999.000,9, -999.000,9, -999.000,9,   -999.0,9,   -999.0,9,-999.0000,-999,9,  -999.00,9,  -999.00,   -999.0,9,   -999.0,  22.2430,  24.4478
  49NZ20090521,   P21,   285,  1,      7, X12025,9,20090617,0754,-24.8720, 154.0527, 3870,    100.2,2,  21.1758,2,  21.17824,2,  35.6024,2,-999.0000,9,   187.11,2,  -999.00,9,  -999.00,9,  -999.00,  -999.00,9,  -999.00,  -999.00,9,  -999.00, -999.000,9, -999.000, -999.000,9, -999.000,9, -999.000,9,   -999.0,9,   -999.0,9,-999.0000,-999,9,  -999.00,9,  -999.00,   -999.0,9,   -999.0,  21.1565,  24.9098
  49NZ20090521,   P21,   285,  1,      6, X12024,9,20090617,0754,-24.8720, 154.0527, 3870,    151.3,2,  18.8560,2,  18.85620,2,  35.6261,2,-999.0000,9,   192.35,2,  -999.00,9,  -999.00,9,  -999.00,  -999.00,9,  -999.00,  -999.00,9,  -999.00, -999.000,9, -999.000, -999.000,9, -999.000,9, -999.000,9,   -999.0,9,   -999.0,9,-999.0000,-999,9,  -999.00,9,  -999.00,   -999.0,9,   -999.0,  18.8291,  25.5435
  49NZ20090521,   P21,   285,  1,      5, X12028,9,20090617,0754,-24.8720, 154.0527, 3870,    200.5,2,  17.6737,2,  17.67946,2,  35.5701,2,-999.0000,9,   183.41,2,  -999.00,9,  -999.00,9,  -999.00,  -999.00,9,  -999.00,  -999.00,9,  -999.00, -999.000,9, -999.000, -999.000,9, -999.000,9, -999.000,9,   -999.0,9,   -999.0,9,-999.0000,-999,9,  -999.00,9,  -999.00,   -999.0,9,   -999.0,  17.6396,  25.7974
  49NZ20090521,   P21,   285,  1,      4, X12022,9,20090617,0754,-24.8720, 154.0527, 3870,    249.0,2,  16.4814,2,  16.47982,2,  35.4777,2,-999.0000,9,   184.39,2,  -999.00,9,  -999.00,9,  -999.00,  -999.00,9,  -999.00,  -999.00,9,  -999.00, -999.000,9, -999.000, -999.000,9, -999.000,9, -999.000,9,   -999.0,9,   -999.0,9,-999.0000,-999,9,  -999.00,9,  -999.00,   -999.0,9,   -999.0,  16.4410,  26.0130
  49NZ20090521,   P21,   285,  1,      3, X12021,9,20090617,0754,-24.8720, 154.0527, 3870,    333.6,2,  14.2973,2,  14.29810,2,  35.2527,2,-999.0000,9,   184.09,2,  -999.00,9,  -999.00,9,  -999.00,  -999.00,9,  -999.00,  -999.00,9,  -999.00, -999.000,9, -999.000, -999.000,9, -999.000,9, -999.000,9,   -999.0,9,   -999.0,9,-999.0000,-999,9,  -999.00,9,  -999.00,   -999.0,9,   -999.0,  14.2481,  26.3298
  49NZ20090521,   P21,   285,  1,      2, X12020,9,20090617,0754,-24.8720, 154.0527, 3870,     50.8,2,  22.2643,2,  22.26537,2,  35.3904,2,-999.0000,9,   214.80,2,  -999.00,9,  -999.00,9,  -999.00,  -999.00,9,  -999.00,  -999.00,9,  -999.00, -999.000,9, -999.000, -999.000,9, -999.000,9, -999.000,9,   -999.0,9,   -999.0,9,-999.0000,-999,9,  -999.00,9,  -999.00,   -999.0,9,   -999.0,  22.2542,  24.4429
  49NZ20090521,   P21,   285,  1,      1, X12019,2,20090617,0754,-24.8720, 154.0527, 3870,   3905.2,2,   1.1343,2,   1.13428,2,  34.7145,2,  34.7143,6,   195.58,2,   195.54,2,   115.13,2,     0.37,    32.79,2,     0.12,     0.01,2,     0.01,    2.288,2,    0.016,    0.011,2,    0.007,2,    0.000,2,   2281.2,2,   2384.2,2,   7.6271,  25,2,  -999.00,9,  -999.00,   -999.0,9,   -999.0,   0.8356,  27.8267