BOTTLE,20111109CCHDOSIOCBG
EXPOCODE,SECT_ID,STNNBR,CASTNO,SAMPNO,BTLNBR,BTLNBR_FLAG_W,DATE,TIME,LATITUDE,LONGITUDE,DEPTH,CTDPRS,CTDPRS_FLAG_W,CTDTMP,CTDTMP_FLAG_W,SBE35,SBE35_FLAG_W,CTDSAL,CTDSAL_FLAG_W,SALNTY,SALNTY_FLAG_W,CTDOXY,CTDOXY_FLAG_W,OXYGEN,OXYGEN_FLAG_W,SILCAT,SILCAT_FLAG_W,SILUNC,NITRAT,NITRAT_FLAG_W,NRAUNC,NITRIT,NITRIT_FLAG_W,NRIUNC,PHSPHT,PHSPHT_FLAG_W,PHPUNC,CFC-11,CFC-11_FLAG_W,CFC-12,CFC-12_FLAG_W,CFC113,CFC113_FLAG_W,TCARBN,TCARBN_FLAG_W,ALKALI,ALKALI_FLAG_W,PH_TOT,PH_TMP,PH_TOT_FLAG_W,DELC13,DELC13_FLAG_W,C13ERR,DELC14,DELC14_FLAG_W,C14ERR,THETA,SIG0
,,,,,,,,,,,METERS,DBAR,,ITS-90,,ITS-90,,PSS-78,,PSS-78,,UMOL/KG,,UMOL/KG,,UMOL/KG,,UMOL/KG,UMOL/KG,,UMOL/KG,UMOL/KG,,UMOL/KG,UMOL/KG,,UMOL/KG,PMOL/KG,,PMOL/KG,,PMOL/KG,,UMOL/KG,,UMOL/KG,,,DEG C,,/MILLE,,/MILLE,/MILLE,,/MILLE,DEG C,KG/M^3
  49NZ20090521,   P21,   182,  1,      0,   -999,9,20090529,0112,-17.4973,-161.0052, 4890,   -999.0,9,-999.0000,9,-999.00000,9,-999.0000,9,  35.7646,2,  -999.00,9,  -999.00,9,  -999.00,9,  -999.00,  -999.00,9,  -999.00,  -999.00,9,  -999.00, -999.000,9, -999.000, -999.000,9, -999.000,9, -999.000,9,   -999.0,9,   -999.0,9,-999.0000,-999,9,  -999.00,9,  -999.00,   -999.0,9,   -999.0,-999.0000,-999.0000
  49NZ20090521,   P21,   182,  1,     36, X12043,2,20090529,0112,-17.4973,-161.0052, 4890,     10.7,2,  28.3885,2,  28.38851,2,  35.7540,2,  35.7526,2,   195.84,2,   196.06,2,     0.66,2,     0.12,     0.09,2,     0.03,     0.01,2,     0.01,    0.170,2,    0.017,    1.402,2,    0.901,2, -999.000,5,   1988.8,2,   2355.3,2,   8.1350,  25,6,  -999.00,9,  -999.00,   -999.0,9,   -999.0,  28.3859,  22.8347
  49NZ20090521,   P21,   182,  1,     35, X12042,2,20090529,0112,-17.4973,-161.0052, 4890,     50.5,2,  28.3461,2,  28.34587,2,  35.7523,2,  35.7516,2,   195.71,2,   196.16,2,     0.61,2,     0.12,     0.06,2,     0.03,     0.01,2,     0.01,    0.169,2,    0.017,    1.393,2,    0.898,2, -999.000,5,   1988.6,6,   2354.1,2,   8.1352,  25,2,  -999.00,9,  -999.00,   -999.0,9,   -999.0,  28.3341,  22.8506
  49NZ20090521,   P21,   182,  1,     34, X12016,2,20090529,0112,-17.4973,-161.0052, 4890,    100.4,2,  26.3327,2,  26.33398,2,  35.9644,2,  35.9663,2,   207.45,2,   207.57,2,     0.51,2,     0.12,     0.06,2,     0.03,     0.01,2,     0.01,    0.161,2,    0.017,    1.592,6,    1.004,6, -999.000,5,   2011.5,2,   2365.9,6,   8.1152,  25,2,  -999.00,9,  -999.00,   -999.0,9,   -999.0,  26.3100,  23.6638
  49NZ20090521,   P21,   182,  1,     33, X12015,2,20090529,0112,-17.4973,-161.0052, 4890,    150.2,2,  24.6513,2,  24.65052,2,  36.0511,2,  36.0486,2,   199.59,2,   199.70,2,     0.50,2,     0.12,     0.08,2,     0.03,     0.01,2,     0.01,    0.180,2,    0.017,    1.701,2,    1.054,2, -999.000,5,   2035.7,2,   2369.8,2,   8.0850,  25,6,  -999.00,9,  -999.00,   -999.0,9,   -999.0,  24.6189,  24.2517
  49NZ20090521,   P21,   182,  1,     32, X12050,2,20090529,0112,-17.4973,-161.0052, 4890,    200.7,2,  22.6208,2,  22.61759,2,  35.9456,2,  35.9426,2,   174.46,2,   174.32,2,     0.55,2,     0.12,     1.86,2,     0.04,     0.03,2,     0.01,    0.344,2,    0.014,    1.896,2,    1.139,2,    0.130,2,   2071.2,2,   2361.5,2,   8.0137,  25,2,  -999.00,9,  -999.00,   -999.0,9,   -999.0,  22.5801,  24.7719
  49NZ20090521,   P21,   182,  1,     31, X12014,2,20090529,0112,-17.4973,-161.0052, 4890,    248.5,2,  20.8928,2,  20.90325,2,  35.8212,2,  35.8218,6,   172.16,2,   172.00,2,     0.79,2,     0.12,     3.67,2,     0.04,     0.01,2,     0.01,    0.473,2,    0.013,    2.073,2,    1.220,2,    0.046,2,   2091.4,2,   2355.5,2,   7.9723,  25,2,  -999.00,9,  -999.00,   -999.0,9,   -999.0,  20.8451,  25.1614
  49NZ20090521,   P21,   182,  1,     30, X12012,2,20090529,0112,-17.4973,-161.0052, 4890,    279.1,2,  19.4546,2,  19.44852,2,  35.6201,2,  35.6194,2,   172.19,2,   172.56,2,     1.06,2,     0.12,     4.75,2,     0.05,     0.01,2,     0.01,    0.542,2,    0.013,    2.176,2,    1.251,2,    0.031,2,   2094.5,2,   2343.0,2,   7.9463,  25,2,  -999.00,9,  -999.00,   -999.0,9,   -999.0,  19.4037,  25.3911
  49NZ20090521,   P21,   182,  1,     29, X12041,2,20090529,0112,-17.4973,-161.0052, 4890,    370.4,2,  15.4017,2,  15.40996,2,  35.1103,2,  35.1143,2,   169.42,2,   169.84,2,     3.16,2,     0.13,     9.56,2,     0.06,     0.01,2,     0.01,    0.868,2,    0.013,    2.252,2,    1.217,2,    0.021,2,   2111.6,2,   2312.8,2,   7.8609,  25,2,  -999.00,9,  -999.00,   -999.0,9,   -999.0,  15.3442,  25.9808
  49NZ20090521,   P21,   182,  1,     28, X12040,2,20090529,0112,-17.4973,-161.0052, 4890,    469.8,2,   9.9056,2,   9.90558,2,  34.6005,2,  34.6009,6,   151.07,2,   150.73,2,    11.79,2,     0.14,    22.00,2,     0.09,     0.01,2,     0.01,    1.680,2,    0.014,    1.432,2,    0.725,2,    0.023,2,   2165.7,2,   2290.5,2,   7.6903,  25,2,  -999.00,9,  -999.00,   -999.0,9,   -999.0,   9.8509,  26.6653
  49NZ20090521,   P21,   182,  1,     27, X12009,2,20090529,0112,-17.4973,-161.0052, 4890,    569.8,2,   7.3945,2,   7.39553,2,  34.4757,2,  34.4783,2,   148.10,2,   146.23,2,    21.96,2,     0.17,    28.67,2,     0.11,     0.01,2,     0.01,    2.076,2,    0.015,    0.615,6,    0.310,6,    0.013,6,   2194.6,2,   2293.3,2,   7.6228,  25,2,  -999.00,9,  -999.00,   -999.0,9,   -999.0,   7.3385,  26.9583
  49NZ20090521,   P21,   182,  1,     26, X12008,2,20090529,0112,-17.4973,-161.0052, 4890,    670.1,2,   5.9960,2,   5.99599,2,  34.3940,2,  34.3935,2,   173.22,2,   173.09,2,    24.52,2,     0.17,    29.92,2,     0.12,     0.01,2,     0.01,    2.113,2,    0.015,    0.487,2,    0.248,2,    0.000,2,   2192.2,6,   2292.6,2,   7.6316,  25,2,  -999.00,9,  -999.00,   -999.0,9,   -999.0,   5.9368,  27.0817
  49NZ20090521,   P21,   182,  1,     25, X12007,2,20090529,0112,-17.4973,-161.0052, 4890,    769.7,2,   5.1784,2,   5.17996,2,  34.4149,2,  34.4143,2,   161.92,2,   161.83,2,    37.44,2,     0.20,    32.39,2,     0.12,     0.01,2,     0.01,    2.276,2,    0.016,    0.156,2,    0.084,2,    0.000,2,   2213.4,2,   2306.5,6,   7.6059,  25,2,  -999.00,9,  -999.00,   -999.0,9,   -999.0,   5.1146,  27.1980
  49NZ20090521,   P21,   182,  1,     24, X12035,2,20090529,0112,-17.4973,-161.0052, 4890,    870.4,2,   4.5915,2,   4.59184,2,  34.4541,2,  34.4538,2,   152.25,2,   152.06,2,    50.90,2,     0.23,    33.82,2,     0.13,     0.01,2,     0.01,    2.389,2,    0.016,    0.048,2,    0.026,2,    0.000,2,   2233.8,2,   2320.1,2,   7.5888,  25,6,  -999.00,9,  -999.00,   -999.0,9,   -999.0,   4.5226,  27.2962
  49NZ20090521,   P21,   182,  1,     23, X12038,2,20090529,0112,-17.4973,-161.0052, 4890,    969.8,2,   4.1917,2,   4.19139,2,  34.4854,2,  34.4851,6,   145.77,2,   145.55,2,    61.62,2,     0.25,    34.83,2,     0.13,     0.01,2,     0.01,    2.467,2,    0.016,    0.022,2,    0.012,2,    0.000,2,   2249.0,2,   2333.9,2,   7.5775,  25,2,  -999.00,9,  -999.00,   -999.0,9,   -999.0,   4.1171,  27.3646
  49NZ20090521,   P21,   182,  1,     22, X12034,2,20090529,0112,-17.4973,-161.0052, 4890,   1129.6,2,   3.6095,2,   3.61053,2,  34.5213,2,  34.5209,2,   142.17,2,   142.11,2,    75.20,2,     0.28,    35.57,2,     0.13,     0.01,2,     0.01,    2.518,2,    0.016,    0.003,2,    0.001,2,    0.000,2,   2266.4,2,   2347.9,2,   7.5694,  25,2,  -999.00,9,  -999.00,   -999.0,9,   -999.0,   3.5263,  27.4531
  49NZ20090521,   P21,   182,  1,     21, X12033,2,20090529,0112,-17.4973,-161.0052, 4890,   1330.6,2,   3.1407,2,   3.14080,2,  34.5495,2,  34.5493,2,   143.61,2,   143.40,2,    85.38,2,     0.31,    35.84,2,     0.13,     0.01,2,     0.01,    2.535,2,    0.016,    0.003,2,    0.001,2,    0.000,2,   2277.6,2,   2358.7,2,   7.5694,  25,2,  -999.00,9,  -999.00,   -999.0,9,   -999.0,   3.0454,  27.5213
  49NZ20090521,   P21,   182,  1,     20, X12032,2,20090529,0112,-17.4973,-161.0052, 4890,   1530.9,2,   2.7847,2,   2.78478,2,  34.5788,2,  34.5786,2,   144.29,2,   144.42,2,    95.20,2,     0.33,    36.07,2,     0.13,     0.01,2,     0.01,    2.547,2,    0.016,    0.000,2,    0.000,2,    0.000,2,   2288.1,2,   2369.4,2,   7.5712,  25,6,  -999.00,9,  -999.00,   -999.0,9,   -999.0,   2.6768,  27.5778
  49NZ20090521,   P21,   182,  1,     19, X12046,2,20090529,0112,-17.4973,-161.0052, 4890,   1732.5,2,   2.4873,2,   2.48794,2,  34.6043,2,  34.6038,2,   145.62,2,   145.68,2,   103.90,2,     0.35,    35.95,2,     0.13,     0.01,2,     0.01,    2.542,2,    0.016,    0.000,2,    0.000,2,    0.000,2,   2296.5,2,   2379.8,2,   7.5741,  25,2,  -999.00,9,  -999.00,   -999.0,9,   -999.0,   2.3664,  27.6248
  49NZ20090521,   P21,   182,  1,     18, X12006,2,20090529,0112,-17.4973,-161.0052, 4890,   1933.0,2,   2.2952,2,   2.29498,2,  34.6217,2,  34.6217,2,   146.41,2,   146.40,2,   110.04,2,     0.36,    35.94,2,     0.13,     0.01,2,     0.01,    2.542,2,    0.016,    0.000,2,    0.000,2,    0.000,2,   2302.1,2,   2386.6,2,   7.5763,  25,2,  -999.00,9,  -999.00,   -999.0,9,   -999.0,   2.1600,  27.6558
  49NZ20090521,   P21,   182,  1,     17, X12047,2,20090529,0112,-17.4973,-161.0052, 4890,   2130.3,2,   2.1011,2,   2.10092,2,  34.6385,2,  34.6387,2,   148.27,2,   148.40,2,   115.38,2,     0.37,    35.95,2,     0.13,     0.01,2,     0.01,    2.539,2,    0.016,    0.000,2,    0.000,2,    0.000,2,   2306.2,2,   2391.6,2,   7.5795,  25,2,  -999.00,9,  -999.00,   -999.0,9,   -999.0,   1.9520,  27.6858
  49NZ20090521,   P21,   182,  1,     16, X12004,2,20090529,0112,-17.4973,-161.0052, 4890,   2331.9,2,   1.9805,2,   1.98050,2,  34.6492,2,  34.6489,6,   150.19,2,   150.25,2,   118.38,2,     0.38,    35.79,2,     0.13,     0.01,2,     0.01,    2.524,2,    0.016,    0.000,2,    0.000,2,    0.000,2,   2308.1,6,   2395.8,2,   7.5828,  25,2,  -999.00,9,  -999.00,   -999.0,9,   -999.0,   1.8157,  27.7050
  49NZ20090521,   P21,   182,  1,     15, X12003,2,20090529,0112,-17.4973,-161.0052, 4890,   2530.7,2,   1.8807,2,   1.88055,2,  34.6577,2,  34.6573,2,   152.62,2,   152.68,2,   120.82,2,     0.38,    35.65,2,     0.13,     0.00,2,     0.01,    2.516,2,    0.016,    0.000,2,    0.000,2,    0.000,2,   2309.3,2,   2397.4,6,   7.5862,  25,2,  -999.00,9,  -999.00,   -999.0,9,   -999.0,   1.6998,  27.7207
  49NZ20090521,   P21,   182,  1,     14, X12002,2,20090529,0112,-17.4973,-161.0052, 4890,   2730.4,2,   1.7738,2,   1.77321,2,  34.6667,2,  34.6663,2,   155.99,2,   155.88,2,   122.58,2,     0.39,    35.44,2,     0.13,     0.01,2,     0.01,    2.492,2,    0.016,    0.000,2,    0.000,2,    0.000,2,   2308.8,2,   2398.4,2,   7.5900,  25,6,  -999.00,9,  -999.00,   -999.0,9,   -999.0,   1.5766,  27.7371
  49NZ20090521,   P21,   182,  1,     13, X12001,2,20090529,0112,-17.4973,-161.0052, 4890,   2931.8,2,   1.7148,2,   1.71477,2,  34.6721,2,  34.6715,2,   158.47,2,   158.46,2,   123.45,2,     0.39,    35.31,2,     0.13,     0.01,2,     0.01,    2.484,2,    0.016,    0.000,2,    0.000,2,    0.000,2,   2307.8,2,   2399.5,2,   7.5934,  25,2,  -999.00,9,  -999.00,   -999.0,9,   -999.0,   1.4998,  27.7470
  49NZ20090521,   P21,   182,  1,     12, X12030,2,20090529,0112,-17.4973,-161.0052, 4890,   3169.4,2,   1.6483,2,   1.64821,2,  34.6778,2,  34.6775,2,   162.05,2,   162.09,2,   124.35,2,     0.39,    35.07,2,     0.13,     0.01,2,     0.01,    2.464,2,    0.016,    0.000,2,    0.000,2,    0.000,2,   2306.5,2,   2399.2,2,   7.5977,  25,2,  -999.00,9,  -999.00,   -999.0,9,   -999.0,   1.4118,  27.7580
  49NZ20090521,   P21,   182,  1,     11, X12044,2,20090529,0112,-17.4973,-161.0052, 4890,   3420.3,2,   1.5832,2,   1.58321,2,  34.6824,2,  34.6823,2,   167.66,2,   167.76,2,   123.16,2,     0.39,    34.61,2,     0.13,     0.01,2,     0.01,    2.434,2,    0.016,    0.000,2,    0.000,2,    0.000,2,   2301.2,2,   2396.2,2,   7.6014,  25,2,  -999.00,9,  -999.00,   -999.0,9,   -999.0,   1.3231,  27.7680
  49NZ20090521,   P21,   182,  1,     10, X12048,2,20090529,0112,-17.4973,-161.0052, 4890,   3669.8,2,   1.5231,2,   1.52333,2,  34.6870,2,  34.6865,6,   173.33,2,   173.56,2,   121.57,2,     0.39,    34.32,2,     0.13,     0.01,2,     0.01,    2.405,2,    0.016,    0.000,2,    0.000,2,    0.000,2,   2294.7,2,   2391.7,2,   7.6056,  25,2,  -999.00,9,  -999.00,   -999.0,9,   -999.0,   1.2388,  27.7776
  49NZ20090521,   P21,   182,  1,      9, X12027,2,20090529,0112,-17.4973,-161.0052, 4890,   3919.2,2,   1.4737,2,   1.47400,2,  34.6911,2,  34.6907,2,   177.69,2,   177.70,2,   120.66,2,     0.38,    34.04,2,     0.13,     0.01,2,     0.01,    2.380,2,    0.016,    0.000,2,    0.000,2,    0.000,2,   2291.9,2,   2389.2,2,   7.6082,  25,2,  -999.00,9,  -999.00,   -999.0,9,   -999.0,   1.1642,  27.7860
  49NZ20090521,   P21,   182,  1,      8, X12026,2,20090529,0112,-17.4973,-161.0052, 4890,   4171.6,2,   1.4341,2,   1.43418,2,  34.6945,2,  34.6944,2,   181.22,2,   181.41,2,   120.35,2,     0.38,    33.76,2,     0.13,     0.01,2,     0.01,    2.364,2,    0.016,    0.001,2,    0.000,2,    0.000,2,   2288.0,6,   2386.5,2,   7.6102,  25,2,  -999.00,9,  -999.00,   -999.0,9,   -999.0,   1.0982,  27.7933
  49NZ20090521,   P21,   182,  1,      7, X12025,2,20090529,0112,-17.4973,-161.0052, 4890,   4422.5,2,   1.3110,2,   1.31085,2,  34.7025,2,  34.7026,2,   190.75,2,   191.05,2,   118.11,2,     0.38,    33.09,2,     0.13,     0.01,2,     0.01,    2.313,2,    0.016,    0.001,2,    0.000,2,    0.000,2,   2277.2,2,   2377.9,6,   7.6147,  25,2,  -999.00,9,  -999.00,   -999.0,9,   -999.0,   0.9506,  27.8096
  49NZ20090521,   P21,   182,  1,      6, X12024,2,20090529,0112,-17.4973,-161.0052, 4890,   4670.8,2,   1.2156,2,   1.21552,2,  34.7069,2,  34.7073,2,   197.84,2,   198.36,2,   116.69,2,     0.38,    32.56,2,     0.12,     0.01,2,     0.01,    2.278,2,    0.016,    0.006,2,    0.002,2,    0.000,2,   2269.9,2,   2370.9,2,   7.6184,  25,2,  -999.00,9,  -999.00,   -999.0,9,   -999.0,   0.8297,  27.8210
  49NZ20090521,   P21,   182,  1,      5, X12028,9,20090529,0112,-17.4973,-161.0052, 4890,     10.7,2,  28.3895,2,  28.38949,2,  35.7543,2,-999.0000,9,   195.75,2,  -999.00,9,  -999.00,9,  -999.00,  -999.00,9,  -999.00,  -999.00,9,  -999.00, -999.000,9, -999.000, -999.000,9, -999.000,9, -999.000,9,   -999.0,9,   -999.0,9,-999.0000,-999,9,  -999.00,9,  -999.00,   -999.0,9,   -999.0,  28.3869,  22.8346
  49NZ20090521,   P21,   182,  1,      4, X12022,9,20090529,0112,-17.4973,-161.0052, 4890,     50.3,2,  28.3422,2,  28.34353,2,  35.7527,2,-999.0000,9,   195.79,2,  -999.00,9,  -999.00,9,  -999.00,  -999.00,9,  -999.00,  -999.00,9,  -999.00, -999.000,9, -999.000, -999.000,9, -999.000,9, -999.000,9,   -999.0,9,   -999.0,9,-999.0000,-999,9,  -999.00,9,  -999.00,   -999.0,9,   -999.0,  28.3302,  22.8522
  49NZ20090521,   P21,   182,  1,      3, X12021,9,20090529,0112,-17.4973,-161.0052, 4890,   1329.7,2,   3.1406,2,   3.14073,2,  34.5496,2,-999.0000,9,   143.55,2,  -999.00,9,  -999.00,9,  -999.00,  -999.00,9,  -999.00,  -999.00,9,  -999.00, -999.000,9, -999.000, -999.000,9, -999.000,9, -999.000,9,   -999.0,9,   -999.0,9,-999.0000,-999,9,  -999.00,9,  -999.00,   -999.0,9,   -999.0,   3.0454,  27.5214
  49NZ20090521,   P21,   182,  1,      2, X12020,2,20090529,0112,-17.4973,-161.0052, 4890,   2931.9,2,   1.7146,2,   1.71469,2,  34.6722,2,-999.0000,9,   158.52,2,  -999.00,9,  -999.00,9,  -999.00,  -999.00,9,  -999.00,  -999.00,9,  -999.00, -999.000,9, -999.000,    0.000,2,    0.000,2,    0.000,2,   -999.0,9,   -999.0,9,-999.0000,-999,9,  -999.00,9,  -999.00,   -999.0,9,   -999.0,   1.4996,  27.7471
  49NZ20090521,   P21,   182,  1,      1, X12019,2,20090529,0112,-17.4973,-161.0052, 4890,   4922.0,2,   1.1692,2,   1.16912,2,  34.7079,2,  34.7082,6,   201.43,2,   201.58,2,   116.88,2,     0.38,    32.41,2,     0.12,     0.01,2,     0.01,    2.263,2,    0.016,    0.014,2,    0.004,2,    0.000,2,   2267.0,2,   2369.0,2,   7.6192,  25,2,  -999.00,9,  -999.00,   -999.0,9,   -999.0,   0.7553,  27.8265