BOTTLE,20111109CCHDOSIOCBG
EXPOCODE,SECT_ID,STNNBR,CASTNO,SAMPNO,BTLNBR,BTLNBR_FLAG_W,DATE,TIME,LATITUDE,LONGITUDE,DEPTH,CTDPRS,CTDPRS_FLAG_W,CTDTMP,CTDTMP_FLAG_W,SBE35,SBE35_FLAG_W,CTDSAL,CTDSAL_FLAG_W,SALNTY,SALNTY_FLAG_W,CTDOXY,CTDOXY_FLAG_W,OXYGEN,OXYGEN_FLAG_W,SILCAT,SILCAT_FLAG_W,SILUNC,NITRAT,NITRAT_FLAG_W,NRAUNC,NITRIT,NITRIT_FLAG_W,NRIUNC,PHSPHT,PHSPHT_FLAG_W,PHPUNC,CFC-11,CFC-11_FLAG_W,CFC-12,CFC-12_FLAG_W,CFC113,CFC113_FLAG_W,TCARBN,TCARBN_FLAG_W,ALKALI,ALKALI_FLAG_W,PH_TOT,PH_TMP,PH_TOT_FLAG_W,DELC13,DELC13_FLAG_W,C13ERR,DELC14,DELC14_FLAG_W,C14ERR,THETA,SIG0
,,,,,,,,,,,METERS,DBAR,,ITS-90,,ITS-90,,PSS-78,,PSS-78,,UMOL/KG,,UMOL/KG,,UMOL/KG,,UMOL/KG,UMOL/KG,,UMOL/KG,UMOL/KG,,UMOL/KG,UMOL/KG,,UMOL/KG,PMOL/KG,,PMOL/KG,,PMOL/KG,,UMOL/KG,,UMOL/KG,,,DEG C,,/MILLE,,/MILLE,/MILLE,,/MILLE,DEG C,KG/M^3
  49NZ20090521,   P21,   225,  1,      0,   -999,9,20090607,0237,-17.8312, 176.3335, 3121,   -999.0,9,-999.0000,9,-999.00000,9,-999.0000,9,  34.8427,2,  -999.00,9,  -999.00,9,  -999.00,9,  -999.00,  -999.00,9,  -999.00,  -999.00,9,  -999.00, -999.000,9, -999.000, -999.000,9, -999.000,9, -999.000,9,   -999.0,9,   -999.0,9,-999.0000,-999,9,  -999.00,9,  -999.00,   -999.0,9,   -999.0,-999.0000,-999.0000
  49NZ20090521,   P21,   225,  1,     36, X12043,2,20090607,0237,-17.8312, 176.3335, 3121,     10.8,2,  27.2090,2,  27.20934,2,  34.8323,2,  34.8300,2,   199.93,2,   199.76,2,     0.54,2,     0.12,     0.07,2,     0.03,     0.01,2,     0.01,    0.068,2,    0.028,    1.450,2,    0.917,2, -999.000,5,   1935.8,2,   2282.9,2,   8.1319,  25,6,  -999.00,9,  -999.00,   -999.0,9,   -999.0,  27.2065,  22.5253
  49NZ20090521,   P21,   225,  1,     35, X12042,2,20090607,0237,-17.8312, 176.3335, 3121,     50.5,2,  26.9853,2,  26.98440,2,  34.8325,2,  34.8375,2,   199.66,2,   199.50,2,     0.51,2,     0.12,     0.06,2,     0.03,     0.01,2,     0.01,    0.074,2,    0.026,    1.463,2,    0.937,2, -999.000,5,   1936.1,6,   2284.3,2,   8.1324,  25,2,  -999.00,9,  -999.00,   -999.0,9,   -999.0,  26.9737,  22.6000
  49NZ20090521,   P21,   225,  1,     34, X12016,2,20090607,0237,-17.8312, 176.3335, 3121,     99.8,2,  25.0346,2,  25.04717,2,  35.4546,2,  35.4501,2,   175.08,2,   174.67,2,     0.70,2,     0.12,     1.12,2,     0.04,     0.10,2,     0.01,    0.255,2,    0.015,    1.697,6,    1.059,6, -999.000,5,   2019.1,2,   2326.5,6,   8.0518,  25,2,  -999.00,9,  -999.00,   -999.0,9,   -999.0,  25.0129,  23.6809
  49NZ20090521,   P21,   225,  1,     33, X12015,2,20090607,0237,-17.8312, 176.3335, 3121,    151.2,2,  23.1359,2,  23.13888,2,  35.6236,2,  35.6220,2,   162.19,2,   161.86,2,     0.76,2,     0.12,     3.24,2,     0.04,     0.02,2,     0.01,    0.372,2,    0.014,    1.837,2,    1.121,2,    0.105,2,   2051.5,2,   2336.0,2,   8.0102,  25,6,  -999.00,9,  -999.00,   -999.0,9,   -999.0,  23.1048,  24.3763
  49NZ20090521,   P21,   225,  1,     32, X12050,2,20090607,0237,-17.8312, 176.3335, 3121,    200.7,2,  21.6101,2,  21.60931,2,  35.7093,2,  35.7081,2,   159.13,2,   158.88,2,     0.95,2,     0.12,     4.57,2,     0.05,     0.02,2,     0.01,    0.463,2,    0.013,    1.968,2,    1.176,2,    0.079,2,   2076.4,2,   2342.7,2,   7.9766,  25,2,  -999.00,9,  -999.00,   -999.0,9,   -999.0,  21.5707,  24.8769
  49NZ20090521,   P21,   225,  1,     31, X12014,2,20090607,0237,-17.8312, 176.3335, 3121,    251.3,2,  19.5072,2,  19.51185,2,  35.6267,2,  35.6240,6,   180.54,2,   180.69,2,     0.91,2,     0.12,     4.17,2,     0.04,     0.02,2,     0.01,    0.380,2,    0.013,    2.124,2,    1.251,2,    0.038,2,   2072.1,2,   2334.5,2,   7.9720,  25,2,  -999.00,9,  -999.00,   -999.0,9,   -999.0,  19.4613,  25.3812
  49NZ20090521,   P21,   225,  1,     30, X12012,2,20090607,0237,-17.8312, 176.3335, 3121,    331.0,2,  15.8263,2,  15.82600,2,  35.2867,2,  35.2924,2,   180.87,2,   180.87,2,     2.37,2,     0.12,     8.24,2,     0.06,     0.01,2,     0.01,    0.698,2,    0.013,    2.283,2,    1.272,2,    0.019,2,   2101.7,2,   2318.3,2,   7.8902,  25,2,  -999.00,9,  -999.00,   -999.0,9,   -999.0,  15.7740,  26.0198
  49NZ20090521,   P21,   225,  1,     29, X12041,2,20090607,0237,-17.8312, 176.3335, 3121,    431.2,2,  11.3442,2,  11.34150,2,  34.8104,2,  34.8111,2,   182.84,2,   182.57,2,     6.24,2,     0.13,    16.35,2,     0.08,     0.01,2,     0.01,    1.237,2,    0.013,    2.038,6,    1.059,6,    0.029,6,   2135.0,2,   2297.9,2,   7.7812,  25,2,  -999.00,9,  -999.00,   -999.0,9,   -999.0,  11.2895,  26.5750
  49NZ20090521,   P21,   225,  1,     28, X12040,2,20090607,0237,-17.8312, 176.3335, 3121,    530.6,2,   8.2004,2,   8.20003,2,  34.5187,2,  34.5194,6,   185.99,2,   185.30,2,    12.51,2,     0.15,    23.38,2,     0.10,     0.01,2,     0.01,    1.686,2,    0.014,    1.439,2,    0.724,2,    0.030,2,   2161.0,2,   2289.5,2,   7.7016,  25,2,  -999.00,9,  -999.00,   -999.0,9,   -999.0,   8.1451,  26.8741
  49NZ20090521,   P21,   225,  1,     27, X12009,2,20090607,0237,-17.8312, 176.3335, 3121,    630.7,2,   6.6784,2,   6.67968,2,  34.4190,2,  34.4190,2,   194.81,2,   194.63,2,    17.29,2,     0.16,    26.31,2,     0.11,     0.01,2,     0.01,    1.858,2,    0.015,    1.066,6,    0.532,6,    0.035,6,   2170.4,2,   2290.4,2,   7.6790,  25,2,  -999.00,9,  -999.00,   -999.0,9,   -999.0,   6.6196,  27.0128
  49NZ20090521,   P21,   225,  1,     26, X12008,2,20090607,0237,-17.8312, 176.3335, 3121,    730.9,2,   5.5924,2,   5.59233,2,  34.3879,2,  34.3878,2,   188.42,2,   188.38,2,    26.84,2,     0.18,    29.30,2,     0.11,     0.01,2,     0.01,    2.054,2,    0.015,    0.584,2,    0.291,2,    0.019,2,   2188.9,6,   2297.0,2,   7.6494,  25,2,  -999.00,9,  -999.00,   -999.0,9,   -999.0,   5.5298,  27.1273
  49NZ20090521,   P21,   225,  1,     25, X12007,2,20090607,0237,-17.8312, 176.3335, 3121,    830.2,2,   4.9433,2,   4.94180,2,  34.4073,2,  34.4074,2,   174.44,2,   174.44,2,    38.17,2,     0.20,    31.66,2,     0.12,     0.01,2,     0.01,    2.223,2,    0.016,    0.277,2,    0.142,2,    0.009,2,   2210.7,2,   2307.9,6,   7.6210,  25,2,  -999.00,9,  -999.00,   -999.0,9,   -999.0,   4.8756,  27.2196
  49NZ20090521,   P21,   225,  1,     24, X12035,2,20090607,0237,-17.8312, 176.3335, 3121,    929.9,2,   4.3672,2,   4.36728,2,  34.4348,2,  34.4350,2,   167.60,2,   167.57,2,    49.74,2,     0.23,    32.96,2,     0.13,     0.01,2,     0.01,    2.317,2,    0.016,    0.139,2,    0.071,2,    0.000,2,   2227.3,2,   2320.5,2,   7.6064,  25,6,  -999.00,9,  -999.00,   -999.0,9,   -999.0,   4.2948,  27.3055
  49NZ20090521,   P21,   225,  1,     23, X12038,2,20090607,0237,-17.8312, 176.3335, 3121,   1070.7,2,   3.8181,2,   3.81817,2,  34.4792,2,  34.4791,6,   158.39,2,   158.47,2,    64.31,2,     0.26,    34.19,2,     0.13,     0.01,2,     0.01,    2.408,2,    0.016,    0.059,2,    0.030,2,    0.000,2,   2247.2,2,   2336.7,2,   7.5906,  25,2,  -999.00,9,  -999.00,   -999.0,9,   -999.0,   3.7381,  27.3986
  49NZ20090521,   P21,   225,  1,     22, X12034,2,20090607,0237,-17.8312, 176.3335, 3121,   1270.9,2,   3.2938,2,   3.29372,2,  34.5309,2,  34.5312,2,   150.69,2,   150.80,2,    80.91,2,     0.30,    35.18,2,     0.13,     0.01,2,     0.01,    2.478,2,    0.016,    0.021,2,    0.014,2,    0.000,2,   2269.0,2,   2355.1,2,   7.5810,  25,2,  -999.00,9,  -999.00,   -999.0,9,   -999.0,   3.2019,  27.4919
  49NZ20090521,   P21,   225,  1,     21, X12033,2,20090607,0237,-17.8312, 176.3335, 3121,   1471.0,2,   2.8874,2,   2.88835,2,  34.5714,2,  34.5713,2,   147.32,2,   147.32,2,    93.91,2,     0.33,    35.52,2,     0.13,     0.01,2,     0.01,    2.509,2,    0.016,    0.006,2,    0.004,2,    0.000,2,   2284.3,2,   2370.2,2,   7.5775,  25,2,  -999.00,9,  -999.00,   -999.0,9,   -999.0,   2.7833,  27.5625
  49NZ20090521,   P21,   225,  1,     20, X12032,2,20090607,0237,-17.8312, 176.3335, 3121,   1670.9,2,   2.6200,2,   2.62008,2,  34.5975,2,  34.5973,6,   146.85,2,   146.84,2,   102.06,2,     0.34,    35.71,2,     0.13,     0.01,2,     0.01,    2.523,2,    0.016,    0.003,2,    0.003,2,    0.000,2,   2294.2,2,   2379.8,2,   7.5782,  25,2,  -999.00,9,  -999.00,   -999.0,9,   -999.0,   2.5025,  27.6079
  49NZ20090521,   P21,   225,  1,     19, X12046,2,20090607,0237,-17.8312, 176.3335, 3121,   1870.3,2,   2.3490,2,   2.34894,2,  34.6232,2,  34.6230,2,   147.56,2,   147.73,2,   109.62,2,     0.36,    35.71,2,     0.13,     0.01,2,     0.01,    2.522,2,    0.016,    0.001,2,    0.000,2,    0.000,2,   2300.9,2,   2388.5,2,   7.5811,  25,2,  -999.00,9,  -999.00,   -999.0,9,   -999.0,   2.2184,  27.6522
  49NZ20090521,   P21,   225,  1,     18, X12006,2,20090607,0237,-17.8312, 176.3335, 3121,   2070.8,2,   2.1905,2,   2.19055,2,  34.6385,2,  34.6385,2,   148.12,2,   148.14,2,   114.62,2,     0.37,    35.69,2,     0.13,     0.01,2,     0.01,    2.522,2,    0.016,    0.000,2,    0.000,2,    0.000,2,   2305.0,2,   2393.8,2,   7.5826,  25,2,  -999.00,9,  -999.00,   -999.0,9,   -999.0,   2.0451,  27.6785
  49NZ20090521,   P21,   225,  1,     17, X12047,2,20090607,0237,-17.8312, 176.3335, 3121,   2271.5,2,   2.1188,2,   2.11865,2,  34.6464,2,  34.6463,2,   148.51,2,   148.44,2,   116.71,2,     0.38,    35.74,2,     0.13,     0.01,2,     0.01,    2.525,2,    0.016,    0.000,2,    0.000,2,    0.000,2,   2307.5,2,   2396.5,2,   7.5836,  25,2,  -999.00,9,  -999.00,   -999.0,9,   -999.0,   1.9570,  27.6918
  49NZ20090521,   P21,   225,  1,     16, X12004,2,20090607,0237,-17.8312, 176.3335, 3121,   2471.8,2,   2.0843,2,   2.08429,2,  34.6511,2,  34.6510,6,   148.80,2,   148.82,2,   117.83,2,     0.38,    35.72,2,     0.13,     0.01,2,     0.01,    2.509,2,    0.016,    0.000,2,    0.001,2,    0.000,2,   2308.7,6,   2397.8,2,   7.5848,  25,2,  -999.00,9,  -999.00,   -999.0,9,   -999.0,   1.9050,  27.6996
  49NZ20090521,   P21,   225,  1,     15, X12003,2,20090607,0237,-17.8312, 176.3335, 3121,   2671.4,2,   2.0417,2,   2.04153,2,  34.6559,2,  34.6561,2,   149.18,2,   149.15,2,   119.19,2,     0.38,    35.73,2,     0.13,     0.01,2,     0.01,    2.516,2,    0.016,    0.000,2,    0.001,2,    0.000,2,   2299.3,4,   2399.5,6,   7.5846,  25,2,  -999.00,9,  -999.00,   -999.0,9,   -999.0,   1.8447,  27.7081
  49NZ20090521,   P21,   225,  1,     14, X12002,2,20090607,0237,-17.8312, 176.3335, 3121,   2870.4,2,   2.0162,2,   2.01611,2,  34.6599,2,  34.6597,2,   149.51,2,   149.47,2,   120.26,2,     0.38,    35.69,2,     0.13,     0.01,2,     0.01,    2.518,2,    0.016,    0.000,2,    0.000,2,    0.000,2,   2309.3,2,   2400.5,2,   7.5854,  25,6,  -999.00,9,  -999.00,   -999.0,9,   -999.0,   1.8008,  27.7148
  49NZ20090521,   P21,   225,  1,     13, X12001,2,20090607,0237,-17.8312, 176.3335, 3121,   3081.4,2,   2.0350,2,   2.03493,2,  34.6602,2,  34.6604,2,   149.57,2,   149.41,2,   120.44,2,     0.38,    35.72,2,     0.13,     0.01,2,     0.01,    2.517,2,    0.016,    0.000,2,    0.000,2,    0.000,2,   2309.9,2,   2401.0,2,   7.5858,  25,2,  -999.00,9,  -999.00,   -999.0,9,   -999.0,   1.7985,  27.7151
  49NZ20090521,   P21,   225,  1,     12, X12030,9,20090607,0237,-17.8312, 176.3335, 3121,     10.9,2,  27.1975,2,  27.20026,2,  34.8316,2,-999.0000,9,   199.93,2,  -999.00,9,  -999.00,9,  -999.00,  -999.00,9,  -999.00,  -999.00,9,  -999.00, -999.000,9, -999.000, -999.000,9, -999.000,9, -999.000,9,   -999.0,9,   -999.0,9,-999.0000,-999,9,  -999.00,9,  -999.00,   -999.0,9,   -999.0,  27.1950,  22.5285
  49NZ20090521,   P21,   225,  1,     11, X12044,9,20090607,0237,-17.8312, 176.3335, 3121,     50.7,2,  26.9889,2,  26.98734,2,  34.8327,2,-999.0000,9,   199.73,2,  -999.00,9,  -999.00,9,  -999.00,  -999.00,9,  -999.00,  -999.00,9,  -999.00, -999.000,9, -999.000, -999.000,9, -999.000,9, -999.000,9,   -999.0,9,   -999.0,9,-999.0000,-999,9,  -999.00,9,  -999.00,   -999.0,9,   -999.0,  26.9773,  22.5990
  49NZ20090521,   P21,   225,  1,     10, X12048,9,20090607,0237,-17.8312, 176.3335, 3121,     99.6,2,  25.0639,2,  25.07213,2,  35.4550,2,-999.0000,9,   174.93,2,  -999.00,9,  -999.00,9,  -999.00,  -999.00,9,  -999.00,  -999.00,9,  -999.00, -999.000,9, -999.000, -999.000,9, -999.000,9, -999.000,9,   -999.0,9,   -999.0,9,-999.0000,-999,9,  -999.00,9,  -999.00,   -999.0,9,   -999.0,  25.0422,  23.6722
  49NZ20090521,   P21,   225,  1,      9, X12027,9,20090607,0237,-17.8312, 176.3335, 3121,    151.1,2,  23.1385,2,  23.13681,2,  35.6239,2,-999.0000,9,   162.39,2,  -999.00,9,  -999.00,9,  -999.00,  -999.00,9,  -999.00,  -999.00,9,  -999.00, -999.000,9, -999.000, -999.000,9, -999.000,9, -999.000,9,   -999.0,9,   -999.0,9,-999.0000,-999,9,  -999.00,9,  -999.00,   -999.0,9,   -999.0,  23.1074,  24.3758
  49NZ20090521,   P21,   225,  1,      8, X12026,9,20090607,0237,-17.8312, 176.3335, 3121,    200.5,2,  21.6038,2,  21.61109,2,  35.7095,2,-999.0000,9,   159.22,2,  -999.00,9,  -999.00,9,  -999.00,  -999.00,9,  -999.00,  -999.00,9,  -999.00, -999.000,9, -999.000, -999.000,9, -999.000,9, -999.000,9,   -999.0,9,   -999.0,9,-999.0000,-999,9,  -999.00,9,  -999.00,   -999.0,9,   -999.0,  21.5645,  24.8788
  49NZ20090521,   P21,   225,  1,      7, X12025,9,20090607,0237,-17.8312, 176.3335, 3121,    251.0,2,  19.5034,2,  19.51444,2,  35.6259,2,-999.0000,9,   180.83,2,  -999.00,9,  -999.00,9,  -999.00,  -999.00,9,  -999.00,  -999.00,9,  -999.00, -999.000,9, -999.000, -999.000,9, -999.000,9, -999.000,9,   -999.0,9,   -999.0,9,-999.0000,-999,9,  -999.00,9,  -999.00,   -999.0,9,   -999.0,  19.4576,  25.3815
  49NZ20090521,   P21,   225,  1,      6, X12024,9,20090607,0237,-17.8312, 176.3335, 3121,    330.4,2,  15.8643,2,  15.86461,2,  35.2955,2,-999.0000,9,   180.64,2,  -999.00,9,  -999.00,9,  -999.00,  -999.00,9,  -999.00,  -999.00,9,  -999.00, -999.000,9, -999.000, -999.000,9, -999.000,9, -999.000,9,   -999.0,9,   -999.0,9,-999.0000,-999,9,  -999.00,9,  -999.00,   -999.0,9,   -999.0,  15.8120,  26.0179
  49NZ20090521,   P21,   225,  1,      5, X12028,9,20090607,0237,-17.8312, 176.3335, 3121,    430.7,2,  11.3626,2,  11.36342,2,  34.8123,2,-999.0000,9,   182.77,2,  -999.00,9,  -999.00,9,  -999.00,  -999.00,9,  -999.00,  -999.00,9,  -999.00, -999.000,9, -999.000, -999.000,9, -999.000,9, -999.000,9,   -999.0,9,   -999.0,9,-999.0000,-999,9,  -999.00,9,  -999.00,   -999.0,9,   -999.0,  11.3079,  26.5731
  49NZ20090521,   P21,   225,  1,      4, X12022,9,20090607,0237,-17.8312, 176.3335, 3121,    529.3,2,   8.2097,2,   8.20953,2,  34.5195,2,-999.0000,9,   185.31,2,  -999.00,9,  -999.00,9,  -999.00,  -999.00,9,  -999.00,  -999.00,9,  -999.00, -999.000,9, -999.000, -999.000,9, -999.000,9, -999.000,9,   -999.0,9,   -999.0,9,-999.0000,-999,9,  -999.00,9,  -999.00,   -999.0,9,   -999.0,   8.1545,  26.8733
  49NZ20090521,   P21,   225,  1,      3, X12021,9,20090607,0237,-17.8312, 176.3335, 3121,    630.9,2,   6.6818,2,   6.68239,2,  34.4190,2,-999.0000,9,   194.86,2,  -999.00,9,  -999.00,9,  -999.00,  -999.00,9,  -999.00,  -999.00,9,  -999.00, -999.000,9, -999.000, -999.000,9, -999.000,9, -999.000,9,   -999.0,9,   -999.0,9,-999.0000,-999,9,  -999.00,9,  -999.00,   -999.0,9,   -999.0,   6.6229,  27.0123
  49NZ20090521,   P21,   225,  1,      2, X12020,9,20090607,0237,-17.8312, 176.3335, 3121,   1469.8,2,   2.8893,2,   2.88937,2,  34.5713,2,-999.0000,9,   147.29,2,  -999.00,9,  -999.00,9,  -999.00,  -999.00,9,  -999.00,  -999.00,9,  -999.00, -999.000,9, -999.000, -999.000,9, -999.000,9, -999.000,9,   -999.0,9,   -999.0,9,-999.0000,-999,9,  -999.00,9,  -999.00,   -999.0,9,   -999.0,   2.7852,  27.5622
  49NZ20090521,   P21,   225,  1,      1, X12019,2,20090607,0237,-17.8312, 176.3335, 3121,   3143.1,2,   2.0416,2,   2.04155,2,  34.6602,2,  34.6603,6,   149.62,2,   149.48,2,   120.18,2,     0.38,    35.68,2,     0.13,     0.01,2,     0.01,    2.514,2,    0.016,    0.000,2,    0.000,2,    0.000,2,   2310.7,2,   2401.0,2,   7.5857,  25,2,  -999.00,9,  -999.00,   -999.0,9,   -999.0,   1.7987,  27.7152