BOTTLE,20111109CCHDOSIOCBG
EXPOCODE,SECT_ID,STNNBR,CASTNO,SAMPNO,BTLNBR,BTLNBR_FLAG_W,DATE,TIME,LATITUDE,LONGITUDE,DEPTH,CTDPRS,CTDPRS_FLAG_W,CTDTMP,CTDTMP_FLAG_W,SBE35,SBE35_FLAG_W,CTDSAL,CTDSAL_FLAG_W,SALNTY,SALNTY_FLAG_W,CTDOXY,CTDOXY_FLAG_W,OXYGEN,OXYGEN_FLAG_W,SILCAT,SILCAT_FLAG_W,SILUNC,NITRAT,NITRAT_FLAG_W,NRAUNC,NITRIT,NITRIT_FLAG_W,NRIUNC,PHSPHT,PHSPHT_FLAG_W,PHPUNC,CFC-11,CFC-11_FLAG_W,CFC-12,CFC-12_FLAG_W,CFC113,CFC113_FLAG_W,TCARBN,TCARBN_FLAG_W,ALKALI,ALKALI_FLAG_W,PH_TOT,PH_TMP,PH_TOT_FLAG_W,DELC13,DELC13_FLAG_W,C13ERR,DELC14,DELC14_FLAG_W,C14ERR,THETA,SIG0
,,,,,,,,,,,METERS,DBAR,,ITS-90,,ITS-90,,PSS-78,,PSS-78,,UMOL/KG,,UMOL/KG,,UMOL/KG,,UMOL/KG,UMOL/KG,,UMOL/KG,UMOL/KG,,UMOL/KG,UMOL/KG,,UMOL/KG,PMOL/KG,,PMOL/KG,,PMOL/KG,,UMOL/KG,,UMOL/KG,,,DEG C,,/MILLE,,/MILLE,/MILLE,,/MILLE,DEG C,KG/M^3
  49NZ20090521,   P21,   207,  1,      0,   -999,9,20090604,0316,-17.4993,-175.0022, 2379,   -999.0,9,-999.0000,9,-999.00000,9,-999.0000,9,  35.2522,2,  -999.00,9,  -999.00,9,  -999.00,9,  -999.00,  -999.00,9,  -999.00,  -999.00,9,  -999.00, -999.000,9, -999.000, -999.000,9, -999.000,9, -999.000,9,   -999.0,9,   -999.0,9,-999.0000,-999,9,  -999.00,9,  -999.00,   -999.0,9,   -999.0,-999.0000,-999.0000
  49NZ20090521,   P21,   207,  1,     36, X12043,2,20090604,0316,-17.4993,-175.0022, 2379,     10.2,2,  26.6725,2,  26.67299,2,  35.2332,2,  35.2316,2,   202.51,2,   202.80,2,     0.44,2,     0.12,     0.08,2,     0.03,     0.01,2,     0.01,    0.070,2,    0.027,    1.512,2,    0.949,2, -999.000,5,   1960.1,2,   2314.2,2,   8.1314,  25,6,  -999.00,9,  -999.00,   -999.0,9,   -999.0,  26.6702,  22.9985
  49NZ20090521,   P21,   207,  1,     35, X12042,2,20090604,0316,-17.4993,-175.0022, 2379,     50.6,2,  26.6573,2,  26.65694,2,  35.2308,2,  35.2305,2,   202.10,2,   202.62,2,     0.42,2,     0.12,     0.07,2,     0.03,     0.01,2,     0.01,    0.064,2,    0.029,    1.503,2,    0.948,2, -999.000,5,   1961.1,6,   2312.9,2,   8.1315,  25,2,  -999.00,9,  -999.00,   -999.0,9,   -999.0,  26.6458,  23.0044
  49NZ20090521,   P21,   207,  1,     34, X12016,2,20090604,0316,-17.4993,-175.0022, 2379,    100.6,2,  24.4102,2,  24.40954,2,  35.5599,2,  35.5603,2,   184.82,2,   185.00,2,     0.54,2,     0.12,     0.39,2,     0.03,     0.12,2,     0.01,    0.193,2,    0.016,    1.742,6,    1.073,6, -999.000,5,   2020.5,2,   2335.5,6,   8.0641,  25,2,  -999.00,9,  -999.00,   -999.0,9,   -999.0,  24.3887,  23.9493
  49NZ20090521,   P21,   207,  1,     33, X12015,2,20090604,0316,-17.4993,-175.0022, 2379,    149.9,2,  22.4914,2,  22.49163,2,  35.7469,2,  35.7482,2,   170.81,2,   170.89,2,     0.65,2,     0.12,     2.61,2,     0.04,     0.03,2,     0.01,    0.345,2,    0.014,    1.910,2,    1.143,2,    0.105,2,   2063.9,2,   2347.3,2,   8.0104,  25,2,  -999.00,9,  -999.00,   -999.0,9,   -999.0,  22.4612,  24.6549
  49NZ20090521,   P21,   207,  1,     32, X12050,2,20090604,0316,-17.4993,-175.0022, 2379,    200.5,2,  20.7887,2,  20.78969,2,  35.6707,2,  35.6712,2,   176.45,2,   176.16,2,     0.60,2,     0.12,     3.10,2,     0.04,     0.02,2,     0.01,    0.352,2,    0.014,    2.054,2,    1.206,2,    0.064,2,   2070.3,2,   2340.5,2,   7.9890,  25,2,  -999.00,9,  -999.00,   -999.0,9,   -999.0,  20.7504,  25.0725
  49NZ20090521,   P21,   207,  1,     31, X12014,2,20090604,0316,-17.4993,-175.0022, 2379,    250.0,2,  19.2889,2,  19.28402,2,  35.5897,2,  35.5900,6,   178.33,2,   178.47,2,     0.89,2,     0.12,     4.05,2,     0.04,     0.02,2,     0.01,    0.425,2,    0.013,    2.194,2,    1.257,2,    0.040,2,   2083.9,2,   2337.0,2,   7.9599,  25,2,  -999.00,9,  -999.00,   -999.0,9,   -999.0,  19.2436,  25.4093
  49NZ20090521,   P21,   207,  1,     30, X12012,2,20090604,0316,-17.4993,-175.0022, 2379,    279.9,2,  18.0565,2,  18.06054,2,  35.4749,2,  35.4754,2,   180.11,2,   180.41,2,     1.20,2,     0.12,     5.07,2,     0.05,     0.02,2,     0.01,    0.499,2,    0.013,    2.277,2,    1.294,2,    0.030,2,   2090.0,2,   2329.8,2,   7.9369,  25,2,  -999.00,9,  -999.00,   -999.0,9,   -999.0,  18.0081,  25.6339
  49NZ20090521,   P21,   207,  1,     29, X12041,2,20090604,0316,-17.4993,-175.0022, 2379,    371.0,2,  14.4509,2,  14.44399,2,  35.1259,2,  35.0933,2,   185.58,2,   184.59,2,     2.63,2,     0.12,     9.73,2,     0.06,     0.02,2,     0.01,    0.808,2,    0.013,    2.384,6,    1.288,6,    0.034,2,   2110.7,2,   2307.7,2,   7.8598,  25,2,  -999.00,9,  -999.00,   -999.0,9,   -999.0,  14.3958,  26.2003
  49NZ20090521,   P21,   207,  1,     28, X12040,2,20090604,0316,-17.4993,-175.0022, 2379,    470.2,2,  10.0350,2,  10.03710,2,  34.6563,2,  34.6568,6,   188.83,2,   188.67,2,     6.60,2,     0.13,    18.47,2,     0.08,     0.01,2,     0.01,    1.356,2,    0.014,    2.156,2,    1.090,2,    0.046,2,   2143.2,2,   2290.9,2,   7.7517,  25,2,  -999.00,9,  -999.00,   -999.0,9,   -999.0,   9.9798,  26.6870
  49NZ20090521,   P21,   207,  1,     27, X12009,2,20090604,0316,-17.4993,-175.0022, 2379,    571.3,2,   7.5521,2,   7.55150,2,  34.4378,2,  34.4379,2,   205.83,2,   205.91,2,     9.62,2,     0.14,    23.35,2,     0.10,     0.02,2,     0.01,    1.649,2,    0.014,    1.965,6,    0.959,6,    0.058,6,   2156.2,2,   2283.5,2,   7.7092,  25,2,  -999.00,9,  -999.00,   -999.0,9,   -999.0,   7.4953,  26.9061
  49NZ20090521,   P21,   207,  1,     26, X12008,2,20090604,0316,-17.4993,-175.0022, 2379,    670.1,2,   5.9362,2,   5.93625,2,  34.3583,2,  34.3581,2,   201.19,2,   201.39,2,    18.29,2,     0.16,    27.90,2,     0.11,     0.01,2,     0.01,    1.939,2,    0.015,    0.968,2,    0.475,2,    0.018,2,   2175.2,6,   2288.6,2,   7.6695,  25,2,  -999.00,9,  -999.00,   -999.0,9,   -999.0,   5.8773,  27.0611
  49NZ20090521,   P21,   207,  1,     25, X12007,2,20090604,0316,-17.4993,-175.0022, 2379,    770.7,2,   5.5603,2,   5.56049,2,  34.3580,2,  34.3574,2,   194.77,2,   194.93,2,    23.16,2,     0.17,    29.20,2,     0.11,     0.01,2,     0.01,    2.033,2,    0.015,    0.704,2,    0.345,2,    0.026,2,   2185.6,2,   2292.2,6,   7.6538,  25,2,  -999.00,9,  -999.00,   -999.0,9,   -999.0,   5.4943,  27.1079
  49NZ20090521,   P21,   207,  1,     24, X12035,2,20090604,0316,-17.4993,-175.0022, 2379,    871.1,2,   4.8147,2,   4.81484,2,  34.3775,2,  34.3771,2,   179.47,2,   180.09,2,    34.82,2,     0.20,    31.73,2,     0.12,     0.02,2,     0.01,    2.212,2,    0.016,    0.305,2,    0.155,2,    0.009,2,   2207.5,2,   2304.1,2,   7.6224,  25,6,  -999.00,9,  -999.00,   -999.0,9,   -999.0,   4.7444,  27.2108
  49NZ20090521,   P21,   207,  1,     23, X12038,2,20090604,0316,-17.4993,-175.0022, 2379,    970.3,2,   4.3116,2,   4.31324,2,  34.4038,2,  34.4021,3,   169.01,2,   169.56,2,    44.61,2,     0.22,    33.45,2,     0.13,     0.01,2,     0.01,    2.329,2,    0.016,    0.118,2,    0.062,2,    0.000,2,   2222.9,2,   2313.8,2,   7.6009,  25,2,  -999.00,9,  -999.00,   -999.0,9,   -999.0,   4.2362,  27.2872
  49NZ20090521,   P21,   207,  1,     22, X12034,2,20090604,0316,-17.4993,-175.0022, 2379,   1131.0,2,   3.6665,2,   3.66892,2,  34.4834,2,  34.4811,3,   155.69,2,   156.62,2,    65.71,2,     0.26,    34.58,2,     0.13,     0.02,2,     0.01,    2.438,2,    0.016,    0.040,2,    0.021,2,    0.000,2,   2252.2,2,   2337.6,2,   7.5849,  25,2,  -999.00,9,  -999.00,   -999.0,9,   -999.0,   3.5828,  27.4174
  49NZ20090521,   P21,   207,  1,     21, X12033,2,20090604,0316,-17.4993,-175.0022, 2379,   1331.4,2,   3.1228,2,   3.12079,2,  34.5357,2,  34.5363,2,   151.19,2,   151.70,2,    83.29,2,     0.30,    35.34,2,     0.13,     0.01,2,     0.01,    2.484,2,    0.016,    0.018,2,    0.007,2,    0.000,2,   2272.2,2,   2357.8,2,   7.5791,  25,2,  -999.00,9,  -999.00,   -999.0,9,   -999.0,   3.0276,  27.5119
  49NZ20090521,   P21,   207,  1,     20, X12032,2,20090604,0316,-17.4993,-175.0022, 2379,   1530.1,2,   2.7185,2,   2.71881,2,  34.5769,2,  34.5774,6,   148.96,2,   149.32,2,    97.13,2,     0.33,    35.65,2,     0.13,     0.01,2,     0.01,    2.510,2,    0.016,    0.006,2,    0.007,2,    0.000,2,   2288.1,2,   2373.7,2,   7.5793,  25,6,  -999.00,9,  -999.00,   -999.0,9,   -999.0,   2.6114,  27.5820
  49NZ20090521,   P21,   207,  1,     19, X12046,2,20090604,0316,-17.4993,-175.0022, 2379,   1731.1,2,   2.4817,2,   2.48166,2,  34.6035,2,  34.6045,3,   147.03,2,   147.34,2,   106.07,2,     0.35,    35.78,2,     0.13,     0.01,2,     0.01,    2.522,2,    0.016,    0.005,2,    0.009,2,    0.000,2,   2299.5,2,   2383.6,2,   7.5788,  25,2,  -999.00,9,  -999.00,   -999.0,9,   -999.0,   2.3610,  27.6246
  49NZ20090521,   P21,   207,  1,     18, X12006,2,20090604,0316,-17.4993,-175.0022, 2379,   1931.1,2,   2.4054,2,   2.40490,2,  34.6137,2,  34.6140,6,   146.01,2,   146.35,2,   109.56,2,     0.36,    35.86,2,     0.13,     0.01,2,     0.01,    2.532,2,    0.016,    0.002,2,    0.009,2,    0.000,2,   2303.6,2,   2388.0,2,   7.5780,  25,2,  -999.00,9,  -999.00,   -999.0,9,   -999.0,   2.2688,  27.6404
  49NZ20090521,   P21,   207,  1,     17, X12047,2,20090604,0316,-17.4993,-175.0022, 2379,   2131.6,2,   2.3223,2,   2.32218,2,  34.6240,2,  34.6253,3,   145.31,2,   145.51,2,   113.14,2,     0.37,    36.04,2,     0.13,     0.02,2,     0.01,    2.533,2,    0.016,    0.002,2,    0.005,2,    0.000,2,   2308.0,2,   2391.8,2,   7.5785,  25,2,  -999.00,9,  -999.00,   -999.0,9,   -999.0,   2.1695,  27.6568
  49NZ20090521,   P21,   207,  1,     16, X12004,2,20090604,0316,-17.4993,-175.0022, 2379,   2332.7,2,   2.2935,2,   2.29349,2,  34.6283,2,  34.6284,2,   145.18,2,   145.33,2,   114.51,2,     0.37,    36.18,2,     0.13,     0.01,2,     0.01,    2.541,2,    0.016,    0.002,2,    0.003,2,    0.000,2,   2309.7,6,   2394.0,2,   7.5786,  25,2,  -999.00,9,  -999.00,   -999.0,9,   -999.0,   2.1232,  27.6640
  49NZ20090521,   P21,   207,  1,     15, X12003,9,20090604,0316,-17.4993,-175.0022, 2379,     10.8,2,  26.6726,2,  26.67363,2,  35.2332,2,-999.0000,9,   202.39,2,  -999.00,9,  -999.00,9,  -999.00,  -999.00,9,  -999.00,  -999.00,9,  -999.00, -999.000,9, -999.000, -999.000,9, -999.000,9, -999.000,9,   -999.0,9,   -999.0,9,-999.0000,-999,9,  -999.00,9,  -999.00,   -999.0,9,   -999.0,  26.6701,  22.9984
  49NZ20090521,   P21,   207,  1,     14, X12002,9,20090604,0316,-17.4993,-175.0022, 2379,    150.3,2,  22.4931,2,  22.49261,2,  35.7464,2,-999.0000,9,   171.15,2,  -999.00,9,  -999.00,9,  -999.00,  -999.00,9,  -999.00,  -999.00,9,  -999.00, -999.000,9, -999.000, -999.000,9, -999.000,9, -999.000,9,   -999.0,9,   -999.0,9,-999.0000,-999,9,  -999.00,9,  -999.00,   -999.0,9,   -999.0,  22.4628,  24.6541
  49NZ20090521,   P21,   207,  1,     13, X12001,9,20090604,0316,-17.4993,-175.0022, 2379,    200.8,2,  20.7813,2,  20.78325,2,  35.6689,2,-999.0000,9,   176.62,2,  -999.00,9,  -999.00,9,  -999.00,  -999.00,9,  -999.00,  -999.00,9,  -999.00, -999.000,9, -999.000, -999.000,9, -999.000,9, -999.000,9,   -999.0,9,   -999.0,9,-999.0000,-999,9,  -999.00,9,  -999.00,   -999.0,9,   -999.0,  20.7430,  25.0732
  49NZ20090521,   P21,   207,  1,     12, X12030,9,20090604,0316,-17.4993,-175.0022, 2379,    250.9,2,  19.2725,2,  19.27578,2,  35.5885,2,-999.0000,9,   178.52,2,  -999.00,9,  -999.00,9,  -999.00,  -999.00,9,  -999.00,  -999.00,9,  -999.00, -999.000,9, -999.000, -999.000,9, -999.000,9, -999.000,9,   -999.0,9,   -999.0,9,-999.0000,-999,9,  -999.00,9,  -999.00,   -999.0,9,   -999.0,  19.2271,  25.4127
  49NZ20090521,   P21,   207,  1,     11, X12044,9,20090604,0316,-17.4993,-175.0022, 2379,    280.2,2,  18.0775,2,  18.07683,2,  35.4772,2,-999.0000,9,   180.28,2,  -999.00,9,  -999.00,9,  -999.00,  -999.00,9,  -999.00,  -999.00,9,  -999.00, -999.000,9, -999.000, -999.000,9, -999.000,9, -999.000,9,   -999.0,9,   -999.0,9,-999.0000,-999,9,  -999.00,9,  -999.00,   -999.0,9,   -999.0,  18.0290,  25.6305
  49NZ20090521,   P21,   207,  1,     10, X12048,9,20090604,0316,-17.4993,-175.0022, 2379,    370.0,2,  14.3837,2,  14.38828,2,  35.0989,2,-999.0000,9,   184.90,2,  -999.00,9,  -999.00,9,  -999.00,  -999.00,9,  -999.00,  -999.00,9,  -999.00, -999.000,9, -999.000, -999.000,9, -999.000,9, -999.000,9,   -999.0,9,   -999.0,9,-999.0000,-999,9,  -999.00,9,  -999.00,   -999.0,9,   -999.0,  14.3289,  26.1938
  49NZ20090521,   P21,   207,  1,      9, X12027,9,20090604,0316,-17.4993,-175.0022, 2379,    471.1,2,  10.0306,2,  10.03226,2,  34.6561,2,-999.0000,9,   188.70,2,  -999.00,9,  -999.00,9,  -999.00,  -999.00,9,  -999.00,  -999.00,9,  -999.00, -999.000,9, -999.000, -999.000,9, -999.000,9, -999.000,9,   -999.0,9,   -999.0,9,-999.0000,-999,9,  -999.00,9,  -999.00,   -999.0,9,   -999.0,   9.9753,  26.6876
  49NZ20090521,   P21,   207,  1,      8, X12026,9,20090604,0316,-17.4993,-175.0022, 2379,    572.3,2,   7.5493,2,   7.55024,2,  34.4379,2,-999.0000,9,   205.96,2,  -999.00,9,  -999.00,9,  -999.00,  -999.00,9,  -999.00,  -999.00,9,  -999.00, -999.000,9, -999.000, -999.000,9, -999.000,9, -999.000,9,   -999.0,9,   -999.0,9,-999.0000,-999,9,  -999.00,9,  -999.00,   -999.0,9,   -999.0,   7.4924,  26.9066
  49NZ20090521,   P21,   207,  1,      7, X12025,9,20090604,0316,-17.4993,-175.0022, 2379,    669.8,2,   5.9357,2,   5.93627,2,  34.3585,2,-999.0000,9,   201.33,2,  -999.00,9,  -999.00,9,  -999.00,  -999.00,9,  -999.00,  -999.00,9,  -999.00, -999.000,9, -999.000, -999.000,9, -999.000,9, -999.000,9,   -999.0,9,   -999.0,9,-999.0000,-999,9,  -999.00,9,  -999.00,   -999.0,9,   -999.0,   5.8769,  27.0612
  49NZ20090521,   P21,   207,  1,      6, X12024,9,20090604,0316,-17.4993,-175.0022, 2379,    771.7,2,   5.5605,2,   5.56053,2,  34.3579,2,-999.0000,9,   194.80,2,  -999.00,9,  -999.00,9,  -999.00,  -999.00,9,  -999.00,  -999.00,9,  -999.00, -999.000,9, -999.000, -999.000,9, -999.000,9, -999.000,9,   -999.0,9,   -999.0,9,-999.0000,-999,9,  -999.00,9,  -999.00,   -999.0,9,   -999.0,   5.4944,  27.1079
  49NZ20090521,   P21,   207,  1,      5, X12028,9,20090604,0316,-17.4993,-175.0022, 2379,    871.0,2,   4.8181,2,   4.81753,2,  34.3774,2,-999.0000,9,   179.52,2,  -999.00,9,  -999.00,9,  -999.00,  -999.00,9,  -999.00,  -999.00,9,  -999.00, -999.000,9, -999.000, -999.000,9, -999.000,9, -999.000,9,   -999.0,9,   -999.0,9,-999.0000,-999,9,  -999.00,9,  -999.00,   -999.0,9,   -999.0,   4.7477,  27.2103
  49NZ20090521,   P21,   207,  1,      4, X12022,9,20090604,0316,-17.4993,-175.0022, 2379,    971.0,2,   4.3177,2,   4.31889,2,  34.4024,2,-999.0000,9,   169.22,2,  -999.00,9,  -999.00,9,  -999.00,  -999.00,9,  -999.00,  -999.00,9,  -999.00, -999.000,9, -999.000, -999.000,9, -999.000,9, -999.000,9,   -999.0,9,   -999.0,9,-999.0000,-999,9,  -999.00,9,  -999.00,   -999.0,9,   -999.0,   4.2422,  27.2854
  49NZ20090521,   P21,   207,  1,      3, X12021,9,20090604,0316,-17.4993,-175.0022, 2379,   1130.5,2,   3.6701,2,   3.67563,2,  34.4825,2,-999.0000,9,   155.86,2,  -999.00,9,  -999.00,9,  -999.00,  -999.00,9,  -999.00,  -999.00,9,  -999.00, -999.000,9, -999.000, -999.000,9, -999.000,9, -999.000,9,   -999.0,9,   -999.0,9,-999.0000,-999,9,  -999.00,9,  -999.00,   -999.0,9,   -999.0,   3.5864,  27.4163
  49NZ20090521,   P21,   207,  1,      2, X12020,9,20090604,0316,-17.4993,-175.0022, 2379,   1330.3,2,   3.1195,2,   3.11884,2,  34.5360,2,-999.0000,9,   151.18,2,  -999.00,9,  -999.00,9,  -999.00,  -999.00,9,  -999.00,  -999.00,9,  -999.00, -999.000,9, -999.000, -999.000,9, -999.000,9, -999.000,9,   -999.0,9,   -999.0,9,-999.0000,-999,9,  -999.00,9,  -999.00,   -999.0,9,   -999.0,   3.0245,  27.5125
  49NZ20090521,   P21,   207,  1,      1, X12019,2,20090604,0316,-17.4993,-175.0022, 2379,   2388.8,2,   2.2989,2,   2.29863,2,  34.6281,2,  34.6284,6,   145.22,2,   145.32,2,   114.38,2,     0.37,    36.12,2,     0.13,     0.01,2,     0.01,    2.537,2,    0.016,    0.004,2,    0.005,2,    0.000,2,   2310.0,2,   2393.3,2,   7.5791,  25,2,  -999.00,9,  -999.00,   -999.0,9,   -999.0,   2.1234,  27.6638