BOTTLE,20111109CCHDOSIOCBG
EXPOCODE,SECT_ID,STNNBR,CASTNO,SAMPNO,BTLNBR,BTLNBR_FLAG_W,DATE,TIME,LATITUDE,LONGITUDE,DEPTH,CTDPRS,CTDPRS_FLAG_W,CTDTMP,CTDTMP_FLAG_W,SBE35,SBE35_FLAG_W,CTDSAL,CTDSAL_FLAG_W,SALNTY,SALNTY_FLAG_W,CTDOXY,CTDOXY_FLAG_W,OXYGEN,OXYGEN_FLAG_W,SILCAT,SILCAT_FLAG_W,SILUNC,NITRAT,NITRAT_FLAG_W,NRAUNC,NITRIT,NITRIT_FLAG_W,NRIUNC,PHSPHT,PHSPHT_FLAG_W,PHPUNC,CFC-11,CFC-11_FLAG_W,CFC-12,CFC-12_FLAG_W,CFC113,CFC113_FLAG_W,TCARBN,TCARBN_FLAG_W,ALKALI,ALKALI_FLAG_W,PH_TOT,PH_TMP,PH_TOT_FLAG_W,DELC13,DELC13_FLAG_W,C13ERR,DELC14,DELC14_FLAG_W,C14ERR,THETA,SIG0
,,,,,,,,,,,METERS,DBAR,,ITS-90,,ITS-90,,PSS-78,,PSS-78,,UMOL/KG,,UMOL/KG,,UMOL/KG,,UMOL/KG,UMOL/KG,,UMOL/KG,UMOL/KG,,UMOL/KG,UMOL/KG,,UMOL/KG,PMOL/KG,,PMOL/KG,,PMOL/KG,,UMOL/KG,,UMOL/KG,,,DEG C,,/MILLE,,/MILLE,/MILLE,,/MILLE,DEG C,KG/M^3
  49NZ20090521,   P21,   173,  1,      0,   -999,9,20090526,1917,-17.4990,-154.9953, 4338,   -999.0,9,-999.0000,9,-999.00000,9,-999.0000,9,  35.9439,2,  -999.00,9,  -999.00,9,  -999.00,9,  -999.00,  -999.00,9,  -999.00,  -999.00,9,  -999.00, -999.000,9, -999.000, -999.000,9, -999.000,9, -999.000,9,   -999.0,9,   -999.0,9,-999.0000,-999,9,  -999.00,9,  -999.00,   -999.0,9,   -999.0,-999.0000,-999.0000
  49NZ20090521,   P21,   173,  1,     36, X12043,2,20090526,1917,-17.4990,-154.9953, 4338,     10.9,2,  28.3360,2,  28.33664,2,  35.9380,2,  35.9367,2,   195.02,2,   196.10,2,     0.84,2,     0.12,     0.07,2,     0.03,     0.01,2,     0.01,    0.188,2,    0.016,    1.407,2,    0.894,2, -999.000,5,   -999.0,9,   -999.0,9,-999.0000,-999,9,  -999.00,9,  -999.00,   -999.0,9,   -999.0,  28.3334,  22.9905
  49NZ20090521,   P21,   173,  1,     35, X12042,2,20090526,1917,-17.4990,-154.9953, 4338,     50.4,2,  28.3260,2,  28.32642,2,  35.9378,2,  35.9402,2,   194.62,2,   196.20,2,     0.77,2,     0.12,     0.06,2,     0.03,     0.01,2,     0.01,    0.187,2,    0.016,    1.417,2,    0.901,2, -999.000,5,   -999.0,9,   -999.0,9,-999.0000,-999,9,  -999.00,9,  -999.00,   -999.0,9,   -999.0,  28.3140,  22.9967
  49NZ20090521,   P21,   173,  1,     34, X12016,2,20090526,1917,-17.4990,-154.9953, 4338,    100.8,2,  25.7393,2,  25.72643,2,  36.2590,2,  36.2625,2,   203.47,2,   204.15,2,     0.72,2,     0.12,     0.06,2,     0.03,     0.01,2,     0.01,    0.183,2,    0.017,    1.631,6,    1.019,6, -999.000,5,   -999.0,9,   -999.0,9,-999.0000,-999,9,  -999.00,9,  -999.00,   -999.0,9,   -999.0,  25.7169,  24.0720
  49NZ20090521,   P21,   173,  1,     33, X12015,2,20090526,1917,-17.4990,-154.9953, 4338,    150.5,2,  24.3815,2,  24.38658,2,  36.2070,2,  36.2106,2,   182.86,2,   184.96,2,     0.68,2,     0.12,     0.62,2,     0.03,     0.19,2,     0.01,    0.277,2,    0.014,    1.727,2,    1.056,2, -999.000,5,   -999.0,9,   -999.0,9,-999.0000,-999,9,  -999.00,9,  -999.00,   -999.0,9,   -999.0,  24.3493,  24.4510
  49NZ20090521,   P21,   173,  1,     32, X12050,2,20090526,1917,-17.4990,-154.9953, 4338,    200.9,2,  22.7930,2,  22.78508,2,  36.0777,2,  36.0934,2,   171.67,2,   171.89,2,     0.74,2,     0.12,     2.60,2,     0.04,     0.03,2,     0.01,    0.407,2,    0.013,    1.874,2,    1.124,2,    0.101,2,   -999.0,9,   -999.0,9,-999.0000,-999,9,  -999.00,9,  -999.00,   -999.0,9,   -999.0,  22.7520,  24.8229
  49NZ20090521,   P21,   173,  1,     31, X12014,2,20090526,1917,-17.4990,-154.9953, 4338,    251.6,2,  20.6143,2,  20.62293,2,  35.7871,2,  35.8020,6,   172.72,2,   172.81,2,     0.91,2,     0.12,     3.88,2,     0.04,     0.01,2,     0.01,    0.483,2,    0.013,    2.100,2,    1.223,2,    0.051,2,   -999.0,9,   -999.0,9,-999.0000,-999,9,  -999.00,9,  -999.00,   -999.0,9,   -999.0,  20.5665,  25.2109
  49NZ20090521,   P21,   173,  1,     30, X12012,2,20090526,1917,-17.4990,-154.9953, 4338,    280.5,2,  19.1012,2,  19.10608,2,  35.5746,2,  35.5878,2,   173.54,2,   174.28,2,     1.29,2,     0.12,     5.01,2,     0.05,     0.01,2,     0.01,    0.562,2,    0.013,    2.194,2,    1.249,2,    0.028,2,   -999.0,9,   -999.0,9,-999.0000,-999,9,  -999.00,9,  -999.00,   -999.0,9,   -999.0,  19.0507,  25.4475
  49NZ20090521,   P21,   173,  1,     29, X12041,2,20090526,1917,-17.4990,-154.9953, 4338,    371.3,2,  15.4765,2,  15.48174,2,  35.0997,2,  35.1000,2,   167.07,2,   167.83,2,     3.45,2,     0.13,     9.80,2,     0.06,     0.01,2,     0.01,    0.900,2,    0.013,    2.255,6,    1.230,6,    0.025,6,   -999.0,9,   -999.0,9,-999.0000,-999,9,  -999.00,9,  -999.00,   -999.0,9,   -999.0,  15.4187,  25.9559
  49NZ20090521,   P21,   173,  1,     28, X12040,2,20090526,1917,-17.4990,-154.9953, 4338,    471.4,2,   9.0500,2,   9.03882,2,  34.5262,2,  34.5299,6,   158.94,2,   159.04,2,    12.40,2,     0.15,    23.33,2,     0.10,     0.01,2,     0.01,    1.746,2,    0.014,    1.537,2,    0.749,2,    0.026,2,   -999.0,9,   -999.0,9,-999.0000,-999,9,  -999.00,9,  -999.00,   -999.0,9,   -999.0,   8.9981,  26.7474
  49NZ20090521,   P21,   173,  1,     27, X12009,2,20090526,1917,-17.4990,-154.9953, 4338,    571.5,2,   6.7141,2,   6.71505,2,  34.3874,2,  34.3873,2,   181.78,2,   182.08,2,    16.50,2,     0.16,    27.57,2,     0.11,     0.01,2,     0.01,    1.967,2,    0.015,    1.165,6,    0.572,6,    0.026,6,   -999.0,9,   -999.0,9,-999.0000,-999,9,  -999.00,9,  -999.00,   -999.0,9,   -999.0,   6.6609,  26.9824
  49NZ20090521,   P21,   173,  1,     26, X12008,2,20090526,1917,-17.4990,-154.9953, 4338,    670.2,2,   5.6746,2,   5.67503,2,  34.3649,2,  34.3674,2,   181.16,2,   182.64,2,    24.29,2,     0.17,    30.00,2,     0.12,     0.01,2,     0.01,    2.098,2,    0.015,    0.641,2,    0.317,2,    0.014,2,   -999.0,9,   -999.0,9,-999.0000,-999,9,  -999.00,9,  -999.00,   -999.0,9,   -999.0,   5.6171,  27.0984
  49NZ20090521,   P21,   173,  1,     25, X12007,2,20090526,1917,-17.4990,-154.9953, 4338,    771.2,2,   4.9297,2,   4.93071,2,  34.4282,2,  34.4280,2,   156.69,2,   157.30,2,    42.61,2,     0.21,    33.13,2,     0.13,     0.01,2,     0.01,    2.327,2,    0.016,    0.112,2,    0.059,2,    0.000,2,   -999.0,9,   -999.0,9,-999.0000,-999,9,  -999.00,9,  -999.00,   -999.0,9,   -999.0,   4.8672,  27.2371
  49NZ20090521,   P21,   173,  1,     24, X12035,2,20090526,1917,-17.4990,-154.9953, 4338,    869.2,2,   4.2987,2,   4.29949,2,  34.4550,2,  34.4548,2,   153.56,2,   154.08,2,    54.38,2,     0.24,    34.17,2,     0.13,     0.01,2,     0.01,    2.406,2,    0.016,    0.043,2,    0.024,2,    0.000,2,   -999.0,9,   -999.0,9,-999.0000,-999,9,  -999.00,9,  -999.00,   -999.0,9,   -999.0,   4.2319,  27.3283
  49NZ20090521,   P21,   173,  1,     23, X12038,2,20090526,1917,-17.4990,-154.9953, 4338,    971.0,2,   3.8750,2,   3.87438,2,  34.4885,2,  34.4877,6,   148.81,2,   148.92,2,    65.23,2,     0.26,    34.99,2,     0.13,     0.01,2,     0.01,    2.461,2,    0.016,    0.018,2,    0.011,2,    0.000,2,   -999.0,9,   -999.0,9,-999.0000,-999,9,  -999.00,9,  -999.00,   -999.0,9,   -999.0,   3.8027,  27.3995
  49NZ20090521,   P21,   173,  1,     22, X12034,2,20090526,1917,-17.4990,-154.9953, 4338,   1129.2,2,   3.4595,2,   3.45950,2,  34.5228,2,  34.5225,2,   144.78,2,   144.85,2,    76.86,2,     0.29,    35.56,2,     0.13,     0.01,2,     0.01,    2.511,2,    0.016,    0.005,2,    0.003,2,    0.000,2,   -999.0,9,   -999.0,9,-999.0000,-999,9,  -999.00,9,  -999.00,   -999.0,9,   -999.0,   3.3776,  27.4687
  49NZ20090521,   P21,   173,  1,     21, X12033,2,20090526,1917,-17.4990,-154.9953, 4338,   1329.9,2,   3.0605,2,   3.06023,2,  34.5562,2,  34.5562,2,   143.25,2,   143.37,2,    87.74,2,     0.31,    36.03,2,     0.13,     0.01,2,     0.01,    2.539,2,    0.016,    0.000,2,    0.000,2,    0.000,2,   -999.0,9,   -999.0,9,-999.0000,-999,9,  -999.00,9,  -999.00,   -999.0,9,   -999.0,   2.9661,  27.5339
  49NZ20090521,   P21,   173,  1,     20, X12032,2,20090526,1917,-17.4990,-154.9953, 4338,   1529.8,2,   2.7311,2,   2.73111,2,  34.5820,2,  34.5819,2,   144.88,2,   144.87,2,    96.30,2,     0.33,    35.95,2,     0.13,     0.01,2,     0.01,    2.532,2,    0.016,    0.000,2,    0.000,2,    0.000,2,   -999.0,9,   -999.0,9,-999.0000,-999,9,  -999.00,9,  -999.00,   -999.0,9,   -999.0,   2.6239,  27.5850
  49NZ20090521,   P21,   173,  1,     19, X12046,2,20090526,1917,-17.4990,-154.9953, 4338,   1731.4,2,   2.4704,2,   2.47033,2,  34.6066,2,  34.6069,2,   145.53,2,   145.61,2,   104.46,2,     0.35,    35.97,2,     0.13,     0.01,2,     0.01,    2.537,2,    0.016,    0.000,2,    0.000,2,    0.000,2,   -999.0,9,   -999.0,9,-999.0000,-999,9,  -999.00,9,  -999.00,   -999.0,9,   -999.0,   2.3498,  27.6281
  49NZ20090521,   P21,   173,  1,     18, X12006,2,20090526,1917,-17.4990,-154.9953, 4338,   1931.0,2,   2.2806,2,   2.28058,2,  34.6221,2,  34.6222,2,   147.97,2,   147.97,2,   109.23,2,     0.36,    35.91,2,     0.13,     0.01,2,     0.01,    2.528,2,    0.016,    0.000,2,    0.000,2,    0.000,2,   -999.0,9,   -999.0,9,-999.0000,-999,9,  -999.00,9,  -999.00,   -999.0,9,   -999.0,   2.1458,  27.6572
  49NZ20090521,   P21,   173,  1,     17, X12047,2,20090526,1917,-17.4990,-154.9953, 4338,   2131.1,2,   2.1011,2,   2.10096,2,  34.6376,2,  34.6377,6,   149.98,2,   150.17,2,   114.10,2,     0.37,    35.75,2,     0.13,     0.01,2,     0.01,    2.520,2,    0.016,    0.000,2,    0.000,2,    0.000,2,   -999.0,9,   -999.0,9,-999.0000,-999,9,  -999.00,9,  -999.00,   -999.0,9,   -999.0,   1.9519,  27.6851
  49NZ20090521,   P21,   173,  1,     16, X12004,2,20090526,1917,-17.4990,-154.9953, 4338,   2330.0,2,   2.0002,2,   2.00018,2,  34.6469,2,  34.6469,2,   151.35,2,   151.54,2,   116.79,2,     0.38,    35.76,2,     0.13,     0.01,2,     0.01,    2.507,2,    0.016,    0.000,2,    0.000,2,    0.000,2,   -999.0,9,   -999.0,9,-999.0000,-999,9,  -999.00,9,  -999.00,   -999.0,9,   -999.0,   1.8352,  27.7016
  49NZ20090521,   P21,   173,  1,     15, X12003,2,20090526,1917,-17.4990,-154.9953, 4338,   2531.8,2,   1.9155,2,   1.91551,2,  34.6547,2,  34.6548,2,   153.43,2,   153.53,2,   118.94,2,     0.38,    35.59,2,     0.13,     0.01,2,     0.01,    2.498,2,    0.016,    0.000,2,    0.000,2,    0.000,2,   -999.0,9,   -999.0,9,-999.0000,-999,9,  -999.00,9,  -999.00,   -999.0,9,   -999.0,   1.7339,  27.7157
  49NZ20090521,   P21,   173,  1,     14, X12002,2,20090526,1917,-17.4990,-154.9953, 4338,   2730.9,2,   1.8224,2,   1.82241,2,  34.6628,2,  34.6623,2,   156.20,2,   156.37,2,   120.92,2,     0.39,    35.42,2,     0.13,     0.01,2,     0.01,    2.484,2,    0.016,    0.000,2,    0.000,2,    0.000,2,   -999.0,9,   -999.0,9,-999.0000,-999,9,  -999.00,9,  -999.00,   -999.0,9,   -999.0,   1.6242,  27.7304
  49NZ20090521,   P21,   173,  1,     13, X12001,2,20090526,1917,-17.4990,-154.9953, 4338,   2932.1,2,   1.7430,2,   1.74272,2,  34.6691,2,  34.6690,2,   159.79,2,   159.91,2,   121.66,2,     0.39,    35.21,2,     0.13,     0.01,2,     0.01,    2.475,2,    0.016,    0.000,2,    0.000,2,    0.000,2,   -999.0,9,   -999.0,9,-999.0000,-999,9,  -999.00,9,  -999.00,   -999.0,9,   -999.0,   1.5274,  27.7426
  49NZ20090521,   P21,   173,  1,     12, X12030,2,20090526,1917,-17.4990,-154.9953, 4338,   3170.7,2,   1.6581,2,   1.65805,2,  34.6760,2,  34.6759,2,   163.74,2,   163.94,2,   122.19,2,     0.39,    34.88,2,     0.13,     0.01,2,     0.01,    2.451,2,    0.016,    0.000,2,    0.000,2,    0.000,2,   -999.0,9,   -999.0,9,-999.0000,-999,9,  -999.00,9,  -999.00,   -999.0,9,   -999.0,   1.4212,  27.7559
  49NZ20090521,   P21,   173,  1,     11, X12044,2,20090526,1917,-17.4990,-154.9953, 4338,   3422.0,2,   1.5748,2,   1.57472,2,  34.6825,2,  34.6822,6,   168.72,2,   168.90,2,   122.41,2,     0.39,    34.55,2,     0.13,     0.01,2,     0.01,    2.425,2,    0.016,    0.000,2,    0.000,2,    0.000,2,   -999.0,9,   -999.0,9,-999.0000,-999,9,  -999.00,9,  -999.00,   -999.0,9,   -999.0,   1.3147,  27.7687
  49NZ20090521,   P21,   173,  1,     10, X12048,2,20090526,1917,-17.4990,-154.9953, 4338,   3669.7,2,   1.5179,2,   1.51789,2,  34.6871,2,  34.6871,2,   173.54,2,   173.79,2,   121.47,2,     0.39,    34.22,2,     0.13,     0.01,2,     0.01,    2.394,2,    0.016,    0.000,2,    0.000,2,    0.000,2,   -999.0,9,   -999.0,9,-999.0000,-999,9,  -999.00,9,  -999.00,   -999.0,9,   -999.0,   1.2337,  27.7781
  49NZ20090521,   P21,   173,  1,      9, X12027,2,20090526,1917,-17.4990,-154.9953, 4338,   3920.9,2,   1.4572,2,   1.45718,2,  34.6918,2,  34.6914,2,   178.73,2,   178.87,2,   120.27,2,     0.38,    33.88,2,     0.13,     0.01,2,     0.01,    2.371,2,    0.016,    0.000,2,    0.000,2,    0.000,2,   -999.0,9,   -999.0,9,-999.0000,-999,9,  -999.00,9,  -999.00,   -999.0,9,   -999.0,   1.1480,  27.7877
  49NZ20090521,   P21,   173,  1,      8, X12026,2,20090526,1917,-17.4990,-154.9953, 4338,   4171.4,2,   1.4463,2,   1.44614,2,  34.6937,2,  34.6937,2,   180.99,2,   181.03,2,   120.08,2,     0.38,    33.75,2,     0.13,     0.01,2,     0.01,    2.360,2,    0.016,    0.000,2,    0.000,2,    0.000,2,   -999.0,9,   -999.0,9,-999.0000,-999,9,  -999.00,9,  -999.00,   -999.0,9,   -999.0,   1.1101,  27.7918
  49NZ20090521,   P21,   173,  1,      7, X12025,9,20090526,1917,-17.4990,-154.9953, 4338,     50.9,2,  28.3278,2,  28.32779,2,  35.9381,2,-999.0000,9,   194.82,2,  -999.00,9,  -999.00,9,  -999.00,  -999.00,9,  -999.00,  -999.00,9,  -999.00, -999.000,9, -999.000, -999.000,9, -999.000,9, -999.000,9,   -999.0,9,   -999.0,9,-999.0000,-999,9,  -999.00,9,  -999.00,   -999.0,9,   -999.0,  28.3157,  22.9964
  49NZ20090521,   P21,   173,  1,      6, X12024,9,20090526,1917,-17.4990,-154.9953, 4338,     10.5,2,  28.3384,2,  28.33875,2,  35.9383,2,-999.0000,9,   195.01,2,  -999.00,9,  -999.00,9,  -999.00,  -999.00,9,  -999.00,  -999.00,9,  -999.00, -999.000,9, -999.000, -999.000,9, -999.000,9, -999.000,9,   -999.0,9,   -999.0,9,-999.0000,-999,9,  -999.00,9,  -999.00,   -999.0,9,   -999.0,  28.3359,  22.9899
  49NZ20090521,   P21,   173,  1,      5, X12028,9,20090526,1917,-17.4990,-154.9953, 4338,     11.0,2,  28.3421,2,  28.33883,2,  35.9382,2,-999.0000,9,   194.99,2,  -999.00,9,  -999.00,9,  -999.00,  -999.00,9,  -999.00,  -999.00,9,  -999.00, -999.000,9, -999.000, -999.000,9, -999.000,9, -999.000,9,   -999.0,9,   -999.0,9,-999.0000,-999,9,  -999.00,9,  -999.00,   -999.0,9,   -999.0,  28.3395,  22.9886
  49NZ20090521,   P21,   173,  1,      4, X12022,9,20090526,1917,-17.4990,-154.9953, 4338,    250.7,2,  20.6860,2,  20.67513,2,  35.7968,2,-999.0000,9,   172.63,2,  -999.00,9,  -999.00,9,  -999.00,  -999.00,9,  -999.00,  -999.00,9,  -999.00, -999.000,9, -999.000, -999.000,9, -999.000,9, -999.000,9,   -999.0,9,   -999.0,9,-999.0000,-999,9,  -999.00,9,  -999.00,   -999.0,9,   -999.0,  20.6383,  25.1989
  49NZ20090521,   P21,   173,  1,      3, X12021,9,20090526,1917,-17.4990,-154.9953, 4338,    251.1,2,  20.6472,2,  20.63865,2,  35.7915,2,-999.0000,9,   172.62,2,  -999.00,9,  -999.00,9,  -999.00,  -999.00,9,  -999.00,  -999.00,9,  -999.00, -999.000,9, -999.000, -999.000,9, -999.000,9, -999.000,9,   -999.0,9,   -999.0,9,-999.0000,-999,9,  -999.00,9,  -999.00,   -999.0,9,   -999.0,  20.5995,  25.2054
  49NZ20090521,   P21,   173,  1,      2, X12020,2,20090526,1917,-17.4990,-154.9953, 4338,   2932.3,2,   1.7433,2,   1.74335,2,  34.6692,2,-999.0000,9,   159.81,2,  -999.00,9,  -999.00,9,  -999.00,  -999.00,9,  -999.00,  -999.00,9,  -999.00, -999.000,9, -999.000,    0.000,2,    0.000,2,    0.000,2,   -999.0,9,   -999.0,9,-999.0000,-999,9,  -999.00,9,  -999.00,   -999.0,9,   -999.0,   1.5277,  27.7427
  49NZ20090521,   P21,   173,  1,      1, X12019,2,20090526,1917,-17.4990,-154.9953, 4338,   4410.9,2,   1.4007,2,   1.40031,2,  34.6975,2,  34.6977,6,   185.23,2,   185.31,2,   119.19,2,     0.38,    33.44,2,     0.13,     0.01,2,     0.01,    2.343,2,    0.016,    0.002,2,    0.000,2,    0.000,2,   -999.0,9,   -999.0,9,-999.0000,-999,9,  -999.00,9,  -999.00,   -999.0,9,   -999.0,   1.0389,  27.7997