BOTTLE,20111109CCHDOSIOCBG
EXPOCODE,SECT_ID,STNNBR,CASTNO,SAMPNO,BTLNBR,BTLNBR_FLAG_W,DATE,TIME,LATITUDE,LONGITUDE,DEPTH,CTDPRS,CTDPRS_FLAG_W,CTDTMP,CTDTMP_FLAG_W,SBE35,SBE35_FLAG_W,CTDSAL,CTDSAL_FLAG_W,SALNTY,SALNTY_FLAG_W,CTDOXY,CTDOXY_FLAG_W,OXYGEN,OXYGEN_FLAG_W,SILCAT,SILCAT_FLAG_W,SILUNC,NITRAT,NITRAT_FLAG_W,NRAUNC,NITRIT,NITRIT_FLAG_W,NRIUNC,PHSPHT,PHSPHT_FLAG_W,PHPUNC,CFC-11,CFC-11_FLAG_W,CFC-12,CFC-12_FLAG_W,CFC113,CFC113_FLAG_W,TCARBN,TCARBN_FLAG_W,ALKALI,ALKALI_FLAG_W,PH_TOT,PH_TMP,PH_TOT_FLAG_W,DELC13,DELC13_FLAG_W,C13ERR,DELC14,DELC14_FLAG_W,C14ERR,THETA,SIG0
,,,,,,,,,,,METERS,DBAR,,ITS-90,,ITS-90,,PSS-78,,PSS-78,,UMOL/KG,,UMOL/KG,,UMOL/KG,,UMOL/KG,UMOL/KG,,UMOL/KG,UMOL/KG,,UMOL/KG,UMOL/KG,,UMOL/KG,PMOL/KG,,PMOL/KG,,PMOL/KG,,UMOL/KG,,UMOL/KG,,,DEG C,,/MILLE,,/MILLE,/MILLE,,/MILLE,DEG C,KG/M^3
  49NZ20090521,   P21,   X16,  1,      0,   -999,9,20090522,0552,-17.5100,-150.4827, 3595,   -999.0,9,-999.0000,9,-999.00000,9,-999.0000,9,  36.1790,2,  -999.00,9,  -999.00,9,  -999.00,9,  -999.00,  -999.00,9,  -999.00,  -999.00,9,  -999.00, -999.000,9, -999.000, -999.000,9, -999.000,9, -999.000,9,   -999.0,9,   -999.0,9,-999.0000,-999,9,  -999.00,9,  -999.00,   -999.0,9,   -999.0,-999.0000,-999.0000
  49NZ20090521,   P21,   X16,  1,     36, X12043,2,20090522,0552,-17.5100,-150.4827, 3595,     10.1,2,  27.9724,2,  27.97231,2,  36.1578,2,  36.1594,2,   197.36,2,   196.58,2,     0.71,2,     0.12,     0.04,2,     0.03,     0.01,2,     0.01,    0.187,2,    0.016,    1.421,2,    0.925,2, -999.000,5,   2014.5,2,   2380.1,2,   8.1301,  25,6,  -999.00,1,  -999.00,   -999.0,1,   -999.0,  27.9700,  23.2755
  49NZ20090521,   P21,   X16,  1,     35, X12042,2,20090522,0552,-17.5100,-150.4827, 3595,     49.3,2,  27.9591,2,  27.95945,2,  36.1557,2,  36.1543,2,   197.13,2,   196.70,2,     0.65,2,     0.12,     0.04,2,     0.03,     0.01,2,     0.01,    0.187,2,    0.016,    1.427,2,    0.927,2, -999.000,5,   2013.3,6,   2380.2,2,   8.1304,  25,2,  -999.00,1,  -999.00,   -999.0,1,   -999.0,  27.9475,  23.2813
  49NZ20090521,   P21,   X16,  1,     34, X12016,2,20090522,0552,-17.5100,-150.4827, 3595,    100.0,2,  26.0179,2,  26.00598,2,  36.2948,2,  36.3253,2,   207.44,2,   206.26,2,     0.65,2,     0.12,     0.04,2,     0.03,     0.01,2,     0.01,    0.202,2,    0.016,    1.617,6,    1.039,6, -999.000,5,   2040.9,2,   2390.2,6,   8.1016,  25,2,  -999.00,1,  -999.00,   -999.0,1,   -999.0,  25.9955,  24.0120
  49NZ20090521,   P21,   X16,  1,     33, X12015,2,20090522,0552,-17.5100,-150.4827, 3595,    150.8,2,  24.5041,2,  24.50513,2,  36.2914,2,  36.2931,2,   187.55,2,   186.68,2,     0.60,2,     0.12,     0.88,2,     0.04,     0.05,2,     0.01,    0.282,2,    0.014,    1.696,2,    1.068,2, -999.000,5,   2060.8,2,   2386.9,2,   8.0650,  25,6,  -999.00,1,  -999.00,   -999.0,1,   -999.0,  24.4717,  24.4780
  49NZ20090521,   P21,   X16,  1,     32, X12050,2,20090522,0552,-17.5100,-150.4827, 3595,    199.6,2,  22.3569,2,  22.36028,2,  35.9480,2,  35.9493,2,   182.30,2,   182.51,2,     0.60,2,     0.12,     1.68,2,     0.04,     0.03,2,     0.01,    0.317,2,    0.014,    1.903,2,    1.167,2,    0.145,2,   2067.1,2,   2362.1,2,   8.0223,  25,2,  -999.00,1,  -999.00,   -999.0,1,   -999.0,  22.3168,  24.8488
  49NZ20090521,   P21,   X16,  1,     31, X12014,2,20090522,0552,-17.5100,-150.4827, 3595,    249.3,2,  19.6613,2,  19.65864,2,  35.6386,2,  35.6373,6,   180.00,2,   179.37,2,     0.90,2,     0.12,     3.73,2,     0.04,     0.01,2,     0.01,    0.455,2,    0.013,    2.172,2,    1.282,2,    0.046,2,   2085.8,2,   2343.4,2,   7.9622,  25,2,  -999.00,1,  -999.00,   -999.0,1,   -999.0,  19.6155,  25.3501
  49NZ20090521,   P21,   X16,  1,     30, X12012,2,20090522,0552,-17.5100,-150.4827, 3595,    329.5,2,  16.1831,2,  16.18382,2,  35.1851,2,  35.1864,2,   179.47,2,   179.55,2,     2.14,2,     0.12,     7.33,2,     0.05,     0.01,2,     0.01,    0.696,2,    0.013,    2.356,2,    1.322,2,    0.031,2,   2097.7,2,   2315.8,2,   7.8923,  25,2,  -999.00,1,  -999.00,   -999.0,1,   -999.0,  16.1303,  25.8601
  49NZ20090521,   P21,   X16,  1,     29, X12041,2,20090522,0552,-17.5100,-150.4827, 3595,    431.7,2,  10.6402,2,  10.64358,2,  34.6245,2,  34.6286,2,   158.49,2,   158.59,2,     9.07,2,     0.14,    19.44,2,     0.09,     0.01,2,     0.01,    1.513,2,    0.014,    1.814,6,    0.948,6,    0.029,6,   2151.2,2,   2289.5,2,   7.7211,  25,2,  -999.00,1,  -999.00,   -999.0,1,   -999.0,  10.5877,  26.5567
  49NZ20090521,   P21,   X16,  1,     28, X12040,2,20090522,0552,-17.5100,-150.4827, 3595,    530.5,2,   7.7299,2,   7.73295,2,  34.4709,2,  34.4721,6,   149.59,2,   148.87,2,    19.22,2,     0.16,    27.64,2,     0.11,     0.01,2,     0.01,    2.009,2,    0.015,    0.953,2,    0.490,2,    0.015,2,   2188.4,2,   2291.4,2,   7.6303,  25,2,  -999.00,1,  -999.00,   -999.0,1,   -999.0,   7.6765,  26.9060
  49NZ20090521,   P21,   X16,  1,     27, X12009,2,20090522,0552,-17.5100,-150.4827, 3595,    630.2,2,   6.2903,2,   6.29053,2,  34.4130,2,  34.4126,2,   161.52,2,   161.56,2,    25.30,2,     0.17,    30.31,2,     0.12,     0.01,2,     0.01,    2.147,2,    0.015,    0.618,6,    0.318,6,    0.012,6,   2196.8,2,   2294.5,2,   7.6185,  25,2,  -999.00,1,  -999.00,   -999.0,1,   -999.0,   6.2334,  27.0589
  49NZ20090521,   P21,   X16,  1,     26, X12008,2,20090522,0552,-17.5100,-150.4827, 3595,    729.3,2,   5.4834,2,   5.48380,2,  34.4313,2,  34.4313,2,   152.92,2,   152.92,2,    37.39,2,     0.20,    32.51,2,     0.12,     0.01,2,     0.01,    2.287,2,    0.016,    0.255,2,    0.135,2,    0.000,2,   2216.9,6,   2307.2,2,   7.5969,  25,2,  -999.00,1,  -999.00,   -999.0,1,   -999.0,   5.4215,  27.1748
  49NZ20090521,   P21,   X16,  1,     25, X12007,2,20090522,0552,-17.5100,-150.4827, 3595,    828.9,2,   4.8089,2,   4.80853,2,  34.4534,2,  34.4531,2,   149.41,2,   148.97,2,    48.67,2,     0.23,    33.78,2,     0.13,     0.01,2,     0.01,    2.378,2,    0.016,    0.115,2,    0.063,2,    0.000,2,   2231.3,2,   2319.2,6,   7.5863,  25,2,  -999.00,1,  -999.00,   -999.0,1,   -999.0,   4.7421,  27.2712
  49NZ20090521,   P21,   X16,  1,     24, X12035,2,20090522,0552,-17.5100,-150.4827, 3595,    928.5,2,   4.3548,2,   4.35652,2,  34.4731,2,  34.4717,2,   147.37,2,   147.26,2,    57.02,2,     0.24,    34.57,2,     0.13,     0.01,2,     0.01,    2.429,2,    0.016,    0.057,2,    0.030,2,    0.000,2,   2241.1,2,   2328.8,2,   7.5806,  25,2,  -999.00,1,  -999.00,   -999.0,1,   -999.0,   4.2826,  27.3373
  49NZ20090521,   P21,   X16,  1,     23, X12038,2,20090522,0552,-17.5100,-150.4827, 3595,   1070.2,2,   3.7228,2,   3.72148,2,  34.5053,2,  34.5053,6,   145.55,2,   145.39,2,    70.29,2,     0.27,    35.34,2,     0.13,     0.01,2,     0.01,    2.487,2,    0.016,    0.012,2,    0.008,2,    0.000,2,   2256.7,2,   2342.8,2,   7.5745,  25,2,  -999.00,1,  -999.00,   -999.0,1,   -999.0,   3.6435,  27.4288
  49NZ20090521,   P21,   X16,  1,     22, X12034,2,20090522,0552,-17.5100,-150.4827, 3595,   1269.4,2,   3.2465,2,   3.24637,2,  34.5436,2,  34.5437,2,   143.09,2,   142.85,2,    83.31,2,     0.30,    35.93,2,     0.13,     0.01,2,     0.01,    2.529,2,    0.016,    0.005,2,    0.003,2,    0.000,2,   2272.8,2,   2356.5,2,   7.5698,  25,2,  -999.00,1,  -999.00,   -999.0,1,   -999.0,   3.1551,  27.5064
  49NZ20090521,   P21,   X16,  1,     21, X12033,2,20090522,0552,-17.5100,-150.4827, 3595,   1469.8,2,   2.8408,2,   2.84071,2,  34.5727,2,  34.5730,2,   145.21,2,   145.16,2,    92.90,2,     0.32,    35.84,2,     0.13,     0.01,2,     0.01,    2.529,2,    0.016,    0.005,2,    0.003,2,    0.000,2,   2283.5,2,   2367.7,2,   7.5726,  25,2,  -999.00,1,  -999.00,   -999.0,1,   -999.0,   2.7373,  27.5676
  49NZ20090521,   P21,   X16,  1,     20, X12032,2,20090522,0552,-17.5100,-150.4827, 3595,   1670.7,2,   2.5451,2,   2.54557,2,  34.5976,2,  34.5977,2,   146.60,2,   146.61,2,   101.19,2,     0.34,    35.94,2,     0.13,     0.01,2,     0.01,    2.529,2,    0.016,    0.000,2,    0.000,2,    0.000,2,   2291.5,2,   2377.6,2,   7.5759,  25,6,  -999.00,1,  -999.00,   -999.0,1,   -999.0,   2.4286,  27.6142
  49NZ20090521,   P21,   X16,  1,     19, X12046,2,20090522,0552,-17.5100,-150.4827, 3595,   1868.6,2,   2.2655,2,   2.26528,2,  34.6214,2,  34.6216,6,   149.40,2,   149.07,2,   108.50,2,     0.36,    35.92,2,     0.13,     0.01,2,     0.01,    2.520,2,    0.016,    0.000,2,    0.000,2,    0.000,2,   2296.0,2,   2384.7,2,   7.5799,  25,2,  -999.00,1,  -999.00,   -999.0,1,   -999.0,   2.1362,  27.6574
  49NZ20090521,   P21,   X16,  1,     18, X12006,2,20090522,0552,-17.5100,-150.4827, 3595,   2068.8,2,   2.1270,2,   2.12693,2,  34.6338,2,  34.6341,2,   151.26,2,   151.09,2,   112.20,2,     0.37,    35.82,2,     0.13,     0.01,2,     0.01,    2.513,2,    0.016,    0.000,2,    0.000,2,    0.000,2,   2299.5,2,   2388.7,2,   7.5837,  25,2,  -999.00,1,  -999.00,   -999.0,1,   -999.0,   1.9828,  27.6797
  49NZ20090521,   P21,   X16,  1,     17, X12047,2,20090522,0552,-17.5100,-150.4827, 3595,   2271.9,2,   1.9994,2,   1.99927,2,  34.6450,2,  34.6454,2,   153.56,2,   153.56,2,   115.33,2,     0.37,    35.67,2,     0.13,     0.01,2,     0.01,    2.503,2,    0.016,    0.003,2,    0.000,2,    0.000,2,   2300.5,2,   2392.1,2,   7.5865,  25,2,  -999.00,1,  -999.00,   -999.0,1,   -999.0,   1.8396,  27.6998
  49NZ20090521,   P21,   X16,  1,     16, X12004,2,20090522,0552,-17.5100,-150.4827, 3595,   2470.3,2,   1.8915,2,   1.89151,2,  34.6546,2,  34.6550,2,   155.85,2,   155.95,2,   117.65,2,     0.38,    35.44,2,     0.13,     0.01,2,     0.01,    2.481,2,    0.016,    0.012,2,    0.005,2,    0.000,2,   2303.0,2,   2393.7,2,   7.5893,  25,2,  -999.00,1,  -999.00,   -999.0,1,   -999.0,   1.7159,  27.7169
  49NZ20090521,   P21,   X16,  1,     15, X12003,2,20090522,0552,-17.5100,-150.4827, 3595,   2670.1,2,   1.7951,2,   1.79484,2,  34.6623,2,  34.6632,2,   159.20,2,   159.35,2,   119.13,2,     0.38,    35.25,2,     0.13,     0.01,2,     0.01,    2.468,2,    0.016,    0.003,2,    0.000,2,    0.000,2,   2300.9,2,   2394.6,2,   7.5929,  25,2,  -999.00,1,  -999.00,   -999.0,1,   -999.0,   1.6031,  27.7316
  49NZ20090521,   P21,   X16,  1,     14, X12002,2,20090522,0552,-17.5100,-150.4827, 3595,   2870.2,2,   1.7127,2,   1.71256,2,  34.6693,2,  34.6697,6,   162.36,2,   162.42,2,   119.93,2,     0.38,    35.04,2,     0.13,     0.01,2,     0.01,    2.454,2,    0.016,    0.003,2,    0.000,2,    0.000,2,   2300.0,2,   2395.4,2,   7.5966,  25,6,  -999.00,1,  -999.00,   -999.0,1,   -999.0,   1.5037,  27.7445
  49NZ20090521,   P21,   X16,  1,     13, X12001,2,20090522,0552,-17.5100,-150.4827, 3595,   3080.1,2,   1.6432,2,   1.64319,2,  34.6751,2,  34.6756,2,   165.83,2,   165.86,2,   120.56,2,     0.38,    34.73,2,     0.13,     0.01,2,     0.01,    2.437,2,    0.016,    0.006,2,    0.002,2,    0.000,2,   2298.3,2,   2394.8,2,   7.5984,  25,2,  -999.00,1,  -999.00,   -999.0,1,   -999.0,   1.4155,  27.7556
  49NZ20090521,   P21,   X16,  1,     12, X12030,2,20090522,0552,-17.5100,-150.4827, 3595,   3329.1,2,   1.5688,2,   1.56874,2,  34.6816,2,  34.6818,2,   170.13,2,   170.44,2,   120.71,2,     0.38,    34.54,2,     0.13,     0.01,2,     0.01,    2.417,2,    0.016,    0.003,2,    0.000,2,    0.000,2,   2296.2,2,   2392.3,2,   7.6034,  25,2,  -999.00,1,  -999.00,   -999.0,1,   -999.0,   1.3183,  27.7677
  49NZ20090521,   P21,   X16,  1,     11, X12044,2,20090522,0552,-17.5100,-150.4827, 3595,   3579.7,2,   1.5508,2,   1.55052,2,  34.6840,2,  34.6847,2,   172.28,2,   172.28,2,   120.61,2,     0.38,    34.33,2,     0.13,     0.01,2,     0.01,    2.406,2,    0.016,    0.002,2,    0.000,2,    0.000,2,   2295.6,2,   2392.2,2,   7.6053,  25,2,  -999.00,1,  -999.00,   -999.0,1,   -999.0,   1.2752,  27.7726
  49NZ20090521,   P21,   X16,  1,     10, X12048,9,20090522,0552,-17.5100,-150.4827, 3595,      9.4,2,  27.9685,2,  27.96848,2,  36.1579,2,-999.0000,9,   197.28,2,  -999.00,9,  -999.00,9,  -999.00,  -999.00,9,  -999.00,  -999.00,9,  -999.00, -999.000,9, -999.000, -999.000,9, -999.000,9, -999.000,9,   -999.0,9,   -999.0,9,-999.0000,-999,9,  -999.00,9,  -999.00,   -999.0,9,   -999.0,  27.9663,  23.2768
  49NZ20090521,   P21,   X16,  1,      9, X12027,9,20090522,0552,-17.5100,-150.4827, 3595,      9.6,2,  27.9702,2,  27.96946,2,  36.1579,2,-999.0000,9,   197.46,2,  -999.00,9,  -999.00,9,  -999.00,  -999.00,9,  -999.00,  -999.00,9,  -999.00, -999.000,9, -999.000, -999.000,9, -999.000,9, -999.000,9,   -999.0,9,   -999.0,9,-999.0000,-999,9,  -999.00,9,  -999.00,   -999.0,9,   -999.0,  27.9679,  23.2762
  49NZ20090521,   P21,   X16,  1,      8, X12026,9,20090522,0552,-17.5100,-150.4827, 3595,     50.0,2,  27.9599,2,  27.95974,2,  36.1560,2,-999.0000,9,   197.13,2,  -999.00,9,  -999.00,9,  -999.00,  -999.00,9,  -999.00,  -999.00,9,  -999.00, -999.000,9, -999.000, -999.000,9, -999.000,9, -999.000,9,   -999.0,9,   -999.0,9,-999.0000,-999,9,  -999.00,9,  -999.00,   -999.0,9,   -999.0,  27.9481,  23.2813
  49NZ20090521,   P21,   X16,  1,      7, X12025,9,20090522,0552,-17.5100,-150.4827, 3595,     99.2,2,  26.1252,2,  26.10392,2,  36.3204,2,-999.0000,9,   206.91,2,  -999.00,9,  -999.00,9,  -999.00,  -999.00,9,  -999.00,  -999.00,9,  -999.00, -999.000,9, -999.000, -999.000,9, -999.000,9, -999.000,9,   -999.0,9,   -999.0,9,-999.0000,-999,9,  -999.00,9,  -999.00,   -999.0,9,   -999.0,  26.1029,  23.9976
  49NZ20090521,   P21,   X16,  1,      6, X12024,9,20090522,0552,-17.5100,-150.4827, 3595,    150.1,2,  24.5081,2,  24.51019,2,  36.2931,2,-999.0000,9,   187.50,2,  -999.00,9,  -999.00,9,  -999.00,  -999.00,9,  -999.00,  -999.00,9,  -999.00, -999.000,9, -999.000, -999.000,9, -999.000,9, -999.000,9,   -999.0,9,   -999.0,9,-999.0000,-999,9,  -999.00,9,  -999.00,   -999.0,9,   -999.0,  24.4758,  24.4780
  49NZ20090521,   P21,   X16,  1,      5, X12028,9,20090522,0552,-17.5100,-150.4827, 3595,    200.0,2,  22.3648,2,  22.36486,2,  35.9494,2,-999.0000,9,   183.05,2,  -999.00,9,  -999.00,9,  -999.00,  -999.00,9,  -999.00,  -999.00,9,  -999.00, -999.000,9, -999.000, -999.000,9, -999.000,9, -999.000,9,   -999.0,9,   -999.0,9,-999.0000,-999,9,  -999.00,9,  -999.00,   -999.0,9,   -999.0,  22.3246,  24.8476
  49NZ20090521,   P21,   X16,  1,      4, X12022,9,20090522,0552,-17.5100,-150.4827, 3595,    249.2,2,  19.6441,2,  19.64230,2,  35.6366,2,-999.0000,9,   180.35,2,  -999.00,9,  -999.00,9,  -999.00,  -999.00,9,  -999.00,  -999.00,9,  -999.00, -999.000,9, -999.000, -999.000,9, -999.000,9, -999.000,9,   -999.0,9,   -999.0,9,-999.0000,-999,9,  -999.00,9,  -999.00,   -999.0,9,   -999.0,  19.5984,  25.3530
  49NZ20090521,   P21,   X16,  1,      3, X12021,9,20090522,0552,-17.5100,-150.4827, 3595,    330.9,2,  16.1498,2,  16.15950,2,  35.1828,2,-999.0000,9,   180.19,2,  -999.00,9,  -999.00,9,  -999.00,  -999.00,9,  -999.00,  -999.00,9,  -999.00, -999.000,9, -999.000, -999.000,9, -999.000,9, -999.000,9,   -999.0,9,   -999.0,9,-999.0000,-999,9,  -999.00,9,  -999.00,   -999.0,9,   -999.0,  16.0968,  25.8660
  49NZ20090521,   P21,   X16,  1,      2, X12020,9,20090522,0552,-17.5100,-150.4827, 3595,    431.7,2,  10.6437,2,  10.65225,2,  34.6248,2,-999.0000,9,   158.22,2,  -999.00,9,  -999.00,9,  -999.00,  -999.00,9,  -999.00,  -999.00,9,  -999.00, -999.000,9, -999.000, -999.000,9, -999.000,9, -999.000,9,   -999.0,9,   -999.0,9,-999.0000,-999,9,  -999.00,9,  -999.00,   -999.0,9,   -999.0,  10.5912,  26.5564
  49NZ20090521,   P21,   X16,  1,      1, X12019,2,20090522,0552,-17.5100,-150.4827, 3595,   3641.6,2,   1.5434,2,   1.54312,2,  34.6848,2,  34.6852,6,   172.99,2,   173.09,2,   120.52,2,     0.38,    34.31,2,     0.13,     0.01,2,     0.01,    2.404,2,    0.016,    0.000,2,    0.000,2,    0.000,2,   2294.1,2,   2391.8,2,   7.6054,  25,2,  -999.00,1,  -999.00,   -999.0,1,   -999.0,   1.2615,  27.7742