BOTTLE,20111109CCHDOSIOCBG
EXPOCODE,SECT_ID,STNNBR,CASTNO,SAMPNO,BTLNBR,BTLNBR_FLAG_W,DATE,TIME,LATITUDE,LONGITUDE,DEPTH,CTDPRS,CTDPRS_FLAG_W,CTDTMP,CTDTMP_FLAG_W,SBE35,SBE35_FLAG_W,CTDSAL,CTDSAL_FLAG_W,SALNTY,SALNTY_FLAG_W,CTDOXY,CTDOXY_FLAG_W,OXYGEN,OXYGEN_FLAG_W,SILCAT,SILCAT_FLAG_W,SILUNC,NITRAT,NITRAT_FLAG_W,NRAUNC,NITRIT,NITRIT_FLAG_W,NRIUNC,PHSPHT,PHSPHT_FLAG_W,PHPUNC,CFC-11,CFC-11_FLAG_W,CFC-12,CFC-12_FLAG_W,CFC113,CFC113_FLAG_W,TCARBN,TCARBN_FLAG_W,ALKALI,ALKALI_FLAG_W,PH_TOT,PH_TMP,PH_TOT_FLAG_W,DELC13,DELC13_FLAG_W,C13ERR,DELC14,DELC14_FLAG_W,C14ERR,THETA,SIG0
,,,,,,,,,,,METERS,DBAR,,ITS-90,,ITS-90,,PSS-78,,PSS-78,,UMOL/KG,,UMOL/KG,,UMOL/KG,,UMOL/KG,UMOL/KG,,UMOL/KG,UMOL/KG,,UMOL/KG,UMOL/KG,,UMOL/KG,PMOL/KG,,PMOL/KG,,PMOL/KG,,UMOL/KG,,UMOL/KG,,,DEG C,,/MILLE,,/MILLE,/MILLE,,/MILLE,DEG C,KG/M^3
  49NZ20090521,   P21,   238,  1,      0,   -999,9,20090609,1155,-18.0470, 168.8303,  988,   -999.0,9,-999.0000,9,-999.00000,9,-999.0000,9,  34.8908,2,  -999.00,9,  -999.00,9,  -999.00,9,  -999.00,  -999.00,9,  -999.00,  -999.00,9,  -999.00, -999.000,9, -999.000, -999.000,9, -999.000,9, -999.000,9,   -999.0,9,   -999.0,9,-999.0000,-999,9,  -999.00,9,  -999.00,   -999.0,9,   -999.0,-999.0000,-999.0000
  49NZ20090521,   P21,   238,  1,     36, X12043,2,20090609,1155,-18.0470, 168.8303,  988,     10.1,2,  26.5174,2,  26.51630,2,  34.8868,2,  34.8829,2,   200.89,2,   201.23,2,     0.79,2,     0.12,     0.10,2,     0.03,     0.01,2,     0.01,    0.077,2,    0.026,    1.512,2,    0.976,2, -999.000,5,   1942.9,2,   2291.0,2,   8.1270,  25,6,  -999.00,9,  -999.00,   -999.0,9,   -999.0,  26.5151,  22.7864
  49NZ20090521,   P21,   238,  1,     35, X12042,2,20090609,1155,-18.0470, 168.8303,  988,     50.0,2,  26.4440,2,  26.44633,2,  34.8788,2,  34.8749,2,   200.09,2,   200.58,2,     0.67,2,     0.12,     0.08,2,     0.03,     0.01,2,     0.01,    0.078,2,    0.025,    1.520,2,    0.982,2, -999.000,5,   1942.9,6,   2289.1,2,   8.1267,  25,2,  -999.00,9,  -999.00,   -999.0,9,   -999.0,  26.4327,  22.8063
  49NZ20090521,   P21,   238,  1,     34, X12016,2,20090609,1155,-18.0470, 168.8303,  988,    101.1,2,  24.5982,2,  24.60011,2,  35.4677,2,  35.4732,2,   170.21,2,   170.21,2,     0.72,2,     0.12,     2.11,2,     0.04,     0.06,2,     0.01,    0.319,2,    0.014,    1.733,6,    1.088,6, -999.000,5,   2027.3,2,   2327.6,6,   8.0364,  25,2,  -999.00,9,  -999.00,   -999.0,9,   -999.0,  24.5765,  23.8231
  49NZ20090521,   P21,   238,  1,     33, X12015,2,20090609,1155,-18.0470, 168.8303,  988,    150.2,2,  22.7986,2,  22.80069,2,  35.8669,2,  35.8653,2,   150.98,2,   151.10,2,     1.18,2,     0.12,     4.72,2,     0.05,     0.02,2,     0.01,    0.534,2,    0.013,    1.883,2,    1.159,2,    0.062,2,   2083.1,2,   2354.0,2,   7.9786,  25,6,  -999.00,9,  -999.00,   -999.0,9,   -999.0,  22.7680,  24.6582
  49NZ20090521,   P21,   238,  1,     32, X12050,2,20090609,1155,-18.0470, 168.8303,  988,    200.4,2,  21.2678,2,  21.26946,2,  35.7659,2,  35.7651,2,   157.25,2,   157.02,2,     1.21,2,     0.12,     5.28,2,     0.05,     0.02,2,     0.01,    0.544,2,    0.013,    1.980,2,    1.193,2,    0.031,2,   2087.0,2,   2347.6,2,   7.9619,  25,2,  -999.00,9,  -999.00,   -999.0,9,   -999.0,  21.2289,  25.0144
  49NZ20090521,   P21,   238,  1,     31, X12014,2,20090609,1155,-18.0470, 168.8303,  988,    249.6,2,  19.1797,2,  19.18161,2,  35.6036,2,  35.6011,6,   163.65,2,   163.27,2,     1.68,2,     0.12,     6.27,2,     0.05,     0.02,2,     0.01,    0.586,2,    0.013,    2.088,2,    1.233,2,    0.018,2,   2092.4,2,   2336.4,2,   7.9342,  25,2,  -999.00,9,  -999.00,   -999.0,9,   -999.0,  19.1347,  25.4481
  49NZ20090521,   P21,   238,  1,     30, X12012,2,20090609,1155,-18.0470, 168.8303,  988,    280.7,2,  18.2951,2,  18.30427,2,  35.5179,2,  35.5162,2,   164.11,2,   163.99,2,     1.95,2,     0.12,     7.10,2,     0.05,     0.02,2,     0.01,    0.654,2,    0.013,    2.120,2,    1.239,2,    0.015,2,   2097.7,2,   2332.2,2,   7.9168,  25,2,  -999.00,9,  -999.00,   -999.0,9,   -999.0,  18.2461,  25.6076
  49NZ20090521,   P21,   238,  1,     29, X12041,3,20090609,1155,-18.0470, 168.8303,  988,    370.1,2,  15.0640,2,  15.06430,2,  35.1754,2,  35.1746,2,   163.06,2,   162.99,2,     4.26,2,     0.13,    11.43,2,     0.06,     0.02,2,     0.01,    0.958,2,    0.013,    2.051,6,    1.152,6,    0.018,6,   2118.9,2,   2313.8,2,   7.8447,  25,2,  -999.00,9,  -999.00,   -999.0,9,   -999.0,  15.0074,  26.1056
  49NZ20090521,   P21,   238,  1,     28, X12040,2,20090609,1155,-18.0470, 168.8303,  988,    471.5,2,  10.6990,2,  10.70319,2,  34.7452,2,  34.7467,6,   175.31,2,   174.84,2,     8.22,2,     0.14,    18.55,2,     0.08,     0.01,2,     0.01,    1.390,2,    0.014,    1.796,2,    0.953,2,    0.019,2,   2143.5,2,   2295.0,2,   7.7530,  25,2,  -999.00,9,  -999.00,   -999.0,9,   -999.0,  10.6413,  26.6413
  49NZ20090521,   P21,   238,  1,     27, X12009,2,20090609,1155,-18.0470, 168.8303,  988,    572.9,2,   7.5142,2,   7.51442,2,  34.4746,2,  34.4742,2,   189.77,2,   189.15,2,    14.57,2,     0.15,    24.93,2,     0.10,     0.01,2,     0.01,    1.777,2,    0.015,    1.277,6,    0.654,6,    0.022,6,   2163.7,2,   2289.1,2,   7.6904,  25,2,  -999.00,9,  -999.00,   -999.0,9,   -999.0,   7.4573,  26.9405
  49NZ20090521,   P21,   238,  1,     26, X12008,2,20090609,1155,-18.0470, 168.8303,  988,    670.3,2,   6.4405,2,   6.44069,2,  34.4305,2,  34.4302,2,   186.21,2,   185.75,2,    22.11,2,     0.17,    27.67,2,     0.11,     0.01,2,     0.01,    1.960,2,    0.015,    0.828,2,    0.427,2,    0.009,2,   2179.9,6,   2294.2,2,   7.6631,  25,2,  -999.00,9,  -999.00,   -999.0,9,   -999.0,   6.3790,  27.0538
  49NZ20090521,   P21,   238,  1,     25, X12007,2,20090609,1155,-18.0470, 168.8303,  988,    772.3,2,   5.2754,2,   5.27539,2,  34.4114,2,  34.4110,2,   180.93,2,   180.34,2,    34.37,2,     0.19,    30.54,2,     0.12,     0.01,2,     0.01,    2.140,2,    0.015,    0.441,2,    0.228,2,    0.000,2,   2199.3,2,   2304.3,6,   7.6357,  25,2,  -999.00,9,  -999.00,   -999.0,9,   -999.0,   5.2108,  27.1840
  49NZ20090521,   P21,   238,  1,     24, X12035,2,20090609,1155,-18.0470, 168.8303,  988,    871.6,2,   4.6000,2,   4.59990,2,  34.4294,2,  34.4294,2,   173.54,2,   172.78,2,    45.68,2,     0.22,    32.17,2,     0.12,     0.01,2,     0.01,    2.255,2,    0.016,    0.244,2,    0.128,2,    0.000,2,   2217.5,2,   2316.9,2,   7.6171,  25,2,  -999.00,9,  -999.00,   -999.0,9,   -999.0,   4.5310,  27.2756
  49NZ20090521,   P21,   238,  1,     23, X12038,9,20090609,1155,-18.0470, 168.8303,  988,   -999.0,9,-999.0000,9,-999.00000,9,-999.0000,9,-999.0000,9,  -999.00,9,  -999.00,9,  -999.00,9,  -999.00,  -999.00,9,  -999.00,  -999.00,9,  -999.00, -999.000,9, -999.000, -999.000,9, -999.000,9, -999.000,9,   -999.0,9,   -999.0,9,-999.0000,-999,9,  -999.00,9,  -999.00,   -999.0,9,   -999.0,-999.0000,-999.0000
  49NZ20090521,   P21,   238,  1,     22, X12034,9,20090609,1155,-18.0470, 168.8303,  988,   -999.0,9,-999.0000,9,-999.00000,9,-999.0000,9,-999.0000,9,  -999.00,9,  -999.00,9,  -999.00,9,  -999.00,  -999.00,9,  -999.00,  -999.00,9,  -999.00, -999.000,9, -999.000, -999.000,9, -999.000,9, -999.000,9,   -999.0,9,   -999.0,9,-999.0000,-999,9,  -999.00,9,  -999.00,   -999.0,9,   -999.0,-999.0000,-999.0000
  49NZ20090521,   P21,   238,  1,     21, X12033,9,20090609,1155,-18.0470, 168.8303,  988,   -999.0,9,-999.0000,9,-999.00000,9,-999.0000,9,-999.0000,9,  -999.00,9,  -999.00,9,  -999.00,9,  -999.00,  -999.00,9,  -999.00,  -999.00,9,  -999.00, -999.000,9, -999.000, -999.000,9, -999.000,9, -999.000,9,   -999.0,9,   -999.0,9,-999.0000,-999,9,  -999.00,9,  -999.00,   -999.0,9,   -999.0,-999.0000,-999.0000
  49NZ20090521,   P21,   238,  1,     20, X12032,9,20090609,1155,-18.0470, 168.8303,  988,   -999.0,9,-999.0000,9,-999.00000,9,-999.0000,9,-999.0000,9,  -999.00,9,  -999.00,9,  -999.00,9,  -999.00,  -999.00,9,  -999.00,  -999.00,9,  -999.00, -999.000,9, -999.000, -999.000,9, -999.000,9, -999.000,9,   -999.0,9,   -999.0,9,-999.0000,-999,9,  -999.00,9,  -999.00,   -999.0,9,   -999.0,-999.0000,-999.0000
  49NZ20090521,   P21,   238,  1,     19, X12046,9,20090609,1155,-18.0470, 168.8303,  988,   -999.0,9,-999.0000,9,-999.00000,9,-999.0000,9,-999.0000,9,  -999.00,9,  -999.00,9,  -999.00,9,  -999.00,  -999.00,9,  -999.00,  -999.00,9,  -999.00, -999.000,9, -999.000, -999.000,9, -999.000,9, -999.000,9,   -999.0,9,   -999.0,9,-999.0000,-999,9,  -999.00,9,  -999.00,   -999.0,9,   -999.0,-999.0000,-999.0000
  49NZ20090521,   P21,   238,  1,     18, X12006,9,20090609,1155,-18.0470, 168.8303,  988,     10.4,2,  26.5150,2,  26.51166,2,  34.8863,2,-999.0000,9,   200.97,2,  -999.00,9,  -999.00,9,  -999.00,  -999.00,9,  -999.00,  -999.00,9,  -999.00, -999.000,9, -999.000, -999.000,9, -999.000,9, -999.000,9,   -999.0,9,   -999.0,9,-999.0000,-999,9,  -999.00,9,  -999.00,   -999.0,9,   -999.0,  26.5126,  22.7868
  49NZ20090521,   P21,   238,  1,     17, X12047,9,20090609,1155,-18.0470, 168.8303,  988,     50.2,2,  26.4423,2,  26.43962,2,  34.8794,2,-999.0000,9,   200.13,2,  -999.00,9,  -999.00,9,  -999.00,  -999.00,9,  -999.00,  -999.00,9,  -999.00, -999.000,9, -999.000, -999.000,9, -999.000,9, -999.000,9,   -999.0,9,   -999.0,9,-999.0000,-999,9,  -999.00,9,  -999.00,   -999.0,9,   -999.0,  26.4310,  22.8073
  49NZ20090521,   P21,   238,  1,     16, X12004,9,20090609,1155,-18.0470, 168.8303,  988,    101.1,2,  24.6060,2,  24.60587,2,  35.4643,2,-999.0000,9,   170.69,2,  -999.00,9,  -999.00,9,  -999.00,  -999.00,9,  -999.00,  -999.00,9,  -999.00, -999.000,9, -999.000, -999.000,9, -999.000,9, -999.000,9,   -999.0,9,   -999.0,9,-999.0000,-999,9,  -999.00,9,  -999.00,   -999.0,9,   -999.0,  24.5843,  23.8181
  49NZ20090521,   P21,   238,  1,     15, X12003,9,20090609,1155,-18.0470, 168.8303,  988,    150.4,2,  22.7972,2,  22.79785,2,  35.8679,2,-999.0000,9,   150.94,2,  -999.00,9,  -999.00,9,  -999.00,  -999.00,9,  -999.00,  -999.00,9,  -999.00, -999.000,9, -999.000, -999.000,9, -999.000,9, -999.000,9,   -999.0,9,   -999.0,9,-999.0000,-999,9,  -999.00,9,  -999.00,   -999.0,9,   -999.0,  22.7666,  24.6593
  49NZ20090521,   P21,   238,  1,     14, X12002,9,20090609,1155,-18.0470, 168.8303,  988,    200.3,2,  21.2698,2,  21.27220,2,  35.7667,2,-999.0000,9,   157.26,2,  -999.00,9,  -999.00,9,  -999.00,  -999.00,9,  -999.00,  -999.00,9,  -999.00, -999.000,9, -999.000, -999.000,9, -999.000,9, -999.000,9,   -999.0,9,   -999.0,9,-999.0000,-999,9,  -999.00,9,  -999.00,   -999.0,9,   -999.0,  21.2309,  25.0144
  49NZ20090521,   P21,   238,  1,     13, X12001,9,20090609,1155,-18.0470, 168.8303,  988,    249.5,2,  19.2153,2,  19.21670,2,  35.6068,2,-999.0000,9,   163.54,2,  -999.00,9,  -999.00,9,  -999.00,  -999.00,9,  -999.00,  -999.00,9,  -999.00, -999.000,9, -999.000, -999.000,9, -999.000,9, -999.000,9,   -999.0,9,   -999.0,9,-999.0000,-999,9,  -999.00,9,  -999.00,   -999.0,9,   -999.0,  19.1702,  25.4413
  49NZ20090521,   P21,   238,  1,     12, X12030,9,20090609,1155,-18.0470, 168.8303,  988,    281.2,2,  18.3051,2,  18.30481,2,  35.5191,2,-999.0000,9,   164.30,2,  -999.00,9,  -999.00,9,  -999.00,  -999.00,9,  -999.00,  -999.00,9,  -999.00, -999.000,9, -999.000, -999.000,9, -999.000,9, -999.000,9,   -999.0,9,   -999.0,9,-999.0000,-999,9,  -999.00,9,  -999.00,   -999.0,9,   -999.0,  18.2560,  25.6061
  49NZ20090521,   P21,   238,  1,     11, X12044,9,20090609,1155,-18.0470, 168.8303,  988,    370.3,2,  15.0630,2,  15.06399,2,  35.1755,2,-999.0000,9,   163.15,2,  -999.00,9,  -999.00,9,  -999.00,  -999.00,9,  -999.00,  -999.00,9,  -999.00, -999.000,9, -999.000, -999.000,9, -999.000,9, -999.000,9,   -999.0,9,   -999.0,9,-999.0000,-999,9,  -999.00,9,  -999.00,   -999.0,9,   -999.0,  15.0064,  26.1059
  49NZ20090521,   P21,   238,  1,     10, X12048,9,20090609,1155,-18.0470, 168.8303,  988,    471.5,2,  10.7014,2,  10.70025,2,  34.7458,2,-999.0000,9,   175.32,2,  -999.00,9,  -999.00,9,  -999.00,  -999.00,9,  -999.00,  -999.00,9,  -999.00, -999.000,9, -999.000, -999.000,9, -999.000,9, -999.000,9,   -999.0,9,   -999.0,9,-999.0000,-999,9,  -999.00,9,  -999.00,   -999.0,9,   -999.0,  10.6437,  26.6414
  49NZ20090521,   P21,   238,  1,      9, X12027,9,20090609,1155,-18.0470, 168.8303,  988,    572.9,2,   7.5144,2,   7.51427,2,  34.4746,2,-999.0000,9,   189.67,2,  -999.00,9,  -999.00,9,  -999.00,  -999.00,9,  -999.00,  -999.00,9,  -999.00, -999.000,9, -999.000, -999.000,9, -999.000,9, -999.000,9,   -999.0,9,   -999.0,9,-999.0000,-999,9,  -999.00,9,  -999.00,   -999.0,9,   -999.0,   7.4575,  26.9405
  49NZ20090521,   P21,   238,  1,      8, X12026,9,20090609,1155,-18.0470, 168.8303,  988,    670.6,2,   6.4401,2,   6.44076,2,  34.4305,2,-999.0000,9,   186.29,2,  -999.00,9,  -999.00,9,  -999.00,  -999.00,9,  -999.00,  -999.00,9,  -999.00, -999.000,9, -999.000, -999.000,9, -999.000,9, -999.000,9,   -999.0,9,   -999.0,9,-999.0000,-999,9,  -999.00,9,  -999.00,   -999.0,9,   -999.0,   6.3786,  27.0538
  49NZ20090521,   P21,   238,  1,      7, X12025,9,20090609,1155,-18.0470, 168.8303,  988,    772.3,2,   5.2779,2,   5.27785,2,  34.4111,2,-999.0000,9,   181.01,2,  -999.00,9,  -999.00,9,  -999.00,  -999.00,9,  -999.00,  -999.00,9,  -999.00, -999.000,9, -999.000, -999.000,9, -999.000,9, -999.000,9,   -999.0,9,   -999.0,9,-999.0000,-999,9,  -999.00,9,  -999.00,   -999.0,9,   -999.0,   5.2133,  27.1835
  49NZ20090521,   P21,   238,  1,      6, X12024,9,20090609,1155,-18.0470, 168.8303,  988,    871.8,2,   4.6022,2,   4.60170,2,  34.4293,2,-999.0000,9,   173.52,2,  -999.00,9,  -999.00,9,  -999.00,  -999.00,9,  -999.00,  -999.00,9,  -999.00, -999.000,9, -999.000, -999.000,9, -999.000,9, -999.000,9,   -999.0,9,   -999.0,9,-999.0000,-999,9,  -999.00,9,  -999.00,   -999.0,9,   -999.0,   4.5331,  27.2754
  49NZ20090521,   P21,   238,  1,      5, X12028,9,20090609,1155,-18.0470, 168.8303,  988,   -999.0,9,-999.0000,9,-999.00000,9,-999.0000,9,-999.0000,9,  -999.00,9,  -999.00,9,  -999.00,9,  -999.00,  -999.00,9,  -999.00,  -999.00,9,  -999.00, -999.000,9, -999.000, -999.000,9, -999.000,9, -999.000,9,   -999.0,9,   -999.0,9,-999.0000,-999,9,  -999.00,9,  -999.00,   -999.0,9,   -999.0,-999.0000,-999.0000
  49NZ20090521,   P21,   238,  1,      4, X12022,9,20090609,1155,-18.0470, 168.8303,  988,   -999.0,9,-999.0000,9,-999.00000,9,-999.0000,9,-999.0000,9,  -999.00,9,  -999.00,9,  -999.00,9,  -999.00,  -999.00,9,  -999.00,  -999.00,9,  -999.00, -999.000,9, -999.000, -999.000,9, -999.000,9, -999.000,9,   -999.0,9,   -999.0,9,-999.0000,-999,9,  -999.00,9,  -999.00,   -999.0,9,   -999.0,-999.0000,-999.0000
  49NZ20090521,   P21,   238,  1,      3, X12021,9,20090609,1155,-18.0470, 168.8303,  988,   -999.0,9,-999.0000,9,-999.00000,9,-999.0000,9,-999.0000,9,  -999.00,9,  -999.00,9,  -999.00,9,  -999.00,  -999.00,9,  -999.00,  -999.00,9,  -999.00, -999.000,9, -999.000, -999.000,9, -999.000,9, -999.000,9,   -999.0,9,   -999.0,9,-999.0000,-999,9,  -999.00,9,  -999.00,   -999.0,9,   -999.0,-999.0000,-999.0000
  49NZ20090521,   P21,   238,  1,      2, X12020,9,20090609,1155,-18.0470, 168.8303,  988,   -999.0,9,-999.0000,9,-999.00000,9,-999.0000,9,-999.0000,9,  -999.00,9,  -999.00,9,  -999.00,9,  -999.00,  -999.00,9,  -999.00,  -999.00,9,  -999.00, -999.000,9, -999.000, -999.000,9, -999.000,9, -999.000,9,   -999.0,9,   -999.0,9,-999.0000,-999,9,  -999.00,9,  -999.00,   -999.0,9,   -999.0,-999.0000,-999.0000
  49NZ20090521,   P21,   238,  1,      1, X12019,2,20090609,1155,-18.0470, 168.8303,  988,    982.8,2,   4.1583,2,   4.15809,2,  34.4603,2,  34.4603,6,   167.51,2,   166.66,2,    56.81,2,     0.24,    33.12,2,     0.13,     0.01,2,     0.01,    2.331,2,    0.016,    0.157,2,    0.081,2,    0.000,2,   2233.2,2,   2328.4,2,   7.6060,  25,2,  -999.00,9,  -999.00,   -999.0,9,   -999.0,   4.0829,  27.3482