BOTTLE,20020809WHPSIObren
EXPOCODE,SECT_ID,STNNBR,CASTNO,SAMPNO,BTLNBR,BTLNBR_FLAG_W,DATE,TIME,LATITUDE,LONGITUDE,DEPTH,CTDPRS,CTDTMP,CTDSAL,CTDSAL_FLAG_W,SALNTY,SALNTY_FLAG_W,CTDOXY,CTDOXY_FLAG_W,OXYGEN,OXYGEN_FLAG_W,SILCAT,SILCAT_FLAG_W,NO2+NO3,NO2+NO3_FLAG_W,PHSPHT,PHSPHT_FLAG_W,CTDRAW,REVTMP,REVPRS,THETA
,,,,,,,,,,,,DBAR,ITS-90,PSS-78,,PSS-78,,UMOL/KG,,UMOL/KG,,UMOL/KG,,UMOL/KG,,UMOL/KG,,,DEG C,DBAR,ITS-90
     31HX028_1,  PRS2,     2,  4,     17,     17,2,19910710,0250, 22.7500,-157.9950, 4800,     20.8,  25.4677,  34.8590,2,  34.8630,2,    249.6,2,    215.6,2,  -999.00,5,  -999.00,5,  -999.00,5,     18,-999.000,  -999.0, 25.4631
     31HX028_1,  PRS2,     2,  4,     16,     16,2,19910710,0250, 22.7500,-157.9950, 4800,    185.7,  19.9037,  35.2106,2,  35.2158,2,    205.6,2,    218.3,4,  -999.00,5,  -999.00,5,  -999.00,5,    181,-999.000,  -999.0, 19.8695
     31HX028_1,  PRS2,     2,  4,     15,     15,2,19910710,0250, 22.7500,-157.9950, 4800,    215.8,  18.6005,  35.0470,2,  35.0431,2,    207.4,2,    206.0,2,     2.85,2,     2.59,2,     0.26,2,    210,-999.000,  -999.0, 18.5626
     31HX028_1,  PRS2,     2,  4,     14,     14,2,19910710,0250, 22.7500,-157.9950, 4800,    230.5,  17.7169,  34.9289,2,  34.9281,2,    201.3,2,    208.5,2,     3.56,2,     3.47,2,     0.32,2,    224,-999.000,  -999.0, 17.6777
     31HX028_1,  PRS2,     2,  4,     13,     13,2,19910710,0250, 22.7500,-157.9950, 4800,    237.5,  17.4089,  34.8896,2,  34.8974,2,    203.4,2,    209.1,2,  -999.00,5,  -999.00,5,  -999.00,5,    232,-999.000,  -999.0, 17.3691
     31HX028_1,  PRS2,     2,  4,     12,     12,2,19910710,0250, 22.7500,-157.9950, 4800,    253.7,  16.3254,  34.7327,2,  34.7417,2,    196.0,2,    212.9,2,     4.63,2,     4.77,2,     0.41,2,    248,-999.000,  -999.0, 16.2847
     31HX028_1,  PRS2,     2,  4,     11,     11,2,19910710,0250, 22.7500,-157.9950, 4800,    285.4,  14.6748,  34.5259,2,  34.5252,2,    204.0,2,    216.4,2,     6.41,2,     6.68,2,     0.58,2,    279,-999.000,  -999.0, 14.6322
     31HX028_1,  PRS2,     2,  4,     10,     10,2,19910710,0250, 22.7500,-157.9950, 4800,    309.2,  13.3429,  34.3733,2,  34.3754,2,    206.8,2,    211.5,2,     8.55,2,     8.74,2,     0.69,2,    301,-999.000,  -999.0, 13.2997
     31HX028_1,  PRS2,     2,  4,      9,      9,2,19910710,0250, 22.7500,-157.9950, 4800,    336.1,  12.2459,  34.2779,2,  34.2781,2,    214.5,2,    213.4,2,    11.22,2,    11.05,2,     0.85,2,    328,-999.000,  -999.0, 12.2016
     31HX028_1,  PRS2,     2,  4,      8,      8,2,19910710,0250, 22.7500,-157.9950, 4800,    360.2,  11.0427,  34.1931,2,  34.1955,2,    210.1,2,    209.1,2,    15.32,2,    13.94,2,     1.05,2,    352,-999.000,  -999.0, 10.9982
     31HX028_1,  PRS2,     2,  4,      7,      7,2,19910710,0250, 22.7500,-157.9950, 4800,    413.1,   9.5769,  34.1320,2,  34.1301,2,    182.3,2,    209.2,2,    24.58,2,    19.35,2,     1.43,2,    403,-999.000,  -999.0,  9.5302
     31HX028_1,  PRS2,     2,  4,      6,      6,2,19910710,0250, 22.7500,-157.9950, 4800,    510.3,   7.4642,  34.0912,2,-999.0000,5,    126.7,2,    118.4,2,  -999.00,5,  -999.00,5,  -999.00,5,    499,-999.000,  -999.0,  7.4143
     31HX028_1,  PRS2,     2,  4,      5,     26,2,19910710,0250, 22.7500,-157.9950, 4800,    613.8,   6.0499,  34.1430,2,  34.1426,2,     66.1,2,    147.2,4,    67.87,2,    38.48,3,     2.60,2,    604,-999.000,  -999.0,  5.9959
     31HX028_1,  PRS2,     2,  4,      4,     25,2,19910710,0250, 22.7500,-157.9950, 4800,    715.9,   5.1178,  34.2548,2,  34.2538,2,     31.5,2,    127.7,4,    87.19,2,    39.95,2,     2.93,2,    706,-999.000,  -999.0,  5.0593
     31HX028_1,  PRS2,     2,  4,      3,      3,2,19910710,0250, 22.7500,-157.9950, 4800,    798.3,   4.7006,  34.3308,2,  34.3299,2,     27.8,2,    201.7,4,    95.49,2,    41.14,2,     3.00,2,    787,-999.000,  -999.0,  4.6373
     31HX028_1,  PRS2,     2,  4,      2,      2,2,19910710,0250, 22.7500,-157.9950, 4800,    903.2,   4.2616,  34.4012,2,  34.4005,2,     33.3,2,     33.4,2,   105.97,2,    41.95,2,     3.03,2,    892,-999.000,  -999.0,  4.1923
     31HX028_1,  PRS2,     2,  4,      1,      1,2,19910710,0250, 22.7500,-157.9950, 4800,   1028.9,   3.9055,  34.4795,2,  34.4816,2,     44.3,2,     43.0,2,   113.62,2,    41.70,2,     3.01,2,   1018,-999.000,  -999.0,  3.8282
     31HX028_1,  PRS2,     2,  5,     21,     21,2,19910710,0556, 22.7650,-157.9917, 4750,      3.3,  25.5743,  34.8848,2,  34.8860,2,    269.2,1,   -999.0,9,     1.60,2,     0.00,2,     0.12,2,      5,-999.000,  -999.0, 25.5736
     31HX028_1,  PRS2,     2,  5,     22,     22,2,19910710,0556, 22.7650,-157.9917, 4750,      3.4,  25.5713,  34.8848,2,  34.8853,2,    270.8,1,   -999.0,9,  -999.00,5,  -999.00,5,  -999.00,5,      4,-999.000,  -999.0, 25.5706
     31HX028_1,  PRS2,     2,  5,     20,     20,2,19910710,0556, 22.7650,-157.9917, 4750,     13.3,  25.5765,  34.8847,2,  34.8894,2,    267.2,1,   -999.0,9,     1.43,2,     0.00,2,     0.12,2,     15,-999.000,  -999.0, 25.5736
     31HX028_1,  PRS2,     2,  5,     19,     19,2,19910710,0556, 22.7650,-157.9917, 4750,     23.3,  25.5304,  34.8745,2,  34.8756,2,    263.5,1,   -999.0,9,  -999.00,5,  -999.00,5,  -999.00,5,     24,-999.000,  -999.0, 25.5253
     31HX028_1,  PRS2,     2,  5,     18,     18,2,19910710,0556, 22.7650,-157.9917, 4750,     23.3,  25.5343,  34.8758,2,  34.8904,3,    264.5,1,   -999.0,9,     1.43,2,     0.00,2,     0.12,2,     24,-999.000,  -999.0, 25.5292
     31HX028_1,  PRS2,     2,  5,     17,     17,2,19910710,0556, 22.7650,-157.9917, 4750,     34.0,  25.2033,  34.8572,2,  34.8581,2,    256.5,1,   -999.0,9,     1.43,2,     0.00,2,     0.12,2,     35,-999.000,  -999.0, 25.1959
     31HX028_1,  PRS2,     2,  5,     16,     16,2,19910710,0556, 22.7650,-157.9917, 4750,     43.2,  24.8123,  34.9244,2,  34.9161,2,    237.9,1,   -999.0,9,     1.25,2,     0.03,2,     0.10,2,     43,-999.000,  -999.0, 24.8030
     31HX028_1,  PRS2,     2,  5,     15,     15,2,19910710,0556, 22.7650,-157.9917, 4750,     58.9,  24.2718,  34.9583,2,  34.9604,2,    239.7,1,   -999.0,9,     1.25,2,     0.00,2,     0.10,2,     60,-999.000,  -999.0, 24.2593
     31HX028_1,  PRS2,     2,  5,     14,     14,2,19910710,0556, 22.7650,-157.9917, 4750,     73.9,  23.5230,  35.0516,2,  35.0494,2,    239.8,1,   -999.0,9,     1.25,2,     0.00,2,     0.10,2,     75,-999.000,  -999.0, 23.5077
     31HX028_1,  PRS2,     2,  5,     13,     13,2,19910710,0556, 22.7650,-157.9917, 4750,     84.7,  22.7622,  35.0785,2,  35.0767,2,    231.0,1,   -999.0,9,     1.06,2,     0.00,2,     0.12,2,     84,-999.000,  -999.0, 22.7450
     31HX028_1,  PRS2,     2,  5,     12,     12,2,19910710,0556, 22.7650,-157.9917, 4750,     94.5,  22.5251,  35.1087,2,  35.1053,2,    223.9,1,   -999.0,9,     1.43,2,     0.00,2,     0.12,2,     93,-999.000,  -999.0, 22.5061
     31HX028_1,  PRS2,     2,  5,     11,     11,2,19910710,0556, 22.7650,-157.9917, 4750,    104.4,  22.1744,  35.1346,2,  35.1303,2,    217.3,1,   -999.0,9,     1.43,2,     0.00,2,     0.12,2,    104,-999.000,  -999.0, 22.1536
     31HX028_1,  PRS2,     2,  5,     10,     10,2,19910710,0556, 22.7650,-157.9917, 4750,    115.1,  21.8726,  35.1691,2,  35.1673,2,    211.8,1,   -999.0,9,     1.43,2,     0.10,2,     0.13,2,    114,-999.000,  -999.0, 21.8499
     31HX028_1,  PRS2,     2,  5,      9,      9,2,19910710,0556, 22.7650,-157.9917, 4750,    127.4,  21.5986,  35.1548,2,  35.1533,2,    209.8,1,   -999.0,9,     1.43,2,     0.15,2,     0.14,2,    128,-999.000,  -999.0, 21.5737
     31HX028_1,  PRS2,     2,  5,      8,      8,2,19910710,0556, 22.7650,-157.9917, 4750,    135.8,  21.1202,  35.1600,2,  35.1543,2,    213.4,1,   -999.0,9,     1.60,2,     0.43,2,     0.17,2,    135,-999.000,  -999.0, 21.0941
     31HX028_1,  PRS2,     2,  5,      7,      7,2,19910710,0556, 22.7650,-157.9917, 4750,    150.6,  20.8871,  35.2588,2,  35.2585,2,    216.4,1,   -999.0,9,     1.43,2,     0.45,2,     0.14,2,    150,-999.000,  -999.0, 20.8584
     31HX028_1,  PRS2,     2,  5,      6,      6,3,19910710,0556, 22.7650,-157.9917, 4750,    161.5,  20.6238,  35.2494,2,-999.0000,5,    211.9,1,   -999.0,9,  -999.00,5,  -999.00,5,  -999.00,5,    158,-999.000,  -999.0, 20.5932
     31HX028_1,  PRS2,     2,  5,      5,     26,2,19910710,0556, 22.7650,-157.9917, 4750,    180.0,  20.1667,  35.2283,2,  35.2274,2,    204.0,1,   -999.0,9,     1.96,2,     1.05,2,     0.16,2,    178,-999.000,  -999.0, 20.1332
     31HX028_1,  PRS2,     2,  5,      4,     25,2,19910710,0556, 22.7650,-157.9917, 4750,    188.5,  19.9636,  35.2210,2,  35.2197,2,    205.1,1,   -999.0,9,  -999.00,5,  -999.00,5,  -999.00,5,    183,-999.000,  -999.0, 19.9287
     31HX028_1,  PRS2,     2,  5,      3,      3,2,19910710,0556, 22.7650,-157.9917, 4750,    205.8,  18.8441,  35.0076,2,  35.0169,2,    185.0,1,   -999.0,9,     2.85,2,     2.84,2,     0.32,2,    201,-999.000,  -999.0, 18.8076
     31HX028_1,  PRS2,     2,  5,      2,      2,2,19910710,0556, 22.7650,-157.9917, 4750,    506.9,   7.4463,  34.0954,2,  34.0934,2,    131.0,1,   -999.0,9,  -999.00,5,  -999.00,5,  -999.00,5,    499,-999.000,  -999.0,  7.3968
     31HX028_1,  PRS2,     2,  5,      1,      1,2,19910710,0556, 22.7650,-157.9917, 4750,   1026.5,   3.9255,  34.4888,2,  34.4912,2,     41.8,1,   -999.0,9,  -999.00,5,  -999.00,5,  -999.00,5,   1017,-999.000,  -999.0,  3.8482
     31HX028_1,  PRS2,     2,  6,     18,     18,3,19910710,0955, 22.7533,-157.9967, 4750,      8.8,  25.5161,  34.8707,2,-999.0000,5,    266.0,1,   -999.0,9,  -999.00,9,  -999.00,9,  -999.00,9,      7,-999.000,  -999.0, 25.5141
     31HX028_1,  PRS2,     2,  6,     17,     17,2,19910710,0955, 22.7533,-157.9967, 4750,      8.8,  25.5161,  34.8707,2,  34.8711,2,    266.0,1,   -999.0,9,  -999.00,9,  -999.00,9,  -999.00,9,      7,-999.000,  -999.0, 25.5141
     31HX028_1,  PRS2,     2,  6,     16,     16,2,19910710,0955, 22.7533,-157.9967, 4750,     28.1,  25.5213,  34.8703,2,  34.8717,2,    265.2,1,   -999.0,9,  -999.00,9,  -999.00,9,  -999.00,9,     26,-999.000,  -999.0, 25.5152
     31HX028_1,  PRS2,     2,  6,     15,     15,2,19910710,0955, 22.7533,-157.9967, 4750,     50.0,  24.8335,  34.9266,2,  34.9226,2,    248.9,1,   -999.0,9,  -999.00,9,  -999.00,9,  -999.00,9,     47,-999.000,  -999.0, 24.8227
     31HX028_1,  PRS2,     2,  6,     14,     14,2,19910710,0955, 22.7533,-157.9967, 4750,     77.5,  23.4835,  35.0452,2,  35.0427,2,    241.0,1,   -999.0,9,  -999.00,9,  -999.00,9,  -999.00,9,     75,-999.000,  -999.0, 23.4675
     31HX028_1,  PRS2,     2,  6,     13,     13,2,19910710,0955, 22.7533,-157.9967, 4750,     98.0,  22.7476,  35.0768,2,  35.0753,2,    231.8,1,   -999.0,9,  -999.00,9,  -999.00,9,  -999.00,9,     95,-999.000,  -999.0, 22.7277
     31HX028_1,  PRS2,     2,  6,     12,     12,2,19910710,0955, 22.7533,-157.9967, 4750,    110.0,  22.3972,  35.1170,2,  35.1163,2,    225.5,1,   -999.0,9,  -999.00,9,  -999.00,9,  -999.00,9,    107,-999.000,  -999.0, 22.3752
     31HX028_1,  PRS2,     2,  6,     11,     11,2,19910710,0955, 22.7533,-157.9967, 4750,    120.2,  21.7482,  35.1480,2,  35.1492,2,    216.5,1,   -999.0,9,  -999.00,9,  -999.00,9,  -999.00,9,    117,-999.000,  -999.0, 21.7246
     31HX028_1,  PRS2,     2,  6,      7,      7,2,19910710,0955, 22.7533,-157.9967, 4750,    130.9,  21.0481,  35.1239,2,-999.0000,5,    209.1,1,   -999.0,9,  -999.00,9,  -999.00,9,  -999.00,9,    127,-999.000,  -999.0, 21.0230
     31HX028_1,  PRS2,     2,  6,     10,     10,2,19910710,0955, 22.7533,-157.9967, 4750,    131.3,  20.9209,  35.1060,2,  35.1116,2,    208.0,1,   -999.0,9,  -999.00,9,  -999.00,9,  -999.00,9,    126,-999.000,  -999.0, 20.8958
     31HX028_1,  PRS2,     2,  6,      9,      9,2,19910710,0955, 22.7533,-157.9967, 4750,    131.3,  20.9457,  35.1101,2,  35.1157,2,    208.2,1,   -999.0,9,  -999.00,9,  -999.00,9,  -999.00,9,    128,-999.000,  -999.0, 20.9206
     31HX028_1,  PRS2,     2,  6,      8,      8,2,19910710,0955, 22.7533,-157.9967, 4750,    131.4,  20.9702,  35.1123,2,  35.1191,2,    208.7,1,   -999.0,9,  -999.00,9,  -999.00,9,  -999.00,9,    127,-999.000,  -999.0, 20.9451
     31HX028_1,  PRS2,     2,  6,      6,      6,3,19910710,0955, 22.7533,-157.9967, 4750,    139.0,  20.8400,  35.1550,2,-999.0000,5,    210.3,1,   -999.0,9,  -999.00,9,  -999.00,9,  -999.00,9,    135,-999.000,  -999.0, 20.8135
     31HX028_1,  PRS2,     2,  6,      5,     26,2,19910710,0955, 22.7533,-157.9967, 4750,    154.7,  20.4021,  35.1978,2,  35.2067,2,    213.8,1,   -999.0,9,  -999.00,9,  -999.00,9,  -999.00,9,    151,-999.000,  -999.0, 20.3730
     31HX028_1,  PRS2,     2,  6,      4,     25,2,19910710,0955, 22.7533,-157.9967, 4750,    181.7,  19.2670,  35.0855,2,  35.0864,2,    208.1,1,   -999.0,9,  -999.00,9,  -999.00,9,  -999.00,9,    176,-999.000,  -999.0, 19.2343
     31HX028_1,  PRS2,     2,  6,      3,      3,2,19910710,0955, 22.7533,-157.9967, 4750,    207.7,  17.8683,  34.9321,2,  34.9395,2,    197.3,1,   -999.0,9,  -999.00,9,  -999.00,9,  -999.00,9,    201,-999.000,  -999.0, 17.8328
     31HX028_1,  PRS2,     2,  6,      2,      2,2,19910710,0955, 22.7533,-157.9967, 4750,    509.7,   7.3388,  34.0936,2,  34.0930,2,    124.6,1,   -999.0,9,  -999.00,9,  -999.00,9,  -999.00,9,    499,-999.000,  -999.0,  7.2893
     31HX028_1,  PRS2,     2,  6,      1,      1,2,19910710,0955, 22.7533,-157.9967, 4750,   1031.0,   3.8347,  34.4945,2,  34.4961,2,     43.4,1,   -999.0,9,  -999.00,9,  -999.00,9,  -999.00,9,   1020,-999.000,  -999.0,  3.7578
     31HX028_1,  PRS2,     2,  7,     17,     17,2,19910710,1601, 22.7617,-158.0150, 4800,     13.7,  25.4412,  34.8662,2,  34.8677,2,    253.4,1,   -999.0,9,  -999.00,9,  -999.00,9,  -999.00,9,     12,-999.000,  -999.0, 25.4382
     31HX028_1,  PRS2,     2,  7,     16,     16,2,19910710,1601, 22.7617,-158.0150, 4800,     98.2,  23.2419,  35.0650,2,  35.0655,2,    231.5,1,   -999.0,9,  -999.00,9,  -999.00,9,  -999.00,9,     93,-999.000,  -999.0, 23.2217
     31HX028_1,  PRS2,     2,  7,     15,     15,2,19910710,1601, 22.7617,-158.0150, 4800,    138.8,  21.6127,  35.1786,2,  35.1840,2,    211.6,1,   -999.0,9,  -999.00,9,  -999.00,9,  -999.00,9,    134,-999.000,  -999.0, 21.5855
     31HX028_1,  PRS2,     2,  7,     14,     14,2,19910710,1601, 22.7617,-158.0150, 4800,    191.8,  18.9861,  35.0248,2,  35.0257,2,    206.5,1,   -999.0,9,  -999.00,9,  -999.00,9,  -999.00,9,    187,-999.000,  -999.0, 18.9519
     31HX028_1,  PRS2,     2,  7,     13,     13,2,19910710,1601, 22.7617,-158.0150, 4800,    262.1,  15.5795,  34.6393,2,  34.6436,2,    203.5,1,   -999.0,9,  -999.00,9,  -999.00,9,  -999.00,9,    257,-999.000,  -999.0, 15.5388
     31HX028_1,  PRS2,     2,  7,     12,     12,2,19910710,1601, 22.7617,-158.0150, 4800,    333.4,  11.7763,  34.2386,2,  34.2373,2,    208.8,1,   -999.0,9,  -999.00,9,  -999.00,9,  -999.00,9,    327,-999.000,  -999.0, 11.7335
     31HX028_1,  PRS2,     2,  7,     11,     11,2,19910710,1601, 22.7617,-158.0150, 4800,    373.3,  10.4715,  34.1638,2,  34.1622,2,    201.3,1,   -999.0,9,  -999.00,9,  -999.00,9,  -999.00,9,    366,-999.000,  -999.0, 10.4269
     31HX028_1,  PRS2,     2,  7,     10,     10,2,19910710,1601, 22.7617,-158.0150, 4800,    433.7,   8.8521,  34.1144,2,  34.1140,2,    169.5,1,   -999.0,9,  -999.00,9,  -999.00,9,  -999.00,9,    426,-999.000,  -999.0,  8.8054
     31HX028_1,  PRS2,     2,  7,      9,      9,2,19910710,1601, 22.7617,-158.0150, 4800,    503.9,   7.1256,  34.0928,2,  34.0912,2,    112.6,1,   -999.0,9,  -999.00,9,  -999.00,9,  -999.00,9,    496,-999.000,  -999.0,  7.0776
     31HX028_1,  PRS2,     2,  7,      8,      8,2,19910710,1601, 22.7617,-158.0150, 4800,    540.1,   6.7942,  34.1030,2,  34.1016,2,     99.4,1,   -999.0,9,  -999.00,9,  -999.00,9,  -999.00,9,    532,-999.000,  -999.0,  6.7439
     31HX028_1,  PRS2,     2,  7,      7,      7,2,19910710,1601, 22.7617,-158.0150, 4800,    571.8,   6.2917,  34.1306,2,  34.1332,2,     75.7,1,   -999.0,9,  -999.00,9,  -999.00,9,  -999.00,9,    564,-999.000,  -999.0,  6.2405
     31HX028_1,  PRS2,     2,  7,      6,      6,2,19910710,1601, 22.7617,-158.0150, 4800,    629.8,   5.7675,  34.1760,2,  34.1750,2,     56.1,1,   -999.0,9,  -999.00,9,  -999.00,9,  -999.00,9,    620,-999.000,  -999.0,  5.7133
     31HX028_1,  PRS2,     2,  7,      5,     26,2,19910710,1601, 22.7617,-158.0150, 4800,    697.5,   5.2560,  34.2418,2,  34.2410,2,     35.3,1,   -999.0,9,  -999.00,9,  -999.00,9,  -999.00,9,    689,-999.000,  -999.0,  5.1984
     31HX028_1,  PRS2,     2,  7,      4,     25,2,19910710,1601, 22.7617,-158.0150, 4800,    759.2,   4.7930,  34.2930,2,  34.2922,2,     29.4,1,   -999.0,9,  -999.00,9,  -999.00,9,  -999.00,9,    750,-999.000,  -999.0,  4.7325
     31HX028_1,  PRS2,     2,  7,      3,      3,2,19910710,1601, 22.7617,-158.0150, 4800,    855.3,   4.3642,  34.3835,2,  34.3827,2,     28.6,1,   -999.0,9,  -999.00,9,  -999.00,9,  -999.00,9,    846,-999.000,  -999.0,  4.2982
     31HX028_1,  PRS2,     2,  7,      2,      2,2,19910710,1601, 22.7617,-158.0150, 4800,    988.1,   4.0215,  34.4695,2,  34.4692,2,     41.9,1,   -999.0,9,  -999.00,9,  -999.00,9,  -999.00,9,    978,-999.000,  -999.0,  3.9467
     31HX028_1,  PRS2,     2,  7,      1,      1,2,19910710,1601, 22.7617,-158.0150, 4800,   1030.7,   3.9538,  34.4858,2,  34.4859,2,     42.2,1,   -999.0,9,  -999.00,9,  -999.00,9,  -999.00,9,   1021,-999.000,  -999.0,  3.8760