BOTTLE,20020809WHPSIObren
EXPOCODE,SECT_ID,STNNBR,CASTNO,SAMPNO,BTLNBR,BTLNBR_FLAG_W,DATE,TIME,LATITUDE,LONGITUDE,DEPTH,CTDPRS,CTDTMP,CTDSAL,CTDSAL_FLAG_W,SALNTY,SALNTY_FLAG_W,CTDOXY,CTDOXY_FLAG_W,OXYGEN,OXYGEN_FLAG_W,SILCAT,SILCAT_FLAG_W,NO2+NO3,NO2+NO3_FLAG_W,PHSPHT,PHSPHT_FLAG_W,CTDRAW,REVTMP,REVPRS,THETA
,,,,,,,,,,,,DBAR,ITS-90,PSS-78,,PSS-78,,UMOL/KG,,UMOL/KG,,UMOL/KG,,UMOL/KG,,UMOL/KG,,,DEG C,DBAR,ITS-90
     31HX028_1,  PRS2,     2,  8,     12,     12,2,19910710,1909, 22.7450,-158.0783, 4800,      8.3,  25.4050,  34.8427,2,  34.8422,2,    226.9,1,   -999.0,9,  -999.00,9,  -999.00,9,  -999.00,9,      7,-999.000,  -999.0, 25.4032
     31HX028_1,  PRS2,     2,  8,     11,     11,2,19910710,1909, 22.7450,-158.0783, 4800,     28.6,  25.3981,  34.8420,2,  34.8422,2,    228.6,1,   -999.0,9,  -999.00,9,  -999.00,9,  -999.00,9,     26,-999.000,  -999.0, 25.3918
     31HX028_1,  PRS2,     2,  8,     10,     10,2,19910710,1909, 22.7450,-158.0783, 4800,     47.4,  25.2000,  34.8499,2,  34.8495,2,    229.7,1,   -999.0,9,  -999.00,9,  -999.00,9,  -999.00,9,     45,-999.000,  -999.0, 25.1897
     31HX028_1,  PRS2,     2,  8,      9,      9,2,19910710,1909, 22.7450,-158.0783, 4800,     78.2,  23.5408,  35.0355,2,  35.0368,2,    235.8,1,   -999.0,9,  -999.00,9,  -999.00,9,  -999.00,9,     74,-999.000,  -999.0, 23.5246
     31HX028_1,  PRS2,     2,  8,      8,      8,2,19910710,1909, 22.7450,-158.0783, 4800,    103.6,  22.5829,  35.1357,2,  35.1360,2,    219.4,1,   -999.0,9,  -999.00,9,  -999.00,9,  -999.00,9,    100,-999.000,  -999.0, 22.5621
     31HX028_1,  PRS2,     2,  8,      7,      7,2,19910710,1909, 22.7450,-158.0783, 4800,    130.0,  22.0309,  35.2108,2,  35.2115,2,    218.0,1,   -999.0,9,  -999.00,9,  -999.00,9,  -999.00,9,    127,-999.000,  -999.0, 22.0051
     31HX028_1,  PRS2,     2,  8,      6,      6,2,19910710,1909, 22.7450,-158.0783, 4800,    157.7,  20.5558,  35.1708,2,  35.1880,2,    185.2,1,   -999.0,9,  -999.00,9,  -999.00,9,  -999.00,9,    152,-999.000,  -999.0, 20.5260
     31HX028_1,  PRS2,     2,  8,      5,     26,2,19910710,1909, 22.7450,-158.0783, 4800,    179.3,  19.4485,  35.0760,2,  35.0764,2,    188.8,1,   -999.0,9,  -999.00,9,  -999.00,9,  -999.00,9,    173,-999.000,  -999.0, 19.4160
     31HX028_1,  PRS2,     2,  8,      4,     25,2,19910710,1909, 22.7450,-158.0783, 4800,    260.0,  15.0177,  34.5637,2,  34.5641,2,    200.9,1,   -999.0,9,  -999.00,9,  -999.00,9,  -999.00,9,    253,-999.000,  -999.0, 14.9784
     31HX028_1,  PRS2,     2,  8,      3,      3,2,19910710,1909, 22.7450,-158.0783, 4800,    514.1,   7.2963,  34.0894,2,-999.0000,5,    129.1,1,   -999.0,9,  -999.00,9,  -999.00,9,  -999.00,9,    503,-999.000,  -999.0,  7.2467
     31HX028_1,  PRS2,     2,  8,      2,      2,2,19910710,1909, 22.7450,-158.0783, 4800,    762.5,   4.7081,  34.3059,2,-999.0000,5,     26.4,1,   -999.0,9,  -999.00,9,  -999.00,9,  -999.00,9,    750,-999.000,  -999.0,  4.6478
     31HX028_1,  PRS2,     2,  8,      1,      1,2,19910710,1909, 22.7450,-158.0783, 4800,   1040.9,   3.8831,  34.4925,2,-999.0000,5,     42.9,1,   -999.0,9,  -999.00,9,  -999.00,9,  -999.00,9,   1029,-999.000,  -999.0,  3.8050
     31HX028_1,  PRS2,     2,  9,     17,     17,2,19910710,2306, 22.7533,-157.9967, 4800,      4.8,  25.5800,  34.8581,2,-999.0000,5,    248.6,1,   -999.0,9,  -999.00,9,  -999.00,9,  -999.00,9,      5,-999.000,  -999.0, 25.5790
     31HX028_1,  PRS2,     2,  9,     14,     14,2,19910710,2306, 22.7533,-157.9967, 4800,      4.9,  25.5747,  34.8575,2,-999.0000,5,    252.4,1,   -999.0,9,  -999.00,9,  -999.00,9,  -999.00,9,      4,-999.000,  -999.0, 25.5736
     31HX028_1,  PRS2,     2,  9,     18,     18,2,19910710,2306, 22.7533,-157.9967, 4800,      5.0,  25.5835,  34.8582,2,-999.0000,5,    245.8,1,   -999.0,9,  -999.00,9,  -999.00,9,  -999.00,9,      5,-999.000,  -999.0, 25.5824
     31HX028_1,  PRS2,     2,  9,     23,     23,2,19910710,2306, 22.7533,-157.9967, 4800,      5.1,  25.5763,  34.8592,2,-999.0000,5,    219.9,1,   -999.0,9,  -999.00,9,  -999.00,9,  -999.00,9,      9,-999.000,  -999.0, 25.5751
     31HX028_1,  PRS2,     2,  9,     21,     21,2,19910710,2306, 22.7533,-157.9967, 4800,      5.1,  25.5768,  34.8584,2,-999.0000,5,    234.9,1,   -999.0,9,  -999.00,9,  -999.00,9,  -999.00,9,      9,-999.000,  -999.0, 25.5757
     31HX028_1,  PRS2,     2,  9,     20,     20,2,19910710,2306, 22.7533,-157.9967, 4800,      5.1,  25.5821,  34.8587,2,-999.0000,5,    239.9,1,   -999.0,9,  -999.00,9,  -999.00,9,  -999.00,9,      8,-999.000,  -999.0, 25.5809
     31HX028_1,  PRS2,     2,  9,     19,     19,2,19910710,2306, 22.7533,-157.9967, 4800,      5.1,  25.5834,  34.8583,2,-999.0000,5,    243.3,1,   -999.0,9,  -999.00,9,  -999.00,9,  -999.00,9,      5,-999.000,  -999.0, 25.5823
     31HX028_1,  PRS2,     2,  9,     22,     22,2,19910710,2306, 22.7533,-157.9967, 4800,      5.2,  25.5803,  34.8588,2,-999.0000,5,    228.3,1,   -999.0,9,  -999.00,9,  -999.00,9,  -999.00,9,      9,-999.000,  -999.0, 25.5792
     31HX028_1,  PRS2,     2,  9,     13,     13,2,19910710,2306, 22.7533,-157.9967, 4800,      5.2,  25.5644,  34.8570,2,-999.0000,5,    252.4,1,   -999.0,9,  -999.00,9,  -999.00,9,  -999.00,9,      5,-999.000,  -999.0, 25.5633
     31HX028_1,  PRS2,     2,  9,     15,     15,2,19910710,2306, 22.7533,-157.9967, 4800,      5.5,  25.5822,  34.8578,2,-999.0000,5,    252.0,1,   -999.0,9,  -999.00,9,  -999.00,9,  -999.00,9,      4,-999.000,  -999.0, 25.5810
     31HX028_1,  PRS2,     2,  9,     16,     16,2,19910710,2306, 22.7533,-157.9967, 4800,      5.6,  25.5765,  34.8580,2,-999.0000,5,    250.9,1,   -999.0,9,  -999.00,9,  -999.00,9,  -999.00,9,      6,-999.000,  -999.0, 25.5753
     31HX028_1,  PRS2,     2,  9,     12,     12,2,19910710,2306, 22.7533,-157.9967, 4800,      8.9,  25.5624,  34.8564,2,  34.8562,2,    252.0,1,   -999.0,9,  -999.00,9,  -999.00,9,  -999.00,9,      8,-999.000,  -999.0, 25.5604
     31HX028_1,  PRS2,     2,  9,     11,     11,2,19910710,2306, 22.7533,-157.9967, 4800,     28.7,  25.4692,  34.8556,2,  34.8581,2,    237.0,1,   -999.0,9,  -999.00,9,  -999.00,9,  -999.00,9,     27,-999.000,  -999.0, 25.4629
     31HX028_1,  PRS2,     2,  9,     10,     10,2,19910710,2306, 22.7533,-157.9967, 4800,     49.1,  24.9109,  34.9291,2,  34.9225,2,    227.6,1,   -999.0,9,  -999.00,9,  -999.00,9,  -999.00,9,     47,-999.000,  -999.0, 24.9002
     31HX028_1,  PRS2,     2,  9,      9,      9,2,19910710,2306, 22.7533,-157.9967, 4800,     80.0,  23.4738,  35.0806,2,  35.0797,2,    228.2,1,   -999.0,9,  -999.00,9,  -999.00,9,  -999.00,9,     77,-999.000,  -999.0, 23.4572
     31HX028_1,  PRS2,     2,  9,      8,      8,2,19910710,2306, 22.7533,-157.9967, 4800,    102.8,  22.8530,  35.1056,2,  35.1037,2,    221.0,1,   -999.0,9,  -999.00,9,  -999.00,9,  -999.00,9,    100,-999.000,  -999.0, 22.8321
     31HX028_1,  PRS2,     2,  9,      7,      7,2,19910710,2306, 22.7533,-157.9967, 4800,    130.5,  22.0025,  35.1831,2,  35.1912,2,    210.4,1,   -999.0,9,  -999.00,9,  -999.00,9,  -999.00,9,    126,-999.000,  -999.0, 21.9767
     31HX028_1,  PRS2,     2,  9,      6,      6,2,19910710,2306, 22.7533,-157.9967, 4800,    158.2,  21.0749,  35.1384,2,  35.1386,2,    205.0,1,   -999.0,9,  -999.00,9,  -999.00,9,  -999.00,9,    152,-999.000,  -999.0, 21.0445
     31HX028_1,  PRS2,     2,  9,      5,     26,2,19910710,2306, 22.7533,-157.9967, 4800,    184.8,  20.1224,  35.1514,2,-999.0000,5,    205.3,1,   -999.0,9,  -999.00,9,  -999.00,9,  -999.00,9,    180,-999.000,  -999.0, 20.0880
     31HX028_1,  PRS2,     2,  9,      4,     25,2,19910710,2306, 22.7533,-157.9967, 4800,    261.9,  16.1462,  34.7158,2,  34.7136,2,    196.5,1,   -999.0,9,  -999.00,9,  -999.00,9,  -999.00,9,    254,-999.000,  -999.0, 16.1045
     31HX028_1,  PRS2,     2,  9,      3,      3,2,19910710,2306, 22.7533,-157.9967, 4800,    509.3,   7.1935,  34.0953,2,  34.1820,4,    115.3,1,   -999.0,9,  -999.00,9,  -999.00,9,  -999.00,9,    498,-999.000,  -999.0,  7.1446
     31HX028_1,  PRS2,     2,  9,      2,      2,2,19910710,2306, 22.7533,-157.9967, 4800,    759.0,   4.7953,  34.3094,2,  34.3089,2,     23.7,1,   -999.0,9,  -999.00,9,  -999.00,9,  -999.00,9,    749,-999.000,  -999.0,  4.7348
     31HX028_1,  PRS2,     2,  9,      1,      1,2,19910710,2306, 22.7533,-157.9967, 4800,   1032.4,   3.8877,  34.4899,2,  34.4897,2,     44.4,1,   -999.0,9,  -999.00,9,  -999.00,9,  -999.00,9,   1022,-999.000,  -999.0,  3.8103
     31HX028_1,  PRS2,     2, 10,      1,      1,2,19910711,0211, 22.7483,-158.0050, 4750,   1026.7,   3.9280,  34.4816,2,-999.0000,9,     43.4,1,   -999.0,9,  -999.00,9,  -999.00,9,  -999.00,9,   1016,-999.000,  -999.0,  3.8507
     31HX028_1,  PRS2,     2, 11,     15,     15,2,19910711,1134, 22.7483,-158.0017, 4750,      4.6,  25.4607,  34.8555,2,  34.8550,2,    243.9,1,   -999.0,9,  -999.00,9,  -999.00,9,  -999.00,9,      3,-999.000,  -999.0, 25.4597
     31HX028_1,  PRS2,     2, 11,     14,     14,2,19910711,1134, 22.7483,-158.0017, 4750,     75.7,  24.1873,  35.0024,2,  35.0000,2,    243.2,1,   -999.0,9,  -999.00,9,  -999.00,9,  -999.00,9,     74,-999.000,  -999.0, 24.1713
     31HX028_1,  PRS2,     2, 11,     13,     13,2,19910711,1134, 22.7483,-158.0017, 4750,     83.7,  23.6344,  35.0479,2,  35.0358,2,    240.5,1,   -999.0,9,  -999.00,9,  -999.00,9,  -999.00,9,     82,-999.000,  -999.0, 23.6170
     31HX028_1,  PRS2,     2, 11,     12,     12,2,19910711,1134, 22.7483,-158.0017, 4750,     95.6,  23.2531,  35.0944,2,  35.1043,2,    238.5,1,   -999.0,9,  -999.00,9,  -999.00,9,  -999.00,9,     94,-999.000,  -999.0, 23.2334
     31HX028_1,  PRS2,     2, 11,     11,     11,2,19910711,1134, 22.7483,-158.0017, 4750,    101.5,  23.0151,  35.0904,2,  35.0900,2,    234.8,1,   -999.0,9,  -999.00,9,  -999.00,9,  -999.00,9,     99,-999.000,  -999.0, 22.9944
     31HX028_1,  PRS2,     2, 11,     10,     10,2,19910711,1134, 22.7483,-158.0017, 4750,    106.2,  22.8756,  35.0893,2,  35.0894,2,    236.9,1,   -999.0,9,  -999.00,9,  -999.00,9,  -999.00,9,    103,-999.000,  -999.0, 22.8540
     31HX028_1,  PRS2,     2, 11,      9,      9,2,19910711,1134, 22.7483,-158.0017, 4750,    113.2,  22.6264,  35.1389,2,  35.1305,2,    228.3,1,   -999.0,9,  -999.00,9,  -999.00,9,  -999.00,9,    111,-999.000,  -999.0, 22.6036
     31HX028_1,  PRS2,     2, 11,      8,      8,2,19910711,1134, 22.7483,-158.0017, 4750,    117.4,  22.3485,  35.1760,2,  35.1788,2,    226.9,1,   -999.0,9,  -999.00,9,  -999.00,9,  -999.00,9,    115,-999.000,  -999.0, 22.3250
     31HX028_1,  PRS2,     2, 11,      7,      7,2,19910711,1134, 22.7483,-158.0017, 4750,    122.3,  22.1317,  35.1812,2,  35.1825,2,    224.3,1,   -999.0,9,  -999.00,9,  -999.00,9,  -999.00,9,    119,-999.000,  -999.0, 22.1074
     31HX028_1,  PRS2,     2, 11,      6,      6,2,19910711,1134, 22.7483,-158.0017, 4750,    129.0,  21.7661,  35.1597,2,  35.1634,2,    218.2,1,   -999.0,9,  -999.00,9,  -999.00,9,  -999.00,9,    125,-999.000,  -999.0, 21.7408
     31HX028_1,  PRS2,     2, 11,      5,     26,2,19910711,1134, 22.7483,-158.0017, 4750,    138.6,  21.0021,  35.1119,2,  35.1140,2,    214.3,1,   -999.0,9,  -999.00,9,  -999.00,9,  -999.00,9,    135,-999.000,  -999.0, 20.9756
     31HX028_1,  PRS2,     2, 11,      4,     25,2,19910711,1134, 22.7483,-158.0017, 4750,    150.5,  20.4555,  35.1408,2,  35.1396,2,    224.0,1,   -999.0,9,  -999.00,9,  -999.00,9,  -999.00,9,    146,-999.000,  -999.0, 20.4272
     31HX028_1,  PRS2,     2, 11,      3,      3,2,19910711,1134, 22.7483,-158.0017, 4750,    181.0,  19.6528,  35.1778,2,  35.1888,2,    214.7,1,   -999.0,9,  -999.00,9,  -999.00,9,  -999.00,9,    177,-999.000,  -999.0, 19.6197
     31HX028_1,  PRS2,     2, 11,      2,      2,2,19910711,1134, 22.7483,-158.0017, 4750,    511.7,   7.1204,  34.0917,2,  34.0930,2,    123.6,1,   -999.0,9,  -999.00,9,  -999.00,9,  -999.00,9,    501,-999.000,  -999.0,  7.0716
     31HX028_1,  PRS2,     2, 11,      1,      1,2,19910711,1134, 22.7483,-158.0017, 4750,   1030.1,   3.8725,  34.4775,2,  34.4801,2,     43.4,1,   -999.0,9,  -999.00,9,  -999.00,9,  -999.00,9,   1022,-999.000,  -999.0,  3.7954
     31HX028_1,  PRS2,     2, 12,      7,      7,2,19910711,1507, 22.7500,-158.0033, 4800,     12.3,  25.4484,  34.8512,2,-999.0000,5,    244.9,1,   -999.0,9,  -999.00,9,  -999.00,9,  -999.00,9,     11,-999.000,  -999.0, 25.4457
     31HX028_1,  PRS2,     2, 12,      9,      9,2,19910711,1507, 22.7500,-158.0033, 4800,     12.5,  25.4512,  34.8515,2,-999.0000,5,    245.1,1,   -999.0,9,  -999.00,9,  -999.00,9,  -999.00,9,     12,-999.000,  -999.0, 25.4485
     31HX028_1,  PRS2,     2, 12,     15,     15,2,19910711,1507, 22.7500,-158.0033, 4800,     12.6,  25.4479,  34.8531,2,-999.0000,5,    248.0,1,   -999.0,9,  -999.00,9,  -999.00,9,  -999.00,9,     12,-999.000,  -999.0, 25.4452
     31HX028_1,  PRS2,     2, 12,     17,     17,2,19910711,1507, 22.7500,-158.0033, 4800,     12.7,  25.4506,  34.8526,2,-999.0000,5,    245.6,1,   -999.0,9,  -999.00,9,  -999.00,9,  -999.00,9,     12,-999.000,  -999.0, 25.4478
     31HX028_1,  PRS2,     2, 12,     14,     14,2,19910711,1507, 22.7500,-158.0033, 4800,     12.7,  25.4468,  34.8526,2,-999.0000,5,    248.2,1,   -999.0,9,  -999.00,9,  -999.00,9,  -999.00,9,     12,-999.000,  -999.0, 25.4440
     31HX028_1,  PRS2,     2, 12,      6,      6,2,19910711,1507, 22.7500,-158.0033, 4800,     12.7,  25.4486,  34.8505,2,-999.0000,5,    244.7,1,   -999.0,9,  -999.00,9,  -999.00,9,  -999.00,9,     13,-999.000,  -999.0, 25.4458
     31HX028_1,  PRS2,     2, 12,     19,     19,2,19910711,1507, 22.7500,-158.0033, 4800,     12.8,  25.4492,  34.8531,2,-999.0000,5,    242.8,1,   -999.0,9,  -999.00,9,  -999.00,9,  -999.00,9,     13,-999.000,  -999.0, 25.4464
     31HX028_1,  PRS2,     2, 12,     13,     13,2,19910711,1507, 22.7500,-158.0033, 4800,     12.8,  25.4491,  34.8523,2,-999.0000,5,    247.7,1,   -999.0,9,  -999.00,9,  -999.00,9,  -999.00,9,     12,-999.000,  -999.0, 25.4463
     31HX028_1,  PRS2,     2, 12,     10,     10,2,19910711,1507, 22.7500,-158.0033, 4800,     12.8,  25.4521,  34.8514,2,-999.0000,5,    245.4,1,   -999.0,9,  -999.00,9,  -999.00,9,  -999.00,9,     11,-999.000,  -999.0, 25.4493
     31HX028_1,  PRS2,     2, 12,     16,     16,2,19910711,1507, 22.7500,-158.0033, 4800,     12.9,  25.4446,  34.8532,2,-999.0000,5,    247.1,1,   -999.0,9,  -999.00,9,  -999.00,9,  -999.00,9,     12,-999.000,  -999.0, 25.4418
     31HX028_1,  PRS2,     2, 12,      4,     25,2,19910711,1507, 22.7500,-158.0033, 4800,     12.9,  25.4494,  34.8499,2,  34.8505,2,    244.7,1,   -999.0,9,  -999.00,9,  -999.00,9,  -999.00,9,     11,-999.000,  -999.0, 25.4466
     31HX028_1,  PRS2,     2, 12,     22,     22,2,19910711,1507, 22.7500,-158.0033, 4800,     13.0,  25.4454,  34.8532,2,-999.0000,5,    243.8,1,   -999.0,9,  -999.00,9,  -999.00,9,  -999.00,9,     12,-999.000,  -999.0, 25.4425
     31HX028_1,  PRS2,     2, 12,      8,      8,2,19910711,1507, 22.7500,-158.0033, 4800,     13.0,  25.4471,  34.8514,2,-999.0000,5,    245.0,1,   -999.0,9,  -999.00,9,  -999.00,9,  -999.00,9,     12,-999.000,  -999.0, 25.4443
     31HX028_1,  PRS2,     2, 12,     20,     20,2,19910711,1507, 22.7500,-158.0033, 4800,     13.1,  25.4472,  34.8532,2,-999.0000,5,    242.4,1,   -999.0,9,  -999.00,9,  -999.00,9,  -999.00,9,     12,-999.000,  -999.0, 25.4443
     31HX028_1,  PRS2,     2, 12,     12,     12,2,19910711,1507, 22.7500,-158.0033, 4800,     13.1,  25.4493,  34.8524,2,-999.0000,5,    246.8,1,   -999.0,9,  -999.00,9,  -999.00,9,  -999.00,9,     11,-999.000,  -999.0, 25.4465
     31HX028_1,  PRS2,     2, 12,     18,     18,2,19910711,1507, 22.7500,-158.0033, 4800,     13.2,  25.4506,  34.8525,2,-999.0000,5,    244.1,1,   -999.0,9,  -999.00,9,  -999.00,9,  -999.00,9,     13,-999.000,  -999.0, 25.4478
     31HX028_1,  PRS2,     2, 12,     21,     21,2,19910711,1507, 22.7500,-158.0033, 4800,     13.3,  25.4465,  34.8535,2,-999.0000,5,    242.9,1,   -999.0,9,  -999.00,9,  -999.00,9,  -999.00,9,     13,-999.000,  -999.0, 25.4436
     31HX028_1,  PRS2,     2, 12,     11,     11,2,19910711,1507, 22.7500,-158.0033, 4800,     13.3,  25.4529,  34.8515,2,-999.0000,5,    246.0,1,   -999.0,9,  -999.00,9,  -999.00,9,  -999.00,9,     12,-999.000,  -999.0, 25.4500
     31HX028_1,  PRS2,     2, 12,      5,     26,2,19910711,1507, 22.7500,-158.0033, 4800,     13.3,  25.4499,  34.8502,2,-999.0000,5,    244.7,1,   -999.0,9,  -999.00,9,  -999.00,9,  -999.00,9,     11,-999.000,  -999.0, 25.4469
     31HX028_1,  PRS2,     2, 12,     23,     23,2,19910711,1507, 22.7500,-158.0033, 4800,     13.5,  25.4492,  34.8536,2,-999.0000,5,    245.9,1,   -999.0,9,  -999.00,9,  -999.00,9,  -999.00,9,     13,-999.000,  -999.0, 25.4462
     31HX028_1,  PRS2,     2, 12,      3,      3,2,19910711,1507, 22.7500,-158.0033, 4800,    181.3,  20.3420,  35.2290,2,  35.2308,2,    216.1,1,   -999.0,9,  -999.00,9,  -999.00,9,  -999.00,9,    177,-999.000,  -999.0, 20.3081
     31HX028_1,  PRS2,     2, 12,      2,      2,2,19910711,1507, 22.7500,-158.0033, 4800,    513.7,   7.4221,  34.0931,2,  34.0927,2,    129.0,1,   -999.0,9,  -999.00,9,  -999.00,9,  -999.00,9,    505,-999.000,  -999.0,  7.3719
     31HX028_1,  PRS2,     2, 12,      1,      1,2,19910711,1507, 22.7500,-158.0033, 4800,   1035.5,   3.8972,  34.4860,2,  34.4866,2,     43.7,1,   -999.0,9,  -999.00,9,  -999.00,9,  -999.00,9,   1024,-999.000,  -999.0,  3.8194
     31HX028_1,  PRS2,     2, 13,      8,      8,2,19910711,1853, 22.7617,-158.0183, 4800,      3.3,  25.4563,  34.8521,2,  34.8520,2,    257.5,1,   -999.0,9,  -999.00,9,  -999.00,9,  -999.00,9,      2,-999.000,  -999.0, 25.4556
     31HX028_1,  PRS2,     2, 13,      7,      7,2,19910711,1853, 22.7617,-158.0183, 4800,    154.6,  20.3069,  35.0874,2,  35.0852,2,    209.5,1,   -999.0,9,  -999.00,9,  -999.00,9,  -999.00,9,    151,-999.000,  -999.0, 20.2780
     31HX028_1,  PRS2,     2, 13,      4,     25,2,19910711,1853, 22.7617,-158.0183, 4800,    255.9,  15.4844,  34.6287,2,-999.0000,5,    212.5,1,   -999.0,9,  -999.00,9,  -999.00,9,  -999.00,9,    250,-999.000,  -999.0, 15.4448
     31HX028_1,  PRS2,     2, 13,      3,      3,2,19910711,1853, 22.7617,-158.0183, 4800,    255.9,  15.5458,  34.6394,2,  34.6360,2,    212.3,1,   -999.0,9,  -999.00,9,  -999.00,9,  -999.00,9,    250,-999.000,  -999.0, 15.5061
     31HX028_1,  PRS2,     2, 13,      6,      6,2,19910711,1853, 22.7617,-158.0183, 4800,    256.2,  15.3883,  34.6167,2,-999.0000,5,    212.9,1,   -999.0,9,  -999.00,9,  -999.00,9,  -999.00,9,    250,-999.000,  -999.0, 15.3489
     31HX028_1,  PRS2,     2, 13,      5,     26,2,19910711,1853, 22.7617,-158.0183, 4800,    256.5,  15.4261,  34.6243,2,-999.0000,5,    212.9,1,   -999.0,9,  -999.00,9,  -999.00,9,  -999.00,9,    251,-999.000,  -999.0, 15.3866
     31HX028_1,  PRS2,     2, 13,      2,      2,2,19910711,1853, 22.7617,-158.0183, 4800,    510.4,   7.3024,  34.0937,2,  34.0934,2,    132.5,1,   -999.0,9,  -999.00,9,  -999.00,9,  -999.00,9,    502,-999.000,  -999.0,  7.2530
     31HX028_1,  PRS2,     2, 13,      1,      1,2,19910711,1853, 22.7617,-158.0183, 4800,   1033.1,   3.9105,  34.4906,2,  34.4905,2,     65.5,1,   -999.0,9,  -999.00,9,  -999.00,9,  -999.00,9,   1021,-999.000,  -999.0,  3.8328