BOTTLE,20020809WHPSIObren
EXPOCODE,SECT_ID,STNNBR,CASTNO,SAMPNO,BTLNBR,BTLNBR_FLAG_W,DATE,TIME,LATITUDE,LONGITUDE,DEPTH,CTDPRS,CTDTMP,CTDSAL,CTDSAL_FLAG_W,SALNTY,SALNTY_FLAG_W,CTDOXY,CTDOXY_FLAG_W,OXYGEN,OXYGEN_FLAG_W,SILCAT,SILCAT_FLAG_W,NO2+NO3,NO2+NO3_FLAG_W,PHSPHT,PHSPHT_FLAG_W,CTDRAW,REVTMP,REVPRS,THETA
,,,,,,,,,,,,DBAR,ITS-90,PSS-78,,PSS-78,,UMOL/KG,,UMOL/KG,,UMOL/KG,,UMOL/KG,,UMOL/KG,,,DEG C,DBAR,ITS-90
     31HX028_1,  PRS2,     2, 14,      5,     26,2,19910711,2329, 22.7467,-158.0100, 4800,     14.1,  25.5201,  34.8449,2,  34.8479,2,    236.9,1,   -999.0,9,  -999.00,9,  -999.00,9,  -999.00,9,     11,-999.000,  -999.0, 25.5170
     31HX028_1,  PRS2,     2, 14,      4,     25,2,19910711,2329, 22.7467,-158.0100, 4800,    123.6,  22.5568,  35.1760,2,  35.1768,2,    228.6,1,   -999.0,9,  -999.00,9,  -999.00,9,  -999.00,9,    120,-999.000,  -999.0, 22.5319
     31HX028_1,  PRS2,     2, 14,      3,      3,2,19910711,2329, 22.7467,-158.0100, 4800,    186.3,  20.3392,  35.2384,2,  35.2300,2,    217.6,1,   -999.0,9,  -999.00,9,  -999.00,9,  -999.00,9,    181,-999.000,  -999.0, 20.3043
     31HX028_1,  PRS2,     2, 14,      2,      2,2,19910711,2329, 22.7467,-158.0100, 4800,    509.6,   7.1694,  34.0910,2,  34.0891,2,    119.9,1,   -999.0,9,  -999.00,9,  -999.00,9,  -999.00,9,    502,-999.000,  -999.0,  7.1206
     31HX028_1,  PRS2,     2, 14,      1,      1,2,19910711,2329, 22.7467,-158.0100, 4800,   1033.6,   3.8947,  34.4924,2,  34.4924,2,     45.3,1,   -999.0,9,  -999.00,9,  -999.00,9,  -999.00,9,   1022,-999.000,  -999.0,  3.8171
     31HX028_1,  PRS2,     2, 15,     20,     20,4,19910712,0208, 22.7500,-158.0017, 4750,      5.5,  25.5207,  34.8450,2,-999.0000,5,    263.3,1,   -999.0,9,  -999.00,9,  -999.00,9,  -999.00,9,      4,-999.000,  -999.0, 25.5195
     31HX028_1,  PRS2,     2, 15,     19,     19,2,19910712,0208, 22.7500,-158.0017, 4750,     75.2,  23.7909,  35.0458,2,  35.0401,2,    239.7,1,   -999.0,9,  -999.00,9,  -999.00,9,  -999.00,9,     75,-999.000,  -999.0, 23.7752
     31HX028_1,  PRS2,     2, 15,     18,     18,2,19910712,0208, 22.7500,-158.0017, 4750,     86.1,  23.4936,  35.0475,2,  35.0464,2,    237.2,1,   -999.0,9,  -999.00,9,  -999.00,9,  -999.00,9,     83,-999.000,  -999.0, 23.4757
     31HX028_1,  PRS2,     2, 15,     17,     17,2,19910712,0208, 22.7500,-158.0017, 4750,     94.4,  23.2482,  35.0630,2,  35.0608,2,    237.2,1,   -999.0,9,  -999.00,9,  -999.00,9,  -999.00,9,     94,-999.000,  -999.0, 23.2288
     31HX028_1,  PRS2,     2, 15,     16,     16,2,19910712,0208, 22.7500,-158.0017, 4750,    100.1,  23.0433,  35.0852,2,  35.0833,2,    235.1,1,   -999.0,9,  -999.00,9,  -999.00,9,  -999.00,9,    100,-999.000,  -999.0, 23.0228
     31HX028_1,  PRS2,     2, 15,     15,     15,2,19910712,0208, 22.7500,-158.0017, 4750,    105.8,  22.8202,  35.0796,2,  35.0821,2,    233.1,1,   -999.0,9,  -999.00,9,  -999.00,9,  -999.00,9,    103,-999.000,  -999.0, 22.7988
     31HX028_1,  PRS2,     2, 15,     14,     14,2,19910712,0208, 22.7500,-158.0017, 4750,    110.2,  22.7181,  35.0935,2,  35.0862,2,    231.9,1,   -999.0,9,  -999.00,9,  -999.00,9,  -999.00,9,    108,-999.000,  -999.0, 22.6958
     31HX028_1,  PRS2,     2, 15,     13,     13,2,19910712,0208, 22.7500,-158.0017, 4750,    115.4,  22.5615,  35.1538,2,  35.1520,2,    228.6,1,   -999.0,9,  -999.00,9,  -999.00,9,  -999.00,9,    114,-999.000,  -999.0, 22.5383
     31HX028_1,  PRS2,     2, 15,     12,     12,2,19910712,0208, 22.7500,-158.0017, 4750,    120.7,  22.5177,  35.1744,2,  35.1695,2,    226.3,1,   -999.0,9,  -999.00,9,  -999.00,9,  -999.00,9,    118,-999.000,  -999.0, 22.4934
     31HX028_1,  PRS2,     2, 15,     11,     11,2,19910712,0208, 22.7500,-158.0017, 4750,    126.8,  22.5084,  35.1827,2,  35.1819,2,    227.5,1,   -999.0,9,  -999.00,9,  -999.00,9,  -999.00,9,    125,-999.000,  -999.0, 22.4829
     31HX028_1,  PRS2,     2, 15,     10,     10,2,19910712,0208, 22.7500,-158.0017, 4750,    139.3,  22.0458,  35.1947,2,  35.2006,2,    225.2,1,   -999.0,9,  -999.00,9,  -999.00,9,  -999.00,9,    138,-999.000,  -999.0, 22.0182
     31HX028_1,  PRS2,     2, 15,      9,      9,2,19910712,0208, 22.7500,-158.0017, 4750,    146.9,  21.8891,  35.1827,2,  35.1831,2,    217.5,1,   -999.0,9,  -999.00,9,  -999.00,9,  -999.00,9,    145,-999.000,  -999.0, 21.8601
     31HX028_1,  PRS2,     2, 15,      8,      8,2,19910712,0208, 22.7500,-158.0017, 4750,    180.7,  20.7447,  35.1805,2,  35.1829,2,    217.4,1,   -999.0,9,  -999.00,9,  -999.00,9,  -999.00,9,    177,-999.000,  -999.0, 20.7103
     31HX028_1,  PRS2,     2, 15,      7,      7,2,19910712,0208, 22.7500,-158.0017, 4750,    493.5,   7.8701,  34.0970,2,  34.0958,2,    149.4,1,   -999.0,9,  -999.00,9,  -999.00,9,  -999.00,9,    485,-999.000,  -999.0,  7.8203
     31HX028_1,  PRS2,     2, 15,      6,      6,2,19910712,0208, 22.7500,-158.0017, 4750,   1027.1,   3.8654,  34.4711,2,  34.4693,2,     40.4,1,   -999.0,9,  -999.00,9,  -999.00,9,  -999.00,9,   1017,-999.000,  -999.0,  3.7887
     31HX028_1,  PRS2,     2, 16,     21,     21,2,19910712,0452, 22.7533,-158.0083, 4750,     23.3,  25.4845,  34.8444,2,-999.0000,5,    240.9,1,   -999.0,9,  -999.00,9,  -999.00,9,  -999.00,9,     21,-999.000,  -999.0, 25.4793
     31HX028_1,  PRS2,     2, 16,     22,     22,2,19910712,0452, 22.7533,-158.0083, 4750,     23.9,  25.4828,  34.8455,2,-999.0000,5,    242.8,1,   -999.0,9,  -999.00,9,  -999.00,9,  -999.00,9,     23,-999.000,  -999.0, 25.4776
     31HX028_1,  PRS2,     2, 16,     23,     23,2,19910712,0452, 22.7533,-158.0083, 4750,     24.0,  25.4841,  34.8448,2,-999.0000,5,    248.2,1,   -999.0,9,  -999.00,9,  -999.00,9,  -999.00,9,     24,-999.000,  -999.0, 25.4788
     31HX028_1,  PRS2,     2, 16,     19,     19,2,19910712,0452, 22.7533,-158.0083, 4750,     25.1,  25.4821,  34.8435,2,  34.8440,2,    239.3,1,   -999.0,9,  -999.00,9,  -999.00,9,  -999.00,9,     24,-999.000,  -999.0, 25.4766
     31HX028_1,  PRS2,     2, 16,     20,     20,2,19910712,0452, 22.7533,-158.0083, 4750,     25.3,  25.4843,  34.8439,2,-999.0000,5,    239.6,1,   -999.0,9,  -999.00,9,  -999.00,9,  -999.00,9,     24,-999.000,  -999.0, 25.4787
     31HX028_1,  PRS2,     2, 16,     16,     16,2,19910712,0452, 22.7533,-158.0083, 4750,     75.6,  23.3652,  35.0923,2,-999.0000,5,    239.8,1,   -999.0,9,  -999.00,9,  -999.00,9,  -999.00,9,     74,-999.000,  -999.0, 23.3496
     31HX028_1,  PRS2,     2, 16,     17,     17,2,19910712,0452, 22.7533,-158.0083, 4750,     75.7,  23.3612,  35.0923,2,-999.0000,5,    240.2,1,   -999.0,9,  -999.00,9,  -999.00,9,  -999.00,9,     74,-999.000,  -999.0, 23.3456
     31HX028_1,  PRS2,     2, 16,     18,     18,2,19910712,0452, 22.7533,-158.0083, 4750,     76.1,  23.3597,  35.0929,2,-999.0000,5,    240.6,1,   -999.0,9,  -999.00,9,  -999.00,9,  -999.00,9,     75,-999.000,  -999.0, 23.3440
     31HX028_1,  PRS2,     2, 16,     14,     14,2,19910712,0452, 22.7533,-158.0083, 4750,    100.1,  22.5955,  35.1595,2,-999.0000,5,    229.1,1,   -999.0,9,  -999.00,9,  -999.00,9,  -999.00,9,     98,-999.000,  -999.0, 22.5753
     31HX028_1,  PRS2,     2, 16,     15,     15,2,19910712,0452, 22.7533,-158.0083, 4750,    100.3,  22.5875,  35.1651,2,-999.0000,5,    229.2,1,   -999.0,9,  -999.00,9,  -999.00,9,  -999.00,9,     96,-999.000,  -999.0, 22.5673
     31HX028_1,  PRS2,     2, 16,     13,     13,2,19910712,0452, 22.7533,-158.0083, 4750,    100.7,  22.5811,  35.1688,2,-999.0000,5,    229.1,1,   -999.0,9,  -999.00,9,  -999.00,9,  -999.00,9,     98,-999.000,  -999.0, 22.5609
     31HX028_1,  PRS2,     2, 16,      9,      9,2,19910712,0452, 22.7533,-158.0083, 4750,    119.5,  21.8793,  35.1536,2,-999.0000,5,    216.1,1,   -999.0,9,  -999.00,9,  -999.00,9,  -999.00,9,    116,-999.000,  -999.0, 21.8558
     31HX028_1,  PRS2,     2, 16,      8,      8,2,19910712,0452, 22.7533,-158.0083, 4750,    119.6,  21.8614,  35.1561,2,-999.0000,5,    215.8,1,   -999.0,9,  -999.00,9,  -999.00,9,  -999.00,9,    117,-999.000,  -999.0, 21.8379
     31HX028_1,  PRS2,     2, 16,     11,     11,2,19910712,0452, 22.7533,-158.0083, 4750,    119.7,  21.8753,  35.1593,2,-999.0000,5,    217.2,1,   -999.0,9,  -999.00,9,  -999.00,9,  -999.00,9,    118,-999.000,  -999.0, 21.8517
     31HX028_1,  PRS2,     2, 16,     10,     10,2,19910712,0452, 22.7533,-158.0083, 4750,    120.1,  21.8505,  35.1554,2,  35.1561,2,    216.6,1,   -999.0,9,  -999.00,9,  -999.00,9,  -999.00,9,    116,-999.000,  -999.0, 21.8268
     31HX028_1,  PRS2,     2, 16,     12,     12,2,19910712,0452, 22.7533,-158.0083, 4750,    120.6,  21.8319,  35.1671,2,-999.0000,5,    217.7,1,   -999.0,9,  -999.00,9,  -999.00,9,  -999.00,9,    119,-999.000,  -999.0, 21.8082
     31HX028_1,  PRS2,     2, 16,      3,      3,2,19910712,0452, 22.7533,-158.0083, 4750,    153.4,  20.1843,  35.1027,2,-999.0000,5,    214.9,1,   -999.0,9,  -999.00,9,  -999.00,9,  -999.00,9,    150,-999.000,  -999.0, 20.1558
     31HX028_1,  PRS2,     2, 16,      4,     25,2,19910712,0452, 22.7533,-158.0083, 4750,    154.1,  20.1350,  35.1071,2,  35.1071,2,    215.0,1,   -999.0,9,  -999.00,9,  -999.00,9,  -999.00,9,    151,-999.000,  -999.0, 20.1064
     31HX028_1,  PRS2,     2, 16,      5,     26,2,19910712,0452, 22.7533,-158.0083, 4750,    154.2,  20.1267,  35.1064,2,-999.0000,5,    215.2,1,   -999.0,9,  -999.00,9,  -999.00,9,  -999.00,9,    150,-999.000,  -999.0, 20.0980
     31HX028_1,  PRS2,     2, 16,      6,      6,2,19910712,0452, 22.7533,-158.0083, 4750,    155.4,  20.1106,  35.1039,2,-999.0000,5,    215.2,1,   -999.0,9,  -999.00,9,  -999.00,9,  -999.00,9,    152,-999.000,  -999.0, 20.0818
     31HX028_1,  PRS2,     2, 16,      7,      7,2,19910712,0452, 22.7533,-158.0083, 4750,    155.8,  20.1134,  35.1062,2,-999.0000,5,    214.9,1,   -999.0,9,  -999.00,9,  -999.00,9,  -999.00,9,    152,-999.000,  -999.0, 20.0845
     31HX028_1,  PRS2,     2, 16,      2,      2,2,19910712,0452, 22.7533,-158.0083, 4750,    491.3,   7.7353,  34.0943,2,  34.0912,2,    154.5,1,   -999.0,9,  -999.00,9,  -999.00,9,  -999.00,9,    484,-999.000,  -999.0,  7.6863
     31HX028_1,  PRS2,     2, 16,      1,      1,2,19910712,0452, 22.7533,-158.0083, 4750,   1024.2,   4.0327,  34.4775,2,  34.4783,2,     41.5,1,   -999.0,9,  -999.00,9,  -999.00,9,  -999.00,9,   1014,-999.000,  -999.0,  3.9548
     31HX028_1,  PRS2,     2, 17,      4,     25,2,19910712,0844, 22.7217,-158.0017, 4750,     12.4,  25.4697,  34.8394,2,  34.8406,2,    264.9,1,   -999.0,9,  -999.00,9,  -999.00,9,  -999.00,9,      9,-999.000,  -999.0, 25.4670
     31HX028_1,  PRS2,     2, 17,      3,      3,2,19910712,0844, 22.7217,-158.0017, 4750,    160.9,  20.4093,  35.2428,2,  35.2426,2,    217.5,1,   -999.0,9,  -999.00,9,  -999.00,9,  -999.00,9,    156,-999.000,  -999.0, 20.3791
     31HX028_1,  PRS2,     2, 17,      2,      2,2,19910712,0844, 22.7217,-158.0017, 4750,    464.8,   7.9711,  34.0641,2,  34.0611,2,    165.3,1,   -999.0,9,  -999.00,9,  -999.00,9,  -999.00,9,    457,-999.000,  -999.0,  7.9240
     31HX028_1,  PRS2,     2, 17,      1,      1,2,19910712,0844, 22.7217,-158.0017, 4750,   1034.0,   3.7445,  34.4837,2,  34.4832,2,     47.0,1,   -999.0,9,  -999.00,9,  -999.00,9,  -999.00,9,   1023,-999.000,  -999.0,  3.6680