BOTTLE,20020809WHPSIObren
#code : jjward hyd_to_exchange.pl 
#original files copied from HTML directory: 20020809
#original HYD file: /whpo/11/HOTS/BOTTLE/hot28/hot28.sea   Fri Aug  9 09:51:31 2002
#original SUM file: /whpo/11/HOTS/BOTTLE/hot28/hot28.sum   Fri Aug  9 13:30:35 2002
EXPOCODE,SECT_ID,STNNBR,CASTNO,SAMPNO,BTLNBR,BTLNBR_FLAG_W,DATE,TIME,LATITUDE,LONGITUDE,DEPTH,CTDPRS,CTDTMP,CTDSAL,CTDSAL_FLAG_W,SALNTY,SALNTY_FLAG_W,CTDOXY,CTDOXY_FLAG_W,OXYGEN,OXYGEN_FLAG_W,SILCAT,SILCAT_FLAG_W,NO2+NO3,NO2+NO3_FLAG_W,PHSPHT,PHSPHT_FLAG_W,CTDRAW,REVTMP,REVPRS,THETA
,,,,,,,,,,,,DBAR,ITS-90,PSS-78,,PSS-78,,UMOL/KG,,UMOL/KG,,UMOL/KG,,UMOL/KG,,UMOL/KG,,,DEG C,DBAR,ITS-90
     31HX028_1,  PRS2,     1,  1,     19,     19,2,19910709,0051, 21.3700,-158.3017, 1814,      4.9,  27.0044,  34.6437,2,  34.6419,2,    224.8,2,    226.0,4,     1.06,2,     0.00,2,     0.14,2,      5,-999.000,  -999.0, 27.0033
     31HX028_1,  PRS2,     1,  1,     18,     18,2,19910709,0051, 21.3700,-158.3017, 1814,     25.7,  26.3775,  34.6320,2,  34.6305,2,    229.1,2,    237.3,4,     1.25,2,     0.00,2,     0.13,2,     26,-999.000,  -999.0, 26.3717
     31HX028_1,  PRS2,     1,  1,     17,     17,2,19910709,0051, 21.3700,-158.3017, 1814,     45.4,  25.1708,  34.8082,2,  34.8113,2,    232.5,2,   -999.0,5,     1.06,2,     0.20,2,     0.12,2,     45,-999.000,  -999.0, 25.1609
     31HX028_1,  PRS2,     1,  1,     16,     16,2,19910709,0051, 21.3700,-158.3017, 1814,     61.3,  24.3552,  34.9276,2,  34.9256,2,    216.9,2,    215.4,2,     1.25,2,     0.00,2,     0.12,2,     61,-999.000,  -999.0, 24.3422
     31HX028_1,  PRS2,     1,  1,     15,     15,2,19910709,0051, 21.3700,-158.3017, 1814,     75.9,  23.4182,  35.0123,2,  35.0140,2,    214.0,2,    214.4,2,     1.06,2,     0.00,2,     0.13,2,     75,-999.000,  -999.0, 23.4025
     31HX028_1,  PRS2,     1,  1,     14,     14,2,19910709,0051, 21.3700,-158.3017, 1814,     89.0,  23.1949,  35.0354,2,  35.0362,2,    212.2,2,    232.1,4,     1.43,2,     0.00,2,     0.12,2,     88,-999.000,  -999.0, 23.1766
     31HX028_1,  PRS2,     1,  1,     13,     13,2,19910709,0051, 21.3700,-158.3017, 1814,    106.9,  22.4239,  35.1161,2,  35.1163,2,    210.3,2,    209.5,2,     1.43,2,     0.08,2,     0.13,2,    105,-999.000,  -999.0, 22.4025
     31HX028_1,  PRS2,     1,  1,     12,     12,2,19910709,0051, 21.3700,-158.3017, 1814,    117.8,  22.2237,  35.1231,2,  35.1215,2,    205.6,2,    208.1,2,     1.43,2,     0.10,2,     0.13,2,    116,-999.000,  -999.0, 22.2003
     31HX028_1,  PRS2,     1,  1,     11,     11,2,19910709,0051, 21.3700,-158.3017, 1814,    128.5,  21.9047,  35.1374,2,  35.1350,2,    202.4,2,    205.4,2,     1.43,2,     0.22,2,     0.14,2,    126,-999.000,  -999.0, 21.8793
     31HX028_1,  PRS2,     1,  1,     10,     10,2,19910709,0051, 21.3700,-158.3017, 1814,    154.1,  20.4172,  35.1344,2,  35.1329,2,    192.9,2,    194.4,2,     2.14,2,     1.46,2,     0.22,2,    146,-999.000,  -999.0, 20.3883
     31HX028_1,  PRS2,     1,  1,      9,      9,2,19910709,0051, 21.3700,-158.3017, 1814,    179.9,  19.8131,  35.0926,2,  35.0949,2,    190.8,2,    190.8,2,     2.67,2,     2.15,2,     0.26,2,    176,-999.000,  -999.0, 19.7800
     31HX028_1,  PRS2,     1,  1,      8,      8,2,19910709,0051, 21.3700,-158.3017, 1814,    204.9,  18.0107,  34.9372,2,  34.9400,2,    192.2,2,    195.7,2,     3.92,2,     3.49,2,     0.32,2,    199,-999.000,  -999.0, 17.9755
     31HX028_1,  PRS2,     1,  1,      7,      7,2,19910709,0051, 21.3700,-158.3017, 1814,    231.9,  15.4943,  34.6271,2,  34.6519,3,    191.2,3,    191.4,2,     6.06,2,     6.28,2,     0.53,2,    226,-999.000,  -999.0, 15.4585
     31HX028_1,  PRS2,     1,  1,      6,      6,2,19910709,0051, 21.3700,-158.3017, 1814,    257.7,  13.9636,  34.4555,2,  34.4575,2,    191.9,2,    190.1,2,     9.17,2,     8.70,2,     0.69,2,    251,-999.000,  -999.0, 13.9266
     31HX028_1,  PRS2,     1,  1,      5,     26,2,19910709,0051, 21.3700,-158.3017, 1814,    307.3,  11.2194,  34.2224,2,  34.2205,2,    192.9,2,    193.0,2,    15.50,2,    14.20,2,     1.01,2,    300,-999.000,  -999.0, 11.1812
     31HX028_1,  PRS2,     1,  1,      4,     25,2,19910709,0051, 21.3700,-158.3017, 1814,    408.9,   9.3510,  34.1467,2,  34.1450,2,    179.5,2,    153.4,2,    33.49,2,    21.73,2,     1.58,2,    401,-999.000,  -999.0,  9.3054
     31HX028_1,  PRS2,     1,  1,      3,      3,2,19910709,0051, 21.3700,-158.3017, 1814,    510.2,   7.0984,  34.1349,2,  34.1326,2,     89.8,2,     89.8,2,    56.65,2,    31.65,2,     2.31,2,    501,-999.000,  -999.0,  7.0498
     31HX028_1,  PRS2,     1,  1,      2,      2,2,19910709,0051, 21.3700,-158.3017, 1814,    760.5,   5.0992,  34.4282,2,  34.4251,2,     29.7,2,     31.6,2,    90.47,2,    40.95,2,     3.00,2,    751,-999.000,  -999.0,  5.0367
     31HX028_1,  PRS2,     1,  1,      1,      1,2,19910709,0051, 21.3700,-158.3017, 1814,   1041.7,   4.1544,  34.4949,2,  34.4938,2,     44.8,2,     43.1,2,   107.38,2,    41.82,2,     3.02,2,   1032,-999.000,  -999.0,  4.0740
     31HX028_1,  PRS2,     2,  1,     24,     27,4,19910709,1333, 22.7500,-158.0000, 4800,     10.7,  25.4093,  34.8346,2,-999.0000,5,    273.7,2,   -999.0,5,  -999.00,5,  -999.00,5,  -999.00,5,      9,-999.000,  -999.0, 25.4069
     31HX028_1,  PRS2,     2,  1,     23,     23,2,19910709,1333, 22.7500,-158.0000, 4800,    505.3,   7.5218,  34.0892,2,  34.0903,2,    126.5,2,   -999.0,5,  -999.00,5,  -999.00,5,  -999.00,5,    501,-999.000,  -999.0,  7.4722
     31HX028_1,  PRS2,     2,  1,     22,     22,2,19910709,1333, 22.7500,-158.0000, 4800,   1007.8,   4.0079,  34.4833,2,  34.4838,2,     44.4,2,   -999.0,5,  -999.00,5,  -999.00,5,  -999.00,5,   1003,-999.000,  -999.0,  3.9315
     31HX028_1,  PRS2,     2,  1,     21,     21,2,19910709,1333, 22.7500,-158.0000, 4800,   1207.1,   3.3598,  34.5249,2,  34.5260,2,     56.1,2,     54.7,2,   123.41,2,    41.32,2,     2.98,2,   1202,-999.000,  -999.0,  3.2725
     31HX028_1,  PRS2,     2,  1,     20,     20,2,19910709,1333, 22.7500,-158.0000, 4800,   1405.7,   2.9228,  34.5630,2,  34.5643,2,     69.9,2,     63.5,2,   134.09,2,    40.94,2,     2.93,2,   1402,-999.000,  -999.0,  2.8236
     31HX028_1,  PRS2,     2,  1,     19,     19,2,19910709,1333, 22.7500,-158.0000, 4800,   1606.1,   2.5820,  34.5836,2,  34.5849,2,     76.2,2,     72.1,2,   141.21,2,    40.56,2,     2.90,2,   1603,-999.000,  -999.0,  2.4704
     31HX028_1,  PRS2,     2,  1,     18,     18,2,19910709,1333, 22.7500,-158.0000, 4800,   1808.3,   2.2835,  34.6029,2,  34.5969,4,     83.1,3,     82.0,2,   320.71,4,    39.06,4,     2.81,4,   1803,-999.000,  -999.0,  2.1590
     31HX028_1,  PRS2,     2,  1,     17,     17,2,19910709,1333, 22.7500,-158.0000, 4800,   2007.5,   2.0746,  34.6185,2,  34.6209,2,     89.0,2,     87.9,2,   153.68,2,    39.81,2,     2.81,2,   2004,-999.000,  -999.0,  1.9364
     31HX028_1,  PRS2,     2,  1,     16,     16,2,19910709,1333, 22.7500,-158.0000, 4800,   2204.9,   1.8838,  34.6305,2,  34.6321,2,     95.1,2,     93.9,2,   158.60,2,    39.35,2,     2.79,2,   2201,-999.000,  -999.0,  1.7318
     31HX028_1,  PRS2,     2,  1,     15,     15,2,19910709,1333, 22.7500,-158.0000, 4800,   2399.2,   1.7547,  34.6437,2,  34.6449,2,    102.8,2,    102.8,2,   159.91,2,    38.67,2,     2.73,2,   2395,-999.000,  -999.0,  1.5879
     31HX028_1,  PRS2,     2,  1,     14,     14,2,19910709,1333, 22.7500,-158.0000, 4800,   2604.9,   1.6537,  34.6550,2,  34.6576,2,    111.2,2,    112.4,2,   161.68,2,    38.30,2,     2.69,2,   2600,-999.000,  -999.0,  1.4705
     31HX028_1,  PRS2,     2,  1,     13,     13,2,19910709,1333, 22.7500,-158.0000, 4800,   2799.0,   1.6003,  34.6609,2,  34.6620,2,    116.1,2,    117.8,2,   160.79,2,    37.80,2,     2.66,2,   2795,-999.000,  -999.0,  1.4003
     31HX028_1,  PRS2,     2,  1,     12,     12,2,19910709,1333, 22.7500,-158.0000, 4800,   3003.2,   1.5347,  34.6673,2,  34.6681,2,    128.1,2,    126.5,2,   159.01,2,    37.17,2,     2.62,2,   3000,-999.000,  -999.0,  1.3169
     31HX028_1,  PRS2,     2,  1,     11,     11,2,19910709,1333, 22.7500,-158.0000, 4800,   3203.6,   1.4905,  34.6732,2,  34.6736,2,    132.5,2,    133.0,2,   158.17,2,    36.76,2,     2.59,2,   3199,-999.000,  -999.0,  1.2543
     31HX028_1,  PRS2,     2,  1,     10,     10,2,19910709,1333, 22.7500,-158.0000, 4800,   3405.7,   1.4641,  34.6775,2,  34.6779,2,    138.4,2,    138.8,2,   155.10,2,    36.54,2,     2.54,2,   3401,-999.000,  -999.0,  1.2085
     31HX028_1,  PRS2,     2,  1,      9,      9,2,19910709,1333, 22.7500,-158.0000, 4800,   3607.1,   1.4476,  34.6807,2,  34.6816,2,    144.0,2,    143.1,2,   151.53,2,    35.79,3,     2.52,2,   3603,-999.000,  -999.0,  1.1718
     31HX028_1,  PRS2,     2,  1,      8,      8,2,19910709,1333, 22.7500,-158.0000, 4800,   3805.7,   1.4457,  34.6828,2,  34.6842,2,    146.7,2,    147.1,2,   152.78,2,    35.92,2,     2.50,2,   3801,-999.000,  -999.0,  1.1491
     31HX028_1,  PRS2,     2,  1,      7,      7,2,19910709,1333, 22.7500,-158.0000, 4800,   4005.0,   1.4522,  34.6844,2,  34.6850,2,    148.5,2,    148.4,2,   149.75,2,    35.66,2,     2.49,2,   4000,-999.000,  -999.0,  1.1341
     31HX028_1,  PRS2,     2,  1,      6,      6,2,19910709,1333, 22.7500,-158.0000, 4800,   4206.5,   1.4635,  34.6856,2,  34.6855,2,    149.2,2,    150.4,2,   150.64,2,    36.42,3,     2.54,3,   4202,-999.000,  -999.0,  1.1229
     31HX028_1,  PRS2,     2,  1,      5,     26,2,19910709,1333, 22.7500,-158.0000, 4800,   4402.7,   1.4769,  34.6867,2,  34.6861,2,    151.1,2,    151.9,2,   149.75,2,    35.66,2,     2.49,2,   4398,-999.000,  -999.0,  1.1138
     31HX028_1,  PRS2,     2,  1,      4,     25,2,19910709,1333, 22.7500,-158.0000, 4800,   4503.5,   1.4844,  34.6870,2,  34.6889,2,    153.3,2,    152.7,2,   149.21,2,    35.61,2,     2.48,2,   4499,-999.000,  -999.0,  1.1095
     31HX028_1,  PRS2,     2,  1,      3,      3,2,19910709,1333, 22.7500,-158.0000, 4800,   4606.2,   1.4923,  34.6874,2,  34.6875,2,    152.2,2,    153.6,2,   148.86,2,    35.41,2,     2.46,2,   4602,-999.000,  -999.0,  1.1053
     31HX028_1,  PRS2,     2,  1,      2,      2,2,19910709,1333, 22.7500,-158.0000, 4800,   4758.2,   1.4972,  34.6887,2,  34.6881,2,    156.6,2,    155.7,2,   148.86,2,    35.28,2,     2.46,2,   4753,-999.000,  -999.0,  1.0921
     31HX028_1,  PRS2,     2,  1,      1,      1,2,19910709,1333, 22.7500,-158.0000, 4800,   4758.2,   1.4972,  34.6887,2,  34.6879,2,    156.6,2,    155.2,2,   148.06,2,    35.28,2,     2.46,2,   4753,-999.000,  -999.0,  1.0921
     31HX028_1,  PRS2,     2,  2,     23,     23,2,19910709,2001, 22.7467,-157.9867, 4800,     13.2,  25.4749,  34.8694,2,  34.8705,2,    284.3,2,    208.3,2,     1.43,2,     0.00,2,     0.12,2,     11,-999.000,  -999.0, 25.4720
     31HX028_1,  PRS2,     2,  2,     22,     22,2,19910709,2001, 22.7467,-157.9867, 4800,     53.5,  24.7900,  34.8450,2,  34.8469,2,    231.7,2,    215.6,2,     1.25,2,     0.00,2,     0.13,2,     51,-999.000,  -999.0, 24.7785
     31HX028_1,  PRS2,     2,  2,     21,     21,2,19910709,2001, 22.7467,-157.9867, 4800,     66.4,  24.3187,  34.9998,2,  34.9992,2,    240.0,2,    217.2,2,     1.25,2,     0.00,2,     0.10,2,     46,-999.000,  -999.0, 24.3046
     31HX028_1,  PRS2,     2,  2,     20,     20,2,19910709,2001, 22.7467,-157.9867, 4800,    110.1,  22.3321,  35.1360,2,  35.1307,2,    216.5,2,    214.9,2,     1.06,2,     0.03,2,     0.12,2,    106,-999.000,  -999.0, 22.3101
     31HX028_1,  PRS2,     2,  2,     19,     19,2,19910709,2001, 22.7467,-157.9867, 4800,    143.4,  21.3557,  35.2354,2,  35.2349,2,    208.5,2,    208.5,2,     1.60,2,     0.35,2,     0.13,2,    139,-999.000,  -999.0, 21.3279
     31HX028_1,  PRS2,     2,  2,     18,     18,2,19910709,2001, 22.7467,-157.9867, 4800,    186.0,  19.8848,  35.2037,2,  35.2107,2,    201.7,2,    202.7,2,     1.96,2,     1.30,2,     0.18,2,    180,-999.000,  -999.0, 19.8505
     31HX028_1,  PRS2,     2,  2,     17,     17,2,19910709,2001, 22.7467,-157.9867, 4800,    244.2,  16.3129,  34.7288,2,  34.7284,2,    190.3,2,    193.6,2,     4.63,2,     4.62,2,     0.42,2,    238,-999.000,  -999.0, 16.2737
     31HX028_1,  PRS2,     2,  2,     16,     16,2,19910709,2001, 22.7467,-157.9867, 4800,    315.9,  12.2050,  34.2666,2,  34.2650,2,    201.2,2,    200.1,2,    11.22,2,    10.68,2,     0.83,2,    307,-999.000,  -999.0, 12.1634
     31HX028_1,  PRS2,     2,  2,     15,     15,2,19910709,2001, 22.7467,-157.9867, 4800,    372.8,  10.4907,  34.1637,2,  34.1658,2,    198.7,2,    190.2,2,    17.28,2,    15.58,2,     1.13,2,    365,-999.000,  -999.0, 10.4462
     31HX028_1,  PRS2,     2,  2,     14,     14,2,19910709,2001, 22.7467,-157.9867, 4800,    409.1,   9.2528,  34.1222,2,  34.1221,2,    170.9,2,    164.2,2,    26.89,2,    20.47,2,     1.52,2,    402,-999.000,  -999.0,  9.2076
     31HX028_1,  PRS2,     2,  2,     13,     13,2,19910709,2001, 22.7467,-157.9867, 4800,    421.1,   8.8723,  34.1140,2,  34.1132,2,    156.5,2,    155.0,2,    29.92,2,    22.11,2,     1.61,2,    413,-999.000,  -999.0,  8.8269
     31HX028_1,  PRS2,     2,  2,     12,     12,2,19910709,2001, 22.7467,-157.9867, 4800,    485.7,   7.4811,  34.0892,2,  34.0887,2,    115.4,2,    118.7,2,    45.07,2,    28.02,2,     2.05,2,    478,-999.000,  -999.0,  7.4336
     31HX028_1,  PRS2,     2,  2,     11,     11,2,19910709,2001, 22.7467,-157.9867, 4800,    528.3,   6.8050,  34.1007,2,  34.1018,2,     95.5,2,     94.4,2,    54.69,2,    31.65,2,     2.32,2,    519,-999.000,  -999.0,  6.7559
     31HX028_1,  PRS2,     2,  2,     10,     10,2,19910709,2001, 22.7467,-157.9867, 4800,    574.3,   6.1534,  34.1306,2,  34.1301,2,     68.6,2,     67.8,2,    65.55,2,    35.05,2,     2.60,2,    565,-999.000,  -999.0,  6.1026
     31HX028_1,  PRS2,     2,  2,      9,      9,2,19910709,2001, 22.7467,-157.9867, 4800,    620.4,   5.7501,  34.1814,2,  34.1810,2,     49.4,2,     50.9,2,    74.45,2,    37.18,2,     2.73,2,    609,-999.000,  -999.0,  5.6969
     31HX028_1,  PRS2,     2,  2,      8,      8,2,19910709,2001, 22.7467,-157.9867, 4800,    688.6,   5.1635,  34.2425,2,  34.2424,2,     31.3,2,     36.7,2,    86.92,2,    39.32,2,     2.90,2,    678,-999.000,  -999.0,  5.1071
     31HX028_1,  PRS2,     2,  2,      7,      7,2,19910709,2001, 22.7467,-157.9867, 4800,    768.1,   4.7164,  34.3237,2,  34.3242,2,     21.8,2,     31.0,2,    96.71,2,    40.82,2,     2.98,2,    758,-999.000,  -999.0,  4.6556
     31HX028_1,  PRS2,     2,  2,      6,      6,2,19910709,2001, 22.7467,-157.9867, 4800,    791.2,   4.5583,  34.3353,2,  34.3336,2,     27.7,2,     30.6,2,   100.27,2,    41.45,2,     3.00,2,    780,-999.000,  -999.0,  4.4965
     31HX028_1,  PRS2,     2,  2,      5,     26,2,19910709,2001, 22.7467,-157.9867, 4800,    811.7,   4.4944,  34.3472,2,  34.3499,2,     28.2,2,     31.2,2,   101.17,2,    41.45,2,     3.00,2,    800,-999.000,  -999.0,  4.4313
     31HX028_1,  PRS2,     2,  2,      4,     25,2,19910709,2001, 22.7467,-157.9867, 4800,    857.4,   4.3154,  34.3933,2,  34.3943,2,     32.9,2,     33.7,2,   104.72,2,    41.70,2,     3.03,2,    845,-999.000,  -999.0,  4.2495
     31HX028_1,  PRS2,     2,  2,      3,      3,2,19910709,2001, 22.7467,-157.9867, 4800,    893.2,   4.1578,  34.4146,2,  34.4158,2,     31.9,2,     34.6,2,   108.29,2,    41.70,2,     3.04,2,    880,-999.000,  -999.0,  4.0900
     31HX028_1,  PRS2,     2,  2,      2,      2,2,19910709,2001, 22.7467,-157.9867, 4800,    987.6,   4.0102,  34.4792,2,  34.4798,2,     42.6,2,     42.8,2,   110.95,2,    41.95,2,     3.04,2,    977,-999.000,  -999.0,  3.9355
     31HX028_1,  PRS2,     2,  2,      1,      1,2,19910709,2001, 22.7467,-157.9867, 4800,   1037.7,   3.8166,  34.4972,2,  34.4981,2,     44.9,2,     44.9,2,   115.67,2,    41.82,2,     3.05,2,   1026,-999.000,  -999.0,  3.7393
     31HX028_1,  PRS2,     2,  3,     12,     12,2,19910709,2305, 22.7500,-158.0000, 4800,      6.1,  25.6663,  34.8811,2,  34.8829,2,    258.8,1,   -999.0,9,  -999.00,9,  -999.00,9,  -999.00,9,      0,-999.000,  -999.0, 25.6650
     31HX028_1,  PRS2,     2,  3,     11,     11,2,19910709,2305, 22.7500,-158.0000, 4800,     27.1,  25.4598,  34.8632,2,  34.8654,2,    249.7,1,   -999.0,9,  -999.00,9,  -999.00,9,  -999.00,9,     26,-999.000,  -999.0, 25.4539
     31HX028_1,  PRS2,     2,  3,     10,     10,2,19910709,2305, 22.7500,-158.0000, 4800,     49.1,  25.1901,  34.8360,2,  34.8384,2,    250.6,1,   -999.0,9,  -999.00,9,  -999.00,9,  -999.00,9,     47,-999.000,  -999.0, 25.1794
     31HX028_1,  PRS2,     2,  3,      9,      9,2,19910709,2305, 22.7500,-158.0000, 4800,     78.1,  24.0610,  35.0413,2,  35.0374,2,    237.2,1,   -999.0,9,  -999.00,9,  -999.00,9,  -999.00,9,     75,-999.000,  -999.0, 24.0446
     31HX028_1,  PRS2,     2,  3,      8,      8,2,19910709,2305, 22.7500,-158.0000, 4800,    106.1,  22.7648,  35.0864,2,  35.0834,2,    223.8,1,   -999.0,9,  -999.00,9,  -999.00,9,  -999.00,9,    103,-999.000,  -999.0, 22.7433
     31HX028_1,  PRS2,     2,  3,      7,      7,2,19910709,2305, 22.7500,-158.0000, 4800,    128.9,  22.1601,  35.1623,2,  35.1626,2,    215.7,1,   -999.0,9,  -999.00,9,  -999.00,9,  -999.00,9,    125,-999.000,  -999.0, 22.1345
     31HX028_1,  PRS2,     2,  3,      6,      6,2,19910709,2305, 22.7500,-158.0000, 4800,    155.4,  21.3079,  35.2142,2,  35.2118,2,    210.8,1,   -999.0,9,  -999.00,9,  -999.00,9,  -999.00,9,    150,-999.000,  -999.0, 21.2778
     31HX028_1,  PRS2,     2,  3,      5,     26,2,19910709,2305, 22.7500,-158.0000, 4800,    181.5,  20.5532,  35.2504,2,  35.2507,2,    210.8,1,   -999.0,9,  -999.00,9,  -999.00,9,  -999.00,9,    175,-999.000,  -999.0, 20.5189
     31HX028_1,  PRS2,     2,  3,      4,     25,2,19910709,2305, 22.7500,-158.0000, 4800,    258.6,  16.4354,  34.7455,2,  34.7423,2,    190.4,1,   -999.0,9,  -999.00,9,  -999.00,9,  -999.00,9,    250,-999.000,  -999.0, 16.3937
     31HX028_1,  PRS2,     2,  3,      3,      3,2,19910709,2305, 22.7500,-158.0000, 4800,    512.0,   7.2445,  34.0908,2,-999.0000,5,    110.3,1,   -999.0,9,  -999.00,9,  -999.00,9,  -999.00,9,    502,-999.000,  -999.0,  7.1953
     31HX028_1,  PRS2,     2,  3,      2,      2,2,19910709,2305, 22.7500,-158.0000, 4800,    761.4,   4.8056,  34.3105,2,  34.3107,2,     25.5,1,   -999.0,9,  -999.00,9,  -999.00,9,  -999.00,9,    749,-999.000,  -999.0,  4.7449
     31HX028_1,  PRS2,     2,  3,      1,      1,2,19910709,2305, 22.7500,-158.0000, 4800,   1037.3,   3.8894,  34.4906,2,-999.0000,5,     43.0,1,   -999.0,9,  -999.00,9,  -999.00,9,  -999.00,9,   1027,-999.000,  -999.0,  3.8115