BOTTLE,20020816WHPSIOHLB
EXPOCODE,SECT_ID,STNNBR,CASTNO,SAMPNO,BTLNBR,BTLNBR_FLAG_W,DATE,TIME,LATITUDE,LONGITUDE,DEPTH,CTDPRS,CTDTMP,CTDSAL,CTDSAL_FLAG_W,SALNTY,SALNTY_FLAG_W,OXYGEN,OXYGEN_FLAG_W,NITRAT,NITRAT_FLAG_W,NITRIT,NITRIT_FLAG_W,PHSPHT,PHSPHT_FLAG_W,THETA
,,,,,,,,,,,,DBAR,DEG C,PSS-78,,PSS-78,,UMOL/KG,,UMOL/KG,,UMOL/KG,,UMOL/KG,,DEG C
    49RY9006_3,  PR02,RY7788,  1,      1,      1,2,19900726,0819, 21.0000, 137.0000, 4878,      5.0,  30.5230,  34.7170,2,-999.0000,9,    192.0,2,     0.10,2,     0.00,2,     0.01,2, 30.5220
    49RY9006_3,  PR02,RY7788,  1,      2,      2,2,19900726,0819, 21.0000, 137.0000, 4878,     11.0,  30.3140,  34.7260,2,-999.0000,9,    192.0,2,     0.10,2,     0.00,2,     0.02,2, 30.3110
    49RY9006_3,  PR02,RY7788,  1,      3,      3,2,19900726,0819, 21.0000, 137.0000, 4878,     25.0,  30.0500,  34.7310,2,-999.0000,9,    194.0,2,     0.10,2,     0.00,2,     0.01,2, 30.0440
    49RY9006_3,  PR02,RY7788,  1,      4,      4,2,19900726,0819, 21.0000, 137.0000, 4878,     50.0,  26.0890,  34.8540,2,-999.0000,9,    217.0,2,     0.00,2,     0.00,2,     0.00,2, 26.0780
    49RY9006_3,  PR02,RY7788,  1,      5,      5,2,19900726,0819, 21.0000, 137.0000, 4878,     76.0,  24.7090,  34.9060,2,-999.0000,9,    218.0,2,     0.00,2,     0.00,2,     0.00,2, 24.6930
    49RY9006_3,  PR02,RY7788,  1,      6,      6,2,19900726,0819, 21.0000, 137.0000, 4878,    101.0,  22.5920,  34.8690,2,-999.0000,9,    210.0,2,     0.00,2,     0.00,2,     0.02,2, 22.5720
    49RY9006_3,  PR02,RY7788,  1,      7,      7,2,19900726,0819, 21.0000, 137.0000, 4878,    126.0,  21.1810,  34.8360,2,-999.0000,9,    225.0,2,     0.00,2,     0.01,2,     0.02,2, 21.1570
    49RY9006_3,  PR02,RY7788,  1,      8,      8,2,19900726,0819, 21.0000, 137.0000, 4878,    151.0,  20.2770,  34.8590,2,-999.0000,9,    209.0,2,     0.50,2,     0.08,2,     0.06,2, 20.2490
    49RY9006_3,  PR02,RY7788,  2,      9,      9,2,19900726,0902, 21.0000, 137.0000, 4878,    176.0,  19.4520,  34.8760,2,-999.0000,9,    216.0,2,     0.20,2,     0.17,2,     0.05,2, 19.4200
    49RY9006_3,  PR02,RY7788,  2,     10,     10,2,19900726,0902, 21.0000, 137.0000, 4878,    201.0,  18.5680,  34.8380,2,-999.0000,9,    208.0,2,     2.00,2,     0.01,2,     0.17,2, 18.5330
    49RY9006_3,  PR02,RY7788,  2,     11,     11,2,19900726,0902, 21.0000, 137.0000, 4878,    251.0,  17.7560,  34.8140,2,-999.0000,9,    200.0,2,     3.60,2,     0.00,2,     0.31,2, 17.7130
    49RY9006_3,  PR02,RY7788,  2,     12,     12,2,19900726,0902, 21.0000, 137.0000, 4878,    301.0,  16.5200,  34.7490,2,-999.0000,9,    198.0,2,     5.40,2,     0.00,2,     0.46,2, 16.4710
    49RY9006_3,  PR02,RY7788,  2,     13,     13,2,19900726,0902, 21.0000, 137.0000, 4878,    402.0,  13.4060,  34.4920,2,-999.0000,9,    192.0,2,    10.50,2,     0.00,2,     0.85,2, 13.3490
    49RY9006_3,  PR02,RY7788,  2,     14,     14,2,19900726,0902, 21.0000, 137.0000, 4878,    503.0,  10.0450,  34.2490,2,-999.0000,9,    159.0,2,    19.30,2,     0.00,2,     1.54,2,  9.9860
    49RY9006_3,  PR02,RY7788,  2,     15,     15,2,19900726,0902, 21.0000, 137.0000, 4878,    604.0,   7.1670,  34.1200,2,-999.0000,9,    133.0,2,    27.30,2,     0.00,2,     2.09,2,  7.1090
    49RY9006_3,  PR02,RY7788,  2,     16,     16,2,19900726,0902, 21.0000, 137.0000, 4878,    706.0,   5.6990,  34.1700,2,-999.0000,9,     87.0,2,    34.40,2,     0.00,2,     2.61,2,  5.6380
    49RY9006_3,  PR02,RY7788,  2,     17,     17,2,19900726,0902, 21.0000, 137.0000, 4878,    806.0,   4.7920,  34.2640,2,-999.0000,9,     65.0,2,    38.20,2,     0.00,2,     2.86,2,  4.7280
    49RY9006_3,  PR02,RY7788,  2,     18,     18,2,19900726,0902, 21.0000, 137.0000, 4878,    908.0,   4.1290,  34.3220,2,-999.0000,9,     57.0,2,    39.80,2,     0.02,2,     2.95,2,  4.0600
    49RY9006_3,  PR02,RY7788,  2,     19,     19,2,19900726,0902, 21.0000, 137.0000, 4878,   1007.0,   3.6530,  34.3950,2,-999.0000,9,     58.0,2,    40.20,2,     0.00,2,     2.93,2,  3.5800
    49RY9006_3,  PR02,RY7788,  2,     20,     20,2,19900726,0902, 21.0000, 137.0000, 4878,   1261.0,   2.9280,  34.4990,2,-999.0000,9,     76.0,2,    39.60,2,     0.00,2,     2.94,2,  2.8410
    49RY9006_3,  PR02,RY7789,  1,      1,      1,2,19900726,1448, 22.0000, 137.0000, 4397,      1.0,  29.9790,  34.7370,2,-999.0000,9,    191.0,2,     0.00,2,     0.00,2,     0.02,2, 29.9790
    49RY9006_3,  PR02,RY7789,  1,      2,      2,2,19900726,1448, 22.0000, 137.0000, 4397,     10.0,  29.9500,  34.7350,2,-999.0000,9,    193.0,2,     0.00,2,     0.00,2,     0.00,2, 29.9480
    49RY9006_3,  PR02,RY7789,  1,      3,      3,2,19900726,1448, 22.0000, 137.0000, 4397,     25.0,  29.6380,  34.7300,2,-999.0000,9,    197.0,2,     0.00,2,     0.00,2,     0.00,2, 29.6320
    49RY9006_3,  PR02,RY7789,  1,      4,      4,2,19900726,1448, 22.0000, 137.0000, 4397,     50.0,  23.9530,  34.8340,2,-999.0000,9,    220.0,2,     0.00,2,     0.00,2,     0.00,2, 23.9430
    49RY9006_3,  PR02,RY7789,  1,      5,      5,2,19900726,1448, 22.0000, 137.0000, 4397,     75.0,  21.7590,  34.8610,2,-999.0000,9,    229.0,2,     0.00,2,     0.01,2,     0.00,2, 21.7440
    49RY9006_3,  PR02,RY7789,  1,      6,      6,2,19900726,1448, 22.0000, 137.0000, 4397,    100.0,  20.9440,  34.8440,2,-999.0000,9,    225.0,2,     0.00,2,     0.00,2,     0.02,2, 20.9250
    49RY9006_3,  PR02,RY7789,  1,      7,      7,2,19900726,1448, 22.0000, 137.0000, 4397,    125.0,  19.9240,  34.8320,2,-999.0000,9,    218.0,2,     0.00,2,     0.06,2,     0.01,2, 19.9010
    49RY9006_3,  PR02,RY7789,  1,      8,      8,2,19900726,1448, 22.0000, 137.0000, 4397,    151.0,  19.4240,  34.8300,2,-999.0000,9,    212.0,2,     0.90,2,     0.05,2,     0.08,2, 19.3970
    49RY9006_3,  PR02,RY7789,  1,      9,      9,2,19900726,1448, 22.0000, 137.0000, 4397,    175.0,  18.8890,  34.8290,2,-999.0000,9,    255.0,2,     2.20,2,     0.01,2,     0.17,2, 18.8580
    49RY9006_3,  PR02,RY7789,  1,     10,     10,2,19900726,1448, 22.0000, 137.0000, 4397,    201.0,  18.4430,  34.8400,2,-999.0000,9,    205.0,2,     2.70,2,     0.01,2,     0.22,2, 18.4080
    49RY9006_3,  PR02,RY7789,  1,     11,     11,2,19900726,1448, 22.0000, 137.0000, 4397,    251.0,  17.2100,  34.7850,2,-999.0000,9,    203.0,2,     4.30,2,     0.01,2,     0.34,2, 17.1680
    49RY9006_3,  PR02,RY7789,  1,     12,     12,2,19900726,1448, 22.0000, 137.0000, 4397,    302.0,  16.3430,  34.7190,2,-999.0000,9,    199.0,2,     6.20,2,     0.00,2,     0.49,2, 16.2940
    49RY9006_3,  PR02,RY7789,  2,     13,     13,2,19900726,1535, 22.0000, 137.0000, 4397,    403.0,  13.3190,  34.4970,2,-999.0000,9,    191.0,2,    11.30,2,     0.00,2,     0.87,2, 13.2630
    49RY9006_3,  PR02,RY7789,  2,     14,     14,2,19900726,1535, 22.0000, 137.0000, 4397,    503.0,  10.5840,  34.3000,2,-999.0000,9,    182.0,2,    17.00,2,     0.00,2,     1.32,2, 10.5230
    49RY9006_3,  PR02,RY7789,  2,     15,     15,2,19900726,1535, 22.0000, 137.0000, 4397,    603.0,   7.7450,  34.1610,2,-999.0000,9,    142.0,2,    25.50,2,     0.00,2,     1.94,2,  7.6840
    49RY9006_3,  PR02,RY7789,  2,     16,     16,2,19900726,1535, 22.0000, 137.0000, 4397,    705.0,   5.9030,  34.1340,2,-999.0000,9,    113.0,2,    32.00,2,     0.00,2,     2.41,2,  5.8410
    49RY9006_3,  PR02,RY7789,  2,     17,     17,2,19900726,1535, 22.0000, 137.0000, 4397,    806.0,   4.9100,  34.2090,2,-999.0000,9,     79.0,2,    36.60,2,     0.00,2,     2.75,2,  4.8450
    49RY9006_3,  PR02,RY7789,  2,     18,     18,2,19900726,1535, 22.0000, 137.0000, 4397,    907.0,   4.2500,  34.2900,2,-999.0000,9,     68.0,2,    39.00,2,     0.00,2,     2.88,2,  4.1810
    49RY9006_3,  PR02,RY7789,  2,     19,     19,2,19900726,1535, 22.0000, 137.0000, 4397,   1008.0,   3.7030,  34.3520,2,-999.0000,9,     64.0,2,    39.70,2,     0.00,2,     2.93,2,  3.6290
    49RY9006_3,  PR02,RY7789,  2,     20,     20,2,19900726,1535, 22.0000, 137.0000, 4397,   1261.0,   2.9340,  34.4720,2,-999.0000,9,     68.0,2,    40.00,2,     0.00,2,     2.94,2,  2.8470
    49RY9006_3,  PR02,RY7790,  1,      1,      1,2,19900726,2129, 23.0000, 137.0000, 5444,      1.0,  30.0400,  34.7930,2,-999.0000,9,    194.0,2,     0.00,2,     0.00,2,     0.02,2, 30.0400
    49RY9006_3,  PR02,RY7790,  1,      2,      2,2,19900726,2129, 23.0000, 137.0000, 5444,     10.0,  30.0390,  34.7920,2,-999.0000,9,    193.0,2,     0.00,2,     0.00,2,     0.03,2, 30.0370
    49RY9006_3,  PR02,RY7790,  1,      3,      3,2,19900726,2129, 23.0000, 137.0000, 5444,     25.0,  25.6670,  34.7730,2,-999.0000,9,    219.0,2,     0.00,2,     0.00,2,     0.01,2, 25.6610
    49RY9006_3,  PR02,RY7790,  1,      4,      4,2,19900726,2129, 23.0000, 137.0000, 5444,     51.0,  23.6500,  34.8640,2,-999.0000,9,    223.0,2,     0.00,2,     0.00,2,     0.02,2, 23.6390
    49RY9006_3,  PR02,RY7790,  1,      5,      5,2,19900726,2129, 23.0000, 137.0000, 5444,     75.0,  21.3960,  34.9160,2,-999.0000,9,    217.0,2,     0.00,2,     0.00,2,     0.03,2, 21.3810
    49RY9006_3,  PR02,RY7790,  1,      6,      6,2,19900726,2129, 23.0000, 137.0000, 5444,    100.0,  20.2460,  34.8810,2,-999.0000,9,    207.0,2,     2.00,2,     0.02,2,     0.10,2, 20.2270
    49RY9006_3,  PR02,RY7790,  1,      7,      7,2,19900726,2129, 23.0000, 137.0000, 5444,    125.0,  19.5890,  34.8310,2,-999.0000,9,    212.0,2,     1.10,2,     0.02,2,     0.08,2, 19.5660
    49RY9006_3,  PR02,RY7790,  1,      8,      8,2,19900726,2129, 23.0000, 137.0000, 5444,    151.0,  19.0290,  34.8250,2,-999.0000,9,    208.0,2,     0.80,2,     0.04,2,     0.06,2, 19.0020
    49RY9006_3,  PR02,RY7790,  2,      9,      9,2,19900726,2209, 23.0000, 137.0000, 5444,    176.0,  18.6040,  34.8390,2,-999.0000,9,    204.0,2,     2.50,2,     0.00,2,     0.22,2, 18.5730
    49RY9006_3,  PR02,RY7790,  2,     10,     10,2,19900726,2209, 23.0000, 137.0000, 5444,    200.0,  17.9720,  34.8240,2,-999.0000,9,    203.0,2,     3.40,2,     0.00,2,     0.28,2, 17.9380
    49RY9006_3,  PR02,RY7790,  2,     11,     11,2,19900726,2209, 23.0000, 137.0000, 5444,    252.0,  17.1670,  34.7770,2,-999.0000,9,    204.0,2,     4.20,2,     0.00,2,     0.34,2, 17.1250
    49RY9006_3,  PR02,RY7790,  2,     12,     12,2,19900726,2209, 23.0000, 137.0000, 5444,    302.0,  16.1910,  34.7170,2,-999.0000,9,    196.0,2,     6.50,2,     0.00,2,     0.50,2, 16.1430
    49RY9006_3,  PR02,RY7790,  2,     13,     13,2,19900726,2209, 23.0000, 137.0000, 5444,    403.0,  13.7080,  34.5220,2,-999.0000,9,    193.0,2,    10.40,2,     0.01,2,     0.79,2, 13.6500
    49RY9006_3,  PR02,RY7790,  2,     14,     14,2,19900726,2209, 23.0000, 137.0000, 5444,    504.0,  10.8410,  34.3210,2,-999.0000,9,    180.0,2,    16.50,2,     0.00,2,     1.26,2, 10.7790
    49RY9006_3,  PR02,RY7790,  2,     15,     15,2,19900726,2209, 23.0000, 137.0000, 5444,    603.0,   7.9430,  34.1510,2,-999.0000,9,    151.0,2,    24.50,2,     0.00,2,     1.84,2,  7.8810
    49RY9006_3,  PR02,RY7790,  2,     16,     16,2,19900726,2209, 23.0000, 137.0000, 5444,    706.0,   5.8850,  34.1520,2,-999.0000,9,    105.0,2,    32.10,2,     0.00,2,     2.44,2,  5.8230
    49RY9006_3,  PR02,RY7790,  2,     17,     17,2,19900726,2209, 23.0000, 137.0000, 5444,    806.0,   4.8420,  34.2290,2,-999.0000,9,     75.0,2,    36.80,2,     0.00,2,     2.74,2,  4.7770
    49RY9006_3,  PR02,RY7790,  2,     18,     18,2,19900726,2209, 23.0000, 137.0000, 5444,    907.0,   4.2720,  34.2930,2,-999.0000,9,     65.0,2,    38.50,2,     0.00,2,     2.89,2,  4.2020
    49RY9006_3,  PR02,RY7790,  2,     19,     19,2,19900726,2209, 23.0000, 137.0000, 5444,   1007.0,   3.7340,  34.3680,2,-999.0000,9,     63.0,2,    39.90,2,     0.00,2,     2.94,2,  3.6600
    49RY9006_3,  PR02,RY7790,  2,     20,     20,2,19900726,2209, 23.0000, 137.0000, 5444,   1261.0,   2.9880,  34.4690,2,-999.0000,9,     69.0,2,    39.80,2,     0.00,2,     2.93,2,  2.9000
    49RY9006_3,  PR02,RY7791,  1,      1,      1,2,19900727,0406, 24.0000, 137.0000, 3969,      6.0,  29.8640,  34.8520,2,-999.0000,9,    194.0,2,     0.10,2,     0.00,2,     0.02,2, 29.8630
    49RY9006_3,  PR02,RY7791,  1,      2,      2,2,19900727,0406, 24.0000, 137.0000, 3969,     10.0,  29.8500,  34.8510,2,-999.0000,9,    193.0,2,     0.10,2,     0.00,2,     0.02,2, 29.8480
    49RY9006_3,  PR02,RY7791,  1,      3,      3,2,19900727,0406, 24.0000, 137.0000, 3969,     26.0,  28.4450,  34.9680,2,-999.0000,9,    203.0,2,     0.00,2,     0.00,2,     0.01,2, 28.4390
    49RY9006_3,  PR02,RY7791,  1,      4,      4,2,19900727,0406, 24.0000, 137.0000, 3969,     51.0,  23.2850,  34.9360,2,-999.0000,9,    227.0,2,     0.00,2,     0.00,2,     0.02,2, 23.2750
    49RY9006_3,  PR02,RY7791,  1,      5,      5,2,19900727,0406, 24.0000, 137.0000, 3969,     76.0,  21.4540,  34.9370,2,-999.0000,9,    230.0,2,     0.10,2,     0.00,2,     0.02,2, 21.4390
    49RY9006_3,  PR02,RY7791,  1,      6,      6,2,19900727,0406, 24.0000, 137.0000, 3969,    100.0,  19.9830,  34.8990,2,-999.0000,9,    220.0,2,     0.00,2,     0.00,2,     0.03,2, 19.9650
    49RY9006_3,  PR02,RY7791,  1,      7,      7,2,19900727,0406, 24.0000, 137.0000, 3969,    126.0,  19.2500,  34.8670,2,-999.0000,9,    211.0,2,     0.70,2,     0.11,2,     0.08,2, 19.2270
    49RY9006_3,  PR02,RY7791,  1,      8,      8,2,19900727,0406, 24.0000, 137.0000, 3969,    151.0,  18.4910,  34.8420,2,-999.0000,9,    207.0,2,     2.10,2,     0.02,2,     0.18,2, 18.4650
    49RY9006_3,  PR02,RY7791,  2,      9,      9,2,19900727,0446, 24.0000, 137.0000, 3969,    176.0,  18.0710,  34.8240,2,-999.0000,9,    205.0,2,     2.80,2,     0.01,2,     0.24,2, 18.0410
    49RY9006_3,  PR02,RY7791,  2,     10,     10,2,19900727,0446, 24.0000, 137.0000, 3969,    201.0,  17.5930,  34.8040,2,-999.0000,9,    205.0,2,     3.40,2,     0.01,2,     0.30,2, 17.5590
    49RY9006_3,  PR02,RY7791,  2,     11,     11,2,19900727,0446, 24.0000, 137.0000, 3969,    251.0,  16.8060,  34.7600,2,-999.0000,9,    201.0,2,     5.00,2,     0.00,2,     0.40,2, 16.7650
    49RY9006_3,  PR02,RY7791,  2,     12,     12,2,19900727,0446, 24.0000, 137.0000, 3969,    301.0,  15.8600,  34.6960,2,-999.0000,9,    196.0,2,     6.80,2,     0.00,2,     0.56,2, 15.8130
    49RY9006_3,  PR02,RY7791,  2,     13,     13,2,19900727,0446, 24.0000, 137.0000, 3969,    403.0,  13.6380,  34.5070,2,-999.0000,9,    193.0,2,    10.20,2,     0.00,2,     0.81,2, 13.5810
    49RY9006_3,  PR02,RY7791,  2,     14,     14,2,19900727,0446, 24.0000, 137.0000, 3969,    503.0,  10.8520,  34.3180,2,-999.0000,9,    180.0,2,    16.60,2,     0.00,2,     1.28,2, 10.7900
    49RY9006_3,  PR02,RY7791,  2,     15,     15,2,19900727,0446, 24.0000, 137.0000, 3969,    604.0,   8.3720,  34.1650,2,-999.0000,9,    158.0,2,    23.10,2,     0.00,2,     1.76,2,  8.3080
    49RY9006_3,  PR02,RY7791,  2,     16,     16,2,19900727,0446, 24.0000, 137.0000, 3969,    705.0,   6.6480,  34.1330,2,-999.0000,9,    125.0,2,    29.80,2,     0.00,2,     2.24,2,  6.5820
    49RY9006_3,  PR02,RY7791,  2,     17,     17,2,19900727,0446, 24.0000, 137.0000, 3969,    806.0,   5.1740,  34.1770,2,-999.0000,9,     87.0,2,    35.80,2,     0.00,2,     2.65,2,  5.1070
    49RY9006_3,  PR02,RY7791,  2,     18,     18,2,19900727,0446, 24.0000, 137.0000, 3969,    906.0,   4.5110,  34.2640,2,-999.0000,9,     70.0,2,    38.70,2,     0.00,2,     2.84,2,  4.4400
    49RY9006_3,  PR02,RY7791,  2,     19,     19,2,19900727,0446, 24.0000, 137.0000, 3969,   1008.0,   3.9600,  34.3350,2,-999.0000,9,     62.0,2,    40.10,2,     0.00,2,     2.92,2,  3.8840
    49RY9006_3,  PR02,RY7791,  2,     20,     20,2,19900727,0446, 24.0000, 137.0000, 3969,   1263.0,   3.0310,  34.4540,2,-999.0000,9,     69.0,2,    41.30,2,     0.00,2,     2.93,2,  2.9420
    49RY9006_3,  PR02,RY7792,  1,      1,      1,2,19900727,1031, 25.0000, 136.9667, 4965,      2.0,  29.4930,  35.0010,2,  35.0280,2,    195.0,2,     0.00,2,     0.00,2,     0.02,2, 29.4930
    49RY9006_3,  PR02,RY7792,  1,      2,      2,2,19900727,1031, 25.0000, 136.9667, 4965,     10.0,  29.4880,  35.0000,2,  34.9960,2,    195.0,2,     0.00,2,     0.00,2,     0.01,2, 29.4860
    49RY9006_3,  PR02,RY7792,  1,      3,      3,2,19900727,1031, 25.0000, 136.9667, 4965,     25.0,  29.1220,  34.9720,2,  34.9900,2,    197.0,2,     0.00,2,     0.00,2,     0.02,2, 29.1160
    49RY9006_3,  PR02,RY7792,  1,      4,      4,2,19900727,1031, 25.0000, 136.9667, 4965,     50.0,  22.8690,  34.9280,2,  34.9220,2,    231.0,2,     0.00,2,     0.00,2,     0.02,2, 22.8590
    49RY9006_3,  PR02,RY7792,  1,      5,      5,2,19900727,1031, 25.0000, 136.9667, 4965,     75.0,  20.8590,  34.8950,2,  34.8970,2,    228.0,2,     0.00,2,     0.00,2,     0.01,2, 20.8450
    49RY9006_3,  PR02,RY7792,  1,      6,      6,2,19900727,1031, 25.0000, 136.9667, 4965,    101.0,  19.5960,  34.8710,2,  34.8720,2,    220.0,2,     0.00,2,     0.00,2,     0.04,2, 19.5780
    49RY9006_3,  PR02,RY7792,  1,      7,      7,2,19900727,1031, 25.0000, 136.9667, 4965,    125.0,  18.8690,  34.8500,2,-999.0000,5,    207.0,2,     1.60,2,     0.05,2,     0.18,2, 18.8470
    49RY9006_3,  PR02,RY7792,  1,      8,      8,2,19900727,1031, 25.0000, 136.9667, 4965,    151.0,  18.3840,  34.8390,2,  34.8350,2,    204.0,2,     2.30,2,     0.02,2,     0.23,2, 18.3580
    49RY9006_3,  PR02,RY7792,  1,      9,      9,2,19900727,1031, 25.0000, 136.9667, 4965,    176.0,  17.8580,  34.8120,2,  34.8090,2,    205.0,2,     2.90,2,     0.02,2,     0.25,2, 17.8280
    49RY9006_3,  PR02,RY7792,  1,     10,     10,2,19900727,1031, 25.0000, 136.9667, 4965,    202.0,  17.5150,  34.8070,2,  34.8040,2,    200.0,2,     3.60,2,     0.01,2,     0.32,2, 17.4810
    49RY9006_3,  PR02,RY7792,  1,     11,     11,2,19900727,1031, 25.0000, 136.9667, 4965,    251.0,  16.8700,  34.7640,2,  34.7620,2,    201.0,2,     4.70,2,     0.00,2,     0.39,2, 16.8290
    49RY9006_3,  PR02,RY7792,  1,     12,     12,2,19900727,1031, 25.0000, 136.9667, 4965,    302.0,  16.1380,  34.7110,2,  34.6810,2,    195.0,2,     6.20,2,     0.00,2,     0.52,2, 16.0900
    49RY9006_3,  PR02,RY7792,  1,     13,     13,2,19900727,1031, 25.0000, 136.9667, 4965,    403.0,  13.9330,  34.5410,2,  34.5410,2,    187.0,2,    10.10,2,     0.00,2,     0.81,2, 13.8750