BOTTLE,20020816WHPSIOHLB
#code : jjward hyd_to_exchange.pl 
#original files copied from HTML directory: 20020816
#original HYD file: pr02_ahy.txt   Fri Aug 16 14:19:42 2002
#original SUM file: pr02_asu.txt   Fri Aug 16 14:19:38 2002
EXPOCODE,SECT_ID,STNNBR,CASTNO,SAMPNO,BTLNBR,BTLNBR_FLAG_W,DATE,TIME,LATITUDE,LONGITUDE,DEPTH,CTDPRS,CTDTMP,CTDSAL,CTDSAL_FLAG_W,SALNTY,SALNTY_FLAG_W,OXYGEN,OXYGEN_FLAG_W,NITRAT,NITRAT_FLAG_W,NITRIT,NITRIT_FLAG_W,PHSPHT,PHSPHT_FLAG_W,THETA
,,,,,,,,,,,,DBAR,DEG C,PSS-78,,PSS-78,,UMOL/KG,,UMOL/KG,,UMOL/KG,,UMOL/KG,,DEG C
    49RY9006_2,  PR02,RY7770,  1,      1,      1,2,19900707,1755,  3.0000, 137.0333, 4499,      0.0,  29.1930,  34.0720,2,  34.0710,2,    209.0,2,     0.00,2,     0.00,2,     0.19,2, 29.1930
    49RY9006_2,  PR02,RY7770,  1,      2,      2,2,19900707,1755,  3.0000, 137.0333, 4499,     10.0,  29.1970,  34.0710,2,  34.0750,2,    204.0,2,     0.00,2,     0.00,2,     0.19,2, 29.1950
    49RY9006_2,  PR02,RY7770,  1,      3,      3,2,19900707,1755,  3.0000, 137.0333, 4499,     26.0,  29.0760,  34.0910,2,  34.0920,2,    203.0,2,     0.10,2,     0.00,2,     0.17,2, 29.0700
    49RY9006_2,  PR02,RY7770,  1,      4,      4,2,19900707,1755,  3.0000, 137.0333, 4499,     51.0,  29.1070,  34.1690,2,  34.1650,2,    202.0,2,     0.10,2,     0.00,2,     0.10,2, 29.0950
    49RY9006_2,  PR02,RY7770,  1,      5,      5,2,19900707,1755,  3.0000, 137.0333, 4499,     75.0,  29.1140,  34.2480,2,  34.2630,2,    199.0,2,     0.10,2,     0.01,2,     0.15,2, 29.0960
    49RY9006_2,  PR02,RY7770,  1,      6,      6,2,19900707,1755,  3.0000, 137.0333, 4499,    100.0,  26.8130,  35.0500,2,  35.0490,2,    159.0,2,     4.30,2,     0.10,2,     0.58,2, 26.7900
    49RY9006_2,  PR02,RY7770,  1,      7,      7,2,19900707,1755,  3.0000, 137.0333, 4499,    126.0,  24.2140,  35.0770,2,  35.1060,2,    139.0,2,     7.80,2,     0.03,2,     0.76,2, 24.1870
    49RY9006_2,  PR02,RY7770,  1,      8,      8,2,19900707,1755,  3.0000, 137.0333, 4499,    151.0,  21.8940,  34.9920,2,  35.0160,2,    141.0,2,     8.40,2,     0.02,2,     0.85,2, 21.8640
    49RY9006_2,  PR02,RY7770,  2,      9,      9,2,19900707,1849,  3.0000, 137.0333, 4499,    175.0,  17.8920,  34.7820,2,  34.7720,2,    153.0,2,    10.10,2,     0.01,2,     0.89,2, 17.8620
    49RY9006_2,  PR02,RY7770,  2,     10,     10,2,19900707,1849,  3.0000, 137.0333, 4499,    201.0,  16.8740,  34.9250,2,  34.9890,2,    146.0,2,    11.90,2,     0.01,2,     1.07,2, 16.8410
    49RY9006_2,  PR02,RY7770,  2,     11,     11,2,19900707,1849,  3.0000, 137.0333, 4499,    252.0,  13.6040,  34.6350,2,  34.6800,2,    142.0,2,    16.40,2,     0.01,2,     1.33,2, 13.5680
    49RY9006_2,  PR02,RY7770,  2,     12,     12,2,19900707,1849,  3.0000, 137.0333, 4499,    303.0,  11.7370,  34.5630,2,  34.5230,2,    120.0,2,    22.80,2,     0.02,2,     1.75,2, 11.6980
    49RY9006_2,  PR02,RY7770,  2,     13,     13,2,19900707,1849,  3.0000, 137.0333, 4499,    403.0,   8.6400,  34.6070,2,  34.6040,2,     63.0,2,    33.90,2,     0.00,2,     2.49,2,  8.5970
    49RY9006_2,  PR02,RY7770,  2,     14,     14,2,19900707,1849,  3.0000, 137.0333, 4499,    503.0,   7.4850,  34.5620,2,  34.5660,2,     89.0,2,    34.00,2,     0.01,2,     2.49,2,  7.4350
    49RY9006_2,  PR02,RY7770,  2,     15,     15,2,19900707,1849,  3.0000, 137.0333, 4499,    604.0,   6.7530,  34.5450,2,  34.5470,2,    106.0,2,    34.00,2,     0.00,2,     2.48,2,  6.6960
    49RY9006_2,  PR02,RY7770,  2,     16,     16,2,19900707,1849,  3.0000, 137.0333, 4499,    705.0,   5.9810,  34.5340,2,  34.5370,2,     99.0,2,    35.80,2,     0.00,2,     2.58,2,  5.9180
    49RY9006_2,  PR02,RY7770,  2,     17,     17,2,19900707,1849,  3.0000, 137.0333, 4499,    806.0,   5.3090,  34.5380,2,  34.5430,2,     96.0,2,    37.30,2,     0.00,2,     2.72,2,  5.2410
    49RY9006_2,  PR02,RY7770,  2,     18,     18,2,19900707,1849,  3.0000, 137.0333, 4499,    906.0,   4.8920,  34.5440,2,  34.5480,2,    102.0,2,    37.60,2,     0.00,2,     2.69,2,  4.8180
    49RY9006_2,  PR02,RY7770,  2,     19,     19,2,19900707,1849,  3.0000, 137.0333, 4499,   1006.0,   4.3360,  34.5550,2,  34.5610,2,     94.0,2,    38.70,2,     0.00,2,     2.83,2,  4.2570
    49RY9006_2,  PR02,RY7770,  2,     20,     20,2,19900707,1849,  3.0000, 137.0333, 4499,   1266.0,   3.4030,  34.5810,2,  34.5850,2,    102.0,2,    38.80,2,     0.00,2,     2.80,2,  3.3100
    49RY9006_2,  PR02,RY7771,  1,      9,      9,2,19900708,0307,  4.0167, 137.0500, 4588,    178.0,  18.5050,  34.8420,2,-999.0000,9,    145.0,2,     9.70,2,     0.01,2,     0.87,2, 18.4740
    49RY9006_2,  PR02,RY7771,  1,     10,     10,2,19900708,0307,  4.0167, 137.0500, 4588,    202.0,  15.9780,  34.8540,2,-999.0000,9,    146.0,2,    12.50,2,     0.00,2,     1.10,2, 15.9460
    49RY9006_2,  PR02,RY7771,  1,     11,     11,2,19900708,0307,  4.0167, 137.0500, 4588,    253.0,  12.6940,  34.5050,2,-999.0000,9,    127.0,2,    19.40,2,     0.00,2,     1.55,2, 12.6600
    49RY9006_2,  PR02,RY7771,  1,     12,     12,2,19900708,0307,  4.0167, 137.0500, 4588,    302.0,   9.9500,  34.5630,2,-999.0000,9,     65.0,2,    30.20,2,     0.00,2,     2.31,2,  9.9150
    49RY9006_2,  PR02,RY7771,  1,     13,     13,2,19900708,0307,  4.0167, 137.0500, 4588,    403.0,   8.0270,  34.5400,2,-999.0000,9,     92.0,2,    31.20,2,     0.00,2,     2.34,2,  7.9860
    49RY9006_2,  PR02,RY7771,  1,     14,     14,2,19900708,0307,  4.0167, 137.0500, 4588,    504.0,   7.0250,  34.5430,2,-999.0000,9,    105.0,2,    32.40,2,     0.00,2,     2.39,2,  6.9770
    49RY9006_2,  PR02,RY7771,  1,     15,     15,2,19900708,0307,  4.0167, 137.0500, 4588,    605.0,   6.4030,  34.5360,2,-999.0000,9,    103.0,2,    34.30,2,     0.00,2,     2.52,2,  6.3480
    49RY9006_2,  PR02,RY7771,  1,     16,     16,2,19900708,0307,  4.0167, 137.0500, 4588,    707.0,   5.5770,  34.5340,2,-999.0000,9,     99.0,2,    36.10,2,     0.00,2,     2.65,2,  5.5160
    49RY9006_2,  PR02,RY7771,  1,     17,     17,2,19900708,0307,  4.0167, 137.0500, 4588,    808.0,   5.1590,  34.5410,2,-999.0000,9,     89.0,2,    37.90,2,     0.00,2,     2.79,2,  5.0920
    49RY9006_2,  PR02,RY7771,  1,     18,     18,2,19900708,0307,  4.0167, 137.0500, 4588,    909.0,   4.6370,  34.5490,2,-999.0000,9,     89.0,2,    38.30,2,     0.01,2,     2.83,2,  4.5640
    49RY9006_2,  PR02,RY7771,  1,     19,     19,2,19900708,0307,  4.0167, 137.0500, 4588,   1004.0,   4.2170,  34.5590,2,-999.0000,9,     92.0,2,    38.60,2,     0.00,2,     2.82,2,  4.1390
    49RY9006_2,  PR02,RY7771,  1,     20,     20,2,19900708,0307,  4.0167, 137.0500, 4588,   1256.0,   3.4440,  34.5820,2,-999.0000,9,    101.0,2,    38.60,2,     0.00,2,     2.83,2,  3.3520
    49RY9006_2,  PR02,RY7771,  2,      1,      1,2,19900708,0416,  4.0167, 137.0500, 4588,      1.0,  29.3750,  34.0930,2,-999.0000,9,    198.0,2,     0.00,2,     0.00,2,     0.06,2, 29.3750
    49RY9006_2,  PR02,RY7771,  2,      2,      2,2,19900708,0416,  4.0167, 137.0500, 4588,     10.0,  29.0380,  34.0940,2,-999.0000,9,    196.0,2,     0.00,2,     0.00,2,     0.05,2, 29.0360
    49RY9006_2,  PR02,RY7771,  2,      3,      3,2,19900708,0416,  4.0167, 137.0500, 4588,     25.0,  28.9710,  34.1540,2,-999.0000,9,    199.0,2,     0.00,2,     0.00,2,     0.06,2, 28.9650
    49RY9006_2,  PR02,RY7771,  2,      4,      4,2,19900708,0416,  4.0167, 137.0500, 4588,     50.0,  28.7530,  34.2640,2,-999.0000,9,    198.0,2,     0.00,2,     0.00,2,     0.06,2, 28.7410
    49RY9006_2,  PR02,RY7771,  2,      5,      5,2,19900708,0416,  4.0167, 137.0500, 4588,     76.0,  27.4530,  34.5670,2,-999.0000,9,    173.0,2,     1.90,2,     0.33,2,     0.28,2, 27.4350
    49RY9006_2,  PR02,RY7771,  2,      6,      6,2,19900708,0416,  4.0167, 137.0500, 4588,    100.0,  24.8390,  34.8020,2,-999.0000,9,    146.0,2,     5.70,2,     0.06,2,     0.47,2, 24.8170
    49RY9006_2,  PR02,RY7771,  2,      7,      7,2,19900708,0416,  4.0167, 137.0500, 4588,    126.0,  23.6070,  34.9610,2,-999.0000,9,    139.0,2,     7.20,2,     0.02,2,     0.68,2, 23.5810
    49RY9006_2,  PR02,RY7771,  2,      8,      8,2,19900708,0416,  4.0167, 137.0500, 4588,    151.0,  21.3510,  34.9600,2,-999.0000,9,    140.0,2,     8.10,2,     0.01,2,     0.76,2, 21.3220
    49RY9006_2,  PR02,RY7772,  1,      1,      1,2,19900708,0935,  5.0333, 137.0333, 4552,      2.0,  29.2740,  34.0080,2,  34.0170,2,    194.0,2,     0.00,2,     0.00,2,     0.01,2, 29.2740
    49RY9006_2,  PR02,RY7772,  1,      2,      2,2,19900708,0935,  5.0333, 137.0333, 4552,     10.0,  29.1200,  34.0130,2,  34.0140,2,    199.0,2,     0.10,2,     0.00,2,     0.01,2, 29.1180
    49RY9006_2,  PR02,RY7772,  1,      3,      3,2,19900708,0935,  5.0333, 137.0333, 4552,     24.0,  29.0490,  34.0110,2,  34.0130,2,    202.0,2,     0.00,2,     0.00,2,     0.02,2, 29.0430
    49RY9006_2,  PR02,RY7772,  1,      4,      4,2,19900708,0935,  5.0333, 137.0333, 4552,     50.0,  28.3870,  34.2560,2,  34.2100,2,    202.0,2,     0.00,2,     0.00,2,     0.00,2, 28.3750
    49RY9006_2,  PR02,RY7772,  1,      5,      5,2,19900708,0935,  5.0333, 137.0333, 4552,     75.0,  25.5730,  34.5890,2,  34.5920,2,    189.0,2,     0.30,2,     0.12,2,     0.02,2, 25.5560
    49RY9006_2,  PR02,RY7772,  1,      6,      6,2,19900708,0935,  5.0333, 137.0333, 4552,    101.0,  24.5520,  35.0310,2,  35.0350,2,    148.0,2,     6.00,2,     0.17,2,     0.23,2, 24.5300
    49RY9006_2,  PR02,RY7772,  1,      7,      7,2,19900708,0935,  5.0333, 137.0333, 4552,    126.0,  21.9230,  35.0230,2,  35.0440,2,    145.0,2,     7.30,2,     0.00,2,     0.48,2, 21.8980
    49RY9006_2,  PR02,RY7772,  1,      8,      8,2,19900708,0935,  5.0333, 137.0333, 4552,    152.0,  21.0610,  35.0450,2,  35.0340,2,    142.0,2,     6.90,2,     0.00,2,     0.46,2, 21.0320
    49RY9006_2,  PR02,RY7772,  1,      9,      9,2,19900708,0935,  5.0333, 137.0333, 4552,    177.0,  17.3500,  34.7840,2,  34.7650,2,    172.0,2,     6.80,2,     0.01,2,     0.45,2, 17.3200
    49RY9006_2,  PR02,RY7772,  1,     10,     10,2,19900708,0935,  5.0333, 137.0333, 4552,    203.0,  14.2670,  34.5970,2,  34.5810,2,    150.0,2,    13.90,2,     0.04,2,     0.90,2, 14.2370
    49RY9006_2,  PR02,RY7772,  1,     11,     11,2,19900708,0935,  5.0333, 137.0333, 4552,    251.0,  10.5410,  34.4730,2,  34.4700,2,    122.0,2,    22.10,2,     0.00,2,     1.56,2, 10.5110
    49RY9006_2,  PR02,RY7772,  1,     12,     12,2,19900708,0935,  5.0333, 137.0333, 4552,    300.0,   9.4780,  34.5730,2,  34.5760,2,    122.0,2,    25.20,2,     0.01,2,     1.80,2,  9.4440
    49RY9006_2,  PR02,RY7772,  1,     13,     13,2,19900708,0935,  5.0333, 137.0333, 4552,    401.0,   7.6880,  34.5450,2,  34.5430,2,    108.0,2,    30.30,2,     0.00,2,     2.08,2,  7.6480
    49RY9006_2,  PR02,RY7772,  2,     14,     14,2,19900708,1119,  5.0333, 137.0333, 4552,    504.0,   7.0740,  34.5570,2,  34.5560,2,    112.0,2,    31.90,2,     0.00,2,     2.27,2,  7.0260
    49RY9006_2,  PR02,RY7772,  2,     15,     15,2,19900708,1119,  5.0333, 137.0333, 4552,    605.0,   6.4540,  34.5440,2,  34.5420,2,    105.0,2,    33.90,2,     0.00,2,     2.44,2,  6.3990
    49RY9006_2,  PR02,RY7772,  2,     16,     16,2,19900708,1119,  5.0333, 137.0333, 4552,    705.0,   5.7700,  34.5400,2,  34.5410,2,     88.0,2,    37.00,2,     0.00,2,     2.63,2,  5.7090
    49RY9006_2,  PR02,RY7772,  2,     17,     17,2,19900708,1119,  5.0333, 137.0333, 4552,    807.0,   5.2510,  34.5430,2,  34.5430,2,     92.0,2,    37.60,2,     0.00,2,     2.73,2,  5.1830
    49RY9006_2,  PR02,RY7772,  2,     18,     18,2,19900708,1119,  5.0333, 137.0333, 4552,    908.0,   4.7840,  34.5500,2,  34.5490,2,     96.0,2,    38.30,2,     0.00,2,     2.74,2,  4.7100
    49RY9006_2,  PR02,RY7772,  2,     19,     19,2,19900708,1119,  5.0333, 137.0333, 4552,   1009.0,   4.3000,  34.5580,2,  34.5590,2,    102.0,2,    38.30,2,     0.00,2,     2.57,2,  4.2210
    49RY9006_2,  PR02,RY7772,  2,     20,     20,2,19900708,1119,  5.0333, 137.0333, 4552,   1262.0,   3.6270,  34.5770,2,  34.5820,2,    103.0,2,    38.90,2,     0.00,2,     2.54,2,  3.5320
    49RY9006_2,  PR02,RY7772,  2,     21,     21,2,19900708,1119,  5.0333, 137.0333, 4552,   1514.0,   2.9850,  34.5970,2,  34.6000,2,    108.0,2,    38.80,2,     0.00,2,     2.85,2,  2.8760
    49RY9006_2,  PR02,RY7772,  2,     22,     22,2,19900708,1119,  5.0333, 137.0333, 4552,   2022.0,   2.2450,  34.6340,2,-999.0000,9,    123.0,2,    38.80,2,     0.00,2,     2.82,2,  2.1030
    49RY9006_2,  PR02,RY7772,  2,     23,     23,2,19900708,1119,  5.0333, 137.0333, 4552,   2531.0,   1.8020,  34.6580,2,  34.6570,2,    139.0,2,    37.60,2,     0.00,2,     2.72,2,  1.6230
    49RY9006_2,  PR02,RY7772,  2,     24,     24,2,19900708,1119,  5.0333, 137.0333, 4552,   3040.0,   1.5880,  34.6720,2,  34.6720,2,    154.0,2,    36.70,2,     0.00,2,     2.45,2,  1.3650
    49RY9006_2,  PR02,RY7772,  2,     25,     25,2,19900708,1119,  5.0333, 137.0333, 4552,   4064.0,   1.5120,  34.6840,2,  34.6850,2,    165.0,2,    36.30,2,     0.00,2,     2.66,2,  1.1860
    49RY9006_2,  PR02,RY7773,  1,      1,      1,2,19900708,1744,  6.0000, 137.0000, 4209,      1.0,  28.8480,  34.0900,2,-999.0000,9,    198.0,2,     0.00,2,     0.00,2,     0.03,2, 28.8480
    49RY9006_2,  PR02,RY7773,  1,      2,      2,2,19900708,1744,  6.0000, 137.0000, 4209,     10.0,  28.8390,  34.0900,2,-999.0000,9,    198.0,2,     0.00,2,     0.00,2,     0.02,2, 28.8370
    49RY9006_2,  PR02,RY7773,  1,      3,      3,2,19900708,1744,  6.0000, 137.0000, 4209,     25.0,  28.7460,  34.0830,2,-999.0000,9,    199.0,2,     0.00,2,     0.00,2,     0.01,2, 28.7400
    49RY9006_2,  PR02,RY7773,  1,      4,      4,2,19900708,1744,  6.0000, 137.0000, 4209,     49.0,  28.6780,  34.0940,2,-999.0000,9,    199.0,2,     0.10,2,     0.00,2,     0.02,2, 28.6660
    49RY9006_2,  PR02,RY7773,  1,      5,      5,2,19900708,1744,  6.0000, 137.0000, 4209,     75.0,  25.0330,  34.8660,2,-999.0000,9,    191.0,2,     0.10,2,     0.00,2,     0.08,2, 25.0170
    49RY9006_2,  PR02,RY7773,  1,      6,      6,2,19900708,1744,  6.0000, 137.0000, 4209,    100.0,  22.5440,  35.0070,2,-999.0000,9,    173.0,2,     1.60,2,     0.12,2,     0.20,2, 22.5240
    49RY9006_2,  PR02,RY7773,  1,      7,      7,2,19900708,1744,  6.0000, 137.0000, 4209,    125.0,  20.6630,  34.9960,2,-999.0000,9,    147.0,2,     7.90,2,     0.02,2,     0.67,2, 20.6390
    49RY9006_2,  PR02,RY7773,  1,      8,      8,2,19900708,1744,  6.0000, 137.0000, 4209,    152.0,  18.1690,  34.8420,2,-999.0000,9,    166.0,2,     6.80,2,     0.01,2,     0.58,2, 18.1430
    49RY9006_2,  PR02,RY7773,  2,      9,      9,2,19900708,1829,  6.0000, 137.0000, 4209,    175.0,  15.4360,  34.6790,2,-999.0000,9,    156.0,2,    11.90,2,     0.01,2,     0.96,2, 15.4090
    49RY9006_2,  PR02,RY7773,  2,     10,     10,2,19900708,1829,  6.0000, 137.0000, 4209,    201.0,  13.0390,  34.5600,2,-999.0000,9,    131.0,2,    18.20,2,     0.00,2,     1.35,2, 13.0110
    49RY9006_2,  PR02,RY7773,  2,     11,     11,2,19900708,1829,  6.0000, 137.0000, 4209,    252.0,  10.3490,  34.5600,2,-999.0000,9,     73.0,2,    28.90,2,     0.00,2,     2.14,2, 10.3190
    49RY9006_2,  PR02,RY7773,  2,     12,     12,2,19900708,1829,  6.0000, 137.0000, 4209,    302.0,   9.3290,  34.5950,2,-999.0000,9,     61.0,2,    32.60,2,     0.00,2,     2.34,2,  9.2950
    49RY9006_2,  PR02,RY7773,  2,     13,     13,2,19900708,1829,  6.0000, 137.0000, 4209,    402.0,   8.1540,  34.5790,2,-999.0000,9,     68.0,2,    34.40,2,     0.00,2,     2.46,2,  8.1130
    49RY9006_2,  PR02,RY7773,  2,     14,     14,2,19900708,1829,  6.0000, 137.0000, 4209,    503.0,   7.4320,  34.5630,2,-999.0000,9,     77.0,2,    35.00,2,     0.01,2,     2.48,2,  7.3830
    49RY9006_2,  PR02,RY7773,  2,     15,     15,2,19900708,1829,  6.0000, 137.0000, 4209,    604.0,   6.4210,  34.5410,2,-999.0000,9,     86.0,2,    36.20,2,     0.00,2,     2.57,2,  6.3660
    49RY9006_2,  PR02,RY7773,  2,     16,     16,2,19900708,1829,  6.0000, 137.0000, 4209,    704.0,   5.9620,  34.5340,2,-999.0000,9,    102.0,2,    35.50,2,     0.00,2,     2.52,2,  5.9000
    49RY9006_2,  PR02,RY7773,  2,     17,     17,2,19900708,1829,  6.0000, 137.0000, 4209,    805.0,   5.4220,  34.5390,2,-999.0000,9,     83.0,2,    38.40,2,     0.00,2,     2.72,2,  5.3530
    49RY9006_2,  PR02,RY7773,  2,     18,     18,2,19900708,1829,  6.0000, 137.0000, 4209,    907.0,   4.8850,  34.5460,2,-999.0000,9,     92.0,2,    38.60,2,     0.00,2,     2.75,2,  4.8110
    49RY9006_2,  PR02,RY7773,  2,     19,     19,2,19900708,1829,  6.0000, 137.0000, 4209,   1008.0,   4.4010,  34.5540,2,-999.0000,9,     91.0,2,    38.70,2,     0.00,2,     2.74,2,  4.3210
    49RY9006_2,  PR02,RY7773,  2,     20,     20,2,19900708,1829,  6.0000, 137.0000, 4209,   1262.0,   3.5950,  34.5760,2,-999.0000,9,    101.0,2,    38.70,2,     0.00,2,     2.74,2,  3.5010
    49RY9006_2,  PR02,RY7774,  1,      1,      1,2,19900709,0012,  7.0167, 137.0000, 4194,      2.0,  28.4060,  33.5160,2,-999.0000,9,    198.0,2,     0.00,2,     0.00,2,     0.02,2, 28.4060
    49RY9006_2,  PR02,RY7774,  1,      2,      2,2,19900709,0012,  7.0167, 137.0000, 4194,      9.0,  28.6150,  33.9930,2,-999.0000,9,    198.0,2,     0.00,2,     0.00,2,     0.01,2, 28.6130
    49RY9006_2,  PR02,RY7774,  1,      3,      3,2,19900709,0012,  7.0167, 137.0000, 4194,     24.0,  28.5840,  34.0010,2,-999.0000,9,    199.0,2,     0.00,2,     0.00,2,     0.03,2, 28.5780
    49RY9006_2,  PR02,RY7774,  1,      4,      4,2,19900709,0012,  7.0167, 137.0000, 4194,     51.0,  28.2020,  34.1530,2,-999.0000,9,    199.0,2,     0.00,2,     0.00,2,     0.02,2, 28.1900
    49RY9006_2,  PR02,RY7774,  1,      5,      5,2,19900709,0012,  7.0167, 137.0000, 4194,     76.0,  24.7470,  34.8920,2,-999.0000,9,    182.0,2,     1.00,2,     0.06,2,     0.22,2, 24.7310
    49RY9006_2,  PR02,RY7774,  1,      6,      6,2,19900709,0012,  7.0167, 137.0000, 4194,    100.0,  22.2420,  34.8800,2,-999.0000,9,    164.0,2,     3.60,2,     0.17,2,     0.37,2, 22.2220
    49RY9006_2,  PR02,RY7774,  1,      7,      7,2,19900709,0012,  7.0167, 137.0000, 4194,    125.0,  19.8260,  34.8690,2,-999.0000,9,    158.0,2,     6.00,2,     0.03,2,     0.57,2, 19.8030
    49RY9006_2,  PR02,RY7774,  1,      8,      8,2,19900709,0012,  7.0167, 137.0000, 4194,    151.0,  17.1290,  34.7410,2,-999.0000,9,    153.0,2,    10.20,2,     0.00,2,     0.83,2, 17.1040