BOTTLE,20020816WHPSIOHLB
EXPOCODE,SECT_ID,STNNBR,CASTNO,SAMPNO,BTLNBR,BTLNBR_FLAG_W,DATE,TIME,LATITUDE,LONGITUDE,DEPTH,CTDPRS,CTDTMP,CTDSAL,CTDSAL_FLAG_W,SALNTY,SALNTY_FLAG_W,OXYGEN,OXYGEN_FLAG_W,NITRAT,NITRAT_FLAG_W,NITRIT,NITRIT_FLAG_W,PHSPHT,PHSPHT_FLAG_W,THETA
,,,,,,,,,,,,DBAR,DEG C,PSS-78,,PSS-78,,UMOL/KG,,UMOL/KG,,UMOL/KG,,UMOL/KG,,DEG C
    49RY9006_2,  PR02,RY7779,  1,      1,      1,2,19900710,0918, 11.9833, 136.9833, 5007,      2.0,  29.1390,  34.3330,2,  34.3310,2,    197.0,2,     0.00,2,     0.00,2,     0.02,2, 29.1390
    49RY9006_2,  PR02,RY7779,  1,      2,      2,2,19900710,0918, 11.9833, 136.9833, 5007,      9.0,  29.0560,  34.3390,2,  34.3340,2,    199.0,2,     0.00,2,     0.00,2,     0.03,2, 29.0540
    49RY9006_2,  PR02,RY7779,  1,      3,      3,2,19900710,0918, 11.9833, 136.9833, 5007,     25.0,  28.8890,  34.3360,2,  34.3340,2,    197.0,2,     0.00,2,     0.00,2,     0.01,2, 28.8830
    49RY9006_2,  PR02,RY7779,  1,      4,      4,2,19900710,0918, 11.9833, 136.9833, 5007,     50.0,  28.7580,  34.3610,2,  34.3570,2,    201.0,2,     0.10,2,     0.00,2,     0.02,2, 28.7460
    49RY9006_2,  PR02,RY7779,  1,      5,      5,2,19900710,0918, 11.9833, 136.9833, 5007,     74.0,  28.1190,  34.5280,2,  34.5410,2,    201.0,2,     0.10,2,     0.00,2,     0.02,2, 28.1020
    49RY9006_2,  PR02,RY7779,  1,      6,      6,2,19900710,0918, 11.9833, 136.9833, 5007,    101.0,  26.0050,  34.8670,2,  34.8640,2,    199.0,2,     0.00,2,     0.00,2,     0.06,2, 25.9820
    49RY9006_2,  PR02,RY7779,  1,      7,      7,2,19900710,0918, 11.9833, 136.9833, 5007,    125.0,  23.1620,  35.0770,2,  35.0740,2,    180.0,2,     0.60,2,     0.13,2,     0.18,2, 23.1360
    49RY9006_2,  PR02,RY7779,  1,      8,      8,2,19900710,0918, 11.9833, 136.9833, 5007,    151.0,  20.7170,  35.0320,2,  35.0450,2,    176.0,2,     2.30,2,     0.04,2,     0.19,2, 20.6880
    49RY9006_2,  PR02,RY7779,  2,      9,      9,2,19900710,1052, 11.9833, 136.9833, 5007,    176.0,  18.9300,  34.9580,2,  34.9440,2,    182.0,2,     3.50,2,     0.01,2,     0.36,2, 18.8990
    49RY9006_2,  PR02,RY7779,  2,     10,     10,2,19900710,1052, 11.9833, 136.9833, 5007,    201.0,  16.6610,  34.7750,2,  34.7600,2,    191.0,2,     5.80,2,     0.01,2,     0.49,2, 16.6280
    49RY9006_2,  PR02,RY7779,  2,     11,     11,2,19900710,1052, 11.9833, 136.9833, 5007,    252.0,  13.2230,  34.4790,2,  34.4700,2,    185.0,2,    12.10,2,     0.00,2,     0.97,2, 13.1880
    49RY9006_2,  PR02,RY7779,  2,     12,     12,2,19900710,1052, 11.9833, 136.9833, 5007,    302.0,  11.0180,  34.3630,2,  34.3580,2,    143.0,2,    19.50,2,     0.00,2,     1.50,2, 10.9810
    49RY9006_2,  PR02,RY7779,  2,     13,     13,2,19900710,1052, 11.9833, 136.9833, 5007,    403.0,   8.5290,  34.4160,2,  34.4110,2,     84.0,2,    31.40,2,     0.01,2,     2.28,2,  8.4860
    49RY9006_2,  PR02,RY7779,  2,     14,     14,2,19900710,1052, 11.9833, 136.9833, 5007,    503.0,   7.1210,  34.4610,2,  34.4560,2,     70.0,2,    35.30,2,     0.00,2,     2.54,2,  7.0730
    49RY9006_2,  PR02,RY7779,  2,     15,     15,2,19900710,1052, 11.9833, 136.9833, 5007,    604.0,   6.2540,  34.4890,2,  34.4850,2,     77.0,2,    36.80,2,     0.00,2,     2.64,2,  6.2000
    49RY9006_2,  PR02,RY7779,  2,     16,     16,2,19900710,1052, 11.9833, 136.9833, 5007,    705.0,   5.7120,  34.5070,2,  34.5070,2,     86.0,2,    37.30,2,     0.00,2,     2.66,2,  5.6510
    49RY9006_2,  PR02,RY7779,  2,     17,     17,2,19900710,1052, 11.9833, 136.9833, 5007,    806.0,   5.1310,  34.5190,2,  34.5160,2,     88.0,2,    38.40,2,     0.00,2,     2.72,2,  5.0640
    49RY9006_2,  PR02,RY7779,  2,     18,     18,2,19900710,1052, 11.9833, 136.9833, 5007,    907.0,   4.6260,  34.5320,2,  34.5300,2,     90.0,2,    38.80,2,     0.00,2,     2.73,2,  4.5540
    49RY9006_2,  PR02,RY7779,  2,     19,     19,2,19900710,1052, 11.9833, 136.9833, 5007,   1006.0,   4.2500,  34.5400,2,  34.5400,2,     88.0,2,    39.00,2,     0.00,2,     2.78,2,  4.1720
    49RY9006_2,  PR02,RY7779,  2,     20,     20,2,19900710,1052, 11.9833, 136.9833, 5007,   1261.0,   3.3910,  34.5700,2,  34.5710,2,    109.0,2,    38.90,2,     0.00,2,     2.73,2,  3.2990
    49RY9006_3,  PR02,RY7780,  1,      1,      1,2,19900723,1316, 13.0000, 137.0000, 4971,      2.0,  29.8280,  34.4670,2,  34.4740,2,    194.0,2,     0.00,2,     0.00,2,     0.29,2, 29.8280
    49RY9006_3,  PR02,RY7780,  1,      2,      2,2,19900723,1316, 13.0000, 137.0000, 4971,     10.0,  29.8340,  34.4680,2,  34.4700,2,    199.0,2,     0.00,2,     0.00,2,     0.18,2, 29.8320
    49RY9006_3,  PR02,RY7780,  1,      3,      3,2,19900723,1316, 13.0000, 137.0000, 4971,     26.0,  29.5170,  34.4570,2,  34.4680,2,    204.0,2,     0.00,2,     0.00,2,     0.00,2, 29.5110
    49RY9006_3,  PR02,RY7780,  1,      4,      4,2,19900723,1316, 13.0000, 137.0000, 4971,     51.0,  28.3770,  34.5720,2,  34.5440,2,    210.0,2,     0.00,2,     0.00,2,     0.00,2, 28.3650
    49RY9006_3,  PR02,RY7780,  1,      5,      5,2,19900723,1316, 13.0000, 137.0000, 4971,     75.0,  27.0890,  34.7110,2,  34.7120,2,    212.0,2,     0.00,2,     0.00,2,     0.00,2, 27.0720
    49RY9006_3,  PR02,RY7780,  1,      6,      6,2,19900723,1316, 13.0000, 137.0000, 4971,    101.0,  26.0900,  34.8360,2,  34.8290,2,    207.0,2,     0.00,2,     0.00,2,     0.06,2, 26.0670
    49RY9006_3,  PR02,RY7780,  1,      7,      7,2,19900723,1316, 13.0000, 137.0000, 4971,    126.0,  24.1210,  35.0070,2,  35.0080,2,    191.0,2,     0.30,2,     0.10,2,     0.32,2, 24.0940
    49RY9006_3,  PR02,RY7780,  1,      8,      8,2,19900723,1316, 13.0000, 137.0000, 4971,    151.0,  21.6370,  35.0490,2,  35.0720,2,    182.0,2,     1.70,2,     0.03,2,     0.38,2, 21.6070
    49RY9006_3,  PR02,RY7780,  1,      9,      9,2,19900723,1316, 13.0000, 137.0000, 4971,    175.0,  20.7890,  35.0470,2,  35.0500,2,    183.0,2,     2.20,2,     0.02,2,     0.50,2, 20.7560
    49RY9006_3,  PR02,RY7780,  1,     10,     10,2,19900723,1316, 13.0000, 137.0000, 4971,    201.0,  18.5720,  34.9140,2,  34.9250,2,    185.0,2,     3.90,2,     0.01,2,     0.48,2, 18.5370
    49RY9006_3,  PR02,RY7780,  1,     11,     11,2,19900723,1316, 13.0000, 137.0000, 4971,    251.0,  14.2750,  34.5450,2,  34.5510,2,    183.0,2,    10.00,2,     0.00,2,     0.96,2, 14.2380
    49RY9006_3,  PR02,RY7780,  1,     12,     12,2,19900723,1316, 13.0000, 137.0000, 4971,    303.0,  11.8000,  34.4020,2,  34.4130,2,    142.0,2,    18.50,2,     0.00,2,     1.34,2, 11.7610
    49RY9006_3,  PR02,RY7780,  2,     13,     13,2,19900723,1405, 13.0000, 137.0000, 4971,    403.0,   8.6890,  34.3710,2,  34.3710,2,     89.0,2,    29.90,2,     0.00,2,     2.27,2,  8.6460
    49RY9006_3,  PR02,RY7780,  2,     14,     14,2,19900723,1405, 13.0000, 137.0000, 4971,    503.0,   7.1570,  34.4290,2,  34.4330,2,     74.0,2,    35.00,2,     0.00,2,     2.51,2,  7.1090
    49RY9006_3,  PR02,RY7780,  2,     15,     15,2,19900723,1405, 13.0000, 137.0000, 4971,    604.0,   6.3820,  34.4510,2,  34.4550,2,     80.0,2,    36.50,2,     0.00,2,     2.62,2,  6.3270
    49RY9006_3,  PR02,RY7780,  2,     16,     16,2,19900723,1405, 13.0000, 137.0000, 4971,    705.0,   5.7460,  34.4720,2,  34.4740,2,     86.0,2,    37.10,2,     0.00,2,     2.50,2,  5.6850
    49RY9006_3,  PR02,RY7780,  2,     17,     17,2,19900723,1405, 13.0000, 137.0000, 4971,    805.0,   5.1450,  34.5000,2,  34.5040,2,     91.0,2,    38.00,2,     0.00,2,     2.53,2,  5.0780
    49RY9006_3,  PR02,RY7780,  2,     18,     18,2,19900723,1405, 13.0000, 137.0000, 4971,    907.0,   4.7380,  34.5140,2,  34.5150,2,     91.0,2,    38.20,2,     0.00,2,     2.65,2,  4.6650
    49RY9006_3,  PR02,RY7780,  2,     19,     19,2,19900723,1405, 13.0000, 137.0000, 4971,   1007.0,   4.3930,  34.5220,2,  34.5260,2,     93.0,2,    38.40,2,     0.00,2,     2.67,2,  4.3140
    49RY9006_3,  PR02,RY7780,  2,     20,     20,2,19900723,1405, 13.0000, 137.0000, 4971,   1262.0,   3.4260,  34.5540,2,  34.5580,2,     96.0,2,    39.00,2,     0.00,2,     2.82,2,  3.3330
    49RY9006_3,  PR02,RY7781,  1,      1,      1,2,19900724,0743, 14.0000, 137.0000, 4719,      3.0,  29.8540,  34.1980,2,-999.0000,9,    197.0,2,     0.00,2,     0.00,2,     0.19,2, 29.8530
    49RY9006_3,  PR02,RY7781,  1,      2,      2,2,19900724,0743, 14.0000, 137.0000, 4719,     10.0,  29.8290,  34.2070,2,-999.0000,9,    197.0,2,     0.00,2,     0.00,2,     0.13,2, 29.8270
    49RY9006_3,  PR02,RY7781,  1,      3,      3,2,19900724,0743, 14.0000, 137.0000, 4719,     25.0,  29.6130,  34.2760,2,-999.0000,9,    201.0,2,     0.00,2,     0.00,2,     0.04,2, 29.6070
    49RY9006_3,  PR02,RY7781,  1,      4,      4,2,19900724,0743, 14.0000, 137.0000, 4719,     51.0,  29.1980,  34.3380,2,-999.0000,9,    202.0,2,     0.00,2,     0.00,2,     0.05,2, 29.1860
    49RY9006_3,  PR02,RY7781,  1,      5,      5,2,19900724,0743, 14.0000, 137.0000, 4719,     75.0,  27.8840,  34.5700,2,-999.0000,9,    207.0,2,     0.00,2,     0.00,2,     0.20,2, 27.8660
    49RY9006_3,  PR02,RY7781,  1,      6,      6,2,19900724,0743, 14.0000, 137.0000, 4719,    100.0,  26.8380,  34.7440,2,-999.0000,9,    204.0,2,     0.00,2,     0.00,2,     0.20,2, 26.8150
    49RY9006_3,  PR02,RY7781,  1,      7,      7,2,19900724,0743, 14.0000, 137.0000, 4719,    126.0,  26.0570,  34.8450,2,-999.0000,9,    200.0,2,     0.00,2,     0.00,2,     0.07,2, 26.0290
    49RY9006_3,  PR02,RY7781,  1,      8,      8,2,19900724,0743, 14.0000, 137.0000, 4719,    150.0,  24.0090,  34.9800,2,-999.0000,9,    186.0,2,     0.20,2,     0.09,2,     0.15,2, 23.9770
    49RY9006_3,  PR02,RY7781,  1,      9,      9,4,19900724,0743, 14.0000, 137.0000, 4719,    175.0,-999.0000,-999.0000,9,-999.0000,9,   -999.0,9,  -999.00,9,  -999.00,9,  -999.00,9,-999.0000
    49RY9006_3,  PR02,RY7781,  1,     10,     10,2,19900724,0743, 14.0000, 137.0000, 4719,    200.0,  20.1650,  35.0040,2,-999.0000,9,    177.0,2,     2.80,2,     0.02,2,     0.46,2, 20.1280
    49RY9006_3,  PR02,RY7781,  1,     11,     11,2,19900724,0743, 14.0000, 137.0000, 4719,    252.0,  16.1390,  34.7060,2,-999.0000,9,    188.0,2,     6.50,2,     0.01,2,     0.68,2, 16.0990
    49RY9006_3,  PR02,RY7781,  1,     12,     12,2,19900724,0743, 14.0000, 137.0000, 4719,    302.0,  12.9640,  34.4310,2,-999.0000,9,    182.0,2,    11.90,2,     0.00,2,     1.04,2, 12.9230
    49RY9006_3,  PR02,RY7781,  2,     13,     13,2,19900724,0833, 14.0000, 137.0000, 4719,    175.0,  21.3650,  35.0490,2,-999.0000,9,    175.0,2,     2.00,2,     0.03,2,     0.33,2, 21.3310
    49RY9006_3,  PR02,RY7781,  2,     14,     14,2,19900724,0833, 14.0000, 137.0000, 4719,    403.0,   9.5720,  34.2790,2,-999.0000,9,    124.0,2,    23.50,2,     0.00,2,     1.78,2,  9.5260
    49RY9006_3,  PR02,RY7781,  2,     15,     15,2,19900724,0833, 14.0000, 137.0000, 4719,    503.0,   7.8350,  34.4090,2,-999.0000,9,     67.0,2,    32.90,2,     0.00,2,     2.49,2,  7.7840
    49RY9006_3,  PR02,RY7781,  2,     16,     16,2,19900724,0833, 14.0000, 137.0000, 4719,    604.0,   6.7550,  34.4190,2,-999.0000,9,     71.0,2,    34.70,2,     0.00,2,     2.60,2,  6.6980
    49RY9006_3,  PR02,RY7781,  2,     17,     17,2,19900724,0833, 14.0000, 137.0000, 4719,    705.0,   5.8040,  34.4330,2,-999.0000,9,     77.0,2,    35.80,2,     0.00,2,     2.69,2,  5.7430
    49RY9006_3,  PR02,RY7781,  2,     18,     18,2,19900724,0833, 14.0000, 137.0000, 4719,    805.0,   5.1490,  34.4610,2,-999.0000,9,     86.0,2,    37.00,2,     0.00,2,     2.61,2,  5.0820
    49RY9006_3,  PR02,RY7781,  2,     19,     19,2,19900724,0833, 14.0000, 137.0000, 4719,    907.0,   4.6530,  34.5080,2,-999.0000,9,     87.0,2,    37.50,2,     0.00,2,     2.72,2,  4.5800
    49RY9006_3,  PR02,RY7781,  2,     20,     20,2,19900724,0833, 14.0000, 137.0000, 4719,   1007.0,   4.2620,  34.5280,2,-999.0000,9,     93.0,2,    37.80,2,     0.00,2,     2.66,2,  4.1840
    49RY9006_3,  PR02,RY7781,  2,     21,     21,2,19900724,0833, 14.0000, 137.0000, 4719,   1263.0,   3.3790,  34.5490,2,-999.0000,9,     96.0,2,    38.10,2,     0.00,2,     2.78,2,  3.2870
    49RY9006_3,  PR02,RY7782,  1,      1,      1,2,19900724,1411, 15.0000, 137.0000, 5352,      3.0,  29.8140,  34.4450,2,-999.0000,9,    195.0,2,     0.10,2,     0.02,2,     0.09,2, 29.8130
    49RY9006_3,  PR02,RY7782,  1,      2,      2,2,19900724,1411, 15.0000, 137.0000, 5352,     10.0,  29.8170,  34.4460,2,-999.0000,9,    195.0,2,     0.10,2,     0.00,2,     0.09,2, 29.8150
    49RY9006_3,  PR02,RY7782,  1,      3,      3,2,19900724,1411, 15.0000, 137.0000, 5352,     25.0,  29.8170,  34.4450,2,-999.0000,9,    195.0,2,     0.10,2,     0.00,2,     0.19,2, 29.8110
    49RY9006_3,  PR02,RY7782,  1,      4,      4,2,19900724,1411, 15.0000, 137.0000, 5352,     50.0,  29.4000,  34.4460,2,-999.0000,9,    200.0,2,     0.10,2,     0.00,2,     0.13,2, 29.3880
    49RY9006_3,  PR02,RY7782,  1,      5,      5,2,19900724,1411, 15.0000, 137.0000, 5352,     75.0,  28.5930,  34.4990,2,-999.0000,9,    203.0,2,     0.10,2,     0.00,2,     0.10,2, 28.5750
    49RY9006_3,  PR02,RY7782,  1,      6,      6,2,19900724,1411, 15.0000, 137.0000, 5352,    101.0,  27.5870,  34.6320,2,-999.0000,9,    206.0,2,     0.00,2,     0.00,2,     0.13,2, 27.5630
    49RY9006_3,  PR02,RY7782,  1,      7,      7,2,19900724,1411, 15.0000, 137.0000, 5352,    125.0,  26.3270,  34.8210,2,-999.0000,9,    202.0,2,     0.00,2,     0.00,2,     0.20,2, 26.2990
    49RY9006_3,  PR02,RY7782,  1,      8,      8,2,19900724,1411, 15.0000, 137.0000, 5352,    151.0,  25.7040,  34.8660,2,-999.0000,9,    200.0,2,     0.00,2,     0.00,2,     0.17,2, 25.6710
    49RY9006_3,  PR02,RY7782,  1,      9,      9,2,19900724,1411, 15.0000, 137.0000, 5352,    176.0,  23.7840,  35.0360,2,-999.0000,9,    186.0,2,     0.20,2,     0.14,2,     0.23,2, 23.7470
    49RY9006_3,  PR02,RY7782,  1,     10,     10,2,19900724,1411, 15.0000, 137.0000, 5352,    201.0,  21.6770,  35.0400,2,-999.0000,9,    175.0,2,     1.60,2,     0.02,2,     0.41,2, 21.6380
    49RY9006_3,  PR02,RY7782,  1,     11,     11,2,19900724,1411, 15.0000, 137.0000, 5352,    251.0,  17.3560,  34.8050,2,-999.0000,9,    183.0,2,     5.20,2,     0.00,2,     0.52,2, 17.3140
    49RY9006_3,  PR02,RY7782,  1,     12,     12,2,19900724,1411, 15.0000, 137.0000, 5352,    302.0,  14.7610,  34.5900,2,-999.0000,9,    188.0,2,     8.40,2,     0.00,2,     0.79,2, 14.7160
    49RY9006_3,  PR02,RY7782,  1,     13,     13,2,19900724,1411, 15.0000, 137.0000, 5352,    402.0,  10.7620,  34.3070,2,-999.0000,9,    151.0,2,    18.80,2,     0.00,2,     1.45,2, 10.7130
    49RY9006_3,  PR02,RY7782,  2,     14,     14,2,19900724,1534, 15.0000, 137.0000, 5352,    503.0,   8.2940,  34.3170,2,-999.0000,9,    102.0,2,    29.30,2,     0.00,2,     2.23,2,  8.2420
    49RY9006_3,  PR02,RY7782,  2,     15,     15,2,19900724,1534, 15.0000, 137.0000, 5352,    604.0,   6.5640,  34.3770,2,-999.0000,9,     76.0,2,    35.00,2,     0.00,2,     2.57,2,  6.5080
    49RY9006_3,  PR02,RY7782,  2,     16,     16,2,19900724,1534, 15.0000, 137.0000, 5352,    705.0,   5.7870,  34.4420,2,-999.0000,9,     86.0,2,    36.30,2,     0.00,2,     2.64,2,  5.7260
    49RY9006_3,  PR02,RY7782,  2,     17,     17,2,19900724,1534, 15.0000, 137.0000, 5352,    805.0,   5.1260,  34.4780,2,-999.0000,9,     91.0,2,    36.90,2,     0.00,2,     2.65,2,  5.0590
    49RY9006_3,  PR02,RY7782,  2,     18,     18,2,19900724,1534, 15.0000, 137.0000, 5352,    907.0,   4.6690,  34.5020,2,-999.0000,9,     93.0,2,    37.40,2,     0.00,2,     2.71,2,  4.5960
    49RY9006_3,  PR02,RY7782,  2,     19,     19,2,19900724,1534, 15.0000, 137.0000, 5352,   1008.0,   4.1480,  34.5230,2,-999.0000,9,     94.0,2,    37.70,2,     0.00,2,     2.71,2,  4.0700
    49RY9006_3,  PR02,RY7782,  2,     20,     20,2,19900724,1534, 15.0000, 137.0000, 5352,   1261.0,   3.3760,  34.5530,2,-999.0000,9,    102.0,2,    38.10,2,     0.00,2,     2.73,2,  3.2840
    49RY9006_3,  PR02,RY7782,  2,     21,     21,2,19900724,1534, 15.0000, 137.0000, 5352,   1514.0,   2.8400,  34.5770,2,-999.0000,9,    107.0,2,    38.20,2,     0.00,2,     2.86,2,  2.7330
    49RY9006_3,  PR02,RY7782,  2,     22,     22,2,19900724,1534, 15.0000, 137.0000, 5352,   2020.0,   2.1020,  34.6190,2,-999.0000,9,    123.0,2,    37.70,2,     0.00,2,     2.79,2,  1.9620
    49RY9006_3,  PR02,RY7782,  2,     23,     23,2,19900724,1534, 15.0000, 137.0000, 5352,   2532.0,   1.7500,  34.6460,2,-999.0000,9,    140.0,2,    37.00,2,     0.00,2,     2.81,2,  1.5720
    49RY9006_3,  PR02,RY7782,  2,     24,     24,2,19900724,1534, 15.0000, 137.0000, 5352,   3043.0,   1.6410,  34.6580,2,-999.0000,9,    147.0,2,    36.30,2,     0.00,2,     2.78,2,  1.4170
    49RY9006_3,  PR02,RY7782,  2,     25,     25,2,19900724,1534, 15.0000, 137.0000, 5352,   4066.0,   1.5110,  34.6740,2,-999.0000,9,    168.0,2,    35.10,2,     0.00,2,     2.65,2,  1.1850
    49RY9006_3,  PR02,RY7783,  1,      1,      1,2,19900724,2154, 16.0000, 137.0000, 5377,      1.0,  29.6280,  34.4180,2,-999.0000,9,    194.0,2,     0.00,2,     0.00,2,     0.01,2, 29.6280
    49RY9006_3,  PR02,RY7783,  1,      2,      2,2,19900724,2154, 16.0000, 137.0000, 5377,     10.0,  29.6320,  34.4250,2,-999.0000,9,    194.0,2,     0.00,2,     0.00,2,     0.00,2, 29.6300
    49RY9006_3,  PR02,RY7783,  1,      3,      3,2,19900724,2154, 16.0000, 137.0000, 5377,     25.0,  29.6750,  34.4780,2,-999.0000,9,    196.0,2,     0.00,2,     0.00,2,     0.01,2, 29.6690
    49RY9006_3,  PR02,RY7783,  1,      4,      4,2,19900724,2154, 16.0000, 137.0000, 5377,     50.0,  29.7390,  34.5790,2,-999.0000,9,    198.0,2,     0.00,2,     0.00,2,     0.03,2, 29.7270
    49RY9006_3,  PR02,RY7783,  1,      5,      5,2,19900724,2154, 16.0000, 137.0000, 5377,     75.0,  28.3480,  34.5830,2,-999.0000,9,    206.0,2,     0.00,2,     0.00,2,     0.01,2, 28.3300
    49RY9006_3,  PR02,RY7783,  1,      6,      6,2,19900724,2154, 16.0000, 137.0000, 5377,    100.0,  26.6400,  34.6610,2,-999.0000,9,    205.0,2,     0.00,2,     0.00,2,     0.01,2, 26.6170
    49RY9006_3,  PR02,RY7783,  1,      7,      7,2,19900724,2154, 16.0000, 137.0000, 5377,    126.0,  25.6540,  34.7800,2,-999.0000,9,    198.0,2,     0.10,2,     0.10,2,     0.04,2, 25.6260
    49RY9006_3,  PR02,RY7783,  1,      8,      8,2,19900724,2154, 16.0000, 137.0000, 5377,    151.0,  24.6280,  34.9340,2,-999.0000,9,    193.0,2,     0.50,2,     0.03,2,     0.05,2, 24.5960