BOTTLE,20020816WHPSIOHLB
EXPOCODE,SECT_ID,STNNBR,CASTNO,SAMPNO,BTLNBR,BTLNBR_FLAG_W,DATE,TIME,LATITUDE,LONGITUDE,DEPTH,CTDPRS,CTDTMP,CTDSAL,CTDSAL_FLAG_W,SALNTY,SALNTY_FLAG_W,OXYGEN,OXYGEN_FLAG_W,NITRAT,NITRAT_FLAG_W,NITRIT,NITRIT_FLAG_W,PHSPHT,PHSPHT_FLAG_W,THETA
,,,,,,,,,,,,DBAR,DEG C,PSS-78,,PSS-78,,UMOL/KG,,UMOL/KG,,UMOL/KG,,UMOL/KG,,DEG C
    49RY9006_3,  PR02,RY7797,  1,      1,      1,2,19900728,2029, 30.0000, 136.9333, 4285,      3.0,  28.9390,  33.8670,2,  33.8380,2,    194.0,2,     0.00,2,     0.00,2,     0.00,2, 28.9380
    49RY9006_3,  PR02,RY7797,  1,      2,      2,2,19900728,2029, 30.0000, 136.9333, 4285,     10.0,  28.9510,  33.8730,2,  33.8700,2,    199.0,2,     0.00,2,     0.00,2,     0.01,2, 28.9490
    49RY9006_3,  PR02,RY7797,  1,      3,      3,2,19900728,2029, 30.0000, 136.9333, 4285,     25.0,  28.7700,  34.2660,2,  34.2860,2,    206.0,2,     0.00,2,     0.01,2,     0.00,2, 28.7640
    49RY9006_3,  PR02,RY7797,  1,      4,      4,2,19900728,2029, 30.0000, 136.9333, 4285,     50.0,  25.9790,  34.3500,2,  34.3600,2,    210.0,2,     0.00,2,     0.00,2,     0.02,2, 25.9680
    49RY9006_3,  PR02,RY7797,  1,      5,      5,2,19900728,2029, 30.0000, 136.9333, 4285,     76.0,  23.7570,  34.7350,2,  34.7230,2,    208.0,2,     0.30,2,     0.21,2,     0.02,2, 23.7410
    49RY9006_3,  PR02,RY7797,  1,      6,      6,2,19900728,2029, 30.0000, 136.9333, 4285,    101.0,  22.2580,  34.7870,2,  34.7920,2,    198.0,2,     1.40,2,     0.08,2,     0.09,2, 22.2380
    49RY9006_3,  PR02,RY7797,  1,      7,      7,2,19900728,2029, 30.0000, 136.9333, 4285,    126.0,  20.8100,  34.8280,2,  34.8140,2,    226.0,2,     0.00,2,     0.00,2,     0.02,2, 20.7860
    49RY9006_3,  PR02,RY7797,  1,      8,      8,2,19900728,2029, 30.0000, 136.9333, 4285,    152.0,  19.9650,  34.8250,2,-999.0000,5,    211.0,2,     1.10,2,     0.11,2,     0.06,2, 19.9370
    49RY9006_3,  PR02,RY7797,  1,      9,      9,2,19900728,2029, 30.0000, 136.9333, 4285,    176.0,  19.5580,  34.8260,2,  34.8240,2,    211.0,2,     1.20,2,     0.06,2,     0.06,2, 19.5260
    49RY9006_3,  PR02,RY7797,  1,     10,     10,2,19900728,2029, 30.0000, 136.9333, 4285,    201.0,  19.1250,  34.8160,2,  34.8150,2,    209.0,2,     1.80,2,     0.02,2,     0.11,2, 19.0890
    49RY9006_3,  PR02,RY7797,  1,     11,     11,2,19900728,2029, 30.0000, 136.9333, 4285,    252.0,  18.4960,  34.8200,2,  34.8150,2,    206.0,2,     2.60,2,     0.02,2,     0.22,2, 18.4520
    49RY9006_3,  PR02,RY7797,  1,     12,     12,2,19900728,2029, 30.0000, 136.9333, 4285,    301.0,  17.7800,  34.7990,2,  34.8000,2,    199.0,2,     4.00,2,     0.02,2,     0.29,2, 17.7290
    49RY9006_3,  PR02,RY7797,  1,     13,     13,2,19900728,2029, 30.0000, 136.9333, 4285,    401.0,  16.3620,  34.7220,2,  34.7250,2,    196.0,2,     6.30,2,     0.01,2,     0.48,2, 16.2970
    49RY9006_3,  PR02,RY7797,  2,     14,     14,2,19900728,2155, 30.0000, 136.9333, 4285,    504.0,  14.1940,  34.5730,2,  34.5590,2,    185.0,2,    10.90,2,     0.01,2,     0.81,2, 14.1200
    49RY9006_3,  PR02,RY7797,  2,     15,     15,2,19900728,2155, 30.0000, 136.9333, 4285,    605.0,  11.5350,  34.3890,2,  34.3780,2,    170.0,2,    16.70,2,     0.00,2,     1.23,2, 11.4570
    49RY9006_3,  PR02,RY7797,  2,     16,     16,2,19900728,2155, 30.0000, 136.9333, 4285,    706.0,   9.0400,  34.2450,2,  34.2410,2,    149.0,2,    23.20,2,     0.00,2,     1.71,2,  8.9620
    49RY9006_3,  PR02,RY7797,  2,     17,     17,2,19900728,2155, 30.0000, 136.9333, 4285,    807.0,   7.5880,  34.2080,2,  34.2000,2,    130.0,2,    28.00,2,     0.00,2,     2.03,2,  7.5070
    49RY9006_3,  PR02,RY7797,  2,     18,     18,2,19900728,2155, 30.0000, 136.9333, 4285,    909.0,   5.9000,  34.2400,2,  34.2340,2,     97.0,2,    34.20,2,     0.00,2,     2.46,2,  5.8190
    49RY9006_3,  PR02,RY7797,  2,     19,     19,2,19900728,2155, 30.0000, 136.9333, 4285,   1009.0,   4.9440,  34.3050,2,  34.3060,2,     80.0,2,    37.20,2,     0.00,2,     2.65,2,  4.8610
    49RY9006_3,  PR02,RY7797,  2,     20,     20,2,19900728,2155, 30.0000, 136.9333, 4285,   1262.0,   3.6610,  34.4090,2,  34.4090,2,     72.0,2,    39.90,2,     0.00,2,     2.85,2,  3.5670
    49RY9006_3,  PR02,RY7797,  2,     21,     21,2,19900728,2155, 30.0000, 136.9333, 4285,   1514.0,   2.9910,  34.4720,2,  34.4720,2,     75.0,2,    40.70,2,     0.00,2,     2.89,2,  2.8820
    49RY9006_3,  PR02,RY7797,  2,     22,     22,2,19900728,2155, 30.0000, 136.9333, 4285,   2023.0,   2.1940,  34.5750,2,  34.5740,2,    105.0,2,    39.10,2,     0.00,2,     2.77,2,  2.0530
    49RY9006_3,  PR02,RY7797,  2,     23,     23,2,19900728,2155, 30.0000, 136.9333, 4285,   2531.0,   1.7960,  34.6300,2,  34.6270,2,    131.0,2,    38.10,2,     0.00,2,     2.65,2,  1.6170
    49RY9006_3,  PR02,RY7797,  2,     24,     24,2,19900728,2155, 30.0000, 136.9333, 4285,   3040.0,   1.6130,  34.6570,2,  34.6530,2,    146.0,2,    36.90,2,     0.00,2,     2.57,2,  1.3900
    49RY9006_3,  PR02,RY7797,  2,     25,     25,2,19900728,2155, 30.0000, 136.9333, 4285,   4078.0,   1.5340,  34.6770,2,  34.6740,2,    158.0,2,    36.20,2,     0.00,2,     2.50,2,  1.2060
    49RY9006_3,  PR02,RY7798,  1,      1,      1,2,19900729,0406, 31.0000, 137.0000, 4199,      5.0,  29.3460,  34.5370,2,-999.0000,9,    198.0,2,     0.00,2,     0.00,2,     0.01,2, 29.3450
    49RY9006_3,  PR02,RY7798,  1,      2,      2,2,19900729,0406, 31.0000, 137.0000, 4199,      9.0,  29.3230,  34.5350,2,-999.0000,9,    198.0,2,     0.00,2,     0.00,2,     0.00,2, 29.3210
    49RY9006_3,  PR02,RY7798,  1,      3,      3,2,19900729,0406, 31.0000, 137.0000, 4199,     25.0,  29.1910,  34.5300,2,-999.0000,9,    199.0,2,     0.00,2,     0.00,2,     0.00,2, 29.1850
    49RY9006_3,  PR02,RY7798,  1,      4,      4,2,19900729,0406, 31.0000, 137.0000, 4199,     50.0,  24.1050,  34.7170,2,-999.0000,9,    225.0,2,     0.00,2,     0.00,2,     0.00,2, 24.0940
    49RY9006_3,  PR02,RY7798,  1,      5,      5,2,19900729,0406, 31.0000, 137.0000, 4199,     76.0,  21.5650,  34.7760,2,-999.0000,9,    232.0,2,     0.00,2,     0.00,2,     0.00,2, 21.5500
    49RY9006_3,  PR02,RY7798,  1,      6,      6,2,19900729,0406, 31.0000, 137.0000, 4199,    100.0,  20.5640,  34.8100,2,-999.0000,9,    222.0,2,     0.00,2,     0.00,2,     0.00,2, 20.5450
    49RY9006_3,  PR02,RY7798,  1,      7,      7,2,19900729,0406, 31.0000, 137.0000, 4199,    125.0,  20.1240,  34.8170,2,-999.0000,9,    214.0,2,     0.70,2,     0.08,2,     0.04,2, 20.1010
    49RY9006_3,  PR02,RY7798,  1,      8,      8,2,19900729,0406, 31.0000, 137.0000, 4199,    152.0,  19.6840,  34.8180,2,-999.0000,9,    213.0,2,     1.10,2,     0.03,2,     0.07,2, 19.6560
    49RY9006_3,  PR02,RY7798,  2,      9,      9,2,19900729,0454, 31.0000, 137.0000, 4199,    177.0,  19.2980,  34.8230,2,-999.0000,9,    212.0,2,     1.30,2,     0.02,2,     0.09,2, 19.2660
    49RY9006_3,  PR02,RY7798,  2,     10,     10,2,19900729,0454, 31.0000, 137.0000, 4199,    200.0,  19.1770,  34.8170,2,-999.0000,9,    213.0,2,     1.40,2,     0.02,2,     0.10,2, 19.1410
    49RY9006_3,  PR02,RY7798,  2,     11,     11,2,19900729,0454, 31.0000, 137.0000, 4199,    252.0,  18.8360,  34.8190,2,-999.0000,9,    207.0,2,     2.20,2,     0.01,2,     0.17,2, 18.7910
    49RY9006_3,  PR02,RY7798,  2,     12,     12,2,19900729,0454, 31.0000, 137.0000, 4199,    302.0,  17.9590,  34.8130,2,-999.0000,9,    199.0,2,     3.60,2,     0.00,2,     0.27,2, 17.9070
    49RY9006_3,  PR02,RY7798,  2,     13,     13,2,19900729,0454, 31.0000, 137.0000, 4199,    402.0,  16.1790,  34.7150,2,-999.0000,9,    192.0,2,     6.70,2,     0.00,2,     0.49,2, 16.1150
    49RY9006_3,  PR02,RY7798,  2,     14,     14,2,19900729,0454, 31.0000, 137.0000, 4199,    503.0,  14.1120,  34.5600,2,-999.0000,9,    184.0,2,    10.50,2,     0.00,2,     0.78,2, 14.0380
    49RY9006_3,  PR02,RY7798,  2,     15,     15,2,19900729,0454, 31.0000, 137.0000, 4199,    603.0,  11.5730,  34.3860,2,-999.0000,9,    172.0,2,    15.80,2,     0.00,2,     1.17,2, 11.4950
    49RY9006_3,  PR02,RY7798,  2,     16,     16,2,19900729,0454, 31.0000, 137.0000, 4199,    705.0,   9.3030,  34.2750,2,-999.0000,9,    148.0,2,    22.20,2,     0.00,2,     1.63,2,  9.2230
    49RY9006_3,  PR02,RY7798,  2,     17,     17,2,19900729,0454, 31.0000, 137.0000, 4199,    806.0,   7.6830,  34.2920,2,-999.0000,9,    117.0,2,    28.10,2,     0.00,2,     2.04,2,  7.6010
    49RY9006_3,  PR02,RY7798,  2,     18,     18,2,19900729,0454, 31.0000, 137.0000, 4199,    906.0,   5.9190,  34.2710,2,-999.0000,9,     94.0,2,    33.50,2,     0.00,2,     2.43,2,  5.8380
    49RY9006_3,  PR02,RY7798,  2,     19,     19,2,19900729,0454, 31.0000, 137.0000, 4199,   1008.0,   4.8640,  34.3080,2,-999.0000,9,     81.0,2,    36.50,2,     0.00,2,     2.62,2,  4.7810
    49RY9006_3,  PR02,RY7798,  2,     20,     20,2,19900729,0454, 31.0000, 137.0000, 4199,   1261.0,   3.4760,  34.4150,2,-999.0000,9,     69.0,2,    39.50,2,     0.00,2,     2.82,2,  3.3830
    49RY9006_3,  PR02,RY7799,  1,      1,      1,2,19900729,1058, 31.9833, 137.0667, 4047,      1.0,  28.7090,  34.2430,2,-999.0000,9,    203.0,2,     0.00,2,     0.00,2,     0.01,2, 28.7090
    49RY9006_3,  PR02,RY7799,  1,      2,      2,2,19900729,1058, 31.9833, 137.0667, 4047,     10.0,  28.7110,  34.2410,2,-999.0000,9,    203.0,2,     0.00,2,     0.00,2,     0.01,2, 28.7090
    49RY9006_3,  PR02,RY7799,  1,      3,      3,2,19900729,1058, 31.9833, 137.0667, 4047,     25.0,  27.3200,  34.0930,2,-999.0000,9,    211.0,2,     0.00,2,     0.00,2,     0.00,2, 27.3140
    49RY9006_3,  PR02,RY7799,  1,      4,      4,2,19900729,1058, 31.9833, 137.0667, 4047,     50.0,  24.2930,  34.4370,2,-999.0000,9,    210.0,2,     0.10,2,     0.01,2,     0.02,2, 24.2820
    49RY9006_3,  PR02,RY7799,  1,      5,      5,2,19900729,1058, 31.9833, 137.0667, 4047,     76.0,  22.6570,  34.6510,2,-999.0000,9,    189.0,2,     2.30,2,     0.23,2,     0.17,2, 22.6420
    49RY9006_3,  PR02,RY7799,  1,      6,      6,2,19900729,1058, 31.9833, 137.0667, 4047,    100.0,  21.6910,  34.6490,2,-999.0000,9,    195.0,2,     2.00,2,     0.16,2,     0.18,2, 21.6710
    49RY9006_3,  PR02,RY7799,  1,      7,      7,2,19900729,1058, 31.9833, 137.0667, 4047,    126.0,  19.5010,  34.5180,2,-999.0000,9,    186.0,2,     4.50,2,     0.18,2,     0.31,2, 19.4780
    49RY9006_3,  PR02,RY7799,  1,      8,      8,2,19900729,1058, 31.9833, 137.0667, 4047,    151.0,  19.0170,  34.7200,2,-999.0000,9,    184.0,2,     4.80,2,     0.05,2,     0.37,2, 18.9900
    49RY9006_3,  PR02,RY7799,  1,      9,      9,2,19900729,1058, 31.9833, 137.0667, 4047,    176.0,  18.0060,  34.5640,2,-999.0000,9,    183.0,2,     6.70,2,     0.14,2,     0.52,2, 17.9760
    49RY9006_3,  PR02,RY7799,  1,     10,     10,2,19900729,1058, 31.9833, 137.0667, 4047,    202.0,  15.9890,  34.6120,2,-999.0000,9,    175.0,2,     9.20,2,     0.02,2,     0.71,2, 15.9570
    49RY9006_3,  PR02,RY7799,  1,     11,     11,2,19900729,1058, 31.9833, 137.0667, 4047,    252.0,  14.1960,  34.5610,2,-999.0000,9,    173.0,2,    11.70,2,     0.01,2,     0.90,2, 14.1590
    49RY9006_3,  PR02,RY7799,  1,     12,     12,2,19900729,1058, 31.9833, 137.0667, 4047,    301.0,  12.8010,  34.4900,2,-999.0000,9,    163.0,2,    15.00,2,     0.01,2,     1.13,2, 12.7600
    49RY9006_3,  PR02,RY7799,  2,     13,     13,2,19900729,1151, 31.9833, 137.0667, 4047,    404.0,   9.3330,  34.3280,2,-999.0000,9,    137.0,2,    23.40,2,     0.00,2,     1.70,2,  9.2880
    49RY9006_3,  PR02,RY7799,  2,     14,     14,2,19900729,1151, 31.9833, 137.0667, 4047,    504.0,   7.1920,  34.2590,2,-999.0000,9,    115.0,2,    29.10,2,     0.00,2,     2.14,2,  7.1440
    49RY9006_3,  PR02,RY7799,  2,     15,     15,2,19900729,1151, 31.9833, 137.0667, 4047,    605.0,   5.6790,  34.2740,2,-999.0000,9,     91.0,2,    34.10,2,     0.00,2,     2.50,2,  5.6270
    49RY9006_3,  PR02,RY7799,  2,     16,     16,2,19900729,1151, 31.9833, 137.0667, 4047,    704.0,   5.0380,  34.2990,2,-999.0000,9,     81.0,2,    36.30,2,     0.00,2,     2.63,2,  4.9810
    49RY9006_3,  PR02,RY7799,  2,     17,     17,2,19900729,1151, 31.9833, 137.0667, 4047,    806.0,   4.1740,  34.3570,2,-999.0000,9,     70.0,2,    38.40,2,     0.00,2,     2.80,2,  4.1130
    49RY9006_3,  PR02,RY7799,  2,     18,     18,2,19900729,1151, 31.9833, 137.0667, 4047,    906.0,   3.6980,  34.4030,2,-999.0000,9,     68.0,2,    39.20,2,     0.00,2,     2.83,2,  3.6320
    49RY9006_3,  PR02,RY7799,  2,     19,     19,2,19900729,1151, 31.9833, 137.0667, 4047,   1006.0,   3.3650,  34.4390,2,-999.0000,9,     68.0,2,    39.40,2,     0.00,2,     2.85,2,  3.2940
    49RY9006_3,  PR02,RY7799,  2,     20,     20,2,19900729,1151, 31.9833, 137.0667, 4047,   1259.0,   2.7830,  34.5020,2,-999.0000,9,     82.0,2,    39.60,2,     0.00,2,     2.84,2,  2.6970
    49RY9006_3,  PR02,RY7800,  1,      1,      1,2,19900729,1652, 32.6500, 136.9667, 4179,      2.0,  27.9370,  34.3150,2,-999.0000,9,    203.0,2,     0.00,2,     0.00,2,     0.02,2, 27.9370
    49RY9006_3,  PR02,RY7800,  1,      2,      2,2,19900729,1652, 32.6500, 136.9667, 4179,     10.0,  27.7830,  34.3150,2,-999.0000,9,    205.0,2,     0.00,2,     0.00,2,     0.02,2, 27.7810
    49RY9006_3,  PR02,RY7800,  1,      3,      3,2,19900729,1652, 32.6500, 136.9667, 4179,     25.0,  23.5870,  34.4000,2,-999.0000,9,    226.0,2,     0.00,2,     0.00,2,     0.02,2, 23.5820
    49RY9006_3,  PR02,RY7800,  1,      4,      4,2,19900729,1652, 32.6500, 136.9667, 4179,     51.0,  19.2860,  34.7030,2,-999.0000,9,    208.0,2,     2.30,2,     0.25,2,     0.17,2, 19.2770
    49RY9006_3,  PR02,RY7800,  1,      5,      5,2,19900729,1652, 32.6500, 136.9667, 4179,     75.0,  18.0850,  34.7670,2,-999.0000,9,    202.0,2,     3.50,2,     0.05,2,     0.24,2, 18.0720
    49RY9006_3,  PR02,RY7800,  1,      6,      6,2,19900729,1652, 32.6500, 136.9667, 4179,    100.0,  16.7390,  34.6950,2,-999.0000,9,    197.0,2,     5.80,2,     0.02,2,     0.46,2, 16.7230
    49RY9006_3,  PR02,RY7800,  1,      7,      7,2,19900729,1652, 32.6500, 136.9667, 4179,    125.0,  15.5490,  34.6520,2,-999.0000,9,    189.0,2,     8.20,2,     0.01,2,     0.65,2, 15.5300
    49RY9006_3,  PR02,RY7800,  1,      8,      8,2,19900729,1652, 32.6500, 136.9667, 4179,    151.0,  14.4520,  34.5730,2,-999.0000,9,    181.0,2,    10.50,2,     0.01,2,     0.81,2, 14.4300
    49RY9006_3,  PR02,RY7800,  1,      9,      9,2,19900729,1652, 32.6500, 136.9667, 4179,    177.0,  12.9460,  34.4900,2,-999.0000,9,    163.0,2,    14.80,2,     0.01,2,     1.13,2, 12.9220
    49RY9006_3,  PR02,RY7800,  1,     10,     10,2,19900729,1652, 32.6500, 136.9667, 4179,    201.0,  11.6490,  34.4360,2,-999.0000,9,    153.0,2,    18.00,2,     0.02,2,     1.35,2, 11.6230
    49RY9006_3,  PR02,RY7800,  1,     11,     11,2,19900729,1652, 32.6500, 136.9667, 4179,    251.0,   9.8080,  34.3540,2,-999.0000,9,    138.0,2,    22.40,2,     0.01,2,     1.67,2,  9.7790
    49RY9006_3,  PR02,RY7800,  1,     12,     12,2,19900729,1652, 32.6500, 136.9667, 4179,    301.0,   8.4970,  34.3140,2,-999.0000,9,    126.0,2,    25.90,2,     0.01,2,     1.94,2,  8.4660
    49RY9006_3,  PR02,RY7800,  2,     13,     13,2,19900729,1744, 32.6500, 136.9667, 4179,    402.0,   6.3630,  34.2480,2,-999.0000,9,    103.0,2,    31.90,2,     0.00,2,     2.36,2,  6.3270
    49RY9006_3,  PR02,RY7800,  2,     14,     14,2,19900729,1744, 32.6500, 136.9667, 4179,    503.0,   5.4250,  34.2860,2,-999.0000,9,     86.0,2,    35.10,2,     0.00,2,     2.57,2,  5.3830
    49RY9006_3,  PR02,RY7800,  2,     15,     15,2,19900729,1744, 32.6500, 136.9667, 4179,    604.0,   4.5070,  34.3380,2,-999.0000,9,     72.0,2,    38.00,2,     0.00,2,     2.74,2,  4.4610
    49RY9006_3,  PR02,RY7800,  2,     16,     16,2,19900729,1744, 32.6500, 136.9667, 4179,    705.0,   3.9610,  34.3730,2,-999.0000,9,     71.0,2,    38.90,2,     0.00,2,     2.82,2,  3.9100
    49RY9006_3,  PR02,RY7800,  2,     17,     17,2,19900729,1744, 32.6500, 136.9667, 4179,    806.0,   3.6070,  34.3960,2,-999.0000,9,     68.0,2,    39.60,2,     0.00,2,     2.84,2,  3.5500
    49RY9006_3,  PR02,RY7800,  2,     18,     18,2,19900729,1744, 32.6500, 136.9667, 4179,    908.0,   3.3680,  34.4310,2,-999.0000,9,     73.0,2,    39.60,2,     0.00,2,     2.88,2,  3.3050
    49RY9006_3,  PR02,RY7800,  2,     19,     19,2,19900729,1744, 32.6500, 136.9667, 4179,   1009.0,   3.1060,  34.4590,2,-999.0000,9,     75.0,2,    40.00,2,     0.00,2,     2.88,2,  3.0370
    49RY9006_3,  PR02,RY7800,  2,     20,     20,2,19900729,1744, 32.6500, 136.9667, 4179,   1262.0,   2.6360,  34.5130,2,-999.0000,9,     83.0,2,    39.90,2,     0.00,2,     2.84,2,  2.5510
    49RY9006_3,  PR02,RY7801,  1,      9,      9,2,19900729,2255, 33.3333, 137.0000, 2698,    176.0,  10.6230,  34.3910,2,-999.0000,9,    148.0,2,    20.10,2,     0.00,2,     1.49,2, 10.6020
    49RY9006_3,  PR02,RY7801,  1,     10,     10,2,19900729,2255, 33.3333, 137.0000, 2698,    201.0,   9.5810,  34.3450,2,-999.0000,9,    144.0,2,    22.70,2,     0.00,2,     1.68,2,  9.5580
    49RY9006_3,  PR02,RY7801,  1,     11,     11,2,19900729,2255, 33.3333, 137.0000, 2698,    251.0,   8.5010,  34.3090,2,-999.0000,9,    132.0,2,    25.60,2,     0.00,2,     1.90,2,  8.4750
    49RY9006_3,  PR02,RY7801,  1,     12,     12,2,19900729,2255, 33.3333, 137.0000, 2698,    301.0,   7.2980,  34.3120,2,-999.0000,9,    112.0,2,    29.20,2,     0.00,2,     2.15,2,  7.2690
    49RY9006_3,  PR02,RY7801,  1,     13,     13,2,19900729,2255, 33.3333, 137.0000, 2698,    403.0,   5.7140,  34.2780,2,-999.0000,9,     90.0,2,    33.80,2,     0.00,2,     2.49,2,  5.6800
    49RY9006_3,  PR02,RY7801,  1,     14,     14,2,19900729,2255, 33.3333, 137.0000, 2698,    503.0,   4.9650,  34.3040,2,-999.0000,9,     80.0,2,    36.10,2,     0.00,2,     2.63,2,  4.9250
    49RY9006_3,  PR02,RY7801,  1,     15,     15,2,19900729,2255, 33.3333, 137.0000, 2698,    603.0,   4.2820,  34.3480,2,-999.0000,9,     71.0,2,    38.00,2,     0.00,2,     2.76,2,  4.2370
    49RY9006_3,  PR02,RY7801,  1,     16,     16,2,19900729,2255, 33.3333, 137.0000, 2698,    705.0,   3.7530,  34.3950,2,-999.0000,9,     69.0,2,    38.90,2,     0.00,2,     2.82,2,  3.7030
    49RY9006_3,  PR02,RY7801,  1,     17,     17,2,19900729,2255, 33.3333, 137.0000, 2698,    806.0,   3.3920,  34.4300,2,-999.0000,9,     71.0,2,    39.30,2,     0.00,2,     2.86,2,  3.3360
    49RY9006_3,  PR02,RY7801,  1,     18,     18,2,19900729,2255, 33.3333, 137.0000, 2698,    907.0,   3.1870,  34.4530,2,-999.0000,9,     75.0,2,    39.30,2,     0.00,2,     2.84,2,  3.1250
    49RY9006_3,  PR02,RY7801,  1,     19,     19,2,19900729,2255, 33.3333, 137.0000, 2698,   1008.0,   3.0020,  34.4690,2,-999.0000,9,     82.0,2,    39.50,2,     0.00,2,     2.86,2,  2.9340
    49RY9006_3,  PR02,RY7801,  1,     20,     20,2,19900729,2255, 33.3333, 137.0000, 2698,   1267.0,   2.5530,  34.5220,2,-999.0000,9,     87.0,2,    39.30,2,     0.00,2,     2.81,2,  2.4690