BOTTLE,20020816WHPSIOHLB
EXPOCODE,SECT_ID,STNNBR,CASTNO,SAMPNO,BTLNBR,BTLNBR_FLAG_W,DATE,TIME,LATITUDE,LONGITUDE,DEPTH,CTDPRS,CTDTMP,CTDSAL,CTDSAL_FLAG_W,SALNTY,SALNTY_FLAG_W,OXYGEN,OXYGEN_FLAG_W,NITRAT,NITRAT_FLAG_W,NITRIT,NITRIT_FLAG_W,PHSPHT,PHSPHT_FLAG_W,THETA
,,,,,,,,,,,,DBAR,DEG C,PSS-78,,PSS-78,,UMOL/KG,,UMOL/KG,,UMOL/KG,,UMOL/KG,,DEG C
    49RY9006_3,  PR02,RY7792,  2,     14,     14,2,19900727,1157, 25.0000, 136.9667, 4965,    502.0,  10.8420,  34.3160,2,  34.3110,2,    185.0,2,    16.10,2,     0.00,2,     1.25,2, 10.7800
    49RY9006_3,  PR02,RY7792,  2,     15,     15,2,19900727,1157, 25.0000, 136.9667, 4965,    605.0,   8.2980,  34.1740,2,  34.1690,2,    155.0,2,    23.30,2,     0.00,2,     1.78,2,  8.2350
    49RY9006_3,  PR02,RY7792,  2,     16,     16,2,19900727,1157, 25.0000, 136.9667, 4965,    705.0,   6.5340,  34.1210,2,  34.1310,2,    125.0,2,    29.80,2,     0.00,2,     2.22,2,  6.4690
    49RY9006_3,  PR02,RY7792,  2,     17,     17,2,19900727,1157, 25.0000, 136.9667, 4965,    806.0,   5.1930,  34.1770,2,  34.1710,2,     90.0,2,    35.20,2,     0.00,2,     2.59,2,  5.1260
    49RY9006_3,  PR02,RY7792,  2,     18,     18,2,19900727,1157, 25.0000, 136.9667, 4965,    908.0,   4.4350,  34.2410,2,  34.2410,2,     69.0,2,    38.60,2,     0.00,2,     2.81,2,  4.3640
    49RY9006_3,  PR02,RY7792,  2,     19,     19,2,19900727,1157, 25.0000, 136.9667, 4965,   1008.0,   3.9330,  34.3030,2,  34.2980,2,     60.0,2,    40.10,2,     0.00,2,     2.91,2,  3.8580
    49RY9006_3,  PR02,RY7792,  2,     20,     20,2,19900727,1157, 25.0000, 136.9667, 4965,   1261.0,   3.1070,  34.4430,2,  34.4460,2,     64.0,2,    41.00,2,     0.00,2,     2.93,2,  3.0180
    49RY9006_3,  PR02,RY7792,  2,     21,     21,2,19900727,1157, 25.0000, 136.9667, 4965,   1515.0,   2.5130,  34.5340,2,  34.5260,2,     85.0,2,    39.80,2,     0.00,2,     2.88,2,  2.4100
    49RY9006_3,  PR02,RY7792,  2,     22,     22,2,19900727,1157, 25.0000, 136.9667, 4965,   2022.0,   1.9540,  34.6120,2,  34.6120,2,    115.0,2,    38.20,2,     0.00,2,     2.72,2,  1.8160
    49RY9006_3,  PR02,RY7792,  2,     23,     23,2,19900727,1157, 25.0000, 136.9667, 4965,   2530.0,   1.7380,  34.6390,2,  34.6360,2,    134.0,2,    37.30,2,     0.00,2,     2.65,2,  1.5600
    49RY9006_3,  PR02,RY7792,  2,     24,     24,2,19900727,1157, 25.0000, 136.9667, 4965,   3040.0,   1.5930,  34.6600,2,  34.6540,2,    145.0,2,    36.60,2,     0.00,2,     2.59,2,  1.3700
    49RY9006_3,  PR02,RY7792,  2,     25,     25,2,19900727,1157, 25.0000, 136.9667, 4965,   4066.0,   1.5130,  34.6780,2,  34.6750,2,    159.0,2,    35.50,2,     0.00,2,     2.53,2,  1.1870
    49RY9006_3,  PR02,RY7793,  1,      1,      1,2,19900727,1813, 26.0000, 136.9667, 5610,      2.0,  28.7840,  34.9600,2,-999.0000,9,    198.0,2,     0.00,2,     0.00,2,     0.00,2, 28.7840
    49RY9006_3,  PR02,RY7793,  1,      2,      2,2,19900727,1813, 26.0000, 136.9667, 5610,     10.0,  28.7790,  34.9610,2,-999.0000,9,    197.0,2,     0.00,2,     0.00,2,     0.00,2, 28.7770
    49RY9006_3,  PR02,RY7793,  1,      3,      3,2,19900727,1813, 26.0000, 136.9667, 5610,     26.0,  25.9060,  34.7410,2,-999.0000,9,    219.0,2,     0.00,2,     0.00,2,     0.01,2, 25.9000
    49RY9006_3,  PR02,RY7793,  1,      4,      4,2,19900727,1813, 26.0000, 136.9667, 5610,     51.0,  23.5670,  34.7530,2,-999.0000,9,    230.0,2,     0.00,2,     0.01,2,     0.00,2, 23.5560
    49RY9006_3,  PR02,RY7793,  1,      5,      5,2,19900727,1813, 26.0000, 136.9667, 5610,     75.0,  22.0270,  34.8710,2,-999.0000,9,    224.0,2,     0.00,2,     0.01,2,     0.01,2, 22.0120
    49RY9006_3,  PR02,RY7793,  1,      6,      6,2,19900727,1813, 26.0000, 136.9667, 5610,    101.0,  20.5190,  34.8220,2,-999.0000,9,    215.0,2,     0.40,2,     0.11,2,     0.05,2, 20.5000
    49RY9006_3,  PR02,RY7793,  1,      7,      7,2,19900727,1813, 26.0000, 136.9667, 5610,    126.0,  19.5970,  34.8300,2,-999.0000,9,    213.0,2,     1.10,2,     0.04,2,     0.10,2, 19.5740
    49RY9006_3,  PR02,RY7793,  1,      8,      8,2,19900727,1813, 26.0000, 136.9667, 5610,    151.0,  19.2680,  34.8270,2,-999.0000,9,    211.0,2,     1.30,2,     0.02,2,     0.12,2, 19.2410
    49RY9006_3,  PR02,RY7793,  1,      9,      9,2,19900727,1813, 26.0000, 136.9667, 5610,    176.0,  18.8630,  34.8240,2,-999.0000,9,    208.0,2,     1.80,2,     0.02,2,     0.17,2, 18.8320
    49RY9006_3,  PR02,RY7793,  1,     10,     10,2,19900727,1813, 26.0000, 136.9667, 5610,    202.0,  18.5240,  34.8140,2,-999.0000,9,    210.0,2,     2.00,2,     0.02,2,     0.18,2, 18.4890
    49RY9006_3,  PR02,RY7793,  1,     11,     11,2,19900727,1813, 26.0000, 136.9667, 5610,    251.0,  17.8800,  34.8080,2,-999.0000,9,    216.0,2,     2.20,2,     0.02,2,     0.20,2, 17.8370
    49RY9006_3,  PR02,RY7793,  1,     12,     12,2,19900727,1813, 26.0000, 136.9667, 5610,    302.0,  17.2350,  34.7740,2,-999.0000,9,    204.0,2,     3.70,2,     0.02,2,     0.32,2, 17.1850
    49RY9006_3,  PR02,RY7793,  2,     13,     13,2,19900727,1909, 26.0000, 136.9667, 5610,    402.0,  14.8470,  34.6140,2,-999.0000,9,    195.0,2,     8.70,2,     0.00,2,     0.68,2, 14.7860
    49RY9006_3,  PR02,RY7793,  2,     14,     14,2,19900727,1909, 26.0000, 136.9667, 5610,    503.0,  11.7990,  34.3760,2,-999.0000,9,    190.0,2,    13.50,2,     0.00,2,     1.07,2, 11.7340
    49RY9006_3,  PR02,RY7793,  2,     15,     15,2,19900727,1909, 26.0000, 136.9667, 5610,    605.0,   9.3730,  34.2300,2,-999.0000,9,    172.0,2,    19.80,2,     0.00,2,     1.51,2,  9.3050
    49RY9006_3,  PR02,RY7793,  2,     16,     16,2,19900727,1909, 26.0000, 136.9667, 5610,    705.0,   7.1940,  34.1230,2,-999.0000,9,    145.0,2,    26.40,2,     0.00,2,     2.00,2,  7.1250
    49RY9006_3,  PR02,RY7793,  2,     17,     17,2,19900727,1909, 26.0000, 136.9667, 5610,    805.0,   5.9120,  34.1380,2,-999.0000,9,    116.0,2,    31.80,2,     0.00,2,     2.38,2,  5.8410
    49RY9006_3,  PR02,RY7793,  2,     18,     18,2,19900727,1909, 26.0000, 136.9667, 5610,    906.0,   4.9490,  34.2130,2,-999.0000,9,     94.0,2,    35.70,2,     0.00,2,     2.63,2,  4.8750
    49RY9006_3,  PR02,RY7793,  2,     19,     19,2,19900727,1909, 26.0000, 136.9667, 5610,   1007.0,   4.2040,  34.2750,2,-999.0000,9,     72.0,2,    38.50,2,     0.00,2,     2.80,2,  4.1270
    49RY9006_3,  PR02,RY7793,  2,     20,     20,2,19900727,1909, 26.0000, 136.9667, 5610,   1260.0,   3.1230,  34.4270,2,-999.0000,9,     67.0,2,    40.50,2,     0.00,2,     2.93,2,  3.0340
    49RY9006_3,  PR02,RY7794,  1,      1,      1,2,19900728,0025, 27.0500, 137.0000, 4878,      1.0,  28.6680,  34.8550,2,-999.0000,9,    199.0,2,     0.00,2,     0.00,2,     0.00,2, 28.6680
    49RY9006_3,  PR02,RY7794,  1,      2,      2,2,19900728,0025, 27.0500, 137.0000, 4878,      9.0,  28.5740,  34.8550,2,-999.0000,9,    200.0,2,     0.00,2,     0.00,2,     0.01,2, 28.5720
    49RY9006_3,  PR02,RY7794,  1,      3,      3,2,19900728,0025, 27.0500, 137.0000, 4878,     25.0,  26.1570,  34.7980,2,-999.0000,9,    216.0,2,     0.00,2,     0.00,2,     0.00,2, 26.1510
    49RY9006_3,  PR02,RY7794,  1,      4,      4,2,19900728,0025, 27.0500, 137.0000, 4878,     50.0,  23.3180,  34.7420,2,-999.0000,9,    228.0,2,     0.00,2,     0.00,2,     0.00,2, 23.3080
    49RY9006_3,  PR02,RY7794,  1,      5,      5,2,19900728,0025, 27.0500, 137.0000, 4878,     75.0,  22.0640,  34.8280,2,-999.0000,9,    236.0,2,     0.00,2,     0.00,2,     0.01,2, 22.0490
    49RY9006_3,  PR02,RY7794,  1,      6,      6,2,19900728,0025, 27.0500, 137.0000, 4878,    100.0,  20.8240,  34.8270,2,-999.0000,9,    226.0,2,     0.00,2,     0.00,2,     0.02,2, 20.8050
    49RY9006_3,  PR02,RY7794,  1,      7,      7,2,19900728,0025, 27.0500, 137.0000, 4878,    126.0,  19.9800,  34.8430,2,-999.0000,9,    216.0,2,     1.10,2,     0.11,2,     0.09,2, 19.9570
    49RY9006_3,  PR02,RY7794,  1,      8,      8,2,19900728,0025, 27.0500, 137.0000, 4878,    151.0,  19.4650,  34.8570,2,-999.0000,9,    213.0,2,     1.40,2,     0.04,2,     0.11,2, 19.4380
    49RY9006_3,  PR02,RY7794,  2,      9,      9,2,19900728,0118, 27.0500, 137.0000, 4878,    175.0,  18.8030,  34.8590,2,-999.0000,9,    223.0,2,     1.40,2,     0.02,2,     0.14,2, 18.7720
    49RY9006_3,  PR02,RY7794,  2,     10,     10,2,19900728,0118, 27.0500, 137.0000, 4878,    201.0,  18.4460,  34.8450,2,-999.0000,9,    214.0,2,     1.80,2,     0.01,2,     0.17,2, 18.4110
    49RY9006_3,  PR02,RY7794,  2,     11,     11,2,19900728,0118, 27.0500, 137.0000, 4878,    252.0,  17.5570,  34.8000,2,-999.0000,9,    209.0,2,     2.90,2,     0.01,2,     0.25,2, 17.5140
    49RY9006_3,  PR02,RY7794,  2,     12,     12,2,19900728,0118, 27.0500, 137.0000, 4878,    301.0,  16.8260,  34.7620,2,-999.0000,9,    201.0,2,     5.00,2,     0.00,2,     0.40,2, 16.7770
    49RY9006_3,  PR02,RY7794,  2,     13,     13,2,19900728,0118, 27.0500, 137.0000, 4878,    403.0,  15.2130,  34.6470,2,-999.0000,9,    196.0,2,     7.70,2,     0.00,2,     0.64,2, 15.1510
    49RY9006_3,  PR02,RY7794,  2,     14,     14,2,19900728,0118, 27.0500, 137.0000, 4878,    504.0,  13.0210,  34.4760,2,-999.0000,9,    190.0,2,    11.60,2,     0.00,2,     0.92,2, 12.9510
    49RY9006_3,  PR02,RY7794,  2,     15,     15,2,19900728,0118, 27.0500, 137.0000, 4878,    604.0,  10.4510,  34.2940,2,-999.0000,9,    177.0,2,    17.20,2,     0.00,2,     1.33,2, 10.3780
    49RY9006_3,  PR02,RY7794,  2,     16,     16,2,19900728,0118, 27.0500, 137.0000, 4878,    705.0,   7.8140,  34.1530,2,-999.0000,9,    150.0,2,    24.80,2,     0.00,2,     1.87,2,  7.7420
    49RY9006_3,  PR02,RY7794,  2,     17,     17,2,19900728,0118, 27.0500, 137.0000, 4878,    806.0,   6.1490,  34.1270,2,-999.0000,9,    121.0,2,    30.60,2,     0.00,2,     2.27,2,  6.0760
    49RY9006_3,  PR02,RY7794,  2,     18,     18,2,19900728,0118, 27.0500, 137.0000, 4878,    907.0,   5.3130,  34.1850,2,-999.0000,9,     98.0,2,    34.40,2,     0.00,2,     2.54,2,  5.2360
    49RY9006_3,  PR02,RY7794,  2,     19,     19,2,19900728,0118, 27.0500, 137.0000, 4878,   1008.0,   4.4200,  34.2450,2,-999.0000,9,     73.0,2,    38.00,2,     0.00,2,     2.79,2,  4.3410
    49RY9006_3,  PR02,RY7794,  2,     20,     20,2,19900728,0118, 27.0500, 137.0000, 4878,   1261.0,   3.2460,  34.4100,2,-999.0000,9,     58.0,2,    40.60,2,     0.00,2,     2.95,2,  3.1560
    49RY9006_3,  PR02,RY7795,  1,      1,      1,2,19900728,0719, 27.9833, 136.9833, 4264,      5.0,  29.5620,  34.7030,2,-999.0000,9,    197.0,2,     0.00,2,     0.00,2,     0.00,2, 29.5610
    49RY9006_3,  PR02,RY7795,  1,      2,      2,2,19900728,0719, 27.9833, 136.9833, 4264,     10.0,  29.4780,  34.7060,2,-999.0000,9,    196.0,2,     0.00,2,     0.00,2,     0.01,2, 29.4760
    49RY9006_3,  PR02,RY7795,  1,      3,      3,2,19900728,0719, 27.9833, 136.9833, 4264,     25.0,  25.6700,  34.7570,2,-999.0000,9,    219.0,2,     0.00,2,     0.00,2,     0.01,2, 25.6640
    49RY9006_3,  PR02,RY7795,  1,      4,      4,2,19900728,0719, 27.9833, 136.9833, 4264,     51.0,  23.6560,  34.7830,2,-999.0000,9,    226.0,2,     0.00,2,     0.00,2,     0.00,2, 23.6450
    49RY9006_3,  PR02,RY7795,  1,      5,      5,2,19900728,0719, 27.9833, 136.9833, 4264,     74.0,  22.0670,  34.7660,2,-999.0000,9,    228.0,2,     0.00,2,     0.01,2,     0.00,2, 22.0520
    49RY9006_3,  PR02,RY7795,  1,      6,      6,2,19900728,0719, 27.9833, 136.9833, 4264,    100.0,  20.8770,  34.8060,2,-999.0000,9,    219.0,2,     0.00,2,     0.00,2,     0.00,2, 20.8580
    49RY9006_3,  PR02,RY7795,  1,      7,      7,2,19900728,0719, 27.9833, 136.9833, 4264,    124.0,  20.2210,  34.8290,2,-999.0000,9,    210.0,2,     0.80,2,     0.11,2,     0.01,2, 20.1980
    49RY9006_3,  PR02,RY7795,  1,      8,      8,2,19900728,0719, 27.9833, 136.9833, 4264,    151.0,  19.5760,  34.8380,2,-999.0000,9,    211.0,2,     0.90,2,     0.06,2,     0.04,2, 19.5490
    49RY9006_3,  PR02,RY7795,  2,      9,      9,2,19900728,0802, 27.9833, 136.9833, 4264,    176.0,  19.0930,  34.8220,2,-999.0000,9,    202.0,2,     2.30,2,     0.01,2,     0.21,2, 19.0620
    49RY9006_3,  PR02,RY7795,  2,     10,     10,2,19900728,0802, 27.9833, 136.9833, 4264,    200.0,  18.8070,  34.8240,2,-999.0000,9,    195.0,2,     3.10,2,     0.01,2,     0.22,2, 18.7720
    49RY9006_3,  PR02,RY7795,  2,     11,     11,2,19900728,0802, 27.9833, 136.9833, 4264,    252.0,  17.9330,  34.8130,2,-999.0000,9,    196.0,2,     3.90,2,     0.01,2,     0.25,2, 17.8900
    49RY9006_3,  PR02,RY7795,  2,     12,     12,2,19900728,0802, 27.9833, 136.9833, 4264,    302.0,  17.0400,  34.7720,2,-999.0000,9,    195.0,2,     5.20,2,     0.00,2,     0.34,2, 16.9900
    49RY9006_3,  PR02,RY7795,  2,     13,     13,2,19900728,0802, 27.9833, 136.9833, 4264,    402.0,  15.3850,  34.6560,2,-999.0000,9,    188.0,2,     7.90,2,     0.00,2,     0.60,2, 15.3230
    49RY9006_3,  PR02,RY7795,  2,     14,     14,2,19900728,0802, 27.9833, 136.9833, 4264,    506.0,  12.6240,  34.4460,2,-999.0000,9,    185.0,2,    12.60,2,     0.00,2,     0.92,2, 12.5550
    49RY9006_3,  PR02,RY7795,  2,     15,     15,2,19900728,0802, 27.9833, 136.9833, 4264,    604.0,   9.9540,  34.2690,2,-999.0000,9,    166.0,2,    19.20,2,     0.00,2,     1.46,2,  9.8830
    49RY9006_3,  PR02,RY7795,  2,     16,     16,2,19900728,0802, 27.9833, 136.9833, 4264,    705.0,   7.8210,  34.1660,2,-999.0000,9,    144.0,2,    25.50,2,     0.00,2,     1.88,2,  7.7490
    49RY9006_3,  PR02,RY7795,  2,     17,     17,2,19900728,0802, 27.9833, 136.9833, 4264,    806.0,   6.0610,  34.1610,2,-999.0000,9,    107.0,2,    32.50,2,     0.00,2,     2.37,2,  5.9890
    49RY9006_3,  PR02,RY7795,  2,     18,     18,2,19900728,0802, 27.9833, 136.9833, 4264,    907.0,   4.9260,  34.2260,2,-999.0000,9,     79.0,2,    36.90,2,     0.00,2,     2.71,2,  4.8520
    49RY9006_3,  PR02,RY7795,  2,     19,     19,2,19900728,0802, 27.9833, 136.9833, 4264,   1008.0,   4.3230,  34.2950,2,-999.0000,9,     68.0,2,    38.80,2,     0.00,2,     2.85,2,  4.2450
    49RY9006_3,  PR02,RY7795,  2,     20,     20,2,19900728,0802, 27.9833, 136.9833, 4264,   1260.0,   3.2510,  34.4270,2,-999.0000,9,     65.0,2,    40.90,2,     0.00,2,     2.95,2,  3.1610
    49RY9006_3,  PR02,RY7796,  1,      1,      1,2,19900728,1420, 29.0167, 136.9833, 4611,      3.0,  28.7020,  34.3480,2,-999.0000,9,    200.0,2,     0.00,2,     0.00,2,     0.00,2, 28.7010
    49RY9006_3,  PR02,RY7796,  1,      2,      2,2,19900728,1420, 29.0167, 136.9833, 4611,     10.0,  28.6970,  34.3460,2,-999.0000,9,    200.0,2,     0.00,2,     0.00,2,     0.02,2, 28.6950
    49RY9006_3,  PR02,RY7796,  1,      3,      3,2,19900728,1420, 29.0167, 136.9833, 4611,     24.0,  26.6600,  34.3910,2,-999.0000,9,    210.0,2,     0.00,2,     0.00,2,     0.00,2, 26.6550
    49RY9006_3,  PR02,RY7796,  1,      4,      4,2,19900728,1420, 29.0167, 136.9833, 4611,     50.0,  24.7070,  34.6370,2,-999.0000,9,    219.0,2,     0.00,2,     0.00,2,     0.00,2, 24.6960
    49RY9006_3,  PR02,RY7796,  1,      5,      5,2,19900728,1420, 29.0167, 136.9833, 4611,     75.0,  22.7430,  34.7410,2,-999.0000,9,    223.0,2,     0.00,2,     0.00,2,     0.00,2, 22.7280
    49RY9006_3,  PR02,RY7796,  1,      6,      6,2,19900728,1420, 29.0167, 136.9833, 4611,    101.0,  21.1790,  34.8140,2,-999.0000,9,    220.0,2,     0.10,2,     0.04,2,     0.01,2, 21.1600
    49RY9006_3,  PR02,RY7796,  1,      7,      7,2,19900728,1420, 29.0167, 136.9833, 4611,    125.0,  20.3400,  34.8160,2,-999.0000,9,    202.0,2,     1.70,2,     0.05,2,     0.12,2, 20.3170
    49RY9006_3,  PR02,RY7796,  1,      8,      8,2,19900728,1420, 29.0167, 136.9833, 4611,    151.0,  19.8020,  34.8630,2,-999.0000,9,    214.0,2,     0.60,2,     0.15,2,     0.03,2, 19.7740
    49RY9006_3,  PR02,RY7796,  1,      9,      9,2,19900728,1420, 29.0167, 136.9833, 4611,    176.0,  19.2140,  34.8430,2,-999.0000,9,    209.0,2,     1.40,2,     0.02,2,     0.12,2, 19.1820
    49RY9006_3,  PR02,RY7796,  1,     10,     10,2,19900728,1420, 29.0167, 136.9833, 4611,    200.0,  18.7290,  34.8190,2,-999.0000,9,    201.0,2,     2.60,2,     0.01,2,     0.21,2, 18.6940
    49RY9006_3,  PR02,RY7796,  1,     11,     11,2,19900728,1420, 29.0167, 136.9833, 4611,    251.0,  17.8470,  34.7940,2,-999.0000,9,    194.0,2,     4.30,2,     0.01,2,     0.33,2, 17.8040
    49RY9006_3,  PR02,RY7796,  1,     12,     12,2,19900728,1420, 29.0167, 136.9833, 4611,    303.0,  16.9240,  34.7400,2,-999.0000,9,    192.0,2,     5.90,2,     0.00,2,     0.45,2, 16.8740
    49RY9006_3,  PR02,RY7796,  2,     13,     13,2,19900728,1512, 29.0167, 136.9833, 4611,    403.0,  15.1140,  34.6350,2,-999.0000,9,    193.0,2,     8.80,2,     0.00,2,     0.66,2, 15.0520
    49RY9006_3,  PR02,RY7796,  2,     14,     14,2,19900728,1512, 29.0167, 136.9833, 4611,    503.0,  13.2480,  34.5090,2,-999.0000,9,    180.0,2,    12.80,2,     0.00,2,     0.96,2, 13.1770
    49RY9006_3,  PR02,RY7796,  2,     15,     15,2,19900728,1512, 29.0167, 136.9833, 4611,    604.0,  10.3370,  34.3160,2,-999.0000,9,    164.0,2,    19.30,2,     0.00,2,     1.42,2, 10.2650
    49RY9006_3,  PR02,RY7796,  2,     16,     16,2,19900728,1512, 29.0167, 136.9833, 4611,    705.0,   7.9330,  34.2240,2,-999.0000,9,    133.0,2,    26.50,2,     0.00,2,     1.93,2,  7.8600
    49RY9006_3,  PR02,RY7796,  2,     17,     17,2,19900728,1512, 29.0167, 136.9833, 4611,    806.0,   6.2860,  34.2180,2,-999.0000,9,    105.0,2,    32.30,2,     0.00,2,     2.34,2,  6.2120
    49RY9006_3,  PR02,RY7796,  2,     18,     18,2,19900728,1512, 29.0167, 136.9833, 4611,    906.0,   5.2960,  34.2980,2,-999.0000,9,     88.0,2,    35.30,2,     0.00,2,     2.54,2,  5.2190
    49RY9006_3,  PR02,RY7796,  2,     19,     19,2,19900728,1512, 29.0167, 136.9833, 4611,   1007.0,   4.5140,  34.3340,2,-999.0000,9,     77.0,2,    37.70,2,     0.00,2,     2.69,2,  4.4340
    49RY9006_3,  PR02,RY7796,  2,     20,     20,2,19900728,1512, 29.0167, 136.9833, 4611,   1261.0,   3.2660,  34.4510,2,-999.0000,9,     78.0,2,    39.70,2,     0.00,2,     2.80,2,  3.1750