BOTTLE,20030515WHPSIOSA
EXPOCODE,SECT_ID,STNNBR,CASTNO,SAMPNO,BTLNBR,BTLNBR_FLAG_W,DATE,TIME,LATITUDE,LONGITUDE,DEPTH,CTDPRS,CTDTMP,CTDSAL,CTDSAL_FLAG_W,SALNTY,SALNTY_FLAG_W,CTDOXY,CTDOXY_FLAG_W,OXYGEN,OXYGEN_FLAG_W,SILCAT,SILCAT_FLAG_W,NITRAT,NITRAT_FLAG_W,PHSPHT,PHSPHT_FLAG_W,CFC-11,CFC-11_FLAG_W,CFC-12,CFC-12_FLAG_W,TRITUM,TRITUM_FLAG_W,HELIUM,HELIUM_FLAG_W,DELHE3,DELHE3_FLAG_W,TCARBN,TCARBN_FLAG_W,ALKALI,ALKALI_FLAG_W,PH,PH_FLAG_W,THETA
,,,,,,,,,,,,DBAR,ITS-90,PSS-78,,PSS-78,,UMOL/KG,,UMOL/KG,,UMOL/KG,,UMOL/KG,,UMOL/KG,,PMOL/KG,,PMOL/KG,,TU,,NMOL/KG,,PERCNT,,UMOL/KG,,UMOL/KG,,,,DEG C
 3230CITHER2_1,  A17C,    74,  1,     30,     30,2,19940131,1024,-30.0988, -39.0363, 4220,      6.5,  23.2070,  36.1460,2,  36.1470,2,    213.2,2,    216.0,2,     0.70,2,     0.04,2,     0.01,2,    2.152,2,    1.238,2, -999.000,9,-999.0000,9,  -999.00,9,   -999.0,9,   -999.0,9,     8.35,2, 23.2060
 3230CITHER2_1,  A17C,    74,  1,     29,     29,2,19940131,1024,-30.0988, -39.0363, 4220,     35.8,  22.8690,  36.2170,2,  36.2010,2,    219.7,2,    218.1,2,     0.70,2,     0.04,2,     0.01,2,    2.168,2,    1.239,2, -999.000,9,-999.0000,9,  -999.00,9,   -999.0,9,   -999.0,9,     8.35,2, 22.8620
 3230CITHER2_1,  A17C,    74,  1,     28,     28,2,19940131,1024,-30.0988, -39.0363, 4220,    101.1,  17.5600,  35.9690,2,  35.9800,2,    219.2,2,    224.2,2,     1.10,2,     0.47,2,     0.16,2,    2.615,2,    1.443,2, -999.000,9,-999.0000,9,  -999.00,9,   -999.0,9,   -999.0,9,     8.28,2, 17.5430
 3230CITHER2_1,  A17C,    74,  1,     27,     27,2,19940131,1024,-30.0988, -39.0363, 4220,    150.0,  16.7380,  35.9010,2,  35.9700,2,    216.2,2,    214.1,2,     1.40,2,     3.05,2,     0.32,2,    2.595,2,    1.425,2, -999.000,9,-999.0000,9,  -999.00,9,   -999.0,9,   -999.0,9,     8.26,2, 16.7130
 3230CITHER2_1,  A17C,    74,  1,     26,     26,2,19940131,1024,-30.0988, -39.0363, 4220,    200.9,  15.9060,  35.7680,2,  35.7720,2,    219.2,2,    220.6,2,     1.50,2,     3.82,2,     0.36,2,    2.699,2,    1.471,2, -999.000,9,-999.0000,9,  -999.00,9,   -999.0,9,   -999.0,9,     8.24,2, 15.8740
 3230CITHER2_1,  A17C,    74,  1,     25,     25,2,19940131,1024,-30.0988, -39.0363, 4220,    300.4,  14.9040,  35.6300,2,  35.6320,2,    222.8,2,    221.9,2,     2.00,2,     5.72,2,     0.49,2,    2.750,2,    1.478,2, -999.000,9,-999.0000,9,  -999.00,9,   -999.0,9,   -999.0,9,     8.21,2, 14.8580
 3230CITHER2_1,  A17C,    74,  1,     24,     24,2,19940131,1024,-30.0988, -39.0363, 4220,    401.0,  12.5770,  35.1870,2,  35.1880,2,    211.9,2,    210.5,2,     3.50,2,    11.06,2,     0.83,2,    2.443,2,    1.303,2, -999.000,9,-999.0000,9,  -999.00,9,   -999.0,9,   -999.0,9,     8.14,2, 12.5230
 3230CITHER2_1,  A17C,    74,  1,     23,     23,2,19940131,1024,-30.0988, -39.0363, 4220,    599.8,   7.6370,  34.5200,2,  34.5330,2,    218.9,2,    219.0,2,     9.20,2,    21.90,2,     1.54,2,    2.304,2,    1.179,2, -999.000,9,-999.0000,9,  -999.00,9,   -999.0,9,   -999.0,9,     8.01,2,  7.5770
 3230CITHER2_1,  A17C,    74,  1,     22,     22,2,19940131,1024,-30.0988, -39.0363, 4220,    760.4,   5.2320,  34.3040,2,  34.3020,2,    243.0,2,    241.8,2,    14.80,2,    25.86,2,     1.82,2,    2.424,2,    1.237,2, -999.000,9,-999.0000,9,  -999.00,9,   -999.0,9,   -999.0,9,     7.97,2,  5.1690
 3230CITHER2_1,  A17C,    74,  1,     21,     21,2,19940131,1024,-30.0988, -39.0363, 4220,    900.0,   4.2010,  34.2960,2,  34.2890,2,    234.9,2,    230.2,2,    24.40,2,    29.03,2,     2.02,2,    1.394,2,    0.724,2, -999.000,9,-999.0000,9,  -999.00,9,   -999.0,9,   -999.0,9,     7.94,2,  4.1320
 3230CITHER2_1,  A17C,    74,  1,     20,     20,2,19940131,1024,-30.0988, -39.0363, 4220,    999.8,   3.6560,  34.2990,2,  34.2990,2,    223.1,2,    222.6,2,    30.70,2,    30.43,2,     2.12,2,    1.040,2,    0.539,2, -999.000,9,-999.0000,9,  -999.00,9,   -999.0,9,   -999.0,9,     7.92,2,  3.5830
 3230CITHER2_1,  A17C,    74,  1,     19,     19,2,19940131,1024,-30.0988, -39.0363, 4220,   1100.9,   3.2130,  34.3280,2,  34.3270,2,    215.2,2,    214.1,2,    37.90,2,    31.72,2,     2.21,2,    0.859,2,    0.463,2, -999.000,9,-999.0000,9,  -999.00,9,   -999.0,9,   -999.0,9,     7.90,2,  3.1360
 3230CITHER2_1,  A17C,    74,  1,     18,     18,2,19940131,1024,-30.0988, -39.0363, 4220,   1200.8,   3.1200,  34.4070,2,  34.4050,2,    201.1,2,    201.4,2,    44.90,2,    32.21,2,     2.24,2,    0.397,2,    0.226,2, -999.000,9,-999.0000,9,  -999.00,9,   -999.0,9,   -999.0,9,     7.88,2,  3.0360
 3230CITHER2_1,  A17C,    74,  1,     17,     17,2,19940131,1024,-30.0988, -39.0363, 4220,   1399.9,   2.9060,  34.5490,2,  34.5500,2,    189.9,2,    190.7,2,    53.40,2,    31.95,2,     2.20,2,    0.112,2,    0.075,2, -999.000,9,-999.0000,9,  -999.00,9,   -999.0,9,   -999.0,9,     7.88,2,  2.8080
 3230CITHER2_1,  A17C,    74,  1,     16,     16,2,19940131,1024,-30.0988, -39.0363, 4220,   1600.1,   2.8930,  34.6620,2,  34.6610,2,    191.9,2,    193.8,2,    53.90,2,    30.19,2,     2.08,2,    0.045,2,    0.032,2, -999.000,9,-999.0000,9,  -999.00,9,   -999.0,9,   -999.0,9,     7.90,2,  2.7780
 3230CITHER2_1,  A17C,    74,  1,     15,     15,2,19940131,1024,-30.0988, -39.0363, 4220,   1800.3,   3.0570,  34.7910,2,  34.7870,2,    210.3,2,    212.1,2,    44.50,2,    26.28,2,     1.82,2,    0.024,2,    0.014,2, -999.000,9,-999.0000,9,  -999.00,9,   -999.0,9,   -999.0,9,     7.94,2,  2.9220
 3230CITHER2_1,  A17C,    74,  1,     14,     14,2,19940131,1024,-30.0988, -39.0363, 4220,   1998.5,   3.2710,  34.8870,2,  34.8840,2,    231.8,2,    232.5,2,    32.70,2,    22.50,2,     1.55,2,    0.022,2,    0.021,2, -999.000,9,-999.0000,9,  -999.00,9,   -999.0,9,   -999.0,9,     7.98,2,  3.1150
 3230CITHER2_1,  A17C,    74,  1,     13,     13,2,19940131,1024,-30.0988, -39.0363, 4220,   2199.0,   3.2340,  34.9230,2,  34.9200,2,    243.9,2,    243.3,2,    28.40,2,    21.04,2,     1.44,2, -999.000,5, -999.000,5, -999.000,9,-999.0000,9,  -999.00,9,   -999.0,9,   -999.0,9,     8.00,2,  3.0590
 3230CITHER2_1,  A17C,    74,  1,     12,     12,2,19940131,1024,-30.0988, -39.0363, 4220,   2399.2,   3.1690,  34.9340,2,  34.9350,2,    250.1,2,    249.2,2,    26.80,2,    20.27,2,     1.38,2,    0.016,2,    0.013,2, -999.000,9,-999.0000,9,  -999.00,9,   -999.0,9,   -999.0,9,     8.01,2,  2.9760
 3230CITHER2_1,  A17C,    74,  1,     11,     11,2,19940131,1024,-30.0988, -39.0363, 4220,   2601.1,   3.0520,  34.9320,2,  34.9330,2,    251.4,2,    249.8,2,    28.40,2,    20.53,2,     1.38,2,    0.016,2,    0.015,2, -999.000,9,-999.0000,9,  -999.00,9,   -999.0,9,   -999.0,9,     8.01,2,  2.8410
 3230CITHER2_1,  A17C,    74,  1,     10,     10,2,19940131,1024,-30.0988, -39.0363, 4220,   2797.7,   2.9480,  34.9300,2,  34.9300,2,    251.7,2,    251.1,2,    29.80,2,    20.28,2,     1.39,2,    0.012,2,    0.011,2, -999.000,9,-999.0000,9,  -999.00,9,   -999.0,9,   -999.0,9,     8.01,2,  2.7190
 3230CITHER2_1,  A17C,    74,  1,      9,      9,2,19940131,1024,-30.0988, -39.0363, 4220,   2998.6,   2.8360,  34.9250,2,  34.9230,2,    252.8,2,    251.4,2,    31.30,2,    20.37,2,     1.39,2,    0.014,2,    0.017,2, -999.000,9,-999.0000,9,  -999.00,9,   -999.0,9,   -999.0,9,     8.01,2,  2.5890
 3230CITHER2_1,  A17C,    74,  1,      8,      8,2,19940131,1024,-30.0988, -39.0363, 4220,   3199.8,   2.7300,  34.9190,2,  34.9170,2,    253.5,2,    251.9,2,    33.00,2,    20.37,2,     1.40,2,    0.009,2,    0.014,2, -999.000,9,-999.0000,9,  -999.00,9,   -999.0,9,   -999.0,9,     8.01,2,  2.4640
 3230CITHER2_1,  A17C,    74,  1,      7,      7,2,19940131,1024,-30.0988, -39.0363, 4220,   3399.2,   2.5820,  34.9080,2,  34.9090,2,    253.4,2,    251.4,2,    36.20,2,    20.72,2,     1.43,2,    0.034,2,    0.025,2, -999.000,9,-999.0000,9,  -999.00,9,   -999.0,9,   -999.0,9,     8.01,2,  2.2980
 3230CITHER2_1,  A17C,    74,  1,      6,      6,2,19940131,1024,-30.0988, -39.0363, 4220,   3598.9,   2.3320,  34.8840,2,  34.8850,2,    252.1,2,    249.8,2,    44.60,2,    21.76,2,     1.50,2,    0.007,2,    0.009,2, -999.000,9,-999.0000,9,  -999.00,9,   -999.0,9,   -999.0,9,     8.00,2,  2.0330
 3230CITHER2_1,  A17C,    74,  1,      5,      5,2,19940131,1024,-30.0988, -39.0363, 4220,   3797.7,   1.9340,  34.8450,2,  34.8430,2,    245.3,2,    242.9,2,    59.90,2,    23.75,2,     1.64,2,    0.007,2,    0.006,2, -999.000,9,-999.0000,9,  -999.00,9,   -999.0,9,   -999.0,9,     7.98,2,  1.6240
 3230CITHER2_1,  A17C,    74,  1,      4,      4,2,19940131,1024,-30.0988, -39.0363, 4220,   3798.3,   1.9350,  34.8460,2,  34.8440,2,    245.3,2,    243.6,2,    60.10,2,    23.62,2,     1.64,2,    0.008,2,    0.010,2, -999.000,9,-999.0000,9,  -999.00,9,   -999.0,9,   -999.0,9,     7.98,2,  1.6250
 3230CITHER2_1,  A17C,    74,  1,      3,      3,2,19940131,1024,-30.0988, -39.0363, 4220,   3999.1,   1.5350,  34.8010,2,  34.8020,2,    238.0,2,    235.9,2,    77.20,2,    26.26,2,     1.81,2,    0.011,2,    0.012,2, -999.000,9,-999.0000,9,  -999.00,9,   -999.0,9,   -999.0,9,     7.96,2,  1.2140
 3230CITHER2_1,  A17C,    74,  1,      2,      2,2,19940131,1024,-30.0988, -39.0363, 4220,   4197.6,   1.2170,  34.7660,2,  34.7680,2,    231.3,2,    230.5,2,    91.40,2,    28.18,2,     1.94,2,    0.021,2,    0.014,2, -999.000,9,-999.0000,9,  -999.00,9,   -999.0,9,   -999.0,9,     7.94,2,  0.8840
 3230CITHER2_1,  A17C,    74,  1,      1,      1,2,19940131,1024,-30.0988, -39.0363, 4220,   4260.2,   1.0960,  34.7520,2,  34.7550,2,    229.6,2,    227.7,2,    96.60,2,    28.89,2,     1.99,2,    0.031,2,    0.022,2, -999.000,9,-999.0000,9,  -999.00,9,   -999.0,9,   -999.0,9,     7.93,2,  0.7600
 3230CITHER2_1,  A17C,    75,  1,     30,     30,2,19940131,1551,-29.7008, -38.6862, 4293,      8.0,  23.7310,  36.1670,2,  36.1730,2,    215.6,2,    214.1,2,     0.90,2,     0.04,2,     0.01,2,    2.110,2,    1.212,2, -999.000,9,-999.0000,9,  -999.00,9,   2040.8,2,   2379.4,2,     8.36,2, 23.7290
 3230CITHER2_1,  A17C,    75,  1,     29,     29,2,19940131,1551,-29.7008, -38.6862, 4293,     41.0,  22.3410,  36.4300,2,  36.3210,2,    224.1,2,    218.8,2,     0.90,2,     0.04,2,     0.02,2,    2.171,2,    1.237,2, -999.000,9,-999.0000,9,  -999.00,9,   2046.2,2,   2388.7,2,     8.36,2, 22.3330
 3230CITHER2_1,  A17C,    75,  1,     28,     28,2,19940131,1551,-29.7008, -38.6862, 4293,     76.0,  18.4900,  36.0680,2,  36.0690,2,    226.4,2,    227.2,2,     1.10,2,     0.17,2,     0.12,2,    2.503,2,    1.380,2, -999.000,9,-999.0000,9,  -999.00,9,   2069.9,2,   2375.4,2,     8.30,2, 18.4770
 3230CITHER2_1,  A17C,    75,  1,     27,     27,2,19940131,1551,-29.7008, -38.6862, 4293,    101.1,  17.6500,  35.9520,2,  35.9460,2,    218.4,2,    220.6,2,     1.20,2,     1.34,2,     0.20,2,    2.597,2,    1.417,2, -999.000,9,-999.0000,9,  -999.00,9,   2074.3,2,   2366.1,2,     8.28,2, 17.6330
 3230CITHER2_1,  A17C,    75,  1,     26,     26,2,19940131,1551,-29.7008, -38.6862, 4293,    150.4,  17.1070,  35.9070,2,  35.9040,2,    218.7,2,    222.6,2,     1.20,2,     1.69,2,     0.22,2,    2.673,2,    1.448,2, -999.000,9,-999.0000,9,  -999.00,9,   2075.9,2,   2365.3,2,     8.27,2, 17.0820
 3230CITHER2_1,  A17C,    75,  1,     25,     25,2,19940131,1551,-29.7008, -38.6862, 4293,    201.1,  16.5360,  35.8510,2,  35.8510,2,    221.1,2,    219.9,2,     1.40,2,     2.95,2,     0.31,2,    2.652,2,    1.452,2, -999.000,9,-999.0000,9,  -999.00,9,   2082.8,2,   2361.9,2,     8.26,2, 16.5030
 3230CITHER2_1,  A17C,    75,  1,     24,     24,2,19940131,1551,-29.7008, -38.6862, 4293,    301.2,  15.1010,  35.6190,2,  35.6160,2,    215.9,2,    217.0,2,     2.20,2,     5.78,2,     0.50,2,    2.670,2,    1.429,2, -999.000,9,-999.0000,9,  -999.00,9,   2094.9,2,   2351.0,2,     8.21,2, 15.0550
 3230CITHER2_1,  A17C,    75,  1,     23,     23,2,19940131,1551,-29.7008, -38.6862, 4293,    400.9,  12.7660,  35.2040,2,  35.2030,2,    212.3,2,    208.3,2,     3.50,2,    10.94,2,     0.83,2,    2.436,2,    1.295,2, -999.000,9,-999.0000,9,  -999.00,9,   2111.3,2,   2327.7,2,     8.14,2, 12.7110
 3230CITHER2_1,  A17C,    75,  1,     22,     22,2,19940131,1551,-29.7008, -38.6862, 4293,    500.2,  10.2790,  34.8460,2,  34.8440,2,    209.4,2,    207.3,2,     6.00,2,    16.68,2,     1.21,2,    2.291,2,    1.197,2, -999.000,9,-999.0000,9,  -999.00,9,   2128.8,2,   2310.1,2,     8.07,2, 10.2190
 3230CITHER2_1,  A17C,    75,  1,     21,     21,2,19940131,1551,-29.7008, -38.6862, 4293,    600.9,   7.6490,  34.5430,2,  34.5370,2,    215.0,2,    215.4,2,    10.20,2,    22.28,2,     1.58,2,    2.087,2,    1.083,2, -999.000,9,-999.0000,9,  -999.00,9,   2146.7,2,   2298.9,2,     8.00,2,  7.5890
 3230CITHER2_1,  A17C,    75,  1,     20,     20,2,19940131,1551,-29.7008, -38.6862, 4293,    750.0,   5.0540,  34.2840,2,  34.2840,2,    244.1,2,    245.4,2,    14.70,2,    25.98,2,     1.84,2,    2.612,2,    1.318,2, -999.000,9,-999.0000,9,  -999.00,9,   2154.3,2,   2293.5,2,     7.97,2,  4.9930
 3230CITHER2_1,  A17C,    75,  1,     19,     19,2,19940131,1551,-29.7008, -38.6862, 4293,    999.6,   3.6360,  34.2940,2,  34.2930,2,    225.6,2,    226.4,2,    30.40,2,    30.61,2,     2.13,2,    1.112,2,    0.588,2, -999.000,9,-999.0000,9,  -999.00,9,   2188.6,2,   2308.0,2,     7.91,2,  3.5640
 3230CITHER2_1,  A17C,    75,  1,     18,     18,2,19940131,1551,-29.7008, -38.6862, 4293,   1200.4,   3.0340,  34.4070,2,  34.4040,2,    200.0,2,    199.7,2,    46.10,2,    32.60,2,     2.27,2,    0.438,2,    0.244,2, -999.000,9,-999.0000,9,  -999.00,9,   2217.9,2,   2322.9,2,     7.88,2,  2.9510
 3230CITHER2_1,  A17C,    75,  1,     17,     17,2,19940131,1551,-29.7008, -38.6862, 4293,   1399.2,   2.8590,  34.5360,2,  34.5320,2,    188.3,2,    188.2,2,    54.50,2,    32.43,2,     2.25,2,    0.146,2,    0.089,2, -999.000,9,-999.0000,9,  -999.00,9,   2231.0,2,   2335.3,2,     7.87,2,  2.7610
 3230CITHER2_1,  A17C,    75,  1,     16,     16,2,19940131,1551,-29.7008, -38.6862, 4293,   1601.3,   2.8860,  34.6680,2,  34.6670,2,    194.1,2,    194.3,2,    53.20,2,    30.05,2,     2.08,2,    0.034,2,    0.033,2, -999.000,9,-999.0000,9,  -999.00,9,   2224.8,2,   2340.4,2,     7.90,2,  2.7710
 3230CITHER2_1,  A17C,    75,  1,     15,     15,2,19940131,1551,-29.7008, -38.6862, 4293,   1799.7,   2.9020,  34.7580,2,  34.7580,2,    207.2,2,    207.1,2,    48.90,2,    27.40,2,     1.91,2,    0.014,2,    0.017,2, -999.000,9,-999.0000,9,  -999.00,9,   2215.7,2,   2341.3,2,     7.93,2,  2.7690
 3230CITHER2_1,  A17C,    75,  1,     14,     14,2,19940131,1551,-29.7008, -38.6862, 4293,   1999.6,   3.2060,  34.8790,2,  34.8790,2,    230.7,2,    231.9,2,    33.90,2,    22.85,2,     1.58,2,    0.017,2,    0.011,2, -999.000,9,-999.0000,9,  -999.00,9,   2189.5,2,   2334.7,2,     7.98,2,  3.0510
 3230CITHER2_1,  A17C,    75,  1,     13,     13,2,19940131,1551,-29.7008, -38.6862, 4293,   2199.6,   3.1970,  34.9170,2,  34.9160,2,    243.4,2,    243.2,2,    29.60,2,    21.32,2,     1.46,2,    0.016,2,    0.016,2, -999.000,9,-999.0000,9,  -999.00,9,   2181.0,2,   2333.1,2,     8.00,2,  3.0230
 3230CITHER2_1,  A17C,    75,  1,     12,     12,2,19940131,1551,-29.7008, -38.6862, 4293,   2400.8,   3.1490,  34.9320,2,  34.9310,2,    249.1,2,    248.8,2,    27.50,2,    20.68,2,     1.40,2,    0.015,2,    0.014,2, -999.000,9,-999.0000,9,  -999.00,9,   2176.1,2,   2332.9,2,     8.00,2,  2.9560
 3230CITHER2_1,  A17C,    75,  1,     11,     11,2,19940131,1551,-29.7008, -38.6862, 4293,   2600.5,   3.0250,  34.9310,2,  34.9270,2,    251.2,2,    250.0,2,    28.80,2,    20.67,2,     1.40,2,    0.012,2,    0.014,2, -999.000,9,-999.0000,9,  -999.00,9,   2177.0,2,   2333.4,2,     8.00,2,  2.8150
 3230CITHER2_1,  A17C,    75,  1,     10,     10,2,19940131,1551,-29.7008, -38.6862, 4293,   2799.5,   2.9130,  34.9270,2,  34.9260,2,    252.5,2,    251.4,2,    30.20,2,    20.50,2,     1.39,2,    0.011,2,    0.012,2, -999.000,9,-999.0000,9,  -999.00,9,   2178.4,2,   2336.0,2,     8.01,2,  2.6850
 3230CITHER2_1,  A17C,    75,  1,      9,      9,2,19940131,1551,-29.7008, -38.6862, 4293,   2999.0,   2.8300,  34.9240,2,  34.9220,2,    253.0,2,    252.8,2,    31.40,2,    20.66,2,     1.40,2,    0.007,2,    0.009,2, -999.000,9,-999.0000,9,  -999.00,9,   2178.4,2,   2336.4,2,     8.01,2,  2.5830
 3230CITHER2_1,  A17C,    75,  1,      8,      8,2,19940131,1551,-29.7008, -38.6862, 4293,   3198.7,   2.7250,  34.9190,2,  34.9150,2,    254.0,2,    252.9,2,    33.40,2,    20.66,2,     1.40,2,    0.011,2,    0.011,2, -999.000,9,-999.0000,9,  -999.00,9,   2179.9,2,   2338.6,2,     8.01,2,  2.4590
 3230CITHER2_1,  A17C,    75,  1,      7,      7,2,19940131,1551,-29.7008, -38.6862, 4293,   3398.4,   2.5830,  34.9090,2,  34.9100,2,    254.6,2,    252.7,2,    36.20,2,    20.74,2,     1.42,2,    0.015,2,    0.014,2, -999.000,9,-999.0000,9,  -999.00,9,   2182.7,2,   2341.1,2,     8.01,2,  2.3000
 3230CITHER2_1,  A17C,    75,  1,      6,      6,2,19940131,1551,-29.7008, -38.6862, 4293,   3597.4,   2.3060,  34.8820,2,  34.8810,2,    251.8,2,    249.7,2,    45.20,2,    22.14,2,     1.50,2,    0.007,2,    0.007,2, -999.000,9,-999.0000,9,  -999.00,9,   2188.4,2,   2345.0,2,     8.00,2,  2.0060
 3230CITHER2_1,  A17C,    75,  1,      5,      5,2,19940131,1551,-29.7008, -38.6862, 4293,   3597.8,   2.3040,  34.8810,2,  34.8810,2,    251.8,2,    249.9,2,    45.10,2,    22.17,2,     1.50,2,    0.007,2,    0.007,2, -999.000,9,-999.0000,9,  -999.00,9,   2191.7,2,   2345.0,2,     8.00,2,  2.0080
 3230CITHER2_1,  A17C,    75,  1,      4,      4,2,19940131,1551,-29.7008, -38.6862, 4293,   3798.0,   1.9470,  34.8470,2,  34.8460,2,    245.8,2,    244.2,2,    60.50,2,    23.90,2,     1.63,2,    0.006,2,    0.009,2, -999.000,9,-999.0000,9,  -999.00,9,   2205.7,2,   2350.3,2,     7.98,2,  1.6370
 3230CITHER2_1,  A17C,    75,  1,      3,      3,2,19940131,1551,-29.7008, -38.6862, 4293,   3999.0,   1.5490,  34.8040,2,  34.8030,2,    237.5,2,    236.6,2,    73.20,2,    26.09,2,     1.80,2,    0.011,2,    0.014,2, -999.000,9,-999.0000,9,  -999.00,9,   2222.1,2,   2360.6,2,     7.95,2,  1.2280
 3230CITHER2_1,  A17C,    75,  1,      2,      2,2,19940131,1551,-29.7008, -38.6862, 4293,   4198.7,   1.2300,  34.7670,2,  34.7630,2,    230.4,2,   -999.0,5,    94.80,2,    28.72,2,     1.96,2,    0.033,2,    0.021,2, -999.000,9,-999.0000,9,  -999.00,9,   2239.2,2,   -999.0,5,     7.93,2,  0.8970
 3230CITHER2_1,  A17C,    75,  1,      1,      1,2,19940131,1551,-29.7008, -38.6862, 4293,   4338.3,   0.8620,  34.7260,2,  34.7270,2,    223.1,2,    224.5,2,   107.50,2,    30.57,2,     2.09,2,    0.059,2,    0.038,2, -999.000,9,-999.0000,9,  -999.00,9,   2250.3,2,   -999.0,5,     7.91,2,  0.5250