BOTTLE,20030515WHPSIOSA
EXPOCODE,SECT_ID,STNNBR,CASTNO,SAMPNO,BTLNBR,BTLNBR_FLAG_W,DATE,TIME,LATITUDE,LONGITUDE,DEPTH,CTDPRS,CTDTMP,CTDSAL,CTDSAL_FLAG_W,SALNTY,SALNTY_FLAG_W,CTDOXY,CTDOXY_FLAG_W,OXYGEN,OXYGEN_FLAG_W,SILCAT,SILCAT_FLAG_W,NITRAT,NITRAT_FLAG_W,PHSPHT,PHSPHT_FLAG_W,CFC-11,CFC-11_FLAG_W,CFC-12,CFC-12_FLAG_W,TRITUM,TRITUM_FLAG_W,HELIUM,HELIUM_FLAG_W,DELHE3,DELHE3_FLAG_W,TCARBN,TCARBN_FLAG_W,ALKALI,ALKALI_FLAG_W,PH,PH_FLAG_W,THETA
,,,,,,,,,,,,DBAR,ITS-90,PSS-78,,PSS-78,,UMOL/KG,,UMOL/KG,,UMOL/KG,,UMOL/KG,,UMOL/KG,,PMOL/KG,,PMOL/KG,,TU,,NMOL/KG,,PERCNT,,UMOL/KG,,UMOL/KG,,,,DEG C
 3230CITHER2_2,  A17N,   144,  1,     32,     32,2,19940223,1829,-12.4457, -30.5392, 5334,      7.4,  27.7980,  37.0180,2,  37.0170,2,    198.5,2,    197.8,2,     1.20,2,     0.04,2,     0.08,2,    1.650,2,    0.959,2, -999.000,9,-999.0000,9,  -999.00,9,   -999.0,9,   -999.0,9,     8.39,2, 27.7960
 3230CITHER2_2,  A17N,   144,  1,     31,     31,2,19940223,1829,-12.4457, -30.5392, 5334,     52.3,  27.6990,  37.0060,2,  36.9990,2,    202.3,2,    200.0,2,     1.10,2,     0.04,2,     0.08,2,    1.682,2,    0.968,2, -999.000,9,-999.0000,9,  -999.00,9,   -999.0,9,   -999.0,9,     8.38,2, 27.6870
 3230CITHER2_2,  A17N,   144,  1,     30,     30,2,19940223,1829,-12.4457, -30.5392, 5334,    127.5,  23.2250,  36.7900,2,  36.7780,2,    213.5,2,    210.7,2,     1.10,2,     0.04,2,     0.19,2,    1.975,2,    1.113,2, -999.000,9,-999.0000,9,  -999.00,9,   -999.0,9,   -999.0,9,     8.33,2, 23.1990
 3230CITHER2_2,  A17N,   144,  1,     29,     29,2,19940223,1829,-12.4457, -30.5392, 5334,    200.7,  17.1590,  35.8570,2,  35.8430,2,    171.8,2,    170.0,2,     3.20,2,     9.36,2,     0.75,2,    2.027,2,    1.091,2, -999.000,9,-999.0000,9,  -999.00,9,   -999.0,9,   -999.0,9,     8.17,2, 17.1250
 3230CITHER2_2,  A17N,   144,  1,     28,     28,2,19940223,1829,-12.4457, -30.5392, 5334,    400.6,   8.1830,  34.7040,2,  34.6970,2,    130.4,2,    137.9,2,    15.50,2,    29.02,2,     1.94,2,    0.465,2,    0.252,2, -999.000,9,-999.0000,9,  -999.00,9,   -999.0,9,   -999.0,9,     7.89,2,  8.1420
 3230CITHER2_2,  A17N,   144,  1,     27,     27,2,19940223,1829,-12.4457, -30.5392, 5334,    601.4,   5.6680,  34.4820,2,  34.4870,2,    152.1,2,    152.3,2,    24.00,2,    32.91,2,     2.21,2,    0.246,2,    0.133,2, -999.000,9,-999.0000,9,  -999.00,9,   -999.0,9,   -999.0,9,     7.86,2,  5.6170
 3230CITHER2_2,  A17N,   144,  1,     26,     26,2,19940223,1829,-12.4457, -30.5392, 5334,    800.6,   4.4600,  34.4470,2,  34.4430,2,    168.1,2,    164.8,2,    31.90,2,    34.14,2,     2.30,2,    0.087,2,    0.048,2, -999.000,9,-999.0000,9,  -999.00,9,   -999.0,9,   -999.0,9,     7.86,2,  4.3980
 3230CITHER2_2,  A17N,   144,  1,     25,     25,2,19940223,1829,-12.4457, -30.5392, 5334,    999.9,   3.9410,  34.5250,2,  34.5250,2,    169.6,2,    169.4,2,    36.40,2,    33.44,2,     2.27,2,    0.009,2,    0.009,2, -999.000,9,-999.0000,9,  -999.00,9,   -999.0,9,   -999.0,9,     7.86,2,  3.8660
 3230CITHER2_2,  A17N,   144,  1,     24,     24,2,19940223,1829,-12.4457, -30.5392, 5334,   1201.5,   3.9570,  34.6890,2,  34.6900,2,    178.5,2,    179.7,2,    32.90,2,    30.54,2,     2.07,2,    0.001,2,    0.002,2, -999.000,9,-999.0000,9,  -999.00,9,   -999.0,9,   -999.0,9,     7.89,2,  3.8640
 3230CITHER2_2,  A17N,   144,  1,     23,     23,2,19940223,1829,-12.4457, -30.5392, 5334,   1399.9,   4.0230,  34.8450,2,  34.8400,2,    201.0,2,    203.1,2,    26.60,2,    26.16,2,     1.78,2,    0.001,2,    0.003,2, -999.000,9,-999.0000,9,  -999.00,9,   -999.0,9,   -999.0,9,     7.94,2,  3.9120
 3230CITHER2_2,  A17N,   144,  1,     22,     22,2,19940223,1829,-12.4457, -30.5392, 5334,   1601.7,   3.8930,  34.9270,2,  34.9280,2,    225.3,2,    226.7,2,    23.10,2,    22.79,2,     1.53,2,    0.007,2,    0.008,2, -999.000,9,-999.0000,9,  -999.00,9,   -999.0,9,   -999.0,9,     7.98,2,  3.7650
 3230CITHER2_2,  A17N,   144,  1,     21,     21,2,19940223,1829,-12.4457, -30.5392, 5334,   1699.9,   3.7830,  34.9490,2,  34.9480,2,    234.8,2,    237.4,2,    21.50,2,    21.66,2,     1.44,2,    0.014,2,    0.011,2, -999.000,9,-999.0000,9,  -999.00,9,   -999.0,9,   -999.0,9,     8.00,2,  3.6470
 3230CITHER2_2,  A17N,   144,  1,     20,     20,2,19940223,1829,-12.4457, -30.5392, 5334,   1800.1,   3.6130,  34.9530,2,  34.9510,2,    240.8,2,    242.9,2,    22.30,2,    21.34,2,     1.40,2,    0.011,2,    0.009,2, -999.000,9,-999.0000,9,  -999.00,9,   -999.0,9,   -999.0,9,     8.01,2,  3.4700
 3230CITHER2_2,  A17N,   144,  1,     19,     19,2,19940223,1829,-12.4457, -30.5392, 5334,   2000.8,   3.3040,  34.9410,2,  34.9380,2,    245.3,2,    247.5,2,    26.20,2,    21.38,2,     1.41,2,    0.001,2,    0.002,2, -999.000,9,-999.0000,9,  -999.00,9,   -999.0,9,   -999.0,9,     8.01,2,  3.1470
 3230CITHER2_2,  A17N,   144,  1,     18,     18,2,19940223,1829,-12.4457, -30.5392, 5334,   2199.7,   3.0870,  34.9270,2,  34.9240,2,    244.1,2,    244.1,2,    30.60,2,    21.84,2,     1.44,2,    0.000,2,    0.009,2, -999.000,9,-999.0000,9,  -999.00,9,   -999.0,9,   -999.0,9,     8.00,2,  2.9120
 3230CITHER2_2,  A17N,   144,  1,     17,     17,2,19940223,1829,-12.4457, -30.5392, 5334,   2200.1,   3.0840,  34.9270,2,  34.9260,2,    244.1,2,    244.2,2,    30.60,2,    21.84,2,     1.44,2,    0.001,2,    0.006,2, -999.000,9,-999.0000,9,  -999.00,9,   -999.0,9,   -999.0,9,     8.00,2,  2.9150
 3230CITHER2_2,  A17N,   144,  1,     16,     16,2,19940223,1829,-12.4457, -30.5392, 5334,   2401.6,   2.9230,  34.9180,2,  34.9140,2,    243.6,2,    244.7,2,    33.60,2,    21.92,2,     1.45,2,    0.002,2,    0.000,2, -999.000,9,-999.0000,9,  -999.00,9,   -999.0,9,   -999.0,9,     8.00,2,  2.7340
 3230CITHER2_2,  A17N,   144,  1,     15,     15,2,19940223,1829,-12.4457, -30.5392, 5334,   2699.5,   2.7680,  34.9090,2,  34.9040,2,    243.0,2,    243.1,2,    37.50,2,    22.30,2,     1.48,2,    0.002,2,    0.004,2, -999.000,9,-999.0000,9,  -999.00,9,   -999.0,9,   -999.0,9,     8.00,2,  2.5530
 3230CITHER2_2,  A17N,   144,  1,     14,     14,2,19940223,1829,-12.4457, -30.5392, 5334,   3000.6,   2.6780,  34.9060,2,  34.9030,2,    243.6,2,    244.2,2,    39.30,2,    22.30,2,     1.49,2,    0.002,2,    0.002,2, -999.000,9,-999.0000,9,  -999.00,9,   -999.0,9,   -999.0,9,     8.00,2,  2.4340
 3230CITHER2_2,  A17N,   144,  1,     13,     13,2,19940223,1829,-12.4457, -30.5392, 5334,   3200.0,   2.6090,  34.9040,2,  34.9000,2,    243.8,2,    244.0,2,    40.90,2,    22.34,2,     1.48,2,    0.000,2,    0.007,2, -999.000,9,-999.0000,9,  -999.00,9,   -999.0,9,   -999.0,9,     8.00,2,  2.3460
 3230CITHER2_2,  A17N,   144,  1,     12,     12,2,19940223,1829,-12.4457, -30.5392, 5334,   3400.5,   2.5250,  34.8970,2,  34.8950,2,    245.8,2,    246.0,2,    41.80,2,    22.29,2,     1.49,2,    0.001,2,    0.002,2, -999.000,9,-999.0000,9,  -999.00,9,   -999.0,9,   -999.0,9,     8.00,2,  2.2430
 3230CITHER2_2,  A17N,   144,  1,     11,     11,2,19940223,1829,-12.4457, -30.5392, 5334,   3599.8,   2.4090,  34.8920,2,  34.8890,2,    247.7,2,    247.5,2,    44.30,2,    22.33,2,     1.49,2,   -0.002,2,   -0.002,2, -999.000,9,-999.0000,9,  -999.00,9,   -999.0,9,   -999.0,9,     8.00,2,  2.1080
 3230CITHER2_2,  A17N,   144,  1,     10,     10,2,19940223,1829,-12.4457, -30.5392, 5334,   3801.7,   2.2290,  34.8750,2,  34.8760,2,    246.8,2,    247.2,2,    49.80,2,    22.99,2,     1.53,2,    0.001,2,    0.007,2, -999.000,9,-999.0000,9,  -999.00,9,   -999.0,9,   -999.0,9,     8.00,2,  1.9110
 3230CITHER2_2,  A17N,   144,  1,      9,      9,2,19940223,1829,-12.4457, -30.5392, 5334,   3999.5,   1.8880,  34.8400,2,  34.8390,2,    242.2,2,    243.1,2,    62.50,2,    24.31,2,     1.66,2,   -0.002,2,    0.002,2, -999.000,9,-999.0000,9,  -999.00,9,   -999.0,9,   -999.0,9,     7.98,2,  1.5570
 3230CITHER2_2,  A17N,   144,  1,      8,      8,2,19940223,1829,-12.4457, -30.5392, 5334,   4200.0,   1.5780,  34.8110,2,  34.8050,2,    238.2,2,    238.7,2,    75.90,2,    26.10,2,     1.78,2,    0.005,2,    0.006,2, -999.000,9,-999.0000,9,  -999.00,9,   -999.0,9,   -999.0,9,     7.96,2,  1.2340
 3230CITHER2_2,  A17N,   144,  1,      7,      7,2,19940223,1829,-12.4457, -30.5392, 5334,   4398.6,   1.2890,  34.7760,2,  34.7770,2,    232.9,2,    233.3,2,    88.20,2,    27.89,2,     1.90,2,    0.006,2,    0.010,2, -999.000,9,-999.0000,9,  -999.00,9,   -999.0,9,   -999.0,9,     7.94,2,  0.9310
 3230CITHER2_2,  A17N,   144,  1,      6,      6,2,19940223,1829,-12.4457, -30.5392, 5334,   4600.1,   1.0100,  34.7450,2,  34.7440,2,    227.6,2,    227.9,2,   101.10,2,    29.77,2,     2.03,2,    0.011,2,    0.006,2, -999.000,9,-999.0000,9,  -999.00,9,   -999.0,9,   -999.0,9,     7.92,2,  0.6390
 3230CITHER2_2,  A17N,   144,  1,      5,      5,2,19940223,1829,-12.4457, -30.5392, 5334,   4799.4,   0.7790,  34.7200,2,  34.7200,2,    224.4,2,    224.6,2,   110.30,2,    31.06,2,     2.12,2,    0.025,2,    0.017,2, -999.000,9,-999.0000,9,  -999.00,9,   -999.0,9,   -999.0,9,     7.91,2,  0.3920
 3230CITHER2_2,  A17N,   144,  1,      4,      4,2,19940223,1829,-12.4457, -30.5392, 5334,   4998.6,   0.6170,  34.7040,2,  34.7040,2,    222.5,2,    222.4,2,   116.40,2,    31.70,2,     2.18,2,    0.039,2,    0.020,2, -999.000,9,-999.0000,9,  -999.00,9,   -999.0,9,   -999.0,9,     7.90,2,  0.2130
 3230CITHER2_2,  A17N,   144,  1,      3,      3,2,19940223,1829,-12.4457, -30.5392, 5334,   5197.9,   0.5280,  34.6930,2,  34.6930,2,    221.6,2,    221.0,2,   121.10,2,    32.04,2,     2.21,2,    0.056,2,    0.026,2, -999.000,9,-999.0000,9,  -999.00,9,   -999.0,9,   -999.0,9,     7.88,2,  0.1040
 3230CITHER2_2,  A17N,   144,  1,      2,      2,2,19940223,1829,-12.4457, -30.5392, 5334,   5336.5,   0.5250,  34.6900,2,  34.6910,2,    221.5,2,    221.4,2,   121.30,2,    32.44,2,     2.22,2,    0.062,2,    0.037,2, -999.000,9,-999.0000,9,  -999.00,9,   -999.0,9,   -999.0,9,     7.89,2,  0.0840
 3230CITHER2_2,  A17N,   144,  1,      1,      1,2,19940223,1829,-12.4457, -30.5392, 5334,   5426.3,   0.5150,  34.6880,2,  34.6880,2,    220.5,2,    221.2,2,   122.30,2,    32.33,2,     2.22,2,    0.065,2,    0.036,2, -999.000,9,-999.0000,9,  -999.00,9,   -999.0,9,   -999.0,9,     7.89,2,  0.0640
 3230CITHER2_2,  A17N,   145,  1,     32,     32,2,19940224,0104,-11.9497, -30.5113, 5397,      2.7,  27.6770,  37.0520,2,  37.0530,2,    192.8,2,    198.0,2,     1.00,2,     0.04,2,     0.10,2,    1.667,2,    0.977,2, -999.000,9,-999.0000,9,  -999.00,9,   2059.3,2,   2438.3,2,     8.38,2, 27.6760
 3230CITHER2_2,  A17N,   145,  1,     31,     31,2,19940224,0104,-11.9497, -30.5113, 5397,     52.0,  27.6890,  37.0530,2,  37.0520,2,    195.8,2,    198.7,2,     0.90,2,     0.04,2,     0.10,2,    1.676,2,    0.968,2, -999.000,9,-999.0000,9,  -999.00,9,   2059.8,2,   2437.7,2,     8.38,2, 27.6770
 3230CITHER2_2,  A17N,   145,  1,     30,     30,2,19940224,0104,-11.9497, -30.5113, 5397,    124.7,  23.6660,  36.8380,2,  36.8160,2,    214.9,2,    211.8,2,     1.00,2,     0.04,2,     0.17,2,    1.970,2,    1.105,2, -999.000,9,-999.0000,9,  -999.00,9,   2080.6,2,   2428.4,2,     8.33,2, 23.6400
 3230CITHER2_2,  A17N,   145,  1,     29,     29,2,19940224,0104,-11.9497, -30.5113, 5397,    201.1,  15.9710,  35.6710,2,  35.6440,2,    169.0,2,    163.1,2,     4.00,2,    12.07,2,     0.89,2,    1.937,2,    1.046,2, -999.000,9,-999.0000,9,  -999.00,9,   2133.6,2,   2351.8,2,     8.12,2, 15.9390
 3230CITHER2_2,  A17N,   145,  1,     28,     28,2,19940224,0104,-11.9497, -30.5113, 5397,    401.1,   8.0340,  34.6980,2,  34.6960,2,    125.7,2,    126.3,2,    16.40,2,    30.41,2,     1.99,2,    0.372,2,    0.206,2, -999.000,9,-999.0000,9,  -999.00,9,   2202.5,2,   2310.5,2,     7.87,2,  7.9930
 3230CITHER2_2,  A17N,   145,  1,     27,     27,2,19940224,0104,-11.9497, -30.5113, 5397,    600.4,   5.7400,  34.4930,2,  34.4940,2,    149.9,2,    147.8,2,    24.40,2,    33.68,2,     2.23,2,    0.187,2,    0.101,2, -999.000,9,-999.0000,9,  -999.00,9,   2211.8,2,   2314.6,2,     7.85,2,  5.6880
 3230CITHER2_2,  A17N,   145,  1,     26,     26,2,19940224,0104,-11.9497, -30.5113, 5397,    799.0,   4.4930,  34.4440,2,  34.4410,2,    167.0,2,    165.0,2,    32.00,2,    34.62,2,     2.31,2,    0.081,2,    0.049,2, -999.000,9,-999.0000,9,  -999.00,9,   2215.7,2,   2314.4,2,     7.85,2,  4.4310
 3230CITHER2_2,  A17N,   145,  1,     24,     24,2,19940224,0104,-11.9497, -30.5113, 5397,   1001.0,   4.0130,  34.5270,2,  34.5310,2,    167.5,2,    165.8,2,    36.30,2,    33.76,2,     2.28,2,    0.014,2,    0.003,2, -999.000,9,-999.0000,9,  -999.00,9,   2221.4,2,   2320.4,2,     7.85,2,  3.9370
 3230CITHER2_2,  A17N,   145,  1,     25,     25,2,19940224,0104,-11.9497, -30.5113, 5397,   1002.2,   4.0070,  34.5270,2,  34.5330,2,    167.6,2,    166.7,2,    36.10,2,    33.77,2,     2.27,2,    0.030,2,    0.022,2, -999.000,9,-999.0000,9,  -999.00,9,   2221.6,2,   2320.4,2,     7.85,2,  3.9310
 3230CITHER2_2,  A17N,   145,  1,     23,     23,2,19940224,0104,-11.9497, -30.5113, 5397,   1201.1,   4.0270,  34.7160,2,  34.7220,2,    182.7,2,    182.7,2,    31.90,2,    29.89,2,     2.01,2,    0.004,2,    0.001,2, -999.000,9,-999.0000,9,  -999.00,9,   2211.4,2,   2327.7,2,     7.89,2,  3.9340
 3230CITHER2_2,  A17N,   145,  1,     22,     22,2,19940224,0104,-11.9497, -30.5113, 5397,   1400.6,   4.1070,  34.8630,2,  34.8640,2,    205.9,2,    204.4,2,    25.20,2,    25.62,2,     1.72,2,    0.010,2,    0.007,2, -999.000,9,-999.0000,9,  -999.00,9,   2204.5,2,   2331.8,2,     7.94,2,  3.9950
 3230CITHER2_2,  A17N,   145,  1,     21,     21,2,19940224,0104,-11.9497, -30.5113, 5397,   1599.4,   3.8530,  34.9300,2,  34.9310,2,    228.9,2,    229.3,2,    22.90,2,    22.63,2,     1.50,2,    0.006,2,    0.010,2, -999.000,9,-999.0000,9,  -999.00,9,   2180.4,2,   2328.5,2,     7.99,2,  3.7260
 3230CITHER2_2,  A17N,   145,  1,     20,     20,2,19940224,0104,-11.9497, -30.5113, 5397,   1700.5,   3.7690,  34.9530,2,  34.9520,2,    241.2,2,    239.4,2,    21.40,2,    21.45,2,     1.41,2,    0.020,2,    0.014,2, -999.000,9,-999.0000,9,  -999.00,9,   2174.2,2,   2330.1,2,     8.00,2,  3.6330
 3230CITHER2_2,  A17N,   145,  1,     19,     19,2,19940224,0104,-11.9497, -30.5113, 5397,   1799.2,   3.6110,  34.9550,2,  34.9560,2,    246.1,2,    244.5,2,    22.10,2,    20.98,2,     1.38,2,    0.019,2,    0.015,2, -999.000,9,-999.0000,9,  -999.00,9,   2172.2,2,   2330.6,2,     8.00,2,  3.4680
 3230CITHER2_2,  A17N,   145,  1,     18,     18,2,19940224,0104,-11.9497, -30.5113, 5397,   2000.3,   3.4270,  34.9620,2,  34.9640,2,    253.1,2,    250.4,2,    22.50,2,    20.35,2,     1.32,2,    0.031,2,    0.022,2, -999.000,9,-999.0000,9,  -999.00,9,   2170.9,2,   2332.8,2,     8.01,2,  3.2680
 3230CITHER2_2,  A17N,   145,  1,     17,     17,2,19940224,0104,-11.9497, -30.5113, 5397,   2200.9,   3.1550,  34.9460,2,  34.9460,2,    251.3,2,    251.3,2,    26.70,2,    20.94,2,     1.35,2,    0.011,2,    0.007,2, -999.000,9,-999.0000,9,  -999.00,9,   2173.4,2,   2334.5,2,     8.01,2,  2.9810
 3230CITHER2_2,  A17N,   145,  1,     16,     16,2,19940224,0104,-11.9497, -30.5113, 5397,   2397.9,   2.9660,  34.9310,2,  34.9270,2,    250.8,2,    248.1,2,    31.20,2,    21.44,2,     1.40,2,    0.008,2,    0.007,2, -999.000,9,-999.0000,9,  -999.00,9,   2179.2,2,   2340.7,2,     8.00,2,  2.7770
 3230CITHER2_2,  A17N,   145,  1,     15,     15,2,19940224,0104,-11.9497, -30.5113, 5397,   2699.6,   2.8550,  34.9310,2,  34.9310,2,    251.2,2,    251.3,2,    31.20,2,    21.09,2,     1.37,2,    0.011,2,    0.008,2, -999.000,9,-999.0000,9,  -999.00,9,   2178.7,2,   2340.0,2,     8.01,2,  2.6380
 3230CITHER2_2,  A17N,   145,  1,     14,     14,2,19940224,0104,-11.9497, -30.5113, 5397,   2999.8,   2.7190,  34.9210,2,  34.9220,2,    251.3,2,    250.7,2,    34.10,2,    21.36,2,     1.39,2,    0.005,2,    0.003,2, -999.000,9,-999.0000,9,  -999.00,9,   2180.9,2,   2341.0,2,     8.01,2,  2.4740
 3230CITHER2_2,  A17N,   145,  1,     13,     13,2,19940224,0104,-11.9497, -30.5113, 5397,   3199.0,   2.6570,  34.9190,2,  34.9190,2,    253.4,2,    252.9,2,    34.00,2,    21.12,2,     1.38,2,    0.012,2,    0.010,2, -999.000,9,-999.0000,9,  -999.00,9,   2180.8,2,   2343.2,2,     8.01,2,  2.3930
 3230CITHER2_2,  A17N,   145,  1,     12,     12,2,19940224,0104,-11.9497, -30.5113, 5397,   3397.1,   2.5760,  34.9130,2,  34.9150,2,    255.3,2,    254.5,2,    34.90,2,    20.96,2,     1.37,2,    0.006,2,    0.007,2, -999.000,9,-999.0000,9,  -999.00,9,   2181.2,2,   2342.3,2,     8.01,2,  2.2930
 3230CITHER2_2,  A17N,   145,  1,     11,     11,2,19940224,0104,-11.9497, -30.5113, 5397,   3598.8,   2.4470,  34.9030,2,  34.9050,2,    255.9,2,    254.8,2,    38.00,2,    21.40,2,     1.40,2,    0.005,2,    0.009,2, -999.000,9,-999.0000,9,  -999.00,9,   2182.2,2,   2343.8,2,     8.01,2,  2.1450
 3230CITHER2_2,  A17N,   145,  1,     10,     10,2,19940224,0104,-11.9497, -30.5113, 5397,   3799.8,   2.2310,  34.8800,2,  34.8790,2,    252.5,2,    250.3,2,    47.50,2,    22.66,2,     1.49,2,    0.004,2,    0.005,2, -999.000,9,-999.0000,9,  -999.00,9,   2193.5,2,   2346.7,2,     8.00,2,  1.9130
 3230CITHER2_2,  A17N,   145,  1,      9,      9,2,19940224,0104,-11.9497, -30.5113, 5397,   3999.4,   1.8800,  34.8400,2,  34.8400,2,    244.9,2,    243.2,2,    63.20,2,    24.78,2,     1.64,2,    0.000,2,    0.000,2, -999.000,9,-999.0000,9,  -999.00,9,   2207.7,2,   2358.2,2,     7.97,2,  1.5490
 3230CITHER2_2,  A17N,   145,  1,      8,      8,2,19940224,0104,-11.9497, -30.5113, 5397,   4199.2,   1.4940,  34.7990,2,  34.8010,2,    237.6,2,    236.9,2,    80.60,2,    26.86,2,     1.80,2,    0.003,2,    0.004,2, -999.000,9,-999.0000,9,  -999.00,9,   2224.4,2,   2365.0,2,     7.95,2,  1.1530
 3230CITHER2_2,  A17N,   145,  1,      7,      7,2,19940224,0104,-11.9497, -30.5113, 5397,   4398.0,   1.2190,  34.7700,2,  34.7690,2,    232.4,2,    231.9,2,    92.70,2,    28.44,2,     1.91,2,    0.004,2,    0.002,2, -999.000,9,-999.0000,9,  -999.00,9,   2236.3,2,   2369.4,2,     7.94,2,  0.8640
 3230CITHER2_2,  A17N,   145,  1,      6,      6,2,19940224,0104,-11.9497, -30.5113, 5397,   4596.9,   1.0040,  34.7450,2,  34.7470,2,    228.5,2,    228.3,2,   102.10,2,    29.77,2,     2.01,2,    0.012,2,    0.008,2, -999.000,9,-999.0000,9,  -999.00,9,   2245.3,2,   2374.1,2,     7.92,2,  0.6330
 3230CITHER2_2,  A17N,   145,  1,      5,      5,2,19940224,0104,-11.9497, -30.5113, 5397,   4796.2,   0.8440,  34.7270,2,  34.7310,2,    225.8,2,    225.4,2,   108.90,2,    30.81,2,     2.08,2,    0.024,2,    0.016,2, -999.000,9,-999.0000,9,  -999.00,9,   2251.6,2,   2375.7,2,     7.91,2,  0.4560
 3230CITHER2_2,  A17N,   145,  1,      4,      4,2,19940224,0104,-11.9497, -30.5113, 5397,   4997.7,   0.6680,  34.7070,2,  34.7090,2,    223.2,2,    223.0,2,   115.50,2,    31.69,2,     2.15,2,    0.030,2,    0.021,2, -999.000,9,-999.0000,9,  -999.00,9,   2258.1,2,   2378.6,2,     7.90,2,  0.2620
 3230CITHER2_2,  A17N,   145,  1,      3,      3,2,19940224,0104,-11.9497, -30.5113, 5397,   5196.6,   0.6180,  34.7010,2,  34.7070,2,    222.6,2,    222.4,2,   116.80,2,    32.18,2,     2.16,2,    0.041,2,    0.025,2, -999.000,9,-999.0000,9,  -999.00,9,   2258.7,2,   2377.5,2,     7.89,2,  0.1900
 3230CITHER2_2,  A17N,   145,  1,      2,      2,2,19940224,0104,-11.9497, -30.5113, 5397,   5398.6,   0.5590,  34.6930,2,  34.6950,2,    222.3,2,    221.7,2,   120.50,2,    32.38,2,     2.19,2,    0.049,2,    0.025,2, -999.000,9,-999.0000,9,  -999.00,9,   2262.6,2,   2379.0,2,     7.89,2,  0.1090
 3230CITHER2_2,  A17N,   145,  1,      1,      1,2,19940224,0104,-11.9497, -30.5113, 5397,   5496.6,   0.5500,  34.6910,2,  34.6920,2,    221.2,2,    222.0,2,   121.60,2,    32.57,2,     2.21,2,    0.054,2,    0.033,2, -999.000,9,-999.0000,9,  -999.00,9,   2262.2,2,   2376.1,2,     7.89,2,  0.0890