BOTTLE,20030515WHPSIOSA
EXPOCODE,SECT_ID,STNNBR,CASTNO,SAMPNO,BTLNBR,BTLNBR_FLAG_W,DATE,TIME,LATITUDE,LONGITUDE,DEPTH,CTDPRS,CTDTMP,CTDSAL,CTDSAL_FLAG_W,SALNTY,SALNTY_FLAG_W,CTDOXY,CTDOXY_FLAG_W,OXYGEN,OXYGEN_FLAG_W,SILCAT,SILCAT_FLAG_W,NITRAT,NITRAT_FLAG_W,PHSPHT,PHSPHT_FLAG_W,CFC-11,CFC-11_FLAG_W,CFC-12,CFC-12_FLAG_W,TRITUM,TRITUM_FLAG_W,HELIUM,HELIUM_FLAG_W,DELHE3,DELHE3_FLAG_W,TCARBN,TCARBN_FLAG_W,ALKALI,ALKALI_FLAG_W,PH,PH_FLAG_W,THETA
,,,,,,,,,,,,DBAR,ITS-90,PSS-78,,PSS-78,,UMOL/KG,,UMOL/KG,,UMOL/KG,,UMOL/KG,,UMOL/KG,,PMOL/KG,,PMOL/KG,,TU,,NMOL/KG,,PERCNT,,UMOL/KG,,UMOL/KG,,,,DEG C
 3230CITHER2_2,  A17N,   148,  1,     32,     32,2,19940224,2040,-10.4567, -30.4327, 5313,      5.1,  28.0500,  36.7300,2,  36.7360,2,    196.0,2,    197.4,2,     1.00,2,     0.00,2,     0.09,2,    1.640,2,    0.948,2, -999.000,9,-999.0000,9,  -999.00,9,   2044.2,2,   2415.3,2,     8.38,2, 28.0490
 3230CITHER2_2,  A17N,   148,  1,     31,     31,2,19940224,2040,-10.4567, -30.4327, 5313,     51.4,  27.9760,  36.7210,2,  36.7140,2,    200.4,2,    199.2,2,     1.00,2,     0.04,2,     0.08,2,    1.654,2,    0.939,2, -999.000,9,-999.0000,9,  -999.00,9,   2047.0,2,   2415.0,2,     8.38,2, 27.9640
 3230CITHER2_2,  A17N,   148,  1,     30,     30,2,19940224,2040,-10.4567, -30.4327, 5313,    124.6,  22.9310,  36.6830,2,  36.6840,2,    209.7,2,    205.4,2,     1.10,2,     0.04,2,     0.22,2,    1.990,2,    1.105,2, -999.000,9,-999.0000,9,  -999.00,9,   2089.8,2,   2416.8,2,     8.31,2, 22.9050
 3230CITHER2_2,  A17N,   148,  1,     29,     29,2,19940224,2040,-10.4567, -30.4327, 5313,    200.1,  16.1460,  35.7360,2,  35.7220,2,    136.7,2,    142.3,2,     4.60,2,    14.41,2,     1.03,2,    1.715,2,    0.929,2, -999.000,9,-999.0000,9,  -999.00,9,   2152.5,2,   2357.5,2,     8.10,2, 16.1140
 3230CITHER2_2,  A17N,   148,  1,     28,     28,2,19940224,2040,-10.4567, -30.4327, 5313,    401.2,   8.3700,  34.7560,2,  34.7500,2,    101.0,2,    106.0,2,    16.40,2,    32.01,2,     2.09,2,    0.249,2,    0.140,2, -999.000,9,-999.0000,9,  -999.00,9,   2216.2,2,   2310.8,2,     7.83,2,  8.3280
 3230CITHER2_2,  A17N,   148,  1,     27,     27,2,19940224,2040,-10.4567, -30.4327, 5313,    599.8,   6.0930,  34.5390,2,  34.5360,2,    129.3,2,    128.6,2,    23.40,2,    34.92,2,     2.29,2,    0.132,2,    0.073,2, -999.000,9,-999.0000,9,  -999.00,9,   2220.5,2,   2307.1,2,     7.83,2,  6.0400
 3230CITHER2_2,  A17N,   148,  1,     26,     26,2,19940224,2040,-10.4567, -30.4327, 5313,    800.7,   4.4910,  34.4420,2,  34.4430,2,    168.9,2,    168.8,2,    31.70,2,    34.04,2,     2.28,2,    0.151,2,    0.081,2, -999.000,9,-999.0000,9,  -999.00,9,   2214.6,2,   2314.8,2,     7.85,2,  4.4290
 3230CITHER2_2,  A17N,   148,  1,     25,     25,2,19940224,2040,-10.4567, -30.4327, 5313,   1000.6,   3.8660,  34.5190,2,  34.5240,2,    175.6,2,    175.2,2,    37.60,2,    33.09,2,     2.24,2,    0.034,2,    0.019,2, -999.000,9,-999.0000,9,  -999.00,9,   2221.7,2,   2321.3,2,     7.90,2,  3.7910
 3230CITHER2_2,  A17N,   148,  1,     24,     24,2,19940224,2040,-10.4567, -30.4327, 5313,   1200.8,   4.0620,  34.7260,2,  34.7330,2,    182.3,2,    183.1,2,    31.40,2,    29.76,2,     1.99,2,    0.007,2,    0.001,2, -999.000,9,-999.0000,9,  -999.00,9,   2212.5,2,   2325.9,2,     7.90,2,  3.9680
 3230CITHER2_2,  A17N,   148,  1,     23,     23,2,19940224,2040,-10.4567, -30.4327, 5313,   1398.9,   4.2680,  34.9070,2,  34.9100,2,    206.5,2,    210.6,2,    22.40,2,    24.42,2,     1.63,2,    0.031,2,    0.024,2, -999.000,9,-999.0000,9,  -999.00,9,   2192.0,2,   2327.3,2,     7.95,2,  4.1540
 3230CITHER2_2,  A17N,   148,  1,     22,     22,2,19940224,2040,-10.4567, -30.4327, 5313,   1499.3,   4.1960,  34.9540,2,  34.9570,2,    225.2,2,    226.4,2,    19.60,2,    22.51,2,     1.47,2,    0.050,2,    0.037,2, -999.000,9,-999.0000,9,  -999.00,9,   2181.6,2,   2329.2,2,     7.98,2,  4.0740
 3230CITHER2_2,  A17N,   148,  1,     21,     21,2,19940224,2040,-10.4567, -30.4327, 5313,   1599.4,   4.0040,  34.9690,2,  34.9720,2,    238.6,2,    238.1,2,    19.10,2,    21.39,2,     1.39,2,    0.037,2,    0.024,2, -999.000,9,-999.0000,9,  -999.00,9,   2173.9,2,   2328.0,2,     7.99,2,  3.8750
 3230CITHER2_2,  A17N,   148,  1,     20,     20,2,19940224,2040,-10.4567, -30.4327, 5313,   1700.7,   3.8180,  34.9740,2,  34.9800,2,    246.7,2,    245.2,2,    19.00,2,    20.69,2,     1.34,2,    0.035,2,    0.024,2, -999.000,9,-999.0000,9,  -999.00,9,   2170.5,2,   2330.6,2,     8.01,2,  3.6820
 3230CITHER2_2,  A17N,   148,  1,     19,     19,2,19940224,2040,-10.4567, -30.4327, 5313,   1799.1,   3.6850,  34.9750,2,  34.9790,2,    248.9,2,    251.1,2,    19.70,2,    20.30,2,     1.32,2,    0.037,2,    0.021,2, -999.000,9,-999.0000,9,  -999.00,9,   2170.7,2,   2331.0,2,     8.01,2,  3.5410
 3230CITHER2_2,  A17N,   148,  1,     18,     18,2,19940224,2040,-10.4567, -30.4327, 5313,   1999.7,   3.4350,  34.9670,2,  34.9720,2,    251.7,2,    251.9,2,    21.80,2,    19.99,2,     1.29,2,    0.033,2,    0.024,2, -999.000,9,-999.0000,9,  -999.00,9,   2171.3,2,   2332.4,2,     8.01,2,  3.2760
 3230CITHER2_2,  A17N,   148,  1,     17,     17,2,19940224,2040,-10.4567, -30.4327, 5313,   2199.6,   3.2310,  34.9570,2,  34.9570,2,    252.2,2,    252.4,2,    25.00,2,    20.30,2,     1.30,2,    0.024,2,    0.014,2, -999.000,9,-999.0000,9,  -999.00,9,   2174.1,2,   2331.2,2,     8.00,2,  3.0560
 3230CITHER2_2,  A17N,   148,  1,     16,     16,2,19940224,2040,-10.4567, -30.4327, 5313,   2399.3,   3.0480,  34.9460,2,  34.9430,2,    251.1,2,    251.4,2,    27.70,2,    20.72,2,     1.35,2,    0.015,2,    0.007,2, -999.000,9,-999.0000,9,  -999.00,9,   2177.0,2,   2335.4,2,     8.00,2,  2.8570
 3230CITHER2_2,  A17N,   148,  1,     15,     15,2,19940224,2040,-10.4567, -30.4327, 5313,   2699.9,   2.8500,  34.9330,2,  34.9290,2,    249.9,2,    250.6,2,    31.70,2,    21.11,2,     1.38,2,    0.003,2,    0.005,2, -999.000,9,-999.0000,9,  -999.00,9,   2181.2,2,   2339.7,2,     8.01,2,  2.6330
 3230CITHER2_2,  A17N,   148,  1,     14,     14,2,19940224,2040,-10.4567, -30.4327, 5313,   2998.5,   2.7290,  34.9280,2,  34.9320,2,    251.6,2,    252.1,2,    32.90,2,    21.18,2,     1.37,2,    0.005,2,    0.005,2, -999.000,9,-999.0000,9,  -999.00,9,   2181.3,2,   2344.4,2,     8.01,2,  2.4840
 3230CITHER2_2,  A17N,   148,  1,     13,     13,2,19940224,2040,-10.4567, -30.4327, 5313,   3198.2,   2.6630,  34.9240,2,  34.9230,2,    253.3,2,    254.0,2,    33.00,2,    21.03,2,     1.35,2,    0.011,2,    0.006,2, -999.000,9,-999.0000,9,  -999.00,9,   2181.1,2,   2342.2,2,     8.01,2,  2.3990
 3230CITHER2_2,  A17N,   148,  1,     12,     12,2,19940224,2040,-10.4567, -30.4327, 5313,   3397.7,   2.5910,  34.9200,2,  34.9220,2,    255.7,2,    255.6,2,    33.60,2,    20.79,2,     1.34,2,    0.015,2,    0.010,2, -999.000,9,-999.0000,9,  -999.00,9,   2181.7,2,   2344.8,2,     8.01,2,  2.3070
 3230CITHER2_2,  A17N,   148,  1,     11,     11,2,19940224,2040,-10.4567, -30.4327, 5313,   3596.3,   2.4770,  34.9100,2,  34.9100,2,    256.8,2,    256.3,2,    35.90,2,    20.87,2,     1.37,2,    0.013,2,    0.011,2, -999.000,9,-999.0000,9,  -999.00,9,   2183.6,2,   2346.1,2,     8.01,2,  2.1750
 3230CITHER2_2,  A17N,   148,  1,     10,     10,2,19940224,2040,-10.4567, -30.4327, 5313,   3799.8,   2.2190,  34.8850,2,  34.8830,2,    253.9,2,    253.4,2,    45.20,2,    22.30,2,     1.43,2,    0.011,2,    0.011,2, -999.000,9,-999.0000,9,  -999.00,9,   2192.4,2,   2352.5,2,     7.99,2,  1.9010
 3230CITHER2_2,  A17N,   148,  1,      9,      9,2,19940224,2040,-10.4567, -30.4327, 5313,   4000.2,   1.8290,  34.8410,2,  34.8400,2,    244.7,2,    244.4,2,    64.60,2,    24.32,2,     1.63,2,    0.001,2,    0.003,2, -999.000,9,-999.0000,9,  -999.00,9,   2210.6,2,   2361.2,2,     7.97,2,  1.5000
 3230CITHER2_2,  A17N,   148,  1,      8,      8,2,19940224,2040,-10.4567, -30.4327, 5313,   4200.1,   1.4630,  34.8000,2,  34.8000,2,    236.4,2,    236.5,2,    81.60,2,    27.30,2,     1.80,2,    0.002,2,    0.001,2, -999.000,9,-999.0000,9,  -999.00,9,   2227.9,2,   2370.2,2,     7.95,2,  1.1220
 3230CITHER2_2,  A17N,   148,  1,      7,      7,2,19940224,2040,-10.4567, -30.4327, 5313,   4400.7,   1.2050,  34.7730,2,  34.7700,2,    230.9,2,    231.3,2,    93.70,2,    28.79,2,     1.91,2,    0.005,2,    0.006,2, -999.000,9,-999.0000,9,  -999.00,9,   2238.6,2,   2375.4,2,     7.93,2,  0.8500
 3230CITHER2_2,  A17N,   148,  1,      6,      6,2,19940224,2040,-10.4567, -30.4327, 5313,   4599.0,   1.0230,  34.7490,2,  34.7480,2,    227.6,2,    228.2,2,   102.10,2,    29.87,2,     2.00,2,    0.010,2,    0.007,2, -999.000,9,-999.0000,9,  -999.00,9,   2246.2,2,   2378.5,2,     7.92,2,  0.6510
 3230CITHER2_2,  A17N,   148,  1,      5,      5,2,19940224,2040,-10.4567, -30.4327, 5313,   4798.8,   0.8540,  34.7310,2,  34.7260,2,    224.7,2,    225.6,2,   109.00,2,    30.96,2,     2.06,2,    0.017,2,    0.007,2, -999.000,9,-999.0000,9,  -999.00,9,   2254.5,2,   2380.7,2,     7.91,2,  0.4650
 3230CITHER2_2,  A17N,   148,  1,      4,      4,2,19940224,2040,-10.4567, -30.4327, 5313,   4998.5,   0.6820,  34.7130,2,  34.7080,2,    222.3,2,    223.4,2,   116.70,2,    31.75,2,     2.15,2,    0.036,2,    0.021,2, -999.000,9,-999.0000,9,  -999.00,9,   2265.0,2,   2381.5,2,     7.89,2,  0.2760
 3230CITHER2_2,  A17N,   148,  1,      3,      3,2,19940224,2040,-10.4567, -30.4327, 5313,   5195.7,   0.5840,  34.7000,2,  34.6990,2,    220.8,2,    221.9,2,   119.90,2,    32.25,2,     2.17,2,    0.042,2,    0.025,2, -999.000,9,-999.0000,9,  -999.00,9,   2263.6,2,   2382.1,2,     7.88,2,  0.1580
 3230CITHER2_2,  A17N,   148,  1,      2,      2,2,19940224,2040,-10.4567, -30.4327, 5313,   5298.0,   0.5700,  34.6980,2,  34.6960,2,    220.6,2,    220.8,2,   121.40,2,    32.34,2,     2.18,2,    0.042,2,    0.024,2, -999.000,9,-999.0000,9,  -999.00,9,   2265.2,2,   2385.7,2,     7.88,2,  0.1320
 3230CITHER2_2,  A17N,   148,  1,      1,      1,2,19940224,2040,-10.4567, -30.4327, 5313,   5416.8,   0.5640,  34.6970,2,  34.6930,2,    219.8,2,    221.4,2,   122.10,2,    32.54,2,     2.19,2,    0.048,2,    0.025,2, -999.000,9,-999.0000,9,  -999.00,9,   2265.5,2,   2383.3,2,     7.88,2,  0.1120
 3230CITHER2_2,  A17N,   149,  1,     32,     32,2,19940225,0335, -9.9593, -30.4058, 5298,      4.7,  27.8530,  36.6560,2,  36.6560,2,    197.5,2,    198.2,2,     1.20,2,     0.04,2,     0.09,2,    1.633,2,    0.946,2, -999.000,9,-999.0000,9,  -999.00,9,   -999.0,9,   -999.0,9,     8.38,2, 27.8520
 3230CITHER2_2,  A17N,   149,  1,     31,     31,2,19940225,0335, -9.9593, -30.4058, 5298,     61.7,  27.8590,  36.6630,2,  36.6680,2,    201.8,2,    198.9,2,     1.20,2,     0.04,2,     0.09,2,    1.647,2,    0.943,2, -999.000,9,-999.0000,9,  -999.00,9,   -999.0,9,   -999.0,9,     8.38,2, 27.8440
 3230CITHER2_2,  A17N,   149,  1,     30,     30,2,19940225,0335, -9.9593, -30.4058, 5298,    126.2,  22.2740,  36.6110,2,  36.7310,2,    211.8,2,    204.4,2,     1.30,2,     0.08,2,     0.22,2,    1.967,2,    1.094,2, -999.000,9,-999.0000,9,  -999.00,9,   -999.0,9,   -999.0,9,     8.32,2, 22.2490
 3230CITHER2_2,  A17N,   149,  1,     29,     29,2,19940225,0335, -9.9593, -30.4058, 5298,    202.1,  15.9390,  35.6830,2,  35.7940,2,    132.1,2,    143.7,2,     4.50,2,    13.72,2,     0.98,2,    1.724,2,    0.927,2, -999.000,9,-999.0000,9,  -999.00,9,   -999.0,9,   -999.0,9,     8.12,2, 15.9070
 3230CITHER2_2,  A17N,   149,  1,     28,     28,2,19940225,0335, -9.9593, -30.4058, 5298,    402.2,   7.8180,  34.6840,2,  34.6860,2,    111.0,2,    112.0,2,    18.40,2,    32.66,2,     2.11,2,    0.297,2,    0.164,2, -999.000,9,-999.0000,9,  -999.00,9,   -999.0,9,   -999.0,9,     7.84,2,  7.7770
 3230CITHER2_2,  A17N,   149,  1,     27,     27,2,19940225,0335, -9.9593, -30.4058, 5298,    600.4,   5.8760,  34.5170,2,  34.5160,2,    137.0,2,    138.4,2,    24.50,2,    34.75,2,     2.27,2,    0.174,2,    0.098,2, -999.000,9,-999.0000,9,  -999.00,9,   -999.0,9,   -999.0,9,     7.84,2,  5.8240
 3230CITHER2_2,  A17N,   149,  1,     26,     26,2,19940225,0335, -9.9593, -30.4058, 5298,    802.2,   4.5300,  34.4580,2,  34.4590,2,    154.9,2,    157.0,2,    32.70,2,    35.05,2,     2.34,2,    0.043,2,    0.031,2, -999.000,9,-999.0000,9,  -999.00,9,   -999.0,9,   -999.0,9,     7.84,2,  4.4670
 3230CITHER2_2,  A17N,   149,  1,     25,     25,2,19940225,0335, -9.9593, -30.4058, 5298,    998.0,   4.0080,  34.5560,2,  34.5550,2,    165.6,2,    167.5,2,    36.60,2,    34.00,2,     2.26,2,    0.007,2,    0.006,2, -999.000,9,-999.0000,9,  -999.00,9,   -999.0,9,   -999.0,9,     7.86,2,  3.9320
 3230CITHER2_2,  A17N,   149,  1,     24,     24,2,19940225,0335, -9.9593, -30.4058, 5298,   1200.7,   4.1210,  34.7410,2,  34.7430,2,    180.8,2,    181.5,2,    30.70,2,    29.61,2,     1.99,2,    0.015,2,    0.011,2, -999.000,9,-999.0000,9,  -999.00,9,   -999.0,9,   -999.0,9,     7.91,2,  4.0270
 3230CITHER2_2,  A17N,   149,  1,     23,     23,2,19940225,0335, -9.9593, -30.4058, 5298,   1399.5,   4.2570,  34.9120,2,  34.9140,2,    210.1,2,    213.2,2,    22.60,2,    24.14,2,     1.61,2,    0.022,2,    0.019,2, -999.000,9,-999.0000,9,  -999.00,9,   -999.0,9,   -999.0,9,     7.96,2,  4.1430
 3230CITHER2_2,  A17N,   149,  1,     22,     22,2,19940225,0335, -9.9593, -30.4058, 5298,   1599.2,   4.0380,  34.9640,2,  34.9660,2,    234.3,2,    236.5,2,    19.60,2,    21.69,2,     1.41,2,    0.040,2,    0.024,2, -999.000,9,-999.0000,9,  -999.00,9,   -999.0,9,   -999.0,9,     8.00,2,  3.9080
 3230CITHER2_2,  A17N,   149,  1,     21,     21,2,19940225,0335, -9.9593, -30.4058, 5298,   1699.8,   3.8820,  34.9690,2,  34.9760,2,    242.3,2,    242.7,2,    19.60,2,    21.11,2,     1.36,2,    0.034,2,    0.024,2, -999.000,9,-999.0000,9,  -999.00,9,   -999.0,9,   -999.0,9,     8.01,2,  3.7450
 3230CITHER2_2,  A17N,   149,  1,     20,     20,2,19940225,0335, -9.9593, -30.4058, 5298,   1801.7,   3.7400,  34.9730,2,  34.9720,2,    248.5,2,    248.1,2,    20.00,2,    20.61,2,     1.33,2,    0.035,2,    0.024,2, -999.000,9,-999.0000,9,  -999.00,9,   -999.0,9,   -999.0,9,     8.02,2,  3.5950
 3230CITHER2_2,  A17N,   149,  1,     18,     18,2,19940225,0335, -9.9593, -30.4058, 5298,   1999.0,   3.4540,  34.9630,2,  34.9630,2,    251.6,2,    251.4,2,    22.60,2,    20.45,2,     1.32,2,    0.026,2,    0.018,2, -999.000,9,-999.0000,9,  -999.00,9,   -999.0,9,   -999.0,9,     8.02,2,  3.2950
 3230CITHER2_2,  A17N,   149,  1,     19,     19,2,19940225,0335, -9.9593, -30.4058, 5298,   2000.5,   3.4530,  34.9620,2,  34.9630,2,    251.4,2,    251.6,2,    22.60,2,    20.33,2,     1.32,2,    0.024,2,    0.021,2, -999.000,9,-999.0000,9,  -999.00,9,   -999.0,9,   -999.0,9,     8.02,2,  3.2940
 3230CITHER2_2,  A17N,   149,  1,     17,     17,2,19940225,0335, -9.9593, -30.4058, 5298,   2198.3,   3.2470,  34.9520,2,  34.9530,2,    251.8,2,    252.1,2,    25.40,2,    20.58,2,     1.33,2,    0.017,2,    0.015,2, -999.000,9,-999.0000,9,  -999.00,9,   -999.0,9,   -999.0,9,     8.01,2,  3.0720
 3230CITHER2_2,  A17N,   149,  1,     16,     16,2,19940225,0335, -9.9593, -30.4058, 5298,   2401.7,   3.0450,  34.9420,2,  34.9350,2,    251.8,2,    251.4,2,    28.50,2,    20.91,2,     1.35,2,    0.014,2,    0.015,2, -999.000,9,-999.0000,9,  -999.00,9,   -999.0,9,   -999.0,9,     8.01,2,  2.8540
 3230CITHER2_2,  A17N,   149,  1,     15,     15,2,19940225,0335, -9.9593, -30.4058, 5298,   2699.1,   2.8730,  34.9310,2,  34.9310,2,    250.1,2,    250.5,2,    32.10,2,    21.18,2,     1.38,2,    0.010,2,    0.006,2, -999.000,9,-999.0000,9,  -999.00,9,   -999.0,9,   -999.0,9,     8.01,2,  2.6560
 3230CITHER2_2,  A17N,   149,  1,     14,     14,2,19940225,0335, -9.9593, -30.4058, 5298,   2999.4,   2.7520,  34.9250,2,  34.9240,2,    251.6,2,    251.8,2,    33.50,2,    21.26,2,     1.37,2,    0.008,2,    0.007,2, -999.000,9,-999.0000,9,  -999.00,9,   -999.0,9,   -999.0,9,     8.01,2,  2.5070
 3230CITHER2_2,  A17N,   149,  1,     13,     13,2,19940225,0335, -9.9593, -30.4058, 5298,   3199.9,   2.6880,  34.9230,2,  34.9210,2,    254.1,2,    254.7,2,    33.30,2,    20.95,2,     1.36,2,    0.013,2,    0.006,2, -999.000,9,-999.0000,9,  -999.00,9,   -999.0,9,   -999.0,9,     8.01,2,  2.4230
 3230CITHER2_2,  A17N,   149,  1,     12,     12,2,19940225,0335, -9.9593, -30.4058, 5298,   3398.2,   2.6210,  34.9200,2,  34.9180,2,    255.8,2,    256.2,2,    33.50,2,    20.91,2,     1.35,2,    0.021,2,    0.018,2, -999.000,9,-999.0000,9,  -999.00,9,   -999.0,9,   -999.0,9,     8.02,2,  2.3370
 3230CITHER2_2,  A17N,   149,  1,     11,     11,2,19940225,0335, -9.9593, -30.4058, 5298,   3599.5,   2.4700,  34.9070,2,  34.9050,2,    257.0,2,    256.1,2,    36.90,2,    20.98,2,     1.37,2,    0.019,2,    0.015,2, -999.000,9,-999.0000,9,  -999.00,9,   -999.0,9,   -999.0,9,     8.01,2,  2.1680
 3230CITHER2_2,  A17N,   149,  1,     10,     10,2,19940225,0335, -9.9593, -30.4058, 5298,   3797.5,   2.1330,  34.8740,2,  34.8750,2,    253.1,2,    251.6,2,    49.20,2,    22.49,2,     1.48,2,    0.014,2,    0.010,2, -999.000,9,-999.0000,9,  -999.00,9,   -999.0,9,   -999.0,9,     8.00,2,  1.8180
 3230CITHER2_2,  A17N,   149,  1,      9,      9,2,19940225,0335, -9.9593, -30.4058, 5298,   3999.3,   1.8090,  34.8360,2,  34.8330,2,    244.4,2,    243.8,2,    66.00,2,    24.54,2,     1.65,2,    0.010,2,    0.008,2, -999.000,9,-999.0000,9,  -999.00,9,   -999.0,9,   -999.0,9,     7.98,2,  1.4810
 3230CITHER2_2,  A17N,   149,  1,      8,      8,2,19940225,0335, -9.9593, -30.4058, 5298,   4197.4,   1.4070,  34.7910,2,  34.7860,2,    235.9,2,    235.2,2,    85.70,2,    27.25,2,     1.83,2,    0.002,2,    0.004,2, -999.000,9,-999.0000,9,  -999.00,9,   -999.0,9,   -999.0,9,     7.95,2,  1.0680
 3230CITHER2_2,  A17N,   149,  1,      7,      7,2,19940225,0335, -9.9593, -30.4058, 5298,   4398.6,   1.1210,  34.7590,2,  34.7620,2,    230.5,2,    230.1,2,    97.90,2,    29.16,2,     1.96,2,    0.003,2,    0.005,2, -999.000,9,-999.0000,9,  -999.00,9,   -999.0,9,   -999.0,9,     7.94,2,  0.7690
 3230CITHER2_2,  A17N,   149,  1,      6,      6,2,19940225,0335, -9.9593, -30.4058, 5298,   4597.9,   0.9550,  34.7400,2,  34.7430,2,    227.0,2,    227.8,2,   105.70,2,    30.05,2,     2.03,2,    0.004,2,    0.001,2, -999.000,9,-999.0000,9,  -999.00,9,   -999.0,9,   -999.0,9,     7.93,2,  0.5860
 3230CITHER2_2,  A17N,   149,  1,      5,      5,2,19940225,0335, -9.9593, -30.4058, 5298,   4798.0,   0.8040,  34.7240,2,  34.7190,2,    224.6,2,    224.8,2,   112.80,2,    30.86,2,     2.08,2,    0.010,2,    0.004,2, -999.000,9,-999.0000,9,  -999.00,9,   -999.0,9,   -999.0,9,     7.92,2,  0.4170
 3230CITHER2_2,  A17N,   149,  1,      4,      4,2,19940225,0335, -9.9593, -30.4058, 5298,   4996.0,   0.7220,  34.7140,2,  34.7140,2,    223.2,2,    224.0,2,   116.40,2,    31.33,2,     2.13,2,    0.012,2,    0.007,2, -999.000,9,-999.0000,9,  -999.00,9,   -999.0,9,   -999.0,9,     7.92,2,  0.3140
 3230CITHER2_2,  A17N,   149,  1,      3,      3,2,19940225,0335, -9.9593, -30.4058, 5298,   5198.9,   0.6280,  34.7020,2,  34.7030,2,    222.0,2,    222.4,2,   120.80,2,    32.08,2,     2.17,2,    0.029,2,    0.016,2, -999.000,9,-999.0000,9,  -999.00,9,   -999.0,9,   -999.0,9,     7.90,2,  0.2000
 3230CITHER2_2,  A17N,   149,  1,      2,      2,2,19940225,0335, -9.9593, -30.4058, 5298,   5319.3,   0.6200,  34.7000,2,  34.7020,2,    222.0,2,    221.7,2,   121.80,2,    32.12,2,     2.19,2,    0.034,2,    0.015,2, -999.000,9,-999.0000,9,  -999.00,9,   -999.0,9,   -999.0,9,     7.89,2,  0.1780
 3230CITHER2_2,  A17N,   149,  1,      1,      1,2,19940225,0335, -9.9593, -30.4058, 5298,   5401.0,   0.5940,  34.6960,2,  34.6980,2,    220.5,2,    221.2,2,   122.80,2,    32.11,2,     2.19,2,    0.042,2,    0.026,2, -999.000,9,-999.0000,9,  -999.00,9,   -999.0,9,   -999.0,9,     7.90,2,  0.1430