BOTTLE,20030515WHPSIOSA
EXPOCODE,SECT_ID,STNNBR,CASTNO,SAMPNO,BTLNBR,BTLNBR_FLAG_W,DATE,TIME,LATITUDE,LONGITUDE,DEPTH,CTDPRS,CTDTMP,CTDSAL,CTDSAL_FLAG_W,SALNTY,SALNTY_FLAG_W,CTDOXY,CTDOXY_FLAG_W,OXYGEN,OXYGEN_FLAG_W,SILCAT,SILCAT_FLAG_W,NITRAT,NITRAT_FLAG_W,PHSPHT,PHSPHT_FLAG_W,CFC-11,CFC-11_FLAG_W,CFC-12,CFC-12_FLAG_W,TRITUM,TRITUM_FLAG_W,HELIUM,HELIUM_FLAG_W,DELHE3,DELHE3_FLAG_W,TCARBN,TCARBN_FLAG_W,ALKALI,ALKALI_FLAG_W,PH,PH_FLAG_W,THETA
,,,,,,,,,,,,DBAR,ITS-90,PSS-78,,PSS-78,,UMOL/KG,,UMOL/KG,,UMOL/KG,,UMOL/KG,,UMOL/KG,,PMOL/KG,,PMOL/KG,,TU,,NMOL/KG,,PERCNT,,UMOL/KG,,UMOL/KG,,,,DEG C
 3230CITHER2_1,  A17C,    40,  1,     32,     32,2,19940120,1954,-36.4202, -44.6132, 4984,      6.3,  21.6680,  35.6980,2,  35.6990,2,    215.9,2,    222.9,2,     1.80,2,     0.04,2,     0.07,2,    2.297,2,    1.331,2, -999.000,9,-999.0000,9,  -999.00,9,   2035.1,2,   -999.0,9,     8.35,2, 21.6670
 3230CITHER2_1,  A17C,    40,  1,     31,     31,2,19940120,1954,-36.4202, -44.6132, 4984,     25.9,  21.1010,  35.7090,2,  35.7050,2,    221.3,2,    224.5,2,     2.40,2,     0.04,2,     0.06,2,    2.313,2,    1.331,2, -999.000,9,-999.0000,9,  -999.00,9,   2035.2,2,   -999.0,9,     8.35,2, 21.0960
 3230CITHER2_1,  A17C,    40,  1,     30,     30,2,19940120,1954,-36.4202, -44.6132, 4984,    100.2,  17.8180,  36.0420,2,  36.0450,2,    208.3,2,    210.6,2,     2.30,2,     2.33,2,     0.25,2,    2.504,2,    1.423,2, -999.000,9,-999.0000,9,  -999.00,9,   2051.9,2,   -999.0,9,     8.28,2, 17.8010
 3230CITHER2_1,  A17C,    40,  1,     29,     29,2,19940120,1954,-36.4202, -44.6132, 4984,    201.1,  16.1010,  35.8320,2,  35.8260,2,    216.8,2,    215.4,2,     2.50,2,     4.77,2,     0.39,2,    2.631,2,    1.475,2, -999.000,9,-999.0000,9,  -999.00,9,   2093.1,2,   -999.0,9,     8.24,2, 16.0690
 3230CITHER2_1,  A17C,    40,  1,     28,     28,2,19940120,1954,-36.4202, -44.6132, 4984,    301.0,  14.5660,  35.5660,2,  35.5530,2,    222.3,2,    218.8,2,     3.10,2,     7.22,2,     0.56,2,    2.669,2,    1.486,2, -999.000,9,-999.0000,9,  -999.00,9,   2099.4,2,   -999.0,9,     8.21,2, 14.5210
 3230CITHER2_1,  A17C,    40,  1,     27,     27,2,19940120,1954,-36.4202, -44.6132, 4984,    400.5,  12.8610,  35.2480,2,  35.2360,2,    220.2,2,    215.7,2,     4.10,2,    11.04,2,     0.79,2,    2.619,2,    1.446,2, -999.000,9,-999.0000,9,  -999.00,9,   2108.1,2,   -999.0,9,     8.16,2, 12.8060
 3230CITHER2_1,  A17C,    40,  1,     26,     26,2,19940120,1954,-36.4202, -44.6132, 4984,    501.3,   9.8760,  34.7880,2,  34.7780,2,    211.1,2,    209.1,2,     7.30,2,    18.33,2,     1.25,2,    2.311,2,    1.252,2, -999.000,9,-999.0000,9,  -999.00,9,   2134.7,2,   -999.0,9,     8.06,2,  9.8180
 3230CITHER2_1,  A17C,    40,  1,     24,     24,2,19940120,1954,-36.4202, -44.6132, 4984,    600.2,   7.1000,  34.4260,2,  34.4300,2,    227.2,2,    232.0,2,     9.70,2,    22.79,2,     1.56,2,    2.967,2,    1.532,2, -999.000,9,-999.0000,9,  -999.00,9,   2142.7,2,   -999.0,9,     8.01,2,  7.0420
 3230CITHER2_1,  A17C,    40,  1,     25,     25,2,19940120,1954,-36.4202, -44.6132, 4984,    600.3,   7.0870,  34.4250,2,  34.4280,2,    227.2,2,    233.6,2,     9.80,2,    22.75,2,     1.56,2,    2.991,2,    1.546,2, -999.000,9,-999.0000,9,  -999.00,9,   2142.7,2,   -999.0,9,     8.01,2,  7.0290
 3230CITHER2_1,  A17C,    40,  1,     23,     23,2,19940120,1954,-36.4202, -44.6132, 4984,    800.8,   4.6370,  34.2350,2,  34.2320,2,    260.9,2,    259.6,2,    15.20,2,    26.53,2,     1.81,2,    3.377,2,    1.742,2, -999.000,9,-999.0000,9,  -999.00,9,   2154.3,2,   -999.0,9,     7.98,2,  4.5740
 3230CITHER2_1,  A17C,    40,  1,     22,     22,2,19940120,1954,-36.4202, -44.6132, 4984,    999.9,   3.8710,  34.2570,2,  34.2530,2,    242.1,2,    239.6,2,    25.50,2,    29.87,2,     2.02,2,    2.059,2,    1.093,2, -999.000,9,-999.0000,9,  -999.00,9,   2176.8,2,   -999.0,9,     7.94,2,  3.7970
 3230CITHER2_1,  A17C,    40,  1,     21,     21,2,19940120,1954,-36.4202, -44.6132, 4984,   1200.6,   3.1890,  34.3230,2,  34.3210,2,    219.4,2,    216.3,2,    39.30,2,    32.60,2,     2.20,2,    1.111,2,    0.603,2, -999.000,9,-999.0000,9,  -999.00,9,   -999.0,9,   -999.0,9,     7.90,2,  3.1040
 3230CITHER2_1,  A17C,    40,  1,     20,     20,2,19940120,1954,-36.4202, -44.6132, 4984,   1399.8,   2.9840,  34.4400,2,  34.4380,2,    195.2,2,    194.6,2,    51.30,2,    33.60,2,     2.27,2,    0.453,2,    0.252,2, -999.000,9,-999.0000,9,  -999.00,9,   -999.0,9,   -999.0,9,     7.87,2,  2.8850
 3230CITHER2_1,  A17C,    40,  1,     19,     19,2,19940120,1954,-36.4202, -44.6132, 4984,   1599.8,   3.0000,  34.5630,2,  34.5650,2,    186.6,2,    187.1,2,    56.10,2,    32.62,2,     2.21,2,    0.192,2,    0.108,2, -999.000,9,-999.0000,9,  -999.00,9,   -999.0,9,   -999.0,9,     7.87,2,  2.8840
 3230CITHER2_1,  A17C,    40,  1,     18,     18,2,19940120,1954,-36.4202, -44.6132, 4984,   1799.6,   3.0340,  34.6810,2,  34.6810,2,    190.3,2,    192.9,2,    54.70,2,    30.56,2,     2.05,2,    0.066,2,    0.045,2, -999.000,9,-999.0000,9,  -999.00,9,   -999.0,9,   -999.0,9,     7.89,2,  2.9000
 3230CITHER2_1,  A17C,    40,  1,     17,     17,2,19940120,1954,-36.4202, -44.6132, 4984,   1999.8,   3.2590,  34.7930,2,  34.7940,2,    207.7,2,    207.9,2,    45.90,2,    27.43,2,     1.83,2,    0.044,2,    0.030,2, -999.000,9,-999.0000,9,  -999.00,9,   -999.0,9,   -999.0,9,     7.93,2,  3.1030
 3230CITHER2_1,  A17C,    40,  1,     16,     16,2,19940120,1954,-36.4202, -44.6132, 4984,   2201.6,   3.1510,  34.8320,2,  34.8300,2,    214.6,2,    214.5,2,    47.00,2,    26.23,2,     1.77,2,    0.045,2,    0.019,2, -999.000,9,-999.0000,9,  -999.00,9,   -999.0,9,   -999.0,9,     7.95,2,  2.9780
 3230CITHER2_1,  A17C,    40,  1,     15,     15,2,19940120,1954,-36.4202, -44.6132, 4984,   2398.3,   3.0150,  34.8510,2,  34.8490,2,    220.4,2,    220.1,2,    48.20,2,    25.59,2,     1.70,2,    0.038,2,    0.012,2, -999.000,9,-999.0000,9,  -999.00,9,   -999.0,9,   -999.0,9,     7.95,2,  2.8250
 3230CITHER2_1,  A17C,    40,  1,     14,     14,2,19940120,1954,-36.4202, -44.6132, 4984,   2598.1,   2.9870,  34.8810,2,  34.8800,2,    231.5,2,    230.8,2,    43.30,2,    23.90,2,     1.60,2,    0.027,2,    0.019,2, -999.000,9,-999.0000,9,  -999.00,9,   -999.0,9,   -999.0,9,     7.97,2,  2.7780
 3230CITHER2_1,  A17C,    40,  1,     13,     13,2,19940120,1954,-36.4202, -44.6132, 4984,   2798.0,   2.9530,  34.9090,2,  34.9070,2,    237.1,2,    241.9,2,    36.90,2,    22.44,2,     1.51,2,    0.015,2,    0.010,2, -999.000,9,-999.0000,9,  -999.00,9,   -999.0,9,   -999.0,9,     7.99,2,  2.7240
 3230CITHER2_1,  A17C,    40,  1,     12,     12,2,19940120,1954,-36.4202, -44.6132, 4984,   2997.2,   2.7610,  34.8980,2,  34.8970,2,    239.3,2,    240.6,2,    41.90,2,    22.95,2,     1.51,2,    0.013,2,    0.012,2, -999.000,9,-999.0000,9,  -999.00,9,   -999.0,9,   -999.0,9,     7.99,2,  2.5160
 3230CITHER2_1,  A17C,    40,  1,     11,     11,2,19940120,1954,-36.4202, -44.6132, 4984,   3198.3,   2.4000,  34.8580,2,  34.8570,2,    233.9,2,    233.5,2,    56.10,2,    24.64,2,     1.64,2,    0.023,2,    0.013,2, -999.000,9,-999.0000,9,  -999.00,9,   -999.0,9,   -999.0,9,     7.97,2,  2.1420
 3230CITHER2_1,  A17C,    40,  1,     10,     10,2,19940120,1954,-36.4202, -44.6132, 4984,   3396.7,   1.8200,  34.7910,2,  34.7900,2,    218.0,2,    218.6,2,    84.80,2,    28.48,2,     1.91,2,    0.038,2,    0.024,2, -999.000,9,-999.0000,9,  -999.00,9,   -999.0,9,   -999.0,9,     7.92,2,  1.5560
 3230CITHER2_1,  A17C,    40,  1,      9,      9,2,19940120,1954,-36.4202, -44.6132, 4984,   3599.2,   1.4420,  34.7580,2,  34.7550,2,    213.9,2,    213.6,2,    99.40,2,    30.32,2,     2.04,2,    0.054,2,    0.037,2, -999.000,9,-999.0000,9,  -999.00,9,   -999.0,9,   -999.0,9,     7.91,2,  1.1670
 3230CITHER2_1,  A17C,    40,  1,      8,      8,2,19940120,1954,-36.4202, -44.6132, 4984,   3798.1,   1.0940,  34.7260,2,  34.7270,2,    210.4,2,    211.0,2,   111.90,2,    31.62,2,     2.14,2,    0.081,2,    0.050,2, -999.000,9,-999.0000,9,  -999.00,9,   -999.0,9,   -999.0,9,     7.89,2,  0.8080
 3230CITHER2_1,  A17C,    40,  1,      7,      7,2,19940120,1954,-36.4202, -44.6132, 4984,   3998.9,   0.7910,  34.7050,2,  34.7080,2,    212.1,2,    212.8,2,   119.70,2,    32.21,2,     2.21,2,    0.105,2,    0.061,2, -999.000,9,-999.0000,9,  -999.00,9,   -999.0,9,   -999.0,9,     7.88,2,  0.4920
 3230CITHER2_1,  A17C,    40,  1,      6,      6,2,19940120,1954,-36.4202, -44.6132, 4984,   4198.3,   0.5590,  34.6910,2,  34.6930,2,    215.3,2,    216.1,2,   124.10,2,    32.76,2,     2.25,2,    0.103,2,    0.060,2, -999.000,9,-999.0000,9,  -999.00,9,   -999.0,9,   -999.0,9,     7.88,2,  0.2460
 3230CITHER2_1,  A17C,    40,  1,      5,      5,2,19940120,1954,-36.4202, -44.6132, 4984,   4398.4,   0.4120,  34.6840,2,  34.6840,2,    218.1,2,    218.6,2,   127.60,2,    33.31,2,     2.26,2,    0.101,2,    0.064,2, -999.000,9,-999.0000,9,  -999.00,9,   -999.0,9,   -999.0,9,     7.87,2,  0.0820
 3230CITHER2_1,  A17C,    40,  1,      4,      4,2,19940120,1954,-36.4202, -44.6132, 4984,   4599.3,   0.3080,  34.6780,2,  34.6780,2,    220.6,2,    221.5,2,   129.60,2,    33.46,2,     2.27,2,    0.103,2,    0.067,2, -999.000,9,-999.0000,9,  -999.00,9,   -999.0,9,   -999.0,9,     7.86,2, -0.0400
 3230CITHER2_1,  A17C,    40,  1,      3,      3,2,19940120,1954,-36.4202, -44.6132, 4984,   4799.2,   0.2480,  34.6730,2,  34.6750,2,    222.6,2,    222.8,2,   130.40,2,    33.41,2,     2.29,2,    0.117,2,    0.071,2, -999.000,9,-999.0000,9,  -999.00,9,   -999.0,9,   -999.0,9,     7.87,2, -0.1210
 3230CITHER2_1,  A17C,    40,  1,      2,      2,2,19940120,1954,-36.4202, -44.6132, 4984,   4999.5,   0.2240,  34.6710,2,  34.6720,2,    223.0,2,    222.4,2,   132.20,2,    33.41,2,     2.30,2,    0.151,2,    0.091,2, -999.000,9,-999.0000,9,  -999.00,9,   -999.0,9,   -999.0,9,     7.87,2, -0.1670
 3230CITHER2_1,  A17C,    40,  1,      1,      1,2,19940120,1954,-36.4202, -44.6132, 4984,   5047.1,   0.2290,  34.6720,2,  34.6720,2,    223.0,2,    222.8,2,   132.40,2,    33.51,2,     2.32,2,    0.147,2,    0.088,2, -999.000,9,-999.0000,9,  -999.00,9,   -999.0,9,   -999.0,9,     7.87,2, -0.1670
 3230CITHER2_1,  A17C,    41,  1,     32,     32,2,19940121,0200,-36.0022, -44.2502, 4905,      3.4,  21.5060,  35.5900,2,  35.5920,2,    221.5,2,    223.9,2,     1.80,2,     0.04,2,     0.08,2,    2.294,2,    1.327,2,    1.166,2,   1.8400,2,    -1.07,2,   -999.0,9,   -999.0,9,     8.34,2, 21.5050
 3230CITHER2_1,  A17C,    41,  1,     31,     31,2,19940121,0200,-36.0022, -44.2502, 4905,     25.3,  21.4100,  35.5740,2,  35.5830,2,    220.8,2,    223.8,2,     1.70,2,     0.04,2,     0.08,2,    2.287,2,    1.303,2,    1.216,2,   1.7000,2,    -1.01,2,   -999.0,9,   -999.0,9,     8.34,2, 21.4050
 3230CITHER2_1,  A17C,    41,  1,     30,     30,2,19940121,0200,-36.0022, -44.2502, 4905,     80.9,  18.1610,  36.0210,2,  36.0060,2,    205.0,2,    199.7,2,     2.20,2,     3.35,2,     0.33,2,    2.412,2,    1.355,2, -999.000,9,   1.7100,2,    -1.58,2,   -999.0,9,   -999.0,9,     8.25,2, 18.1470
 3230CITHER2_1,  A17C,    41,  1,     29,     29,2,19940121,0200,-36.0022, -44.2502, 4905,    201.5,  15.5550,  35.6720,2,  35.6710,2,    211.6,2,    209.4,2,     2.60,2,     6.04,2,     0.49,2,    2.557,2,    1.408,2,    0.938,2,   1.7300,2,    -0.83,2,   -999.0,9,   -999.0,9,     8.21,2, 15.5240
 3230CITHER2_1,  A17C,    41,  1,     28,     28,2,19940121,0200,-36.0022, -44.2502, 4905,    301.1,  13.9970,  35.4510,2,  35.4450,2,    222.8,2,    219.4,2,     2.90,2,     8.21,2,     0.63,2,    2.726,2,    1.490,2,    0.881,2,   1.6800,2,    -0.41,2,   -999.0,9,   -999.0,9,     8.19,2, 13.9530
 3230CITHER2_1,  A17C,    41,  1,     27,     27,2,19940121,0200,-36.0022, -44.2502, 4905,    401.1,  10.4010,  34.8100,2,  34.7940,2,    218.1,2,    222.2,2,     5.60,2,    16.21,2,     1.15,2,    2.762,2,    1.467,2,    0.575,2,   1.7500,2,    -1.20,2,   -999.0,9,   -999.0,9,     8.09,2, 10.3530
 3230CITHER2_1,  A17C,    41,  1,     25,     25,2,19940121,0200,-36.0022, -44.2502, 4905,    471.7,   7.3530,  34.2950,2,  34.2980,2,    256.0,2,    258.8,2,     5.60,2,    18.90,2,     1.37,2,    4.040,2,    2.046,2,    0.445,2,   1.7500,2,    -1.86,2,   -999.0,9,   -999.0,9,     8.06,2,  7.3070
 3230CITHER2_1,  A17C,    41,  1,     26,     26,2,19940121,0200,-36.0022, -44.2502, 4905,    473.8,   7.3530,  34.2960,2,  34.2950,2,    256.0,2,    259.7,2,     5.50,2,    18.90,2,     1.37,2,    4.052,2,    2.063,2, -999.000,9,   1.7600,2,    -1.65,2,   -999.0,9,   -999.0,9,     8.06,2,  7.3070
 3230CITHER2_1,  A17C,    41,  1,     24,     24,2,19940121,0200,-36.0022, -44.2502, 4905,    601.1,   6.1300,  34.3260,2,  34.3250,2,    248.8,2,    248.7,2,    10.70,2,    23.79,2,     1.65,2,    3.414,2,    1.721,2,    0.467,2,   1.7900,2,    -1.30,2,   -999.0,9,   -999.0,9,     8.00,2,  6.0770
 3230CITHER2_1,  A17C,    41,  1,     23,     23,2,19940121,0200,-36.0022, -44.2502, 4905,    681.1,   4.9460,  34.2110,2,  34.2200,2,    270.1,2,    269.4,2,    11.80,2,    24.85,2,     1.71,2,    4.103,2,    2.020,2,    0.353,2,   1.7900,2,    -1.37,2,   -999.0,9,   -999.0,9,     8.00,2,  4.8910
 3230CITHER2_1,  A17C,    41,  1,     22,     22,2,19940121,0200,-36.0022, -44.2502, 4905,    800.9,   4.4400,  34.2190,2,  34.2190,2,    264.0,2,    262.6,2,    16.00,2,    27.05,2,     1.84,2,    3.474,2,    1.747,2, -999.000,9,   1.8000,2,    -1.34,2,   -999.0,9,   -999.0,9,     7.98,2,  4.3780
 3230CITHER2_1,  A17C,    41,  1,     21,     21,2,19940121,0200,-36.0022, -44.2502, 4905,   1000.8,   3.7480,  34.2710,2,  34.2690,2,    236.4,2,    235.7,2,    27.90,2,    30.58,2,     2.08,2,    1.613,2,    0.844,2, -999.000,9,   1.8100,2,    -1.06,2,   -999.0,9,   -999.0,9,     7.93,2,  3.6750
 3230CITHER2_1,  A17C,    41,  1,     20,     20,2,19940121,0200,-36.0022, -44.2502, 4905,   1200.8,   3.1970,  34.3470,2,  34.3440,2,    211.7,2,    210.9,2,    42.10,2,    32.63,2,     2.22,2,    0.830,2,    0.453,2,    0.197,2,   1.7600,2,     2.80,2,   -999.0,9,   -999.0,9,     7.89,2,  3.1120
 3230CITHER2_1,  A17C,    41,  1,     19,     19,2,19940121,0200,-36.0022, -44.2502, 4905,   1399.6,   2.9090,  34.4460,2,  34.4520,2,    191.5,2,    193.2,2,    53.60,2,    33.22,2,     2.28,2,    0.464,2,    0.255,2,    0.070,2,   1.8100,2,     2.77,2,   -999.0,9,   -999.0,9,     7.88,2,  2.8110
 3230CITHER2_1,  A17C,    41,  1,     18,     18,2,19940121,0200,-36.0022, -44.2502, 4905,   1599.6,   2.8830,  34.5770,2,  34.5750,2,    184.5,2,    186.9,2,    60.40,2,    32.68,2,     2.23,2,    0.218,2,    0.121,2, -999.000,9,-999.0000,9,  -999.00,9,   -999.0,9,   -999.0,9,     7.87,2,  2.7680
 3230CITHER2_1,  A17C,    41,  1,     17,     17,2,19940121,0200,-36.0022, -44.2502, 4905,   1799.3,   2.9810,  34.6840,2,  34.6860,2,    190.2,2,    189.7,2,    58.60,2,    31.01,2,     2.09,2,    0.113,2,    0.072,2, -999.000,9,   1.7600,2,     5.79,2,   -999.0,9,   -999.0,9,     7.89,2,  2.8470
 3230CITHER2_1,  A17C,    41,  1,     16,     16,2,19940121,0200,-36.0022, -44.2502, 4905,   1999.3,   3.1810,  34.7980,2,  34.7970,2,    207.1,2,    208.2,2,    48.80,2,    27.40,2,     1.84,2,    0.056,2,    0.038,2, -999.000,9,-999.0000,9,  -999.00,9,   -999.0,9,   -999.0,9,     7.93,2,  3.0260
 3230CITHER2_1,  A17C,    41,  1,     15,     15,2,19940121,0200,-36.0022, -44.2502, 4905,   2198.4,   3.1870,  34.8540,2,  34.8540,2,    218.8,2,    220.5,2,    43.90,2,    25.26,2,     1.69,2,    0.035,2,    0.021,2, -999.000,9,   1.7500,2,     4.58,2,   -999.0,9,   -999.0,9,     7.96,2,  3.0130
 3230CITHER2_1,  A17C,    41,  1,     14,     14,2,19940121,0200,-36.0022, -44.2502, 4905,   2398.5,   3.1660,  34.8970,2,  34.8950,2,    233.3,2,    233.9,2,    38.30,2,    23.20,2,     1.55,2,    0.030,2,    0.027,2, -999.000,9,-999.0000,9,  -999.00,9,   -999.0,9,   -999.0,9,     7.98,2,  2.9730
 3230CITHER2_1,  A17C,    41,  1,     13,     13,2,19940121,0200,-36.0022, -44.2502, 4905,   2599.3,   2.9510,  34.8910,2,  34.8890,2,    228.3,2,    234.8,2,    42.00,2,    23.44,2,     1.56,2,    0.025,2,    0.025,2, -999.000,9,   1.8000,2,     4.99,2,   -999.0,9,   -999.0,9,     7.98,2,  2.7420
 3230CITHER2_1,  A17C,    41,  1,     12,     12,2,19940121,0200,-36.0022, -44.2502, 4905,   2798.8,   2.6920,  34.8700,2,  34.8700,2,    237.0,2,    232.3,2,    50.10,2,    24.31,2,     1.63,2,    0.021,2,    0.025,2, -999.000,9,-999.0000,9,  -999.00,9,   -999.0,9,   -999.0,9,     7.96,2,  2.4690
 3230CITHER2_1,  A17C,    41,  1,     11,     11,2,19940121,0200,-36.0022, -44.2502, 4905,   3000.2,   2.5010,  34.8590,2,  34.8620,2,    231.0,2,    230.8,2,    54.70,2,    24.61,2,     1.66,2,    0.019,2,    0.015,2, -999.000,9,   1.7900,2,     4.60,2,   -999.0,9,   -999.0,9,     7.96,2,  2.2610
 3230CITHER2_1,  A17C,    41,  1,     10,     10,2,19940121,0200,-36.0022, -44.2502, 4905,   3199.3,   2.0500,  34.8090,2,  34.8070,2,    223.0,2,    219.6,2,    76.70,2,    27.65,2,     1.86,2,    0.032,2,    0.038,2, -999.000,9,-999.0000,9,  -999.00,9,   -999.0,9,   -999.0,9,     7.93,2,  1.8010
 3230CITHER2_1,  A17C,    41,  1,      9,      9,2,19940121,0200,-36.0022, -44.2502, 4905,   3400.3,   1.5370,  34.7570,2,  34.7560,2,    210.4,2,    210.6,2,    99.60,2,    30.59,2,     2.07,2,    0.057,2,    0.037,2, -999.000,9,   1.8200,2,     6.33,2,   -999.0,9,   -999.0,9,     7.91,2,  1.2800
 3230CITHER2_1,  A17C,    41,  1,      8,      8,2,19940121,0200,-36.0022, -44.2502, 4905,   3599.7,   1.2310,  34.7340,2,-999.0000,5,    207.6,2,    208.7,2,    99.60,2,    30.44,2,     2.07,2,    0.076,2,    0.043,2, -999.000,9,-999.0000,9,  -999.00,9,   -999.0,9,   -999.0,9,     7.91,2,  0.9610
 3230CITHER2_1,  A17C,    41,  1,      7,      7,2,19940121,0200,-36.0022, -44.2502, 4905,   3799.7,   0.9420,  34.7130,2,  34.7150,2,    209.8,2,    210.2,2,   117.20,2,    32.14,2,     2.20,2,    0.107,2,    0.075,2, -999.000,9,   1.8100,2,     6.85,2,   -999.0,9,   -999.0,9,     7.88,2,  0.6600
 3230CITHER2_1,  A17C,    41,  1,      6,      6,2,19940121,0200,-36.0022, -44.2502, 4905,   3998.8,   0.6860,  34.7010,2,  34.7000,2,    213.9,2,    215.2,2,   122.40,2,    32.73,2,     2.24,2,    0.100,2,    0.069,2, -999.000,9,-999.0000,9,  -999.00,9,   -999.0,9,   -999.0,9,     7.89,2,  0.3900
 3230CITHER2_1,  A17C,    41,  1,      5,      5,2,19940121,0200,-36.0022, -44.2502, 4905,   4199.5,   0.4410,  34.6860,2,  34.6860,2,    217.5,2,    218.0,2,   126.70,2,    33.18,2,     2.27,2,    0.106,2,    0.064,2, -999.000,9,-999.0000,9,  -999.00,9,   -999.0,9,   -999.0,9,     7.89,2,  0.1310
 3230CITHER2_1,  A17C,    41,  1,      4,      4,2,19940121,0200,-36.0022, -44.2502, 4905,   4399.5,   0.2960,  34.6790,2,  34.6770,2,    220.6,2,    221.3,2,   128.40,2,    33.03,2,     2.28,2,    0.108,2,    0.067,2, -999.000,9,   1.7700,2,     8.14,2,   -999.0,9,   -999.0,9,     7.89,2, -0.0300
 3230CITHER2_1,  A17C,    41,  1,      3,      3,2,19940121,0200,-36.0022, -44.2502, 4905,   4599.2,   0.2440,  34.6740,2,  34.6790,2,    222.4,2,    222.0,2,   129.80,2,    33.28,2,     2.29,2,    0.115,2,    0.071,2, -999.000,9,-999.0000,9,  -999.00,9,   -999.0,9,   -999.0,9,     7.89,2, -0.1020
 3230CITHER2_1,  A17C,    41,  1,      2,      2,2,19940121,0200,-36.0022, -44.2502, 4905,   4798.2,   0.2110,  34.6720,2,  34.6770,2,    223.5,2,    224.0,2,   131.20,2,    33.29,2,     2.30,2,    0.142,2,    0.082,2, -999.000,9,-999.0000,9,  -999.00,9,   -999.0,9,   -999.0,9,     7.89,2, -0.1560
 3230CITHER2_1,  A17C,    41,  1,      1,      1,2,19940121,0200,-36.0022, -44.2502, 4905,   4953.9,   0.2160,  34.6730,2,  34.6750,2,    220.8,2,    222.7,2,   132.00,2,    33.63,2,     2.31,2,    0.145,2,    0.082,2, -999.000,9,   1.8200,2,     6.26,2,   -999.0,9,   -999.0,9,     7.88,2, -0.1690