BOTTLE,20030515WHPSIOSA
EXPOCODE,SECT_ID,STNNBR,CASTNO,SAMPNO,BTLNBR,BTLNBR_FLAG_W,DATE,TIME,LATITUDE,LONGITUDE,DEPTH,CTDPRS,CTDTMP,CTDSAL,CTDSAL_FLAG_W,SALNTY,SALNTY_FLAG_W,CTDOXY,CTDOXY_FLAG_W,OXYGEN,OXYGEN_FLAG_W,SILCAT,SILCAT_FLAG_W,NITRAT,NITRAT_FLAG_W,PHSPHT,PHSPHT_FLAG_W,CFC-11,CFC-11_FLAG_W,CFC-12,CFC-12_FLAG_W,TRITUM,TRITUM_FLAG_W,HELIUM,HELIUM_FLAG_W,DELHE3,DELHE3_FLAG_W,TCARBN,TCARBN_FLAG_W,ALKALI,ALKALI_FLAG_W,PH,PH_FLAG_W,THETA
,,,,,,,,,,,,DBAR,ITS-90,PSS-78,,PSS-78,,UMOL/KG,,UMOL/KG,,UMOL/KG,,UMOL/KG,,UMOL/KG,,PMOL/KG,,PMOL/KG,,TU,,NMOL/KG,,PERCNT,,UMOL/KG,,UMOL/KG,,,,DEG C
 3230CITHER2_1,  A17C,    28,  1,     32,     32,2,19940117,1107,-41.4262, -48.8862, 5574,      9.9,  16.2190,  34.6130,2,  34.6200,2,    252.2,2,    253.8,2,     0.50,2,     0.43,2,     0.27,2,    3.028,2,    1.639,2, -999.000,9,-999.0000,9,  -999.00,9,   2010.2,2,   -999.0,9,     8.29,2, 16.2170
 3230CITHER2_1,  A17C,    28,  1,     31,     31,2,19940117,1107,-41.4262, -48.8862, 5574,     41.9,  16.0700,  34.6150,2,  34.6140,2,    252.0,2,    252.2,2,     0.50,2,     0.51,2,     0.28,2,    3.081,2,    1.673,2, -999.000,9,-999.0000,9,  -999.00,9,   2022.0,2,   -999.0,9,     8.29,2, 16.0630
 3230CITHER2_1,  A17C,    28,  1,     30,     30,2,19940117,1107,-41.4262, -48.8862, 5574,    100.5,   8.0370,  34.4190,2,  34.4390,2,    259.7,2,    268.2,2,     4.00,2,    17.45,2,     1.22,2,    4.254,2,    2.157,2, -999.000,9,-999.0000,9,  -999.00,9,   2108.8,2,   -999.0,9,     8.09,2,  8.0270
 3230CITHER2_1,  A17C,    28,  1,     29,     29,2,19940117,1107,-41.4262, -48.8862, 5574,    200.7,   5.4890,  34.2160,2,  34.2210,2,    266.7,2,    274.8,2,     8.00,2,    23.17,2,     1.59,2,    4.460,2,    2.239,2, -999.000,9,-999.0000,9,  -999.00,9,   2131.0,2,   -999.0,9,     8.01,2,  5.4730
 3230CITHER2_1,  A17C,    28,  1,     28,     28,2,19940117,1107,-41.4262, -48.8862, 5574,    300.3,   4.7830,  34.1950,2,  34.1940,2,    277.3,2,    276.0,2,    10.80,2,    25.37,2,     1.72,2,    4.290,2,    2.151,2, -999.000,9,-999.0000,9,  -999.00,9,   -999.0,9,   -999.0,9,     7.99,2,  4.7600
 3230CITHER2_1,  A17C,    28,  1,     27,     27,2,19940117,1107,-41.4262, -48.8862, 5574,    401.6,   4.3310,  34.1880,2,  34.1870,2,    270.4,2,    269.5,2,    14.30,2,    26.83,2,     1.83,2,    3.962,2,    1.987,2, -999.000,9,-999.0000,9,  -999.00,9,   -999.0,9,   -999.0,9,     7.97,2,  4.3020
 3230CITHER2_1,  A17C,    28,  1,     26,     26,2,19940117,1107,-41.4262, -48.8862, 5574,    601.5,   3.4360,  34.2030,2,  34.2010,2,    255.6,2,    253.5,2,    24.70,2,    30.25,2,     2.04,2,    3.148,2,    1.578,2, -999.000,9,-999.0000,9,  -999.00,9,   -999.0,9,   -999.0,9,     7.93,2,  3.3950
 3230CITHER2_1,  A17C,    28,  1,     25,     25,2,19940117,1107,-41.4262, -48.8862, 5574,    801.3,   2.9500,  34.2550,2,  34.2560,2,    234.5,2,    233.8,2,    36.10,2,    32.36,2,     2.19,2,    2.284,2,    1.133,2, -999.000,9,-999.0000,9,  -999.00,9,   -999.0,9,   -999.0,9,     7.89,2,  2.8980
 3230CITHER2_1,  A17C,    28,  1,     24,     24,2,19940117,1107,-41.4262, -48.8862, 5574,   1003.0,   2.6970,  34.3540,2,  34.3530,2,    205.8,2,    207.0,2,    51.00,2,    34.22,2,     2.32,2,    1.359,2,    0.698,2, -999.000,9,-999.0000,9,  -999.00,9,   -999.0,9,   -999.0,9,     7.86,2,  2.6320
 3230CITHER2_1,  A17C,    28,  1,     23,     23,2,19940117,1107,-41.4262, -48.8862, 5574,   1302.4,   2.6380,  34.5220,2,  34.5220,2,    181.9,2,    183.5,2,    65.50,2,    34.53,2,     2.35,2,    0.453,2,    0.243,2, -999.000,9,-999.0000,9,  -999.00,9,   -999.0,9,   -999.0,9,     7.84,2,  2.5500
 3230CITHER2_1,  A17C,    28,  1,     22,     22,2,19940117,1107,-41.4262, -48.8862, 5574,   1597.7,   2.7340,  34.6560,2,  34.6580,2,    182.3,2,    183.8,2,    66.90,2,    32.63,2,     2.21,2,    0.179,2,    0.106,2, -999.000,9,-999.0000,9,  -999.00,9,   -999.0,9,   -999.0,9,     7.86,2,  2.6210
 3230CITHER2_1,  A17C,    28,  1,     21,     21,2,19940117,1107,-41.4262, -48.8862, 5574,   1799.1,   2.9020,  34.7440,2,  34.7420,2,    194.1,2,    196.3,2,    59.10,2,    30.35,2,     2.03,2,    0.096,2,    0.063,2, -999.000,9,-999.0000,9,  -999.00,9,   -999.0,9,   -999.0,9,     7.88,2,  2.7690
 3230CITHER2_1,  A17C,    28,  1,     20,     20,2,19940117,1107,-41.4262, -48.8862, 5574,   1998.9,   2.9270,  34.7970,2,  34.7960,2,    204.0,2,    206.2,2,    55.90,2,    28.27,2,     1.89,2,    0.063,2,    0.052,2, -999.000,9,-999.0000,9,  -999.00,9,   -999.0,9,   -999.0,9,     7.91,2,  2.7760
 3230CITHER2_1,  A17C,    28,  1,     19,     19,2,19940117,1107,-41.4262, -48.8862, 5574,   2200.0,   2.8100,  34.8220,2,  34.8220,2,    208.9,2,    213.2,2,    56.80,2,    27.67,2,     1.82,2,    0.048,2,    0.040,2, -999.000,9,-999.0000,9,  -999.00,9,   -999.0,9,   -999.0,9,     7.92,2,  2.6420
 3230CITHER2_1,  A17C,    28,  1,     18,     18,2,19940117,1107,-41.4262, -48.8862, 5574,   2400.6,   2.6460,  34.8280,2,  34.8260,2,    214.3,2,    215.2,2,    60.20,2,    27.43,2,     1.81,2,    0.037,2,    0.030,2, -999.000,9,-999.0000,9,  -999.00,9,   -999.0,9,   -999.0,9,     7.93,2,  2.4620
 3230CITHER2_1,  A17C,    28,  1,     17,     17,2,19940117,1107,-41.4262, -48.8862, 5574,   2601.9,   2.4890,  34.8250,2,  34.8270,2,    216.3,2,    217.1,2,    63.50,2,    27.38,2,     1.81,2,    0.033,2,    0.027,2, -999.000,9,-999.0000,9,  -999.00,9,   -999.0,9,   -999.0,9,     7.93,2,  2.2890
 3230CITHER2_1,  A17C,    28,  1,     16,     16,2,19940117,1107,-41.4262, -48.8862, 5574,   2799.7,   2.2350,  34.8070,2,  34.8070,2,    213.2,2,    213.8,2,    73.10,2,    28.29,2,     1.88,2,    0.038,2,    0.034,2, -999.000,9,-999.0000,9,  -999.00,9,   -999.0,9,   -999.0,9,     7.92,2,  2.0210
 3230CITHER2_1,  A17C,    28,  1,     15,     15,2,19940117,1107,-41.4262, -48.8862, 5574,   3000.5,   1.9680,  34.7820,2,  34.7830,2,    209.6,2,    208.9,2,    84.20,2,    29.61,2,     1.98,2,    0.040,2,    0.032,2, -999.000,9,-999.0000,9,  -999.00,9,   -999.0,9,   -999.0,9,     7.91,2,  1.7400
 3230CITHER2_1,  A17C,    28,  1,     14,     14,2,19940117,1107,-41.4262, -48.8862, 5574,   3298.8,   1.5360,  34.7480,2,  34.7470,2,    204.3,2,    205.8,2,   101.20,2,    31.22,2,     2.12,2,    0.064,2,    0.044,2, -999.000,9,-999.0000,9,  -999.00,9,   -999.0,9,   -999.0,9,     7.89,2,  1.2890
 3230CITHER2_1,  A17C,    28,  1,     13,     13,2,19940117,1107,-41.4262, -48.8862, 5574,   3598.5,   1.1730,  34.7240,2,  34.7250,2,    205.4,2,    206.6,2,   112.30,2,    32.53,2,     2.19,2,    0.092,2,    0.059,2, -999.000,9,-999.0000,9,  -999.00,9,   -999.0,9,   -999.0,9,     7.88,2,  0.9050
 3230CITHER2_1,  A17C,    28,  1,     12,     12,2,19940117,1107,-41.4262, -48.8862, 5574,   3800.0,   1.0000,  34.7140,2,  34.7140,2,    207.6,2,    209.5,2,   116.30,2,    32.74,2,     2.21,2,    0.109,2,    0.060,2, -999.000,9,-999.0000,9,  -999.00,9,   -999.0,9,   -999.0,9,     7.87,2,  0.7160
 3230CITHER2_1,  A17C,    28,  1,     11,     11,2,19940117,1107,-41.4262, -48.8862, 5574,   3999.2,   0.7710,  34.7020,2,  34.7000,2,    210.2,2,    212.3,2,   120.50,2,    33.15,2,     2.25,2,    0.122,2,    0.074,2, -999.000,9,-999.0000,9,  -999.00,9,   -999.0,9,   -999.0,9,     7.87,2,  0.4730
 3230CITHER2_1,  A17C,    28,  1,      9,      9,2,19940117,1107,-41.4262, -48.8862, 5574,   4198.3,   0.5860,  34.6900,2,  34.6930,2,    213.6,2,    216.1,2,   123.70,2,    33.62,2,     2.27,2,    0.129,2,    0.084,2, -999.000,9,-999.0000,9,  -999.00,9,   -999.0,9,   -999.0,9,     7.87,2,  0.2720
 3230CITHER2_1,  A17C,    28,  1,     10,     10,2,19940117,1107,-41.4262, -48.8862, 5574,   4198.5,   0.5880,  34.6910,2,  34.6890,2,    213.6,2,    215.9,2,   123.80,2,    33.56,2,     2.27,2,    0.129,2,    0.065,2, -999.000,9,-999.0000,9,  -999.00,9,   -999.0,9,   -999.0,9,     7.87,2,  0.2740
 3230CITHER2_1,  A17C,    28,  1,      8,      8,2,19940117,1107,-41.4262, -48.8862, 5574,   4398.0,   0.4520,  34.6830,2,  34.6830,2,    216.4,2,    218.3,2,   125.60,2,    33.67,2,     2.29,2,    0.132,2,    0.085,2, -999.000,9,-999.0000,9,  -999.00,9,   -999.0,9,   -999.0,9,     7.87,2,  0.1210
 3230CITHER2_1,  A17C,    28,  1,      7,      7,2,19940117,1107,-41.4262, -48.8862, 5574,   4598.8,   0.3580,  34.6790,2,  34.6780,2,    219.2,2,    220.5,2,   127.00,2,    33.63,2,     2.30,2,    0.130,2,    0.083,2, -999.000,9,-999.0000,9,  -999.00,9,   -999.0,9,   -999.0,9,     7.87,2,  0.0080
 3230CITHER2_1,  A17C,    28,  1,      6,      6,2,19940117,1107,-41.4262, -48.8862, 5574,   4797.0,   0.3070,  34.6750,2,  34.6760,2,    220.6,2,    222.1,2,   128.60,2,    33.64,2,     2.30,2,    0.132,2,    0.084,2, -999.000,9,-999.0000,9,  -999.00,9,   -999.0,9,   -999.0,9,     7.87,2, -0.0630
 3230CITHER2_1,  A17C,    28,  1,      5,      5,2,19940117,1107,-41.4262, -48.8862, 5574,   4997.8,   0.2780,  34.6740,2,  34.6720,2,    222.4,2,    222.8,2,   129.30,2,    33.59,2,     2.31,2,    0.146,2,    0.092,2, -999.000,9,-999.0000,9,  -999.00,9,   -999.0,9,   -999.0,9,     7.87,2, -0.1140
 3230CITHER2_1,  A17C,    28,  1,      4,      4,2,19940117,1107,-41.4262, -48.8862, 5574,   5197.9,   0.2690,  34.6710,2,  34.6720,2,    223.1,2,    223.6,2,   130.30,2,    33.80,2,     2.32,2,    0.160,2,    0.093,2, -999.000,9,-999.0000,9,  -999.00,9,   -999.0,9,   -999.0,9,     7.87,2, -0.1460
 3230CITHER2_1,  A17C,    28,  1,      3,      3,2,19940117,1107,-41.4262, -48.8862, 5574,   5397.5,   0.2720,  34.6700,2,  34.6730,2,    223.0,2,    223.6,2,   130.90,2,    33.81,2,     2.32,2,    0.167,2,    0.101,2, -999.000,9,-999.0000,9,  -999.00,9,   -999.0,9,   -999.0,9,     7.87,2, -0.1670
 3230CITHER2_1,  A17C,    28,  1,      2,      2,2,19940117,1107,-41.4262, -48.8862, 5574,   5597.5,   0.2840,  34.6700,2,  34.6710,2,    223.3,2,    223.8,2,   131.50,2,    33.92,2,     2.33,2,    0.192,2,    0.115,2, -999.000,9,-999.0000,9,  -999.00,9,   -999.0,9,   -999.0,9,     7.87,2, -0.1800
 3230CITHER2_1,  A17C,    28,  1,      1,      1,2,19940117,1107,-41.4262, -48.8862, 5574,   5665.1,   0.2920,  34.6710,2,  34.6720,2,    223.5,2,    224.0,2,   131.50,2,    33.93,2,     2.33,2,    0.189,2,    0.116,2, -999.000,9,-999.0000,9,  -999.00,9,   -999.0,9,   -999.0,9,     7.87,2, -0.1800
 3230CITHER2_1,  A17C,    29,  1,     32,     32,2,19940117,1815,-41.0137, -48.5295, 5443,      4.3,  16.5530,  34.6440,2,  34.6450,2,    249.5,2,    253.7,2,     0.70,2,     0.24,2,     0.25,2,    2.992,2,    1.707,2, -999.000,9,-999.0000,9,  -999.00,9,   -999.0,9,   -999.0,9,     8.29,2, 16.5520
 3230CITHER2_1,  A17C,    29,  1,     31,     31,2,19940117,1815,-41.0137, -48.5295, 5443,     36.2,  15.5430,  34.7300,2,  34.6720,2,    259.0,2,    255.4,2,     0.50,2,     1.42,2,     0.34,2,    3.187,2,    1.741,2, -999.000,9,-999.0000,9,  -999.00,9,   -999.0,9,   -999.0,9,     8.27,2, 15.5370
 3230CITHER2_1,  A17C,    29,  1,     30,     30,2,19940117,1815,-41.0137, -48.5295, 5443,     99.1,   9.5370,  34.6700,2,  34.6620,2,    246.9,2,    249.3,2,     3.80,2,    15.75,2,     1.12,2,    3.753,2,    1.975,2, -999.000,9,-999.0000,9,  -999.00,9,   -999.0,9,   -999.0,9,     8.09,2,  9.5260
 3230CITHER2_1,  A17C,    29,  1,     29,     29,2,19940117,1815,-41.0137, -48.5295, 5443,    201.6,   6.4110,  34.3060,2,  34.3120,2,    259.9,2,    258.8,2,     7.50,2,    22.41,2,     1.61,2,    4.001,2,    2.038,2, -999.000,9,-999.0000,9,  -999.00,9,   -999.0,9,   -999.0,9,     8.02,2,  6.3930
 3230CITHER2_1,  A17C,    29,  1,     28,     28,2,19940117,1815,-41.0137, -48.5295, 5443,    331.9,   4.8110,  34.1920,2,  34.1920,2,    277.9,2,    276.8,2,    10.50,2,    25.36,2,     1.72,2,    4.374,2,    2.207,2, -999.000,9,-999.0000,9,  -999.00,9,   -999.0,9,   -999.0,9,     7.99,2,  4.7860
 3230CITHER2_1,  A17C,    29,  1,     27,     27,2,19940117,1815,-41.0137, -48.5295, 5443,    399.3,   4.5820,  34.1930,2,  34.1920,2,    273.9,2,    272.1,2,    12.50,2,    26.02,2,     1.78,2,    4.116,2,    2.080,2, -999.000,9,-999.0000,9,  -999.00,9,   -999.0,9,   -999.0,9,     7.98,2,  4.5520
 3230CITHER2_1,  A17C,    29,  1,     26,     26,2,19940117,1815,-41.0137, -48.5295, 5443,    600.2,   3.7090,  34.1980,2,  34.2000,2,    261.8,2,    258.1,2,    21.70,2,    29.71,2,     2.01,2,    3.315,2,    1.687,2, -999.000,9,-999.0000,9,  -999.00,9,   -999.0,9,   -999.0,9,     7.94,2,  3.6670
 3230CITHER2_1,  A17C,    29,  1,     25,     25,2,19940117,1815,-41.0137, -48.5295, 5443,    800.8,   3.0500,  34.2430,2,  34.2430,2,    238.2,2,    238.3,2,    33.90,2,    32.19,2,     2.19,2,    2.459,2,    1.253,2, -999.000,9,-999.0000,9,  -999.00,9,   -999.0,9,   -999.0,9,     7.90,2,  2.9970
 3230CITHER2_1,  A17C,    29,  1,     24,     24,2,19940117,1815,-41.0137, -48.5295, 5443,    997.8,   2.7510,  34.3500,2,  34.3510,2,    210.8,2,    209.3,2,    48.60,2,    34.21,2,     2.32,2,    1.351,2,    0.705,2, -999.000,9,-999.0000,9,  -999.00,9,   -999.0,9,   -999.0,9,     7.86,2,  2.6850
 3230CITHER2_1,  A17C,    29,  1,     23,     23,2,19940117,1815,-41.0137, -48.5295, 5443,   1201.5,   2.6190,  34.4630,2,  34.4650,2,    188.4,2,    187.8,2,    62.00,2,    35.07,2,     2.38,2,    0.713,2,    0.383,2, -999.000,9,-999.0000,9,  -999.00,9,   -999.0,9,   -999.0,9,     7.84,2,  2.5390
 3230CITHER2_1,  A17C,    29,  1,     22,     22,2,19940117,1815,-41.0137, -48.5295, 5443,   1400.1,   2.6680,  34.5720,2,  34.5710,2,    180.2,2,    180.5,2,    67.00,2,    34.36,2,     2.32,2,    0.320,2,    0.172,2, -999.000,9,-999.0000,9,  -999.00,9,   -999.0,9,   -999.0,9,     7.83,2,  2.5720
 3230CITHER2_1,  A17C,    29,  1,     21,     21,2,19940117,1815,-41.0137, -48.5295, 5443,   1600.2,   2.7200,  34.6580,2,  34.6570,2,    182.6,2,    183.3,2,    67.20,2,    32.85,2,     2.22,2,    0.178,2,    0.091,2, -999.000,9,-999.0000,9,  -999.00,9,   -999.0,9,   -999.0,9,     7.85,2,  2.6070
 3230CITHER2_1,  A17C,    29,  1,     20,     20,2,19940117,1815,-41.0137, -48.5295, 5443,   1798.2,   2.6740,  34.7080,2,  34.7060,2,    185.9,2,    187.0,2,    68.90,2,    31.64,2,     2.15,2,    0.120,2,    0.075,2, -999.000,9,-999.0000,9,  -999.00,9,   -999.0,9,   -999.0,9,     7.87,2,  2.5450
 3230CITHER2_1,  A17C,    29,  1,     19,     19,2,19940117,1815,-41.0137, -48.5295, 5443,   2001.5,   2.8450,  34.7900,2,  34.7880,2,    203.2,2,    203.3,2,    58.50,2,    28.61,2,     1.93,2,    0.066,2,    0.048,2, -999.000,9,-999.0000,9,  -999.00,9,   -999.0,9,   -999.0,9,     7.91,2,  2.6950
 3230CITHER2_1,  A17C,    29,  1,     18,     18,2,19940117,1815,-41.0137, -48.5295, 5443,   2200.5,   2.7110,  34.8120,2,  34.8120,2,    210.7,2,    209.3,2,    59.80,2,    27.81,2,     1.88,2,    0.047,2,    0.031,2, -999.000,9,-999.0000,9,  -999.00,9,   -999.0,9,   -999.0,9,     7.92,2,  2.5450
 3230CITHER2_1,  A17C,    29,  1,     17,     17,2,19940117,1815,-41.0137, -48.5295, 5443,   2400.0,   2.5740,  34.8210,2,  34.8220,2,    213.7,2,    213.6,2,    61.60,2,    27.66,2,     1.85,2,    0.036,2,    0.026,2, -999.000,9,-999.0000,9,  -999.00,9,   -999.0,9,   -999.0,9,     7.92,2,  2.3920
 3230CITHER2_1,  A17C,    29,  1,     16,     16,2,19940117,1815,-41.0137, -48.5295, 5443,   2599.0,   2.4500,  34.8290,2,  34.8290,2,    217.2,2,    218.0,2,    62.70,2,    27.20,2,     1.82,2,    0.033,2,    0.031,2, -999.000,9,-999.0000,9,  -999.00,9,   -999.0,9,   -999.0,9,     7.93,2,  2.2510
 3230CITHER2_1,  A17C,    29,  1,     15,     15,2,19940117,1815,-41.0137, -48.5295, 5443,   2801.4,   2.1460,  34.8050,2,  34.8030,2,    214.7,2,    212.7,2,    74.90,2,    28.77,2,     1.92,2,    0.033,2,    0.019,2, -999.000,9,-999.0000,9,  -999.00,9,   -999.0,9,   -999.0,9,     7.91,2,  1.9340
 3230CITHER2_1,  A17C,    29,  1,     13,     13,2,19940117,1815,-41.0137, -48.5295, 5443,   2997.8,   1.8510,  34.7740,2,  34.7740,2,    208.3,2,    207.0,2,    88.10,2,    30.14,2,     2.03,2,    0.049,2,    0.037,2, -999.000,9,-999.0000,9,  -999.00,9,   -999.0,9,   -999.0,9,     7.90,2,  1.6260
 3230CITHER2_1,  A17C,    29,  1,     14,     14,2,19940117,1815,-41.0137, -48.5295, 5443,   2998.7,   1.8480,  34.7740,2,  34.7750,2,    208.3,2,    207.0,2,    87.90,2,    30.19,2,     2.03,2,    0.060,2,    0.040,2, -999.000,9,-999.0000,9,  -999.00,9,   -999.0,9,   -999.0,9,     7.90,2,  1.6230
 3230CITHER2_1,  A17C,    29,  1,     12,     12,2,19940117,1815,-41.0137, -48.5295, 5443,   3298.2,   1.4360,  34.7420,2,  34.7400,2,    203.7,2,    204.4,2,   103.60,2,    31.73,2,     2.15,2,    0.066,2,    0.049,2, -999.000,9,-999.0000,9,  -999.00,9,   -999.0,9,   -999.0,9,     7.88,2,  1.1910
 3230CITHER2_1,  A17C,    29,  1,     11,     11,2,19940117,1815,-41.0137, -48.5295, 5443,   3598.2,   1.0920,  34.7210,2,  34.7220,2,    206.4,2,    207.3,2,   112.60,2,    32.74,2,     2.21,2,    0.103,2,    0.068,2, -999.000,9,-999.0000,9,  -999.00,9,   -999.0,9,   -999.0,9,     7.87,2,  0.8260
 3230CITHER2_1,  A17C,    29,  1,     10,     10,2,19940117,1815,-41.0137, -48.5295, 5443,   3797.6,   0.8990,  34.7090,2,  34.7080,2,    209.3,2,    211.1,2,   117.30,2,    32.92,2,     2.24,2,    0.114,2,    0.068,2, -999.000,9,-999.0000,9,  -999.00,9,   -999.0,9,   -999.0,9,     7.87,2,  0.6180
 3230CITHER2_1,  A17C,    29,  1,      9,      9,2,19940117,1815,-41.0137, -48.5295, 5443,   3996.9,   0.6800,  34.6970,2,  34.6960,2,    212.4,2,    213.3,2,   120.70,2,    33.33,2,     2.27,2,    0.134,2,    0.083,2, -999.000,9,-999.0000,9,  -999.00,9,   -999.0,9,   -999.0,9,     7.87,2,  0.3850
 3230CITHER2_1,  A17C,    29,  1,      8,      8,2,19940117,1815,-41.0137, -48.5295, 5443,   4198.5,   0.5160,  34.6870,2,  34.6900,2,    216.1,2,    216.5,2,   124.10,2,    33.43,2,     2.29,2,    0.142,2,    0.088,2, -999.000,9,-999.0000,9,  -999.00,9,   -999.0,9,   -999.0,9,     7.86,2,  0.2040
 3230CITHER2_1,  A17C,    29,  1,      7,      7,2,19940117,1815,-41.0137, -48.5295, 5443,   4400.3,   0.3940,  34.6830,2,  34.6800,2,    218.4,2,    219.1,2,   126.00,2,    33.69,2,     2.29,2,    0.125,2,    0.075,2, -999.000,9,-999.0000,9,  -999.00,9,   -999.0,9,   -999.0,9,     7.87,2,  0.0640
 3230CITHER2_1,  A17C,    29,  1,      6,      6,2,19940117,1815,-41.0137, -48.5295, 5443,   4599.0,   0.3130,  34.6780,2,  34.6770,2,    220.6,2,    221.2,2,   127.20,2,    34.09,2,     2.31,2,    0.130,2,    0.081,2, -999.000,9,-999.0000,9,  -999.00,9,   -999.0,9,   -999.0,9,     7.85,2, -0.0360
 3230CITHER2_1,  A17C,    29,  1,      5,      5,2,19940117,1815,-41.0137, -48.5295, 5443,   4800.2,   0.2710,  34.6760,2,  34.6760,2,    222.8,2,    222.4,2,   128.40,2,    34.35,2,     2.32,2,    0.140,2,    0.092,2, -999.000,9,-999.0000,9,  -999.00,9,   -999.0,9,   -999.0,9,     7.87,2, -0.0990
 3230CITHER2_1,  A17C,    29,  1,      4,      4,2,19940117,1815,-41.0137, -48.5295, 5443,   4997.6,   0.2570,  34.6730,2,  34.6730,2,    224.1,2,    223.4,2,   129.60,2,    34.30,2,     2.32,2,    0.152,2,    0.090,2, -999.000,9,-999.0000,9,  -999.00,9,   -999.0,9,   -999.0,9,     7.87,2, -0.1340
 3230CITHER2_1,  A17C,    29,  1,      3,      3,2,19940117,1815,-41.0137, -48.5295, 5443,   5197.8,   0.2600,  34.6720,2,  34.6710,2,    224.6,2,    223.7,2,   130.80,2,    34.15,2,     2.32,2,    0.169,2,    0.101,2, -999.000,9,-999.0000,9,  -999.00,9,   -999.0,9,   -999.0,9,     7.87,2, -0.1550
 3230CITHER2_1,  A17C,    29,  1,      2,      2,2,19940117,1815,-41.0137, -48.5295, 5443,   5398.8,   0.2650,  34.6710,2,  34.6710,2,    225.1,2,    223.2,2,   130.90,2,    34.10,2,     2.31,2,    0.184,2,    0.108,2, -999.000,9,-999.0000,9,  -999.00,9,   -999.0,9,   -999.0,9,     7.87,2, -0.1740
 3230CITHER2_1,  A17C,    29,  1,      1,      1,2,19940117,1815,-41.0137, -48.5295, 5443,   5525.1,   0.2750,  34.6710,2,  34.6710,2,    225.5,2,    223.7,2,   130.80,2,    34.10,2,     2.32,2,    0.195,2,    0.110,2, -999.000,9,-999.0000,9,  -999.00,9,   -999.0,9,   -999.0,9,     7.87,2, -0.1790