BOTTLE,20030515WHPSIOSA
EXPOCODE,SECT_ID,STNNBR,CASTNO,SAMPNO,BTLNBR,BTLNBR_FLAG_W,DATE,TIME,LATITUDE,LONGITUDE,DEPTH,CTDPRS,CTDTMP,CTDSAL,CTDSAL_FLAG_W,SALNTY,SALNTY_FLAG_W,CTDOXY,CTDOXY_FLAG_W,OXYGEN,OXYGEN_FLAG_W,SILCAT,SILCAT_FLAG_W,NITRAT,NITRAT_FLAG_W,PHSPHT,PHSPHT_FLAG_W,CFC-11,CFC-11_FLAG_W,CFC-12,CFC-12_FLAG_W,TRITUM,TRITUM_FLAG_W,HELIUM,HELIUM_FLAG_W,DELHE3,DELHE3_FLAG_W,TCARBN,TCARBN_FLAG_W,ALKALI,ALKALI_FLAG_W,PH,PH_FLAG_W,THETA
,,,,,,,,,,,,DBAR,ITS-90,PSS-78,,PSS-78,,UMOL/KG,,UMOL/KG,,UMOL/KG,,UMOL/KG,,UMOL/KG,,PMOL/KG,,PMOL/KG,,TU,,NMOL/KG,,PERCNT,,UMOL/KG,,UMOL/KG,,,,DEG C
 3230CITHER2_1,  A17C,    54,  1,     32,     32,2,19940124,1859,-34.6272, -46.4928, 4651,      7.8,  21.5180,  35.6530,2,  35.6570,2,    217.2,2,    223.5,2,     1.40,2,     0.00,2,     0.08,2,    2.293,2,    1.279,2, -999.000,9,-999.0000,9,  -999.00,9,   2033.6,2,   2363.5,2,     8.33,2, 21.5160
 3230CITHER2_1,  A17C,    54,  1,     31,     31,2,19940124,1859,-34.6272, -46.4928, 4651,     42.2,  21.2400,  35.6110,2,  35.6610,2,    224.9,2,    224.5,2,     1.40,2,     0.00,2,     0.08,2,    2.310,2,    1.290,2, -999.000,9,-999.0000,9,  -999.00,9,   2034.3,2,   2363.1,2,     8.34,2, 21.2320
 3230CITHER2_1,  A17C,    54,  1,     30,     30,2,19940124,1859,-34.6272, -46.4928, 4651,    100.2,  18.4160,  36.0550,2,  36.0500,2,    220.7,2,    210.7,2,     1.40,2,     1.35,2,     0.21,2,    2.472,2,    1.354,2, -999.000,9,-999.0000,9,  -999.00,9,   2080.8,2,   2375.1,2,     8.27,2, 18.3980
 3230CITHER2_1,  A17C,    54,  1,     29,     29,2,19940124,1859,-34.6272, -46.4928, 4651,    150.0,  17.8290,  36.1320,2,  36.1310,2,    215.8,2,    213.2,2,     1.30,2,     2.41,2,     0.26,2,    2.535,2,    1.381,2, -999.000,9,-999.0000,9,  -999.00,9,   2084.1,2,   2380.7,2,     8.27,2, 17.8030
 3230CITHER2_1,  A17C,    54,  1,     28,     28,2,19940124,1859,-34.6272, -46.4928, 4651,    200.9,  16.9650,  35.9680,2,  35.9620,2,    217.8,2,    212.8,2,     1.60,2,     3.47,2,     0.33,2,    2.578,2,    1.399,2, -999.000,9,-999.0000,9,  -999.00,9,   2087.5,2,   2371.7,2,     8.25,2, 16.9320
 3230CITHER2_1,  A17C,    54,  1,     27,     27,2,19940124,1859,-34.6272, -46.4928, 4651,    299.7,  15.3390,  35.6700,2,  35.6630,2,    218.8,2,    214.4,2,     2.20,2,     5.80,2,     0.49,2,    2.625,2,    1.394,2, -999.000,9,-999.0000,9,  -999.00,9,   2095.2,2,   2355.3,2,     8.21,2, 15.2930
 3230CITHER2_1,  A17C,    54,  1,     26,     26,2,19940124,1859,-34.6272, -46.4928, 4651,    400.8,  13.0520,  35.3120,2,  35.3050,2,    227.4,2,    223.1,2,     3.10,2,     9.86,2,     0.73,2,    2.769,2,    1.449,2, -999.000,9,-999.0000,9,  -999.00,9,   2104.8,2,   2336.6,2,     8.17,2, 12.9960
 3230CITHER2_1,  A17C,    54,  1,     25,     25,2,19940124,1859,-34.6272, -46.4928, 4651,    598.7,   6.9450,  34.3950,2,  34.3930,2,    242.3,2,    239.4,2,     8.30,2,    21.89,2,     1.53,2,    3.390,2,    1.663,2, -999.000,9,-999.0000,9,  -999.00,9,   2136.7,2,   2293.2,2,     8.01,2,  6.8880
 3230CITHER2_1,  A17C,    54,  1,     24,     24,2,19940124,1859,-34.6272, -46.4928, 4651,    701.2,   5.2650,  34.2500,2,  34.2460,2,    261.1,2,    259.4,2,    11.00,2,    24.35,2,     1.70,2,    3.807,2,    1.840,2, -999.000,9,-999.0000,9,  -999.00,9,   2144.6,2,   2290.6,2,     7.99,2,  5.2070
 3230CITHER2_1,  A17C,    54,  1,     23,     23,2,19940124,1859,-34.6272, -46.4928, 4651,    800.5,   4.5380,  34.2110,2,  34.2090,2,    268.6,2,    264.6,2,    14.60,2,    25.61,2,     1.77,2,    3.732,2,    1.799,2, -999.000,9,-999.0000,9,  -999.00,9,   2149.0,2,   2293.0,2,     7.98,2,  4.4760
 3230CITHER2_1,  A17C,    54,  1,     22,     22,2,19940124,1859,-34.6272, -46.4928, 4651,    899.3,   4.3320,  34.2410,2,  34.2380,2,    252.8,2,    252.7,2,    18.30,2,    26.98,2,     1.88,2,    2.914,2,    1.460,2, -999.000,9,-999.0000,9,  -999.00,9,   2160.3,2,   2296.3,2,     7.96,2,  4.2630
 3230CITHER2_1,  A17C,    54,  1,     21,     21,2,19940124,1859,-34.6272, -46.4928, 4651,   1000.3,   3.8470,  34.2430,2,  34.2370,2,    250.2,2,    247.0,2,    23.20,2,    28.67,2,     1.98,2,    2.551,2,    1.254,2, -999.000,9,-999.0000,9,  -999.00,9,   2171.0,2,   2299.1,2,     7.94,2,  3.7730
 3230CITHER2_1,  A17C,    54,  1,     20,     20,2,19940124,1859,-34.6272, -46.4928, 4651,   1199.9,   3.1690,  34.2990,2,  34.3020,2,    226.1,2,    223.8,2,    37.10,2,    31.42,2,     2.16,2,    1.486,2,    0.746,2, -999.000,9,-999.0000,9,  -999.00,9,   2197.6,2,   2314.3,2,     7.89,2,  3.0850
 3230CITHER2_1,  A17C,    54,  1,     19,     19,2,19940124,1859,-34.6272, -46.4928, 4651,   1399.6,   2.9540,  34.4230,2,  34.4190,2,    200.0,2,    198.2,2,    50.20,2,    32.74,2,     2.26,2,    0.639,2,    0.333,2, -999.000,9,-999.0000,9,  -999.00,9,   2222.0,2,   2326.2,2,     7.86,2,  2.8550
 3230CITHER2_1,  A17C,    54,  1,     18,     18,2,19940124,1859,-34.6272, -46.4928, 4651,   1601.0,   2.7750,  34.5210,2,  34.5190,2,    188.4,2,    185.8,2,    60.20,2,    33.42,2,     2.27,2,    0.419,2,    0.217,2, -999.000,9,-999.0000,9,  -999.00,9,   2236.7,2,   2337.0,2,     7.85,2,  2.6620
 3230CITHER2_1,  A17C,    54,  1,     17,     17,2,19940124,1859,-34.6272, -46.4928, 4651,   1800.1,   2.9120,  34.6480,2,  34.6440,2,    186.0,2,    186.5,2,    60.40,2,    31.53,2,     2.13,2,    0.172,2,    0.093,2, -999.000,9,-999.0000,9,  -999.00,9,   2233.7,2,   2342.6,2,     7.87,2,  2.7790
 3230CITHER2_1,  A17C,    54,  1,     16,     16,2,19940124,1859,-34.6272, -46.4928, 4651,   1999.8,   3.1620,  34.7750,2,  34.7760,2,    197.3,2,    203.5,2,    48.60,2,    27.68,2,     1.87,2,    0.066,2,    0.041,2, -999.000,9,-999.0000,9,  -999.00,9,   2214.8,2,   2341.1,2,     7.91,2,  3.0080
 3230CITHER2_1,  A17C,    54,  1,     15,     15,2,19940124,1859,-34.6272, -46.4928, 4651,   2200.2,   3.3940,  34.8770,2,  34.8780,2,    228.2,2,    226.7,2,    34.20,2,    23.60,2,     1.59,2,    0.034,2,    0.024,2, -999.000,9,-999.0000,9,  -999.00,9,   2191.4,2,   2334.1,2,     7.95,2,  3.2170
 3230CITHER2_1,  A17C,    54,  1,     14,     14,2,19940124,1859,-34.6272, -46.4928, 4651,   2400.9,   3.2220,  34.8920,2,  34.8930,2,    236.8,2,    233.1,2,    36.90,2,    23.00,2,     1.54,2,    0.030,2,    0.025,2, -999.000,9,-999.0000,9,  -999.00,9,   2190.4,2,   2337.4,2,     7.96,2,  3.0280
 3230CITHER2_1,  A17C,    54,  1,     13,     13,2,19940124,1859,-34.6272, -46.4928, 4651,   2598.5,   2.9550,  34.8760,2,  34.8730,2,    232.4,2,    229.3,2,    44.50,2,    23.60,2,     1.60,2,    0.029,2,    0.023,2, -999.000,9,-999.0000,9,  -999.00,9,   2197.9,2,   2341.7,2,     7.96,2,  2.7460
 3230CITHER2_1,  A17C,    54,  1,     11,     11,2,19940124,1859,-34.6272, -46.4928, 4651,   2799.1,   2.8450,  34.8860,2,  34.8870,2,    239.5,2,    235.1,2,    44.30,2,    23.06,2,     1.55,2,    0.025,2,    0.019,2, -999.000,9,-999.0000,9,  -999.00,9,   2194.3,2,   2342.8,2,     7.97,2,  2.6180
 3230CITHER2_1,  A17C,    54,  1,     12,     12,2,19940124,1859,-34.6272, -46.4928, 4651,   2799.7,   2.8440,  34.8860,2,  34.8860,2,    239.7,2,    235.7,2,    44.50,2,    23.01,2,     1.56,2,    0.023,2,    0.021,2, -999.000,9,-999.0000,9,  -999.00,9,   -999.0,5,   2342.8,2,     7.97,2,  2.6170
 3230CITHER2_1,  A17C,    54,  1,     10,     10,2,19940124,1859,-34.6272, -46.4928, 4651,   2999.9,   2.7410,  34.8930,2,  34.8930,2,    243.4,2,    240.0,2,    43.30,2,    22.59,2,     1.52,2,    0.024,2,    0.018,2, -999.000,9,-999.0000,9,  -999.00,9,   2192.4,2,   2345.6,2,     7.97,2,  2.4960
 3230CITHER2_1,  A17C,    54,  1,      9,      9,2,19940124,1859,-34.6272, -46.4928, 4651,   3199.5,   2.4890,  34.8780,2,  34.8770,2,    238.3,2,    239.5,2,    50.50,2,    22.93,2,     1.56,2,    0.019,2,    0.016,2, -999.000,9,-999.0000,9,  -999.00,9,   2195.8,2,   2347.0,2,     7.97,2,  2.2290
 3230CITHER2_1,  A17C,    54,  1,      8,      8,2,19940124,1859,-34.6272, -46.4928, 4651,   3397.6,   1.7890,  34.7790,2,  34.7770,2,    214.0,2,    212.7,2,    89.20,2,    28.50,2,     1.94,2,    0.044,2,    0.030,2, -999.000,9,-999.0000,9,  -999.00,9,   2235.9,2,   2362.7,2,     7.91,2,  1.5260
 3230CITHER2_1,  A17C,    54,  1,      7,      7,2,19940124,1859,-34.6272, -46.4928, 4651,   3599.2,   1.4460,  34.7660,2,  34.7740,2,    214.6,2,    218.3,2,    95.20,2,    28.50,2,     1.97,2,    0.074,2,    0.044,2, -999.000,9,-999.0000,9,  -999.00,9,   2236.6,2,   2364.6,2,     7.91,2,  1.1710
 3230CITHER2_1,  A17C,    54,  1,      6,      6,2,19940124,1859,-34.6272, -46.4928, 4651,   3798.1,   0.9970,  34.7250,2,  34.7250,2,    216.3,2,    214.3,2,   112.60,2,    30.87,2,     2.12,2,    0.080,2,    0.044,2, -999.000,9,-999.0000,9,  -999.00,9,   2250.7,2,   2371.7,2,     7.88,2,  0.7130
 3230CITHER2_1,  A17C,    54,  1,      5,      5,2,19940124,1859,-34.6272, -46.4928, 4651,   3998.9,   0.5800,  34.6960,2,  34.6960,2,    217.6,2,    216.4,2,   123.00,2,    31.99,2,     2.22,2,    0.101,2,    0.061,2, -999.000,9,-999.0000,9,  -999.00,9,   2256.9,2,   2372.8,2,     7.87,2,  0.2870
 3230CITHER2_1,  A17C,    54,  1,      4,      4,2,19940124,1859,-34.6272, -46.4928, 4651,   4197.9,   0.3140,  34.6810,2,  34.6810,2,    221.0,2,    220.4,2,   127.20,2,    32.58,2,     2.25,2,    0.104,2,    0.061,2, -999.000,9,-999.0000,9,  -999.00,9,   2261.7,2,   2375.5,2,     7.87,2,  0.0080
 3230CITHER2_1,  A17C,    54,  1,      3,      3,2,19940124,1859,-34.6272, -46.4928, 4651,   4397.3,   0.2180,  34.6750,2,  34.6770,2,    223.3,2,    223.2,2,   129.00,2,    32.62,2,     2.26,2,    0.124,2,    0.071,2, -999.000,9,-999.0000,9,  -999.00,9,   2261.7,2,   2375.9,2,     7.86,2, -0.1060
 3230CITHER2_1,  A17C,    54,  1,      2,      2,2,19940124,1859,-34.6272, -46.4928, 4651,   4598.6,   0.1810,  34.6740,2,  34.6730,2,    223.7,2,    223.0,2,   131.50,2,    32.94,2,     2.27,2,    0.151,2,    0.085,2, -999.000,9,-999.0000,9,  -999.00,9,   2266.1,2,   2378.0,2,     7.87,2, -0.1630
 3230CITHER2_1,  A17C,    54,  1,      1,      1,2,19940124,1859,-34.6272, -46.4928, 4651,   4714.0,   0.1850,  34.6730,2,  34.6730,2,    222.6,2,    222.8,2,   131.50,2,    32.95,2,     2.27,2,    0.160,2,    0.086,2, -999.000,9,-999.0000,9,  -999.00,9,   2267.6,2,   2377.2,2,     7.86,2, -0.1720
 3230CITHER2_1,  A17C,    55,  1,     32,     32,2,19940125,0046,-34.8992, -46.0400, 4742,      2.8,  21.0650,  35.7060,2,  35.7050,2,    220.9,2,    226.1,2,     1.40,2,     0.00,2,     0.05,2,    2.374,2,    1.318,2,    0.790,2,   1.7000,2,    -1.86,2,   -999.0,9,   -999.0,9,     8.33,2, 21.0640
 3230CITHER2_1,  A17C,    55,  1,     31,     31,2,19940125,0046,-34.8992, -46.0400, 4742,     30.4,  20.9710,  35.7040,2,  35.7180,2,    230.3,2,    228.1,2,     1.40,2,     0.00,2,     0.05,2,    2.385,2,    1.323,2,    1.115,2,   1.7000,2,    -1.04,2,   -999.0,9,   -999.0,9,     8.33,2, 20.9650
 3230CITHER2_1,  A17C,    55,  1,     30,     30,2,19940125,0046,-34.8992, -46.0400, 4742,    110.1,  17.8840,  36.1650,2,  36.1630,2,    213.7,2,    213.4,2,     1.20,2,     2.42,2,     0.25,2,    2.564,2,    1.398,2,    1.070,2,   1.7100,2,    -0.17,2,   -999.0,9,   -999.0,9,     8.27,2, 17.8650
 3230CITHER2_1,  A17C,    55,  1,     29,     29,2,19940125,0046,-34.8992, -46.0400, 4742,    200.5,  16.0890,  35.8090,2,  35.8070,2,    216.9,2,    213.7,2,     1.80,2,     4.62,2,     0.41,2,    2.617,2,    1.411,2,    0.876,2,   1.7200,2,    -1.54,2,   -999.0,9,   -999.0,9,     8.23,2, 16.0570
 3230CITHER2_1,  A17C,    55,  1,     28,     28,2,19940125,0046,-34.8992, -46.0400, 4742,    300.6,  15.2580,  35.7070,2,  35.7030,2,    226.9,2,    221.5,2,     2.00,2,     5.47,2,     0.46,2,    2.718,2,    1.451,2,    0.858,2,   1.7200,2,    -1.11,2,   -999.0,9,   -999.0,9,     8.22,2, 15.2120
 3230CITHER2_1,  A17C,    55,  1,     27,     27,2,19940125,0046,-34.8992, -46.0400, 4742,    400.3,  13.6050,  35.3830,2,  35.3760,2,    221.4,2,    215.9,2,     2.90,2,     8.87,2,     0.69,2,    2.646,2,    1.392,2, -999.000,9,   1.7400,2,     3.62,2,   -999.0,9,   -999.0,9,     8.17,2, 13.5480
 3230CITHER2_1,  A17C,    55,  1,     26,     26,2,19940125,0046,-34.8992, -46.0400, 4742,    501.2,  10.9120,  34.9120,2,  34.9120,2,    213.2,2,    210.3,2,     5.10,2,    15.28,2,     1.09,2,    2.456,2,    1.272,2, -999.000,9,   1.7600,2,     4.83,2,   -999.0,9,   -999.0,9,     8.09,2, 10.8500
 3230CITHER2_1,  A17C,    55,  1,     25,     25,2,19940125,0046,-34.8992, -46.0400, 4742,    602.5,   8.0840,  34.5630,2,  34.5610,2,    219.9,2,    217.8,2,     8.70,2,    21.14,2,     1.49,2, -999.000,5, -999.000,5,    0.411,2,   1.7800,2,    -1.38,2,   -999.0,9,   -999.0,9,     8.02,2,  8.0210
 3230CITHER2_1,  A17C,    55,  1,     24,     24,2,19940125,0046,-34.8992, -46.0400, 4742,    701.6,   6.1150,  34.3630,2,  34.3610,2,    249.1,2,    235.8,2,    11.70,2,    24.11,2,     1.70,2,    2.526,2,    1.283,2, -999.000,9,-999.0000,9,  -999.00,9,   -999.0,9,   -999.0,9,     7.98,2,  6.0520
 3230CITHER2_1,  A17C,    55,  1,     23,     23,2,19940125,0046,-34.8992, -46.0400, 4742,    800.9,   5.2540,  34.2930,2,  34.2920,2,    279.2,2,    245.7,2,    13.70,2,    25.59,2,     1.78,2,    2.803,2,    1.384,2, -999.000,9,   1.8000,2,    -0.85,2,   -999.0,9,   -999.0,9,     7.97,2,  5.1870
 3230CITHER2_1,  A17C,    55,  1,     22,     22,2,19940125,0046,-34.8992, -46.0400, 4742,    901.3,   4.7490,  34.2580,2,  34.2570,2,    279.7,2,    251.9,2,    15.60,2,    26.38,2,     1.84,2,    2.917,2,    1.428,2,    0.237,2,   1.8000,2,    -1.35,2,   -999.0,9,   -999.0,9,     7.97,2,  4.6770
 3230CITHER2_1,  A17C,    55,  1,     21,     21,2,19940125,0046,-34.8992, -46.0400, 4742,   1000.4,   4.1880,  34.2280,2,  34.2240,2,    253.5,2,    258.9,2,    17.90,2,    27.18,2,     1.90,2,    3.179,2,    1.554,2, -999.000,9,   1.7500,2,     0.01,2,   -999.0,9,   -999.0,9,     7.96,2,  4.1110
 3230CITHER2_1,  A17C,    55,  1,     20,     20,2,19940125,0046,-34.8992, -46.0400, 4742,   1199.8,   3.5270,  34.2980,2,  34.2920,2,    224.5,2,    225.2,2,    31.90,2,    31.09,2,     2.13,2,    1.348,2,    0.682,2, -999.000,9,-999.0000,9,  -999.00,9,   -999.0,9,   -999.0,9,     7.91,2,  3.4390
 3230CITHER2_1,  A17C,    55,  1,     19,     19,2,19940125,0046,-34.8992, -46.0400, 4742,   1401.1,   2.9640,  34.3880,2,  34.3840,2,    203.3,2,    203.5,2,    47.10,2,    32.89,2,     2.26,2,    0.822,2,    0.425,2, -999.000,9,   1.8000,2,     2.87,2,   -999.0,9,   -999.0,9,     7.87,2,  2.8650
 3230CITHER2_1,  A17C,    55,  1,     18,     18,2,19940125,0046,-34.8992, -46.0400, 4742,   1601.4,   2.8080,  34.5000,2,  34.4950,2,    188.4,2,    187.4,2,    57.80,2,    33.21,2,     2.29,2,    0.468,2,    0.246,2, -999.000,9,-999.0000,9,  -999.00,9,   -999.0,9,   -999.0,9,     7.86,2,  2.6940
 3230CITHER2_1,  A17C,    55,  1,     17,     17,2,19940125,0046,-34.8992, -46.0400, 4742,   1800.4,   2.8610,  34.6160,2,  34.6160,2,    184.0,2,    185.6,2,    60.10,2,    32.10,2,     2.20,2,    0.225,2,    0.120,2, -999.000,9,   1.7500,2,     6.77,2,   -999.0,9,   -999.0,9,     7.86,2,  2.7290
 3230CITHER2_1,  A17C,    55,  1,     16,     16,2,19940125,0046,-34.8992, -46.0400, 4742,   1999.9,   3.3220,  34.7940,2,  34.7920,2,    204.9,2,    207.8,2,    43.20,2,    26.98,2,     1.84,2,    0.049,2,    0.034,2, -999.000,9,-999.0000,9,  -999.00,9,   -999.0,9,   -999.0,9,     7.92,2,  3.1650
 3230CITHER2_1,  A17C,    55,  1,     15,     15,2,19940125,0046,-34.8992, -46.0400, 4742,   2201.5,   3.4380,  34.8810,2,  34.8790,2,    226.3,2,    226.0,2,    34.30,2,    23.58,2,     1.61,2,    0.035,2,    0.028,2, -999.000,9,   1.8300,2,     2.76,2,   -999.0,9,   -999.0,9,     7.96,2,  3.2600
 3230CITHER2_1,  A17C,    55,  1,     14,     14,2,19940125,0046,-34.8992, -46.0400, 4742,   2400.0,   3.2360,  34.9010,2,  34.9000,2,    234.8,2,    234.6,2,    35.00,2,    22.81,2,     1.54,2,    0.031,2,    0.021,2, -999.000,9,-999.0000,9,  -999.00,9,   -999.0,9,   -999.0,9,     7.97,2,  3.0420
 3230CITHER2_1,  A17C,    55,  1,     13,     13,2,19940125,0046,-34.8992, -46.0400, 4742,   2598.9,   3.0100,  34.8950,2,  34.8890,2,    237.7,2,    234.7,2,    39.20,2,    22.82,2,     1.55,2,    0.026,2,    0.021,2, -999.000,9,-999.0000,9,  -999.00,9,   -999.0,9,   -999.0,9,     7.98,2,  2.8000
 3230CITHER2_1,  A17C,    55,  1,     12,     12,2,19940125,0046,-34.8992, -46.0400, 4742,   2600.1,   3.0070,  34.8940,2,  34.8910,2,    237.8,2,    234.7,2,    39.00,2,    22.90,2,     1.55,2,    0.026,2,    0.019,2, -999.000,9,   1.8000,2,     3.78,2,   -999.0,9,   -999.0,9,     7.98,2,  2.7970
 3230CITHER2_1,  A17C,    55,  1,     11,     11,2,19940125,0046,-34.8992, -46.0400, 4742,   2799.6,   2.8780,  34.9020,2,  34.9010,2,    237.8,2,    241.5,2,    38.20,2,    22.22,2,     1.50,2,    0.020,2,    0.019,2, -999.000,9,-999.0000,9,  -999.00,9,   -999.0,9,   -999.0,9,     7.98,2,  2.6510
 3230CITHER2_1,  A17C,    55,  1,     10,     10,2,19940125,0046,-34.8992, -46.0400, 4742,   2998.5,   2.6610,  34.8860,2,  34.8840,2,    244.0,2,    239.4,2,    44.40,2,    22.91,2,     1.56,2,    0.023,2,    0.016,2, -999.000,9,   1.8000,2,     7.08,2,   -999.0,9,   -999.0,9,     7.97,2,  2.4180
 3230CITHER2_1,  A17C,    55,  1,      9,      9,2,19940125,0046,-34.8992, -46.0400, 4742,   3200.1,   2.3270,  34.8640,2,  34.8570,2,    239.5,2,    235.5,2,    54.70,2,    23.80,2,     1.64,2,    0.025,2,    0.023,2, -999.000,9,-999.0000,9,  -999.00,9,   -999.0,9,   -999.0,9,     7.97,2,  2.0710
 3230CITHER2_1,  A17C,    55,  1,      8,      8,2,19940125,0046,-34.8992, -46.0400, 4742,   3399.2,   1.5560,  34.7650,2,  34.7610,2,    215.3,2,    213.0,2,    93.80,2,    29.64,2,     2.02,2,    0.054,2,    0.033,2, -999.000,9,   1.8100,2,     9.06,2,   -999.0,9,   -999.0,9,     7.91,2,  1.2980
 3230CITHER2_1,  A17C,    55,  1,      7,      7,2,19940125,0046,-34.8992, -46.0400, 4742,   3599.6,   1.1770,  34.7310,2,  34.7310,2,    208.8,2,    208.4,2,   107.50,2,    31.23,2,     2.14,2,    0.090,2,    0.048,2, -999.000,9,-999.0000,9,  -999.00,9,   -999.0,9,   -999.0,9,     7.89,2,  0.9090
 3230CITHER2_1,  A17C,    55,  1,      6,      6,2,19940125,0046,-34.8992, -46.0400, 4742,   3800.1,   0.9290,  34.7150,2,  34.7120,2,    210.6,2,    211.2,2,   114.20,2,    31.87,2,     2.19,2,    0.103,2,    0.061,2, -999.000,9,   1.8300,2,     8.21,2,   -999.0,9,   -999.0,9,     7.88,2,  0.6470
 3230CITHER2_1,  A17C,    55,  1,      5,      5,2,19940125,0046,-34.8992, -46.0400, 4742,   3998.4,   0.5930,  34.6930,2,  34.6900,2,    214.4,2,    215.1,2,   121.20,2,    32.51,2,     2.23,2,    0.120,2,    0.068,2, -999.000,9,-999.0000,9,  -999.00,9,   -999.0,9,   -999.0,9,     7.88,2,  0.3000
 3230CITHER2_1,  A17C,    55,  1,      4,      4,2,19940125,0046,-34.8992, -46.0400, 4742,   4198.9,   0.3810,  34.6830,2,  34.6810,2,    218.3,2,    219.2,2,   124.20,2,    32.83,2,     2.26,2,    0.118,2,    0.071,2, -999.000,9,   1.8200,2,     5.83,2,   -999.0,9,   -999.0,9,     7.88,2,  0.0730
 3230CITHER2_1,  A17C,    55,  1,      3,      3,2,19940125,0046,-34.8992, -46.0400, 4742,   4397.4,   0.2760,  34.6780,2,  34.6780,2,    220.8,2,    221.9,2,   126.80,2,    32.83,2,     2.27,2,    0.119,2,    0.070,2, -999.000,9,-999.0000,9,  -999.00,9,   -999.0,9,   -999.0,9,     7.87,2, -0.0500
 3230CITHER2_1,  A17C,    55,  1,      2,      2,2,19940125,0046,-34.8992, -46.0400, 4742,   4597.9,   0.2200,  34.6740,2,  34.6750,2,    222.5,2,    223.0,2,   128.50,2,    32.94,2,     2.27,2,    0.136,2,    0.076,2, -999.000,9,-999.0000,9,  -999.00,9,   -999.0,9,   -999.0,9,     7.88,2, -0.1250
 3230CITHER2_1,  A17C,    55,  1,      1,      1,2,19940125,0046,-34.8992, -46.0400, 4742,   4808.1,   0.2010,  34.6730,2,  34.6730,2,    222.0,2,    222.9,2,   129.60,2,    33.15,2,     2.29,2,    0.151,2,    0.085,2, -999.000,9,   1.8300,2,     5.97,2,   -999.0,9,   -999.0,9,     7.88,2, -0.1670