BOTTLE,20030515WHPSIOSA
EXPOCODE,SECT_ID,STNNBR,CASTNO,SAMPNO,BTLNBR,BTLNBR_FLAG_W,DATE,TIME,LATITUDE,LONGITUDE,DEPTH,CTDPRS,CTDTMP,CTDSAL,CTDSAL_FLAG_W,SALNTY,SALNTY_FLAG_W,CTDOXY,CTDOXY_FLAG_W,OXYGEN,OXYGEN_FLAG_W,SILCAT,SILCAT_FLAG_W,NITRAT,NITRAT_FLAG_W,PHSPHT,PHSPHT_FLAG_W,CFC-11,CFC-11_FLAG_W,CFC-12,CFC-12_FLAG_W,TRITUM,TRITUM_FLAG_W,HELIUM,HELIUM_FLAG_W,DELHE3,DELHE3_FLAG_W,TCARBN,TCARBN_FLAG_W,ALKALI,ALKALI_FLAG_W,PH,PH_FLAG_W,THETA
,,,,,,,,,,,,DBAR,ITS-90,PSS-78,,PSS-78,,UMOL/KG,,UMOL/KG,,UMOL/KG,,UMOL/KG,,UMOL/KG,,PMOL/KG,,PMOL/KG,,TU,,NMOL/KG,,PERCNT,,UMOL/KG,,UMOL/KG,,,,DEG C
 3230CITHER2_2,  A17N,   227,  1,     32,     32,2,19940319,0837,  7.0100, -50.8400, 4069,      8.7,  27.6000,  36.2480,2,  36.2490,2,    199.1,2,    198.1,2,     1.60,2,     0.04,2,     0.06,2,    1.674,2,    0.937,2,    0.660,2,   1.6900,2,    -0.40,2,   2022.7,2,   -999.0,9,     8.38,2, 27.5980
 3230CITHER2_2,  A17N,   227,  1,     31,     31,2,19940319,0837,  7.0100, -50.8400, 4069,     71.6,  27.1970,  36.2920,2,  36.2920,2,    198.3,2,    198.9,2,     1.60,2,     0.04,2,     0.06,2,    1.703,2,    0.954,2,    0.550,2,   1.6900,2,    -0.21,2,   2021.5,2,   -999.0,9,     8.38,2, 27.1800
 3230CITHER2_2,  A17N,   227,  1,     30,     30,2,19940319,0837,  7.0100, -50.8400, 4069,    125.1,  24.5350,  36.6900,2,  36.6700,2,    190.2,2,    190.8,2,     2.00,2,     1.40,2,     0.23,2,    1.805,2,    0.979,2,    0.650,2,   1.6900,2,    -1.30,2,   2077.4,2,   -999.0,9,     8.32,2, 24.5080
 3230CITHER2_2,  A17N,   227,  1,     29,     29,2,19940319,0837,  7.0100, -50.8400, 4069,    161.1,  22.4440,  36.9070,2,  36.6950,2,    171.0,2,    166.5,2,     2.60,2,     4.69,2,     0.33,2,    1.813,2,    0.980,2,    0.750,2,   1.6900,2,    -0.36,2,   2109.7,2,   -999.0,9,     8.26,2, 22.4110
 3230CITHER2_2,  A17N,   227,  1,     28,     28,2,19940319,0837,  7.0100, -50.8400, 4069,    201.5,  15.5270,  35.9280,2,  35.9710,2,    128.6,2,    125.4,2,     6.90,2,    17.08,2,     0.99,2,    1.354,2,    0.715,2, -999.000,9,   1.7300,2,     3.29,2,   2167.3,2,   -999.0,9,     8.08,2, 15.4960
 3230CITHER2_2,  A17N,   227,  1,     27,     27,2,19940319,0837,  7.0100, -50.8400, 4069,    301.0,   8.6290,  34.8000,2,  34.7920,2,    134.2,2,    134.7,2,    16.60,2,    28.31,2,     1.85,2,    0.584,2,    0.309,2,    0.200,2,   1.7300,2,     1.39,2,   2193.2,2,   -999.0,9,     7.91,2,  8.5970
 3230CITHER2_2,  A17N,   227,  1,     26,     26,2,19940319,0837,  7.0100, -50.8400, 4069,    400.6,   7.1020,  34.6530,2,  34.6620,2,    121.3,2,    129.9,2,    21.40,2,    32.35,2,     2.08,2,    0.278,2,    0.157,2,    0.100,2,   1.8200,2,     0.90,2,   2208.6,2,   -999.0,9,     7.87,2,  7.0640
 3230CITHER2_2,  A17N,   227,  1,     25,     25,2,19940319,0837,  7.0100, -50.8400, 4069,    500.2,   6.6800,  34.6340,2,  34.6090,2,    146.7,2,    137.8,2,    23.30,2,    32.80,2,     2.15,2,    0.253,2,    0.142,2, -999.000,9,-999.0000,9,  -999.00,9,   2208.8,2,   -999.0,9,     7.86,2,  6.6340
 3230CITHER2_2,  A17N,   227,  1,     24,     24,2,19940319,0837,  7.0100, -50.8400, 4069,    601.5,   6.3170,  34.6600,2,  34.6560,2,    132.8,2,    122.7,2,    25.40,2,    34.36,2,     2.24,2,    0.070,2,    0.045,2,    0.070,2,   1.7800,2,     2.89,2,   2221.4,2,   -999.0,9,     7.83,2,  6.2620
 3230CITHER2_2,  A17N,   227,  1,     23,     23,2,19940319,0837,  7.0100, -50.8400, 4069,    799.1,   5.0450,  34.5820,2,  34.5860,2,    140.0,2,    140.9,2,    30.60,2,    34.61,2,     2.30,2,    0.026,2,    0.019,2, -999.000,9,-999.0000,9,  -999.00,9,   -999.0,9,   -999.0,9,     7.84,2,  4.9790
 3230CITHER2_2,  A17N,   227,  1,     22,     22,2,19940319,0837,  7.0100, -50.8400, 4069,    799.6,   5.0530,  34.5880,2,  34.5840,2,    140.1,2,    141.4,2,    30.40,2,    34.49,2,     2.30,2,    0.026,2,    0.018,2,    0.030,2,   1.7700,2,     0.86,2,   2222.3,2,   -999.0,9,     7.84,2,  4.9870
 3230CITHER2_2,  A17N,   227,  1,     21,     21,2,19940319,0837,  7.0100, -50.8400, 4069,    999.4,   4.7010,  34.6460,2,  34.6460,2,    154.4,2,    154.9,2,    31.10,2,    32.80,2,     2.20,2,    0.015,2,    0.011,2,    0.040,2,   1.7900,2,     1.43,2,   2218.0,2,   -999.0,9,     7.86,2,  4.6200
 3230CITHER2_2,  A17N,   227,  1,     20,     20,2,19940319,0837,  7.0100, -50.8400, 4069,   1201.2,   4.7990,  34.8180,2,  34.8210,2,    174.7,2,    172.6,2,    26.60,2,    28.82,2,     1.92,2,    0.024,2,    0.017,2,    0.060,2,   1.7800,2,     1.89,2,   -999.0,9,   -999.0,9,     7.90,2,  4.6980
 3230CITHER2_2,  A17N,   227,  1,     19,     19,2,19940319,0837,  7.0100, -50.8400, 4069,   1401.3,   4.7650,  34.9350,2,  34.9360,2,    199.8,2,    199.3,2,    22.00,2,    24.44,2,     1.64,2,    0.057,2,    0.035,2,    0.100,2,   1.7500,2,     1.51,2,   -999.0,9,   -999.0,9,     7.95,2,  4.6460
 3230CITHER2_2,  A17N,   227,  1,     18,     18,2,19940319,0837,  7.0100, -50.8400, 4069,   1499.8,   4.6810,  34.9730,2,  34.9750,2,    214.8,2,    215.7,2,    19.60,2,    22.58,2,     1.49,2,    0.102,2,    0.061,2, -999.000,9,-999.0000,9,  -999.00,9,   -999.0,9,   -999.0,9,     7.97,2,  4.5530
 3230CITHER2_2,  A17N,   227,  1,     17,     17,2,19940319,0837,  7.0100, -50.8400, 4069,   1599.7,   4.6060,  34.9930,2,  34.9920,2,    227.2,2,    226.7,2,    18.30,2,    21.42,2,     1.41,2,    0.154,2,    0.085,2, -999.000,9,   1.7800,2,     1.69,2,   -999.0,9,   -999.0,9,     7.99,2,  4.4690
 3230CITHER2_2,  A17N,   227,  1,     16,     16,2,19940319,0837,  7.0100, -50.8400, 4069,   1699.1,   4.4080,  34.9950,2,  34.9810,2,    236.7,2,    235.8,2,    17.50,2,    20.65,2,     1.34,2,    0.143,2,    0.085,2, -999.000,9,-999.0000,9,  -999.00,9,   -999.0,9,   -999.0,9,     8.00,2,  4.2640
 3230CITHER2_2,  A17N,   227,  1,     15,     15,2,19940319,0837,  7.0100, -50.8400, 4069,   1798.0,   4.2830,  35.0060,2,  35.0060,2,    247.3,2,    248.2,2,    16.00,2,    19.41,2,     1.25,2,    0.244,2,    0.138,2, -999.000,9,   1.8000,2,     2.20,2,   -999.0,9,   -999.0,9,     8.01,2,  4.1310
 3230CITHER2_2,  A17N,   227,  1,     14,     14,2,19940319,0837,  7.0100, -50.8400, 4069,   1999.3,   3.8630,  34.9930,2,  34.9870,2,    256.2,2,    256.3,2,    17.30,2,    18.94,2,     1.23,2,    0.158,2,    0.091,2, -999.000,9,   1.8000,2,     3.58,2,   -999.0,9,   -999.0,9,     8.02,2,  3.6970
 3230CITHER2_2,  A17N,   227,  1,     13,     13,2,19940319,0837,  7.0100, -50.8400, 4069,   2199.8,   3.4590,  34.9770,2,  34.9730,2,    260.2,2,    261.6,2,    19.30,2,    18.83,2,     1.22,2,    0.113,2,    0.069,2, -999.000,9,-999.0000,9,  -999.00,9,   -999.0,9,   -999.0,9,     8.02,2,  3.2800
 3230CITHER2_2,  A17N,   227,  1,     12,     12,2,19940319,0837,  7.0100, -50.8400, 4069,   2401.4,   3.1580,  34.9600,2,  34.9650,2,    261.2,2,    261.4,2,    21.70,2,    18.98,2,     1.23,2,    0.100,2,    0.058,2, -999.000,9,   1.8100,2,     1.00,2,   -999.0,9,   -999.0,9,     8.02,2,  2.9650
 3230CITHER2_2,  A17N,   227,  1,     11,     11,2,19940319,0837,  7.0100, -50.8400, 4069,   2600.3,   2.9130,  34.9460,2,  34.9460,2,    262.0,2,    262.2,2,    23.90,2,    18.94,2,     1.24,2,    0.116,2,    0.068,2, -999.000,9,-999.0000,9,  -999.00,9,   -999.0,9,   -999.0,9,     8.02,2,  2.7050
 3230CITHER2_2,  A17N,   227,  1,     10,     10,2,19940319,0837,  7.0100, -50.8400, 4069,   2799.7,   2.7460,  34.9340,2,  34.9340,2,    261.7,2,    260.5,2,    27.70,2,    19.37,2,     1.26,2,    0.088,2,    0.054,2, -999.000,9,   1.7700,2,     2.15,2,   -999.0,9,   -999.0,9,     8.02,2,  2.5210
 3230CITHER2_2,  A17N,   227,  1,      9,      9,2,19940319,0837,  7.0100, -50.8400, 4069,   3001.0,   2.6050,  34.9250,2,  34.9230,2,    258.7,2,    259.9,2,    30.50,2,    19.64,2,     1.29,2,    0.080,2,    0.044,2, -999.000,9,-999.0000,9,  -999.00,9,   -999.0,9,   -999.0,9,     8.02,2,  2.3630
 3230CITHER2_2,  A17N,   227,  1,      8,      8,2,19940319,0837,  7.0100, -50.8400, 4069,   3198.6,   2.4640,  34.9140,2,  34.9140,2,    262.6,2,    260.6,2,    32.20,2,    19.72,2,     1.30,2,    0.093,2,    0.054,2, -999.000,9,   1.8200,2,     2.18,2,   -999.0,9,   -999.0,9,     8.02,2,  2.2050
 3230CITHER2_2,  A17N,   227,  1,      7,      7,2,19940319,0837,  7.0100, -50.8400, 4069,   3401.3,   2.3750,  34.9090,2,  34.9090,2,    265.2,2,    265.4,2,    29.80,2,    19.06,2,     1.25,2,    0.173,2,    0.096,2, -999.000,9,-999.0000,9,  -999.00,9,   -999.0,9,   -999.0,9,     8.02,2,  2.0960
 3230CITHER2_2,  A17N,   227,  1,      6,      6,2,19940319,0837,  7.0100, -50.8400, 4069,   3552.2,   2.3380,  34.9060,2,  34.9040,2,    264.5,2,    265.0,2,    30.90,2,    19.21,2,     1.26,2,    0.150,2,    0.085,2, -999.000,9,-999.0000,9,  -999.00,9,   -999.0,9,   -999.0,9,     8.02,2,  2.0440
 3230CITHER2_2,  A17N,   227,  1,      5,      5,2,19940319,0837,  7.0100, -50.8400, 4069,   3697.6,   2.3360,  34.9040,2,  34.9040,2,    264.4,2,    265.3,2,    30.90,2,    19.10,2,     1.26,2,    0.163,2,    0.091,2, -999.000,9,   1.7700,2,     2.05,2,   -999.0,9,   -999.0,9,     8.02,2,  2.0260
 3230CITHER2_2,  A17N,   227,  1,      4,      4,2,19940319,0837,  7.0100, -50.8400, 4069,   3849.0,   2.3070,  34.9010,2,  34.9010,2,    264.8,2,    264.2,2,    32.00,2,    19.25,2,     1.27,2,    0.171,2,    0.092,2, -999.000,9,-999.0000,9,  -999.00,9,   -999.0,9,   -999.0,9,     8.01,2,  1.9810
 3230CITHER2_2,  A17N,   227,  1,      2,      2,2,19940319,0837,  7.0100, -50.8400, 4069,   3997.7,   2.1530,  34.8840,2,  34.8850,2,    259.9,2,    259.8,2,    39.70,2,    20.34,2,     1.36,2,    0.102,2,    0.067,2, -999.000,9,-999.0000,9,  -999.00,9,   -999.0,9,   -999.0,9,     8.01,2,  1.8150
 3230CITHER2_2,  A17N,   227,  1,      3,      3,2,19940319,0837,  7.0100, -50.8400, 4069,   3998.2,   2.1530,  34.8840,2,  34.8860,2,    259.9,2,    259.9,2,    39.70,2,    20.34,2,     1.36,2,    0.102,2,    0.061,2, -999.000,9,-999.0000,9,  -999.00,9,   -999.0,9,   -999.0,9,     8.01,2,  1.8150
 3230CITHER2_2,  A17N,   227,  1,      1,      1,2,19940319,0837,  7.0100, -50.8400, 4069,   4111.6,   2.1140,  34.8780,2,  34.8810,2,    257.5,2,    257.9,2,    43.10,2,    20.76,2,     1.39,2,    0.083,2,    0.053,2, -999.000,9,   1.8200,2,     1.60,2,   -999.0,9,   -999.0,9,     8.01,2,  1.7640
 3230CITHER2_2,  A17N,   228,  1,     32,     32,2,19940319,1431,  6.5763, -51.0892, 3529,      6.1,  27.7810,  36.2680,2,  36.2680,2,    197.3,2,    197.6,2,     1.80,2,     0.04,2,     0.06,2,    1.644,2,    0.940,2, -999.000,9,-999.0000,9,  -999.00,9,   2018.2,2,   2385.7,2,     8.38,2, 27.7800
 3230CITHER2_2,  A17N,   228,  1,     31,     31,2,19940319,1431,  6.5763, -51.0892, 3529,     31.7,  27.7190,  36.2670,2,  36.2710,2,    198.5,2,    198.3,2,     1.60,2,     0.04,2,     0.06,2, -999.000,5, -999.000,5, -999.000,9,-999.0000,9,  -999.00,9,   2017.7,2,   2386.1,2,     8.38,2, 27.7120
 3230CITHER2_2,  A17N,   228,  1,     30,     30,2,19940319,1431,  6.5763, -51.0892, 3529,     59.9,  27.7070,  36.2680,2,  36.2690,2,    197.6,2,    198.1,2,     1.60,2,     0.04,2,     0.06,2,    1.664,2,    0.943,2, -999.000,9,-999.0000,9,  -999.00,9,   2010.1,2,   2384.4,2,     8.38,2, 27.6930
 3230CITHER2_2,  A17N,   228,  1,     29,     29,2,19940319,1431,  6.5763, -51.0892, 3529,    102.8,  25.4240,  36.5580,2,  36.5430,2,    193.6,2,    191.7,2,     1.80,2,     0.39,2,     0.16,2,    1.723,2,    0.966,2, -999.000,9,-999.0000,9,  -999.00,9,   2057.5,2,   2404.7,2,     8.34,2, 25.4010
 3230CITHER2_2,  A17N,   228,  1,     28,     28,2,19940319,1431,  6.5763, -51.0892, 3529,    142.7,  23.3040,  36.5810,2,  36.6010,2,    191.6,2,    193.6,2,     2.20,2,     2.21,2,     0.29,2, -999.000,5, -999.000,5, -999.000,9,-999.0000,9,  -999.00,9,   2084.8,2,   2410.1,2,     8.30,2, 23.2740
 3230CITHER2_2,  A17N,   228,  1,     27,     27,2,19940319,1431,  6.5763, -51.0892, 3529,    200.1,  14.6360,  35.7870,2,  35.7640,2,    120.6,2,    116.3,2,     8.00,2,    19.43,2,     1.19,2,    1.197,2,    0.640,2, -999.000,9,-999.0000,9,  -999.00,9,   2175.5,2,   2356.3,2,     8.04,2, 14.6060
 3230CITHER2_2,  A17N,   228,  1,     26,     26,2,19940319,1431,  6.5763, -51.0892, 3529,    253.6,  10.2540,  35.0390,2,  35.0430,2,    121.5,2,    123.2,2,    13.30,2,    25.31,2,     1.67,2, -999.000,5, -999.000,5, -999.000,9,-999.0000,9,  -999.00,9,   2188.8,2,   2323.8,2,     7.93,2, 10.2240
 3230CITHER2_2,  A17N,   228,  1,     25,     25,2,19940319,1431,  6.5763, -51.0892, 3529,    300.7,   8.8270,  34.8050,2,  34.8040,2,    130.9,2,    135.4,2,    15.70,2,    27.55,2,     1.83,2,    0.624,2,    0.339,2, -999.000,9,-999.0000,9,  -999.00,9,   2190.3,2,   2313.4,2,     7.91,2,  8.7950
 3230CITHER2_2,  A17N,   228,  1,     24,     24,2,19940319,1431,  6.5763, -51.0892, 3529,    401.1,   7.6330,  34.7090,2,  34.7080,2,    120.8,2,    122.7,2,    19.60,2,    31.60,2,     2.07,2,    0.292,2,    0.164,2, -999.000,9,-999.0000,9,  -999.00,9,   2207.5,2,   2311.2,2,     7.85,2,  7.5930
 3230CITHER2_2,  A17N,   228,  1,     23,     23,2,19940319,1431,  6.5763, -51.0892, 3529,    501.9,   6.6720,  34.6160,2,  34.6160,2,    131.1,2,    131.1,2,    22.70,2,    32.62,2,     2.19,2,    0.210,2,    0.119,2, -999.000,9,-999.0000,9,  -999.00,9,   2211.3,2,   2309.9,2,     7.84,2,  6.6250
 3230CITHER2_2,  A17N,   228,  1,     22,     22,2,19940319,1431,  6.5763, -51.0892, 3529,    601.2,   6.1570,  34.6010,2,  34.6060,2,    127.7,2,    127.3,2,    24.90,2,    34.09,2,     2.27,2,    0.106,2,    0.062,2, -999.000,9,-999.0000,9,  -999.00,9,   2210.9,2,   2311.7,2,     7.83,2,  6.1030
 3230CITHER2_2,  A17N,   228,  1,     21,     21,2,19940319,1431,  6.5763, -51.0892, 3529,    696.9,   5.7720,  34.6000,2,  34.5960,2,    134.2,2,    130.9,2,    26.70,2,    34.14,2,     2.32,2,    0.063,2,    0.040,2, -999.000,9,-999.0000,9,  -999.00,9,   2220.0,2,   2313.6,2,     7.82,2,  5.7110
 3230CITHER2_2,  A17N,   228,  1,     20,     20,2,19940319,1431,  6.5763, -51.0892, 3529,    798.6,   5.1440,  34.5750,2,  34.5680,2,    143.6,2,    141.5,2,    29.80,2,    34.16,2,     2.34,2,    0.039,2,    0.024,2, -999.000,9,-999.0000,9,  -999.00,9,   2220.0,2,   2314.5,2,     7.83,2,  5.0780
 3230CITHER2_2,  A17N,   228,  1,     19,     19,2,19940319,1431,  6.5763, -51.0892, 3529,    899.0,   4.9800,  34.6050,2,  34.6040,2,    145.2,2,    142.6,2,    30.00,2,    34.00,2,     2.31,2,    0.016,2,    0.009,2, -999.000,9,-999.0000,9,  -999.00,9,   2220.6,2,   2318.0,2,     7.83,2,  4.9060
 3230CITHER2_2,  A17N,   228,  1,     18,     18,2,19940319,1431,  6.5763, -51.0892, 3529,   1000.0,   4.7000,  34.6220,2,  34.6210,2,    149.9,2,    150.4,2,    30.80,2,    33.05,2,     2.27,2,    0.012,2,    0.004,2, -999.000,9,-999.0000,9,  -999.00,9,   2218.8,2,   2320.5,2,     7.85,2,  4.6190
 3230CITHER2_2,  A17N,   228,  1,     17,     17,2,19940319,1431,  6.5763, -51.0892, 3529,   1201.0,   4.9220,  34.8350,2,  34.8300,2,    167.9,2,    170.3,2,    25.60,2,    28.40,2,     1.93,2,    0.025,2,    0.018,2, -999.000,9,-999.0000,9,  -999.00,9,   2204.9,2,   2327.0,2,     7.90,2,  4.8200
 3230CITHER2_2,  A17N,   228,  1,     16,     16,2,19940319,1431,  6.5763, -51.0892, 3529,   1400.6,   4.8200,  34.9510,2,  34.9440,2,    201.0,2,    202.5,2,    20.90,2,    23.61,2,     1.60,2,    0.078,2,    0.047,2, -999.000,9,-999.0000,9,  -999.00,9,   2186.7,2,   2328.4,2,     7.96,2,  4.7000
 3230CITHER2_2,  A17N,   228,  1,     15,     15,2,19940319,1431,  6.5763, -51.0892, 3529,   1500.3,   4.6600,  34.9820,2,  34.9830,2,    215.8,2,    220.0,2,    18.80,2,    21.91,2,     1.47,2,    0.108,2,    0.066,2, -999.000,9,-999.0000,9,  -999.00,9,   2171.0,2,   2330.2,2,     7.98,2,  4.5320
 3230CITHER2_2,  A17N,   228,  1,     14,     14,2,19940319,1431,  6.5763, -51.0892, 3529,   1601.0,   4.4100,  34.9830,2,  34.9830,2,    227.6,2,    229.2,2,    18.70,2,    21.17,2,     1.41,2,    0.084,2,    0.048,2, -999.000,9,-999.0000,9,  -999.00,9,   2173.6,2,   2328.5,2,     7.99,2,  4.2760
 3230CITHER2_2,  A17N,   228,  1,     13,     13,2,19940319,1431,  6.5763, -51.0892, 3529,   1700.9,   4.3010,  35.0050,2,  35.0050,2,    240.9,2,    245.6,2,    16.00,2,    19.39,2,     1.28,2,    0.226,2,    0.131,2, -999.000,9,-999.0000,9,  -999.00,9,   2164.1,2,   2327.8,2,     8.01,2,  4.1580
 3230CITHER2_2,  A17N,   228,  1,     12,     12,2,19940319,1431,  6.5763, -51.0892, 3529,   1800.0,   3.9690,  34.9970,2,  35.0040,2,    254.4,2,    255.9,2,    15.60,2,    18.58,2,     1.22,2,    0.220,2,    0.129,2, -999.000,9,-999.0000,9,  -999.00,9,   2158.7,2,   2329.2,2,     8.02,2,  3.8210
 3230CITHER2_2,  A17N,   228,  1,     11,     11,2,19940319,1431,  6.5763, -51.0892, 3529,   1999.3,   3.6220,  34.9850,2,  34.9840,2,    258.2,2,    258.5,2,    17.70,2,    18.62,2,     1.22,2,    0.122,2,    0.076,2, -999.000,9,-999.0000,9,  -999.00,9,   2160.7,2,   2329.1,2,     8.02,2,  3.4600
 3230CITHER2_2,  A17N,   228,  1,     10,     10,2,19940319,1431,  6.5763, -51.0892, 3529,   2199.1,   3.2720,  34.9670,2,  34.9700,2,    259.9,2,    259.9,2,    20.70,2,    18.78,2,     1.24,2,    0.071,2,    0.042,2, -999.000,9,-999.0000,9,  -999.00,9,   2163.3,2,   2331.5,2,     8.02,2,  3.0960
 3230CITHER2_2,  A17N,   228,  1,      9,      9,2,19940319,1431,  6.5763, -51.0892, 3529,   2399.3,   3.0690,  34.9570,2,  34.9560,2,    260.9,2,    261.4,2,    22.10,2,    18.70,2,     1.24,2,    0.101,2,    0.061,2, -999.000,9,-999.0000,9,  -999.00,9,   2168.2,2,   2333.2,2,     8.02,2,  2.8780
 3230CITHER2_2,  A17N,   228,  1,      8,      8,2,19940319,1431,  6.5763, -51.0892, 3529,   2600.0,   2.8020,  34.9400,2,  34.9410,2,    259.9,2,    260.4,2,    26.10,2,    19.13,2,     1.27,2,    0.088,2,    0.052,2, -999.000,9,-999.0000,9,  -999.00,9,   2166.3,2,   2335.9,2,     8.02,2,  2.5960
 3230CITHER2_2,  A17N,   228,  1,      7,      7,2,19940319,1431,  6.5763, -51.0892, 3529,   2799.7,   2.6620,  34.9290,2,  34.9310,2,    257.8,2,    258.3,2,    29.60,2,    19.48,2,     1.30,2,    0.063,2,    0.037,2, -999.000,9,-999.0000,9,  -999.00,9,   2173.5,2,   2340.2,2,     8.01,2,  2.4390
 3230CITHER2_2,  A17N,   228,  1,      6,      6,2,19940319,1431,  6.5763, -51.0892, 3529,   3000.5,   2.5600,  34.9190,2,  34.9190,2,    254.1,2,    253.9,2,    35.20,2,    20.52,2,     1.36,2,    0.022,2,    0.017,2, -999.000,9,-999.0000,9,  -999.00,9,   2179.8,2,   2344.4,2,     8.01,2,  2.3190
 3230CITHER2_2,  A17N,   228,  1,      5,      5,2,19940319,1431,  6.5763, -51.0892, 3529,   3199.3,   2.4650,  34.9150,2,  34.9190,2,    263.5,2,    262.9,2,    29.30,2,    19.02,2,     1.27,2,    0.153,2,    0.084,2, -999.000,9,-999.0000,9,  -999.00,9,   2170.2,2,   2337.4,2,     8.01,2,  2.2050
 3230CITHER2_2,  A17N,   228,  1,      4,      4,2,19940319,1431,  6.5763, -51.0892, 3529,   3399.2,   2.4700,  34.9140,2,  34.9170,2,    264.2,2,    263.3,2,    29.60,2,    19.02,2,     1.27,2,    0.155,2,    0.089,2, -999.000,9,-999.0000,9,  -999.00,9,   2172.5,2,   2338.1,2,     8.02,2,  2.1890
 3230CITHER2_2,  A17N,   228,  1,      3,      3,2,19940319,1431,  6.5763, -51.0892, 3529,   3498.5,   2.4290,  34.9110,2,  34.9120,2,    264.6,2,    262.7,2,    30.50,2,    19.18,2,     1.28,2,    0.141,2,    0.081,2, -999.000,9,-999.0000,9,  -999.00,9,   2172.6,2,   2338.8,2,     8.02,2,  2.1390
 3230CITHER2_2,  A17N,   228,  1,      2,      2,2,19940319,1431,  6.5763, -51.0892, 3529,   3551.7,   2.4350,  34.9100,2,  34.9120,2,    264.6,2,    263.3,2,    30.60,2,    19.19,2,     1.28,2,    0.140,2,    0.079,2, -999.000,9,-999.0000,9,  -999.00,9,   -999.0,5,   2339.6,2,     8.02,2,  2.1380
 3230CITHER2_2,  A17N,   228,  1,      1,      1,2,19940319,1431,  6.5763, -51.0892, 3529,   3551.9,   2.4340,  34.9110,2,  34.9120,2,    264.6,2,    264.0,2,    30.70,2,    19.19,2,     1.28,2,    0.138,2,    0.077,2, -999.000,9,-999.0000,9,  -999.00,9,   2172.4,2,   2339.6,2,     8.02,2,  2.1390