BOTTLE,20030515WHPSIOSA
EXPOCODE,SECT_ID,STNNBR,CASTNO,SAMPNO,BTLNBR,BTLNBR_FLAG_W,DATE,TIME,LATITUDE,LONGITUDE,DEPTH,CTDPRS,CTDTMP,CTDSAL,CTDSAL_FLAG_W,SALNTY,SALNTY_FLAG_W,CTDOXY,CTDOXY_FLAG_W,OXYGEN,OXYGEN_FLAG_W,SILCAT,SILCAT_FLAG_W,NITRAT,NITRAT_FLAG_W,PHSPHT,PHSPHT_FLAG_W,CFC-11,CFC-11_FLAG_W,CFC-12,CFC-12_FLAG_W,TRITUM,TRITUM_FLAG_W,HELIUM,HELIUM_FLAG_W,DELHE3,DELHE3_FLAG_W,TCARBN,TCARBN_FLAG_W,ALKALI,ALKALI_FLAG_W,PH,PH_FLAG_W,THETA
,,,,,,,,,,,,DBAR,ITS-90,PSS-78,,PSS-78,,UMOL/KG,,UMOL/KG,,UMOL/KG,,UMOL/KG,,UMOL/KG,,PMOL/KG,,PMOL/KG,,TU,,NMOL/KG,,PERCNT,,UMOL/KG,,UMOL/KG,,,,DEG C
 3230CITHER2_2,  A17N,   127,  1,     32,     32,2,19940219,1749,-13.2243, -35.9615, 4339,      5.4,  28.5560,  37.1820,2,  37.1980,2,    191.4,2,    198.4,2,     1.20,2,     0.04,2,     0.04,2,    1.601,2,    0.951,2, -999.000,9,-999.0000,9,  -999.00,9,   -999.0,9,   -999.0,9,     8.41,2, 28.5550
 3230CITHER2_2,  A17N,   127,  1,     31,     31,2,19940219,1749,-13.2243, -35.9615, 4339,     51.9,  28.1700,  37.1330,2,  37.1350,2,    207.6,2,    201.4,2,     1.10,2,     0.04,2,     0.05,2,    1.626,2,    0.950,2, -999.000,9,-999.0000,9,  -999.00,9,   -999.0,9,   -999.0,9,     8.40,2, 28.1580
 3230CITHER2_2,  A17N,   127,  1,     30,     30,2,19940219,1749,-13.2243, -35.9615, 4339,    126.5,  24.0590,  36.9730,2,  36.9620,2,    212.6,2,    208.4,2,     1.10,2,     0.04,2,     0.18,2,    1.902,2,    1.079,2, -999.000,9,-999.0000,9,  -999.00,9,   -999.0,9,   -999.0,9,     8.34,2, 24.0320
 3230CITHER2_2,  A17N,   127,  1,     29,     29,2,19940219,1749,-13.2243, -35.9615, 4339,    201.8,  17.9620,  35.9880,2,  35.9620,2,    173.1,2,    168.2,2,     3.00,2,     8.41,2,     0.71,2,    1.972,2,    1.077,2, -999.000,9,-999.0000,9,  -999.00,9,   -999.0,9,   -999.0,9,     8.18,2, 17.9270
 3230CITHER2_2,  A17N,   127,  1,     28,     28,2,19940219,1749,-13.2243, -35.9615, 4339,    302.2,  12.3250,  35.1460,2,  35.1310,2,    140.4,2,    142.4,2,     7.50,2,    19.77,2,     1.36,2,    1.326,2,    0.715,2, -999.000,9,-999.0000,9,  -999.00,9,   -999.0,9,   -999.0,9,     8.02,2, 12.2850
 3230CITHER2_2,  A17N,   127,  1,     27,     27,2,19940219,1749,-13.2243, -35.9615, 4339,    395.7,   8.9030,  34.7550,2,  34.7560,2,    159.1,2,    143.8,2,    13.50,2,    26.83,2,     1.80,2,    0.673,2,    0.373,2, -999.000,9,-999.0000,9,  -999.00,9,   -999.0,9,   -999.0,9,     7.93,2,  8.8600
 3230CITHER2_2,  A17N,   127,  1,     26,     26,2,19940219,1749,-13.2243, -35.9615, 4339,    551.5,   5.3750,  34.4170,2,  34.4270,2,    184.6,2,    185.8,2,    23.50,2,    30.76,2,     2.09,2,    0.509,2,    0.275,2, -999.000,9,-999.0000,9,  -999.00,9,   -999.0,9,   -999.0,9,     7.90,2,  5.3290
 3230CITHER2_2,  A17N,   127,  1,     25,     25,2,19940219,1749,-13.2243, -35.9615, 4339,    701.1,   4.4910,  34.4260,2,  34.4290,2,    180.4,2,    174.0,2,    31.00,2,    33.40,2,     2.28,2,    0.189,2,    0.107,2, -999.000,9,-999.0000,9,  -999.00,9,   -999.0,9,   -999.0,9,     7.87,2,  4.4370
 3230CITHER2_2,  A17N,   127,  1,     24,     24,2,19940219,1749,-13.2243, -35.9615, 4339,    801.6,   4.0930,  34.4440,2,  34.4460,2,    178.9,2,    177.0,2,    34.80,2,    33.51,2,     2.29,2,    0.114,2,    0.071,2, -999.000,9,-999.0000,9,  -999.00,9,   -999.0,9,   -999.0,9,     7.87,2,  4.0330
 3230CITHER2_2,  A17N,   127,  1,     23,     23,2,19940219,1749,-13.2243, -35.9615, 4339,   1001.6,   3.8440,  34.5570,2,  34.5600,2,    178.1,2,    176.6,2,    36.80,2,    32.60,2,     2.23,2,    0.025,2,    0.021,2, -999.000,9,-999.0000,9,  -999.00,9,   -999.0,9,   -999.0,9,     7.88,2,  3.7690
 3230CITHER2_2,  A17N,   127,  1,     22,     22,2,19940219,1749,-13.2243, -35.9615, 4339,   1200.6,   4.0200,  34.7300,2,  34.7350,2,    188.8,2,    187.5,2,    31.30,2,    29.41,2,     1.99,2,    0.012,2,    0.014,2, -999.000,9,-999.0000,9,  -999.00,9,   -999.0,9,   -999.0,9,     7.91,2,  3.9270
 3230CITHER2_2,  A17N,   127,  1,     21,     21,2,19940219,1749,-13.2243, -35.9615, 4339,   1400.9,   4.1370,  34.8850,2,  34.8840,2,    211.1,2,    209.8,2,    24.10,2,    24.92,2,     1.69,2,    0.013,2,    0.016,2, -999.000,9,-999.0000,9,  -999.00,9,   -999.0,9,   -999.0,9,     7.95,2,  4.0250
 3230CITHER2_2,  A17N,   127,  1,     19,     19,2,19940219,1749,-13.2243, -35.9615, 4339,   1499.6,   4.1850,  34.9420,2,  34.9420,2,    226.0,2,    224.8,2,    20.30,2,    22.60,2,     1.53,2,    0.044,2,    0.024,2, -999.000,9,-999.0000,9,  -999.00,9,   -999.0,9,   -999.0,9,     7.99,2,  4.0630
 3230CITHER2_2,  A17N,   127,  1,     20,     20,2,19940219,1749,-13.2243, -35.9615, 4339,   1499.8,   4.1850,  34.9400,2,  34.9420,2,    226.0,2,    224.3,2,    20.30,2,    22.58,2,     1.53,2,    0.043,2,    0.027,2, -999.000,9,-999.0000,9,  -999.00,9,   -999.0,9,   -999.0,9,     7.99,2,  4.0630
 3230CITHER2_2,  A17N,   127,  1,     18,     18,2,19940219,1749,-13.2243, -35.9615, 4339,   1601.5,   3.9640,  34.9460,2,  34.9480,2,    232.2,2,    232.8,2,    21.00,2,    22.11,2,     1.48,2,    0.038,2,    0.036,2, -999.000,9,-999.0000,9,  -999.00,9,   -999.0,9,   -999.0,9,     7.99,2,  3.8350
 3230CITHER2_2,  A17N,   127,  1,     17,     17,2,19940219,1749,-13.2243, -35.9615, 4339,   1700.5,   3.7430,  34.9430,2,  34.9460,2,    239.7,2,    237.6,2,    22.20,2,    21.73,2,     1.46,2,    0.029,2,    0.024,2, -999.000,9,-999.0000,9,  -999.00,9,   -999.0,9,   -999.0,9,     8.00,2,  3.6080
 3230CITHER2_2,  A17N,   127,  1,     16,     16,2,19940219,1749,-13.2243, -35.9615, 4339,   1798.8,   3.7260,  34.9660,2,  34.9690,2,    248.1,2,    246.8,2,    19.70,2,    20.66,2,     1.38,2,    0.042,2,    0.034,2, -999.000,9,-999.0000,9,  -999.00,9,   -999.0,9,   -999.0,9,     8.01,2,  3.5820
 3230CITHER2_2,  A17N,   127,  1,     15,     15,2,19940219,1749,-13.2243, -35.9615, 4339,   1900.5,   3.6160,  34.9650,2,  34.9670,2,    250.3,2,    249.2,2,    20.60,2,    20.55,2,     1.36,2,    0.040,2,    0.038,2, -999.000,9,-999.0000,9,  -999.00,9,   -999.0,9,   -999.0,9,     8.01,2,  3.4640
 3230CITHER2_2,  A17N,   127,  1,     14,     14,2,19940219,1749,-13.2243, -35.9615, 4339,   1999.6,   3.5310,  34.9640,2,  34.9640,2,    251.9,2,    250.9,2,    21.00,2,    20.37,2,     1.35,2,    0.040,2,    0.026,2, -999.000,9,-999.0000,9,  -999.00,9,   -999.0,9,   -999.0,9,     8.01,2,  3.3700
 3230CITHER2_2,  A17N,   127,  1,     13,     13,2,19940219,1749,-13.2243, -35.9615, 4339,   2200.6,   3.3130,  34.9560,2,  34.9560,2,    253.0,2,    252.0,2,    23.50,2,    20.45,2,     1.35,2,    0.028,2,    0.024,2, -999.000,9,-999.0000,9,  -999.00,9,   -999.0,9,   -999.0,9,     8.01,2,  3.1370
 3230CITHER2_2,  A17N,   127,  1,     12,     12,2,19940219,1749,-13.2243, -35.9615, 4339,   2399.4,   3.1040,  34.9410,2,  34.9410,2,    252.7,2,    250.8,2,    27.40,2,    20.75,2,     1.39,2,    0.011,2,    0.011,2, -999.000,9,-999.0000,9,  -999.00,9,   -999.0,9,   -999.0,9,     8.01,2,  2.9120
 3230CITHER2_2,  A17N,   127,  1,     11,     11,2,19940219,1749,-13.2243, -35.9615, 4339,   2600.2,   2.9720,  34.9380,2,  34.9420,2,    253.1,2,    251.4,2,    29.10,2,    20.75,2,     1.39,2,    0.015,2,    0.016,2, -999.000,9,-999.0000,9,  -999.00,9,   -999.0,9,   -999.0,9,     8.01,2,  2.7630
 3230CITHER2_2,  A17N,   127,  1,     10,     10,2,19940219,1749,-13.2243, -35.9615, 4339,   2799.5,   2.8560,  34.9300,2,  34.9320,2,    251.5,2,    251.3,2,    31.10,2,    21.11,2,     1.41,2,    0.015,2,    0.011,2, -999.000,9,-999.0000,9,  -999.00,9,   -999.0,9,   -999.0,9,     8.01,2,  2.6290
 3230CITHER2_2,  A17N,   127,  1,      9,      9,2,19940219,1749,-13.2243, -35.9615, 4339,   2998.7,   2.7570,  34.9250,2,  34.9240,2,    251.8,2,    251.4,2,    32.70,2,    21.16,2,     1.41,2,    0.009,2,    0.009,2, -999.000,9,-999.0000,9,  -999.00,9,   -999.0,9,   -999.0,9,     8.01,2,  2.5120
 3230CITHER2_2,  A17N,   127,  1,      8,      8,2,19940219,1749,-13.2243, -35.9615, 4339,   3299.3,   2.6200,  34.9170,2,  34.9150,2,    254.2,2,    253.3,2,    34.50,2,    21.16,2,     1.41,2,    0.008,2,    0.012,2, -999.000,9,-999.0000,9,  -999.00,9,   -999.0,9,   -999.0,9,     8.02,2,  2.3460
 3230CITHER2_2,  A17N,   127,  1,      7,      7,2,19940219,1749,-13.2243, -35.9615, 4339,   3600.9,   2.3340,  34.8930,2,  34.8940,2,    255.1,2,    254.1,2,    41.00,2,    21.70,2,     1.46,2,    0.015,2,    0.011,2, -999.000,9,-999.0000,9,  -999.00,9,   -999.0,9,   -999.0,9,     8.02,2,  2.0350
 3230CITHER2_2,  A17N,   127,  1,      6,      6,2,19940219,1749,-13.2243, -35.9615, 4339,   3799.4,   1.9200,  34.8490,2,  34.8460,2,    246.4,2,    245.3,2,    59.60,2,    24.24,2,     1.64,2,    0.001,2,    0.007,2, -999.000,9,-999.0000,9,  -999.00,9,   -999.0,9,   -999.0,9,     7.99,2,  1.6100
 3230CITHER2_2,  A17N,   127,  1,      5,      5,2,19940219,1749,-13.2243, -35.9615, 4339,   3899.9,   1.6180,  34.8170,2,  34.8180,2,    240.4,2,    239.4,2,    73.20,2,    25.97,2,     1.76,2,    0.004,2,    0.005,2, -999.000,9,-999.0000,9,  -999.00,9,   -999.0,9,   -999.0,9,     7.97,2,  1.3060
 3230CITHER2_2,  A17N,   127,  1,      4,      4,2,19940219,1749,-13.2243, -35.9615, 4339,   3998.5,   1.3580,  34.7880,2,  34.7870,2,    235.0,2,    234.3,2,    85.70,2,    27.60,2,     1.88,2,    0.009,2,    0.010,2, -999.000,9,-999.0000,9,  -999.00,9,   -999.0,9,   -999.0,9,     7.96,2,  1.0430
 3230CITHER2_2,  A17N,   127,  1,      3,      3,2,19940219,1749,-13.2243, -35.9615, 4339,   4099.3,   1.1510,  34.7660,2,  34.7660,2,    230.2,2,    230.7,2,    95.20,2,    28.88,2,     1.98,2,    0.015,2,    0.012,2, -999.000,9,-999.0000,9,  -999.00,9,   -999.0,9,   -999.0,9,     7.95,2,  0.8310
 3230CITHER2_2,  A17N,   127,  1,      2,      2,2,19940219,1749,-13.2243, -35.9615, 4339,   4298.6,   0.7960,  34.7280,2,  34.7280,2,    224.4,2,    225.1,2,   109.80,2,    30.96,2,     2.12,2,    0.034,2,    0.016,2, -999.000,9,-999.0000,9,  -999.00,9,   -999.0,9,   -999.0,9,     7.92,2,  0.4650
 3230CITHER2_2,  A17N,   127,  1,      1,      1,2,19940219,1749,-13.2243, -35.9615, 4339,   4386.5,   0.6190,  34.7100,2,  34.7100,2,    221.4,2,    223.2,2,   116.70,2,    31.75,2,     2.19,2,    0.045,2,    0.027,2, -999.000,9,-999.0000,9,  -999.00,9,   -999.0,9,   -999.0,9,     7.92,2,  0.2840
 3230CITHER2_2,  A17N,   128,  1,     32,     32,2,19940220,0002,-13.2435, -35.4765, 4406,      4.0,  28.5390,  37.1910,2,  37.1930,2,    192.8,2,    197.4,2,     0.90,2,     0.04,2,     0.06,2,    1.597,2,    0.929,2, -999.000,9,-999.0000,9,  -999.00,9,   2051.0,2,   2446.7,2,     8.41,2, 28.5380
 3230CITHER2_2,  A17N,   128,  1,     31,     31,2,19940220,0002,-13.2435, -35.4765, 4406,     50.5,  28.3840,  37.1870,2,  37.1770,2,    194.0,2,    198.2,2,     0.90,2,     0.04,2,     0.07,2,    1.595,2,    0.920,2, -999.000,9,-999.0000,9,  -999.00,9,   2051.3,2,   2446.2,2,     8.40,2, 28.3720
 3230CITHER2_2,  A17N,   128,  1,     30,     30,2,19940220,0002,-13.2435, -35.4765, 4406,    125.0,  23.8580,  36.9670,2,  36.9640,2,    210.9,2,    207.2,2,     1.10,2,     0.04,2,     0.18,2,    1.905,2,    1.054,2, -999.000,9,-999.0000,9,  -999.00,9,   2085.3,2,   2436.1,2,     8.34,2, 23.8320
 3230CITHER2_2,  A17N,   128,  1,     29,     29,2,19940220,0002,-13.2435, -35.4765, 4406,    200.4,  17.8340,  36.0010,2,  35.9930,2,    178.6,2,    174.9,2,     2.60,2,     6.99,2,     0.65,2,    2.027,2,    1.088,2, -999.000,9,-999.0000,9,  -999.00,9,   2117.0,2,   2372.7,2,     8.21,2, 17.8000
 3230CITHER2_2,  A17N,   128,  1,     28,     28,2,19940220,0002,-13.2435, -35.4765, 4406,    300.9,  12.6700,  35.1860,2,  35.1760,2,    143.7,2,    144.0,2,     7.00,2,    19.03,2,     1.31,2,    1.360,2,    0.722,2, -999.000,9,-999.0000,9,  -999.00,9,   2155.0,2,   2328.4,2,     8.04,2, 12.6290
 3230CITHER2_2,  A17N,   128,  1,     27,     27,2,19940220,0002,-13.2435, -35.4765, 4406,    400.4,   8.9480,  34.7650,2,  34.7620,2,    135.0,2,    138.5,2,    13.80,2,    27.19,2,     1.83,2, -999.000,5, -999.000,5, -999.000,9,-999.0000,9,  -999.00,9,   2185.9,2,   2313.3,2,     7.93,2,  8.9040
 3230CITHER2_2,  A17N,   128,  1,     26,     26,2,19940220,0002,-13.2435, -35.4765, 4406,    600.0,   5.0140,  34.4020,2,  34.4020,2,    193.7,2,    191.2,2,    25.40,2,    31.02,2,     2.13,2,    0.529,2,    0.285,2, -999.000,9,-999.0000,9,  -999.00,9,   2190.0,2,   2311.6,2,     7.90,2,  4.9660
 3230CITHER2_2,  A17N,   128,  1,     25,     25,2,19940220,0002,-13.2435, -35.4765, 4406,    699.8,   4.6020,  34.4370,2,  34.4400,2,    186.3,2,    168.7,2,    30.10,2,    33.85,2,     2.31,2,    0.186,2,    0.106,2, -999.000,9,-999.0000,9,  -999.00,9,   2210.9,2,   2313.6,2,     7.86,2,  4.5470
 3230CITHER2_2,  A17N,   128,  1,     24,     24,2,19940220,0002,-13.2435, -35.4765, 4406,    799.8,   4.1440,  34.4280,2,  34.4300,2,    175.7,2,    178.8,2,    33.90,2,    33.51,2,     2.29,2,    0.177,2,    0.099,2, -999.000,9,-999.0000,9,  -999.00,9,   2211.0,2,   2319.2,2,     7.87,2,  4.0840
 3230CITHER2_2,  A17N,   128,  1,     23,     23,2,19940220,0002,-13.2435, -35.4765, 4406,   1000.5,   3.6680,  34.5260,2,  34.5260,2,    183.1,2,    184.3,2,    39.40,2,    32.73,2,     2.29,2,    0.057,2,    0.033,2, -999.000,9,-999.0000,9,  -999.00,9,   2215.8,2,   2327.6,2,     7.88,2,  3.5950
 3230CITHER2_2,  A17N,   128,  1,     22,     22,2,19940220,0002,-13.2435, -35.4765, 4406,   1200.8,   4.1840,  34.7650,2,  34.7590,2,    185.8,2,    186.3,2,    29.60,2,    29.23,2,     2.00,2,    0.011,2,    0.003,2, -999.000,9,-999.0000,9,  -999.00,9,   2204.7,2,   2327.6,2,     7.91,2,  4.0890
 3230CITHER2_2,  A17N,   128,  1,     21,     21,2,19940220,0002,-13.2435, -35.4765, 4406,   1400.8,   4.1530,  34.8870,2,  34.8810,2,    208.0,2,    209.8,2,    24.10,2,    25.05,2,     1.71,2,    0.014,2,    0.011,2, -999.000,9,-999.0000,9,  -999.00,9,   2189.1,2,   2329.9,2,     7.95,2,  4.0400
 3230CITHER2_2,  A17N,   128,  1,     20,     20,2,19940220,0002,-13.2435, -35.4765, 4406,   1499.0,   4.2100,  34.9560,2,  34.9550,2,    225.1,2,    228.2,2,    19.30,2,    22.13,2,     1.50,2,    0.058,2,    0.033,2, -999.000,9,-999.0000,9,  -999.00,9,   2176.4,2,   2331.2,2,     7.98,2,  4.0880
 3230CITHER2_2,  A17N,   128,  1,     19,     19,2,19940220,0002,-13.2435, -35.4765, 4406,   1598.7,   4.0380,  34.9590,2,  34.9560,2,    232.7,2,    234.5,2,    19.60,2,    21.79,2,     1.45,2,    0.051,2,    0.033,2, -999.000,9,-999.0000,9,  -999.00,9,   2172.9,2,   2331.0,2,     7.99,2,  3.9080
 3230CITHER2_2,  A17N,   128,  1,     18,     18,2,19940220,0002,-13.2435, -35.4765, 4406,   1699.0,   3.8540,  34.9670,2,  34.9640,2,    239.6,2,    241.8,2,    19.70,2,    21.06,2,     1.40,2,    0.047,2,    0.025,2, -999.000,9,-999.0000,9,  -999.00,9,   2170.8,2,   2330.5,2,     8.00,2,  3.7170
 3230CITHER2_2,  A17N,   128,  1,     17,     17,2,19940220,0002,-13.2435, -35.4765, 4406,   1799.6,   3.6930,  34.9610,2,  34.9650,2,    245.3,2,    246.3,2,    20.60,2,    20.95,2,     1.39,2,    0.035,2,    0.025,2, -999.000,9,-999.0000,9,  -999.00,9,   2167.9,2,   2332.7,2,     8.01,2,  3.5490
 3230CITHER2_2,  A17N,   128,  1,     16,     16,2,19940220,0002,-13.2435, -35.4765, 4406,   1899.5,   3.6190,  34.9700,2,  34.9710,2,    250.0,2,    250.4,2,    20.10,2,    20.38,2,     1.33,2,    0.046,2,    0.033,2, -999.000,9,-999.0000,9,  -999.00,9,   2165.9,2,   2332.5,2,     8.01,2,  3.4670
 3230CITHER2_2,  A17N,   128,  1,     15,     15,2,19940220,0002,-13.2435, -35.4765, 4406,   1999.9,   3.4530,  34.9590,2,  34.9590,2,    249.6,2,    250.3,2,    22.30,2,    20.65,2,     1.36,2,    0.024,2,    0.017,2, -999.000,9,-999.0000,9,  -999.00,9,   2169.2,2,   2334.1,2,     8.01,2,  3.2940
 3230CITHER2_2,  A17N,   128,  1,     14,     14,2,19940220,0002,-13.2435, -35.4765, 4406,   2199.0,   3.2620,  34.9580,2,  34.9550,2,    252.2,2,    252.7,2,    24.00,2,    20.78,2,     1.34,2,    0.028,2,    0.021,2, -999.000,9,-999.0000,9,  -999.00,9,   2169.4,2,   2335.9,2,     8.01,2,  3.0870
 3230CITHER2_2,  A17N,   128,  1,     13,     13,2,19940220,0002,-13.2435, -35.4765, 4406,   2399.1,   3.0290,  34.9330,2,  34.9310,2,    250.3,2,    248.9,2,    29.90,2,    21.27,2,     1.40,2,    0.009,2,    0.011,2, -999.000,9,-999.0000,9,  -999.00,9,   2175.9,2,   2340.2,2,     8.01,2,  2.8380
 3230CITHER2_2,  A17N,   128,  1,     12,     12,2,19940220,0002,-13.2435, -35.4765, 4406,   2599.3,   2.9260,  34.9310,2,  34.9290,2,    247.3,2,    250.0,2,    31.20,2,    21.29,2,     1.41,2,    0.010,2,    0.012,2, -999.000,9,-999.0000,9,  -999.00,9,   2177.3,2,   2341.6,2,     8.01,2,  2.7180
 3230CITHER2_2,  A17N,   128,  1,     11,     11,2,19940220,0002,-13.2435, -35.4765, 4406,   2799.8,   2.8670,  34.9320,2,  34.9340,2,    251.6,2,    252.5,2,    30.50,2,    20.99,2,     1.42,2,    0.012,2,    0.014,2, -999.000,9,-999.0000,9,  -999.00,9,   2175.8,2,   2343.7,2,     8.02,2,  2.6400
 3230CITHER2_2,  A17N,   128,  1,     10,     10,2,19940220,0002,-13.2435, -35.4765, 4406,   2999.5,   2.7760,  34.9250,2,  34.9270,2,    251.5,2,    252.0,2,    32.40,2,    21.15,2,     1.40,2,    0.011,2,    0.005,2, -999.000,9,-999.0000,9,  -999.00,9,   2178.0,2,   2343.9,2,     8.01,2,  2.5300
 3230CITHER2_2,  A17N,   128,  1,      9,      9,2,19940220,0002,-13.2435, -35.4765, 4406,   3198.9,   2.7080,  34.9240,2,  34.9220,2,    252.8,2,    254.0,2,    32.60,2,    20.93,2,     1.39,2,    0.012,2,    0.012,2, -999.000,9,-999.0000,9,  -999.00,9,   2178.5,2,   2343.7,2,     8.02,2,  2.4430
 3230CITHER2_2,  A17N,   128,  1,      8,      8,2,19940220,0002,-13.2435, -35.4765, 4406,   3398.8,   2.6390,  34.9190,2,  34.9170,2,    255.2,2,    254.6,2,    33.30,2,    20.85,2,     1.38,2,    0.014,2,    0.011,2, -999.000,9,-999.0000,9,  -999.00,9,   2178.0,2,   2343.8,2,     8.02,2,  2.3540
 3230CITHER2_2,  A17N,   128,  1,      7,      7,2,19940220,0002,-13.2435, -35.4765, 4406,   3598.2,   2.4680,  34.9030,2,  34.9040,2,    254.5,2,    254.1,2,    38.20,2,    21.40,2,     1.43,2,    0.011,2,    0.008,2, -999.000,9,-999.0000,9,  -999.00,9,   2182.3,2,   2346.6,2,     8.01,2,  2.1660
 3230CITHER2_2,  A17N,   128,  1,      6,      6,2,19940220,0002,-13.2435, -35.4765, 4406,   3800.0,   2.1390,  34.8710,2,  34.8700,2,    251.3,2,    249.4,2,    50.20,2,    22.81,2,     1.55,2,    0.005,2,    0.007,2, -999.000,9,-999.0000,9,  -999.00,9,   2194.9,2,   2352.6,2,     8.00,2,  1.8230
 3230CITHER2_2,  A17N,   128,  1,      5,      5,2,19940220,0002,-13.2435, -35.4765, 4406,   3898.5,   1.8370,  34.8380,2,  34.8360,2,    244.5,2,    243.0,2,    64.60,2,    24.89,2,     1.67,2,    0.000,2,    0.001,2, -999.000,9,-999.0000,9,  -999.00,9,   2206.5,2,   2359.6,2,     7.98,2,  1.5190
 3230CITHER2_2,  A17N,   128,  1,      4,      4,2,19940220,0002,-13.2435, -35.4765, 4406,   3999.3,   1.5770,  34.8120,2,  34.8110,2,    238.7,2,    237.7,2,    76.10,2,    26.40,2,     1.79,2,    0.002,2,    0.006,2, -999.000,9,-999.0000,9,  -999.00,9,   2218.7,2,   2366.4,2,     7.96,2,  1.2550
 3230CITHER2_2,  A17N,   128,  1,      3,      3,2,19940220,0002,-13.2435, -35.4765, 4406,   4099.0,   1.3150,  34.7810,2,  34.7850,2,    233.6,2,    233.2,2,    88.40,2,    27.95,2,     1.90,2,    0.006,2,    0.007,2, -999.000,9,-999.0000,9,  -999.00,9,   2229.1,2,   2367.3,2,     7.95,2,  0.9900
 3230CITHER2_2,  A17N,   128,  1,      2,      2,2,19940220,0002,-13.2435, -35.4765, 4406,   4198.7,   1.0530,  34.7550,2,  34.7560,2,    228.8,2,    228.9,2,   100.10,2,    29.40,2,     2.01,2,    0.014,2,    0.009,2, -999.000,9,-999.0000,9,  -999.00,9,   2238.8,2,   2380.4,3,     7.93,2,  0.7250
 3230CITHER2_2,  A17N,   128,  1,      1,      1,2,19940220,0002,-13.2435, -35.4765, 4406,   4446.5,   0.6370,  34.7110,2,  34.7130,2,      0.0,2,    222.6,2,   117.40,2,    32.06,2,     2.17,2,    0.041,2,    0.024,2, -999.000,9,-999.0000,9,  -999.00,9,   2255.5,2,   2379.4,2,     7.90,2,  0.2950