BOTTLE,20030515WHPSIOSA
EXPOCODE,SECT_ID,STNNBR,CASTNO,SAMPNO,BTLNBR,BTLNBR_FLAG_W,DATE,TIME,LATITUDE,LONGITUDE,DEPTH,CTDPRS,CTDTMP,CTDSAL,CTDSAL_FLAG_W,SALNTY,SALNTY_FLAG_W,CTDOXY,CTDOXY_FLAG_W,OXYGEN,OXYGEN_FLAG_W,SILCAT,SILCAT_FLAG_W,NITRAT,NITRAT_FLAG_W,PHSPHT,PHSPHT_FLAG_W,CFC-11,CFC-11_FLAG_W,CFC-12,CFC-12_FLAG_W,TRITUM,TRITUM_FLAG_W,HELIUM,HELIUM_FLAG_W,DELHE3,DELHE3_FLAG_W,TCARBN,TCARBN_FLAG_W,ALKALI,ALKALI_FLAG_W,PH,PH_FLAG_W,THETA
,,,,,,,,,,,,DBAR,ITS-90,PSS-78,,PSS-78,,UMOL/KG,,UMOL/KG,,UMOL/KG,,UMOL/KG,,UMOL/KG,,PMOL/KG,,PMOL/KG,,TU,,NMOL/KG,,PERCNT,,UMOL/KG,,UMOL/KG,,,,DEG C
 3230CITHER2_1,  A17C,    70,  1,     28,     28,2,19940130,1203,-31.6710, -40.4295, 3753,      7.2,  22.4770,  35.9950,2,  35.9960,2,    220.5,2,    219.8,2,     0.80,2,     0.04,2,     0.01,2,    2.204,2,    1.228,2, -999.000,9,-999.0000,9,  -999.00,9,   2037.3,2,   -999.0,9,     8.34,2, 22.4760
 3230CITHER2_1,  A17C,    70,  1,     27,     27,2,19940130,1203,-31.6710, -40.4295, 3753,     34.2,  22.4560,  35.9940,2,  35.9960,2,    216.1,2,    219.3,2,     0.80,2,     0.04,2,     0.01,2,    2.209,2,    1.230,2, -999.000,9,-999.0000,9,  -999.00,9,   2037.9,2,   -999.0,9,     8.33,2, 22.4490
 3230CITHER2_1,  A17C,    70,  1,     26,     26,2,19940130,1203,-31.6710, -40.4295, 3753,     75.6,  18.2770,  35.9710,2,  35.9690,2,    239.3,2,    238.0,2,     1.20,2,     0.04,2,     0.08,2,    2.600,2,    1.400,2, -999.000,9,-999.0000,9,  -999.00,9,   2057.5,2,   -999.0,9,     8.30,2, 18.2640
 3230CITHER2_1,  A17C,    70,  1,     25,     25,2,19940130,1203,-31.6710, -40.4295, 3753,    100.9,  17.2540,  35.8810,2,  35.8770,2,    231.7,2,    231.3,2,     1.20,2,     0.12,2,     0.11,2,    2.677,2,    1.445,2, -999.000,9,-999.0000,9,  -999.00,9,   2067.3,2,   -999.0,9,     8.28,2, 17.2370
 3230CITHER2_1,  A17C,    70,  1,     24,     24,2,19940130,1203,-31.6710, -40.4295, 3753,    151.3,  16.9460,  35.8880,2,  35.8820,2,    221.5,2,    223.7,2,     1.30,2,     1.89,2,     0.21,2,    2.678,2,    1.445,2, -999.000,9,-999.0000,9,  -999.00,9,   2076.2,2,   -999.0,9,     8.25,2, 16.9210
 3230CITHER2_1,  A17C,    70,  1,     23,     23,2,19940130,1203,-31.6710, -40.4295, 3753,    200.7,  16.4980,  35.8380,2,  35.8370,2,    223.1,2,    220.3,2,     1.60,2,     2.98,2,     0.29,2,    2.637,2,    1.414,2, -999.000,9,-999.0000,9,  -999.00,9,   2081.4,2,   -999.0,9,     8.25,2, 16.4650
 3230CITHER2_1,  A17C,    70,  1,     22,     22,2,19940130,1203,-31.6710, -40.4295, 3753,    300.9,  15.0860,  35.6200,2,  35.6160,2,    221.5,2,    217.4,2,     2.30,2,     5.76,2,     0.48,2,    2.663,2,    1.425,2, -999.000,9,-999.0000,9,  -999.00,9,   2094.1,2,   -999.0,9,     8.21,2, 15.0400
 3230CITHER2_1,  A17C,    70,  1,     21,     21,2,19940130,1203,-31.6710, -40.4295, 3753,    399.1,  13.1630,  35.2550,2,  35.2710,2,    210.8,2,    208.7,2,     3.40,2,    10.05,2,     0.75,2,    2.471,2,    1.291,2, -999.000,9,-999.0000,9,  -999.00,9,   2108.3,2,   -999.0,9,     8.15,2, 13.1070
 3230CITHER2_1,  A17C,    70,  1,     20,     20,2,19940130,1203,-31.6710, -40.4295, 3753,    500.5,  11.2120,  34.9730,2,  34.9760,2,    210.1,2,    207.3,2,     5.30,2,    14.89,2,     1.06,2,    2.200,2,    1.141,2, -999.000,9,-999.0000,9,  -999.00,9,   2124.1,2,   -999.0,9,     8.09,2, 11.1490
 3230CITHER2_1,  A17C,    70,  1,     19,     19,2,19940130,1203,-31.6710, -40.4295, 3753,    601.4,   8.7270,  34.6570,2,  34.6530,2,    209.8,2,    209.7,2,     8.60,2,    20.49,2,     1.43,2,    2.087,2,    1.066,2, -999.000,9,-999.0000,9,  -999.00,9,   2142.1,2,   -999.0,9,     8.02,2,  8.6620
 3230CITHER2_1,  A17C,    70,  1,     18,     18,2,19940130,1203,-31.6710, -40.4295, 3753,    799.7,   5.0970,  34.2810,2,  34.2860,2,    245.8,2,    246.5,2,    13.90,2,    25.83,2,     1.80,2,    2.735,2,    1.349,2, -999.000,9,-999.0000,9,  -999.00,9,   2152.9,2,   -999.0,9,     7.96,2,  5.0310
 3230CITHER2_1,  A17C,    70,  1,     17,     17,2,19940130,1203,-31.6710, -40.4295, 3753,    879.8,   4.4650,  34.2460,2,  34.2450,2,    252.2,2,    253.3,2,    16.70,2,    26.98,2,     1.88,2,    2.820,2,    1.378,2, -999.000,9,-999.0000,9,  -999.00,9,   2157.5,2,   -999.0,9,     7.96,2,  4.3960
 3230CITHER2_1,  A17C,    70,  1,     16,     16,2,19940130,1203,-31.6710, -40.4295, 3753,   1000.2,   3.7960,  34.2480,2,  34.2490,2,    245.1,2,    242.8,2,    24.50,2,    29.28,2,     2.03,2,    2.113,2,    1.047,2, -999.000,9,-999.0000,9,  -999.00,9,   2174.6,2,   -999.0,9,     7.93,2,  3.7220
 3230CITHER2_1,  A17C,    70,  1,     15,     15,2,19940130,1203,-31.6710, -40.4295, 3753,   1200.6,   3.1820,  34.3400,2,  34.3390,2,    214.5,2,    212.5,2,    39.70,2,    31.80,2,     2.21,2,    0.880,2,    0.457,2, -999.000,9,-999.0000,9,  -999.00,9,   -999.0,9,   -999.0,9,     7.89,2,  3.0970
 3230CITHER2_1,  A17C,    70,  1,     14,     14,2,19940130,1203,-31.6710, -40.4295, 3753,   1401.1,   2.9430,  34.4680,2,  34.4640,2,    192.5,2,    192.2,2,    51.30,2,    32.34,2,     2.25,2,    0.241,2,    0.133,2, -999.000,9,-999.0000,9,  -999.00,9,   -999.0,9,   -999.0,9,     7.87,2,  2.8440
 3230CITHER2_1,  A17C,    70,  1,     13,     13,2,19940130,1203,-31.6710, -40.4295, 3753,   1599.8,   2.8690,  34.6070,2,  34.6050,2,    188.7,2,    189.9,2,    55.60,2,    31.38,2,     2.15,2,    0.060,2,    0.045,2, -999.000,9,-999.0000,9,  -999.00,9,   -999.0,9,   -999.0,9,     7.87,2,  2.7540
 3230CITHER2_1,  A17C,    70,  1,     12,     12,2,19940130,1203,-31.6710, -40.4295, 3753,   1801.0,   3.0650,  34.7500,2,  34.7510,2,    199.3,2,    202.9,2,    48.90,2,    28.24,2,     1.92,2,    0.024,2,    0.023,2, -999.000,9,-999.0000,9,  -999.00,9,   -999.0,9,   -999.0,9,     7.91,2,  2.9300
 3230CITHER2_1,  A17C,    70,  1,     11,     11,2,19940130,1203,-31.6710, -40.4295, 3753,   1999.7,   3.4380,  34.8880,2,  34.8890,2,    228.0,2,    230.2,2,    31.20,2,    22.89,2,     1.57,2,    0.039,2,    0.033,2, -999.000,9,-999.0000,9,  -999.00,9,   -999.0,9,   -999.0,9,     7.97,2,  3.2790
 3230CITHER2_1,  A17C,    70,  1,     10,     10,2,19940130,1203,-31.6710, -40.4295, 3753,   2198.0,   3.4470,  34.9330,2,  34.9330,2,    244.0,2,    244.0,2,    25.70,2,    21.08,2,     1.42,2,    0.027,2,    0.030,2, -999.000,9,-999.0000,9,  -999.00,9,   -999.0,9,   -999.0,9,     8.00,2,  3.2690
 3230CITHER2_1,  A17C,    70,  1,      9,      9,2,19940130,1203,-31.6710, -40.4295, 3753,   2398.4,   3.3130,  34.9410,2,  34.9400,2,    249.1,2,    249.2,2,    25.50,2,    20.49,2,     1.38,2,    0.018,2,    0.029,2, -999.000,9,-999.0000,9,  -999.00,9,   -999.0,9,   -999.0,9,     8.00,2,  3.1170
 3230CITHER2_1,  A17C,    70,  1,      8,      8,2,19940130,1203,-31.6710, -40.4295, 3753,   2601.3,   3.1840,  34.9400,2,  34.9420,2,    252.1,2,    250.7,2,    26.50,2,    20.20,2,     1.37,2,    0.016,2,    0.015,2, -999.000,9,-999.0000,9,  -999.00,9,   -999.0,9,   -999.0,9,     8.01,2,  2.9710
 3230CITHER2_1,  A17C,    70,  1,      6,      6,2,19940130,1203,-31.6710, -40.4295, 3753,   2996.9,   2.9010,  34.9290,2,  34.9270,2,    252.8,2,    251.3,2,    30.70,2,    20.42,2,     1.38,2,    0.014,2,    0.017,2, -999.000,9,-999.0000,9,  -999.00,9,   -999.0,9,   -999.0,9,     8.00,2,  2.6530
 3230CITHER2_1,  A17C,    70,  1,      5,      5,2,19940130,1203,-31.6710, -40.4295, 3753,   3197.7,   2.7040,  34.9160,2,  34.9140,2,    252.8,2,    251.4,2,    34.80,2,    20.83,2,     1.41,2,    0.009,2,    0.011,2, -999.000,9,-999.0000,9,  -999.00,9,   -999.0,9,   -999.0,9,     8.00,2,  2.4390
 3230CITHER2_1,  A17C,    70,  1,      4,      4,2,19940130,1203,-31.6710, -40.4295, 3753,   3397.1,   2.2090,  34.8670,2,  34.8690,2,    247.9,2,    245.2,2,    50.90,2,    22.77,2,     1.57,2,    0.010,2,    0.016,2, -999.000,9,-999.0000,9,  -999.00,9,   -999.0,9,   -999.0,9,     7.98,2,  1.9350
 3230CITHER2_1,  A17C,    70,  1,      2,      2,2,19940130,1203,-31.6710, -40.4295, 3753,   3599.8,   1.2250,  34.7660,2,  34.7670,2,    226.6,2,    227.3,2,    91.90,2,    28.15,2,     1.95,2,    0.040,2,    0.029,2, -999.000,9,-999.0000,9,  -999.00,9,   -999.0,9,   -999.0,2,     7.92,2,  0.9550
 3230CITHER2_1,  A17C,    70,  1,      3,      3,2,19940130,1203,-31.6710, -40.4295, 3753,   3600.3,   1.2240,  34.7660,2,  34.7650,2,    226.6,2,    227.3,2,    91.90,2,    28.25,2,  -999.00,5,    0.038,2,    0.031,2, -999.000,9,-999.0000,9,  -999.00,9,   -999.0,9,   -999.0,9,     7.92,2,  0.9540
 3230CITHER2_1,  A17C,    70,  1,      1,      1,2,19940130,1203,-31.6710, -40.4295, 3753,   3795.6,   0.4610,  34.6960,2,  34.6960,2,    218.6,2,    221.6,2,   118.00,2,    31.51,2,     2.21,2,    0.092,2,    0.064,2, -999.000,9,-999.0000,9,  -999.00,9,   -999.0,9,   -999.0,9,     7.89,2,  0.1920
 3230CITHER2_1,  A17C,    71,  1,     27,     27,2,19940130,1741,-31.2747, -40.0760, 3628,      6.6,  22.1310,  35.7340,2,  35.7450,2,    212.8,2,    221.9,2,     0.80,2,     0.00,2,     0.02,2,    2.261,2,    1.262,2, -999.000,9,-999.0000,9,  -999.00,9,   -999.0,9,   -999.0,9,     8.33,2, 22.1300
 3230CITHER2_1,  A17C,    71,  1,     26,     26,2,19940130,1741,-31.2747, -40.0760, 3628,     31.3,  22.0830,  35.8820,2,  35.8810,2,    222.7,2,    222.3,2,     1.10,2,     0.04,2,     0.03,2,    2.250,2,    1.255,2, -999.000,9,-999.0000,9,  -999.00,9,   -999.0,9,   -999.0,9,     8.34,2, 22.0770
 3230CITHER2_1,  A17C,    71,  1,     25,     25,2,19940130,1741,-31.2747, -40.0760, 3628,     75.2,  17.6920,  35.8610,2,  35.8630,2,    242.3,2,    242.4,2,     1.00,2,     0.04,2,     0.08,2,    2.655,2,    1.435,2, -999.000,9,-999.0000,9,  -999.00,9,   -999.0,9,   -999.0,9,     8.29,2, 17.6790
 3230CITHER2_1,  A17C,    71,  1,     24,     24,2,19940130,1741,-31.2747, -40.0760, 3628,    101.6,  16.6860,  35.7960,2,  35.7850,2,    225.4,2,    225.1,2,     1.30,2,     0.97,2,     0.21,2,    2.682,2,    1.447,2, -999.000,9,-999.0000,9,  -999.00,9,   -999.0,9,   -999.0,9,     8.25,2, 16.6690
 3230CITHER2_1,  A17C,    71,  1,     23,     23,2,19940130,1741,-31.2747, -40.0760, 3628,    152.1,  15.9890,  35.7410,2,  35.7320,2,    215.8,2,    216.6,2,     1.70,2,     4.09,2,     0.37,2,    2.663,2,    1.425,2, -999.000,9,-999.0000,9,  -999.00,9,   -999.0,9,   -999.0,9,     8.23,2, 15.9650
 3230CITHER2_1,  A17C,    71,  1,     22,     22,2,19940130,1741,-31.2747, -40.0760, 3628,    201.0,  15.7030,  35.7650,2,  35.7480,2,    219.1,2,    223.1,2,     1.80,2,     4.42,2,     0.39,2,    2.742,2,    1.469,2, -999.000,9,-999.0000,9,  -999.00,9,   -999.0,9,   -999.0,9,     8.22,2, 15.6710
 3230CITHER2_1,  A17C,    71,  1,     21,     21,2,19940130,1741,-31.2747, -40.0760, 3628,    301.7,  14.6590,  35.5730,2,  35.5740,2,    228.3,2,    225.5,2,     2.00,2,     6.57,2,     0.48,2,    2.801,2,    1.478,2, -999.000,9,-999.0000,9,  -999.00,9,   -999.0,9,   -999.0,9,     8.21,2, 14.6140
 3230CITHER2_1,  A17C,    71,  1,     20,     20,2,19940130,1741,-31.2747, -40.0760, 3628,    401.6,  13.1840,  35.2970,2,  35.2910,2,    218.1,2,    214.6,2,     2.90,2,     9.94,2,     0.74,2,    2.642,2,    1.380,2, -999.000,9,-999.0000,9,  -999.00,9,   -999.0,9,   -999.0,9,     8.15,2, 13.1280
 3230CITHER2_1,  A17C,    71,  1,     19,     19,2,19940130,1741,-31.2747, -40.0760, 3628,    499.5,  10.2200,  34.8120,2,  34.8160,2,    216.5,2,    213.5,2,     5.50,2,    16.40,2,     1.18,2,    2.555,2,    1.313,2, -999.000,9,-999.0000,9,  -999.00,9,   -999.0,9,   -999.0,9,     8.07,2, 10.1600
 3230CITHER2_1,  A17C,    71,  1,     18,     18,2,19940130,1741,-31.2747, -40.0760, 3628,    700.0,   6.0030,  34.3730,2,  34.3680,2,    227.1,2,    234.8,2,    12.00,2,    24.51,2,     1.73,2,    2.479,2,    1.241,2, -999.000,9,-999.0000,9,  -999.00,9,   -999.0,9,   -999.0,9,     7.97,2,  5.9410
 3230CITHER2_1,  A17C,    71,  1,     17,     17,2,19940130,1741,-31.2747, -40.0760, 3628,    880.8,   4.1800,  34.2360,2,  34.2320,2,    254.9,2,    254.4,2,    18.70,2,    27.65,2,     1.93,2,    2.822,2,    1.386,2, -999.000,9,-999.0000,9,  -999.00,9,   -999.0,9,   -999.0,9,     7.95,2,  4.1130
 3230CITHER2_1,  A17C,    71,  1,     16,     16,2,19940130,1741,-31.2747, -40.0760, 3628,   1002.4,   3.6640,  34.2440,2,  34.2390,2,    245.9,2,    245.2,2,    25.00,2,    29.64,2,     2.05,2,    2.242,2,    1.116,2, -999.000,9,-999.0000,9,  -999.00,9,   -999.0,9,   -999.0,9,     7.92,2,  3.5910
 3230CITHER2_1,  A17C,    71,  1,     15,     15,2,19940130,1741,-31.2747, -40.0760, 3628,   1201.3,   3.1240,  34.3440,2,  34.3430,2,    214.7,2,    211.3,2,    40.70,2,    32.16,2,     2.23,2,    0.838,2,    0.430,2, -999.000,9,-999.0000,9,  -999.00,9,   -999.0,9,   -999.0,9,     7.88,2,  3.0400
 3230CITHER2_1,  A17C,    71,  1,     14,     14,2,19940130,1741,-31.2747, -40.0760, 3628,   1399.3,   2.9170,  34.4930,2,  34.4900,2,    190.5,2,    191.6,2,    52.80,2,    32.70,2,     2.25,2,    0.182,2,    0.108,2, -999.000,9,-999.0000,9,  -999.00,9,   -999.0,9,   -999.0,9,     7.86,2,  2.8190
 3230CITHER2_1,  A17C,    71,  1,     13,     13,2,19940130,1741,-31.2747, -40.0760, 3628,   1599.9,   2.9270,  34.6440,2,  34.6440,2,    191.2,2,    192.6,2,    53.70,2,    30.90,2,     2.11,2,    0.054,2,    0.035,2, -999.000,9,-999.0000,9,  -999.00,9,   2179.1,2,   -999.0,9,     7.88,2,  2.8110
 3230CITHER2_1,  A17C,    71,  1,     12,     12,2,19940130,1741,-31.2747, -40.0760, 3628,   1798.5,   3.1450,  34.7720,2,  34.7670,2,    204.6,2,    207.1,2,    44.70,2,    27.33,2,     1.87,2,    0.026,2,    0.022,2, -999.000,9,-999.0000,9,  -999.00,9,   -999.0,9,   -999.0,9,     7.92,2,  3.0090
 3230CITHER2_1,  A17C,    71,  1,     11,     11,2,19940130,1741,-31.2747, -40.0760, 3628,   1999.8,   3.2500,  34.8490,2,  34.8450,2,    220.6,2,    222.9,2,    37.60,2,    24.21,2,     1.66,2,    0.020,2,    0.018,2, -999.000,9,-999.0000,9,  -999.00,9,   -999.0,9,   -999.0,9,     7.95,2,  3.0940
 3230CITHER2_1,  A17C,    71,  1,     10,     10,2,19940130,1741,-31.2747, -40.0760, 3628,   2201.1,   3.3270,  34.9090,2,  34.9080,2,    238.8,2,    239.8,2,    29.60,2,    21.94,2,     1.48,2,    0.019,2,    0.019,2, -999.000,9,-999.0000,9,  -999.00,9,   -999.0,9,   -999.0,9,     7.99,2,  3.1510
 3230CITHER2_1,  A17C,    71,  1,      9,      9,2,19940130,1741,-31.2747, -40.0760, 3628,   2398.6,   3.2840,  34.9390,2,  34.9390,2,    249.9,2,    249.6,2,    25.80,2,    20.60,2,     1.39,2,    0.017,2,    0.023,2, -999.000,9,-999.0000,9,  -999.00,9,   -999.0,9,   -999.0,9,     8.00,2,  3.0890
 3230CITHER2_1,  A17C,    71,  1,      8,      8,2,19940130,1741,-31.2747, -40.0760, 3628,   2598.7,   3.1450,  34.9360,2,  34.9340,2,    251.2,2,    252.0,2,    27.20,2,    20.59,2,     1.38,2,    0.015,2,    0.017,2, -999.000,9,-999.0000,9,  -999.00,9,   -999.0,9,   -999.0,9,     7.99,2,  2.9330
 3230CITHER2_1,  A17C,    71,  1,      7,      7,2,19940130,1741,-31.2747, -40.0760, 3628,   2797.6,   3.0200,  34.9310,2,  34.9330,2,    253.0,2,    251.5,2,    28.60,2,    20.59,2,     1.38,2,    0.028,2,    0.021,2, -999.000,9,-999.0000,9,  -999.00,9,   -999.0,9,   -999.0,9,     7.99,2,  2.7900
 3230CITHER2_1,  A17C,    71,  1,      6,      6,2,19940130,1741,-31.2747, -40.0760, 3628,   3000.1,   2.8680,  34.9250,2,  34.9230,2,    253.6,2,    253.0,2,    31.40,2,    20.51,2,     1.39,2,    0.012,2,    0.012,2, -999.000,9,-999.0000,9,  -999.00,9,   -999.0,9,   -999.0,9,     7.99,2,  2.6200
 3230CITHER2_1,  A17C,    71,  1,      5,      5,2,19940130,1741,-31.2747, -40.0760, 3628,   3198.9,   2.6390,  34.9120,2,  34.9080,2,    254.1,2,    252.0,2,    36.40,2,    20.84,2,     1.43,2,    0.011,2,    0.015,2, -999.000,9,-999.0000,9,  -999.00,9,   -999.0,9,   -999.0,9,     7.98,2,  2.3750
 3230CITHER2_1,  A17C,    71,  1,      4,      4,2,19940130,1741,-31.2747, -40.0760, 3628,   3400.4,   2.2480,  34.8740,2,  34.8710,2,    249.0,2,    246.8,2,    49.50,2,    22.28,2,     1.55,2,    0.013,2,    0.016,2, -999.000,9,-999.0000,9,  -999.00,9,   -999.0,9,   -999.0,9,     7.98,2,  1.9730
 3230CITHER2_1,  A17C,    71,  1,      3,      3,2,19940130,1741,-31.2747, -40.0760, 3628,   3598.6,   1.3310,  34.7790,2,  34.7760,2,    231.3,2,    231.1,2,    87.40,2,    27.48,2,     1.91,2,    0.035,2,    0.033,2, -999.000,9,-999.0000,9,  -999.00,9,   -999.0,9,   -999.0,9,     7.93,2,  1.0590
 3230CITHER2_1,  A17C,    71,  1,      1,      1,2,19940130,1741,-31.2747, -40.0760, 3628,   3647.8,   1.1450,  34.7600,2,  34.7570,2,    225.8,2,    227.3,2,    95.10,2,    28.58,2,     1.97,2,    0.042,2,    0.025,2, -999.000,9,-999.0000,9,  -999.00,9,   -999.0,9,   -999.0,9,     7.91,2,  0.8720
 3230CITHER2_1,  A17C,    71,  1,      2,      2,2,19940130,1741,-31.2747, -40.0760, 3628,   3648.9,   1.1440,  34.7580,2,  34.7580,2,    225.8,2,    227.8,2,    95.10,2,    28.58,2,     1.97,2,    0.043,2,    0.038,2, -999.000,9,-999.0000,9,  -999.00,9,   -999.0,9,   -999.0,9,     7.91,2,  0.8710