BOTTLE,20030515WHPSIOSA
EXPOCODE,SECT_ID,STNNBR,CASTNO,SAMPNO,BTLNBR,BTLNBR_FLAG_W,DATE,TIME,LATITUDE,LONGITUDE,DEPTH,CTDPRS,CTDTMP,CTDSAL,CTDSAL_FLAG_W,SALNTY,SALNTY_FLAG_W,CTDOXY,CTDOXY_FLAG_W,OXYGEN,OXYGEN_FLAG_W,SILCAT,SILCAT_FLAG_W,NITRAT,NITRAT_FLAG_W,PHSPHT,PHSPHT_FLAG_W,CFC-11,CFC-11_FLAG_W,CFC-12,CFC-12_FLAG_W,TRITUM,TRITUM_FLAG_W,HELIUM,HELIUM_FLAG_W,DELHE3,DELHE3_FLAG_W,TCARBN,TCARBN_FLAG_W,ALKALI,ALKALI_FLAG_W,PH,PH_FLAG_W,THETA
,,,,,,,,,,,,DBAR,ITS-90,PSS-78,,PSS-78,,UMOL/KG,,UMOL/KG,,UMOL/KG,,UMOL/KG,,UMOL/KG,,PMOL/KG,,PMOL/KG,,TU,,NMOL/KG,,PERCNT,,UMOL/KG,,UMOL/KG,,,,DEG C
 3230CITHER2_2,  A17N,   177,  1,     32,     32,2,19940306,0303,  0.7497, -33.0088, 3224,      4.9,  27.0090,  36.1340,2,  36.1340,2,    194.0,2,    200.6,2,     1.60,2,     0.04,2,     0.06,2,    1.709,2,    0.963,2, -999.000,9,-999.0000,9,  -999.00,9,   2019.2,2,   -999.0,9,     8.37,2, 27.0080
 3230CITHER2_2,  A17N,   177,  1,     31,     31,2,19940306,0303,  0.7497, -33.0088, 3224,     30.3,  26.9130,  36.1540,2,  36.1440,2,    199.3,2,    200.1,2,     1.60,2,     0.04,2,     0.07,2,    1.708,2,    0.968,2, -999.000,9,-999.0000,9,  -999.00,9,   2018.7,2,   -999.0,9,     8.37,2, 26.9060
 3230CITHER2_2,  A17N,   177,  1,     30,     30,2,19940306,0303,  0.7497, -33.0088, 3224,     57.4,  25.6960,  36.3160,2,  36.3390,2,    198.0,2,    199.3,2,     1.90,2,     0.67,2,     0.16,2,    1.723,2,    0.970,2, -999.000,9,-999.0000,9,  -999.00,9,   2048.5,2,   -999.0,9,     8.34,2, 25.6830
 3230CITHER2_2,  A17N,   177,  1,     29,     29,2,19940306,0303,  0.7497, -33.0088, 3224,    100.6,  17.2990,  35.9750,2,  35.8560,2,    182.8,2,    178.4,2,     4.50,2,     8.90,2,     0.70,2,    1.869,2,    0.997,2, -999.000,9,-999.0000,9,  -999.00,9,   2115.9,2,   -999.0,9,     8.19,2, 17.2820
 3230CITHER2_2,  A17N,   177,  1,     28,     28,2,19940306,0303,  0.7497, -33.0088, 3224,    140.5,  13.8770,  35.4040,2,  35.4020,2,    159.7,2,    161.3,2,     7.50,2,    15.87,2,     1.09,2,    1.529,2,    0.808,2, -999.000,9,-999.0000,9,  -999.00,9,   2141.4,2,   -999.0,9,     8.09,2, 13.8570
 3230CITHER2_2,  A17N,   177,  1,     26,     26,2,19940306,0303,  0.7497, -33.0088, 3224,    199.7,  12.4590,  35.2110,2,  35.2070,2,    141.1,2,    137.2,2,     9.40,2,    20.81,2,     1.38,2,    1.202,2,    0.639,2, -999.000,9,-999.0000,9,  -999.00,9,   2164.6,2,   -999.0,9,     8.02,2, 12.4320
 3230CITHER2_2,  A17N,   177,  1,     27,     27,2,19940306,0303,  0.7497, -33.0088, 3224,    200.6,  12.4520,  35.2100,2,  35.2100,2,    140.3,2,    138.8,2,     9.40,2,    20.81,2,     1.37,2,    1.199,2,    0.632,2, -999.000,9,-999.0000,9,  -999.00,9,   2164.2,2,   -999.0,9,     8.02,2, 12.4250
 3230CITHER2_2,  A17N,   177,  1,     25,     25,2,19940306,0303,  0.7497, -33.0088, 3224,    251.0,  11.3210,  35.0770,2,  35.0810,2,    123.6,2,    125.6,2,    11.20,2,    23.65,2,     1.56,2,    0.960,2,    0.516,2, -999.000,9,-999.0000,9,  -999.00,9,   2176.5,2,   -999.0,9,     7.97,2, 11.2890
 3230CITHER2_2,  A17N,   177,  1,     24,     24,2,19940306,0303,  0.7497, -33.0088, 3224,    299.2,  10.4090,  34.9740,2,  34.9730,2,    107.0,2,    104.7,2,    13.60,2,    28.07,2,     1.79,2,    0.635,2,    0.341,2, -999.000,9,-999.0000,9,  -999.00,9,   2200.7,2,   -999.0,9,     7.91,2, 10.3730
 3230CITHER2_2,  A17N,   177,  1,     23,     23,2,19940306,0303,  0.7497, -33.0088, 3224,    400.9,   8.5050,  34.7750,2,  34.7710,2,    106.2,2,    106.4,2,    17.50,2,    31.93,2,     2.02,2,    0.351,2,    0.197,2, -999.000,9,-999.0000,9,  -999.00,9,   2212.8,2,   -999.0,9,     7.85,2,  8.4630
 3230CITHER2_2,  A17N,   177,  1,     22,     22,2,19940306,0303,  0.7497, -33.0088, 3224,    500.5,   7.0740,  34.6260,2,  34.6280,2,    122.4,2,    124.8,2,    21.30,2,    33.48,2,     2.13,2,    0.248,2,    0.146,2, -999.000,9,-999.0000,9,  -999.00,9,   2211.7,2,   -999.0,9,     7.85,2,  7.0260
 3230CITHER2_2,  A17N,   177,  1,     21,     21,2,19940306,0303,  0.7497, -33.0088, 3224,    600.9,   6.3930,  34.5690,2,  34.5690,2,    134.0,2,    133.1,2,    23.40,2,    33.64,2,     2.20,2,    0.185,2,    0.106,2, -999.000,9,-999.0000,9,  -999.00,9,   2202.3,3,   -999.0,9,     7.84,2,  6.3380
 3230CITHER2_2,  A17N,   177,  1,     20,     20,2,19940306,0303,  0.7497, -33.0088, 3224,    699.8,   5.3570,  34.5100,2,  34.5100,2,    146.7,2,    145.6,2,    28.40,2,    34.49,2,     2.28,2,    0.097,2,    0.054,2, -999.000,9,-999.0000,9,  -999.00,9,   2216.7,2,   -999.0,9,     7.84,2,  5.2980
 3230CITHER2_2,  A17N,   177,  1,     19,     19,2,19940306,0303,  0.7497, -33.0088, 3224,    799.8,   5.0660,  34.5060,2,  34.5070,2,    149.1,2,    147.9,2,    30.00,2,    34.80,2,     2.30,2,    0.068,2,    0.039,2, -999.000,9,-999.0000,9,  -999.00,9,   -999.0,5,   -999.0,9,     7.84,2,  5.0000
 3230CITHER2_2,  A17N,   177,  1,     18,     18,2,19940306,0303,  0.7497, -33.0088, 3224,    999.8,   4.5370,  34.6670,2,  34.6670,2,    160.2,2,    161.0,2,    30.90,2,    32.34,2,     2.15,2,    0.008,2,    0.006,2, -999.000,9,-999.0000,9,  -999.00,9,   2216.7,2,   -999.0,9,     7.87,2,  4.4570
 3230CITHER2_2,  A17N,   177,  1,     17,     17,2,19940306,0303,  0.7497, -33.0088, 3224,   1200.2,   4.5590,  34.8000,2,  34.7990,2,    177.5,2,    178.7,2,    27.10,2,    29.08,2,     1.93,2,    0.016,2,    0.007,2, -999.000,9,-999.0000,9,  -999.00,9,   -999.0,9,   -999.0,9,     7.91,2,  4.4610
 3230CITHER2_2,  A17N,   177,  1,     16,     16,2,19940306,0303,  0.7497, -33.0088, 3224,   1400.5,   4.3790,  34.9710,2,  34.9630,2,    227.2,2,    227.4,2,    18.90,2,    22.00,2,     1.44,2,    0.095,2,    0.054,2, -999.000,9,-999.0000,9,  -999.00,9,   -999.0,9,   -999.0,9,     7.99,2,  4.2640
 3230CITHER2_2,  A17N,   177,  1,     15,     15,2,19940306,0303,  0.7497, -33.0088, 3224,   1498.9,   4.2540,  34.9760,2,  34.9760,2,    231.7,2,    233.9,2,    18.40,2,    21.38,2,     1.40,2,    0.074,2,    0.050,2, -999.000,9,-999.0000,9,  -999.00,9,   -999.0,9,   -999.0,9,     8.00,2,  4.1310
 3230CITHER2_2,  A17N,   177,  1,     14,     14,2,19940306,0303,  0.7497, -33.0088, 3224,   1599.1,   4.1190,  34.9810,2,  34.9800,2,    239.6,2,    240.1,2,    18.10,2,    20.75,2,     1.35,2,    0.076,2,    0.050,2, -999.000,9,-999.0000,9,  -999.00,9,   -999.0,9,   -999.0,9,     8.01,2,  3.9880
 3230CITHER2_2,  A17N,   177,  1,     13,     13,2,19940306,0303,  0.7497, -33.0088, 3224,   1699.4,   4.0180,  34.9810,2,  34.9820,2,    244.6,2,    244.7,2,    18.10,2,    20.44,2,     1.32,2,    0.068,2,    0.046,2, -999.000,9,-999.0000,9,  -999.00,9,   -999.0,9,   -999.0,9,     8.01,2,  3.8790
 3230CITHER2_2,  A17N,   177,  1,     12,     12,2,19940306,0303,  0.7497, -33.0088, 3224,   1800.6,   3.9100,  34.9860,2,  34.9860,2,    249.7,2,    250.3,2,    17.80,2,    19.81,2,     1.27,2,    0.089,2,    0.059,2, -999.000,9,-999.0000,9,  -999.00,9,   -999.0,9,   -999.0,9,     8.02,2,  3.7630
 3230CITHER2_2,  A17N,   177,  1,     11,     11,2,19940306,0303,  0.7497, -33.0088, 3224,   1999.6,   3.5640,  34.9750,2,  34.9740,2,    256.2,2,    254.9,2,    19.90,2,    19.64,2,     1.26,2,    0.052,2,    0.030,2, -999.000,9,-999.0000,9,  -999.00,9,   -999.0,9,   -999.0,9,     8.02,2,  3.4030
 3230CITHER2_2,  A17N,   177,  1,     10,     10,2,19940306,0303,  0.7497, -33.0088, 3224,   2200.4,   3.2880,  34.9610,2,  34.9620,2,    256.8,2,    255.9,2,    22.80,2,    19.81,2,     1.26,2,    0.041,2,    0.020,2, -999.000,9,-999.0000,9,  -999.00,9,   -999.0,9,   -999.0,9,     8.03,2,  3.1120
 3230CITHER2_2,  A17N,   177,  1,      9,      9,2,19940306,0303,  0.7497, -33.0088, 3224,   2398.9,   3.0550,  34.9480,2,  34.9460,2,    255.8,2,    254.5,2,    26.80,2,    20.28,2,     1.30,2,    0.013,2,    0.015,2, -999.000,9,-999.0000,9,  -999.00,9,   -999.0,9,   -999.0,9,     8.02,2,  2.8640
 3230CITHER2_2,  A17N,   177,  1,      8,      8,2,19940306,0303,  0.7497, -33.0088, 3224,   2598.5,   2.9070,  34.9360,2,  34.9350,2,    253.7,2,    252.0,2,    30.30,2,    20.68,2,     1.32,2,    0.006,2,    0.007,2, -999.000,9,-999.0000,9,  -999.00,9,   -999.0,9,   -999.0,9,     8.02,2,  2.6990
 3230CITHER2_2,  A17N,   177,  1,      7,      7,2,19940306,0303,  0.7497, -33.0088, 3224,   2799.5,   2.7900,  34.9280,2,  34.9270,2,    252.7,2,    252.0,2,    32.60,2,    20.76,2,     1.33,2,    0.011,2,    0.008,2, -999.000,9,-999.0000,9,  -999.00,9,   -999.0,9,   -999.0,9,     8.02,2,  2.5640
 3230CITHER2_2,  A17N,   177,  1,      6,      6,2,19940306,0303,  0.7497, -33.0088, 3224,   2999.3,   2.7300,  34.9250,2,  34.9240,2,    253.6,2,    253.5,2,    32.90,2,    20.76,2,     1.33,2,    0.011,2,    0.009,2, -999.000,9,-999.0000,9,  -999.00,9,   -999.0,9,   -999.0,9,     8.02,2,  2.4850
 3230CITHER2_2,  A17N,   177,  1,      5,      5,2,19940306,0303,  0.7497, -33.0088, 3224,   3199.8,   2.5780,  34.9150,2,  34.9110,2,    254.2,2,    253.7,2,    35.00,2,    20.88,2,     1.34,2,    0.014,2,    0.013,2, -999.000,9,-999.0000,9,  -999.00,9,   -999.0,9,   -999.0,9,     8.02,2,  2.3160
 3230CITHER2_2,  A17N,   177,  1,      4,      4,2,19940306,0303,  0.7497, -33.0088, 3224,   3400.2,   2.4790,  34.9090,2,  34.9080,2,    256.4,2,    256.5,2,    35.20,2,    20.72,2,     1.33,2,    0.029,2,    0.021,2, -999.000,9,-999.0000,9,  -999.00,9,   -999.0,9,   -999.0,9,     8.02,2,  2.1980
 3230CITHER2_2,  A17N,   177,  1,      3,      3,2,19940306,0303,  0.7497, -33.0088, 3224,   3499.9,   2.4620,  34.9060,2,  34.9060,2,    256.8,2,    257.9,2,    35.60,2,    20.72,2,  -999.00,5,    0.030,2,    0.020,2, -999.000,9,-999.0000,9,  -999.00,9,   -999.0,9,   -999.0,9,     8.02,2,  2.1710
 3230CITHER2_2,  A17N,   177,  1,      2,      2,2,19940306,0303,  0.7497, -33.0088, 3224,   3548.4,   2.4220,  34.9050,2,  34.9060,2,    257.7,2,    258.6,2,    35.10,2,    20.29,2,     1.32,2,    0.041,2,    0.028,2, -999.000,9,-999.0000,9,  -999.00,9,   -999.0,9,   -999.0,9,     8.02,2,  2.1260
 3230CITHER2_2,  A17N,   177,  1,      1,      1,2,19940306,0303,  0.7497, -33.0088, 3224,   3548.5,   2.4220,  34.9050,2,  34.9050,2,    257.7,2,    258.3,2,    35.20,2,    20.41,2,     1.32,2,    0.043,2,    0.028,2, -999.000,9,-999.0000,9,  -999.00,9,   -999.0,9,   -999.0,9,     8.02,2,  2.1260
 3230CITHER2_2,  A17N,   178,  1,     32,     32,2,19940306,0826,  0.9995, -33.4403, 3717,      5.6,  26.9680,  36.1020,2,  36.1030,2,    195.5,2,   -999.0,5,     1.80,2,     0.04,2,     0.07,2,    1.737,2,    0.978,2, -999.000,9,-999.0000,9,  -999.00,9,   -999.0,9,   -999.0,9,     8.37,2, 26.9670
 3230CITHER2_2,  A17N,   178,  1,     31,     31,2,19940306,0826,  0.9995, -33.4403, 3717,     51.3,  26.7950,  36.1820,2,  36.1890,2,    195.0,2,    199.2,2,     1.80,2,     0.04,2,     0.08,2,    1.723,2,    0.972,2, -999.000,9,-999.0000,9,  -999.00,9,   -999.0,9,   -999.0,9,     8.36,2, 26.7830
 3230CITHER2_2,  A17N,   178,  1,     30,     30,2,19940306,0826,  0.9995, -33.4403, 3717,     76.2,  23.8200,  36.3640,2,  36.3400,2,    183.7,2,    175.2,2,     3.20,2,     4.09,2,     0.36,2,    1.760,2,    0.970,2, -999.000,9,-999.0000,9,  -999.00,9,   -999.0,9,   -999.0,9,     8.27,2, 23.8040
 3230CITHER2_2,  A17N,   178,  1,     29,     29,2,19940306,0826,  0.9995, -33.4403, 3717,     99.4,  18.8150,  36.0710,2,  36.0480,2,    180.9,2,    181.9,2,     4.10,2,     7.54,2,     0.62,2,    1.850,2,    0.988,2, -999.000,9,-999.0000,9,  -999.00,9,   -999.0,9,   -999.0,9,     8.21,2, 18.7970
 3230CITHER2_2,  A17N,   178,  1,     28,     28,2,19940306,0826,  0.9995, -33.4403, 3717,    143.9,  14.0660,  35.4410,2,  35.4540,2,    157.6,2,    159.3,2,     7.30,2,    15.92,2,     1.09,2,    1.540,2,    0.811,2, -999.000,9,-999.0000,9,  -999.00,9,   -999.0,9,   -999.0,9,     8.09,2, 14.0450
 3230CITHER2_2,  A17N,   178,  1,     27,     27,2,19940306,0826,  0.9995, -33.4403, 3717,    199.2,  12.5250,  35.2310,2,  35.2190,2,    121.5,2,    122.1,2,     9.60,2,    21.99,2,     1.48,2,    1.078,2,    0.580,2, -999.000,9,-999.0000,9,  -999.00,9,   -999.0,9,   -999.0,9,     7.99,2, 12.4980
 3230CITHER2_2,  A17N,   178,  1,     26,     26,2,19940306,0826,  0.9995, -33.4403, 3717,    301.4,  10.5070,  34.9860,2,  34.9810,2,    105.9,2,    105.1,2,    13.10,2,    27.61,2,     1.80,2,    0.647,2,    0.358,2, -999.000,9,-999.0000,9,  -999.00,9,   -999.0,9,   -999.0,9,     7.90,2, 10.4710
 3230CITHER2_2,  A17N,   178,  1,     25,     25,2,19940306,0826,  0.9995, -33.4403, 3717,    401.3,   8.5070,  34.7670,2,  34.7680,2,    115.6,2,    120.6,2,    16.70,2,    30.28,2,     1.99,2,    0.489,2,    0.276,2, -999.000,9,-999.0000,9,  -999.00,9,   -999.0,9,   -999.0,9,     7.87,2,  8.4640
 3230CITHER2_2,  A17N,   178,  1,     24,     24,2,19940306,0826,  0.9995, -33.4403, 3717,    499.4,   7.2110,  34.6390,2,  34.6380,2,    130.2,2,    125.8,2,    20.10,2,    32.49,2,     2.13,2,    0.273,2,    0.153,2, -999.000,9,-999.0000,9,  -999.00,9,   -999.0,9,   -999.0,9,     7.85,2,  7.1630
 3230CITHER2_2,  A17N,   178,  1,     23,     23,2,19940306,0826,  0.9995, -33.4403, 3717,    601.0,   6.3610,  34.5670,2,  34.5690,2,    137.8,2,    133.7,2,    22.80,2,    33.20,2,     2.23,2,    0.187,2,    0.110,2, -999.000,9,-999.0000,9,  -999.00,9,   -999.0,9,   -999.0,9,     7.84,2,  6.3060
 3230CITHER2_2,  A17N,   178,  1,     22,     22,2,19940306,0826,  0.9995, -33.4403, 3717,    701.0,   5.4030,  34.5110,2,  34.5140,2,    147.3,2,    146.6,2,    27.30,2,    33.82,2,     2.28,2,    0.109,2,    0.066,2, -999.000,9,-999.0000,9,  -999.00,9,   -999.0,9,   -999.0,9,     7.84,2,  5.3440
 3230CITHER2_2,  A17N,   178,  1,     21,     21,2,19940306,0826,  0.9995, -33.4403, 3717,    798.6,   5.1450,  34.5060,2,  34.5060,2,    148.8,2,    147.4,2,    28.20,2,    34.02,2,     2.32,2,    0.076,2,    0.046,2, -999.000,9,-999.0000,9,  -999.00,9,   -999.0,9,   -999.0,9,     7.84,2,  5.0790
 3230CITHER2_2,  A17N,   178,  1,     20,     20,2,19940306,0826,  0.9995, -33.4403, 3717,    999.5,   4.5470,  34.6520,2,  34.6500,2,    159.5,2,    159.3,2,    30.10,2,    32.01,2,     2.21,2,    0.007,2,    0.007,2, -999.000,9,-999.0000,9,  -999.00,9,   -999.0,9,   -999.0,9,     7.86,2,  4.4670
 3230CITHER2_2,  A17N,   178,  1,     19,     19,2,19940306,0826,  0.9995, -33.4403, 3717,   1200.3,   4.5680,  34.7940,2,  34.7940,2,    176.5,2,    177.2,2,    26.30,2,    28.49,2,     1.96,2,    0.014,2,    0.012,2, -999.000,9,-999.0000,9,  -999.00,9,   -999.0,9,   -999.0,9,     7.91,2,  4.4700
 3230CITHER2_2,  A17N,   178,  1,     18,     18,2,19940306,0826,  0.9995, -33.4403, 3717,   1399.0,   4.3820,  34.9650,2,  34.9660,2,    224.6,2,    225.3,2,    18.90,2,    22.13,2,     1.47,2,    0.080,2,    0.049,2, -999.000,9,-999.0000,9,  -999.00,9,   -999.0,9,   -999.0,9,     7.98,2,  4.2670
 3230CITHER2_2,  A17N,   178,  1,     17,     17,2,19940306,0826,  0.9995, -33.4403, 3717,   1499.6,   4.2790,  34.9710,2,  34.9740,2,    230.0,2,    231.5,2,    18.40,2,    21.13,2,     1.43,2,    0.068,2,    0.046,2, -999.000,9,-999.0000,9,  -999.00,9,   -999.0,9,   -999.0,9,     7.99,2,  4.1560
 3230CITHER2_2,  A17N,   178,  1,     16,     16,2,19940306,0826,  0.9995, -33.4403, 3717,   1598.3,   4.1570,  34.9780,2,  34.9740,2,    238.0,2,    237.7,2,    18.00,2,    20.62,2,     1.38,2,    0.072,2,    0.050,2, -999.000,9,-999.0000,9,  -999.00,9,   -999.0,9,   -999.0,9,     8.00,2,  4.0260
 3230CITHER2_2,  A17N,   178,  1,     15,     15,2,19940306,0826,  0.9995, -33.4403, 3717,   1700.9,   4.0710,  34.9820,2,  34.9850,2,    242.0,2,    242.9,2,    17.70,2,    20.03,2,     1.33,2,    0.113,2,    0.072,2, -999.000,9,-999.0000,9,  -999.00,9,   -999.0,9,   -999.0,9,     8.01,2,  3.9310
 3230CITHER2_2,  A17N,   178,  1,     14,     14,2,19940306,0826,  0.9995, -33.4403, 3717,   1798.9,   3.9340,  34.9870,2,  34.9900,2,    246.6,2,    250.8,2,    17.90,2,    19.41,2,     1.27,2,    0.078,2,    0.052,2, -999.000,9,-999.0000,9,  -999.00,9,   -999.0,9,   -999.0,9,     8.02,2,  3.7870
 3230CITHER2_2,  A17N,   178,  1,     13,     13,2,19940306,0826,  0.9995, -33.4403, 3717,   1899.6,   3.8340,  34.9860,2,  34.9860,2,    252.7,2,    253.0,2,    17.80,2,    19.41,2,     1.26,2,    0.097,2,    0.057,2, -999.000,9,-999.0000,9,  -999.00,9,   -999.0,9,   -999.0,9,     8.02,2,  3.6790
 3230CITHER2_2,  A17N,   178,  1,     12,     12,2,19940306,0826,  0.9995, -33.4403, 3717,   1999.9,   3.5960,  34.9770,2,  34.9770,2,    255.5,2,    263.5,2,    19.30,2,    19.33,2,     1.26,2,    0.066,2,    0.045,2, -999.000,9,-999.0000,9,  -999.00,9,   -999.0,9,   -999.0,9,     8.02,2,  3.4340
 3230CITHER2_2,  A17N,   178,  1,     11,     11,2,19940306,0826,  0.9995, -33.4403, 3717,   2198.2,   3.3560,  34.9630,2,  34.9660,2,    253.7,2,    267.3,2,    22.80,2,    19.81,2,     1.30,2,    0.029,2,    0.021,2, -999.000,9,-999.0000,9,  -999.00,9,   -999.0,9,   -999.0,9,     8.02,2,  3.1790
 3230CITHER2_2,  A17N,   178,  1,     10,     10,2,19940306,0826,  0.9995, -33.4403, 3717,   2398.9,   3.1590,  34.9550,2,  34.9570,2,    257.4,2,    258.8,2,    23.60,2,    19.61,2,     1.28,2,    0.022,2,    0.019,2, -999.000,9,-999.0000,9,  -999.00,9,   -999.0,9,   -999.0,9,     8.02,2,  2.9660
 3230CITHER2_2,  A17N,   178,  1,      9,      9,2,19940306,0826,  0.9995, -33.4403, 3717,   2598.2,   2.9220,  34.9400,2,  34.9400,2,    255.8,2,    253.6,2,    28.00,2,    20.21,2,     1.32,2,    0.010,2,    0.010,2, -999.000,9,-999.0000,9,  -999.00,9,   -999.0,9,   -999.0,9,     8.02,2,  2.7140
 3230CITHER2_2,  A17N,   178,  1,      8,      8,2,19940306,0826,  0.9995, -33.4403, 3717,   2797.8,   2.7660,  34.9280,2,  34.9300,2,    253.3,2,    252.9,2,    31.90,2,    20.68,2,     1.35,2,    0.009,2,    0.007,2, -999.000,9,-999.0000,9,  -999.00,9,   -999.0,9,   -999.0,9,     8.01,2,  2.5410
 3230CITHER2_2,  A17N,   178,  1,      7,      7,2,19940306,0826,  0.9995, -33.4403, 3717,   2998.1,   2.7030,  34.9240,2,  34.9230,2,    254.6,2,    254.4,2,    32.20,2,    20.45,2,     1.35,2,    0.010,2,    0.008,2, -999.000,9,-999.0000,9,  -999.00,9,   -999.0,9,   -999.0,9,     8.01,2,  2.4590
 3230CITHER2_2,  A17N,   178,  1,      6,      6,2,19940306,0826,  0.9995, -33.4403, 3717,   3199.6,   2.5750,  34.9150,2,  34.9140,2,    256.4,2,    256.2,2,    33.60,2,    20.53,2,     1.35,2,    0.016,2,    0.011,2, -999.000,9,-999.0000,9,  -999.00,9,   -999.0,9,   -999.0,9,     8.01,2,  2.3130
 3230CITHER2_2,  A17N,   178,  1,      5,      5,2,19940306,0826,  0.9995, -33.4403, 3717,   3399.1,   2.5110,  34.9090,2,  34.9110,2,    256.6,2,    257.4,2,    34.60,2,    20.37,2,     1.35,2,    0.021,2,    0.016,2, -999.000,9,-999.0000,9,  -999.00,9,   -999.0,9,   -999.0,9,     8.01,2,  2.2290
 3230CITHER2_2,  A17N,   178,  1,      3,      3,2,19940306,0826,  0.9995, -33.4403, 3717,   3601.6,   2.4010,  34.9030,2,  34.9050,2,    260.0,2,    258.9,2,    35.10,2,    20.06,2,     1.33,2,    0.043,2,    0.026,2, -999.000,9,-999.0000,9,  -999.00,9,   -999.0,9,   -999.0,9,     8.01,2,  2.1000
 3230CITHER2_2,  A17N,   178,  1,      4,      4,2,19940306,0826,  0.9995, -33.4403, 3717,   3601.9,   2.4030,  34.9030,2,  34.9040,2,    260.0,2,    258.9,2,    35.10,2,    20.14,2,     1.34,2,    0.062,2,    0.040,2, -999.000,9,-999.0000,9,  -999.00,9,   -999.0,9,   -999.0,9,     8.01,2,  2.1020
 3230CITHER2_2,  A17N,   178,  1,      2,      2,2,19940306,0826,  0.9995, -33.4403, 3717,   3700.1,   2.3640,  34.9000,2,  34.9010,2,    260.0,2,    258.5,2,    35.80,2,    20.14,2,     1.33,2,    0.044,2,    0.030,2, -999.000,9,-999.0000,9,  -999.00,9,   -999.0,9,   -999.0,9,     8.01,2,  2.0530
 3230CITHER2_2,  A17N,   178,  1,      1,      1,2,19940306,0826,  0.9995, -33.4403, 3717,   3737.4,   2.3500,  34.9000,2,  34.9000,2,    260.5,2,    259.2,2,    36.10,2,    20.24,2,     1.34,2,    0.044,2,    0.030,2, -999.000,9,-999.0000,9,  -999.00,9,   -999.0,9,   -999.0,9,     8.02,2,  2.0350