BOTTLE,20030515WHPSIOSA
EXPOCODE,SECT_ID,STNNBR,CASTNO,SAMPNO,BTLNBR,BTLNBR_FLAG_W,DATE,TIME,LATITUDE,LONGITUDE,DEPTH,CTDPRS,CTDTMP,CTDSAL,CTDSAL_FLAG_W,SALNTY,SALNTY_FLAG_W,CTDOXY,CTDOXY_FLAG_W,OXYGEN,OXYGEN_FLAG_W,SILCAT,SILCAT_FLAG_W,NITRAT,NITRAT_FLAG_W,PHSPHT,PHSPHT_FLAG_W,CFC-11,CFC-11_FLAG_W,CFC-12,CFC-12_FLAG_W,TRITUM,TRITUM_FLAG_W,HELIUM,HELIUM_FLAG_W,DELHE3,DELHE3_FLAG_W,TCARBN,TCARBN_FLAG_W,ALKALI,ALKALI_FLAG_W,PH,PH_FLAG_W,THETA
,,,,,,,,,,,,DBAR,ITS-90,PSS-78,,PSS-78,,UMOL/KG,,UMOL/KG,,UMOL/KG,,UMOL/KG,,UMOL/KG,,PMOL/KG,,PMOL/KG,,TU,,NMOL/KG,,PERCNT,,UMOL/KG,,UMOL/KG,,,,DEG C
 3230CITHER2_1,  A17C,    68,  1,     31,     31,2,19940129,2355,-32.4560, -41.1115, 4422,      5.2,  23.0020,  36.0810,2,  36.0830,2,    214.7,2,    217.0,2,     1.20,2,     0.04,2,     0.01,2,    2.154,2,    1.203,2, -999.000,9,-999.0000,9,  -999.00,9,   -999.0,9,   -999.0,9,     8.33,2, 23.0010
 3230CITHER2_1,  A17C,    68,  1,     30,     30,2,19940129,2355,-32.4560, -41.1115, 4422,     35.4,  23.0170,  36.0800,2,  36.0820,2,    216.3,2,    216.9,2,     1.10,2,     0.04,2,     0.01,2,    2.157,2,    1.210,2, -999.000,9,-999.0000,9,  -999.00,9,   -999.0,9,   -999.0,9,     8.33,2, 23.0100
 3230CITHER2_1,  A17C,    68,  1,     28,     28,2,19940129,2355,-32.4560, -41.1115, 4422,    100.4,  17.7180,  36.0430,2,  36.0390,2,    226.7,2,    225.0,2,     1.50,2,     0.29,2,     0.15,2,    2.590,2,    1.401,2, -999.000,9,-999.0000,9,  -999.00,9,   -999.0,9,   -999.0,9,     8.27,2, 17.7010
 3230CITHER2_1,  A17C,    68,  1,     27,     27,2,19940129,2355,-32.4560, -41.1115, 4422,    151.0,  16.8770,  35.9630,2,  35.9570,2,    213.3,2,    212.5,2,     1.70,2,     3.64,2,     0.34,2,    2.587,2,    1.401,2, -999.000,9,-999.0000,9,  -999.00,9,   -999.0,9,   -999.0,9,     8.24,2, 16.8520
 3230CITHER2_1,  A17C,    68,  1,     26,     26,2,19940129,2355,-32.4560, -41.1115, 4422,    200.4,  16.0700,  35.8310,2,  35.8330,2,    218.7,2,    217.9,2,     1.80,2,     4.26,2,     0.38,2,    2.687,2,    1.439,2, -999.000,9,-999.0000,9,  -999.00,9,   -999.0,9,   -999.0,9,     8.23,2, 16.0380
 3230CITHER2_1,  A17C,    68,  1,     25,     25,2,19940129,2355,-32.4560, -41.1115, 4422,    200.8,  16.0670,  35.8300,2,  35.8330,2,    218.7,2,    218.2,2,     1.70,2,     4.26,2,     0.38,2,    2.686,2,    1.438,2, -999.000,9,-999.0000,9,  -999.00,9,   -999.0,9,   -999.0,9,     8.23,2, 16.0350
 3230CITHER2_1,  A17C,    68,  1,     24,     24,2,19940129,2355,-32.4560, -41.1115, 4422,    301.6,  15.3090,  35.7250,2,  35.7260,2,    226.8,2,    224.6,2,     1.90,2,     4.92,2,     0.43,2,    2.728,2,    1.462,2, -999.000,9,-999.0000,9,  -999.00,9,   -999.0,9,   -999.0,9,     8.21,2, 15.2620
 3230CITHER2_1,  A17C,    68,  1,     23,     23,2,19940129,2355,-32.4560, -41.1115, 4422,    399.8,  13.3540,  35.3260,2,  35.3260,2,    220.0,2,    216.0,2,     3.10,2,     9.37,2,     0.72,2,    2.618,2,    1.371,2, -999.000,9,-999.0000,9,  -999.00,9,   -999.0,9,   -999.0,9,     8.15,2, 13.2970
 3230CITHER2_1,  A17C,    68,  1,     22,     22,2,19940129,2355,-32.4560, -41.1115, 4422,    531.3,  10.2660,  34.8470,2,  34.8450,2,    207.8,2,    205.5,2,     6.40,2,    17.10,2,     1.20,2,    2.125,2,    1.094,2, -999.000,9,-999.0000,9,  -999.00,9,   -999.0,9,   -999.0,9,     8.05,2, 10.2020
 3230CITHER2_1,  A17C,    68,  1,     21,     21,2,19940129,2355,-32.4560, -41.1115, 4422,    700.5,   6.3170,  34.3850,2,  34.3830,2,    229.3,2,    231.9,2,    11.40,2,    23.99,2,     1.68,2,    2.533,2,    1.255,2, -999.000,9,-999.0000,9,  -999.00,9,   -999.0,9,   -999.0,9,     7.97,2,  6.2530
 3230CITHER2_1,  A17C,    68,  1,     20,     20,2,19940129,2355,-32.4560, -41.1115, 4422,    880.4,   4.3910,  34.2380,2,  34.2360,2,    256.1,2,    255.3,2,    16.60,2,    26.89,2,     1.85,2,    2.951,2,    1.447,2, -999.000,9,-999.0000,9,  -999.00,9,   -999.0,9,   -999.0,9,     7.95,2,  4.3230
 3230CITHER2_1,  A17C,    68,  1,     19,     19,2,19940129,2355,-32.4560, -41.1115, 4422,   1001.4,   3.8540,  34.2560,2,  34.2550,2,    240.3,2,    239.4,2,    24.40,2,    29.37,2,     2.01,2,    1.922,2,    0.959,2, -999.000,9,-999.0000,9,  -999.00,9,   -999.0,9,   -999.0,9,     7.92,2,  3.7800
 3230CITHER2_1,  A17C,    68,  1,     18,     18,2,19940129,2355,-32.4560, -41.1115, 4422,   1200.7,   3.2170,  34.3290,2,  34.3280,2,    217.4,2,    214.7,2,    38.40,2,    31.96,2,     2.19,2,    0.907,2,    0.473,2, -999.000,9,-999.0000,9,  -999.00,9,   -999.0,9,   -999.0,9,     7.88,2,  3.1320
 3230CITHER2_1,  A17C,    68,  1,     17,     17,2,19940129,2355,-32.4560, -41.1115, 4422,   1399.5,   2.9450,  34.4700,2,  34.4700,2,    191.8,2,    192.0,2,    51.90,2,    32.84,2,     2.24,2,    0.266,2,    0.144,2, -999.000,9,-999.0000,9,  -999.00,9,   -999.0,9,   -999.0,9,     7.85,2,  2.8460
 3230CITHER2_1,  A17C,    68,  1,     16,     16,2,19940129,2355,-32.4560, -41.1115, 4422,   1599.6,   2.9270,  34.5920,2,  34.5920,2,    186.8,2,    187.6,2,    55.90,2,    31.77,2,     2.17,2,    0.136,2,    0.081,2, -999.000,9,-999.0000,9,  -999.00,9,   -999.0,9,   -999.0,9,     7.86,2,  2.8120
 3230CITHER2_1,  A17C,    68,  1,     15,     15,2,19940129,2355,-32.4560, -41.1115, 4422,   1799.3,   2.9750,  34.7010,2,  34.7040,2,    195.0,2,    195.9,2,    53.40,2,    29.51,2,     2.01,2,    0.044,2,    0.029,2, -999.000,9,-999.0000,9,  -999.00,9,   -999.0,9,   -999.0,9,     7.87,2,  2.8420
 3230CITHER2_1,  A17C,    68,  1,     14,     14,2,19940129,2355,-32.4560, -41.1115, 4422,   1998.9,   2.9980,  34.7920,2,  34.7920,2,    209.9,2,    212.0,2,    47.50,2,    26.53,2,     1.80,2,    0.018,2,    0.015,2, -999.000,9,-999.0000,9,  -999.00,9,   -999.0,9,   -999.0,9,     7.92,2,  2.8460
 3230CITHER2_1,  A17C,    68,  1,     13,     13,2,19940129,2355,-32.4560, -41.1115, 4422,   2200.2,   3.2350,  34.8890,2,  34.8890,2,    230.7,2,    233.7,2,    34.00,2,    22.70,2,     1.53,2,    0.007,2,    0.012,2, -999.000,9,-999.0000,9,  -999.00,9,   -999.0,9,   -999.0,9,     7.96,2,  3.0600
 3230CITHER2_1,  A17C,    68,  1,     12,     12,2,19940129,2355,-32.4560, -41.1115, 4422,   2398.3,   3.2310,  34.9230,2,  34.9270,2,    244.5,2,    245.1,2,    28.70,2,    21.09,2,     1.41,2,    0.011,2,    0.017,2, -999.000,9,-999.0000,9,  -999.00,9,   -999.0,9,   -999.0,9,     7.98,2,  3.0370
 3230CITHER2_1,  A17C,    68,  1,     11,     11,2,19940129,2355,-32.4560, -41.1115, 4422,   2597.4,   3.1560,  34.9360,2,  34.9380,2,    251.0,2,    249.9,2,    27.90,2,    20.55,2,     1.37,2,    0.010,2,    0.013,2, -999.000,9,-999.0000,9,  -999.00,9,   -999.0,9,   -999.0,9,     7.99,2,  2.9430
 3230CITHER2_1,  A17C,    68,  1,     10,     10,2,19940129,2355,-32.4560, -41.1115, 4422,   2799.9,   3.0230,  34.9310,2,  34.9310,2,    251.9,2,    251.6,2,    29.70,2,    20.56,2,     1.36,2,    0.013,2,    0.011,2, -999.000,9,-999.0000,9,  -999.00,9,   -999.0,9,   -999.0,9,     8.00,2,  2.7930
 3230CITHER2_1,  A17C,    68,  1,      9,      9,2,19940129,2355,-32.4560, -41.1115, 4422,   2999.4,   2.9020,  34.9270,2,  34.9260,2,    252.9,2,    251.0,2,    31.50,2,    20.65,2,     1.38,2,    0.010,2,    0.011,2, -999.000,9,-999.0000,9,  -999.00,9,   -999.0,9,   -999.0,9,     7.99,2,  2.6530
 3230CITHER2_1,  A17C,    68,  1,      8,      8,2,19940129,2355,-32.4560, -41.1115, 4422,   3197.5,   2.6990,  34.9140,2,  34.9150,2,    252.9,2,    251.0,2,    35.50,2,    20.90,2,     1.40,2,    0.009,2,    0.009,2, -999.000,9,-999.0000,9,  -999.00,9,   -999.0,9,   -999.0,9,     7.99,2,  2.4340
 3230CITHER2_1,  A17C,    68,  1,      7,      7,2,19940129,2355,-32.4560, -41.1115, 4422,   3396.9,   2.3220,  34.8780,2,  34.8810,2,    249.0,2,    246.4,2,    48.00,2,    22.24,2,     1.51,2,    0.021,2,    0.017,2, -999.000,9,-999.0000,9,  -999.00,9,   -999.0,9,   -999.0,9,     7.97,2,  2.0450
 3230CITHER2_1,  A17C,    68,  1,      6,      6,2,19940129,2355,-32.4560, -41.1115, 4422,   3598.2,   1.3980,  34.7730,2,  34.7720,2,    224.7,2,    224.5,2,    90.80,2,    28.15,2,     1.92,2,    0.036,2,    0.019,2, -999.000,9,-999.0000,9,  -999.00,9,   -999.0,9,   -999.0,9,     7.91,2,  1.1240
 3230CITHER2_1,  A17C,    68,  1,      5,      5,2,19940129,2355,-32.4560, -41.1115, 4422,   3797.3,   0.7270,  34.7080,2,  34.7090,2,    215.3,2,    216.5,2,   115.80,2,    31.26,2,     2.16,2,    0.080,2,    0.048,2, -999.000,9,-999.0000,9,  -999.00,9,   -999.0,9,   -999.0,9,     7.87,2,  0.4510
 3230CITHER2_1,  A17C,    68,  1,      4,      4,2,19940129,2355,-32.4560, -41.1115, 4422,   3999.2,   0.3730,  34.6850,2,  34.6840,2,    217.2,2,    220.2,2,   124.00,2,    32.21,2,     2.23,2,    0.099,2,    0.065,2, -999.000,9,-999.0000,9,  -999.00,9,   -999.0,9,   -999.0,9,     7.86,2,  0.0860
 3230CITHER2_1,  A17C,    68,  1,      3,      3,2,19940129,2355,-32.4560, -41.1115, 4422,   4197.6,   0.1790,  34.6740,2,  34.6750,2,    219.7,2,    222.3,2,   128.20,2,    32.42,2,     2.25,2,    0.118,2,    0.066,2, -999.000,9,-999.0000,9,  -999.00,9,   -999.0,9,   -999.0,9,     7.86,2, -0.1220
 3230CITHER2_1,  A17C,    68,  1,      2,      2,2,19940129,2355,-32.4560, -41.1115, 4422,   4397.7,   0.1640,  34.6720,2,  34.6710,2,    219.9,2,    221.7,2,   129.00,2,    32.64,2,     2.26,2,    0.132,2,    0.081,2, -999.000,9,-999.0000,9,  -999.00,9,   -999.0,9,   -999.0,9,     7.86,2, -0.1580
 3230CITHER2_1,  A17C,    68,  1,      1,      1,2,19940129,2355,-32.4560, -41.1115, 4422,   4473.5,   0.1720,  34.6710,2,  34.6720,2,    219.8,2,    222.9,2,   130.10,2,    32.65,2,     2.27,2,    0.126,2,    0.078,2, -999.000,9,-999.0000,9,  -999.00,9,   -999.0,9,   -999.0,9,     7.87,2, -0.1580
 3230CITHER2_1,  A17C,    69,  1,     28,     28,2,19940130,0613,-32.0600, -40.7687, 4112,      5.9,  22.4640,  35.9900,2,  35.9940,2,    222.0,2,    221.0,2,     0.70,2,     0.04,2,     0.01,2,    2.207,2,    1.236,2, -999.000,9,-999.0000,9,  -999.00,9,   2038.3,2,   2370.2,2,     8.33,2, 22.4630
 3230CITHER2_1,  A17C,    69,  1,     27,     27,2,19940130,0613,-32.0600, -40.7687, 4112,     43.0,  22.4470,  35.9900,2,  35.9910,2,    225.5,2,    219.9,2,     0.70,2,     0.04,2,     0.02,2,    2.221,2,    1.237,2, -999.000,9,-999.0000,9,  -999.00,9,   2037.7,2,   2368.5,2,     8.34,2, 22.4380
 3230CITHER2_1,  A17C,    69,  1,     26,     26,2,19940130,0613,-32.0600, -40.7687, 4112,    101.0,  17.4600,  35.9160,2,  35.9120,2,    232.6,2,    230.0,2,     1.00,2,     0.12,2,     0.12,2,    2.631,2,    1.418,2, -999.000,9,-999.0000,9,  -999.00,9,   2067.9,2,   2367.7,2,     8.28,2, 17.4430
 3230CITHER2_1,  A17C,    69,  1,     25,     25,2,19940130,0613,-32.0600, -40.7687, 4112,    151.4,  16.9900,  35.9100,2,  35.9110,2,    219.3,2,    217.0,2,     1.20,2,     2.54,2,     0.26,2,    2.620,2,    1.408,2, -999.000,9,-999.0000,9,  -999.00,9,   2081.4,2,   2366.3,2,     8.26,2, 16.9650
 3230CITHER2_1,  A17C,    69,  1,     24,     24,2,19940130,0613,-32.0600, -40.7687, 4112,    199.9,  16.2380,  35.7990,2,  35.8030,2,    218.0,2,    218.2,2,     1.50,2,     3.46,2,     0.33,2,    2.648,2,    1.418,2, -999.000,9,-999.0000,9,  -999.00,9,   2085.4,2,   2359.9,2,     8.24,2, 16.2060
 3230CITHER2_1,  A17C,    69,  1,     23,     23,2,19940130,0613,-32.0600, -40.7687, 4112,    301.1,  15.1410,  35.6210,2,  35.6400,2,    220.8,2,    218.0,2,     1.90,2,     5.30,2,     0.46,2,    2.664,2,    1.412,2, -999.000,9,-999.0000,9,  -999.00,9,   2092.0,2,   2352.4,2,     8.22,2, 15.0950
 3230CITHER2_1,  A17C,    69,  1,     22,     22,2,19940130,0613,-32.0600, -40.7687, 4112,    400.2,  13.2320,  35.2690,2,  35.2820,2,    211.4,2,    207.3,2,     3.10,2,     9.81,2,     0.74,2,    2.425,2,    1.281,2, -999.000,9,-999.0000,9,  -999.00,9,   2107.9,2,   2332.0,2,     8.16,2, 13.1760
 3230CITHER2_1,  A17C,    69,  1,     21,     21,2,19940130,0613,-32.0600, -40.7687, 4112,    500.4,  11.3130,  34.9910,2,  34.9930,2,    208.0,2,    205.4,2,     5.00,2,    14.49,2,     1.04,2,    2.147,2,    1.123,2, -999.000,9,-999.0000,9,  -999.00,9,   2121.9,2,   2318.3,2,     8.09,2, 11.2490
 3230CITHER2_1,  A17C,    69,  1,     20,     20,2,19940130,0613,-32.0600, -40.7687, 4112,    599.9,   8.9240,  34.7060,2,  34.7000,2,    208.0,2,    208.2,2,     8.10,2,    19.76,2,     1.38,2,    2.008,2,    1.039,2, -999.000,9,-999.0000,9,  -999.00,9,   2137.7,2,   2304.8,2,     8.03,2,  8.8580
 3230CITHER2_1,  A17C,    69,  1,     19,     19,2,19940130,0613,-32.0600, -40.7687, 4112,    800.1,   5.0650,  34.2680,2,  34.2680,2,    250.8,2,    252.1,2,    13.70,2,    25.19,2,     1.78,2,    3.056,2,    1.496,2, -999.000,9,-999.0000,9,  -999.00,9,   2149.2,2,   2293.6,2,     7.98,2,  4.9990
 3230CITHER2_1,  A17C,    69,  1,     18,     18,2,19940130,0613,-32.0600, -40.7687, 4112,   1000.8,   3.8130,  34.2410,2,  34.2400,2,    246.7,2,    246.3,2,    23.40,2,    28.84,2,     2.00,2,    2.355,2,    1.172,2, -999.000,9,-999.0000,9,  -999.00,9,   2171.4,2,   2299.1,2,     7.94,2,  3.7390
 3230CITHER2_1,  A17C,    69,  1,     17,     17,2,19940130,0613,-32.0600, -40.7687, 4112,   1200.7,   2.9690,  34.2990,2,  34.2960,2,    222.8,2,    224.0,2,    39.10,2,    32.00,2,     2.19,2,    1.585,2,    0.796,2, -999.000,9,-999.0000,9,  -999.00,9,   2200.2,2,   2314.0,2,     7.90,2,  2.8860
 3230CITHER2_1,  A17C,    69,  1,     16,     16,2,19940130,0613,-32.0600, -40.7687, 4112,   1400.9,   2.9340,  34.4750,2,  34.4670,2,    192.2,2,    191.1,2,    52.60,2,    33.13,2,     2.25,2,    0.267,2,    0.152,2, -999.000,9,-999.0000,9,  -999.00,9,   2225.3,2,   2330.4,2,     7.87,2,  2.8350
 3230CITHER2_1,  A17C,    69,  1,     15,     15,2,19940130,0613,-32.0600, -40.7687, 4112,   1601.8,   2.9400,  34.6070,2,  34.6010,2,    186.0,2,    188.0,2,    56.20,2,    31.63,2,     2.16,2,    0.108,2,    0.065,2, -999.000,9,-999.0000,9,  -999.00,9,   2229.5,2,   2338.5,2,     7.86,2,  2.8240
 3230CITHER2_1,  A17C,    69,  1,     14,     14,2,19940130,0613,-32.0600, -40.7687, 4112,   1800.6,   3.1340,  34.7460,2,  34.7400,2,    198.1,2,    200.5,2,    49.00,2,    28.31,2,     1.93,2,    0.037,2,    0.026,2, -999.000,9,-999.0000,9,  -999.00,9,   2215.9,2,   2340.2,2,     7.91,2,  2.9980
 3230CITHER2_1,  A17C,    69,  1,     13,     13,2,19940130,0613,-32.0600, -40.7687, 4112,   1999.1,   3.3210,  34.8540,2,  34.8460,2,    218.4,2,    222.0,2,    37.70,2,    24.31,2,     1.65,2,    0.021,2,    0.022,2, -999.000,9,-999.0000,9,  -999.00,9,   2195.0,2,   2334.4,2,     7.95,2,  3.1640
 3230CITHER2_1,  A17C,    69,  1,     12,     12,2,19940130,0613,-32.0600, -40.7687, 4112,   2199.7,   3.3400,  34.9020,2,  34.9020,2,    233.7,2,    236.0,2,    31.70,2,    22.31,2,     1.51,2,    0.018,2,    0.019,2, -999.000,9,-999.0000,9,  -999.00,9,   2183.7,2,   2333.9,2,     7.98,2,  3.1640
 3230CITHER2_1,  A17C,    69,  1,     11,     11,2,19940130,0613,-32.0600, -40.7687, 4112,   2400.3,   3.2910,  34.9300,2,  34.9300,2,    246.4,2,    246.1,2,    27.70,2,    20.98,2,     1.40,2,    0.013,2,    0.019,2, -999.000,9,-999.0000,9,  -999.00,9,   2175.6,2,   2332.5,2,     7.99,2,  3.0960
 3230CITHER2_1,  A17C,    69,  1,     10,     10,2,19940130,0613,-32.0600, -40.7687, 4112,   2599.2,   3.1510,  34.9300,2,  34.9300,2,    247.6,2,    248.4,2,    29.00,2,    20.90,2,     1.39,2,    0.012,2,    0.014,2, -999.000,9,-999.0000,9,  -999.00,9,   2175.5,2,   2333.6,2,     8.00,2,  2.9380
 3230CITHER2_1,  A17C,    69,  1,      9,      9,2,19940130,0613,-32.0600, -40.7687, 4112,   2799.2,   3.0340,  34.9340,2,  34.9330,2,    251.7,2,    251.3,2,    29.30,2,    20.49,2,     1.37,2,    0.014,2,    0.018,2, -999.000,9,-999.0000,9,  -999.00,9,   2175.0,2,   2336.1,2,     8.01,2,  2.8030
 3230CITHER2_1,  A17C,    69,  1,      8,      8,2,19940130,0613,-32.0600, -40.7687, 4112,   2998.8,   2.8790,  34.9260,2,  34.9240,2,    252.2,2,    251.0,2,    31.80,2,    20.66,2,     1.38,2,    0.011,2,    0.014,2, -999.000,9,-999.0000,9,  -999.00,9,   2177.0,2,   2336.5,2,     8.01,2,  2.6310
 3230CITHER2_1,  A17C,    69,  1,      7,      7,2,19940130,0613,-32.0600, -40.7687, 4112,   3199.2,   2.6240,  34.9090,2,  34.9090,2,    252.7,2,    250.9,2,    37.40,2,    21.13,2,     1.42,2,    0.010,2,    0.016,2, -999.000,9,-999.0000,9,  -999.00,9,   2182.4,2,   2342.0,2,     8.00,2,  2.3610
 3230CITHER2_1,  A17C,    69,  1,      6,      6,2,19940130,0613,-32.0600, -40.7687, 4112,   3398.1,   2.0150,  34.8480,2,  34.8500,2,    244.1,2,    241.8,2,    60.30,2,    23.86,2,     1.62,2,    0.014,2,    0.013,2, -999.000,9,-999.0000,9,  -999.00,9,   2204.6,2,   2353.0,2,     7.97,2,  1.7460
 3230CITHER2_1,  A17C,    69,  1,      5,      5,2,19940130,0613,-32.0600, -40.7687, 4112,   3597.9,   1.1110,  34.7460,2,  34.7410,2,    222.2,2,    219.7,2,   102.80,2,    30.12,2,     2.03,2,    0.058,2,    0.040,2, -999.000,9,-999.0000,9,  -999.00,9,   2244.9,2,   2367.5,2,     7.91,2,  0.8440
 3230CITHER2_1,  A17C,    69,  1,      4,      4,2,19940130,0613,-32.0600, -40.7687, 4112,   3798.9,   0.5630,  34.6990,2,  34.7000,2,    215.6,2,    218.7,2,   119.80,2,    32.00,2,     2.19,2,    0.088,2,    0.056,2, -999.000,9,-999.0000,9,  -999.00,9,   2258.9,2,   2374.2,2,     7.88,2,  0.2910
 3230CITHER2_1,  A17C,    69,  1,      3,      3,2,19940130,0613,-32.0600, -40.7687, 4112,   3997.4,   0.1510,  34.6730,2,  34.6760,2,    219.1,2,    221.5,2,   128.30,2,    32.85,2,     2.26,2,    0.125,2,    0.077,2, -999.000,9,-999.0000,9,  -999.00,9,   2266.1,2,   2376.6,2,     7.88,2, -0.1290
 3230CITHER2_1,  A17C,    69,  1,      1,      1,2,19940130,0613,-32.0600, -40.7687, 4112,   4151.0,   0.1500,  34.6730,2,  34.6730,2,    219.2,2,    221.2,2,   128.80,2,    33.01,2,     2.27,2,    0.122,2,    0.071,2, -999.000,9,-999.0000,9,  -999.00,9,   2266.4,2,   2376.3,2,     7.88,2, -0.1460
 3230CITHER2_1,  A17C,    69,  1,      2,      2,2,19940130,0613,-32.0600, -40.7687, 4112,   4151.2,   0.1490,  34.6740,2,  34.6720,2,    219.2,2,    221.5,2,   128.80,2,    33.07,2,     2.26,2,    0.126,2,    0.073,2, -999.000,9,-999.0000,9,  -999.00,9,   2266.1,2,   2376.3,2,     7.88,2, -0.1470