BOTTLE,20030515WHPSIOSA
EXPOCODE,SECT_ID,STNNBR,CASTNO,SAMPNO,BTLNBR,BTLNBR_FLAG_W,DATE,TIME,LATITUDE,LONGITUDE,DEPTH,CTDPRS,CTDTMP,CTDSAL,CTDSAL_FLAG_W,SALNTY,SALNTY_FLAG_W,CTDOXY,CTDOXY_FLAG_W,OXYGEN,OXYGEN_FLAG_W,SILCAT,SILCAT_FLAG_W,NITRAT,NITRAT_FLAG_W,PHSPHT,PHSPHT_FLAG_W,CFC-11,CFC-11_FLAG_W,CFC-12,CFC-12_FLAG_W,TRITUM,TRITUM_FLAG_W,HELIUM,HELIUM_FLAG_W,DELHE3,DELHE3_FLAG_W,TCARBN,TCARBN_FLAG_W,ALKALI,ALKALI_FLAG_W,PH,PH_FLAG_W,THETA
,,,,,,,,,,,,DBAR,ITS-90,PSS-78,,PSS-78,,UMOL/KG,,UMOL/KG,,UMOL/KG,,UMOL/KG,,UMOL/KG,,PMOL/KG,,PMOL/KG,,TU,,NMOL/KG,,PERCNT,,UMOL/KG,,UMOL/KG,,,,DEG C
 3230CITHER2_1,  A17C,    26,  1,     32,     32,2,19940116,2058,-42.2723, -49.5993, 5809,     10.9,  15.3210,  34.5610,2,  34.5600,2,    270.4,2,    260.1,2,     0.20,2,     0.68,2,     0.27,2,    3.192,2,    1.719,2, -999.000,9,-999.0000,9,  -999.00,9,   -999.0,9,   -999.0,9,     8.28,2, 15.3190
 3230CITHER2_1,  A17C,    26,  1,     31,     31,2,19940116,2058,-42.2723, -49.5993, 5809,     41.9,  15.0580,  34.5430,2,  34.5450,2,    259.5,2,    259.9,2,     0.20,2,     0.92,2,     0.28,2,    3.247,2,    1.742,2, -999.000,9,-999.0000,9,  -999.00,9,   -999.0,9,   -999.0,9,     8.27,2, 15.0520
 3230CITHER2_1,  A17C,    26,  1,     30,     30,2,19940116,2058,-42.2723, -49.5993, 5809,    124.3,   9.6440,  34.6750,2,  34.6740,2,    252.7,2,    253.5,2,     3.60,2,    14.15,2,     1.04,2,    3.820,2,    2.001,2, -999.000,9,-999.0000,9,  -999.00,9,   -999.0,9,   -999.0,9,     8.11,2,  9.6300
 3230CITHER2_1,  A17C,    26,  1,     29,     29,2,19940116,2058,-42.2723, -49.5993, 5809,    198.7,   7.7450,  34.4570,2,  34.4910,2,    250.3,2,    255.2,2,     5.90,2,    18.47,2,     1.34,2,    3.882,2,    1.996,2, -999.000,9,-999.0000,9,  -999.00,9,   -999.0,9,   -999.0,9,     8.06,2,  7.7250
 3230CITHER2_1,  A17C,    26,  1,     28,     28,2,19940116,2058,-42.2723, -49.5993, 5809,    404.3,   4.6570,  34.2000,2,  34.2000,2,    269.0,2,    275.3,2,    12.90,2,    25.66,2,     1.78,2,    4.022,2,    2.001,2, -999.000,9,-999.0000,9,  -999.00,9,   -999.0,9,   -999.0,9,     7.98,2,  4.6260
 3230CITHER2_1,  A17C,    26,  1,     27,     27,2,19940116,2058,-42.2723, -49.5993, 5809,    599.5,   4.0710,  34.2190,2,  34.2180,2,    260.3,2,    256.7,2,    19.40,2,    27.80,2,     1.94,2,    3.159,2,    1.608,2, -999.000,9,-999.0000,9,  -999.00,9,   -999.0,9,   -999.0,9,     7.95,2,  4.0270
 3230CITHER2_1,  A17C,    26,  1,     26,     26,2,19940116,2058,-42.2723, -49.5993, 5809,    801.7,   3.2190,  34.2240,2,  34.2230,2,    240.7,2,    245.1,2,    30.10,2,    30.40,2,     2.11,2,    2.699,2,    1.373,2, -999.000,9,-999.0000,9,  -999.00,9,   -999.0,9,   -999.0,9,     7.91,2,  3.1650
 3230CITHER2_1,  A17C,    26,  1,     25,     25,2,19940116,2058,-42.2723, -49.5993, 5809,   1001.9,   2.6830,  34.2820,2,  34.2810,2,    225.9,2,    228.6,2,    41.40,2,    32.48,2,     2.25,2,    2.055,2,    1.040,2, -999.000,9,-999.0000,9,  -999.00,9,   -999.0,9,   -999.0,9,     7.88,2,  2.6180
 3230CITHER2_1,  A17C,    26,  1,     24,     24,2,19940116,2058,-42.2723, -49.5993, 5809,   1301.6,   2.6200,  34.4580,2,  34.4580,2,    188.2,2,    189.0,2,    61.20,2,    33.98,2,     2.35,2,    0.697,2,    0.368,2, -999.000,9,-999.0000,9,  -999.00,9,   -999.0,9,   -999.0,9,     7.84,2,  2.5330
 3230CITHER2_1,  A17C,    26,  1,     23,     23,2,19940116,2058,-42.2723, -49.5993, 5809,   1599.6,   2.6630,  34.6040,2,  34.6010,2,    179.0,2,    180.2,2,    71.90,2,    33.22,2,     2.28,2,    0.248,2,    0.144,2, -999.000,9,-999.0000,9,  -999.00,9,   -999.0,9,   -999.0,9,     7.84,2,  2.5510
 3230CITHER2_1,  A17C,    26,  1,     22,     22,2,19940116,2058,-42.2723, -49.5993, 5809,   1799.4,   2.7410,  34.6850,2,  34.6850,2,    182.8,2,    185.6,2,    69.70,2,    31.73,2,     2.16,2,    0.129,2,    0.079,2, -999.000,9,-999.0000,9,  -999.00,9,   -999.0,9,   -999.0,9,     7.87,2,  2.6110
 3230CITHER2_1,  A17C,    26,  1,     21,     21,2,19940116,2058,-42.2723, -49.5993, 5809,   1997.6,   2.9350,  34.7780,2,  34.7720,2,    200.4,2,    200.8,2,    59.10,2,    29.04,2,     1.95,2,    0.112,2,    0.070,2, -999.000,9,-999.0000,9,  -999.00,9,   -999.0,9,   -999.0,9,     7.90,2,  2.7840
 3230CITHER2_1,  A17C,    26,  1,     20,     20,2,19940116,2058,-42.2723, -49.5993, 5809,   2199.3,   3.0970,  34.8450,2,  34.8450,2,    218.0,2,    218.5,2,    47.30,2,    25.91,2,     1.74,2,    0.043,2,    0.041,2, -999.000,9,-999.0000,9,  -999.00,9,   -999.0,9,   -999.0,9,     7.93,2,  2.9250
 3230CITHER2_1,  A17C,    26,  1,     19,     19,2,19940116,2058,-42.2723, -49.5993, 5809,   2400.1,   2.8440,  34.8330,2,  34.8330,2,    218.1,2,    225.7,2,    54.90,2,    26.59,2,     1.79,2,    0.046,2,    0.041,2, -999.000,9,-999.0000,9,  -999.00,9,   -999.0,9,   -999.0,9,     7.93,2,  2.6570
 3230CITHER2_1,  A17C,    26,  1,     18,     18,2,19940116,2058,-42.2723, -49.5993, 5809,   2601.7,   2.7050,  34.8400,2,  34.8410,2,    219.6,2,    219.3,2,    56.60,2,    26.30,2,     1.77,2,    0.034,2,    0.036,2, -999.000,9,-999.0000,9,  -999.00,9,   -999.0,9,   -999.0,9,     7.94,2,  2.5010
 3230CITHER2_1,  A17C,    26,  1,     17,     17,2,19940116,2058,-42.2723, -49.5993, 5809,   2801.1,   2.5140,  34.8330,2,  34.8330,2,    222.6,2,    219.8,2,    61.60,2,    26.69,2,     1.80,2,    0.028,2,    0.027,2, -999.000,9,-999.0000,9,  -999.00,9,   -999.0,9,   -999.0,9,     7.94,2,  2.2940
 3230CITHER2_1,  A17C,    26,  1,     16,     16,2,19940116,2058,-42.2723, -49.5993, 5809,   3000.8,   2.2810,  34.8120,2,  34.8120,2,    217.4,2,    215.7,2,    71.20,2,    27.66,2,     1.87,2,    0.033,2,    0.036,2, -999.000,9,-999.0000,9,  -999.00,9,   -999.0,9,   -999.0,9,     7.93,2,  2.0460
 3230CITHER2_1,  A17C,    26,  1,     15,     15,2,19940116,2058,-42.2723, -49.5993, 5809,   3297.7,   1.8180,  34.7670,2,  34.7680,2,    206.5,2,    206.4,2,    91.70,2,    30.28,2,     2.06,2,    0.040,2,    0.038,2, -999.000,9,-999.0000,9,  -999.00,9,   -999.0,9,   -999.0,9,     7.90,2,  1.5640
 3230CITHER2_1,  A17C,    26,  1,     14,     14,2,19940116,2058,-42.2723, -49.5993, 5809,   3597.4,   1.4440,  34.7430,2,  34.7430,2,    206.0,2,    206.5,2,   103.80,2,    31.34,2,     2.14,2,    0.060,2,    0.047,2, -999.000,9,-999.0000,9,  -999.00,9,   -999.0,9,   -999.0,9,     7.89,2,  1.1690
 3230CITHER2_1,  A17C,    26,  1,     12,     12,2,19940116,2058,-42.2723, -49.5993, 5809,   3800.3,   1.2470,  34.7280,2,  34.7280,2,    206.4,2,    206.7,2,   110.40,2,    31.79,2,     2.19,2,    0.076,2,    0.052,2, -999.000,9,-999.0000,9,  -999.00,9,   -999.0,9,   -999.0,9,     7.88,2,  0.9560
 3230CITHER2_1,  A17C,    26,  1,     13,     13,2,19940116,2058,-42.2723, -49.5993, 5809,   3800.4,   1.2480,  34.7290,2,  34.7270,2,    206.4,2,    207.3,2,   110.50,2,    32.03,2,     2.19,2,    0.076,2,    0.048,2, -999.000,9,-999.0000,9,  -999.00,9,   -999.0,9,   -999.0,9,     7.88,2,  0.9570
 3230CITHER2_1,  A17C,    26,  1,     11,     11,2,19940116,2058,-42.2723, -49.5993, 5809,   3998.5,   1.0050,  34.7130,2,  34.7150,2,    209.1,2,    209.7,2,   115.90,2,    32.42,2,     2.22,2,    0.096,2,    0.067,2, -999.000,9,-999.0000,9,  -999.00,9,   -999.0,9,   -999.0,9,     7.88,2,  0.7000
 3230CITHER2_1,  A17C,    26,  1,     10,     10,2,19940116,2058,-42.2723, -49.5993, 5809,   4198.6,   0.8030,  34.7020,2,  34.7020,2,    211.2,2,    212.4,2,   120.60,2,    32.72,2,     2.26,2,    0.119,2,    0.078,2, -999.000,9,-999.0000,9,  -999.00,9,   -999.0,9,   -999.0,9,     7.87,2,  0.4830
 3230CITHER2_1,  A17C,    26,  1,      9,      9,2,19940116,2058,-42.2723, -49.5993, 5809,   4395.6,   0.6240,  34.6900,2,  34.6930,2,    214.2,2,    215.3,2,   123.50,2,    32.87,2,     2.27,2,    0.131,2,    0.075,2, -999.000,9,-999.0000,9,  -999.00,9,   -999.0,9,   -999.0,9,     7.87,2,  0.2880
 3230CITHER2_1,  A17C,    26,  1,      8,      8,2,19940116,2058,-42.2723, -49.5993, 5809,   4597.9,   0.4800,  34.6820,2,  34.6830,2,    217.2,2,    218.2,2,   125.30,2,    33.12,2,     2.29,2,    0.123,2,    0.073,2, -999.000,9,-999.0000,9,  -999.00,9,   -999.0,9,   -999.0,9,     7.87,2,  0.1260
 3230CITHER2_1,  A17C,    26,  1,      7,      7,2,19940116,2058,-42.2723, -49.5993, 5809,   4800.3,   0.3880,  34.6800,2,  34.6790,2,    219.7,2,    220.2,2,   126.50,2,    33.12,2,     2.30,2,    0.128,2,    0.069,2, -999.000,9,-999.0000,9,  -999.00,9,   -999.0,9,   -999.0,9,     7.87,2,  0.0150
 3230CITHER2_1,  A17C,    26,  1,      6,      6,2,19940116,2058,-42.2723, -49.5993, 5809,   4998.9,   0.3320,  34.6760,2,  34.6760,2,    221.8,2,    222.6,2,   127.70,2,    33.71,2,     2.31,2,    0.124,2,    0.081,2, -999.000,9,-999.0000,9,  -999.00,9,   -999.0,9,   -999.0,9,     7.87,2, -0.0620
 3230CITHER2_1,  A17C,    26,  1,      5,      5,2,19940116,2058,-42.2723, -49.5993, 5809,   5197.7,   0.3090,  34.6730,2,  34.6750,2,    223.3,2,    223.1,2,   128.80,2,    33.86,2,     2.31,2,    0.134,2,    0.083,2, -999.000,9,-999.0000,9,  -999.00,9,   -999.0,9,   -999.0,9,     7.87,2, -0.1080
 3230CITHER2_1,  A17C,    26,  1,      4,      4,2,19940116,2058,-42.2723, -49.5993, 5809,   5397.3,   0.2990,  34.6710,2,  34.6740,2,    223.9,2,    223.3,2,   130.00,2,    33.67,2,     2.31,2,    0.143,2,    0.096,2, -999.000,9,-999.0000,9,  -999.00,9,   -999.0,9,   -999.0,9,     7.87,2, -0.1410
 3230CITHER2_1,  A17C,    26,  1,      3,      3,2,19940116,2058,-42.2723, -49.5993, 5809,   5594.3,   0.3030,  34.6710,2,  34.6720,2,    224.8,2,    223.3,2,   131.20,2,    33.63,2,     2.32,2,    0.161,2,    0.100,2, -999.000,9,-999.0000,9,  -999.00,9,   -999.0,9,   -999.0,9,     7.87,2, -0.1610
 3230CITHER2_1,  A17C,    26,  1,      2,      2,2,19940116,2058,-42.2723, -49.5993, 5809,   5799.8,   0.3140,  34.6690,2,  34.6710,2,    224.7,2,    222.6,2,   131.60,2,    33.64,2,     2.32,2,    0.165,2,    0.101,2, -999.000,9,-999.0000,9,  -999.00,9,   -999.0,9,   -999.0,9,     7.87,2, -0.1760
 3230CITHER2_1,  A17C,    26,  1,      1,      1,2,19940116,2058,-42.2723, -49.5993, 5809,   5912.2,   0.3270,  34.6700,2,  34.6690,2,    224.9,2,    223.1,2,   131.40,2,    33.69,2,     2.33,2,    0.173,2,    0.105,2, -999.000,9,-999.0000,9,  -999.00,9,   -999.0,9,   -999.0,9,     7.87,2, -0.1770
 3230CITHER2_1,  A17C,    27,  1,     32,     32,2,19940117,0405,-41.8427, -49.2442, 5749,      8.9,  16.6030,  34.6530,2,  34.6530,2,    247.1,2,    246.4,2,     0.60,2,     0.04,2,     0.21,2,    2.933,2,    1.621,2, -999.000,9,-999.0000,9,  -999.00,9,   2012.8,2,   2316.9,2,     8.30,2, 16.6020
 3230CITHER2_1,  A17C,    27,  1,     31,     31,2,19940117,0405,-41.8427, -49.2442, 5749,     42.5,  16.5660,  34.6460,2,  34.6480,2,    249.3,2,    246.4,2,     0.60,2,     0.04,2,     0.23,2,    2.965,2,    1.629,2, -999.000,9,-999.0000,9,  -999.00,9,   2012.9,2,   2317.6,2,     8.30,2, 16.5590
 3230CITHER2_1,  A17C,    27,  1,     30,     30,2,19940117,0405,-41.8427, -49.2442, 5749,    100.0,  10.2340,  34.7650,2,  34.7710,2,    240.7,2,    245.2,2,     3.50,2,    14.32,2,     1.00,2,    3.646,2,    1.938,2, -999.000,9,-999.0000,9,  -999.00,9,   2105.8,2,   2314.7,2,     8.11,2, 10.2220
 3230CITHER2_1,  A17C,    27,  1,     29,     29,2,19940117,0405,-41.8427, -49.2442, 5749,    199.4,   8.2090,  34.5640,2,  34.5430,2,    255.1,2,    258.1,2,     5.20,2,    18.35,2,     1.26,2,    3.937,2,    2.035,2, -999.000,9,-999.0000,9,  -999.00,9,   2117.0,2,   2304.3,2,     8.07,2,  8.1890
 3230CITHER2_1,  A17C,    27,  1,     28,     28,2,19940117,0405,-41.8427, -49.2442, 5749,    329.9,   5.1050,  34.2050,2,  34.2080,2,    279.9,2,    275.5,2,     9.30,2,    24.85,2,     1.65,2,    4.384,2,    2.216,2, -999.000,9,-999.0000,9,  -999.00,9,   2133.9,2,   2291.7,2,     8.00,2,  5.0790
 3230CITHER2_1,  A17C,    27,  1,     27,     27,2,19940117,0405,-41.8427, -49.2442, 5749,    440.4,   4.5740,  34.1930,2,  34.1920,2,    281.2,2,    275.1,2,    11.90,2,    26.08,2,     1.75,2,    4.211,2,    2.124,2, -999.000,9,-999.0000,9,  -999.00,9,   2142.3,2,   2294.4,2,     7.98,2,  4.5410
 3230CITHER2_1,  A17C,    27,  1,     26,     26,2,19940117,0405,-41.8427, -49.2442, 5749,    598.9,   3.9790,  34.1960,2,  34.2000,2,    260.4,2,    260.3,2,    19.10,2,    29.03,2,     1.93,2,    3.408,2,    1.742,2, -999.000,9,-999.0000,9,  -999.00,9,   2161.2,2,   2298.5,2,     7.95,2,  3.9360
 3230CITHER2_1,  A17C,    27,  1,     25,     25,2,19940117,0405,-41.8427, -49.2442, 5749,    801.8,   3.3130,  34.2370,2,  34.2410,2,    244.7,2,    241.7,2,    29.90,2,    31.84,2,     2.11,2,    2.475,2,    1.258,2, -999.000,9,-999.0000,9,  -999.00,9,   2183.7,2,   2308.6,2,     7.91,2,  3.2580
 3230CITHER2_1,  A17C,    27,  1,     24,     24,2,19940117,0405,-41.8427, -49.2442, 5749,   1004.4,   2.8640,  34.3130,2,  34.3170,2,    220.7,2,    217.8,2,    42.80,2,  -999.00,5,     2.26,2,    1.551,2,    0.800,2, -999.000,9,-999.0000,9,  -999.00,9,   2208.0,2,   2319.6,2,     7.87,2,  2.7970
 3230CITHER2_1,  A17C,    27,  1,     23,     23,2,19940117,0405,-41.8427, -49.2442, 5749,   1300.7,   2.7170,  34.4760,2,  34.4740,2,    187.9,2,    189.2,2,    59.00,2,    34.75,2,     2.34,2,    0.584,2,    0.305,2, -999.000,9,-999.0000,9,  -999.00,9,   2225.0,2,   2337.2,2,     7.84,2,  2.6290
 3230CITHER2_1,  A17C,    27,  1,     22,     22,2,19940117,0405,-41.8427, -49.2442, 5749,   1600.3,   2.8990,  34.6450,2,  34.6470,2,    183.5,2,    187.1,2,    59.20,2,    32.94,2,     2.17,2,    0.165,2,    0.094,2, -999.000,9,-999.0000,9,  -999.00,9,   2234.2,2,   2344.1,2,     7.86,2,  2.7840
 3230CITHER2_1,  A17C,    27,  1,     21,     21,2,19940117,0405,-41.8427, -49.2442, 5749,   1800.1,   2.6580,  34.6700,2,  34.6690,2,    181.8,2,    184.0,2,    70.20,2,    32.94,2,     2.20,2,    0.160,2,    0.091,2, -999.000,9,-999.0000,9,  -999.00,9,   2242.9,2,   2351.8,2,     7.85,2,  2.5290
 3230CITHER2_1,  A17C,    27,  1,     20,     20,2,19940117,0405,-41.8427, -49.2442, 5749,   1999.2,   2.8420,  34.7610,2,  34.7620,2,    198.3,2,    197.7,2,    62.00,2,    30.44,2,     1.99,2,    0.087,2,    0.051,2, -999.000,9,-999.0000,9,  -999.00,9,   2229.4,2,   2349.8,2,     7.89,2,  2.6920
 3230CITHER2_1,  A17C,    27,  1,     19,     19,2,19940117,0405,-41.8427, -49.2442, 5749,   2198.8,   2.9060,  34.8160,2,  34.8120,2,    210.4,2,    209.5,2,    56.80,2,    28.48,2,     1.85,2,    0.058,2,    0.041,2, -999.000,9,-999.0000,9,  -999.00,9,   2216.5,2,   2348.5,2,     7.92,2,  2.7370
 3230CITHER2_1,  A17C,    27,  1,     18,     18,2,19940117,0405,-41.8427, -49.2442, 5749,   2399.0,   2.7990,  34.8330,2,  34.8380,2,    215.4,2,    216.6,2,    55.90,2,    27.40,2,     1.78,2,    0.036,2,    0.030,2, -999.000,9,-999.0000,9,  -999.00,9,   2213.4,2,   2347.9,2,     7.93,2,  2.6130
 3230CITHER2_1,  A17C,    27,  1,     17,     17,2,19940117,0405,-41.8427, -49.2442, 5749,   2599.8,   2.5670,  34.8240,2,  34.8250,2,    213.8,2,    215.1,2,    63.20,2,    27.75,2,     1.82,2,    0.038,2,    0.034,2, -999.000,9,-999.0000,9,  -999.00,9,   2220.3,2,   2353.0,2,     7.93,2,  2.3660
 3230CITHER2_1,  A17C,    27,  1,     16,     16,2,19940117,0405,-41.8427, -49.2442, 5749,   2798.6,   2.2440,  34.7930,2,  34.7950,2,    207.6,2,    207.3,2,    77.00,2,    30.07,2,     1.95,2,    0.041,2,    0.038,2, -999.000,9,-999.0000,9,  -999.00,9,   2232.1,2,   2359.1,2,     7.91,2,  2.0300
 3230CITHER2_1,  A17C,    27,  1,     15,     15,2,19940117,0405,-41.8427, -49.2442, 5749,   2998.3,   1.9870,  34.7740,2,  34.7780,2,    204.8,2,    205.1,2,    87.30,2,    30.62,2,     2.02,2,    0.043,2,    0.030,2, -999.000,9,-999.0000,9,  -999.00,9,   2241.5,2,   2364.5,2,     7.90,2,  1.7590
 3230CITHER2_1,  A17C,    27,  1,     14,     14,2,19940117,0405,-41.8427, -49.2442, 5749,   3300.0,   1.6280,  34.7540,2,  34.7570,2,    204.8,2,    205.1,2,    99.90,2,    31.61,2,     2.09,2,    0.053,2,    0.034,2, -999.000,9,-999.0000,9,  -999.00,9,   2248.9,2,   2367.9,2,     7.89,2,  1.3790
 3230CITHER2_1,  A17C,    27,  1,     13,     13,2,19940117,0405,-41.8427, -49.2442, 5749,   3599.9,   1.2800,  34.7290,2,  34.7280,2,    204.6,2,    206.2,2,   111.30,2,    32.30,2,     2.17,2,    0.080,2,    0.056,2, -999.000,9,-999.0000,9,  -999.00,9,   2255.2,2,   2372.4,2,     7.88,2,  1.0090
 3230CITHER2_1,  A17C,    27,  1,     12,     12,2,19940117,0405,-41.8427, -49.2442, 5749,   3799.6,   1.0880,  34.7170,2,  34.7220,2,    206.6,2,    208.8,2,   116.40,2,    32.61,2,     2.20,2,    0.104,2,    0.072,2, -999.000,9,-999.0000,9,  -999.00,9,   2258.1,2,   2373.3,2,     7.87,2,  0.8020
 3230CITHER2_1,  A17C,    27,  1,     11,     11,2,19940117,0405,-41.8427, -49.2442, 5749,   3999.9,   0.8820,  34.7060,2,  34.7100,2,    209.4,2,    210.7,2,   120.30,2,    33.25,2,     2.23,2,    0.120,2,    0.074,2, -999.000,9,-999.0000,9,  -999.00,9,   2256.9,2,   2374.0,2,     7.87,2,  0.5800
 3230CITHER2_1,  A17C,    27,  1,     10,     10,2,19940117,0405,-41.8427, -49.2442, 5749,   4200.6,   0.6880,  34.6940,2,  34.7000,2,    212.7,2,    214.7,2,   123.90,2,    33.41,2,     2.26,2,    0.125,2,    0.083,2, -999.000,9,-999.0000,9,  -999.00,9,   -999.0,5,   2374.5,2,     7.87,2,  0.3710
 3230CITHER2_1,  A17C,    27,  1,      9,      9,2,19940117,0405,-41.8427, -49.2442, 5749,   4399.2,   0.5010,  34.6860,2,  34.6900,2,    216.1,2,    215.7,2,   127.20,2,    33.81,2,     2.28,2,    0.128,2,    0.081,2, -999.000,9,-999.0000,9,  -999.00,9,   2262.3,2,   2376.2,2,     7.87,2,  0.1680
 3230CITHER2_1,  A17C,    27,  1,      8,      8,2,19940117,0405,-41.8427, -49.2442, 5749,   4597.5,   0.3980,  34.6800,2,  34.6820,2,    218.4,2,    219.7,2,   128.70,2,    33.86,2,     2.29,2,    0.122,2,    0.077,2, -999.000,9,-999.0000,9,  -999.00,9,   2263.5,2,   2377.2,2,     7.87,2,  0.0470
 3230CITHER2_1,  A17C,    27,  1,      7,      7,2,19940117,0405,-41.8427, -49.2442, 5749,   4798.9,   0.3390,  34.6770,2,  34.6790,2,    220.5,2,    220.9,2,   129.60,2,    33.84,2,     2.30,2,    0.131,2,    0.092,2, -999.000,9,-999.0000,9,  -999.00,9,   2262.7,2,   2377.1,2,     7.87,2, -0.0330
 3230CITHER2_1,  A17C,    27,  1,      6,      6,2,19940117,0405,-41.8427, -49.2442, 5749,   4997.9,   0.3060,  34.6740,2,  34.6780,2,    221.9,2,    222.2,2,   130.30,2,    33.83,2,     2.30,2,    0.136,2,    0.094,2, -999.000,9,-999.0000,9,  -999.00,9,   2263.7,2,   2377.0,2,     7.87,2, -0.0870
 3230CITHER2_1,  A17C,    27,  1,      5,      5,2,19940117,0405,-41.8427, -49.2442, 5749,   5200.0,   0.2920,  34.6720,2,  34.6760,2,    222.8,2,    223.0,2,   131.70,2,    33.88,2,     2.31,2,    0.146,2,    0.092,2, -999.000,9,-999.0000,9,  -999.00,9,   2264.3,2,   2377.3,2,     7.87,2, -0.1240
 3230CITHER2_1,  A17C,    27,  1,      4,      4,2,19940117,0405,-41.8427, -49.2442, 5749,   5395.3,   0.2900,  34.6710,2,  34.6790,2,    223.7,2,    223.6,2,   131.70,2,    33.89,2,     2.31,2,    0.159,2,    0.100,2, -999.000,9,-999.0000,9,  -999.00,9,   2264.4,2,   2377.0,2,     7.86,2, -0.1490
 3230CITHER2_1,  A17C,    27,  1,      3,      3,2,19940117,0405,-41.8427, -49.2442, 5749,   5598.1,   0.2970,  34.6710,2,  34.6740,2,    224.5,2,    223.5,2,   132.30,2,    33.76,2,     2.31,2,    0.173,2,    0.112,2, -999.000,9,-999.0000,9,  -999.00,9,   2264.7,2,   2377.2,2,     7.87,2, -0.1670
 3230CITHER2_1,  A17C,    27,  1,      2,      2,2,19940117,0405,-41.8427, -49.2442, 5749,   5837.6,   0.3120,  34.6700,2,  34.6740,2,    224.5,2,    223.6,2,   132.70,2,    33.62,2,     2.32,2,    0.193,2,    0.117,2, -999.000,9,-999.0000,9,  -999.00,9,   2265.4,2,   2378.3,2,     7.87,2, -0.1820
 3230CITHER2_1,  A17C,    27,  1,      1,      1,2,19940117,0405,-41.8427, -49.2442, 5749,   5841.4,   0.3130,  34.6690,2,  34.6750,2,    224.4,2,    223.7,2,   132.70,2,    33.66,2,     2.32,2,    0.189,2,    0.116,2, -999.000,9,-999.0000,9,  -999.00,9,   -999.0,5,   2378.3,2,     7.87,2, -0.1820