BOTTLE,20030515WHPSIOSA
EXPOCODE,SECT_ID,STNNBR,CASTNO,SAMPNO,BTLNBR,BTLNBR_FLAG_W,DATE,TIME,LATITUDE,LONGITUDE,DEPTH,CTDPRS,CTDTMP,CTDSAL,CTDSAL_FLAG_W,SALNTY,SALNTY_FLAG_W,CTDOXY,CTDOXY_FLAG_W,OXYGEN,OXYGEN_FLAG_W,SILCAT,SILCAT_FLAG_W,NITRAT,NITRAT_FLAG_W,PHSPHT,PHSPHT_FLAG_W,CFC-11,CFC-11_FLAG_W,CFC-12,CFC-12_FLAG_W,TRITUM,TRITUM_FLAG_W,HELIUM,HELIUM_FLAG_W,DELHE3,DELHE3_FLAG_W,TCARBN,TCARBN_FLAG_W,ALKALI,ALKALI_FLAG_W,PH,PH_FLAG_W,THETA
,,,,,,,,,,,,DBAR,ITS-90,PSS-78,,PSS-78,,UMOL/KG,,UMOL/KG,,UMOL/KG,,UMOL/KG,,UMOL/KG,,PMOL/KG,,PMOL/KG,,TU,,NMOL/KG,,PERCNT,,UMOL/KG,,UMOL/KG,,,,DEG C
 3230CITHER2_1,  A17C,   108,  1,     32,     32,2,19940208,1517,-16.8780, -30.7723, 4933,      7.5,  28.4250,  37.4770,2,  37.4790,2,    195.4,2,    196.6,2,     1.10,2,     0.04,2,     0.12,2, -999.000,5, -999.000,5, -999.000,9,-999.0000,9,  -999.00,9,   2076.2,2,   2466.9,2,     8.40,2, 28.4230
 3230CITHER2_1,  A17C,   108,  1,     31,     31,2,19940208,1517,-16.8780, -30.7723, 4933,     50.7,  27.9510,  37.4620,2,  37.4620,2,    204.9,2,    198.1,2,     1.20,2,     0.04,2,     0.08,2, -999.000,5, -999.000,5, -999.000,9,-999.0000,9,  -999.00,9,   2074.9,2,   2463.3,2,     8.39,2, 27.9390
 3230CITHER2_1,  A17C,   108,  1,     30,     30,2,19940208,1517,-16.8780, -30.7723, 4933,    126.7,  23.6490,  37.0080,2,  37.0270,2,    216.9,2,    212.1,2,     1.30,2,     0.04,2,     0.14,2, -999.000,5, -999.000,5, -999.000,9,-999.0000,9,  -999.00,9,   2084.4,2,   2439.0,2,     8.35,2, 23.6220
 3230CITHER2_1,  A17C,   108,  1,     29,     29,2,19940208,1517,-16.8780, -30.7723, 4933,    202.0,  18.8070,  36.1050,2,  36.0930,2,    197.7,2,    195.8,2,     2.00,2,     2.68,2,     0.42,2, -999.000,5, -999.000,5, -999.000,9,-999.0000,9,  -999.00,9,   2101.1,2,   2378.7,2,     8.24,2, 18.7710
 3230CITHER2_1,  A17C,   108,  1,     28,     28,2,19940208,1517,-16.8780, -30.7723, 4933,    300.6,  13.5840,  35.2570,2,  35.2770,2,    174.6,2,    175.7,2,     5.00,2,    12.74,2,     0.93,2, -999.000,5, -999.000,5, -999.000,9,-999.0000,9,  -999.00,9,   2114.7,2,   2328.9,2,     8.11,2, 13.5410
 3230CITHER2_1,  A17C,   108,  1,     27,     27,2,19940208,1517,-16.8780, -30.7723, 4933,    401.1,  10.3130,  34.8670,2,  34.8760,2,    162.9,2,    163.3,2,     9.40,2,    20.58,2,     1.44,2, -999.000,5, -999.000,5, -999.000,9,-999.0000,9,  -999.00,9,   2156.9,2,   2312.8,2,     8.00,2, 10.2650
 3230CITHER2_1,  A17C,   108,  1,     26,     26,2,19940208,1517,-16.8780, -30.7723, 4933,    600.9,   5.9670,  34.4880,2,  34.4860,2,    163.6,2,    164.5,2,    22.10,2,    30.66,2,     2.11,2,    0.239,2,    0.145,2, -999.000,9,-999.0000,9,  -999.00,9,   2196.6,2,   2305.3,2,     7.89,2,  5.9140
 3230CITHER2_1,  A17C,   108,  1,     25,     25,2,19940208,1517,-16.8780, -30.7723, 4933,    799.6,   4.0080,  34.4130,2,  34.4160,2,    184.1,2,    186.7,2,    34.40,2,    32.15,2,     2.25,2,    0.168,2,    0.102,2, -999.000,9,-999.0000,9,  -999.00,9,   2207.0,2,   2315.0,2,     7.88,2,  3.9490
 3230CITHER2_1,  A17C,   108,  1,     24,     24,2,19940208,1517,-16.8780, -30.7723, 4933,    999.2,   3.7050,  34.5410,2,  34.5360,2,    181.6,2,    180.4,2,    38.80,2,    31.84,2,     2.19,2,    0.011,2,    0.014,2, -999.000,9,-999.0000,9,  -999.00,9,   2215.9,2,   2323.5,2,     7.88,2,  3.6320
 3230CITHER2_1,  A17C,   108,  1,     23,     23,2,19940208,1517,-16.8780, -30.7723, 4933,   1200.2,   3.8810,  34.7190,2,  34.7150,2,    188.1,2,    189.1,2,    33.10,2,    28.79,2,     1.97,2,    0.004,2,    0.016,2, -999.000,9,-999.0000,9,  -999.00,9,   2207.6,2,   2330.2,2,     7.91,2,  3.7890
 3230CITHER2_1,  A17C,   108,  1,     22,     22,2,19940208,1517,-16.8780, -30.7723, 4933,   1400.8,   3.8960,  34.8550,2,  34.8540,2,    210.0,2,    210.8,2,    27.40,2,    24.80,2,     1.69,2,    0.008,2,    0.014,2, -999.000,9,-999.0000,9,  -999.00,9,   2192.0,2,   2328.8,2,     7.95,2,  3.7860
 3230CITHER2_1,  A17C,   108,  1,     21,     21,2,19940208,1517,-16.8780, -30.7723, 4933,   1599.4,   3.7170,  34.9220,2,  34.9240,2,    230.7,2,    231.6,2,    24.30,2,    22.08,2,     1.48,2,    0.012,2,    0.022,2, -999.000,9,-999.0000,9,  -999.00,9,   2179.4,2,   2328.9,2,     8.00,2,  3.5910
 3230CITHER2_1,  A17C,   108,  1,     20,     20,2,19940208,1517,-16.8780, -30.7723, 4933,   1699.9,   3.5580,  34.9310,2,  34.9320,2,    237.2,2,    238.2,2,    24.60,2,    21.56,2,     1.44,2, -999.000,5, -999.000,5, -999.000,9,-999.0000,9,  -999.00,9,   2175.1,2,   2329.3,2,     8.01,2,  3.4250
 3230CITHER2_1,  A17C,   108,  1,     19,     19,2,19940208,1517,-16.8780, -30.7723, 4933,   1800.1,   3.4570,  34.9380,2,  34.9370,2,    240.5,2,    242.3,2,    24.60,2,    20.91,2,     1.40,2,    0.009,2,    0.014,2, -999.000,9,-999.0000,9,  -999.00,9,   2174.6,2,   2331.6,2,     8.01,2,  3.3160
 3230CITHER2_1,  A17C,   108,  1,     18,     18,2,19940208,1517,-16.8780, -30.7723, 4933,   2001.0,   3.1830,  34.9280,2,  34.9300,2,    243.8,2,    244.2,2,    28.30,2,    20.87,2,     1.41,2,    0.005,2,    0.009,2, -999.000,9,-999.0000,9,  -999.00,9,   2177.2,2,   2334.9,2,     8.01,2,  3.0280
 3230CITHER2_1,  A17C,   108,  1,     17,     17,2,19940208,1517,-16.8780, -30.7723, 4933,   2199.8,   3.0240,  34.9250,2,  34.9250,2,    247.6,2,    245.4,2,    30.70,2,    20.97,2,     1.41,2,    0.004,2,    0.016,2, -999.000,9,-999.0000,9,  -999.00,9,   2179.2,2,   2337.9,2,     8.01,2,  2.8530
 3230CITHER2_1,  A17C,   108,  1,     16,     16,2,19940208,1517,-16.8780, -30.7723, 4933,   2400.3,   2.8810,  34.9140,2,  34.9140,2,    245.3,2,    244.5,2,    33.80,2,    21.15,2,     1.45,2,    0.002,2,    0.009,2, -999.000,9,-999.0000,9,  -999.00,9,   2183.1,2,   2339.6,2,     8.01,2,  2.6930
 3230CITHER2_1,  A17C,   108,  1,     15,     15,2,19940208,1517,-16.8780, -30.7723, 4933,   2598.3,   2.8330,  34.9190,2,  34.9160,2,    247.6,2,    247.0,2,    33.90,2,    20.94,2,     1.43,2,    0.003,2,    0.017,2, -999.000,9,-999.0000,9,  -999.00,9,   2183.4,2,   2339.3,2,     8.01,2,  2.6270
 3230CITHER2_1,  A17C,   108,  1,     14,     14,2,19940208,1517,-16.8780, -30.7723, 4933,   2800.2,   2.7610,  34.9150,2,  34.9140,2,    247.4,2,    246.1,2,    35.90,2,    21.17,2,     1.43,2,    0.001,2,    0.009,2, -999.000,9,-999.0000,9,  -999.00,9,   2184.8,2,   2341.4,2,     8.01,2,  2.5360
 3230CITHER2_1,  A17C,   108,  1,     13,     13,2,19940208,1517,-16.8780, -30.7723, 4933,   2999.1,   2.7110,  34.9130,2,  34.9120,2,    248.5,2,    248.0,2,    36.40,2,    21.13,2,     1.42,2,    0.001,2,    0.016,2, -999.000,9,-999.0000,9,  -999.00,9,   2184.6,2,   2342.1,2,     8.01,2,  2.4670
 3230CITHER2_1,  A17C,   108,  1,     12,     12,2,19940208,1517,-16.8780, -30.7723, 4933,   3198.6,   2.6670,  34.9150,2,  34.9130,2,    250.9,2,    250.3,2,    35.60,2,    20.92,2,     1.39,2,    0.020,2,    0.017,2, -999.000,9,-999.0000,9,  -999.00,9,   2183.0,2,   2342.7,2,     8.02,2,  2.4030
 3230CITHER2_1,  A17C,   108,  1,     11,     11,2,19940208,1517,-16.8780, -30.7723, 4933,   3399.1,   2.5870,  34.9100,2,  34.9100,2,    251.9,2,    251.2,2,    36.60,2,    20.80,2,     1.39,2,    0.006,2,    0.011,2, -999.000,9,-999.0000,9,  -999.00,9,   2184.3,2,   2342.6,2,     8.02,2,  2.3030
 3230CITHER2_1,  A17C,   108,  1,     10,     10,2,19940208,1517,-16.8780, -30.7723, 4933,   3599.8,   2.4870,  34.9010,2,  34.9030,2,    253.7,2,    252.5,2,    38.60,2,    20.85,2,     1.40,2,    0.005,2,    0.015,2, -999.000,9,-999.0000,9,  -999.00,9,   2185.5,2,   2343.3,2,     8.01,2,  2.1840
 3230CITHER2_1,  A17C,   108,  1,      9,      9,2,19940208,1517,-16.8780, -30.7723, 4933,   3799.8,   2.3190,  34.8830,2,  34.8870,2,    251.1,2,    250.0,2,    45.00,2,    21.79,2,     1.46,2,    0.001,2,    0.009,2, -999.000,9,-999.0000,9,  -999.00,9,   2190.3,2,   2346.2,2,     8.01,2,  1.9980
 3230CITHER2_1,  A17C,   108,  1,      8,      8,2,19940208,1517,-16.8780, -30.7723, 4933,   3898.0,   2.2210,  34.8750,2,  34.8760,2,    251.7,2,    250.2,2,    47.70,2,    22.06,2,     1.49,2,    0.003,2,    0.013,2, -999.000,9,-999.0000,9,  -999.00,9,   2193.6,2,   2349.4,2,     8.00,2,  1.8920
 3230CITHER2_1,  A17C,   108,  1,      7,      7,2,19940208,1517,-16.8780, -30.7723, 4933,   3998.3,   2.0850,  34.8620,2,  34.8630,2,    249.5,2,    247.8,2,    53.10,2,    22.74,2,     1.54,2,    0.002,2,    0.010,2, -999.000,9,-999.0000,9,  -999.00,9,   2198.8,2,   2352.0,2,     8.00,2,  1.7490
 3230CITHER2_1,  A17C,   108,  1,      6,      6,2,19940208,1517,-16.8780, -30.7723, 4933,   4198.7,   1.7710,  34.8290,2,  34.8290,2,    243.8,2,    242.1,2,    66.90,2,    24.67,2,     1.68,2,    0.000,2,    0.011,2, -999.000,9,-999.0000,9,  -999.00,9,   2211.4,2,   2357.3,2,     7.98,2,  1.4210
 3230CITHER2_1,  A17C,   108,  1,      5,      5,2,19940208,1517,-16.8780, -30.7723, 4933,   4398.5,   1.4100,  34.7880,2,  34.7870,2,    236.8,2,    234.8,2,    83.80,2,    27.11,2,     1.85,2,    0.001,2,    0.014,2, -999.000,9,-999.0000,9,  -999.00,9,   2227.9,2,   2365.0,2,     7.96,2,  1.0490
 3230CITHER2_1,  A17C,   108,  1,      4,      4,2,19940208,1517,-16.8780, -30.7723, 4933,   4597.5,   1.1320,  34.7590,2,  34.7570,2,    230.9,2,    229.3,2,    96.00,2,    28.89,2,     1.97,2,    0.006,2,    0.015,2, -999.000,9,-999.0000,9,  -999.00,9,   2239.8,2,   2369.5,2,     7.94,2,  0.7570
 3230CITHER2_1,  A17C,   108,  1,      3,      3,2,19940208,1517,-16.8780, -30.7723, 4933,   4797.8,   0.6360,  34.7060,2,  34.7090,2,    223.5,2,    222.8,2,   115.00,2,    31.33,2,     2.15,2,    0.032,2,    0.025,2, -999.000,9,-999.0000,9,  -999.00,9,   2257.1,2,   2376.3,2,     7.90,2,  0.2540
 3230CITHER2_1,  A17C,   108,  1,      2,      2,2,19940208,1517,-16.8780, -30.7723, 4933,   4899.2,   0.4310,  34.6880,2,  34.6890,2,    221.0,2,    221.5,2,   122.10,2,    32.34,2,     2.21,2,    0.062,2,    0.041,2, -999.000,9,-999.0000,9,  -999.00,9,   2262.9,2,   2387.0,3,     7.89,2,  0.0450
 3230CITHER2_1,  A17C,   108,  1,      1,      1,2,19940208,1517,-16.8780, -30.7723, 4933,   4979.6,   0.4070,  34.6850,2,  34.6850,2,    218.3,2,    220.8,2,   123.60,2,    32.63,2,     2.23,2,    0.070,2,    0.048,2, -999.000,9,-999.0000,9,  -999.00,9,   2264.7,2,   2384.7,2,     7.89,2,  0.0120
 3230CITHER2_1,  A17C,   109,  1,     32,     32,2,19940208,2119,-16.3897, -30.7453, 4930,      5.2,  28.0800,  37.4370,2,  37.4360,2,    191.6,2,    196.0,2,     1.20,2,     0.04,2,     0.10,2,    1.756,2,    0.934,2, -999.000,9,-999.0000,9,  -999.00,9,   2075.2,2,   -999.0,9,     8.40,2, 28.0790
 3230CITHER2_1,  A17C,   109,  1,     31,     31,2,19940208,2119,-16.3897, -30.7453, 4930,     40.6,  27.8660,  37.4610,2,  37.4540,2,    198.8,2,    199.0,2,     1.10,2,     0.04,2,     0.10,2,    1.783,2,    0.937,2, -999.000,9,-999.0000,9,  -999.00,9,   2077.4,2,   -999.0,9,     8.40,2, 27.8560
 3230CITHER2_1,  A17C,   109,  1,     30,     30,2,19940208,2119,-16.3897, -30.7453, 4930,    126.5,  23.5060,  36.9910,2,  36.9770,2,    211.6,2,    210.3,2,     1.30,2,     0.04,2,     0.16,2,    2.135,2,    1.106,2, -999.000,9,-999.0000,9,  -999.00,9,   2087.6,2,   -999.0,9,     8.35,2, 23.4800
 3230CITHER2_1,  A17C,   109,  1,     29,     29,2,19940208,2119,-16.3897, -30.7453, 4930,    200.3,  18.2860,  35.9980,2,  35.9890,2,    202.5,2,    192.7,2,     2.20,2,     3.80,2,     0.44,2,    2.405,2,    1.208,2, -999.000,9,-999.0000,9,  -999.00,9,   2104.2,2,   -999.0,9,     8.24,2, 18.2510
 3230CITHER2_1,  A17C,   109,  1,     28,     28,2,19940208,2119,-16.3897, -30.7453, 4930,    301.6,  13.3750,  35.2330,2,  35.2250,2,    177.1,2,    170.8,2,     5.30,2,    14.22,2,     1.00,2,    1.973,2,    0.961,2, -999.000,9,-999.0000,9,  -999.00,9,   2133.0,2,   -999.0,9,     8.10,2, 13.3320
 3230CITHER2_1,  A17C,   109,  1,     27,     27,2,19940208,2119,-16.3897, -30.7453, 4930,    400.6,  10.0460,  34.8400,2,  34.8500,2,    158.9,2,    158.5,2,    10.10,2,    22.05,2,     1.50,2,    1.192,2,    0.586,2, -999.000,9,-999.0000,9,  -999.00,9,   2164.8,2,   -999.0,9,     8.00,2,  9.9990
 3230CITHER2_1,  A17C,   109,  1,     26,     26,2,19940208,2119,-16.3897, -30.7453, 4930,    599.6,   5.6270,  34.4570,2,  34.4530,2,    179.6,2,    175.9,2,    22.70,2,    30.74,2,     2.05,2,    0.344,2,    0.197,2, -999.000,9,-999.0000,9,  -999.00,9,   2194.4,2,   -999.0,9,     7.91,2,  5.5760
 3230CITHER2_1,  A17C,   109,  1,     25,     25,2,19940208,2119,-16.3897, -30.7453, 4930,    802.2,   4.1540,  34.4130,2,  34.4140,2,    185.3,2,    183.3,2,    33.20,2,    32.72,2,     2.20,2,    0.147,2,    0.095,2, -999.000,9,-999.0000,9,  -999.00,9,   2209.4,2,   -999.0,9,     7.89,2,  4.0940
 3230CITHER2_1,  A17C,   109,  1,     24,     24,2,19940208,2119,-16.3897, -30.7453, 4930,   1000.7,   3.7180,  34.5070,2,  34.5060,2,    184.0,2,    182.1,2,    39.00,2,    32.47,2,     2.19,2,    0.046,2,    0.030,2, -999.000,9,-999.0000,9,  -999.00,9,   2217.8,2,   -999.0,9,     7.89,2,  3.6440
 3230CITHER2_1,  A17C,   109,  1,     23,     23,2,19940208,2119,-16.3897, -30.7453, 4930,   1197.9,   3.8770,  34.6870,2,  34.6900,2,    186.0,2,    186.6,2,    34.30,2,    29.77,2,     2.00,2,    0.007,2,    0.014,2, -999.000,9,-999.0000,9,  -999.00,9,   -999.0,9,   -999.0,9,     7.91,2,  3.7850
 3230CITHER2_1,  A17C,   109,  1,     22,     22,2,19940208,2119,-16.3897, -30.7453, 4930,   1401.7,   4.0540,  34.8530,2,  34.8490,2,    206.1,2,    205.7,2,    26.60,2,    25.52,2,     1.70,2,    0.007,2,    0.016,2, -999.000,9,-999.0000,9,  -999.00,9,   -999.0,9,   -999.0,9,     7.96,2,  3.9420
 3230CITHER2_1,  A17C,   109,  1,     21,     21,2,19940208,2119,-16.3897, -30.7453, 4930,   1601.2,   3.8080,  34.9260,2,  34.9240,2,    229.5,2,    230.8,2,    23.60,2,    21.95,2,     1.49,2,    0.011,2,    0.016,2, -999.000,9,-999.0000,9,  -999.00,9,   -999.0,9,   -999.0,9,     8.00,2,  3.6810
 3230CITHER2_1,  A17C,   109,  1,     20,     20,2,19940208,2119,-16.3897, -30.7453, 4930,   1699.7,   3.5600,  34.9150,2,  34.9150,2,    233.7,2,    233.1,2,    26.10,2,    21.88,2,     1.49,2,    0.000,2,    0.011,2, -999.000,9,-999.0000,9,  -999.00,9,   -999.0,9,   -999.0,9,     8.00,2,  3.4270
 3230CITHER2_1,  A17C,   109,  1,     19,     19,2,19940208,2119,-16.3897, -30.7453, 4930,   1800.3,   3.3860,  34.9170,2,  34.9170,2,    237.5,2,    236.7,2,    27.70,2,    21.76,2,     1.47,2,    0.001,2,    0.013,2, -999.000,9,-999.0000,9,  -999.00,9,   -999.0,9,   -999.0,9,     8.00,2,  3.2460
 3230CITHER2_1,  A17C,   109,  1,     18,     18,2,19940208,2119,-16.3897, -30.7453, 4930,   2009.6,   3.1860,  34.9310,2,  34.9310,2,    244.5,2,    245.1,2,    28.10,2,    20.87,2,     1.40,2,    0.004,2,    0.013,2, -999.000,9,-999.0000,9,  -999.00,9,   -999.0,9,   -999.0,9,     8.01,2,  3.0300
 3230CITHER2_1,  A17C,   109,  1,     17,     17,2,19940208,2119,-16.3897, -30.7453, 4930,   2200.2,   2.9720,  34.9160,2,  34.9150,2,    243.6,2,    242.8,2,    33.00,2,    21.39,2,     1.45,2,    0.000,2,    0.010,2, -999.000,9,-999.0000,9,  -999.00,9,   -999.0,9,   -999.0,9,     8.01,2,  2.8010
 3230CITHER2_1,  A17C,   109,  1,     16,     16,2,19940208,2119,-16.3897, -30.7453, 4930,   2400.8,   2.8710,  34.9150,2,  34.9120,2,    244.2,2,    244.0,2,    34.70,2,    21.48,2,     1.45,2,   -0.002,2,    0.007,2, -999.000,9,-999.0000,9,  -999.00,9,   -999.0,9,   -999.0,9,     8.01,2,  2.6830
 3230CITHER2_1,  A17C,   109,  1,     15,     15,2,19940208,2119,-16.3897, -30.7453, 4930,   2599.7,   2.7820,  34.9090,2,  34.9050,2,    243.5,2,    243.0,2,    37.20,2,    21.66,2,     1.46,2,   -0.002,2,    0.006,2, -999.000,9,-999.0000,9,  -999.00,9,   -999.0,9,   -999.0,9,     8.01,2,  2.5760
 3230CITHER2_1,  A17C,   109,  1,     14,     14,2,19940208,2119,-16.3897, -30.7453, 4930,   2799.2,   2.7180,  34.9050,2,  34.9040,2,    243.4,2,    242.8,2,    38.90,2,    21.97,2,     1.48,2,   -0.002,2,    0.009,2, -999.000,9,-999.0000,9,  -999.00,9,   -999.0,9,   -999.0,9,     8.01,2,  2.4940
 3230CITHER2_1,  A17C,   109,  1,     13,     13,2,19940208,2119,-16.3897, -30.7453, 4930,   2999.1,   2.6620,  34.9040,2,  34.9000,2,    244.0,2,    243.4,2,    40.10,2,    22.02,2,     1.48,2,   -0.001,2,    0.012,2, -999.000,9,-999.0000,9,  -999.00,9,   -999.0,9,   -999.0,9,     8.01,2,  2.4190
 3230CITHER2_1,  A17C,   109,  1,     12,     12,2,19940208,2119,-16.3897, -30.7453, 4930,   3199.7,   2.6070,  34.9020,2,  34.8990,2,    244.6,2,    244.5,2,    40.90,2,    21.99,2,     1.47,2,   -0.002,2,    0.006,2, -999.000,9,-999.0000,9,  -999.00,9,   -999.0,9,   -999.0,9,     8.01,2,  2.3440
 3230CITHER2_1,  A17C,   109,  1,     11,     11,2,19940208,2119,-16.3897, -30.7453, 4930,   3399.8,   2.5420,  34.8990,2,  34.8990,2,    247.2,2,    246.6,2,    41.30,2,    21.86,2,     1.47,2,    0.002,2,    0.012,2, -999.000,9,-999.0000,9,  -999.00,9,   -999.0,9,   -999.0,9,     8.01,2,  2.2590
 3230CITHER2_1,  A17C,   109,  1,     10,     10,2,19940208,2119,-16.3897, -30.7453, 4930,   3600.5,   2.4380,  34.8960,2,  34.8940,2,    250.3,2,    250.0,2,    41.80,2,    21.53,2,     1.45,2,    0.001,2,    0.014,2, -999.000,9,-999.0000,9,  -999.00,9,   -999.0,9,   -999.0,9,     8.01,2,  2.1360
 3230CITHER2_1,  A17C,   109,  1,      9,      9,2,19940208,2119,-16.3897, -30.7453, 4930,   3799.7,   2.2680,  34.8800,2,  34.8820,2,    251.5,2,    248.0,2,    46.10,2,    21.88,2,     1.48,2,    0.006,2,    0.015,2, -999.000,9,-999.0000,9,  -999.00,9,   -999.0,9,   -999.0,9,     8.01,2,  1.9490
 3230CITHER2_1,  A17C,   109,  1,      8,      8,2,19940208,2119,-16.3897, -30.7453, 4930,   3898.8,   2.1630,  34.8700,2,  34.8700,2,    251.1,2,    249.4,2,    49.70,2,    22.40,2,     1.52,2,    0.001,2,    0.014,2, -999.000,9,-999.0000,9,  -999.00,9,   -999.0,9,   -999.0,9,     8.00,2,  1.8360
 3230CITHER2_1,  A17C,   109,  1,      7,      7,2,19940208,2119,-16.3897, -30.7453, 4930,   3998.6,   2.0460,  34.8580,2,  34.8580,2,    249.0,2,    247.3,2,    54.70,2,    22.93,2,     1.56,2,    0.003,2,    0.011,2, -999.000,9,-999.0000,9,  -999.00,9,   -999.0,9,   -999.0,9,     8.00,2,  1.7110
 3230CITHER2_1,  A17C,   109,  1,      6,      6,2,19940208,2119,-16.3897, -30.7453, 4930,   4199.0,   1.7460,  34.8260,2,  34.8250,2,    242.7,2,    241.2,2,    68.40,2,    24.62,2,     1.70,2,    0.001,2,    0.014,2, -999.000,9,-999.0000,9,  -999.00,9,   -999.0,2,   -999.0,9,     7.98,2,  1.3970
 3230CITHER2_1,  A17C,   109,  1,      5,      5,2,19940208,2119,-16.3897, -30.7453, 4930,   4396.9,   1.4520,  34.7920,2,  34.7900,2,    236.5,2,    235.7,2,    82.50,2,    26.56,2,     1.84,2,    0.002,2,    0.014,2, -999.000,9,-999.0000,9,  -999.00,9,   -999.0,9,   -999.0,9,     7.96,2,  1.0900
 3230CITHER2_1,  A17C,   109,  1,      4,      4,2,19940208,2119,-16.3897, -30.7453, 4930,   4598.0,   1.0730,  34.7490,2,  34.7510,2,    228.8,2,    228.3,2,    99.20,2,    28.77,2,     1.99,2,    0.005,2,    0.011,2, -999.000,9,-999.0000,9,  -999.00,9,   -999.0,9,   -999.0,9,     7.93,2,  0.7000
 3230CITHER2_1,  A17C,   109,  1,      3,      3,2,19940208,2119,-16.3897, -30.7453, 4930,   4798.4,   0.5420,  34.6980,2,  34.6970,2,    221.8,2,    222.0,2,   118.30,2,    31.46,2,     2.19,2,    0.045,2,    0.033,2, -999.000,9,-999.0000,9,  -999.00,9,   -999.0,9,   -999.0,9,     7.90,2,  0.1640
 3230CITHER2_1,  A17C,   109,  1,      2,      2,2,19940208,2119,-16.3897, -30.7453, 4930,   4897.3,   0.4080,  34.6840,2,  34.6840,2,    220.2,2,    221.0,2,   123.10,2,    32.17,2,     2.23,2,    0.076,2,    0.041,2, -999.000,9,-999.0000,9,  -999.00,9,   -999.0,9,   -999.0,9,     7.89,2,  0.0230
 3230CITHER2_1,  A17C,   109,  1,      1,      1,2,19940208,2119,-16.3897, -30.7453, 4930,   4978.1,   0.3950,  34.6830,2,  34.6820,2,    219.3,2,    221.0,2,   123.80,2,    32.37,2,     2.24,2,    0.084,2,    0.055,2, -999.000,9,-999.0000,9,  -999.00,9,   -999.0,9,   -999.0,9,     7.89,2,  0.0010