BOTTLE,20030515WHPSIOSA
EXPOCODE,SECT_ID,STNNBR,CASTNO,SAMPNO,BTLNBR,BTLNBR_FLAG_W,DATE,TIME,LATITUDE,LONGITUDE,DEPTH,CTDPRS,CTDTMP,CTDSAL,CTDSAL_FLAG_W,SALNTY,SALNTY_FLAG_W,CTDOXY,CTDOXY_FLAG_W,OXYGEN,OXYGEN_FLAG_W,SILCAT,SILCAT_FLAG_W,NITRAT,NITRAT_FLAG_W,PHSPHT,PHSPHT_FLAG_W,CFC-11,CFC-11_FLAG_W,CFC-12,CFC-12_FLAG_W,TRITUM,TRITUM_FLAG_W,HELIUM,HELIUM_FLAG_W,DELHE3,DELHE3_FLAG_W,TCARBN,TCARBN_FLAG_W,ALKALI,ALKALI_FLAG_W,PH,PH_FLAG_W,THETA
,,,,,,,,,,,,DBAR,ITS-90,PSS-78,,PSS-78,,UMOL/KG,,UMOL/KG,,UMOL/KG,,UMOL/KG,,UMOL/KG,,PMOL/KG,,PMOL/KG,,TU,,NMOL/KG,,PERCNT,,UMOL/KG,,UMOL/KG,,,,DEG C
 3230CITHER2_2,  A17N,   132,  1,     32,     32,2,19940220,2317,-13.3015, -34.0103, 3751,      4.5,  28.2170,  37.1850,2,  37.1850,2,    195.7,2,    197.1,2,     1.80,2,     0.04,2,     0.07,2,    1.619,2,    0.932,2, -999.000,9,-999.0000,9,  -999.00,9,   -999.0,9,   -999.0,9,     8.40,2, 28.2160
 3230CITHER2_2,  A17N,   132,  1,     31,     31,2,19940220,2317,-13.3015, -34.0103, 3751,     31.8,  28.2020,  37.1820,2,  37.1830,2,    195.3,2,    197.4,2,     1.40,2,     0.04,2,     0.07,2,    1.620,2,    0.927,2, -999.000,9,-999.0000,9,  -999.00,9,   -999.0,9,   -999.0,9,     8.40,2, 28.1940
 3230CITHER2_2,  A17N,   132,  1,     30,     30,2,19940220,2317,-13.3015, -34.0103, 3751,     81.1,  26.3760,  37.1020,2,  37.1040,2,    209.9,2,    211.2,2,     1.40,2,     0.04,2,     0.11,2,    1.790,2,    1.013,2, -999.000,9,-999.0000,9,  -999.00,9,   -999.0,9,   -999.0,9,     8.39,2, 26.3580
 3230CITHER2_2,  A17N,   132,  1,     29,     29,2,19940220,2317,-13.3015, -34.0103, 3751,    121.4,  25.2350,  37.2850,2,  37.2680,2,    215.8,2,    212.0,2,     1.50,2,     0.04,2,     0.13,2,    1.835,2,    1.040,2, -999.000,9,-999.0000,9,  -999.00,9,   -999.0,9,   -999.0,9,     8.37,2, 25.2080
 3230CITHER2_2,  A17N,   132,  1,     28,     28,2,19940220,2317,-13.3015, -34.0103, 3751,    152.3,  23.5670,  36.9650,2,  36.9810,2,    212.2,2,    248.8,2,     1.50,2,     0.04,2,     0.17,2,    1.967,2,    1.099,2, -999.000,9,-999.0000,9,  -999.00,9,   -999.0,9,   -999.0,9,     8.34,2, 23.5350
 3230CITHER2_2,  A17N,   132,  1,     27,     27,2,19940220,2317,-13.3015, -34.0103, 3751,    201.5,  18.9020,  36.1140,2,  36.1000,2,    192.0,2,    193.6,2,     2.30,2,     2.76,2,     0.43,2,    2.196,2,    1.195,2, -999.000,9,-999.0000,9,  -999.00,9,   -999.0,9,   -999.0,9,     8.24,2, 18.8660
 3230CITHER2_2,  A17N,   132,  1,     26,     26,2,19940220,2317,-13.3015, -34.0103, 3751,    252.5,  14.7950,  35.4500,2,  35.4510,2,    170.3,2,    174.4,2,     4.60,2,    11.21,2,     0.86,2,    2.016,2,    1.068,2, -999.000,9,-999.0000,9,  -999.00,9,   -999.0,9,   -999.0,9,     8.14,2, 14.7570
 3230CITHER2_2,  A17N,   132,  1,     25,     25,2,19940220,2317,-13.3015, -34.0103, 3751,    302.9,  12.4310,  35.1910,2,  35.1900,2,    118.3,2,    118.6,2,     8.70,2,    21.89,2,     1.50,2,    1.110,2,    0.605,2, -999.000,9,-999.0000,9,  -999.00,9,   -999.0,9,   -999.0,9,     7.98,2, 12.3900
 3230CITHER2_2,  A17N,   132,  1,     24,     24,2,19940220,2317,-13.3015, -34.0103, 3751,    401.3,   8.6950,  34.7470,2,  34.7400,2,    143.9,2,    133.7,2,    14.90,2,    27.72,2,     1.90,2,    0.516,2,    0.283,2, -999.000,9,-999.0000,9,  -999.00,9,   -999.0,9,   -999.0,9,     7.91,2,  8.6520
 3230CITHER2_2,  A17N,   132,  1,     23,     23,2,19940220,2317,-13.3015, -34.0103, 3751,    500.5,   6.5390,  34.5370,2,  34.5300,2,    159.1,2,    158.6,2,    20.90,2,    30.38,2,     2.09,2,    0.429,2,    0.233,2, -999.000,9,-999.0000,9,  -999.00,9,   -999.0,9,   -999.0,9,     7.89,2,  6.4930
 3230CITHER2_2,  A17N,   132,  1,     22,     22,2,19940220,2317,-13.3015, -34.0103, 3751,    601.3,   5.2900,  34.4410,2,  34.4360,2,    171.2,2,    174.6,2,    25.70,2,    31.52,2,     2.18,2,    0.394,2,    0.218,2, -999.000,9,-999.0000,9,  -999.00,9,   -999.0,9,   -999.0,9,     7.88,2,  5.2380
 3230CITHER2_2,  A17N,   132,  1,     21,     21,2,19940220,2317,-13.3015, -34.0103, 3751,    601.6,   5.2880,  34.4370,2,  34.4400,2,    170.8,2,    175.2,2,    25.80,2,    31.50,2,     2.19,2,    0.401,2,    0.213,2, -999.000,9,-999.0000,9,  -999.00,9,   -999.0,9,   -999.0,9,     7.88,2,  5.2400
 3230CITHER2_2,  A17N,   132,  1,     20,     20,2,19940220,2317,-13.3015, -34.0103, 3751,    700.0,   4.7800,  34.4360,2,  34.4320,2,    171.4,2,    169.9,2,    29.70,2,    33.10,2,     2.28,2,    0.205,2,    0.114,2, -999.000,9,-999.0000,9,  -999.00,9,   -999.0,9,   -999.0,9,     7.87,2,  4.7240
 3230CITHER2_2,  A17N,   132,  1,     19,     19,2,19940220,2317,-13.3015, -34.0103, 3751,    800.3,   4.3330,  34.4370,2,  34.4330,2,    175.4,2,    172.8,2,    33.60,2,    33.37,2,     2.30,2,    0.126,2,    0.071,2, -999.000,9,-999.0000,9,  -999.00,9,   -999.0,9,   -999.0,9,     7.87,2,  4.2720
 3230CITHER2_2,  A17N,   132,  1,     18,     18,2,19940220,2317,-13.3015, -34.0103, 3751,   1000.5,   3.9020,  34.5390,2,  34.5370,2,    175.6,2,    174.9,2,    38.00,2,    32.71,2,     2.27,2,    0.032,2,    0.018,2, -999.000,9,-999.0000,9,  -999.00,9,   -999.0,9,   -999.0,9,     7.87,2,  3.8270
 3230CITHER2_2,  A17N,   132,  1,     17,     17,2,19940220,2317,-13.3015, -34.0103, 3751,   1197.9,   4.0420,  34.6890,2,  34.6830,2,    181.1,2,    179.2,2,    33.60,2,    30.81,2,     2.11,2,    0.007,2,    0.002,2, -999.000,9,-999.0000,9,  -999.00,9,   -999.0,9,   -999.0,9,     7.90,2,  3.9490
 3230CITHER2_2,  A17N,   132,  1,     16,     16,2,19940220,2317,-13.3015, -34.0103, 3751,   1400.1,   4.0400,  34.8310,2,  34.8320,2,    202.1,2,    200.0,2,    27.80,2,    26.21,2,     1.82,2,    0.003,2,    0.005,2, -999.000,9,-999.0000,9,  -999.00,9,   -999.0,9,   -999.0,9,     7.94,2,  3.9290
 3230CITHER2_2,  A17N,   132,  1,     15,     15,2,19940220,2317,-13.3015, -34.0103, 3751,   1500.4,   4.0580,  34.9020,2,  34.9050,2,    214.9,2,    217.7,2,    24.30,2,    23.58,2,     1.63,2,    0.014,2,    0.007,2, -999.000,9,-999.0000,9,  -999.00,9,   -999.0,9,   -999.0,9,     7.97,2,  3.9370
 3230CITHER2_2,  A17N,   132,  1,     14,     14,2,19940220,2317,-13.3015, -34.0103, 3751,   1599.3,   3.9570,  34.9350,2,  34.9380,2,    228.4,2,    230.3,2,    22.30,2,    22.26,2,     1.53,2,    0.025,2,    0.012,2, -999.000,9,-999.0000,9,  -999.00,9,   -999.0,9,   -999.0,9,     7.99,2,  3.8280
 3230CITHER2_2,  A17N,   132,  1,     13,     13,2,19940220,2317,-13.3015, -34.0103, 3751,   1700.0,   3.8120,  34.9440,2,  34.9460,2,    236.1,2,    236.3,2,    22.50,2,    21.68,2,     1.46,2,    0.018,2,    0.017,2, -999.000,9,-999.0000,9,  -999.00,9,   -999.0,9,   -999.0,9,     8.00,2,  3.6760
 3230CITHER2_2,  A17N,   132,  1,     12,     12,2,19940220,2317,-13.3015, -34.0103, 3751,   1800.1,   3.6930,  34.9600,2,  34.9620,2,    242.8,2,    246.4,2,    21.50,2,    20.71,2,     1.37,2,    0.034,2,    0.021,2, -999.000,9,-999.0000,9,  -999.00,9,   -999.0,9,   -999.0,9,     8.01,2,  3.5490
 3230CITHER2_2,  A17N,   132,  1,     11,     11,2,19940220,2317,-13.3015, -34.0103, 3751,   2000.2,   3.3940,  34.9560,2,  34.9570,2,    252.2,2,    251.7,2,    23.80,2,    20.40,2,     1.35,2,    0.025,2,    0.014,2, -999.000,9,-999.0000,9,  -999.00,9,   -999.0,9,   -999.0,9,     8.02,2,  3.2350
 3230CITHER2_2,  A17N,   132,  1,     10,     10,2,19940220,2317,-13.3015, -34.0103, 3751,   2200.2,   3.1690,  34.9400,2,  34.9420,2,    249.9,2,    249.4,2,    28.10,2,    20.76,2,     1.39,2,    0.021,2,    0.012,2, -999.000,9,-999.0000,9,  -999.00,9,   -999.0,9,   -999.0,9,     8.01,2,  2.9950
 3230CITHER2_2,  A17N,   132,  1,      9,      9,2,19940220,2317,-13.3015, -34.0103, 3751,   2400.1,   2.9870,  34.9340,2,  34.9370,2,    250.0,2,    250.5,2,    30.50,2,    20.76,2,     1.39,2,    0.011,2,    0.007,2, -999.000,9,-999.0000,9,  -999.00,9,   -999.0,9,   -999.0,9,     8.01,2,  2.7970
 3230CITHER2_2,  A17N,   132,  1,      8,      8,2,19940220,2317,-13.3015, -34.0103, 3751,   2599.1,   2.9190,  34.9330,2,  34.9320,2,    252.4,2,    252.1,2,    30.70,2,    20.57,2,     1.38,2,    0.019,2,    0.010,2, -999.000,9,-999.0000,9,  -999.00,9,   -999.0,9,   -999.0,9,     8.01,2,  2.7110
 3230CITHER2_2,  A17N,   132,  1,      7,      7,2,19940220,2317,-13.3015, -34.0103, 3751,   2799.3,   2.8320,  34.9280,2,  34.9290,2,    252.4,2,    252.0,2,    32.10,2,    21.03,2,     1.39,2,    0.013,2,    0.008,2, -999.000,9,-999.0000,9,  -999.00,9,   -999.0,9,   -999.0,9,     8.00,2,  2.6060
 3230CITHER2_2,  A17N,   132,  1,      6,      6,2,19940220,2317,-13.3015, -34.0103, 3751,   2998.1,   2.7650,  34.9250,2,  34.9240,2,    253.3,2,    252.9,2,    33.00,2,    20.73,2,     1.39,2,    0.014,2,    0.011,2, -999.000,9,-999.0000,9,  -999.00,9,   -999.0,9,   -999.0,9,     8.00,2,  2.5200
 3230CITHER2_2,  A17N,   132,  1,      5,      5,2,19940220,2317,-13.3015, -34.0103, 3751,   3198.6,   2.6920,  34.9210,2,  34.9220,2,    254.0,2,    253.8,2,    34.20,2,    20.65,2,     1.39,2,    0.017,2,    0.007,2, -999.000,9,-999.0000,9,  -999.00,9,   -999.0,9,   -999.0,9,     8.01,2,  2.4270
 3230CITHER2_2,  A17N,   132,  1,      4,      4,2,19940220,2317,-13.3015, -34.0103, 3751,   3398.7,   2.6070,  34.9160,2,  34.9140,2,    256.2,2,    255.1,2,    35.20,2,    20.58,2,     1.38,2,    0.014,2,    0.011,2, -999.000,9,-999.0000,9,  -999.00,9,   -999.0,9,   -999.0,9,     8.00,2,  2.3230
 3230CITHER2_2,  A17N,   132,  1,      3,      3,2,19940220,2317,-13.3015, -34.0103, 3751,   3598.9,   2.5730,  34.9110,2,  34.9120,2,    256.7,2,    255.5,2,    36.10,2,    20.66,2,     1.39,2,    0.017,2,    0.009,2, -999.000,9,-999.0000,9,  -999.00,9,   -999.0,9,   -999.0,9,     8.00,2,  2.2680
 3230CITHER2_2,  A17N,   132,  1,      2,      2,2,19940220,2317,-13.3015, -34.0103, 3751,   3698.5,   2.5570,  34.9090,2,  34.9100,2,    256.7,2,    255.2,2,    36.50,2,    20.89,2,     1.39,2,    0.015,2,    0.011,2, -999.000,9,-999.0000,9,  -999.00,9,   -999.0,9,   -999.0,9,     7.99,2,  2.2410
 3230CITHER2_2,  A17N,   132,  1,      1,      1,2,19940220,2317,-13.3015, -34.0103, 3751,   3775.1,   2.4320,  34.8960,2,  34.9000,2,    255.7,2,    254.1,2,    40.30,2,    21.13,2,     1.43,2,    0.015,2,    0.007,2, -999.000,9,-999.0000,9,  -999.00,9,   -999.0,9,   -999.0,9,     7.99,2,  2.1110
 3230CITHER2_2,  A17N,   133,  1,     22,     22,2,19940221,0457,-13.3198, -33.5223, 4587,    801.8,   4.1300,  34.4220,2,  34.4270,2,    180.1,2,    180.4,2,    34.40,2,    33.54,2,     2.29,2,    0.163,2,    0.090,2, -999.000,9,-999.0000,9,  -999.00,9,   -999.0,9,   -999.0,9,     7.88,2,  4.0700
 3230CITHER2_2,  A17N,   133,  1,     21,     21,2,19940221,0457,-13.3198, -33.5223, 4587,    998.6,   3.7640,  34.5150,2,  34.5210,2,    178.1,2,    180.4,2,    38.80,2,    32.79,2,     2.25,2,    0.054,2,    0.031,2, -999.000,9,-999.0000,9,  -999.00,9,   -999.0,9,   -999.0,9,     7.89,2,  3.6900
 3230CITHER2_2,  A17N,   133,  1,     20,     20,2,19940221,0457,-13.3198, -33.5223, 4587,   1201.2,   4.0360,  34.7200,2,  34.7200,2,    181.4,2,    184.6,2,    31.70,2,    29.60,2,     2.03,2,    0.006,2,    0.007,2, -999.000,9,-999.0000,9,  -999.00,9,   -999.0,9,   -999.0,9,     7.91,2,  3.9430
 3230CITHER2_2,  A17N,   133,  1,     19,     19,2,19940221,0457,-13.3198, -33.5223, 4587,   1401.7,   4.1400,  34.8680,2,  34.8730,2,    206.3,2,    207.8,2,    24.80,2,    25.12,2,     1.72,2,    0.019,2,    0.010,2, -999.000,9,-999.0000,9,  -999.00,9,   -999.0,9,   -999.0,9,     7.96,2,  4.0270
 3230CITHER2_2,  A17N,   133,  1,     18,     18,2,19940221,0457,-13.3198, -33.5223, 4587,   1501.0,   4.1100,  34.9210,2,  34.9250,2,    222.5,2,    222.2,2,    21.70,2,    23.30,2,     1.56,2,    0.031,2,    0.020,2, -999.000,9,-999.0000,9,  -999.00,9,   -999.0,9,   -999.0,9,     7.98,2,  3.9890
 3230CITHER2_2,  A17N,   133,  1,     17,     17,2,19940221,0457,-13.3198, -33.5223, 4587,   1703.4,   3.8320,  34.9520,2,  34.9540,2,    237.7,2,    239.4,2,    20.70,2,    21.39,2,     1.43,2,    0.035,2,    0.018,2, -999.000,9,-999.0000,9,  -999.00,9,   -999.0,9,   -999.0,9,     8.01,2,  3.6950
 3230CITHER2_2,  A17N,   133,  1,     16,     16,2,19940221,0457,-13.3198, -33.5223, 4587,   1801.0,   3.6880,  34.9720,2,  34.9680,2,    246.3,2,    249.0,2,    19.60,2,    20.46,2,     1.34,2,    0.055,2,    0.033,2, -999.000,9,-999.0000,9,  -999.00,9,   -999.0,9,   -999.0,9,     8.02,2,  3.5440
 3230CITHER2_2,  A17N,   133,  1,     15,     15,2,19940221,0457,-13.3198, -33.5223, 4587,   2000.0,   3.3940,  34.9570,2,  34.9560,2,    249.3,2,    251.1,2,    23.00,2,    20.58,2,     1.36,2,    0.025,2,    0.012,2, -999.000,9,-999.0000,9,  -999.00,9,   -999.0,9,   -999.0,9,     8.02,2,  3.2360
 3230CITHER2_2,  A17N,   133,  1,     14,     14,2,19940221,0457,-13.3198, -33.5223, 4587,   2200.5,   3.2210,  34.9530,2,  34.9540,2,    251.5,2,    252.8,2,    25.10,2,    20.50,2,     1.36,2,    0.019,2,    0.014,2, -999.000,9,-999.0000,9,  -999.00,9,   -999.0,9,   -999.0,9,     8.02,2,  3.0460
 3230CITHER2_2,  A17N,   133,  1,     13,     13,2,19940221,0457,-13.3198, -33.5223, 4587,   2399.8,   3.0600,  34.9440,2,  34.9420,2,    251.0,2,    251.9,2,    27.80,2,    20.74,2,     1.37,2,    0.017,2,    0.008,2, -999.000,9,-999.0000,9,  -999.00,9,   -999.0,9,   -999.0,9,     8.02,2,  2.8690
 3230CITHER2_2,  A17N,   133,  1,     12,     12,2,19940221,0457,-13.3198, -33.5223, 4587,   2700.2,   2.9030,  34.9350,2,  34.9340,2,    251.6,2,    251.6,2,    30.60,2,    21.29,2,     1.40,2,    0.010,2,    0.006,2, -999.000,9,-999.0000,9,  -999.00,9,   -999.0,9,   -999.0,9,     8.02,2,  2.6850
 3230CITHER2_2,  A17N,   133,  1,     11,     11,2,19940221,0457,-13.3198, -33.5223, 4587,   2998.5,   2.7730,  34.9270,2,  34.9230,2,    251.8,2,    251.9,2,    32.80,2,    21.13,2,     1.40,2,    0.012,2,    0.009,2, -999.000,9,-999.0000,9,  -999.00,9,   -999.0,9,   -999.0,9,     8.02,2,  2.5270
 3230CITHER2_2,  A17N,   133,  1,     10,     10,2,19940221,0457,-13.3198, -33.5223, 4587,   3200.7,   2.7000,  34.9240,2,  34.9200,2,    252.9,2,    253.0,2,    33.10,2,    21.16,2,     1.40,2,    0.015,2,    0.013,2, -999.000,9,-999.0000,9,  -999.00,9,   -999.0,9,   -999.0,9,     8.02,2,  2.4350
 3230CITHER2_2,  A17N,   133,  1,      9,      9,2,19940221,0457,-13.3198, -33.5223, 4587,   3399.4,   2.6460,  34.9190,2,  34.9160,2,    254.3,2,    254.8,2,    33.60,2,    20.98,2,     1.39,2,    0.011,2,    0.013,2, -999.000,9,-999.0000,9,  -999.00,9,   -999.0,9,   -999.0,9,     8.02,2,  2.3610
 3230CITHER2_2,  A17N,   133,  1,      8,      8,2,19940221,0457,-13.3198, -33.5223, 4587,   3549.2,   2.5640,  34.9130,2,  34.9170,2,    255.5,2,    255.6,2,    33.70,2,    20.90,2,     1.39,2,    0.015,2,    0.009,2, -999.000,9,-999.0000,9,  -999.00,9,   -999.0,9,   -999.0,9,     8.02,2,  2.2650
 3230CITHER2_2,  A17N,   133,  1,      7,      7,2,19940221,0457,-13.3198, -33.5223, 4587,   3700.0,   2.4280,  34.9020,2,  34.9000,2,    255.7,2,    255.5,2,    38.10,2,    21.30,2,     1.42,2,    0.018,2,    0.011,2, -999.000,9,-999.0000,9,  -999.00,9,   -999.0,9,   -999.0,9,     8.02,2,  2.1160
 3230CITHER2_2,  A17N,   133,  1,      6,      6,2,19940221,0457,-13.3198, -33.5223, 4587,   3850.0,   2.2950,  34.8880,2,  34.8840,2,    253.9,2,    253.4,2,    43.50,2,    22.13,2,     1.47,2,    0.011,2,    0.009,2, -999.000,9,-999.0000,9,  -999.00,9,   -999.0,9,   -999.0,9,     8.01,2,  1.9690
 3230CITHER2_2,  A17N,   133,  1,      5,      5,2,19940221,0457,-13.3198, -33.5223, 4587,   3999.0,   2.0420,  34.8600,2,  34.8570,2,    250.3,2,    248.8,2,    54.30,2,    23.65,2,     1.58,2,    0.010,2,    0.010,2, -999.000,9,-999.0000,9,  -999.00,9,   -999.0,9,   -999.0,9,     8.00,2,  1.7070
 3230CITHER2_2,  A17N,   133,  1,      4,      4,2,19940221,0457,-13.3198, -33.5223, 4587,   4199.6,   1.6080,  34.8120,2,  34.8100,2,    239.8,2,    239.4,2,    75.40,2,    26.37,2,     1.79,2,    0.005,2,    0.004,2, -999.000,9,-999.0000,9,  -999.00,9,   -999.0,9,   -999.0,9,     7.97,2,  1.2630
 3230CITHER2_2,  A17N,   133,  1,      3,      3,2,19940221,0457,-13.3198, -33.5223, 4587,   4398.6,   1.1510,  34.7640,2,  34.7620,2,    230.8,2,    230.6,2,    95.50,2,    29.37,2,     1.99,2,    0.007,2,    0.004,2, -999.000,9,-999.0000,9,  -999.00,9,   -999.0,9,   -999.0,9,     7.95,2,  0.7980
 3230CITHER2_2,  A17N,   133,  1,      2,      2,2,19940221,0457,-13.3198, -33.5223, 4587,   4598.6,   0.7250,  34.7170,2,  34.7160,2,    223.0,2,    224.0,2,   112.50,2,    31.68,2,     2.17,2,    0.034,2,    0.016,2, -999.000,9,-999.0000,9,  -999.00,9,   -999.0,9,   -999.0,9,     7.91,2,  0.3630
 3230CITHER2_2,  A17N,   133,  1,      1,      1,2,19940221,0457,-13.3198, -33.5223, 4587,   4649.3,   0.6800,  34.7110,2,  34.7130,2,    221.7,2,    222.8,2,   113.90,2,    31.73,2,     2.18,2,    0.036,2,    0.021,2, -999.000,9,-999.0000,9,  -999.00,9,   -999.0,9,   -999.0,9,     7.91,2,  0.3140