BOTTLE,20030515WHPSIOSA
EXPOCODE,SECT_ID,STNNBR,CASTNO,SAMPNO,BTLNBR,BTLNBR_FLAG_W,DATE,TIME,LATITUDE,LONGITUDE,DEPTH,CTDPRS,CTDTMP,CTDSAL,CTDSAL_FLAG_W,SALNTY,SALNTY_FLAG_W,CTDOXY,CTDOXY_FLAG_W,OXYGEN,OXYGEN_FLAG_W,SILCAT,SILCAT_FLAG_W,NITRAT,NITRAT_FLAG_W,PHSPHT,PHSPHT_FLAG_W,CFC-11,CFC-11_FLAG_W,CFC-12,CFC-12_FLAG_W,TRITUM,TRITUM_FLAG_W,HELIUM,HELIUM_FLAG_W,DELHE3,DELHE3_FLAG_W,TCARBN,TCARBN_FLAG_W,ALKALI,ALKALI_FLAG_W,PH,PH_FLAG_W,THETA
,,,,,,,,,,,,DBAR,ITS-90,PSS-78,,PSS-78,,UMOL/KG,,UMOL/KG,,UMOL/KG,,UMOL/KG,,UMOL/KG,,PMOL/KG,,PMOL/KG,,TU,,NMOL/KG,,PERCNT,,UMOL/KG,,UMOL/KG,,,,DEG C
 3230CITHER2_2,  A17N,   134,  1,     16,     16,2,19940221,1024,-13.3180, -33.5223, 4588,      0.8,  28.2000,  37.1980,2,  37.2020,2,    197.1,2,    202.0,2,     1.00,2,     0.04,2,     0.07,2,    1.619,2,    0.934,2, -999.000,9,-999.0000,9,  -999.00,9,   -999.0,9,   -999.0,9,     8.40,2, 28.2000
 3230CITHER2_2,  A17N,   134,  1,     15,     15,2,19940221,1024,-13.3180, -33.5223, 4588,     30.1,  28.2080,  37.1970,2,  37.2000,2,    202.1,2,    196.8,2,     1.00,2,     0.04,2,     0.07,2,    1.611,2,    0.926,2, -999.000,9,-999.0000,9,  -999.00,9,   -999.0,9,   -999.0,9,     8.40,2, 28.2010
 3230CITHER2_2,  A17N,   134,  1,     14,     14,2,19940221,1024,-13.3180, -33.5223, 4588,     49.7,  28.2010,  37.1990,2,  37.2040,2,    201.9,2,    198.1,2,     0.90,2,     0.04,2,     0.07,2,    1.631,2,    0.943,2, -999.000,9,-999.0000,9,  -999.00,9,   -999.0,9,   -999.0,9,     8.40,2, 28.1890
 3230CITHER2_2,  A17N,   134,  1,     13,     13,2,19940221,1024,-13.3180, -33.5223, 4588,     75.6,  26.5650,  37.2050,2,  37.2200,2,    216.7,2,    213.3,2,     0.90,2,     0.04,2,     0.10,2,    1.787,2,    1.008,2, -999.000,9,-999.0000,9,  -999.00,9,   -999.0,9,   -999.0,9,     8.39,2, 26.5480
 3230CITHER2_2,  A17N,   134,  1,     12,     12,2,19940221,1024,-13.3180, -33.5223, 4588,    100.8,  25.4270,  37.2210,2,  37.2650,2,    218.0,2,    212.8,2,     1.00,2,     0.04,2,     0.12,2,    1.848,2,    1.042,2, -999.000,9,-999.0000,9,  -999.00,9,   -999.0,9,   -999.0,9,     8.38,2, 25.4050
 3230CITHER2_2,  A17N,   134,  1,     11,     11,2,19940221,1024,-13.3180, -33.5223, 4588,    150.6,  23.0710,  36.8890,2,  36.7590,2,    208.1,2,    203.6,2,     1.20,2,     0.16,2,     0.22,2,    2.008,2,    1.107,2, -999.000,9,-999.0000,9,  -999.00,9,   -999.0,9,   -999.0,9,     8.31,2, 23.0400
 3230CITHER2_2,  A17N,   134,  1,     10,     10,2,19940221,1024,-13.3180, -33.5223, 4588,    200.2,  17.9010,  35.9520,2,  35.9190,2,    190.0,2,    189.2,2,     2.30,2,     4.72,2,     0.51,2,    2.167,2,    1.160,2, -999.000,9,-999.0000,9,  -999.00,9,   -999.0,9,   -999.0,9,     8.22,2, 17.8670
 3230CITHER2_2,  A17N,   134,  1,      9,      9,2,19940221,1024,-13.3180, -33.5223, 4588,    249.6,  14.9470,  35.4720,2,  35.4580,2,    174.6,2,    172.3,2,     4.20,2,    11.57,2,     0.86,2,    1.988,2,    1.062,2, -999.000,9,-999.0000,9,  -999.00,9,   -999.0,9,   -999.0,9,     8.14,2, 14.9090
 3230CITHER2_2,  A17N,   134,  1,      8,      8,2,19940221,1024,-13.3180, -33.5223, 4588,    301.0,  12.6910,  35.1980,2,  35.1990,2,    132.1,2,    130.9,2,     7.60,2,    20.11,2,     1.38,2,    1.280,2,    0.680,2, -999.000,9,-999.0000,9,  -999.00,9,   -999.0,9,   -999.0,9,     8.02,2, 12.6500
 3230CITHER2_2,  A17N,   134,  1,      7,      7,2,19940221,1024,-13.3180, -33.5223, 4588,    401.1,   8.9670,  34.7750,2,  34.7700,2,    132.5,2,    132.3,2,    14.10,2,    27.77,2,     1.85,2,    0.587,2,    0.316,2, -999.000,9,-999.0000,9,  -999.00,9,   -999.0,9,   -999.0,9,     7.92,2,  8.9230
 3230CITHER2_2,  A17N,   134,  1,      6,      6,2,19940221,1024,-13.3180, -33.5223, 4588,    499.9,   6.4460,  34.5300,2,  34.5310,2,    156.6,2,    156.6,2,    20.70,2,    31.11,2,     2.10,2,    0.322,2,    0.180,2, -999.000,9,-999.0000,9,  -999.00,9,   -999.0,9,   -999.0,9,     7.90,2,  6.4010
 3230CITHER2_2,  A17N,   134,  1,      5,      5,2,19940221,1024,-13.3180, -33.5223, 4588,    601.4,   5.3580,  34.4540,2,  34.4590,2,    163.7,2,    161.8,2,    25.70,2,    32.86,2,     2.25,2,    0.288,2,    0.158,2, -999.000,9,-999.0000,9,  -999.00,9,   -999.0,9,   -999.0,9,     7.87,2,  5.3080
 3230CITHER2_2,  A17N,   134,  1,      4,      4,2,19940221,1024,-13.3180, -33.5223, 4588,    650.3,   4.5820,  34.3820,2,  34.3880,2,    191.0,2,    193.1,2,    28.80,2,    31.24,2,     2.17,2,    0.450,2,    0.244,2, -999.000,9,-999.0000,9,  -999.00,9,   -999.0,9,   -999.0,9,     7.90,2,  4.5320
 3230CITHER2_2,  A17N,   134,  1,      3,      3,2,19940221,1024,-13.3180, -33.5223, 4588,    701.7,   4.5740,  34.4230,2,  34.4250,2,    178.2,2,    174.0,2,    30.90,2,    33.42,2,     2.27,2,    0.230,2,    0.127,2, -999.000,9,-999.0000,9,  -999.00,9,   -999.0,9,   -999.0,9,     7.87,2,  4.5190
 3230CITHER2_2,  A17N,   134,  1,      1,      1,2,19940221,1024,-13.3180, -33.5223, 4588,    802.6,   4.1270,  34.4240,2,  34.4250,2,    180.7,2,    180.5,2,    34.70,2,    33.23,2,  -999.00,5,    0.162,2,    0.094,2, -999.000,9,-999.0000,9,  -999.00,9,   -999.0,9,   -999.0,9,     7.88,2,  4.0670
 3230CITHER2_2,  A17N,   134,  1,      2,      2,2,19940221,1024,-13.3180, -33.5223, 4588,    802.8,   4.1270,  34.4240,2,  34.4250,2,    180.7,2,    180.5,2,    34.90,2,    33.22,2,     2.28,2,    0.163,2,    0.092,2, -999.000,9,-999.0000,9,  -999.00,9,   -999.0,9,   -999.0,9,     7.88,2,  4.0670
 3230CITHER2_2,  A17N,   135,  1,     32,     32,2,19940221,1435,-13.3433, -33.0325, 4561,      3.3,  28.1730,  37.2710,2,  37.2700,2,    188.6,2,    198.4,2,     1.00,2,     0.04,2,     0.07,2,    1.625,2,    0.938,2, -999.000,9,-999.0000,9,  -999.00,9,   2062.3,2,   2454.6,2,     8.40,2, 28.1720
 3230CITHER2_2,  A17N,   135,  1,     31,     31,2,19940221,1435,-13.3433, -33.0325, 4561,     55.6,  28.1800,  37.2710,2,  37.2700,2,    201.7,2,    198.0,2,     0.90,2,     0.04,2,     0.07,2,    1.633,2,    0.939,2, -999.000,9,-999.0000,9,  -999.00,9,   2062.1,2,   2453.6,2,     8.40,2, 28.1670
 3230CITHER2_2,  A17N,   135,  1,     30,     30,2,19940221,1435,-13.3433, -33.0325, 4561,    118.8,  24.9860,  37.2190,2,  37.2150,2,    215.1,2,    211.8,2,     1.00,2,     0.04,2,     0.13,2,    1.852,2,    1.044,2, -999.000,9,-999.0000,9,  -999.00,9,   2083.4,2,   2453.1,2,     8.37,2, 24.9600
 3230CITHER2_2,  A17N,   135,  1,     29,     29,2,19940221,1435,-13.3433, -33.0325, 4561,    199.2,  18.5340,  36.0540,2,  36.0410,2,    190.4,2,    190.6,2,     2.00,2,     3.60,2,     0.46,2,    2.163,2,    1.162,2, -999.000,9,-999.0000,9,  -999.00,9,   2105.0,2,   2378.0,2,     8.23,2, 18.4990
 3230CITHER2_2,  A17N,   135,  1,     28,     28,2,19940221,1435,-13.3433, -33.0325, 4561,    302.0,  12.3890,  35.1330,2,  35.1250,2,    151.3,2,    144.5,2,     7.40,2,    19.38,2,     1.34,2,    1.427,2,    0.746,2, -999.000,9,-999.0000,9,  -999.00,9,   2158.6,2,   2322.2,2,     8.02,2, 12.3490
 3230CITHER2_2,  A17N,   135,  1,     27,     27,2,19940221,1435,-13.3433, -33.0325, 4561,    400.1,   9.2650,  34.8080,2,  34.7950,2,    117.8,2,    130.6,2,    13.30,2,    26.62,2,     1.84,2,    0.572,2,    0.312,2, -999.000,9,-999.0000,9,  -999.00,9,   2190.6,2,   2311.0,2,     7.92,2,  9.2200
 3230CITHER2_2,  A17N,   135,  1,     26,     26,2,19940221,1435,-13.3433, -33.0325, 4561,    600.1,   5.2270,  34.4470,2,  34.4430,2,    171.8,2,    169.0,2,    25.30,2,    32.03,2,     2.21,2,    0.252,2,    0.132,2, -999.000,9,-999.0000,9,  -999.00,9,   2202.7,2,   2306.7,2,     7.88,2,  5.1780
 3230CITHER2_2,  A17N,   135,  1,     25,     25,2,19940221,1435,-13.3433, -33.0325, 4561,    700.9,   4.5690,  34.4200,2,  34.4210,2,    177.7,2,    176.9,2,    29.90,2,    32.89,2,     2.27,2,    0.204,2,    0.110,2, -999.000,9,-999.0000,9,  -999.00,9,   2208.7,2,   2312.1,2,     7.88,2,  4.5150
 3230CITHER2_2,  A17N,   135,  1,     24,     24,2,19940221,1435,-13.3433, -33.0325, 4561,    800.7,   4.1120,  34.4310,2,  34.4280,2,    181.5,2,    180.1,2,    34.10,2,    33.24,2,     2.30,2,    0.136,2,    0.072,2, -999.000,9,-999.0000,9,  -999.00,9,   2212.4,2,   2316.0,2,     7.88,2,  4.0520
 3230CITHER2_2,  A17N,   135,  1,     23,     23,2,19940221,1435,-13.3433, -33.0325, 4561,   1000.1,   3.7940,  34.5390,2,  34.5370,2,    178.5,2,    179.2,2,    37.50,2,    32.10,2,     2.25,2, -999.000,5, -999.000,5, -999.000,9,-999.0000,9,  -999.00,9,   2217.5,2,   2324.9,2,     7.88,2,  3.7200
 3230CITHER2_2,  A17N,   135,  1,     22,     22,2,19940221,1435,-13.3433, -33.0325, 4561,   1200.5,   4.0400,  34.7290,2,  34.7260,2,    185.4,2,    184.2,2,    31.00,2,    29.19,2,     2.03,2,    0.006,2,    0.000,2, -999.000,9,-999.0000,9,  -999.00,9,   2209.2,2,   2327.1,2,     7.91,2,  3.9470
 3230CITHER2_2,  A17N,   135,  1,     21,     21,2,19940221,1435,-13.3433, -33.0325, 4561,   1400.6,   4.1740,  34.8740,2,  34.8730,2,    206.9,2,    206.0,2,    24.10,2,    25.09,2,     1.73,2,    0.016,2,    0.008,2, -999.000,9,-999.0000,9,  -999.00,9,   2191.4,2,   2329.0,2,     7.96,2,  4.0610
 3230CITHER2_2,  A17N,   135,  1,     20,     20,2,19940221,1435,-13.3433, -33.0325, 4561,   1499.8,   4.0870,  34.9070,2,  34.9040,2,    218.7,2,    215.8,2,    22.70,2,    23.86,2,     1.63,2,    0.014,2,    0.007,2, -999.000,9,-999.0000,9,  -999.00,9,   2186.8,2,   2328.8,2,     7.97,2,  3.9660
 3230CITHER2_2,  A17N,   135,  1,     19,     19,2,19940221,1435,-13.3433, -33.0325, 4561,   1601.0,   3.8880,  34.9220,2,  34.9230,2,    229.4,2,    225.7,2,    22.50,2,    22.82,2,     1.55,2,    0.011,2,    0.008,2, -999.000,9,-999.0000,9,  -999.00,9,   2182.3,2,   2329.9,2,     7.99,2,  3.7600
 3230CITHER2_2,  A17N,   135,  1,     18,     18,2,19940221,1435,-13.3433, -33.0325, 4561,   1700.4,   3.8860,  34.9610,2,  34.9600,2,    240.1,2,    240.2,2,    19.70,2,    21.36,2,     1.42,2,    0.037,2,    0.021,2, -999.000,9,-999.0000,9,  -999.00,9,   2173.9,2,   2329.9,2,     8.00,2,  3.7490
 3230CITHER2_2,  A17N,   135,  1,     17,     17,2,19940221,1435,-13.3433, -33.0325, 4561,   1799.5,   3.6390,  34.9460,2,  34.9440,2,    241.5,2,    239.3,2,    22.50,2,    21.68,2,     1.45,2,    0.008,2,    0.005,2, -999.000,9,-999.0000,9,  -999.00,9,   2176.2,2,   2330.7,2,     8.00,2,  3.4960
 3230CITHER2_2,  A17N,   135,  1,     16,     16,2,19940221,1435,-13.3433, -33.0325, 4561,   2001.1,   3.3340,  34.9390,2,  34.9370,2,    245.1,2,    243.7,2,    25.90,2,    21.48,2,     1.43,2,    0.002,2,    0.004,2, -999.000,9,-999.0000,9,  -999.00,9,   2176.0,2,   2335.6,2,     8.01,2,  3.1760
 3230CITHER2_2,  A17N,   135,  1,     15,     15,2,19940221,1435,-13.3433, -33.0325, 4561,   2200.4,   3.1120,  34.9310,2,  34.9290,2,    246.3,2,    245.5,2,    29.10,2,    21.68,2,     1.43,2,    0.003,2,    0.005,2, -999.000,9,-999.0000,9,  -999.00,9,   2178.6,2,   2339.7,2,     8.01,2,  2.9390
 3230CITHER2_2,  A17N,   135,  1,     14,     14,2,19940221,1435,-13.3433, -33.0325, 4561,   2400.0,   2.9330,  34.9220,2,  34.9190,2,    245.2,2,    245.4,2,    32.60,2,    22.04,2,     1.45,2,    0.000,2,    0.001,2, -999.000,9,-999.0000,9,  -999.00,9,   2183.6,2,   2340.2,2,     8.01,2,  2.7440
 3230CITHER2_2,  A17N,   135,  1,     13,     13,2,19940221,1435,-13.3433, -33.0325, 4561,   2708.6,   2.7960,  34.9190,2,  34.9140,2,    246.2,2,    246.3,2,    34.80,2,    21.84,2,     1.47,2,    0.003,2,    0.006,2, -999.000,9,-999.0000,9,  -999.00,9,   2185.1,2,   2344.1,2,     8.01,2,  2.5790
 3230CITHER2_2,  A17N,   135,  1,     12,     12,2,19940221,1435,-13.3433, -33.0325, 4561,   2998.6,   2.7160,  34.9200,2,  34.9160,2,    248.9,2,    249.2,2,    34.10,2,    21.49,2,     1.44,2,    0.006,2,    0.005,2, -999.000,9,-999.0000,9,  -999.00,9,   2183.4,2,   2344.4,2,     8.02,2,  2.4720
 3230CITHER2_2,  A17N,   135,  1,     11,     11,2,19940221,1435,-13.3433, -33.0325, 4561,   3199.2,   2.6600,  34.9180,2,  34.9150,2,    250.5,2,    251.0,2,    34.40,2,    21.38,2,     1.44,2,    0.004,2,    0.004,2, -999.000,9,-999.0000,9,  -999.00,9,   2182.4,2,   2344.3,2,     8.02,2,  2.3960
 3230CITHER2_2,  A17N,   135,  1,     10,     10,2,19940221,1435,-13.3433, -33.0325, 4561,   3397.4,   2.6030,  34.9160,2,  34.9190,2,    253.6,2,    254.8,2,    35.20,2,    21.30,2,     1.40,2,    0.003,2,    0.005,2, -999.000,9,-999.0000,9,  -999.00,9,   2182.0,2,   2342.9,2,     8.02,2,  2.3190
 3230CITHER2_2,  A17N,   135,  1,      9,      9,2,19940221,1435,-13.3433, -33.0325, 4561,   3547.9,   2.5240,  34.9070,2,  34.9060,2,    253.8,2,    254.1,2,    37.00,2,    21.41,2,     1.41,2,    0.008,2,    0.002,2, -999.000,9,-999.0000,9,  -999.00,9,   2182.4,2,   2343.8,2,     8.02,2,  2.2260
 3230CITHER2_2,  A17N,   135,  1,      8,      8,2,19940221,1435,-13.3433, -33.0325, 4561,   3698.8,   2.4110,  34.9000,2,  34.8980,2,    254.2,2,    257.8,2,    40.70,2,    21.70,2,     1.44,2,    0.008,2,    0.007,2, -999.000,9,-999.0000,9,  -999.00,9,   2191.2,2,   2345.7,2,     8.01,2,  2.0990
 3230CITHER2_2,  A17N,   135,  1,      7,      7,2,19940221,1435,-13.3433, -33.0325, 4561,   3847.8,   2.2610,  34.8840,2,  34.8820,2,    252.5,2,    253.7,2,    45.90,2,    22.33,2,     1.51,2,    0.005,2,    0.007,2, -999.000,9,-999.0000,9,  -999.00,9,   2191.6,2,   2348.6,2,     8.01,2,  1.9370
 3230CITHER2_2,  A17N,   135,  1,      6,      6,2,19940221,1435,-13.3433, -33.0325, 4561,   3999.1,   2.0370,  34.8600,2,  34.8570,2,    248.5,2,    247.8,2,    55.50,2,    23.39,2,     1.59,2,    0.006,2,    0.004,2, -999.000,9,-999.0000,9,  -999.00,9,   2199.4,2,   2352.8,2,     7.99,2,  1.7020
 3230CITHER2_2,  A17N,   135,  1,      5,      5,2,19940221,1435,-13.3433, -33.0325, 4561,   4196.0,   1.6250,  34.8150,2,  34.8120,2,    240.1,2,    239.5,2,    73.70,2,    25.80,2,     1.78,2,    0.004,2,    0.001,2, -999.000,9,-999.0000,9,  -999.00,9,   2218.8,2,   2358.9,2,     7.97,2,  1.2800
 3230CITHER2_2,  A17N,   135,  1,      4,      4,2,19940221,1435,-13.3433, -33.0325, 4561,   4399.0,   1.2430,  34.7710,2,  34.7700,2,    232.7,2,    231.5,2,    92.00,2,    28.75,2,     1.95,2,    0.010,2,    0.003,2, -999.000,9,-999.0000,9,  -999.00,9,   2234.1,2,   2366.7,2,     7.94,2,  0.8870
 3230CITHER2_2,  A17N,   135,  1,      2,      2,2,19940221,1435,-13.3433, -33.0325, 4561,   4598.8,   0.6760,  34.7150,2,  34.7110,2,    223.8,2,    223.1,2,  -999.00,5,    31.73,2,     2.17,2, -999.000,5, -999.000,5, -999.000,9,-999.0000,9,  -999.00,9,   2256.3,2,   2376.3,2,     7.91,2,  0.3160
 3230CITHER2_2,  A17N,   135,  1,      3,      3,2,19940221,1435,-13.3433, -33.0325, 4561,   4599.0,   0.6820,  34.7160,2,  34.7130,2,    223.8,2,    223.5,2,   114.20,2,    31.78,2,     2.17,2,    0.040,2,    0.020,2, -999.000,9,-999.0000,9,  -999.00,9,   -999.0,5,   2376.3,2,     7.91,2,  0.3210
 3230CITHER2_2,  A17N,   135,  1,      1,      1,2,19940221,1435,-13.3433, -33.0325, 4561,   4622.4,   0.6010,  34.7040,2,  34.7060,2,    222.3,2,    222.2,2,   118.20,2,    31.94,2,     2.20,2,    0.049,2,    0.022,2, -999.000,9,-999.0000,9,  -999.00,9,   2258.7,2,   2375.9,2,     7.90,2,  0.2400
 3230CITHER2_2,  A17N,   136,  1,     16,     16,2,19940221,2047,-13.3597, -32.5492, 4645,   1999.9,   3.3470,  34.9420,2,  34.9390,2,    248.4,2,    246.9,2,    25.30,2,    21.18,2,     1.40,2,    0.010,2,    0.007,2, -999.000,9,-999.0000,9,  -999.00,9,   -999.0,9,   -999.0,9,     8.02,2,  3.1890
 3230CITHER2_2,  A17N,   136,  1,     15,     15,2,19940221,2047,-13.3597, -32.5492, 4645,   2197.3,   3.1260,  34.9350,2,  34.9320,2,    250.2,2,    248.1,2,    28.50,2,    21.34,2,     1.41,2,    0.010,2,    0.006,2, -999.000,9,-999.0000,9,  -999.00,9,   -999.0,9,   -999.0,9,     8.02,2,  2.9530
 3230CITHER2_2,  A17N,   136,  1,     14,     14,2,19940221,2047,-13.3597, -32.5492, 4645,   2401.0,   2.9220,  34.9210,2,  34.9200,2,    246.6,2,    246.3,2,    33.40,2,    22.09,2,     1.45,2,    0.000,2,    0.001,2, -999.000,9,-999.0000,9,  -999.00,9,   -999.0,9,   -999.0,9,     8.02,2,  2.7330
 3230CITHER2_2,  A17N,   136,  1,     13,     13,2,19940221,2047,-13.3597, -32.5492, 4645,   2699.0,   2.8150,  34.9200,2,  34.9190,2,    248.3,2,    248.1,2,    34.20,2,    21.77,2,     1.44,2,    0.001,2,    0.000,2, -999.000,9,-999.0000,9,  -999.00,9,   -999.0,9,   -999.0,9,     8.02,2,  2.5990
 3230CITHER2_2,  A17N,   136,  1,     12,     12,2,19940221,2047,-13.3597, -32.5492, 4645,   2999.8,   2.7360,  34.9200,2,  34.9230,2,    251.4,2,    251.6,2,    33.70,2,    21.34,2,     1.40,2,    0.005,2,    0.010,2, -999.000,9,-999.0000,9,  -999.00,9,   -999.0,9,   -999.0,9,     8.03,2,  2.4910
 3230CITHER2_2,  A17N,   136,  1,     11,     11,2,19940221,2047,-13.3597, -32.5492, 4645,   3198.2,   2.6760,  34.9180,2,  34.9190,2,    253.9,2,    253.1,2,    34.30,2,    21.34,2,     1.40,2,    0.006,2,    0.008,2, -999.000,9,-999.0000,9,  -999.00,9,   -999.0,9,   -999.0,9,     8.03,2,  2.4120
 3230CITHER2_2,  A17N,   136,  1,     10,     10,2,19940221,2047,-13.3597, -32.5492, 4645,   3401.0,   2.5820,  34.9110,2,  34.9120,2,    253.4,2,    253.9,2,    36.30,2,    21.66,2,     1.41,2,    0.011,2,    0.006,2, -999.000,9,-999.0000,9,  -999.00,9,   -999.0,9,   -999.0,9,     8.03,2,  2.2980
 3230CITHER2_2,  A17N,   136,  1,      9,      9,2,19940221,2047,-13.3597, -32.5492, 4645,   3550.3,   2.4950,  34.9040,2,  34.9040,2,    254.6,2,    251.9,2,    37.40,2,    21.46,2,     1.41,2,    0.009,2,    0.012,2, -999.000,9,-999.0000,9,  -999.00,9,   -999.0,9,   -999.0,9,     8.02,2,  2.1970
 3230CITHER2_2,  A17N,   136,  1,      8,      8,2,19940221,2047,-13.3597, -32.5492, 4645,   3698.6,   2.3660,  34.8910,2,  34.8960,2,    253.8,2,    252.9,2,    41.90,2,    21.97,2,     1.45,2,    0.009,2,    0.005,2, -999.000,9,-999.0000,9,  -999.00,9,   -999.0,9,   -999.0,9,     8.02,2,  2.0550
 3230CITHER2_2,  A17N,   136,  1,      7,      7,2,19940221,2047,-13.3597, -32.5492, 4645,   3848.6,   2.2570,  34.8810,2,  34.8840,2,    253.6,2,    252.6,2,    45.40,2,    22.29,2,     1.47,2,    0.011,2,    0.008,2, -999.000,9,-999.0000,9,  -999.00,9,   -999.0,9,   -999.0,9,     8.01,2,  1.9330
 3230CITHER2_2,  A17N,   136,  1,      6,      6,2,19940221,2047,-13.3597, -32.5492, 4645,   3999.6,   2.0430,  34.8570,2,-999.0000,5,    249.5,2,    255.3,2,    55.40,2,    23.52,2,     1.57,2,    0.005,2,    0.005,2, -999.000,9,-999.0000,9,  -999.00,9,   -999.0,9,   -999.0,9,     8.00,2,  1.7080
 3230CITHER2_2,  A17N,   136,  1,      5,      5,2,19940221,2047,-13.3597, -32.5492, 4645,   4196.8,   1.6850,  34.8190,2,  34.8200,2,    241.8,2,    240.6,2,    72.70,2,    26.64,2,     1.74,2,    0.004,2,    0.001,2, -999.000,9,-999.0000,9,  -999.00,9,   -999.0,9,   -999.0,9,     7.98,2,  1.3380
 3230CITHER2_2,  A17N,   136,  1,      4,      4,2,19940221,2047,-13.3597, -32.5492, 4645,   4399.0,   1.2780,  34.7740,2,  34.7750,2,    233.8,2,    232.1,2,    91.60,2,    28.81,2,     1.92,2,    0.009,2,    0.004,2, -999.000,9,-999.0000,9,  -999.00,9,   -999.0,9,   -999.0,9,     7.96,2,  0.9210
 3230CITHER2_2,  A17N,   136,  1,      3,      3,2,19940221,2047,-13.3597, -32.5492, 4645,   4598.1,   0.7770,  34.7190,2,  34.7270,2,    225.6,2,    225.7,2,   111.00,2,    31.79,2,     2.12,2,    0.033,2,    0.016,2, -999.000,9,-999.0000,9,  -999.00,9,   -999.0,9,   -999.0,9,     7.92,2,  0.4130
 3230CITHER2_2,  A17N,   136,  1,      2,      2,2,19940221,2047,-13.3597, -32.5492, 4645,   4649.4,   0.5890,  34.7020,2,  34.7040,2,    223.8,2,    222.9,2,   118.60,2,    32.75,2,     2.18,2,    0.048,2,    0.022,2, -999.000,9,-999.0000,9,  -999.00,9,   -999.0,9,   -999.0,9,     7.91,2,  0.2260
 3230CITHER2_2,  A17N,   136,  1,      1,      1,2,19940221,2047,-13.3597, -32.5492, 4645,   4702.8,   0.5570,  34.6970,2,  34.7000,2,    221.7,2,    222.2,2,   119.60,2,    32.75,2,     2.20,2,    0.048,2,    0.028,2, -999.000,9,-999.0000,9,  -999.00,9,   -999.0,9,   -999.0,9,     7.90,2,  0.1890