BOTTLE,20030515WHPSIOSA
EXPOCODE,SECT_ID,STNNBR,CASTNO,SAMPNO,BTLNBR,BTLNBR_FLAG_W,DATE,TIME,LATITUDE,LONGITUDE,DEPTH,CTDPRS,CTDTMP,CTDSAL,CTDSAL_FLAG_W,SALNTY,SALNTY_FLAG_W,CTDOXY,CTDOXY_FLAG_W,OXYGEN,OXYGEN_FLAG_W,SILCAT,SILCAT_FLAG_W,NITRAT,NITRAT_FLAG_W,PHSPHT,PHSPHT_FLAG_W,CFC-11,CFC-11_FLAG_W,CFC-12,CFC-12_FLAG_W,TRITUM,TRITUM_FLAG_W,HELIUM,HELIUM_FLAG_W,DELHE3,DELHE3_FLAG_W,TCARBN,TCARBN_FLAG_W,ALKALI,ALKALI_FLAG_W,PH,PH_FLAG_W,THETA
,,,,,,,,,,,,DBAR,ITS-90,PSS-78,,PSS-78,,UMOL/KG,,UMOL/KG,,UMOL/KG,,UMOL/KG,,UMOL/KG,,PMOL/KG,,PMOL/KG,,TU,,NMOL/KG,,PERCNT,,UMOL/KG,,UMOL/KG,,,,DEG C
 3230CITHER2_1,  A17C,    92,  1,     32,     32,2,19940204,1824,-23.0668, -32.8243, 4783,      2.5,  28.6450,  37.0340,2,  37.0300,2,    189.3,2,    197.6,2,     1.30,2,     0.04,2,     0.09,2,    1.780,2,    1.041,2, -999.000,9,-999.0000,9,  -999.00,9,   -999.0,9,   -999.0,9,     8.38,2, 28.6440
 3230CITHER2_1,  A17C,    92,  1,     31,     31,2,19940204,1824,-23.0668, -32.8243, 4783,     26.7,  27.7150,  36.9740,2,  36.9640,2,    202.1,2,    200.8,2,     1.30,2,     0.04,2,     0.10,2,    1.824,2,    1.063,2, -999.000,9,-999.0000,9,  -999.00,9,   -999.0,9,   -999.0,9,     8.38,2, 27.7090
 3230CITHER2_1,  A17C,    92,  1,     30,     30,2,19940204,1824,-23.0668, -32.8243, 4783,     74.9,  22.3450,  36.4870,2,  36.4760,2,    227.6,2,    232.4,2,     1.30,2,     0.12,2,     0.07,2,    2.271,2,    1.292,2, -999.000,9,-999.0000,9,  -999.00,9,   -999.0,9,   -999.0,9,     8.36,2, 22.3300
 3230CITHER2_1,  A17C,    92,  1,     29,     29,2,19940204,1824,-23.0668, -32.8243, 4783,    200.0,  17.9570,  35.9010,2,  35.9010,2,    207.8,2,    209.0,2,     1.80,2,     1.87,2,     0.32,2,    2.517,2,    1.387,2, -999.000,9,-999.0000,9,  -999.00,9,   -999.0,9,   -999.0,9,     8.26,2, 17.9230
 3230CITHER2_1,  A17C,    92,  1,     28,     28,2,19940204,1824,-23.0668, -32.8243, 4783,    302.1,  14.6950,  35.3810,2,  35.3800,2,    205.3,2,    211.3,2,     3.10,2,     7.44,2,     0.61,2,    2.543,2,    1.356,2, -999.000,9,-999.0000,9,  -999.00,9,   -999.0,9,   -999.0,9,     8.20,2, 14.6500
 3230CITHER2_1,  A17C,    92,  1,     27,     27,2,19940204,1824,-23.0668, -32.8243, 4783,    400.6,  12.0680,  35.0600,2,  35.0520,2,    195.7,2,    192.5,2,     5.70,2,    14.79,2,     1.05,2,    2.076,2,    1.108,2, -999.000,9,-999.0000,9,  -999.00,9,   -999.0,9,   -999.0,9,     8.11,2, 12.0150
 3230CITHER2_1,  A17C,    92,  1,     26,     26,2,19940204,1824,-23.0668, -32.8243, 4783,    500.8,   9.6500,  34.7760,2,  34.7720,2,    195.4,2,    194.8,2,     9.40,2,    20.29,2,     1.38,2,    1.755,2,    0.936,2, -999.000,9,-999.0000,9,  -999.00,9,   -999.0,9,   -999.0,9,     8.05,2,  9.5920
 3230CITHER2_1,  A17C,    92,  1,     25,     25,2,19940204,1824,-23.0668, -32.8243, 4783,    600.5,   7.4040,  34.5560,2,  34.5570,2,    191.0,2,    186.7,2,    15.20,2,    27.07,2,     1.79,2, -999.000,5, -999.000,5, -999.000,9,-999.0000,9,  -999.00,9,   -999.0,9,   -999.0,9,     7.97,2,  7.3450
 3230CITHER2_1,  A17C,    92,  1,     24,     24,2,19940204,1824,-23.0668, -32.8243, 4783,    750.1,   5.0770,  34.3790,2,  34.3860,2,    202.5,2,    197.0,2,    24.40,2,    31.52,2,     2.06,2,    0.767,2,    0.423,2, -999.000,9,-999.0000,9,  -999.00,9,   -999.0,9,   -999.0,9,     7.92,2,  5.0160
 3230CITHER2_1,  A17C,    92,  1,     23,     23,2,19940204,1824,-23.0668, -32.8243, 4783,   1000.8,   3.6250,  34.4460,2,  34.4440,2,    186.2,2,    185.9,2,    41.00,2,    33.74,2,     2.26,2,    0.125,2,    0.073,2, -999.000,9,-999.0000,9,  -999.00,9,   -999.0,9,   -999.0,9,     7.88,2,  3.5520
 3230CITHER2_1,  A17C,    92,  1,     22,     22,2,19940204,1824,-23.0668, -32.8243, 4783,   1201.2,   3.3330,  34.5620,2,  34.5600,2,    186.0,2,    186.3,2,    46.70,2,    32.41,2,     2.18,2,    0.060,2,    0.027,2, -999.000,9,-999.0000,9,  -999.00,9,   -999.0,9,   -999.0,9,     7.89,2,  3.2460
 3230CITHER2_1,  A17C,    92,  1,     21,     21,2,19940204,1824,-23.0668, -32.8243, 4783,   1400.7,   3.4590,  34.7380,2,  34.7300,2,    198.0,2,    198.2,2,    41.60,2,    28.99,2,     1.94,2,    0.030,2,    0.012,2, -999.000,9,-999.0000,9,  -999.00,9,   -999.0,9,   -999.0,9,     7.93,2,  3.3540
 3230CITHER2_1,  A17C,    92,  1,     20,     20,2,19940204,1824,-23.0668, -32.8243, 4783,   1600.6,   3.6930,  34.8860,2,  34.8930,2,    223.8,2,    224.7,2,    28.10,2,    23.73,2,     1.59,2,    0.043,2,    0.028,2, -999.000,9,-999.0000,9,  -999.00,9,   -999.0,9,   -999.0,9,     7.98,2,  3.5670
 3230CITHER2_1,  A17C,    92,  1,     19,     19,2,19940204,1824,-23.0668, -32.8243, 4783,   1800.1,   3.6930,  34.9460,2,  34.9500,2,    242.1,2,    243.5,2,    22.20,2,    21.33,2,     1.41,2,    0.051,2,    0.024,2, -999.000,9,-999.0000,9,  -999.00,9,   -999.0,9,   -999.0,9,     8.01,2,  3.5490
 3230CITHER2_1,  A17C,    92,  1,     18,     18,2,19940204,1824,-23.0668, -32.8243, 4783,   1999.4,   3.5320,  34.9590,2,  34.9610,2,    249.2,2,    249.3,2,    21.70,2,    20.70,2,     1.34,2,    0.049,2,    0.026,2, -999.000,9,-999.0000,9,  -999.00,9,   -999.0,9,   -999.0,9,     8.02,2,  3.3720
 3230CITHER2_1,  A17C,    92,  1,     16,     16,2,19940204,1824,-23.0668, -32.8243, 4783,   2199.3,   3.3550,  34.9540,2,  34.9550,2,    250.7,2,    251.1,2,    23.80,2,    20.67,2,     1.34,2,    0.040,2,    0.024,2, -999.000,9,-999.0000,9,  -999.00,9,   -999.0,9,   -999.0,9,     8.03,2,  3.1780
 3230CITHER2_1,  A17C,    92,  1,     15,     15,2,19940204,1824,-23.0668, -32.8243, 4783,   2399.7,   3.1720,  34.9440,2,  34.9360,2,    251.5,2,    251.7,2,    26.20,2,    20.75,2,     1.36,2,    0.029,2,    0.021,2, -999.000,9,-999.0000,9,  -999.00,9,   -999.0,9,   -999.0,9,     8.03,2,  2.9790
 3230CITHER2_1,  A17C,    92,  1,     14,     14,2,19940204,1824,-23.0668, -32.8243, 4783,   2599.2,   3.0360,  34.9380,2,  34.9380,2,    251.2,2,    251.6,2,    28.60,2,    21.03,2,     1.37,2,    0.023,2,    0.024,2, -999.000,9,-999.0000,9,  -999.00,9,   -999.0,9,   -999.0,9,     8.03,2,  2.8260
 3230CITHER2_1,  A17C,    92,  1,     13,     13,2,19940204,1824,-23.0668, -32.8243, 4783,   2799.4,   2.9150,  34.9300,2,  34.9310,2,    251.3,2,    251.1,2,    30.90,2,    21.35,2,     1.39,2,    0.017,2,    0.020,2, -999.000,9,-999.0000,9,  -999.00,9,   -999.0,9,   -999.0,9,     8.03,2,  2.6870
 3230CITHER2_1,  A17C,    92,  1,     12,     12,2,19940204,1824,-23.0668, -32.8243, 4783,   2997.7,   2.8120,  34.9250,2,  34.9250,2,    252.0,2,    251.7,2,    32.20,2,    21.31,2,     1.39,2,    0.011,2,    0.016,2, -999.000,9,-999.0000,9,  -999.00,9,   -999.0,9,   -999.0,9,     8.03,2,  2.5660
 3230CITHER2_1,  A17C,    92,  1,     11,     11,2,19940204,1824,-23.0668, -32.8243, 4783,   3198.4,   2.7280,  34.9210,2,  34.9230,2,    253.0,2,    252.5,2,    33.40,2,    21.14,2,     1.39,2,    0.029,2,    0.015,2, -999.000,9,-999.0000,9,  -999.00,9,   -999.0,9,   -999.0,9,     8.03,2,  2.4620
 3230CITHER2_1,  A17C,    92,  1,     10,     10,2,19940204,1824,-23.0668, -32.8243, 4783,   3398.7,   2.6280,  34.9130,2,  34.9160,2,    254.2,2,    253.9,2,    35.10,2,    21.34,2,     1.39,2,    0.027,2,    0.012,2, -999.000,9,-999.0000,9,  -999.00,9,   -999.0,9,   -999.0,9,     8.04,2,  2.3430
 3230CITHER2_1,  A17C,    92,  1,      9,      9,2,19940204,1824,-23.0668, -32.8243, 4783,   3598.3,   2.4700,  34.8980,2,  34.9010,2,    253.5,2,    252.7,2,    39.50,2,    21.78,2,     1.44,2,    0.022,2,    0.012,2, -999.000,9,-999.0000,9,  -999.00,9,   -999.0,9,   -999.0,9,     8.03,2,  2.1680
 3230CITHER2_1,  A17C,    92,  1,      8,      8,2,19940204,1824,-23.0668, -32.8243, 4783,   3798.5,   2.1670,  34.8680,2,  34.8690,2,    249.3,2,    248.4,2,    51.30,2,    23.33,2,     1.54,2,    0.017,2,    0.009,2, -999.000,9,-999.0000,9,  -999.00,9,   -999.0,9,   -999.0,9,     8.01,2,  1.8510
 3230CITHER2_1,  A17C,    92,  1,      7,      7,2,19940204,1824,-23.0668, -32.8243, 4783,   3999.2,   1.7790,  34.8280,2,  34.8290,2,    241.7,2,    241.2,2,    67.80,2,    25.42,2,     1.71,2,    0.020,2,    0.009,2, -999.000,9,-999.0000,9,  -999.00,9,   -999.0,9,   -999.0,9,     7.99,2,  1.4510
 3230CITHER2_1,  A17C,    92,  1,      6,      6,2,19940204,1824,-23.0668, -32.8243, 4783,   4199.2,   1.4220,  34.7870,2,  34.7910,2,    235.1,2,    234.5,2,    83.80,2,    27.59,2,     1.86,2,    0.020,2,    0.008,2, -999.000,9,-999.0000,9,  -999.00,9,   -999.0,9,   -999.0,9,     7.97,2,  1.0830
 3230CITHER2_1,  A17C,    92,  1,      5,      5,2,19940204,1824,-23.0668, -32.8243, 4783,   4398.9,   1.1250,  34.7570,2,  34.7560,2,    230.0,2,    229.7,2,    96.30,2,    29.50,2,     1.98,2,    0.024,2,    0.009,2, -999.000,9,-999.0000,9,  -999.00,9,   -999.0,9,   -999.0,9,     7.95,2,  0.7730
 3230CITHER2_1,  A17C,    92,  1,      4,      4,2,19940204,1824,-23.0668, -32.8243, 4783,   4597.6,   0.7930,  34.7210,2,  34.7230,2,    225.4,2,    225.2,2,   109.20,2,    31.01,2,     2.09,2,    0.035,2,    0.011,2, -999.000,9,-999.0000,9,  -999.00,9,   -999.0,9,   -999.0,9,     7.93,2,  0.4290
 3230CITHER2_1,  A17C,    92,  1,      3,      3,2,19940204,1824,-23.0668, -32.8243, 4783,   4699.4,   0.5400,  34.6980,2,  34.6980,2,    221.8,2,    222.4,2,   118.30,2,    32.36,2,     2.20,2,    0.084,2,    0.043,2, -999.000,9,-999.0000,9,  -999.00,9,   -999.0,9,   -999.0,9,     7.91,2,  0.1730
 3230CITHER2_1,  A17C,    92,  1,      2,      2,2,19940204,1824,-23.0668, -32.8243, 4783,   4799.3,   0.3210,  34.6770,2,  34.6800,2,    220.0,2,    221.0,2,   125.10,2,    33.22,2,     2.26,2,    0.123,2,    0.055,2, -999.000,9,-999.0000,9,  -999.00,9,   -999.0,9,   -999.0,9,     7.91,2, -0.0500
 3230CITHER2_1,  A17C,    92,  1,      1,      1,2,19940204,1824,-23.0668, -32.8243, 4783,   4841.9,   0.3130,  34.6760,2,  34.6780,2,    219.5,2,    221.2,2,   124.70,2,    33.16,2,     2.26,2,    0.113,2,    0.048,2, -999.000,9,-999.0000,9,  -999.00,9,   -999.0,9,   -999.0,9,     7.89,2, -0.0630
 3230CITHER2_1,  A17C,    93,  1,     32,     32,2,19940205,0014,-22.6805, -32.4822, 4598,      5.4,  28.1380,  36.9210,2,  36.9520,2,    195.6,2,    198.3,2,     1.20,2,     0.04,2,     0.07,2,    1.789,2,    1.046,2, -999.000,9,-999.0000,9,  -999.00,9,   2062.8,2,   2434.4,2,     8.38,2, 28.1370
 3230CITHER2_1,  A17C,    93,  1,     31,     31,2,19940205,0014,-22.6805, -32.4822, 4598,     21.1,  27.8110,  36.9100,2,  36.9130,2,    204.1,2,    200.5,2,     1.10,2,     0.04,2,     0.06,2,    1.815,2,    1.060,2, -999.000,9,-999.0000,9,  -999.00,9,   2060.7,2,   2429.7,2,     8.38,2, 27.8060
 3230CITHER2_1,  A17C,    93,  1,     30,     30,2,19940205,0014,-22.6805, -32.4822, 4598,     61.4,  23.1420,  36.6850,2,  36.6870,2,    225.5,2,    228.0,2,     1.20,2,     0.04,2,     0.10,2,    2.201,2,    1.258,2, -999.000,9,-999.0000,9,  -999.00,9,   2063.3,2,   2416.4,2,     8.36,2, 23.1290
 3230CITHER2_1,  A17C,    93,  1,     29,     29,2,19940205,0014,-22.6805, -32.4822, 4598,    101.5,  21.7770,  36.5490,2,  36.5520,2,    219.8,2,    221.0,2,     1.10,2,     0.04,2,     0.12,2,    2.249,2,    1.273,2, -999.000,9,-999.0000,9,  -999.00,9,   2067.0,2,   2408.0,2,     8.34,2, 21.7570
 3230CITHER2_1,  A17C,    93,  1,     28,     28,2,19940205,0014,-22.6805, -32.4822, 4598,    200.5,  17.3760,  35.8250,2,  35.8070,2,    200.4,2,    200.7,2,     2.10,2,     3.55,2,     0.40,2,    2.437,2,    1.333,2, -999.000,9,-999.0000,9,  -999.00,9,   2093.1,2,   2362.4,2,     8.23,2, 17.3420
 3230CITHER2_1,  A17C,    93,  1,     27,     27,2,19940205,0014,-22.6805, -32.4822, 4598,    301.2,  14.2590,  35.3270,2,  35.3200,2,    196.6,2,    197.8,2,     3.60,2,     9.18,2,     0.71,2,    2.386,2,    1.272,2, -999.000,9,-999.0000,9,  -999.00,9,   2104.9,2,   2328.4,2,     8.17,2, 14.2150
 3230CITHER2_1,  A17C,    93,  1,     26,     26,2,19940205,0014,-22.6805, -32.4822, 4598,    401.7,  11.6730,  35.0000,2,  34.9980,2,    188.1,2,    187.1,2,     6.50,2,    15.93,2,     1.12,2,    1.946,2,    1.042,2, -999.000,9,-999.0000,9,  -999.00,9,   2130.7,2,   2316.2,2,     8.08,2, 11.6210
 3230CITHER2_1,  A17C,    93,  1,     25,     25,2,19940205,0014,-22.6805, -32.4822, 4598,    500.7,   9.3840,  34.7500,2,  34.7480,2,    180.9,2,    179.8,2,    10.80,2,    21.55,2,     1.50,2,    1.476,2,    0.792,2, -999.000,9,-999.0000,9,  -999.00,9,   2154.2,2,   2306.9,2,     8.01,2,  9.3270
 3230CITHER2_1,  A17C,    93,  1,     24,     24,2,19940205,0014,-22.6805, -32.4822, 4598,    600.7,   7.2560,  34.5360,2,  34.5350,2,    191.3,2,    191.3,2,    15.00,2,    25.58,2,     1.75,2,    1.225,2,    0.665,2, -999.000,9,-999.0000,9,  -999.00,9,   2166.9,2,   2303.7,2,     7.96,2,  7.1970
 3230CITHER2_1,  A17C,    93,  1,     23,     23,2,19940205,0014,-22.6805, -32.4822, 4598,    755.6,   4.8490,  34.3630,2,  34.3620,2,    202.6,2,    203.4,2,    24.60,2,    29.64,2,     2.04,2,    0.828,2,    0.466,2, -999.000,9,-999.0000,9,  -999.00,9,   2185.2,2,   2304.8,2,     7.92,2,  4.7880
 3230CITHER2_1,  A17C,    93,  1,     22,     22,2,19940205,0014,-22.6805, -32.4822, 4598,    850.2,   4.3080,  34.4060,2,  34.4070,2,    183.5,2,    182.6,2,    32.40,2,    32.38,2,     2.20,2,    0.209,2,    0.124,2, -999.000,9,-999.0000,9,  -999.00,9,   2206.6,2,   2311.2,2,     7.88,2,  4.2430
 3230CITHER2_1,  A17C,    93,  1,     21,     21,2,19940205,0014,-22.6805, -32.4822, 4598,   1000.8,   3.5940,  34.4650,2,  34.4690,2,    185.3,2,    184.1,2,    41.80,2,    32.79,2,     2.22,2,    0.104,2,    0.051,2, -999.000,9,-999.0000,9,  -999.00,9,   2217.8,2,   2323.6,2,     7.88,2,  3.5210
 3230CITHER2_1,  A17C,    93,  1,     19,     19,2,19940205,0014,-22.6805, -32.4822, 4598,   1199.5,   3.5910,  34.6180,2,  34.6180,2,    187.5,2,    187.7,2,    40.40,2,    30.56,2,     2.07,2,    0.044,2,    0.022,2, -999.000,9,-999.0000,9,  -999.00,9,   2212.1,2,   2328.4,2,     7.90,2,  3.5020
 3230CITHER2_1,  A17C,    93,  1,     20,     20,2,19940205,0014,-22.6805, -32.4822, 4598,   1199.5,   3.5910,  34.6190,2,  34.6180,2,    187.5,2,    187.7,2,    40.40,2,    30.56,2,     2.07,2,    0.044,2,    0.022,2, -999.000,9,-999.0000,9,  -999.00,9,   -999.0,5,   2328.4,2,     7.90,2,  3.5020
 3230CITHER2_1,  A17C,    93,  1,     18,     18,2,19940205,0014,-22.6805, -32.4822, 4598,   1399.6,   3.4900,  34.7420,2,  34.7440,2,    198.6,2,    199.4,2,    39.60,2,    28.07,2,     1.89,2,    0.030,2,    0.020,2, -999.000,9,-999.0000,9,  -999.00,9,   2209.0,2,   2333.6,2,     7.92,2,  3.3850
 3230CITHER2_1,  A17C,    93,  1,     17,     17,2,19940205,0014,-22.6805, -32.4822, 4598,   1600.1,   3.7560,  34.8930,2,  34.8960,2,    225.9,2,    224.7,2,    27.10,2,    23.18,2,     1.56,2,    0.043,2,    0.027,2, -999.000,9,-999.0000,9,  -999.00,9,   2184.3,2,   2331.1,2,     7.98,2,  3.6300
 3230CITHER2_1,  A17C,    93,  1,     16,     16,2,19940205,0014,-22.6805, -32.4822, 4598,   1800.1,   3.6620,  34.9500,2,  34.9520,2,    242.8,2,    242.9,2,    21.80,2,    20.85,2,     1.37,2,    0.048,2,    0.021,2, -999.000,9,-999.0000,9,  -999.00,9,   2171.7,2,   2329.5,2,     8.01,2,  3.5180
 3230CITHER2_1,  A17C,    93,  1,     15,     15,2,19940205,0014,-22.6805, -32.4822, 4598,   1999.4,   3.5080,  34.9570,2,  34.9590,2,    249.7,2,    249.1,2,    21.60,2,    20.32,2,     1.32,2,    0.037,2,    0.021,2, -999.000,9,-999.0000,9,  -999.00,9,   2169.0,2,   2330.8,2,     8.02,2,  3.3480
 3230CITHER2_1,  A17C,    93,  1,     14,     14,2,19940205,0014,-22.6805, -32.4822, 4598,   2200.6,   3.3140,  34.9500,2,  34.9520,2,    252.7,2,    250.7,2,    23.70,2,    20.04,2,     1.32,2,    0.031,2,    0.015,2, -999.000,9,-999.0000,9,  -999.00,9,   -999.0,5,   2332.1,2,     8.02,2,  3.1380
 3230CITHER2_1,  A17C,    93,  1,     13,     13,2,19940205,0014,-22.6805, -32.4822, 4598,   2400.0,   3.1630,  34.9440,2,  34.9450,2,    252.6,2,    251.4,2,    25.70,2,    19.92,2,     1.33,2,    0.020,2,    0.019,2, -999.000,9,-999.0000,9,  -999.00,9,   2172.0,2,   2333.2,2,     8.02,2,  2.9700
 3230CITHER2_1,  A17C,    93,  1,     12,     12,2,19940205,0014,-22.6805, -32.4822, 4598,   2601.2,   3.0240,  34.9370,2,  34.9380,2,    252.4,2,    251.0,2,    28.40,2,    20.37,2,     1.35,2,    0.021,2,    0.013,2, -999.000,9,-999.0000,9,  -999.00,9,   2174.5,2,   2335.0,2,     8.02,2,  2.8140
 3230CITHER2_1,  A17C,    93,  1,     11,     11,2,19940205,0014,-22.6805, -32.4822, 4598,   2798.5,   2.9070,  34.9300,2,  34.9380,2,    252.2,2,    250.9,2,    30.60,2,    20.54,2,     1.35,2,    0.032,2,    0.015,2, -999.000,9,-999.0000,9,  -999.00,9,   2175.8,2,   2338.1,2,     8.02,2,  2.6790
 3230CITHER2_1,  A17C,    93,  1,     10,     10,2,19940205,0014,-22.6805, -32.4822, 4598,   3000.2,   2.8040,  34.9240,2,  34.9270,2,    252.7,2,    252.8,2,    32.10,2,    20.63,2,     1.36,2,    0.030,2,    0.020,2, -999.000,9,-999.0000,9,  -999.00,9,   2178.0,2,   2339.9,2,     8.02,2,  2.5580
 3230CITHER2_1,  A17C,    93,  1,      9,      9,2,19940205,0014,-22.6805, -32.4822, 4598,   3198.5,   2.7050,  34.9180,2,  34.9210,2,    253.8,2,    252.8,2,    33.80,2,    20.82,2,     1.36,2,    0.029,2,    0.016,2, -999.000,9,-999.0000,9,  -999.00,9,   2179.6,2,   2340.7,2,     8.02,2,  2.4400
 3230CITHER2_1,  A17C,    93,  1,      8,      8,2,19940205,0014,-22.6805, -32.4822, 4598,   3397.8,   2.5650,  34.9090,2,  34.9090,2,    254.5,2,    253.1,2,    36.40,2,    20.78,2,     1.38,2,    0.027,2,    0.012,2, -999.000,9,-999.0000,9,  -999.00,9,   2181.6,2,   2344.2,2,     8.01,2,  2.2820
 3230CITHER2_1,  A17C,    93,  1,      7,      7,2,19940205,0014,-22.6805, -32.4822, 4598,   3596.7,   2.3440,  34.8860,2,  34.8880,2,    252.6,2,    251.0,2,    43.80,2,    21.88,2,     1.45,2,    0.025,2,    0.012,2, -999.000,9,-999.0000,9,  -999.00,9,   2188.2,2,   2346.9,2,     8.00,2,  2.0450
 3230CITHER2_1,  A17C,    93,  1,      6,      6,2,19940205,0014,-22.6805, -32.4822, 4598,   3799.6,   1.9490,  34.8480,2,  34.8490,2,    246.1,2,    244.6,2,    60.00,2,    23.64,2,     1.60,2,    0.021,2,    0.011,2, -999.000,9,-999.0000,9,  -999.00,9,   2204.0,2,   2354.9,2,     7.98,2,  1.6390
 3230CITHER2_1,  A17C,    93,  1,      5,      5,2,19940205,0014,-22.6805, -32.4822, 4598,   3998.8,   1.5760,  34.8080,2,  34.8090,2,    238.9,2,    238.0,2,    76.70,2,    25.91,2,     1.75,2,    0.019,2,    0.008,2, -999.000,9,-999.0000,9,  -999.00,9,   2219.4,2,   2362.3,2,     7.96,2,  1.2540
 3230CITHER2_1,  A17C,    93,  1,      4,      4,2,19940205,0014,-22.6805, -32.4822, 4598,   4198.9,   1.2950,  34.7770,2,  34.7790,2,    233.4,2,    233.4,2,    88.80,2,    27.74,2,     1.86,2,    0.020,2,    0.008,2, -999.000,9,-999.0000,9,  -999.00,9,   2231.3,2,   2366.8,2,     7.94,2,  0.9600
 3230CITHER2_1,  A17C,    93,  1,      3,      3,2,19940205,0014,-22.6805, -32.4822, 4598,   4398.1,   0.9660,  34.7400,2,  34.7400,2,    228.4,2,    226.8,2,   103.80,2,    29.67,2,     2.01,2,    0.038,2,    0.026,2, -999.000,9,-999.0000,9,  -999.00,9,   2245.6,2,   2372.3,2,     7.92,2,  0.6190
 3230CITHER2_1,  A17C,    93,  1,      2,      2,2,19940205,0014,-22.6805, -32.4822, 4598,   4547.1,   0.4420,  34.6890,2,  34.6940,2,    221.7,2,    221.5,2,   122.20,2,    31.81,2,     2.17,2,    0.090,2,    0.059,2, -999.000,9,-999.0000,9,  -999.00,9,   2261.0,2,   2375.8,2,     7.89,2,  0.0950
 3230CITHER2_1,  A17C,    93,  1,      1,      1,2,19940205,0014,-22.6805, -32.4822, 4598,   4644.5,   0.3520,  34.6810,2,  34.6830,2,    220.0,2,    220.9,2,   124.80,2,    32.73,2,     2.21,2,    0.100,2,    0.058,2, -999.000,9,-999.0000,9,  -999.00,9,   2263.9,2,   2376.2,2,     7.89,2, -0.0030