BOTTLE,20030515WHPSIOSA
EXPOCODE,SECT_ID,STNNBR,CASTNO,SAMPNO,BTLNBR,BTLNBR_FLAG_W,DATE,TIME,LATITUDE,LONGITUDE,DEPTH,CTDPRS,CTDTMP,CTDSAL,CTDSAL_FLAG_W,SALNTY,SALNTY_FLAG_W,CTDOXY,CTDOXY_FLAG_W,OXYGEN,OXYGEN_FLAG_W,SILCAT,SILCAT_FLAG_W,NITRAT,NITRAT_FLAG_W,PHSPHT,PHSPHT_FLAG_W,CFC-11,CFC-11_FLAG_W,CFC-12,CFC-12_FLAG_W,TRITUM,TRITUM_FLAG_W,HELIUM,HELIUM_FLAG_W,DELHE3,DELHE3_FLAG_W,TCARBN,TCARBN_FLAG_W,ALKALI,ALKALI_FLAG_W,PH,PH_FLAG_W,THETA
,,,,,,,,,,,,DBAR,ITS-90,PSS-78,,PSS-78,,UMOL/KG,,UMOL/KG,,UMOL/KG,,UMOL/KG,,UMOL/KG,,PMOL/KG,,PMOL/KG,,TU,,NMOL/KG,,PERCNT,,UMOL/KG,,UMOL/KG,,,,DEG C
 3230CITHER2_2,  A17N,   152,  1,     32,     32,2,19940228,0446, -8.4677, -30.3237, 5366,      4.9,  27.6910,  36.6810,2,  36.6800,2,    197.4,2,    198.7,2,     1.10,2,     0.04,2,     0.10,2,    1.631,2,    0.956,2,    0.650,2,   1.7200,2,    -1.80,2,   2045.9,2,   -999.0,9,     8.39,2, 27.6900
 3230CITHER2_2,  A17N,   152,  1,     31,     31,2,19940228,0446, -8.4677, -30.3237, 5366,     61.3,  27.7060,  36.6830,2,  36.6820,2,    199.1,2,    198.4,2,     1.00,2,     0.04,2,     0.10,2,    1.640,2,    0.936,2,    0.640,2,   1.6800,2,    -0.77,2,   2045.2,2,   -999.0,9,     8.39,2, 27.6920
 3230CITHER2_2,  A17N,   152,  1,     30,     30,2,19940228,0446, -8.4677, -30.3237, 5366,    126.0,  23.5770,  36.8260,2,  36.7950,2,    207.3,2,    209.1,2,     1.00,2,     0.04,2,     0.19,2,    1.921,2,    1.075,2,    0.600,2,   1.7000,2,     1.20,2,   2086.1,2,   -999.0,9,     8.34,2, 23.5510
 3230CITHER2_2,  A17N,   152,  1,     29,     29,2,19940228,0446, -8.4677, -30.3237, 5366,    200.6,  14.1390,  35.4440,2,  35.4160,2,    112.1,2,    111.5,2,     7.40,2,    21.74,2,     1.45,2,    1.211,2,    0.649,2,    0.380,2,   1.7300,2,     0.42,2,   2184.5,2,   -999.0,9,     8.00,2, 14.1100
 3230CITHER2_2,  A17N,   152,  1,     28,     28,2,19940228,0446, -8.4677, -30.3237, 5366,    402.3,   7.7950,  34.6930,2,  34.6960,2,    104.9,2,    102.8,2,    17.90,2,    33.45,2,     2.17,2,    0.204,2,    0.116,2, -999.000,9,   1.7800,2,     0.28,2,   2223.0,2,   -999.0,9,     7.83,2,  7.7550
 3230CITHER2_2,  A17N,   152,  1,     27,     27,2,19940228,0446, -8.4677, -30.3237, 5366,    603.3,   5.9340,  34.5270,2,  34.5270,2,    128.3,2,    127.1,2,    23.90,2,    35.04,2,     2.34,2,    0.103,2,    0.062,2,    0.030,2,   1.7700,2,     0.42,2,   2223.7,2,   -999.0,9,     7.83,2,  5.8810
 3230CITHER2_2,  A17N,   152,  1,     26,     26,2,19940228,0446, -8.4677, -30.3237, 5366,    800.9,   4.6780,  34.4780,2,  34.4810,2,    144.2,2,    146.8,2,    31.00,2,    35.05,2,     2.40,2,    0.022,2,    0.015,2,    0.010,2,   1.7700,2,     0.76,2,   2226.9,2,   -999.0,9,     7.84,2,  4.6140
 3230CITHER2_2,  A17N,   152,  1,     25,     25,2,19940228,0446, -8.4677, -30.3237, 5366,   1000.9,   4.1120,  34.5670,2,  34.5670,2,    163.2,2,    162.1,2,    34.30,2,    33.75,2,     2.28,2,    0.008,2,    0.008,2,    0.020,2,   1.8000,2,     0.83,2,   2224.6,2,   -999.0,9,     7.86,2,  4.0350
 3230CITHER2_2,  A17N,   152,  1,     24,     24,2,19940228,0446, -8.4677, -30.3237, 5366,   1201.5,   4.1720,  34.7530,2,  34.7520,2,    181.4,2,    181.2,2,    29.20,2,    29.58,2,     1.99,2,    0.005,2,    0.001,2,    0.001,2,   1.7900,2,     1.06,2,   -999.0,9,   -999.0,9,     7.91,2,  4.0770
 3230CITHER2_2,  A17N,   152,  1,     23,     23,2,19940228,0446, -8.4677, -30.3237, 5366,   1401.5,   4.2240,  34.9080,2,  34.9090,2,    210.2,2,    212.3,2,    21.80,2,    24.31,2,     1.62,2,    0.013,2,    0.011,2,    0.020,2,   1.7900,2,     1.13,2,   -999.0,9,   -999.0,9,     7.97,2,  4.1100
 3230CITHER2_2,  A17N,   152,  1,     22,     22,2,19940228,0446, -8.4677, -30.3237, 5366,   1600.2,   3.9640,  34.9590,2,  34.9610,2,    233.2,2,    236.0,2,    19.40,2,    21.82,2,     1.42,2,    0.019,2,    0.010,2,    0.050,2,   1.8000,2,     1.35,2,   -999.0,9,   -999.0,9,     8.01,2,  3.8350
 3230CITHER2_2,  A17N,   152,  1,     21,     21,2,19940228,0446, -8.4677, -30.3237, 5366,   1701.4,   3.8030,  34.9600,2,  34.9630,2,    241.5,2,    240.3,2,    20.00,2,    21.37,2,     1.39,2,    0.013,2,    0.009,2,    0.040,2,   1.7900,2,     1.50,2,   -999.0,9,   -999.0,9,     8.01,2,  3.6670
 3230CITHER2_2,  A17N,   152,  1,     20,     20,2,19940228,0446, -8.4677, -30.3237, 5366,   1799.2,   3.6510,  34.9580,2,  34.9580,2,    243.0,2,    245.8,2,    21.30,2,    21.35,2,     1.37,2,    0.008,2,    0.006,2, -999.000,9,-999.0000,9,  -999.00,9,   -999.0,9,   -999.0,9,     8.02,2,  3.5080
 3230CITHER2_2,  A17N,   152,  1,     19,     19,2,19940228,0446, -8.4677, -30.3237, 5366,   1998.2,   3.4320,  34.9610,2,  34.9630,2,    250.6,2,    250.9,2,    21.90,2,    20.58,2,     1.32,2,    0.025,2,    0.016,2, -999.000,9,   1.7700,2,     2.24,2,   -999.0,9,   -999.0,9,     8.02,2,  3.2730
 3230CITHER2_2,  A17N,   152,  1,     18,     18,2,19940228,0446, -8.4677, -30.3237, 5366,   2200.4,   3.1040,  34.9330,2,  34.9310,2,    244.6,2,    243.6,2,    30.00,2,    21.82,2,     1.42,2,    0.004,2,    0.001,2, -999.000,9,-999.0000,9,  -999.00,9,   -999.0,9,   -999.0,9,     8.01,2,  2.9310
 3230CITHER2_2,  A17N,   152,  1,     17,     17,2,19940228,0446, -8.4677, -30.3237, 5366,   2200.7,   3.1040,  34.9330,2,-999.0000,5,    244.6,2,   -999.0,5,  -999.00,5,  -999.00,5,  -999.00,5,    0.006,2,    0.004,2, -999.000,9,-999.0000,9,  -999.00,9,   -999.0,9,   -999.0,9,  -999.00,5,  2.9310
 3230CITHER2_2,  A17N,   152,  1,     16,     16,2,19940228,0446, -8.4677, -30.3237, 5366,   2399.8,   3.0020,  34.9340,2,  34.9300,2,    250.4,2,    248.4,2,    29.80,2,    21.20,2,     1.39,2,    0.009,2,    0.008,2, -999.000,9,   1.7900,2,     2.52,2,   -999.0,9,   -999.0,9,     8.02,2,  2.8120
 3230CITHER2_2,  A17N,   152,  1,     15,     15,2,19940228,0446, -8.4677, -30.3237, 5366,   2701.4,   2.8180,  34.9230,2,  34.9230,2,    248.1,2,    248.1,2,    33.30,2,    21.43,2,     1.40,2,    0.005,2,    0.001,2, -999.000,9,-999.0000,9,  -999.00,9,   -999.0,9,   -999.0,9,     8.02,2,  2.6020
 3230CITHER2_2,  A17N,   152,  1,     14,     14,2,19940228,0446, -8.4677, -30.3237, 5366,   2999.8,   2.7290,  34.9230,2,  34.9210,2,    251.7,2,    252.5,2,    32.80,2,    21.51,2,     1.38,2,    0.011,2,    0.007,2, -999.000,9,   1.8000,2,     3.25,2,   -999.0,9,   -999.0,9,     8.02,2,  2.4840
 3230CITHER2_2,  A17N,   152,  1,     13,     13,2,19940228,0446, -8.4677, -30.3237, 5366,   3198.5,   2.6650,  34.9230,2,  34.9190,2,    255.6,2,    254.9,2,    32.00,2,    20.93,2,     1.35,2,    0.022,2,    0.012,2, -999.000,9,-999.0000,9,  -999.00,9,   -999.0,9,   -999.0,9,     8.02,2,  2.4010
 3230CITHER2_2,  A17N,   152,  1,     12,     12,2,19940228,0446, -8.4677, -30.3237, 5366,   3400.1,   2.5780,  34.9170,2,  34.9150,2,    256.0,2,    255.7,2,    33.30,2,    20.85,2,     1.36,2,    0.014,2,    0.008,2, -999.000,9,   1.8100,2,     2.60,2,   -999.0,9,   -999.0,9,     8.02,2,  2.2940
 3230CITHER2_2,  A17N,   152,  1,     11,     11,2,19940228,0446, -8.4677, -30.3237, 5366,   3599.5,   2.4520,  34.9050,2,  34.9030,2,    257.3,2,    256.3,2,    35.80,2,    21.05,2,     1.37,2,    0.017,2,    0.012,2, -999.000,9,-999.0000,9,  -999.00,9,   -999.0,9,   -999.0,9,     8.02,2,  2.1500
 3230CITHER2_2,  A17N,   152,  1,     10,     10,2,19940228,0446, -8.4677, -30.3237, 5366,   3798.8,   2.2410,  34.8850,2,  34.8850,2,    254.2,2,    253.0,2,    43.90,2,    22.29,2,     1.46,2,    0.012,2,    0.007,2, -999.000,9,   1.8200,2,     1.99,2,   -999.0,9,   -999.0,9,     8.01,2,  1.9230
 3230CITHER2_2,  A17N,   152,  1,      9,      9,2,19940228,0446, -8.4677, -30.3237, 5366,   3997.8,   1.9220,  34.8490,2,  34.8440,2,    247.4,2,    246.2,2,    58.60,2,    24.00,2,     1.59,2,    0.005,2,    0.007,2, -999.000,9,-999.0000,9,  -999.00,9,   -999.0,9,   -999.0,9,     7.99,2,  1.5900
 3230CITHER2_2,  A17N,   152,  1,      8,      8,2,19940228,0446, -8.4677, -30.3237, 5366,   4200.4,   1.4430,  34.7960,2,  34.7960,2,    236.9,2,    236.6,2,    80.70,2,    27.11,2,     1.82,2,    0.004,2,    0.002,2, -999.000,9,-999.0000,9,  -999.00,9,   -999.0,9,   -999.0,9,     7.97,2,  1.1030
 3230CITHER2_2,  A17N,   152,  1,      7,      7,2,19940228,0446, -8.4677, -30.3237, 5366,   4399.8,   1.0930,  34.7590,2,  34.7450,2,    230.1,2,    230.7,2,    95.40,2,    29.31,2,     1.97,2,    0.004,2,    0.004,2, -999.000,9,   1.8100,2,     3.46,2,   -999.0,9,   -999.0,9,     7.95,2,  0.7410
 3230CITHER2_2,  A17N,   152,  1,      6,      6,2,19940228,0446, -8.4677, -30.3237, 5366,   4599.0,   0.9470,  34.7410,2,  34.7400,2,    226.4,2,    227.4,2,   102.80,2,    30.19,2,     2.04,2,    0.004,2,    0.006,2, -999.000,9,-999.0000,9,  -999.00,9,   -999.0,9,   -999.0,9,     7.93,2,  0.5780
 3230CITHER2_2,  A17N,   152,  1,      5,      5,2,19940228,0446, -8.4677, -30.3237, 5366,   4799.1,   0.8350,  34.7260,2,  34.7260,2,    224.9,2,    225.9,2,   108.10,2,    30.59,2,     2.09,2,    0.009,2,    0.010,2, -999.000,9,   1.8100,2,     3.87,2,   -999.0,9,   -999.0,9,     7.92,2,  0.4470
 3230CITHER2_2,  A17N,   152,  1,      4,      4,2,19940228,0446, -8.4677, -30.3237, 5366,   4995.9,   0.7490,  34.7160,2,  34.7180,2,    223.4,2,    224.0,2,   112.20,2,    31.39,2,     2.14,2,    0.012,2,    0.006,2, -999.000,9,-999.0000,9,  -999.00,9,   -999.0,9,   -999.0,9,     7.92,2,  0.3410
 3230CITHER2_2,  A17N,   152,  1,      3,      3,2,19940228,0446, -8.4677, -30.3237, 5366,   5193.1,   0.6620,  34.7050,2,  34.7080,2,    222.5,2,    222.4,2,   116.40,2,    31.64,2,     2.18,2,    0.015,2,    0.010,2, -999.000,9,-999.0000,9,  -999.00,9,   -999.0,9,   -999.0,9,     7.91,2,  0.2330
 3230CITHER2_2,  A17N,   152,  1,      2,      2,2,19940228,0446, -8.4677, -30.3237, 5366,   5398.5,   0.6240,  34.6990,2,  34.7000,2,    221.8,2,    221.8,2,   118.40,2,    32.34,2,     2.20,2,    0.030,2,    0.019,2, -999.000,9,-999.0000,9,  -999.00,9,   -999.0,9,   -999.0,9,     7.90,2,  0.1720
 3230CITHER2_2,  A17N,   152,  1,      1,      1,2,19940228,0446, -8.4677, -30.3237, 5366,   5462.8,   0.6010,  34.6960,2,  34.6960,2,    221.2,2,    221.2,2,   120.00,2,    32.59,2,     2.21,2,    0.035,2,    0.021,2, -999.000,9,   1.8300,2,     4.15,2,   -999.0,9,   -999.0,9,     7.90,2,  0.1420
 3230CITHER2_2,  A17N,   153,  1,     32,     32,2,19940228,1058, -7.9725, -30.2975, 5388,      9.0,  27.9510,  36.5510,2,  36.5610,2,    193.9,2,    197.4,2,     1.00,2,     0.04,2,     0.10,2,    1.624,2,    0.932,2, -999.000,9,-999.0000,9,  -999.00,9,   -999.0,9,   -999.0,9,     8.39,2, 27.9490
 3230CITHER2_2,  A17N,   153,  1,     31,     31,2,19940228,1058, -7.9725, -30.2975, 5388,     51.2,  27.6680,  36.6170,2,  36.6190,2,    202.5,2,    199.1,2,     1.20,2,     0.04,2,     0.10,2,    1.664,2,    0.949,2, -999.000,9,-999.0000,9,  -999.00,9,   -999.0,9,   -999.0,9,     8.38,2, 27.6560
 3230CITHER2_2,  A17N,   153,  1,     30,     30,2,19940228,1058, -7.9725, -30.2975, 5388,    125.3,  24.1900,  36.8610,2,  36.8320,2,    205.3,2,    202.9,2,     1.20,2,     0.04,2,     0.17,2,    1.873,2,    1.051,2, -999.000,9,-999.0000,9,  -999.00,9,   -999.0,9,   -999.0,9,     8.35,2, 24.1630
 3230CITHER2_2,  A17N,   153,  1,     29,     29,2,19940228,1058, -7.9725, -30.2975, 5388,    201.1,  14.8950,  35.5600,2,  35.5560,2,    111.2,2,    112.8,2,     6.50,2,    19.66,2,     1.31,2,    1.326,2,    0.718,2, -999.000,9,-999.0000,9,  -999.00,9,   -999.0,9,   -999.0,9,     8.04,2, 14.8650
 3230CITHER2_2,  A17N,   153,  1,     28,     28,2,19940228,1058, -7.9725, -30.2975, 5388,    399.2,   7.6540,  34.6660,2,  34.6680,2,    117.7,2,    111.7,2,    18.30,2,    33.39,2,     2.12,2,    0.272,2,    0.144,2, -999.000,9,-999.0000,9,  -999.00,9,   -999.0,9,   -999.0,9,     7.85,2,  7.6140
 3230CITHER2_2,  A17N,   153,  1,     27,     27,2,19940228,1058, -7.9725, -30.2975, 5388,    599.5,   6.0820,  34.5390,2,  34.5400,2,    124.9,2,    122.9,2,    24.30,2,    35.71,2,     2.29,2,    0.099,2,    0.057,2, -999.000,9,-999.0000,9,  -999.00,9,   -999.0,9,   -999.0,9,     7.82,2,  6.0290
 3230CITHER2_2,  A17N,   153,  1,     26,     26,2,19940228,1058, -7.9725, -30.2975, 5388,    801.1,   4.6420,  34.4570,2,  34.4560,2,    160.8,2,    159.1,2,    31.40,2,    34.02,2,     2.25,2,    0.102,2,    0.064,2, -999.000,9,-999.0000,9,  -999.00,9,   -999.0,9,   -999.0,9,     7.86,2,  4.5790
 3230CITHER2_2,  A17N,   153,  1,     25,     25,2,19940228,1058, -7.9725, -30.2975, 5388,   1001.7,   4.0790,  34.5600,2,  34.5590,2,    164.4,2,    164.7,2,    35.50,2,    33.80,2,     2.24,2,    0.042,2,    0.068,2, -999.000,9,-999.0000,9,  -999.00,9,   -999.0,9,   -999.0,9,     7.87,2,  4.0020
 3230CITHER2_2,  A17N,   153,  1,     24,     24,2,19940228,1058, -7.9725, -30.2975, 5388,   1200.0,   4.1540,  34.7490,2,  34.7460,2,    182.5,2,    180.3,2,    30.20,2,    29.87,2,     1.99,2,    0.002,2,    0.002,2, -999.000,9,-999.0000,9,  -999.00,9,   -999.0,9,   -999.0,9,     7.91,2,  4.0600
 3230CITHER2_2,  A17N,   153,  1,     23,     23,2,19940228,1058, -7.9725, -30.2975, 5388,   1400.5,   4.2600,  34.9130,2,  34.9170,2,    211.9,2,    212.2,2,    22.40,2,    24.33,2,     1.64,2,    0.015,2,    0.015,2, -999.000,9,-999.0000,9,  -999.00,9,   -999.0,9,   -999.0,9,     7.97,2,  4.1460
 3230CITHER2_2,  A17N,   153,  1,     22,     22,2,19940228,1058, -7.9725, -30.2975, 5388,   1599.0,   3.9750,  34.9550,2,  34.9570,2,    231.9,2,    233.6,2,    20.40,2,    22.00,2,     1.45,2,    0.014,2,    0.011,2, -999.000,9,-999.0000,9,  -999.00,9,   -999.0,9,   -999.0,9,     8.00,2,  3.8460
 3230CITHER2_2,  A17N,   153,  1,     21,     21,2,19940228,1058, -7.9725, -30.2975, 5388,   1703.1,   3.7810,  34.9550,2,  34.9560,2,    237.1,2,    239.1,2,    21.70,2,    21.72,2,     1.43,2,    0.008,2,    0.007,2, -999.000,9,-999.0000,9,  -999.00,9,   -999.0,9,   -999.0,9,     8.01,2,  3.6450
 3230CITHER2_2,  A17N,   153,  1,     20,     20,2,19940228,1058, -7.9725, -30.2975, 5388,   1800.2,   3.6420,  34.9570,2,  34.9560,2,    241.5,2,    243.0,2,    22.20,2,    21.30,2,     1.40,2,    0.010,2,    0.005,2, -999.000,9,-999.0000,9,  -999.00,9,   -999.0,9,   -999.0,9,     8.01,2,  3.4990
 3230CITHER2_2,  A17N,   153,  1,     19,     19,2,19940228,1058, -7.9725, -30.2975, 5388,   1999.5,   3.3190,  34.9400,2,  34.9380,2,    240.5,2,    242.3,2,    27.70,2,    21.80,2,     1.43,2,    0.003,2,    0.007,2, -999.000,9,-999.0000,9,  -999.00,9,   -999.0,9,   -999.0,9,     8.01,2,  3.1620
 3230CITHER2_2,  A17N,   153,  1,     18,     18,2,19940228,1058, -7.9725, -30.2975, 5388,   2201.2,   3.0900,  34.9320,2,  34.9310,2,    241.7,2,    244.1,2,    30.90,2,    21.84,2,     1.44,2,    0.002,2,    0.003,2, -999.000,9,-999.0000,9,  -999.00,9,   -999.0,9,   -999.0,9,     8.01,2,  2.9170
 3230CITHER2_2,  A17N,   153,  1,     16,     16,2,19940228,1058, -7.9725, -30.2975, 5388,   2402.9,   2.9240,  34.9220,2,  34.9230,2,    241.8,2,    243.1,2,    34.50,2,    22.31,2,     1.46,2,    0.005,2,    0.000,2, -999.000,9,-999.0000,9,  -999.00,9,   -999.0,9,   -999.0,9,     8.01,2,  2.7350
 3230CITHER2_2,  A17N,   153,  1,     15,     15,2,19940228,1058, -7.9725, -30.2975, 5388,   2700.7,   2.7880,  34.9190,2,  34.9190,2,    243.3,2,    245.2,2,    36.20,2,    22.27,2,     1.45,2,    0.000,2,    0.001,2, -999.000,9,-999.0000,9,  -999.00,9,   -999.0,9,   -999.0,9,     8.02,2,  2.5720
 3230CITHER2_2,  A17N,   153,  1,     14,     14,2,19940228,1058, -7.9725, -30.2975, 5388,   2999.4,   2.7060,  34.9200,2,  34.9190,2,    248.7,2,    250.7,2,    35.00,2,    21.42,2,     1.42,2,    0.005,2,    0.005,2, -999.000,9,-999.0000,9,  -999.00,9,   -999.0,9,   -999.0,9,     8.02,2,  2.4620
 3230CITHER2_2,  A17N,   153,  1,     13,     13,2,19940228,1058, -7.9725, -30.2975, 5388,   3200.0,   2.6540,  34.9200,2,  34.9190,2,    252.5,2,    253.4,2,    33.80,2,    21.07,2,     1.38,2,    0.008,2,    0.007,2, -999.000,9,-999.0000,9,  -999.00,9,   -999.0,9,   -999.0,9,     8.02,2,  2.3900
 3230CITHER2_2,  A17N,   153,  1,     12,     12,2,19940228,1058, -7.9725, -30.2975, 5388,   3400.4,   2.5790,  34.9160,2,  34.9140,2,    254.3,2,    255.2,2,    34.60,2,    20.99,2,     1.38,2,    0.007,2,    0.006,2, -999.000,9,-999.0000,9,  -999.00,9,   -999.0,9,   -999.0,9,     8.03,2,  2.2950
 3230CITHER2_2,  A17N,   153,  1,     11,     11,2,19940228,1058, -7.9725, -30.2975, 5388,   3600.3,   2.4760,  34.9080,2,  34.9070,2,    256.9,2,    257.4,2,    35.30,2,    20.83,2,     1.38,2,    0.022,2,    0.016,2, -999.000,9,-999.0000,9,  -999.00,9,   -999.0,9,   -999.0,9,     8.02,2,  2.1730
 3230CITHER2_2,  A17N,   153,  1,     10,     10,2,19940228,1058, -7.9725, -30.2975, 5388,   3798.1,   2.2970,  34.8890,2,  34.8900,2,    255.7,2,    254.5,2,    42.00,2,    21.69,2,     1.44,2,    0.012,2,    0.015,2, -999.000,9,-999.0000,9,  -999.00,9,   -999.0,9,   -999.0,9,     8.02,2,  1.9770
 3230CITHER2_2,  A17N,   153,  1,      9,      9,2,19940228,1058, -7.9725, -30.2975, 5388,   3998.3,   1.9300,  34.8500,2,  34.8490,2,    249.3,2,    246.9,2,    58.70,2,    23.80,2,     1.60,2,    0.003,2,    0.006,2, -999.000,9,-999.0000,9,  -999.00,9,   -999.0,9,   -999.0,9,     7.99,2,  1.5980
 3230CITHER2_2,  A17N,   153,  1,      8,      8,2,19940228,1058, -7.9725, -30.2975, 5388,   4198.8,   1.3970,  34.7930,2,  34.7920,2,    237.7,2,    236.1,2,    83.40,2,    27.34,2,     1.84,2,    0.003,2,    0.003,2, -999.000,9,-999.0000,9,  -999.00,9,   -999.0,9,   -999.0,9,     7.96,2,  1.0590
 3230CITHER2_2,  A17N,   153,  1,      7,      7,2,19940228,1058, -7.9725, -30.2975, 5388,   4399.4,   1.0950,  34.7580,2,  34.7590,2,    230.6,2,    230.8,2,    96.50,2,    29.14,2,     1.96,2,    0.003,2,    0.002,2, -999.000,9,-999.0000,9,  -999.00,9,   -999.0,9,   -999.0,9,     7.94,2,  0.7430
 3230CITHER2_2,  A17N,   153,  1,      6,      6,2,19940228,1058, -7.9725, -30.2975, 5388,   4600.6,   0.9320,  34.7400,2,  34.7400,2,    227.7,2,    229.4,2,   103.70,2,    30.43,2,     2.03,2,    0.005,2,    0.008,2, -999.000,9,-999.0000,9,  -999.00,9,   -999.0,9,   -999.0,9,     7.93,2,  0.5630
 3230CITHER2_2,  A17N,   153,  1,      5,      5,2,19940228,1058, -7.9725, -30.2975, 5388,   4797.5,   0.8560,  34.7300,2,  34.7290,2,    225.9,2,    225.6,2,   108.10,2,    30.73,2,     2.07,2,    0.005,2,    0.007,2, -999.000,9,-999.0000,9,  -999.00,9,   -999.0,9,   -999.0,9,     7.93,2,  0.4670
 3230CITHER2_2,  A17N,   153,  1,      4,      4,2,19940228,1058, -7.9725, -30.2975, 5388,   4999.0,   0.7830,  34.7190,2,  34.7230,2,    224.7,2,    224.0,2,   110.90,2,    31.23,2,     2.10,2,    0.011,2,    0.010,2, -999.000,9,-999.0000,9,  -999.00,9,   -999.0,9,   -999.0,9,     7.92,2,  0.3730
 3230CITHER2_2,  A17N,   153,  1,      3,      3,2,19940228,1058, -7.9725, -30.2975, 5388,   5197.8,   0.6920,  34.7070,2,  34.7100,2,    223.6,2,    223.0,2,   115.20,2,    31.83,2,     2.15,2,    0.025,2,    0.012,2, -999.000,9,-999.0000,9,  -999.00,9,   -999.0,9,   -999.0,9,     7.91,2,  0.2620
 3230CITHER2_2,  A17N,   153,  1,      2,      2,2,19940228,1058, -7.9725, -30.2975, 5388,   5396.4,   0.6390,  34.7010,2,  34.7030,2,    223.1,2,    222.3,2,   117.60,2,    32.18,2,     2.17,2,    0.022,2,    0.012,2, -999.000,9,-999.0000,9,  -999.00,9,   -999.0,9,   -999.0,9,     7.91,2,  0.1870
 3230CITHER2_2,  A17N,   153,  1,      1,      1,2,19940228,1058, -7.9725, -30.2975, 5388,   5494.5,   0.6230,  34.6980,2,  34.6970,2,    222.8,2,    221.1,2,   119.50,2,    32.33,2,     2.18,2,    0.031,2,    0.017,2, -999.000,9,-999.0000,9,  -999.00,9,   -999.0,9,   -999.0,9,     7.91,2,  0.1590