BOTTLE,20030515WHPSIOSA
EXPOCODE,SECT_ID,STNNBR,CASTNO,SAMPNO,BTLNBR,BTLNBR_FLAG_W,DATE,TIME,LATITUDE,LONGITUDE,DEPTH,CTDPRS,CTDTMP,CTDSAL,CTDSAL_FLAG_W,SALNTY,SALNTY_FLAG_W,CTDOXY,CTDOXY_FLAG_W,OXYGEN,OXYGEN_FLAG_W,SILCAT,SILCAT_FLAG_W,NITRAT,NITRAT_FLAG_W,PHSPHT,PHSPHT_FLAG_W,CFC-11,CFC-11_FLAG_W,CFC-12,CFC-12_FLAG_W,TRITUM,TRITUM_FLAG_W,HELIUM,HELIUM_FLAG_W,DELHE3,DELHE3_FLAG_W,TCARBN,TCARBN_FLAG_W,ALKALI,ALKALI_FLAG_W,PH,PH_FLAG_W,THETA
,,,,,,,,,,,,DBAR,ITS-90,PSS-78,,PSS-78,,UMOL/KG,,UMOL/KG,,UMOL/KG,,UMOL/KG,,UMOL/KG,,PMOL/KG,,PMOL/KG,,TU,,NMOL/KG,,PERCNT,,UMOL/KG,,UMOL/KG,,,,DEG C
 3230CITHER2_1,  A17C,    45,  1,     18,     18,2,19940122,2143,-32.6097, -49.7763, 1505,      4.1,  23.5190,  36.0400,2,  36.0380,2,    213.3,2,    215.3,2,     1.90,2,     0.04,2,     0.04,2,    2.109,2,    1.185,2,    1.122,2,   1.6500,2,    -0.74,2,   2036.6,2,   2385.0,2,     8.37,2, 23.5180
 3230CITHER2_1,  A17C,    45,  1,     17,     17,2,19940122,2143,-32.6097, -49.7763, 1505,     29.2,  23.3100,  36.0540,2,  36.0430,2,    216.2,2,    218.0,2,     1.90,2,     0.04,2,     0.04,2,    2.146,2,    1.194,2,    1.121,2,   1.6500,2,    -1.02,2,   2036.4,2,   2381.3,2,     8.36,2, 23.3040
 3230CITHER2_1,  A17C,    45,  1,     16,     16,2,19940122,2143,-32.6097, -49.7763, 1505,     76.8,  20.5140,  36.2780,2,  36.2980,2,    227.8,2,    228.5,2,     1.50,2,     0.04,2,     0.07,2,    2.367,2,    1.302,2,    0.973,2,   1.7000,2,    -1.28,2,   2058.9,2,   2391.2,2,     8.33,2, 20.4990
 3230CITHER2_1,  A17C,    45,  1,     15,     15,2,19940122,2143,-32.6097, -49.7763, 1505,    102.5,  19.2390,  36.1870,2,  36.1930,2,    226.3,2,    217.8,2,     1.60,2,     0.28,2,     0.12,2,    2.423,2,    1.330,2,    0.923,2,   1.7200,2,    -1.41,2,   2067.1,2,   2385.1,2,     8.30,2, 19.2200
 3230CITHER2_1,  A17C,    45,  1,     14,     14,2,19940122,2143,-32.6097, -49.7763, 1505,    153.8,  17.8330,  36.0560,2,  36.0500,2,    211.3,2,    215.5,2,     1.60,2,     1.77,2,     0.21,2,    2.527,2,    1.385,2,    0.959,2,   1.7200,2,    -0.75,2,   2078.7,2,   2376.2,2,     8.28,2, 17.8070
 3230CITHER2_1,  A17C,    45,  1,     13,     13,2,19940122,2143,-32.6097, -49.7763, 1505,    200.5,  17.4180,  36.0300,2,  36.0180,2,    215.9,2,    213.7,2,     1.70,2,     2.66,2,     0.27,2,    2.541,2,    1.381,2,    0.952,2,   1.7200,2,    -1.52,2,   2083.2,2,   2374.3,2,     8.27,2, 17.3840
 3230CITHER2_1,  A17C,    45,  1,     12,     12,2,19940122,2143,-32.6097, -49.7763, 1505,    250.7,  16.2690,  35.7700,2,  35.7720,2,    211.3,2,    207.8,2,     2.20,2,     4.72,2,     0.40,2,    2.525,2,    1.343,2,    1.030,2,   1.7300,2,     0.46,2,   2089.6,2,   2360.1,2,     8.24,2, 16.2290
 3230CITHER2_1,  A17C,    45,  1,     11,     11,2,19940122,2143,-32.6097, -49.7763, 1505,    301.4,  15.6090,  35.6970,2,  35.7050,2,    208.3,2,    213.8,2,     2.30,2,     5.28,2,     0.44,2,    2.618,2,    1.400,2,    0.983,2,   1.7300,2,     1.30,2,   2092.0,2,   2357.0,2,     8.23,2, 15.5620
 3230CITHER2_1,  A17C,    45,  1,     10,     10,2,19940122,2143,-32.6097, -49.7763, 1505,    400.4,  14.0950,  35.4440,2,  35.4440,2,    211.7,2,    212.7,2,     2.90,2,     8.35,2,     0.63,2,    2.575,2,    1.347,2,    0.904,2,   1.6900,2,    -0.08,2,   2103.6,2,   2345.3,2,     8.18,2, 14.0360
 3230CITHER2_1,  A17C,    45,  1,      9,      9,2,19940122,2143,-32.6097, -49.7763, 1505,    500.8,  12.0680,  35.0980,2,  35.0920,2,    206.9,2,    205.8,2,     4.60,2,    13.18,2,     0.94,2,    2.307,2,    1.198,2, -999.000,9,   1.7700,2,     0.34,2,   2116.6,2,   2326.4,2,     8.12,2, 12.0020
 3230CITHER2_1,  A17C,    45,  1,      8,      8,2,19940122,2143,-32.6097, -49.7763, 1505,    599.3,   9.7310,  34.7860,2,  34.7860,2,    202.4,2,    201.9,2,     8.10,2,    19.07,2,     1.32,2,    1.896,2,    0.981,2,    0.543,2,   1.7700,2,     0.21,2,   2138.1,2,   2311.6,2,     8.05,2,  9.6610
 3230CITHER2_1,  A17C,    45,  1,      7,      7,2,19940122,2143,-32.6097, -49.7763, 1505,    699.4,   6.5530,  34.4480,2,  34.4530,2,    214.8,2,    217.8,2,    14.10,2,    25.02,2,     1.72,2,    1.841,2,    0.936,2, -999.000,9,   1.7700,2,     1.05,2,   -999.0,5,   2299.6,2,     7.98,2,  6.4880
 3230CITHER2_1,  A17C,    45,  1,      6,      6,2,19940122,2143,-32.6097, -49.7763, 1505,    820.3,   4.8020,  34.2840,2,  34.2870,2,    236.5,2,    241.3,2,    17.80,2,    27.15,2,     1.87,2,    2.230,2,    1.121,2,    0.351,2,   1.8000,2,     1.33,2,   2160.6,2,   2299.1,2,     7.96,2,  4.7360
 3230CITHER2_1,  A17C,    45,  1,      5,      5,2,19940122,2143,-32.6097, -49.7763, 1505,    999.8,   3.8170,  34.2970,2,  34.2950,2,    221.7,2,    223.6,2,    30.00,2,    30.64,2,     2.10,2,    1.133,2,    0.589,2, -999.000,9,-999.0000,9,  -999.00,9,   -999.0,5,   2306.4,2,     7.92,2,  3.7430
 3230CITHER2_1,  A17C,    45,  1,      4,      4,2,19940122,2143,-32.6097, -49.7763, 1505,   1001.0,   3.8180,  34.2990,2,  34.2990,2,    221.7,2,    223.5,2,    30.10,2,    30.70,2,     2.10,2,    1.131,2,    0.589,2,    0.163,2,   1.8000,2,     3.18,2,   2186.1,2,   2306.4,2,     7.92,2,  3.7440
 3230CITHER2_1,  A17C,    45,  1,      3,      3,2,19940122,2143,-32.6097, -49.7763, 1505,   1200.8,   3.3520,  34.3930,2,  34.3940,2,    199.5,2,    200.1,2,    43.30,2,    32.37,2,     2.23,2,    0.392,2,    0.219,2, -999.000,9,   1.8100,2,     2.34,2,   2210.5,2,   2320.7,2,     7.88,2,  3.2660
 3230CITHER2_1,  A17C,    45,  1,      2,      2,2,19940122,2143,-32.6097, -49.7763, 1505,   1400.7,   3.2000,  34.5210,2,  34.5280,2,    187.7,2,    189.4,2,    49.70,2,    32.11,2,     2.21,2,    0.101,2,    0.068,2, -999.000,9,   1.8000,2,     4.27,2,   2222.6,2,   2332.0,2,     7.87,2,  3.0980
 3230CITHER2_1,  A17C,    45,  1,      1,      1,2,19940122,2143,-32.6097, -49.7763, 1505,   1486.4,   3.2100,  34.5750,2,  34.5750,2,    187.2,2,    189.1,2,    49.10,2,    31.49,2,     2.16,2,    0.065,2,    0.046,2,    0.160,2,   1.8100,2,     4.31,2,   2221.9,2,   2333.3,2,     7.88,2,  3.1010
 3230CITHER2_1,  A17C,    46,  1,     19,     19,2,19940123,0107,-32.8068, -49.4513, 1748,      4.1,  23.3980,  36.0420,2,  36.0390,2,    218.5,2,    215.9,2,     1.50,2,     0.28,2,     0.05,2,    2.124,2,    1.200,2, -999.000,9,-999.0000,9,  -999.00,9,   2034.4,2,   2382.0,2,     8.35,2, 23.3970
 3230CITHER2_1,  A17C,    46,  1,     18,     18,2,19940123,0107,-32.8068, -49.4513, 1748,     49.5,  23.4860,  36.4180,2,  36.4090,2,    218.6,2,    216.2,2,     1.20,2,     0.12,2,     0.04,2,    2.074,2,    1.173,2, -999.000,9,-999.0000,9,  -999.00,9,   2045.4,2,   2401.5,2,     8.36,2, 23.4760
 3230CITHER2_1,  A17C,    46,  1,     17,     17,2,19940123,0107,-32.8068, -49.4513, 1748,     75.8,  20.5310,  36.2710,2,  36.2610,2,    231.2,2,    228.7,2,     1.20,2,     0.04,2,     0.06,2,    2.370,2,    1.298,2, -999.000,9,-999.0000,9,  -999.00,9,   2054.9,2,   2390.7,2,     8.33,2, 20.5170
 3230CITHER2_1,  A17C,    46,  1,     16,     16,2,19940123,0107,-32.8068, -49.4513, 1748,    102.0,  19.3840,  36.2250,2,  36.2270,2,    219.9,2,    215.7,2,     1.10,2,     0.12,2,     0.13,2,    2.392,2,    1.318,2, -999.000,9,-999.0000,9,  -999.00,9,   2069.8,2,   2387.9,2,     8.30,2, 19.3650
 3230CITHER2_1,  A17C,    46,  1,     15,     15,2,19940123,0107,-32.8068, -49.4513, 1748,    152.7,  17.8850,  36.0470,2,  36.0450,2,    211.6,2,    217.4,2,     1.10,2,     1.57,2,     0.19,2,    2.574,2,    1.396,2, -999.000,9,-999.0000,9,  -999.00,9,   2074.0,2,   2374.9,2,     8.28,2, 17.8590
 3230CITHER2_1,  A17C,    46,  1,     14,     14,2,19940123,0107,-32.8068, -49.4513, 1748,    202.6,  17.9670,  36.1990,2,  36.1970,2,    214.2,2,    214.8,2,     1.20,2,     2.45,2,     0.24,2,    2.518,2,    1.369,2, -999.000,9,-999.0000,9,  -999.00,9,   2082.9,2,   2384.9,2,     8.28,2, 17.9320
 3230CITHER2_1,  A17C,    46,  1,     13,     13,2,19940123,0107,-32.8068, -49.4513, 1748,    252.5,  17.4480,  36.0840,2,  36.0730,2,    217.3,2,    213.5,2,     1.40,2,     3.17,2,     0.30,2,    2.539,2,    1.383,2, -999.000,9,-999.0000,9,  -999.00,9,   2083.2,2,   2379.9,2,     8.26,2, 17.4050
 3230CITHER2_1,  A17C,    46,  1,     12,     12,2,19940123,0107,-32.8068, -49.4513, 1748,    301.4,  15.9640,  35.7800,2,  35.7770,2,    211.8,2,    213.7,2,     1.80,2,     5.02,2,     0.42,2,    2.589,2,    1.399,2, -999.000,9,-999.0000,9,  -999.00,9,   2089.9,2,   2361.2,2,     8.23,2, 15.9160
 3230CITHER2_1,  A17C,    46,  1,     11,     11,2,19940123,0107,-32.8068, -49.4513, 1748,    401.3,  14.5230,  35.5200,2,  35.5070,2,    213.0,2,    211.6,2,     2.40,2,     7.67,2,     0.58,2,    2.550,2,    1.352,2, -999.000,9,-999.0000,9,  -999.00,9,   2098.0,2,   2347.4,2,     8.19,2, 14.4630
 3230CITHER2_1,  A17C,    46,  1,     10,     10,2,19940123,0107,-32.8068, -49.4513, 1748,    499.7,  12.4430,  35.1570,2,  35.1440,2,    207.0,2,    205.4,2,     4.00,2,    12.65,2,     0.89,2,    2.347,2,    1.214,2, -999.000,9,-999.0000,9,  -999.00,9,   2113.6,2,   2326.9,2,     8.12,2, 12.3750
 3230CITHER2_1,  A17C,    46,  1,      9,      9,2,19940123,0107,-32.8068, -49.4513, 1748,    599.7,   9.8620,  34.7910,2,  34.7860,2,    205.9,2,    206.3,2,     6.80,2,    18.32,2,     1.26,2,    2.171,2,    1.123,2, -999.000,9,-999.0000,9,  -999.00,9,   2131.5,2,   2311.0,2,     8.05,2,  9.7920
 3230CITHER2_1,  A17C,    46,  1,      8,      8,2,19940123,0107,-32.8068, -49.4513, 1748,    700.8,   7.1520,  34.4820,2,  34.4780,2,    215.8,2,    219.1,2,    11.20,2,    23.58,2,     1.63,2,    2.167,2,    1.100,2, -999.000,9,-999.0000,9,  -999.00,9,   2147.9,2,   2299.2,2,     7.99,2,  7.0840
 3230CITHER2_1,  A17C,    46,  1,      7,      7,2,19940123,0107,-32.8068, -49.4513, 1748,    849.6,   4.8540,  34.2660,2,  34.2760,2,    250.0,2,    249.9,2,    15.20,2,    26.49,2,     1.81,2,    2.867,2,    1.420,2, -999.000,9,-999.0000,9,  -999.00,9,   2152.9,2,   2297.4,2,     7.97,2,  4.7850
 3230CITHER2_1,  A17C,    46,  1,      6,      6,2,19940123,0107,-32.8068, -49.4513, 1748,   1000.1,   4.0970,  34.2850,2,  34.2800,2,    232.5,2,    231.3,2,    25.00,2,    29.68,2,     2.03,2,    1.592,2,    0.806,2, -999.000,9,-999.0000,9,  -999.00,9,   2173.6,2,   2304.1,2,     7.93,2,  4.0210
 3230CITHER2_1,  A17C,    46,  1,      5,      5,2,19940123,0107,-32.8068, -49.4513, 1748,   1002.3,   4.0880,  34.2820,2,  34.2810,2,    232.6,2,    231.4,2,    25.00,2,    29.74,2,     2.03,2,    1.595,2,    0.821,2, -999.000,9,-999.0000,9,  -999.00,9,   -999.0,5,   2304.1,2,     7.93,2,  4.0120
 3230CITHER2_1,  A17C,    46,  1,      4,      4,2,19940123,0107,-32.8068, -49.4513, 1748,   1201.9,   3.4320,  34.3330,2,  34.3310,2,    210.1,2,    212.9,2,    37.00,2,    32.13,2,     2.17,2,    0.786,2,    0.425,2, -999.000,9,-999.0000,9,  -999.00,9,   -999.0,5,   2314.9,2,     7.89,2,  3.3450
 3230CITHER2_1,  A17C,    46,  1,      3,      3,2,19940123,0107,-32.8068, -49.4513, 1748,   1402.2,   3.2060,  34.4850,2,  34.4830,2,    189.5,2,    190.9,2,    49.20,2,    32.89,2,     2.23,2,    0.158,2,    0.105,2, -999.000,9,-999.0000,9,  -999.00,9,   -999.0,5,   2328.3,2,     7.87,2,  3.1040
 3230CITHER2_1,  A17C,    46,  1,      2,      2,2,19940123,0107,-32.8068, -49.4513, 1748,   1601.4,   3.4070,  34.6780,2,  34.6650,2,    188.3,2,    193.4,2,    46.00,2,    30.35,2,     2.04,2,    0.029,2,    0.029,2, -999.000,9,-999.0000,9,  -999.00,9,   -999.0,5,   2334.8,2,     7.89,2,  3.2850
 3230CITHER2_1,  A17C,    46,  1,      1,      1,2,19940123,0107,-32.8068, -49.4513, 1748,   1735.2,   3.6040,  34.8010,2,  34.8000,2,    201.2,2,    207.8,2,    36.40,2,    27.06,2,     1.79,2,    0.016,2,    0.024,2, -999.000,9,-999.0000,9,  -999.00,9,   -999.0,5,   2334.7,2,     7.93,2,  3.4680
 3230CITHER2_1,  A17C,    47,  1,     23,     23,2,19940123,0452,-33.0102, -49.1332, 2570,      2.3,  23.5330,  36.0820,2,  36.0840,2,    219.8,2,    214.8,2,     1.30,2,     0.04,2,     0.04,2,    2.107,2,    1.180,2, -999.000,9,-999.0000,9,  -999.00,9,   2039.3,2,   2384.7,2,     8.35,2, 23.5330
 3230CITHER2_1,  A17C,    47,  1,     22,     22,2,19940123,0452,-33.0102, -49.1332, 2570,     50.1,  22.4790,  35.9460,2,  35.9490,2,    225.1,2,    223.5,2,     1.30,2,     0.04,2,     0.03,2,    2.236,2,    1.257,2, -999.000,9,-999.0000,9,  -999.00,9,   2035.7,2,   2376.0,2,     8.34,2, 22.4690
 3230CITHER2_1,  A17C,    47,  1,     21,     21,2,19940123,0452,-33.0102, -49.1332, 2570,     75.8,  21.7690,  36.5290,2,  36.5580,2,    228.4,2,    224.0,2,     1.10,2,     0.04,2,     0.04,2,    2.246,2,    1.257,2, -999.000,9,-999.0000,9,  -999.00,9,   2060.0,2,   2408.8,2,     8.34,2, 21.7540
 3230CITHER2_1,  A17C,    47,  1,     20,     20,2,19940123,0452,-33.0102, -49.1332, 2570,    101.4,  20.8520,  36.4870,2,  36.5300,2,    219.4,2,    215.6,2,     1.10,2,     0.04,2,     0.08,2,    2.293,2,    1.275,2, -999.000,9,-999.0000,9,  -999.00,9,   2069.9,2,   2405.0,2,     8.33,2, 20.8330
 3230CITHER2_1,  A17C,    47,  1,     19,     19,2,19940123,0452,-33.0102, -49.1332, 2570,    151.8,  18.2450,  35.9850,2,  36.0350,2,    215.6,2,    211.8,2,     1.50,2,     1.85,2,     0.24,2,    2.487,2,    1.385,2, -999.000,9,-999.0000,9,  -999.00,9,   2080.9,2,   2377.8,2,     8.27,2, 18.2190
 3230CITHER2_1,  A17C,    47,  1,     18,     18,2,19940123,0452,-33.0102, -49.1332, 2570,    203.1,  17.4260,  35.9770,2,  35.9640,2,    210.7,2,    209.0,2,     1.80,2,     3.09,2,     0.31,2,    2.516,2,    1.338,2, -999.000,9,-999.0000,9,  -999.00,9,   2087.1,2,   2371.8,2,     8.25,2, 17.3920
 3230CITHER2_1,  A17C,    47,  1,     17,     17,2,19940123,0452,-33.0102, -49.1332, 2570,    251.2,  17.5830,  36.1090,2,  36.1060,2,    218.7,2,    214.0,2,     1.60,2,     2.89,2,     0.28,2,    2.546,2,    1.403,2, -999.000,9,-999.0000,9,  -999.00,9,   2085.3,2,   2381.2,2,     8.27,2, 17.5400
 3230CITHER2_1,  A17C,    47,  1,     16,     16,2,19940123,0452,-33.0102, -49.1332, 2570,    299.3,  16.2410,  35.8320,2,  35.8240,2,    217.2,2,    212.5,2,     2.00,2,     4.70,2,     0.40,2,    2.610,2,    1.430,2, -999.000,9,-999.0000,9,  -999.00,9,   2091.3,2,   2363.9,2,     8.23,2, 16.1930
 3230CITHER2_1,  A17C,    47,  1,     15,     15,2,19940123,0452,-33.0102, -49.1332, 2570,    404.8,  14.5930,  35.5350,2,  35.5350,2,    217.6,2,    212.7,2,     2.50,2,     7.44,2,     0.57,2,    2.591,2,    1.374,2, -999.000,9,-999.0000,9,  -999.00,9,   2098.8,2,   2348.9,2,     8.20,2, 14.5320
 3230CITHER2_1,  A17C,    47,  1,     14,     14,2,19940123,0452,-33.0102, -49.1332, 2570,    502.8,  12.5230,  35.1810,2,  35.1710,2,    214.7,2,    208.6,2,     4.00,2,    12.18,2,     0.86,2,    2.423,2,    1.268,2, -999.000,9,-999.0000,9,  -999.00,9,   2112.1,2,   2330.6,2,     8.14,2, 12.4550
 3230CITHER2_1,  A17C,    47,  1,     13,     13,2,19940123,0452,-33.0102, -49.1332, 2570,    598.3,  10.0460,  34.8120,2,  34.8030,2,    210.2,2,    206.9,2,     6.70,2,    17.97,2,     1.24,2,    2.229,2,    1.157,2, -999.000,9,-999.0000,9,  -999.00,9,   2130.3,2,   2313.1,2,     8.06,2,  9.9750
 3230CITHER2_1,  A17C,    47,  1,     12,     12,2,19940123,0452,-33.0102, -49.1332, 2570,    698.4,   7.4290,  34.4930,2,  34.4950,2,    220.4,2,    221.7,2,    10.00,2,    22.96,2,     1.57,2,    2.475,2,    1.238,2, -999.000,9,-999.0000,9,  -999.00,9,   2143.9,2,   2301.4,2,     8.00,2,  7.3600
 3230CITHER2_1,  A17C,    47,  1,     11,     11,2,19940123,0452,-33.0102, -49.1332, 2570,    851.6,   5.0290,  34.2780,2,  34.2790,2,    247.1,2,    247.8,2,    14.70,2,    26.46,2,     1.81,2,    2.849,2,    1.444,2, -999.000,9,-999.0000,9,  -999.00,9,   2153.5,2,   2296.9,2,     7.97,2,  4.9590
 3230CITHER2_1,  A17C,    47,  1,     10,     10,2,19940123,0452,-33.0102, -49.1332, 2570,   1000.5,   4.1940,  34.2640,2,  34.2650,2,    243.0,2,    240.8,2,    22.10,2,    29.00,2,     1.97,2,    2.124,2,    1.065,2, -999.000,9,-999.0000,9,  -999.00,9,   2168.3,2,   2302.4,2,     7.94,2,  4.1170
 3230CITHER2_1,  A17C,    47,  1,      9,      9,2,19940123,0452,-33.0102, -49.1332, 2570,   1199.3,   3.4650,  34.3170,2,  34.3180,2,    221.2,2,    217.0,2,    35.50,2,    31.95,2,     2.17,2,    0.994,2,    0.520,2, -999.000,9,-999.0000,9,  -999.00,9,   2196.0,2,   2313.7,2,     7.90,2,  3.3780
 3230CITHER2_1,  A17C,    47,  1,      8,      8,2,19940123,0452,-33.0102, -49.1332, 2570,   1399.2,   3.1290,  34.4340,2,  34.4340,2,    198.6,2,    195.3,2,    47.90,2,    32.97,2,     2.25,2,    0.332,2,    0.196,2, -999.000,9,-999.0000,9,  -999.00,9,   2218.4,2,   2328.2,2,     7.88,2,  3.0280
 3230CITHER2_1,  A17C,    47,  1,      6,      6,2,19940123,0452,-33.0102, -49.1332, 2570,   1598.8,   3.1860,  34.5890,2,  34.5900,2,    191.3,2,    189.6,2,    50.10,2,    31.73,2,     2.15,2,    0.071,2,    0.066,2, -999.000,9,-999.0000,9,  -999.00,9,   2222.3,2,   2335.0,2,     7.88,2,  3.0680
 3230CITHER2_1,  A17C,    47,  1,      7,      7,2,19940123,0452,-33.0102, -49.1332, 2570,   1599.3,   3.1850,  34.5900,2,  34.5960,2,    191.3,2,    189.5,2,    50.30,2,    32.36,2,     2.15,2,    0.075,2,    0.059,2, -999.000,9,-999.0000,9,  -999.00,9,   -999.0,5,   2335.0,2,     7.88,2,  3.0670
 3230CITHER2_1,  A17C,    47,  1,      5,      5,2,19940123,0452,-33.0102, -49.1332, 2570,   1800.1,   3.5470,  34.7610,2,  34.7620,2,    202.9,2,    202.0,2,    39.60,2,    28.70,2,     1.88,2,    0.016,2,    0.021,2, -999.000,9,-999.0000,9,  -999.00,9,   2206.1,2,   2333.3,2,     7.91,2,  3.4060
 3230CITHER2_1,  A17C,    47,  1,      4,      4,2,19940123,0452,-33.0102, -49.1332, 2570,   2002.3,   3.7760,  34.8870,2,  34.8890,2,    224.6,2,    223.1,2,    28.60,2,    23.93,2,     1.59,2,    0.014,2,    0.029,2, -999.000,9,-999.0000,9,  -999.00,9,   2186.1,2,   2331.1,2,     7.96,2,  3.6120
 3230CITHER2_1,  A17C,    47,  1,      3,      3,2,19940123,0452,-33.0102, -49.1332, 2570,   2200.2,   3.6930,  34.9410,2,  34.9420,2,    242.6,2,    239.8,2,    23.90,2,    21.60,2,     1.42,2,    0.023,2,    0.039,2, -999.000,9,-999.0000,9,  -999.00,9,   2174.4,2,   2330.0,2,     7.99,2,  3.5110
 3230CITHER2_1,  A17C,    47,  1,      2,      2,2,19940123,0452,-33.0102, -49.1332, 2570,   2399.4,   3.1790,  34.9400,2,  34.9420,2,    251.1,2,    249.5,2,    28.10,2,    21.44,2,     1.38,2,    0.015,2,    0.022,2, -999.000,9,-999.0000,9,  -999.00,9,   2174.1,2,   2334.6,2,     8.01,2,  2.9860
 3230CITHER2_1,  A17C,    47,  1,      1,      1,2,19940123,0452,-33.0102, -49.1332, 2570,   2579.3,   2.6220,  34.8820,2,  34.8810,2,    235.6,2,    235.4,2,    48.00,2,    23.69,2,     1.57,2,    0.017,2,    0.032,2, -999.000,9,-999.0000,9,  -999.00,9,   2197.7,2,   2345.6,2,     7.97,2,  2.4220