BOTTLE,20030515WHPSIOSA
EXPOCODE,SECT_ID,STNNBR,CASTNO,SAMPNO,BTLNBR,BTLNBR_FLAG_W,DATE,TIME,LATITUDE,LONGITUDE,DEPTH,CTDPRS,CTDTMP,CTDSAL,CTDSAL_FLAG_W,SALNTY,SALNTY_FLAG_W,CTDOXY,CTDOXY_FLAG_W,OXYGEN,OXYGEN_FLAG_W,SILCAT,SILCAT_FLAG_W,NITRAT,NITRAT_FLAG_W,PHSPHT,PHSPHT_FLAG_W,CFC-11,CFC-11_FLAG_W,CFC-12,CFC-12_FLAG_W,TRITUM,TRITUM_FLAG_W,HELIUM,HELIUM_FLAG_W,DELHE3,DELHE3_FLAG_W,TCARBN,TCARBN_FLAG_W,ALKALI,ALKALI_FLAG_W,PH,PH_FLAG_W,THETA
,,,,,,,,,,,,DBAR,ITS-90,PSS-78,,PSS-78,,UMOL/KG,,UMOL/KG,,UMOL/KG,,UMOL/KG,,UMOL/KG,,PMOL/KG,,PMOL/KG,,TU,,NMOL/KG,,PERCNT,,UMOL/KG,,UMOL/KG,,,,DEG C
 3230CITHER2_1,  A17C,   102,  1,     32,     32,2,19940207,0438,-19.6648, -30.9260, 4548,      3.9,  27.6990,  37.4520,2,  37.4560,2,    190.1,2,    198.5,2,     1.20,2,     0.13,2,     0.12,2, -999.000,5, -999.000,5, -999.000,9,-999.0000,9,  -999.00,9,   2090.2,2,   2467.1,2,     8.38,2, 27.6980
 3230CITHER2_1,  A17C,   102,  1,     31,     31,2,19940207,0438,-19.6648, -30.9260, 4548,     34.8,  27.7050,  37.4520,2,  37.4500,2,    204.7,2,    198.9,2,     1.10,2,     0.13,2,     0.12,2, -999.000,5, -999.000,5, -999.000,9,-999.0000,9,  -999.00,9,   2077.9,2,   2466.7,2,     8.38,2, 27.6970
 3230CITHER2_1,  A17C,   102,  1,     30,     30,2,19940207,0438,-19.6648, -30.9260, 4548,    125.6,  23.3800,  36.9570,2,  36.9390,2,    212.5,2,    214.0,2,     1.20,2,     0.13,2,     0.14,2, -999.000,5, -999.000,5, -999.000,9,-999.0000,9,  -999.00,9,   2082.2,2,   2436.3,2,     8.35,2, 23.3540
 3230CITHER2_1,  A17C,   102,  1,     29,     29,2,19940207,0438,-19.6648, -30.9260, 4548,    201.0,  19.6010,  36.2250,2,  36.2040,2,    204.8,2,    207.3,2,     1.60,2,     0.64,2,     0.25,2, -999.000,5, -999.000,5, -999.000,9,-999.0000,9,  -999.00,9,   2090.4,2,   2390.4,2,     8.28,2, 19.5640
 3230CITHER2_1,  A17C,   102,  1,     28,     28,2,19940207,0438,-19.6648, -30.9260, 4548,    300.7,  14.7570,  35.4140,2,  35.4030,2,    190.8,2,    192.5,2,     3.70,2,     9.11,2,     0.70,2, -999.000,5, -999.000,5, -999.000,9,-999.0000,9,  -999.00,9,   2107.5,2,   2340.6,2,     8.16,2, 14.7120
 3230CITHER2_1,  A17C,   102,  1,     27,     27,2,19940207,0438,-19.6648, -30.9260, 4548,    400.8,  11.5180,  34.9900,2,  34.9890,2,    169.1,2,    172.0,2,     7.50,2,    18.26,2,     1.24,2, -999.000,5, -999.000,5, -999.000,9,-999.0000,9,  -999.00,9,   2142.6,2,   2319.7,2,     8.04,2, 11.4670
 3230CITHER2_1,  A17C,   102,  1,     26,     26,2,19940207,0438,-19.6648, -30.9260, 4548,    600.6,   6.5250,  34.5210,2,  34.5240,2,    164.1,2,    164.4,2,    20.00,2,    30.57,2,     1.99,2,    0.442,2,    0.253,2, -999.000,9,-999.0000,9,  -999.00,9,   -999.0,5,   2308.8,2,     7.91,2,  6.4700
 3230CITHER2_1,  A17C,   102,  1,     25,     25,2,19940207,0438,-19.6648, -30.9260, 4548,    801.0,   4.2620,  34.4000,2,  34.4090,2,    183.1,2,    185.1,2,    32.50,2,    32.89,2,     2.19,2,    0.231,2,    0.136,2, -999.000,9,-999.0000,9,  -999.00,9,   2203.6,2,   2314.5,2,     7.89,2,  4.2010
 3230CITHER2_1,  A17C,   102,  1,     24,     24,2,19940207,0438,-19.6648, -30.9260, 4548,   1000.5,   3.5740,  34.4930,2,  34.4890,2,    185.5,2,    185.7,2,    41.90,2,    32.99,2,     2.20,2,    0.065,2,    0.044,2, -999.000,9,-999.0000,9,  -999.00,9,   2216.0,2,   2325.9,2,     7.88,2,  3.5020
 3230CITHER2_1,  A17C,   102,  1,     23,     23,2,19940207,0438,-19.6648, -30.9260, 4548,   1200.7,   3.8080,  34.6900,2,  34.6970,2,    190.4,2,    190.5,2,    36.20,2,    30.25,2,     1.99,2,    0.014,2,    0.006,2, -999.000,9,-999.0000,9,  -999.00,9,   2208.8,2,   2329.3,2,     7.91,2,  3.7170
 3230CITHER2_1,  A17C,   102,  1,     22,     22,2,19940207,0438,-19.6648, -30.9260, 4548,   1400.8,   4.0500,  34.8830,2,  34.8830,2,    212.5,2,    213.9,2,    25.10,2,    24.69,2,     1.63,2,    0.024,2,    0.019,2, -999.000,9,-999.0000,9,  -999.00,9,   2188.7,2,   2329.5,2,     7.96,2,  3.9380
 3230CITHER2_1,  A17C,   102,  1,     21,     21,2,19940207,0438,-19.6648, -30.9260, 4548,   1499.6,   3.9710,  34.9220,2,  34.9250,2,    224.5,2,    225.4,2,    23.30,2,    23.18,2,     1.52,2,    0.031,2,    0.024,2, -999.000,9,-999.0000,9,  -999.00,9,   2181.6,2,   2330.3,2,     7.98,2,  3.8510
 3230CITHER2_1,  A17C,   102,  1,     20,     20,2,19940207,0438,-19.6648, -30.9260, 4548,   1600.6,   3.8960,  34.9510,2,  34.9500,2,    234.4,2,    236.0,2,    21.20,2,    21.99,2,     1.42,2,    0.036,2,    0.030,2, -999.000,9,-999.0000,9,  -999.00,9,   2174.8,2,   2329.7,2,     8.00,2,  3.7680
 3230CITHER2_1,  A17C,   102,  1,     19,     19,2,19940207,0438,-19.6648, -30.9260, 4548,   1699.7,   3.7810,  34.9590,2,  34.9600,2,    241.7,2,    242.5,2,    20.80,2,    21.14,2,     1.37,2,    0.040,2,    0.031,2, -999.000,9,-999.0000,9,  -999.00,9,   2171.5,2,   2331.3,2,     8.01,2,  3.6450
 3230CITHER2_1,  A17C,   102,  1,     18,     18,2,19940207,0438,-19.6648, -30.9260, 4548,   1800.1,   3.6520,  34.9590,2,  34.9620,2,    247.1,2,    246.6,2,    21.20,2,    20.98,2,     1.34,2,    0.037,2,    0.029,2, -999.000,9,-999.0000,9,  -999.00,9,   2169.9,2,   2331.5,2,     8.02,2,  3.5090
 3230CITHER2_1,  A17C,   102,  1,     17,     17,2,19940207,0438,-19.6648, -30.9260, 4548,   1999.5,   3.4860,  34.9620,2,  34.9620,2,    250.7,2,    251.2,2,    22.00,2,    20.47,2,     1.31,2,    0.033,2,    0.026,2, -999.000,9,-999.0000,9,  -999.00,9,   2167.6,2,   2332.3,2,     8.02,2,  3.3260
 3230CITHER2_1,  A17C,   102,  1,     16,     16,2,19940207,0438,-19.6648, -30.9260, 4548,   2199.0,   3.2860,  34.9540,2,  34.9520,2,    252.3,2,    252.6,2,    24.40,2,    20.55,2,     1.33,2,    0.024,2,    0.022,2, -999.000,9,-999.0000,9,  -999.00,9,   2169.4,2,   2336.4,2,     8.02,2,  3.1100
 3230CITHER2_1,  A17C,   102,  1,     15,     15,2,19940207,0438,-19.6648, -30.9260, 4548,   2399.4,   3.1310,  34.9450,2,  34.9440,2,    252.1,2,    251.9,2,    26.90,2,    20.89,2,     1.34,2,    0.016,2,    0.016,2, -999.000,9,-999.0000,9,  -999.00,9,   2173.2,2,   2337.3,2,     8.02,2,  2.9390
 3230CITHER2_1,  A17C,   102,  1,     14,     14,2,19940207,0438,-19.6648, -30.9260, 4548,   2599.0,   2.9770,  34.9290,2,  34.9300,2,    250.3,2,    249.1,2,    31.00,2,    21.44,2,     1.39,2,    0.006,2,    0.009,2, -999.000,9,-999.0000,9,  -999.00,9,   2177.2,2,   2341.1,2,     8.02,2,  2.7680
 3230CITHER2_1,  A17C,   102,  1,     13,     13,2,19940207,0438,-19.6648, -30.9260, 4548,   2798.9,   2.9030,  34.9300,2,  34.9290,2,    251.5,2,    251.3,2,    31.10,2,    21.44,2,     1.37,2,    0.010,2,    0.015,2, -999.000,9,-999.0000,9,  -999.00,9,   2176.7,2,   2340.4,2,     8.02,2,  2.6750
 3230CITHER2_1,  A17C,   102,  1,     12,     12,2,19940207,0438,-19.6648, -30.9260, 4548,   2999.6,   2.8060,  34.9260,2,  34.9240,2,    252.2,2,    251.8,2,    32.20,2,    21.31,2,     1.37,2,    0.013,2,    0.012,2, -999.000,9,-999.0000,9,  -999.00,9,   2177.7,2,   2343.1,2,     8.02,2,  2.5600
 3230CITHER2_1,  A17C,   102,  1,     11,     11,2,19940207,0438,-19.6648, -30.9260, 4548,   3199.9,   2.7170,  34.9200,2,  34.9220,2,    252.8,2,    252.1,2,    33.70,2,    21.31,2,     1.38,2,    0.013,2,    0.010,2, -999.000,9,-999.0000,9,  -999.00,9,   2180.1,2,   2343.8,2,     8.02,2,  2.4520
 3230CITHER2_1,  A17C,   102,  1,     10,     10,2,19940207,0438,-19.6648, -30.9260, 4548,   3399.9,   2.6210,  34.9160,2,  34.9170,2,    254.4,2,    254.8,2,    35.00,2,    21.23,2,     1.38,2,    0.020,2,    0.017,2, -999.000,9,-999.0000,9,  -999.00,9,   -999.0,5,   2344.4,2,     8.02,2,  2.3360
 3230CITHER2_1,  A17C,   102,  1,      9,      9,2,19940207,0438,-19.6648, -30.9260, 4548,   3598.8,   2.4610,  34.9000,2,  34.9010,2,    253.9,2,    253.0,2,    39.40,2,    21.91,2,     1.41,2,    0.011,2,    0.007,2, -999.000,9,-999.0000,9,  -999.00,9,   2183.5,2,   2346.8,2,     8.02,2,  2.1590
 3230CITHER2_1,  A17C,   102,  1,      8,      8,2,19940207,0438,-19.6648, -30.9260, 4548,   3799.4,   2.2130,  34.8750,2,  34.8740,2,    250.7,2,    249.2,2,    49.20,2,    22.97,2,     1.50,2,    0.005,2,    0.007,2, -999.000,9,-999.0000,9,  -999.00,9,   2192.0,2,   2351.5,2,     8.00,2,  1.8950
 3230CITHER2_1,  A17C,   102,  1,      7,      7,2,19940207,0438,-19.6648, -30.9260, 4548,   3897.9,   2.0490,  34.8580,2,  34.8570,2,    247.9,2,    247.0,2,    56.50,2,    23.77,2,     1.57,2,    0.007,2,    0.009,2, -999.000,9,-999.0000,9,  -999.00,9,   2199.4,2,   2354.4,2,     7.99,2,  1.7250
 3230CITHER2_1,  A17C,   102,  1,      6,      6,2,19940207,0438,-19.6648, -30.9260, 4548,   3997.7,   1.8000,  34.8320,2,  34.8040,2,    243.3,2,    241.7,2,    78.10,2,    26.77,2,     1.78,2,    0.006,2,    0.007,2, -999.000,9,-999.0000,9,  -999.00,9,   2209.9,2,   2360.3,2,     7.97,2,  1.4720
 3230CITHER2_1,  A17C,   102,  1,      5,      5,2,19940207,0438,-19.6648, -30.9260, 4548,   4098.6,   1.5600,  34.8070,2,  34.8040,2,    238.6,2,    237.5,2,    78.20,2,    26.72,2,     1.79,2,    0.007,2,    0.004,2, -999.000,9,-999.0000,9,  -999.00,9,   2218.5,2,   2364.6,2,     7.96,2,  1.2280
 3230CITHER2_1,  A17C,   102,  1,      4,      4,2,19940207,0438,-19.6648, -30.9260, 4548,   4199.3,   1.3480,  34.7830,2,  34.7820,2,    234.7,2,    233.6,2,    87.40,2,    28.25,2,     1.88,2,    0.007,2,    0.005,2, -999.000,9,-999.0000,9,  -999.00,9,   2228.8,2,   2366.9,2,     7.95,2,  1.0110
 3230CITHER2_1,  A17C,   102,  1,      3,      3,2,19940207,0438,-19.6648, -30.9260, 4548,   4397.7,   0.9380,  34.7370,2,  34.7370,2,    227.1,2,    226.5,2,   104.70,2,    30.20,2,     2.06,2,    0.027,2,    0.016,2, -999.000,9,-999.0000,9,  -999.00,9,   2243.9,2,   2372.5,2,     7.92,2,  0.5920
 3230CITHER2_1,  A17C,   102,  1,      2,      2,2,19940207,0438,-19.6648, -30.9260, 4548,   4498.8,   0.6550,  34.7110,2,  34.7100,2,    223.1,2,    223.3,2,   115.60,2,    31.94,2,     2.15,2,    0.056,2,    0.028,2, -999.000,9,-999.0000,9,  -999.00,9,   2254.2,2,   2383.1,3,     7.90,2,  0.3060
 3230CITHER2_1,  A17C,   102,  1,      1,      1,2,19940207,0438,-19.6648, -30.9260, 4548,   4602.5,   0.4130,  34.6890,2,  34.6820,2,    220.7,2,    221.5,2,   122.60,2,    32.78,2,     2.24,2,    0.089,2,    0.045,2, -999.000,9,-999.0000,9,  -999.00,9,   2262.0,2,   2377.5,2,     7.89,2,  0.0610
 3230CITHER2_1,  A17C,   103,  1,     32,     32,2,19940207,0930,-19.3343, -30.9093, 4530,      5.1,  27.7430,  37.4970,2,  37.5040,2,    190.3,2,    197.8,2,     1.10,2,     0.13,2,     0.14,2,    1.776,2,    1.047,2, -999.000,9,-999.0000,9,  -999.00,9,   2088.9,2,   -999.0,9,     8.39,2, 27.7420
 3230CITHER2_1,  A17C,   103,  1,     31,     31,2,19940207,0930,-19.3343, -30.9093, 4530,     41.0,  27.6790,  37.4960,2,  37.4830,2,    192.3,2,    198.2,2,     1.10,2,     0.13,2,     0.13,2,    1.777,2,    1.046,2, -999.000,9,-999.0000,9,  -999.00,9,   2089.0,2,   -999.0,9,     8.39,2, 27.6690
 3230CITHER2_1,  A17C,   103,  1,     30,     30,2,19940207,0930,-19.3343, -30.9093, 4530,    126.3,  23.3320,  36.9080,2,  36.9170,2,    215.0,2,    215.1,2,     1.10,2,     0.13,2,     0.16,2,    2.096,2,    1.191,2, -999.000,9,-999.0000,9,  -999.00,9,   2081.5,2,   -999.0,9,     8.36,2, 23.3060
 3230CITHER2_1,  A17C,   103,  1,     29,     29,2,19940207,0930,-19.3343, -30.9093, 4530,    200.6,  18.9360,  36.1170,2,  36.1110,2,    200.3,2,    201.0,2,     1.60,2,     1.66,2,     0.31,2,    2.429,2,    1.331,2, -999.000,9,-999.0000,9,  -999.00,9,   2094.4,2,   -999.0,9,     8.26,2, 18.9000
 3230CITHER2_1,  A17C,   103,  1,     28,     28,2,19940207,0930,-19.3343, -30.9093, 4530,    300.5,  14.1050,  35.3090,2,  35.3030,2,    189.2,2,    197.7,2,     4.00,2,    10.15,2,     0.77,2,    2.320,2,    1.236,2, -999.000,9,-999.0000,9,  -999.00,9,   2110.5,2,   -999.0,9,     8.16,2, 14.0610
 3230CITHER2_1,  A17C,   103,  1,     27,     27,2,19940207,0930,-19.3343, -30.9093, 4530,    451.6,  10.2340,  34.8550,2,  34.8530,2,    160.0,2,    161.7,2,     9.90,2,    21.63,2,     1.48,2,    1.312,2,    0.718,2, -999.000,9,-999.0000,9,  -999.00,9,   2161.5,2,   -999.0,9,     8.00,2, 10.1800
 3230CITHER2_1,  A17C,   103,  1,     26,     26,2,19940207,0930,-19.3343, -30.9093, 4530,    601.5,   6.7620,  34.5360,2,  34.5310,2,    169.7,2,    166.5,2,    18.70,2,    29.21,2,     1.96,2,    0.572,2,    0.320,2, -999.000,9,-999.0000,9,  -999.00,9,   2189.1,2,   -999.0,9,     7.92,2,  6.7060
 3230CITHER2_1,  A17C,   103,  1,     25,     25,2,19940207,0930,-19.3343, -30.9093, 4530,    801.0,   4.2030,  34.3940,2,  34.3950,2,    189.6,2,    190.1,2,    32.40,2,    31.97,2,     2.19,2,    0.309,2,    0.176,2, -999.000,9,-999.0000,9,  -999.00,9,   2203.8,2,   -999.0,9,     7.90,2,  4.1420
 3230CITHER2_1,  A17C,   103,  1,     24,     24,2,19940207,0930,-19.3343, -30.9093, 4530,    900.6,   3.7310,  34.4360,2,  34.4340,2,    187.5,2,    187.6,2,    38.90,2,    32.83,2,     2.22,2,    0.146,2,    0.084,2, -999.000,9,-999.0000,9,  -999.00,9,   2213.2,2,   -999.0,9,     7.89,2,  3.6660
 3230CITHER2_1,  A17C,   103,  1,     23,     23,2,19940207,0930,-19.3343, -30.9093, 4530,   1000.7,   3.5380,  34.5040,2,  34.5010,2,    185.4,2,    185.8,2,    42.10,2,    32.32,2,     2.19,2,    0.070,2,    0.039,2, -999.000,9,-999.0000,9,  -999.00,9,   2217.5,2,   -999.0,9,     7.89,2,  3.4660
 3230CITHER2_1,  A17C,   103,  1,     22,     22,2,19940207,0930,-19.3343, -30.9093, 4530,   1200.4,   3.6730,  34.6730,2,  34.6720,2,    189.8,2,    189.9,2,    38.40,2,    30.01,2,     2.02,2,    0.019,2,    0.007,2, -999.000,9,-999.0000,9,  -999.00,9,   -999.0,9,   -999.0,9,     7.91,2,  3.5830
 3230CITHER2_1,  A17C,   103,  1,     21,     21,2,19940207,0930,-19.3343, -30.9093, 4530,   1400.5,   3.8350,  34.8360,2,  34.8390,2,    209.1,2,    208.6,2,    30.10,2,    25.46,2,     1.73,2,    0.015,2,    0.008,2, -999.000,9,-999.0000,9,  -999.00,9,   -999.0,9,   -999.0,9,     7.96,2,  3.7260
 3230CITHER2_1,  A17C,   103,  1,     20,     20,2,19940207,0930,-19.3343, -30.9093, 4530,   1500.7,   3.8170,  34.8840,2,  34.8870,2,    220.2,2,    219.4,2,    27.20,2,    23.65,2,     1.60,2,    0.019,2,    0.020,2, -999.000,9,-999.0000,9,  -999.00,9,   -999.0,9,   -999.0,9,     7.97,2,  3.6990
 3230CITHER2_1,  A17C,   103,  1,     19,     19,2,19940207,0930,-19.3343, -30.9093, 4530,   1600.1,   3.7320,  34.9110,2,  34.9150,2,    229.4,2,    231.1,2,    25.70,2,    22.64,2,     1.52,2,    0.023,2,    0.018,2, -999.000,9,-999.0000,9,  -999.00,9,   -999.0,9,   -999.0,9,     7.99,2,  3.6060
 3230CITHER2_1,  A17C,   103,  1,     18,     18,2,19940207,0930,-19.3343, -30.9093, 4530,   1701.0,   3.6390,  34.9310,2,  34.9320,2,    237.1,2,    237.3,2,    24.30,2,    21.63,2,     1.45,2,    0.023,2,    0.020,2, -999.000,9,-999.0000,9,  -999.00,9,   -999.0,9,   -999.0,9,     8.00,2,  3.5050
 3230CITHER2_1,  A17C,   103,  1,     17,     17,2,19940207,0930,-19.3343, -30.9093, 4530,   1800.5,   3.5650,  34.9430,2,  34.9450,2,    243.1,2,    243.0,2,    23.30,2,    21.34,2,     1.39,2,    0.019,2,    0.011,2, -999.000,9,-999.0000,9,  -999.00,9,   -999.0,9,   -999.0,9,     8.01,2,  3.4230
 3230CITHER2_1,  A17C,   103,  1,     16,     16,2,19940207,0930,-19.3343, -30.9093, 4530,   1999.2,   3.3940,  34.9480,2,  34.9540,2,    248.3,2,    248.6,2,    23.80,2,    20.62,2,     1.35,2,    0.019,2,    0.015,2, -999.000,9,-999.0000,9,  -999.00,9,   -999.0,9,   -999.0,9,     8.02,2,  3.2360
 3230CITHER2_1,  A17C,   103,  1,     15,     15,2,19940207,0930,-19.3343, -30.9093, 4530,   2200.4,   3.2700,  34.9520,2,  34.9520,2,    251.7,2,    251.7,2,    24.40,2,    20.29,2,     1.33,2,    0.024,2,    0.015,2, -999.000,9,-999.0000,9,  -999.00,9,   -999.0,9,   -999.0,9,     8.02,2,  3.0940
 3230CITHER2_1,  A17C,   103,  1,     14,     14,2,19940207,0930,-19.3343, -30.9093, 4530,   2399.6,   3.1160,  34.9450,2,  34.9430,2,    251.4,2,    251.7,2,    26.90,2,    20.46,2,     1.34,2,    0.021,2,    0.012,2, -999.000,9,-999.0000,9,  -999.00,9,   -999.0,9,   -999.0,9,     8.02,2,  2.9240
 3230CITHER2_1,  A17C,   103,  1,     13,     13,2,19940207,0930,-19.3343, -30.9093, 4530,   2599.3,   2.9740,  34.9320,2,  34.9320,2,    250.6,2,    250.5,2,    29.70,2,    20.82,2,     1.37,2,    0.007,2,    0.010,2, -999.000,9,-999.0000,9,  -999.00,9,   -999.0,9,   -999.0,9,     8.02,2,  2.7650
 3230CITHER2_1,  A17C,   103,  1,     12,     12,2,19940207,0930,-19.3343, -30.9093, 4530,   2798.7,   2.8800,  34.9280,2,  34.9320,2,    250.6,2,    250.6,2,    31.40,2,    20.82,2,     1.38,2,    0.009,2,    0.012,2, -999.000,9,-999.0000,9,  -999.00,9,   -999.0,9,   -999.0,9,     8.02,2,  2.6530
 3230CITHER2_1,  A17C,   103,  1,     11,     11,2,19940207,0930,-19.3343, -30.9093, 4530,   2999.8,   2.8010,  34.9240,2,  34.9250,2,    250.8,2,    250.8,2,    32.70,2,    21.00,2,     1.39,2,    0.010,2,    0.013,2, -999.000,9,-999.0000,9,  -999.00,9,   -999.0,9,   -999.0,9,     8.02,2,  2.5550
 3230CITHER2_1,  A17C,   103,  1,     10,     10,2,19940207,0930,-19.3343, -30.9093, 4530,   3199.0,   2.7280,  34.9220,2,  34.9200,2,    253.2,2,    252.4,2,    33.20,2,    20.76,2,     1.38,2,    0.015,2,    0.010,2, -999.000,9,-999.0000,9,  -999.00,9,   -999.0,9,   -999.0,9,     8.02,2,  2.4620
 3230CITHER2_1,  A17C,   103,  1,      9,      9,2,19940207,0930,-19.3343, -30.9093, 4530,   3398.7,   2.6360,  34.9170,2,  34.9160,2,    254.5,2,    253.2,2,    34.30,2,    20.76,2,     1.39,2,    0.015,2,    0.009,2, -999.000,9,-999.0000,9,  -999.00,9,   -999.0,9,   -999.0,9,     8.02,2,  2.3510
 3230CITHER2_1,  A17C,   103,  1,      8,      8,2,19940207,0930,-19.3343, -30.9093, 4530,   3599.2,   2.4790,  34.9000,2,  34.9010,2,    254.6,2,    252.8,2,    38.70,2,    21.20,2,     1.43,2,    0.013,2,    0.014,2, -999.000,9,-999.0000,9,  -999.00,9,   -999.0,9,   -999.0,9,     8.01,2,  2.1760
 3230CITHER2_1,  A17C,   103,  1,      7,      7,2,19940207,0930,-19.3343, -30.9093, 4530,   3799.6,   2.1760,  34.8700,2,  34.8720,2,    250.8,2,    248.8,2,    49.60,2,    22.54,2,     1.52,2,    0.007,2,    0.008,2, -999.000,9,-999.0000,9,  -999.00,9,   -999.0,9,   -999.0,9,     8.00,2,  1.8590
 3230CITHER2_1,  A17C,   103,  1,      6,      6,2,19940207,0930,-19.3343, -30.9093, 4530,   3899.0,   1.9690,  34.8490,2,  34.8510,2,    247.2,2,    245.2,2,    58.10,2,    23.58,2,     1.60,2,    0.009,2,    0.009,2, -999.000,9,-999.0000,9,  -999.00,9,   -999.0,9,   -999.0,9,     7.99,2,  1.6470
 3230CITHER2_1,  A17C,   103,  1,      5,      5,2,19940207,0930,-19.3343, -30.9093, 4530,   3997.0,   1.7500,  34.8250,2,  34.8240,2,    243.0,2,    241.1,2,    68.00,2,    25.14,2,     1.71,2,    0.005,2,    0.001,2, -999.000,9,-999.0000,9,  -999.00,9,   -999.0,9,   -999.0,9,     7.98,2,  1.4240
 3230CITHER2_1,  A17C,   103,  1,      4,      4,2,19940207,0930,-19.3343, -30.9093, 4530,   4099.0,   1.5190,  34.8010,2,  34.8010,2,    238.2,2,    236.7,2,    78.30,2,    26.32,2,     1.81,2,    0.003,2,    0.001,2, -999.000,9,-999.0000,9,  -999.00,9,   -999.0,9,   -999.0,9,     7.96,2,  1.1880
 3230CITHER2_1,  A17C,   103,  1,      3,      3,2,19940207,0930,-19.3343, -30.9093, 4530,   4199.0,   1.3370,  34.7830,2,  34.7860,2,    234.3,2,    233.9,2,    85.90,2,    27.51,2,     1.89,2,    0.011,2,    0.007,2, -999.000,9,-999.0000,9,  -999.00,9,   -999.0,9,   -999.0,9,     7.95,2,  1.0000
 3230CITHER2_1,  A17C,   103,  1,      2,      2,2,19940207,0930,-19.3343, -30.9093, 4530,   4397.6,   0.9580,  34.7420,2,  34.7410,2,    227.5,2,    227.1,2,   102.50,2,    29.77,2,     2.04,2,    0.035,2,    0.019,2, -999.000,9,-999.0000,9,  -999.00,9,   -999.0,9,   -999.0,9,     7.92,2,  0.6110
 3230CITHER2_1,  A17C,   103,  1,      1,      1,2,19940207,0930,-19.3343, -30.9093, 4530,   4577.2,   0.4440,  34.6920,2,  34.6900,2,    220.1,2,    221.4,2,   120.30,2,    32.14,2,     2.23,2,    0.089,2,    0.044,2, -999.000,9,-999.0000,9,  -999.00,9,   -999.0,9,   -999.0,9,     7.89,2,  0.0940