BOTTLE,20030515WHPSIOSA
EXPOCODE,SECT_ID,STNNBR,CASTNO,SAMPNO,BTLNBR,BTLNBR_FLAG_W,DATE,TIME,LATITUDE,LONGITUDE,DEPTH,CTDPRS,CTDTMP,CTDSAL,CTDSAL_FLAG_W,SALNTY,SALNTY_FLAG_W,CTDOXY,CTDOXY_FLAG_W,OXYGEN,OXYGEN_FLAG_W,SILCAT,SILCAT_FLAG_W,NITRAT,NITRAT_FLAG_W,PHSPHT,PHSPHT_FLAG_W,CFC-11,CFC-11_FLAG_W,CFC-12,CFC-12_FLAG_W,TRITUM,TRITUM_FLAG_W,HELIUM,HELIUM_FLAG_W,DELHE3,DELHE3_FLAG_W,TCARBN,TCARBN_FLAG_W,ALKALI,ALKALI_FLAG_W,PH,PH_FLAG_W,THETA
,,,,,,,,,,,,DBAR,ITS-90,PSS-78,,PSS-78,,UMOL/KG,,UMOL/KG,,UMOL/KG,,UMOL/KG,,UMOL/KG,,PMOL/KG,,PMOL/KG,,TU,,NMOL/KG,,PERCNT,,UMOL/KG,,UMOL/KG,,,,DEG C
 3230CITHER2_2,  A17N,   217,  1,     32,     32,2,19940316,2113, 11.4003, -48.2863, 4935,      6.5,  25.3610,  36.3990,2,  36.4010,2,    206.1,2,    206.4,2,     1.60,2,     0.04,2,     0.03,2,    1.845,2,    1.046,2, -999.000,9,-999.0000,9,  -999.00,9,   -999.0,9,   -999.0,9,     8.38,2, 25.3600
 3230CITHER2_2,  A17N,   217,  1,     31,     31,2,19940316,2113, 11.4003, -48.2863, 4935,     71.0,  25.2650,  36.4110,2,  36.4110,2,    205.5,2,    206.1,2,     1.60,2,     0.00,2,     0.03,2,    1.820,2,    1.037,2, -999.000,9,-999.0000,9,  -999.00,9,   -999.0,9,   -999.0,9,     8.37,2, 25.2490
 3230CITHER2_2,  A17N,   217,  1,     30,     30,2,19940316,2113, 11.4003, -48.2863, 4935,    125.3,  19.6740,  36.6580,2,  36.7220,2,    143.2,2,    139.2,2,     2.80,2,     8.50,2,     0.44,2,    1.775,2,    0.968,2, -999.000,9,-999.0000,9,  -999.00,9,   -999.0,9,   -999.0,9,     8.20,2, 19.6510
 3230CITHER2_2,  A17N,   217,  1,     29,     29,2,19940316,2113, 11.4003, -48.2863, 4935,    201.1,  14.6170,  35.8950,2,  35.9010,2,    120.9,2,    118.7,2,     7.10,2,    18.87,2,     1.09,2,    1.222,2,    0.665,2, -999.000,9,-999.0000,9,  -999.00,9,   -999.0,9,   -999.0,9,     8.05,2, 14.5870
 3230CITHER2_2,  A17N,   217,  1,     28,     28,2,19940316,2113, 11.4003, -48.2863, 4935,    300.9,  11.1480,  35.3220,2,  35.2640,2,    104.5,2,    106.2,2,    12.40,2,    25.79,2,     1.62,2,    0.633,2,    0.361,2, -999.000,9,-999.0000,9,  -999.00,9,   -999.0,9,   -999.0,9,     7.94,2, 11.1100
 3230CITHER2_2,  A17N,   217,  1,     27,     27,2,19940316,2113, 11.4003, -48.2863, 4935,    400.2,   9.2740,  34.9740,2,  34.9780,2,    112.1,2,    112.7,2,    15.70,2,    29.12,2,     1.84,2,    0.422,2,    0.248,2, -999.000,9,-999.0000,9,  -999.00,9,   -999.0,9,   -999.0,9,     7.90,2,  9.2290
 3230CITHER2_2,  A17N,   217,  1,     26,     26,2,19940316,2113, 11.4003, -48.2863, 4935,    600.2,   6.9050,  34.6860,2,  34.6860,2,    125.0,2,    124.6,2,    22.50,2,    32.97,2,     2.15,2,    0.165,2,    0.099,2, -999.000,9,-999.0000,9,  -999.00,9,   -999.0,9,   -999.0,9,     7.86,2,  6.8480
 3230CITHER2_2,  A17N,   217,  1,     25,     25,2,19940316,2113, 11.4003, -48.2863, 4935,    800.2,   5.9310,  34.6670,2,  34.6710,2,    126.1,2,    126.8,2,    26.80,2,    34.63,2,     2.26,2,    0.053,2,    0.031,2, -999.000,9,-999.0000,9,  -999.00,9,   -999.0,9,   -999.0,9,     7.83,2,  5.8600
 3230CITHER2_2,  A17N,   217,  1,     24,     24,2,19940316,2113, 11.4003, -48.2863, 4935,   1000.8,   5.5090,  34.7830,2,  34.7850,2,    141.9,2,    136.3,2,    27.00,2,    32.89,2,     2.16,2,    0.004,2,    0.002,2, -999.000,9,-999.0000,9,  -999.00,9,   -999.0,9,   -999.0,9,     7.85,2,  5.4210
 3230CITHER2_2,  A17N,   217,  1,     23,     23,2,19940316,2113, 11.4003, -48.2863, 4935,   1199.4,   5.1100,  34.9160,2,  34.9160,2,    175.5,2,    177.2,2,    23.40,2,    27.33,2,     1.80,2,    0.025,2,    0.012,2, -999.000,9,-999.0000,9,  -999.00,9,   -999.0,9,   -999.0,9,     7.92,2,  5.0070
 3230CITHER2_2,  A17N,   217,  1,     22,     22,2,19940316,2113, 11.4003, -48.2863, 4935,   1399.7,   4.7250,  34.9820,2,  34.9860,2,    215.2,2,    213.8,2,    19.60,2,    23.19,2,     1.51,2,    0.058,2,    0.033,2, -999.000,9,-999.0000,9,  -999.00,9,   -999.0,9,   -999.0,9,     7.98,2,  4.6060
 3230CITHER2_2,  A17N,   217,  1,     21,     21,2,19940316,2113, 11.4003, -48.2863, 4935,   1499.9,   4.4670,  34.9950,2,  34.9970,2,    231.5,2,    229.4,2,    18.20,2,    21.70,2,     1.40,2,    0.072,2,    0.048,2, -999.000,9,-999.0000,9,  -999.00,9,   -999.0,9,   -999.0,9,     7.99,2,  4.3410
 3230CITHER2_2,  A17N,   217,  1,     20,     20,2,19940316,2113, 11.4003, -48.2863, 4935,   1598.2,   4.2560,  34.9980,2,  35.0010,2,    243.3,2,    243.3,2,    16.70,2,    20.34,2,     1.30,2,    0.112,2,    0.073,2, -999.000,9,-999.0000,9,  -999.00,9,   -999.0,9,   -999.0,9,     8.01,2,  4.1240
 3230CITHER2_2,  A17N,   217,  1,     19,     19,2,19940316,2113, 11.4003, -48.2863, 4935,   1701.1,   4.0500,  34.9950,2,  34.9980,2,    251.5,2,    251.5,2,    16.40,2,    19.61,2,     1.26,2,    0.116,2,    0.074,2, -999.000,9,-999.0000,9,  -999.00,9,   -999.0,9,   -999.0,9,     8.01,2,  3.9100
 3230CITHER2_2,  A17N,   217,  1,     18,     18,2,19940316,2113, 11.4003, -48.2863, 4935,   1800.7,   3.8750,  34.9900,2,  34.9940,2,    255.0,2,    255.5,2,    16.70,2,    19.43,2,     1.26,2,    0.098,2,    0.062,2, -999.000,9,-999.0000,9,  -999.00,9,   -999.0,9,   -999.0,9,     8.02,2,  3.7280
 3230CITHER2_2,  A17N,   217,  1,     17,     17,2,19940316,2113, 11.4003, -48.2863, 4935,   1998.0,   3.5710,  34.9770,2,  34.9790,2,    258.1,2,    257.9,2,    18.80,2,    19.36,2,     1.25,2,    0.053,2,    0.037,2, -999.000,9,-999.0000,9,  -999.00,9,   -999.0,9,   -999.0,9,     8.02,2,  3.4100
 3230CITHER2_2,  A17N,   217,  1,     16,     16,2,19940316,2113, 11.4003, -48.2863, 4935,   2201.4,   3.3360,  34.9660,2,  34.9670,2,    259.2,2,    259.8,2,    20.70,2,    19.34,2,     1.25,2,    0.056,2,    0.031,2, -999.000,9,-999.0000,9,  -999.00,9,   -999.0,9,   -999.0,9,     8.02,2,  3.1590
 3230CITHER2_2,  A17N,   217,  1,     15,     15,2,19940316,2113, 11.4003, -48.2863, 4935,   2398.7,   3.1290,  34.9530,2,  34.9560,2,    257.8,2,    257.3,2,    24.70,2,    19.91,2,     1.29,2,    0.025,2,    0.017,2, -999.000,9,-999.0000,9,  -999.00,9,   -999.0,9,   -999.0,9,     8.02,2,  2.9370
 3230CITHER2_2,  A17N,   217,  1,     14,     14,2,19940316,2113, 11.4003, -48.2863, 4935,   2598.6,   2.9660,  34.9420,2,  34.9440,2,    257.2,2,    255.5,2,    27.80,2,    20.37,2,     1.31,2,    0.017,2,    0.015,2, -999.000,9,-999.0000,9,  -999.00,9,   -999.0,9,   -999.0,9,     8.02,2,  2.7570
 3230CITHER2_2,  A17N,   217,  1,     13,     13,2,19940316,2113, 11.4003, -48.2863, 4935,   2797.9,   2.8420,  34.9350,2,  34.9360,2,    255.1,2,    254.7,2,    30.80,2,    20.53,2,     1.34,2,    0.017,2,    0.012,2, -999.000,9,-999.0000,9,  -999.00,9,   -999.0,9,   -999.0,9,     8.02,2,  2.6150
 3230CITHER2_2,  A17N,   217,  1,     12,     12,2,19940316,2113, 11.4003, -48.2863, 4935,   2998.6,   2.7340,  34.9270,2,  34.9280,2,    253.3,2,    254.1,2,    33.50,2,    20.84,2,     1.35,2,    0.016,2,    0.006,2, -999.000,9,-999.0000,9,  -999.00,9,   -999.0,9,   -999.0,9,     8.02,2,  2.4890
 3230CITHER2_2,  A17N,   217,  1,     10,     10,2,19940316,2113, 11.4003, -48.2863, 4935,   3296.6,   2.5910,  34.9140,2,  34.9180,2,    253.1,2,    253.7,2,    36.00,2,    21.05,2,     1.38,2,    0.018,2,    0.010,2, -999.000,9,-999.0000,9,  -999.00,9,   -999.0,9,   -999.0,9,     8.01,2,  2.3180
 3230CITHER2_2,  A17N,   217,  1,     11,     11,2,19940316,2113, 11.4003, -48.2863, 4935,   3296.7,   2.5900,  34.9150,2,  34.9150,2,    253.1,2,    253.6,2,    36.20,2,    21.04,2,     1.37,2,    0.017,2,    0.009,2, -999.000,9,-999.0000,9,  -999.00,9,   -999.0,9,   -999.0,9,     8.01,2,  2.3170
 3230CITHER2_2,  A17N,   217,  1,      9,      9,2,19940316,2113, 11.4003, -48.2863, 4935,   3597.6,   2.4410,  34.9010,2,  34.9040,2,    255.9,2,    256.2,2,    37.10,2,    20.91,2,     1.36,2,    0.027,2,    0.021,2, -999.000,9,-999.0000,9,  -999.00,9,   -999.0,9,   -999.0,9,     8.01,2,  2.1390
 3230CITHER2_2,  A17N,   217,  1,      8,      8,2,19940316,2113, 11.4003, -48.2863, 4935,   3798.6,   2.3510,  34.8990,2,  34.9000,2,    260.5,2,    262.0,2,    34.90,2,    20.20,2,     1.32,2,    0.058,2,    0.040,2, -999.000,9,-999.0000,9,  -999.00,9,   -999.0,9,   -999.0,9,     8.01,2,  2.0300
 3230CITHER2_2,  A17N,   217,  1,      7,      7,2,19940316,2113, 11.4003, -48.2863, 4935,   3998.4,   2.3000,  34.8930,2,  34.8980,2,    262.9,2,    262.9,2,    34.40,2,    20.10,2,     1.30,2,    0.082,2,    0.053,2, -999.000,9,-999.0000,9,  -999.00,9,   -999.0,9,   -999.0,9,     8.01,2,  1.9580
 3230CITHER2_2,  A17N,   217,  1,      6,      6,2,19940316,2113, 11.4003, -48.2863, 4935,   4199.0,   2.2630,  34.8910,2,  34.8930,2,    264.0,2,    263.8,2,    34.90,2,    19.99,2,     1.30,2,    0.101,2,    0.067,2, -999.000,9,-999.0000,9,  -999.00,9,   -999.0,9,   -999.0,9,     8.01,2,  1.8990
 3230CITHER2_2,  A17N,   217,  1,      5,      5,2,19940316,2113, 11.4003, -48.2863, 4935,   4398.0,   2.1970,  34.8810,2,  34.8820,2,    259.8,2,    260.4,2,    39.90,2,    20.65,2,     1.36,2,    0.078,2,    0.054,2, -999.000,9,-999.0000,9,  -999.00,9,   -999.0,9,   -999.0,9,     8.01,2,  1.8110
 3230CITHER2_2,  A17N,   217,  1,      4,      4,2,19940316,2113, 11.4003, -48.2863, 4935,   4598.4,   2.0210,  34.8550,2,  34.8570,2,    253.6,2,    252.3,2,    52.30,2,    22.40,2,     1.48,2,    0.039,2,    0.027,2, -999.000,9,-999.0000,9,  -999.00,9,   -999.0,9,   -999.0,9,     7.99,2,  1.6170
 3230CITHER2_2,  A17N,   217,  1,      3,      3,2,19940316,2113, 11.4003, -48.2863, 4935,   4798.4,   1.7650,  34.8220,2,  34.8260,2,    245.1,2,    245.1,2,    66.80,2,    24.31,2,     1.63,2,    0.028,2,    0.019,2, -999.000,9,-999.0000,9,  -999.00,9,   -999.0,9,   -999.0,9,     7.97,2,  1.3450
 3230CITHER2_2,  A17N,   217,  1,      2,      2,2,19940316,2113, 11.4003, -48.2863, 4935,   4899.2,   1.7100,  34.8140,2,  34.8180,2,    243.3,2,    242.9,2,    71.10,2,    24.91,2,     1.66,2,    0.025,2,    0.017,2, -999.000,9,-999.0000,9,  -999.00,9,   -999.0,9,   -999.0,9,     7.97,2,  1.2800
 3230CITHER2_2,  A17N,   217,  1,      1,      1,2,19940316,2113, 11.4003, -48.2863, 4935,   5022.5,   1.6990,  34.8120,2,  34.8150,2,    241.7,2,    242.1,2,    72.40,2,    25.07,2,     1.68,2,    0.025,2,    0.018,2, -999.000,9,-999.0000,9,  -999.00,9,   -999.0,9,   -999.0,9,     7.97,2,  1.2540
 3230CITHER2_2,  A17N,   218,  1,     32,     32,2,19940317,0325, 10.9457, -48.5498, 4914,      6.1,  25.4540,  36.2730,2,  36.2710,2,    201.8,2,    206.8,2,     1.50,2,     0.00,2,     0.01,2,    1.817,2,    1.027,2, -999.000,9,-999.0000,9,  -999.00,9,   2013.3,2,   2382.9,2,     8.39,2, 25.4530
 3230CITHER2_2,  A17N,   218,  1,     31,     31,2,19940317,0325, 10.9457, -48.5498, 4914,     61.3,  25.4650,  36.2780,2,  36.2780,2,    207.1,2,    206.2,2,     1.40,2,     0.00,2,     0.01,2,    1.816,2,    1.020,2, -999.000,9,-999.0000,9,  -999.00,9,   2021.0,2,   2384.0,2,     8.39,2, 25.4510
 3230CITHER2_2,  A17N,   218,  1,     30,     30,2,19940317,0325, 10.9457, -48.5498, 4914,    110.9,  22.1670,  37.0170,2,  37.0150,2,    169.0,2,    163.0,2,     1.90,2,     3.19,2,     0.17,2,    1.872,2,    1.028,2, -999.000,9,-999.0000,9,  -999.00,9,   2123.6,2,   2425.6,2,     8.26,2, 22.1450
 3230CITHER2_2,  A17N,   218,  1,     29,     29,2,19940317,0325, 10.9457, -48.5498, 4914,    202.3,  13.8410,  35.6750,2,  35.6570,2,    109.6,2,    108.4,2,     8.60,2,    21.58,2,     1.30,2,    1.029,2,    0.557,2, -999.000,9,-999.0000,9,  -999.00,9,   2185.1,2,   2348.1,2,     8.01,2, 13.8120
 3230CITHER2_2,  A17N,   218,  1,     28,     28,2,19940317,0325, 10.9457, -48.5498, 4914,    301.5,  10.1340,  35.0550,2,  35.0510,2,    103.1,2,    107.0,2,    13.90,2,    27.66,2,     1.78,2,    0.524,2,    0.298,2, -999.000,9,-999.0000,9,  -999.00,9,   2200.4,2,   2320.9,2,     7.91,2, 10.0990
 3230CITHER2_2,  A17N,   218,  1,     27,     27,2,19940317,0325, 10.9457, -48.5498, 4914,    401.1,   8.7770,  34.8660,2,  34.8620,2,    103.2,2,    101.2,2,    16.90,2,    31.56,2,     2.00,2,    0.279,2,    0.160,2, -999.000,9,-999.0000,9,  -999.00,9,   2214.0,2,   2313.7,2,     7.86,2,  8.7340
 3230CITHER2_2,  A17N,   218,  1,     26,     26,2,19940317,0325, 10.9457, -48.5498, 4914,    600.8,   6.9810,  34.6960,2,  34.6940,2,    120.5,2,    117.9,2,    22.10,2,    33.38,2,     2.19,2,    0.134,2,    0.078,2, -999.000,9,-999.0000,9,  -999.00,9,   2217.7,2,   2309.7,2,     7.84,2,  6.9230
 3230CITHER2_2,  A17N,   218,  1,     25,     25,2,19940317,0325, 10.9457, -48.5498, 4914,    800.9,   5.5660,  34.6410,2,  34.6430,2,    128.6,2,    132.1,2,    27.70,2,    34.31,2,     2.30,2,    0.069,2,    0.037,2, -999.000,9,-999.0000,9,  -999.00,9,   2224.3,2,   2313.4,2,     7.83,2,  5.4970
 3230CITHER2_2,  A17N,   218,  1,     24,     24,2,19940317,0325, 10.9457, -48.5498, 4914,   1000.4,   5.1650,  34.7320,2,  34.7320,2,    145.2,2,    146.8,2,    27.80,2,    32.13,2,     2.17,2,    0.011,2,    0.006,2, -999.000,9,-999.0000,9,  -999.00,9,   2218.1,2,   2321.7,2,     7.86,2,  5.0800
 3230CITHER2_2,  A17N,   218,  1,     23,     23,2,19940317,0325, 10.9457, -48.5498, 4914,   1200.6,   5.0970,  34.9300,2,  34.9260,2,    174.2,2,    181.4,2,    22.40,2,    26.49,2,     1.77,2,    0.040,2,    0.021,2, -999.000,9,-999.0000,9,  -999.00,9,   2197.3,2,   2327.8,2,     7.93,2,  4.9940
 3230CITHER2_2,  A17N,   218,  1,     22,     22,2,19940317,0325, 10.9457, -48.5498, 4914,   1399.8,   4.7130,  34.9980,2,  34.9960,2,    221.3,2,    219.3,2,    18.20,2,    22.19,2,     1.46,2,    0.112,2,    0.068,2, -999.000,9,-999.0000,9,  -999.00,9,   2178.7,2,   2328.6,2,     7.98,2,  4.5940
 3230CITHER2_2,  A17N,   218,  1,     21,     21,2,19940317,0325, 10.9457, -48.5498, 4914,   1500.2,   4.4180,  35.0070,2,  35.0080,2,    238.8,2,    239.1,2,    16.30,2,    20.37,2,     1.34,2,    0.147,2,    0.092,2, -999.000,9,-999.0000,9,  -999.00,9,   2177.9,2,   2325.2,2,     8.00,2,  4.2930
 3230CITHER2_2,  A17N,   218,  1,     20,     20,2,19940317,0325, 10.9457, -48.5498, 4914,   1600.0,   4.2420,  35.0040,2,  35.0010,2,    246.7,2,    244.7,2,    16.10,2,    19.98,2,     1.30,2,    0.130,2,    0.080,2, -999.000,9,-999.0000,9,  -999.00,9,   2165.2,2,   2327.2,2,     8.01,2,  4.1100
 3230CITHER2_2,  A17N,   218,  1,     19,     19,2,19940317,0325, 10.9457, -48.5498, 4914,   1699.8,   4.0720,  35.0030,2,  35.0010,2,    255.3,2,    254.0,2,    15.00,2,    19.11,2,     1.24,2,    0.222,2,    0.131,2, -999.000,9,-999.0000,9,  -999.00,9,   2161.3,2,   2325.5,2,     8.02,2,  3.9320
 3230CITHER2_2,  A17N,   218,  1,     18,     18,2,19940317,0325, 10.9457, -48.5498, 4914,   1801.3,   3.9110,  34.9960,2,  34.9960,2,    258.1,2,    255.5,2,    15.80,2,    19.03,2,     1.24,2,    0.132,2,    0.083,2, -999.000,9,-999.0000,9,  -999.00,9,   2161.7,2,   2326.0,2,     8.02,2,  3.7640
 3230CITHER2_2,  A17N,   218,  1,     17,     17,2,19940317,0325, 10.9457, -48.5498, 4914,   1999.7,   3.6190,  34.9840,2,  34.9830,2,    260.7,2,    258.2,2,    17.70,2,    19.14,2,     1.24,2,    0.099,2,    0.057,2, -999.000,9,-999.0000,9,  -999.00,9,   2162.6,2,   2327.1,2,     8.02,2,  3.4570
 3230CITHER2_2,  A17N,   218,  1,     16,     16,2,19940317,0325, 10.9457, -48.5498, 4914,   2197.9,   3.3790,  34.9730,2,  34.9680,2,    261.2,2,    259.0,2,    20.00,2,    19.13,2,     1.24,2,    0.053,2,    0.033,2, -999.000,9,-999.0000,9,  -999.00,9,   2164.4,2,   2328.3,2,     8.02,2,  3.2020
 3230CITHER2_2,  A17N,   218,  1,     15,     15,2,19940317,0325, 10.9457, -48.5498, 4914,   2399.1,   3.1960,  34.9590,2,  34.9580,2,    257.4,2,    255.5,2,    24.20,2,    19.85,2,     1.30,2,    0.012,2,    0.005,2, -999.000,9,-999.0000,9,  -999.00,9,   2169.9,2,   2333.2,2,     8.02,2,  3.0020
 3230CITHER2_2,  A17N,   218,  1,     14,     14,2,19940317,0325, 10.9457, -48.5498, 4914,   2599.2,   3.0420,  34.9500,2,  34.9490,2,    255.1,2,    253.9,2,    27.40,2,    20.30,2,     1.33,2,    0.009,2,    0.001,2, -999.000,9,-999.0000,9,  -999.00,9,   2173.9,2,   2336.7,2,     8.02,2,  2.8310
 3230CITHER2_2,  A17N,   218,  1,     13,     13,2,19940317,0325, 10.9457, -48.5498, 4914,   2799.9,   2.8640,  34.9400,2,  34.9370,2,    252.8,2,    252.4,2,    30.90,2,    20.56,2,     1.35,2,    0.007,2,    0.003,2, -999.000,9,-999.0000,9,  -999.00,9,   2175.2,2,   2342.8,2,     8.01,2,  2.6370
 3230CITHER2_2,  A17N,   218,  1,     12,     12,2,19940317,0325, 10.9457, -48.5498, 4914,   2999.4,   2.7290,  34.9300,2,  34.9280,2,    252.1,2,    251.3,2,    34.00,2,    20.86,2,     1.38,2,    0.007,2,    0.002,2, -999.000,9,-999.0000,9,  -999.00,9,   -999.0,5,   2343.8,2,     8.01,2,  2.4840
 3230CITHER2_2,  A17N,   218,  1,     11,     11,2,19940317,0325, 10.9457, -48.5498, 4914,   3000.4,   2.7280,  34.9300,2,  34.9300,2,    252.1,2,    251.4,2,    34.20,2,    20.93,2,     1.37,2,    0.009,2,    0.001,2, -999.000,9,-999.0000,9,  -999.00,9,   2180.1,2,   2343.8,2,     8.01,2,  2.4830
 3230CITHER2_2,  A17N,   218,  1,     10,     10,2,19940317,0325, 10.9457, -48.5498, 4914,   3298.7,   2.5660,  34.9170,2,  34.9170,2,    252.0,2,    252.0,2,    37.50,2,    21.23,2,     1.39,2,    0.007,2,    0.007,2, -999.000,9,-999.0000,9,  -999.00,9,   2183.9,2,   2346.8,2,     8.01,2,  2.2940
 3230CITHER2_2,  A17N,   218,  1,      9,      9,2,19940317,0325, 10.9457, -48.5498, 4914,   3599.9,   2.4450,  34.9090,2,  34.9110,2,    259.6,2,    260.2,2,    33.20,2,    20.01,2,     1.32,2,    0.080,2,    0.043,2, -999.000,9,-999.0000,9,  -999.00,9,   2182.6,2,   2340.3,2,     8.02,2,  2.1430
 3230CITHER2_2,  A17N,   218,  1,      8,      8,2,19940317,0325, 10.9457, -48.5498, 4914,   3798.1,   2.3710,  34.9060,2,  34.9040,2,    261.8,2,    263.2,2,    32.50,2,    19.67,2,     1.30,2,    0.089,2,    0.050,2, -999.000,9,-999.0000,9,  -999.00,9,   2175.3,2,   2338.6,2,     8.02,2,  2.0490
 3230CITHER2_2,  A17N,   218,  1,      7,      7,2,19940317,0325, 10.9457, -48.5498, 4914,   3998.8,   2.3230,  34.9010,2,  34.9020,2,    262.6,2,    263.5,2,    33.10,2,    19.67,2,     1.29,2,    0.091,2,    0.056,2, -999.000,9,-999.0000,9,  -999.00,9,   2176.8,2,   2338.7,2,     8.02,2,  1.9800
 3230CITHER2_2,  A17N,   218,  1,      6,      6,2,19940317,0325, 10.9457, -48.5498, 4914,   4198.7,   2.2900,  34.8980,2,  34.8960,2,    262.1,2,    263.2,2,    34.10,2,    19.70,2,     1.30,2,    0.104,2,    0.062,2, -999.000,9,-999.0000,9,  -999.00,9,   2174.3,2,   2336.8,2,     8.01,2,  1.9250
 3230CITHER2_2,  A17N,   218,  1,      5,      5,2,19940317,0325, 10.9457, -48.5498, 4914,   4398.8,   2.2570,  34.8910,2,  34.8900,2,    261.2,2,    262.2,2,    36.20,2,    20.00,2,     1.32,2,    0.098,2,    0.062,2, -999.000,9,-999.0000,9,  -999.00,9,   2178.4,2,   2342.3,2,     8.01,2,  1.8690
 3230CITHER2_2,  A17N,   218,  1,      4,      4,2,19940317,0325, 10.9457, -48.5498, 4914,   4598.2,   2.2110,  34.8840,2,  34.8850,2,    257.9,2,    259.1,2,    40.20,2,    20.60,2,     1.37,2,    0.079,2,    0.052,2, -999.000,9,-999.0000,9,  -999.00,9,   2183.3,2,   2346.5,2,     8.01,2,  1.8010
 3230CITHER2_2,  A17N,   218,  1,      3,      3,2,19940317,0325, 10.9457, -48.5498, 4914,   4798.8,   2.0400,  34.8600,2,  34.8600,2,    252.0,2,    251.9,2,    52.10,2,    22.33,2,     1.49,2,    0.042,2,    0.027,2, -999.000,9,-999.0000,9,  -999.00,9,   2197.4,2,   2354.9,2,     7.99,2,  1.6110
 3230CITHER2_2,  A17N,   218,  1,      2,      2,2,19940317,0325, 10.9457, -48.5498, 4914,   4897.0,   1.7910,  34.8270,2,  34.8280,2,    245.7,2,    244.1,2,    66.90,2,    24.14,2,     1.64,2,    0.030,2,    0.019,2, -999.000,9,-999.0000,9,  -999.00,9,   2212.5,2,   2362.0,2,     7.97,2,  1.3590
 3230CITHER2_2,  A17N,   218,  1,      1,      1,2,19940317,0325, 10.9457, -48.5498, 4914,   4999.9,   1.6630,  34.8140,2,  34.8130,2,    239.5,2,    241.1,2,    73.10,2,    25.06,2,     1.70,2,    0.027,2,    0.016,2, -999.000,9,-999.0000,9,  -999.00,9,   2217.8,2,   2364.2,2,     7.96,2,  1.2220