BOTTLE,20030515WHPSIOSA
EXPOCODE,SECT_ID,STNNBR,CASTNO,SAMPNO,BTLNBR,BTLNBR_FLAG_W,DATE,TIME,LATITUDE,LONGITUDE,DEPTH,CTDPRS,CTDTMP,CTDSAL,CTDSAL_FLAG_W,SALNTY,SALNTY_FLAG_W,CTDOXY,CTDOXY_FLAG_W,OXYGEN,OXYGEN_FLAG_W,SILCAT,SILCAT_FLAG_W,NITRAT,NITRAT_FLAG_W,PHSPHT,PHSPHT_FLAG_W,CFC-11,CFC-11_FLAG_W,CFC-12,CFC-12_FLAG_W,TRITUM,TRITUM_FLAG_W,HELIUM,HELIUM_FLAG_W,DELHE3,DELHE3_FLAG_W,TCARBN,TCARBN_FLAG_W,ALKALI,ALKALI_FLAG_W,PH,PH_FLAG_W,THETA
,,,,,,,,,,,,DBAR,ITS-90,PSS-78,,PSS-78,,UMOL/KG,,UMOL/KG,,UMOL/KG,,UMOL/KG,,UMOL/KG,,PMOL/KG,,PMOL/KG,,TU,,NMOL/KG,,PERCNT,,UMOL/KG,,UMOL/KG,,,,DEG C
 3230CITHER2_2,  A17N,   183,  1,     32,     32,2,19940307,1419,  2.4595, -35.9485, 3690,      6.5,  27.2740,  35.8360,2,  35.8360,2,    193.6,2,    200.2,2,     1.60,2,     0.04,2,     0.05,2,    1.697,2,    0.966,2, -999.000,9,-999.0000,9,  -999.00,9,   -999.0,9,   -999.0,9,     8.38,2, 27.2720
 3230CITHER2_2,  A17N,   183,  1,     31,     31,2,19940307,1419,  2.4595, -35.9485, 3690,     45.9,  27.0830,  35.8440,2,  35.8540,2,    205.8,2,    199.7,2,     1.60,2,     0.04,2,     0.06,2,    1.688,2,    0.967,2, -999.000,9,-999.0000,9,  -999.00,9,   -999.0,9,   -999.0,9,     8.38,2, 27.0720
 3230CITHER2_2,  A17N,   183,  1,     30,     30,2,19940307,1419,  2.4595, -35.9485, 3690,     80.3,  19.6450,  36.0480,2,  35.9840,2,    174.9,2,    151.9,2,     5.10,2,    11.16,2,     0.77,2,    1.560,2,    0.857,2, -999.000,9,-999.0000,9,  -999.00,9,   -999.0,9,   -999.0,9,     8.18,2, 19.6300
 3230CITHER2_2,  A17N,   183,  1,     29,     29,2,19940307,1419,  2.4595, -35.9485, 3690,    109.5,  12.8660,  35.2980,2,  35.2840,2,    163.5,2,    159.5,2,     8.20,2,    17.04,2,     1.19,2,    1.456,2,    0.771,2, -999.000,9,-999.0000,9,  -999.00,9,   -999.0,9,   -999.0,9,     8.09,2, 12.8510
 3230CITHER2_2,  A17N,   183,  1,     28,     28,2,19940307,1419,  2.4595, -35.9485, 3690,    150.7,  11.8110,  35.1300,2,  35.1280,2,    140.7,2,    140.7,2,    10.00,2,    21.26,2,     1.47,2,    1.139,2,    0.603,2, -999.000,9,-999.0000,9,  -999.00,9,   -999.0,9,   -999.0,9,     8.02,2, 11.7920
 3230CITHER2_2,  A17N,   183,  1,     27,     27,2,19940307,1419,  2.4595, -35.9485, 3690,    200.2,  11.3670,  35.0730,2,  35.0790,2,    129.6,2,    130.1,2,    10.60,2,    22.65,2,     1.56,2,    1.020,2,    0.542,2, -999.000,9,-999.0000,9,  -999.00,9,   -999.0,9,   -999.0,9,     7.99,2, 11.3420
 3230CITHER2_2,  A17N,   183,  1,     26,     26,2,19940307,1419,  2.4595, -35.9485, 3690,    251.1,  11.0030,  35.0270,2,  35.0320,2,    125.8,2,    126.9,2,    11.40,2,    23.58,2,     1.61,2,    0.933,2,    0.496,2, -999.000,9,-999.0000,9,  -999.00,9,   -999.0,9,   -999.0,9,     7.98,2, 10.9720
 3230CITHER2_2,  A17N,   183,  1,     25,     25,2,19940307,1419,  2.4595, -35.9485, 3690,    301.8,  10.3260,  34.9340,2,  34.9330,2,    139.7,2,    149.3,2,    11.90,2,    22.76,2,     1.57,2,    1.027,2,    0.541,2, -999.000,9,-999.0000,9,  -999.00,9,   -999.0,9,   -999.0,9,     8.00,2, 10.2900
 3230CITHER2_2,  A17N,   183,  1,     24,     24,2,19940307,1419,  2.4595, -35.9485, 3690,    401.7,   9.0370,  34.8270,2,  34.8250,2,    127.5,2,    124.8,2,    16.40,2,    27.98,2,     1.88,2,    0.568,2,    0.307,2, -999.000,9,-999.0000,9,  -999.00,9,   -999.0,9,   -999.0,9,     7.93,2,  8.9930
 3230CITHER2_2,  A17N,   183,  1,     23,     23,2,19940307,1419,  2.4595, -35.9485, 3690,    499.5,   8.0430,  34.7280,2,  34.7260,2,    134.5,2,    126.4,2,    17.80,2,    29.90,2,     2.00,2,    0.416,2,    0.228,2, -999.000,9,-999.0000,9,  -999.00,9,   -999.0,9,   -999.0,9,     7.90,2,  7.9920
 3230CITHER2_2,  A17N,   183,  1,     22,     22,2,19940307,1419,  2.4595, -35.9485, 3690,    601.2,   6.7080,  34.6120,2,  34.6120,2,    130.8,2,    133.5,2,    22.00,2,    31.98,2,     2.17,2,    0.243,2,    0.139,2, -999.000,9,-999.0000,9,  -999.00,9,   -999.0,9,   -999.0,9,     7.88,2,  6.6520
 3230CITHER2_2,  A17N,   183,  1,     21,     21,2,19940307,1419,  2.4595, -35.9485, 3690,    701.6,   5.8140,  34.5810,2,  34.5750,2,    134.1,2,    133.9,2,    25.90,2,    33.60,2,     2.30,2,    0.100,2,    0.054,2, -999.000,9,-999.0000,9,  -999.00,9,   -999.0,9,   -999.0,9,     7.85,2,  5.7530
 3230CITHER2_2,  A17N,   183,  1,     20,     20,2,19940307,1419,  2.4595, -35.9485, 3690,    800.2,   4.9430,  34.5610,2,  34.5620,2,    146.9,2,    145.7,2,    29.60,2,    33.60,2,     2.32,2,    0.043,2,    0.028,2, -999.000,9,-999.0000,9,  -999.00,9,   -999.0,9,   -999.0,9,     7.85,2,  4.8780
 3230CITHER2_2,  A17N,   183,  1,     19,     19,2,19940307,1419,  2.4595, -35.9485, 3690,   1001.4,   4.7120,  34.6970,2,  34.7000,2,    163.8,2,    160.3,2,    29.10,2,    31.22,2,     2.16,2,    0.015,2,    0.010,2, -999.000,9,-999.0000,9,  -999.00,9,   -999.0,9,   -999.0,9,     7.88,2,  4.6300
 3230CITHER2_2,  A17N,   183,  1,     18,     18,2,19940307,1419,  2.4595, -35.9485, 3690,   1199.9,   4.6090,  34.8070,2,  34.8040,2,    176.8,2,    177.5,2,    26.00,2,    28.15,2,     1.93,2,    0.020,2,    0.014,2, -999.000,9,-999.0000,9,  -999.00,9,   -999.0,9,   -999.0,9,     7.92,2,  4.5100
 3230CITHER2_2,  A17N,   183,  1,     17,     17,2,19940307,1419,  2.4595, -35.9485, 3690,   1400.4,   4.4510,  34.9500,2,  34.9490,2,    212.3,2,    214.8,2,    20.30,2,    22.78,2,     1.56,2,    0.051,2,    0.031,2, -999.000,9,-999.0000,9,  -999.00,9,   -999.0,9,   -999.0,9,     7.98,2,  4.3350
 3230CITHER2_2,  A17N,   183,  1,     16,     16,2,19940307,1419,  2.4595, -35.9485, 3690,   1499.7,   4.2510,  34.9740,2,  34.9750,2,    228.7,2,    231.4,2,    18.20,2,    21.04,2,     1.42,2,    0.067,2,    0.042,2, -999.000,9,-999.0000,9,  -999.00,9,   -999.0,9,   -999.0,9,     8.00,2,  4.1280
 3230CITHER2_2,  A17N,   183,  1,     15,     15,2,19940307,1419,  2.4595, -35.9485, 3690,   1599.2,   4.0380,  34.9830,2,  34.9840,2,    240.1,2,    242.3,2,    17.70,2,    19.99,2,     1.34,2,    0.066,2,    0.041,2, -999.000,9,-999.0000,9,  -999.00,9,   -999.0,9,   -999.0,9,     8.02,2,  3.9080
 3230CITHER2_2,  A17N,   183,  1,     14,     14,2,19940307,1419,  2.4595, -35.9485, 3690,   1700.3,   3.8360,  34.9760,2,-999.0000,5,    244.1,2,    252.2,2,    18.70,2,    19.84,2,     1.33,2,    0.044,2,    0.033,2, -999.000,9,-999.0000,9,  -999.00,9,   -999.0,9,   -999.0,9,     8.02,2,  3.6990
 3230CITHER2_2,  A17N,   183,  1,     13,     13,2,19940307,1419,  2.4595, -35.9485, 3690,   1799.9,   3.6790,  34.9750,2,  34.9760,2,    246.9,2,    249.8,2,    19.40,2,    19.72,2,     1.30,2,    0.044,2,    0.026,2, -999.000,9,-999.0000,9,  -999.00,9,   -999.0,9,   -999.0,9,     8.03,2,  3.5350
 3230CITHER2_2,  A17N,   183,  1,     12,     12,2,19940307,1419,  2.4595, -35.9485, 3690,   2000.2,   3.4150,  34.9680,2,  34.9680,2,    254.4,2,    255.0,2,    20.80,2,    19.41,2,     1.28,2,    0.039,2,    0.025,2, -999.000,9,-999.0000,9,  -999.00,9,   -999.0,9,   -999.0,9,     8.03,2,  3.2560
 3230CITHER2_2,  A17N,   183,  1,     11,     11,2,19940307,1419,  2.4595, -35.9485, 3690,   2199.6,   3.2030,  34.9600,2,  34.9590,2,    255.5,2,    256.6,2,    22.80,2,    19.48,2,     1.28,2,    0.030,2,    0.018,2, -999.000,9,-999.0000,9,  -999.00,9,   -999.0,9,   -999.0,9,     8.03,2,  3.0290
 3230CITHER2_2,  A17N,   183,  1,     10,     10,2,19940307,1419,  2.4595, -35.9485, 3690,   2398.7,   3.0180,  34.9480,2,  34.9490,2,    256.1,2,    256.7,2,    25.10,2,    19.63,2,     1.29,2,    0.023,2,    0.016,2, -999.000,9,-999.0000,9,  -999.00,9,   -999.0,9,   -999.0,9,     8.03,2,  2.8280
 3230CITHER2_2,  A17N,   183,  1,      9,      9,2,19940307,1419,  2.4595, -35.9485, 3690,   2599.7,   2.8930,  34.9380,2,  34.9400,2,    253.0,2,    254.7,2,    28.40,2,    20.09,2,     1.32,2,    0.018,2,    0.008,2, -999.000,9,-999.0000,9,  -999.00,9,   -999.0,9,   -999.0,9,     8.03,2,  2.6850
 3230CITHER2_2,  A17N,   183,  1,      8,      8,2,19940307,1419,  2.4595, -35.9485, 3690,   2800.2,   2.8270,  34.9340,2,  34.9340,2,    256.3,2,    255.3,2,    29.10,2,    20.02,2,     1.32,2,    0.014,2,    0.011,2, -999.000,9,-999.0000,9,  -999.00,9,   -999.0,9,   -999.0,9,     8.03,2,  2.6000
 3230CITHER2_2,  A17N,   183,  1,      7,      7,2,19940307,1419,  2.4595, -35.9485, 3690,   2998.6,   2.7500,  34.9280,2,  34.9280,2,    256.3,2,    255.6,2,    30.50,2,    20.09,2,     1.33,2,    0.018,2,    0.010,2, -999.000,9,-999.0000,9,  -999.00,9,   -999.0,9,   -999.0,9,     8.03,2,  2.5050
 3230CITHER2_2,  A17N,   183,  1,      6,      6,2,19940307,1419,  2.4595, -35.9485, 3690,   2998.9,   2.7500,  34.9280,2,  34.9280,2,    256.3,2,    255.0,2,    30.40,2,    20.13,2,     1.33,2,    0.020,2,    0.014,2, -999.000,9,-999.0000,9,  -999.00,9,   -999.0,9,   -999.0,9,     8.03,2,  2.5050
 3230CITHER2_2,  A17N,   183,  1,      5,      5,2,19940307,1419,  2.4595, -35.9485, 3690,   3199.3,   2.6050,  34.9200,2,  34.9160,2,    256.3,2,    254.8,2,    33.70,2,    20.36,2,     1.35,2,    0.013,2,    0.010,2, -999.000,9,-999.0000,9,  -999.00,9,   -999.0,9,   -999.0,9,     8.03,2,  2.3420
 3230CITHER2_2,  A17N,   183,  1,      4,      4,2,19940307,1419,  2.4595, -35.9485, 3690,   3399.3,   2.5050,  34.9100,2,  34.9100,2,    256.8,2,    256.2,2,    34.40,2,    20.24,2,     1.35,2,    0.024,2,    0.016,2, -999.000,9,-999.0000,9,  -999.00,9,   -999.0,9,   -999.0,9,     8.03,2,  2.2230
 3230CITHER2_2,  A17N,   183,  1,      3,      3,2,19940307,1419,  2.4595, -35.9485, 3690,   3499.9,   2.4620,  34.9070,2,  34.9080,2,    259.0,2,    257.9,2,    34.40,2,    20.29,2,     1.34,2,    0.032,2,    0.022,2, -999.000,9,-999.0000,9,  -999.00,9,   -999.0,9,   -999.0,9,     8.03,2,  2.1710
 3230CITHER2_2,  A17N,   183,  1,      2,      2,2,19940307,1419,  2.4595, -35.9485, 3690,   3649.1,   2.3980,  34.9030,2,  34.9040,2,    260.4,2,    262.0,2,    35.00,2,    20.23,2,     1.33,2,    0.044,2,    0.029,2, -999.000,9,-999.0000,9,  -999.00,9,   -999.0,9,   -999.0,9,     8.03,2,  2.0920
 3230CITHER2_2,  A17N,   183,  1,      1,      1,2,19940307,1419,  2.4595, -35.9485, 3690,   3716.4,   2.3370,  34.8970,2,  34.8990,2,    259.7,2,    258.3,2,    36.90,2,    20.46,2,     1.35,2,    0.045,2,    0.029,2, -999.000,9,-999.0000,9,  -999.00,9,   -999.0,9,   -999.0,9,     8.04,2,  2.0250
 3230CITHER2_2,  A17N,   184,  1,     32,     32,2,19940307,2002,  2.7520, -36.4507, 4324,      6.9,  26.9860,  35.8590,2,  35.8600,2,    188.8,2,    200.5,2,     1.70,2,     0.00,2,     0.04,2,    1.728,2,    0.972,2, -999.000,9,-999.0000,9,  -999.00,9,   -999.0,9,   -999.0,9,     8.39,2, 26.9840
 3230CITHER2_2,  A17N,   184,  1,     31,     31,2,19940307,2002,  2.7520, -36.4507, 4324,     61.0,  25.9590,  36.0160,2,  36.0530,2,    193.2,2,    190.9,2,     2.20,2,     0.75,2,     0.14,2,    1.657,2,    0.936,2, -999.000,9,-999.0000,9,  -999.00,9,   -999.0,9,   -999.0,9,     8.35,2, 25.9450
 3230CITHER2_2,  A17N,   184,  1,     30,     30,2,19940307,2002,  2.7520, -36.4507, 4324,    126.7,  12.2550,  35.1740,2,  35.1720,2,    148.4,2,    148.5,2,     9.20,2,    19.60,2,     1.35,2,    1.283,2,    0.686,2, -999.000,9,-999.0000,9,  -999.00,9,   -999.0,9,   -999.0,9,     8.04,2, 12.2380
 3230CITHER2_2,  A17N,   184,  1,     28,     28,2,19940307,2002,  2.7520, -36.4507, 4324,    201.2,  11.6660,  35.1040,2,  35.0990,2,    141.8,2,    140.1,2,    10.20,2,    21.48,2,     1.48,2,    1.135,2,    0.598,2, -999.000,9,-999.0000,9,  -999.00,9,   -999.0,9,   -999.0,9,     8.01,2, 11.6400
 3230CITHER2_2,  A17N,   184,  1,     29,     29,2,19940307,2002,  2.7520, -36.4507, 4324,    201.4,  11.6670,  35.1030,2,  35.1020,2,    141.8,2,    142.1,2,    10.20,2,    21.40,2,     1.47,2,    1.140,2,    0.610,2, -999.000,9,-999.0000,9,  -999.00,9,   -999.0,9,   -999.0,9,     8.01,2, 11.6410
 3230CITHER2_2,  A17N,   184,  1,     27,     27,2,19940307,2002,  2.7520, -36.4507, 4324,    301.2,  10.7340,  34.9990,2,  34.9940,2,    141.3,2,    131.7,2,    11.90,2,    23.88,2,     1.64,2,    0.894,2,    0.487,2, -999.000,9,-999.0000,9,  -999.00,9,   -999.0,9,   -999.0,9,     7.97,2, 10.6970
 3230CITHER2_2,  A17N,   184,  1,     26,     26,2,19940307,2002,  2.7520, -36.4507, 4324,    400.3,   9.7520,  34.8860,2,  34.8810,2,    140.4,2,    135.1,2,    13.70,2,    25.47,2,     1.74,2,    0.762,2,    0.413,2, -999.000,9,-999.0000,9,  -999.00,9,   -999.0,9,   -999.0,9,     7.95,2,  9.7060
 3230CITHER2_2,  A17N,   184,  1,     25,     25,2,19940307,2002,  2.7520, -36.4507, 4324,    601.3,   6.6670,  34.6350,2,  34.6340,2,    115.0,2,    114.9,2,    23.10,2,    33.99,2,     2.30,2,    0.095,2,    0.057,2, -999.000,9,-999.0000,9,  -999.00,9,   -999.0,9,   -999.0,9,     7.83,2,  6.6110
 3230CITHER2_2,  A17N,   184,  1,     24,     24,2,19940307,2002,  2.7520, -36.4507, 4324,    700.8,   5.6040,  34.5570,2,  34.5570,2,    129.6,2,    130.4,2,    27.50,2,    34.96,2,     2.37,2,    0.049,2,    0.030,2, -999.000,9,-999.0000,9,  -999.00,9,   -999.0,9,   -999.0,9,     7.83,2,  5.5440
 3230CITHER2_2,  A17N,   184,  1,     23,     23,2,19940307,2002,  2.7520, -36.4507, 4324,    800.4,   5.0300,  34.5530,2,  34.5500,2,    140.0,2,    140.9,2,    30.00,2,    34.16,2,     2.37,2,    0.026,2,    0.019,2, -999.000,9,-999.0000,9,  -999.00,9,   -999.0,9,   -999.0,9,     7.84,2,  4.9640
 3230CITHER2_2,  A17N,   184,  1,     22,     22,2,19940307,2002,  2.7520, -36.4507, 4324,   1000.3,   4.6640,  34.6990,2,  34.6940,2,    159.2,2,    160.1,2,    29.50,2,    31.35,2,     2.16,2,    0.008,2,    0.009,2, -999.000,9,-999.0000,9,  -999.00,9,   -999.0,9,   -999.0,9,     7.88,2,  4.5830
 3230CITHER2_2,  A17N,   184,  1,     21,     21,2,19940307,2002,  2.7520, -36.4507, 4324,   1201.1,   4.6680,  34.8500,2,  34.8480,2,    183.3,2,    183.1,2,    24.90,2,    27.08,2,     1.87,2,    0.023,2,    0.014,2, -999.000,9,-999.0000,9,  -999.00,9,   -999.0,9,   -999.0,9,     7.93,2,  4.5690
 3230CITHER2_2,  A17N,   184,  1,     20,     20,2,19940307,2002,  2.7520, -36.4507, 4324,   1401.2,   4.3110,  34.9480,2,  34.9460,2,    218.5,2,    217.7,2,    20.70,2,    22.66,2,     1.55,2,    0.026,2,    0.021,2, -999.000,9,-999.0000,9,  -999.00,9,   -999.0,9,   -999.0,9,     7.98,2,  4.1960
 3230CITHER2_2,  A17N,   184,  1,     19,     19,2,19940307,2002,  2.7520, -36.4507, 4324,   1499.5,   4.2270,  34.9730,2,  34.9710,2,    233.8,2,    237.2,2,    18.70,2,    21.18,2,     1.44,2,    0.048,2,    0.030,2, -999.000,9,-999.0000,9,  -999.00,9,   -999.0,9,   -999.0,9,     8.01,2,  4.1040
 3230CITHER2_2,  A17N,   184,  1,     18,     18,2,19940307,2002,  2.7520, -36.4507, 4324,   1600.5,   4.0630,  34.9830,2,  34.9820,2,    242.5,2,    242.0,2,    17.90,2,    20.35,2,     1.36,2,    0.061,2,    0.039,2, -999.000,9,-999.0000,9,  -999.00,9,   -999.0,9,   -999.0,9,     8.02,2,  3.9330
 3230CITHER2_2,  A17N,   184,  1,     17,     17,2,19940307,2002,  2.7520, -36.4507, 4324,   1699.8,   3.8990,  34.9830,2,  34.9840,2,    249.3,2,    249.1,2,    17.80,2,    19.76,2,     1.31,2,    0.070,2,    0.047,2, -999.000,9,-999.0000,9,  -999.00,9,   -999.0,9,   -999.0,9,     8.03,2,  3.7620
 3230CITHER2_2,  A17N,   184,  1,     16,     16,2,19940307,2002,  2.7520, -36.4507, 4324,   1800.0,   3.7060,  34.9780,2,  34.9790,2,    252.6,2,    252.4,2,    18.60,2,    19.21,2,     1.30,2,    0.051,2,    0.040,2, -999.000,9,-999.0000,9,  -999.00,9,   -999.0,9,   -999.0,9,     8.04,2,  3.5620
 3230CITHER2_2,  A17N,   184,  1,     15,     15,2,19940307,2002,  2.7520, -36.4507, 4324,   1998.1,   3.4580,  34.9710,2,  34.9710,2,    256.2,2,    256.6,2,    20.20,2,    19.21,2,     1.28,2,    0.037,2,    0.028,2, -999.000,9,-999.0000,9,  -999.00,9,   -999.0,9,   -999.0,9,     8.04,2,  3.2990
 3230CITHER2_2,  A17N,   184,  1,     14,     14,2,19940307,2002,  2.7520, -36.4507, 4324,   2198.8,   3.2250,  34.9580,2,  34.9590,2,    256.2,2,    255.7,2,    23.20,2,    19.44,2,     1.31,2,    0.018,2,    0.016,2, -999.000,9,-999.0000,9,  -999.00,9,   -999.0,9,   -999.0,9,     8.04,2,  3.0500
 3230CITHER2_2,  A17N,   184,  1,     13,     13,2,19940307,2002,  2.7520, -36.4507, 4324,   2398.9,   3.0580,  34.9520,2,  34.9510,2,    257.3,2,    257.5,2,    24.70,2,    19.36,2,     1.35,2,    0.017,2,    0.012,2, -999.000,9,-999.0000,9,  -999.00,9,   -999.0,9,   -999.0,9,     8.04,2,  2.8670
 3230CITHER2_2,  A17N,   184,  1,     12,     12,2,19940307,2002,  2.7520, -36.4507, 4324,   2601.3,   2.9070,  34.9390,2,  34.9390,2,    256.1,2,    255.4,2,    25.70,2,    19.76,2,     1.36,2,    0.011,2,    0.011,2, -999.000,9,-999.0000,9,  -999.00,9,   -999.0,9,   -999.0,9,     8.04,2,  2.6990
 3230CITHER2_2,  A17N,   184,  1,     11,     11,2,19940307,2002,  2.7520, -36.4507, 4324,   2800.1,   2.8250,  34.9350,2,  34.9340,2,    256.4,2,    256.8,2,    28.70,2,    19.60,2,     1.33,2,    0.011,2,    0.013,2, -999.000,9,-999.0000,9,  -999.00,9,   -999.0,9,   -999.0,9,     8.04,2,  2.5990
 3230CITHER2_2,  A17N,   184,  1,     10,     10,2,19940307,2002,  2.7520, -36.4507, 4324,   2999.2,   2.6680,  34.9210,2,  34.9330,2,    254.7,2,    253.9,2,    33.50,2,    20.07,2,     1.39,2,    0.010,2,    0.012,2, -999.000,9,-999.0000,9,  -999.00,9,   -999.0,9,   -999.0,9,     8.03,2,  2.4250
 3230CITHER2_2,  A17N,   184,  1,      9,      9,2,19940307,2002,  2.7520, -36.4507, 4324,   3199.3,   2.5830,  34.9160,2,  34.9140,2,    255.0,2,    256.0,2,    33.80,2,    20.19,2,     1.40,2,    0.010,2,    0.006,2, -999.000,9,-999.0000,9,  -999.00,9,   -999.0,9,   -999.0,9,     8.03,2,  2.3210
 3230CITHER2_2,  A17N,   184,  1,      8,      8,2,19940307,2002,  2.7520, -36.4507, 4324,   3398.1,   2.5010,  34.9100,2,  34.9120,2,    257.5,2,    258.1,2,    33.40,2,    19.84,2,     1.37,2,    0.027,2,    0.024,2, -999.000,9,-999.0000,9,  -999.00,9,   -999.0,9,   -999.0,9,     8.04,2,  2.2200
 3230CITHER2_2,  A17N,   184,  1,      7,      7,2,19940307,2002,  2.7520, -36.4507, 4324,   3548.8,   2.4040,  34.9040,2,  34.9050,2,    259.1,2,    259.6,2,    34.10,2,    19.88,2,     1.38,2,    0.044,2,    0.033,2, -999.000,9,-999.0000,9,  -999.00,9,   -999.0,9,   -999.0,9,     8.03,2,  2.1090
 3230CITHER2_2,  A17N,   184,  1,      6,      6,2,19940307,2002,  2.7520, -36.4507, 4324,   3696.8,   2.3460,  34.8990,2,  34.8990,2,    259.2,2,    259.9,2,    35.30,2,    19.96,2,     1.36,2,    0.044,2,    0.033,2, -999.000,9,-999.0000,9,  -999.00,9,   -999.0,9,   -999.0,9,     8.03,2,  2.0360
 3230CITHER2_2,  A17N,   184,  1,      5,      5,2,19940307,2002,  2.7520, -36.4507, 4324,   3849.7,   2.2790,  34.8920,2,  34.8920,2,    259.5,2,   -999.0,5,    37.50,2,    20.11,2,     1.37,2,    0.051,2,    0.038,2, -999.000,9,-999.0000,9,  -999.00,9,   -999.0,9,   -999.0,9,     8.03,2,  1.9540
 3230CITHER2_2,  A17N,   184,  1,      4,      4,2,19940307,2002,  2.7520, -36.4507, 4324,   3997.6,   2.1870,  34.8800,2,  34.8800,2,    256.7,2,    255.8,2,    42.90,2,    20.82,2,     1.43,2,    0.041,2,    0.027,2, -999.000,9,-999.0000,9,  -999.00,9,   -999.0,9,   -999.0,9,     8.02,2,  1.8480
 3230CITHER2_2,  A17N,   184,  1,      3,      3,2,19940307,2002,  2.7520, -36.4507, 4324,   4129.8,   2.0260,  34.8610,2,  34.8620,2,    251.5,2,    251.1,2,    51.30,2,    21.96,2,     1.52,2,    0.026,2,    0.022,2, -999.000,9,-999.0000,9,  -999.00,9,   -999.0,9,   -999.0,9,     8.01,2,  1.6770
 3230CITHER2_2,  A17N,   184,  1,      2,      2,2,19940307,2002,  2.7520, -36.4507, 4324,   4300.9,   1.9570,  34.8520,2,  34.8520,2,    249.7,2,    249.5,2,    54.50,2,    22.35,2,     1.55,2,    0.033,2,    0.024,2, -999.000,9,-999.0000,9,  -999.00,9,   -999.0,9,   -999.0,9,     8.01,2,  1.5900
 3230CITHER2_2,  A17N,   184,  1,      1,      1,2,19940307,2002,  2.7520, -36.4507, 4324,   4370.1,   1.9200,  34.8470,2,  34.8460,2,    248.2,2,    248.4,2,    56.70,2,    22.67,2,     1.56,2,    0.035,2,    0.027,2, -999.000,9,-999.0000,9,  -999.00,9,   -999.0,9,   -999.0,9,     8.01,2,  1.5460