BOTTLE,20030515WHPSIOSA
EXPOCODE,SECT_ID,STNNBR,CASTNO,SAMPNO,BTLNBR,BTLNBR_FLAG_W,DATE,TIME,LATITUDE,LONGITUDE,DEPTH,CTDPRS,CTDTMP,CTDSAL,CTDSAL_FLAG_W,SALNTY,SALNTY_FLAG_W,CTDOXY,CTDOXY_FLAG_W,OXYGEN,OXYGEN_FLAG_W,SILCAT,SILCAT_FLAG_W,NITRAT,NITRAT_FLAG_W,PHSPHT,PHSPHT_FLAG_W,CFC-11,CFC-11_FLAG_W,CFC-12,CFC-12_FLAG_W,TRITUM,TRITUM_FLAG_W,HELIUM,HELIUM_FLAG_W,DELHE3,DELHE3_FLAG_W,TCARBN,TCARBN_FLAG_W,ALKALI,ALKALI_FLAG_W,PH,PH_FLAG_W,THETA
,,,,,,,,,,,,DBAR,ITS-90,PSS-78,,PSS-78,,UMOL/KG,,UMOL/KG,,UMOL/KG,,UMOL/KG,,UMOL/KG,,PMOL/KG,,PMOL/KG,,TU,,NMOL/KG,,PERCNT,,UMOL/KG,,UMOL/KG,,,,DEG C
 3230CITHER2_1,  A17C,   110,  1,     32,     32,2,19940209,0355,-15.8948, -30.7187, 4927,      4.1,  27.8510,  37.3120,2,  37.3150,2,    196.3,2,    197.4,2,     1.20,2,     0.04,2,     0.09,2,    1.726,2,    0.935,2, -999.000,9,-999.0000,9,  -999.00,9,   -999.0,9,   -999.0,9,     8.40,2, 27.8500
 3230CITHER2_1,  A17C,   110,  1,     31,     31,2,19940209,0355,-15.8948, -30.7187, 4927,     52.2,  27.8430,  37.3090,2,  37.3070,2,    203.6,2,    198.6,2,     1.00,2,     0.04,2,     0.09,2,    1.764,2,    0.959,2, -999.000,9,-999.0000,9,  -999.00,9,   -999.0,9,   -999.0,9,     8.40,2, 27.8310
 3230CITHER2_1,  A17C,   110,  1,     30,     30,2,19940209,0355,-15.8948, -30.7187, 4927,    125.7,  24.0280,  37.0670,2,  37.0890,2,    213.5,2,    210.7,2,     1.20,2,     0.04,2,     0.14,2,    2.014,2,    1.073,2, -999.000,9,-999.0000,9,  -999.00,9,   -999.0,9,   -999.0,9,     8.36,2, 24.0010
 3230CITHER2_1,  A17C,   110,  1,     29,     29,2,19940209,0355,-15.8948, -30.7187, 4927,    200.2,  18.4680,  36.0970,2,  36.0380,2,    194.7,2,    189.2,2,     2.10,2,     3.71,2,     0.46,2,    2.280,2,    1.157,2, -999.000,9,-999.0000,9,  -999.00,9,   -999.0,9,   -999.0,9,     8.23,2, 18.4330
 3230CITHER2_1,  A17C,   110,  1,     28,     28,2,19940209,0355,-15.8948, -30.7187, 4927,    302.0,  13.1310,  35.2150,2,  35.2170,2,    165.8,2,    158.3,2,     6.10,2,    16.17,2,     1.10,2,    1.764,2,    0.879,2, -999.000,9,-999.0000,9,  -999.00,9,   -999.0,9,   -999.0,9,     8.07,2, 13.0890
 3230CITHER2_1,  A17C,   110,  1,     27,     27,2,19940209,0355,-15.8948, -30.7187, 4927,    400.0,  10.2110,  34.8930,2,  34.8880,2,    129.2,2,    130.7,2,    11.30,2,    24.76,2,     1.65,2,    0.776,2,    0.409,2, -999.000,9,-999.0000,9,  -999.00,9,   -999.0,9,   -999.0,9,     7.95,2, 10.1640
 3230CITHER2_1,  A17C,   110,  1,     26,     26,2,19940209,0355,-15.8948, -30.7187, 4927,    599.7,   5.8430,  34.4670,2,  34.4640,2,    178.1,2,    178.8,2,    21.50,2,    30.04,2,     2.01,2,    0.486,2,    0.272,2, -999.000,9,-999.0000,9,  -999.00,9,   -999.0,9,   -999.0,9,     7.92,2,  5.7910
 3230CITHER2_1,  A17C,   110,  1,     25,     25,2,19940209,0355,-15.8948, -30.7187, 4927,    801.5,   4.2190,  34.4030,2,  34.4050,2,    189.1,2,    188.1,2,    32.50,2,    32.42,2,     2.17,2,    0.252,2,    0.147,2, -999.000,9,-999.0000,9,  -999.00,9,   -999.0,9,   -999.0,9,     7.89,2,  4.1580
 3230CITHER2_1,  A17C,   110,  1,     24,     24,2,19940209,0355,-15.8948, -30.7187, 4927,    999.6,   3.7090,  34.5000,2,  34.5000,2,    184.3,2,    182.6,2,    39.10,2,    32.48,2,     2.20,2,    0.050,2,    0.038,2, -999.000,9,-999.0000,9,  -999.00,9,   -999.0,9,   -999.0,9,     7.88,2,  3.6360
 3230CITHER2_1,  A17C,   110,  1,     23,     23,2,19940209,0355,-15.8948, -30.7187, 4927,   1200.4,   3.9230,  34.6960,2,  34.6950,2,    186.3,2,    186.2,2,    33.50,2,    29.75,2,     2.00,2,    0.006,2,    0.017,2, -999.000,9,-999.0000,9,  -999.00,9,   -999.0,9,   -999.0,9,     7.91,2,  3.8310
 3230CITHER2_1,  A17C,   110,  1,     22,     22,2,19940209,0355,-15.8948, -30.7187, 4927,   1399.2,   3.9790,  34.8470,2,  34.8490,2,    205.0,2,    206.7,2,    26.90,2,    25.03,2,     1.71,2,    0.002,2,    0.006,2, -999.000,9,-999.0000,9,  -999.00,9,   -999.0,9,   -999.0,9,     7.95,2,  3.8680
 3230CITHER2_1,  A17C,   110,  1,     21,     21,2,19940209,0355,-15.8948, -30.7187, 4927,   1500.6,   3.8580,  34.8830,2,  34.8850,2,    216.0,2,    216.9,2,    25.90,2,    23.78,2,     1.61,2,    0.001,2,    0.015,2, -999.000,9,-999.0000,9,  -999.00,9,   -999.0,9,   -999.0,9,     7.97,2,  3.7400
 3230CITHER2_1,  A17C,   110,  1,     20,     20,2,19940209,0355,-15.8948, -30.7187, 4927,   1601.6,   3.7290,  34.9120,2,  34.9130,2,    227.1,2,    227.8,2,    25.00,2,    22.74,2,     1.52,2,    0.003,2,    0.015,2, -999.000,9,-999.0000,9,  -999.00,9,   -999.0,9,   -999.0,9,     7.99,2,  3.6030
 3230CITHER2_1,  A17C,   110,  1,     19,     19,2,19940209,0355,-15.8948, -30.7187, 4927,   1699.6,   3.6620,  34.9330,2,  34.9360,2,    233.8,2,    236.5,2,    23.70,2,    21.63,2,     1.44,2,    0.006,2,    0.015,2, -999.000,9,-999.0000,9,  -999.00,9,   -999.0,9,   -999.0,9,     8.00,2,  3.5280
 3230CITHER2_1,  A17C,   110,  1,     18,     18,2,19940209,0355,-15.8948, -30.7187, 4927,   1800.9,   3.4840,  34.9300,2,  34.9340,2,    238.5,2,    240.1,2,    25.20,2,    21.50,2,     1.43,2,    0.005,2,    0.015,2, -999.000,9,-999.0000,9,  -999.00,9,   -999.0,9,   -999.0,9,     8.00,2,  3.3430
 3230CITHER2_1,  A17C,   110,  1,     17,     17,2,19940209,0355,-15.8948, -30.7187, 4927,   1999.3,   3.1930,  34.9250,2,  34.9260,2,    244.7,2,    243.1,2,    28.90,2,    21.60,2,     1.42,2,    0.002,2,    0.008,2, -999.000,9,-999.0000,9,  -999.00,9,   -999.0,9,   -999.0,9,     8.01,2,  3.0380
 3230CITHER2_1,  A17C,   110,  1,     16,     16,2,19940209,0355,-15.8948, -30.7187, 4927,   2202.6,   3.0800,  34.9340,2,  34.9330,2,    248.2,2,    247.9,2,    29.00,2,    20.87,2,     1.39,2,    0.006,2,    0.008,2, -999.000,9,-999.0000,9,  -999.00,9,   -999.0,9,   -999.0,9,     8.01,2,  2.9070
 3230CITHER2_1,  A17C,   110,  1,     15,     15,2,19940209,0355,-15.8948, -30.7187, 4927,   2400.9,   2.9050,  34.9200,2,  34.9160,2,    247.1,2,    245.9,2,    33.00,2,    21.39,2,     1.43,2,    0.002,2,    0.012,2, -999.000,9,-999.0000,9,  -999.00,9,   -999.0,9,   -999.0,9,     8.01,2,  2.7160
 3230CITHER2_1,  A17C,   110,  1,     14,     14,2,19940209,0355,-15.8948, -30.7187, 4927,   2699.0,   2.7980,  34.9160,2,  34.9180,2,    245.4,2,    246.4,2,    35.30,2,    21.58,2,     1.43,2,   -0.001,2,    0.012,2, -999.000,9,-999.0000,9,  -999.00,9,   -999.0,9,   -999.0,9,     8.01,2,  2.5820
 3230CITHER2_1,  A17C,   110,  1,     13,     13,2,19940209,0355,-15.8948, -30.7187, 4927,   2998.6,   2.7170,  34.9130,2,  34.9130,2,    246.0,2,    247.6,2,    36.50,2,    21.50,2,     1.43,2,    0.000,2,    0.010,2, -999.000,9,-999.0000,9,  -999.00,9,   -999.0,9,   -999.0,9,     8.01,2,  2.4730
 3230CITHER2_1,  A17C,   110,  1,     12,     12,2,19940209,0355,-15.8948, -30.7187, 4927,   3198.9,   2.6700,  34.9130,2,  34.9160,2,    249.7,2,    249.8,2,    35.80,2,    21.24,2,     1.41,2,    0.001,2,    0.015,2, -999.000,9,-999.0000,9,  -999.00,9,   -999.0,9,   -999.0,9,     8.01,2,  2.4060
 3230CITHER2_1,  A17C,   110,  1,     11,     11,2,19940209,0355,-15.8948, -30.7187, 4927,   3400.3,   2.5720,  34.9020,2,  34.9060,2,    249.1,2,    248.5,2,    39.20,2,    21.60,2,     1.43,2,    0.005,2,    0.015,2, -999.000,9,-999.0000,9,  -999.00,9,   -999.0,9,   -999.0,9,     8.01,2,  2.2890
 3230CITHER2_1,  A17C,   110,  1,     10,     10,2,19940209,0355,-15.8948, -30.7187, 4927,   3599.3,   2.5030,  34.9040,2,  34.9030,2,    252.9,2,    254.8,2,    37.50,2,    21.00,2,     1.40,2,    0.006,2,    0.024,2, -999.000,9,-999.0000,9,  -999.00,9,   -999.0,9,   -999.0,9,     8.02,2,  2.2000
 3230CITHER2_1,  A17C,   110,  1,      9,      9,2,19940209,0355,-15.8948, -30.7187, 4927,   3798.7,   2.2950,  34.8840,2,  34.8960,2,    253.0,2,    252.0,2,    44.10,2,    21.70,2,     1.45,2,    0.004,2,    0.014,2, -999.000,9,-999.0000,9,  -999.00,9,   -999.0,9,   -999.0,9,     8.01,2,  1.9750
 3230CITHER2_1,  A17C,   110,  1,      8,      8,2,19940209,0355,-15.8948, -30.7187, 4927,   3899.0,   2.1750,  34.8700,2,  34.8690,2,    249.3,2,    248.3,2,    50.70,2,    22.58,2,     1.51,2,    0.000,2,    0.009,2, -999.000,9,-999.0000,9,  -999.00,9,   -999.0,9,   -999.0,9,     8.00,2,  1.8470
 3230CITHER2_1,  A17C,   110,  1,      7,      7,2,19940209,0355,-15.8948, -30.7187, 4927,   3998.7,   2.0720,  34.8610,2,  34.8610,2,    248.8,2,    247.1,2,    54.40,2,    23.02,2,     1.55,2,    0.001,2,    0.006,2, -999.000,9,-999.0000,9,  -999.00,9,   -999.0,9,   -999.0,9,     7.99,2,  1.7360
 3230CITHER2_1,  A17C,   110,  1,      6,      6,2,19940209,0355,-15.8948, -30.7187, 4927,   4198.0,   1.7760,  34.8280,2,  34.8280,2,    242.7,2,    241.7,2,    67.90,2,    24.76,2,     1.69,2,    0.002,2,    0.010,2, -999.000,9,-999.0000,9,  -999.00,9,   -999.0,9,   -999.0,9,     7.97,2,  1.4260
 3230CITHER2_1,  A17C,   110,  1,      5,      5,2,19940209,0355,-15.8948, -30.7187, 4927,   4398.3,   1.3510,  34.7810,2,  34.7800,2,    233.8,2,    233.7,2,    87.00,2,    27.59,2,     1.87,2,    0.004,2,    0.011,2, -999.000,9,-999.0000,9,  -999.00,9,   -999.0,9,   -999.0,9,     7.95,2,  0.9920
 3230CITHER2_1,  A17C,   110,  1,      4,      4,2,19940209,0355,-15.8948, -30.7187, 4927,   4596.8,   0.9770,  34.7390,2,  34.7380,2,    227.2,2,    227.4,2,   103.20,2,    29.77,2,     2.03,2,    0.010,2,    0.014,2, -999.000,9,-999.0000,9,  -999.00,9,   -999.0,9,   -999.0,9,     7.92,2,  0.6070
 3230CITHER2_1,  A17C,   110,  1,      3,      3,2,19940209,0355,-15.8948, -30.7187, 4927,   4799.0,   0.4880,  34.6940,2,  34.6930,2,    220.9,2,    222.2,2,   120.80,2,    32.06,2,     2.19,2,    0.049,2,    0.032,2, -999.000,9,-999.0000,9,  -999.00,9,   -999.0,9,   -999.0,9,     7.89,2,  0.1110
 3230CITHER2_1,  A17C,   110,  1,      2,      2,2,19940209,0355,-15.8948, -30.7187, 4927,   4899.9,   0.3840,  34.6820,2,  34.6840,2,    219.4,2,    221.4,2,   124.00,2,    32.78,2,     2.24,2,    0.075,2,    0.048,2, -999.000,9,-999.0000,9,  -999.00,9,   -999.0,9,   -999.0,9,     7.89,2, -0.0010
 3230CITHER2_1,  A17C,   110,  1,      1,      1,2,19940209,0355,-15.8948, -30.7187, 4927,   4979.2,   0.3850,  34.6820,2,  34.6810,2,    218.3,2,    220.9,2,   124.30,2,    32.73,2,     2.24,2,    0.074,2,    0.047,2, -999.000,9,-999.0000,9,  -999.00,9,   -999.0,9,   -999.0,9,     7.90,2, -0.0090
 3230CITHER2_1,  A17C,   111,  1,     32,     32,2,19940209,0959,-15.4042, -30.6952, 4825,      4.7,  27.8410,  37.3580,2,  37.3570,2,    199.4,2,    197.7,2,     1.20,2,     0.04,2,     0.11,2,    1.741,2,    0.955,2, -999.000,9,-999.0000,9,  -999.00,9,   2075.3,2,   2458.7,2,     8.39,2, 27.8400
 3230CITHER2_1,  A17C,   111,  1,     31,     31,2,19940209,0959,-15.4042, -30.6952, 4825,     42.6,  27.7380,  37.3520,2,  37.3520,2,    202.9,2,    198.4,2,     1.00,2,     0.04,2,     0.10,2,    1.766,2,    0.961,2, -999.000,9,-999.0000,9,  -999.00,9,   2071.3,2,   2457.2,2,     8.39,2, 27.7280
 3230CITHER2_1,  A17C,   111,  1,     30,     30,2,19940209,0959,-15.4042, -30.6952, 4825,    125.6,  24.5960,  37.1850,2,  37.1550,2,    212.6,2,    209.3,2,     1.10,2,     0.04,2,     0.16,2,    1.981,2,    1.065,2, -999.000,9,-999.0000,9,  -999.00,9,   2086.2,2,   2450.9,2,     8.36,2, 24.5690
 3230CITHER2_1,  A17C,   111,  1,     29,     29,2,19940209,0959,-15.4042, -30.6952, 4825,    201.1,  19.2660,  36.1910,2,  36.1340,2,    193.1,2,    191.2,2,     1.90,2,     3.06,2,     0.44,2,    2.267,2,    1.168,2, -999.000,9,-999.0000,9,  -999.00,9,   2104.7,2,   2383.4,2,     8.24,2, 19.2300
 3230CITHER2_1,  A17C,   111,  1,     28,     28,2,19940209,0959,-15.4042, -30.6952, 4825,    401.8,   9.9660,  34.8530,2,  34.8610,2,    138.9,2,    140.0,2,    11.30,2,    24.64,2,     1.65,2,    0.800,2,    0.420,2, -999.000,9,-999.0000,9,  -999.00,9,   2179.0,2,   2313.0,2,     7.95,2,  9.9190
 3230CITHER2_1,  A17C,   111,  1,     27,     27,2,19940209,0959,-15.4042, -30.6952, 4825,    600.4,   5.8390,  34.4620,2,  34.4630,2,    174.0,2,    178.9,2,    21.50,2,    30.47,2,     2.02,2,    0.473,2,    0.257,2, -999.000,9,-999.0000,9,  -999.00,9,   2188.7,2,   2304.9,2,     7.91,2,  5.7870
 3230CITHER2_1,  A17C,   111,  1,     26,     26,2,19940209,0959,-15.4042, -30.6952, 4825,    769.9,   4.0230,  34.3980,2,  34.3960,2,    196.0,2,    192.5,2,    34.70,2,    32.66,2,     2.18,2,    0.240,2,    0.143,2, -999.000,9,-999.0000,9,  -999.00,9,   2203.6,2,   2315.6,2,     7.89,2,  3.9660
 3230CITHER2_1,  A17C,   111,  1,     25,     25,2,19940209,0959,-15.4042, -30.6952, 4825,   1002.1,   3.6950,  34.5170,2,  34.5180,2,    184.0,2,    182.7,2,    39.20,2,    32.68,2,     2.19,2,    0.046,2,    0.036,2, -999.000,9,-999.0000,9,  -999.00,9,   2215.2,2,   2323.5,2,     7.88,2,  3.6220
 3230CITHER2_1,  A17C,   111,  1,     24,     24,2,19940209,0959,-15.4042, -30.6952, 4825,   1200.4,   3.9630,  34.7300,2,  34.7270,2,    187.5,2,    188.3,2,    32.90,2,    29.26,2,     1.97,2,    0.003,2,    0.011,2, -999.000,9,-999.0000,9,  -999.00,9,   2206.4,2,   2326.5,2,     7.91,2,  3.8700
 3230CITHER2_1,  A17C,   111,  1,     23,     23,2,19940209,0959,-15.4042, -30.6952, 4825,   1401.5,   3.9830,  34.8600,2,  34.8600,2,    207.5,2,    208.9,2,    26.20,2,    25.07,2,     1.70,2,    0.002,2,    0.013,2, -999.000,9,-999.0000,9,  -999.00,9,   2191.3,2,   2329.3,2,     7.96,2,  3.8720
 3230CITHER2_1,  A17C,   111,  1,     22,     22,2,19940209,0959,-15.4042, -30.6952, 4825,   1600.2,   3.7590,  34.9170,2,  34.9170,2,    226.6,2,    229.2,2,    24.40,2,    22.40,2,     1.52,2,    0.008,2,    0.016,2, -999.000,9,-999.0000,9,  -999.00,9,   2179.4,2,   2330.9,2,     7.99,2,  3.6330
 3230CITHER2_1,  A17C,   111,  1,     21,     21,2,19940209,0959,-15.4042, -30.6952, 4825,   1701.3,   3.6180,  34.9290,2,  34.9310,2,    234.1,2,    236.4,2,    24.30,2,    21.62,2,     1.47,2,    0.007,2,    0.013,2, -999.000,9,-999.0000,9,  -999.00,9,   2174.8,2,   2330.7,2,     8.00,2,  3.4840
 3230CITHER2_1,  A17C,   111,  1,     20,     20,2,19940209,0959,-15.4042, -30.6952, 4825,   1800.4,   3.4460,  34.9290,2,  34.9280,2,    238.5,2,    239.7,2,    25.80,2,    21.49,2,     1.45,2,    0.004,2,    0.014,2, -999.000,9,-999.0000,9,  -999.00,9,   2175.5,2,   2331.5,2,     8.00,2,  3.3050
 3230CITHER2_1,  A17C,   111,  1,     19,     19,2,19940209,0959,-15.4042, -30.6952, 4825,   2001.3,   3.2020,  34.9260,2,  34.9250,2,    243.1,2,    244.9,2,    28.80,2,    21.41,2,     1.44,2,   -0.001,2,    0.009,2, -999.000,9,-999.0000,9,  -999.00,9,   2176.8,2,   2334.7,2,     8.01,2,  3.0460
 3230CITHER2_1,  A17C,   111,  1,     18,     18,2,19940209,0959,-15.4042, -30.6952, 4825,   2200.6,   2.9870,  34.9150,2,  34.9170,2,    242.7,2,    242.5,2,    32.80,2,    21.73,2,     1.46,2,    0.000,2,    0.008,2, -999.000,9,-999.0000,9,  -999.00,9,   -999.0,5,   2339.7,2,     8.00,2,  2.8160
 3230CITHER2_1,  A17C,   111,  1,     16,     16,2,19940209,0959,-15.4042, -30.6952, 4825,   2399.2,   2.9020,  34.9180,2,  34.9190,2,    244.8,2,    245.3,2,    33.50,2,    21.57,2,     1.45,2,    0.002,2,    0.009,2, -999.000,9,-999.0000,9,  -999.00,9,   2180.4,2,   2340.4,2,     8.01,2,  2.7140
 3230CITHER2_1,  A17C,   111,  1,     15,     15,2,19940209,0959,-15.4042, -30.6952, 4825,   2599.5,   2.7940,  34.9120,2,  34.9120,2,    244.5,2,    244.1,2,    36.40,2,    21.66,2,     1.48,2,   -0.001,2,    0.008,2, -999.000,9,-999.0000,9,  -999.00,9,   2183.8,2,   2342.5,2,     8.01,2,  2.5880
 3230CITHER2_1,  A17C,   111,  1,     14,     14,2,19940209,0959,-15.4042, -30.6952, 4825,   2799.8,   2.7750,  34.9170,2,  34.9180,2,    247.8,2,    247.6,2,    34.70,2,    21.10,2,     1.43,2,    0.001,2,    0.007,2, -999.000,9,-999.0000,9,  -999.00,9,   2180.8,2,   2341.9,2,     8.01,2,  2.5500
 3230CITHER2_1,  A17C,   111,  1,     13,     13,2,19940209,0959,-15.4042, -30.6952, 4825,   2999.9,   2.7090,  34.9140,2,  34.9130,2,    248.1,2,    247.5,2,    36.00,2,    21.15,2,     1.43,2,    0.002,2,    0.011,2, -999.000,9,-999.0000,9,  -999.00,9,   2182.1,2,   2343.9,2,     8.01,2,  2.4650
 3230CITHER2_1,  A17C,   111,  1,     12,     12,2,19940209,0959,-15.4042, -30.6952, 4825,   3200.3,   2.6580,  34.9150,2,  34.9130,2,    250.5,2,    250.5,2,    35.40,2,    20.81,2,     1.42,2,    0.002,2,    0.010,2, -999.000,9,-999.0000,9,  -999.00,9,   2181.3,2,   2341.8,2,     8.02,2,  2.3940
 3230CITHER2_1,  A17C,   111,  1,     11,     11,2,19940209,0959,-15.4042, -30.6952, 4825,   3400.8,   2.5740,  34.9100,2,  34.9140,2,    252.1,2,    251.2,2,    36.80,2,    20.77,2,     1.42,2,    0.004,2,    0.019,2, -999.000,9,-999.0000,9,  -999.00,9,   2181.9,2,   2343.8,2,     8.02,2,  2.2910
 3230CITHER2_1,  A17C,   111,  1,     10,     10,2,19940209,0959,-15.4042, -30.6952, 4825,   3600.8,   2.4730,  34.9020,2,  34.9080,2,    254.7,2,    253.4,2,    37.90,2,    20.64,2,     1.41,2,    0.006,2,    0.014,2, -999.000,9,-999.0000,9,  -999.00,9,   2182.1,2,   2343.6,2,     8.02,2,  2.1700
 3230CITHER2_1,  A17C,   111,  1,      9,      9,2,19940209,0959,-15.4042, -30.6952, 4825,   3699.3,   2.3910,  34.8940,2,  34.8970,2,    253.8,2,    253.2,2,    40.10,2,    21.00,2,     1.43,2,    0.011,2,    0.012,2, -999.000,9,-999.0000,9,  -999.00,9,   -999.0,5,   2346.3,2,     8.01,2,  2.0800
 3230CITHER2_1,  A17C,   111,  1,      8,      8,2,19940209,0959,-15.4042, -30.6952, 4825,   3845.5,   2.2210,  34.8780,2,  34.8750,2,    252.0,2,    250.6,2,    47.20,2,    21.89,2,     1.51,2,    0.003,2,    0.016,2, -999.000,9,-999.0000,9,  -999.00,9,   -999.0,5,   2348.4,2,     8.00,2,  1.8980
 3230CITHER2_1,  A17C,   111,  1,      7,      7,2,19940209,0959,-15.4042, -30.6952, 4825,   3899.4,   2.1540,  34.8700,2,  34.8730,2,    251.1,2,    249.7,2,    49.60,2,    22.16,2,     1.54,2,    0.004,2,    0.018,2, -999.000,9,-999.0000,9,  -999.00,9,   2193.7,2,   2350.4,2,     8.00,2,  1.8270
 3230CITHER2_1,  A17C,   111,  1,      6,      6,2,19940209,0959,-15.4042, -30.6952, 4825,   4000.7,   2.0150,  34.8560,2,  34.8550,2,    248.5,2,    247.8,2,    55.80,2,    22.92,2,     1.57,2,    0.001,2,    0.012,2, -999.000,9,-999.0000,9,  -999.00,9,   2198.7,2,   2351.6,2,     7.99,2,  1.6800
 3230CITHER2_1,  A17C,   111,  1,      5,      5,2,19940209,0959,-15.4042, -30.6952, 4825,   4196.0,   1.6760,  34.8180,2,  34.8180,2,    241.2,2,    240.2,2,    71.40,2,    25.05,2,     1.74,2,   -0.001,2,    0.010,2, -999.000,9,-999.0000,9,  -999.00,9,   2215.4,2,   2359.3,2,     7.97,2,  1.3290
 3230CITHER2_1,  A17C,   111,  1,      4,      4,2,19940209,0959,-15.4042, -30.6952, 4825,   4402.3,   1.3000,  34.7770,2,  34.7760,2,    232.8,2,    232.5,2,    88.90,2,    27.42,2,     1.90,2,    0.002,2,    0.008,2, -999.000,9,-999.0000,9,  -999.00,9,   2231.1,2,   2368.4,2,     7.95,2,  0.9420
 3230CITHER2_1,  A17C,   111,  1,      3,      3,2,19940209,0959,-15.4042, -30.6952, 4825,   4598.8,   0.8800,  34.7310,2,  34.7350,2,    225.8,2,    226.4,2,   107.20,2,    29.68,2,     2.07,2,    0.014,2,    0.019,2, -999.000,9,-999.0000,9,  -999.00,9,   2247.4,2,   2372.4,2,     7.92,2,  0.5130
 3230CITHER2_1,  A17C,   111,  1,      2,      2,2,19940209,0959,-15.4042, -30.6952, 4825,   4770.4,   0.4300,  34.6860,2,  34.6870,2,    219.8,2,    221.9,2,   122.40,2,    31.67,2,     2.22,2,    0.068,2,    0.039,2, -999.000,9,-999.0000,9,  -999.00,9,   2260.7,2,   2377.2,2,     7.89,2,  0.0580
 3230CITHER2_1,  A17C,   111,  1,      1,      1,2,19940209,0959,-15.4042, -30.6952, 4825,   4867.2,   0.3840,  34.6830,2,  34.6850,2,    218.2,2,    221.4,2,   123.70,2,    32.18,2,     2.23,2,    0.079,2,    0.044,2, -999.000,9,-999.0000,9,  -999.00,9,   2262.5,2,   2377.1,2,     7.89,2,  0.0030