BOTTLE,20030515WHPSIOSA
EXPOCODE,SECT_ID,STNNBR,CASTNO,SAMPNO,BTLNBR,BTLNBR_FLAG_W,DATE,TIME,LATITUDE,LONGITUDE,DEPTH,CTDPRS,CTDTMP,CTDSAL,CTDSAL_FLAG_W,SALNTY,SALNTY_FLAG_W,CTDOXY,CTDOXY_FLAG_W,OXYGEN,OXYGEN_FLAG_W,SILCAT,SILCAT_FLAG_W,NITRAT,NITRAT_FLAG_W,PHSPHT,PHSPHT_FLAG_W,CFC-11,CFC-11_FLAG_W,CFC-12,CFC-12_FLAG_W,TRITUM,TRITUM_FLAG_W,HELIUM,HELIUM_FLAG_W,DELHE3,DELHE3_FLAG_W,TCARBN,TCARBN_FLAG_W,ALKALI,ALKALI_FLAG_W,PH,PH_FLAG_W,THETA
,,,,,,,,,,,,DBAR,ITS-90,PSS-78,,PSS-78,,UMOL/KG,,UMOL/KG,,UMOL/KG,,UMOL/KG,,UMOL/KG,,PMOL/KG,,PMOL/KG,,TU,,NMOL/KG,,PERCNT,,UMOL/KG,,UMOL/KG,,,,DEG C
 3230CITHER2_2,  A17N,   205,  1,     32,     32,2,19940313,0358,  8.5835, -46.5322, 4602,      5.0,  25.7030,  36.2500,2,  36.2480,2,    203.3,2,    204.2,2,     1.60,2,     0.00,2,     0.03,2,    1.786,2,    0.997,2, -999.000,9,-999.0000,9,  -999.00,9,   2020.5,2,   -999.0,9,     8.38,2, 25.7020
 3230CITHER2_2,  A17N,   205,  1,     31,     31,2,19940313,0358,  8.5835, -46.5322, 4602,     61.6,  24.4590,  36.3230,2,  36.2800,2,    210.7,2,    185.3,2,     2.20,2,     2.13,2,     0.17,2,    1.675,2,    0.930,2, -999.000,9,-999.0000,9,  -999.00,9,   2061.4,2,   -999.0,9,     8.31,2, 24.4460
 3230CITHER2_2,  A17N,   205,  1,     30,     30,2,19940313,0358,  8.5835, -46.5322, 4602,    126.4,  13.8660,  35.5200,2,  35.5110,2,    106.8,2,    103.7,2,     9.40,2,    22.55,2,     1.40,2,    1.033,2,    0.547,2, -999.000,9,-999.0000,9,  -999.00,9,   2190.4,2,   -999.0,9,     7.99,2, 13.8480
 3230CITHER2_2,  A17N,   205,  1,     29,     29,2,19940313,0358,  8.5835, -46.5322, 4602,    200.9,  10.4330,  35.0570,2,  35.0500,2,    112.1,2,    112.5,2,    13.50,2,    27.13,2,     1.74,2,    0.647,2,    0.357,2, -999.000,9,-999.0000,9,  -999.00,9,   2197.4,2,   -999.0,9,     7.92,2, 10.4090
 3230CITHER2_2,  A17N,   205,  1,     28,     28,2,19940313,0358,  8.5835, -46.5322, 4602,    300.6,   9.2280,  34.9160,2,  34.9100,2,    100.6,2,    100.0,2,    16.90,2,    30.94,2,     1.94,2,    0.336,2,    0.191,2, -999.000,9,-999.0000,9,  -999.00,9,   2212.2,2,   -999.0,9,     7.86,2,  9.1950
 3230CITHER2_2,  A17N,   205,  1,     27,     27,2,19940313,0358,  8.5835, -46.5322, 4602,    401.6,   8.4220,  34.8340,2,  34.8320,2,    100.5,2,    100.2,2,    19.10,2,    32.45,2,     2.05,2,    0.228,2,    0.133,2, -999.000,9,-999.0000,9,  -999.00,9,   2217.2,2,   -999.0,9,     7.85,2,  8.3800
 3230CITHER2_2,  A17N,   205,  1,     26,     26,2,19940313,0358,  8.5835, -46.5322, 4602,    549.9,   7.1870,  34.7030,2,  34.6980,2,    121.8,2,    120.0,2,    22.60,2,    33.00,2,     2.14,2,    0.180,2,    0.105,2, -999.000,9,-999.0000,9,  -999.00,9,   2215.2,2,   -999.0,9,     7.85,2,  7.1340
 3230CITHER2_2,  A17N,   205,  1,     25,     25,2,19940313,0358,  8.5835, -46.5322, 4602,    600.5,   7.1400,  34.7320,2,  34.7340,2,    110.5,2,    111.4,2,    22.90,2,    33.76,2,     2.18,2,    0.141,2,    0.086,2, -999.000,9,-999.0000,9,  -999.00,9,   2220.9,2,   -999.0,9,     7.83,2,  7.0820
 3230CITHER2_2,  A17N,   205,  1,     24,     24,2,19940313,0358,  8.5835, -46.5322, 4602,    800.8,   5.7490,  34.6690,2,  34.6670,2,    116.2,2,    126.2,2,    28.20,2,    34.90,2,     2.29,2,    0.069,2,    0.047,2, -999.000,9,-999.0000,9,  -999.00,9,   2219.2,2,   -999.0,9,     7.82,2,  5.6790
 3230CITHER2_2,  A17N,   205,  1,     23,     23,2,19940313,0358,  8.5835, -46.5322, 4602,   1001.3,   4.9960,  34.7250,2,  34.7250,2,    142.6,2,    150.7,2,    29.80,2,    32.38,2,     2.14,2,    0.008,2,    0.006,2, -999.000,9,-999.0000,9,  -999.00,9,   2215.8,2,   -999.0,9,     7.86,2,  4.9120
 3230CITHER2_2,  A17N,   205,  1,     22,     22,2,19940313,0358,  8.5835, -46.5322, 4602,   1200.5,   4.8870,  34.8670,2,  34.8690,2,    168.8,2,    175.2,2,    25.70,2,    28.29,2,     1.85,2,    0.018,2,    0.014,2, -999.000,9,-999.0000,9,  -999.00,9,   -999.0,9,   -999.0,9,     7.91,2,  4.7860
 3230CITHER2_2,  A17N,   205,  1,     21,     21,2,19940313,0358,  8.5835, -46.5322, 4602,   1399.2,   4.6610,  34.9870,2,  34.9870,2,    211.8,2,    219.6,2,    19.60,2,    22.51,2,     1.46,2,    0.105,2,    0.064,2, -999.000,9,-999.0000,9,  -999.00,9,   -999.0,9,   -999.0,9,     7.98,2,  4.5430
 3230CITHER2_2,  A17N,   205,  1,     20,     20,2,19940313,0358,  8.5835, -46.5322, 4602,   1499.3,   4.4700,  34.9970,2,  34.9960,2,    230.4,2,    232.1,2,    18.40,2,    21.35,2,     1.37,2,    0.123,2,    0.071,2, -999.000,9,-999.0000,9,  -999.00,9,   -999.0,9,   -999.0,9,     7.99,2,  4.3450
 3230CITHER2_2,  A17N,   205,  1,     19,     19,2,19940313,0358,  8.5835, -46.5322, 4602,   1599.4,   4.2980,  34.9960,2,  34.9940,2,    239.4,2,    238.4,2,    18.10,2,    20.83,2,     1.33,2,    0.104,2,    0.064,2, -999.000,9,-999.0000,9,  -999.00,9,   -999.0,9,   -999.0,9,     8.00,2,  4.1650
 3230CITHER2_2,  A17N,   205,  1,     18,     18,2,19940313,0358,  8.5835, -46.5322, 4602,   1700.5,   4.0830,  34.9950,2,  34.9940,2,    245.7,2,    246.4,2,    17.80,2,    20.27,2,     1.29,2,    0.111,2,    0.066,2, -999.000,9,-999.0000,9,  -999.00,9,   -999.0,9,   -999.0,9,     8.01,2,  3.9430
 3230CITHER2_2,  A17N,   205,  1,     17,     17,2,19940313,0358,  8.5835, -46.5322, 4602,   1799.5,   3.9020,  34.9880,2,  34.9870,2,    250.0,2,    250.3,2,    18.40,2,    20.12,2,     1.27,2,    0.076,2,    0.058,2, -999.000,9,-999.0000,9,  -999.00,9,   -999.0,9,   -999.0,9,     8.01,2,  3.7550
 3230CITHER2_2,  A17N,   205,  1,     16,     16,2,19940313,0358,  8.5835, -46.5322, 4602,   2001.0,   3.6410,  34.9810,2,  34.9610,2,    254.8,2,    255.0,2,    19.50,2,    19.60,2,     1.25,2,    0.065,2,    0.042,2, -999.000,9,-999.0000,9,  -999.00,9,   -999.0,9,   -999.0,9,     8.02,2,  3.4790
 3230CITHER2_2,  A17N,   205,  1,     15,     15,2,19940313,0358,  8.5835, -46.5322, 4602,   2199.7,   3.4160,  34.9700,2,  34.9680,2,    256.2,2,    256.1,2,    21.70,2,    19.68,2,     1.26,2,    0.034,2,    0.025,2, -999.000,9,-999.0000,9,  -999.00,9,   -999.0,9,   -999.0,9,     8.02,2,  3.2380
 3230CITHER2_2,  A17N,   205,  1,     14,     14,2,19940313,0358,  8.5835, -46.5322, 4602,   2399.6,   3.2020,  34.9610,2,  34.9550,2,    257.5,2,    257.8,2,    23.50,2,    19.68,2,     1.26,2,    0.037,2,    0.028,2, -999.000,9,-999.0000,9,  -999.00,9,   -999.0,9,   -999.0,9,     8.02,2,  3.0080
 3230CITHER2_2,  A17N,   205,  1,     13,     13,2,19940313,0358,  8.5835, -46.5322, 4602,   2400.6,   3.2010,  34.9610,2,  34.9530,2,    257.6,2,    257.9,2,    23.40,2,    19.76,2,     1.26,2,    0.040,2,    0.027,2, -999.000,9,-999.0000,9,  -999.00,9,   -999.0,9,   -999.0,9,     8.02,2,  3.0070
 3230CITHER2_2,  A17N,   205,  1,     12,     12,2,19940313,0358,  8.5835, -46.5322, 4602,   2699.7,   2.9640,  34.9480,2,  34.9470,2,    258.5,2,    258.6,2,    26.30,2,    19.88,2,     1.27,2,    0.069,2,    0.047,2, -999.000,9,-999.0000,9,  -999.00,9,   -999.0,9,   -999.0,9,     8.02,2,  2.7450
 3230CITHER2_2,  A17N,   205,  1,     11,     11,2,19940313,0358,  8.5835, -46.5322, 4602,   2998.7,   2.7960,  34.9350,2,  34.9260,2,    257.4,2,    257.6,2,    29.40,2,    20.11,2,     1.30,2,    0.037,2,    0.024,2, -999.000,9,-999.0000,9,  -999.00,9,   -999.0,9,   -999.0,9,     8.02,2,  2.5500
 3230CITHER2_2,  A17N,   205,  1,     10,     10,2,19940313,0358,  8.5835, -46.5322, 4602,   3200.2,   2.7060,  34.9290,2,  34.9290,2,    258.0,2,    259.5,2,    30.70,2,    20.22,2,     1.30,2,    0.052,2,    0.035,2, -999.000,9,-999.0000,9,  -999.00,9,   -999.0,9,   -999.0,9,     8.02,2,  2.4410
 3230CITHER2_2,  A17N,   205,  1,      9,      9,2,19940313,0358,  8.5835, -46.5322, 4602,   3398.9,   2.6050,  34.9210,2,  34.9200,2,    257.2,2,    257.3,2,    33.00,2,    20.45,2,     1.32,2,    0.040,2,    0.032,2, -999.000,9,-999.0000,9,  -999.00,9,   -999.0,9,   -999.0,9,     8.02,2,  2.3210
 3230CITHER2_2,  A17N,   205,  1,      8,      8,2,19940313,0358,  8.5835, -46.5322, 4602,   3549.5,   2.5000,  34.9110,2,  34.9110,2,    257.5,2,    256.9,2,    35.30,2,    20.72,2,     1.33,2,    0.032,2,    0.019,2, -999.000,9,-999.0000,9,  -999.00,9,   -999.0,9,   -999.0,9,     8.01,2,  2.2020
 3230CITHER2_2,  A17N,   205,  1,      7,      7,2,19940313,0358,  8.5835, -46.5322, 4602,   3700.9,   2.4310,  34.9040,2,  34.8960,2,    256.7,2,    256.5,2,    36.90,2,    20.83,2,     1.34,2,    0.036,2,    0.027,2, -999.000,9,-999.0000,9,  -999.00,9,   -999.0,9,   -999.0,9,     8.01,2,  2.1180
 3230CITHER2_2,  A17N,   205,  1,      6,      6,2,19940313,0358,  8.5835, -46.5322, 4602,   3849.4,   2.3820,  34.9050,2,  34.9050,2,    262.6,2,    262.9,2,    32.60,2,    19.86,2,     1.28,2,    0.085,2,    0.053,2, -999.000,9,-999.0000,9,  -999.00,9,   -999.0,9,   -999.0,9,     8.02,2,  2.0540
 3230CITHER2_2,  A17N,   205,  1,      5,      5,2,19940313,0358,  8.5835, -46.5322, 4602,   3997.0,   2.3350,  34.9020,2,  34.9010,2,    263.9,2,    264.2,2,    32.70,2,    19.71,2,     1.27,2,    0.110,2,    0.070,2, -999.000,9,-999.0000,9,  -999.00,9,   -999.0,9,   -999.0,9,     8.02,2,  1.9920
 3230CITHER2_2,  A17N,   205,  1,      4,      4,2,19940313,0358,  8.5835, -46.5322, 4602,   4199.0,   2.2830,  34.8960,2,  34.8970,2,    263.7,2,    263.3,2,    34.30,2,    19.86,2,     1.29,2,    0.113,2,    0.069,2, -999.000,9,-999.0000,9,  -999.00,9,   -999.0,9,   -999.0,9,     8.01,2,  1.9180
 3230CITHER2_2,  A17N,   205,  1,      3,      3,2,19940313,0358,  8.5835, -46.5322, 4602,   4399.1,   2.2340,  34.8880,2,  34.8900,2,    262.2,2,    261.0,2,    37.40,2,    20.28,2,     1.32,2,    0.104,2,    0.067,2, -999.000,9,-999.0000,9,  -999.00,9,   -999.0,9,   -999.0,9,     8.01,2,  1.8470
 3230CITHER2_2,  A17N,   205,  1,      2,      2,2,19940313,0358,  8.5835, -46.5322, 4602,   4598.5,   2.1530,  34.8770,2,  34.8760,2,    258.2,2,    256.1,2,    44.30,2,    21.22,2,     1.40,2,    0.077,2,    0.053,2, -999.000,9,-999.0000,9,  -999.00,9,   -999.0,9,   -999.0,9,     8.00,2,  1.7450
 3230CITHER2_2,  A17N,   205,  1,      1,      1,2,19940313,0358,  8.5835, -46.5322, 4602,   4666.8,   2.1550,  34.8770,2,  34.8760,2,    256.7,2,    256.0,2,    44.60,2,    21.15,2,     1.40,2,    0.072,2,    0.051,2, -999.000,9,-999.0000,9,  -999.00,9,   -999.0,9,   -999.0,9,     8.01,2,  1.7380
 3230CITHER2_2,  A17N,   206,  1,     32,     32,2,19940313,1021,  8.8748, -47.0433, 4654,      5.8,  25.9320,  36.3510,2,  36.3530,2,    208.6,2,    203.8,2,     1.60,2,     0.04,2,     0.04,2,    1.776,2,    0.990,2, -999.000,9,-999.0000,9,  -999.00,9,   -999.0,9,   -999.0,9,     8.38,2, 25.9310
 3230CITHER2_2,  A17N,   206,  1,     31,     31,2,19940313,1021,  8.8748, -47.0433, 4654,     45.3,  25.8810,  36.3510,2,  36.3550,2,    201.4,2,    203.2,2,     1.60,2,     0.04,2,     0.04,2,    1.762,2,    0.980,2, -999.000,9,-999.0000,9,  -999.00,9,   -999.0,9,   -999.0,9,     8.37,2, 25.8710
 3230CITHER2_2,  A17N,   206,  1,     30,     30,2,19940313,1021,  8.8748, -47.0433, 4654,    125.5,  13.4500,  35.5410,2,  35.5210,2,    100.3,2,    100.4,2,     9.60,2,    23.08,2,     1.44,2,    0.988,2,    0.526,2, -999.000,9,-999.0000,9,  -999.00,9,   -999.0,9,   -999.0,9,     7.98,2, 13.4320
 3230CITHER2_2,  A17N,   206,  1,     29,     29,2,19940313,1021,  8.8748, -47.0433, 4654,    201.7,  10.5210,  35.0870,2,  35.0880,2,    107.2,2,    111.5,2,    13.00,2,    26.74,2,     1.73,2,    0.657,2,    0.359,2, -999.000,9,-999.0000,9,  -999.00,9,   -999.0,9,   -999.0,9,     7.92,2, 10.4970
 3230CITHER2_2,  A17N,   206,  1,     28,     28,2,19940313,1021,  8.8748, -47.0433, 4654,    300.9,   8.6980,  34.8050,2,  34.8010,2,    122.8,2,    121.5,2,    16.50,2,    29.51,2,     1.93,2,    0.459,2,    0.246,2, -999.000,9,-999.0000,9,  -999.00,9,   -999.0,9,   -999.0,9,     7.89,2,  8.6660
 3230CITHER2_2,  A17N,   206,  1,     27,     27,2,19940313,1021,  8.8748, -47.0433, 4654,    400.9,   7.9540,  34.7210,2,  34.7190,2,    130.1,2,    129.1,2,    18.20,2,    30.41,2,     1.99,2,    0.404,2,    0.219,2, -999.000,9,-999.0000,9,  -999.00,9,   -999.0,9,   -999.0,9,     7.88,2,  7.9130
 3230CITHER2_2,  A17N,   206,  1,     26,     26,2,19940313,1021,  8.8748, -47.0433, 4654,    500.5,   7.2900,  34.6620,2,  34.6620,2,    130.3,2,    130.4,2,    20.30,2,    32.09,2,     2.10,2,    0.300,2,    0.169,2, -999.000,9,-999.0000,9,  -999.00,9,   -999.0,9,   -999.0,9,     7.86,2,  7.2410
 3230CITHER2_2,  A17N,   206,  1,     25,     25,2,19940313,1021,  8.8748, -47.0433, 4654,    530.6,   7.5880,  34.7610,2,  34.7610,2,    118.2,2,    110.4,2,    20.30,2,    33.34,2,     2.16,2,    0.187,2,    0.114,2, -999.000,9,-999.0000,9,  -999.00,9,   -999.0,9,   -999.0,9,     7.84,2,  7.5350
 3230CITHER2_2,  A17N,   206,  1,     24,     24,2,19940313,1021,  8.8748, -47.0433, 4654,    600.6,   7.1430,  34.7360,2,  34.7360,2,    110.6,2,    109.1,2,    22.00,2,    34.09,2,     2.21,2,    0.098,2,    0.062,2, -999.000,9,-999.0000,9,  -999.00,9,   -999.0,9,   -999.0,9,     7.83,2,  7.0850
 3230CITHER2_2,  A17N,   206,  1,     23,     23,2,19940313,1021,  8.8748, -47.0433, 4654,    801.0,   5.6520,  34.6530,2,  34.6550,2,    125.1,2,    124.1,2,    27.40,2,    35.05,2,     2.31,2,    0.016,2,    0.014,2, -999.000,9,-999.0000,9,  -999.00,9,   -999.0,9,   -999.0,9,     7.82,2,  5.5820
 3230CITHER2_2,  A17N,   206,  1,     22,     22,2,19940313,1021,  8.8748, -47.0433, 4654,   1001.1,   5.0980,  34.7250,2,  34.7220,2,    145.7,2,    142.7,2,    27.50,2,    32.85,2,     2.21,2,    0.003,2,    0.005,2, -999.000,9,-999.0000,9,  -999.00,9,   -999.0,9,   -999.0,9,     7.85,2,  5.0130
 3230CITHER2_2,  A17N,   206,  1,     21,     21,2,19940313,1021,  8.8748, -47.0433, 4654,   1200.0,   4.9400,  34.8670,2,  34.8650,2,    177.4,2,    174.8,2,    24.20,2,    27.80,2,     1.89,2,    0.025,2,    0.017,2, -999.000,9,-999.0000,9,  -999.00,9,   -999.0,9,   -999.0,9,     7.91,2,  4.8380
 3230CITHER2_2,  A17N,   206,  1,     20,     20,2,19940313,1021,  8.8748, -47.0433, 4654,   1399.1,   4.7530,  34.9820,2,  34.9870,2,    215.2,2,    216.2,2,    18.50,2,    22.43,2,     1.50,2,    0.123,2,    0.077,2, -999.000,9,-999.0000,9,  -999.00,9,   -999.0,9,   -999.0,9,     7.97,2,  4.6340
 3230CITHER2_2,  A17N,   206,  1,     19,     19,2,19940313,1021,  8.8748, -47.0433, 4654,   1499.6,   4.5080,  34.9930,2,  34.9950,2,    228.1,2,    228.6,2,    17.60,2,    21.31,2,     1.42,2,    0.108,2,    0.067,2, -999.000,9,-999.0000,9,  -999.00,9,   -999.0,9,   -999.0,9,     7.99,2,  4.3820
 3230CITHER2_2,  A17N,   206,  1,     18,     18,2,19940313,1021,  8.8748, -47.0433, 4654,   1599.7,   4.3330,  35.0030,2,  35.0050,2,    240.3,2,    242.2,2,    16.10,2,    20.03,2,     1.31,2,    0.193,2,    0.112,2, -999.000,9,-999.0000,9,  -999.00,9,   -999.0,9,   -999.0,9,     8.01,2,  4.2000
 3230CITHER2_2,  A17N,   206,  1,     17,     17,2,19940313,1021,  8.8748, -47.0433, 4654,   1700.5,   4.1200,  34.9970,2,  35.0000,2,    248.1,2,    248.6,2,    16.10,2,    19.85,2,     1.29,2,    0.158,2,    0.097,2, -999.000,9,-999.0000,9,  -999.00,9,   -999.0,9,   -999.0,9,     8.01,2,  3.9800
 3230CITHER2_2,  A17N,   206,  1,     16,     16,2,19940313,1021,  8.8748, -47.0433, 4654,   1799.7,   3.8880,  34.9880,2,  34.9840,2,    250.1,2,    250.9,2,    17.30,2,    19.82,2,     1.29,2,    0.083,2,    0.054,2, -999.000,9,-999.0000,9,  -999.00,9,   -999.0,9,   -999.0,9,     8.01,2,  3.7410
 3230CITHER2_2,  A17N,   206,  1,     15,     15,2,19940313,1021,  8.8748, -47.0433, 4654,   1999.0,   3.5750,  34.9760,2,  34.9770,2,    252.0,2,    254.9,2,    19.40,2,    19.71,2,     1.28,2,    0.040,2,    0.028,2, -999.000,9,-999.0000,9,  -999.00,9,   -999.0,9,   -999.0,9,     8.02,2,  3.4140
 3230CITHER2_2,  A17N,   206,  1,     14,     14,2,19940313,1021,  8.8748, -47.0433, 4654,   2199.7,   3.3450,  34.9670,2,  34.9670,2,    255.1,2,    256.3,2,    21.40,2,    19.61,2,     1.29,2,    0.025,2,    0.021,2, -999.000,9,-999.0000,9,  -999.00,9,   -999.0,9,   -999.0,9,     8.02,2,  3.1680
 3230CITHER2_2,  A17N,   206,  1,     13,     13,2,19940313,1021,  8.8748, -47.0433, 4654,   2399.1,   3.1860,  34.9580,2,  34.9600,2,    257.2,2,    259.1,2,    22.30,2,    19.44,2,     1.26,2,    0.047,2,    0.033,2, -999.000,9,-999.0000,9,  -999.00,9,   -999.0,9,   -999.0,9,     8.02,2,  2.9930
 3230CITHER2_2,  A17N,   206,  1,     12,     12,2,19940313,1021,  8.8748, -47.0433, 4654,   2699.0,   2.9740,  34.9460,2,  34.9510,2,    256.9,2,    257.9,2,    25.50,2,    19.82,2,     1.30,2,    0.029,2,    0.022,2, -999.000,9,-999.0000,9,  -999.00,9,   -999.0,9,   -999.0,9,     8.02,2,  2.7550
 3230CITHER2_2,  A17N,   206,  1,     11,     11,2,19940313,1021,  8.8748, -47.0433, 4654,   2998.8,   2.7630,  34.9330,2,  34.9330,2,    256.3,2,    257.8,2,    28.80,2,    19.94,2,     1.32,2,    0.043,2,    0.025,2, -999.000,9,-999.0000,9,  -999.00,9,   -999.0,9,   -999.0,9,     8.02,2,  2.5180
 3230CITHER2_2,  A17N,   206,  1,     10,     10,2,19940313,1021,  8.8748, -47.0433, 4654,   3199.6,   2.6560,  34.9240,2,  34.9230,2,    255.8,2,    255.9,2,    32.00,2,    20.33,2,     1.35,2,    0.027,2,    0.018,2, -999.000,9,-999.0000,9,  -999.00,9,   -999.0,9,   -999.0,9,     8.02,2,  2.3920
 3230CITHER2_2,  A17N,   206,  1,      9,      9,2,19940313,1021,  8.8748, -47.0433, 4654,   3398.0,   2.5650,  34.9190,2,  34.9190,2,    261.1,2,    263.9,2,    27.60,2,    19.20,2,     1.28,2,    0.132,2,    0.076,2, -999.000,9,-999.0000,9,  -999.00,9,   -999.0,9,   -999.0,9,     8.02,2,  2.2820
 3230CITHER2_2,  A17N,   206,  1,      8,      8,2,19940313,1021,  8.8748, -47.0433, 4654,   3548.4,   2.5230,  34.9150,2,  34.9160,2,    263.5,2,    263.4,2,    28.70,2,    19.36,2,     1.29,2,    0.126,2,    0.075,2, -999.000,9,-999.0000,9,  -999.00,9,   -999.0,9,   -999.0,9,     8.02,2,  2.2250
 3230CITHER2_2,  A17N,   206,  1,      7,      7,2,19940313,1021,  8.8748, -47.0433, 4654,   3697.3,   2.4350,  34.9070,2,  34.9070,2,    259.1,2,    260.4,2,    32.50,2,    19.94,2,     1.34,2,    0.071,2,    0.045,2, -999.000,9,-999.0000,9,  -999.00,9,   -999.0,9,   -999.0,9,     8.01,2,  2.1230
 3230CITHER2_2,  A17N,   206,  1,      6,      6,2,19940313,1021,  8.8748, -47.0433, 4654,   3848.1,   2.3780,  34.9030,2,  34.9030,2,    262.8,2,    262.6,2,    31.80,2,    19.75,2,     1.31,2,    0.081,2,    0.050,2, -999.000,9,-999.0000,9,  -999.00,9,   -999.0,9,   -999.0,9,     8.01,2,  2.0500
 3230CITHER2_2,  A17N,   206,  1,      5,      5,2,19940313,1021,  8.8748, -47.0433, 4654,   3997.2,   2.3370,  34.9000,2,  34.8980,2,    262.6,2,    263.2,2,    32.60,2,    19.80,2,     1.31,2,    0.079,2,    0.051,2, -999.000,9,-999.0000,9,  -999.00,9,   -999.0,9,   -999.0,9,     8.01,2,  1.9940
 3230CITHER2_2,  A17N,   206,  1,      3,      3,2,19940313,1021,  8.8748, -47.0433, 4654,   4397.2,   2.2320,  34.8880,2,  34.8880,2,    260.9,2,    260.6,2,    37.20,2,    20.24,2,     1.36,2,    0.087,2,    0.056,2, -999.000,9,-999.0000,9,  -999.00,9,   -999.0,9,   -999.0,9,     8.01,2,  1.8450
 3230CITHER2_2,  A17N,   206,  1,      2,      2,2,19940313,1021,  8.8748, -47.0433, 4654,   4597.5,   2.1200,  34.8710,2,  34.8710,2,    256.5,2,    255.3,2,    45.60,2,    21.39,2,     1.43,2,    0.053,2,    0.040,2, -999.000,9,-999.0000,9,  -999.00,9,   -999.0,9,   -999.0,9,     8.00,2,  1.7130
 3230CITHER2_2,  A17N,   206,  1,      1,      1,2,19940313,1021,  8.8748, -47.0433, 4654,   4718.9,   1.9550,  34.8490,2,  34.8480,2,    250.0,2,    247.1,2,    58.20,2,    23.00,2,     1.55,2,    0.032,2,    0.026,2, -999.000,9,-999.0000,9,  -999.00,9,   -999.0,9,   -999.0,9,     7.99,2,  1.5390