BOTTLE,20030515WHPSIOSA
EXPOCODE,SECT_ID,STNNBR,CASTNO,SAMPNO,BTLNBR,BTLNBR_FLAG_W,DATE,TIME,LATITUDE,LONGITUDE,DEPTH,CTDPRS,CTDTMP,CTDSAL,CTDSAL_FLAG_W,SALNTY,SALNTY_FLAG_W,CTDOXY,CTDOXY_FLAG_W,OXYGEN,OXYGEN_FLAG_W,SILCAT,SILCAT_FLAG_W,NITRAT,NITRAT_FLAG_W,PHSPHT,PHSPHT_FLAG_W,CFC-11,CFC-11_FLAG_W,CFC-12,CFC-12_FLAG_W,TRITUM,TRITUM_FLAG_W,HELIUM,HELIUM_FLAG_W,DELHE3,DELHE3_FLAG_W,TCARBN,TCARBN_FLAG_W,ALKALI,ALKALI_FLAG_W,PH,PH_FLAG_W,THETA
,,,,,,,,,,,,DBAR,ITS-90,PSS-78,,PSS-78,,UMOL/KG,,UMOL/KG,,UMOL/KG,,UMOL/KG,,UMOL/KG,,PMOL/KG,,PMOL/KG,,TU,,NMOL/KG,,PERCNT,,UMOL/KG,,UMOL/KG,,,,DEG C
 3230CITHER2_2,  A17N,   213,  1,     32,     32,2,19940315,2209, 13.2097, -47.2238, 4191,      5.8,  24.9640,  36.4150,2,  36.4150,2,    206.6,2,    208.0,2,     1.50,2,     0.04,2,     0.00,2,    1.875,2,    1.042,2, -999.000,9,-999.0000,9,  -999.00,9,   2018.2,2,   -999.0,9,     8.39,2, 24.9630
 3230CITHER2_2,  A17N,   213,  1,     31,     31,2,19940315,2209, 13.2097, -47.2238, 4191,     71.6,  24.7590,  36.4050,2,  36.4070,2,    209.9,2,    208.6,2,     1.50,2,     0.04,2,     0.00,2,    1.875,2,    1.044,2, -999.000,9,-999.0000,9,  -999.00,9,   2015.8,2,   -999.0,9,     8.38,2, 24.7440
 3230CITHER2_2,  A17N,   213,  1,     30,     30,2,19940315,2209, 13.2097, -47.2238, 4191,    109.8,  22.0290,  36.9420,2,  36.9220,2,    180.2,2,    169.8,2,     2.00,2,     3.54,2,     0.18,2,    1.900,2,    1.038,2, -999.000,9,-999.0000,9,  -999.00,9,   2117.4,2,   -999.0,9,     8.27,2, 22.0070
 3230CITHER2_2,  A17N,   213,  1,     29,     29,2,19940315,2209, 13.2097, -47.2238, 4191,    150.1,  18.6710,  36.6470,2,  36.5600,2,    157.0,2,    136.4,2,     3.60,2,    11.27,2,     0.59,2,    1.738,2,    0.932,2, -999.000,9,-999.0000,9,  -999.00,9,   2158.5,2,   -999.0,9,     8.16,2, 18.6440
 3230CITHER2_2,  A17N,   213,  1,     28,     28,2,19940315,2209, 13.2097, -47.2238, 4191,    200.2,  15.6240,  36.0500,2,  36.0580,2,    129.6,2,    117.4,2,     6.20,2,    17.69,2,     0.99,2,    1.404,2,    0.746,2, -999.000,9,-999.0000,9,  -999.00,9,   2173.9,2,   -999.0,9,     8.07,2, 15.5930
 3230CITHER2_2,  A17N,   213,  1,     27,     27,2,19940315,2209, 13.2097, -47.2238, 4191,    299.8,  11.7270,  35.3700,2,  35.3730,2,     97.1,2,     98.2,2,    11.60,2,    25.61,2,     1.55,2,    0.669,2,    0.369,2, -999.000,9,-999.0000,9,  -999.00,9,   2197.8,2,   -999.0,9,     7.95,2, 11.6880
 3230CITHER2_2,  A17N,   213,  1,     26,     26,2,19940315,2209, 13.2097, -47.2238, 4191,    400.5,  10.2230,  35.1510,2,  35.1550,2,    101.1,2,    101.4,2,    14.50,2,    28.34,2,     1.74,2,    0.427,2,    0.248,2, -999.000,9,-999.0000,9,  -999.00,9,   2200.7,2,   -999.0,9,     7.91,2, 10.1750
 3230CITHER2_2,  A17N,   213,  1,     25,     25,2,19940315,2209, 13.2097, -47.2238, 4191,    500.1,   9.0960,  35.0120,2,  35.0130,2,    102.1,2,    101.5,2,    17.20,2,    30.74,2,     1.90,2,    0.244,2,    0.146,2, -999.000,9,-999.0000,9,  -999.00,9,   2212.5,2,   -999.0,9,     7.88,2,  9.0400
 3230CITHER2_2,  A17N,   213,  1,     24,     24,2,19940315,2209, 13.2097, -47.2238, 4191,    601.3,   7.8720,  34.8810,2,  34.8800,2,    104.1,2,    104.4,2,    20.80,2,    32.76,2,     2.07,2,    0.109,2,    0.069,2, -999.000,9,-999.0000,9,  -999.00,9,   2219.2,2,   -999.0,9,     7.85,2,  7.8100
 3230CITHER2_2,  A17N,   213,  1,     23,     23,2,19940315,2209, 13.2097, -47.2238, 4191,    700.2,   7.0930,  34.8190,2,  34.8210,2,    100.9,2,     97.5,2,    24.00,2,    34.83,2,     2.22,2,    0.027,2,    0.019,2, -999.000,9,-999.0000,9,  -999.00,9,   2228.3,2,   -999.0,9,     7.82,2,  7.0250
 3230CITHER2_2,  A17N,   213,  1,     22,     22,2,19940315,2209, 13.2097, -47.2238, 4191,    799.9,   6.3680,  34.7790,2,  34.7780,2,    109.1,2,    107.4,2,    26.50,2,    34.95,2,     2.26,2,    0.010,2,    0.005,2, -999.000,9,-999.0000,9,  -999.00,9,   2231.1,2,   -999.0,9,     7.82,2,  6.2940
 3230CITHER2_2,  A17N,   213,  1,     21,     21,2,19940315,2209, 13.2097, -47.2238, 4191,   1000.7,   5.4650,  34.8100,2,  34.8130,2,    137.7,2,    139.0,2,    27.40,2,    32.17,2,     2.12,2,    0.003,2,    0.005,2, -999.000,9,-999.0000,9,  -999.00,9,   2219.0,2,   -999.0,9,     7.86,2,  5.3780
 3230CITHER2_2,  A17N,   213,  1,     20,     20,2,19940315,2209, 13.2097, -47.2238, 4191,   1200.4,   5.0840,  34.9090,2,  34.9070,2,    170.9,2,    173.2,2,    24.70,2,    27.66,2,     1.82,2,    0.018,2,    0.012,2, -999.000,9,-999.0000,9,  -999.00,9,   -999.0,9,   -999.0,9,     7.92,2,  4.9810
 3230CITHER2_2,  A17N,   213,  1,     19,     19,2,19940315,2209, 13.2097, -47.2238, 4191,   1399.5,   4.7080,  34.9710,2,  34.9700,2,    205.1,2,    205.8,2,    21.40,2,    23.71,2,     1.57,2,    0.032,2,    0.024,2, -999.000,9,-999.0000,9,  -999.00,9,   -999.0,9,   -999.0,9,     7.97,2,  4.5890
 3230CITHER2_2,  A17N,   213,  1,     18,     18,2,19940315,2209, 13.2097, -47.2238, 4191,   1500.3,   4.5100,  34.9840,2,  34.9850,2,    217.0,2,    218.5,2,    20.30,2,    22.60,2,     1.46,2,    0.034,2,    0.024,2, -999.000,9,-999.0000,9,  -999.00,9,   -999.0,9,   -999.0,9,     7.98,2,  4.3840
 3230CITHER2_2,  A17N,   213,  1,     17,     17,2,19940315,2209, 13.2097, -47.2238, 4191,   1600.3,   4.2430,  34.9910,2,  34.9880,2,    230.4,2,    232.8,2,    19.40,2,    21.37,2,     1.38,2,    0.035,2,    0.028,2, -999.000,9,-999.0000,9,  -999.00,9,   -999.0,9,   -999.0,9,     8.00,2,  4.1110
 3230CITHER2_2,  A17N,   213,  1,     16,     16,2,19940315,2209, 13.2097, -47.2238, 4191,   1699.3,   4.0470,  34.9900,2,  34.9880,2,    239.5,2,    241.5,2,    19.30,2,    20.82,2,     1.33,2,    0.037,2,    0.029,2, -999.000,9,-999.0000,9,  -999.00,9,   -999.0,9,   -999.0,9,     8.00,2,  3.9080
 3230CITHER2_2,  A17N,   213,  1,     15,     15,2,19940315,2209, 13.2097, -47.2238, 4191,   1800.8,   3.8960,  34.9890,2,  34.9900,2,    247.5,2,    248.8,2,    18.90,2,    20.19,2,     1.28,2,    0.043,2,    0.042,2, -999.000,9,-999.0000,9,  -999.00,9,   -999.0,9,   -999.0,9,     8.02,2,  3.7490
 3230CITHER2_2,  A17N,   213,  1,     14,     14,2,19940315,2209, 13.2097, -47.2238, 4191,   1998.1,   3.5380,  34.9770,2,  34.9750,2,    253.4,2,    254.1,2,    21.30,2,    19.75,2,     1.27,2,    0.024,2,    0.021,2, -999.000,9,-999.0000,9,  -999.00,9,   -999.0,9,   -999.0,9,     8.02,2,  3.3770
 3230CITHER2_2,  A17N,   213,  1,     13,     13,2,19940315,2209, 13.2097, -47.2238, 4191,   2199.2,   3.3050,  34.9650,2,  34.9630,2,    253.7,2,    254.4,2,    24.50,2,    20.02,2,     1.29,2,    0.011,2,    0.013,2, -999.000,9,-999.0000,9,  -999.00,9,   -999.0,9,   -999.0,9,     8.02,2,  3.1290
 3230CITHER2_2,  A17N,   213,  1,     12,     12,2,19940315,2209, 13.2097, -47.2238, 4191,   2399.7,   3.1180,  34.9550,2,  34.9540,2,    253.0,2,    253.6,2,    27.50,2,    20.18,2,     1.31,2,    0.007,2,    0.011,2, -999.000,9,-999.0000,9,  -999.00,9,   -999.0,9,   -999.0,9,     8.02,2,  2.9260
 3230CITHER2_2,  A17N,   213,  1,     11,     11,2,19940315,2209, 13.2097, -47.2238, 4191,   2599.7,   2.9550,  34.9440,2,  34.9440,2,    251.1,2,    251.3,2,    32.10,2,    20.71,2,     1.35,2,    0.004,2,    0.006,2, -999.000,9,-999.0000,9,  -999.00,9,   -999.0,9,   -999.0,9,     8.02,2,  2.7460
 3230CITHER2_2,  A17N,   213,  1,     10,     10,2,19940315,2209, 13.2097, -47.2238, 4191,   2798.6,   2.8370,  34.9360,2,  34.9370,2,    250.5,2,    250.6,2,    34.60,2,    20.98,2,     1.36,2,    0.001,2,    0.005,2, -999.000,9,-999.0000,9,  -999.00,9,   -999.0,9,   -999.0,9,     8.01,2,  2.6100
 3230CITHER2_2,  A17N,   213,  1,      9,      9,2,19940315,2209, 13.2097, -47.2238, 4191,   2999.8,   2.7180,  34.9270,2,  34.9260,2,    251.3,2,    248.4,2,    36.90,2,    21.26,2,     1.37,2,    0.001,2,    0.005,2, -999.000,9,-999.0000,9,  -999.00,9,   -999.0,9,   -999.0,9,     8.01,2,  2.4730
 3230CITHER2_2,  A17N,   213,  1,      8,      8,2,19940315,2209, 13.2097, -47.2238, 4191,   3197.6,   2.6320,  34.9210,2,  34.9190,2,    250.8,2,    249.7,2,    39.60,2,    21.38,2,     1.40,2,    0.005,2,    0.013,2, -999.000,9,-999.0000,9,  -999.00,9,   -999.0,9,   -999.0,9,     8.01,2,  2.3690
 3230CITHER2_2,  A17N,   213,  1,      7,      7,2,19940315,2209, 13.2097, -47.2238, 4191,   3400.0,   2.5650,  34.9150,2,  34.9140,2,    250.2,2,    249.3,2,    41.40,2,    21.61,2,     1.40,2,    0.002,2,    0.012,2, -999.000,9,-999.0000,9,  -999.00,9,   -999.0,9,   -999.0,9,     8.01,2,  2.2820
 3230CITHER2_2,  A17N,   213,  1,      6,      6,2,19940315,2209, 13.2097, -47.2238, 4191,   3549.0,   2.5050,  34.9060,2,  34.9070,2,    250.9,2,    249.9,2,    42.60,2,    21.64,2,     1.41,2,    0.005,2,    0.005,2, -999.000,9,-999.0000,9,  -999.00,9,   -999.0,9,   -999.0,9,     8.01,2,  2.2070
 3230CITHER2_2,  A17N,   213,  1,      4,      4,2,19940315,2209, 13.2097, -47.2238, 4191,   3699.2,   2.4400,  34.9010,2,  34.9020,2,    251.7,2,    250.6,2,    44.00,2,    21.72,2,     1.41,2,    0.009,2,    0.009,2, -999.000,9,-999.0000,9,  -999.00,9,   -999.0,9,   -999.0,9,     8.01,2,  2.1270
 3230CITHER2_2,  A17N,   213,  1,      5,      5,2,19940315,2209, 13.2097, -47.2238, 4191,   3699.5,   2.4390,  34.9010,2,  34.9000,2,    251.7,2,    250.4,2,    44.00,2,    21.75,2,     1.42,2,    0.008,2,    0.009,2, -999.000,9,-999.0000,9,  -999.00,9,   -999.0,9,   -999.0,9,     8.01,2,  2.1260
 3230CITHER2_2,  A17N,   213,  1,      3,      3,2,19940315,2209, 13.2097, -47.2238, 4191,   3998.2,   2.2760,  34.8850,2,  34.8850,2,    252.1,2,    255.8,2,    48.40,2,    22.07,2,     1.44,2,    0.017,2,    0.013,2, -999.000,9,-999.0000,9,  -999.00,9,   -999.0,9,   -999.0,9,     8.00,2,  1.9340
 3230CITHER2_2,  A17N,   213,  1,      2,      2,2,19940315,2209, 13.2097, -47.2238, 4191,   4124.3,   2.2030,  34.8770,2,  34.8780,2,    251.9,2,    250.6,2,    50.20,2,    22.38,2,     1.46,2,    0.020,2,    0.017,2, -999.000,9,-999.0000,9,  -999.00,9,   -999.0,9,   -999.0,9,     8.00,2,  1.8490
 3230CITHER2_2,  A17N,   213,  1,      1,      1,2,19940315,2209, 13.2097, -47.2238, 4191,   4254.2,   2.0240,  34.8590,2,  34.8580,2,    248.0,2,    249.2,2,    56.20,2,    22.84,2,     1.50,2,    0.021,2,    0.019,2, -999.000,9,-999.0000,9,  -999.00,9,   -999.0,9,   -999.0,9,     7.99,2,  1.6600
 3230CITHER2_2,  A17N,   214,  1,     32,     32,2,19940316,0359, 12.7585, -47.4885, 4133,      4.3,  24.8670,  36.3360,2,  36.3340,2,    206.3,2,    208.3,2,     1.60,2,     0.00,2,     0.00,2,    1.856,2,    1.030,2, -999.000,9,-999.0000,9,  -999.00,9,   -999.0,9,   -999.0,9,     8.39,2, 24.8660
 3230CITHER2_2,  A17N,   214,  1,     31,     31,2,19940316,0359, 12.7585, -47.4885, 4133,     66.1,  24.6780,  36.3290,2,  36.3450,2,    214.3,2,    209.2,2,     1.60,2,     0.00,2,     0.01,2,    1.859,2,    1.033,2, -999.000,9,-999.0000,9,  -999.00,9,   -999.0,9,   -999.0,9,     8.39,2, 24.6640
 3230CITHER2_2,  A17N,   214,  1,     30,     30,2,19940316,0359, 12.7585, -47.4885, 4133,     94.2,  24.4970,  37.1360,2,  37.1360,2,    203.5,2,    199.1,2,     1.20,2,     0.00,2,     0.01,2,    1.900,2,    1.043,2, -999.000,9,-999.0000,9,  -999.00,9,   -999.0,9,   -999.0,9,     8.35,2, 24.4770
 3230CITHER2_2,  A17N,   214,  1,     29,     29,2,19940316,0359, 12.7585, -47.4885, 4133,    151.4,  19.7690,  36.6820,2,  36.7390,2,    147.3,2,    146.9,2,     3.00,2,     8.03,2,     0.42,2,    1.799,2,    0.971,2, -999.000,9,-999.0000,9,  -999.00,9,   -999.0,9,   -999.0,9,     8.20,2, 19.7410
 3230CITHER2_2,  A17N,   214,  1,     28,     28,2,19940316,0359, 12.7585, -47.4885, 4133,    200.3,  16.2280,  36.1860,2,  36.1750,2,    124.4,2,    122.9,2,     5.40,2,    16.06,2,     0.88,2,    1.492,2,    0.791,2, -999.000,9,-999.0000,9,  -999.00,9,   -999.0,9,   -999.0,9,     8.09,2, 16.1960
 3230CITHER2_2,  A17N,   214,  1,     27,     27,2,19940316,0359, 12.7585, -47.4885, 4133,    300.0,  11.6710,  35.3690,2,  35.3560,2,     99.9,2,     99.4,2,    11.70,2,    25.58,2,     1.57,2,    0.643,2,    0.352,2, -999.000,9,-999.0000,9,  -999.00,9,   -999.0,9,   -999.0,9,     7.94,2, 11.6320
 3230CITHER2_2,  A17N,   214,  1,     26,     26,2,19940316,0359, 12.7585, -47.4885, 4133,    400.9,  10.0050,  35.1160,2,  35.1110,2,    102.3,2,    102.6,2,    14.90,2,    28.74,2,     1.78,2,    0.404,2,    0.226,2, -999.000,9,-999.0000,9,  -999.00,9,   -999.0,9,   -999.0,9,     7.91,2,  9.9580
 3230CITHER2_2,  A17N,   214,  1,     25,     25,2,19940316,0359, 12.7585, -47.4885, 4133,    500.6,   8.8720,  34.9730,2,  34.9740,2,    105.7,2,    106.3,2,    17.60,2,    30.84,2,     1.93,2,    0.297,2,    0.174,2, -999.000,9,-999.0000,9,  -999.00,9,   -999.0,9,   -999.0,9,     7.88,2,  8.8170
 3230CITHER2_2,  A17N,   214,  1,     24,     24,2,19940316,0359, 12.7585, -47.4885, 4133,    600.0,   8.1570,  34.9210,2,  34.9200,2,    106.5,2,    106.2,2,    19.90,2,    31.98,2,     2.04,2,    0.158,2,    0.097,2, -999.000,9,-999.0000,9,  -999.00,9,   -999.0,9,   -999.0,9,     7.86,2,  8.0940
 3230CITHER2_2,  A17N,   214,  1,     23,     23,2,19940316,0359, 12.7585, -47.4885, 4133,    801.2,   6.2760,  34.7810,2,  34.7770,2,    118.9,2,    116.7,2,    26.00,2,    34.05,2,     2.21,2,    0.013,2,    0.007,2, -999.000,9,-999.0000,9,  -999.00,9,   -999.0,9,   -999.0,9,     7.83,2,  6.2020
 3230CITHER2_2,  A17N,   214,  1,     22,     22,2,19940316,0359, 12.7585, -47.4885, 4133,   1000.5,   5.4040,  34.8160,2,  34.8150,2,    142.9,2,    143.5,2,    27.00,2,    31.87,2,     2.09,2,    0.005,2,    0.005,2, -999.000,9,-999.0000,9,  -999.00,9,   -999.0,9,   -999.0,9,     7.87,2,  5.3170
 3230CITHER2_2,  A17N,   214,  1,     21,     21,2,19940316,0359, 12.7585, -47.4885, 4133,   1200.1,   5.0690,  34.9270,2,  34.9260,2,    177.9,2,    178.1,2,    23.60,2,    26.89,2,     1.78,2,    0.022,2,    0.018,2, -999.000,9,-999.0000,9,  -999.00,9,   -999.0,9,   -999.0,9,     7.92,2,  4.9660
 3230CITHER2_2,  A17N,   214,  1,     20,     20,2,19940316,0359, 12.7585, -47.4885, 4133,   1400.8,   4.6510,  34.9990,2,  34.9970,2,    214.6,2,    222.9,2,    18.50,2,    21.86,2,     1.42,2,    0.103,2,    0.066,2, -999.000,9,-999.0000,9,  -999.00,9,   -999.0,9,   -999.0,9,     7.99,2,  4.5330
 3230CITHER2_2,  A17N,   214,  1,     19,     19,2,19940316,0359, 12.7585, -47.4885, 4133,   1500.5,   4.4970,  35.0010,2,  35.0010,2,    230.0,2,    230.9,2,    17.80,2,    21.11,2,     1.37,2,    0.105,2,    0.068,2, -999.000,9,-999.0000,9,  -999.00,9,   -999.0,9,   -999.0,9,     7.99,2,  4.3710
 3230CITHER2_2,  A17N,   214,  1,     18,     18,2,19940316,0359, 12.7585, -47.4885, 4133,   1600.2,   4.2210,  34.9970,2,  34.9950,2,    235.5,2,    236.4,2,    18.70,2,    20.89,2,     1.36,2,    0.050,2,    0.033,2, -999.000,9,-999.0000,9,  -999.00,9,   -999.0,9,   -999.0,9,     8.00,2,  4.0890
 3230CITHER2_2,  A17N,   214,  1,     17,     17,2,19940316,0359, 12.7585, -47.4885, 4133,   1700.2,   3.9830,  34.9920,2,  34.9920,2,    244.4,2,    244.3,2,    18.70,2,    20.40,2,     1.32,2,    0.043,2,    0.030,2, -999.000,9,-999.0000,9,  -999.00,9,   -999.0,9,   -999.0,9,     8.01,2,  3.8440
 3230CITHER2_2,  A17N,   214,  1,     16,     16,2,19940316,0359, 12.7585, -47.4885, 4133,   1799.6,   3.8150,  34.9890,2,  34.9860,2,    250.1,2,    252.3,2,    18.20,2,    19.69,2,     1.27,2,    0.053,2,    0.035,2, -999.000,9,-999.0000,9,  -999.00,9,   -999.0,9,   -999.0,9,     8.02,2,  3.6690
 3230CITHER2_2,  A17N,   214,  1,     15,     15,2,19940316,0359, 12.7585, -47.4885, 4133,   2000.5,   3.5680,  34.9810,2,  34.9800,2,    253.2,2,    254.0,2,    20.30,2,    19.73,2,     1.26,2,    0.026,2,    0.021,2, -999.000,9,-999.0000,9,  -999.00,9,   -999.0,9,   -999.0,9,     8.02,2,  3.4070
 3230CITHER2_2,  A17N,   214,  1,     14,     14,2,19940316,0359, 12.7585, -47.4885, 4133,   2199.9,   3.2840,  34.9660,2,  34.9650,2,    253.6,2,    254.0,2,    24.00,2,    20.09,2,     1.29,2,    0.015,2,    0.011,2, -999.000,9,-999.0000,9,  -999.00,9,   -999.0,9,   -999.0,9,     8.02,2,  3.1080
 3230CITHER2_2,  A17N,   214,  1,     13,     13,2,19940316,0359, 12.7585, -47.4885, 4133,   2399.9,   3.1200,  34.9570,2,  34.9560,2,    254.5,2,    254.7,2,    26.20,2,    20.17,2,     1.29,2,    0.011,2,    0.009,2, -999.000,9,-999.0000,9,  -999.00,9,   -999.0,9,   -999.0,9,     8.02,2,  2.9280
 3230CITHER2_2,  A17N,   214,  1,     12,     12,2,19940316,0359, 12.7585, -47.4885, 4133,   2600.7,   2.9530,  34.9450,2,  34.9450,2,    250.7,2,    251.1,2,    31.40,2,    20.79,2,     1.35,2,    0.004,2,    0.006,2, -999.000,9,-999.0000,9,  -999.00,9,   -999.0,9,   -999.0,9,     8.01,2,  2.7440
 3230CITHER2_2,  A17N,   214,  1,     11,     11,2,19940316,0359, 12.7585, -47.4885, 4133,   2798.7,   2.8450,  34.9390,2,  34.9370,2,    249.7,2,    250.0,2,    33.80,2,    21.10,2,     1.36,2,    0.002,2,    0.005,2, -999.000,9,-999.0000,9,  -999.00,9,   -999.0,9,   -999.0,9,     8.01,2,  2.6180
 3230CITHER2_2,  A17N,   214,  1,     10,     10,2,19940316,0359, 12.7585, -47.4885, 4133,   2998.6,   2.7140,  34.9290,2,  34.9270,2,    249.7,2,    249.9,2,    36.20,2,    21.27,2,     1.38,2,    0.004,2,    0.003,2, -999.000,9,-999.0000,9,  -999.00,9,   -999.0,9,   -999.0,9,     8.01,2,  2.4700
 3230CITHER2_2,  A17N,   214,  1,      9,      9,2,19940316,0359, 12.7585, -47.4885, 4133,   3198.6,   2.6270,  34.9210,2,  34.9200,2,    249.4,2,    249.5,2,    38.20,2,    21.43,2,     1.40,2,    0.006,2,    0.010,2, -999.000,9,-999.0000,9,  -999.00,9,   -999.0,9,   -999.0,9,     8.01,2,  2.3640
 3230CITHER2_2,  A17N,   214,  1,      7,      7,2,19940316,0359, 12.7585, -47.4885, 4133,   3399.2,   2.5700,  34.9170,2,  34.9130,2,    249.7,2,    249.3,2,    39.70,2,    21.52,2,     1.40,2,    0.006,2,    0.005,2, -999.000,9,-999.0000,9,  -999.00,9,   -999.0,9,   -999.0,9,     8.01,2,  2.2870
 3230CITHER2_2,  A17N,   214,  1,      8,      8,2,19940316,0359, 12.7585, -47.4885, 4133,   3399.3,   2.5710,  34.9160,2,  34.9140,2,    249.7,2,    249.6,2,    39.70,2,    21.59,2,     1.40,2,    0.005,2,    0.004,2, -999.000,9,-999.0000,9,  -999.00,9,   -999.0,9,   -999.0,9,     8.01,2,  2.2880
 3230CITHER2_2,  A17N,   214,  1,      6,      6,2,19940316,0359, 12.7585, -47.4885, 4133,   3548.5,   2.5060,  34.9100,2,  34.9090,2,    250.0,2,    250.1,2,    40.70,2,    21.53,2,     1.40,2,    0.007,2,    0.002,2, -999.000,9,-999.0000,9,  -999.00,9,   -999.0,9,   -999.0,9,     8.01,2,  2.2080
 3230CITHER2_2,  A17N,   214,  1,      5,      5,2,19940316,0359, 12.7585, -47.4885, 4133,   3699.4,   2.4430,  34.9040,2,  34.9010,2,    250.6,2,    250.4,2,    42.40,2,    21.62,2,     1.41,2,    0.008,2,    0.005,2, -999.000,9,-999.0000,9,  -999.00,9,   -999.0,9,   -999.0,9,     8.01,2,  2.1300
 3230CITHER2_2,  A17N,   214,  1,      4,      4,2,19940316,0359, 12.7585, -47.4885, 4133,   3848.9,   2.3390,  34.8940,2,  34.8920,2,    251.0,2,    251.3,2,    44.10,2,    21.74,2,     1.42,2,    0.014,2,    0.012,2, -999.000,9,-999.0000,9,  -999.00,9,   -999.0,9,   -999.0,9,     8.01,2,  2.0120
 3230CITHER2_2,  A17N,   214,  1,      3,      3,2,19940316,0359, 12.7585, -47.4885, 4133,   3999.1,   2.2550,  34.8880,2,  34.8870,2,    253.4,2,    254.2,2,    43.50,2,    21.47,2,     1.40,2,    0.027,2,    0.024,2, -999.000,9,-999.0000,9,  -999.00,9,   -999.0,9,   -999.0,9,     8.00,2,  1.9140
 3230CITHER2_2,  A17N,   214,  1,      2,      2,2,19940316,0359, 12.7585, -47.4885, 4133,   4099.0,   2.1460,  34.8750,2,  34.8750,2,    253.3,2,    251.9,2,    47.90,2,    22.03,2,     1.44,2,    0.028,2,    0.021,2, -999.000,9,-999.0000,9,  -999.00,9,   -999.0,9,   -999.0,9,     8.00,2,  1.7970
 3230CITHER2_2,  A17N,   214,  1,      1,      1,2,19940316,0359, 12.7585, -47.4885, 4133,   4188.1,   2.0700,  34.8670,2,  34.8660,2,    252.1,2,    251.4,2,    50.60,2,    22.23,2,     1.47,2,    0.029,2,    0.028,2, -999.000,9,-999.0000,9,  -999.00,9,   -999.0,9,   -999.0,9,     8.00,2,  1.7130