BOTTLE,20030515WHPSIOSA
EXPOCODE,SECT_ID,STNNBR,CASTNO,SAMPNO,BTLNBR,BTLNBR_FLAG_W,DATE,TIME,LATITUDE,LONGITUDE,DEPTH,CTDPRS,CTDTMP,CTDSAL,CTDSAL_FLAG_W,SALNTY,SALNTY_FLAG_W,CTDOXY,CTDOXY_FLAG_W,OXYGEN,OXYGEN_FLAG_W,SILCAT,SILCAT_FLAG_W,NITRAT,NITRAT_FLAG_W,PHSPHT,PHSPHT_FLAG_W,CFC-11,CFC-11_FLAG_W,CFC-12,CFC-12_FLAG_W,TRITUM,TRITUM_FLAG_W,HELIUM,HELIUM_FLAG_W,DELHE3,DELHE3_FLAG_W,TCARBN,TCARBN_FLAG_W,ALKALI,ALKALI_FLAG_W,PH,PH_FLAG_W,THETA
,,,,,,,,,,,,DBAR,ITS-90,PSS-78,,PSS-78,,UMOL/KG,,UMOL/KG,,UMOL/KG,,UMOL/KG,,UMOL/KG,,PMOL/KG,,PMOL/KG,,TU,,NMOL/KG,,PERCNT,,UMOL/KG,,UMOL/KG,,,,DEG C
 3230CITHER2_2,  A17N,   173,  1,     32,     32,2,19940305,0407, -0.2500, -31.2915, 4289,      6.0,  27.2210,  36.1160,2,  36.1180,2,    196.6,2,    200.2,2,     1.70,2,     0.04,2,     0.07,2,    1.702,2,    0.969,2, -999.000,9,-999.0000,9,  -999.00,9,   2020.0,2,   2377.4,2,     8.39,2, 27.2200
 3230CITHER2_2,  A17N,   173,  1,     31,     31,2,19940305,0407, -0.2500, -31.2915, 4289,     52.5,  26.3370,  36.2550,2,  36.2470,2,    201.2,2,    198.3,2,     1.70,2,     0.04,2,     0.10,2,    1.714,2,    0.965,2, -999.000,9,-999.0000,9,  -999.00,9,   2036.1,2,   2385.0,2,     8.37,2, 26.3250
 3230CITHER2_2,  A17N,   173,  1,     30,     30,2,19940305,0407, -0.2500, -31.2915, 4289,     99.6,  15.8440,  35.6660,2,  35.6570,2,    171.4,2,    169.8,2,     5.50,2,    11.99,2,     0.87,2,    1.766,2,    0.939,2, -999.000,9,-999.0000,9,  -999.00,9,   2128.3,2,   2354.7,2,     8.16,2, 15.8280
 3230CITHER2_2,  A17N,   173,  1,     29,     29,2,19940305,0407, -0.2500, -31.2915, 4289,    201.7,  12.4310,  35.2130,2,  35.1950,2,    152.1,2,    151.2,2,     8.80,2,    19.37,2,     1.30,2,    1.345,2,    0.714,2, -999.000,9,-999.0000,9,  -999.00,9,   2155.5,2,   2329.9,2,     8.05,2, 12.4040
 3230CITHER2_2,  A17N,   173,  1,     28,     28,2,19940305,0407, -0.2500, -31.2915, 4289,    299.0,  10.6750,  35.0050,2,  35.0060,2,     97.7,2,     98.4,2,    13.20,2,    28.35,2,     1.83,2,    0.644,2,    0.353,2, -999.000,9,-999.0000,9,  -999.00,9,   2202.9,2,   2321.0,2,     7.91,2, 10.6390
 3230CITHER2_2,  A17N,   173,  1,     27,     27,2,19940305,0407, -0.2500, -31.2915, 4289,    400.7,   8.8690,  34.8050,2,  34.8060,2,    104.0,2,    103.6,2,    16.60,2,    31.60,2,     2.02,2,    0.398,2,    0.225,2, -999.000,9,-999.0000,9,  -999.00,9,   2212.6,2,   2311.3,2,     7.87,2,  8.8250
 3230CITHER2_2,  A17N,   173,  1,     26,     26,2,19940305,0407, -0.2500, -31.2915, 4289,    601.8,   5.9810,  34.5430,2,  34.5410,2,    140.8,2,    141.0,2,    24.80,2,    33.89,2,     2.24,2,    0.172,2,    0.098,2, -999.000,9,-999.0000,9,  -999.00,9,   2213.3,2,   2311.7,2,     7.86,2,  5.9280
 3230CITHER2_2,  A17N,   173,  1,     25,     25,2,19940305,0407, -0.2500, -31.2915, 4289,    700.9,   5.3760,  34.5050,2,  34.5130,2,    146.3,2,    146.6,2,    27.50,2,    34.53,2,     2.31,2,    0.167,2,    0.094,2, -999.000,9,-999.0000,9,  -999.00,9,   2216.8,2,   2309.1,2,     7.85,2,  5.3170
 3230CITHER2_2,  A17N,   173,  1,     24,     24,2,19940305,0407, -0.2500, -31.2915, 4289,    800.6,   4.9320,  34.5100,2,  34.5030,2,    150.6,2,    149.8,2,    30.60,2,    34.63,2,     2.33,2,    0.063,2,    0.039,2, -999.000,9,-999.0000,9,  -999.00,9,   2220.2,2,   2314.0,2,     7.85,2,  4.8670
 3230CITHER2_2,  A17N,   173,  1,     23,     23,2,19940305,0407, -0.2500, -31.2915, 4289,   1000.7,   4.4960,  34.6450,2,  34.6450,2,    159.8,2,    159.7,2,    31.50,2,    32.68,2,     2.22,2,    0.007,2,    0.007,2, -999.000,9,-999.0000,9,  -999.00,9,   2218.5,2,   2320.7,2,     7.88,2,  4.4160
 3230CITHER2_2,  A17N,   173,  1,     22,     22,2,19940305,0407, -0.2500, -31.2915, 4289,   1200.2,   4.5340,  34.7680,2,  34.7690,2,    175.8,2,    174.3,2,    28.10,2,    29.90,2,     2.01,2,    0.019,2,    0.013,2, -999.000,9,-999.0000,9,  -999.00,9,   2208.1,2,   2324.6,2,     7.91,2,  4.4360
 3230CITHER2_2,  A17N,   173,  1,     21,     21,2,19940305,0407, -0.2500, -31.2915, 4289,   1400.8,   4.4360,  34.9400,2,  34.9410,2,    217.7,2,    216.1,2,    20.70,2,    23.60,2,     1.56,2,    0.051,2,    0.036,2, -999.000,9,-999.0000,9,  -999.00,9,   2180.4,2,   2324.1,2,     7.98,2,  4.3200
 3230CITHER2_2,  A17N,   173,  1,     19,     19,2,19940305,0407, -0.2500, -31.2915, 4289,   1499.5,   4.3030,  34.9600,2,  34.9630,2,    226.4,2,    226.0,2,    19.60,2,    22.50,2,     1.47,2,    0.054,2,    0.036,2, -999.000,9,-999.0000,9,  -999.00,9,   2176.8,2,   2326.5,2,     8.00,2,  4.1790
 3230CITHER2_2,  A17N,   173,  1,     20,     20,2,19940305,0407, -0.2500, -31.2915, 4289,   1499.7,   4.3030,  34.9600,2,  34.9630,2,    226.4,2,    226.3,2,    19.70,2,    22.38,2,     1.48,2,    0.052,2,    0.033,2, -999.000,9,-999.0000,9,  -999.00,9,   -999.0,5,   2326.5,2,     8.00,2,  4.1790
 3230CITHER2_2,  A17N,   173,  1,     18,     18,2,19940305,0407, -0.2500, -31.2915, 4289,   1600.2,   4.1990,  34.9760,2,  34.9770,2,    233.5,2,    235.8,2,    18.50,2,    21.47,2,     1.40,2,    0.073,2,    0.044,2, -999.000,9,-999.0000,9,  -999.00,9,   2172.0,2,   2328.0,2,     8.01,2,  4.0670
 3230CITHER2_2,  A17N,   173,  1,     17,     17,2,19940305,0407, -0.2500, -31.2915, 4289,   1698.7,   4.0270,  34.9790,2,  34.9850,2,    243.2,2,    243.6,2,    18.10,2,    20.74,2,     1.36,2,    0.065,2,    0.038,2, -999.000,9,-999.0000,9,  -999.00,9,   2168.1,2,   2326.1,2,     8.02,2,  3.8880
 3230CITHER2_2,  A17N,   173,  1,     16,     16,2,19940305,0407, -0.2500, -31.2915, 4289,   1800.1,   3.8550,  34.9830,2,  34.9710,2,    249.6,2,    250.3,2,    18.20,2,    20.10,2,     1.30,2,    0.080,2,    0.050,2, -999.000,9,-999.0000,9,  -999.00,9,   2164.8,2,   2325.4,2,     8.02,2,  3.7090
 3230CITHER2_2,  A17N,   173,  1,     15,     15,2,19940305,0407, -0.2500, -31.2915, 4289,   1999.7,   3.5540,  34.9740,2,  34.9750,2,    254.7,2,    254.9,2,    20.20,2,    19.91,2,     1.29,2,    0.052,2,    0.034,2, -999.000,9,-999.0000,9,  -999.00,9,   2165.4,2,   2328.0,2,     8.03,2,  3.3930
 3230CITHER2_2,  A17N,   173,  1,     14,     14,2,19940305,0407, -0.2500, -31.2915, 4289,   2200.6,   3.1820,  34.9530,2,  34.9470,2,    252.2,2,    253.9,2,    26.40,2,    20.72,2,     1.35,2,    0.016,2,    0.011,2, -999.000,9,-999.0000,9,  -999.00,9,   2171.0,2,   2335.6,2,     8.02,2,  3.0080
 3230CITHER2_2,  A17N,   173,  1,     13,     13,2,19940305,0407, -0.2500, -31.2915, 4289,   2399.8,   3.0350,  34.9450,2,  34.9460,2,    253.0,2,    253.6,2,    27.70,2,    20.72,2,     1.34,2,    0.015,2,    0.010,2, -999.000,9,-999.0000,9,  -999.00,9,   2172.1,2,   2334.9,2,     8.03,2,  2.8440
 3230CITHER2_2,  A17N,   173,  1,     12,     12,2,19940305,0407, -0.2500, -31.2915, 4289,   2599.0,   2.9370,  34.9400,2,  34.9440,2,    253.9,2,    254.6,2,    28.70,2,    20.72,2,     1.34,2,    0.010,2,    0.009,2, -999.000,9,-999.0000,9,  -999.00,9,   2174.1,2,   2336.6,2,     8.03,2,  2.7280
 3230CITHER2_2,  A17N,   173,  1,     11,     11,2,19940305,0407, -0.2500, -31.2915, 4289,   2801.1,   2.7950,  34.9340,2,  34.9340,2,    255.2,2,    256.7,2,    29.30,2,    20.27,2,     1.33,2,    0.026,2,    0.022,2, -999.000,9,-999.0000,9,  -999.00,9,   2172.2,2,   2337.3,2,     8.03,2,  2.5690
 3230CITHER2_2,  A17N,   173,  1,     10,     10,2,19940305,0407, -0.2500, -31.2915, 4289,   3000.0,   2.7060,  34.9240,2,  34.9260,2,    253.5,2,    254.0,2,    32.70,2,    20.73,2,     1.37,2,    0.016,2,    0.010,2, -999.000,9,-999.0000,9,  -999.00,9,   2178.5,2,   2340.7,2,     8.03,2,  2.4620
 3230CITHER2_2,  A17N,   173,  1,      9,      9,2,19940305,0407, -0.2500, -31.2915, 4289,   3198.1,   2.6240,  34.9160,2,  34.9150,2,    250.9,2,    251.7,2,    35.70,2,    21.35,2,     1.40,2,    0.010,2,    0.007,2, -999.000,9,-999.0000,9,  -999.00,9,   2182.7,2,   2342.2,2,     8.02,2,  2.3610
 3230CITHER2_2,  A17N,   173,  1,      8,      8,2,19940305,0407, -0.2500, -31.2915, 4289,   3399.0,   2.5000,  34.9110,2,  34.9100,2,    255.0,2,    257.5,2,    34.50,2,    20.58,2,     1.36,2,    0.027,2,    0.018,2, -999.000,9,-999.0000,9,  -999.00,9,   2179.6,2,   2339.9,2,     8.03,2,  2.2180
 3230CITHER2_2,  A17N,   173,  1,      7,      7,2,19940305,0407, -0.2500, -31.2915, 4289,   3548.2,   2.4310,  34.9090,2,  34.9060,2,    260.4,2,    260.3,2,    32.90,2,    20.16,2,     1.33,2,    0.051,2,    0.033,2, -999.000,9,-999.0000,9,  -999.00,9,   2176.7,2,   2338.9,2,     8.03,2,  2.1350
 3230CITHER2_2,  A17N,   173,  1,      6,      6,2,19940305,0407, -0.2500, -31.2915, 4289,   3698.6,   2.3760,  34.9040,2,  34.9080,2,    261.2,2,    261.5,2,    33.70,2,    20.09,2,     1.33,2,    0.060,2,    0.036,2, -999.000,9,-999.0000,9,  -999.00,9,   2177.3,2,   2340.8,2,     8.03,2,  2.0650
 3230CITHER2_2,  A17N,   173,  1,      5,      5,2,19940305,0407, -0.2500, -31.2915, 4289,   3849.8,   2.3400,  34.9000,2,  34.9000,2,    261.9,2,    261.9,2,    34.70,2,    20.13,2,     1.34,2,    0.071,2,    0.047,2, -999.000,9,-999.0000,9,  -999.00,9,   2178.8,2,   2340.3,2,     8.03,2,  2.0130
 3230CITHER2_2,  A17N,   173,  1,      4,      4,2,19940305,0407, -0.2500, -31.2915, 4289,   3998.1,   2.2220,  34.8860,2,  34.8860,2,    260.4,2,    258.7,2,    38.80,2,    20.90,2,     1.40,2,    0.070,2,    0.046,2, -999.000,9,-999.0000,9,  -999.00,9,   2184.6,2,   2344.3,2,     8.02,2,  1.8820
 3230CITHER2_2,  A17N,   173,  1,      3,      3,2,19940305,0407, -0.2500, -31.2915, 4289,   4148.7,   1.7450,  34.8320,2,  34.8290,2,    249.9,2,    246.4,2,    64.20,2,    24.17,2,     1.65,2,    0.031,2,    0.020,2, -999.000,9,-999.0000,9,  -999.00,9,   2210.0,2,   2358.7,2,     7.99,2,  1.4020
 3230CITHER2_2,  A17N,   173,  1,      2,      2,2,19940305,0407, -0.2500, -31.2915, 4289,   4299.3,   1.2660,  34.7770,2,  34.7790,2,    235.5,2,    234.9,2,    88.40,2,    27.67,2,     1.90,2,    0.020,2,    0.014,2, -999.000,9,-999.0000,9,  -999.00,9,   2233.5,2,   2373.3,2,     7.96,2,  0.9200
 3230CITHER2_2,  A17N,   173,  1,      1,      1,2,19940305,0407, -0.2500, -31.2915, 4289,   4342.3,   1.2660,  34.7780,2,  34.7780,2,    234.4,2,    235.1,2,    88.40,2,    27.72,2,     1.90,2,    0.018,2,    0.012,2, -999.000,9,-999.0000,9,  -999.00,9,   2232.5,2,   2373.3,2,     7.96,2,  0.9160
 3230CITHER2_2,  A17N,   174,  1,     32,     32,2,19940305,0939,  0.0010, -31.7205, 4224,      6.2,  27.3040,  36.0950,2,  36.0950,2,    199.0,2,    200.2,2,     1.70,2,     0.04,2,     0.07,2,    1.692,2,    0.989,2, -999.000,9,-999.0000,9,  -999.00,9,   2017.7,2,   -999.0,9,     8.39,2, 27.3030
 3230CITHER2_2,  A17N,   174,  1,     31,     31,2,19940305,0939,  0.0010, -31.7205, 4224,     60.4,  25.3380,  36.2850,2,  36.2910,2,    200.4,2,    195.9,2,     2.00,2,     0.96,2,     0.18,2,    1.754,2,    0.979,2, -999.000,9,-999.0000,9,  -999.00,9,   2050.3,2,   -999.0,9,     8.36,2, 25.3250
 3230CITHER2_2,  A17N,   174,  1,     30,     30,2,19940305,0939,  0.0010, -31.7205, 4224,    100.5,  16.4130,  35.7510,2,  35.7490,2,    174.6,2,    176.7,2,     4.80,2,    10.45,2,     0.79,2,    1.858,2,    0.993,2, -999.000,9,-999.0000,9,  -999.00,9,   2120.8,2,   -999.0,9,     8.19,2, 16.3970
 3230CITHER2_2,  A17N,   174,  1,     29,     29,2,19940305,0939,  0.0010, -31.7205, 4224,    151.2,  13.4320,  35.3330,2,  35.3380,2,    158.4,2,    159.0,2,     7.60,2,    16.95,2,     1.16,2,    1.508,2,    0.808,2, -999.000,9,-999.0000,9,  -999.00,9,   2142.9,2,   -999.0,9,     8.09,2, 13.4110
 3230CITHER2_2,  A17N,   174,  1,     28,     28,2,19940305,0939,  0.0010, -31.7205, 4224,    199.7,  12.4190,  35.1830,2,  35.1820,2,    159.1,2,    157.2,2,     8.50,2,    18.84,2,     1.27,2,    1.395,2,    0.732,2, -999.000,9,-999.0000,9,  -999.00,9,   2148.3,2,   -999.0,9,     8.06,2, 12.3920
 3230CITHER2_2,  A17N,   174,  1,     27,     27,2,19940305,0939,  0.0010, -31.7205, 4224,    299.4,  10.6510,  35.0030,2,  35.0020,2,    101.8,2,    101.4,2,    13.00,2,    28.53,2,     1.82,2,    0.653,2,    0.363,2, -999.000,9,-999.0000,9,  -999.00,9,   2198.6,2,   -999.0,9,     7.91,2, 10.6150
 3230CITHER2_2,  A17N,   174,  1,     26,     26,2,19940305,0939,  0.0010, -31.7205, 4224,    400.5,   8.5300,  34.7760,2,  34.7650,2,    111.7,2,    110.3,2,    17.00,2,    31.98,2,     2.04,2,    0.399,2,    0.231,2, -999.000,9,-999.0000,9,  -999.00,9,   2208.3,2,   -999.0,9,     7.88,2,  8.4870
 3230CITHER2_2,  A17N,   174,  1,     25,     25,2,19940305,0939,  0.0010, -31.7205, 4224,    600.2,   5.8620,  34.5390,2,  34.5370,2,    146.6,2,    150.5,2,    25.20,2,    34.15,2,     2.27,2,    0.241,2,    0.137,2, -999.000,9,-999.0000,9,  -999.00,9,   2209.6,2,   -999.0,9,     7.87,2,  5.8100
 3230CITHER2_2,  A17N,   174,  1,     24,     24,2,19940305,0939,  0.0010, -31.7205, 4224,    700.0,   5.2210,  34.5070,2,  34.5080,2,    151.4,2,    146.4,2,    28.40,2,    34.90,2,     2.34,2,    0.090,2,    0.059,2, -999.000,9,-999.0000,9,  -999.00,9,   2214.4,2,   -999.0,9,     7.86,2,  5.1630
 3230CITHER2_2,  A17N,   174,  1,     23,     23,2,19940305,0939,  0.0010, -31.7205, 4224,    799.3,   4.9070,  34.5080,2,  34.5080,2,    154.6,2,    160.9,2,    30.40,2,    34.91,2,     2.36,2,    0.060,2,    0.042,2, -999.000,9,-999.0000,9,  -999.00,9,   2215.8,2,   -999.0,9,     7.86,2,  4.8420
 3230CITHER2_2,  A17N,   174,  1,     22,     22,2,19940305,0939,  0.0010, -31.7205, 4224,    999.6,   4.5160,  34.6780,2,  34.6790,2,    165.2,2,    166.4,2,    30.10,2,    32.41,2,     2.18,2,    0.009,2,    0.007,2, -999.000,9,-999.0000,9,  -999.00,9,   2214.4,2,   -999.0,9,     7.89,2,  4.4360
 3230CITHER2_2,  A17N,   174,  1,     21,     21,2,19940305,0939,  0.0010, -31.7205, 4224,   1201.5,   4.5390,  34.8060,2,  34.8050,2,    180.7,2,    181.2,2,    26.10,2,    28.82,2,     1.96,2,    0.017,2,    0.014,2, -999.000,9,-999.0000,9,  -999.00,9,   -999.0,9,   -999.0,9,     7.93,2,  4.4410
 3230CITHER2_2,  A17N,   174,  1,     20,     20,2,19940305,0939,  0.0010, -31.7205, 4224,   1400.5,   4.4030,  34.9480,2,  34.9480,2,    219.6,2,    234.5,2,    19.80,2,    23.00,2,     1.56,2,    0.057,2,    0.032,2, -999.000,9,-999.0000,9,  -999.00,9,   -999.0,9,   -999.0,9,     7.99,2,  4.2830
 3230CITHER2_2,  A17N,   174,  1,     19,     19,2,19940305,0939,  0.0010, -31.7205, 4224,   1400.7,   4.3980,  34.9480,2,  34.9470,2,    219.6,2,    221.2,2,    19.80,2,    23.07,2,     1.56,2,    0.057,2,    0.036,2, -999.000,9,-999.0000,9,  -999.00,9,   -999.0,9,   -999.0,9,     7.99,2,  4.2880
 3230CITHER2_2,  A17N,   174,  1,     18,     18,2,19940305,0939,  0.0010, -31.7205, 4224,   1499.5,   4.2400,  34.9680,2,  34.9690,2,    231.7,2,    231.5,2,    18.70,2,    21.81,2,     1.46,2,    0.055,2,    0.035,2, -999.000,9,-999.0000,9,  -999.00,9,   -999.0,9,   -999.0,9,     8.00,2,  4.1170
 3230CITHER2_2,  A17N,   174,  1,     17,     17,2,19940305,0939,  0.0010, -31.7205, 4224,   1599.8,   4.1240,  34.9800,2,  34.9800,2,    242.6,2,    240.7,2,    17.90,2,    21.00,2,     1.40,2,    0.070,2,    0.045,2, -999.000,9,-999.0000,9,  -999.00,9,   -999.0,9,   -999.0,9,     8.01,2,  3.9930
 3230CITHER2_2,  A17N,   174,  1,     16,     16,2,19940305,0939,  0.0010, -31.7205, 4224,   1701.3,   3.9620,  34.9830,2,  34.9770,2,    249.0,2,    254.9,2,    17.70,2,    20.27,2,     1.35,2,    0.076,2,    0.049,2, -999.000,9,-999.0000,9,  -999.00,9,   -999.0,9,   -999.0,9,     8.02,2,  3.8240
 3230CITHER2_2,  A17N,   174,  1,     15,     15,2,19940305,0939,  0.0010, -31.7205, 4224,   1800.6,   3.8160,  34.9860,2,  34.9870,2,    255.9,2,   -999.0,5,    17.40,2,    19.62,2,     1.29,2,    0.110,2,    0.074,2, -999.000,9,-999.0000,9,  -999.00,9,   -999.0,9,   -999.0,9,     8.03,2,  3.6700
 3230CITHER2_2,  A17N,   174,  1,     14,     14,2,19940305,0939,  0.0010, -31.7205, 4224,   2000.3,   3.5350,  34.9720,2,  34.9740,2,    260.2,2,    255.1,2,    19.90,2,    19.78,2,     1.31,2,    0.050,2,    0.034,2, -999.000,9,-999.0000,9,  -999.00,9,   -999.0,9,   -999.0,9,     8.03,2,  3.3740
 3230CITHER2_2,  A17N,   174,  1,     13,     13,2,19940305,0939,  0.0010, -31.7205, 4224,   2199.5,   3.2550,  34.9560,2,  34.9540,2,    256.3,2,    252.5,2,    24.70,2,    20.40,2,     1.34,2,    0.020,2,    0.015,2, -999.000,9,-999.0000,9,  -999.00,9,   -999.0,9,   -999.0,9,     8.02,2,  3.0800
 3230CITHER2_2,  A17N,   174,  1,     12,     12,2,19940305,0939,  0.0010, -31.7205, 4224,   2399.7,   3.0260,  34.9430,2,  34.9420,2,    255.7,2,    252.3,2,    28.00,2,    20.72,2,     1.38,2,    0.009,2,    0.014,2, -999.000,9,-999.0000,9,  -999.00,9,   -999.0,9,   -999.0,9,     8.02,2,  2.8350
 3230CITHER2_2,  A17N,   174,  1,     11,     11,2,19940305,0939,  0.0010, -31.7205, 4224,   2599.3,   2.9210,  34.9390,2,  34.9370,2,    256.8,2,    254.3,2,    28.80,2,    20.61,2,     1.37,2,    0.010,2,    0.009,2, -999.000,9,-999.0000,9,  -999.00,9,   -999.0,9,   -999.0,9,     8.03,2,  2.7130
 3230CITHER2_2,  A17N,   174,  1,     10,     10,2,19940305,0939,  0.0010, -31.7205, 4224,   2798.0,   2.8010,  34.9300,2,  34.9320,2,    257.4,2,    254.1,2,    30.20,2,    20.65,2,     1.37,2,    0.021,2,    0.017,2, -999.000,9,-999.0000,9,  -999.00,9,   -999.0,9,   -999.0,9,     8.03,2,  2.5750
 3230CITHER2_2,  A17N,   174,  1,      9,      9,2,19940305,0939,  0.0010, -31.7205, 4224,   2999.8,   2.6760,  34.9210,2,  34.9200,2,    255.1,2,    253.2,2,    33.30,2,    20.96,2,     1.40,2,    0.011,2,    0.019,2, -999.000,9,-999.0000,9,  -999.00,9,   -999.0,9,   -999.0,9,     8.02,2,  2.4320
 3230CITHER2_2,  A17N,   174,  1,      8,      8,2,19940305,0939,  0.0010, -31.7205, 4224,   3198.3,   2.5510,  34.9130,2,  34.9120,2,    255.4,2,    254.0,2,    34.90,2,    20.97,2,     1.40,2,    0.015,2,    0.013,2, -999.000,9,-999.0000,9,  -999.00,9,   -999.0,9,   -999.0,9,     8.02,2,  2.2900
 3230CITHER2_2,  A17N,   174,  1,      7,      7,2,19940305,0939,  0.0010, -31.7205, 4224,   3398.3,   2.5000,  34.9080,2,  34.9110,2,    258.1,2,    264.9,2,    33.80,2,    20.58,2,     1.39,2,    0.027,2,    0.021,2, -999.000,9,-999.0000,9,  -999.00,9,   -999.0,9,   -999.0,9,     8.03,2,  2.2190
 3230CITHER2_2,  A17N,   174,  1,      6,      6,2,19940305,0939,  0.0010, -31.7205, 4224,   3546.7,   2.4500,  34.9080,2,  34.9080,2,    262.6,2,    262.0,2,    32.60,2,    20.13,2,     1.35,2,    0.051,2,    0.033,2, -999.000,9,-999.0000,9,  -999.00,9,   -999.0,9,   -999.0,9,     8.03,2,  2.1540
 3230CITHER2_2,  A17N,   174,  1,      5,      5,2,19940305,0939,  0.0010, -31.7205, 4224,   3697.3,   2.3790,  34.9050,2,  34.9030,2,    263.5,2,    266.6,2,    33.40,2,    20.05,2,     1.35,2,    0.055,2,    0.034,2, -999.000,9,-999.0000,9,  -999.00,9,   -999.0,9,   -999.0,9,     8.03,2,  2.0680
 3230CITHER2_2,  A17N,   174,  1,      4,      4,2,19940305,0939,  0.0010, -31.7205, 4224,   3846.3,   2.3130,  34.8980,2,  34.8990,2,    264.2,2,    263.4,2,    33.90,2,    20.02,2,     1.35,2,    0.081,2,    0.046,2, -999.000,9,-999.0000,9,  -999.00,9,   -999.0,9,   -999.0,9,     8.03,2,  1.9870
 3230CITHER2_2,  A17N,   174,  1,      3,      3,2,19940305,0939,  0.0010, -31.7205, 4224,   3997.1,   2.2890,  34.8950,2,  34.8950,2,    263.2,2,    268.1,2,    35.80,2,    20.26,2,     1.37,2,    0.075,2,    0.042,2, -999.000,9,-999.0000,9,  -999.00,9,   -999.0,9,   -999.0,9,     8.03,2,  1.9470
 3230CITHER2_2,  A17N,   174,  1,      2,      2,2,19940305,0939,  0.0010, -31.7205, 4224,   4196.3,   1.6070,  34.8140,2,  34.8170,2,    247.6,2,   -999.0,5,    68.90,2,    24.77,2,     1.72,2,    0.036,2,    0.022,2, -999.000,9,-999.0000,9,  -999.00,9,   -999.0,9,   -999.0,9,     7.98,2,  1.2620
 3230CITHER2_2,  A17N,   174,  1,      1,      1,2,19940305,0939,  0.0010, -31.7205, 4224,   4262.2,   1.3760,  34.7900,2,  34.7900,2,    239.1,2,    237.4,2,    80.60,2,    26.61,2,     1.83,2,    0.022,2,    0.018,2, -999.000,9,-999.0000,9,  -999.00,9,   -999.0,9,   -999.0,9,     7.97,2,  1.0310