BOTTLE,20030515WHPSIOSA
EXPOCODE,SECT_ID,STNNBR,CASTNO,SAMPNO,BTLNBR,BTLNBR_FLAG_W,DATE,TIME,LATITUDE,LONGITUDE,DEPTH,CTDPRS,CTDTMP,CTDSAL,CTDSAL_FLAG_W,SALNTY,SALNTY_FLAG_W,CTDOXY,CTDOXY_FLAG_W,OXYGEN,OXYGEN_FLAG_W,SILCAT,SILCAT_FLAG_W,NITRAT,NITRAT_FLAG_W,PHSPHT,PHSPHT_FLAG_W,CFC-11,CFC-11_FLAG_W,CFC-12,CFC-12_FLAG_W,TRITUM,TRITUM_FLAG_W,HELIUM,HELIUM_FLAG_W,DELHE3,DELHE3_FLAG_W,TCARBN,TCARBN_FLAG_W,ALKALI,ALKALI_FLAG_W,PH,PH_FLAG_W,THETA
,,,,,,,,,,,,DBAR,ITS-90,PSS-78,,PSS-78,,UMOL/KG,,UMOL/KG,,UMOL/KG,,UMOL/KG,,UMOL/KG,,PMOL/KG,,PMOL/KG,,TU,,NMOL/KG,,PERCNT,,UMOL/KG,,UMOL/KG,,,,DEG C
 3230CITHER2_2,  A17N,   129,  1,     16,     16,2,19940220,0720,-13.2627, -34.9872, 4433,   1801.1,   3.7630,  34.9760,2,  34.9740,2,    245.6,2,    248.1,2,    19.00,2,    20.56,2,     1.32,2,    0.037,2,    0.024,2, -999.000,9,-999.0000,9,  -999.00,9,   -999.0,9,   -999.0,9,     8.02,2,  3.6180
 3230CITHER2_2,  A17N,   129,  1,     15,     15,2,19940220,0720,-13.2627, -34.9872, 4433,   2000.4,   3.5030,  34.9670,2,  34.9640,2,    252.2,2,    251.8,2,    21.20,2,    20.41,2,     1.32,2,    0.023,2,    0.021,2, -999.000,9,-999.0000,9,  -999.00,9,   -999.0,9,   -999.0,9,     8.02,2,  3.3430
 3230CITHER2_2,  A17N,   129,  1,     14,     14,2,19940220,0720,-13.2627, -34.9872, 4433,   2199.8,   3.2200,  34.9550,2,  34.9500,2,    250.6,2,    252.4,2,    24.70,2,    20.67,2,     1.35,2,    0.017,2,    0.017,2, -999.000,9,-999.0000,9,  -999.00,9,   -999.0,9,   -999.0,9,     8.02,2,  3.0450
 3230CITHER2_2,  A17N,   129,  1,     13,     13,2,19940220,0720,-13.2627, -34.9872, 4433,   2399.8,   3.0500,  34.9460,2,  34.9410,2,    251.7,2,    252.1,2,    27.30,2,    20.66,2,     1.35,2,    0.012,2,    0.015,2, -999.000,9,-999.0000,9,  -999.00,9,   -999.0,9,   -999.0,9,     8.02,2,  2.8590
 3230CITHER2_2,  A17N,   129,  1,     12,     12,2,19940220,0720,-13.2627, -34.9872, 4433,   2598.8,   2.9120,  34.9360,2,-999.0000,5,    249.7,2,    258.8,2,    29.90,2,    20.93,2,     1.38,2,    0.009,2,    0.005,2, -999.000,9,-999.0000,9,  -999.00,9,   -999.0,9,   -999.0,9,     8.02,2,  2.7040
 3230CITHER2_2,  A17N,   129,  1,     11,     11,2,19940220,0720,-13.2627, -34.9872, 4433,   2699.8,   2.8370,  34.9310,2,  34.9260,2,    248.7,2,    250.7,2,    31.80,2,    21.29,2,     1.40,2,    0.013,2,    0.011,2, -999.000,9,-999.0000,9,  -999.00,9,   -999.0,9,   -999.0,9,     8.01,2,  2.6200
 3230CITHER2_2,  A17N,   129,  1,     10,     10,2,19940220,0720,-13.2627, -34.9872, 4433,   2999.0,   2.7220,  34.9270,2,-999.0000,5,    250.8,2,    259.5,2,    32.90,2,    21.20,2,     1.41,2,    0.016,2,    0.012,2, -999.000,9,-999.0000,9,  -999.00,9,   -999.0,9,   -999.0,9,     8.02,2,  2.4770
 3230CITHER2_2,  A17N,   129,  1,      9,      9,2,19940220,0720,-13.2627, -34.9872, 4433,   3199.7,   2.6530,  34.9220,2,  34.9190,2,    253.0,2,    252.3,2,    32.70,2,    21.07,2,     1.38,2,    0.017,2,    0.012,2, -999.000,9,-999.0000,9,  -999.00,9,   -999.0,9,   -999.0,9,     8.02,2,  2.3890
 3230CITHER2_2,  A17N,   129,  1,      8,      8,2,19940220,0720,-13.2627, -34.9872, 4433,   3399.6,   2.5960,  34.9180,2,  34.9140,2,    255.6,2,    255.5,2,    33.50,2,    20.92,2,     1.37,2,    0.020,2,    0.017,2, -999.000,9,-999.0000,9,  -999.00,9,   -999.0,9,   -999.0,9,     8.02,2,  2.3120
 3230CITHER2_2,  A17N,   129,  1,      7,      7,2,19940220,0720,-13.2627, -34.9872, 4433,   3548.6,   2.5160,  34.9110,2,  34.9110,2,    256.1,2,    255.7,2,    35.30,2,    21.08,2,     1.37,2,    0.014,2,    0.014,2, -999.000,9,-999.0000,9,  -999.00,9,   -999.0,9,   -999.0,9,     8.02,2,  2.2180
 3230CITHER2_2,  A17N,   129,  1,      6,      6,2,19940220,0720,-13.2627, -34.9872, 4433,   3699.1,   2.4590,  34.9060,2,  34.9000,2,    256.4,2,    255.5,2,    37.20,2,    21.36,2,     1.44,2,    0.014,2,    0.010,2, -999.000,9,-999.0000,9,  -999.00,9,   -999.0,9,   -999.0,9,     8.01,2,  2.1460
 3230CITHER2_2,  A17N,   129,  1,      5,      5,2,19940220,0720,-13.2627, -34.9872, 4433,   3849.5,   2.2050,  34.8790,2,  34.8760,2,    252.7,2,    251.3,2,    47.20,2,    22.51,2,     1.51,2,    0.039,2,    0.024,2, -999.000,9,-999.0000,9,  -999.00,9,   -999.0,9,   -999.0,9,     8.00,2,  1.8820
 3230CITHER2_2,  A17N,   129,  1,      4,      4,2,19940220,0720,-13.2627, -34.9872, 4433,   3999.5,   1.8050,  34.8360,2,  34.8330,2,    243.0,2,    243.8,2,    65.00,2,    25.07,2,     1.69,2,    0.005,2,    0.005,2, -999.000,9,-999.0000,9,  -999.00,9,   -999.0,9,   -999.0,9,     7.98,2,  1.4770
 3230CITHER2_2,  A17N,   129,  1,      3,      3,2,19940220,0720,-13.2627, -34.9872, 4433,   4199.1,   1.2650,  34.7780,2,  34.7740,2,    231.4,2,    243.5,2,    90.80,2,    28.45,2,     1.93,2,    0.003,2,    0.003,2, -999.000,9,-999.0000,9,  -999.00,9,   -999.0,9,   -999.0,9,     7.94,2,  0.9300
 3230CITHER2_2,  A17N,   129,  1,      2,      2,2,19940220,0720,-13.2627, -34.9872, 4433,   4399.4,   0.6790,  34.7180,2,  34.7170,2,    222.4,2,    223.4,2,   114.40,2,    31.76,2,     2.17,2,    0.038,2,    0.025,2, -999.000,9,-999.0000,9,  -999.00,9,   -999.0,9,   -999.0,9,     7.91,2,  0.3410
 3230CITHER2_2,  A17N,   129,  1,      1,      1,2,19940220,0720,-13.2627, -34.9872, 4433,   4488.8,   0.5300,  34.7000,2,  34.7000,2,    219.1,2,    222.1,2,   121.20,2,    32.33,2,     2.21,2,    0.063,2,    0.035,2, -999.000,9,-999.0000,9,  -999.00,9,   -999.0,9,   -999.0,9,     7.89,2,  0.1860
 3230CITHER2_2,  A17N,   130,  1,     16,     16,2,19940220,1417,-13.2817, -34.5012, 4519,   1800.8,   3.5860,  34.9540,2,  34.9400,2,    242.6,2,    245.3,2,    21.90,2,    21.33,2,     1.40,2,    0.020,2,    0.016,2, -999.000,9,-999.0000,9,  -999.00,9,   2168.6,2,   2331.4,2,     8.01,2,  3.4430
 3230CITHER2_2,  A17N,   130,  1,     15,     15,2,19940220,1417,-13.2817, -34.5012, 4519,   2000.1,   3.3800,  34.9620,2,  34.9610,2,    251.6,2,    251.8,2,    22.20,2,    21.34,2,     1.35,2,    0.029,2,    0.019,2, -999.000,9,-999.0000,9,  -999.00,9,   2169.4,2,   2333.8,2,     8.01,2,  3.2220
 3230CITHER2_2,  A17N,   130,  1,     14,     14,2,19940220,1417,-13.2817, -34.5012, 4519,   2199.5,   3.1470,  34.9490,2,  34.9480,2,    252.3,2,    252.1,2,    25.40,2,    20.81,2,     1.37,2,    0.022,2,    0.012,2, -999.000,9,-999.0000,9,  -999.00,9,   2172.7,2,   2337.7,2,     8.01,2,  2.9740
 3230CITHER2_2,  A17N,   130,  1,     13,     13,2,19940220,1417,-13.2817, -34.5012, 4519,   2399.4,   3.0450,  34.9430,2,  34.9400,2,    252.0,2,    251.4,2,    27.60,2,    21.00,2,     1.39,2,    0.018,2,    0.009,2, -999.000,9,-999.0000,9,  -999.00,9,   2173.9,2,   2340.4,2,     8.01,2,  2.8540
 3230CITHER2_2,  A17N,   130,  1,     12,     12,2,19940220,1417,-13.2817, -34.5012, 4519,   2699.4,   2.8640,  34.9310,2,  34.9310,2,    251.6,2,    251.3,2,    31.00,2,    21.39,2,     1.41,2,    0.011,2,    0.008,2, -999.000,9,-999.0000,9,  -999.00,9,   2179.1,2,   2343.1,2,     8.01,2,  2.6470
 3230CITHER2_2,  A17N,   130,  1,     11,     11,2,19940220,1417,-13.2817, -34.5012, 4519,   2999.0,   2.7600,  34.9270,2,  34.9260,2,    253.6,2,    253.4,2,    31.60,2,    21.15,2,     1.40,2,    0.013,2,    0.011,2, -999.000,9,-999.0000,9,  -999.00,9,   2178.9,2,   2342.5,2,     8.01,2,  2.5150
 3230CITHER2_2,  A17N,   130,  1,     10,     10,2,19940220,1417,-13.2817, -34.5012, 4519,   3200.4,   2.6900,  34.9240,2,  34.9250,2,    254.8,2,    256.0,2,    32.00,2,    21.11,2,     1.39,2,    0.017,2,    0.012,2, -999.000,9,-999.0000,9,  -999.00,9,   2175.5,2,   2345.6,2,     8.01,2,  2.4250
 3230CITHER2_2,  A17N,   130,  1,      9,      9,2,19940220,1417,-13.2817, -34.5012, 4519,   3398.6,   2.5730,  34.9170,2,  34.9160,2,    256.3,2,    255.5,2,    33.80,2,    21.14,2,     1.40,2,    0.015,2,    0.011,2, -999.000,9,-999.0000,9,  -999.00,9,   2179.6,2,   2344.2,2,     8.01,2,  2.2900
 3230CITHER2_2,  A17N,   130,  1,      8,      8,2,19940220,1417,-13.2817, -34.5012, 4519,   3548.0,   2.4960,  34.9090,2,  34.9120,2,    257.0,2,    255.3,2,    35.20,2,    21.25,2,     1.40,2,    0.023,2,    0.017,2, -999.000,9,-999.0000,9,  -999.00,9,   2179.3,2,   2343.9,2,     8.01,2,  2.1980
 3230CITHER2_2,  A17N,   130,  1,      7,      7,2,19940220,1417,-13.2817, -34.5012, 4519,   3699.7,   2.4290,  34.9020,2,  34.9020,2,    256.7,2,    255.3,2,    37.40,2,    21.45,2,     1.42,2,    0.020,2,    0.015,2, -999.000,9,-999.0000,9,  -999.00,9,   2181.1,2,   2347.3,2,     8.01,2,  2.1170
 3230CITHER2_2,  A17N,   130,  1,      6,      6,2,19940220,1417,-13.2817, -34.5012, 4519,   3848.4,   2.3080,  34.8890,2,  34.8890,2,    255.7,2,    253.6,2,    42.40,2,    22.23,2,     1.47,2,    0.013,2,    0.009,2, -999.000,9,-999.0000,9,  -999.00,9,   2185.9,2,   2349.1,2,     8.00,2,  1.9820
 3230CITHER2_2,  A17N,   130,  1,      5,      5,2,19940220,1417,-13.2817, -34.5012, 4519,   3998.5,   2.1100,  34.8680,2,  34.8670,2,    252.5,2,    249.6,2,    51.70,2,    23.48,2,     1.56,2,    0.007,2,    0.009,2, -999.000,9,-999.0000,9,  -999.00,9,   2194.7,2,   2353.6,2,     7.99,2,  1.7730
 3230CITHER2_2,  A17N,   130,  1,      4,      4,2,19940220,1417,-13.2817, -34.5012, 4519,   4198.1,   1.4150,  34.7940,2,  34.7900,2,    237.3,2,    235.3,2,    85.00,2,    28.03,2,     1.88,2,    0.002,2,    0.007,2, -999.000,9,-999.0000,9,  -999.00,9,   2227.1,2,   2364.9,2,     7.95,2,  1.0760
 3230CITHER2_2,  A17N,   130,  1,      3,      3,2,19940220,1417,-13.2817, -34.5012, 4519,   4398.2,   0.8990,  34.7340,2,  34.7410,2,    227.1,2,    226.2,2,   106.50,2,    31.06,2,     2.08,2,    0.026,2,    0.016,2, -999.000,9,-999.0000,9,  -999.00,9,   2245.3,2,   2376.6,2,     7.92,2,  0.5540
 3230CITHER2_2,  A17N,   130,  1,      2,      2,2,19940220,1417,-13.2817, -34.5012, 4519,   4499.2,   0.5580,  34.7020,2,  34.7020,2,    222.6,2,    222.2,2,   119.40,2,    32.27,2,     2.21,2,    0.081,2,    0.045,2, -999.000,9,-999.0000,9,  -999.00,9,   2257.0,2,   2379.9,2,     7.90,2,  0.2120
 3230CITHER2_2,  A17N,   130,  1,      1,      1,2,19940220,1417,-13.2817, -34.5012, 4519,   4567.3,   0.4950,  34.6970,2,  34.6980,2,    221.2,2,    221.5,2,   121.50,2,    32.66,2,     2.24,2,    0.062,2,    0.033,2, -999.000,9,-999.0000,9,  -999.00,9,   2258.8,2,   2377.1,2,     7.89,2,  0.1440
 3230CITHER2_2,  A17N,   131,  1,     32,     32,2,19940220,1835,-13.2818, -34.4995, 4516,      2.1,  28.6170,  37.2760,2,  37.2750,2,    199.2,2,    196.9,2,     1.10,2,     0.04,2,     0.04,2,    1.583,2,    0.935,2, -999.000,9,   1.8200,2,    -1.03,2,   2054.5,2,   2453.4,2,     8.41,2, 28.6160
 3230CITHER2_2,  A17N,   131,  1,     31,     31,2,19940220,1835,-13.2818, -34.4995, 4516,     52.9,  28.4350,  37.2630,2,  37.2570,2,    210.0,2,    198.1,2,     1.10,2,     0.04,2,     0.05,2,    1.613,2,    0.934,2, -999.000,9,   1.8200,2,    -1.11,2,   2055.5,2,   2452.8,2,     8.40,2, 28.4220
 3230CITHER2_2,  A17N,   131,  1,     30,     30,2,19940220,1835,-13.2818, -34.4995, 4516,    126.7,  23.8910,  36.8890,2,  36.8910,2,    221.6,2,    210.7,2,     1.20,2,     0.04,2,     0.18,2,    1.941,2,    1.094,2, -999.000,9,   1.6900,2,    -1.48,2,   2079.8,2,   2434.9,2,     8.33,2, 23.8640
 3230CITHER2_2,  A17N,   131,  1,     29,     29,2,19940220,1835,-13.2818, -34.4995, 4516,    202.0,  18.0510,  36.0020,2,  35.9850,2,    183.0,2,    175.9,2,     2.90,2,     7.29,2,     0.66,2,    2.083,2,    1.140,2, -999.000,9,   1.6900,2,    -0.65,2,   2117.9,2,   2373.2,2,     8.19,2, 18.0160
 3230CITHER2_2,  A17N,   131,  1,     28,     28,2,19940220,1835,-13.2818, -34.4995, 4516,    302.9,  11.9500,  35.0850,2,  35.0870,2,    135.4,2,    137.2,2,     8.10,2,    20.58,2,     1.44,2,    1.310,2,    0.698,2, -999.000,9,   1.7300,2,     0.41,2,   2164.0,2,   2321.7,2,     7.99,2, 11.9100
 3230CITHER2_2,  A17N,   131,  1,     27,     27,2,19940220,1835,-13.2818, -34.4995, 4516,    401.2,   8.5960,  34.7310,2,  34.7290,2,    134.3,2,    138.5,2,    14.60,2,    27.87,2,     1.90,2,    0.575,2,    0.319,2, -999.000,9,   1.7500,2,     0.33,2,   2188.8,2,   2311.3,2,     7.91,2,  8.5530
 3230CITHER2_2,  A17N,   131,  1,     26,     26,2,19940220,1835,-13.2818, -34.4995, 4516,    600.2,   5.5680,  34.4760,2,  34.4740,2,    158.2,2,    156.5,2,    24.50,2,    33.36,2,     2.25,2,    0.265,2,    0.147,2, -999.000,9,   1.7900,2,     0.64,2,   2206.3,2,   2308.1,2,     7.86,2,  5.5170
 3230CITHER2_2,  A17N,   131,  1,     25,     25,2,19940220,1835,-13.2818, -34.4995, 4516,    701.3,   4.8330,  34.4370,2,  34.4390,2,    169.9,2,    168.0,2,    28.50,2,    33.51,2,     2.29,2,    0.220,2,    0.121,2, -999.000,9,-999.0000,9,  -999.00,9,   2207.6,2,   2312.8,2,     7.86,2,  4.7770
 3230CITHER2_2,  A17N,   131,  1,     24,     24,2,19940220,1835,-13.2818, -34.4995, 4516,    801.0,   4.3640,  34.4430,2,  34.4440,2,    172.8,2,    169.6,2,    32.50,2,    33.99,2,     2.33,2,    0.114,2,    0.067,2, -999.000,9,   1.7700,2,     2.74,2,   2212.5,2,   2316.6,2,     7.86,2,  4.3020
 3230CITHER2_2,  A17N,   131,  1,     23,     23,2,19940220,1835,-13.2818, -34.4995, 4516,   1000.9,   3.8790,  34.5310,2,  34.5290,2,    175.8,2,    174.4,2,    36.70,2,    33.59,2,     2.28,2,    0.029,2,    0.020,2, -999.000,9,   1.8000,2,     1.94,2,   2217.7,2,   2324.6,2,     7.87,2,  3.8040
 3230CITHER2_2,  A17N,   131,  1,     22,     22,2,19940220,1835,-13.2818, -34.4995, 4516,   1201.3,   3.9690,  34.6870,2,  34.6910,2,    181.6,2,    181.4,2,    32.70,2,    30.80,2,     2.09,2,    0.006,2,    0.004,2, -999.000,9,   1.7800,2,     1.87,2,   2210.9,2,   2328.6,2,     7.89,2,  3.8760
 3230CITHER2_2,  A17N,   131,  1,     21,     21,2,19940220,1835,-13.2818, -34.4995, 4516,   1401.9,   4.2040,  34.8630,2,  34.8620,2,    204.3,2,    203.3,2,    24.60,2,    26.11,2,     1.76,2,    0.014,2,    0.010,2, -999.000,9,   1.8100,2,     0.56,2,   2193.7,2,   2330.1,2,     7.94,2,  4.0910
 3230CITHER2_2,  A17N,   131,  1,     20,     20,2,19940220,1835,-13.2818, -34.4995, 4516,   1500.9,   4.1320,  34.9050,2,  34.9070,2,    216.0,2,    217.0,2,    22.40,2,    23.86,2,     1.62,2,    0.021,2,    0.016,2, -999.000,9,-999.0000,9,  -999.00,9,   2185.3,2,   2330.2,2,     7.96,2,  4.0100
 3230CITHER2_2,  A17N,   131,  1,     19,     19,2,19940220,1835,-13.2818, -34.4995, 4516,   1600.5,   4.0310,  34.9460,2,  34.9460,2,    230.2,2,    230.7,2,    20.20,2,    22.28,2,     1.50,2,    0.037,2,    0.025,2, -999.000,9,   1.7500,2,     0.98,2,   2191.0,3,   2329.2,2,     7.99,2,  3.9010
 3230CITHER2_2,  A17N,   131,  1,     18,     18,2,19940220,1835,-13.2818, -34.4995, 4516,   1698.5,   3.8970,  34.9550,2,  34.9570,2,    238.0,2,    238.3,2,    20.00,2,    21.85,2,     1.44,2,    0.035,2,    0.025,2, -999.000,9,-999.0000,9,  -999.00,9,   2173.9,2,   2330.7,2,     8.00,2,  3.7600
 3230CITHER2_2,  A17N,   131,  1,     17,     17,2,19940220,1835,-13.2818, -34.4995, 4516,   1807.4,   3.6100,  34.9510,2,  34.9540,2,    243.6,2,    243.6,2,    22.00,2,    21.30,2,     1.41,2,    0.015,2,    0.011,2, -999.000,9,-999.0000,9,  -999.00,9,   2170.9,2,   2330.0,2,     8.00,2,  3.4660