BOTTLE,20030515WHPSIOSA
EXPOCODE,SECT_ID,STNNBR,CASTNO,SAMPNO,BTLNBR,BTLNBR_FLAG_W,DATE,TIME,LATITUDE,LONGITUDE,DEPTH,CTDPRS,CTDTMP,CTDSAL,CTDSAL_FLAG_W,SALNTY,SALNTY_FLAG_W,CTDOXY,CTDOXY_FLAG_W,OXYGEN,OXYGEN_FLAG_W,SILCAT,SILCAT_FLAG_W,NITRAT,NITRAT_FLAG_W,PHSPHT,PHSPHT_FLAG_W,CFC-11,CFC-11_FLAG_W,CFC-12,CFC-12_FLAG_W,TRITUM,TRITUM_FLAG_W,HELIUM,HELIUM_FLAG_W,DELHE3,DELHE3_FLAG_W,TCARBN,TCARBN_FLAG_W,ALKALI,ALKALI_FLAG_W,PH,PH_FLAG_W,THETA
,,,,,,,,,,,,DBAR,ITS-90,PSS-78,,PSS-78,,UMOL/KG,,UMOL/KG,,UMOL/KG,,UMOL/KG,,UMOL/KG,,PMOL/KG,,PMOL/KG,,TU,,NMOL/KG,,PERCNT,,UMOL/KG,,UMOL/KG,,,,DEG C
 3230CITHER2_2,  A17N,   150,  1,     32,     32,2,19940225,1004, -9.4625, -30.3775, 5306,      7.1,  27.7740,  36.6250,2,  36.6250,2,    188.9,2,    198.8,2,     1.30,2,     0.00,2,     0.10,2,    1.669,2,    0.948,2, -999.000,9,-999.0000,9,  -999.00,9,   2043.4,2,   -999.0,9,     8.39,2, 27.7720
 3230CITHER2_2,  A17N,   150,  1,     31,     31,2,19940225,1004, -9.4625, -30.3775, 5306,     51.1,  27.6750,  36.6220,2,  36.6220,2,    193.1,2,    199.1,2,     1.10,2,     0.00,2,     0.10,2,    1.667,2,    0.950,2, -999.000,9,-999.0000,9,  -999.00,9,   2043.5,2,   -999.0,9,     8.37,2, 27.6630
 3230CITHER2_2,  A17N,   150,  1,     30,     30,2,19940225,1004, -9.4625, -30.3775, 5306,    125.5,  24.6280,  36.9180,2,  36.9020,2,    212.7,2,    211.7,2,     1.00,2,     0.00,2,     0.14,2,    1.899,2,    1.051,2, -999.000,9,-999.0000,9,  -999.00,9,   2071.9,2,   -999.0,9,     8.36,2, 24.6010
 3230CITHER2_2,  A17N,   150,  1,     29,     29,2,19940225,1004, -9.4625, -30.3775, 5306,    199.5,  14.8850,  35.5640,2,  35.5520,2,    124.1,2,    121.5,2,     6.30,2,    18.17,2,     1.23,2,    1.452,2,    0.776,2, -999.000,9,-999.0000,9,  -999.00,9,   2165.1,2,   -999.0,9,     8.05,2, 14.8550
 3230CITHER2_2,  A17N,   150,  1,     28,     28,2,19940225,1004, -9.4625, -30.3775, 5306,    400.3,   7.7760,  34.6800,2,  34.6810,2,    101.8,2,    107.9,2,    18.40,2,    33.06,2,     2.15,2,    0.250,2,    0.146,2, -999.000,9,-999.0000,9,  -999.00,9,   2216.8,2,   -999.0,9,     7.86,2,  7.7360
 3230CITHER2_2,  A17N,   150,  1,     27,     27,2,19940225,1004, -9.4625, -30.3775, 5306,    601.7,   5.8680,  34.5160,2,  34.5150,2,    135.1,2,    135.7,2,    24.70,2,    34.09,2,     2.28,2,    0.154,2,    0.087,2, -999.000,9,-999.0000,9,  -999.00,9,   2216.5,2,   -999.0,9,     7.86,2,  5.8160
 3230CITHER2_2,  A17N,   150,  1,     26,     26,2,19940225,1004, -9.4625, -30.3775, 5306,    801.5,   4.6220,  34.4580,2,  34.4560,2,    157.8,2,    156.3,2,    31.60,2,    34.37,2,     2.33,2,    0.076,2,    0.047,2, -999.000,9,-999.0000,9,  -999.00,9,   -999.0,9,   -999.0,9,     7.86,2,  4.5590
 3230CITHER2_2,  A17N,   150,  1,     25,     25,2,19940225,1004, -9.4625, -30.3775, 5306,    999.6,   4.0240,  34.5690,2,  34.5700,2,    163.5,2,    165.8,2,    35.20,2,    33.11,2,     2.25,2,    0.002,2,    0.006,2, -999.000,9,-999.0000,9,  -999.00,9,   -999.0,9,   -999.0,9,     7.87,2,  3.9480
 3230CITHER2_2,  A17N,   150,  1,     24,     24,2,19940225,1004, -9.4625, -30.3775, 5306,   1200.2,   4.1050,  34.7270,2,  34.7300,2,    179.2,2,    182.8,2,    31.40,2,    29.90,2,     2.02,2,    0.082,2,    0.041,2, -999.000,9,-999.0000,9,  -999.00,9,   -999.0,9,   -999.0,9,     7.91,2,  4.0110
 3230CITHER2_2,  A17N,   150,  1,     23,     23,2,19940225,1004, -9.4625, -30.3775, 5306,   1399.2,   4.2810,  34.9010,2,  34.9020,2,    208.5,2,    209.4,2,    22.80,2,    24.39,2,     1.65,2,    0.022,2,    0.015,2, -999.000,9,-999.0000,9,  -999.00,9,   -999.0,9,   -999.0,9,     7.97,2,  4.1650
 3230CITHER2_2,  A17N,   150,  1,     22,     22,2,19940225,1004, -9.4625, -30.3775, 5306,   1399.3,   4.2790,  34.9010,2,  34.9020,2,    208.5,2,    210.0,2,    22.60,2,    24.43,2,     1.64,2,    0.022,2,    0.016,2, -999.000,9,-999.0000,9,  -999.00,9,   -999.0,9,   -999.0,9,     7.97,2,  4.1670
 3230CITHER2_2,  A17N,   150,  1,     21,     21,2,19940225,1004, -9.4625, -30.3775, 5306,   1602.2,   4.0420,  34.9630,2,  34.9610,2,    235.4,2,    235.3,2,    19.50,2,    21.60,2,     1.43,2,    0.040,2,    0.024,2, -999.000,9,-999.0000,9,  -999.00,9,   -999.0,9,   -999.0,9,     8.01,2,  3.9120
 3230CITHER2_2,  A17N,   150,  1,     20,     20,2,19940225,1004, -9.4625, -30.3775, 5306,   1699.7,   3.8550,  34.9720,2,  34.9680,2,    242.7,2,    244.4,2,    19.10,2,    20.64,2,     1.36,2,    0.041,2,    0.025,2, -999.000,9,-999.0000,9,  -999.00,9,   -999.0,9,   -999.0,9,     8.02,2,  3.7180
 3230CITHER2_2,  A17N,   150,  1,     19,     19,2,19940225,1004, -9.4625, -30.3775, 5306,   1798.0,   3.7400,  34.9730,2,  34.9740,2,    247.8,2,    248.2,2,    19.30,2,    20.21,2,     1.32,2,    0.047,2,    0.029,2, -999.000,9,-999.0000,9,  -999.00,9,   -999.0,9,   -999.0,9,     8.02,2,  3.5950
 3230CITHER2_2,  A17N,   150,  1,     18,     18,2,19940225,1004, -9.4625, -30.3775, 5306,   1999.8,   3.5040,  34.9670,2,  34.9710,2,    251.6,2,    253.1,2,    21.20,2,    20.13,2,     1.32,2,    0.035,2,    0.027,2, -999.000,9,-999.0000,9,  -999.00,9,   -999.0,9,   -999.0,9,     8.03,2,  3.3440
 3230CITHER2_2,  A17N,   150,  1,     17,     17,2,19940225,1004, -9.4625, -30.3775, 5306,   2199.2,   3.2480,  34.9550,2,  34.9560,2,    252.1,2,    252.4,2,    24.50,2,    20.29,2,     1.33,2,    0.025,2,    0.017,2, -999.000,9,-999.0000,9,  -999.00,9,   -999.0,9,   -999.0,9,     8.03,2,  3.0730
 3230CITHER2_2,  A17N,   150,  1,     16,     16,2,19940225,1004, -9.4625, -30.3775, 5306,   2399.6,   3.0430,  34.9390,2,  34.9350,2,    250.8,2,    250.2,2,    28.60,2,    20.79,2,     1.37,2,    0.012,2,    0.009,2, -999.000,9,-999.0000,9,  -999.00,9,   -999.0,9,   -999.0,9,     8.02,2,  2.8520
 3230CITHER2_2,  A17N,   150,  1,     15,     15,2,19940225,1004, -9.4625, -30.3775, 5306,   2698.9,   2.8520,  34.9270,2,  34.9270,2,    248.7,2,    249.1,2,    32.40,2,    21.22,2,     1.39,2,    0.007,2,    0.010,2, -999.000,9,-999.0000,9,  -999.00,9,   -999.0,9,   -999.0,9,     8.02,2,  2.6350
 3230CITHER2_2,  A17N,   150,  1,     14,     14,2,19940225,1004, -9.4625, -30.3775, 5306,   2999.1,   2.7380,  34.9230,2,  34.9220,2,    251.6,2,    251.9,2,    33.00,2,    21.17,2,     1.38,2,    0.005,2,    0.005,2, -999.000,9,-999.0000,9,  -999.00,9,   -999.0,9,   -999.0,9,     8.02,2,  2.4930
 3230CITHER2_2,  A17N,   150,  1,     13,     13,2,19940225,1004, -9.4625, -30.3775, 5306,   3198.4,   2.6660,  34.9210,2,  34.9160,2,    252.8,2,    254.0,2,    33.10,2,    20.90,2,     1.36,2,    0.016,2,    0.008,2, -999.000,9,-999.0000,9,  -999.00,9,   -999.0,9,   -999.0,9,     8.03,2,  2.4020
 3230CITHER2_2,  A17N,   150,  1,     12,     12,2,19940225,1004, -9.4625, -30.3775, 5306,   3396.7,   2.5840,  34.9150,2,  34.9130,2,    255.5,2,    255.6,2,    33.70,2,    20.70,2,     1.35,2,    0.024,2,    0.036,2, -999.000,9,-999.0000,9,  -999.00,9,   -999.0,9,   -999.0,9,     8.03,2,  2.3010
 3230CITHER2_2,  A17N,   150,  1,     11,     11,2,19940225,1004, -9.4625, -30.3775, 5306,   3602.4,   2.4830,  34.9060,2,  34.9070,2,    256.9,2,    260.5,2,    35.70,2,    20.74,2,     1.37,2,    0.016,2,    0.017,2, -999.000,9,-999.0000,9,  -999.00,9,   -999.0,9,   -999.0,9,     8.02,2,  2.1800
 3230CITHER2_2,  A17N,   150,  1,     10,     10,2,19940225,1004, -9.4625, -30.3775, 5306,   3798.5,   2.2000,  34.8790,2,  34.8810,2,    253.4,2,    252.4,2,    45.90,2,    22.01,2,     1.46,2,    0.015,2,    0.013,2, -999.000,9,-999.0000,9,  -999.00,9,   -999.0,9,   -999.0,9,     8.01,2,  1.8830
 3230CITHER2_2,  A17N,   150,  1,      9,      9,2,19940225,1004, -9.4625, -30.3775, 5306,   3996.3,   1.8800,  34.8420,2,  34.8430,2,    245.9,2,    243.4,2,    60.60,2,    23.95,2,     1.61,2,    0.005,2,    0.008,2, -999.000,9,-999.0000,9,  -999.00,9,   -999.0,9,   -999.0,9,     7.98,2,  1.5500
 3230CITHER2_2,  A17N,   150,  1,      8,      8,2,19940225,1004, -9.4625, -30.3775, 5306,   4199.7,   1.4610,  34.7970,2,  34.7970,2,    236.8,2,    236.7,2,    81.50,2,    26.56,2,     1.80,2,   -0.002,2,    0.002,2, -999.000,9,-999.0000,9,  -999.00,9,   -999.0,9,   -999.0,9,     7.96,2,  1.1210
 3230CITHER2_2,  A17N,   150,  1,      7,      7,2,19940225,1004, -9.4625, -30.3775, 5306,   4398.9,   1.1450,  34.7630,2,  34.7640,2,    231.3,2,    230.8,2,    95.40,2,    28.63,2,     1.94,2,    0.005,2,    0.005,2, -999.000,9,-999.0000,9,  -999.00,9,   -999.0,9,   -999.0,9,     7.94,2,  0.7920
 3230CITHER2_2,  A17N,   150,  1,      6,      6,2,19940225,1004, -9.4625, -30.3775, 5306,   4598.6,   0.9230,  34.7380,2,  34.7360,2,    226.7,2,    227.0,2,   105.30,2,    30.41,2,     2.04,2,    0.002,2,    0.005,2, -999.000,9,-999.0000,9,  -999.00,9,   -999.0,9,   -999.0,9,     7.92,2,  0.5550
 3230CITHER2_2,  A17N,   150,  1,      5,      5,2,19940225,1004, -9.4625, -30.3775, 5306,   4798.0,   0.8700,  34.7300,2,  34.7300,2,    225.6,2,    225.8,2,   107.60,2,    30.44,2,     2.05,2,    0.009,2,    0.008,2, -999.000,9,-999.0000,9,  -999.00,9,   -999.0,9,   -999.0,9,     7.91,2,  0.4800
 3230CITHER2_2,  A17N,   150,  1,      4,      4,2,19940225,1004, -9.4625, -30.3775, 5306,   4994.8,   0.7770,  34.7180,2,  34.7200,2,    223.9,2,    223.9,2,   112.20,2,    30.72,2,     2.09,2,    0.010,2,    0.010,2, -999.000,9,-999.0000,9,  -999.00,9,   -999.0,9,   -999.0,9,     7.90,2,  0.3680
 3230CITHER2_2,  A17N,   150,  1,      3,      3,2,19940225,1004, -9.4625, -30.3775, 5306,   5199.0,   0.6550,  34.7040,2,  34.7060,2,    222.6,2,    222.6,2,   116.90,2,    31.54,2,     2.15,2,    0.023,2,    0.018,2, -999.000,9,-999.0000,9,  -999.00,9,   -999.0,9,   -999.0,9,     7.90,2,  0.2260
 3230CITHER2_2,  A17N,   150,  1,      2,      2,2,19940225,1004, -9.4625, -30.3775, 5306,   5308.2,   0.5560,  34.6930,2,  34.6840,2,    221.5,2,    221.3,2,   121.80,2,    32.13,2,     2.20,2,    0.044,2,    0.027,2, -999.000,9,-999.0000,9,  -999.00,9,   -999.0,9,   -999.0,9,     7.90,2,  0.1170
 3230CITHER2_2,  A17N,   150,  1,      1,      1,2,19940225,1004, -9.4625, -30.3775, 5306,   5411.8,   0.5630,  34.6920,2,  34.6930,2,    220.7,2,    221.3,2,   122.10,2,    32.12,2,     2.21,2,    0.042,2,    0.022,2, -999.000,9,-999.0000,9,  -999.00,9,   -999.0,9,   -999.0,9,     7.89,2,  0.1120
 3230CITHER2_2,  A17N,   151,  1,     32,     32,2,19940227,2233, -8.9660, -30.3517, 5342,      7.9,  27.7680,  36.6800,2,  36.6810,2,    203.4,2,    198.8,2,     1.20,2,     0.04,2,     0.10,2,    1.648,2,    0.945,2, -999.000,9,-999.0000,9,  -999.00,9,   2044.7,2,   2412.9,2,     8.39,2, 27.7660
 3230CITHER2_2,  A17N,   151,  1,     31,     31,2,19940227,2233, -8.9660, -30.3517, 5342,     52.6,  27.7690,  36.6770,2,  36.6740,2,    178.9,2,   -999.0,5,     1.20,2,     0.04,2,     0.10,2,    1.661,2,    0.945,2, -999.000,9,-999.0000,9,  -999.00,9,   2044.8,2,   2410.4,2,     8.39,2, 27.7570
 3230CITHER2_2,  A17N,   151,  1,     30,     30,2,19940227,2233, -8.9660, -30.3517, 5342,    127.1,  22.8980,  36.6450,2,  36.6480,2,    193.2,2,    199.6,2,     1.40,2,     0.12,2,     0.26,2,    1.902,2,    1.054,2, -999.000,9,-999.0000,9,  -999.00,9,   2089.9,2,   2414.2,2,     8.32,2, 22.8720
 3230CITHER2_2,  A17N,   151,  1,     29,     29,2,19940227,2233, -8.9660, -30.3517, 5342,    199.7,  14.5330,  35.5360,2,  35.5080,2,    113.5,2,    111.2,2,     6.70,2,    20.01,2,     1.34,2,    1.310,2,    0.696,2, -999.000,9,-999.0000,9,  -999.00,9,   2174.3,2,   2340.6,2,     8.03,2, 14.5030
 3230CITHER2_2,  A17N,   151,  1,     28,     28,2,19940227,2233, -8.9660, -30.3517, 5342,    401.2,   7.7340,  34.6740,2,  34.6760,2,    107.5,2,    109.4,2,    18.10,2,    33.59,2,     2.15,2,    0.228,2,    0.128,2, -999.000,9,-999.0000,9,  -999.00,9,   2215.7,2,   2307.6,2,     7.84,2,  7.6940
 3230CITHER2_2,  A17N,   151,  1,     27,     27,2,19940227,2233, -8.9660, -30.3517, 5342,    602.1,   5.9120,  34.5170,2,  34.5170,2,    138.6,2,    134.5,2,    23.80,2,    34.71,2,     2.28,2,    0.142,2,    0.077,2, -999.000,9,-999.0000,9,  -999.00,9,   2216.5,2,   2305.4,2,     7.84,2,  5.8590
 3230CITHER2_2,  A17N,   151,  1,     26,     26,2,19940227,2233, -8.9660, -30.3517, 5342,    801.1,   4.5850,  34.4650,2,  34.4660,2,    154.8,2,    154.1,2,    31.40,2,    35.11,2,     2.35,2,    0.050,2,    0.025,2, -999.000,9,-999.0000,9,  -999.00,9,   2221.3,2,   2312.7,2,     7.85,2,  4.5220
 3230CITHER2_2,  A17N,   151,  1,     25,     25,2,19940227,2233, -8.9660, -30.3517, 5342,    997.3,   4.0660,  34.5500,2,  34.5510,2,    164.8,2,    163.6,2,    34.80,2,    33.96,2,     2.29,2,    0.007,2,    0.007,2, -999.000,9,-999.0000,9,  -999.00,9,   2223.2,2,   2318.2,2,     7.87,2,  3.9900
 3230CITHER2_2,  A17N,   151,  1,     24,     24,2,19940227,2233, -8.9660, -30.3517, 5342,   1198.2,   4.1410,  34.7560,2,  34.7560,2,    179.7,2,    183.1,2,    29.10,2,    29.54,2,     1.98,2,    0.001,2,    0.005,2, -999.000,9,-999.0000,9,  -999.00,9,   2208.5,2,   2319.0,2,     7.87,2,  4.0470
 3230CITHER2_2,  A17N,   151,  1,     23,     23,2,19940227,2233, -8.9660, -30.3517, 5342,   1399.6,   4.2920,  34.9100,2,  34.9110,2,    211.0,2,    211.7,2,    21.70,2,    24.28,2,     1.62,2,    0.032,2,    0.021,2, -999.000,9,-999.0000,9,  -999.00,9,   2186.1,2,   2326.8,2,     7.97,2,  4.1780
 3230CITHER2_2,  A17N,   151,  1,     22,     22,2,19940227,2233, -8.9660, -30.3517, 5342,   1599.2,   4.0620,  34.9670,2,  34.9670,2,    236.5,2,    236.2,2,    18.60,2,    21.64,2,     1.40,2,    0.053,2,    0.034,2, -999.000,9,-999.0000,9,  -999.00,9,   2185.6,2,   2327.5,2,     8.01,2,  3.9320
 3230CITHER2_2,  A17N,   151,  1,     21,     21,2,19940227,2233, -8.9660, -30.3517, 5342,   1699.0,   3.8850,  34.9750,2,  34.9750,2,    244.3,2,    244.2,2,    18.40,2,    20.87,2,     1.34,2,    0.051,2,    0.036,2, -999.000,9,-999.0000,9,  -999.00,9,   2170.7,2,   2326.2,2,     8.02,2,  3.7480
 3230CITHER2_2,  A17N,   151,  1,     20,     20,2,19940227,2233, -8.9660, -30.3517, 5342,   1800.4,   3.7340,  34.9730,2,  34.9750,2,    248.6,2,    247.6,2,    19.20,2,    20.67,2,     1.32,2,    0.037,2,    0.025,2, -999.000,9,-999.0000,9,  -999.00,9,   2169.4,2,   2326.4,2,     8.02,2,  3.5890
 3230CITHER2_2,  A17N,   151,  1,     19,     19,2,19940227,2233, -8.9660, -30.3517, 5342,   1999.0,   3.4560,  34.9610,2,  34.9630,2,    252.3,2,    249.8,2,    22.00,2,    20.63,2,     1.33,2,    0.026,2,    0.017,2, -999.000,9,-999.0000,9,  -999.00,9,   2170.7,2,   2331.4,2,     8.03,2,  3.2970
 3230CITHER2_2,  A17N,   151,  1,     17,     17,2,19940227,2233, -8.9660, -30.3517, 5342,   2197.8,   3.2260,  34.9510,2,  34.9510,2,    251.8,2,    250.5,2,    24.90,2,    20.67,2,     1.33,2,    0.018,2,    0.012,2, -999.000,9,-999.0000,9,  -999.00,9,   2186.2,3,   2331.4,2,     8.02,2,  3.0510
 3230CITHER2_2,  A17N,   151,  1,     18,     18,2,19940227,2233, -8.9660, -30.3517, 5342,   2197.8,   3.2270,  34.9510,2,  34.9510,2,    251.8,2,    250.5,2,    24.90,2,    20.67,2,     1.33,2,    0.018,2,    0.012,2, -999.000,9,-999.0000,9,  -999.00,9,   -999.0,5,   2331.4,2,     8.02,2,  3.0510
 3230CITHER2_2,  A17N,   151,  1,     16,     16,2,19940227,2233, -8.9660, -30.3517, 5342,   2400.5,   3.0320,  34.9390,2,  34.9370,2,    246.1,2,    249.0,2,    28.20,2,    20.98,2,     1.37,2,    0.014,2,    0.009,2, -999.000,9,-999.0000,9,  -999.00,9,   2176.9,2,   2335.7,2,     8.02,2,  2.8410
 3230CITHER2_2,  A17N,   151,  1,     15,     15,2,19940227,2233, -8.9660, -30.3517, 5342,   2700.2,   2.8380,  34.9270,2,  34.9260,2,    248.4,2,    248.5,2,    31.80,2,    21.33,2,     1.40,2,    0.005,2,    0.006,2, -999.000,9,-999.0000,9,  -999.00,9,   2181.1,2,   2336.0,2,     8.02,2,  2.6210
 3230CITHER2_2,  A17N,   151,  1,     14,     14,2,19940227,2233, -8.9660, -30.3517, 5342,   2998.9,   2.7260,  34.9240,2,  34.9210,2,    250.7,2,    250.8,2,    32.60,2,    21.14,2,     1.39,2,    0.009,2,    0.007,2, -999.000,9,-999.0000,9,  -999.00,9,   2181.1,2,   2340.8,2,     8.02,2,  2.4810
 3230CITHER2_2,  A17N,   151,  1,     13,     13,2,19940227,2233, -8.9660, -30.3517, 5342,   3199.3,   2.6690,  34.9230,2,  34.9220,2,    253.7,2,    253.6,2,    32.10,2,    21.06,2,     1.36,2,    0.012,2,    0.014,2, -999.000,9,-999.0000,9,  -999.00,9,   2179.8,2,   2339.7,2,     8.03,2,  2.4050
 3230CITHER2_2,  A17N,   151,  1,     12,     12,2,19940227,2233, -8.9660, -30.3517, 5342,   3398.6,   2.5670,  34.9180,2,  34.9190,2,    256.1,2,    255.7,2,    33.10,2,    21.01,2,     1.36,2,    0.011,2,    0.007,2, -999.000,9,-999.0000,9,  -999.00,9,   2179.1,2,   2338.0,2,     8.03,2,  2.2840
 3230CITHER2_2,  A17N,   151,  1,     11,     11,2,19940227,2233, -8.9660, -30.3517, 5342,   3596.9,   2.4540,  34.9050,2,  34.9060,2,    256.7,2,    256.7,2,    34.80,2,    21.03,2,     1.36,2,    0.018,2,    0.021,2, -999.000,9,-999.0000,9,  -999.00,9,   2181.0,2,   2342.9,2,     8.02,2,  2.1520
 3230CITHER2_2,  A17N,   151,  1,     10,     10,2,19940227,2233, -8.9660, -30.3517, 5342,   3797.1,   2.2490,  34.8870,2,  34.8850,2,    254.3,2,    254.3,2,    43.00,2,    22.04,2,     1.44,2,    0.014,2,    0.008,2, -999.000,9,-999.0000,9,  -999.00,9,   2187.9,2,   2350.3,2,     8.01,2,  1.9310
 3230CITHER2_2,  A17N,   151,  1,      9,      9,2,19940227,2233, -8.9660, -30.3517, 5342,   3996.8,   1.9310,  34.8510,2,  34.8480,2,    246.6,2,    246.0,2,    58.80,2,    24.06,2,     1.59,2,    0.005,2,    0.005,2, -999.000,9,-999.0000,9,  -999.00,9,   2204.3,2,   2354.2,2,     7.99,2,  1.5990
 3230CITHER2_2,  A17N,   151,  1,      8,      8,2,19940227,2233, -8.9660, -30.3517, 5342,   4195.9,   1.4670,  34.8000,2,  34.7980,2,    238.4,2,    236.7,2,    81.00,2,    26.88,2,     1.81,2,    0.003,2,    0.004,2, -999.000,9,-999.0000,9,  -999.00,9,   2225.5,2,   2363.6,2,     7.96,2,  1.1270
 3230CITHER2_2,  A17N,   151,  1,      7,      7,2,19940227,2233, -8.9660, -30.3517, 5342,   4395.9,   1.1330,  34.7640,2,  34.7630,2,    231.3,2,    230.9,2,    95.30,2,    29.12,2,     1.95,2,    0.005,2,    0.007,2, -999.000,9,-999.0000,9,  -999.00,9,   2237.1,2,   2371.9,2,     7.95,2,  0.7810
 3230CITHER2_2,  A17N,   151,  1,      6,      6,2,19940227,2233, -8.9660, -30.3517, 5342,   4594.8,   0.9300,  34.7400,2,  34.7400,2,    227.0,2,    227.1,2,   104.50,2,    30.16,2,     2.04,2,    0.010,2,    0.006,2, -999.000,9,-999.0000,9,  -999.00,9,   2268.5,3,   2376.7,2,     7.93,2,  0.5620
 3230CITHER2_2,  A17N,   151,  1,      5,      5,2,19940227,2233, -8.9660, -30.3517, 5342,   4796.7,   0.8220,  34.7270,2,  34.7270,2,    224.7,2,    225.3,2,   109.90,2,    31.15,2,     2.09,2,    0.011,2,    0.011,2, -999.000,9,-999.0000,9,  -999.00,9,   2252.6,2,   2377.8,2,     7.92,2,  0.4340
 3230CITHER2_2,  A17N,   151,  1,      4,      4,2,19940227,2233, -8.9660, -30.3517, 5342,   4998.2,   0.7240,  34.7150,2,  34.7130,2,    222.9,2,    223.5,2,   114.50,2,    31.75,2,     2.13,2,    0.015,2,    0.012,2, -999.000,9,-999.0000,9,  -999.00,9,   2256.4,2,   2378.9,2,     7.92,2,  0.3160
 3230CITHER2_2,  A17N,   151,  1,      3,      3,2,19940227,2233, -8.9660, -30.3517, 5342,   5197.6,   0.6670,  34.7070,2,  34.7070,2,    222.1,2,    222.9,2,   117.30,2,    32.15,2,     2.15,2,    0.020,2,    0.009,2, -999.000,9,-999.0000,9,  -999.00,9,   2259.1,2,   2380.2,2,     7.91,2,  0.2380
 3230CITHER2_2,  A17N,   151,  1,      2,      2,2,19940227,2233, -8.9660, -30.3517, 5342,   5336.8,   0.6300,  34.7020,2,  34.7020,2,    221.4,2,    221.9,2,   118.70,2,    32.55,2,     2.17,2,    0.025,2,    0.017,2, -999.000,9,-999.0000,9,  -999.00,9,   2260.8,2,   2378.2,2,     7.91,2,  0.1850
 3230CITHER2_2,  A17N,   151,  1,      1,      1,2,19940227,2233, -8.9660, -30.3517, 5342,   5441.6,   0.6060,  34.6970,2,  34.6970,2,    220.6,2,    220.9,2,   119.60,2,    32.95,2,     2.21,2,    0.033,2,    0.021,2, -999.000,9,-999.0000,9,  -999.00,9,   2262.7,2,   2383.9,2,     7.91,2,  0.1490