BOTTLE,20030515WHPSIOSA
EXPOCODE,SECT_ID,STNNBR,CASTNO,SAMPNO,BTLNBR,BTLNBR_FLAG_W,DATE,TIME,LATITUDE,LONGITUDE,DEPTH,CTDPRS,CTDTMP,CTDSAL,CTDSAL_FLAG_W,SALNTY,SALNTY_FLAG_W,CTDOXY,CTDOXY_FLAG_W,OXYGEN,OXYGEN_FLAG_W,SILCAT,SILCAT_FLAG_W,NITRAT,NITRAT_FLAG_W,PHSPHT,PHSPHT_FLAG_W,CFC-11,CFC-11_FLAG_W,CFC-12,CFC-12_FLAG_W,TRITUM,TRITUM_FLAG_W,HELIUM,HELIUM_FLAG_W,DELHE3,DELHE3_FLAG_W,TCARBN,TCARBN_FLAG_W,ALKALI,ALKALI_FLAG_W,PH,PH_FLAG_W,THETA
,,,,,,,,,,,,DBAR,ITS-90,PSS-78,,PSS-78,,UMOL/KG,,UMOL/KG,,UMOL/KG,,UMOL/KG,,UMOL/KG,,PMOL/KG,,PMOL/KG,,TU,,NMOL/KG,,PERCNT,,UMOL/KG,,UMOL/KG,,,,DEG C
 3230CITHER2_1,  A17C,    42,  1,      2,      2,2,19940121,1004,-35.5153, -45.0108, 4841,   2903.3,   2.6850,  34.8800,2,  34.8810,2,    236.3,2,    237.7,2,    48.10,2,    23.77,2,     1.59,2, -999.000,9, -999.000,9, -999.000,9,-999.0000,9,  -999.00,9,   -999.0,9,   -999.0,9,  -999.00,9,  2.4510
 3230CITHER2_1,  A17C,    42,  1,      1,      1,2,19940121,1004,-35.5153, -45.0108, 4841,   2903.9,   2.6850,  34.8800,2,  34.8810,2,    236.1,2,    239.0,2,    48.30,2,    23.62,2,     1.59,2, -999.000,9, -999.000,9, -999.000,9,-999.0000,9,  -999.00,9,   -999.0,9,   -999.0,9,  -999.00,9,  2.4510
 3230CITHER2_1,  A17C,    42,  1,      3,      3,2,19940121,1004,-35.5153, -45.0108, 4841,   2904.4,   2.6840,  34.8800,2,  34.8790,2,    236.1,2,    235.9,2,    48.20,2,    23.65,2,     1.59,2, -999.000,9, -999.000,9, -999.000,9,-999.0000,9,  -999.00,9,   -999.0,9,   -999.0,9,  -999.00,9,  2.4500
 3230CITHER2_1,  A17C,    42,  1,      5,      5,2,19940121,1004,-35.5153, -45.0108, 4841,   2904.4,   2.6850,  34.8800,2,  34.8790,2,    236.1,2,   -999.0,5,    48.30,2,    23.65,2,     1.59,2, -999.000,9, -999.000,9, -999.000,9,-999.0000,9,  -999.00,9,   -999.0,9,   -999.0,9,  -999.00,9,  2.4500
 3230CITHER2_1,  A17C,    42,  1,      4,      4,2,19940121,1004,-35.5153, -45.0108, 4841,   2904.6,   2.6840,  34.8810,2,  34.8790,2,    236.0,2,    235.9,2,    48.20,2,    23.65,2,     1.59,2, -999.000,9, -999.000,9, -999.000,9,-999.0000,9,  -999.00,9,   -999.0,9,   -999.0,9,  -999.00,9,  2.4500
 3230CITHER2_1,  A17C,    42,  1,      6,      6,2,19940121,1004,-35.5153, -45.0108, 4841,   2905.0,   2.6840,  34.8800,2,  34.8800,2,    236.0,2,    235.5,2,    48.30,2,    23.73,2,     1.59,2, -999.000,9, -999.000,9, -999.000,9,-999.0000,9,  -999.00,9,   -999.0,9,   -999.0,9,  -999.00,9,  2.4500
 3230CITHER2_1,  A17C,    42,  1,      7,      7,2,19940121,1004,-35.5153, -45.0108, 4841,   2905.0,   2.6850,  34.8790,2,  34.8800,2,    236.0,2,    235.5,2,    48.30,2,    23.73,2,     1.59,2, -999.000,9, -999.000,9, -999.000,9,-999.0000,9,  -999.00,9,   -999.0,9,   -999.0,9,  -999.00,9,  2.4500
 3230CITHER2_1,  A17C,    42,  1,      9,      9,2,19940121,1004,-35.5153, -45.0108, 4841,   2905.0,   2.6850,  34.8790,2,  34.8800,2,    236.0,2,    235.5,2,    48.30,2,    23.73,2,     1.59,2, -999.000,9, -999.000,9, -999.000,9,-999.0000,9,  -999.00,9,   -999.0,9,   -999.0,9,  -999.00,9,  2.4500
 3230CITHER2_1,  A17C,    42,  1,      8,      8,2,19940121,1004,-35.5153, -45.0108, 4841,   2905.5,   2.6850,  34.8790,2,  34.8800,2,    236.0,2,    235.0,2,    49.40,2,    23.73,2,     1.59,2, -999.000,9, -999.000,9, -999.000,9,-999.0000,9,  -999.00,9,   -999.0,9,   -999.0,9,  -999.00,9,  2.4510
 3230CITHER2_1,  A17C,    42,  1,     10,     10,2,19940121,1004,-35.5153, -45.0108, 4841,   2905.5,   2.6850,  34.8800,2,  34.8800,2,    236.0,2,    235.0,2,    49.40,2,    23.73,2,     1.59,2, -999.000,9, -999.000,9, -999.000,9,-999.0000,9,  -999.00,9,   -999.0,9,   -999.0,9,  -999.00,9,  2.4510
 3230CITHER2_1,  A17C,    42,  1,     12,     12,2,19940121,1004,-35.5153, -45.0108, 4841,   2905.6,   2.6850,  34.8800,2,  34.8800,2,    236.0,2,    237.8,2,    48.30,2,    23.57,2,     1.59,2, -999.000,9, -999.000,9, -999.000,9,-999.0000,9,  -999.00,9,   -999.0,9,   -999.0,9,  -999.00,9,  2.4510
 3230CITHER2_1,  A17C,    42,  1,     11,     11,2,19940121,1004,-35.5153, -45.0108, 4841,   2905.7,   2.6850,  34.8800,2,  34.8780,2,    236.0,2,    235.6,2,    48.30,2,    23.65,2,     1.59,2, -999.000,9, -999.000,9, -999.000,9,-999.0000,9,  -999.00,9,   -999.0,9,   -999.0,9,  -999.00,9,  2.4510
 3230CITHER2_1,  A17C,    42,  1,     13,     13,2,19940121,1004,-35.5153, -45.0108, 4841,   2905.9,   2.6850,  34.8800,2,  34.8810,2,    236.0,2,    236.3,2,    48.30,2,    23.65,2,     1.59,2, -999.000,9, -999.000,9, -999.000,9,-999.0000,9,  -999.00,9,   -999.0,9,   -999.0,9,  -999.00,9,  2.4510
 3230CITHER2_1,  A17C,    42,  1,     15,     15,2,19940121,1004,-35.5153, -45.0108, 4841,   2906.6,   2.6850,  34.8800,2,  34.8780,2,    235.8,2,    235.2,2,    48.20,2,    23.57,2,     1.59,2, -999.000,9, -999.000,9, -999.000,9,-999.0000,9,  -999.00,9,   -999.0,9,   -999.0,9,  -999.00,9,  2.4510
 3230CITHER2_1,  A17C,    42,  1,     14,     14,2,19940121,1004,-35.5153, -45.0108, 4841,   2906.8,   2.6850,  34.8800,2,  34.8790,2,    235.8,2,    235.1,2,    48.90,2,    23.65,2,     1.59,2, -999.000,9, -999.000,9, -999.000,9,-999.0000,9,  -999.00,9,   -999.0,9,   -999.0,9,  -999.00,9,  2.4510
 3230CITHER2_1,  A17C,    42,  1,     17,     17,2,19940121,1004,-35.5153, -45.0108, 4841,   2907.1,   2.6840,  34.8800,2,  34.8810,2,    235.8,2,    235.3,2,    49.10,2,    23.61,2,     1.59,2, -999.000,9, -999.000,9, -999.000,9,-999.0000,9,  -999.00,9,   -999.0,9,   -999.0,9,  -999.00,9,  2.4500
 3230CITHER2_1,  A17C,    42,  1,     19,     19,2,19940121,1004,-35.5153, -45.0108, 4841,   2907.1,   2.6840,  34.8800,2,  34.8810,2,    235.8,2,    235.3,2,    49.10,2,    23.61,2,     1.59,2, -999.000,9, -999.000,9, -999.000,9,-999.0000,9,  -999.00,9,   -999.0,9,   -999.0,9,  -999.00,9,  2.4500
 3230CITHER2_1,  A17C,    42,  1,     18,     18,2,19940121,1004,-35.5153, -45.0108, 4841,   2907.2,   2.6840,  34.8790,2,  34.8760,2,    235.8,2,    234.9,2,    48.90,2,    23.61,2,     1.59,2, -999.000,9, -999.000,9, -999.000,9,-999.0000,9,  -999.00,9,   -999.0,9,   -999.0,9,  -999.00,9,  2.4510
 3230CITHER2_1,  A17C,    42,  1,     16,     16,2,19940121,1004,-35.5153, -45.0108, 4841,   2907.3,   2.6850,  34.8800,2,  34.8790,2,    235.8,2,    238.4,2,    48.90,2,    23.61,2,     1.59,2, -999.000,9, -999.000,9, -999.000,9,-999.0000,9,  -999.00,9,   -999.0,9,   -999.0,9,  -999.00,9,  2.4500
 3230CITHER2_1,  A17C,    42,  1,     20,     20,2,19940121,1004,-35.5153, -45.0108, 4841,   2907.5,   2.6840,  34.8790,2,  34.8790,2,      0.0,2,    235.2,2,    48.90,2,    23.61,2,     1.59,2, -999.000,9, -999.000,9, -999.000,9,-999.0000,9,  -999.00,9,   -999.0,9,   -999.0,9,  -999.00,9,  2.4500
 3230CITHER2_1,  A17C,    42,  1,     24,     24,2,19940121,1004,-35.5153, -45.0108, 4841,   2907.5,   2.6830,  34.8800,2,  34.8790,2,      0.0,2,    234.9,2,    48.90,2,    23.69,2,     1.59,2, -999.000,9, -999.000,9, -999.000,9,-999.0000,9,  -999.00,9,   -999.0,9,   -999.0,9,  -999.00,9,  2.4470
 3230CITHER2_1,  A17C,    42,  1,     21,     21,2,19940121,1004,-35.5153, -45.0108, 4841,   2907.6,   2.6830,  34.8790,2,  34.8790,2,      0.0,2,    235.2,2,    48.90,2,    23.61,2,     1.59,2, -999.000,9, -999.000,9, -999.000,9,-999.0000,9,  -999.00,9,   -999.0,9,   -999.0,9,  -999.00,9,  2.4500
 3230CITHER2_1,  A17C,    42,  1,     22,     22,2,19940121,1004,-35.5153, -45.0108, 4841,   2907.7,   2.6810,  34.8800,2,  34.8790,2,      0.0,2,    235.2,2,    48.70,2,    23.61,2,     1.59,2, -999.000,9, -999.000,9, -999.000,9,-999.0000,9,  -999.00,9,   -999.0,9,   -999.0,9,  -999.00,9,  2.4490
 3230CITHER2_1,  A17C,    42,  1,     23,     23,2,19940121,1004,-35.5153, -45.0108, 4841,   2908.1,   2.6810,  34.8790,2,  34.8790,2,      0.0,2,    235.0,2,    48.70,2,    23.73,2,     1.59,2, -999.000,9, -999.000,9, -999.000,9,-999.0000,9,  -999.00,9,   -999.0,9,   -999.0,9,  -999.00,9,  2.4470
 3230CITHER2_1,  A17C,    42,  1,     28,     28,2,19940121,1004,-35.5153, -45.0108, 4841,   2908.3,   2.6840,  34.8800,2,  34.8790,2,      0.0,2,    235.0,2,    48.70,2,    23.80,2,     1.59,2, -999.000,9, -999.000,9, -999.000,9,-999.0000,9,  -999.00,9,   -999.0,9,   -999.0,9,  -999.00,9,  2.4490
 3230CITHER2_1,  A17C,    42,  1,     25,     25,2,19940121,1004,-35.5153, -45.0108, 4841,   2908.4,   2.6830,  34.8800,2,  34.8810,2,      0.0,2,    234.9,2,    48.90,2,    23.84,2,     1.58,2, -999.000,9, -999.000,9, -999.000,9,-999.0000,9,  -999.00,9,   -999.0,9,   -999.0,9,  -999.00,9,  2.4500
 3230CITHER2_1,  A17C,    42,  1,     26,     26,2,19940121,1004,-35.5153, -45.0108, 4841,   2908.4,   2.6830,  34.8800,2,  34.8790,2,      0.0,2,    235.0,2,    48.70,2,    23.80,2,     1.59,2, -999.000,9, -999.000,9, -999.000,9,-999.0000,9,  -999.00,9,   -999.0,9,   -999.0,9,  -999.00,9,  2.4490
 3230CITHER2_1,  A17C,    42,  1,     27,     27,2,19940121,1004,-35.5153, -45.0108, 4841,   2908.4,   2.6840,  34.8800,2,  34.8790,2,      0.0,2,    235.0,2,    48.70,2,    23.80,2,     1.59,2, -999.000,9, -999.000,9, -999.000,9,-999.0000,9,  -999.00,9,   -999.0,9,   -999.0,9,  -999.00,9,  2.4490
 3230CITHER2_1,  A17C,    42,  1,     29,     29,2,19940121,1004,-35.5153, -45.0108, 4841,   2908.4,   2.6840,  34.8790,2,  34.8790,2,      0.0,2,    235.0,2,    48.70,2,    23.80,2,     1.59,2, -999.000,9, -999.000,9, -999.000,9,-999.0000,9,  -999.00,9,   -999.0,9,   -999.0,9,  -999.00,9,  2.4490
 3230CITHER2_1,  A17C,    42,  1,     31,     31,2,19940121,1004,-35.5153, -45.0108, 4841,   2908.5,   2.6830,  34.8800,2,  34.8800,2,      0.0,2,    235.4,2,    48.60,2,    23.76,2,     1.58,2, -999.000,9, -999.000,9, -999.000,9,-999.0000,9,  -999.00,9,   -999.0,9,   -999.0,9,  -999.00,9,  2.4480
 3230CITHER2_1,  A17C,    42,  1,     30,     30,2,19940121,1004,-35.5153, -45.0108, 4841,   2908.6,   2.6820,  34.8800,2,  34.8790,2,      0.0,2,    234.9,2,    48.50,2,    23.62,2,     1.59,2, -999.000,9, -999.000,9, -999.000,9,-999.0000,9,  -999.00,9,   -999.0,9,   -999.0,9,  -999.00,9,  2.4490
 3230CITHER2_1,  A17C,    42,  1,     32,     32,2,19940121,1004,-35.5153, -45.0108, 4841,   2908.7,   2.6840,  34.8800,2,  34.8790,2,      0.0,2,    234.7,2,    48.60,2,    23.65,2,     1.58,2, -999.000,9, -999.000,9, -999.000,9,-999.0000,9,  -999.00,9,   -999.0,9,   -999.0,9,  -999.00,9,  2.4500
 3230CITHER2_1,  A17C,    43,  1,      9,      9,2,19940122,1713,-32.3527, -50.2177,  234,      6.3,  23.3300,  31.3300,2,  31.3360,2,    219.8,2,    223.0,2,     8.00,2,     0.12,2,     0.39,2,    2.269,2,    1.258,2, -999.000,9,-999.0000,9,  -999.00,9,   1899.5,2,   2176.1,2,     8.30,2, 23.3290
 3230CITHER2_1,  A17C,    43,  1,      8,      8,2,19940122,1713,-32.3527, -50.2177,  234,     25.2,  23.5640,  33.9890,2,  34.1480,2,    211.0,2,    214.1,2,     3.20,2,     0.12,2,     0.26,2,    2.249,2,    1.251,2, -999.000,9,-999.0000,9,  -999.00,9,   -999.0,5,   2293.2,2,     8.32,2, 23.5590
 3230CITHER2_1,  A17C,    43,  1,      7,      7,2,19940122,1713,-32.3527, -50.2177,  234,     50.2,  20.5850,  36.0200,2,  36.0700,2,    222.6,2,    218.7,2,     1.70,2,     0.46,2,     0.21,2,    2.382,2,    1.308,2, -999.000,9,-999.0000,9,  -999.00,9,   -999.0,5,   2381.6,2,     8.31,2, 20.5750
 3230CITHER2_1,  A17C,    43,  1,      6,      6,2,19940122,1713,-32.3527, -50.2177,  234,     74.9,  19.8650,  36.2270,2,  36.2150,2,    212.4,2,    214.5,2,     1.20,2,     0.14,2,     0.20,2,    2.323,2,    1.261,2, -999.000,9,-999.0000,9,  -999.00,9,   2077.4,2,   2386.3,2,     8.30,2, 19.8510
 3230CITHER2_1,  A17C,    43,  1,      5,      5,2,19940122,1713,-32.3527, -50.2177,  234,    101.7,  16.1310,  35.2940,2,  35.3010,2,    176.4,2,    171.7,2,    11.20,2,     6.61,2,     0.73,2,    2.739,2,    1.470,2, -999.000,9,-999.0000,9,  -999.00,9,   2113.0,2,   2341.2,2,     8.17,2, 16.1150
 3230CITHER2_1,  A17C,    43,  1,      4,      4,2,19940122,1713,-32.3527, -50.2177,  234,    151.6,  16.1090,  35.6470,2,  35.6460,2,    164.9,2,    168.5,2,    11.20,2,     8.39,2,     0.75,2,    2.412,2,    1.296,2, -999.000,9,-999.0000,9,  -999.00,9,   -999.0,5,   2359.9,2,     8.16,2, 16.0850
 3230CITHER2_1,  A17C,    43,  1,      2,      2,2,19940122,1713,-32.3527, -50.2177,  234,    201.7,  14.0350,  35.3340,2,  35.3750,2,    180.4,2,    183.8,2,     8.60,2,    11.29,2,     0.87,2,    2.528,2,    1.339,2, -999.000,9,-999.0000,9,  -999.00,9,   2120.8,2,   2339.4,2,     8.14,2, 14.0060
 3230CITHER2_1,  A17C,    43,  1,      3,      3,2,19940122,1713,-32.3527, -50.2177,  234,    202.4,  14.8380,  35.4780,2,  35.4670,2,    180.4,2,    179.9,2,     9.20,2,    10.14,2,     0.83,2,    2.429,2,    1.281,2, -999.000,9,-999.0000,9,  -999.00,9,   2121.2,2,   2344.0,2,     8.15,2, 14.8070
 3230CITHER2_1,  A17C,    43,  1,      1,      1,2,19940122,1713,-32.3527, -50.2177,  234,    216.3,  11.2110,  34.9540,2,  34.9560,2,    197.2,2,    204.9,2,     6.40,2,    15.69,2,     1.17,2,    2.598,2,    1.341,2, -999.000,9,-999.0000,9,  -999.00,9,   2127.4,2,   2320.1,2,     8.09,2, 11.1840
 3230CITHER2_1,  A17C,    44,  1,     16,     16,2,19940122,1838,-32.4250, -50.1075,  972,      5.7,  23.4660,  31.9850,2,-999.0000,5,    214.1,2,    219.8,2,     5.50,2,     0.22,2,     0.32,2,    2.210,2,    1.223,2, -999.000,9,-999.0000,9,  -999.00,9,   1942.3,2,   2187.8,2,     8.32,2, 23.4650
 3230CITHER2_1,  A17C,    44,  1,     15,     15,2,19940122,1838,-32.4250, -50.1075,  972,     30.8,  24.5310,  36.0780,2,  36.2040,2,    216.1,2,    213.5,2,     1.10,2,     0.12,2,     0.09,2,    2.029,2,    1.127,2, -999.000,9,-999.0000,9,  -999.00,9,   2041.1,2,   2389.3,2,     8.37,2, 24.5240
 3230CITHER2_1,  A17C,    44,  1,     14,     14,2,19940122,1838,-32.4250, -50.1075,  972,     75.9,  21.7280,  36.5800,2,  36.5700,2,    215.6,2,    214.3,2,     1.00,2,     0.12,2,     0.10,2,    2.208,2,    1.213,2, -999.000,9,-999.0000,9,  -999.00,9,   2071.0,2,   2410.4,2,     8.33,2, 21.7130
 3230CITHER2_1,  A17C,    44,  1,     13,     13,2,19940122,1838,-32.4250, -50.1075,  972,    100.4,  20.3710,  36.3580,2,  36.3230,2,    205.7,2,    207.3,2,     1.30,2,     0.98,2,     0.19,2,    2.280,2,    1.238,2, -999.000,9,-999.0000,9,  -999.00,9,   2080.5,2,   2392.4,2,     8.30,2, 20.3520
 3230CITHER2_1,  A17C,    44,  1,     12,     12,2,19940122,1838,-32.4250, -50.1075,  972,    148.9,  18.2620,  36.0670,2,  35.9660,2,    199.4,2,    199.8,2,     1.80,2,     3.28,2,     0.33,2,    2.387,2,    1.295,2, -999.000,9,-999.0000,9,  -999.00,9,   2089.4,2,   2371.2,2,     8.26,2, 18.2360
 3230CITHER2_1,  A17C,    44,  1,     11,     11,2,19940122,1838,-32.4250, -50.1075,  972,    201.0,  15.6570,  35.5910,2,  35.5710,2,    195.5,2,    196.5,2,     3.00,2,     7.09,2,     0.57,2,    2.399,2,    1.274,2, -999.000,9,-999.0000,9,  -999.00,9,   2101.5,2,   2349.2,2,     8.20,2, 15.6260
 3230CITHER2_1,  A17C,    44,  1,     10,     10,2,19940122,1838,-32.4250, -50.1075,  972,    247.8,  14.7380,  35.5370,2,  35.5110,2,    204.8,2,    207.5,2,     2.50,2,     7.57,2,     0.59,2,    2.491,2,    1.313,2, -999.000,9,-999.0000,9,  -999.00,9,   2099.4,2,   2346.0,2,     8.20,2, 14.7010
 3230CITHER2_1,  A17C,    44,  1,      9,      9,2,19940122,1838,-32.4250, -50.1075,  972,    299.2,  13.1870,  35.2760,2,  35.2520,2,    203.4,2,    202.5,2,     3.90,2,    11.21,2,     0.81,2,    2.320,2,    1.216,2, -999.000,9,-999.0000,9,  -999.00,9,   2112.5,2,   2332.8,2,     8.16,2, 13.1450
 3230CITHER2_1,  A17C,    44,  1,      8,      8,2,19940122,1838,-32.4250, -50.1075,  972,    401.7,  10.3140,  34.8470,2,  34.8600,2,    207.6,2,    208.3,2,     6.90,2,    17.18,2,     1.20,2,    2.333,2,    1.196,2, -999.000,9,-999.0000,9,  -999.00,9,   2129.4,2,   2315.3,2,     8.10,2, 10.2660
 3230CITHER2_1,  A17C,    44,  1,      7,      7,2,19940122,1838,-32.4250, -50.1075,  972,    499.5,   7.4300,  34.5290,2,  34.5210,2,    213.8,2,    219.0,2,    11.30,2,    22.86,2,     1.60,2,    2.128,2,    1.077,2, -999.000,9,-999.0000,9,  -999.00,9,   2148.3,2,   2302.1,2,     8.01,2,  7.3810
 3230CITHER2_1,  A17C,    44,  1,      6,      6,2,19940122,1838,-32.4250, -50.1075,  972,    599.9,   5.6070,  34.3460,2,  34.3470,2,    229.1,2,    231.4,2,    15.20,2,    26.31,2,     1.80,2,    2.497,2,    1.445,2, -999.000,9,-999.0000,9,  -999.00,9,   2157.4,2,   2298.7,2,     7.97,2,  5.5560
 3230CITHER2_1,  A17C,    44,  1,      5,      5,2,19940122,1838,-32.4250, -50.1075,  972,    702.5,   5.0830,  34.3190,2,  34.3230,2,    229.8,2,    232.0,2,    18.00,2,    27.73,2,     1.89,2,    1.894,2,    0.950,2, -999.000,9,-999.0000,9,  -999.00,9,   2165.5,2,   2299.5,2,     7.96,2,  5.0260
 3230CITHER2_1,  A17C,    44,  1,      4,      4,2,19940122,1838,-32.4250, -50.1075,  972,    800.1,   4.7620,  34.3130,2,  34.3130,2,    229.1,2,    228.1,2,    21.10,2,    28.70,2,     1.96,2,    1.581,2,    0.803,2, -999.000,9,-999.0000,9,  -999.00,9,   -999.0,5,   2300.8,2,     7.95,2,  4.6980
 3230CITHER2_1,  A17C,    44,  1,      3,      3,2,19940122,1838,-32.4250, -50.1075,  972,    802.4,   4.7620,  34.3130,2,  34.3140,2,    228.7,2,    228.1,2,    20.90,2,    28.69,2,     1.95,2,    1.577,2,    0.810,2, -999.000,9,-999.0000,9,  -999.00,9,   2170.0,2,   2300.8,2,     7.95,2,  4.6980
 3230CITHER2_1,  A17C,    44,  1,      2,      2,2,19940122,1838,-32.4250, -50.1075,  972,    899.5,   4.5730,  34.3090,2,  34.3050,2,    226.4,2,    226.5,2,    22.40,2,    29.30,2,     1.98,2,    1.445,2,    0.736,2, -999.000,9,-999.0000,9,  -999.00,9,   2173.2,2,   2303.0,2,     7.95,2,  4.5020
 3230CITHER2_1,  A17C,    44,  1,      1,      1,2,19940122,1838,-32.4250, -50.1075,  972,    947.3,   4.4410,  34.3060,2,  34.3080,2,    223.3,2,    226.1,2,    23.90,2,    29.70,2,     2.01,2,    1.360,2,    0.686,2, -999.000,9,-999.0000,9,  -999.00,9,   2175.9,2,   2302.4,2,     7.93,2,  4.3670