BOTTLE,20030515WHPSIOSA
EXPOCODE,SECT_ID,STNNBR,CASTNO,SAMPNO,BTLNBR,BTLNBR_FLAG_W,DATE,TIME,LATITUDE,LONGITUDE,DEPTH,CTDPRS,CTDTMP,CTDSAL,CTDSAL_FLAG_W,SALNTY,SALNTY_FLAG_W,CTDOXY,CTDOXY_FLAG_W,OXYGEN,OXYGEN_FLAG_W,SILCAT,SILCAT_FLAG_W,NITRAT,NITRAT_FLAG_W,PHSPHT,PHSPHT_FLAG_W,CFC-11,CFC-11_FLAG_W,CFC-12,CFC-12_FLAG_W,TRITUM,TRITUM_FLAG_W,HELIUM,HELIUM_FLAG_W,DELHE3,DELHE3_FLAG_W,TCARBN,TCARBN_FLAG_W,ALKALI,ALKALI_FLAG_W,PH,PH_FLAG_W,THETA
,,,,,,,,,,,,DBAR,ITS-90,PSS-78,,PSS-78,,UMOL/KG,,UMOL/KG,,UMOL/KG,,UMOL/KG,,UMOL/KG,,PMOL/KG,,PMOL/KG,,TU,,NMOL/KG,,PERCNT,,UMOL/KG,,UMOL/KG,,,,DEG C
 3230CITHER2_1,  A17C,    72,  1,     31,     31,2,19940130,2303,-30.8892, -39.7350, 4414,      3.3,  23.1700,  36.0130,2,  36.0140,2,    217.3,2,    217.6,2,     0.80,2,     0.00,2,     0.01,2,    2.180,2,    1.212,2, -999.000,9,-999.0000,9,  -999.00,9,   2034.3,2,   2372.8,2,     8.34,2, 23.1690
 3230CITHER2_1,  A17C,    72,  1,     30,     30,2,19940130,2303,-30.8892, -39.7350, 4414,     40.7,  22.2020,  36.1330,2,  36.1620,2,    223.9,2,    225.1,2,     0.70,2,     0.00,2,     0.00,2,    2.270,2,    1.263,2, -999.000,9,-999.0000,9,  -999.00,9,   2042.6,2,   2380.1,2,     8.34,2, 22.1940
 3230CITHER2_1,  A17C,    72,  1,     29,     29,2,19940130,2303,-30.8892, -39.7350, 4414,     75.3,  18.9940,  36.1370,2,  36.1460,2,    227.1,2,    228.3,2,     0.80,2,     0.00,2,     0.07,2,    2.465,2,    1.345,2, -999.000,9,-999.0000,9,  -999.00,9,   2061.3,2,   2379.2,2,     8.31,2, 18.9810
 3230CITHER2_1,  A17C,    72,  1,     28,     28,2,19940130,2303,-30.8892, -39.7350, 4414,    100.6,  18.2270,  36.0230,2,  36.0220,2,    221.4,2,    224.2,2,     0.80,2,     0.08,2,     0.10,2,    2.563,2,    1.388,2, -999.000,9,-999.0000,9,  -999.00,9,   2066.9,2,   2374.0,2,     8.29,2, 18.2090
 3230CITHER2_1,  A17C,    72,  1,     27,     27,2,19940130,2303,-30.8892, -39.7350, 4414,    151.4,  17.3550,  35.9230,2,  35.9180,2,    216.5,2,    217.6,2,     1.10,2,     1.90,2,     0.28,2,    2.588,2,    1.393,2, -999.000,9,-999.0000,9,  -999.00,9,   2074.9,2,   2366.9,2,     8.26,2, 17.3300
 3230CITHER2_1,  A17C,    72,  1,     26,     26,2,19940130,2303,-30.8892, -39.7350, 4414,    199.7,  16.5750,  35.8360,2,  35.8340,2,    217.9,2,    217.2,2,     1.40,2,     3.17,2,     0.31,2, -999.000,5, -999.000,5, -999.000,9,-999.0000,9,  -999.00,9,   2083.1,2,   2362.1,2,     8.25,2, 16.5420
 3230CITHER2_1,  A17C,    72,  1,     25,     25,2,19940130,2303,-30.8892, -39.7350, 4414,    299.3,  15.3390,  35.6760,2,  35.6760,2,    223.0,2,    221.4,2,     1.70,2,     5.08,2,     0.44,2,    2.693,2,    1.434,2, -999.000,9,-999.0000,9,  -999.00,9,   2090.7,2,   2354.1,2,     8.22,2, 15.2930
 3230CITHER2_1,  A17C,    72,  1,     24,     24,2,19940130,2303,-30.8892, -39.7350, 4414,    400.3,  13.4100,  35.3030,2,  35.2980,2,    211.7,2,    209.1,2,     2.90,2,     9.62,2,     0.73,2,    2.471,2,    1.290,2, -999.000,9,-999.0000,9,  -999.00,9,   2105.8,2,   2333.9,2,     8.15,2, 13.3530
 3230CITHER2_1,  A17C,    72,  1,     23,     23,2,19940130,2303,-30.8892, -39.7350, 4414,    500.3,  11.3590,  35.0030,2,  34.9950,2,    207.6,2,    206.1,2,     4.90,2,    14.54,2,     1.04,2,    2.176,2,    1.131,2, -999.000,9,-999.0000,9,  -999.00,9,   2121.1,2,   2319.5,2,     8.09,2, 11.2950
 3230CITHER2_1,  A17C,    72,  1,     22,     22,2,19940130,2303,-30.8892, -39.7350, 4414,    599.6,   8.9430,  34.6920,2,  34.6920,2,    207.9,2,    206.9,2,     8.20,2,    19.97,2,     1.39,2,    1.943,2,    0.998,2, -999.000,9,-999.0000,9,  -999.00,9,   2139.0,2,   2305.1,2,     8.02,2,  8.8770
 3230CITHER2_1,  A17C,    72,  1,     21,     21,2,19940130,2303,-30.8892, -39.7350, 4414,    800.3,   5.3730,  34.3420,2,  34.3460,2,    226.5,2,    227.5,2,    16.50,2,    26.87,2,     1.85,2,    1.704,2,    0.873,2, -999.000,9,-999.0000,9,  -999.00,9,   2159.7,2,   2296.0,2,     7.95,2,  5.3050
 3230CITHER2_1,  A17C,    72,  1,     20,     20,2,19940130,2303,-30.8892, -39.7350, 4414,    900.6,   4.4690,  34.2980,2,  34.2940,2,    231.3,2,    231.7,2,    21.70,2,    28.62,2,     1.97,2,    1.535,2,    0.782,2, -999.000,9,-999.0000,9,  -999.00,9,   2170.1,2,   2299.5,2,     7.94,2,  4.3990
 3230CITHER2_1,  A17C,    72,  1,     19,     19,2,19940130,2303,-30.8892, -39.7350, 4414,    998.3,   3.7510,  34.2840,2,  34.2830,2,    229.5,2,    228.2,2,    28.30,2,    30.21,2,     2.08,2,    1.272,2,    0.646,2, -999.000,9,-999.0000,9,  -999.00,9,   2181.6,2,   2306.5,2,     7.92,2,  3.6780
 3230CITHER2_1,  A17C,    72,  1,     18,     18,2,19940130,2303,-30.8892, -39.7350, 4414,   1199.9,   3.1330,  34.3830,2,  34.3780,2,    206.9,2,    204.3,2,    43.50,2,    32.12,2,     2.21,2,    0.522,2,    0.275,2, -999.000,9,-999.0000,9,  -999.00,9,   2210.0,2,   2319.3,2,     7.88,2,  3.0490
 3230CITHER2_1,  A17C,    72,  1,     17,     17,2,19940130,2303,-30.8892, -39.7350, 4414,   1399.9,   2.9270,  34.5140,2,  34.5110,2,    190.1,2,    190.6,2,    53.70,2,    32.34,2,     2.22,2,    0.152,2,    0.086,2, -999.000,9,-999.0000,9,  -999.00,9,   2226.0,2,   2331.6,2,     7.86,2,  2.8280
 3230CITHER2_1,  A17C,    72,  1,     16,     16,2,19940130,2303,-30.8892, -39.7350, 4414,   1601.0,   2.9110,  34.6360,2,  34.6330,2,    189.0,2,    191.5,2,    55.40,2,    31.11,2,     2.10,2,    0.054,2,    0.043,2, -999.000,9,-999.0000,9,  -999.00,9,   2225.6,2,   2339.3,2,     7.87,2,  2.7960
 3230CITHER2_1,  A17C,    72,  1,     15,     15,2,19940130,2303,-30.8892, -39.7350, 4414,   1800.2,   2.8940,  34.7190,2,  34.7190,2,    199.6,2,    200.1,2,    53.30,2,    29.50,2,     1.95,2,    0.026,2,    0.023,2, -999.000,9,-999.0000,9,  -999.00,9,   2220.2,2,   2341.3,2,     7.90,2,  2.7610
 3230CITHER2_1,  A17C,    72,  1,     14,     14,2,19940130,2303,-30.8892, -39.7350, 4414,   2001.1,   3.3340,  34.8690,2,  34.8690,2,    223.3,2,    226.6,2,    35.10,2,    24.02,2,     1.60,2,    0.019,2,    0.017,2, -999.000,9,-999.0000,9,  -999.00,9,   2191.3,2,   2334.5,2,     7.96,2,  3.1770
 3230CITHER2_1,  A17C,    72,  1,     13,     13,2,19940130,2303,-30.8892, -39.7350, 4414,   2199.6,   3.3530,  34.9140,2,  34.9160,2,    239.4,2,    241.1,2,    29.10,2,    22.05,2,     1.45,2,    0.018,2,    0.022,2, -999.000,9,-999.0000,9,  -999.00,9,   2179.1,2,   2331.5,2,     7.98,2,  3.1760
 3230CITHER2_1,  A17C,    72,  1,     12,     12,2,19940130,2303,-30.8892, -39.7350, 4414,   2400.2,   3.2810,  34.9320,2,  34.9340,2,    246.9,2,    246.8,2,    27.30,2,    21.12,2,     1.40,2,    0.017,2,    0.018,2, -999.000,9,-999.0000,9,  -999.00,9,   2173.5,2,   2331.9,2,     8.00,2,  3.0860
 3230CITHER2_1,  A17C,    72,  1,     11,     11,2,19940130,2303,-30.8892, -39.7350, 4414,   2599.6,   3.1570,  34.9360,2,  34.9350,2,    250.9,2,    250.3,2,    27.80,2,    20.93,2,     1.36,2,    0.016,2,    0.018,2, -999.000,9,-999.0000,9,  -999.00,9,   2173.6,2,   2332.7,2,     8.00,2,  2.9440
 3230CITHER2_1,  A17C,    72,  1,     10,     10,2,19940130,2303,-30.8892, -39.7350, 4414,   2797.8,   3.0410,  34.9340,2,  34.9360,2,    252.1,2,    252.6,2,    28.90,2,    20.68,2,     1.36,2,    0.015,2,    0.019,2, -999.000,9,-999.0000,9,  -999.00,9,   2173.9,2,   2338.1,2,     8.01,2,  2.8100
 3230CITHER2_1,  A17C,    72,  1,      9,      9,2,19940130,2303,-30.8892, -39.7350, 4414,   2997.6,   2.8940,  34.9280,2,  34.9260,2,    252.8,2,    250.7,2,    31.30,2,    20.85,2,     1.38,2,    0.014,2,    0.021,2, -999.000,9,-999.0000,9,  -999.00,9,   2176.3,2,   2335.6,2,     8.00,2,  2.6460
 3230CITHER2_1,  A17C,    72,  1,      8,      8,2,19940130,2303,-30.8892, -39.7350, 4414,   3197.6,   2.7160,  34.9170,2,-999.0000,5,    253.1,2,    259.2,2,    34.80,2,    21.14,2,     1.39,2,    0.008,2,    0.018,2, -999.000,9,-999.0000,9,  -999.00,9,   2179.8,2,   2339.7,2,     8.00,2,  2.4510
 3230CITHER2_1,  A17C,    72,  1,      7,      7,2,19940130,2303,-30.8892, -39.7350, 4414,   3397.5,   2.3360,  34.8810,2,  34.8820,2,    248.9,2,    247.5,2,    47.20,2,    22.50,2,     1.50,2,    0.020,2,    0.022,2, -999.000,9,-999.0000,9,  -999.00,9,   2191.6,2,   2344.7,2,     7.98,2,  2.0590
 3230CITHER2_1,  A17C,    72,  1,      6,      6,2,19940130,2303,-30.8892, -39.7350, 4414,   3600.7,   1.4410,  34.7860,2,  34.7890,2,    231.3,2,    231.2,2,    85.40,2,    27.72,2,     1.85,2,    0.034,2,    0.021,2, -999.000,9,-999.0000,9,  -999.00,9,   2227.5,2,   2362.7,2,     7.93,2,  1.1650
 3230CITHER2_1,  A17C,    72,  1,      5,      5,2,19940130,2303,-30.8892, -39.7350, 4414,   3799.7,   0.6870,  34.7010,2,  34.7000,2,    212.7,2,    214.6,2,   119.20,2,    32.27,2,     2.19,2,    0.105,2,    0.067,2, -999.000,9,-999.0000,9,  -999.00,9,   2258.6,2,   2371.4,2,     7.88,2,  0.4120
 3230CITHER2_1,  A17C,    72,  1,      4,      4,2,19940130,2303,-30.8892, -39.7350, 4414,   3999.3,   0.3970,  34.6850,2,  34.6840,2,    216.4,2,    219.2,2,   124.60,2,    32.70,2,     2.22,2,    0.101,2,    0.062,2, -999.000,9,-999.0000,9,  -999.00,9,   -999.0,5,   2372.9,2,     7.87,2,  0.1090
 3230CITHER2_1,  A17C,    72,  1,      3,      3,2,19940130,2303,-30.8892, -39.7350, 4414,   3999.9,   0.3960,  34.6860,2,  34.6860,2,    216.3,2,    219.2,2,   124.40,2,    32.71,2,     2.22,2,    0.102,2,    0.062,2, -999.000,9,-999.0000,9,  -999.00,9,   2260.9,2,   2372.9,2,     7.87,2,  0.1080
 3230CITHER2_1,  A17C,    72,  1,      2,      2,2,19940130,2303,-30.8892, -39.7350, 4414,   4199.4,   0.2780,  34.6800,2,  34.6790,2,    218.5,2,    221.1,2,   126.60,2,    32.79,2,     2.23,2,    0.112,2,    0.066,2, -999.000,9,-999.0000,9,  -999.00,9,   2263.8,2,   2376.9,2,     7.87,2, -0.0270
 3230CITHER2_1,  A17C,    72,  1,      1,      1,2,19940130,2303,-30.8892, -39.7350, 4414,   4427.2,   0.2190,  34.6740,2,  34.6740,2,    219.6,2,    222.1,2,   129.50,2,    33.06,2,     2.25,2,    0.118,2,    0.073,2, -999.000,9,-999.0000,9,  -999.00,9,   2265.2,2,   2376.5,2,     7.88,2, -0.1080
 3230CITHER2_1,  A17C,    73,  1,     29,     29,2,19940131,0506,-30.4888, -39.3798, 4150,      0.9,  23.1520,  36.0850,2,  36.0880,2,    214.8,2,    215.2,2,     0.60,2,     0.04,2,     0.02,2,    2.166,2,    1.205,2, -999.000,9,-999.0000,9,  -999.00,9,   2034.2,2,   -999.0,9,     8.35,2, 23.1520
 3230CITHER2_1,  A17C,    73,  1,     28,     28,2,19940131,0506,-30.4888, -39.3798, 4150,     36.4,  22.6250,  36.1480,2,  36.1300,2,    223.6,2,    220.4,2,     0.50,2,     0.04,2,     0.01,2,    2.216,2,    1.234,2, -999.000,9,-999.0000,9,  -999.00,9,   2038.2,2,   -999.0,9,     8.35,2, 22.6180
 3230CITHER2_1,  A17C,    73,  1,     26,     26,2,19940131,0506,-30.4888, -39.3798, 4150,     76.5,  18.5390,  36.0350,2,  36.0220,2,    238.6,2,    235.1,2,     0.60,2,     0.04,2,     0.08,2,    2.572,2,    1.390,2, -999.000,9,-999.0000,9,  -999.00,9,   2055.8,2,   -999.0,9,     8.31,2, 18.5260
 3230CITHER2_1,  A17C,    73,  1,     27,     27,2,19940131,0506,-30.4888, -39.3798, 4150,     76.5,  18.6050,  36.0280,2,  36.0220,2,    238.6,2,    235.1,2,     0.60,2,     0.04,2,     0.08,2,    2.572,2,    1.390,2, -999.000,9,-999.0000,9,  -999.00,9,   -999.0,5,   -999.0,9,     8.31,2, 18.5260
 3230CITHER2_1,  A17C,    73,  1,     25,     25,2,19940131,0506,-30.4888, -39.3798, 4150,     99.8,  17.6960,  35.9500,2,  35.9570,2,    230.9,2,    223.7,2,     0.70,2,     0.59,2,     0.14,2,    2.565,2,    1.391,2, -999.000,9,-999.0000,9,  -999.00,9,   2068.2,2,   -999.0,9,     8.29,2, 17.6790
 3230CITHER2_1,  A17C,    73,  1,     24,     24,2,19940131,0506,-30.4888, -39.3798, 4150,    150.8,  17.3920,  36.0290,2,  36.0280,2,    217.2,2,    216.9,2,     1.00,2,     2.35,2,     0.25,2,    2.595,2,    1.410,2, -999.000,9,-999.0000,9,  -999.00,9,   2080.7,2,   -999.0,9,     8.27,2, 17.3670
 3230CITHER2_1,  A17C,    73,  1,     23,     23,2,19940131,0506,-30.4888, -39.3798, 4150,    200.0,  16.5420,  35.8800,2,  35.8900,2,    218.0,2,    217.4,2,     1.20,2,     3.29,2,     0.32,2,    2.637,2,    1.413,2, -999.000,9,-999.0000,9,  -999.00,9,   2084.1,2,   -999.0,9,     8.25,2, 16.5090
 3230CITHER2_1,  A17C,    73,  1,     22,     22,2,19940131,0506,-30.4888, -39.3798, 4150,    301.4,  15.2230,  35.6580,2,  35.6440,2,    219.0,2,    217.1,2,     1.70,2,     5.64,2,     0.48,2,    2.650,2,    1.410,2, -999.000,9,-999.0000,9,  -999.00,9,   2092.4,2,   -999.0,9,     8.22,2, 15.1770
 3230CITHER2_1,  A17C,    73,  1,     21,     21,2,19940131,0506,-30.4888, -39.3798, 4150,    400.7,  13.2150,  35.2920,2,  35.2890,2,    213.6,2,    209.1,2,     2.80,2,     9.87,2,     0.75,2,    2.518,2,    1.313,2, -999.000,9,-999.0000,9,  -999.00,9,   2106.8,2,   -999.0,9,     8.16,2, 13.1590
 3230CITHER2_1,  A17C,    73,  1,     20,     20,2,19940131,0506,-30.4888, -39.3798, 4150,    500.3,  11.0810,  34.9590,2,  34.9590,2,    207.5,2,    205.3,2,     5.20,2,    15.26,2,     1.09,2,    2.141,2,    1.107,2, -999.000,9,-999.0000,9,  -999.00,9,   2123.5,2,   -999.0,9,     8.09,2, 11.0180
 3230CITHER2_1,  A17C,    73,  1,     19,     19,2,19940131,0506,-30.4888, -39.3798, 4150,    651.1,   7.4660,  34.5180,2,  34.5250,2,    215.2,2,    215.7,2,    10.60,2,    22.59,2,     1.58,2,    2.053,2,    1.040,2, -999.000,9,-999.0000,9,  -999.00,9,   2145.9,2,   -999.0,9,     8.00,2,  7.4010
 3230CITHER2_1,  A17C,    73,  1,     18,     18,2,19940131,0506,-30.4888, -39.3798, 4150,    850.6,   4.7020,  34.3000,2,  34.2930,2,    232.0,2,    232.3,2,    19.60,2,    28.48,2,     1.94,2,    1.645,2,    0.835,2, -999.000,9,-999.0000,9,  -999.00,9,   2166.5,2,   -999.0,9,     7.95,2,  4.6340
 3230CITHER2_1,  A17C,    73,  1,     17,     17,2,19940131,0506,-30.4888, -39.3798, 4150,   1000.3,   3.6570,  34.3060,2,  34.3050,2,    222.7,2,    221.2,2,    31.90,2,    31.14,2,     2.13,2,    1.016,2,    0.525,2, -999.000,9,-999.0000,9,  -999.00,9,   2188.0,2,   -999.0,9,     7.91,2,  3.5840
 3230CITHER2_1,  A17C,    73,  1,     16,     16,2,19940131,0506,-30.4888, -39.3798, 4150,   1200.3,   3.1460,  34.4310,2,  34.4230,2,    197.2,2,    196.0,2,    47.80,2,    32.91,2,     2.25,2,    0.299,2,    0.159,2, -999.000,9,-999.0000,9,  -999.00,9,   -999.0,9,   -999.0,9,     7.87,2,  3.0610
 3230CITHER2_1,  A17C,    73,  1,     15,     15,2,19940131,0506,-30.4888, -39.3798, 4150,   1401.2,   2.9390,  34.5530,2,  34.5460,2,    188.8,2,    189.4,2,    54.70,2,    32.39,2,     2.20,2,    0.103,2,    0.059,2, -999.000,9,-999.0000,9,  -999.00,9,   -999.0,9,   -999.0,9,     7.88,2,  2.8400
 3230CITHER2_1,  A17C,    73,  1,     14,     14,2,19940131,0506,-30.4888, -39.3798, 4150,   1598.0,   3.2750,  34.7320,2,  34.7180,2,    199.2,2,    200.8,2,    44.90,2,    28.51,2,     1.93,2,    0.031,2,    0.019,2, -999.000,9,-999.0000,9,  -999.00,9,   -999.0,9,   -999.0,9,     7.91,2,  3.1550
 3230CITHER2_1,  A17C,    73,  1,     13,     13,2,19940131,0506,-30.4888, -39.3798, 4150,   1799.5,   3.5450,  34.8650,2,  34.8640,2,    216.6,2,    223.1,2,    32.40,2,    23.94,2,     1.63,2,    0.028,2,    0.019,2, -999.000,9,-999.0000,9,  -999.00,9,   -999.0,9,   -999.0,9,     7.96,2,  3.4030
 3230CITHER2_1,  A17C,    73,  1,     12,     12,2,19940131,0506,-30.4888, -39.3798, 4150,   1999.1,   3.5330,  34.9230,2,  34.9230,2,    237.4,2,    238.7,2,    26.60,2,    21.67,2,     1.46,2,    0.025,2,    0.025,2, -999.000,9,-999.0000,9,  -999.00,9,   -999.0,9,   -999.0,9,     7.99,2,  3.3730
 3230CITHER2_1,  A17C,    73,  1,     11,     11,2,19940131,0506,-30.4888, -39.3798, 4150,   2200.2,   3.4270,  34.9440,2,  34.9280,2,    247.9,2,    244.5,2,    26.60,2,    21.03,2,     1.42,2,    0.021,2,    0.024,2, -999.000,9,-999.0000,9,  -999.00,9,   -999.0,9,   -999.0,9,     8.00,2,  3.2490
 3230CITHER2_1,  A17C,    73,  1,     10,     10,2,19940131,0506,-30.4888, -39.3798, 4150,   2399.2,   3.2400,  34.9310,2,  34.9320,2,    248.3,2,    248.5,2,    27.50,2,    20.78,2,     1.40,2,    0.021,2,    0.019,2, -999.000,9,-999.0000,9,  -999.00,9,   -999.0,9,   -999.0,9,     8.00,2,  3.0460
 3230CITHER2_1,  A17C,    73,  1,      9,      9,2,19940131,0506,-30.4888, -39.3798, 4150,   2599.7,   3.1440,  34.9370,2,  34.9360,2,    251.1,2,    250.1,2,    27.50,2,    20.44,2,     1.37,2,    0.017,2,    0.019,2, -999.000,9,-999.0000,9,  -999.00,9,   -999.0,9,   -999.0,9,     8.01,2,  2.9310
 3230CITHER2_1,  A17C,    73,  1,      8,      8,2,19940131,0506,-30.4888, -39.3798, 4150,   2798.8,   3.0200,  34.9290,2,  34.9270,2,    251.8,2,    250.6,2,    29.60,2,    20.66,2,     1.38,2,    0.014,2,    0.013,2, -999.000,9,-999.0000,9,  -999.00,9,   -999.0,9,   -999.0,9,     8.00,2,  2.7900
 3230CITHER2_1,  A17C,    73,  1,      7,      7,2,19940131,0506,-30.4888, -39.3798, 4150,   2998.9,   2.9450,  34.9290,2,  34.9310,2,    253.4,2,    251.4,2,    30.30,2,    20.71,2,     1.38,2,    0.023,2,    0.024,2, -999.000,9,-999.0000,9,  -999.00,9,   -999.0,9,   -999.0,9,     8.01,2,  2.6960
 3230CITHER2_1,  A17C,    73,  1,      6,      6,2,19940131,0506,-30.4888, -39.3798, 4150,   3199.4,   2.8290,  34.9230,2,  34.9210,2,    253.8,2,    252.3,2,    32.40,2,    20.67,2,     1.39,2,    0.012,2,    0.009,2, -999.000,9,-999.0000,9,  -999.00,9,   -999.0,9,   -999.0,9,     8.00,2,  2.5610
 3230CITHER2_1,  A17C,    73,  1,      5,      5,2,19940131,0506,-30.4888, -39.3798, 4150,   3398.1,   2.7300,  34.9170,2,  34.9140,2,    254.2,2,    251.9,2,    34.50,2,    20.72,2,     1.41,2,    0.011,2,    0.019,2, -999.000,9,-999.0000,9,  -999.00,9,   -999.0,9,   -999.0,9,     8.00,2,  2.4430
 3230CITHER2_1,  A17C,    73,  1,      4,      4,2,19940131,0506,-30.4888, -39.3798, 4150,   3599.1,   2.4370,  34.8930,2,  34.8910,2,    253.0,2,    250.1,2,    43.20,2,    21.67,2,     1.47,2,    0.012,2,    0.017,2, -999.000,9,-999.0000,9,  -999.00,9,   -999.0,9,   -999.0,9,     7.99,2,  2.1350
 3230CITHER2_1,  A17C,    73,  1,      3,      3,2,19940131,0506,-30.4888, -39.3798, 4150,   3799.1,   1.5520,  34.7960,2,  34.7930,2,    234.9,2,    231.1,2,    82.90,2,    26.94,2,     1.84,2,    0.030,2,    0.019,2, -999.000,9,-999.0000,9,  -999.00,9,   -999.0,9,   -999.0,9,     7.93,2,  1.2530
 3230CITHER2_1,  A17C,    73,  1,      2,      2,2,19940131,0506,-30.4888, -39.3798, 4150,   4000.7,   1.1000,  34.7440,2,  34.7400,2,    221.2,2,    221.2,2,   102.80,2,    29.67,2,     2.04,2,    0.055,2,    0.031,2, -999.000,9,-999.0000,9,  -999.00,9,   -999.0,9,   -999.0,9,     7.90,2,  0.7920
 3230CITHER2_1,  A17C,    73,  1,      1,      1,2,19940131,0506,-30.4888, -39.3798, 4150,   4180.8,   0.6620,  34.7050,2,  34.7050,2,    219.5,2,    219.8,2,   116.50,2,    31.82,2,     2.19,2,    0.075,2,    0.049,2, -999.000,9,-999.0000,9,  -999.00,9,   -999.0,9,   -999.0,9,     7.89,2,  0.3480