BOTTLE,20030515WHPSIOSA
EXPOCODE,SECT_ID,STNNBR,CASTNO,SAMPNO,BTLNBR,BTLNBR_FLAG_W,DATE,TIME,LATITUDE,LONGITUDE,DEPTH,CTDPRS,CTDTMP,CTDSAL,CTDSAL_FLAG_W,SALNTY,SALNTY_FLAG_W,CTDOXY,CTDOXY_FLAG_W,OXYGEN,OXYGEN_FLAG_W,SILCAT,SILCAT_FLAG_W,NITRAT,NITRAT_FLAG_W,PHSPHT,PHSPHT_FLAG_W,CFC-11,CFC-11_FLAG_W,CFC-12,CFC-12_FLAG_W,TRITUM,TRITUM_FLAG_W,HELIUM,HELIUM_FLAG_W,DELHE3,DELHE3_FLAG_W,TCARBN,TCARBN_FLAG_W,ALKALI,ALKALI_FLAG_W,PH,PH_FLAG_W,THETA
,,,,,,,,,,,,DBAR,ITS-90,PSS-78,,PSS-78,,UMOL/KG,,UMOL/KG,,UMOL/KG,,UMOL/KG,,UMOL/KG,,PMOL/KG,,PMOL/KG,,TU,,NMOL/KG,,PERCNT,,UMOL/KG,,UMOL/KG,,,,DEG C
 3230CITHER2_1,  A17C,    38,  1,     32,     32,2,19940120,0714,-37.2535, -45.3195, 5114,      4.2,  20.6500,  35.1440,2,  35.1390,2,    220.0,2,    228.7,2,     1.70,2,     0.08,2,     0.16,2,    2.407,2,    1.376,2, -999.000,9,-999.0000,9,  -999.00,9,   -999.0,9,   -999.0,9,     8.33,2, 20.6490
 3230CITHER2_1,  A17C,    38,  1,     31,     31,2,19940120,0714,-37.2535, -45.3195, 5114,     30.7,  18.4200,  35.1080,2,  35.1050,2,    240.2,2,    238.4,2,     1.10,2,     0.04,2,     0.17,2,    2.672,2,    1.494,2, -999.000,9,-999.0000,9,  -999.00,9,   -999.0,9,   -999.0,9,     8.32,2, 18.4150
 3230CITHER2_1,  A17C,    38,  1,     30,     30,2,19940120,0714,-37.2535, -45.3195, 5114,     91.1,  14.9180,  35.4580,2,  35.4580,2,    209.9,2,    218.2,2,     2.50,2,     6.49,2,     0.55,2,    2.890,2,    1.582,2, -999.000,9,-999.0000,9,  -999.00,9,   -999.0,9,   -999.0,9,     8.22,2, 14.9040
 3230CITHER2_1,  A17C,    38,  1,     29,     29,2,19940120,0714,-37.2535, -45.3195, 5114,    200.4,  12.5860,  35.2110,2,  35.2130,2,    224.4,2,    227.3,2,     3.30,2,    10.58,2,     0.78,2,    2.968,2,    1.587,2, -999.000,9,-999.0000,9,  -999.00,9,   -999.0,9,   -999.0,9,     8.17,2, 12.5590
 3230CITHER2_1,  A17C,    38,  1,     28,     28,2,19940120,0714,-37.2535, -45.3195, 5114,    300.7,   8.9130,  34.5970,2,  34.3100,2,    227.3,2,    254.1,2,     8.70,2,    22.61,2,     1.58,2,    3.681,2,    1.855,2, -999.000,9,-999.0000,9,  -999.00,9,   -999.0,9,   -999.0,9,     8.02,2,  8.8800
 3230CITHER2_1,  A17C,    38,  1,     27,     27,2,19940120,0714,-37.2535, -45.3195, 5114,    400.2,   6.2130,  34.3060,2,  34.3090,2,    254.8,2,    254.1,2,     8.70,2,    22.69,2,     1.58,2,    3.697,2,    1.871,2, -999.000,9,-999.0000,9,  -999.00,9,   -999.0,9,   -999.0,9,     8.02,2,  6.1780
 3230CITHER2_1,  A17C,    38,  1,     26,     26,2,19940120,0714,-37.2535, -45.3195, 5114,    520.2,   4.9850,  34.2190,2,  34.2220,2,    270.9,2,    268.6,2,    11.40,2,    24.25,2,     1.69,2,    3.970,2,    1.985,2, -999.000,9,-999.0000,9,  -999.00,9,   -999.0,9,   -999.0,9,     8.01,2,  4.9440
 3230CITHER2_1,  A17C,    38,  1,     25,     25,2,19940120,0714,-37.2535, -45.3195, 5114,    600.6,   4.7930,  34.2350,2,  34.2380,2,    262.0,2,    258.8,2,    13.90,2,    26.14,2,     1.79,2,    3.415,2,    1.726,2, -999.000,9,-999.0000,9,  -999.00,9,   -999.0,9,   -999.0,9,     7.99,2,  4.7460
 3230CITHER2_1,  A17C,    38,  1,     24,     24,2,19940120,0714,-37.2535, -45.3195, 5114,    800.5,   3.9270,  34.2330,2,  34.2330,2,    253.5,2,    250.7,2,    21.60,2,    28.92,2,     1.96,2,    2.680,2,    1.366,2, -999.000,9,-999.0000,9,  -999.00,9,   -999.0,9,   -999.0,9,     7.96,2,  3.8680
 3230CITHER2_1,  A17C,    38,  1,     23,     23,2,19940120,0714,-37.2535, -45.3195, 5114,   1000.0,   3.1930,  34.2690,2,  34.2710,2,    232.2,2,    231.5,2,    33.70,2,    31.31,2,     2.14,2,    1.933,2,    1.001,2, -999.000,9,-999.0000,9,  -999.00,9,   -999.0,9,   -999.0,9,     7.91,2,  3.1150
 3230CITHER2_1,  A17C,    38,  1,     22,     22,2,19940120,0714,-37.2535, -45.3195, 5114,   1000.2,   3.1840,  34.2700,2,  34.2700,2,    232.2,2,    231.9,2,    33.80,2,    31.42,2,     2.15,2,    1.941,2,    1.004,2, -999.000,9,-999.0000,9,  -999.00,9,   -999.0,9,   -999.0,9,     7.91,2,  3.1240
 3230CITHER2_1,  A17C,    38,  1,     21,     21,2,19940120,0714,-37.2535, -45.3195, 5114,   1200.6,   2.8570,  34.3600,2,  34.3560,2,    208.7,2,    208.6,2,    47.20,2,    33.30,2,     2.27,2,    1.227,2,    0.637,2, -999.000,9,-999.0000,9,  -999.00,9,   -999.0,9,   -999.0,9,     7.89,2,  2.7750
 3230CITHER2_1,  A17C,    38,  1,     20,     20,2,19940120,0714,-37.2535, -45.3195, 5114,   1400.1,   2.7520,  34.4870,2,  34.4870,2,    187.2,2,    187.0,2,    59.10,2,    33.76,2,     2.31,2,    0.506,2,    0.263,2, -999.000,9,-999.0000,9,  -999.00,9,   -999.0,9,   -999.0,9,     7.86,2,  2.6550
 3230CITHER2_1,  A17C,    38,  1,     19,     19,2,19940120,0714,-37.2535, -45.3195, 5114,   1600.4,   2.8290,  34.6050,2,  34.6040,2,    183.1,2,    183.8,2,    61.70,2,    32.51,2,     2.22,2,    0.222,2,    0.127,2, -999.000,9,-999.0000,9,  -999.00,9,   -999.0,9,   -999.0,9,     7.87,2,  2.7150
 3230CITHER2_1,  A17C,    38,  1,     18,     18,2,19940120,0714,-37.2535, -45.3195, 5114,   1799.4,   2.9590,  34.7090,2,  34.7060,2,    190.4,2,    190.9,2,    58.40,2,    30.48,2,     2.06,2,    0.104,2,    0.063,2, -999.000,9,-999.0000,9,  -999.00,9,   -999.0,9,   -999.0,9,     7.89,2,  2.8260
 3230CITHER2_1,  A17C,    38,  1,     17,     17,2,19940120,0714,-37.2535, -45.3195, 5114,   1999.5,   3.1480,  34.8090,2,  34.8100,2,    209.5,2,    208.6,2,    48.50,2,    26.95,2,     1.82,2,    0.058,2,    0.045,2, -999.000,9,-999.0000,9,  -999.00,9,   -999.0,9,   -999.0,9,     7.94,2,  2.9940
 3230CITHER2_1,  A17C,    38,  1,     16,     16,2,19940120,0714,-37.2535, -45.3195, 5114,   2199.6,   3.3500,  34.8980,2,  34.8970,2,    232.6,2,    232.0,2,    34.20,2,    23.33,2,     1.56,2,    0.033,2,    0.024,2, -999.000,9,-999.0000,9,  -999.00,9,   -999.0,9,   -999.0,9,     7.98,2,  3.1730
 3230CITHER2_1,  A17C,    38,  1,     15,     15,2,19940120,0714,-37.2535, -45.3195, 5114,   2400.0,   3.3390,  34.9300,2,  34.9290,2,    245.0,2,    243.2,2,    28.70,2,    21.52,2,     1.43,2,    0.026,2,    0.034,2, -999.000,9,-999.0000,9,  -999.00,9,   -999.0,9,   -999.0,9,     8.00,2,  3.1430
 3230CITHER2_1,  A17C,    38,  1,     14,     14,2,19940120,0714,-37.2535, -45.3195, 5114,   2599.8,   3.1830,  34.9300,2,  34.9290,2,    248.9,2,    245.6,2,    30.10,2,    21.45,2,     1.42,2,    0.022,2,    0.023,2, -999.000,9,-999.0000,9,  -999.00,9,   -999.0,9,   -999.0,9,     8.00,2,  2.9700
 3230CITHER2_1,  A17C,    38,  1,     13,     13,2,19940120,0714,-37.2535, -45.3195, 5114,   2799.0,   3.0820,  34.9350,2,  34.9350,2,    251.3,2,    249.7,2,    29.40,2,    20.90,2,     1.38,2,    0.017,2,    0.017,2, -999.000,9,-999.0000,9,  -999.00,9,   -999.0,9,   -999.0,9,     8.01,2,  2.8500
 3230CITHER2_1,  A17C,    38,  1,     12,     12,2,19940120,0714,-37.2535, -45.3195, 5114,   3000.1,   2.8470,  34.9110,2,  34.9100,2,    245.9,2,    244.7,2,    37.60,2,    21.92,2,     1.46,2,    0.019,2,    0.021,2, -999.000,9,-999.0000,9,  -999.00,9,   -999.0,9,   -999.0,9,     8.00,2,  2.6000
 3230CITHER2_1,  A17C,    38,  1,     11,     11,2,19940120,0714,-37.2535, -45.3195, 5114,   3199.6,   2.4280,  34.8570,2,  34.8580,2,    247.8,2,   -999.0,5,    55.30,2,    24.38,2,     1.66,2,    0.052,2,    0.037,2, -999.000,9,-999.0000,9,  -999.00,9,   -999.0,9,   -999.0,9,     7.97,2,  2.1700
 3230CITHER2_1,  A17C,    38,  1,     10,     10,2,19940120,0714,-37.2535, -45.3195, 5114,   3398.5,   1.8950,  34.7890,2,  34.7910,2,    215.6,2,    213.2,2,    83.10,2,    28.76,2,     1.94,2,    0.045,2,    0.035,2, -999.000,9,-999.0000,9,  -999.00,9,   -999.0,9,   -999.0,9,     7.92,2,  1.6290
 3230CITHER2_1,  A17C,    38,  1,      9,      9,2,19940120,0714,-37.2535, -45.3195, 5114,   3598.1,   1.4730,  34.7530,2,  34.7540,2,    208.7,2,    209.5,2,    99.10,2,    30.15,2,     2.07,2,    0.062,2,    0.033,2, -999.000,9,-999.0000,9,  -999.00,9,   -999.0,9,   -999.0,9,     7.91,2,  1.1970
 3230CITHER2_1,  A17C,    38,  1,      8,      8,2,19940120,0714,-37.2535, -45.3195, 5114,   3799.7,   1.2170,  34.7380,2,  34.7380,2,    213.0,2,    212.2,2,   106.50,2,    30.85,2,     2.11,2,    0.072,2,    0.052,2, -999.000,9,-999.0000,9,  -999.00,9,   -999.0,9,   -999.0,9,     7.90,2,  0.9270
 3230CITHER2_1,  A17C,    38,  1,      7,      7,2,19940120,0714,-37.2535, -45.3195, 5114,   3999.7,   0.8990,  34.7110,2,  34.7140,2,    212.0,2,    212.7,2,   116.00,2,    32.17,2,     2.20,2,    0.109,2,    0.056,2, -999.000,9,-999.0000,9,  -999.00,9,   -999.0,9,   -999.0,9,     7.88,2,  0.5970
 3230CITHER2_1,  A17C,    38,  1,      6,      6,2,19940120,0714,-37.2535, -45.3195, 5114,   4198.7,   0.6530,  34.6950,2,  34.6980,2,    214.2,2,    214.6,2,   121.20,2,    32.45,2,     2.24,2,    0.115,2,    0.065,2, -999.000,9,-999.0000,9,  -999.00,9,   -999.0,9,   -999.0,9,     7.88,2,  0.3370
 3230CITHER2_1,  A17C,    38,  1,      5,      5,2,19940120,0714,-37.2535, -45.3195, 5114,   4398.6,   0.4370,  34.6850,2,  34.6840,2,    217.8,2,    218.4,2,   125.20,2,    32.90,2,     2.27,2,    0.116,2,    0.068,2, -999.000,9,-999.0000,9,  -999.00,9,   -999.0,9,   -999.0,9,     7.87,2,  0.1060
 3230CITHER2_1,  A17C,    38,  1,      4,      4,2,19940120,0714,-37.2535, -45.3195, 5114,   4599.2,   0.3070,  34.6780,2,  34.6790,2,    220.9,2,    221.1,2,   127.50,2,    33.05,2,     2.29,2,    0.112,2,    0.070,2, -999.000,9,-999.0000,9,  -999.00,9,   -999.0,9,   -999.0,9,     7.88,2, -0.0410
 3230CITHER2_1,  A17C,    38,  1,      3,      3,2,19940120,0714,-37.2535, -45.3195, 5114,   4797.2,   0.2640,  34.6740,2,  34.6770,2,    222.6,2,    222.2,2,   128.40,2,    33.25,2,     2.29,2,    0.125,2,    0.073,2, -999.000,9,-999.0000,9,  -999.00,9,   -999.0,9,   -999.0,9,     7.88,2, -0.1050
 3230CITHER2_1,  A17C,    38,  1,      2,      2,2,19940120,0714,-37.2535, -45.3195, 5114,   4998.4,   0.2440,  34.6730,2,  34.6740,2,    223.8,2,    222.9,2,   129.50,2,    33.25,2,     2.29,2,    0.145,2,    0.090,2, -999.000,9,-999.0000,9,  -999.00,9,   -999.0,9,   -999.0,9,     7.88,2, -0.1470
 3230CITHER2_1,  A17C,    38,  1,      1,      1,2,19940120,0714,-37.2535, -45.3195, 5114,   5178.4,   0.2440,  34.6730,2,  34.6730,2,    223.5,2,    222.0,2,   129.60,2,    33.25,2,     2.31,2,    0.152,2,    0.091,2, -999.000,9,-999.0000,9,  -999.00,9,   -999.0,9,   -999.0,9,     7.88,2, -0.1680
 3230CITHER2_1,  A17C,    39,  1,     32,     32,2,19940120,1344,-36.8337, -44.9522, 5057,      6.4,  22.7050,  35.4070,2,  35.4030,2,    216.2,2,    220.2,2,     2.40,2,     0.04,2,     0.13,2,    2.199,2,    1.269,2, -999.000,9,-999.0000,9,  -999.00,9,   2021.4,2,   2352.9,2,     8.34,2, 22.7040
 3230CITHER2_1,  A17C,    39,  1,     31,     31,2,19940120,1344,-36.8337, -44.9522, 5057,     30.2,  21.4910,  35.2840,2,  35.2800,2,    225.2,2,    225.2,2,     2.20,2,     0.04,2,     0.13,2,    2.288,2,    1.298,2, -999.000,9,-999.0000,9,  -999.00,9,   2018.0,2,   2347.7,2,     8.35,2, 21.4850
 3230CITHER2_1,  A17C,    39,  1,     30,     30,2,19940120,1344,-36.8337, -44.9522, 5057,     65.2,  20.7330,  36.4820,2,  36.4650,2,    218.3,2,    209.6,2,     1.30,2,     0.28,2,     0.11,2,    2.268,2,    1.298,2, -999.000,9,-999.0000,9,  -999.00,9,   2076.3,2,   2401.3,2,     8.32,2, 20.7210
 3230CITHER2_1,  A17C,    39,  1,     29,     29,2,19940120,1344,-36.8337, -44.9522, 5057,    200.9,  15.8600,  35.7490,2,  35.7430,2,    213.8,2,    210.5,2,     2.30,2,     5.24,2,     0.45,2,    2.558,2,    1.386,2, -999.000,9,-999.0000,9,  -999.00,9,   2093.8,2,   2359.3,2,     8.23,2, 15.8280
 3230CITHER2_1,  A17C,    39,  1,     28,     28,2,19940120,1344,-36.8337, -44.9522, 5057,    300.8,  14.5660,  35.5690,2,  35.5670,2,    220.5,2,    219.7,2,     2.60,2,     6.94,2,     0.56,2,    2.711,2,    1.479,2, -999.000,9,-999.0000,9,  -999.00,9,   2098.6,2,   2352.2,2,     8.21,2, 14.5210
 3230CITHER2_1,  A17C,    39,  1,     27,     27,2,19940120,1344,-36.8337, -44.9522, 5057,    400.7,  12.2770,  35.1510,2,  35.1550,2,    227.4,2,    226.8,2,     3.60,2,    11.23,2,     0.84,2,    2.891,2,    1.553,2, -999.000,9,-999.0000,9,  -999.00,9,   2106.1,2,   2331.2,2,     8.16,2, 12.2230
 3230CITHER2_1,  A17C,    39,  1,     26,     26,2,19940120,1344,-36.8337, -44.9522, 5057,    500.8,   7.8990,  34.5140,2,  34.5370,2,    233.4,2,    226.2,2,     7.80,2,    20.54,2,     1.44,2,    2.879,2,    1.492,2, -999.000,9,-999.0000,9,  -999.00,9,   2135.6,2,   2302.2,2,     8.04,2,  7.8480
 3230CITHER2_1,  A17C,    39,  1,     25,     25,2,19940120,1344,-36.8337, -44.9522, 5057,    635.9,   5.1330,  34.2300,2,  34.2350,2,    269.1,2,    267.7,2,    10.50,2,    24.03,2,     1.66,2,    3.993,2,    1.994,2, -999.000,9,-999.0000,9,  -999.00,9,   2139.1,2,   2294.6,2,     8.01,2,  5.0810
 3230CITHER2_1,  A17C,    39,  1,     24,     24,2,19940120,1344,-36.8337, -44.9522, 5057,    800.3,   4.2940,  34.2160,2,  34.2160,2,    263.1,2,    258.3,2,    17.60,2,    28.10,2,     1.88,2,    3.316,2,    1.666,2, -999.000,9,-999.0000,9,  -999.00,9,   2157.2,2,   2297.3,2,     7.97,2,  4.2330
 3230CITHER2_1,  A17C,    39,  1,     23,     23,2,19940120,1344,-36.8337, -44.9522, 5057,    800.7,   4.2860,  34.2170,2,  34.2160,2,    263.1,2,    257.9,2,    17.80,2,    28.02,2,     1.88,2,    3.286,2,    1.661,2, -999.000,9,-999.0000,9,  -999.00,9,   2158.4,2,   2297.3,2,     7.97,2,  4.2250
 3230CITHER2_1,  A17C,    39,  1,     22,     22,2,19940120,1344,-36.8337, -44.9522, 5057,   1000.5,   3.5230,  34.2440,2,  34.2420,2,    245.5,2,    241.9,2,    27.90,2,    30.21,2,     2.07,2,    2.326,2,    1.196,2, -999.000,9,-999.0000,9,  -999.00,9,   2181.2,2,   2306.1,2,     7.93,2,  3.4510
 3230CITHER2_1,  A17C,    39,  1,     21,     21,2,19940120,1344,-36.8337, -44.9522, 5057,   1199.9,   2.9540,  34.3030,2,  34.3030,2,    226.6,2,    223.0,2,    40.00,2,    32.26,2,     2.22,2,    1.649,2,    0.851,2, -999.000,9,-999.0000,9,  -999.00,9,   2203.4,2,   2323.0,2,     7.89,2,  2.8710
 3230CITHER2_1,  A17C,    39,  1,     20,     20,2,19940120,1344,-36.8337, -44.9522, 5057,   1400.4,   2.8620,  34.4400,2,  34.4370,2,    197.3,2,    194.9,2,    53.70,2,    33.30,2,     2.33,2,    0.678,2,    0.365,2, -999.000,9,-999.0000,9,  -999.00,9,   2227.0,2,   2330.4,2,     7.86,2,  2.7640
 3230CITHER2_1,  A17C,    39,  1,     19,     19,2,19940120,1344,-36.8337, -44.9522, 5057,   1599.2,   2.8900,  34.5650,2,  34.5660,2,    185.6,2,    186.0,2,    59.30,2,    32.61,2,     2.25,2,    0.237,2,    0.137,2, -999.000,9,-999.0000,9,  -999.00,9,   2233.8,2,   2338.3,2,     7.87,2,  2.7750
 3230CITHER2_1,  A17C,    39,  1,     18,     18,2,19940120,1344,-36.8337, -44.9522, 5057,   1798.7,   3.1090,  34.6960,2,  34.6980,2,    193.3,2,    193.2,2,    53.20,2,    29.92,2,     2.05,2,    0.081,2,    0.056,2, -999.000,9,-999.0000,9,  -999.00,9,   2224.1,2,   2341.3,2,     7.89,2,  2.9740
 3230CITHER2_1,  A17C,    39,  1,     17,     17,2,19940120,1344,-36.8337, -44.9522, 5057,   1999.6,   3.3140,  34.8090,2,  34.8090,2,    210.3,2,    211.4,2,    42.60,2,    26.24,2,     1.80,2,    0.035,2,    0.021,2, -999.000,9,-999.0000,9,  -999.00,9,   2204.2,2,   2338.2,2,     7.93,2,  3.1570
 3230CITHER2_1,  A17C,    39,  1,     16,     16,2,19940120,1344,-36.8337, -44.9522, 5057,   2199.9,   3.2060,  34.8400,2,  34.8340,2,    214.9,2,    216.5,2,    44.10,2,    25.24,2,     1.74,2,    0.040,2,    0.036,2, -999.000,9,-999.0000,9,  -999.00,9,   2204.0,2,   2342.3,2,     7.94,2,  3.0320
 3230CITHER2_1,  A17C,    39,  1,     15,     15,2,19940120,1344,-36.8337, -44.9522, 5057,   2398.4,   3.1910,  34.8740,2,  34.8750,2,    226.6,2,    226.0,2,    40.70,2,    23.79,2,     1.63,2,    0.033,2,    0.029,2, -999.000,9,-999.0000,9,  -999.00,9,   2195.9,2,   2340.2,2,     7.96,2,  2.9980
 3230CITHER2_1,  A17C,    39,  1,     14,     14,2,19940120,1344,-36.8337, -44.9522, 5057,   2599.6,   2.9910,  34.8740,2,  34.8700,2,    229.8,2,    227.3,2,    45.00,2,    24.15,2,     1.64,2,    0.031,2,    0.026,2, -999.000,9,-999.0000,9,  -999.00,9,   2200.0,2,   2343.4,2,     7.96,2,  2.7820
 3230CITHER2_1,  A17C,    39,  1,     13,     13,2,19940120,1344,-36.8337, -44.9522, 5057,   2799.0,   2.8180,  34.8770,2,  34.8760,2,    235.9,2,    231.3,2,    47.00,2,    23.71,2,     1.62,2,    0.022,2,    0.026,2, -999.000,9,-999.0000,9,  -999.00,9,   2200.0,2,   2347.0,2,     7.97,2,  2.5920
 3230CITHER2_1,  A17C,    39,  1,     12,     12,2,19940120,1344,-36.8337, -44.9522, 5057,   2998.8,   2.6180,  34.8670,2,  34.8730,2,    232.2,2,    230.9,2,    51.50,2,    24.06,2,     1.64,2,    0.018,2,    0.022,2, -999.000,9,-999.0000,9,  -999.00,9,   2203.4,2,   2348.7,2,     7.97,2,  2.3760
 3230CITHER2_1,  A17C,    39,  1,     11,     11,2,19940120,1344,-36.8337, -44.9522, 5057,   3200.3,   2.3360,  34.8420,2,  34.8420,2,    226.9,2,    226.9,2,    61.20,2,    25.45,2,     1.73,2,    0.027,2,    0.030,2, -999.000,9,-999.0000,9,  -999.00,9,   2212.2,2,   2354.0,2,     7.96,2,  2.0800
 3230CITHER2_1,  A17C,    39,  1,     10,     10,2,19940120,1344,-36.8337, -44.9522, 5057,   3399.0,   1.9240,  34.8030,2,  34.7900,2,    222.2,2,    219.3,2,    79.00,2,    27.55,2,     1.88,2,    0.031,2,    0.027,2, -999.000,9,-999.0000,9,  -999.00,9,   2228.1,2,   2361.0,2,     7.94,2,  1.6570
 3230CITHER2_1,  A17C,    39,  1,      9,      9,2,19940120,1344,-36.8337, -44.9522, 5057,   3598.7,   1.4640,  34.7520,2,  34.7500,2,    209.5,2,    208.9,2,   100.50,2,    30.14,2,     2.09,2,    0.060,2,    0.047,2, -999.000,9,-999.0000,9,  -999.00,9,   2248.4,2,   2368.7,2,     7.91,2,  1.1880
 3230CITHER2_1,  A17C,    39,  1,      8,      8,2,19940120,1344,-36.8337, -44.9522, 5057,   3798.7,   1.1930,  34.7330,2,  34.7320,2,    210.2,2,    210.4,2,   108.00,2,    31.04,2,     2.15,2,    0.079,2,    0.056,2, -999.000,9,-999.0000,9,  -999.00,9,   2253.7,2,   2370.4,2,     7.90,2,  0.9040
 3230CITHER2_1,  A17C,    39,  1,      7,      7,2,19940120,1344,-36.8337, -44.9522, 5057,   3999.4,   0.9220,  34.7140,2,  34.7140,2,    211.3,2,    212.4,2,   115.00,2,    31.74,2,     2.20,2,    0.097,2,    0.058,2, -999.000,9,-999.0000,9,  -999.00,9,   2257.5,2,   2372.9,2,     7.89,2,  0.6190
 3230CITHER2_1,  A17C,    39,  1,      6,      6,2,19940120,1344,-36.8337, -44.9522, 5057,   4198.4,   0.6660,  34.6980,2,  34.6970,2,    214.2,2,    214.8,2,   120.50,2,    32.46,2,     2.25,2,    0.103,2,    0.065,2, -999.000,9,-999.0000,9,  -999.00,9,   2260.6,2,   2373.6,2,     7.89,2,  0.3500
 3230CITHER2_1,  A17C,    39,  1,      5,      5,2,19940120,1344,-36.8337, -44.9522, 5057,   4398.7,   0.4460,  34.6840,2,  34.6850,2,    218.1,2,    218.3,2,   123.20,2,    32.59,2,     2.27,2,    0.103,2,    0.068,2, -999.000,9,-999.0000,9,  -999.00,9,   2262.6,2,   2376.6,2,     7.88,2,  0.1150
 3230CITHER2_1,  A17C,    39,  1,      4,      4,2,19940120,1344,-36.8337, -44.9522, 5057,   4597.0,   0.3140,  34.6780,2,  34.6770,2,    220.8,2,    221.1,2,   125.40,2,    32.65,2,     2.29,2,    0.103,2,    0.064,2, -999.000,9,-999.0000,9,  -999.00,9,   2264.3,2,   2375.8,2,     7.88,2, -0.0340
 3230CITHER2_1,  A17C,    39,  1,      3,      3,2,19940120,1344,-36.8337, -44.9522, 5057,   4797.9,   0.2320,  34.6730,2,  34.6740,2,    222.9,2,    222.2,2,   127.90,2,    32.85,2,     2.30,2,    0.122,2,    0.078,2, -999.000,9,-999.0000,9,  -999.00,9,   2264.6,2,   2375.9,2,     7.89,2, -0.1360
 3230CITHER2_1,  A17C,    39,  1,      2,      2,2,19940120,1344,-36.8337, -44.9522, 5057,   4999.1,   0.2250,  34.6710,2,  34.6750,2,    222.9,2,    222.0,2,   129.20,2,    32.85,2,     2.31,2,    0.144,2,    0.092,2, -999.000,9,-999.0000,9,  -999.00,9,   2267.4,2,   2378.7,2,     7.88,2, -0.1660
 3230CITHER2_1,  A17C,    39,  1,      1,      1,2,19940120,1344,-36.8337, -44.9522, 5057,   5117.8,   0.2390,  34.6730,2,  34.6730,2,    221.5,2,    222.0,2,   130.00,2,    33.05,2,     2.32,2,    0.143,2,    0.096,2, -999.000,9,-999.0000,9,  -999.00,9,   2266.0,2,   2376.6,2,     7.88,2, -0.1660