BOTTLE,20030515WHPSIOSA
EXPOCODE,SECT_ID,STNNBR,CASTNO,SAMPNO,BTLNBR,BTLNBR_FLAG_W,DATE,TIME,LATITUDE,LONGITUDE,DEPTH,CTDPRS,CTDTMP,CTDSAL,CTDSAL_FLAG_W,SALNTY,SALNTY_FLAG_W,CTDOXY,CTDOXY_FLAG_W,OXYGEN,OXYGEN_FLAG_W,SILCAT,SILCAT_FLAG_W,NITRAT,NITRAT_FLAG_W,PHSPHT,PHSPHT_FLAG_W,CFC-11,CFC-11_FLAG_W,CFC-12,CFC-12_FLAG_W,TRITUM,TRITUM_FLAG_W,HELIUM,HELIUM_FLAG_W,DELHE3,DELHE3_FLAG_W,TCARBN,TCARBN_FLAG_W,ALKALI,ALKALI_FLAG_W,PH,PH_FLAG_W,THETA
,,,,,,,,,,,,DBAR,ITS-90,PSS-78,,PSS-78,,UMOL/KG,,UMOL/KG,,UMOL/KG,,UMOL/KG,,UMOL/KG,,PMOL/KG,,PMOL/KG,,TU,,NMOL/KG,,PERCNT,,UMOL/KG,,UMOL/KG,,,,DEG C
 3230CITHER2_1,  A17C,    56,  1,     32,     32,2,19940125,0644,-35.1760, -45.5938, 4797,      3.4,  21.1300,  35.6720,2,  35.6730,2,    219.6,2,    224.9,2,     1.60,2,     0.00,2,     0.05,2,    2.337,2,    1.299,2, -999.000,9,-999.0000,9,  -999.00,9,   -999.0,9,   -999.0,9,     8.33,2, 21.1290
 3230CITHER2_1,  A17C,    56,  1,     31,     31,2,19940125,0644,-35.1760, -45.5938, 4797,     36.1,  20.5850,  35.7670,2,  35.7230,2,    233.3,2,    230.0,2,     1.60,2,     0.00,2,     0.05,2,    2.407,2,    1.333,2, -999.000,9,-999.0000,9,  -999.00,9,   -999.0,9,   -999.0,9,     8.33,2, 20.5780
 3230CITHER2_1,  A17C,    56,  1,     30,     30,2,19940125,0644,-35.1760, -45.5938, 4797,    124.6,  17.9060,  36.1820,2,  36.1820,2,    213.5,2,    213.2,2,     1.50,2,     2.46,2,     0.24,2,    2.507,2,    1.370,2, -999.000,9,-999.0000,9,  -999.00,9,   -999.0,9,   -999.0,9,     8.27,2, 17.8850
 3230CITHER2_1,  A17C,    56,  1,     29,     29,2,19940125,0644,-35.1760, -45.5938, 4797,    199.9,  16.4750,  35.8950,2,  35.8870,2,    213.4,2,    213.5,2,     2.10,2,     4.12,2,     0.37,2,    2.615,2,    1.407,2, -999.000,9,-999.0000,9,  -999.00,9,   -999.0,9,   -999.0,9,     8.24,2, 16.4420
 3230CITHER2_1,  A17C,    56,  1,     28,     28,2,19940125,0644,-35.1760, -45.5938, 4797,    299.7,  15.3290,  35.7290,2,  35.7200,2,    226.2,2,    222.6,2,     2.30,2,     5.32,2,     0.44,2,    2.706,2,    1.448,2, -999.000,9,-999.0000,9,  -999.00,9,   -999.0,9,   -999.0,9,     8.22,2, 15.2830
 3230CITHER2_1,  A17C,    56,  1,     27,     27,2,19940125,0644,-35.1760, -45.5938, 4797,    400.8,  13.4680,  35.3610,2,  35.3480,2,    222.0,2,    217.3,2,     3.40,2,     9.15,2,     0.70,2,    2.641,2,    1.385,2, -999.000,9,-999.0000,9,  -999.00,9,   -999.0,9,   -999.0,9,     8.17,2, 13.4110
 3230CITHER2_1,  A17C,    56,  1,     26,     26,2,19940125,0644,-35.1760, -45.5938, 4797,    501.5,  10.6180,  34.8770,2,  34.8760,2,    211.0,2,    207.8,2,     6.10,2,    16.04,2,     1.14,2,    2.334,2,    1.220,2, -999.000,9,-999.0000,9,  -999.00,9,   -999.0,9,   -999.0,9,     8.08,2, 10.5570
 3230CITHER2_1,  A17C,    56,  1,     25,     25,2,19940125,0644,-35.1760, -45.5938, 4797,    600.4,   7.7550,  34.5370,2,  34.5310,2,    216.7,2,    218.3,2,     9.90,2,    21.67,2,     1.54,2,    2.394,2,    1.228,2, -999.000,9,-999.0000,9,  -999.00,9,   -999.0,9,   -999.0,9,     8.01,2,  7.6940
 3230CITHER2_1,  A17C,    56,  1,     24,     24,2,19940125,0644,-35.1760, -45.5938, 4797,    698.8,   5.8860,  34.3350,2,  34.3330,2,    240.0,2,    242.3,2,    12.00,2,    24.13,2,     1.70,2,    2.983,2,    1.479,2, -999.000,9,-999.0000,9,  -999.00,9,   -999.0,9,   -999.0,9,     7.98,2,  5.8250
 3230CITHER2_1,  A17C,    56,  1,     23,     23,2,19940125,0644,-35.1760, -45.5938, 4797,    800.4,   5.1540,  34.2790,2,  34.2790,2,    247.7,2,    250.3,2,    14.00,2,    25.57,2,     1.78,2,    2.994,2,    1.474,2, -999.000,9,-999.0000,9,  -999.00,9,   -999.0,9,   -999.0,9,     7.97,2,  5.0880
 3230CITHER2_1,  A17C,    56,  1,     22,     22,2,19940125,0644,-35.1760, -45.5938, 4797,    900.4,   4.5780,  34.2470,2,  34.2460,2,    254.0,2,    245.8,2,    16.60,2,    26.68,2,     1.86,2,    2.954,2,    1.452,2, -999.000,9,-999.0000,9,  -999.00,9,   -999.0,9,   -999.0,9,     7.96,2,  4.5070
 3230CITHER2_1,  A17C,    56,  1,     21,     21,2,19940125,0644,-35.1760, -45.5938, 4797,   1001.1,   4.2470,  34.2560,2,  34.2580,2,    246.2,2,    245.9,2,    20.70,2,    28.11,2,     1.94,2,    2.407,2,    1.200,2, -999.000,9,-999.0000,9,  -999.00,9,   -999.0,9,   -999.0,9,     7.95,2,  4.1700
 3230CITHER2_1,  A17C,    56,  1,     20,     20,2,19940125,0644,-35.1760, -45.5938, 4797,   1200.1,   3.4050,  34.2810,2,  34.2870,2,    228.7,2,    229.1,2,    32.80,2,    31.03,2,     2.13,2,    1.619,2,    0.802,2, -999.000,9,-999.0000,9,  -999.00,9,   -999.0,9,   -999.0,9,     7.90,2,  3.3180
 3230CITHER2_1,  A17C,    56,  1,     19,     19,2,19940125,0644,-35.1760, -45.5938, 4797,   1399.9,   3.0980,  34.4160,2,  34.4090,2,    204.3,2,    199.7,2,    47.10,2,    32.57,2,     2.25,2,    0.570,2,    0.297,2, -999.000,9,-999.0000,9,  -999.00,9,   -999.0,9,   -999.0,9,     7.87,2,  2.9980
 3230CITHER2_1,  A17C,    56,  1,     18,     18,2,19940125,0644,-35.1760, -45.5938, 4797,   1600.3,   2.9470,  34.5520,2,  34.5500,2,    186.7,2,    187.3,2,    55.60,2,    32.26,2,     2.22,2,    0.164,2,    0.096,2, -999.000,9,-999.0000,9,  -999.00,9,   -999.0,9,   -999.0,9,     7.86,2,  2.8310
 3230CITHER2_1,  A17C,    56,  1,     17,     17,2,19940125,0644,-35.1760, -45.5938, 4797,   1799.7,   3.0920,  34.6800,2,  34.6810,2,    191.1,2,    191.0,2,    53.70,2,    30.19,2,     2.06,2,    0.108,2,    0.061,2, -999.000,9,-999.0000,9,  -999.00,9,   -999.0,9,   -999.0,9,     7.88,2,  2.9570
 3230CITHER2_1,  A17C,    56,  1,     16,     16,2,19940125,0644,-35.1760, -45.5938, 4797,   1999.8,   3.2400,  34.7790,2,  34.7800,2,    202.9,2,    203.9,2,    47.20,2,    27.49,2,     1.87,2,    0.061,2,    0.035,2, -999.000,9,-999.0000,9,  -999.00,9,   -999.0,9,   -999.0,9,     7.92,2,  3.0840
 3230CITHER2_1,  A17C,    56,  1,     15,     15,2,19940125,0644,-35.1760, -45.5938, 4797,   2199.7,   3.0460,  34.8130,2,  34.8110,2,    210.8,2,    209.5,2,    51.10,2,    26.60,2,     1.81,2,    0.058,2,    0.041,2, -999.000,9,-999.0000,9,  -999.00,9,   -999.0,9,   -999.0,9,     7.92,2,  2.8750
 3230CITHER2_1,  A17C,    56,  1,     14,     14,2,19940125,0644,-35.1760, -45.5938, 4797,   2399.6,   3.0900,  34.8660,2,  34.8670,2,    222.1,2,    224.5,2,    44.20,2,    24.11,2,     1.65,2,    0.036,2,    0.022,2, -999.000,9,-999.0000,9,  -999.00,9,   -999.0,9,   -999.0,9,     7.95,2,  2.8990
 3230CITHER2_1,  A17C,    56,  1,     13,     13,2,19940125,0644,-35.1760, -45.5938, 4797,   2400.5,   3.0900,  34.8650,2,  34.8640,2,    222.2,2,    224.5,2,    44.10,2,    24.00,2,     1.65,2,    0.037,2,    0.026,2, -999.000,9,-999.0000,9,  -999.00,9,   -999.0,9,   -999.0,9,     7.95,2,  2.8980
 3230CITHER2_1,  A17C,    56,  1,     12,     12,2,19940125,0644,-35.1760, -45.5938, 4797,   2599.0,   2.8810,  34.8690,2,  34.8710,2,    230.2,2,    227.1,2,    47.50,2,    23.96,2,     1.63,2,    0.029,2,    0.030,2, -999.000,9,-999.0000,9,  -999.00,9,   -999.0,9,   -999.0,9,     7.95,2,  2.6740
 3230CITHER2_1,  A17C,    56,  1,     11,     11,2,19940125,0644,-35.1760, -45.5938, 4797,   2799.6,   2.8280,  34.8930,2,  34.8910,2,    236.9,2,    236.7,2,    43.00,2,    22.72,2,     1.54,2,    0.018,2,    0.014,2, -999.000,9,-999.0000,9,  -999.00,9,   -999.0,9,   -999.0,9,     7.97,2,  2.6020
 3230CITHER2_1,  A17C,    56,  1,     10,     10,2,19940125,0644,-35.1760, -45.5938, 4797,   2999.2,   2.5130,  34.8590,2,  34.8570,2,    232.0,2,    230.3,2,    54.60,2,    24.07,2,     1.65,2,    0.022,2,    0.021,2, -999.000,9,-999.0000,9,  -999.00,9,   -999.0,9,   -999.0,9,     7.95,2,  2.2730
 3230CITHER2_1,  A17C,    56,  1,      9,      9,2,19940125,0644,-35.1760, -45.5938, 4797,   3298.4,   1.8450,  34.7820,2,  34.7800,2,    212.9,2,    212.0,2,    86.40,2,    28.58,2,     1.95,2,    0.042,2,    0.026,2, -999.000,9,-999.0000,9,  -999.00,9,   -999.0,9,   -999.0,9,     7.91,2,  1.5900
 3230CITHER2_1,  A17C,    56,  1,      8,      8,2,19940125,0644,-35.1760, -45.5938, 4797,   3599.8,   1.3030,  34.7390,2,  34.7370,2,    207.3,2,    208.1,2,   106.60,2,    30.81,2,     2.11,2,    0.075,2,    0.044,2, -999.000,9,-999.0000,9,  -999.00,9,   -999.0,9,   -999.0,9,     7.89,2,  1.0310
 3230CITHER2_1,  A17C,    56,  1,      7,      7,2,19940125,0644,-35.1760, -45.5938, 4797,   3800.2,   1.0130,  34.7170,2,  34.7190,2,    209.1,2,    209.4,2,   112.50,2,    31.66,2,     2.17,2,    0.096,2,    0.060,2, -999.000,9,-999.0000,9,  -999.00,9,   -999.0,9,   -999.0,9,     7.88,2,  0.7290
 3230CITHER2_1,  A17C,    56,  1,      6,      6,2,19940125,0644,-35.1760, -45.5938, 4797,   3999.0,   0.7570,  34.7020,2,  34.7020,2,    211.7,2,    212.6,2,   118.10,2,    32.09,2,     2.21,2,    0.116,2,    0.065,2, -999.000,9,-999.0000,9,  -999.00,9,   -999.0,9,   -999.0,9,     7.87,2,  0.4590
 3230CITHER2_1,  A17C,    56,  1,      5,      5,2,19940125,0644,-35.1760, -45.5938, 4797,   4197.3,   0.5330,  34.6910,2,  34.6880,2,    215.2,2,    216.3,2,   124.10,2,    32.63,2,     2.24,2,    0.115,2,    0.069,2, -999.000,9,-999.0000,9,  -999.00,9,   -999.0,9,   -999.0,9,     7.87,2,  0.2210
 3230CITHER2_1,  A17C,    56,  1,      4,      4,2,19940125,0644,-35.1760, -45.5938, 4797,   4398.5,   0.3980,  34.6830,2,  34.6810,2,    218.3,2,    219.2,2,   124.60,2,    32.71,2,     2.25,2,    0.110,2,    0.062,2, -999.000,9,-999.0000,9,  -999.00,9,   -999.0,9,   -999.0,9,     7.87,2,  0.0690
 3230CITHER2_1,  A17C,    56,  1,      3,      3,2,19940125,0644,-35.1760, -45.5938, 4797,   4597.7,   0.2940,  34.6780,2,  34.6780,2,    220.8,2,    221.4,2,   125.90,2,    32.95,2,     2.27,2,    0.116,2,    0.069,2, -999.000,9,-999.0000,9,  -999.00,9,   -999.0,9,   -999.0,9,     7.87,2, -0.0540
 3230CITHER2_1,  A17C,    56,  1,      2,      2,2,19940125,0644,-35.1760, -45.5938, 4797,   4798.6,   0.2380,  34.6750,2,  34.6740,2,    222.6,2,    222.5,2,   127.30,2,    33.06,2,     2.28,2,    0.132,2,    0.081,2, -999.000,9,-999.0000,9,  -999.00,9,   -999.0,9,   -999.0,9,     7.87,2, -0.1300
 3230CITHER2_1,  A17C,    56,  1,      1,      1,2,19940125,0644,-35.1760, -45.5938, 4797,   4869.8,   0.2430,  34.6730,2,  34.6740,2,    222.8,2,    223.1,2,   127.50,2,    33.07,2,     2.28,2,    0.135,2,    0.079,2, -999.000,9,-999.0000,9,  -999.00,9,   -999.0,9,   -999.0,9,     7.87,2, -0.1330
 3230CITHER2_1,  A17C,    57,  1,     32,     32,2,19940125,1252,-35.4472, -45.1385, 4862,      8.8,  21.4490,  35.2970,2,  35.2970,2,    215.7,2,    223.6,2,     4.00,2,     0.04,2,     0.08,2,    2.310,2,    1.275,2, -999.000,9,-999.0000,9,  -999.00,9,   2020.0,2,   2350.0,2,     8.33,2, 21.4470
 3230CITHER2_1,  A17C,    57,  1,     31,     31,2,19940125,1252,-35.4472, -45.1385, 4862,     35.0,  21.3560,  35.4320,2,  35.4710,2,    224.1,2,    224.7,2,     3.80,2,     0.00,2,     0.07,2,    2.311,2,    1.270,2, -999.000,9,-999.0000,9,  -999.00,9,   2027.6,2,   2356.3,2,     8.33,2, 21.3490
 3230CITHER2_1,  A17C,    57,  1,     30,     30,2,19940125,1252,-35.4472, -45.1385, 4862,     70.4,  21.4010,  36.5890,2,  36.5730,2,    212.3,2,    215.8,2,     3.20,2,     0.00,2,     0.05,2,    2.237,2,    1.234,2, -999.000,9,-999.0000,9,  -999.00,9,   2069.6,2,   2410.0,2,     8.33,2, 21.3870
 3230CITHER2_1,  A17C,    57,  1,     29,     29,2,19940125,1252,-35.4472, -45.1385, 4862,    200.6,  17.5230,  36.0770,2,  36.0670,2,    213.1,2,    213.0,2,     3.70,2,     2.86,2,     0.28,2,    2.519,2,    1.353,2, -999.000,9,-999.0000,9,  -999.00,9,   2084.0,2,   2376.6,2,     8.26,2, 17.4890
 3230CITHER2_1,  A17C,    57,  1,     28,     28,2,19940125,1252,-35.4472, -45.1385, 4862,    300.7,  15.0740,  35.5820,2,  35.6000,2,    212.7,2,    208.9,2,     4.60,2,     6.36,2,     0.51,2,    2.518,2,    1.324,2, -999.000,9,-999.0000,9,  -999.00,9,   2096.4,2,   2351.5,2,     8.20,2, 15.0280
 3230CITHER2_1,  A17C,    57,  1,     27,     27,2,19940125,1252,-35.4472, -45.1385, 4862,    401.3,  11.9150,  35.0850,2,  35.0750,2,    231.4,2,    206.3,2,     6.90,2,    13.20,2,     0.95,2,    2.328,2,    1.200,2, -999.000,9,-999.0000,9,  -999.00,9,   2116.8,2,   2323.1,2,     8.11,2, 11.8620
 3230CITHER2_1,  A17C,    57,  1,     26,     26,2,19940125,1252,-35.4472, -45.1385, 4862,    500.9,   8.8730,  34.6390,2,  34.6430,2,    217.8,2,    216.0,2,     9.40,2,    19.22,2,     1.35,2,    2.571,2,    1.287,2, -999.000,9,-999.0000,9,  -999.00,9,   2132.9,2,   2304.5,2,     8.04,2,  8.8180
 3230CITHER2_1,  A17C,    57,  1,     25,     25,2,19940125,1252,-35.4472, -45.1385, 4862,    601.6,   5.6680,  34.2420,2,  34.2420,2,    258.9,2,    267.3,2,    10.60,2,    22.43,2,     1.57,2,    4.186,2,    1.996,2, -999.000,9,-999.0000,9,  -999.00,9,   2127.0,2,   2290.2,2,     8.01,2,  5.6170
 3230CITHER2_1,  A17C,    57,  1,     24,     24,2,19940125,1252,-35.4472, -45.1385, 4862,    700.3,   5.0380,  34.2010,2,  34.1870,2,    277.3,2,    277.2,2,    11.80,2,    23.29,2,     1.62,2,    4.750,2,    2.385,2, -999.000,9,-999.0000,9,  -999.00,9,   2131.8,2,   2289.2,2,     8.00,2,  4.9810
 3230CITHER2_1,  A17C,    57,  1,     23,     23,2,19940125,1252,-35.4472, -45.1385, 4862,    800.0,   4.9410,  34.2680,2,  34.2680,2,    257.5,2,    249.8,2,    16.90,2,    26.09,2,     1.81,2,    2.944,2,    1.426,2, -999.000,9,-999.0000,9,  -999.00,9,   2152.5,2,   2295.6,2,     7.97,2,  4.8760
 3230CITHER2_1,  A17C,    57,  1,     22,     22,2,19940125,1252,-35.4472, -45.1385, 4862,   1000.3,   3.5740,  34.2360,2,  34.2300,2,    246.5,2,    246.1,2,    26.60,2,    29.71,2,     2.04,2,    2.471,2,    1.201,2, -999.000,9,-999.0000,9,  -999.00,9,   2175.8,2,   2302.1,2,     7.93,2,  3.5020
 3230CITHER2_1,  A17C,    57,  1,     21,     21,2,19940125,1252,-35.4472, -45.1385, 4862,   1199.7,   3.0260,  34.3030,2,  34.3020,2,    221.9,2,    223.0,2,    39.40,2,    31.84,2,     2.19,2,    1.540,2,    0.761,2, -999.000,9,-999.0000,9,  -999.00,9,   2201.8,2,   2314.2,2,     7.89,2,  2.9430
 3230CITHER2_1,  A17C,    57,  1,     20,     20,2,19940125,1252,-35.4472, -45.1385, 4862,   1399.9,   2.8650,  34.4410,2,  34.4390,2,    188.2,2,    194.3,2,    53.70,2,    33.17,2,     2.28,2,    0.597,2,    0.303,2, -999.000,9,-999.0000,9,  -999.00,9,   2225.4,2,   2329.1,2,     7.86,2,  2.7670
 3230CITHER2_1,  A17C,    57,  1,     19,     19,2,19940125,1252,-35.4472, -45.1385, 4862,   1599.9,   3.1990,  34.6500,2,  34.6500,2,    190.6,2,    191.6,2,    50.50,2,    30.35,2,     2.08,2,    0.063,2,    0.041,2, -999.000,9,-999.0000,9,  -999.00,9,   2221.1,2,   2336.4,2,     7.88,2,  3.0800
 3230CITHER2_1,  A17C,    57,  1,     18,     18,2,19940125,1252,-35.4472, -45.1385, 4862,   1799.2,   3.2420,  34.7560,2,  34.7540,2,    200.1,2,    200.5,2,    48.00,2,    28.02,2,     1.92,2,    0.060,2,    0.039,2, -999.000,9,-999.0000,9,  -999.00,9,   2214.4,2,   2337.4,2,     7.91,2,  3.1050
 3230CITHER2_1,  A17C,    57,  1,     17,     17,2,19940125,1252,-35.4472, -45.1385, 4862,   1999.6,   3.0340,  34.7970,2,  34.7970,2,    205.3,2,    206.4,2,    52.50,2,    26.96,2,     1.86,2,    0.066,2,    0.041,2, -999.000,9,-999.0000,9,  -999.00,9,   2216.1,2,   2343.2,2,     7.92,2,  2.8810
 3230CITHER2_1,  A17C,    57,  1,     16,     16,2,19940125,1252,-35.4472, -45.1385, 4862,   2199.4,   3.1670,  34.8810,2,  34.8780,2,    222.5,2,    227.7,2,    40.60,2,    23.48,2,     1.61,2,    0.034,2,    0.021,2, -999.000,9,-999.0000,9,  -999.00,9,   2195.4,2,   2339.6,2,     7.96,2,  2.9930
 3230CITHER2_1,  A17C,    57,  1,     14,     14,2,19940125,1252,-35.4472, -45.1385, 4862,   2399.1,   2.9950,  34.8980,2,  34.8970,2,    240.4,2,    236.4,2,    39.60,2,    22.59,2,     1.53,2,    0.023,2,    0.025,2, -999.000,9,-999.0000,9,  -999.00,9,   2189.3,2,   2339.7,2,     7.97,2,  2.8050
 3230CITHER2_1,  A17C,    57,  1,     15,     15,2,19940125,1252,-35.4472, -45.1385, 4862,   2399.5,   2.9950,  34.8980,2,  34.8960,2,    240.7,2,    236.4,2,    39.60,2,    22.50,2,     1.54,2,    0.023,2,    0.024,2, -999.000,9,-999.0000,9,  -999.00,9,   -999.0,5,   2339.7,2,     7.97,2,  2.8050
 3230CITHER2_1,  A17C,    57,  1,     13,     13,2,19940125,1252,-35.4472, -45.1385, 4862,   2600.2,   2.5300,  34.8560,2,  34.8530,2,    228.9,2,    226.3,2,    55.80,2,    24.52,2,     1.69,2,    0.028,2,    0.022,2, -999.000,9,-999.0000,9,  -999.00,9,   2207.4,2,   2350.0,2,     7.95,2,  2.3290
 3230CITHER2_1,  A17C,    57,  1,     12,     12,2,19940125,1252,-35.4472, -45.1385, 4862,   2799.4,   1.8730,  34.7540,2,  34.7530,2,    196.7,2,    197.5,2,    90.50,2,    30.11,2,     2.08,2,    0.046,2,    0.031,2, -999.000,9,-999.0000,9,  -999.00,9,   2248.7,2,   2366.5,2,     7.88,2,  1.6670
 3230CITHER2_1,  A17C,    57,  1,     11,     11,2,19940125,1252,-35.4472, -45.1385, 4862,   2999.7,   1.7050,  34.7430,2,  34.7440,2,    195.3,2,    196.4,2,    97.20,2,    30.81,2,     2.12,2,    0.057,2,    0.040,2, -999.000,9,-999.0000,9,  -999.00,9,   2252.0,2,   2368.0,2,     7.88,2,  1.4830
 3230CITHER2_1,  A17C,    57,  1,     10,     10,2,19940125,1252,-35.4472, -45.1385, 4862,   3197.5,   1.5460,  34.7310,2,  34.7180,2,    195.2,2,    196.2,2,   103.20,2,    31.24,2,     2.18,2,    0.062,2,    0.044,2, -999.000,9,-999.0000,9,  -999.00,9,   2258.0,2,   2368.7,2,     7.87,2,  1.3090
 3230CITHER2_1,  A17C,    57,  1,      9,      9,2,19940125,1252,-35.4472, -45.1385, 4862,   3412.5,   1.4340,  34.7260,2,  34.7250,2,    195.9,2,    197.3,2,   107.80,2,    32.04,2,     2.19,2,    0.079,2,    0.042,2, -999.000,9,-999.0000,9,  -999.00,9,   2258.8,2,   2370.6,2,     7.87,2,  1.1780
 3230CITHER2_1,  A17C,    57,  1,      8,      8,2,19940125,1252,-35.4472, -45.1385, 4862,   3599.3,   1.3270,  34.7230,2,  34.7230,2,    198.7,2,    199.3,2,   110.10,2,    31.99,2,     2.19,2,    0.090,2,    0.055,2, -999.000,9,-999.0000,9,  -999.00,9,   2259.2,2,   2370.9,2,     7.87,2,  1.0550
 3230CITHER2_1,  A17C,    57,  1,      7,      7,2,19940125,1252,-35.4472, -45.1385, 4862,   3799.4,   1.1900,  34.7200,2,  34.7180,2,    202.6,2,    203.2,2,   111.30,2,    31.78,2,     2.19,2,    0.102,2,    0.058,2, -999.000,9,-999.0000,9,  -999.00,9,   2258.5,2,   2371.6,2,     7.87,2,  0.9010
 3230CITHER2_1,  A17C,    57,  1,      6,      6,2,19940125,1252,-35.4472, -45.1385, 4862,   3999.7,   1.0580,  34.7130,2,  34.7120,2,    205.9,2,    206.2,2,   114.20,2,    32.00,2,     2.20,2,    0.117,2,    0.059,2, -999.000,9,-999.0000,9,  -999.00,9,   2259.3,2,   2371.6,2,     7.87,2,  0.7510
 3230CITHER2_1,  A17C,    57,  1,      5,      5,2,19940125,1252,-35.4472, -45.1385, 4862,   4198.3,   0.9390,  34.7060,2,  34.7090,2,    208.1,2,    208.4,2,   117.40,2,    32.05,2,     2.22,2,    0.135,2,    0.070,2, -999.000,9,-999.0000,9,  -999.00,9,   2260.8,2,   2375.2,2,     7.87,2,  0.6150
 3230CITHER2_1,  A17C,    57,  1,      4,      4,2,19940125,1252,-35.4472, -45.1385, 4862,   4397.4,   0.7000,  34.6960,2,  34.6950,2,    213.9,2,    214.0,2,   120.30,2,    32.17,2,     2.22,2,    0.122,2,    0.064,2, -999.000,9,-999.0000,9,  -999.00,9,   2260.8,2,   2373.0,2,     7.87,2,  0.3610
 3230CITHER2_1,  A17C,    57,  1,      3,      3,2,19940125,1252,-35.4472, -45.1385, 4862,   4598.5,   0.4100,  34.6820,2,  34.6830,2,    219.0,2,    219.0,2,   124.50,2,    32.49,2,     2.26,2,    0.110,2,    0.062,2, -999.000,9,-999.0000,9,  -999.00,9,   2263.8,2,   2374.4,2,     7.86,2,  0.0580
 3230CITHER2_1,  A17C,    57,  1,      2,      2,2,19940125,1252,-35.4472, -45.1385, 4862,   4798.1,   0.2690,  34.6740,2,  34.6750,2,    222.0,2,    221.9,2,   126.10,2,    32.60,2,     2.27,2,    0.125,2,    0.072,2, -999.000,9,-999.0000,9,  -999.00,9,   2263.4,2,   2374.5,2,     7.87,2, -0.1000
 3230CITHER2_1,  A17C,    57,  1,      1,      1,2,19940125,1252,-35.4472, -45.1385, 4862,   4898.0,   0.2480,  34.6750,2,  34.6720,2,    222.4,2,    222.3,2,   127.20,2,    32.60,2,     2.28,2,    0.132,2,    0.071,2, -999.000,9,-999.0000,9,  -999.00,9,   2264.5,2,   2375.3,2,     7.86,2, -0.1320