BOTTLE,20030515WHPSIOSA
EXPOCODE,SECT_ID,STNNBR,CASTNO,SAMPNO,BTLNBR,BTLNBR_FLAG_W,DATE,TIME,LATITUDE,LONGITUDE,DEPTH,CTDPRS,CTDTMP,CTDSAL,CTDSAL_FLAG_W,SALNTY,SALNTY_FLAG_W,CTDOXY,CTDOXY_FLAG_W,OXYGEN,OXYGEN_FLAG_W,SILCAT,SILCAT_FLAG_W,NITRAT,NITRAT_FLAG_W,PHSPHT,PHSPHT_FLAG_W,CFC-11,CFC-11_FLAG_W,CFC-12,CFC-12_FLAG_W,TRITUM,TRITUM_FLAG_W,HELIUM,HELIUM_FLAG_W,DELHE3,DELHE3_FLAG_W,TCARBN,TCARBN_FLAG_W,ALKALI,ALKALI_FLAG_W,PH,PH_FLAG_W,THETA
,,,,,,,,,,,,DBAR,ITS-90,PSS-78,,PSS-78,,UMOL/KG,,UMOL/KG,,UMOL/KG,,UMOL/KG,,UMOL/KG,,PMOL/KG,,PMOL/KG,,TU,,NMOL/KG,,PERCNT,,UMOL/KG,,UMOL/KG,,,,DEG C
 3230CITHER2_1,  A17C,    20,  1,     32,     32,2,19940114,0311,-44.7713, -51.7505, 5889,      6.4,  16.4850,  35.3180,2,  35.3190,2,    246.8,2,    246.7,2,     0.30,2,     0.04,2,     0.18,2,    2.884,2,    1.599,2, -999.000,9,-999.0000,9,  -999.00,9,   -999.0,9,   -999.0,9,     8.29,2, 16.4840
 3230CITHER2_1,  A17C,    20,  1,     31,     31,2,19940114,0311,-44.7713, -51.7505, 5889,     60.7,  16.7410,  35.4650,2,  35.4670,2,    247.7,2,    241.6,2,     0.50,2,     0.04,2,     0.17,2,    2.829,2,    1.596,2, -999.000,9,-999.0000,9,  -999.00,9,   -999.0,9,   -999.0,9,     8.29,2, 16.7310
 3230CITHER2_1,  A17C,    20,  1,     30,     30,2,19940114,0311,-44.7713, -51.7505, 5889,    101.4,  14.5620,  35.5270,2,  35.5100,2,    231.2,2,    221.3,2,     1.70,2,     7.28,2,     0.57,2,    2.870,2,    1.568,2, -999.000,9,-999.0000,9,  -999.00,9,   -999.0,9,   -999.0,9,     8.20,2, 14.5470
 3230CITHER2_1,  A17C,    20,  1,     29,     29,2,19940114,0311,-44.7713, -51.7505, 5889,    200.5,  11.8940,  35.0920,2,  35.0610,2,    242.0,2,    239.7,2,     2.40,2,    11.41,2,     0.84,2,    3.341,2,    1.774,2, -999.000,9,-999.0000,9,  -999.00,9,   -999.0,9,   -999.0,9,     8.15,2, 11.8680
 3230CITHER2_1,  A17C,    20,  1,     28,     28,2,19940114,0311,-44.7713, -51.7505, 5889,    351.5,   6.3340,  34.2890,2,  34.2870,2,    246.2,2,    264.5,2,     7.10,2,    22.42,2,     1.56,2,    3.968,2,    1.962,2, -999.000,9,-999.0000,9,  -999.00,9,   -999.0,9,   -999.0,9,     8.02,2,  6.3030
 3230CITHER2_1,  A17C,    20,  1,     27,     27,2,19940114,0311,-44.7713, -51.7505, 5889,    500.8,   5.0030,  34.2130,2,  34.2120,2,    269.9,2,    270.8,2,    10.40,2,    24.91,2,     1.71,2,    4.176,2,    2.103,2, -999.000,9,-999.0000,9,  -999.00,9,   -999.0,9,   -999.0,9,     7.99,2,  4.9630
 3230CITHER2_1,  A17C,    20,  1,     26,     26,2,19940114,0311,-44.7713, -51.7505, 5889,    750.4,   4.0110,  34.1970,2,  34.2000,2,    258.5,2,    261.3,2,    18.30,2,    28.27,2,     1.93,2,    3.369,2,    1.714,2, -999.000,9,-999.0000,9,  -999.00,9,   -999.0,9,   -999.0,9,     7.95,2,  3.9560
 3230CITHER2_1,  A17C,    20,  1,     25,     25,2,19940114,0311,-44.7713, -51.7505, 5889,   1001.3,   2.9090,  34.2360,2,  34.2390,2,    241.7,2,    241.4,2,    33.20,2,    32.23,2,     2.17,2,    2.124,2,    1.159,2, -999.000,9,-999.0000,9,  -999.00,9,   -999.0,9,   -999.0,9,     7.91,2,  2.8420
 3230CITHER2_1,  A17C,    20,  1,     24,     24,2,19940114,0311,-44.7713, -51.7505, 5889,   1299.7,   2.7960,  34.4010,2,  34.3990,2,    198.7,2,    199.8,2,    52.40,2,    34.39,2,     2.33,2,    0.895,2,    0.479,2, -999.000,9,-999.0000,9,  -999.00,9,   -999.0,9,   -999.0,9,     7.84,2,  2.7070
 3230CITHER2_1,  A17C,    20,  1,     23,     23,2,19940114,0311,-44.7713, -51.7505, 5889,   1601.4,   2.6310,  34.5520,2,  34.5530,2,    180.2,2,    179.8,2,    69.70,2,    34.44,2,     2.34,2,    0.368,2,    0.203,2, -999.000,9,-999.0000,9,  -999.00,9,   -999.0,9,   -999.0,9,     7.84,2,  2.5190
 3230CITHER2_1,  A17C,    20,  1,     22,     22,2,19940114,0311,-44.7713, -51.7505, 5889,   1801.1,   2.6820,  34.6370,2,  34.6350,2,    180.5,2,    181.1,2,    70.40,2,    33.02,2,     2.29,2,    0.201,2,    0.123,2, -999.000,9,-999.0000,9,  -999.00,9,   -999.0,9,   -999.0,9,     7.86,2,  2.5530
 3230CITHER2_1,  A17C,    20,  1,     21,     21,2,19940114,0311,-44.7713, -51.7505, 5889,   2000.4,   2.9260,  34.7600,2,  34.7620,2,    193.3,2,    198.2,2,    58.70,2,    29.45,2,     2.02,2,    0.080,2,    0.062,2, -999.000,9,-999.0000,9,  -999.00,9,   -999.0,9,   -999.0,9,     7.90,2,  2.7750
 3230CITHER2_1,  A17C,    20,  1,     20,     20,2,19940114,0311,-44.7713, -51.7505, 5889,   2200.5,   2.9520,  34.8160,2,  34.8190,2,    210.8,2,    210.0,2,    54.00,2,    27.53,2,     1.85,2,    0.053,2,    0.047,2, -999.000,9,-999.0000,9,  -999.00,9,   -999.0,9,   -999.0,9,     7.93,2,  2.7820
 3230CITHER2_1,  A17C,    20,  1,     19,     19,2,19940114,0311,-44.7713, -51.7505, 5889,   2397.6,   2.8440,  34.8330,2,  34.8340,2,    215.5,2,    217.3,2,    54.50,2,    26.83,2,     1.83,2,    0.043,2,    0.032,2, -999.000,9,-999.0000,9,  -999.00,9,   -999.0,9,   -999.0,9,     7.94,2,  2.6570
 3230CITHER2_1,  A17C,    20,  1,     18,     18,2,19940114,0311,-44.7713, -51.7505, 5889,   2598.9,   2.6840,  34.8380,2,  34.8380,2,    218.1,2,    217.8,2,    57.30,2,    26.52,2,     1.83,2,    0.033,2,    0.034,2, -999.000,9,-999.0000,9,  -999.00,9,   -999.0,9,   -999.0,9,     7.94,2,  2.4810
 3230CITHER2_1,  A17C,    20,  1,     17,     17,2,19940114,0311,-44.7713, -51.7505, 5889,   2799.6,   2.4040,  34.8110,2,  34.8140,2,    209.6,2,    212.2,2,    68.40,2,    27.68,2,     1.90,2, -999.000,5, -999.000,5, -999.000,9,-999.0000,9,  -999.00,9,   -999.0,9,   -999.0,9,     7.92,2,  2.1870
 3230CITHER2_1,  A17C,    20,  1,     16,     16,2,19940114,0311,-44.7713, -51.7505, 5889,   2999.8,   2.0480,  34.7710,2,  34.7700,2,    203.3,2,    202.1,2,    86.60,2,    30.17,2,     2.03,2, -999.000,5, -999.000,5, -999.000,9,-999.0000,9,  -999.00,9,   -999.0,9,   -999.0,9,     7.92,2,  1.8190
 3230CITHER2_1,  A17C,    20,  1,     15,     15,2,19940114,0311,-44.7713, -51.7505, 5889,   3299.1,   1.8140,  34.7730,2,  34.7710,2,    206.2,2,    208.2,2,    91.20,2,    29.87,2,     2.01,2,    0.037,2,    0.033,2, -999.000,9,-999.0000,9,  -999.00,9,   -999.0,9,   -999.0,9,     7.91,2,  1.5600
 3230CITHER2_1,  A17C,    20,  1,     14,     14,2,19940114,0311,-44.7713, -51.7505, 5889,   3598.6,   1.4640,  34.7430,2,  34.7420,2,    203.9,2,    205.6,2,   105.20,2,    31.41,2,     2.13,2,    0.059,2,    0.042,2, -999.000,9,-999.0000,9,  -999.00,9,   -999.0,9,   -999.0,9,     7.88,2,  1.1880
 3230CITHER2_1,  A17C,    20,  1,     13,     13,2,19940114,0311,-44.7713, -51.7505, 5889,   3798.4,   1.2560,  34.7290,2,  34.7290,2,    205.9,2,    206.9,2,   111.50,2,    32.10,2,     2.17,2,    0.073,2,    0.059,2, -999.000,9,-999.0000,9,  -999.00,9,   -999.0,9,   -999.0,9,     7.88,2,  0.9650
 3230CITHER2_1,  A17C,    20,  1,     12,     12,2,19940114,0311,-44.7713, -51.7505, 5889,   3999.3,   1.0360,  34.7110,2,  34.7180,2,    206.7,2,    207.5,2,   117.20,2,    32.57,2,     2.21,2,    0.114,2,    0.075,2, -999.000,9,-999.0000,9,  -999.00,9,   -999.0,9,   -999.0,9,     7.87,2,  0.7300
 3230CITHER2_1,  A17C,    20,  1,     11,     11,2,19940114,0311,-44.7713, -51.7505, 5889,   4197.9,   0.8230,  34.7010,2,  34.7000,2,    209.5,2,    211.3,2,   120.70,2,    32.72,2,     2.24,2,    0.135,2,    0.085,2, -999.000,9,-999.0000,9,  -999.00,9,   -999.0,9,   -999.0,9,     7.88,2,  0.4990
 3230CITHER2_1,  A17C,    20,  1,     10,     10,2,19940114,0311,-44.7713, -51.7505, 5889,   4198.3,   0.8200,  34.7010,2,  34.7040,2,    209.5,2,    211.3,2,   120.50,2,    32.82,2,     2.23,2,    0.136,2,    0.081,2, -999.000,9,-999.0000,9,  -999.00,9,   -999.0,9,   -999.0,9,     7.88,2,  0.5020
 3230CITHER2_1,  A17C,    20,  1,      9,      9,2,19940114,0311,-44.7713, -51.7505, 5889,   4398.7,   0.6620,  34.6930,2,  34.6930,2,    213.2,2,    214.6,2,   123.20,2,    32.92,2,     2.25,2,    0.140,2,    0.094,2, -999.000,9,-999.0000,9,  -999.00,9,   -999.0,9,   -999.0,9,     7.87,2,  0.3240
 3230CITHER2_1,  A17C,    20,  1,      8,      8,2,19940114,0311,-44.7713, -51.7505, 5889,   4597.7,   0.5270,  34.6850,2,  34.6860,2,    216.2,2,    217.4,2,   125.20,2,    33.42,2,     2.27,2,    0.138,2,    0.090,2, -999.000,9,-999.0000,9,  -999.00,9,   -999.0,9,   -999.0,9,     7.87,2,  0.1720
 3230CITHER2_1,  A17C,    20,  1,      7,      7,2,19940114,0311,-44.7713, -51.7505, 5889,   4798.0,   0.4130,  34.6800,2,  34.6860,2,    218.8,2,    219.7,2,   126.60,2,    33.02,2,     2.26,2,    0.147,2,    0.094,2, -999.000,9,-999.0000,9,  -999.00,9,   -999.0,9,   -999.0,9,     7.87,2,  0.0390
 3230CITHER2_1,  A17C,    20,  1,      6,      6,2,19940114,0311,-44.7713, -51.7505, 5889,   4999.0,   0.3540,  34.6760,2,  34.6800,2,    220.4,2,    221.1,2,   129.40,2,    33.32,2,     2.28,2,    0.134,2,    0.087,2, -999.000,9,-999.0000,9,  -999.00,9,   -999.0,9,   -999.0,9,     7.87,2, -0.0410
 3230CITHER2_1,  A17C,    20,  1,      5,      5,2,19940114,0311,-44.7713, -51.7505, 5889,   5196.8,   0.3290,  34.6750,2,  34.6740,2,    222.0,2,    222.4,2,   130.60,2,    33.27,2,     2.29,2,    0.141,2,    0.091,2, -999.000,9,-999.0000,9,  -999.00,9,   -999.0,9,   -999.0,9,     7.87,2, -0.0880
 3230CITHER2_1,  A17C,    20,  1,      4,      4,2,19940114,0311,-44.7713, -51.7505, 5889,   5396.6,   0.3160,  34.6720,2,  34.6720,2,    223.1,2,    223.2,2,   131.00,2,    33.42,2,     2.29,2,    0.147,2,    0.099,2, -999.000,9,-999.0000,9,  -999.00,9,   -999.0,9,   -999.0,9,     7.87,2, -0.1240
 3230CITHER2_1,  A17C,    20,  1,      3,      3,2,19940114,0311,-44.7713, -51.7505, 5889,   5597.9,   0.3120,  34.6710,2,  34.6700,2,    224.0,2,    223.5,2,   131.10,2,    33.42,2,     2.29,2,    0.160,2,    0.101,2, -999.000,9,-999.0000,9,  -999.00,9,   -999.0,9,   -999.0,9,     7.88,2, -0.1530
 3230CITHER2_1,  A17C,    20,  1,      2,      2,2,19940114,0311,-44.7713, -51.7505, 5889,   5797.5,   0.3220,  34.6690,2,  34.6730,2,    224.7,2,    223.5,2,   131.10,2,    33.41,2,     2.29,2,    0.178,2,    0.116,2, -999.000,9,-999.0000,9,  -999.00,9,   -999.0,9,   -999.0,9,     7.87,2, -0.1680
 3230CITHER2_1,  A17C,    20,  1,      1,      1,2,19940114,0311,-44.7713, -51.7505, 5889,   6012.7,   0.3350,  34.6700,2,  34.6710,2,    224.8,2,    224.1,2,   131.60,2,    33.56,2,     2.31,2,    0.199,2,    0.125,2, -999.000,9,-999.0000,9,  -999.00,9,   -999.0,9,   -999.0,9,     7.88,2, -0.1830
 3230CITHER2_1,  A17C,    21,  1,     32,     32,2,19940114,1124,-44.3398, -51.3593, 5752,      7.3,  16.1650,  34.3010,2,  34.3000,2,    257.4,2,    257.2,2,     0.60,2,     2.40,2,     0.40,2,    3.191,2,    1.749,2, -999.000,9,-999.0000,9,  -999.00,9,   2010.9,2,   2301.5,2,     8.28,2, 16.1640
 3230CITHER2_1,  A17C,    21,  1,     31,     31,2,19940114,1124,-44.3398, -51.3593, 5752,     20.9,  14.9330,  34.3490,2,  34.3530,2,    266.0,2,    269.8,2,     0.60,2,     1.65,2,     0.35,2,    3.383,2,    1.864,2, -999.000,9,-999.0000,9,  -999.00,9,   1999.1,2,   2303.6,2,     8.29,2, 14.9300
 3230CITHER2_1,  A17C,    21,  1,     30,     30,2,19940114,1124,-44.3398, -51.3593, 5752,    100.4,   6.7350,  34.2580,2,  34.2530,2,    292.4,2,    274.4,2,     5.60,2,    19.65,2,     1.45,2,    4.563,2,    2.365,2, -999.000,9,-999.0000,9,  -999.00,9,   2119.0,2,   2296.5,2,     8.04,2,  6.7260
 3230CITHER2_1,  A17C,    21,  1,     29,     29,2,19940114,1124,-44.3398, -51.3593, 5752,    200.5,   4.9720,  34.1960,2,  34.1970,2,    286.0,2,    281.5,2,     9.40,2,    23.54,2,     1.65,2,    4.593,2,    2.358,2, -999.000,9,-999.0000,9,  -999.00,9,   2132.9,2,   2290.4,2,     8.00,2,  4.9570
 3230CITHER2_1,  A17C,    21,  1,     28,     28,2,19940114,1124,-44.3398, -51.3593, 5752,    271.0,   4.6280,  34.1800,2,  34.1850,2,    292.2,2,    289.4,2,     9.60,2,    23.77,2,     1.65,2,    5.055,2,    2.843,2, -999.000,9,-999.0000,9,  -999.00,9,   2131.7,2,   2292.4,2,     8.00,2,  4.6080
 3230CITHER2_1,  A17C,    21,  1,     27,     27,2,19940114,1124,-44.3398, -51.3593, 5752,    400.7,   4.3540,  34.2050,2,  34.2080,2,    274.9,2,    265.9,2,    14.60,2,    26.96,2,     1.86,2,    3.718,2,    1.884,2, -999.000,9,-999.0000,9,  -999.00,9,   2150.3,2,   2296.3,2,     7.96,2,  4.3250
 3230CITHER2_1,  A17C,    21,  1,     26,     26,2,19940114,1124,-44.3398, -51.3593, 5752,    602.5,   3.3680,  34.1740,2,  34.1750,2,    263.0,2,    261.2,2,    22.80,2,    29.27,2,     2.01,2,    3.503,2,    1.783,2, -999.000,9,-999.0000,9,  -999.00,9,   2167.0,2,   2301.9,2,     7.93,2,  3.3280
 3230CITHER2_1,  A17C,    21,  1,     25,     25,2,19940114,1124,-44.3398, -51.3593, 5752,    801.3,   3.0100,  34.2820,2,  34.2790,2,    230.7,2,    224.5,2,    39.40,2,    32.75,2,     2.23,2,    1.988,2,    1.016,2, -999.000,9,-999.0000,9,  -999.00,9,   2194.8,2,   2315.6,2,     7.88,2,  2.9570
 3230CITHER2_1,  A17C,    21,  1,     24,     24,2,19940114,1124,-44.3398, -51.3593, 5752,   1000.8,   2.7460,  34.3790,2,  34.3790,2,    210.1,2,    201.9,2,    51.80,2,    33.81,2,     2.34,2,    1.141,2,    0.597,2, -999.000,9,-999.0000,9,  -999.00,9,   2222.3,2,   2329.9,2,     7.85,2,  2.6800
 3230CITHER2_1,  A17C,    21,  1,     23,     23,2,19940114,1124,-44.3398, -51.3593, 5752,   1299.2,   2.6330,  34.5040,2,  34.5130,2,    184.3,2,    184.0,2,    65.60,2,    34.26,2,     2.36,2,    0.481,2,    0.252,2, -999.000,9,-999.0000,9,  -999.00,9,   2240.3,2,   2340.3,2,     7.83,2,  2.5450
 3230CITHER2_1,  A17C,    21,  1,     22,     22,2,19940114,1124,-44.3398, -51.3593, 5752,   1602.6,   2.4390,  34.6030,2,  34.6040,2,    179.7,2,    175.5,2,    78.80,2,    34.21,2,     2.35,2,    0.267,2,    0.151,2, -999.000,9,-999.0000,9,  -999.00,9,   2253.0,2,   2355.9,2,     7.83,2,  2.3290
 3230CITHER2_1,  A17C,    21,  1,     21,     21,2,19940114,1124,-44.3398, -51.3593, 5752,   1801.3,   2.6350,  34.6980,2,  34.6970,2,    186.4,2,    186.2,2,    71.40,2,    31.44,2,     2.17,2,    0.128,2,    0.086,2, -999.000,9,-999.0000,9,  -999.00,9,   2241.4,2,   2352.3,2,     7.86,2,  2.5060
 3230CITHER2_1,  A17C,    21,  1,     20,     20,2,19940114,1124,-44.3398, -51.3593, 5752,   2000.6,   2.6380,  34.7460,2,  34.7470,2,    198.1,2,    194.3,2,    69.00,2,    30.19,2,     2.06,2,    0.083,2,    0.041,2, -999.000,9,-999.0000,9,  -999.00,9,   2235.1,2,   2354.4,2,     7.88,2,  2.4910
 3230CITHER2_1,  A17C,    21,  1,     19,     19,2,19940114,1124,-44.3398, -51.3593, 5752,   2201.0,   2.6520,  34.7920,2,  34.7880,2,    206.0,2,    203.3,2,    65.00,2,    28.66,2,     1.95,2,    0.056,2,    0.044,2, -999.000,9,-999.0000,9,  -999.00,9,   2226.2,2,   2354.1,2,     7.90,2,  2.4870
 3230CITHER2_1,  A17C,    21,  1,     18,     18,2,19940114,1124,-44.3398, -51.3593, 5752,   2400.6,   2.4840,  34.7970,2,  34.7970,2,    204.8,2,    207.4,2,    68.40,2,    28.33,2,     1.93,2,    0.049,2,    0.044,2, -999.000,9,-999.0000,9,  -999.00,9,   2226.5,2,   2357.1,2,     7.91,2,  2.3030
 3230CITHER2_1,  A17C,    21,  1,     17,     17,2,19940114,1124,-44.3398, -51.3593, 5752,   2600.1,   2.2640,  34.7840,2,  34.7830,2,    209.3,2,    203.8,2,    77.00,2,    28.95,2,     1.98,2,    0.044,2,    0.033,2, -999.000,9,-999.0000,9,  -999.00,9,   2233.8,2,   2362.1,2,     7.90,2,  2.0690
 3230CITHER2_1,  A17C,    21,  1,     16,     16,2,19940114,1124,-44.3398, -51.3593, 5752,   2799.6,   2.0750,  34.7750,2,  34.7730,2,    203.1,2,    203.1,2,    83.80,2,    30.02,2,     2.02,2,    0.052,2,    0.045,2, -999.000,9,-999.0000,9,  -999.00,9,   2238.4,2,   2365.3,2,     7.89,2,  1.8650
 3230CITHER2_1,  A17C,    21,  1,     15,     15,2,19940114,1124,-44.3398, -51.3593, 5752,   2999.5,   1.9430,  34.7790,2,  34.7750,2,    207.1,2,    206.6,2,    86.80,2,    29.67,2,     2.00,2,    0.041,2,    0.037,2, -999.000,9,-999.0000,9,  -999.00,9,   2237.2,2,   2363.9,2,     7.90,2,  1.7160
 3230CITHER2_1,  A17C,    21,  1,     14,     14,2,19940114,1124,-44.3398, -51.3593, 5752,   3299.2,   1.4870,  34.7430,2,  34.7420,2,    201.2,2,    204.0,2,   101.80,2,    31.58,2,     2.13,2,    0.063,2,    0.050,2, -999.000,9,-999.0000,9,  -999.00,9,   2250.9,2,   2370.3,2,     7.88,2,  1.2410
 3230CITHER2_1,  A17C,    21,  1,     13,     13,2,19940114,1124,-44.3398, -51.3593, 5752,   3598.7,   1.2090,  34.7250,2,  34.7260,2,    204.7,2,    205.4,2,   114.30,2,    32.44,2,     2.19,2,    0.088,2,    0.061,2, -999.000,9,-999.0000,9,  -999.00,9,   2256.0,2,   2373.4,2,     7.87,2,  0.9400
 3230CITHER2_1,  A17C,    21,  1,     12,     12,2,19940114,1124,-44.3398, -51.3593, 5752,   3799.1,   1.0380,  34.7140,2,  34.7130,2,    207.2,2,    207.9,2,   118.30,2,    32.71,2,     2.22,2,    0.118,2,    0.077,2, -999.000,9,-999.0000,9,  -999.00,9,   2259.4,2,   2375.7,2,     7.86,2,  0.7530
 3230CITHER2_1,  A17C,    21,  1,     11,     11,2,19940114,1124,-44.3398, -51.3593, 5752,   3999.0,   0.8500,  34.7040,2,  34.7020,2,    211.2,2,    210.7,2,   120.30,2,    32.76,2,     2.24,2,    0.130,2,    0.089,2, -999.000,9,-999.0000,9,  -999.00,9,   2258.5,2,   2374.9,2,     7.86,2,  0.5490
 3230CITHER2_1,  A17C,    21,  1,     10,     10,2,19940114,1124,-44.3398, -51.3593, 5752,   4200.0,   0.6450,  34.6950,2,  34.6920,2,    214.8,2,    214.4,2,   122.60,2,    32.91,2,     2.26,2,    0.144,2,    0.093,2, -999.000,9,-999.0000,9,  -999.00,9,   2260.1,2,   2374.9,2,     7.86,2,  0.3290
 3230CITHER2_1,  A17C,    21,  1,      9,      9,2,19940114,1124,-44.3398, -51.3593, 5752,   4397.0,   0.4920,  34.6860,2,  34.6840,2,    218.3,2,    217.3,2,   124.90,2,    33.34,2,     2.28,2,    0.138,2,    0.086,2, -999.000,9,-999.0000,9,  -999.00,9,   2261.5,2,   2374.6,2,     7.87,2,  0.1600
 3230CITHER2_1,  A17C,    21,  1,      8,      8,2,19940114,1124,-44.3398, -51.3593, 5752,   4597.2,   0.4020,  34.6800,2,  34.6830,2,    220.3,2,    219.8,2,   126.00,2,    33.34,2,     2.29,2,    0.132,2,    0.095,2, -999.000,9,-999.0000,9,  -999.00,9,   2262.0,2,   2376.0,2,     7.87,2,  0.0510
 3230CITHER2_1,  A17C,    21,  1,      7,      7,2,19940114,1124,-44.3398, -51.3593, 5752,   4797.1,   0.3350,  34.6770,2,  34.6760,2,    222.2,2,    221.0,2,   127.40,2,    33.24,2,     2.29,2,    0.136,2,    0.088,2, -999.000,9,-999.0000,9,  -999.00,9,   2261.9,2,   2376.0,2,     7.86,2, -0.0360
 3230CITHER2_1,  A17C,    21,  1,      6,      6,2,19940114,1124,-44.3398, -51.3593, 5752,   4996.4,   0.2970,  34.6740,2,  34.6750,2,    223.7,2,    223.6,2,   128.00,2,    33.49,2,     2.31,2,    0.148,2,    0.098,2, -999.000,9,-999.0000,9,  -999.00,9,   2262.0,2,   2378.2,2,     7.87,2, -0.0960
 3230CITHER2_1,  A17C,    21,  1,      5,      5,2,19940114,1124,-44.3398, -51.3593, 5752,   5196.3,   0.2860,  34.6730,2,  34.6720,2,    224.4,2,    223.5,2,   128.40,2,    33.59,2,     2.31,2,    0.161,2,    0.105,2, -999.000,9,-999.0000,9,  -999.00,9,   2262.8,2,   2377.6,2,     7.87,2, -0.1300
 3230CITHER2_1,  A17C,    21,  1,      4,      4,2,19940114,1124,-44.3398, -51.3593, 5752,   5397.4,   0.2880,  34.6720,2,  34.6720,2,    225.1,2,    223.5,2,   129.90,2,    33.89,2,     2.32,2,    0.160,2,    0.101,2, -999.000,9,-999.0000,9,  -999.00,9,   2263.0,2,   2378.8,2,     7.86,2, -0.1510
 3230CITHER2_1,  A17C,    21,  1,      3,      3,2,19940114,1124,-44.3398, -51.3593, 5752,   5596.5,   0.2960,  34.6700,2,  34.6710,2,    225.7,2,    224.5,2,   132.00,2,    33.84,2,     2.32,2,    0.177,2,    0.117,2, -999.000,9,-999.0000,9,  -999.00,9,   2263.1,2,   2378.0,2,     7.87,2, -0.1680
 3230CITHER2_1,  A17C,    21,  1,      2,      2,2,19940114,1124,-44.3398, -51.3593, 5752,   5695.4,   0.2980,  34.6700,2,  34.6690,2,    226.0,2,    224.8,2,   131.70,2,    33.64,2,     2.31,2,    0.192,2,    0.113,2, -999.000,9,-999.0000,9,  -999.00,9,   2263.6,2,   2379.9,2,     7.86,2, -0.1780
 3230CITHER2_1,  A17C,    21,  1,      1,      1,2,19940114,1124,-44.3398, -51.3593, 5752,   5850.3,   0.3110,  34.6700,2,  34.6730,2,    224.3,2,    224.5,2,   133.70,2,    33.39,2,     2.33,2,    0.209,2,    0.131,2, -999.000,9,-999.0000,9,  -999.00,9,   2263.2,2,   2377.3,2,     7.86,2, -0.1850