BOTTLE,20030515WHPSIOSA
EXPOCODE,SECT_ID,STNNBR,CASTNO,SAMPNO,BTLNBR,BTLNBR_FLAG_W,DATE,TIME,LATITUDE,LONGITUDE,DEPTH,CTDPRS,CTDTMP,CTDSAL,CTDSAL_FLAG_W,SALNTY,SALNTY_FLAG_W,CTDOXY,CTDOXY_FLAG_W,OXYGEN,OXYGEN_FLAG_W,SILCAT,SILCAT_FLAG_W,NITRAT,NITRAT_FLAG_W,PHSPHT,PHSPHT_FLAG_W,CFC-11,CFC-11_FLAG_W,CFC-12,CFC-12_FLAG_W,TRITUM,TRITUM_FLAG_W,HELIUM,HELIUM_FLAG_W,DELHE3,DELHE3_FLAG_W,TCARBN,TCARBN_FLAG_W,ALKALI,ALKALI_FLAG_W,PH,PH_FLAG_W,THETA
,,,,,,,,,,,,DBAR,ITS-90,PSS-78,,PSS-78,,UMOL/KG,,UMOL/KG,,UMOL/KG,,UMOL/KG,,UMOL/KG,,PMOL/KG,,PMOL/KG,,TU,,NMOL/KG,,PERCNT,,UMOL/KG,,UMOL/KG,,,,DEG C
 3230CITHER2_2,  A17N,   160,  1,     32,     32,2,19940302,0800, -4.4943, -30.1113, 4680,      6.5,  27.9830,  35.9020,2,  35.9030,2,    198.5,2,    198.8,2,     1.60,2,     0.04,2,     0.07,2,    1.668,2,    0.971,2, -999.000,9,-999.0000,9,  -999.00,9,   2008.4,2,   2364.9,2,     8.37,2, 27.9810
 3230CITHER2_2,  A17N,   160,  1,     31,     31,2,19940302,0800, -4.4943, -30.1113, 4680,     50.0,  27.9550,  35.9010,2,  35.9000,2,    199.9,2,    199.0,2,     1.30,2,     0.04,2,     0.06,2,    1.665,2,    0.961,2, -999.000,9,-999.0000,9,  -999.00,9,   2009.9,2,   2365.5,2,     8.37,2, 27.9430
 3230CITHER2_2,  A17N,   160,  1,     30,     30,2,19940302,0800, -4.4943, -30.1113, 4680,    126.0,  19.5390,  36.0420,2,  36.0180,2,    127.8,2,    136.6,2,     4.00,2,    11.75,2,     0.87,2,    1.677,2,    0.910,2, -999.000,9,-999.0000,9,  -999.00,9,   2139.1,2,   2373.1,2,     8.15,2, 19.5160
 3230CITHER2_2,  A17N,   160,  1,     29,     29,2,19940302,0800, -4.4943, -30.1113, 4680,    199.7,  12.0310,  35.1570,2,  35.1540,2,    111.4,2,    110.4,2,    10.50,2,    24.47,2,     1.60,2,    0.959,2,    0.507,2, -999.000,9,-999.0000,9,  -999.00,9,   2185.7,2,   2326.1,2,     7.96,2, 12.0050
 3230CITHER2_2,  A17N,   160,  1,     28,     28,2,19940302,0800, -4.4943, -30.1113, 4680,    300.4,  10.0750,  34.9060,2,  34.9110,2,    128.1,2,    132.1,2,    12.60,2,    26.00,2,     1.71,2,    0.818,2,    0.445,2, -999.000,9,-999.0000,9,  -999.00,9,   2184.4,2,   2315.7,2,     7.93,2, 10.0400
 3230CITHER2_2,  A17N,   160,  1,     27,     27,2,19940302,0800, -4.4943, -30.1113, 4680,    400.8,   8.5020,  34.7710,2,  34.7640,2,     79.3,2,     78.3,2,    18.00,2,    35.28,2,     2.23,2,    0.171,2,    0.101,2, -999.000,9,-999.0000,9,  -999.00,9,   2230.7,2,   2310.0,2,     7.79,2,  8.4600
 3230CITHER2_2,  A17N,   160,  1,     26,     26,2,19940302,0800, -4.4943, -30.1113, 4680,    598.7,   5.9000,  34.5300,2,  34.5280,2,    126.3,2,    125.8,2,    25.40,2,    35.87,2,     2.36,2,    0.085,2,    0.049,2, -999.000,9,-999.0000,9,  -999.00,9,   2221.7,2,   2307.1,2,     7.82,2,  5.8480
 3230CITHER2_2,  A17N,   160,  1,     25,     25,2,19940302,0800, -4.4943, -30.1113, 4680,    800.0,   4.6660,  34.4850,2,  34.4850,2,    146.2,2,    146.9,2,    32.40,2,    35.82,2,     2.40,2,    0.031,2,    0.017,2, -999.000,9,-999.0000,9,  -999.00,9,   2223.9,2,   2311.5,2,     7.83,2,  4.6030
 3230CITHER2_2,  A17N,   160,  1,     24,     24,2,19940302,0800, -4.4943, -30.1113, 4680,    999.3,   4.1650,  34.5830,2,  34.5790,2,    162.3,2,    162.3,2,    34.80,2,    33.83,2,     2.28,2,    0.007,2,    0.003,2, -999.000,9,-999.0000,9,  -999.00,9,   2220.7,2,   2316.9,2,     7.85,2,  4.0880
 3230CITHER2_2,  A17N,   160,  1,     23,     23,2,19940302,0800, -4.4943, -30.1113, 4680,   1201.0,   4.3840,  34.8030,2,  34.8020,2,    183.2,2,    183.5,2,    27.30,2,    28.94,2,     1.93,2,    0.009,2,    0.004,2, -999.000,9,-999.0000,9,  -999.00,9,   2204.2,2,   2327.9,2,     7.91,2,  4.2870
 3230CITHER2_2,  A17N,   160,  1,     22,     22,2,19940302,0800, -4.4943, -30.1113, 4680,   1399.1,   4.4680,  34.9390,2,  34.9390,2,    214.7,2,    214.8,2,    20.70,2,    23.68,2,     1.57,2,    0.064,2,    0.035,2, -999.000,9,-999.0000,9,  -999.00,9,   2182.1,2,   2326.2,2,     7.97,2,  4.3520
 3230CITHER2_2,  A17N,   160,  1,     21,     21,2,19940302,0800, -4.4943, -30.1113, 4680,   1501.6,   4.2370,  34.9610,2,  34.9630,2,    226.1,2,    228.3,2,    19.40,2,    22.28,2,     1.47,2,    0.056,2,    0.042,2, -999.000,9,-999.0000,9,  -999.00,9,   2175.8,2,   2327.4,2,     7.99,2,  4.1140
 3230CITHER2_2,  A17N,   160,  1,     20,     20,2,19940302,0800, -4.4943, -30.1113, 4680,   1600.4,   4.1000,  34.9820,2,  34.9840,2,    238.5,2,    240.8,2,    18.10,2,    20.97,2,     1.37,2,    0.081,2,    0.050,2, -999.000,9,-999.0000,9,  -999.00,9,   2169.7,2,   2329.8,2,     8.01,2,  3.9690
 3230CITHER2_2,  A17N,   160,  1,     19,     19,2,19940302,0800, -4.4943, -30.1113, 4680,   1699.4,   3.9000,  34.9790,2,  34.9820,2,    246.1,2,    247.8,2,    18.60,2,    20.70,2,     1.34,2,    0.053,2,    0.032,2, -999.000,9,-999.0000,9,  -999.00,9,   2167.7,2,   2327.6,2,     8.01,2,  3.7630
 3230CITHER2_2,  A17N,   160,  1,     18,     18,2,19940302,0800, -4.4943, -30.1113, 4680,   1798.6,   3.7670,  34.9740,2,  34.9720,2,    247.9,2,    246.1,2,    20.00,2,    20.73,2,     1.41,2,    0.027,2,    0.019,2, -999.000,9,-999.0000,9,  -999.00,9,   2166.7,2,   2330.2,2,     8.01,2,  3.6220
 3230CITHER2_2,  A17N,   160,  1,     17,     17,2,19940302,0800, -4.4943, -30.1113, 4680,   2001.0,   3.5500,  34.9710,2,  34.9730,2,    253.0,2,    252.3,2,    20.80,2,    20.27,2,     1.37,2,    0.035,2,    0.022,2, -999.000,9,-999.0000,9,  -999.00,9,   2166.6,2,   2329.2,2,     8.01,2,  3.3890
 3230CITHER2_2,  A17N,   160,  1,     16,     16,2,19940302,0800, -4.4943, -30.1113, 4680,   2200.5,   3.3020,  34.9560,2,  34.9530,2,    250.9,2,    250.8,2,    24.90,2,    20.73,2,     1.35,2,    0.012,2,    0.008,2, -999.000,9,-999.0000,9,  -999.00,9,   2170.4,2,   2333.9,2,     8.01,2,  3.1260
 3230CITHER2_2,  A17N,   160,  1,     15,     15,2,19940302,0800, -4.4943, -30.1113, 4680,   2399.1,   3.0920,  34.9420,2,  34.9410,2,    248.0,2,    249.0,2,    29.20,2,    21.19,2,     1.39,2,    0.007,2,    0.008,2, -999.000,9,-999.0000,9,  -999.00,9,   2174.2,2,   2337.0,2,     8.01,2,  2.9000
 3230CITHER2_2,  A17N,   160,  1,     14,     14,2,19940302,0800, -4.4943, -30.1113, 4680,   2699.2,   2.8540,  34.9300,2,  34.9280,2,    250.2,2,    249.7,2,    32.70,2,    21.34,2,     1.40,2,    0.006,2,    0.006,2, -999.000,9,-999.0000,9,  -999.00,9,   2179.0,2,   2341.8,2,     8.01,2,  2.6370
 3230CITHER2_2,  A17N,   160,  1,     12,     12,2,19940302,0800, -4.4943, -30.1113, 4680,   2999.7,   2.7010,  34.9200,2,  34.9250,2,    249.1,2,    250.2,2,    35.10,2,    21.49,2,     1.41,2,    0.005,2,    0.006,2, -999.000,9,-999.0000,9,  -999.00,9,   2181.8,2,   2343.2,2,     8.01,2,  2.4570
 3230CITHER2_2,  A17N,   160,  1,     13,     13,2,19940302,0800, -4.4943, -30.1113, 4680,   2999.8,   2.7000,  34.9210,2,  34.9200,2,    249.1,2,    249.3,2,    35.30,2,    21.49,2,     1.41,2,    0.006,2,    0.005,2, -999.000,9,-999.0000,9,  -999.00,9,   -999.0,5,   2343.2,2,     8.01,2,  2.4560
 3230CITHER2_2,  A17N,   160,  1,     11,     11,2,19940302,0800, -4.4943, -30.1113, 4680,   3199.6,   2.6210,  34.9140,2,  34.9150,2,    249.8,2,    249.7,2,    36.80,2,    21.64,2,     1.42,2,    0.004,2,    0.005,2, -999.000,9,-999.0000,9,  -999.00,9,   2181.8,2,   2346.1,2,     8.01,2,  2.3580
 3230CITHER2_2,  A17N,   160,  1,     10,     10,2,19940302,0800, -4.4943, -30.1113, 4680,   3400.3,   2.5870,  34.9140,2,  34.9160,2,    252.5,2,    252.4,2,    35.90,2,    21.56,2,     1.40,2,    0.009,2,    0.006,2, -999.000,9,-999.0000,9,  -999.00,9,   2182.1,2,   2344.7,2,     8.01,2,  2.3030
 3230CITHER2_2,  A17N,   160,  1,      9,      9,2,19940302,0800, -4.4943, -30.1113, 4680,   3551.5,   2.5600,  34.9130,2,  34.9130,2,    254.9,2,    254.5,2,    35.10,2,    21.02,2,     1.38,2,    0.012,2,    0.007,2, -999.000,9,-999.0000,9,  -999.00,9,   2180.0,2,   2344.6,2,     8.01,2,  2.2600
 3230CITHER2_2,  A17N,   160,  1,      8,      8,2,19940302,0800, -4.4943, -30.1113, 4680,   3698.2,   2.5130,  34.9130,2,  34.9130,2,    259.7,2,    260.9,2,    32.40,2,    20.32,2,     1.33,2,    0.045,2,    0.030,2, -999.000,9,-999.0000,9,  -999.00,9,   2174.7,2,   2345.0,2,     8.02,2,  2.1980
 3230CITHER2_2,  A17N,   160,  1,      7,      7,2,19940302,0800, -4.4943, -30.1113, 4680,   3849.6,   2.2340,  34.8890,2,  34.8900,2,    259.0,2,    258.0,2,    40.60,2,    21.17,2,     1.40,2,    0.050,2,    0.026,2, -999.000,9,-999.0000,9,  -999.00,9,   2182.3,2,   2345.4,2,     8.01,2,  1.9100
 3230CITHER2_2,  A17N,   160,  1,      6,      6,2,19940302,0800, -4.4943, -30.1113, 4680,   3998.0,   1.9410,  34.8560,2,  34.8560,2,    253.3,2,    250.8,2,    54.70,2,    23.04,2,     1.54,2,    0.022,2,    0.018,2, -999.000,9,-999.0000,9,  -999.00,9,   2198.7,2,   2352.0,2,     7.99,2,  1.6090
 3230CITHER2_2,  A17N,   160,  1,      5,      5,2,19940302,0800, -4.4943, -30.1113, 4680,   4200.3,   1.4360,  34.7990,2,  34.7970,2,    238.7,2,    238.8,2,    80.30,2,    26.59,2,     1.80,2,    0.004,2,    0.008,2, -999.000,9,-999.0000,9,  -999.00,9,   2223.7,2,   2364.5,2,     7.96,2,  1.0960
 3230CITHER2_2,  A17N,   160,  1,      4,      4,2,19940302,0800, -4.4943, -30.1113, 4680,   4398.9,   1.1250,  34.7620,2,  34.7610,2,    231.0,2,    231.0,2,    96.20,2,    29.15,2,     1.97,2,    0.008,2,    0.007,2, -999.000,9,-999.0000,9,  -999.00,9,   2238.6,2,   2373.0,2,     7.93,2,  0.7730
 3230CITHER2_2,  A17N,   160,  1,      3,      3,2,19940302,0800, -4.4943, -30.1113, 4680,   4600.6,   0.9780,  34.7420,2,  34.7420,2,    227.1,2,    227.6,2,   103.20,2,    30.04,2,     2.04,2,    0.010,2,    0.007,2, -999.000,9,-999.0000,9,  -999.00,9,   2245.0,2,   2372.5,2,     7.92,2,  0.6080
 3230CITHER2_2,  A17N,   160,  1,      2,      2,2,19940302,0800, -4.4943, -30.1113, 4680,   4697.0,   0.8170,  34.7240,2,  34.7240,2,    224.5,2,    224.8,2,   110.20,2,    30.97,2,     2.11,2,    0.018,2,    0.015,2, -999.000,9,-999.0000,9,  -999.00,9,   2251.7,2,   2377.0,2,     7.91,2,  0.4410
 3230CITHER2_2,  A17N,   160,  1,      1,      1,2,19940302,0800, -4.4943, -30.1113, 4680,   4750.9,   0.6970,  34.7130,2,  34.7120,2,    222.4,2,    222.6,2,   114.80,2,    31.60,2,     2.17,2,    0.030,2,    0.015,2, -999.000,9,-999.0000,9,  -999.00,9,   2255.8,2,   2378.0,2,     7.90,2,  0.3190
 3230CITHER2_2,  A17N,   161,  1,     32,     32,2,19940302,1358, -3.9983, -30.0845, 4883,      8.0,  28.1790,  35.8690,2,  35.8630,2,    197.4,2,    198.9,2,     1.40,2,     0.04,2,     0.07,2,    1.643,2,    0.937,2, -999.000,9,-999.0000,9,  -999.00,9,   2005.1,2,   -999.0,9,     8.37,2, 28.1770
 3230CITHER2_2,  A17N,   161,  1,     31,     31,2,19940302,1358, -3.9983, -30.0845, 4883,     52.3,  27.6600,  36.0630,2,  36.0690,2,    203.1,2,    202.3,2,     1.40,2,     0.04,2,     0.07,2,    1.658,2,    0.952,2, -999.000,9,-999.0000,9,  -999.00,9,   2019.1,2,   -999.0,9,     8.37,2, 27.6480
 3230CITHER2_2,  A17N,   161,  1,     30,     30,2,19940302,1358, -3.9983, -30.0845, 4883,    131.2,  13.5750,  35.3490,2,  35.3540,2,    105.2,2,     99.1,2,     8.70,2,    22.76,2,     1.51,2,    1.135,2,    0.603,2, -999.000,9,-999.0000,9,  -999.00,9,   2186.4,2,   -999.0,9,     7.98,2, 13.5560
 3230CITHER2_2,  A17N,   161,  1,     29,     29,2,19940302,1358, -3.9983, -30.0845, 4883,    201.0,  12.3190,  35.2070,2,  35.1900,2,     88.3,2,     93.3,2,    10.40,2,    26.36,2,     1.68,2,    0.854,2,    0.461,2, -999.000,9,-999.0000,9,  -999.00,9,   2195.4,2,   -999.0,9,     7.94,2, 12.2920
 3230CITHER2_2,  A17N,   161,  1,     28,     28,2,19940302,1358, -3.9983, -30.0845, 4883,    401.3,   9.0890,  34.8210,2,  34.8130,2,    119.3,2,     96.3,2,    15.60,2,    31.28,2,     2.03,2,    0.390,2,    0.207,2, -999.000,9,-999.0000,9,  -999.00,9,   2212.5,2,   -999.0,9,     7.86,2,  9.0450
 3230CITHER2_2,  A17N,   161,  1,     27,     27,2,19940302,1358, -3.9983, -30.0845, 4883,    600.2,   5.8390,  34.5200,2,  34.5190,2,    139.8,2,    137.2,2,    24.90,2,    34.62,2,     2.30,2,    0.164,2,    0.090,2, -999.000,9,-999.0000,9,  -999.00,9,   2216.0,2,   -999.0,9,     7.84,2,  5.7870
 3230CITHER2_2,  A17N,   161,  1,     26,     26,2,19940302,1358, -3.9983, -30.0845, 4883,    800.1,   4.5450,  34.4770,2,  34.4740,2,    160.0,2,    157.0,2,    32.40,2,    34.71,2,     2.36,2,    0.055,2,    0.033,2, -999.000,9,-999.0000,9,  -999.00,9,   2216.6,2,   -999.0,9,     7.85,2,  4.4820
 3230CITHER2_2,  A17N,   161,  1,     25,     25,2,19940302,1358, -3.9983, -30.0845, 4883,   1000.4,   4.1130,  34.5670,2,  34.5660,2,    166.6,2,    168.6,2,    34.80,2,    33.18,2,     2.26,2,    0.070,2,    0.045,2, -999.000,9,-999.0000,9,  -999.00,9,   2189.9,2,   -999.0,9,     7.87,2,  4.0360
 3230CITHER2_2,  A17N,   161,  1,     24,     24,2,19940302,1358, -3.9983, -30.0845, 4883,   1202.1,   4.4400,  34.7900,2,  34.7910,2,    178.2,2,    181.9,2,    27.10,2,    28.70,2,     1.95,2,    0.014,2,    0.010,2, -999.000,9,-999.0000,9,  -999.00,9,   -999.0,9,   -999.0,9,     7.91,2,  4.3430
 3230CITHER2_2,  A17N,   161,  1,     23,     23,2,19940302,1358, -3.9983, -30.0845, 4883,   1398.8,   4.4610,  34.9340,2,  34.9360,2,    213.7,2,    213.6,2,    20.80,2,    23.66,2,     1.59,2,    0.065,2,    0.039,2, -999.000,9,-999.0000,9,  -999.00,9,   -999.0,9,   -999.0,9,     7.97,2,  4.3450
 3230CITHER2_2,  A17N,   161,  1,     22,     22,2,19940302,1358, -3.9983, -30.0845, 4883,   1501.6,   4.2370,  34.9600,2,  34.9580,2,    226.9,2,    227.2,2,    19.60,2,    22.23,2,     1.48,2,    0.046,2,    0.026,2, -999.000,9,-999.0000,9,  -999.00,9,   -999.0,9,   -999.0,9,     7.99,2,  4.1140
 3230CITHER2_2,  A17N,   161,  1,     21,     21,2,19940302,1358, -3.9983, -30.0845, 4883,   1599.8,   4.0350,  34.9820,2,  34.9800,2,    239.7,2,    242.3,2,    18.10,2,    20.65,2,     1.36,2,    0.065,2,    0.039,2, -999.000,9,-999.0000,9,  -999.00,9,   -999.0,9,   -999.0,9,     8.01,2,  3.9050
 3230CITHER2_2,  A17N,   161,  1,     20,     20,2,19940302,1358, -3.9983, -30.0845, 4883,   1699.8,   3.8880,  34.9810,2,  34.9830,2,    246.4,2,    247.8,2,    18.10,2,    20.19,2,     1.31,2,    0.076,2,    0.049,2, -999.000,9,-999.0000,9,  -999.00,9,   -999.0,9,   -999.0,9,     8.02,2,  3.7510
 3230CITHER2_2,  A17N,   161,  1,     19,     19,2,19940302,1358, -3.9983, -30.0845, 4883,   1799.7,   3.7760,  34.9840,2,  34.9840,2,    253.6,2,    252.8,2,    18.10,2,    19.80,2,     1.28,2,    0.095,2,    0.057,2, -999.000,9,-999.0000,9,  -999.00,9,   -999.0,9,   -999.0,9,     8.02,2,  3.6310
 3230CITHER2_2,  A17N,   161,  1,     18,     18,2,19940302,1358, -3.9983, -30.0845, 4883,   2000.5,   3.5540,  34.9750,2,  34.9740,2,    256.0,2,    254.6,2,    20.00,2,    19.80,2,     1.29,2,    0.058,2,    0.039,2, -999.000,9,-999.0000,9,  -999.00,9,   -999.0,9,   -999.0,9,     8.02,2,  3.3930
 3230CITHER2_2,  A17N,   161,  1,     17,     17,2,19940302,1358, -3.9983, -30.0845, 4883,   2198.0,   3.3640,  34.9620,2,  34.9680,2,    255.4,2,    254.6,2,    22.50,2,    20.03,2,     1.31,2,    0.034,2,    0.021,2, -999.000,9,-999.0000,9,  -999.00,9,   -999.0,9,   -999.0,9,     8.03,2,  3.1870
 3230CITHER2_2,  A17N,   161,  1,     16,     16,2,19940302,1358, -3.9983, -30.0845, 4883,   2399.2,   3.0970,  34.9420,2,  34.9400,2,    248.0,2,    247.0,2,    29.60,2,    21.26,2,     1.39,2,    0.006,2,    0.002,2, -999.000,9,-999.0000,9,  -999.00,9,   -999.0,9,   -999.0,9,     8.01,2,  2.9050
 3230CITHER2_2,  A17N,   161,  1,     15,     15,2,19940302,1358, -3.9983, -30.0845, 4883,   2697.4,   2.8960,  34.9280,2,  34.9290,2,    247.9,2,    248.8,2,    32.80,2,    21.41,2,     1.40,2,    0.019,2,    0.011,2, -999.000,9,-999.0000,9,  -999.00,9,   -999.0,9,   -999.0,9,     8.01,2,  2.6780
 3230CITHER2_2,  A17N,   161,  1,     14,     14,2,19940302,1358, -3.9983, -30.0845, 4883,   2996.7,   2.7150,  34.9230,2,  34.9220,2,    250.4,2,    250.7,2,    34.00,2,    21.25,2,     1.39,2,    0.007,2,    0.005,2, -999.000,9,-999.0000,9,  -999.00,9,   -999.0,9,   -999.0,9,     8.02,2,  2.4710
 3230CITHER2_2,  A17N,   161,  1,     13,     13,2,19940302,1358, -3.9983, -30.0845, 4883,   3201.9,   2.6350,  34.9180,2,  34.9170,2,    252.1,2,    252.3,2,    35.00,2,    21.21,2,     1.40,2,    0.006,2,    0.006,2, -999.000,9,-999.0000,9,  -999.00,9,   -999.0,9,   -999.0,9,     8.02,2,  2.3710
 3230CITHER2_2,  A17N,   161,  1,     12,     12,2,19940302,1358, -3.9983, -30.0845, 4883,   3399.1,   2.5930,  34.9170,2,  34.9150,2,    255.0,2,    255.7,2,    33.90,2,    20.79,2,     1.37,2,    0.007,2,    0.013,2, -999.000,9,-999.0000,9,  -999.00,9,   -999.0,9,   -999.0,9,     8.02,2,  2.3090
 3230CITHER2_2,  A17N,   161,  1,     10,     10,2,19940302,1358, -3.9983, -30.0845, 4883,   3546.0,   2.5630,  34.9150,2,  34.9170,2,    257.1,2,    256.9,2,    33.50,2,    20.59,2,     1.35,2,    0.017,2,    0.004,2, -999.000,9,-999.0000,9,  -999.00,9,   -999.0,9,   -999.0,9,     8.02,2,  2.2640
 3230CITHER2_2,  A17N,   161,  1,     11,     11,2,19940302,1358, -3.9983, -30.0845, 4883,   3546.6,   2.5630,  34.9160,2,  34.9130,2,    257.2,2,    256.8,2,    33.40,2,    20.63,2,     1.36,2,    0.015,2,    0.010,2, -999.000,9,-999.0000,9,  -999.00,9,   -999.0,9,   -999.0,9,     8.02,2,  2.2640
 3230CITHER2_2,  A17N,   161,  1,      9,      9,2,19940302,1358, -3.9983, -30.0845, 4883,   3698.5,   2.5100,  34.9120,2,  34.9120,2,    259.7,2,    259.9,2,    32.60,2,    20.24,2,     1.34,2,    0.036,2,    0.024,2, -999.000,9,-999.0000,9,  -999.00,9,   -999.0,9,   -999.0,9,     8.02,2,  2.1960
 3230CITHER2_2,  A17N,   161,  1,      8,      8,2,19940302,1358, -3.9983, -30.0845, 4883,   3850.3,   2.4140,  34.9070,2,  34.9100,2,    261.5,2,    261.0,2,    34.00,2,    20.24,2,     1.34,2,    0.052,2,    0.033,2, -999.000,9,-999.0000,9,  -999.00,9,   -999.0,9,   -999.0,9,     8.02,2,  2.0850
 3230CITHER2_2,  A17N,   161,  1,      7,      7,2,19940302,1358, -3.9983, -30.0845, 4883,   3998.6,   2.1210,  34.8740,2,  34.8720,2,    255.6,2,    253.6,2,    47.80,2,    22.16,2,     1.49,2,    0.016,2,    0.011,2, -999.000,9,-999.0000,9,  -999.00,9,   -999.0,9,   -999.0,9,     8.01,2,  1.7840
 3230CITHER2_2,  A17N,   161,  1,      6,      6,2,19940302,1358, -3.9983, -30.0845, 4883,   4198.2,   1.6200,  34.8160,2,  34.8160,2,    242.4,2,    241.9,2,    72.20,2,    25.38,2,     1.74,2,    0.004,2,    0.003,2, -999.000,9,-999.0000,9,  -999.00,9,   -999.0,9,   -999.0,9,     7.97,2,  1.2750
 3230CITHER2_2,  A17N,   161,  1,      5,      5,2,19940302,1358, -3.9983, -30.0845, 4883,   4399.0,   1.1550,  34.7660,2,  34.7640,2,    231.9,2,    232.4,2,    93.20,2,    28.32,2,     1.94,2,    0.006,2,    0.009,2, -999.000,9,-999.0000,9,  -999.00,9,   -999.0,9,   -999.0,9,     7.94,2,  0.8020
 3230CITHER2_2,  A17N,   161,  1,      4,      4,2,19940302,1358, -3.9983, -30.0845, 4883,   4599.8,   0.9240,  34.7380,2,  34.7380,2,    227.0,2,    227.3,2,   104.70,2,    30.04,2,     2.06,2,    0.007,2,    0.006,2, -999.000,9,-999.0000,9,  -999.00,9,   -999.0,9,   -999.0,9,     7.93,2,  0.5550
 3230CITHER2_2,  A17N,   161,  1,      3,      3,2,19940302,1358, -3.9983, -30.0845, 4883,   4799.9,   0.7320,  34.7140,2,  34.7180,2,    223.5,2,    223.7,2,   113.10,2,    31.26,2,     2.15,2,    0.027,2,    0.017,2, -999.000,9,-999.0000,9,  -999.00,9,   -999.0,9,   -999.0,9,     7.91,2,  0.3470
 3230CITHER2_2,  A17N,   161,  1,      2,      2,2,19940302,1358, -3.9983, -30.0845, 4883,   4895.9,   0.7270,  34.7110,2,  34.7150,2,    222.9,2,    223.5,2,   113.60,2,    31.45,2,     2.16,2,    0.028,2,    0.015,2, -999.000,9,-999.0000,9,  -999.00,9,   -999.0,9,   -999.0,9,     7.91,2,  0.3310
 3230CITHER2_2,  A17N,   161,  1,      1,      1,2,19940302,1358, -3.9983, -30.0845, 4883,   4955.6,   0.7290,  34.7120,2,  34.7160,2,    222.8,2,    223.2,2,   113.50,2,    31.45,2,     2.16,2,    0.027,2,    0.017,2, -999.000,9,-999.0000,9,  -999.00,9,   -999.0,9,   -999.0,9,     7.91,2,  0.3260