BOTTLE,20030515WHPSIOSA
EXPOCODE,SECT_ID,STNNBR,CASTNO,SAMPNO,BTLNBR,BTLNBR_FLAG_W,DATE,TIME,LATITUDE,LONGITUDE,DEPTH,CTDPRS,CTDTMP,CTDSAL,CTDSAL_FLAG_W,SALNTY,SALNTY_FLAG_W,CTDOXY,CTDOXY_FLAG_W,OXYGEN,OXYGEN_FLAG_W,SILCAT,SILCAT_FLAG_W,NITRAT,NITRAT_FLAG_W,PHSPHT,PHSPHT_FLAG_W,CFC-11,CFC-11_FLAG_W,CFC-12,CFC-12_FLAG_W,TRITUM,TRITUM_FLAG_W,HELIUM,HELIUM_FLAG_W,DELHE3,DELHE3_FLAG_W,TCARBN,TCARBN_FLAG_W,ALKALI,ALKALI_FLAG_W,PH,PH_FLAG_W,THETA
,,,,,,,,,,,,DBAR,ITS-90,PSS-78,,PSS-78,,UMOL/KG,,UMOL/KG,,UMOL/KG,,UMOL/KG,,UMOL/KG,,PMOL/KG,,PMOL/KG,,TU,,NMOL/KG,,PERCNT,,UMOL/KG,,UMOL/KG,,,,DEG C
 3230CITHER2_1,  A17C,    32,  1,     32,     32,2,19940118,1413,-39.7567, -47.4573, 5269,      7.0,  16.6410,  34.5800,2,  34.5810,2,    237.4,2,    253.0,2,     0.80,2,     0.04,2,     0.19,2,    2.966,2,    1.643,2, -999.000,9,-999.0000,9,  -999.00,9,   -999.0,9,   -999.0,9,     8.33,2, 16.6400
 3230CITHER2_1,  A17C,    32,  1,     31,     31,2,19940118,1413,-39.7567, -47.4573, 5269,     29.5,  16.4200,  34.7530,2,  34.7530,2,    253.8,2,    249.4,2,     0.60,2,     0.04,2,     0.20,2,    2.982,2,    1.648,2, -999.000,9,-999.0000,9,  -999.00,9,   -999.0,9,   -999.0,9,     8.30,2, 16.4150
 3230CITHER2_1,  A17C,    32,  1,     30,     30,2,19940118,1413,-39.7567, -47.4573, 5269,    100.8,  11.7920,  34.8200,2,  34.8330,2,    236.3,2,    243.3,2,     2.60,2,    11.02,2,     0.83,2,    3.610,2,    1.918,2, -999.000,9,-999.0000,9,  -999.00,9,   -999.0,9,   -999.0,9,     8.16,2, 11.7790
 3230CITHER2_1,  A17C,    32,  1,     29,     29,2,19940118,1413,-39.7567, -47.4573, 5269,    150.6,  10.8030,  34.8810,2,  34.8770,2,    242.6,2,    237.8,2,     4.00,2,    13.74,2,     0.98,2,    3.375,2,    1.789,2, -999.000,9,-999.0000,9,  -999.00,9,   -999.0,9,   -999.0,9,     8.12,2, 10.7850
 3230CITHER2_1,  A17C,    32,  1,     28,     28,2,19940118,1413,-39.7567, -47.4573, 5269,    201.4,   9.1660,  34.6440,2,  34.6410,2,    247.7,2,    247.5,2,     4.80,2,    16.41,2,     1.16,2,    3.626,2,    1.889,2, -999.000,9,-999.0000,9,  -999.00,9,   -999.0,9,   -999.0,9,     8.08,2,  9.1440
 3230CITHER2_1,  A17C,    32,  1,     27,     27,2,19940118,1413,-39.7567, -47.4573, 5269,    300.8,   6.5610,  34.3260,2,  34.3270,2,    251.0,2,    252.6,2,     7.80,2,    22.23,2,     1.53,2,    3.773,2,    1.942,2, -999.000,9,-999.0000,9,  -999.00,9,   -999.0,9,   -999.0,9,     8.01,2,  6.5340
 3230CITHER2_1,  A17C,    32,  1,     26,     26,2,19940118,1413,-39.7567, -47.4573, 5269,    451.5,   5.0810,  34.2110,2,  34.2070,2,    278.8,2,    274.5,2,    10.20,2,    23.94,2,     1.66,2,    4.264,2,    2.165,2, -999.000,9,-999.0000,9,  -999.00,9,   -999.0,9,   -999.0,9,     8.00,2,  5.0450
 3230CITHER2_1,  A17C,    32,  1,     25,     25,2,19940118,1413,-39.7567, -47.4573, 5269,    601.5,   4.5300,  34.2100,2,  34.2080,2,    269.1,2,    267.3,2,    14.30,2,    26.36,2,     1.79,2,    3.786,2,    1.921,2, -999.000,9,-999.0000,9,  -999.00,9,   -999.0,9,   -999.0,9,     7.98,2,  4.4840
 3230CITHER2_1,  A17C,    32,  1,     24,     24,2,19940118,1413,-39.7567, -47.4573, 5269,    800.1,   3.6540,  34.2220,2,  34.2210,2,    248.7,2,    248.7,2,    25.40,2,    30.09,2,     2.03,2,    2.790,2,    1.456,2, -999.000,9,-999.0000,9,  -999.00,9,   -999.0,9,   -999.0,9,     7.93,2,  3.5970
 3230CITHER2_1,  A17C,    32,  1,     23,     23,2,19940118,1413,-39.7567, -47.4573, 5269,   1000.4,   2.9280,  34.2550,2,  34.2500,2,    235.9,2,    236.3,2,    35.80,2,    32.30,2,     2.17,2,    2.299,2,    1.189,2, -999.000,9,-999.0000,9,  -999.00,9,   -999.0,9,   -999.0,9,     7.90,2,  2.8610
 3230CITHER2_1,  A17C,    32,  1,     22,     22,2,19940118,1413,-39.7567, -47.4573, 5269,   1200.6,   3.0820,  34.4340,2,  34.4300,2,    197.2,2,    196.2,2,    49.30,2,    33.71,2,     2.27,2,    0.440,2,    0.256,2, -999.000,9,-999.0000,9,  -999.00,9,   -999.0,9,   -999.0,9,     7.87,2,  2.9980
 3230CITHER2_1,  A17C,    32,  1,     21,     21,2,19940118,1413,-39.7567, -47.4573, 5269,   1400.2,   2.8290,  34.5120,2,  34.5130,2,    187.6,2,    187.5,2,    59.10,2,    34.11,2,     2.30,2,    0.392,2,    0.217,2, -999.000,9,-999.0000,9,  -999.00,9,   -999.0,9,   -999.0,9,     7.85,2,  2.7310
 3230CITHER2_1,  A17C,    32,  1,     20,     20,2,19940118,1413,-39.7567, -47.4573, 5269,   1600.8,   2.8870,  34.6230,2,  34.6210,2,    182.3,2,    185.2,2,    60.90,2,    32.60,2,     2.19,2,    0.194,2,    0.116,2, -999.000,9,-999.0000,9,  -999.00,9,   -999.0,9,   -999.0,9,     7.86,2,  2.7720
 3230CITHER2_1,  A17C,    32,  1,     19,     19,2,19940118,1413,-39.7567, -47.4573, 5269,   1800.4,   3.2100,  34.7650,2,  34.7600,2,    199.4,2,    201.4,2,    49.60,2,    29.06,2,     1.93,2,    0.066,2,    0.055,2, -999.000,9,-999.0000,9,  -999.00,9,   -999.0,9,   -999.0,9,     7.91,2,  3.0730
 3230CITHER2_1,  A17C,    32,  1,     18,     18,2,19940118,1413,-39.7567, -47.4573, 5269,   1999.5,   3.5410,  34.8880,2,  34.8860,2,    228.1,2,    226.3,2,    33.00,2,    24.02,2,     1.60,2,    0.029,2,    0.033,2, -999.000,9,-999.0000,9,  -999.00,9,   -999.0,9,   -999.0,9,     7.96,2,  3.3810
 3230CITHER2_1,  A17C,    32,  1,     16,     16,2,19940118,1413,-39.7567, -47.4573, 5269,   2199.4,   3.4280,  34.9040,2,  34.8970,2,    234.1,2,    232.0,2,    33.80,2,    23.38,2,     1.55,2,    0.033,2,    0.037,2, -999.000,9,-999.0000,9,  -999.00,9,   -999.0,9,   -999.0,9,     7.97,2,  3.2500
 3230CITHER2_1,  A17C,    32,  1,     17,     17,2,19940118,1413,-39.7567, -47.4573, 5269,   2199.8,   3.4090,  34.8970,2,  34.9010,2,    234.0,2,    232.4,2,    33.50,2,    23.30,2,     1.56,2,    0.035,2,    0.031,2, -999.000,9,-999.0000,9,  -999.00,9,   -999.0,9,   -999.0,9,     7.97,2,  3.2310
 3230CITHER2_1,  A17C,    32,  1,     15,     15,2,19940118,1413,-39.7567, -47.4573, 5269,   2398.6,   3.2250,  34.9080,2,  34.9100,2,    237.6,2,    237.6,2,    35.00,2,    22.83,2,     1.51,2,    0.033,2,    0.029,2, -999.000,9,-999.0000,9,  -999.00,9,   -999.0,9,   -999.0,9,     7.99,2,  3.0310
 3230CITHER2_1,  A17C,    32,  1,     14,     14,2,19940118,1413,-39.7567, -47.4573, 5269,   2599.1,   2.7370,  34.8530,2,  34.8490,2,    220.7,2,    222.4,2,    53.90,2,    25.67,2,     1.72,2,    0.035,2,    0.026,2, -999.000,9,-999.0000,9,  -999.00,9,   -999.0,9,   -999.0,9,     7.95,2,  2.5330
 3230CITHER2_1,  A17C,    32,  1,     13,     13,2,19940118,1413,-39.7567, -47.4573, 5269,   2798.5,   2.4590,  34.8330,2,  34.8300,2,    221.3,2,    219.8,2,    62.10,2,    26.63,2,     1.77,2,    0.032,2,    0.034,2, -999.000,9,-999.0000,9,  -999.00,9,   -999.0,9,   -999.0,9,     7.94,2,  2.2410
 3230CITHER2_1,  A17C,    32,  1,     12,     12,2,19940118,1413,-39.7567, -47.4573, 5269,   2999.5,   2.1230,  34.8020,2,  34.8010,2,    218.4,2,    213.8,2,    77.30,2,    28.34,2,     1.89,2,    0.037,2,    0.024,2, -999.000,9,-999.0000,9,  -999.00,9,   -999.0,9,   -999.0,9,     7.92,2,  1.8920
 3230CITHER2_1,  A17C,    32,  1,     11,     11,2,19940118,1413,-39.7567, -47.4573, 5269,   3299.2,   1.6390,  34.7590,2,  34.7580,2,    208.9,2,    207.5,2,    99.10,2,    30.65,2,     2.05,2,    0.055,2,    0.044,2, -999.000,9,-999.0000,9,  -999.00,9,   -999.0,9,   -999.0,9,     7.90,2,  1.3890
 3230CITHER2_1,  A17C,    32,  1,     10,     10,2,19940118,1413,-39.7567, -47.4573, 5269,   3599.1,   1.2250,  34.7270,2,  34.7260,2,    206.0,2,    206.5,2,   116.10,2,    32.46,2,     2.17,2,    0.096,2,    0.074,2, -999.000,9,-999.0000,9,  -999.00,9,   -999.0,9,   -999.0,9,     7.88,2,  0.9560
 3230CITHER2_1,  A17C,    32,  1,      9,      9,2,19940118,1413,-39.7567, -47.4573, 5269,   3798.8,   1.0230,  34.7150,2,  34.7130,2,    209.2,2,    206.7,2,   119.10,2,    32.66,2,     2.20,2,    0.107,2,    0.076,2, -999.000,9,-999.0000,9,  -999.00,9,   -999.0,9,   -999.0,9,     7.88,2,  0.7380
 3230CITHER2_1,  A17C,    32,  1,      8,      8,2,19940118,1413,-39.7567, -47.4573, 5269,   3998.6,   0.7510,  34.7000,2,  34.6990,2,    212.5,2,    212.3,2,   120.50,2,    32.86,2,     2.23,2,    0.134,2,    0.073,2, -999.000,9,-999.0000,9,  -999.00,9,   -999.0,9,   -999.0,9,     7.88,2,  0.4530
 3230CITHER2_1,  A17C,    32,  1,      7,      7,2,19940118,1413,-39.7567, -47.4573, 5269,   4201.3,   0.5680,  34.6900,2,  34.6890,2,    215.7,2,    215.6,2,   126.40,2,    33.46,2,     2.26,2,    0.136,2,    0.082,2, -999.000,9,-999.0000,9,  -999.00,9,   -999.0,9,   -999.0,9,     7.88,2,  0.2540
 3230CITHER2_1,  A17C,    32,  1,      6,      6,2,19940118,1413,-39.7567, -47.4573, 5269,   4397.9,   0.3960,  34.6820,2,  34.6790,2,    219.3,2,    219.1,2,   129.80,2,    33.25,2,     2.28,2,    0.127,2,    0.079,2, -999.000,9,-999.0000,9,  -999.00,9,   -999.0,9,   -999.0,9,     7.87,2,  0.0670
 3230CITHER2_1,  A17C,    32,  1,      5,      5,2,19940118,1413,-39.7567, -47.4573, 5269,   4598.9,   0.3240,  34.6780,2,  34.6780,2,    221.5,2,    220.9,2,   130.70,2,    33.35,2,     2.28,2,    0.130,2,    0.082,2, -999.000,9,-999.0000,9,  -999.00,9,   -999.0,9,   -999.0,9,     7.87,2, -0.0250
 3230CITHER2_1,  A17C,    32,  1,      4,      4,2,19940118,1413,-39.7567, -47.4573, 5269,   4798.0,   0.2740,  34.6750,2,  34.6750,2,    223.4,2,    222.4,2,   131.30,2,    33.09,2,     2.29,2,    0.141,2,    0.084,2, -999.000,9,-999.0000,9,  -999.00,9,   -999.0,9,   -999.0,9,     7.87,2, -0.0950
 3230CITHER2_1,  A17C,    32,  1,      3,      3,2,19940118,1413,-39.7567, -47.4573, 5269,   4997.7,   0.2550,  34.6740,2,  34.6720,2,    224.6,2,    223.3,2,   131.90,2,    33.59,2,     2.30,2,    0.150,2,    0.097,2, -999.000,9,-999.0000,9,  -999.00,9,   -999.0,9,   -999.0,9,     7.87,2, -0.1360
 3230CITHER2_1,  A17C,    32,  1,      2,      2,2,19940118,1413,-39.7567, -47.4573, 5269,   5198.5,   0.2470,  34.6700,2,  34.6710,2,    225.2,2,    223.1,2,   132.50,2,    33.84,2,     2.31,2,    0.169,2,    0.107,2, -999.000,9,-999.0000,9,  -999.00,9,   -999.0,9,   -999.0,9,     7.87,2, -0.1670
 3230CITHER2_1,  A17C,    32,  1,      1,      1,2,19940118,1413,-39.7567, -47.4573, 5269,   5348.1,   0.2520,  34.6710,2,  34.6720,2,    224.8,2,    224.5,2,   133.10,2,    33.74,2,     2.31,2,    0.193,2,    0.106,2, -999.000,9,-999.0000,9,  -999.00,9,   -999.0,9,   -999.0,9,     7.87,2, -0.1800
 3230CITHER2_1,  A17C,    33,  1,     32,     32,2,19940118,2050,-39.3428, -47.1147, 5238,      7.7,  19.8550,  35.2760,2,  35.2740,2,    227.6,2,    228.6,2,     2.00,2,     0.04,2,     0.16,2,    2.442,2,    1.378,2, -999.000,9,-999.0000,9,  -999.00,9,   2023.2,2,   2348.9,2,     8.33,2, 19.8540
 3230CITHER2_1,  A17C,    33,  1,     31,     31,2,19940118,2050,-39.3428, -47.1147, 5238,     30.7,  19.5730,  35.6450,2,  35.6540,2,    228.2,2,    229.6,2,     1.70,2,     0.04,2,     0.12,2,    2.469,2,    1.396,2, -999.000,9,-999.0000,9,  -999.00,9,   2037.7,2,   2363.1,2,     8.32,2, 19.5670
 3230CITHER2_1,  A17C,    33,  1,     30,     30,2,19940118,2050,-39.3428, -47.1147, 5238,     99.0,  16.1750,  35.7590,2,  35.7570,2,    207.5,2,    208.7,2,     2.30,2,     5.11,2,     0.44,2,    2.599,2,    1.414,2, -999.000,9,-999.0000,9,  -999.00,9,   2088.6,2,   2362.8,2,     8.23,2, 16.1590
 3230CITHER2_1,  A17C,    33,  1,     29,     29,2,19940118,2050,-39.3428, -47.1147, 5238,    150.4,  14.8640,  35.5720,2,  35.5740,2,    209.1,2,    218.6,2,     2.50,2,     6.69,2,     0.54,2,    2.779,2,    1.496,2, -999.000,9,-999.0000,9,  -999.00,9,   2093.0,2,   2353.6,2,     8.21,2, 14.8410
 3230CITHER2_1,  A17C,    33,  1,     28,     28,2,19940118,2050,-39.3428, -47.1147, 5238,    200.6,  14.1830,  35.5150,2,  35.5060,2,    219.6,2,    224.8,2,     2.60,2,     7.56,2,     0.59,2,    2.863,2,    1.546,2, -999.000,9,-999.0000,9,  -999.00,9,   2095.8,2,   2350.0,2,     8.20,2, 14.1540
 3230CITHER2_1,  A17C,    33,  1,     27,     27,2,19940118,2050,-39.3428, -47.1147, 5238,    301.0,  10.7950,  34.8850,2,  34.8770,2,    238.2,2,    230.8,2,     4.10,2,    14.49,2,     1.01,2,    3.152,2,    1.646,2, -999.000,9,-999.0000,9,  -999.00,9,   2111.6,2,   2317.3,2,     8.12,2, 10.7580
 3230CITHER2_1,  A17C,    33,  1,     26,     26,2,19940118,2050,-39.3428, -47.1147, 5238,    401.2,   7.1160,  34.3930,2,  34.3800,2,    241.2,2,    248.1,2,     7.20,2,    21.42,2,     1.47,2,    3.646,2,    1.854,2, -999.000,9,-999.0000,9,  -999.00,9,   2130.1,2,   2296.8,2,     8.03,2,  7.0780
 3230CITHER2_1,  A17C,    33,  1,     25,     25,2,19940118,2050,-39.3428, -47.1147, 5238,    600.0,   4.7590,  34.1990,2,  34.2020,2,    276.6,2,    275.0,2,    11.30,2,    24.86,2,     1.69,2,    4.141,2,    2.062,2, -999.000,9,-999.0000,9,  -999.00,9,   2139.6,2,   2293.7,2,     8.00,2,  4.7120
 3230CITHER2_1,  A17C,    33,  1,     24,     24,2,19940118,2050,-39.3428, -47.1147, 5238,    800.4,   4.1060,  34.2140,2,  34.2110,2,    258.2,2,    257.4,2,    19.00,2,    28.35,2,     1.90,2,    3.225,2,    1.630,2, -999.000,9,-999.0000,9,  -999.00,9,   -999.0,5,   2299.4,2,     7.96,2,  4.0460
 3230CITHER2_1,  A17C,    33,  1,     23,     23,2,19940118,2050,-39.3428, -47.1147, 5238,   1000.4,   3.2290,  34.2450,2,  34.2550,2,    243.1,2,    239.0,2,    31.30,2,    31.55,2,     2.10,2,    2.299,2,    1.162,2, -999.000,9,-999.0000,9,  -999.00,9,   2185.1,2,   2308.5,2,     7.91,2,  3.1600
 3230CITHER2_1,  A17C,    33,  1,     22,     22,2,19940118,2050,-39.3428, -47.1147, 5238,   1200.8,   2.9350,  34.3440,2,  34.3420,2,    213.9,2,    212.3,2,    44.80,2,    33.34,2,     2.23,2,    1.249,2,    0.666,2, -999.000,9,-999.0000,9,  -999.00,9,   2209.8,2,   2322.0,2,     7.88,2,  2.8530
 3230CITHER2_1,  A17C,    33,  1,     21,     21,2,19940118,2050,-39.3428, -47.1147, 5238,   1398.9,   2.8040,  34.4540,2,  34.4560,2,    192.8,2,    191.4,2,    56.90,2,    34.14,2,     2.29,2,    0.607,2,    0.327,2, -999.000,9,-999.0000,9,  -999.00,9,   2228.4,2,   2333.2,2,     7.86,2,  2.7070
 3230CITHER2_1,  A17C,    33,  1,     20,     20,2,19940118,2050,-39.3428, -47.1147, 5238,   1599.2,   2.7930,  34.5690,2,  34.5650,2,    184.1,2,    183.2,2,    62.30,2,    33.43,2,     2.25,2,    0.304,2,    0.172,2, -999.000,9,-999.0000,9,  -999.00,9,   -999.0,5,   2343.5,2,     7.86,2,  2.6790
 3230CITHER2_1,  A17C,    33,  1,     19,     19,2,19940118,2050,-39.3428, -47.1147, 5238,   1800.3,   2.8750,  34.6690,2,  34.6670,2,    185.0,2,    186.5,2,    61.40,2,    31.78,2,     2.12,2,    0.152,2,    0.094,2, -999.000,9,-999.0000,9,  -999.00,9,   2234.2,2,   2345.4,2,     7.87,2,  2.7430
 3230CITHER2_1,  A17C,    33,  1,     18,     18,2,19940118,2050,-39.3428, -47.1147, 5238,   2000.4,   3.0040,  34.7590,2,  34.7600,2,    193.8,2,    198.9,2,  -999.00,5,    29.52,2,     1.94,2,    0.078,2,    0.057,2, -999.000,9,-999.0000,9,  -999.00,9,   2221.1,2,   2346.9,2,     7.90,2,  2.8530
 3230CITHER2_1,  A17C,    33,  1,     17,     17,2,19940118,2050,-39.3428, -47.1147, 5238,   2000.5,   3.0050,  34.7580,2,  34.7580,2,    193.7,2,    198.4,2,    55.40,2,    29.33,2,     1.94,2,    0.078,2,    0.048,2, -999.000,9,-999.0000,9,  -999.00,9,   2221.9,2,   2346.9,2,     7.90,2,  2.8520
 3230CITHER2_1,  A17C,    33,  1,     16,     16,2,19940118,2050,-39.3428, -47.1147, 5238,   2198.7,   2.8150,  34.7800,2,  34.7790,2,    203.7,2,    201.5,2,    62.30,2,    29.12,2,     1.91,2,    0.066,2,    0.051,2, -999.000,9,-999.0000,9,  -999.00,9,   2223.9,2,   2350.3,2,     7.91,2,  2.6480
 3230CITHER2_1,  A17C,    33,  1,     15,     15,2,19940118,2050,-39.3428, -47.1147, 5238,   2399.1,   2.8040,  34.8230,2,  34.8220,2,    213.0,2,    212.3,2,    57.80,2,    27.37,2,     1.79,2,    0.044,2,    0.038,2, -999.000,9,-999.0000,9,  -999.00,9,   2214.6,2,   2349.9,2,     7.93,2,  2.6180
 3230CITHER2_1,  A17C,    33,  1,     14,     14,2,19940118,2050,-39.3428, -47.1147, 5238,   2598.1,   3.0630,  34.9140,2,  34.9160,2,    243.8,2,    242.6,2,    35.60,2,    22.50,2,     1.46,2,    0.024,2,    0.026,2, -999.000,9,-999.0000,9,  -999.00,9,   2182.3,2,   2340.2,2,     7.99,2,  2.8520
 3230CITHER2_1,  A17C,    33,  1,     13,     13,2,19940118,2050,-39.3428, -47.1147, 5238,   2799.0,   2.9200,  34.9160,2,  34.9110,2,    227.1,2,   -999.0,5,    38.40,2,    22.45,2,     1.47,2,    0.018,2,    0.022,2, -999.000,9,-999.0000,9,  -999.00,9,   2182.5,2,   2340.2,2,     7.99,2,  2.6920
 3230CITHER2_1,  A17C,    33,  1,     12,     12,2,19940118,2050,-39.3428, -47.1147, 5238,   2999.6,   2.2510,  34.8180,2,  34.8220,2,    222.2,2,    218.5,2,    70.30,2,    27.26,2,     1.79,2,    0.030,2,    0.034,2, -999.000,9,-999.0000,9,  -999.00,9,   2220.1,2,   2356.7,2,     7.94,2,  2.0170
 3230CITHER2_1,  A17C,    33,  1,     11,     11,2,19940118,2050,-39.3428, -47.1147, 5238,   3299.7,   1.6940,  34.7640,2,  34.7660,2,    206.3,2,    207.5,2,    96.60,2,    30.30,2,     2.02,2,    0.054,2,    0.037,2, -999.000,9,-999.0000,9,  -999.00,9,   2242.9,2,   2366.1,2,     7.91,2,  1.4430
 3230CITHER2_1,  A17C,    33,  1,     10,     10,2,19940118,2050,-39.3428, -47.1147, 5238,   3599.9,   1.2790,  34.7330,2,  34.7360,2,    208.1,2,    206.9,2,   110.70,2,    31.89,2,     2.11,2,    0.084,2,    0.059,2, -999.000,9,-999.0000,9,  -999.00,9,   2252.0,2,   2370.8,2,     7.89,2,  1.0080
 3230CITHER2_1,  A17C,    33,  1,      9,      9,2,19940118,2050,-39.3428, -47.1147, 5238,   3799.1,   1.0170,  34.7170,2,  34.7160,2,    208.9,2,    208.8,2,   118.10,2,    32.28,2,     2.16,2,    0.112,2,    0.062,2, -999.000,9,-999.0000,9,  -999.00,9,   2255.5,2,   2373.3,2,     7.88,2,  0.7330
 3230CITHER2_1,  A17C,    33,  1,      8,      8,2,19940118,2050,-39.3428, -47.1147, 5238,   3999.3,   0.7730,  34.7010,2,  34.7000,2,    212.0,2,    211.9,2,   122.90,2,    32.68,2,     2.20,2,    0.135,2,    0.077,2, -999.000,9,-999.0000,9,  -999.00,9,   2258.2,2,   2375.2,2,     7.88,2,  0.4750
 3230CITHER2_1,  A17C,    33,  1,      7,      7,2,19940118,2050,-39.3428, -47.1147, 5238,   4197.5,   0.5570,  34.6900,2,  34.6890,2,    215.7,2,    215.6,2,   125.90,2,    32.72,2,     2.21,2,    0.153,2,    0.092,2, -999.000,9,-999.0000,9,  -999.00,9,   2259.3,2,   2374.8,2,     7.88,2,  0.2440
 3230CITHER2_1,  A17C,    33,  1,      6,      6,2,19940118,2050,-39.3428, -47.1147, 5238,   4398.2,   0.4020,  34.6810,2,  34.6830,2,    218.9,2,    218.9,2,   129.90,2,    33.12,2,     2.24,2,    0.129,2,    0.078,2, -999.000,9,-999.0000,9,  -999.00,9,   2261.3,2,   2375.9,2,     7.87,2,  0.0720
 3230CITHER2_1,  A17C,    33,  1,      5,      5,2,19940118,2050,-39.3428, -47.1147, 5238,   4598.5,   0.3050,  34.6770,2,  34.6780,2,    221.7,2,    221.1,2,   131.70,2,    33.26,2,     2.25,2,    0.122,2,    0.077,2, -999.000,9,-999.0000,9,  -999.00,9,   2260.8,2,   2375.3,2,     7.87,2, -0.0430
 3230CITHER2_1,  A17C,    33,  1,      4,      4,2,19940118,2050,-39.3428, -47.1147, 5238,   4798.7,   0.2590,  34.6740,2,  34.6750,2,    223.7,2,    222.3,2,   132.80,2,    33.36,2,     2.25,2,    0.135,2,    0.085,2, -999.000,9,-999.0000,9,  -999.00,9,   2262.7,2,   2377.0,2,     7.87,2, -0.1100
 3230CITHER2_1,  A17C,    33,  1,      3,      3,2,19940118,2050,-39.3428, -47.1147, 5238,   4997.0,   0.2410,  34.6730,2,  34.6770,2,    224.9,2,    223.1,2,   133.20,2,    33.40,2,     2.26,2,    0.146,2,    0.102,2, -999.000,9,-999.0000,9,  -999.00,9,   2263.2,2,   2377.5,2,     7.87,2, -0.1500
 3230CITHER2_1,  A17C,    33,  1,      2,      2,2,19940118,2050,-39.3428, -47.1147, 5238,   5197.2,   0.2310,  34.6720,2,  34.6760,2,    225.7,2,    223.8,2,   133.80,2,    33.45,2,     2.27,2,    0.186,2,    0.115,2, -999.000,9,-999.0000,9,  -999.00,9,   2263.5,2,   2377.0,2,     7.87,2, -0.1830
 3230CITHER2_1,  A17C,    33,  1,      1,      1,2,19940118,2050,-39.3428, -47.1147, 5238,   5317.7,   0.2190,  34.6700,2,  34.6730,2,    226.2,2,    223.7,2,   134.70,2,    33.69,2,     2.27,2,    0.224,2,    0.130,2, -999.000,9,-999.0000,9,  -999.00,9,   2265.3,2,   2376.6,2,     7.87,2, -0.2080