BOTTLE,20030515WHPSIOSA
EXPOCODE,SECT_ID,STNNBR,CASTNO,SAMPNO,BTLNBR,BTLNBR_FLAG_W,DATE,TIME,LATITUDE,LONGITUDE,DEPTH,CTDPRS,CTDTMP,CTDSAL,CTDSAL_FLAG_W,SALNTY,SALNTY_FLAG_W,CTDOXY,CTDOXY_FLAG_W,OXYGEN,OXYGEN_FLAG_W,SILCAT,SILCAT_FLAG_W,NITRAT,NITRAT_FLAG_W,PHSPHT,PHSPHT_FLAG_W,CFC-11,CFC-11_FLAG_W,CFC-12,CFC-12_FLAG_W,TRITUM,TRITUM_FLAG_W,HELIUM,HELIUM_FLAG_W,DELHE3,DELHE3_FLAG_W,TCARBN,TCARBN_FLAG_W,ALKALI,ALKALI_FLAG_W,PH,PH_FLAG_W,THETA
,,,,,,,,,,,,DBAR,ITS-90,PSS-78,,PSS-78,,UMOL/KG,,UMOL/KG,,UMOL/KG,,UMOL/KG,,UMOL/KG,,PMOL/KG,,PMOL/KG,,TU,,NMOL/KG,,PERCNT,,UMOL/KG,,UMOL/KG,,,,DEG C
 3230CITHER2_1,  A17C,    90,  1,     32,     32,2,19940204,0632,-23.8467, -33.5150, 4627,      4.4,  27.8750,  36.7430,2,  36.7480,2,    187.5,2,    203.0,2,     1.10,2,     0.04,2,     0.03,2,    1.803,2,    1.068,2, -999.000,9,-999.0000,9,  -999.00,9,   2037.7,2,   -999.0,9,     8.42,2, 27.8740
 3230CITHER2_1,  A17C,    90,  1,     31,     31,2,19940204,0632,-23.8467, -33.5150, 4627,     49.9,  24.8710,  36.6780,2,  36.6800,2,    218.1,2,    216.1,2,     1.00,2,     0.04,2,     0.02,2,    2.006,2,    1.179,2, -999.000,9,-999.0000,9,  -999.00,9,   2050.1,2,   -999.0,9,     8.38,2, 24.8600
 3230CITHER2_1,  A17C,    90,  1,     30,     30,2,19940204,0632,-23.8467, -33.5150, 4627,    101.9,  22.0070,  36.6170,2,  36.6090,2,    218.8,2,    218.7,2,     1.10,2,     0.04,2,     0.08,2,    2.219,2,    1.280,2, -999.000,9,-999.0000,9,  -999.00,9,   2067.6,2,   -999.0,9,     8.36,2, 21.9870
 3230CITHER2_1,  A17C,    90,  1,     29,     29,2,19940204,0632,-23.8467, -33.5150, 4627,    151.2,  20.2090,  36.3180,2,  36.3100,2,    212.0,2,    210.5,2,     1.10,2,     0.20,2,     0.14,2,    2.340,2,    1.335,2, -999.000,9,-999.0000,9,  -999.00,9,   2075.3,2,   -999.0,9,     8.32,2, 20.1810
 3230CITHER2_1,  A17C,    90,  1,     28,     28,2,19940204,0632,-23.8467, -33.5150, 4627,    198.4,  18.5440,  36.0230,2,  36.0100,2,    202.9,2,    204.2,2,     1.60,2,     1.72,2,     0.28,2,    2.446,2,    1.364,2, -999.000,9,-999.0000,9,  -999.00,9,   2088.0,2,   -999.0,2,     8.27,2, 18.5090
 3230CITHER2_1,  A17C,    90,  1,     27,     27,2,19940204,0632,-23.8467, -33.5150, 4627,    299.7,  14.7580,  35.3970,2,  35.4010,2,    200.6,2,    202.2,2,     3.20,2,     7.58,2,     0.61,2,    2.462,2,    1.350,2, -999.000,9,-999.0000,9,  -999.00,9,   2097.9,2,   -999.0,2,     8.19,2, 14.7130
 3230CITHER2_1,  A17C,    90,  1,     26,     26,2,19940204,0632,-23.8467, -33.5150, 4627,    400.9,  12.6750,  35.1710,2,  35.1690,2,    204.4,2,    204.1,2,     4.20,2,    11.95,2,     0.86,2,    2.288,2,    1.223,2, -999.000,9,-999.0000,9,  -999.00,9,   2112.9,2,   -999.0,2,     8.14,2, 12.6200
 3230CITHER2_1,  A17C,    90,  1,     25,     25,2,19940204,0632,-23.8467, -33.5150, 4627,    502.1,  10.1150,  34.8390,2,-999.0000,5,    199.5,2,    198.4,2,     7.80,2,    18.54,2,     1.27,2,    1.805,2,    0.978,2, -999.000,9,-999.0000,9,  -999.00,9,   2136.5,2,   -999.0,2,     8.06,2, 10.0560
 3230CITHER2_1,  A17C,    90,  1,     24,     24,2,19940204,0632,-23.8467, -33.5150, 4627,    680.6,   6.2950,  34.4480,2,  34.4480,2,    202.4,2,    203.6,2,    16.90,2,    27.34,2,     1.85,2,    1.262,2,    0.684,2, -999.000,9,-999.0000,9,  -999.00,9,   2169.1,2,   2302.3,2,     7.96,2,  6.2330
 3230CITHER2_1,  A17C,    90,  1,     23,     23,2,19940204,0632,-23.8467, -33.5150, 4627,    830.2,   4.4660,  34.3590,2,  34.3640,2,    200.6,2,    199.4,2,    28.60,2,    31.64,2,     2.13,2,    0.594,2,    0.334,2, -999.000,9,-999.0000,9,  -999.00,9,   2193.0,2,   2309.4,2,     7.91,2,  4.4010
 3230CITHER2_1,  A17C,    90,  1,     22,     22,2,19940204,0632,-23.8467, -33.5150, 4627,    999.6,   3.4780,  34.4250,2,  34.4260,2,    194.2,2,    191.5,2,    42.70,2,    33.24,2,     2.24,2,    0.219,2,    0.134,2, -999.000,9,-999.0000,9,  -999.00,9,   2214.7,2,   2321.0,2,     7.89,2,  3.4070
 3230CITHER2_1,  A17C,    90,  1,     21,     21,2,19940204,0632,-23.8467, -33.5150, 4627,   1200.9,   3.5250,  34.6010,2,  34.6020,2,    187.0,2,    187.5,2,    42.70,2,    31.71,2,     2.11,2,    0.039,2,    0.028,2, -999.000,9,-999.0000,9,  -999.00,9,   2218.2,2,   2328.9,2,     7.90,2,  3.4370
 3230CITHER2_1,  A17C,    90,  1,     20,     20,2,19940204,0632,-23.8467, -33.5150, 4627,   1398.9,   3.8750,  34.7960,2,  34.7960,2,    198.9,2,    201.1,2,    32.10,2,    27.76,2,     1.82,2,    0.029,2,    0.024,2, -999.000,9,-999.0000,9,  -999.00,9,   2201.2,2,   2327.9,2,     7.94,2,  3.7660
 3230CITHER2_1,  A17C,    90,  1,     19,     19,2,19940204,0632,-23.8467, -33.5150, 4627,   1599.9,   3.7050,  34.8680,2,  34.8710,2,    216.5,2,    218.7,2,    30.40,2,    24.77,2,     1.64,2,    0.040,2,    0.024,2, -999.000,9,-999.0000,9,  -999.00,9,   2191.3,2,   2330.9,2,     7.98,2,  3.5790
 3230CITHER2_1,  A17C,    90,  1,     18,     18,2,19940204,0632,-23.8467, -33.5150, 4627,   1801.2,   3.6520,  34.9320,2,  34.9360,2,    236.0,2,    237.8,2,    24.80,2,    22.21,2,     1.44,2,    0.045,2,    0.031,2, -999.000,9,-999.0000,9,  -999.00,9,   2176.4,2,   2330.2,2,     8.00,2,  3.5080
 3230CITHER2_1,  A17C,    90,  1,     17,     17,2,19940204,0632,-23.8467, -33.5150, 4627,   2000.2,   3.4620,  34.9430,2,  34.9450,2,    244.5,2,    245.5,2,    24.60,2,    21.37,2,     1.39,2,    0.035,2,    0.025,2, -999.000,9,-999.0000,9,  -999.00,9,   -999.0,5,   2330.6,2,     8.02,2,  3.2990
 3230CITHER2_1,  A17C,    90,  1,     16,     16,2,19940204,0632,-23.8467, -33.5150, 4627,   2000.4,   3.4580,  34.9410,2,  34.9580,2,    244.5,2,    245.3,2,    24.80,2,  -999.00,5,     1.40,2,    0.033,2,    0.022,2, -999.000,9,-999.0000,9,  -999.00,9,   2173.5,2,   2330.6,2,     8.02,2,  3.3030
 3230CITHER2_1,  A17C,    90,  1,     15,     15,2,19940204,0632,-23.8467, -33.5150, 4627,   2199.6,   3.3490,  34.9510,2,  34.9540,2,    250.6,2,    250.6,2,    24.10,2,    20.98,2,     1.34,2,    0.032,2,    0.019,2, -999.000,9,-999.0000,9,  -999.00,9,   2171.0,2,   2332.1,2,     8.03,2,  3.1720
 3230CITHER2_1,  A17C,    90,  1,     14,     14,2,19940204,0632,-23.8467, -33.5150, 4627,   2401.1,   3.1760,  34.9430,2,  34.9460,2,    251.4,2,    251.5,2,    26.50,2,    21.06,2,     1.35,2,    0.021,2,    0.019,2, -999.000,9,-999.0000,9,  -999.00,9,   2172.6,2,   2333.7,2,     8.03,2,  2.9830
 3230CITHER2_1,  A17C,    90,  1,     13,     13,2,19940204,0632,-23.8467, -33.5150, 4627,   2599.9,   3.0330,  34.9360,2,  34.9380,2,    251.7,2,    251.5,2,    28.80,2,    21.22,2,     1.35,2,    0.017,2,    0.012,2, -999.000,9,-999.0000,9,  -999.00,9,   2175.1,2,   2335.4,2,     8.03,2,  2.8230
 3230CITHER2_1,  A17C,    90,  1,     12,     12,2,19940204,0632,-23.8467, -33.5150, 4627,   2800.5,   2.9110,  34.9300,2,  34.9320,2,    251.8,2,    251.2,2,    30.90,2,    21.43,2,     1.38,2,    0.013,2,    0.019,2, -999.000,9,-999.0000,9,  -999.00,9,   2178.0,2,   2338.6,2,     8.03,2,  2.6830
 3230CITHER2_1,  A17C,    90,  1,     11,     11,2,19940204,0632,-23.8467, -33.5150, 4627,   2999.7,   2.8130,  34.9250,2,  34.9230,2,    252.3,2,    251.7,2,    32.40,2,    21.43,2,     1.37,2,    0.031,2,    0.013,2, -999.000,9,-999.0000,9,  -999.00,9,   2178.2,2,   2342.6,2,     8.02,2,  2.5660
 3230CITHER2_1,  A17C,    90,  1,     10,     10,2,19940204,0632,-23.8467, -33.5150, 4627,   3200.3,   2.7090,  34.9180,2,  34.9230,2,    253.1,2,    252.7,2,    34.20,2,    21.39,2,     1.39,2,    0.024,2,    0.015,2, -999.000,9,-999.0000,9,  -999.00,9,   2179.8,2,   2341.7,2,     8.02,2,  2.4440
 3230CITHER2_1,  A17C,    90,  1,      9,      9,2,19940204,0632,-23.8467, -33.5150, 4627,   3399.1,   2.5820,  34.9100,2,  34.9100,2,    253.8,2,    250.7,2,    36.60,2,    21.64,2,     1.40,2,    0.023,2,    0.011,2, -999.000,9,-999.0000,9,  -999.00,9,   2180.9,2,   2343.9,2,     8.02,2,  2.2980
 3230CITHER2_1,  A17C,    90,  1,      8,      8,2,19940204,0632,-23.8467, -33.5150, 4627,   3598.6,   2.3380,  34.8860,2,  34.8880,2,    252.1,2,    250.2,2,    44.90,2,    22.56,2,     1.47,2,    0.021,2,    0.012,2, -999.000,9,-999.0000,9,  -999.00,9,   2189.4,2,   2347.0,2,     8.01,2,  2.0390
 3230CITHER2_1,  A17C,    90,  1,      7,      7,2,19940204,0632,-23.8467, -33.5150, 4627,   3799.5,   1.9670,  34.8490,2,  34.8520,2,    245.9,2,    244.6,2,    59.60,2,    24.62,2,     1.61,2,    0.020,2,    0.011,2, -999.000,9,-999.0000,9,  -999.00,9,   2203.8,2,   2356.4,2,     8.00,2,  1.6560
 3230CITHER2_1,  A17C,    90,  1,      6,      6,2,19940204,0632,-23.8467, -33.5150, 4627,   3998.9,   1.5380,  34.8040,2,  34.8050,2,    238.1,2,    237.3,2,    78.40,2,    26.93,2,     1.78,2,    0.020,2,    0.010,2, -999.000,9,-999.0000,9,  -999.00,9,   2220.7,2,   2364.1,2,     7.97,2,  1.2170
 3230CITHER2_1,  A17C,    90,  1,      5,      5,2,19940204,0632,-23.8467, -33.5150, 4627,   4198.7,   1.2480,  34.7710,2,  34.7730,2,    232.9,2,    232.3,2,    91.30,2,    28.73,2,     1.90,2,    0.019,2,    0.014,2, -999.000,9,-999.0000,9,  -999.00,9,   2233.2,2,   2370.3,2,     7.95,2,  0.9140
 3230CITHER2_1,  A17C,    90,  1,      4,      4,2,19940204,0632,-23.8467, -33.5150, 4627,   4398.0,   0.9730,  34.7390,2,  34.7430,2,    227.6,2,    227.1,2,   103.50,2,    30.49,2,     2.02,2,    0.036,2,    0.015,2, -999.000,9,-999.0000,9,  -999.00,9,   2244.8,2,   2373.2,2,     7.93,2,  0.6250
 3230CITHER2_1,  A17C,    90,  1,      3,      3,2,19940204,0632,-23.8467, -33.5150, 4627,   4496.6,   0.6670,  34.7100,2,  34.7080,2,    222.9,2,    222.4,2,   115.10,2,    31.93,2,     2.14,2,    0.077,2,    0.039,2, -999.000,9,-999.0000,9,  -999.00,9,   2255.8,2,   2376.4,2,     7.92,2,  0.3180
 3230CITHER2_1,  A17C,    90,  1,      2,      2,2,19940204,0632,-23.8467, -33.5150, 4627,   4597.7,   0.4660,  34.6910,2,  34.6930,2,    220.3,2,    221.6,2,   121.10,2,    32.58,2,     2.18,2,    0.100,2,    0.052,2, -999.000,9,-999.0000,9,  -999.00,9,   2261.5,2,   2380.1,2,     7.90,2,  0.1130
 3230CITHER2_1,  A17C,    90,  1,      1,      1,2,19940204,0632,-23.8467, -33.5150, 4627,   4696.7,   0.3440,  34.6800,2,  34.6820,2,    220.4,2,    221.9,2,   124.90,2,    33.11,2,     2.24,2,    0.112,2,    0.067,2, -999.000,9,-999.0000,9,  -999.00,9,   2263.5,2,   2379.7,2,     7.90,2, -0.0160
 3230CITHER2_1,  A17C,    91,  1,     32,     32,2,19940204,1220,-23.4592, -33.1727, 4754,     12.6,  27.7890,  36.9100,2,  36.8950,2,    192.6,2,    202.4,2,     1.30,2,     0.00,2,     0.07,2,    1.859,2,    1.067,2, -999.000,9,-999.0000,9,  -999.00,9,   -999.0,9,   -999.0,9,     8.38,2, 27.7860
 3230CITHER2_1,  A17C,    91,  1,     31,     31,2,19940204,1220,-23.4592, -33.1727, 4754,     51.4,  23.7330,  36.7560,2,  36.7440,2,    218.4,2,    227.2,2,     1.30,2,     0.00,2,     0.09,2,    2.183,2,    1.230,2, -999.000,9,-999.0000,9,  -999.00,9,   -999.0,9,   -999.0,9,     8.36,2, 23.7220
 3230CITHER2_1,  A17C,    91,  1,     30,     30,2,19940204,1220,-23.4592, -33.1727, 4754,    100.9,  21.6520,  36.5220,2,  36.5050,2,    220.1,2,    222.4,2,     1.30,2,     0.00,2,     0.10,2,    2.264,2,    1.277,2, -999.000,9,-999.0000,9,  -999.00,9,   -999.0,9,   -999.0,9,     8.35,2, 21.6320
 3230CITHER2_1,  A17C,    91,  1,     29,     29,2,19940204,1220,-23.4592, -33.1727, 4754,    149.7,  20.0520,  36.2940,2,  36.2890,2,    206.1,2,    210.2,2,     1.20,2,     0.36,2,     0.13,2,    2.327,2,    1.294,2, -999.000,9,-999.0000,9,  -999.00,9,   -999.0,9,   -999.0,9,     8.31,2, 20.0240
 3230CITHER2_1,  A17C,    91,  1,     28,     28,2,19940204,1220,-23.4592, -33.1727, 4754,    200.3,  18.0910,  35.9490,2,  35.9380,2,    205.4,2,    204.7,2,     1.60,2,     1.98,2,     0.27,2,    2.493,2,    1.358,2, -999.000,9,-999.0000,9,  -999.00,9,   -999.0,9,   -999.0,9,     8.26,2, 18.0560
 3230CITHER2_1,  A17C,    91,  1,     27,     27,2,19940204,1220,-23.4592, -33.1727, 4754,    301.4,  14.7840,  35.4020,2,  35.4000,2,    206.1,2,    203.3,2,     3.10,2,     7.22,2,     0.60,2,    2.457,2,    1.315,2, -999.000,9,-999.0000,9,  -999.00,9,   -999.0,9,   -999.0,9,     8.19,2, 14.7390
 3230CITHER2_1,  A17C,    91,  1,     26,     26,2,19940204,1220,-23.4592, -33.1727, 4754,    400.4,  12.4480,  35.1050,2,  35.1040,2,    202.4,2,    200.6,2,     4.90,2,    12.87,2,     0.92,2,    2.179,2,    1.152,2, -999.000,9,-999.0000,9,  -999.00,9,   -999.0,9,   -999.0,9,     8.12,2, 12.3940
 3230CITHER2_1,  A17C,    91,  1,     25,     25,2,19940204,1220,-23.4592, -33.1727, 4754,    600.8,   7.8890,  34.6060,2,  34.6020,2,    187.2,2,    185.0,2,    13.80,2,    24.71,2,     1.69,2,    1.246,2,    0.666,2, -999.000,9,-999.0000,9,  -999.00,9,   -999.0,9,   -999.0,9,     7.98,2,  7.8270
 3230CITHER2_1,  A17C,    91,  1,     24,     24,2,19940204,1220,-23.4592, -33.1727, 4754,    700.4,   5.9720,  34.4460,2,  34.4420,2,    193.9,2,    189.3,2,    20.00,2,    28.73,2,     1.97,2,    0.894,2,    0.484,2, -999.000,9,-999.0000,9,  -999.00,9,   -999.0,9,   -999.0,9,     7.93,2,  5.9100
 3230CITHER2_1,  A17C,    91,  1,     23,     23,2,19940204,1220,-23.4592, -33.1727, 4754,    800.5,   4.8520,  34.3780,2,  34.3840,2,    195.3,2,    194.6,2,    25.90,2,    30.81,2,     2.09,2,    0.643,2,    0.365,2, -999.000,9,-999.0000,9,  -999.00,9,   -999.0,9,   -999.0,9,     7.92,2,  4.7880
 3230CITHER2_1,  A17C,    91,  1,     22,     22,2,19940204,1220,-23.4592, -33.1727, 4754,   1000.3,   3.6710,  34.4400,2,  34.4400,2,    185.2,2,    186.0,2,    40.30,2,    32.75,2,     2.25,2,    0.152,2,    0.089,2, -999.000,9,-999.0000,9,  -999.00,9,   -999.0,9,   -999.0,9,     7.89,2,  3.5980
 3230CITHER2_1,  A17C,    91,  1,     21,     21,2,19940204,1220,-23.4592, -33.1727, 4754,   1199.6,   3.3340,  34.5730,2,  34.5710,2,    186.3,2,    187.1,2,    46.60,2,    32.13,2,     2.15,2,    0.050,2,    0.024,2, -999.000,9,-999.0000,9,  -999.00,9,   -999.0,9,   -999.0,9,     7.90,2,  3.2470
 3230CITHER2_1,  A17C,    91,  1,     20,     20,2,19940204,1220,-23.4592, -33.1727, 4754,   1400.5,   3.4590,  34.7380,2,  34.7330,2,    199.0,2,    198.1,2,    41.40,2,    28.65,2,     1.93,2,    0.025,2,    0.015,2, -999.000,9,-999.0000,9,  -999.00,9,   -999.0,9,   -999.0,9,     7.92,2,  3.3540
 3230CITHER2_1,  A17C,    91,  1,     19,     19,2,19940204,1220,-23.4592, -33.1727, 4754,   1600.5,   3.9510,  34.9260,2,  34.9240,2,    229.5,2,    227.1,2,    23.60,2,    22.98,2,     1.51,2,    0.046,2,    0.037,2, -999.000,9,-999.0000,9,  -999.00,9,   -999.0,9,   -999.0,9,     7.99,2,  3.8220
 3230CITHER2_1,  A17C,    91,  1,     17,     17,2,19940204,1220,-23.4592, -33.1727, 4754,   1799.8,   3.6740,  34.9540,2,  34.9580,2,    243.9,2,    244.2,2,    21.80,2,    20.96,2,     1.38,2,    0.045,2,    0.038,2, -999.000,9,-999.0000,9,  -999.00,9,   -999.0,9,   -999.0,9,     8.01,2,  3.5300
 3230CITHER2_1,  A17C,    91,  1,     18,     18,2,19940204,1220,-23.4592, -33.1727, 4754,   1800.1,   3.6860,  34.9550,2,  34.9560,2,    243.9,2,    243.8,2,    21.80,2,    20.96,2,     1.38,2,    0.049,2,    0.033,2, -999.000,9,-999.0000,9,  -999.00,9,   -999.0,9,   -999.0,9,     8.01,2,  3.5420
 3230CITHER2_1,  A17C,    91,  1,     16,     16,2,19940204,1220,-23.4592, -33.1727, 4754,   1999.5,   3.4750,  34.9490,2,  34.9540,2,    247.6,2,    247.1,2,    23.40,2,    20.76,2,     1.35,2,    0.033,2,    0.025,2, -999.000,9,-999.0000,9,  -999.00,9,   -999.0,9,   -999.0,9,     8.02,2,  3.3150
 3230CITHER2_1,  A17C,    91,  1,     15,     15,2,19940204,1220,-23.4592, -33.1727, 4754,   2199.5,   3.3310,  34.9520,2,  34.9550,2,    251.6,2,    251.0,2,    24.00,2,    20.63,2,     1.33,2,    0.034,2,    0.024,2, -999.000,9,-999.0000,9,  -999.00,9,   -999.0,9,   -999.0,9,     8.02,2,  3.1550
 3230CITHER2_1,  A17C,    91,  1,     14,     14,2,19940204,1220,-23.4592, -33.1727, 4754,   2399.2,   3.1630,  34.9430,2,  34.9450,2,    251.7,2,    251.2,2,    26.50,2,    20.89,2,     1.35,2,    0.023,2,    0.018,2, -999.000,9,-999.0000,9,  -999.00,9,   -999.0,9,   -999.0,9,     8.02,2,  2.9700
 3230CITHER2_1,  A17C,    91,  1,     13,     13,2,19940204,1220,-23.4592, -33.1727, 4754,   2599.2,   3.0410,  34.9360,2,  34.9350,2,    251.6,2,    251.3,2,    28.60,2,    20.89,2,     1.36,2,    0.021,2,    0.020,2, -999.000,9,-999.0000,9,  -999.00,9,   -999.0,9,   -999.0,9,     8.02,2,  2.8300
 3230CITHER2_1,  A17C,    91,  1,     12,     12,2,19940204,1220,-23.4592, -33.1727, 4754,   2800.1,   2.9290,  34.9320,2,  34.9320,2,    251.6,2,    251.1,2,    30.50,2,    21.14,2,     1.37,2,    0.007,2,    0.015,2, -999.000,9,-999.0000,9,  -999.00,9,   -999.0,9,   -999.0,9,     8.02,2,  2.7000
 3230CITHER2_1,  A17C,    91,  1,     11,     11,2,19940204,1220,-23.4592, -33.1727, 4754,   2998.1,   2.8350,  34.9250,2,  34.9270,2,    252.0,2,    251.6,2,    31.90,2,    21.02,2,     1.37,2,    0.019,2,    0.010,2, -999.000,9,-999.0000,9,  -999.00,9,   -999.0,9,   -999.0,9,     8.02,2,  2.5880
 3230CITHER2_1,  A17C,    91,  1,     10,     10,2,19940204,1220,-23.4592, -33.1727, 4754,   3199.3,   2.7400,  34.9210,2,  34.9230,2,    252.9,2,    252.5,2,    33.30,2,    21.23,2,     1.38,2,    0.020,2,    0.014,2, -999.000,9,-999.0000,9,  -999.00,9,   -999.0,9,   -999.0,9,     8.02,2,  2.4740
 3230CITHER2_1,  A17C,    91,  1,      9,      9,2,19940204,1220,-23.4592, -33.1727, 4754,   3399.0,   2.6310,  34.9140,2,  34.9130,2,    253.9,2,    253.0,2,    35.20,2,    21.23,2,     1.39,2,    0.017,2,    0.013,2, -999.000,9,-999.0000,9,  -999.00,9,   -999.0,9,   -999.0,9,     8.02,2,  2.3460
 3230CITHER2_1,  A17C,    91,  1,      8,      8,2,19940204,1220,-23.4592, -33.1727, 4754,   3600.2,   2.4440,  34.8960,2,  34.8980,2,    253.2,2,    252.2,2,    40.40,2,    21.72,2,     1.43,2,    0.013,2,    0.011,2, -999.000,9,-999.0000,9,  -999.00,9,   -999.0,9,   -999.0,9,     8.01,2,  2.1420
 3230CITHER2_1,  A17C,    91,  1,      7,      7,2,19940204,1220,-23.4592, -33.1727, 4754,   3799.8,   2.0900,  34.8600,2,  34.8610,2,    247.6,2,    247.1,2,    54.70,2,    23.42,2,     1.56,2,    0.013,2,    0.011,2, -999.000,9,-999.0000,9,  -999.00,9,   -999.0,9,   -999.0,9,     7.99,2,  1.7760
 3230CITHER2_1,  A17C,    91,  1,      6,      6,2,19940204,1220,-23.4592, -33.1727, 4754,   3997.0,   1.6610,  34.8160,2,  34.8170,2,    240.0,2,    239.4,2,    72.70,2,    25.80,2,     1.73,2,    0.013,2,    0.010,2, -999.000,9,-999.0000,9,  -999.00,9,   -999.0,9,   -999.0,9,     7.97,2,  1.3370
 3230CITHER2_1,  A17C,    91,  1,      5,      5,2,19940204,1220,-23.4592, -33.1727, 4754,   4199.6,   1.3660,  34.7840,2,  34.7850,2,    233.8,2,    233.8,2,    85.90,2,    27.71,2,     1.86,2,    0.020,2,    0.017,2, -999.000,9,-999.0000,9,  -999.00,9,   -999.0,9,   -999.0,9,     7.95,2,  1.0280
 3230CITHER2_1,  A17C,    91,  1,      4,      4,2,19940204,1220,-23.4592, -33.1727, 4754,   4397.6,   1.1110,  34.7550,2,  34.7560,2,    229.1,2,    228.8,2,    97.00,2,    29.18,2,     1.97,2, -999.000,5, -999.000,5, -999.000,9,-999.0000,9,  -999.00,9,   -999.0,9,   -999.0,9,     7.93,2,  0.7590
 3230CITHER2_1,  A17C,    91,  1,      3,      3,2,19940204,1220,-23.4592, -33.1727, 4754,   4597.9,   0.6200,  34.7050,2,  34.7080,2,    221.6,2,    222.3,2,   115.70,2,    31.55,2,     2.15,2,    0.066,2,    0.042,2, -999.000,9,-999.0000,9,  -999.00,9,   -999.0,9,   -999.0,9,     7.90,2,  0.2620
 3230CITHER2_1,  A17C,    91,  1,      2,      2,2,19940204,1220,-23.4592, -33.1727, 4754,   4688.4,   0.3170,  34.6790,2,  34.6810,2,    219.8,2,    221.0,2,   125.10,2,    32.81,2,     2.24,2,    0.107,2,    0.071,2, -999.000,9,-999.0000,9,  -999.00,9,   -999.0,9,   -999.0,9,     7.90,2, -0.0420
 3230CITHER2_1,  A17C,    91,  1,      1,      1,2,19940204,1220,-23.4592, -33.1727, 4754,   4787.4,   0.2980,  34.6770,2,  34.6800,2,    219.8,2,    221.3,2,   125.70,2,    32.77,2,     2.24,2,    0.118,2,    0.077,2, -999.000,9,-999.0000,9,  -999.00,9,   -999.0,9,   -999.0,9,     7.90,2, -0.0710