BOTTLE,20030515WHPSIOSA
EXPOCODE,SECT_ID,STNNBR,CASTNO,SAMPNO,BTLNBR,BTLNBR_FLAG_W,DATE,TIME,LATITUDE,LONGITUDE,DEPTH,CTDPRS,CTDTMP,CTDSAL,CTDSAL_FLAG_W,SALNTY,SALNTY_FLAG_W,CTDOXY,CTDOXY_FLAG_W,OXYGEN,OXYGEN_FLAG_W,SILCAT,SILCAT_FLAG_W,NITRAT,NITRAT_FLAG_W,PHSPHT,PHSPHT_FLAG_W,CFC-11,CFC-11_FLAG_W,CFC-12,CFC-12_FLAG_W,TRITUM,TRITUM_FLAG_W,HELIUM,HELIUM_FLAG_W,DELHE3,DELHE3_FLAG_W,TCARBN,TCARBN_FLAG_W,ALKALI,ALKALI_FLAG_W,PH,PH_FLAG_W,THETA
,,,,,,,,,,,,DBAR,ITS-90,PSS-78,,PSS-78,,UMOL/KG,,UMOL/KG,,UMOL/KG,,UMOL/KG,,UMOL/KG,,PMOL/KG,,PMOL/KG,,TU,,NMOL/KG,,PERCNT,,UMOL/KG,,UMOL/KG,,,,DEG C
 3230CITHER2_1,  A17C,   106,  1,     32,     32,2,19940208,0310,-17.8613, -30.8245, 4763,      5.4,  27.4120,  37.3140,2,  37.3190,2,    182.4,2,    199.1,2,     1.20,2,     0.04,2,     0.16,2, -999.000,5, -999.000,5, -999.000,9,-999.0000,9,  -999.00,9,   2093.4,2,   -999.0,9,     8.37,2, 27.4110
 3230CITHER2_1,  A17C,   106,  1,     31,     31,2,19940208,0310,-17.8613, -30.8245, 4763,     46.3,  27.4420,  37.3730,2,  37.3720,2,    204.4,2,    199.4,2,     1.20,2,     0.04,2,     0.15,2, -999.000,5, -999.000,5, -999.000,9,-999.0000,9,  -999.00,9,   2088.8,2,   -999.0,9,     8.38,2, 27.4310
 3230CITHER2_1,  A17C,   106,  1,     30,     30,2,19940208,0310,-17.8613, -30.8245, 4763,    125.0,  23.6410,  36.9700,2,  36.9690,2,    212.3,2,    214.9,2,     1.40,2,     0.04,2,     0.14,2, -999.000,5, -999.000,5, -999.000,9,-999.0000,9,  -999.00,9,   2083.2,2,   -999.0,9,     8.35,2, 23.6150
 3230CITHER2_1,  A17C,   106,  1,     29,     29,2,19940208,0310,-17.8613, -30.8245, 4763,    200.4,  18.7090,  36.0480,2,  36.0810,2,    202.1,2,    200.1,2,     2.00,2,     2.03,2,     0.36,2, -999.000,5, -999.000,5, -999.000,9,-999.0000,9,  -999.00,9,   2097.9,2,   -999.0,9,     8.25,2, 18.6730
 3230CITHER2_1,  A17C,   106,  1,     28,     28,2,19940208,0310,-17.8613, -30.8245, 4763,    300.0,  13.8240,  35.2820,2,  35.2980,2,    176.3,2,    176.0,2,     4.90,2,    12.41,2,     0.91,2, -999.000,5, -999.000,5, -999.000,9,-999.0000,9,  -999.00,9,   2126.7,2,   -999.0,9,     8.12,2, 13.7810
 3230CITHER2_1,  A17C,   106,  1,     27,     27,2,19940208,0310,-17.8613, -30.8245, 4763,    401.1,  10.8910,  34.9290,2,  34.9300,2,    158.9,2,    162.2,2,     8.90,2,    19.77,2,     1.37,2, -999.000,5, -999.000,5, -999.000,9,-999.0000,9,  -999.00,9,   2156.0,2,   -999.0,9,     8.02,2, 10.8410
 3230CITHER2_1,  A17C,   106,  1,     26,     26,2,19940208,0310,-17.8613, -30.8245, 4763,    602.3,   6.1870,  34.4990,2,  34.5000,2,    162.3,2,    163.1,2,    21.50,2,    30.16,2,     2.05,2,    0.306,2,    0.163,2, -999.000,9,-999.0000,9,  -999.00,9,   2197.0,2,   -999.0,9,     7.90,2,  6.1330
 3230CITHER2_1,  A17C,   106,  1,     25,     25,2,19940208,0310,-17.8613, -30.8245, 4763,    800.2,   4.1630,  34.4240,2,  34.4230,2,    178.4,2,    179.4,2,    33.80,2,    32.31,2,     2.22,2,    0.089,2,    0.057,2, -999.000,9,-999.0000,9,  -999.00,9,   2209.5,2,   -999.0,9,     7.88,2,  4.1030
 3230CITHER2_1,  A17C,   106,  1,     24,     24,2,19940208,0310,-17.8613, -30.8245, 4763,   1001.1,   3.6970,  34.5340,2,  34.5310,2,    180.2,2,    180.5,2,    38.80,2,    31.72,2,     2.18,2,    0.020,2,    0.017,2, -999.000,9,-999.0000,9,  -999.00,9,   2217.8,2,   -999.0,9,     7.88,2,  3.6240
 3230CITHER2_1,  A17C,   106,  1,     23,     23,2,19940208,0310,-17.8613, -30.8245, 4763,   1200.4,   3.9380,  34.7240,2,  34.7270,2,    188.2,2,    188.9,2,    32.40,2,    28.17,2,     1.95,2, -999.000,5, -999.000,5, -999.000,9,-999.0000,9,  -999.00,9,   -999.0,9,   -999.0,9,     7.92,2,  3.8460
 3230CITHER2_1,  A17C,   106,  1,     22,     22,2,19940208,0310,-17.8613, -30.8245, 4763,   1399.5,   4.0390,  34.8690,2,  34.8700,2,    208.8,2,    209.9,2,    25.50,2,    24.46,2,     1.66,2,    0.017,2,    0.019,2, -999.000,9,-999.0000,9,  -999.00,9,   -999.0,9,   -999.0,9,     7.96,2,  3.9280
 3230CITHER2_1,  A17C,   106,  1,     21,     21,2,19940208,0310,-17.8613, -30.8245, 4763,   1499.0,   3.9280,  34.9070,2,  34.9060,2,    223.1,2,    223.2,2,    24.00,2,    22.88,2,     1.55,2,    0.023,2,    0.020,2, -999.000,9,-999.0000,9,  -999.00,9,   -999.0,9,   -999.0,9,     7.98,2,  3.8090
 3230CITHER2_1,  A17C,   106,  1,     20,     20,2,19940208,0310,-17.8613, -30.8245, 4763,   1599.6,   3.9040,  34.9440,2,  34.9440,2,    234.1,2,    234.5,2,    21.30,2,    21.37,2,     1.43,2,    0.035,2,    0.021,2, -999.000,9,-999.0000,9,  -999.00,9,   -999.0,9,   -999.0,9,     8.00,2,  3.7760
 3230CITHER2_1,  A17C,   106,  1,     19,     19,2,19940208,0310,-17.8613, -30.8245, 4763,   1700.3,   3.7430,  34.9530,2,  34.9550,2,    241.9,2,    241.6,2,    21.30,2,    20.80,2,     1.38,2,    0.036,2,    0.029,2, -999.000,9,-999.0000,9,  -999.00,9,   -999.0,9,   -999.0,9,     8.01,2,  3.6080
 3230CITHER2_1,  A17C,   106,  1,     18,     18,2,19940208,0310,-17.8613, -30.8245, 4763,   1801.0,   3.6270,  34.9540,2,  34.9540,2,    243.8,2,    245.0,2,    21.90,2,    20.59,2,     1.36,2,    0.031,2,    0.027,2, -999.000,9,-999.0000,9,  -999.00,9,   -999.0,9,   -999.0,9,     8.01,2,  3.4840
 3230CITHER2_1,  A17C,   106,  1,     17,     17,2,19940208,0310,-17.8613, -30.8245, 4763,   2001.3,   3.3730,  34.9470,2,  34.9490,2,    246.6,2,    248.2,2,    24.10,2,    20.37,2,     1.36,2,    0.020,2,    0.010,2, -999.000,9,-999.0000,9,  -999.00,9,   -999.0,9,   -999.0,9,     8.02,2,  3.2150
 3230CITHER2_1,  A17C,   106,  1,     16,     16,2,19940208,0310,-17.8613, -30.8245, 4763,   2199.0,   3.1780,  34.9400,2,  34.9380,2,    248.3,2,    248.9,2,    26.80,2,    20.46,2,     1.36,2,    0.010,2,    0.009,2, -999.000,9,-999.0000,9,  -999.00,9,   -999.0,9,   -999.0,9,     8.02,2,  3.0040
 3230CITHER2_1,  A17C,   106,  1,     15,     15,2,19940208,0310,-17.8613, -30.8245, 4763,   2398.7,   3.0100,  34.9300,2,  34.9300,2,    246.4,2,    248.1,2,    30.10,2,    20.72,2,     1.39,2,    0.007,2,    0.014,2, -999.000,9,-999.0000,9,  -999.00,9,   -999.0,9,   -999.0,9,     8.01,2,  2.8200
 3230CITHER2_1,  A17C,   106,  1,     14,     14,2,19940208,0310,-17.8613, -30.8245, 4763,   2600.1,   2.8610,  34.9160,2,  34.9160,2,    245.1,2,    245.4,2,    34.60,2,    21.23,2,     1.43,2,    0.000,2,    0.010,2, -999.000,9,-999.0000,9,  -999.00,9,   -999.0,9,   -999.0,9,     8.01,2,  2.6540
 3230CITHER2_1,  A17C,   106,  1,     13,     13,2,19940208,0310,-17.8613, -30.8245, 4763,   2799.9,   2.8350,  34.9220,2,  34.9210,2,    249.1,2,    248.8,2,    33.30,2,    20.98,2,     1.40,2,    0.007,2,    0.008,2, -999.000,9,-999.0000,9,  -999.00,9,   -999.0,9,   -999.0,9,     8.02,2,  2.6080
 3230CITHER2_1,  A17C,   106,  1,     12,     12,2,19940208,0310,-17.8613, -30.8245, 4763,   2999.6,   2.7430,  34.9170,2,  34.9170,2,    248.4,2,    248.9,2,    35.00,2,    21.10,2,     1.41,2,    0.007,2,    0.013,2, -999.000,9,-999.0000,9,  -999.00,9,   -999.0,9,   -999.0,9,     8.01,2,  2.4980
 3230CITHER2_1,  A17C,   106,  1,     11,     11,2,19940208,0310,-17.8613, -30.8245, 4763,   3200.2,   2.6790,  34.9160,2,  34.9170,2,    251.3,2,    251.1,2,    35.00,2,    20.97,2,     1.38,2,    0.009,2,    0.012,2, -999.000,9,-999.0000,9,  -999.00,9,   -999.0,9,   -999.0,9,     8.02,2,  2.4140
 3230CITHER2_1,  A17C,   106,  1,     10,     10,2,19940208,0310,-17.8613, -30.8245, 4763,   3398.9,   2.5810,  34.9080,2,  34.9070,2,    251.3,2,    250.9,2,    37.40,2,    21.36,2,     1.40,2,    0.007,2,    0.007,2, -999.000,9,-999.0000,9,  -999.00,9,   -999.0,9,   -999.0,9,     8.01,2,  2.2980
 3230CITHER2_1,  A17C,   106,  1,      9,      9,2,19940208,0310,-17.8613, -30.8245, 4763,   3598.6,   2.4290,  34.8970,2,  34.8980,2,    253.4,2,    252.2,2,    40.20,2,    21.41,2,     1.42,2,    0.014,2,    0.018,2, -999.000,9,-999.0000,9,  -999.00,9,   -999.0,9,   -999.0,9,     8.01,2,  2.1280
 3230CITHER2_1,  A17C,   106,  1,      8,      8,2,19940208,0310,-17.8613, -30.8245, 4763,   3798.1,   2.1650,  34.8700,2,  34.8700,2,    249.1,2,    248.5,2,    50.20,2,    22.57,2,     1.51,2,    0.005,2,    0.009,2, -999.000,9,-999.0000,9,  -999.00,9,   -999.0,9,   -999.0,9,     8.00,2,  1.8490
 3230CITHER2_1,  A17C,   106,  1,      7,      7,2,19940208,0310,-17.8613, -30.8245, 4763,   3899.3,   2.0310,  34.8590,2,  34.8570,2,    248.8,2,    247.2,2,    54.00,2,    22.96,2,     1.55,2,    0.009,2,    0.012,2, -999.000,9,-999.0000,9,  -999.00,9,   -999.0,9,   -999.0,9,     7.99,2,  1.7070
 3230CITHER2_1,  A17C,   106,  1,      6,      6,2,19940208,0310,-17.8613, -30.8245, 4763,   3998.6,   1.8780,  34.8400,2,  34.8400,2,    246.0,2,    243.9,2,    61.80,2,    23.83,2,     1.63,2,    0.008,2,    0.014,2, -999.000,9,-999.0000,9,  -999.00,9,   -999.0,9,   -999.0,9,     7.98,2,  1.5480
 3230CITHER2_1,  A17C,   106,  1,      5,      5,2,19940208,0310,-17.8613, -30.8245, 4763,   4199.3,   1.5340,  34.8040,2,  34.8020,2,    239.3,2,    237.2,2,    77.50,2,    25.96,2,     1.77,2,    0.006,2,    0.007,2, -999.000,9,-999.0000,9,  -999.00,9,   -999.0,9,   -999.0,9,     7.96,2,  1.1910
 3230CITHER2_1,  A17C,   106,  1,      4,      4,2,19940208,0310,-17.8613, -30.8245, 4763,   4398.4,   1.1890,  34.7650,2,  34.7650,2,    231.7,2,    230.7,2,    93.10,2,    28.43,2,     1.93,2,    0.012,2,    0.009,2, -999.000,9,-999.0000,9,  -999.00,9,   -999.0,9,   -999.0,9,     7.94,2,  0.8350
 3230CITHER2_1,  A17C,   106,  1,      3,      3,2,19940208,0310,-17.8613, -30.8245, 4763,   4598.3,   0.7580,  34.7180,2,  34.7210,2,    224.9,2,    223.9,2,   110.70,2,    30.58,2,     2.11,2,    0.056,2,    0.022,2, -999.000,9,-999.0000,9,  -999.00,9,   -999.0,9,   -999.0,9,     7.91,2,  0.3950
 3230CITHER2_1,  A17C,   106,  1,      2,      2,2,19940208,0310,-17.8613, -30.8245, 4763,   4698.4,   0.4730,  34.6950,2,  34.6940,2,    221.4,2,    221.7,2,   120.00,2,    32.09,2,     2.19,2,    0.069,2,    0.037,2, -999.000,9,-999.0000,9,  -999.00,9,   -999.0,9,   -999.0,9,     7.89,2,  0.1080
 3230CITHER2_1,  A17C,   106,  1,      1,      1,2,19940208,0310,-17.8613, -30.8245, 4763,   4831.4,   0.3470,  34.6820,2,  34.6830,2,    218.8,2,    221.3,2,   124.20,2,    32.74,2,     2.23,2,    0.096,2,    0.054,2, -999.000,9,-999.0000,9,  -999.00,9,   -999.0,9,   -999.0,9,     7.89,2, -0.0290
 3230CITHER2_1,  A17C,   107,  1,     32,     32,2,19940208,0913,-17.3695, -30.8037, 4874,      4.7,  27.9240,  37.3460,2,  37.3500,2,    195.1,2,    196.7,2,     1.00,2,     0.04,2,     0.09,2, -999.000,9, -999.000,9, -999.000,9,-999.0000,9,  -999.00,9,   -999.0,9,   -999.0,9,     8.40,2, 27.9230
 3230CITHER2_1,  A17C,   107,  1,     31,     31,2,19940208,0913,-17.3695, -30.8037, 4874,     40.7,  27.8320,  37.3730,2,  37.3740,2,    198.1,2,    198.3,2,     1.10,2,     0.04,2,     0.13,2, -999.000,9, -999.000,9, -999.000,9,-999.0000,9,  -999.00,9,   -999.0,9,   -999.0,9,     8.40,2, 27.8220
 3230CITHER2_1,  A17C,   107,  1,     30,     30,2,19940208,0913,-17.3695, -30.8037, 4874,    126.4,  24.0100,  37.0740,2,  37.0660,2,    216.1,2,    211.4,2,     1.20,2,     0.04,2,     0.14,2, -999.000,9, -999.000,9, -999.000,9,-999.0000,9,  -999.00,9,   -999.0,9,   -999.0,9,     8.36,2, 23.9830
 3230CITHER2_1,  A17C,   107,  1,     29,     29,2,19940208,0913,-17.3695, -30.8037, 4874,    201.5,  19.0620,  36.1450,2,  36.1160,2,    198.5,2,    193.4,2,     1.90,2,     2.60,2,     0.41,2, -999.000,9, -999.000,9, -999.000,9,-999.0000,9,  -999.00,9,   -999.0,9,   -999.0,9,     8.25,2, 19.0260
 3230CITHER2_1,  A17C,   107,  1,     28,     28,2,19940208,0913,-17.3695, -30.8037, 4874,    301.5,  13.8580,  35.3100,2,  35.3050,2,    171.1,2,    170.9,2,     5.00,2,    13.22,2,     0.96,2, -999.000,9, -999.000,9, -999.000,9,-999.0000,9,  -999.00,9,   -999.0,9,   -999.0,9,     8.11,2, 13.8140
 3230CITHER2_1,  A17C,   107,  1,     27,     27,2,19940208,0913,-17.3695, -30.8037, 4874,    400.5,  10.7900,  34.9200,2,  34.9120,2,    162.9,2,    162.1,2,     8.90,2,    20.47,2,     1.41,2, -999.000,9, -999.000,9, -999.000,9,-999.0000,9,  -999.00,9,   -999.0,9,   -999.0,9,     8.02,2, 10.7410
 3230CITHER2_1,  A17C,   107,  1,     26,     26,2,19940208,0913,-17.3695, -30.8037, 4874,    601.6,   5.8700,  34.4900,2,  34.4800,2,    165.7,2,    165.0,2,    22.60,2,    30.59,2,     2.07,2, -999.000,9, -999.000,9, -999.000,9,-999.0000,9,  -999.00,9,   -999.0,9,   -999.0,9,     7.90,2,  5.8180
 3230CITHER2_1,  A17C,   107,  1,     25,     25,2,19940208,0913,-17.3695, -30.8037, 4874,    802.1,   3.9800,  34.4100,2,  34.4120,2,    189.2,2,    187.7,2,    34.60,2,    32.55,2,     2.21,2, -999.000,9, -999.000,9, -999.000,9,-999.0000,9,  -999.00,9,   -999.0,9,   -999.0,9,     7.90,2,  3.9210
 3230CITHER2_1,  A17C,   107,  1,     24,     24,2,19940208,0913,-17.3695, -30.8037, 4874,   1000.3,   3.6550,  34.5240,2,  34.5250,2,    183.5,2,    182.7,2,    39.00,2,    31.97,2,     2.20,2, -999.000,9, -999.000,9, -999.000,9,-999.0000,9,  -999.00,9,   -999.0,9,   -999.0,9,     7.89,2,  3.5820
 3230CITHER2_1,  A17C,   107,  1,     23,     23,2,19940208,0913,-17.3695, -30.8037, 4874,   1200.8,   3.9150,  34.7180,2,  34.7190,2,    189.4,2,    188.4,2,    32.50,2,    28.53,2,     1.91,2, -999.000,9, -999.000,9, -999.000,9,-999.0000,9,  -999.00,9,   -999.0,9,   -999.0,9,     7.92,2,  3.8230
 3230CITHER2_1,  A17C,   107,  1,     22,     22,2,19940208,0913,-17.3695, -30.8037, 4874,   1401.2,   4.0060,  34.8590,2,  34.8630,2,    210.0,2,    209.3,2,    26.20,2,    24.76,2,     1.69,2, -999.000,9, -999.000,9, -999.000,9,-999.0000,9,  -999.00,9,   -999.0,9,   -999.0,9,     7.96,2,  3.8950
 3230CITHER2_1,  A17C,   107,  1,     21,     21,2,19940208,0913,-17.3695, -30.8037, 4874,   1500.2,   3.9480,  34.9090,2,  34.9080,2,    222.0,2,    222.3,2,    23.80,2,    22.91,2,     1.56,2, -999.000,9, -999.000,9, -999.000,9,-999.0000,9,  -999.00,9,   -999.0,9,   -999.0,9,     7.98,2,  3.8290
 3230CITHER2_1,  A17C,   107,  1,     20,     20,2,19940208,0913,-17.3695, -30.8037, 4874,   1600.7,   3.7960,  34.9280,2,  34.9300,2,    231.0,2,    232.0,2,    23.20,2,    21.87,2,     1.48,2, -999.000,9, -999.000,9, -999.000,9,-999.0000,9,  -999.00,9,   -999.0,9,   -999.0,9,     8.00,2,  3.6690
 3230CITHER2_1,  A17C,   107,  1,     19,     19,2,19940208,0913,-17.3695, -30.8037, 4874,   1700.4,   3.6820,  34.9450,2,  34.9460,2,    240.9,2,    240.5,2,    22.20,2,    20.97,2,     1.41,2, -999.000,9, -999.000,9, -999.000,9,-999.0000,9,  -999.00,9,   -999.0,9,   -999.0,9,     8.01,2,  3.5470
 3230CITHER2_1,  A17C,   107,  1,     18,     18,2,19940208,0913,-17.3695, -30.8037, 4874,   1799.7,   3.5990,  34.9550,2,  34.9580,2,    246.2,2,    245.5,2,    21.60,2,    20.28,2,     1.36,2, -999.000,9, -999.000,9, -999.000,9,-999.0000,9,  -999.00,9,   -999.0,9,   -999.0,9,     8.02,2,  3.4560
 3230CITHER2_1,  A17C,   107,  1,     17,     17,2,19940208,0913,-17.3695, -30.8037, 4874,   1999.2,   3.3400,  34.9490,2,  34.9480,2,    248.9,2,    248.6,2,    24.20,2,    20.11,2,     1.36,2, -999.000,9, -999.000,9, -999.000,9,-999.0000,9,  -999.00,9,   -999.0,9,   -999.0,9,     8.02,2,  3.1820
 3230CITHER2_1,  A17C,   107,  1,     16,     16,2,19940208,0913,-17.3695, -30.8037, 4874,   2199.8,   3.1600,  34.9390,2,  34.9390,2,    249.2,2,    248.7,2,    26.90,2,    20.34,2,     1.37,2, -999.000,9, -999.000,9, -999.000,9,-999.0000,9,  -999.00,9,   -999.0,9,   -999.0,9,     8.02,2,  2.9860
 3230CITHER2_1,  A17C,   107,  1,     15,     15,2,19940208,0913,-17.3695, -30.8037, 4874,   2400.2,   3.0300,  34.9340,2,  34.9350,2,    249.7,2,    249.3,2,    29.00,2,    20.52,2,     1.38,2, -999.000,9, -999.000,9, -999.000,9,-999.0000,9,  -999.00,9,   -999.0,9,   -999.0,9,     8.02,2,  2.8390
 3230CITHER2_1,  A17C,   107,  1,     14,     14,2,19940208,0913,-17.3695, -30.8037, 4874,   2600.6,   2.8840,  34.9230,2,  34.9240,2,    247.7,2,    247.8,2,    32.30,2,    20.88,2,     1.41,2, -999.000,9, -999.000,9, -999.000,9,-999.0000,9,  -999.00,9,   -999.0,9,   -999.0,9,     8.02,2,  2.6760
 3230CITHER2_1,  A17C,   107,  1,     13,     13,2,19940208,0913,-17.3695, -30.8037, 4874,   2800.3,   2.7990,  34.9200,2,  34.9180,2,    248.3,2,    248.0,2,    33.70,2,    20.93,2,     1.42,2, -999.000,9, -999.000,9, -999.000,9,-999.0000,9,  -999.00,9,   -999.0,9,   -999.0,9,     8.01,2,  2.5730
 3230CITHER2_1,  A17C,   107,  1,     12,     12,2,19940208,0913,-17.3695, -30.8037, 4874,   2999.0,   2.7450,  34.9190,2,  34.9180,2,    250.2,2,    249.5,2,    34.00,2,    20.94,2,     1.41,2, -999.000,9, -999.000,9, -999.000,9,-999.0000,9,  -999.00,9,   -999.0,9,   -999.0,9,     8.02,2,  2.5000
 3230CITHER2_1,  A17C,   107,  1,     11,     11,2,19940208,0913,-17.3695, -30.8037, 4874,   3199.1,   2.6720,  34.9150,2,  34.9170,2,    251.9,2,    250.7,2,    34.70,2,    20.73,2,     1.41,2, -999.000,9, -999.000,9, -999.000,9,-999.0000,9,  -999.00,9,   -999.0,9,   -999.0,9,     8.02,2,  2.4080
 3230CITHER2_1,  A17C,   107,  1,     10,     10,2,19940208,0913,-17.3695, -30.8037, 4874,   3400.0,   2.5900,  34.9100,2,  34.9110,2,    252.7,2,    251.3,2,    36.40,2,    20.65,2,     1.41,2, -999.000,9, -999.000,9, -999.000,9,-999.0000,9,  -999.00,9,   -999.0,9,   -999.0,9,     8.02,2,  2.3060
 3230CITHER2_1,  A17C,   107,  1,      9,      9,2,19940208,0913,-17.3695, -30.8037, 4874,   3598.4,   2.4540,  34.8960,2,  34.8990,2,    252.2,2,    250.5,2,    40.10,2,    21.18,2,     1.45,2, -999.000,9, -999.000,9, -999.000,9,-999.0000,9,  -999.00,9,   -999.0,9,   -999.0,9,     8.01,2,  2.1520
 3230CITHER2_1,  A17C,   107,  1,      8,      8,2,19940208,0913,-17.3695, -30.8037, 4874,   3798.4,   2.2560,  34.8780,2,  34.8790,2,    250.2,2,    248.8,2,    46.90,2,    21.89,2,     1.50,2, -999.000,9, -999.000,9, -999.000,9,-999.0000,9,  -999.00,9,   -999.0,9,   -999.0,9,     8.00,2,  1.9370
 3230CITHER2_1,  A17C,   107,  1,      7,      7,2,19940208,0913,-17.3695, -30.8037, 4874,   3899.3,   2.1240,  34.8660,2,  34.8660,2,    249.6,2,    247.6,2,    51.40,2,    22.38,2,     1.56,2, -999.000,9, -999.000,9, -999.000,9,-999.0000,9,  -999.00,9,   -999.0,9,   -999.0,9,     8.00,2,  1.7980
 3230CITHER2_1,  A17C,   107,  1,      6,      6,2,19940208,0913,-17.3695, -30.8037, 4874,   3998.1,   1.9990,  34.8520,2,  34.8530,2,    247.3,2,    245.6,2,    56.90,2,    23.09,2,     1.59,2, -999.000,9, -999.000,9, -999.000,9,-999.0000,9,  -999.00,9,   -999.0,9,   -999.0,9,     7.99,2,  1.6650
 3230CITHER2_1,  A17C,   107,  1,      5,      5,2,19940208,0913,-17.3695, -30.8037, 4874,   4197.3,   1.5840,  34.8060,2,  34.8070,2,    238.8,2,    237.3,2,    75.50,2,    25.45,2,     1.78,2, -999.000,9, -999.000,9, -999.000,9,-999.0000,9,  -999.00,9,   -999.0,9,   -999.0,9,     7.96,2,  1.2400
 3230CITHER2_1,  A17C,   107,  1,      4,      4,2,19940208,0913,-17.3695, -30.8037, 4874,   4398.9,   1.2290,  34.7690,2,  34.7690,2,    231.8,2,    231.1,2,    90.80,2,    27.75,2,     1.92,2, -999.000,9, -999.000,9, -999.000,9,-999.0000,9,  -999.00,9,   -999.0,9,   -999.0,9,     7.94,2,  0.8730
 3230CITHER2_1,  A17C,   107,  1,      3,      3,2,19940208,0913,-17.3695, -30.8037, 4874,   4598.6,   0.9020,  34.7340,2,  34.7360,2,    226.2,2,    226.2,2,   103.70,2,    29.62,2,     2.06,2, -999.000,9, -999.000,9, -999.000,9,-999.0000,9,  -999.00,9,   -999.0,9,   -999.0,9,     7.92,2,  0.5340
 3230CITHER2_1,  A17C,   107,  1,      2,      2,2,19940208,0913,-17.3695, -30.8037, 4874,   4799.3,   0.4650,  34.6930,2,  34.6910,2,    220.7,2,    221.9,2,   119.10,2,    31.59,2,     2.20,2, -999.000,9, -999.000,9, -999.000,9,-999.0000,9,  -999.00,9,   -999.0,9,   -999.0,9,     7.89,2,  0.0890
 3230CITHER2_1,  A17C,   107,  1,      1,      1,2,19940208,0913,-17.3695, -30.8037, 4874,   4934.3,   0.3800,  34.6820,2,  34.6840,2,    219.3,2,    220.7,2,   123.10,2,    31.93,2,     2.24,2, -999.000,9, -999.000,9, -999.000,9,-999.0000,9,  -999.00,9,   -999.0,9,   -999.0,9,     7.89,2, -0.0080