BOTTLE,20030515WHPSIOSA
EXPOCODE,SECT_ID,STNNBR,CASTNO,SAMPNO,BTLNBR,BTLNBR_FLAG_W,DATE,TIME,LATITUDE,LONGITUDE,DEPTH,CTDPRS,CTDTMP,CTDSAL,CTDSAL_FLAG_W,SALNTY,SALNTY_FLAG_W,CTDOXY,CTDOXY_FLAG_W,OXYGEN,OXYGEN_FLAG_W,SILCAT,SILCAT_FLAG_W,NITRAT,NITRAT_FLAG_W,PHSPHT,PHSPHT_FLAG_W,CFC-11,CFC-11_FLAG_W,CFC-12,CFC-12_FLAG_W,TRITUM,TRITUM_FLAG_W,HELIUM,HELIUM_FLAG_W,DELHE3,DELHE3_FLAG_W,TCARBN,TCARBN_FLAG_W,ALKALI,ALKALI_FLAG_W,PH,PH_FLAG_W,THETA
,,,,,,,,,,,,DBAR,ITS-90,PSS-78,,PSS-78,,UMOL/KG,,UMOL/KG,,UMOL/KG,,UMOL/KG,,UMOL/KG,,PMOL/KG,,PMOL/KG,,TU,,NMOL/KG,,PERCNT,,UMOL/KG,,UMOL/KG,,,,DEG C
 3230CITHER2_1,  A17C,    18,  1,     32,     32,2,19940113,1203,-45.5843, -52.4535, 6031,      7.3,  17.1940,  35.5960,2,  35.5990,2,    239.5,2,    242.2,2,     1.60,2,     0.04,2,     0.15,2,    2.768,2,    1.578,2,    0.902,2,-999.0000,9,  -999.00,9,   2050.7,2,   2362.3,2,     8.29,2, 17.1930
 3230CITHER2_1,  A17C,    18,  1,     31,     31,2,19940113,1203,-45.5843, -52.4535, 6031,     50.6,  17.0330,  35.6380,2,  35.6350,2,    244.3,2,    240.2,2,     1.60,2,     0.04,2,     0.15,2,    2.748,2,    1.550,2,    0.660,2,-999.0000,9,  -999.00,9,   2055.0,2,   2355.5,2,     8.29,2, 17.0250
 3230CITHER2_1,  A17C,    18,  1,     30,     30,2,19940113,1203,-45.5843, -52.4535, 6031,    100.5,  15.9040,  35.7220,2,  35.7230,2,    215.4,2,    209.4,2,     2.50,2,     5.48,2,     0.48,2,    2.671,2,    1.517,2, -999.000,9,-999.0000,9,  -999.00,9,   2092.4,2,   2371.6,2,     8.21,2, 15.8880
 3230CITHER2_1,  A17C,    18,  1,     29,     29,2,19940113,1203,-45.5843, -52.4535, 6031,    200.2,  14.5600,  35.5860,2,  35.5830,2,    225.8,2,    223.7,2,     2.50,2,     6.90,2,     0.56,2,    2.831,2,    1.551,2, -999.000,9,-999.0000,9,  -999.00,9,   2096.9,2,   -999.0,5,     8.19,2, 14.5300
 3230CITHER2_1,  A17C,    18,  1,     28,     28,2,19940113,1203,-45.5843, -52.4535, 6031,    400.7,   7.0290,  34.2960,2,  34.3120,2,    253.5,2,    255.8,2,     6.20,2,    20.38,2,     1.44,2,    3.878,2,    2.023,2,    0.385,2,-999.0000,9,  -999.00,9,   2122.2,2,   2292.3,2,     8.03,2,  6.9910
 3230CITHER2_1,  A17C,    18,  1,     27,     27,2,19940113,1203,-45.5843, -52.4535, 6031,    602.3,   5.1310,  34.2260,2,  34.2270,2,    265.9,2,    267.8,2,    10.40,2,    24.28,2,     1.69,2,    4.005,2,    2.035,2,    0.253,2,-999.0000,9,  -999.00,9,   2141.3,2,   2293.8,2,     7.99,2,  5.0820
 3230CITHER2_1,  A17C,    18,  1,     26,     26,2,19940113,1203,-45.5843, -52.4535, 6031,    800.3,   4.3380,  34.2200,2,  34.2180,2,    260.8,2,    259.9,2,    17.00,2,    27.26,2,     1.87,2,    3.314,2,    1.712,2,    0.194,2,-999.0000,9,  -999.00,9,   2157.5,2,   2298.1,2,     7.95,2,  4.2770
 3230CITHER2_1,  A17C,    18,  1,     25,     25,2,19940113,1203,-45.5843, -52.4535, 6031,   1000.5,   3.4500,  34.2430,2,  34.2430,2,    243.6,2,    242.6,2,    28.20,2,    30.70,2,     2.08,2,    2.343,2,    1.215,2,    0.127,2,-999.0000,9,  -999.00,9,   2182.0,2,   2305.8,2,     7.91,2,  3.3790
 3230CITHER2_1,  A17C,    18,  1,     24,     24,2,19940113,1203,-45.5843, -52.4535, 6031,   1301.1,   2.7760,  34.3680,2,  34.3660,2,    206.4,2,    206.3,2,    49.60,2,    33.73,2,     2.29,2,    1.153,2,    0.607,2,    0.063,2,-999.0000,9,  -999.00,9,   2220.9,2,   2325.5,2,     7.85,2,  2.6870
 3230CITHER2_1,  A17C,    18,  1,     23,     23,2,19940113,1203,-45.5843, -52.4535, 6031,   1600.1,   2.7730,  34.5440,2,  34.5450,2,    183.2,2,    184.1,2,    61.90,2,    33.73,2,     2.29,2,    0.341,2,    0.196,2,    0.032,2,-999.0000,9,  -999.00,9,   2239.6,2,   2343.4,2,     7.83,2,  2.6600
 3230CITHER2_1,  A17C,    18,  1,     22,     22,2,19940113,1203,-45.5843, -52.4535, 6031,   1800.0,   2.8270,  34.6450,2,  34.6450,2,    182.8,2,    185.3,2,    62.90,2,    32.02,2,     2.19,2,    0.181,2,    0.108,2, -999.000,9,-999.0000,9,  -999.00,9,   2238.5,2,   2346.4,2,     7.85,2,  2.6960
 3230CITHER2_1,  A17C,    18,  1,     21,     21,2,19940113,1203,-45.5843, -52.4535, 6031,   1999.9,   2.8320,  34.7110,2,  34.7080,2,    192.3,2,    189.8,2,    62.40,2,    30.70,2,     2.10,2,    0.117,2,    0.069,2, -999.000,9,-999.0000,9,  -999.00,9,   2233.9,2,   2348.5,2,     7.87,2,  2.6830
 3230CITHER2_1,  A17C,    18,  1,     20,     20,2,19940113,1203,-45.5843, -52.4535, 6031,   2201.2,   2.5860,  34.7310,2,  34.7300,2,    202.3,2,    190.0,2,    71.10,2,    30.70,2,     2.10,2,    0.092,2,    0.060,2, -999.000,9,-999.0000,9,  -999.00,9,   2240.9,2,   2354.7,2,     7.87,2,  2.4220
 3230CITHER2_1,  A17C,    18,  1,     19,     19,2,19940113,1203,-45.5843, -52.4535, 6031,   2400.1,   2.6800,  34.7980,2,  34.7950,2,    214.0,2,    206.9,2,    62.60,2,    28.38,2,     1.91,2,    0.056,2,    0.045,2, -999.000,9,-999.0000,9,  -999.00,9,   2225.0,2,   2353.7,2,     7.90,2,  2.4960
 3230CITHER2_1,  A17C,    18,  1,     18,     18,2,19940113,1203,-45.5843, -52.4535, 6031,   2598.9,   2.6200,  34.8210,2,  34.8190,2,    209.0,2,    213.1,2,    60.40,2,    27.07,2,     1.84,2,    0.039,2,    0.034,2, -999.000,9,-999.0000,9,  -999.00,9,   2219.4,2,   2352.4,2,     7.92,2,  2.4180
 3230CITHER2_1,  A17C,    18,  1,     17,     17,2,19940113,1203,-45.5843, -52.4535, 6031,   2798.9,   2.3760,  34.8140,2,  34.8120,2,    212.9,2,    214.7,2,    67.10,2,    27.27,2,     1.87,2,    0.033,2,    0.026,2, -999.000,9,-999.0000,9,  -999.00,9,   2225.0,2,   2358.2,2,     7.91,2,  2.1590
 3230CITHER2_1,  A17C,    18,  1,     16,     16,2,19940113,1203,-45.5843, -52.4535, 6031,   3000.1,   1.8460,  34.7570,2,  34.7550,2,    199.3,2,    200.3,2,    92.00,2,    30.55,2,     2.09,2,    0.049,2,    0.031,2, -999.000,9,-999.0000,9,  -999.00,9,   2248.2,2,   2368.7,2,     7.88,2,  1.6210
 3230CITHER2_1,  A17C,    18,  1,     15,     15,2,19940113,1203,-45.5843, -52.4535, 6031,   3299.3,   1.5150,  34.7240,2,  34.7240,2,    193.9,2,    194.3,2,   107.10,2,    32.32,2,     2.21,2,    0.073,2,    0.046,2, -999.000,9,-999.0000,9,  -999.00,9,   2261.4,2,   2373.4,2,     7.86,2,  1.2680
 3230CITHER2_1,  A17C,    18,  1,     14,     14,2,19940113,1203,-45.5843, -52.4535, 6031,   3598.1,   1.4680,  34.7230,2,  34.7200,2,    195.1,2,    195.6,2,   108.10,2,    32.43,2,     2.22,2,    0.080,2,    0.045,2, -999.000,9,-999.0000,9,  -999.00,9,   2262.8,2,   2374.9,2,     7.86,2,  1.1920
 3230CITHER2_1,  A17C,    18,  1,     13,     13,2,19940113,1203,-45.5843, -52.4535, 6031,   3799.4,   1.4200,  34.7240,2,  34.7250,2,    197.9,2,    198.7,2,   108.50,2,    32.43,2,     2.21,2,    0.088,2,    0.059,2, -999.000,9,-999.0000,9,  -999.00,9,   2259.8,2,   2375.0,2,     7.86,2,  1.1250
 3230CITHER2_1,  A17C,    18,  1,     12,     12,2,19940113,1203,-45.5843, -52.4535, 6031,   3999.0,   1.3410,  34.7210,2,  34.7180,2,    199.8,2,    200.0,2,   111.10,2,    32.53,2,     2.21,2,    0.100,2,    0.066,2, -999.000,9,-999.0000,9,  -999.00,9,   2260.0,2,   2375.2,2,     7.86,2,  1.0260
 3230CITHER2_1,  A17C,    18,  1,     11,     11,2,19940113,1203,-45.5843, -52.4535, 6031,   4198.5,   1.2480,  34.7170,2,  34.7160,2,    201.6,2,    203.5,2,   111.20,2,    32.38,2,     2.22,2,    0.113,2,    0.074,2, -999.000,9,-999.0000,9,  -999.00,9,   2259.9,2,   2374.3,2,     7.86,2,  0.9140
 3230CITHER2_1,  A17C,    18,  1,     10,     10,2,19940113,1203,-45.5843, -52.4535, 6031,   4400.5,   0.9690,  34.7070,2,  34.7080,2,    208.0,2,    210.6,2,   113.10,2,    32.63,2,     2.23,2,    0.124,2,    0.074,2, -999.000,9,-999.0000,9,  -999.00,9,   2259.3,2,   2374.5,2,     7.86,2,  0.6220
 3230CITHER2_1,  A17C,    18,  1,      9,      9,2,19940113,1203,-45.5843, -52.4535, 6031,   4599.0,   0.6930,  34.6940,2,  34.6960,2,    213.3,2,    214.7,2,   117.50,2,    32.93,2,     2.26,2,    0.141,2,    0.080,2, -999.000,9,-999.0000,9,  -999.00,9,   2261.4,2,   2374.9,2,     7.86,2,  0.3320
 3230CITHER2_1,  A17C,    18,  1,      8,      8,2,19940113,1203,-45.5843, -52.4535, 6031,   4799.5,   0.5470,  34.6860,2,  34.6870,2,    216.5,2,    217.6,2,   121.90,2,    32.94,2,     2.27,2,    0.137,2,    0.088,2, -999.000,9,-999.0000,9,  -999.00,9,   2260.7,2,   2375.1,2,     7.86,2,  0.1680
 3230CITHER2_1,  A17C,    18,  1,      7,      7,2,19940113,1203,-45.5843, -52.4535, 6031,   5000.0,   0.4580,  34.6810,2,  34.6890,2,    219.0,2,    219.3,2,   124.00,2,    32.94,2,     2.26,2,    0.134,2,    0.087,2, -999.000,9,-999.0000,9,  -999.00,9,   2261.8,2,   2377.5,2,     7.86,2,  0.0590
 3230CITHER2_1,  A17C,    18,  1,      6,      6,2,19940113,1203,-45.5843, -52.4535, 6031,   5197.8,   0.3840,  34.6780,2,  34.6780,2,    221.0,2,    221.3,2,   127.30,2,    33.14,2,     2.29,2,    0.142,2,    0.082,2, -999.000,9,-999.0000,9,  -999.00,9,   2263.3,2,   2377.1,2,     7.86,2, -0.0350
 3230CITHER2_1,  A17C,    18,  1,      5,      5,2,19940113,1203,-45.5843, -52.4535, 6031,   5399.0,   0.3570,  34.6750,2,  34.6760,2,    222.0,2,    222.6,2,   128.80,2,    33.24,2,     2.29,2,    0.143,2,    0.089,2, -999.000,9,-999.0000,9,  -999.00,9,   2263.7,2,   2378.2,2,     7.86,2, -0.0850
 3230CITHER2_1,  A17C,    18,  1,      4,      4,2,19940113,1203,-45.5843, -52.4535, 6031,   5597.4,   0.3380,  34.6720,2,  34.6720,2,    223.4,2,    223.2,2,   129.10,2,    33.65,2,     2.29,2,    0.148,2,    0.084,2, -999.000,9,-999.0000,9,  -999.00,9,   2264.1,2,   2377.1,2,     7.86,2, -0.1280
 3230CITHER2_1,  A17C,    18,  1,      3,      3,2,19940113,1203,-45.5843, -52.4535, 6031,   5798.5,   0.3360,  34.6710,2,  34.6720,2,    224.3,2,    224.1,2,   129.00,2,    33.34,2,     2.30,2,    0.166,2,    0.098,2, -999.000,9,-999.0000,9,  -999.00,9,   2264.1,2,   2377.2,2,     7.86,2, -0.1540
 3230CITHER2_1,  A17C,    18,  1,      2,      2,2,19940113,1203,-45.5843, -52.4535, 6031,   5999.6,   0.3430,  34.6710,2,  34.6720,2,    224.6,2,    224.2,2,   129.80,2,    33.45,2,     2.31,2,    0.176,2,    0.112,2, -999.000,9,-999.0000,9,  -999.00,9,   2264.7,2,   2378.2,2,     7.86,2, -0.1730
 3230CITHER2_1,  A17C,    18,  1,      1,      1,2,19940113,1203,-45.5843, -52.4535, 6031,   6150.1,   0.3500,  34.6690,2,  34.6720,2,    224.5,2,    224.6,2,   129.70,2,    33.40,2,     2.31,2,    0.201,2,    0.116,2, -999.000,9,-999.0000,9,  -999.00,9,   2265.4,2,   2379.7,2,     7.86,2, -0.1860
 3230CITHER2_1,  A17C,    19,  1,     32,     32,2,19940113,1939,-45.1822, -52.0952, 6012,      7.4,  17.1130,  35.4500,2,  35.4490,2,    239.8,2,    243.9,2,     1.10,2,     0.04,2,     0.15,2,    2.787,2,    1.619,2, -999.000,9,-999.0000,9,  -999.00,9,   2044.0,2,   -999.0,9,     8.30,2, 17.1120
 3230CITHER2_1,  A17C,    19,  1,     31,     31,2,19940113,1939,-45.1822, -52.0952, 6012,     51.2,  16.9580,  35.5880,2,  35.5910,2,    243.7,2,    241.7,2,     1.40,2,     0.04,2,     0.14,2,    2.740,2,    1.597,2, -999.000,9,-999.0000,9,  -999.00,9,   2053.1,2,   -999.0,9,     8.29,2, 16.9500
 3230CITHER2_1,  A17C,    19,  1,     30,     30,2,19940113,1939,-45.1822, -52.0952, 6012,    150.6,  15.6150,  35.7860,2,  35.7820,2,    223.6,2,    222.0,2,     2.20,2,     5.00,2,     0.41,2,    2.768,2,    1.589,2, -999.000,9,-999.0000,9,  -999.00,9,   2090.5,2,   -999.0,9,     8.22,2, 15.5910
 3230CITHER2_1,  A17C,    19,  1,     29,     29,2,19940113,1939,-45.1822, -52.0952, 6012,    200.6,  14.8220,  35.6470,2,  35.6440,2,    222.4,2,    224.5,2,     2.50,2,     6.49,2,     0.50,2, -999.000,5, -999.000,5, -999.000,9,-999.0000,9,  -999.00,9,   2094.5,2,   -999.0,9,     8.20,2, 14.7920
 3230CITHER2_1,  A17C,    19,  1,     28,     28,2,19940113,1939,-45.1822, -52.0952, 6012,    401.0,   8.5930,  34.5570,2,  34.5510,2,    234.0,2,    233.7,2,     6.00,2,    18.69,2,     1.30,2,    3.247,2,    1.811,2, -999.000,9,-999.0000,9,  -999.00,9,   -999.0,9,   -999.0,9,     8.05,2,  8.5500
 3230CITHER2_1,  A17C,    19,  1,     27,     27,2,19940113,1939,-45.1822, -52.0952, 6012,    600.5,   5.0490,  34.1760,2,  34.1790,2,    274.7,2,    283.3,2,     8.40,2,    23.16,2,     1.59,2,    4.589,2,    2.409,2, -999.000,9,-999.0000,9,  -999.00,9,   -999.0,9,   -999.0,9,     8.01,2,  5.0010
 3230CITHER2_1,  A17C,    19,  1,     26,     26,2,19940113,1939,-45.1822, -52.0952, 6012,    798.4,   4.4680,  34.1920,2,  34.1930,2,    275.5,2,    275.1,2,    12.60,2,    25.54,2,     1.75,2,    4.044,2,    2.134,2, -999.000,9,-999.0000,9,  -999.00,9,   -999.0,9,   -999.0,9,     7.98,2,  4.4060
 3230CITHER2_1,  A17C,    19,  1,     25,     25,2,19940113,1939,-45.1822, -52.0952, 6012,    999.3,   3.6500,  34.2130,2,  34.2150,2,    252.0,2,    252.3,2,    23.10,2,    29.53,2,     1.99,2,    2.931,2,    1.552,2, -999.000,9,-999.0000,9,  -999.00,9,   -999.0,9,   -999.0,9,     7.93,2,  3.5780
 3230CITHER2_1,  A17C,    19,  1,     24,     24,2,19940113,1939,-45.1822, -52.0952, 6012,   1299.4,   2.8370,  34.3210,2,  34.3190,2,    218.5,2,    216.7,2,    43.30,2,    33.26,2,     2.24,2,    1.546,2,    0.842,2, -999.000,9,-999.0000,9,  -999.00,9,   -999.0,9,   -999.0,9,     7.87,2,  2.7480
 3230CITHER2_1,  A17C,    19,  1,     23,     23,2,19940113,1939,-45.1822, -52.0952, 6012,   1597.8,   2.7140,  34.4810,2,  34.4840,2,    186.2,2,    187.7,2,    58.90,2,    34.52,2,     2.31,2,    0.585,2,    0.323,2, -999.000,9,-999.0000,9,  -999.00,9,   -999.0,9,   -999.0,9,     7.84,2,  2.6020
 3230CITHER2_1,  A17C,    19,  1,     22,     22,2,19940113,1939,-45.1822, -52.0952, 6012,   1799.9,   2.7390,  34.5980,2,  34.5960,2,    181.0,2,    181.3,2,    64.00,2,    33.56,2,     2.24,2,    0.258,2,    0.139,2, -999.000,9,-999.0000,9,  -999.00,9,   -999.0,9,   -999.0,9,     7.84,2,  2.6090
 3230CITHER2_1,  A17C,    19,  1,     21,     21,2,19940113,1939,-45.1822, -52.0952, 6012,   1999.3,   2.7850,  34.6770,2,  34.6730,2,    184.2,2,    185.1,2,    65.40,2,    32.05,2,     2.14,2,    0.146,2,    0.088,2, -999.000,9,-999.0000,9,  -999.00,9,   -999.0,9,   -999.0,9,     7.86,2,  2.6370
 3230CITHER2_1,  A17C,    19,  1,     20,     20,2,19940113,1939,-45.1822, -52.0952, 6012,   2199.3,   2.9370,  34.7610,2,  34.7600,2,    198.3,2,    198.3,2,    58.90,2,    29.42,2,     1.94,2,    0.079,2,    0.051,2, -999.000,9,-999.0000,9,  -999.00,9,   -999.0,9,   -999.0,9,     7.90,2,  2.7680
 3230CITHER2_1,  A17C,    19,  1,     19,     19,2,19940113,1939,-45.1822, -52.0952, 6012,   2399.3,   2.9390,  34.8140,2,  34.8140,2,    212.1,2,    209.9,2,    55.30,2,    27.51,2,     1.81,2,    0.052,2,    0.036,2, -999.000,9,-999.0000,9,  -999.00,9,   -999.0,9,   -999.0,9,     7.92,2,  2.7500
 3230CITHER2_1,  A17C,    19,  1,     18,     18,2,19940113,1939,-45.1822, -52.0952, 6012,   2600.3,   2.8940,  34.8460,2,  34.8440,2,    220.1,2,    219.0,2,    51.80,2,    26.09,2,     1.72,2,    0.034,2,    0.029,2, -999.000,9,-999.0000,9,  -999.00,9,   -999.0,9,   -999.0,9,     7.94,2,  2.6870
 3230CITHER2_1,  A17C,    19,  1,     17,     17,2,19940113,1939,-45.1822, -52.0952, 6012,   2799.7,   2.7310,  34.8450,2,  34.8460,2,    222.3,2,    220.3,2,    55.00,2,    26.04,2,     1.72,2,    0.031,2,    0.026,2, -999.000,9,-999.0000,9,  -999.00,9,   -999.0,9,   -999.0,9,     7.94,2,  2.5070
 3230CITHER2_1,  A17C,    19,  1,     16,     16,2,19940113,1939,-45.1822, -52.0952, 6012,   2999.9,   2.6200,  34.8530,2,  34.8480,2,    224.1,2,    225.0,2,    55.00,2,    25.44,2,     1.69,2,    0.025,2,    0.025,2, -999.000,9,-999.0000,9,  -999.00,9,   -999.0,9,   -999.0,9,     7.94,2,  2.3780
 3230CITHER2_1,  A17C,    19,  1,     15,     15,2,19940113,1939,-45.1822, -52.0952, 6012,   3299.9,   2.1520,  34.8040,2,  34.8060,2,    215.0,2,    214.3,2,    74.70,2,    28.51,2,     1.87,2,    0.027,2,    0.021,2, -999.000,9,-999.0000,9,  -999.00,9,   -999.0,9,   -999.0,9,     7.91,2,  1.8900
 3230CITHER2_1,  A17C,    19,  1,     14,     14,2,19940113,1939,-45.1822, -52.0952, 6012,   3597.8,   1.6530,  34.7560,2,  34.7540,2,    205.9,2,    204.8,2,    97.60,2,    31.03,2,     2.06,2,    0.050,2,    0.030,2, -999.000,9,-999.0000,9,  -999.00,9,   -999.0,9,   -999.0,9,     7.88,2,  1.3720
 3230CITHER2_1,  A17C,    19,  1,     13,     13,2,19940113,1939,-45.1822, -52.0952, 6012,   3798.8,   1.4280,  34.7390,2,  34.7380,2,    204.7,2,    204.8,2,   104.90,2,    31.74,2,     2.12,2,    0.066,2,    0.050,2, -999.000,9,-999.0000,9,  -999.00,9,   -999.0,9,   -999.0,9,     7.88,2,  1.1320
 3230CITHER2_1,  A17C,    19,  1,     12,     12,2,19940113,1939,-45.1822, -52.0952, 6012,   3998.9,   1.2520,  34.7270,2,  34.7250,2,    205.6,2,    206.0,2,   110.00,2,    32.04,2,     2.15,2,    0.085,2,    0.051,2, -999.000,9,-999.0000,9,  -999.00,9,   -999.0,9,   -999.0,9,     7.87,2,  0.9400
 3230CITHER2_1,  A17C,    19,  1,     11,     11,2,19940113,1939,-45.1822, -52.0952, 6012,   4197.3,   1.0690,  34.7170,2,  34.7170,2,    207.1,2,    208.9,2,   111.80,2,    32.29,2,     2.18,2,    0.094,2,    0.053,2, -999.000,9,-999.0000,9,  -999.00,9,   -999.0,9,   -999.0,9,     7.88,2,  0.7410
 3230CITHER2_1,  A17C,    19,  1,     10,     10,2,19940113,1939,-45.1822, -52.0952, 6012,   4399.6,   0.8770,  34.7040,2,  34.7040,2,    210.4,2,    211.7,2,   120.30,2,    32.85,2,     2.20,2,    0.114,2,    0.073,2, -999.000,9,-999.0000,9,  -999.00,9,   -999.0,9,   -999.0,9,     7.87,2,  0.5330
 3230CITHER2_1,  A17C,    19,  1,      9,      9,2,19940113,1939,-45.1822, -52.0952, 6012,   4596.7,   0.6910,  34.6940,2,  34.6940,2,    213.3,2,    212.7,2,   124.90,2,    33.05,2,     2.22,2,    0.122,2,    0.068,2, -999.000,9,-999.0000,9,  -999.00,9,   -999.0,9,   -999.0,9,     7.86,2,  0.3300
 3230CITHER2_1,  A17C,    19,  1,      8,      8,2,19940113,1939,-45.1822, -52.0952, 6012,   4797.9,   0.5420,  34.6870,2,  34.6850,2,    216.1,2,    217.3,2,   127.90,2,    33.35,2,     2.24,2,    0.123,2,    0.081,2, -999.000,9,-999.0000,9,  -999.00,9,   -999.0,9,   -999.0,9,     7.86,2,  0.1640
 3230CITHER2_1,  A17C,    19,  1,      7,      7,2,19940113,1939,-45.1822, -52.0952, 6012,   4997.7,   0.4270,  34.6810,2,  34.6850,2,    219.0,2,    219.6,2,   128.60,2,    33.55,2,     2.24,2,    0.117,2,    0.080,2, -999.000,9,-999.0000,9,  -999.00,9,   -999.0,9,   -999.0,9,     7.86,2,  0.0300
 3230CITHER2_1,  A17C,    19,  1,      6,      6,2,19940113,1939,-45.1822, -52.0952, 6012,   5197.7,   0.3670,  34.6760,2,  34.6800,2,    220.8,2,    221.4,2,   129.70,2,    33.65,2,     2.25,2,    0.118,2,    0.076,2, -999.000,9,-999.0000,9,  -999.00,9,   -999.0,9,   -999.0,9,     7.86,2, -0.0520
 3230CITHER2_1,  A17C,    19,  1,      5,      5,2,19940113,1939,-45.1822, -52.0952, 6012,   5397.4,   0.3430,  34.6740,2,  34.6740,2,    221.8,2,    222.4,2,   130.30,2,    33.65,2,     2.26,2,    0.134,2,    0.084,2, -999.000,9,-999.0000,9,  -999.00,9,   -999.0,9,   -999.0,9,     7.86,2, -0.0990
 3230CITHER2_1,  A17C,    19,  1,      4,      4,2,19940113,1939,-45.1822, -52.0952, 6012,   5598.0,   0.3320,  34.6730,2,  34.6740,2,    223.4,2,    223.1,2,   130.10,2,    33.67,2,     2.27,2,    0.141,2,    0.090,2, -999.000,9,-999.0000,9,  -999.00,9,   -999.0,9,   -999.0,9,     7.86,2, -0.1330
 3230CITHER2_1,  A17C,    19,  1,      3,      3,2,19940113,1939,-45.1822, -52.0952, 6012,   5798.6,   0.3290,  34.6710,2,  34.6760,2,    223.7,2,    222.8,2,   130.00,2,    33.70,2,     2.28,2,    0.159,2,    0.099,2, -999.000,9,-999.0000,9,  -999.00,9,   -999.0,9,   -999.0,9,     7.86,2, -0.1610
 3230CITHER2_1,  A17C,    19,  1,      2,      2,2,19940113,1939,-45.1822, -52.0952, 6012,   5998.0,   0.3420,  34.6700,2,  34.6740,2,    224.4,2,    223.1,2,   130.90,2,    33.54,2,     2.28,2,    0.172,2,    0.107,2, -999.000,9,-999.0000,9,  -999.00,9,   -999.0,9,   -999.0,9,     7.87,2, -0.1740
 3230CITHER2_1,  A17C,    19,  1,      1,      1,2,19940113,1939,-45.1822, -52.0952, 6012,   6130.2,   0.3530,  34.6690,2,  34.6730,2,    224.3,2,    223.5,2,   131.10,2,    33.90,2,     2.29,2,    0.184,2,    0.112,2, -999.000,9,-999.0000,9,  -999.00,9,   -999.0,9,   -999.0,9,     7.87,2, -0.1800