BOTTLE,20030515WHPSIOSA
EXPOCODE,SECT_ID,STNNBR,CASTNO,SAMPNO,BTLNBR,BTLNBR_FLAG_W,DATE,TIME,LATITUDE,LONGITUDE,DEPTH,CTDPRS,CTDTMP,CTDSAL,CTDSAL_FLAG_W,SALNTY,SALNTY_FLAG_W,CTDOXY,CTDOXY_FLAG_W,OXYGEN,OXYGEN_FLAG_W,SILCAT,SILCAT_FLAG_W,NITRAT,NITRAT_FLAG_W,PHSPHT,PHSPHT_FLAG_W,CFC-11,CFC-11_FLAG_W,CFC-12,CFC-12_FLAG_W,TRITUM,TRITUM_FLAG_W,HELIUM,HELIUM_FLAG_W,DELHE3,DELHE3_FLAG_W,TCARBN,TCARBN_FLAG_W,ALKALI,ALKALI_FLAG_W,PH,PH_FLAG_W,THETA
,,,,,,,,,,,,DBAR,ITS-90,PSS-78,,PSS-78,,UMOL/KG,,UMOL/KG,,UMOL/KG,,UMOL/KG,,UMOL/KG,,PMOL/KG,,PMOL/KG,,TU,,NMOL/KG,,PERCNT,,UMOL/KG,,UMOL/KG,,,,DEG C
 3230CITHER2_2,  A17N,   225,  1,     32,     32,2,19940318,2024,  7.8728, -50.3355, 4387,      7.9,  26.5220,  36.1840,2,  36.1850,2,    202.4,2,    202.1,2,     1.80,2,     0.00,2,     0.04,2,    1.769,2,    0.987,2, -999.000,9,-999.0000,9,  -999.00,9,   -999.0,9,   -999.0,9,     8.38,2, 26.5200
 3230CITHER2_2,  A17N,   225,  1,     31,     31,2,19940318,2024,  7.8728, -50.3355, 4387,     70.1,  25.7820,  36.3210,2,  36.3260,2,    208.7,2,    204.6,2,     1.50,2,     0.00,2,     0.01,2,    1.805,2,    1.015,2, -999.000,9,-999.0000,9,  -999.00,9,   -999.0,9,   -999.0,9,     8.38,2, 25.7660
 3230CITHER2_2,  A17N,   225,  1,     30,     30,2,19940318,2024,  7.8728, -50.3355, 4387,     90.8,  24.3600,  36.4380,2,  36.4670,2,    189.4,2,    189.8,2,     1.80,2,     0.42,2,     0.09,2,    1.769,2,    0.974,2, -999.000,9,-999.0000,9,  -999.00,9,   -999.0,9,   -999.0,9,     8.33,2, 24.3410
 3230CITHER2_2,  A17N,   225,  1,     29,     29,2,19940318,2024,  7.8728, -50.3355, 4387,    202.2,  11.9410,  35.3500,2,  35.3450,2,    113.6,2,    114.6,2,    11.00,2,    23.43,2,     1.49,2,    0.861,2,    0.465,2, -999.000,9,-999.0000,9,  -999.00,9,   -999.0,9,   -999.0,9,     7.97,2, 11.9150
 3230CITHER2_2,  A17N,   225,  1,     28,     28,2,19940318,2024,  7.8728, -50.3355, 4387,    300.8,   9.3530,  34.9420,2,  34.9400,2,    116.0,2,    113.8,2,    15.60,2,    28.73,2,     1.84,2,    0.461,2,    0.249,2, -999.000,9,-999.0000,9,  -999.00,9,   -999.0,9,   -999.0,9,     7.90,2,  9.3190
 3230CITHER2_2,  A17N,   225,  1,     27,     27,2,19940318,2024,  7.8728, -50.3355, 4387,    400.9,   7.7060,  34.7310,2,  34.7320,2,    128.4,2,    126.9,2,    19.20,2,    31.19,2,     2.02,2,    0.331,2,    0.184,2, -999.000,9,-999.0000,9,  -999.00,9,   -999.0,9,   -999.0,9,     7.87,2,  7.6660
 3230CITHER2_2,  A17N,   225,  1,     26,     26,2,19940318,2024,  7.8728, -50.3355, 4387,    500.3,   6.9850,  34.7010,2,  34.6970,2,    118.0,2,    117.1,2,    22.60,2,    33.47,2,     2.18,2,    0.122,2,    0.074,2, -999.000,9,-999.0000,9,  -999.00,9,   -999.0,9,   -999.0,9,     7.84,2,  6.9370
 3230CITHER2_2,  A17N,   225,  1,     25,     25,2,19940318,2024,  7.8728, -50.3355, 4387,    600.7,   5.9100,  34.6260,2,  34.6240,2,    125.6,2,    129.8,2,    26.50,2,    34.30,2,     2.27,2,    0.069,2,    0.043,2, -999.000,9,-999.0000,9,  -999.00,9,   -999.0,9,   -999.0,9,     7.83,2,  5.8570
 3230CITHER2_2,  A17N,   225,  1,     24,     24,2,19940318,2024,  7.8728, -50.3355, 4387,    801.4,   5.0690,  34.6310,2,  34.6280,2,    145.0,2,    141.5,2,    30.20,2,    34.11,2,     2.28,2,    0.019,2,    0.012,2, -999.000,9,-999.0000,9,  -999.00,9,   -999.0,9,   -999.0,9,     7.84,2,  5.0030
 3230CITHER2_2,  A17N,   225,  1,     23,     23,2,19940318,2024,  7.8728, -50.3355, 4387,   1000.0,   4.8210,  34.7390,2,  34.7390,2,    159.8,2,    159.6,2,    28.80,2,    31.43,2,     2.09,2,    0.011,2,    0.010,2, -999.000,9,-999.0000,9,  -999.00,9,   -999.0,9,   -999.0,9,     7.88,2,  4.7390
 3230CITHER2_2,  A17N,   225,  1,     22,     22,2,19940318,2024,  7.8728, -50.3355, 4387,   1200.8,   4.6940,  34.8630,2,  34.8650,2,    185.3,2,    185.0,2,    24.70,2,    27.10,2,     1.82,2,    0.027,2,    0.020,2, -999.000,9,-999.0000,9,  -999.00,9,   -999.0,9,   -999.0,9,     7.92,2,  4.5940
 3230CITHER2_2,  A17N,   225,  1,     20,     20,2,19940318,2024,  7.8728, -50.3355, 4387,   1394.6,   4.6760,  34.9380,2,  34.9360,2,    205.3,2,    204.9,2,    21.40,2,    23.94,2,     1.61,2,    0.064,2,    0.036,2, -999.000,9,-999.0000,9,  -999.00,9,   -999.0,9,   -999.0,9,     7.96,2,  4.5580
 3230CITHER2_2,  A17N,   225,  1,     21,     21,2,19940318,2024,  7.8728, -50.3355, 4387,   1394.8,   4.6760,  34.9380,2,  34.9370,2,    205.3,2,    205.3,2,    21.30,2,    23.97,2,     1.61,2,    0.065,2,    0.040,2, -999.000,9,-999.0000,9,  -999.00,9,   -999.0,9,   -999.0,9,     7.96,2,  4.5580
 3230CITHER2_2,  A17N,   225,  1,     19,     19,2,19940318,2024,  7.8728, -50.3355, 4387,   1500.6,   4.5990,  34.9650,2,  34.9650,2,    216.4,2,    216.7,2,    19.70,2,    22.56,2,     1.56,2,    0.091,2,    0.056,2, -999.000,9,-999.0000,9,  -999.00,9,   -999.0,9,   -999.0,9,     7.97,2,  4.4720
 3230CITHER2_2,  A17N,   225,  1,     18,     18,2,19940318,2024,  7.8728, -50.3355, 4387,   1598.5,   4.4720,  34.9900,2,  34.9900,2,    230.3,2,    231.3,2,    17.80,2,    21.13,2,     1.38,2,    0.142,2,    0.083,2, -999.000,9,-999.0000,9,  -999.00,9,   -999.0,9,   -999.0,9,     7.99,2,  4.3370
 3230CITHER2_2,  A17N,   225,  1,     17,     17,2,19940318,2024,  7.8728, -50.3355, 4387,   1701.1,   4.4120,  35.0070,2,  35.0080,2,    239.5,2,    241.5,2,    16.20,2,    19.97,2,     1.29,2,    0.241,2,    0.138,2, -999.000,9,-999.0000,9,  -999.00,9,   -999.0,9,   -999.0,9,     8.01,2,  4.2680
 3230CITHER2_2,  A17N,   225,  1,     16,     16,2,19940318,2024,  7.8728, -50.3355, 4387,   1798.5,   4.1530,  35.0030,2,  34.9980,2,    249.9,2,    250.0,2,    15.90,2,    19.28,2,     1.25,2,    0.223,2,    0.126,2, -999.000,9,-999.0000,9,  -999.00,9,   -999.0,9,   -999.0,9,     8.01,2,  4.0030
 3230CITHER2_2,  A17N,   225,  1,     15,     15,2,19940318,2024,  7.8728, -50.3355, 4387,   1999.8,   3.8630,  34.9910,2,  34.9930,2,    255.3,2,    255.8,2,    16.70,2,    19.06,2,     1.24,2,    0.151,2,    0.093,2, -999.000,9,-999.0000,9,  -999.00,9,   -999.0,9,   -999.0,9,     8.02,2,  3.6970
 3230CITHER2_2,  A17N,   225,  1,     14,     14,2,19940318,2024,  7.8728, -50.3355, 4387,   2199.9,   3.4970,  34.9790,2,  34.9790,2,    258.8,2,    259.4,2,    19.10,2,    19.06,2,     1.24,2,    0.083,2,    0.052,2, -999.000,9,-999.0000,9,  -999.00,9,   -999.0,9,   -999.0,9,     8.02,2,  3.3180
 3230CITHER2_2,  A17N,   225,  1,     13,     13,2,19940318,2024,  7.8728, -50.3355, 4387,   2397.7,   3.1740,  34.9600,2,  34.9580,2,    259.1,2,    261.4,2,    21.40,2,    19.10,2,     1.24,2,    0.105,2,    0.060,2, -999.000,9,-999.0000,9,  -999.00,9,   -999.0,9,   -999.0,9,     8.02,2,  2.9810
 3230CITHER2_2,  A17N,   225,  1,     12,     12,2,19940318,2024,  7.8728, -50.3355, 4387,   2597.7,   3.0060,  34.9520,2,  34.9500,2,    261.3,2,    261.4,2,    23.10,2,    19.07,2,     1.25,2,    0.105,2,    0.060,2, -999.000,9,-999.0000,9,  -999.00,9,   -999.0,9,   -999.0,9,     8.02,2,  2.7960
 3230CITHER2_2,  A17N,   225,  1,     11,     11,2,19940318,2024,  7.8728, -50.3355, 4387,   2797.6,   2.8560,  34.9430,2,  34.9400,2,    261.6,2,    262.4,2,    24.50,2,    19.03,2,     1.25,2,    0.124,2,    0.072,2, -999.000,9,-999.0000,9,  -999.00,9,   -999.0,9,   -999.0,9,     8.02,2,  2.6290
 3230CITHER2_2,  A17N,   225,  1,     10,     10,2,19940318,2024,  7.8728, -50.3355, 4387,   2999.1,   2.7160,  34.9330,2,  34.9320,2,    262.8,2,    263.6,2,    25.90,2,    19.07,2,     1.25,2,    0.140,2,    0.080,2, -999.000,9,-999.0000,9,  -999.00,9,   -999.0,9,   -999.0,9,     8.02,2,  2.4710
 3230CITHER2_2,  A17N,   225,  1,      9,      9,2,19940318,2024,  7.8728, -50.3355, 4387,   3198.2,   2.5250,  34.9190,2,  34.9180,2,    263.2,2,    264.7,2,    27.90,2,    19.16,2,     1.25,2,    0.157,2,    0.087,2, -999.000,9,-999.0000,9,  -999.00,9,   -999.0,9,   -999.0,9,     8.02,2,  2.2640
 3230CITHER2_2,  A17N,   225,  1,      8,      8,2,19940318,2024,  7.8728, -50.3355, 4387,   3398.3,   2.4470,  34.9140,2,  34.9120,2,    264.4,2,    265.5,2,    28.60,2,    19.04,2,     1.26,2,    0.170,2,    0.097,2, -999.000,9,-999.0000,9,  -999.00,9,   -999.0,9,   -999.0,9,     8.02,2,  2.1670
 3230CITHER2_2,  A17N,   225,  1,      7,      7,2,19940318,2024,  7.8728, -50.3355, 4387,   3549.2,   2.4140,  34.9120,2,  34.9110,2,    265.1,2,    265.3,2,    28.90,2,    19.09,2,     1.26,2,    0.179,2,    0.103,2, -999.000,9,-999.0000,9,  -999.00,9,   -999.0,9,   -999.0,9,     8.02,2,  2.1180
 3230CITHER2_2,  A17N,   225,  1,      6,      6,2,19940318,2024,  7.8728, -50.3355, 4387,   3696.5,   2.3910,  34.9080,2,  34.9080,2,    265.2,2,    265.8,2,    29.40,2,    19.05,2,     1.25,2,    0.182,2,    0.100,2, -999.000,9,-999.0000,9,  -999.00,9,   -999.0,9,   -999.0,9,     8.02,2,  2.0800
 3230CITHER2_2,  A17N,   225,  1,      5,      5,2,19940318,2024,  7.8728, -50.3355, 4387,   3847.9,   2.3780,  34.9070,2,  34.9030,2,    264.8,2,    265.1,2,    30.30,2,    19.09,2,     1.26,2,    0.171,2,    0.097,2, -999.000,9,-999.0000,9,  -999.00,9,   -999.0,9,   -999.0,9,     8.02,2,  2.0500
 3230CITHER2_2,  A17N,   225,  1,      4,      4,2,19940318,2024,  7.8728, -50.3355, 4387,   3999.4,   2.3640,  34.9040,2,  34.9030,2,    265.1,2,    265.5,2,    30.30,2,    19.10,2,     1.26,2,    0.177,2,    0.100,2, -999.000,9,-999.0000,9,  -999.00,9,   -999.0,9,   -999.0,9,     8.02,2,  2.0200
 3230CITHER2_2,  A17N,   225,  1,      3,      3,2,19940318,2024,  7.8728, -50.3355, 4387,   4199.9,   2.2820,  34.8970,2,  34.8990,2,    263.8,2,    263.9,2,    33.50,2,    19.53,2,     1.29,2,    0.128,2,    0.077,2, -999.000,9,-999.0000,9,  -999.00,9,   -999.0,9,   -999.0,9,     8.02,2,  1.9170
 3230CITHER2_2,  A17N,   225,  1,      2,      2,2,19940318,2024,  7.8728, -50.3355, 4387,   4399.1,   2.0210,  34.8620,2,  34.8650,2,    254.6,2,    252.4,2,    50.60,2,    21.99,2,     1.47,2,    0.045,2,    0.033,2, -999.000,9,-999.0000,9,  -999.00,9,   -999.0,9,   -999.0,9,     8.00,2,  1.6410
 3230CITHER2_2,  A17N,   225,  1,      1,      1,2,19940318,2024,  7.8728, -50.3355, 4387,   4441.5,   1.9060,  34.8480,2,  34.8510,2,    250.8,2,    247.3,2,    58.70,2,    22.99,2,     1.54,2,    0.031,2,    0.021,2, -999.000,9,-999.0000,9,  -999.00,9,   -999.0,9,   -999.0,9,     7.99,2,  1.5240
 3230CITHER2_2,  A17N,   226,  1,     32,     32,2,19940319,0240,  7.4437, -50.5813, 4278,      5.2,  27.3560,  35.9780,2,  35.9770,2,    186.8,2,    198.5,2,     1.80,2,     0.04,2,     0.07,2,    1.677,2,    0.941,2, -999.000,9,-999.0000,9,  -999.00,9,   2007.9,2,   2368.9,2,     8.38,2, 27.3550
 3230CITHER2_2,  A17N,   226,  1,     31,     31,2,19940319,0240,  7.4437, -50.5813, 4278,     80.1,  26.8920,  36.3370,2,  36.3430,2,    196.0,2,    197.3,2,     1.60,2,     0.04,2,     0.08,2,    1.700,2,    0.947,2, -999.000,9,-999.0000,9,  -999.00,9,   2032.2,2,   2389.5,2,     8.37,2, 26.8740
 3230CITHER2_2,  A17N,   226,  1,     30,     30,2,19940319,0240,  7.4437, -50.5813, 4278,    121.4,  22.0950,  36.9150,2,  36.9270,2,    161.7,2,    156.1,2,     2.30,2,     4.93,2,     0.26,2,    1.830,2,    0.986,2, -999.000,9,-999.0000,9,  -999.00,9,   2125.2,2,   2423.1,2,     8.25,2, 22.0710
 3230CITHER2_2,  A17N,   226,  1,     29,     29,2,19940319,0240,  7.4437, -50.5813, 4278,    202.2,  11.9850,  35.3600,2,  35.3650,2,    108.6,2,    107.7,2,    10.80,2,    24.00,2,     1.52,2,    0.824,2,    0.448,2, -999.000,9,-999.0000,9,  -999.00,9,   2194.1,2,   2337.1,2,     7.96,2, 11.9590
 3230CITHER2_2,  A17N,   226,  1,     28,     28,2,19940319,0240,  7.4437, -50.5813, 4278,    300.8,   9.5460,  34.9860,2,  34.7360,2,     98.2,2,    122.0,2,    19.70,2,    31.84,2,     2.05,2,    0.273,2,    0.153,2, -999.000,9,-999.0000,9,  -999.00,9,   2209.9,2,   2314.5,2,     7.86,2,  9.5120
 3230CITHER2_2,  A17N,   226,  1,     27,     27,2,19940319,0240,  7.4437, -50.5813, 4278,    400.0,   7.6460,  34.7360,2,  34.7360,2,    111.2,2,    122.0,2,    19.70,2,    31.81,2,     2.05,2,    0.272,2,    0.153,2, -999.000,9,-999.0000,9,  -999.00,9,   2212.5,2,   2311.0,2,     7.86,2,  7.6060
 3230CITHER2_2,  A17N,   226,  1,     26,     26,2,19940319,0240,  7.4437, -50.5813, 4278,    501.3,   6.8810,  34.6850,2,  34.6860,2,    118.8,2,    121.8,2,    22.40,2,    33.26,2,     2.16,2,    0.151,2,    0.089,2, -999.000,9,-999.0000,9,  -999.00,9,   2215.6,2,   2313.9,2,     7.84,2,  6.8340
 3230CITHER2_2,  A17N,   226,  1,     25,     25,2,19940319,0240,  7.4437, -50.5813, 4278,    601.7,   6.0660,  34.6380,2,  34.6360,2,    122.7,2,    123.1,2,    25.90,2,    34.62,2,     2.27,2,    0.059,2,    0.033,2, -999.000,9,-999.0000,9,  -999.00,9,   2223.2,2,   2313.0,2,     7.82,2,  6.0130
 3230CITHER2_2,  A17N,   226,  1,     24,     24,2,19940319,0240,  7.4437, -50.5813, 4278,    798.5,   5.2770,  34.6360,2,  34.6360,2,    136.4,2,    136.3,2,    29.30,2,    34.38,2,     2.27,2,    0.019,2,    0.013,2, -999.000,9,-999.0000,9,  -999.00,9,   2225.6,2,   2316.8,2,     7.83,2,  5.2100
 3230CITHER2_2,  A17N,   226,  1,     23,     23,2,19940319,0240,  7.4437, -50.5813, 4278,   1000.1,   4.8600,  34.7070,2,  34.7090,2,    152.0,2,    152.9,2,    29.30,2,    32.28,2,     2.15,2,    0.008,2,    0.007,2, -999.000,9,-999.0000,9,  -999.00,9,   2220.5,2,   2321.2,2,     7.86,2,  4.7770
 3230CITHER2_2,  A17N,   226,  1,     21,     21,2,19940319,0240,  7.4437, -50.5813, 4278,   1200.4,   4.8960,  34.8650,2,  34.8640,2,    179.3,2,    178.6,2,    24.70,2,    27.77,2,     1.84,2,    0.034,2,    0.024,2, -999.000,9,-999.0000,9,  -999.00,9,   2206.8,2,   2326.4,2,     7.91,2,  4.7950
 3230CITHER2_2,  A17N,   226,  1,     22,     22,2,19940319,0240,  7.4437, -50.5813, 4278,   1200.9,   4.8960,  34.8640,2,  34.8620,2,    179.5,2,    178.7,2,    24.70,2,    27.77,2,     1.83,2,    0.037,2,    0.022,2, -999.000,9,-999.0000,9,  -999.00,9,   -999.0,5,   2326.4,2,     7.91,2,  4.7940
 3230CITHER2_2,  A17N,   226,  1,     20,     20,2,19940319,0240,  7.4437, -50.5813, 4278,   1400.4,   4.6610,  34.9190,2,  34.9180,2,    202.7,2,    200.3,2,    22.10,2,    24.76,2,     1.65,2,    0.048,2,    0.032,2, -999.000,9,-999.0000,9,  -999.00,9,   2192.1,2,   2328.8,2,     7.95,2,  4.5430
 3230CITHER2_2,  A17N,   226,  1,     19,     19,2,19940319,0240,  7.4437, -50.5813, 4278,   1499.6,   4.6080,  34.9550,2,  34.9570,2,    215.6,2,    213.3,2,    20.30,2,    23.20,2,     1.53,2,    0.081,2,    0.052,2, -999.000,9,-999.0000,9,  -999.00,9,   2183.6,2,   2327.0,2,     7.97,2,  4.4810
 3230CITHER2_2,  A17N,   226,  1,     18,     18,2,19940319,0240,  7.4437, -50.5813, 4278,   1601.2,   4.6020,  35.0020,2,  35.0020,2,    228.5,2,    229.8,2,    17.40,2,    21.12,2,     1.37,2,    0.194,2,    0.110,2, -999.000,9,-999.0000,9,  -999.00,9,   2173.7,2,   2328.1,2,     7.99,2,  4.4650
 3230CITHER2_2,  A17N,   226,  1,     17,     17,2,19940319,0240,  7.4437, -50.5813, 4278,   1700.1,   4.3310,  34.9950,2,  34.9950,2,    237.8,2,    237.9,2,    17.20,2,    20.58,2,     1.33,2,    0.135,2,    0.079,2, -999.000,9,-999.0000,9,  -999.00,9,   2171.1,2,   2326.1,2,     8.00,2,  4.1880
 3230CITHER2_2,  A17N,   226,  1,     16,     16,2,19940319,0240,  7.4437, -50.5813, 4278,   1800.6,   4.1470,  34.9940,2,  34.9850,2,    245.7,2,    245.1,2,    17.10,2,    20.04,2,     1.29,2,    0.121,2,    0.075,2, -999.000,9,-999.0000,9,  -999.00,9,   2167.2,2,   2325.7,2,     8.01,2,  3.9970
 3230CITHER2_2,  A17N,   226,  1,     15,     15,2,19940319,0240,  7.4437, -50.5813, 4278,   1999.5,   3.8240,  34.9870,2,  34.9870,2,    253.7,2,    253.3,2,    17.70,2,    19.47,2,     1.25,2,    0.091,2,    0.064,2, -999.000,9,-999.0000,9,  -999.00,9,   2163.4,2,   2327.6,2,     8.02,2,  3.6590
 3230CITHER2_2,  A17N,   226,  1,     14,     14,2,19940319,0240,  7.4437, -50.5813, 4278,   2199.4,   3.5380,  34.9790,2,  34.9790,2,    258.5,2,    258.0,2,    19.10,2,    19.12,2,     1.23,2,    0.080,2,    0.052,2, -999.000,9,-999.0000,9,  -999.00,9,   2163.3,2,   2328.9,2,     8.02,2,  3.3580
 3230CITHER2_2,  A17N,   226,  1,     13,     13,2,19940319,0240,  7.4437, -50.5813, 4278,   2399.6,   3.2640,  34.9640,2,  34.9630,2,    259.7,2,    259.9,2,    21.00,2,    19.09,2,     1.24,2,    0.085,2,    0.053,2, -999.000,9,-999.0000,9,  -999.00,9,   2162.8,2,   2329.7,2,     8.02,2,  3.0690
 3230CITHER2_2,  A17N,   226,  1,     12,     12,2,19940319,0240,  7.4437, -50.5813, 4278,   2597.4,   3.0470,  34.9530,2,  34.9540,2,    259.0,2,    258.7,2,    24.30,2,    19.52,2,     1.26,2,    0.055,2,    0.038,2, -999.000,9,-999.0000,9,  -999.00,9,   2167.9,2,   2334.0,2,     8.02,2,  2.8360
 3230CITHER2_2,  A17N,   226,  1,     11,     11,2,19940319,0240,  7.4437, -50.5813, 4278,   2797.6,   2.8550,  34.9410,2,  34.9420,2,    257.8,2,    259.0,2,    26.90,2,    19.67,2,     1.27,2,    0.061,2,    0.036,2, -999.000,9,-999.0000,9,  -999.00,9,   2170.5,2,   2335.8,2,     8.02,2,  2.6280
 3230CITHER2_2,  A17N,   226,  1,     10,     10,2,19940319,0240,  7.4437, -50.5813, 4278,   2999.1,   2.6970,  34.9300,2,  34.9320,2,    257.9,2,    260.1,2,    29.50,2,    19.95,2,     1.28,2,    0.071,2,    0.045,2, -999.000,9,-999.0000,9,  -999.00,9,   2173.9,2,   2338.1,2,     8.02,2,  2.4530
 3230CITHER2_2,  A17N,   226,  1,      9,      9,2,19940319,0240,  7.4437, -50.5813, 4278,   3200.1,   2.5700,  34.9220,2,  34.9220,2,    261.6,2,    262.5,2,    28.90,2,    19.49,2,     1.26,2,    0.128,2,    0.070,2, -999.000,9,-999.0000,9,  -999.00,9,   2172.0,2,   2335.6,2,     8.02,2,  2.3080
 3230CITHER2_2,  A17N,   226,  1,      8,      8,2,19940319,0240,  7.4437, -50.5813, 4278,   3398.4,   2.4700,  34.9130,2,  34.9160,2,    259.9,2,    260.6,2,    32.10,2,    19.88,2,     1.28,2,    0.082,2,    0.048,2, -999.000,9,-999.0000,9,  -999.00,9,   2175.2,2,   2340.0,2,     8.02,2,  2.1890
 3230CITHER2_2,  A17N,   226,  1,      7,      7,2,19940319,0240,  7.4437, -50.5813, 4278,   3547.8,   2.3970,  34.9080,2,  34.9080,2,    262.2,2,    263.5,2,    31.20,2,    19.49,2,     1.26,2,    0.126,2,    0.073,2, -999.000,9,-999.0000,9,  -999.00,9,   2174.1,2,   2336.7,2,     8.02,2,  2.1020
 3230CITHER2_2,  A17N,   226,  1,      6,      6,2,19940319,0240,  7.4437, -50.5813, 4278,   3699.5,   2.3650,  34.9070,2,  34.9080,2,    264.6,2,    265.3,2,    30.50,2,    19.30,2,     1.25,2,    0.167,2,    0.097,2, -999.000,9,-999.0000,9,  -999.00,9,   2173.5,2,   2337.1,2,     8.02,2,  2.0540
 3230CITHER2_2,  A17N,   226,  1,      5,      5,2,19940319,0240,  7.4437, -50.5813, 4278,   3850.2,   2.3510,  34.9040,2,  34.9060,2,    264.4,2,    264.9,2,    31.20,2,    19.38,2,     1.25,2,    0.162,2,    0.093,2, -999.000,9,-999.0000,9,  -999.00,9,   2172.0,2,   2338.1,2,     8.02,2,  2.0240
 3230CITHER2_2,  A17N,   226,  1,      4,      4,2,19940319,0240,  7.4437, -50.5813, 4278,   3998.7,   2.3410,  34.9020,2,  34.9040,2,    264.6,2,    264.7,2,    31.70,2,    19.46,2,     1.26,2,    0.159,2,    0.092,2, -999.000,9,-999.0000,9,  -999.00,9,   2173.9,2,   2338.2,2,     8.01,2,  1.9970
 3230CITHER2_2,  A17N,   226,  1,      3,      3,2,19940319,0240,  7.4437, -50.5813, 4278,   4146.5,   2.3060,  34.8990,2,  34.9010,2,    263.9,2,    264.1,2,    33.20,2,    19.70,2,     1.29,2,    0.150,2,    0.086,2, -999.000,9,-999.0000,9,  -999.00,9,   2176.0,2,   2339.1,2,     8.01,2,  1.9460
 3230CITHER2_2,  A17N,   226,  1,      2,      2,2,19940319,0240,  7.4437, -50.5813, 4278,   4249.2,   2.2480,  34.8920,2,  34.8930,2,    262.6,2,    262.4,2,    35.40,2,    19.86,2,     1.31,2,    0.132,2,    0.079,2, -999.000,9,-999.0000,9,  -999.00,9,   2177.6,2,   2335.0,2,     8.01,2,  1.8780
 3230CITHER2_2,  A17N,   226,  1,      1,      1,2,19940319,0240,  7.4437, -50.5813, 4278,   4321.8,   2.1240,  34.8770,2,  34.8780,2,    259.9,2,    257.2,2,    43.10,2,    20.95,2,     1.40,2,    0.077,2,    0.053,2, -999.000,9,-999.0000,9,  -999.00,9,   2188.4,2,   2347.9,3,     8.01,2,  1.7490