BOTTLE,20030515WHPSIOSA
EXPOCODE,SECT_ID,STNNBR,CASTNO,SAMPNO,BTLNBR,BTLNBR_FLAG_W,DATE,TIME,LATITUDE,LONGITUDE,DEPTH,CTDPRS,CTDTMP,CTDSAL,CTDSAL_FLAG_W,SALNTY,SALNTY_FLAG_W,CTDOXY,CTDOXY_FLAG_W,OXYGEN,OXYGEN_FLAG_W,SILCAT,SILCAT_FLAG_W,NITRAT,NITRAT_FLAG_W,PHSPHT,PHSPHT_FLAG_W,CFC-11,CFC-11_FLAG_W,CFC-12,CFC-12_FLAG_W,TRITUM,TRITUM_FLAG_W,HELIUM,HELIUM_FLAG_W,DELHE3,DELHE3_FLAG_W,TCARBN,TCARBN_FLAG_W,ALKALI,ALKALI_FLAG_W,PH,PH_FLAG_W,THETA
,,,,,,,,,,,,DBAR,ITS-90,PSS-78,,PSS-78,,UMOL/KG,,UMOL/KG,,UMOL/KG,,UMOL/KG,,UMOL/KG,,PMOL/KG,,PMOL/KG,,TU,,NMOL/KG,,PERCNT,,UMOL/KG,,UMOL/KG,,,,DEG C
 3230CITHER2_1,  A17C,    12,  1,     32,     32,2,19940111,1716,-48.1007, -54.6353, 5575,      4.5,  12.4430,  34.2150,2,  34.2200,2,    278.8,2,    281.0,2,  -999.00,5,  -999.00,5,  -999.00,5,    3.817,2,    1.981,2, -999.000,9,-999.0000,9,  -999.00,9,   2037.4,2,   -999.0,5,     8.24,2, 12.4420
 3230CITHER2_1,  A17C,    12,  1,     31,     31,2,19940111,1716,-48.1007, -54.6353, 5575,     49.7,   9.4390,  34.1960,2,  34.1950,2,    290.2,2,    284.8,2,     1.60,2,    12.20,2,     1.03,2,    4.375,2,    2.203,2, -999.000,9,-999.0000,9,  -999.00,9,   2073.3,2,   2299.9,2,     8.17,2,  9.4340
 3230CITHER2_1,  A17C,    12,  1,     30,     30,2,19940111,1716,-48.1007, -54.6353, 5575,    100.9,   4.9500,  34.1470,2,  34.1420,2,    293.6,2,    295.0,2,     7.50,2,    23.02,2,     1.59,2,    5.183,2,    2.507,2, -999.000,9,-999.0000,9,  -999.00,9,   2126.6,2,   2289.6,2,     8.02,2,  4.9420
 3230CITHER2_1,  A17C,    12,  1,     29,     29,2,19940111,1716,-48.1007, -54.6353, 5575,    200.9,   4.2330,  34.1450,2,  34.1450,2,    291.1,2,    288.9,2,    11.20,2,    25.19,2,     1.72,2,    4.793,2,    2.349,2, -999.000,9,-999.0000,9,  -999.00,9,   2138.5,2,   2291.5,2,     7.99,2,  4.2190
 3230CITHER2_1,  A17C,    12,  1,     28,     28,2,19940111,1716,-48.1007, -54.6353, 5575,    302.0,   3.8060,  34.1450,2,  34.1470,2,    283.8,2,    283.2,2,    16.10,2,    27.41,2,     1.85,2,    4.238,2,    2.103,2, -999.000,9,-999.0000,9,  -999.00,9,   2151.8,2,   2296.2,2,     7.97,2,  3.7850
 3230CITHER2_1,  A17C,    12,  1,     27,     27,2,19940111,1716,-48.1007, -54.6353, 5575,    400.5,   3.3620,  34.1600,2,  34.1610,2,    268.9,2,    263.9,2,    22.10,2,    29.28,2,     1.98,2, -999.000,5, -999.000,5, -999.000,9,-999.0000,9,  -999.00,9,   2167.7,2,   2299.8,2,     7.95,2,  3.3360
 3230CITHER2_1,  A17C,    12,  1,     26,     26,2,19940111,1716,-48.1007, -54.6353, 5575,    600.6,   2.8080,  34.2490,2,  34.2480,2,    238.1,2,    232.7,2,    38.00,2,    32.46,2,     2.20,2,    2.414,2,    1.236,2, -999.000,9,-999.0000,9,  -999.00,9,   2200.5,2,   2313.9,2,     7.89,2,  2.7700
 3230CITHER2_1,  A17C,    12,  1,     25,     25,2,19940111,1716,-48.1007, -54.6353, 5575,    799.8,   2.6130,  34.3640,2,  34.3620,2,    208.9,2,    204.0,2,    53.20,2,    34.22,2,     2.33,2,    1.326,2,    0.685,2, -999.000,9,-999.0000,9,  -999.00,9,   2224.3,2,   2326.0,2,     7.85,2,  2.5630
 3230CITHER2_1,  A17C,    12,  1,     24,     24,2,19940111,1716,-48.1007, -54.6353, 5575,   1001.0,   2.4910,  34.4600,2,  34.4600,2,    186.9,2,    185.8,2,    65.00,2,    34.73,2,     2.38,2,    0.773,2,    0.403,2, -999.000,9,-999.0000,9,  -999.00,9,   2241.3,2,   2340.0,2,     7.83,2,  2.4270
 3230CITHER2_1,  A17C,    12,  1,     23,     23,2,19940111,1716,-48.1007, -54.6353, 5575,   1200.3,   2.3700,  34.5490,2,  34.5500,2,    177.9,2,    176.0,2,    75.20,2,    34.88,2,     2.37,2,    0.438,2,    0.247,2, -999.000,9,-999.0000,9,  -999.00,9,   2252.5,2,   2349.1,2,     7.82,2,  2.2920
 3230CITHER2_1,  A17C,    12,  1,     22,     22,2,19940111,1716,-48.1007, -54.6353, 5575,   1399.8,   2.5020,  34.6470,2,  34.6460,2,    184.6,2,    178.5,2,    74.90,2,    33.17,2,     2.25,2,    0.193,2,    0.105,2, -999.000,9,-999.0000,9,  -999.00,9,   2249.2,2,   2354.4,2,     7.84,2,  2.4080
 3230CITHER2_1,  A17C,    12,  1,     21,     21,2,19940111,1716,-48.1007, -54.6353, 5575,   1600.3,   2.5660,  34.7140,2,  34.7130,2,    192.0,2,    186.9,2,    72.50,2,    31.61,2,     2.12,2,    0.114,2,    0.071,2, -999.000,9,-999.0000,9,  -999.00,9,   2240.9,2,   2354.8,2,     7.87,2,  2.4550
 3230CITHER2_1,  A17C,    12,  1,     20,     20,2,19940111,1716,-48.1007, -54.6353, 5575,   1798.0,   2.5470,  34.7560,2,  34.7550,2,    194.0,2,    194.6,2,    71.80,2,    30.50,2,     2.02,2,    0.078,2,    0.052,2, -999.000,9,-999.0000,9,  -999.00,9,   2235.5,2,   2354.3,2,     7.88,2,  2.4190
 3230CITHER2_1,  A17C,    12,  1,     19,     19,2,19940111,1716,-48.1007, -54.6353, 5575,   1998.5,   2.4970,  34.7860,2,  34.7850,2,    203.0,2,    204.5,2,    69.70,2,    29.19,2,     1.96,2,    0.052,2,    0.041,2, -999.000,9,-999.0000,9,  -999.00,9,   2229.7,3,   2356.4,2,     7.90,2,  2.3530
 3230CITHER2_1,  A17C,    12,  1,     18,     18,2,19940111,1716,-48.1007, -54.6353, 5575,   2199.5,   1.9190,  34.7210,2,  34.7210,2,    185.4,2,    185.0,2,    97.00,2,    32.77,2,     2.21,2,    0.080,2,    0.053,2, -999.000,9,-999.0000,9,  -999.00,9,   2257.7,2,   2368.3,2,     7.86,2,  1.7670
 3230CITHER2_1,  A17C,    12,  1,     17,     17,2,19940111,1716,-48.1007, -54.6353, 5575,   2399.9,   1.8630,  34.7440,2,  34.7490,2,    191.7,2,    193.7,2,    94.20,2,    31.98,2,     2.15,2,    0.057,2,    0.044,2, -999.000,9,-999.0000,9,  -999.00,9,   2251.3,2,   2367.4,2,     7.88,2,  1.6940
 3230CITHER2_1,  A17C,    12,  1,     16,     16,2,19940111,1716,-48.1007, -54.6353, 5575,   2598.6,   1.5590,  34.7260,2,  34.7250,2,    192.5,2,    191.7,2,   106.40,2,    32.93,2,     2.23,2,    0.073,2,    0.038,2, -999.000,9,-999.0000,9,  -999.00,9,   2260.0,2,   2373.4,2,     7.86,2,  1.3780
 3230CITHER2_1,  A17C,    12,  1,     15,     15,2,19940111,1716,-48.1007, -54.6353, 5575,   2798.1,   1.4170,  34.7240,2,  34.7230,2,    196.9,2,    195.6,2,   109.40,2,    32.78,2,     2.22,2,    0.079,2,    0.051,2, -999.000,9,-999.0000,9,  -999.00,9,   2259.0,2,   2372.3,2,     7.87,2,  1.2210
 3230CITHER2_1,  A17C,    12,  1,     14,     14,2,19940111,1716,-48.1007, -54.6353, 5575,   2999.2,   1.3470,  34.7220,2,  34.7220,2,    197.2,2,    197.2,2,   111.00,2,    32.83,2,     2.22,2,    0.090,2,    0.060,2, -999.000,9,-999.0000,9,  -999.00,9,   2260.6,2,   2373.4,2,     7.87,2,  1.1330
 3230CITHER2_1,  A17C,    12,  1,     13,     13,2,19940111,1716,-48.1007, -54.6353, 5575,   3298.1,   1.2430,  34.7220,2,  34.7220,2,    201.7,2,    201.4,2,   112.80,2,    32.58,2,     2.22,2,    0.101,2,    0.061,2, -999.000,9,-999.0000,9,  -999.00,9,   2258.7,2,   2373.3,2,     7.87,2,  1.0030
 3230CITHER2_1,  A17C,    12,  1,     12,     12,2,19940111,1716,-48.1007, -54.6353, 5575,   3598.2,   1.0010,  34.7100,2,  34.7090,2,    206.2,2,    206.2,2,   119.90,2,    32.78,2,     2.23,2,    0.145,2,    0.085,2, -999.000,9,-999.0000,9,  -999.00,9,   2260.2,2,   2373.8,2,     7.87,2,  0.7380
 3230CITHER2_1,  A17C,    12,  1,     11,     11,2,19940111,1716,-48.1007, -54.6353, 5575,   3798.9,   0.9580,  34.7060,2,  34.7040,2,    206.9,2,    206.9,2,   120.80,2,    33.34,2,     2.25,2,    0.162,2,    0.093,2, -999.000,9,-999.0000,9,  -999.00,9,   2260.8,2,   2372.2,2,     7.86,2,  0.6750
 3230CITHER2_1,  A17C,    12,  1,     10,     10,2,19940111,1716,-48.1007, -54.6353, 5575,   3999.1,   0.7630,  34.7000,2,  34.6990,2,    212.1,2,    212.2,2,   122.00,2,    33.19,2,     2.25,2,    0.127,2,    0.076,2, -999.000,9,-999.0000,9,  -999.00,9,   2259.8,2,   2372.9,2,     7.87,2,  0.4650
 3230CITHER2_1,  A17C,    12,  1,      9,      9,2,19940111,1716,-48.1007, -54.6353, 5575,   4198.9,   0.5800,  34.6900,2,  34.6920,2,    215.9,2,    215.7,2,   122.20,2,    33.29,2,     2.27,2,    0.142,2,    0.087,2, -999.000,9,-999.0000,9,  -999.00,9,   2261.1,2,   2374.1,2,     7.87,2,  0.2660
 3230CITHER2_1,  A17C,    12,  1,      7,      7,2,19940111,1716,-48.1007, -54.6353, 5575,   4398.8,   0.4480,  34.6830,2,  34.6810,2,    218.7,2,    218.2,2,   123.70,2,    33.71,2,     2.27,2,    0.138,2,    0.074,2, -999.000,9,-999.0000,9,  -999.00,9,   2261.1,2,   2373.3,2,     7.87,2,  0.1170
 3230CITHER2_1,  A17C,    12,  1,      8,      8,2,19940111,1716,-48.1007, -54.6353, 5575,   4399.4,   0.4480,  34.6830,2,  34.6830,2,    218.7,2,    218.4,2,  -999.00,5,    33.45,2,     2.28,2,    0.136,2,    0.086,2, -999.000,9,-999.0000,9,  -999.00,9,   -999.0,5,   2373.3,2,     7.87,2,  0.1170
 3230CITHER2_1,  A17C,    12,  1,      6,      6,2,19940111,1716,-48.1007, -54.6353, 5575,   4597.8,   0.3510,  34.6780,2,  34.6780,2,    220.8,2,    220.7,2,   125.30,2,    33.50,2,     2.30,2,    0.135,2,    0.085,2, -999.000,9,-999.0000,9,  -999.00,9,   2262.6,2,   2376.4,2,     7.87,2,  0.0010
 3230CITHER2_1,  A17C,    12,  1,      5,      5,2,19940111,1716,-48.1007, -54.6353, 5575,   4798.7,   0.3130,  34.6770,2,  34.6780,2,    222.5,2,    222.0,2,   128.70,2,    33.50,2,     2.31,2,    0.145,2,    0.089,2, -999.000,9,-999.0000,9,  -999.00,9,   2263.1,2,   2375.8,2,     7.87,2, -0.0580
 3230CITHER2_1,  A17C,    12,  1,      4,      4,2,19940111,1716,-48.1007, -54.6353, 5575,   4996.6,   0.2910,  34.6740,2,  34.6730,2,    223.4,2,    222.6,2,   130.30,2,    33.55,2,     2.31,2,    0.159,2,    0.094,2, -999.000,9,-999.0000,9,  -999.00,9,   2263.1,2,   2376.0,2,     7.87,2, -0.1020
 3230CITHER2_1,  A17C,    12,  1,      3,      3,2,19940111,1716,-48.1007, -54.6353, 5575,   5197.8,   0.2930,  34.6730,2,  34.6740,2,    224.3,2,    223.3,2,   130.50,2,    33.66,2,     2.30,2,    0.169,2,    0.101,2, -999.000,9,-999.0000,9,  -999.00,9,   2262.8,2,   2376.0,2,     7.87,2, -0.1230
 3230CITHER2_1,  A17C,    12,  1,      2,      2,2,19940111,1716,-48.1007, -54.6353, 5575,   5398.0,   0.2970,  34.6720,2,  34.6710,2,    224.7,2,   -999.0,5,   131.20,2,    33.76,2,     2.30,2,    0.163,2,    0.097,2, -999.000,9,-999.0000,9,  -999.00,9,   2263.1,2,   2375.8,2,     7.87,2, -0.1430
 3230CITHER2_1,  A17C,    12,  1,      1,      1,2,19940111,1716,-48.1007, -54.6353, 5575,   5680.6,   0.3050,  34.6710,2,  34.6720,2,    224.1,2,    224.7,2,   132.00,2,    33.71,2,     2.31,2,    0.186,2,    0.106,2, -999.000,9,-999.0000,9,  -999.00,9,   2264.7,2,   2377.6,2,     7.87,2, -0.1700
 3230CITHER2_1,  A17C,    13,  1,     32,     32,2,19940112,0004,-47.6892, -54.2387, 5817,      6.1,  13.5930,  34.5980,2,  34.6760,2,    262.9,2,    267.8,2,     0.30,2,     4.37,2,     0.47,2,    3.423,2,    1.869,2, -999.000,9,-999.0000,9,  -999.00,9,   2044.7,2,   -999.0,9,     8.24,2, 13.5920
 3230CITHER2_1,  A17C,    13,  1,     31,     31,2,19940112,0004,-47.6892, -54.2387, 5817,     51.2,  11.8370,  34.6790,2,  34.5980,2,    274.8,2,    263.8,2,     0.70,2,     7.84,2,     0.69,2,    3.662,2,    1.963,2, -999.000,9,-999.0000,9,  -999.00,9,   2070.9,2,   -999.0,9,     8.20,2, 11.8300
 3230CITHER2_1,  A17C,    13,  1,     30,     30,2,19940112,0004,-47.6892, -54.2387, 5817,    102.1,   8.6590,  34.5560,2,  34.5570,2,    255.2,2,    257.6,2,     4.30,2,    16.90,2,     1.20,2,    3.946,2,    2.082,2, -999.000,9,-999.0000,9,  -999.00,9,   2111.7,2,   -999.0,9,     8.09,2,  8.6480
 3230CITHER2_1,  A17C,    13,  1,     29,     29,2,19940112,0004,-47.6892, -54.2387, 5817,    150.8,   7.1190,  34.3880,2,  34.3860,2,    268.9,2,    267.7,2,     5.70,2,    19.70,2,     1.37,2,    4.244,2,    2.206,2, -999.000,9,-999.0000,9,  -999.00,9,   2119.2,2,   -999.0,9,     8.05,2,  7.1050
 3230CITHER2_1,  A17C,    13,  1,     28,     28,2,19940112,0004,-47.6892, -54.2387, 5817,    200.8,   5.1010,  34.1680,2,  34.1730,2,    269.1,2,    292.3,2,     7.70,2,    22.50,2,     1.58,2,    4.873,2,    2.471,2, -999.000,9,-999.0000,9,  -999.00,9,   2126.1,2,   -999.0,9,     8.02,2,  5.0850
 3230CITHER2_1,  A17C,    13,  1,     27,     27,2,19940112,0004,-47.6892, -54.2387, 5817,    399.6,   4.0820,  34.1890,2,  34.1880,2,    268.6,2,    267.2,2,    16.50,2,    27.66,2,     1.87,2,    3.707,2,    1.883,2, -999.000,9,-999.0000,9,  -999.00,9,   -999.0,9,   -999.0,9,     7.96,2,  4.0540
 3230CITHER2_1,  A17C,    13,  1,     26,     26,2,19940112,0004,-47.6892, -54.2387, 5817,    600.6,   3.2910,  34.2070,2,  34.2080,2,    256.6,2,    254.2,2,    26.20,2,    30.49,2,     2.06,2,    2.990,2,    1.537,2, -999.000,9,-999.0000,9,  -999.00,9,   -999.0,9,   -999.0,9,     7.92,2,  3.2510
 3230CITHER2_1,  A17C,    13,  1,     25,     25,2,19940112,0004,-47.6892, -54.2387, 5817,    800.8,   2.7880,  34.2810,2,  34.2800,2,    229.1,2,    228.2,2,    40.60,2,    33.27,2,     2.24,2,    1.991,2,    1.031,2, -999.000,9,-999.0000,9,  -999.00,9,   -999.0,9,   -999.0,9,     7.88,2,  2.7370
 3230CITHER2_1,  A17C,    13,  1,     24,     24,2,19940112,0004,-47.6892, -54.2387, 5817,   1001.9,   2.6620,  34.3870,2,  34.3850,2,    203.5,2,    201.4,2,    53.00,2,    34.18,2,     2.33,2,    1.099,2,    0.574,2, -999.000,9,-999.0000,9,  -999.00,9,   -999.0,9,   -999.0,9,     7.84,2,  2.5970
 3230CITHER2_1,  A17C,    13,  1,     23,     23,2,19940112,0004,-47.6892, -54.2387, 5817,   1300.1,   2.6760,  34.5520,2,  34.5530,2,    182.2,2,    181.7,2,    63.80,2,    33.83,2,     2.33,2,    0.345,2,    0.191,2, -999.000,9,-999.0000,9,  -999.00,9,   -999.0,9,   -999.0,9,     7.84,2,  2.5880
 3230CITHER2_1,  A17C,    13,  1,     22,     22,2,19940112,0004,-47.6892, -54.2387, 5817,   1599.7,   2.6490,  34.6600,2,  34.6620,2,    182.6,2,    183.2,2,    68.80,2,    33.03,2,     2.22,2,    0.169,2,    0.098,2, -999.000,9,-999.0000,9,  -999.00,9,   -999.0,9,   -999.0,9,     7.85,2,  2.5370
 3230CITHER2_1,  A17C,    13,  1,     21,     21,2,19940112,0004,-47.6892, -54.2387, 5817,   1800.6,   2.6900,  34.7280,2,  34.7270,2,    189.7,2,    191.5,2,    67.10,2,    31.16,2,     2.08,2,    0.097,2,    0.060,2, -999.000,9,-999.0000,9,  -999.00,9,   -999.0,9,   -999.0,9,     7.87,2,  2.5600
 3230CITHER2_1,  A17C,    13,  1,     20,     20,2,19940112,0004,-47.6892, -54.2387, 5817,   2000.1,   2.5660,  34.7500,2,  34.7500,2,    192.1,2,    194.0,2,    71.50,2,    30.61,2,     2.06,2,    0.076,2,    0.050,2, -999.000,9,-999.0000,9,  -999.00,9,   -999.0,9,   -999.0,9,     7.88,2,  2.4210
 3230CITHER2_1,  A17C,    13,  1,     19,     19,2,19940112,0004,-47.6892, -54.2387, 5817,   2149.6,   2.6190,  34.7900,2,  34.7890,2,    205.6,2,    203.7,2,    66.00,2,    28.99,2,     1.94,2,    0.059,2,    0.039,2, -999.000,9,-999.0000,9,  -999.00,9,   -999.0,9,   -999.0,9,     7.90,2,  2.4590
 3230CITHER2_1,  A17C,    13,  1,     18,     18,2,19940112,0004,-47.6892, -54.2387, 5817,   2397.2,   2.6060,  34.8370,2,  34.8340,2,    210.5,2,    220.5,2,    57.50,2,    26.51,2,     1.78,2,    0.029,2,    0.027,2, -999.000,9,-999.0000,9,  -999.00,9,   -999.0,9,   -999.0,9,     7.93,2,  2.4230
 3230CITHER2_1,  A17C,    13,  1,     17,     17,2,19940112,0004,-47.6892, -54.2387, 5817,   2599.6,   2.3150,  34.8100,2,  34.8110,2,    219.0,2,    213.7,2,    69.50,2,    28.09,2,     1.88,2,    0.033,2,    0.030,2, -999.000,9,-999.0000,9,  -999.00,9,   -999.0,9,   -999.0,9,     7.92,2,  2.1190
 3230CITHER2_1,  A17C,    13,  1,     16,     16,2,19940112,0004,-47.6892, -54.2387, 5817,   2798.9,   2.0280,  34.7840,2,  34.7870,2,    207.8,2,    208.9,2,    80.80,2,    29.70,2,     1.98,2,    0.035,2,    0.038,2, -999.000,9,-999.0000,9,  -999.00,9,   -999.0,9,   -999.0,9,     7.91,2,  1.8190
 3230CITHER2_1,  A17C,    13,  1,     15,     15,2,19940112,0004,-47.6892, -54.2387, 5817,   2999.2,   1.7910,  34.7700,2,  34.7690,2,    205.3,2,    207.1,2,    89.30,2,    30.51,2,     2.04,2,    0.037,2,    0.037,2, -999.000,9,-999.0000,9,  -999.00,9,   -999.0,9,   -999.0,9,     7.90,2,  1.5670
 3230CITHER2_1,  A17C,    13,  1,     14,     14,2,19940112,0004,-47.6892, -54.2387, 5817,   3300.5,   1.4190,  34.7380,2,  34.7380,2,    204.6,2,    204.2,2,   129.10,2,    34.25,2,     2.31,2,    0.069,2,    0.043,2, -999.000,9,-999.0000,9,  -999.00,9,   -999.0,9,   -999.0,9,     7.88,2,  1.1750
 3230CITHER2_1,  A17C,    13,  1,     13,     13,2,19940112,0004,-47.6892, -54.2387, 5817,   3597.6,   1.1450,  34.7240,2,  34.7220,2,    207.0,2,    206.9,2,   113.10,2,    32.54,2,     2.19,2, -999.000,5, -999.000,5, -999.000,9,-999.0000,9,  -999.00,9,   -999.0,9,   -999.0,9,     7.88,2,  0.8780
 3230CITHER2_1,  A17C,    13,  1,     12,     12,2,19940112,0004,-47.6892, -54.2387, 5817,   3798.8,   0.9600,  34.7130,2,  34.7120,2,    209.1,2,    209.4,2,   117.00,2,    33.04,2,     2.22,2,    0.088,2,    0.055,2, -999.000,9,-999.0000,9,  -999.00,9,   -999.0,9,   -999.0,9,     7.88,2,  0.6770
 3230CITHER2_1,  A17C,    13,  1,     11,     11,2,19940112,0004,-47.6892, -54.2387, 5817,   3999.6,   0.7680,  34.7000,2,  34.7010,2,    211.6,2,    212.3,2,   121.50,2,    33.35,2,     2.26,2,    0.102,2,    0.069,2, -999.000,9,-999.0000,9,  -999.00,9,   -999.0,9,   -999.0,9,     7.87,2,  0.4700
 3230CITHER2_1,  A17C,    13,  1,     10,     10,2,19940112,0004,-47.6892, -54.2387, 5817,   4199.2,   0.5760,  34.6900,2,  34.6900,2,    214.8,2,    217.8,2,   123.20,2,    33.46,2,     2.28,2,    0.139,2,    0.079,2, -999.000,9,-999.0000,9,  -999.00,9,   -999.0,9,   -999.0,9,     7.87,2,  0.2620
 3230CITHER2_1,  A17C,    13,  1,      8,      8,2,19940112,0004,-47.6892, -54.2387, 5817,   4398.5,   0.4500,  34.6840,2,  34.6840,2,    217.6,2,    218.5,2,   125.40,2,    33.31,2,     2.28,2,    0.138,2,    0.082,2, -999.000,9,-999.0000,9,  -999.00,9,   -999.0,9,   -999.0,9,     7.87,2,  0.1190
 3230CITHER2_1,  A17C,    13,  1,      9,      9,2,19940112,0004,-47.6892, -54.2387, 5817,   4398.7,   0.4510,  34.6840,2,  34.6840,2,    217.6,2,    219.7,2,   125.50,2,    33.56,2,     2.30,2, -999.000,5,    0.080,2, -999.000,9,-999.0000,9,  -999.00,9,   -999.0,9,   -999.0,9,     7.87,2,  0.1200
 3230CITHER2_1,  A17C,    13,  1,      7,      7,2,19940112,0004,-47.6892, -54.2387, 5817,   4598.2,   0.3720,  34.6800,2,  34.6810,2,    219.8,2,    219.6,2,   125.40,2,    33.66,2,     2.28,2,    0.126,2,    0.071,2, -999.000,9,-999.0000,9,  -999.00,9,   -999.0,9,   -999.0,9,     7.87,2,  0.0220
 3230CITHER2_1,  A17C,    13,  1,      6,      6,2,19940112,0004,-47.6892, -54.2387, 5817,   4798.8,   0.3060,  34.6770,2,  34.6770,2,    221.7,2,    222.2,2,   128.00,2,    33.77,2,     2.30,2,    0.126,2,    0.084,2, -999.000,9,-999.0000,9,  -999.00,9,   -999.0,9,   -999.0,9,     7.88,2, -0.0650
 3230CITHER2_1,  A17C,    13,  1,      5,      5,2,19940112,0004,-47.6892, -54.2387, 5817,   4996.9,   0.2880,  34.6740,2,  34.6740,2,    222.9,2,    222.8,2,   130.60,2,    34.17,2,     2.31,2,    0.146,2,    0.093,2, -999.000,9,-999.0000,9,  -999.00,9,   -999.0,9,   -999.0,9,     7.87,2, -0.1040
 3230CITHER2_1,  A17C,    13,  1,      4,      4,2,19940112,0004,-47.6892, -54.2387, 5817,   5197.0,   0.2840,  34.6730,2,  34.6770,2,    223.7,2,    223.2,2,  -999.00,5,  -999.00,5,  -999.00,5,    0.162,2,    0.098,2, -999.000,9,-999.0000,9,  -999.00,9,   -999.0,9,   -999.0,9,     7.88,2, -0.1320
 3230CITHER2_1,  A17C,    13,  1,      3,      3,2,19940112,0004,-47.6892, -54.2387, 5817,   5397.9,   0.2860,  34.6710,2,  34.6740,2,    224.7,2,    223.5,2,   131.50,2,    34.07,2,     2.31,2,    0.171,2,    0.104,2, -999.000,9,-999.0000,9,  -999.00,9,   -999.0,9,   -999.0,9,     7.87,2, -0.1530
 3230CITHER2_1,  A17C,    13,  1,      2,      2,2,19940112,0004,-47.6892, -54.2387, 5817,   5595.5,   0.2960,  34.6700,2,  34.6720,2,    225.2,2,    225.7,2,   132.00,2,    33.97,2,     2.30,2,    0.185,2,    0.108,2, -999.000,9,-999.0000,9,  -999.00,9,   -999.0,9,   -999.0,9,     7.88,2, -0.1680
 3230CITHER2_1,  A17C,    13,  1,      1,      1,2,19940112,0004,-47.6892, -54.2387, 5817,   5944.2,   0.3250,  34.6690,2,  34.6730,2,    225.1,2,    226.0,2,   131.20,2,    33.97,2,     2.30,2,    0.208,2,    0.122,2, -999.000,9,-999.0000,9,  -999.00,9,   -999.0,9,   -999.0,9,     7.88,2, -0.1830