BOTTLE,20030515WHPSIOSA
EXPOCODE,SECT_ID,STNNBR,CASTNO,SAMPNO,BTLNBR,BTLNBR_FLAG_W,DATE,TIME,LATITUDE,LONGITUDE,DEPTH,CTDPRS,CTDTMP,CTDSAL,CTDSAL_FLAG_W,SALNTY,SALNTY_FLAG_W,CTDOXY,CTDOXY_FLAG_W,OXYGEN,OXYGEN_FLAG_W,SILCAT,SILCAT_FLAG_W,NITRAT,NITRAT_FLAG_W,PHSPHT,PHSPHT_FLAG_W,CFC-11,CFC-11_FLAG_W,CFC-12,CFC-12_FLAG_W,TRITUM,TRITUM_FLAG_W,HELIUM,HELIUM_FLAG_W,DELHE3,DELHE3_FLAG_W,TCARBN,TCARBN_FLAG_W,ALKALI,ALKALI_FLAG_W,PH,PH_FLAG_W,THETA
,,,,,,,,,,,,DBAR,ITS-90,PSS-78,,PSS-78,,UMOL/KG,,UMOL/KG,,UMOL/KG,,UMOL/KG,,UMOL/KG,,PMOL/KG,,PMOL/KG,,TU,,NMOL/KG,,PERCNT,,UMOL/KG,,UMOL/KG,,,,DEG C
 3230CITHER2_2,  A17N,   201,  1,     32,     32,2,19940312,0203,  7.4158, -44.5083, 4566,      3.8,  26.8840,  36.3850,2,  36.3840,2,    193.2,2,    199.4,2,     1.80,2,     0.22,2,     0.06,2,    1.702,2,    0.963,2, -999.000,9,-999.0000,9,  -999.00,9,   2026.4,2,   2390.2,2,     8.37,2, 26.8830
 3230CITHER2_2,  A17N,   201,  1,     31,     31,2,19940312,0203,  7.4158, -44.5083, 4566,     95.9,  26.8510,  36.3840,2,  36.3830,2,    199.7,2,    198.3,2,     1.60,2,     0.04,2,     0.06,2,    1.705,2,    0.966,2, -999.000,9,-999.0000,9,  -999.00,9,   2027.5,2,   2388.6,2,     8.37,2, 26.8290
 3230CITHER2_2,  A17N,   201,  1,     30,     30,2,19940312,0203,  7.4158, -44.5083, 4566,    150.5,  20.0750,  36.5060,2,  36.5730,2,    149.5,2,    142.7,2,     3.70,2,     9.07,2,     0.52,2,    1.672,2,    0.915,2, -999.000,9,-999.0000,9,  -999.00,9,   2133.8,2,   2399.3,2,     8.20,2, 20.0470
 3230CITHER2_2,  A17N,   201,  1,     29,     29,2,19940312,0203,  7.4158, -44.5083, 4566,    201.1,  11.5710,  35.2350,2,  35.2470,2,    121.5,2,    120.0,2,    11.20,2,    23.70,2,     1.54,2,    0.892,2,    0.484,2, -999.000,9,-999.0000,9,  -999.00,9,   2183.1,2,   2329.8,2,     7.97,2, 11.5450
 3230CITHER2_2,  A17N,   201,  1,     28,     28,2,19940312,0203,  7.4158, -44.5083, 4566,    299.9,   9.1430,  34.8620,2,  34.8600,2,    119.2,2,    123.3,2,    15.50,2,    28.39,2,     1.85,2,    0.553,2,    0.305,2, -999.000,9,-999.0000,9,  -999.00,9,   2194.2,2,   2314.4,2,     7.90,2,  9.1100
 3230CITHER2_2,  A17N,   201,  1,     27,     27,2,19940312,0203,  7.4158, -44.5083, 4566,    399.4,   8.3020,  34.7640,2,  34.7630,2,    123.3,2,    122.6,2,    17.70,2,    30.49,2,     1.98,2,    0.394,2,    0.227,2, -999.000,9,-999.0000,9,  -999.00,9,   2200.1,2,   2311.5,2,     7.87,2,  8.2600
 3230CITHER2_2,  A17N,   201,  1,     26,     26,2,19940312,0203,  7.4158, -44.5083, 4566,    500.6,   8.1970,  34.8250,2,  34.8220,2,    110.4,2,     97.6,2,    19.10,2,    33.05,2,     2.11,2,    0.169,2,    0.107,2, -999.000,9,-999.0000,9,  -999.00,9,   2219.2,2,   2313.8,2,     7.82,2,  8.1450
 3230CITHER2_2,  A17N,   201,  1,     25,     25,2,19940312,0203,  7.4158, -44.5083, 4566,    601.1,   7.3610,  34.7600,2,  34.7560,2,    103.3,2,    102.3,2,    21.50,2,    34.69,2,     2.23,2,    0.107,2,    0.064,2, -999.000,9,-999.0000,9,  -999.00,9,   2224.0,2,   2312.0,2,     7.81,2,  7.3020
 3230CITHER2_2,  A17N,   201,  1,     24,     24,2,19940312,0203,  7.4158, -44.5083, 4566,    800.8,   6.0200,  34.6890,2,  34.6880,2,    116.5,2,    117.5,2,    27.00,2,    35.71,2,     2.33,2,    0.118,2,    0.072,2, -999.000,9,-999.0000,9,  -999.00,9,   2227.0,2,   2317.1,2,     7.81,2,  5.9480
 3230CITHER2_2,  A17N,   201,  1,     23,     23,2,19940312,0203,  7.4158, -44.5083, 4566,   1000.9,   5.0640,  34.7250,2,  34.7210,2,    144.1,2,    142.9,2,    28.50,2,    33.44,2,     2.21,2,    0.004,2,    0.005,2, -999.000,9,-999.0000,9,  -999.00,9,   2220.2,2,   2319.4,2,     7.84,2,  4.9800
 3230CITHER2_2,  A17N,   201,  1,     22,     22,2,19940312,0203,  7.4158, -44.5083, 4566,   1199.8,   4.9300,  34.9020,2,  34.9020,2,    182.6,2,    183.2,2,    23.60,2,    26.77,2,     1.78,2,    0.035,2,    0.024,2, -999.000,9,-999.0000,9,  -999.00,9,   2197.5,2,   2326.1,2,     7.92,2,  4.8280
 3230CITHER2_2,  A17N,   201,  1,     21,     21,2,19940312,0203,  7.4158, -44.5083, 4566,   1400.7,   4.6400,  34.9990,2,  34.9970,2,    222.8,2,    226.0,2,    17.90,2,    21.24,2,     1.41,2,    0.161,2,    0.095,2, -999.000,9,-999.0000,9,  -999.00,9,   2174.6,2,   2323.5,2,     7.98,2,  4.5220
 3230CITHER2_2,  A17N,   201,  1,     20,     20,2,19940312,0203,  7.4158, -44.5083, 4566,   1500.0,   4.3660,  34.9930,2,  34.9910,2,    236.8,2,    235.1,2,    17.70,2,    20.48,2,     1.37,2,    0.112,2,    0.070,2, -999.000,9,-999.0000,9,  -999.00,9,   2167.8,2,   2327.4,2,     7.99,2,  4.2420
 3230CITHER2_2,  A17N,   201,  1,     19,     19,2,19940312,0203,  7.4158, -44.5083, 4566,   1601.0,   4.1270,  34.9900,2,  34.9880,2,    242.7,2,    241.8,2,    17.90,2,    20.26,2,     1.34,2,    0.076,2,    0.049,2, -999.000,9,-999.0000,9,  -999.00,9,   2166.5,2,   2325.1,2,     8.00,2,  3.9960
 3230CITHER2_2,  A17N,   201,  1,     18,     18,2,19940312,0203,  7.4158, -44.5083, 4566,   1700.4,   4.0000,  34.9880,2,  34.9890,2,    245.8,2,    247.1,2,    17.70,2,    19.94,2,     1.31,2,    0.082,2,    0.054,2, -999.000,9,-999.0000,9,  -999.00,9,   2164.3,2,   2326.6,2,     8.00,2,  3.8610
 3230CITHER2_2,  A17N,   201,  1,     17,     17,2,19940312,0203,  7.4158, -44.5083, 4566,   1799.9,   3.8600,  34.9850,2,  34.9850,2,    250.6,2,    249.9,2,    18.20,2,    19.72,2,     1.29,2,    0.066,2,    0.043,2, -999.000,9,-999.0000,9,  -999.00,9,   2164.9,2,   2326.6,2,     8.00,2,  3.7140
 3230CITHER2_2,  A17N,   201,  1,     16,     16,2,19940312,0203,  7.4158, -44.5083, 4566,   2000.9,   3.6290,  34.9790,2,  34.9780,2,    254.6,2,    253.9,2,    19.50,2,    19.49,2,     1.28,2,    0.045,2,    0.033,2, -999.000,9,-999.0000,9,  -999.00,9,   2162.7,2,   2325.6,2,     8.01,2,  3.4670
 3230CITHER2_2,  A17N,   201,  1,     15,     15,2,19940312,0203,  7.4158, -44.5083, 4566,   2199.3,   3.4000,  34.9680,2,  34.9670,2,    255.8,2,    255.0,2,    21.80,2,    19.71,2,     1.28,2,    0.023,2,    0.017,2, -999.000,9,-999.0000,9,  -999.00,9,   2164.5,2,   2328.2,2,     8.01,2,  3.2220
 3230CITHER2_2,  A17N,   201,  1,     14,     14,2,19940312,0203,  7.4158, -44.5083, 4566,   2399.0,   3.2370,  34.9610,2,  34.9590,2,    257.3,2,    256.7,2,    23.10,2,    19.49,2,     1.28,2,    0.031,2,    0.022,2, -999.000,9,-999.0000,9,  -999.00,9,   2165.2,2,   2332.0,2,     8.00,2,  3.0430
 3230CITHER2_2,  A17N,   201,  1,     13,     13,2,19940312,0203,  7.4158, -44.5083, 4566,   2699.2,   3.0470,  34.9510,2,  34.9520,2,    260.9,2,    260.0,2,    23.90,2,    19.40,2,     1.26,2,    0.071,2,    0.041,2, -999.000,9,-999.0000,9,  -999.00,9,   2165.2,2,   2330.9,2,     8.01,2,  2.8260
 3230CITHER2_2,  A17N,   201,  1,     12,     12,2,19940312,0203,  7.4158, -44.5083, 4566,   3000.4,   2.8300,  34.9380,2,  34.9380,2,    260.3,2,    259.5,2,    27.30,2,    19.44,2,     1.26,2,    0.062,2,    0.042,2, -999.000,9,-999.0000,9,  -999.00,9,   2169.3,2,   2334.5,2,     8.02,2,  2.5830
 3230CITHER2_2,  A17N,   201,  1,     11,     11,2,19940312,0203,  7.4158, -44.5083, 4566,   3199.2,   2.6720,  34.9270,2,  34.9240,2,    256.6,2,    256.2,2,    32.40,2,    20.41,2,     1.34,2,    0.025,2,    0.019,2, -999.000,9,-999.0000,9,  -999.00,9,   2175.6,2,   2338.0,2,     8.01,2,  2.4080
 3230CITHER2_2,  A17N,   201,  1,     10,     10,2,19940312,0203,  7.4158, -44.5083, 4566,   3399.5,   2.5340,  34.9160,2,  34.9150,2,    255.9,2,    257.5,2,    34.70,2,    20.59,2,     1.36,2,    0.029,2,    0.024,2, -999.000,9,-999.0000,9,  -999.00,9,   2177.4,2,   2341.9,2,     8.01,2,  2.2520
 3230CITHER2_2,  A17N,   201,  1,      9,      9,2,19940312,0203,  7.4158, -44.5083, 4566,   3548.4,   2.4470,  34.9100,2,  34.9100,2,    258.4,2,    260.2,2,    32.50,2,    19.76,2,     1.33,2, -999.000,5, -999.000,5, -999.000,9,-999.0000,9,  -999.00,9,   -999.0,5,   2339.3,2,     8.01,2,  2.1470
 3230CITHER2_2,  A17N,   201,  1,      8,      8,2,19940312,0203,  7.4158, -44.5083, 4566,   3548.7,   2.4430,  34.9110,2,  34.9100,2,    258.5,2,    260.1,2,    33.00,2,    19.93,2,     1.33,2,    0.064,2,    0.037,2, -999.000,9,-999.0000,9,  -999.00,9,   2174.8,2,   2339.3,2,     8.01,2,  2.1510
 3230CITHER2_2,  A17N,   201,  1,      7,      7,2,19940312,0203,  7.4158, -44.5083, 4566,   3698.1,   2.3800,  34.9060,2,  34.9070,2,    262.1,2,    262.3,2,    31.50,2,    19.46,2,     1.32,2,    0.075,2,    0.048,2, -999.000,9,-999.0000,9,  -999.00,9,   2173.6,2,   2339.8,2,     8.01,2,  2.0690
 3230CITHER2_2,  A17N,   201,  1,      6,      6,2,19940312,0203,  7.4158, -44.5083, 4566,   3849.2,   2.3150,  34.9010,2,  34.9020,2,    263.1,2,    263.4,2,    32.30,2,    19.73,2,     1.31,2,    0.087,2,    0.056,2, -999.000,9,-999.0000,9,  -999.00,9,   2174.1,2,   2339.8,2,     8.01,2,  1.9890
 3230CITHER2_2,  A17N,   201,  1,      5,      5,2,19940312,0203,  7.4158, -44.5083, 4566,   3999.4,   2.2760,  34.8980,2,  34.8970,2,    263.5,2,    263.4,2,    32.90,2,    19.38,2,     1.31,2,    0.099,2,    0.065,2, -999.000,9,-999.0000,9,  -999.00,9,   2175.3,2,   2336.9,2,     8.01,2,  1.9340
 3230CITHER2_2,  A17N,   201,  1,      4,      4,2,19940312,0203,  7.4158, -44.5083, 4566,   4197.8,   2.2410,  34.8930,2,  34.8920,2,    262.2,2,    261.9,2,    35.00,2,    19.97,2,     1.32,2,    0.095,2,    0.068,2, -999.000,9,-999.0000,9,  -999.00,9,   2176.6,2,   2344.8,2,     8.01,2,  1.8770
 3230CITHER2_2,  A17N,   201,  1,      3,      3,2,19940312,0203,  7.4158, -44.5083, 4566,   4399.4,   2.1540,  34.8790,2,  34.8800,2,    258.9,2,    257.7,2,    41.20,2,    20.91,2,     1.41,2,    0.069,2,    0.048,2, -999.000,9,-999.0000,9,  -999.00,9,   2184.6,2,   2344.6,2,     8.00,2,  1.7690
 3230CITHER2_2,  A17N,   201,  1,      2,      2,2,19940312,0203,  7.4158, -44.5083, 4566,   4547.8,   1.8050,  34.8410,2,  34.8330,2,    253.0,2,    245.3,2,    63.80,2,    24.09,2,     1.62,2,    0.040,2,    0.031,2, -999.000,9,-999.0000,9,  -999.00,9,   2209.0,2,   2359.1,2,     7.98,2,  1.4140
 3230CITHER2_2,  A17N,   201,  1,      1,      1,2,19940312,0203,  7.4158, -44.5083, 4566,   4637.4,   1.4960,  34.8000,2,  34.8010,2,    237.9,2,    237.9,2,    77.60,2,    26.03,2,     1.78,2,    0.024,2,    0.016,2, -999.000,9,-999.0000,9,  -999.00,9,   2223.2,2,   2361.7,2,     7.96,2,  1.1040
 3230CITHER2_2,  A17N,   202,  1,     32,     32,2,19940312,0820,  7.7107, -45.0138, 4542,      6.4,  26.9490,  36.3340,2,  36.3350,2,    197.7,2,    199.7,2,     1.60,2,     0.04,2,     0.07,2,    1.712,2,    0.968,2, -999.000,9,-999.0000,9,  -999.00,9,   2022.0,2,   -999.0,9,     8.38,2, 26.9480
 3230CITHER2_2,  A17N,   202,  1,     31,     31,2,19940312,0820,  7.7107, -45.0138, 4542,     81.2,  26.8530,  36.3330,2,  36.3340,2,    201.8,2,    198.4,2,     1.60,2,     0.04,2,     0.08,2,    1.700,2,    0.955,2, -999.000,9,-999.0000,9,  -999.00,9,   2026.1,2,   -999.0,9,     8.37,2, 26.8340
 3230CITHER2_2,  A17N,   202,  1,     30,     30,2,19940312,0820,  7.7107, -45.0138, 4542,    124.6,  20.6300,  36.7540,2,  36.6410,2,    166.5,2,    138.9,2,     3.60,2,     9.63,2,     0.54,2,    1.715,2,    0.925,2, -999.000,9,-999.0000,9,  -999.00,9,   2143.6,2,   -999.0,9,     8.19,2, 20.6060
 3230CITHER2_2,  A17N,   202,  1,     29,     29,2,19940312,0820,  7.7107, -45.0138, 4542,    200.8,  10.7470,  35.0970,2,  35.0880,2,    116.6,2,    119.1,2,    12.50,2,    25.26,2,     1.67,2,    0.759,2,    0.407,2, -999.000,9,-999.0000,9,  -999.00,9,   2187.5,2,   -999.0,9,     7.94,2, 10.7230
 3230CITHER2_2,  A17N,   202,  1,     28,     28,2,19940312,0820,  7.7107, -45.0138, 4542,    300.8,   8.8470,  34.8230,2,  34.8250,2,    122.3,2,    121.0,2,    16.00,2,    29.49,2,     1.93,2,    0.478,2,    0.265,2, -999.000,9,-999.0000,9,  -999.00,9,   2198.9,2,   -999.0,9,     7.89,2,  8.8150
 3230CITHER2_2,  A17N,   202,  1,     27,     27,2,19940312,0820,  7.7107, -45.0138, 4542,    400.7,   8.0660,  34.7330,2,  34.7340,2,    128.7,2,    126.1,2,    17.80,2,    31.20,2,     2.02,2,    0.394,2,    0.219,2, -999.000,9,-999.0000,9,  -999.00,9,   2201.3,2,   -999.0,9,     7.87,2,  8.0250
 3230CITHER2_2,  A17N,   202,  1,     26,     26,2,19940312,0820,  7.7107, -45.0138, 4542,    501.3,   7.3350,  34.6680,2,  34.6670,2,    133.2,2,    133.2,2,    19.80,2,    31.97,2,     2.08,2,    0.337,2,    0.190,2, -999.000,9,-999.0000,9,  -999.00,9,   2202.6,2,   -999.0,9,     7.87,2,  7.2860
 3230CITHER2_2,  A17N,   202,  1,     25,     25,2,19940312,0820,  7.7107, -45.0138, 4542,    600.8,   7.3000,  34.7450,2,  34.7450,2,    105.9,2,    103.2,2,    21.70,2,    34.91,2,     2.26,2, -999.000,5, -999.000,5, -999.000,9,-999.0000,9,  -999.00,9,   2224.2,2,   -999.0,9,     7.82,2,  7.2410
 3230CITHER2_2,  A17N,   202,  1,     24,     24,2,19940312,0820,  7.7107, -45.0138, 4542,    800.3,   5.7000,  34.6730,2,  34.6680,2,    119.0,2,    120.1,2,    27.40,2,    35.28,2,     2.34,2,    0.010,2,    0.006,2, -999.000,9,-999.0000,9,  -999.00,9,   2227.1,2,   -999.0,9,     7.81,2,  5.6300
 3230CITHER2_2,  A17N,   202,  1,     23,     23,2,19940312,0820,  7.7107, -45.0138, 4542,   1000.1,   5.0350,  34.7470,2,  34.7460,2,    142.7,2,    147.0,2,    28.00,2,    32.64,2,     2.18,2,    0.003,2,    0.007,2, -999.000,9,-999.0000,9,  -999.00,9,   2218.1,2,   -999.0,9,     7.86,2,  4.9510
 3230CITHER2_2,  A17N,   202,  1,     22,     22,2,19940312,0820,  7.7107, -45.0138, 4542,   1201.5,   4.8830,  34.9070,2,  34.9050,2,    176.5,2,    184.7,2,    22.80,2,    26.42,2,     1.78,2,    0.033,2,    0.020,2, -999.000,9,-999.0000,9,  -999.00,9,   -999.0,9,   -999.0,9,     7.93,2,  4.7810
 3230CITHER2_2,  A17N,   202,  1,     21,     21,2,19940312,0820,  7.7107, -45.0138, 4542,   1399.8,   4.6820,  34.9930,2,  34.9930,2,    215.8,2,    221.6,2,    18.00,2,    21.86,2,     1.46,2,    0.135,2,    0.082,2, -999.000,9,-999.0000,9,  -999.00,9,   -999.0,9,   -999.0,9,     7.98,2,  4.5640
 3230CITHER2_2,  A17N,   202,  1,     20,     20,2,19940312,0820,  7.7107, -45.0138, 4542,   1502.5,   4.5100,  35.0050,2,  35.0050,2,    232.5,2,    235.1,2,    16.50,2,    20.76,2,     1.37,2,    0.191,2,    0.107,2, -999.000,9,-999.0000,9,  -999.00,9,   -999.0,9,   -999.0,9,     8.00,2,  4.3840
 3230CITHER2_2,  A17N,   202,  1,     19,     19,2,19940312,0820,  7.7107, -45.0138, 4542,   1600.1,   4.3120,  35.0040,2,  35.0020,2,    245.7,2,    243.4,2,    15.90,2,    19.97,2,     1.32,2,    0.193,2,    0.113,2, -999.000,9,-999.0000,9,  -999.00,9,   -999.0,9,   -999.0,9,     8.00,2,  4.1790
 3230CITHER2_2,  A17N,   202,  1,     18,     18,2,19940312,0820,  7.7107, -45.0138, 4542,   1700.9,   4.1190,  34.9990,2,  35.0000,2,    250.3,2,    248.7,2,    16.10,2,    19.62,2,     1.30,2,    0.162,2,    0.100,2, -999.000,9,-999.0000,9,  -999.00,9,   -999.0,9,   -999.0,9,     8.01,2,  3.9790
 3230CITHER2_2,  A17N,   202,  1,     17,     17,2,19940312,0820,  7.7107, -45.0138, 4542,   1799.8,   3.9300,  34.9940,2,  34.9930,2,    254.2,2,    253.1,2,    16.30,2,    19.37,2,     1.28,2,    0.128,2,    0.076,2, -999.000,9,-999.0000,9,  -999.00,9,   -999.0,9,   -999.0,9,     8.01,2,  3.7830
 3230CITHER2_2,  A17N,   202,  1,     16,     16,2,19940312,0820,  7.7107, -45.0138, 4542,   2000.6,   3.6160,  34.9750,2,  34.9700,2,    252.2,2,    251.3,2,    19.80,2,    19.92,2,     1.32,2,    0.030,2,    0.019,2, -999.000,9,-999.0000,9,  -999.00,9,   -999.0,9,   -999.0,9,     8.01,2,  3.4540
 3230CITHER2_2,  A17N,   202,  1,     15,     15,2,19940312,0820,  7.7107, -45.0138, 4542,   2199.7,   3.3490,  34.9640,2,  34.9630,2,    254.6,2,    253.8,2,    22.40,2,    19.88,2,     1.33,2,    0.015,2,    0.013,2, -999.000,9,-999.0000,9,  -999.00,9,   -999.0,9,   -999.0,9,     8.01,2,  3.1720
 3230CITHER2_2,  A17N,   202,  1,     14,     14,2,19940312,0820,  7.7107, -45.0138, 4542,   2400.7,   3.1540,  34.9540,2,  34.9540,2,    255.8,2,    255.0,2,    24.40,2,    20.03,2,     1.32,2,    0.015,2,    0.011,2, -999.000,9,-999.0000,9,  -999.00,9,   -999.0,9,   -999.0,9,     8.01,2,  2.9610
 3230CITHER2_2,  A17N,   202,  1,     13,     13,2,19940312,0820,  7.7107, -45.0138, 4542,   2699.6,   2.9680,  34.9460,2,  34.9470,2,    258.4,2,    257.6,2,    25.90,2,    19.77,2,     1.31,2,    0.030,2,    0.024,2, -999.000,9,-999.0000,9,  -999.00,9,   -999.0,9,   -999.0,9,     8.02,2,  2.7490
 3230CITHER2_2,  A17N,   202,  1,     12,     12,2,19940312,0820,  7.7107, -45.0138, 4542,   2998.1,   2.7770,  34.9330,2,  34.9310,2,    256.5,2,    255.8,2,    30.10,2,    20.15,2,     1.34,2,    0.020,2,    0.016,2, -999.000,9,-999.0000,9,  -999.00,9,   -999.0,9,   -999.0,9,     8.01,2,  2.5310
 3230CITHER2_2,  A17N,   202,  1,     11,     11,2,19940312,0820,  7.7107, -45.0138, 4542,   3200.3,   2.6610,  34.9240,2,  34.9220,2,    255.5,2,    255.3,2,    33.20,2,    20.61,2,     1.38,2,    0.015,2,    0.015,2, -999.000,9,-999.0000,9,  -999.00,9,   -999.0,9,   -999.0,9,     8.01,2,  2.3970
 3230CITHER2_2,  A17N,   202,  1,      9,      9,2,19940312,0820,  7.7107, -45.0138, 4542,   3398.7,   2.5450,  34.9150,2,  34.9170,2,    254.9,2,    253.0,2,    35.10,2,    20.86,2,     1.38,2,    0.024,2,    0.018,2, -999.000,9,-999.0000,9,  -999.00,9,   -999.0,9,   -999.0,9,     8.01,2,  2.2620
 3230CITHER2_2,  A17N,   202,  1,     10,     10,2,19940312,0820,  7.7107, -45.0138, 4542,   3399.2,   2.5440,  34.9160,2,  34.9180,2,    254.9,2,    255.2,2,    35.10,2,    20.80,2,     1.39,2,    0.024,2,    0.018,2, -999.000,9,-999.0000,9,  -999.00,9,   -999.0,9,   -999.0,9,     8.01,2,  2.2610
 3230CITHER2_2,  A17N,   202,  1,      8,      8,2,19940312,0820,  7.7107, -45.0138, 4542,   3548.7,   2.4700,  34.9070,2,  34.9070,2,    255.5,2,    255.8,2,    36.30,2,    20.92,2,     1.39,2,    0.025,2,    0.020,2, -999.000,9,-999.0000,9,  -999.00,9,   -999.0,9,   -999.0,9,     8.01,2,  2.1730
 3230CITHER2_2,  A17N,   202,  1,      7,      7,2,19940312,0820,  7.7107, -45.0138, 4542,   3698.3,   2.3800,  34.9010,2,  34.9020,2,    256.3,2,    257.6,2,    36.50,2,    20.66,2,     1.37,2,    0.049,2,    0.031,2, -999.000,9,-999.0000,9,  -999.00,9,   -999.0,9,   -999.0,9,     8.01,2,  2.0690
 3230CITHER2_2,  A17N,   202,  1,      6,      6,2,19940312,0820,  7.7107, -45.0138, 4542,   3847.4,   2.3370,  34.8980,2,  34.8990,2,    258.4,2,    259.1,2,    36.60,2,    20.49,2,     1.36,2,    0.043,2,    0.030,2, -999.000,9,-999.0000,9,  -999.00,9,   -999.0,9,   -999.0,9,     8.01,2,  2.0110
 3230CITHER2_2,  A17N,   202,  1,      5,      5,2,19940312,0820,  7.7107, -45.0138, 4542,   3999.5,   2.2810,  34.8920,2,  34.8920,2,    257.0,2,    258.3,2,    38.70,2,    20.59,2,     1.38,2,    0.049,2,    0.035,2, -999.000,9,-999.0000,9,  -999.00,9,   -999.0,9,   -999.0,9,     8.00,2,  1.9390
 3230CITHER2_2,  A17N,   202,  1,      4,      4,2,19940312,0820,  7.7107, -45.0138, 4542,   4196.3,   2.2060,  34.8840,2,  34.8850,2,    256.2,2,    257.2,2,    41.60,2,    20.92,2,     1.41,2,    0.049,2,    0.047,2, -999.000,9,-999.0000,9,  -999.00,9,   -999.0,9,   -999.0,9,     8.00,2,  1.8440
 3230CITHER2_2,  A17N,   202,  1,      3,      3,2,19940312,0820,  7.7107, -45.0138, 4542,   4399.0,   2.0910,  34.8720,2,  34.8730,2,    253.9,2,    254.5,2,    46.40,2,    21.52,2,     1.45,2,    0.056,2,    0.043,2, -999.000,9,-999.0000,9,  -999.00,9,   -999.0,9,   -999.0,9,     8.00,2,  1.7080
 3230CITHER2_2,  A17N,   202,  1,      2,      2,2,19940312,0820,  7.7107, -45.0138, 4542,   4497.2,   2.0450,  34.8640,2,  34.8660,2,    251.8,2,    252.6,2,    49.70,2,    21.90,2,     1.48,2,    0.051,2,    0.035,2, -999.000,9,-999.0000,9,  -999.00,9,   -999.0,9,   -999.0,9,     7.99,2,  1.6520
 3230CITHER2_2,  A17N,   202,  1,      1,      1,2,19940312,0820,  7.7107, -45.0138, 4542,   4611.1,   1.6960,  34.8230,2,  34.8220,2,    245.6,2,    242.3,2,    68.80,2,    24.40,2,     1.68,2,    0.028,2,    0.021,2, -999.000,9,-999.0000,9,  -999.00,9,   -999.0,9,   -999.0,9,     7.97,2,  1.3010