BOTTLE,20030515WHPSIOSA
EXPOCODE,SECT_ID,STNNBR,CASTNO,SAMPNO,BTLNBR,BTLNBR_FLAG_W,DATE,TIME,LATITUDE,LONGITUDE,DEPTH,CTDPRS,CTDTMP,CTDSAL,CTDSAL_FLAG_W,SALNTY,SALNTY_FLAG_W,CTDOXY,CTDOXY_FLAG_W,OXYGEN,OXYGEN_FLAG_W,SILCAT,SILCAT_FLAG_W,NITRAT,NITRAT_FLAG_W,PHSPHT,PHSPHT_FLAG_W,CFC-11,CFC-11_FLAG_W,CFC-12,CFC-12_FLAG_W,TRITUM,TRITUM_FLAG_W,HELIUM,HELIUM_FLAG_W,DELHE3,DELHE3_FLAG_W,TCARBN,TCARBN_FLAG_W,ALKALI,ALKALI_FLAG_W,PH,PH_FLAG_W,THETA
,,,,,,,,,,,,DBAR,ITS-90,PSS-78,,PSS-78,,UMOL/KG,,UMOL/KG,,UMOL/KG,,UMOL/KG,,UMOL/KG,,PMOL/KG,,PMOL/KG,,TU,,NMOL/KG,,PERCNT,,UMOL/KG,,UMOL/KG,,,,DEG C
 3230CITHER2_1,  A17C,    86,  1,     32,     32,2,19940203,0718,-25.4063, -34.8898, 4401,      2.7,  27.4590,  36.5620,2,  36.5680,2,    199.1,2,    201.2,2,     0.80,2,     0.04,2,     0.02,2,    1.833,2,    1.072,2, -999.000,9,-999.0000,9,  -999.00,9,   -999.0,9,   -999.0,9,     8.39,2, 27.4580
 3230CITHER2_1,  A17C,    86,  1,     31,     31,2,19940203,0718,-25.4063, -34.8898, 4401,     51.3,  24.9330,  36.8420,2,  36.8410,2,    218.9,2,    217.7,2,     0.80,2,     0.04,2,     0.01,2,    2.037,2,    1.175,2, -999.000,9,-999.0000,9,  -999.00,9,   -999.0,9,   -999.0,9,     8.38,2, 24.9220
 3230CITHER2_1,  A17C,    86,  1,     30,     30,2,19940203,0718,-25.4063, -34.8898, 4401,    101.5,  20.8920,  36.4620,2,  36.4570,2,    212.5,2,    217.6,2,     0.80,2,     0.04,2,     0.05,2,    2.285,2,    1.285,2, -999.000,9,-999.0000,9,  -999.00,9,   -999.0,9,   -999.0,9,     8.34,2, 20.8730
 3230CITHER2_1,  A17C,    86,  1,     29,     29,2,19940203,0718,-25.4063, -34.8898, 4401,    150.5,  19.1230,  36.1330,2,  36.1260,2,    212.1,2,    212.1,2,     0.90,2,     0.95,2,     0.14,2,    2.413,2,    1.332,2, -999.000,9,-999.0000,9,  -999.00,9,   -999.0,9,   -999.0,9,     8.30,2, 19.0960
 3230CITHER2_1,  A17C,    86,  1,     28,     28,2,19940203,0718,-25.4063, -34.8898, 4401,    201.0,  17.3240,  35.8120,2,  35.8120,2,    204.7,2,    210.8,2,     1.50,2,     3.14,2,     0.32,2,    2.494,2,    1.366,2, -999.000,9,-999.0000,9,  -999.00,9,   -999.0,9,   -999.0,9,     8.25,2, 17.2900
 3230CITHER2_1,  A17C,    86,  1,     27,     27,2,19940203,0718,-25.4063, -34.8898, 4401,    300.9,  14.5230,  35.3870,2,  35.3880,2,    203.5,2,    203.1,2,     2.80,2,     7.99,2,     0.62,2,    2.424,2,    1.300,2, -999.000,9,-999.0000,9,  -999.00,9,   -999.0,9,   -999.0,9,     8.19,2, 14.4780
 3230CITHER2_1,  A17C,    86,  1,     26,     26,2,19940203,0718,-25.4063, -34.8898, 4401,    400.7,  12.5410,  35.1550,2,  35.1550,2,    208.3,2,    206.7,2,     3.90,2,    12.28,2,     0.85,2,    2.313,2,    1.238,2, -999.000,9,-999.0000,9,  -999.00,9,   -999.0,9,   -999.0,9,     8.14,2, 12.4870
 3230CITHER2_1,  A17C,    86,  1,     25,     25,2,19940203,0718,-25.4063, -34.8898, 4401,    501.0,  10.0020,  34.8160,2,  34.8160,2,    203.3,2,    200.5,2,     7.60,2,    18.88,2,     1.25,2,    1.879,2,    0.989,2, -999.000,9,-999.0000,9,  -999.00,9,   -999.0,9,   -999.0,9,     8.06,2,  9.9430
 3230CITHER2_1,  A17C,    86,  1,     24,     24,2,19940203,0718,-25.4063, -34.8898, 4401,    600.5,   7.8830,  34.5910,2,  34.5860,2,    201.0,2,    198.7,2,    12.50,2,    24.04,2,     1.62,2,    1.499,2,    0.801,2, -999.000,9,-999.0000,9,  -999.00,9,   -999.0,9,   -999.0,9,     8.00,2,  7.8220
 3230CITHER2_1,  A17C,    86,  1,     23,     23,2,19940203,0718,-25.4063, -34.8898, 4401,    700.3,   5.7660,  34.3970,2,  34.3980,2,    205.8,2,    211.1,2,    17.70,2,    28.33,2,     1.88,2,    1.304,2,    0.682,2, -999.000,9,-999.0000,9,  -999.00,9,   -999.0,9,   -999.0,9,     7.96,2,  5.7050
 3230CITHER2_1,  A17C,    86,  1,     22,     22,2,19940203,0718,-25.4063, -34.8898, 4401,    801.3,   4.7590,  34.3570,2,  34.3620,2,    210.3,2,    204.8,2,    25.20,2,    30.96,2,     2.05,2,    0.816,2,    0.448,2, -999.000,9,-999.0000,9,  -999.00,9,   -999.0,9,   -999.0,9,     7.92,2,  4.6950
 3230CITHER2_1,  A17C,    86,  1,     21,     21,2,19940203,0718,-25.4063, -34.8898, 4401,    901.1,   4.0540,  34.3700,2,  34.3710,2,    204.3,2,    197.0,2,    33.70,2,    32.78,2,     2.19,2,    0.416,2,    0.236,2, -999.000,9,-999.0000,9,  -999.00,9,   -999.0,9,   -999.0,9,     7.92,2,  3.9860
 3230CITHER2_1,  A17C,    86,  1,     20,     20,2,19940203,0718,-25.4063, -34.8898, 4401,   1000.3,   3.5130,  34.4030,2,  34.4050,2,    196.0,2,    194.6,2,    41.80,2,    33.43,2,     2.24,2,    0.288,2,    0.163,2, -999.000,9,-999.0000,9,  -999.00,9,   -999.0,9,   -999.0,9,     7.90,2,  3.4410
 3230CITHER2_1,  A17C,    86,  1,     19,     19,2,19940203,0718,-25.4063, -34.8898, 4401,   1200.3,   3.3710,  34.5700,2,  34.5710,2,    186.0,2,    189.2,2,    46.30,2,    32.63,2,     2.17,2,    0.035,2,    0.025,2, -999.000,9,-999.0000,9,  -999.00,9,   -999.0,9,   -999.0,9,     7.89,2,  3.2840
 3230CITHER2_1,  A17C,    86,  1,     18,     18,2,19940203,0718,-25.4063, -34.8898, 4401,   1400.4,   3.3700,  34.6990,2,  34.7000,2,    194.6,2,    195.0,2,    44.00,2,    30.21,2,     1.99,2,    0.017,2,    0.021,2, -999.000,9,-999.0000,9,  -999.00,9,   -999.0,9,   -999.0,9,     7.92,2,  3.2660
 3230CITHER2_1,  A17C,    86,  1,     17,     17,2,19940203,0718,-25.4063, -34.8898, 4401,   1601.3,   3.5360,  34.8440,2,  34.8410,2,    215.3,2,    216.5,2,    34.90,2,    26.21,2,     1.71,2,    0.019,2,    0.022,2, -999.000,9,-999.0000,9,  -999.00,9,   -999.0,9,   -999.0,9,     7.96,2,  3.4120
 3230CITHER2_1,  A17C,    86,  1,     16,     16,2,19940203,0718,-25.4063, -34.8898, 4401,   1801.0,   3.6690,  34.9320,2,  34.9330,2,    235.8,2,    238.4,2,    24.60,2,    22.31,2,     1.45,2,    0.030,2,    0.028,2, -999.000,9,-999.0000,9,  -999.00,9,   -999.0,9,   -999.0,9,     8.00,2,  3.5250
 3230CITHER2_1,  A17C,    86,  1,     15,     15,2,19940203,0718,-25.4063, -34.8898, 4401,   1999.8,   3.4960,  34.9460,2,  34.9490,2,    246.4,2,    246.1,2,    23.80,2,    21.51,2,     1.39,2,    0.025,2,    0.027,2, -999.000,9,-999.0000,9,  -999.00,9,   -999.0,9,   -999.0,9,     8.02,2,  3.3360
 3230CITHER2_1,  A17C,    86,  1,     14,     14,2,19940203,0718,-25.4063, -34.8898, 4401,   2199.7,   3.2830,  34.9370,2,  34.9390,2,    249.4,2,    250.0,2,    26.60,2,    21.51,2,     1.39,2,    0.016,2,    0.019,2, -999.000,9,-999.0000,9,  -999.00,9,   -999.0,9,   -999.0,9,     8.02,2,  3.1070
 3230CITHER2_1,  A17C,    86,  1,     13,     13,2,19940203,0718,-25.4063, -34.8898, 4401,   2399.7,   3.1330,  34.9360,2,  34.9360,2,    250.5,2,    250.0,2,    28.00,2,    21.43,2,     1.38,2,    0.013,2,    0.016,2, -999.000,9,-999.0000,9,  -999.00,9,   -999.0,9,   -999.0,9,     8.02,2,  2.9380
 3230CITHER2_1,  A17C,    86,  1,     12,     12,2,19940203,0718,-25.4063, -34.8898, 4401,   2400.3,   3.1310,  34.9370,2,  34.9380,2,    250.5,2,    249.6,2,    27.90,2,    21.39,2,     1.37,2,    0.012,2,    0.016,2, -999.000,9,-999.0000,9,  -999.00,9,   -999.0,9,   -999.0,9,     8.02,2,  2.9410
 3230CITHER2_1,  A17C,    86,  1,     11,     11,2,19940203,0718,-25.4063, -34.8898, 4401,   2601.2,   3.0220,  34.9340,2,  34.9350,2,    251.6,2,    251.4,2,    29.10,2,    21.27,2,     1.38,2,    0.016,2,    0.019,2, -999.000,9,-999.0000,9,  -999.00,9,   -999.0,9,   -999.0,9,     8.02,2,  2.8120
 3230CITHER2_1,  A17C,    86,  1,     10,     10,2,19940203,0718,-25.4063, -34.8898, 4401,   2799.1,   2.9100,  34.9280,2,  34.9300,2,    252.0,2,    251.5,2,    31.00,2,    21.47,2,     1.39,2,    0.010,2,    0.014,2, -999.000,9,-999.0000,9,  -999.00,9,   -999.0,9,   -999.0,9,     8.02,2,  2.6820
 3230CITHER2_1,  A17C,    86,  1,      9,      9,2,19940203,0718,-25.4063, -34.8898, 4401,   2999.7,   2.8170,  34.9230,2,  34.9260,2,    252.4,2,    251.6,2,    32.70,2,    21.47,2,     1.39,2,    0.007,2,    0.015,2, -999.000,9,-999.0000,9,  -999.00,9,   -999.0,9,   -999.0,9,     8.01,2,  2.5700
 3230CITHER2_1,  A17C,    86,  1,      8,      8,2,19940203,0718,-25.4063, -34.8898, 4401,   3199.8,   2.7150,  34.9190,2,  34.9190,2,    253.3,2,    252.6,2,    34.00,2,    21.51,2,     1.40,2,    0.007,2,    0.009,2, -999.000,9,-999.0000,9,  -999.00,9,   -999.0,9,   -999.0,9,     8.01,2,  2.4500
 3230CITHER2_1,  A17C,    86,  1,      7,      7,2,19940203,0718,-25.4063, -34.8898, 4401,   3398.2,   2.5690,  34.9090,2,  34.9080,2,    253.7,2,    253.0,2,    37.20,2,    21.71,2,     1.42,2,    0.012,2,    0.015,2, -999.000,9,-999.0000,9,  -999.00,9,   -999.0,9,   -999.0,9,     8.01,2,  2.2860
 3230CITHER2_1,  A17C,    86,  1,      6,      6,2,19940203,0718,-25.4063, -34.8898, 4401,   3598.8,   2.3280,  34.8880,2,  34.8860,2,    251.5,2,    250.8,2,    45.10,2,    22.70,2,     1.49,2,    0.006,2,    0.013,2, -999.000,9,-999.0000,9,  -999.00,9,   -999.0,9,   -999.0,9,     8.00,2,  2.0290
 3230CITHER2_1,  A17C,    86,  1,      5,      5,2,19940203,0718,-25.4063, -34.8898, 4401,   3798.9,   1.8300,  34.8340,2,  34.8360,2,    243.1,2,    242.2,2,    66.20,2,    25.37,2,     1.67,2,    0.009,2,    0.005,2, -999.000,9,-999.0000,9,  -999.00,9,   -999.0,9,   -999.0,9,     7.97,2,  1.5230
 3230CITHER2_1,  A17C,    86,  1,      4,      4,2,19940203,0718,-25.4063, -34.8898, 4401,   3998.6,   1.3150,  34.7800,2,  34.7780,2,    233.0,2,    232.6,2,    89.70,2,    28.73,2,     1.89,2,    0.009,2,    0.017,2, -999.000,9,-999.0000,9,  -999.00,9,   -999.0,9,   -999.0,9,     7.94,2,  1.0010
 3230CITHER2_1,  A17C,    86,  1,      3,      3,2,19940203,0718,-25.4063, -34.8898, 4401,   4198.4,   0.8010,  34.7250,2,  34.7230,2,    223.9,2,    224.3,2,   110.60,2,    31.55,2,     2.10,2,    0.044,2,    0.029,2, -999.000,9,-999.0000,9,  -999.00,9,   -999.0,9,   -999.0,9,     7.91,2,  0.4810
 3230CITHER2_1,  A17C,    86,  1,      2,      2,2,19940203,0718,-25.4063, -34.8898, 4401,   4398.4,   0.3530,  34.6830,2,  34.6830,2,    218.8,2,    220.9,2,   125.90,2,    33.53,2,     2.24,2,    0.101,2,    0.063,2, -999.000,9,-999.0000,9,  -999.00,9,   -999.0,9,   -999.0,9,     7.88,2,  0.0250
 3230CITHER2_1,  A17C,    86,  1,      1,      1,2,19940203,0718,-25.4063, -34.8898, 4401,   4455.1,   0.2990,  34.6770,2,  34.6800,2,    219.2,2,    221.0,2,   127.70,2,    33.73,2,     2.26,2,    0.106,2,    0.064,2, -999.000,9,-999.0000,9,  -999.00,9,   -999.0,9,   -999.0,9,     7.89,2, -0.0330
 3230CITHER2_1,  A17C,    87,  1,     32,     32,2,19940203,1302,-25.0178, -34.5458, 4545,      7.3,  27.9030,  36.5650,2,  36.5680,2,    186.9,2,    201.0,2,     1.00,2,     0.04,2,     0.02,2,    1.832,2,    1.072,2, -999.000,9,-999.0000,9,  -999.00,9,   2040.1,2,   2406.9,2,     8.39,2, 27.9010
 3230CITHER2_1,  A17C,    87,  1,     31,     31,2,19940203,1302,-25.0178, -34.5458, 4545,     30.1,  25.8460,  36.6590,2,  36.6550,2,    206.1,2,    208.8,2,     0.90,2,     0.04,2,     0.01,2,    1.952,2,    1.136,2, -999.000,9,-999.0000,9,  -999.00,9,   2049.0,2,   2410.4,2,     8.38,2, 25.8390
 3230CITHER2_1,  A17C,    87,  1,     30,     30,2,19940203,1302,-25.0178, -34.5458, 4545,     70.1,  23.3330,  36.6440,2,  36.6030,2,    227.6,2,    226.9,2,     1.00,2,     0.04,2,     0.01,2,    2.183,2,    1.257,2, -999.000,9,-999.0000,9,  -999.00,9,   2053.7,2,   2408.4,2,     8.37,2, 23.3180
 3230CITHER2_1,  A17C,    87,  1,     29,     29,2,19940203,1302,-25.0178, -34.5458, 4545,    101.1,  20.2170,  36.3010,2,  36.2980,2,    216.4,2,    224.3,2,     1.00,2,     0.04,2,     0.05,2,    2.358,2,    1.342,2, -999.000,9,-999.0000,9,  -999.00,9,   2059.8,2,   2389.2,2,     8.34,2, 20.1980
 3230CITHER2_1,  A17C,    87,  1,     28,     28,2,19940203,1302,-25.0178, -34.5458, 4545,    200.2,  17.4680,  35.8530,2,  35.8550,2,    211.9,2,    212.0,2,     1.40,2,     2.11,2,     0.24,2,    2.521,2,    1.389,2, -999.000,9,-999.0000,9,  -999.00,9,   2079.3,2,   2365.7,2,     8.28,2, 17.4340
 3230CITHER2_1,  A17C,    87,  1,     27,     27,2,19940203,1302,-25.0178, -34.5458, 4545,    300.2,  14.7820,  35.4500,2,  35.4410,2,    209.6,2,    207.3,2,     2.50,2,     6.80,2,     0.56,2,    2.535,2,    1.360,2, -999.000,9,-999.0000,9,  -999.00,9,   2097.9,2,   2340.5,2,     8.21,2, 14.7370
 3230CITHER2_1,  A17C,    87,  1,     26,     26,2,19940203,1302,-25.0178, -34.5458, 4545,    400.5,  12.6350,  35.1830,2,  35.1750,2,    209.4,2,    206.2,2,     4.00,2,    11.81,2,     0.84,2,    2.311,2,    1.220,2, -999.000,9,-999.0000,9,  -999.00,9,   2114.3,2,   2326.2,2,     8.15,2, 12.5800
 3230CITHER2_1,  A17C,    87,  1,     25,     25,2,19940203,1302,-25.0178, -34.5458, 4545,    501.1,  10.4940,  34.8810,2,  34.8810,2,    204.6,2,    202.7,2,     6.70,2,    17.30,2,     1.19,2,    1.979,2,    1.051,2, -999.000,9,-999.0000,9,  -999.00,9,   2131.5,2,   2313.9,2,     8.09,2, 10.4330
 3230CITHER2_1,  A17C,    87,  1,     24,     24,2,19940203,1302,-25.0178, -34.5458, 4545,    601.2,   8.0840,  34.5970,2,  34.5960,2,    206.3,2,    205.4,2,    10.90,2,    22.95,2,     1.55,2,    1.723,2,    0.912,2, -999.000,9,-999.0000,9,  -999.00,9,   2151.1,2,   2302.7,2,     8.02,2,  8.0220
 3230CITHER2_1,  A17C,    87,  1,     23,     23,2,19940203,1302,-25.0178, -34.5458, 4545,    699.3,   6.0110,  34.3960,2,  34.4070,2,    216.1,2,    217.1,2,    15.60,2,    26.71,2,     1.81,2,    1.599,2,    0.838,2, -999.000,9,-999.0000,9,  -999.00,9,   2161.8,2,   2299.1,2,     7.98,2,  5.9490
 3230CITHER2_1,  A17C,    87,  1,     22,     22,2,19940203,1302,-25.0178, -34.5458, 4545,    799.3,   4.8090,  34.3300,2,  34.3310,2,    221.7,2,    219.4,2,    22.20,2,    29.09,2,     1.99,2,    1.203,2,    0.635,2, -999.000,9,-999.0000,9,  -999.00,9,   2175.7,2,   2302.2,2,     7.95,2,  4.7450
 3230CITHER2_1,  A17C,    87,  1,     21,     21,2,19940203,1302,-25.0178, -34.5458, 4545,    999.6,   3.7070,  34.3830,2,  34.3840,2,    198.2,2,    196.8,2,    37.90,2,    32.74,2,     2.22,2,    0.363,2,    0.199,2, -999.000,9,-999.0000,9,  -999.00,9,   2206.7,2,   2316.8,2,     7.90,2,  3.6340
 3230CITHER2_1,  A17C,    87,  1,     20,     20,2,19940203,1302,-25.0178, -34.5458, 4545,   1199.3,   3.1550,  34.4990,2,  34.5020,2,    188.7,2,    188.4,2,    50.20,2,    32.75,2,     2.23,2,    0.113,2,    0.068,2, -999.000,9,-999.0000,9,  -999.00,9,   2225.4,2,   2329.9,2,     7.89,2,  3.0700
 3230CITHER2_1,  A17C,    87,  1,     19,     19,2,19940203,1302,-25.0178, -34.5458, 4545,   1398.3,   3.0410,  34.6530,2,  34.6550,2,    191.6,2,    192.0,2,    51.50,2,    31.16,2,     2.08,2,    0.020,2,    0.017,2, -999.000,9,-999.0000,9,  -999.00,9,   2224.4,2,   2337.6,2,     7.91,2,  2.9410
 3230CITHER2_1,  A17C,    87,  1,     18,     18,2,19940203,1302,-25.0178, -34.5458, 4545,   1601.0,   3.2440,  34.7940,2,  34.8010,2,    210.3,2,    211.2,2,    41.50,2,    27.01,2,     1.80,2,    0.018,2,    0.017,2, -999.000,9,-999.0000,9,  -999.00,9,   2205.9,2,   2336.5,2,     7.95,2,  3.1240
 3230CITHER2_1,  A17C,    87,  1,     17,     17,2,19940203,1302,-25.0178, -34.5458, 4545,   1800.6,   3.4260,  34.9040,2,  34.9040,2,    232.6,2,    233.6,2,    30.10,2,    23.07,2,     1.52,2,    0.021,2,    0.024,2, -999.000,9,-999.0000,9,  -999.00,9,   2184.7,2,   2331.5,2,     8.00,2,  3.2860
 3230CITHER2_1,  A17C,    87,  1,     16,     16,2,19940203,1302,-25.0178, -34.5458, 4545,   1999.8,   3.3890,  34.9410,2,  34.9460,2,    246.9,2,    247.0,2,    25.10,2,    21.36,2,     1.39,2,    0.021,2,    0.021,2, -999.000,9,-999.0000,9,  -999.00,9,   2175.1,2,   2330.6,2,     8.02,2,  3.2310
 3230CITHER2_1,  A17C,    87,  1,     15,     15,2,19940203,1302,-25.0178, -34.5458, 4545,   2199.2,   3.2360,  34.9450,2,  34.9470,2,    251.0,2,    250.1,2,    25.70,2,    21.20,2,     1.36,2,    0.023,2,    0.022,2, -999.000,9,-999.0000,9,  -999.00,9,   2171.8,2,   2332.4,2,     8.02,2,  3.0610
 3230CITHER2_1,  A17C,    87,  1,     13,     13,2,19940203,1302,-25.0178, -34.5458, 4545,   2399.2,   3.0890,  34.9400,2,  34.9430,2,    251.7,2,    251.3,2,    27.50,2,    20.84,2,     1.37,2,    0.017,2,    0.016,2, -999.000,9,-999.0000,9,  -999.00,9,   2174.6,2,   2334.8,2,     8.02,2,  2.8970
 3230CITHER2_1,  A17C,    87,  1,     14,     14,2,19940203,1302,-25.0178, -34.5458, 4545,   2399.6,   3.0910,  34.9400,2,  34.9410,2,    251.7,2,    251.0,2,    27.40,2,    20.88,2,     1.37,2,    0.018,2,    0.017,2, -999.000,9,-999.0000,9,  -999.00,9,   -999.0,5,   2334.8,2,     8.02,2,  2.8990
 3230CITHER2_1,  A17C,    87,  1,     12,     12,2,19940203,1302,-25.0178, -34.5458, 4545,   2599.7,   2.9670,  34.9330,2,  34.9390,2,    251.5,2,    251.1,2,    29.60,2,    20.88,2,     1.38,2,    0.013,2,    0.016,2, -999.000,9,-999.0000,9,  -999.00,9,   2177.7,2,   2335.8,2,     8.02,2,  2.7580
 3230CITHER2_1,  A17C,    87,  1,     11,     11,2,19940203,1302,-25.0178, -34.5458, 4545,   2800.5,   2.8530,  34.9270,2,  34.9290,2,    251.8,2,    251.3,2,    31.60,2,    21.12,2,     1.39,2,    0.010,2,    0.013,2, -999.000,9,-999.0000,9,  -999.00,9,   2178.9,2,   2338.1,2,     8.02,2,  2.6260
 3230CITHER2_1,  A17C,    87,  1,     10,     10,2,19940203,1302,-25.0178, -34.5458, 4545,   2999.3,   2.7560,  34.9210,2,  34.9240,2,    252.4,2,    253.1,2,    33.10,2,    21.08,2,     1.40,2,    0.012,2,    0.016,2, -999.000,9,-999.0000,9,  -999.00,9,   2180.6,2,   2339.4,2,     8.02,2,  2.5110
 3230CITHER2_1,  A17C,    87,  1,      9,      9,2,19940203,1302,-25.0178, -34.5458, 4545,   3197.7,   2.6590,  34.9160,2,  34.9170,2,    253.2,2,    252.7,2,    36.80,2,    21.36,2,     1.40,2,    0.049,2,    0.030,2, -999.000,9,-999.0000,9,  -999.00,9,   2180.9,2,   2340.0,2,     8.02,2,  2.3950
 3230CITHER2_1,  A17C,    87,  1,      8,      8,2,19940203,1302,-25.0178, -34.5458, 4545,   3398.6,   2.5290,  34.9040,2,  34.9070,2,    253.7,2,   -999.0,5,    37.70,2,    21.56,2,     1.43,2,    0.007,2,    0.010,2, -999.000,9,-999.0000,9,  -999.00,9,   2184.1,2,   -999.0,9,     8.01,2,  2.2470
 3230CITHER2_1,  A17C,    87,  1,      7,      7,2,19940203,1302,-25.0178, -34.5458, 4545,   3598.4,   2.2600,  34.8780,2,  34.8810,2,    251.6,2,    249.5,2,    47.00,2,    22.71,2,     1.51,2,    0.008,2,    0.014,2, -999.000,9,-999.0000,9,  -999.00,9,   2191.9,2,   -999.0,9,     8.00,2,  1.9630
 3230CITHER2_1,  A17C,    87,  1,      6,      6,2,19940203,1302,-25.0178, -34.5458, 4545,   3797.2,   1.8490,  34.8360,2,  34.8390,2,    244.0,2,    242.9,2,    64.20,2,    25.23,2,     1.67,2,    0.006,2,    0.005,2, -999.000,9,-999.0000,9,  -999.00,9,   2208.5,2,   -999.0,9,     7.98,2,  1.5420
 3230CITHER2_1,  A17C,    87,  1,      5,      5,2,19940203,1302,-25.0178, -34.5458, 4545,   3998.2,   1.4780,  34.7990,2,  34.7990,2,    237.3,2,    235.9,2,    80.80,2,    27.11,2,     1.83,2,    0.005,2,    0.006,2, -999.000,9,-999.0000,9,  -999.00,9,   2223.5,2,   -999.0,9,     7.96,2,  1.1590
 3230CITHER2_1,  A17C,    87,  1,      4,      4,2,19940203,1302,-25.0178, -34.5458, 4545,   4199.7,   1.2100,  34.7650,2,  34.7670,2,    231.2,2,    231.0,2,    92.80,2,    28.89,2,     1.95,2,    0.011,2,    0.011,2, -999.000,9,-999.0000,9,  -999.00,9,   2235.9,2,   -999.0,9,     7.94,2,  0.8770
 3230CITHER2_1,  A17C,    87,  1,      3,      3,2,19940203,1302,-25.0178, -34.5458, 4545,   4399.3,   0.8310,  34.7270,2,  34.7270,2,    225.4,2,    224.0,2,   109.10,2,    31.07,2,     2.10,2,    0.050,2,    0.034,2, -999.000,9,-999.0000,9,  -999.00,9,   2251.3,2,   -999.0,9,     7.91,2,  0.4880
 3230CITHER2_1,  A17C,    87,  1,      2,      2,2,19940203,1302,-25.0178, -34.5458, 4545,   4498.0,   0.5510,  34.6970,2,  34.7010,2,    220.7,2,    221.2,2,   119.40,2,    32.26,2,     2.19,2,    0.072,2,    0.046,2, -999.000,9,-999.0000,9,  -999.00,9,   2260.0,2,   -999.0,9,     7.90,2,  0.2060
 3230CITHER2_1,  A17C,    87,  1,      1,      1,2,19940203,1302,-25.0178, -34.5458, 4545,   4610.4,   0.4730,  34.6910,2,  34.6910,2,    219.4,2,    220.2,2,   122.10,2,    32.41,2,     2.25,2,    0.082,2,    0.048,2, -999.000,9,-999.0000,9,  -999.00,9,   2263.5,2,   -999.0,9,     7.89,2,  0.1180