BOTTLE,20030515WHPSIOSA
EXPOCODE,SECT_ID,STNNBR,CASTNO,SAMPNO,BTLNBR,BTLNBR_FLAG_W,DATE,TIME,LATITUDE,LONGITUDE,DEPTH,CTDPRS,CTDTMP,CTDSAL,CTDSAL_FLAG_W,SALNTY,SALNTY_FLAG_W,CTDOXY,CTDOXY_FLAG_W,OXYGEN,OXYGEN_FLAG_W,SILCAT,SILCAT_FLAG_W,NITRAT,NITRAT_FLAG_W,PHSPHT,PHSPHT_FLAG_W,CFC-11,CFC-11_FLAG_W,CFC-12,CFC-12_FLAG_W,TRITUM,TRITUM_FLAG_W,HELIUM,HELIUM_FLAG_W,DELHE3,DELHE3_FLAG_W,TCARBN,TCARBN_FLAG_W,ALKALI,ALKALI_FLAG_W,PH,PH_FLAG_W,THETA
,,,,,,,,,,,,DBAR,ITS-90,PSS-78,,PSS-78,,UMOL/KG,,UMOL/KG,,UMOL/KG,,UMOL/KG,,UMOL/KG,,PMOL/KG,,PMOL/KG,,TU,,NMOL/KG,,PERCNT,,UMOL/KG,,UMOL/KG,,,,DEG C
 3230CITHER2_2,  A17N,   164,  1,     32,     32,2,19940303,0817, -2.4995, -30.0130, 4878,      6.6,  27.8900,  35.9160,2,  35.9270,2,    197.9,2,    199.7,2,     1.80,2,     0.04,2,     0.06,2,    1.668,2,    0.921,2, -999.000,9,-999.0000,9,  -999.00,9,   2008.3,2,   2365.8,2,     8.38,2, 27.8880
 3230CITHER2_2,  A17N,   164,  1,     31,     31,2,19940303,0817, -2.4995, -30.0130, 4878,     49.9,  26.9640,  36.2950,2,  36.2770,2,    206.3,2,    204.8,2,     1.80,2,     0.04,2,     0.11,2,    1.712,2,    0.962,2, -999.000,9,-999.0000,9,  -999.00,9,   2037.0,2,   2388.8,2,     8.35,2, 26.9530
 3230CITHER2_2,  A17N,   164,  1,     30,     30,2,19940303,0817, -2.4995, -30.0130, 4878,    126.0,  13.6600,  35.3640,2,  35.3650,2,     98.0,2,     99.0,2,     9.10,2,    22.77,2,     1.50,2,    1.150,2,    0.609,2, -999.000,9,-999.0000,9,  -999.00,9,   2188.1,2,   2336.5,2,     7.97,2, 13.6420
 3230CITHER2_2,  A17N,   164,  1,     29,     29,2,19940303,0817, -2.4995, -30.0130, 4878,    200.7,  12.5620,  35.2210,2,  35.2220,2,     84.2,2,     85.5,2,    10.70,2,    25.87,2,     1.70,2,    0.867,2,    0.467,2, -999.000,9,-999.0000,9,  -999.00,9,   2202.8,2,   2326.9,2,     7.92,2, 12.5350
 3230CITHER2_2,  A17N,   164,  1,     28,     28,2,19940303,0817, -2.4995, -30.0130, 4878,    401.2,   9.7160,  34.8910,2,  34.8900,2,     89.6,2,     89.4,2,    15.30,2,    31.27,2,     1.98,2,    0.443,2,    0.245,2, -999.000,9,-999.0000,9,  -999.00,9,   2217.2,2,   2318.8,2,     7.85,2,  9.6700
 3230CITHER2_2,  A17N,   164,  1,     27,     27,2,19940303,0817, -2.4995, -30.0130, 4878,    600.6,   5.8700,  34.5280,2,  34.5240,2,    137.1,2,    130.4,2,    25.10,2,    34.81,2,     2.32,2,    0.112,2,    0.063,2, -999.000,9,-999.0000,9,  -999.00,9,   2221.7,2,   2308.8,2,     7.81,2,  5.8180
 3230CITHER2_2,  A17N,   164,  1,     26,     26,2,19940303,0817, -2.4995, -30.0130, 4878,    800.9,   4.4690,  34.4970,2,  34.4970,2,    161.1,2,    160.3,2,    32.60,2,    34.12,2,     2.31,2,    0.059,2,    0.037,2, -999.000,9,-999.0000,9,  -999.00,9,   2219.0,2,   2318.5,2,     7.85,2,  4.4070
 3230CITHER2_2,  A17N,   164,  1,     25,     25,2,19940303,0817, -2.4995, -30.0130, 4878,    998.8,   4.3120,  34.6480,2,  34.6440,2,    166.9,2,    167.9,2,    31.70,2,    31.86,2,     2.16,2,    0.020,2,    0.011,2, -999.000,9,-999.0000,9,  -999.00,9,   2216.6,2,   2324.3,2,     7.87,2,  4.2340
 3230CITHER2_2,  A17N,   164,  1,     24,     24,2,19940303,0817, -2.4995, -30.0130, 4878,   1198.6,   4.4510,  34.7880,2,  34.7900,2,    180.4,2,    181.5,2,    26.90,2,    28.77,2,     1.96,2,    0.022,2,    0.009,2, -999.000,9,-999.0000,9,  -999.00,9,   -999.0,5,   2325.9,2,     7.91,2,  4.3540
 3230CITHER2_2,  A17N,   164,  1,     23,     23,2,19940303,0817, -2.4995, -30.0130, 4878,   1399.9,   4.3140,  34.9630,2,  34.9620,2,    222.3,2,    228.4,2,    18.80,2,    22.04,2,     1.46,2,    0.090,2,    0.052,2, -999.000,9,-999.0000,9,  -999.00,9,   -999.0,5,   2329.7,2,     7.99,2,  4.2000
 3230CITHER2_2,  A17N,   164,  1,     22,     22,2,19940303,0817, -2.4995, -30.0130, 4878,   1400.6,   4.3100,  34.9640,2,  34.9640,2,    222.5,2,    228.7,2,    18.80,2,    21.96,2,     1.45,2,    0.088,2,    0.054,2, -999.000,9,-999.0000,9,  -999.00,9,   2177.1,2,   2329.7,2,     7.99,2,  4.1960
 3230CITHER2_2,  A17N,   164,  1,     21,     21,2,19940303,0817, -2.4995, -30.0130, 4878,   1500.4,   4.2020,  34.9780,2,  34.9770,2,    233.0,2,    235.8,2,    18.20,2,    21.23,2,     1.40,2,    0.075,2,    0.045,2, -999.000,9,-999.0000,9,  -999.00,9,   -999.0,5,   2329.8,2,     8.00,2,  4.0790
 3230CITHER2_2,  A17N,   164,  1,     20,     20,2,19940303,0817, -2.4995, -30.0130, 4878,   1600.6,   4.1240,  34.9840,2,  34.9840,2,    240.2,2,    241.0,2,    17.70,2,    20.69,2,     1.35,2,    0.095,2,    0.057,2, -999.000,9,-999.0000,9,  -999.00,9,   -999.0,5,   2335.6,2,     8.00,2,  3.9930
 3230CITHER2_2,  A17N,   164,  1,     19,     19,2,19940303,0817, -2.4995, -30.0130, 4878,   1700.2,   3.9770,  34.9820,2,  34.9850,2,    246.0,2,    246.7,2,    17.70,2,    20.20,2,     1.32,2,    0.090,2,    0.055,2, -999.000,9,-999.0000,9,  -999.00,9,   -999.0,5,   2328.3,2,     8.01,2,  3.8390
 3230CITHER2_2,  A17N,   164,  1,     18,     18,2,19940303,0817, -2.4995, -30.0130, 4878,   1799.2,   3.7650,  34.9790,2,  34.9700,2,    251.4,2,    250.4,2,    18.70,2,    20.04,2,     1.30,2,    0.058,2,    0.038,2, -999.000,9,-999.0000,9,  -999.00,9,   -999.0,5,   2329.9,2,     8.02,2,  3.6200
 3230CITHER2_2,  A17N,   164,  1,     17,     17,2,19940303,0817, -2.4995, -30.0130, 4878,   1999.1,   3.4300,  34.9610,2,  34.9620,2,    253.2,2,    250.7,2,    23.10,2,    20.46,2,     1.32,2,    0.014,2,    0.009,2, -999.000,9,-999.0000,9,  -999.00,9,   -999.0,5,   2332.0,2,     8.01,2,  3.2710
 3230CITHER2_2,  A17N,   164,  1,     16,     16,2,19940303,0817, -2.4995, -30.0130, 4878,   2198.8,   3.1590,  34.9460,2,  34.9460,2,    249.7,2,    249.2,2,    27.70,2,    20.93,2,     1.37,2,    0.007,2,    0.007,2, -999.000,9,-999.0000,9,  -999.00,9,   -999.0,5,   2338.4,2,     8.01,2,  2.9850
 3230CITHER2_2,  A17N,   164,  1,     15,     15,2,19940303,0817, -2.4995, -30.0130, 4878,   2400.0,   3.0180,  34.9460,2,  34.9440,2,    255.8,2,    254.7,2,    26.70,2,    20.23,2,     1.32,2,    0.025,2,    0.016,2, -999.000,9,-999.0000,9,  -999.00,9,   -999.0,5,   2335.1,2,     8.02,2,  2.8270
 3230CITHER2_2,  A17N,   164,  1,     14,     14,2,19940303,0817, -2.4995, -30.0130, 4878,   2698.2,   2.8160,  34.9330,2,  34.9320,2,    254.7,2,    254.3,2,    30.50,2,    20.70,2,     1.36,2,    0.015,2,    0.013,2, -999.000,9,-999.0000,9,  -999.00,9,   2176.9,2,   2339.4,2,     8.02,2,  2.6000
 3230CITHER2_2,  A17N,   164,  1,     13,     13,2,19940303,0817, -2.4995, -30.0130, 4878,   2998.3,   2.6880,  34.9170,2,  34.9160,2,    248.1,2,    247.9,2,    36.40,2,    21.66,2,     1.42,2,    0.001,2,    0.006,2, -999.000,9,-999.0000,9,  -999.00,9,   -999.0,5,   2342.8,2,     8.01,2,  2.4440
 3230CITHER2_2,  A17N,   164,  1,     12,     12,2,19940303,0817, -2.4995, -30.0130, 4878,   3197.8,   2.6200,  34.9140,2,  34.9170,2,    251.5,2,    250.5,2,    35.90,2,    21.35,2,     1.41,2,    0.007,2,    0.008,2, -999.000,9,-999.0000,9,  -999.00,9,   -999.0,5,   2345.8,2,     8.01,2,  2.3570
 3230CITHER2_2,  A17N,   164,  1,     11,     11,2,19940303,0817, -2.4995, -30.0130, 4878,   3396.3,   2.5620,  34.9160,2,  34.9140,2,    255.6,2,    258.7,2,    33.10,2,    20.47,2,     1.35,2,    0.030,2,    0.018,2, -999.000,9,-999.0000,9,  -999.00,9,   -999.0,5,   2341.1,2,     8.02,2,  2.2790
 3230CITHER2_2,  A17N,   164,  1,     10,     10,2,19940303,0817, -2.4995, -30.0130, 4878,   3548.8,   2.4610,  34.9100,2,  34.9220,2,    259.8,2,    262.7,2,    31.80,2,    20.00,2,     1.32,2,    0.062,2,    0.034,2, -999.000,9,-999.0000,9,  -999.00,9,   -999.0,5,   2340.5,2,     8.02,2,  2.1640
 3230CITHER2_2,  A17N,   164,  1,      9,      9,2,19940303,0817, -2.4995, -30.0130, 4878,   3699.1,   2.4030,  34.9070,2,  34.9070,2,    262.5,2,    261.4,2,    33.20,2,    20.16,2,     1.33,2,    0.055,2,    0.043,2, -999.000,9,-999.0000,9,  -999.00,9,   -999.0,5,   2338.9,2,     8.02,2,  2.0910
 3230CITHER2_2,  A17N,   164,  1,      8,      8,2,19940303,0817, -2.4995, -30.0130, 4878,   3850.8,   2.3370,  34.8990,2,  34.9010,2,    262.3,2,    261.4,2,    35.00,2,    20.31,2,     1.32,2,    0.062,2,    0.038,2, -999.000,9,-999.0000,9,  -999.00,9,   -999.0,5,   2339.4,2,     8.02,2,  2.0100
 3230CITHER2_2,  A17N,   164,  1,      7,      7,2,19940303,0817, -2.4995, -30.0130, 4878,   3996.9,   2.2280,  34.8870,2,  34.8890,2,    261.2,2,    259.3,2,    39.30,2,    20.77,2,     1.36,2,    0.066,2,    0.040,2, -999.000,9,-999.0000,9,  -999.00,9,   -999.0,5,   2342.2,2,     8.01,2,  1.8880
 3230CITHER2_2,  A17N,   164,  1,      6,      6,2,19940303,0817, -2.4995, -30.0130, 4878,   4200.0,   1.6450,  34.8210,2,  34.8170,2,    246.4,2,    243.3,2,    71.00,2,    25.04,2,     1.69,2,    0.011,2,    0.005,2, -999.000,9,-999.0000,9,  -999.00,9,   -999.0,5,   2362.8,2,     7.97,2,  1.2990
 3230CITHER2_2,  A17N,   164,  1,      5,      5,2,19940303,0817, -2.4995, -30.0130, 4878,   4399.0,   1.1280,  34.7640,2,  34.7660,2,    233.4,2,    231.3,2,    96.00,2,    28.58,2,     1.93,2,    0.000,2,    0.004,2, -999.000,9,-999.0000,9,  -999.00,9,   2241.2,2,   2373.6,2,     7.94,2,  0.7750
 3230CITHER2_2,  A17N,   164,  1,      4,      4,2,19940303,0817, -2.4995, -30.0130, 4878,   4598.0,   0.8980,  34.7360,2,  34.7360,2,    226.5,2,    226.9,2,   107.10,2,    30.39,2,     2.06,2,    0.008,2,    0.003,2, -999.000,9,-999.0000,9,  -999.00,9,   -999.0,5,   2376.8,2,     7.92,2,  0.5300
 3230CITHER2_2,  A17N,   164,  1,      3,      3,2,19940303,0817, -2.4995, -30.0130, 4878,   4798.2,   0.7460,  34.7160,2,  34.7200,2,    223.4,2,    223.8,2,   113.20,2,    31.28,2,     2.14,2,    0.018,2,    0.009,2, -999.000,9,-999.0000,9,  -999.00,9,   -999.0,5,   2379.8,2,     7.91,2,  0.3610
 3230CITHER2_2,  A17N,   164,  1,      2,      2,2,19940303,0817, -2.4995, -30.0130, 4878,   4898.1,   0.7300,  34.7130,2,  34.7150,2,    221.6,2,    222.1,2,   115.40,2,    31.67,2,     2.16,2,    0.024,2,    0.010,2, -999.000,9,-999.0000,9,  -999.00,9,   -999.0,5,   2381.1,2,     7.91,2,  0.3340
 3230CITHER2_2,  A17N,   164,  1,      1,      1,2,19940303,0817, -2.4995, -30.0130, 4878,   4947.6,   0.7220,  34.7130,2,  34.7140,2,    219.8,2,    221.5,2,   116.20,2,    31.67,2,     2.16,2,    0.020,2,    0.011,2, -999.000,9,-999.0000,9,  -999.00,9,   -999.0,5,   2381.1,2,     7.91,2,  0.3200
 3230CITHER2_2,  A17N,   165,  1,     32,     32,2,19940303,1319, -2.2002, -29.9997, 4883,      8.4,  27.9000,  35.9830,2,  35.9870,2,    198.6,2,    199.1,2,     1.70,2,     0.04,2,     0.07,2, -999.000,9, -999.000,9, -999.000,9,-999.0000,9,  -999.00,9,   -999.0,9,   -999.0,9,     8.38,2, 27.8980
 3230CITHER2_2,  A17N,   165,  1,     31,     31,2,19940303,1319, -2.2002, -29.9997, 4883,     35.5,  27.5860,  35.9930,2,  36.0060,2,    201.3,2,    200.3,2,     1.70,2,     0.04,2,     0.07,2, -999.000,9, -999.000,9, -999.000,9,-999.0000,9,  -999.00,9,   -999.0,9,   -999.0,9,     8.37,2, 27.5780
 3230CITHER2_2,  A17N,   165,  1,     30,     30,2,19940303,1319, -2.2002, -29.9997, 4883,    100.3,  16.4160,  35.6570,2,  35.6090,2,    106.5,2,    105.8,2,     6.40,2,    19.24,2,     1.29,2, -999.000,9, -999.000,9, -999.000,9,-999.0000,9,  -999.00,9,   -999.0,9,   -999.0,9,     8.04,2, 16.4000
 3230CITHER2_2,  A17N,   165,  1,     29,     29,2,19940303,1319, -2.2002, -29.9997, 4883,    200.6,  12.3090,  35.1870,2,  35.1910,2,    114.6,2,    114.7,2,    10.20,2,    23.31,2,     1.54,2, -999.000,9, -999.000,9, -999.000,9,-999.0000,9,  -999.00,9,   -999.0,9,   -999.0,9,     7.98,2, 12.2820
 3230CITHER2_2,  A17N,   165,  1,     28,     28,2,19940303,1319, -2.2002, -29.9997, 4883,    400.6,   9.4790,  34.8640,2,  34.8620,2,     94.7,2,     94.6,2,    15.60,2,    31.38,2,     2.00,2, -999.000,9, -999.000,9, -999.000,9,-999.0000,9,  -999.00,9,   -999.0,9,   -999.0,9,     7.86,2,  9.4340
 3230CITHER2_2,  A17N,   165,  1,     27,     27,2,19940303,1319, -2.2002, -29.9997, 4883,    599.9,   5.5860,  34.4710,2,  34.4710,2,    174.8,2,    171.5,2,    25.00,2,    31.58,2,     2.12,2, -999.000,9, -999.000,9, -999.000,9,-999.0000,9,  -999.00,9,   -999.0,9,   -999.0,9,     7.89,2,  5.5350
 3230CITHER2_2,  A17N,   165,  1,     26,     26,2,19940303,1319, -2.2002, -29.9997, 4883,    800.3,   4.4780,  34.4910,2,  34.4860,2,    162.9,2,    163.7,2,    33.30,2,    33.98,2,     2.29,2, -999.000,9, -999.000,9, -999.000,9,-999.0000,9,  -999.00,9,   -999.0,9,   -999.0,9,     7.86,2,  4.4160
 3230CITHER2_2,  A17N,   165,  1,     25,     25,2,19940303,1319, -2.2002, -29.9997, 4883,   1000.0,   4.4610,  34.6950,2,  34.6930,2,    168.1,2,    167.0,2,    30.70,2,    31.48,2,     2.12,2, -999.000,9, -999.000,9, -999.000,9,-999.0000,9,  -999.00,9,   -999.0,9,   -999.0,9,     7.88,2,  4.3810
 3230CITHER2_2,  A17N,   165,  1,     24,     24,2,19940303,1319, -2.2002, -29.9997, 4883,   1198.7,   4.5940,  34.8150,2,  34.8150,2,    179.6,2,    182.8,2,    26.30,2,    28.29,2,     1.90,2, -999.000,9, -999.000,9, -999.000,9,-999.0000,9,  -999.00,9,   -999.0,9,   -999.0,9,     7.92,2,  4.4950
 3230CITHER2_2,  A17N,   165,  1,     23,     23,2,19940303,1319, -2.2002, -29.9997, 4883,   1399.0,   4.3050,  34.9650,2,  34.9640,2,    225.8,2,    228.9,2,    19.40,2,    22.01,2,     1.47,2, -999.000,9, -999.000,9, -999.000,9,-999.0000,9,  -999.00,9,   -999.0,9,   -999.0,9,     7.99,2,  4.1910
 3230CITHER2_2,  A17N,   165,  1,     22,     22,2,19940303,1319, -2.2002, -29.9997, 4883,   1500.5,   4.2020,  34.9710,2,  34.9730,2,    234.3,2,    233.1,2,    19.00,2,    21.54,2,     1.41,2, -999.000,9, -999.000,9, -999.000,9,-999.0000,9,  -999.00,9,   -999.0,9,   -999.0,9,     8.00,2,  4.0790
 3230CITHER2_2,  A17N,   165,  1,     21,     21,2,19940303,1319, -2.2002, -29.9997, 4883,   1600.0,   4.1780,  34.9790,2,  34.9810,2,    238.8,2,    238.8,2,    18.30,2,    20.93,2,     1.36,2, -999.000,9, -999.000,9, -999.000,9,-999.0000,9,  -999.00,9,   -999.0,9,   -999.0,9,     8.01,2,  4.0460
 3230CITHER2_2,  A17N,   165,  1,     20,     20,2,19940303,1319, -2.2002, -29.9997, 4883,   1699.2,   4.1180,  34.9800,2,  34.9830,2,    241.2,2,    240.1,2,    18.20,2,    20.78,2,     1.35,2, -999.000,9, -999.000,9, -999.000,9,-999.0000,9,  -999.00,9,   -999.0,9,   -999.0,9,     8.01,2,  3.9780
 3230CITHER2_2,  A17N,   165,  1,     19,     19,2,19940303,1319, -2.2002, -29.9997, 4883,   1800.6,   3.9590,  34.9790,2,  34.9830,2,    246.9,2,    247.6,2,    18.20,2,    20.32,2,     1.31,2, -999.000,9, -999.000,9, -999.000,9,-999.0000,9,  -999.00,9,   -999.0,9,   -999.0,9,     8.01,2,  3.8110
 3230CITHER2_2,  A17N,   165,  1,     18,     18,2,19940303,1319, -2.2002, -29.9997, 4883,   2000.0,   3.4490,  34.9620,2,  34.9650,2,    251.7,2,    251.1,2,    22.60,2,    20.32,2,     1.31,2, -999.000,9, -999.000,9, -999.000,9,-999.0000,9,  -999.00,9,   -999.0,9,   -999.0,9,     8.02,2,  3.2900
 3230CITHER2_2,  A17N,   165,  1,     17,     17,2,19940303,1319, -2.2002, -29.9997, 4883,   2199.3,   3.1590,  34.9470,2,  34.9470,2,    250.1,2,    249.7,2,    27.50,2,    20.78,2,     1.35,2, -999.000,9, -999.000,9, -999.000,9,-999.0000,9,  -999.00,9,   -999.0,9,   -999.0,9,     8.02,2,  2.9850
 3230CITHER2_2,  A17N,   165,  1,     16,     16,2,19940303,1319, -2.2002, -29.9997, 4883,   2399.2,   3.0090,  34.9440,2,  34.9420,2,    254.8,2,    254.0,2,    27.60,2,    20.35,2,     1.31,2, -999.000,9, -999.000,9, -999.000,9,-999.0000,9,  -999.00,9,   -999.0,9,   -999.0,9,     8.02,2,  2.8190
 3230CITHER2_2,  A17N,   165,  1,     15,     15,2,19940303,1319, -2.2002, -29.9997, 4883,   2697.6,   2.8360,  34.9340,2,  34.9340,2,    253.4,2,    255.1,2,    29.80,2,    20.47,2,     1.32,2, -999.000,9, -999.000,9, -999.000,9,-999.0000,9,  -999.00,9,   -999.0,9,   -999.0,9,     8.02,2,  2.6200
 3230CITHER2_2,  A17N,   165,  1,     13,     13,2,19940303,1319, -2.2002, -29.9997, 4883,   2998.7,   2.6630,  34.9170,2,  34.9170,2,    249.3,2,    249.8,2,    36.30,2,    21.39,2,     1.40,2, -999.000,9, -999.000,9, -999.000,9,-999.0000,9,  -999.00,9,   -999.0,9,   -999.0,9,     8.01,2,  2.4200
 3230CITHER2_2,  A17N,   165,  1,     14,     14,2,19940303,1319, -2.2002, -29.9997, 4883,   2999.6,   2.6660,  34.9170,2,  34.9160,2,    249.4,2,    249.9,2,    36.30,2,    21.43,2,     1.40,2, -999.000,9, -999.000,9, -999.000,9,-999.0000,9,  -999.00,9,   -999.0,9,   -999.0,9,     8.01,2,  2.4230
 3230CITHER2_2,  A17N,   165,  1,     12,     12,2,19940303,1319, -2.2002, -29.9997, 4883,   3198.7,   2.5960,  34.9160,2,  34.9170,2,    253.2,2,    253.2,2,    35.20,2,    21.12,2,     1.36,2, -999.000,9, -999.000,9, -999.000,9,-999.0000,9,  -999.00,9,   -999.0,9,   -999.0,9,     8.02,2,  2.3330
 3230CITHER2_2,  A17N,   165,  1,     11,     11,2,19940303,1319, -2.2002, -29.9997, 4883,   3398.2,   2.5290,  34.9130,2,  34.9110,2,    257.4,2,    257.4,2,    33.70,2,    20.47,2,     1.32,2, -999.000,9, -999.000,9, -999.000,9,-999.0000,9,  -999.00,9,   -999.0,9,   -999.0,9,     8.02,2,  2.2470
 3230CITHER2_2,  A17N,   165,  1,     10,     10,2,19940303,1319, -2.2002, -29.9997, 4883,   3548.3,   2.4300,  34.9090,2,  34.9040,2,    261.7,2,    261.4,2,    32.90,2,    19.93,2,     1.31,2, -999.000,9, -999.000,9, -999.000,9,-999.0000,9,  -999.00,9,   -999.0,9,   -999.0,9,     8.02,2,  2.1340
 3230CITHER2_2,  A17N,   165,  1,      9,      9,2,19940303,1319, -2.2002, -29.9997, 4883,   3699.0,   2.3680,  34.9020,2,  34.9030,2,    262.1,2,    261.2,2,    34.60,2,    20.24,2,     1.31,2, -999.000,9, -999.000,9, -999.000,9,-999.0000,9,  -999.00,9,   -999.0,9,   -999.0,9,     8.02,2,  2.0570
 3230CITHER2_2,  A17N,   165,  1,      8,      8,2,19940303,1319, -2.2002, -29.9997, 4883,   3849.8,   2.3330,  34.8980,2,  34.8990,2,    262.2,2,    261.1,2,    35.40,2,    20.32,2,     1.31,2, -999.000,9, -999.000,9, -999.000,9,-999.0000,9,  -999.00,9,   -999.0,9,   -999.0,9,     8.02,2,  2.0060
 3230CITHER2_2,  A17N,   165,  1,      7,      7,2,19940303,1319, -2.2002, -29.9997, 4883,   3999.2,   2.2380,  34.8890,2,  34.8910,2,    261.9,2,    260.5,2,    38.30,2,    20.59,2,     1.34,2, -999.000,9, -999.000,9, -999.000,9,-999.0000,9,  -999.00,9,   -999.0,9,   -999.0,9,     8.01,2,  1.8970
 3230CITHER2_2,  A17N,   165,  1,      6,      6,2,19940303,1319, -2.2002, -29.9997, 4883,   4197.3,   1.6970,  34.8230,2,  34.8260,2,    248.9,2,    243.7,2,    68.50,2,    24.62,2,     1.65,2, -999.000,9, -999.000,9, -999.000,9,-999.0000,9,  -999.00,9,   -999.0,9,   -999.0,9,     7.98,2,  1.3500
 3230CITHER2_2,  A17N,   165,  1,      5,      5,2,19940303,1319, -2.2002, -29.9997, 4883,   4396.2,   1.1330,  34.7630,2,  34.7630,2,    233.7,2,    231.6,2,    95.30,2,    28.63,2,     1.93,2, -999.000,9, -999.000,9, -999.000,9,-999.0000,9,  -999.00,9,   -999.0,9,   -999.0,9,     7.94,2,  0.7810
 3230CITHER2_2,  A17N,   165,  1,      4,      4,2,19940303,1319, -2.2002, -29.9997, 4883,   4596.6,   0.8020,  34.7230,2,  34.7250,2,    224.8,2,    224.9,2,   111.30,2,    30.94,2,     2.10,2, -999.000,9, -999.000,9, -999.000,9,-999.0000,9,  -999.00,9,   -999.0,9,   -999.0,9,     7.91,2,  0.4380
 3230CITHER2_2,  A17N,   165,  1,      3,      3,2,19940303,1319, -2.2002, -29.9997, 4883,   4795.2,   0.7640,  34.7170,2,  34.7220,2,    223.3,2,    224.3,2,   112.20,2,    31.04,2,     2.10,2, -999.000,9, -999.000,9, -999.000,9,-999.0000,9,  -999.00,9,   -999.0,9,   -999.0,9,     7.91,2,  0.3780
 3230CITHER2_2,  A17N,   165,  1,      2,      2,2,19940303,1319, -2.2002, -29.9997, 4883,   4899.0,   0.7390,  34.7140,2,  34.7150,2,    222.3,2,    222.6,2,   114.50,2,    31.39,2,     2.13,2, -999.000,9, -999.000,9, -999.000,9,-999.0000,9,  -999.00,9,   -999.0,9,   -999.0,9,     7.91,2,  0.3420
 3230CITHER2_2,  A17N,   165,  1,      1,      1,2,19940303,1319, -2.2002, -29.9997, 4883,   4947.6,   0.7350,  34.7130,2,  34.7130,2,    221.1,2,    222.9,2,   115.60,2,    31.48,2,     2.16,2, -999.000,9, -999.000,9, -999.000,9,-999.0000,9,  -999.00,9,   -999.0,9,   -999.0,9,     7.91,2,  0.3330