BOTTLE,20030515WHPSIOSA
EXPOCODE,SECT_ID,STNNBR,CASTNO,SAMPNO,BTLNBR,BTLNBR_FLAG_W,DATE,TIME,LATITUDE,LONGITUDE,DEPTH,CTDPRS,CTDTMP,CTDSAL,CTDSAL_FLAG_W,SALNTY,SALNTY_FLAG_W,CTDOXY,CTDOXY_FLAG_W,OXYGEN,OXYGEN_FLAG_W,SILCAT,SILCAT_FLAG_W,NITRAT,NITRAT_FLAG_W,PHSPHT,PHSPHT_FLAG_W,CFC-11,CFC-11_FLAG_W,CFC-12,CFC-12_FLAG_W,TRITUM,TRITUM_FLAG_W,HELIUM,HELIUM_FLAG_W,DELHE3,DELHE3_FLAG_W,TCARBN,TCARBN_FLAG_W,ALKALI,ALKALI_FLAG_W,PH,PH_FLAG_W,THETA
,,,,,,,,,,,,DBAR,ITS-90,PSS-78,,PSS-78,,UMOL/KG,,UMOL/KG,,UMOL/KG,,UMOL/KG,,UMOL/KG,,PMOL/KG,,PMOL/KG,,TU,,NMOL/KG,,PERCNT,,UMOL/KG,,UMOL/KG,,,,DEG C
 3230CITHER2_2,  A17N,   162,  1,     32,     32,2,19940302,2008, -3.5017, -30.0597, 4828,      5.4,  28.0980,  35.8900,2,  35.8910,2,    197.6,2,    199.0,2,     1.60,2,     0.00,2,     0.06,2, -999.000,5, -999.000,5, -999.000,9,-999.0000,9,  -999.00,9,   -999.0,9,   -999.0,9,     8.37,2, 28.0970
 3230CITHER2_2,  A17N,   162,  1,     31,     31,2,19940302,2008, -3.5017, -30.0597, 4828,     51.1,  27.5160,  36.1410,2,  36.1620,2,    205.6,2,    205.4,2,     1.60,2,     0.00,2,     0.09,2,    1.689,2,    0.969,2, -999.000,9,-999.0000,9,  -999.00,9,   -999.0,9,   -999.0,2,     8.37,2, 27.5040
 3230CITHER2_2,  A17N,   162,  1,     30,     30,2,19940302,2008, -3.5017, -30.0597, 4828,    125.9,  13.5700,  35.3520,2,  35.3510,2,    106.1,2,    104.5,2,     8.90,2,    22.78,2,     1.49,2,    1.177,2,    0.628,2, -999.000,9,-999.0000,9,  -999.00,9,   -999.0,9,   -999.0,9,     7.99,2, 13.5520
 3230CITHER2_2,  A17N,   162,  1,     29,     29,2,19940302,2008, -3.5017, -30.0597, 4828,    201.6,  12.4730,  35.2100,2,  35.2130,2,    114.0,2,    118.0,2,     9.50,2,    22.89,2,     1.52,2,    1.083,2,    0.571,2, -999.000,9,-999.0000,9,  -999.00,9,   -999.0,9,   -999.0,9,     7.99,2, 12.4460
 3230CITHER2_2,  A17N,   162,  1,     28,     28,2,19940302,2008, -3.5017, -30.0597, 4828,    399.9,   9.4630,  34.8470,2,  34.8440,2,    102.7,2,    118.0,2,    14.20,2,    28.87,2,     1.87,2,    0.621,2,    0.327,2, -999.000,9,-999.0000,9,  -999.00,9,   -999.0,9,   -999.0,9,     7.90,2,  9.4180
 3230CITHER2_2,  A17N,   162,  1,     27,     27,2,19940302,2008, -3.5017, -30.0597, 4828,    602.1,   5.8360,  34.5170,2,  34.5190,2,    134.6,2,    136.0,2,    25.10,2,    34.78,2,     2.29,2,    0.162,2,    0.090,2, -999.000,9,-999.0000,9,  -999.00,9,   -999.0,9,   -999.0,9,     7.84,2,  5.7840
 3230CITHER2_2,  A17N,   162,  1,     26,     26,2,19940302,2008, -3.5017, -30.0597, 4828,    801.7,   4.5270,  34.4720,2,  34.4710,2,    167.1,2,    164.1,2,    32.50,2,    34.25,2,     2.30,2,    0.104,2,    0.056,2, -999.000,9,-999.0000,9,  -999.00,9,   -999.0,9,   -999.0,9,     7.87,2,  4.4640
 3230CITHER2_2,  A17N,   162,  1,     25,     25,2,19940302,2008, -3.5017, -30.0597, 4828,    997.7,   4.1850,  34.5750,2,  34.5740,2,    165.0,2,    164.3,2,    34.60,2,    33.70,2,     2.27,2,    0.061,2,    0.037,2, -999.000,9,-999.0000,9,  -999.00,9,   -999.0,9,   -999.0,9,     7.87,2,  4.1080
 3230CITHER2_2,  A17N,   162,  1,     24,     24,2,19940302,2008, -3.5017, -30.0597, 4828,   1200.4,   4.4600,  34.8020,2,  34.8000,2,    182.0,2,    183.2,2,    27.00,2,    28.76,2,     1.92,2,    0.021,2,    0.014,2, -999.000,9,-999.0000,9,  -999.00,9,   -999.0,9,   -999.0,9,     7.92,2,  4.3630
 3230CITHER2_2,  A17N,   162,  1,     23,     23,2,19940302,2008, -3.5017, -30.0597, 4828,   1400.2,   4.3190,  34.9110,2,  34.9100,2,    208.2,2,    209.4,2,    22.50,2,    24.50,2,     1.65,2,    0.018,2,    0.015,2, -999.000,9,-999.0000,9,  -999.00,9,   -999.0,9,   -999.0,9,     7.96,2,  4.2050
 3230CITHER2_2,  A17N,   162,  1,     22,     22,2,19940302,2008, -3.5017, -30.0597, 4828,   1501.0,   4.2480,  34.9660,2,  34.9660,2,    228.8,2,    230.0,2,    19.10,2,    21.99,2,     1.44,2,    0.073,2,    0.045,2, -999.000,9,-999.0000,9,  -999.00,9,   -999.0,9,   -999.0,9,     8.00,2,  4.1250
 3230CITHER2_2,  A17N,   162,  1,     21,     21,2,19940302,2008, -3.5017, -30.0597, 4828,   1599.5,   4.0270,  34.9790,2,  34.9800,2,    241.7,2,    242.5,2,    18.60,2,    20.82,2,     1.35,2,    0.059,2,    0.033,2, -999.000,9,-999.0000,9,  -999.00,9,   -999.0,9,   -999.0,9,     8.01,2,  3.8970
 3230CITHER2_2,  A17N,   162,  1,     20,     20,2,19940302,2008, -3.5017, -30.0597, 4828,   1700.8,   3.8410,  34.9790,2,  34.9780,2,    245.7,2,    247.0,2,    19.30,2,    20.55,2,     1.32,2,    0.045,2,    0.030,2, -999.000,9,-999.0000,9,  -999.00,9,   -999.0,9,   -999.0,9,     8.02,2,  3.7040
 3230CITHER2_2,  A17N,   162,  1,     19,     19,2,19940302,2008, -3.5017, -30.0597, 4828,   1799.7,   3.6940,  34.9750,2,  34.9750,2,    249.4,2,    250.0,2,    20.20,2,    20.35,2,     1.31,2,    0.038,2,    0.025,2, -999.000,9,-999.0000,9,  -999.00,9,   -999.0,9,   -999.0,9,     8.02,2,  3.5500
 3230CITHER2_2,  A17N,   162,  1,     18,     18,2,19940302,2008, -3.5017, -30.0597, 4828,   2001.7,   3.4710,  34.9690,2,  34.9710,2,    254.3,2,    254.4,2,    20.90,2,    20.04,2,     1.30,2,    0.047,2,    0.030,2, -999.000,9,-999.0000,9,  -999.00,9,   -999.0,9,   -999.0,9,     8.03,2,  3.3110
 3230CITHER2_2,  A17N,   162,  1,     17,     17,2,19940302,2008, -3.5017, -30.0597, 4828,   2202.1,   3.2500,  34.9590,2,  34.9610,2,    256.4,2,    254.7,2,    23.70,2,    20.12,2,     1.29,2,    0.033,2,    0.017,2, -999.000,9,-999.0000,9,  -999.00,9,   -999.0,9,   -999.0,9,     8.02,2,  3.0750
 3230CITHER2_2,  A17N,   162,  1,     16,     16,2,19940302,2008, -3.5017, -30.0597, 4828,   2401.5,   3.1080,  34.9490,2,  34.9460,2,    253.6,2,    253.6,2,    26.80,2,    20.39,2,     1.33,2,    0.019,2,    0.013,2, -999.000,9,-999.0000,9,  -999.00,9,   -999.0,9,   -999.0,9,     8.02,2,  2.9160
 3230CITHER2_2,  A17N,   162,  1,     15,     15,2,19940302,2008, -3.5017, -30.0597, 4828,   2699.6,   2.8130,  34.9200,2,  34.9200,2,    245.4,2,    243.9,2,    36.80,2,    22.05,2,     1.44,2,   -0.001,2,    0.002,2, -999.000,9,-999.0000,9,  -999.00,9,   -999.0,9,   -999.0,9,     8.01,2,  2.5970
 3230CITHER2_2,  A17N,   162,  1,     14,     14,2,19940302,2008, -3.5017, -30.0597, 4828,   3001.5,   2.7090,  34.9200,2,  34.9190,2,    248.6,2,    249.6,2,    35.30,2,    21.50,2,     1.39,2,    0.005,2,    0.004,2, -999.000,9,-999.0000,9,  -999.00,9,   -999.0,9,   -999.0,9,     8.02,2,  2.4640
 3230CITHER2_2,  A17N,   162,  1,     13,     13,2,19940302,2008, -3.5017, -30.0597, 4828,   3198.7,   2.6370,  34.9180,2,  34.9180,2,    252.4,2,    252.6,2,    35.00,2,    21.19,2,     1.37,2,    0.012,2,    0.008,2, -999.000,9,-999.0000,9,  -999.00,9,   -999.0,9,   -999.0,9,     8.02,2,  2.3730
 3230CITHER2_2,  A17N,   162,  1,     12,     12,2,19940302,2008, -3.5017, -30.0597, 4828,   3198.8,   2.6370,  34.9170,2,  34.9160,2,    252.4,2,    252.6,2,    35.10,2,    21.19,2,     1.38,2,    0.010,2,    0.008,2, -999.000,9,-999.0000,9,  -999.00,9,   -999.0,9,   -999.0,9,     8.02,2,  2.3740
 3230CITHER2_2,  A17N,   162,  1,     11,     11,2,19940302,2008, -3.5017, -30.0597, 4828,   3401.1,   2.5870,  34.9150,2,  34.9150,2,    253.5,2,    254.4,2,    35.10,2,    20.96,2,     1.36,2,    0.007,2,    0.008,2, -999.000,9,-999.0000,9,  -999.00,9,   -999.0,9,   -999.0,9,     8.02,2,  2.3030
 3230CITHER2_2,  A17N,   162,  1,     10,     10,2,19940302,2008, -3.5017, -30.0597, 4828,   3550.3,   2.5670,  34.9140,2,  34.9130,2,    255.7,2,    256.2,2,    34.60,2,    20.84,2,     1.34,2,    0.020,2,    0.011,2, -999.000,9,-999.0000,9,  -999.00,9,   -999.0,9,   -999.0,9,     8.02,2,  2.2670
 3230CITHER2_2,  A17N,   162,  1,      9,      9,2,19940302,2008, -3.5017, -30.0597, 4828,   3699.4,   2.5230,  34.9120,2,  34.9110,2,    259.0,2,    257.1,2,    33.70,2,    20.41,2,     1.33,2,    0.028,2,    0.016,2, -999.000,9,-999.0000,9,  -999.00,9,   -999.0,9,   -999.0,9,     8.03,2,  2.2080
 3230CITHER2_2,  A17N,   162,  1,      8,      8,2,19940302,2008, -3.5017, -30.0597, 4828,   3849.9,   2.3920,  34.9000,2,  34.9020,2,    258.8,2,    258.2,2,    37.20,2,    20.87,2,     1.36,2,    0.015,2,    0.009,2, -999.000,9,-999.0000,9,  -999.00,9,   -999.0,9,   -999.0,9,     8.02,2,  2.0640
 3230CITHER2_2,  A17N,   162,  1,      7,      7,2,19940302,2008, -3.5017, -30.0597, 4828,   3999.7,   2.0420,  34.8640,2,  34.8630,2,    253.1,2,    251.1,2,    52.20,2,    22.87,2,     1.51,2,    0.009,2,    0.008,2, -999.000,9,-999.0000,9,  -999.00,9,   -999.0,9,   -999.0,9,     8.00,2,  1.7070
 3230CITHER2_2,  A17N,   162,  1,      6,      6,2,19940302,2008, -3.5017, -30.0597, 4828,   4197.5,   1.5250,  34.8060,2,  34.8070,2,    240.1,2,    239.2,2,    78.20,2,    26.17,2,     1.76,2,    0.005,2,    0.002,2, -999.000,9,-999.0000,9,  -999.00,9,   -999.0,9,   -999.0,9,     7.97,2,  1.1830
 3230CITHER2_2,  A17N,   162,  1,      5,      5,2,19940302,2008, -3.5017, -30.0597, 4828,   4398.5,   1.1000,  34.7590,2,  34.7600,2,    231.0,2,    231.1,2,    97.70,2,    29.08,2,     1.96,2,    0.002,2,   -0.002,2, -999.000,9,-999.0000,9,  -999.00,9,   -999.0,9,   -999.0,9,     7.95,2,  0.7480
 3230CITHER2_2,  A17N,   162,  1,      4,      4,2,19940302,2008, -3.5017, -30.0597, 4828,   4599.5,   0.9290,  34.7390,2,  34.7390,2,    226.7,2,    227.4,2,   106.10,2,    30.50,2,     2.06,2,    0.004,2,    0.007,2, -999.000,9,-999.0000,9,  -999.00,9,   -999.0,9,   -999.0,9,     7.93,2,  0.5600
 3230CITHER2_2,  A17N,   162,  1,      3,      3,2,19940302,2008, -3.5017, -30.0597, 4828,   4699.7,   0.8510,  34.7270,2,  34.7260,2,    225.1,2,    225.4,2,   109.80,2,    31.14,2,     2.10,2,    0.015,2,    0.007,2, -999.000,9,-999.0000,9,  -999.00,9,   -999.0,9,   -999.0,9,     7.92,2,  0.4730
 3230CITHER2_2,  A17N,   162,  1,      2,      2,2,19940302,2008, -3.5017, -30.0597, 4828,   4800.0,   0.7030,  34.7100,2,  34.7120,2,    222.9,2,    223.2,2,   116.10,2,    31.63,2,     2.15,2,    0.030,2,    0.017,2, -999.000,9,-999.0000,9,  -999.00,9,   -999.0,9,   -999.0,9,     7.91,2,  0.3190
 3230CITHER2_2,  A17N,   162,  1,      1,      1,2,19940302,2008, -3.5017, -30.0597, 4828,   4896.6,   0.7050,  34.7090,2,  34.7100,2,    221.7,2,    223.0,2,   116.40,2,    31.77,2,     2.17,2,    0.029,2,    0.017,2, -999.000,9,-999.0000,9,  -999.00,9,   -999.0,9,   -999.0,9,     7.91,2,  0.3100
 3230CITHER2_2,  A17N,   163,  1,     32,     32,2,19940303,0206, -3.0047, -30.0302, 4888,      4.6,  28.0080,  35.8740,2,  35.8730,2,    198.8,2,    199.2,2,     1.40,2,     0.04,2,     0.05,2,    1.679,2,    0.954,2, -999.000,9,-999.0000,9,  -999.00,9,   2003.6,2,   2361.2,2,     8.38,2, 28.0070
 3230CITHER2_2,  A17N,   163,  1,     31,     31,2,19940303,0206, -3.0047, -30.0302, 4888,     29.9,  27.9900,  35.8750,2,  35.8770,2,    199.8,2,    199.2,2,     1.60,2,     0.04,2,     0.05,2,    1.668,2,    0.943,2, -999.000,9,-999.0000,9,  -999.00,9,   2005.1,2,   2362.6,2,     8.38,2, 27.9830
 3230CITHER2_2,  A17N,   163,  1,     30,     30,2,19940303,0206, -3.0047, -30.0302, 4888,    111.8,  13.8450,  35.3970,2,  35.4000,2,     99.8,2,     96.6,2,     8.50,2,    23.23,2,     1.49,2,    1.175,2,    0.625,2, -999.000,9,-999.0000,9,  -999.00,9,   2186.0,2,   2336.6,2,     7.98,2, 13.8290
 3230CITHER2_2,  A17N,   163,  1,     29,     29,2,19940303,0206, -3.0047, -30.0302, 4888,    201.7,  12.3980,  35.2030,2,  35.2040,2,    102.2,2,    109.7,2,    10.20,2,    24.00,2,     1.57,2,    0.996,2,    0.532,2, -999.000,9,-999.0000,9,  -999.00,9,   2186.6,2,   2330.0,2,     7.96,2, 12.3710
 3230CITHER2_2,  A17N,   163,  1,     28,     28,2,19940303,0206, -3.0047, -30.0302, 4888,    399.5,   9.3760,  34.8390,2,  34.8370,2,    122.7,2,    114.9,2,    14.80,2,    29.33,2,     1.88,2,    0.565,2,    0.305,2, -999.000,9,-999.0000,9,  -999.00,9,   2200.2,2,   2314.5,2,     7.90,2,  9.3310
 3230CITHER2_2,  A17N,   163,  1,     27,     27,2,19940303,0206, -3.0047, -30.0302, 4888,    600.6,   5.6640,  34.5050,2,  34.5060,2,    138.5,2,    140.1,2,    26.20,2,    34.69,2,     2.30,2,    0.163,2,    0.094,2, -999.000,9,-999.0000,9,  -999.00,9,   2215.6,2,   2310.6,2,     7.84,2,  5.6130
 3230CITHER2_2,  A17N,   163,  1,     26,     26,2,19940303,0206, -3.0047, -30.0302, 4888,    800.3,   4.4750,  34.4900,2,  34.4880,2,    164.0,2,    162.8,2,    33.50,2,    34.29,2,     2.30,2,    0.077,2,    0.046,2, -999.000,9,-999.0000,9,  -999.00,9,   2215.7,2,   2318.6,2,     7.86,2,  4.4130
 3230CITHER2_2,  A17N,   163,  1,     25,     25,2,19940303,0206, -3.0047, -30.0302, 4888,    998.8,   4.4040,  34.6280,2,  34.6240,2,    166.3,2,    165.5,2,    32.60,2,    32.76,2,     2.20,2,    0.080,2,    0.047,2, -999.000,9,-999.0000,9,  -999.00,9,   2216.5,2,   2320.7,2,     7.87,2,  4.3250
 3230CITHER2_2,  A17N,   163,  1,     24,     24,2,19940303,0206, -3.0047, -30.0302, 4888,   1200.1,   4.4990,  34.8050,2,  34.8010,2,    179.0,2,   -999.0,5,    27.00,2,    28.43,2,     1.90,2,    0.026,2,    0.017,2, -999.000,9,-999.0000,9,  -999.00,9,   2202.9,2,   2327.1,2,     7.92,2,  4.4010
 3230CITHER2_2,  A17N,   163,  1,     23,     23,2,19940303,0206, -3.0047, -30.0302, 4888,   1396.8,   4.3150,  34.9310,2,  34.9330,2,    216.1,2,    216.6,2,    21.40,2,    23.67,2,     1.56,2,    0.029,2,    0.022,2, -999.000,9,-999.0000,9,  -999.00,9,   2182.8,2,   2329.6,2,     7.97,2,  4.2010
 3230CITHER2_2,  A17N,   163,  1,     22,     22,2,19940303,0206, -3.0047, -30.0302, 4888,   1498.2,   4.1650,  34.9650,2,  34.9670,2,    231.2,2,    232.1,2,    19.30,2,    21.90,2,     1.42,2,    0.050,2,    0.024,2, -999.000,9,-999.0000,9,  -999.00,9,   2175.4,2,   2337.3,2,     7.99,2,  4.0430
 3230CITHER2_2,  A17N,   163,  1,     21,     21,2,19940303,0206, -3.0047, -30.0302, 4888,   1599.5,   4.0180,  34.9780,2,  34.9800,2,    242.1,2,    243.3,2,    18.50,2,    21.05,2,     1.35,2,    0.062,2,    0.044,2, -999.000,9,-999.0000,9,  -999.00,9,   2168.2,2,   2330.0,2,     8.00,2,  3.8880
 3230CITHER2_2,  A17N,   163,  1,     20,     20,2,19940303,0206, -3.0047, -30.0302, 4888,   1699.4,   3.8210,  34.9770,2,  34.9750,2,    248.0,2,    248.0,2,    19.00,2,    20.40,2,     1.30,2,    0.050,2,    0.034,2, -999.000,9,-999.0000,9,  -999.00,9,   2167.7,2,   2328.1,2,     8.01,2,  3.6850
 3230CITHER2_2,  A17N,   163,  1,     19,     19,2,19940303,0206, -3.0047, -30.0302, 4888,   1800.1,   3.6630,  34.9730,2,  34.9740,2,    250.4,2,    250.4,2,    20.10,2,    20.28,2,     1.31,2,    0.033,2,    0.033,2, -999.000,9,-999.0000,9,  -999.00,9,   2167.4,2,   2332.4,2,     8.02,2,  3.5190
 3230CITHER2_2,  A17N,   163,  1,     18,     18,2,19940303,0206, -3.0047, -30.0302, 4888,   1999.7,   3.4180,  34.9600,2,  34.9620,2,    252.1,2,    251.1,2,    22.80,2,    20.51,2,     1.32,2,    0.014,2,    0.013,2, -999.000,9,-999.0000,9,  -999.00,9,   2169.1,2,   2333.2,2,     8.02,2,  3.2590
 3230CITHER2_2,  A17N,   163,  1,     17,     17,2,19940303,0206, -3.0047, -30.0302, 4888,   2199.7,   3.2080,  34.9560,2,  34.9520,2,    253.2,2,    253.0,2,    25.50,2,    20.66,2,     1.32,2,    0.018,2,    0.011,2, -999.000,9,-999.0000,9,  -999.00,9,   2172.2,2,   2334.9,2,     8.02,2,  3.0330
 3230CITHER2_2,  A17N,   163,  1,     16,     16,2,19940303,0206, -3.0047, -30.0302, 4888,   2399.5,   3.0590,  34.9470,2,  34.9390,2,    255.6,2,    255.1,2,    26.10,2,    20.27,2,     1.31,2,    0.026,2,    0.024,2, -999.000,9,-999.0000,9,  -999.00,9,   2170.7,2,   2336.7,2,     8.02,2,  2.8680
 3230CITHER2_2,  A17N,   163,  1,     15,     15,2,19940303,0206, -3.0047, -30.0302, 4888,   2700.2,   2.8490,  34.9300,2,  34.9310,2,    251.1,2,    251.2,2,    31.60,2,    21.12,2,     1.36,2,    0.007,2,    0.005,2, -999.000,9,-999.0000,9,  -999.00,9,   2181.7,2,   2341.1,2,     8.01,2,  2.6320
 3230CITHER2_2,  A17N,   163,  1,     14,     14,2,19940303,0206, -3.0047, -30.0302, 4888,   2998.7,   2.7130,  34.9210,2,  34.9200,2,    251.8,2,    251.4,2,    34.30,2,    21.27,2,     1.39,2,    0.007,2,    0.004,2, -999.000,9,-999.0000,9,  -999.00,9,   2182.7,2,   2342.3,2,     8.01,2,  2.4690
 3230CITHER2_2,  A17N,   163,  1,     12,     12,2,19940303,0206, -3.0047, -30.0302, 4888,   3198.6,   2.6310,  34.9170,2,  34.9140,2,    250.9,2,    251.9,2,    35.20,2,    21.19,2,     1.38,2,    0.010,2,    0.008,2, -999.000,9,-999.0000,9,  -999.00,9,   2183.4,2,   2342.2,2,     8.01,2,  2.3680
 3230CITHER2_2,  A17N,   163,  1,     13,     13,2,19940303,0206, -3.0047, -30.0302, 4888,   3198.8,   2.6330,  34.9160,2,  34.9140,2,    250.9,2,    252.1,2,    35.20,2,    21.23,2,     1.39,2,    0.009,2,    0.005,2, -999.000,9,-999.0000,9,  -999.00,9,   -999.0,5,   2342.2,2,     8.01,2,  2.3700
 3230CITHER2_2,  A17N,   163,  1,     11,     11,2,19940303,0206, -3.0047, -30.0302, 4888,   3398.3,   2.5870,  34.9140,2,  34.9120,2,    255.7,2,    255.1,2,    34.00,2,    20.84,2,     1.36,2,    0.020,2,    0.014,2, -999.000,9,-999.0000,9,  -999.00,9,   2181.7,2,   2342.4,2,     8.02,2,  2.3030
 3230CITHER2_2,  A17N,   163,  1,     10,     10,2,19940303,0206, -3.0047, -30.0302, 4888,   3550.0,   2.5270,  34.9130,2,  34.9130,2,    258.9,2,    258.7,2,    32.80,2,    20.57,2,     1.34,2,    0.039,2,    0.024,2, -999.000,9,-999.0000,9,  -999.00,9,   2177.4,2,   2340.5,2,     8.02,2,  2.2280
 3230CITHER2_2,  A17N,   163,  1,      9,      9,2,19940303,0206, -3.0047, -30.0302, 4888,   3697.3,   2.4740,  34.9090,2,  34.9110,2,    261.3,2,    260.9,2,    32.50,2,    20.17,2,     1.31,2,    0.053,2,    0.035,2, -999.000,9,-999.0000,9,  -999.00,9,   2176.7,2,   2340.6,2,     8.02,2,  2.1610
 3230CITHER2_2,  A17N,   163,  1,      8,      8,2,19940303,0206, -3.0047, -30.0302, 4888,   3847.6,   2.3160,  34.8960,2,  34.8980,2,    261.7,2,    260.1,2,    36.30,2,    20.52,2,     1.34,2,    0.067,2,    0.041,2, -999.000,9,-999.0000,9,  -999.00,9,   2180.3,2,   2342.5,2,     8.01,2,  1.9900
 3230CITHER2_2,  A17N,   163,  1,      7,      7,2,19940303,0206, -3.0047, -30.0302, 4888,   3996.5,   2.0770,  34.8670,2,  34.8670,2,    256.1,2,    254.4,2,    47.50,2,    22.06,2,     1.46,2,    0.035,2,    0.021,2, -999.000,9,-999.0000,9,  -999.00,9,   2191.7,2,   2350.0,2,     8.00,2,  1.7410
 3230CITHER2_2,  A17N,   163,  1,      6,      6,2,19940303,0206, -3.0047, -30.0302, 4888,   4197.0,   1.5980,  34.8130,2,  34.8120,2,    243.5,2,    240.6,2,    74.00,2,    25.65,2,     1.73,2,    0.002,2,   -0.002,2, -999.000,9,-999.0000,9,  -999.00,9,   2218.3,2,   2362.3,2,     7.97,2,  1.2540
 3230CITHER2_2,  A17N,   163,  1,      5,      5,2,19940303,0206, -3.0047, -30.0302, 4888,   4396.6,   1.1460,  34.7660,2,  34.7660,2,    232.1,2,    232.0,2,    94.00,2,    28.49,2,     1.93,2,    0.002,2,    0.003,2, -999.000,9,-999.0000,9,  -999.00,9,   2239.0,2,   2374.7,2,     7.94,2,  0.7930
 3230CITHER2_2,  A17N,   163,  1,      4,      4,2,19940303,0206, -3.0047, -30.0302, 4888,   4596.9,   0.8840,  34.7320,2,  34.7330,2,    225.9,2,    226.0,2,   106.90,2,    30.41,2,     2.07,2,    0.011,2,    0.004,2, -999.000,9,-999.0000,9,  -999.00,9,   2251.3,2,   2377.4,2,     7.92,2,  0.5170
 3230CITHER2_2,  A17N,   163,  1,      3,      3,2,19940303,0206, -3.0047, -30.0302, 4888,   4797.5,   0.7470,  34.7150,2,  34.7190,2,    223.0,2,    223.6,2,   112.40,2,    31.19,2,     2.13,2,    0.023,2,    0.015,2, -999.000,9,-999.0000,9,  -999.00,9,   2253.9,2,   2377.8,2,     7.91,2,  0.3620
 3230CITHER2_2,  A17N,   163,  1,      2,      2,2,19940303,0206, -3.0047, -30.0302, 4888,   4898.3,   0.7220,  34.7110,2,  34.7140,2,    222.2,2,    222.6,2,   114.00,2,    31.48,2,     2.16,2,    0.029,2,    0.018,2, -999.000,9,-999.0000,9,  -999.00,9,   2257.9,2,   2380.1,2,     7.91,2,  0.3260
 3230CITHER2_2,  A17N,   163,  1,      1,      1,2,19940303,0206, -3.0047, -30.0302, 4888,   4954.1,   0.7290,  34.7110,2,  34.7130,2,    221.9,2,    223.2,2,   114.30,2,    31.43,2,     2.16,2,    0.028,2,    0.019,2, -999.000,9,-999.0000,9,  -999.00,9,   2256.7,2,   2375.5,2,     7.91,2,  0.3260