BOTTLE,20030515WHPSIOSA
EXPOCODE,SECT_ID,STNNBR,CASTNO,SAMPNO,BTLNBR,BTLNBR_FLAG_W,DATE,TIME,LATITUDE,LONGITUDE,DEPTH,CTDPRS,CTDTMP,CTDSAL,CTDSAL_FLAG_W,SALNTY,SALNTY_FLAG_W,CTDOXY,CTDOXY_FLAG_W,OXYGEN,OXYGEN_FLAG_W,SILCAT,SILCAT_FLAG_W,NITRAT,NITRAT_FLAG_W,PHSPHT,PHSPHT_FLAG_W,CFC-11,CFC-11_FLAG_W,CFC-12,CFC-12_FLAG_W,TRITUM,TRITUM_FLAG_W,HELIUM,HELIUM_FLAG_W,DELHE3,DELHE3_FLAG_W,TCARBN,TCARBN_FLAG_W,ALKALI,ALKALI_FLAG_W,PH,PH_FLAG_W,THETA
,,,,,,,,,,,,DBAR,ITS-90,PSS-78,,PSS-78,,UMOL/KG,,UMOL/KG,,UMOL/KG,,UMOL/KG,,UMOL/KG,,PMOL/KG,,PMOL/KG,,TU,,NMOL/KG,,PERCNT,,UMOL/KG,,UMOL/KG,,,,DEG C
 3230CITHER2_2,  A17N,   137,  1,     21,     21,2,19940222,0108,-13.3610, -32.5472, 4645,      2.3,  28.0000,  37.2670,2,  37.2650,2,    194.8,2,    197.0,2,     0.90,2,     0.04,2,     0.09,2,    1.636,2,    0.942,2,    0.640,2,-999.0000,9,  -999.00,9,   2064.7,2,   -999.0,9,     8.41,2, 27.9990
 3230CITHER2_2,  A17N,   137,  1,     20,     20,2,19940222,0108,-13.3610, -32.5472, 4645,     50.8,  27.9070,  37.2780,2,  37.2590,2,    201.4,2,    200.1,2,     0.90,2,     0.04,2,     0.10,2,    1.675,2,    0.965,2,    0.590,2,-999.0000,9,  -999.00,9,   2067.4,2,   -999.0,9,     8.40,2, 27.8950
 3230CITHER2_2,  A17N,   137,  1,     19,     19,2,19940222,0108,-13.3610, -32.5472, 4645,    125.6,  24.1720,  37.0810,2,  37.0740,2,    211.3,2,    222.8,2,     1.10,2,     0.04,2,     0.17,2,    1.913,2,    1.072,2,    0.700,2,-999.0000,9,  -999.00,9,   2086.7,2,   -999.0,9,     8.36,2, 24.1450
 3230CITHER2_2,  A17N,   137,  1,     17,     17,2,19940222,0108,-13.3610, -32.5472, 4645,    199.2,  18.6520,  36.1280,2,  36.1020,2,    188.5,2,    238.0,2,     2.20,2,     5.68,2,     0.56,2,    2.101,2,    1.137,2,    0.660,2,-999.0000,9,  -999.00,9,   2113.6,2,   -999.0,9,     8.23,2, 18.6170
 3230CITHER2_2,  A17N,   137,  1,     18,     18,2,19940222,0108,-13.3610, -32.5472, 4645,    199.2,  18.6520,  36.1280,2,  36.1020,2,    188.5,2,    238.0,2,     2.20,2,     5.68,2,     0.56,2,    2.101,2,    1.137,2,    0.580,2,-999.0000,9,  -999.00,9,   -999.0,5,   -999.0,9,     8.23,2, 18.6170
 3230CITHER2_2,  A17N,   137,  1,     32,     32,2,19940222,0108,-13.3610, -32.5472, 4645,    351.2,  10.4720,  34.9340,2,  34.9490,2,    118.2,2,    117.8,2,    10.90,2,    25.63,2,     1.71,2,    0.855,2,    0.451,2,    0.240,2,-999.0000,9,  -999.00,9,   2187.2,2,   -999.0,9,     7.95,2, 10.4300
 3230CITHER2_2,  A17N,   137,  1,     31,     31,2,19940222,0108,-13.3610, -32.5472, 4645,    449.8,   7.7030,  34.6470,2,  34.6410,2,    142.3,2,    145.7,2,    16.70,2,    29.67,2,     1.97,2,    0.408,2,    0.227,2,    0.110,2,-999.0000,9,  -999.00,9,   2201.0,2,   -999.0,9,     7.92,2,  7.6580
 3230CITHER2_2,  A17N,   137,  1,     30,     30,2,19940222,0108,-13.3610, -32.5472, 4645,    555.8,   5.6350,  34.4620,2,  34.4620,2,    173.5,2,    171.0,2,    23.10,2,    31.99,2,     2.12,2,    0.319,2,    0.177,2,    0.070,2,-999.0000,9,  -999.00,9,   2195.4,2,   -999.0,9,     7.91,2,  5.5880
 3230CITHER2_2,  A17N,   137,  1,     29,     29,2,19940222,0108,-13.3610, -32.5472, 4645,    701.6,   4.6070,  34.4240,2,  34.4260,2,    175.0,2,    172.5,2,    30.30,2,    33.91,2,     2.27,2,    0.117,2,    0.069,2,    0.020,2,-999.0000,9,  -999.00,9,   2207.0,2,   -999.0,9,     7.88,2,  4.5520
 3230CITHER2_2,  A17N,   137,  1,     28,     28,2,19940222,0108,-13.3610, -32.5472, 4645,    999.0,   3.7940,  34.5330,2,  34.5330,2,    178.9,2,    177.9,2,    38.40,2,    33.30,2,     2.23,2,    0.025,2,    0.016,2,    0.030,2,-999.0000,9,  -999.00,9,   2216.4,2,   -999.0,9,     7.89,2,  3.7200
 3230CITHER2_2,  A17N,   137,  1,     27,     27,2,19940222,0108,-13.3610, -32.5472, 4645,   1199.4,   4.0030,  34.7190,2,  34.7200,2,    185.5,2,    185.3,2,    32.00,2,    30.28,2,     2.02,2,    0.003,2,    0.000,2,    0.010,2,-999.0000,9,  -999.00,9,   -999.0,9,   -999.0,9,     7.92,2,  3.9100
 3230CITHER2_2,  A17N,   137,  1,     26,     26,2,19940222,0108,-13.3610, -32.5472, 4645,   1399.8,   4.1320,  34.8770,2,  34.8780,2,    208.1,2,    220.2,2,    24.50,2,    25.53,2,     1.70,2,    0.012,2,    0.006,2,    0.170,2,-999.0000,9,  -999.00,9,   -999.0,9,   -999.0,9,     7.97,2,  4.0200
 3230CITHER2_2,  A17N,   137,  1,     25,     25,2,19940222,0108,-13.3610, -32.5472, 4645,   1499.5,   4.0860,  34.9230,2,  34.9230,2,    220.7,2,    221.1,2,    22.10,2,    23.42,2,     1.57,2,    0.024,2,    0.016,2, -999.000,9,-999.0000,9,  -999.00,9,   -999.0,9,   -999.0,9,     7.99,2,  3.9650
 3230CITHER2_2,  A17N,   137,  1,     24,     24,2,19940222,0108,-13.3610, -32.5472, 4645,   1601.3,   3.9890,  34.9430,2,  34.9450,2,    230.5,2,    291.0,2,    21.00,2,    22.37,2,     1.48,2,    0.028,2,    0.021,2, -999.000,9,-999.0000,9,  -999.00,9,   -999.0,9,   -999.0,9,     8.00,2,  3.8600
 3230CITHER2_2,  A17N,   137,  1,     23,     23,2,19940222,0108,-13.3610, -32.5472, 4645,   1700.0,   3.8260,  34.9520,2,  34.9540,2,    239.1,2,   -999.0,5,    21.00,2,    21.58,2,     1.43,2,    0.028,2,    0.022,2, -999.000,9,-999.0000,9,  -999.00,9,   -999.0,9,   -999.0,9,     8.01,2,  3.6900
 3230CITHER2_2,  A17N,   137,  1,     22,     22,2,19940222,0108,-13.3610, -32.5472, 4645,   1800.4,   3.6910,  34.9590,2,  34.9610,2,    243.1,2,   -999.0,5,    21.10,2,    21.22,2,     1.38,2,    0.032,2,    0.031,2, -999.000,9,-999.0000,9,  -999.00,9,   -999.0,9,   -999.0,9,     8.02,2,  3.5470
 3230CITHER2_2,  A17N,   138,  1,     18,     18,2,19940222,0540,-13.3798, -32.0550, 4842,   1800.0,   3.6370,  34.9400,2,  34.9460,2,    240.5,2,    238.9,2,    23.00,2,    21.97,2,     1.46,2,    0.008,2,    0.005,2, -999.000,9,-999.0000,9,  -999.00,9,   -999.0,9,   -999.0,9,     7.99,2,  3.4940
 3230CITHER2_2,  A17N,   138,  1,     17,     17,2,19940222,0540,-13.3798, -32.0550, 4842,   1999.3,   3.3260,  34.9370,2,  34.9380,2,    244.7,2,    244.6,2,    25.40,2,    21.66,2,     1.43,2,    0.005,2,    0.001,2, -999.000,9,-999.0000,9,  -999.00,9,   -999.0,9,   -999.0,9,     7.99,2,  3.1690
 3230CITHER2_2,  A17N,   138,  1,     16,     16,2,19940222,0540,-13.3798, -32.0550, 4842,   2198.6,   3.0830,  34.9240,2,-999.0000,5,    243.2,2,    250.6,2,    29.90,2,    21.89,2,     1.45,2,    0.004,2,    0.007,2, -999.000,9,-999.0000,9,  -999.00,9,   -999.0,9,   -999.0,9,     7.99,2,  2.9110
 3230CITHER2_2,  A17N,   138,  1,     15,     15,2,19940222,0540,-13.3798, -32.0550, 4842,   2399.5,   2.9220,  34.9190,2,  34.9140,2,    243.8,2,    245.3,2,    32.90,2,    21.97,2,     1.45,2,    0.037,2,    0.020,2, -999.000,9,-999.0000,9,  -999.00,9,   -999.0,9,   -999.0,9,     7.99,2,  2.7330
 3230CITHER2_2,  A17N,   138,  1,     14,     14,2,19940222,0540,-13.3798, -32.0550, 4842,   2700.6,   2.7830,  34.9120,2,-999.0000,5,    243.2,2,    251.4,2,    35.60,2,    22.21,2,     1.47,2,    0.001,2,    0.002,2, -999.000,9,-999.0000,9,  -999.00,9,   -999.0,9,   -999.0,9,     7.99,2,  2.5670
 3230CITHER2_2,  A17N,   138,  1,     13,     13,2,19940222,0540,-13.3798, -32.0550, 4842,   2997.5,   2.7360,  34.9160,2,  34.9140,2,    248.3,2,    248.2,2,    34.50,2,    21.73,2,     1.43,2,    0.001,2,    0.004,2, -999.000,9,-999.0000,9,  -999.00,9,   -999.0,9,   -999.0,9,     8.00,2,  2.4910
 3230CITHER2_2,  A17N,   138,  1,     12,     12,2,19940222,0540,-13.3798, -32.0550, 4842,   3198.3,   2.6830,  34.9180,2,  34.9170,2,    251.6,2,    252.2,2,    33.60,2,    21.34,2,     1.41,2,    0.007,2,    0.008,2, -999.000,9,-999.0000,9,  -999.00,9,   -999.0,9,   -999.0,9,     8.00,2,  2.4180
 3230CITHER2_2,  A17N,   138,  1,     11,     11,2,19940222,0540,-13.3798, -32.0550, 4842,   3399.8,   2.6410,  34.9140,2,  34.9150,2,    253.5,2,    252.9,2,    33.70,2,    21.26,2,     1.40,2,    0.011,2,    0.008,2, -999.000,9,-999.0000,9,  -999.00,9,   -999.0,9,   -999.0,9,     8.01,2,  2.3560
 3230CITHER2_2,  A17N,   138,  1,     10,     10,2,19940222,0540,-13.3798, -32.0550, 4842,   3550.0,   2.5880,  34.9130,2,  34.9150,2,    255.6,2,    255.4,2,    33.00,2,    20.95,2,     1.38,2,    0.018,2,    0.016,2, -999.000,9,-999.0000,9,  -999.00,9,   -999.0,9,   -999.0,9,     8.00,2,  2.2880
 3230CITHER2_2,  A17N,   138,  1,      9,      9,2,19940222,0540,-13.3798, -32.0550, 4842,   3699.4,   2.4920,  34.9060,2,  34.9090,2,    257.2,2,    256.9,2,    34.20,2,    20.87,2,     1.37,2,    0.019,2,    0.014,2, -999.000,9,-999.0000,9,  -999.00,9,   -999.0,9,   -999.0,9,     8.00,2,  2.1780
 3230CITHER2_2,  A17N,   138,  1,      8,      8,2,19940222,0540,-13.3798, -32.0550, 4842,   3848.7,   2.3450,  34.8900,2,  34.8910,2,    254.6,2,    254.0,2,    40.50,2,    21.73,2,     1.44,2,    0.016,2,    0.011,2, -999.000,9,-999.0000,9,  -999.00,9,   -999.0,9,   -999.0,9,     8.00,2,  2.0180
 3230CITHER2_2,  A17N,   138,  1,      7,      7,2,19940222,0540,-13.3798, -32.0550, 4842,   3998.9,   2.1210,  34.8670,2,  34.8680,2,    250.0,2,    250.0,2,    50.00,2,    23.08,2,     1.53,2,    0.010,2,    0.008,2, -999.000,9,-999.0000,9,  -999.00,9,   -999.0,9,   -999.0,9,     7.99,2,  1.7840
 3230CITHER2_2,  A17N,   138,  1,      6,      6,2,19940222,0540,-13.3798, -32.0550, 4842,   4200.9,   1.7660,  34.8280,2,  34.8260,2,    242.8,2,    242.2,2,    66.70,2,    25.58,2,     1.70,2,    0.003,2,    0.002,2, -999.000,9,-999.0000,9,  -999.00,9,   -999.0,9,   -999.0,9,     7.97,2,  1.4160
 3230CITHER2_2,  A17N,   138,  1,      5,      5,2,19940222,0540,-13.3798, -32.0550, 4842,   4397.5,   1.3290,  34.7790,2,  34.7800,2,    234.8,2,    234.3,2,    86.80,2,    28.26,2,     1.90,2,    0.009,2,    0.006,2, -999.000,9,-999.0000,9,  -999.00,9,   -999.0,9,   -999.0,9,     7.93,2,  0.9700
 3230CITHER2_2,  A17N,   138,  1,      4,      4,2,19940222,0540,-13.3798, -32.0550, 4842,   4599.9,   0.8800,  34.7300,2,  34.7320,2,    225.7,2,    226.4,2,   106.10,2,    31.03,2,     2.08,2,    0.022,2,    0.015,2, -999.000,9,-999.0000,9,  -999.00,9,   -999.0,9,   -999.0,9,     7.91,2,  0.5130
 3230CITHER2_2,  A17N,   138,  1,      3,      3,2,19940222,0540,-13.3798, -32.0550, 4842,   4799.9,   0.4780,  34.6910,2,  34.6960,2,    221.1,2,    221.7,2,   120.90,2,    32.90,2,     2.22,2,    0.062,2,    0.036,2, -999.000,9,-999.0000,9,  -999.00,9,   -999.0,9,   -999.0,9,     7.88,2,  0.1020
 3230CITHER2_2,  A17N,   138,  1,      2,      2,2,19940222,0540,-13.3798, -32.0550, 4842,   4897.8,   0.4300,  34.6860,2,  34.6930,2,    219.9,2,    221.3,2,   124.40,2,    33.60,2,     2.25,2,    0.072,2,    0.040,2, -999.000,9,-999.0000,9,  -999.00,9,   -999.0,9,   -999.0,9,     7.88,2,  0.0440
 3230CITHER2_2,  A17N,   138,  1,      1,      1,2,19940222,0540,-13.3798, -32.0550, 4842,   4910.8,   0.4320,  34.6860,2,  34.6860,2,    219.9,2,    221.9,2,   124.40,2,    33.00,2,     2.24,2,    0.077,2,    0.044,2, -999.000,9,-999.0000,9,  -999.00,9,   -999.0,9,   -999.0,9,     7.88,2,  0.0440
 3230CITHER2_2,  A17N,   139,  1,     16,     16,2,19940222,1030,-13.3788, -32.0567, 4838,      4.3,  27.7430,  37.1460,2,-999.0000,5,    192.4,2,   -999.0,5,     1.20,2,     0.04,2,     0.11,2,    1.674,2,    0.978,2, -999.000,9,-999.0000,9,  -999.00,9,   -999.0,9,   -999.0,9,     8.38,2, 27.7420
 3230CITHER2_2,  A17N,   139,  1,     15,     15,2,19940222,1030,-13.3788, -32.0567, 4838,      5.5,  27.7390,  37.1480,2,  37.1480,2,    193.4,2,    198.2,2,     1.10,2,     0.04,2,     0.10,2,    1.658,2,    0.966,2, -999.000,9,-999.0000,9,  -999.00,9,   -999.0,9,   -999.0,9,     8.38,2, 27.7380
 3230CITHER2_2,  A17N,   139,  1,     14,     14,2,19940222,1030,-13.3788, -32.0567, 4838,     50.8,  27.7300,  37.1750,2,  37.1730,2,    197.2,2,    198.9,2,     1.10,2,     0.04,2,     0.10,2,    1.673,2,    0.971,2, -999.000,9,-999.0000,9,  -999.00,9,   -999.0,9,   -999.0,9,     8.38,2, 27.7180
 3230CITHER2_2,  A17N,   139,  1,     13,     13,2,19940222,1030,-13.3788, -32.0567, 4838,    122.0,  24.3760,  37.1060,2,  37.0920,2,    211.9,2,    210.4,2,     1.10,2,     0.04,2,     0.16,2,    1.913,2,    1.078,2, -999.000,9,-999.0000,9,  -999.00,9,   -999.0,9,   -999.0,9,     8.34,2, 24.3500
 3230CITHER2_2,  A17N,   139,  1,     12,     12,2,19940222,1030,-13.3788, -32.0567, 4838,    199.0,  18.3710,  36.0410,2,  36.0050,2,    180.3,2,    176.6,2,     2.60,2,     7.14,2,     0.64,2,    2.100,2,    1.144,2, -999.000,9,-999.0000,9,  -999.00,9,   -999.0,9,   -999.0,9,     8.19,2, 18.3360
 3230CITHER2_2,  A17N,   139,  1,     11,     11,2,19940222,1030,-13.3788, -32.0567, 4838,    300.5,  12.2060,  35.1190,2,-999.0000,5,    139.6,2,    145.1,2,     7.90,2,    20.71,2,     1.40,2,    1.304,2,    0.699,2, -999.000,9,-999.0000,9,  -999.00,9,   -999.0,9,   -999.0,9,     8.00,2, 12.1660
 3230CITHER2_2,  A17N,   139,  1,      9,      9,2,19940222,1030,-13.3788, -32.0567, 4838,    401.7,   9.1290,  34.7910,2,  34.7900,2,    118.0,2,    118.4,2,    14.10,2,    29.47,2,     1.92,2,    0.459,2,    0.255,2, -999.000,9,-999.0000,9,  -999.00,9,   -999.0,9,   -999.0,9,     7.88,2,  9.0850
 3230CITHER2_2,  A17N,   139,  1,     10,     10,2,19940222,1030,-13.3788, -32.0567, 4838,    402.3,   9.1290,  34.7920,2,-999.0000,5,    118.0,2,   -999.0,5,    14.10,2,    29.42,2,     1.92,2,    0.471,2,    0.263,2, -999.000,9,-999.0000,9,  -999.00,9,   -999.0,9,   -999.0,9,     7.88,2,  9.0850
 3230CITHER2_2,  A17N,   139,  1,      8,      8,2,19940222,1030,-13.3788, -32.0567, 4838,    600.8,   5.3480,  34.4520,2,  34.4500,2,    168.2,2,    167.2,2,    24.80,2,    33.00,2,     2.19,2,    0.190,2,    0.114,2, -999.000,9,-999.0000,9,  -999.00,9,   -999.0,9,   -999.0,9,     7.87,2,  5.2980
 3230CITHER2_2,  A17N,   139,  1,      7,      7,2,19940222,1030,-13.3788, -32.0567, 4838,    800.5,   4.1880,  34.4320,2,  34.4350,2,    177.0,2,    176.6,2,    33.80,2,    34.31,2,     2.29,2,    0.093,2,    0.056,2, -999.000,9,-999.0000,9,  -999.00,9,   -999.0,9,   -999.0,9,     7.85,2,  4.1280
 3230CITHER2_2,  A17N,   139,  1,      6,      6,2,19940222,1030,-13.3788, -32.0567, 4838,   1000.2,   3.8620,  34.5380,2,  34.5400,2,    174.9,2,    174.1,2,    37.00,2,    33.71,2,     2.25,2,    0.009,2,    0.010,2, -999.000,9,-999.0000,9,  -999.00,9,   -999.0,9,   -999.0,9,     7.86,2,  3.7870
 3230CITHER2_2,  A17N,   139,  1,      5,      5,2,19940222,1030,-13.3788, -32.0567, 4838,   1202.2,   3.9870,  34.7220,2,  34.7260,2,    186.2,2,    185.3,2,    31.40,2,    30.17,2,     2.00,2,    0.000,2,    0.000,2, -999.000,9,-999.0000,9,  -999.00,9,   -999.0,9,   -999.0,9,     7.89,2,  3.8940
 3230CITHER2_2,  A17N,   139,  1,      4,      4,2,19940222,1030,-13.3788, -32.0567, 4838,   1400.2,   4.0090,  34.8510,2,  34.8540,2,    205.2,2,    205.6,2,    25.80,2,    26.29,2,     1.75,2,    0.001,2,    0.001,2, -999.000,9,-999.0000,9,  -999.00,9,   -999.0,9,   -999.0,9,     7.93,2,  3.8980
 3230CITHER2_2,  A17N,   139,  1,      3,      3,2,19940222,1030,-13.3788, -32.0567, 4838,   1498.8,   3.9650,  34.8960,2,  34.9070,2,    216.5,2,    217.5,2,    23.80,2,    24.93,2,     1.61,2,    0.005,2,    0.005,2, -999.000,9,-999.0000,9,  -999.00,9,   -999.0,9,   -999.0,9,     7.96,2,  3.8450
 3230CITHER2_2,  A17N,   139,  1,      2,      2,2,19940222,1030,-13.3788, -32.0567, 4838,   1600.9,   3.8500,  34.9170,2,  34.9220,2,    226.7,2,    225.6,2,    22.90,2,    23.23,2,     1.54,2,    0.002,2,    0.003,2, -999.000,9,-999.0000,9,  -999.00,9,   -999.0,9,   -999.0,9,     7.97,2,  3.7220
 3230CITHER2_2,  A17N,   139,  1,      1,      1,2,19940222,1030,-13.3788, -32.0567, 4838,   1676.6,   3.7570,  34.9300,2,  34.9320,2,    232.9,2,    234.1,2,    22.70,2,    22.44,2,     1.50,2,    0.002,2,    0.009,2, -999.000,9,-999.0000,9,  -999.00,9,   -999.0,9,   -999.0,9,     7.98,2,  3.6240