BOTTLE,20030515WHPSIOSA
EXPOCODE,SECT_ID,STNNBR,CASTNO,SAMPNO,BTLNBR,BTLNBR_FLAG_W,DATE,TIME,LATITUDE,LONGITUDE,DEPTH,CTDPRS,CTDTMP,CTDSAL,CTDSAL_FLAG_W,SALNTY,SALNTY_FLAG_W,CTDOXY,CTDOXY_FLAG_W,OXYGEN,OXYGEN_FLAG_W,SILCAT,SILCAT_FLAG_W,NITRAT,NITRAT_FLAG_W,PHSPHT,PHSPHT_FLAG_W,CFC-11,CFC-11_FLAG_W,CFC-12,CFC-12_FLAG_W,TRITUM,TRITUM_FLAG_W,HELIUM,HELIUM_FLAG_W,DELHE3,DELHE3_FLAG_W,TCARBN,TCARBN_FLAG_W,ALKALI,ALKALI_FLAG_W,PH,PH_FLAG_W,THETA
,,,,,,,,,,,,DBAR,ITS-90,PSS-78,,PSS-78,,UMOL/KG,,UMOL/KG,,UMOL/KG,,UMOL/KG,,UMOL/KG,,PMOL/KG,,PMOL/KG,,TU,,NMOL/KG,,PERCNT,,UMOL/KG,,UMOL/KG,,,,DEG C
 3230CITHER2_1,  A17C,    14,  1,     30,     30,2,19940112,0724,-47.2675, -53.8748, 6014,    125.6,   6.7880,  34.2990,2,  34.2830,2,    279.2,2,    282.0,2,     4.80,2,    19.77,2,     1.39,2,    4.671,2,    2.380,2, -999.000,9,-999.0000,9,  -999.00,9,   -999.0,9,   -999.0,9,     8.05,2,  6.7770
 3230CITHER2_1,  A17C,    14,  1,     29,     29,2,19940112,0724,-47.2675, -53.8748, 6014,    200.5,   5.0880,  34.1950,2,  34.1970,2,    294.0,2,    280.1,2,     8.70,2,    23.79,2,     1.62,2,    4.608,2,    2.277,2, -999.000,9,-999.0000,9,  -999.00,9,   -999.0,9,   -999.0,9,     8.01,2,  5.0720
 3230CITHER2_1,  A17C,    14,  1,     28,     28,2,19940112,0724,-47.2675, -53.8748, 6014,    401.5,   4.1980,  34.1820,2,  34.1800,2,    280.0,2,    270.5,2,    14.10,2,    27.00,2,     1.83,2,    4.049,2,    2.041,2, -999.000,9,-999.0000,9,  -999.00,9,   -999.0,9,   -999.0,9,     7.97,2,  4.1690
 3230CITHER2_1,  A17C,    14,  1,     27,     27,2,19940112,0724,-47.2675, -53.8748, 6014,    602.0,   3.4080,  34.1930,2,  34.1920,2,    261.3,2,    255.3,2,    24.40,2,    29.83,2,     2.00,2,    3.219,2,    1.653,2, -999.000,9,-999.0000,9,  -999.00,9,   -999.0,9,   -999.0,9,     7.93,2,  3.3670
 3230CITHER2_1,  A17C,    14,  1,     26,     26,2,19940112,0724,-47.2675, -53.8748, 6014,    800.3,   2.9510,  34.2780,2,  34.2760,2,    232.3,2,    225.6,2,    39.60,2,    32.87,2,     2.19,2,    2.087,2,    1.075,2, -999.000,9,-999.0000,9,  -999.00,9,   -999.0,9,   -999.0,9,     7.88,2,  2.8990
 3230CITHER2_1,  A17C,    14,  1,     25,     25,2,19940112,0724,-47.2675, -53.8748, 6014,    999.9,   2.6840,  34.3660,2,  34.3640,2,    206.9,2,    206.1,2,    51.80,2,    34.19,2,     2.29,2,    1.265,2,    0.668,2, -999.000,9,-999.0000,9,  -999.00,9,   -999.0,9,   -999.0,9,     7.86,2,  2.6190
 3230CITHER2_1,  A17C,    14,  1,     24,     24,2,19940112,0724,-47.2675, -53.8748, 6014,   1301.4,   2.6410,  34.5260,2,  34.5240,2,    183.8,2,    183.4,2,    65.60,2,    34.29,2,     2.31,2,    0.455,2,    0.246,2, -999.000,9,-999.0000,9,  -999.00,9,   -999.0,9,   -999.0,9,     7.84,2,  2.5530
 3230CITHER2_1,  A17C,    14,  1,     23,     23,2,19940112,0724,-47.2675, -53.8748, 6014,   1600.3,   2.6400,  34.6380,2,  34.6380,2,    181.0,2,    180.5,2,    70.40,2,    33.13,2,     2.23,2,    0.195,2,    0.117,2, -999.000,9,-999.0000,9,  -999.00,9,   -999.0,9,   -999.0,9,     7.85,2,  2.5280
 3230CITHER2_1,  A17C,    14,  1,     22,     22,2,19940112,0724,-47.2675, -53.8748, 6014,   1800.6,   2.7570,  34.7210,2,  34.7160,2,    190.5,2,    189.9,2,    64.20,2,    31.11,2,     2.07,2,    0.112,2,    0.070,2, -999.000,9,-999.0000,9,  -999.00,9,   -999.0,9,   -999.0,9,     7.88,2,  2.6260
 3230CITHER2_1,  A17C,    14,  1,     21,     21,2,19940112,0724,-47.2675, -53.8748, 6014,   2000.7,   2.7700,  34.7690,2,  34.7680,2,    196.3,2,    199.0,2,    60.70,2,    29.34,2,     1.96,2,    0.068,2,    0.039,2, -999.000,9,-999.0000,9,  -999.00,9,   -999.0,9,   -999.0,9,     7.89,2,  2.6210
 3230CITHER2_1,  A17C,    14,  1,     20,     20,2,19940112,0724,-47.2675, -53.8748, 6014,   2199.6,   2.6670,  34.7940,2,  34.7950,2,    205.0,2,    205.1,2,    62.10,2,    28.53,2,     1.89,2,    0.053,2,    0.045,2, -999.000,9,-999.0000,9,  -999.00,9,   -999.0,9,   -999.0,9,     7.91,2,  2.5020
 3230CITHER2_1,  A17C,    14,  1,     19,     19,2,19940112,0724,-47.2675, -53.8748, 6014,   2400.4,   2.6040,  34.8170,2,  34.8150,2,    211.9,2,    211.6,2,    60.80,2,    27.57,2,     1.83,2,    0.044,2,    0.041,2, -999.000,9,-999.0000,9,  -999.00,9,   -999.0,9,   -999.0,9,     7.92,2,  2.4210
 3230CITHER2_1,  A17C,    14,  1,     18,     18,2,19940112,0724,-47.2675, -53.8748, 6014,   2598.8,   2.4290,  34.8090,2,  34.8100,2,    212.1,2,    211.0,2,    66.60,2,    28.21,2,     1.85,2,    0.039,2,    0.033,2, -999.000,9,-999.0000,9,  -999.00,9,   -999.0,9,   -999.0,9,     7.92,2,  2.2310
 3230CITHER2_1,  A17C,    14,  1,     17,     17,2,19940112,0724,-47.2675, -53.8748, 6014,   2799.1,   2.2090,  34.7970,2,  34.7970,2,    210.8,2,    209.4,2,    75.60,2,    28.94,2,     1.90,2,    0.037,2,    0.030,2, -999.000,9,-999.0000,9,  -999.00,9,   -999.0,9,   -999.0,9,     7.92,2,  1.9960
 3230CITHER2_1,  A17C,    14,  1,     16,     16,2,19940112,0724,-47.2675, -53.8748, 6014,   2999.6,   1.9940,  34.7820,2,  34.7810,2,    210.2,2,    208.2,2,    84.40,2,    29.75,2,     1.94,2,    0.038,2,    0.030,2, -999.000,9,-999.0000,9,  -999.00,9,   -999.0,9,   -999.0,9,     7.91,2,  1.7660
 3230CITHER2_1,  A17C,    14,  1,     15,     15,2,19940112,0724,-47.2675, -53.8748, 6014,   3299.3,   1.6130,  34.7490,2,-999.0000,5,    203.4,2,    208.0,2,    84.40,2,    29.60,2,     1.95,2,    0.041,2,    0.033,2, -999.000,9,-999.0000,9,  -999.00,9,   -999.0,9,   -999.0,9,     7.90,2,  1.3640
 3230CITHER2_1,  A17C,    14,  1,     14,     14,2,19940112,0724,-47.2675, -53.8748, 6014,   3600.6,   1.3060,  34.7310,2,  34.7300,2,    205.0,2,    205.0,2,   109.80,2,    32.28,2,     2.14,2,    0.079,2,    0.050,2, -999.000,9,-999.0000,9,  -999.00,9,   -999.0,9,   -999.0,9,     7.90,2,  1.0340
 3230CITHER2_1,  A17C,    14,  1,     13,     13,2,19940112,0724,-47.2675, -53.8748, 6014,   3798.8,   1.1390,  34.7190,2,  34.7180,2,    206.3,2,    206.0,2,   114.30,2,    32.54,2,     2.18,2,    0.105,2,    0.070,2, -999.000,9,-999.0000,9,  -999.00,9,   -999.0,9,   -999.0,9,     7.87,2,  0.8510
 3230CITHER2_1,  A17C,    14,  1,     12,     12,2,19940112,0724,-47.2675, -53.8748, 6014,   4001.6,   0.9720,  34.7090,2,  34.7130,2,    209.1,2,    208.0,2,   115.80,2,    32.80,2,     2.20,2,    0.114,2,    0.076,2, -999.000,9,-999.0000,9,  -999.00,9,   -999.0,9,   -999.0,9,     7.87,2,  0.6680
 3230CITHER2_1,  A17C,    14,  1,     11,     11,2,19940112,0724,-47.2675, -53.8748, 6014,   4200.3,   0.8050,  34.7030,2,  34.7110,2,    211.8,2,    209.1,2,   116.40,2,    32.80,2,     2.21,2,    0.117,2,    0.080,2, -999.000,9,-999.0000,9,  -999.00,9,   -999.0,9,   -999.0,9,     7.87,2,  0.4840
 3230CITHER2_1,  A17C,    14,  1,     10,     10,2,19940112,0724,-47.2675, -53.8748, 6014,   4397.0,   0.6540,  34.6930,2,  34.6920,2,    214.8,2,    214.7,2,   122.10,2,    33.41,2,     2.23,2,    0.142,2,    0.097,2, -999.000,9,-999.0000,9,  -999.00,9,   -999.0,9,   -999.0,9,     7.86,2,  0.3170
 3230CITHER2_1,  A17C,    14,  1,      9,      9,2,19940112,0724,-47.2675, -53.8748, 6014,   4599.4,   0.5110,  34.6860,2,  34.6840,2,    217.5,2,    218.0,2,   125.80,2,    33.51,2,     2.24,2,    0.132,2,    0.083,2, -999.000,9,-999.0000,9,  -999.00,9,   -999.0,9,   -999.0,9,     7.86,2,  0.1560
 3230CITHER2_1,  A17C,    14,  1,      8,      8,2,19940112,0724,-47.2675, -53.8748, 6014,   4797.2,   0.4080,  34.6810,2,  34.6790,2,    219.8,2,    220.4,2,   127.60,2,    33.61,2,     2.27,2,    0.129,2,    0.083,2, -999.000,9,-999.0000,9,  -999.00,9,   -999.0,9,   -999.0,9,     7.86,2,  0.0340
 3230CITHER2_1,  A17C,    14,  1,      7,      7,2,19940112,0724,-47.2675, -53.8748, 6014,   4997.3,   0.3520,  34.6760,2,  34.6760,2,    221.1,2,    221.7,2,   129.40,2,    33.87,2,     2.27,2,    0.132,2,    0.072,2, -999.000,9,-999.0000,9,  -999.00,9,   -999.0,9,   -999.0,9,     7.86,2, -0.0430
 3230CITHER2_1,  A17C,    14,  1,      6,      6,2,19940112,0724,-47.2675, -53.8748, 6014,   5197.7,   0.3280,  34.6740,2,  34.6750,2,    222.7,2,    222.5,2,   130.50,2,    33.87,2,     2.28,2,    0.134,2,    0.095,2, -999.000,9,-999.0000,9,  -999.00,9,   -999.0,9,   -999.0,9,     7.86,2, -0.0890
 3230CITHER2_1,  A17C,    14,  1,      5,      5,2,19940112,0724,-47.2675, -53.8748, 6014,   5397.0,   0.3160,  34.6720,2,  34.6720,2,    223.7,2,    223.1,2,   130.50,2,    33.87,2,     2.28,2,    0.149,2,    0.098,2, -999.000,9,-999.0000,9,  -999.00,9,   -999.0,9,   -999.0,9,     7.87,2, -0.1240
 3230CITHER2_1,  A17C,    14,  1,      4,      4,2,19940112,0724,-47.2675, -53.8748, 6014,   5597.9,   0.3170,  34.6720,2,  34.6730,2,    224.4,2,    223.2,2,   129.20,2,    33.77,2,     2.28,2,    0.154,2,    0.094,2, -999.000,9,-999.0000,9,  -999.00,9,   -999.0,9,   -999.0,9,     7.87,2, -0.1480
 3230CITHER2_1,  A17C,    14,  1,      3,      3,2,19940112,0724,-47.2675, -53.8748, 6014,   5797.5,   0.3240,  34.6710,2,  34.6710,2,    225.1,2,    224.2,2,   129.90,2,    33.87,2,     2.29,2,    0.164,2,    0.098,2, -999.000,9,-999.0000,9,  -999.00,9,   -999.0,9,   -999.0,9,     7.87,2, -0.1660
 3230CITHER2_1,  A17C,    14,  1,      2,      2,2,19940112,0724,-47.2675, -53.8748, 6014,   5997.3,   0.3340,  34.6690,2,  34.6700,2,    225.7,2,    223.8,2,   129.40,2,    33.83,2,     2.29,2,    0.174,2,    0.108,2, -999.000,9,-999.0000,9,  -999.00,9,   -999.0,9,   -999.0,9,     7.87,2, -0.1820
 3230CITHER2_1,  A17C,    14,  1,      1,      1,2,19940112,0724,-47.2675, -53.8748, 6014,   6154.4,   0.3480,  34.6700,2,  34.6720,2,    225.8,2,    224.2,2,   130.20,2,    34.11,2,     2.30,2,    0.210,2,    0.122,2, -999.000,9,-999.0000,9,  -999.00,9,   -999.0,9,   -999.0,9,     7.87,2, -0.1880
 3230CITHER2_1,  A17C,    15,  1,     32,     32,2,19940112,1414,-46.8535, -53.5348, 6068,     11.2,  15.4300,  34.7630,2,  34.7650,2,    256.3,2,    258.5,2,     0.50,2,     0.51,2,     0.27,2,    3.102,2,    1.796,2,    0.625,2,-999.0000,9,  -999.00,9,   2024.7,2,   2322.5,2,     8.29,2, 15.4280
 3230CITHER2_1,  A17C,    15,  1,     31,     31,2,19940112,1414,-46.8535, -53.5348, 6068,     40.7,  15.1720,  34.7590,2,  34.7670,2,    258.5,2,    257.4,2,     0.70,2,     0.82,2,     0.30,2,    3.137,2,    1.813,2,    1.366,2,-999.0000,9,  -999.00,9,   2026.5,2,   2324.6,2,     8.29,2, 15.1660
 3230CITHER2_1,  A17C,    15,  1,     30,     30,2,19940112,1414,-46.8535, -53.5348, 6068,     81.3,   8.3630,  34.3360,2,  34.3330,2,    278.5,2,    272.7,2,     3.80,2,    16.97,2,     1.21,2,    4.402,2,    2.321,2,    0.500,2,-999.0000,9,  -999.00,9,   2103.7,2,   2293.7,2,     8.09,2,  8.3550
 3230CITHER2_1,  A17C,    15,  1,     29,     29,2,19940112,1414,-46.8535, -53.5348, 6068,    201.2,   5.2480,  34.2230,2,  34.2210,2,    270.6,2,    269.9,2,     9.80,2,    24.32,2,     1.66,2,    4.233,2,    2.195,2,    0.283,2,-999.0000,9,  -999.00,9,   2137.9,2,   2291.2,2,     8.00,2,  5.2320
 3230CITHER2_1,  A17C,    15,  1,     28,     28,2,19940112,1414,-46.8535, -53.5348, 6068,    400.6,   4.1580,  34.1900,2,  34.1880,2,    267.4,2,    266.1,2,    16.90,2,    27.59,2,     1.86,2,    3.736,2,    1.958,2,    0.216,2,-999.0000,9,  -999.00,9,   2155.7,2,   2297.1,2,     7.96,2,  4.1290
 3230CITHER2_1,  A17C,    15,  1,     27,     27,2,19940112,1414,-46.8535, -53.5348, 6068,    601.2,   3.5470,  34.2190,2,  34.2160,2,    250.2,2,    250.2,2,    25.70,2,    29.73,2,     2.02,2,    2.836,2,    1.499,2,    0.120,2,-999.0000,9,  -999.00,9,   2174.4,2,   2303.4,2,     7.93,2,  3.5060
 3230CITHER2_1,  A17C,    15,  1,     26,     26,2,19940112,1414,-46.8535, -53.5348, 6068,    801.0,   2.8660,  34.2650,2,  34.2670,2,    228.1,2,    227.8,2,    40.30,2,    32.72,2,     2.20,2,    2.196,2,    1.164,2,    0.116,2,-999.0000,9,  -999.00,9,   2201.8,2,   2314.2,2,     7.88,2,  2.8140
 3230CITHER2_1,  A17C,    15,  1,     25,     25,2,19940112,1414,-46.8535, -53.5348, 6068,   1000.9,   2.6660,  34.3750,2,  34.3520,2,    203.7,2,    203.6,2,    52.60,2,    33.84,2,     2.31,2,    1.204,2,    0.650,2,    0.040,2,-999.0000,9,  -999.00,9,   2224.3,2,   2328.2,2,     7.85,2,  2.6010
 3230CITHER2_1,  A17C,    15,  1,     24,     24,2,19940112,1414,-46.8535, -53.5348, 6068,   1300.4,   2.6230,  34.5190,2,  34.5170,2,    182.8,2,    183.0,2,    65.30,2,    34.36,2,     2.33,2,    0.498,2,    0.278,2,    0.020,2,-999.0000,9,  -999.00,9,   2242.2,2,   2343.3,2,     7.83,2,  2.5350
 3230CITHER2_1,  A17C,    15,  1,     23,     23,2,19940112,1414,-46.8535, -53.5348, 6068,   1600.4,   2.5740,  34.6280,2,  34.6250,2,    179.5,2,    178.7,2,    71.30,2,    33.17,2,     2.27,2,    0.228,2,    0.131,2,    0.020,2,-999.0000,9,  -999.00,9,   2248.6,2,   2352.7,2,     7.84,2,  2.4630
 3230CITHER2_1,  A17C,    15,  1,     22,     22,2,19940112,1414,-46.8535, -53.5348, 6068,   1799.4,   2.6090,  34.6880,2,  34.6850,2,    177.7,2,    184.3,2,    71.00,2,    31.84,2,     2.17,2,    0.150,2,    0.091,2, -999.000,9,-999.0000,9,  -999.00,9,   2244.5,2,   2353.7,2,     7.85,2,  2.4810
 3230CITHER2_1,  A17C,    15,  1,     21,     21,2,19940112,1414,-46.8535, -53.5348, 6068,   2001.4,   2.7960,  34.7640,2,  34.7640,2,    186.9,2,    198.7,2,    62.50,2,    29.89,2,     1.98,2,    0.084,2,    0.056,2, -999.000,9,-999.0000,9,  -999.00,9,   2229.7,3,   2349.6,2,     7.89,2,  2.6470
 3230CITHER2_1,  A17C,    15,  1,     20,     20,2,19940112,1414,-46.8535, -53.5348, 6068,   2201.3,   2.3270,  34.7270,2,  34.7250,2,    186.6,2,    186.8,2,    82.00,2,    31.87,2,     2.15,2,    0.083,2,    0.061,2, -999.000,9,-999.0000,9,  -999.00,9,   2250.5,2,   2362.2,2,     7.86,2,  2.1680
 3230CITHER2_1,  A17C,    15,  1,     19,     19,2,19940112,1414,-46.8535, -53.5348, 6068,   2399.6,   2.2790,  34.7520,2,  34.7520,2,    194.0,2,    193.3,2,    81.60,2,    30.78,2,     2.08,2,    0.065,2,    0.042,2, -999.000,9,-999.0000,9,  -999.00,9,   2245.4,2,   2362.6,2,     7.87,2,  2.1020
 3230CITHER2_1,  A17C,    15,  1,     18,     18,2,19940112,1414,-46.8535, -53.5348, 6068,   2600.5,   2.1270,  34.7580,2,  34.7580,2,    197.3,2,    196.1,2,    87.10,2,    30.59,2,     2.06,2,    0.054,2,    0.032,2, -999.000,9,-999.0000,9,  -999.00,9,   2243.4,2,   2364.7,2,     7.88,2,  1.9350
 3230CITHER2_1,  A17C,    15,  1,     17,     17,2,19940112,1414,-46.8535, -53.5348, 6068,   2800.4,   2.1620,  34.7970,2,  34.7950,2,    206.5,2,    209.6,2,    78.40,2,    28.60,2,     1.92,2,    0.043,2,    0.026,2, -999.000,9,-999.0000,9,  -999.00,9,   2232.9,3,   2361.0,2,     7.91,2,  1.9500
 3230CITHER2_1,  A17C,    15,  1,     16,     16,2,19940112,1414,-46.8535, -53.5348, 6068,   3000.2,   1.8640,  34.7610,2,  34.7600,2,    201.9,2,    201.5,2,    92.90,2,    30.52,2,     2.05,2,    0.058,2,    0.047,2, -999.000,9,-999.0000,9,  -999.00,9,   2247.0,2,   2366.5,2,     7.89,2,  1.6390
 3230CITHER2_1,  A17C,    15,  1,     15,     15,2,19940112,1414,-46.8535, -53.5348, 6068,   3299.7,   1.5390,  34.7380,2,  34.7370,2,    200.0,2,    200.3,2,   104.00,2,    31.86,2,     2.15,2,    0.068,2,    0.052,2, -999.000,9,-999.0000,9,  -999.00,9,   2254.4,2,   2370.9,2,     7.88,2,  1.2920
 3230CITHER2_1,  A17C,    15,  1,     14,     14,2,19940112,1414,-46.8535, -53.5348, 6068,   3601.3,   1.3210,  34.7260,2,  34.7260,2,    202.1,2,    202.3,2,   110.80,2,    32.69,2,     2.19,2,    0.091,2,    0.064,2, -999.000,9,-999.0000,9,  -999.00,9,   2259.5,2,   2374.0,2,     7.87,2,  1.0490
 3230CITHER2_1,  A17C,    15,  1,     13,     13,2,19940112,1414,-46.8535, -53.5348, 6068,   3799.8,   1.1980,  34.7200,2,  34.7190,2,    204.1,2,    204.9,2,   114.40,2,    32.65,2,     2.20,2,    0.110,2,    0.064,2, -999.000,9,-999.0000,9,  -999.00,9,   2259.0,2,   2373.7,2,     7.87,2,  0.9090
 3230CITHER2_1,  A17C,    15,  1,     12,     12,2,19940112,1414,-46.8535, -53.5348, 6068,   3999.5,   1.0560,  34.7120,2,  34.7150,2,    206.6,2,    207.5,2,   117.40,2,    32.82,2,     2.21,2,    0.125,2,    0.077,2, -999.000,9,-999.0000,9,  -999.00,9,   2260.1,2,   2374.1,2,     7.87,2,  0.7500
 3230CITHER2_1,  A17C,    15,  1,     11,     11,2,19940112,1414,-46.8535, -53.5348, 6068,   4199.7,   0.8490,  34.7020,2,  34.7010,2,    210.0,2,    211.1,2,   120.30,2,    33.04,2,     2.22,2,    0.145,2,    0.089,2, -999.000,9,-999.0000,9,  -999.00,9,   2261.4,2,   2374.9,2,     7.86,2,  0.5270
 3230CITHER2_1,  A17C,    15,  1,     10,     10,2,19940112,1414,-46.8535, -53.5348, 6068,   4398.2,   0.7030,  34.6940,2,  34.6960,2,    213.0,2,    214.4,2,   123.00,2,    33.21,2,     2.24,2,    0.155,2,    0.091,2, -999.000,9,-999.0000,9,  -999.00,9,   2261.7,2,   2375.4,2,     7.86,2,  0.3640
 3230CITHER2_1,  A17C,    15,  1,      9,      9,2,19940112,1414,-46.8535, -53.5348, 6068,   4598.6,   0.5660,  34.6880,2,  34.6890,2,    215.8,2,    214.9,2,   125.80,2,    33.26,2,     2.26,2,    0.153,2,    0.099,2, -999.000,9,-999.0000,9,  -999.00,9,   2262.9,2,   2376.1,2,     7.87,2,  0.2090
 3230CITHER2_1,  A17C,    15,  1,      8,      8,2,19940112,1414,-46.8535, -53.5348, 6068,   4799.5,   0.4590,  34.6810,2,  34.6820,2,    218.6,2,    219.0,2,   127.70,2,    33.49,2,     2.27,2,    0.148,2,    0.102,2, -999.000,9,-999.0000,9,  -999.00,9,   2263.2,2,   2375.4,2,     7.87,2,  0.0830
 3230CITHER2_1,  A17C,    15,  1,      7,      7,2,19940112,1414,-46.8535, -53.5348, 6068,   4997.3,   0.3920,  34.6770,2,  34.6780,2,    220.5,2,    220.6,2,   127.80,2,    33.41,2,     2.27,2,    0.149,2,    0.096,2, -999.000,9,-999.0000,9,  -999.00,9,   2263.4,2,   2377.4,2,     7.87,2, -0.0040
 3230CITHER2_1,  A17C,    15,  1,      6,      6,2,19940112,1414,-46.8535, -53.5348, 6068,   5198.1,   0.3550,  34.6750,2,  34.6760,2,    222.1,2,    221.9,2,   128.60,2,    33.42,2,     2.28,2,    0.155,2,    0.092,2, -999.000,9,-999.0000,9,  -999.00,9,   2264.8,2,   2378.2,2,     7.87,2, -0.0630
 3230CITHER2_1,  A17C,    15,  1,      5,      5,2,19940112,1414,-46.8535, -53.5348, 6068,   5398.3,   0.3390,  34.6730,2,  34.6730,2,    223.2,2,    222.9,2,   128.30,2,    33.49,2,     2.28,2,    0.162,2,    0.100,2, -999.000,9,-999.0000,9,  -999.00,9,   2266.0,2,   2377.9,2,     7.87,2, -0.1020
 3230CITHER2_1,  A17C,    15,  1,      4,      4,2,19940112,1414,-46.8535, -53.5348, 6068,   5596.8,   0.3360,  34.6710,2,  34.6730,2,    224.0,2,    223.5,2,   128.60,2,    33.71,2,     2.29,2,    0.162,2,    0.110,2, -999.000,9,-999.0000,9,  -999.00,9,   2265.4,2,   2377.3,2,     7.87,2, -0.1290
 3230CITHER2_1,  A17C,    15,  1,      3,      3,2,19940112,1414,-46.8535, -53.5348, 6068,   5798.2,   0.3380,  34.6710,2,  34.6730,2,    224.9,2,    223.9,2,   129.20,2,    33.88,2,     2.29,2,    0.181,2,    0.116,2, -999.000,9,-999.0000,9,  -999.00,9,   2265.7,2,   2376.9,2,     7.86,2, -0.1530
 3230CITHER2_1,  A17C,    15,  1,      2,      2,2,19940112,1414,-46.8535, -53.5348, 6068,   5998.4,   0.3440,  34.6700,2,  34.6720,2,    225.4,2,    224.4,2,   130.00,2,    34.00,2,     2.29,2,    0.200,2,    0.110,2, -999.000,9,-999.0000,9,  -999.00,9,   2266.0,2,   2376.5,2,     7.87,2, -0.1720
 3230CITHER2_1,  A17C,    15,  1,      1,      1,2,19940112,1414,-46.8535, -53.5348, 6068,   6206.3,   0.3600,  34.6680,2,  34.6720,2,    225.2,2,    224.9,2,   131.10,2,    34.07,2,     2.29,2,    0.212,2,    0.128,2, -999.000,9,-999.0000,9,  -999.00,9,   2266.3,2,   2377.6,2,     7.86,2, -0.1830