BOTTLE,20030515WHPSIOSA
EXPOCODE,SECT_ID,STNNBR,CASTNO,SAMPNO,BTLNBR,BTLNBR_FLAG_W,DATE,TIME,LATITUDE,LONGITUDE,DEPTH,CTDPRS,CTDTMP,CTDSAL,CTDSAL_FLAG_W,SALNTY,SALNTY_FLAG_W,CTDOXY,CTDOXY_FLAG_W,OXYGEN,OXYGEN_FLAG_W,SILCAT,SILCAT_FLAG_W,NITRAT,NITRAT_FLAG_W,PHSPHT,PHSPHT_FLAG_W,CFC-11,CFC-11_FLAG_W,CFC-12,CFC-12_FLAG_W,TRITUM,TRITUM_FLAG_W,HELIUM,HELIUM_FLAG_W,DELHE3,DELHE3_FLAG_W,TCARBN,TCARBN_FLAG_W,ALKALI,ALKALI_FLAG_W,PH,PH_FLAG_W,THETA
,,,,,,,,,,,,DBAR,ITS-90,PSS-78,,PSS-78,,UMOL/KG,,UMOL/KG,,UMOL/KG,,UMOL/KG,,UMOL/KG,,PMOL/KG,,PMOL/KG,,TU,,NMOL/KG,,PERCNT,,UMOL/KG,,UMOL/KG,,,,DEG C
 3230CITHER2_1,  A17C,   114,  1,     32,     32,2,19940210,0426,-13.9310, -30.6130, 5312,      4.6,  27.6680,  37.0870,2,  37.0880,2,    195.5,2,    197.6,2,     0.90,2,     0.04,2,     0.11,2,    1.655,2,    0.971,2, -999.000,9,-999.0000,9,  -999.00,9,   2059.7,2,   2439.9,2,     8.39,2, 27.6670
 3230CITHER2_1,  A17C,   114,  1,     31,     31,2,19940210,0426,-13.9310, -30.6130, 5312,     51.5,  27.3880,  37.1390,2,  37.1520,2,    205.6,2,    200.6,2,     0.80,2,     0.04,2,     0.12,2,    1.691,2,    0.987,2, -999.000,9,-999.0000,9,  -999.00,9,   2066.0,2,   2444.5,2,     8.39,2, 27.3760
 3230CITHER2_1,  A17C,   114,  1,     30,     30,2,19940210,0426,-13.9310, -30.6130, 5312,    126.6,  24.3410,  37.1110,2,  37.0890,2,    216.6,2,    210.0,2,     0.90,2,     0.00,2,     0.18,2,    1.865,2,    1.056,2, -999.000,9,-999.0000,9,  -999.00,9,   2084.4,2,   2443.1,2,     8.35,2, 24.3140
 3230CITHER2_1,  A17C,   114,  1,     29,     29,2,19940210,0426,-13.9310, -30.6130, 5312,    201.9,  17.3240,  35.8720,2,  35.8690,2,    185.0,2,    172.3,2,     2.80,2,     8.41,2,     0.72,2,    2.054,2,    1.109,2, -999.000,9,-999.0000,9,  -999.00,9,   2122.4,2,   2365.3,2,     8.18,2, 17.2900
 3230CITHER2_1,  A17C,   114,  1,     28,     28,2,19940210,0426,-13.9310, -30.6130, 5312,    299.0,  12.4800,  35.1550,2,  35.1610,2,    135.9,2,    139.6,2,     7.10,2,    19.40,2,     1.34,2,    1.395,2,    0.745,2, -999.000,9,-999.0000,9,  -999.00,9,   2159.9,2,   2324.1,2,     8.02,2, 12.4400
 3230CITHER2_1,  A17C,   114,  1,     27,     27,2,19940210,0426,-13.9310, -30.6130, 5312,    400.6,   9.1810,  34.8110,2,  34.7940,2,    120.8,2,    120.6,2,    13.70,2,    28.16,2,     1.89,2,    0.504,2,    0.277,2, -999.000,9,-999.0000,9,  -999.00,9,   2197.2,2,   2308.8,2,     7.90,2,  9.1370
 3230CITHER2_1,  A17C,   114,  1,     26,     26,2,19940210,0426,-13.9310, -30.6130, 5312,    601.2,   5.4090,  34.4550,2,  34.4540,2,    169.5,2,    169.5,2,    23.80,2,    31.58,2,     2.15,2,    0.252,2,    0.152,2, -999.000,9,-999.0000,9,  -999.00,9,   2200.1,2,   2306.2,2,     7.89,2,  5.3590
 3230CITHER2_1,  A17C,   114,  1,     25,     25,2,19940210,0426,-13.9310, -30.6130, 5312,    800.6,   4.2820,  34.4290,2,  34.4300,2,    175.6,2,    176.0,2,    32.40,2,    33.18,2,     2.27,2,    0.156,2,    0.091,2, -999.000,9,-999.0000,9,  -999.00,9,   2211.9,2,   2313.0,2,     7.87,2,  4.2210
 3230CITHER2_1,  A17C,   114,  1,     24,     24,2,19940210,0426,-13.9310, -30.6130, 5312,   1000.4,   3.8680,  34.5230,2,  34.5210,2,    174.6,2,    173.7,2,    36.70,2,    32.65,2,     2.26,2,    0.017,2,    0.011,2, -999.000,9,-999.0000,9,  -999.00,9,   2219.5,2,   2320.8,2,     7.87,2,  3.7930
 3230CITHER2_1,  A17C,   114,  1,     23,     23,2,19940210,0426,-13.9310, -30.6130, 5312,   1201.4,   3.9400,  34.6970,2,  34.6960,2,    182.7,2,    183.1,2,    32.50,2,    29.94,2,     2.05,2,    0.002,2,    0.001,2, -999.000,9,-999.0000,9,  -999.00,9,   2211.8,2,   2325.4,2,     7.90,2,  3.8470
 3230CITHER2_1,  A17C,   114,  1,     22,     22,2,19940210,0426,-13.9310, -30.6130, 5312,   1401.4,   4.0400,  34.8550,2,  34.8540,2,    204.9,2,    205.1,2,    25.50,2,    25.41,2,     1.75,2,    0.004,2,    0.002,2, -999.000,9,-999.0000,9,  -999.00,9,   2195.0,2,   2326.1,2,     7.95,2,  3.9290
 3230CITHER2_1,  A17C,   114,  1,     21,     21,2,19940210,0426,-13.9310, -30.6130, 5312,   1499.2,   4.0250,  34.8990,2,  34.8990,2,    216.8,2,    216.1,2,    23.20,2,    23.76,2,     1.63,2,    0.007,2,    0.007,2, -999.000,9,-999.0000,9,  -999.00,9,   2188.0,2,   2326.5,2,     7.97,2,  3.9050
 3230CITHER2_1,  A17C,   114,  1,     20,     20,2,19940210,0426,-13.9310, -30.6130, 5312,   1600.4,   3.8720,  34.9220,2,  34.9220,2,    226.0,2,    227.6,2,    22.60,2,    22.71,2,     1.54,2,    0.005,2,    0.007,2, -999.000,9,-999.0000,9,  -999.00,9,   2180.6,2,   2327.3,2,     7.99,2,  3.7440
 3230CITHER2_1,  A17C,   114,  1,     19,     19,2,19940210,0426,-13.9310, -30.6130, 5312,   1698.5,   3.7290,  34.9380,2,  34.9370,2,    234.8,2,    235.7,2,    22.30,2,    21.74,2,     1.48,2,    0.006,2,    0.010,2, -999.000,9,-999.0000,9,  -999.00,9,   2176.7,2,   2328.4,2,     8.00,2,  3.5940
 3230CITHER2_1,  A17C,   114,  1,     18,     18,2,19940210,0426,-13.9310, -30.6130, 5312,   1798.8,   3.5930,  34.9440,2,  34.9460,2,    241.0,2,    241.5,2,    22.60,2,    21.03,2,     1.43,2,    0.007,2,    0.013,2, -999.000,9,-999.0000,9,  -999.00,9,   2173.9,2,   2331.4,2,     8.01,2,  3.4500
 3230CITHER2_1,  A17C,   114,  1,     17,     17,2,19940210,0426,-13.9310, -30.6130, 5312,   2000.3,   3.2700,  34.9350,2,  34.9350,2,    243.7,2,    244.1,2,    26.50,2,    21.15,2,     1.43,2,    0.003,2,   -0.002,2, -999.000,9,-999.0000,9,  -999.00,9,   2176.2,2,   2333.5,2,     8.01,2,  3.1130
 3230CITHER2_1,  A17C,   114,  1,     16,     16,2,19940210,0426,-13.9310, -30.6130, 5312,   2199.6,   3.0780,  34.9300,2,  34.9280,2,    246.4,2,    246.3,2,    29.20,2,    21.06,2,     1.42,2,    0.004,2,    0.003,2, -999.000,9,-999.0000,9,  -999.00,9,   2178.2,2,   2337.4,2,     8.01,2,  2.9060
 3230CITHER2_1,  A17C,   114,  1,     15,     15,2,19940210,0426,-13.9310, -30.6130, 5312,   2400.3,   2.9640,  34.9310,2,  34.9280,2,    249.1,2,    248.4,2,    30.00,2,    20.89,2,     1.40,2,    0.006,2,    0.005,2, -999.000,9,-999.0000,9,  -999.00,9,   2178.4,2,   2337.2,2,     8.02,2,  2.7740
 3230CITHER2_1,  A17C,   114,  1,     14,     14,2,19940210,0426,-13.9310, -30.6130, 5312,   2699.4,   2.8010,  34.9180,2,  34.9170,2,    245.9,2,    246.3,2,    36.10,2,    21.13,2,     1.41,2,    0.002,2,    0.005,2, -999.000,9,-999.0000,9,  -999.00,9,   2183.6,2,   2342.7,2,     8.01,2,  2.5850
 3230CITHER2_1,  A17C,   114,  1,     13,     13,2,19940210,0426,-13.9310, -30.6130, 5312,   2998.6,   2.6960,  34.9150,2,  34.9110,2,    247.2,2,    247.5,2,    36.00,2,    21.46,2,     1.43,2,    0.002,2,   -0.004,2, -999.000,9,-999.0000,9,  -999.00,9,   2185.2,2,   2343.2,2,     8.01,2,  2.4520
 3230CITHER2_1,  A17C,   114,  1,     12,     12,2,19940210,0426,-13.9310, -30.6130, 5312,   3200.1,   2.6460,  34.9130,2,  34.9130,2,    249.7,2,    249.8,2,    36.00,2,    21.50,2,     1.43,2,    0.002,2,    0.000,2, -999.000,9,-999.0000,9,  -999.00,9,   2183.2,2,   2343.6,2,     8.01,2,  2.3820
 3230CITHER2_1,  A17C,   114,  1,     11,     11,2,19940210,0426,-13.9310, -30.6130, 5312,   3398.0,   2.5690,  34.9110,2,  34.9120,2,    251.5,2,    252.1,2,    34.80,2,    21.53,2,     1.44,2,    0.016,2,    0.010,2, -999.000,9,-999.0000,9,  -999.00,9,   2182.7,2,   2343.8,2,     8.01,2,  2.2860
 3230CITHER2_1,  A17C,   114,  1,     10,     10,2,19940210,0426,-13.9310, -30.6130, 5312,   3597.9,   2.4540,  34.9020,2,  34.9050,2,    253.8,2,    253.4,2,    37.80,2,    21.19,2,     1.41,2,    0.009,2,    0.004,2, -999.000,9,-999.0000,9,  -999.00,9,   2183.6,2,   2343.5,2,     8.01,2,  2.1520
 3230CITHER2_1,  A17C,   114,  1,      9,      9,2,19940210,0426,-13.9310, -30.6130, 5312,   3798.4,   2.2860,  34.8860,2,  34.8890,2,    252.2,2,    251.8,2,    43.70,2,    21.94,2,     1.47,2,    0.005,2,    0.006,2, -999.000,9,-999.0000,9,  -999.00,9,   2190.1,2,   2346.5,2,     8.01,2,  1.9660
 3230CITHER2_1,  A17C,   114,  1,      8,      8,2,19940210,0426,-13.9310, -30.6130, 5312,   3996.6,   2.0350,  34.8590,2,  34.8520,2,    247.5,2,    247.1,2,    54.70,2,    23.31,2,     1.57,2,    0.004,2,    0.004,2, -999.000,9,-999.0000,9,  -999.00,9,   2200.7,2,   2355.7,2,     7.99,2,  1.7000
 3230CITHER2_1,  A17C,   114,  1,      7,      7,2,19940210,0426,-13.9310, -30.6130, 5312,   4196.5,   1.6760,  34.8180,2,  34.8200,2,    240.8,2,    240.7,2,    70.30,2,    24.94,2,     1.72,2,    0.004,2,   -0.001,2, -999.000,9,-999.0000,9,  -999.00,9,   2216.3,2,   2361.1,2,     7.97,2,  1.3290
 3230CITHER2_1,  A17C,   114,  1,      6,      6,2,19940210,0426,-13.9310, -30.6130, 5312,   4399.6,   1.3460,  34.7830,2,  34.7830,2,    233.3,2,    234.2,2,    86.60,2,    27.21,2,     1.88,2,    0.007,2,    0.007,2, -999.000,9,-999.0000,9,  -999.00,9,   2231.0,2,   2367.3,2,     7.95,2,  0.9870
 3230CITHER2_1,  A17C,   114,  1,      5,      5,2,19940210,0426,-13.9310, -30.6130, 5312,   4596.8,   1.1630,  34.7610,2,  34.7610,2,    230.6,2,    230.7,2,    95.40,2,    28.28,2,     1.96,2,    0.007,2,    0.008,2, -999.000,9,-999.0000,9,  -999.00,9,   2238.9,2,   2371.6,2,     7.94,2,  0.7870
 3230CITHER2_1,  A17C,   114,  1,      4,      4,2,19940210,0426,-13.9310, -30.6130, 5312,   4799.9,   0.7940,  34.7220,2,  34.7240,2,    224.7,2,    224.9,2,   109.50,2,    30.55,2,     2.11,2,    0.023,2,    0.011,2, -999.000,9,-999.0000,9,  -999.00,9,   2253.1,2,   2376.5,2,     7.92,2,  0.4070
 3230CITHER2_1,  A17C,   114,  1,      3,      3,2,19940210,0426,-13.9310, -30.6130, 5312,   4997.5,   0.6380,  34.7060,2,  34.7070,2,    221.9,2,    223.1,2,   115.30,2,    31.58,2,     2.17,2,    0.033,2,    0.021,2, -999.000,9,-999.0000,9,  -999.00,9,   2258.0,2,   2379.0,2,     7.90,2,  0.2330
 3230CITHER2_1,  A17C,   114,  1,      2,      2,2,19940210,0426,-13.9310, -30.6130, 5312,   5199.0,   0.4700,  34.6870,2,  34.6900,2,    220.9,2,    221.8,2,   121.50,2,    32.29,2,     2.23,2,    0.067,2,    0.033,2, -999.000,9,-999.0000,9,  -999.00,9,   2262.1,2,   2379.4,2,     7.89,2,  0.0480
 3230CITHER2_1,  A17C,   114,  1,      1,      1,2,19940210,0426,-13.9310, -30.6130, 5312,   5376.1,   0.4710,  34.6850,2,  34.6870,2,    219.7,2,    221.6,2,   122.90,2,    32.49,2,     2.27,2,    0.074,2,    0.038,2, -999.000,9,-999.0000,9,  -999.00,9,   2263.8,2,   2377.1,2,     7.90,2,  0.0270
 3230CITHER2_1,  A17C,   115,  1,     32,     32,2,19940210,1029,-13.4393, -30.5860, 5199,      5.2,  27.9040,  36.9920,2,  36.9930,2,    193.6,2,    197.2,2,     1.10,2,     0.00,2,     0.10,2,    1.649,2,    0.970,2, -999.000,9,-999.0000,9,  -999.00,9,   2052.0,2,   2432.6,2,     8.39,2, 27.9030
 3230CITHER2_1,  A17C,   115,  1,     31,     31,2,19940210,1029,-13.4393, -30.5860, 5199,     50.8,  27.4410,  36.9960,2,  36.9960,2,    199.5,2,    201.4,2,     1.00,2,     0.00,2,     0.10,2,    1.692,2,    0.986,2, -999.000,9,-999.0000,9,  -999.00,9,   2054.3,2,   2433.2,2,     8.39,2, 27.4290
 3230CITHER2_1,  A17C,   115,  1,     30,     30,2,19940210,1029,-13.4393, -30.5860, 5199,    126.7,  23.1000,  36.7610,2,  36.7510,2,    212.1,2,    210.4,2,     1.00,2,     0.00,2,     0.20,2,    1.990,2,    1.114,2, -999.000,9,-999.0000,9,  -999.00,9,   2083.7,2,   2422.4,2,     8.33,2, 23.0740
 3230CITHER2_1,  A17C,   115,  1,     29,     29,2,19940210,1029,-13.4393, -30.5860, 5199,    201.6,  17.0850,  35.8520,2,  35.8490,2,    162.2,2,    170.7,2,     3.00,2,     8.48,2,     0.73,2,    2.024,2,    1.103,2, -999.000,9,-999.0000,9,  -999.00,9,   2121.4,2,   2363.2,2,     8.18,2, 17.0510
 3230CITHER2_1,  A17C,   115,  1,     28,     28,2,19940210,1029,-13.4393, -30.5860, 5199,    301.7,  11.4950,  35.0360,2,  35.0440,2,    131.9,2,    137.7,2,     9.00,2,    21.50,2,     1.45,2,    1.155,2,    0.625,2, -999.000,9,-999.0000,9,  -999.00,9,   2165.6,2,   2319.5,2,     7.99,2, 11.4570
 3230CITHER2_1,  A17C,   115,  1,     27,     27,2,19940210,1029,-13.4393, -30.5860, 5199,    400.7,   8.5850,  34.7460,2,  34.7500,2,    125.0,2,    125.7,2,    15.20,2,    29.05,2,     1.92,2,    0.455,2,    0.257,2, -999.000,9,-999.0000,9,  -999.00,9,   2197.5,2,   2309.3,2,     7.89,2,  8.5420
 3230CITHER2_1,  A17C,   115,  1,     26,     26,2,19940210,1029,-13.4393, -30.5860, 5199,    601.0,   5.6090,  34.4900,2,  34.4900,2,    149.0,2,    144.9,2,    25.20,2,    33.60,2,     2.27,2,    0.118,2,    0.073,2, -999.000,9,-999.0000,9,  -999.00,9,   2212.8,2,   2305.7,2,     7.84,2,  5.5580
 3230CITHER2_1,  A17C,   115,  1,     25,     25,2,19940210,1029,-13.4393, -30.5860, 5199,    801.2,   4.2940,  34.4400,2,  34.4390,2,    171.4,2,    171.5,2,    33.60,2,    33.92,2,     2.29,2,    0.110,2,    0.070,2, -999.000,9,-999.0000,9,  -999.00,9,   2211.8,2,   2313.3,2,     7.86,2,  4.2330
 3230CITHER2_1,  A17C,   115,  1,     24,     24,2,19940210,1029,-13.4393, -30.5860, 5199,   1001.7,   3.8750,  34.5340,2,  34.5280,2,    174.2,2,    174.3,2,    37.50,2,    33.47,2,     2.25,2,    0.022,2,    0.020,2, -999.000,9,-999.0000,9,  -999.00,9,   2216.9,2,   2321.5,2,     7.87,2,  3.8000
 3230CITHER2_1,  A17C,   115,  1,     23,     23,2,19940210,1029,-13.4393, -30.5860, 5199,   1200.7,   3.9310,  34.6830,2,  34.6800,2,    178.6,2,    179.3,2,    33.50,2,    30.99,2,     2.09,2,   -0.002,2,    0.007,2, -999.000,9,-999.0000,9,  -999.00,9,   -999.0,9,   2325.3,2,     7.89,2,  3.8390
 3230CITHER2_1,  A17C,   115,  1,     22,     22,2,19940210,1029,-13.4393, -30.5860, 5199,   1400.4,   4.0380,  34.8340,2,  34.8330,2,    201.7,2,    200.4,2,    27.00,2,    26.44,2,     1.80,2,    0.004,2,    0.012,2, -999.000,9,-999.0000,9,  -999.00,9,   -999.0,9,   2326.2,2,     7.94,2,  3.9270
 3230CITHER2_1,  A17C,   115,  1,     21,     21,2,19940210,1029,-13.4393, -30.5860, 5199,   1496.6,   4.0270,  34.8900,2,  34.8340,2,    215.0,2,    214.6,2,    27.30,2,    26.45,2,     1.80,2,    0.006,2,    0.011,2, -999.000,9,-999.0000,9,  -999.00,9,   -999.0,9,   2328.0,2,     7.96,2,  3.9070
 3230CITHER2_1,  A17C,   115,  1,     20,     20,2,19940210,1029,-13.4393, -30.5860, 5199,   1600.8,   3.8780,  34.9170,2,  34.8890,2,    223.7,2,    224.6,2,    24.60,2,    24.27,2,     1.65,2,    0.001,2,    0.007,2, -999.000,9,-999.0000,9,  -999.00,9,   -999.0,9,   2327.5,2,     7.98,2,  3.7500
 3230CITHER2_1,  A17C,   115,  1,     19,     19,2,19940210,1029,-13.4393, -30.5860, 5199,   1701.4,   3.7610,  34.9360,2,  34.9360,2,    233.9,2,    234.0,2,    23.20,2,    22.15,2,     1.48,2,    0.005,2,    0.010,2, -999.000,9,-999.0000,9,  -999.00,9,   -999.0,9,   2330.1,2,     7.99,2,  3.6250
 3230CITHER2_1,  A17C,   115,  1,     18,     18,2,19940210,1029,-13.4393, -30.5860, 5199,   1800.5,   3.6380,  34.9450,2,  34.9450,2,    240.4,2,    239.4,2,    23.40,2,    21.40,2,     1.43,2,    0.009,2,    0.012,2, -999.000,9,-999.0000,9,  -999.00,9,   -999.0,9,   2330.7,2,     8.00,2,  3.4950
 3230CITHER2_1,  A17C,   115,  1,     17,     17,2,19940210,1029,-13.4393, -30.5860, 5199,   2000.5,   3.3710,  34.9380,2,  34.9380,2,    243.7,2,    244.5,2,    26.30,2,    21.28,2,     1.42,2,    0.003,2,    0.011,2, -999.000,9,-999.0000,9,  -999.00,9,   -999.0,9,   2332.0,2,     8.01,2,  3.2130
 3230CITHER2_1,  A17C,   115,  1,     16,     16,2,19940210,1029,-13.4393, -30.5860, 5199,   2202.2,   3.1530,  34.9350,2,  34.9350,2,    246.2,2,    247.5,2,    28.60,2,    21.08,2,     1.40,2,    0.007,2,    0.013,2, -999.000,9,-999.0000,9,  -999.00,9,   -999.0,9,   2335.1,2,     8.01,2,  2.9790
 3230CITHER2_1,  A17C,   115,  1,     15,     15,2,19940210,1029,-13.4393, -30.5860, 5199,   2401.4,   2.9590,  34.9240,2,  34.9220,2,    245.7,2,    246.6,2,    32.60,2,    21.49,2,     1.45,2,    0.005,2,    0.009,2, -999.000,9,-999.0000,9,  -999.00,9,   -999.0,9,   2339.6,2,     8.01,2,  2.7690
 3230CITHER2_1,  A17C,   115,  1,     14,     14,2,19940210,1029,-13.4393, -30.5860, 5199,   2698.8,   2.8080,  34.9150,2,  34.9150,2,    244.4,2,    246.0,2,    35.50,2,    21.71,2,     1.46,2,    0.005,2,    0.007,2, -999.000,9,-999.0000,9,  -999.00,9,   -999.0,9,   2343.9,2,     8.01,2,  2.5920
 3230CITHER2_1,  A17C,   115,  1,     13,     13,2,19940210,1029,-13.4393, -30.5860, 5199,   2999.8,   2.7040,  34.9120,2,  34.9110,2,    246.3,2,    247.8,2,    36.90,2,    21.54,2,     1.45,2,    0.004,2,    0.009,2, -999.000,9,-999.0000,9,  -999.00,9,   -999.0,9,   2343.8,2,     8.01,2,  2.4600
 3230CITHER2_1,  A17C,   115,  1,     12,     12,2,19940210,1029,-13.4393, -30.5860, 5199,   3299.4,   2.6170,  34.9120,2,  34.9090,2,    250.4,2,    250.8,2,    36.80,2,    21.38,2,     1.43,2,    0.003,2,    0.007,2, -999.000,9,-999.0000,9,  -999.00,9,   -999.0,9,   2345.2,2,     8.01,2,  2.3430
 3230CITHER2_1,  A17C,   115,  1,     11,     11,2,19940210,1029,-13.4393, -30.5860, 5199,   3600.2,   2.4480,  34.8990,2,  34.9020,2,    253.3,2,    253.2,2,    39.00,2,    21.01,2,     1.44,2,    0.008,2,    0.012,2, -999.000,9,-999.0000,9,  -999.00,9,   -999.0,9,   2345.2,2,     8.01,2,  2.1460
 3230CITHER2_1,  A17C,   115,  1,     10,     10,2,19940210,1029,-13.4393, -30.5860, 5199,   3800.4,   2.2580,  34.8810,2,  34.8840,2,    251.9,2,    251.7,2,    46.80,2,    21.72,2,     1.50,2,    0.005,2,    0.010,2, -999.000,9,-999.0000,9,  -999.00,9,   -999.0,9,   2345.6,2,     8.00,2,  1.9390
 3230CITHER2_1,  A17C,   115,  1,      9,      9,2,19940210,1029,-13.4393, -30.5860, 5199,   3900.1,   2.1060,  34.8650,2,  34.8680,2,    249.5,2,    247.6,2,    52.50,2,    22.60,2,     1.55,2,    0.007,2,    0.006,2, -999.000,9,-999.0000,9,  -999.00,9,   -999.0,9,   2350.2,2,     8.00,2,  1.7800
 3230CITHER2_1,  A17C,   115,  1,      8,      8,2,19940210,1029,-13.4393, -30.5860, 5199,   3998.7,   1.9460,  34.8460,2,  34.8480,2,    246.3,2,    246.1,2,    59.10,2,    23.76,2,     1.62,2,    0.005,2,    0.010,2, -999.000,9,-999.0000,9,  -999.00,9,   -999.0,9,   2353.9,2,     7.99,2,  1.6140
 3230CITHER2_1,  A17C,   115,  1,      7,      7,2,19940210,1029,-13.4393, -30.5860, 5199,   4199.4,   1.5660,  34.8060,2,  34.8090,2,    238.0,2,    238.4,2,    77.70,2,    25.89,2,     1.80,2,    0.004,2,    0.010,2, -999.000,9,-999.0000,9,  -999.00,9,   -999.0,9,   2362.3,2,     7.96,2,  1.2220
 3230CITHER2_1,  A17C,   115,  1,      6,      6,2,19940210,1029,-13.4393, -30.5860, 5199,   4399.2,   1.2590,  34.7730,2,  34.7730,2,    232.3,2,    232.8,2,    91.40,2,    27.97,2,     1.92,2,    0.001,2,    0.005,2, -999.000,9,-999.0000,9,  -999.00,9,   -999.0,9,   2368.6,2,     7.95,2,  0.9020
 3230CITHER2_1,  A17C,   115,  1,      5,      5,2,19940210,1029,-13.4393, -30.5860, 5199,   4598.1,   1.0560,  34.7500,2,  34.7490,2,    228.3,2,    229.6,2,   100.10,2,    29.33,2,     2.01,2,    0.005,2,    0.006,2, -999.000,9,-999.0000,9,  -999.00,9,   -999.0,9,   2372.1,2,     7.93,2,  0.6830
 3230CITHER2_1,  A17C,   115,  1,      4,      4,2,19940210,1029,-13.4393, -30.5860, 5199,   4800.1,   0.9200,  34.7350,2,  34.7350,2,    225.8,2,    226.9,2,   106.00,2,    30.16,2,     2.07,2,    0.007,2,    0.008,2, -999.000,9,-999.0000,9,  -999.00,9,   -999.0,9,   2375.8,2,     7.92,2,  0.5290
 3230CITHER2_1,  A17C,   115,  1,      3,      3,2,19940210,1029,-13.4393, -30.5860, 5199,   4998.0,   0.7460,  34.7140,2,  34.7160,2,    223.6,2,    224.2,2,   112.80,2,    31.31,2,     2.15,2,    0.028,2,    0.011,2, -999.000,9,-999.0000,9,  -999.00,9,   -999.0,9,   2375.6,2,     7.91,2,  0.3370
 3230CITHER2_1,  A17C,   115,  1,      2,      2,2,19940210,1029,-13.4393, -30.5860, 5199,   5148.9,   0.6790,  34.7060,2,  34.7070,2,    222.5,2,    223.2,2,   115.70,2,    31.94,2,     2.17,2,    0.032,2,    0.019,2, -999.000,9,-999.0000,9,  -999.00,9,   -999.0,9,   2376.9,2,     7.90,2,  0.2550
 3230CITHER2_1,  A17C,   115,  1,      1,      1,2,19940210,1029,-13.4393, -30.5860, 5199,   5253.4,   0.6430,  34.7010,2,  34.7020,2,    221.6,2,    222.5,2,   116.40,2,    32.05,2,     2.19,2,    0.037,2,    0.025,2, -999.000,9,-999.0000,9,  -999.00,9,   -999.0,9,   2376.6,2,     7.90,2,  0.2080