BOTTLE,20030515WHPSIOSA
EXPOCODE,SECT_ID,STNNBR,CASTNO,SAMPNO,BTLNBR,BTLNBR_FLAG_W,DATE,TIME,LATITUDE,LONGITUDE,DEPTH,CTDPRS,CTDTMP,CTDSAL,CTDSAL_FLAG_W,SALNTY,SALNTY_FLAG_W,CTDOXY,CTDOXY_FLAG_W,OXYGEN,OXYGEN_FLAG_W,SILCAT,SILCAT_FLAG_W,NITRAT,NITRAT_FLAG_W,PHSPHT,PHSPHT_FLAG_W,CFC-11,CFC-11_FLAG_W,CFC-12,CFC-12_FLAG_W,TRITUM,TRITUM_FLAG_W,HELIUM,HELIUM_FLAG_W,DELHE3,DELHE3_FLAG_W,TCARBN,TCARBN_FLAG_W,ALKALI,ALKALI_FLAG_W,PH,PH_FLAG_W,THETA
,,,,,,,,,,,,DBAR,ITS-90,PSS-78,,PSS-78,,UMOL/KG,,UMOL/KG,,UMOL/KG,,UMOL/KG,,UMOL/KG,,PMOL/KG,,PMOL/KG,,TU,,NMOL/KG,,PERCNT,,UMOL/KG,,UMOL/KG,,,,DEG C
 3230CITHER2_2,  A17N,   168,  1,     32,     32,2,19940304,0425, -1.3007, -29.9998, 4224,      7.3,  27.2190,  36.1070,2,  36.1060,2,    199.5,2,    200.8,2,     1.80,2,     0.00,2,     0.09,2,    1.702,2,    0.967,2, -999.000,9,-999.0000,9,  -999.00,9,   -999.0,9,   -999.0,9,     8.37,2, 27.2170
 3230CITHER2_2,  A17N,   168,  1,     31,     31,2,19940304,0425, -1.3007, -29.9998, 4224,     40.6,  26.5990,  36.1740,2,  36.1860,2,    205.6,2,    204.2,2,     1.80,2,     0.00,2,     0.12,2,    1.719,2,    0.980,2, -999.000,9,-999.0000,9,  -999.00,9,   -999.0,9,   -999.0,9,     8.36,2, 26.5900
 3230CITHER2_2,  A17N,   168,  1,     30,     30,2,19940304,0425, -1.3007, -29.9998, 4224,    111.7,  14.1290,  35.4460,2,  35.4920,2,    161.0,2,    158.7,2,     6.60,2,    14.86,2,     1.04,2,    1.617,2,    0.851,2, -999.000,9,-999.0000,9,  -999.00,9,   -999.0,9,   -999.0,9,     8.11,2, 14.1130
 3230CITHER2_2,  A17N,   168,  1,     29,     29,2,19940304,0425, -1.3007, -29.9998, 4224,    201.6,  12.4750,  35.2100,2,  35.2080,2,    123.1,2,    125.9,2,     9.80,2,    21.64,2,     1.47,2,    1.112,2,    0.594,2, -999.000,9,-999.0000,9,  -999.00,9,   -999.0,9,   -999.0,9,     8.00,2, 12.4480
 3230CITHER2_2,  A17N,   168,  1,     28,     28,2,19940304,0425, -1.3007, -29.9998, 4224,    301.1,  11.1060,  35.0610,2,  35.0610,2,     95.7,2,     95.4,2,    12.60,2,    28.02,2,     1.79,2,    0.697,2,    0.376,2, -999.000,9,-999.0000,9,  -999.00,9,   -999.0,9,   -999.0,9,     7.91,2, 11.0680
 3230CITHER2_2,  A17N,   168,  1,     27,     27,2,19940304,0425, -1.3007, -29.9998, 4224,    401.8,   8.5610,  34.7730,2,  34.7670,2,    110.5,2,    108.7,2,    17.30,2,    32.19,2,     2.06,2,    0.376,2,    0.209,2, -999.000,9,-999.0000,9,  -999.00,9,   -999.0,9,   -999.0,9,     7.86,2,  8.5180
 3230CITHER2_2,  A17N,   168,  1,     26,     26,2,19940304,0425, -1.3007, -29.9998, 4224,    602.7,   5.7290,  34.4980,2,  34.4990,2,    158.9,2,    158.0,2,    25.10,2,    33.00,2,     2.20,2,    0.317,2,    0.167,2, -999.000,9,-999.0000,9,  -999.00,9,   -999.0,9,   -999.0,9,     7.88,2,  5.6770
 3230CITHER2_2,  A17N,   168,  1,     25,     25,2,19940304,0425, -1.3007, -29.9998, 4224,    701.6,   5.1050,  34.4850,2,  34.4790,2,    166.5,2,    157.4,2,    29.10,2,    34.31,2,     2.30,2,    0.162,2,    0.086,2, -999.000,9,-999.0000,9,  -999.00,9,   -999.0,9,   -999.0,9,     7.86,2,  5.0480
 3230CITHER2_2,  A17N,   168,  1,     24,     24,2,19940304,0425, -1.3007, -29.9998, 4224,    801.0,   4.6400,  34.5120,2,  34.5120,2,    157.1,2,    158.0,2,    32.10,2,    34.37,2,     2.33,2,    0.069,2,    0.038,2, -999.000,9,-999.0000,9,  -999.00,9,   -999.0,9,   -999.0,9,     7.86,2,  4.5770
 3230CITHER2_2,  A17N,   168,  1,     23,     23,2,19940304,0425, -1.3007, -29.9998, 4224,   1000.7,   4.4650,  34.6730,2,  34.6740,2,    163.7,2,    164.8,2,    31.00,2,    32.12,2,     2.17,2,    0.009,2,    0.002,2, -999.000,9,-999.0000,9,  -999.00,9,   -999.0,9,   -999.0,9,     7.88,2,  4.3850
 3230CITHER2_2,  A17N,   168,  1,     22,     22,2,19940304,0425, -1.3007, -29.9998, 4224,   1200.7,   4.5300,  34.8090,2,  34.8090,2,    180.7,2,    189.8,2,    26.80,2,    28.61,2,     1.93,2,    0.018,2,    0.006,2, -999.000,9,-999.0000,9,  -999.00,9,   -999.0,9,   -999.0,9,     7.91,2,  4.4320
 3230CITHER2_2,  A17N,   168,  1,     21,     21,2,19940304,0425, -1.3007, -29.9998, 4224,   1400.6,   4.3740,  34.9520,2,  34.9490,2,    220.4,2,    220.2,2,    20.30,2,    22.93,2,     1.54,2,    0.056,2,    0.029,2, -999.000,9,-999.0000,9,  -999.00,9,   -999.0,9,   -999.0,9,     7.98,2,  4.2590
 3230CITHER2_2,  A17N,   168,  1,     20,     20,2,19940304,0425, -1.3007, -29.9998, 4224,   1503.1,   4.2480,  34.9690,2,  34.9660,2,    230.7,2,    229.9,2,    19.30,2,    21.87,2,     1.44,2,    0.050,2,    0.029,2, -999.000,9,-999.0000,9,  -999.00,9,   -999.0,9,   -999.0,9,     7.99,2,  4.1250
 3230CITHER2_2,  A17N,   168,  1,     19,     19,2,19940304,0425, -1.3007, -29.9998, 4224,   1602.4,   4.1440,  34.9760,2,  34.9760,2,    237.3,2,    236.3,2,    18.90,2,    21.25,2,     1.41,2,    0.057,2,    0.029,2, -999.000,9,-999.0000,9,  -999.00,9,   -999.0,9,   -999.0,9,     8.00,2,  4.0130
 3230CITHER2_2,  A17N,   168,  1,     18,     18,2,19940304,0425, -1.3007, -29.9998, 4224,   1701.6,   4.0800,  34.9810,2,  34.9790,2,    242.2,2,    240.2,2,    18.60,2,    20.86,2,     1.37,2,    0.061,2,    0.032,2, -999.000,9,-999.0000,9,  -999.00,9,   -999.0,9,   -999.0,9,     8.01,2,  3.9400
 3230CITHER2_2,  A17N,   168,  1,     17,     17,2,19940304,0425, -1.3007, -29.9998, 4224,   1799.9,   3.9460,  34.9840,2,  34.9850,2,    246.2,2,    250.6,2,    18.50,2,    20.31,2,     1.33,2,    0.065,2,    0.039,2, -999.000,9,-999.0000,9,  -999.00,9,   -999.0,9,   -999.0,9,     8.01,2,  3.7990
 3230CITHER2_2,  A17N,   168,  1,     15,     15,2,19940304,0425, -1.3007, -29.9998, 4224,   2002.2,   3.5310,  34.9730,2,  34.9730,2,    254.3,2,    253.8,2,    20.80,2,    19.85,2,     1.31,2,    0.045,2,    0.026,2, -999.000,9,-999.0000,9,  -999.00,9,   -999.0,9,   -999.0,9,     8.02,2,  3.3700
 3230CITHER2_2,  A17N,   168,  1,     16,     16,2,19940304,0425, -1.3007, -29.9998, 4224,   2002.3,   3.5320,  34.9740,2,  34.9720,2,    254.3,2,    253.6,2,    20.80,2,    19.88,2,     1.31,2,    0.051,2,    0.028,2, -999.000,9,-999.0000,9,  -999.00,9,   -999.0,9,   -999.0,9,     8.02,2,  3.3710
 3230CITHER2_2,  A17N,   168,  1,     14,     14,2,19940304,0425, -1.3007, -29.9998, 4224,   2201.9,   3.1910,  34.9530,2,  34.9520,2,    251.4,2,    252.7,2,    26.20,2,    20.64,2,     1.35,2,    0.016,2,    0.008,2, -999.000,9,-999.0000,9,  -999.00,9,   -999.0,9,   -999.0,9,     8.02,2,  3.0170
 3230CITHER2_2,  A17N,   168,  1,     13,     13,2,19940304,0425, -1.3007, -29.9998, 4224,   2401.9,   3.0720,  34.9530,2,  34.9500,2,    255.9,2,    256.6,2,    25.50,2,    20.01,2,     1.32,2,    0.031,2,    0.016,2, -999.000,9,-999.0000,9,  -999.00,9,   -999.0,9,   -999.0,9,     8.02,2,  2.8800
 3230CITHER2_2,  A17N,   168,  1,     12,     12,2,19940304,0425, -1.3007, -29.9998, 4224,   2603.2,   2.9050,  34.9390,2,  34.9370,2,    253.7,2,    254.2,2,    29.50,2,    20.53,2,     1.36,2,    0.015,2,    0.007,2, -999.000,9,-999.0000,9,  -999.00,9,   -999.0,9,   -999.0,9,     8.02,2,  2.6970
 3230CITHER2_2,  A17N,   168,  1,     11,     11,2,19940304,0425, -1.3007, -29.9998, 4224,   2800.4,   2.7930,  34.9330,2,  34.9310,2,    253.6,2,    254.3,2,    30.90,2,    20.44,2,     1.35,2,    0.018,2,    0.010,2, -999.000,9,-999.0000,9,  -999.00,9,   -999.0,9,   -999.0,9,     8.02,2,  2.5670
 3230CITHER2_2,  A17N,   168,  1,     10,     10,2,19940304,0425, -1.3007, -29.9998, 4224,   3000.1,   2.6560,  34.9200,2,  34.9190,2,    251.6,2,    251.6,2,    35.10,2,    21.28,2,     1.40,2,    0.007,2,    0.003,2, -999.000,9,-999.0000,9,  -999.00,9,   -999.0,9,   -999.0,9,     8.02,2,  2.4130
 3230CITHER2_2,  A17N,   168,  1,      9,      9,2,19940304,0425, -1.3007, -29.9998, 4224,   3202.4,   2.6010,  34.9160,2,  34.9130,2,    252.4,2,   -999.0,5,    36.30,2,    21.29,2,     1.41,2,    0.007,2,    0.006,2, -999.000,9,-999.0000,9,  -999.00,9,   -999.0,9,   -999.0,9,     8.01,2,  2.3380
 3230CITHER2_2,  A17N,   168,  1,      8,      8,2,19940304,0425, -1.3007, -29.9998, 4224,   3399.5,   2.5270,  34.9160,2,  34.9130,2,    256.4,2,    257.4,2,    34.10,2,    20.54,2,     1.36,2,    0.024,2,    0.017,2, -999.000,9,-999.0000,9,  -999.00,9,   -999.0,9,   -999.0,9,     8.02,2,  2.2450
 3230CITHER2_2,  A17N,   168,  1,      7,      7,2,19940304,0425, -1.3007, -29.9998, 4224,   3547.6,   2.4570,  34.9100,2,  34.9110,2,    260.8,2,    263.2,2,    32.90,2,    20.01,2,     1.33,2,    0.056,2,    0.032,2, -999.000,9,-999.0000,9,  -999.00,9,   -999.0,9,   -999.0,9,     8.02,2,  2.1600
 3230CITHER2_2,  A17N,   168,  1,      6,      6,2,19940304,0425, -1.3007, -29.9998, 4224,   3696.6,   2.4010,  34.9060,2,  34.9050,2,    260.9,2,    261.7,2,    34.00,2,    20.20,2,     1.34,2,    0.056,2,    0.034,2, -999.000,9,-999.0000,9,  -999.00,9,   -999.0,9,   -999.0,9,     8.02,2,  2.0900
 3230CITHER2_2,  A17N,   168,  1,      5,      5,2,19940304,0425, -1.3007, -29.9998, 4224,   3849.3,   2.3390,  34.9000,2,  34.8990,2,    261.5,2,    262.1,2,    35.30,2,    20.12,2,     1.35,2,    0.067,2,    0.044,2, -999.000,9,-999.0000,9,  -999.00,9,   -999.0,9,   -999.0,9,     8.02,2,  2.0120
 3230CITHER2_2,  A17N,   168,  1,      4,      4,2,19940304,0425, -1.3007, -29.9998, 4224,   3999.5,   2.2910,  34.8950,2,  34.8940,2,    260.8,2,    260.9,2,    37.70,2,    20.68,2,     1.37,2,    0.067,2,    0.037,2, -999.000,9,-999.0000,9,  -999.00,9,   -999.0,9,   -999.0,9,     8.01,2,  1.9490
 3230CITHER2_2,  A17N,   168,  1,      3,      3,2,19940304,0425, -1.3007, -29.9998, 4224,   4098.9,   2.0460,  34.8670,2,  34.8670,2,    253.9,2,    253.0,2,    50.40,2,    22.18,2,     1.51,2,    0.045,2,    0.027,2, -999.000,9,-999.0000,9,  -999.00,9,   -999.0,9,   -999.0,9,     8.00,2,  1.6990
 3230CITHER2_2,  A17N,   168,  1,      2,      2,2,19940304,0425, -1.3007, -29.9998, 4224,   4196.2,   1.7830,  34.8350,2,  34.8370,2,    247.2,2,    246.8,2,    63.10,2,    24.03,2,     1.64,2,    0.036,2,    0.021,2, -999.000,9,-999.0000,9,  -999.00,9,   -999.0,9,   -999.0,9,     7.98,2,  1.4330
 3230CITHER2_2,  A17N,   168,  1,      1,      1,2,19940304,0425, -1.3007, -29.9998, 4224,   4266.6,   1.3840,  34.7930,2,  34.7940,2,    241.1,2,    237.5,2,    83.50,2,    26.84,2,     1.84,2,    0.018,2,    0.011,2, -999.000,9,-999.0000,9,  -999.00,9,   -999.0,9,   -999.0,9,     7.95,2,  1.0380
 3230CITHER2_2,  A17N,   169,  1,     32,     32,2,19940304,0913, -0.9992, -30.0012, 3858,      3.9,  27.3380,  36.0960,2,  36.0950,2,    201.0,2,    200.8,2,     1.90,2,     0.04,2,     0.07,2, -999.000,2, -999.000,2, -999.000,9,-999.0000,9,  -999.00,9,   2019.2,2,   2376.0,2,     8.37,2, 27.3370
 3230CITHER2_2,  A17N,   169,  1,     31,     31,2,19940304,0913, -0.9992, -30.0012, 3858,     55.5,  25.0460,  36.4110,2,  36.3980,2,    195.2,2,    192.9,2,     2.20,2,     0.83,2,     0.19,2, -999.000,2, -999.000,2, -999.000,9,-999.0000,9,  -999.00,9,   2062.5,2,   2397.0,2,     8.32,2, 25.0340
 3230CITHER2_2,  A17N,   169,  1,     30,     30,2,19940304,0913, -0.9992, -30.0012, 3858,    100.2,  16.4050,  35.7290,2,  35.6840,2,    156.9,2,    154.0,2,     5.60,2,    13.02,2,     0.95,2, -999.000,2, -999.000,2, -999.000,9,-999.0000,9,  -999.00,9,   2136.6,2,   2354.9,2,     8.12,2, 16.3890
 3230CITHER2_2,  A17N,   169,  1,     29,     29,2,19940304,0913, -0.9992, -30.0012, 3858,    150.1,  13.2540,  35.3020,2,  35.3040,2,    155.8,2,    159.0,2,     7.90,2,    16.92,2,     1.18,2, -999.000,2, -999.000,2, -999.000,9,-999.0000,9,  -999.00,9,   2142.9,2,   2335.3,2,     8.07,2, 13.2330
 3230CITHER2_2,  A17N,   169,  1,     28,     28,2,19940304,0913, -0.9992, -30.0012, 3858,    199.3,  12.4640,  35.2120,2,  35.2060,2,    128.7,2,    127.7,2,     9.70,2,    21.81,2,     1.46,2, -999.000,2, -999.000,2, -999.000,9,-999.0000,9,  -999.00,9,   2169.6,2,   2329.1,2,     7.99,2, 12.4370
 3230CITHER2_2,  A17N,   169,  1,     27,     27,2,19940304,0913, -0.9992, -30.0012, 3858,    300.9,  10.5880,  34.9960,2,  34.9940,2,     96.6,2,     95.9,2,    13.30,2,    28.88,2,     1.86,2, -999.000,2, -999.000,2, -999.000,9,-999.0000,9,  -999.00,9,   2203.3,2,   2318.0,2,     7.89,2, 10.5520
 3230CITHER2_2,  A17N,   169,  1,     26,     26,2,19940304,0913, -0.9992, -30.0012, 3858,    400.5,   8.2270,  34.7360,2,  34.7310,2,    118.2,2,    118.7,2,    17.60,2,    31.35,2,     2.05,2, -999.000,2, -999.000,2, -999.000,9,-999.0000,9,  -999.00,9,   2204.4,2,   2310.1,2,     7.86,2,  8.1850
 3230CITHER2_2,  A17N,   169,  1,     25,     25,2,19940304,0913, -0.9992, -30.0012, 3858,    498.5,   7.1440,  34.6350,2,  34.6220,2,    125.1,2,    123.9,2,    20.90,2,    33.11,2,     2.19,2,    0.257,2,    0.142,2, -999.000,9,-999.0000,9,  -999.00,9,   2209.8,2,   2307.3,2,     7.84,2,  7.0960
 3230CITHER2_2,  A17N,   169,  1,     24,     24,2,19940304,0913, -0.9992, -30.0012, 3858,    600.8,   5.8480,  34.5310,2,  34.5280,2,    146.9,2,    146.4,2,    25.00,2,    33.31,2,     2.25,2,    0.214,2,    0.114,2, -999.000,9,-999.0000,9,  -999.00,9,   2209.0,2,   2309.1,2,     7.85,2,  5.7960
 3230CITHER2_2,  A17N,   169,  1,     23,     23,2,19940304,0913, -0.9992, -30.0012, 3858,    699.8,   5.1210,  34.4910,2,  34.4890,2,    157.3,2,    155.1,2,    28.80,2,    33.87,2,     2.33,2,    0.135,2,    0.074,2, -999.000,9,-999.0000,9,  -999.00,9,   2213.1,2,   2311.4,2,     7.85,2,  5.0640
 3230CITHER2_2,  A17N,   169,  1,     22,     22,2,19940304,0913, -0.9992, -30.0012, 3858,    800.3,   4.5230,  34.5260,2,  34.5190,2,    158.1,2,    160.5,2,    32.40,2,    33.71,2,     2.31,2,    0.065,2,    0.033,2, -999.000,9,-999.0000,9,  -999.00,9,   2216.1,2,   2316.2,2,     7.85,2,  4.4600
 3230CITHER2_2,  A17N,   169,  1,     21,     21,2,19940304,0913, -0.9992, -30.0012, 3858,   1000.3,   4.4410,  34.6510,2,  34.6530,2,    164.8,2,    170.0,2,    31.40,2,    32.50,2,     2.22,2,    0.009,2,    0.003,2, -999.000,9,-999.0000,9,  -999.00,9,   2215.5,2,   2320.4,2,     7.87,2,  4.3620
 3230CITHER2_2,  A17N,   169,  1,     20,     20,2,19940304,0913, -0.9992, -30.0012, 3858,   1200.6,   4.5280,  34.8220,2,  34.8200,2,    183.7,2,    183.2,2,    26.00,2,    28.11,2,     1.92,2,    0.014,2,    0.007,2, -999.000,9,-999.0000,9,  -999.00,9,   2200.1,2,   2325.9,2,     7.91,2,  4.4300
 3230CITHER2_2,  A17N,   169,  1,     19,     19,2,19940304,0913, -0.9992, -30.0012, 3858,   1398.9,   4.3760,  34.9540,2,  34.9500,2,    219.5,2,    220.2,2,    20.00,2,    22.90,2,     1.54,2,    0.053,2,    0.031,2, -999.000,9,-999.0000,9,  -999.00,9,   2177.6,2,   2327.8,2,     7.97,2,  4.2610
 3230CITHER2_2,  A17N,   169,  1,     18,     18,2,19940304,0913, -0.9992, -30.0012, 3858,   1500.8,   4.2480,  34.9720,2,  34.9730,2,    232.6,2,    231.4,2,    18.90,2,    21.80,2,     1.45,2,    0.064,2,    0.035,2, -999.000,9,-999.0000,9,  -999.00,9,   2172.9,2,   2324.4,2,     7.99,2,  4.1250
 3230CITHER2_2,  A17N,   169,  1,     16,     16,2,19940304,0913, -0.9992, -30.0012, 3858,   1599.3,   4.1700,  34.9820,2,  34.9740,2,    238.4,2,    237.7,2,    18.30,2,    21.01,2,     1.39,2,    0.080,2,    0.047,2, -999.000,9,-999.0000,9,  -999.00,9,   2168.8,2,   2328.1,2,     8.00,2,  4.0390
 3230CITHER2_2,  A17N,   169,  1,     17,     17,2,19940304,0913, -0.9992, -30.0012, 3858,   1599.7,   4.1750,  34.9840,2,  34.9760,2,    238.5,2,    237.0,2,    18.20,2,    21.01,2,     1.39,2,    0.077,2,    0.044,2, -999.000,9,-999.0000,9,  -999.00,9,   -999.0,5,   2328.1,2,     8.00,2,  4.0440
 3230CITHER2_2,  A17N,   169,  1,     15,     15,2,19940304,0913, -0.9992, -30.0012, 3858,   1700.1,   4.0480,  34.9870,2,  34.9860,2,    242.6,2,    244.9,2,    18.20,2,    20.38,2,     1.35,2,    0.117,2,    0.065,2, -999.000,9,-999.0000,9,  -999.00,9,   2166.6,2,   2326.7,2,     8.01,2,  3.9090
 3230CITHER2_2,  A17N,   169,  1,     14,     14,2,19940304,0913, -0.9992, -30.0012, 3858,   1799.8,   3.8750,  34.9840,2,  34.9830,2,    249.4,2,    248.9,2,    18.30,2,    20.22,2,     1.33,2,    0.067,2,    0.040,2, -999.000,9,-999.0000,9,  -999.00,9,   2164.8,2,   2332.8,2,     8.01,2,  3.7280
 3230CITHER2_2,  A17N,   169,  1,     13,     13,2,19940304,0913, -0.9992, -30.0012, 3858,   1901.2,   3.6960,  34.9810,2,  34.9790,2,    254.0,2,    253.3,2,    18.70,2,    19.67,2,     1.30,2,    0.072,2,    0.042,2, -999.000,9,-999.0000,9,  -999.00,9,   2162.8,2,   2328.5,2,     8.01,2,  3.5420
 3230CITHER2_2,  A17N,   169,  1,     12,     12,2,19940304,0913, -0.9992, -30.0012, 3858,   1998.6,   3.5240,  34.9740,2,  34.9720,2,    256.4,2,    254.1,2,    20.80,2,    19.90,2,     1.32,2,    0.038,2,    0.021,2, -999.000,9,-999.0000,9,  -999.00,9,   2164.3,2,   2330.6,2,     8.01,2,  3.3640
 3230CITHER2_2,  A17N,   169,  1,     11,     11,2,19940304,0913, -0.9992, -30.0012, 3858,   2197.9,   3.2280,  34.9580,2,  34.9570,2,    253.8,2,    252.4,2,    24.90,2,    20.22,2,     1.35,2,    0.023,2,    0.014,2, -999.000,9,-999.0000,9,  -999.00,9,   2170.1,2,   2336.2,2,     8.01,2,  3.0530
 3230CITHER2_2,  A17N,   169,  1,     10,     10,2,19940304,0913, -0.9992, -30.0012, 3858,   2399.4,   3.0730,  34.9510,2,  34.9500,2,    254.5,2,    253.0,2,    26.90,2,    20.21,2,     1.35,2,    0.018,2,    0.010,2, -999.000,9,-999.0000,9,  -999.00,9,   2171.0,2,   2336.5,2,     8.01,2,  2.8820
 3230CITHER2_2,  A17N,   169,  1,      9,      9,2,19940304,0913, -0.9992, -30.0012, 3858,   2601.5,   2.9200,  34.9420,2,  34.9410,2,    255.2,2,    254.5,2,    28.50,2,    20.25,2,     1.36,2,    0.017,2,    0.011,2, -999.000,9,-999.0000,9,  -999.00,9,   2171.9,2,   2339.4,2,     8.01,2,  2.7120
 3230CITHER2_2,  A17N,   169,  1,      8,      8,2,19940304,0913, -0.9992, -30.0012, 3858,   2799.8,   2.7970,  34.9350,2,  34.9310,2,    255.6,2,    254.9,2,    30.10,2,    20.53,2,     1.36,2,    0.013,2,    0.009,2, -999.000,9,-999.0000,9,  -999.00,9,   2174.0,2,   2340.2,2,     8.01,2,  2.5710
 3230CITHER2_2,  A17N,   169,  1,      7,      7,2,19940304,0913, -0.9992, -30.0012, 3858,   3000.4,   2.6690,  34.9220,2,  34.9200,2,    249.9,2,    254.9,2,    34.90,2,    21.16,2,     1.41,2,    0.008,2,    0.004,2, -999.000,9,-999.0000,9,  -999.00,9,   2180.8,2,   2346.1,2,     8.01,2,  2.4250
 3230CITHER2_2,  A17N,   169,  1,      6,      6,2,19940304,0913, -0.9992, -30.0012, 3858,   3199.4,   2.5920,  34.9180,2,  34.9170,2,    251.8,2,    253.1,2,    34.60,2,    20.84,2,     1.39,2,    0.011,2,    0.005,2, -999.000,9,-999.0000,9,  -999.00,9,   2179.3,2,   2338.2,2,     8.01,2,  2.3290
 3230CITHER2_2,  A17N,   169,  1,      5,      5,2,19940304,0913, -0.9992, -30.0012, 3858,   3399.5,   2.5050,  34.9130,2,  34.9120,2,    257.2,2,    256.8,2,    33.80,2,    20.37,2,     1.37,2,    0.029,2,    0.021,2, -999.000,9,-999.0000,9,  -999.00,9,   2177.3,2,   2342.0,2,     8.01,2,  2.2230
 3230CITHER2_2,  A17N,   169,  1,      4,      4,2,19940304,0913, -0.9992, -30.0012, 3858,   3597.9,   2.4110,  34.9080,2,  34.9090,2,    259.1,2,    259.3,2,    34.10,2,    20.17,2,     1.36,2,    0.047,2,    0.031,2, -999.000,9,-999.0000,9,  -999.00,9,   2176.3,2,   2338.9,2,     8.01,2,  2.1100
 3230CITHER2_2,  A17N,   169,  1,      3,      3,2,19940304,0913, -0.9992, -30.0012, 3858,   3697.4,   2.3870,  34.9070,2,  34.9070,2,    260.3,2,    259.9,2,    33.60,2,    20.13,2,     1.36,2,    0.058,2,    0.036,2, -999.000,9,-999.0000,9,  -999.00,9,   2176.6,2,   2342.1,2,     8.01,2,  2.0760
 3230CITHER2_2,  A17N,   169,  1,      2,      2,2,19940304,0913, -0.9992, -30.0012, 3858,   3803.5,   2.3480,  34.9020,2,  34.9050,2,    260.4,2,    259.9,2,    35.50,2,    20.36,2,     1.36,2,    0.055,2,    0.036,2, -999.000,9,-999.0000,9,  -999.00,9,   2177.2,2,   2344.3,2,     8.01,2,  2.0260
 3230CITHER2_2,  A17N,   169,  1,      1,      1,2,19940304,0913, -0.9992, -30.0012, 3858,   3903.9,   2.3100,  34.8970,2,  34.8960,2,    260.2,2,    259.7,2,    37.00,2,    20.48,2,     1.38,2,    0.058,2,    0.035,2, -999.000,9,-999.0000,9,  -999.00,9,   2179.8,2,   2343.8,2,     8.01,2,  1.9780