BOTTLE,20030515WHPSIOSA
EXPOCODE,SECT_ID,STNNBR,CASTNO,SAMPNO,BTLNBR,BTLNBR_FLAG_W,DATE,TIME,LATITUDE,LONGITUDE,DEPTH,CTDPRS,CTDTMP,CTDSAL,CTDSAL_FLAG_W,SALNTY,SALNTY_FLAG_W,CTDOXY,CTDOXY_FLAG_W,OXYGEN,OXYGEN_FLAG_W,SILCAT,SILCAT_FLAG_W,NITRAT,NITRAT_FLAG_W,PHSPHT,PHSPHT_FLAG_W,CFC-11,CFC-11_FLAG_W,CFC-12,CFC-12_FLAG_W,TRITUM,TRITUM_FLAG_W,HELIUM,HELIUM_FLAG_W,DELHE3,DELHE3_FLAG_W,TCARBN,TCARBN_FLAG_W,ALKALI,ALKALI_FLAG_W,PH,PH_FLAG_W,THETA
,,,,,,,,,,,,DBAR,ITS-90,PSS-78,,PSS-78,,UMOL/KG,,UMOL/KG,,UMOL/KG,,UMOL/KG,,UMOL/KG,,PMOL/KG,,PMOL/KG,,TU,,NMOL/KG,,PERCNT,,UMOL/KG,,UMOL/KG,,,,DEG C
 3230CITHER2_1,  A17C,   104,  1,     32,     32,2,19940207,1523,-18.8427, -30.8802, 4507,      9.1,  27.7920,  37.4650,2,  37.4750,2,    193.9,2,    198.0,2,     1.20,2,     0.13,2,     0.13,2,    1.780,2,    1.029,2, -999.000,9,-999.0000,9,  -999.00,9,   -999.0,9,   -999.0,9,     8.39,2, 27.7900
 3230CITHER2_1,  A17C,   104,  1,     31,     31,2,19940207,1523,-18.8427, -30.8802, 4507,     45.2,  27.5900,  37.4850,2,  37.4860,2,    202.7,2,    199.2,2,     1.10,2,     0.13,2,     0.12,2,    1.795,2,    1.036,2, -999.000,9,-999.0000,9,  -999.00,9,   -999.0,9,   -999.0,9,     8.39,2, 27.5790
 3230CITHER2_1,  A17C,   104,  1,     30,     30,2,19940207,1523,-18.8427, -30.8802, 4507,    125.3,  22.8150,  36.8000,2,  36.8200,2,    212.3,2,    218.1,2,     1.20,2,     0.13,2,     0.12,2,    2.139,2,    1.201,2, -999.000,9,-999.0000,9,  -999.00,9,   -999.0,9,   -999.0,9,     8.35,2, 22.7890
 3230CITHER2_1,  A17C,   104,  1,     29,     29,2,19940207,1523,-18.8427, -30.8802, 4507,    200.4,  19.4010,  36.1720,2,  36.1910,2,    201.7,2,    202.0,2,     1.60,2,     1.25,2,     0.33,2,    2.386,2,    1.315,2, -999.000,9,-999.0000,9,  -999.00,9,   -999.0,9,   -999.0,9,     8.26,2, 19.3640
 3230CITHER2_1,  A17C,   104,  1,     28,     28,2,19940207,1523,-18.8427, -30.8802, 4507,    300.1,  14.3690,  35.3400,2,  35.3620,2,    188.0,2,    191.9,2,     3.70,2,     9.56,2,     0.74,2,    2.347,2,    1.248,2, -999.000,9,-999.0000,9,  -999.00,9,   -999.0,9,   -999.0,9,     8.16,2, 14.3250
 3230CITHER2_1,  A17C,   104,  1,     27,     27,2,19940207,1523,-18.8427, -30.8802, 4507,    400.5,  11.0670,  34.9520,2,  34.9400,2,    169.6,2,    173.0,2,     7.90,2,    18.66,2,     1.30,2,    1.584,2,    0.841,2, -999.000,9,-999.0000,9,  -999.00,9,   -999.0,9,   -999.0,9,     8.04,2, 11.0170
 3230CITHER2_1,  A17C,   104,  1,     26,     26,2,19940207,1523,-18.8427, -30.8802, 4507,    601.0,   6.4470,  34.5210,2,  34.5180,2,    158.6,2,    159.7,2,    20.60,2,    30.67,2,     2.07,2,    0.335,2,    0.200,2, -999.000,9,-999.0000,9,  -999.00,9,   -999.0,9,   -999.0,9,     7.91,2,  6.3920
 3230CITHER2_1,  A17C,   104,  1,     25,     25,2,19940207,1523,-18.8427, -30.8802, 4507,    798.8,   4.1460,  34.4030,2,  34.4030,2,    188.2,2,    187.5,2,    33.30,2,    32.62,2,     2.24,2,    0.235,2,    0.136,2, -999.000,9,-999.0000,9,  -999.00,9,   -999.0,9,   -999.0,9,     7.90,2,  4.0860
 3230CITHER2_1,  A17C,   104,  1,     24,     24,2,19940207,1523,-18.8427, -30.8802, 4507,    999.9,   3.6960,  34.4920,2,  34.4910,2,    184.1,2,    182.3,2,    39.30,2,    32.74,2,     2.24,2,    0.051,2,    0.037,2, -999.000,9,-999.0000,9,  -999.00,9,   -999.0,9,   -999.0,9,     7.89,2,  3.6230
 3230CITHER2_1,  A17C,   104,  1,     23,     23,2,19940207,1523,-18.8427, -30.8802, 4507,   1200.0,   3.6000,  34.6450,2,  34.6440,2,    189.0,2,    188.8,2,    39.80,2,    30.39,2,     2.08,2,    0.019,2,    0.017,2, -999.000,9,-999.0000,9,  -999.00,9,   -999.0,9,   -999.0,9,     7.91,2,  3.5110
 3230CITHER2_1,  A17C,   104,  1,     22,     22,2,19940207,1523,-18.8427, -30.8802, 4507,   1399.5,   4.0340,  34.8760,2,  34.8770,2,    212.1,2,    213.2,2,    25.70,2,    24.61,2,     1.68,2,    0.026,2,    0.024,2, -999.000,9,-999.0000,9,  -999.00,9,   -999.0,9,   -999.0,9,     7.97,2,  3.9230
 3230CITHER2_1,  A17C,   104,  1,     21,     21,2,19940207,1523,-18.8427, -30.8802, 4507,   1499.4,   3.9690,  34.9230,2,  34.9220,2,    225.4,2,    226.4,2,    22.90,2,    22.68,2,     1.53,2,    0.034,2,    0.031,2, -999.000,9,-999.0000,9,  -999.00,9,   -999.0,9,   -999.0,9,     7.99,2,  3.8490
 3230CITHER2_1,  A17C,   104,  1,     20,     20,2,19940207,1523,-18.8427, -30.8802, 4507,   1600.2,   3.8930,  34.9450,2,  34.9440,2,    234.6,2,    235.5,2,    21.60,2,    21.83,2,     1.45,2,    0.037,2,    0.026,2, -999.000,9,-999.0000,9,  -999.00,9,   -999.0,9,   -999.0,9,     8.00,2,  3.7650
 3230CITHER2_1,  A17C,   104,  1,     19,     19,2,19940207,1523,-18.8427, -30.8802, 4507,   1799.6,   3.5650,  34.9470,2,  34.9440,2,    243.8,2,    243.3,2,    23.40,2,    21.15,2,     1.40,2,    0.025,2,    0.021,2, -999.000,9,-999.0000,9,  -999.00,9,   -999.0,9,   -999.0,9,     8.01,2,  3.4230
 3230CITHER2_1,  A17C,   104,  1,     18,     18,2,19940207,1523,-18.8427, -30.8802, 4507,   1999.6,   3.3890,  34.9510,2,  34.9520,2,    249.0,2,    248.9,2,    23.70,2,    20.51,2,     1.36,2,    0.019,2,    0.021,2, -999.000,9,-999.0000,9,  -999.00,9,   -999.0,9,   -999.0,9,     8.02,2,  3.2310
 3230CITHER2_1,  A17C,   104,  1,     16,     16,2,19940207,1523,-18.8427, -30.8802, 4507,   2199.4,   3.1650,  34.9380,2,  34.9350,2,    248.9,2,    248.4,2,    27.70,2,    20.96,2,     1.38,2,    0.009,2,    0.015,2, -999.000,9,-999.0000,9,  -999.00,9,   -999.0,9,   -999.0,9,     8.02,2,  2.9910
 3230CITHER2_1,  A17C,   104,  1,     15,     15,2,19940207,1523,-18.8427, -30.8802, 4507,   2398.8,   3.0390,  34.9330,2,  34.9280,2,    249.1,2,    248.9,2,    29.50,2,    21.09,2,     1.39,2,    0.008,2,    0.009,2, -999.000,9,-999.0000,9,  -999.00,9,   -999.0,9,   -999.0,9,     8.02,2,  2.8480
 3230CITHER2_1,  A17C,   104,  1,     14,     14,2,19940207,1523,-18.8427, -30.8802, 4507,   2598.8,   2.9200,  34.9260,2,  34.9240,2,    248.7,2,    248.6,2,    31.80,2,    21.23,2,     1.41,2,    0.008,2,    0.008,2, -999.000,9,-999.0000,9,  -999.00,9,   -999.0,9,   -999.0,9,     8.02,2,  2.7120
 3230CITHER2_1,  A17C,   104,  1,     13,     13,2,19940207,1523,-18.8427, -30.8802, 4507,   2799.1,   2.8540,  34.9260,2,  34.9230,2,    249.3,2,    249.6,2,    32.50,2,    21.11,2,     1.41,2,    0.009,2,    0.009,2, -999.000,9,-999.0000,9,  -999.00,9,   -999.0,9,   -999.0,9,     8.02,2,  2.6270
 3230CITHER2_1,  A17C,   104,  1,     12,     12,2,19940207,1523,-18.8427, -30.8802, 4507,   2998.5,   2.7660,  34.9180,2,  34.9140,2,    251.2,2,    249.5,2,    34.50,2,    21.29,2,     1.42,2,    0.008,2,    0.015,2, -999.000,9,-999.0000,9,  -999.00,9,   -999.0,9,   -999.0,9,     8.02,2,  2.5210
 3230CITHER2_1,  A17C,   104,  1,     11,     11,2,19940207,1523,-18.8427, -30.8802, 4507,   3200.2,   2.7200,  34.9200,2,  34.9140,2,    251.9,2,    252.6,2,    33.50,2,    20.87,2,     1.39,2,    0.010,2,    0.009,2, -999.000,9,-999.0000,9,  -999.00,9,   -999.0,9,   -999.0,9,     8.02,2,  2.4540
 3230CITHER2_1,  A17C,   104,  1,     10,     10,2,19940207,1523,-18.8427, -30.8802, 4507,   3398.9,   2.6180,  34.9130,2,  34.9130,2,    254.1,2,    253.3,2,    35.40,2,    21.01,2,     1.40,2,    0.009,2,    0.017,2, -999.000,9,-999.0000,9,  -999.00,9,   -999.0,9,   -999.0,9,     8.02,2,  2.3340
 3230CITHER2_1,  A17C,   104,  1,      9,      9,2,19940207,1523,-18.8427, -30.8802, 4507,   3599.3,   2.4710,  34.9000,2,  34.9000,2,    253.4,2,    253.2,2,    39.00,2,    21.32,2,     1.43,2,    0.013,2,    0.018,2, -999.000,9,-999.0000,9,  -999.00,9,   -999.0,9,   -999.0,9,     8.01,2,  2.1690
 3230CITHER2_1,  A17C,   104,  1,      8,      8,2,19940207,1523,-18.8427, -30.8802, 4507,   3798.7,   2.1760,  34.8710,2,  34.8690,2,    249.7,2,    248.5,2,    50.90,2,    22.89,2,     1.55,2,    0.005,2,    0.008,2, -999.000,9,-999.0000,9,  -999.00,9,   -999.0,9,   -999.0,9,     8.00,2,  1.8590
 3230CITHER2_1,  A17C,   104,  1,      7,      7,2,19940207,1523,-18.8427, -30.8802, 4507,   3899.5,   1.9500,  34.8480,2,  34.8490,2,    246.3,2,    244.5,2,    59.80,2,    23.95,2,     1.62,2,    0.007,2,    0.008,2, -999.000,9,-999.0000,9,  -999.00,9,   -999.0,9,   -999.0,9,     7.99,2,  1.6290
 3230CITHER2_1,  A17C,   104,  1,      6,      6,2,19940207,1523,-18.8427, -30.8802, 4507,   3999.0,   1.6970,  34.8210,2,  34.8200,2,    241.1,2,    239.8,2,    71.40,2,    25.62,2,     1.74,2,    0.007,2,    0.008,2, -999.000,9,-999.0000,9,  -999.00,9,   -999.0,9,   -999.0,9,     7.97,2,  1.3720
 3230CITHER2_1,  A17C,   104,  1,      5,      5,2,19940207,1523,-18.8427, -30.8802, 4507,   4097.2,   1.4780,  34.7990,2,  34.7960,2,    236.9,2,    236.0,2,    81.50,2,    26.99,2,     1.84,2,    0.012,2,    0.009,2, -999.000,9,-999.0000,9,  -999.00,9,   -999.0,9,   -999.0,9,     7.96,2,  1.1480
 3230CITHER2_1,  A17C,   104,  1,      4,      4,2,19940207,1523,-18.8427, -30.8802, 4507,   4198.4,   1.2410,  34.7730,2,  34.7740,2,    231.7,2,    231.4,2,    92.30,2,    28.52,2,     1.94,2,    0.011,2,    0.012,2, -999.000,9,-999.0000,9,  -999.00,9,   -999.0,9,   -999.0,9,     7.94,2,  0.9070
 3230CITHER2_1,  A17C,   104,  1,      3,      3,2,19940207,1523,-18.8427, -30.8802, 4507,   4398.4,   0.7470,  34.7200,2,  34.7200,2,    224.2,2,    224.1,2,   110.90,2,    31.13,2,     2.14,2,    0.044,2,    0.024,2, -999.000,9,-999.0000,9,  -999.00,9,   -999.0,9,   -999.0,9,     7.91,2,  0.4070
 3230CITHER2_1,  A17C,   104,  1,      2,      2,2,19940207,1523,-18.8427, -30.8802, 4507,   4498.1,   0.4280,  34.6910,2,  34.6900,2,    220.0,2,    221.0,2,   122.40,2,    32.61,2,     2.24,2,    0.091,2,    0.048,2, -999.000,9,-999.0000,9,  -999.00,9,   -999.0,9,   -999.0,9,     7.89,2,  0.0870
 3230CITHER2_1,  A17C,   104,  1,      1,      1,2,19940207,1523,-18.8427, -30.8802, 4507,   4557.0,   0.4340,  34.6910,2,  34.6880,2,    219.4,2,    221.2,2,   122.40,2,    32.68,2,     2.25,2,    0.083,2,    0.047,2, -999.000,9,-999.0000,9,  -999.00,9,   -999.0,9,   -999.0,9,     7.90,2,  0.0860
 3230CITHER2_1,  A17C,   105,  1,     32,     32,2,19940207,2113,-18.3533, -30.8553, 4582,      6.2,  27.7600,  37.4010,2,  37.4040,2,    189.1,2,    197.9,2,     1.40,2,     0.00,2,     0.14,2,    1.783,2,    1.045,2, -999.000,9,-999.0000,9,  -999.00,9,   2087.8,2,   2463.9,2,     8.38,2, 27.7590
 3230CITHER2_1,  A17C,   105,  1,     31,     31,2,19940207,2113,-18.3533, -30.8553, 4582,     36.3,  27.4720,  37.4000,2,  37.3950,2,    199.6,2,    199.6,2,     1.40,2,     0.00,2,     0.14,2,    1.791,2,    1.048,2, -999.000,9,-999.0000,9,  -999.00,9,   2088.0,2,   2462.6,2,     8.38,2, 27.4640
 3230CITHER2_1,  A17C,   105,  1,     30,     30,2,19940207,2113,-18.3533, -30.8553, 4582,    126.3,  22.9500,  36.8450,2,  36.8300,2,    207.4,2,    213.8,2,     1.40,2,     0.00,2,     0.17,2,    2.122,2,    1.205,2, -999.000,9,-999.0000,9,  -999.00,9,   2083.8,2,   2426.6,2,     8.34,2, 22.9240
 3230CITHER2_1,  A17C,   105,  1,     29,     29,2,19940207,2113,-18.3533, -30.8553, 4582,    201.1,  19.4280,  36.1950,2,  36.1920,2,    200.7,2,    202.5,2,     1.90,2,     1.25,2,     0.32,2,    2.399,2,    1.320,2, -999.000,9,-999.0000,9,  -999.00,9,   -999.0,5,   2385.3,2,     8.27,2, 19.3910
 3230CITHER2_1,  A17C,   105,  1,     28,     28,2,19940207,2113,-18.3533, -30.8553, 4582,    201.8,  19.0750,  36.1450,2,  36.1770,2,    200.3,2,    202.4,2,     1.90,2,     1.34,2,     0.32,2,    2.394,2,    1.322,2, -999.000,9,-999.0000,9,  -999.00,9,   2097.4,2,   2385.3,2,     8.27,2, 19.0390
 3230CITHER2_1,  A17C,   105,  1,     27,     27,2,19940207,2113,-18.3533, -30.8553, 4582,    300.6,  14.0470,  35.3050,2,  35.3130,2,    179.2,2,    186.9,2,     4.40,2,    10.73,2,     0.81,2,    2.276,2,    1.198,2, -999.000,9,-999.0000,9,  -999.00,9,   2115.1,2,   2330.2,2,     8.14,2, 14.0030
 3230CITHER2_1,  A17C,   105,  1,     26,     26,2,19940207,2113,-18.3533, -30.8553, 4582,    401.5,  10.9220,  34.9420,2,  34.9310,2,    166.8,2,    168.2,2,     8.50,2,    19.16,2,     1.33,2,    1.526,2,    0.819,2, -999.000,9,-999.0000,9,  -999.00,9,   2150.9,2,   2312.1,2,     8.03,2, 10.8720
 3230CITHER2_1,  A17C,   105,  1,     25,     25,2,19940207,2113,-18.3533, -30.8553, 4582,    601.9,   6.3030,  34.5030,2,  34.5030,2,    175.5,2,    169.9,2,    20.20,2,    29.22,2,     1.99,2,    0.512,2,    0.295,2, -999.000,9,-999.0000,9,  -999.00,9,   2190.3,2,   2303.9,2,     7.91,2,  6.2490
 3230CITHER2_1,  A17C,   105,  1,     24,     24,2,19940207,2113,-18.3533, -30.8553, 4582,    800.7,   4.1300,  34.4140,2,  34.4080,2,    182.5,2,    184.0,2,    33.90,2,    32.32,2,     2.20,2,    0.158,2,    0.087,2, -999.000,9,-999.0000,9,  -999.00,9,   2209.8,2,   2313.1,2,     7.88,2,  4.0700
 3230CITHER2_1,  A17C,   105,  1,     23,     23,2,19940207,2113,-18.3533, -30.8553, 4582,   1001.5,   3.6840,  34.5210,2,  34.5190,2,    180.9,2,    182.1,2,    39.50,2,    32.00,2,     2.18,2,    0.033,2,    0.024,2, -999.000,9,-999.0000,9,  -999.00,9,   2220.1,2,   2323.2,2,     7.88,2,  3.6110
 3230CITHER2_1,  A17C,   105,  1,     22,     22,2,19940207,2113,-18.3533, -30.8553, 4582,   1201.0,   3.8820,  34.7060,2,  34.7040,2,    188.0,2,    188.4,2,    33.90,2,    28.98,2,     1.96,2,    0.015,2,    0.017,2, -999.000,9,-999.0000,9,  -999.00,9,   2208.3,2,   2326.1,2,     7.91,2,  3.7900
 3230CITHER2_1,  A17C,   105,  1,     21,     21,2,19940207,2113,-18.3533, -30.8553, 4582,   1400.8,   4.0090,  34.8570,2,  34.8570,2,    211.3,2,    209.4,2,    26.80,2,    24.79,2,     1.68,2,    0.020,2,    0.017,2, -999.000,9,-999.0000,9,  -999.00,9,   2191.6,2,   2327.9,2,     7.96,2,  3.8980
 3230CITHER2_1,  A17C,   105,  1,     20,     20,2,19940207,2113,-18.3533, -30.8553, 4582,   1501.1,   3.9620,  34.9080,2,  34.9070,2,    223.8,2,    221.8,2,    24.10,2,    22.80,2,     1.55,2,    0.024,2,    0.019,2, -999.000,9,-999.0000,9,  -999.00,9,   2184.8,2,   2328.2,2,     7.98,2,  3.8420
 3230CITHER2_1,  A17C,   105,  1,     19,     19,2,19940207,2113,-18.3533, -30.8553, 4582,   1600.1,   3.8220,  34.9300,2,  34.9310,2,    232.7,2,    232.4,2,    23.20,2,    21.76,2,     1.45,2,    0.029,2,    0.026,2, -999.000,9,-999.0000,9,  -999.00,9,   2178.0,2,   2328.4,2,     7.99,2,  3.6950
 3230CITHER2_1,  A17C,   105,  1,     18,     18,2,19940207,2113,-18.3533, -30.8553, 4582,   1700.2,   3.7040,  34.9490,2,  34.9480,2,    240.2,2,    240.3,2,    22.30,2,    20.98,2,     1.39,2,    0.032,2,    0.027,2, -999.000,9,-999.0000,9,  -999.00,9,   2172.2,2,   2327.9,2,     8.01,2,  3.5690
 3230CITHER2_1,  A17C,   105,  1,     17,     17,2,19940207,2113,-18.3533, -30.8553, 4582,   1800.0,   3.5570,  34.9500,2,  34.9510,2,    244.4,2,    244.6,2,    22.60,2,    20.55,2,     1.37,2,    0.024,2,    0.016,2, -999.000,9,-999.0000,9,  -999.00,9,   2171.6,2,   2329.5,2,     8.01,2,  3.4150
 3230CITHER2_1,  A17C,   105,  1,     16,     16,2,19940207,2113,-18.3533, -30.8553, 4582,   2000.6,   3.3310,  34.9450,2,  34.9450,2,    247.2,2,    248.0,2,    24.90,2,    20.46,2,     1.36,2,    0.012,2,    0.015,2, -999.000,9,-999.0000,9,  -999.00,9,   2172.9,2,   2331.5,2,     8.01,2,  3.1730
 3230CITHER2_1,  A17C,   105,  1,     15,     15,2,19940207,2113,-18.3533, -30.8553, 4582,   2199.6,   3.1260,  34.9340,2,  34.9330,2,    247.6,2,    247.8,2,    28.20,2,    20.76,2,     1.38,2,    0.007,2,    0.012,2, -999.000,9,-999.0000,9,  -999.00,9,   2176.2,2,   2335.8,2,     8.01,2,  2.9530
 3230CITHER2_1,  A17C,   105,  1,     14,     14,2,19940207,2113,-18.3533, -30.8553, 4582,   2399.6,   2.9910,  34.9290,2,  34.9310,2,    248.3,2,    248.6,2,    30.10,2,    20.68,2,     1.38,2,    0.007,2,    0.012,2, -999.000,9,-999.0000,9,  -999.00,9,   2177.5,2,   2335.9,2,     8.01,2,  2.8010
 3230CITHER2_1,  A17C,   105,  1,     13,     13,2,19940207,2113,-18.3533, -30.8553, 4582,   2599.9,   2.8780,  34.9240,2,  34.9220,2,    247.6,2,    248.0,2,    32.70,2,    20.89,2,     1.40,2,    0.005,2,    0.006,2, -999.000,9,-999.0000,9,  -999.00,9,   2180.3,2,   2337.9,2,     8.02,2,  2.6710
 3230CITHER2_1,  A17C,   105,  1,     12,     12,2,19940207,2113,-18.3533, -30.8553, 4582,   2799.7,   2.8080,  34.9200,2,  34.9210,2,    248.2,2,    248.3,2,    33.90,2,    20.89,2,     1.41,2,    0.006,2,    0.005,2, -999.000,9,-999.0000,9,  -999.00,9,   2181.6,2,   2341.1,2,     8.02,2,  2.5820
 3230CITHER2_1,  A17C,   105,  1,     11,     11,2,19940207,2113,-18.3533, -30.8553, 4582,   2999.0,   2.7370,  34.9160,2,  34.9180,2,    248.0,2,    248.8,2,    35.00,2,    20.98,2,     1.40,2,    0.007,2,    0.009,2, -999.000,9,-999.0000,9,  -999.00,9,   2182.5,2,   2342.5,2,     8.02,2,  2.4920
 3230CITHER2_1,  A17C,   105,  1,     10,     10,2,19940207,2113,-18.3533, -30.8553, 4582,   3198.7,   2.6660,  34.9140,2,  34.9150,2,    250.3,2,    250.7,2,    35.60,2,    21.07,2,     1.40,2,    0.006,2,    0.008,2, -999.000,9,-999.0000,9,  -999.00,9,   2182.5,2,   2342.3,2,     8.02,2,  2.4020
 3230CITHER2_1,  A17C,   105,  1,      9,      9,2,19940207,2113,-18.3533, -30.8553, 4582,   3399.5,   2.5890,  34.9110,2,  34.9120,2,    252.6,2,    250.2,2,    36.10,2,    21.07,2,     1.39,2,    0.009,2,    0.012,2, -999.000,9,-999.0000,9,  -999.00,9,   2181.8,2,   2341.8,2,     8.02,2,  2.3050
 3230CITHER2_1,  A17C,   105,  1,      8,      8,2,19940207,2113,-18.3533, -30.8553, 4582,   3598.4,   2.4440,  34.8980,2,  34.8990,2,    253.0,2,    252.3,2,    39.80,2,    21.07,2,     1.42,2,    0.007,2,    0.013,2, -999.000,9,-999.0000,9,  -999.00,9,   2185.3,2,   2344.5,2,     8.01,2,  2.1420
 3230CITHER2_1,  A17C,   105,  1,      7,      7,2,19940207,2113,-18.3533, -30.8553, 4582,   3799.5,   2.1640,  34.8680,2,  34.8710,2,    249.3,2,    248.5,2,    50.10,2,    22.36,2,     1.52,2,    0.007,2,    0.009,2, -999.000,9,-999.0000,9,  -999.00,9,   2194.8,2,   2349.2,2,     8.01,2,  1.8480
 3230CITHER2_1,  A17C,   105,  1,      6,      6,2,19940207,2113,-18.3533, -30.8553, 4582,   3898.0,   1.9720,  34.8480,2,  34.8510,2,    246.2,2,    244.9,2,    58.50,2,    23.49,2,     1.61,2,    0.003,2,    0.009,2, -999.000,9,-999.0000,9,  -999.00,9,   2203.3,2,   2352.6,2,     7.99,2,  1.6500
 3230CITHER2_1,  A17C,   105,  1,      5,      5,2,19940207,2113,-18.3533, -30.8553, 4582,   3999.1,   1.7270,  34.8220,2,  34.8250,2,    241.3,2,    240.7,2,    68.70,2,    24.84,2,     1.71,2,    0.002,2,    0.007,2, -999.000,9,-999.0000,9,  -999.00,9,   2213.4,2,   2358.0,2,     7.98,2,  1.4010
 3230CITHER2_1,  A17C,   105,  1,      4,      4,2,19940207,2113,-18.3533, -30.8553, 4582,   4199.4,   1.3130,  34.7780,2,  34.7790,2,    233.2,2,    232.9,2,    87.00,2,    27.47,2,     1.87,2,    0.008,2,    0.007,2, -999.000,9,-999.0000,9,  -999.00,9,   2230.6,2,   2364.9,2,     7.96,2,  0.9770
 3230CITHER2_1,  A17C,   105,  1,      3,      3,2,19940207,2113,-18.3533, -30.8553, 4582,   4398.1,   0.9830,  34.7410,2,  34.7450,2,    227.1,2,    227.1,2,    98.80,2,    29.63,2,     2.02,2,    0.024,2,    0.018,2, -999.000,9,-999.0000,9,  -999.00,9,   2244.7,2,   2370.5,2,     7.93,2,  0.6350
 3230CITHER2_1,  A17C,   105,  1,      2,      2,2,19940207,2113,-18.3533, -30.8553, 4582,   4538.5,   0.3760,  34.6850,2,  34.6880,2,    220.0,2,    221.8,2,   121.60,2,    32.32,2,     2.22,2,    0.095,2,    0.058,2, -999.000,9,-999.0000,9,  -999.00,9,   2262.2,2,   2376.2,2,     7.90,2,  0.0320
 3230CITHER2_1,  A17C,   105,  1,      1,      1,2,19940207,2113,-18.3533, -30.8553, 4582,   4638.8,   0.3730,  34.6840,2,  34.6850,2,    218.3,2,    221.8,2,   122.60,2,    32.32,2,     2.22,2,    0.098,2,    0.054,2, -999.000,9,-999.0000,9,  -999.00,9,   2263.2,2,   2374.4,2,     7.91,2,  0.0180