BOTTLE,20030515WHPSIOSA
EXPOCODE,SECT_ID,STNNBR,CASTNO,SAMPNO,BTLNBR,BTLNBR_FLAG_W,DATE,TIME,LATITUDE,LONGITUDE,DEPTH,CTDPRS,CTDTMP,CTDSAL,CTDSAL_FLAG_W,SALNTY,SALNTY_FLAG_W,CTDOXY,CTDOXY_FLAG_W,OXYGEN,OXYGEN_FLAG_W,SILCAT,SILCAT_FLAG_W,NITRAT,NITRAT_FLAG_W,PHSPHT,PHSPHT_FLAG_W,CFC-11,CFC-11_FLAG_W,CFC-12,CFC-12_FLAG_W,TRITUM,TRITUM_FLAG_W,HELIUM,HELIUM_FLAG_W,DELHE3,DELHE3_FLAG_W,TCARBN,TCARBN_FLAG_W,ALKALI,ALKALI_FLAG_W,PH,PH_FLAG_W,THETA
,,,,,,,,,,,,DBAR,ITS-90,PSS-78,,PSS-78,,UMOL/KG,,UMOL/KG,,UMOL/KG,,UMOL/KG,,UMOL/KG,,PMOL/KG,,PMOL/KG,,TU,,NMOL/KG,,PERCNT,,UMOL/KG,,UMOL/KG,,,,DEG C
 3230CITHER2_2,  A17N,   195,  1,     32,     32,2,19940310,1240,  5.6667, -41.4802, 4696,      6.9,  26.4580,  36.0760,2,  36.0770,2,    198.6,2,    202.0,2,     1.70,2,     0.04,2,     0.03,2,    1.753,2,    0.998,2, -999.000,9,-999.0000,9,  -999.00,9,   2004.1,2,   2370.9,2,     8.39,2, 26.4560
 3230CITHER2_2,  A17N,   195,  1,     31,     31,2,19940310,1240,  5.6667, -41.4802, 4696,     50.5,  26.3930,  36.0730,2,  36.0740,2,    204.9,2,    201.6,2,     1.60,2,     0.04,2,     0.02,2,    1.745,2,    0.983,2, -999.000,9,-999.0000,9,  -999.00,9,   2003.4,2,   2369.2,2,     8.39,2, 26.3820
 3230CITHER2_2,  A17N,   195,  1,     30,     30,2,19940310,1240,  5.6667, -41.4802, 4696,     96.8,  24.8790,  36.1920,2,  36.1810,2,    206.8,2,    192.5,2,     1.90,2,     0.52,2,     0.08,2,    1.727,2,    0.968,2, -999.000,9,-999.0000,9,  -999.00,9,   2022.4,2,   2377.6,2,     8.36,2, 24.8580
 3230CITHER2_2,  A17N,   195,  1,     29,     29,2,19940310,1240,  5.6667, -41.4802, 4696,    200.4,  10.8460,  35.0780,2,  35.0780,2,    120.5,2,    124.2,2,    12.10,2,    23.97,2,     1.61,2,    0.836,2,    0.451,2, -999.000,9,-999.0000,9,  -999.00,9,   2182.6,2,   2322.9,2,     7.96,2, 10.8210
 3230CITHER2_2,  A17N,   195,  1,     28,     28,2,19940310,1240,  5.6667, -41.4802, 4696,    300.3,   9.1930,  34.8650,2,  34.8620,2,    115.0,2,    113.0,2,    15.60,2,    29.13,2,     1.91,2,    0.464,2,    0.247,2, -999.000,9,-999.0000,9,  -999.00,9,   2204.8,2,   2310.8,2,     7.88,2,  9.1600
 3230CITHER2_2,  A17N,   195,  1,     27,     27,2,19940310,1240,  5.6667, -41.4802, 4696,    401.1,   8.3880,  34.7900,2,  34.7880,2,    107.2,2,    104.7,2,    17.80,2,    32.56,2,     2.05,2,    0.287,2,    0.155,2, -999.000,9,-999.0000,9,  -999.00,9,   2213.7,2,   2312.5,2,     7.85,2,  8.3460
 3230CITHER2_2,  A17N,   195,  1,     26,     26,2,19940310,1240,  5.6667, -41.4802, 4696,    600.7,   6.5350,  34.6280,2,  34.6270,2,    120.6,2,    117.1,2,    23.50,2,    34.40,2,     2.27,2,    0.086,2,    0.049,2, -999.000,9,-999.0000,9,  -999.00,9,   2221.8,2,   2309.1,2,     7.83,2,  6.4800
 3230CITHER2_2,  A17N,   195,  1,     25,     25,2,19940310,1240,  5.6667, -41.4802, 4696,    799.9,   5.4340,  34.5810,2,  34.5840,2,    132.6,2,    130.0,2,    28.10,2,    34.52,2,     2.34,2,    0.033,2,    0.015,2, -999.000,9,-999.0000,9,  -999.00,9,   2224.3,2,   2313.5,2,     7.82,2,  5.3660
 3230CITHER2_2,  A17N,   195,  1,     24,     24,2,19940310,1240,  5.6667, -41.4802, 4696,   1000.1,   4.9750,  34.7130,2,  34.7040,2,    146.5,2,    145.4,2,    28.90,2,    33.40,2,     2.21,2,    0.020,2,    0.004,2, -999.000,9,-999.0000,9,  -999.00,9,   2220.9,2,   2321.5,2,     7.86,2,  4.8920
 3230CITHER2_2,  A17N,   195,  1,     23,     23,2,19940310,1240,  5.6667, -41.4802, 4696,   1200.3,   4.7710,  34.8810,2,  34.8820,2,    180.8,2,    183.7,2,    23.80,2,    27.22,2,     1.79,2,    0.028,2,    0.014,2, -999.000,9,-999.0000,9,  -999.00,9,   2197.5,2,   2326.6,2,     7.92,2,  4.6710
 3230CITHER2_2,  A17N,   195,  1,     22,     22,2,19940310,1240,  5.6667, -41.4802, 4696,   1399.3,   4.4530,  34.9630,2,  34.9660,2,    215.9,2,    218.3,2,    19.60,2,    22.80,2,     1.50,2,    0.049,2,    0.035,2, -999.000,9,-999.0000,9,  -999.00,9,   2179.0,2,   2327.3,2,     7.98,2,  4.3370
 3230CITHER2_2,  A17N,   195,  1,     21,     21,2,19940310,1240,  5.6667, -41.4802, 4696,   1499.6,   4.3800,  34.9860,2,  34.9840,2,    228.7,2,    230.6,2,    18.00,2,    21.46,2,     1.41,2,    0.082,2,    0.048,2, -999.000,9,-999.0000,9,  -999.00,9,   2173.2,2,   2327.4,2,     7.99,2,  4.2560
 3230CITHER2_2,  A17N,   195,  1,     20,     20,2,19940310,1240,  5.6667, -41.4802, 4696,   1599.7,   4.1550,  34.9870,2,  34.9860,2,    238.5,2,    239.5,2,    17.50,2,    20.51,2,     1.35,2,    0.072,2,    0.041,2, -999.000,9,-999.0000,9,  -999.00,9,   2168.5,2,   2327.8,2,     8.01,2,  4.0240
 3230CITHER2_2,  A17N,   195,  1,     19,     19,2,19940310,1240,  5.6667, -41.4802, 4696,   1699.6,   3.9510,  34.9840,2,  34.9840,2,    244.1,2,    248.5,2,    17.70,2,    20.12,2,     1.32,2,    0.120,2,    0.069,2, -999.000,9,-999.0000,9,  -999.00,9,   2165.2,2,   2328.5,2,     8.02,2,  3.8130
 3230CITHER2_2,  A17N,   195,  1,     18,     18,2,19940310,1240,  5.6667, -41.4802, 4696,   1801.5,   3.7600,  34.9790,2,  34.9800,2,    247.5,2,    249.4,2,    18.70,2,    19.81,2,     1.31,2,    0.036,2,    0.024,2, -999.000,9,-999.0000,9,  -999.00,9,   2162.6,2,   2328.4,2,     8.02,2,  3.6150
 3230CITHER2_2,  A17N,   195,  1,     17,     17,2,19940310,1240,  5.6667, -41.4802, 4696,   2000.4,   3.5070,  34.9710,2,  34.9720,2,    251.3,2,    252.8,2,    20.40,2,    19.57,2,     1.30,2,    0.023,2,    0.011,2, -999.000,9,-999.0000,9,  -999.00,9,   2164.5,2,   2330.5,2,     8.03,2,  3.3470
 3230CITHER2_2,  A17N,   195,  1,     16,     16,2,19940310,1240,  5.6667, -41.4802, 4696,   2199.0,   3.2850,  34.9630,2,  34.9630,2,    254.3,2,    255.2,2,    22.00,2,    19.42,2,     1.29,2,    0.024,2,    0.018,2, -999.000,9,-999.0000,9,  -999.00,9,   2165.6,2,   2330.3,2,     8.03,2,  3.1090
 3230CITHER2_2,  A17N,   195,  1,     15,     15,2,19940310,1240,  5.6667, -41.4802, 4696,   2398.8,   3.0640,  34.9500,2,  34.9490,2,    254.0,2,    254.8,2,    25.10,2,    19.66,2,     1.32,2,    0.011,2,    0.003,2, -999.000,9,-999.0000,9,  -999.00,9,   2168.6,2,   2335.0,2,     8.03,2,  2.8730
 3230CITHER2_2,  A17N,   195,  1,     14,     14,2,19940310,1240,  5.6667, -41.4802, 4696,   2699.9,   2.8710,  34.9390,2,  34.9380,2,    254.6,2,    256.2,2,    27.50,2,    19.67,2,     1.32,2,    0.012,2,    0.008,2, -999.000,9,-999.0000,9,  -999.00,9,   2171.2,2,   2337.4,2,     8.03,2,  2.6540
 3230CITHER2_2,  A17N,   195,  1,     13,     13,2,19940310,1240,  5.6667, -41.4802, 4696,   2999.5,   2.7420,  34.9310,2,  34.9310,2,    256.9,2,    258.0,2,    28.40,2,    19.44,2,     1.32,2,    0.041,2,    0.020,2, -999.000,9,-999.0000,9,  -999.00,9,   2171.7,2,   2337.2,2,     8.03,2,  2.4970
 3230CITHER2_2,  A17N,   195,  1,     12,     12,2,19940310,1240,  5.6667, -41.4802, 4696,   3198.5,   2.6560,  34.9250,2,  34.9280,2,    258.5,2,    258.9,2,    29.10,2,    19.48,2,     1.31,2,    0.058,2,    0.032,2, -999.000,9,-999.0000,9,  -999.00,9,   2172.0,2,   2338.9,2,     8.03,2,  2.3920
 3230CITHER2_2,  A17N,   195,  1,     11,     11,2,19940310,1240,  5.6667, -41.4802, 4696,   3397.7,   2.5350,  34.9170,2,  34.9180,2,    258.8,2,    258.3,2,    31.10,2,    19.69,2,     1.32,2,    0.049,2,    0.027,2, -999.000,9,-999.0000,9,  -999.00,9,   2175.2,2,   2340.9,2,     8.03,2,  2.2530
 3230CITHER2_2,  A17N,   195,  1,     10,     10,2,19940310,1240,  5.6667, -41.4802, 4696,   3549.2,   2.4300,  34.9100,2,  34.9100,2,    260.3,2,    261.7,2,    31.40,2,    19.37,2,     1.32,2,    0.061,2,    0.033,2, -999.000,9,-999.0000,9,  -999.00,9,   2175.2,2,   2340.9,2,     8.03,2,  2.1340
 3230CITHER2_2,  A17N,   195,  1,      9,      9,2,19940310,1240,  5.6667, -41.4802, 4696,   3699.0,   2.3150,  34.9010,2,  34.9020,2,    261.4,2,    262.5,2,    32.40,2,    19.34,2,     1.32,2,    0.074,2,    0.044,2, -999.000,9,-999.0000,9,  -999.00,9,   2175.7,2,   2342.5,2,     8.03,2,  2.0060
 3230CITHER2_2,  A17N,   195,  1,      8,      8,2,19940310,1240,  5.6667, -41.4802, 4696,   3849.0,   2.2530,  34.8970,2,  34.8970,2,    262.5,2,    262.9,2,    33.10,2,    19.60,2,     1.31,2,    0.102,2,    0.062,2, -999.000,9,-999.0000,9,  -999.00,9,   2178.2,2,   2342.9,2,     8.02,2,  1.9290
 3230CITHER2_2,  A17N,   195,  1,      7,      7,2,19940310,1240,  5.6667, -41.4802, 4696,   3998.6,   2.2080,  34.8900,2,  34.8900,2,    262.2,2,    261.6,2,    35.40,2,    19.71,2,     1.34,2,    0.102,2,    0.058,2, -999.000,9,-999.0000,9,  -999.00,9,   2179.4,2,   2341.9,2,     8.02,2,  1.8680
 3230CITHER2_2,  A17N,   195,  1,      6,      6,2,19940310,1240,  5.6667, -41.4802, 4696,   4197.9,   2.1940,  34.8860,2,  34.8870,2,    260.8,2,    259.9,2,    37.80,2,    20.04,2,     1.37,2,    0.093,2,    0.058,2, -999.000,9,-999.0000,9,  -999.00,9,   2182.9,2,   2346.3,2,     8.02,2,  1.8320
 3230CITHER2_2,  A17N,   195,  1,      5,      5,2,19940310,1240,  5.6667, -41.4802, 4696,   4398.7,   2.1220,  34.8760,2,  34.8750,2,    257.8,2,    256.2,2,    43.10,2,    20.92,2,     1.42,2,    0.070,2,    0.049,2, -999.000,9,-999.0000,9,  -999.00,9,   2188.5,2,   2351.3,2,     8.01,2,  1.7380
 3230CITHER2_2,  A17N,   195,  1,      4,      4,2,19940310,1240,  5.6667, -41.4802, 4696,   4598.5,   1.5260,  34.8030,2,  34.8040,2,    241.9,2,    239.5,2,    74.90,2,    25.14,2,     1.76,2,    0.027,2,    0.015,2, -999.000,9,-999.0000,9,  -999.00,9,   2220.5,2,   2364.1,2,     7.97,2,  1.1380
 3230CITHER2_2,  A17N,   195,  1,      3,      3,2,19940310,1240,  5.6667, -41.4802, 4696,   4697.9,   1.4630,  34.7950,2,  34.7960,2,    238.5,2,    237.5,2,    78.90,2,    25.87,2,     1.80,2,    0.022,2,    0.011,2, -999.000,9,-999.0000,9,  -999.00,9,   2222.5,2,   2365.7,2,     7.96,2,  1.0650
 3230CITHER2_2,  A17N,   195,  1,      1,      1,2,19940310,1240,  5.6667, -41.4802, 4696,   4760.1,   1.4710,  34.7940,2,  34.7970,2,    238.1,2,    238.1,2,    78.90,2,    25.99,2,     1.80,2,    0.020,2,    0.013,2, -999.000,9,-999.0000,9,  -999.00,9,   2225.1,2,   2366.9,2,     7.96,2,  1.0660
 3230CITHER2_2,  A17N,   195,  1,      2,      2,2,19940310,1240,  5.6667, -41.4802, 4696,   4760.8,   1.4710,  34.7940,2,  34.7960,2,    238.2,2,    237.4,2,    79.10,2,    25.93,2,     1.80,2,    0.022,2,    0.011,2, -999.000,9,-999.0000,9,  -999.00,9,   -999.0,5,   2366.9,2,     7.96,2,  1.0660
 3230CITHER2_2,  A17N,   196,  1,     32,     32,2,19940310,1855,  5.9583, -41.9853, 4707,     10.7,  26.6890,  36.0200,2,  36.0210,2,    196.2,2,    201.0,2,     1.80,2,     0.04,2,     0.04,2,    1.706,2,    0.974,2, -999.000,9,-999.0000,9,  -999.00,9,   2010.2,2,   -999.0,9,     8.38,2, 26.6870
 3230CITHER2_2,  A17N,   196,  1,     31,     31,2,19940310,1855,  5.9583, -41.9853, 4707,     81.1,  26.6290,  36.0150,2,  36.0170,2,    202.7,2,    200.1,2,     1.80,2,     0.04,2,     0.05,2,    1.691,2,    0.953,2, -999.000,9,-999.0000,9,  -999.00,9,   2011.6,2,   -999.0,9,     8.38,2, 26.6110
 3230CITHER2_2,  A17N,   196,  1,     30,     30,2,19940310,1855,  5.9583, -41.9853, 4707,    201.0,  10.7810,  35.0650,2,  35.0550,2,    122.7,2,    123.4,2,    12.20,2,    25.18,2,     1.64,2,    0.820,2,    0.439,2, -999.000,9,-999.0000,9,  -999.00,9,   2183.5,2,   -999.0,9,     7.96,2, 10.7570
 3230CITHER2_2,  A17N,   196,  1,     29,     29,2,19940310,1855,  5.9583, -41.9853, 4707,    300.3,   9.1770,  34.8550,2,  34.8580,2,    118.9,2,    117.2,2,    15.10,2,    29.33,2,     1.87,2,    0.525,2,    0.284,2, -999.000,9,-999.0000,9,  -999.00,9,   2191.7,2,   -999.0,9,     7.91,2,  9.1440
 3230CITHER2_2,  A17N,   196,  1,     28,     28,2,19940310,1855,  5.9583, -41.9853, 4707,    401.1,   8.2520,  34.7820,2,  34.7860,2,    118.0,2,    105.1,2,    18.00,2,    32.74,2,     2.06,2,    0.268,2,    0.148,2, -999.000,9,-999.0000,9,  -999.00,9,   2212.9,2,   -999.0,9,     7.87,2,  8.2100
 3230CITHER2_2,  A17N,   196,  1,     27,     27,2,19940310,1855,  5.9583, -41.9853, 4707,    499.5,   7.1020,  34.6570,2,  34.6580,2,    122.9,2,    124.9,2,    21.00,2,    33.03,2,     2.14,2,    0.244,2,    0.136,2, -999.000,9,-999.0000,9,  -999.00,9,   2211.9,2,   -999.0,9,     7.86,2,  7.0540
 3230CITHER2_2,  A17N,   196,  1,     26,     26,2,19940310,1855,  5.9583, -41.9853, 4707,    601.4,   6.4470,  34.6150,2,  34.6120,2,    126.8,2,    124.8,2,    23.60,2,    34.26,2,     2.23,2,    0.124,2,    0.068,2, -999.000,9,-999.0000,9,  -999.00,9,   2217.0,2,   -999.0,9,     7.86,2,  6.3920
 3230CITHER2_2,  A17N,   196,  1,     25,     25,2,19940310,1855,  5.9583, -41.9853, 4707,    801.3,   5.2680,  34.5970,2,  34.6020,2,    136.5,2,    135.1,2,    28.60,2,    34.61,2,     2.31,2,    0.026,2,    0.015,2, -999.000,9,-999.0000,9,  -999.00,9,   2224.5,2,   -999.0,9,     7.86,2,  5.2010
 3230CITHER2_2,  A17N,   196,  1,     24,     24,2,19940310,1855,  5.9583, -41.9853, 4707,   1001.0,   4.9060,  34.7440,2,  34.7400,2,    153.7,2,    154.7,2,    27.80,2,    32.01,2,     2.10,2,    0.009,2,    0.006,2, -999.000,9,-999.0000,9,  -999.00,9,   2214.1,2,   -999.0,9,     7.89,2,  4.8230
 3230CITHER2_2,  A17N,   196,  1,     23,     23,2,19940310,1855,  5.9583, -41.9853, 4707,   1199.2,   4.7510,  34.8710,2,  34.8680,2,    177.9,2,    179.5,2,    23.90,2,    27.20,2,     1.84,2,    0.010,2,    0.009,2, -999.000,9,-999.0000,9,  -999.00,9,   -999.0,9,   -999.0,9,     7.94,2,  4.6510
 3230CITHER2_2,  A17N,   196,  1,     22,     22,2,19940310,1855,  5.9583, -41.9853, 4707,   1400.5,   4.4610,  34.9650,2,  34.9620,2,    218.0,2,    218.9,2,    19.00,2,    22.45,2,     1.50,2,    0.047,2,    0.029,2, -999.000,9,-999.0000,9,  -999.00,9,   -999.0,9,   -999.0,9,     7.99,2,  4.3450
 3230CITHER2_2,  A17N,   196,  1,     21,     21,2,19940310,1855,  5.9583, -41.9853, 4707,   1501.1,   4.2770,  34.9790,2,  34.9790,2,    232.2,2,    232.7,2,    17.80,2,    20.72,2,     1.38,2,    0.056,2,    0.034,2, -999.000,9,-999.0000,9,  -999.00,9,   -999.0,9,   -999.0,9,     8.01,2,  4.1540
 3230CITHER2_2,  A17N,   196,  1,     20,     20,2,19940310,1855,  5.9583, -41.9853, 4707,   1599.7,   4.1250,  34.9810,2,  34.9810,2,    238.4,2,    239.1,2,    17.50,2,    19.97,2,     1.36,2,    0.056,2,    0.032,2, -999.000,9,-999.0000,9,  -999.00,9,   -999.0,9,   -999.0,9,     8.02,2,  3.9940
 3230CITHER2_2,  A17N,   196,  1,     19,     19,2,19940310,1855,  5.9583, -41.9853, 4707,   1699.8,   3.9570,  34.9810,2,  34.9830,2,    245.1,2,    245.5,2,    17.50,2,    19.57,2,     1.32,2,    0.050,2,    0.033,2, -999.000,9,-999.0000,9,  -999.00,9,   -999.0,9,   -999.0,9,     8.02,2,  3.8190
 3230CITHER2_2,  A17N,   196,  1,     18,     18,2,19940310,1855,  5.9583, -41.9853, 4707,   1799.1,   3.8110,  34.9800,2,  34.9810,2,    249.9,2,    250.2,2,    17.70,2,    19.20,2,     1.30,2,    0.051,2,    0.032,2, -999.000,9,-999.0000,9,  -999.00,9,   -999.0,9,   -999.0,9,     8.03,2,  3.6650
 3230CITHER2_2,  A17N,   196,  1,     17,     17,2,19940310,1855,  5.9583, -41.9853, 4707,   1999.7,   3.5270,  34.9690,2,  34.9700,2,    253.5,2,    253.5,2,    20.20,2,    19.03,2,     1.29,2,    0.025,2,    0.019,2, -999.000,9,-999.0000,9,  -999.00,9,   -999.0,9,   -999.0,9,     8.03,2,  3.3670
 3230CITHER2_2,  A17N,   196,  1,     16,     16,2,19940310,1855,  5.9583, -41.9853, 4707,   2200.2,   3.2770,  34.9600,2,  34.9540,2,    255.8,2,    255.7,2,    22.20,2,    19.03,2,     1.29,2,    0.023,2,    0.017,2, -999.000,9,-999.0000,9,  -999.00,9,   -999.0,9,   -999.0,9,     8.04,2,  3.1010
 3230CITHER2_2,  A17N,   196,  1,     15,     15,2,19940310,1855,  5.9583, -41.9853, 4707,   2399.9,   3.1160,  34.9520,2,  34.9510,2,    255.8,2,    256.9,2,    24.00,2,    19.22,2,     1.30,2,    0.018,2,    0.012,2, -999.000,9,-999.0000,9,  -999.00,9,   -999.0,9,   -999.0,9,     8.04,2,  2.9240
 3230CITHER2_2,  A17N,   196,  1,     14,     14,2,19940310,1855,  5.9583, -41.9853, 4707,   2699.6,   2.9290,  34.9400,2,  34.9390,2,    256.6,2,    256.4,2,    26.80,2,    19.18,2,     1.32,2,    0.013,2,    0.011,2, -999.000,9,-999.0000,9,  -999.00,9,   -999.0,9,   -999.0,9,     8.04,2,  2.7110
 3230CITHER2_2,  A17N,   196,  1,     13,     13,2,19940310,1855,  5.9583, -41.9853, 4707,   2999.0,   2.7450,  34.9300,2,  34.9270,2,    257.5,2,    258.1,2,    28.60,2,    19.45,2,     1.31,2,    0.028,2,    0.015,2, -999.000,9,-999.0000,9,  -999.00,9,   -999.0,9,   -999.0,9,     8.04,2,  2.5000
 3230CITHER2_2,  A17N,   196,  1,     12,     12,2,19940310,1855,  5.9583, -41.9853, 4707,   3198.5,   2.6640,  34.9240,2,  34.9220,2,    258.3,2,    258.7,2,    29.50,2,    19.28,2,     1.32,2,    0.035,2,    0.024,2, -999.000,9,-999.0000,9,  -999.00,9,   -999.0,9,   -999.0,9,     8.04,2,  2.4000
 3230CITHER2_2,  A17N,   196,  1,     11,     11,2,19940310,1855,  5.9583, -41.9853, 4707,   3398.3,   2.5580,  34.9170,2,  34.9160,2,    260.1,2,    260.3,2,    30.20,2,    19.36,2,     1.32,2,    0.062,2,    0.038,2, -999.000,9,-999.0000,9,  -999.00,9,   -999.0,9,   -999.0,9,     8.04,2,  2.2750
 3230CITHER2_2,  A17N,   196,  1,     10,     10,2,19940310,1855,  5.9583, -41.9853, 4707,   3550.1,   2.4560,  34.9080,2,  34.9100,2,    260.9,2,    260.7,2,    31.40,2,    19.35,2,     1.31,2,    0.054,2,    0.032,2, -999.000,9,-999.0000,9,  -999.00,9,   -999.0,9,   -999.0,9,     8.04,2,  2.1590
 3230CITHER2_2,  A17N,   196,  1,      9,      9,2,19940310,1855,  5.9583, -41.9853, 4707,   3699.0,   2.3630,  34.9030,2,  34.9020,2,    262.2,2,    262.6,2,    32.30,2,    19.69,2,     1.30,2,    0.056,2,    0.035,2, -999.000,9,-999.0000,9,  -999.00,9,   -999.0,9,   -999.0,9,     8.03,2,  2.0520
 3230CITHER2_2,  A17N,   196,  1,      8,      8,2,19940310,1855,  5.9583, -41.9853, 4707,   3848.9,   2.3170,  34.8990,2,  34.8990,2,    262.3,2,    262.2,2,    33.00,2,    19.26,2,     1.32,2,    0.060,2,    0.039,2, -999.000,9,-999.0000,9,  -999.00,9,   -999.0,9,   -999.0,9,     8.03,2,  1.9910
 3230CITHER2_2,  A17N,   196,  1,      7,      7,2,19940310,1855,  5.9583, -41.9853, 4707,   3997.3,   2.2640,  34.8920,2,  34.8940,2,    261.8,2,    267.4,2,    34.60,2,    19.49,2,     1.33,2,    0.067,2,    0.043,2, -999.000,9,-999.0000,9,  -999.00,9,   -999.0,9,   -999.0,9,     8.03,2,  1.9230
 3230CITHER2_2,  A17N,   196,  1,      6,      6,2,19940310,1855,  5.9583, -41.9853, 4707,   4198.0,   2.1800,  34.8830,2,  34.8830,2,    260.0,2,    259.4,2,    38.90,2,    20.17,2,     1.37,2,    0.075,2,    0.045,2, -999.000,9,-999.0000,9,  -999.00,9,   -999.0,9,   -999.0,9,     8.03,2,  1.8180
 3230CITHER2_2,  A17N,   196,  1,      5,      5,2,19940310,1855,  5.9583, -41.9853, 4707,   4397.8,   1.9250,  34.8500,2,  34.8480,2,    252.0,2,    251.7,2,    53.50,2,    22.37,2,     1.54,2,    0.044,2,    0.029,2, -999.000,9,-999.0000,9,  -999.00,9,   -999.0,9,   -999.0,9,     8.00,2,  1.5480
 3230CITHER2_2,  A17N,   196,  1,      4,      4,2,19940310,1855,  5.9583, -41.9853, 4707,   4598.4,   1.4750,  34.7960,2,  34.7970,2,    239.6,2,    238.2,2,    77.10,2,    25.70,2,     1.78,2,    0.022,2,    0.013,2, -999.000,9,-999.0000,9,  -999.00,9,   -999.0,9,   -999.0,9,     7.97,2,  1.0890
 3230CITHER2_2,  A17N,   196,  1,      2,      2,2,19940310,1855,  5.9583, -41.9853, 4707,   4697.9,   1.4150,  34.7860,2,  34.7870,2,    236.6,2,    236.8,2,    80.80,2,    26.08,2,     1.82,2,    0.017,2,    0.011,2, -999.000,9,-999.0000,9,  -999.00,9,   -999.0,9,   -999.0,9,     7.97,2,  1.0190
 3230CITHER2_2,  A17N,   196,  1,      3,      3,2,19940310,1855,  5.9583, -41.9853, 4707,   4699.0,   1.4160,  34.7870,2,  34.7880,2,    236.5,2,    236.3,2,    80.70,2,    26.00,2,     1.82,2,    0.019,2,    0.012,2, -999.000,9,-999.0000,9,  -999.00,9,   -999.0,9,   -999.0,9,     7.97,2,  1.0200
 3230CITHER2_2,  A17N,   196,  1,      1,      1,2,19940310,1855,  5.9583, -41.9853, 4707,   4771.9,   1.4130,  34.7860,2,  34.7860,2,    235.8,2,    236.7,2,    81.40,2,    25.93,2,     1.82,2,    0.019,2,    0.011,2, -999.000,9,-999.0000,9,  -999.00,9,   -999.0,9,   -999.0,9,     7.98,2,  1.0080