BOTTLE,20030515WHPSIOSA
EXPOCODE,SECT_ID,STNNBR,CASTNO,SAMPNO,BTLNBR,BTLNBR_FLAG_W,DATE,TIME,LATITUDE,LONGITUDE,DEPTH,CTDPRS,CTDTMP,CTDSAL,CTDSAL_FLAG_W,SALNTY,SALNTY_FLAG_W,CTDOXY,CTDOXY_FLAG_W,OXYGEN,OXYGEN_FLAG_W,SILCAT,SILCAT_FLAG_W,NITRAT,NITRAT_FLAG_W,PHSPHT,PHSPHT_FLAG_W,CFC-11,CFC-11_FLAG_W,CFC-12,CFC-12_FLAG_W,TRITUM,TRITUM_FLAG_W,HELIUM,HELIUM_FLAG_W,DELHE3,DELHE3_FLAG_W,TCARBN,TCARBN_FLAG_W,ALKALI,ALKALI_FLAG_W,PH,PH_FLAG_W,THETA
,,,,,,,,,,,,DBAR,ITS-90,PSS-78,,PSS-78,,UMOL/KG,,UMOL/KG,,UMOL/KG,,UMOL/KG,,UMOL/KG,,PMOL/KG,,PMOL/KG,,TU,,NMOL/KG,,PERCNT,,UMOL/KG,,UMOL/KG,,,,DEG C
 3230CITHER2_2,  A17N,   207,  1,     32,     32,2,19940313,1633,  9.1660, -47.5533, 4691,      4.9,  26.2940,  36.3000,2,  36.3010,2,    188.7,2,    203.1,2,     1.80,2,     0.04,2,     0.05,2,    1.743,2,    0.982,2, -999.000,9,-999.0000,9,  -999.00,9,   2022.5,2,   2386.4,2,     8.37,2, 26.2930
 3230CITHER2_2,  A17N,   207,  1,     31,     31,2,19940313,1633,  9.1660, -47.5533, 4691,     36.7,  26.0860,  36.2970,2,  36.2960,2,    201.3,2,    203.7,2,     1.60,2,     0.00,2,     0.05,2,    1.741,2,    0.971,2, -999.000,9,-999.0000,9,  -999.00,9,   2021.3,2,   2385.0,2,     8.37,2, 26.0780
 3230CITHER2_2,  A17N,   207,  1,     30,     30,2,19940313,1633,  9.1660, -47.5533, 4691,    120.7,  15.7030,  35.8580,2,  35.8300,2,    108.0,2,    104.8,2,     7.50,2,    19.77,2,     1.19,2,    1.206,2,    0.646,2, -999.000,9,-999.0000,9,  -999.00,9,   2178.3,2,   2357.5,2,     8.04,2, 15.6840
 3230CITHER2_2,  A17N,   207,  1,     29,     29,2,19940313,1633,  9.1660, -47.5533, 4691,    200.7,  10.8800,  35.1330,2,  35.1270,2,    106.9,2,    108.8,2,    12.50,2,    25.92,2,     1.68,2,    0.687,2,    0.372,2, -999.000,9,-999.0000,9,  -999.00,9,   2193.6,2,   2326.0,2,     7.93,2, 10.8550
 3230CITHER2_2,  A17N,   207,  1,     28,     28,2,19940313,1633,  9.1660, -47.5533, 4691,    301.0,   9.2930,  34.9040,2,  34.9010,2,    108.9,2,    108.7,2,    15.60,2,    29.51,2,     1.91,2,    0.431,2,    0.236,2, -999.000,9,-999.0000,9,  -999.00,9,   2197.3,2,   2315.5,2,     7.88,2,  9.2590
 3230CITHER2_2,  A17N,   207,  1,     27,     27,2,19940313,1633,  9.1660, -47.5533, 4691,    401.5,   8.5720,  34.8410,2,  34.8370,2,     99.8,2,    101.0,2,    17.60,2,    32.00,2,     2.04,2,    0.258,2,    0.149,2, -999.000,9,-999.0000,9,  -999.00,9,   2212.2,2,   2313.2,2,     7.84,2,  8.5290
 3230CITHER2_2,  A17N,   207,  1,     26,     26,2,19940313,1633,  9.1660, -47.5533, 4691,    602.7,   6.8130,  34.6860,2,  34.6870,2,    117.9,2,    115.3,2,    23.00,2,    34.05,2,     2.22,2,    0.109,2,    0.064,2, -999.000,9,-999.0000,9,  -999.00,9,   2219.3,2,   2312.2,2,     7.83,2,  6.7560
 3230CITHER2_2,  A17N,   207,  1,     25,     25,2,19940313,1633,  9.1660, -47.5533, 4691,    800.4,   5.5580,  34.6450,2,  34.6410,2,    128.4,2,    126.7,2,    28.20,2,    34.71,2,     2.31,2,    0.017,2,    0.014,2, -999.000,9,-999.0000,9,  -999.00,9,   2224.1,2,   2313.4,2,     7.82,2,  5.4890
 3230CITHER2_2,  A17N,   207,  1,     24,     24,2,19940313,1633,  9.1660, -47.5533, 4691,   1000.8,   5.0390,  34.7390,2,  34.7380,2,    149.7,2,    148.6,2,    28.30,2,    32.07,2,     2.15,2,    0.006,2,    0.005,2, -999.000,9,-999.0000,9,  -999.00,9,   2215.6,2,   2321.3,2,     7.86,2,  4.9550
 3230CITHER2_2,  A17N,   207,  1,     23,     23,2,19940313,1633,  9.1660, -47.5533, 4691,   1200.2,   4.9300,  34.8780,2,  34.8790,2,    176.3,2,    177.9,2,    24.00,2,    27.34,2,     1.84,2,    0.029,2,    0.021,2, -999.000,9,-999.0000,9,  -999.00,9,   2200.1,2,   2326.3,2,     7.92,2,  4.8280
 3230CITHER2_2,  A17N,   207,  1,     22,     22,2,19940313,1633,  9.1660, -47.5533, 4691,   1398.3,   4.7280,  34.9700,2,  34.9700,2,    209.7,2,    211.9,2,    19.40,2,    22.93,2,     1.54,2,    0.080,2,    0.049,2, -999.000,9,-999.0000,9,  -999.00,9,   2180.5,2,   2327.0,2,     7.97,2,  4.6090
 3230CITHER2_2,  A17N,   207,  1,     21,     21,2,19940313,1633,  9.1660, -47.5533, 4691,   1500.4,   4.5010,  34.9870,2,  34.9870,2,    222.9,2,    228.4,2,    18.20,2,    21.64,2,     1.44,2,    0.081,2,    0.052,2, -999.000,9,-999.0000,9,  -999.00,9,   2176.0,2,   2326.8,2,     7.99,2,  4.3750
 3230CITHER2_2,  A17N,   207,  1,     20,     20,2,19940313,1633,  9.1660, -47.5533, 4691,   1600.8,   4.2900,  34.9880,2,  34.9910,2,    236.3,2,    236.4,2,    17.60,2,    20.72,2,     1.37,2,    0.080,2,    0.049,2, -999.000,9,-999.0000,9,  -999.00,9,   2167.9,2,   2325.5,2,     8.00,2,  4.1570
 3230CITHER2_2,  A17N,   207,  1,     19,     19,2,19940313,1633,  9.1660, -47.5533, 4691,   1700.6,   4.0850,  34.9870,2,  34.9900,2,    243.4,2,    243.3,2,    17.60,2,    20.11,2,     1.33,2,    0.070,2,    0.042,2, -999.000,9,-999.0000,9,  -999.00,9,   2163.1,2,   2326.2,2,     8.00,2,  3.9450
 3230CITHER2_2,  A17N,   207,  1,     18,     18,2,19940313,1633,  9.1660, -47.5533, 4691,   1800.1,   3.8930,  34.9820,2,  34.9860,2,    248.4,2,    248.5,2,    18.30,2,    19.96,2,     1.32,2,    0.058,2,    0.037,2, -999.000,9,-999.0000,9,  -999.00,9,   2165.1,2,   2327.9,2,     8.01,2,  3.7460
 3230CITHER2_2,  A17N,   207,  1,     17,     17,2,19940313,1633,  9.1660, -47.5533, 4691,   1999.3,   3.6060,  34.9720,2,  34.9750,2,    252.6,2,    251.8,2,    20.10,2,    19.70,2,     1.30,2,    0.029,2,    0.019,2, -999.000,9,-999.0000,9,  -999.00,9,   2164.6,2,   2330.7,2,     8.01,2,  3.4440
 3230CITHER2_2,  A17N,   207,  1,     16,     16,2,19940313,1633,  9.1660, -47.5533, 4691,   2200.0,   3.4010,  34.9650,2,  34.9660,2,    255.1,2,    254.3,2,    21.70,2,    19.66,2,     1.30,2,    0.018,2,    0.018,2, -999.000,9,-999.0000,9,  -999.00,9,   2165.6,2,   2333.0,2,     8.01,2,  3.2230
 3230CITHER2_2,  A17N,   207,  1,     15,     15,2,19940313,1633,  9.1660, -47.5533, 4691,   2399.2,   3.2290,  34.9580,2,  34.9580,2,    255.8,2,    255.3,2,    23.70,2,    19.70,2,     1.29,2,    0.017,2,    0.016,2, -999.000,9,-999.0000,9,  -999.00,9,   -999.0,5,   2333.2,2,     8.02,2,  3.0350
 3230CITHER2_2,  A17N,   207,  1,     14,     14,2,19940313,1633,  9.1660, -47.5533, 4691,   2399.4,   3.2290,  34.9570,2,  34.9600,2,    255.8,2,    255.5,2,    23.60,2,    19.66,2,     1.29,2,    0.016,2,    0.014,2, -999.000,9,-999.0000,9,  -999.00,9,   2164.7,2,   2333.2,2,     8.02,2,  3.0350
 3230CITHER2_2,  A17N,   207,  1,     13,     13,2,19940313,1633,  9.1660, -47.5533, 4691,   2698.8,   2.9620,  34.9420,2,  34.9440,2,    253.9,2,    254.1,2,    28.90,2,    20.21,2,     1.33,2,    0.012,2,    0.008,2, -999.000,9,-999.0000,9,  -999.00,9,   2171.0,2,   2338.3,2,     8.01,2,  2.7430
 3230CITHER2_2,  A17N,   207,  1,     12,     12,2,19940313,1633,  9.1660, -47.5533, 4691,   2999.3,   2.7530,  34.9290,2,  34.9300,2,    252.6,2,    254.0,2,    32.40,2,    20.32,2,     1.35,2,    0.016,2,    0.011,2, -999.000,9,-999.0000,9,  -999.00,9,   2176.3,2,   2342.6,2,     8.01,2,  2.5080
 3230CITHER2_2,  A17N,   207,  1,     11,     11,2,19940313,1633,  9.1660, -47.5533, 4691,   3198.7,   2.6480,  34.9200,2,  34.9230,2,    251.7,2,    252.6,2,    35.50,2,    20.90,2,     1.37,2,    0.010,2,    0.010,2, -999.000,9,-999.0000,9,  -999.00,9,   2180.5,2,   2346.1,2,     8.01,2,  2.3840
 3230CITHER2_2,  A17N,   207,  1,     10,     10,2,19940313,1633,  9.1660, -47.5533, 4691,   3398.6,   2.5580,  34.9130,2,  34.9170,2,    255.3,2,    256.5,2,    34.40,2,    20.45,2,     1.35,2,    0.032,2,    0.022,2, -999.000,9,-999.0000,9,  -999.00,9,   2177.8,2,   2339.7,2,     8.01,2,  2.2750
 3230CITHER2_2,  A17N,   207,  1,      9,      9,2,19940313,1633,  9.1660, -47.5533, 4691,   3547.6,   2.4870,  34.9080,2,  34.9130,2,    257.3,2,    256.2,2,    34.40,2,    20.41,2,     1.33,2,    0.046,2,    0.028,2, -999.000,9,-999.0000,9,  -999.00,9,   2176.0,2,   2341.7,2,     8.01,2,  2.1900
 3230CITHER2_2,  A17N,   207,  1,      8,      8,2,19940313,1633,  9.1660, -47.5533, 4691,   3698.7,   2.4240,  34.9060,2,  34.9090,2,    260.8,2,    262.6,2,    31.90,2,    19.68,2,     1.30,2,    0.083,2,    0.052,2, -999.000,9,-999.0000,9,  -999.00,9,   2173.4,2,   2336.3,2,     8.02,2,  2.1120
 3230CITHER2_2,  A17N,   207,  1,      7,      7,2,19940313,1633,  9.1660, -47.5533, 4691,   3848.9,   2.3620,  34.9020,2,  34.9020,2,    262.6,2,    263.5,2,    32.20,2,    19.53,2,     1.29,2,    0.093,2,    0.057,2, -999.000,9,-999.0000,9,  -999.00,9,   2173.4,2,   2337.8,2,     8.01,2,  2.0350
 3230CITHER2_2,  A17N,   207,  1,      6,      6,2,19940313,1633,  9.1660, -47.5533, 4691,   3998.5,   2.3240,  34.8980,2,  34.9010,2,    262.9,2,    263.8,2,    32.90,2,    19.58,2,     1.30,2,    0.101,2,    0.063,2, -999.000,9,-999.0000,9,  -999.00,9,   2174.6,2,   2338.2,2,     8.01,2,  1.9810
 3230CITHER2_2,  A17N,   207,  1,      5,      5,2,19940313,1633,  9.1660, -47.5533, 4691,   4198.4,   2.2860,  34.8950,2,  34.8960,2,    263.1,2,    264.1,2,    33.40,2,    19.58,2,     1.30,2,    0.128,2,    0.073,2, -999.000,9,-999.0000,9,  -999.00,9,   2174.9,2,   2337.6,2,     8.01,2,  1.9210
 3230CITHER2_2,  A17N,   207,  1,      4,      4,2,19940313,1633,  9.1660, -47.5533, 4691,   4398.8,   2.2520,  34.8880,2,  34.8900,2,    262.5,2,    262.3,2,    35.90,2,    19.97,2,     1.32,2,    0.114,2,    0.072,2, -999.000,9,-999.0000,9,  -999.00,9,   2178.4,2,   2342.2,2,     8.01,2,  1.8640
 3230CITHER2_2,  A17N,   207,  1,      3,      3,2,19940313,1633,  9.1660, -47.5533, 4691,   4597.4,   2.1860,  34.8770,2,  34.8810,2,    258.7,2,    258.3,2,    41.70,2,    20.78,2,     1.39,2,    0.073,2,    0.052,2, -999.000,9,-999.0000,9,  -999.00,9,   2185.5,2,   2346.9,2,     8.00,2,  1.7770
 3230CITHER2_2,  A17N,   207,  1,      2,      2,2,19940313,1633,  9.1660, -47.5533, 4691,   4702.1,   2.1290,  34.8690,2,  34.8710,2,    255.9,2,    255.1,2,    46.60,2,    21.35,2,     1.43,2,    0.062,2,    0.045,2, -999.000,9,-999.0000,9,  -999.00,9,   2191.1,2,   2347.4,2,     8.00,2,  1.7090
 3230CITHER2_2,  A17N,   207,  1,      1,      1,2,19940313,1633,  9.1660, -47.5533, 4691,   4763.2,   2.0660,  34.8610,2,  34.8630,2,    253.9,2,    251.9,2,    51.60,2,    21.86,2,     1.48,2,    0.044,2,    0.033,2, -999.000,9,-999.0000,9,  -999.00,9,   2197.4,2,   2353.8,2,     7.99,2,  1.6410
 3230CITHER2_2,  A17N,   208,  1,     32,     32,2,19940313,2236,  9.4592, -48.0630, 4741,      8.1,  26.0950,  36.3150,2,  36.3140,2,    198.9,2,    203.5,2,     1.60,2,     0.04,2,     0.06,2,    1.766,2,    0.989,2, -999.000,9,-999.0000,9,  -999.00,9,   2023.0,2,   -999.0,9,     8.37,2, 26.0930
 3230CITHER2_2,  A17N,   208,  1,     31,     31,2,19940313,2236,  9.4592, -48.0630, 4741,     81.5,  24.8130,  36.3500,2,  36.3670,2,    206.0,2,    201.7,2,     1.70,2,     0.12,2,     0.04,2,    1.820,2,    1.010,2, -999.000,9,-999.0000,9,  -999.00,9,   2034.8,2,   -999.0,9,     8.35,2, 24.7950
 3230CITHER2_2,  A17N,   208,  1,     30,     30,2,19940313,2236,  9.4592, -48.0630, 4741,     96.7,  22.4980,  36.6190,2,  36.5790,2,    192.4,2,    164.6,2,     2.50,2,     3.86,2,     0.25,2,    1.745,2,    0.947,2, -999.000,9,-999.0000,9,  -999.00,9,   2104.0,2,   -999.0,9,     8.25,2, 22.4780
 3230CITHER2_2,  A17N,   208,  1,     29,     29,2,19940313,2236,  9.4592, -48.0630, 4741,    200.4,  11.5900,  35.2510,2,  35.2400,2,    101.2,2,    103.5,2,    11.50,2,    25.61,2,     1.64,2,    0.739,2,    0.410,2, -999.000,9,-999.0000,9,  -999.00,9,   2195.6,2,   -999.0,9,     7.93,2, 11.5640
 3230CITHER2_2,  A17N,   208,  1,     28,     28,2,19940313,2236,  9.4592, -48.0630, 4741,    401.4,   8.9040,  34.9080,2,  34.9060,2,    102.4,2,    102.6,2,    16.80,2,    31.20,2,     1.98,2,    0.275,2,    0.154,2, -999.000,9,-999.0000,9,  -999.00,9,   2213.4,2,   -999.0,9,     7.86,2,  8.8600
 3230CITHER2_2,  A17N,   208,  1,     27,     27,2,19940313,2236,  9.4592, -48.0630, 4741,    500.0,   7.9740,  34.8130,2,  34.8130,2,     97.9,2,     93.3,2,    19.80,2,    34.07,2,     2.17,2,    0.111,2,    0.070,2, -999.000,9,-999.0000,9,  -999.00,9,   2224.5,2,   -999.0,9,     7.83,2,  7.9230
 3230CITHER2_2,  A17N,   208,  1,     26,     26,2,19940313,2236,  9.4592, -48.0630, 4741,    601.3,   6.9680,  34.7160,2,  34.7220,2,    112.5,2,    109.7,2,    22.70,2,    34.01,2,     2.22,2,    0.082,2,    0.052,2, -999.000,9,-999.0000,9,  -999.00,9,   2222.0,2,   -999.0,9,     7.84,2,  6.9100
 3230CITHER2_2,  A17N,   208,  1,     25,     25,2,19940313,2236,  9.4592, -48.0630, 4741,    799.5,   5.6370,  34.6630,2,  34.6650,2,    123.6,2,    123.1,2,    27.80,2,    34.82,2,     2.33,2,    0.010,2,    0.009,2, -999.000,9,-999.0000,9,  -999.00,9,   2226.1,2,   -999.0,9,     7.83,2,  5.5670
 3230CITHER2_2,  A17N,   208,  1,     24,     24,2,19940313,2236,  9.4592, -48.0630, 4741,   1000.1,   5.1470,  34.7450,2,  34.7460,2,    144.5,2,    144.2,2,    27.90,2,    32.10,2,     2.17,2,    0.006,2,    0.007,2, -999.000,9,-999.0000,9,  -999.00,9,   2218.6,2,   -999.0,9,     7.82,2,  5.0620
 3230CITHER2_2,  A17N,   208,  1,     23,     23,2,19940313,2236,  9.4592, -48.0630, 4741,   1201.1,   4.9520,  34.8880,2,  34.8890,2,    175.5,2,    178.1,2,    24.30,2,    27.13,2,     1.83,2,    0.024,2,    0.017,2, -999.000,9,-999.0000,9,  -999.00,9,   -999.0,9,   -999.0,9,     7.89,2,  4.8500
 3230CITHER2_2,  A17N,   208,  1,     22,     22,2,19940313,2236,  9.4592, -48.0630, 4741,   1400.8,   4.6570,  34.9750,2,  34.9770,2,    211.5,2,    215.1,2,    19.30,2,    22.55,2,     1.51,2,    0.068,2,    0.045,2, -999.000,9,-999.0000,9,  -999.00,9,   -999.0,9,   -999.0,9,     7.95,2,  4.5390
 3230CITHER2_2,  A17N,   208,  1,     21,     21,2,19940313,2236,  9.4592, -48.0630, 4741,   1500.4,   4.4750,  34.9930,2,  34.9940,2,    227.6,2,    230.5,2,    17.60,2,    21.02,2,     1.40,2,    0.105,2,    0.065,2, -999.000,9,-999.0000,9,  -999.00,9,   -999.0,9,   -999.0,9,     7.97,2,  4.3490
 3230CITHER2_2,  A17N,   208,  1,     20,     20,2,19940313,2236,  9.4592, -48.0630, 4741,   1600.2,   4.1920,  34.9900,2,  34.9900,2,    238.5,2,    240.1,2,    17.50,2,    20.42,2,     1.34,2,    0.076,2,    0.047,2, -999.000,9,-999.0000,9,  -999.00,9,   -999.0,9,   -999.0,9,     8.00,2,  4.0600
 3230CITHER2_2,  A17N,   208,  1,     19,     19,2,19940313,2236,  9.4592, -48.0630, 4741,   1698.8,   4.0150,  34.9860,2,  34.9880,2,    244.8,2,    247.4,2,    17.70,2,    20.12,2,     1.32,2,    0.062,2,    0.042,2, -999.000,9,-999.0000,9,  -999.00,9,   -999.0,9,   -999.0,9,     8.01,2,  3.8760
 3230CITHER2_2,  A17N,   208,  1,     18,     18,2,19940313,2236,  9.4592, -48.0630, 4741,   1799.9,   3.8300,  34.9840,2,  34.9860,2,    249.5,2,    251.9,2,    17.70,2,    19.61,2,     1.28,2,    0.065,2,    0.047,2, -999.000,9,-999.0000,9,  -999.00,9,   -999.0,9,   -999.0,9,     8.01,2,  3.6840
 3230CITHER2_2,  A17N,   208,  1,     17,     17,2,19940313,2236,  9.4592, -48.0630, 4741,   2000.0,   3.5180,  34.9710,2,  34.9740,2,    255.1,2,    255.0,2,    19.90,2,    19.83,2,     1.29,2,    0.040,2,    0.026,2, -999.000,9,-999.0000,9,  -999.00,9,   -999.0,9,   -999.0,9,     8.02,2,  3.3580
 3230CITHER2_2,  A17N,   208,  1,     15,     15,2,19940313,2236,  9.4592, -48.0630, 4741,   2198.9,   3.3360,  34.9640,2,  34.9660,2,    257.3,2,    257.0,2,    21.30,2,    19.42,2,     1.27,2,    0.038,2,    0.027,2, -999.000,9,-999.0000,9,  -999.00,9,   -999.0,9,   -999.0,9,     8.02,2,  3.1590
 3230CITHER2_2,  A17N,   208,  1,     16,     16,2,19940313,2236,  9.4592, -48.0630, 4741,   2199.3,   3.3360,  34.9650,2,  34.9630,2,    257.3,2,    257.0,2,    21.20,2,    19.37,2,     1.27,2,    0.041,2,    0.029,2, -999.000,9,-999.0000,9,  -999.00,9,   -999.0,9,   -999.0,9,     8.02,2,  3.1590
 3230CITHER2_2,  A17N,   208,  1,     14,     14,2,19940313,2236,  9.4592, -48.0630, 4741,   2398.6,   3.1530,  34.9550,2,  34.9570,2,    258.8,2,    258.9,2,    22.80,2,    19.43,2,     1.27,2,    0.043,2,    0.029,2, -999.000,9,-999.0000,9,  -999.00,9,   -999.0,9,   -999.0,9,     8.02,2,  2.9600
 3230CITHER2_2,  A17N,   208,  1,     13,     13,2,19940313,2236,  9.4592, -48.0630, 4741,   2698.0,   2.9760,  34.9470,2,  34.9460,2,    261.4,2,    259.7,2,    24.50,2,    19.55,2,     1.27,2,    0.065,2,    0.042,2, -999.000,9,-999.0000,9,  -999.00,9,   -999.0,9,   -999.0,9,     8.02,2,  2.7570
 3230CITHER2_2,  A17N,   208,  1,     12,     12,2,19940313,2236,  9.4592, -48.0630, 4741,   2999.8,   2.7990,  34.9330,2,  34.9330,2,    259.0,2,    257.3,2,    29.00,2,    20.02,2,     1.32,2,    0.038,2,    0.027,2, -999.000,9,-999.0000,9,  -999.00,9,   -999.0,9,   -999.0,9,     8.02,2,  2.5530
 3230CITHER2_2,  A17N,   208,  1,     11,     11,2,19940313,2236,  9.4592, -48.0630, 4741,   3196.7,   2.6980,  34.9260,2,  34.9260,2,    257.3,2,    257.6,2,    30.50,2,    19.98,2,     1.31,2,    0.045,2,    0.030,2, -999.000,9,-999.0000,9,  -999.00,9,   -999.0,9,   -999.0,9,     8.02,2,  2.4330
 3230CITHER2_2,  A17N,   208,  1,     10,     10,2,19940313,2236,  9.4592, -48.0630, 4741,   3399.0,   2.5930,  34.9170,2,  34.9180,2,    258.1,2,    256.5,2,    33.30,2,    20.22,2,     1.34,2,    0.042,2,    0.029,2, -999.000,9,-999.0000,9,  -999.00,9,   -999.0,9,   -999.0,9,     8.01,2,  2.3090
 3230CITHER2_2,  A17N,   208,  1,      9,      9,2,19940313,2236,  9.4592, -48.0630, 4741,   3549.6,   2.5190,  34.9110,2,  34.9110,2,    255.9,2,    257.7,2,    34.20,2,    20.23,2,     1.34,2,    0.044,2,    0.029,2, -999.000,9,-999.0000,9,  -999.00,9,   -999.0,9,   -999.0,9,     8.01,2,  2.2210
 3230CITHER2_2,  A17N,   208,  1,      8,      8,2,19940313,2236,  9.4592, -48.0630, 4741,   3698.1,   2.4390,  34.9070,2,  34.9100,2,    258.5,2,    264.0,2,    30.50,2,    19.39,2,     1.28,2,    0.124,2,    0.073,2, -999.000,9,-999.0000,9,  -999.00,9,   -999.0,9,   -999.0,9,     8.02,2,  2.1260
 3230CITHER2_2,  A17N,   208,  1,      7,      7,2,19940313,2236,  9.4592, -48.0630, 4741,   3849.2,   2.3820,  34.9040,2,  34.9060,2,    264.4,2,    265.0,2,    30.30,2,    19.28,2,     1.27,2,    0.146,2,    0.085,2, -999.000,9,-999.0000,9,  -999.00,9,   -999.0,9,   -999.0,9,     8.02,2,  2.0540
 3230CITHER2_2,  A17N,   208,  1,      6,      6,2,19940313,2236,  9.4592, -48.0630, 4741,   3998.1,   2.3420,  34.9000,2,  34.9010,2,    264.5,2,    265.0,2,    31.30,2,    19.29,2,     1.27,2,    0.149,2,    0.083,2, -999.000,9,-999.0000,9,  -999.00,9,   -999.0,9,   -999.0,9,     8.02,2,  1.9980
 3230CITHER2_2,  A17N,   208,  1,      5,      5,2,19940313,2236,  9.4592, -48.0630, 4741,   4199.3,   2.2880,  34.8950,2,  34.8950,2,    264.9,2,    265.1,2,    32.40,2,    19.30,2,     1.28,2,    0.169,2,    0.098,2, -999.000,9,-999.0000,9,  -999.00,9,   -999.0,9,   -999.0,9,     8.02,2,  1.9230
 3230CITHER2_2,  A17N,   208,  1,      4,      4,2,19940313,2236,  9.4592, -48.0630, 4741,   4396.9,   2.2710,  34.8910,2,  34.8930,2,    263.2,2,    263.6,2,    34.30,2,    19.73,2,     1.31,2, -999.000,5, -999.000,5, -999.000,9,-999.0000,9,  -999.00,9,   -999.0,9,   -999.0,9,     8.01,2,  1.8830
 3230CITHER2_2,  A17N,   208,  1,      3,      3,2,19940313,2236,  9.4592, -48.0630, 4741,   4597.0,   2.2300,  34.8830,2,  34.8860,2,    260.8,2,    260.3,2,    38.40,2,    20.54,2,     1.35,2,    0.107,2,    0.066,2, -999.000,9,-999.0000,9,  -999.00,9,   -999.0,9,   -999.0,9,     8.01,2,  1.8190
 3230CITHER2_2,  A17N,   208,  1,      2,      2,2,19940313,2236,  9.4592, -48.0630, 4741,   4696.6,   2.1680,  34.8740,2,  34.8760,2,    257.5,2,    256.4,2,    43.90,2,    21.13,2,     1.41,2,    0.074,2,    0.051,2, -999.000,9,-999.0000,9,  -999.00,9,   -999.0,9,   -999.0,9,     8.00,2,  1.7470
 3230CITHER2_2,  A17N,   208,  1,      1,      1,2,19940313,2236,  9.4592, -48.0630, 4741,   4809.5,   1.9960,  34.8520,2,  34.8530,2,    252.1,2,    247.4,2,    55.80,2,    22.72,2,     1.52,2,    0.037,2,    0.029,2, -999.000,9,-999.0000,9,  -999.00,9,   -999.0,9,   -999.0,9,     7.99,2,  1.5670