BOTTLE,20030515WHPSIOSA
EXPOCODE,SECT_ID,STNNBR,CASTNO,SAMPNO,BTLNBR,BTLNBR_FLAG_W,DATE,TIME,LATITUDE,LONGITUDE,DEPTH,CTDPRS,CTDTMP,CTDSAL,CTDSAL_FLAG_W,SALNTY,SALNTY_FLAG_W,CTDOXY,CTDOXY_FLAG_W,OXYGEN,OXYGEN_FLAG_W,SILCAT,SILCAT_FLAG_W,NITRAT,NITRAT_FLAG_W,PHSPHT,PHSPHT_FLAG_W,CFC-11,CFC-11_FLAG_W,CFC-12,CFC-12_FLAG_W,TRITUM,TRITUM_FLAG_W,HELIUM,HELIUM_FLAG_W,DELHE3,DELHE3_FLAG_W,TCARBN,TCARBN_FLAG_W,ALKALI,ALKALI_FLAG_W,PH,PH_FLAG_W,THETA
,,,,,,,,,,,,DBAR,ITS-90,PSS-78,,PSS-78,,UMOL/KG,,UMOL/KG,,UMOL/KG,,UMOL/KG,,UMOL/KG,,PMOL/KG,,PMOL/KG,,TU,,NMOL/KG,,PERCNT,,UMOL/KG,,UMOL/KG,,,,DEG C
 3230CITHER2_2,  A17N,   209,  1,     32,     32,2,19940314,0448,  9.7513, -48.5700, 4780,      7.1,  25.5940,  36.3620,2,  36.3640,2,    200.6,2,    204.6,2,     1.60,2,     0.04,2,     0.04,2,    1.802,2,    0.996,2, -999.000,9,-999.0000,9,  -999.00,9,   -999.0,9,   -999.0,9,     8.38,2, 25.5920
 3230CITHER2_2,  A17N,   209,  1,     31,     31,2,19940314,0448,  9.7513, -48.5700, 4780,     70.7,  25.1030,  36.2150,2,  36.2140,2,    205.3,2,    204.6,2,     1.80,2,     0.04,2,     0.03,2,    1.801,2,    1.000,2, -999.000,9,-999.0000,9,  -999.00,9,   -999.0,9,   -999.0,9,     8.36,2, 25.0880
 3230CITHER2_2,  A17N,   209,  1,     30,     30,2,19940314,0448,  9.7513, -48.5700, 4780,    126.6,  17.5600,  36.1210,2,  36.1220,2,    113.6,2,    108.0,2,     5.70,2,    16.97,2,     0.98,2,    1.389,2,    0.749,2, -999.000,9,-999.0000,9,  -999.00,9,   -999.0,9,   -999.0,9,     8.08,2, 17.5390
 3230CITHER2_2,  A17N,   209,  1,     29,     29,2,19940314,0448,  9.7513, -48.5700, 4780,    201.4,  10.9980,  35.1430,2,  35.1480,2,     99.7,2,    103.6,2,    12.30,2,    26.43,2,     1.70,2,    0.666,2,    0.363,2, -999.000,9,-999.0000,9,  -999.00,9,   -999.0,9,   -999.0,9,     7.92,2, 10.9730
 3230CITHER2_2,  A17N,   209,  1,     28,     28,2,19940314,0448,  9.7513, -48.5700, 4780,    302.2,   9.4860,  34.9150,2,  34.9110,2,    103.8,2,    105.8,2,    15.10,2,    29.46,2,     1.90,2,    0.431,2,    0.238,2, -999.000,9,-999.0000,9,  -999.00,9,   -999.0,9,   -999.0,9,     7.88,2,  9.4520
 3230CITHER2_2,  A17N,   209,  1,     27,     27,2,19940314,0448,  9.7513, -48.5700, 4780,    400.2,   8.6350,  34.8250,2,  34.8250,2,    104.5,2,    102.2,2,    17.50,2,    31.96,2,     2.04,2,    0.264,2,    0.154,2, -999.000,9,-999.0000,9,  -999.00,9,   -999.0,9,   -999.0,9,     7.85,2,  8.5920
 3230CITHER2_2,  A17N,   209,  1,     26,     26,2,19940314,0448,  9.7513, -48.5700, 4780,    601.0,   7.1730,  34.7320,2,  34.7290,2,    114.1,2,    110.5,2,    22.20,2,    33.71,2,     2.21,2,    0.097,2,    0.060,2, -999.000,9,-999.0000,9,  -999.00,9,   -999.0,9,   -999.0,9,     7.83,2,  7.1150
 3230CITHER2_2,  A17N,   209,  1,     25,     25,2,19940314,0448,  9.7513, -48.5700, 4780,    800.9,   5.8810,  34.6820,2,  34.6840,2,    117.4,2,    116.1,2,    26.80,2,    35.13,2,     2.34,2,    0.012,2,    0.008,2, -999.000,9,-999.0000,9,  -999.00,9,   -999.0,9,   -999.0,9,     7.82,2,  5.8100
 3230CITHER2_2,  A17N,   209,  1,     24,     24,2,19940314,0448,  9.7513, -48.5700, 4780,   1001.2,   5.1450,  34.7190,2,  34.7220,2,    140.1,2,    139.5,2,    28.50,2,    33.17,2,     2.23,2,    0.003,2,    0.000,2, -999.000,9,-999.0000,9,  -999.00,9,   -999.0,9,   -999.0,9,     7.85,2,  5.0600
 3230CITHER2_2,  A17N,   209,  1,     23,     23,2,19940314,0448,  9.7513, -48.5700, 4780,   1200.4,   4.9210,  34.8710,2,  34.8720,2,    173.9,2,    173.8,2,    24.50,2,    27.99,2,     1.88,2,    0.018,2,    0.011,2, -999.000,9,-999.0000,9,  -999.00,9,   -999.0,9,   -999.0,9,     7.91,2,  4.8190
 3230CITHER2_2,  A17N,   209,  1,     22,     22,2,19940314,0448,  9.7513, -48.5700, 4780,   1400.2,   4.7250,  34.9820,2,  34.9840,2,    213.9,2,    216.2,2,    18.90,2,    22.50,2,     1.49,2,    0.106,2,    0.067,2, -999.000,9,-999.0000,9,  -999.00,9,   -999.0,9,   -999.0,9,     7.98,2,  4.6060
 3230CITHER2_2,  A17N,   209,  1,     21,     21,2,19940314,0448,  9.7513, -48.5700, 4780,   1500.5,   4.5140,  34.9950,2,  35.0000,2,    231.4,2,    231.4,2,    17.30,2,    20.95,2,     1.39,2,    0.137,2,    0.085,2, -999.000,9,-999.0000,9,  -999.00,9,   -999.0,9,   -999.0,9,     7.99,2,  4.3880
 3230CITHER2_2,  A17N,   209,  1,     20,     20,2,19940314,0448,  9.7513, -48.5700, 4780,   1600.1,   4.3080,  35.0020,2,  35.0040,2,    240.1,2,    243.9,2,    16.00,2,    19.91,2,     1.30,2,    0.188,2,    0.110,2, -999.000,9,-999.0000,9,  -999.00,9,   -999.0,9,   -999.0,9,     8.01,2,  4.1750
 3230CITHER2_2,  A17N,   209,  1,     19,     19,2,19940314,0448,  9.7513, -48.5700, 4780,   1700.1,   4.0720,  34.9960,2,  34.9990,2,    248.8,2,    250.6,2,    16.00,2,    19.41,2,     1.27,2,    0.165,2,    0.100,2, -999.000,9,-999.0000,9,  -999.00,9,   -999.0,9,   -999.0,9,     8.01,2,  3.9320
 3230CITHER2_2,  A17N,   209,  1,     18,     18,2,19940314,0448,  9.7513, -48.5700, 4780,   1799.7,   3.9020,  34.9880,2,  34.9910,2,    250.5,2,    252.5,2,    17.00,2,    19.57,2,     1.28,2,    0.101,2,    0.064,2, -999.000,9,-999.0000,9,  -999.00,9,   -999.0,9,   -999.0,9,     8.01,2,  3.7550
 3230CITHER2_2,  A17N,   209,  1,     17,     17,2,19940314,0448,  9.7513, -48.5700, 4780,   1999.4,   3.6380,  34.9820,2,  34.9850,2,    258.3,2,    258.3,2,    17.70,2,    19.07,2,     1.24,2,    0.108,2,    0.068,2, -999.000,9,-999.0000,9,  -999.00,9,   -999.0,9,   -999.0,9,     8.02,2,  3.4760
 3230CITHER2_2,  A17N,   209,  1,     16,     16,2,19940314,0448,  9.7513, -48.5700, 4780,   2201.4,   3.3890,  34.9690,2,  34.9770,2,    259.3,2,    259.1,2,    19.70,2,    19.11,2,     1.25,2,    0.080,2,    0.051,2, -999.000,9,-999.0000,9,  -999.00,9,   -999.0,9,   -999.0,9,     8.02,2,  3.2110
 3230CITHER2_2,  A17N,   209,  1,     15,     15,2,19940314,0448,  9.7513, -48.5700, 4780,   2399.6,   3.2030,  34.9580,2,  34.9600,2,    257.9,2,    258.3,2,    22.40,2,    19.57,2,     1.27,2,    0.038,2,    0.036,2, -999.000,9,-999.0000,9,  -999.00,9,   -999.0,9,   -999.0,9,     8.02,2,  3.0090
 3230CITHER2_2,  A17N,   209,  1,     13,     13,2,19940314,0448,  9.7513, -48.5700, 4780,   2699.6,   3.0180,  34.9480,2,  34.9480,2,    258.2,2,    259.0,2,    24.40,2,    19.67,2,     1.28,2,    0.050,2,    0.032,2, -999.000,9,-999.0000,9,  -999.00,9,   -999.0,9,   -999.0,9,     8.02,2,  2.7980
 3230CITHER2_2,  A17N,   209,  1,     14,     14,2,19940314,0448,  9.7513, -48.5700, 4780,   2699.9,   3.0200,  34.9470,2,  34.9330,2,    258.2,2,    259.0,2,    24.40,2,    19.58,2,     1.28,2,    0.053,2,    0.033,2, -999.000,9,-999.0000,9,  -999.00,9,   -999.0,9,   -999.0,9,     8.02,2,  2.8000
 3230CITHER2_2,  A17N,   209,  1,     12,     12,2,19940314,0448,  9.7513, -48.5700, 4780,   2999.7,   2.8280,  34.9360,2,  34.9380,2,    258.6,2,    258.8,2,    27.60,2,    19.91,2,     1.30,2,    0.065,2,    0.039,2, -999.000,9,-999.0000,9,  -999.00,9,   -999.0,9,   -999.0,9,     8.02,2,  2.5810
 3230CITHER2_2,  A17N,   209,  1,     11,     11,2,19940314,0448,  9.7513, -48.5700, 4780,   3199.8,   2.7050,  34.9260,2,  34.9280,2,    257.4,2,    257.1,2,    30.70,2,    20.30,2,     1.32,2,    0.050,2,    0.031,2, -999.000,9,-999.0000,9,  -999.00,9,   -999.0,9,   -999.0,9,     8.02,2,  2.4400
 3230CITHER2_2,  A17N,   209,  1,     10,     10,2,19940314,0448,  9.7513, -48.5700, 4780,   3398.7,   2.6110,  34.9190,2,  34.9210,2,    258.0,2,    259.1,2,    31.20,2,    20.19,2,     1.31,2,    0.066,2,    0.039,2, -999.000,9,-999.0000,9,  -999.00,9,   -999.0,9,   -999.0,9,     8.02,2,  2.3270
 3230CITHER2_2,  A17N,   209,  1,      9,      9,2,19940314,0448,  9.7513, -48.5700, 4780,   3547.2,   2.5220,  34.9120,2,  34.9140,2,    260.6,2,    261.2,2,    31.10,2,    19.92,2,     1.30,2,    0.088,2,    0.055,2, -999.000,9,-999.0000,9,  -999.00,9,   -999.0,9,   -999.0,9,     8.02,2,  2.2240
 3230CITHER2_2,  A17N,   209,  1,      8,      8,2,19940314,0448,  9.7513, -48.5700, 4780,   3698.5,   2.4530,  34.9090,2,  34.9120,2,    262.6,2,    263.3,2,    30.60,2,    19.73,2,     1.28,2,    0.135,2,    0.080,2, -999.000,9,-999.0000,9,  -999.00,9,   -999.0,9,   -999.0,9,     8.02,2,  2.1400
 3230CITHER2_2,  A17N,   209,  1,      7,      7,2,19940314,0448,  9.7513, -48.5700, 4780,   3848.5,   2.3880,  34.9020,2,  34.8890,2,    263.2,2,    263.6,2,    31.20,2,    19.69,2,     1.28,2, -999.000,5, -999.000,5, -999.000,9,-999.0000,9,  -999.00,9,   -999.0,9,   -999.0,9,     8.02,2,  2.0600
 3230CITHER2_2,  A17N,   209,  1,      6,      6,2,19940314,0448,  9.7513, -48.5700, 4780,   3999.4,   2.3450,  34.8990,2,  34.9030,2,    263.5,2,    264.2,2,    31.80,2,    19.58,2,     1.29,2,    0.110,2,    0.068,2, -999.000,9,-999.0000,9,  -999.00,9,   -999.0,9,   -999.0,9,     8.02,2,  2.0010
 3230CITHER2_2,  A17N,   209,  1,      5,      5,2,19940314,0448,  9.7513, -48.5700, 4780,   4199.6,   2.3000,  34.8960,2,  34.8980,2,    264.4,2,    265.2,2,    31.60,2,    19.47,2,     1.27,2,    0.169,2,    0.100,2, -999.000,9,-999.0000,9,  -999.00,9,   -999.0,9,   -999.0,9,     8.02,2,  1.9340
 3230CITHER2_2,  A17N,   209,  1,      4,      4,2,19940314,0448,  9.7513, -48.5700, 4780,   4399.1,   2.2710,  34.8900,2,  34.8940,2,    263.1,2,   -999.0,5,    34.90,2,    19.90,2,     1.31,2,    0.117,2,    0.077,2, -999.000,9,-999.0000,9,  -999.00,9,   -999.0,9,   -999.0,9,     8.02,2,  1.8830
 3230CITHER2_2,  A17N,   209,  1,      3,      3,2,19940314,0448,  9.7513, -48.5700, 4780,   4597.8,   2.2070,  34.8780,2,  34.8840,2,    259.5,2,    258.3,2,    41.00,2,    20.84,2,     1.38,2,    0.063,2,    0.046,2, -999.000,9,-999.0000,9,  -999.00,9,   -999.0,9,   -999.0,9,     8.01,2,  1.7970
 3230CITHER2_2,  A17N,   209,  1,      2,      2,2,19940314,0448,  9.7513, -48.5700, 4780,   4799.2,   2.0860,  34.8630,2,  34.8560,2,    254.2,2,    252.5,2,    49.70,2,    22.05,2,     1.47,2,    0.051,2,    0.036,2, -999.000,9,-999.0000,9,  -999.00,9,   -999.0,9,   -999.0,9,     8.00,2,  1.6560
 3230CITHER2_2,  A17N,   209,  1,      1,      1,2,19940314,0448,  9.7513, -48.5700, 4780,   4859.0,   1.9800,  34.8480,2,  34.8510,2,    250.2,2,    247.8,2,    56.50,2,    22.99,2,     1.54,2,    0.034,2,    0.029,2, -999.000,9,-999.0000,9,  -999.00,9,   -999.0,9,   -999.0,9,     7.99,2,  1.5460
 3230CITHER2_2,  A17N,   210,  1,     32,     32,2,19940314,1051, 10.0418, -49.0780, 4851,      6.1,  25.2510,  36.1990,2,  36.1990,2,    203.7,2,    206.3,2,     1.90,2,     0.08,2,     0.03,2,    1.852,2,    0.986,2, -999.000,9,-999.0000,9,  -999.00,9,   2020.8,2,   2377.1,2,     8.37,2, 25.2500
 3230CITHER2_2,  A17N,   210,  1,     31,     31,2,19940314,1051, 10.0418, -49.0780, 4851,     50.2,  25.2240,  36.2200,2,  36.2210,2,    208.8,2,    206.2,2,     1.80,2,     0.00,2,     0.03,2,    1.838,2,    0.983,2, -999.000,9,-999.0000,9,  -999.00,9,   2020.3,2,   2378.1,2,     8.37,2, 25.2130
 3230CITHER2_2,  A17N,   210,  1,     30,     30,2,19940314,1051, 10.0418, -49.0780, 4851,    101.7,  22.2550,  36.6630,2,  36.6450,2,    183.8,2,    161.1,2,     2.50,2,     3.93,2,     0.25,2,    1.759,2,    0.928,2, -999.000,9,-999.0000,9,  -999.00,9,   2113.8,2,   2402.7,2,     8.24,2, 22.2350
 3230CITHER2_2,  A17N,   210,  1,     29,     29,2,19940314,1051, 10.0418, -49.0780, 4851,    200.6,  11.6040,  35.2220,2,  35.2270,2,    108.6,2,    112.3,2,    11.20,2,    24.34,2,     1.59,2, -999.000,5, -999.000,5, -999.000,9,-999.0000,9,  -999.00,9,   2189.3,2,   2329.2,2,     7.95,2, 11.5780
 3230CITHER2_2,  A17N,   210,  1,     28,     28,2,19940314,1051, 10.0418, -49.0780, 4851,    300.8,  10.0700,  35.0350,2,  35.0330,2,    105.0,2,    103.0,2,    13.90,2,    28.30,2,     1.83,2,    0.477,2,    0.259,2, -999.000,9,-999.0000,9,  -999.00,9,   2201.8,2,   2319.9,2,     7.89,2, 10.0350
 3230CITHER2_2,  A17N,   210,  1,     27,     27,2,19940314,1051, 10.0418, -49.0780, 4851,    401.4,   8.8550,  34.8790,2,  34.8750,2,    105.0,2,    102.2,2,    16.80,2,    31.15,2,     2.00,2,    0.290,2,    0.159,2, -999.000,9,-999.0000,9,  -999.00,9,   2211.9,2,   2315.0,2,     7.86,2,  8.8110
 3230CITHER2_2,  A17N,   210,  1,     26,     26,2,19940314,1051, 10.0418, -49.0780, 4851,    502.1,   8.1930,  34.8240,2,  34.8230,2,    100.2,2,     96.5,2,    19.00,2,    33.38,2,     2.13,2,    0.148,2,    0.085,2, -999.000,9,-999.0000,9,  -999.00,9,   2220.9,2,   2313.2,2,     7.83,2,  8.1410
 3230CITHER2_2,  A17N,   210,  1,     25,     25,2,19940314,1051, 10.0418, -49.0780, 4851,    601.4,   7.3660,  34.7710,2,  34.7720,2,    101.6,2,     98.4,2,    21.70,2,    34.75,2,     2.25,2,    0.063,2,    0.037,2, -999.000,9,-999.0000,9,  -999.00,9,   2226.2,2,   2314.0,2,     7.81,2,  7.3070
 3230CITHER2_2,  A17N,   210,  1,     24,     24,2,19940314,1051, 10.0418, -49.0780, 4851,    800.1,   5.8670,  34.6760,2,  34.6740,2,    116.3,2,    121.4,2,    27.10,2,    35.09,2,     2.33,2,    0.081,2,    0.046,2, -999.000,9,-999.0000,9,  -999.00,9,   2225.9,2,   2314.4,2,     7.81,2,  5.7960
 3230CITHER2_2,  A17N,   210,  1,     23,     23,2,19940314,1051, 10.0418, -49.0780, 4851,   1001.0,   5.1410,  34.7240,2,  34.7240,2,    139.2,2,    144.1,2,    28.50,2,    32.57,2,     2.20,2,    0.001,2,    0.001,2, -999.000,9,-999.0000,9,  -999.00,9,   2219.7,2,   2320.6,2,     7.85,2,  5.0560
 3230CITHER2_2,  A17N,   210,  1,     22,     22,2,19940314,1051, 10.0418, -49.0780, 4851,   1201.1,   5.0220,  34.8940,2,-999.0000,5,    174.5,2,    186.0,2,    23.40,2,    26.85,2,     1.81,2,    0.042,2,    0.021,2, -999.000,9,-999.0000,9,  -999.00,9,   2199.1,2,   2327.1,2,     7.92,2,  4.9190
 3230CITHER2_2,  A17N,   210,  1,     21,     21,2,19940314,1051, 10.0418, -49.0780, 4851,   1400.0,   4.8100,  35.0060,2,  35.0060,2,    208.3,2,    222.1,2,    17.60,2,    21.71,2,     1.43,2,    0.184,2,    0.102,2, -999.000,9,-999.0000,9,  -999.00,9,   2176.0,2,   2329.1,2,     7.98,2,  4.6900
 3230CITHER2_2,  A17N,   210,  1,     20,     20,2,19940314,1051, 10.0418, -49.0780, 4851,   1601.2,   4.3280,  35.0040,2,  35.0030,2,    242.9,2,    242.1,2,    16.20,2,    19.99,2,     1.32,2,    0.177,2,    0.098,2, -999.000,9,-999.0000,9,  -999.00,9,   2167.4,2,   2327.8,2,     8.00,2,  4.1940
 3230CITHER2_2,  A17N,   210,  1,     19,     19,2,19940314,1051, 10.0418, -49.0780, 4851,   1700.9,   4.1640,  35.0010,2,  35.0020,2,    249.7,2,    249.0,2,    15.90,2,    19.56,2,     1.28,2,    0.185,2,    0.107,2, -999.000,9,-999.0000,9,  -999.00,9,   2163.4,2,   2327.3,2,     8.01,2,  4.0230
 3230CITHER2_2,  A17N,   210,  1,     18,     18,2,19940314,1051, 10.0418, -49.0780, 4851,   1799.4,   3.9580,  34.9880,2,  34.9910,2,    252.7,2,    250.9,2,    17.00,2,    19.84,2,     1.30,2,    0.088,2,    0.052,2, -999.000,9,-999.0000,9,  -999.00,9,   2163.7,2,   2327.0,2,     8.01,2,  3.8100
 3230CITHER2_2,  A17N,   210,  1,     17,     17,2,19940314,1051, 10.0418, -49.0780, 4851,   2000.9,   3.7460,  34.9870,2,  34.9870,2,    259.1,2,    257.0,2,    17.10,2,    19.22,2,     1.25,2,    0.115,2,    0.067,2, -999.000,9,-999.0000,9,  -999.00,9,   2160.8,2,   2326.6,2,     8.02,2,  3.5820
 3230CITHER2_2,  A17N,   210,  1,     16,     16,2,19940314,1051, 10.0418, -49.0780, 4851,   2201.1,   3.4280,  34.9730,2,  34.9730,2,    261.4,2,    259.4,2,    19.20,2,    19.10,2,     1.25,2,    0.078,2,    0.049,2, -999.000,9,-999.0000,9,  -999.00,9,   2160.4,2,   2328.1,2,     8.02,2,  3.2500
 3230CITHER2_2,  A17N,   210,  1,     15,     15,2,19940314,1051, 10.0418, -49.0780, 4851,   2400.2,   3.1990,  34.9610,2,  34.9620,2,    261.7,2,    260.5,2,    21.30,2,    19.22,2,     1.26,2,    0.072,2,    0.039,2, -999.000,9,-999.0000,9,  -999.00,9,   2164.3,2,   2330.9,2,     8.02,2,  3.0050
 3230CITHER2_2,  A17N,   210,  1,     14,     14,2,19940314,1051, 10.0418, -49.0780, 4851,   2599.4,   3.0530,  34.9510,2,  34.9520,2,    261.1,2,    259.4,2,    24.20,2,    19.69,2,     1.29,2,    0.035,2,    0.022,2, -999.000,9,-999.0000,9,  -999.00,9,   2167.1,2,   2333.0,2,     8.02,2,  2.8420
 3230CITHER2_2,  A17N,   210,  1,     13,     13,2,19940314,1051, 10.0418, -49.0780, 4851,   2699.9,   2.9930,  34.9470,2,  34.9500,2,    260.4,2,    259.0,2,    24.80,2,    19.65,2,     1.29,2,    0.042,2,    0.021,2, -999.000,9,-999.0000,9,  -999.00,9,   2167.3,2,   2335.1,2,     8.02,2,  2.7730
 3230CITHER2_2,  A17N,   210,  1,     12,     12,2,19940314,1051, 10.0418, -49.0780, 4851,   2799.5,   2.9320,  34.9450,2,  34.9440,2,    260.3,2,    259.3,2,    25.60,2,    19.69,2,     1.29,2,    0.046,2,    0.028,2, -999.000,9,-999.0000,9,  -999.00,9,   2166.8,2,   2334.7,2,     8.02,2,  2.7030
 3230CITHER2_2,  A17N,   210,  1,     11,     11,2,19940314,1051, 10.0418, -49.0780, 4851,   3001.1,   2.8180,  34.9360,2,  34.9360,2,    258.8,2,    258.5,2,    27.90,2,    19.85,2,     1.30,2,    0.045,2,    0.025,2, -999.000,9,-999.0000,9,  -999.00,9,   2171.5,2,   2337.3,2,     8.02,2,  2.5710
 3230CITHER2_2,  A17N,   210,  1,     10,     10,2,19940314,1051, 10.0418, -49.0780, 4851,   3198.6,   2.7140,  34.9270,2,  34.9290,2,    256.2,2,    255.1,2,    32.10,2,    20.48,2,     1.35,2,    0.022,2,    0.011,2, -999.000,9,-999.0000,9,  -999.00,9,   2177.5,2,   2340.5,2,     8.01,2,  2.4490
 3230CITHER2_2,  A17N,   210,  1,      9,      9,2,19940314,1051, 10.0418, -49.0780, 4851,   3399.5,   2.6000,  34.9200,2,  34.9200,2,    258.3,2,    258.7,2,    31.70,2,    20.09,2,     1.33,2,    0.053,2,    0.028,2, -999.000,9,-999.0000,9,  -999.00,9,   2173.8,2,   2339.6,2,     8.01,2,  2.3160
 3230CITHER2_2,  A17N,   210,  1,      8,      8,2,19940314,1051, 10.0418, -49.0780, 4851,   3599.1,   2.5100,  34.9130,2,  34.9140,2,    261.8,2,    262.3,2,    30.10,2,    19.43,2,     1.30,2,    0.106,2,    0.056,2, -999.000,9,-999.0000,9,  -999.00,9,   2170.3,2,   2337.0,2,     8.01,2,  2.2060
 3230CITHER2_2,  A17N,   210,  1,      7,      7,2,19940314,1051, 10.0418, -49.0780, 4851,   3800.2,   2.4190,  34.9080,2,  34.9080,2,    263.6,2,    264.0,2,    30.40,2,    19.43,2,     1.29,2, -999.000,5, -999.000,5, -999.000,9,-999.0000,9,  -999.00,9,   2172.0,2,   2337.7,2,     8.01,2,  2.0960
 3230CITHER2_2,  A17N,   210,  1,      6,      6,2,19940314,1051, 10.0418, -49.0780, 4851,   3999.1,   2.3450,  34.9000,2,  34.9010,2,    262.1,2,    263.2,2,    32.90,2,    19.82,2,     1.31,2,    0.083,2,    0.049,2, -999.000,9,-999.0000,9,  -999.00,9,   2174.6,2,   2337.8,2,     8.01,2,  2.0010
 3230CITHER2_2,  A17N,   210,  1,      5,      5,2,19940314,1051, 10.0418, -49.0780, 4851,   4199.5,   2.3030,  34.8960,2,  34.8980,2,    262.3,2,    263.6,2,    34.00,2,    19.86,2,     1.32,2,    0.093,2,    0.055,2, -999.000,9,-999.0000,9,  -999.00,9,   2176.3,2,   2339.1,2,     8.01,2,  1.9370
 3230CITHER2_2,  A17N,   210,  1,      4,      4,2,19940314,1051, 10.0418, -49.0780, 4851,   4399.0,   2.2540,  34.8890,2,  34.8900,2,    261.3,2,    262.2,2,    36.80,2,    20.25,2,     1.34,2,    0.082,2,    0.053,2, -999.000,9,-999.0000,9,  -999.00,9,   2179.7,2,   2341.2,2,     8.01,2,  1.8660
 3230CITHER2_2,  A17N,   210,  1,      3,      3,2,19940314,1051, 10.0418, -49.0780, 4851,   4597.1,   2.1990,  34.8800,2,  34.8820,2,    259.0,2,    258.7,2,    41.30,2,    20.88,2,     1.39,2,    0.067,2,    0.040,2, -999.000,9,-999.0000,9,  -999.00,9,   2184.8,2,   2345.0,2,     8.00,2,  1.7890
 3230CITHER2_2,  A17N,   210,  1,      2,      2,2,19940314,1051, 10.0418, -49.0780, 4851,   4797.7,   2.0900,  34.8640,2,  34.8660,2,    253.2,2,    253.2,2,    49.70,2,    21.89,2,     1.47,2,    0.046,2,    0.029,2, -999.000,9,-999.0000,9,  -999.00,9,   2189.0,2,   2351.0,2,     7.99,2,  1.6600
 3230CITHER2_2,  A17N,   210,  1,      1,      1,2,19940314,1051, 10.0418, -49.0780, 4851,   4926.5,   1.7270,  34.8180,2,  34.8190,2,    240.1,2,    240.3,2,    71.90,2,    24.68,2,     1.69,2,    0.016,2,    0.012,2, -999.000,9,-999.0000,9,  -999.00,9,   2224.0,2,   2364.7,3,     7.97,2,  1.2930