BOTTLE,20030515WHPSIOSA
EXPOCODE,SECT_ID,STNNBR,CASTNO,SAMPNO,BTLNBR,BTLNBR_FLAG_W,DATE,TIME,LATITUDE,LONGITUDE,DEPTH,CTDPRS,CTDTMP,CTDSAL,CTDSAL_FLAG_W,SALNTY,SALNTY_FLAG_W,CTDOXY,CTDOXY_FLAG_W,OXYGEN,OXYGEN_FLAG_W,SILCAT,SILCAT_FLAG_W,NITRAT,NITRAT_FLAG_W,PHSPHT,PHSPHT_FLAG_W,CFC-11,CFC-11_FLAG_W,CFC-12,CFC-12_FLAG_W,TRITUM,TRITUM_FLAG_W,HELIUM,HELIUM_FLAG_W,DELHE3,DELHE3_FLAG_W,TCARBN,TCARBN_FLAG_W,ALKALI,ALKALI_FLAG_W,PH,PH_FLAG_W,THETA
,,,,,,,,,,,,DBAR,ITS-90,PSS-78,,PSS-78,,UMOL/KG,,UMOL/KG,,UMOL/KG,,UMOL/KG,,UMOL/KG,,PMOL/KG,,PMOL/KG,,TU,,NMOL/KG,,PERCNT,,UMOL/KG,,UMOL/KG,,,,DEG C
 3230CITHER2_2,  A17N,   193,  1,     17,     17,2,19940310,0335,  5.3753, -40.9762, 4663,   1800.5,   3.8250,  34.9810,2,  34.9800,2,    249.5,2,    249.4,2,    17.70,2,    20.13,2,     1.30,2,    0.050,2,    0.029,2, -999.000,9,-999.0000,9,  -999.00,9,   -999.0,9,   -999.0,9,     8.01,2,  3.6790
 3230CITHER2_2,  A17N,   193,  1,     16,     16,2,19940310,0335,  5.3753, -40.9762, 4663,   2000.0,   3.4830,  34.9670,2,  34.9620,2,    252.0,2,    252.2,2,    20.30,2,    20.15,2,     1.30,2,    0.024,2,    0.013,2, -999.000,9,-999.0000,9,  -999.00,9,   -999.0,9,   -999.0,9,     8.01,2,  3.3230
 3230CITHER2_2,  A17N,   193,  1,     15,     15,2,19940310,0335,  5.3753, -40.9762, 4663,   2199.6,   3.2560,  34.9570,2,  34.9590,2,    254.4,2,    254.7,2,    22.50,2,    20.16,2,     1.31,2,    0.012,2,    0.011,2, -999.000,9,-999.0000,9,  -999.00,9,   -999.0,9,   -999.0,9,     8.02,2,  3.0810
 3230CITHER2_2,  A17N,   193,  1,     14,     14,2,19940310,0335,  5.3753, -40.9762, 4663,   2398.9,   3.0900,  34.9500,2,  34.9480,2,    256.1,2,    255.3,2,    24.90,2,    20.02,2,     1.30,2,    0.011,2,    0.008,2, -999.000,9,-999.0000,9,  -999.00,9,   -999.0,9,   -999.0,9,     8.02,2,  2.8980
 3230CITHER2_2,  A17N,   193,  1,     13,     13,2,19940310,0335,  5.3753, -40.9762, 4663,   2699.7,   2.8910,  34.9410,2,  34.9350,2,    258.1,2,   -999.0,5,    25.60,2,    19.62,2,     1.30,2,    0.034,2,    0.021,2, -999.000,9,-999.0000,9,  -999.00,9,   -999.0,9,   -999.0,9,     8.02,2,  2.6730
 3230CITHER2_2,  A17N,   193,  1,     12,     12,2,19940310,0335,  5.3753, -40.9762, 4663,   2999.5,   2.7460,  34.9310,2,  34.9310,2,    258.0,2,    258.8,2,    27.60,2,    19.64,2,     1.30,2,    0.056,2,    0.032,2, -999.000,9,-999.0000,9,  -999.00,9,   -999.0,9,   -999.0,9,     8.02,2,  2.5010
 3230CITHER2_2,  A17N,   193,  1,     11,     11,2,19940310,0335,  5.3753, -40.9762, 4663,   3200.0,   2.6720,  34.9250,2,  34.9240,2,    258.5,2,    259.4,2,    28.90,2,    19.62,2,     1.30,2,    0.054,2,    0.031,2, -999.000,9,-999.0000,9,  -999.00,9,   -999.0,9,   -999.0,9,     8.02,2,  2.4080
 3230CITHER2_2,  A17N,   193,  1,     10,     10,2,19940310,0335,  5.3753, -40.9762, 4663,   3397.6,   2.5700,  34.9180,2,  34.9190,2,    258.3,2,    259.3,2,    30.70,2,    19.83,2,     1.32,2,    0.048,2,    0.030,2, -999.000,9,-999.0000,9,  -999.00,9,   -999.0,9,   -999.0,9,     8.01,2,  2.2870
 3230CITHER2_2,  A17N,   193,  1,      9,      9,2,19940310,0335,  5.3753, -40.9762, 4663,   3550.7,   2.4820,  34.9120,2,  34.9130,2,    259.9,2,    261.4,2,    30.50,2,    19.41,2,     1.29,2,    0.069,2,    0.045,2, -999.000,9,-999.0000,9,  -999.00,9,   -999.0,9,   -999.0,9,     8.01,2,  2.1850
 3230CITHER2_2,  A17N,   193,  1,      8,      8,2,19940310,0335,  5.3753, -40.9762, 4663,   3699.7,   2.3760,  34.9050,2,  34.9060,2,    262.1,2,    262.0,2,    32.00,2,    19.62,2,     1.29,2,    0.059,2,    0.037,2, -999.000,9,-999.0000,9,  -999.00,9,   -999.0,9,   -999.0,9,     8.01,2,  2.0650
 3230CITHER2_2,  A17N,   193,  1,      7,      7,2,19940310,0335,  5.3753, -40.9762, 4663,   3848.1,   2.2740,  34.8950,2,  34.8990,2,    262.1,2,    262.2,2,    34.00,2,    19.68,2,     1.30,2,    0.082,2,    0.049,2, -999.000,9,-999.0000,9,  -999.00,9,   -999.0,9,   -999.0,9,     8.01,2,  1.9490
 3230CITHER2_2,  A17N,   193,  1,      6,      6,2,19940310,0335,  5.3753, -40.9762, 4663,   3998.9,   2.2380,  34.8920,2,  34.8940,2,    262.6,2,    262.7,2,    34.80,2,    19.69,2,     1.30,2,    0.105,2,    0.064,2, -999.000,9,-999.0000,9,  -999.00,9,   -999.0,9,   -999.0,9,     8.01,2,  1.8970
 3230CITHER2_2,  A17N,   193,  1,      5,      5,2,19940310,0335,  5.3753, -40.9762, 4663,   4198.5,   2.1890,  34.8840,2,  34.8870,2,    260.5,2,    260.2,2,    38.60,2,    20.22,2,     1.35,2,    0.088,2,    0.054,2, -999.000,9,-999.0000,9,  -999.00,9,   -999.0,9,   -999.0,9,     8.01,2,  1.8270
 3230CITHER2_2,  A17N,   193,  1,      4,      4,2,19940310,0335,  5.3753, -40.9762, 4663,   4398.5,   2.0710,  34.8680,2,  34.8680,2,    256.2,2,    255.0,2,    46.90,2,    21.35,2,     1.44,2,    0.066,2,    0.045,2, -999.000,9,-999.0000,9,  -999.00,9,   -999.0,9,   -999.0,9,     8.00,2,  1.6890
 3230CITHER2_2,  A17N,   193,  1,      3,      3,2,19940310,0335,  5.3753, -40.9762, 4663,   4597.0,   1.4920,  34.7960,2,  34.8000,2,    240.3,2,    238.4,2,    78.90,2,    25.56,2,     1.80,2,    0.018,2,    0.018,2, -999.000,9,-999.0000,9,  -999.00,9,   -999.0,9,   -999.0,9,     7.96,2,  1.1050
 3230CITHER2_2,  A17N,   193,  1,      2,      2,2,19940310,0335,  5.3753, -40.9762, 4663,   4698.6,   1.4430,  34.7910,2,  34.7930,2,    236.4,2,    236.9,2,    82.00,2,    25.94,2,     1.83,2,    0.019,2,    0.012,2, -999.000,9,-999.0000,9,  -999.00,9,   -999.0,9,   -999.0,9,     7.95,2,  1.0460
 3230CITHER2_2,  A17N,   193,  1,      1,      1,2,19940310,0335,  5.3753, -40.9762, 4663,   4726.0,   1.4460,  34.7900,2,  34.7950,2,    236.2,2,    236.4,2,    82.00,2,    26.07,2,     1.85,2,    0.017,2,    0.018,2, -999.000,9,-999.0000,9,  -999.00,9,   -999.0,9,   -999.0,9,     7.95,2,  1.0460
 3230CITHER2_2,  A17N,   194,  1,     16,     16,2,19940310,0809,  5.3740, -40.9750, 4655,      5.6,  26.3940,  36.0800,2,  36.0790,2,    200.4,2,    201.6,2,     1.60,2,     0.24,2,     0.03,2,    1.757,2,    1.000,2, -999.000,9,-999.0000,9,  -999.00,9,   -999.0,9,   -999.0,9,     8.39,2, 26.3930
 3230CITHER2_2,  A17N,   194,  1,     15,     15,2,19940310,0809,  5.3740, -40.9750, 4655,     70.9,  26.3630,  36.0940,2,  36.1410,2,    198.4,2,    196.9,2,     1.70,2,     0.47,2,     0.06,2,    1.723,2,    0.978,2, -999.000,9,-999.0000,9,  -999.00,9,   -999.0,9,   -999.0,9,     8.37,2, 26.3470
 3230CITHER2_2,  A17N,   194,  1,     14,     14,2,19940310,0809,  5.3740, -40.9750, 4655,    126.4,  20.3860,  36.2340,2,  36.0630,2,    141.3,2,    142.2,2,     5.10,2,    12.35,2,     0.77,2,    1.534,2,    0.833,2, -999.000,9,-999.0000,9,  -999.00,9,   -999.0,9,   -999.0,9,     8.15,2, 20.3620
 3230CITHER2_2,  A17N,   194,  1,     13,     13,2,19940310,0809,  5.3740, -40.9750, 4655,    202.0,  10.0830,  34.9240,2,  34.9220,2,    125.1,2,    140.9,2,    12.50,2,    24.15,2,     1.61,2,    0.897,2,    0.476,2, -999.000,9,-999.0000,9,  -999.00,9,   -999.0,9,   -999.0,9,     7.96,2, 10.0590
 3230CITHER2_2,  A17N,   194,  1,     12,     12,2,19940310,0809,  5.3740, -40.9750, 4655,    298.0,   9.1050,  34.8200,2,  34.8170,2,    127.4,2,    133.8,2,    15.00,2,    27.37,2,     1.79,2,    0.646,2,    0.343,2, -999.000,9,-999.0000,9,  -999.00,9,   -999.0,9,   -999.0,9,     7.92,2,  9.0720
 3230CITHER2_2,  A17N,   194,  1,     11,     11,2,19940310,0809,  5.3740, -40.9750, 4655,    401.4,   8.1800,  34.7620,2,  34.7600,2,    114.2,2,    110.3,2,    18.20,2,    31.94,2,     2.04,2,    0.282,2,    0.156,2, -999.000,9,-999.0000,9,  -999.00,9,   -999.0,9,   -999.0,9,     7.86,2,  8.1380
 3230CITHER2_2,  A17N,   194,  1,     10,     10,2,19940310,0809,  5.3740, -40.9750, 4655,    500.9,   7.0380,  34.6560,2,  34.6470,2,    113.7,2,    115.2,2,    22.00,2,    34.02,2,     2.20,2,    0.133,2,    0.078,2, -999.000,9,-999.0000,9,  -999.00,9,   -999.0,9,   -999.0,9,     7.83,2,  6.9900
 3230CITHER2_2,  A17N,   194,  1,      9,      9,2,19940310,0809,  5.3740, -40.9750, 4655,    600.7,   6.3300,  34.6130,2,  34.6090,2,    118.6,2,    119.3,2,    24.60,2,    34.74,2,     2.27,2,    0.073,2,    0.040,2, -999.000,9,-999.0000,9,  -999.00,9,   -999.0,9,   -999.0,9,     7.82,2,  6.2750
 3230CITHER2_2,  A17N,   194,  1,      8,      8,2,19940310,0809,  5.3740, -40.9750, 4655,    800.3,   5.1410,  34.5890,2,  34.5900,2,    135.1,2,    135.3,2,    29.70,2,    34.85,2,     2.33,2,    0.013,2,    0.006,2, -999.000,9,-999.0000,9,  -999.00,9,   -999.0,9,   -999.0,9,     7.83,2,  5.0750
 3230CITHER2_2,  A17N,   194,  1,      7,      7,2,19940310,0809,  5.3740, -40.9750, 4655,   1001.1,   4.8400,  34.6940,2,  34.6920,2,    147.6,2,    148.3,2,    29.50,2,    32.95,2,     2.21,2,    0.006,2,    0.003,2, -999.000,9,-999.0000,9,  -999.00,9,   -999.0,9,   -999.0,9,     7.85,2,  4.7570
 3230CITHER2_2,  A17N,   194,  1,      6,      6,2,19940310,0809,  5.3740, -40.9750, 4655,   1200.7,   4.9050,  34.8970,2,  34.9000,2,    186.5,2,    186.2,2,    23.10,2,    26.14,2,     1.75,2,    0.052,2,    0.027,2, -999.000,9,-999.0000,9,  -999.00,9,   -999.0,9,   -999.0,9,     7.93,2,  4.8030
 3230CITHER2_2,  A17N,   194,  1,      5,      5,2,19940310,0809,  5.3740, -40.9750, 4655,   1401.4,   4.6340,  34.9690,2,  34.9730,2,    214.0,2,    216.0,2,    19.40,2,    22.67,2,     1.50,2,    0.048,2,    0.030,2, -999.000,9,-999.0000,9,  -999.00,9,   -999.0,9,   -999.0,9,     7.97,2,  4.5160
 3230CITHER2_2,  A17N,   194,  1,      4,      4,2,19940310,0809,  5.3740, -40.9750, 4655,   1551.7,   4.3300,  34.9850,2,  34.9860,2,    233.7,2,    233.4,2,    17.80,2,    21.10,2,     1.38,2,    0.099,2,    0.055,2, -999.000,9,-999.0000,9,  -999.00,9,   -999.0,9,   -999.0,9,     7.99,2,  4.2010
 3230CITHER2_2,  A17N,   194,  1,      3,      3,2,19940310,0809,  5.3740, -40.9750, 4655,   1552.3,   4.3250,  34.9850,2,  34.9860,2,    233.7,2,    233.6,2,    17.80,2,    21.10,2,     1.38,2,    0.091,2,    0.048,2, -999.000,9,-999.0000,9,  -999.00,9,   -999.0,9,   -999.0,9,     7.99,2,  4.1960
 3230CITHER2_2,  A17N,   194,  1,      2,      2,2,19940310,0809,  5.3740, -40.9750, 4655,   1700.5,   4.0360,  34.9830,2,  34.9840,2,    243.2,2,    242.5,2,    18.00,2,    20.48,2,     1.36,2,    0.092,2,    0.053,2, -999.000,9,-999.0000,9,  -999.00,9,   -999.0,9,   -999.0,9,     8.01,2,  3.8970
 3230CITHER2_2,  A17N,   194,  1,      1,      1,2,19940310,0809,  5.3740, -40.9750, 4655,   1800.1,   3.8850,  34.9810,2,-999.0000,5,    248.1,2,   -999.0,5,    18.30,2,    20.13,2,     1.30,2,    0.050,2,    0.034,2, -999.000,9,-999.0000,9,  -999.00,9,   -999.0,9,   -999.0,9,     8.01,2,  3.7380