BOTTLE,20030515WHPSIOSA
EXPOCODE,SECT_ID,STNNBR,CASTNO,SAMPNO,BTLNBR,BTLNBR_FLAG_W,DATE,TIME,LATITUDE,LONGITUDE,DEPTH,CTDPRS,CTDTMP,CTDSAL,CTDSAL_FLAG_W,SALNTY,SALNTY_FLAG_W,CTDOXY,CTDOXY_FLAG_W,OXYGEN,OXYGEN_FLAG_W,SILCAT,SILCAT_FLAG_W,NITRAT,NITRAT_FLAG_W,PHSPHT,PHSPHT_FLAG_W,CFC-11,CFC-11_FLAG_W,CFC-12,CFC-12_FLAG_W,TRITUM,TRITUM_FLAG_W,HELIUM,HELIUM_FLAG_W,DELHE3,DELHE3_FLAG_W,TCARBN,TCARBN_FLAG_W,ALKALI,ALKALI_FLAG_W,PH,PH_FLAG_W,THETA
,,,,,,,,,,,,DBAR,ITS-90,PSS-78,,PSS-78,,UMOL/KG,,UMOL/KG,,UMOL/KG,,UMOL/KG,,UMOL/KG,,PMOL/KG,,PMOL/KG,,TU,,NMOL/KG,,PERCNT,,UMOL/KG,,UMOL/KG,,,,DEG C
 3230CITHER2_1,  A17C,    78,  1,     31,     31,2,19940201,0857,-28.5305, -37.6430, 4450,      5.8,  24.4870,  35.7450,2,  35.7550,2,    210.3,2,    211.2,2,     1.00,2,     0.04,2,     0.03,2,    2.038,2,    1.366,2, -999.000,9,-999.0000,9,  -999.00,9,   2014.7,2,   -999.0,9,     8.34,2, 24.4860
 3230CITHER2_1,  A17C,    78,  1,     30,     30,2,19940201,0857,-28.5305, -37.6430, 4450,     50.2,  21.0670,  36.0030,2,  36.0010,2,    234.0,2,    233.9,2,     1.00,2,     0.04,2,     0.03,2,    2.384,2,    1.538,2, -999.000,9,-999.0000,9,  -999.00,9,   2042.0,2,   -999.0,9,     8.33,2, 21.0570
 3230CITHER2_1,  A17C,    78,  1,     29,     29,2,19940201,0857,-28.5305, -37.6430, 4450,    101.7,  18.2720,  36.0010,2,  35.9930,2,    221.1,2,    225.1,2,     1.10,2,     0.21,2,     0.12,2,    2.480,2,    1.581,2, -999.000,9,-999.0000,9,  -999.00,9,   2064.8,2,   -999.0,9,     8.29,2, 18.2540
 3230CITHER2_1,  A17C,    78,  1,     28,     28,2,19940201,0857,-28.5305, -37.6430, 4450,    151.2,  16.7430,  35.7790,2,  35.7610,2,    214.8,2,    215.7,2,     1.60,2,     2.65,2,     0.29,2,    2.582,2,    1.619,2, -999.000,9,-999.0000,9,  -999.00,9,   2079.1,2,   -999.0,9,     8.25,2, 16.7180
 3230CITHER2_1,  A17C,    78,  1,     27,     27,2,19940201,0857,-28.5305, -37.6430, 4450,    202.0,  15.7370,  35.6280,2,  35.6290,2,    217.5,2,    218.7,2,     1.80,2,     3.69,2,     0.37,2,    2.661,2,    1.650,2, -999.000,9,-999.0000,9,  -999.00,9,   2082.6,2,   -999.0,9,     8.23,2, 15.7050
 3230CITHER2_1,  A17C,    78,  1,     26,     26,2,19940201,0857,-28.5305, -37.6430, 4450,    301.2,  14.1770,  35.3960,2,  35.3940,2,    214.1,2,    211.1,2,     2.70,2,     7.59,2,     0.63,2,    2.548,2,    1.561,2, -999.000,9,-999.0000,9,  -999.00,9,   2099.3,2,   -999.0,9,     8.18,2, 14.1330
 3230CITHER2_1,  A17C,    78,  1,     25,     25,2,19940201,0857,-28.5305, -37.6430, 4450,    400.7,  12.3130,  35.1380,2,  35.1310,2,    210.6,2,    208.0,2,     4.20,2,    12.08,2,     0.90,2,    2.328,2,    1.423,2, -999.000,9,-999.0000,9,  -999.00,9,   2113.4,2,   -999.0,9,     8.13,2, 12.2590
 3230CITHER2_1,  A17C,    78,  1,     24,     24,2,19940201,0857,-28.5305, -37.6430, 4450,    501.9,  10.2740,  34.8550,2,  34.8470,2,    208.6,2,    206.2,2,     6.80,2,    17.31,2,     1.22,2,    2.043,2,    1.239,2, -999.000,9,-999.0000,9,  -999.00,9,   2129.1,2,   -999.0,9,     8.07,2, 10.2140
 3230CITHER2_1,  A17C,    78,  1,     23,     23,2,19940201,0857,-28.5305, -37.6430, 4450,    599.4,   7.6260,  34.5570,2,  34.5510,2,    207.9,2,    207.2,2,    11.80,2,    23.33,2,     1.63,2,    1.707,2,    1.044,2, -999.000,9,-999.0000,9,  -999.00,9,   2148.3,2,   -999.0,9,     7.99,2,  7.5660
 3230CITHER2_1,  A17C,    78,  1,     22,     22,2,19940201,0857,-28.5305, -37.6430, 4450,    750.4,   5.4600,  34.3670,2,  34.3690,2,    220.0,2,    220.6,2,    17.80,2,    27.64,2,     1.90,2,    1.514,2,    0.924,2, -999.000,9,-999.0000,9,  -999.00,9,   2164.4,2,   -999.0,9,     7.96,2,  5.3960
 3230CITHER2_1,  A17C,    78,  1,     21,     21,2,19940201,0857,-28.5305, -37.6430, 4450,    870.2,   4.3490,  34.3100,2,  34.3080,2,    223.4,2,    222.4,2,    25.10,2,    30.13,2,     2.07,2,    1.173,2,    0.720,2, -999.000,9,-999.0000,9,  -999.00,9,   2177.7,2,   -999.0,9,     7.93,2,  4.2820
 3230CITHER2_1,  A17C,    78,  1,     20,     20,2,19940201,0857,-28.5305, -37.6430, 4450,   1000.4,   3.6280,  34.3220,2,  34.3230,2,    215.0,2,    214.4,2,    34.20,2,    31.84,2,     2.19,2,    0.763,2,    0.487,2, -999.000,9,-999.0000,9,  -999.00,9,   2193.8,2,   -999.0,9,     7.90,2,  3.5550
 3230CITHER2_1,  A17C,    78,  1,     19,     19,2,19940201,0857,-28.5305, -37.6430, 4450,   1199.9,   3.1650,  34.4380,2,  34.4380,2,    195.0,2,    194.3,2,    47.80,2,    33.19,2,     2.28,2,    0.252,2,    0.175,2, -999.000,9,-999.0000,9,  -999.00,9,   2217.9,2,   -999.0,9,     7.87,2,  3.0800
 3230CITHER2_1,  A17C,    78,  1,     18,     18,2,19940201,0857,-28.5305, -37.6430, 4450,   1400.1,   2.9510,  34.5730,2,  34.5690,2,    188.7,2,    189.1,2,    54.70,2,    32.38,2,     2.21,2,    0.065,2,    0.046,2, -999.000,9,-999.0000,9,  -999.00,9,   2225.1,2,   -999.0,9,     7.88,2,  2.8520
 3230CITHER2_1,  A17C,    78,  1,     17,     17,2,19940201,0857,-28.5305, -37.6430, 4450,   1600.7,   2.8610,  34.6740,2,  34.6740,2,    195.1,2,    195.7,2,    55.00,2,    30.14,2,     2.07,2,    0.020,2,    0.010,2, -999.000,9,-999.0000,9,  -999.00,9,   2222.7,2,   -999.0,9,     7.89,2,  2.7460
 3230CITHER2_1,  A17C,    78,  1,     16,     16,2,19940201,0857,-28.5305, -37.6430, 4450,   1799.3,   2.8660,  34.7600,2,  34.7580,2,    207.2,2,    210.1,2,    51.00,2,    28.05,2,     1.92,2,    0.015,2,    0.013,2, -999.000,9,-999.0000,9,  -999.00,9,   2212.8,2,   -999.0,9,     7.92,2,  2.7340
 3230CITHER2_1,  A17C,    78,  1,     15,     15,2,19940201,0857,-28.5305, -37.6430, 4450,   1998.3,   3.1010,  34.8690,2,  34.8670,2,    230.4,2,    230.7,2,    37.90,2,    23.67,2,     1.62,2,    0.012,2,    0.014,2, -999.000,9,-999.0000,9,  -999.00,9,   2189.7,2,   -999.0,9,     7.97,2,  2.9470
 3230CITHER2_1,  A17C,    78,  1,     14,     14,2,19940201,0857,-28.5305, -37.6430, 4450,   2199.2,   3.0200,  34.8900,2,  34.8890,2,    238.6,2,    238.1,2,    35.80,2,    22.67,2,     1.55,2,    0.010,2,    0.017,2, -999.000,9,-999.0000,9,  -999.00,9,   2185.2,2,   -999.0,9,     7.99,2,  2.8490
 3230CITHER2_1,  A17C,    78,  1,     13,     13,2,19940201,0857,-28.5305, -37.6430, 4450,   2399.2,   2.9540,  34.9080,2,  34.9050,2,    245.0,2,    244.7,2,    33.70,2,    21.68,2,     1.48,2,    0.009,2,    0.015,2, -999.000,9,-999.0000,9,  -999.00,9,   2180.7,2,   -999.0,9,     8.00,2,  2.7650
 3230CITHER2_1,  A17C,    78,  1,     12,     12,2,19940201,0857,-28.5305, -37.6430, 4450,   2598.8,   2.9000,  34.9210,2,  34.9190,2,    247.9,2,    248.6,2,    32.50,2,    21.02,2,     1.44,2,    0.010,2,    0.011,2, -999.000,9,-999.0000,9,  -999.00,9,   2177.8,2,   -999.0,9,     8.00,2,  2.6920
 3230CITHER2_1,  A17C,    78,  1,     11,     11,2,19940201,0857,-28.5305, -37.6430, 4450,   2799.9,   2.8160,  34.9200,2,  34.9170,2,    250.5,2,    250.3,2,    33.40,2,    21.02,2,     1.43,2,    0.011,2,    0.010,2, -999.000,9,-999.0000,9,  -999.00,9,   2177.9,2,   2339.5,2,     8.01,2,  2.5900
 3230CITHER2_1,  A17C,    78,  1,     10,     10,2,19940201,0857,-28.5305, -37.6430, 4450,   2999.7,   2.7260,  34.9180,2,  34.9180,2,    252.4,2,    251.4,2,    34.70,2,    20.94,2,     1.43,2,    0.017,2,    0.019,2, -999.000,9,-999.0000,9,  -999.00,9,   2178.4,2,   2341.5,2,     8.01,2,  2.4810
 3230CITHER2_1,  A17C,    78,  1,      8,      8,2,19940201,0857,-28.5305, -37.6430, 4450,   3198.8,   2.5950,  34.9110,2,  34.9030,2,    253.2,2,    252.4,2,    37.10,2,    21.12,2,     1.43,2,    0.015,2,    0.018,2, -999.000,9,-999.0000,9,  -999.00,9,   2180.3,2,   2343.2,2,     8.01,2,  2.3320
 3230CITHER2_1,  A17C,    78,  1,      9,      9,2,19940201,0857,-28.5305, -37.6430, 4450,   3199.6,   2.5950,  34.9100,2,  34.9120,2,    253.3,2,    252.4,2,    36.90,2,    21.12,2,     1.43,2,    0.018,2,    0.016,2, -999.000,9,-999.0000,9,  -999.00,9,   -999.0,5,   2343.2,2,     8.01,2,  2.3320
 3230CITHER2_1,  A17C,    78,  1,      7,      7,2,19940201,0857,-28.5305, -37.6430, 4450,   3398.2,   2.3930,  34.8920,2,  34.8930,2,    252.0,2,    250.9,2,    43.20,2,    21.79,2,     1.49,2,    0.013,2,    0.021,2, -999.000,9,-999.0000,9,  -999.00,9,   2186.3,2,   2346.9,2,     8.00,2,  2.1140
 3230CITHER2_1,  A17C,    78,  1,      6,      6,2,19940201,0857,-28.5305, -37.6430, 4450,   3599.3,   2.0160,  34.8550,2,  34.8550,2,    246.7,2,    244.9,2,    58.10,2,    23.46,2,     1.61,2,    0.011,2,    0.007,2, -999.000,9,-999.0000,9,  -999.00,9,   2199.7,2,   2354.2,2,     7.98,2,  1.7250
 3230CITHER2_1,  A17C,    78,  1,      5,      5,2,19940201,0857,-28.5305, -37.6430, 4450,   3798.7,   1.6310,  34.8140,2,  34.8150,2,    239.5,2,    238.4,2,    75.20,2,    25.95,2,     1.78,2,    0.004,2,    0.007,2, -999.000,9,-999.0000,9,  -999.00,9,   2217.0,2,   2360.3,2,     7.96,2,  1.3290
 3230CITHER2_1,  A17C,    78,  1,      4,      4,2,19940201,0857,-28.5305, -37.6430, 4450,   3998.3,   1.4240,  34.7910,2,  34.7870,2,    235.1,2,    234.8,2,    85.10,2,    27.31,2,     1.88,2,    0.013,2,    0.014,2, -999.000,9,-999.0000,9,  -999.00,9,   2225.9,2,   2367.0,2,     7.95,2,  1.1070
 3230CITHER2_1,  A17C,    78,  1,      3,      3,2,19940201,0857,-28.5305, -37.6430, 4450,   4198.5,   1.2750,  34.7730,2,  34.7710,2,    232.0,2,    231.9,2,    92.50,2,    28.35,2,     1.94,2,    0.011,2,    0.012,2, -999.000,9,-999.0000,9,  -999.00,9,   2233.5,2,   2371.3,2,     7.94,2,  0.9400
 3230CITHER2_1,  A17C,    78,  1,      2,      2,2,19940201,0857,-28.5305, -37.6430, 4450,   4398.4,   1.1410,  34.7570,2,  34.7560,2,    229.8,2,    229.5,2,    98.60,2,    29.19,2,     2.00,2,    0.017,2,    0.024,2, -999.000,9,-999.0000,9,  -999.00,9,   2239.2,2,   2371.2,2,     7.93,2,  0.7880
 3230CITHER2_1,  A17C,    78,  1,      1,      1,2,19940201,0857,-28.5305, -37.6430, 4450,   4498.2,   0.5390,  34.7000,2,  34.7020,2,    227.4,2,    226.0,2,   118.70,2,    31.90,2,     2.20,2,    0.092,2,    0.049,2, -999.000,9,-999.0000,9,  -999.00,9,   2257.1,2,   2378.3,2,     7.90,2,  0.1940
 3230CITHER2_1,  A17C,    79,  1,     32,     32,2,19940201,1440,-28.1265, -37.3005, 4529,      6.6,  25.6500,  36.0370,2,  36.0420,2,    201.3,2,    207.7,2,     1.10,2,     0.04,2,     0.02,2,    2.006,2,    1.264,2, -999.000,9,-999.0000,9,  -999.00,9,   2023.6,2,   -999.0,9,     8.36,2, 25.6490
 3230CITHER2_1,  A17C,    79,  1,     31,     31,2,19940201,1440,-28.1265, -37.3005, 4529,     26.0,  25.3270,  36.2640,2,  36.2740,2,    208.5,2,    209.2,2,     1.00,2,     0.04,2,     0.02,2,    2.038,2,    1.272,2, -999.000,9,-999.0000,9,  -999.00,9,   2035.8,2,   -999.0,9,     8.36,2, 25.3210
 3230CITHER2_1,  A17C,    79,  1,     29,     29,2,19940201,1440,-28.1265, -37.3005, 4529,     55.9,  21.9650,  36.3730,2,  36.3530,2,    234.5,2,    234.4,2,     1.10,2,     0.04,2,     0.01,2,    2.375,2,    1.421,2, -999.000,9,-999.0000,9,  -999.00,9,   2045.6,2,   -999.0,9,     8.35,2, 21.9540
 3230CITHER2_1,  A17C,    79,  1,     30,     30,2,19940201,1440,-28.1265, -37.3005, 4529,     56.4,  21.9790,  36.3770,2,  36.3600,2,    234.5,2,    234.9,2,     1.10,2,     0.04,2,     0.01,2,    2.375,2,    1.424,2, -999.000,9,-999.0000,9,  -999.00,9,   -999.0,5,   -999.0,9,     8.35,2, 21.9680
 3230CITHER2_1,  A17C,    79,  1,     28,     28,2,19940201,1440,-28.1265, -37.3005, 4529,    100.9,  18.9880,  36.0890,2,  36.0880,2,    223.1,2,    226.5,2,     1.10,2,     0.04,2,     0.07,2,    2.526,2,    1.504,2, -999.000,9,-999.0000,9,  -999.00,9,   2058.2,2,   -999.0,9,     8.31,2, 18.9700
 3230CITHER2_1,  A17C,    79,  1,     27,     27,2,19940201,1440,-28.1265, -37.3005, 4529,    151.3,  17.4960,  35.8410,2,  35.8390,2,    212.0,2,    213.4,2,     1.50,2,     1.67,2,     0.23,2,    2.575,2,    1.512,2, -999.000,9,-999.0000,9,  -999.00,9,   2073.8,2,   -999.0,9,     8.26,2, 17.4700
 3230CITHER2_1,  A17C,    79,  1,     26,     26,2,19940201,1440,-28.1265, -37.3005, 4529,    200.8,  16.1580,  35.6390,2,  35.6360,2,    206.8,2,    207.6,2,     2.00,2,     3.89,2,     0.41,2,    2.580,2,    1.500,2, -999.000,9,-999.0000,9,  -999.00,9,   2087.1,2,   -999.0,9,     8.22,2, 16.1260
 3230CITHER2_1,  A17C,    79,  1,     25,     25,2,19940201,1440,-28.1265, -37.3005, 4529,    300.9,  14.0030,  35.3530,2,  35.3540,2,    208.0,2,    207.2,2,     3.00,2,     7.99,2,     0.65,2,    2.537,2,    1.440,2, -999.000,9,-999.0000,9,  -999.00,9,   2100.0,2,   -999.0,9,     8.18,2, 13.9590
 3230CITHER2_1,  A17C,    79,  1,     24,     24,2,19940201,1440,-28.1265, -37.3005, 4529,    401.5,  12.2050,  35.1200,2,  35.1160,2,    210.5,2,    208.3,2,     4.30,2,    12.09,2,     0.89,2,    2.408,2,    1.366,2, -999.000,9,-999.0000,9,  -999.00,9,   2113.2,2,   -999.0,9,     8.13,2, 12.1520
 3230CITHER2_1,  A17C,    79,  1,     23,     23,2,19940201,1440,-28.1265, -37.3005, 4529,    500.0,  10.2700,  34.8580,2,  34.8530,2,    203.9,2,    203.2,2,     7.20,2,    17.28,2,     1.22,2,    1.987,2,    1.139,2, -999.000,9,-999.0000,9,  -999.00,9,   2130.3,2,   -999.0,9,     8.07,2, 10.2100
 3230CITHER2_1,  A17C,    79,  1,     22,     22,2,19940201,1440,-28.1265, -37.3005, 4529,    600.6,   7.9770,  34.5870,2,  34.5790,2,    209.9,2,    210.1,2,    10.40,2,    22.05,2,     1.54,2,    1.997,2,    1.121,2, -999.000,9,-999.0000,9,  -999.00,9,   2139.2,2,   -999.0,9,     8.01,2,  7.9150
 3230CITHER2_1,  A17C,    79,  1,     21,     21,2,19940201,1440,-28.1265, -37.3005, 4529,    700.7,   5.9070,  34.3920,2,  34.3910,2,    217.3,2,    219.1,2,    16.00,2,    26.23,2,     1.83,2,    1.712,2,    0.969,2, -999.000,9,-999.0000,9,  -999.00,9,   2160.1,2,   -999.0,9,     7.97,2,  5.8450
 3230CITHER2_1,  A17C,    79,  1,     20,     20,2,19940201,1440,-28.1265, -37.3005, 4529,    875.0,   4.2020,  34.3060,2,  34.3050,2,    222.4,2,    222.3,2,    26.00,2,    29.94,2,     2.06,2,    1.175,2,    0.675,2, -999.000,9,-999.0000,9,  -999.00,9,   2179.1,2,   -999.0,9,     7.93,2,  4.1360
 3230CITHER2_1,  A17C,    79,  1,     19,     19,2,19940201,1440,-28.1265, -37.3005, 4529,    999.7,   3.5860,  34.3550,2,  34.3500,2,    211.2,2,    207.2,2,    37.00,2,    31.93,2,     2.20,2,    0.630,2,    0.375,2, -999.000,9,-999.0000,9,  -999.00,9,   2198.5,2,   -999.0,9,     7.90,2,  3.5140
 3230CITHER2_1,  A17C,    79,  1,     18,     18,2,19940201,1440,-28.1265, -37.3005, 4529,   1200.5,   3.1020,  34.4740,2,  34.4690,2,    192.9,2,    191.2,2,    49.80,2,    32.73,2,     2.26,2,    0.190,2,    0.127,2, -999.000,9,-999.0000,9,  -999.00,9,   -999.0,9,   -999.0,9,     7.88,2,  3.0180
 3230CITHER2_1,  A17C,    79,  1,     17,     17,2,19940201,1440,-28.1265, -37.3005, 4529,   1400.2,   2.9440,  34.6140,2,  34.6090,2,    188.7,2,    191.3,2,    54.20,2,    31.27,2,     2.15,2,    0.051,2,    0.041,2, -999.000,9,-999.0000,9,  -999.00,9,   -999.0,9,   -999.0,9,     7.89,2,  2.8450
 3230CITHER2_1,  A17C,    79,  1,     16,     16,2,19940201,1440,-28.1265, -37.3005, 4529,   1599.8,   2.9110,  34.7120,2,  34.7110,2,    197.8,2,    200.7,2,    52.20,2,    29.14,2,     1.99,2,    0.022,2,    0.017,2, -999.000,9,-999.0000,9,  -999.00,9,   -999.0,9,   -999.0,9,     7.92,2,  2.7950
 3230CITHER2_1,  A17C,    79,  1,     15,     15,2,19940201,1440,-28.1265, -37.3005, 4529,   1799.7,   2.8260,  34.7740,2,  34.7740,2,    208.1,2,    211.1,2,    49.80,2,    27.12,2,     1.86,2,    0.011,2,    0.014,2, -999.000,9,-999.0000,9,  -999.00,9,   -999.0,9,   -999.0,9,     7.95,2,  2.6940
 3230CITHER2_1,  A17C,    79,  1,     14,     14,2,19940201,1440,-28.1265, -37.3005, 4529,   1999.4,   2.8930,  34.8350,2,  34.8330,2,    222.8,2,    224.8,2,    43.60,2,    24.67,2,     1.70,2,    0.009,2,    0.011,2, -999.000,9,-999.0000,9,  -999.00,9,   -999.0,9,   -999.0,9,     7.97,2,  2.7420
 3230CITHER2_1,  A17C,    79,  1,     13,     13,2,19940201,1440,-28.1265, -37.3005, 4529,   2199.6,   3.0770,  34.9070,2,  34.9050,2,    238.1,2,    241.1,2,    32.90,2,    21.80,2,     1.48,2,    0.014,2,    0.015,2, -999.000,9,-999.0000,9,  -999.00,9,   -999.0,9,   -999.0,9,     8.00,2,  2.9050
 3230CITHER2_1,  A17C,    79,  1,     12,     12,2,19940201,1440,-28.1265, -37.3005, 4529,   2400.3,   3.0570,  34.9260,2,  34.9240,2,    247.3,2,    247.6,2,    30.30,2,    20.93,2,     1.42,2,    0.018,2,    0.019,2, -999.000,9,-999.0000,9,  -999.00,9,   -999.0,9,   -999.0,9,     8.01,2,  2.8660
 3230CITHER2_1,  A17C,    79,  1,     11,     11,2,19940201,1440,-28.1265, -37.3005, 4529,   2600.8,   2.9830,  34.9310,2,  34.9290,2,    250.9,2,    250.1,2,    30.00,2,    20.60,2,     1.39,2,    0.018,2,    0.021,2, -999.000,9,-999.0000,9,  -999.00,9,   -999.0,9,   -999.0,9,     8.02,2,  2.7730
 3230CITHER2_1,  A17C,    79,  1,     10,     10,2,19940201,1440,-28.1265, -37.3005, 4529,   2799.7,   2.8610,  34.9230,2,  34.9210,2,    250.5,2,    249.5,2,    32.70,2,    20.85,2,     1.41,2,    0.019,2,    0.015,2, -999.000,9,-999.0000,9,  -999.00,9,   -999.0,9,   -999.0,9,     8.01,2,  2.6340
 3230CITHER2_1,  A17C,    79,  1,      9,      9,2,19940201,1440,-28.1265, -37.3005, 4529,   3000.1,   2.7890,  34.9230,2,  34.9230,2,    251.4,2,    251.0,2,    33.20,2,    20.65,2,     1.42,2,    0.017,2,    0.019,2, -999.000,9,-999.0000,9,  -999.00,9,   -999.0,9,   -999.0,9,     8.02,2,  2.5430
 3230CITHER2_1,  A17C,    79,  1,      8,      8,2,19940201,1440,-28.1265, -37.3005, 4529,   3199.4,   2.6680,  34.9150,2,  34.9110,2,    253.0,2,    251.5,2,    35.50,2,    20.74,2,     1.42,2,    0.013,2,    0.017,2, -999.000,9,-999.0000,9,  -999.00,9,   -999.0,9,   -999.0,9,     8.01,2,  2.4040
 3230CITHER2_1,  A17C,    79,  1,      7,      7,2,19940201,1440,-28.1265, -37.3005, 4529,   3398.6,   2.5360,  34.9060,2,  34.9060,2,    253.0,2,    251.4,2,    38.50,2,    20.99,2,     1.44,2,    0.019,2,    0.016,2, -999.000,9,-999.0000,9,  -999.00,9,   -999.0,9,   -999.0,9,     8.01,2,  2.2540
 3230CITHER2_1,  A17C,    79,  1,      6,      6,2,19940201,1440,-28.1265, -37.3005, 4529,   3599.0,   2.2780,  34.8790,2,  34.8810,2,    250.2,2,    249.5,2,    47.90,2,    22.26,2,     1.52,2, -999.000,5, -999.000,5, -999.000,9,-999.0000,9,  -999.00,9,   -999.0,9,   -999.0,9,     8.00,2,  1.9810
 3230CITHER2_1,  A17C,    79,  1,      5,      5,2,19940201,1440,-28.1265, -37.3005, 4529,   3799.1,   1.9110,  34.8430,2,  34.8400,2,    244.6,2,    242.9,2,    62.40,2,    24.06,2,     1.65,2,    0.012,2,    0.022,2, -999.000,9,-999.0000,9,  -999.00,9,   -999.0,9,   -999.0,9,     7.98,2,  1.6020
 3230CITHER2_1,  A17C,    79,  1,      4,      4,2,19940201,1440,-28.1265, -37.3005, 4529,   3998.0,   1.4650,  34.7950,2,  34.7950,2,    236.1,2,    235.0,2,    82.00,2,    26.83,2,     1.84,2,    0.007,2,    0.006,2, -999.000,9,-999.0000,9,  -999.00,9,   -999.0,9,   -999.0,9,     7.95,2,  1.1470
 3230CITHER2_1,  A17C,    79,  1,      3,      3,2,19940201,1440,-28.1265, -37.3005, 4529,   4200.4,   1.2280,  34.7690,2,  34.7690,2,    230.6,2,    229.7,2,    93.50,2,    28.51,2,     1.95,2,    0.012,2,    0.007,2, -999.000,9,-999.0000,9,  -999.00,9,   -999.0,9,   -999.0,9,     7.94,2,  0.8940
 3230CITHER2_1,  A17C,    79,  1,      2,      2,2,19940201,1440,-28.1265, -37.3005, 4529,   4399.1,   0.7380,  34.7140,2,  34.7170,2,    223.1,2,    222.6,2,   112.80,2,    31.24,2,     2.14,2,    0.073,2,    0.038,2, -999.000,9,-999.0000,9,  -999.00,9,   -999.0,9,   -999.0,9,     7.91,2,  0.3980
 3230CITHER2_1,  A17C,    79,  1,      1,      1,2,19940201,1440,-28.1265, -37.3005, 4529,   4593.7,   0.2720,  34.6780,2,  34.6780,2,    219.7,2,    221.6,2,   126.40,2,    32.89,2,     2.27,2,    0.122,2,    0.064,2, -999.000,9,-999.0000,9,  -999.00,9,   -999.0,9,   -999.0,9,     7.90,2, -0.0750