BOTTLE,20030515WHPSIOSA
EXPOCODE,SECT_ID,STNNBR,CASTNO,SAMPNO,BTLNBR,BTLNBR_FLAG_W,DATE,TIME,LATITUDE,LONGITUDE,DEPTH,CTDPRS,CTDTMP,CTDSAL,CTDSAL_FLAG_W,SALNTY,SALNTY_FLAG_W,CTDOXY,CTDOXY_FLAG_W,OXYGEN,OXYGEN_FLAG_W,SILCAT,SILCAT_FLAG_W,NITRAT,NITRAT_FLAG_W,PHSPHT,PHSPHT_FLAG_W,CFC-11,CFC-11_FLAG_W,CFC-12,CFC-12_FLAG_W,TRITUM,TRITUM_FLAG_W,HELIUM,HELIUM_FLAG_W,DELHE3,DELHE3_FLAG_W,TCARBN,TCARBN_FLAG_W,ALKALI,ALKALI_FLAG_W,PH,PH_FLAG_W,THETA
,,,,,,,,,,,,DBAR,ITS-90,PSS-78,,PSS-78,,UMOL/KG,,UMOL/KG,,UMOL/KG,,UMOL/KG,,UMOL/KG,,PMOL/KG,,PMOL/KG,,TU,,NMOL/KG,,PERCNT,,UMOL/KG,,UMOL/KG,,,,DEG C
 3230CITHER2_1,  A17C,    16,  1,     32,     32,2,19940112,2134,-46.4330, -53.1647, 6088,      7.4,  14.5650,  34.3510,2,  34.3520,2,    275.5,2,    266.5,2,     0.30,2,     3.82,2,     0.44,2,    3.262,2,    2.003,2, -999.000,9,-999.0000,9,  -999.00,9,   2018.0,2,   -999.0,9,     8.28,2, 14.5640
 3230CITHER2_1,  A17C,    16,  1,     31,     31,2,19940112,2134,-46.4330, -53.1647, 6088,     50.6,   9.7470,  34.2280,2,  34.2390,2,    283.4,2,    277.5,2,     1.50,2,    11.14,2,     0.96,2,    4.103,2,    2.376,2, -999.000,9,-999.0000,9,  -999.00,9,   2070.0,2,   -999.0,9,     8.16,2,  9.7410
 3230CITHER2_1,  A17C,    16,  1,     30,     30,2,19940112,2134,-46.4330, -53.1647, 6088,    151.2,   5.7410,  34.2410,2,  34.2530,2,    270.9,2,    272.5,2,     7.00,2,    21.93,2,     1.53,2,    4.314,2,    2.431,2, -999.000,9,-999.0000,9,  -999.00,9,   2126.8,2,   -999.0,9,     8.01,2,  5.7290
 3230CITHER2_1,  A17C,    16,  1,     29,     29,2,19940112,2134,-46.4330, -53.1647, 6088,    200.9,   5.0590,  34.1930,2,  34.1970,2,    273.9,2,    280.9,2,     8.80,2,    23.34,2,     1.61,2,    4.455,2,    2.468,2, -999.000,9,-999.0000,9,  -999.00,9,   2130.4,2,   -999.0,9,     8.00,2,  5.0430
 3230CITHER2_1,  A17C,    16,  1,     28,     28,2,19940112,2134,-46.4330, -53.1647, 6088,    400.5,   4.1570,  34.1750,2,  34.1790,2,    271.8,2,    271.3,2,    14.80,2,    26.61,2,     1.81,2,    3.931,2,    2.204,2, -999.000,9,-999.0000,9,  -999.00,9,   -999.0,9,   -999.0,9,     7.96,2,  4.1280
 3230CITHER2_1,  A17C,    16,  1,     27,     27,2,19940112,2134,-46.4330, -53.1647, 6088,    600.1,   3.4340,  34.2140,2,  34.1740,2,    252.6,2,    247.8,2,    26.50,2,    29.85,2,     2.03,2,    2.829,2,    1.613,2, -999.000,9,-999.0000,9,  -999.00,9,   -999.0,9,   -999.0,9,     7.92,2,  3.3930
 3230CITHER2_1,  A17C,    16,  1,     26,     26,2,19940112,2134,-46.4330, -53.1647, 6088,    799.9,   2.8930,  34.2690,2,  34.2670,2,    229.1,2,    231.4,2,    37.40,2,    32.07,2,     2.17,2,    2.127,2,    1.217,2, -999.000,9,-999.0000,9,  -999.00,9,   -999.0,9,   -999.0,9,     7.88,2,  2.8410
 3230CITHER2_1,  A17C,    16,  1,     25,     25,2,19940112,2134,-46.4330, -53.1647, 6088,   1000.4,   2.6870,  34.3690,2,  34.3680,2,    204.0,2,    204.4,2,    51.40,2,    33.48,2,     2.29,2,    1.221,2,    0.723,2, -999.000,9,-999.0000,9,  -999.00,9,   -999.0,9,   -999.0,9,     7.85,2,  2.6220
 3230CITHER2_1,  A17C,    16,  1,     24,     24,2,19940112,2134,-46.4330, -53.1647, 6088,   1300.4,   2.7370,  34.5500,2,  34.5500,2,    182.7,2,    184.1,2,    62.10,2,    33.28,2,     2.25,2,    0.351,2,    0.206,2, -999.000,9,-999.0000,9,  -999.00,9,   -999.0,9,   -999.0,9,     7.84,2,  2.6480
 3230CITHER2_1,  A17C,    16,  1,     23,     23,2,19940112,2134,-46.4330, -53.1647, 6088,   1600.1,   2.6370,  34.6440,2,  34.6380,2,    180.1,2,    180.7,2,    71.70,2,    32.78,2,     2.21,2,    0.207,2,    0.122,2, -999.000,9,-999.0000,9,  -999.00,9,   -999.0,9,   -999.0,9,     7.84,2,  2.5250
 3230CITHER2_1,  A17C,    16,  1,     22,     22,2,19940112,2134,-46.4330, -53.1647, 6088,   1801.3,   2.8180,  34.7210,2,  34.7210,2,    194.6,2,    191.7,2,    63.70,2,    30.35,2,     2.04,2,    0.120,2,    0.069,2, -999.000,9,-999.0000,9,  -999.00,9,   -999.0,9,   -999.0,9,     7.87,2,  2.6860
 3230CITHER2_1,  A17C,    16,  1,     21,     21,2,19940112,2134,-46.4330, -53.1647, 6088,   1999.5,   2.7950,  34.7690,2,  34.7690,2,    199.4,2,    199.4,2,    62.30,2,    29.04,2,     1.94,2,    0.080,2,    0.057,2, -999.000,9,-999.0000,9,  -999.00,9,   -999.0,9,   -999.0,9,     7.89,2,  2.6460
 3230CITHER2_1,  A17C,    16,  1,     20,     20,2,19940112,2134,-46.4330, -53.1647, 6088,   2199.4,   2.7260,  34.7920,2,  34.7940,2,    207.1,2,    205.1,2,    61.50,2,    28.40,2,     1.88,2,    0.063,2,    0.046,2, -999.000,9,-999.0000,9,  -999.00,9,   -999.0,9,   -999.0,9,     7.90,2,  2.5600
 3230CITHER2_1,  A17C,    16,  1,     19,     19,2,19940112,2134,-46.4330, -53.1647, 6088,   2399.7,   2.5570,  34.7920,2,  34.7990,2,    207.3,2,    207.5,2,    64.90,2,    27.93,2,     1.87,2,    0.051,2,    0.037,2, -999.000,9,-999.0000,9,  -999.00,9,   -999.0,9,   -999.0,9,     7.91,2,  2.3750
 3230CITHER2_1,  A17C,    16,  1,     18,     18,2,19940112,2134,-46.4330, -53.1647, 6088,   2598.6,   2.4250,  34.8000,2,  34.8000,2,    202.4,2,    208.0,2,    69.20,2,    28.24,2,     1.88,2,    0.042,2,    0.035,2, -999.000,9,-999.0000,9,  -999.00,9,   -999.0,9,   -999.0,9,     7.91,2,  2.2270
 3230CITHER2_1,  A17C,    16,  1,     17,     17,2,19940112,2134,-46.4330, -53.1647, 6088,   2800.8,   2.2850,  34.8040,2,  34.8040,2,    213.1,2,    211.7,2,    71.50,2,    27.93,2,     1.86,2,    0.039,2,    0.030,2, -999.000,9,-999.0000,9,  -999.00,9,   -999.0,9,   -999.0,9,     7.91,2,  2.0700
 3230CITHER2_1,  A17C,    16,  1,     16,     16,2,19940112,2134,-46.4330, -53.1647, 6088,   2999.2,   2.0640,  34.7910,2,  34.7900,2,    208.9,2,    210.2,2,    79.20,2,    28.89,2,     1.91,2,    0.037,2,    0.033,2, -999.000,9,-999.0000,9,  -999.00,9,   -999.0,9,   -999.0,9,     7.91,2,  1.8340
 3230CITHER2_1,  A17C,    16,  1,     15,     15,2,19940112,2134,-46.4330, -53.1647, 6088,   3299.9,   1.5410,  34.7370,2,  34.7340,2,    200.7,2,    199.5,2,   104.20,2,    31.60,2,     2.12,2,    0.068,2,    0.050,2, -999.000,9,-999.0000,9,  -999.00,9,   -999.0,9,   -999.0,9,     7.87,2,  1.2940
 3230CITHER2_1,  A17C,    16,  1,     14,     14,2,19940112,2134,-46.4330, -53.1647, 6088,   3598.8,   1.2990,  34.7290,2,  34.7280,2,    204.2,2,    203.6,2,   110.60,2,    31.82,2,     2.14,2,    0.086,2,    0.055,2, -999.000,9,-999.0000,9,  -999.00,9,   -999.0,9,   -999.0,9,     7.87,2,  1.0280
 3230CITHER2_1,  A17C,    16,  1,     13,     13,2,19940112,2134,-46.4330, -53.1647, 6088,   3800.3,   1.1380,  34.7170,2,  34.7130,2,    204.3,2,    199.2,2,   117.00,2,    32.48,2,     2.17,2,    0.120,2,    0.078,2, -999.000,9,-999.0000,9,  -999.00,9,   -999.0,9,   -999.0,9,     7.87,2,  0.8500
 3230CITHER2_1,  A17C,    16,  1,     12,     12,2,19940112,2134,-46.4330, -53.1647, 6088,   3997.9,   1.0040,  34.7090,2,  34.7100,2,    207.0,2,    207.5,2,   119.90,2,    32.68,2,     2.19,2,    0.138,2,    0.083,2, -999.000,9,-999.0000,9,  -999.00,9,   -999.0,9,   -999.0,9,     7.87,2,  0.6990
 3230CITHER2_1,  A17C,    16,  1,     11,     11,2,19940112,2134,-46.4330, -53.1647, 6088,   4199.2,   0.8220,  34.7010,2,  34.7010,2,    210.3,2,    211.1,2,   122.70,2,    33.04,2,     2.20,2,    0.147,2,    0.094,2, -999.000,9,-999.0000,9,  -999.00,9,   -999.0,9,   -999.0,9,     7.86,2,  0.5010
 3230CITHER2_1,  A17C,    16,  1,     10,     10,2,19940112,2134,-46.4330, -53.1647, 6088,   4399.0,   0.6590,  34.6920,2,  34.6950,2,    213.3,2,    214.3,2,   126.00,2,    33.29,2,     2.22,2,    0.152,2,    0.095,2, -999.000,9,-999.0000,9,  -999.00,9,   -999.0,9,   -999.0,9,     7.87,2,  0.3210
 3230CITHER2_1,  A17C,    16,  1,      9,      9,2,19940112,2134,-46.4330, -53.1647, 6088,   4598.5,   0.5270,  34.6860,2,  34.6860,2,    216.0,2,    217.4,2,   127.80,2,    33.39,2,     2.24,2,    0.149,2,    0.091,2, -999.000,9,-999.0000,9,  -999.00,9,   -999.0,9,   -999.0,9,     7.86,2,  0.1720
 3230CITHER2_1,  A17C,    16,  1,      8,      8,2,19940112,2134,-46.4330, -53.1647, 6088,   4798.0,   0.4410,  34.6810,2,  34.6820,2,    218.6,2,    219.3,2,   129.10,2,    33.39,2,     2.24,2,    0.148,2,    0.095,2, -999.000,9,-999.0000,9,  -999.00,9,   -999.0,9,   -999.0,9,     7.86,2,  0.0660
 3230CITHER2_1,  A17C,    16,  1,      7,      7,2,19940112,2134,-46.4330, -53.1647, 6088,   4998.3,   0.3800,  34.6770,2,  34.6800,2,    220.0,2,    220.7,2,   130.10,2,    33.44,2,     2.25,2,    0.149,2,    0.095,2, -999.000,9,-999.0000,9,  -999.00,9,   -999.0,9,   -999.0,9,     7.86,2, -0.0160
 3230CITHER2_1,  A17C,    16,  1,      6,      6,2,19940112,2134,-46.4330, -53.1647, 6088,   5198.2,   0.3420,  34.6750,2,  34.6770,2,    221.7,2,    222.1,2,   130.10,2,    33.85,2,     2.26,2,    0.155,2,    0.099,2, -999.000,9,-999.0000,9,  -999.00,9,   -999.0,9,   -999.0,9,     7.87,2, -0.0760
 3230CITHER2_1,  A17C,    16,  1,      5,      5,2,19940112,2134,-46.4330, -53.1647, 6088,   5397.8,   0.3270,  34.6730,2,  34.6730,2,    222.6,2,    222.8,2,   131.10,2,    34.05,2,     2.26,2,    0.161,2,    0.105,2, -999.000,9,-999.0000,9,  -999.00,9,   -999.0,9,   -999.0,9,     7.87,2, -0.1140
 3230CITHER2_1,  A17C,    16,  1,      4,      4,2,19940112,2134,-46.4330, -53.1647, 6088,   5598.1,   0.3250,  34.6720,2,  34.6720,2,    223.6,2,    223.4,2,   131.30,2,    33.93,2,     2.27,2,    0.167,2,    0.109,2, -999.000,9,-999.0000,9,  -999.00,9,   -999.0,9,   -999.0,9,     7.87,2, -0.1400
 3230CITHER2_1,  A17C,    16,  1,      3,      3,2,19940112,2134,-46.4330, -53.1647, 6088,   5797.8,   0.3320,  34.6700,2,  34.6720,2,    224.6,2,    223.8,2,   131.60,2,    34.05,2,     2.27,2,    0.194,2,    0.119,2, -999.000,9,-999.0000,9,  -999.00,9,   -999.0,9,   -999.0,9,     7.87,2, -0.1580
 3230CITHER2_1,  A17C,    16,  1,      2,      2,2,19940112,2134,-46.4330, -53.1647, 6088,   5996.9,   0.3410,  34.6700,2,  34.6730,2,    225.2,2,    224.3,2,   131.80,2,    34.05,2,     2.27,2,    0.195,2,    0.125,2, -999.000,9,-999.0000,9,  -999.00,9,   -999.0,9,   -999.0,9,     7.87,2, -0.1750
 3230CITHER2_1,  A17C,    16,  1,      1,      1,2,19940112,2134,-46.4330, -53.1647, 6088,   6197.3,   0.3580,  34.6700,2,  34.6720,2,    224.0,2,    224.1,2,   132.10,2,    33.90,2,     2.29,2,    0.213,2,    0.131,2, -999.000,9,-999.0000,9,  -999.00,9,   -999.0,9,   -999.0,9,     7.87,2, -0.1840
 3230CITHER2_1,  A17C,    17,  1,     32,     32,2,19940113,0441,-46.0145, -52.8043, 6072,      6.4,  14.9270,  34.5400,2,  34.5390,2,    273.2,2,    264.2,2,     0.70,2,     2.80,2,     0.38,2,    3.239,2,    1.795,2, -999.000,9,-999.0000,9,  -999.00,9,   -999.0,9,   -999.0,9,     8.28,2, 14.9260
 3230CITHER2_1,  A17C,    17,  1,     31,     31,2,19940113,0441,-46.0145, -52.8043, 6072,     40.9,  14.5600,  34.6050,2,  34.6190,2,    270.8,2,    264.8,2,     0.70,2,     2.64,2,     0.39,2,    3.266,2,    1.786,2, -999.000,9,-999.0000,9,  -999.00,9,   -999.0,9,   -999.0,9,     8.27,2, 14.5540
 3230CITHER2_1,  A17C,    17,  1,     30,     30,2,19940113,0441,-46.0145, -52.8043, 6072,    100.5,  11.2270,  34.9050,2,  34.8700,2,    247.5,2,    246.2,2,     3.50,2,    13.00,2,     0.92,2,    3.615,2,    1.851,2, -999.000,9,-999.0000,9,  -999.00,9,   -999.0,9,   -999.0,9,     8.13,2, 11.2150
 3230CITHER2_1,  A17C,    17,  1,     29,     29,2,19940113,0441,-46.0145, -52.8043, 6072,    199.0,   7.3480,  34.3680,2,  34.4140,2,    266.0,2,    263.2,2,     5.70,2,    18.95,2,     1.30,2,    4.127,2,    2.190,2, -999.000,9,-999.0000,9,  -999.00,9,   -999.0,9,   -999.0,9,     8.05,2,  7.3290
 3230CITHER2_1,  A17C,    17,  1,     28,     28,2,19940113,0441,-46.0145, -52.8043, 6072,    401.1,   4.6310,  34.1980,2,  34.1970,2,    269.6,2,    269.2,2,    12.90,2,    26.03,2,     1.75,2,    4.088,2,    2.041,2, -999.000,9,-999.0000,9,  -999.00,9,   -999.0,9,   -999.0,9,     7.97,2,  4.6010
 3230CITHER2_1,  A17C,    17,  1,     27,     27,2,19940113,0441,-46.0145, -52.8043, 6072,    602.1,   3.8750,  34.2020,2,  34.2100,2,    261.2,2,    257.5,2,    20.90,2,    28.05,2,     1.93,2,    3.202,2,    1.585,2, -999.000,9,-999.0000,9,  -999.00,9,   -999.0,9,   -999.0,9,     7.93,2,  3.8320
 3230CITHER2_1,  A17C,    17,  1,     26,     26,2,19940113,0441,-46.0145, -52.8043, 6072,    799.5,   3.3140,  34.2450,2,  34.2420,2,    240.5,2,    240.4,2,    30.80,2,    31.08,2,     2.08,2,    2.323,2,    1.170,2, -999.000,9,-999.0000,9,  -999.00,9,   -999.0,9,   -999.0,9,     7.90,2,  3.2590
 3230CITHER2_1,  A17C,    17,  1,     25,     25,2,19940113,0441,-46.0145, -52.8043, 6072,   1000.3,   2.9690,  34.3160,2,  34.3160,2,    218.5,2,    217.9,2,    42.50,2,    33.46,2,     2.21,2,    1.478,2,    0.743,2, -999.000,9,-999.0000,9,  -999.00,9,   -999.0,9,   -999.0,9,     7.87,2,  2.9020
 3230CITHER2_1,  A17C,    17,  1,     24,     24,2,19940113,0441,-46.0145, -52.8043, 6072,   1298.8,   2.6060,  34.4580,2,  34.4600,2,    188.5,2,    187.9,2,    63.40,2,    35.02,2,     2.33,2,    0.720,2,    0.370,2, -999.000,9,-999.0000,9,  -999.00,9,   -999.0,9,   -999.0,9,     7.83,2,  2.5190
 3230CITHER2_1,  A17C,    17,  1,     23,     23,2,19940113,0441,-46.0145, -52.8043, 6072,   1600.6,   2.5300,  34.5740,2,  34.5720,2,    178.3,2,    180.8,2,    74.90,2,    34.52,2,     2.32,2,    0.340,2,    0.182,2, -999.000,9,-999.0000,9,  -999.00,9,   -999.0,9,   -999.0,9,     7.83,2,  2.4190
 3230CITHER2_1,  A17C,    17,  1,     22,     22,2,19940113,0441,-46.0145, -52.8043, 6072,   1799.3,   2.7580,  34.6720,2,  34.6680,2,    184.7,2,    184.8,2,    67.30,2,    32.70,2,     2.15,2,    0.179,2,    0.107,2, -999.000,9,-999.0000,9,  -999.00,9,   -999.0,9,   -999.0,9,     7.86,2,  2.6280
 3230CITHER2_1,  A17C,    17,  1,     21,     21,2,19940113,0441,-46.0145, -52.8043, 6072,   1999.0,   2.9500,  34.7640,2,  34.7620,2,    197.0,2,    198.8,2,    59.10,2,    29.72,2,     1.94,2,    0.080,2,    0.064,2, -999.000,9,-999.0000,9,  -999.00,9,   -999.0,9,   -999.0,9,     7.89,2,  2.7990
 3230CITHER2_1,  A17C,    17,  1,     20,     20,2,19940113,0441,-46.0145, -52.8043, 6072,   2198.8,   2.8090,  34.7830,2,  34.7810,2,    201.4,2,    202.2,2,    63.00,2,    28.86,2,     1.93,2,    0.070,2,    0.045,2, -999.000,9,-999.0000,9,  -999.00,9,   -999.0,9,   -999.0,9,     7.90,2,  2.6420
 3230CITHER2_1,  A17C,    17,  1,     19,     19,2,19940113,0441,-46.0145, -52.8043, 6072,   2400.3,   2.7080,  34.8020,2,  34.7990,2,    209.7,2,    206.9,2,    64.00,2,    28.56,2,     1.89,2,    0.057,2,    0.041,2, -999.000,9,-999.0000,9,  -999.00,9,   -999.0,9,   -999.0,9,     7.91,2,  2.5240
 3230CITHER2_1,  A17C,    17,  1,     18,     18,2,19940113,0441,-46.0145, -52.8043, 6072,   2599.6,   2.6040,  34.8240,2,  34.8220,2,    212.8,2,    213.6,2,    63.10,2,    27.55,2,     1.82,2,    0.050,2,    0.046,2, -999.000,9,-999.0000,9,  -999.00,9,   -999.0,9,   -999.0,9,     7.92,2,  2.4020
 3230CITHER2_1,  A17C,    17,  1,     17,     17,2,19940113,0441,-46.0145, -52.8043, 6072,   2797.9,   2.5170,  34.8350,2,  34.8360,2,    220.7,2,    220.0,2,    61.40,2,    26.65,2,     1.77,2,    0.031,2,    0.030,2, -999.000,9,-999.0000,9,  -999.00,9,   -999.0,9,   -999.0,9,     7.93,2,  2.2970
 3230CITHER2_1,  A17C,    17,  1,     16,     16,2,19940113,0441,-46.0145, -52.8043, 6072,   3000.2,   2.2240,  34.8040,2,  34.8030,2,    211.2,2,    212.0,2,    75.30,2,    28.51,2,     1.89,2,    0.034,2,    0.035,2, -999.000,9,-999.0000,9,  -999.00,9,   -999.0,9,   -999.0,9,     7.90,2,  1.9910
 3230CITHER2_1,  A17C,    17,  1,     15,     15,2,19940113,0441,-46.0145, -52.8043, 6072,   3299.1,   1.7490,  34.7620,2,  34.7630,2,    203.7,2,    205.4,2,    95.20,2,    30.99,2,     2.05,2,    0.044,2,    0.034,2, -999.000,9,-999.0000,9,  -999.00,9,   -999.0,9,   -999.0,9,     7.89,2,  1.4970
 3230CITHER2_1,  A17C,    17,  1,     14,     14,2,19940113,0441,-46.0145, -52.8043, 6072,   3599.0,   1.3860,  34.7310,2,  34.7310,2,    201.6,2,    202.0,2,   110.10,2,    32.35,2,     2.17,2,    0.078,2,    0.054,2, -999.000,9,-999.0000,9,  -999.00,9,   -999.0,9,   -999.0,9,     7.87,2,  1.1120
 3230CITHER2_1,  A17C,    17,  1,     13,     13,2,19940113,0441,-46.0145, -52.8043, 6072,   3799.2,   1.2430,  34.7230,2,  34.7230,2,    203.4,2,    204.1,2,   113.40,2,    32.50,2,     2.19,2,    0.095,2,    0.063,2, -999.000,9,-999.0000,9,  -999.00,9,   -999.0,9,   -999.0,9,     7.86,2,  0.9520
 3230CITHER2_1,  A17C,    17,  1,     12,     12,2,19940113,0441,-46.0145, -52.8043, 6072,   3998.7,   1.0680,  34.7160,2,  34.7150,2,    207.0,2,    207.3,2,   116.10,2,    32.76,2,     2.21,2,    0.108,2,    0.063,2, -999.000,9,-999.0000,9,  -999.00,9,   -999.0,9,   -999.0,9,     7.86,2,  0.7610
 3230CITHER2_1,  A17C,    17,  1,     11,     11,2,19940113,0441,-46.0145, -52.8043, 6072,   4198.7,   0.8820,  34.7060,2,  34.7050,2,    209.7,2,    210.6,2,   121.40,2,    33.16,2,     2.23,2,    0.134,2,    0.080,2, -999.000,9,-999.0000,9,  -999.00,9,   -999.0,9,   -999.0,9,     7.86,2,  0.5590
 3230CITHER2_1,  A17C,    17,  1,     10,     10,2,19940113,0441,-46.0145, -52.8043, 6072,   4398.9,   0.7120,  34.6950,2,  34.6950,2,    212.8,2,    213.9,2,   125.00,2,    33.21,2,     2.24,2,    0.148,2,    0.089,2, -999.000,9,-999.0000,9,  -999.00,9,   -999.0,9,   -999.0,9,     7.86,2,  0.3730
 3230CITHER2_1,  A17C,    17,  1,      9,      9,2,19940113,0441,-46.0145, -52.8043, 6072,   4599.1,   0.5420,  34.6870,2,  34.6870,2,    215.8,2,    217.1,2,   128.00,2,    33.42,2,     2.25,2, -999.000,5, -999.000,5, -999.000,9,-999.0000,9,  -999.00,9,   -999.0,9,   -999.0,9,     7.86,2,  0.1860
 3230CITHER2_1,  A17C,    17,  1,      8,      8,2,19940113,0441,-46.0145, -52.8043, 6072,   4798.1,   0.4430,  34.6820,2,  34.6830,2,    218.5,2,    219.3,2,   128.40,2,    33.32,2,     2.26,2,    0.133,2,    0.085,2, -999.000,9,-999.0000,9,  -999.00,9,   -999.0,9,   -999.0,9,     7.86,2,  0.0680
 3230CITHER2_1,  A17C,    17,  1,      7,      7,2,19940113,0441,-46.0145, -52.8043, 6072,   4999.6,   0.3890,  34.6800,2,  34.6780,2,    220.1,2,    220.6,2,   128.80,2,    33.42,2,     2.27,2,    0.137,2,    0.079,2, -999.000,9,-999.0000,9,  -999.00,9,   -999.0,9,   -999.0,9,     7.86,2, -0.0070
 3230CITHER2_1,  A17C,    17,  1,      6,      6,2,19940113,0441,-46.0145, -52.8043, 6072,   5198.9,   0.3530,  34.6760,2,  34.6760,2,    221.4,2,    222.0,2,   129.70,2,    33.67,2,     2.28,2,    0.141,2,    0.091,2, -999.000,9,-999.0000,9,  -999.00,9,   -999.0,9,   -999.0,9,     7.86,2, -0.0650
 3230CITHER2_1,  A17C,    17,  1,      5,      5,2,19940113,0441,-46.0145, -52.8043, 6072,   5400.3,   0.3320,  34.6740,2,  34.6770,2,    222.8,2,    223.1,2,   129.60,2,    33.52,2,     2.29,2,    0.152,2,    0.091,2, -999.000,9,-999.0000,9,  -999.00,9,   -999.0,9,   -999.0,9,     7.86,2, -0.1090
 3230CITHER2_1,  A17C,    17,  1,      4,      4,2,19940113,0441,-46.0145, -52.8043, 6072,   5596.8,   0.3290,  34.6730,2,  34.6720,2,    224.2,2,    223.6,2,   129.40,2,    33.82,2,     2.29,2,    0.158,2,    0.099,2, -999.000,9,-999.0000,9,  -999.00,9,   -999.0,9,   -999.0,9,     7.86,2, -0.1360
 3230CITHER2_1,  A17C,    17,  1,      3,      3,2,19940113,0441,-46.0145, -52.8043, 6072,   5796.8,   0.3360,  34.6710,2,  34.6700,2,    224.0,2,    223.7,2,   129.80,2,    33.62,2,     2.29,2,    0.174,2,    0.102,2, -999.000,9,-999.0000,9,  -999.00,9,   -999.0,9,   -999.0,9,     7.86,2, -0.1540
 3230CITHER2_1,  A17C,    17,  1,      2,      2,2,19940113,0441,-46.0145, -52.8043, 6072,   5998.9,   0.3440,  34.6710,2,  34.6710,2,    225.2,2,    224.0,2,   129.80,2,    33.73,2,     2.30,2,    0.179,2,    0.112,2, -999.000,9,-999.0000,9,  -999.00,9,   -999.0,9,   -999.0,9,     7.86,2, -0.1720
 3230CITHER2_1,  A17C,    17,  1,      1,      1,2,19940113,0441,-46.0145, -52.8043, 6072,   6178.4,   0.3560,  34.6690,2,  34.6710,2,    224.7,2,    224.3,2,   129.80,2,    33.93,2,     2.29,2,    0.201,2,    0.127,2, -999.000,9,-999.0000,9,  -999.00,9,   -999.0,9,   -999.0,9,     7.87,2, -0.1840