BOTTLE,20030515WHPSIOSA
EXPOCODE,SECT_ID,STNNBR,CASTNO,SAMPNO,BTLNBR,BTLNBR_FLAG_W,DATE,TIME,LATITUDE,LONGITUDE,DEPTH,CTDPRS,CTDTMP,CTDSAL,CTDSAL_FLAG_W,SALNTY,SALNTY_FLAG_W,CTDOXY,CTDOXY_FLAG_W,OXYGEN,OXYGEN_FLAG_W,SILCAT,SILCAT_FLAG_W,NITRAT,NITRAT_FLAG_W,PHSPHT,PHSPHT_FLAG_W,CFC-11,CFC-11_FLAG_W,CFC-12,CFC-12_FLAG_W,TRITUM,TRITUM_FLAG_W,HELIUM,HELIUM_FLAG_W,DELHE3,DELHE3_FLAG_W,TCARBN,TCARBN_FLAG_W,ALKALI,ALKALI_FLAG_W,PH,PH_FLAG_W,THETA
,,,,,,,,,,,,DBAR,ITS-90,PSS-78,,PSS-78,,UMOL/KG,,UMOL/KG,,UMOL/KG,,UMOL/KG,,UMOL/KG,,PMOL/KG,,PMOL/KG,,TU,,NMOL/KG,,PERCNT,,UMOL/KG,,UMOL/KG,,,,DEG C
 3230CITHER2_1,  A17C,    22,  1,     32,     32,2,19940114,1908,-43.9228, -51.0110, 5568,     12.3,  15.6420,  34.0800,2,  34.0820,2,    272.2,2,    268.9,2,     0.20,2,     3.93,2,     0.49,2,    3.288,2,    2.018,2, -999.000,9,   1.7400,2,    -1.36,2,   1999.4,2,   -999.0,9,     8.29,2, 15.6400
 3230CITHER2_1,  A17C,    22,  1,     31,     31,2,19940114,1908,-43.9228, -51.0110, 5568,     75.1,   6.5930,  34.1320,2,  34.1310,2,    297.4,2,    297.0,2,     4.40,2,    18.78,2,     1.47,2,    5.004,2,    2.756,2,    0.345,2,   1.7800,2,    -1.57,2,   2112.8,2,   -999.0,9,     8.04,2,  6.5860
 3230CITHER2_1,  A17C,    22,  1,     30,     30,2,19940114,1908,-43.9228, -51.0110, 5568,    151.4,   4.8620,  34.1760,2,  34.1740,2,    294.6,2,    294.2,2,     8.20,2,  -999.00,5,     1.60,2,    4.902,2,    2.698,2,    0.305,2,   1.8000,2,    -2.00,2,   2128.4,2,   -999.0,9,     8.00,2,  4.8510
 3230CITHER2_1,  A17C,    22,  1,     29,     29,2,19940114,1908,-43.9228, -51.0110, 5568,    200.7,   4.6650,  34.1820,2,  34.1850,2,    290.6,2,    289.2,2,     9.30,2,    23.32,2,     1.66,2,    4.715,2,    2.592,2,    0.275,2,   1.8000,2,    -1.72,2,   2131.2,2,   -999.0,9,     8.00,2,  4.6500
 3230CITHER2_1,  A17C,    22,  1,     28,     28,2,19940114,1908,-43.9228, -51.0110, 5568,    301.5,   4.3210,  34.1800,2,  34.1860,2,    284.1,2,    277.3,2,    12.60,2,    25.36,2,     1.79,2,    4.185,2,    2.344,2, -999.000,9,   1.8100,2,    -1.17,2,   -999.0,9,   -999.0,9,     7.97,2,  4.2990
 3230CITHER2_1,  A17C,    22,  1,     27,     27,2,19940114,1908,-43.9228, -51.0110, 5568,    401.6,   4.2160,  34.2080,2,  34.2080,2,    271.0,2,    262.5,2,    15.30,2,    27.68,2,     1.90,2,    3.464,2,    1.984,2,    0.224,2,   1.7400,2,    -0.53,2,   -999.0,9,   -999.0,9,     7.95,2,  4.1870
 3230CITHER2_1,  A17C,    22,  1,     26,     26,2,19940114,1908,-43.9228, -51.0110, 5568,    601.2,   3.5830,  34.2230,2,  34.2230,2,    254.6,2,    247.5,2,    25.10,2,    30.07,2,     2.07,2,    2.754,2,    1.602,2,    0.164,2,   1.8000,2,     0.72,2,   -999.0,9,   -999.0,9,     7.91,2,  3.5420
 3230CITHER2_1,  A17C,    22,  1,     25,     25,2,19940114,1908,-43.9228, -51.0110, 5568,    800.8,   2.8560,  34.2780,2,  34.2790,2,    219.8,2,    226.6,2,    40.00,2,    32.80,2,     2.26,2,    1.987,2,    1.194,2,    0.092,2,   1.7600,2,    -2.00,2,   -999.0,9,   -999.0,9,     7.87,2,  2.8040
 3230CITHER2_1,  A17C,    22,  1,     24,     24,2,19940114,1908,-43.9228, -51.0110, 5568,   1000.3,   2.7240,  34.3880,2,  34.3880,2,    199.4,2,    200.1,2,    53.00,2,    33.94,2,     2.34,2, -999.000,5, -999.000,5,    0.040,2,   1.8200,2,     5.88,2,   -999.0,9,   -999.0,9,     7.84,2,  2.6580
 3230CITHER2_1,  A17C,    22,  1,     23,     23,2,19940114,1908,-43.9228, -51.0110, 5568,   1200.4,   2.7330,  34.4990,2,  34.4970,2,    187.7,2,    187.6,2,    60.50,2,    34.10,2,     2.34,2,    0.491,2,    0.313,2, -999.000,9,   1.8200,2,     6.31,2,   -999.0,9,   -999.0,9,     7.84,2,  2.6520
 3230CITHER2_1,  A17C,    22,  1,     22,     22,2,19940114,1908,-43.9228, -51.0110, 5568,   1401.0,   2.8910,  34.6020,2,  34.6020,2,    185.3,2,    185.8,2,    59.50,2,    32.90,2,     2.24,2,    0.218,2,    0.147,2, -999.000,9,   1.7700,2,     6.25,2,   -999.0,9,   -999.0,9,     7.85,2,  2.7920
 3230CITHER2_1,  A17C,    22,  1,     21,     21,2,19940114,1908,-43.9228, -51.0110, 5568,   1600.3,   2.6230,  34.6380,2,  34.6370,2,    187.8,2,    181.5,2,    71.20,2,    33.28,2,     2.28,2,    0.195,2,    0.121,2,    0.037,2,   1.7900,2,     7.17,2,   -999.0,9,   -999.0,9,     7.83,2,  2.5110
 3230CITHER2_1,  A17C,    22,  1,     20,     20,2,19940114,1908,-43.9228, -51.0110, 5568,   1800.2,   2.4380,  34.6640,2,  34.6640,2,    178.3,2,    178.9,2,    78.50,2,    33.22,2,     2.29,2,    0.155,2,    0.112,2, -999.000,9,-999.0000,9,  -999.00,9,   -999.0,9,   -999.0,9,     7.84,2,  2.3120
 3230CITHER2_1,  A17C,    22,  1,     19,     19,2,19940114,1908,-43.9228, -51.0110, 5568,   2000.6,   2.6280,  34.7490,2,  34.7470,2,    183.9,2,    193.4,2,    68.30,2,    30.53,2,     2.08,2,    0.079,2,    0.065,2, -999.000,9,   1.7700,2,     7.96,2,   -999.0,9,   -999.0,9,     7.87,2,  2.4820
 3230CITHER2_1,  A17C,    22,  1,     18,     18,2,19940114,1908,-43.9228, -51.0110, 5568,   2199.0,   2.5820,  34.7840,2,  34.7820,2,    200.2,2,    201.8,2,    66.80,2,    28.83,2,     1.98,2,    0.059,2,    0.045,2, -999.000,9,-999.0000,9,  -999.00,9,   -999.0,9,   -999.0,9,     7.89,2,  2.4180
 3230CITHER2_1,  A17C,    22,  1,     17,     17,2,19940114,1908,-43.9228, -51.0110, 5568,   2400.3,   2.4970,  34.8010,2,  34.8020,2,    205.8,2,    207.6,2,    66.00,2,    28.04,2,     1.92,2,    0.042,2,    0.040,2, -999.000,9,   1.8200,2,     6.98,2,   -999.0,9,   -999.0,9,     7.89,2,  2.3160
 3230CITHER2_1,  A17C,    22,  1,     16,     16,2,19940114,1908,-43.9228, -51.0110, 5568,   2600.1,   2.4170,  34.8150,2,  34.8140,2,    212.4,2,    213.1,2,    65.50,2,    27.93,2,     1.88,2,    0.036,2,    0.040,2, -999.000,9,-999.0000,9,  -999.00,9,   -999.0,9,   -999.0,9,     7.91,2,  2.2190
 3230CITHER2_1,  A17C,    22,  1,     15,     15,2,19940114,1908,-43.9228, -51.0110, 5568,   2801.4,   2.0470,  34.7780,2,  34.7760,2,    204.8,2,    204.7,2,    82.10,2,    29.91,2,     2.01,2,    0.055,2,    0.057,2, -999.000,9,   1.8100,2,     7.14,2,   -999.0,9,   -999.0,9,     7.87,2,  1.8370
 3230CITHER2_1,  A17C,    22,  1,     14,     14,2,19940114,1908,-43.9228, -51.0110, 5568,   3000.4,   1.8200,  34.7620,2,  34.7600,2,    204.5,2,    202.1,2,    91.00,2,    30.60,2,     2.09,2,    0.041,2,    0.038,2, -999.000,9,-999.0000,9,  -999.00,9,   -999.0,9,   -999.0,9,     7.88,2,  1.5960
 3230CITHER2_1,  A17C,    22,  1,     13,     13,2,19940114,1908,-43.9228, -51.0110, 5568,   3299.9,   1.5080,  34.7450,2,  34.7440,2,    203.1,2,    203.7,2,   100.60,2,    31.10,2,     2.13,2,    0.060,2,    0.049,2, -999.000,9,   1.8100,2,     8.30,2,   -999.0,9,   -999.0,9,     7.88,2,  1.2610
 3230CITHER2_1,  A17C,    22,  1,     12,     12,2,19940114,1908,-43.9228, -51.0110, 5568,   3594.5,   1.2070,  34.7250,2,  34.7230,2,    204.5,2,    204.5,2,   110.70,2,    31.89,2,     2.20,2,    0.094,2,    0.063,2, -999.000,9,-999.0000,9,  -999.00,9,   -999.0,9,   -999.0,9,     7.86,2,  0.9380
 3230CITHER2_1,  A17C,    22,  1,     11,     11,2,19940114,1908,-43.9228, -51.0110, 5568,   3793.5,   1.0370,  34.7150,2,  34.7150,2,    207.4,2,    207.9,2,   117.20,2,    32.28,2,     2.23,2,    0.108,2,    0.081,2, -999.000,9,   1.8000,2,     8.17,2,   -999.0,9,   -999.0,9,     7.85,2,  0.7530
 3230CITHER2_1,  A17C,    22,  1,     10,     10,2,19940114,1908,-43.9228, -51.0110, 5568,   3996.2,   0.8600,  34.7060,2,  34.7100,2,    210.2,2,    210.7,2,   121.70,2,    33.17,2,     2.25,2,    0.115,2,    0.085,2, -999.000,9,-999.0000,9,  -999.00,9,   -999.0,9,   -999.0,9,     7.86,2,  0.5590
 3230CITHER2_1,  A17C,    22,  1,      9,      9,2,19940114,1908,-43.9228, -51.0110, 5568,   4197.5,   0.6210,  34.6930,2,  34.6940,2,    213.5,2,    215.1,2,   125.70,2,    33.16,2,     2.28,2,    0.122,2,    0.098,2, -999.000,9,-999.0000,9,  -999.00,9,   -999.0,9,   -999.0,9,     7.86,2,  0.3060
 3230CITHER2_1,  A17C,    22,  1,      8,      8,2,19940114,1908,-43.9228, -51.0110, 5568,   4399.8,   0.4650,  34.6840,2,  34.6850,2,    216.9,2,    218.6,2,   126.90,2,    33.45,2,     2.30,2,    0.123,2,    0.094,2, -999.000,9,   1.8200,2,     4.52,2,   -999.0,9,   -999.0,9,     7.85,2,  0.1330
 3230CITHER2_1,  A17C,    22,  1,      7,      7,2,19940114,1908,-43.9228, -51.0110, 5568,   4598.5,   0.3790,  34.6800,2,  34.6790,2,    219.2,2,    221.5,2,   127.20,2,    33.45,2,     2.30,2,    0.111,2,    0.087,2, -999.000,9,-999.0000,9,  -999.00,9,   -999.0,9,   -999.0,9,     7.85,2,  0.0280
 3230CITHER2_1,  A17C,    22,  1,      6,      6,2,19940114,1908,-43.9228, -51.0110, 5568,   4799.9,   0.3170,  34.6770,2,  34.6790,2,    221.3,2,    222.3,2,   128.10,2,    33.54,2,     2.31,2,    0.120,2,    0.091,2, -999.000,9,-999.0000,9,  -999.00,9,   -999.0,9,   -999.0,9,     7.86,2, -0.0540
 3230CITHER2_1,  A17C,    22,  1,      5,      5,2,19940114,1908,-43.9228, -51.0110, 5568,   4996.4,   0.2850,  34.6750,2,  34.6740,2,    222.5,2,    222.8,2,   129.60,2,    33.34,2,     2.32,2, -999.000,5, -999.000,5, -999.000,9,   1.8200,2,     5.67,2,   -999.0,9,   -999.0,9,     7.84,2, -0.1070
 3230CITHER2_1,  A17C,    22,  1,      3,      3,2,19940114,1908,-43.9228, -51.0110, 5568,   5398.3,   0.2760,  34.6720,2,  34.6730,2,    224.4,2,    223.1,2,   129.50,2,    33.38,2,     2.33,2,    0.159,2,    0.114,2, -999.000,9,-999.0000,9,  -999.00,9,   -999.0,9,   -999.0,9,     7.84,2, -0.1630
 3230CITHER2_1,  A17C,    22,  1,      2,      2,2,19940114,1908,-43.9228, -51.0110, 5568,   5497.8,   0.2810,  34.6710,2,  34.6720,2,    224.7,2,    223.0,2,   130.10,2,    33.62,2,     2.33,2,    0.162,2,    0.126,2, -999.000,9,-999.0000,9,  -999.00,9,   -999.0,9,   -999.0,9,     7.86,2, -0.1700
 3230CITHER2_1,  A17C,    22,  1,      1,      1,2,19940114,1908,-43.9228, -51.0110, 5568,   5647.7,   0.2830,  34.6710,2,  34.6720,2,    225.3,2,    223.7,2,   130.30,2,    33.91,2,     2.33,2,    0.183,2,    0.137,2, -999.000,9,   1.8200,2,    -8.00,2,   -999.0,9,   -999.0,9,     7.85,2, -0.1870
 3230CITHER2_1,  A17C,    23,  1,     32,     32,2,19940115,2308,-43.4895, -50.6625, 5397,     12.1,  14.5210,  33.9460,2,  33.9460,2,    264.6,2,    267.3,2,     0.20,2,     1.28,2,     0.28,2,    3.508,2,    1.878,2, -999.000,9,-999.0000,9,  -999.00,9,   -999.0,9,   -999.0,9,     8.30,2, 14.5190
 3230CITHER2_1,  A17C,    23,  1,     31,     31,2,19940115,2308,-43.4895, -50.6625, 5397,     49.9,  10.9550,  34.4760,2,  34.3080,2,    270.9,2,    257.8,2,     2.40,2,    11.49,2,     0.93,2,    4.073,2,    2.111,2, -999.000,9,-999.0000,9,  -999.00,9,   -999.0,9,   -999.0,9,     8.14,2, 10.9490
 3230CITHER2_1,  A17C,    23,  1,     30,     30,2,19940115,2308,-43.4895, -50.6625, 5397,     98.9,   7.2610,  34.2570,2,  34.2860,2,    254.0,2,    264.4,2,     4.60,2,    18.45,2,     1.35,2,    4.443,2,    2.253,2, -999.000,9,-999.0000,9,  -999.00,9,   -999.0,9,   -999.0,9,     8.05,2,  7.2520
 3230CITHER2_1,  A17C,    23,  1,     29,     29,2,19940115,2308,-43.4895, -50.6625, 5397,    202.4,   5.4510,  34.2120,2,  34.2010,2,    266.6,2,    276.3,2,     8.20,2,    22.78,2,     1.62,2,    4.486,2,    2.260,2, -999.000,9,-999.0000,9,  -999.00,9,   -999.0,9,   -999.0,9,     8.00,2,  5.4350
 3230CITHER2_1,  A17C,    23,  1,     28,     28,2,19940115,2308,-43.4895, -50.6625, 5397,    302.5,   4.9830,  34.1980,2,  34.1950,2,    275.3,2,    278.3,2,     9.70,2,    23.86,2,     1.68,2,    4.431,2,    2.222,2, -999.000,9,-999.0000,9,  -999.00,9,   -999.0,9,   -999.0,9,     8.00,2,  4.9600
 3230CITHER2_1,  A17C,    23,  1,     27,     27,2,19940115,2308,-43.4895, -50.6625, 5397,    399.3,   4.7090,  34.2030,2,  34.1990,2,    283.8,2,    274.5,2,    11.70,2,    25.03,2,     1.75,2,    4.164,2,    2.088,2, -999.000,9,-999.0000,9,  -999.00,9,   -999.0,9,   -999.0,9,     7.98,2,  4.6790
 3230CITHER2_1,  A17C,    23,  1,     26,     26,2,19940115,2308,-43.4895, -50.6625, 5397,    599.6,   4.0810,  34.2110,2,  34.2050,2,    262.2,2,    259.9,2,    18.80,2,    28.00,2,     1.94,2,    3.291,2,    1.695,2, -999.000,9,-999.0000,9,  -999.00,9,   -999.0,9,   -999.0,9,     7.94,2,  4.0370
 3230CITHER2_1,  A17C,    23,  1,     25,     25,2,19940115,2308,-43.4895, -50.6625, 5397,    801.3,   3.2290,  34.2200,2,  34.2240,2,    242.6,2,    242.1,2,    30.30,2,    31.17,2,     2.13,2,    2.733,2,    1.420,2, -999.000,9,-999.0000,9,  -999.00,9,   -999.0,9,   -999.0,9,     7.91,2,  3.1750
 3230CITHER2_1,  A17C,    23,  1,     24,     24,2,19940115,2308,-43.4895, -50.6625, 5397,   1001.3,   2.8470,  34.3190,2,  34.3180,2,    213.1,2,    221.9,2,    45.50,2,    33.15,2,     2.29,2,    1.789,2,    0.955,2, -999.000,9,-999.0000,9,  -999.00,9,   -999.0,9,   -999.0,9,     7.86,2,  2.7810
 3230CITHER2_1,  A17C,    23,  1,     23,     23,2,19940115,2308,-43.4895, -50.6625, 5397,   1201.9,   2.7470,  34.4250,2,  34.4230,2,    192.5,2,    195.8,2,    56.70,2,    33.76,2,     2.35,2,    0.850,2,    0.456,2, -999.000,9,-999.0000,9,  -999.00,9,   -999.0,9,   -999.0,9,     7.84,2,  2.6660
 3230CITHER2_1,  A17C,    23,  1,     22,     22,2,19940115,2308,-43.4895, -50.6625, 5397,   1400.0,   2.7730,  34.5500,2,  34.5460,2,    180.6,2,   -999.0,5,    63.60,2,    33.63,2,     2.31,2,    0.535,2,    0.308,2, -999.000,9,-999.0000,9,  -999.00,9,   -999.0,9,   -999.0,9,     7.84,2,  2.6760
 3230CITHER2_1,  A17C,    23,  1,     21,     21,2,19940115,2308,-43.4895, -50.6625, 5397,   1601.0,   2.8580,  34.6510,2,  34.6510,2,    186.1,2,    186.2,2,    62.80,2,    32.24,2,     2.21,2,    0.184,2,    0.102,2, -999.000,9,-999.0000,9,  -999.00,9,   -999.0,9,   -999.0,9,     7.86,2,  2.7430
 3230CITHER2_1,  A17C,    23,  1,     20,     20,2,19940115,2308,-43.4895, -50.6625, 5397,   1803.5,   2.9560,  34.7360,2,  34.7360,2,    192.7,2,    195.5,2,    58.20,2,    29.95,2,     2.04,2,    0.101,2,    0.066,2, -999.000,9,-999.0000,9,  -999.00,9,   -999.0,9,   -999.0,9,     7.89,2,  2.8220
 3230CITHER2_1,  A17C,    23,  1,     19,     19,2,19940115,2308,-43.4895, -50.6625, 5397,   1998.2,   2.9860,  34.7930,2,  34.7860,2,    206.7,2,    204.7,2,    54.30,2,    27.97,2,     1.92,2,    0.085,2,    0.059,2, -999.000,9,-999.0000,9,  -999.00,9,   -999.0,9,   -999.0,9,     7.91,2,  2.8340
 3230CITHER2_1,  A17C,    23,  1,     18,     18,2,19940115,2308,-43.4895, -50.6625, 5397,   2198.6,   2.9730,  34.8390,2,  34.8370,2,    210.5,2,    216.6,2,    50.00,2,    25.19,2,     1.79,2,    0.048,2,    0.035,2, -999.000,9,-999.0000,9,  -999.00,9,   -999.0,9,   -999.0,9,     7.92,2,  2.8030
 3230CITHER2_1,  A17C,    23,  1,     17,     17,2,19940115,2308,-43.4895, -50.6625, 5397,   2400.0,   2.8400,  34.8530,2,  34.8450,2,    219.0,2,    222.3,2,    51.10,2,    25.48,2,     1.75,2,    0.042,2,    0.041,2, -999.000,9,-999.0000,9,  -999.00,9,   -999.0,9,   -999.0,9,     7.93,2,  2.6530
 3230CITHER2_1,  A17C,    23,  1,     16,     16,2,19940115,2308,-43.4895, -50.6625, 5397,   2599.4,   2.6840,  34.8520,2,  34.8480,2,    228.7,2,    224.1,2,    53.60,2,    25.68,2,     1.73,2,    0.039,2,    0.027,2, -999.000,9,-999.0000,9,  -999.00,9,   -999.0,9,   -999.0,9,     7.94,2,  2.4810
 3230CITHER2_1,  A17C,    23,  1,     15,     15,2,19940115,2308,-43.4895, -50.6625, 5397,   2803.6,   2.3170,  34.8160,2,  34.8090,2,    217.3,2,    214.5,2,    69.30,2,    27.55,2,     1.88,2,    0.036,2,    0.022,2, -999.000,9,-999.0000,9,  -999.00,9,   -999.0,9,   -999.0,9,     7.92,2,  2.1010
 3230CITHER2_1,  A17C,    23,  1,     14,     14,2,19940115,2308,-43.4895, -50.6625, 5397,   3002.2,   1.9790,  34.7790,2,  34.7790,2,    209.5,2,    207.2,2,    83.30,2,    29.38,2,     2.01,2,    0.053,2,    0.039,2, -999.000,9,-999.0000,9,  -999.00,9,   -999.0,9,   -999.0,9,     7.90,2,  1.7510
 3230CITHER2_1,  A17C,    23,  1,     13,     13,2,19940115,2308,-43.4895, -50.6625, 5397,   3299.7,   1.6060,  34.7590,2,  34.7570,2,    204.9,2,    208.6,2,    96.10,2,    30.26,2,     2.10,2,    0.056,2,    0.036,2, -999.000,9,-999.0000,9,  -999.00,9,   -999.0,9,   -999.0,9,     7.89,2,  1.3570
 3230CITHER2_1,  A17C,    23,  1,     12,     12,2,19940115,2308,-43.4895, -50.6625, 5397,   3597.4,   1.2140,  34.7280,2,  34.7250,2,    205.8,2,    207.8,2,   109.70,2,    31.69,2,     2.20,2,    0.089,2,    0.059,2, -999.000,9,-999.0000,9,  -999.00,9,   -999.0,9,   -999.0,9,     7.88,2,  0.9450
 3230CITHER2_1,  A17C,    23,  1,     11,     11,2,19940115,2308,-43.4895, -50.6625, 5397,   3598.2,   1.2180,  34.7280,2,  34.7260,2,    205.8,2,    207.4,2,   109.80,2,    31.74,2,     2.19,2,    0.088,2,    0.053,2, -999.000,9,-999.0000,9,  -999.00,9,   -999.0,9,   -999.0,9,     7.88,2,  0.9490
 3230CITHER2_1,  A17C,    23,  1,     10,     10,2,19940115,2308,-43.4895, -50.6625, 5397,   3801.7,   0.9920,  34.7150,2,  34.7130,2,    208.5,2,    209.6,2,   118.10,2,    32.27,2,     2.23,2,    0.112,2,    0.059,2, -999.000,9,-999.0000,9,  -999.00,9,   -999.0,9,   -999.0,9,     7.88,2,  0.7080
 3230CITHER2_1,  A17C,    23,  1,      9,      9,2,19940115,2308,-43.4895, -50.6625, 5397,   4002.5,   0.7650,  34.7020,2,  34.7010,2,    211.1,2,    212.7,2,   123.70,2,    32.66,2,     2.26,2,    0.119,2,    0.069,2, -999.000,9,-999.0000,9,  -999.00,9,   -999.0,9,   -999.0,9,     7.86,2,  0.4670
 3230CITHER2_1,  A17C,    23,  1,      8,      8,2,19940115,2308,-43.4895, -50.6625, 5397,   4194.7,   0.5550,  34.6920,2,  34.6900,2,    213.9,2,    216.3,2,   126.40,2,    33.05,2,     2.29,2,    0.132,2,    0.079,2, -999.000,9,-999.0000,9,  -999.00,9,   -999.0,9,   -999.0,9,     7.87,2,  0.2420
 3230CITHER2_1,  A17C,    23,  1,      7,      7,2,19940115,2308,-43.4895, -50.6625, 5397,   4400.9,   0.4000,  34.6820,2,  34.6810,2,    217.3,2,    219.0,2,   126.60,2,    33.25,2,     2.30,2,    0.120,2,    0.074,2, -999.000,9,-999.0000,9,  -999.00,9,   -999.0,9,   -999.0,9,     7.86,2,  0.0700
 3230CITHER2_1,  A17C,    23,  1,      6,      6,2,19940115,2308,-43.4895, -50.6625, 5397,   4602.4,   0.3180,  34.6790,2,  34.6770,2,    219.9,2,    221.2,2,   128.50,2,    33.24,2,     2.31,2,    0.134,2,    0.089,2, -999.000,9,-999.0000,9,  -999.00,9,   -999.0,9,   -999.0,9,     7.86,2, -0.0310
 3230CITHER2_1,  A17C,    23,  1,      5,      5,2,19940115,2308,-43.4895, -50.6625, 5397,   4799.7,   0.2830,  34.6760,2,  34.6740,2,    221.3,2,    222.2,2,   129.10,2,    33.24,2,     2.32,2,    0.144,2,    0.083,2, -999.000,9,-999.0000,9,  -999.00,9,   -999.0,9,   -999.0,9,     7.87,2, -0.0870
 3230CITHER2_1,  A17C,    23,  1,      3,      3,2,19940115,2308,-43.4895, -50.6625, 5397,   5199.9,   0.2730,  34.6720,2,  34.6720,2,    223.4,2,    224.4,2,   129.60,2,    33.08,2,     2.32,2,    0.163,2,    0.090,2, -999.000,9,-999.0000,9,  -999.00,9,   -999.0,9,   -999.0,9,     7.88,2, -0.1420
 3230CITHER2_1,  A17C,    23,  1,      2,      2,2,19940115,2308,-43.4895, -50.6625, 5397,   5398.4,   0.2710,  34.6710,2,  34.6710,2,    223.9,2,    223.6,2,   129.30,2,    33.42,2,     2.33,2,    0.165,2,    0.096,2, -999.000,9,-999.0000,9,  -999.00,9,   -999.0,9,   -999.0,9,     7.87,2, -0.1680
 3230CITHER2_1,  A17C,    23,  1,      1,      1,2,19940115,2308,-43.4895, -50.6625, 5397,   5472.7,   0.2710,  34.6710,2,  34.6710,2,    223.4,2,    222.6,2,   130.00,2,    33.21,2,     2.34,2,    0.176,2,    0.112,2, -999.000,9,-999.0000,9,  -999.00,9,   -999.0,9,   -999.0,9,     7.87,2, -0.1770