BOTTLE,20030515WHPSIOSA
EXPOCODE,SECT_ID,STNNBR,CASTNO,SAMPNO,BTLNBR,BTLNBR_FLAG_W,DATE,TIME,LATITUDE,LONGITUDE,DEPTH,CTDPRS,CTDTMP,CTDSAL,CTDSAL_FLAG_W,SALNTY,SALNTY_FLAG_W,CTDOXY,CTDOXY_FLAG_W,OXYGEN,OXYGEN_FLAG_W,SILCAT,SILCAT_FLAG_W,NITRAT,NITRAT_FLAG_W,PHSPHT,PHSPHT_FLAG_W,CFC-11,CFC-11_FLAG_W,CFC-12,CFC-12_FLAG_W,TRITUM,TRITUM_FLAG_W,HELIUM,HELIUM_FLAG_W,DELHE3,DELHE3_FLAG_W,TCARBN,TCARBN_FLAG_W,ALKALI,ALKALI_FLAG_W,PH,PH_FLAG_W,THETA
,,,,,,,,,,,,DBAR,ITS-90,PSS-78,,PSS-78,,UMOL/KG,,UMOL/KG,,UMOL/KG,,UMOL/KG,,UMOL/KG,,PMOL/KG,,PMOL/KG,,TU,,NMOL/KG,,PERCNT,,UMOL/KG,,UMOL/KG,,,,DEG C
 3230CITHER2_2,  A17N,   191,  1,     32,     32,2,19940309,1503,  4.7917, -39.9692, 4466,      7.1,  26.4680,  36.0850,2,  36.0860,2,    195.1,2,    201.1,2,     1.70,2,     0.00,2,     0.04,2,    1.730,2,    0.981,2, -999.000,9,-999.0000,9,  -999.00,9,   2012.5,2,   2372.8,2,     8.38,2, 26.4660
 3230CITHER2_2,  A17N,   191,  1,     31,     31,2,19940309,1503,  4.7917, -39.9692, 4466,     81.8,  26.3500,  36.1030,2,  36.1020,2,    203.6,2,    198.9,2,     1.80,2,     0.20,2,     0.06,2,    1.711,2,    0.971,2, -999.000,9,-999.0000,9,  -999.00,9,   2015.3,2,   2371.8,2,     8.37,2, 26.3320
 3230CITHER2_2,  A17N,   191,  1,     30,     30,2,19940309,1503,  4.7917, -39.9692, 4466,    141.0,  12.1200,  35.1510,2,  35.1780,2,    169.7,2,    164.8,2,     8.70,2,    17.89,2,     1.25,2,    1.419,2,    0.755,2, -999.000,9,-999.0000,9,  -999.00,9,   2148.3,2,   2329.4,2,     8.05,2, 12.1010
 3230CITHER2_2,  A17N,   191,  1,     29,     29,2,19940309,1503,  4.7917, -39.9692, 4466,    201.8,  10.3650,  34.9590,2,  34.9600,2,    138.0,2,    137.0,2,    12.50,2,    24.13,2,     1.66,2,    0.875,2,    0.480,2, -999.000,9,-999.0000,9,  -999.00,9,   2176.9,2,   2320.6,2,     7.95,2, 10.3410
 3230CITHER2_2,  A17N,   191,  1,     28,     28,2,19940309,1503,  4.7917, -39.9692, 4466,    300.3,   9.1290,  34.8240,2,  34.8220,2,    129.1,2,    137.8,2,    14.80,2,    26.78,2,     1.82,2,    0.667,2,    0.361,2, -999.000,9,-999.0000,9,  -999.00,9,   2188.0,2,   2316.8,2,     7.92,2,  9.0960
 3230CITHER2_2,  A17N,   191,  1,     27,     27,2,19940309,1503,  4.7917, -39.9692, 4466,    401.4,   8.2970,  34.7670,2,  34.7640,2,    122.2,2,    118.0,2,    17.30,2,    30.39,2,     2.03,2,    0.360,2,    0.198,2, -999.000,9,-999.0000,9,  -999.00,9,   2206.7,2,   2312.0,2,     7.87,2,  8.2550
 3230CITHER2_2,  A17N,   191,  1,     26,     26,2,19940309,1503,  4.7917, -39.9692, 4466,    501.2,   6.9900,  34.6420,2,  34.6450,2,    129.7,2,    127.1,2,    21.10,2,    32.32,2,     2.18,2,    0.229,2,    0.125,2, -999.000,9,-999.0000,9,  -999.00,9,   2210.7,2,   2310.9,2,     7.84,2,  6.9420
 3230CITHER2_2,  A17N,   191,  1,     25,     25,2,19940309,1503,  4.7917, -39.9692, 4466,    602.7,   6.2260,  34.5940,2,  34.5990,2,    124.0,2,    122.0,2,    24.30,2,    34.56,2,     2.33,2,    0.081,2,    0.047,2, -999.000,9,-999.0000,9,  -999.00,9,   2220.3,2,   2309.2,2,     7.82,2,  6.1720
 3230CITHER2_2,  A17N,   191,  1,     24,     24,2,19940309,1503,  4.7917, -39.9692, 4466,    800.9,   5.0380,  34.5520,2,  34.5520,2,    142.1,2,    141.7,2,    29.50,2,    34.66,2,     2.38,2,    0.034,2,    0.019,2, -999.000,9,-999.0000,9,  -999.00,9,   2221.5,2,   2315.5,2,     7.83,2,  4.9720
 3230CITHER2_2,  A17N,   191,  1,     23,     23,2,19940309,1503,  4.7917, -39.9692, 4466,   1000.0,   4.7540,  34.6660,2,  34.6660,2,    153.1,2,    152.4,2,    29.50,2,    32.62,2,     2.25,2,    0.008,2,    0.005,2, -999.000,9,-999.0000,9,  -999.00,9,   2216.4,2,   2321.0,2,     7.85,2,  4.6720
 3230CITHER2_2,  A17N,   191,  1,     22,     22,2,19940309,1503,  4.7917, -39.9692, 4466,   1199.6,   4.7450,  34.8380,2,  34.8370,2,    179.5,2,    177.1,2,    25.00,2,    27.74,2,     1.92,2,    0.020,2,    0.014,2, -999.000,9,-999.0000,9,  -999.00,9,   2201.8,2,   2326.6,2,     7.91,2,  4.6450
 3230CITHER2_2,  A17N,   191,  1,     21,     21,2,19940309,1503,  4.7917, -39.9692, 4466,   1400.3,   4.5640,  34.9520,2,  34.9530,2,    212.7,2,    213.2,2,    19.80,2,    22.90,2,     1.57,2,    0.067,2,    0.042,2, -999.000,9,-999.0000,9,  -999.00,9,   2182.6,2,   2326.1,2,     7.96,2,  4.4470
 3230CITHER2_2,  A17N,   191,  1,     20,     20,2,19940309,1503,  4.7917, -39.9692, 4466,   1501.3,   4.4280,  34.9740,2,  34.9720,2,    222.1,2,    225.1,2,    18.60,2,    21.70,2,     1.48,2,    0.085,2,    0.048,2, -999.000,9,-999.0000,9,  -999.00,9,   2175.3,2,   2329.1,2,     7.98,2,  4.3030
 3230CITHER2_2,  A17N,   191,  1,     19,     19,2,19940309,1503,  4.7917, -39.9692, 4466,   1600.4,   4.2610,  34.9830,2,  34.9800,2,    232.9,2,    236.1,2,    17.80,2,    20.83,2,     1.42,2,    0.078,2,    0.045,2, -999.000,9,-999.0000,9,  -999.00,9,   2171.0,2,   2325.4,2,     7.99,2,  4.1280
 3230CITHER2_2,  A17N,   191,  1,     17,     17,2,19940309,1503,  4.7917, -39.9692, 4466,   1699.9,   4.1580,  34.9960,2,  34.9960,2,    241.5,2,    245.9,2,    16.30,2,    19.48,2,     1.31,2,    0.161,2,    0.093,2, -999.000,9,-999.0000,9,  -999.00,9,   2164.9,2,   2326.7,2,     8.01,2,  4.0170
 3230CITHER2_2,  A17N,   191,  1,     18,     18,2,19940309,1503,  4.7917, -39.9692, 4466,   1700.1,   4.1590,  34.9960,2,  34.9960,2,    241.5,2,    246.0,2,    16.20,2,    19.52,2,     1.31,2,    0.160,2,    0.092,2, -999.000,9,-999.0000,9,  -999.00,9,   -999.0,5,   2326.7,2,     8.01,2,  4.0180
 3230CITHER2_2,  A17N,   191,  1,     16,     16,2,19940309,1503,  4.7917, -39.9692, 4466,   1801.2,   3.9340,  34.9900,2,  34.9860,2,    250.8,2,    252.1,2,    16.60,2,    19.04,2,     1.29,2,    0.124,2,    0.071,2, -999.000,9,-999.0000,9,  -999.00,9,   2160.7,2,   2328.5,2,     8.01,2,  3.7870
 3230CITHER2_2,  A17N,   191,  1,     15,     15,2,19940309,1503,  4.7917, -39.9692, 4466,   1999.5,   3.5830,  34.9790,2,  34.9790,2,    255.2,2,    255.9,2,    18.70,2,    18.88,2,     1.27,2,    0.064,2,    0.044,2, -999.000,9,-999.0000,9,  -999.00,9,   2162.6,2,   2329.1,2,     8.02,2,  3.4220
 3230CITHER2_2,  A17N,   191,  1,     14,     14,2,19940309,1503,  4.7917, -39.9692, 4466,   2199.9,   3.3020,  34.9650,2,  34.9650,2,    257.1,2,    256.9,2,    21.20,2,    19.12,2,     1.29,2,    0.029,2,    0.024,2, -999.000,9,-999.0000,9,  -999.00,9,   2165.0,2,   2331.0,2,     8.02,2,  3.1260
 3230CITHER2_2,  A17N,   191,  1,     13,     13,2,19940309,1503,  4.7917, -39.9692, 4466,   2399.7,   3.0860,  34.9510,2,  34.9500,2,    257.5,2,    255.3,2,    24.50,2,    19.60,2,     1.32,2,    0.017,2,    0.009,2, -999.000,9,-999.0000,9,  -999.00,9,   2166.1,2,   2333.8,2,     8.02,2,  2.8940
 3230CITHER2_2,  A17N,   191,  1,     12,     12,2,19940309,1503,  4.7917, -39.9692, 4466,   2699.5,   2.8700,  34.9370,2,  34.9360,2,    255.8,2,    255.6,2,    28.20,2,    20.03,2,     1.35,2,    0.008,2,    0.005,2, -999.000,9,-999.0000,9,  -999.00,9,   2171.3,2,   2336.8,2,     8.01,2,  2.6530
 3230CITHER2_2,  A17N,   191,  1,     11,     11,2,19940309,1503,  4.7917, -39.9692, 4466,   2999.7,   2.7340,  34.9270,2,  34.9250,2,    255.8,2,    255.3,2,    30.40,2,    20.15,2,     1.36,2,    0.025,2,    0.012,2, -999.000,9,-999.0000,9,  -999.00,9,   2174.8,2,   2339.5,2,     8.01,2,  2.4890
 3230CITHER2_2,  A17N,   191,  1,     10,     10,2,19940309,1503,  4.7917, -39.9692, 4466,   3199.7,   2.6710,  34.9250,2,  34.9270,2,    257.6,2,    257.1,2,    30.40,2,    19.92,2,     1.35,2,    0.018,2,    0.009,2, -999.000,9,-999.0000,9,  -999.00,9,   2176.0,2,   2339.8,2,     8.02,2,  2.4070
 3230CITHER2_2,  A17N,   191,  1,      9,      9,2,19940309,1503,  4.7917, -39.9692, 4466,   3398.7,   2.6200,  34.9220,2,  34.9210,2,    258.5,2,   -999.0,5,    30.30,2,    19.76,2,     1.34,2,    0.031,2,    0.021,2, -999.000,9,-999.0000,9,  -999.00,9,   2171.3,2,   2339.7,2,     8.02,2,  2.3360
 3230CITHER2_2,  A17N,   191,  1,      8,      8,2,19940309,1503,  4.7917, -39.9692, 4466,   3549.0,   2.5480,  34.9170,2,  34.9160,2,    259.8,2,    260.2,2,    30.50,2,    19.56,2,     1.33,2,    0.046,2,    0.032,2, -999.000,9,-999.0000,9,  -999.00,9,   2173.5,2,   2338.8,2,     8.02,2,  2.2490
 3230CITHER2_2,  A17N,   191,  1,      7,      7,2,19940309,1503,  4.7917, -39.9692, 4466,   3699.4,   2.4540,  34.9100,2,  34.9110,2,    261.7,2,    262.1,2,    30.90,2,    19.44,2,     1.32,2, -999.000,5, -999.000,5, -999.000,9,-999.0000,9,  -999.00,9,   2171.4,2,   2338.4,2,     8.02,2,  2.1410
 3230CITHER2_2,  A17N,   191,  1,      6,      6,2,19940309,1503,  4.7917, -39.9692, 4466,   3849.2,   2.3390,  34.9020,2,  34.9030,2,    262.1,2,    262.3,2,    32.70,2,    19.56,2,     1.32,2,    0.065,2,    0.043,2, -999.000,9,-999.0000,9,  -999.00,9,   2174.6,2,   2340.7,2,     8.01,2,  2.0120
 3230CITHER2_2,  A17N,   191,  1,      5,      5,2,19940309,1503,  4.7917, -39.9692, 4466,   3998.3,   2.2900,  34.8960,2,  34.8970,2,    261.9,2,    261.8,2,    34.50,2,    19.74,2,     1.33,2,    0.069,2,    0.042,2, -999.000,9,-999.0000,9,  -999.00,9,   2177.2,2,   2337.7,2,     8.01,2,  1.9480
 3230CITHER2_2,  A17N,   191,  1,      4,      4,2,19940309,1503,  4.7917, -39.9692, 4466,   4198.0,   2.1750,  34.8820,2,  34.8840,2,    260.0,2,    258.2,2,    40.00,2,    20.47,2,     1.40,2,    0.068,2,    0.041,2, -999.000,9,-999.0000,9,  -999.00,9,   2182.4,2,   2345.3,2,     8.01,2,  1.8130
 3230CITHER2_2,  A17N,   191,  1,      3,      3,2,19940309,1503,  4.7917, -39.9692, 4466,   4398.9,   1.6780,  34.8200,2,  34.8240,2,    245.7,2,    244.2,2,    65.60,2,    24.09,2,     1.68,2,    0.032,2,    0.020,2, -999.000,9,-999.0000,9,  -999.00,9,   2211.4,2,   2357.7,2,     7.97,2,  1.3080
 3230CITHER2_2,  A17N,   191,  1,      2,      2,2,19940309,1503,  4.7917, -39.9692, 4466,   4500.7,   1.5340,  34.8050,2,  34.8060,2,    239.7,2,    240.1,2,    73.50,2,    25.25,2,     1.76,2,    0.023,2,    0.016,2, -999.000,9,-999.0000,9,  -999.00,9,   2216.6,2,   2364.3,2,     7.96,2,  1.1570
 3230CITHER2_2,  A17N,   191,  1,      1,      1,2,19940309,1503,  4.7917, -39.9692, 4466,   4523.2,   1.5030,  34.8000,2,  34.8000,2,    238.7,2,    239.2,2,    75.70,2,    25.56,2,     1.77,2,    0.021,2,    0.015,2, -999.000,9,-999.0000,9,  -999.00,9,   2220.7,2,   2364.4,2,     7.96,2,  1.1240
 3230CITHER2_2,  A17N,   192,  1,     32,     32,2,19940309,2114,  5.0813, -40.4733, 4666,      7.7,  26.6030,  35.9950,2,  35.9950,2,    201.9,2,    201.3,2,     1.60,2,     0.04,2,     0.04,2,    1.751,2,    0.981,2, -999.000,9,-999.0000,9,  -999.00,9,   2005.6,2,   -999.0,9,     8.38,2, 26.6010
 3230CITHER2_2,  A17N,   192,  1,     31,     31,2,19940309,2114,  5.0813, -40.4733, 4666,     64.1,  26.5760,  36.0070,2,  36.0120,2,    208.4,2,    201.6,2,     1.60,2,     0.04,2,     0.03,2,    1.736,2,    0.983,2, -999.000,9,-999.0000,9,  -999.00,9,   2006.6,2,   -999.0,9,     8.38,2, 26.5610
 3230CITHER2_2,  A17N,   192,  1,     30,     30,2,19940309,2114,  5.0813, -40.4733, 4666,    125.9,  17.8960,  35.9940,2,  35.9260,2,    146.0,2,    140.9,2,     4.60,2,    14.01,2,     0.89,2,    1.514,2,    0.812,2, -999.000,9,-999.0000,9,  -999.00,9,   2143.5,2,   -999.0,9,     8.13,2, 17.8740
 3230CITHER2_2,  A17N,   192,  1,     29,     29,2,19940309,2114,  5.0813, -40.4733, 4666,    200.3,  10.1170,  34.9240,2,  34.9220,2,    137.0,2,    146.0,2,    12.30,2,    23.79,2,     1.62,2,    0.952,2,    0.517,2, -999.000,9,-999.0000,9,  -999.00,9,   2175.0,2,   -999.0,9,     7.97,2, 10.0940
 3230CITHER2_2,  A17N,   192,  1,     28,     28,2,19940309,2114,  5.0813, -40.4733, 4666,    300.6,   9.3190,  34.8400,2,  34.8350,2,    135.5,2,    135.7,2,    14.20,2,    26.08,2,     1.78,2,    0.711,2,    0.379,2, -999.000,9,-999.0000,9,  -999.00,9,   2185.0,2,   -999.0,9,     7.93,2,  9.2850
 3230CITHER2_2,  A17N,   192,  1,     27,     27,2,19940309,2114,  5.0813, -40.4733, 4666,    401.2,   8.1910,  34.7610,2,  34.7580,2,    120.6,2,    115.0,2,    17.70,2,    30.11,2,     2.03,2,    0.317,2,    0.173,2, -999.000,9,-999.0000,9,  -999.00,9,   2208.6,2,   -999.0,9,     7.86,2,  8.1490
 3230CITHER2_2,  A17N,   192,  1,     26,     26,2,19940309,2114,  5.0813, -40.4733, 4666,    500.9,   6.8780,  34.6480,2,  34.6440,2,    115.2,2,    114.7,2,    21.80,2,    33.05,2,     2.23,2,    0.121,2,    0.069,2, -999.000,9,-999.0000,9,  -999.00,9,   2219.1,2,   -999.0,9,     7.83,2,  6.8310
 3230CITHER2_2,  A17N,   192,  1,     25,     25,2,19940309,2114,  5.0813, -40.4733, 4666,    601.1,   6.1730,  34.6030,2,  34.6070,2,    120.2,2,    120.3,2,    24.60,2,    34.21,2,     2.31,2,    0.062,2,    0.036,2, -999.000,9,-999.0000,9,  -999.00,9,   2224.0,2,   -999.0,9,     7.82,2,  6.1190
 3230CITHER2_2,  A17N,   192,  1,     24,     24,2,19940309,2114,  5.0813, -40.4733, 4666,    801.0,   5.0230,  34.5780,2,  34.5780,2,    140.2,2,    141.9,2,    29.40,2,    33.89,2,     2.31,2,    0.054,2,    0.029,2, -999.000,9,-999.0000,9,  -999.00,9,   2221.9,2,   -999.0,9,     7.83,2,  4.9570
 3230CITHER2_2,  A17N,   192,  1,     23,     23,2,19940309,2114,  5.0813, -40.4733, 4666,   1001.2,   4.8810,  34.7000,2,  34.6990,2,    147.1,2,    147.5,2,    28.60,2,    32.21,2,     2.20,2,    0.000,2,    0.001,2, -999.000,9,-999.0000,9,  -999.00,9,   2222.6,2,   -999.0,9,     7.86,2,  4.7980
 3230CITHER2_2,  A17N,   192,  1,     22,     22,2,19940309,2114,  5.0813, -40.4733, 4666,   1200.8,   4.8330,  34.8940,2,  34.8950,2,    186.1,2,    187.2,2,    22.80,2,    25.61,2,     1.76,2,    0.048,2,    0.029,2, -999.000,9,-999.0000,9,  -999.00,9,   -999.0,9,   -999.0,9,     7.93,2,  4.7320
 3230CITHER2_2,  A17N,   192,  1,     21,     21,2,19940309,2114,  5.0813, -40.4733, 4666,   1399.4,   4.5930,  34.9720,2,  34.9700,2,    217.9,2,    218.2,2,    18.80,2,    22.00,2,     1.49,2,    0.102,2,    0.056,2, -999.000,9,-999.0000,9,  -999.00,9,   -999.0,9,   -999.0,9,     7.98,2,  4.4760
 3230CITHER2_2,  A17N,   192,  1,     20,     20,2,19940309,2114,  5.0813, -40.4733, 4666,   1499.5,   4.4190,  34.9880,2,  34.9870,2,    231.9,2,    231.8,2,    17.40,2,    20.70,2,     1.38,2,    0.130,2,    0.076,2, -999.000,9,-999.0000,9,  -999.00,9,   -999.0,9,   -999.0,9,     7.99,2,  4.2940
 3230CITHER2_2,  A17N,   192,  1,     18,     18,2,19940309,2114,  5.0813, -40.4733, 4666,   1649.8,   4.1780,  34.9950,2,  34.9950,2,    245.0,2,    244.2,2,    16.30,2,    19.43,2,     1.30,2,    0.142,2,    0.083,2, -999.000,9,-999.0000,9,  -999.00,9,   -999.0,9,   -999.0,9,     8.01,2,  4.0420
 3230CITHER2_2,  A17N,   192,  1,     19,     19,2,19940309,2114,  5.0813, -40.4733, 4666,   1650.1,   4.1870,  34.9940,2,  34.9940,2,    245.0,2,    244.0,2,    16.30,2,    19.49,2,     1.30,2,    0.144,2,    0.085,2, -999.000,9,-999.0000,9,  -999.00,9,   -999.0,9,   -999.0,9,     8.01,2,  4.0510
 3230CITHER2_2,  A17N,   192,  1,     17,     17,2,19940309,2114,  5.0813, -40.4733, 4666,   1801.1,   3.8880,  34.9840,2,  34.9850,2,    249.5,2,    248.7,2,    17.50,2,    19.41,2,     1.30,2,    0.063,2,    0.038,2, -999.000,9,-999.0000,9,  -999.00,9,   -999.0,9,   -999.0,9,     8.01,2,  3.7410
 3230CITHER2_2,  A17N,   192,  1,     16,     16,2,19940309,2114,  5.0813, -40.4733, 4666,   1999.0,   3.5710,  34.9740,2,  34.9670,2,    254.1,2,    254.7,2,    19.20,2,    19.07,2,     1.28,2,    0.040,2,    0.024,2, -999.000,9,-999.0000,9,  -999.00,9,   -999.0,9,   -999.0,9,     8.03,2,  3.4100
 3230CITHER2_2,  A17N,   192,  1,     15,     15,2,19940309,2114,  5.0813, -40.4733, 4666,   2201.1,   3.3070,  34.9640,2,  34.9640,2,    256.9,2,    256.7,2,    21.20,2,    19.00,2,     1.27,2,    0.032,2,    0.021,2, -999.000,9,-999.0000,9,  -999.00,9,   -999.0,9,   -999.0,9,     8.02,2,  3.1310
 3230CITHER2_2,  A17N,   192,  1,     14,     14,2,19940309,2114,  5.0813, -40.4733, 4666,   2399.7,   3.0850,  34.9550,2,  34.9550,2,    258.4,2,    259.0,2,    22.80,2,    18.94,2,     1.26,2,    0.043,2,    0.027,2, -999.000,9,-999.0000,9,  -999.00,9,   -999.0,9,   -999.0,9,     8.02,2,  2.8930
 3230CITHER2_2,  A17N,   192,  1,     13,     13,2,19940309,2114,  5.0813, -40.4733, 4666,   2699.6,   2.8550,  34.9350,2,  34.9340,2,    256.2,2,    255.2,2,    28.50,2,    19.67,2,     1.33,2,    0.010,2,    0.006,2, -999.000,9,-999.0000,9,  -999.00,9,   -999.0,9,   -999.0,9,     8.01,2,  2.6380
 3230CITHER2_2,  A17N,   192,  1,     12,     12,2,19940309,2114,  5.0813, -40.4733, 4666,   2999.5,   2.7380,  34.9270,2,  34.9280,2,    255.5,2,    255.8,2,    30.10,2,    19.96,2,     1.33,2,    0.009,2,    0.007,2, -999.000,9,-999.0000,9,  -999.00,9,   -999.0,9,   -999.0,9,     8.02,2,  2.4930
 3230CITHER2_2,  A17N,   192,  1,     11,     11,2,19940309,2114,  5.0813, -40.4733, 4666,   3199.8,   2.6740,  34.9230,2,  34.9230,2,    257.1,2,    257.1,2,    30.30,2,    19.82,2,     1.32,2,    0.019,2,    0.010,2, -999.000,9,-999.0000,9,  -999.00,9,   -999.0,9,   -999.0,9,     8.02,2,  2.4100
 3230CITHER2_2,  A17N,   192,  1,     10,     10,2,19940309,2114,  5.0813, -40.4733, 4666,   3398.7,   2.6220,  34.9220,2,  34.9210,2,    259.9,2,    259.6,2,    29.50,2,    19.44,2,     1.30,2,    0.047,2,    0.030,2, -999.000,9,-999.0000,9,  -999.00,9,   -999.0,9,   -999.0,9,     8.02,2,  2.3370
 3230CITHER2_2,  A17N,   192,  1,      9,      9,2,19940309,2114,  5.0813, -40.4733, 4666,   3549.1,   2.5400,  34.9160,2,  34.9140,2,    260.5,2,    260.7,2,    30.30,2,    19.41,2,     1.28,2,    0.059,2,    0.038,2, -999.000,9,-999.0000,9,  -999.00,9,   -999.0,9,   -999.0,9,     8.02,2,  2.2410
 3230CITHER2_2,  A17N,   192,  1,      8,      8,2,19940309,2114,  5.0813, -40.4733, 4666,   3699.3,   2.4220,  34.9070,2,  34.9080,2,    262.0,2,    261.9,2,    31.00,2,    19.42,2,     1.28,2,    0.074,2,    0.045,2, -999.000,9,-999.0000,9,  -999.00,9,   -999.0,9,   -999.0,9,     8.02,2,  2.1100
 3230CITHER2_2,  A17N,   192,  1,      7,      7,2,19940309,2114,  5.0813, -40.4733, 4666,   3847.3,   2.3350,  34.9000,2,  34.9010,2,    262.9,2,    262.8,2,    31.80,2,    19.36,2,     1.30,2,    0.085,2,    0.052,2, -999.000,9,-999.0000,9,  -999.00,9,   -999.0,9,   -999.0,9,     8.02,2,  2.0090
 3230CITHER2_2,  A17N,   192,  1,      6,      6,2,19940309,2114,  5.0813, -40.4733, 4666,   3998.5,   2.2650,  34.8940,2,  34.8950,2,    262.1,2,    261.9,2,    34.10,2,    19.58,2,     1.32,2,    0.073,2,    0.047,2, -999.000,9,-999.0000,9,  -999.00,9,   -999.0,9,   -999.0,9,     8.02,2,  1.9240
 3230CITHER2_2,  A17N,   192,  1,      5,      5,2,19940309,2114,  5.0813, -40.4733, 4666,   4198.1,   2.1580,  34.8790,2,  34.8810,2,    258.7,2,    258.3,2,    40.20,2,    20.51,2,     1.38,2,    0.067,2,    0.044,2, -999.000,9,-999.0000,9,  -999.00,9,   -999.0,9,   -999.0,9,     8.01,2,  1.7970
 3230CITHER2_2,  A17N,   192,  1,      4,      4,2,19940309,2114,  5.0813, -40.4733, 4666,   4396.8,   1.7260,  34.8260,2,  34.8270,2,    246.1,2,    245.6,2,    63.40,2,    23.75,2,     1.63,2,    0.035,2,    0.021,2, -999.000,9,-999.0000,9,  -999.00,9,   -999.0,9,   -999.0,9,     7.98,2,  1.3550
 3230CITHER2_2,  A17N,   192,  1,      3,      3,2,19940309,2114,  5.0813, -40.4733, 4666,   4597.5,   1.5060,  34.7990,2,  34.7990,2,    238.4,2,    238.9,2,    75.80,2,    25.33,2,     1.77,2,    0.018,2,    0.017,2, -999.000,9,-999.0000,9,  -999.00,9,   -999.0,9,   -999.0,9,     7.96,2,  1.1190
 3230CITHER2_2,  A17N,   192,  1,      2,      2,2,19940309,2114,  5.0813, -40.4733, 4666,   4693.7,   1.4700,  34.7940,2,  34.7940,2,    237.2,2,    237.8,2,    78.20,2,    25.78,2,     1.79,2,    0.023,2,    0.015,2, -999.000,9,-999.0000,9,  -999.00,9,   -999.0,9,   -999.0,9,     7.96,2,  1.0730
 3230CITHER2_2,  A17N,   192,  1,      1,      1,2,19940309,2114,  5.0813, -40.4733, 4666,   4731.9,   1.4610,  34.7930,2,  34.7910,2,    237.0,2,    237.5,2,    78.80,2,    25.86,2,     1.80,2,    0.018,2,    0.013,2, -999.000,9,-999.0000,9,  -999.00,9,   -999.0,9,   -999.0,9,     7.95,2,  1.0590