BOTTLE,20030515WHPSIOSA
EXPOCODE,SECT_ID,STNNBR,CASTNO,SAMPNO,BTLNBR,BTLNBR_FLAG_W,DATE,TIME,LATITUDE,LONGITUDE,DEPTH,CTDPRS,CTDTMP,CTDSAL,CTDSAL_FLAG_W,SALNTY,SALNTY_FLAG_W,CTDOXY,CTDOXY_FLAG_W,OXYGEN,OXYGEN_FLAG_W,SILCAT,SILCAT_FLAG_W,NITRAT,NITRAT_FLAG_W,PHSPHT,PHSPHT_FLAG_W,CFC-11,CFC-11_FLAG_W,CFC-12,CFC-12_FLAG_W,TRITUM,TRITUM_FLAG_W,HELIUM,HELIUM_FLAG_W,DELHE3,DELHE3_FLAG_W,TCARBN,TCARBN_FLAG_W,ALKALI,ALKALI_FLAG_W,PH,PH_FLAG_W,THETA
,,,,,,,,,,,,DBAR,ITS-90,PSS-78,,PSS-78,,UMOL/KG,,UMOL/KG,,UMOL/KG,,UMOL/KG,,UMOL/KG,,PMOL/KG,,PMOL/KG,,TU,,NMOL/KG,,PERCNT,,UMOL/KG,,UMOL/KG,,,,DEG C
 3230CITHER2_1,  A17C,     4,  1,     10,     10,2,19940110,0438,-50.2955, -56.7880,  449,     11.1,   8.2750,  33.9330,2,  33.9340,2,    298.1,2,    301.7,2,     0.60,2,    13.26,2,     0.97,2,    4.805,2,    2.433,2, -999.000,9,-999.0000,9,  -999.00,9,   2056.6,2,   -999.0,9,     8.15,2,  8.2740
 3230CITHER2_1,  A17C,     4,  1,      9,      9,2,19940110,0438,-50.2955, -56.7880,  449,     30.9,   8.2890,  33.9370,2,  33.9460,2,    305.9,2,    303.6,2,     0.40,2,    13.26,2,     0.97,2, -999.000,5, -999.000,5, -999.000,9,-999.0000,9,  -999.00,9,   2057.4,2,   -999.0,9,     8.14,2,  8.2860
 3230CITHER2_1,  A17C,     4,  1,      8,      8,2,19940110,0438,-50.2955, -56.7880,  449,     75.2,   6.1980,  33.9800,2,  33.9790,2,    288.9,2,    284.6,2,     5.10,2,    19.43,2,     1.48,2, -999.000,5, -999.000,5, -999.000,9,-999.0000,9,  -999.00,9,   2105.4,2,   -999.0,9,     8.04,2,  6.1920
 3230CITHER2_1,  A17C,     4,  1,      7,      7,2,19940110,0438,-50.2955, -56.7880,  449,    100.6,   5.8110,  34.0340,2,  34.0310,2,    286.7,2,    286.8,2,     6.20,2,    20.34,2,     1.52,2,    5.122,2,    2.566,2, -999.000,9,-999.0000,9,  -999.00,9,   -999.0,5,   -999.0,9,     8.04,2,  5.8030
 3230CITHER2_1,  A17C,     4,  1,      6,      6,2,19940110,0438,-50.2955, -56.7880,  449,    151.0,   5.3600,  34.0760,2,  34.0780,2,    290.2,2,    290.3,2,     7.30,2,    22.07,2,     1.54,2,    5.143,2,    2.542,2, -999.000,9,-999.0000,9,  -999.00,9,   2118.2,2,   -999.0,9,     8.03,2,  5.3480
 3230CITHER2_1,  A17C,     4,  1,      5,      5,2,19940110,0438,-50.2955, -56.7880,  449,    200.7,   5.1880,  34.1020,2,  34.1020,2,    290.1,2,    289.3,2,     7.80,2,    22.23,2,     1.54,2,    5.096,2,    2.603,2, -999.000,9,-999.0000,9,  -999.00,9,   2121.3,2,   -999.0,9,     8.02,2,  5.1720
 3230CITHER2_1,  A17C,     4,  1,      4,      4,2,19940110,0438,-50.2955, -56.7880,  449,    250.6,   5.1080,  34.1250,2,  34.1250,2,    286.0,2,    285.0,2,     9.10,2,    22.94,2,     1.58,2,    4.906,2,    2.451,2, -999.000,9,-999.0000,9,  -999.00,9,   -999.0,9,   -999.0,9,     8.02,2,  5.0880
 3230CITHER2_1,  A17C,     4,  1,      3,      3,2,19940110,0438,-50.2955, -56.7880,  449,    299.7,   5.0490,  34.1420,2,  34.1440,2,    285.2,2,    282.4,2,     9.70,2,    23.06,2,     1.61,2,    5.391,2,    2.983,2, -999.000,9,-999.0000,9,  -999.00,9,   -999.0,9,   -999.0,9,     8.01,2,  5.0260
 3230CITHER2_1,  A17C,     4,  1,      2,      2,2,19940110,0438,-50.2955, -56.7880,  449,    401.4,   4.9450,  34.1680,2,  34.1670,2,    273.5,2,    277.4,2,    11.90,2,    23.81,2,     1.70,2,    4.735,2,    2.379,2, -999.000,9,-999.0000,9,  -999.00,9,   -999.0,9,   -999.0,9,     8.00,2,  4.9140
 3230CITHER2_1,  A17C,     4,  1,      1,      1,2,19940110,0438,-50.2955, -56.7880,  449,    425.6,   4.9070,  34.2030,2,  34.1710,2,    272.5,2,    278.7,2,    12.10,2,    23.81,2,     1.70,2,    4.720,2,    2.423,2, -999.000,9,-999.0000,9,  -999.00,9,   -999.0,9,   -999.0,9,     8.00,2,  4.8740
 3230CITHER2_1,  A17C,     5,  1,     12,     12,2,19940110,0858,-49.8632, -56.3608,  589,     11.4,   9.3290,  34.0860,2,  34.0850,2,    300.9,2,    301.1,2,     0.50,2,    10.62,2,     0.75,2,    4.648,2,    2.358,2, -999.000,9,-999.0000,9,  -999.00,9,   -999.0,9,   -999.0,9,     8.21,2,  9.3280
 3230CITHER2_1,  A17C,     5,  1,     11,     11,2,19940110,0858,-49.8632, -56.3608,  589,     30.7,   9.3140,  34.0850,2,  34.0830,2,    305.6,2,    301.0,2,     0.40,2,    10.59,2,     0.74,2,    4.663,2,    2.360,2, -999.000,9,-999.0000,9,  -999.00,9,   -999.0,9,   -999.0,9,     8.21,2,  9.3110
 3230CITHER2_1,  A17C,     5,  1,     10,     10,2,19940110,0858,-49.8632, -56.3608,  589,     77.3,   5.7930,  34.1030,2,  34.1020,2,    294.8,2,    292.3,2,     6.20,2,    19.87,2,     1.52,2,    5.279,2,    2.625,2, -999.000,9,-999.0000,9,  -999.00,9,   -999.0,9,   -999.0,9,     8.04,2,  5.7870
 3230CITHER2_1,  A17C,     5,  1,      9,      9,2,19940110,0858,-49.8632, -56.3608,  589,    101.9,   5.2480,  34.1120,2,  34.1120,2,    290.1,2,    292.7,2,     7.00,2,    21.76,2,     1.54,2, -999.000,5, -999.000,5, -999.000,9,-999.0000,9,  -999.00,9,   -999.0,9,   -999.0,9,     8.03,2,  5.2400
 3230CITHER2_1,  A17C,     5,  1,      8,      8,2,19940110,0858,-49.8632, -56.3608,  589,    151.5,   5.0650,  34.1390,2,  34.1390,2,    284.0,2,    282.7,2,     9.20,2,    23.02,2,     1.61,2, -999.000,5, -999.000,5, -999.000,9,-999.0000,9,  -999.00,9,   -999.0,9,   -999.0,9,     8.01,2,  5.0530
 3230CITHER2_1,  A17C,     5,  1,      7,      7,2,19940110,0858,-49.8632, -56.3608,  589,    199.9,   4.9910,  34.1580,2,  34.1580,2,    290.6,2,    290.1,2,     7.90,2,    22.55,2,     1.55,2,    5.041,2,    2.546,2, -999.000,9,-999.0000,9,  -999.00,9,   -999.0,9,   -999.0,9,     8.02,2,  4.9760
 3230CITHER2_1,  A17C,     5,  1,      6,      6,2,19940110,0858,-49.8632, -56.3608,  589,    251.1,   4.9690,  34.1780,2,  34.1760,2,    292.6,2,    290.0,2,     8.60,2,    22.87,2,     1.58,2,    4.959,2,    2.580,2, -999.000,9,-999.0000,9,  -999.00,9,   -999.0,9,   -999.0,9,     8.02,2,  4.9500
 3230CITHER2_1,  A17C,     5,  1,      5,      5,2,19940110,0858,-49.8632, -56.3608,  589,    301.0,   4.9170,  34.1850,2,  34.1840,2,    288.2,2,    288.3,2,     8.70,2,    23.10,2,     1.59,2,    4.928,2,    2.525,2, -999.000,9,-999.0000,9,  -999.00,9,   -999.0,9,   -999.0,9,     8.02,2,  4.8940
 3230CITHER2_1,  A17C,     5,  1,      4,      4,2,19940110,0858,-49.8632, -56.3608,  589,    400.2,   4.7350,  34.1880,2,  34.1880,2,    286.0,2,    284.3,2,    10.40,2,    23.81,2,     1.64,2,    4.763,2,    2.411,2, -999.000,9,-999.0000,9,  -999.00,9,   -999.0,9,   -999.0,9,     8.01,2,  4.7040
 3230CITHER2_1,  A17C,     5,  1,      3,      3,2,19940110,0858,-49.8632, -56.3608,  589,    501.0,   4.4250,  34.1860,2,  34.1840,2,    283.1,2,    279.4,2,    13.30,2,    25.20,2,     1.73,2,    4.486,2,    2.303,2, -999.000,9,-999.0000,9,  -999.00,9,   -999.0,9,   -999.0,9,     7.99,2,  4.3880
 3230CITHER2_1,  A17C,     5,  1,      2,      2,2,19940110,0858,-49.8632, -56.3608,  589,    563.5,   4.4120,  34.1840,2,  34.1840,2,    278.0,2,    277.5,2,    14.10,2,    25.71,2,     1.75,2,    4.477,2,    2.261,2, -999.000,9,-999.0000,9,  -999.00,9,   -999.0,9,   -999.0,9,     7.99,2,  4.3710
 3230CITHER2_1,  A17C,     5,  1,      1,      1,2,19940110,0858,-49.8632, -56.3608,  589,    563.6,   4.4130,  34.1830,2,  34.1830,2,    278.0,2,    278.1,2,    14.20,2,    25.50,2,     1.75,2,    4.442,2,    2.252,2, -999.000,9,-999.0000,9,  -999.00,9,   -999.0,9,   -999.0,9,     7.99,2,  4.3700
 3230CITHER2_1,  A17C,     6,  1,     13,     13,2,19940110,1306,-49.4453, -55.9412,  770,      9.7,   9.5200,  34.0960,2,  34.0970,2,    289.6,2,    300.1,2,     0.00,2,    11.22,2,     0.78,2,    4.549,2,    2.323,2, -999.000,9,   1.7800,2,    -1.52,2,   2046.1,2,   2289.3,2,     8.22,2,  9.5190
 3230CITHER2_1,  A17C,     6,  1,     12,     12,2,19940110,1306,-49.4453, -55.9412,  770,     30.7,   9.1610,  34.0950,2,  34.0950,2,    296.7,2,    298.4,2,     0.30,2,    12.01,2,     0.86,2,    4.667,2,    2.407,2,    0.230,2,   1.7800,2,    -1.45,2,   2051.3,2,   2288.9,2,     8.20,2,  9.1580
 3230CITHER2_1,  A17C,     6,  1,     11,     11,2,19940110,1306,-49.4453, -55.9412,  770,     76.1,   5.4150,  34.1250,2,  34.1260,2,    291.5,2,    293.7,2,     6.70,2,    20.51,2,     1.56,2,    5.196,2,    2.617,2,    0.472,2,   1.8000,2,    -1.81,2,   2119.6,2,   2283.8,2,     8.04,2,  5.4090
 3230CITHER2_1,  A17C,     6,  1,     10,     10,2,19940110,1306,-49.4453, -55.9412,  770,    101.0,   5.1100,  34.1410,2,  34.1410,2,    289.2,2,    294.5,2,     7.00,2,    22.24,2,     1.56,2,    5.159,2,    2.593,2,    0.388,2,   1.7900,2,    -1.34,2,   2120.4,2,   2283.2,2,     8.03,2,  5.1020
 3230CITHER2_1,  A17C,     6,  1,      9,      9,2,19940110,1306,-49.4453, -55.9412,  770,    150.4,   4.9840,  34.1610,2,  34.1620,2,    292.9,2,    294.4,2,     7.70,2,    22.29,2,     1.56,2,    5.036,2,    2.525,2,    0.305,2,   1.7900,2,    -1.75,2,   2122.1,2,   2286.0,2,     8.03,2,  4.9730
 3230CITHER2_1,  A17C,     6,  1,      8,      8,2,19940110,1306,-49.4453, -55.9412,  770,    201.2,   4.9670,  34.1800,2,  34.1790,2,    290.7,2,    291.3,2,     8.10,2,    22.76,2,     1.57,2,    4.918,2,    2.532,2,    0.416,2,   1.8000,2,    -1.17,2,   2124.5,2,   2284.1,2,     8.02,2,  4.9520
 3230CITHER2_1,  A17C,     6,  1,      7,      7,2,19940110,1306,-49.4453, -55.9412,  770,    252.5,   4.9120,  34.1900,2,  34.1900,2,    292.2,2,    291.8,2,     8.50,2,    22.92,2,     1.59,2,    4.881,2,    2.468,2,    0.345,2,   1.7900,2,    -1.35,2,   2126.2,2,   2286.2,2,     8.02,2,  4.8930
 3230CITHER2_1,  A17C,     6,  1,      6,      6,2,19940110,1306,-49.4453, -55.9412,  770,    300.6,   4.8360,  34.1930,2,  34.1920,2,    291.6,2,    291.4,2,     9.00,2,    23.33,2,     1.60,2,    4.802,2,    2.455,2,    0.720,2,   1.7900,2,    -1.11,2,   2128.3,2,   2289.6,2,     8.02,2,  4.8130
 3230CITHER2_1,  A17C,     6,  1,      5,      5,2,19940110,1306,-49.4453, -55.9412,  770,    401.9,   4.6240,  34.1890,2,  34.1870,2,    288.3,2,    288.3,2,    10.30,2,    24.20,2,     1.64,2,    4.652,2,    2.377,2, -999.000,9,   1.8300,2,    -1.42,2,   2133.5,2,   2291.0,2,     8.01,2,  4.5940
 3230CITHER2_1,  A17C,     6,  1,      4,      4,2,19940110,1306,-49.4453, -55.9412,  770,    501.7,   4.3310,  34.1830,2,  34.1800,2,    287.3,2,    286.6,2,    11.80,2,    24.91,2,     1.70,2,    4.533,2,    2.319,2,    0.220,2,-999.0000,9,  -999.00,9,   2138.8,2,   2292.1,2,     8.00,2,  4.2940
 3230CITHER2_1,  A17C,     6,  1,      2,      2,2,19940110,1306,-49.4453, -55.9412,  770,    601.8,   3.9290,  34.1660,2,  34.1680,2,    282.9,2,    281.8,2,    15.20,2,    26.48,2,     1.78,2,    4.320,2,    2.188,2,    0.869,2,   1.8100,2,    -1.08,2,   2148.6,2,   2294.0,2,     7.99,2,  3.8860
 3230CITHER2_1,  A17C,     6,  1,      3,      3,2,19940110,1306,-49.4453, -55.9412,  770,    602.5,   3.9270,  34.1680,2,  34.1670,2,    282.7,2,    280.5,2,    15.10,2,    26.58,2,     1.78,2,    4.351,2,    2.205,2, -999.000,9,   1.8100,2,    -1.13,2,   -999.0,5,   2294.0,2,     7.99,2,  3.8840
 3230CITHER2_1,  A17C,     6,  1,      1,      1,2,19940110,1306,-49.4453, -55.9412,  770,    747.7,   3.4860,  34.1930,2,  34.1930,2,    255.5,2,    257.0,2,    24.90,2,    29.46,2,     1.97,2,    3.430,2,    1.751,2,    0.040,2,   1.8100,2,     3.32,2,   2170.5,2,   2300.7,2,     7.94,2,  3.4340
 3230CITHER2_1,  A17C,     7,  1,     16,     16,2,19940110,1719,-49.0252, -55.5275, 1082,      7.8,   8.6590,  34.1560,2,  34.1530,2,    313.4,2,    318.9,2,     0.30,2,    15.29,2,     0.97,2,    4.848,2,    2.461,2, -999.000,9,-999.0000,9,  -999.00,9,   2067.5,2,   -999.0,9,     8.17,2,  8.6580
 3230CITHER2_1,  A17C,     7,  1,     15,     15,2,19940110,1719,-49.0252, -55.5275, 1082,     31.4,   7.0690,  34.1500,2,  34.1510,2,    316.8,2,    309.0,2,     0.90,2,    18.16,2,     1.25,2,    5.056,2,    2.530,2, -999.000,9,-999.0000,9,  -999.00,9,   2093.7,2,   -999.0,9,     8.11,2,  7.0660
 3230CITHER2_1,  A17C,     7,  1,     14,     14,2,19940110,1719,-49.0252, -55.5275, 1082,     76.9,   4.9440,  34.1820,2,  34.1810,2,    299.9,2,    299.8,2,     8.20,2,    22.26,2,     1.57,2,    5.109,2,    2.574,2, -999.000,9,-999.0000,9,  -999.00,9,   2126.6,2,   -999.0,9,     8.03,2,  4.9380
 3230CITHER2_1,  A17C,     7,  1,     13,     13,2,19940110,1719,-49.0252, -55.5275, 1082,    101.0,   4.8060,  34.1930,2,  34.1920,2,    294.4,2,    295.8,2,     8.60,2,    23.01,2,     1.59,2,    4.937,2,    2.476,2, -999.000,9,-999.0000,9,  -999.00,9,   2128.7,2,   -999.0,9,     8.02,2,  4.7980
 3230CITHER2_1,  A17C,     7,  1,     12,     12,2,19940110,1719,-49.0252, -55.5275, 1082,    150.5,   4.5780,  34.1890,2,  34.1900,2,    292.3,2,    291.6,2,     9.80,2,    23.68,2,     1.63,2,    4.786,2,    2.424,2, -999.000,9,-999.0000,9,  -999.00,9,   2133.9,2,   -999.0,9,     8.02,2,  4.5670
 3230CITHER2_1,  A17C,     7,  1,     11,     11,2,19940110,1719,-49.0252, -55.5275, 1082,    201.1,   4.2630,  34.1720,2,  34.1710,2,    292.4,2,    293.9,2,    11.10,2,    24.62,2,     1.68,2,    4.879,2,    2.422,2, -999.000,9,-999.0000,9,  -999.00,9,   2137.1,2,   -999.0,9,     8.01,2,  4.2490
 3230CITHER2_1,  A17C,     7,  1,     10,     10,2,19940110,1719,-49.0252, -55.5275, 1082,    251.5,   4.0840,  34.1710,2,  34.1710,2,    287.9,2,    287.9,2,    12.40,2,    25.28,2,     1.72,2,    4.597,2,    2.306,2, -999.000,9,-999.0000,9,  -999.00,9,   2141.9,2,   -999.0,9,     8.00,2,  4.0660
 3230CITHER2_1,  A17C,     7,  1,      9,      9,2,19940110,1719,-49.0252, -55.5275, 1082,    302.1,   3.8590,  34.1670,2,  34.1700,2,    277.8,2,    280.2,2,    15.60,2,    26.85,2,     1.80,2,    4.327,2,    2.160,2, -999.000,9,-999.0000,9,  -999.00,9,   -999.0,5,   -999.0,9,     7.99,2,  3.8380
 3230CITHER2_1,  A17C,     7,  1,      8,      8,2,19940110,1719,-49.0252, -55.5275, 1082,    400.6,   3.0410,  34.1160,2,  34.1180,2,    290.8,2,    288.9,2,    17.90,2,    27.96,2,     1.89,2,    4.703,2,    2.349,2, -999.000,9,-999.0000,9,  -999.00,9,   2178.6,2,   -999.0,9,     7.97,2,  3.0160
 3230CITHER2_1,  A17C,     7,  1,      7,      7,2,19940110,1719,-49.0252, -55.5275, 1082,    499.8,   3.1570,  34.1940,2,  34.1970,2,    264.7,2,    252.2,2,    27.30,2,    30.28,2,     2.06,2,    3.213,2,    1.618,2, -999.000,9,-999.0000,9,  -999.00,9,   -999.0,5,   -999.0,9,     7.93,2,  3.1250
 3230CITHER2_1,  A17C,     7,  1,      6,      6,2,19940110,1719,-49.0252, -55.5275, 1082,    601.0,   3.0880,  34.2530,2,  34.2520,2,    235.9,2,    231.9,2,    35.70,2,    32.05,2,     2.19,2,    2.381,2,    1.237,2, -999.000,9,-999.0000,9,  -999.00,9,   2194.7,2,   -999.0,9,     7.90,2,  3.0490
 3230CITHER2_1,  A17C,     7,  1,      5,      5,2,19940110,1719,-49.0252, -55.5275, 1082,    701.3,   2.9130,  34.3120,2,  34.3130,2,    215.3,2,    214.6,2,    44.90,2,    33.01,2,     2.29,2,    1.697,2,    0.862,2, -999.000,9,-999.0000,9,  -999.00,9,   2212.2,2,   -999.0,9,     7.87,2,  2.8680
 3230CITHER2_1,  A17C,     7,  1,      3,      3,2,19940110,1719,-49.0252, -55.5275, 1082,    801.2,   2.7180,  34.3910,2,  34.3900,2,    198.2,2,    195.6,2,  -999.00,5,    33.97,2,     2.38,2,    1.097,2,    0.570,2, -999.000,9,-999.0000,9,  -999.00,9,   2229.9,2,   -999.0,9,     7.85,2,  2.6670
 3230CITHER2_1,  A17C,     7,  1,      4,      4,2,19940110,1719,-49.0252, -55.5275, 1082,    801.7,   2.7230,  34.3900,2,  34.3900,2,    198.0,2,    196.1,2,    54.60,2,    34.13,2,     2.38,2,    1.109,2,    0.577,2, -999.000,9,-999.0000,9,  -999.00,9,   -999.0,5,   -999.0,9,     7.85,2,  2.6720
 3230CITHER2_1,  A17C,     7,  1,      2,      2,2,19940110,1719,-49.0252, -55.5275, 1082,    900.5,   2.5630,  34.4570,2,  34.4550,2,    187.3,2,    187.6,2,    64.00,2,    34.94,2,     2.41,2,    0.748,2,    0.403,2, -999.000,9,-999.0000,9,  -999.00,9,   2242.7,2,   -999.0,9,     7.84,2,  2.5060
 3230CITHER2_1,  A17C,     7,  1,      1,      1,2,19940110,1719,-49.0252, -55.5275, 1082,   1050.2,   2.3560,  34.5640,2,  34.5640,2,    170.3,2,    174.4,2,    78.60,2,    34.61,2,     2.41,2,    0.345,2,    0.201,2, -999.000,9,-999.0000,9,  -999.00,9,   2258.3,2,   -999.0,9,     7.83,2,  2.2890