BOTTLE,20030515WHPSIOSA
EXPOCODE,SECT_ID,STNNBR,CASTNO,SAMPNO,BTLNBR,BTLNBR_FLAG_W,DATE,TIME,LATITUDE,LONGITUDE,DEPTH,CTDPRS,CTDTMP,CTDSAL,CTDSAL_FLAG_W,SALNTY,SALNTY_FLAG_W,CTDOXY,CTDOXY_FLAG_W,OXYGEN,OXYGEN_FLAG_W,SILCAT,SILCAT_FLAG_W,NITRAT,NITRAT_FLAG_W,PHSPHT,PHSPHT_FLAG_W,CFC-11,CFC-11_FLAG_W,CFC-12,CFC-12_FLAG_W,TRITUM,TRITUM_FLAG_W,HELIUM,HELIUM_FLAG_W,DELHE3,DELHE3_FLAG_W,TCARBN,TCARBN_FLAG_W,ALKALI,ALKALI_FLAG_W,PH,PH_FLAG_W,THETA
,,,,,,,,,,,,DBAR,ITS-90,PSS-78,,PSS-78,,UMOL/KG,,UMOL/KG,,UMOL/KG,,UMOL/KG,,UMOL/KG,,PMOL/KG,,PMOL/KG,,TU,,NMOL/KG,,PERCNT,,UMOL/KG,,UMOL/KG,,,,DEG C
 3230CITHER2_1,  A17C,    48,  1,     27,     27,2,19940123,0900,-33.2017, -48.8095, 3023,      2.0,  23.0820,  36.2630,2,  36.2630,2,    219.9,2,    216.2,2,     1.50,2,     0.20,2,     0.07,2,    2.113,2,    1.187,2, -999.000,9,-999.0000,9,  -999.00,9,   2044.6,2,   2394.3,2,     8.35,2, 23.0820
 3230CITHER2_1,  A17C,    48,  1,     26,     26,2,19940123,0900,-33.2017, -48.8095, 3023,     29.9,  23.0640,  36.2570,2,  36.2570,2,    217.1,2,    217.9,2,     1.30,2,     0.12,2,     0.05,2,    2.118,2,    1.190,2, -999.000,9,-999.0000,9,  -999.00,9,   2043.9,2,   2395.0,2,     8.35,2, 23.0580
 3230CITHER2_1,  A17C,    48,  1,     25,     25,2,19940123,0900,-33.2017, -48.8095, 3023,     78.0,  21.7020,  36.5580,2,  36.5470,2,    216.3,2,    220.1,2,     1.10,2,     0.04,2,     0.05,2,    2.237,2,    1.260,2, -999.000,9,-999.0000,9,  -999.00,9,   2062.6,2,   2407.3,2,     8.34,2, 21.6870
 3230CITHER2_1,  A17C,    48,  1,     24,     24,2,19940123,0900,-33.2017, -48.8095, 3023,    101.4,  21.5630,  36.6790,2,  36.6720,2,    211.6,2,    212.1,2,     1.00,2,     0.12,2,     0.08,2,    2.207,2,    1.234,2, -999.000,9,-999.0000,9,  -999.00,9,   2072.7,2,   2414.1,2,     8.33,2, 21.5430
 3230CITHER2_1,  A17C,    48,  1,     23,     23,2,19940123,0900,-33.2017, -48.8095, 3023,    151.0,  19.6120,  36.2780,2,  36.3030,2,    210.7,2,    211.4,2,     1.20,2,     1.09,2,     0.15,2,    2.381,2,    1.294,2, -999.000,9,-999.0000,9,  -999.00,9,   2076.1,2,   2392.9,2,     8.30,2, 19.5840
 3230CITHER2_1,  A17C,    48,  1,     22,     22,2,19940123,0900,-33.2017, -48.8095, 3023,    201.6,  18.0400,  36.0890,2,  36.0910,2,    210.5,2,    211.4,2,     1.40,2,     2.25,2,     0.23,2,    2.508,2,    1.322,2, -999.000,9,-999.0000,9,  -999.00,9,   2080.3,2,   2377.9,2,     8.27,2, 18.0050
 3230CITHER2_1,  A17C,    48,  1,     21,     21,2,19940123,0900,-33.2017, -48.8095, 3023,    260.3,  18.0420,  36.2260,2,  36.2260,2,    216.5,2,    215.5,2,     1.30,2,     2.46,2,     0.22,2, -999.000,5, -999.000,5, -999.000,9,-999.0000,9,  -999.00,9,   2083.3,2,   2385.9,2,     8.28,2, 17.9970
 3230CITHER2_1,  A17C,    48,  1,     20,     20,2,19940123,0900,-33.2017, -48.8095, 3023,    300.6,  18.1440,  36.2720,2,  36.2700,2,    215.1,2,    217.1,2,     1.30,2,     2.30,2,     0.23,2,    2.496,2,    1.379,2, -999.000,9,-999.0000,9,  -999.00,9,   2083.0,2,   2392.1,2,     8.28,2, 18.0920
 3230CITHER2_1,  A17C,    48,  1,     19,     19,2,19940123,0900,-33.2017, -48.8095, 3023,    403.9,  15.5760,  35.6470,2,  35.6790,2,    213.2,2,    207.7,2,     2.20,2,     5.76,2,     0.47,2,    2.534,2,    1.364,2, -999.000,9,-999.0000,9,  -999.00,9,   2094.1,2,   2357.3,2,     8.21,2, 15.5130
 3230CITHER2_1,  A17C,    48,  1,     18,     18,2,19940123,0900,-33.2017, -48.8095, 3023,    500.7,  13.6060,  35.3470,2,  35.3460,2,    207.7,2,    210.1,2,     3.20,2,     9.59,2,     0.70,2,    2.506,2,    1.340,2, -999.000,9,-999.0000,9,  -999.00,9,   2105.4,2,   2339.2,2,     8.16,2, 13.5340
 3230CITHER2_1,  A17C,    48,  1,     17,     17,2,19940123,0900,-33.2017, -48.8095, 3023,    601.5,  10.6710,  34.8850,2,  34.9020,2,    205.9,2,    205.4,2,     5.90,2,    16.32,2,     1.13,2,    2.175,2,    1.138,2, -999.000,9,-999.0000,9,  -999.00,9,   2126.4,2,   2316.2,2,     8.08,2, 10.5970
 3230CITHER2_1,  A17C,    48,  1,     16,     16,2,19940123,0900,-33.2017, -48.8095, 3023,    702.3,   8.3330,  34.6070,2,  34.6100,2,    209.3,2,    212.8,2,     9.00,2,    21.16,2,     1.45,2,    2.200,2,    1.129,2, -999.000,9,-999.0000,9,  -999.00,9,   2141.3,2,   2305.9,2,     8.01,2,  8.2580
 3230CITHER2_1,  A17C,    48,  1,     15,     15,2,19940123,0900,-33.2017, -48.8095, 3023,    799.5,   5.9190,  34.3340,2,  34.3300,2,    236.1,2,    243.7,2,    11.60,2,    24.42,2,     1.69,2,    3.038,2,    1.517,2, -999.000,9,-999.0000,9,  -999.00,9,   2146.0,2,   2296.0,2,     7.99,2,  5.8480
 3230CITHER2_1,  A17C,    48,  1,     14,     14,2,19940123,0900,-33.2017, -48.8095, 3023,    909.6,   4.5650,  34.2260,2,  34.2260,2,    260.0,2,    261.1,2,    14.90,2,    26.51,2,     1.82,2,    3.476,2,    1.691,2, -999.000,9,-999.0000,9,  -999.00,9,   2151.8,2,   2295.2,2,     7.97,2,  4.4930
 3230CITHER2_1,  A17C,    48,  1,     13,     13,2,19940123,0900,-33.2017, -48.8095, 3023,   1002.1,   4.3090,  34.2710,2,  34.2710,2,    240.1,2,    239.6,2,    21.60,2,    28.91,2,     1.96,2,    2.063,2,    1.038,2, -999.000,9,-999.0000,9,  -999.00,9,   2168.9,2,   2303.6,2,     7.95,2,  4.2310
 3230CITHER2_1,  A17C,    48,  1,     12,     12,2,19940123,0900,-33.2017, -48.8095, 3023,   1200.4,   3.4360,  34.3120,2,  34.3120,2,    213.8,2,    219.8,2,    35.00,2,    31.51,2,     2.16,2,    1.154,2,    0.586,2, -999.000,9,-999.0000,9,  -999.00,9,   -999.0,9,   -999.0,9,     7.89,2,  3.3490
 3230CITHER2_1,  A17C,    48,  1,     11,     11,2,19940123,0900,-33.2017, -48.8095, 3023,   1399.9,   3.2070,  34.4250,2,  34.4290,2,    195.5,2,    196.0,2,    46.80,2,    32.79,2,     2.25,2,    0.287,2,    0.162,2, -999.000,9,-999.0000,9,  -999.00,9,   -999.0,9,   -999.0,9,     7.87,2,  3.1060
 3230CITHER2_1,  A17C,    48,  1,     10,     10,2,19940123,0900,-33.2017, -48.8095, 3023,   1602.6,   3.1970,  34.5800,2,  34.5790,2,    188.7,2,    189.1,2,    50.40,2,    31.78,2,     2.16,2,    0.063,2,    0.047,2, -999.000,9,-999.0000,9,  -999.00,9,   -999.0,9,   -999.0,9,     7.88,2,  3.0780
 3230CITHER2_1,  A17C,    48,  1,      9,      9,2,19940123,0900,-33.2017, -48.8095, 3023,   1801.0,   3.6100,  34.7670,2,  34.7700,2,    200.4,2,    202.3,2,    38.10,2,    27.40,2,     1.88,2,    0.014,2,    0.015,2, -999.000,9,-999.0000,9,  -999.00,9,   -999.0,9,   -999.0,9,     7.92,2,  3.4680
 3230CITHER2_1,  A17C,    48,  1,      8,      8,2,19940123,0900,-33.2017, -48.8095, 3023,   1998.8,   3.7440,  34.8630,2,  34.8630,2,    218.0,2,    218.1,2,    31.00,2,    24.35,2,     1.68,2,    0.024,2,    0.030,2, -999.000,9,-999.0000,9,  -999.00,9,   -999.0,9,   -999.0,9,     7.95,2,  3.5810
 3230CITHER2_1,  A17C,    48,  1,      7,      7,2,19940123,0900,-33.2017, -48.8095, 3023,   2000.8,   3.7300,  34.8620,2,  34.8670,2,    218.0,2,    218.4,2,    31.10,2,    24.36,2,     1.68,2,    0.027,2,    0.033,2, -999.000,9,-999.0000,9,  -999.00,9,   -999.0,9,   -999.0,9,     7.95,2,  3.5670
 3230CITHER2_1,  A17C,    48,  1,      6,      6,2,19940123,0900,-33.2017, -48.8095, 3023,   2199.4,   3.7220,  34.9200,2,  34.9220,2,    232.8,2,    233.7,2,    25.90,2,    22.38,2,     1.50,2,    0.023,2,    0.024,2, -999.000,9,-999.0000,9,  -999.00,9,   -999.0,9,   -999.0,9,     7.97,2,  3.5390
 3230CITHER2_1,  A17C,    48,  1,      5,      5,2,19940123,0900,-33.2017, -48.8095, 3023,   2399.0,   3.5420,  34.9500,2,  34.9510,2,    245.6,2,    245.9,2,    23.80,2,    21.15,2,     1.38,2,    0.021,2,    0.027,2, -999.000,9,-999.0000,9,  -999.00,9,   -999.0,9,   -999.0,9,     8.00,2,  3.3420
 3230CITHER2_1,  A17C,    48,  1,      4,      4,2,19940123,0900,-33.2017, -48.8095, 3023,   2600.9,   3.3080,  34.9460,2,  34.9470,2,    250.3,2,    249.2,2,    26.00,2,    20.56,2,     1.37,2,    0.016,2,    0.021,2, -999.000,9,-999.0000,9,  -999.00,9,   -999.0,9,   -999.0,9,     8.00,2,  3.0920
 3230CITHER2_1,  A17C,    48,  1,      3,      3,2,19940123,0900,-33.2017, -48.8095, 3023,   2798.5,   2.9910,  34.9230,2,  34.9220,2,    250.6,2,    246.5,2,    33.20,2,    21.29,2,     1.42,2,    0.016,2,    0.015,2, -999.000,9,-999.0000,9,  -999.00,9,   -999.0,9,   -999.0,9,     7.99,2,  2.7610
 3230CITHER2_1,  A17C,    48,  1,      2,      2,2,19940123,0900,-33.2017, -48.8095, 3023,   3000.0,   2.0260,  34.8270,2,  34.8280,2,    233.1,2,    228.2,2,    68.90,2,    26.61,2,     1.78,2,    0.026,2,    0.024,2, -999.000,9,-999.0000,9,  -999.00,9,   -999.0,9,   -999.0,9,     7.95,2,  1.7970
 3230CITHER2_1,  A17C,    48,  1,      1,      1,2,19940123,0900,-33.2017, -48.8095, 3023,   3033.2,   1.7570,  34.7960,2,  34.7970,2,    222.6,2,    220.1,2,    82.10,2,    28.47,2,     1.91,2,    0.038,2,    0.024,2, -999.000,9,-999.0000,9,  -999.00,9,   -999.0,9,   -999.0,9,     7.92,2,  1.5310
 3230CITHER2_1,  A17C,    49,  1,     32,     32,2,19940123,1302,-33.4055, -48.4668, 3204,      5.3,  23.4780,  36.2980,2,  36.3030,2,    206.5,2,    214.1,2,     1.40,2,     0.04,2,     0.04,2,    2.074,2,    1.179,2, -999.000,9,-999.0000,9,  -999.00,9,   2042.6,2,   2395.1,2,     8.36,2, 23.4770
 3230CITHER2_1,  A17C,    49,  1,     31,     31,2,19940123,1302,-33.4055, -48.4668, 3204,     41.2,  23.4160,  36.2970,2,  36.3030,2,    215.6,2,    214.2,2,     1.30,2,     0.04,2,     0.04,2,    2.083,2,    1.195,2, -999.000,9,-999.0000,9,  -999.00,9,   2042.0,2,   2395.7,2,     8.36,2, 23.4070
 3230CITHER2_1,  A17C,    49,  1,     30,     30,2,19940123,1302,-33.4055, -48.4668, 3204,    100.4,  21.3460,  36.6550,2,  36.6570,2,    204.8,2,    207.4,2,     0.70,2,     0.53,2,     0.10,2,    2.221,2,    1.262,2, -999.000,9,-999.0000,9,  -999.00,9,   2073.9,2,   2413.2,2,     8.32,2, 21.3260
 3230CITHER2_1,  A17C,    49,  1,     29,     29,2,19940123,1302,-33.4055, -48.4668, 3204,    191.5,  18.0470,  36.0250,2,  36.0470,2,    202.3,2,    207.6,2,     1.10,2,     2.31,2,     0.24,2,    2.455,2,    1.338,2, -999.000,9,-999.0000,9,  -999.00,9,   2080.7,2,   2375.3,2,     8.27,2, 18.0140
 3230CITHER2_1,  A17C,    49,  1,     28,     28,2,19940123,1302,-33.4055, -48.4668, 3204,    394.7,  15.2650,  35.6460,2,  35.6390,2,    218.0,2,    212.7,2,     2.40,2,     6.19,2,     0.50,2,    2.623,2,    1.398,2, -999.000,9,-999.0000,9,  -999.00,9,   2094.1,2,   2353.5,2,     8.21,2, 15.2040
 3230CITHER2_1,  A17C,    49,  1,     27,     27,2,19940123,1302,-33.4055, -48.4668, 3204,    500.0,  12.9910,  35.2620,2,  35.2430,2,    211.5,2,    208.3,2,     3.80,2,    11.21,2,     0.81,2,    2.394,2,    1.262,2, -999.000,9,-999.0000,9,  -999.00,9,   2109.0,2,   2331.3,2,     8.14,2, 12.9210
 3230CITHER2_1,  A17C,    49,  1,     26,     26,2,19940123,1302,-33.4055, -48.4668, 3204,    600.7,  10.4680,  34.8730,2,  34.8760,2,    203.5,2,    204.6,2,     6.30,2,    16.80,2,     1.18,2,    2.138,2,    1.107,2, -999.000,9,-999.0000,9,  -999.00,9,   2127.3,2,   2315.0,2,     8.07,2, 10.3950
 3230CITHER2_1,  A17C,    49,  1,     25,     25,2,19940123,1302,-33.4055, -48.4668, 3204,    821.0,   5.2280,  34.2700,2,  34.2880,2,    254.8,2,    250.4,2,    12.80,2,    25.36,2,     1.76,2,    3.130,2,    1.530,2, -999.000,9,-999.0000,9,  -999.00,9,   2148.4,2,   2294.9,2,     7.98,2,  5.1600
 3230CITHER2_1,  A17C,    49,  1,     24,     24,2,19940123,1302,-33.4055, -48.4668, 3204,   1000.6,   4.3120,  34.2790,2,  34.2810,2,    233.5,2,    234.7,2,    22.10,2,    29.10,2,     1.98,2,    1.817,2,    0.913,2, -999.000,9,-999.0000,9,  -999.00,9,   2171.4,2,   2302.4,2,     7.94,2,  4.2340
 3230CITHER2_1,  A17C,    49,  1,     23,     23,2,19940123,1302,-33.4055, -48.4668, 3204,   1299.3,   3.2270,  34.3750,2,  34.3750,2,    202.0,2,    203.5,2,    42.30,2,    32.53,2,     2.24,2,    0.588,2,    0.317,2, -999.000,9,-999.0000,9,  -999.00,9,   2210.7,2,   2322.4,2,     7.88,2,  3.1340
 3230CITHER2_1,  A17C,    49,  1,     22,     22,2,19940123,1302,-33.4055, -48.4668, 3204,   1599.6,   3.0760,  34.5770,2,  34.5780,2,    185.8,2,    188.3,2,    52.60,2,    32.03,2,     2.19,2,    0.134,2,    0.077,2, -999.000,9,-999.0000,9,  -999.00,9,   2225.5,2,   2335.2,2,     7.87,2,  2.9590
 3230CITHER2_1,  A17C,    49,  1,     21,     21,2,19940123,1302,-33.4055, -48.4668, 3204,   1799.1,   3.3380,  34.7240,2,  34.7240,2,    196.8,2,    198.2,2,    46.20,2,    29.17,2,     1.97,2,    0.045,2,    0.033,2, -999.000,9,-999.0000,9,  -999.00,9,   2214.4,2,   2338.2,2,     7.90,2,  3.2000
 3230CITHER2_1,  A17C,    49,  1,     20,     20,2,19940123,1302,-33.4055, -48.4668, 3204,   1998.7,   3.3240,  34.8140,2,  34.8160,2,    208.9,2,    211.2,2,    42.60,2,    26.31,2,     1.79,2,    0.035,2,    0.032,2, -999.000,9,-999.0000,9,  -999.00,9,   2204.2,2,   2339.0,2,     7.93,2,  3.1670
 3230CITHER2_1,  A17C,    49,  1,     19,     19,2,19940123,1302,-33.4055, -48.4668, 3204,   2198.8,   3.5880,  34.9190,2,  34.9230,2,    233.8,2,    236.8,2,    27.20,2,    22.12,2,     1.48,2,    0.024,2,    0.022,2, -999.000,9,-999.0000,9,  -999.00,9,   2178.4,2,   2332.8,2,     7.98,2,  3.4080
 3230CITHER2_1,  A17C,    49,  1,     18,     18,2,19940123,1302,-33.4055, -48.4668, 3204,   2399.0,   3.4560,  34.9450,2,  34.9510,2,    243.5,2,    246.0,2,    25.10,2,    20.96,2,     1.39,2,    0.018,2,    0.018,2, -999.000,9,-999.0000,9,  -999.00,9,   2171.9,2,   2332.3,2,     8.00,2,  3.2580
 3230CITHER2_1,  A17C,    49,  1,     17,     17,2,19940123,1302,-33.4055, -48.4668, 3204,   2698.9,   2.9460,  34.9120,2,  34.9110,2,    243.3,2,    244.6,2,    36.70,2,    22.22,2,     1.49,2,    0.012,2,    0.017,2, -999.000,9,-999.0000,9,  -999.00,9,   2184.7,2,   2340.4,2,     7.99,2,  2.7270
 3230CITHER2_1,  A17C,    49,  1,      3,      3,2,19940123,1302,-33.4055, -48.4668, 3204,   2999.3,   2.2190,  34.8460,2,  34.8440,2,    230.4,2,    231.5,2,    62.40,2,    25.21,2,     1.72,2, -999.000,5, -999.000,5, -999.000,9,-999.0000,9,  -999.00,9,   2209.1,2,   2352.6,2,     7.95,2,  1.9860
 3230CITHER2_1,  A17C,    49,  1,      2,      2,2,19940123,1302,-33.4055, -48.4668, 3204,   3098.2,   1.8800,  34.8130,2,  34.8100,2,    225.3,2,    224.0,2,    77.10,2,    26.96,2,     1.84,2, -999.000,5, -999.000,5, -999.000,9,-999.0000,9,  -999.00,9,   2222.6,2,   2359.5,2,     7.93,2,  1.6450
 3230CITHER2_1,  A17C,    49,  1,      1,      1,2,19940123,1302,-33.4055, -48.4668, 3204,   3223.8,   1.0780,  34.7340,2,  34.7320,2,    211.7,2,    212.5,2,   109.30,2,    31.26,2,     2.14,2, -999.000,5, -999.000,5, -999.000,9,-999.0000,9,  -999.00,9,   2251.3,2,   2370.2,2,     7.89,2,  0.8490