BOTTLE,20030515WHPSIOSA
EXPOCODE,SECT_ID,STNNBR,CASTNO,SAMPNO,BTLNBR,BTLNBR_FLAG_W,DATE,TIME,LATITUDE,LONGITUDE,DEPTH,CTDPRS,CTDTMP,CTDSAL,CTDSAL_FLAG_W,SALNTY,SALNTY_FLAG_W,CTDOXY,CTDOXY_FLAG_W,OXYGEN,OXYGEN_FLAG_W,SILCAT,SILCAT_FLAG_W,NITRAT,NITRAT_FLAG_W,PHSPHT,PHSPHT_FLAG_W,CFC-11,CFC-11_FLAG_W,CFC-12,CFC-12_FLAG_W,TRITUM,TRITUM_FLAG_W,HELIUM,HELIUM_FLAG_W,DELHE3,DELHE3_FLAG_W,TCARBN,TCARBN_FLAG_W,ALKALI,ALKALI_FLAG_W,PH,PH_FLAG_W,THETA
,,,,,,,,,,,,DBAR,ITS-90,PSS-78,,PSS-78,,UMOL/KG,,UMOL/KG,,UMOL/KG,,UMOL/KG,,UMOL/KG,,PMOL/KG,,PMOL/KG,,TU,,NMOL/KG,,PERCNT,,UMOL/KG,,UMOL/KG,,,,DEG C
 3230CITHER2_1,  A17C,    36,  1,     32,     32,2,19940119,1734,-38.0888, -46.0263, 5172,      5.9,  18.8720,  35.1280,2,  35.1300,2,    311.0,2,   -999.0,5,     1.00,2,     0.04,2,     0.19,2,    2.681,2,    1.496,2, -999.000,9,-999.0000,9,  -999.00,9,   2025.6,2,   2339.2,2,     8.31,2, 18.8710
 3230CITHER2_1,  A17C,    36,  1,     31,     31,2,19940119,1734,-38.0888, -46.0263, 5172,     41.3,  17.7510,  35.1470,2,  35.1630,2,    242.5,2,    245.6,2,     0.50,2,     0.04,2,     0.19,2,    2.796,2,    1.566,2, -999.000,9,-999.0000,9,  -999.00,9,   2030.7,2,   2339.5,2,     8.30,2, 17.7440
 3230CITHER2_1,  A17C,    36,  1,     30,     30,2,19940119,1734,-38.0888, -46.0263, 5172,    200.4,  12.0530,  35.1020,2,  35.1000,2,    231.4,2,    231.6,2,     3.00,2,    11.43,2,     0.83,2,    3.123,2,    1.677,2, -999.000,9,-999.0000,9,  -999.00,9,   2098.7,2,   2329.5,2,     8.15,2, 12.0270
 3230CITHER2_1,  A17C,    36,  1,     29,     29,2,19940119,1734,-38.0888, -46.0263, 5172,    400.2,   6.8000,  34.4040,2,  34.3960,2,    238.5,2,    234.4,2,     9.20,2,    23.64,2,     1.63,2,    3.134,2,    1.619,2, -999.000,9,-999.0000,9,  -999.00,9,   2142.1,2,   2297.5,2,     8.00,2,  6.7630
 3230CITHER2_1,  A17C,    36,  1,     28,     28,2,19940119,1734,-38.0888, -46.0263, 5172,    501.5,   5.2580,  34.2500,2,  34.2500,2,    260.1,2,    264.3,2,    11.00,2,    25.15,2,     1.74,2,    3.734,2,    1.879,2, -999.000,9,-999.0000,9,  -999.00,9,   2143.8,2,   2292.7,2,     7.99,2,  5.2170
 3230CITHER2_1,  A17C,    36,  1,     27,     27,2,19940119,1734,-38.0888, -46.0263, 5172,    600.0,   4.6770,  34.2280,2,  34.2280,2,    264.9,2,    260.6,2,    13.90,2,    26.53,2,     1.81,2,    3.524,2,    1.775,2, -999.000,9,-999.0000,9,  -999.00,9,   2149.1,2,   2296.7,2,     7.98,2,  4.6310
 3230CITHER2_1,  A17C,    36,  1,     26,     26,2,19940119,1734,-38.0888, -46.0263, 5172,    700.4,   3.9810,  34.1880,2,  34.1890,2,    264.2,2,    265.7,2,    16.80,2,    28.17,2,     1.91,2,    3.818,2,    1.910,2, -999.000,9,-999.0000,9,  -999.00,9,   2155.6,2,   2296.7,2,     7.96,2,  3.9300
 3230CITHER2_1,  A17C,    36,  1,     25,     25,2,19940119,1734,-38.0888, -46.0263, 5172,    800.3,   3.5770,  34.1940,2,  34.1910,2,    263.5,2,    261.2,2,    21.10,2,    29.50,2,     1.99,2,    3.465,2,    1.743,2, -999.000,9,-999.0000,9,  -999.00,9,   2164.6,2,   2300.1,2,     7.95,2,  3.5210
 3230CITHER2_1,  A17C,    36,  1,     24,     24,2,19940119,1734,-38.0888, -46.0263, 5172,   1000.1,   3.1050,  34.2610,2,  34.2530,2,    236.1,2,    234.3,2,    34.40,2,    31.93,2,     2.16,2,    2.120,2,    1.101,2, -999.000,9,-999.0000,9,  -999.00,9,   2188.5,2,   2310.6,2,     7.91,2,  3.0370
 3230CITHER2_1,  A17C,    36,  1,     23,     23,2,19940119,1734,-38.0888, -46.0263, 5172,   1201.7,   2.8340,  34.3560,2,  34.3530,2,    211.8,2,    209.0,2,    46.80,2,    33.61,2,     2.28,2,    1.187,2,    0.626,2, -999.000,9,-999.0000,9,  -999.00,9,   2213.3,2,   2323.5,2,     7.87,2,  2.7520
 3230CITHER2_1,  A17C,    36,  1,     22,     22,2,19940119,1734,-38.0888, -46.0263, 5172,   1401.4,   2.7070,  34.4550,2,  34.4530,2,    192.1,2,    190.5,2,    58.40,2,    34.30,2,     2.33,2,    0.663,2,    0.359,2, -999.000,9,-999.0000,9,  -999.00,9,   2232.0,2,   2335.7,2,     7.85,2,  2.6110
 3230CITHER2_1,  A17C,    36,  1,     20,     20,2,19940119,1734,-38.0888, -46.0263, 5172,   1598.3,   2.8060,  34.5660,2,  34.5650,2,    183.4,2,    183.8,2,    62.40,2,    33.32,2,     2.26,2,    0.291,2,    0.155,2, -999.000,9,-999.0000,9,  -999.00,9,   2236.6,2,   2342.4,2,     7.85,2,  2.6920
 3230CITHER2_1,  A17C,    36,  1,     21,     21,2,19940119,1734,-38.0888, -46.0263, 5172,   1599.2,   2.8060,  34.5670,2,  34.5650,2,    183.5,2,    183.6,2,    61.90,2,    33.32,2,     2.26,2,    0.287,2,    0.164,2, -999.000,9,-999.0000,9,  -999.00,9,   2235.8,2,   2342.4,2,     7.85,2,  2.6920
 3230CITHER2_1,  A17C,    36,  1,     19,     19,2,19940119,1734,-38.0888, -46.0263, 5172,   1800.1,   2.8190,  34.6560,2,  34.6550,2,    183.3,2,    186.4,2,    64.30,2,    32.14,2,     2.17,2,    0.168,2,    0.104,2, -999.000,9,-999.0000,9,  -999.00,9,   2235.9,2,   2348.1,2,     7.86,2,  2.6880
 3230CITHER2_1,  A17C,    36,  1,     18,     18,2,19940119,1734,-38.0888, -46.0263, 5172,   1999.8,   2.8690,  34.7330,2,  34.7310,2,    187.3,2,    193.7,2,    61.80,2,    30.26,2,     2.03,2,    0.108,2,    0.075,2, -999.000,9,-999.0000,9,  -999.00,9,   2229.2,2,   2348.4,2,     7.89,2,  2.7190
 3230CITHER2_1,  A17C,    36,  1,     17,     17,2,19940119,1734,-38.0888, -46.0263, 5172,   2199.2,   2.7700,  34.7930,2,  34.7910,2,    209.0,2,    204.5,2,    61.20,2,    28.48,2,     1.91,2,    0.071,2,    0.043,2, -999.000,9,-999.0000,9,  -999.00,9,   2222.7,2,   2349.9,2,     7.91,2,  2.6030
 3230CITHER2_1,  A17C,    36,  1,     16,     16,2,19940119,1734,-38.0888, -46.0263, 5172,   2399.3,   2.7870,  34.8440,2,  34.8410,2,    219.7,2,    219.5,2,    54.10,2,    26.31,2,     1.74,2,    0.035,2,    0.039,2, -999.000,9,-999.0000,9,  -999.00,9,   2209.3,2,   2349.4,2,     7.94,2,  2.6010
 3230CITHER2_1,  A17C,    36,  1,     15,     15,2,19940119,1734,-38.0888, -46.0263, 5172,   2598.8,   2.6980,  34.8620,2,  34.8590,2,    224.5,2,    227.0,2,    51.90,2,    25.12,2,     1.67,2,    0.027,2,    0.028,2, -999.000,9,-999.0000,9,  -999.00,9,   2203.6,2,   2348.1,2,     7.96,2,  2.4940
 3230CITHER2_1,  A17C,    36,  1,     14,     14,2,19940119,1734,-38.0888, -46.0263, 5172,   2799.3,   2.5400,  34.8560,2,  34.8550,2,    226.8,2,    226.9,2,    55.10,2,    25.32,2,     1.69,2,    0.024,2,    0.031,2, -999.000,9,-999.0000,9,  -999.00,9,   2206.5,2,   2350.8,2,     7.96,2,  2.3200
 3230CITHER2_1,  A17C,    36,  1,     13,     13,2,19940119,1734,-38.0888, -46.0263, 5172,   2999.7,   2.1680,  34.8170,2,  34.8160,2,    221.5,2,    218.9,2,    71.20,2,    27.30,2,     1.83,2,    0.028,2,    0.029,2, -999.000,9,-999.0000,9,  -999.00,9,   2221.2,2,   2356.7,2,     7.93,2,  1.9360
 3230CITHER2_1,  A17C,    36,  1,     12,     12,2,19940119,1734,-38.0888, -46.0263, 5172,   3198.3,   1.7740,  34.7720,2,  34.7710,2,    206.6,2,    208.7,2,    90.70,2,    29.78,2,     2.01,2,    0.045,2,    0.037,2, -999.000,9,-999.0000,9,  -999.00,9,   2237.8,2,   2365.8,2,     7.91,2,  1.5310
 3230CITHER2_1,  A17C,    36,  1,     11,     11,2,19940119,1734,-38.0888, -46.0263, 5172,   3400.3,   1.5170,  34.7570,2,  34.7570,2,    208.4,2,    210.0,2,    99.00,2,    30.48,2,     2.06,2,    0.056,2,    0.039,2, -999.000,9,-999.0000,9,  -999.00,9,   2243.4,2,   2367.9,2,     7.90,2,  1.2600
 3230CITHER2_1,  A17C,    36,  1,     10,     10,2,19940119,1734,-38.0888, -46.0263, 5172,   3597.9,   1.2040,  34.7310,2,  34.7300,2,    208.6,2,    207.9,2,   110.20,2,    31.71,2,     2.15,2,    0.082,2,    0.054,2, -999.000,9,-999.0000,9,  -999.00,9,   2252.9,2,   2372.3,2,     7.89,2,  0.9350
 3230CITHER2_1,  A17C,    36,  1,      9,      9,2,19940119,1734,-38.0888, -46.0263, 5172,   3796.9,   1.0000,  34.7150,2,  34.7150,2,    209.7,2,    209.3,2,   115.80,2,    32.36,2,     2.19,2,    0.110,2,    0.070,2, -999.000,9,-999.0000,9,  -999.00,9,   2261.9,2,   2372.8,2,     7.88,2,  0.7160
 3230CITHER2_1,  A17C,    36,  1,      8,      8,2,19940119,1734,-38.0888, -46.0263, 5172,   3998.8,   0.7540,  34.7010,2,  34.7020,2,    212.5,2,    212.5,2,   120.50,2,    32.83,2,     2.23,2,    0.113,2,    0.083,2, -999.000,9,-999.0000,9,  -999.00,9,   2256.6,2,   2374.1,2,     7.88,2,  0.4560
 3230CITHER2_1,  A17C,    36,  1,      7,      7,2,19940119,1734,-38.0888, -46.0263, 5172,   4198.9,   0.5510,  34.6910,2,  34.6880,2,    216.0,2,    216.0,2,   123.70,2,    33.16,2,     2.25,2,    0.140,2,    0.087,2, -999.000,9,-999.0000,9,  -999.00,9,   2259.7,2,   2376.2,2,     7.87,2,  0.2380
 3230CITHER2_1,  A17C,    36,  1,      6,      6,2,19940119,1734,-38.0888, -46.0263, 5172,   4396.9,   0.3980,  34.6820,2,  34.6810,2,    219.1,2,    219.1,2,   128.80,2,    33.31,2,     2.27,2,    0.118,2,    0.072,2, -999.000,9,-999.0000,9,  -999.00,9,   2261.4,2,   2376.6,2,     7.87,2,  0.0690
 3230CITHER2_1,  A17C,    36,  1,      5,      5,2,19940119,1734,-38.0888, -46.0263, 5172,   4599.6,   0.3170,  34.6770,2,  34.6780,2,    221.4,2,    221.0,2,   131.60,2,    33.56,2,     2.28,2,    0.113,2,    0.064,2, -999.000,9,-999.0000,9,  -999.00,9,   2261.8,2,   2376.5,2,     7.87,2, -0.0320
 3230CITHER2_1,  A17C,    36,  1,      4,      4,2,19940119,1734,-38.0888, -46.0263, 5172,   4799.6,   0.2640,  34.6750,2,  34.6750,2,    223.3,2,    222.3,2,   133.00,2,    33.71,2,     2.29,2,    0.122,2,    0.074,2, -999.000,9,-999.0000,9,  -999.00,9,   2261.1,2,   2377.9,2,     7.87,2, -0.1050
 3230CITHER2_1,  A17C,    36,  1,      3,      3,2,19940119,1734,-38.0888, -46.0263, 5172,   4997.9,   0.2380,  34.6720,2,  34.6730,2,    224.4,2,    223.1,2,   133.50,2,    33.71,2,     2.30,2,    0.151,2,    0.097,2, -999.000,9,-999.0000,9,  -999.00,9,   2263.6,2,   2379.2,2,     7.87,2, -0.1530
 3230CITHER2_1,  A17C,    36,  1,      2,      2,2,19940119,1734,-38.0888, -46.0263, 5172,   5197.8,   0.2420,  34.6710,2,  34.6710,2,    224.1,2,    222.0,2,   133.70,2,    33.76,2,     2.30,2,    0.164,2,    0.101,2, -999.000,9,-999.0000,9,  -999.00,9,   2265.4,2,   2379.5,2,     7.87,2, -0.1720
 3230CITHER2_1,  A17C,    36,  1,      1,      1,2,19940119,1734,-38.0888, -46.0263, 5172,   5249.9,   0.2480,  34.6720,2,  34.6720,2,    224.3,2,    222.5,2,   134.20,2,    33.77,2,     2.30,2,    0.157,2,    0.105,2, -999.000,9,-999.0000,9,  -999.00,9,   2265.9,2,   2381.9,2,     7.87,2, -0.1720
 3230CITHER2_1,  A17C,    37,  1,     32,     32,2,19940120,0014,-37.6698, -45.6508, 5156,      5.5,  19.3030,  35.0360,2,  35.0320,2,    232.3,2,    236.7,2,     1.40,2,     0.04,2,     0.18,2,    2.628,2,    1.478,2, -999.000,9,-999.0000,9,  -999.00,9,   2019.7,2,   -999.0,9,     8.32,2, 19.3020
 3230CITHER2_1,  A17C,    37,  1,     31,     31,2,19940120,0014,-37.6698, -45.6508, 5156,     20.6,  18.8690,  35.0770,2,  35.0750,2,    241.8,2,    239.6,2,     1.40,2,     0.04,2,     0.18,2,    2.671,2,    1.510,2, -999.000,9,-999.0000,9,  -999.00,9,   2021.9,2,   -999.0,9,     8.32,2, 18.8650
 3230CITHER2_1,  A17C,    37,  1,     30,     30,2,19940120,0014,-37.6698, -45.6508, 5156,    101.4,  14.6800,  35.4340,2,  35.4200,2,    210.0,2,    206.6,2,     3.30,2,     8.28,2,     0.64,2,    2.734,2,    1.491,2, -999.000,9,-999.0000,9,  -999.00,9,   2098.4,2,   -999.0,9,     8.18,2, 14.6650
 3230CITHER2_1,  A17C,    37,  1,     29,     29,2,19940120,0014,-37.6698, -45.6508, 5156,    200.3,  13.1320,  35.3650,2,  35.3610,2,    236.1,2,    236.2,2,     2.90,2,     8.90,2,     0.68,2,    3.122,2,    1.704,2, -999.000,9,-999.0000,9,  -999.00,9,   2097.2,2,   -999.0,9,     8.18,2, 13.1040
 3230CITHER2_1,  A17C,    37,  1,     28,     28,2,19940120,0014,-37.6698, -45.6508, 5156,    301.4,   8.6980,  34.5690,2,  34.5660,2,    231.3,2,    238.6,2,     5.80,2,    18.19,2,     1.26,2,    3.414,2,    1.788,2, -999.000,9,-999.0000,9,  -999.00,9,   2119.6,2,   -999.0,9,     8.06,2,  8.6660
 3230CITHER2_1,  A17C,    37,  1,     27,     27,2,19940120,0014,-37.6698, -45.6508, 5156,    399.5,   6.1640,  34.3190,2,  34.3130,2,    254.4,2,    249.7,2,     9.30,2,    23.73,2,     1.61,2,    3.635,2,    1.844,2, -999.000,9,-999.0000,9,  -999.00,9,   2138.4,2,   -999.0,9,     8.00,2,  6.1290
 3230CITHER2_1,  A17C,    37,  1,     26,     26,2,19940120,0014,-37.6698, -45.6508, 5156,    550.4,   4.7170,  34.2060,2,  34.2070,2,    265.5,2,    265.5,2,    12.70,2,    26.36,2,     1.77,2,    3.960,2,    2.006,2, -999.000,9,-999.0000,9,  -999.00,9,   2144.8,2,   -999.0,9,     7.98,2,  4.6740
 3230CITHER2_1,  A17C,    37,  1,     25,     25,2,19940120,0014,-37.6698, -45.6508, 5156,    650.5,   4.2370,  34.2000,2,  34.2020,2,    259.8,2,    264.1,2,    16.60,2,    27.45,2,     1.85,2,    3.644,2,    1.813,2, -999.000,9,-999.0000,9,  -999.00,9,   2152.6,2,   -999.0,9,     7.97,2,  4.1890
 3230CITHER2_1,  A17C,    37,  1,     24,     24,2,19940120,0014,-37.6698, -45.6508, 5156,    801.3,   3.5800,  34.2050,2,  34.1960,2,    253.9,2,    257.9,2,    22.50,2,    29.44,2,     1.99,2,    3.267,2,    1.659,2, -999.000,9,-999.0000,9,  -999.00,9,   2165.7,2,   -999.0,9,     7.95,2,  3.5240
 3230CITHER2_1,  A17C,    37,  1,     23,     23,2,19940120,0014,-37.6698, -45.6508, 5156,   1000.3,   3.0350,  34.2750,2,  34.2740,2,    232.1,2,    232.3,2,    36.70,2,    32.01,2,     2.17,2,    1.961,2,    1.022,2, -999.000,9,-999.0000,9,  -999.00,9,   2194.1,2,   -999.0,9,     7.90,2,  2.9670
 3230CITHER2_1,  A17C,    37,  1,     21,     21,2,19940120,0014,-37.6698, -45.6508, 5156,   1199.9,   2.7560,  34.3760,2,  34.3750,2,    204.8,2,    205.1,2,    50.60,2,    33.65,2,     2.28,2,    1.112,2,    0.575,2, -999.000,9,-999.0000,9,  -999.00,9,   -999.0,9,   -999.0,9,     7.87,2,  2.6750
 3230CITHER2_1,  A17C,    37,  1,     22,     22,2,19940120,0014,-37.6698, -45.6508, 5156,   1200.4,   2.7560,  34.3760,2,  34.3740,2,    204.8,2,    204.8,2,    50.70,2,    33.60,2,     2.28,2,    1.119,2,    0.588,2, -999.000,9,-999.0000,9,  -999.00,9,   -999.0,9,   -999.0,9,     7.87,2,  2.6750
 3230CITHER2_1,  A17C,    37,  1,     20,     20,2,19940120,0014,-37.6698, -45.6508, 5156,   1400.5,   2.8290,  34.5120,2,  34.5120,2,    186.7,2,    187.6,2,    58.50,2,    33.41,2,     2.27,2,    0.407,2,    0.208,2, -999.000,9,-999.0000,9,  -999.00,9,   -999.0,9,   -999.0,9,     7.85,2,  2.7310
 3230CITHER2_1,  A17C,    37,  1,     19,     19,2,19940120,0014,-37.6698, -45.6508, 5156,   1598.9,   3.0050,  34.6400,2,  34.6390,2,    186.1,2,    189.4,2,    55.80,2,    31.43,2,     2.12,2,    0.098,2,    0.058,2, -999.000,9,-999.0000,9,  -999.00,9,   -999.0,9,   -999.0,9,     7.88,2,  2.8890
 3230CITHER2_1,  A17C,    37,  1,     18,     18,2,19940120,0014,-37.6698, -45.6508, 5156,   1797.6,   3.0060,  34.7200,2,  34.7220,2,    198.3,2,    193.7,2,    57.60,2,    30.29,2,     2.02,2,    0.097,2,    0.066,2, -999.000,9,-999.0000,9,  -999.00,9,   -999.0,9,   -999.0,9,     7.89,2,  2.8720
 3230CITHER2_1,  A17C,    37,  1,     17,     17,2,19940120,0014,-37.6698, -45.6508, 5156,   1999.3,   3.1920,  34.8180,2,  34.8190,2,    212.9,2,    212.0,2,    46.10,2,    26.68,2,     1.78,2,    0.048,2,    0.036,2, -999.000,9,-999.0000,9,  -999.00,9,   -999.0,9,   -999.0,9,     7.93,2,  3.0370
 3230CITHER2_1,  A17C,    37,  1,     16,     16,2,19940120,0014,-37.6698, -45.6508, 5156,   2199.8,   3.2260,  34.8760,2,  34.8740,2,    234.4,2,    227.2,2,    40.00,2,    24.40,2,     1.61,2,    0.040,2,    0.032,2, -999.000,9,-999.0000,9,  -999.00,9,   -999.0,9,   -999.0,9,     7.96,2,  3.0510
 3230CITHER2_1,  A17C,    37,  1,     15,     15,2,19940120,0014,-37.6698, -45.6508, 5156,   2397.9,   3.1190,  34.8880,2,  34.8880,2,    228.5,2,    231.5,2,    40.00,2,    23.75,2,     1.58,2,    0.032,2,    0.024,2, -999.000,9,-999.0000,9,  -999.00,9,   -999.0,9,   -999.0,9,     7.97,2,  2.9270
 3230CITHER2_1,  A17C,    37,  1,     14,     14,2,19940120,0014,-37.6698, -45.6508, 5156,   2598.3,   2.9160,  34.8830,2,  34.8820,2,    228.1,2,    232.4,2,    44.10,2,    23.75,2,     1.58,2,    0.028,2,    0.021,2, -999.000,9,-999.0000,9,  -999.00,9,   -999.0,9,   -999.0,9,     7.97,2,  2.7080
 3230CITHER2_1,  A17C,    37,  1,     13,     13,2,19940120,0014,-37.6698, -45.6508, 5156,   2799.1,   2.7120,  34.8740,2,  34.8660,2,    229.2,2,    232.6,2,    49.40,2,    24.50,2,     1.61,2,    0.026,2,    0.021,2, -999.000,9,-999.0000,9,  -999.00,9,   -999.0,9,   -999.0,9,     7.97,2,  2.4880
 3230CITHER2_1,  A17C,    37,  1,     12,     12,2,19940120,0014,-37.6698, -45.6508, 5156,   2998.9,   2.2920,  34.8220,2,  34.8220,2,    218.6,2,    218.9,2,    68.40,2,    26.99,2,     1.81,2,    0.030,2,    0.019,2, -999.000,9,-999.0000,9,  -999.00,9,   -999.0,9,   -999.0,9,     7.94,2,  2.0570
 3230CITHER2_1,  A17C,    37,  1,     11,     11,2,19940120,0014,-37.6698, -45.6508, 5156,   3198.6,   1.9620,  34.7920,2,  34.7890,2,    213.5,2,    213.5,2,    82.50,2,    28.67,2,     1.92,2,    0.045,2,    0.027,2, -999.000,9,-999.0000,9,  -999.00,9,   -999.0,9,   -999.0,9,     7.92,2,  1.7150
 3230CITHER2_1,  A17C,    37,  1,     10,     10,2,19940120,0014,-37.6698, -45.6508, 5156,   3398.1,   1.5950,  34.7570,2,  34.7570,2,    206.6,2,    209.3,2,    98.80,2,    30.66,2,     2.05,2,    0.058,2,    0.045,2, -999.000,9,-999.0000,9,  -999.00,9,   -999.0,9,   -999.0,9,     7.91,2,  1.3360
 3230CITHER2_1,  A17C,    37,  1,      9,      9,2,19940120,0014,-37.6698, -45.6508, 5156,   3597.5,   1.2760,  34.7360,2,  34.7350,2,    207.1,2,    206.6,2,   108.50,2,    31.55,2,     2.13,2,    0.072,2,    0.050,2, -999.000,9,-999.0000,9,  -999.00,9,   -999.0,9,   -999.0,9,     7.89,2,  1.0050
 3230CITHER2_1,  A17C,    37,  1,      8,      8,2,19940120,0014,-37.6698, -45.6508, 5156,   3799.2,   1.0420,  34.7180,2,  34.7190,2,    208.3,2,    209.3,2,   116.40,2,    32.08,2,     2.18,2,    0.099,2,    0.061,2, -999.000,9,-999.0000,9,  -999.00,9,   -999.0,9,   -999.0,9,     7.89,2,  0.7570
 3230CITHER2_1,  A17C,    37,  1,      7,      7,2,19940120,0014,-37.6698, -45.6508, 5156,   3998.9,   0.8020,  34.7020,2,  34.6960,2,    209.9,2,    212.3,2,   120.10,2,    32.65,2,     2.21,2,    0.124,2,    0.082,2, -999.000,9,-999.0000,9,  -999.00,9,   -999.0,9,   -999.0,9,     7.88,2,  0.5030
 3230CITHER2_1,  A17C,    37,  1,      6,      6,2,19940120,0014,-37.6698, -45.6508, 5156,   4198.4,   0.5450,  34.6900,2,  34.6890,2,    214.4,2,    216.0,2,   126.00,2,    33.05,2,     2.25,2,    0.126,2,    0.084,2, -999.000,9,-999.0000,9,  -999.00,9,   -999.0,9,   -999.0,9,     7.88,2,  0.2320
 3230CITHER2_1,  A17C,    37,  1,      5,      5,2,19940120,0014,-37.6698, -45.6508, 5156,   4399.8,   0.3920,  34.6810,2,  34.6700,2,    217.6,2,    219.3,2,   127.60,2,    33.35,2,     2.27,2,    0.117,2,    0.075,2, -999.000,9,-999.0000,9,  -999.00,9,   -999.0,9,   -999.0,9,     7.88,2,  0.0630
 3230CITHER2_1,  A17C,    37,  1,      4,      4,2,19940120,0014,-37.6698, -45.6508, 5156,   4598.1,   0.3020,  34.6760,2,  34.6770,2,    220.4,2,    221.3,2,   129.90,2,    33.25,2,     2.28,2,    0.130,2,    0.080,2, -999.000,9,-999.0000,9,  -999.00,9,   -999.0,9,   -999.0,9,     7.89,2, -0.0460
 3230CITHER2_1,  A17C,    37,  1,      3,      3,2,19940120,0014,-37.6698, -45.6508, 5156,   4798.0,   0.2580,  34.6730,2,  34.6740,2,    222.2,2,    222.7,2,   131.00,2,    33.35,2,     2.28,2,    0.137,2,    0.086,2, -999.000,9,-999.0000,9,  -999.00,9,   -999.0,9,   -999.0,9,     7.89,2, -0.1110
 3230CITHER2_1,  A17C,    37,  1,      2,      2,2,19940120,0014,-37.6698, -45.6508, 5156,   4998.0,   0.2380,  34.6720,2,  34.6740,2,    223.4,2,    223.0,2,   132.10,2,    33.26,2,     2.29,2,    0.160,2,    0.097,2, -999.000,9,-999.0000,9,  -999.00,9,   -999.0,9,   -999.0,9,     7.89,2, -0.1530
 3230CITHER2_1,  A17C,    37,  1,      1,      1,2,19940120,0014,-37.6698, -45.6508, 5156,   5218.8,   0.2450,  34.6710,2,  34.6700,2,    223.3,2,    222.3,2,   133.50,2,    33.36,2,     2.30,2,    0.159,2,    0.105,2, -999.000,9,-999.0000,9,  -999.00,9,   -999.0,9,   -999.0,9,     7.88,2, -0.1720