BOTTLE,20030515WHPSIOSA
EXPOCODE,SECT_ID,STNNBR,CASTNO,SAMPNO,BTLNBR,BTLNBR_FLAG_W,DATE,TIME,LATITUDE,LONGITUDE,DEPTH,CTDPRS,CTDTMP,CTDSAL,CTDSAL_FLAG_W,SALNTY,SALNTY_FLAG_W,CTDOXY,CTDOXY_FLAG_W,OXYGEN,OXYGEN_FLAG_W,SILCAT,SILCAT_FLAG_W,NITRAT,NITRAT_FLAG_W,PHSPHT,PHSPHT_FLAG_W,CFC-11,CFC-11_FLAG_W,CFC-12,CFC-12_FLAG_W,TRITUM,TRITUM_FLAG_W,HELIUM,HELIUM_FLAG_W,DELHE3,DELHE3_FLAG_W,TCARBN,TCARBN_FLAG_W,ALKALI,ALKALI_FLAG_W,PH,PH_FLAG_W,THETA
,,,,,,,,,,,,DBAR,ITS-90,PSS-78,,PSS-78,,UMOL/KG,,UMOL/KG,,UMOL/KG,,UMOL/KG,,UMOL/KG,,PMOL/KG,,PMOL/KG,,TU,,NMOL/KG,,PERCNT,,UMOL/KG,,UMOL/KG,,,,DEG C
 3230CITHER2_1,  A17C,    10,  1,     29,     29,2,19940111,0501,-48.4503, -54.9672, 4205,      6.7,   8.6920,  34.1540,2,  34.1540,2,    316.1,2,    315.4,2,     0.20,2,    15.35,2,     0.99,2,    4.867,2,    2.353,2,    0.378,2,-999.0000,9,  -999.00,9,   2064.7,2,   2295.6,2,     8.16,2,  8.6910
 3230CITHER2_1,  A17C,    10,  1,     28,     28,2,19940111,0501,-48.4503, -54.9672, 4205,     29.7,   8.4290,  34.1710,2,  34.1530,2,    320.1,2,    317.0,2,     0.40,2,    15.77,2,     1.08,2,    4.923,2,    2.380,2,    0.430,2,-999.0000,9,  -999.00,9,   2069.7,2,   2295.2,2,     8.16,2,  8.4260
 3230CITHER2_1,  A17C,    10,  1,     27,     27,2,19940111,0501,-48.4503, -54.9672, 4205,     75.8,   5.5460,  34.1620,2,  34.1620,2,    301.9,2,    302.5,2,     8.00,2,    22.18,2,     1.59,2,    5.294,2,    2.559,2, -999.000,9,-999.0000,9,  -999.00,9,   2118.4,2,   2292.1,2,     8.04,2,  5.5400
 3230CITHER2_1,  A17C,    10,  1,     26,     26,2,19940111,0501,-48.4503, -54.9672, 4205,    100.0,   4.7580,  34.1730,2,  34.1710,2,    301.4,2,    302.9,2,     9.50,2,    23.48,2,     1.66,2,    5.270,2,    2.554,2,    0.324,2,-999.0000,9,  -999.00,9,   2125.7,2,   2291.6,2,     8.02,2,  4.7510
 3230CITHER2_1,  A17C,    10,  1,     25,     25,2,19940111,0501,-48.4503, -54.9672, 4205,    149.8,   4.4560,  34.1810,2,  34.1810,2,    295.6,2,    294.4,2,    10.80,2,    24.41,2,     1.70,2,    4.964,2,    2.391,2, -999.000,9,-999.0000,9,  -999.00,9,   2132.0,2,   2292.1,2,     8.01,2,  4.4450
 3230CITHER2_1,  A17C,    10,  1,     24,     24,2,19940111,0501,-48.4503, -54.9672, 4205,    200.2,   4.2150,  34.1690,2,  34.1720,2,    295.4,2,    295.7,2,    11.60,2,    25.35,2,     1.72,2,    5.004,2,    2.404,2,    0.320,2,-999.0000,9,  -999.00,9,   2134.9,2,   2293.2,2,     8.00,2,  4.2010
 3230CITHER2_1,  A17C,    10,  1,     23,     23,2,19940111,0501,-48.4503, -54.9672, 4205,    250.7,   3.9630,  34.1580,2,  34.1600,2,    293.7,2,    294.4,2,    12.70,2,    25.97,2,     1.75,2,    4.925,2,    2.385,2, -999.000,9,-999.0000,9,  -999.00,9,   2138.0,2,   2293.1,2,     7.99,2,  3.9460
 3230CITHER2_1,  A17C,    10,  1,     22,     22,2,19940111,0501,-48.4503, -54.9672, 4205,    299.5,   3.7180,  34.1450,2,  34.1460,2,    294.4,2,    291.6,2,    13.10,2,    26.49,2,     1.80,2,    4.842,2,    2.369,2,    0.150,2,-999.0000,9,  -999.00,9,   2142.2,2,   2292.6,2,     7.98,2,  3.6980
 3230CITHER2_1,  A17C,    10,  1,     21,     21,2,19940111,0501,-48.4503, -54.9672, 4205,    400.7,   3.1330,  34.1340,2,  34.1370,2,    281.8,2,    266.1,2,    17.30,2,    28.57,2,     1.94,2,    4.393,2,    2.146,2,    0.249,2,-999.0000,9,  -999.00,9,   2155.5,2,   2297.4,2,     7.96,2,  3.1080
 3230CITHER2_1,  A17C,    10,  1,     20,     20,2,19940111,0501,-48.4503, -54.9672, 4205,    500.7,   3.2750,  34.2210,2,  34.2230,2,    246.9,2,    243.6,2,    28.40,2,    31.28,2,     2.11,2,    2.808,2,    1.428,2,    0.194,2,-999.0000,9,  -999.00,9,   2181.0,2,   2307.7,2,     7.92,2,  3.2420
 3230CITHER2_1,  A17C,    10,  1,     19,     19,2,19940111,0501,-48.4503, -54.9672, 4205,    600.5,   2.9450,  34.2600,2,  34.2620,2,    238.1,2,    227.9,2,    37.20,2,    33.16,2,     2.24,2,    2.230,2,    1.127,2,    0.322,2,-999.0000,9,  -999.00,9,   2198.7,2,   2313.2,2,     7.88,2,  2.9070
 3230CITHER2_1,  A17C,    10,  1,     18,     18,2,19940111,0501,-48.4503, -54.9672, 4205,    800.8,   2.7200,  34.3920,2,  34.3940,2,    198.0,2,    195.1,2,    55.20,2,    35.14,2,     2.39,2,    1.035,2,    0.539,2, -999.000,9,-999.0000,9,  -999.00,9,   2229.1,2,   2332.0,2,     7.84,2,  2.6690
 3230CITHER2_1,  A17C,    10,  1,     17,     17,2,19940111,0501,-48.4503, -54.9672, 4205,    998.6,   2.4460,  34.4740,2,  34.4790,2,    183.0,2,    181.9,2,    67.60,2,    35.86,2,     2.44,2,    0.690,2,    0.361,2, -999.000,9,-999.0000,9,  -999.00,9,   2245.5,2,   2341.7,2,     7.82,2,  2.3830
 3230CITHER2_1,  A17C,    10,  1,     16,     16,2,19940111,0501,-48.4503, -54.9672, 4205,   1200.0,   2.3510,  34.5580,2,  34.5600,2,    173.3,2,    172.7,2,    74.80,2,    35.86,2,     2.43,2,    0.372,2,    0.203,2, -999.000,9,-999.0000,9,  -999.00,9,   2256.3,2,   2351.9,2,     7.82,2,  2.2740
 3230CITHER2_1,  A17C,    10,  1,     15,     15,2,19940111,0501,-48.4503, -54.9672, 4205,   1399.3,   2.2270,  34.6180,2,  34.6210,2,    171.4,2,    171.5,2,    84.70,2,    35.54,2,     2.40,2,    0.246,2,    0.135,2,    0.047,2,-999.0000,9,  -999.00,9,   2260.6,2,   2357.6,2,     7.82,2,  2.1360
 3230CITHER2_1,  A17C,    10,  1,     14,     14,2,19940111,0501,-48.4503, -54.9672, 4205,   1599.5,   2.1400,  34.6610,2,  34.6620,2,    172.8,2,    173.2,2,    89.60,2,    35.12,2,     2.36,2,    0.154,2,    0.086,2, -999.000,9,-999.0000,9,  -999.00,9,   2262.2,2,   2363.9,2,     7.83,2,  2.0340
 3230CITHER2_1,  A17C,    10,  1,     13,     13,2,19940111,0501,-48.4503, -54.9672, 4205,   1799.2,   2.0400,  34.6900,2,  34.6900,2,    175.8,2,    176.3,2,    93.70,2,    34.50,2,     2.33,2,    0.097,2,    0.059,2, -999.000,9,-999.0000,9,  -999.00,9,   2263.4,2,   2367.4,2,     7.84,2,  1.9190
 3230CITHER2_1,  A17C,    10,  1,     12,     12,2,19940111,0501,-48.4503, -54.9672, 4205,   1999.2,   1.9520,  34.7140,2,  34.7150,2,    181.1,2,    181.5,2,    94.80,2,    33.09,2,     2.27,2,    0.070,2,    0.046,2, -999.000,9,-999.0000,9,  -999.00,9,   2261.1,2,   2369.3,2,     7.85,2,  1.8160
 3230CITHER2_1,  A17C,    10,  1,     11,     11,2,19940111,0501,-48.4503, -54.9672, 4205,   2197.4,   1.8850,  34.7350,2,  34.7300,2,    188.4,2,    189.6,2,    93.40,2,    32.82,2,     2.21,2,    0.056,2,    0.041,2, -999.000,9,-999.0000,9,  -999.00,9,   2255.3,2,   2369.2,2,     7.87,2,  1.7330
 3230CITHER2_1,  A17C,    10,  1,     10,     10,2,19940111,0501,-48.4503, -54.9672, 4205,   2399.6,   1.6680,  34.7270,2,  34.7260,2,    190.4,2,    191.5,2,   100.80,2,    33.10,2,     2.24,2,    0.068,2,    0.057,2, -999.000,9,-999.0000,9,  -999.00,9,   2258.9,2,   2372.5,2,     7.86,2,  1.5020
 3230CITHER2_1,  A17C,    10,  1,      9,      9,2,19940111,0501,-48.4503, -54.9672, 4205,   2600.0,   1.4620,  34.7260,2,  34.7260,2,    194.4,2,    194.7,2,   106.80,2,    33.09,2,     2.25,2,    0.080,2,    0.059,2, -999.000,9,-999.0000,9,  -999.00,9,   2260.3,2,   2373.9,2,     7.87,2,  1.2830
 3230CITHER2_1,  A17C,    10,  1,      8,      8,2,19940111,0501,-48.4503, -54.9672, 4205,   2799.9,   1.4120,  34.7230,2,  34.7250,2,    195.5,2,    195.7,2,   109.30,2,    33.30,2,     2.25,2,    0.092,2,    0.056,2, -999.000,9,-999.0000,9,  -999.00,9,   2260.4,2,   2372.2,2,     7.86,2,  1.2160
 3230CITHER2_1,  A17C,    10,  1,      6,      6,2,19940111,0501,-48.4503, -54.9672, 4205,   2999.5,   1.3900,  34.7230,2,  34.7230,2,    197.3,2,    196.8,2,   110.70,2,    33.29,2,     2.24,2,    0.089,2,    0.055,2, -999.000,9,-999.0000,9,  -999.00,9,   2260.0,2,   2374.0,2,     7.86,2,  1.1750
 3230CITHER2_1,  A17C,    10,  1,      7,      7,2,19940111,0501,-48.4503, -54.9672, 4205,   3000.6,   1.3900,  34.7230,2,  34.7220,2,    197.3,2,    196.7,2,   110.30,2,    33.29,2,     2.25,2,    0.094,2,    0.054,2, -999.000,9,-999.0000,9,  -999.00,9,   -999.0,5,   2374.0,2,     7.86,2,  1.1750
 3230CITHER2_1,  A17C,    10,  1,      5,      5,2,19940111,0501,-48.4503, -54.9672, 4205,   3200.2,   1.3550,  34.7210,2,  34.7210,2,    198.0,2,    197.1,2,   112.30,2,    33.28,2,     2.25,2,    0.103,2,    0.057,2, -999.000,9,-999.0000,9,  -999.00,9,   2260.7,2,   2375.3,2,     7.87,2,  1.1220
 3230CITHER2_1,  A17C,    10,  1,      4,      4,2,19940111,0501,-48.4503, -54.9672, 4205,   3399.6,   1.3400,  34.7200,2,  34.7200,2,    198.8,2,    198.2,2,   113.60,2,    33.32,2,     2.26,2,    0.104,2,    0.057,2, -999.000,9,-999.0000,9,  -999.00,9,   2260.0,2,   2370.3,2,     7.87,2,  1.0880
 3230CITHER2_1,  A17C,    10,  1,      3,      3,2,19940111,0501,-48.4503, -54.9672, 4205,   3598.2,   1.2940,  34.7210,2,  34.7220,2,    200.8,2,    200.6,2,   113.90,2,    33.01,2,     2.25,2,    0.103,2,    0.063,2, -999.000,9,-999.0000,9,  -999.00,9,   2259.2,2,   2372.1,2,     7.86,2,  1.0230
 3230CITHER2_1,  A17C,    10,  1,      2,      2,2,19940111,0501,-48.4503, -54.9672, 4205,   3798.7,   1.1110,  34.7140,2,  34.7130,2,    204.6,2,    204.3,2,   117.70,2,    33.21,2,     2.25,2,    0.123,2,    0.070,2, -999.000,9,-999.0000,9,  -999.00,9,   2260.3,2,   2372.6,2,     7.87,2,  0.8240
 3230CITHER2_1,  A17C,    10,  1,      1,      1,2,19940111,0501,-48.4503, -54.9672, 4205,   4243.4,   0.5430,  34.6890,2,  34.6900,2,    213.5,2,    216.9,2,   126.20,2,    33.73,2,     2.30,2,    0.149,2,    0.087,2, -999.000,9,-999.0000,9,  -999.00,9,   2263.5,2,   2372.3,2,     7.87,2,  0.2260
 3230CITHER2_1,  A17C,    11,  1,     31,     31,2,19940111,1114,-48.2595, -54.7907, 5007,      9.3,   9.8050,  34.1210,2,  34.1180,2,    311.6,2,    304.1,2,     0.60,2,    13.68,2,     0.95,2,    4.527,2,    2.285,2,    0.293,2,   1.7600,2,    -0.02,2,   2056.8,2,   -999.0,9,     8.19,2,  9.8040
 3230CITHER2_1,  A17C,    11,  1,     30,     30,2,19940111,1114,-48.2595, -54.7907, 5007,     51.5,   6.3870,  34.1380,2,  34.1420,2,    301.3,2,    294.0,2,     5.20,2,    20.10,2,     1.53,2,    5.109,2,    2.516,2,    0.210,2,   1.7800,2,    -1.54,2,   2118.7,2,   -999.0,9,     8.05,2,  6.3830
 3230CITHER2_1,  A17C,    11,  1,     29,     29,2,19940111,1114,-48.2595, -54.7907, 5007,    101.1,   4.9470,  34.1470,2,  34.1440,2,    297.3,2,    297.5,2,     8.80,2,    23.27,2,     1.64,2,    6.163,2,    3.107,2,    0.381,2,   1.7900,2,    -1.45,2,   2129.8,2,   -999.0,9,     8.02,2,  4.9390
 3230CITHER2_1,  A17C,    11,  1,     28,     28,2,19940111,1114,-48.2595, -54.7907, 5007,    150.6,   4.4460,  34.1540,2,  34.1530,2,    294.6,2,    295.7,2,    10.30,2,    24.75,2,     1.69,2, -999.000,5, -999.000,5,    0.277,2,   1.8100,2,    -1.56,2,   2133.1,2,   -999.0,9,     8.01,2,  4.4350
 3230CITHER2_1,  A17C,    11,  1,     27,     27,2,19940111,1114,-48.2595, -54.7907, 5007,    201.8,   4.2400,  34.1650,2,  34.1600,2,    295.2,2,    294.9,2,    11.00,2,    24.92,2,     1.72,2,    4.905,2,    2.414,2,    0.289,2,   1.8100,2,    -0.19,2,   2135.7,2,   -999.0,9,     8.00,2,  4.2260
 3230CITHER2_1,  A17C,    11,  1,     26,     26,2,19940111,1114,-48.2595, -54.7907, 5007,    300.4,   3.5760,  34.1320,2,  34.1310,2,    292.9,2,    290.5,2,    14.80,2,    26.83,2,     1.83,2,    4.700,2,    2.340,2,    0.223,2,   1.8100,2,    -1.21,2,   -999.0,9,   -999.0,9,     7.98,2,  3.5560
 3230CITHER2_1,  A17C,    11,  1,     25,     25,2,19940111,1114,-48.2595, -54.7907, 5007,    400.8,   3.1360,  34.1430,2,  34.1410,2,    278.4,2,    271.8,2,    21.40,2,    29.22,2,     1.98,2,    3.957,2,    1.966,2,    0.176,2,   1.8200,2,    -0.54,2,   -999.0,9,   -999.0,9,     7.95,2,  3.1110
 3230CITHER2_1,  A17C,    11,  1,     24,     24,2,19940111,1114,-48.2595, -54.7907, 5007,    600.4,   2.7360,  34.2370,2,  34.2360,2,    240.9,2,    237.6,2,    36.80,2,    32.82,2,     2.21,2,    2.589,2,    1.306,2,    0.130,2,   1.8200,2,     0.96,2,   -999.0,9,   -999.0,9,     7.89,2,  2.6990
 3230CITHER2_1,  A17C,    11,  1,     23,     23,2,19940111,1114,-48.2595, -54.7907, 5007,    801.0,   2.5100,  34.3690,2,  34.3680,2,    207.3,2,    202.7,2,    56.10,2,    34.94,2,     2.36,2,    1.343,2,    0.697,2,    0.064,2,   1.8200,2,     5.03,2,   -999.0,9,   -999.0,9,     7.85,2,  2.4600
 3230CITHER2_1,  A17C,    11,  1,     22,     22,2,19940111,1114,-48.2595, -54.7907, 5007,   1001.4,   2.4050,  34.4910,2,  34.4890,2,    184.1,2,    181.5,2,    71.60,2,    35.35,2,     2.42,2,    0.640,2,    0.342,2, -999.000,9,   1.8200,2,     3.45,2,   -999.0,9,   -999.0,9,     7.83,2,  2.3420
 3230CITHER2_1,  A17C,    11,  1,     21,     21,2,19940111,1114,-48.2595, -54.7907, 5007,   1200.1,   2.5910,  34.6090,2,  34.6080,2,    181.8,2,    180.6,2,    70.50,2,    33.89,2,     2.29,2,    0.251,2,    0.143,2,    0.036,2,   1.8100,2,     7.05,2,   -999.0,9,   -999.0,9,     7.84,2,  2.5110
 3230CITHER2_1,  A17C,    11,  1,     20,     20,2,19940111,1114,-48.2595, -54.7907, 5007,   1399.6,   2.6090,  34.6850,2,  34.6830,2,    185.1,2,    191.7,2,    71.30,2,    32.43,2,     2.19,2, -999.000,5, -999.000,5,    0.076,2,   1.8100,2,     8.72,2,   -999.0,9,   -999.0,9,     7.86,2,  2.5130
 3230CITHER2_1,  A17C,    11,  1,     19,     19,2,19940111,1114,-48.2595, -54.7907, 5007,   1600.3,   2.7010,  34.7530,2,  34.7510,2,    196.5,2,    196.1,2,    65.30,2,    30.31,2,     2.03,2,    0.080,2,    0.059,2, -999.000,9,-999.0000,9,  -999.00,9,   -999.0,9,   -999.0,9,     7.89,2,  2.5880
 3230CITHER2_1,  A17C,    11,  1,     18,     18,2,19940111,1114,-48.2595, -54.7907, 5007,   1800.6,   2.2430,  34.7230,2,  34.7190,2,    184.7,2,    186.0,2,    85.10,2,    32.10,2,     2.20,2,    0.087,2,    0.059,2, -999.000,9,   1.8200,2,     8.19,2,   -999.0,9,   -999.0,9,     7.87,2,  2.1190
 3230CITHER2_1,  A17C,    11,  1,     17,     17,2,19940111,1114,-48.2595, -54.7907, 5007,   1999.9,   2.2710,  34.7640,2,  34.7620,2,    198.4,2,    196.8,2,    79.50,2,    30.76,2,     2.07,2,    0.054,2,    0.043,2, -999.000,9,-999.0000,9,  -999.00,9,   -999.0,9,   -999.0,9,     7.89,2,  2.1300
 3230CITHER2_1,  A17C,    11,  1,     16,     16,2,19940111,1114,-48.2595, -54.7907, 5007,   2199.7,   2.0000,  34.7510,2,  34.7490,2,    196.0,2,    194.5,2,    88.80,2,    31.59,2,     2.14,2,    0.056,2,    0.025,2, -999.000,9,   1.8100,2,    10.15,2,   -999.0,9,   -999.0,9,     7.88,2,  1.8460
 3230CITHER2_1,  A17C,    11,  1,     15,     15,2,19940111,1114,-48.2595, -54.7907, 5007,   2400.9,   1.7340,  34.7390,2,  34.7370,2,    200.2,2,    194.0,2,   101.10,2,    31.90,2,     2.19,2,    0.053,2,    0.041,2, -999.000,9,-999.0000,9,  -999.00,9,   -999.0,9,   -999.0,9,     7.88,2,  1.5670
 3230CITHER2_1,  A17C,    11,  1,     14,     14,2,19940111,1114,-48.2595, -54.7907, 5007,   2599.2,   1.5470,  34.7240,2,  34.7220,2,    192.5,2,    192.6,2,   106.30,2,    32.83,2,     2.24,2,    0.076,2,    0.051,2, -999.000,9,   1.8100,2,    10.94,2,   -999.0,9,   -999.0,9,     7.87,2,  1.3660
 3230CITHER2_1,  A17C,    11,  1,     13,     13,2,19940111,1114,-48.2595, -54.7907, 5007,   2799.3,   1.4800,  34.7300,2,  34.7260,2,    197.5,2,    197.3,2,   106.90,2,    32.41,2,     2.22,2,    0.079,2,    0.058,2, -999.000,9,-999.0000,9,  -999.00,9,   -999.0,9,   -999.0,9,     7.87,2,  1.2820
 3230CITHER2_1,  A17C,    11,  1,     12,     12,2,19940111,1114,-48.2595, -54.7907, 5007,   2998.6,   1.3360,  34.7250,2,  34.7220,2,    198.8,2,    198.8,2,   112.40,2,    32.72,2,     2.24,2,    0.092,2,    0.058,2, -999.000,9,   1.8200,2,     8.78,2,   -999.0,9,   -999.0,9,     7.87,2,  1.1230
 3230CITHER2_1,  A17C,    11,  1,     11,     11,2,19940111,1114,-48.2595, -54.7907, 5007,   3200.1,   1.2520,  34.7210,2,  34.7180,2,    200.7,2,    200.5,2,   114.80,2,    32.92,2,     2.25,2,    0.103,2,    0.071,2, -999.000,9,-999.0000,9,  -999.00,9,   -999.0,9,   -999.0,9,     7.87,2,  1.0210
 3230CITHER2_1,  A17C,    11,  1,     10,     10,2,19940111,1114,-48.2595, -54.7907, 5007,   3398.9,   1.1630,  34.7210,2,  34.7190,2,    205.2,2,    205.4,2,   115.90,2,    33.02,2,     2.24,2,    0.108,2,    0.069,2, -999.000,9,   1.8200,2,     8.39,2,   -999.0,9,   -999.0,9,     7.87,2,  0.9150
 3230CITHER2_1,  A17C,    11,  1,      9,      9,2,19940111,1114,-48.2595, -54.7907, 5007,   3598.2,   1.0000,  34.7130,2,  34.7100,2,    208.2,2,    205.9,2,   119.20,2,    33.44,2,     2.25,2,    0.126,2,    0.075,2, -999.000,9,-999.0000,9,  -999.00,9,   -999.0,9,   -999.0,9,     7.88,2,  0.7370
 3230CITHER2_1,  A17C,    11,  1,      8,      8,2,19940111,1114,-48.2595, -54.7907, 5007,   3798.9,   0.8050,  34.7020,2,  34.7020,2,    212.0,2,    211.3,2,   119.90,2,    33.33,2,     2.26,2,    0.143,2,    0.093,2, -999.000,9,   1.7800,2,     7.16,2,   -999.0,9,   -999.0,9,     7.87,2,  0.5230
 3230CITHER2_1,  A17C,    11,  1,      7,      7,2,19940111,1114,-48.2595, -54.7907, 5007,   3799.4,   0.8010,  34.7030,2,  34.7020,2,    212.0,2,    211.8,2,   121.60,2,    33.43,2,     2.28,2,    0.144,2,    0.086,2, -999.000,9,-999.0000,9,  -999.00,9,   -999.0,9,   -999.0,9,     7.87,2,  0.5260
 3230CITHER2_1,  A17C,    11,  1,      6,      6,2,19940111,1114,-48.2595, -54.7907, 5007,   3998.2,   0.6400,  34.6940,2,  34.6930,2,    214.9,2,    214.5,2,   123.20,2,    33.53,2,     2.28,2,    0.146,2,    0.092,2, -999.000,9,-999.0000,9,  -999.00,9,   -999.0,9,   -999.0,9,     7.87,2,  0.3460
 3230CITHER2_1,  A17C,    11,  1,      5,      5,2,19940111,1114,-48.2595, -54.7907, 5007,   4199.1,   0.4780,  34.6860,2,  34.6850,2,    218.2,2,    217.6,2,   127.00,2,    33.80,2,     2.29,2,    0.163,2,    0.093,2, -999.000,9,-999.0000,9,  -999.00,9,   -999.0,9,   -999.0,9,     7.87,2,  0.1670
 3230CITHER2_1,  A17C,    11,  1,      4,      4,2,19940111,1114,-48.2595, -54.7907, 5007,   4397.7,   0.3450,  34.6800,2,  34.6760,2,    221.3,2,    220.3,2,   129.80,2,    34.05,2,     2.31,2,    0.158,2,    0.095,2, -999.000,9,   1.8300,2,     5.20,2,   -999.0,9,   -999.0,9,     7.87,2,  0.0170
 3230CITHER2_1,  A17C,    11,  1,      3,      3,2,19940111,1114,-48.2595, -54.7907, 5007,   4598.8,   0.3040,  34.6780,2,  34.6750,2,    222.5,2,    221.8,2,   130.80,2,    33.88,2,     2.31,2,    0.145,2,    0.092,2, -999.000,9,-999.0000,9,  -999.00,9,   -999.0,9,   -999.0,9,     7.87,2, -0.0440
 3230CITHER2_1,  A17C,    11,  1,      2,      2,2,19940111,1114,-48.2595, -54.7907, 5007,   4797.3,   0.2860,  34.6760,2,  34.6730,2,    223.4,2,    222.7,2,   131.40,2,    34.08,2,     2.31,2,    0.158,2,    0.093,2, -999.000,9,-999.0000,9,  -999.00,9,   -999.0,9,   -999.0,9,     7.87,2, -0.0840
 3230CITHER2_1,  A17C,    11,  1,      1,      1,2,19940111,1114,-48.2595, -54.7907, 5007,   5070.9,   0.2730,  34.6730,2,  34.6720,2,    223.6,2,    224.0,2,   132.40,2,    34.05,2,     2.32,2,    0.166,2,    0.104,2, -999.000,9,   1.8200,2,     5.94,2,   -999.0,9,   -999.0,9,     7.87,2, -0.1270