BOTTLE,20030515WHPSIOSA
EXPOCODE,SECT_ID,STNNBR,CASTNO,SAMPNO,BTLNBR,BTLNBR_FLAG_W,DATE,TIME,LATITUDE,LONGITUDE,DEPTH,CTDPRS,CTDTMP,CTDSAL,CTDSAL_FLAG_W,SALNTY,SALNTY_FLAG_W,CTDOXY,CTDOXY_FLAG_W,OXYGEN,OXYGEN_FLAG_W,SILCAT,SILCAT_FLAG_W,NITRAT,NITRAT_FLAG_W,PHSPHT,PHSPHT_FLAG_W,CFC-11,CFC-11_FLAG_W,CFC-12,CFC-12_FLAG_W,TRITUM,TRITUM_FLAG_W,HELIUM,HELIUM_FLAG_W,DELHE3,DELHE3_FLAG_W,TCARBN,TCARBN_FLAG_W,ALKALI,ALKALI_FLAG_W,PH,PH_FLAG_W,THETA
,,,,,,,,,,,,DBAR,ITS-90,PSS-78,,PSS-78,,UMOL/KG,,UMOL/KG,,UMOL/KG,,UMOL/KG,,UMOL/KG,,PMOL/KG,,PMOL/KG,,TU,,NMOL/KG,,PERCNT,,UMOL/KG,,UMOL/KG,,,,DEG C
 3230CITHER2_1,  A17C,    96,  1,     32,     32,2,19940205,2235,-21.5178, -31.4548, 4614,      5.8,  28.0980,  37.2990,2,  37.2990,2,    179.9,2,    197.9,2,     1.20,2,     0.04,2,     0.11,2, -999.000,5, -999.000,5, -999.000,9,-999.0000,9,  -999.00,9,   2079.4,2,   2456.5,2,     8.39,2, 28.0970
 3230CITHER2_1,  A17C,    96,  1,     31,     31,2,19940205,2235,-21.5178, -31.4548, 4614,     31.7,  27.5990,  37.2480,2,  37.2290,2,    202.2,2,    203.3,2,     1.10,2,     0.04,2,     0.10,2, -999.000,5, -999.000,5, -999.000,9,-999.0000,9,  -999.00,9,   2078.3,2,   2453.0,2,     8.38,2, 27.5920
 3230CITHER2_1,  A17C,    96,  1,     30,     30,2,19940205,2235,-21.5178, -31.4548, 4614,    101.9,  23.0460,  36.8150,2,  36.8150,2,    216.0,2,    219.2,2,     1.20,2,     0.04,2,     0.12,2, -999.000,5, -999.000,5, -999.000,9,-999.0000,9,  -999.00,9,   2075.6,2,   2425.6,2,     8.36,2, 23.0250
 3230CITHER2_1,  A17C,    96,  1,     29,     29,2,19940205,2235,-21.5178, -31.4548, 4614,    201.8,  18.5120,  36.0600,2,  36.0370,2,    204.2,2,    202.7,2,     1.70,2,     2.00,2,     0.34,2, -999.000,5, -999.000,5, -999.000,9,-999.0000,9,  -999.00,9,   2093.4,2,   2376.2,2,     8.26,2, 18.4760
 3230CITHER2_1,  A17C,    96,  1,     28,     28,2,19940205,2235,-21.5178, -31.4548, 4614,    301.3,  14.6610,  35.3860,2,  35.3850,2,    199.7,2,    206.2,2,     3.30,2,     7.90,2,     0.64,2, -999.000,5, -999.000,5, -999.000,9,-999.0000,9,  -999.00,9,   2101.5,2,   2336.0,2,     8.18,2, 14.6160
 3230CITHER2_1,  A17C,    96,  1,     27,     27,2,19940205,2235,-21.5178, -31.4548, 4614,    401.3,  11.8900,  35.0350,2,  35.0350,2,    190.6,2,    189.2,2,     6.00,2,    15.17,2,     1.06,2, -999.000,5, -999.000,5, -999.000,9,-999.0000,9,  -999.00,9,   2125.1,2,   2318.5,2,     8.09,2, 11.8370
 3230CITHER2_1,  A17C,    96,  1,     26,     26,2,19940205,2235,-21.5178, -31.4548, 4614,    501.3,   9.7020,  34.7790,2,  34.7800,2,    179.7,2,    180.2,2,     9.90,2,    20.86,2,     1.45,2, -999.000,5, -999.000,5, -999.000,9,-999.0000,9,  -999.00,9,   2148.9,2,   2310.1,2,     8.03,2,  9.6440
 3230CITHER2_1,  A17C,    96,  1,     25,     25,2,19940205,2235,-21.5178, -31.4548, 4614,    603.8,   7.3400,  34.5530,2,  34.5550,2,    184.2,2,    183.0,2,    15.50,2,    26.19,2,     1.79,2, -999.000,5, -999.000,5, -999.000,9,-999.0000,9,  -999.00,9,   2168.7,2,   2302.9,2,     7.95,2,  7.2810
 3230CITHER2_1,  A17C,    96,  1,     24,     24,2,19940205,2235,-21.5178, -31.4548, 4614,    701.9,   5.4690,  34.4180,2,  34.4130,2,    188.5,2,    188.1,2,    22.80,2,    30.40,2,     2.05,2,    0.721,2,    0.407,2, -999.000,9,-999.0000,9,  -999.00,9,   2186.8,2,   2304.2,2,     7.91,2,  5.4100
 3230CITHER2_1,  A17C,    96,  1,     22,     22,2,19940205,2235,-21.5178, -31.4548, 4614,    800.5,   4.3250,  34.3630,2,  34.3620,2,    197.4,2,    198.8,2,    29.80,2,    32.16,2,     2.13,2,    0.569,2,    0.315,2, -999.000,9,-999.0000,9,  -999.00,9,   2194.4,2,   2309.0,2,     7.91,2,  4.2640
 3230CITHER2_1,  A17C,    96,  1,     23,     23,2,19940205,2235,-21.5178, -31.4548, 4614,    801.0,   4.3260,  34.3630,2,  34.3630,2,    197.4,2,    198.9,2,    29.90,2,    32.07,2,     2.14,2,    0.581,2,    0.327,2, -999.000,9,-999.0000,9,  -999.00,9,   -999.0,5,   2309.0,2,     7.91,2,  4.2650
 3230CITHER2_1,  A17C,    96,  1,     21,     21,2,19940205,2235,-21.5178, -31.4548, 4614,   1000.4,   3.5940,  34.4750,2,  34.4720,2,    184.5,2,    184.4,2,    41.70,2,    33.19,2,     2.23,2,    0.085,2,    0.048,2, -999.000,9,-999.0000,9,  -999.00,9,   2211.5,2,   2323.9,2,     7.88,2,  3.5210
 3230CITHER2_1,  A17C,    96,  1,     20,     20,2,19940205,2235,-21.5178, -31.4548, 4614,   1201.3,   3.3520,  34.6300,2,  34.6280,2,    189.5,2,    189.2,2,    44.90,2,    31.27,2,     2.09,2,    0.013,2,    0.007,2, -999.000,9,-999.0000,9,  -999.00,9,   2218.3,2,   2332.8,2,     7.90,2,  3.2650
 3230CITHER2_1,  A17C,    96,  1,     19,     19,2,19940205,2235,-21.5178, -31.4548, 4614,   1400.9,   3.2510,  34.7540,2,  34.7550,2,    203.2,2,    205.3,2,    43.10,2,    28.17,2,     1.87,2,    0.010,2,    0.007,2, -999.000,9,-999.0000,9,  -999.00,9,   2208.6,2,   2339.0,3,     7.93,2,  3.1480
 3230CITHER2_1,  A17C,    96,  1,     18,     18,2,19940205,2235,-21.5178, -31.4548, 4614,   1599.5,   3.6280,  34.9250,2,  34.9250,2,    234.1,2,    236.0,2,    25.20,2,    22.28,2,     1.46,2,    0.028,2,    0.014,2, -999.000,9,-999.0000,9,  -999.00,9,   2177.9,2,   2329.8,2,     8.00,2,  3.5030
 3230CITHER2_1,  A17C,    96,  1,     17,     17,2,19940205,2235,-21.5178, -31.4548, 4614,   1799.2,   3.5760,  34.9610,2,  34.9630,2,    248.1,2,    248.3,2,    21.10,2,    20.49,2,     1.34,2,    0.034,2,    0.016,2, -999.000,9,-999.0000,9,  -999.00,9,   2168.0,2,   2329.0,2,     8.01,2,  3.4340
 3230CITHER2_1,  A17C,    96,  1,     16,     16,2,19940205,2235,-21.5178, -31.4548, 4614,   2001.4,   3.3410,  34.9520,2,  34.9510,2,    250.2,2,    250.7,2,    23.60,2,    20.49,2,     1.34,2,    0.016,2,    0.010,2, -999.000,9,-999.0000,9,  -999.00,9,   2170.0,2,   2329.6,2,     8.02,2,  3.1830
 3230CITHER2_1,  A17C,    96,  1,     15,     15,2,19940205,2235,-21.5178, -31.4548, 4614,   2199.5,   3.1770,  34.9450,2,  34.9440,2,    251.1,2,    251.1,2,    26.00,2,    20.76,2,     1.34,2,    0.018,2,    0.011,2, -999.000,9,-999.0000,9,  -999.00,9,   2170.9,2,   2333.0,2,     8.02,2,  3.0030
 3230CITHER2_1,  A17C,    96,  1,     14,     14,2,19940205,2235,-21.5178, -31.4548, 4614,   2399.9,   3.0520,  34.9410,2,  34.9400,2,    252.2,2,    251.7,2,    27.70,2,    20.74,2,     1.35,2,    0.016,2,    0.012,2, -999.000,9,-999.0000,9,  -999.00,9,   2174.7,2,   2335.8,2,     8.02,2,  2.8610
 3230CITHER2_1,  A17C,    96,  1,     13,     13,2,19940205,2235,-21.5178, -31.4548, 4614,   2599.7,   2.9510,  34.9350,2,  34.9330,2,    252.3,2,    252.0,2,    29.30,2,    20.74,2,     1.36,2,    0.013,2,    0.010,2, -999.000,9,-999.0000,9,  -999.00,9,   2174.7,2,   2336.9,2,     8.02,2,  2.7420
 3230CITHER2_1,  A17C,    96,  1,     12,     12,2,19940205,2235,-21.5178, -31.4548, 4614,   2800.6,   2.8830,  34.9300,2,  34.9290,2,    252.4,2,    251.7,2,    30.80,2,    21.03,2,     1.37,2,    0.013,2,    0.010,2, -999.000,9,-999.0000,9,  -999.00,9,   2178.0,2,   2339.3,2,     8.02,2,  2.6550
 3230CITHER2_1,  A17C,    96,  1,     11,     11,2,19940205,2235,-21.5178, -31.4548, 4614,   3000.8,   2.7860,  34.9230,2,  34.9210,2,    251.2,2,    250.6,2,    32.80,2,    21.15,2,     1.38,2,    0.007,2,    0.003,2, -999.000,9,-999.0000,9,  -999.00,9,   2179.6,2,   2338.7,2,     8.02,2,  2.5400
 3230CITHER2_1,  A17C,    96,  1,     10,     10,2,19940205,2235,-21.5178, -31.4548, 4614,   3198.8,   2.7180,  34.9200,2,  34.9210,2,    252.1,2,    251.4,2,    34.10,2,    21.24,2,     1.38,2,    0.009,2,    0.004,2, -999.000,9,-999.0000,9,  -999.00,9,   2180.6,2,   2337.3,2,     8.01,2,  2.4530
 3230CITHER2_1,  A17C,    96,  1,      9,      9,2,19940205,2235,-21.5178, -31.4548, 4614,   3398.5,   2.6160,  34.9120,2,  34.9120,2,    253.7,2,    252.6,2,    35.60,2,    21.23,2,     1.40,2,    0.008,2,    0.009,2, -999.000,9,-999.0000,9,  -999.00,9,   2181.9,2,   2340.1,2,     8.02,2,  2.3320
 3230CITHER2_1,  A17C,    96,  1,      8,      8,2,19940205,2235,-21.5178, -31.4548, 4614,   3598.9,   2.4360,  34.8970,2,  34.8990,2,    254.3,2,    252.3,2,    40.40,2,    21.95,2,     1.42,2,    0.007,2,    0.007,2, -999.000,9,-999.0000,9,  -999.00,9,   2186.0,2,   2345.7,2,     8.01,2,  2.1340
 3230CITHER2_1,  A17C,    96,  1,      7,      7,2,19940205,2235,-21.5178, -31.4548, 4614,   3800.2,   2.1180,  34.8650,2,  34.8660,2,    249.5,2,    247.9,2,    53.70,2,    23.47,2,     1.54,2,    0.007,2,    0.001,2, -999.000,9,-999.0000,9,  -999.00,9,   2198.2,2,   2353.2,2,     7.99,2,  1.8030
 3230CITHER2_1,  A17C,    96,  1,      6,      6,2,19940205,2235,-21.5178, -31.4548, 4614,   3997.5,   1.6160,  34.8120,2,  34.8130,2,    239.6,2,    238.6,2,    75.50,2,    26.28,2,     1.74,2,    0.005,2,    0.000,2, -999.000,9,-999.0000,9,  -999.00,9,   2218.4,2,   2362.0,2,     7.96,2,  1.2930
 3230CITHER2_1,  A17C,    96,  1,      5,      5,2,19940205,2235,-21.5178, -31.4548, 4614,   4198.9,   1.2290,  34.7710,2,  34.7700,2,    232.8,2,    231.7,2,    92.50,2,    28.92,2,     1.90,2,    0.010,2,    0.007,2, -999.000,9,-999.0000,9,  -999.00,9,   2235.0,2,   2368.1,2,     7.94,2,  0.8960
 3230CITHER2_1,  A17C,    96,  1,      4,      4,2,19940205,2235,-21.5178, -31.4548, 4614,   4399.0,   0.9200,  34.7360,2,  34.7360,2,    227.4,2,    226.2,2,   105.30,2,    30.62,2,     2.02,2,    0.026,2,    0.016,2, -999.000,9,-999.0000,9,  -999.00,9,   2247.6,2,   2371.5,2,     7.92,2,  0.5740
 3230CITHER2_1,  A17C,    96,  1,      3,      3,2,19940205,2235,-21.5178, -31.4548, 4614,   4498.4,   0.7120,  34.7140,2,  34.7170,2,    224.3,2,    223.9,2,   112.90,2,    31.60,2,     2.10,2,    0.051,2,    0.031,2, -999.000,9,-999.0000,9,  -999.00,9,   2254.4,2,   2374.4,2,     7.91,2,  0.3620
 3230CITHER2_1,  A17C,    96,  1,      2,      2,2,19940205,2235,-21.5178, -31.4548, 4614,   4597.6,   0.5470,  34.6970,2,  34.7010,2,    222.5,2,    221.9,2,   119.10,2,    32.37,2,     2.15,2,    0.066,2,    0.033,2, -999.000,9,-999.0000,9,  -999.00,9,   2259.4,2,   2375.8,2,     7.90,2,  0.1910
 3230CITHER2_1,  A17C,    96,  1,      1,      1,2,19940205,2235,-21.5178, -31.4548, 4614,   4673.9,   0.4430,  34.6900,2,  34.6890,2,    221.4,2,    221.6,2,   122.40,2,    32.68,2,     2.19,2,    0.083,2,    0.043,2, -999.000,9,-999.0000,9,  -999.00,9,   2262.7,2,   2376.6,2,     7.90,2,  0.0820
 3230CITHER2_1,  A17C,    97,  1,     32,     32,2,19940206,0336,-21.2575, -31.2232, 4632,      3.9,  28.0050,  37.2870,2,  37.2890,2,    191.0,2,    197.3,2,     1.50,2,     0.04,2,     0.11,2,    1.777,2,    1.058,2, -999.000,9,-999.0000,9,  -999.00,9,   -999.0,9,   -999.0,9,     8.38,2, 28.0040
 3230CITHER2_1,  A17C,    97,  1,     31,     31,2,19940206,0336,-21.2575, -31.2232, 4632,     30.7,  27.0570,  37.2980,2,  37.2370,2,    205.0,2,    203.5,2,     1.40,2,     0.04,2,     0.10,2,    1.847,2,    1.105,2, -999.000,9,-999.0000,9,  -999.00,9,   -999.0,9,   -999.0,9,     8.38,2, 27.0500
 3230CITHER2_1,  A17C,    97,  1,     30,     30,2,19940206,0336,-21.2575, -31.2232, 4632,    101.7,  23.1810,  36.8790,2,  36.8670,2,    217.3,2,    215.8,2,     1.50,2,     0.04,2,     0.14,2,    2.121,2,    1.241,2, -999.000,9,-999.0000,9,  -999.00,9,   -999.0,9,   -999.0,9,     8.35,2, 23.1600
 3230CITHER2_1,  A17C,    97,  1,     29,     29,2,19940206,0336,-21.2575, -31.2232, 4632,    150.9,  20.7470,  36.4340,2,  36.4110,2,    209.9,2,    209.6,2,     1.60,2,     0.08,2,     0.21,2,    2.309,2,    1.299,2, -999.000,9,-999.0000,9,  -999.00,9,   -999.0,9,   -999.0,9,     8.30,2, 20.7180
 3230CITHER2_1,  A17C,    97,  1,     28,     28,2,19940206,0336,-21.2575, -31.2232, 4632,    200.5,  18.3830,  36.0010,2,  35.9840,2,    204.1,2,    205.2,2,     1.80,2,     1.83,2,     0.29,2,    2.478,2,    1.387,2, -999.000,9,-999.0000,9,  -999.00,9,   -999.0,9,   -999.0,9,     8.26,2, 18.3480
 3230CITHER2_1,  A17C,    97,  1,     27,     27,2,19940206,0336,-21.2575, -31.2232, 4632,    300.4,  14.6630,  35.3850,2,  35.3770,2,    197.8,2,    199.7,2,     3.70,2,     8.30,2,     0.66,2,    2.477,2,    1.353,2, -999.000,9,-999.0000,9,  -999.00,9,   -999.0,9,   -999.0,9,     8.18,2, 14.6180
 3230CITHER2_1,  A17C,    97,  1,     26,     26,2,19940206,0336,-21.2575, -31.2232, 4632,    400.1,  11.9480,  35.0400,2,  35.0320,2,    190.2,2,    190.8,2,     6.20,2,    15.64,2,     1.06,2,    1.993,2,    1.080,2, -999.000,9,-999.0000,9,  -999.00,9,   -999.0,9,   -999.0,9,     8.10,2, 11.8950
 3230CITHER2_1,  A17C,    97,  1,     25,     25,2,19940206,0336,-21.2575, -31.2232, 4632,    501.4,   9.3810,  34.7610,2,  34.7570,2,    172.2,2,    173.8,2,    11.40,2,    22.60,2,     1.53,2,    1.341,2,    0.730,2, -999.000,9,-999.0000,9,  -999.00,9,   -999.0,9,   -999.0,9,     8.00,2,  9.3240
 3230CITHER2_1,  A17C,    97,  1,     23,     23,2,19940206,0336,-21.2575, -31.2232, 4632,    601.1,   7.2760,  34.5600,2,  34.5630,2,    171.0,2,    172.2,2,    16.90,2,    28.35,2,     1.87,2,    0.888,2,    0.497,2, -999.000,9,-999.0000,9,  -999.00,9,   -999.0,9,   -999.0,9,     7.94,2,  7.2170
 3230CITHER2_1,  A17C,    97,  1,     24,     24,2,19940206,0336,-21.2575, -31.2232, 4632,    601.6,   7.2510,  34.5600,2,  34.5610,2,    171.1,2,    171.8,2,    16.80,2,    28.27,2,     1.86,2,    0.900,2,    0.504,2, -999.000,9,-999.0000,9,  -999.00,9,   -999.0,9,   -999.0,9,     7.94,2,  7.1920
 3230CITHER2_1,  A17C,    97,  1,     22,     22,2,19940206,0336,-21.2575, -31.2232, 4632,    800.4,   4.3600,  34.3770,2,  34.3760,2,    191.5,2,    193.4,2,    30.60,2,    32.39,2,     2.16,2,    0.450,2,    0.255,2, -999.000,9,-999.0000,9,  -999.00,9,   -999.0,9,   -999.0,9,     7.90,2,  4.2990
 3230CITHER2_1,  A17C,    97,  1,     21,     21,2,19940206,0336,-21.2575, -31.2232, 4632,   1000.0,   3.5560,  34.4780,2,  34.4770,2,    184.8,2,    184.4,2,    42.60,2,    33.33,2,     2.23,2,    0.075,2,    0.047,2, -999.000,9,-999.0000,9,  -999.00,9,   -999.0,9,   -999.0,9,     7.88,2,  3.4840
 3230CITHER2_1,  A17C,    97,  1,     20,     20,2,19940206,0336,-21.2575, -31.2232, 4632,   1200.2,   3.3090,  34.6240,2,  34.6200,2,    189.0,2,    189.2,2,    45.80,2,    31.46,2,     2.09,2,    0.018,2,    0.015,2, -999.000,9,-999.0000,9,  -999.00,9,   -999.0,9,   -999.0,9,     7.90,2,  3.2230
 3230CITHER2_1,  A17C,    97,  1,     19,     19,2,19940206,0336,-21.2575, -31.2232, 4632,   1400.3,   3.3510,  34.7770,2,  34.7750,2,    206.0,2,    205.8,2,    40.40,2,    27.82,2,     1.83,2,    0.014,2,    0.011,2, -999.000,9,-999.0000,9,  -999.00,9,   -999.0,9,   -999.0,9,     7.94,2,  3.2470
 3230CITHER2_1,  A17C,    97,  1,     18,     18,2,19940206,0336,-21.2575, -31.2232, 4632,   1599.9,   3.7390,  34.9380,2,  34.9350,2,    237.6,2,    236.7,2,    23.20,2,    22.05,2,     1.44,2,    0.035,2,    0.024,2, -999.000,9,-999.0000,9,  -999.00,9,   -999.0,9,   -999.0,9,     8.00,2,  3.6130
 3230CITHER2_1,  A17C,    97,  1,     17,     17,2,19940206,0336,-21.2575, -31.2232, 4632,   1700.2,   3.6400,  34.9460,2,  34.9480,2,    243.2,2,    242.0,2,    22.60,2,    21.43,2,     1.39,2,    0.029,2,    0.024,2, -999.000,9,-999.0000,9,  -999.00,9,   -999.0,9,   -999.0,9,     8.01,2,  3.5060
 3230CITHER2_1,  A17C,    97,  1,     16,     16,2,19940206,0336,-21.2575, -31.2232, 4632,   1799.8,   3.5160,  34.9460,2,  34.9460,2,    245.0,2,    244.8,2,    23.40,2,    21.03,2,     1.38,2,    0.022,2,    0.013,2, -999.000,9,-999.0000,9,  -999.00,9,   -999.0,9,   -999.0,9,     8.01,2,  3.3740
 3230CITHER2_1,  A17C,    97,  1,     15,     15,2,19940206,0336,-21.2575, -31.2232, 4632,   1999.6,   3.3580,  34.9510,2,  34.9510,2,    250.0,2,    249.3,2,    23.90,2,    20.84,2,     1.35,2,    0.020,2,    0.021,2, -999.000,9,-999.0000,9,  -999.00,9,   -999.0,9,   -999.0,9,     8.02,2,  3.2000
 3230CITHER2_1,  A17C,    97,  1,     14,     14,2,19940206,0336,-21.2575, -31.2232, 4632,   2200.2,   3.1840,  34.9450,2,  34.9430,2,    251.2,2,    250.3,2,    26.20,2,    20.75,2,     1.36,2,    0.021,2,    0.019,2, -999.000,9,-999.0000,9,  -999.00,9,   -999.0,9,   -999.0,9,     8.02,2,  3.0100
 3230CITHER2_1,  A17C,    97,  1,     13,     13,2,19940206,0336,-21.2575, -31.2232, 4632,   2399.9,   3.0780,  34.9410,2,  34.9390,2,    251.6,2,    251.3,2,    27.40,2,    20.80,2,     1.36,2,    0.019,2,    0.012,2, -999.000,9,-999.0000,9,  -999.00,9,   -999.0,9,   -999.0,9,     8.02,2,  2.8860
 3230CITHER2_1,  A17C,    97,  1,     12,     12,2,19940206,0336,-21.2575, -31.2232, 4632,   2600.1,   2.9730,  34.9360,2,  34.9350,2,    252.2,2,    251.3,2,    29.30,2,    20.80,2,     1.36,2,    0.017,2,    0.012,2, -999.000,9,-999.0000,9,  -999.00,9,   -999.0,9,   -999.0,9,     8.02,2,  2.7640
 3230CITHER2_1,  A17C,    97,  1,     11,     11,2,19940206,0336,-21.2575, -31.2232, 4632,   2801.0,   2.8630,  34.9280,2,  34.9270,2,    251.7,2,    250.5,2,    31.50,2,    21.25,2,     1.38,2,    0.019,2,    0.016,2, -999.000,9,-999.0000,9,  -999.00,9,   -999.0,9,   -999.0,9,     8.02,2,  2.6360
 3230CITHER2_1,  A17C,    97,  1,     10,     10,2,19940206,0336,-21.2575, -31.2232, 4632,   2998.5,   2.7760,  34.9200,2,  34.9200,2,    251.4,2,    249.8,2,    33.90,2,    21.25,2,     1.40,2,    0.011,2,    0.006,2, -999.000,9,-999.0000,9,  -999.00,9,   -999.0,9,   -999.0,9,     8.02,2,  2.5300
 3230CITHER2_1,  A17C,    97,  1,      9,      9,2,19940206,0336,-21.2575, -31.2232, 4632,   3299.3,   2.6850,  34.9180,2,  34.9160,2,    254.1,2,    252.2,2,    34.30,2,    21.21,2,     1.39,2,    0.013,2,    0.015,2, -999.000,9,-999.0000,9,  -999.00,9,   -999.0,9,   -999.0,9,     8.02,2,  2.4100
 3230CITHER2_1,  A17C,    97,  1,      8,      8,2,19940206,0336,-21.2575, -31.2232, 4632,   3598.8,   2.4680,  34.9010,2,  34.8980,2,    255.2,2,    252.3,2,    39.50,2,    21.62,2,     1.42,2,    0.016,2,    0.018,2, -999.000,9,-999.0000,9,  -999.00,9,   -999.0,9,   -999.0,9,     8.01,2,  2.1660
 3230CITHER2_1,  A17C,    97,  1,      7,      7,2,19940206,0336,-21.2575, -31.2232, 4632,   3799.2,   2.1040,  34.8630,2,  34.8630,2,    250.6,2,    247.1,2,    53.20,2,    23.29,2,     1.55,2,    0.013,2,    0.019,2, -999.000,9,-999.0000,9,  -999.00,9,   -999.0,9,   -999.0,9,     7.99,2,  1.7890
 3230CITHER2_1,  A17C,    97,  1,      6,      6,2,19940206,0336,-21.2575, -31.2232, 4632,   3998.0,   1.6060,  34.8140,2,  34.8110,2,    240.6,2,    238.0,2,    74.30,2,    26.13,2,     1.76,2,    0.013,2,    0.020,2, -999.000,9,-999.0000,9,  -999.00,9,   -999.0,9,   -999.0,9,     7.96,2,  1.2840
 3230CITHER2_1,  A17C,    97,  1,      5,      5,2,19940206,0336,-21.2575, -31.2232, 4632,   4197.5,   1.2770,  34.7770,2,  34.7750,2,    234.1,2,    232.9,2,    88.40,2,    28.00,2,     1.88,2,    0.008,2,    0.011,2, -999.000,9,-999.0000,9,  -999.00,9,   -999.0,9,   -999.0,9,     7.95,2,  0.9420
 3230CITHER2_1,  A17C,    97,  1,      4,      4,2,19940206,0336,-21.2575, -31.2232, 4632,   4397.9,   1.0390,  34.7500,2,  34.7490,2,    229.4,2,    228.5,2,    99.10,2,    29.66,2,     1.98,2,    0.016,2,    0.011,2, -999.000,9,-999.0000,9,  -999.00,9,   -999.0,9,   -999.0,9,     7.93,2,  0.6890
 3230CITHER2_1,  A17C,    97,  1,      3,      3,2,19940206,0336,-21.2575, -31.2232, 4632,   4497.7,   0.8450,  34.7300,2,-999.0000,5,    227.0,2,    232.1,2,   106.10,2,    30.38,2,     2.05,2,    0.025,2,    0.022,2, -999.000,9,-999.0000,9,  -999.00,9,   -999.0,9,   -999.0,9,     7.92,2,  0.4900
 3230CITHER2_1,  A17C,    97,  1,      2,      2,2,19940206,0336,-21.2575, -31.2232, 4632,   4598.4,   0.6270,  34.7070,2,  34.7090,2,    223.9,2,    222.9,2,   114.50,2,    31.62,2,     2.14,2,    0.051,2,    0.027,2, -999.000,9,-999.0000,9,  -999.00,9,   -999.0,9,   -999.0,9,     7.91,2,  0.2680
 3230CITHER2_1,  A17C,    97,  1,      1,      1,2,19940206,0336,-21.2575, -31.2232, 4632,   4689.3,   0.4220,  34.6870,2,  34.6890,2,    220.0,2,    221.4,2,   121.30,2,    32.61,2,     2.21,2,    0.088,2,    0.047,2, -999.000,9,-999.0000,9,  -999.00,9,   -999.0,9,   -999.0,9,     7.90,2,  0.0600