BOTTLE,20030515WHPSIOSA
EXPOCODE,SECT_ID,STNNBR,CASTNO,SAMPNO,BTLNBR,BTLNBR_FLAG_W,DATE,TIME,LATITUDE,LONGITUDE,DEPTH,CTDPRS,CTDTMP,CTDSAL,CTDSAL_FLAG_W,SALNTY,SALNTY_FLAG_W,CTDOXY,CTDOXY_FLAG_W,OXYGEN,OXYGEN_FLAG_W,SILCAT,SILCAT_FLAG_W,NITRAT,NITRAT_FLAG_W,PHSPHT,PHSPHT_FLAG_W,CFC-11,CFC-11_FLAG_W,CFC-12,CFC-12_FLAG_W,TRITUM,TRITUM_FLAG_W,HELIUM,HELIUM_FLAG_W,DELHE3,DELHE3_FLAG_W,TCARBN,TCARBN_FLAG_W,ALKALI,ALKALI_FLAG_W,PH,PH_FLAG_W,THETA
,,,,,,,,,,,,DBAR,ITS-90,PSS-78,,PSS-78,,UMOL/KG,,UMOL/KG,,UMOL/KG,,UMOL/KG,,UMOL/KG,,PMOL/KG,,PMOL/KG,,TU,,NMOL/KG,,PERCNT,,UMOL/KG,,UMOL/KG,,,,DEG C
 3230CITHER2_2,  A17N,   231,  1,     25,     25,2,19940320,0403,  6.0182, -51.4092, 2149,      3.8,  27.4920,  36.2520,2,  36.2510,2,    197.0,2,    198.5,2,     1.60,2,     0.04,2,     0.07,2,    1.669,2,    0.939,2,    0.430,2,   1.6800,2,    -0.56,2,   2021.6,2,   -999.0,9,     8.37,2, 27.4910
 3230CITHER2_2,  A17N,   231,  1,     24,     24,2,19940320,0403,  6.0182, -51.4092, 2149,     31.1,  27.5030,  36.2500,2,  36.2500,2,    195.1,2,    198.0,2,     1.60,2,     0.04,2,     0.07,2, -999.000,5, -999.000,5, -999.000,9,   1.6900,2,    -1.71,2,   2021.8,2,   -999.0,9,     8.37,2, 27.4960
 3230CITHER2_2,  A17N,   231,  1,     23,     23,2,19940320,0403,  6.0182, -51.4092, 2149,     67.0,  27.3790,  36.2670,2,  36.2660,2,    195.4,2,    198.2,2,     1.60,2,     0.04,2,     0.07,2,    1.676,2,    0.934,2, -999.000,9,   1.6900,2,    -0.67,2,   2024.3,2,   -999.0,9,     8.37,2, 27.3630
 3230CITHER2_2,  A17N,   231,  1,     22,     22,2,19940320,0403,  6.0182, -51.4092, 2149,     89.4,  24.8080,  36.6290,2,  36.6180,2,    197.2,2,    189.9,2,     1.90,2,     1.06,2,     0.23,2,    1.768,2,    0.973,2,    0.610,2,   1.6400,2,    -0.25,2,   2076.9,2,   -999.0,9,     8.32,2, 24.7890
 3230CITHER2_2,  A17N,   231,  1,     21,     21,2,19940320,0403,  6.0182, -51.4092, 2149,    150.7,  16.8440,  36.0090,2,  36.0060,2,    153.3,2,    145.7,2,     5.60,2,    13.33,2,     0.85,2, -999.000,5, -999.000,5,    0.460,2,   1.7200,2,     1.99,2,   2147.7,2,   -999.0,9,     8.13,2, 16.8190
 3230CITHER2_2,  A17N,   231,  1,     20,     20,2,19940320,0403,  6.0182, -51.4092, 2149,    199.6,  12.8020,  35.4050,2,  35.4000,2,    130.4,2,    129.4,2,     9.70,2,    20.50,2,     1.33,2,    1.140,2,    0.608,2,    0.540,2,   1.7300,2,     0.79,2,   2174.7,2,   -999.0,9,     8.01,2, 12.7750
 3230CITHER2_2,  A17N,   231,  1,     19,     19,2,19940320,0403,  6.0182, -51.4092, 2149,    251.3,  10.3160,  35.0340,2,  35.0100,2,    130.6,2,    133.5,2,    13.00,2,    24.67,2,     1.64,2, -999.000,5, -999.000,5, -999.000,9,-999.0000,9,  -999.00,9,   2183.8,2,   -999.0,9,     7.95,2, 10.2860
 3230CITHER2_2,  A17N,   231,  1,     18,     18,2,19940320,0403,  6.0182, -51.4092, 2149,    300.6,   8.9390,  34.8220,2,  34.8260,2,    134.6,2,    135.4,2,    15.20,2,    27.10,2,     1.80,2,    0.636,2,    0.345,2,    0.230,2,   1.7800,2,     0.63,2,   2192.6,2,   -999.0,9,     7.92,2,  8.9060
 3230CITHER2_2,  A17N,   231,  1,     17,     17,2,19940320,0403,  6.0182, -51.4092, 2149,    400.6,   8.0970,  34.7570,2,  34.7540,2,    140.5,2,    124.5,2,    18.00,2,    30.48,2,     1.99,2,    0.397,2,    0.220,2,    0.190,2,   1.7700,2,     0.21,2,   2200.2,2,   -999.0,9,     7.87,2,  8.0560
 3230CITHER2_2,  A17N,   231,  1,     16,     16,2,19940320,0403,  6.0182, -51.4092, 2149,    500.4,   7.7880,  34.7830,2,  34.7700,2,    109.3,2,    103.6,2,    20.20,2,    33.36,2,     2.15,2,    0.148,2,    0.091,2,    0.150,2,-999.0000,9,  -999.00,9,   2228.5,2,   -999.0,9,     7.83,2,  7.7370
 3230CITHER2_2,  A17N,   231,  1,     15,     15,2,19940320,0403,  6.0182, -51.4092, 2149,    600.5,   6.8640,  34.7000,2,  34.6980,2,    112.3,2,    111.7,2,    22.80,2,    34.30,2,     2.23,2,    0.090,2,    0.057,2, -999.000,9,   1.7800,2,     1.13,2,   2223.6,2,   -999.0,9,     7.82,2,  6.8070
 3230CITHER2_2,  A17N,   231,  1,     14,     14,2,19940320,0403,  6.0182, -51.4092, 2149,    699.9,   5.6460,  34.5760,2,  34.5740,2,    130.1,2,    134.2,2,    27.10,2,    34.42,2,     2.30,2,    0.075,2,    0.044,2,    0.060,2,   1.8000,2,     0.86,2,   2220.5,2,   -999.0,9,     7.83,2,  5.5860
 3230CITHER2_2,  A17N,   231,  1,     13,     13,2,19940320,0403,  6.0182, -51.4092, 2149,    801.1,   5.4790,  34.6230,2,  34.6210,2,    129.3,2,    131.0,2,    28.40,2,    34.64,2,     2.31,2,    0.026,2,    0.021,2,    0.040,2,   1.7900,2,     0.78,2,   2223.8,2,   -999.0,9,     7.83,2,  5.4100
 3230CITHER2_2,  A17N,   231,  1,     12,     12,2,19940320,0403,  6.0182, -51.4092, 2149,    900.9,   4.9520,  34.6280,2,  34.6330,2,    143.5,2,    144.6,2,    29.90,2,    33.68,2,     2.27,2,    0.017,2,    0.013,2,    0.040,2,   1.7800,2,     0.91,2,   2223.5,2,   -999.0,9,     7.84,2,  4.8780
 3230CITHER2_2,  A17N,   231,  1,     11,     11,2,19940320,0403,  6.0182, -51.4092, 2149,   1000.9,   4.8800,  34.7260,2,  34.7270,2,    154.8,2,    155.5,2,    28.40,2,    31.59,2,     2.13,2,    0.012,2,    0.010,2, -999.000,9,   1.7900,2,     3.96,2,   -999.0,9,   -999.0,9,     7.86,2,  4.7970
 3230CITHER2_2,  A17N,   231,  1,     10,     10,2,19940320,0403,  6.0182, -51.4092, 2149,   1202.2,   4.8860,  34.8860,2,  34.8860,2,    182.7,2,    182.7,2,    23.40,2,    26.63,2,     1.81,2,    0.047,2,    0.029,2,    0.090,2,   1.7800,2,     0.90,2,   -999.0,9,   -999.0,9,     7.92,2,  4.7840
 3230CITHER2_2,  A17N,   231,  1,      9,      9,2,19940320,0403,  6.0182, -51.4092, 2149,   1401.2,   4.8150,  35.0100,2,  35.0090,2,    223.7,2,    225.8,2,    17.10,2,    20.98,2,     1.39,2,    0.272,2,    0.149,2,    0.340,2,   1.7900,2,     2.09,2,   -999.0,9,   -999.0,9,     7.98,2,  4.6950
 3230CITHER2_2,  A17N,   231,  1,      8,      8,2,19940320,0403,  6.0182, -51.4092, 2149,   1500.8,   4.5900,  35.0170,2,  35.0150,2,    236.6,2,    238.5,2,    15.70,2,    19.92,2,     1.30,2,    0.334,2,    0.182,2, -999.000,9,   1.8000,2,     4.65,2,   -999.0,9,   -999.0,9,     8.00,2,  4.4630
 3230CITHER2_2,  A17N,   231,  1,      7,      7,2,19940320,0403,  6.0182, -51.4092, 2149,   1599.6,   4.3590,  35.0120,2,  35.0120,2,    246.2,2,    245.7,2,    15.40,2,    19.26,2,     1.25,2,    0.329,2,    0.179,2,    0.360,2,   1.8000,2,     3.41,2,   -999.0,9,   -999.0,9,     8.00,2,  4.2250
 3230CITHER2_2,  A17N,   231,  1,      6,      6,2,19940320,0403,  6.0182, -51.4092, 2149,   1698.8,   4.0350,  35.0010,2,  35.0000,2,    255.4,2,    254.4,2,    15.40,2,    18.67,2,     1.23,2,    0.288,2,    0.161,2, -999.000,9,-999.0000,9,  -999.00,9,   -999.0,9,   -999.0,9,     8.01,2,  3.8960
 3230CITHER2_2,  A17N,   231,  1,      5,      5,2,19940320,0403,  6.0182, -51.4092, 2149,   1799.9,   3.9520,  34.9960,2,  34.9980,2,    256.6,2,    256.1,2,    15.60,2,    18.61,2,     1.21,2,    0.281,2,    0.155,2, -999.000,9,   1.7900,2,     3.16,2,   -999.0,9,   -999.0,9,     8.01,2,  3.8120
 3230CITHER2_2,  A17N,   231,  1,      4,      4,2,19940320,0403,  6.0182, -51.4092, 2149,   1800.1,   3.9600,  34.9980,2,  34.9970,2,    256.6,2,    256.2,2,    15.60,2,    18.68,2,     1.22,2,    0.282,2,    0.156,2, -999.000,9,-999.0000,9,  -999.00,9,   -999.0,9,   -999.0,9,     8.01,2,  3.8040
 3230CITHER2_2,  A17N,   231,  1,      3,      3,2,19940320,0403,  6.0182, -51.4092, 2149,   1900.1,   3.9040,  34.9950,2,  34.9960,2,    258.2,2,    256.7,2,    15.80,2,    18.66,2,     1.22,2,    0.255,2,    0.146,2, -999.000,9,   1.8000,2,     4.27,2,   -999.0,9,   -999.0,9,     8.01,2,  3.7470
 3230CITHER2_2,  A17N,   231,  1,      2,      2,2,19940320,0403,  6.0182, -51.4092, 2149,   2050.1,   3.5400,  34.9810,2,  34.9820,2,    259.9,2,    259.1,2,    18.10,2,    18.70,2,     1.22,2,    0.158,2,    0.095,2, -999.000,9,-999.0000,9,  -999.00,9,   -999.0,9,   -999.0,9,     8.01,2,  3.3740
 3230CITHER2_2,  A17N,   231,  1,      1,      1,2,19940320,0403,  6.0182, -51.4092, 2149,   2137.4,   3.3960,  34.9730,2,  34.9730,2,    260.6,2,    260.5,2,    19.40,2,    18.75,2,     1.23,2,    0.125,2,    0.073,2, -999.000,9,   1.8100,2,     3.45,2,   -999.0,9,   -999.0,9,     8.02,2,  3.2240
 3230CITHER2_2,  A17N,   232,  1,     21,     21,2,19940320,0721,  5.9655, -51.4482, 1529,      6.7,  27.4270,  36.2460,2,  36.2490,2,    195.8,2,    198.0,2,     1.60,2,     0.00,2,     0.07,2,    1.673,2,    0.933,2, -999.000,9,-999.0000,9,  -999.00,9,   2023.7,2,   2384.8,2,     8.37,2, 27.4250
 3230CITHER2_2,  A17N,   232,  1,     20,     20,2,19940320,0721,  5.9655, -51.4482, 1529,     26.9,  27.4370,  36.2490,2,  36.2500,2,    199.2,2,    197.7,2,     1.50,2,     0.00,2,     0.07,2, -999.000,5, -999.000,5, -999.000,9,-999.0000,9,  -999.00,9,   2024.7,2,   2384.5,2,     8.37,2, 27.4310
 3230CITHER2_2,  A17N,   232,  1,     19,     19,2,19940320,0721,  5.9655, -51.4482, 1529,     51.7,  27.4120,  36.2610,2,  36.2580,2,    198.1,2,    198.2,2,     1.50,2,     0.00,2,     0.08,2,    1.668,2,    0.926,2, -999.000,9,-999.0000,9,  -999.00,9,   2025.1,2,   2386.9,2,     8.37,2, 27.4000
 3230CITHER2_2,  A17N,   232,  1,     18,     18,2,19940320,0721,  5.9655, -51.4482, 1529,     73.4,  25.8120,  36.5360,2,  36.5060,2,    197.4,2,    195.7,2,     1.80,2,     0.24,2,     0.12,2, -999.000,5, -999.000,5, -999.000,9,-999.0000,9,  -999.00,9,   2049.9,2,   2402.4,2,     8.35,2, 25.7960
 3230CITHER2_2,  A17N,   232,  1,     17,     17,2,19940320,0721,  5.9655, -51.4482, 1529,    100.0,  20.6680,  36.2490,2,  36.2220,2,    177.6,2,    176.6,2,     4.10,2,     6.95,2,     0.55,2,    1.675,2,    0.898,2, -999.000,9,-999.0000,9,  -999.00,9,   2104.0,2,   2387.7,2,     8.24,2, 20.6490
 3230CITHER2_2,  A17N,   232,  1,     16,     16,2,19940320,0721,  5.9655, -51.4482, 1529,    149.0,  15.7570,  35.8440,2,  35.7100,2,    147.8,2,    153.8,2,     6.70,2,    14.49,2,     0.96,2,    1.531,2,    0.799,2, -999.000,9,-999.0000,9,  -999.00,9,   2147.9,2,   2356.8,2,     8.11,2, 15.7340
 3230CITHER2_2,  A17N,   232,  1,     15,     15,2,19940320,0721,  5.9655, -51.4482, 1529,    200.9,  11.8720,  35.2300,2,  35.2040,2,    141.6,2,    136.7,2,    10.60,2,    21.33,2,     1.41,2,    1.109,2,    0.578,2, -999.000,9,-999.0000,9,  -999.00,9,   2170.9,2,   2329.8,2,     8.00,2, 11.8460
 3230CITHER2_2,  A17N,   232,  1,     14,     14,2,19940320,0721,  5.9655, -51.4482, 1529,    249.5,  10.6440,  35.0650,2,  35.0620,2,    131.6,2,    128.5,2,    12.60,2,    24.26,2,     1.61,2,    0.830,2,    0.441,2, -999.000,9,-999.0000,9,  -999.00,9,   2185.6,2,   2324.7,2,     7.95,2, 10.6140
 3230CITHER2_2,  A17N,   232,  1,     13,     13,2,19940320,0721,  5.9655, -51.4482, 1529,    300.8,   9.3030,  34.9060,2,  34.8970,2,    134.1,2,    129.8,2,    15.10,2,    26.97,2,     1.79,2,    0.624,2,    0.339,2, -999.000,9,-999.0000,9,  -999.00,9,   2194.5,2,   2319.2,2,     7.91,2,  9.2690
 3230CITHER2_2,  A17N,   232,  1,     12,     12,2,19940320,0721,  5.9655, -51.4482, 1529,    400.2,   7.7920,  34.6910,2,  34.6900,2,    139.3,2,    143.7,2,    18.20,2,    29.02,2,     1.93,2,    0.527,2,    0.280,2, -999.000,9,-999.0000,9,  -999.00,9,   2196.2,2,   2310.6,2,     7.89,2,  7.7520
 3230CITHER2_2,  A17N,   232,  1,     11,     11,2,19940320,0721,  5.9655, -51.4482, 1529,    500.8,   7.4050,  34.7120,2,  34.7190,2,    126.1,2,    114.2,2,    20.80,2,    32.82,2,     2.14,2,    0.182,2,    0.110,2, -999.000,9,-999.0000,9,  -999.00,9,   2218.4,2,   2313.1,2,     7.83,2,  7.3560
 3230CITHER2_2,  A17N,   232,  1,     10,     10,2,19940320,0721,  5.9655, -51.4482, 1529,    601.7,   6.7400,  34.6910,2,  34.6970,2,    115.0,2,    115.1,2,    23.40,2,    33.75,2,     2.22,2,    0.095,2,    0.059,2, -999.000,9,-999.0000,9,  -999.00,9,   2224.5,2,   2314.5,2,     7.82,2,  6.6830
 3230CITHER2_2,  A17N,   232,  1,      9,      9,2,19940320,0721,  5.9655, -51.4482, 1529,    700.0,   5.7140,  34.5950,2,  34.5890,2,    124.0,2,    131.6,2,    27.10,2,    34.43,2,     2.31,2,    0.061,2,    0.040,2, -999.000,9,-999.0000,9,  -999.00,9,   2220.1,2,   2313.7,2,     7.82,2,  5.6530
 3230CITHER2_2,  A17N,   232,  1,      8,      8,2,19940320,0721,  5.9655, -51.4482, 1529,    801.2,   5.0810,  34.5740,2,  34.5740,2,    138.5,2,    142.0,2,    30.00,2,    34.30,2,     2.30,2,    0.033,2,    0.025,2, -999.000,9,-999.0000,9,  -999.00,9,   2221.5,2,   2314.8,2,     7.82,2,  5.0150
 3230CITHER2_2,  A17N,   232,  1,      7,      7,2,19940320,0721,  5.9655, -51.4482, 1529,    900.9,   4.8170,  34.6290,2,  34.6340,2,    147.5,2,    150.3,2,    30.40,2,    32.96,2,     2.25,2,    0.017,2,    0.013,2, -999.000,9,-999.0000,9,  -999.00,9,   2218.4,2,   2319.9,2,     7.84,2,  4.7440
 3230CITHER2_2,  A17N,   232,  1,      5,      5,2,19940320,0721,  5.9655, -51.4482, 1529,   1000.4,   4.8310,  34.7150,2,  34.7190,2,    155.0,2,    156.5,2,    28.90,2,    31.44,2,     2.12,2,    0.014,2,    0.010,2, -999.000,9,-999.0000,9,  -999.00,9,   2216.1,2,   2322.5,2,     7.86,2,  4.7490
 3230CITHER2_2,  A17N,   232,  1,      6,      6,2,19940320,0721,  5.9655, -51.4482, 1529,   1000.5,   4.8310,  34.7150,2,  34.7170,2,    155.1,2,    156.4,2,    28.90,2,    31.58,2,     2.14,2,    0.009,2,    0.009,2, -999.000,9,-999.0000,9,  -999.00,9,   -999.0,5,   2322.5,2,     7.86,2,  4.7490
 3230CITHER2_2,  A17N,   232,  1,      4,      4,2,19940320,0721,  5.9655, -51.4482, 1529,   1200.8,   4.9320,  34.8820,2,  34.8860,2,    178.5,2,    181.6,2,    23.80,2,    26.57,2,     1.81,2,    0.049,2,    0.030,2, -999.000,9,-999.0000,9,  -999.00,9,   2199.6,2,   2327.6,2,     7.92,2,  4.8300
 3230CITHER2_2,  A17N,   232,  1,      3,      3,2,19940320,0721,  5.9655, -51.4482, 1529,   1400.7,   4.7720,  35.0020,2,  35.0040,2,    225.7,2,    224.2,2,    17.60,2,    21.15,2,     1.41,2,    0.251,2,    0.136,2, -999.000,9,-999.0000,9,  -999.00,9,   2174.2,2,   2328.9,2,     7.98,2,  4.6530
 3230CITHER2_2,  A17N,   232,  1,      2,      2,2,19940320,0721,  5.9655, -51.4482, 1529,   1498.9,   4.6080,  35.0060,2,  35.0070,2,    236.1,2,    233.1,2,    16.70,2,    20.20,2,     1.35,2,    0.280,2,    0.154,2, -999.000,9,-999.0000,9,  -999.00,9,   2171.1,2,   2329.9,2,     7.99,2,  4.4810
 3230CITHER2_2,  A17N,   232,  1,      1,      1,2,19940320,0721,  5.9655, -51.4482, 1529,   1542.7,   4.4640,  35.0070,2,  35.0070,2,    242.8,2,    238.2,2,    16.30,2,    19.81,2,     1.30,2,    0.288,2,    0.158,2, -999.000,9,-999.0000,9,  -999.00,9,   2169.0,2,   2327.9,2,     8.00,2,  4.3340
 3230CITHER2_2,  A17N,   233,  1,     16,     16,2,19940320,1016,  5.9170, -51.4737,  992,      7.4,  27.3850,  35.0640,2,  35.1620,2,    196.7,2,    197.3,2,     2.80,2,     0.04,2,     0.07,2,    1.673,2,    0.939,2, -999.000,9,-999.0000,9,  -999.00,9,   1977.4,2,   -999.0,9,     8.37,2, 27.3830
 3230CITHER2_2,  A17N,   233,  1,     15,     15,2,19940320,1016,  5.9170, -51.4737,  992,     30.5,  27.2840,  36.1950,2,  36.2010,2,    195.6,2,    197.0,2,     1.40,2,     0.04,2,     0.08,2,    1.670,2,    0.927,2, -999.000,9,-999.0000,9,  -999.00,9,   2030.8,2,   -999.0,9,     8.36,2, 27.2770
 3230CITHER2_2,  A17N,   233,  1,     14,     14,2,19940320,1016,  5.9170, -51.4737,  992,     74.5,  25.1960,  36.6720,2,  36.6230,2,    193.6,2,    191.6,2,     2.00,2,     1.24,2,     0.21,2,    1.756,2,    0.960,2, -999.000,9,-999.0000,9,  -999.00,9,   2072.3,2,   -999.0,9,     8.32,2, 25.1800
 3230CITHER2_2,  A17N,   233,  1,     13,     13,2,19940320,1016,  5.9170, -51.4737,  992,     99.7,  19.8420,  36.1150,2,-999.0000,5,    177.4,2,    174.9,2,  -999.00,5,  -999.00,5,  -999.00,5,    1.638,2,    0.875,2, -999.000,9,-999.0000,9,  -999.00,9,   2113.8,2,   -999.0,9,  -999.00,5, 19.8240
 3230CITHER2_2,  A17N,   233,  1,     12,     12,2,19940320,1016,  5.9170, -51.4737,  992,    151.4,  13.7180,  35.4240,2,  35.4020,2,    157.3,2,    159.8,2,     7.80,2,    16.24,2,     1.10,2,    1.479,2,    0.760,2, -999.000,9,-999.0000,9,  -999.00,9,   2148.2,2,   -999.0,9,     8.08,2, 13.6960
 3230CITHER2_2,  A17N,   233,  1,     11,     11,2,19940320,1016,  5.9170, -51.4737,  992,    200.3,  11.7980,  35.1790,2,  35.1520,2,    143.5,2,    144.5,2,    10.50,2,    20.97,2,     1.40,2,    1.131,2,    0.591,2, -999.000,9,-999.0000,9,  -999.00,9,   2168.1,2,   -999.0,9,     8.01,2, 11.7720
 3230CITHER2_2,  A17N,   233,  1,     10,     10,2,19940320,1016,  5.9170, -51.4737,  992,    251.4,  10.2570,  34.9920,2,  34.9930,2,    141.0,2,    135.1,2,    13.10,2,    24.43,2,     1.63,2,    0.672,2,    0.359,2, -999.000,9,-999.0000,9,  -999.00,9,   2184.1,2,   -999.0,9,     7.95,2, 10.2270
 3230CITHER2_2,  A17N,   233,  1,      9,      9,2,19940320,1016,  5.9170, -51.4737,  992,    301.5,   9.2980,  34.8810,2,  34.8710,2,    133.7,2,    134.2,2,    15.10,2,    26.57,2,     1.77,2,    0.832,2,    0.442,2, -999.000,9,-999.0000,9,  -999.00,9,   2189.2,2,   -999.0,9,     7.92,2,  9.2640
 3230CITHER2_2,  A17N,   233,  1,      8,      8,2,19940320,1016,  5.9170, -51.4737,  992,    400.3,   8.3080,  34.7970,2,  34.7780,2,    125.3,2,    123.7,2,    17.80,2,    30.04,2,     1.96,2,    0.397,2,    0.219,2, -999.000,9,-999.0000,9,  -999.00,9,   2204.0,2,   -999.0,9,     7.88,2,  8.2660
 3230CITHER2_2,  A17N,   233,  1,      6,      6,2,19940320,1016,  5.9170, -51.4737,  992,    500.9,   7.1410,  34.6620,2,  34.6620,2,    128.6,2,    132.3,2,    21.10,2,    31.84,2,     2.09,2,    0.301,2,    0.169,2, -999.000,9,-999.0000,9,  -999.00,9,   2207.7,2,   -999.0,9,     7.86,2,  7.0930
 3230CITHER2_2,  A17N,   233,  1,      7,      7,2,19940320,1016,  5.9170, -51.4737,  992,    502.6,   7.1420,  34.6610,2,  34.6630,2,    128.9,2,    132.4,2,    21.10,2,    31.72,2,     2.09,2,    0.301,2,    0.170,2, -999.000,9,-999.0000,9,  -999.00,9,   -999.0,5,   -999.0,9,     7.86,2,  7.0940
 3230CITHER2_2,  A17N,   233,  1,      5,      5,2,19940320,1016,  5.9170, -51.4737,  992,    600.6,   6.3180,  34.5970,2,  34.5940,2,    135.8,2,    135.1,2,    24.20,2,    32.96,2,     2.21,2,    0.184,2,    0.105,2, -999.000,9,-999.0000,9,  -999.00,9,   2214.1,2,   -999.0,9,     7.84,2,  6.2640
 3230CITHER2_2,  A17N,   233,  1,      4,      4,2,19940320,1016,  5.9170, -51.4737,  992,    700.9,   5.5740,  34.5840,2,  34.5850,2,    137.8,2,    138.1,2,    25.60,2,    33.81,2,     2.29,2,    0.087,2,    0.050,2, -999.000,9,-999.0000,9,  -999.00,9,   2220.3,2,   -999.0,9,     7.83,2,  5.5140
 3230CITHER2_2,  A17N,   233,  1,      3,      3,2,19940320,1016,  5.9170, -51.4737,  992,    799.8,   5.2440,  34.6260,2,  34.6290,2,    138.1,2,    139.0,2,    29.50,2,    33.83,2,     2.28,2,    0.029,2,    0.021,2, -999.000,9,-999.0000,9,  -999.00,9,   2222.3,2,   -999.0,9,     7.83,2,  5.1770
 3230CITHER2_2,  A17N,   233,  1,      2,      2,2,19940320,1016,  5.9170, -51.4737,  992,    835.8,   5.1710,  34.6430,2,  34.6670,2,    142.2,2,    140.6,2,    29.60,2,    33.53,2,     2.27,2,    0.027,2,    0.016,2, -999.000,9,-999.0000,9,  -999.00,9,   2222.5,2,   -999.0,9,     7.84,2,  5.1010
 3230CITHER2_2,  A17N,   233,  1,      1,      1,2,19940320,1016,  5.9170, -51.4737,  992,    837.3,   5.1700,  34.6430,2,  34.6610,2,    142.2,2,    140.5,2,    29.60,2,    33.72,2,     2.26,2,    0.022,2,    0.015,2, -999.000,9,-999.0000,9,  -999.00,9,   -999.0,9,   -999.0,9,     7.84,2,  5.1000