BOTTLE,20030515WHPSIOSA
EXPOCODE,SECT_ID,STNNBR,CASTNO,SAMPNO,BTLNBR,BTLNBR_FLAG_W,DATE,TIME,LATITUDE,LONGITUDE,DEPTH,CTDPRS,CTDTMP,CTDSAL,CTDSAL_FLAG_W,SALNTY,SALNTY_FLAG_W,CTDOXY,CTDOXY_FLAG_W,OXYGEN,OXYGEN_FLAG_W,SILCAT,SILCAT_FLAG_W,NITRAT,NITRAT_FLAG_W,PHSPHT,PHSPHT_FLAG_W,CFC-11,CFC-11_FLAG_W,CFC-12,CFC-12_FLAG_W,TRITUM,TRITUM_FLAG_W,HELIUM,HELIUM_FLAG_W,DELHE3,DELHE3_FLAG_W,TCARBN,TCARBN_FLAG_W,ALKALI,ALKALI_FLAG_W,PH,PH_FLAG_W,THETA
,,,,,,,,,,,,DBAR,ITS-90,PSS-78,,PSS-78,,UMOL/KG,,UMOL/KG,,UMOL/KG,,UMOL/KG,,UMOL/KG,,PMOL/KG,,PMOL/KG,,TU,,NMOL/KG,,PERCNT,,UMOL/KG,,UMOL/KG,,,,DEG C
 3230CITHER2_2,  A17N,   211,  1,      3,      3,2,19940315,1119, 13.2043, -47.2275, 4285,   3000.4,   2.7530,  34.9300,2,  34.9310,2,    250.4,2,    250.7,2,    34.60,2,    21.02,2,     1.39,2, -999.000,9, -999.000,9, -999.000,9,-999.0000,9,  -999.00,9,   -999.0,9,   -999.0,9,  -999.00,9,  2.5080
 3230CITHER2_2,  A17N,   211,  1,     28,     28,2,19940315,1119, 13.2043, -47.2275, 4285,   3001.4,   2.7550,  34.9310,2,  34.9310,2,    250.3,2,    250.4,2,    34.60,2,    21.04,2,     1.39,2, -999.000,9, -999.000,9, -999.000,9,-999.0000,9,  -999.00,9,   -999.0,9,   -999.0,9,  -999.00,9,  2.5090
 3230CITHER2_2,  A17N,   211,  1,     12,     12,2,19940315,1119, 13.2043, -47.2275, 4285,   3001.6,   2.7540,  34.9300,2,  34.9310,2,    250.3,2,    250.0,2,    34.50,2,    21.08,2,     1.40,2, -999.000,9, -999.000,9, -999.000,9,-999.0000,9,  -999.00,9,   -999.0,9,   -999.0,9,  -999.00,9,  2.5080
 3230CITHER2_2,  A17N,   211,  1,     17,     17,2,19940315,1119, 13.2043, -47.2275, 4285,   3001.6,   2.7550,  34.9290,2,  34.9270,2,    250.3,2,    250.1,2,    34.80,2,    21.07,2,     1.40,2, -999.000,9, -999.000,9, -999.000,9,-999.0000,9,  -999.00,9,   -999.0,9,   -999.0,9,  -999.00,9,  2.5090
 3230CITHER2_2,  A17N,   211,  1,      9,      9,2,19940315,1119, 13.2043, -47.2275, 4285,   3001.7,   2.7530,  34.9300,2,  34.9310,2,    250.3,2,    250.0,2,    34.50,2,    21.08,2,     1.40,2, -999.000,9, -999.000,9, -999.000,9,-999.0000,9,  -999.00,9,   -999.0,9,   -999.0,9,  -999.00,9,  2.5080
 3230CITHER2_2,  A17N,   211,  1,     15,     15,2,19940315,1119, 13.2043, -47.2275, 4285,   3001.8,   2.7550,  34.9290,2,  34.9300,2,    250.3,2,    250.7,2,    34.70,2,    21.08,2,     1.40,2, -999.000,9, -999.000,9, -999.000,9,-999.0000,9,  -999.00,9,   -999.0,9,   -999.0,9,  -999.00,9,  2.5070
 3230CITHER2_2,  A17N,   211,  1,      6,      6,2,19940315,1119, 13.2043, -47.2275, 4285,   3001.9,   2.7530,  34.9300,2,  34.9300,2,    250.3,2,    257.3,2,    34.50,2,    21.01,2,     1.39,2, -999.000,9, -999.000,9, -999.000,9,-999.0000,9,  -999.00,9,   -999.0,9,   -999.0,9,  -999.00,9,  2.5090
 3230CITHER2_2,  A17N,   211,  1,     32,     32,2,19940315,1119, 13.2043, -47.2275, 4285,   3001.9,   2.7550,  34.9300,2,  34.9310,2,    250.3,2,    250.4,2,    34.60,2,    21.04,2,     1.39,2, -999.000,9, -999.000,9, -999.000,9,-999.0000,9,  -999.00,9,   -999.0,9,   -999.0,9,  -999.00,9,  2.5090
 3230CITHER2_2,  A17N,   211,  1,      7,      7,2,19940315,1119, 13.2043, -47.2275, 4285,   3002.2,   2.7530,  34.9300,2,  34.9290,2,    250.3,2,    250.8,2,    34.50,2,    21.06,2,     1.39,2, -999.000,9, -999.000,9, -999.000,9,-999.0000,9,  -999.00,9,   -999.0,9,   -999.0,9,  -999.00,9,  2.5070
 3230CITHER2_2,  A17N,   211,  1,     19,     19,2,19940315,1119, 13.2043, -47.2275, 4285,   3002.2,   2.7550,  34.9290,2,  34.9290,2,    250.3,2,    250.8,2,    34.50,2,    21.02,2,     1.40,2, -999.000,9, -999.000,9, -999.000,9,-999.0000,9,  -999.00,9,   -999.0,9,   -999.0,9,  -999.00,9,  2.5070
 3230CITHER2_2,  A17N,   211,  1,     26,     26,2,19940315,1119, 13.2043, -47.2275, 4285,   3002.2,   2.7550,  34.9300,2,  34.9260,2,    250.3,2,    250.0,2,    35.10,2,    21.09,2,     1.39,2, -999.000,9, -999.000,9, -999.000,9,-999.0000,9,  -999.00,9,   -999.0,9,   -999.0,9,  -999.00,9,  2.5090
 3230CITHER2_2,  A17N,   211,  1,      5,      5,2,19940315,1119, 13.2043, -47.2275, 4285,   3002.3,   2.7530,  34.9300,2,  34.9290,2,    250.3,2,    250.8,2,    34.50,2,    21.06,2,     1.39,2, -999.000,9, -999.000,9, -999.000,9,-999.0000,9,  -999.00,9,   -999.0,9,   -999.0,9,  -999.00,9,  2.5070
 3230CITHER2_2,  A17N,   211,  1,     10,     10,2,19940315,1119, 13.2043, -47.2275, 4285,   3002.3,   2.7540,  34.9290,2,  34.9300,2,    250.3,2,    250.5,2,    34.50,2,    21.06,2,     1.40,2, -999.000,9, -999.000,9, -999.000,9,-999.0000,9,  -999.00,9,   -999.0,9,   -999.0,9,  -999.00,9,  2.5080
 3230CITHER2_2,  A17N,   211,  1,     20,     20,2,19940315,1119, 13.2043, -47.2275, 4285,   3002.3,   2.7550,  34.9290,2,  34.9260,2,    250.3,2,    250.0,2,    35.10,2,    21.09,2,     1.39,2, -999.000,9, -999.000,9, -999.000,9,-999.0000,9,  -999.00,9,   -999.0,9,   -999.0,9,  -999.00,9,  2.5090
 3230CITHER2_2,  A17N,   211,  1,      4,      4,2,19940315,1119, 13.2043, -47.2275, 4285,   3002.5,   2.7530,  34.9300,2,  34.9290,2,    250.3,2,    250.8,2,    34.50,2,    21.06,2,     1.39,2, -999.000,9, -999.000,9, -999.000,9,-999.0000,9,  -999.00,9,   -999.0,9,   -999.0,9,  -999.00,9,  2.5070
 3230CITHER2_2,  A17N,   211,  1,     31,     31,2,19940315,1119, 13.2043, -47.2275, 4285,   3002.5,   2.7550,  34.9300,2,  34.9280,2,    250.3,2,    250.0,2,    34.60,2,    21.06,2,     1.40,2, -999.000,9, -999.000,9, -999.000,9,-999.0000,9,  -999.00,9,   -999.0,9,   -999.0,9,  -999.00,9,  2.5080
 3230CITHER2_2,  A17N,   211,  1,     16,     16,2,19940315,1119, 13.2043, -47.2275, 4285,   3002.9,   2.7550,  34.9300,2,  34.9290,2,    250.3,2,    250.8,2,    34.50,2,    21.02,2,     1.40,2, -999.000,9, -999.000,9, -999.000,9,-999.0000,9,  -999.00,9,   -999.0,9,   -999.0,9,  -999.00,9,  2.5070
 3230CITHER2_2,  A17N,   211,  1,     21,     21,2,19940315,1119, 13.2043, -47.2275, 4285,   3002.9,   2.7550,  34.9300,2,  34.9260,2,    250.3,2,    250.0,2,    35.10,2,    21.09,2,     1.39,2, -999.000,9, -999.000,9, -999.000,9,-999.0000,9,  -999.00,9,   -999.0,9,   -999.0,9,  -999.00,9,  2.5090
 3230CITHER2_2,  A17N,   211,  1,     23,     23,2,19940315,1119, 13.2043, -47.2275, 4285,   3002.9,   2.7550,  34.9300,2,  34.9260,2,    250.3,2,    250.0,2,    35.10,2,    21.09,2,     1.39,2, -999.000,9, -999.000,9, -999.000,9,-999.0000,9,  -999.00,9,   -999.0,9,   -999.0,9,  -999.00,9,  2.5090
 3230CITHER2_2,  A17N,   211,  1,     24,     24,2,19940315,1119, 13.2043, -47.2275, 4285,   3002.9,   2.7550,  34.9300,2,  34.9260,2,    250.3,2,    250.0,2,    35.10,2,    21.09,2,     1.39,2, -999.000,9, -999.000,9, -999.000,9,-999.0000,9,  -999.00,9,   -999.0,9,   -999.0,9,  -999.00,9,  2.5090
 3230CITHER2_2,  A17N,   211,  1,     29,     29,2,19940315,1119, 13.2043, -47.2275, 4285,   3002.9,   2.7560,  34.9290,2,  34.9280,2,    250.3,2,    250.0,2,    34.60,2,    21.06,2,     1.40,2, -999.000,9, -999.000,9, -999.000,9,-999.0000,9,  -999.00,9,   -999.0,9,   -999.0,9,  -999.00,9,  2.5080
 3230CITHER2_2,  A17N,   211,  1,     13,     13,2,19940315,1119, 13.2043, -47.2275, 4285,   3003.0,   2.7540,  34.9300,2,  34.9300,2,    250.3,2,    250.5,2,    34.50,2,    21.06,2,     1.40,2, -999.000,9, -999.000,9, -999.000,9,-999.0000,9,  -999.00,9,   -999.0,9,   -999.0,9,  -999.00,9,  2.5080
 3230CITHER2_2,  A17N,   211,  1,     14,     14,2,19940315,1119, 13.2043, -47.2275, 4285,   3003.0,   2.7550,  34.9290,2,  34.9300,2,    250.3,2,    250.5,2,    34.50,2,    21.06,2,     1.40,2, -999.000,9, -999.000,9, -999.000,9,-999.0000,9,  -999.00,9,   -999.0,9,   -999.0,9,  -999.00,9,  2.5080
 3230CITHER2_2,  A17N,   211,  1,     25,     25,2,19940315,1119, 13.2043, -47.2275, 4285,   3003.2,   2.7550,  34.9300,2,  34.9300,2,    250.3,2,    250.4,2,    34.30,2,    21.06,2,     1.40,2, -999.000,9, -999.000,9, -999.000,9,-999.0000,9,  -999.00,9,   -999.0,9,   -999.0,9,  -999.00,9,  2.5070
 3230CITHER2_2,  A17N,   211,  1,      1,      1,2,19940315,1119, 13.2043, -47.2275, 4285,   3003.3,   2.7530,  34.9300,2,  34.9330,2,    250.3,2,    250.1,2,    34.50,2,    21.01,2,     1.41,2, -999.000,9, -999.000,9, -999.000,9,-999.0000,9,  -999.00,9,   -999.0,9,   -999.0,9,  -999.00,9,  2.5090
 3230CITHER2_2,  A17N,   211,  1,      8,      8,2,19940315,1119, 13.2043, -47.2275, 4285,   3003.4,   2.7530,  34.9300,2,  34.9290,2,    250.3,2,    251.0,2,    34.60,2,    21.06,2,     1.39,2, -999.000,9, -999.000,9, -999.000,9,-999.0000,9,  -999.00,9,   -999.0,9,   -999.0,9,  -999.00,9,  2.5070
 3230CITHER2_2,  A17N,   211,  1,     11,     11,2,19940315,1119, 13.2043, -47.2275, 4285,   3003.4,   2.7530,  34.9310,2,  34.9290,2,    250.3,2,    251.0,2,    34.60,2,    21.06,2,     1.39,2, -999.000,9, -999.000,9, -999.000,9,-999.0000,9,  -999.00,9,   -999.0,9,   -999.0,9,  -999.00,9,  2.5070
 3230CITHER2_2,  A17N,   211,  1,     18,     18,2,19940315,1119, 13.2043, -47.2275, 4285,   3003.4,   2.7550,  34.9300,2,  34.9290,2,    250.3,2,    251.0,2,    34.60,2,    21.06,2,     1.39,2, -999.000,9, -999.000,9, -999.000,9,-999.0000,9,  -999.00,9,   -999.0,9,   -999.0,9,  -999.00,9,  2.5070
 3230CITHER2_2,  A17N,   211,  1,     27,     27,2,19940315,1119, 13.2043, -47.2275, 4285,   3003.4,   2.7550,  34.9300,2,  34.9300,2,    250.3,2,    250.2,2,    34.60,2,    21.04,2,     1.39,2, -999.000,9, -999.000,9, -999.000,9,-999.0000,9,  -999.00,9,   -999.0,9,   -999.0,9,  -999.00,9,  2.5090
 3230CITHER2_2,  A17N,   211,  1,      2,      2,2,19940315,1119, 13.2043, -47.2275, 4285,   3003.5,   2.7530,  34.9290,2,  34.9240,2,    250.2,2,    250.9,2,    34.50,2,    21.06,2,  -999.00,5, -999.000,9, -999.000,9, -999.000,9,-999.0000,9,  -999.00,9,   -999.0,9,   -999.0,9,  -999.00,9,  2.5070
 3230CITHER2_2,  A17N,   211,  1,     30,     30,2,19940315,1119, 13.2043, -47.2275, 4285,   3003.6,   2.7550,  34.9300,2,  34.9290,2,    250.2,2,    250.1,2,    35.10,2,     0.00,2,     1.39,2, -999.000,9, -999.000,9, -999.000,9,-999.0000,9,  -999.00,9,   -999.0,9,   -999.0,9,  -999.00,9,  2.5090
 3230CITHER2_2,  A17N,   211,  1,     22,     22,2,19940315,1119, 13.2043, -47.2275, 4285,   3003.8,   2.7550,  34.9300,2,  34.9290,2,    250.2,2,    251.0,2,    34.60,2,    21.06,2,     1.39,2, -999.000,9, -999.000,9, -999.000,9,-999.0000,9,  -999.00,9,   -999.0,9,   -999.0,9,  -999.00,9,  2.5070
 3230CITHER2_2,  A17N,   212,  1,     32,     32,2,19940315,1637, 13.6623, -46.9550, 3842,      2.1,  25.0270,  36.3910,2,  36.3920,2,    208.7,2,    208.0,2,     1.60,2,     0.04,2,     0.00,2,    1.872,2,    1.036,2, -999.000,9,   1.6800,2,    -0.46,2,   -999.0,5,   2390.0,2,     8.39,2, 25.0290
 3230CITHER2_2,  A17N,   212,  1,     31,     31,2,19940315,1637, 13.6623, -46.9550, 3842,      2.2,  25.0290,  36.3910,2,  36.3920,2,    208.7,2,    207.9,2,     1.60,2,     0.04,2,     0.00,2,    1.859,2,    1.039,2,    0.800,2,   1.6900,2,    -0.50,2,   2016.2,2,   2390.0,2,     8.39,2, 25.0270
 3230CITHER2_2,  A17N,   212,  1,     29,     29,2,19940315,1637, 13.6623, -46.9550, 3842,     64.6,  24.8540,  36.3900,2,  36.3890,2,    222.2,2,    209.2,2,     1.40,2,     0.04,2,     0.02,2,    1.860,2,    1.037,2,    0.740,2,   1.7000,2,    -0.24,2,   2017.1,2,   2389.6,2,     8.39,2, 24.8400
 3230CITHER2_2,  A17N,   212,  1,     30,     30,2,19940315,1637, 13.6623, -46.9550, 3842,     64.6,  24.8580,  36.3890,2,  36.3890,2,    222.2,2,    209.2,2,     1.40,2,     0.04,2,     0.02,2,    1.860,2,    1.037,2, -999.000,9,   1.7000,2,    -0.24,2,   -999.0,5,   2389.6,2,     8.39,2, 24.8400
 3230CITHER2_2,  A17N,   212,  1,     28,     28,2,19940315,1637, 13.6623, -46.9550, 3842,    109.2,  24.3730,  36.9680,2,  36.9800,2,    205.5,2,    198.2,2,     1.90,2,     0.04,2,     0.03,2,    1.912,2,    1.055,2,    0.930,2,   1.6900,2,     0.23,2,   2068.6,2,   2427.5,2,     8.35,2, 24.3500
 3230CITHER2_2,  A17N,   212,  1,     27,     27,2,19940315,1637, 13.6623, -46.9550, 3842,    150.7,  21.2170,  37.0310,2,  37.0280,2,    164.3,2,    163.0,2,     5.50,2,     3.62,2,     0.23,2,    1.954,2,    1.026,2,    1.150,2,   1.7000,2,     0.40,2,   2126.3,2,   2426.6,2,     8.25,2, 21.1880
 3230CITHER2_2,  A17N,   212,  1,     26,     26,2,19940315,1637, 13.6623, -46.9550, 3842,    200.5,  16.1960,  36.1670,2,  36.1600,2,    129.0,2,    121.7,2,     9.90,2,    16.32,2,     0.93,2,    1.503,2,    0.803,2,    0.970,2,   1.7000,2,     0.37,2,   2170.1,2,   2373.6,2,     8.09,2, 16.1640
 3230CITHER2_2,  A17N,   212,  1,     25,     25,2,19940315,1637, 13.6623, -46.9550, 3842,    300.7,  12.5150,  35.5240,2,  35.5400,2,     99.6,2,     98.9,2,    14.60,2,    23.82,2,     1.46,2,    0.812,2,    0.443,2,    0.730,2,   1.7000,2,     0.45,2,   2194.1,2,   2342.0,2,     7.97,2, 12.4740
 3230CITHER2_2,  A17N,   212,  1,     24,     24,2,19940315,1637, 13.6623, -46.9550, 3842,    399.6,   9.9700,  35.1320,2,  35.1380,2,    100.0,2,    100.9,2,    17.40,2,    28.83,2,     1.81,2,    0.373,2,    0.215,2,    0.390,2,   1.7000,2,     0.64,2,   2205.7,2,   2326.4,2,     7.90,2,  9.9230
 3230CITHER2_2,  A17N,   212,  1,     23,     23,2,19940315,1637, 13.6623, -46.9550, 3842,    499.9,   8.9840,  35.0130,2,  35.0110,2,     99.6,2,     99.7,2,    20.80,2,    31.25,2,     1.97,2,    0.209,2,    0.126,2,    0.220,2,   1.7000,2,     0.86,2,   2213.5,2,   2320.5,2,     7.87,2,  8.9290
 3230CITHER2_2,  A17N,   212,  1,     22,     22,2,19940315,1637, 13.6623, -46.9550, 3842,    601.1,   7.7620,  34.8800,2,  34.8860,2,    103.0,2,    102.3,2,    22.70,2,    33.27,2,     2.14,2,    0.082,2,    0.055,2,    0.120,2,   1.6900,2,     1.17,2,   2220.9,2,   2318.2,2,     7.84,2,  7.7010
 3230CITHER2_2,  A17N,   212,  1,     21,     21,2,19940315,1637, 13.6623, -46.9550, 3842,    700.4,   7.2450,  34.8480,2,  34.8460,2,    102.9,2,    100.4,2,    24.90,2,    34.43,2,     2.24,2,    0.034,2,    0.025,2,    0.040,2,   1.7000,2,     1.44,2,   2227.1,2,   2317.4,2,     7.82,2,  7.1760
 3230CITHER2_2,  A17N,   212,  1,     20,     20,2,19940315,1637, 13.6623, -46.9550, 3842,    801.5,   6.5680,  34.7840,2,  34.7840,2,    110.3,2,    109.9,2,    26.70,2,    34.58,2,     2.27,2,    0.017,2,    0.015,2,    0.050,2,   1.6900,2,     1.46,2,   2227.9,2,   2316.3,2,     7.83,2,  6.4930
 3230CITHER2_2,  A17N,   212,  1,     19,     19,2,19940315,1637, 13.6623, -46.9550, 3842,    999.9,   5.4910,  34.8020,2,  34.8030,2,    138.1,2,    137.0,2,    23.50,2,    32.50,2,     2.16,2,    0.004,2,    0.005,2, -999.000,9,-999.0000,9,  -999.00,9,   2221.1,2,   2323.3,2,     7.86,2,  5.4040
 3230CITHER2_2,  A17N,   212,  1,     18,     18,2,19940315,1637, 13.6623, -46.9550, 3842,   1200.8,   5.0800,  34.9180,2,  34.9210,2,    174.5,2,    175.3,2,    20.40,2,    27.24,2,     1.84,2,    0.017,2,    0.013,2, -999.000,9,-999.0000,9,  -999.00,9,   2200.0,2,   2326.5,2,     7.92,2,  4.9770
 3230CITHER2_2,  A17N,   212,  1,     17,     17,2,19940315,1637, 13.6623, -46.9550, 3842,   1399.7,   4.6850,  34.9740,2,  34.9750,2,    207.3,2,    206.5,2,    19.40,2,    23.65,2,     1.60,2,    0.032,2,    0.024,2,    0.060,2,   1.6900,2,     2.60,2,   2185.1,2,   2327.1,2,     7.96,2,  4.5670
 3230CITHER2_2,  A17N,   212,  1,     16,     16,2,19940315,1637, 13.6623, -46.9550, 3842,   1498.9,   4.4720,  34.9850,2,  34.9860,2,    221.1,2,    222.7,2,    18.90,2,    22.25,2,     1.49,2,    0.042,2,    0.027,2, -999.000,9,-999.0000,9,  -999.00,9,   2176.7,2,   2327.4,2,     7.99,2,  4.3470
 3230CITHER2_2,  A17N,   212,  1,     15,     15,2,19940315,1637, 13.6623, -46.9550, 3842,   1598.0,   4.2770,  34.9880,2,  34.9890,2,    230.4,2,    232.0,2,    18.70,2,    21.58,2,     1.43,2,    0.035,2,    0.029,2, -999.000,9,   1.6900,2,     2.59,2,   2173.3,2,   2328.9,2,     7.99,2,  4.1440
 3230CITHER2_2,  A17N,   212,  1,     14,     14,2,19940315,1637, 13.6623, -46.9550, 3842,   1700.9,   4.1030,  34.9910,2,  34.9910,2,    239.7,2,    239.2,2,    19.30,2,    20.85,2,     1.37,2,    0.037,2,    0.026,2, -999.000,9,-999.0000,9,  -999.00,9,   2168.4,2,   2326.5,2,     8.00,2,  3.9630
 3230CITHER2_2,  A17N,   212,  1,     13,     13,2,19940315,1637, 13.6623, -46.9550, 3842,   1798.4,   3.9020,  34.9870,2,  34.9870,2,    244.4,2,    245.1,2,    21.70,2,    20.45,2,     1.35,2,    0.032,2,    0.021,2, -999.000,9,   1.6900,2,     2.55,2,   2168.0,2,   2327.3,2,     8.01,2,  3.7550
 3230CITHER2_2,  A17N,   212,  1,     12,     12,2,19940315,1637, 13.6623, -46.9550, 3842,   2000.7,   3.5970,  34.9760,2,  34.9800,2,    248.1,2,    248.6,2,    24.00,2,    20.45,2,     1.34,2,    0.016,2,    0.014,2, -999.000,9,   1.6900,2,     2.57,2,   2168.5,2,   2330.0,2,     8.01,2,  3.4350
 3230CITHER2_2,  A17N,   212,  1,     11,     11,2,19940315,1637, 13.6623, -46.9550, 3842,   2199.5,   3.3220,  34.9650,2,  34.9680,2,    252.4,2,    252.3,2,    26.30,2,    20.22,2,     1.32,2,    0.012,2,    0.011,2, -999.000,9,   1.7700,2,     2.71,2,   2169.2,2,   2333.8,2,     8.02,2,  3.1460
 3230CITHER2_2,  A17N,   212,  1,     10,     10,2,19940315,1637, 13.6623, -46.9550, 3842,   2400.0,   3.1470,  34.9550,2,  34.9610,2,    253.3,2,    253.0,2,    30.90,2,    20.29,2,     1.33,2,    0.005,2,    0.009,2, -999.000,9,-999.0000,9,  -999.00,9,   2173.5,2,   2335.2,2,     8.02,2,  2.9540
 3230CITHER2_2,  A17N,   212,  1,      9,      9,2,19940315,1637, 13.6623, -46.9550, 3842,   2599.5,   2.9960,  34.9460,2,  34.9470,2,    250.5,2,    251.3,2,    33.80,2,    20.83,2,     1.38,2,    0.005,2,    0.010,2, -999.000,9,   1.8000,2,     0.73,2,   2178.0,2,   2339.2,2,     8.01,2,  2.7860
 3230CITHER2_2,  A17N,   212,  1,      8,      8,2,19940315,1637, 13.6623, -46.9550, 3842,   2799.1,   2.8400,  34.9370,2,  34.9370,2,    250.2,2,    249.3,2,    35.90,2,    21.14,2,     1.39,2,    0.002,2,    0.007,2, -999.000,9,-999.0000,9,  -999.00,9,   2181.2,2,   2342.1,2,     8.01,2,  2.6130
 3230CITHER2_2,  A17N,   212,  1,      7,      7,2,19940315,1637, 13.6623, -46.9550, 3842,   3000.3,   2.7350,  34.9300,2,  34.9300,2,    250.2,2,    249.2,2,    37.50,2,    21.30,2,     1.41,2,    0.002,2,    0.008,2, -999.000,9,   1.7800,2,     2.89,2,   2183.8,2,   2342.3,2,     8.01,2,  2.4900
 3230CITHER2_2,  A17N,   212,  1,      6,      6,2,19940315,1637, 13.6623, -46.9550, 3842,   3199.3,   2.6680,  34.9230,2,  34.9240,2,    250.0,2,    249.2,2,    39.40,2,    21.45,2,     1.43,2,    0.002,2,    0.006,2, -999.000,9,-999.0000,9,  -999.00,9,   2185.1,2,   2346.8,2,     8.01,2,  2.4040
 3230CITHER2_2,  A17N,   212,  1,      5,      5,2,19940315,1637, 13.6623, -46.9550, 3842,   3399.6,   2.5840,  34.9150,2,  34.9100,2,    250.0,2,    249.1,2,    41.30,2,    21.60,2,     1.43,2,    0.002,2,    0.003,2, -999.000,9,   1.8400,2,     1.36,2,   2187.4,2,   2347.5,2,     8.01,2,  2.3000
 3230CITHER2_2,  A17N,   212,  1,      4,      4,2,19940315,1637, 13.6623, -46.9550, 3842,   3599.9,   2.4960,  34.9060,2,  34.9070,2,    250.4,2,    249.3,2,    41.40,2,    21.75,2,     1.45,2,    0.006,2,    0.008,2, -999.000,9,-999.0000,9,  -999.00,9,   2188.7,2,   2347.5,2,     8.00,2,  2.1930
 3230CITHER2_2,  A17N,   212,  1,      3,      3,2,19940315,1637, 13.6623, -46.9550, 3842,   3698.7,   2.4850,  34.9040,2,  34.9060,2,    250.5,2,    249.9,2,    42.70,2,    21.75,2,     1.45,2,    0.007,2,    0.010,2, -999.000,9,-999.0000,9,  -999.00,9,   2187.7,2,   2347.5,2,     8.00,2,  2.1710
 3230CITHER2_2,  A17N,   212,  1,      2,      2,2,19940315,1637, 13.6623, -46.9550, 3842,   3800.7,   2.4220,  34.8970,2,  34.8990,2,    250.9,2,    250.1,2,    43.00,2,    21.90,2,     1.45,2,    0.011,2,    0.008,2, -999.000,9,-999.0000,9,  -999.00,9,   2190.6,2,   2348.5,2,     8.00,2,  2.0990
 3230CITHER2_2,  A17N,   212,  1,      1,      1,2,19940315,1637, 13.6623, -46.9550, 3842,   3887.7,   2.4050,  34.8960,2,  34.8970,2,    250.9,2,    250.2,2,  -999.00,5,    21.75,2,     1.49,2,    0.010,2,    0.010,2, -999.000,9,-999.0000,9,  -999.00,9,   2191.1,2,   -999.0,9,     8.00,2,  2.0720