BOTTLE,20030515WHPSIOSA
EXPOCODE,SECT_ID,STNNBR,CASTNO,SAMPNO,BTLNBR,BTLNBR_FLAG_W,DATE,TIME,LATITUDE,LONGITUDE,DEPTH,CTDPRS,CTDTMP,CTDSAL,CTDSAL_FLAG_W,SALNTY,SALNTY_FLAG_W,CTDOXY,CTDOXY_FLAG_W,OXYGEN,OXYGEN_FLAG_W,SILCAT,SILCAT_FLAG_W,NITRAT,NITRAT_FLAG_W,PHSPHT,PHSPHT_FLAG_W,CFC-11,CFC-11_FLAG_W,CFC-12,CFC-12_FLAG_W,TRITUM,TRITUM_FLAG_W,HELIUM,HELIUM_FLAG_W,DELHE3,DELHE3_FLAG_W,TCARBN,TCARBN_FLAG_W,ALKALI,ALKALI_FLAG_W,PH,PH_FLAG_W,THETA
,,,,,,,,,,,,DBAR,ITS-90,PSS-78,,PSS-78,,UMOL/KG,,UMOL/KG,,UMOL/KG,,UMOL/KG,,UMOL/KG,,PMOL/KG,,PMOL/KG,,TU,,NMOL/KG,,PERCNT,,UMOL/KG,,UMOL/KG,,,,DEG C
 3230CITHER2_2,  A17N,   234,  1,     12,     12,2,19940320,1242,  5.8888, -51.4827,  494,      5.0,  27.3790,  34.6890,2,  34.7000,2,    199.4,2,    198.8,2,     3.30,2,     0.04,2,     0.07,2,    1.671,2,    0.940,2, -999.000,9,-999.0000,9,  -999.00,9,   -999.0,9,   -999.0,9,     8.37,2, 27.3780
 3230CITHER2_2,  A17N,   234,  1,     13,     13,2,19940320,1242,  5.8888, -51.4827,  494,      5.2,  27.3790,  34.6860,2,-999.0000,5,    199.4,2,   -999.0,5,     3.50,2,     0.12,2,     0.07,2, -999.000,5, -999.000,5, -999.000,9,-999.0000,9,  -999.00,9,   -999.0,9,   -999.0,9,     8.37,2, 27.3780
 3230CITHER2_2,  A17N,   234,  1,     11,     11,2,19940320,1242,  5.8888, -51.4827,  494,     34.7,  27.3360,  36.2030,2,  36.1940,2,    194.9,2,    196.4,2,     1.50,2,     0.04,2,     0.09,2,    1.669,2,    0.927,2, -999.000,9,-999.0000,9,  -999.00,9,   -999.0,9,   -999.0,9,     8.36,2, 27.3280
 3230CITHER2_2,  A17N,   234,  1,     10,     10,2,19940320,1242,  5.8888, -51.4827,  494,     74.9,  26.8860,  36.3390,2,  36.4390,2,    195.2,2,    195.7,2,     1.90,2,     0.28,2,     0.13,2,    1.694,2,    0.938,2, -999.000,9,-999.0000,9,  -999.00,9,   -999.0,9,   -999.0,9,     8.35,2, 26.8690
 3230CITHER2_2,  A17N,   234,  1,      9,      9,2,19940320,1242,  5.8888, -51.4827,  494,    100.3,  21.9670,  36.2950,2,  36.3300,2,    183.0,2,    180.6,2,     3.50,2,     5.04,2,     0.44,2,    1.681,2,    0.913,2, -999.000,9,-999.0000,9,  -999.00,9,   -999.0,9,   -999.0,9,     8.27,2, 21.9470
 3230CITHER2_2,  A17N,   234,  1,      8,      8,2,19940320,1242,  5.8888, -51.4827,  494,    100.9,  21.7010,  36.2620,2,  36.1940,2,    182.2,2,    176.7,2,     4.20,2,     6.82,2,     0.53,2,    1.652,2,    0.892,2, -999.000,9,-999.0000,9,  -999.00,9,   -999.0,9,   -999.0,9,     8.25,2, 21.6810
 3230CITHER2_2,  A17N,   234,  1,      7,      7,2,19940320,1242,  5.8888, -51.4827,  494,    150.7,  14.1600,  35.5040,2,  35.4620,2,    162.2,2,    161.8,2,     7.60,2,    15.39,2,     1.06,2,    1.531,2,    0.795,2, -999.000,9,-999.0000,9,  -999.00,9,   -999.0,9,   -999.0,9,     8.09,2, 14.1380
 3230CITHER2_2,  A17N,   234,  1,      6,      6,2,19940320,1242,  5.8888, -51.4827,  494,    201.6,  12.0520,  35.2210,2,  35.2140,2,    143.9,2,    145.2,2,    10.40,2,    20.12,2,     1.36,2,    1.188,2,    0.621,2, -999.000,9,-999.0000,9,  -999.00,9,   -999.0,9,   -999.0,9,     8.02,2, 12.0260
 3230CITHER2_2,  A17N,   234,  1,      5,      5,2,19940320,1242,  5.8888, -51.4827,  494,    251.2,  11.1890,  35.1370,2,  35.1290,2,    137.0,2,    136.3,2,    12.30,2,    22.84,2,     1.52,2,    0.966,2,    0.512,2, -999.000,9,-999.0000,9,  -999.00,9,   -999.0,9,   -999.0,9,     7.98,2, 11.1580
 3230CITHER2_2,  A17N,   234,  1,      4,      4,2,19940320,1242,  5.8888, -51.4827,  494,    279.0,  10.3280,  35.0050,2,  35.0000,2,    136.4,2,    136.5,2,    12.90,2,    24.14,2,     1.61,2,    0.858,2,    0.451,2, -999.000,9,-999.0000,9,  -999.00,9,   -999.0,9,   -999.0,9,     7.95,2, 10.2950
 3230CITHER2_2,  A17N,   234,  1,      3,      3,2,19940320,1242,  5.8888, -51.4827,  494,    400.6,   8.6520,  34.8340,2,  34.8240,2,    124.6,2,    123.1,2,    17.30,2,    29.37,2,     1.92,2,    0.461,2,    0.254,2, -999.000,9,-999.0000,9,  -999.00,9,   -999.0,9,   -999.0,9,     7.88,2,  8.6090
 3230CITHER2_2,  A17N,   234,  1,      2,      2,2,19940320,1242,  5.8888, -51.4827,  494,    500.7,   7.6250,  34.7170,2,  34.7150,2,    126.6,2,    126.9,2,    20.10,2,    31.33,2,     2.05,2,    0.334,2,    0.183,2, -999.000,9,-999.0000,9,  -999.00,9,   -999.0,9,   -999.0,9,     7.86,2,  7.5750
 3230CITHER2_2,  A17N,   234,  1,      1,      1,2,19940320,1242,  5.8888, -51.4827,  494,    577.1,   7.0140,  34.6590,2,  34.6570,2,    131.8,2,    131.8,2,    22.50,2,    32.03,2,     2.12,2,    0.279,2,    0.153,2, -999.000,9,-999.0000,9,  -999.00,9,   -999.0,9,   -999.0,9,     7.86,2,  6.9590
 3230CITHER2_2,  A17N,   235,  1,     24,     24,2,19940320,1613,  5.8872, -51.5042,  243,      3.6,  27.2720,  34.4950,2,  34.5270,2,    198.3,2,    199.6,2,     3.90,2,     0.18,2,     0.08,2,    1.674,2,    0.940,2, -999.000,9,-999.0000,9,  -999.00,9,   1947.3,2,   2283.4,2,     8.37,2, 27.2710
 3230CITHER2_2,  A17N,   235,  1,     23,     23,2,19940320,1613,  5.8872, -51.5042,  243,     26.1,  27.4670,  36.2110,2,  36.2190,2,    195.9,2,    198.1,2,     1.60,2,     0.04,2,     0.07,2,    1.687,2,    0.952,2, -999.000,9,-999.0000,9,  -999.00,9,   2025.3,2,   2383.0,2,     8.37,2, 27.4610
 3230CITHER2_2,  A17N,   235,  1,     22,     22,2,19940320,1613,  5.8872, -51.5042,  243,     51.3,  26.9210,  36.3010,2,  36.2980,2,    196.2,2,    195.5,2,     1.80,2,     0.20,2,     0.11,2,    1.672,2,    0.936,2, -999.000,9,-999.0000,9,  -999.00,9,   2034.0,2,   2390.0,2,     8.36,2, 26.9090
 3230CITHER2_2,  A17N,   235,  1,     21,     21,2,19940320,1613,  5.8872, -51.5042,  243,     76.6,  24.0220,  36.3900,2,  36.3870,2,    193.2,2,    187.9,2,     2.90,2,     2.80,2,     0.30,2,    1.700,2,    0.932,2, -999.000,9,-999.0000,9,  -999.00,9,   2071.1,2,   2397.3,2,     8.31,2, 24.0060
 3230CITHER2_2,  A17N,   235,  1,     20,     20,2,19940320,1613,  5.8872, -51.5042,  243,    101.5,  18.9470,  36.0570,2,  36.0580,2,    171.6,2,    166.1,2,     4.80,2,     9.29,2,     0.66,2,    1.667,2,    0.930,2, -999.000,9,-999.0000,9,  -999.00,9,   2120.6,2,   2378.7,2,     8.20,2, 18.9290
 3230CITHER2_2,  A17N,   235,  1,     19,     19,2,19940320,1613,  5.8872, -51.5042,  243,    152.7,  16.7130,  35.9300,2,  35.9400,2,    146.4,2,    153.1,2,     6.10,2,    12.78,2,     0.84,2,    1.610,2,    0.841,2, -999.000,9,-999.0000,9,  -999.00,9,   2143.8,2,   2370.6,2,     8.14,2, 16.6880
 3230CITHER2_2,  A17N,   235,  1,     18,     18,2,19940320,1613,  5.8872, -51.5042,  243,    186.1,  13.6410,  35.4490,2,  35.4470,2,    153.4,2,    152.0,2,     8.50,2,    17.25,2,     1.15,2,    1.412,2,    0.737,2, -999.000,9,-999.0000,9,  -999.00,9,   -999.0,5,   2344.6,2,     8.07,2, 13.6140
 3230CITHER2_2,  A17N,   235,  1,     17,     17,2,19940320,1613,  5.8872, -51.5042,  243,    193.3,  13.4610,  35.4380,2,  35.4110,2,    153.0,2,    151.1,2,     8.70,2,    17.70,2,     1.18,2,    1.371,2,    0.710,2, -999.000,9,-999.0000,9,  -999.00,9,   2155.2,2,   2342.7,2,     8.06,2, 13.4340