BOTTLE,20030515WHPSIOSA
EXPOCODE,SECT_ID,STNNBR,CASTNO,SAMPNO,BTLNBR,BTLNBR_FLAG_W,DATE,TIME,LATITUDE,LONGITUDE,DEPTH,CTDPRS,CTDTMP,CTDSAL,CTDSAL_FLAG_W,SALNTY,SALNTY_FLAG_W,CTDOXY,CTDOXY_FLAG_W,OXYGEN,OXYGEN_FLAG_W,SILCAT,SILCAT_FLAG_W,NITRAT,NITRAT_FLAG_W,PHSPHT,PHSPHT_FLAG_W,CFC-11,CFC-11_FLAG_W,CFC-12,CFC-12_FLAG_W,TRITUM,TRITUM_FLAG_W,HELIUM,HELIUM_FLAG_W,DELHE3,DELHE3_FLAG_W,TCARBN,TCARBN_FLAG_W,ALKALI,ALKALI_FLAG_W,PH,PH_FLAG_W,THETA
,,,,,,,,,,,,DBAR,ITS-90,PSS-78,,PSS-78,,UMOL/KG,,UMOL/KG,,UMOL/KG,,UMOL/KG,,UMOL/KG,,PMOL/KG,,PMOL/KG,,TU,,NMOL/KG,,PERCNT,,UMOL/KG,,UMOL/KG,,,,DEG C
 3230CITHER2_2,  A17N,   229,  1,     30,     30,2,19940319,1854,  6.3205, -51.2368, 2991,      6.7,  27.8090,  36.2620,2,  36.2610,2,    194.8,2,    198.8,2,     1.30,2,     0.04,2,     0.05,2,    1.656,2,    0.932,2,    0.660,2,-999.0000,9,  -999.00,9,   2018.6,2,   -999.0,9,     8.38,2, 27.8070
 3230CITHER2_2,  A17N,   229,  1,     31,     31,2,19940319,1854,  6.3205, -51.2368, 2991,      6.7,  27.8110,  36.2610,2,  36.2610,2,    194.8,2,    198.8,2,     1.30,2,     0.04,2,     0.05,2,    1.656,2,    0.932,2, -999.000,9,-999.0000,9,  -999.00,9,   -999.0,5,   -999.0,9,     8.38,2, 27.8070
 3230CITHER2_2,  A17N,   229,  1,     32,     32,2,19940319,1854,  6.3205, -51.2368, 2991,      6.8,  27.8120,  36.2610,2,  36.2610,2,    194.8,2,    201.2,2,     1.30,2,     0.04,2,     0.05,2, -999.000,5, -999.000,5, -999.000,9,-999.0000,9,  -999.00,9,   -999.0,5,   -999.0,9,     8.38,2, 27.8100
 3230CITHER2_2,  A17N,   229,  1,     29,     29,2,19940319,1854,  6.3205, -51.2368, 2991,     31.6,  27.7120,  36.2580,2,  36.2570,2,    201.3,2,    198.9,2,     1.30,2,     0.04,2,     0.06,2,    1.652,2,    0.931,2,    0.630,2,-999.0000,9,  -999.00,9,   2009.7,2,   -999.0,9,     8.38,2, 27.7050
 3230CITHER2_2,  A17N,   229,  1,     28,     28,2,19940319,1854,  6.3205, -51.2368, 2991,     76.2,  27.4290,  36.2690,2,  36.2850,2,    202.1,2,    199.1,2,     1.40,2,     0.04,2,     0.06,2,    1.644,2,    0.927,2,    0.630,2,-999.0000,9,  -999.00,9,   2023.0,2,   -999.0,9,     8.37,2, 27.4110
 3230CITHER2_2,  A17N,   229,  1,     27,     27,2,19940319,1854,  6.3205, -51.2368, 2991,    110.1,  23.5520,  36.6110,2,  36.6040,2,    194.6,2,    189.2,2,     2.00,2,     2.09,2,     0.29,2,    1.815,2,    0.993,2,    0.570,2,-999.0000,9,  -999.00,9,   2085.1,2,   -999.0,9,     8.30,2, 23.5290
 3230CITHER2_2,  A17N,   229,  1,     26,     26,2,19940319,1854,  6.3205, -51.2368, 2991,    151.0,  18.7260,  36.0840,2,  36.0990,2,    181.2,2,    169.7,2,     4.60,2,     9.22,2,     0.68,2,    1.665,2,    0.890,2,    0.540,2,-999.0000,9,  -999.00,9,   2118.1,2,   -999.0,9,     8.20,2, 18.6990
 3230CITHER2_2,  A17N,   229,  1,     25,     25,2,19940319,1854,  6.3205, -51.2368, 2991,    199.7,  13.0760,  35.5000,2,  35.4730,2,    125.0,2,    121.3,2,     9.60,2,    21.57,2,     1.36,2,    1.060,2,    0.572,2,    0.620,2,-999.0000,9,  -999.00,9,   2177.9,2,   -999.0,9,     8.01,2, 13.0480
 3230CITHER2_2,  A17N,   229,  1,     24,     24,2,19940319,1854,  6.3205, -51.2368, 2991,    251.8,   9.8030,  34.9520,2,  34.9490,2,    126.0,2,    129.6,2,    13.60,2,    26.09,2,     1.71,2,    0.728,2,    0.391,2,    0.270,2,-999.0000,9,  -999.00,9,   2187.3,2,   -999.0,9,     7.94,2,  9.7740
 3230CITHER2_2,  A17N,   229,  1,     23,     23,2,19940319,1854,  6.3205, -51.2368, 2991,    300.4,   9.3850,  34.9060,2,  34.8990,2,    115.0,2,    120.5,2,    14.90,2,    28.32,2,     1.83,2,    0.556,2,    0.303,2,    0.260,2,-999.0000,9,  -999.00,9,   2198.3,2,   -999.0,9,     7.90,2,  9.3510
 3230CITHER2_2,  A17N,   229,  1,     22,     22,2,19940319,1854,  6.3205, -51.2368, 2991,    400.1,   7.8170,  34.7160,2,  34.7130,2,    126.4,2,    127.4,2,    18.80,2,    31.20,2,     2.04,2,    0.376,2,    0.214,2,    0.160,2,-999.0000,9,  -999.00,9,   2202.7,2,   -999.0,9,     7.87,2,  7.7770
 3230CITHER2_2,  A17N,   229,  1,     21,     21,2,19940319,1854,  6.3205, -51.2368, 2991,    500.5,   7.0250,  34.6580,2,  34.6580,2,    120.5,2,    118.7,2,    21.70,2,    33.78,2,     2.18,2,    0.162,2,    0.097,2, -999.000,9,-999.0000,9,  -999.00,9,   2214.5,2,   -999.0,9,     7.83,2,  6.9770
 3230CITHER2_2,  A17N,   229,  1,     20,     20,2,19940319,1854,  6.3205, -51.2368, 2991,    600.8,   6.2650,  34.6090,2,  34.6070,2,    125.5,2,    123.5,2,    24.60,2,    34.68,2,     2.27,2,    0.081,2,    0.053,2,    0.060,2,-999.0000,9,  -999.00,9,   2219.7,2,   -999.0,9,     7.82,2,  6.2110
 3230CITHER2_2,  A17N,   229,  1,     19,     19,2,19940319,1854,  6.3205, -51.2368, 2991,    702.1,   5.7280,  34.5900,2,  34.5890,2,    133.0,2,    131.4,2,    27.20,2,    34.66,2,     2.29,2,    0.065,2,    0.042,2,    0.010,2,-999.0000,9,  -999.00,9,   2220.7,2,   -999.0,9,     7.83,2,  5.6670
 3230CITHER2_2,  A17N,   229,  1,     18,     18,2,19940319,1854,  6.3205, -51.2368, 2991,    802.4,   5.0830,  34.5770,2,  34.5700,2,    141.7,2,    142.0,2,    30.10,2,    34.47,2,     2.31,2,    0.035,2,    0.025,2,    0.040,2,-999.0000,9,  -999.00,9,   2219.6,2,   -999.0,9,     7.84,2,  5.0170
 3230CITHER2_2,  A17N,   229,  1,     17,     17,2,19940319,1854,  6.3205, -51.2368, 2991,    902.2,   4.7450,  34.5790,2,  34.5780,2,    150.7,2,    151.9,2,    31.30,2,    33.82,2,     2.27,2,    0.030,2,    0.020,2, -999.000,9,-999.0000,9,  -999.00,9,   -999.0,9,   -999.0,9,     7.84,2,  4.6720
 3230CITHER2_2,  A17N,   229,  1,     16,     16,2,19940319,1854,  6.3205, -51.2368, 2991,   1001.5,   4.8420,  34.6730,2,  34.6590,2,    150.2,2,    151.1,2,    29.90,2,    32.82,2,     2.19,2,    0.016,2,    0.006,2,    0.040,2,-999.0000,9,  -999.00,9,   -999.0,9,   -999.0,9,     7.85,2,  4.7590
 3230CITHER2_2,  A17N,   229,  1,     15,     15,2,19940319,1854,  6.3205, -51.2368, 2991,   1201.0,   4.9590,  34.8460,2,  34.8460,2,    172.5,2,    172.0,2,    25.20,2,    28.28,2,     1.89,2,    0.030,2,    0.021,2, -999.000,9,-999.0000,9,  -999.00,9,   -999.0,9,   -999.0,9,     7.91,2,  4.8570
 3230CITHER2_2,  A17N,   229,  1,     14,     14,2,19940319,1854,  6.3205, -51.2368, 2991,   1400.2,   4.9370,  34.9770,2,  34.9770,2,    209.6,2,    209.1,2,    19.30,2,    23.03,2,     1.52,2,    0.165,2,    0.094,2,    0.240,2,-999.0000,9,  -999.00,9,   -999.0,9,   -999.0,9,     7.97,2,  4.8160
 3230CITHER2_2,  A17N,   229,  1,     13,     13,2,19940319,1854,  6.3205, -51.2368, 2991,   1501.5,   4.7110,  35.0190,2,  35.0130,2,    232.0,2,    234.6,2,    15.90,2,    20.30,2,     1.32,2,    0.312,2,    0.171,2, -999.000,9,-999.0000,9,  -999.00,9,   -999.0,9,   -999.0,9,     8.00,2,  4.5830
 3230CITHER2_2,  A17N,   229,  1,     12,     12,2,19940319,1854,  6.3205, -51.2368, 2991,   1594.2,   4.4210,  35.0120,2,  35.0100,2,    242.3,2,    241.9,2,    15.70,2,    19.84,2,     1.29,2,    0.282,2,    0.157,2,    0.330,2,-999.0000,9,  -999.00,9,   -999.0,9,   -999.0,9,     8.01,2,  4.2870
 3230CITHER2_2,  A17N,   229,  1,     11,     11,2,19940319,1854,  6.3205, -51.2368, 2991,   1693.7,   4.2240,  35.0080,2,  35.0050,2,    252.4,2,    250.5,2,    15.20,2,    19.11,2,     1.25,2,    0.261,2,    0.150,2, -999.000,9,-999.0000,9,  -999.00,9,   -999.0,9,   -999.0,9,     8.01,2,  4.0830
 3230CITHER2_2,  A17N,   229,  1,     10,     10,2,19940319,1854,  6.3205, -51.2368, 2991,   1797.9,   3.8780,  34.9950,2,  34.9960,2,    257.6,2,    258.8,2,    15.90,2,    18.76,2,     1.22,2,    0.209,2,    0.122,2, -999.000,9,-999.0000,9,  -999.00,9,   -999.0,9,   -999.0,9,     8.02,2,  3.7320
 3230CITHER2_2,  A17N,   229,  1,      9,      9,2,19940319,1854,  6.3205, -51.2368, 2991,   1897.7,   3.6130,  34.9840,2,  34.9830,2,    259.7,2,    259.2,2,    17.50,2,    18.69,2,     1.22,2,    0.156,2,    0.094,2, -999.000,9,-999.0000,9,  -999.00,9,   -999.0,9,   -999.0,9,     8.02,2,  3.4610
 3230CITHER2_2,  A17N,   229,  1,      8,      8,2,19940319,1854,  6.3205, -51.2368, 2991,   1998.7,   3.5140,  34.9800,2,  34.9800,2,    260.5,2,    259.8,2,    18.20,2,    18.69,2,     1.22,2,    0.144,2,    0.083,2, -999.000,9,-999.0000,9,  -999.00,9,   -999.0,9,   -999.0,9,     8.02,2,  3.3540
 3230CITHER2_2,  A17N,   229,  1,      7,      7,2,19940319,1854,  6.3205, -51.2368, 2991,   2200.1,   3.2620,  34.9670,2,  34.9680,2,    261.1,2,    260.5,2,    20.30,2,    18.88,2,     1.22,2,    0.106,2,    0.062,2, -999.000,9,-999.0000,9,  -999.00,9,   -999.0,9,   -999.0,9,     8.02,2,  3.0870
 3230CITHER2_2,  A17N,   229,  1,      6,      6,2,19940319,1854,  6.3205, -51.2368, 2991,   2399.8,   2.9600,  34.9510,2,  34.9490,2,    261.7,2,    262.2,2,    22.80,2,    18.70,2,     1.26,2,    0.124,2,    0.069,2, -999.000,9,-999.0000,9,  -999.00,9,   -999.0,9,   -999.0,9,     8.02,2,  2.7710
 3230CITHER2_2,  A17N,   229,  1,      5,      5,2,19940319,1854,  6.3205, -51.2368, 2991,   2600.0,   2.8870,  34.9460,2,  34.9430,2,    262.2,2,    262.5,2,    23.70,2,    18.70,2,     1.24,2,    0.135,2,    0.076,2, -999.000,9,-999.0000,9,  -999.00,9,   -999.0,9,   -999.0,9,     8.02,2,  2.6790
 3230CITHER2_2,  A17N,   229,  1,      4,      4,2,19940319,1854,  6.3205, -51.2368, 2991,   2799.2,   2.7980,  34.9390,2,  34.9370,2,    262.4,2,    262.5,2,    24.80,2,    19.06,2,     1.25,2,    0.140,2,    0.082,2, -999.000,9,-999.0000,9,  -999.00,9,   -999.0,9,   -999.0,9,     8.02,2,  2.5720
 3230CITHER2_2,  A17N,   229,  1,      2,      2,2,19940319,1854,  6.3205, -51.2368, 2991,   2899.5,   2.7260,  34.9340,2,  34.9330,2,    262.4,2,    262.8,2,    25.50,2,    18.75,2,     1.25,2,    0.144,2,    0.083,2, -999.000,9,-999.0000,9,  -999.00,9,   -999.0,9,   -999.0,9,     8.02,2,  2.4910
 3230CITHER2_2,  A17N,   229,  1,      3,      3,2,19940319,1854,  6.3205, -51.2368, 2991,   2900.3,   2.7250,  34.9350,2,  34.9330,2,    262.4,2,    262.7,2,    25.50,2,    18.75,2,     1.25,2,    0.143,2,    0.084,2, -999.000,9,-999.0000,9,  -999.00,9,   -999.0,9,   -999.0,9,     8.02,2,  2.4900
 3230CITHER2_2,  A17N,   229,  1,      1,      1,2,19940319,1854,  6.3205, -51.2368, 2991,   3005.9,   2.6720,  34.9310,2,  34.9290,2,    261.9,2,    262.6,2,    27.00,2,    18.87,2,     1.25,2,    0.136,2,    0.072,2, -999.000,9,-999.0000,9,  -999.00,9,   -999.0,9,   -999.0,9,     8.02,2,  2.4280
 3230CITHER2_2,  A17N,   230,  1,     27,     27,2,19940319,2322,  6.1555, -51.3578, 2773,      5.1,  27.6220,  36.2430,2,  36.2440,2,    196.1,2,    198.7,2,     1.60,2,     0.04,2,     0.07,2,    1.667,2,    0.934,2, -999.000,9,-999.0000,9,  -999.00,9,   2018.5,2,   2382.9,2,     8.38,2, 27.6210
 3230CITHER2_2,  A17N,   230,  1,     26,     26,2,19940319,2322,  6.1555, -51.3578, 2773,     31.5,  27.6130,  36.2430,2,  36.2430,2,    198.7,2,    198.6,2,     1.60,2,     0.04,2,     0.07,2, -999.000,5, -999.000,5, -999.000,9,-999.0000,9,  -999.00,9,   2018.7,2,   2384.4,2,     8.38,2, 27.6060
 3230CITHER2_2,  A17N,   230,  1,     25,     25,2,19940319,2322,  6.1555, -51.3578, 2773,     74.8,  27.1320,  36.3200,2,  36.2880,2,    200.8,2,    199.4,2,     1.60,2,     0.04,2,     0.07,2,    1.681,2,    0.941,2, -999.000,9,-999.0000,9,  -999.00,9,   2024.5,2,   2386.5,2,     8.37,2, 27.1150
 3230CITHER2_2,  A17N,   230,  1,     24,     24,2,19940319,2322,  6.1555, -51.3578, 2773,    100.8,  23.5010,  36.5680,2,  36.5630,2,    188.9,2,    188.7,2,     2.20,2,     2.13,2,     0.28,2,    1.819,2,    0.982,2, -999.000,9,-999.0000,9,  -999.00,9,   2080.0,2,   2409.5,2,     8.30,2, 23.4800
 3230CITHER2_2,  A17N,   230,  1,     23,     23,2,19940319,2322,  6.1555, -51.3578, 2773,    150.6,  17.8810,  36.2080,2,  36.1810,2,    148.9,2,    143.0,2,     5.10,2,    12.49,2,     0.76,2,    1.598,2,    0.844,2, -999.000,9,-999.0000,9,  -999.00,9,   2147.1,2,   2382.1,2,     8.14,2, 17.8550
 3230CITHER2_2,  A17N,   230,  1,     22,     22,2,19940319,2322,  6.1555, -51.3578, 2773,    200.7,  12.0700,  35.2240,2,  35.2240,2,    147.9,2,    146.2,2,    10.20,2,    20.21,2,     1.35,2,    1.178,2,    0.616,2, -999.000,9,-999.0000,9,  -999.00,9,   2162.4,2,   2334.1,2,     8.02,2, 12.0440
 3230CITHER2_2,  A17N,   230,  1,     21,     21,2,19940319,2322,  6.1555, -51.3578, 2773,    251.2,   9.6380,  34.9200,2,  34.9180,2,    131.7,2,    133.4,2,    13.90,2,    25.85,2,     1.72,2, -999.000,5, -999.000,5, -999.000,9,-999.0000,9,  -999.00,9,   2184.8,2,   2318.8,2,     7.93,2,  9.6090
 3230CITHER2_2,  A17N,   230,  1,     20,     20,2,19940319,2322,  6.1555, -51.3578, 2773,    301.3,   8.7870,  34.7920,2,  34.7970,2,    140.1,2,    140.7,2,    15.30,2,    26.84,2,     1.80,2,    0.673,2,    0.366,2, -999.000,9,-999.0000,9,  -999.00,9,   2184.3,2,   2313.7,2,     7.92,2,  8.7550
 3230CITHER2_2,  A17N,   230,  1,     19,     19,2,19940319,2322,  6.1555, -51.3578, 2773,    403.1,   8.0900,  34.7570,2,  34.7570,2,    118.6,2,    119.5,2,    18.10,2,    30.78,2,     2.02,2,    0.337,2,    0.187,2, -999.000,9,-999.0000,9,  -999.00,9,   2204.3,2,   2313.3,2,     7.86,2,  8.0490
 3230CITHER2_2,  A17N,   230,  1,     18,     18,2,19940319,2322,  6.1555, -51.3578, 2773,    500.4,   6.9100,  34.6350,2,  34.6360,2,    129.1,2,    128.6,2,    21.80,2,    32.46,2,     2.15,2,    0.230,2,    0.129,2, -999.000,9,-999.0000,9,  -999.00,9,   2209.6,2,   2315.4,2,     7.84,2,  6.8630
 3230CITHER2_2,  A17N,   230,  1,     17,     17,2,19940319,2322,  6.1555, -51.3578, 2773,    601.8,   6.1940,  34.5990,2,  34.5980,2,    122.8,2,    121.3,2,    24.90,2,    34.20,2,     2.30,2,    0.067,2,    0.040,2, -999.000,9,-999.0000,9,  -999.00,9,   2219.8,2,   2312.4,2,     7.81,2,  6.1400
 3230CITHER2_2,  A17N,   230,  1,     16,     16,2,19940319,2322,  6.1555, -51.3578, 2773,    702.1,   5.7160,  34.5840,2,  34.5840,2,    129.8,2,    128.2,2,    26.90,2,    34.37,2,     2.32,2,    0.049,2,    0.031,2, -999.000,9,-999.0000,9,  -999.00,9,   2204.1,3,   2314.2,2,     7.82,2,  5.6550
 3230CITHER2_2,  A17N,   230,  1,     15,     15,2,19940319,2322,  6.1555, -51.3578, 2773,    800.9,   5.2100,  34.5850,2,  34.5850,2,    135.9,2,    135.3,2,    29.30,2,    34.60,2,     2.34,2,    0.016,2,    0.012,2, -999.000,9,-999.0000,9,  -999.00,9,   2222.5,2,   2319.6,2,     7.82,2,  5.1430
 3230CITHER2_2,  A17N,   230,  1,     14,     14,2,19940319,2322,  6.1555, -51.3578, 2773,   1001.9,   4.9560,  34.6940,2,  34.6960,2,    146.9,2,    148.2,2,    29.20,2,    32.43,2,     2.20,2,    0.010,2,    0.009,2, -999.000,9,-999.0000,9,  -999.00,9,   2218.2,2,   2322.4,2,     7.85,2,  4.8730
 3230CITHER2_2,  A17N,   230,  1,     13,     13,2,19940319,2322,  6.1555, -51.3578, 2773,   1202.2,   4.9530,  34.8850,2,  34.8860,2,    175.2,2,    180.5,2,    23.80,2,    26.76,2,     1.81,2,    0.045,2,    0.028,2, -999.000,9,-999.0000,9,  -999.00,9,   2198.1,2,   2328.5,2,     7.91,2,  4.8510
 3230CITHER2_2,  A17N,   230,  1,     12,     12,2,19940319,2322,  6.1555, -51.3578, 2773,   1400.0,   4.8700,  35.0090,2,  35.0080,2,    220.8,2,    222.4,2,    17.30,2,    21.22,2,     1.41,2,    0.260,2,    0.146,2, -999.000,9,-999.0000,9,  -999.00,9,   2175.0,2,   2331.0,2,     7.98,2,  4.7500
 3230CITHER2_2,  A17N,   230,  1,     11,     11,2,19940319,2322,  6.1555, -51.3578, 2773,   1500.1,   4.5660,  35.0160,2,  35.0150,2,    236.7,2,    239.6,2,    15.70,2,    19.83,2,     1.30,2,    0.319,2,    0.174,2, -999.000,9,-999.0000,9,  -999.00,9,   2167.4,2,   2332.5,2,     8.00,2,  4.4390
 3230CITHER2_2,  A17N,   230,  1,     10,     10,2,19940319,2322,  6.1555, -51.3578, 2773,   1601.4,   4.3360,  35.0120,2,  35.0120,2,    247.3,2,    248.1,2,    15.10,2,    19.10,2,     1.24,2, -999.000,5, -999.000,5, -999.000,9,-999.0000,9,  -999.00,9,   2161.8,2,   2330.5,2,     8.01,2,  4.2020
 3230CITHER2_2,  A17N,   230,  1,      9,      9,2,19940319,2322,  6.1555, -51.3578, 2773,   1699.6,   4.1440,  35.0060,2,  35.0050,2,    251.1,2,    253.4,2,    15.00,2,    18.75,2,     1.23,2,    0.308,2,    0.168,2, -999.000,9,-999.0000,9,  -999.00,9,   2160.2,2,   2329.8,2,     8.01,2,  4.0030
 3230CITHER2_2,  A17N,   230,  1,      8,      8,2,19940319,2322,  6.1555, -51.3578, 2773,   1799.3,   3.9070,  34.9970,2,  34.9960,2,    257.0,2,    257.8,2,    15.60,2,    18.64,2,     1.20,2,    0.246,2,    0.138,2, -999.000,9,-999.0000,9,  -999.00,9,   2145.7,3,   2329.8,2,     8.01,2,  3.7600
 3230CITHER2_2,  A17N,   230,  1,      7,      7,2,19940319,2322,  6.1555, -51.3578, 2773,   1999.0,   3.4740,  34.9790,2,  34.9760,2,    260.2,2,    260.0,2,    18.50,2,    18.73,2,     1.21,2,    0.134,2,    0.080,2, -999.000,9,-999.0000,9,  -999.00,9,   2159.8,2,   2332.1,2,     8.02,2,  3.3140
 3230CITHER2_2,  A17N,   230,  1,      6,      6,2,19940319,2322,  6.1555, -51.3578, 2773,   2199.2,   3.3400,  34.9710,2,  34.9720,2,    261.3,2,    260.8,2,    19.50,2,    18.74,2,     1.22,2,    0.120,2,    0.070,2, -999.000,9,-999.0000,9,  -999.00,9,   2160.8,2,   2334.5,2,     8.02,2,  3.1630
 3230CITHER2_2,  A17N,   230,  1,      5,      5,2,19940319,2322,  6.1555, -51.3578, 2773,   2397.4,   3.0980,  34.9590,2,  34.9570,2,    261.6,2,    261.6,2,    21.50,2,    18.78,2,     1.23,2,    0.119,2,    0.065,2, -999.000,9,-999.0000,9,  -999.00,9,   2161.5,2,   2333.1,2,     8.02,2,  2.9060
 3230CITHER2_2,  A17N,   230,  1,      4,      4,2,19940319,2322,  6.1555, -51.3578, 2773,   2597.2,   2.9580,  34.9480,2,  34.9470,2,    262.2,2,    261.8,2,    23.40,2,    18.95,2,     1.23,2,    0.108,2,    0.064,2, -999.000,9,-999.0000,9,  -999.00,9,   -999.0,5,   2336.2,2,     8.02,2,  2.7490
 3230CITHER2_2,  A17N,   230,  1,      3,      3,2,19940319,2322,  6.1555, -51.3578, 2773,   2598.4,   2.9580,  34.9490,2,  34.9510,2,    262.2,2,    261.5,2,    23.40,2,    18.96,2,     1.24,2,    0.109,2,    0.063,2, -999.000,9,-999.0000,9,  -999.00,9,   2165.0,2,   2336.2,2,     8.02,2,  2.7490
 3230CITHER2_2,  A17N,   230,  1,      2,      2,2,19940319,2322,  6.1555, -51.3578, 2773,   2698.6,   2.9100,  34.9470,2,  34.9440,2,    262.7,2,    261.4,2,    24.20,2,    18.96,2,     1.24,2,    0.114,2,    0.067,2, -999.000,9,-999.0000,9,  -999.00,9,   2164.3,2,   2336.4,2,     8.01,2,  2.6920
 3230CITHER2_2,  A17N,   230,  1,      1,      1,2,19940319,2322,  6.1555, -51.3578, 2773,   2757.7,   2.8990,  34.9450,2,  34.9450,2,    261.9,2,    261.3,2,    24.20,2,    18.93,2,     1.24,2,    0.112,2,    0.068,2, -999.000,9,-999.0000,9,  -999.00,9,   2165.6,2,   2335.6,2,     8.02,2,  2.6750