BOTTLE,20030515WHPSIOSA
EXPOCODE,SECT_ID,STNNBR,CASTNO,SAMPNO,BTLNBR,BTLNBR_FLAG_W,DATE,TIME,LATITUDE,LONGITUDE,DEPTH,CTDPRS,CTDTMP,CTDSAL,CTDSAL_FLAG_W,SALNTY,SALNTY_FLAG_W,CTDOXY,CTDOXY_FLAG_W,OXYGEN,OXYGEN_FLAG_W,SILCAT,SILCAT_FLAG_W,NITRAT,NITRAT_FLAG_W,PHSPHT,PHSPHT_FLAG_W,CFC-11,CFC-11_FLAG_W,CFC-12,CFC-12_FLAG_W,TRITUM,TRITUM_FLAG_W,HELIUM,HELIUM_FLAG_W,DELHE3,DELHE3_FLAG_W,TCARBN,TCARBN_FLAG_W,ALKALI,ALKALI_FLAG_W,PH,PH_FLAG_W,THETA
,,,,,,,,,,,,DBAR,ITS-90,PSS-78,,PSS-78,,UMOL/KG,,UMOL/KG,,UMOL/KG,,UMOL/KG,,UMOL/KG,,PMOL/KG,,PMOL/KG,,TU,,NMOL/KG,,PERCNT,,UMOL/KG,,UMOL/KG,,,,DEG C
 3230CITHER2_1,  A17C,    58,  1,     32,     32,2,19940125,1925,-35.7272, -44.7020, 4838,      7.2,  21.8090,  35.0530,2,  35.0540,2,    221.4,2,    222.3,2,     2.20,2,     0.25,2,     0.14,2,    2.304,2,    1.277,2, -999.000,9,-999.0000,9,  -999.00,9,   -999.0,9,   -999.0,9,     8.32,2, 21.8080
 3230CITHER2_1,  A17C,    58,  1,     31,     31,2,19940125,1925,-35.7272, -44.7020, 4838,     41.4,  21.5560,  36.3430,2,  36.0800,2,    218.5,2,    226.3,2,     1.20,2,     0.13,2,     0.08,2,    2.356,2,    1.291,2, -999.000,9,-999.0000,9,  -999.00,9,   -999.0,9,   -999.0,9,     8.33,2, 21.5480
 3230CITHER2_1,  A17C,    58,  1,     30,     30,2,19940125,1925,-35.7272, -44.7020, 4838,    101.6,  17.8850,  35.9210,2,  35.9240,2,    207.5,2,    215.5,2,     1.50,2,     1.50,2,     0.24,2,    2.609,2,    1.401,2, -999.000,9,-999.0000,9,  -999.00,9,   -999.0,9,   -999.0,9,     8.26,2, 17.8680
 3230CITHER2_1,  A17C,    58,  1,     29,     29,2,19940125,1925,-35.7272, -44.7020, 4838,    199.5,  16.3060,  35.8280,2,  35.8170,2,    207.9,2,    215.9,2,     1.40,2,     4.43,2,     0.39,2,    2.647,2,    1.415,2, -999.000,9,-999.0000,9,  -999.00,9,   -999.0,9,   -999.0,9,     8.23,2, 16.2740
 3230CITHER2_1,  A17C,    58,  1,     28,     28,2,19940125,1925,-35.7272, -44.7020, 4838,    303.1,  14.8590,  35.6470,2,  35.6440,2,    224.0,2,    229.0,2,     1.70,2,     6.24,2,     0.51,2,    2.736,2,    1.445,2, -999.000,9,-999.0000,9,  -999.00,9,   -999.0,9,   -999.0,9,     8.20,2, 14.8130
 3230CITHER2_1,  A17C,    58,  1,     27,     27,2,19940125,1925,-35.7272, -44.7020, 4838,    399.6,  12.4190,  35.1640,2,  35.1510,2,    211.4,2,    206.0,2,     3.60,2,    12.35,2,     0.89,2,    2.334,2,    1.214,2, -999.000,9,-999.0000,9,  -999.00,9,   -999.0,9,   -999.0,9,     8.11,2, 12.3650
 3230CITHER2_1,  A17C,    58,  1,     26,     26,2,19940125,1925,-35.7272, -44.7020, 4838,    501.4,  10.1230,  34.8580,2,  34.8400,2,    205.6,2,    205.4,2,     6.40,2,    17.52,2,     1.23,2,    2.044,2,    1.046,2, -999.000,9,-999.0000,9,  -999.00,9,   -999.0,9,   -999.0,9,     8.04,2, 10.0640
 3230CITHER2_1,  A17C,    58,  1,     25,     25,2,19940125,1925,-35.7272, -44.7020, 4838,    601.6,   6.1280,  34.2990,2,  34.2960,2,    252.1,2,    255.1,2,     7.80,2,    22.44,2,     1.59,2,    3.869,2,    1.876,2, -999.000,9,-999.0000,9,  -999.00,9,   -999.0,9,   -999.0,9,     7.99,2,  6.0750
 3230CITHER2_1,  A17C,    58,  1,     24,     24,2,19940125,1925,-35.7272, -44.7020, 4838,    701.2,   5.0330,  34.2140,2,  34.2190,2,    264.4,2,    270.5,2,    10.00,2,    24.18,2,     1.68,2,    4.174,2,    2.006,2, -999.000,9,-999.0000,9,  -999.00,9,   -999.0,9,   -999.0,9,     7.98,2,  4.9760
 3230CITHER2_1,  A17C,    58,  1,     23,     23,2,19940125,1925,-35.7272, -44.7020, 4838,    799.8,   4.5560,  34.2230,2,  34.2240,2,    258.8,2,    260.5,2,    14.10,2,    26.38,2,     1.81,2,    3.526,2,    1.694,2, -999.000,9,-999.0000,9,  -999.00,9,   -999.0,9,   -999.0,9,     7.96,2,  4.4940
 3230CITHER2_1,  A17C,    58,  1,     22,     22,2,19940125,1925,-35.7272, -44.7020, 4838,    900.1,   4.1320,  34.2340,2,  34.2310,2,    253.2,2,    252.6,2,    19.20,2,    28.11,2,     1.93,2,    2.885,2,    1.425,2, -999.000,9,-999.0000,9,  -999.00,9,   -999.0,9,   -999.0,9,     7.93,2,  4.0640
 3230CITHER2_1,  A17C,    58,  1,     21,     21,2,19940125,1925,-35.7272, -44.7020, 4838,   1001.7,   3.7100,  34.2280,2,  34.2310,2,    244.2,2,    244.8,2,    25.60,2,    29.62,2,     2.02,2,    2.736,2,    1.331,2, -999.000,9,-999.0000,9,  -999.00,9,   -999.0,9,   -999.0,9,     7.92,2,  3.6370
 3230CITHER2_1,  A17C,    58,  1,     20,     20,2,19940125,1925,-35.7272, -44.7020, 4838,   1301.5,   3.0430,  34.3820,2,  34.3780,2,    205.8,2,    206.4,2,    45.30,2,    32.85,2,     2.25,2,    0.697,2,    0.358,2, -999.000,9,-999.0000,9,  -999.00,9,   -999.0,9,   -999.0,9,     7.86,2,  2.9510
 3230CITHER2_1,  A17C,    58,  1,     19,     19,2,19940125,1925,-35.7272, -44.7020, 4838,   1601.0,   2.9110,  34.5670,2,  34.5650,2,    184.3,2,    185.5,2,    56.60,2,    32.65,2,     2.23,2,    0.231,2,    0.120,2, -999.000,9,-999.0000,9,  -999.00,9,   -999.0,9,   -999.0,9,     7.85,2,  2.7960
 3230CITHER2_1,  A17C,    58,  1,     18,     18,2,19940125,1925,-35.7272, -44.7020, 4838,   1799.2,   3.0930,  34.6970,2,  34.6940,2,    188.9,2,    192.5,2,    52.20,2,    30.19,2,     2.03,2,    0.094,2,    0.055,2, -999.000,9,-999.0000,9,  -999.00,9,   -999.0,9,   -999.0,9,     7.88,2,  2.9580
 3230CITHER2_1,  A17C,    58,  1,     16,     16,2,19940125,1925,-35.7272, -44.7020, 4838,   1999.9,   3.0770,  34.7750,2,  34.7790,2,    205.3,2,    203.5,2,    50.70,2,    28.36,2,     1.88,2,    0.058,2,    0.041,2, -999.000,9,-999.0000,9,  -999.00,9,   -999.0,9,   -999.0,9,     7.90,2,  2.9290
 3230CITHER2_1,  A17C,    58,  1,     15,     15,2,19940125,1925,-35.7272, -44.7020, 4838,   2000.3,   3.0820,  34.7730,2,  34.7730,2,    205.3,2,    202.1,2,    51.20,2,    28.38,2,     1.89,2,    0.065,2,    0.042,2, -999.000,9,-999.0000,9,  -999.00,9,   -999.0,9,   -999.0,9,     7.90,2,  2.9240
 3230CITHER2_1,  A17C,    58,  1,     14,     14,2,19940125,1925,-35.7272, -44.7020, 4838,   2200.1,   3.2450,  34.8650,2,  34.8640,2,    221.0,2,    227.1,2,    39.70,2,    24.37,2,     1.64,2,    0.029,2,    0.027,2, -999.000,9,-999.0000,9,  -999.00,9,   -999.0,9,   -999.0,9,     7.92,2,  3.0700
 3230CITHER2_1,  A17C,    58,  1,     13,     13,2,19940125,1925,-35.7272, -44.7020, 4838,   2397.4,   3.1000,  34.8840,2,  34.8850,2,    234.0,2,    231.5,2,    39.20,2,    23.43,2,     1.57,2,    0.027,2,    0.023,2, -999.000,9,-999.0000,9,  -999.00,9,   -999.0,9,   -999.0,9,     7.94,2,  2.9090
 3230CITHER2_1,  A17C,    58,  1,     12,     12,2,19940125,1925,-35.7272, -44.7020, 4838,   2599.0,   2.9980,  34.8960,2,  34.8930,2,    236.7,2,    236.5,2,    39.40,2,    22.96,2,     1.53,2,    0.022,2,    0.019,2, -999.000,9,-999.0000,9,  -999.00,9,   -999.0,9,   -999.0,9,     7.96,2,  2.7880
 3230CITHER2_1,  A17C,    58,  1,     11,     11,2,19940125,1925,-35.7272, -44.7020, 4838,   2798.4,   2.8010,  34.8910,2,  34.8870,2,    237.5,2,    237.2,2,    43.30,2,    22.70,2,     1.54,2,    0.035,2,    0.021,2, -999.000,9,-999.0000,9,  -999.00,9,   -999.0,9,   -999.0,9,     7.96,2,  2.5750
 3230CITHER2_1,  A17C,    58,  1,     10,     10,2,19940125,1925,-35.7272, -44.7020, 4838,   2999.3,   2.5720,  34.8760,2,  34.8750,2,    234.2,2,    235.9,2,    48.90,2,    23.58,2,     1.59,2,    0.033,2,    0.017,2, -999.000,9,-999.0000,9,  -999.00,9,   -999.0,9,   -999.0,9,     7.96,2,  2.3310
 3230CITHER2_1,  A17C,    58,  1,      9,      9,2,19940125,1925,-35.7272, -44.7020, 4838,   3298.8,   1.7650,  34.7740,2,  34.7710,2,    211.6,2,    209.8,2,    90.00,2,    29.31,2,     1.99,2,    0.048,2,    0.022,2, -999.000,9,-999.0000,9,  -999.00,9,   -999.0,9,   -999.0,9,     7.89,2,  1.5120
 3230CITHER2_1,  A17C,    58,  1,      8,      8,2,19940125,1925,-35.7272, -44.7020, 4838,   3597.9,   1.3080,  34.7410,2,  34.7390,2,    208.9,2,    209.7,2,   104.80,2,    30.73,2,     2.09,2,    0.086,2,    0.052,2, -999.000,9,-999.0000,9,  -999.00,9,   -999.0,9,   -999.0,9,     7.88,2,  1.0360
 3230CITHER2_1,  A17C,    58,  1,      7,      7,2,19940125,1925,-35.7272, -44.7020, 4838,   3796.2,   1.0210,  34.7190,2,  34.7190,2,    209.2,2,    210.2,2,   113.70,2,    31.89,2,     2.16,2,    0.098,2,    0.049,2, -999.000,9,-999.0000,9,  -999.00,9,   -999.0,9,   -999.0,9,     7.87,2,  0.7370
 3230CITHER2_1,  A17C,    58,  1,      6,      6,2,19940125,1925,-35.7272, -44.7020, 4838,   3997.7,   0.7650,  34.7030,2,  34.7000,2,    211.5,2,    212.8,2,   119.90,2,    32.47,2,     2.20,2,    0.120,2,    0.067,2, -999.000,9,-999.0000,9,  -999.00,9,   -999.0,9,   -999.0,9,     7.85,2,  0.4670
 3230CITHER2_1,  A17C,    58,  1,      5,      5,2,19940125,1925,-35.7272, -44.7020, 4838,   4195.6,   0.5330,  34.6910,2,  34.6880,2,    215.3,2,    216.3,2,   124.10,2,    32.91,2,     2.23,2,    0.119,2,    0.060,2, -999.000,9,-999.0000,9,  -999.00,9,   -999.0,9,   -999.0,9,     7.86,2,  0.2210
 3230CITHER2_1,  A17C,    58,  1,      4,      4,2,19940125,1925,-35.7272, -44.7020, 4838,   4397.8,   0.3650,  34.6810,2,  34.6810,2,    218.7,2,    219.6,2,   126.00,2,    32.90,2,     2.26,2,    0.118,2,    0.061,2, -999.000,9,-999.0000,9,  -999.00,9,   -999.0,9,   -999.0,9,     7.86,2,  0.0370
 3230CITHER2_1,  A17C,    58,  1,      3,      3,2,19940125,1925,-35.7272, -44.7020, 4838,   4598.5,   0.2800,  34.6780,2,  34.6750,2,    220.7,2,    221.8,2,   127.90,2,    33.26,2,     2.26,2,    0.130,2,    0.073,2, -999.000,9,-999.0000,9,  -999.00,9,   -999.0,9,   -999.0,9,     7.86,2, -0.0670
 3230CITHER2_1,  A17C,    58,  1,      2,      2,2,19940125,1925,-35.7272, -44.7020, 4838,   4798.6,   0.2360,  34.6750,2,  34.6730,2,    222.4,2,    222.4,2,   129.20,2,    33.32,2,     2.27,2,    0.135,2,    0.081,2, -999.000,9,-999.0000,9,  -999.00,9,   -999.0,9,   -999.0,9,     7.87,2, -0.1320
 3230CITHER2_1,  A17C,    58,  1,      1,      1,2,19940125,1925,-35.7272, -44.7020, 4838,   4910.3,   0.2390,  34.6730,2,  34.6890,2,    222.5,2,    222.6,2,   129.40,2,    33.28,2,     2.27,2,    0.139,2,    0.079,2, -999.000,9,-999.0000,9,  -999.00,9,   -999.0,9,   -999.0,9,     7.87,2, -0.1420
 3230CITHER2_1,  A17C,    59,  1,     12,     12,2,19940126,1414,-36.0062, -44.2418, 4886,   2603.1,   3.0260,  34.8920,2,  34.8900,2,    239.6,2,    235.1,2,    39.40,2,    23.06,2,     1.55,2,    0.026,2,    0.019,2, -999.000,9,-999.0000,9,  -999.00,9,   -999.0,9,   -999.0,9,     7.96,2,  2.8160
 3230CITHER2_1,  A17C,    59,  1,     11,     11,2,19940126,1414,-36.0062, -44.2418, 4886,   2800.7,   2.7610,  34.8720,2,  34.8730,2,    237.2,2,    232.0,2,    46.70,2,    23.76,2,     1.60,2,    0.024,2,    0.012,2, -999.000,9,-999.0000,9,  -999.00,9,   -999.0,9,   -999.0,9,     7.96,2,  2.5360
 3230CITHER2_1,  A17C,    59,  1,     10,     10,2,19940126,1414,-36.0062, -44.2418, 4886,   3001.4,   2.5580,  34.8630,2,  34.8620,2,    230.6,2,    232.8,2,    51.90,2,    24.06,2,     1.64,2,    0.019,2,    0.023,2, -999.000,9,-999.0000,9,  -999.00,9,   -999.0,9,   -999.0,9,     7.95,2,  2.3170
 3230CITHER2_1,  A17C,    59,  1,      9,      9,2,19940126,1414,-36.0062, -44.2418, 4886,   3298.4,   2.0230,  34.8150,2,  34.8140,2,    219.4,2,    221.8,2,    72.60,2,    26.66,2,     1.81,2,    0.032,2,    0.015,2, -999.000,9,-999.0000,9,  -999.00,9,   -999.0,9,   -999.0,9,     7.92,2,  1.7640
 3230CITHER2_1,  A17C,    59,  1,      8,      8,2,19940126,1414,-36.0062, -44.2418, 4886,   3600.4,   1.3450,  34.7510,2,  34.7500,2,    210.5,2,    213.9,2,    99.70,2,    30.02,2,     2.06,2,    0.105,2,    0.078,2, -999.000,9,-999.0000,9,  -999.00,9,   -999.0,9,   -999.0,9,     7.88,2,  1.0720
 3230CITHER2_1,  A17C,    59,  1,      7,      7,2,19940126,1414,-36.0062, -44.2418, 4886,   3798.4,   0.9680,  34.7140,2,  34.7230,2,    212.2,2,    212.1,2,   112.00,2,    31.44,2,     2.16,2,    0.117,2,    0.061,2, -999.000,9,-999.0000,9,  -999.00,9,   -999.0,9,   -999.0,9,     7.87,2,  0.6850
 3230CITHER2_1,  A17C,    59,  1,      6,      6,2,19940126,1414,-36.0062, -44.2418, 4886,   3998.5,   0.6860,  34.6970,2,  34.7000,2,    212.7,2,    213.7,2,   118.90,2,    32.53,2,     2.22,2,    0.123,2,    0.072,2, -999.000,9,-999.0000,9,  -999.00,9,   -999.0,9,   -999.0,9,     7.87,2,  0.3900
 3230CITHER2_1,  A17C,    59,  1,      5,      5,2,19940126,1414,-36.0062, -44.2418, 4886,   4195.9,   0.4740,  34.6860,2,  34.6850,2,    216.4,2,    217.3,2,   123.20,2,    32.76,2,     2.24,2,    0.118,2,    0.070,2, -999.000,9,-999.0000,9,  -999.00,9,   -999.0,9,   -999.0,9,     7.86,2,  0.1640
 3230CITHER2_1,  A17C,    59,  1,      4,      4,2,19940126,1414,-36.0062, -44.2418, 4886,   4399.2,   0.3180,  34.6790,2,  34.6790,2,    220.6,2,    220.5,2,   126.00,2,    32.77,2,     2.26,2,    0.116,2,    0.055,2, -999.000,9,-999.0000,9,  -999.00,9,   -999.0,9,   -999.0,9,     7.85,2, -0.0090
 3230CITHER2_1,  A17C,    59,  1,      3,      3,2,19940126,1414,-36.0062, -44.2418, 4886,   4598.4,   0.2420,  34.6740,2,  34.6760,2,    223.4,2,    222.3,2,   127.40,2,    32.89,2,     2.26,2,    0.136,2,    0.074,2, -999.000,9,-999.0000,9,  -999.00,9,   -999.0,9,   -999.0,9,     7.86,2, -0.1040
 3230CITHER2_1,  A17C,    59,  1,      2,      2,2,19940126,1414,-36.0062, -44.2418, 4886,   4800.1,   0.2060,  34.6700,2,  34.6750,2,    223.1,2,    221.8,2,   127.50,2,    33.01,2,     2.27,2,    0.156,2,    0.083,2, -999.000,9,-999.0000,9,  -999.00,9,   -999.0,9,   -999.0,9,     7.85,2, -0.1610
 3230CITHER2_1,  A17C,    59,  1,      1,      1,2,19940126,1414,-36.0062, -44.2418, 4886,   4954.6,   0.2170,  34.6710,2,  34.6720,2,    223.4,2,    222.3,2,   129.50,2,    33.24,2,     2.29,2,    0.156,2,    0.088,2, -999.000,9,-999.0000,9,  -999.00,9,   -999.0,9,   -999.0,9,     7.84,2, -0.1680