BOTTLE,20030515WHPSIOSA
EXPOCODE,SECT_ID,STNNBR,CASTNO,SAMPNO,BTLNBR,BTLNBR_FLAG_W,DATE,TIME,LATITUDE,LONGITUDE,DEPTH,CTDPRS,CTDTMP,CTDSAL,CTDSAL_FLAG_W,SALNTY,SALNTY_FLAG_W,CTDOXY,CTDOXY_FLAG_W,OXYGEN,OXYGEN_FLAG_W,SILCAT,SILCAT_FLAG_W,NITRAT,NITRAT_FLAG_W,PHSPHT,PHSPHT_FLAG_W,CFC-11,CFC-11_FLAG_W,CFC-12,CFC-12_FLAG_W,TRITUM,TRITUM_FLAG_W,HELIUM,HELIUM_FLAG_W,DELHE3,DELHE3_FLAG_W,TCARBN,TCARBN_FLAG_W,ALKALI,ALKALI_FLAG_W,PH,PH_FLAG_W,THETA
,,,,,,,,,,,,DBAR,ITS-90,PSS-78,,PSS-78,,UMOL/KG,,UMOL/KG,,UMOL/KG,,UMOL/KG,,UMOL/KG,,PMOL/KG,,PMOL/KG,,TU,,NMOL/KG,,PERCNT,,UMOL/KG,,UMOL/KG,,,,DEG C
 3230CITHER2_1,  A17C,    50,  1,     27,     27,2,19940123,1757,-33.6025, -48.1557, 3358,      7.1,  23.2830,  36.2150,2,  36.2170,2,    213.9,2,    215.6,2,     1.30,2,     0.04,2,     0.05,2,    2.105,2,    1.179,2,    1.134,2,   1.6600,2,    -1.24,2,   2041.0,2,   2392.3,2,     8.35,2, 23.2820
 3230CITHER2_1,  A17C,    50,  1,     26,     26,2,19940123,1757,-33.6025, -48.1557, 3358,     50.0,  23.0710,  36.7740,2,  36.7500,2,    218.2,2,    222.2,2,     1.00,2,     0.04,2,     0.05,2,    2.162,2,    1.193,2,    1.076,2,   1.6900,2,    -1.61,2,   2058.7,2,   2420.6,2,     8.37,2, 23.0610
 3230CITHER2_1,  A17C,    50,  1,     25,     25,2,19940123,1757,-33.6025, -48.1557, 3358,     76.7,  21.4830,  36.6580,2,  36.6670,2,    219.6,2,    211.5,2,     1.00,2,     0.12,2,     0.08,2,    2.207,2,    1.227,2, -999.000,9,   1.7000,2,    -0.43,2,   2070.5,2,   2412.0,2,     8.33,2, 21.4680
 3230CITHER2_1,  A17C,    50,  1,     24,     24,2,19940123,1757,-33.6025, -48.1557, 3358,    100.1,  19.5080,  36.2720,2,  36.2850,2,    208.0,2,    203.1,2,     1.30,2,     1.82,2,     0.21,2,    2.371,2,    1.300,2, -999.000,9,   1.6700,2,    -0.73,2,   2077.7,2,   2390.5,2,     8.28,2, 19.4900
 3230CITHER2_1,  A17C,    50,  1,     23,     23,2,19940123,1757,-33.6025, -48.1557, 3358,    152.0,  17.7110,  36.0110,2,  36.0100,2,    215.2,2,    211.8,2,     1.50,2,     2.27,2,     0.27,2,    2.543,2,    1.369,2,    0.949,2,   1.7100,2,     1.02,2,   2081.1,2,   2375.9,2,     8.26,2, 17.6850
 3230CITHER2_1,  A17C,    50,  1,     22,     22,2,19940123,1757,-33.6025, -48.1557, 3358,    199.9,  17.0710,  35.9550,2,  35.9550,2,    213.4,2,    211.6,2,     1.70,2,     3.56,2,     0.34,2,    2.535,2,    1.341,2,    0.987,2,   1.6700,2,     0.78,2,   2086.0,2,   2372.9,2,     8.25,2, 17.0380
 3230CITHER2_1,  A17C,    50,  1,     21,     21,2,19940123,1757,-33.6025, -48.1557, 3358,    251.5,  16.0080,  35.7760,2,  35.7750,2,    218.4,2,    213.6,2,     2.00,2,     4.83,2,     0.44,2,    2.652,2,    1.411,2,    0.918,2,   1.7300,2,     1.12,2,   2090.8,2,   2363.0,2,     8.23,2, 15.9680
 3230CITHER2_1,  A17C,    50,  1,     20,     20,2,19940123,1757,-33.6025, -48.1557, 3358,    302.3,  14.7350,  35.5350,2,  35.5340,2,    220.2,2,    223.1,2,     2.30,2,     6.23,2,     0.53,2,    2.905,2,    1.519,2,    0.899,2,   1.7200,2,     0.39,2,   2091.4,2,   2351.2,2,     8.21,2, 14.6890
 3230CITHER2_1,  A17C,    50,  1,     19,     19,2,19940123,1757,-33.6025, -48.1557, 3358,    400.9,  12.7950,  35.2250,2,  35.2170,2,    215.8,2,    215.3,2,     3.50,2,    11.10,2,     0.82,2,    2.623,2,    1.364,2,    0.739,2,   1.7400,2,     3.26,2,   2106.9,2,   2333.4,2,     8.15,2, 12.7400
 3230CITHER2_1,  A17C,    50,  1,     18,     18,2,19940123,1757,-33.6025, -48.1557, 3358,    500.7,  10.1800,  34.8360,2,  34.8360,2,    217.0,2,    204.1,2,     6.80,2,    17.76,2,     1.24,2,    2.097,2,    1.080,2,    0.495,2,   1.7700,2,     1.81,2,   2130.5,2,   2314.9,2,     8.06,2, 10.1200
 3230CITHER2_1,  A17C,    50,  1,     17,     17,2,19940123,1757,-33.6025, -48.1557, 3358,    599.7,   7.3430,  34.4900,2,  34.4920,2,    223.7,2,    221.4,2,    10.30,2,    23.19,2,     1.60,2,    2.375,2,    1.177,2, -999.000,9,   1.7800,2,     1.35,2,   2145.0,2,   2302.3,2,     8.00,2,  7.2840
 3230CITHER2_1,  A17C,    50,  1,     16,     16,2,19940123,1757,-33.6025, -48.1557, 3358,    698.8,   5.5830,  34.3150,2,  34.3200,2,    242.3,2,    241.4,2,    13.20,2,    25.98,2,     1.77,2,    2.780,2,    1.359,2,    0.240,2,   1.7700,2,     0.14,2,   2151.2,2,   2297.0,2,     7.97,2,  5.5230
 3230CITHER2_1,  A17C,    50,  1,     15,     15,2,19940123,1757,-33.6025, -48.1557, 3358,    849.7,   4.2060,  34.2250,2,  34.2270,2,    259.3,2,    256.3,2,    18.20,2,    28.11,2,     1.91,2,    3.133,2,    1.503,2,    0.200,2,   1.8000,2,     1.73,2,   2159.0,2,   2299.4,2,     7.96,2,  4.1420
 3230CITHER2_1,  A17C,    50,  1,     14,     14,2,19940123,1757,-33.6025, -48.1557, 3358,    999.4,   3.7440,  34.2790,2,-999.0000,5,    233.7,2,    235.7,2,    28.30,2,    30.47,2,     1.99,2,    1.510,2,    0.765,2, -999.000,9,   1.8000,2,     2.37,2,   2181.1,2,   2308.0,2,     7.92,2,  3.6710
 3230CITHER2_1,  A17C,    50,  1,     13,     13,2,19940123,1757,-33.6025, -48.1557, 3358,   1199.9,   3.3090,  34.3760,2,  34.3750,2,    209.2,2,    203.0,2,    41.60,2,    33.31,2,     2.23,2,    0.496,2,    0.272,2, -999.000,9,-999.0000,9,  -999.00,9,   -999.0,9,   2320.7,2,     7.88,2,  3.2230
 3230CITHER2_1,  A17C,    50,  1,     12,     12,2,19940123,1757,-33.6025, -48.1557, 3358,   1400.3,   2.9860,  34.4660,2,  34.4670,2,    192.5,2,    191.8,2,    51.50,2,    33.54,2,     2.26,2,    0.383,2,    0.206,2,    0.003,2,   1.8100,2,     6.67,2,   -999.0,9,   2333.3,2,     7.86,2,  2.8870
 3230CITHER2_1,  A17C,    50,  1,     11,     11,2,19940123,1757,-33.6025, -48.1557, 3358,   1600.7,   3.1680,  34.6270,2,  34.6320,2,    190.8,2,    190.3,2,    50.30,2,    31.59,2,     2.11,2,    0.104,2,    0.062,2, -999.000,9,-999.0000,9,  -999.00,9,   -999.0,9,   2337.6,2,     7.88,2,  3.0500
 3230CITHER2_1,  A17C,    50,  1,     10,     10,2,19940123,1757,-33.6025, -48.1557, 3358,   1800.1,   3.3160,  34.7540,2,  34.7600,2,    201.6,2,    202.1,2,    44.30,2,    28.09,2,     1.90,2,    0.048,2,    0.042,2, -999.000,9,   1.8100,2,     4.11,2,   -999.0,9,   2339.1,2,     7.91,2,  3.1780
 3230CITHER2_1,  A17C,    50,  1,      8,      8,2,19940123,1757,-33.6025, -48.1557, 3358,   2000.7,   3.4400,  34.8570,2,  34.8580,2,    220.8,2,    220.6,2,    36.00,2,    24.78,2,     1.67,2,    0.030,2,    0.026,2, -999.000,9,-999.0000,9,  -999.00,9,   -999.0,9,   2338.0,2,     7.95,2,  3.2810
 3230CITHER2_1,  A17C,    50,  1,      9,      9,2,19940123,1757,-33.6025, -48.1557, 3358,   2001.3,   3.4450,  34.8580,2,  34.8570,2,    220.8,2,    220.6,2,    36.00,2,    24.81,2,     1.67,2,    0.026,2,    0.026,2, -999.000,9,-999.0000,9,  -999.00,9,   -999.0,9,   2338.0,2,     7.95,2,  3.2860
 3230CITHER2_1,  A17C,    50,  1,      7,      7,2,19940123,1757,-33.6025, -48.1557, 3358,   2198.2,   3.3570,  34.8940,2,  34.9040,2,    234.7,2,    230.7,2,    33.80,2,    22.99,2,     1.56,2,    0.043,2,    0.035,2, -999.000,9,   1.7400,2,     2.85,2,   -999.0,9,   2337.9,2,     7.97,2,  3.1800
 3230CITHER2_1,  A17C,    50,  1,      6,      6,2,19940123,1757,-33.6025, -48.1557, 3358,   2400.4,   3.2360,  34.9210,2,  34.9210,2,    246.5,2,    242.1,2,    31.00,2,    22.07,2,     1.47,2,    0.015,2,    0.024,2, -999.000,9,-999.0000,9,  -999.00,9,   -999.0,9,   2333.4,2,     7.99,2,  3.0420
 3230CITHER2_1,  A17C,    50,  1,      5,      5,2,19940123,1757,-33.6025, -48.1557, 3358,   2599.0,   3.0280,  34.9190,2,  34.9160,2,    251.3,2,    244.0,2,    30.40,2,    21.93,2,     1.47,2,    0.011,2,    0.023,2, -999.000,9,   1.8100,2,     4.15,2,   -999.0,9,   2337.4,2,     7.99,2,  2.8180
 3230CITHER2_1,  A17C,    50,  1,      4,      4,2,19940123,1757,-33.6025, -48.1557, 3358,   2799.9,   2.8940,  34.9240,2,  34.9220,2,    252.6,2,    249.5,2,    33.20,2,    21.34,2,     1.42,2,    0.006,2,    0.021,2, -999.000,9,-999.0000,9,  -999.00,9,   -999.0,9,   2340.2,2,     8.00,2,  2.6660
 3230CITHER2_1,  A17C,    50,  1,      3,      3,2,19940123,1757,-33.6025, -48.1557, 3358,   2998.2,   2.2550,  34.8490,2,  34.8510,2,    237.6,2,    233.6,2,    58.10,2,    25.05,2,     1.69,2,    0.021,2,    0.024,2, -999.000,9,   1.8200,2,     4.99,2,   -999.0,9,   2351.8,2,     7.96,2,  2.0210
 3230CITHER2_1,  A17C,    50,  1,      2,      2,2,19940123,1757,-33.6025, -48.1557, 3358,   3199.6,   1.3800,  34.7560,2,  34.7560,2,    218.0,2,    214.7,2,    97.90,2,    30.07,2,     2.06,2,    0.062,2,    0.038,2, -999.000,9,-999.0000,9,  -999.00,9,   -999.0,9,   2365.6,2,     7.90,2,  1.1460
 3230CITHER2_1,  A17C,    50,  1,      1,      1,2,19940123,1757,-33.6025, -48.1557, 3358,   3364.7,   0.5060,  34.6920,2,  34.6950,2,    214.1,2,    216.3,2,   121.80,2,    32.76,2,     2.25,2,    0.110,2,    0.069,2, -999.000,9,   1.8200,2,     7.44,2,   -999.0,9,   2373.9,2,     7.87,2,  0.2780
 3230CITHER2_1,  A17C,    51,  1,     30,     30,2,19940123,2230,-33.8053, -47.8508, 3779,      6.6,  21.9230,  35.5220,2,  35.5260,2,    219.7,2,    223.7,2,     1.50,2,     0.21,2,     0.09,2,    2.276,2,    1.256,2, -999.000,9,-999.0000,9,  -999.00,9,   2025.1,2,   2355.1,2,     8.34,2, 21.9220
 3230CITHER2_1,  A17C,    51,  1,     29,     29,2,19940123,2230,-33.8053, -47.8508, 3779,     25.5,  21.8410,  35.5330,2,  35.5290,2,    224.2,2,    223.6,2,     1.40,2,     0.12,2,     0.09,2,    2.279,2,    1.267,2, -999.000,9,-999.0000,9,  -999.00,9,   2024.6,2,   2357.4,2,     8.34,2, 21.8360
 3230CITHER2_1,  A17C,    51,  1,     28,     28,2,19940123,2230,-33.8053, -47.8508, 3779,     76.6,  16.6330,  35.5210,2,  35.5220,2,    245.5,2,    242.9,2,     1.30,2,     0.12,2,     0.21,2,    2.890,2,    1.539,2, -999.000,9,-999.0000,9,  -999.00,9,   2059.4,2,   2352.8,2,     8.27,2, 16.6210
 3230CITHER2_1,  A17C,    51,  1,     27,     27,2,19940123,2230,-33.8053, -47.8508, 3779,    102.1,  15.3610,  35.5100,2,  35.5130,2,    224.1,2,    228.7,2,     1.70,2,     3.33,2,     0.42,2,    2.958,2,    1.557,2, -999.000,9,-999.0000,9,  -999.00,9,   2083.1,2,   2352.1,2,     8.23,2, 15.3450
 3230CITHER2_1,  A17C,    51,  1,     26,     26,2,19940123,2230,-33.8053, -47.8508, 3779,    152.2,  14.0140,  35.4500,2,  35.4530,2,    224.1,2,    225.1,2,     2.30,2,     7.62,2,     0.61,2,    2.933,2,    1.531,2, -999.000,9,-999.0000,9,  -999.00,9,   2097.6,2,   2346.4,2,     8.19,2, 13.9920
 3230CITHER2_1,  A17C,    51,  1,     25,     25,2,19940123,2230,-33.8053, -47.8508, 3779,    201.8,  13.4190,  35.3660,2,  35.3650,2,    225.5,2,    227.0,2,     2.50,2,     8.70,2,     0.67,2,    2.978,2,    1.536,2, -999.000,9,-999.0000,9,  -999.00,9,   2099.3,2,   2341.8,2,     8.18,2, 13.3910
 3230CITHER2_1,  A17C,    51,  1,     24,     24,2,19940123,2230,-33.8053, -47.8508, 3779,    249.8,  12.6670,  35.2270,2,  35.2230,2,    228.8,2,    229.9,2,     2.80,2,    10.12,2,     0.76,2,    3.031,2,    1.565,2, -999.000,9,-999.0000,9,  -999.00,9,   2102.6,2,   2335.5,2,     8.16,2, 12.6330
 3230CITHER2_1,  A17C,    51,  1,     23,     23,2,19940123,2230,-33.8053, -47.8508, 3779,    299.9,  11.2490,  34.9800,2,  34.9720,2,    225.2,2,    225.7,2,     3.70,2,    13.54,2,     0.97,2,    2.980,2,    1.505,2, -999.000,9,-999.0000,9,  -999.00,9,   2102.1,2,   2321.8,2,     8.12,2, 11.2110
 3230CITHER2_1,  A17C,    51,  1,     22,     22,2,19940123,2230,-33.8053, -47.8508, 3779,    398.4,   8.4790,  34.5900,2,  34.5860,2,    211.5,2,    219.6,2,     7.40,2,    20.37,2,     1.42,2,    2.658,2,    1.335,2, -999.000,9,-999.0000,9,  -999.00,9,   2127.2,2,   2303.4,2,     8.03,2,  8.4370
 3230CITHER2_1,  A17C,    51,  1,     21,     21,2,19940123,2230,-33.8053, -47.8508, 3779,    501.2,   6.5030,  34.3770,2,  34.3820,2,    233.5,2,    236.6,2,    10.00,2,    23.54,2,     1.65,2,    2.982,2,    1.463,2, -999.000,9,-999.0000,9,  -999.00,9,   2143.7,2,   2297.3,2,     7.99,2,  6.4570
 3230CITHER2_1,  A17C,    51,  1,     20,     20,2,19940123,2230,-33.8053, -47.8508, 3779,    602.4,   5.3450,  34.2870,2,  34.2920,2,    250.0,2,    248.9,2,    12.70,2,    25.42,2,     1.77,2,    3.053,2,    1.495,2, -999.000,9,-999.0000,9,  -999.00,9,   2149.1,2,   2294.9,2,     7.98,2,  5.2950
 3230CITHER2_1,  A17C,    51,  1,     18,     18,2,19940123,2230,-33.8053, -47.8508, 3779,    801.1,   4.2610,  34.2580,2,  34.2620,2,    242.2,2,    243.1,2,    20.60,2,    29.05,2,     1.96,2,    2.288,2,    1.110,2, -999.000,9,-999.0000,9,  -999.00,9,   2167.8,2,   2302.1,2,     7.94,2,  4.2000
 3230CITHER2_1,  A17C,    51,  1,     17,     17,2,19940123,2230,-33.8053, -47.8508, 3779,    898.1,   3.8830,  34.2810,2,  34.2840,2,    231.3,2,    229.2,2,    27.20,2,    30.61,2,     2.07,2,    1.509,2,    0.756,2, -999.000,9,-999.0000,9,  -999.00,9,   2182.3,2,   2306.2,2,     7.92,2,  3.8170
 3230CITHER2_1,  A17C,    51,  1,     16,     16,2,19940123,2230,-33.8053, -47.8508, 3779,    999.7,   3.5100,  34.3100,2,  34.3130,2,    220.1,2,    218.5,2,    34.10,2,    31.96,2,     2.16,2,    1.050,2,    0.529,2, -999.000,9,-999.0000,9,  -999.00,9,   2196.3,2,   2311.9,2,     7.90,2,  3.4380
 3230CITHER2_1,  A17C,    51,  1,     15,     15,2,19940123,2230,-33.8053, -47.8508, 3779,   1201.2,   3.1540,  34.4070,2,  34.4100,2,    198.4,2,    198.5,2,    45.80,2,    32.94,2,     2.26,2,    0.456,2,    0.244,2, -999.000,9,-999.0000,9,  -999.00,9,   2217.2,2,   2324.5,2,     7.87,2,  3.0690
 3230CITHER2_1,  A17C,    51,  1,     14,     14,2,19940123,2230,-33.8053, -47.8508, 3779,   1399.6,   2.9120,  34.5090,2,  34.5160,2,    187.2,2,    189.1,2,    54.50,2,    33.20,2,     2.26,2,    0.296,2,    0.156,2, -999.000,9,-999.0000,9,  -999.00,9,   2231.1,2,   2336.9,2,     7.86,2,  2.8140
 3230CITHER2_1,  A17C,    51,  1,     13,     13,2,19940123,2230,-33.8053, -47.8508, 3779,   1600.7,   2.9980,  34.6430,2,  34.6430,2,    186.2,2,    188.4,2,    55.40,2,    31.78,2,     2.13,2,    0.134,2,    0.075,2, -999.000,9,-999.0000,9,  -999.00,9,   2230.8,2,   2339.1,2,     7.87,2,  2.8820
 3230CITHER2_1,  A17C,    51,  1,     12,     12,2,19940123,2230,-33.8053, -47.8508, 3779,   1800.5,   3.2880,  34.7850,2,  34.7880,2,    203.7,2,    206.1,2,    44.10,2,    27.76,2,     1.84,2,    0.055,2,    0.033,2, -999.000,9,-999.0000,9,  -999.00,9,   2210.6,2,   2338.4,2,     7.92,2,  3.1500
 3230CITHER2_1,  A17C,    51,  1,     11,     11,2,19940123,2230,-33.8053, -47.8508, 3779,   1999.6,   3.4410,  34.8750,2,  34.8790,2,    224.4,2,    225.8,2,    34.30,2,    24.03,2,     1.61,2,    0.025,2,    0.028,2, -999.000,9,-999.0000,9,  -999.00,9,   2193.0,2,   2335.7,2,     7.96,2,  3.2820
 3230CITHER2_1,  A17C,    51,  1,      9,      9,2,19940123,2230,-33.8053, -47.8508, 3779,   2198.0,   3.4870,  34.9310,2,  34.9360,2,    240.7,2,    242.3,2,    26.30,2,    21.64,2,     1.43,2,    0.023,2,    0.023,2, -999.000,9,-999.0000,9,  -999.00,9,   2177.3,2,   2334.1,2,     7.99,2,  3.3080
 3230CITHER2_1,  A17C,    51,  1,     10,     10,2,19940123,2230,-33.8053, -47.8508, 3779,   2199.8,   3.4850,  34.9310,2,  34.9350,2,    240.9,2,    243.6,2,    26.40,2,    21.68,2,     1.43,2,    0.022,2,    0.025,2, -999.000,9,-999.0000,9,  -999.00,9,   -999.0,5,   2334.1,2,     7.99,2,  3.3060
 3230CITHER2_1,  A17C,    51,  1,      8,      8,2,19940123,2230,-33.8053, -47.8508, 3779,   2401.2,   3.2650,  34.9240,2,  34.9300,2,    242.2,2,    244.3,2,    29.40,2,    21.68,2,     1.43,2,    0.014,2,    0.024,2, -999.000,9,-999.0000,9,  -999.00,9,   2179.4,2,   2335.9,2,     7.99,2,  3.0700
 3230CITHER2_1,  A17C,    51,  1,      7,      7,2,19940123,2230,-33.8053, -47.8508, 3779,   2600.1,   3.1290,  34.9310,2,  34.9360,2,    250.0,2,    248.4,2,    29.10,2,    21.39,2,     1.39,2,    0.019,2,    0.018,2, -999.000,9,-999.0000,9,  -999.00,9,   2177.4,2,   2335.8,2,     8.00,2,  2.9170
 3230CITHER2_1,  A17C,    51,  1,      6,      6,2,19940123,2230,-33.8053, -47.8508, 3779,   2800.4,   2.8350,  34.9020,2,  34.9070,2,    243.7,2,    241.9,2,    38.80,2,    22.58,2,     1.49,2,    0.012,2,    0.014,2, -999.000,9,-999.0000,9,  -999.00,9,   2188.5,2,   2342.8,2,     7.98,2,  2.6080
 3230CITHER2_1,  A17C,    51,  1,      5,      5,2,19940123,2230,-33.8053, -47.8508, 3779,   2999.9,   2.6390,  34.9000,2,  34.8980,2,    249.1,2,    245.2,2,    41.50,2,    22.52,2,     1.48,2,    0.009,2,    0.016,2, -999.000,9,-999.0000,9,  -999.00,9,   2188.8,3,   2344.7,2,     7.99,2,  2.3960
 3230CITHER2_1,  A17C,    51,  1,      4,      4,2,19940123,2230,-33.8053, -47.8508, 3779,   3197.1,   1.8400,  34.7850,2,  34.7870,2,    219.7,2,    214.4,2,    84.40,2,    28.88,2,     1.92,2,    0.031,2,    0.021,2, -999.000,9,-999.0000,9,  -999.00,9,   2234.8,2,   2361.1,2,     7.91,2,  1.5960
 3230CITHER2_1,  A17C,    51,  1,      3,      3,2,19940123,2230,-33.8053, -47.8508, 3779,   3399.8,   1.4570,  34.7680,2,  34.7670,2,    219.8,2,    218.8,2,    93.70,2,    29.65,2,     1.98,2,    0.039,2,    0.027,2, -999.000,9,-999.0000,9,  -999.00,9,   2239.9,2,   2365.1,2,     7.91,2,  1.2020
 3230CITHER2_1,  A17C,    51,  1,      2,      2,2,19940123,2230,-33.8053, -47.8508, 3779,   3595.5,   0.9010,  34.7130,2,  34.7180,2,    212.8,2,    212.7,2,   114.60,2,    32.40,2,     2.17,2,    0.090,2,    0.056,2, -999.000,9,-999.0000,9,  -999.00,9,   2257.7,2,   2372.9,2,     7.88,2,  0.6400
 3230CITHER2_1,  A17C,    51,  1,      1,      1,2,19940123,2230,-33.8053, -47.8508, 3779,   3787.9,   0.3180,  34.6810,2,  34.6820,2,    215.7,2,    218.7,2,   126.50,2,    33.55,2,     2.27,2,    0.130,2,    0.069,2, -999.000,9,-999.0000,9,  -999.00,9,   2264.8,2,   2378.2,2,     7.87,2,  0.0540