BOTTLE,20030515WHPSIOSA
EXPOCODE,SECT_ID,STNNBR,CASTNO,SAMPNO,BTLNBR,BTLNBR_FLAG_W,DATE,TIME,LATITUDE,LONGITUDE,DEPTH,CTDPRS,CTDTMP,CTDSAL,CTDSAL_FLAG_W,SALNTY,SALNTY_FLAG_W,CTDOXY,CTDOXY_FLAG_W,OXYGEN,OXYGEN_FLAG_W,SILCAT,SILCAT_FLAG_W,NITRAT,NITRAT_FLAG_W,PHSPHT,PHSPHT_FLAG_W,CFC-11,CFC-11_FLAG_W,CFC-12,CFC-12_FLAG_W,TRITUM,TRITUM_FLAG_W,HELIUM,HELIUM_FLAG_W,DELHE3,DELHE3_FLAG_W,TCARBN,TCARBN_FLAG_W,ALKALI,ALKALI_FLAG_W,PH,PH_FLAG_W,THETA
,,,,,,,,,,,,DBAR,ITS-90,PSS-78,,PSS-78,,UMOL/KG,,UMOL/KG,,UMOL/KG,,UMOL/KG,,UMOL/KG,,PMOL/KG,,PMOL/KG,,TU,,NMOL/KG,,PERCNT,,UMOL/KG,,UMOL/KG,,,,DEG C
 3230CITHER2_2,  A17N,   203,  1,     32,     32,2,19940312,1501,  8.0010, -45.5208, 4537,      2.7,  26.5790,  36.1230,2,  36.1220,2,    208.0,2,    201.1,2,     1.80,2,     0.04,2,     0.07,2,    1.747,2,    0.972,2, -999.000,9,-999.0000,9,  -999.00,9,   -999.0,9,   -999.0,9,     8.38,2, 26.5780
 3230CITHER2_2,  A17N,   203,  1,     31,     31,2,19940312,1501,  8.0010, -45.5208, 4537,     69.8,  26.5990,  36.2870,2,  36.2880,2,    218.3,2,    200.5,2,     1.80,2,     0.04,2,     0.07,2,    1.722,2,    0.960,2, -999.000,9,-999.0000,9,  -999.00,9,   -999.0,9,   -999.0,9,     8.37,2, 26.5830
 3230CITHER2_2,  A17N,   203,  1,     30,     30,2,19940312,1501,  8.0010, -45.5208, 4537,    126.5,  17.2220,  36.1110,2,  36.0630,2,    132.9,2,    117.8,2,     6.20,2,    16.59,2,     0.98,2,    1.426,2,    0.760,2, -999.000,9,-999.0000,9,  -999.00,9,   -999.0,9,   -999.0,9,     8.09,2, 17.2010
 3230CITHER2_2,  A17N,   203,  1,     29,     29,2,19940312,1501,  8.0010, -45.5208, 4537,    200.8,  11.2560,  35.1960,2,  35.1880,2,    108.0,2,    107.1,2,    11.90,2,    26.37,2,     1.67,2,    0.746,2,    0.404,2, -999.000,9,-999.0000,9,  -999.00,9,   -999.0,9,   -999.0,9,     7.93,2, 11.2310
 3230CITHER2_2,  A17N,   203,  1,     28,     28,2,19940312,1501,  8.0010, -45.5208, 4537,    300.7,   9.6020,  34.9590,2,  34.9540,2,    106.9,2,    107.5,2,    14.80,2,    29.65,2,     1.87,2,    0.479,2,    0.264,2, -999.000,9,-999.0000,9,  -999.00,9,   -999.0,9,   -999.0,9,     7.89,2,  9.5680
 3230CITHER2_2,  A17N,   203,  1,     27,     27,2,19940312,1501,  8.0010, -45.5208, 4537,    401.2,   7.9580,  34.7220,2,  34.7180,2,    134.1,2,    142.5,2,    17.80,2,    30.13,2,     1.96,2,    0.504,2,    0.272,2, -999.000,9,-999.0000,9,  -999.00,9,   -999.0,9,   -999.0,9,     7.89,2,  7.9170
 3230CITHER2_2,  A17N,   203,  1,     26,     26,2,19940312,1501,  8.0010, -45.5208, 4537,    500.5,   7.6050,  34.7320,2,  34.7250,2,    136.4,2,    122.4,2,    19.80,2,    32.76,2,     2.08,2,    0.273,2,    0.151,2, -999.000,9,-999.0000,9,  -999.00,9,   -999.0,9,   -999.0,9,     7.86,2,  7.5550
 3230CITHER2_2,  A17N,   203,  1,     25,     25,2,19940312,1501,  8.0010, -45.5208, 4537,    600.6,   6.7800,  34.6820,2,  34.6790,2,    122.0,2,    121.9,2,    22.90,2,    34.50,2,     2.21,2,    0.150,2,    0.086,2, -999.000,9,-999.0000,9,  -999.00,9,   -999.0,9,   -999.0,9,     7.84,2,  6.7230
 3230CITHER2_2,  A17N,   203,  1,     24,     24,2,19940312,1501,  8.0010, -45.5208, 4537,    801.4,   5.6020,  34.6350,2,  34.6370,2,    127.6,2,    128.2,2,    28.00,2,    35.90,2,     2.33,2,    0.024,2,    0.018,2, -999.000,9,-999.0000,9,  -999.00,9,   -999.0,9,   -999.0,9,     7.83,2,  5.5330
 3230CITHER2_2,  A17N,   203,  1,     23,     23,2,19940312,1501,  8.0010, -45.5208, 4537,   1001.4,   5.1770,  34.7390,2,  34.7370,2,    140.7,2,    140.2,2,    28.30,2,    33.63,2,     2.21,2,    0.003,2,    0.003,2, -999.000,9,-999.0000,9,  -999.00,9,   -999.0,9,   -999.0,9,     7.85,2,  5.0920
 3230CITHER2_2,  A17N,   203,  1,     22,     22,2,19940312,1501,  8.0010, -45.5208, 4537,   1200.3,   4.9360,  34.8750,2,  34.8740,2,    174.9,2,    175.3,2,    24.20,2,    28.63,2,     1.87,2,    0.020,2,    0.014,2, -999.000,9,-999.0000,9,  -999.00,9,   -999.0,9,   -999.0,9,     7.91,2,  4.8340
 3230CITHER2_2,  A17N,   203,  1,     21,     21,2,19940312,1501,  8.0010, -45.5208, 4537,   1400.2,   4.6970,  34.9740,2,  34.9720,2,    212.7,2,    213.3,2,    19.50,2,    23.40,2,     1.53,2,    0.082,2,    0.055,2, -999.000,9,-999.0000,9,  -999.00,9,   -999.0,9,   -999.0,9,     7.97,2,  4.5780
 3230CITHER2_2,  A17N,   203,  1,     20,     20,2,19940312,1501,  8.0010, -45.5208, 4537,   1500.4,   4.4950,  34.9970,2,  34.9950,2,    230.5,2,    230.9,2,    17.70,2,    21.72,2,     1.40,2,    0.174,2,    0.156,2, -999.000,9,-999.0000,9,  -999.00,9,   -999.0,9,   -999.0,9,     7.99,2,  4.3690
 3230CITHER2_2,  A17N,   203,  1,     19,     19,2,19940312,1501,  8.0010, -45.5208, 4537,   1601.2,   4.2180,  34.9910,2,  34.9890,2,    238.6,2,    238.5,2,    17.90,2,    21.23,2,     1.36,2,    0.074,2,    0.047,2, -999.000,9,-999.0000,9,  -999.00,9,   -999.0,9,   -999.0,9,     8.00,2,  4.0860
 3230CITHER2_2,  A17N,   203,  1,     18,     18,2,19940312,1501,  8.0010, -45.5208, 4537,   1702.0,   4.0370,  34.9900,2,  34.9900,2,    246.0,2,    245.7,2,    17.80,2,    20.69,2,     1.32,2,    0.081,2,    0.052,2, -999.000,9,-999.0000,9,  -999.00,9,   -999.0,9,   -999.0,9,     8.01,2,  3.8980
 3230CITHER2_2,  A17N,   203,  1,     17,     17,2,19940312,1501,  8.0010, -45.5208, 4537,   1801.8,   3.8800,  34.9830,2,  34.9840,2,    248.5,2,    247.2,2,    18.80,2,    20.70,2,     1.32,2,    0.042,2,    0.033,2, -999.000,9,-999.0000,9,  -999.00,9,   -999.0,9,   -999.0,9,     8.01,2,  3.7330
 3230CITHER2_2,  A17N,   203,  1,     16,     16,2,19940312,1501,  8.0010, -45.5208, 4537,   1999.1,   3.5920,  34.9730,2,  34.9670,2,    251.5,2,    250.5,2,    21.10,2,    20.61,2,     1.32,2,    0.021,2,    0.020,2, -999.000,9,-999.0000,9,  -999.00,9,   -999.0,9,   -999.0,9,     8.01,2,  3.4310
 3230CITHER2_2,  A17N,   203,  1,     15,     15,2,19940312,1501,  8.0010, -45.5208, 4537,   2200.5,   3.3480,  34.9640,2,  34.9630,2,    253.0,2,    252.7,2,    23.50,2,    20.67,2,     1.32,2,    0.013,2,    0.011,2, -999.000,9,-999.0000,9,  -999.00,9,   -999.0,9,   -999.0,9,     8.01,2,  3.1710
 3230CITHER2_2,  A17N,   203,  1,     14,     14,2,19940312,1501,  8.0010, -45.5208, 4537,   2398.4,   3.1970,  34.9600,2,  34.9600,2,    256.9,2,    257.8,2,    22.90,2,    19.81,2,     1.29,2,    0.041,2,    0.025,2, -999.000,9,-999.0000,9,  -999.00,9,   -999.0,9,   -999.0,9,     8.02,2,  3.0030
 3230CITHER2_2,  A17N,   203,  1,     13,     13,2,19940312,1501,  8.0010, -45.5208, 4537,   2698.9,   3.0050,  34.9500,2,  34.9460,2,    259.8,2,    259.7,2,    24.10,2,    19.59,2,     1.29,2,    0.059,2,    0.035,2, -999.000,9,-999.0000,9,  -999.00,9,   -999.0,9,   -999.0,9,     8.02,2,  2.7850
 3230CITHER2_2,  A17N,   203,  1,     12,     12,2,19940312,1501,  8.0010, -45.5208, 4537,   2999.3,   2.7480,  34.9330,2,  34.9320,2,    258.5,2,    258.6,2,    28.90,2,    20.13,2,     1.31,2,    0.048,2,    0.029,2, -999.000,9,-999.0000,9,  -999.00,9,   -999.0,9,   -999.0,9,     8.02,2,  2.5000
 3230CITHER2_2,  A17N,   203,  1,     11,     11,2,19940312,1501,  8.0010, -45.5208, 4537,   3000.0,   2.7450,  34.9340,2,  34.9300,2,    258.5,2,    258.8,2,    28.90,2,    20.20,2,     1.31,2,    0.047,2,    0.029,2, -999.000,9,-999.0000,9,  -999.00,9,   -999.0,9,   -999.0,9,     8.02,2,  2.5030
 3230CITHER2_2,  A17N,   203,  1,     10,     10,2,19940312,1501,  8.0010, -45.5208, 4537,   3198.7,   2.6550,  34.9250,2,  34.9230,2,    256.4,2,    257.2,2,    31.40,2,    20.39,2,     1.34,2,    0.038,2,    0.024,2, -999.000,9,-999.0000,9,  -999.00,9,   -999.0,9,   -999.0,9,     8.02,2,  2.3910
 3230CITHER2_2,  A17N,   203,  1,      9,      9,2,19940312,1501,  8.0010, -45.5208, 4537,   3398.9,   2.5550,  34.9190,2,  34.9160,2,    257.2,2,    257.6,2,    32.70,2,    20.44,2,     1.34,2,    0.049,2,    0.027,2, -999.000,9,-999.0000,9,  -999.00,9,   -999.0,9,   -999.0,9,     8.01,2,  2.2720
 3230CITHER2_2,  A17N,   203,  1,      8,      8,2,19940312,1501,  8.0010, -45.5208, 4537,   3549.3,   2.4520,  34.9090,2,  34.9080,2,    258.3,2,    258.6,2,    34.00,2,    20.54,2,     1.34,2,    0.043,2,    0.027,2, -999.000,9,-999.0000,9,  -999.00,9,   -999.0,9,   -999.0,9,     8.01,2,  2.1550
 3230CITHER2_2,  A17N,   203,  1,      7,      7,2,19940312,1501,  8.0010, -45.5208, 4537,   3700.3,   2.3760,  34.9060,2,  34.9040,2,    260.6,2,    261.5,2,    33.00,2,    20.00,2,     1.32,2,    0.076,2,    0.047,2, -999.000,9,-999.0000,9,  -999.00,9,   -999.0,9,   -999.0,9,     8.01,2,  2.0650
 3230CITHER2_2,  A17N,   203,  1,      6,      6,2,19940312,1501,  8.0010, -45.5208, 4537,   3848.5,   2.3270,  34.9020,2,  34.9020,2,    261.5,2,    262.6,2,    33.00,2,    19.87,2,     1.32,2,    0.074,2,    0.049,2, -999.000,9,-999.0000,9,  -999.00,9,   -999.0,9,   -999.0,9,     8.02,2,  2.0010
 3230CITHER2_2,  A17N,   203,  1,      5,      5,2,19940312,1501,  8.0010, -45.5208, 4537,   3999.6,   2.2870,  34.8960,2,  34.8970,2,    262.2,2,    262.2,2,    34.30,2,    19.88,2,     1.33,2,    0.075,2,    0.050,2, -999.000,9,-999.0000,9,  -999.00,9,   -999.0,9,   -999.0,9,     8.01,2,  1.9450
 3230CITHER2_2,  A17N,   203,  1,      4,      4,2,19940312,1501,  8.0010, -45.5208, 4537,   4199.1,   2.2410,  34.8910,2,  34.8890,2,    260.6,2,    260.1,2,    37.50,2,    20.58,2,     1.36,2, -999.000,5, -999.000,5, -999.000,9,-999.0000,9,  -999.00,9,   -999.0,9,   -999.0,9,     8.01,2,  1.8770
 3230CITHER2_2,  A17N,   203,  1,      3,      3,2,19940312,1501,  8.0010, -45.5208, 4537,   4397.8,   2.1790,  34.8820,2,  34.8860,2,    258.7,2,    257.8,2,    40.70,2,    21.00,2,     1.39,2,    0.073,2,    0.049,2, -999.000,9,-999.0000,9,  -999.00,9,   -999.0,9,   -999.0,9,     8.00,2,  1.7940
 3230CITHER2_2,  A17N,   203,  1,      2,      2,2,19940312,1501,  8.0010, -45.5208, 4537,   4546.9,   2.0970,  34.8700,2,  34.8690,2,    254.9,2,    254.4,2,    46.60,2,    21.79,2,     1.45,2,    0.058,2,    0.046,2, -999.000,9,-999.0000,9,  -999.00,9,   -999.0,9,   -999.0,9,     8.00,2,  1.6970
 3230CITHER2_2,  A17N,   203,  1,      1,      1,2,19940312,1501,  8.0010, -45.5208, 4537,   4602.9,   2.0590,  34.8650,2,  34.8630,2,    252.6,2,    252.3,2,    49.80,2,    22.26,2,     1.48,2,    0.049,2,    0.038,2, -999.000,9,-999.0000,9,  -999.00,9,   -999.0,9,   -999.0,9,     8.00,2,  1.6530
 3230CITHER2_2,  A17N,   204,  1,     32,     32,2,19940312,2118,  8.2915, -46.0272, 4571,      6.4,  26.3450,  36.2370,2,  36.2380,2,    199.0,2,    202.0,2,     1.70,2,     0.00,2,     0.06,2,    1.748,2,    0.971,2, -999.000,9,-999.0000,9,  -999.00,9,   2021.1,2,   2380.3,2,     8.37,2, 26.3440
 3230CITHER2_2,  A17N,   204,  1,     31,     31,2,19940312,2118,  8.2915, -46.0272, 4571,     61.9,  25.7610,  36.3290,2,  36.3290,2,    205.6,2,    203.2,2,     1.60,2,     0.04,2,     0.03,2,    1.784,2,    0.999,2, -999.000,9,-999.0000,9,  -999.00,9,   2023.7,2,   2385.2,2,     8.37,2, 25.7470
 3230CITHER2_2,  A17N,   204,  1,     30,     30,2,19940312,2118,  8.2915, -46.0272, 4571,    126.9,  15.5560,  35.8180,2,  35.8100,2,    118.2,2,    120.4,2,     7.60,2,    18.66,2,     1.11,2,    1.309,2,    0.695,2, -999.000,9,-999.0000,9,  -999.00,9,   -999.0,5,   2355.6,2,     8.05,2, 15.5360
 3230CITHER2_2,  A17N,   204,  1,     29,     29,2,19940312,2118,  8.2915, -46.0272, 4571,    200.8,  10.8740,  35.1280,2,  35.1180,2,    119.9,2,    122.3,2,    12.70,2,    24.89,2,     1.62,2,    0.785,2,    0.412,2, -999.000,9,-999.0000,9,  -999.00,9,   2189.4,2,   2325.8,2,     7.94,2, 10.8490
 3230CITHER2_2,  A17N,   204,  1,     28,     28,2,19940312,2118,  8.2915, -46.0272, 4571,    300.9,   8.7360,  34.7950,2,  34.7960,2,    140.5,2,    143.5,2,    15.90,2,    27.53,2,     1.81,2, -999.000,5, -999.000,5, -999.000,9,-999.0000,9,  -999.00,9,   2192.7,2,   2315.7,2,     7.91,2,  8.7040
 3230CITHER2_2,  A17N,   204,  1,     27,     27,2,19940312,2118,  8.2915, -46.0272, 4571,    401.0,   7.9640,  34.7400,2,  34.7370,2,    133.9,2,    128.1,2,    18.30,2,    30.47,2,     1.99,2,    0.399,2,    0.218,2, -999.000,9,-999.0000,9,  -999.00,9,   2204.2,2,   2309.1,2,     7.87,2,  7.9230
 3230CITHER2_2,  A17N,   204,  1,     26,     26,2,19940312,2118,  8.2915, -46.0272, 4571,    502.7,   7.3910,  34.7240,2,  34.7230,2,    116.9,2,    118.8,2,    20.80,2,    32.45,2,     2.11,2,    0.204,2,    0.119,2, -999.000,9,-999.0000,9,  -999.00,9,   2211.8,2,   2310.9,2,     7.84,2,  7.3420
 3230CITHER2_2,  A17N,   204,  1,     25,     25,2,19940312,2118,  8.2915, -46.0272, 4571,    600.2,   6.4140,  34.6240,2,  34.6220,2,    127.5,2,    130.2,2,    24.00,2,    33.53,2,     2.23,2,    0.177,2,    0.108,2, -999.000,9,-999.0000,9,  -999.00,9,   2214.9,2,   2310.7,2,     7.84,2,  6.3590
 3230CITHER2_2,  A17N,   204,  1,     24,     24,2,19940312,2118,  8.2915, -46.0272, 4571,    799.2,   5.3600,  34.5860,2,  34.5930,2,    136.8,2,    137.9,2,    28.60,2,    34.63,2,     2.30,2,    0.106,2,    0.066,2, -999.000,9,-999.0000,9,  -999.00,9,   2219.7,2,   2311.8,2,     7.83,2,  5.2920
 3230CITHER2_2,  A17N,   204,  1,     23,     23,2,19940312,2118,  8.2915, -46.0272, 4571,   1000.3,   5.1020,  34.7270,2,  34.7250,2,    143.6,2,    144.2,2,    28.60,2,    32.61,2,     2.19,2,    0.005,2,    0.003,2, -999.000,9,-999.0000,9,  -999.00,9,   2220.9,2,   2318.5,2,     7.85,2,  5.0180
 3230CITHER2_2,  A17N,   204,  1,     22,     22,2,19940312,2118,  8.2915, -46.0272, 4571,   1201.7,   4.8770,  34.8640,2,  34.8650,2,    176.0,2,    174.8,2,    24.90,2,    28.08,2,     1.87,2,    0.015,2,    0.010,2, -999.000,9,-999.0000,9,  -999.00,9,   2204.2,2,   2325.8,2,     7.91,2,  4.7760
 3230CITHER2_2,  A17N,   204,  1,     21,     21,2,19940312,2118,  8.2915, -46.0272, 4571,   1398.9,   4.6580,  34.9790,2,  34.9780,2,    218.6,2,    218.1,2,    19.00,2,    22.58,2,     1.48,2,    0.088,2,    0.058,2, -999.000,9,-999.0000,9,  -999.00,9,   2183.1,2,   2325.8,2,     7.97,2,  4.5400
 3230CITHER2_2,  A17N,   204,  1,     20,     20,2,19940312,2118,  8.2915, -46.0272, 4571,   1499.1,   4.4700,  34.9980,2,  34.9950,2,    235.1,2,    232.3,2,    17.40,2,    21.23,2,     1.37,2,    0.128,2,    0.077,2, -999.000,9,-999.0000,9,  -999.00,9,   2173.0,2,   2326.0,2,     7.99,2,  4.3450
 3230CITHER2_2,  A17N,   204,  1,     19,     19,2,19940312,2118,  8.2915, -46.0272, 4571,   1598.2,   4.2500,  34.9970,2,  34.9960,2,    242.5,2,    244.4,2,    16.70,2,    20.35,2,     1.32,2,    0.144,2,    0.086,2, -999.000,9,-999.0000,9,  -999.00,9,   2168.0,2,   2325.1,2,     8.00,2,  4.1180
 3230CITHER2_2,  A17N,   204,  1,     18,     18,2,19940312,2118,  8.2915, -46.0272, 4571,   1699.9,   4.0680,  34.9970,2,  34.9980,2,    249.9,2,    250.6,2,    16.20,2,    19.63,2,     1.26,2,    0.164,2,    0.099,2, -999.000,9,-999.0000,9,  -999.00,9,   2164.8,2,   2326.6,2,     8.01,2,  3.9280
 3230CITHER2_2,  A17N,   204,  1,     17,     17,2,19940312,2118,  8.2915, -46.0272, 4571,   1798.0,   3.8950,  34.9870,2,  34.9860,2,    249.9,2,    249.5,2,    17.80,2,    20.12,2,     1.29,2,    0.070,2,    0.050,2, -999.000,9,-999.0000,9,  -999.00,9,   2164.1,2,   2326.2,2,     8.01,2,  3.7480
 3230CITHER2_2,  A17N,   204,  1,     16,     16,2,19940312,2118,  8.2915, -46.0272, 4571,   2000.7,   3.6100,  34.9780,2,  34.9750,2,    254.3,2,    254.3,2,    19.30,2,    19.77,2,     1.27,2,    0.045,2,    0.031,2, -999.000,9,-999.0000,9,  -999.00,9,   2164.9,2,   2328.9,2,     8.01,2,  3.4480
 3230CITHER2_2,  A17N,   204,  1,     15,     15,2,19940312,2118,  8.2915, -46.0272, 4571,   2200.3,   3.3830,  34.9700,2,  34.9700,2,    257.5,2,    258.1,2,    20.50,2,    19.41,2,     1.26,2,    0.050,2,    0.033,2, -999.000,9,-999.0000,9,  -999.00,9,   2163.9,2,   2328.4,2,     8.01,2,  3.2060
 3230CITHER2_2,  A17N,   204,  1,     14,     14,2,19940312,2118,  8.2915, -46.0272, 4571,   2399.4,   3.1300,  34.9550,2,  34.9560,2,    258.7,2,    256.6,2,    24.30,2,    19.86,2,     1.29,2,    0.027,2,    0.016,2, -999.000,9,-999.0000,9,  -999.00,9,   2169.0,2,   2334.9,2,     8.01,2,  2.9380
 3230CITHER2_2,  A17N,   204,  1,     12,     12,2,19940312,2118,  8.2915, -46.0272, 4571,   2699.0,   2.9400,  34.9460,2,  34.9480,2,    259.2,2,    259.5,2,    25.10,2,    19.59,2,     1.27,2,    0.066,2,    0.040,2, -999.000,9,-999.0000,9,  -999.00,9,   2168.5,2,   2334.8,2,     8.01,2,  2.7210
 3230CITHER2_2,  A17N,   204,  1,     13,     13,2,19940312,2118,  8.2915, -46.0272, 4571,   2699.5,   2.9450,  34.9450,2,  34.9470,2,    259.2,2,    259.9,2,    25.00,2,    19.58,2,     1.28,2,    0.064,2,    0.036,2, -999.000,9,-999.0000,9,  -999.00,9,   -999.0,5,   2334.8,2,     8.01,2,  2.7260
 3230CITHER2_2,  A17N,   204,  1,     11,     11,2,19940312,2118,  8.2915, -46.0272, 4571,   2997.7,   2.7570,  34.9330,2,  34.9330,2,    259.1,2,    259.5,2,    28.30,2,    19.76,2,     1.29,2,    0.057,2,    0.035,2, -999.000,9,-999.0000,9,  -999.00,9,   2170.8,2,   2337.3,2,     8.01,2,  2.5120
 3230CITHER2_2,  A17N,   204,  1,     10,     10,2,19940312,2118,  8.2915, -46.0272, 4571,   3198.6,   2.6540,  34.9230,2,  34.9270,2,    256.9,2,    257.0,2,    31.80,2,    20.35,2,     1.33,2,    0.038,2,    0.029,2, -999.000,9,-999.0000,9,  -999.00,9,   2177.8,2,   2339.8,2,     8.01,2,  2.3900
 3230CITHER2_2,  A17N,   204,  1,      9,      9,2,19940312,2118,  8.2915, -46.0272, 4571,   3398.4,   2.5430,  34.9160,2,  34.9170,2,    256.7,2,    257.7,2,    33.60,2,    20.47,2,     1.34,2,    0.036,2,    0.025,2, -999.000,9,-999.0000,9,  -999.00,9,   2177.4,2,   2340.9,2,     8.01,2,  2.2600
 3230CITHER2_2,  A17N,   204,  1,      8,      8,2,19940312,2118,  8.2915, -46.0272, 4571,   3549.6,   2.4850,  34.9100,2,  34.9120,2,    258.3,2,    259.5,2,    33.60,2,    20.34,2,     1.33,2,    0.047,2,    0.029,2, -999.000,9,-999.0000,9,  -999.00,9,   2177.5,2,   2341.0,2,     8.01,2,  2.1880
 3230CITHER2_2,  A17N,   204,  1,      7,      7,2,19940312,2118,  8.2915, -46.0272, 4571,   3699.5,   2.4100,  34.9080,2,  34.9050,2,    262.2,2,    263.1,2,    31.70,2,    19.83,2,     1.30,2,    0.094,2,    0.058,2, -999.000,9,-999.0000,9,  -999.00,9,   2174.6,2,   2339.5,2,     8.01,2,  2.0980
 3230CITHER2_2,  A17N,   204,  1,      6,      6,2,19940312,2118,  8.2915, -46.0272, 4571,   3847.4,   2.3450,  34.9040,2,  34.9050,2,    264.2,2,    265.2,2,    31.30,2,    19.62,2,     1.29,2,    0.126,2,    0.075,2, -999.000,9,-999.0000,9,  -999.00,9,   2174.3,2,   2338.5,2,     8.01,2,  2.0180
 3230CITHER2_2,  A17N,   204,  1,      5,      5,2,19940312,2118,  8.2915, -46.0272, 4571,   3998.9,   2.2970,  34.8990,2,  34.9010,2,    263.9,2,    264.1,2,    32.90,2,    19.74,2,     1.30,2,    0.111,2,    0.067,2, -999.000,9,-999.0000,9,  -999.00,9,   2176.5,2,   2339.3,2,     8.01,2,  1.9550
 3230CITHER2_2,  A17N,   204,  1,      4,      4,2,19940312,2118,  8.2915, -46.0272, 4571,   4199.3,   2.2630,  34.8940,2,  34.8950,2,    263.0,2,    263.6,2,    34.60,2,    19.90,2,     1.31,2,    0.112,2,    0.065,2, -999.000,9,-999.0000,9,  -999.00,9,   2178.9,2,   2341.8,2,     8.01,2,  1.8980
 3230CITHER2_2,  A17N,   204,  1,      3,      3,2,19940312,2118,  8.2915, -46.0272, 4571,   4398.9,   2.2260,  34.8870,2,  34.8910,2,    261.9,2,    261.2,2,    37.50,2,    20.24,2,     1.34,2,    0.104,2,    0.068,2, -999.000,9,-999.0000,9,  -999.00,9,   2180.4,2,   2345.6,2,     8.00,2,  1.8390
 3230CITHER2_2,  A17N,   204,  1,      2,      2,2,19940312,2118,  8.2915, -46.0272, 4571,   4498.5,   2.2090,  34.8840,2,  34.8860,2,    260.5,2,    260.1,2,    39.40,2,    20.59,2,     1.36,2,    0.096,2,    0.064,2, -999.000,9,-999.0000,9,  -999.00,9,   2185.0,2,   2346.8,2,     8.00,2,  1.8110
 3230CITHER2_2,  A17N,   204,  1,      1,      1,2,19940312,2118,  8.2915, -46.0272, 4571,   4634.1,   2.1450,  34.8750,2,  34.8760,2,    257.0,2,    255.8,2,    45.10,2,    21.27,2,     1.41,2,    0.068,2,    0.054,2, -999.000,9,-999.0000,9,  -999.00,9,   2192.2,2,   2348.4,2,     8.00,2,  1.7330