BOTTLE,20030515WHPSIOSA
EXPOCODE,SECT_ID,STNNBR,CASTNO,SAMPNO,BTLNBR,BTLNBR_FLAG_W,DATE,TIME,LATITUDE,LONGITUDE,DEPTH,CTDPRS,CTDTMP,CTDSAL,CTDSAL_FLAG_W,SALNTY,SALNTY_FLAG_W,CTDOXY,CTDOXY_FLAG_W,OXYGEN,OXYGEN_FLAG_W,SILCAT,SILCAT_FLAG_W,NITRAT,NITRAT_FLAG_W,PHSPHT,PHSPHT_FLAG_W,CFC-11,CFC-11_FLAG_W,CFC-12,CFC-12_FLAG_W,TRITUM,TRITUM_FLAG_W,HELIUM,HELIUM_FLAG_W,DELHE3,DELHE3_FLAG_W,TCARBN,TCARBN_FLAG_W,ALKALI,ALKALI_FLAG_W,PH,PH_FLAG_W,THETA
,,,,,,,,,,,,DBAR,ITS-90,PSS-78,,PSS-78,,UMOL/KG,,UMOL/KG,,UMOL/KG,,UMOL/KG,,UMOL/KG,,PMOL/KG,,PMOL/KG,,TU,,NMOL/KG,,PERCNT,,UMOL/KG,,UMOL/KG,,,,DEG C
 3230CITHER2_2,  A17N,   166,  1,     32,     32,2,19940303,1821, -1.9000, -30.0015, 4914,      6.5,  27.5740,  36.0140,2,  36.0160,2,    202.9,2,    200.2,2,     1.90,2,     0.04,2,     0.08,2, -999.000,5, -999.000,5, -999.000,9,-999.0000,9,  -999.00,9,   2018.4,2,   2373.7,2,     8.36,2, 27.5720
 3230CITHER2_2,  A17N,   166,  1,     31,     31,2,19940303,1821, -1.9000, -30.0015, 4914,     40.4,  26.8070,  36.0730,2,  36.0710,2,    197.1,2,    200.8,2,     2.00,2,     0.04,2,     0.11,2, -999.000,5, -999.000,5, -999.000,9,-999.0000,9,  -999.00,9,   2027.5,2,   2377.2,2,     8.35,2, 26.7980
 3230CITHER2_2,  A17N,   166,  1,     30,     30,2,19940303,1821, -1.9000, -30.0015, 4914,    125.9,  13.3830,  35.3440,2,  35.3340,2,    103.1,2,    101.7,2,     9.10,2,    22.72,2,     1.51,2, -999.000,5, -999.000,5, -999.000,9,-999.0000,9,  -999.00,9,   2184.1,2,   2335.9,2,     7.97,2, 13.3650
 3230CITHER2_2,  A17N,   166,  1,     29,     29,2,19940303,1821, -1.9000, -30.0015, 4914,    199.6,  12.3300,  35.1900,2,  35.1880,2,    120.4,2,    123.0,2,    10.00,2,    22.24,2,     1.50,2, -999.000,5, -999.000,5, -999.000,9,-999.0000,9,  -999.00,9,   2175.2,2,   2329.9,2,     7.97,2, 12.3030
 3230CITHER2_2,  A17N,   166,  1,     28,     28,2,19940303,1821, -1.9000, -30.0015, 4914,    398.5,   9.0640,  34.8150,2,  34.8090,2,    117.9,2,    108.6,2,    16.00,2,    30.31,2,     1.97,2, -999.000,5, -999.000,5, -999.000,9,-999.0000,9,  -999.00,9,   2206.1,2,   2316.0,2,     7.86,2,  9.0200
 3230CITHER2_2,  A17N,   166,  1,     27,     27,2,19940303,1821, -1.9000, -30.0015, 4914,    600.3,   5.5590,  34.4720,2,  34.4740,2,    168.6,2,    164.2,2,    25.40,2,    32.08,2,     2.17,2,    0.370,2,    0.195,2, -999.000,9,-999.0000,9,  -999.00,9,   2200.9,2,   2311.2,2,     7.87,2,  5.5080
 3230CITHER2_2,  A17N,   166,  1,     26,     26,2,19940303,1821, -1.9000, -30.0015, 4914,    800.6,   4.4620,  34.4980,2,  34.4980,2,    160.3,2,    160.5,2,    33.10,2,    33.84,2,     2.33,2,    0.054,2,    0.031,2, -999.000,9,-999.0000,9,  -999.00,9,   2217.4,2,   2318.6,2,     7.85,2,  4.4000
 3230CITHER2_2,  A17N,   166,  1,     25,     25,2,19940303,1821, -1.9000, -30.0015, 4914,   1001.8,   4.4680,  34.6930,2,  34.6920,2,    166.6,2,    166.5,2,    30.20,2,    31.21,2,     2.13,2,    0.011,2,    0.004,2, -999.000,9,-999.0000,9,  -999.00,9,   2213.1,2,   2325.3,2,     7.87,2,  4.3880
 3230CITHER2_2,  A17N,   166,  1,     24,     24,2,19940303,1821, -1.9000, -30.0015, 4914,   1198.7,   4.5550,  34.8080,2,  34.8040,2,    180.1,2,    181.8,2,    26.60,2,    28.38,2,     1.97,2,    0.051,2,    0.030,2, -999.000,9,-999.0000,9,  -999.00,9,   2203.6,2,   2325.8,2,     7.91,2,  4.4570
 3230CITHER2_2,  A17N,   166,  1,     23,     23,2,19940303,1821, -1.9000, -30.0015, 4914,   1402.7,   4.2730,  34.9610,2,  34.9600,2,    224.2,2,    226.5,2,    19.50,2,    22.11,2,     1.48,2,    0.047,2,    0.032,2, -999.000,9,-999.0000,9,  -999.00,9,   2177.0,2,   2329.9,2,     7.98,2,  4.1590
 3230CITHER2_2,  A17N,   166,  1,     22,     22,2,19940303,1821, -1.9000, -30.0015, 4914,   1499.3,   4.2130,  34.9780,2,  34.9770,2,    233.5,2,    236.5,2,    18.30,2,    21.08,2,     1.40,2,    0.084,2,    0.049,2, -999.000,9,-999.0000,9,  -999.00,9,   2170.1,2,   2329.9,2,     7.99,2,  4.0900
 3230CITHER2_2,  A17N,   166,  1,     21,     21,2,19940303,1821, -1.9000, -30.0015, 4914,   1601.1,   4.1140,  34.9780,2,  34.9790,2,    239.0,2,    239.1,2,    18.40,2,    21.00,2,     1.39,2,    0.061,2,    0.039,2, -999.000,9,-999.0000,9,  -999.00,9,   2170.2,2,   2329.3,2,     8.00,2,  3.9830
 3230CITHER2_2,  A17N,   166,  1,     20,     20,2,19940303,1821, -1.9000, -30.0015, 4914,   1699.9,   4.0480,  34.9830,2,  34.9840,2,    243.9,2,    243.5,2,    18.00,2,    20.55,2,     1.35,2,    0.072,2,    0.046,2, -999.000,9,-999.0000,9,  -999.00,9,   2168.3,2,   2330.7,2,     8.00,2,  3.9090
 3230CITHER2_2,  A17N,   166,  1,     19,     19,2,19940303,1821, -1.9000, -30.0015, 4914,   1798.7,   3.9660,  34.9860,2,  34.9870,2,    248.3,2,    248.4,2,    17.70,2,    19.94,2,     1.32,2,    0.111,2,    0.067,2, -999.000,9,-999.0000,9,  -999.00,9,   2166.0,2,   2328.9,2,     8.01,2,  3.8180
 3230CITHER2_2,  A17N,   166,  1,     18,     18,2,19940303,1821, -1.9000, -30.0015, 4914,   1999.9,   3.5120,  34.9730,2,  34.9750,2,    256.3,2,    255.7,2,    20.10,2,    19.60,2,     1.29,2,    0.061,2,    0.038,2, -999.000,9,-999.0000,9,  -999.00,9,   2165.2,2,   2331.9,2,     8.02,2,  3.3520
 3230CITHER2_2,  A17N,   166,  1,     17,     17,2,19940303,1821, -1.9000, -30.0015, 4914,   2200.1,   3.2570,  34.9600,2,  34.9630,2,    257.5,2,    257.6,2,    22.40,2,    19.73,2,     1.29,2,    0.048,2,    0.027,2, -999.000,9,-999.0000,9,  -999.00,9,   2166.0,2,   2333.0,2,     8.02,2,  3.0820
 3230CITHER2_2,  A17N,   166,  1,     16,     16,2,19940303,1821, -1.9000, -30.0015, 4914,   2401.0,   3.0520,  34.9510,2,  34.9490,2,    257.1,2,    257.1,2,    24.80,2,    19.80,2,     1.32,2,    0.035,2,    0.020,2, -999.000,9,-999.0000,9,  -999.00,9,   2168.3,2,   2337.1,2,     8.02,2,  2.8610
 3230CITHER2_2,  A17N,   166,  1,     15,     15,2,19940303,1821, -1.9000, -30.0015, 4914,   2698.8,   2.8140,  34.9270,2,  34.9280,2,    251.3,2,    250.2,2,    32.40,2,    21.02,2,     1.40,2,    0.006,2,    0.003,2, -999.000,9,-999.0000,9,  -999.00,9,   -999.0,5,   2343.5,2,     8.01,2,  2.5980
 3230CITHER2_2,  A17N,   166,  1,     14,     14,2,19940303,1821, -1.9000, -30.0015, 4914,   2699.4,   2.8140,  34.9270,2,  34.9240,2,    251.3,2,    250.3,2,    32.40,2,    21.03,2,     1.40,2,    0.006,2,    0.003,2, -999.000,9,-999.0000,9,  -999.00,9,   2179.5,2,   2343.5,2,     8.01,2,  2.5980
 3230CITHER2_2,  A17N,   166,  1,     13,     13,2,19940303,1821, -1.9000, -30.0015, 4914,   2999.9,   2.6540,  34.9180,2,  34.9170,2,    250.5,2,    250.9,2,    35.00,2,    21.15,2,     1.41,2,    0.008,2,    0.004,2, -999.000,9,-999.0000,9,  -999.00,9,   2182.3,2,   2348.4,2,     8.01,2,  2.4110
 3230CITHER2_2,  A17N,   166,  1,     12,     12,2,19940303,1821, -1.9000, -30.0015, 4914,   3198.6,   2.5910,  34.9140,2,  34.9160,2,    252.9,2,    253.5,2,    35.20,2,    21.03,2,     1.40,2,    0.008,2,    0.006,2, -999.000,9,-999.0000,9,  -999.00,9,   2182.1,2,   2345.3,2,     8.01,2,  2.3290
 3230CITHER2_2,  A17N,   166,  1,     11,     11,2,19940303,1821, -1.9000, -30.0015, 4914,   3399.8,   2.4920,  34.9110,2,  34.9110,2,    257.7,2,    259.0,2,    33.20,2,    20.34,2,     1.35,2,    0.035,2,    0.022,2, -999.000,9,-999.0000,9,  -999.00,9,   2177.5,2,   2342.6,2,     8.01,2,  2.2110
 3230CITHER2_2,  A17N,   166,  1,     10,     10,2,19940303,1821, -1.9000, -30.0015, 4914,   3547.6,   2.4060,  34.9050,2,  34.9060,2,    260.7,2,    260.9,2,    33.10,2,    20.12,2,     1.34,2,    0.051,2,    0.029,2, -999.000,9,-999.0000,9,  -999.00,9,   2177.0,2,   2340.8,2,     8.01,2,  2.1110
 3230CITHER2_2,  A17N,   166,  1,      9,      9,2,19940303,1821, -1.9000, -30.0015, 4914,   3698.5,   2.3500,  34.9010,2,  34.9010,2,    261.7,2,    259.8,2,    33.90,2,    20.16,2,     1.34,2,    0.065,2,    0.037,2, -999.000,9,-999.0000,9,  -999.00,9,   2176.9,2,   2344.7,2,     8.01,2,  2.0400
 3230CITHER2_2,  A17N,   166,  1,      8,      8,2,19940303,1821, -1.9000, -30.0015, 4914,   3851.2,   2.3190,  34.8990,2,  34.8990,2,    261.7,2,    261.7,2,    34.90,2,    20.01,2,     1.34,2,    0.071,2,    0.045,2, -999.000,9,-999.0000,9,  -999.00,9,   2177.7,2,   2343.3,2,     8.01,2,  1.9930
 3230CITHER2_2,  A17N,   166,  1,      7,      7,2,19940303,1821, -1.9000, -30.0015, 4914,   3997.5,   2.1930,  34.8800,2,  34.8820,2,    260.2,2,    257.8,2,    41.50,2,    21.20,2,     1.42,2,    0.054,2,    0.035,2, -999.000,9,-999.0000,9,  -999.00,9,   2185.7,2,   2350.6,2,     8.00,2,  1.8540
 3230CITHER2_2,  A17N,   166,  1,      6,      6,2,19940303,1821, -1.9000, -30.0015, 4914,   4198.0,   1.6020,  34.8150,2,  34.8150,2,    245.6,2,    242.4,2,    71.40,2,    25.30,2,     1.73,2,    0.024,2,    0.015,2, -999.000,9,-999.0000,9,  -999.00,9,   2216.4,2,   2364.3,2,     7.96,2,  1.2570
 3230CITHER2_2,  A17N,   166,  1,      5,      5,2,19940303,1821, -1.9000, -30.0015, 4914,   4399.8,   1.0860,  34.7560,2,  34.7570,2,    231.9,2,    230.8,2,    95.70,2,    28.86,2,     1.98,2,    0.003,2,    0.000,2, -999.000,9,-999.0000,9,  -999.00,9,   2241.2,2,   2379.0,2,     7.93,2,  0.7350
 3230CITHER2_2,  A17N,   166,  1,      4,      4,2,19940303,1821, -1.9000, -30.0015, 4914,   4598.5,   0.8190,  34.7250,2,  34.7260,2,    225.1,2,    225.5,2,   108.00,2,    30.70,2,     2.12,2,    0.012,2,    0.004,2, -999.000,9,-999.0000,9,  -999.00,9,   2251.7,2,   2380.3,2,     7.91,2,  0.4540
 3230CITHER2_2,  A17N,   166,  1,      3,      3,2,19940303,1821, -1.9000, -30.0015, 4914,   4798.2,   0.7850,  34.7190,2,  34.7210,2,    222.5,2,    224.6,2,   110.10,2,    31.01,2,     2.14,2,    0.017,2,    0.009,2, -999.000,9,-999.0000,9,  -999.00,9,   2253.9,2,   2376.5,2,     7.91,2,  0.3980
 3230CITHER2_2,  A17N,   166,  1,      2,      2,2,19940303,1821, -1.9000, -30.0015, 4914,   4898.5,   0.7840,  34.7170,2,  34.7190,2,    222.8,2,    223.9,2,   111.30,2,    30.97,2,     2.13,2,    0.025,2,    0.014,2, -999.000,9,-999.0000,9,  -999.00,9,   2254.9,2,   2379.0,2,     7.91,2,  0.3860
 3230CITHER2_2,  A17N,   166,  1,      1,      1,2,19940303,1821, -1.9000, -30.0015, 4914,   4991.7,   0.7440,  34.7130,2,  34.7140,2,    220.8,2,    222.3,2,   113.10,2,    31.31,2,     2.17,2,    0.016,2,    0.007,2, -999.000,9,-999.0000,9,  -999.00,9,   2259.4,2,   2382.1,2,     7.90,2,  0.3360
 3230CITHER2_2,  A17N,   167,  1,     32,     32,2,19940303,2326, -1.5988, -30.0003, 4964,      5.1,  27.2490,  36.0900,2,  36.0900,2,    199.0,2,    201.1,2,     1.80,2,     0.00,2,     0.10,2, -999.000,5, -999.000,5, -999.000,9,-999.0000,9,  -999.00,9,   2023.5,2,   -999.0,9,     8.36,2, 27.2480
 3230CITHER2_2,  A17N,   167,  1,     31,     31,2,19940303,2326, -1.5988, -30.0003, 4964,     51.3,  25.9730,  36.2540,2,  36.2440,2,    202.3,2,    198.4,2,     1.90,2,     0.04,2,     0.15,2, -999.000,5, -999.000,5, -999.000,9,-999.0000,9,  -999.00,9,   2045.4,2,   -999.0,9,     8.34,2, 25.9620
 3230CITHER2_2,  A17N,   167,  1,     30,     30,2,19940303,2326, -1.5988, -30.0003, 4964,    125.8,  13.4670,  35.3310,2,  35.3400,2,    163.4,2,    160.0,2,     7.30,2,    15.92,2,     1.10,2, -999.000,5, -999.000,5, -999.000,9,-999.0000,9,  -999.00,9,   2140.6,2,   -999.0,9,     8.09,2, 13.4490
 3230CITHER2_2,  A17N,   167,  1,     29,     29,2,19940303,2326, -1.5988, -30.0003, 4964,    200.9,  12.4550,  35.2060,2,  35.2050,2,    127.3,2,    136.7,2,     9.70,2,    21.77,2,     1.47,2, -999.000,5, -999.000,5, -999.000,9,-999.0000,9,  -999.00,9,   2172.6,2,   -999.0,9,     8.00,2, 12.4280
 3230CITHER2_2,  A17N,   167,  1,     28,     28,2,19940303,2326, -1.5988, -30.0003, 4964,    400.1,   8.5430,  34.7500,2,  34.7450,2,    123.9,2,    126.2,2,    16.60,2,    30.07,2,     1.95,2, -999.000,5, -999.000,5, -999.000,9,-999.0000,9,  -999.00,9,   2200.3,2,   -999.0,9,     7.89,2,  8.3660
 3230CITHER2_2,  A17N,   167,  1,     27,     27,2,19940303,2326, -1.5988, -30.0003, 4964,    400.4,   8.4080,  34.7430,2,  34.7500,2,    123.9,2,    126.1,2,    16.50,2,    29.78,2,     1.96,2, -999.000,5, -999.000,5, -999.000,9,-999.0000,9,  -999.00,9,   2200.0,2,   -999.0,9,     7.89,2,  8.5010
 3230CITHER2_2,  A17N,   167,  1,     26,     26,2,19940303,2326, -1.5988, -30.0003, 4964,    599.4,   5.7420,  34.4920,2,  34.4940,2,    166.4,2,    161.3,2,    24.80,2,    32.34,2,     2.17,2, -999.000,5, -999.000,5, -999.000,9,-999.0000,9,  -999.00,9,   2202.4,2,   -999.0,9,     7.88,2,  5.6900
 3230CITHER2_2,  A17N,   167,  1,     25,     25,2,19940303,2326, -1.5988, -30.0003, 4964,    798.9,   4.5920,  34.4840,2,  34.4860,2,    165.1,2,    162.5,2,    32.00,2,    33.99,2,     2.30,2, -999.000,5, -999.000,5, -999.000,9,-999.0000,9,  -999.00,9,   2199.8,2,   -999.0,9,     7.86,2,  4.5290
 3230CITHER2_2,  A17N,   167,  1,     24,     24,2,19940303,2326, -1.5988, -30.0003, 4964,   1000.4,   4.4470,  34.6530,2,  34.6470,2,    164.7,2,    164.2,2,    31.50,2,    32.35,2,     2.19,2,    0.040,5,    0.020,5, -999.000,9,-999.0000,9,  -999.00,9,   2217.0,2,   -999.0,9,     7.87,2,  4.3680
 3230CITHER2_2,  A17N,   167,  1,     23,     23,2,19940303,2326, -1.5988, -30.0003, 4964,   1199.2,   4.5420,  34.8040,2,  34.8040,2,    180.3,2,    179.7,2,    26.90,2,    28.67,2,     1.94,2,    0.013,2,    0.008,2, -999.000,9,-999.0000,9,  -999.00,9,   -999.0,9,   -999.0,9,     7.91,2,  4.4440
 3230CITHER2_2,  A17N,   167,  1,     22,     22,2,19940303,2326, -1.5988, -30.0003, 4964,   1399.9,   4.3850,  34.9500,2,  34.9510,2,    219.9,2,    220.0,2,    20.20,2,    22.97,2,     1.53,2,    0.055,2,    0.034,2, -999.000,9,-999.0000,9,  -999.00,9,   -999.0,9,   -999.0,9,     7.98,2,  4.2700
 3230CITHER2_2,  A17N,   167,  1,     21,     21,2,19940303,2326, -1.5988, -30.0003, 4964,   1499.1,   4.2590,  34.9730,2,  34.9720,2,    232.7,2,    233.0,2,    18.70,2,    21.72,2,     1.44,2,    0.075,2,    0.041,2, -999.000,9,-999.0000,9,  -999.00,9,   -999.0,9,   -999.0,9,     8.00,2,  4.1360
 3230CITHER2_2,  A17N,   167,  1,     20,     20,2,19940303,2326, -1.5988, -30.0003, 4964,   1600.3,   4.1710,  34.9830,2,  34.9820,2,    237.6,2,    239.3,2,    18.40,2,    21.03,2,     1.36,2,    0.092,2,    0.055,2, -999.000,9,-999.0000,9,  -999.00,9,   -999.0,9,   -999.0,9,     8.00,2,  4.0390
 3230CITHER2_2,  A17N,   167,  1,     19,     19,2,19940303,2326, -1.5988, -30.0003, 4964,   1699.2,   4.1160,  34.9880,2,  34.9860,2,    242.6,2,    243.6,2,    17.80,2,    20.48,2,     1.33,2,    0.109,2,    0.064,2, -999.000,9,-999.0000,9,  -999.00,9,   -999.0,9,   -999.0,9,     8.01,2,  3.9760
 3230CITHER2_2,  A17N,   167,  1,     18,     18,2,19940303,2326, -1.5988, -30.0003, 4964,   1799.6,   3.9690,  34.9830,2,  34.9840,2,    247.1,2,    246.2,2,    18.20,2,    20.41,2,     1.33,2,    0.084,2,    0.048,2, -999.000,9,-999.0000,9,  -999.00,9,   -999.0,9,   -999.0,9,     8.01,2,  3.8210
 3230CITHER2_2,  A17N,   167,  1,     17,     17,2,19940303,2326, -1.5988, -30.0003, 4964,   2001.1,   3.4740,  34.9720,2,  34.9730,2,    255.5,2,    255.4,2,    20.60,2,    19.79,2,     1.28,2,    0.057,2,    0.031,2, -999.000,9,-999.0000,9,  -999.00,9,   -999.0,9,   -999.0,9,     8.02,2,  3.3140
 3230CITHER2_2,  A17N,   167,  1,     16,     16,2,19940303,2326, -1.5988, -30.0003, 4964,   2200.5,   3.2270,  34.9590,2,  34.9490,2,    254.9,2,    255.5,2,    23.80,2,    19.87,2,     1.29,2,    0.037,2,    0.022,2, -999.000,9,-999.0000,9,  -999.00,9,   -999.0,9,   -999.0,9,     8.02,2,  3.0520
 3230CITHER2_2,  A17N,   167,  1,     15,     15,2,19940303,2326, -1.5988, -30.0003, 4964,   2400.2,   3.0530,  34.9500,2,  34.9500,2,    255.7,2,    256.8,2,    25.80,2,    19.95,2,     1.31,2,    0.032,2,    0.020,2, -999.000,9,-999.0000,9,  -999.00,9,   -999.0,9,   -999.0,9,     8.02,2,  2.8620
 3230CITHER2_2,  A17N,   167,  1,     14,     14,2,19940303,2326, -1.5988, -30.0003, 4964,   2698.6,   2.8370,  34.9330,2,  34.9310,2,    253.7,2,    253.1,2,    31.50,2,    20.99,2,     1.37,2,    0.013,2,    0.010,2, -999.000,9,-999.0000,9,  -999.00,9,   -999.0,9,   -999.0,9,     8.01,2,  2.6210
 3230CITHER2_2,  A17N,   167,  1,     13,     13,2,19940303,2326, -1.5988, -30.0003, 4964,   2998.6,   2.6360,  34.9170,2,  34.9140,2,    250.5,2,    250.8,2,    36.40,2,    21.29,2,     1.41,2,    0.008,2,    0.003,2, -999.000,9,-999.0000,9,  -999.00,9,   -999.0,9,   -999.0,9,     8.01,2,  2.3930
 3230CITHER2_2,  A17N,   167,  1,     12,     12,2,19940303,2326, -1.5988, -30.0003, 4964,   3197.7,   2.5860,  34.9140,2,  34.9130,2,    252.3,2,    252.7,2,    36.20,2,    21.13,2,     1.41,2,    0.010,2,    0.004,2, -999.000,9,-999.0000,9,  -999.00,9,   -999.0,9,   -999.0,9,     8.01,2,  2.3240
 3230CITHER2_2,  A17N,   167,  1,     11,     11,2,19940303,2326, -1.5988, -30.0003, 4964,   3400.3,   2.5050,  34.9130,2,  34.9130,2,    257.6,2,    258.5,2,    33.90,2,    20.36,2,     1.35,2,    0.034,2,    0.021,2, -999.000,9,-999.0000,9,  -999.00,9,   -999.0,9,   -999.0,9,     8.01,2,  2.2230
 3230CITHER2_2,  A17N,   167,  1,     10,     10,2,19940303,2326, -1.5988, -30.0003, 4964,   3548.9,   2.4320,  34.9090,2,  34.9080,2,    260.3,2,    267.7,2,    33.90,2,    20.09,2,     1.33,2,    0.052,2,    0.029,2, -999.000,9,-999.0000,9,  -999.00,9,   -999.0,9,   -999.0,9,     8.02,2,  2.1360
 3230CITHER2_2,  A17N,   167,  1,      9,      9,2,19940303,2326, -1.5988, -30.0003, 4964,   3697.5,   2.3640,  34.9030,2,  34.9030,2,    262.3,2,    262.0,2,    34.10,2,    19.97,2,     1.33,2,    0.068,2,    0.036,2, -999.000,9,-999.0000,9,  -999.00,9,   -999.0,9,   -999.0,9,     8.02,2,  2.0530
 3230CITHER2_2,  A17N,   167,  1,      8,      8,2,19940303,2326, -1.5988, -30.0003, 4964,   3848.2,   2.3380,  34.8990,2,  34.8980,2,    261.8,2,    261.2,2,    35.50,2,    19.98,2,     1.35,2,    0.070,2,    0.046,2, -999.000,9,-999.0000,9,  -999.00,9,   -999.0,9,   -999.0,9,     8.01,2,  2.0110
 3230CITHER2_2,  A17N,   167,  1,      7,      7,2,19940303,2326, -1.5988, -30.0003, 4964,   3996.9,   2.3000,  34.8940,2,  34.8930,2,    261.3,2,    260.4,2,    37.50,2,    20.53,2,     1.37,2,    0.064,2,    0.040,2, -999.000,9,-999.0000,9,  -999.00,9,   -999.0,9,   -999.0,9,     8.01,2,  1.9580
 3230CITHER2_2,  A17N,   167,  1,      6,      6,2,19940303,2326, -1.5988, -30.0003, 4964,   4196.4,   1.7980,  34.8360,2,  34.8360,2,    248.3,2,    246.8,2,    62.40,2,    24.17,2,     1.64,2,    0.029,2,    0.018,2, -999.000,9,-999.0000,9,  -999.00,9,   -999.0,9,   -999.0,9,     7.97,2,  1.4480
 3230CITHER2_2,  A17N,   167,  1,      5,      5,2,19940303,2326, -1.5988, -30.0003, 4964,   4396.7,   1.1600,  34.7660,2,  34.7640,2,    232.4,2,    232.2,2,    93.60,2,    28.84,2,     1.97,2,    0.008,2,    0.005,2, -999.000,9,-999.0000,9,  -999.00,9,   -999.0,9,   -999.0,9,     7.94,2,  0.8070
 3230CITHER2_2,  A17N,   167,  1,      4,      4,2,19940303,2326, -1.5988, -30.0003, 4964,   4597.4,   0.8910,  34.7330,2,  34.7320,2,    225.8,2,    226.2,2,   107.40,2,    30.60,2,     2.10,2,    0.012,2,    0.005,2, -999.000,9,-999.0000,9,  -999.00,9,   -999.0,9,   -999.0,9,     7.92,2,  0.5240
 3230CITHER2_2,  A17N,   167,  1,      3,      3,2,19940303,2326, -1.5988, -30.0003, 4964,   4798.3,   0.7810,  34.7200,2,  34.7210,2,    223.5,2,    224.3,2,   111.60,2,    31.21,2,     2.15,2,    0.018,2,    0.007,2, -999.000,9,-999.0000,9,  -999.00,9,   -999.0,9,   -999.0,9,     7.91,2,  0.3940
 3230CITHER2_2,  A17N,   167,  1,      2,      2,2,19940303,2326, -1.5988, -30.0003, 4964,   4941.7,   0.7490,  34.7150,2,  34.7150,2,    222.3,2,    222.5,2,   114.10,2,    31.81,2,     2.18,2,    0.016,2,    0.012,2, -999.000,9,-999.0000,9,  -999.00,9,   -999.0,9,   -999.0,9,     7.91,2,  0.3470
 3230CITHER2_2,  A17N,   167,  1,      1,      1,2,19940303,2326, -1.5988, -30.0003, 4964,   5041.5,   0.7490,  34.7140,2,  34.7140,2,    221.4,2,    221.9,2,   115.40,2,    31.92,2,     2.18,2,    0.016,2,    0.009,2, -999.000,9,-999.0000,9,  -999.00,9,   -999.0,9,   -999.0,9,     7.90,2,  0.3350