BOTTLE,20030515WHPSIOSA
EXPOCODE,SECT_ID,STNNBR,CASTNO,SAMPNO,BTLNBR,BTLNBR_FLAG_W,DATE,TIME,LATITUDE,LONGITUDE,DEPTH,CTDPRS,CTDTMP,CTDSAL,CTDSAL_FLAG_W,SALNTY,SALNTY_FLAG_W,CTDOXY,CTDOXY_FLAG_W,OXYGEN,OXYGEN_FLAG_W,SILCAT,SILCAT_FLAG_W,NITRAT,NITRAT_FLAG_W,PHSPHT,PHSPHT_FLAG_W,CFC-11,CFC-11_FLAG_W,CFC-12,CFC-12_FLAG_W,TRITUM,TRITUM_FLAG_W,HELIUM,HELIUM_FLAG_W,DELHE3,DELHE3_FLAG_W,TCARBN,TCARBN_FLAG_W,ALKALI,ALKALI_FLAG_W,PH,PH_FLAG_W,THETA
,,,,,,,,,,,,DBAR,ITS-90,PSS-78,,PSS-78,,UMOL/KG,,UMOL/KG,,UMOL/KG,,UMOL/KG,,UMOL/KG,,PMOL/KG,,PMOL/KG,,TU,,NMOL/KG,,PERCNT,,UMOL/KG,,UMOL/KG,,,,DEG C
 3230CITHER2_2,  A17N,   170,  1,     16,     16,2,19940304,1430, -0.7485, -30.4313, 4492,   1801.7,   3.8440,  34.9820,2,  34.9800,2,    250.1,2,    248.8,2,    18.30,2,    20.03,2,     1.31,2,    0.057,2,    0.037,2, -999.000,9,-999.0000,9,  -999.00,9,   -999.0,9,   -999.0,9,     8.02,2,  3.6980
 3230CITHER2_2,  A17N,   170,  1,     15,     15,2,19940304,1430, -0.7485, -30.4313, 4492,   2001.5,   3.5640,  34.9730,2,  34.9730,2,    253.8,2,    253.9,2,    20.00,2,    19.99,2,     1.30,2,    0.046,2,    0.028,2, -999.000,9,-999.0000,9,  -999.00,9,   -999.0,9,   -999.0,9,     8.02,2,  3.4030
 3230CITHER2_2,  A17N,   170,  1,     14,     14,2,19940304,1430, -0.7485, -30.4313, 4492,   2198.5,   3.2630,  34.9560,2,  34.9530,2,    251.3,2,    251.8,2,    24.70,2,    20.51,2,     1.35,2,    0.018,2,    0.012,2, -999.000,9,-999.0000,9,  -999.00,9,   -999.0,9,   -999.0,9,     8.01,2,  3.0880
 3230CITHER2_2,  A17N,   170,  1,     13,     13,2,19940304,1430, -0.7485, -30.4313, 4492,   2399.4,   3.0340,  34.9450,2,  34.9440,2,    252.5,2,    252.7,2,    27.40,2,    20.63,2,     1.36,2,    0.019,2,    0.011,2, -999.000,9,-999.0000,9,  -999.00,9,   -999.0,9,   -999.0,9,     8.02,2,  2.8430
 3230CITHER2_2,  A17N,   170,  1,     12,     12,2,19940304,1430, -0.7485, -30.4313, 4492,   2699.3,   2.8500,  34.9350,2,  34.9330,2,    254.5,2,    254.7,2,    29.60,2,    20.51,2,     1.36,2,    0.015,2,    0.008,2, -999.000,9,-999.0000,9,  -999.00,9,   -999.0,9,   -999.0,9,     8.02,2,  2.6330
 3230CITHER2_2,  A17N,   170,  1,     11,     11,2,19940304,1430, -0.7485, -30.4313, 4492,   3000.3,   2.6620,  34.9200,2,  34.9190,2,    251.3,2,    252.6,2,    33.90,2,    20.98,2,     1.40,2,    0.010,2,    0.008,2, -999.000,9,-999.0000,9,  -999.00,9,   -999.0,9,   -999.0,9,     8.02,2,  2.4190
 3230CITHER2_2,  A17N,   170,  1,     10,     10,2,19940304,1430, -0.7485, -30.4313, 4492,   3197.4,   2.5830,  34.9130,2,  34.9150,2,    252.0,2,    252.2,2,    35.60,2,    21.14,2,     1.42,2,    0.010,2,    0.006,2, -999.000,9,-999.0000,9,  -999.00,9,   -999.0,9,   -999.0,9,     8.02,2,  2.3210
 3230CITHER2_2,  A17N,   170,  1,      9,      9,2,19940304,1430, -0.7485, -30.4313, 4492,   3399.4,   2.5000,  34.9110,2,  34.9090,2,    256.2,2,    256.8,2,    34.30,2,    20.67,2,     1.37,2,    0.028,2,    0.021,2, -999.000,9,-999.0000,9,  -999.00,9,   -999.0,9,   -999.0,9,     8.01,2,  2.2180
 3230CITHER2_2,  A17N,   170,  1,      8,      8,2,19940304,1430, -0.7485, -30.4313, 4492,   3549.7,   2.4050,  34.9050,2,  34.9070,2,    260.2,2,    259.5,2,    34.10,2,    20.36,2,     1.35,2,    0.045,2,    0.024,2, -999.000,9,-999.0000,9,  -999.00,9,   -999.0,9,   -999.0,9,     8.01,2,  2.1100
 3230CITHER2_2,  A17N,   170,  1,      7,      7,2,19940304,1430, -0.7485, -30.4313, 4492,   3699.0,   2.3640,  34.9030,2,  34.9030,2,    260.6,2,    260.9,2,    34.10,2,    20.32,2,     1.35,2,    0.059,2,    0.040,2, -999.000,9,-999.0000,9,  -999.00,9,   -999.0,9,   -999.0,9,     8.02,2,  2.0530
 3230CITHER2_2,  A17N,   170,  1,      6,      6,2,19940304,1430, -0.7485, -30.4313, 4492,   3848.3,   2.3160,  34.8990,2,  34.8980,2,    261.7,2,    260.5,2,    35.40,2,    20.39,2,     1.35,2,    0.066,2,    0.042,2, -999.000,9,-999.0000,9,  -999.00,9,   -999.0,9,   -999.0,9,     8.01,2,  1.9900
 3230CITHER2_2,  A17N,   170,  1,      5,      5,2,19940304,1430, -0.7485, -30.4313, 4492,   3997.5,   2.2070,  34.8840,2,  34.8840,2,    258.2,2,    257.3,2,    41.50,2,    21.15,2,     1.43,2,    0.052,2,    0.030,2, -999.000,9,-999.0000,9,  -999.00,9,   -999.0,9,   -999.0,9,     8.01,2,  1.8670
 3230CITHER2_2,  A17N,   170,  1,      4,      4,2,19940304,1430, -0.7485, -30.4313, 4492,   4199.0,   1.7510,  34.8310,2,  34.8310,2,    248.9,2,    246.0,2,    63.40,2,    24.06,2,     1.67,2,    0.033,2,    0.025,2, -999.000,9,-999.0000,9,  -999.00,9,   -999.0,9,   -999.0,9,     7.98,2,  1.4020
 3230CITHER2_2,  A17N,   170,  1,      3,      3,2,19940304,1430, -0.7485, -30.4313, 4492,   4396.8,   1.1100,  34.7600,2,  34.7600,2,    230.6,2,    231.3,2,    95.00,2,    28.68,2,     2.00,2,    0.016,2,    0.008,2, -999.000,9,-999.0000,9,  -999.00,9,   -999.0,9,   -999.0,9,     7.94,2,  0.7580
 3230CITHER2_2,  A17N,   170,  1,      2,      2,2,19940304,1430, -0.7485, -30.4313, 4492,   4497.4,   1.0640,  34.7530,2,  34.7570,2,    228.6,2,    229.5,2,    97.50,2,    28.93,2,     2.00,2,    0.015,2,    0.007,2, -999.000,9,-999.0000,9,  -999.00,9,   -999.0,9,   -999.0,9,     7.94,2,  0.7020
 3230CITHER2_2,  A17N,   171,  1,     16,     16,2,19940304,1837, -0.7510, -30.4310, 4496,      4.9,  27.3000,  36.1130,2,  36.1120,2,    201.2,2,    201.6,2,     1.80,2,     0.00,2,     0.09,2,    1.699,2,    0.963,2, -999.000,9,-999.0000,9,  -999.00,9,   -999.0,9,   -999.0,9,     8.37,2, 27.3000
 3230CITHER2_2,  A17N,   171,  1,     15,     15,2,19940304,1837, -0.7510, -30.4310, 4496,      5.4,  27.3010,  36.1130,2,  36.1130,2,    201.2,2,    201.3,2,     1.80,2,     0.00,2,     0.09,2,    1.703,2,    0.962,2, -999.000,9,-999.0000,9,  -999.00,9,   -999.0,9,   -999.0,9,     8.37,2, 27.2990
 3230CITHER2_2,  A17N,   171,  1,     14,     14,2,19940304,1837, -0.7510, -30.4310, 4496,     60.1,  23.8460,  36.4900,2,  36.4800,2,    186.9,2,    186.6,2,     2.40,2,     2.16,2,     0.29,2,    1.791,2,    0.996,2, -999.000,9,-999.0000,9,  -999.00,9,   -999.0,9,   -999.0,9,     8.31,2, 23.8330
 3230CITHER2_2,  A17N,   171,  1,     13,     13,2,19940304,1837, -0.7510, -30.4310, 4496,    126.2,  13.5780,  35.3410,2,  35.3330,2,    164.0,2,    165.3,2,     7.30,2,    15.54,2,     1.11,2,    1.593,2,    0.843,2, -999.000,9,-999.0000,9,  -999.00,9,   -999.0,9,   -999.0,9,     8.09,2, 13.5600
 3230CITHER2_2,  A17N,   171,  1,     12,     12,2,19940304,1837, -0.7510, -30.4310, 4496,    201.1,  12.3800,  35.1960,2,  35.1940,2,    128.1,2,    129.7,2,     9.70,2,    21.71,2,     1.49,2,    1.113,2,    0.598,2, -999.000,9,-999.0000,9,  -999.00,9,   -999.0,9,   -999.0,9,     8.00,2, 12.3530
 3230CITHER2_2,  A17N,   171,  1,     11,     11,2,19940304,1837, -0.7510, -30.4310, 4496,    300.9,  10.5880,  34.9950,2,  34.9870,2,     96.5,2,     95.9,2,    13.40,2,    28.57,2,     1.87,2,    0.593,2,    0.326,2, -999.000,9,-999.0000,9,  -999.00,9,   -999.0,9,   -999.0,9,     7.89,2, 10.5520
 3230CITHER2_2,  A17N,   171,  1,     10,     10,2,19940304,1837, -0.7510, -30.4310, 4496,    402.5,   8.1850,  34.7330,2,  34.7320,2,    114.8,2,    110.7,2,    18.00,2,    32.06,2,     2.10,2,    0.335,2,    0.182,2, -999.000,9,-999.0000,9,  -999.00,9,   -999.0,9,   -999.0,9,     7.86,2,  8.1430
 3230CITHER2_2,  A17N,   171,  1,      9,      9,2,19940304,1837, -0.7510, -30.4310, 4496,    602.6,   5.8540,  34.5260,2,  34.5250,2,    144.8,2,    144.6,2,    25.10,2,    33.72,2,     2.27,2,    0.179,2,    0.104,2, -999.000,9,-999.0000,9,  -999.00,9,   -999.0,9,   -999.0,9,     7.85,2,  5.8020
 3230CITHER2_2,  A17N,   171,  1,      8,      8,2,19940304,1837, -0.7510, -30.4310, 4496,    698.9,   5.3800,  34.4980,2,  34.4990,2,    153.7,2,    150.3,2,    27.50,2,    33.82,2,     2.30,2,    0.144,2,    0.082,2, -999.000,9,-999.0000,9,  -999.00,9,   -999.0,9,   -999.0,9,     7.85,2,  5.3210
 3230CITHER2_2,  A17N,   171,  1,      7,      7,2,19940304,1837, -0.7510, -30.4310, 4496,    800.9,   4.8010,  34.5180,2,  34.5150,2,    151.8,2,    152.4,2,    31.10,2,    34.13,2,     2.35,2,    0.053,2,    0.034,2, -999.000,9,-999.0000,9,  -999.00,9,   -999.0,9,   -999.0,9,     7.84,2,  4.7370
 3230CITHER2_2,  A17N,   171,  1,      6,      6,2,19940304,1837, -0.7510, -30.4310, 4496,   1002.4,   4.4520,  34.6400,2,  34.6400,2,    162.5,2,    161.9,2,    31.60,2,    32.22,2,     2.22,2,    0.011,2,    0.008,2, -999.000,9,-999.0000,9,  -999.00,9,   -999.0,9,   -999.0,9,     7.86,2,  4.3720
 3230CITHER2_2,  A17N,   171,  1,      5,      5,2,19940304,1837, -0.7510, -30.4310, 4496,   1199.8,   4.5550,  34.7870,2,  34.7870,2,    176.7,2,    177.1,2,    27.00,2,    28.85,2,     1.98,2,    0.017,2,    0.008,2, -999.000,9,-999.0000,9,  -999.00,9,   -999.0,9,   -999.0,9,     7.90,2,  4.4570
 3230CITHER2_2,  A17N,   171,  1,      4,      4,2,19940304,1837, -0.7510, -30.4310, 4496,   1400.3,   4.3760,  34.9520,2,  34.9520,2,    217.9,2,    221.4,2,    19.70,2,    22.62,2,     1.52,2,    0.054,2,    0.034,2, -999.000,9,-999.0000,9,  -999.00,9,   -999.0,9,   -999.0,9,     7.98,2,  4.2610
 3230CITHER2_2,  A17N,   171,  1,      3,      3,2,19940304,1837, -0.7510, -30.4310, 4496,   1500.3,   4.2490,  34.9690,2,  34.9700,2,    228.9,2,    233.6,2,    18.70,2,    21.54,2,     1.44,2,    0.062,2,    0.040,2, -999.000,9,-999.0000,9,  -999.00,9,   -999.0,9,   -999.0,9,     7.99,2,  4.1260
 3230CITHER2_2,  A17N,   171,  1,      2,      2,2,19940304,1837, -0.7510, -30.4310, 4496,   1600.4,   4.1820,  34.9780,2,  34.9790,2,    237.0,2,    238.0,2,    18.00,2,    20.81,2,     1.38,2,    0.082,2,    0.051,2, -999.000,9,-999.0000,9,  -999.00,9,   -999.0,9,   -999.0,9,     8.00,2,  4.0500
 3230CITHER2_2,  A17N,   171,  1,      1,      1,2,19940304,1837, -0.7510, -30.4310, 4496,   1701.7,   4.0290,  34.9860,2,  34.9870,2,    243.4,2,    245.5,2,    17.50,2,    20.19,2,     1.33,2,    0.092,2,    0.056,2, -999.000,9,-999.0000,9,  -999.00,9,   -999.0,9,   -999.0,9,     8.01,2,  3.8900
 3230CITHER2_2,  A17N,   172,  1,     32,     32,2,19940304,2235, -0.5005, -30.8600, 4107,      6.0,  27.2340,  36.1100,2,  36.1120,2,    200.3,2,    200.5,2,     1.60,2,     0.04,2,     0.07,2,    1.710,2,    0.978,2, -999.000,9,-999.0000,9,  -999.00,9,   -999.0,9,   -999.0,9,     8.38,2, 27.2330
 3230CITHER2_2,  A17N,   172,  1,     31,     31,2,19940304,2235, -0.5005, -30.8600, 4107,     60.0,  25.1150,  36.3780,2,  36.3950,2,    192.1,2,    193.5,2,     2.00,2,     0.65,2,     0.18,2,    1.762,2,    0.987,2, -999.000,9,-999.0000,9,  -999.00,9,   -999.0,9,   -999.0,9,     8.35,2, 25.1020
 3230CITHER2_2,  A17N,   172,  1,     30,     30,2,19940304,2235, -0.5005, -30.8600, 4107,    100.4,  16.1320,  35.7130,2,  35.6890,2,    166.5,2,    162.6,2,     5.50,2,    12.65,2,     0.90,2,    1.723,2,    0.922,2, -999.000,9,-999.0000,9,  -999.00,9,   -999.0,9,   -999.0,9,     8.15,2, 16.1160
 3230CITHER2_2,  A17N,   172,  1,     29,     29,2,19940304,2235, -0.5005, -30.8600, 4107,    149.4,  13.5870,  35.3530,2,  35.3430,2,    161.0,2,    164.3,2,     7.30,2,    16.03,2,     1.11,2,    1.576,2,    0.831,2, -999.000,9,-999.0000,9,  -999.00,9,   -999.0,9,   -999.0,9,     8.10,2, 13.5660
 3230CITHER2_2,  A17N,   172,  1,     28,     28,2,19940304,2235, -0.5005, -30.8600, 4107,    201.7,  12.5180,  35.2060,2,  35.2050,2,    154.5,2,    139.1,2,     9.10,2,    20.59,2,     1.38,2,    1.254,2,    0.666,2, -999.000,9,-999.0000,9,  -999.00,9,   -999.0,9,   -999.0,9,     8.03,2, 12.4910
 3230CITHER2_2,  A17N,   172,  1,     27,     27,2,19940304,2235, -0.5005, -30.8600, 4107,    301.7,  10.6600,  35.0030,2,  35.0030,2,     97.0,2,     95.6,2,    13.10,2,    28.75,2,     1.84,2,    0.622,2,    0.341,2, -999.000,9,-999.0000,9,  -999.00,9,   -999.0,9,   -999.0,9,     7.90,2, 10.6230
 3230CITHER2_2,  A17N,   172,  1,     26,     26,2,19940304,2235, -0.5005, -30.8600, 4107,    400.9,   8.3180,  34.7470,2,  34.7450,2,    108.7,2,    109.7,2,    17.80,2,    32.09,2,     2.07,2,    0.358,2,    0.196,2, -999.000,9,-999.0000,9,  -999.00,9,   -999.0,9,   -999.0,9,     7.86,2,  8.2760
 3230CITHER2_2,  A17N,   172,  1,     25,     25,2,19940304,2235, -0.5005, -30.8600, 4107,    601.4,   5.9900,  34.5360,2,  34.5470,2,    140.4,2,    142.6,2,    23.60,2,    33.67,2,     2.26,2,    0.237,2,    0.133,2, -999.000,9,-999.0000,9,  -999.00,9,   -999.0,9,   -999.0,9,     7.86,2,  5.9370
 3230CITHER2_2,  A17N,   172,  1,     24,     24,2,19940304,2235, -0.5005, -30.8600, 4107,    701.4,   5.2900,  34.5020,2,  34.5020,2,    148.8,2,    146.6,2,    27.30,2,    34.21,2,     2.33,2,    0.108,2,    0.058,2, -999.000,9,-999.0000,9,  -999.00,9,   -999.0,9,   -999.0,9,     7.85,2,  5.2320
 3230CITHER2_2,  A17N,   172,  1,     23,     23,2,19940304,2235, -0.5005, -30.8600, 4107,    801.0,   4.7300,  34.5150,2,  34.5150,2,    154.8,2,    154.1,2,    30.90,2,    34.32,2,     2.33,2,    0.056,2,    0.033,2, -999.000,9,-999.0000,9,  -999.00,9,   -999.0,9,   -999.0,9,     7.86,2,  4.6660
 3230CITHER2_2,  A17N,   172,  1,     21,     21,2,19940304,2235, -0.5005, -30.8600, 4107,   1001.4,   4.4840,  34.6400,2,  34.6400,2,    161.3,2,    160.1,2,    30.70,2,    32.53,2,     2.23,2,    0.011,2,    0.006,2, -999.000,9,-999.0000,9,  -999.00,9,   -999.0,9,   -999.0,9,     7.87,2,  4.4040
 3230CITHER2_2,  A17N,   172,  1,     22,     22,2,19940304,2235, -0.5005, -30.8600, 4107,   1001.7,   4.4840,  34.6400,2,  34.6400,2,    161.3,2,    159.6,2,    30.70,2,    32.57,2,     2.23,2,    0.011,2,    0.005,2, -999.000,9,-999.0000,9,  -999.00,9,   -999.0,9,   -999.0,9,     7.87,2,  4.4040
 3230CITHER2_2,  A17N,   172,  1,     20,     20,2,19940304,2235, -0.5005, -30.8600, 4107,   1198.5,   4.5130,  34.8300,2,  34.8300,2,    186.5,2,    185.4,2,    25.00,2,    27.62,2,     1.88,2,    0.018,2,    0.011,2, -999.000,9,-999.0000,9,  -999.00,9,   -999.0,9,   -999.0,9,     7.93,2,  4.4150
 3230CITHER2_2,  A17N,   172,  1,     19,     19,2,19940304,2235, -0.5005, -30.8600, 4107,   1399.7,   4.3640,  34.9570,2,  34.9560,2,    219.1,2,    222.3,2,    19.10,2,    22.56,2,     1.51,2,    0.059,2,    0.036,2, -999.000,9,-999.0000,9,  -999.00,9,   -999.0,9,   -999.0,9,     7.99,2,  4.2490
 3230CITHER2_2,  A17N,   172,  1,     18,     18,2,19940304,2235, -0.5005, -30.8600, 4107,   1499.8,   4.2580,  34.9700,2,  34.9710,2,    228.4,2,    230.7,2,    18.40,2,    21.69,2,     1.44,2,    0.065,2,    0.040,2, -999.000,9,-999.0000,9,  -999.00,9,   -999.0,9,   -999.0,9,     8.00,2,  4.1350
 3230CITHER2_2,  A17N,   172,  1,     17,     17,2,19940304,2235, -0.5005, -30.8600, 4107,   1600.3,   4.1120,  34.9770,2,  34.9770,2,    237.5,2,    237.8,2,    18.10,2,    21.09,2,     1.39,2,    0.055,2,    0.034,2, -999.000,9,-999.0000,9,  -999.00,9,   -999.0,9,   -999.0,9,     8.01,2,  3.9810
 3230CITHER2_2,  A17N,   172,  1,     16,     16,2,19940304,2235, -0.5005, -30.8600, 4107,   1699.9,   4.0000,  34.9810,2,  34.9700,2,    243.8,2,    244.3,2,    18.00,2,    20.52,2,     1.33,2,    0.062,2,    0.047,2, -999.000,9,-999.0000,9,  -999.00,9,   -999.0,9,   -999.0,9,     8.02,2,  3.8610
 3230CITHER2_2,  A17N,   172,  1,     15,     15,2,19940304,2235, -0.5005, -30.8600, 4107,   1801.0,   3.8590,  34.9820,2,  34.9820,2,    248.8,2,    249.0,2,    18.30,2,    20.14,2,     1.31,2,    0.063,2,    0.039,2, -999.000,9,-999.0000,9,  -999.00,9,   -999.0,9,   -999.0,9,     8.02,2,  3.7130
 3230CITHER2_2,  A17N,   172,  1,     14,     14,2,19940304,2235, -0.5005, -30.8600, 4107,   2000.5,   3.6160,  34.9770,2,  34.9780,2,    254.7,2,    254.9,2,    19.20,2,    19.69,2,     1.28,2,    0.069,2,    0.041,2, -999.000,9,-999.0000,9,  -999.00,9,   -999.0,9,   -999.0,9,     8.03,2,  3.4540
 3230CITHER2_2,  A17N,   172,  1,     13,     13,2,19940304,2235, -0.5005, -30.8600, 4107,   2198.7,   3.2520,  34.9550,2,  34.9550,2,    250.9,2,    251.9,2,    25.10,2,    20.49,2,     1.34,2,    0.017,2,    0.015,2, -999.000,9,-999.0000,9,  -999.00,9,   -999.0,9,   -999.0,9,     8.02,2,  3.0770
 3230CITHER2_2,  A17N,   172,  1,     12,     12,2,19940304,2235, -0.5005, -30.8600, 4107,   2401.2,   3.0410,  34.9470,2,  34.9470,2,    252.3,2,    253.0,2,    27.40,2,    20.59,2,     1.35,2,    0.015,2,    0.011,2, -999.000,9,-999.0000,9,  -999.00,9,   -999.0,9,   -999.0,9,     8.02,2,  2.8500
 3230CITHER2_2,  A17N,   172,  1,     11,     11,2,19940304,2235, -0.5005, -30.8600, 4107,   2601.3,   2.9100,  34.9400,2,  34.9380,2,    253.4,2,    254.4,2,    29.30,2,    20.61,2,     1.34,2,    0.015,2,    0.012,2, -999.000,9,-999.0000,9,  -999.00,9,   -999.0,9,   -999.0,9,     8.02,2,  2.7020
 3230CITHER2_2,  A17N,   172,  1,     10,     10,2,19940304,2235, -0.5005, -30.8600, 4107,   2799.8,   2.7910,  34.9300,2,  34.9320,2,    252.4,2,    253.6,2,    31.30,2,    20.80,2,     1.37,2,    0.015,2,    0.010,2, -999.000,9,-999.0000,9,  -999.00,9,   -999.0,9,   -999.0,9,     8.02,2,  2.5650
 3230CITHER2_2,  A17N,   172,  1,      9,      9,2,19940304,2235, -0.5005, -30.8600, 4107,   2998.0,   2.7280,  34.9270,2,  34.9280,2,    253.4,2,    255.0,2,    32.10,2,    20.69,2,     1.37,2,    0.018,2,    0.016,2, -999.000,9,-999.0000,9,  -999.00,9,   -999.0,9,   -999.0,9,     8.02,2,  2.4830
 3230CITHER2_2,  A17N,   172,  1,      8,      8,2,19940304,2235, -0.5005, -30.8600, 4107,   3199.5,   2.6250,  34.9150,2,  34.9150,2,    249.5,2,    250.9,2,    36.30,2,    21.38,2,     1.41,2,    0.010,2,    0.007,2, -999.000,9,-999.0000,9,  -999.00,9,   -999.0,9,   -999.0,9,     8.02,2,  2.3620
 3230CITHER2_2,  A17N,   172,  1,      7,      7,2,19940304,2235, -0.5005, -30.8600, 4107,   3398.0,   2.4930,  34.9080,2,  34.9150,2,    254.1,2,    250.9,2,    35.60,2,    20.78,2,     1.38,2,    0.027,2,    0.019,2, -999.000,9,-999.0000,9,  -999.00,9,   -999.0,9,   -999.0,9,     8.02,2,  2.2120
 3230CITHER2_2,  A17N,   172,  1,      6,      6,2,19940304,2235, -0.5005, -30.8600, 4107,   3548.0,   2.4340,  34.9090,2,  34.9100,2,    258.6,2,    255.6,2,    33.80,2,    20.25,2,     1.34,2,    0.050,2,    0.029,2, -999.000,9,-999.0000,9,  -999.00,9,   -999.0,9,   -999.0,9,     8.02,2,  2.1380
 3230CITHER2_2,  A17N,   172,  1,      5,      5,2,19940304,2235, -0.5005, -30.8600, 4107,   3697.6,   2.3820,  34.9050,2,  34.9100,2,    259.9,2,    260.3,2,    34.10,2,    20.17,2,     1.33,2,    0.059,2,    0.036,2, -999.000,9,-999.0000,9,  -999.00,9,   -999.0,9,   -999.0,9,     8.02,2,  2.0710
 3230CITHER2_2,  A17N,   172,  1,      4,      4,2,19940304,2235, -0.5005, -30.8600, 4107,   3850.9,   2.3440,  34.9000,2,  34.9010,2,    260.2,2,    261.9,2,    34.40,2,    20.14,2,     1.33,2,    0.075,2,    0.045,2, -999.000,9,-999.0000,9,  -999.00,9,   -999.0,9,   -999.0,9,     8.02,2,  2.0170
 3230CITHER2_2,  A17N,   172,  1,      3,      3,2,19940304,2235, -0.5005, -30.8600, 4107,   3999.9,   2.2870,  34.8930,2,  34.8960,2,    260.6,2,    260.2,2,    36.80,2,    20.52,2,     1.36,2,    0.070,2,    0.045,2, -999.000,9,-999.0000,9,  -999.00,9,   -999.0,9,   -999.0,9,     8.02,2,  1.9450
 3230CITHER2_2,  A17N,   172,  1,      2,      2,2,19940304,2235, -0.5005, -30.8600, 4107,   4098.6,   2.1660,  34.8780,2,  34.8800,2,    257.3,2,    256.5,2,    43.70,2,    21.56,2,     1.45,2,    0.054,2,    0.032,2, -999.000,9,-999.0000,9,  -999.00,9,   -999.0,9,   -999.0,9,     8.01,2,  1.8160
 3230CITHER2_2,  A17N,   172,  1,      1,      1,2,19940304,2235, -0.5005, -30.8600, 4107,   4148.6,   2.0940,  34.8690,2,  34.8710,2,    255.0,2,    254.2,2,    47.60,2,    22.02,2,     1.49,2,    0.043,2,    0.030,2, -999.000,9,-999.0000,9,  -999.00,9,   -999.0,9,   -999.0,9,     8.00,2,  1.7400