BOTTLE,20030515WHPSIOSA
EXPOCODE,SECT_ID,STNNBR,CASTNO,SAMPNO,BTLNBR,BTLNBR_FLAG_W,DATE,TIME,LATITUDE,LONGITUDE,DEPTH,CTDPRS,CTDTMP,CTDSAL,CTDSAL_FLAG_W,SALNTY,SALNTY_FLAG_W,CTDOXY,CTDOXY_FLAG_W,OXYGEN,OXYGEN_FLAG_W,SILCAT,SILCAT_FLAG_W,NITRAT,NITRAT_FLAG_W,PHSPHT,PHSPHT_FLAG_W,CFC-11,CFC-11_FLAG_W,CFC-12,CFC-12_FLAG_W,TRITUM,TRITUM_FLAG_W,HELIUM,HELIUM_FLAG_W,DELHE3,DELHE3_FLAG_W,TCARBN,TCARBN_FLAG_W,ALKALI,ALKALI_FLAG_W,PH,PH_FLAG_W,THETA
,,,,,,,,,,,,DBAR,ITS-90,PSS-78,,PSS-78,,UMOL/KG,,UMOL/KG,,UMOL/KG,,UMOL/KG,,UMOL/KG,,PMOL/KG,,PMOL/KG,,TU,,NMOL/KG,,PERCNT,,UMOL/KG,,UMOL/KG,,,,DEG C
 3230CITHER2_1,  A17C,    76,  1,     30,     30,2,19940131,2114,-29.3138, -38.3438, 4315,      5.6,  24.2770,  36.2050,2,  36.2070,2,    208.3,2,    213.3,2,     1.00,2,     0.04,2,     0.01,2,    2.091,2,    1.202,2,    1.255,2,   1.6900,2,    -0.09,2,   -999.0,9,   -999.0,9,     8.35,2, 24.2760
 3230CITHER2_1,  A17C,    76,  1,     29,     29,2,19940131,2114,-29.3138, -38.3438, 4315,     50.6,  21.9910,  36.1550,2,  36.0730,2,    228.2,2,    228.9,2,     1.00,2,     0.04,2,     0.03,2,    2.305,2,    1.302,2,    0.963,2,   1.6900,2,    -0.04,2,   -999.0,9,   -999.0,9,     8.34,2, 21.9810
 3230CITHER2_1,  A17C,    76,  1,     28,     28,2,19940131,2114,-29.3138, -38.3438, 4315,    100.8,  17.7150,  35.9210,2,  35.9220,2,    226.7,2,    231.5,2,     1.00,2,     0.04,2,     0.10,2,    2.632,2,    1.445,2,    0.889,2,   1.7100,2,    -0.38,2,   -999.0,9,   -999.0,9,     8.29,2, 17.6980
 3230CITHER2_1,  A17C,    76,  1,     27,     27,2,19940131,2114,-29.3138, -38.3438, 4315,    148.5,  17.0430,  35.9010,2,  35.8980,2,    214.6,2,    221.6,2,     1.20,2,     1.93,2,     0.23,2,    2.660,2,    1.452,2, -999.000,9,   1.6700,2,     0.21,2,   -999.0,9,   -999.0,9,     8.27,2, 17.0180
 3230CITHER2_1,  A17C,    76,  1,     26,     26,2,19940131,2114,-29.3138, -38.3438, 4315,    200.4,  16.0450,  35.7710,2,  35.7690,2,    215.7,2,    217.9,2,     1.60,2,     3.99,2,     0.37,2,    2.663,2,    1.435,2,    0.650,2,   1.7200,2,     2.02,2,   -999.0,9,   -999.0,9,     8.24,2, 16.0130
 3230CITHER2_1,  A17C,    76,  1,     25,     25,2,19940131,2114,-29.3138, -38.3438, 4315,    298.8,  15.0670,  35.6470,2,  35.6590,2,    228.5,2,    222.9,2,     1.90,2,     5.04,2,     0.44,2,    2.757,2,    1.484,2, -999.000,9,   1.6800,2,     3.60,2,   -999.0,9,   -999.0,9,     8.22,2, 15.0210
 3230CITHER2_1,  A17C,    76,  1,     24,     24,2,19940131,2114,-29.3138, -38.3438, 4315,    401.0,  13.3220,  35.3090,2,  35.3100,2,    216.5,2,    211.7,2,     3.00,2,     9.56,2,     0.73,2,    2.553,2,    1.359,2,    0.540,2,   1.7300,2,     1.93,2,   -999.0,9,   -999.0,9,     8.16,2, 13.2650
 3230CITHER2_1,  A17C,    76,  1,     23,     23,2,19940131,2114,-29.3138, -38.3438, 4315,    599.6,   8.9060,  34.6900,2,  34.6880,2,    204.6,2,    202.2,2,     8.90,2,    20.46,2,     1.43,2,    1.742,2,    0.921,2,    0.387,2,   1.7300,2,     0.93,2,   -999.0,9,   -999.0,9,     8.02,2,  8.8400
 3230CITHER2_1,  A17C,    76,  1,     22,     22,2,19940131,2114,-29.3138, -38.3438, 4315,    750.7,   5.9320,  34.3840,2,  34.3970,2,    222.7,2,    220.2,2,    15.60,2,    26.15,2,     1.81,2,    1.634,2,    0.856,2,    0.256,2,   1.7900,2,     2.66,2,   -999.0,9,   -999.0,9,     7.97,2,  5.8660
 3230CITHER2_1,  A17C,    76,  1,     21,     21,2,19940131,2114,-29.3138, -38.3438, 4315,    869.8,   4.5690,  34.3070,2,  34.3090,2,    226.3,2,    227.3,2,    22.10,2,    28.68,2,     1.98,2,    1.374,2,    0.719,2,    0.175,2,   1.7900,2,     1.64,2,   -999.0,9,   -999.0,9,     7.94,2,  4.5010
 3230CITHER2_1,  A17C,    76,  1,     20,     20,2,19940131,2114,-29.3138, -38.3438, 4315,   1001.6,   3.8240,  34.3150,2,  34.3150,2,    219.2,2,    219.2,2,    31.10,2,    30.70,2,     2.11,2,    0.918,2,    0.499,2,    0.117,2,   1.7800,2,     0.55,2,   -999.0,9,   -999.0,9,     7.91,2,  3.7500
 3230CITHER2_1,  A17C,    76,  1,     19,     19,2,19940131,2114,-29.3138, -38.3438, 4315,   1101.0,   3.4120,  34.3610,2,  34.3590,2,    208.1,2,    207.8,2,    39.40,2,    32.21,2,     2.20,2,    0.581,2,    0.318,2, -999.000,9,-999.0000,9,  -999.00,9,   -999.0,9,   -999.0,9,     7.89,2,  3.3330
 3230CITHER2_1,  A17C,    76,  1,     18,     18,2,19940131,2114,-29.3138, -38.3438, 4315,   1200.9,   3.2030,  34.4080,2,  34.4010,2,    199.1,2,    200.6,2,    45.50,2,    32.60,2,     2.23,2,    0.375,2,    0.215,2,    0.274,2,   1.8000,2,     1.92,2,   -999.0,9,   -999.0,9,     7.88,2,  3.1180
 3230CITHER2_1,  A17C,    76,  1,     17,     17,2,19940131,2114,-29.3138, -38.3438, 4315,   1399.7,   2.9850,  34.5370,2,  34.5360,2,    189.0,2,    189.3,2,    53.80,2,    32.26,2,     2.21,2,    0.104,2,    0.062,2,    0.030,2,   1.8000,2,     3.29,2,   -999.0,9,   -999.0,9,     7.88,2,  2.8860
 3230CITHER2_1,  A17C,    76,  1,     16,     16,2,19940131,2114,-29.3138, -38.3438, 4315,   1599.7,   2.9060,  34.6690,2,  34.6560,2,    193.2,2,    195.4,2,    54.70,2,    30.42,2,     2.06,2,    0.037,2,    0.029,2, -999.000,9,-999.0000,9,  -999.00,9,   -999.0,9,   -999.0,9,     7.90,2,  2.7910
 3230CITHER2_1,  A17C,    76,  1,     15,     15,2,19940131,2114,-29.3138, -38.3438, 4315,   1800.2,   2.8900,  34.7630,2,  34.7600,2,    207.1,2,    208.9,2,    50.70,2,    27.66,2,     1.87,2,    0.011,2,    0.008,2, -999.000,9,-999.0000,9,  -999.00,9,   -999.0,9,   -999.0,9,     7.93,2,  2.7570
 3230CITHER2_1,  A17C,    76,  1,     14,     14,2,19940131,2114,-29.3138, -38.3438, 4315,   1999.7,   2.8890,  34.8240,2,  34.8220,2,    220.9,2,    223.2,2,    45.00,2,    25.48,2,     1.72,2,    0.009,2,    0.011,2, -999.000,9,   1.7900,2,     4.48,2,   -999.0,9,   -999.0,9,     7.96,2,  2.7390
 3230CITHER2_1,  A17C,    76,  1,     13,     13,2,19940131,2114,-29.3138, -38.3438, 4315,   2199.9,   3.1960,  34.9210,2,  34.9200,2,    246.3,2,    245.1,2,    29.80,2,    21.56,2,     1.43,2,    0.021,2,    0.019,2, -999.000,9,-999.0000,9,  -999.00,9,   -999.0,9,   -999.0,9,     8.00,2,  3.0220
 3230CITHER2_1,  A17C,    76,  1,     12,     12,2,19940131,2114,-29.3138, -38.3438, 4315,   2399.0,   3.0880,  34.9260,2,  34.9240,2,    247.5,2,    247.7,2,    30.50,2,    21.37,2,     1.42,2,    0.011,2,    0.008,2, -999.000,9,   1.8000,2,     2.86,2,   -999.0,9,   -999.0,9,     8.00,2,  2.8960
 3230CITHER2_1,  A17C,    76,  1,     11,     11,2,19940131,2114,-29.3138, -38.3438, 4315,   2598.9,   2.9680,  34.9240,2,  34.9220,2,    249.4,2,    249.5,2,    31.70,2,    21.26,2,     1.41,2,    0.012,2,    0.011,2, -999.000,9,-999.0000,9,  -999.00,9,   -999.0,9,   -999.0,9,     8.01,2,  2.7590
 3230CITHER2_1,  A17C,    76,  1,     10,     10,2,19940131,2114,-29.3138, -38.3438, 4315,   2798.6,   2.8650,  34.9220,2,  34.9200,2,    251.2,2,    250.2,2,    32.70,2,    21.11,2,     1.41,2,    0.013,2,    0.015,2, -999.000,9,   1.8100,2,     4.75,2,   -999.0,9,   -999.0,9,     8.01,2,  2.6380
 3230CITHER2_1,  A17C,    76,  1,      9,      9,2,19940131,2114,-29.3138, -38.3438, 4315,   2998.3,   2.7670,  34.9190,2,  34.9160,2,    252.5,2,    251.7,2,    34.10,2,    21.11,2,     1.41,2,    0.011,2,    0.005,2, -999.000,9,-999.0000,9,  -999.00,9,   -999.0,9,   -999.0,9,     8.01,2,  2.5220
 3230CITHER2_1,  A17C,    76,  1,      8,      8,2,19940131,2114,-29.3138, -38.3438, 4315,   3199.1,   2.6560,  34.9140,2,  34.9100,2,    253.3,2,    253.1,2,    36.10,2,    21.12,2,     1.40,2,    0.015,2,    0.014,2, -999.000,9,   1.8100,2,     4.64,2,   -999.0,9,   -999.0,9,     8.01,2,  2.3920
 3230CITHER2_1,  A17C,    76,  1,      7,      7,2,19940131,2114,-29.3138, -38.3438, 4315,   3398.5,   2.4560,  34.8960,2,  34.8960,2,    252.6,2,    250.9,2,    41.70,2,    21.74,2,     1.46,2,    0.014,2,    0.007,2, -999.000,9,-999.0000,9,  -999.00,9,   -999.0,9,   -999.0,9,     8.00,2,  2.1760
 3230CITHER2_1,  A17C,    76,  1,      6,      6,2,19940131,2114,-29.3138, -38.3438, 4315,   3399.2,   2.4480,  34.8930,2,  34.8940,2,    252.6,2,    252.0,2,    41.80,2,    21.75,2,     1.46,2,    0.009,2,    0.006,2, -999.000,9,-999.0000,9,  -999.00,9,   -999.0,9,   -999.0,9,     8.00,2,  2.1680
 3230CITHER2_1,  A17C,    76,  1,      5,      5,2,19940131,2114,-29.3138, -38.3438, 4315,   3600.8,   2.1160,  34.8640,2,  34.8610,2,    248.6,2,    247.5,2,    54.00,2,    23.15,2,     1.57,2,    0.011,2,    0.012,2, -999.000,9,   1.7500,2,     7.30,2,   -999.0,9,   -999.0,9,     7.99,2,  1.8230
 3230CITHER2_1,  A17C,    76,  1,      4,      4,2,19940131,2114,-29.3138, -38.3438, 4315,   3799.6,   1.7320,  34.8230,2,  34.8220,2,    242.5,2,    240.4,2,    70.60,2,    25.35,2,     1.71,2,    0.007,2,    0.010,2, -999.000,9,-999.0000,9,  -999.00,9,   -999.0,9,   -999.0,9,     7.97,2,  1.4280
 3230CITHER2_1,  A17C,    76,  1,      3,      3,2,19940131,2114,-29.3138, -38.3438, 4315,   3997.8,   1.4420,  34.7930,2,  34.7920,2,    235.9,2,    236.1,2,    83.80,2,    27.24,2,     1.85,2,    0.010,2,    0.017,2, -999.000,9,   1.8100,2,     6.07,2,   -999.0,9,   -999.0,9,     7.95,2,  1.1240
 3230CITHER2_1,  A17C,    76,  1,      2,      2,2,19940131,2114,-29.3138, -38.3438, 4315,   4198.0,   1.2350,  34.7690,2,  34.7680,2,    231.4,2,    231.2,2,    93.40,2,    28.47,2,     1.93,2,    0.016,2,    0.019,2, -999.000,9,-999.0000,9,  -999.00,9,   -999.0,9,   -999.0,9,     7.94,2,  0.9020
 3230CITHER2_1,  A17C,    76,  1,      1,      1,2,19940131,2114,-29.3138, -38.3438, 4315,   4364.2,   0.9620,  34.7380,2,  34.7370,2,    225.4,2,    228.5,2,   104.50,2,    30.21,2,     2.06,2,    0.041,2,    0.028,2, -999.000,9,   1.8300,2,     5.25,2,   -999.0,9,   -999.0,9,     7.92,2,  0.6190
 3230CITHER2_1,  A17C,    77,  1,     31,     31,2,19940201,0306,-28.9118, -37.9965, 4407,      1.8,   0.0070,   0.0220,2,  36.3220,2,    250.3,2,    212.3,2,     1.00,2,     0.04,2,     0.01,2,    2.087,2,    1.263,2, -999.000,9,-999.0000,9,  -999.00,9,   -999.0,9,   -999.0,9,     8.37,2,  0.0070
 3230CITHER2_1,  A17C,    77,  1,     30,     30,2,19940201,0306,-28.9118, -37.9965, 4407,     30.8,  24.0580,  36.3890,2,  36.3930,2,    230.5,2,    214.4,2,     1.00,2,     0.04,2,     0.01,2,    2.042,2,    1.209,2, -999.000,9,-999.0000,9,  -999.00,9,   -999.0,9,   -999.0,9,     8.37,2, 24.0510
 3230CITHER2_1,  A17C,    77,  1,     29,     29,2,19940201,0306,-28.9118, -37.9965, 4407,     75.8,  19.9930,  36.3140,2,  36.3120,2,    225.2,2,    225.3,2,     1.00,2,     0.00,2,     0.09,2,    2.359,2,    1.337,2, -999.000,9,-999.0000,9,  -999.00,9,   -999.0,9,   -999.0,9,     8.33,2, 19.9790
 3230CITHER2_1,  A17C,    77,  1,     28,     28,2,19940201,0306,-28.9118, -37.9965, 4407,    100.8,  18.8380,  36.1490,2,  36.1480,2,    215.6,2,    213.8,2,     1.10,2,     0.94,2,     0.15,2,    2.394,2,    1.307,2, -999.000,9,-999.0000,9,  -999.00,9,   -999.0,9,   -999.0,9,     8.29,2, 18.8200
 3230CITHER2_1,  A17C,    77,  1,     27,     27,2,19940201,0306,-28.9118, -37.9965, 4407,    150.8,  17.1680,  35.8730,2,  35.8540,2,    215.2,2,    214.2,2,     1.50,2,     2.29,2,     0.27,2,    2.583,2,    1.410,2, -999.000,9,-999.0000,9,  -999.00,9,   -999.0,9,   -999.0,9,     8.26,2, 17.1430
 3230CITHER2_1,  A17C,    77,  1,     26,     26,2,19940201,0306,-28.9118, -37.9965, 4407,    200.8,  16.2380,  35.7490,2,  35.7420,2,    214.8,2,    214.9,2,     1.80,2,     3.48,2,     0.35,2,    2.533,2,    1.460,2, -999.000,9,-999.0000,9,  -999.00,9,   -999.0,9,   -999.0,9,     8.24,2, 16.2060
 3230CITHER2_1,  A17C,    77,  1,     25,     25,2,19940201,0306,-28.9118, -37.9965, 4407,    300.8,  14.6090,  35.4890,2,  35.4800,2,    212.3,2,    208.0,2,     2.60,2,     7.08,2,     0.59,2,    2.553,2,    1.387,2, -999.000,9,-999.0000,9,  -999.00,9,   -999.0,9,   -999.0,9,     8.19,2, 14.5640
 3230CITHER2_1,  A17C,    77,  1,     24,     24,2,19940201,0306,-28.9118, -37.9965, 4407,    400.7,  13.2400,  35.2700,2,  35.2680,2,    209.4,2,    207.6,2,     3.50,2,    10.11,2,     0.77,2,    2.389,2,    1.289,2, -999.000,9,-999.0000,9,  -999.00,9,   -999.0,9,   -999.0,9,     8.15,2, 13.1840
 3230CITHER2_1,  A17C,    77,  1,     23,     23,2,19940201,0306,-28.9118, -37.9965, 4407,    499.7,  11.0810,  34.9650,2,  34.9580,2,    208.1,2,    205.6,2,     5.80,2,    15.32,2,     1.10,2,    2.135,2,    1.142,2, -999.000,9,-999.0000,9,  -999.00,9,   -999.0,9,   -999.0,9,     8.09,2, 11.0180
 3230CITHER2_1,  A17C,    77,  1,     22,     22,2,19940201,0306,-28.9118, -37.9965, 4407,    650.6,   7.3820,  34.5280,2,  34.5260,2,    213.4,2,    213.4,2,    12.10,2,    23.24,2,     1.64,2,    1.784,2,    0.935,2, -999.000,9,-999.0000,9,  -999.00,9,   -999.0,9,   -999.0,9,     8.00,2,  7.3180
 3230CITHER2_1,  A17C,    77,  1,     21,     21,2,19940201,0306,-28.9118, -37.9965, 4407,    830.5,   4.8940,  34.3230,2,  34.3260,2,    225.6,2,    225.4,2,    20.40,2,    28.29,2,     1.96,2,    1.447,2,    0.752,2, -999.000,9,-999.0000,9,  -999.00,9,   -999.0,9,   -999.0,9,     7.95,2,  4.8270
 3230CITHER2_1,  A17C,    77,  1,     20,     20,2,19940201,0306,-28.9118, -37.9965, 4407,   1001.4,   3.8250,  34.3140,2,  34.3150,2,    217.4,2,    217.5,2,    31.40,2,    31.11,2,     2.13,2,    0.879,2,    0.466,2, -999.000,9,-999.0000,9,  -999.00,9,   -999.0,9,   -999.0,9,     7.91,2,  3.7510
 3230CITHER2_1,  A17C,    77,  1,     19,     19,2,19940201,0306,-28.9118, -37.9965, 4407,   1200.3,   3.2350,  34.4040,2,  34.3980,2,    201.1,2,    200.9,2,    44.20,2,    32.61,2,     2.25,2,    0.410,2,    0.226,2, -999.000,9,-999.0000,9,  -999.00,9,   -999.0,9,   -999.0,9,     7.88,2,  3.1500
 3230CITHER2_1,  A17C,    77,  1,     18,     18,2,19940201,0306,-28.9118, -37.9965, 4407,   1401.2,   2.9750,  34.5300,2,  34.5300,2,    190.0,2,    190.4,2,    53.50,2,    32.54,2,     2.23,2,    0.130,2,    0.068,2, -999.000,9,-999.0000,9,  -999.00,9,   -999.0,9,   -999.0,9,     7.88,2,  2.8760
 3230CITHER2_1,  A17C,    77,  1,     17,     17,2,19940201,0306,-28.9118, -37.9965, 4407,   1600.4,   2.8950,  34.6620,2,  34.6590,2,    193.9,2,    194.3,2,    54.30,2,    30.70,2,     2.14,2,    0.034,2,    0.017,2, -999.000,9,-999.0000,9,  -999.00,9,   -999.0,9,   -999.0,9,     7.89,2,  2.7800
 3230CITHER2_1,  A17C,    77,  1,     16,     16,2,19940201,0306,-28.9118, -37.9965, 4407,   1800.4,   2.9310,  34.7590,2,  34.7550,2,    207.2,2,    208.7,2,    49.10,2,    27.65,2,     1.88,2,    0.020,2,    0.009,2, -999.000,9,-999.0000,9,  -999.00,9,   -999.0,9,   -999.0,9,     7.93,2,  2.7980
 3230CITHER2_1,  A17C,    77,  1,     15,     15,2,19940201,0306,-28.9118, -37.9965, 4407,   2000.7,   3.3440,  34.9040,2,  34.9000,2,    226.8,2,    236.7,2,    30.60,2,    22.41,2,     1.51,2,    0.017,2,    0.014,2, -999.000,9,-999.0000,9,  -999.00,9,   -999.0,9,   -999.0,9,     7.99,2,  3.1860
 3230CITHER2_1,  A17C,    77,  1,     14,     14,2,19940201,0306,-28.9118, -37.9965, 4407,   2199.9,   3.2340,  34.9210,2,  34.9160,2,    238.9,2,    243.7,2,    29.40,2,    21.56,2,     1.46,2,    0.020,2,    0.018,2, -999.000,9,-999.0000,9,  -999.00,9,   -999.0,9,   -999.0,9,     7.99,2,  3.0590
 3230CITHER2_1,  A17C,    77,  1,     13,     13,2,19940201,0306,-28.9118, -37.9965, 4407,   2401.1,   3.1430,  34.9330,2,  34.9310,2,    245.3,2,    248.9,2,    28.30,2,    20.95,2,     1.41,2,    0.013,2,    0.010,2, -999.000,9,-999.0000,9,  -999.00,9,   -999.0,9,   -999.0,9,     8.01,2,  2.9500
 3230CITHER2_1,  A17C,    77,  1,     12,     12,2,19940201,0306,-28.9118, -37.9965, 4407,   2599.6,   3.0260,  34.9300,2,  34.9290,2,    249.5,2,    249.4,2,    29.70,2,    20.83,2,     1.41,2,    0.008,2,    0.007,2, -999.000,9,-999.0000,9,  -999.00,9,   -999.0,9,   -999.0,9,     8.01,2,  2.8160
 3230CITHER2_1,  A17C,    77,  1,     11,     11,2,19940201,0306,-28.9118, -37.9965, 4407,   2800.1,   2.9270,  34.9280,2,  34.9290,2,    251.9,2,    250.8,2,    30.70,2,    20.80,2,     1.40,2,    0.007,2,    0.008,2, -999.000,9,-999.0000,9,  -999.00,9,   -999.0,9,   -999.0,9,     8.01,2,  2.6980
 3230CITHER2_1,  A17C,    77,  1,     10,     10,2,19940201,0306,-28.9118, -37.9965, 4407,   2999.3,   2.8360,  34.9240,2,  34.9220,2,    252.9,2,    250.8,2,    32.30,2,    20.81,2,     1.41,2,    0.006,2,    0.012,2, -999.000,9,-999.0000,9,  -999.00,9,   -999.0,9,   -999.0,9,     8.01,2,  2.5890
 3230CITHER2_1,  A17C,    77,  1,      9,      9,2,19940201,0306,-28.9118, -37.9965, 4407,   3199.7,   2.7380,  34.9190,2,  34.9170,2,    253.4,2,    249.7,2,    33.80,2,    20.82,2,     1.41,2,    0.008,2,    0.006,2, -999.000,9,-999.0000,9,  -999.00,9,   -999.0,9,   -999.0,9,     8.01,2,  2.4720
 3230CITHER2_1,  A17C,    77,  1,      8,      8,2,19940201,0306,-28.9118, -37.9965, 4407,   3398.5,   2.5920,  34.9090,2,  34.9100,2,    254.4,2,    252.0,2,    36.80,2,    21.01,2,     1.43,2,    0.015,2,    0.019,2, -999.000,9,-999.0000,9,  -999.00,9,   -999.0,9,   -999.0,9,     8.01,2,  2.3050
 3230CITHER2_1,  A17C,    77,  1,      7,      7,2,19940201,0306,-28.9118, -37.9965, 4407,   3398.6,   2.5890,  34.9090,2,  34.9090,2,    254.4,2,    252.1,2,    36.90,2,    21.00,2,     1.43,2,    0.007,2,    0.016,2, -999.000,9,-999.0000,9,  -999.00,9,   -999.0,9,   -999.0,9,     8.01,2,  2.3080
 3230CITHER2_1,  A17C,    77,  1,      6,      6,2,19940201,0306,-28.9118, -37.9965, 4407,   3598.0,   2.3490,  34.8850,2,  34.8860,2,    252.7,2,    249.8,2,    44.20,2,    22.01,2,     1.49,2,    0.003,2,    0.008,2, -999.000,9,-999.0000,9,  -999.00,9,   -999.0,9,   -999.0,9,     8.00,2,  2.0500
 3230CITHER2_1,  A17C,    77,  1,      5,      5,2,19940201,0306,-28.9118, -37.9965, 4407,   3798.9,   1.9570,  34.8470,2,  34.8450,2,    246.5,2,    243.7,2,    60.80,2,    24.23,2,     1.65,2,    0.009,2,    0.008,2, -999.000,9,-999.0000,9,  -999.00,9,   -999.0,9,   -999.0,9,     7.97,2,  1.6460
 3230CITHER2_1,  A17C,    77,  1,      4,      4,2,19940201,0306,-28.9118, -37.9965, 4407,   3998.1,   1.5130,  34.7970,2,  34.7970,2,    236.1,2,    234.4,2,    80.90,2,    27.07,2,     1.84,2,    0.019,2,    0.017,2, -999.000,9,-999.0000,9,  -999.00,9,   -999.0,9,   -999.0,9,     7.95,2,  1.1930
 3230CITHER2_1,  A17C,    77,  1,      3,      3,2,19940201,0306,-28.9118, -37.9965, 4407,   4197.9,   1.0340,  34.7460,2,  34.7470,2,    227.1,2,    226.8,2,   100.70,2,    29.81,2,     2.04,2,    0.032,2,    0.024,2, -999.000,9,-999.0000,9,  -999.00,9,   -999.0,9,   -999.0,9,     7.92,2,  0.7070
 3230CITHER2_1,  A17C,    77,  1,      2,      2,2,19940201,0306,-28.9118, -37.9965, 4407,   4398.1,   0.3200,  34.6840,2,  34.6820,2,    221.3,2,    222.5,2,   124.00,2,    32.76,2,     2.26,2,    0.116,2,    0.069,2, -999.000,9,-999.0000,9,  -999.00,9,   -999.0,9,   -999.0,9,     7.89,2, -0.0070
 3230CITHER2_1,  A17C,    77,  1,      1,      1,2,19940201,0306,-28.9118, -37.9965, 4407,   4447.7,   0.2230,  34.6750,2,  34.6750,2,    220.4,2,    222.3,2,   127.10,2,    33.34,2,     2.30,2,    0.137,2,    0.083,2, -999.000,9,-999.0000,9,  -999.00,9,   -999.0,9,   -999.0,9,     7.88,2, -0.1060