BOTTLE,20030515WHPSIOSA
EXPOCODE,SECT_ID,STNNBR,CASTNO,SAMPNO,BTLNBR,BTLNBR_FLAG_W,DATE,TIME,LATITUDE,LONGITUDE,DEPTH,CTDPRS,CTDTMP,CTDSAL,CTDSAL_FLAG_W,SALNTY,SALNTY_FLAG_W,CTDOXY,CTDOXY_FLAG_W,OXYGEN,OXYGEN_FLAG_W,SILCAT,SILCAT_FLAG_W,NITRAT,NITRAT_FLAG_W,PHSPHT,PHSPHT_FLAG_W,CFC-11,CFC-11_FLAG_W,CFC-12,CFC-12_FLAG_W,TRITUM,TRITUM_FLAG_W,HELIUM,HELIUM_FLAG_W,DELHE3,DELHE3_FLAG_W,TCARBN,TCARBN_FLAG_W,ALKALI,ALKALI_FLAG_W,PH,PH_FLAG_W,THETA
,,,,,,,,,,,,DBAR,ITS-90,PSS-78,,PSS-78,,UMOL/KG,,UMOL/KG,,UMOL/KG,,UMOL/KG,,UMOL/KG,,PMOL/KG,,PMOL/KG,,TU,,NMOL/KG,,PERCNT,,UMOL/KG,,UMOL/KG,,,,DEG C
 3230CITHER2_2,  A17N,   125,  1,     17,     17,2,19940219,0540,-12.9557, -36.7882, 3869,   1699.5,   3.8590,  34.9650,2,  34.9680,2,    243.6,2,    248.3,2,    19.50,2,    20.94,2,     1.39,2,    0.052,2,    0.034,2, -999.000,9,-999.0000,9,  -999.00,9,   -999.0,9,   -999.0,9,     8.00,2,  3.7220
 3230CITHER2_2,  A17N,   125,  1,     16,     16,2,19940219,0540,-12.9557, -36.7882, 3869,   1799.4,   3.7400,  34.9640,2,  34.9670,2,    246.2,2,    245.9,2,    20.30,2,    20.57,2,     1.40,2,    0.044,2,    0.036,2, -999.000,9,-999.0000,9,  -999.00,9,   -999.0,9,   -999.0,9,     8.00,2,  3.5950
 3230CITHER2_2,  A17N,   125,  1,     15,     15,2,19940219,0540,-12.9557, -36.7882, 3869,   1899.1,   3.6340,  34.9620,2,  34.9630,2,    247.7,2,    251.9,2,    21.10,2,    20.49,2,     1.37,2,    0.033,2,    0.025,2, -999.000,9,-999.0000,9,  -999.00,9,   -999.0,9,   -999.0,9,     8.01,2,  3.4810
 3230CITHER2_2,  A17N,   125,  1,     14,     14,2,19940219,0540,-12.9557, -36.7882, 3869,   2000.4,   3.5990,  34.9710,2,  34.9700,2,    250.3,2,    251.6,2,    20.00,2,    20.12,2,     1.33,2,    0.049,2,    0.037,2, -999.000,9,-999.0000,9,  -999.00,9,   -999.0,9,   -999.0,9,     8.01,2,  3.4370
 3230CITHER2_2,  A17N,   125,  1,     13,     13,2,19940219,0540,-12.9557, -36.7882, 3869,   2200.0,   3.4420,  34.9630,2,  34.9720,2,    251.5,2,    253.3,2,    21.70,2,    20.13,2,     1.34,2,    0.040,2,    0.029,2, -999.000,9,-999.0000,9,  -999.00,9,   -999.0,9,   -999.0,9,     8.01,2,  3.2640
 3230CITHER2_2,  A17N,   125,  1,     12,     12,2,19940219,0540,-12.9557, -36.7882, 3869,   2399.8,   3.2260,  34.9490,2,  34.9530,2,    250.3,2,    252.1,2,    25.40,2,    20.47,2,     1.37,2,    0.021,2,    0.017,2, -999.000,9,-999.0000,9,  -999.00,9,   -999.0,9,   -999.0,9,     8.01,2,  3.0320
 3230CITHER2_2,  A17N,   125,  1,     11,     11,2,19940219,0540,-12.9557, -36.7882, 3869,   2599.3,   3.0630,  34.9420,2,  34.9450,2,    250.9,2,    252.4,2,    27.60,2,    20.61,2,     1.38,2,    0.015,2,    0.016,2, -999.000,9,-999.0000,9,  -999.00,9,   -999.0,9,   -999.0,9,     8.01,2,  2.8520
 3230CITHER2_2,  A17N,   125,  1,     10,     10,2,19940219,0540,-12.9557, -36.7882, 3869,   2800.3,   2.8880,  34.9290,2,  34.9290,2,    249.5,2,    250.4,2,    31.70,2,    21.13,2,     1.42,2,    0.010,2,    0.010,2, -999.000,9,-999.0000,9,  -999.00,9,   -999.0,9,   -999.0,9,     8.00,2,  2.6600
 3230CITHER2_2,  A17N,   125,  1,      9,      9,2,19940219,0540,-12.9557, -36.7882, 3869,   3000.0,   2.7640,  34.9170,2,  34.9170,2,    248.1,2,    249.3,2,    35.00,2,    21.65,2,     1.44,2,    0.004,2,    0.004,2, -999.000,9,-999.0000,9,  -999.00,9,   -999.0,9,   -999.0,9,     8.00,2,  2.5180
 3230CITHER2_2,  A17N,   125,  1,      8,      8,2,19940219,0540,-12.9557, -36.7882, 3869,   3202.3,   2.7060,  34.9220,2,  34.9210,2,    252.4,2,    253.3,2,    33.00,2,    20.66,2,     1.40,2,    0.012,2,    0.009,2, -999.000,9,-999.0000,9,  -999.00,9,   -999.0,9,   -999.0,9,     8.01,2,  2.4410
 3230CITHER2_2,  A17N,   125,  1,      7,      7,2,19940219,0540,-12.9557, -36.7882, 3869,   3399.7,   2.6110,  34.9170,2,  34.9070,2,    254.3,2,    254.9,2,    33.90,2,    20.66,2,     1.41,2,    0.015,2,    0.010,2, -999.000,9,-999.0000,9,  -999.00,9,   -999.0,9,   -999.0,9,     8.01,2,  2.3270
 3230CITHER2_2,  A17N,   125,  1,      6,      6,2,19940219,0540,-12.9557, -36.7882, 3869,   3599.3,   2.4780,  34.9060,2,  34.9050,2,    255.8,2,    256.9,2,    36.50,2,    20.71,2,     1.41,2,    0.018,2,    0.016,2, -999.000,9,-999.0000,9,  -999.00,9,   -999.0,9,   -999.0,9,     8.01,2,  2.1750
 3230CITHER2_2,  A17N,   125,  1,      5,      5,2,19940219,0540,-12.9557, -36.7882, 3869,   3698.4,   2.3850,  34.8970,2,  34.8970,2,    254.9,2,    254.8,2,    39.80,2,    21.39,2,     1.44,2,    0.015,2,    0.014,2, -999.000,9,-999.0000,9,  -999.00,9,   -999.0,9,   -999.0,9,     8.00,2,  2.0740
 3230CITHER2_2,  A17N,   125,  1,      4,      4,2,19940219,0540,-12.9557, -36.7882, 3869,   3794.6,   2.1940,  34.8780,2,  34.8750,2,    252.5,2,    251.8,2,    47.40,2,    22.28,2,     1.52,2,    0.018,2,    0.013,2, -999.000,9,-999.0000,9,  -999.00,9,   -999.0,9,   -999.0,9,     7.99,2,  1.8770
 3230CITHER2_2,  A17N,   125,  1,      3,      3,2,19940219,0540,-12.9557, -36.7882, 3869,   3848.4,   1.9690,  34.8520,2,  34.8520,2,    248.0,2,    246.6,2,    57.60,2,    23.63,2,     1.62,2,    0.009,2,    0.006,2, -999.000,9,-999.0000,9,  -999.00,9,   -999.0,9,   -999.0,9,     7.98,2,  1.6530
 3230CITHER2_2,  A17N,   125,  1,      2,      2,2,19940219,0540,-12.9557, -36.7882, 3869,   3902.0,   1.6160,  34.8140,2,  34.8130,2,    240.1,2,    239.3,2,    74.60,2,    25.94,2,     1.78,2,    0.005,2,    0.011,2, -999.000,9,-999.0000,9,  -999.00,9,   -999.0,9,   -999.0,9,     7.96,2,  1.2940
 3230CITHER2_2,  A17N,   125,  1,      1,      1,2,19940219,0540,-12.9557, -36.7882, 3869,   3902.1,   1.6060,  34.8150,2,  34.8160,2,    240.1,2,    239.8,2,    74.40,2,    25.93,2,     1.78,2,    0.012,2,    0.013,2, -999.000,9,-999.0000,9,  -999.00,9,   -999.0,9,   -999.0,9,     7.96,2,  1.3040
 3230CITHER2_2,  A17N,   126,  1,     32,     32,2,19940219,1147,-13.2065, -36.4512, 4196,      7.0,  28.6030,  37.2010,2,-999.0000,5,    191.4,2,    224.2,2,     1.50,2,     0.04,2,     0.04,2,    1.621,2,    0.943,2, -999.000,9,   1.7000,2,    -1.27,2,   2049.8,2,   2444.4,2,     8.41,2, 28.6010
 3230CITHER2_2,  A17N,   126,  1,     31,     31,2,19940219,1147,-13.2065, -36.4512, 4196,     50.9,  28.4020,  37.1940,2,  37.1810,2,    198.6,2,    200.9,2,     1.50,2,     0.04,2,     0.04,2,    1.646,2,    0.960,2,    0.730,2,   1.6900,2,    -1.44,2,   2048.8,2,   2443.1,2,     8.40,2, 28.3900
 3230CITHER2_2,  A17N,   126,  1,     30,     30,2,19940219,1147,-13.2065, -36.4512, 4196,    111.4,  25.2230,  37.2940,2,  37.2930,2,    215.1,2,    211.3,2,     1.40,2,     0.04,2,     0.12,2,    1.828,2,    1.028,2,    0.740,2,   1.6800,2,    -1.80,2,   2080.8,2,   2456.8,2,     8.37,2, 25.1980
 3230CITHER2_2,  A17N,   126,  1,     29,     29,2,19940219,1147,-13.2065, -36.4512, 4196,    200.4,  18.5280,  36.0410,2,  36.0480,2,    196.0,2,    194.6,2,     2.30,2,     3.08,2,     0.39,2,    2.170,2,    1.175,2, -999.000,9,   1.7000,2,    -1.79,2,   2094.3,2,   2377.2,2,     8.24,2, 18.4930
 3230CITHER2_2,  A17N,   126,  1,     28,     28,2,19940219,1147,-13.2065, -36.4512, 4196,    301.5,  12.6860,  35.1480,2,  35.1440,2,    170.0,2,    167.7,2,     6.40,2,    16.24,2,     1.13,2,    1.673,2,    0.887,2,    0.490,2,   1.7100,2,    -0.77,2,   2137.2,2,   2325.5,2,     8.07,2, 12.6450
 3230CITHER2_2,  A17N,   126,  1,     27,     27,2,19940219,1147,-13.2065, -36.4512, 4196,    401.7,   9.5880,  34.8300,2,  34.8250,2,    136.1,2,    138.4,2,    12.60,2,    26.26,2,     1.74,2,    0.723,2,    0.387,2,    0.260,2,   1.7700,2,     0.37,2,   2181.7,2,   2311.7,2,     7.94,2,  9.5420
 3230CITHER2_2,  A17N,   126,  1,     26,     26,2,19940219,1147,-13.2065, -36.4512, 4196,    601.4,   5.3090,  34.4310,2,  34.4300,2,    183.3,2,    185.0,2,    24.50,2,    31.72,2,     2.12,2,    0.397,2,    0.219,2,    0.080,2,   1.7600,2,     1.26,2,   2191.2,2,   2309.9,2,     7.90,2,  5.2590
 3230CITHER2_2,  A17N,   126,  1,     25,     25,2,19940219,1147,-13.2065, -36.4512, 4196,    701.1,   4.2930,  34.3890,2,  34.3920,2,    192.9,2,    193.3,2,    31.50,2,    32.86,2,     2.20,2,    0.352,2,    0.190,2,    0.090,2,   1.7600,2,     2.15,2,   2198.7,2,   2312.1,2,     7.89,2,  4.2400
 3230CITHER2_2,  A17N,   126,  1,     23,     23,2,19940219,1147,-13.2065, -36.4512, 4196,    799.6,   3.8930,  34.4260,2,  34.4270,2,    192.2,2,    187.9,2,    36.80,2,    33.58,2,     2.26,2,    0.179,2,    0.102,2,    0.020,2,   1.7900,2,     2.66,2,   2209.5,2,   2319.3,2,     7.88,2,  3.8340
 3230CITHER2_2,  A17N,   126,  1,     24,     24,2,19940219,1147,-13.2065, -36.4512, 4196,    799.8,   3.8940,  34.4270,2,  34.4280,2,    192.2,2,    186.5,2,    36.80,2,    33.63,2,     2.26,2,    0.184,2,    0.097,2, -999.000,9,   1.7700,2,     2.59,2,   -999.0,5,   2319.3,2,     7.88,2,  3.8350
 3230CITHER2_2,  A17N,   126,  1,     22,     22,2,19940219,1147,-13.2065, -36.4512, 4196,   1000.3,   3.7210,  34.5960,2,  34.5960,2,    184.4,2,    184.6,2,    38.60,2,    32.07,2,     2.16,2,    0.034,2,    0.018,2,    0.050,2,   1.8100,2,     2.31,2,   2213.7,2,   2325.7,2,     7.89,2,  3.6470
 3230CITHER2_2,  A17N,   126,  1,     21,     21,2,19940219,1147,-13.2065, -36.4512, 4196,   1199.5,   4.1850,  34.8170,2,  34.8170,2,    194.8,2,    194.2,2,    27.10,2,    27.64,2,     1.86,2,    0.013,2,    0.008,2,    0.030,2,   1.8100,2,     1.88,2,   2199.3,2,   2328.2,2,     7.93,2,  4.0900
 3230CITHER2_2,  A17N,   126,  1,     20,     20,2,19940219,1147,-13.2065, -36.4512, 4196,   1399.6,   4.1960,  34.9450,2,  34.9460,2,    222.6,2,    227.1,2,    20.20,2,    22.57,2,     1.53,2,    0.042,2,    0.028,2,    0.011,2,   1.8000,2,     2.05,2,   2179.1,2,   2329.2,2,     7.98,2,  4.0830
 3230CITHER2_2,  A17N,   126,  1,     19,     19,2,19940219,1147,-13.2065, -36.4512, 4196,   1500.2,   4.0660,  34.9630,2,  34.9630,2,    232.8,2,    234.5,2,    19.40,2,    21.49,2,     1.45,2,    0.062,2,    0.035,2, -999.000,9,-999.0000,9,  -999.00,9,   2172.8,2,   2327.2,2,     8.00,2,  3.9450
 3230CITHER2_2,  A17N,   126,  1,     18,     18,2,19940219,1147,-13.2065, -36.4512, 4196,   1600.1,   3.9590,  34.9710,2,  34.9720,2,    240.2,2,    240.5,2,    19.10,2,    20.75,2,     1.40,2,    0.064,2,    0.042,2, -999.000,9,   1.8000,2,     2.71,2,   2170.2,2,   2327.0,2,     8.01,2,  3.8300
 3230CITHER2_2,  A17N,   126,  1,     17,     17,2,19940219,1147,-13.2065, -36.4512, 4196,   1700.1,   3.8690,  34.9770,2,  34.9770,2,    245.6,2,    245.6,2,    18.60,2,    20.32,2,     1.35,2,    0.061,2,    0.034,2, -999.000,9,-999.0000,9,  -999.00,9,   2169.4,2,   2329.6,2,     8.01,2,  3.7320
 3230CITHER2_2,  A17N,   126,  1,     16,     16,2,19940219,1147,-13.2065, -36.4512, 4196,   1801.6,   3.7370,  34.9740,2,  34.9730,2,    249.1,2,    248.6,2,    19.30,2,    20.14,2,     1.34,2,    0.056,2,    0.033,2, -999.000,9,   1.8100,2,     2.09,2,   2167.9,2,   2329.2,2,     8.01,2,  3.5920
 3230CITHER2_2,  A17N,   126,  1,     15,     15,2,19940219,1147,-13.2065, -36.4512, 4196,   1900.5,   3.6420,  34.9730,2,  34.9740,2,    251.0,2,    251.0,2,    20.10,2,    19.89,2,     1.33,2,    0.050,2,    0.033,2, -999.000,9,-999.0000,9,  -999.00,9,   2167.9,2,   2331.9,2,     8.02,2,  3.4890
 3230CITHER2_2,  A17N,   126,  1,     14,     14,2,19940219,1147,-13.2065, -36.4512, 4196,   2001.1,   3.5460,  34.9670,2,  34.9670,2,    251.7,2,    250.7,2,    21.10,2,    20.07,2,     1.34,2,    0.038,2,    0.025,2, -999.000,9,-999.0000,9,  -999.00,9,   2167.8,2,   2331.3,2,     8.02,2,  3.3850
 3230CITHER2_2,  A17N,   126,  1,     13,     13,2,19940219,1147,-13.2065, -36.4512, 4196,   2200.1,   3.3720,  34.9600,2,  34.9590,2,    253.2,2,    252.5,2,    23.10,2,    20.07,2,     1.34,2,    0.029,2,    0.016,2, -999.000,9,   1.7700,2,     1.59,2,   2168.7,2,   2333.1,2,     8.02,2,  3.1950
 3230CITHER2_2,  A17N,   126,  1,     12,     12,2,19940219,1147,-13.2065, -36.4512, 4196,   2400.1,   3.1650,  34.9470,2,  34.9470,2,    252.5,2,    251.5,2,    26.40,2,    20.55,2,     1.37,2,    0.015,2,    0.010,2, -999.000,9,-999.0000,9,  -999.00,9,   2171.3,2,   2337.7,2,     8.02,2,  2.9720
 3230CITHER2_2,  A17N,   126,  1,     11,     11,2,19940219,1147,-13.2065, -36.4512, 4196,   2600.2,   2.9350,  34.9250,2,  34.9300,2,    247.5,2,    247.1,2,    32.50,2,    21.42,2,     1.44,2,    0.010,2,    0.006,2, -999.000,9,   1.8000,2,     1.91,2,   2179.7,2,   2342.0,2,     8.01,2,  2.7260
 3230CITHER2_2,  A17N,   126,  1,     10,     10,2,19940219,1147,-13.2065, -36.4512, 4196,   2800.2,   2.8430,  34.9230,2,  34.9270,2,    248.1,2,    249.4,2,    33.70,2,    21.38,2,     1.44,2,    0.003,2,    0.005,2, -999.000,9,-999.0000,9,  -999.00,9,   2179.4,2,   2343.3,2,     8.01,2,  2.6160
 3230CITHER2_2,  A17N,   126,  1,      9,      9,2,19940219,1147,-13.2065, -36.4512, 4196,   2999.3,   2.7430,  34.9150,2,  34.9160,2,    247.6,2,    253.5,2,    34.90,2,    21.60,2,     1.46,2,    0.004,2,    0.001,2, -999.000,9,   1.7800,2,     2.38,2,   2181.3,2,   2345.6,2,     8.01,2,  2.4980
 3230CITHER2_2,  A17N,   126,  1,      8,      8,2,19940219,1147,-13.2065, -36.4512, 4196,   3199.1,   2.6820,  34.9180,2,  34.9210,2,    251.2,2,    251.0,2,    35.90,2,    21.21,2,     1.42,2,    0.006,2,    0.006,2, -999.000,9,-999.0000,9,  -999.00,9,   2179.8,2,   2344.6,2,     8.02,2,  2.4170
 3230CITHER2_2,  A17N,   126,  1,      7,      7,2,19940219,1147,-13.2065, -36.4512, 4196,   3398.8,   2.5960,  34.9170,2,  34.9180,2,    254.2,2,    255.0,2,    34.20,2,    20.65,2,     1.39,2,    0.009,2,    0.007,2, -999.000,9,   1.8100,2,     2.94,2,   2178.8,2,   2345.9,2,     8.02,2,  2.3120
 3230CITHER2_2,  A17N,   126,  1,      6,      6,2,19940219,1147,-13.2065, -36.4512, 4196,   3598.3,   2.4460,  34.9010,2,  34.9020,2,    255.5,2,    254.7,2,    38.40,2,    21.05,2,     1.43,2,    0.011,2,    0.006,2, -999.000,9,-999.0000,9,  -999.00,9,   2183.2,2,   2347.0,2,     8.01,2,  2.1440
 3230CITHER2_2,  A17N,   126,  1,      5,      5,2,19940219,1147,-13.2065, -36.4512, 4196,   3796.8,   1.9530,  34.8540,2,  34.8540,2,    248.2,2,    255.6,2,    58.00,2,    23.58,2,     1.62,2,    0.004,2,    0.005,2, -999.000,9,-999.0000,9,  -999.00,9,   2202.5,2,   2356.5,2,     7.99,2,  1.6430
 3230CITHER2_2,  A17N,   126,  1,      4,      4,2,19940219,1147,-13.2065, -36.4512, 4196,   3895.8,   1.6330,  34.8170,2,  34.8240,2,    241.0,2,    239.9,2,    73.90,2,    25.78,2,     1.78,2,    0.002,2,    0.003,2, -999.000,9,-999.0000,9,  -999.00,9,   2216.6,2,   2362.1,2,     7.97,2,  1.3210
 3230CITHER2_2,  A17N,   126,  1,      3,      3,2,19940219,1147,-13.2065, -36.4512, 4196,   3996.9,   1.3280,  34.7850,2,  34.7870,2,    234.9,2,    233.7,2,    87.70,2,    27.74,2,     1.91,2,    0.015,2,    0.003,2, -999.000,9,-999.0000,9,  -999.00,9,   2229.4,2,   2368.1,2,     7.95,2,  1.0140
 3230CITHER2_2,  A17N,   126,  1,      2,      2,2,19940219,1147,-13.2065, -36.4512, 4196,   4097.8,   1.0320,  34.7540,2,  34.7540,2,    229.2,2,    228.4,2,   100.50,2,    29.69,2,     2.03,2,    0.012,2,    0.005,2, -999.000,9,-999.0000,9,  -999.00,9,   2240.3,2,   2374.3,2,     7.94,2,  0.7150
 3230CITHER2_2,  A17N,   126,  1,      1,      1,2,19940219,1147,-13.2065, -36.4512, 4196,   4229.6,   0.7440,  34.7230,2,  34.7220,2,    221.9,2,    224.1,2,   112.00,2,    31.43,2,     2.16,2,    0.035,2,    0.016,2, -999.000,9,   1.8600,2,     4.99,2,   2252.6,2,   2377.0,2,     7.94,2,  0.4220