BOTTLE,20030515WHPSIOSA
EXPOCODE,SECT_ID,STNNBR,CASTNO,SAMPNO,BTLNBR,BTLNBR_FLAG_W,DATE,TIME,LATITUDE,LONGITUDE,DEPTH,CTDPRS,CTDTMP,CTDSAL,CTDSAL_FLAG_W,SALNTY,SALNTY_FLAG_W,CTDOXY,CTDOXY_FLAG_W,OXYGEN,OXYGEN_FLAG_W,SILCAT,SILCAT_FLAG_W,NITRAT,NITRAT_FLAG_W,PHSPHT,PHSPHT_FLAG_W,CFC-11,CFC-11_FLAG_W,CFC-12,CFC-12_FLAG_W,TRITUM,TRITUM_FLAG_W,HELIUM,HELIUM_FLAG_W,DELHE3,DELHE3_FLAG_W,TCARBN,TCARBN_FLAG_W,ALKALI,ALKALI_FLAG_W,PH,PH_FLAG_W,THETA
,,,,,,,,,,,,DBAR,ITS-90,PSS-78,,PSS-78,,UMOL/KG,,UMOL/KG,,UMOL/KG,,UMOL/KG,,UMOL/KG,,PMOL/KG,,PMOL/KG,,TU,,NMOL/KG,,PERCNT,,UMOL/KG,,UMOL/KG,,,,DEG C
 3230CITHER2_2,  A17N,   215,  1,     32,     32,2,19940316,0935, 12.3048, -47.7563, 4519,      5.0,  25.2880,  36.4400,2,  36.4410,2,    208.3,2,    206.5,2,     1.50,2,     0.00,2,     0.02,2,    1.825,2,    1.000,2, -999.000,9,-999.0000,9,  -999.00,9,   2025.6,2,   2393.3,2,     8.38,2, 25.2870
 3230CITHER2_2,  A17N,   215,  1,     31,     31,2,19940316,0935, 12.3048, -47.7563, 4519,     71.5,  25.1960,  36.4410,2,  36.4470,2,    207.0,2,    207.3,2,     1.50,2,     0.00,2,     0.02,2,    1.845,2,    1.007,2, -999.000,9,-999.0000,9,  -999.00,9,   2027.0,2,   2394.7,2,     8.38,2, 25.1800
 3230CITHER2_2,  A17N,   215,  1,     30,     30,2,19940316,0935, 12.3048, -47.7563, 4519,    116.4,  23.4250,  37.2080,2,  37.2060,2,    190.0,2,    189.2,2,     1.20,2,     0.35,2,     0.04,2,    1.938,2,    1.050,2, -999.000,9,-999.0000,9,  -999.00,9,   2097.6,2,   2439.2,2,     8.32,2, 23.4010
 3230CITHER2_2,  A17N,   215,  1,     29,     29,2,19940316,0935, 12.3048, -47.7563, 4519,    199.9,  14.7090,  35.7990,2,  35.7880,2,    108.5,2,    108.6,2,     7.80,2,    20.52,2,     1.22,2,    1.172,2,    0.620,2, -999.000,9,-999.0000,9,  -999.00,9,   2182.2,2,   2356.0,2,     8.02,2, 14.6790
 3230CITHER2_2,  A17N,   215,  1,     28,     28,2,19940316,0935, 12.3048, -47.7563, 4519,    300.9,  11.7630,  35.3730,2,  35.3710,2,     98.5,2,     99.1,2,    11.40,2,    25.50,2,     1.58,2,    0.664,2,    0.355,2, -999.000,9,-999.0000,9,  -999.00,9,   2197.7,2,   2331.1,2,     7.94,2, 11.7240
 3230CITHER2_2,  A17N,   215,  1,     27,     27,2,19940316,0935, 12.3048, -47.7563, 4519,    400.9,   9.8380,  35.0750,2,  35.0820,2,    102.4,2,    102.1,2,    14.90,2,    29.02,2,     1.81,2,    0.397,2,    0.218,2, -999.000,9,-999.0000,9,  -999.00,9,   2207.0,2,   2323.6,2,     7.90,2,  9.7910
 3230CITHER2_2,  A17N,   215,  1,     26,     26,2,19940316,0935, 12.3048, -47.7563, 4519,    501.6,   8.5470,  34.9300,2,  34.9260,2,    107.5,2,    106.4,2,    18.10,2,    31.48,2,     1.99,2,    0.219,2,    0.124,2, -999.000,9,-999.0000,9,  -999.00,9,   2212.0,2,   2314.7,2,     7.87,2,  8.4930
 3230CITHER2_2,  A17N,   215,  1,     25,     25,2,19940316,0935, 12.3048, -47.7563, 4519,    601.4,   7.5000,  34.8270,2,  34.8270,2,    109.8,2,    108.6,2,    21.60,2,    33.07,2,     2.12,2,    0.096,2,    0.061,2, -999.000,9,-999.0000,9,  -999.00,9,   2217.7,2,   2317.4,2,     7.84,2,  7.4400
 3230CITHER2_2,  A17N,   215,  1,     24,     24,2,19940316,0935, 12.3048, -47.7563, 4519,    800.5,   6.2230,  34.7440,2,  34.7450,2,    119.3,2,    117.7,2,    26.00,2,    34.35,2,     2.24,2,    0.016,2,    0.012,2, -999.000,9,-999.0000,9,  -999.00,9,   2223.8,2,   2316.1,2,     7.83,2,  6.1500
 3230CITHER2_2,  A17N,   215,  1,     23,     23,2,19940316,0935, 12.3048, -47.7563, 4519,   1000.4,   5.4950,  34.8220,2,  34.8160,2,    139.8,2,    141.5,2,    26.70,2,    32.00,2,     2.12,2,    0.004,2,    0.007,2, -999.000,9,-999.0000,9,  -999.00,9,   2216.4,2,   2322.4,2,     7.86,2,  5.4070
 3230CITHER2_2,  A17N,   215,  1,     22,     22,2,19940316,0935, 12.3048, -47.7563, 4519,   1200.6,   5.0750,  34.9280,2,  34.9270,2,    181.8,2,    179.9,2,    23.30,2,    26.74,2,     1.78,2,    0.029,2,    0.024,2, -999.000,9,-999.0000,9,  -999.00,9,   2198.7,2,   2324.4,2,     7.93,2,  4.9720
 3230CITHER2_2,  A17N,   215,  1,     21,     21,2,19940316,0935, 12.3048, -47.7563, 4519,   1399.9,   4.6500,  34.9980,2,  34.9990,2,    220.6,2,    224.0,2,    18.30,2,    21.83,2,     1.43,2,    0.108,2,    0.066,2, -999.000,9,-999.0000,9,  -999.00,9,   2180.3,2,   2327.3,2,     7.99,2,  4.5320
 3230CITHER2_2,  A17N,   215,  1,     20,     20,2,19940316,0935, 12.3048, -47.7563, 4519,   1500.1,   4.3830,  34.9990,2,  35.0000,2,    231.3,2,    234.8,2,    17.80,2,    21.02,2,     1.38,2,    0.085,2,    0.056,2, -999.000,9,-999.0000,9,  -999.00,9,   2169.8,2,   2327.3,2,     8.00,2,  4.2580
 3230CITHER2_2,  A17N,   215,  1,     19,     19,2,19940316,0935, 12.3048, -47.7563, 4519,   1600.5,   4.2230,  34.9980,2,  35.0000,2,    239.8,2,    241.0,2,    17.40,2,    20.60,2,     1.33,2,    0.078,2,    0.060,2, -999.000,9,-999.0000,9,  -999.00,9,   2165.4,2,   2326.0,2,     8.01,2,  4.0910
 3230CITHER2_2,  A17N,   215,  1,     18,     18,2,19940316,0935, 12.3048, -47.7563, 4519,   1702.0,   3.9960,  34.9940,2,  34.9950,2,    248.1,2,    248.7,2,    17.50,2,    20.06,2,     1.30,2,    0.064,2,    0.042,2, -999.000,9,-999.0000,9,  -999.00,9,   2162.9,2,   2326.9,2,     8.01,2,  3.8570
 3230CITHER2_2,  A17N,   215,  1,     17,     17,2,19940316,0935, 12.3048, -47.7563, 4519,   1800.3,   3.8560,  34.9880,2,  34.9900,2,    250.6,2,    252.2,2,    18.50,2,    19.91,2,     1.29,2,    0.054,2,    0.035,2, -999.000,9,-999.0000,9,  -999.00,9,   2163.3,2,   2328.3,2,     8.02,2,  3.7100
 3230CITHER2_2,  A17N,   215,  1,     16,     16,2,19940316,0935, 12.3048, -47.7563, 4519,   2000.0,   3.5590,  34.9800,2,  34.9780,2,    256.7,2,    257.0,2,    19.30,2,    19.26,2,     1.24,2,    0.042,2,    0.029,2, -999.000,9,-999.0000,9,  -999.00,9,   2160.8,2,   2321.9,2,     8.02,2,  3.3980
 3230CITHER2_2,  A17N,   215,  1,     15,     15,2,19940316,0935, 12.3048, -47.7563, 4519,   2200.2,   3.3290,  34.9680,2,  34.9680,2,    257.4,2,    257.8,2,    21.90,2,    19.61,2,     1.26,2,    0.027,2,    0.019,2, -999.000,9,-999.0000,9,  -999.00,9,   2164.4,2,   2330.8,2,     8.02,2,  3.1520
 3230CITHER2_2,  A17N,   215,  1,     14,     14,2,19940316,0935, 12.3048, -47.7563, 4519,   2400.7,   3.1320,  34.9570,2,  34.9560,2,    256.5,2,    256.1,2,    25.90,2,    20.12,2,     1.30,2,    0.012,2,    0.014,2, -999.000,9,-999.0000,9,  -999.00,9,   2168.6,2,   2334.5,2,     8.02,2,  2.9390
 3230CITHER2_2,  A17N,   215,  1,     13,     13,2,19940316,0935, 12.3048, -47.7563, 4519,   2600.4,   2.9470,  34.9450,2,  34.9430,2,    253.3,2,    252.5,2,    30.70,2,    20.62,2,     1.32,2,    0.006,2,    0.008,2, -999.000,9,-999.0000,9,  -999.00,9,   2174.6,2,   2338.4,2,     8.02,2,  2.7380
 3230CITHER2_2,  A17N,   215,  1,     12,     12,2,19940316,0935, 12.3048, -47.7563, 4519,   2799.8,   2.8100,  34.9360,2,  34.9370,2,    250.7,2,    251.2,2,    34.20,2,    21.03,2,     1.36,2,    0.006,2,    0.007,2, -999.000,9,-999.0000,9,  -999.00,9,   2179.9,2,   2348.3,2,     8.01,2,  2.5840
 3230CITHER2_2,  A17N,   215,  1,     11,     11,2,19940316,0935, 12.3048, -47.7563, 4519,   2999.1,   2.7110,  34.9280,2,  34.9270,2,    250.0,2,    250.7,2,    36.10,2,    21.05,2,     1.38,2,    0.004,2,    0.004,2, -999.000,9,-999.0000,9,  -999.00,9,   2181.4,2,   2344.7,2,     8.01,2,  2.4670
 3230CITHER2_2,  A17N,   215,  1,     10,     10,2,19940316,0935, 12.3048, -47.7563, 4519,   3198.7,   2.6310,  34.9210,2,  34.9220,2,    252.0,2,    251.6,2,    37.10,2,    21.10,2,     1.37,2,    0.011,2,    0.006,2, -999.000,9,-999.0000,9,  -999.00,9,   2184.9,2,   2345.9,2,     8.01,2,  2.3680
 3230CITHER2_2,  A17N,   215,  1,      8,      8,2,19940316,0935, 12.3048, -47.7563, 4519,   3398.1,   2.5410,  34.9130,2,  34.9160,2,    251.6,2,    251.4,2,    39.40,2,    21.30,2,     1.39,2,    0.009,2,    0.010,2, -999.000,9,-999.0000,9,  -999.00,9,   2184.6,2,   2346.6,2,     8.01,2,  2.2590
 3230CITHER2_2,  A17N,   215,  1,      9,      9,2,19940316,0935, 12.3048, -47.7563, 4519,   3398.9,   2.5410,  34.9140,2,  34.9140,2,    251.6,2,    251.8,2,    39.20,2,    21.29,2,     1.40,2,    0.009,2,    0.007,2, -999.000,9,-999.0000,9,  -999.00,9,   -999.0,5,   2346.6,2,     8.01,2,  2.2580
 3230CITHER2_2,  A17N,   215,  1,      7,      7,2,19940316,0935, 12.3048, -47.7563, 4519,   3600.0,   2.4160,  34.9030,2,  34.9050,2,    252.3,2,    253.2,2,    41.30,2,    21.45,2,     1.40,2,    0.016,2,    0.011,2, -999.000,9,-999.0000,9,  -999.00,9,   2185.6,2,   2345.6,2,     8.01,2,  2.1150
 3230CITHER2_2,  A17N,   215,  1,      6,      6,2,19940316,0935, 12.3048, -47.7563, 4519,   3798.2,   2.3180,  34.8970,2,  34.8980,2,    257.8,2,    258.2,2,    38.90,2,    20.68,2,     1.34,2,    0.038,2,    0.026,2, -999.000,9,-999.0000,9,  -999.00,9,   2181.2,2,   2344.5,2,     8.01,2,  1.9980
 3230CITHER2_2,  A17N,   215,  1,      5,      5,2,19940316,0935, 12.3048, -47.7563, 4519,   3998.6,   2.2380,  34.8900,2,  34.8910,2,    258.9,2,    259.1,2,    40.00,2,    20.69,2,     1.35,2,    0.045,2,    0.028,2, -999.000,9,-999.0000,9,  -999.00,9,   2180.4,2,   2344.8,2,     8.01,2,  1.8970
 3230CITHER2_2,  A17N,   215,  1,      4,      4,2,19940316,0935, 12.3048, -47.7563, 4519,   4198.4,   2.1170,  34.8740,2,  34.8760,2,    256.7,2,    255.9,2,    46.60,2,    21.54,2,     1.42,2,    0.044,2,    0.030,2, -999.000,9,-999.0000,9,  -999.00,9,   2187.8,2,   2341.3,2,     8.00,2,  1.7570
 3230CITHER2_2,  A17N,   215,  1,      3,      3,2,19940316,0935, 12.3048, -47.7563, 4519,   4397.7,   1.9850,  34.8550,2,  34.8600,2,    252.9,2,    251.8,2,    53.20,2,    22.40,2,     1.49,2,    0.039,2,    0.028,2, -999.000,9,-999.0000,9,  -999.00,9,   2196.8,2,   2351.8,2,     7.99,2,  1.6060
 3230CITHER2_2,  A17N,   215,  1,      2,      2,2,19940316,0935, 12.3048, -47.7563, 4519,   4499.2,   1.9140,  34.8470,2,  34.8470,2,    250.0,2,    249.7,2,    57.50,2,    23.06,2,     1.54,2,    0.036,2,    0.024,2, -999.000,9,-999.0000,9,  -999.00,9,   2199.7,2,   2355.6,2,     7.99,2,  1.5250
 3230CITHER2_2,  A17N,   215,  1,      1,      1,2,19940316,0935, 12.3048, -47.7563, 4519,   4598.2,   1.8800,  34.8420,2,  34.8430,2,    248.7,2,    248.3,2,    59.80,2,    23.37,2,     1.55,2,    0.032,2,    0.025,2, -999.000,9,-999.0000,9,  -999.00,9,   2202.9,2,   2355.5,2,     7.99,2,  1.4810
 3230CITHER2_2,  A17N,   216,  1,     32,     32,2,19940316,1528, 11.8507, -48.0195, 4714,      7.5,  25.4780,  36.4280,2,  36.4310,2,    203.4,2,    206.6,2,     1.60,2,     0.04,2,     0.03,2,    1.813,2,    1.024,2, -999.000,9,-999.0000,9,  -999.00,9,   2030.6,2,   -999.0,9,     8.37,2, 25.4760
 3230CITHER2_2,  A17N,   216,  1,     31,     31,2,19940316,1528, 11.8507, -48.0195, 4714,     75.8,  25.2340,  36.4330,2,  36.4400,2,    207.1,2,    206.9,2,     1.60,2,     0.00,2,     0.01,2,    1.825,2,    1.032,2, -999.000,9,-999.0000,9,  -999.00,9,   2026.6,2,   -999.0,9,     8.37,2, 25.2170
 3230CITHER2_2,  A17N,   216,  1,     30,     30,2,19940316,1528, 11.8507, -48.0195, 4714,    101.5,  24.7040,  37.1270,2,  37.0590,2,    205.2,2,    201.9,2,     1.20,2,     0.04,2,     0.01,2,    1.863,2,    1.041,2, -999.000,9,-999.0000,9,  -999.00,9,   2068.2,2,   -999.0,9,     8.36,2, 24.6820
 3230CITHER2_2,  A17N,   216,  1,     29,     29,2,19940316,1528, 11.8507, -48.0195, 4714,    200.1,  15.2110,  35.9110,2,  35.9170,2,    114.3,2,    109.5,2,     7.20,2,    19.18,2,     1.13,2,    1.241,2,    0.669,2, -999.000,9,-999.0000,9,  -999.00,9,   2178.7,2,   -999.0,9,     8.04,2, 15.1800
 3230CITHER2_2,  A17N,   216,  1,     28,     28,2,19940316,1528, 11.8507, -48.0195, 4714,    300.6,  10.9160,  35.1850,2,  35.1880,2,    108.1,2,    110.0,2,    12.70,2,    26.09,2,     1.72,2,    0.641,2,    0.364,2, -999.000,9,-999.0000,9,  -999.00,9,   2196.3,2,   -999.0,9,     7.93,2, 10.8790
 3230CITHER2_2,  A17N,   216,  1,     27,     27,2,19940316,1528, 11.8507, -48.0195, 4714,    401.4,   9.3720,  34.9900,2,  34.9930,2,    103.1,2,    107.3,2,    16.10,2,    29.35,2,     1.85,2,    0.391,2,    0.231,2, -999.000,9,-999.0000,9,  -999.00,9,   2205.3,2,   -999.0,9,     7.89,2,  9.3270
 3230CITHER2_2,  A17N,   216,  1,     26,     26,2,19940316,1528, 11.8507, -48.0195, 4714,    502.0,   8.4050,  34.8740,2,  34.8720,2,    110.2,2,    110.6,2,    18.90,2,    31.21,2,     1.99,2,    0.252,2,    0.146,2, -999.000,9,-999.0000,9,  -999.00,9,   2211.3,2,   -999.0,9,     7.87,2,  8.3520
 3230CITHER2_2,  A17N,   216,  1,     25,     25,2,19940316,1528, 11.8507, -48.0195, 4714,    700.0,   6.9770,  34.7540,2,  34.7570,2,    121.0,2,    117.2,2,    23.80,2,    33.46,2,     2.17,2,    0.111,2,    0.068,2, -999.000,9,-999.0000,9,  -999.00,9,   2218.2,2,   -999.0,9,     7.84,2,  6.9090
 3230CITHER2_2,  A17N,   216,  1,     24,     24,2,19940316,1528, 11.8507, -48.0195, 4714,    801.3,   6.1710,  34.7050,2,  34.7090,2,    122.0,2,    120.4,2,    26.70,2,    34.21,2,     2.25,2,    0.026,2,    0.015,2, -999.000,9,-999.0000,9,  -999.00,9,   -999.0,5,   -999.0,9,     7.83,2,  6.0980
 3230CITHER2_2,  A17N,   216,  1,     23,     23,2,19940316,1528, 11.8507, -48.0195, 4714,    999.2,   5.5250,  34.8160,2,  34.8180,2,    138.7,2,    139.9,2,    27.10,2,    31.85,2,     2.10,2,    0.006,2,   -0.001,2, -999.000,9,-999.0000,9,  -999.00,9,   2218.6,2,   -999.0,9,     7.86,2,  5.4370
 3230CITHER2_2,  A17N,   216,  1,     22,     22,2,19940316,1528, 11.8507, -48.0195, 4714,   1201.0,   5.0280,  34.9310,2,  34.9380,2,    173.5,2,    183.4,2,    23.40,2,    26.15,2,     1.75,2,    0.029,2,    0.017,2, -999.000,9,-999.0000,9,  -999.00,9,   -999.0,9,   -999.0,9,     7.93,2,  4.9250
 3230CITHER2_2,  A17N,   216,  1,     21,     21,2,19940316,1528, 11.8507, -48.0195, 4714,   1398.9,   4.6900,  34.9860,2,  34.9880,2,    209.5,2,    215.1,2,    20.00,2,    22.67,2,     1.50,2,    0.059,2,    0.038,2, -999.000,9,-999.0000,9,  -999.00,9,   -999.0,9,   -999.0,9,     7.97,2,  4.5720
 3230CITHER2_2,  A17N,   216,  1,     20,     20,2,19940316,1528, 11.8507, -48.0195, 4714,   1500.5,   4.4280,  34.9930,2,  34.9940,2,    226.1,2,    229.4,2,    19.40,2,    21.62,2,     1.42,2,    0.059,2,    0.038,2, -999.000,9,-999.0000,9,  -999.00,9,   -999.0,9,   -999.0,9,     7.99,2,  4.3030
 3230CITHER2_2,  A17N,   216,  1,     19,     19,2,19940316,1528, 11.8507, -48.0195, 4714,   1599.7,   4.2610,  34.9990,2,  35.0010,2,    238.9,2,    241.4,2,    17.50,2,    20.34,2,     1.32,2,    0.098,2,    0.062,2, -999.000,9,-999.0000,9,  -999.00,9,   -999.0,9,   -999.0,9,     8.01,2,  4.1280
 3230CITHER2_2,  A17N,   216,  1,     18,     18,2,19940316,1528, 11.8507, -48.0195, 4714,   1699.1,   4.0850,  34.9940,2,  34.9970,2,    245.9,2,    241.5,2,    17.90,2,    20.07,2,     1.30,2,    0.075,2,    0.048,2, -999.000,9,-999.0000,9,  -999.00,9,   -999.0,9,   -999.0,9,     8.01,2,  3.9450
 3230CITHER2_2,  A17N,   216,  1,     17,     17,2,19940316,1528, 11.8507, -48.0195, 4714,   1800.3,   3.8800,  34.9890,2,  34.9920,2,    251.2,2,    245.1,2,    18.60,2,    19.72,2,     1.28,2,    0.054,2,    0.040,2, -999.000,9,-999.0000,9,  -999.00,9,   -999.0,9,   -999.0,9,     8.02,2,  3.7330
 3230CITHER2_2,  A17N,   216,  1,     16,     16,2,19940316,1528, 11.8507, -48.0195, 4714,   2000.1,   3.5250,  34.9770,2,  34.9760,2,    256.0,2,    255.8,2,    20.60,2,    19.52,2,     1.25,2,    0.034,2,    0.024,2, -999.000,9,-999.0000,9,  -999.00,9,   -999.0,9,   -999.0,9,     8.02,2,  3.3640
 3230CITHER2_2,  A17N,   216,  1,     15,     15,2,19940316,1528, 11.8507, -48.0195, 4714,   2199.1,   3.2880,  34.9640,2,  34.9660,2,    258.0,2,    256.9,2,    22.80,2,    19.59,2,     1.27,2,    0.024,2,    0.019,2, -999.000,9,-999.0000,9,  -999.00,9,   -999.0,9,   -999.0,9,     8.02,2,  3.1120
 3230CITHER2_2,  A17N,   216,  1,     14,     14,2,19940316,1528, 11.8507, -48.0195, 4714,   2400.2,   3.0770,  34.9520,2,  34.9520,2,    256.3,2,    254.8,2,    27.10,2,    20.13,2,     1.31,2,    0.012,2,    0.006,2, -999.000,9,-999.0000,9,  -999.00,9,   -999.0,9,   -999.0,9,     8.02,2,  2.8850
 3230CITHER2_2,  A17N,   216,  1,     13,     13,2,19940316,1528, 11.8507, -48.0195, 4714,   2600.4,   2.8910,  34.9390,2,  34.9420,2,    252.9,2,    251.1,2,    32.30,2,    20.74,2,     1.35,2,    0.005,2,    0.005,2, -999.000,9,-999.0000,9,  -999.00,9,   -999.0,9,   -999.0,9,     8.01,2,  2.6830
 3230CITHER2_2,  A17N,   216,  1,     12,     12,2,19940316,1528, 11.8507, -48.0195, 4714,   2799.9,   2.7860,  34.9330,2,  34.9310,2,    250.5,2,    251.0,2,    34.70,2,    20.97,2,     1.37,2,    0.006,2,    0.003,2, -999.000,9,-999.0000,9,  -999.00,9,   -999.0,9,   -999.0,9,     8.01,2,  2.5600
 3230CITHER2_2,  A17N,   216,  1,     11,     11,2,19940316,1528, 11.8507, -48.0195, 4714,   2999.2,   2.6800,  34.9240,2,  34.9240,2,    250.1,2,    250.5,2,    37.10,2,    21.08,2,     1.38,2,    0.003,2,   -0.001,2, -999.000,9,-999.0000,9,  -999.00,9,   -999.0,9,   -999.0,9,     8.01,2,  2.4360
 3230CITHER2_2,  A17N,   216,  1,      9,      9,2,19940316,1528, 11.8507, -48.0195, 4714,   3198.8,   2.6080,  34.9180,2,  34.9180,2,    250.3,2,    250.6,2,    38.90,2,    21.30,2,     1.40,2,    0.004,2,   -0.001,2, -999.000,9,-999.0000,9,  -999.00,9,   -999.0,9,   -999.0,9,     8.01,2,  2.3450
 3230CITHER2_2,  A17N,   216,  1,     10,     10,2,19940316,1528, 11.8507, -48.0195, 4714,   3199.0,   2.6090,  34.9180,2,  34.9190,2,    250.3,2,    250.2,2,    38.80,2,    21.23,2,     1.39,2,    0.002,2,    0.001,2, -999.000,9,-999.0000,9,  -999.00,9,   -999.0,9,   -999.0,9,     8.01,2,  2.3460
 3230CITHER2_2,  A17N,   216,  1,      8,      8,2,19940316,1528, 11.8507, -48.0195, 4714,   3399.4,   2.4950,  34.9070,2,  34.9090,2,    251.5,2,    252.2,2,    39.90,2,    21.15,2,     1.39,2,    0.012,2,    0.010,2, -999.000,9,-999.0000,9,  -999.00,9,   -999.0,9,   -999.0,9,     8.01,2,  2.2140
 3230CITHER2_2,  A17N,   216,  1,      7,      7,2,19940316,1528, 11.8507, -48.0195, 4714,   3599.1,   2.3740,  34.8980,2,  34.9010,2,    254.6,2,    255.7,2,    39.80,2,    20.83,2,     1.38,2,    0.022,2,    0.019,2, -999.000,9,-999.0000,9,  -999.00,9,   -999.0,9,   -999.0,9,     8.01,2,  2.0740
 3230CITHER2_2,  A17N,   216,  1,      6,      6,2,19940316,1528, 11.8507, -48.0195, 4714,   3797.9,   2.2850,  34.8930,2,  34.8950,2,    259.3,2,    258.9,2,    38.60,2,    20.52,2,     1.35,2,    0.048,2,    0.033,2, -999.000,9,-999.0000,9,  -999.00,9,   -999.0,9,   -999.0,9,     8.01,2,  1.9660
 3230CITHER2_2,  A17N,   216,  1,      5,      5,2,19940316,1528, 11.8507, -48.0195, 4714,   3998.5,   2.2480,  34.8920,2,  34.8940,2,    261.2,2,    262.2,2,    36.60,2,    20.13,2,     1.32,2,    0.080,2,    0.055,2, -999.000,9,-999.0000,9,  -999.00,9,   -999.0,9,   -999.0,9,     8.01,2,  1.9070
 3230CITHER2_2,  A17N,   216,  1,      4,      4,2,19940316,1528, 11.8507, -48.0195, 4714,   4198.8,   2.1230,  34.8740,2,  34.8750,2,    257.2,2,    257.0,2,    44.70,2,    21.17,2,     1.40,2,    0.058,2,    0.036,2, -999.000,9,-999.0000,9,  -999.00,9,   -999.0,9,   -999.0,9,     8.00,2,  1.7630
 3230CITHER2_2,  A17N,   216,  1,      3,      3,2,19940316,1528, 11.8507, -48.0195, 4714,   4397.5,   1.9270,  34.8480,2,  34.8330,2,    249.8,2,    249.7,2,    56.50,2,    22.86,2,     1.53,2,    0.038,2,    0.024,2, -999.000,9,-999.0000,9,  -999.00,9,   -999.0,9,   -999.0,9,     7.99,2,  1.5500
 3230CITHER2_2,  A17N,   216,  1,      2,      2,2,19940316,1528, 11.8507, -48.0195, 4714,   4647.7,   1.8000,  34.8300,2,  34.8500,2,    245.6,2,    245.9,2,    64.30,2,    23.85,2,     1.60,2,    0.029,2,    0.019,2, -999.000,9,-999.0000,9,  -999.00,9,   -999.0,9,   -999.0,9,     7.98,2,  1.3970
 3230CITHER2_2,  A17N,   216,  1,      1,      1,2,19940316,1528, 11.8507, -48.0195, 4714,   4719.9,   1.7830,  34.8280,2,  34.8300,2,    244.5,2,    245.0,2,    65.70,2,    24.12,2,     1.61,2,    0.038,2,    0.024,2, -999.000,9,-999.0000,9,  -999.00,9,   -999.0,9,   -999.0,9,     7.98,2,  1.3720