BOTTLE,20030515WHPSIOSA
EXPOCODE,SECT_ID,STNNBR,CASTNO,SAMPNO,BTLNBR,BTLNBR_FLAG_W,DATE,TIME,LATITUDE,LONGITUDE,DEPTH,CTDPRS,CTDTMP,CTDSAL,CTDSAL_FLAG_W,SALNTY,SALNTY_FLAG_W,CTDOXY,CTDOXY_FLAG_W,OXYGEN,OXYGEN_FLAG_W,SILCAT,SILCAT_FLAG_W,NITRAT,NITRAT_FLAG_W,PHSPHT,PHSPHT_FLAG_W,CFC-11,CFC-11_FLAG_W,CFC-12,CFC-12_FLAG_W,TRITUM,TRITUM_FLAG_W,HELIUM,HELIUM_FLAG_W,DELHE3,DELHE3_FLAG_W,TCARBN,TCARBN_FLAG_W,ALKALI,ALKALI_FLAG_W,PH,PH_FLAG_W,THETA
,,,,,,,,,,,,DBAR,ITS-90,PSS-78,,PSS-78,,UMOL/KG,,UMOL/KG,,UMOL/KG,,UMOL/KG,,UMOL/KG,,PMOL/KG,,PMOL/KG,,TU,,NMOL/KG,,PERCNT,,UMOL/KG,,UMOL/KG,,,,DEG C
 3230CITHER2_1,  A17C,   116,  1,     32,     32,2,19940210,1840,-13.4397, -30.5858, 5205,   2998.8,   2.6920,  34.9120,2,  34.9080,2,    247.2,2,    246.9,2,    37.70,2,    21.27,2,     1.43,2, -999.000,9, -999.000,9, -999.000,9,-999.0000,9,  -999.00,9,   -999.0,9,   -999.0,9,  -999.00,9,  2.4480
 3230CITHER2_1,  A17C,   116,  1,     16,     16,2,19940210,1840,-13.4397, -30.5858, 5205,   2999.0,   2.6920,  34.9110,2,  34.9090,2,    247.2,2,    246.9,2,    37.90,2,    21.27,2,     1.44,2, -999.000,9, -999.000,9, -999.000,9,-999.0000,9,  -999.00,9,   -999.0,9,   -999.0,9,  -999.00,9,  2.4480
 3230CITHER2_1,  A17C,   116,  1,      4,      4,2,19940210,1840,-13.4397, -30.5858, 5205,   2999.2,   2.6930,  34.9110,2,  34.9100,2,    247.2,2,    248.4,2,    37.80,2,    21.15,2,     1.43,2, -999.000,9, -999.000,9, -999.000,9,-999.0000,9,  -999.00,9,   -999.0,9,   -999.0,9,  -999.00,9,  2.4480
 3230CITHER2_1,  A17C,   116,  1,     10,     10,2,19940210,1840,-13.4397, -30.5858, 5205,   2999.2,   2.6920,  34.9120,2,  34.9090,2,    247.2,2,    246.6,2,    37.70,2,    21.31,2,     1.43,2, -999.000,9, -999.000,9, -999.000,9,-999.0000,9,  -999.00,9,   -999.0,9,   -999.0,9,  -999.00,9,  2.4480
 3230CITHER2_1,  A17C,   116,  1,      2,      2,2,19940210,1840,-13.4397, -30.5858, 5205,   2999.3,   2.6920,  34.9120,2,  34.9100,2,    247.2,2,    248.4,2,    37.80,2,    21.15,2,     1.43,2, -999.000,9, -999.000,9, -999.000,9,-999.0000,9,  -999.00,9,   -999.0,9,   -999.0,9,  -999.00,9,  2.4480
 3230CITHER2_1,  A17C,   116,  1,     25,     25,2,19940210,1840,-13.4397, -30.5858, 5205,   2999.3,   2.6920,  34.9110,2,  34.9080,2,    247.2,2,    246.8,2,    37.70,2,    21.27,2,     1.43,2, -999.000,9, -999.000,9, -999.000,9,-999.0000,9,  -999.00,9,   -999.0,9,   -999.0,9,  -999.00,9,  2.4480
 3230CITHER2_1,  A17C,   116,  1,     30,     30,2,19940210,1840,-13.4397, -30.5858, 5205,   2999.5,   2.6920,  34.9120,2,  34.9110,2,    247.1,2,    247.2,2,    37.60,2,    21.19,2,     1.44,2, -999.000,9, -999.000,9, -999.000,9,-999.0000,9,  -999.00,9,   -999.0,9,   -999.0,9,  -999.00,9,  2.4480
 3230CITHER2_1,  A17C,   116,  1,     14,     14,2,19940210,1840,-13.4397, -30.5858, 5205,   2999.6,   2.6920,  34.9120,2,  34.9080,2,    247.1,2,    246.8,2,    37.70,2,    21.27,2,     1.43,2, -999.000,9, -999.000,9, -999.000,9,-999.0000,9,  -999.00,9,   -999.0,9,   -999.0,9,  -999.00,9,  2.4480
 3230CITHER2_1,  A17C,   116,  1,     18,     18,2,19940210,1840,-13.4397, -30.5858, 5205,   2999.6,   2.6920,  34.9120,2,  34.9080,2,    247.1,2,    246.8,2,    37.70,2,    21.27,2,     1.43,2, -999.000,9, -999.000,9, -999.000,9,-999.0000,9,  -999.00,9,   -999.0,9,   -999.0,9,  -999.00,9,  2.4480
 3230CITHER2_1,  A17C,   116,  1,     28,     28,2,19940210,1840,-13.4397, -30.5858, 5205,   2999.6,   2.6920,  34.9120,2,  34.9080,2,    247.1,2,    246.9,2,    37.40,2,    21.33,2,     1.43,2, -999.000,9, -999.000,9, -999.000,9,-999.0000,9,  -999.00,9,   -999.0,9,   -999.0,9,  -999.00,9,  2.4480
 3230CITHER2_1,  A17C,   116,  1,     12,     12,2,19940210,1840,-13.4397, -30.5858, 5205,   2999.7,   2.6920,  34.9120,2,  34.9100,2,    247.1,2,    246.6,2,    37.60,2,    21.27,2,     1.44,2, -999.000,9, -999.000,9, -999.000,9,-999.0000,9,  -999.00,9,   -999.0,9,   -999.0,9,  -999.00,9,  2.4480
 3230CITHER2_1,  A17C,   116,  1,      7,      7,2,19940210,1840,-13.4397, -30.5858, 5205,   2999.8,   2.6920,  34.9120,2,  34.9090,2,    247.1,2,    246.6,2,    37.70,2,    21.31,2,     1.43,2, -999.000,9, -999.000,9, -999.000,9,-999.0000,9,  -999.00,9,   -999.0,9,   -999.0,9,  -999.00,9,  2.4480
 3230CITHER2_1,  A17C,   116,  1,     22,     22,2,19940210,1840,-13.4397, -30.5858, 5205,   3000.3,   2.6910,  34.9110,2,  34.9090,2,    247.1,2,    246.7,2,    37.80,2,    21.15,2,     1.45,2, -999.000,9, -999.000,9, -999.000,9,-999.0000,9,  -999.00,9,   -999.0,9,   -999.0,9,  -999.00,9,  2.4480
 3230CITHER2_1,  A17C,   116,  1,      6,      6,2,19940210,1840,-13.4397, -30.5858, 5205,   3000.4,   2.6930,  34.9100,2,  34.9080,2,    247.1,2,    247.1,2,  -999.00,5,    21.18,2,     1.44,2, -999.000,9, -999.000,9, -999.000,9,-999.0000,9,  -999.00,9,   -999.0,9,   -999.0,9,  -999.00,9,  2.4490
 3230CITHER2_1,  A17C,   116,  1,     23,     23,2,19940210,1840,-13.4397, -30.5858, 5205,   3000.4,   2.6920,  34.9100,2,  34.9070,2,    247.1,2,    246.9,2,    37.20,2,    21.18,2,     1.45,2, -999.000,9, -999.000,9, -999.000,9,-999.0000,9,  -999.00,9,   -999.0,9,   -999.0,9,  -999.00,9,  2.4470
 3230CITHER2_1,  A17C,   116,  1,     20,     20,2,19940210,1840,-13.4397, -30.5858, 5205,   3000.5,   2.6910,  34.9110,2,  34.9070,2,    247.0,2,    246.7,2,    37.70,2,    21.27,2,     1.43,2, -999.000,9, -999.000,9, -999.000,9,-999.0000,9,  -999.00,9,   -999.0,9,   -999.0,9,  -999.00,9,  2.4470
 3230CITHER2_1,  A17C,   116,  1,     21,     21,2,19940210,1840,-13.4397, -30.5858, 5205,   3000.5,   2.6910,  34.9110,2,  34.9090,2,    247.0,2,    246.8,2,    37.60,2,    21.31,2,     1.44,2, -999.000,9, -999.000,9, -999.000,9,-999.0000,9,  -999.00,9,   -999.0,9,   -999.0,9,  -999.00,9,  2.4470
 3230CITHER2_1,  A17C,   116,  1,     27,     27,2,19940210,1840,-13.4397, -30.5858, 5205,   3000.5,   2.6920,  34.9110,2,  34.9070,2,    247.0,2,    246.9,2,    37.20,2,    21.18,2,     1.45,2, -999.000,9, -999.000,9, -999.000,9,-999.0000,9,  -999.00,9,   -999.0,9,   -999.0,9,  -999.00,9,  2.4470
 3230CITHER2_1,  A17C,   116,  1,      8,      8,2,19940210,1840,-13.4397, -30.5858, 5205,   3000.6,   2.6920,  34.9100,2,  34.9090,2,    247.0,2,    246.8,2,    37.50,2,    21.31,2,     1.44,2, -999.000,9, -999.000,9, -999.000,9,-999.0000,9,  -999.00,9,   -999.0,9,   -999.0,9,  -999.00,9,  2.4470
 3230CITHER2_1,  A17C,   116,  1,     13,     13,2,19940210,1840,-13.4397, -30.5858, 5205,   3000.7,   2.6910,  34.9110,2,  34.9090,2,    247.0,2,    246.8,2,    37.50,2,    21.31,2,     1.44,2, -999.000,9, -999.000,9, -999.000,9,-999.0000,9,  -999.00,9,   -999.0,9,   -999.0,9,  -999.00,9,  2.4470
 3230CITHER2_1,  A17C,   116,  1,     19,     19,2,19940210,1840,-13.4397, -30.5858, 5205,   3000.8,   2.6910,  34.9110,2,  34.9080,2,    247.0,2,    246.9,2,    37.80,2,    21.17,2,     1.45,2, -999.000,9, -999.000,9, -999.000,9,-999.0000,9,  -999.00,9,   -999.0,9,   -999.0,9,  -999.00,9,  2.4480
 3230CITHER2_1,  A17C,   116,  1,      9,      9,2,19940210,1840,-13.4397, -30.5858, 5205,   3000.9,   2.6920,  34.9110,2,  34.9090,2,    247.0,2,    246.8,2,    37.50,2,    21.31,2,     1.44,2, -999.000,9, -999.000,9, -999.000,9,-999.0000,9,  -999.00,9,   -999.0,9,   -999.0,9,  -999.00,9,  2.4470
 3230CITHER2_1,  A17C,   116,  1,      5,      5,2,19940210,1840,-13.4397, -30.5858, 5205,   3001.0,   2.6920,  34.9110,2,  34.9080,2,    247.0,2,    247.1,2,  -999.00,5,    21.18,2,     1.44,2, -999.000,9, -999.000,9, -999.000,9,-999.0000,9,  -999.00,9,   -999.0,9,   -999.0,9,  -999.00,9,  2.4490
 3230CITHER2_1,  A17C,   116,  1,     26,     26,2,19940210,1840,-13.4397, -30.5858, 5205,   3001.0,   2.6910,  34.9110,2,  34.9070,2,    247.0,2,    246.9,2,    37.20,2,    21.18,2,     1.45,2, -999.000,9, -999.000,9, -999.000,9,-999.0000,9,  -999.00,9,   -999.0,9,   -999.0,9,  -999.00,9,  2.4470
 3230CITHER2_1,  A17C,   116,  1,     29,     29,2,19940210,1840,-13.4397, -30.5858, 5205,   3001.0,   2.6910,  34.9120,2,  34.9100,2,    247.0,2,    247.0,2,    37.70,2,    21.27,2,     1.44,2, -999.000,9, -999.000,9, -999.000,9,-999.0000,9,  -999.00,9,   -999.0,9,   -999.0,9,  -999.00,9,  2.4480
 3230CITHER2_1,  A17C,   116,  1,      3,      3,2,19940210,1840,-13.4397, -30.5858, 5205,   3001.1,   2.6920,  34.9110,2,  34.9110,2,    247.0,2,    246.9,2,    37.40,2,    21.31,2,     1.44,2, -999.000,9, -999.000,9, -999.000,9,-999.0000,9,  -999.00,9,   -999.0,9,   -999.0,9,  -999.00,9,  2.4470
 3230CITHER2_1,  A17C,   116,  1,     24,     24,2,19940210,1840,-13.4397, -30.5858, 5205,   3001.2,   2.6910,  34.9110,2,  34.9090,2,    247.0,2,    247.2,2,    37.50,2,    21.35,2,     1.44,2, -999.000,9, -999.000,9, -999.000,9,-999.0000,9,  -999.00,9,   -999.0,9,   -999.0,9,  -999.00,9,  2.4470
 3230CITHER2_1,  A17C,   116,  1,     11,     11,2,19940210,1840,-13.4397, -30.5858, 5205,   3001.3,   2.6910,  34.9110,2,  34.9100,2,    247.0,2,    246.8,2,    37.40,2,    21.24,2,     1.43,2, -999.000,9, -999.000,9, -999.000,9,-999.0000,9,  -999.00,9,   -999.0,9,   -999.0,9,  -999.00,9,  2.4470
 3230CITHER2_1,  A17C,   116,  1,     15,     15,2,19940210,1840,-13.4397, -30.5858, 5205,   3001.3,   2.6910,  34.9110,2,  34.9100,2,    247.0,2,    246.8,2,    37.40,2,    21.24,2,     1.43,2, -999.000,9, -999.000,9, -999.000,9,-999.0000,9,  -999.00,9,   -999.0,9,   -999.0,9,  -999.00,9,  2.4470
 3230CITHER2_1,  A17C,   116,  1,     17,     17,2,19940210,1840,-13.4397, -30.5858, 5205,   3001.4,   2.6910,  34.9110,2,  34.9090,2,    247.0,2,    247.3,2,    37.80,2,    21.43,2,     1.43,2, -999.000,2, -999.000,9, -999.000,9,-999.0000,9,  -999.00,9,   -999.0,2,   -999.0,9,  -999.00,9,  2.4470
 3230CITHER2_1,  A17C,   116,  1,      1,      1,2,19940210,1840,-13.4397, -30.5858, 5205,   3001.6,   2.6910,  34.9120,2,  34.9040,2,    246.9,2,    247.1,2,    37.50,2,    21.18,2,     1.44,2, -999.000,9, -999.000,9, -999.000,9,-999.0000,9,  -999.00,9,   -999.0,9,   -999.0,9,  -999.00,9,  2.4470
 3230CITHER2_1,  A17C,   116,  1,     31,     31,2,19940210,1840,-13.4397, -30.5858, 5205,   3001.7,   2.6910,  34.9120,2,  34.9100,2,    246.9,2,    246.5,2,    37.70,2,    21.27,2,     1.44,2, -999.000,9, -999.000,9, -999.000,9,-999.0000,9,  -999.00,9,   -999.0,9,   -999.0,9,  -999.00,9,  2.4470
 3230CITHER2_2,  A17N,   118,  1,     16,     16,2,19940217,2324,-12.3648, -37.6325,  319,      5.2,  28.4280,  37.0230,2,  37.0220,2,    187.5,2,    196.8,2,     2.00,2,     0.04,2,     0.05,2,    1.628,2,    0.939,2, -999.000,9,-999.0000,9,  -999.00,9,   -999.0,5,   2432.2,2,     8.39,2, 28.4300
 3230CITHER2_2,  A17N,   118,  1,     15,     15,2,19940217,2324,-12.3648, -37.6325,  319,      5.5,  28.4310,  37.0230,2,  37.0260,2,    188.1,2,    186.2,2,     2.00,2,     0.04,2,     0.06,2,    1.620,2,    0.936,2, -999.000,9,-999.0000,9,  -999.00,9,   2046.7,2,   2432.2,2,     8.39,2, 28.4270
 3230CITHER2_2,  A17N,   118,  1,     13,     13,2,19940217,2324,-12.3648, -37.6325,  319,     25.9,  28.3870,  37.2620,2,  37.2620,2,    197.2,2,    204.6,2,     1.00,2,     0.04,2,     0.10,2,    1.655,2,    0.947,2, -999.000,9,-999.0000,9,  -999.00,9,   2055.0,2,   2450.5,2,     8.40,2, 28.3810
 3230CITHER2_2,  A17N,   118,  1,     11,     11,2,19940217,2324,-12.3648, -37.6325,  319,     50.9,  25.4580,  37.1830,2,  37.1780,2,    206.5,2,    211.9,2,     1.30,2,     0.04,2,     0.04,2,    1.829,2,    1.025,2, -999.000,9,-999.0000,9,  -999.00,9,   2072.3,2,   2448.4,2,     8.37,2, 25.4470
 3230CITHER2_2,  A17N,   118,  1,      9,      9,2,19940217,2324,-12.3648, -37.6325,  319,     76.8,  24.2390,  37.0670,2,  37.0490,2,    203.8,2,    205.2,2,     1.00,2,     0.04,2,     0.14,2,    1.911,2,    1.058,2, -999.000,9,-999.0000,9,  -999.00,9,   2082.4,2,   2440.6,2,     8.35,2, 24.2230
 3230CITHER2_2,  A17N,   118,  1,      7,      7,2,19940217,2324,-12.3648, -37.6325,  319,    101.2,  23.4510,  36.9530,2,  36.9460,2,    200.0,2,    202.8,2,     1.10,2,     0.12,2,     0.19,2,    1.942,2,    1.080,2, -999.000,9,-999.0000,9,  -999.00,9,   2086.0,2,   2433.9,2,     8.33,2, 23.4300
 3230CITHER2_2,  A17N,   118,  1,      5,      5,2,19940217,2324,-12.3648, -37.6325,  319,    150.6,  17.0640,  35.8060,2,  35.8030,2,    191.1,2,    194.5,2,     2.50,2,     5.06,2,     0.52,2,    2.192,2,    1.164,2, -999.000,9,-999.0000,9,  -999.00,9,   2096.3,2,   2361.4,2,     8.21,2, 17.0390
 3230CITHER2_2,  A17N,   118,  1,      3,      3,2,19940217,2324,-12.3648, -37.6325,  319,    202.4,  15.4840,  35.5410,2,  35.5430,2,    192.3,2,    199.4,2,     3.20,2,     7.40,2,     0.64,2,    2.162,2,    1.141,2, -999.000,9,-999.0000,9,  -999.00,9,   2101.0,2,   2345.0,2,     8.18,2, 15.4530
 3230CITHER2_2,  A17N,   118,  1,      1,      1,2,19940217,2324,-12.3648, -37.6325,  319,    253.4,  13.5420,  35.2590,2,  35.2590,2,    191.6,2,    192.3,2,     4.60,2,    11.36,2,     0.82,2,    2.032,2,    1.060,2, -999.000,9,-999.0000,9,  -999.00,9,   2111.1,2,   2330.6,2,     8.13,2, 13.5060
 3230CITHER2_2,  A17N,   119,  1,     15,     15,2,19940218,0154,-12.3863, -37.5963, 1025,      3.6,  28.4470,  37.1820,2,  37.1820,2,    196.9,2,    198.5,2,     1.60,2,     0.04,2,     0.04,2,    1.641,2,    0.934,2, -999.000,9,-999.0000,9,  -999.00,9,   2052.4,2,   2444.0,2,     8.40,2, 28.4460
 3230CITHER2_2,  A17N,   119,  1,     16,     16,2,19940218,0154,-12.3863, -37.5963, 1025,      3.8,  28.4480,  37.1830,2,  37.1800,2,    196.9,2,    197.9,2,     1.60,2,     0.04,2,     0.04,2,    1.630,2,    0.928,2, -999.000,9,-999.0000,9,  -999.00,9,   -999.0,5,   2444.0,2,     8.40,2, 28.4470
 3230CITHER2_2,  A17N,   119,  1,     14,     14,2,19940218,0154,-12.3863, -37.5963, 1025,     29.3,  28.2090,  37.3720,2,  37.2490,2,    197.3,2,    208.7,2,     1.10,2,     0.04,2,     0.05,2,    1.724,2,    0.963,2, -999.000,9,-999.0000,9,  -999.00,9,   2060.9,2,   2451.2,2,     8.40,2, 28.2020
 3230CITHER2_2,  A17N,   119,  1,     13,     13,2,19940218,0154,-12.3863, -37.5963, 1025,     75.8,  23.5750,  37.0180,2,  37.0220,2,    204.9,2,    205.0,2,     1.10,2,     0.04,2,     0.14,2,    1.919,2,    1.065,2, -999.000,9,-999.0000,9,  -999.00,9,   2085.3,2,   2440.8,2,     8.35,2, 23.5590
 3230CITHER2_2,  A17N,   119,  1,     12,     12,2,19940218,0154,-12.3863, -37.5963, 1025,    100.8,  21.8980,  36.6780,2,  36.7120,2,    197.5,2,    198.0,2,     1.30,2,     0.54,2,     0.22,2,    2.016,2,    1.093,2, -999.000,9,-999.0000,9,  -999.00,9,   2092.7,2,   2419.2,2,     8.31,2, 21.8780
 3230CITHER2_2,  A17N,   119,  1,     11,     11,2,19940218,0154,-12.3863, -37.5963, 1025,    151.5,  17.2720,  35.8440,2,  35.8280,2,    192.8,2,    193.8,2,     2.50,2,     4.80,2,     0.48,2,    2.199,2,    1.163,2, -999.000,9,-999.0000,9,  -999.00,9,   2097.7,2,   2365.7,2,     8.23,2, 17.2470
 3230CITHER2_2,  A17N,   119,  1,     10,     10,2,19940218,0154,-12.3863, -37.5963, 1025,    201.4,  15.6180,  35.5460,2,  35.5400,2,    195.3,2,    198.9,2,     3.00,2,     6.55,2,     0.57,2,    2.231,2,    1.168,2, -999.000,9,-999.0000,9,  -999.00,9,   2098.4,2,   2348.1,2,     8.20,2, 15.5870
 3230CITHER2_2,  A17N,   119,  1,      9,      9,2,19940218,0154,-12.3863, -37.5963, 1025,    252.6,  14.0360,  35.3080,2,  35.3090,2,    191.1,2,    194.4,2,     3.90,2,     9.85,2,     0.76,2,    2.125,2,    1.096,2, -999.000,9,-999.0000,9,  -999.00,9,   2106.7,2,   2335.2,2,     8.15,2, 13.9990
 3230CITHER2_2,  A17N,   119,  1,      8,      8,2,19940218,0154,-12.3863, -37.5963, 1025,    302.1,  12.7880,  35.1430,2,  35.1600,2,    194.5,2,    194.4,2,     4.90,2,    12.48,2,     0.92,2,    1.974,2,    1.013,2, -999.000,9,-999.0000,9,  -999.00,9,   2115.2,2,   2328.5,2,     8.12,2, 12.7470
 3230CITHER2_2,  A17N,   119,  1,      7,      7,2,19940218,0154,-12.3863, -37.5963, 1025,    402.3,  10.8810,  34.9240,2,  34.9240,2,    190.9,2,    190.6,2,     7.50,2,    17.15,2,     1.23,2,    1.638,2,    0.855,2, -999.000,9,-999.0000,9,  -999.00,9,   2132.2,2,   2319.5,2,     8.06,2, 10.8310
 3230CITHER2_2,  A17N,   119,  1,      6,      6,2,19940218,0154,-12.3863, -37.5963, 1025,    501.1,   8.6950,  34.6950,2,  34.6910,2,    184.3,2,    181.9,2,    12.10,2,    22.74,2,     1.61,2,    1.171,2,    0.610,2, -999.000,9,-999.0000,9,  -999.00,9,   2158.3,2,   2310.7,2,     7.99,2,  8.6410
 3230CITHER2_2,  A17N,   119,  1,      5,      5,2,19940218,0154,-12.3863, -37.5963, 1025,    599.4,   6.6310,  34.5090,2,  34.5060,2,    184.1,2,    184.6,2,    17.90,2,    27.53,2,     1.91,2,    0.801,2,    0.428,2, -999.000,9,-999.0000,9,  -999.00,9,   2182.0,2,   2307.8,2,     7.94,2,  6.5750
 3230CITHER2_2,  A17N,   119,  1,      4,      4,2,19940218,0154,-12.3863, -37.5963, 1025,    700.0,   5.8970,  34.4520,2,  34.4490,2,    191.8,2,    190.8,2,    20.70,2,    28.45,2,     1.99,2,    0.730,2,    0.391,2, -999.000,9,-999.0000,9,  -999.00,9,   2204.7,3,   2309.0,2,     7.92,2,  5.8350
 3230CITHER2_2,  A17N,   119,  1,      3,      3,2,19940218,0154,-12.3863, -37.5963, 1025,    799.8,   4.7950,  34.3980,2,  34.3970,2,    191.1,2,    191.7,2,    27.20,2,    30.74,2,     2.14,2,    0.476,2,    0.256,2, -999.000,9,-999.0000,9,  -999.00,9,   2191.4,2,   2311.5,2,     7.90,2,  4.7310
 3230CITHER2_2,  A17N,   119,  1,      2,      2,2,19940218,0154,-12.3863, -37.5963, 1025,    829.5,   4.4110,  34.4010,2,  34.3990,2,    189.8,2,    189.6,2,    31.00,2,    31.25,2,     2.19,2,    0.348,2,    0.197,2, -999.000,9,-999.0000,9,  -999.00,9,   2198.2,2,   2314.5,2,     7.89,2,  4.3470
 3230CITHER2_2,  A17N,   119,  1,      1,      1,2,19940218,0154,-12.3863, -37.5963, 1025,    836.6,   4.3470,  34.4030,2,  34.4000,2,    190.0,2,    189.6,2,    31.50,2,    31.45,2,     2.20,2,    0.331,2,    0.190,2, -999.000,9,-999.0000,9,  -999.00,9,   -999.0,5,   2313.9,2,     7.89,2,  4.2830