BOTTLE,20030515WHPSIOSA
EXPOCODE,SECT_ID,STNNBR,CASTNO,SAMPNO,BTLNBR,BTLNBR_FLAG_W,DATE,TIME,LATITUDE,LONGITUDE,DEPTH,CTDPRS,CTDTMP,CTDSAL,CTDSAL_FLAG_W,SALNTY,SALNTY_FLAG_W,CTDOXY,CTDOXY_FLAG_W,OXYGEN,OXYGEN_FLAG_W,SILCAT,SILCAT_FLAG_W,NITRAT,NITRAT_FLAG_W,PHSPHT,PHSPHT_FLAG_W,CFC-11,CFC-11_FLAG_W,CFC-12,CFC-12_FLAG_W,TRITUM,TRITUM_FLAG_W,HELIUM,HELIUM_FLAG_W,DELHE3,DELHE3_FLAG_W,TCARBN,TCARBN_FLAG_W,ALKALI,ALKALI_FLAG_W,PH,PH_FLAG_W,THETA
,,,,,,,,,,,,DBAR,ITS-90,PSS-78,,PSS-78,,UMOL/KG,,UMOL/KG,,UMOL/KG,,UMOL/KG,,UMOL/KG,,PMOL/KG,,PMOL/KG,,TU,,NMOL/KG,,PERCNT,,UMOL/KG,,UMOL/KG,,,,DEG C
 3230CITHER2_1,  A17C,    84,  1,     31,     31,2,19940202,1049,-26.1872, -35.5708, 4253,      5.7,  27.2440,  36.2580,2,  36.2610,2,    191.6,2,    203.6,2,     1.20,2,     0.04,2,     0.03,2,    2.387,2,    1.349,2, -999.000,9,-999.0000,9,  -999.00,9,   2029.8,2,   2386.2,2,     8.38,2, 27.2430
 3230CITHER2_1,  A17C,    84,  1,     30,     30,2,19940202,1049,-26.1872, -35.5708, 4253,     51.7,  21.3940,  36.3080,2,  36.3060,2,    236.4,2,    238.2,2,     1.00,2,     0.04,2,     0.01,2,    2.421,2,    1.352,2, -999.000,9,-999.0000,9,  -999.00,9,   2045.9,2,   2391.1,2,     8.36,2, 21.3840
 3230CITHER2_1,  A17C,    84,  1,     29,     29,2,19940202,1049,-26.1872, -35.5708, 4253,    101.6,  19.3300,  36.1870,2,  36.1850,2,    218.9,2,    222.1,2,     1.00,2,     0.04,2,     0.07,2,    2.522,2,    1.389,2, -999.000,9,-999.0000,9,  -999.00,9,   2062.1,2,   2382.7,2,     8.32,2, 19.3120
 3230CITHER2_1,  A17C,    84,  1,     28,     28,2,19940202,1049,-26.1872, -35.5708, 4253,    151.9,  18.0960,  35.9630,2,  35.9750,2,    213.1,2,    215.7,2,     1.20,2,     1.39,2,     0.17,2,    2.575,2,    1.402,2, -999.000,9,-999.0000,9,  -999.00,9,   2071.3,2,   2370.7,2,     8.29,2, 18.0700
 3230CITHER2_1,  A17C,    84,  1,     27,     27,2,19940202,1049,-26.1872, -35.5708, 4253,    201.0,  16.3710,  35.6760,2,  35.6870,2,    209.8,2,    210.1,2,     1.70,2,     3.65,2,     0.36,2,    2.524,2,    1.350,2, -999.000,9,-999.0000,9,  -999.00,9,   2084.2,2,   2354.0,2,     8.24,2, 16.3390
 3230CITHER2_1,  A17C,    84,  1,     26,     26,2,19940202,1049,-26.1872, -35.5708, 4253,    300.3,  14.2020,  35.3750,2,  35.3760,2,    208.4,2,    208.4,2,     2.70,2,     8.03,2,     0.63,2,    2.347,2,    1.240,2, -999.000,9,-999.0000,9,  -999.00,9,   2099.2,2,   2337.3,2,     8.19,2, 14.1580
 3230CITHER2_1,  A17C,    84,  1,     25,     25,2,19940202,1049,-26.1872, -35.5708, 4253,    400.5,  12.7600,  35.1940,2,  35.1880,2,    209.9,2,    207.1,2,     3.80,2,    11.48,2,     0.83,2,    1.990,2,    1.033,2, -999.000,9,-999.0000,9,  -999.00,9,   2109.9,2,   2329.2,2,     8.15,2, 12.7050
 3230CITHER2_1,  A17C,    84,  1,     24,     24,2,19940202,1049,-26.1872, -35.5708, 4253,    500.1,  10.4660,  34.8770,2,  34.8690,2,    206.4,2,    203.4,2,     6.70,2,    17.40,2,     1.20,2,    1.684,2,    0.890,2, -999.000,9,-999.0000,9,  -999.00,9,   2128.7,2,   2312.6,2,     8.08,2, 10.4050
 3230CITHER2_1,  A17C,    84,  1,     23,     23,2,19940202,1049,-26.1872, -35.5708, 4253,    600.7,   8.4290,  34.6490,2,  34.6340,2,    203.5,2,    202.3,2,    10.60,2,    22.05,2,     1.53,2,    1.498,2,    0.797,2, -999.000,9,-999.0000,9,  -999.00,9,   2147.6,2,   2305.4,2,     8.01,2,  8.3650
 3230CITHER2_1,  A17C,    84,  1,     22,     22,2,19940202,1049,-26.1872, -35.5708, 4253,    701.4,   6.2670,  34.4340,2,  34.4280,2,    205.7,2,    213.7,2,    15.50,2,    26.44,2,     1.81,2,    1.314,2,    0.686,2, -999.000,9,-999.0000,9,  -999.00,9,   2160.7,2,   2299.8,2,     7.98,2,  6.2030
 3230CITHER2_1,  A17C,    84,  1,     21,     21,2,19940202,1049,-26.1872, -35.5708, 4253,    799.1,   5.0380,  34.3370,2,  34.3390,2,    219.7,2,    220.1,2,    20.30,2,    28.81,2,     1.97,2,    0.895,2,    0.487,2, -999.000,9,-999.0000,9,  -999.00,9,   2170.7,2,   2301.1,2,     7.95,2,  4.9730
 3230CITHER2_1,  A17C,    84,  1,     20,     20,2,19940202,1049,-26.1872, -35.5708, 4253,    900.3,   4.1790,  34.3230,2,  34.3240,2,    216.0,2,    215.4,2,    28.40,2,    31.03,2,     2.10,2,    0.522,2,    0.280,2, -999.000,9,-999.0000,9,  -999.00,9,   2186.1,2,   2307.2,2,     7.92,2,  4.1110
 3230CITHER2_1,  A17C,    84,  1,     19,     19,2,19940202,1049,-26.1872, -35.5708, 4253,   1000.0,   3.6240,  34.3530,2,  34.3530,2,    209.6,2,    206.1,2,    36.60,2,    32.32,2,     2.21,2,    0.232,2,    0.143,2, -999.000,9,-999.0000,9,  -999.00,9,   2200.9,2,   2315.7,2,     7.90,2,  3.5510
 3230CITHER2_1,  A17C,    84,  1,     18,     18,2,19940202,1049,-26.1872, -35.5708, 4253,   1200.6,   3.1500,  34.4510,2,  34.4470,2,    192.8,2,    193.0,2,    48.70,2,    33.30,2,     2.25,2,    0.044,2,    0.034,2, -999.000,9,-999.0000,9,  -999.00,9,   2220.2,2,   2329.3,2,     7.88,2,  3.0650
 3230CITHER2_1,  A17C,    84,  1,     17,     17,2,19940202,1049,-26.1872, -35.5708, 4253,   1399.9,   3.0700,  34.5910,2,  34.5890,2,    188.7,2,    189.3,2,    52.10,2,    31.97,2,     2.17,2,    0.022,2,    0.021,2, -999.000,9,-999.0000,9,  -999.00,9,   2225.2,2,   2335.0,2,     7.89,2,  2.9700
 3230CITHER2_1,  A17C,    84,  1,     16,     16,2,19940202,1049,-26.1872, -35.5708, 4253,   1599.9,   3.1090,  34.7030,2,  34.7010,2,    197.3,2,    198.2,2,    48.90,2,    29.90,2,     1.99,2,    0.013,2,    0.021,2, -999.000,9,-999.0000,9,  -999.00,9,   2217.0,2,   2339.1,2,     7.92,2,  2.9910
 3230CITHER2_1,  A17C,    84,  1,     15,     15,2,19940202,1049,-26.1872, -35.5708, 4253,   1799.9,   3.2720,  34.7970,2,  34.7950,2,    211.1,2,    211.7,2,    41.40,2,    27.23,2,     1.81,2,    0.013,2,    0.019,2, -999.000,9,-999.0000,9,  -999.00,9,   2204.1,2,   2336.6,2,     7.95,2,  3.1340
 3230CITHER2_1,  A17C,    84,  1,     14,     14,2,19940202,1049,-26.1872, -35.5708, 4253,   1999.7,   3.3110,  34.8590,2,  34.8560,2,    223.3,2,    225.3,2,    36.10,2,    24.90,2,     1.65,2,    0.020,2,    0.024,2, -999.000,9,-999.0000,9,  -999.00,9,   2192.6,2,   2335.4,2,     7.97,2,  3.1540
 3230CITHER2_1,  A17C,    84,  1,     13,     13,2,19940202,1049,-26.1872, -35.5708, 4253,   2200.2,   3.4570,  34.9210,2,  34.9200,2,    237.4,2,    239.7,2,    27.90,2,    22.33,2,     1.47,2,    0.025,2,    0.021,2, -999.000,9,-999.0000,9,  -999.00,9,   2176.8,2,   2331.9,2,     8.00,2,  3.2790
 3230CITHER2_1,  A17C,    84,  1,     12,     12,2,19940202,1049,-26.1872, -35.5708, 4253,   2400.2,   3.3480,  34.9520,2,  34.9520,2,    251.4,2,    251.5,2,    24.00,2,    20.70,2,     1.35,2,    0.017,2,    0.016,2, -999.000,9,-999.0000,9,  -999.00,9,   2170.7,2,   2332.3,2,     8.02,2,  3.1520
 3230CITHER2_1,  A17C,    84,  1,     11,     11,2,19940202,1049,-26.1872, -35.5708, 4253,   2599.3,   2.9790,  34.9350,2,  34.9360,2,    252.0,2,    252.3,2,    29.10,2,    21.10,2,     1.37,2,    0.008,2,    0.011,2, -999.000,9,-999.0000,9,  -999.00,9,   2175.8,2,   2336.0,2,     8.02,2,  2.7700
 3230CITHER2_1,  A17C,    84,  1,     10,     10,2,19940202,1049,-26.1872, -35.5708, 4253,   2799.5,   2.6910,  34.9190,2,  34.9210,2,    252.4,2,    251.3,2,    33.60,2,    21.34,2,     1.38,2,    0.006,2,    0.011,2, -999.000,9,-999.0000,9,  -999.00,9,   2180.4,2,   2340.1,2,     8.02,2,  2.4670
 3230CITHER2_1,  A17C,    84,  1,      9,      9,2,19940202,1049,-26.1872, -35.5708, 4253,   2999.6,   2.3190,  34.8900,2,  34.8920,2,    250.8,2,    252.9,2,    43.40,2,    22.21,2,     1.47,2,    0.005,2,    0.005,2, -999.000,9,-999.0000,9,  -999.00,9,   2187.7,2,   2344.7,2,     8.01,2,  2.0830
 3230CITHER2_1,  A17C,    84,  1,      7,      7,2,19940202,1049,-26.1872, -35.5708, 4253,   3199.1,   2.0210,  34.8590,2,  34.8590,2,    246.2,2,    247.2,2,    55.30,2,    23.77,2,     1.59,2,    0.005,2,    0.007,2, -999.000,9,-999.0000,9,  -999.00,9,   2200.0,2,   2352.6,2,     8.00,2,  1.7720
 3230CITHER2_1,  A17C,    84,  1,      8,      8,2,19940202,1049,-26.1872, -35.5708, 4253,   3199.2,   2.0220,  34.8590,2,  34.8580,2,    246.2,2,    246.4,2,    55.50,2,    23.82,2,     1.58,2,    0.006,2,    0.008,2, -999.000,9,-999.0000,9,  -999.00,9,   -999.0,5,   2352.6,2,     8.00,2,  1.7730
 3230CITHER2_1,  A17C,    84,  1,      6,      6,2,19940202,1049,-26.1872, -35.5708, 4253,   3398.8,   1.6890,  34.8240,2,  34.8270,2,    240.2,2,    241.0,2,    70.00,2,    25.80,2,     1.73,2,    0.005,2,    0.004,2, -999.000,9,-999.0000,9,  -999.00,9,   2213.1,2,   2358.1,2,     7.98,2,  1.4280
 3230CITHER2_1,  A17C,    84,  1,      5,      5,2,19940202,1049,-26.1872, -35.5708, 4253,   3599.3,   1.3470,  34.7870,2,  34.7850,2,    232.6,2,    234.3,2,    86.00,2,    28.02,2,     1.87,2,    0.010,2,    0.009,2, -999.000,9,-999.0000,9,  -999.00,9,   2228.8,2,   2366.9,2,     7.96,2,  1.0740
 3230CITHER2_1,  A17C,    84,  1,      4,      4,2,19940202,1049,-26.1872, -35.5708, 4253,   3798.5,   1.1430,  34.7630,2,  34.7640,2,    228.3,2,    230.3,2,    95.20,2,    29.26,2,     1.96,2,    0.059,2,    0.036,2, -999.000,9,-999.0000,9,  -999.00,9,   2237.8,2,   2370.1,2,     7.94,2,  0.8550
 3230CITHER2_1,  A17C,    84,  1,      3,      3,2,19940202,1049,-26.1872, -35.5708, 4253,   3998.0,   0.7130,  34.7170,2,  34.7160,2,    221.7,2,    223.0,2,   113.10,2,    31.63,2,     2.15,2,    0.108,2,    0.062,2, -999.000,9,-999.0000,9,  -999.00,9,   2254.9,2,   2373.5,2,     7.91,2,  0.4160
 3230CITHER2_1,  A17C,    84,  1,      2,      2,2,19940202,1049,-26.1872, -35.5708, 4253,   4198.9,   0.2910,  34.6800,2,  34.6840,2,    218.8,2,    221.6,2,   123.60,2,    32.91,2,     2.25,2,    0.113,2,    0.067,2, -999.000,9,-999.0000,9,  -999.00,9,   2264.7,2,   2376.9,2,     7.89,2, -0.0140
 3230CITHER2_1,  A17C,    84,  1,      1,      1,2,19940202,1049,-26.1872, -35.5708, 4253,   4278.4,   0.2270,  34.6760,2,  34.6760,2,    218.4,2,    222.1,2,   127.80,2,    33.41,2,     2.27,2, -999.000,5, -999.000,5, -999.000,9,-999.0000,9,  -999.00,9,   2266.1,2,   2375.1,2,     7.89,2, -0.0840
 3230CITHER2_1,  A17C,    85,  1,     31,     31,2,19940203,0126,-25.7962, -35.2337, 4278,      3.8,  27.6990,  36.4250,2,  36.4310,2,    193.9,2,    200.6,2,     0.80,2,     0.04,2,     0.01,2,    1.822,2,    1.068,2, -999.000,9,-999.0000,9,  -999.00,9,   -999.0,9,   -999.0,9,     8.38,2, 27.6980
 3230CITHER2_1,  A17C,    85,  1,     30,     30,2,19940203,0126,-25.7962, -35.2337, 4278,     49.9,  23.0270,  36.6050,2,  36.6080,2,    215.4,2,    228.0,2,     0.80,2,     0.04,2,     0.01,2,    2.197,2,    1.252,2, -999.000,9,-999.0000,9,  -999.00,9,   -999.0,9,   -999.0,9,     8.37,2, 23.0170
 3230CITHER2_1,  A17C,    85,  1,     29,     29,2,19940203,0126,-25.7962, -35.2337, 4278,    100.7,  20.1430,  36.3250,2,  36.3170,2,    211.9,2,    213.8,2,     0.90,2,     0.20,2,     0.09,2,    2.329,2,    1.307,2, -999.000,9,-999.0000,9,  -999.00,9,   -999.0,9,   -999.0,9,     8.32,2, 20.1240
 3230CITHER2_1,  A17C,    85,  1,     28,     28,2,19940203,0126,-25.7962, -35.2337, 4278,    150.4,  18.8450,  36.1080,2,  36.0970,2,    214.6,2,    213.6,2,     0.90,2,     0.99,2,     0.14,2,    2.404,2,    1.328,2, -999.000,9,-999.0000,9,  -999.00,9,   -999.0,9,   -999.0,9,     8.30,2, 18.8180
 3230CITHER2_1,  A17C,    85,  1,     27,     27,2,19940203,0126,-25.7962, -35.2337, 4278,    200.2,  16.9210,  35.7480,2,  35.7570,2,    203.7,2,    202.4,2,     1.80,2,     3.66,2,     0.39,2,    2.450,2,    1.326,2, -999.000,9,-999.0000,9,  -999.00,9,   -999.0,9,   -999.0,9,     8.24,2, 16.8880
 3230CITHER2_1,  A17C,    85,  1,     26,     26,2,19940203,0126,-25.7962, -35.2337, 4278,    301.0,  14.2860,  35.3550,2,  35.3520,2,    202.3,2,    202.6,2,     3.10,2,     8.46,2,     0.67,2,    2.402,2,    1.283,2, -999.000,9,-999.0000,9,  -999.00,9,   -999.0,9,   -999.0,9,     8.18,2, 14.2420
 3230CITHER2_1,  A17C,    85,  1,     25,     25,2,19940203,0126,-25.7962, -35.2337, 4278,    400.6,  12.4280,  35.1260,2,  35.1270,2,    205.1,2,    203.6,2,     4.30,2,    12.76,2,     0.90,2,    2.204,2,    1.169,2, -999.000,9,-999.0000,9,  -999.00,9,   -999.0,9,   -999.0,9,     8.13,2, 12.3740
 3230CITHER2_1,  A17C,    85,  1,     24,     24,2,19940203,0126,-25.7962, -35.2337, 4278,    500.6,  10.0890,  34.8270,2,-999.0000,5,    202.6,2,    196.6,2,    11.70,2,    23.57,2,     1.62,2,    1.763,2,    0.927,2, -999.000,9,-999.0000,9,  -999.00,9,   -999.0,9,   -999.0,9,     8.01,2, 10.0300
 3230CITHER2_1,  A17C,    85,  1,     23,     23,2,19940203,0126,-25.7962, -35.2337, 4278,    601.0,   7.7520,  34.5670,2,  34.5700,2,    203.0,2,    204.0,2,    11.90,2,    23.57,2,     1.64,2,    1.595,2,    0.826,2, -999.000,9,-999.0000,9,  -999.00,9,   -999.0,9,   -999.0,9,     8.00,2,  7.6910
 3230CITHER2_1,  A17C,    85,  1,     22,     22,2,19940203,0126,-25.7962, -35.2337, 4278,    700.1,   6.0190,  34.4090,2,  34.4120,2,    213.2,2,    213.3,2,    16.40,2,    26.89,2,     1.85,2,    1.395,2,    0.716,2, -999.000,9,-999.0000,9,  -999.00,9,   -999.0,9,   -999.0,9,     7.96,2,  5.9570
 3230CITHER2_1,  A17C,    85,  1,     21,     21,2,19940203,0126,-25.7962, -35.2337, 4278,    800.1,   4.7440,  34.3290,2,  34.3310,2,    218.5,2,    217.6,2,    22.90,2,    29.81,2,     2.03,2,    1.098,2,    0.588,2, -999.000,9,-999.0000,9,  -999.00,9,   -999.0,9,   -999.0,9,     7.95,2,  4.6800
 3230CITHER2_1,  A17C,    85,  1,     20,     20,2,19940203,0126,-25.7962, -35.2337, 4278,    900.8,   3.9380,  34.3220,2,  34.3250,2,    213.8,2,    213.6,2,    30.70,2,    31.54,2,     2.15,2,    0.756,2,    0.414,2, -999.000,9,-999.0000,9,  -999.00,9,   -999.0,9,   -999.0,9,     7.91,2,  3.8710
 3230CITHER2_1,  A17C,    85,  1,     19,     19,2,19940203,0126,-25.7962, -35.2337, 4278,   1000.4,   3.4860,  34.3770,2,  34.3790,2,    201.4,2,    200.4,2,    39.90,2,    32.52,2,     2.24,2,    0.390,2,    0.214,2, -999.000,9,-999.0000,9,  -999.00,9,   -999.0,9,   -999.0,9,     7.89,2,  3.4140
 3230CITHER2_1,  A17C,    85,  1,     18,     18,2,19940203,0126,-25.7962, -35.2337, 4278,   1201.4,   3.2540,  34.5220,2,  34.5230,2,    187.2,2,    187.2,2,    48.00,2,    32.82,2,     2.23,2,    0.076,2,    0.052,2, -999.000,9,-999.0000,9,  -999.00,9,   -999.0,9,   -999.0,9,     7.88,2,  3.1680
 3230CITHER2_1,  A17C,    85,  1,     17,     17,2,19940203,0126,-25.7962, -35.2337, 4278,   1399.6,   3.3100,  34.6740,2,  34.6790,2,    195.0,2,    193.3,2,    45.60,2,    30.55,2,     2.05,2,    0.019,2,    0.019,2, -999.000,9,-999.0000,9,  -999.00,9,   -999.0,9,   -999.0,9,     7.91,2,  3.2070
 3230CITHER2_1,  A17C,    85,  1,     16,     16,2,19940203,0126,-25.7962, -35.2337, 4278,   1600.1,   3.7740,  34.8630,2,  34.8560,2,    217.2,2,    217.3,2,    30.00,2,    25.01,2,     1.68,2,    0.025,2,    0.026,2, -999.000,9,-999.0000,9,  -999.00,9,   -999.0,9,   -999.0,9,     7.97,2,  3.6480
 3230CITHER2_1,  A17C,    85,  1,     15,     15,2,19940203,0126,-25.7962, -35.2337, 4278,   1799.4,   3.5010,  34.8980,2,  34.9020,2,    232.3,2,    232.0,2,    29.60,2,    23.17,2,     1.54,2,    0.019,2,    0.017,2, -999.000,9,-999.0000,9,  -999.00,9,   -999.0,9,   -999.0,9,     7.99,2,  3.3600
 3230CITHER2_1,  A17C,    85,  1,     14,     14,2,19940203,0126,-25.7962, -35.2337, 4278,   2000.7,   3.4750,  34.9480,2,  34.9510,2,    246.3,2,    247.3,2,    23.70,2,    21.11,2,     1.38,2,    0.024,2,    0.029,2, -999.000,9,-999.0000,9,  -999.00,9,   -999.0,9,   -999.0,9,     8.02,2,  3.3150
 3230CITHER2_1,  A17C,    85,  1,     13,     13,2,19940203,0126,-25.7962, -35.2337, 4278,   2199.5,   3.2690,  34.9420,2,  34.9440,2,    250.0,2,    249.5,2,    25.60,2,    21.15,2,     1.37,2,    0.018,2,    0.014,2, -999.000,9,-999.0000,9,  -999.00,9,   -999.0,9,   -999.0,9,     8.03,2,  3.0940
 3230CITHER2_1,  A17C,    85,  1,     12,     12,2,19940203,0126,-25.7962, -35.2337, 4278,   2399.8,   3.1070,  34.9410,2,  34.9400,2,    251.5,2,    251.1,2,    27.20,2,    21.03,2,     1.37,2,    0.013,2,    0.021,2, -999.000,9,-999.0000,9,  -999.00,9,   -999.0,9,   -999.0,9,     8.03,2,  2.9140
 3230CITHER2_1,  A17C,    85,  1,     11,     11,2,19940203,0126,-25.7962, -35.2337, 4278,   2400.2,   3.1060,  34.9420,2,  34.9410,2,    251.5,2,    250.9,2,    27.10,2,    20.99,2,     1.37,2,    0.011,2,    0.009,2, -999.000,9,-999.0000,9,  -999.00,9,   -999.0,9,   -999.0,9,     8.03,2,  2.9150
 3230CITHER2_1,  A17C,    85,  1,     10,     10,2,19940203,0126,-25.7962, -35.2337, 4278,   2600.3,   2.9620,  34.9330,2,  34.9240,2,    252.0,2,    251.3,2,    29.50,2,    21.26,2,     1.39,2,    0.014,2,    0.015,2, -999.000,9,-999.0000,9,  -999.00,9,   -999.0,9,   -999.0,9,     8.02,2,  2.7530
 3230CITHER2_1,  A17C,    85,  1,      9,      9,2,19940203,0126,-25.7962, -35.2337, 4278,   2800.8,   2.8460,  34.9260,2,  34.9280,2,    252.3,2,    251.0,2,    31.50,2,    21.26,2,     1.40,2,    0.010,2,    0.009,2, -999.000,9,-999.0000,9,  -999.00,9,   -999.0,9,   -999.0,9,     8.02,2,  2.6190
 3230CITHER2_1,  A17C,    85,  1,      8,      8,2,19940203,0126,-25.7962, -35.2337, 4278,   2999.2,   2.7430,  34.9210,2,  34.9230,2,    253.0,2,    251.6,2,    33.00,2,    21.42,2,     1.39,2,    0.010,2,    0.015,2, -999.000,9,-999.0000,9,  -999.00,9,   -999.0,9,   -999.0,9,     8.02,2,  2.4980
 3230CITHER2_1,  A17C,    85,  1,      7,      7,2,19940203,0126,-25.7962, -35.2337, 4278,   3199.4,   2.6160,  34.9130,2,  34.9120,2,    253.8,2,    252.6,2,    35.30,2,    21.46,2,     1.41,2,    0.072,2,    0.051,2, -999.000,9,-999.0000,9,  -999.00,9,   -999.0,9,   -999.0,9,     8.03,2,  2.3530
 3230CITHER2_1,  A17C,    85,  1,      6,      6,2,19940203,0126,-25.7962, -35.2337, 4278,   3400.1,   2.4550,  34.8960,2,  34.8990,2,    253.1,2,    251.5,2,    40.00,2,    22.14,2,     1.46,2,    0.002,2,    0.012,2, -999.000,9,-999.0000,9,  -999.00,9,   -999.0,9,   -999.0,9,     8.01,2,  2.1750
 3230CITHER2_1,  A17C,    85,  1,      5,      5,2,19940203,0126,-25.7962, -35.2337, 4278,   3599.6,   2.0220,  34.8540,2,  34.8560,2,    246.8,2,    245.1,2,    57.20,2,    24.22,2,     1.60,2,    0.005,2,    0.008,2, -999.000,9,-999.0000,9,  -999.00,9,   -999.0,9,   -999.0,9,     7.99,2,  1.7310
 3230CITHER2_1,  A17C,    85,  1,      4,      4,2,19940203,0126,-25.7962, -35.2337, 4278,   3798.7,   1.4550,  34.7970,2,  34.7960,2,    235.8,2,    235.4,2,    82.10,2,    27.59,2,     1.84,2,    0.007,2,    0.012,2, -999.000,9,-999.0000,9,  -999.00,9,   -999.0,9,   -999.0,9,     7.96,2,  1.1580
 3230CITHER2_1,  A17C,    85,  1,      3,      3,2,19940203,0126,-25.7962, -35.2337, 4278,   3998.7,   0.9980,  34.7430,2,  34.7490,2,    227.3,2,    226.4,2,   101.40,2,    30.35,2,     2.04,2,    0.032,2,    0.024,2, -999.000,9,-999.0000,9,  -999.00,9,   -999.0,9,   -999.0,9,     7.93,2,  0.6930
 3230CITHER2_1,  A17C,    85,  1,      2,      2,2,19940203,0126,-25.7962, -35.2337, 4278,   4198.5,   0.4370,  34.6920,2,  34.6920,2,    219.1,2,    220.2,2,   122.40,2,    33.03,2,     2.24,2,    0.081,2,    0.051,2, -999.000,9,-999.0000,9,  -999.00,9,   -999.0,9,   -999.0,9,     7.89,2,  0.1280
 3230CITHER2_1,  A17C,    85,  1,      1,      1,2,19940203,0126,-25.7962, -35.2337, 4278,   4286.8,   0.2550,  34.6770,2,  34.6780,2,    219.1,2,    221.4,2,   127.10,2,    33.22,2,     2.28,2,    0.115,2,    0.067,2, -999.000,9,-999.0000,9,  -999.00,9,   -999.0,9,   -999.0,9,     7.89,2, -0.0580