BOTTLE,20030515WHPSIOSA
EXPOCODE,SECT_ID,STNNBR,CASTNO,SAMPNO,BTLNBR,BTLNBR_FLAG_W,DATE,TIME,LATITUDE,LONGITUDE,DEPTH,CTDPRS,CTDTMP,CTDSAL,CTDSAL_FLAG_W,SALNTY,SALNTY_FLAG_W,CTDOXY,CTDOXY_FLAG_W,OXYGEN,OXYGEN_FLAG_W,SILCAT,SILCAT_FLAG_W,NITRAT,NITRAT_FLAG_W,PHSPHT,PHSPHT_FLAG_W,CFC-11,CFC-11_FLAG_W,CFC-12,CFC-12_FLAG_W,TRITUM,TRITUM_FLAG_W,HELIUM,HELIUM_FLAG_W,DELHE3,DELHE3_FLAG_W,TCARBN,TCARBN_FLAG_W,ALKALI,ALKALI_FLAG_W,PH,PH_FLAG_W,THETA
,,,,,,,,,,,,DBAR,ITS-90,PSS-78,,PSS-78,,UMOL/KG,,UMOL/KG,,UMOL/KG,,UMOL/KG,,UMOL/KG,,PMOL/KG,,PMOL/KG,,TU,,NMOL/KG,,PERCNT,,UMOL/KG,,UMOL/KG,,,,DEG C
 3230CITHER2_2,  A17N,   158,  1,     32,     32,2,19940301,1918, -5.4882, -30.1642, 5106,      6.6,  28.1310,  35.9760,2,  35.9770,2,    197.8,2,    198.3,2,     1.50,2,     0.04,2,     0.07,2,    1.667,2,    0.952,2, -999.000,9,-999.0000,9,  -999.00,9,   2013.1,2,   -999.0,9,     8.37,2, 28.1290
 3230CITHER2_2,  A17N,   158,  1,     31,     31,2,19940301,1918, -5.4882, -30.1642, 5106,     40.6,  28.0180,  35.9700,2,  35.9700,2,    201.6,2,    199.6,2,     1.40,2,     0.04,2,     0.07,2,    1.645,2,    0.939,2, -999.000,9,-999.0000,9,  -999.00,9,   2010.7,2,   -999.0,9,     8.37,2, 28.0080
 3230CITHER2_2,  A17N,   158,  1,     30,     30,2,19940301,1918, -5.4882, -30.1642, 5106,    126.2,  20.9410,  36.1370,2,  36.1250,2,    151.0,2,    149.5,2,     3.30,2,     9.25,2,     0.74,2,    1.733,2,    0.948,2, -999.000,9,-999.0000,9,  -999.00,9,   2123.8,2,   -999.0,9,     8.19,2, 20.9170
 3230CITHER2_2,  A17N,   158,  1,     29,     29,2,19940301,1918, -5.4882, -30.1642, 5106,    202.6,  11.0250,  35.0340,2,  35.0290,2,    113.5,2,    113.3,2,    11.70,2,    25.34,2,     1.70,2,    0.817,2,    0.434,2, -999.000,9,-999.0000,9,  -999.00,9,   2188.3,2,   -999.0,9,     7.93,2, 11.0000
 3230CITHER2_2,  A17N,   158,  1,     28,     28,2,19940301,1918, -5.4882, -30.1642, 5106,    401.8,   8.1140,  34.7220,2,  34.7200,2,     93.4,2,     92.0,2,    18.60,2,    34.21,2,     2.18,2,    0.222,2,    0.123,2, -999.000,9,-999.0000,9,  -999.00,9,   2224.9,2,   -999.0,9,     7.81,2,  8.0730
 3230CITHER2_2,  A17N,   158,  1,     27,     27,2,19940301,1918, -5.4882, -30.1642, 5106,    601.1,   5.8560,  34.5240,2,  34.5190,2,    137.5,2,    135.4,2,    25.10,2,    34.32,2,     2.28,2,    0.156,2,    0.086,2, -999.000,9,-999.0000,9,  -999.00,9,   2217.0,2,   -999.0,9,     7.83,2,  5.8040
 3230CITHER2_2,  A17N,   158,  1,     26,     26,2,19940301,1918, -5.4882, -30.1642, 5106,    802.9,   4.7540,  34.4830,2,  34.4840,2,    144.8,2,    144.1,2,    31.90,2,    35.49,2,     2.39,2,    0.029,2,    0.020,2, -999.000,9,-999.0000,9,  -999.00,9,   2224.1,2,   -999.0,9,     7.83,2,  4.6900
 3230CITHER2_2,  A17N,   158,  1,     25,     25,2,19940301,1918, -5.4882, -30.1642, 5106,    999.6,   4.1670,  34.5610,2,  34.5650,2,    161.1,2,    163.5,2,    34.80,2,    33.37,2,     2.27,2,    0.033,2,    0.022,2, -999.000,9,-999.0000,9,  -999.00,9,   2218.3,2,   -999.0,9,     7.85,2,  4.0900
 3230CITHER2_2,  A17N,   158,  1,     24,     24,2,19940301,1918, -5.4882, -30.1642, 5106,   1200.3,   4.3070,  34.7670,2,  34.7700,2,    179.3,2,    180.8,2,    28.60,2,    29.26,2,     1.97,2,    0.010,2,    0.005,2, -999.000,9,-999.0000,9,  -999.00,9,   -999.0,9,   -999.0,9,     7.90,2,  4.2110
 3230CITHER2_2,  A17N,   158,  1,     23,     23,2,19940301,1918, -5.4882, -30.1642, 5106,   1401.2,   4.3470,  34.9180,2,  34.9190,2,    207.1,2,    211.8,2,    21.90,2,    23.97,2,     1.61,2,    0.027,2,    0.021,2, -999.000,9,-999.0000,9,  -999.00,9,   -999.0,9,   -999.0,9,     7.97,2,  4.2320
 3230CITHER2_2,  A17N,   158,  1,     22,     22,2,19940301,1918, -5.4882, -30.1642, 5106,   1502.7,   4.2360,  34.9440,2,  34.9450,2,    220.9,2,    223.3,2,    20.60,2,    22.84,2,     1.50,2,    0.026,2,    0.017,2, -999.000,9,-999.0000,9,  -999.00,9,   -999.0,9,   -999.0,9,     7.98,2,  4.1130
 3230CITHER2_2,  A17N,   158,  1,     21,     21,2,19940301,1918, -5.4882, -30.1642, 5106,   1587.1,   4.1430,  34.9610,2,  34.9590,2,    229.9,2,    232.1,2,    19.50,2,    21.71,2,     1.44,2,    0.030,2,    0.017,2, -999.000,9,-999.0000,9,  -999.00,9,   -999.0,9,   -999.0,9,     7.99,2,  4.0130
 3230CITHER2_2,  A17N,   158,  1,     20,     20,2,19940301,1918, -5.4882, -30.1642, 5106,   1703.1,   3.9860,  34.9750,2,  34.9760,2,    241.7,2,    242.9,2,    18.60,2,    20.65,2,     1.35,2,    0.041,2,    0.026,2, -999.000,9,-999.0000,9,  -999.00,9,   -999.0,9,   -999.0,9,     8.01,2,  3.8470
 3230CITHER2_2,  A17N,   158,  1,     19,     19,2,19940301,1918, -5.4882, -30.1642, 5106,   1802.0,   3.8360,  34.9740,2,  34.9770,2,    247.7,2,    247.3,2,    19.10,2,    20.27,2,     1.34,2,    0.041,2,    0.035,2, -999.000,9,-999.0000,9,  -999.00,9,   -999.0,9,   -999.0,9,     8.01,2,  3.6900
 3230CITHER2_2,  A17N,   158,  1,     18,     18,2,19940301,1918, -5.4882, -30.1642, 5106,   2001.2,   3.6150,  34.9680,2,  34.9720,2,    251.3,2,    250.6,2,    20.50,2,    20.05,2,     1.32,2,    0.032,2,    0.024,2, -999.000,9,-999.0000,9,  -999.00,9,   -999.0,9,   -999.0,9,     8.01,2,  3.4530
 3230CITHER2_2,  A17N,   158,  1,     17,     17,2,19940301,1918, -5.4882, -30.1642, 5106,   2201.5,   3.2620,  34.9490,2,  34.9510,2,    252.0,2,    250.6,2,    25.60,2,    20.67,2,     1.35,2,    0.016,2,    0.012,2, -999.000,9,-999.0000,9,  -999.00,9,   -999.0,9,   -999.0,9,     8.01,2,  3.0860
 3230CITHER2_2,  A17N,   158,  1,     16,     16,2,19940301,1918, -5.4882, -30.1642, 5106,   2401.7,   3.0240,  34.9310,2,  34.9290,2,    247.1,2,    247.0,2,    31.10,2,    21.43,2,     1.41,2,    0.008,2,    0.009,2, -999.000,9,-999.0000,9,  -999.00,9,   -999.0,9,   -999.0,9,     8.01,2,  2.8330
 3230CITHER2_2,  A17N,   158,  1,     15,     15,2,19940301,1918, -5.4882, -30.1642, 5106,   2698.7,   2.7940,  34.9180,2,  34.9150,2,    247.5,2,    246.4,2,    35.50,2,    21.67,2,     1.43,2,    0.004,2,    0.005,2, -999.000,9,-999.0000,9,  -999.00,9,   -999.0,9,   -999.0,9,     8.01,2,  2.5780
 3230CITHER2_2,  A17N,   158,  1,     14,     14,2,19940301,1918, -5.4882, -30.1642, 5106,   2998.4,   2.6990,  34.9180,2,  34.9170,2,    249.0,2,    249.9,2,    35.40,2,    21.37,2,     1.41,2,    0.002,2,    0.005,2, -999.000,9,-999.0000,9,  -999.00,9,   -999.0,9,   -999.0,9,     8.01,2,  2.4550
 3230CITHER2_2,  A17N,   158,  1,     13,     13,2,19940301,1918, -5.4882, -30.1642, 5106,   3250.7,   2.6480,  34.9200,2,  34.9190,2,    254.2,2,    255.7,2,    32.90,2,    20.62,2,     1.42,2,    0.018,2,    0.014,2, -999.000,9,-999.0000,9,  -999.00,9,   -999.0,9,   -999.0,9,     8.01,2,  2.3790
 3230CITHER2_2,  A17N,   158,  1,     12,     12,2,19940301,1918, -5.4882, -30.1642, 5106,   3496.4,   2.5590,  34.9140,2,  34.9140,2,    257.7,2,    257.3,2,    33.50,2,    20.43,2,     1.35,2,    0.022,2,    0.017,2, -999.000,9,-999.0000,9,  -999.00,9,   -999.0,9,   -999.0,9,     8.02,2,  2.2650
 3230CITHER2_2,  A17N,   158,  1,     11,     11,2,19940301,1918, -5.4882, -30.1642, 5106,   3698.9,   2.4290,  34.9010,2,  34.9020,2,    257.9,2,    257.1,2,    37.50,2,    20.79,2,     1.39,2,    0.013,2,    0.009,2, -999.000,9,-999.0000,9,  -999.00,9,   -999.0,9,   -999.0,9,     8.01,2,  2.1110
 3230CITHER2_2,  A17N,   158,  1,     10,     10,2,19940301,1918, -5.4882, -30.1642, 5106,   3699.8,   2.4230,  34.9010,2,  34.8990,2,    257.8,2,    256.8,2,    37.40,2,    20.86,2,     1.38,2,    0.013,2,    0.010,2, -999.000,9,-999.0000,9,  -999.00,9,   -999.0,9,   -999.0,9,     8.01,2,  2.1170
 3230CITHER2_2,  A17N,   158,  1,      9,      9,2,19940301,1918, -5.4882, -30.1642, 5106,   3849.4,   2.1930,  34.8770,2,  34.8760,2,    253.5,2,    252.6,2,    47.10,2,    22.13,2,     1.47,2,    0.006,2,    0.007,2, -999.000,9,-999.0000,9,  -999.00,9,   -999.0,9,   -999.0,9,     8.01,2,  1.8700
 3230CITHER2_2,  A17N,   158,  1,      8,      8,2,19940301,1918, -5.4882, -30.1642, 5106,   4000.1,   1.9780,  34.8560,2,  34.8550,2,    252.0,2,    251.2,2,    54.30,2,    22.71,2,     1.53,2,    0.025,2,    0.020,2, -999.000,9,-999.0000,9,  -999.00,9,   -999.0,9,   -999.0,9,     7.99,2,  1.6450
 3230CITHER2_2,  A17N,   158,  1,      7,      7,2,19940301,1918, -5.4882, -30.1642, 5106,   4198.8,   1.5700,  34.8110,2,  34.8110,2,    241.7,2,    240.9,2,    75.70,2,    25.40,2,     1.73,2,    0.008,2,    0.006,2, -999.000,9,-999.0000,9,  -999.00,9,   -999.0,9,   -999.0,9,     7.97,2,  1.2260
 3230CITHER2_2,  A17N,   158,  1,      6,      6,2,19940301,1918, -5.4882, -30.1642, 5106,   4399.2,   1.2300,  34.7710,2,  34.7700,2,    234.0,2,    233.9,2,    90.60,2,    27.90,2,     1.89,2,    0.007,2,    0.005,2, -999.000,9,-999.0000,9,  -999.00,9,   -999.0,9,   -999.0,9,     7.95,2,  0.8740
 3230CITHER2_2,  A17N,   158,  1,      5,      5,2,19940301,1918, -5.4882, -30.1642, 5106,   4598.2,   1.0000,  34.7440,2,  34.7440,2,    228.5,2,    229.1,2,   100.40,2,    29.47,2,     2.01,2,    0.007,2,    0.004,2, -999.000,9,-999.0000,9,  -999.00,9,   -999.0,9,   -999.0,9,     7.93,2,  0.6290
 3230CITHER2_2,  A17N,   158,  1,      4,      4,2,19940301,1918, -5.4882, -30.1642, 5106,   4799.1,   0.8000,  34.7200,2,  34.7210,2,    224.6,2,    224.9,2,   110.10,2,    30.71,2,     2.10,2,    0.020,2,    0.014,2, -999.000,9,-999.0000,9,  -999.00,9,   -999.0,9,   -999.0,9,     7.91,2,  0.4130
 3230CITHER2_2,  A17N,   158,  1,      3,      3,2,19940301,1918, -5.4882, -30.1642, 5106,   4997.5,   0.6980,  34.7080,2,  34.7100,2,    223.0,2,    223.5,2,   114.20,2,    31.31,2,     2.15,2,    0.015,2,    0.007,2, -999.000,9,-999.0000,9,  -999.00,9,   -999.0,9,   -999.0,9,     7.90,2,  0.2910
 3230CITHER2_2,  A17N,   158,  1,      2,      2,2,19940301,1918, -5.4882, -30.1642, 5106,   5099.3,   0.6430,  34.7010,2,  34.7030,2,    221.9,2,    222.1,2,   116.50,2,    31.66,2,     2.17,2,    0.028,2,    0.014,2, -999.000,9,-999.0000,9,  -999.00,9,   -999.0,9,   -999.0,9,     7.90,2,  0.2260
 3230CITHER2_2,  A17N,   158,  1,      1,      1,2,19940301,1918, -5.4882, -30.1642, 5106,   5176.6,   0.6370,  34.7010,2,  34.7000,2,    221.4,2,    221.8,2,   116.50,2,    31.62,2,     2.18,2,    0.025,2,    0.017,2, -999.000,9,-999.0000,9,  -999.00,9,   -999.0,9,   -999.0,9,     7.90,2,  0.2110
 3230CITHER2_2,  A17N,   159,  1,     32,     32,2,19940302,0134, -4.9945, -30.1382, 4972,      4.9,  28.0200,  35.9510,2,  35.9510,2,    197.7,2,    198.2,2,     1.60,2,     0.04,2,     0.07,2,    1.651,2,    0.949,2, -999.000,9,-999.0000,9,  -999.00,9,   -999.0,9,   -999.0,9,     8.37,2, 28.0190
 3230CITHER2_2,  A17N,   159,  1,     31,     31,2,19940302,0134, -4.9945, -30.1382, 4972,     60.9,  27.9780,  35.9970,2,  36.0280,2,    199.9,2,    199.5,2,     1.50,2,     0.04,2,     0.07,2,    1.663,2,    0.954,2, -999.000,9,-999.0000,9,  -999.00,9,   -999.0,9,   -999.0,9,     8.37,2, 27.9640
 3230CITHER2_2,  A17N,   159,  1,     30,     30,2,19940302,0134, -4.9945, -30.1382, 4972,    126.1,  18.5920,  35.9720,2,  35.9220,2,    158.6,2,    129.6,2,     4.70,2,    13.75,2,     0.97,2,    1.633,2,    0.875,2, -999.000,9,-999.0000,9,  -999.00,9,   -999.0,9,   -999.0,9,     8.12,2, 18.5700
 3230CITHER2_2,  A17N,   159,  1,     29,     29,2,19940302,0134, -4.9945, -30.1382, 4972,    202.3,  11.1600,  35.0360,2,  35.0440,2,    123.3,2,    123.5,2,    10.90,2,    24.09,2,     1.59,2,    0.949,2,    0.507,2, -999.000,9,-999.0000,9,  -999.00,9,   -999.0,9,   -999.0,9,     7.96,2, 11.1350
 3230CITHER2_2,  A17N,   159,  1,     28,     28,2,19940302,0134, -4.9945, -30.1382, 4972,    400.1,   8.0130,  34.7130,2,  34.7110,2,     93.1,2,     92.8,2,    19.40,2,    34.53,2,     2.20,2,    0.235,2,    0.124,2, -999.000,9,-999.0000,9,  -999.00,9,   -999.0,9,   -999.0,9,     7.81,2,  7.9720
 3230CITHER2_2,  A17N,   159,  1,     27,     27,2,19940302,0134, -4.9945, -30.1382, 4972,    601.3,   5.7150,  34.5110,2,  34.5110,2,    137.8,2,    137.8,2,    26.20,2,    34.54,2,     2.29,2,    0.167,2,    0.095,2, -999.000,9,-999.0000,9,  -999.00,9,   -999.0,9,   -999.0,9,     7.84,2,  5.6630
 3230CITHER2_2,  A17N,   159,  1,     26,     26,2,19940302,0134, -4.9945, -30.1382, 4972,    801.0,   4.7890,  34.4800,2,  34.4790,2,    146.7,2,    146.2,2,    32.00,2,    35.53,2,     2.37,2,    0.043,2,    0.024,2, -999.000,9,-999.0000,9,  -999.00,9,   -999.0,9,   -999.0,9,     7.83,2,  4.7250
 3230CITHER2_2,  A17N,   159,  1,     25,     25,2,19940302,0134, -4.9945, -30.1382, 4972,   1000.2,   4.2180,  34.5500,2,  34.5510,2,    158.2,2,    160.3,2,    35.60,2,    34.22,2,     2.30,2,    0.070,2,    0.041,2, -999.000,9,-999.0000,9,  -999.00,9,   -999.0,9,   -999.0,9,     7.85,2,  4.1410
 3230CITHER2_2,  A17N,   159,  1,     24,     24,2,19940302,0134, -4.9945, -30.1382, 4972,   1198.6,   4.3240,  34.7810,2,  34.7770,2,    179.7,2,    180.0,2,    29.10,2,    29.48,2,     1.95,2,    0.006,2,    0.004,2, -999.000,9,-999.0000,9,  -999.00,9,   -999.0,9,   -999.0,9,     7.90,2,  4.2280
 3230CITHER2_2,  A17N,   159,  1,     23,     23,2,19940302,0134, -4.9945, -30.1382, 4972,   1401.1,   4.3530,  34.9130,2,  34.9120,2,    210.3,2,    209.7,2,    22.50,2,    24.43,2,     1.61,2,    0.028,2,    0.018,2, -999.000,9,-999.0000,9,  -999.00,9,   -999.0,9,   -999.0,9,     7.96,2,  4.2380
 3230CITHER2_2,  A17N,   159,  1,     22,     22,2,19940302,0134, -4.9945, -30.1382, 4972,   1501.4,   4.2570,  34.9460,2,  34.9450,2,    223.8,2,    222.5,2,    20.80,2,    23.07,2,     1.50,2,    0.077,2,    0.046,2, -999.000,9,-999.0000,9,  -999.00,9,   -999.0,9,   -999.0,9,     7.98,2,  4.1340
 3230CITHER2_2,  A17N,   159,  1,     21,     21,2,19940302,0134, -4.9945, -30.1382, 4972,   1600.0,   4.0990,  34.9600,2,  34.9590,2,    232.1,2,    232.8,2,    20.20,2,    22.08,2,     1.43,2,    0.018,2,    0.016,2, -999.000,9,-999.0000,9,  -999.00,9,   -999.0,9,   -999.0,9,     7.99,2,  3.9680
 3230CITHER2_2,  A17N,   159,  1,     20,     20,2,19940302,0134, -4.9945, -30.1382, 4972,   1701.0,   3.9710,  34.9700,2,  34.9690,2,    240.0,2,    240.6,2,    19.60,2,    21.24,2,     1.36,2,    0.023,2,    0.019,2, -999.000,9,-999.0000,9,  -999.00,9,   -999.0,9,   -999.0,9,     8.00,2,  3.8330
 3230CITHER2_2,  A17N,   159,  1,     19,     19,2,19940302,0134, -4.9945, -30.1382, 4972,   1798.7,   3.8750,  34.9770,2,  34.9790,2,    245.8,2,    246.7,2,    19.10,2,    20.48,2,     1.31,2,    0.043,2,    0.028,2, -999.000,9,-999.0000,9,  -999.00,9,   -999.0,9,   -999.0,9,     8.01,2,  3.7290
 3230CITHER2_2,  A17N,   159,  1,     18,     18,2,19940302,0134, -4.9945, -30.1382, 4972,   1998.9,   3.6130,  34.9720,2,  34.9730,2,    251.7,2,    251.7,2,    20.40,2,    20.20,2,     1.28,2,    0.042,2,    0.028,2, -999.000,9,-999.0000,9,  -999.00,9,   -999.0,9,   -999.0,9,     8.01,2,  3.4510
 3230CITHER2_2,  A17N,   159,  1,     17,     17,2,19940302,0134, -4.9945, -30.1382, 4972,   2198.1,   3.2610,  34.9460,2,  34.9480,2,    247.8,2,    248.2,2,    26.90,2,    21.18,2,     1.36,2,    0.010,2,    0.006,2, -999.000,9,-999.0000,9,  -999.00,9,   -999.0,9,   -999.0,9,     8.01,2,  3.0860
 3230CITHER2_2,  A17N,   159,  1,     16,     16,2,19940302,0134, -4.9945, -30.1382, 4972,   2398.3,   3.0630,  34.9350,2,  34.9280,2,    246.3,2,    247.0,2,    30.80,2,    21.58,2,     1.39,2,    0.004,2,    0.004,2, -999.000,9,-999.0000,9,  -999.00,9,   -999.0,9,   -999.0,9,     8.01,2,  2.8720
 3230CITHER2_2,  A17N,   159,  1,     15,     15,2,19940302,0134, -4.9945, -30.1382, 4972,   2698.9,   2.8570,  34.9280,2,  34.9260,2,    247.5,2,    248.4,2,    33.80,2,    21.58,2,     1.39,2,    0.006,2,    0.006,2, -999.000,9,-999.0000,9,  -999.00,9,   -999.0,9,   -999.0,9,     8.01,2,  2.6400
 3230CITHER2_2,  A17N,   159,  1,     14,     14,2,19940302,0134, -4.9945, -30.1382, 4972,   2997.5,   2.6990,  34.9210,2,  34.9210,2,    251.5,2,    250.6,2,    35.50,2,    21.44,2,     1.39,2,    0.004,2,    0.005,2, -999.000,9,-999.0000,9,  -999.00,9,   -999.0,9,   -999.0,9,     8.01,2,  2.4550
 3230CITHER2_2,  A17N,   159,  1,     13,     13,2,19940302,0134, -4.9945, -30.1382, 4972,   3198.4,   2.6440,  34.9220,2,  34.9200,2,    256.2,2,    263.7,2,    32.70,2,    20.60,2,     1.33,2,    0.026,2,    0.018,2, -999.000,9,-999.0000,9,  -999.00,9,   -999.0,9,   -999.0,9,     8.02,2,  2.3800
 3230CITHER2_2,  A17N,   159,  1,     12,     12,2,19940302,0134, -4.9945, -30.1382, 4972,   3401.0,   2.5980,  34.9180,2,  34.9180,2,    257.2,2,    256.7,2,    33.10,2,    20.69,2,     1.32,2,    0.016,2,    0.010,2, -999.000,9,-999.0000,9,  -999.00,9,   -999.0,9,   -999.0,9,     8.01,2,  2.3130
 3230CITHER2_2,  A17N,   159,  1,     11,     11,2,19940302,0134, -4.9945, -30.1382, 4972,   3401.1,   2.5970,  34.9190,2,  34.9200,2,    257.2,2,    257.5,2,    33.40,2,    20.76,2,     1.33,2,    0.015,2,    0.012,2, -999.000,9,-999.0000,9,  -999.00,9,   -999.0,9,   -999.0,9,     8.01,2,  2.3140
 3230CITHER2_2,  A17N,   159,  1,     10,     10,2,19940302,0134, -4.9945, -30.1382, 4972,   3548.6,   2.5680,  34.9160,2,  34.9190,2,    258.7,2,    257.9,2,    33.10,2,    20.62,2,     1.32,2,    0.025,2,    0.021,2, -999.000,9,-999.0000,9,  -999.00,9,   -999.0,9,   -999.0,9,     8.02,2,  2.2690
 3230CITHER2_2,  A17N,   159,  1,      9,      9,2,19940302,0134, -4.9945, -30.1382, 4972,   3699.6,   2.4890,  34.9100,2,  34.9120,2,    260.4,2,    257.4,2,    33.30,2,    20.39,2,     1.31,2,    0.035,2,    0.024,2, -999.000,9,-999.0000,9,  -999.00,9,   -999.0,9,   -999.0,9,     8.02,2,  2.1750
 3230CITHER2_2,  A17N,   159,  1,      8,      8,2,19940302,0134, -4.9945, -30.1382, 4972,   3850.1,   2.2260,  34.8860,2,  34.8850,2,    257.6,2,    257.3,2,    41.30,2,    21.40,2,     1.38,2,    0.036,2,    0.021,2, -999.000,9,-999.0000,9,  -999.00,9,   -999.0,9,   -999.0,9,     8.01,2,  1.9020
 3230CITHER2_2,  A17N,   159,  1,      7,      7,2,19940302,0134, -4.9945, -30.1382, 4972,   3999.6,   1.9370,  34.8530,2,  34.8540,2,    250.7,2,    250.3,2,    55.10,2,    23.10,2,     1.52,2,    0.024,2,    0.019,2, -999.000,9,-999.0000,9,  -999.00,9,   -999.0,9,   -999.0,9,     7.99,2,  1.6050
 3230CITHER2_2,  A17N,   159,  1,      6,      6,2,19940302,0134, -4.9945, -30.1382, 4972,   4197.5,   1.5040,  34.8050,2,  34.8040,2,    240.7,2,    239.5,2,    77.30,2,    26.23,2,     1.76,2,    0.005,2,    0.007,2, -999.000,9,-999.0000,9,  -999.00,9,   -999.0,9,   -999.0,9,     7.96,2,  1.1620
 3230CITHER2_2,  A17N,   159,  1,      5,      5,2,19940302,0134, -4.9945, -30.1382, 4972,   4399.3,   1.2710,  34.7790,2,  34.7790,2,    234.4,2,    234.7,2,    88.60,2,    27.92,2,     1.85,2,    0.007,2,    0.005,2, -999.000,9,-999.0000,9,  -999.00,9,   -999.0,9,   -999.0,9,     7.94,2,  0.9140
 3230CITHER2_2,  A17N,   159,  1,      4,      4,2,19940302,0134, -4.9945, -30.1382, 4972,   4598.7,   0.9650,  34.7410,2,  34.7420,2,    227.9,2,    227.8,2,   103.30,2,    30.10,2,     2.01,2,    0.011,2,    0.005,2, -999.000,9,-999.0000,9,  -999.00,9,   -999.0,9,   -999.0,9,     7.92,2,  0.5950
 3230CITHER2_2,  A17N,   159,  1,      3,      3,2,19940302,0134, -4.9945, -30.1382, 4972,   4799.2,   0.7430,  34.7170,2,  34.7170,2,    223.5,2,    224.1,2,   112.70,2,    31.50,2,     2.10,2,    0.025,2,    0.016,2, -999.000,9,-999.0000,9,  -999.00,9,   -999.0,9,   -999.0,9,     7.90,2,  0.3580
 3230CITHER2_2,  A17N,   159,  1,      2,      2,2,19940302,0134, -4.9945, -30.1382, 4972,   4947.4,   0.6650,  34.7050,2,-999.0000,9,    222.5,2,   -999.0,9,  -999.00,9,  -999.00,9,  -999.00,9, -999.000,9, -999.000,9, -999.000,9,-999.0000,9,  -999.00,9,   -999.0,9,   -999.0,9,  -999.00,9,-999.0000
 3230CITHER2_2,  A17N,   159,  1,      1,      1,2,19940302,0134, -4.9945, -30.1382, 4972,   5038.9,   0.6550,  34.7050,2,  34.7060,2,    221.8,2,    222.3,2,   116.80,2,    31.92,2,     2.16,2, -999.000,5, -999.000,5, -999.000,9,-999.0000,9,  -999.00,9,   -999.0,9,   -999.0,9,     7.89,2,  0.2450