BOTTLE,20030515WHPSIOSA
EXPOCODE,SECT_ID,STNNBR,CASTNO,SAMPNO,BTLNBR,BTLNBR_FLAG_W,DATE,TIME,LATITUDE,LONGITUDE,DEPTH,CTDPRS,CTDTMP,CTDSAL,CTDSAL_FLAG_W,SALNTY,SALNTY_FLAG_W,CTDOXY,CTDOXY_FLAG_W,OXYGEN,OXYGEN_FLAG_W,SILCAT,SILCAT_FLAG_W,NITRAT,NITRAT_FLAG_W,PHSPHT,PHSPHT_FLAG_W,CFC-11,CFC-11_FLAG_W,CFC-12,CFC-12_FLAG_W,TRITUM,TRITUM_FLAG_W,HELIUM,HELIUM_FLAG_W,DELHE3,DELHE3_FLAG_W,TCARBN,TCARBN_FLAG_W,ALKALI,ALKALI_FLAG_W,PH,PH_FLAG_W,THETA
,,,,,,,,,,,,DBAR,ITS-90,PSS-78,,PSS-78,,UMOL/KG,,UMOL/KG,,UMOL/KG,,UMOL/KG,,UMOL/KG,,PMOL/KG,,PMOL/KG,,TU,,NMOL/KG,,PERCNT,,UMOL/KG,,UMOL/KG,,,,DEG C
 3230CITHER2_1,  A17C,    98,  1,     32,     32,2,19940206,0834,-21.0022, -30.9978, 4651,      7.2,  27.7810,  37.1310,2,  37.1340,2,    198.2,2,    198.8,2,     1.60,2,     0.04,2,     0.12,2, -999.000,5, -999.000,5,    0.670,2,   1.6800,2,    -0.56,2,   -999.0,9,   -999.0,9,     8.38,2, 27.7790
 3230CITHER2_1,  A17C,    98,  1,     31,     31,2,19940206,0834,-21.0022, -30.9978, 4651,     31.2,  27.5410,  37.1230,2,  37.0900,2,    204.6,2,    205.0,2,     1.40,2,     0.04,2,     0.12,2, -999.000,5, -999.000,5,    0.730,2,   1.6800,2,    -0.39,2,   -999.0,9,   -999.0,9,     8.38,2, 27.5340
 3230CITHER2_1,  A17C,    98,  1,     30,     30,2,19940206,0834,-21.0022, -30.9978, 4651,    101.2,  22.7240,  36.7400,2,  36.7210,2,    218.0,2,    220.8,2,     1.40,2,     0.04,2,     0.13,2, -999.000,5, -999.000,5,    0.700,2,   1.6900,2,    -0.13,2,   -999.0,9,   -999.0,9,     8.35,2, 22.7030
 3230CITHER2_1,  A17C,    98,  1,     29,     29,2,19940206,0834,-21.0022, -30.9978, 4651,    152.6,  20.1220,  36.3140,2,  36.3180,2,    214.6,2,    213.4,2,     1.60,2,     0.04,2,     0.20,2, -999.000,5, -999.000,5,    0.550,2,   1.7000,2,    -0.19,2,   -999.0,9,   -999.0,9,     8.30,2, 20.0930
 3230CITHER2_1,  A17C,    98,  1,     28,     28,2,19940206,0834,-21.0022, -30.9978, 4651,    201.8,  17.7960,  35.8990,2,  35.9020,2,    201.6,2,    201.8,2,     2.20,2,     2.79,2,     0.38,2, -999.000,5, -999.000,5, -999.000,9,-999.0000,9,  -999.00,9,   -999.0,9,   -999.0,9,     8.24,2, 17.7610
 3230CITHER2_1,  A17C,    98,  1,     27,     27,2,19940206,0834,-21.0022, -30.9978, 4651,    301.5,  14.1240,  35.3140,2,  35.3020,2,    197.8,2,    198.9,2,     3.90,2,     9.20,2,     0.72,2, -999.000,5, -999.000,5,    0.610,2,   1.7000,2,    -0.47,2,   -999.0,9,   -999.0,9,     8.16,2, 14.0800
 3230CITHER2_1,  A17C,    98,  1,     26,     26,2,19940206,0834,-21.0022, -30.9978, 4651,    400.9,  11.9860,  35.0410,2,  35.0430,2,    182.3,2,    184.7,2,     6.30,2,    15.29,2,     1.08,2, -999.000,5, -999.000,5, -999.000,9,   1.7800,2,    -1.02,2,   -999.0,9,   -999.0,9,     8.09,2, 11.9330
 3230CITHER2_1,  A17C,    98,  1,     25,     25,2,19940206,0834,-21.0022, -30.9978, 4651,    601.6,   6.7660,  34.5210,2,  34.5310,2,    173.7,2,    174.0,2,    18.00,2,    28.05,2,     1.92,2, -999.000,5, -999.000,5, -999.000,9,-999.0000,9,  -999.00,9,   -999.0,9,   -999.0,9,     7.93,2,  6.7100
 3230CITHER2_1,  A17C,    98,  1,     24,     24,2,19940206,0834,-21.0022, -30.9978, 4651,    601.8,   6.7590,  34.5120,2,  34.5230,2,    173.7,2,    173.9,2,    18.10,2,    28.00,2,     1.92,2,    0.870,2,    0.470,2,    0.150,2,   1.7400,2,     0.28,2,   -999.0,9,   -999.0,9,     7.93,2,  6.7030
 3230CITHER2_1,  A17C,    98,  1,     23,     23,2,19940206,0834,-21.0022, -30.9978, 4651,    751.2,   4.5620,  34.3860,2,  34.3870,2,    190.7,2,    188.6,2,    28.70,2,    31.58,2,     2.16,2,    0.429,2,    0.242,2,    0.070,2,   1.7500,2,     0.77,2,   -999.0,9,   -999.0,9,     7.90,2,  4.5030
 3230CITHER2_1,  A17C,    98,  1,     22,     22,2,19940206,0834,-21.0022, -30.9978, 4651,   1000.6,   3.5760,  34.5010,2,  34.4980,2,    184.4,2,    183.5,2,    41.80,2,    32.31,2,     2.22,2,    0.047,2,    0.038,2,    0.040,2,   1.7500,2,     1.56,2,   -999.0,9,   -999.0,9,     7.89,2,  3.5040
 3230CITHER2_1,  A17C,    98,  1,     21,     21,2,19940206,0834,-21.0022, -30.9978, 4651,   1200.2,   3.4150,  34.6370,2,  34.6380,2,    188.2,2,    189.3,2,    43.40,2,    30.50,2,     2.08,2,    0.013,2,    0.013,2, -999.000,9,-999.0000,9,  -999.00,9,   -999.0,9,   -999.0,9,     7.90,2,  3.3280
 3230CITHER2_1,  A17C,    98,  1,     20,     20,2,19940206,0834,-21.0022, -30.9978, 4651,   1401.4,   3.6690,  34.8130,2,  34.8120,2,    204.9,2,    206.8,2,    33.90,2,    26.09,2,     1.78,2,    0.012,2,    0.018,2,    0.040,2,   1.7500,2,     2.87,2,   -999.0,9,   -999.0,9,     7.95,2,  3.5620
 3230CITHER2_1,  A17C,    98,  1,     19,     19,2,19940206,0834,-21.0022, -30.9978, 4651,   1599.6,   3.5710,  34.8920,2,  34.8950,2,    224.8,2,    227.8,2,    28.80,2,    23.25,2,     1.55,2,    0.021,2,    0.020,2, -999.000,9,   1.8000,2,     1.60,2,   -999.0,9,   -999.0,9,     7.99,2,  3.4470
 3230CITHER2_1,  A17C,    98,  1,     18,     18,2,19940206,0834,-21.0022, -30.9978, 4651,   1699.8,   3.5710,  34.9230,2,  34.9180,2,    235.8,2,    235.1,2,    26.60,2,    22.17,2,     1.49,2,    0.027,2,    0.025,2, -999.000,9,   1.8000,2,    10.90,2,   -999.0,9,   -999.0,9,     7.99,2,  3.4380
 3230CITHER2_1,  A17C,    98,  1,     17,     17,2,19940206,0834,-21.0022, -30.9978, 4651,   1799.5,   3.4900,  34.9330,2,  34.9350,2,    241.3,2,    241.0,2,    25.10,2,    21.38,2,     1.42,2,    0.018,2,    0.016,2, -999.000,9,-999.0000,9,  -999.00,9,   -999.0,9,   -999.0,9,     8.01,2,  3.3490
 3230CITHER2_1,  A17C,    98,  1,     16,     16,2,19940206,0834,-21.0022, -30.9978, 4651,   2001.0,   3.3490,  34.9480,2,  34.9480,2,    248.8,2,    249.7,2,    24.10,2,    20.46,2,     1.36,2,    0.017,2,    0.021,2, -999.000,9,   1.7700,2,     2.11,2,   -999.0,9,   -999.0,9,     8.02,2,  3.1910
 3230CITHER2_1,  A17C,    98,  1,     15,     15,2,19940206,0834,-21.0022, -30.9978, 4651,   2199.0,   3.2150,  34.9460,2,  34.9460,2,    251.6,2,    249.9,2,    25.70,2,    20.38,2,     1.35,2,    0.019,2,    0.020,2, -999.000,9,-999.0000,9,  -999.00,9,   -999.0,9,   -999.0,9,     8.02,2,  3.0400
 3230CITHER2_1,  A17C,    98,  1,     14,     14,2,19940206,0834,-21.0022, -30.9978, 4651,   2399.9,   3.0850,  34.9390,2,  34.9400,2,    251.2,2,    249.6,2,    27.90,2,    20.63,2,     1.37,2,    0.009,2,    0.015,2, -999.000,9,   1.7900,2,     3.38,2,   -999.0,9,   -999.0,9,     8.02,2,  2.8930
 3230CITHER2_1,  A17C,    98,  1,     13,     13,2,19940206,0834,-21.0022, -30.9978, 4651,   2599.2,   2.9640,  34.9320,2,  34.9320,2,    250.8,2,    249.2,2,    30.00,2,    20.93,2,     1.38,2,    0.009,2,    0.012,2, -999.000,9,-999.0000,9,  -999.00,9,   -999.0,9,   -999.0,9,     8.02,2,  2.7550
 3230CITHER2_1,  A17C,    98,  1,     12,     12,2,19940206,0834,-21.0022, -30.9978, 4651,   2799.9,   2.8760,  34.9280,2,  34.9280,2,    250.7,2,    249.2,2,    31.80,2,    20.89,2,     1.39,2,    0.007,2,    0.010,2, -999.000,9,   1.7500,2,     7.28,2,   -999.0,9,   -999.0,9,     8.02,2,  2.6490
 3230CITHER2_1,  A17C,    98,  1,     11,     11,2,19940206,0834,-21.0022, -30.9978, 4651,   2999.4,   2.8060,  34.9250,2,  34.9290,2,    252.5,2,    250.6,2,    32.10,2,    20.60,2,     1.38,2,    0.016,2,    0.016,2, -999.000,9,-999.0000,9,  -999.00,9,   -999.0,9,   -999.0,9,     8.02,2,  2.5600
 3230CITHER2_1,  A17C,    98,  1,     10,     10,2,19940206,0834,-21.0022, -30.9978, 4651,   3198.6,   2.7360,  34.9210,2,  34.9230,2,    253.5,2,    251.6,2,    33.00,2,    20.64,2,     1.39,2,    0.013,2,    0.016,2, -999.000,9,   1.8000,2,     3.19,2,   -999.0,9,   -999.0,9,     8.02,2,  2.4700
 3230CITHER2_1,  A17C,    98,  1,      9,      9,2,19940206,0834,-21.0022, -30.9978, 4651,   3398.4,   2.6470,  34.9160,2,  34.9180,2,    254.5,2,    252.4,2,    34.40,2,    20.77,2,     1.39,2,    0.013,2,    0.015,2, -999.000,9,-999.0000,9,  -999.00,9,   -999.0,9,   -999.0,9,     8.02,2,  2.3620
 3230CITHER2_1,  A17C,    98,  1,      8,      8,2,19940206,0834,-21.0022, -30.9978, 4651,   3598.9,   2.5040,  34.9030,2,  34.9030,2,    254.7,2,    252.3,2,    38.10,2,    21.14,2,     1.41,2,    0.010,2,    0.012,2, -999.000,9,   1.8100,2,     4.11,2,   -999.0,9,   -999.0,9,     8.01,2,  2.2010
 3230CITHER2_1,  A17C,    98,  1,      7,      7,2,19940206,0834,-21.0022, -30.9978, 4651,   3799.2,   2.1870,  34.8710,2,  34.8720,2,    250.2,2,    247.9,2,    49.60,2,    22.40,2,     1.51,2,    0.009,2,    0.012,2, -999.000,9,-999.0000,9,  -999.00,9,   -999.0,9,   -999.0,9,     8.01,2,  1.8700
 3230CITHER2_1,  A17C,    98,  1,      6,      6,2,19940206,0834,-21.0022, -30.9978, 4651,   3999.9,   1.7690,  34.8250,2,  34.8280,2,    242.5,2,    241.6,2,    67.50,2,    24.72,2,     1.69,2,    0.006,2,    0.007,2, -999.000,9,   1.8100,2,     3.85,2,   -999.0,9,   -999.0,9,     7.98,2,  1.4420
 3230CITHER2_1,  A17C,    98,  1,      5,      5,2,19940206,0834,-21.0022, -30.9978, 4651,   4199.7,   1.3720,  34.7850,2,  34.7850,2,    234.7,2,    233.3,2,    84.90,2,    27.02,2,     1.86,2,    0.008,2,    0.011,2, -999.000,9,-999.0000,9,  -999.00,9,   -999.0,9,   -999.0,9,     7.96,2,  1.0340
 3230CITHER2_1,  A17C,    98,  1,      4,      4,2,19940206,0834,-21.0022, -30.9978, 4651,   4399.0,   1.0240,  34.7460,2,  34.7470,2,    228.9,2,    227.6,2,    99.80,2,    29.04,2,     1.99,2,    0.015,2,    0.013,2, -999.000,9,-999.0000,9,  -999.00,9,   -999.0,9,   -999.0,9,     7.93,2,  0.6750
 3230CITHER2_1,  A17C,    98,  1,      3,      3,2,19940206,0834,-21.0022, -30.9978, 4651,   4498.4,   0.7780,  34.7200,2,  34.7240,2,    225.4,2,    223.8,2,   109.30,2,    30.49,2,     2.09,2,    0.040,2,    0.025,2, -999.000,9,   1.8100,2,     7.46,2,   -999.0,9,   -999.0,9,     7.92,2,  0.4260
 3230CITHER2_1,  A17C,    98,  1,      2,      2,2,19940206,0834,-21.0022, -30.9978, 4651,   4598.1,   0.5190,  34.7000,2,  34.6980,2,    222.0,2,    221.5,2,   118.80,2,    31.58,2,     2.18,2,    0.071,2,    0.039,2, -999.000,9,-999.0000,9,  -999.00,9,   -999.0,9,   -999.0,9,     7.90,2,  0.1640
 3230CITHER2_1,  A17C,    98,  1,      1,      1,2,19940206,0834,-21.0022, -30.9978, 4651,   4702.5,   0.4010,  34.6860,2,  34.6880,2,    220.4,2,    220.9,2,   121.90,2,    32.10,2,     2.21,2,    0.090,2,    0.051,2, -999.000,9,   1.8200,2,     5.92,2,   -999.0,9,   -999.0,9,     7.90,2,  0.0380
 3230CITHER2_1,  A17C,    99,  1,     32,     32,2,19940206,1340,-20.6645, -30.9782, 4545,      4.0,  28.0780,  37.2420,2,  37.2410,2,    193.7,2,    198.0,2,     1.10,2,     0.04,2,     0.10,2,    1.764,2,    1.013,2, -999.000,9,-999.0000,9,  -999.00,9,   2076.4,2,   2451.7,2,     8.38,2, 28.0770
 3230CITHER2_1,  A17C,    99,  1,     31,     31,2,19940206,1340,-20.6645, -30.9782, 4545,     30.4,  27.7690,  37.2520,2,  37.2190,2,    198.1,2,    201.9,2,     1.10,2,     0.04,2,     0.11,2,    1.817,2,    1.063,2, -999.000,9,-999.0000,9,  -999.00,9,   2079.5,2,   2450.5,2,     8.38,2, 27.7620
 3230CITHER2_1,  A17C,    99,  1,     30,     30,2,19940206,1340,-20.6645, -30.9782, 4545,    100.3,  22.7020,  36.7210,2,  36.7360,2,    215.9,2,    221.2,2,     1.20,2,     0.04,2,     0.13,2,    2.156,2,    1.220,2, -999.000,9,-999.0000,9,  -999.00,9,   2071.4,2,   2423.9,2,     8.35,2, 22.6820
 3230CITHER2_1,  A17C,    99,  1,     29,     29,2,19940206,1340,-20.6645, -30.9782, 4545,    150.0,  20.5230,  36.3720,2,  36.3450,2,    214.8,2,    213.8,2,     1.30,2,     0.04,2,     0.20,2,    2.328,2,    1.287,2, -999.000,9,-999.0000,9,  -999.00,9,   2083.3,2,   2395.1,2,     8.30,2, 20.4950
 3230CITHER2_1,  A17C,    99,  1,     28,     28,2,19940206,1340,-20.6645, -30.9782, 4545,    201.6,  18.0540,  35.9520,2,  35.9570,2,    202.9,2,    204.2,2,     1.70,2,     1.96,2,     0.32,2,    2.476,2,    1.348,2, -999.000,9,-999.0000,9,  -999.00,9,   2090.9,2,   2369.7,2,     8.25,2, 18.0190
 3230CITHER2_1,  A17C,    99,  1,     27,     27,2,19940206,1340,-20.6645, -30.9782, 4545,    300.3,  14.2000,  35.3290,2,  35.3260,2,    190.7,2,    191.9,2,     3.90,2,     9.85,2,     0.76,2,    2.334,2,    1.242,2, -999.000,9,-999.0000,9,  -999.00,9,   2109.6,2,   2330.5,2,     8.15,2, 14.1560
 3230CITHER2_1,  A17C,    99,  1,     25,     25,2,19940206,1340,-20.6645, -30.9782, 4545,    400.4,  11.4520,  34.9840,2,  34.9830,2,    173.1,2,    174.0,2,     7.60,2,    17.49,2,     1.23,2,    1.632,2,    0.868,2, -999.000,9,-999.0000,9,  -999.00,9,   2143.5,2,   2314.6,2,     8.05,2, 11.4010
 3230CITHER2_1,  A17C,    99,  1,     26,     26,2,19940206,1340,-20.6645, -30.9782, 4545,    400.7,  11.4630,  34.9820,2,  34.9820,2,    173.2,2,    174.0,2,     7.40,2,    17.49,2,     1.23,2,    1.675,2,    0.889,2, -999.000,9,-999.0000,9,  -999.00,9,   -999.0,5,   2314.6,2,     8.05,2, 11.4120
 3230CITHER2_1,  A17C,    99,  1,     24,     24,2,19940206,1340,-20.6645, -30.9782, 4545,    500.9,   8.9220,  34.7260,2,  34.7170,2,    163.9,2,    163.0,2,    13.10,2,    23.98,2,     1.67,2,    0.975,2,    0.524,2, -999.000,9,-999.0000,9,  -999.00,9,   2171.5,2,   2306.8,2,     7.96,2,  8.8670
 3230CITHER2_1,  A17C,    99,  1,     23,     23,2,19940206,1340,-20.6645, -30.9782, 4545,    600.1,   6.8830,  34.5330,2,  34.5410,2,    168.2,2,    170.0,2,    17.60,2,    28.55,2,     1.93,2,    0.706,2,    0.374,2, -999.000,9,-999.0000,9,  -999.00,9,   2183.6,2,   2302.1,2,     7.92,2,  6.8260
 3230CITHER2_1,  A17C,    99,  1,     22,     22,2,19940206,1340,-20.6645, -30.9782, 4545,    800.8,   4.1760,  34.3930,2,  34.3960,2,    189.4,2,    189.0,2,    32.50,2,    32.46,2,     2.21,2,    0.299,2,    0.163,2, -999.000,9,-999.0000,9,  -999.00,9,   2204.3,2,   2310.8,2,     7.89,2,  4.1160
 3230CITHER2_1,  A17C,    99,  1,     21,     21,2,19940206,1340,-20.6645, -30.9782, 4545,   1000.7,   3.5620,  34.4910,2,  34.4890,2,    186.2,2,    185.9,2,    42.30,2,    32.51,2,     2.20,2,    0.079,2,    0.046,2, -999.000,9,-999.0000,9,  -999.00,9,   2217.5,2,   2322.5,2,     7.88,2,  3.4900
 3230CITHER2_1,  A17C,    99,  1,     20,     20,2,19940206,1340,-20.6645, -30.9782, 4545,   1199.1,   3.7710,  34.6980,2,  34.6980,2,    190.6,2,    190.8,2,    35.70,2,    29.39,2,     2.02,2,    0.024,2,    0.024,2, -999.000,9,-999.0000,9,  -999.00,9,   2210.8,2,   2326.6,2,     7.91,2,  3.6800
 3230CITHER2_1,  A17C,    99,  1,     19,     19,2,19940206,1340,-20.6645, -30.9782, 4545,   1399.6,   4.0200,  34.8630,2,  34.8640,2,    210.0,2,    209.9,2,    26.30,2,    25.24,2,     1.70,2,    0.033,2,    0.026,2, -999.000,9,-999.0000,9,  -999.00,9,   2192.1,2,   2326.2,2,     7.95,2,  3.9090
 3230CITHER2_1,  A17C,    99,  1,     18,     18,2,19940206,1340,-20.6645, -30.9782, 4545,   1599.6,   3.9170,  34.9450,2,  34.9440,2,    230.1,2,    233.7,2,    21.10,2,    21.85,2,     1.46,2,    0.045,2,    0.038,2, -999.000,9,-999.0000,9,  -999.00,9,   2175.7,2,   2326.7,2,     7.99,2,  3.7890
 3230CITHER2_1,  A17C,    99,  1,     17,     17,2,19940206,1340,-20.6645, -30.9782, 4545,   1701.0,   3.7830,  34.9600,2,  34.9630,2,    240.6,2,    242.6,2,    20.20,2,    20.84,2,     1.39,2,    0.046,2,    0.037,2, -999.000,9,-999.0000,9,  -999.00,9,   2171.2,2,   2326.0,2,     8.01,2,  3.6470
 3230CITHER2_1,  A17C,    99,  1,     16,     16,2,19940206,1340,-20.6645, -30.9782, 4545,   1798.6,   3.7070,  34.9650,2,  34.9660,2,    245.6,2,    245.9,2,    20.10,2,    20.47,2,     1.36,2,    0.043,2,    0.038,2, -999.000,9,-999.0000,9,  -999.00,9,   2169.7,2,   2327.0,2,     8.01,2,  3.5630
 3230CITHER2_1,  A17C,    99,  1,     15,     15,2,19940206,1340,-20.6645, -30.9782, 4545,   1999.6,   3.4950,  34.9600,2,  34.9620,2,    250.1,2,    249.2,2,    21.80,2,    20.26,2,     1.35,2,    0.030,2,    0.024,2, -999.000,9,-999.0000,9,  -999.00,9,   2168.8,2,   2329.1,2,     8.02,2,  3.3350
 3230CITHER2_1,  A17C,    99,  1,     14,     14,2,19940206,1340,-20.6645, -30.9782, 4545,   2199.4,   3.2950,  34.9510,2,  34.9540,2,    251.3,2,    251.3,2,    24.10,2,    20.26,2,     1.36,2,    0.021,2,    0.021,2, -999.000,9,-999.0000,9,  -999.00,9,   2170.7,2,   2330.5,2,     8.02,2,  3.1190
 3230CITHER2_1,  A17C,    99,  1,     13,     13,2,19940206,1340,-20.6645, -30.9782, 4545,   2399.5,   3.1410,  34.9450,2,  34.9460,2,    251.7,2,    250.8,2,    26.50,2,    20.62,2,     1.36,2, -999.000,5, -999.000,5, -999.000,9,-999.0000,9,  -999.00,9,   2172.8,2,   2332.6,2,     8.02,2,  2.9480
 3230CITHER2_1,  A17C,    99,  1,     12,     12,2,19940206,1340,-20.6645, -30.9782, 4545,   2599.7,   2.9830,  34.9360,2,  34.9350,2,    251.6,2,    250.3,2,    29.50,2,    20.77,2,     1.39,2,    0.011,2,    0.020,2, -999.000,9,-999.0000,9,  -999.00,9,   2175.7,2,   2335.5,2,     8.01,2,  2.7740
 3230CITHER2_1,  A17C,    99,  1,     11,     11,2,19940206,1340,-20.6645, -30.9782, 4545,   2799.8,   2.8780,  34.9270,2,  34.9310,2,    250.6,2,    250.0,2,    31.50,2,    20.96,2,     1.40,2,    0.010,2,    0.018,2, -999.000,9,-999.0000,9,  -999.00,9,   2178.0,2,   2338.0,2,     8.01,2,  2.6510
 3230CITHER2_1,  A17C,    99,  1,     10,     10,2,19940206,1340,-20.6645, -30.9782, 4545,   2999.5,   2.7890,  34.9220,2,  34.9250,2,    251.2,2,    250.5,2,    32.90,2,    20.90,2,     1.41,2,    0.006,2,    0.008,2, -999.000,9,-999.0000,9,  -999.00,9,   2179.5,2,   2338.4,2,     8.01,2,  2.5430
 3230CITHER2_1,  A17C,    99,  1,      9,      9,2,19940206,1340,-20.6645, -30.9782, 4545,   3199.8,   2.7250,  34.9180,2,  34.9180,2,    251.3,2,    250.0,2,    34.40,2,    20.94,2,     1.42,2,    0.007,2,    0.015,2, -999.000,9,-999.0000,9,  -999.00,9,   2180.2,2,   2339.3,2,     8.01,2,  2.4590
 3230CITHER2_1,  A17C,    99,  1,      8,      8,2,19940206,1340,-20.6645, -30.9782, 4545,   3399.1,   2.6370,  34.9150,2,  34.9150,2,    253.2,2,    252.2,2,    35.00,2,    20.94,2,     1.41,2,    0.008,2,    0.015,2, -999.000,9,-999.0000,9,  -999.00,9,   2180.2,2,   2338.4,2,     8.01,2,  2.3520
 3230CITHER2_1,  A17C,    99,  1,      7,      7,2,19940206,1340,-20.6645, -30.9782, 4545,   3599.8,   2.5060,  34.9030,2,  34.9020,2,    253.9,2,    252.1,2,    38.40,2,    21.11,2,     1.43,2,    0.011,2,    0.007,2, -999.000,9,-999.0000,9,  -999.00,9,   2182.7,2,   2341.9,2,     8.00,2,  2.2030
 3230CITHER2_1,  A17C,    99,  1,      6,      6,2,19940206,1340,-20.6645, -30.9782, 4545,   3799.0,   2.1700,  34.8700,2,  34.8720,2,    249.6,2,    248.0,2,    50.80,2,    22.79,2,     1.53,2,    0.013,2,    0.016,2, -999.000,9,-999.0000,9,  -999.00,9,   2194.8,2,   2350.1,2,     8.00,2,  1.8540
 3230CITHER2_1,  A17C,    99,  1,      5,      5,2,19940206,1340,-20.6645, -30.9782, 4545,   3999.0,   1.6780,  34.8190,2,  34.8200,2,    239.9,2,    239.1,2,    71.90,2,    25.37,2,     1.74,2,    0.007,2,    0.012,2, -999.000,9,-999.0000,9,  -999.00,9,   2215.6,2,   2358.2,2,     7.97,2,  1.3530
 3230CITHER2_1,  A17C,    99,  1,      4,      4,2,19940206,1340,-20.6645, -30.9782, 4545,   4198.0,   1.1980,  34.7680,2,  34.7670,2,    231.3,2,    230.6,2,    93.10,2,    28.34,2,     1.94,2,    0.015,2,    0.009,2, -999.000,9,-999.0000,9,  -999.00,9,   2235.8,2,   2368.8,2,     7.94,2,  0.8660
 3230CITHER2_1,  A17C,    99,  1,      3,      3,2,19940206,1340,-20.6645, -30.9782, 4545,   4397.2,   0.9170,  34.7390,2,  34.7410,2,    226.0,2,    226.5,2,   103.80,2,    29.61,2,     2.03,2,    0.028,2,    0.015,2, -999.000,9,-999.0000,9,  -999.00,9,   2246.3,2,   2370.6,2,     7.92,2,  0.5710
 3230CITHER2_1,  A17C,    99,  1,      2,      2,2,19940206,1340,-20.6645, -30.9782, 4545,   4498.4,   0.6390,  34.7100,2,  34.7100,2,    223.0,2,    223.1,2,   114.50,2,    31.51,2,     2.13,2,    0.057,2,    0.035,2, -999.000,9,-999.0000,9,  -999.00,9,   2255.6,2,   2370.2,2,     7.90,2,  0.2910
 3230CITHER2_1,  A17C,    99,  1,      1,      1,2,19940206,1340,-20.6645, -30.9782, 4545,   4580.1,   0.4490,  34.6910,2,  34.6930,2,    220.1,2,    221.3,2,   121.10,2,    32.61,2,     2.21,2,    0.082,2,    0.047,2, -999.000,9,-999.0000,9,  -999.00,9,   2261.2,2,   2375.0,2,     7.90,2,  0.0980