BOTTLE,20030515WHPSIOSA
EXPOCODE,SECT_ID,STNNBR,CASTNO,SAMPNO,BTLNBR,BTLNBR_FLAG_W,DATE,TIME,LATITUDE,LONGITUDE,DEPTH,CTDPRS,CTDTMP,CTDSAL,CTDSAL_FLAG_W,SALNTY,SALNTY_FLAG_W,CTDOXY,CTDOXY_FLAG_W,OXYGEN,OXYGEN_FLAG_W,SILCAT,SILCAT_FLAG_W,NITRAT,NITRAT_FLAG_W,PHSPHT,PHSPHT_FLAG_W,CFC-11,CFC-11_FLAG_W,CFC-12,CFC-12_FLAG_W,TRITUM,TRITUM_FLAG_W,HELIUM,HELIUM_FLAG_W,DELHE3,DELHE3_FLAG_W,TCARBN,TCARBN_FLAG_W,ALKALI,ALKALI_FLAG_W,PH,PH_FLAG_W,THETA
,,,,,,,,,,,,DBAR,ITS-90,PSS-78,,PSS-78,,UMOL/KG,,UMOL/KG,,UMOL/KG,,UMOL/KG,,UMOL/KG,,PMOL/KG,,PMOL/KG,,TU,,NMOL/KG,,PERCNT,,UMOL/KG,,UMOL/KG,,,,DEG C
 3230CITHER2_1,  A17C,    64,  1,     32,     32,2,19940128,2352,-34.0248, -42.5045, 4535,      5.6,  21.9500,  35.8520,2,  35.8550,2,    218.5,2,    220.9,2,     1.00,2,     0.04,2,     0.02,2,    2.253,2,    1.257,2, -999.000,9,-999.0000,9,  -999.00,9,   2035.7,2,   -999.0,9,     8.33,2, 21.9490
 3230CITHER2_1,  A17C,    64,  1,     31,     31,2,19940128,2352,-34.0248, -42.5045, 4535,     40.1,  21.8110,  35.8320,2,  35.8360,2,    225.9,2,    221.6,2,     1.00,2,     0.04,2,     0.02,2,    2.273,2,    1.264,2, -999.000,9,-999.0000,9,  -999.00,9,   2034.9,2,   -999.0,9,     8.32,2, 21.8030
 3230CITHER2_1,  A17C,    64,  1,     30,     30,2,19940128,2352,-34.0248, -42.5045, 4535,     81.4,  17.7740,  35.9540,2,  35.9660,2,    236.1,2,    234.2,2,     0.90,2,     0.04,2,     0.10,2,    2.626,2,    1.425,2, -999.000,9,-999.0000,9,  -999.00,9,   2062.6,2,   -999.0,9,     8.29,2, 17.7600
 3230CITHER2_1,  A17C,    64,  1,     29,     29,2,19940128,2352,-34.0248, -42.5045, 4535,    130.6,  17.5590,  36.0750,2,  36.0820,2,    215.9,2,    216.3,2,     1.10,2,     2.37,2,     0.26,2,    2.548,2,    1.380,2, -999.000,9,-999.0000,9,  -999.00,9,   2075.4,2,   -999.0,9,     8.26,2, 17.5370
 3230CITHER2_1,  A17C,    64,  1,     28,     28,2,19940128,2352,-34.0248, -42.5045, 4535,    200.0,  16.6060,  35.9190,2,  35.9020,2,    218.0,2,    215.0,2,     1.50,2,     3.69,2,     0.35,2,    2.643,2,    1.416,2, -999.000,9,-999.0000,9,  -999.00,9,   2088.5,2,   -999.0,9,     8.24,2, 16.5730
 3230CITHER2_1,  A17C,    64,  1,     27,     27,2,19940128,2352,-34.0248, -42.5045, 4535,    300.2,  15.0140,  35.6240,2,  35.6280,2,    218.2,2,    217.2,2,     2.00,2,     5.98,2,     0.51,2,    2.674,2,    1.436,2, -999.000,9,-999.0000,9,  -999.00,9,   2093.9,2,   -999.0,9,     8.21,2, 14.9680
 3230CITHER2_1,  A17C,    64,  1,     26,     26,2,19940128,2352,-34.0248, -42.5045, 4535,    400.1,  13.3410,  35.3130,2,  35.3150,2,    216.3,2,    211.5,2,     2.90,2,     9.92,2,     0.75,2,    2.526,2,    1.321,2, -999.000,9,-999.0000,9,  -999.00,9,   2105.2,2,   -999.0,9,     8.15,2, 13.2840
 3230CITHER2_1,  A17C,    64,  1,     25,     25,2,19940128,2352,-34.0248, -42.5045, 4535,    500.1,  10.9050,  34.9290,2,  34.9320,2,    207.3,2,    204.7,2,     5.40,2,    15.87,2,     1.13,2,    2.174,2,    1.134,2, -999.000,9,-999.0000,9,  -999.00,9,   2124.9,2,   -999.0,9,     8.08,2, 10.8430
 3230CITHER2_1,  A17C,    64,  1,     24,     24,2,19940128,2352,-34.0248, -42.5045, 4535,    598.6,   8.4830,  34.6360,2,  34.6280,2,    210.7,2,    210.3,2,     8.70,2,    20.85,2,     1.48,2,    2.106,2,    1.083,2, -999.000,9,-999.0000,9,  -999.00,9,   -999.0,5,   -999.0,9,     8.01,2,  8.4190
 3230CITHER2_1,  A17C,    64,  1,     23,     23,2,19940128,2352,-34.0248, -42.5045, 4535,    699.7,   6.5050,  34.4250,2,  34.4180,2,    224.6,2,    225.3,2,    12.00,2,    24.41,2,     1.71,2,    2.220,2,    1.119,2, -999.000,9,-999.0000,9,  -999.00,9,   2151.4,2,   -999.0,9,     7.97,2,  6.4400
 3230CITHER2_1,  A17C,    64,  1,     22,     22,2,19940128,2352,-34.0248, -42.5045, 4535,    799.9,   5.1880,  34.3090,2,  34.3110,2,    237.5,2,    237.4,2,    15.60,2,    26.61,2,     1.86,2,    2.211,2,    1.108,2, -999.000,9,-999.0000,9,  -999.00,9,   2153.4,2,   -999.0,9,     7.96,2,  5.1220
 3230CITHER2_1,  A17C,    64,  1,     20,     20,2,19940128,2352,-34.0248, -42.5045, 4535,    899.9,   4.4300,  34.2700,2,  34.2700,2,    240.3,2,    241.9,2,    19.50,2,    28.19,2,     1.96,2,    1.975,2,    0.979,2, -999.000,9,-999.0000,9,  -999.00,9,   2165.0,2,   -999.0,9,     7.94,2,  4.3600
 3230CITHER2_1,  A17C,    64,  1,     21,     21,2,19940128,2352,-34.0248, -42.5045, 4535,    900.0,   4.4540,  34.2690,2,  34.2690,2,    240.3,2,    241.1,2,    19.50,2,    28.11,2,     1.96,2,    2.134,2,    1.064,2, -999.000,9,-999.0000,9,  -999.00,9,   -999.0,5,   -999.0,9,     7.94,2,  4.3840
 3230CITHER2_1,  A17C,    64,  1,     19,     19,2,19940128,2352,-34.0248, -42.5045, 4535,    999.8,   3.8550,  34.2480,2,  34.2480,2,    243.0,2,    242.6,2,    24.00,2,    29.27,2,     2.04,2,    2.160,2,    1.080,2, -999.000,9,-999.0000,9,  -999.00,9,   2172.9,2,   -999.0,9,     7.93,2,  3.7810
 3230CITHER2_1,  A17C,    64,  1,     18,     18,2,19940128,2352,-34.0248, -42.5045, 4535,   1201.0,   3.3320,  34.3590,2,  34.3560,2,    208.2,2,    208.2,2,    40.30,2,    32.03,2,     2.22,2,    0.585,2,    0.315,2, -999.000,9,-999.0000,9,  -999.00,9,   -999.0,9,   -999.0,9,     7.88,2,  3.2460
 3230CITHER2_1,  A17C,    64,  1,     17,     17,2,19940128,2352,-34.0248, -42.5045, 4535,   1399.7,   2.9210,  34.4600,2,  34.4600,2,    193.0,2,    193.0,2,    53.20,2,    33.14,2,     2.28,2,    0.287,2,    0.160,2, -999.000,9,-999.0000,9,  -999.00,9,   -999.0,9,   -999.0,9,     7.86,2,  2.8230
 3230CITHER2_1,  A17C,    64,  1,     16,     16,2,19940128,2352,-34.0248, -42.5045, 4535,   1599.5,   2.8760,  34.5910,2,  34.5930,2,    187.3,2,    188.2,2,    57.80,2,    32.09,2,     2.20,2,    0.097,2,    0.059,2, -999.000,9,-999.0000,9,  -999.00,9,   -999.0,9,   -999.0,9,     7.87,2,  2.7610
 3230CITHER2_1,  A17C,    64,  1,     15,     15,2,19940128,2352,-34.0248, -42.5045, 4535,   1798.9,   3.0100,  34.7190,2,  34.7170,2,    193.9,2,    197.8,2,    54.00,2,    29.45,2,     2.01,2,    0.036,2,    0.027,2, -999.000,9,-999.0000,9,  -999.00,9,   -999.0,9,   -999.0,9,     7.90,2,  2.8760
 3230CITHER2_1,  A17C,    64,  1,     14,     14,2,19940128,2352,-34.0248, -42.5045, 4535,   1999.6,   3.0690,  34.7980,2,  34.8000,2,    214.4,2,    211.9,2,    47.50,2,    26.75,2,     1.82,2,    0.022,2,    0.019,2, -999.000,9,-999.0000,9,  -999.00,9,   -999.0,9,   -999.0,9,     7.93,2,  2.9160
 3230CITHER2_1,  A17C,    64,  1,     13,     13,2,19940128,2352,-34.0248, -42.5045, 4535,   2198.2,   3.2530,  34.8830,2,  34.8830,2,    230.9,2,    232.2,2,    35.90,2,    23.31,2,     1.57,2,    0.013,2,    0.014,2, -999.000,9,-999.0000,9,  -999.00,9,   -999.0,9,   -999.0,9,     7.96,2,  3.0780
 3230CITHER2_1,  A17C,    64,  1,     12,     12,2,19940128,2352,-34.0248, -42.5045, 4535,   2398.4,   3.2820,  34.9220,2,  34.9270,2,    243.9,2,    244.1,2,    29.20,2,    21.61,2,     1.45,2,    0.014,2,    0.019,2, -999.000,9,-999.0000,9,  -999.00,9,   -999.0,9,   -999.0,9,     7.99,2,  3.0870
 3230CITHER2_1,  A17C,    64,  1,     11,     11,2,19940128,2352,-34.0248, -42.5045, 4535,   2599.1,   3.1820,  34.9300,2,  34.9310,2,    248.5,2,    248.3,2,    29.20,2,    21.17,2,     1.41,2,    0.012,2,    0.019,2, -999.000,9,-999.0000,9,  -999.00,9,   -999.0,9,   -999.0,9,     7.99,2,  2.9690
 3230CITHER2_1,  A17C,    64,  1,     10,     10,2,19940128,2352,-34.0248, -42.5045, 4535,   2799.6,   3.0590,  34.9280,2,  34.9300,2,    250.4,2,    249.4,2,    30.80,2,    20.73,2,     1.40,2,    0.024,2,    0.022,2, -999.000,9,-999.0000,9,  -999.00,9,   -999.0,9,   -999.0,9,     8.00,2,  2.8280
 3230CITHER2_1,  A17C,    64,  1,      9,      9,2,19940128,2352,-34.0248, -42.5045, 4535,   2997.9,   2.9370,  34.9240,2,  34.9240,2,    250.9,2,    250.4,2,    32.80,2,    21.14,2,     1.41,2,    0.010,2,    0.009,2, -999.000,9,-999.0000,9,  -999.00,9,   -999.0,9,   -999.0,9,     7.99,2,  2.6880
 3230CITHER2_1,  A17C,    64,  1,      8,      8,2,19940128,2352,-34.0248, -42.5045, 4535,   3198.3,   2.7550,  34.9140,2,  34.9140,2,    250.6,2,    249.1,2,    37.20,2,    21.59,2,     1.43,2,    0.010,2,    0.015,2, -999.000,9,-999.0000,9,  -999.00,9,   -999.0,9,   -999.0,9,     7.99,2,  2.4890
 3230CITHER2_1,  A17C,    64,  1,      7,      7,2,19940128,2352,-34.0248, -42.5045, 4535,   3398.2,   2.5310,  34.9010,2,  34.9030,2,    251.7,2,    250.6,2,    41.20,2,    21.59,2,     1.47,2,    0.014,2,    0.014,2, -999.000,9,-999.0000,9,  -999.00,9,   -999.0,9,   -999.0,9,     7.99,2,  2.2490
 3230CITHER2_1,  A17C,    64,  1,      6,      6,2,19940128,2352,-34.0248, -42.5045, 4535,   3599.1,   1.7770,  34.8100,2,  34.8100,2,    227.2,2,    230.4,2,    78.80,2,    26.69,2,     1.81,2,    0.028,2,    0.021,2, -999.000,9,-999.0000,9,  -999.00,9,   -999.0,9,   -999.0,9,     7.93,2,  1.4930
 3230CITHER2_1,  A17C,    64,  1,      5,      5,2,19940128,2352,-34.0248, -42.5045, 4535,   3797.6,   1.1310,  34.7440,2,  34.7420,2,    219.7,2,    218.8,2,   107.30,2,    30.25,2,     2.07,2,    0.059,2,    0.036,2, -999.000,9,-999.0000,9,  -999.00,9,   -999.0,9,   -999.0,9,     7.89,2,  0.8430
 3230CITHER2_1,  A17C,    64,  1,      4,      4,2,19940128,2352,-34.0248, -42.5045, 4535,   3997.8,   0.5870,  34.6960,2,  34.6970,2,    215.1,2,    217.0,2,   124.70,2,    32.31,2,     2.23,2,    0.087,2,    0.054,2, -999.000,9,-999.0000,9,  -999.00,9,   -999.0,9,   -999.0,9,     7.87,2,  0.2940
 3230CITHER2_1,  A17C,    64,  1,      3,      3,2,19940128,2352,-34.0248, -42.5045, 4535,   4199.4,   0.2720,  34.6790,2,  34.6790,2,    218.2,2,    220.7,2,   131.30,2,    33.02,2,     2.28,2,    0.103,2,    0.067,2, -999.000,9,-999.0000,9,  -999.00,9,   -999.0,9,   -999.0,9,     7.87,2, -0.0320
 3230CITHER2_1,  A17C,    64,  1,      2,      2,2,19940128,2352,-34.0248, -42.5045, 4535,   4399.2,   0.1690,  34.6730,2,  34.6730,2,    219.8,2,    221.7,2,   133.50,2,    33.27,2,     2.30,2,    0.129,2,    0.076,2, -999.000,9,-999.0000,9,  -999.00,9,   -999.0,9,   -999.0,9,     7.87,2, -0.1530
 3230CITHER2_1,  A17C,    64,  1,      1,      1,2,19940128,2352,-34.0248, -42.5045, 4535,   4596.3,   0.1810,  34.6710,2,  34.6720,2,    220.0,2,    222.5,2,   134.90,2,    33.18,2,     2.30,2,    0.158,2,    0.084,2, -999.000,9,-999.0000,9,  -999.00,9,   -999.0,9,   -999.0,2,     7.87,2, -0.1630
 3230CITHER2_1,  A17C,    65,  1,     32,     32,2,19940129,0547,-33.6322, -42.1580, 4529,      2.3,  22.3290,  35.8710,2,  35.8740,2,    217.4,2,    218.5,2,     0.90,2,     0.04,2,     0.01,2,    2.200,2,    1.232,2, -999.000,9,-999.0000,9,  -999.00,9,   -999.0,9,   -999.0,9,     8.33,2, 22.3290
 3230CITHER2_1,  A17C,    65,  1,     31,     31,2,19940129,0547,-33.6322, -42.1580, 4529,     35.5,  22.3390,  35.8740,2,  35.8830,2,    214.5,2,    219.2,2,     0.90,2,     0.04,2,     0.01,2,    2.205,2,    1.229,2, -999.000,9,-999.0000,9,  -999.00,9,   -999.0,9,   -999.0,9,     8.33,2, 22.3320
 3230CITHER2_1,  A17C,    65,  1,     30,     30,2,19940129,0547,-33.6322, -42.1580, 4529,     75.5,  18.3500,  36.0190,2,  36.0190,2,    235.7,2,    230.7,2,     1.00,2,     0.04,2,     0.08,2,    2.564,2,    1.403,2, -999.000,9,-999.0000,9,  -999.00,9,   -999.0,9,   -999.0,9,     8.29,2, 18.3370
 3230CITHER2_1,  A17C,    65,  1,     29,     29,2,19940129,0547,-33.6322, -42.1580, 4529,    100.0,  17.6700,  35.9640,2,  35.9590,2,    225.1,2,    220.0,2,     1.30,2,     1.01,2,     0.18,2,    2.564,2,    1.385,2, -999.000,9,-999.0000,9,  -999.00,9,   -999.0,9,   -999.0,9,     8.27,2, 17.6530
 3230CITHER2_1,  A17C,    65,  1,     28,     28,2,19940129,0547,-33.6322, -42.1580, 4529,    201.6,  15.6380,  35.6550,2,  35.6450,2,    210.2,2,    213.7,2,     2.00,2,     5.21,2,     0.45,2,    2.578,2,    1.377,2, -999.000,9,-999.0000,9,  -999.00,9,   -999.0,9,   -999.0,9,     8.21,2, 15.6060
 3230CITHER2_1,  A17C,    65,  1,     27,     27,2,19940129,0547,-33.6322, -42.1580, 4529,    301.6,  14.6580,  35.5310,2,  35.5260,2,    219.0,2,    213.1,2,     2.40,2,     6.82,2,     0.56,2,    2.610,2,    1.367,2, -999.000,9,-999.0000,9,  -999.00,9,   -999.0,9,   -999.0,9,     8.19,2, 14.6130
 3230CITHER2_1,  A17C,    65,  1,     26,     26,2,19940129,0547,-33.6322, -42.1580, 4529,    402.6,  12.9600,  35.2380,2,  35.2290,2,    210.6,2,    207.8,2,     3.60,2,    10.90,2,     0.81,2,    2.288,2,    1.232,2, -999.000,9,-999.0000,9,  -999.00,9,   -999.0,9,   -999.0,9,     8.14,2, 12.9040
 3230CITHER2_1,  A17C,    65,  1,     25,     25,2,19940129,0547,-33.6322, -42.1580, 4529,    501.5,  10.7920,  34.9220,2,  34.9330,2,    209.0,2,    206.0,2,     5.80,2,    15.87,2,     1.11,2,    2.229,2,    1.156,2, -999.000,9,-999.0000,9,  -999.00,9,   -999.0,9,   -999.0,9,     8.08,2, 10.7300
 3230CITHER2_1,  A17C,    65,  1,     24,     24,2,19940129,0547,-33.6322, -42.1580, 4529,    599.7,   8.2770,  34.6040,2,  34.5950,2,    215.1,2,    213.9,2,     9.10,2,    21.37,2,     1.49,2,    2.270,2,    1.157,2, -999.000,9,-999.0000,9,  -999.00,9,   -999.0,9,   -999.0,9,     8.02,2,  8.2140
 3230CITHER2_1,  A17C,    65,  1,     23,     23,2,19940129,0547,-33.6322, -42.1580, 4529,    702.2,   6.2590,  34.3850,2,  34.3910,2,    230.1,2,    230.0,2,    12.60,2,    24.82,2,     1.73,2,    2.310,2,    1.172,2, -999.000,9,-999.0000,9,  -999.00,9,   -999.0,9,   -999.0,9,     7.97,2,  6.1950
 3230CITHER2_1,  A17C,    65,  1,     22,     22,2,19940129,0547,-33.6322, -42.1580, 4529,    800.1,   5.1790,  34.3150,2,  34.3180,2,    236.4,2,    234.8,2,    16.90,2,    27.24,2,     1.87,2,    2.031,2,    1.023,2, -999.000,9,-999.0000,9,  -999.00,9,   -999.0,9,   -999.0,9,     7.95,2,  5.1000
 3230CITHER2_1,  A17C,    65,  1,     21,     21,2,19940129,0547,-33.6322, -42.1580, 4529,    800.3,   5.1660,  34.3150,2,  34.3180,2,    236.4,2,    235.0,2,    16.90,2,    27.19,2,     1.87,2,    2.035,2,    1.030,2, -999.000,9,-999.0000,9,  -999.00,9,   -999.0,9,   -999.0,9,     7.95,2,  5.1130
 3230CITHER2_1,  A17C,    65,  1,     20,     20,2,19940129,0547,-33.6322, -42.1580, 4529,    901.7,   4.4210,  34.2900,2,  34.2920,2,    233.5,2,    231.5,2,    22.70,2,    29.01,2,     1.99,2,    1.546,2,    0.787,2, -999.000,9,-999.0000,9,  -999.00,9,   -999.0,9,   -999.0,9,     7.93,2,  4.3510
 3230CITHER2_1,  A17C,    65,  1,     19,     19,2,19940129,0547,-33.6322, -42.1580, 4529,   1001.6,   3.8500,  34.2800,2,  34.2790,2,    230.2,2,    232.0,2,    28.00,2,    30.52,2,     2.08,2,    1.353,2,    0.695,2, -999.000,9,-999.0000,9,  -999.00,9,   -999.0,9,   -999.0,9,     7.92,2,  3.7760
 3230CITHER2_1,  A17C,    65,  1,     18,     18,2,19940129,0547,-33.6322, -42.1580, 4529,   1199.9,   3.2420,  34.3700,2,  34.3670,2,    209.3,2,    206.6,2,    43.20,2,    32.74,2,     2.23,2,    0.558,2,    0.305,2, -999.000,9,-999.0000,9,  -999.00,9,   -999.0,9,   -999.0,9,     7.89,2,  3.1570
 3230CITHER2_1,  A17C,    65,  1,     17,     17,2,19940129,0547,-33.6322, -42.1580, 4529,   1399.5,   2.9310,  34.4670,2,  34.4710,2,    191.9,2,    191.9,2,    54.50,2,    33.45,2,     2.27,2,    0.247,2,    0.137,2, -999.000,9,-999.0000,9,  -999.00,9,   -999.0,9,   -999.0,9,     7.87,2,  2.8320
 3230CITHER2_1,  A17C,    65,  1,     16,     16,2,19940129,0547,-33.6322, -42.1580, 4529,   1600.3,   2.8640,  34.6050,2,  34.6000,2,    185.7,2,    185.3,2,    61.50,2,    32.45,2,     2.20,2,    0.139,2,    0.082,2, -999.000,9,-999.0000,9,  -999.00,9,   -999.0,9,   -999.0,9,     7.86,2,  2.7490
 3230CITHER2_1,  A17C,    65,  1,     15,     15,2,19940129,0547,-33.6322, -42.1580, 4529,   1800.4,   2.9340,  34.7100,2,  34.7160,2,    196.2,2,    198.1,2,    55.90,2,    29.69,2,     2.00,2,    0.037,2,    0.031,2, -999.000,9,-999.0000,9,  -999.00,9,   -999.0,9,   -999.0,9,     7.89,2,  2.8010
 3230CITHER2_1,  A17C,    65,  1,     14,     14,2,19940129,0547,-33.6322, -42.1580, 4529,   1999.6,   3.2040,  34.8400,2,  34.8340,2,    214.7,2,    217.3,2,    44.10,2,    25.68,2,     1.73,2,    0.033,2,    0.022,2, -999.000,9,-999.0000,9,  -999.00,9,   -999.0,9,   -999.0,9,     7.94,2,  3.0490
 3230CITHER2_1,  A17C,    65,  1,     13,     13,2,19940129,0547,-33.6322, -42.1580, 4529,   2201.7,   3.1320,  34.8720,2,  34.8720,2,    225.9,2,    226.5,2,    42.70,2,    24.06,2,     1.63,2,    0.032,2,    0.024,2, -999.000,9,-999.0000,9,  -999.00,9,   -999.0,9,   -999.0,9,     7.95,2,  2.9590
 3230CITHER2_1,  A17C,    65,  1,     12,     12,2,19940129,0547,-33.6322, -42.1580, 4529,   2399.6,   3.2200,  34.9290,2,  34.9280,2,    245.1,2,    246.1,2,    30.20,2,    21.28,2,     1.42,2,    0.012,2,    0.018,2, -999.000,9,-999.0000,9,  -999.00,9,   -999.0,9,   -999.0,9,     7.99,2,  3.0260
 3230CITHER2_1,  A17C,    65,  1,     11,     11,2,19940129,0547,-33.6322, -42.1580, 4529,   2598.6,   3.0780,  34.9260,2,  34.9260,2,    249.7,2,    247.6,2,    31.50,2,    21.41,2,     1.42,2,    0.013,2,    0.012,2, -999.000,9,-999.0000,9,  -999.00,9,   -999.0,9,   -999.0,9,     8.00,2,  2.8670
 3230CITHER2_1,  A17C,    65,  1,     10,     10,2,19940129,0547,-33.6322, -42.1580, 4529,   2800.2,   2.9470,  34.9280,2,  34.9270,2,    252.5,2,    250.3,2,    32.20,2,    21.13,2,     1.40,2,    0.007,2,    0.013,2, -999.000,9,-999.0000,9,  -999.00,9,   -999.0,9,   -999.0,9,     8.00,2,  2.7180
 3230CITHER2_1,  A17C,    65,  1,      9,      9,2,19940129,0547,-33.6322, -42.1580, 4529,   2999.7,   2.8270,  34.9230,2,  34.9240,2,    253.4,2,    251.5,2,    34.00,2,    21.13,2,     1.40,2,    0.009,2,    0.012,2, -999.000,9,-999.0000,9,  -999.00,9,   -999.0,9,   -999.0,9,     8.00,2,  2.5800
 3230CITHER2_1,  A17C,    65,  1,      8,      8,2,19940129,0547,-33.6322, -42.1580, 4529,   3200.6,   2.5860,  34.9010,2,  34.8990,2,    249.6,2,    247.9,2,    42.30,2,    21.95,2,     1.47,2,    0.009,2,    0.011,2, -999.000,9,-999.0000,9,  -999.00,9,   -999.0,9,   -999.0,9,     7.99,2,  2.3240
 3230CITHER2_1,  A17C,    65,  1,      7,      7,2,19940129,0547,-33.6322, -42.1580, 4529,   3397.9,   2.1230,  34.8440,2,  34.8480,2,    238.2,2,    236.1,2,    63.00,2,    24.84,2,     1.67,2,    0.025,2,    0.019,2, -999.000,9,-999.0000,9,  -999.00,9,   -999.0,9,   -999.0,9,     7.96,2,  1.8510
 3230CITHER2_1,  A17C,    65,  1,      6,      6,2,19940129,0547,-33.6322, -42.1580, 4529,   3593.4,   1.5600,  34.7950,2,  34.7950,2,    231.7,2,    230.3,2,    85.50,2,    27.42,2,     1.86,2,    0.031,2,    0.021,2, -999.000,9,-999.0000,9,  -999.00,9,   -999.0,9,   -999.0,9,     7.93,2,  1.2820
 3230CITHER2_1,  A17C,    65,  1,      5,      5,2,19940129,0547,-33.6322, -42.1580, 4529,   3797.5,   0.8410,  34.7160,2,  34.7160,2,    217.1,2,    215.9,2,   117.70,2,    31.71,2,     2.17,2,    0.075,2,    0.044,2, -999.000,9,-999.0000,9,  -999.00,9,   -999.0,9,   -999.0,9,     7.89,2,  0.5620
 3230CITHER2_1,  A17C,    65,  1,      4,      4,2,19940129,0547,-33.6322, -42.1580, 4529,   3997.6,   0.4610,  34.6880,2,  34.6870,2,    215.6,2,    217.5,2,   127.70,2,    32.57,2,     2.25,2,    0.097,2,    0.062,2, -999.000,9,-999.0000,9,  -999.00,9,   -999.0,9,   -999.0,9,     7.87,2,  0.1720
 3230CITHER2_1,  A17C,    65,  1,      3,      3,2,19940129,0547,-33.6322, -42.1580, 4529,   4196.5,   0.2630,  34.6780,2,  34.6770,2,    219.3,2,    221.1,2,   129.80,2,    32.78,2,     2.28,2,    0.110,2,    0.062,2, -999.000,9,-999.0000,9,  -999.00,9,   -999.0,9,   -999.0,9,     7.87,2, -0.0410
 3230CITHER2_1,  A17C,    65,  1,      2,      2,2,19940129,0547,-33.6322, -42.1580, 4529,   4397.7,   0.1890,  34.6740,2,  34.6740,2,    221.0,2,    222.5,2,   132.20,2,    33.08,2,     2.28,2,    0.124,2,    0.076,2, -999.000,9,-999.0000,9,  -999.00,9,   -999.0,9,   -999.0,9,     7.87,2, -0.1340
 3230CITHER2_1,  A17C,    65,  1,      1,      1,2,19940129,0547,-33.6322, -42.1580, 4529,   4587.3,   0.1780,  34.6700,2,  34.6730,2,    220.5,2,    221.6,2,   133.90,2,    33.39,2,     2.30,2,    0.140,2,    0.082,2, -999.000,9,-999.0000,9,  -999.00,9,   -999.0,9,   -999.0,9,     7.87,2, -0.1650