BOTTLE,20030515WHPSIOSA
EXPOCODE,SECT_ID,STNNBR,CASTNO,SAMPNO,BTLNBR,BTLNBR_FLAG_W,DATE,TIME,LATITUDE,LONGITUDE,DEPTH,CTDPRS,CTDTMP,CTDSAL,CTDSAL_FLAG_W,SALNTY,SALNTY_FLAG_W,CTDOXY,CTDOXY_FLAG_W,OXYGEN,OXYGEN_FLAG_W,SILCAT,SILCAT_FLAG_W,NITRAT,NITRAT_FLAG_W,PHSPHT,PHSPHT_FLAG_W,CFC-11,CFC-11_FLAG_W,CFC-12,CFC-12_FLAG_W,TRITUM,TRITUM_FLAG_W,HELIUM,HELIUM_FLAG_W,DELHE3,DELHE3_FLAG_W,TCARBN,TCARBN_FLAG_W,ALKALI,ALKALI_FLAG_W,PH,PH_FLAG_W,THETA
,,,,,,,,,,,,DBAR,ITS-90,PSS-78,,PSS-78,,UMOL/KG,,UMOL/KG,,UMOL/KG,,UMOL/KG,,UMOL/KG,,PMOL/KG,,PMOL/KG,,TU,,NMOL/KG,,PERCNT,,UMOL/KG,,UMOL/KG,,,,DEG C
 3230CITHER2_2,  A17N,   142,  1,     32,     32,2,19940223,0542,-13.4387, -30.5893, 5165,      4.4,  27.7710,  37.0590,2,  37.0640,2,    195.4,2,    196.8,2,     1.20,2,     0.04,2,     0.08,2,    1.650,2,    0.960,2,    0.660,2,   1.6600,2,    -1.28,2,   2054.7,2,   2438.2,2,     8.39,2, 27.7700
 3230CITHER2_2,  A17N,   142,  1,     31,     31,2,19940223,0542,-13.4387, -30.5893, 5165,     41.4,  27.7750,  37.0590,2,  37.0590,2,    202.0,2,    196.9,2,     1.10,2,     0.04,2,     0.08,2,    1.645,2,    0.951,2,    0.650,2,   1.6800,2,    -0.74,2,   2054.9,2,   2438.2,2,     8.39,2, 27.7650
 3230CITHER2_2,  A17N,   142,  1,     30,     30,2,19940223,0542,-13.4387, -30.5893, 5165,    126.1,  23.4760,  36.8300,2,  36.8530,2,    213.6,2,    211.1,2,     1.20,2,     0.04,2,     0.18,2,    1.954,2,    1.095,2,    0.640,2,   1.6900,2,    -0.82,2,   2080.8,2,   2429.2,2,     8.34,2, 23.4500
 3230CITHER2_2,  A17N,   142,  1,     29,     29,2,19940223,0542,-13.4387, -30.5893, 5165,    201.0,  16.7880,  35.7930,2,  35.7880,2,    174.3,2,    169.1,2,     3.50,2,     9.63,2,     0.76,2,    1.979,2,    1.062,2,    0.530,2,   1.7300,2,     0.41,2,   2124.0,2,   2360.1,2,     8.17,2, 16.7550
 3230CITHER2_2,  A17N,   142,  1,     28,     28,2,19940223,0542,-13.4387, -30.5893, 5165,    400.8,   8.8230,  34.8020,2,  34.7720,2,    119.7,2,    119.9,2,    14.80,2,    29.64,2,     1.94,2,    0.438,2,    0.241,2,    0.130,2,   1.7300,2,     0.06,2,   2200.0,2,   2310.9,2,     7.88,2,  8.7800
 3230CITHER2_2,  A17N,   142,  1,     27,     27,2,19940223,0542,-13.4387, -30.5893, 5165,    601.2,   5.6360,  34.4820,2,  34.4810,2,    154.5,2,    153.5,2,    24.30,2,    33.35,2,     2.23,2,    0.246,2,    0.132,2, -999.000,9,   1.7900,2,     0.26,2,   2208.0,2,   2306.3,2,     7.86,2,  5.5850
 3230CITHER2_2,  A17N,   142,  1,     26,     26,2,19940223,0542,-13.4387, -30.5893, 5165,    800.8,   4.5380,  34.4480,2,  34.4490,2,    162.9,2,    161.3,2,    31.60,2,    34.70,2,     2.34,2,    0.062,2,    0.040,2,    0.040,2,   1.8000,2,     1.43,2,   -999.0,5,   2311.6,2,     7.85,2,  4.4750
 3230CITHER2_2,  A17N,   142,  1,     25,     25,2,19940223,0542,-13.4387, -30.5893, 5165,   1003.3,   3.8940,  34.5190,2,  34.5250,2,    171.1,2,    172.9,2,    36.80,2,    33.81,2,     2.27,2,    0.082,2,    0.048,2,    0.010,2,   1.8000,2,    -0.01,2,   2219.2,2,   2321.1,2,     7.87,2,  3.8190
 3230CITHER2_2,  A17N,   142,  1,     24,     24,2,19940223,0542,-13.4387, -30.5893, 5165,   1201.5,   3.9360,  34.6950,2,  34.6960,2,    179.0,2,    181.4,2,    32.90,2,    30.60,2,     1.95,2,    0.025,2,    0.015,2,    0.010,2,   1.8400,2,     2.37,2,   2211.4,2,   2326.7,2,     7.90,2,  3.8430
 3230CITHER2_2,  A17N,   142,  1,     23,     23,2,19940223,0542,-13.4387, -30.5893, 5165,   1400.3,   4.0340,  34.8340,2,  34.8360,2,    201.3,2,    200.8,2,    26.90,2,    26.54,2,     1.79,2,   -0.006,2,    0.004,2, -999.000,9,   1.8000,2,     0.88,2,   2197.5,2,   2326.6,2,     7.94,2,  3.9230
 3230CITHER2_2,  A17N,   142,  1,     22,     22,2,19940223,0542,-13.4387, -30.5893, 5165,   1602.0,   3.8820,  34.9140,2,  34.9160,2,    222.7,2,    223.4,2,    23.40,2,    23.63,2,     1.57,2,    0.009,2,    0.008,2,    0.040,2,   1.7900,2,     0.65,2,   2182.7,2,   2329.2,2,     7.98,2,  3.7540
 3230CITHER2_2,  A17N,   142,  1,     21,     21,2,19940223,0542,-13.4387, -30.5893, 5165,   1700.9,   3.7720,  34.9340,2,  34.9350,2,    231.7,2,    232.2,2,    22.90,2,    22.63,2,     1.49,2,    0.008,2,    0.006,2, -999.000,9,   1.8000,2,     0.60,2,   2178.3,2,   2328.5,2,     7.99,2,  3.6360
 3230CITHER2_2,  A17N,   142,  1,     20,     20,2,19940223,0542,-13.4387, -30.5893, 5165,   1801.3,   3.6720,  34.9420,2,  34.9460,2,    237.1,2,    238.0,2,    22.70,2,    21.98,2,     1.44,2,    0.009,2,    0.010,2, -999.000,9,-999.0000,9,  -999.00,9,   2176.6,2,   2330.0,2,     8.00,2,  3.5280
 3230CITHER2_2,  A17N,   142,  1,     19,     19,2,19940223,0542,-13.4387, -30.5893, 5165,   2001.8,   3.4090,  34.9490,2,  34.9510,2,    245.7,2,    246.9,2,    24.00,2,    21.25,2,     1.38,2,    0.014,2,    0.009,2, -999.000,9,-999.0000,9,  -999.00,9,   2172.2,2,   2331.6,2,     8.01,2,  3.2500
 3230CITHER2_2,  A17N,   142,  1,     17,     17,2,19940223,0542,-13.4387, -30.5893, 5165,   2200.2,   3.0940,  34.9260,2,  34.9140,2,    242.6,2,    253.1,2,    35.70,2,    21.33,2,     1.40,2,    0.000,2,    0.004,2, -999.000,9,   1.7900,2,     1.75,2,   2181.3,2,   2337.1,2,     8.00,2,  2.9210
 3230CITHER2_2,  A17N,   142,  1,     18,     18,2,19940223,0542,-13.4387, -30.5893, 5165,   2200.3,   3.0940,  34.9260,2,  34.9280,2,    242.6,2,    244.3,2,    30.10,2,    21.91,2,     1.43,2,    0.000,2,    0.004,2, -999.000,9,   1.8100,2,     1.73,2,   2181.6,2,   2337.1,2,     8.00,2,  2.9210
 3230CITHER2_2,  A17N,   142,  1,     16,     16,2,19940223,0542,-13.4387, -30.5893, 5165,   2399.2,   2.8900,  34.9160,2,  34.9160,2,    241.6,2,    243.5,2,    34.20,2,    22.38,2,     1.46,2,    0.000,2,    0.000,2, -999.000,9,   1.8000,2,     3.90,2,   2182.6,2,   2342.9,2,     8.00,2,  2.7020
 3230CITHER2_2,  A17N,   142,  1,     15,     15,2,19940223,0542,-13.4387, -30.5893, 5165,   2701.4,   2.7860,  34.9170,2,  34.9170,2,    243.8,2,    246.6,2,    34.80,2,    22.03,2,     1.44,2,    0.003,2,    0.002,2, -999.000,9,   1.8100,2,     0.82,2,   2183.2,2,   2341.5,2,     8.00,2,  2.5700
 3230CITHER2_2,  A17N,   142,  1,     14,     14,2,19940223,0542,-13.4387, -30.5893, 5165,   2999.4,   2.7060,  34.9140,2,  34.9150,2,    246.3,2,    247.8,2,    36.10,2,    21.88,2,     1.44,2,    0.003,2,    0.004,2, -999.000,9,   1.7900,2,     2.71,2,   2184.0,2,   2343.3,2,     8.00,2,  2.4620
 3230CITHER2_2,  A17N,   142,  1,     13,     13,2,19940223,0542,-13.4387, -30.5893, 5165,   3199.2,   2.6320,  34.9160,2,  34.9080,2,    249.4,2,    251.7,2,    34.90,2,    21.49,2,     1.40,2,    0.011,2,    0.004,2, -999.000,9,-999.0000,9,  -999.00,9,   2180.7,2,   2342.2,2,     8.00,2,  2.3690
 3230CITHER2_2,  A17N,   142,  1,     12,     12,2,19940223,0542,-13.4387, -30.5893, 5165,   3397.3,   2.5590,  34.9110,2,  34.9040,2,    252.7,2,    253.0,2,    35.60,2,    21.30,2,     1.40,2,    0.009,2,    0.012,2, -999.000,9,   1.8400,2,     2.15,2,   2180.6,2,   2342.3,2,     8.01,2,  2.2760
 3230CITHER2_2,  A17N,   142,  1,     11,     11,2,19940223,0542,-13.4387, -30.5893, 5165,   3600.9,   2.4000,  34.8960,2,  34.8910,2,    252.4,2,    252.6,2,    39.80,2,    21.69,2,     1.43,2,    0.011,2,    0.004,2, -999.000,9,-999.0000,9,  -999.00,9,   2184.9,2,   2344.5,2,     8.00,2,  2.0990
 3230CITHER2_2,  A17N,   142,  1,     10,     10,2,19940223,0542,-13.4387, -30.5893, 5165,   3800.6,   2.2080,  34.8760,2,  34.8830,2,    251.1,2,    250.7,2,    46.70,2,    22.81,2,     1.50,2,    0.008,2,    0.006,2, -999.000,9,-999.0000,9,  -999.00,9,   2192.1,2,   2349.4,2,     7.99,2,  1.8900
 3230CITHER2_2,  A17N,   142,  1,      9,      9,2,19940223,0542,-13.4387, -30.5893, 5165,   4000.1,   1.9070,  34.8440,2,  34.8460,2,    244.9,2,    244.2,2,    60.10,2,    24.44,2,     1.62,2,    0.002,2,    0.004,2, -999.000,9,-999.0000,9,  -999.00,9,   2206.3,2,   2354.9,2,     7.98,2,  1.5760
 3230CITHER2_2,  A17N,   142,  1,      8,      8,2,19940223,0542,-13.4387, -30.5893, 5165,   4200.2,   1.5720,  34.8070,2,  34.8110,2,    237.9,2,    238.1,2,    75.50,2,    26.51,2,     1.77,2,    0.002,2,    0.006,2, -999.000,9,   1.8100,2,     2.87,2,   2219.9,2,   2362.9,2,     7.95,2,  1.2280
 3230CITHER2_2,  A17N,   142,  1,      7,      7,2,19940223,0542,-13.4387, -30.5893, 5165,   4398.6,   1.2820,  34.7770,2,  34.7780,2,    232.7,2,    232.9,2,    88.60,2,    28.48,2,     1.90,2,    0.000,2,    0.005,2, -999.000,9,-999.0000,9,  -999.00,9,   2232.6,2,   2367.5,2,     7.94,2,  0.9250
 3230CITHER2_2,  A17N,   142,  1,      6,      6,2,19940223,0542,-13.4387, -30.5893, 5165,   4599.0,   1.0730,  34.7520,2,  34.7530,2,    228.7,2,    229.8,2,    97.70,2,    29.67,2,     1.99,2,    0.000,2,    0.005,2, -999.000,9,   1.8200,2,     2.81,2,   2241.3,2,   2372.7,2,     7.92,2,  0.7000
 3230CITHER2_2,  A17N,   142,  1,      5,      5,2,19940223,0542,-13.4387, -30.5893, 5165,   4797.7,   0.8870,  34.7320,2,  34.7330,2,    225.4,2,    226.3,2,   105.60,2,    30.86,2,     2.07,2,    0.004,2,    0.007,2, -999.000,9,-999.0000,9,  -999.00,9,   2249.1,2,   2377.3,2,     7.91,2,  0.4970
 3230CITHER2_2,  A17N,   142,  1,      4,      4,2,19940223,0542,-13.4387, -30.5893, 5165,   4998.1,   0.7810,  34.7190,2,  34.7190,2,    223.5,2,    224.2,2,   110.20,2,    31.41,2,     2.12,2,    0.019,2,    0.013,2, -999.000,9,-999.0000,9,  -999.00,9,   2253.5,2,   2376.7,2,     7.91,2,  0.3710
 3230CITHER2_2,  A17N,   142,  1,      3,      3,2,19940223,0542,-13.4387, -30.5893, 5165,   5097.3,   0.7010,  34.7080,2,  34.7130,2,    222.5,2,    223.3,2,   113.30,2,    31.85,2,     2.14,2,    0.031,2,    0.018,2, -999.000,9,-999.0000,9,  -999.00,9,   2256.0,2,   2376.5,2,     7.90,2,  0.2820
 3230CITHER2_2,  A17N,   142,  1,      2,      2,2,19940223,0542,-13.4387, -30.5893, 5165,   5198.0,   0.6300,  34.7020,2,  34.7060,2,    221.8,2,    222.4,2,   116.40,2,    32.39,2,     2.17,2,    0.039,2,    0.021,2, -999.000,9,-999.0000,9,  -999.00,9,   2258.7,2,   2376.4,2,     7.89,2,  0.2020
 3230CITHER2_2,  A17N,   142,  1,      1,      1,2,19940223,0542,-13.4387, -30.5893, 5165,   5249.8,   0.5840,  34.6960,2,  34.7000,2,    221.6,2,    223.0,2,   118.20,2,    32.47,2,     2.20,2,    0.048,2,    0.028,2, -999.000,9,   1.8300,2,     5.10,2,   2261.0,2,   2376.7,2,     7.89,2,  0.1510
 3230CITHER2_2,  A17N,   143,  1,     32,     32,2,19940223,1210,-12.9430, -30.5657, 5138,      1.9,  27.9640,  37.0020,2,  37.0020,2,    192.0,2,    197.5,2,     1.10,2,     0.04,2,     0.08,2,    1.641,2,    0.958,2, -999.000,9,-999.0000,9,  -999.00,9,   -999.0,9,   -999.0,9,     8.39,2, 27.9640
 3230CITHER2_2,  A17N,   143,  1,     31,     31,2,19940223,1210,-12.9430, -30.5657, 5138,     49.3,  27.8520,  36.9970,2,  36.9980,2,    195.7,2,    197.7,2,     1.20,2,     0.04,2,     0.07,2,    1.644,2,    0.939,2, -999.000,9,-999.0000,9,  -999.00,9,   -999.0,9,   -999.0,9,     8.39,2, 27.8400
 3230CITHER2_2,  A17N,   143,  1,     30,     30,2,19940223,1210,-12.9430, -30.5657, 5138,    124.9,  23.7600,  36.8640,2,  36.8630,2,    215.0,2,    211.7,2,     1.20,2,     0.04,2,     0.16,2,    1.954,2,    1.088,2, -999.000,9,-999.0000,9,  -999.00,9,   -999.0,9,   -999.0,9,     8.35,2, 23.7340
 3230CITHER2_2,  A17N,   143,  1,     29,     29,2,19940223,1210,-12.9430, -30.5657, 5138,    201.4,  16.5570,  35.7830,2,  35.7400,2,    168.2,2,    166.7,2,     3.60,2,    10.17,2,     0.78,2,    1.975,2,    1.060,2, -999.000,9,-999.0000,9,  -999.00,9,   -999.0,9,   -999.0,9,     8.15,2, 16.5240
 3230CITHER2_2,  A17N,   143,  1,     28,     28,2,19940223,1210,-12.9430, -30.5657, 5138,    400.4,   8.3700,  34.7380,2,  34.7360,2,    114.4,2,    117.0,2,    15.80,2,    30.64,2,     2.00,2,    0.310,2,    0.182,2, -999.000,9,-999.0000,9,  -999.00,9,   -999.0,9,   -999.0,9,     7.88,2,  8.3280
 3230CITHER2_2,  A17N,   143,  1,     27,     27,2,19940223,1210,-12.9430, -30.5657, 5138,    640.7,   5.5880,  34.4900,2,  34.4880,2,    145.2,2,    144.4,2,    24.70,2,    34.13,2,     2.27,2,    0.116,2,    0.066,2, -999.000,9,-999.0000,9,  -999.00,9,   -999.0,9,   -999.0,9,     7.86,2,  5.5330
 3230CITHER2_2,  A17N,   143,  1,     26,     26,2,19940223,1210,-12.9430, -30.5657, 5138,    885.8,   3.9140,  34.4010,2,  34.4020,2,    194.9,2,    193.1,2,    35.50,2,    32.54,2,     2.20,2,    0.202,2,    0.119,2, -999.000,9,-999.0000,9,  -999.00,9,   -999.0,9,   -999.0,9,     7.89,2,  3.8480
 3230CITHER2_2,  A17N,   143,  1,     25,     25,2,19940223,1210,-12.9430, -30.5657, 5138,   1000.1,   4.0110,  34.4880,2,  34.4880,2,    176.9,2,    169.8,2,    36.10,2,    33.79,2,     2.29,2,    0.029,2,    0.022,2, -999.000,9,-999.0000,9,  -999.00,9,   -999.0,9,   -999.0,9,     7.86,2,  3.9350
 3230CITHER2_2,  A17N,   143,  1,     24,     24,2,19940223,1210,-12.9430, -30.5657, 5138,   1199.3,   3.9530,  34.6900,2,  34.6940,2,    180.1,2,    180.3,2,    32.80,2,    30.61,2,     2.05,2,    0.022,2,    0.015,2, -999.000,9,-999.0000,9,  -999.00,9,   -999.0,9,   -999.0,9,     7.90,2,  3.8610
 3230CITHER2_2,  A17N,   143,  1,     23,     23,2,19940223,1210,-12.9430, -30.5657, 5138,   1399.9,   4.0400,  34.8400,2,  34.8410,2,    201.5,2,    200.8,2,    26.40,2,    26.57,2,     1.77,2,   -0.006,2,    0.006,2, -999.000,9,-999.0000,9,  -999.00,9,   -999.0,9,   -999.0,9,     7.94,2,  3.9290
 3230CITHER2_2,  A17N,   143,  1,     22,     22,2,19940223,1210,-12.9430, -30.5657, 5138,   1498.3,   4.0520,  34.8960,2,  34.8970,2,    214.1,2,    213.7,2,    23.60,2,    24.73,2,     1.62,2,    0.010,2,    0.005,2, -999.000,9,-999.0000,9,  -999.00,9,   -999.0,9,   -999.0,9,     7.97,2,  3.9320
 3230CITHER2_2,  A17N,   143,  1,     21,     21,2,19940223,1210,-12.9430, -30.5657, 5138,   1601.0,   3.8720,  34.9120,2,  34.9110,2,    222.7,2,    223.0,2,    23.60,2,    23.78,2,     1.56,2,    0.004,2,    0.006,2, -999.000,9,-999.0000,9,  -999.00,9,   -999.0,9,   -999.0,9,     7.98,2,  3.7440
 3230CITHER2_2,  A17N,   143,  1,     20,     20,2,19940223,1210,-12.9430, -30.5657, 5138,   1698.5,   3.7530,  34.9300,2,  34.9270,2,    230.6,2,    230.4,2,    23.50,2,    22.77,2,     1.49,2,    0.002,2,    0.002,2, -999.000,9,-999.0000,9,  -999.00,9,   -999.0,9,   -999.0,9,     8.00,2,  3.6180
 3230CITHER2_2,  A17N,   143,  1,     19,     19,2,19940223,1210,-12.9430, -30.5657, 5138,   1800.3,   3.6150,  34.9410,2,  34.9420,2,    239.5,2,    238.7,2,    23.50,2,    22.05,2,     1.43,2,    0.005,2,    0.004,2, -999.000,9,-999.0000,9,  -999.00,9,   -999.0,9,   -999.0,9,     8.00,2,  3.4720
 3230CITHER2_2,  A17N,   143,  1,     17,     17,2,19940223,1210,-12.9430, -30.5657, 5138,   2000.5,   3.3550,  34.9410,2,-999.0000,5,    243.5,2,    249.2,2,    43.20,2,    22.43,2,     1.46,2,    0.001,2,    0.001,2, -999.000,9,-999.0000,9,  -999.00,9,   -999.0,9,   -999.0,9,     8.00,2,  3.1970
 3230CITHER2_2,  A17N,   143,  1,     18,     18,2,19940223,1210,-12.9430, -30.5657, 5138,   2000.6,   3.3550,  34.9410,2,  34.9390,2,    243.5,2,    243.9,2,    25.80,2,    21.61,2,     1.40,2,    0.004,2,    0.004,2, -999.000,9,-999.0000,9,  -999.00,9,   -999.0,9,   -999.0,9,     8.00,2,  3.1970
 3230CITHER2_2,  A17N,   143,  1,     16,     16,2,19940223,1210,-12.9430, -30.5657, 5138,   2200.6,   3.1090,  34.9320,2,  34.9310,2,    246.9,2,    246.0,2,    29.40,2,    21.73,2,     1.40,2,    0.005,2,    0.006,2, -999.000,9,-999.0000,9,  -999.00,9,   -999.0,9,   -999.0,9,     8.00,2,  2.9360
 3230CITHER2_2,  A17N,   143,  1,     15,     15,2,19940223,1210,-12.9430, -30.5657, 5138,   2399.4,   2.9260,  34.9210,2,  34.9190,2,    244.6,2,    244.1,2,    33.50,2,    22.35,2,     1.44,2,    0.001,2,    0.004,2, -999.000,9,-999.0000,9,  -999.00,9,   -999.0,9,   -999.0,9,     8.00,2,  2.7370
 3230CITHER2_2,  A17N,   143,  1,     14,     14,2,19940223,1210,-12.9430, -30.5657, 5138,   2698.9,   2.7720,  34.9110,2,  34.9120,2,    244.3,2,    243.6,2,    36.90,2,    22.55,2,     1.46,2,   -0.001,2,    0.003,2, -999.000,9,-999.0000,9,  -999.00,9,   -999.0,9,   -999.0,9,     8.00,2,  2.5570
 3230CITHER2_2,  A17N,   143,  1,     13,     13,2,19940223,1210,-12.9430, -30.5657, 5138,   2999.6,   2.6810,  34.9080,2,  34.9040,2,    244.4,2,    244.3,2,    38.40,2,    22.51,2,     1.46,2,    0.002,2,    0.001,2, -999.000,9,-999.0000,9,  -999.00,9,   -999.0,9,   -999.0,9,     8.00,2,  2.4370
 3230CITHER2_2,  A17N,   143,  1,     12,     12,2,19940223,1210,-12.9430, -30.5657, 5138,   3197.6,   2.6110,  34.9070,2,  34.9050,2,    245.9,2,    246.0,2,    39.20,2,    22.55,2,     1.45,2,   -0.002,2,    0.002,2, -999.000,9,-999.0000,9,  -999.00,9,   -999.0,9,   -999.0,9,     8.00,2,  2.3480
 3230CITHER2_2,  A17N,   143,  1,     11,     11,2,19940223,1210,-12.9430, -30.5657, 5138,   3399.0,   2.5400,  34.9010,2,  34.9020,2,    248.1,2,    248.0,2,    40.00,2,    22.20,2,     1.44,2,    0.001,2,    0.001,2, -999.000,9,-999.0000,9,  -999.00,9,   -999.0,9,   -999.0,9,     8.01,2,  2.2580
 3230CITHER2_2,  A17N,   143,  1,     10,     10,2,19940223,1210,-12.9430, -30.5657, 5138,   3647.7,   2.3830,  34.8890,2,  34.8910,2,    250.0,2,    249.0,2,    43.60,2,    22.44,2,     1.46,2,    0.002,2,    0.009,2, -999.000,9,-999.0000,9,  -999.00,9,   -999.0,9,   -999.0,9,     8.00,2,  2.0780
 3230CITHER2_2,  A17N,   143,  1,      9,      9,2,19940223,1210,-12.9430, -30.5657, 5138,   3847.8,   2.1560,  34.8700,2,  34.8680,2,    248.5,2,    245.0,2,    51.50,2,    23.30,2,     1.53,2,   -0.002,2,   -0.001,2, -999.000,9,-999.0000,9,  -999.00,9,   -999.0,9,   -999.0,9,     7.99,2,  1.8350
 3230CITHER2_2,  A17N,   143,  1,      8,      8,2,19940223,1210,-12.9430, -30.5657, 5138,   3998.7,   1.9190,  34.8450,2,  34.8430,2,    244.4,2,    243.3,2,    61.40,2,    24.72,2,     1.62,2,    0.005,2,    0.006,2, -999.000,9,-999.0000,9,  -999.00,9,   -999.0,9,   -999.0,9,     7.98,2,  1.5870
 3230CITHER2_2,  A17N,   143,  1,      7,      7,2,19940223,1210,-12.9430, -30.5657, 5138,   4198.7,   1.5470,  34.8040,2,  34.8050,2,    238.2,2,    237.2,2,    78.10,2,    26.82,2,     1.77,2,    0.001,2,    0.001,2, -999.000,9,-999.0000,9,  -999.00,9,   -999.0,9,   -999.0,9,     7.96,2,  1.2040
 3230CITHER2_2,  A17N,   143,  1,      6,      6,2,19940223,1210,-12.9430, -30.5657, 5138,   4398.6,   1.2890,  34.7790,2,  34.7750,2,    233.0,2,    232.7,2,    88.80,2,    28.36,2,     1.89,2,    0.000,2,    0.002,2, -999.000,9,-999.0000,9,  -999.00,9,   -999.0,9,   -999.0,9,     7.95,2,  0.9310
 3230CITHER2_2,  A17N,   143,  1,      5,      5,2,19940223,1210,-12.9430, -30.5657, 5138,   4598.1,   1.0500,  34.7470,2,  34.7480,2,    228.5,2,    228.4,2,    99.40,2,    29.78,2,     1.98,2,    0.012,2,    0.009,2, -999.000,9,-999.0000,9,  -999.00,9,   -999.0,9,   -999.0,9,     7.93,2,  0.6770
 3230CITHER2_2,  A17N,   143,  1,      4,      4,2,19940223,1210,-12.9430, -30.5657, 5138,   4798.8,   0.8240,  34.7230,2,  34.7250,2,    225.1,2,    224.7,2,   109.10,2,    31.13,2,     2.09,2,    0.020,2,    0.009,2, -999.000,9,-999.0000,9,  -999.00,9,   -999.0,9,   -999.0,9,     7.91,2,  0.4360
 3230CITHER2_2,  A17N,   143,  1,      3,      3,2,19940223,1210,-12.9430, -30.5657, 5138,   4998.5,   0.6680,  34.7080,2,  34.7100,2,    222.8,2,    222.5,2,   115.00,2,    32.03,2,     2.14,2,    0.029,2,    0.019,2, -999.000,9,-999.0000,9,  -999.00,9,   -999.0,9,   -999.0,9,     7.90,2,  0.2620
 3230CITHER2_2,  A17N,   143,  1,      2,      2,2,19940223,1210,-12.9430, -30.5657, 5138,   5116.5,   0.6050,  34.7000,2,  34.7030,2,    221.8,2,    221.7,2,   118.00,2,    32.39,2,     2.17,2,    0.045,2,    0.030,2, -999.000,9,-999.0000,9,  -999.00,9,   -999.0,9,   -999.0,9,     7.90,2,  0.1870
 3230CITHER2_2,  A17N,   143,  1,      1,      1,2,19940223,1210,-12.9430, -30.5657, 5138,   5216.3,   0.5700,  34.6960,2,  34.6980,2,    221.1,2,    221.1,2,   119.80,2,    32.49,2,     2.19,2,    0.046,2,    0.030,2, -999.000,9,-999.0000,9,  -999.00,9,   -999.0,9,   -999.0,9,     7.89,2,  0.1420