BOTTLE,20030515WHPSIOSA
EXPOCODE,SECT_ID,STNNBR,CASTNO,SAMPNO,BTLNBR,BTLNBR_FLAG_W,DATE,TIME,LATITUDE,LONGITUDE,DEPTH,CTDPRS,CTDTMP,CTDSAL,CTDSAL_FLAG_W,SALNTY,SALNTY_FLAG_W,CTDOXY,CTDOXY_FLAG_W,OXYGEN,OXYGEN_FLAG_W,SILCAT,SILCAT_FLAG_W,NITRAT,NITRAT_FLAG_W,PHSPHT,PHSPHT_FLAG_W,CFC-11,CFC-11_FLAG_W,CFC-12,CFC-12_FLAG_W,TRITUM,TRITUM_FLAG_W,HELIUM,HELIUM_FLAG_W,DELHE3,DELHE3_FLAG_W,TCARBN,TCARBN_FLAG_W,ALKALI,ALKALI_FLAG_W,PH,PH_FLAG_W,THETA
,,,,,,,,,,,,DBAR,ITS-90,PSS-78,,PSS-78,,UMOL/KG,,UMOL/KG,,UMOL/KG,,UMOL/KG,,UMOL/KG,,PMOL/KG,,PMOL/KG,,TU,,NMOL/KG,,PERCNT,,UMOL/KG,,UMOL/KG,,,,DEG C
 3230CITHER2_2,  A17N,   123,  1,     28,     28,2,19940218,1817,-12.5730, -37.3408, 3017,      4.3,  28.7930,  37.1570,2,  37.1580,2,    197.3,2,    198.3,2,     1.50,2,     0.04,2,     0.04,2,    1.653,2,    0.952,2,    0.760,2,-999.0000,9,  -999.00,9,   2051.9,2,   -999.0,9,     8.40,2, 28.7920
 3230CITHER2_2,  A17N,   123,  1,     27,     27,2,19940218,1817,-12.5730, -37.3408, 3017,     41.2,  27.7290,  37.1930,2,  37.1830,2,    200.6,2,    206.0,2,     1.20,2,     0.04,2,     0.05,2,    1.698,2,    1.000,2, -999.000,9,-999.0000,9,  -999.00,9,   2061.8,2,   -999.0,9,     8.40,2, 27.7190
 3230CITHER2_2,  A17N,   123,  1,     26,     26,2,19940218,1817,-12.5730, -37.3408, 3017,     60.9,  26.2840,  37.2650,2,  37.2100,2,    211.0,2,    211.3,2,     1.10,2,     0.04,2,     0.07,2,    1.771,2,    1.022,2, -999.000,9,-999.0000,9,  -999.00,9,   2064.3,2,   -999.0,9,     8.38,2, 26.2700
 3230CITHER2_2,  A17N,   123,  1,     25,     25,2,19940218,1817,-12.5730, -37.3408, 3017,    102.3,  23.7070,  37.0090,2,  37.0200,2,    205.2,2,    199.0,2,     1.10,2,     0.17,2,     0.19,2,    1.938,2,    1.102,2,    0.730,2,-999.0000,9,  -999.00,9,   2094.0,2,   -999.0,9,     8.33,2, 23.6850
 3230CITHER2_2,  A17N,   123,  1,     24,     24,2,19940218,1817,-12.5730, -37.3408, 3017,    129.1,  21.8130,  36.6450,2,  36.6500,2,    195.2,2,    192.0,2,     1.30,2,     0.90,2,     0.30,2,    2.021,2,    1.142,2,    0.740,2,-999.0000,9,  -999.00,9,   2104.4,2,   -999.0,9,     8.28,2, 21.7870
 3230CITHER2_2,  A17N,   123,  1,     23,     23,2,19940218,1817,-12.5730, -37.3408, 3017,    300.9,  13.1430,  35.2010,2,  35.1920,2,    191.8,2,    195.1,2,     4.60,2,    12.15,2,     0.89,2,    2.001,2,    1.066,2,    0.610,2,-999.0000,9,  -999.00,9,   2113.0,2,   -999.0,9,     8.13,2, 13.1010
 3230CITHER2_2,  A17N,   123,  1,     22,     22,2,19940218,1817,-12.5730, -37.3408, 3017,    401.3,   9.9890,  34.8270,2,  34.8180,2,    190.4,2,    186.8,2,     9.10,2,    19.97,2,     1.38,2,    1.459,2,    0.770,2,    0.370,2,-999.0000,9,  -999.00,9,   2144.8,2,   -999.0,9,     8.02,2,  9.9420
 3230CITHER2_2,  A17N,   123,  1,     21,     21,2,19940218,1817,-12.5730, -37.3408, 3017,    501.2,   7.4100,  34.6090,2,  34.5990,2,    157.8,2,    162.5,2,    16.40,2,    28.57,2,     1.92,2,    0.633,2,    0.349,2, -999.000,9,-999.0000,9,  -999.00,9,   2182.4,2,   -999.0,9,     7.92,2,  7.3610
 3230CITHER2_2,  A17N,   123,  1,     20,     20,2,19940218,1817,-12.5730, -37.3408, 3017,    601.7,   5.4250,  34.4210,2,  34.4200,2,    198.7,2,    189.7,2,    22.90,2,    30.93,2,     2.08,2,    0.648,2,    0.347,2,    0.070,2,-999.0000,9,  -999.00,9,   2186.9,2,   -999.0,9,     7.91,2,  5.3750
 3230CITHER2_2,  A17N,   123,  1,     18,     18,2,19940218,1817,-12.5730, -37.3408, 3017,    699.5,   4.4310,  34.3950,2,  34.3940,2,    196.0,2,    189.5,2,    29.70,2,    32.75,2,     2.21,2,    0.327,2,    0.190,2, -999.000,9,-999.0000,9,  -999.00,9,   2205.0,2,   -999.0,9,     7.89,2,  4.3770
 3230CITHER2_2,  A17N,   123,  1,     19,     19,2,19940218,1817,-12.5730, -37.3408, 3017,    699.7,   4.4990,  34.4010,2,  34.3910,2,    196.0,2,    190.3,2,    29.80,2,    32.80,2,     2.21,2,    0.336,2,    0.188,2, -999.000,9,-999.0000,9,  -999.00,9,   -999.0,5,   -999.0,9,     7.89,2,  4.4450
 3230CITHER2_2,  A17N,   123,  1,     17,     17,2,19940218,1817,-12.5730, -37.3408, 3017,    783.7,   4.0750,  34.4020,2,  34.3980,2,    195.3,2,    192.1,2,    33.90,2,    33.13,2,     2.24,2,    0.291,2,    0.162,2,    0.030,2,-999.0000,9,  -999.00,9,   2203.9,2,   -999.0,9,     7.88,2,  4.0170
 3230CITHER2_2,  A17N,   123,  1,     16,     16,2,19940218,1817,-12.5730, -37.3408, 3017,   1001.3,   3.8050,  34.5640,2,  34.5710,2,    181.4,2,    178.7,2,    36.90,2,    32.92,2,     2.21,2,    0.037,2,    0.025,2,    0.000,2,-999.0000,9,  -999.00,9,   2214.9,2,   -999.0,9,     7.88,2,  3.7310
 3230CITHER2_2,  A17N,   123,  1,     15,     15,2,19940218,1817,-12.5730, -37.3408, 3017,   1101.8,   4.2100,  34.7000,2,  34.6990,2,    177.8,2,    176.0,2,    35.30,2,    31.43,2,     2.10,2,    0.010,2,    0.008,2, -999.000,9,-999.0000,9,  -999.00,9,   -999.0,9,   -999.0,9,     7.88,2,  4.1240
 3230CITHER2_2,  A17N,   123,  1,     14,     14,2,19940218,1817,-12.5730, -37.3408, 3017,   1201.5,   4.2370,  34.7760,2,  34.7750,2,    186.4,2,    185.6,2,    28.20,2,    29.33,2,     1.97,2,    0.011,2,    0.011,2, -999.000,9,-999.0000,9,  -999.00,9,   -999.0,9,   -999.0,9,     7.91,2,  4.1420
 3230CITHER2_2,  A17N,   123,  1,     13,     13,2,19940218,1817,-12.5730, -37.3408, 3017,   1401.3,   4.3710,  34.9160,2,  34.9140,2,    212.7,2,    211.4,2,    21.40,2,    24.27,2,     1.65,2,    0.044,2,    0.032,2,    0.080,2,-999.0000,9,  -999.00,9,   -999.0,9,   -999.0,9,     7.96,2,  4.2560
 3230CITHER2_2,  A17N,   123,  1,     12,     12,2,19940218,1817,-12.5730, -37.3408, 3017,   1501.2,   4.3000,  34.9380,2,  34.9360,2,    219.3,2,    219.6,2,    20.30,2,    23.26,2,     1.57,2,    0.043,2,    0.027,2, -999.000,9,-999.0000,9,  -999.00,9,   -999.0,9,   -999.0,9,     7.97,2,  4.1760
 3230CITHER2_2,  A17N,   123,  1,     11,     11,2,19940218,1817,-12.5730, -37.3408, 3017,   1601.2,   4.2090,  34.9630,2,  34.9620,2,    231.3,2,    230.3,2,    18.90,2,    22.06,2,     1.48,2,    0.059,2,    0.039,2, -999.000,9,-999.0000,9,  -999.00,9,   -999.0,9,   -999.0,9,     7.99,2,  4.0770
 3230CITHER2_2,  A17N,   123,  1,     10,     10,2,19940218,1817,-12.5730, -37.3408, 3017,   1701.8,   4.1000,  34.9760,2,  34.9780,2,    239.0,2,    238.3,2,    18.30,2,    21.29,2,     1.41,2,    0.068,2,    0.044,2, -999.000,9,-999.0000,9,  -999.00,9,   -999.0,9,   -999.0,9,     8.00,2,  3.9600
 3230CITHER2_2,  A17N,   123,  1,      9,      9,2,19940218,1817,-12.5730, -37.3408, 3017,   1801.9,   3.9620,  34.9780,2,  34.9780,2,    245.8,2,    244.2,2,    18.40,2,    20.69,2,     1.38,2,    0.067,2,    0.038,2, -999.000,9,-999.0000,9,  -999.00,9,   -999.0,9,   -999.0,9,     8.01,2,  3.8140
 3230CITHER2_2,  A17N,   123,  1,      8,      8,2,19940218,1817,-12.5730, -37.3408, 3017,   1901.0,   3.8630,  34.9800,2,  34.9770,2,    249.7,2,    247.5,2,    18.30,2,    20.39,2,     1.35,2,    0.064,2,    0.047,2, -999.000,9,-999.0000,9,  -999.00,9,   -999.0,9,   -999.0,9,     8.01,2,  3.7070
 3230CITHER2_2,  A17N,   123,  1,      7,      7,2,19940218,1817,-12.5730, -37.3408, 3017,   1997.0,   3.7600,  34.9780,2,  34.9800,2,    251.8,2,    249.9,2,    18.90,2,    20.13,2,     1.34,2,    0.056,2,    0.039,2, -999.000,9,-999.0000,9,  -999.00,9,   -999.0,9,   -999.0,9,     8.01,2,  3.5960
 3230CITHER2_2,  A17N,   123,  1,      6,      6,2,19940218,1817,-12.5730, -37.3408, 3017,   2200.3,   3.5280,  34.9720,2,  34.9720,2,    254.0,2,    252.9,2,    20.60,2,    19.96,2,     1.32,2,    0.047,2,    0.031,2, -999.000,9,-999.0000,9,  -999.00,9,   -999.0,9,   -999.0,9,     8.01,2,  3.3480
 3230CITHER2_2,  A17N,   123,  1,      5,      5,2,19940218,1817,-12.5730, -37.3408, 3017,   2399.0,   3.3430,  34.9600,2,  34.9590,2,    254.8,2,    252.6,2,    23.30,2,    20.23,2,     1.35,2,    0.029,2,    0.021,2, -999.000,9,-999.0000,9,  -999.00,9,   -999.0,9,   -999.0,9,     8.01,2,  3.1470
 3230CITHER2_2,  A17N,   123,  1,      4,      4,2,19940218,1817,-12.5730, -37.3408, 3017,   2598.6,   3.1530,  34.9490,2,  34.9490,2,    253.6,2,    252.2,2,    26.30,2,    20.53,2,     1.36,2,    0.022,2,    0.017,2, -999.000,9,-999.0000,9,  -999.00,9,   -999.0,9,   -999.0,9,     8.01,2,  2.9400
 3230CITHER2_2,  A17N,   123,  1,      3,      3,2,19940218,1817,-12.5730, -37.3408, 3017,   2799.7,   2.8810,  34.9370,2,  34.9350,2,    253.7,2,    252.7,2,    30.20,2,    20.79,2,     1.39,2,    0.020,2,    0.015,2, -999.000,9,-999.0000,9,  -999.00,9,   -999.0,9,   -999.0,9,     8.01,2,  2.6530
 3230CITHER2_2,  A17N,   123,  1,      2,      2,2,19940218,1817,-12.5730, -37.3408, 3017,   2899.0,   2.7800,  34.9310,2,  34.9330,2,    252.9,2,    252.9,2,    31.50,2,    20.88,2,     1.40,2,    0.020,2,    0.013,2, -999.000,9,-999.0000,9,  -999.00,9,   -999.0,9,   -999.0,9,     8.01,2,  2.5440
 3230CITHER2_2,  A17N,   123,  1,      1,      1,2,19940218,1817,-12.5730, -37.3408, 3017,   3026.1,   2.7130,  34.9260,2,  34.9310,2,    247.6,2,    253.5,2,    32.30,2,    20.88,2,     1.40,2,    0.018,2,    0.013,2, -999.000,9,-999.0000,9,  -999.00,9,   -999.0,9,   -999.0,9,     8.01,2,  2.4660
 3230CITHER2_2,  A17N,   124,  1,     32,     32,2,19940219,0015,-12.7155, -37.1328, 3519,      3.5,  28.6860,  37.1950,2,  37.1970,2,    199.4,2,    198.3,2,     1.30,2,     0.04,2,     0.03,2, -999.000,5, -999.000,5, -999.000,9,-999.0000,9,  -999.00,9,   -999.0,5,   2448.1,2,     8.41,2, 28.6850
 3230CITHER2_2,  A17N,   124,  1,     31,     31,2,19940219,0015,-12.7155, -37.1328, 3519,      3.6,  28.6860,  37.1950,2,  37.1980,2,    199.4,2,    198.5,2,     1.30,2,     0.04,2,     0.03,2, -999.000,5, -999.000,5, -999.000,9,-999.0000,9,  -999.00,9,   2046.3,2,   2448.1,2,     8.41,2, 28.6850
 3230CITHER2_2,  A17N,   124,  1,     30,     30,2,19940219,0015,-12.7155, -37.1328, 3519,     31.0,  28.5730,  37.1810,2,  37.1860,2,    195.3,2,    197.9,2,     1.40,2,     0.04,2,     0.03,2, -999.000,5, -999.000,5, -999.000,9,-999.0000,9,  -999.00,9,   2046.9,2,   2446.7,2,     8.40,2, 28.5660
 3230CITHER2_2,  A17N,   124,  1,     29,     29,2,19940219,0015,-12.7155, -37.1328, 3519,     75.0,  26.7270,  37.1640,2,  37.1330,2,    193.4,2,    194.2,2,     1.00,2,     0.04,2,     0.08,2, -999.000,5, -999.000,5, -999.000,9,-999.0000,9,  -999.00,9,   2061.2,2,   2447.1,2,     8.38,2, 26.7100
 3230CITHER2_2,  A17N,   124,  1,     28,     28,2,19940219,0015,-12.7155, -37.1328, 3519,    101.7,  25.0630,  37.2550,2,  37.2520,2,    205.4,2,    200.4,2,     1.00,2,     0.08,2,     0.13,2, -999.000,5, -999.000,5, -999.000,9,-999.0000,9,  -999.00,9,   2087.3,2,   2455.9,2,     8.35,2, 25.0410
 3230CITHER2_2,  A17N,   124,  1,     27,     27,2,19940219,0015,-12.7155, -37.1328, 3519,    150.0,  21.7140,  36.6400,2,  36.6470,2,    200.9,2,    196.7,2,     1.30,2,     0.56,2,     0.26,2, -999.000,5, -999.000,5, -999.000,9,-999.0000,9,  -999.00,9,   2095.8,2,   2419.2,2,     8.29,2, 21.6840
 3230CITHER2_2,  A17N,   124,  1,     26,     26,2,19940219,0015,-12.7155, -37.1328, 3519,    200.9,  17.3450,  35.9090,2,  35.8500,2,    193.2,2,    190.4,2,     2.40,2,     4.61,2,     0.52,2, -999.000,5, -999.000,5, -999.000,9,-999.0000,9,  -999.00,9,   2091.9,2,   2367.0,2,     8.21,2, 17.3110
 3230CITHER2_2,  A17N,   124,  1,     25,     25,2,19940219,0015,-12.7155, -37.1328, 3519,    250.3,  14.6850,  35.4320,2,  35.4510,2,    175.6,2,    173.8,2,     4.20,2,    11.33,2,     0.88,2, -999.000,5, -999.000,5, -999.000,9,-999.0000,9,  -999.00,9,   2120.5,2,   2345.2,2,     8.13,2, 14.6470
 3230CITHER2_2,  A17N,   124,  1,     24,     24,2,19940219,0015,-12.7155, -37.1328, 3519,    300.9,  12.7760,  35.1870,2,  35.1980,2,    152.0,2,    153.4,2,     6.30,2,    17.11,2,     1.21,2, -999.000,5, -999.000,5, -999.000,9,-999.0000,9,  -999.00,9,   2144.8,2,   2329.0,2,     8.05,2, 12.7350
 3230CITHER2_2,  A17N,   124,  1,     23,     23,2,19940219,0015,-12.7155, -37.1328, 3519,    400.7,   9.9180,  34.8490,2,  34.8470,2,    151.5,2,    152.2,2,    10.80,2,    23.28,2,     1.62,2, -999.000,5, -999.000,5, -999.000,9,-999.0000,9,  -999.00,9,   2169.0,2,   2317.5,2,     7.96,2,  9.8710
 3230CITHER2_2,  A17N,   124,  1,     22,     22,2,19940219,0015,-12.7155, -37.1328, 3519,    500.7,   6.8680,  34.5310,2,  34.5450,2,    172.1,2,    172.0,2,    17.50,2,    28.49,2,     1.96,2,    0.642,2,    0.345,2, -999.000,9,-999.0000,9,  -999.00,9,   2181.9,2,   2309.4,2,     7.92,2,  6.8210
 3230CITHER2_2,  A17N,   124,  1,     21,     21,2,19940219,0015,-12.7155, -37.1328, 3519,    600.5,   5.1870,  34.4110,2,  34.4150,2,    187.9,2,    188.3,2,    24.10,2,    30.70,2,     2.12,2,    0.514,2,    0.280,2, -999.000,9,-999.0000,9,  -999.00,9,   2188.9,2,   2310.5,2,     7.89,2,  5.1380
 3230CITHER2_2,  A17N,   124,  1,     20,     20,2,19940219,0015,-12.7155, -37.1328, 3519,    700.4,   4.6100,  34.4280,2,  34.4270,2,    173.2,2,    171.8,2,    29.60,2,    33.49,2,     2.31,2,    0.209,2,    0.119,2, -999.000,9,-999.0000,9,  -999.00,9,   2207.8,2,   2314.9,2,     7.86,2,  4.5550
 3230CITHER2_2,  A17N,   124,  1,     19,     19,2,19940219,0015,-12.7155, -37.1328, 3519,    799.7,   4.0880,  34.4460,2,  34.4390,2,    179.4,2,    178.8,2,    34.40,2,    33.28,2,     2.31,2,    0.134,2,    0.076,2, -999.000,9,-999.0000,9,  -999.00,9,   2206.9,2,   2320.6,2,     7.86,2,  4.0280
 3230CITHER2_2,  A17N,   124,  1,     18,     18,2,19940219,0015,-12.7155, -37.1328, 3519,    860.1,   3.7180,  34.4500,2,  34.4470,2,    188.6,2,    187.2,2,    38.20,2,    32.64,2,     2.27,2,    0.131,2,    0.074,2, -999.000,9,-999.0000,9,  -999.00,9,   2212.3,2,   2323.1,2,     7.87,2,  3.6560
 3230CITHER2_2,  A17N,   124,  1,     17,     17,2,19940219,0015,-12.7155, -37.1328, 3519,   1001.4,   3.9500,  34.6250,2,  34.6200,2,    179.0,2,    177.5,2,    34.60,2,    31.47,2,     2.18,2,    0.019,2,    0.008,2, -999.000,9,-999.0000,9,  -999.00,9,   2214.9,2,   2326.2,2,     7.87,2,  3.8740
 3230CITHER2_2,  A17N,   124,  1,     16,     16,2,19940219,0015,-12.7155, -37.1328, 3519,   1199.5,   4.2980,  34.8190,2,  34.8160,2,    189.7,2,    191.7,2,    26.00,2,    27.28,2,     1.87,2,    0.013,2,    0.005,2, -999.000,9,-999.0000,9,  -999.00,9,   2199.6,2,   2328.5,2,     7.92,2,  4.2020
 3230CITHER2_2,  A17N,   124,  1,     15,     15,2,19940219,0015,-12.7155, -37.1328, 3519,   1399.7,   4.3420,  34.9270,2,  34.9290,2,    215.4,2,    219.2,2,    20.60,2,    23.52,2,     1.60,2,    0.043,2,    0.030,2, -999.000,9,-999.0000,9,  -999.00,9,   2184.7,2,   2331.1,2,     7.96,2,  4.2270
 3230CITHER2_2,  A17N,   124,  1,     14,     14,2,19940219,0015,-12.7155, -37.1328, 3519,   1499.4,   4.2580,  34.9530,2,  34.9520,2,    226.0,2,    226.0,2,    19.10,2,    22.05,2,     1.51,2,    0.063,2,    0.034,2, -999.000,9,-999.0000,9,  -999.00,9,   2178.1,2,   2330.2,2,     7.98,2,  4.1350
 3230CITHER2_2,  A17N,   124,  1,     13,     13,2,19940219,0015,-12.7155, -37.1328, 3519,   1600.4,   4.1420,  34.9670,2,  34.9690,2,    234.0,2,    234.8,2,    18.40,2,    21.06,2,     1.45,2,    0.059,2,    0.037,2, -999.000,9,-999.0000,9,  -999.00,9,   2173.2,2,   2329.9,2,     7.99,2,  4.0110
 3230CITHER2_2,  A17N,   124,  1,     12,     12,2,19940219,0015,-12.7155, -37.1328, 3519,   1700.2,   4.0210,  34.9730,2,  34.9720,2,    241.1,2,    241.2,2,    18.00,2,    20.33,2,     1.39,2,    0.069,2,    0.041,2, -999.000,9,-999.0000,9,  -999.00,9,   2169.4,2,   2330.0,2,     8.00,2,  3.8820
 3230CITHER2_2,  A17N,   124,  1,     11,     11,2,19940219,0015,-12.7155, -37.1328, 3519,   1801.0,   3.9170,  34.9760,2,  34.9800,2,    246.9,2,    248.9,2,    17.90,2,    19.95,2,     1.36,2,    0.067,2,    0.043,2, -999.000,9,-999.0000,9,  -999.00,9,   2168.6,2,   2331.8,2,     8.00,2,  3.7700
 3230CITHER2_2,  A17N,   124,  1,     10,     10,2,19940219,0015,-12.7155, -37.1328, 3519,   1900.3,   3.8220,  34.9770,2,  34.9800,2,    250.3,2,    250.3,2,    18.30,2,    19.73,2,     1.34,2,    0.063,2,    0.037,2, -999.000,9,-999.0000,9,  -999.00,9,   2167.6,2,   2331.8,2,     8.01,2,  3.6670
 3230CITHER2_2,  A17N,   124,  1,      9,      9,2,19940219,0015,-12.7155, -37.1328, 3519,   2000.0,   3.7060,  34.9750,2,  34.9780,2,    252.7,2,    250.9,2,    18.90,2,    19.60,2,     1.33,2,    0.058,2,    0.031,2, -999.000,9,-999.0000,9,  -999.00,9,   2167.8,2,   2331.2,2,     8.01,2,  3.5430
 3230CITHER2_2,  A17N,   124,  1,      8,      8,2,19940219,0015,-12.7155, -37.1328, 3519,   2200.1,   3.5670,  34.9700,2,  34.9690,2,    254.5,2,    252.5,2,    20.00,2,    19.56,2,     1.32,2,    0.050,2,    0.027,2, -999.000,9,-999.0000,9,  -999.00,9,   2167.6,2,   2333.2,2,     8.01,2,  3.3870
 3230CITHER2_2,  A17N,   124,  1,      7,      7,2,19940219,0015,-12.7155, -37.1328, 3519,   2399.9,   3.3960,  34.9600,2,  34.9620,2,    254.3,2,    253.2,2,    22.20,2,    19.65,2,     1.34,2,    0.032,2,    0.020,2, -999.000,9,-999.0000,9,  -999.00,9,   2168.8,2,   2336.1,2,     8.01,2,  3.1990
 3230CITHER2_2,  A17N,   124,  1,      6,      6,2,19940219,0015,-12.7155, -37.1328, 3519,   2599.5,   3.2660,  34.9530,2,  34.9560,2,    254.2,2,    252.8,2,    24.20,2,    19.92,2,     1.35,2,    0.029,2,    0.017,2, -999.000,9,-999.0000,9,  -999.00,9,   2170.9,2,   2339.3,2,     8.01,2,  3.0510
 3230CITHER2_2,  A17N,   124,  1,      5,      5,2,19940219,0015,-12.7155, -37.1328, 3519,   2798.0,   3.1170,  34.9450,2,  34.9460,2,    254.2,2,    253.3,2,    26.40,2,    20.09,2,     1.36,2,    0.022,2,    0.015,2, -999.000,9,-999.0000,9,  -999.00,9,   2172.5,2,   2339.8,2,     8.01,2,  2.8850
 3230CITHER2_2,  A17N,   124,  1,      4,      4,2,19940219,0015,-12.7155, -37.1328, 3519,   2996.6,   2.9250,  34.9320,2,  34.9350,2,    253.4,2,    251.9,2,    30.00,2,    20.39,2,     1.39,2,    0.019,2,    0.013,2, -999.000,9,-999.0000,9,  -999.00,9,   2176.0,2,   2342.7,2,     8.01,2,  2.6760
 3230CITHER2_2,  A17N,   124,  1,      3,      3,2,19940219,0015,-12.7155, -37.1328, 3519,   3196.1,   2.8010,  34.9270,2,  34.9300,2,    254.1,2,    253.2,2,    31.40,2,    20.53,2,     1.39,2,    0.018,2,    0.016,2, -999.000,9,-999.0000,9,  -999.00,9,   2177.3,2,   2343.9,2,     8.01,2,  2.5340
 3230CITHER2_2,  A17N,   124,  1,      2,      2,2,19940219,0015,-12.7155, -37.1328, 3519,   3398.5,   2.5430,  34.9120,2,  34.9140,2,    256.3,2,    255.1,2,    35.00,2,    20.61,2,     1.40,2,    0.020,2,    0.012,2, -999.000,9,-999.0000,9,  -999.00,9,   2179.8,2,   2346.7,2,     8.01,2,  2.2600
 3230CITHER2_2,  A17N,   124,  1,      1,      1,2,19940219,0015,-12.7155, -37.1328, 3519,   3534.0,   2.4040,  34.8990,2,  34.9010,2,    254.9,2,    253.8,2,    39.00,2,    21.14,2,     1.44,2,    0.017,2,    0.012,2, -999.000,9,-999.0000,9,  -999.00,9,   2183.4,2,   2347.7,2,     8.00,2,  2.1100