BOTTLE,20030515WHPSIOSA
EXPOCODE,SECT_ID,STNNBR,CASTNO,SAMPNO,BTLNBR,BTLNBR_FLAG_W,DATE,TIME,LATITUDE,LONGITUDE,DEPTH,CTDPRS,CTDTMP,CTDSAL,CTDSAL_FLAG_W,SALNTY,SALNTY_FLAG_W,CTDOXY,CTDOXY_FLAG_W,OXYGEN,OXYGEN_FLAG_W,SILCAT,SILCAT_FLAG_W,NITRAT,NITRAT_FLAG_W,PHSPHT,PHSPHT_FLAG_W,CFC-11,CFC-11_FLAG_W,CFC-12,CFC-12_FLAG_W,TRITUM,TRITUM_FLAG_W,HELIUM,HELIUM_FLAG_W,DELHE3,DELHE3_FLAG_W,TCARBN,TCARBN_FLAG_W,ALKALI,ALKALI_FLAG_W,PH,PH_FLAG_W,THETA
,,,,,,,,,,,,DBAR,ITS-90,PSS-78,,PSS-78,,UMOL/KG,,UMOL/KG,,UMOL/KG,,UMOL/KG,,UMOL/KG,,PMOL/KG,,PMOL/KG,,TU,,NMOL/KG,,PERCNT,,UMOL/KG,,UMOL/KG,,,,DEG C
 3230CITHER2_2,  A17N,   197,  1,     32,     32,2,19940311,0111,  6.2513, -42.4893, 4707,     18.1,  26.6740,  35.9940,2,  35.9930,2,    201.6,2,    200.2,2,     1.50,2,     0.00,2,     0.05,2,    1.725,2,    0.980,2, -999.000,9,-999.0000,9,  -999.00,9,   -999.0,9,   -999.0,9,     8.38,2, 26.6700
 3230CITHER2_2,  A17N,   197,  1,     31,     31,2,19940311,0111,  6.2513, -42.4893, 4707,     51.2,  26.6760,  35.9940,2,  35.9950,2,    200.9,2,    200.2,2,     1.50,2,     0.00,2,     0.05,2,    1.721,2,    0.975,2, -999.000,9,-999.0000,9,  -999.00,9,   -999.0,9,   -999.0,9,     8.38,2, 26.6640
 3230CITHER2_2,  A17N,   197,  1,     30,     30,2,19940311,0111,  6.2513, -42.4893, 4707,    110.2,  23.5010,  36.0070,2,  36.0120,2,    202.0,2,    157.2,2,     2.80,2,     4.51,2,     0.40,2,    1.583,2,    0.883,2, -999.000,9,-999.0000,9,  -999.00,9,   -999.0,9,   -999.0,9,     8.26,2, 23.4780
 3230CITHER2_2,  A17N,   197,  1,     29,     29,2,19940311,0111,  6.2513, -42.4893, 4707,    200.7,  11.2230,  35.1240,2,  35.1380,2,    122.1,2,    115.3,2,    11.30,2,    24.26,2,     1.62,2,    0.839,2,    0.456,2, -999.000,9,-999.0000,9,  -999.00,9,   -999.0,9,   -999.0,9,     7.96,2, 11.1980
 3230CITHER2_2,  A17N,   197,  1,     28,     28,2,19940311,0111,  6.2513, -42.4893, 4707,    301.3,   9.1020,  34.8530,2,  34.8500,2,    117.0,2,    118.3,2,    15.20,2,    28.58,2,     1.87,2,    0.516,2,    0.277,2, -999.000,9,-999.0000,9,  -999.00,9,   -999.0,9,   -999.0,9,     7.91,2,  9.0690
 3230CITHER2_2,  A17N,   197,  1,     27,     27,2,19940311,0111,  6.2513, -42.4893, 4707,    400.1,   8.2200,  34.7660,2,  34.7610,2,    123.3,2,    119.1,2,    17.40,2,    30.42,2,     2.00,2,    0.367,2,    0.199,2, -999.000,9,-999.0000,9,  -999.00,9,   -999.0,9,   -999.0,9,     7.89,2,  8.1780
 3230CITHER2_2,  A17N,   197,  1,     26,     26,2,19940311,0111,  6.2513, -42.4893, 4707,    600.9,   6.4580,  34.6130,2,  34.6110,2,    129.5,2,    127.8,2,    23.00,2,    33.10,2,     2.21,2,    0.152,2,    0.084,2, -999.000,9,-999.0000,9,  -999.00,9,   -999.0,9,   -999.0,9,     7.85,2,  6.4030
 3230CITHER2_2,  A17N,   197,  1,     25,     25,2,19940311,0111,  6.2513, -42.4893, 4707,    801.0,   5.6480,  34.6300,2,  34.6300,2,    127.6,2,    126.1,2,    27.00,2,    34.32,2,     2.31,2,    0.067,2,    0.037,2, -999.000,9,-999.0000,9,  -999.00,9,   -999.0,9,   -999.0,9,     7.84,2,  5.5780
 3230CITHER2_2,  A17N,   197,  1,     24,     24,2,19940311,0111,  6.2513, -42.4893, 4707,    999.1,   4.9150,  34.7040,2,  34.7030,2,    150.6,2,    151.6,2,    28.60,2,    32.04,2,     2.18,2,    0.030,2,    0.018,2, -999.000,9,-999.0000,9,  -999.00,9,   -999.0,9,   -999.0,9,     7.88,2,  4.8320
 3230CITHER2_2,  A17N,   197,  1,     23,     23,2,19940311,0111,  6.2513, -42.4893, 4707,   1200.4,   4.8510,  34.8930,2,  34.8900,2,    178.2,2,    184.3,2,    23.20,2,    26.37,2,     1.78,2,    0.038,2,    0.020,2, -999.000,9,-999.0000,9,  -999.00,9,   -999.0,9,   -999.0,9,     7.95,2,  4.7500
 3230CITHER2_2,  A17N,   197,  1,     22,     22,2,19940311,0111,  6.2513, -42.4893, 4707,   1400.1,   4.5140,  34.9600,2,  34.9590,2,    213.4,2,    215.1,2,    19.50,2,    22.63,2,     1.52,2,    0.050,2,    0.028,2, -999.000,9,-999.0000,9,  -999.00,9,   -999.0,9,   -999.0,9,     7.99,2,  4.3970
 3230CITHER2_2,  A17N,   197,  1,     21,     21,2,19940311,0111,  6.2513, -42.4893, 4707,   1501.5,   4.3480,  34.9810,2,  34.9800,2,    226.6,2,    229.9,2,    18.00,2,    21.19,2,     1.41,2,    0.068,2,    0.041,2, -999.000,9,-999.0000,9,  -999.00,9,   -999.0,9,   -999.0,9,     8.01,2,  4.2240
 3230CITHER2_2,  A17N,   197,  1,     20,     20,2,19940311,0111,  6.2513, -42.4893, 4707,   1600.2,   4.1410,  34.9850,2,  34.9840,2,    238.0,2,    239.1,2,    17.60,2,    20.34,2,     1.35,2,    0.060,2,    0.036,2, -999.000,9,-999.0000,9,  -999.00,9,   -999.0,9,   -999.0,9,     8.01,2,  4.0100
 3230CITHER2_2,  A17N,   197,  1,     19,     19,2,19940311,0111,  6.2513, -42.4893, 4707,   1699.5,   3.9180,  34.9810,2,  34.9810,2,    243.7,2,    244.9,2,    18.20,2,    20.00,2,     1.33,2,    0.043,2,    0.030,2, -999.000,9,-999.0000,9,  -999.00,9,   -999.0,9,   -999.0,9,     8.02,2,  3.7800
 3230CITHER2_2,  A17N,   197,  1,     18,     18,2,19940311,0111,  6.2513, -42.4893, 4707,   1800.2,   3.7670,  34.9770,2,  34.9770,2,    248.6,2,    247.9,2,    19.00,2,    19.86,2,     1.31,2,    0.032,2,    0.026,2, -999.000,9,-999.0000,9,  -999.00,9,   -999.0,9,   -999.0,9,     8.03,2,  3.6220
 3230CITHER2_2,  A17N,   197,  1,     17,     17,2,19940311,0111,  6.2513, -42.4893, 4707,   2000.7,   3.5490,  34.9720,2,  34.9720,2,    252.9,2,    252.8,2,    20.10,2,    19.56,2,     1.28,2,    0.029,2,    0.018,2, -999.000,9,-999.0000,9,  -999.00,9,   -999.0,9,   -999.0,9,     8.03,2,  3.3880
 3230CITHER2_2,  A17N,   197,  1,     16,     16,2,19940311,0111,  6.2513, -42.4893, 4707,   2200.2,   3.2930,  34.9630,2,  34.9590,2,    256.2,2,    255.7,2,    21.70,2,    19.35,2,     1.27,2,    0.028,2,    0.015,2, -999.000,9,-999.0000,9,  -999.00,9,   -999.0,9,   -999.0,9,     8.03,2,  3.1170
 3230CITHER2_2,  A17N,   197,  1,     15,     15,2,19940311,0111,  6.2513, -42.4893, 4707,   2399.2,   3.1120,  34.9520,2,  34.9500,2,    254.3,2,    254.6,2,    25.10,2,    19.76,2,     1.31,2,    0.009,2,    0.009,2, -999.000,9,-999.0000,9,  -999.00,9,   -999.0,9,   -999.0,9,     8.03,2,  2.9200
 3230CITHER2_2,  A17N,   197,  1,     14,     14,2,19940311,0111,  6.2513, -42.4893, 4707,   2698.8,   2.8890,  34.9400,2,  34.9380,2,    255.8,2,    256.2,2,    27.80,2,    19.86,2,     1.31,2,    0.013,2,    0.010,2, -999.000,9,-999.0000,9,  -999.00,9,   -999.0,9,   -999.0,9,     8.03,2,  2.6710
 3230CITHER2_2,  A17N,   197,  1,     13,     13,2,19940311,0111,  6.2513, -42.4893, 4707,   2998.0,   2.7170,  34.9280,2,  34.9240,2,    256.3,2,    256.7,2,    29.90,2,    19.92,2,     1.32,2,    0.023,2,    0.015,2, -999.000,9,-999.0000,9,  -999.00,9,   -999.0,9,   -999.0,9,     8.03,2,  2.4730
 3230CITHER2_2,  A17N,   197,  1,     12,     12,2,19940311,0111,  6.2513, -42.4893, 4707,   3199.4,   2.6490,  34.9250,2,  34.9250,2,    258.0,2,    258.4,2,    30.00,2,    19.65,2,     1.31,2,    0.038,2,    0.024,2, -999.000,9,-999.0000,9,  -999.00,9,   -999.0,9,   -999.0,9,     8.03,2,  2.3850
 3230CITHER2_2,  A17N,   197,  1,     11,     11,2,19940311,0111,  6.2513, -42.4893, 4707,   3399.5,   2.5480,  34.9160,2,  34.9150,2,    257.9,2,    258.1,2,    32.10,2,    19.83,2,     1.32,2,    0.033,2,    0.022,2, -999.000,9,-999.0000,9,  -999.00,9,   -999.0,9,   -999.0,9,     8.03,2,  2.2650
 3230CITHER2_2,  A17N,   197,  1,     10,     10,2,19940311,0111,  6.2513, -42.4893, 4707,   3552.5,   2.4540,  34.9090,2,  34.9100,2,    259.0,2,    260.6,2,    32.90,2,    19.81,2,     1.33,2,    0.038,2,    0.024,2, -999.000,9,-999.0000,9,  -999.00,9,   -999.0,9,   -999.0,9,     8.03,2,  2.1570
 3230CITHER2_2,  A17N,   197,  1,      9,      9,2,19940311,0111,  6.2513, -42.4893, 4707,   3699.9,   2.3580,  34.9010,2,  34.9000,2,    258.6,2,    258.9,2,    35.50,2,    20.03,2,     1.35,2,    0.033,2,    0.022,2, -999.000,9,-999.0000,9,  -999.00,9,   -999.0,9,   -999.0,9,     8.03,2,  2.0470
 3230CITHER2_2,  A17N,   197,  1,      8,      8,2,19940311,0111,  6.2513, -42.4893, 4707,   3848.4,   2.2980,  34.8980,2,  34.8970,2,    260.2,2,    260.9,2,    34.40,2,    19.69,2,     1.31,2,    0.059,2,    0.033,2, -999.000,9,-999.0000,9,  -999.00,9,   -999.0,9,   -999.0,9,     8.03,2,  1.9720
 3230CITHER2_2,  A17N,   197,  1,      7,      7,2,19940311,0111,  6.2513, -42.4893, 4707,   3999.8,   2.2300,  34.8900,2,  34.8920,2,    260.8,2,    260.4,2,    36.20,2,    19.87,2,     1.34,2,    0.071,2,    0.045,2, -999.000,9,-999.0000,9,  -999.00,9,   -999.0,9,   -999.0,9,     8.03,2,  1.8890
 3230CITHER2_2,  A17N,   197,  1,      6,      6,2,19940311,0111,  6.2513, -42.4893, 4707,   4198.7,   2.0670,  34.8690,2,  34.8700,2,    256.1,2,    255.2,2,    45.20,2,    21.05,2,     1.43,2,    0.061,2,    0.038,2, -999.000,9,-999.0000,9,  -999.00,9,   -999.0,9,   -999.0,9,     8.01,2,  1.7080
 3230CITHER2_2,  A17N,   197,  1,      5,      5,2,19940311,0111,  6.2513, -42.4893, 4707,   4399.0,   1.5980,  34.8130,2,  34.8120,2,    244.1,2,    241.9,2,    70.00,2,    24.47,2,     1.69,2,    0.032,2,    0.020,2, -999.000,9,-999.0000,9,  -999.00,9,   -999.0,9,   -999.0,9,     7.98,2,  1.2310
 3230CITHER2_2,  A17N,   197,  1,      3,      3,2,19940311,0111,  6.2513, -42.4893, 4707,   4598.1,   1.4070,  34.7900,2,  34.7890,2,    236.5,2,    236.2,2,    80.80,2,    26.22,2,     1.81,2,    0.019,2,    0.010,2, -999.000,9,-999.0000,9,  -999.00,9,   -999.0,9,   -999.0,9,     7.97,2,  1.0230
 3230CITHER2_2,  A17N,   197,  1,      4,      4,2,19940311,0111,  6.2513, -42.4893, 4707,   4598.3,   1.4060,  34.7900,2,  34.7880,2,    236.5,2,    236.2,2,    80.60,2,    26.14,2,     1.80,2,    0.017,2,    0.011,2, -999.000,9,-999.0000,9,  -999.00,9,   -999.0,9,   -999.0,9,     7.97,2,  1.0220
 3230CITHER2_2,  A17N,   197,  1,      2,      2,2,19940311,0111,  6.2513, -42.4893, 4707,   4698.4,   1.3970,  34.7870,2,  34.7870,2,    235.7,2,    235.7,2,    81.80,2,    26.36,2,     1.82,2,    0.018,2,    0.012,2, -999.000,9,-999.0000,9,  -999.00,9,   -999.0,9,   -999.0,9,     7.96,2,  1.0010
 3230CITHER2_2,  A17N,   197,  1,      1,      1,2,19940311,0111,  6.2513, -42.4893, 4707,   4772.1,   1.3900,  34.7850,2,  34.7850,2,    235.1,2,    234.9,2,    82.80,2,    26.49,2,     1.82,2,    0.016,2,    0.014,2, -999.000,9,-999.0000,9,  -999.00,9,   -999.0,9,   -999.0,9,     7.96,2,  0.9860
 3230CITHER2_2,  A17N,   198,  1,     32,     32,2,19940311,0720,  6.5425, -42.9938, 4633,      5.8,  26.7760,  35.9270,2,  35.9280,2,    200.1,2,    200.6,2,     1.50,2,     0.00,2,     0.04,2, -999.000,5, -999.000,5, -999.000,9,-999.0000,9,  -999.00,9,   2004.2,2,   2361.4,2,     8.37,2, 26.7750
 3230CITHER2_2,  A17N,   198,  1,     31,     31,2,19940311,0720,  6.5425, -42.9938, 4633,     40.3,  26.7790,  35.9270,2,  35.9270,2,    205.4,2,    200.2,2,     1.50,2,     0.00,2,     0.04,2, -999.000,5, -999.000,5, -999.000,9,-999.0000,9,  -999.00,9,   2002.4,2,   2363.1,2,     8.37,2, 26.7700
 3230CITHER2_2,  A17N,   198,  1,     30,     30,2,19940311,0720,  6.5425, -42.9938, 4633,    110.3,  26.6300,  36.3520,2,  36.3520,2,    195.2,2,    198.7,2,     1.50,2,     0.00,2,     0.05,2, -999.000,5, -999.000,5, -999.000,9,-999.0000,9,  -999.00,9,   2024.3,2,   2390.6,2,     8.36,2, 26.6050
 3230CITHER2_2,  A17N,   198,  1,     29,     29,2,19940311,0720,  6.5425, -42.9938, 4633,    200.5,  10.8910,  35.0700,2,  35.0720,2,    111.7,2,    112.9,2,    11.80,2,    25.17,2,     1.66,2, -999.000,5, -999.000,5, -999.000,9,-999.0000,9,  -999.00,9,   2190.3,2,   2322.2,2,     7.93,2, 10.8660
 3230CITHER2_2,  A17N,   198,  1,     28,     28,2,19940311,0720,  6.5425, -42.9938, 4633,    300.7,   9.1130,  34.8590,2,  34.8550,2,    119.7,2,    112.3,2,    15.20,2,    29.00,2,     1.91,2, -999.000,5, -999.000,5, -999.000,9,-999.0000,9,  -999.00,9,   2203.6,2,   2315.3,2,     7.88,2,  9.0800
 3230CITHER2_2,  A17N,   198,  1,     27,     27,2,19940311,0720,  6.5425, -42.9938, 4633,    400.4,   8.0640,  34.7590,2,  34.7530,2,    119.1,2,    104.8,2,    18.20,2,    32.10,2,     2.08,2, -999.000,5, -999.000,5, -999.000,9,-999.0000,9,  -999.00,9,   2216.3,2,   2312.7,2,     7.83,2,  8.0230
 3230CITHER2_2,  A17N,   198,  1,     26,     26,2,19940311,0720,  6.5425, -42.9938, 4633,    501.1,   7.0390,  34.6480,2,  34.6480,2,    119.2,2,    124.8,2,    20.60,2,    32.13,2,     2.14,2, -999.000,5, -999.000,5, -999.000,9,-999.0000,9,  -999.00,9,   2212.2,2,   2312.6,2,     7.84,2,  6.9910
 3230CITHER2_2,  A17N,   198,  1,     25,     25,2,19940311,0720,  6.5425, -42.9938, 4633,    598.6,   6.3110,  34.6050,2,  34.6040,2,    121.7,2,    121.7,2,    23.60,2,    33.89,2,     2.27,2, -999.000,5, -999.000,5, -999.000,9,-999.0000,9,  -999.00,9,   2220.4,2,   2310.4,2,     7.81,2,  6.2570
 3230CITHER2_2,  A17N,   198,  1,     24,     24,2,19940311,0720,  6.5425, -42.9938, 4633,    800.4,   5.0230,  34.5430,2,  34.5380,2,    136.9,2,    145.0,2,    28.90,2,    33.69,2,     2.30,2,    0.052,2,    0.027,2, -999.000,9,-999.0000,9,  -999.00,9,   2219.5,2,   2314.4,2,     7.83,2,  4.9570
 3230CITHER2_2,  A17N,   198,  1,     23,     23,2,19940311,0720,  6.5425, -42.9938, 4633,   1001.5,   4.8940,  34.7320,2,  34.7310,2,    144.8,2,    151.8,2,    27.60,2,    31.33,2,     2.14,2,    0.002,2,    0.001,2, -999.000,9,-999.0000,9,  -999.00,9,   2218.2,2,   2321.6,2,     7.86,2,  4.8110
 3230CITHER2_2,  A17N,   198,  1,     22,     22,2,19940311,0720,  6.5425, -42.9938, 4633,   1201.2,   4.7870,  34.8740,2,  34.8760,2,    173.2,2,    180.9,2,    23.50,2,    26.59,2,     1.82,2,    0.021,2,    0.010,2, -999.000,9,-999.0000,9,  -999.00,9,   2202.6,2,   2326.6,2,     7.91,2,  4.6860
 3230CITHER2_2,  A17N,   198,  1,     21,     21,2,19940311,0720,  6.5425, -42.9938, 4633,   1401.1,   4.5740,  34.9840,2,  34.9800,2,    211.9,2,    221.7,2,    18.00,2,    21.50,2,     1.46,2,    0.105,2,    0.060,2, -999.000,9,-999.0000,9,  -999.00,9,   2175.7,2,   2326.9,2,     7.97,2,  4.4570
 3230CITHER2_2,  A17N,   198,  1,     20,     20,2,19940311,0720,  6.5425, -42.9938, 4633,   1500.3,   4.4320,  34.9990,2,  34.9970,2,    231.6,2,    234.7,2,    16.60,2,    20.16,2,     1.34,2,    0.152,2,    0.091,2, -999.000,9,-999.0000,9,  -999.00,9,   2171.5,2,   2327.2,2,     7.99,2,  4.3070
 3230CITHER2_2,  A17N,   198,  1,     19,     19,2,19940311,0720,  6.5425, -42.9938, 4633,   1599.0,   4.2140,  34.9990,2,  34.9980,2,    243.5,2,    243.9,2,    16.00,2,    19.40,2,     1.29,2, -999.000,5, -999.000,5, -999.000,9,-999.0000,9,  -999.00,9,   2164.0,2,   2327.2,2,     8.00,2,  4.0820
 3230CITHER2_2,  A17N,   198,  1,     18,     18,2,19940311,0720,  6.5425, -42.9938, 4633,   1700.7,   3.9790,  34.9870,2,  34.9860,2,    246.4,2,    246.3,2,    17.10,2,    19.70,2,     1.30,2,    0.069,2,    0.041,2, -999.000,9,-999.0000,9,  -999.00,9,   2166.9,2,   2328.4,2,     8.00,2,  3.8400
 3230CITHER2_2,  A17N,   198,  1,     17,     17,2,19940311,0720,  6.5425, -42.9938, 4633,   1799.7,   3.8080,  34.9820,2,  34.9800,2,    249.4,2,    248.8,2,    18.10,2,    19.54,2,     1.30,2,    0.055,2,    0.033,2, -999.000,9,-999.0000,9,  -999.00,9,   2165.4,2,   2325.8,2,     8.01,2,  3.6620
 3230CITHER2_2,  A17N,   198,  1,     16,     16,2,19940311,0720,  6.5425, -42.9938, 4633,   1999.6,   3.5620,  34.9740,2,  34.9620,2,    252.2,2,    252.5,2,    19.60,2,    19.27,2,     1.29,2, -999.000,5, -999.000,5, -999.000,9,-999.0000,9,  -999.00,9,   2165.1,2,   2330.7,2,     8.01,2,  3.4010
 3230CITHER2_2,  A17N,   198,  1,     15,     15,2,19940311,0720,  6.5425, -42.9938, 4633,   2201.4,   3.3540,  34.9660,2,  34.9660,2,    255.1,2,    255.3,2,    21.10,2,    19.12,2,     1.28,2,    0.022,2,    0.015,2, -999.000,9,-999.0000,9,  -999.00,9,   2165.6,2,   2331.9,2,     8.01,2,  3.1770
 3230CITHER2_2,  A17N,   198,  1,     14,     14,2,19940311,0720,  6.5425, -42.9938, 4633,   2400.6,   3.1650,  34.9560,2,  34.9520,2,    255.8,2,    256.4,2,    22.90,2,    19.18,2,     1.28,2,    0.024,2,    0.012,2, -999.000,9,-999.0000,9,  -999.00,9,   2165.5,2,   2337.1,2,     8.01,2,  2.9720
 3230CITHER2_2,  A17N,   198,  1,     13,     13,2,19940311,0720,  6.5425, -42.9938, 4633,   2700.1,   2.9620,  34.9460,2,  34.9450,2,    256.3,2,    257.0,2,    25.50,2,    19.28,2,     1.29,2,    0.025,2,    0.014,2, -999.000,9,-999.0000,9,  -999.00,9,   2170.2,2,   2334.8,2,     8.01,2,  2.7430
 3230CITHER2_2,  A17N,   198,  1,     12,     12,2,19940311,0720,  6.5425, -42.9938, 4633,   3002.2,   2.7640,  34.9330,2,  34.9310,2,    257.5,2,    257.5,2,    28.20,2,    19.46,2,     1.31,2,    0.025,2,    0.016,2, -999.000,9,-999.0000,9,  -999.00,9,   2174.1,2,   2339.6,2,     8.01,2,  2.5180
 3230CITHER2_2,  A17N,   198,  1,     11,     11,2,19940311,0720,  6.5425, -42.9938, 4633,   3200.6,   2.6410,  34.9250,2,  34.9240,2,    257.9,2,    258.6,2,    29.70,2,    19.43,2,     1.30,2,    0.040,2,    0.022,2, -999.000,9,-999.0000,9,  -999.00,9,   2174.3,2,   2339.7,2,     8.01,2,  2.3770
 3230CITHER2_2,  A17N,   198,  1,     10,     10,2,19940311,0720,  6.5425, -42.9938, 4633,   3398.0,   2.5510,  34.9200,2,  34.9180,2,    258.8,2,    259.8,2,    30.30,2,    19.36,2,     1.30,2,    0.044,2,    0.024,2, -999.000,9,-999.0000,9,  -999.00,9,   2174.8,2,   2344.2,2,     8.01,2,  2.2680
 3230CITHER2_2,  A17N,   198,  1,      9,      9,2,19940311,0720,  6.5425, -42.9938, 4633,   3548.3,   2.4560,  34.9120,2,  34.9130,2,    260.2,2,    260.9,2,    30.90,2,    19.29,2,     1.29,2,    0.051,2,    0.030,2, -999.000,9,-999.0000,9,  -999.00,9,   2175.2,2,   2341.8,2,     8.01,2,  2.1590
 3230CITHER2_2,  A17N,   198,  1,      8,      8,2,19940311,0720,  6.5425, -42.9938, 4633,   3698.9,   2.3790,  34.9060,2,  34.9060,2,    260.5,2,    261.7,2,    31.90,2,    19.27,2,     1.29,2,    0.052,2,    0.032,2, -999.000,9,-999.0000,9,  -999.00,9,   2173.9,2,   2341.2,2,     8.01,2,  2.0680
 3230CITHER2_2,  A17N,   198,  1,      6,      6,2,19940311,0720,  6.5425, -42.9938, 4633,   3848.3,   2.3250,  34.9020,2,  34.9000,2,    262.0,2,    262.2,2,    32.80,2,    19.34,2,     1.31,2,    0.060,2,    0.034,2, -999.000,9,-999.0000,9,  -999.00,9,   2177.1,2,   2339.6,2,     8.01,2,  1.9990
 3230CITHER2_2,  A17N,   198,  1,      7,      7,2,19940311,0720,  6.5425, -42.9938, 4633,   3848.6,   2.3280,  34.9020,2,  34.9010,2,    262.0,2,    262.0,2,    32.70,2,    19.32,2,     1.30,2,    0.059,2,    0.036,2, -999.000,9,-999.0000,9,  -999.00,9,   -999.0,5,   2339.6,2,     8.01,2,  2.0020
 3230CITHER2_2,  A17N,   198,  1,      5,      5,2,19940311,0720,  6.5425, -42.9938, 4633,   3996.4,   2.2500,  34.8930,2,  34.8960,2,    261.7,2,    260.8,2,    35.30,2,    19.68,2,     1.33,2,    0.066,2,    0.041,2, -999.000,9,-999.0000,9,  -999.00,9,   2180.5,2,   2343.1,2,     8.01,2,  1.9090
 3230CITHER2_2,  A17N,   198,  1,      4,      4,2,19940311,0720,  6.5425, -42.9938, 4633,   4199.4,   2.1640,  34.8820,2,  34.8820,2,    259.4,2,    257.8,2,    40.20,2,    20.28,2,     1.38,2,    0.062,2,    0.037,2, -999.000,9,-999.0000,9,  -999.00,9,   2180.0,2,   2345.7,2,     8.00,2,  1.8020
 3230CITHER2_2,  A17N,   198,  1,      3,      3,2,19940311,0720,  6.5425, -42.9938, 4633,   4398.1,   1.7780,  34.8350,2,  34.8390,2,    247.8,2,    246.2,2,    60.60,2,    23.03,2,     1.59,2,    0.037,2,    0.024,2, -999.000,9,-999.0000,9,  -999.00,9,   2209.0,2,   2357.7,2,     7.97,2,  1.4050
 3230CITHER2_2,  A17N,   198,  1,      2,      2,2,19940311,0720,  6.5425, -42.9938, 4633,   4597.2,   1.5050,  34.8000,2,  34.8010,2,    238.9,2,    238.5,2,    75.80,2,    25.18,2,     1.75,2,    0.027,2,    0.016,2, -999.000,9,-999.0000,9,  -999.00,9,   2220.1,2,   2367.7,2,     7.95,2,  1.1180
 3230CITHER2_2,  A17N,   198,  1,      1,      1,2,19940311,0720,  6.5425, -42.9938, 4633,   4695.9,   1.4510,  34.7930,2,  34.7940,2,    236.5,2,    236.6,2,    79.30,2,    25.85,2,     1.78,2,    0.021,2,    0.010,2, -999.000,9,-999.0000,9,  -999.00,9,   2227.7,2,   2368.9,2,     7.95,2,  1.0540