BOTTLE,20030515WHPSIOSA
EXPOCODE,SECT_ID,STNNBR,CASTNO,SAMPNO,BTLNBR,BTLNBR_FLAG_W,DATE,TIME,LATITUDE,LONGITUDE,DEPTH,CTDPRS,CTDTMP,CTDSAL,CTDSAL_FLAG_W,SALNTY,SALNTY_FLAG_W,CTDOXY,CTDOXY_FLAG_W,OXYGEN,OXYGEN_FLAG_W,SILCAT,SILCAT_FLAG_W,NITRAT,NITRAT_FLAG_W,PHSPHT,PHSPHT_FLAG_W,CFC-11,CFC-11_FLAG_W,CFC-12,CFC-12_FLAG_W,TRITUM,TRITUM_FLAG_W,HELIUM,HELIUM_FLAG_W,DELHE3,DELHE3_FLAG_W,TCARBN,TCARBN_FLAG_W,ALKALI,ALKALI_FLAG_W,PH,PH_FLAG_W,THETA
,,,,,,,,,,,,DBAR,ITS-90,PSS-78,,PSS-78,,UMOL/KG,,UMOL/KG,,UMOL/KG,,UMOL/KG,,UMOL/KG,,PMOL/KG,,PMOL/KG,,TU,,NMOL/KG,,PERCNT,,UMOL/KG,,UMOL/KG,,,,DEG C
 3230CITHER2_2,  A17N,   120,  1,     16,     16,2,19940218,0449,-12.4088, -37.5715, 1568,      2.5,  28.7430,  37.3380,2,  37.3410,2,    190.7,2,    197.8,2,     1.20,2,     0.04,2,     0.03,2, -999.000,5, -999.000,5,    0.730,2,   1.6200,2,    -1.53,2,   2053.5,2,   2459.0,2,     8.41,2, 28.7420
 3230CITHER2_2,  A17N,   120,  1,     15,     15,2,19940218,0449,-12.4088, -37.5715, 1568,     31.1,  28.5380,  37.3690,2,  37.3310,2,    207.5,2,    201.1,2,     1.20,2,     0.04,2,     0.03,2, -999.000,5, -999.000,5,    0.740,2,   1.6600,2,    -0.75,2,   2054.4,2,   2458.5,2,     8.41,2, 28.5310
 3230CITHER2_2,  A17N,   120,  1,     14,     14,2,19940218,0449,-12.4088, -37.5715, 1568,     75.6,  24.5160,  37.1530,2,  37.1320,2,    215.3,2,    207.4,2,     1.10,2,     0.04,2,     0.10,2, -999.000,5, -999.000,5, -999.000,9,   1.6500,2,    -1.34,2,   2083.6,2,   2448.5,2,     8.35,2, 24.5000
 3230CITHER2_2,  A17N,   120,  1,     13,     13,2,19940218,0449,-12.4088, -37.5715, 1568,    126.6,  20.2210,  36.3620,2,  36.3400,2,    196.3,2,    192.3,2,     1.60,2,     1.79,2,     0.34,2, -999.000,5, -999.000,5,    0.800,2,   1.7000,2,    -1.10,2,   2099.5,2,   2398.3,2,     8.26,2, 20.1970
 3230CITHER2_2,  A17N,   120,  1,     12,     12,2,19940218,0449,-12.4088, -37.5715, 1568,    200.7,  15.6370,  35.5550,2,  35.5490,2,    195.5,2,    201.1,2,     2.90,2,     6.45,2,     0.58,2, -999.000,5, -999.000,5,    0.780,2,   1.6700,2,    -0.42,2,   2097.3,2,   2348.7,2,     8.19,2, 15.6060
 3230CITHER2_2,  A17N,   120,  1,     11,     11,2,19940218,0449,-12.4088, -37.5715, 1568,    251.7,  14.1220,  35.3280,2,  35.3260,2,    194.6,2,    197.0,2,     3.80,2,     9.20,2,     0.74,2, -999.000,5, -999.000,5,    0.690,2,   1.6900,2,     0.13,2,   2091.1,2,   2337.3,2,     8.16,2, 14.0850
 3230CITHER2_2,  A17N,   120,  1,     10,     10,2,19940218,0449,-12.4088, -37.5715, 1568,    301.2,  12.9370,  35.1700,2,  35.1650,2,    195.4,2,    195.9,2,     4.80,2,    11.99,2,     0.91,2, -999.000,5, -999.000,5,    0.550,2,   1.7600,2,     1.67,2,   2114.3,2,   2330.6,2,     8.12,2, 12.8950
 3230CITHER2_2,  A17N,   120,  1,      9,      9,2,19940218,0449,-12.4088, -37.5715, 1568,    400.2,  10.8920,  34.9340,2,  34.9150,2,    190.5,2,    190.3,2,     7.50,2,    16.99,2,     1.23,2, -999.000,5, -999.000,5,    0.440,2,   1.7300,2,     1.25,2,   2134.9,2,   2319.1,2,     8.05,2, 10.8430
 3230CITHER2_2,  A17N,   120,  1,      8,      8,2,19940218,0449,-12.4088, -37.5715, 1568,    501.7,   8.5070,  34.6670,2,  34.6630,2,    187.4,2,    187.9,2,    12.20,2,    22.52,2,     1.62,2,    1.205,2,    0.654,2, -999.000,9,   1.7400,2,     1.81,2,   2157.0,2,   2312.7,2,     7.98,2,  8.4540
 3230CITHER2_2,  A17N,   120,  1,      7,      7,2,19940218,0449,-12.4088, -37.5715, 1568,    601.4,   6.6900,  34.5030,2,  34.4960,2,    193.1,2,    194.5,2,    16.80,2,    26.01,2,     1.86,2,    1.000,2,    0.538,2,    0.170,2,   1.7800,2,     4.58,2,   2168.8,2,   2309.7,2,     7.94,2,  6.6340
 3230CITHER2_2,  A17N,   120,  1,      6,      6,2,19940218,0449,-12.4088, -37.5715, 1568,    700.9,   5.4240,  34.4220,2,  34.4200,2,    195.0,2,    193.5,2,    23.00,2,    29.11,2,     2.04,2,    0.662,2,    0.366,2, -999.000,9,   1.7900,2,     1.48,2,   2183.7,2,   2309.2,2,     7.91,2,  5.3650
 3230CITHER2_2,  A17N,   120,  1,      5,      5,2,19940218,0449,-12.4088, -37.5715, 1568,    800.9,   4.6180,  34.3960,2,  34.3950,2,    192.6,2,    192.6,2,    28.50,2,    30.45,2,     2.16,2,    0.447,2,    0.262,2,    0.030,2,   1.8000,2,     1.58,2,   2193.6,2,   2311.4,2,     7.89,2,  4.5550
 3230CITHER2_2,  A17N,   120,  1,      4,      4,2,19940218,0449,-12.4088, -37.5715, 1568,    999.9,   3.7910,  34.4640,2,  34.4650,2,    183.3,2,    185.9,2,    38.00,2,    31.88,2,     2.25,2,    0.112,2,    0.068,2,    0.010,2,   1.7600,2,     2.17,2,   2210.6,2,   2324.0,2,     7.87,2,  3.7170
 3230CITHER2_2,  A17N,   120,  1,      3,      3,2,19940218,0449,-12.4088, -37.5715, 1568,   1200.4,   3.8690,  34.5970,2,  34.6020,2,    180.2,2,    182.3,2,    36.30,2,    30.44,2,     2.15,2,    0.033,2,    0.019,2, -999.000,9,   1.8100,2,     2.16,2,   2212.7,2,   2327.5,2,     7.88,2,  3.7770
 3230CITHER2_2,  A17N,   120,  1,      2,      2,2,19940218,0449,-12.4088, -37.5715, 1568,   1400.5,   4.2150,  34.7790,2,  34.7890,2,    186.7,2,    190.7,2,    27.90,2,    27.33,2,     1.91,2,    0.019,2,    0.014,2, -999.000,9,   1.7700,2,     1.00,2,   2201.7,2,   2327.2,2,     7.91,2,  4.1020
 3230CITHER2_2,  A17N,   120,  1,      1,      1,2,19940218,0449,-12.4088, -37.5715, 1568,   1505.8,   4.2880,  34.8670,2,  34.8680,2,    196.4,2,    203.8,2,    24.20,2,    24.74,2,     1.73,2,    0.030,2,    0.024,2, -999.000,9,   1.8000,2,     1.21,2,   2192.0,2,   2326.6,2,     7.94,2,  4.1640
 3230CITHER2_2,  A17N,   121,  1,     16,     16,2,19940218,0805,-12.4243, -37.5428, 1996,    251.8,  13.7670,  35.2790,2,  35.2710,2,    196.5,2,    198.2,2,     4.50,2,    10.10,2,     0.79,2,    2.113,2,    1.127,2, -999.000,9,-999.0000,9,  -999.00,9,   -999.0,9,   -999.0,9,     8.14,2, 13.7310
 3230CITHER2_2,  A17N,   121,  1,     15,     15,2,19940218,0805,-12.4243, -37.5428, 1996,    299.9,  12.7980,  35.1650,2,  35.1440,2,    195.2,2,    195.4,2,     5.30,2,    12.43,2,     0.93,2,    1.946,2,    1.045,2, -999.000,9,-999.0000,9,  -999.00,9,   -999.0,9,   -999.0,9,     8.12,2, 12.7570
 3230CITHER2_2,  A17N,   121,  1,     14,     14,2,19940218,0805,-12.4243, -37.5428, 1996,    401.2,  10.5480,  34.8880,2,  34.8810,2,    191.7,2,    190.4,2,     8.30,2,    17.75,2,     1.27,2,    1.575,2,    0.844,2, -999.000,9,-999.0000,9,  -999.00,9,   -999.0,9,   -999.0,9,     8.05,2, 10.4990
 3230CITHER2_2,  A17N,   121,  1,     13,     13,2,19940218,0805,-12.4243, -37.5428, 1996,    503.6,   7.8150,  34.5990,2,  34.6000,2,    188.8,2,    186.9,2,    14.20,2,    23.89,2,     1.70,2,    1.111,2,    0.598,2, -999.000,9,-999.0000,9,  -999.00,9,   -999.0,9,   -999.0,9,     7.96,2,  7.7640
 3230CITHER2_2,  A17N,   121,  1,     12,     12,2,19940218,0805,-12.4243, -37.5428, 1996,    603.1,   6.1650,  34.4670,2,  34.4510,2,    196.8,2,    197.5,2,    19.10,2,    27.81,2,     1.92,2,    0.917,2,    0.489,2, -999.000,9,-999.0000,9,  -999.00,9,   -999.0,9,   -999.0,9,     7.93,2,  6.1110
 3230CITHER2_2,  A17N,   121,  1,     11,     11,2,19940218,0805,-12.4243, -37.5428, 1996,    703.2,   5.0140,  34.3890,2,  34.3930,2,    199.8,2,    199.8,2,    24.60,2,    29.46,2,     2.06,2,    0.692,2,    0.381,2, -999.000,9,-999.0000,9,  -999.00,9,   -999.0,9,   -999.0,9,     7.91,2,  4.9570
 3230CITHER2_2,  A17N,   121,  1,     10,     10,2,19940218,0805,-12.4243, -37.5428, 1996,    804.1,   4.4880,  34.3960,2,  34.4010,2,    191.3,2,    191.0,2,    29.90,2,    31.31,2,     2.16,2,    0.389,2,    0.220,2, -999.000,9,-999.0000,9,  -999.00,9,   -999.0,9,   -999.0,9,     7.89,2,  4.4250
 3230CITHER2_2,  A17N,   121,  1,      9,      9,2,19940218,0805,-12.4243, -37.5428, 1996,   1002.1,   3.7750,  34.4770,2,  34.4800,2,    181.3,2,    182.8,2,    38.40,2,    31.98,2,     2.24,2,    0.087,2,    0.053,2, -999.000,9,-999.0000,9,  -999.00,9,   -999.0,9,   -999.0,9,     7.87,2,  3.7010
 3230CITHER2_2,  A17N,   121,  1,      8,      8,2,19940218,0805,-12.4243, -37.5428, 1996,   1201.9,   3.9400,  34.6390,2,  34.6420,2,    181.1,2,    182.9,2,    34.60,2,    30.27,2,     2.11,2,    0.025,2,    0.019,2, -999.000,9,-999.0000,9,  -999.00,9,   -999.0,9,   -999.0,9,     7.89,2,  3.8480
 3230CITHER2_2,  A17N,   121,  1,      7,      7,2,19940218,0805,-12.4243, -37.5428, 1996,   1401.8,   4.3310,  34.8060,2,  34.8090,2,    185.9,2,    189.7,2,    26.50,2,    27.23,2,     1.89,2,    0.017,2,    0.010,2, -999.000,9,-999.0000,9,  -999.00,9,   -999.0,9,   -999.0,9,     7.92,2,  4.2170
 3230CITHER2_2,  A17N,   121,  1,      6,      6,2,19940218,0805,-12.4243, -37.5428, 1996,   1500.5,   4.3590,  34.8930,2,  34.8940,2,    197.5,2,    208.0,2,    22.80,2,    24.37,2,     1.68,2,    0.030,2,    0.024,2, -999.000,9,-999.0000,9,  -999.00,9,   -999.0,9,   -999.0,9,     7.95,2,  4.2350
 3230CITHER2_2,  A17N,   121,  1,      5,      5,2,19940218,0805,-12.4243, -37.5428, 1996,   1600.6,   4.2830,  34.9310,2,  34.9350,2,    216.9,2,    219.7,2,    20.80,2,    22.70,2,     1.57,2,    0.043,2,    0.037,2, -999.000,9,-999.0000,9,  -999.00,9,   -999.0,9,   -999.0,9,     7.97,2,  4.1500
 3230CITHER2_2,  A17N,   121,  1,      3,      3,2,19940218,0805,-12.4243, -37.5428, 1996,   1799.0,   3.9340,  34.9760,2,  34.9760,2,    242.9,2,    244.5,2,    18.60,2,    20.04,2,     1.36,2,    0.071,2,    0.050,2, -999.000,9,-999.0000,9,  -999.00,9,   -999.0,9,   -999.0,9,     8.00,2,  3.7870
 3230CITHER2_2,  A17N,   121,  1,      2,      2,2,19940218,0805,-12.4243, -37.5428, 1996,   1894.0,   3.6020,  34.9670,2,  34.9710,2,    247.5,2,    249.7,2,    20.70,2,    19.71,2,     1.34,2,    0.051,2,    0.036,2, -999.000,9,-999.0000,9,  -999.00,9,   -999.0,9,   -999.0,9,     8.01,2,  3.4500
 3230CITHER2_2,  A17N,   121,  1,      1,      1,2,19940218,0805,-12.4243, -37.5428, 1996,   1986.1,   3.3390,  34.9590,2,  34.9610,2,    245.8,2,    253.0,2,    22.90,2,    19.66,2,     1.33,2,    0.040,2,    0.026,2, -999.000,9,-999.0000,9,  -999.00,9,   -999.0,9,   -999.0,9,     8.01,2,  3.1830
 3230CITHER2_2,  A17N,   122,  1,     16,     16,2,19940218,1221,-12.4852, -37.4548, 2503,    301.4,  12.6460,  35.1250,2,  35.1220,2,    194.1,2,    188.1,2,     5.10,2,    13.83,2,     0.98,2,    1.865,2,    0.990,2, -999.000,9,-999.0000,9,  -999.00,9,   2122.5,2,   2329.0,2,     8.10,2, 12.6050
 3230CITHER2_2,  A17N,   122,  1,     15,     15,2,19940218,1221,-12.4852, -37.4548, 2503,    403.4,   9.9730,  34.8170,2,  34.8220,2,    193.0,2,    186.8,2,     8.90,2,    19.87,2,     1.32,2,    1.471,2,    0.784,2, -999.000,9,-999.0000,9,  -999.00,9,   2145.5,2,   2317.8,2,     8.03,2,  9.9260
 3230CITHER2_2,  A17N,   122,  1,     14,     14,2,19940218,1221,-12.4852, -37.4548, 2503,    600.3,   5.8200,  34.4340,2,  34.4340,2,    200.6,2,    195.1,2,    20.00,2,    28.97,2,     1.97,2,    0.816,2,    0.438,2, -999.000,9,-999.0000,9,  -999.00,9,   2189.3,2,   2309.6,2,     7.92,2,  5.7680
 3230CITHER2_2,  A17N,   122,  1,     13,     13,2,19940218,1221,-12.4852, -37.4548, 2503,    800.3,   4.2420,  34.3910,2,  34.3910,2,    198.3,2,    190.9,2,    31.70,2,    32.37,2,     2.20,2,    0.321,2,    0.181,2, -999.000,9,-999.0000,9,  -999.00,9,   2202.4,2,   2316.4,2,     7.88,2,  4.1810
 3230CITHER2_2,  A17N,   122,  1,     12,     12,2,19940218,1221,-12.4852, -37.4548, 2503,   1000.7,   3.8610,  34.5070,2,  34.5060,2,    178.3,2,    177.5,2,    37.00,2,    33.31,2,     2.26,2,    0.050,2,    0.036,2, -999.000,9,-999.0000,9,  -999.00,9,   2217.2,2,   2326.4,2,     7.87,2,  3.7860
 3230CITHER2_2,  A17N,   122,  1,     11,     11,2,19940218,1221,-12.4852, -37.4548, 2503,   1199.9,   4.1770,  34.7240,2,  34.7310,2,    181.0,2,    181.1,2,    30.00,2,    30.03,2,     2.02,2,    0.028,2,    0.015,2, -999.000,9,-999.0000,9,  -999.00,9,   2208.9,2,   2331.3,2,     7.89,2,  4.0820
 3230CITHER2_2,  A17N,   122,  1,     10,     10,2,19940218,1221,-12.4852, -37.4548, 2503,   1400.1,   4.4020,  34.8730,2,  34.8790,2,    201.1,2,    200.8,2,    23.20,2,    25.72,2,     1.74,2,    0.028,2,    0.024,2, -999.000,9,-999.0000,9,  -999.00,9,   2192.2,2,   2330.7,2,     7.94,2,  4.2870
 3230CITHER2_2,  A17N,   122,  1,      9,      9,2,19940218,1221,-12.4852, -37.4548, 2503,   1501.6,   4.3650,  34.9200,2,  34.9210,2,    213.7,2,    213.6,2,    20.90,2,    23.64,2,     1.61,2,    0.049,2,    0.033,2, -999.000,9,-999.0000,9,  -999.00,9,   2184.0,2,   2332.1,2,     7.96,2,  4.2410
 3230CITHER2_2,  A17N,   122,  1,      8,      8,2,19940218,1221,-12.4852, -37.4548, 2503,   1600.5,   4.2490,  34.9540,2,  34.9540,2,    225.6,2,    225.4,2,    19.10,2,    21.99,2,     1.50,2,    0.060,2,    0.038,2, -999.000,9,-999.0000,9,  -999.00,9,   2176.8,2,   2332.0,2,     7.98,2,  4.1170
 3230CITHER2_2,  A17N,   122,  1,      7,      7,2,19940218,1221,-12.4852, -37.4548, 2503,   1700.2,   4.1190,  34.9680,2,  34.9710,2,    234.8,2,    236.6,2,    18.30,2,    21.09,2,     1.41,2,    0.063,2,    0.045,2, -999.000,9,-999.0000,9,  -999.00,9,   2170.7,2,   2332.3,2,     7.99,2,  3.9790
 3230CITHER2_2,  A17N,   122,  1,      6,      6,2,19940218,1221,-12.4852, -37.4548, 2503,   1802.0,   3.9610,  34.9740,2,  34.9750,2,    237.0,2,    243.0,2,    18.30,2,    20.51,2,     1.36,2,    0.063,2,    0.041,2, -999.000,9,-999.0000,9,  -999.00,9,   2169.3,2,   2333.0,2,     8.00,2,  3.8130
 3230CITHER2_2,  A17N,   122,  1,      5,      5,2,19940218,1221,-12.4852, -37.4548, 2503,   1900.5,   3.8510,  34.9740,2,  34.9750,2,    241.7,2,    246.7,2,    18.60,2,    20.27,2,     1.34,2,    0.058,2,    0.038,2, -999.000,9,-999.0000,9,  -999.00,9,   2167.6,2,   2330.9,2,     8.01,2,  3.6950
 3230CITHER2_2,  A17N,   122,  1,      4,      4,2,19940218,1221,-12.4852, -37.4548, 2503,   2001.9,   3.7220,  34.9720,2,  34.9770,2,    246.3,2,    249.8,2,    19.30,2,    20.03,2,     1.32,2,    0.054,2,    0.034,2, -999.000,9,-999.0000,9,  -999.00,9,   2166.2,2,   2335.3,2,     8.01,2,  3.5580
 3230CITHER2_2,  A17N,   122,  1,      3,      3,2,19940218,1221,-12.4852, -37.4548, 2503,   2200.3,   3.4690,  34.9620,2,  34.9640,2,    250.7,2,    252.2,2,    21.80,2,    20.12,2,     1.33,2,    0.037,2,    0.024,2, -999.000,9,-999.0000,9,  -999.00,9,   2167.3,2,   2335.6,2,     8.01,2,  3.2900
 3230CITHER2_2,  A17N,   122,  1,      2,      2,2,19940218,1221,-12.4852, -37.4548, 2503,   2398.8,   3.1600,  34.9480,2,  34.9630,2,    251.7,2,    253.2,2,    25.70,2,    20.29,2,     1.35,2,    0.031,2,    0.021,2, -999.000,9,-999.0000,9,  -999.00,9,   2171.3,2,   2339.7,2,     8.02,2,  2.9670
 3230CITHER2_2,  A17N,   122,  1,      1,      1,2,19940218,1221,-12.4852, -37.4548, 2503,   2469.5,   2.9460,  34.9360,2,  34.9380,2,    247.2,2,    253.1,2,    28.70,2,    20.55,2,     1.37,2,    0.020,2,    0.014,2, -999.000,9,-999.0000,9,  -999.00,9,   2174.6,2,   2342.6,2,     8.02,2,  2.7500