BOTTLE,20030515WHPSIOSA
EXPOCODE,SECT_ID,STNNBR,CASTNO,SAMPNO,BTLNBR,BTLNBR_FLAG_W,DATE,TIME,LATITUDE,LONGITUDE,DEPTH,CTDPRS,CTDTMP,CTDSAL,CTDSAL_FLAG_W,SALNTY,SALNTY_FLAG_W,CTDOXY,CTDOXY_FLAG_W,OXYGEN,OXYGEN_FLAG_W,SILCAT,SILCAT_FLAG_W,NITRAT,NITRAT_FLAG_W,PHSPHT,PHSPHT_FLAG_W,CFC-11,CFC-11_FLAG_W,CFC-12,CFC-12_FLAG_W,TRITUM,TRITUM_FLAG_W,HELIUM,HELIUM_FLAG_W,DELHE3,DELHE3_FLAG_W,TCARBN,TCARBN_FLAG_W,ALKALI,ALKALI_FLAG_W,PH,PH_FLAG_W,THETA
,,,,,,,,,,,,DBAR,ITS-90,PSS-78,,PSS-78,,UMOL/KG,,UMOL/KG,,UMOL/KG,,UMOL/KG,,UMOL/KG,,PMOL/KG,,PMOL/KG,,TU,,NMOL/KG,,PERCNT,,UMOL/KG,,UMOL/KG,,,,DEG C
 3230CITHER2_1,  A17C,    80,  1,     32,     32,2,19940201,2015,-27.7410, -36.9533, 4678,      6.6,  26.2380,  36.4240,2,  36.4240,2,    202.3,2,    205.0,2,     1.20,2,     0.04,2,     0.04,2,    1.932,2,    1.133,2, -999.000,9,-999.0000,9,  -999.00,9,   -999.0,9,   -999.0,9,     8.36,2, 26.2370
 3230CITHER2_1,  A17C,    80,  1,     31,     31,2,19940201,2015,-27.7410, -36.9533, 4678,     51.1,  23.5530,  36.5130,2,  36.4920,2,    217.3,2,    221.9,2,     1.00,2,     0.04,2,     0.04,2, -999.000,5, -999.000,5, -999.000,9,-999.0000,9,  -999.00,9,   -999.0,9,   -999.0,9,     8.35,2, 23.5420
 3230CITHER2_1,  A17C,    80,  1,     30,     30,2,19940201,2015,-27.7410, -36.9533, 4678,    100.8,  19.7910,  36.2600,2,  36.2680,2,    218.1,2,    224.0,2,     1.00,2,     0.04,2,     0.07,2,    2.397,2,    1.350,2, -999.000,9,-999.0000,9,  -999.00,9,   -999.0,9,   -999.0,9,     8.32,2, 19.7720
 3230CITHER2_1,  A17C,    80,  1,     29,     29,2,19940201,2015,-27.7410, -36.9533, 4678,    201.2,  16.8690,  35.7830,2,  35.7830,2,    210.1,2,    211.0,2,     1.60,2,     2.90,2,     0.33,2, -999.000,5, -999.000,5, -999.000,9,-999.0000,9,  -999.00,9,   -999.0,9,   -999.0,9,     8.25,2, 16.8360
 3230CITHER2_1,  A17C,    80,  1,     28,     28,2,19940201,2015,-27.7410, -36.9533, 4678,    300.6,  14.1720,  35.3730,2,  35.3740,2,    207.1,2,    214.9,2,     2.70,2,     7.63,2,     0.64,2,    2.533,2,    1.356,2, -999.000,9,-999.0000,9,  -999.00,9,   -999.0,9,   -999.0,9,     8.18,2, 14.1280
 3230CITHER2_1,  A17C,    80,  1,     27,     27,2,19940201,2015,-27.7410, -36.9533, 4678,    400.7,  12.3070,  35.1300,2,  35.1250,2,    208.5,2,    206.4,2,     4.50,2,    12.09,2,     0.91,2,    2.295,2,    1.228,2, -999.000,9,-999.0000,9,  -999.00,9,   -999.0,9,   -999.0,9,     8.13,2, 12.2530
 3230CITHER2_1,  A17C,    80,  1,     26,     26,2,19940201,2015,-27.7410, -36.9533, 4678,    501.0,  10.3180,  34.8620,2,  34.8610,2,    205.6,2,    202.9,2,     6.80,2,    17.22,2,     1.22,2,    1.980,2,    1.056,2, -999.000,9,-999.0000,9,  -999.00,9,   -999.0,9,   -999.0,9,     8.07,2, 10.2580
 3230CITHER2_1,  A17C,    80,  1,     25,     25,2,19940201,2015,-27.7410, -36.9533, 4678,    601.6,   8.1530,  34.6080,2,  34.6010,2,    206.4,2,    206.1,2,    10.60,2,    22.22,2,     1.57,2,    1.728,2,    0.909,2, -999.000,9,-999.0000,9,  -999.00,9,   -999.0,9,   -999.0,9,     8.01,2,  8.0900
 3230CITHER2_1,  A17C,    80,  1,     24,     24,2,19940201,2015,-27.7410, -36.9533, 4678,    701.7,   6.2760,  34.4170,2,  34.4140,2,    217.5,2,    219.7,2,    14.30,2,    25.39,2,     1.79,2,    1.717,2,    0.904,2, -999.000,9,-999.0000,9,  -999.00,9,   -999.0,9,   -999.0,9,     7.97,2,  6.2120
 3230CITHER2_1,  A17C,    80,  1,     23,     23,2,19940201,2015,-27.7410, -36.9533, 4678,    800.9,   4.9530,  34.3200,2,  34.3210,2,    226.4,2,    227.0,2,    19.30,2,    27.99,2,     1.96,2,    1.514,2,    0.793,2, -999.000,9,-999.0000,9,  -999.00,9,   -999.0,9,   -999.0,9,     7.95,2,  4.8880
 3230CITHER2_1,  A17C,    80,  1,     22,     22,2,19940201,2015,-27.7410, -36.9533, 4678,    900.5,   4.1930,  34.3140,2,  34.3160,2,    218.3,2,    217.5,2,    27.30,2,    30.45,2,     2.10,2,    0.961,2,    0.521,2, -999.000,9,-999.0000,9,  -999.00,9,   -999.0,9,   -999.0,9,     7.92,2,  4.1240
 3230CITHER2_1,  A17C,    80,  1,     21,     21,2,19940201,2015,-27.7410, -36.9533, 4678,   1001.8,   3.6820,  34.3460,2,  34.3420,2,    209.0,2,    208.3,2,    35.50,2,    31.69,2,     2.21,2,    0.584,2,    0.322,2, -999.000,9,-999.0000,9,  -999.00,9,   -999.0,9,   -999.0,9,     7.90,2,  3.6090
 3230CITHER2_1,  A17C,    80,  1,     20,     20,2,19940201,2015,-27.7410, -36.9533, 4678,   1201.3,   3.1540,  34.4910,2,  34.4890,2,    189.5,2,    189.4,2,    49.90,2,    32.59,2,     2.26,2,    0.122,2,    0.078,2, -999.000,9,-999.0000,9,  -999.00,9,   -999.0,9,   -999.0,9,     7.88,2,  3.0690
 3230CITHER2_1,  A17C,    80,  1,     19,     19,2,19940201,2015,-27.7410, -36.9533, 4678,   1401.5,   3.0550,  34.6210,2,  34.6180,2,    189.9,2,    192.2,2,    52.20,2,    30.85,2,     2.16,2,    0.031,2,    0.025,2, -999.000,9,-999.0000,9,  -999.00,9,   -999.0,9,   -999.0,9,     7.89,2,  2.9550
 3230CITHER2_1,  A17C,    80,  1,     18,     18,2,19940201,2015,-27.7410, -36.9533, 4678,   1599.9,   3.1370,  34.7430,2,  34.7390,2,    200.3,2,    203.2,2,    47.00,2,    27.90,2,     1.94,2,    0.017,2,    0.014,2, -999.000,9,-999.0000,9,  -999.00,9,   -999.0,9,   -999.0,9,     7.92,2,  3.0190
 3230CITHER2_1,  A17C,    80,  1,     17,     17,2,19940201,2015,-27.7410, -36.9533, 4678,   1799.8,   3.3310,  34.8700,2,  34.8660,2,    223.9,2,    229.9,2,    35.10,2,    23.70,2,     1.64,2,    0.015,2,    0.017,2, -999.000,9,-999.0000,9,  -999.00,9,   -999.0,9,   -999.0,9,     7.97,2,  3.1920
 3230CITHER2_1,  A17C,    80,  1,     16,     16,2,19940201,2015,-27.7410, -36.9533, 4678,   1999.8,   3.3350,  34.9240,2,  34.9140,2,    239.6,2,    241.8,2,    28.40,2,    21.55,2,     1.47,2,    0.018,2,    0.016,2, -999.000,9,-999.0000,9,  -999.00,9,   -999.0,9,   -999.0,9,     8.00,2,  3.1780
 3230CITHER2_1,  A17C,    80,  1,     15,     15,2,19940201,2015,-27.7410, -36.9533, 4678,   2200.0,   3.2310,  34.9360,2,  34.9300,2,    247.0,2,    247.6,2,    27.50,2,    20.88,2,     1.42,2,    0.012,2,    0.013,2, -999.000,9,-999.0000,9,  -999.00,9,   -999.0,9,   -999.0,9,     8.01,2,  3.0560
 3230CITHER2_1,  A17C,    80,  1,     14,     14,2,19940201,2015,-27.7410, -36.9533, 4678,   2399.0,   3.1220,  34.9370,2,  34.9390,2,    250.4,2,    250.2,2,    27.90,2,    20.66,2,     1.40,2,    0.010,2,    0.009,2, -999.000,9,-999.0000,9,  -999.00,9,   -999.0,9,   -999.0,9,     8.01,2,  2.9300
 3230CITHER2_1,  A17C,    80,  1,     13,     13,2,19940201,2015,-27.7410, -36.9533, 4678,   2599.2,   3.0020,  34.9350,2,  34.9320,2,    251.5,2,    251.1,2,    29.60,2,    20.64,2,     1.40,2,    0.011,2,    0.013,2, -999.000,9,-999.0000,9,  -999.00,9,   -999.0,9,   -999.0,9,     8.01,2,  2.7920
 3230CITHER2_1,  A17C,    80,  1,     12,     12,2,19940201,2015,-27.7410, -36.9533, 4678,   2799.2,   2.8890,  34.9290,2,  34.9300,2,    251.8,2,    251.6,2,    31.50,2,    20.72,2,     1.40,2,    0.009,2,    0.013,2, -999.000,9,-999.0000,9,  -999.00,9,   -999.0,9,   -999.0,9,     8.01,2,  2.6610
 3230CITHER2_1,  A17C,    80,  1,     11,     11,2,19940201,2015,-27.7410, -36.9533, 4678,   2999.3,   2.7950,  34.9240,2,  34.9240,2,    252.3,2,    251.7,2,    33.00,2,    20.64,2,     1.41,2,    0.012,2,    0.019,2, -999.000,9,-999.0000,9,  -999.00,9,   -999.0,9,   -999.0,9,     8.01,2,  2.5490
 3230CITHER2_1,  A17C,    80,  1,      9,      9,2,19940201,2015,-27.7410, -36.9533, 4678,   3199.0,   2.6970,  34.9180,2,  34.9200,2,    253.2,2,    252.6,2,    34.70,2,    20.80,2,     1.40,2,    0.006,2,    0.012,2, -999.000,9,-999.0000,9,  -999.00,9,   -999.0,9,   -999.0,9,     8.01,2,  2.4320
 3230CITHER2_1,  A17C,    80,  1,     10,     10,2,19940201,2015,-27.7410, -36.9533, 4678,   3199.1,   2.6960,  34.9180,2,  34.9200,2,    253.2,2,    252.5,2,    34.60,2,    20.82,2,     1.41,2,    0.007,2,    0.010,2, -999.000,9,-999.0000,9,  -999.00,9,   -999.0,9,   -999.0,9,     8.01,2,  2.4310
 3230CITHER2_1,  A17C,    80,  1,      8,      8,2,19940201,2015,-27.7410, -36.9533, 4678,   3399.4,   2.5800,  34.9080,2,  34.9090,2,    253.6,2,    252.6,2,    37.40,2,    21.03,2,     1.42,2,    0.006,2,    0.010,2, -999.000,9,-999.0000,9,  -999.00,9,   -999.0,9,   -999.0,9,     8.01,2,  2.2970
 3230CITHER2_1,  A17C,    80,  1,      7,      7,2,19940201,2015,-27.7410, -36.9533, 4678,   3597.7,   2.3390,  34.8840,2,  34.8880,2,    251.3,2,    250.0,2,    46.00,2,    22.03,2,     1.50,2,    0.007,2,    0.014,2, -999.000,9,-999.0000,9,  -999.00,9,   -999.0,9,   -999.0,9,     8.00,2,  2.0400
 3230CITHER2_1,  A17C,    80,  1,      6,      6,2,19940201,2015,-27.7410, -36.9533, 4678,   3800.0,   1.8760,  34.8410,2,  34.8390,2,    244.1,2,    242.8,2,    64.90,2,    24.64,2,     1.69,2,    0.004,2,    0.009,2, -999.000,9,-999.0000,9,  -999.00,9,   -999.0,9,   -999.0,9,     7.97,2,  1.5680
 3230CITHER2_1,  A17C,    80,  1,      5,      5,2,19940201,2015,-27.7410, -36.9533, 4678,   3998.1,   1.4900,  34.7980,2,  34.7970,2,    236.1,2,    235.7,2,    82.70,2,    26.92,2,     1.84,2,    0.009,2,    0.015,2, -999.000,9,-999.0000,9,  -999.00,9,   -999.0,9,   -999.0,9,     7.95,2,  1.1710
 3230CITHER2_1,  A17C,    80,  1,      4,      4,2,19940201,2015,-27.7410, -36.9533, 4678,   4198.7,   1.1780,  34.7620,2,  34.7610,2,    229.8,2,    229.8,2,    96.70,2,    28.80,2,     1.98,2,    0.016,2,    0.012,2, -999.000,9,-999.0000,9,  -999.00,9,   -999.0,9,   -999.0,9,     7.93,2,  0.8460
 3230CITHER2_1,  A17C,    80,  1,      3,      3,2,19940201,2015,-27.7410, -36.9533, 4678,   4399.8,   0.5940,  34.7050,2,  34.7090,2,    223.0,2,    223.3,2,   117.60,2,    31.61,2,     2.18,2,    0.078,2,    0.045,2, -999.000,9,-999.0000,9,  -999.00,9,   -999.0,9,   -999.0,9,     7.89,2,  0.2580
 3230CITHER2_1,  A17C,    80,  1,      2,      2,2,19940201,2015,-27.7410, -36.9533, 4678,   4598.3,   0.2320,  34.6750,2,  34.6750,2,    220.1,2,    222.0,2,   129.70,2,    33.14,2,     2.30,2,    0.127,2,    0.075,2, -999.000,9,-999.0000,9,  -999.00,9,   -999.0,9,   -999.0,9,     7.88,2, -0.1140
 3230CITHER2_1,  A17C,    80,  1,      1,      1,2,19940201,2015,-27.7410, -36.9533, 4678,   4749.3,   0.2370,  34.6750,2,  34.6750,2,    220.5,2,    222.6,2,   129.60,2,    33.23,2,     2.30,2,    0.127,2,    0.075,2, -999.000,9,-999.0000,9,  -999.00,9,   -999.0,9,   -999.0,9,     7.88,2, -0.1260
 3230CITHER2_1,  A17C,    81,  1,     32,     32,2,19940202,0158,-27.3522, -36.6120, 4647,      1.7,  26.5170,  36.4230,2,-999.0000,5,    195.6,2,    209.4,2,     1.00,2,     0.04,2,     0.03,2,    1.884,2,    1.109,2, -999.000,9,-999.0000,9,  -999.00,9,   2034.9,2,   2398.0,2,     8.38,2, 26.5170
 3230CITHER2_1,  A17C,    81,  1,     30,     30,2,19940202,0158,-27.3522, -36.6120, 4647,     41.6,  25.2760,  36.7490,2,  36.7300,2,    215.8,2,    212.1,2,     0.90,2,     0.04,2,     0.01,2,    1.968,2,    1.153,2, -999.000,9,-999.0000,9,  -999.00,9,   2051.8,2,   2416.8,2,     8.37,2, 25.2670
 3230CITHER2_1,  A17C,    81,  1,     31,     31,2,19940202,0158,-27.3522, -36.6120, 4647,     41.9,  25.2690,  36.7590,2,  36.7270,2,    215.8,2,    210.8,2,     0.90,2,     0.04,2,     0.02,2, -999.000,5, -999.000,5, -999.000,9,-999.0000,9,  -999.00,9,   -999.0,5,   2416.8,2,     8.38,2, 25.2600
 3230CITHER2_1,  A17C,    81,  1,     29,     29,2,19940202,0158,-27.3522, -36.6120, 4647,     76.3,  22.0960,  36.6510,2,  36.6390,2,    226.8,2,    224.3,2,     0.90,2,     0.04,2,     0.03,2,    2.207,2,    1.271,2, -999.000,9,-999.0000,9,  -999.00,9,   2058.7,2,   2412.3,2,     8.35,2, 22.0810
 3230CITHER2_1,  A17C,    81,  1,     28,     28,2,19940202,0158,-27.3522, -36.6120, 4647,    100.6,  21.1330,  36.5580,2,  36.5370,2,    215.4,2,    214.2,2,     0.90,2,     0.04,2,     0.06,2,    2.247,2,    1.283,2, -999.000,9,-999.0000,9,  -999.00,9,   2069.1,2,   2407.6,2,     8.33,2, 21.1140
 3230CITHER2_1,  A17C,    81,  1,     27,     27,2,19940202,0158,-27.3522, -36.6120, 4647,    150.3,  19.0470,  36.1240,2,  36.1150,2,    203.0,2,    203.5,2,     1.20,2,     1.46,2,     0.23,2, -999.000,5, -999.000,5, -999.000,9,-999.0000,9,  -999.00,9,   2082.6,2,   2380.8,2,     8.27,2, 19.0200
 3230CITHER2_1,  A17C,    81,  1,     26,     26,2,19940202,0158,-27.3522, -36.6120, 4647,    200.3,  17.5420,  35.8580,2,  35.8480,2,    203.3,2,    204.6,2,     1.60,2,     2.50,2,     0.33,2,    2.470,2,    1.352,2, -999.000,9,-999.0000,9,  -999.00,9,   2084.9,2,   2365.7,2,     8.25,2, 17.5080
 3230CITHER2_1,  A17C,    81,  1,     25,     25,2,19940202,0158,-27.3522, -36.6120, 4647,    298.7,  14.9480,  35.4960,2,  35.4880,2,    205.2,2,    203.6,2,     2.50,2,     6.56,2,     0.57,2, -999.000,5, -999.000,5, -999.000,9,-999.0000,9,  -999.00,9,   2097.5,2,   2345.0,2,     8.19,2, 14.9030
 3230CITHER2_1,  A17C,    81,  1,     24,     24,2,19940202,0158,-27.3522, -36.6120, 4647,    401.8,  13.4120,  35.2790,2,  35.2750,2,    208.6,2,    206.0,2,     3.40,2,     9.73,2,     0.77,2,    2.331,2,    1.249,2, -999.000,9,-999.0000,9,  -999.00,9,   2107.8,2,   2334.2,2,     8.15,2, 13.3550
 3230CITHER2_1,  A17C,    81,  1,     23,     23,2,19940202,0158,-27.3522, -36.6120, 4647,    499.9,  11.1800,  34.9730,2,  34.9670,2,    206.1,2,    203.3,2,     5.70,2,    15.21,2,     1.09,2,    2.038,2,    1.091,2, -999.000,9,-999.0000,9,  -999.00,9,   2124.1,2,   2319.7,2,     8.09,2, 11.1170
 3230CITHER2_1,  A17C,    81,  1,     22,     22,2,19940202,0158,-27.3522, -36.6120, 4647,    601.8,   8.7960,  34.6780,2,  34.6750,2,    204.3,2,    202.6,2,     9.60,2,    20.95,2,     1.46,2,    1.740,2,    0.914,2, -999.000,9,-999.0000,9,  -999.00,9,   2144.7,2,   2308.9,2,     8.02,2,  8.7300
 3230CITHER2_1,  A17C,    81,  1,     21,     21,2,19940202,0158,-27.3522, -36.6120, 4647,    699.5,   6.6170,  34.4550,2,  34.4520,2,    215.0,2,    214.6,2,    13.80,2,    25.24,2,     1.76,2,    1.647,2,    0.872,2, -999.000,9,-999.0000,9,  -999.00,9,   2157.0,2,   2302.7,2,     7.98,2,  6.5520
 3230CITHER2_1,  A17C,    81,  1,     20,     20,2,19940202,0158,-27.3522, -36.6120, 4647,    800.5,   5.2140,  34.3470,2,  34.3450,2,    220.4,2,    220.1,2,    19.30,2,    28.33,2,     1.94,2,    1.349,2,    0.718,2, -999.000,9,-999.0000,9,  -999.00,9,   2166.3,2,   2303.6,2,     7.95,2,  5.1470
 3230CITHER2_1,  A17C,    81,  1,     19,     19,2,19940202,0158,-27.3522, -36.6120, 4647,   1001.0,   3.7650,  34.3450,2,  34.3430,2,    207.8,2,    207.7,2,    34.70,2,    32.04,2,     2.19,2,    0.587,2,    0.334,2, -999.000,9,-999.0000,9,  -999.00,9,   2198.6,2,   2314.3,2,     7.90,2,  3.6910
 3230CITHER2_1,  A17C,    81,  1,     18,     18,2,19940202,0158,-27.3522, -36.6120, 4647,   1200.0,   3.2410,  34.4610,2,  34.4590,2,    190.9,2,    190.5,2,    47.80,2,    33.09,2,     2.27,2,    0.168,2,    0.106,2, -999.000,9,-999.0000,9,  -999.00,9,   2221.3,2,   2328.8,2,     7.87,2,  3.1560
 3230CITHER2_1,  A17C,    81,  1,     17,     17,2,19940202,0158,-27.3522, -36.6120, 4647,   1399.8,   3.3820,  34.6580,2,  34.6600,2,    190.6,2,    191.5,2,    44.80,2,    30.61,2,     2.08,2,    0.021,2,    0.014,2, -999.000,9,-999.0000,9,  -999.00,9,   2218.4,2,   2335.2,2,     7.90,2,  3.2780
 3230CITHER2_1,  A17C,    81,  1,     16,     16,2,19940202,0158,-27.3522, -36.6120, 4647,   1599.5,   3.4920,  34.8050,2,  34.7920,2,    209.8,2,    208.3,2,    38.20,2,    26.72,2,     1.82,2,    0.019,2,    0.021,2, -999.000,9,-999.0000,9,  -999.00,9,   2204.0,2,   2336.3,2,     7.94,2,  3.3690
 3230CITHER2_1,  A17C,    81,  1,     15,     15,2,19940202,0158,-27.3522, -36.6120, 4647,   1799.0,   3.1960,  34.8320,2,  34.8310,2,    219.0,2,    219.8,2,    39.80,2,    25.22,2,     1.72,2,    0.013,2,    0.012,2, -999.000,9,-999.0000,9,  -999.00,9,   2200.6,2,   2340.7,2,     7.95,2,  3.0590
 3230CITHER2_1,  A17C,    81,  1,     14,     14,2,19940202,0158,-27.3522, -36.6120, 4647,   1999.8,   3.2680,  34.8980,2,  34.8970,2,    236.9,2,    236.0,2,    32.00,2,    22.51,2,     1.54,2,    0.015,2,    0.016,2, -999.000,9,-999.0000,9,  -999.00,9,   2185.5,2,   2336.4,2,     7.98,2,  3.1120
 3230CITHER2_1,  A17C,    81,  1,     13,     13,2,19940202,0158,-27.3522, -36.6120, 4647,   2199.5,   3.1900,  34.9200,2,  34.9180,2,    244.5,2,    243.8,2,    29.80,2,    21.52,2,     1.45,2,    0.013,2,    0.016,2, -999.000,9,-999.0000,9,  -999.00,9,   2180.4,2,   2335.0,2,     8.00,2,  3.0160
 3230CITHER2_1,  A17C,    81,  1,     12,     12,2,19940202,0158,-27.3522, -36.6120, 4647,   2398.9,   3.0850,  34.9270,2,  34.9250,2,    248.4,2,    247.0,2,    30.00,2,    21.19,2,     1.44,2,    0.009,2,    0.015,2, -999.000,9,-999.0000,9,  -999.00,9,   2178.8,2,   2338.6,2,     8.01,2,  2.8930
 3230CITHER2_1,  A17C,    81,  1,     11,     11,2,19940202,0158,-27.3522, -36.6120, 4647,   2599.5,   2.9930,  34.9310,2,  34.9320,2,    251.4,2,    250.2,2,    29.90,2,    20.82,2,     1.41,2, -999.000,5, -999.000,5, -999.000,9,-999.0000,9,  -999.00,9,   2177.6,2,   2339.9,2,     8.01,2,  2.7830
 3230CITHER2_1,  A17C,    81,  1,     10,     10,2,19940202,0158,-27.3522, -36.6120, 4647,   2800.0,   2.9270,  34.9330,2,  34.9310,2,    252.3,2,    251.3,2,    30.50,2,    20.64,2,     1.40,2,    0.010,2,    0.009,2, -999.000,9,-999.0000,9,  -999.00,9,   2177.9,2,   2339.2,2,     8.01,2,  2.6980
 3230CITHER2_1,  A17C,    81,  1,      9,      9,2,19940202,0158,-27.3522, -36.6120, 4647,   3000.0,   2.8100,  34.9240,2,  34.9240,2,    252.8,2,    251.6,2,    32.70,2,    20.79,2,     1.41,2,    0.008,2,    0.013,2, -999.000,9,-999.0000,9,  -999.00,9,   2179.5,2,   2341.6,2,     8.01,2,  2.5630
 3230CITHER2_1,  A17C,    81,  1,      8,      8,2,19940202,0158,-27.3522, -36.6120, 4647,   3299.3,   2.6300,  34.9150,2,  34.9110,2,    254.0,2,    254.3,2,    35.40,2,    20.76,2,     1.41,2,    0.010,2,    0.012,2, -999.000,9,-999.0000,9,  -999.00,9,   2180.9,2,   2343.3,2,     8.01,2,  2.3560
 3230CITHER2_1,  A17C,    81,  1,      7,      7,2,19940202,0158,-27.3522, -36.6120, 4647,   3598.8,   2.3290,  34.8840,2,  34.8880,2,    251.8,2,    249.8,2,    45.90,2,    21.90,2,     1.50,2,    0.011,2,    0.013,2, -999.000,9,-999.0000,9,  -999.00,9,   2190.7,2,   2347.5,2,     8.00,2,  2.0300
 3230CITHER2_1,  A17C,    81,  1,      6,      6,2,19940202,0158,-27.3522, -36.6120, 4647,   3799.4,   1.8270,  34.8350,2,  34.8230,2,    243.9,2,    242.0,2,    65.20,2,    24.60,2,     1.70,2,    0.004,2,    0.006,2, -999.000,9,-999.0000,9,  -999.00,9,   2209.9,2,   2357.7,2,     7.97,2,  1.5200
 3230CITHER2_1,  A17C,    81,  1,      5,      5,2,19940202,0158,-27.3522, -36.6120, 4647,   3999.7,   1.4290,  34.7920,2,  34.7900,2,    235.6,2,    234.2,2,    84.40,2,    27.39,2,     1.87,2,    0.007,2,    0.010,2, -999.000,9,-999.0000,9,  -999.00,9,   2227.2,2,   2363.9,2,     7.95,2,  1.1110
 3230CITHER2_1,  A17C,    81,  1,      4,      4,2,19940202,0158,-27.3522, -36.6120, 4647,   4199.8,   1.1390,  34.7600,2,  34.7580,2,    229.4,2,    228.6,2,    97.40,2,    29.23,2,     1.99,2,    0.020,2,    0.011,2, -999.000,9,-999.0000,9,  -999.00,9,   2239.5,2,   2370.7,2,     7.92,2,  0.8080
 3230CITHER2_1,  A17C,    81,  1,      3,      3,2,19940202,0158,-27.3522, -36.6120, 4647,   4398.7,   0.5810,  34.7030,2,  34.7030,2,    220.9,2,    221.4,2,   118.30,2,    32.13,2,     2.21,2,    0.079,2,    0.049,2, -999.000,9,-999.0000,9,  -999.00,9,   2258.2,2,   2375.1,2,     7.89,2,  0.2460
 3230CITHER2_1,  A17C,    81,  1,      2,      2,2,19940202,0158,-27.3522, -36.6120, 4647,   4598.9,   0.2350,  34.6760,2,  34.6780,2,    220.6,2,    222.5,2,   128.10,2,    33.24,2,     2.29,2,    0.119,2,    0.061,2, -999.000,9,-999.0000,9,  -999.00,9,   2266.5,2,   2377.5,2,     7.88,2, -0.1110
 3230CITHER2_1,  A17C,    81,  1,      1,      1,2,19940202,0158,-27.3522, -36.6120, 4647,   4707.2,   0.2280,  34.6730,2,  34.6790,2,    220.9,2,    222.9,2,   128.90,2,    33.41,2,     2.31,2,    0.129,2,    0.078,2, -999.000,9,-999.0000,9,  -999.00,9,   2267.2,2,   2374.2,2,     7.88,2, -0.1300