BOTTLE,20030515WHPSIOSA
EXPOCODE,SECT_ID,STNNBR,CASTNO,SAMPNO,BTLNBR,BTLNBR_FLAG_W,DATE,TIME,LATITUDE,LONGITUDE,DEPTH,CTDPRS,CTDTMP,CTDSAL,CTDSAL_FLAG_W,SALNTY,SALNTY_FLAG_W,CTDOXY,CTDOXY_FLAG_W,OXYGEN,OXYGEN_FLAG_W,SILCAT,SILCAT_FLAG_W,NITRAT,NITRAT_FLAG_W,PHSPHT,PHSPHT_FLAG_W,CFC-11,CFC-11_FLAG_W,CFC-12,CFC-12_FLAG_W,TRITUM,TRITUM_FLAG_W,HELIUM,HELIUM_FLAG_W,DELHE3,DELHE3_FLAG_W,TCARBN,TCARBN_FLAG_W,ALKALI,ALKALI_FLAG_W,PH,PH_FLAG_W,THETA
,,,,,,,,,,,,DBAR,ITS-90,PSS-78,,PSS-78,,UMOL/KG,,UMOL/KG,,UMOL/KG,,UMOL/KG,,UMOL/KG,,PMOL/KG,,PMOL/KG,,TU,,NMOL/KG,,PERCNT,,UMOL/KG,,UMOL/KG,,,,DEG C
 3230CITHER2_2,  A17N,   140,  1,     30,     30,2,19940222,1638,-13.4002, -31.5687, 4985,    126.5,  22.7090,  36.6810,2,  36.6570,2,    210.5,2,    209.6,2,     1.20,2,     0.28,2,     0.23,2,    1.968,2,    1.107,2, -999.000,9,-999.0000,9,  -999.00,9,   2086.0,2,   2416.4,2,     8.31,2, 22.6830
 3230CITHER2_2,  A17N,   140,  1,     28,     28,2,19940222,1638,-13.4002, -31.5687, 4985,    400.0,   8.7330,  34.7460,2,  34.7580,2,    121.8,2,    122.9,2,    14.90,2,    29.73,2,     1.96,2,    0.394,2,    0.217,2, -999.000,9,-999.0000,9,  -999.00,9,   2199.6,2,   2310.0,2,     7.88,2,  8.6900
 3230CITHER2_2,  A17N,   140,  1,     26,     26,2,19940222,1638,-13.4002, -31.5687, 4985,    802.5,   4.2750,  34.4440,2,  34.4400,2,    171.7,2,    170.2,2,    33.50,2,    34.08,2,     2.32,2,    0.070,2,    0.040,2, -999.000,9,-999.0000,9,  -999.00,9,   2214.7,2,   2314.8,2,     7.86,2,  4.2140
 3230CITHER2_2,  A17N,   140,  1,     23,     23,2,19940222,1638,-13.4002, -31.5687, 4985,   1402.1,   4.0020,  34.8590,2,  34.8590,2,    203.6,2,    206.4,2,    26.20,2,    26.05,2,     1.74,2,    0.001,2,   -0.001,2, -999.000,9,-999.0000,9,  -999.00,9,   2194.0,2,   2328.6,2,     7.94,2,  3.8910
 3230CITHER2_2,  A17N,   140,  1,     22,     22,2,19940222,1638,-13.4002, -31.5687, 4985,   1501.1,   4.0020,  34.9090,2,  34.9060,2,    217.4,2,    218.7,2,    23.50,2,    23.80,2,     1.61,2,    0.010,2,    0.007,2, -999.000,9,-999.0000,9,  -999.00,9,   2184.6,2,   2330.6,2,     7.96,2,  3.8820
 3230CITHER2_2,  A17N,   140,  1,     18,     18,2,19940222,1638,-13.4002, -31.5687, 4985,   2000.0,   3.3740,  34.9470,2,  34.9470,2,    248.0,2,    247.4,2,    24.80,2,    21.03,2,     1.40,2,    0.014,2,    0.008,2, -999.000,9,-999.0000,9,  -999.00,9,   2172.1,2,   2332.9,2,     8.00,2,  3.2160
 3230CITHER2_2,  A17N,   140,  1,     17,     17,2,19940222,1638,-13.4002, -31.5687, 4985,   2199.4,   3.1830,  34.9480,2,  34.9470,2,    251.1,2,    251.0,2,    26.00,2,    20.67,2,     1.38,2,    0.011,2,    0.011,2, -999.000,9,-999.0000,9,  -999.00,9,   2173.6,2,   2337.1,2,     8.00,2,  3.0090
 3230CITHER2_2,  A17N,   140,  1,     16,     16,2,19940222,1638,-13.4002, -31.5687, 4985,   2398.7,   2.9700,  34.9260,2,  34.9240,2,    246.9,2,    246.7,2,    31.80,2,    21.45,2,     1.44,2,    0.001,2,    0.004,2, -999.000,9,-999.0000,9,  -999.00,9,   2180.1,2,   2338.2,2,     8.00,2,  2.7810
 3230CITHER2_2,  A17N,   140,  1,     15,     15,2,19940222,1638,-13.4002, -31.5687, 4985,   2694.1,   2.8590,  34.9250,2,  34.9220,2,    248.6,2,    248.2,2,    33.50,2,    21.60,2,     1.44,2,    0.003,2,    0.002,2, -999.000,9,-999.0000,9,  -999.00,9,   2181.2,2,   2343.3,2,     8.00,2,  2.6430
 3230CITHER2_2,  A17N,   140,  1,     14,     14,2,19940222,1638,-13.4002, -31.5687, 4985,   2999.8,   2.7060,  34.9080,2,  34.9040,2,    245.1,2,    244.3,2,    38.60,2,    22.31,2,     1.50,2,    0.001,2,   -0.002,2, -999.000,9,-999.0000,9,  -999.00,9,   2188.4,2,   2347.1,2,     7.99,2,  2.4620
 3230CITHER2_2,  A17N,   140,  1,     13,     13,2,19940222,1638,-13.4002, -31.5687, 4985,   3199.6,   2.6650,  34.9120,2,  34.9110,2,    248.7,2,    248.5,2,    36.90,2,    21.80,2,     1.45,2,    0.002,2,   -0.003,2, -999.000,9,-999.0000,9,  -999.00,9,   2186.2,2,   2345.0,2,     8.00,2,  2.4010
 3230CITHER2_2,  A17N,   140,  1,     12,     12,2,19940222,1638,-13.4002, -31.5687, 4985,   3399.2,   2.6220,  34.9140,2,  34.9120,2,    253.1,2,    252.7,2,    35.30,2,    21.42,2,     1.43,2,    0.005,2,    0.002,2, -999.000,9,-999.0000,9,  -999.00,9,   -999.0,5,   2338.9,2,     8.01,2,  2.3360
 3230CITHER2_2,  A17N,   140,  1,     11,     11,2,19940222,1638,-13.4002, -31.5687, 4985,   3399.6,   2.6210,  34.9150,2,  34.9130,2,    253.1,2,    252.9,2,    35.00,2,    21.27,2,     1.42,2,    0.004,2,    0.003,2, -999.000,9,-999.0000,9,  -999.00,9,   2181.3,2,   2338.9,2,     8.01,2,  2.3370
 3230CITHER2_2,  A17N,   140,  1,     10,     10,2,19940222,1638,-13.4002, -31.5687, 4985,   3542.9,   2.5420,  34.9100,2,  34.9090,2,    254.8,2,    254.1,2,    36.20,2,    21.02,2,     1.42,2,    0.010,2,    0.008,2, -999.000,9,-999.0000,9,  -999.00,9,   2182.5,2,   2341.0,2,     8.00,2,  2.2440
 3230CITHER2_2,  A17N,   140,  1,      9,      9,2,19940222,1638,-13.4002, -31.5687, 4985,   3699.9,   2.4330,  34.9000,2,  34.8990,2,    254.6,2,    253.7,2,    39.30,2,    21.45,2,     1.45,2,    0.007,2,    0.005,2, -999.000,9,-999.0000,9,  -999.00,9,   2184.9,2,   2344.5,2,     8.00,2,  2.1200
 3230CITHER2_2,  A17N,   140,  1,      8,      8,2,19940222,1638,-13.4002, -31.5687, 4985,   3852.2,   2.2400,  34.8780,2,  34.8790,2,    252.1,2,    250.7,2,    47.40,2,    22.51,2,     1.52,2,    0.001,2,    0.000,2, -999.000,9,-999.0000,9,  -999.00,9,   2192.9,2,   2350.8,2,     7.99,2,  1.9160
 3230CITHER2_2,  A17N,   140,  1,      7,      7,2,19940222,1638,-13.4002, -31.5687, 4985,   3998.2,   2.0710,  34.8600,2,  34.8610,2,    248.7,2,    247.8,2,    55.00,2,    23.21,2,     1.58,2,    0.004,2,    0.005,2, -999.000,9,-999.0000,9,  -999.00,9,   2199.9,2,   2353.6,2,     7.98,2,  1.7350
 3230CITHER2_2,  A17N,   140,  1,      6,      6,2,19940222,1638,-13.4002, -31.5687, 4985,   4199.0,   1.7250,  34.8240,2,  34.8220,2,    242.6,2,    242.0,2,    68.80,2,    25.05,2,     1.71,2,    0.002,2,    0.004,2, -999.000,9,-999.0000,9,  -999.00,9,   2214.9,2,   2360.9,2,     7.96,2,  1.3770
 3230CITHER2_2,  A17N,   140,  1,      5,      5,2,19940222,1638,-13.4002, -31.5687, 4985,   4397.9,   1.2950,  34.7770,2,  34.7770,2,    234.1,2,    233.3,2,    91.00,2,    28.32,2,     1.93,2,    0.005,2,    0.004,2, -999.000,9,-999.0000,9,  -999.00,9,   2239.7,2,   2368.6,2,     7.93,2,  0.9370
 3230CITHER2_2,  A17N,   140,  1,      4,      4,2,19940222,1638,-13.4002, -31.5687, 4985,   4598.8,   1.0650,  34.7510,2,  34.7500,2,    229.9,2,    228.7,2,   100.90,2,    29.97,2,     2.02,2,    0.016,2,    0.008,2, -999.000,9,-999.0000,9,  -999.00,9,   2248.6,2,   2373.9,2,     7.92,2,  0.6920
 3230CITHER2_2,  A17N,   140,  1,      3,      3,2,19940222,1638,-13.4002, -31.5687, 4985,   4798.9,   0.6070,  34.7050,2,  34.7070,2,    223.3,2,    223.0,2,   118.00,2,    32.45,2,     2.20,2,    0.044,2,    0.024,2, -999.000,9,-999.0000,9,  -999.00,9,   2258.5,2,   2380.2,2,     7.88,2,  0.2260
 3230CITHER2_2,  A17N,   140,  1,      2,      2,2,19940222,1638,-13.4002, -31.5687, 4985,   4999.0,   0.4780,  34.6900,2,  34.6910,2,    221.1,2,    221.9,2,   124.10,2,    32.80,2,     2.24,2,    0.069,2,    0.036,2, -999.000,9,-999.0000,9,  -999.00,9,   2260.2,2,   2379.1,2,     7.88,2,  0.0790
 3230CITHER2_2,  A17N,   140,  1,      1,      1,2,19940222,1638,-13.4002, -31.5687, 4985,   5068.3,   0.4650,  34.6890,2,  34.6900,2,    220.6,2,    222.1,2,   123.60,2,    32.42,2,     2.25,2,    0.072,2,    0.036,2, -999.000,9,-999.0000,9,  -999.00,9,   2260.7,2,   2379.6,2,     7.88,2,  0.0580
 3230CITHER2_2,  A17N,   141,  1,     31,     31,2,19940222,2308,-13.4207, -31.0820, 5043,      1.5,  27.8730,  37.0980,2,  37.0940,2,    197.3,2,    196.6,2,     1.20,2,     0.04,2,     0.07,2,    1.629,2,    0.928,2, -999.000,9,-999.0000,9,  -999.00,9,   2056.1,2,   -999.0,9,     8.39,2, 27.8730
 3230CITHER2_2,  A17N,   141,  1,     32,     32,2,19940222,2308,-13.4207, -31.0820, 5043,      1.9,  27.8750,  37.0970,2,  37.0970,2,    197.3,2,    196.6,2,     1.20,2,     0.04,2,     0.08,2,    1.634,2,    0.926,2, -999.000,9,-999.0000,9,  -999.00,9,   -999.0,5,   -999.0,9,     8.39,2, 27.8750
 3230CITHER2_2,  A17N,   141,  1,     30,     30,2,19940222,2308,-13.4207, -31.0820, 5043,     51.1,  27.8860,  37.1030,2,  37.1010,2,    194.5,2,    196.6,2,     1.20,2,     0.04,2,     0.07,2,    1.634,2,    0.934,2, -999.000,9,-999.0000,9,  -999.00,9,   2057.9,2,   -999.0,9,     8.39,2, 27.8740
 3230CITHER2_2,  A17N,   141,  1,     29,     29,2,19940222,2308,-13.4207, -31.0820, 5043,    124.2,  24.0850,  36.9530,2,  36.9630,2,    212.9,2,    211.7,2,     1.10,2,     0.04,2,     0.15,2,    1.927,2,    1.065,2, -999.000,9,-999.0000,9,  -999.00,9,   2081.6,2,   -999.0,9,     8.34,2, 24.0590
 3230CITHER2_2,  A17N,   141,  1,     28,     28,2,19940222,2308,-13.4207, -31.0820, 5043,    200.9,  17.0490,  35.8280,2,  35.8670,2,    174.3,2,    170.8,2,     3.10,2,     8.86,2,     0.69,2,    2.034,2,    1.083,2, -999.000,9,-999.0000,9,  -999.00,9,   2123.7,2,   -999.0,9,     8.16,2, 17.0160
 3230CITHER2_2,  A17N,   141,  1,     27,     27,2,19940222,2308,-13.4207, -31.0820, 5043,    320.7,  11.0240,  35.0380,2,  35.0450,2,    103.8,2,    104.1,2,    10.80,2,    26.32,2,     1.70,2,    0.746,2,    0.404,2, -999.000,9,-999.0000,9,  -999.00,9,   2194.7,2,   -999.0,9,     7.92,2, 10.9840
 3230CITHER2_2,  A17N,   141,  1,     26,     26,2,19940222,2308,-13.4207, -31.0820, 5043,    400.4,   8.5130,  34.7380,2,  34.7440,2,    127.0,2,    130.1,2,    14.90,2,    29.40,2,     1.88,2,    0.519,2,    0.285,2, -999.000,9,-999.0000,9,  -999.00,9,   2194.4,2,   -999.0,9,     7.89,2,  8.4710
 3230CITHER2_2,  A17N,   141,  1,     25,     25,2,19940222,2308,-13.4207, -31.0820, 5043,    601.4,   5.6470,  34.4880,2,  34.4890,2,    147.9,2,    149.5,2,    24.50,2,    34.00,2,     2.20,2,    0.208,2,    0.114,2, -999.000,9,-999.0000,9,  -999.00,9,   2209.0,2,   -999.0,9,     7.85,2,  5.5960
 3230CITHER2_2,  A17N,   141,  1,     24,     24,2,19940222,2308,-13.4207, -31.0820, 5043,    800.0,   4.4820,  34.4460,2,  34.4430,2,    168.3,2,    166.1,2,    32.10,2,    34.60,2,     2.29,2,    0.103,2,    0.061,2, -999.000,9,-999.0000,9,  -999.00,9,   2213.2,2,   -999.0,9,     7.85,2,  4.4200
 3230CITHER2_2,  A17N,   141,  1,     23,     23,2,19940222,2308,-13.4207, -31.0820, 5043,   1000.9,   3.9740,  34.5340,2,  34.5340,2,    168.8,2,    167.5,2,    36.20,2,    34.06,2,     2.26,2,    0.009,2,    0.012,2, -999.000,9,-999.0000,9,  -999.00,9,   2220.0,2,   -999.0,9,     7.85,2,  3.8980
 3230CITHER2_2,  A17N,   141,  1,     22,     22,2,19940222,2308,-13.4207, -31.0820, 5043,   1200.4,   3.9310,  34.6730,2,  34.6700,2,    178.1,2,    178.1,2,    33.50,2,    31.54,2,     2.09,2,    0.000,2,    0.001,2, -999.000,9,-999.0000,9,  -999.00,9,   -999.0,9,   -999.0,9,     7.88,2,  3.8390
 3230CITHER2_2,  A17N,   141,  1,     21,     21,2,19940222,2308,-13.4207, -31.0820, 5043,   1399.7,   4.0350,  34.8420,2,  34.8370,2,    200.6,2,    201.3,2,    26.60,2,    26.89,2,     1.75,2,    0.004,2,    0.001,2, -999.000,9,-999.0000,9,  -999.00,9,   -999.0,9,   -999.0,9,     7.93,2,  3.9240
 3230CITHER2_2,  A17N,   141,  1,     20,     20,2,19940222,2308,-13.4207, -31.0820, 5043,   1500.1,   3.9960,  34.8830,2,  34.8830,2,    212.7,2,    212.5,2,    24.90,2,    25.06,2,     1.64,2,    0.002,2,    0.002,2, -999.000,9,-999.0000,9,  -999.00,9,   -999.0,9,   -999.0,9,     7.96,2,  3.8760
 3230CITHER2_2,  A17N,   141,  1,     19,     19,2,19940222,2308,-13.4207, -31.0820, 5043,   1700.6,   3.7860,  34.9320,2,  34.9330,2,    232.0,2,    231.7,2,    23.20,2,    22.81,2,     1.47,2,    0.004,2,    0.005,2, -999.000,9,-999.0000,9,  -999.00,9,   -999.0,9,   -999.0,9,     7.99,2,  3.6500
 3230CITHER2_2,  A17N,   141,  1,     18,     18,2,19940222,2308,-13.4207, -31.0820, 5043,   1801.8,   3.6660,  34.9420,2,  34.9440,2,    238.7,2,    238.2,2,    23.20,2,    22.11,2,     1.41,2,    0.007,2,    0.011,2, -999.000,9,-999.0000,9,  -999.00,9,   -999.0,9,   -999.0,9,     7.99,2,  3.5220
 3230CITHER2_2,  A17N,   141,  1,     16,     16,2,19940222,2308,-13.4207, -31.0820, 5043,   2000.5,   3.4250,  34.9490,2,  34.9470,2,    245.7,2,    247.5,2,    24.30,2,    21.42,2,     1.35,2,    0.011,2,    0.005,2, -999.000,9,-999.0000,9,  -999.00,9,   -999.0,9,   -999.0,9,     8.01,2,  3.2660
 3230CITHER2_2,  A17N,   141,  1,     15,     15,2,19940222,2308,-13.4207, -31.0820, 5043,   2199.1,   3.1510,  34.9390,2,  34.9370,2,    247.4,2,    248.2,2,    28.00,2,    21.73,2,     1.36,2,    0.006,2,    0.007,2, -999.000,9,-999.0000,9,  -999.00,9,   -999.0,9,   -999.0,9,     8.01,2,  2.9780
 3230CITHER2_2,  A17N,   141,  1,     14,     14,2,19940222,2308,-13.4207, -31.0820, 5043,   2400.2,   2.9610,  34.9250,2,  34.9260,2,    245.6,2,    246.2,2,    32.40,2,    22.08,2,     1.40,2,    0.002,2,    0.000,2, -999.000,9,-999.0000,9,  -999.00,9,   -999.0,9,   -999.0,9,     8.00,2,  2.7720
 3230CITHER2_2,  A17N,   141,  1,     13,     13,2,19940222,2308,-13.4207, -31.0820, 5043,   2700.2,   2.8200,  34.9210,2,  34.9170,2,    246.7,2,    247.4,2,    34.60,2,    22.08,2,     1.40,2,    0.004,2,    0.002,2, -999.000,9,-999.0000,9,  -999.00,9,   -999.0,9,   -999.0,9,     8.00,2,  2.6040
 3230CITHER2_2,  A17N,   141,  1,     12,     12,2,19940222,2308,-13.4207, -31.0820, 5043,   2998.5,   2.7390,  34.9200,2,  34.9190,2,    249.2,2,    249.4,2,    35.10,2,    21.89,2,     1.39,2,    0.004,2,    0.005,2, -999.000,9,-999.0000,9,  -999.00,9,   -999.0,9,   -999.0,9,     8.00,2,  2.4940
 3230CITHER2_2,  A17N,   141,  1,     11,     11,2,19940222,2308,-13.4207, -31.0820, 5043,   3198.3,   2.6580,  34.9140,2,  34.9120,2,    250.2,2,    250.1,2,    36.50,2,    21.89,2,     1.39,2,    0.004,2,    0.002,2, -999.000,9,-999.0000,9,  -999.00,9,   -999.0,9,   -999.0,9,     8.01,2,  2.3940
 3230CITHER2_2,  A17N,   141,  1,     10,     10,2,19940222,2308,-13.4207, -31.0820, 5043,   3399.2,   2.5840,  34.9120,2,  34.9130,2,    252.4,2,    252.1,2,    36.50,2,    21.59,2,     1.38,2,    0.007,2,    0.002,2, -999.000,9,-999.0000,9,  -999.00,9,   -999.0,9,   -999.0,9,     8.01,2,  2.3000
 3230CITHER2_2,  A17N,   141,  1,      9,      9,2,19940222,2308,-13.4207, -31.0820, 5043,   3598.9,   2.4640,  34.9010,2,  34.9020,2,    252.9,2,    253.0,2,    39.60,2,    21.90,2,     1.40,2,    0.006,2,    0.003,2, -999.000,9,-999.0000,9,  -999.00,9,   -999.0,9,   -999.0,9,     8.00,2,  2.1620
 3230CITHER2_2,  A17N,   141,  1,      8,      8,2,19940222,2308,-13.4207, -31.0820, 5043,   3878.8,   2.2160,  34.8770,2,  34.8770,2,    252.1,2,    251.6,2,    47.60,2,    22.75,2,     1.46,2,    0.007,2,    0.007,2, -999.000,9,-999.0000,9,  -999.00,9,   -999.0,9,   -999.0,9,     8.00,2,  1.8890
 3230CITHER2_2,  A17N,   141,  1,      7,      7,2,19940222,2308,-13.4207, -31.0820, 5043,   3998.2,   2.0430,  34.8590,2,  34.8580,2,    248.9,2,    246.8,2,    56.50,2,    24.07,2,     1.55,2,    0.002,2,    0.001,2, -999.000,9,-999.0000,9,  -999.00,9,   -999.0,9,   -999.0,9,     7.98,2,  1.7080
 3230CITHER2_2,  A17N,   141,  1,      6,      6,2,19940222,2308,-13.4207, -31.0820, 5043,   4198.6,   1.6970,  34.8210,2,  34.8200,2,    241.3,2,    240.4,2,    72.70,2,    26.39,2,     1.71,2,   -0.001,2,    0.002,2, -999.000,9,-999.0000,9,  -999.00,9,   -999.0,9,   -999.0,9,     7.96,2,  1.3500
 3230CITHER2_2,  A17N,   141,  1,      5,      5,2,19940222,2308,-13.4207, -31.0820, 5043,   4397.5,   1.4070,  34.7890,2,  34.7880,2,    235.4,2,    235.2,2,    86.10,2,    27.93,2,     1.84,2,    0.006,2,    0.003,2, -999.000,9,-999.0000,9,  -999.00,9,   -999.0,9,   -999.0,9,     7.94,2,  1.0460
 3230CITHER2_2,  A17N,   141,  1,      4,      4,2,19940222,2308,-13.4207, -31.0820, 5043,   4596.9,   1.1220,  34.7590,2,  34.7560,2,    230.1,2,    229.8,2,    98.50,2,    29.67,2,     1.97,2,    0.011,2,    0.008,2, -999.000,9,-999.0000,9,  -999.00,9,   -999.0,9,   -999.0,9,     7.92,2,  0.7470
 3230CITHER2_2,  A17N,   141,  1,      3,      3,2,19940222,2308,-13.4207, -31.0820, 5043,   4799.8,   0.9220,  34.7360,2,  34.7350,2,    227.1,2,    226.3,2,   106.80,2,    30.92,2,     2.06,2,    0.020,2,    0.010,2, -999.000,9,-999.0000,9,  -999.00,9,   -999.0,9,   -999.0,9,     7.91,2,  0.5310
 3230CITHER2_2,  A17N,   141,  1,      2,      2,2,19940222,2308,-13.4207, -31.0820, 5043,   5019.4,   0.5300,  34.6950,2,  34.6970,2,    221.4,2,    221.8,2,   120.60,2,    33.05,2,     2.20,2,    0.059,2,    0.031,2, -999.000,9,-999.0000,9,  -999.00,9,   -999.0,9,   -999.0,9,     7.89,2,  0.1260
 3230CITHER2_2,  A17N,   141,  1,      1,      1,2,19940222,2308,-13.4207, -31.0820, 5043,   5120.9,   0.4900,  34.6900,2,  34.6910,2,    221.2,2,    221.6,2,   122.10,2,    33.06,2,     2.22,2,    0.066,2,    0.030,2, -999.000,9,-999.0000,9,  -999.00,9,   -999.0,9,   -999.0,9,     7.88,2,  0.0760