BOTTLE,20030515WHPSIOSA
EXPOCODE,SECT_ID,STNNBR,CASTNO,SAMPNO,BTLNBR,BTLNBR_FLAG_W,DATE,TIME,LATITUDE,LONGITUDE,DEPTH,CTDPRS,CTDTMP,CTDSAL,CTDSAL_FLAG_W,SALNTY,SALNTY_FLAG_W,CTDOXY,CTDOXY_FLAG_W,OXYGEN,OXYGEN_FLAG_W,SILCAT,SILCAT_FLAG_W,NITRAT,NITRAT_FLAG_W,PHSPHT,PHSPHT_FLAG_W,CFC-11,CFC-11_FLAG_W,CFC-12,CFC-12_FLAG_W,TRITUM,TRITUM_FLAG_W,HELIUM,HELIUM_FLAG_W,DELHE3,DELHE3_FLAG_W,TCARBN,TCARBN_FLAG_W,ALKALI,ALKALI_FLAG_W,PH,PH_FLAG_W,THETA
,,,,,,,,,,,,DBAR,ITS-90,PSS-78,,PSS-78,,UMOL/KG,,UMOL/KG,,UMOL/KG,,UMOL/KG,,UMOL/KG,,PMOL/KG,,PMOL/KG,,TU,,NMOL/KG,,PERCNT,,UMOL/KG,,UMOL/KG,,,,DEG C
 3230CITHER2_2,  A17N,   154,  1,     32,     32,2,19940228,1758, -7.4742, -30.2697, 5387,      8.1,  28.1770,  36.4520,2,  36.4510,2,    198.7,2,    197.1,2,     1.20,2,     0.00,2,     0.12,2,    1.627,2,    0.937,2, -999.000,9,-999.0000,9,  -999.00,9,   2035.2,2,   2399.2,2,     8.39,2, 28.1750
 3230CITHER2_2,  A17N,   154,  1,     31,     31,2,19940228,1758, -7.4742, -30.2697, 5387,     41.0,  28.1190,  36.4510,2,  36.4520,2,    205.4,2,    197.4,2,     1.20,2,     0.00,2,     0.12,2,    1.640,2,    0.937,2, -999.000,9,-999.0000,9,  -999.00,9,   2035.9,2,   2397.8,2,     8.38,2, 28.1090
 3230CITHER2_2,  A17N,   154,  1,     30,     30,2,19940228,1758, -7.4742, -30.2697, 5387,    123.0,  24.2400,  36.8620,2,  36.8490,2,    207.9,2,    206.4,2,     1.20,2,     0.00,2,     0.18,2,    1.857,2,    1.043,2, -999.000,9,-999.0000,9,  -999.00,9,   2075.9,2,   2427.0,2,     8.35,2, 24.2140
 3230CITHER2_2,  A17N,   154,  1,     29,     29,2,19940228,1758, -7.4742, -30.2697, 5387,    200.8,  13.6680,  35.4250,2,  35.3950,2,    113.0,2,    111.7,2,     7.40,2,    21.36,2,     1.43,2,    1.221,2,    0.660,2, -999.000,9,-999.0000,9,  -999.00,9,   2175.7,2,   2337.9,2,     8.01,2, 13.6390
 3230CITHER2_2,  A17N,   154,  1,     28,     28,2,19940228,1758, -7.4742, -30.2697, 5387,    402.4,   7.7230,  34.6750,2,  34.6700,2,    112.1,2,    112.1,2,    18.20,2,    33.44,2,     2.14,2,    0.295,2,    0.166,2, -999.000,9,-999.0000,9,  -999.00,9,   2212.7,2,   2308.2,2,     7.84,2,  7.6830
 3230CITHER2_2,  A17N,   154,  1,     27,     27,2,19940228,1758, -7.4742, -30.2697, 5387,    602.6,   6.1060,  34.5380,2,  34.5360,2,    129.5,2,    128.3,2,    23.50,2,    35.19,2,     2.28,2,    0.179,2,    0.105,2, -999.000,9,-999.0000,9,  -999.00,9,   2218.0,2,   2306.6,2,     7.83,2,  6.0520
 3230CITHER2_2,  A17N,   154,  1,     26,     26,2,19940228,1758, -7.4742, -30.2697, 5387,    800.5,   4.5870,  34.4560,2,  34.4540,2,    167.2,2,    158.8,2,    31.10,2,    35.19,2,     2.30,2,    0.108,2,    0.059,2, -999.000,9,-999.0000,9,  -999.00,9,   2215.9,2,   2313.1,2,     7.86,2,  4.5240
 3230CITHER2_2,  A17N,   154,  1,     25,     25,2,19940228,1758, -7.4742, -30.2697, 5387,   1001.2,   3.9940,  34.5630,2,  34.5630,2,    170.0,2,    169.9,2,    35.60,2,    33.67,2,     2.22,2,    0.019,2,    0.011,2, -999.000,9,-999.0000,9,  -999.00,9,   2217.6,2,   2321.2,2,     7.87,2,  3.9180
 3230CITHER2_2,  A17N,   154,  1,     24,     24,2,19940228,1758, -7.4742, -30.2697, 5387,   1200.5,   4.2560,  34.7840,2,  34.7830,2,    184.3,2,    186.2,2,    27.90,2,    29.13,2,     1.94,2,    0.017,2,    0.011,2, -999.000,9,-999.0000,9,  -999.00,9,   2204.0,2,   2324.9,2,     7.92,2,  4.1600
 3230CITHER2_2,  A17N,   154,  1,     23,     23,2,19940228,1758, -7.4742, -30.2697, 5387,   1401.2,   4.3470,  34.9240,2,  34.9240,2,    212.6,2,    213.3,2,    21.10,2,    24.22,2,     1.62,2,    0.029,2,    0.016,2, -999.000,9,-999.0000,9,  -999.00,9,   2185.5,2,   2324.3,2,     7.97,2,  4.2320
 3230CITHER2_2,  A17N,   154,  1,     22,     22,2,19940228,1758, -7.4742, -30.2697, 5387,   1503.4,   4.1220,  34.9420,2,  34.9430,2,    225.7,2,    225.6,2,    20.50,2,    23.15,2,     1.54,2,    0.017,2,    0.013,2, -999.000,9,-999.0000,9,  -999.00,9,   2179.4,2,   2328.0,2,     7.99,2,  4.0000
 3230CITHER2_2,  A17N,   154,  1,     21,     21,2,19940228,1758, -7.4742, -30.2697, 5387,   1601.5,   4.0070,  34.9560,2,  34.9560,2,    233.9,2,    234.4,2,    19.70,2,    22.34,2,     1.47,2,    0.012,2,    0.012,2, -999.000,9,-999.0000,9,  -999.00,9,   2174.5,2,   2327.4,2,     8.00,2,  3.8770
 3230CITHER2_2,  A17N,   154,  1,     20,     20,2,19940228,1758, -7.4742, -30.2697, 5387,   1702.9,   3.8380,  34.9620,2,  34.9610,2,    240.5,2,    240.2,2,    20.20,2,    21.78,2,     1.42,2,    0.015,2,    0.019,2, -999.000,9,-999.0000,9,  -999.00,9,   2172.7,2,   2329.3,2,     8.01,2,  3.7010
 3230CITHER2_2,  A17N,   154,  1,     19,     19,2,19940228,1758, -7.4742, -30.2697, 5387,   1798.4,   3.6770,  34.9560,2,  34.9590,2,    243.7,2,    242.7,2,    21.40,2,    21.69,2,     1.41,2,    0.008,2,    0.010,2, -999.000,9,-999.0000,9,  -999.00,9,   2172.5,2,   2326.9,2,     8.01,2,  3.5330
 3230CITHER2_2,  A17N,   154,  1,     18,     18,2,19940228,1758, -7.4742, -30.2697, 5387,   1999.5,   3.3830,  34.9480,2,  34.9480,2,    245.6,2,    245.5,2,    24.90,2,    21.73,2,     1.41,2,    0.002,2,    0.007,2, -999.000,9,-999.0000,9,  -999.00,9,   -999.0,5,   2333.7,2,     8.01,2,  3.2250
 3230CITHER2_2,  A17N,   154,  1,     17,     17,2,19940228,1758, -7.4742, -30.2697, 5387,   1999.9,   3.3780,  34.9470,2,  34.9480,2,    245.6,2,    245.8,2,    24.90,2,    21.65,2,     1.42,2,    0.006,2,    0.006,2, -999.000,9,-999.0000,9,  -999.00,9,   2175.1,2,   2333.7,2,     8.01,2,  3.2200
 3230CITHER2_2,  A17N,   154,  1,     16,     16,2,19940228,1758, -7.4742, -30.2697, 5387,   2199.6,   3.1510,  34.9400,2,  34.9350,2,    246.1,2,    246.0,2,    28.30,2,    21.65,2,     1.43,2,    0.004,2,    0.005,2, -999.000,9,-999.0000,9,  -999.00,9,   2178.0,2,   2337.0,2,     8.01,2,  2.9770
 3230CITHER2_2,  A17N,   154,  1,     15,     15,2,19940228,1758, -7.4742, -30.2697, 5387,   2396.7,   3.0000,  34.9300,2,  34.9300,2,    244.9,2,    245.3,2,    31.40,2,    21.97,2,     1.44,2,    0.002,2,    0.004,2, -999.000,9,-999.0000,9,  -999.00,9,   2181.5,2,   2339.0,2,     8.01,2,  2.8100
 3230CITHER2_2,  A17N,   154,  1,     14,     14,2,19940228,1758, -7.4742, -30.2697, 5387,   2702.1,   2.7730,  34.9150,2,  34.9140,2,    243.1,2,    243.3,2,    36.50,2,    22.49,2,     1.49,2,    0.002,2,    0.001,2, -999.000,9,-999.0000,9,  -999.00,9,   2187.5,2,   2343.3,2,     8.01,2,  2.5580
 3230CITHER2_2,  A17N,   154,  1,     13,     13,2,19940228,1758, -7.4742, -30.2697, 5387,   2998.8,   2.6930,  34.9170,2,  34.9160,2,    248.4,2,    248.4,2,    35.30,2,    21.88,2,     1.45,2,    0.003,2,    0.004,2, -999.000,9,-999.0000,9,  -999.00,9,   2184.1,2,   2343.0,2,     8.01,2,  2.4490
 3230CITHER2_2,  A17N,   154,  1,     12,     12,2,19940228,1758, -7.4742, -30.2697, 5387,   3296.9,   2.6300,  34.9180,2,  34.9190,2,    254.1,2,    254.7,2,    33.10,2,    21.15,2,     1.40,2,    0.005,2,    0.009,2, -999.000,9,-999.0000,9,  -999.00,9,   2178.4,2,   2340.8,2,     8.02,2,  2.3560
 3230CITHER2_2,  A17N,   154,  1,     11,     11,2,19940228,1758, -7.4742, -30.2697, 5387,   3598.5,   2.4990,  34.9100,2,  34.9120,2,    257.7,2,    257.6,2,    33.90,2,    20.96,2,     1.39,2,    0.015,2,    0.006,2, -999.000,9,-999.0000,9,  -999.00,9,   2179.6,2,   2340.4,2,     8.02,2,  2.1960
 3230CITHER2_2,  A17N,   154,  1,     10,     10,2,19940228,1758, -7.4742, -30.2697, 5387,   3797.3,   2.3170,  34.8920,2,  34.8940,2,    257.3,2,    256.4,2,    39.30,2,    21.45,2,     1.43,2,    0.015,2,    0.014,2, -999.000,9,-999.0000,9,  -999.00,9,   2184.9,2,   2345.6,2,     8.02,2,  1.9970
 3230CITHER2_2,  A17N,   154,  1,      9,      9,2,19940228,1758, -7.4742, -30.2697, 5387,   4001.1,   1.9910,  34.8550,2,  34.8560,2,    250.1,2,    245.7,2,    55.70,2,    23.69,2,     1.58,2,    0.003,2,    0.005,2, -999.000,9,-999.0000,9,  -999.00,9,   2202.1,2,   2355.6,2,     8.00,2,  1.6570
 3230CITHER2_2,  A17N,   154,  1,      8,      8,2,19940228,1758, -7.4742, -30.2697, 5387,   4196.4,   1.4920,  34.8010,2,  34.8030,2,    239.5,2,    237.5,2,    78.10,2,    26.59,2,     1.81,2,    0.003,2,    0.005,2, -999.000,9,-999.0000,9,  -999.00,9,   2224.3,2,   2362.7,2,     7.96,2,  1.1510
 3230CITHER2_2,  A17N,   154,  1,      7,      7,2,19940228,1758, -7.4742, -30.2697, 5387,   4399.1,   1.1160,  34.7620,2,  34.7610,2,    230.6,2,    231.1,2,    93.50,2,    29.10,2,     1.95,2,    0.001,2,    0.004,2, -999.000,9,-999.0000,9,  -999.00,9,   2239.6,2,   2373.2,2,     7.94,2,  0.7640
 3230CITHER2_2,  A17N,   154,  1,      6,      6,2,19940228,1758, -7.4742, -30.2697, 5387,   4600.2,   0.9660,  34.7430,2,  34.7430,2,    227.1,2,    228.2,2,   101.10,2,    30.17,2,     2.02,2,    0.002,2,    0.000,2, -999.000,9,-999.0000,9,  -999.00,9,   2246.9,2,   2377.6,2,     7.94,2,  0.5960
 3230CITHER2_2,  A17N,   154,  1,      5,      5,2,19940228,1758, -7.4742, -30.2697, 5387,   4801.1,   0.8620,  34.7290,2,  34.7300,2,    225.7,2,    226.0,2,   106.30,2,    31.19,2,     2.07,2,    0.011,2,    0.006,2, -999.000,9,-999.0000,9,  -999.00,9,   2251.7,2,   2376.6,2,     7.93,2,  0.4720
 3230CITHER2_2,  A17N,   154,  1,      4,      4,2,19940228,1758, -7.4742, -30.2697, 5387,   4999.0,   0.7780,  34.7190,2,  34.7190,2,    224.3,2,    224.4,2,   110.70,2,    31.43,2,     2.11,2,    0.014,2,    0.011,2, -999.000,9,-999.0000,9,  -999.00,9,   2255.5,2,   2381.4,2,     7.92,2,  0.3680
 3230CITHER2_2,  A17N,   154,  1,      3,      3,2,19940228,1758, -7.4742, -30.2697, 5387,   5201.3,   0.6900,  34.7080,2,  34.7070,2,    223.1,2,    223.4,2,   115.00,2,    32.16,2,     2.15,2,    0.026,2,    0.012,2, -999.000,9,-999.0000,9,  -999.00,9,   2259.3,2,   2379.6,2,     7.91,2,  0.2590
 3230CITHER2_2,  A17N,   154,  1,      2,      2,2,19940228,1758, -7.4742, -30.2697, 5387,   5397.9,   0.6630,  34.7020,2,  34.7050,2,    222.4,2,    222.8,2,   116.60,2,    32.36,2,     2.15,2,    0.025,2,    0.016,2, -999.000,9,-999.0000,9,  -999.00,9,   2259.5,2,   2379.9,2,     7.91,2,  0.2100
 3230CITHER2_2,  A17N,   154,  1,      1,      1,2,19940228,1758, -7.4742, -30.2697, 5387,   5499.1,   0.6230,  34.6960,2,  34.6980,2,    221.8,2,    221.6,2,   119.10,2,    32.26,2,     2.18,2,    0.027,2,    0.017,2, -999.000,9,-999.0000,9,  -999.00,9,   2262.4,2,   2376.9,2,     7.90,2,  0.1590
 3230CITHER2_2,  A17N,   155,  1,     32,     32,2,19940301,0025, -6.9793, -30.2438, 5369,      4.3,  28.1330,  36.4140,2,  36.4150,2,    198.8,2,    197.8,2,     0.90,2,     0.00,2,     0.10,2,    1.641,2,    0.957,2, -999.000,9,-999.0000,9,  -999.00,9,   2034.9,2,   -999.0,9,     8.38,2, 28.1320
 3230CITHER2_2,  A17N,   155,  1,     31,     31,2,19940301,0025, -6.9793, -30.2438, 5369,     51.2,  28.1220,  36.4110,2,  36.4100,2,    197.8,2,    197.7,2,     0.90,2,     0.00,2,     0.10,2,    1.638,2,    0.944,2, -999.000,9,-999.0000,9,  -999.00,9,   2032.7,2,   -999.0,9,     8.38,2, 28.1100
 3230CITHER2_2,  A17N,   155,  1,     30,     30,2,19940301,0025, -6.9793, -30.2438, 5369,    103.2,  25.7970,  36.8290,2,  36.8210,2,    194.1,2,    210.6,2,     0.80,2,     0.00,2,     0.10,2,    1.795,2,    1.018,2, -999.000,9,-999.0000,9,  -999.00,9,   2053.5,2,   -999.0,9,     8.38,2, 25.7740
 3230CITHER2_2,  A17N,   155,  1,     29,     29,2,19940301,0025, -6.9793, -30.2438, 5369,    201.8,  13.1620,  35.3170,2,  35.3040,2,    104.4,2,    103.8,2,     8.10,2,    23.23,2,     1.54,2,    1.040,2,    0.565,2, -999.000,9,-999.0000,9,  -999.00,9,   2185.0,2,   -999.0,9,     7.98,2, 13.1340
 3230CITHER2_2,  A17N,   155,  1,     28,     28,2,19940301,0025, -6.9793, -30.2438, 5369,    401.2,   7.9270,  34.6870,2,  34.6840,2,    126.3,2,    127.8,2,    16.80,2,    31.31,2,     2.02,2,    0.438,2,    0.239,2, -999.000,9,-999.0000,9,  -999.00,9,   2202.8,2,   -999.0,9,     7.88,2,  7.8860
 3230CITHER2_2,  A17N,   155,  1,     27,     27,2,19940301,0025, -6.9793, -30.2438, 5369,    600.7,   6.1690,  34.5490,2,  34.5500,2,    119.1,2,    117.2,2,    23.50,2,    35.93,2,     2.32,2,    0.069,2,    0.040,2, -999.000,9,-999.0000,9,  -999.00,9,   2225.6,2,   -999.0,9,     7.82,2,  6.1150
 3230CITHER2_2,  A17N,   155,  1,     26,     26,2,19940301,0025, -6.9793, -30.2438, 5369,    800.6,   4.7300,  34.4860,2,  34.4850,2,    141.0,2,    141.2,2,    31.20,2,    36.08,2,     2.38,2,    0.012,2,    0.009,2, -999.000,9,-999.0000,9,  -999.00,9,   2226.6,2,   -999.0,9,     7.83,2,  4.6660
 3230CITHER2_2,  A17N,   155,  1,     25,     25,2,19940301,0025, -6.9793, -30.2438, 5369,    801.5,   4.7060,  34.4860,2,  34.4850,2,    140.9,2,    142.0,2,    31.30,2,    36.08,2,     2.38,2,    0.012,2,    0.008,2, -999.000,9,-999.0000,9,  -999.00,9,   -999.0,5,   -999.0,9,     7.83,2,  4.6420
 3230CITHER2_2,  A17N,   155,  1,     24,     24,2,19940301,0025, -6.9793, -30.2438, 5369,   1001.0,   4.0700,  34.5880,2,  34.5840,2,    164.0,2,    165.0,2,    34.30,2,    33.74,2,     2.23,2,    0.002,2,    0.003,2, -999.000,9,-999.0000,9,  -999.00,9,   2221.9,2,   -999.0,9,     7.86,2,  3.9940
 3230CITHER2_2,  A17N,   155,  1,     23,     23,2,19940301,0025, -6.9793, -30.2438, 5369,   1199.0,   4.2450,  34.7950,2,  34.7910,2,    184.7,2,    187.4,2,    27.40,2,    28.86,2,     1.93,2,    0.009,2,    0.005,2, -999.000,9,-999.0000,9,  -999.00,9,   -999.0,9,   -999.0,9,     7.92,2,  4.1500
 3230CITHER2_2,  A17N,   155,  1,     22,     22,2,19940301,0025, -6.9793, -30.2438, 5369,   1400.4,   4.3270,  34.9200,2,  34.9230,2,    212.9,2,    213.4,2,    21.00,2,    24.13,2,     1.62,2,    0.035,2,    0.021,2, -999.000,9,-999.0000,9,  -999.00,9,   -999.0,9,   -999.0,9,     7.98,2,  4.2120
 3230CITHER2_2,  A17N,   155,  1,     21,     21,2,19940301,0025, -6.9793, -30.2438, 5369,   1598.0,   4.0560,  34.9560,2,  34.9570,2,    233.5,2,    232.4,2,    19.20,2,    22.07,2,     1.47,2,    0.029,2,    0.020,2, -999.000,9,-999.0000,9,  -999.00,9,   -999.0,9,   -999.0,9,     8.00,2,  3.9260
 3230CITHER2_2,  A17N,   155,  1,     20,     20,2,19940301,0025, -6.9793, -30.2438, 5369,   1700.7,   3.8740,  34.9590,2,  34.9600,2,    239.4,2,    238.9,2,    19.80,2,    21.63,2,     1.43,2,    0.013,2,    0.006,2, -999.000,9,-999.0000,9,  -999.00,9,   -999.0,9,   -999.0,9,     8.01,2,  3.7370
 3230CITHER2_2,  A17N,   155,  1,     19,     19,2,19940301,0025, -6.9793, -30.2438, 5369,   1798.5,   3.7030,  34.9560,2,  34.9600,2,    242.2,2,    242.3,2,    20.90,2,    21.38,2,     1.42,2,    0.011,2,    0.003,2, -999.000,9,-999.0000,9,  -999.00,9,   -999.0,9,   -999.0,9,     8.01,2,  3.5590
 3230CITHER2_2,  A17N,   155,  1,     18,     18,2,19940301,0025, -6.9793, -30.2438, 5369,   1998.5,   3.3780,  34.9400,2,  34.9430,2,    244.1,2,    242.7,2,    25.80,2,    21.69,2,     1.45,2,    0.004,2,    0.003,2, -999.000,9,-999.0000,9,  -999.00,9,   -999.0,9,   -999.0,9,     8.01,2,  3.2200
 3230CITHER2_2,  A17N,   155,  1,     17,     17,2,19940301,0025, -6.9793, -30.2438, 5369,   2199.2,   3.1440,  34.9380,2,  34.9390,2,    246.0,2,    246.3,2,    28.60,2,    21.74,2,     1.42,2,    0.006,2,    0.004,2, -999.000,9,-999.0000,9,  -999.00,9,   -999.0,9,   -999.0,9,     8.02,2,  2.9710
 3230CITHER2_2,  A17N,   155,  1,     16,     16,2,19940301,0025, -6.9793, -30.2438, 5369,   2399.2,   2.9620,  34.9280,2,  34.9250,2,    247.2,2,    245.8,2,    31.70,2,    21.88,2,     1.44,2,    0.004,2,    0.004,2, -999.000,9,-999.0000,9,  -999.00,9,   -999.0,9,   -999.0,9,     8.01,2,  2.7730
 3230CITHER2_2,  A17N,   155,  1,     15,     15,2,19940301,0025, -6.9793, -30.2438, 5369,   2696.0,   2.8050,  34.9210,2,  34.9220,2,    248.2,2,    246.8,2,    34.40,2,    21.99,2,     1.45,2,    0.004,2,    0.004,2, -999.000,9,-999.0000,9,  -999.00,9,   -999.0,9,   -999.0,9,     8.02,2,  2.5890
 3230CITHER2_2,  A17N,   155,  1,     14,     14,2,19940301,0025, -6.9793, -30.2438, 5369,   2999.1,   2.6990,  34.9180,2,  34.9150,2,    249.7,2,    250.2,2,    34.50,2,    21.68,2,     1.42,2,    0.004,2,    0.007,2, -999.000,9,-999.0000,9,  -999.00,9,   -999.0,9,   -999.0,9,     8.02,2,  2.4550
 3230CITHER2_2,  A17N,   155,  1,     13,     13,2,19940301,0025, -6.9793, -30.2438, 5369,   3198.4,   2.6440,  34.9200,2,  34.9210,2,    254.3,2,    254.0,2,    33.30,2,    21.11,2,     1.39,2,    0.009,2,    0.006,2, -999.000,9,-999.0000,9,  -999.00,9,   -999.0,9,   -999.0,9,     8.02,2,  2.3800
 3230CITHER2_2,  A17N,   155,  1,     12,     12,2,19940301,0025, -6.9793, -30.2438, 5369,   3397.7,   2.5730,  34.9160,2,  34.9150,2,    256.3,2,    256.3,2,    33.60,2,    20.92,2,     1.38,2,    0.009,2,    0.010,2, -999.000,9,-999.0000,9,  -999.00,9,   -999.0,9,   -999.0,9,     8.03,2,  2.2900
 3230CITHER2_2,  A17N,   155,  1,     11,     11,2,19940301,0025, -6.9793, -30.2438, 5369,   3598.7,   2.4550,  34.9070,2,  34.9030,2,    257.9,2,    257.4,2,    35.50,2,    20.98,2,     1.38,2,    0.017,2,    0.010,2, -999.000,9,-999.0000,9,  -999.00,9,   -999.0,9,   -999.0,9,     8.02,2,  2.1530
 3230CITHER2_2,  A17N,   155,  1,     10,     10,2,19940301,0025, -6.9793, -30.2438, 5369,   3796.6,   2.2450,  34.8830,2,  34.8860,2,    256.0,2,    256.4,2,    42.70,2,    21.83,2,     1.45,2,    0.015,2,    0.009,2, -999.000,9,-999.0000,9,  -999.00,9,   -999.0,9,   -999.0,9,     8.02,2,  1.9270
 3230CITHER2_2,  A17N,   155,  1,      9,      9,2,19940301,0025, -6.9793, -30.2438, 5369,   3996.3,   1.8760,  34.8440,2,  34.8450,2,    247.6,2,    245.8,2,    60.90,2,    24.12,2,     1.63,2,    0.005,2,    0.002,2, -999.000,9,-999.0000,9,  -999.00,9,   -999.0,9,   -999.0,9,     7.99,2,  1.5460
 3230CITHER2_2,  A17N,   155,  1,      8,      8,2,19940301,0025, -6.9793, -30.2438, 5369,   4198.0,   1.4610,  34.8020,2,  34.7970,2,    238.1,2,    237.5,2,    80.80,2,    27.18,2,     1.82,2,   -0.002,2,    0.000,2, -999.000,9,-999.0000,9,  -999.00,9,   -999.0,9,   -999.0,9,     7.96,2,  1.1210
 3230CITHER2_2,  A17N,   155,  1,      7,      7,2,19940301,0025, -6.9793, -30.2438, 5369,   4397.2,   1.1160,  34.7600,2,  34.7600,2,    230.1,2,    230.8,2,    96.30,2,    29.42,2,     1.96,2,    0.002,2,    0.005,2, -999.000,9,-999.0000,9,  -999.00,9,   -999.0,9,   -999.0,9,     7.95,2,  0.7640
 3230CITHER2_2,  A17N,   155,  1,      6,      6,2,19940301,0025, -6.9793, -30.2438, 5369,   4597.2,   0.9540,  34.7410,2,  34.7400,2,    227.2,2,    227.6,2,   103.60,2,    30.19,2,     2.03,2,    0.002,2,    0.003,2, -999.000,9,-999.0000,9,  -999.00,9,   -999.0,9,   -999.0,9,     7.93,2,  0.5850
 3230CITHER2_2,  A17N,   155,  1,      5,      5,2,19940301,0025, -6.9793, -30.2438, 5369,   4799.4,   0.8710,  34.7300,2,  34.7320,2,    224.9,2,    226.1,2,   107.40,2,    30.73,2,     2.07,2,    0.008,2,    0.006,2, -999.000,9,-999.0000,9,  -999.00,9,   -999.0,9,   -999.0,9,     7.92,2,  0.4810
 3230CITHER2_2,  A17N,   155,  1,      4,      4,2,19940301,0025, -6.9793, -30.2438, 5369,   4997.5,   0.7920,  34.7180,2,  34.7200,2,    223.9,2,    224.3,2,   111.80,2,    31.50,2,     2.12,2,    0.013,2,    0.010,2, -999.000,9,-999.0000,9,  -999.00,9,   -999.0,9,   -999.0,9,     7.92,2,  0.3820
 3230CITHER2_2,  A17N,   155,  1,      3,      3,2,19940301,0025, -6.9793, -30.2438, 5369,   5197.6,   0.6970,  34.7080,2,  34.7090,2,    222.5,2,    223.3,2,   115.50,2,    31.96,2,     2.15,2,    0.015,2,    0.011,2, -999.000,9,-999.0000,9,  -999.00,9,   -999.0,9,   -999.0,9,     7.91,2,  0.2670
 3230CITHER2_2,  A17N,   155,  1,      2,      2,2,19940301,0025, -6.9793, -30.2438, 5369,   5377.5,   0.6380,  34.6990,2,  34.7020,2,    221.6,2,    221.8,2,   118.10,2,    32.28,2,     2.19,2,    0.030,2,    0.018,2, -999.000,9,-999.0000,9,  -999.00,9,   -999.0,9,   -999.0,9,     7.90,2,  0.1880
 3230CITHER2_2,  A17N,   155,  1,      1,      1,2,19940301,0025, -6.9793, -30.2438, 5369,   5477.3,   0.6280,  34.6970,2,  34.6990,2,    221.1,2,    220.9,2,   118.60,2,    32.46,2,     2.19,2,    0.025,2,    0.017,2, -999.000,9,-999.0000,9,  -999.00,9,   -999.0,9,   -999.0,9,     7.90,2,  0.1660