BOTTLE,20030515WHPSIOSA
#code : jjward hyd_to_exchange.pl 
#original files copied from HTML directory: May 15, 2003
#original HYD file: a17hy.txt   Thu May 15 10:49:03 2003
#original SUM file: a17su.txt   Mon Apr 13 12:37:29 1998
EXPOCODE,SECT_ID,STNNBR,CASTNO,SAMPNO,BTLNBR,BTLNBR_FLAG_W,DATE,TIME,LATITUDE,LONGITUDE,DEPTH,CTDPRS,CTDTMP,CTDSAL,CTDSAL_FLAG_W,SALNTY,SALNTY_FLAG_W,CTDOXY,CTDOXY_FLAG_W,OXYGEN,OXYGEN_FLAG_W,SILCAT,SILCAT_FLAG_W,NITRAT,NITRAT_FLAG_W,PHSPHT,PHSPHT_FLAG_W,CFC-11,CFC-11_FLAG_W,CFC-12,CFC-12_FLAG_W,TRITUM,TRITUM_FLAG_W,HELIUM,HELIUM_FLAG_W,DELHE3,DELHE3_FLAG_W,TCARBN,TCARBN_FLAG_W,ALKALI,ALKALI_FLAG_W,PH,PH_FLAG_W,THETA
,,,,,,,,,,,,DBAR,ITS-90,PSS-78,,PSS-78,,UMOL/KG,,UMOL/KG,,UMOL/KG,,UMOL/KG,,UMOL/KG,,PMOL/KG,,PMOL/KG,,TU,,NMOL/KG,,PERCNT,,UMOL/KG,,UMOL/KG,,,,DEG C
 3230CITHER2_1,  A17C,     1,  1,     32,     32,2,19940108,1958,-46.8258, -53.7135, 6041,      9.6,  14.8240,  34.7130,2,  34.7150,2,    259.0,2,    261.4,2,  -999.00,9,  -999.00,9,  -999.00,9, -999.000,9, -999.000,9, -999.000,9,-999.0000,9,  -999.00,9,   -999.0,9,   -999.0,9,  -999.00,9, 14.8230
 3230CITHER2_1,  A17C,     1,  1,     31,     31,2,19940108,1958,-46.8258, -53.7135, 6041,    999.6,   2.7360,  34.3780,2,  34.3750,2,    206.1,2,    201.8,2,  -999.00,9,  -999.00,9,  -999.00,9, -999.000,9, -999.000,9, -999.000,9,-999.0000,9,  -999.00,9,   -999.0,9,   -999.0,9,  -999.00,9,  2.6700
 3230CITHER2_1,  A17C,     1,  1,     30,     30,2,19940108,1958,-46.8258, -53.7135, 6041,   1999.3,   2.3530,  34.6860,2,  34.6830,2,    181.3,2,    179.2,2,  -999.00,9,  -999.00,9,  -999.00,9, -999.000,9, -999.000,9, -999.000,9,-999.0000,9,  -999.00,9,   -999.0,9,   -999.0,9,  -999.00,9,  2.2110
 3230CITHER2_1,  A17C,     1,  1,     17,     17,2,19940108,1958,-46.8258, -53.7135, 6041,   2991.2,-999.0000,-999.0000,2,  34.7600,2,   -999.0,2,    200.6,2,  -999.00,9,  -999.00,9,  -999.00,9, -999.000,9, -999.000,9, -999.000,9,-999.0000,9,  -999.00,9,   -999.0,9,   -999.0,9,  -999.00,9,  1.6590
 3230CITHER2_1,  A17C,     1,  1,     21,     21,2,19940108,1958,-46.8258, -53.7135, 6041,   2991.2,   1.8840,  34.7640,2,  34.7600,2,    200.6,2,    200.8,2,  -999.00,9,  -999.00,9,  -999.00,9, -999.000,9, -999.000,9, -999.000,9,-999.0000,9,  -999.00,9,   -999.0,9,   -999.0,9,  -999.00,9,  1.6590
 3230CITHER2_1,  A17C,     1,  1,     25,     25,2,19940108,1958,-46.8258, -53.7135, 6041,   2991.2,   1.8840,  34.7640,2,  34.7600,2,    200.6,2,    200.5,2,  -999.00,9,  -999.00,9,  -999.00,9, -999.000,9, -999.000,9, -999.000,9,-999.0000,9,  -999.00,9,   -999.0,9,   -999.0,9,  -999.00,9,  1.6590
 3230CITHER2_1,  A17C,     1,  1,     24,     24,2,19940108,1958,-46.8258, -53.7135, 6041,   2991.5,   1.8840,  34.7640,2,  34.7620,2,    200.7,2,    200.5,2,  -999.00,9,  -999.00,9,  -999.00,9, -999.000,9, -999.000,9, -999.000,9,-999.0000,9,  -999.00,9,   -999.0,9,   -999.0,9,  -999.00,9,  1.6590
 3230CITHER2_1,  A17C,     1,  1,     19,     19,2,19940108,1958,-46.8258, -53.7135, 6041,   2991.6,   1.8840,  34.7640,2,  34.7610,2,    200.7,2,    201.0,2,  -999.00,9,  -999.00,9,  -999.00,9, -999.000,9, -999.000,9, -999.000,9,-999.0000,9,  -999.00,9,   -999.0,9,   -999.0,9,  -999.00,9,  1.6590
 3230CITHER2_1,  A17C,     1,  1,     20,     20,2,19940108,1958,-46.8258, -53.7135, 6041,   2991.6,-999.0000,-999.0000,2,  34.7610,2,   -999.0,2,    200.5,2,  -999.00,9,  -999.00,9,  -999.00,9, -999.000,9, -999.000,9, -999.000,9,-999.0000,9,  -999.00,9,   -999.0,9,   -999.0,9,  -999.00,9,  1.6590
 3230CITHER2_1,  A17C,     1,  1,     18,     18,2,19940108,1958,-46.8258, -53.7135, 6041,   2991.8,   1.8840,  34.7620,2,  34.7600,2,    200.7,2,    200.6,2,  -999.00,9,  -999.00,9,  -999.00,9, -999.000,9, -999.000,9, -999.000,9,-999.0000,9,  -999.00,9,   -999.0,9,   -999.0,9,  -999.00,9,  1.6590
 3230CITHER2_1,  A17C,     1,  1,     22,     22,2,19940108,1958,-46.8258, -53.7135, 6041,   2991.8,-999.0000,-999.0000,2,  34.7600,2,   -999.0,2,    200.8,2,  -999.00,9,  -999.00,9,  -999.00,9, -999.000,9, -999.000,9, -999.000,9,-999.0000,9,  -999.00,9,   -999.0,9,   -999.0,9,  -999.00,9,  1.6590
 3230CITHER2_1,  A17C,     1,  1,     23,     23,2,19940108,1958,-46.8258, -53.7135, 6041,   2991.8,   1.8840,  34.7640,2,  34.7600,2,    200.7,2,    200.5,2,  -999.00,9,  -999.00,9,  -999.00,9, -999.000,9, -999.000,9, -999.000,9,-999.0000,9,  -999.00,9,   -999.0,9,   -999.0,9,  -999.00,9,  1.6590
 3230CITHER2_1,  A17C,     1,  1,     27,     27,2,19940108,1958,-46.8258, -53.7135, 6041,   2992.0,   1.8840,  34.7630,2,  34.7600,2,    200.7,2,    200.5,2,  -999.00,9,  -999.00,9,  -999.00,9, -999.000,9, -999.000,9, -999.000,9,-999.0000,9,  -999.00,9,   -999.0,9,   -999.0,9,  -999.00,9,  1.6590
 3230CITHER2_1,  A17C,     1,  1,     28,     28,2,19940108,1958,-46.8258, -53.7135, 6041,   2992.1,   1.8840,  34.7630,2,-999.0000,9,    200.7,2,   -999.0,9,  -999.00,9,  -999.00,9,  -999.00,9, -999.000,9, -999.000,9, -999.000,9,-999.0000,9,  -999.00,9,   -999.0,9,   -999.0,9,  -999.00,9,  1.6590
 3230CITHER2_1,  A17C,     1,  1,     26,     26,2,19940108,1958,-46.8258, -53.7135, 6041,   2992.3,   1.8840,  34.7630,2,-999.0000,9,    200.7,2,   -999.0,9,  -999.00,9,  -999.00,9,  -999.00,9, -999.000,9, -999.000,9, -999.000,9,-999.0000,9,  -999.00,9,   -999.0,9,   -999.0,9,  -999.00,9,  1.6590
 3230CITHER2_1,  A17C,     1,  1,     29,     29,2,19940108,1958,-46.8258, -53.7135, 6041,   2992.3,   1.8840,  34.7630,2,-999.0000,9,    200.7,2,   -999.0,9,  -999.00,9,  -999.00,9,  -999.00,9, -999.000,9, -999.000,9, -999.000,9,-999.0000,9,  -999.00,9,   -999.0,9,   -999.0,9,  -999.00,9,  1.6590
 3230CITHER2_1,  A17C,     2,  1,     32,     32,2,19940109,1616,-49.5933, -56.1762,  702,      8.3,   9.3650,  34.0960,2,  34.0970,2,    309.8,2,    314.0,2,  -999.00,9,  -999.00,9,  -999.00,9, -999.000,9, -999.000,9, -999.000,9,-999.0000,9,  -999.00,9,   -999.0,9,   -999.0,9,  -999.00,9,  9.3640
 3230CITHER2_1,  A17C,     2,  1,     31,     31,2,19940109,1616,-49.5933, -56.1762,  702,     51.5,   7.2690,  34.1000,2,  34.1080,2,    303.4,2,    291.6,2,  -999.00,9,  -999.00,9,  -999.00,9, -999.000,9, -999.000,9, -999.000,9,-999.0000,9,  -999.00,9,   -999.0,9,   -999.0,9,  -999.00,9,  7.2600
 3230CITHER2_1,  A17C,     2,  1,     30,     30,2,19940109,1616,-49.5933, -56.1762,  702,     51.6,   7.2650,  34.1000,2,  34.1050,2,    303.4,2,    291.4,2,  -999.00,9,  -999.00,9,  -999.00,9, -999.000,9, -999.000,9, -999.000,9,-999.0000,9,  -999.00,9,   -999.0,9,   -999.0,9,  -999.00,9,  7.2640
 3230CITHER2_1,  A17C,     2,  1,     29,     29,2,19940109,1616,-49.5933, -56.1762,  702,    101.2,   5.1380,  34.1440,2,  34.1480,2,    297.2,2,    291.9,2,  -999.00,9,  -999.00,9,  -999.00,9, -999.000,9, -999.000,9, -999.000,9,-999.0000,9,  -999.00,9,   -999.0,9,   -999.0,9,  -999.00,9,  5.1300
 3230CITHER2_1,  A17C,     2,  1,     28,     28,2,19940109,1616,-49.5933, -56.1762,  702,    101.3,   5.1380,  34.1460,2,  34.1480,2,    297.2,2,    294.5,2,  -999.00,9,  -999.00,9,  -999.00,9, -999.000,9, -999.000,9, -999.000,9,-999.0000,9,  -999.00,9,   -999.0,9,   -999.0,9,  -999.00,9,  5.1300
 3230CITHER2_1,  A17C,     2,  1,     26,     26,2,19940109,1616,-49.5933, -56.1762,  702,    200.5,   4.9770,  34.1820,2,  34.1840,2,    297.5,2,    293.2,2,  -999.00,9,  -999.00,9,  -999.00,9, -999.000,9, -999.000,9, -999.000,9,-999.0000,9,  -999.00,9,   -999.0,9,   -999.0,9,  -999.00,9,  4.9620
 3230CITHER2_1,  A17C,     2,  1,     27,     27,2,19940109,1616,-49.5933, -56.1762,  702,    201.1,   4.9770,  34.1810,2,  34.1830,2,    297.5,2,    293.0,2,  -999.00,9,  -999.00,9,  -999.00,9, -999.000,9, -999.000,9, -999.000,9,-999.0000,9,  -999.00,9,   -999.0,9,   -999.0,9,  -999.00,9,  4.9620
 3230CITHER2_1,  A17C,     2,  1,     24,     24,2,19940109,1616,-49.5933, -56.1762,  702,    301.3,   4.8410,  34.1930,2,  34.1930,2,    297.0,2,    291.3,2,  -999.00,9,  -999.00,9,  -999.00,9, -999.000,9, -999.000,9, -999.000,9,-999.0000,9,  -999.00,9,   -999.0,9,   -999.0,9,  -999.00,9,  4.8180
 3230CITHER2_1,  A17C,     2,  1,     25,     25,2,19940109,1616,-49.5933, -56.1762,  702,    301.3,   4.8410,  34.1930,2,  34.1930,2,    297.0,2,    291.3,2,  -999.00,9,  -999.00,9,  -999.00,9, -999.000,9, -999.000,9, -999.000,9,-999.0000,9,  -999.00,9,   -999.0,9,   -999.0,9,  -999.00,9,  4.8180
 3230CITHER2_1,  A17C,     2,  1,     22,     22,2,19940109,1616,-49.5933, -56.1762,  702,    401.7,   4.6310,  34.1890,2,  34.1910,2,    295.9,2,   -999.0,9,  -999.00,9,  -999.00,9,  -999.00,9, -999.000,9, -999.000,9, -999.000,9,-999.0000,9,  -999.00,9,   -999.0,9,   -999.0,9,  -999.00,9,  4.6010
 3230CITHER2_1,  A17C,     2,  1,     23,     23,2,19940109,1616,-49.5933, -56.1762,  702,    401.9,   4.6310,  34.1890,2,  34.1910,2,    295.9,2,   -999.0,9,  -999.00,9,  -999.00,9,  -999.00,9, -999.000,9, -999.000,9, -999.000,9,-999.0000,9,  -999.00,9,   -999.0,9,   -999.0,9,  -999.00,9,  4.6010
 3230CITHER2_1,  A17C,     2,  1,      1,      1,2,19940109,1616,-49.5933, -56.1762,  702,    504.9,   4.3640,  34.1820,2,  34.1830,2,    293.1,2,   -999.0,9,  -999.00,9,  -999.00,9,  -999.00,9, -999.000,9, -999.000,9, -999.000,9,-999.0000,9,  -999.00,9,   -999.0,9,   -999.0,9,  -999.00,9,  4.3270
 3230CITHER2_1,  A17C,     2,  1,      3,      3,2,19940109,1616,-49.5933, -56.1762,  702,    504.9,   4.3630,  34.1810,2,  34.1820,2,    293.1,2,   -999.0,9,  -999.00,9,  -999.00,9,  -999.00,9, -999.000,9, -999.000,9, -999.000,9,-999.0000,9,  -999.00,9,   -999.0,9,   -999.0,9,  -999.00,9,  4.3260
 3230CITHER2_1,  A17C,     2,  1,      2,      2,2,19940109,1616,-49.5933, -56.1762,  702,    505.1,   4.3630,  34.1820,2,  34.1830,2,    293.1,2,   -999.0,9,  -999.00,9,  -999.00,9,  -999.00,9, -999.000,9, -999.000,9, -999.000,9,-999.0000,9,  -999.00,9,   -999.0,9,   -999.0,9,  -999.00,9,  4.3270
 3230CITHER2_1,  A17C,     2,  1,      5,      5,2,19940109,1616,-49.5933, -56.1762,  702,    505.1,   4.3640,  34.1820,2,  34.1820,2,    293.1,2,   -999.0,9,  -999.00,9,  -999.00,9,  -999.00,9, -999.000,9, -999.000,9, -999.000,9,-999.0000,9,  -999.00,9,   -999.0,9,   -999.0,9,  -999.00,9,  4.3250
 3230CITHER2_1,  A17C,     2,  1,      4,      4,2,19940109,1616,-49.5933, -56.1762,  702,    505.3,   4.3630,  34.1820,2,  34.1820,2,    293.1,2,   -999.0,9,  -999.00,9,  -999.00,9,  -999.00,9, -999.000,9, -999.000,9, -999.000,9,-999.0000,9,  -999.00,9,   -999.0,9,   -999.0,9,  -999.00,9,  4.3260
 3230CITHER2_1,  A17C,     2,  1,      8,      8,2,19940109,1616,-49.5933, -56.1762,  702,    505.3,   4.3600,  34.1810,2,  34.1820,2,    293.1,2,   -999.0,9,  -999.00,9,  -999.00,9,  -999.00,9, -999.000,9, -999.000,9, -999.000,9,-999.0000,9,  -999.00,9,   -999.0,9,   -999.0,9,  -999.00,9,  4.3230
 3230CITHER2_1,  A17C,     2,  1,      6,      6,2,19940109,1616,-49.5933, -56.1762,  702,    505.5,   4.3610,  34.1810,2,  34.1820,2,    293.2,2,   -999.0,9,  -999.00,9,  -999.00,9,  -999.00,9, -999.000,9, -999.000,9, -999.000,9,-999.0000,9,  -999.00,9,   -999.0,9,   -999.0,9,  -999.00,9,  4.3250
 3230CITHER2_1,  A17C,     2,  1,     11,     11,2,19940109,1616,-49.5933, -56.1762,  702,    505.5,   4.3590,  34.1810,2,  34.1830,2,    293.2,2,   -999.0,9,  -999.00,9,  -999.00,9,  -999.00,9, -999.000,9, -999.000,9, -999.000,9,-999.0000,9,  -999.00,9,   -999.0,9,   -999.0,9,  -999.00,9,  4.3220
 3230CITHER2_1,  A17C,     2,  1,      7,      7,2,19940109,1616,-49.5933, -56.1762,  702,    505.6,   4.3600,  34.1810,2,  34.1820,2,    293.2,2,   -999.0,9,  -999.00,9,  -999.00,9,  -999.00,9, -999.000,9, -999.000,9, -999.000,9,-999.0000,9,  -999.00,9,   -999.0,9,   -999.0,9,  -999.00,9,  4.3230
 3230CITHER2_1,  A17C,     2,  1,      9,      9,2,19940109,1616,-49.5933, -56.1762,  702,    505.6,   4.3610,  34.1810,2,  34.1830,2,    293.2,2,   -999.0,9,  -999.00,9,  -999.00,9,  -999.00,9, -999.000,9, -999.000,9, -999.000,9,-999.0000,9,  -999.00,9,   -999.0,9,   -999.0,9,  -999.00,9,  4.3220
 3230CITHER2_1,  A17C,     2,  1,     10,     10,2,19940109,1616,-49.5933, -56.1762,  702,    505.8,   4.3580,  34.1820,2,  34.1840,2,    293.2,2,   -999.0,9,  -999.00,9,  -999.00,9,  -999.00,9, -999.000,9, -999.000,9, -999.000,9,-999.0000,9,  -999.00,9,   -999.0,9,   -999.0,9,  -999.00,9,  4.3200
 3230CITHER2_1,  A17C,     2,  1,     12,     12,2,19940109,1616,-49.5933, -56.1762,  702,    505.8,   4.3570,  34.1830,2,  34.1840,2,    293.2,2,   -999.0,9,  -999.00,9,  -999.00,9,  -999.00,9, -999.000,9, -999.000,9, -999.000,9,-999.0000,9,  -999.00,9,   -999.0,9,   -999.0,9,  -999.00,9,  4.3200
 3230CITHER2_1,  A17C,     2,  1,     13,     13,2,19940109,1616,-49.5933, -56.1762,  702,    505.8,   4.3570,  34.1820,2,  34.1840,2,    293.2,2,   -999.0,9,  -999.00,9,  -999.00,9,  -999.00,9, -999.000,9, -999.000,9, -999.000,9,-999.0000,9,  -999.00,9,   -999.0,9,   -999.0,9,  -999.00,9,  4.3200
 3230CITHER2_1,  A17C,     2,  1,     14,     14,2,19940109,1616,-49.5933, -56.1762,  702,    505.8,   4.3570,  34.1820,2,  34.1840,2,    293.2,2,   -999.0,9,  -999.00,9,  -999.00,9,  -999.00,9, -999.000,9, -999.000,9, -999.000,9,-999.0000,9,  -999.00,9,   -999.0,9,   -999.0,9,  -999.00,9,  4.3200
 3230CITHER2_1,  A17C,     2,  1,     15,     15,2,19940109,1616,-49.5933, -56.1762,  702,    505.9,   4.3570,  34.1820,2,  34.1820,2,    293.2,2,   -999.0,9,  -999.00,9,  -999.00,9,  -999.00,9, -999.000,9, -999.000,9, -999.000,9,-999.0000,9,  -999.00,9,   -999.0,9,   -999.0,9,  -999.00,9,  4.3190
 3230CITHER2_1,  A17C,     2,  1,     17,     17,2,19940109,1616,-49.5933, -56.1762,  702,    505.9,   4.3560,  34.1830,2,  34.1820,2,    293.2,2,   -999.0,9,  -999.00,9,  -999.00,9,  -999.00,9, -999.000,9, -999.000,9, -999.000,9,-999.0000,9,  -999.00,9,   -999.0,9,   -999.0,9,  -999.00,9,  4.3180
 3230CITHER2_1,  A17C,     2,  1,     16,     16,2,19940109,1616,-49.5933, -56.1762,  702,    506.0,   4.3560,  34.1820,2,  34.1820,2,    293.2,2,   -999.0,9,  -999.00,9,  -999.00,9,  -999.00,9, -999.000,9, -999.000,9, -999.000,9,-999.0000,9,  -999.00,9,   -999.0,9,   -999.0,9,  -999.00,9,  4.3190
 3230CITHER2_1,  A17C,     2,  1,     19,     19,2,19940109,1616,-49.5933, -56.1762,  702,    506.2,   4.3550,  34.1810,2,  34.1820,2,    293.2,2,   -999.0,9,  -999.00,9,  -999.00,9,  -999.00,9, -999.000,9, -999.000,9, -999.000,9,-999.0000,9,  -999.00,9,   -999.0,9,   -999.0,9,  -999.00,9,  4.3170
 3230CITHER2_1,  A17C,     2,  1,     20,     20,2,19940109,1616,-49.5933, -56.1762,  702,    506.3,   4.3550,  34.1830,2,  34.1830,2,    293.2,2,   -999.0,9,  -999.00,9,  -999.00,9,  -999.00,9, -999.000,9, -999.000,9, -999.000,9,-999.0000,9,  -999.00,9,   -999.0,9,   -999.0,9,  -999.00,9,  4.3170
 3230CITHER2_1,  A17C,     2,  1,     18,     18,2,19940109,1616,-49.5933, -56.1762,  702,    506.4,   4.3550,  34.1810,2,  34.1820,2,    293.2,2,   -999.0,9,  -999.00,9,  -999.00,9,  -999.00,9, -999.000,9, -999.000,9, -999.000,9,-999.0000,9,  -999.00,9,   -999.0,9,   -999.0,9,  -999.00,9,  4.3170
 3230CITHER2_1,  A17C,     2,  1,     21,     21,2,19940109,1616,-49.5933, -56.1762,  702,    506.5,   4.3550,  34.1820,2,  34.1820,2,    293.1,2,   -999.0,9,  -999.00,9,  -999.00,9,  -999.00,9, -999.000,9, -999.000,9, -999.000,9,-999.0000,9,  -999.00,9,   -999.0,9,   -999.0,9,  -999.00,9,  4.3170
 3230CITHER2_1,  A17C,     3,  1,     25,     25,2,19940110,0043,-50.7052, -57.2270,  235,      7.9,   8.9270,  33.7370,2,  33.7380,2,    285.8,2,    288.6,2,     1.60,2,     6.73,2,     0.73,2,    4.692,2,    2.386,2, -999.000,9,-999.0000,9,  -999.00,9,   2023.0,2,   2276.8,2,     8.22,2,  8.9260
 3230CITHER2_1,  A17C,     3,  1,     24,     24,2,19940110,0043,-50.7052, -57.2270,  235,     25.6,   8.9170,  33.7380,2,  33.7410,2,    287.2,2,    289.2,2,     1.60,2,     6.80,2,     0.74,2,    4.791,2,    2.436,2, -999.000,9,-999.0000,9,  -999.00,9,   2024.1,2,   2279.1,2,     8.23,2,  8.9140
 3230CITHER2_1,  A17C,     3,  1,     23,     23,2,19940110,0043,-50.7052, -57.2270,  235,     50.3,   8.3170,  33.7860,2,  33.7710,2,    285.5,2,    285.5,2,     2.10,2,     8.61,2,     0.85,2,    4.910,2,    2.462,2, -999.000,9,-999.0000,9,  -999.00,9,   2037.6,2,   2280.2,2,     8.21,2,  8.3120
 3230CITHER2_1,  A17C,     3,  1,     22,     22,2,19940110,0043,-50.7052, -57.2270,  235,     75.9,   7.6480,  33.8320,2,  33.8280,2,    283.3,2,    279.8,2,     2.60,2,    12.39,2,     1.04,2,    4.916,2,    2.497,2, -999.000,9,-999.0000,9,  -999.00,9,   2060.5,2,   2282.2,2,     8.16,2,  7.6410
 3230CITHER2_1,  A17C,     3,  1,     21,     21,2,19940110,0043,-50.7052, -57.2270,  235,    100.8,   7.2710,  33.8960,2,  33.8790,2,    284.6,2,    281.6,2,     3.00,2,    13.77,2,     1.14,2,    5.020,2,    2.558,2, -999.000,9,-999.0000,9,  -999.00,9,   2072.8,2,   2284.5,2,     8.16,2,  7.2620
 3230CITHER2_1,  A17C,     3,  1,     20,     20,2,19940110,0043,-50.7052, -57.2270,  235,    150.7,   6.6390,  33.9660,2,  33.9670,2,    287.1,2,    284.3,2,     4.00,2,    17.39,2,     1.32,2,    5.095,2,    2.481,2, -999.000,9,-999.0000,9,  -999.00,9,   2092.3,2,   2286.6,2,     8.12,2,  6.6260
 3230CITHER2_1,  A17C,     3,  1,     19,     19,2,19940110,0043,-50.7052, -57.2270,  235,    201.6,   6.1650,  33.9510,2,  33.9590,2,    286.2,2,    283.2,2,     5.60,2,    19.39,2,     1.42,2,    5.028,2,    2.532,2, -999.000,9,-999.0000,9,  -999.00,9,   2102.8,2,   2287.8,2,     8.08,2,  6.1480
 3230CITHER2_1,  A17C,     3,  1,     17,     17,2,19940110,0043,-50.7052, -57.2270,  235,    219.6,   5.7080,  34.0080,2,  34.0050,2,    286.9,2,   -999.0,5,     6.50,2,    20.65,2,     1.50,2,    5.050,2,    2.567,2, -999.000,9,-999.0000,9,  -999.00,9,   -999.0,5,   2288.1,2,     8.07,2,  5.6900
 3230CITHER2_1,  A17C,     3,  1,     18,     18,2,19940110,0043,-50.7052, -57.2270,  235,    219.6,   5.7080,  34.0080,2,  34.0050,2,    286.9,2,   -999.0,5,     6.50,2,    20.65,2,     1.50,2,    5.050,2,    2.567,2, -999.000,9,-999.0000,9,  -999.00,9,   2110.9,2,   2288.1,2,     8.07,2,  5.6900