BOTTLE,20030515WHPSIOSA
EXPOCODE,SECT_ID,STNNBR,CASTNO,SAMPNO,BTLNBR,BTLNBR_FLAG_W,DATE,TIME,LATITUDE,LONGITUDE,DEPTH,CTDPRS,CTDTMP,CTDSAL,CTDSAL_FLAG_W,SALNTY,SALNTY_FLAG_W,CTDOXY,CTDOXY_FLAG_W,OXYGEN,OXYGEN_FLAG_W,SILCAT,SILCAT_FLAG_W,NITRAT,NITRAT_FLAG_W,PHSPHT,PHSPHT_FLAG_W,CFC-11,CFC-11_FLAG_W,CFC-12,CFC-12_FLAG_W,TRITUM,TRITUM_FLAG_W,HELIUM,HELIUM_FLAG_W,DELHE3,DELHE3_FLAG_W,TCARBN,TCARBN_FLAG_W,ALKALI,ALKALI_FLAG_W,PH,PH_FLAG_W,THETA
,,,,,,,,,,,,DBAR,ITS-90,PSS-78,,PSS-78,,UMOL/KG,,UMOL/KG,,UMOL/KG,,UMOL/KG,,UMOL/KG,,PMOL/KG,,PMOL/KG,,TU,,NMOL/KG,,PERCNT,,UMOL/KG,,UMOL/KG,,,,DEG C
 3230CITHER2_2,  A17N,   179,  1,     32,     32,2,19940306,1420,  1.2927, -33.9418, 4028,      7.7,  27.1530,  36.1140,2,  36.1190,2,    189.5,2,    199.1,2,     1.80,2,     0.04,2,     0.07,2,    1.713,2,    0.961,2, -999.000,9,-999.0000,9,  -999.00,9,   2019.4,2,   2374.1,2,     8.36,2, 27.1510
 3230CITHER2_2,  A17N,   179,  1,     31,     31,2,19940306,1420,  1.2927, -33.9418, 4028,     49.7,  26.8560,  36.1570,2,  36.1720,2,    186.2,2,    197.5,2,     1.80,2,     0.04,2,     0.08,2,    1.720,2,    0.980,2, -999.000,9,-999.0000,9,  -999.00,9,   2026.6,2,   2379.1,2,     8.36,2, 26.8450
 3230CITHER2_2,  A17N,   179,  1,     30,     30,2,19940306,1420,  1.2927, -33.9418, 4028,     80.6,  21.0490,  36.2720,2,  36.1710,2,    163.7,2,    163.1,2,     1.80,2,     0.04,2,     0.07,2,    1.704,2,    0.929,2, -999.000,9,-999.0000,9,  -999.00,9,   2112.3,2,   2384.5,2,  -999.00,5, 21.0330
 3230CITHER2_2,  A17N,   179,  1,     29,     29,2,19940306,1420,  1.2927, -33.9418, 4028,    129.9,  13.6590,  35.3680,2,  35.3670,2,    165.6,2,    151.6,2,     7.80,2,    17.09,2,     1.17,2,    1.437,2,    0.762,2, -999.000,9,-999.0000,9,  -999.00,9,   2149.7,2,   2336.6,2,     8.06,2, 13.6410
 3230CITHER2_2,  A17N,   179,  1,     28,     28,2,19940306,1420,  1.2927, -33.9418, 4028,    200.2,  11.7140,  35.1230,2,  35.1200,2,    122.4,2,    124.0,2,    10.70,2,    23.41,2,     1.56,2,    0.956,2,    0.509,2, -999.000,9,-999.0000,9,  -999.00,9,   2176.5,2,   2325.1,2,     7.95,2, 11.6880
 3230CITHER2_2,  A17N,   179,  1,     27,     27,2,19940306,1420,  1.2927, -33.9418, 4028,    301.5,   9.7760,  34.8960,2,  34.8920,2,    109.7,2,    118.3,2,    14.20,2,    27.70,2,     1.80,2,    0.639,2,    0.342,2, -999.000,9,-999.0000,9,  -999.00,9,   2196.7,2,   2315.8,2,     7.90,2,  9.7410
 3230CITHER2_2,  A17N,   179,  1,     26,     26,2,19940306,1420,  1.2927, -33.9418, 4028,    399.9,   8.0650,  34.7200,2,  34.7240,2,    124.9,2,    121.9,2,    18.10,2,    30.86,2,     2.01,2,    0.392,2,    0.217,2, -999.000,9,-999.0000,9,  -999.00,9,   2206.2,2,   2310.2,2,     7.85,2,  8.0240
 3230CITHER2_2,  A17N,   179,  1,     25,     25,2,19940306,1420,  1.2927, -33.9418, 4028,    500.3,   6.9860,  34.6170,2,  34.6200,2,    133.0,2,    130.6,2,    20.80,2,    32.51,2,     2.14,2,    0.264,2,    0.144,2, -999.000,9,-999.0000,9,  -999.00,9,   2211.0,2,   2308.4,2,     7.84,2,  6.9380
 3230CITHER2_2,  A17N,   179,  1,     24,     24,2,19940306,1420,  1.2927, -33.9418, 4028,    601.6,   5.8400,  34.5340,2,  34.5390,2,    142.6,2,    141.4,2,    24.80,2,    33.47,2,     2.25,2,    0.162,2,    0.090,2, -999.000,9,-999.0000,9,  -999.00,9,   2214.3,2,   2310.9,2,     7.84,2,  5.7880
 3230CITHER2_2,  A17N,   179,  1,     23,     23,2,19940306,1420,  1.2927, -33.9418, 4028,    700.9,   5.3490,  34.5070,2,  34.5070,2,    147.2,2,    146.3,2,    27.40,2,    34.08,2,     2.31,2,    0.101,2,    0.061,2, -999.000,9,-999.0000,9,  -999.00,9,   2217.7,2,   2309.1,2,     7.83,2,  5.2900
 3230CITHER2_2,  A17N,   179,  1,     22,     22,2,19940306,1420,  1.2927, -33.9418, 4028,    801.3,   4.9940,  34.5110,2,  34.5120,2,    152.2,2,    151.7,2,    29.30,2,    33.79,2,     2.31,2,    0.082,2,    0.047,2, -999.000,9,-999.0000,9,  -999.00,9,   2218.0,2,   2314.7,2,     7.83,2,  4.9280
 3230CITHER2_2,  A17N,   179,  1,     21,     21,2,19940306,1420,  1.2927, -33.9418, 4028,    999.6,   4.5330,  34.6610,2,  34.6610,2,    160.8,2,    160.5,2,    30.10,2,    31.87,2,     2.20,2,    0.007,2,    0.005,2, -999.000,9,-999.0000,9,  -999.00,9,   2218.2,2,   2321.9,2,     7.85,2,  4.4530
 3230CITHER2_2,  A17N,   179,  1,     20,     20,2,19940306,1420,  1.2927, -33.9418, 4028,   1200.3,   4.5910,  34.8220,2,  34.8250,2,    181.4,2,    182.9,2,    25.30,2,    27.53,2,     1.89,2,    0.021,2,    0.014,2, -999.000,9,-999.0000,9,  -999.00,9,   2204.0,2,   2326.3,2,     7.91,2,  4.4920
 3230CITHER2_2,  A17N,   179,  1,     19,     19,2,19940306,1420,  1.2927, -33.9418, 4028,   1398.7,   4.2900,  34.9690,2,  34.9710,2,    228.6,2,    231.6,2,    18.50,2,    21.30,2,     1.43,2,    0.072,2,    0.044,2, -999.000,9,-999.0000,9,  -999.00,9,   2174.2,2,   2326.0,2,     7.98,2,  4.1760
 3230CITHER2_2,  A17N,   179,  1,     18,     18,2,19940306,1420,  1.2927, -33.9418, 4028,   1500.5,   4.2140,  34.9770,2,  34.9790,2,    234.8,2,    235.4,2,    18.10,2,    20.94,2,     1.39,2,    0.077,2,    0.048,2, -999.000,9,-999.0000,9,  -999.00,9,   2172.1,2,   2327.7,2,     7.98,2,  4.0910
 3230CITHER2_2,  A17N,   179,  1,     17,     17,2,19940306,1420,  1.2927, -33.9418, 4028,   1599.3,   4.0720,  34.9820,2,  34.9830,2,    240.2,2,    242.0,2,    17.90,2,    20.43,2,     1.34,2,    0.068,2,    0.045,2, -999.000,9,-999.0000,9,  -999.00,9,   2167.5,2,   2327.0,2,     7.99,2,  3.9420
 3230CITHER2_2,  A17N,   179,  1,     16,     16,2,19940306,1420,  1.2927, -33.9418, 4028,   1700.0,   4.0010,  34.9830,2,  34.9800,2,    243.6,2,    245.2,2,    17.80,2,    19.92,2,     1.31,2,    0.084,2,    0.055,2, -999.000,9,-999.0000,9,  -999.00,9,   2167.3,2,   2327.5,2,     8.00,2,  3.8620
 3230CITHER2_2,  A17N,   179,  1,     15,     15,2,19940306,1420,  1.2927, -33.9418, 4028,   1800.3,   3.9340,  34.9870,2,  34.9890,2,    248.0,2,    250.6,2,    17.50,2,    19.80,2,     1.28,2,    0.104,2,    0.060,2, -999.000,9,-999.0000,9,  -999.00,9,   2166.7,2,   2328.2,2,     8.00,2,  3.7870
 3230CITHER2_2,  A17N,   179,  1,     14,     14,2,19940306,1420,  1.2927, -33.9418, 4028,   2000.6,   3.5080,  34.9720,2,  34.9750,2,    254.2,2,    256.1,2,    20.10,2,    19.49,2,     1.28,2,    0.043,2,    0.028,2, -999.000,9,-999.0000,9,  -999.00,9,   2165.5,2,   2330.7,2,     8.01,2,  3.3480
 3230CITHER2_2,  A17N,   179,  1,     13,     13,2,19940306,1420,  1.2927, -33.9418, 4028,   2200.4,   3.3510,  34.9680,2,  34.9650,2,    256.6,2,    256.4,2,    21.40,2,    19.49,2,     1.28,2,    0.039,2,    0.024,2, -999.000,9,-999.0000,9,  -999.00,9,   2166.1,2,   2335.1,2,     8.01,2,  3.1740
 3230CITHER2_2,  A17N,   179,  1,     12,     12,2,19940306,1420,  1.2927, -33.9418, 4028,   2399.1,   3.0560,  34.9510,2,  34.9530,2,    256.2,2,    256.7,2,    25.30,2,    19.77,2,     1.29,2,    0.017,2,    0.015,2, -999.000,9,-999.0000,9,  -999.00,9,   2169.8,2,   2333.8,2,     8.01,2,  2.8650
 3230CITHER2_2,  A17N,   179,  1,     11,     11,2,19940306,1420,  1.2927, -33.9418, 4028,   2600.5,   2.8940,  34.9360,2,  34.9360,2,    252.5,2,    253.0,2,    29.90,2,    20.52,2,     1.34,2,    0.007,2,    0.010,2, -999.000,9,-999.0000,9,  -999.00,9,   2177.7,2,   2337.8,2,     8.01,2,  2.6860
 3230CITHER2_2,  A17N,   179,  1,     10,     10,2,19940306,1420,  1.2927, -33.9418, 4028,   2799.2,   2.7810,  34.9290,2,  34.9330,2,    254.3,2,    254.8,2,    30.80,2,    20.41,2,     1.34,2,    0.009,2,    0.005,2, -999.000,9,-999.0000,9,  -999.00,9,   2177.2,2,   2339.1,2,     8.01,2,  2.5560
 3230CITHER2_2,  A17N,   179,  1,      9,      9,2,19940306,1420,  1.2927, -33.9418, 4028,   2998.2,   2.6880,  34.9250,2,  34.9240,2,    255.5,2,    255.6,2,    31.50,2,    20.45,2,     1.33,2,    0.018,2,    0.011,2, -999.000,9,-999.0000,9,  -999.00,9,   2177.3,2,   2339.5,2,     8.01,2,  2.4440
 3230CITHER2_2,  A17N,   179,  1,      8,      8,2,19940306,1420,  1.2927, -33.9418, 4028,   3200.1,   2.6020,  34.9170,2,  34.9200,2,    255.0,2,    255.7,2,    33.40,2,    20.53,2,     1.34,2,    0.015,2,    0.013,2, -999.000,9,-999.0000,9,  -999.00,9,   2177.5,2,   2341.0,2,     8.01,2,  2.3390
 3230CITHER2_2,  A17N,   179,  1,      7,      7,2,19940306,1420,  1.2927, -33.9418, 4028,   3398.0,   2.4960,  34.9090,2,  34.9110,2,    256.3,2,    256.2,2,    35.20,2,    20.49,2,     1.35,2,    0.021,2,    0.017,2, -999.000,9,-999.0000,9,  -999.00,9,   2180.9,2,   2338.7,2,     8.00,2,  2.2150
 3230CITHER2_2,  A17N,   179,  1,      6,      6,2,19940306,1420,  1.2927, -33.9418, 4028,   3549.9,   2.4130,  34.9030,2,  34.9060,2,    257.7,2,    257.9,2,    35.70,2,    20.46,2,     1.35,2,    0.035,2,    0.024,2, -999.000,9,-999.0000,9,  -999.00,9,   2181.9,2,   2342.4,2,     8.01,2,  2.1170
 3230CITHER2_2,  A17N,   179,  1,      4,      4,2,19940306,1420,  1.2927, -33.9418, 4028,   3699.2,   2.3650,  34.9000,2,  34.8920,2,    259.8,2,    259.6,2,    35.60,2,    20.31,2,     1.34,2,    0.046,2,    0.033,2, -999.000,9,-999.0000,9,  -999.00,9,   2180.7,2,   2342.0,2,     8.01,2,  2.0540
 3230CITHER2_2,  A17N,   179,  1,      5,      5,2,19940306,1420,  1.2927, -33.9418, 4028,   3699.2,   2.3650,  34.9000,2,  34.8920,2,    259.8,2,    259.6,2,    35.60,2,    20.31,2,     1.34,2,    0.046,2,    0.033,2, -999.000,9,-999.0000,9,  -999.00,9,   -999.0,5,   2342.0,2,     8.01,2,  2.0540
 3230CITHER2_2,  A17N,   179,  1,      3,      3,2,19940306,1420,  1.2927, -33.9418, 4028,   3849.1,   2.3250,  34.8950,2,  34.8990,2,    259.4,2,    258.5,2,    34.90,2,    20.47,2,     1.36,2,    0.047,2,    0.032,2, -999.000,9,-999.0000,9,  -999.00,9,   2182.7,2,   2342.7,2,     8.01,2,  1.9990
 3230CITHER2_2,  A17N,   179,  1,      2,      2,2,19940306,1420,  1.2927, -33.9418, 4028,   3998.9,   2.2430,  34.8850,2,  34.8890,2,    258.9,2,    256.4,2,    41.00,2,    20.95,2,     1.40,2,    0.047,2,    0.030,2, -999.000,9,-999.0000,9,  -999.00,9,   2186.1,2,   2347.2,2,     8.00,2,  1.9020
 3230CITHER2_2,  A17N,   179,  1,      1,      1,2,19940306,1420,  1.2927, -33.9418, 4028,   4064.4,   2.1010,  34.8700,2,  34.8740,2,    255.9,2,    253.7,2,    47.50,2,    21.82,2,     1.46,2,    0.040,2,    0.028,2, -999.000,9,-999.0000,9,  -999.00,9,   2193.0,2,   2347.7,2,     7.99,2,  1.7570
 3230CITHER2_2,  A17N,   180,  1,     32,     32,2,19940306,2023,  1.5847, -34.4445, 3904,      7.5,  27.0180,  36.0920,2,  36.0930,2,    198.8,2,    198.9,2,     1.70,2,     0.00,2,     0.07,2,    1.703,2,    0.975,2, -999.000,9,-999.0000,9,  -999.00,9,   2017.5,2,   -999.0,9,     8.37,2, 27.0160
 3230CITHER2_2,  A17N,   180,  1,     31,     31,2,19940306,2023,  1.5847, -34.4445, 3904,     41.3,  27.0120,  36.1080,2,  36.1100,2,    199.1,2,    198.6,2,     1.70,2,     0.00,2,     0.07,2,    1.692,2,    0.966,2, -999.000,9,-999.0000,9,  -999.00,9,   2019.4,2,   -999.0,9,     8.37,2, 27.0020
 3230CITHER2_2,  A17N,   180,  1,     30,     30,2,19940306,2023,  1.5847, -34.4445, 3904,    101.2,  16.9370,  35.8170,2,  35.7660,2,    158.4,2,    155.7,2,     5.90,2,    13.33,2,     0.91,2,    1.585,2,    0.849,2, -999.000,9,-999.0000,9,  -999.00,9,   2136.9,2,   -999.0,9,     8.13,2, 16.9200
 3230CITHER2_2,  A17N,   180,  1,     29,     29,2,19940306,2023,  1.5847, -34.4445, 3904,    151.2,  12.8130,  35.2600,2,  35.2610,2,    119.3,2,    123.1,2,     9.20,2,    21.51,2,     1.45,2,    1.172,2,    0.624,2, -999.000,9,-999.0000,9,  -999.00,9,   2174.6,2,   -999.0,9,     7.99,2, 12.7920
 3230CITHER2_2,  A17N,   180,  1,     28,     28,2,19940306,2023,  1.5847, -34.4445, 3904,    199.9,  11.8480,  35.1420,2,  35.1380,2,    113.3,2,    122.7,2,    10.40,2,    23.09,2,     1.55,2,    0.997,2,    0.519,2, -999.000,9,-999.0000,9,  -999.00,9,   2180.7,2,   -999.0,9,     7.96,2, 11.8220
 3230CITHER2_2,  A17N,   180,  1,     27,     27,2,19940306,2023,  1.5847, -34.4445, 3904,    300.4,  10.0830,  34.9350,2,  34.9350,2,    107.2,2,    112.5,2,    13.60,2,    27.58,2,     1.81,2,    0.646,2,    0.353,2, -999.000,9,-999.0000,9,  -999.00,9,   2194.9,2,   -999.0,9,     7.90,2, 10.0480
 3230CITHER2_2,  A17N,   180,  1,     26,     26,2,19940306,2023,  1.5847, -34.4445, 3904,    401.9,   8.2190,  34.7360,2,  34.7350,2,    119.8,2,    117.7,2,    18.00,2,    31.04,2,     2.03,2,    0.388,2,    0.214,2, -999.000,9,-999.0000,9,  -999.00,9,   2208.6,2,   -999.0,9,     7.85,2,  8.1770
 3230CITHER2_2,  A17N,   180,  1,     25,     25,2,19940306,2023,  1.5847, -34.4445, 3904,    501.9,   7.1480,  34.6330,2,  34.6340,2,    127.4,2,    127.9,2,    20.50,2,    32.26,2,     2.15,2,    0.284,2,    0.164,2, -999.000,9,-999.0000,9,  -999.00,9,   2210.3,2,   -999.0,9,     7.84,2,  7.1000
 3230CITHER2_2,  A17N,   180,  1,     24,     24,2,19940306,2023,  1.5847, -34.4445, 3904,    601.7,   6.1320,  34.5500,2,  34.5510,2,    143.7,2,    138.2,2,    24.30,2,    33.28,2,     2.24,2,    0.182,2,    0.103,2, -999.000,9,-999.0000,9,  -999.00,9,   2212.7,2,   -999.0,9,     7.83,2,  6.0780
 3230CITHER2_2,  A17N,   180,  1,     23,     23,2,19940306,2023,  1.5847, -34.4445, 3904,    700.4,   5.4920,  34.5130,2,  34.5140,2,    146.3,2,    145.1,2,    27.20,2,    34.14,2,     2.29,2,    0.117,2,    0.068,2, -999.000,9,-999.0000,9,  -999.00,9,   2214.9,2,   -999.0,9,     7.83,2,  5.4330
 3230CITHER2_2,  A17N,   180,  1,     22,     22,2,19940306,2023,  1.5847, -34.4445, 3904,    800.4,   4.9520,  34.5150,2,  34.5140,2,    152.1,2,    151.6,2,    30.20,2,    33.76,2,     2.31,2,    0.075,2,    0.045,2, -999.000,9,-999.0000,9,  -999.00,9,   2218.2,2,   -999.0,9,     7.83,2,  4.8870
 3230CITHER2_2,  A17N,   180,  1,     21,     21,2,19940306,2023,  1.5847, -34.4445, 3904,    999.9,   4.5400,  34.6660,2,  34.6650,2,    161.0,2,    160.7,2,    30.70,2,    31.75,2,     2.19,2,    0.005,2,    0.003,2, -999.000,9,-999.0000,9,  -999.00,9,   2217.9,2,   -999.0,9,     7.86,2,  4.4600
 3230CITHER2_2,  A17N,   180,  1,     20,     20,2,19940306,2023,  1.5847, -34.4445, 3904,   1199.3,   4.6070,  34.8270,2,  34.8280,2,    180.7,2,    184.0,2,    25.60,2,    27.52,2,     1.88,2,    0.021,2,    0.017,2, -999.000,9,-999.0000,9,  -999.00,9,   -999.0,9,   -999.0,9,     7.91,2,  4.5080
 3230CITHER2_2,  A17N,   180,  1,     19,     19,2,19940306,2023,  1.5847, -34.4445, 3904,   1399.9,   4.2390,  34.9740,2,  34.9750,2,    231.7,2,    233.3,2,    18.30,2,    21.28,2,     1.42,2,    0.072,2,    0.048,2, -999.000,9,-999.0000,9,  -999.00,9,   -999.0,9,   -999.0,9,     7.99,2,  4.1250
 3230CITHER2_2,  A17N,   180,  1,     18,     18,2,19940306,2023,  1.5847, -34.4445, 3904,   1499.0,   4.1880,  34.9780,2,  34.9790,2,    236.4,2,    236.4,2,    18.20,2,    20.82,2,     1.38,2,    0.076,2,    0.041,2, -999.000,9,-999.0000,9,  -999.00,9,   -999.0,9,   -999.0,9,     7.99,2,  4.0660
 3230CITHER2_2,  A17N,   180,  1,     17,     17,2,19940306,2023,  1.5847, -34.4445, 3904,   1600.3,   4.0120,  34.9790,2,  34.9810,2,    240.8,2,    243.0,2,    18.30,2,    20.25,2,     1.35,2,    0.060,2,    0.039,2, -999.000,9,-999.0000,9,  -999.00,9,   -999.0,9,   -999.0,9,     8.00,2,  3.8820
 3230CITHER2_2,  A17N,   180,  1,     16,     16,2,19940306,2023,  1.5847, -34.4445, 3904,   1699.2,   3.9890,  34.9810,2,  34.9830,2,    246.2,2,    245.3,2,    18.00,2,    20.06,2,     1.33,2,    0.074,2,    0.048,2, -999.000,9,-999.0000,9,  -999.00,9,   -999.0,9,   -999.0,9,     8.00,2,  3.8500
 3230CITHER2_2,  A17N,   180,  1,     15,     15,2,19940306,2023,  1.5847, -34.4445, 3904,   1799.7,   3.9230,  34.9870,2,  34.9880,2,    250.9,2,    250.8,2,    17.40,2,    19.45,2,     1.29,2,    0.112,2,    0.068,2, -999.000,9,-999.0000,9,  -999.00,9,   -999.0,9,   -999.0,9,     8.01,2,  3.7760
 3230CITHER2_2,  A17N,   180,  1,     14,     14,2,19940306,2023,  1.5847, -34.4445, 3904,   2000.0,   3.5020,  34.9710,2,  34.9710,2,    254.7,2,    254.6,2,    20.80,2,    19.66,2,     1.29,2,    0.039,2,    0.032,2, -999.000,9,-999.0000,9,  -999.00,9,   -999.0,9,   -999.0,9,     8.01,2,  3.3420
 3230CITHER2_2,  A17N,   180,  1,     13,     13,2,19940306,2023,  1.5847, -34.4445, 3904,   2197.6,   3.3300,  34.9640,2,  34.9650,2,    257.4,2,    256.9,2,    21.70,2,    19.23,2,     1.29,2,    0.036,2,    0.027,2, -999.000,9,-999.0000,9,  -999.00,9,   -999.0,9,   -999.0,9,     8.01,2,  3.1540
 3230CITHER2_2,  A17N,   180,  1,     12,     12,2,19940306,2023,  1.5847, -34.4445, 3904,   2399.5,   3.0710,  34.9500,2,  34.9500,2,    256.3,2,    255.9,2,    25.40,2,    19.65,2,     1.32,2,    0.014,2,    0.016,2, -999.000,9,-999.0000,9,  -999.00,9,   -999.0,9,   -999.0,9,     8.01,2,  2.8800
 3230CITHER2_2,  A17N,   180,  1,     11,     11,2,19940306,2023,  1.5847, -34.4445, 3904,   2600.5,   2.8990,  34.9370,2,  34.9360,2,    254.6,2,    254.5,2,    28.90,2,    20.04,2,     1.34,2,    0.006,2,    0.011,2, -999.000,9,-999.0000,9,  -999.00,9,   -999.0,9,   -999.0,9,     8.01,2,  2.6910
 3230CITHER2_2,  A17N,   180,  1,     10,     10,2,19940306,2023,  1.5847, -34.4445, 3904,   2800.3,   2.7870,  34.9310,2,  34.9300,2,    254.8,2,    255.3,2,    30.50,2,    20.08,2,     1.35,2,    0.008,2,    0.012,2, -999.000,9,-999.0000,9,  -999.00,9,   -999.0,9,   -999.0,9,     8.01,2,  2.5610
 3230CITHER2_2,  A17N,   180,  1,      9,      9,2,19940306,2023,  1.5847, -34.4445, 3904,   3000.2,   2.6970,  34.9250,2,  34.9240,2,    255.0,2,    255.7,2,    31.80,2,    20.24,2,     1.36,2,    0.012,2,    0.015,2, -999.000,9,-999.0000,9,  -999.00,9,   -999.0,9,   -999.0,9,     8.00,2,  2.4530
 3230CITHER2_2,  A17N,   180,  1,      8,      8,2,19940306,2023,  1.5847, -34.4445, 3904,   3199.0,   2.6440,  34.9210,2,  34.9230,2,    256.9,2,    256.8,2,    31.80,2,    19.94,2,     1.34,2,    0.024,2,    0.021,2, -999.000,9,-999.0000,9,  -999.00,9,   -999.0,9,   -999.0,9,     8.01,2,  2.3800
 3230CITHER2_2,  A17N,   180,  1,      7,      7,2,19940306,2023,  1.5847, -34.4445, 3904,   3399.9,   2.5340,  34.9130,2,  34.9140,2,    257.0,2,    257.3,2,    34.00,2,    20.09,2,     1.35,2,    0.023,2,    0.019,2, -999.000,9,-999.0000,9,  -999.00,9,   -999.0,9,   -999.0,9,     8.01,2,  2.2520
 3230CITHER2_2,  A17N,   180,  1,      5,      5,2,19940306,2023,  1.5847, -34.4445, 3904,   3598.3,   2.4520,  34.9060,2,  34.9050,2,    257.7,2,    257.4,2,    36.10,2,    20.10,2,     1.35,2,    0.026,2,    0.021,2, -999.000,9,-999.0000,9,  -999.00,9,   -999.0,9,   -999.0,9,     8.00,2,  2.1500
 3230CITHER2_2,  A17N,   180,  1,      6,      6,2,19940306,2023,  1.5847, -34.4445, 3904,   3598.4,   2.4540,  34.9050,2,  34.9040,2,    257.7,2,    257.6,2,    35.90,2,    20.14,2,     1.35,2,    0.029,2,    0.019,2, -999.000,9,-999.0000,9,  -999.00,9,   -999.0,9,   -999.0,9,     8.00,2,  2.1520
 3230CITHER2_2,  A17N,   180,  1,      4,      4,2,19940306,2023,  1.5847, -34.4445, 3904,   3699.0,   2.3820,  34.8980,2,  34.8960,2,    257.3,2,    256.9,2,    37.70,2,    20.38,2,     1.37,2,    0.029,2,    0.021,2, -999.000,9,-999.0000,9,  -999.00,9,   -999.0,9,   -999.0,9,     8.00,2,  2.0710
 3230CITHER2_2,  A17N,   180,  1,      3,      3,2,19940306,2023,  1.5847, -34.4445, 3904,   3797.6,   2.3440,  34.8950,2,  34.9000,2,    257.2,2,    256.9,2,    38.60,2,    20.63,2,     1.37,2,    0.031,2,    0.025,2, -999.000,9,-999.0000,9,  -999.00,9,   -999.0,9,   -999.0,9,     8.00,2,  2.0230
 3230CITHER2_2,  A17N,   180,  1,      2,      2,2,19940306,2023,  1.5847, -34.4445, 3904,   3900.0,   2.3290,  34.8930,2,  34.8950,2,    257.7,2,    257.4,2,    39.00,2,    20.61,2,     1.37,2,    0.036,2,    0.024,2, -999.000,9,-999.0000,9,  -999.00,9,   -999.0,9,   -999.0,9,     8.00,2,  1.9970
 3230CITHER2_2,  A17N,   180,  1,      1,      1,2,19940306,2023,  1.5847, -34.4445, 3904,   3945.7,   2.3100,  34.8930,2,  34.8930,2,    257.9,2,    257.8,2,    39.10,2,    20.54,2,     1.36,2,    0.042,2,    0.029,2, -999.000,9,-999.0000,9,  -999.00,9,   -999.0,9,   -999.0,9,     8.00,2,  1.9730