BOTTLE,20030515WHPSIOSA
EXPOCODE,SECT_ID,STNNBR,CASTNO,SAMPNO,BTLNBR,BTLNBR_FLAG_W,DATE,TIME,LATITUDE,LONGITUDE,DEPTH,CTDPRS,CTDTMP,CTDSAL,CTDSAL_FLAG_W,SALNTY,SALNTY_FLAG_W,CTDOXY,CTDOXY_FLAG_W,OXYGEN,OXYGEN_FLAG_W,SILCAT,SILCAT_FLAG_W,NITRAT,NITRAT_FLAG_W,PHSPHT,PHSPHT_FLAG_W,CFC-11,CFC-11_FLAG_W,CFC-12,CFC-12_FLAG_W,TRITUM,TRITUM_FLAG_W,HELIUM,HELIUM_FLAG_W,DELHE3,DELHE3_FLAG_W,TCARBN,TCARBN_FLAG_W,ALKALI,ALKALI_FLAG_W,PH,PH_FLAG_W,THETA
,,,,,,,,,,,,DBAR,ITS-90,PSS-78,,PSS-78,,UMOL/KG,,UMOL/KG,,UMOL/KG,,UMOL/KG,,UMOL/KG,,PMOL/KG,,PMOL/KG,,TU,,NMOL/KG,,PERCNT,,UMOL/KG,,UMOL/KG,,,,DEG C
 3230CITHER2_1,  A17C,    82,  1,     32,     32,2,19940202,0752,-26.9743, -36.2677, 4605,      1.1,  26.5240,  36.1590,2,  36.1640,2,    198.3,2,    203.2,2,     1.10,2,     0.04,2,     0.01,2,    1.877,2,    1.075,2, -999.000,9,-999.0000,9,  -999.00,9,   2023.5,2,   -999.0,9,     8.38,2, 26.5240
 3230CITHER2_1,  A17C,    82,  1,     31,     31,2,19940202,0752,-26.9743, -36.2677, 4605,     51.0,  24.1590,  36.7650,2,  36.7300,2,    215.9,2,    219.5,2,     1.10,2,     0.04,2,     0.01,2,    2.047,2,    1.147,2, -999.000,9,-999.0000,9,  -999.00,9,   2053.9,2,   -999.0,9,     8.37,2, 24.1480
 3230CITHER2_1,  A17C,    82,  1,     30,     30,2,19940202,0752,-26.9743, -36.2677, 4605,    100.6,  20.9150,  36.4480,2,  36.4480,2,    219.3,2,    221.3,2,     1.10,2,     0.04,2,     0.03,2,    2.263,2,    1.246,2, -999.000,9,-999.0000,9,  -999.00,9,   2061.7,2,   -999.0,9,     8.34,2, 20.8960
 3230CITHER2_1,  A17C,    82,  1,     29,     29,2,19940202,0752,-26.9743, -36.2677, 4605,    199.8,  18.3180,  36.0040,2,  35.9920,2,    214.2,2,    212.8,2,     1.30,2,     1.31,2,     0.18,2,    2.464,2,    1.364,2, -999.000,9,-999.0000,9,  -999.00,9,   2075.0,2,   -999.0,9,     8.28,2, 18.2830
 3230CITHER2_1,  A17C,    82,  1,     28,     28,2,19940202,0752,-26.9743, -36.2677, 4605,    301.0,  15.5540,  35.5670,2,  35.5640,2,    204.5,2,    204.3,2,     2.40,2,     5.48,2,     0.49,2,    2.468,2,    1.343,2, -999.000,9,-999.0000,9,  -999.00,9,   2093.4,2,   -999.0,9,     8.19,2, 15.5070
 3230CITHER2_1,  A17C,    82,  1,     27,     27,2,19940202,0752,-26.9743, -36.2677, 4605,    400.8,  13.3090,  35.2690,2,  35.2780,2,    206.3,2,    206.5,2,     3.60,2,     9.96,2,     0.77,2,    2.356,2,    1.273,2, -999.000,9,-999.0000,9,  -999.00,9,   2108.7,2,   -999.0,9,     8.15,2, 13.2520
 3230CITHER2_1,  A17C,    82,  1,     26,     26,2,19940202,0752,-26.9743, -36.2677, 4605,    499.8,  11.0600,  34.9550,2,  34.9110,2,    206.0,2,    205.1,2,     6.00,2,    15.40,2,     1.10,2,    2.090,2,    1.127,2, -999.000,9,-999.0000,9,  -999.00,9,   2125.1,2,   -999.0,9,     8.09,2, 10.9970
 3230CITHER2_1,  A17C,    82,  1,     25,     25,2,19940202,0752,-26.9743, -36.2677, 4605,    600.2,   9.1240,  34.7350,2,  34.7170,2,    203.2,2,    202.2,2,     9.30,2,    20.43,2,     1.42,2,    1.761,2,    0.942,2, -999.000,9,-999.0000,9,  -999.00,9,   2142.2,2,   -999.0,9,     8.03,2,  9.0570
 3230CITHER2_1,  A17C,    82,  1,     24,     24,2,19940202,0752,-26.9743, -36.2677, 4605,    700.3,   6.8600,  34.4800,2,  34.4760,2,    209.9,2,    211.6,2,    13.90,2,    24.83,2,     1.73,2,    1.618,2,    0.827,2, -999.000,9,-999.0000,9,  -999.00,9,   2158.2,2,   -999.0,9,     7.98,2,  6.7930
 3230CITHER2_1,  A17C,    82,  1,     23,     23,2,19940202,0752,-26.9743, -36.2677, 4605,    800.3,   5.3650,  34.3630,2,  34.3670,2,    216.7,2,    218.2,2,    19.70,2,    28.19,2,     1.94,2,    1.252,2,    0.679,2, -999.000,9,-999.0000,9,  -999.00,9,   2169.5,2,   -999.0,9,     7.95,2,  5.2970
 3230CITHER2_1,  A17C,    82,  1,     22,     22,2,19940202,0752,-26.9743, -36.2677, 4605,    901.0,   4.3410,  34.3200,2,  34.3210,2,    217.0,2,    218.3,2,    26.70,2,    30.18,2,     2.08,2,    0.990,2,    0.525,2, -999.000,9,-999.0000,9,  -999.00,9,   2182.2,2,   -999.0,9,     7.92,2,  4.2710
 3230CITHER2_1,  A17C,    82,  1,     21,     21,2,19940202,0752,-26.9743, -36.2677, 4605,   1000.9,   3.7720,  34.3410,2,  34.3410,2,    208.6,2,    209.5,2,    35.10,2,    32.19,2,     2.19,2,    0.638,2,    0.353,2, -999.000,9,-999.0000,9,  -999.00,9,   2198.0,2,   -999.0,9,     7.92,2,  3.6980
 3230CITHER2_1,  A17C,    82,  1,     20,     20,2,19940202,0752,-26.9743, -36.2677, 4605,   1202.0,   3.3500,  34.4730,2,  34.4710,2,    188.4,2,    189.4,2,    46.80,2,    33.34,2,     2.26,2,    0.135,2,    0.065,2, -999.000,9,-999.0000,9,  -999.00,9,   -999.0,9,   -999.0,9,     7.88,2,  3.2630
 3230CITHER2_1,  A17C,    82,  1,     19,     19,2,19940202,0752,-26.9743, -36.2677, 4605,   1400.0,   3.1980,  34.5980,2,  34.6020,2,    188.2,2,    189.4,2,    50.00,2,    31.82,2,     2.16,2,    0.036,2,    0.018,2, -999.000,9,-999.0000,9,  -999.00,9,   -999.0,9,   -999.0,9,     7.89,2,  3.0960
 3230CITHER2_1,  A17C,    82,  1,     18,     18,2,19940202,0752,-26.9743, -36.2677, 4605,   1600.4,   3.0580,  34.7080,2,  34.7020,2,    197.0,2,    198.9,2,    50.50,2,    29.62,2,     2.01,2,    0.018,2,    0.011,2, -999.000,9,-999.0000,9,  -999.00,9,   -999.0,9,   -999.0,9,     7.92,2,  2.9410
 3230CITHER2_1,  A17C,    82,  1,     17,     17,2,19940202,0752,-26.9743, -36.2677, 4605,   1801.3,   3.1900,  34.8150,2,  34.8180,2,    214.1,2,    217.5,2,    42.00,2,    26.05,2,     1.77,2,    0.015,2,    0.016,2, -999.000,9,-999.0000,9,  -999.00,9,   -999.0,9,   -999.0,9,     7.96,2,  3.0530
 3230CITHER2_1,  A17C,    82,  1,     16,     16,2,19940202,0752,-26.9743, -36.2677, 4605,   1999.9,   3.3610,  34.9080,2,  34.9090,2,    234.6,2,    238.2,2,    30.50,2,    22.16,2,     1.52,2,    0.018,2,    0.019,2, -999.000,9,-999.0000,9,  -999.00,9,   -999.0,9,   -999.0,9,     7.99,2,  3.2030
 3230CITHER2_1,  A17C,    82,  1,     15,     15,2,19940202,0752,-26.9743, -36.2677, 4605,   2199.7,   3.2780,  34.9270,2,  34.9290,2,    244.7,2,    245.0,2,    28.60,2,    21.50,2,     1.44,2,    0.015,2,    0.017,2, -999.000,9,-999.0000,9,  -999.00,9,   -999.0,9,   -999.0,9,     8.01,2,  3.1020
 3230CITHER2_1,  A17C,    82,  1,     14,     14,2,19940202,0752,-26.9743, -36.2677, 4605,   2399.1,   3.1910,  34.9420,2,  34.9440,2,    250.0,2,    251.2,2,    27.10,2,    20.57,2,     1.38,2,    0.025,2,    0.021,2, -999.000,9,-999.0000,9,  -999.00,9,   -999.0,9,   -999.0,9,     8.02,2,  2.9980
 3230CITHER2_1,  A17C,    82,  1,     13,     13,2,19940202,0752,-26.9743, -36.2677, 4605,   2599.9,   3.0340,  34.9370,2,  34.9370,2,    251.7,2,    251.5,2,    29.20,2,    20.62,2,     1.39,2,    0.014,2,    0.009,2, -999.000,9,-999.0000,9,  -999.00,9,   -999.0,9,   -999.0,9,     8.02,2,  2.8240
 3230CITHER2_1,  A17C,    82,  1,     12,     12,2,19940202,0752,-26.9743, -36.2677, 4605,   2800.2,   2.9010,  34.9300,2,  34.9290,2,    252.0,2,    251.5,2,    31.50,2,    20.65,2,     1.41,2,    0.013,2,    0.009,2, -999.000,9,-999.0000,9,  -999.00,9,   -999.0,9,   -999.0,9,     8.02,2,  2.6730
 3230CITHER2_1,  A17C,    82,  1,     10,     10,2,19940202,0752,-26.9743, -36.2677, 4605,   2998.3,   2.7850,  34.9240,2,  34.9240,2,    252.5,2,    251.8,2,    33.10,2,    20.70,2,     1.40,2,    0.011,2,    0.024,2, -999.000,9,-999.0000,9,  -999.00,9,   -999.0,9,   -999.0,9,     8.02,2,  2.5390
 3230CITHER2_1,  A17C,    82,  1,     11,     11,2,19940202,0752,-26.9743, -36.2677, 4605,   2998.6,   2.7840,  34.9240,2,  34.9250,2,    252.6,2,    252.4,2,    33.10,2,    20.66,2,     1.40,2,    0.014,2,    0.012,2, -999.000,9,-999.0000,9,  -999.00,9,   -999.0,9,   -999.0,9,     8.02,2,  2.5380
 3230CITHER2_1,  A17C,    82,  1,      9,      9,2,19940202,0752,-26.9743, -36.2677, 4605,   3199.1,   2.6570,  34.9150,2,  34.9140,2,    253.3,2,    252.8,2,    35.70,2,    20.91,2,     1.42,2,    0.010,2,    0.017,2, -999.000,9,-999.0000,9,  -999.00,9,   -999.0,9,   -999.0,9,     8.02,2,  2.3930
 3230CITHER2_1,  A17C,    82,  1,      8,      8,2,19940202,0752,-26.9743, -36.2677, 4605,   3399.1,   2.4620,  34.9000,2,  34.8980,2,    252.5,2,    252.3,2,    41.00,2,    21.46,2,     1.46,2,    0.008,2,    0.016,2, -999.000,9,-999.0000,9,  -999.00,9,   -999.0,9,   -999.0,9,     8.01,2,  2.1810
 3230CITHER2_1,  A17C,    82,  1,      7,      7,2,19940202,0752,-26.9743, -36.2677, 4605,   3599.5,   2.0770,  34.8640,2,  34.8640,2,    247.6,2,    246.2,2,    55.70,2,    23.15,2,     1.59,2,    0.014,2,    0.004,2, -999.000,9,-999.0000,9,  -999.00,9,   -999.0,9,   -999.0,9,     7.99,2,  1.7850
 3230CITHER2_1,  A17C,    82,  1,      6,      6,2,19940202,0752,-26.9743, -36.2677, 4605,   3799.9,   1.6080,  34.8130,2,  34.8120,2,    238.4,2,    238.8,2,    76.10,2,    26.02,2,     1.79,2,    0.010,2,    0.009,2, -999.000,9,-999.0000,9,  -999.00,9,   -999.0,9,   -999.0,9,     7.97,2,  1.3070
 3230CITHER2_1,  A17C,    82,  1,      5,      5,2,19940202,0752,-26.9743, -36.2677, 4605,   3999.3,   1.2430,  34.7720,2,  34.7710,2,    230.9,2,    232.0,2,    92.80,2,    28.55,2,     1.95,2,    0.015,2,    0.018,2, -999.000,9,-999.0000,9,  -999.00,9,   -999.0,9,   -999.0,9,     7.94,2,  0.9310
 3230CITHER2_1,  A17C,    82,  1,      4,      4,2,19940202,0752,-26.9743, -36.2677, 4605,   4199.2,   0.7770,  34.7200,2,  34.7230,2,    223.2,2,    223.1,2,   112.60,2,    31.34,2,     2.14,2,    0.066,2,    0.030,2, -999.000,9,-999.0000,9,  -999.00,9,   -999.0,9,   -999.0,9,     7.91,2,  0.4570
 3230CITHER2_1,  A17C,    82,  1,      3,      3,2,19940202,0752,-26.9743, -36.2677, 4605,   4398.2,   0.2960,  34.6810,2,  34.6810,2,    219.2,2,    222.1,2,   127.30,2,    33.33,2,     2.29,2,    0.104,2,    0.054,2, -999.000,9,-999.0000,9,  -999.00,9,   -999.0,9,   -999.0,9,     7.89,2, -0.0300
 3230CITHER2_1,  A17C,    82,  1,      2,      2,2,19940202,0752,-26.9743, -36.2677, 4605,   4598.7,   0.2350,  34.6750,2,  34.6780,2,    220.1,2,    222.4,2,   129.10,2,    33.28,2,     2.29,2,    0.126,2,    0.073,2, -999.000,9,-999.0000,9,  -999.00,9,   -999.0,9,   -999.0,9,     7.88,2, -0.1110
 3230CITHER2_1,  A17C,    82,  1,      1,      1,2,19940202,0752,-26.9743, -36.2677, 4605,   4673.1,   0.2300,  34.6730,2,  34.6740,2,    220.4,2,    222.4,2,   129.80,2,    33.44,2,     2.31,2,    0.127,2,    0.068,2, -999.000,9,-999.0000,9,  -999.00,9,   -999.0,9,   -999.0,9,     7.89,2, -0.1240
 3230CITHER2_1,  A17C,    83,  1,     31,     31,2,19940202,1355,-26.5762, -35.9277, 4484,      7.6,  26.7990,  36.1500,2,  36.1390,2,    196.4,2,    205.2,2,     1.10,2,     0.04,2,     0.05,2,    1.904,2,    1.103,2, -999.000,9,-999.0000,9,  -999.00,9,   -999.0,9,   -999.0,9,     8.37,2, 26.7970
 3230CITHER2_1,  A17C,    83,  1,     32,     32,2,19940202,1355,-26.5762, -35.9277, 4484,      8.1,  26.7590,  36.1350,2,  36.1390,2,    196.4,2,    205.1,2,     1.10,2,     0.04,2,     0.03,2,    1.918,2,    1.105,2,    0.670,2,-999.0000,9,  -999.00,9,   -999.0,9,   -999.0,9,     8.37,2, 26.7570
 3230CITHER2_1,  A17C,    83,  1,     30,     30,2,19940202,1355,-26.5762, -35.9277, 4484,     31.0,  24.7890,  36.2350,2,  36.2350,2,    207.2,2,    215.9,2,     1.10,2,     0.04,2,     0.01,2,    2.049,2,    1.170,2, -999.000,9,-999.0000,9,  -999.00,9,   -999.0,9,   -999.0,9,     8.37,2, 24.7820
 3230CITHER2_1,  A17C,    83,  1,     29,     29,2,19940202,1355,-26.5762, -35.9277, 4484,     55.9,  22.0340,  36.4860,2,  36.4820,2,    223.9,2,    231.6,2,     1.10,2,     0.04,2,     0.03,2,    2.276,2,    1.273,2,    0.963,2,-999.0000,9,  -999.00,9,   -999.0,9,   -999.0,9,     8.36,2, 22.0230
 3230CITHER2_1,  A17C,    83,  1,     28,     28,2,19940202,1355,-26.5762, -35.9277, 4484,    100.7,  20.3860,  36.3270,2,  36.3220,2,    220.5,2,    221.7,2,     1.10,2,     0.04,2,     0.05,2,    2.340,2,    1.304,2,    0.962,2,-999.0000,9,  -999.00,9,   -999.0,9,   -999.0,9,     8.33,2, 20.3670
 3230CITHER2_1,  A17C,    83,  1,     27,     27,2,19940202,1355,-26.5762, -35.9277, 4484,    150.1,  19.0980,  36.1150,2,  36.0940,2,    216.5,2,    216.9,2,     1.20,2,     0.55,2,     0.12,2,    2.443,2,    1.343,2, -999.000,9,-999.0000,9,  -999.00,9,   -999.0,9,   -999.0,9,     8.30,2, 19.0710
 3230CITHER2_1,  A17C,    83,  1,     26,     26,2,19940202,1355,-26.5762, -35.9277, 4484,    200.4,  17.5230,  35.8350,2,  35.8160,2,    215.7,2,    215.3,2,     1.50,2,     1.56,2,     0.24,2,    2.583,2,    1.406,2,    0.905,2,-999.0000,9,  -999.00,9,   -999.0,9,   -999.0,9,     8.26,2, 17.4890
 3230CITHER2_1,  A17C,    83,  1,     25,     25,2,19940202,1355,-26.5762, -35.9277, 4484,    299.9,  14.7970,  35.4250,2,  35.4210,2,    209.1,2,    207.8,2,     2.60,2,     6.26,2,     0.56,2,    2.548,2,    1.357,2,    0.854,2,-999.0000,9,  -999.00,9,   -999.0,9,   -999.0,9,     8.20,2, 14.7520
 3230CITHER2_1,  A17C,    83,  1,     24,     24,2,19940202,1355,-26.5762, -35.9277, 4484,    401.1,  12.8840,  35.2000,2,  35.1960,2,    208.3,2,    206.3,2,     4.00,2,    10.96,2,     0.83,2,    2.323,2,    1.236,2,    0.688,2,-999.0000,9,  -999.00,9,   -999.0,9,   -999.0,9,     8.14,2, 12.8290
 3230CITHER2_1,  A17C,    83,  1,     23,     23,2,19940202,1355,-26.5762, -35.9277, 4484,    499.7,  10.8850,  34.9310,2,  34.9250,2,    208.1,2,    204.3,2,     6.20,2,    15.86,2,     1.14,2,    2.073,2,    1.091,2, -999.000,9,-999.0000,9,  -999.00,9,   -999.0,9,   -999.0,9,     8.08,2, 10.8230
 3230CITHER2_1,  A17C,    83,  1,     22,     22,2,19940202,1355,-26.5762, -35.9277, 4484,    600.9,   8.6420,  34.6710,2,  34.6590,2,    206.2,2,    205.7,2,     9.80,2,    21.11,2,     1.49,2,    1.798,2,    0.940,2,    0.375,2,-999.0000,9,  -999.00,9,   -999.0,9,   -999.0,9,     8.03,2,  8.5770
 3230CITHER2_1,  A17C,    83,  1,     21,     21,2,19940202,1355,-26.5762, -35.9277, 4484,    700.7,   6.4620,  34.4420,2,  34.4390,2,    213.0,2,    213.9,2,    14.80,2,    25.69,2,     1.79,2,    1.586,2,    0.822,2, -999.000,9,-999.0000,9,  -999.00,9,   -999.0,9,   -999.0,9,     7.98,2,  6.3970
 3230CITHER2_1,  A17C,    83,  1,     20,     20,2,19940202,1355,-26.5762, -35.9277, 4484,    840.8,   4.5280,  34.3210,2,  34.3240,2,    219.5,2,    218.9,2,    24.50,2,    29.80,2,     2.05,2,    1.115,2,    0.576,2,    0.181,2,-999.0000,9,  -999.00,9,   -999.0,9,   -999.0,9,     7.93,2,  4.4620
 3230CITHER2_1,  A17C,    83,  1,     19,     19,2,19940202,1355,-26.5762, -35.9277, 4484,   1001.0,   3.8090,  34.3810,2,  34.3800,2,    201.4,2,    197.3,2,    37.10,2,    32.80,2,     2.24,2,    0.369,2,    0.212,2,    0.088,2,-999.0000,9,  -999.00,9,   -999.0,9,   -999.0,9,     7.89,2,  3.7350
 3230CITHER2_1,  A17C,    83,  1,     18,     18,2,19940202,1355,-26.5762, -35.9277, 4484,   1200.5,   3.2210,  34.4820,2,  34.4820,2,    188.8,2,    189.0,2,    48.90,2,    33.17,2,     2.27,2,    0.131,2,    0.087,2, -999.000,9,-999.0000,9,  -999.00,9,   -999.0,9,   -999.0,9,     7.88,2,  3.1360
 3230CITHER2_1,  A17C,    83,  1,     17,     17,2,19940202,1355,-26.5762, -35.9277, 4484,   1400.0,   3.0390,  34.6070,2,  34.6060,2,    189.4,2,    189.9,2,    52.70,2,    31.81,2,     2.17,2,    0.044,2,    0.024,2,    0.036,2,-999.0000,9,  -999.00,9,   -999.0,9,   -999.0,9,     7.89,2,  2.9390
 3230CITHER2_1,  A17C,    83,  1,     16,     16,2,19940202,1355,-26.5762, -35.9277, 4484,   1599.8,   3.5730,  34.8120,2,  34.8090,2,    209.3,2,    209.8,2,    36.60,2,    26.34,2,     1.79,2,    0.021,2,    0.012,2, -999.000,9,-999.0000,9,  -999.00,9,   -999.0,9,   -999.0,9,     7.95,2,  3.4490
 3230CITHER2_1,  A17C,    83,  1,     15,     15,2,19940202,1355,-26.5762, -35.9277, 4484,   1799.9,   3.5890,  34.9040,2,  34.9040,2,    232.7,2,    231.6,2,    28.60,2,    22.78,2,     1.55,2,    0.026,2,    0.021,2, -999.000,9,-999.0000,9,  -999.00,9,   -999.0,9,   -999.0,9,     7.98,2,  3.4470
 3230CITHER2_1,  A17C,    83,  1,     14,     14,2,19940202,1355,-26.5762, -35.9277, 4484,   2000.0,   3.3250,  34.9100,2,  34.9090,2,    236.4,2,    238.7,2,    30.10,2,    22.10,2,     1.50,2,    0.024,2,    0.012,2, -999.000,9,-999.0000,9,  -999.00,9,   -999.0,9,   -999.0,9,     7.99,2,  3.1680
 3230CITHER2_1,  A17C,    83,  1,     13,     13,2,19940202,1355,-26.5762, -35.9277, 4484,   2199.3,   3.1470,  34.9120,2,  34.9090,2,    243.7,2,    242.4,2,    31.80,2,    21.76,2,     1.49,2,    0.016,2,    0.011,2, -999.000,9,-999.0000,9,  -999.00,9,   -999.0,9,   -999.0,9,     8.00,2,  2.9740
 3230CITHER2_1,  A17C,    83,  1,     12,     12,2,19940202,1355,-26.5762, -35.9277, 4484,   2399.9,   3.0820,  34.9290,2,  34.9270,2,    247.8,2,    249.4,2,    29.40,2,    20.74,2,     1.42,2,    0.015,2,    0.013,2, -999.000,9,-999.0000,9,  -999.00,9,   -999.0,9,   -999.0,9,     8.01,2,  2.8900
 3230CITHER2_1,  A17C,    83,  1,     11,     11,2,19940202,1355,-26.5762, -35.9277, 4484,   2599.6,   2.9670,  34.9280,2,  34.9270,2,    250.1,2,    250.0,2,    30.40,2,    20.66,2,     1.42,2,    0.011,2,    0.013,2, -999.000,9,-999.0000,9,  -999.00,9,   -999.0,9,   -999.0,9,     8.01,2,  2.7580
 3230CITHER2_1,  A17C,    83,  1,     10,     10,2,19940202,1355,-26.5762, -35.9277, 4484,   2799.7,   2.8400,  34.9230,2,  34.9240,2,    250.9,2,    251.5,2,    32.60,2,    20.79,2,     1.42,2,    0.008,2,    0.011,2, -999.000,9,-999.0000,9,  -999.00,9,   -999.0,9,   -999.0,9,     8.01,2,  2.6130
 3230CITHER2_1,  A17C,    83,  1,      9,      9,2,19940202,1355,-26.5762, -35.9277, 4484,   2999.2,   2.7380,  34.9210,2,  34.9200,2,    252.4,2,    250.8,2,    33.70,2,    20.71,2,     1.42,2,    0.008,2,    0.010,2, -999.000,9,-999.0000,9,  -999.00,9,   -999.0,9,   -999.0,9,     8.01,2,  2.4930
 3230CITHER2_1,  A17C,    83,  1,      8,      8,2,19940202,1355,-26.5762, -35.9277, 4484,   3198.8,   2.5890,  34.9100,2,  34.9100,2,    253.3,2,    252.2,2,    36.70,2,    20.88,2,     1.43,2,    0.006,2,    0.015,2, -999.000,9,-999.0000,9,  -999.00,9,   -999.0,9,   -999.0,9,     8.01,2,  2.3270
 3230CITHER2_1,  A17C,    83,  1,      7,      7,2,19940202,1355,-26.5762, -35.9277, 4484,   3398.9,   2.3790,  34.8900,2,  34.8990,2,    251.8,2,    250.3,2,    42.90,2,    21.56,2,     1.48,2,    0.018,2,    0.021,2, -999.000,9,-999.0000,9,  -999.00,9,   -999.0,9,   -999.0,9,     8.01,2,  2.1010
 3230CITHER2_1,  A17C,    83,  1,      6,      6,2,19940202,1355,-26.5762, -35.9277, 4484,   3598.5,   1.9450,  34.8470,2,  34.8470,2,    245.3,2,    244.1,2,    60.50,2,    23.80,2,     1.65,2,    0.004,2,    0.011,2, -999.000,9,-999.0000,9,  -999.00,9,   -999.0,9,   -999.0,9,     7.98,2,  1.6560
 3230CITHER2_1,  A17C,    83,  1,      5,      5,2,19940202,1355,-26.5762, -35.9277, 4484,   3798.7,   1.3930,  34.7880,2,  34.7860,2,    233.8,2,    233.5,2,    85.20,2,    27.52,2,     1.89,2,    0.016,2,    0.012,2, -999.000,9,-999.0000,9,  -999.00,9,   -999.0,9,   -999.0,9,     7.95,2,  1.0980
 3230CITHER2_1,  A17C,    83,  1,      4,      4,2,19940202,1355,-26.5762, -35.9277, 4484,   3998.5,   0.9830,  34.7420,2,  34.7430,2,    225.1,2,    226.9,2,   101.90,2,    29.99,2,     2.06,2,    0.032,2,    0.029,2, -999.000,9,-999.0000,9,  -999.00,9,   -999.0,9,   -999.0,9,     7.92,2,  0.6790
 3230CITHER2_1,  A17C,    83,  1,      3,      3,2,19940202,1355,-26.5762, -35.9277, 4484,   4198.9,   0.4090,  34.6860,2,  34.6870,2,    218.7,2,    220.4,2,   122.50,2,    32.68,2,     2.28,2,    0.099,2,    0.053,2, -999.000,9,-999.0000,9,  -999.00,9,   -999.0,9,   -999.0,9,     7.88,2,  0.1000
 3230CITHER2_1,  A17C,    83,  1,      2,      2,2,19940202,1355,-26.5762, -35.9277, 4484,   4398.5,   0.2550,  34.6770,2,  34.6770,2,    219.6,2,    221.6,2,   126.40,2,    33.00,2,     2.30,2,    0.114,2,    0.076,2, -999.000,9,-999.0000,9,  -999.00,9,   -999.0,9,   -999.0,9,     7.88,2, -0.0700
 3230CITHER2_1,  A17C,    83,  1,      1,      1,2,19940202,1355,-26.5762, -35.9277, 4484,   4520.2,   0.2320,  34.6730,2,  34.6730,2,    219.9,2,    222.1,2,   126.60,2,    33.22,2,     2.33,2,    0.120,2,    0.075,2, -999.000,9,-999.0000,9,  -999.00,9,   -999.0,9,   -999.0,9,     7.89,2, -0.1050