BOTTLE,20030515WHPSIOSA
EXPOCODE,SECT_ID,STNNBR,CASTNO,SAMPNO,BTLNBR,BTLNBR_FLAG_W,DATE,TIME,LATITUDE,LONGITUDE,DEPTH,CTDPRS,CTDTMP,CTDSAL,CTDSAL_FLAG_W,SALNTY,SALNTY_FLAG_W,CTDOXY,CTDOXY_FLAG_W,OXYGEN,OXYGEN_FLAG_W,SILCAT,SILCAT_FLAG_W,NITRAT,NITRAT_FLAG_W,PHSPHT,PHSPHT_FLAG_W,CFC-11,CFC-11_FLAG_W,CFC-12,CFC-12_FLAG_W,TRITUM,TRITUM_FLAG_W,HELIUM,HELIUM_FLAG_W,DELHE3,DELHE3_FLAG_W,TCARBN,TCARBN_FLAG_W,ALKALI,ALKALI_FLAG_W,PH,PH_FLAG_W,THETA
,,,,,,,,,,,,DBAR,ITS-90,PSS-78,,PSS-78,,UMOL/KG,,UMOL/KG,,UMOL/KG,,UMOL/KG,,UMOL/KG,,PMOL/KG,,PMOL/KG,,TU,,NMOL/KG,,PERCNT,,UMOL/KG,,UMOL/KG,,,,DEG C
 3230CITHER2_1,  A17C,    66,  1,     30,     30,2,19940129,1133,-33.2377, -41.8045, 4570,      5.8,  22.1040,  35.7600,2,  35.7610,2,    220.8,2,    220.9,2,     1.40,2,     0.04,2,     0.04,2,    2.252,2,    1.267,2,    1.062,2,-999.0000,9,  -999.00,9,   2030.7,2,   2360.4,2,     8.33,2, 22.1030
 3230CITHER2_1,  A17C,    66,  1,     29,     29,2,19940129,1133,-33.2377, -41.8045, 4570,     35.5,  21.9960,  35.7610,2,  35.7810,2,    226.0,2,    224.4,2,     1.40,2,     0.04,2,     0.04,2,    2.297,2,    1.282,2,    1.002,2,-999.0000,9,  -999.00,9,   2032.5,2,   2363.1,2,     8.33,2, 21.9890
 3230CITHER2_1,  A17C,    66,  1,     28,     28,2,19940129,1133,-33.2377, -41.8045, 4570,    100.6,  17.6870,  36.1180,2,  36.1110,2,    231.0,2,    212.8,2,     1.60,2,     2.31,2,     0.26,2,    2.548,2,    1.385,2,    0.897,2,-999.0000,9,  -999.00,9,   2085.0,2,   2379.3,2,     8.27,2, 17.6700
 3230CITHER2_1,  A17C,    66,  1,     27,     27,2,19940129,1133,-33.2377, -41.8045, 4570,    199.3,  15.6080,  35.7420,2,  35.7390,2,    217.5,2,    217.8,2,     2.00,2,     4.91,2,     0.44,2,    2.670,2,    1.428,2, -999.000,9,-999.0000,9,  -999.00,9,   2088.3,2,   2359.2,2,     8.22,2, 15.5770
 3230CITHER2_1,  A17C,    66,  1,     26,     26,2,19940129,1133,-33.2377, -41.8045, 4570,    299.7,  14.7870,  35.6180,2,  35.6250,2,    224.8,2,    220.8,2,     2.30,2,     6.05,2,     0.51,2,    2.713,2,    1.448,2, -999.000,9,-999.0000,9,  -999.00,9,   2093.2,2,   2353.1,2,     8.21,2, 14.7420
 3230CITHER2_1,  A17C,    66,  1,     25,     25,2,19940129,1133,-33.2377, -41.8045, 4570,    400.2,  12.9930,  35.2780,2,  35.2660,2,    220.5,2,    216.9,2,     3.30,2,    10.10,2,     0.76,2,    2.658,2,    1.401,2,    0.675,2,-999.0000,9,  -999.00,9,   2104.8,2,   2332.3,2,     8.15,2, 12.9370
 3230CITHER2_1,  A17C,    66,  1,     23,     23,2,19940129,1133,-33.2377, -41.8045, 4570,    499.8,  10.2050,  34.8450,2,  34.8230,2,    209.3,2,    206.3,2,     6.60,2,    17.46,2,     1.24,2,    2.204,2,    1.141,2,    0.572,2,-999.0000,9,  -999.00,9,   2128.9,2,   2310.5,2,     8.06,2, 10.1450
 3230CITHER2_1,  A17C,    66,  1,     24,     24,2,19940129,1133,-33.2377, -41.8045, 4570,    499.9,  10.2210,  34.8380,2,  34.8210,2,    209.3,2,    206.6,2,     6.60,2,    17.45,2,     1.24,2,    2.205,2,    1.154,2, -999.000,9,-999.0000,9,  -999.00,9,   -999.0,5,   2310.5,2,     8.06,2, 10.1610
 3230CITHER2_1,  A17C,    66,  1,     22,     22,2,19940129,1133,-33.2377, -41.8045, 4570,    600.8,   7.7710,  34.5430,2,  34.5400,2,    213.7,2,    215.6,2,    10.20,2,    22.21,2,     1.57,2,    2.162,2,    1.110,2,    0.302,2,-999.0000,9,  -999.00,9,   2144.4,2,   2300.0,2,     8.00,2,  7.7100
 3230CITHER2_1,  A17C,    66,  1,     21,     21,2,19940129,1133,-33.2377, -41.8045, 4570,    840.7,   4.5950,  34.2670,2,  34.2670,2,    246.1,2,    245.1,2,    18.20,2,    27.45,2,     1.92,2,    2.380,2,    1.189,2,    0.184,2,-999.0000,9,  -999.00,9,   2158.7,2,   2296.3,2,     7.95,2,  4.5290
 3230CITHER2_1,  A17C,    66,  1,     20,     20,2,19940129,1133,-33.2377, -41.8045, 4570,    999.1,   3.7920,  34.2730,2,  34.2720,2,    234.6,2,    233.8,2,    27.60,2,    29.88,2,     2.08,2,    1.571,2,    0.797,2,    0.162,2,-999.0000,9,  -999.00,9,   2179.3,2,   2303.7,2,     7.92,2,  3.7180
 3230CITHER2_1,  A17C,    66,  1,     19,     19,2,19940129,1133,-33.2377, -41.8045, 4570,   1198.8,   3.1260,  34.3390,2,  34.3340,2,    218.5,2,    213.3,2,    41.30,2,    32.01,2,     2.24,2,    0.953,2,    0.490,2,    0.091,2,-999.0000,9,  -999.00,9,   2204.3,2,   2318.9,2,     7.88,2,  3.0420
 3230CITHER2_1,  A17C,    66,  1,     18,     18,2,19940129,1133,-33.2377, -41.8045, 4570,   1400.5,   2.9460,  34.4610,2,  34.4620,2,    192.2,2,    192.6,2,    52.90,2,    32.62,2,     2.28,2,    0.269,2,    0.148,2,    0.010,2,-999.0000,9,  -999.00,9,   2223.6,2,   2329.0,2,     7.86,2,  2.8470
 3230CITHER2_1,  A17C,    66,  1,     17,     17,2,19940129,1133,-33.2377, -41.8045, 4570,   1598.8,   2.8600,  34.5850,2,  34.5820,2,    187.2,2,    187.3,2,    58.30,2,    32.02,2,     2.22,2,    0.104,2,    0.064,2, -999.000,9,-999.0000,9,  -999.00,9,   2229.6,2,   2339.2,2,     7.86,2,  2.7460
 3230CITHER2_1,  A17C,    66,  1,     16,     16,2,19940129,1133,-33.2377, -41.8045, 4570,   1799.1,   2.9130,  34.7050,2,  34.7000,2,    195.2,2,    197.0,2,    55.70,2,    29.70,2,     2.03,2,    0.039,2,    0.027,2, -999.000,9,-999.0000,9,  -999.00,9,   2222.3,2,   2340.8,2,     7.89,2,  2.7800
 3230CITHER2_1,  A17C,    66,  1,     15,     15,2,19940129,1133,-33.2377, -41.8045, 4570,   1999.0,   3.0970,  34.8060,2,  34.8040,2,    215.8,2,    214.2,2,    46.00,2,    26.37,2,     1.80,2,    0.015,2,    0.019,2, -999.000,9,-999.0000,9,  -999.00,9,   2204.9,2,   2338.9,2,     7.93,2,  2.9440
 3230CITHER2_1,  A17C,    66,  1,     14,     14,2,19940129,1133,-33.2377, -41.8045, 4570,   2200.1,   3.3370,  34.9030,2,  34.8990,2,    235.8,2,    236.4,2,    32.00,2,    22.52,2,     1.53,2,    0.016,2,    0.024,2, -999.000,9,-999.0000,9,  -999.00,9,   2182.8,2,   2334.0,2,     7.97,2,  3.1610
 3230CITHER2_1,  A17C,    66,  1,     13,     13,2,19940129,1133,-33.2377, -41.8045, 4570,   2400.2,   3.3260,  34.9340,2,  34.9330,2,    247.1,2,    246.3,2,    27.50,2,    21.14,2,     1.41,2,    0.014,2,    0.022,2, -999.000,9,-999.0000,9,  -999.00,9,   2174.2,2,   2332.0,2,     7.99,2,  3.1300
 3230CITHER2_1,  A17C,    66,  1,     12,     12,2,19940129,1133,-33.2377, -41.8045, 4570,   2597.8,   3.1920,  34.9350,2,  34.9320,2,    250.1,2,    248.6,2,    28.20,2,    20.70,2,     1.40,2,    0.011,2,    0.025,2, -999.000,9,-999.0000,9,  -999.00,9,   2174.0,2,   2333.0,2,     8.00,2,  2.9790
 3230CITHER2_1,  A17C,    66,  1,     11,     11,2,19940129,1133,-33.2377, -41.8045, 4570,   2799.1,   3.0450,  34.9290,2,  34.9270,2,    249.2,2,    249.0,2,  -999.00,5,  -999.00,5,  -999.00,5,    0.007,2,    0.019,2, -999.000,9,-999.0000,9,  -999.00,9,   2176.6,2,   2335.7,2,     8.00,2,  2.8140
 3230CITHER2_1,  A17C,    66,  1,     10,     10,2,19940129,1133,-33.2377, -41.8045, 4570,   2998.0,   2.9030,  34.9230,2,  34.9250,2,    251.6,2,    249.8,2,    32.80,2,    20.87,2,     1.41,2,    0.007,2,    0.019,2, -999.000,9,-999.0000,9,  -999.00,9,   2178.8,2,   2338.3,2,     8.00,2,  2.6550
 3230CITHER2_1,  A17C,    66,  1,      9,      9,2,19940129,1133,-33.2377, -41.8045, 4570,   3197.9,   2.7590,  34.9170,2,  34.9150,2,    252.8,2,    251.1,2,    34.80,2,    21.44,2,     1.42,2,    0.011,2,    0.019,2, -999.000,9,-999.0000,9,  -999.00,9,   2180.9,2,   2340.7,2,     8.00,2,  2.4930
 3230CITHER2_1,  A17C,    66,  1,      8,      8,2,19940129,1133,-33.2377, -41.8045, 4570,   3398.4,   2.4420,  34.8930,2,  34.8870,2,    250.3,2,    248.6,2,    45.40,2,    22.21,2,     1.50,2,    0.012,2,    0.017,2, -999.000,9,-999.0000,9,  -999.00,9,   2189.7,2,   2345.1,2,     7.99,2,  2.1620
 3230CITHER2_1,  A17C,    66,  1,      7,      7,2,19940129,1133,-33.2377, -41.8045, 4570,   3598.4,   1.8110,  34.8240,2,  34.8240,2,    239.0,2,    237.0,2,    71.20,2,    25.50,2,     1.75,2,    0.025,2,    0.016,2, -999.000,9,-999.0000,9,  -999.00,9,   2214.5,2,   2356.6,2,     7.95,2,  1.5260
 3230CITHER2_1,  A17C,    66,  1,      6,      6,2,19940129,1133,-33.2377, -41.8045, 4570,   3798.0,   0.9490,  34.7250,2,  34.7230,2,    216.6,2,    216.8,2,   110.70,2,    31.07,2,     2.13,2,    0.063,2,    0.052,2, -999.000,9,-999.0000,9,  -999.00,9,   2252.1,2,   2369.9,2,     7.89,2,  0.6660
 3230CITHER2_1,  A17C,    66,  1,      5,      5,2,19940129,1133,-33.2377, -41.8045, 4570,   3999.0,   0.5510,  34.6940,2,  34.6930,2,    215.9,2,    217.2,2,   122.40,2,    32.34,2,     2.24,2,    0.088,2,    0.057,2, -999.000,9,-999.0000,9,  -999.00,9,   2260.0,2,   2373.7,2,     7.87,2,  0.2590
 3230CITHER2_1,  A17C,    66,  1,      4,      4,2,19940129,1133,-33.2377, -41.8045, 4570,   4197.9,   0.3060,  34.6790,2,  34.6780,2,    218.3,2,    221.6,2,   128.00,2,    32.75,2,     2.28,2,    0.136,2,    0.079,2, -999.000,9,-999.0000,9,  -999.00,9,   2262.6,2,   2374.9,2,     7.87,2,  0.0010
 3230CITHER2_1,  A17C,    66,  1,      3,      3,2,19940129,1133,-33.2377, -41.8045, 4570,   4395.5,   0.2050,  34.6740,2,  34.6720,2,    220.4,2,    222.9,2,   130.10,2,    32.81,2,     2.29,2,    0.115,2,    0.069,2, -999.000,9,-999.0000,9,  -999.00,9,   2264.7,2,   2376.4,2,     7.87,2, -0.1180
 3230CITHER2_1,  A17C,    66,  1,      2,      2,2,19940129,1133,-33.2377, -41.8045, 4570,   4498.0,   0.1780,  34.6720,2,  34.6750,2,    220.8,2,    222.8,2,   130.40,2,    32.97,2,     2.29,2,    0.139,2,    0.090,2, -999.000,9,-999.0000,9,  -999.00,9,   2266.7,2,   2377.4,2,     7.87,2, -0.1550
 3230CITHER2_1,  A17C,    66,  1,      1,      1,2,19940129,1133,-33.2377, -41.8045, 4570,   4637.2,   0.1910,  34.6720,2,  34.6650,2,    220.3,2,    222.8,2,   130.90,2,    32.97,2,     2.29,2,    0.129,2,    0.078,2, -999.000,9,-999.0000,9,  -999.00,9,   2268.9,2,   2375.3,2,     7.87,2, -0.1580
 3230CITHER2_1,  A17C,    67,  1,     31,     31,2,19940129,1806,-32.8480, -41.4622, 4510,      7.0,  22.4040,  35.7940,2,  35.7950,2,    214.2,2,    220.3,2,     0.40,2,     0.04,2,     0.04,2,    2.232,2,    1.256,2, -999.000,9,-999.0000,9,  -999.00,9,   2034.6,2,   -999.0,9,     8.32,2, 22.4030
 3230CITHER2_1,  A17C,    67,  1,     30,     30,2,19940129,1806,-32.8480, -41.4622, 4510,     30.6,  22.2250,  35.7900,2,  35.7890,2,    225.1,2,    221.2,2,     1.20,2,     0.04,2,     0.04,2,    2.255,2,    1.264,2, -999.000,9,-999.0000,9,  -999.00,9,   2030.4,2,   -999.0,9,     8.33,2, 22.2190
 3230CITHER2_1,  A17C,    67,  1,     29,     29,2,19940129,1806,-32.8480, -41.4622, 4510,     75.4,  19.0340,  35.9810,2,  35.9570,2,    238.5,2,    239.7,2,     1.10,2,     0.04,2,     0.07,2,    2.559,2,    1.403,2, -999.000,9,-999.0000,9,  -999.00,9,   2051.4,2,   -999.0,9,     8.31,2, 19.0200
 3230CITHER2_1,  A17C,    67,  1,     28,     28,2,19940129,1806,-32.8480, -41.4622, 4510,    101.6,  17.4500,  36.0090,2,  35.9980,2,    233.5,2,    231.2,2,     1.30,2,     0.37,2,     0.15,2,    2.618,2,    1.424,2, -999.000,9,-999.0000,9,  -999.00,9,   2073.2,2,   -999.0,9,     8.27,2, 17.4330
 3230CITHER2_1,  A17C,    67,  1,     27,     27,2,19940129,1806,-32.8480, -41.4622, 4510,    150.5,  16.0950,  35.8260,2,  35.8230,2,    214.6,2,    215.0,2,     1.80,2,     4.58,2,     0.41,2,    2.617,2,    1.426,2, -999.000,9,-999.0000,9,  -999.00,9,   2089.3,2,   -999.0,9,     8.23,2, 16.0710
 3230CITHER2_1,  A17C,    67,  1,     26,     26,2,19940129,1806,-32.8480, -41.4622, 4510,    201.8,  15.7180,  35.7890,2,  35.7820,2,    224.2,2,    222.0,2,     1.70,2,     4.58,2,     0.41,2,    2.718,2,    1.467,2, -999.000,9,-999.0000,9,  -999.00,9,   2084.0,2,   -999.0,9,     8.22,2, 15.6860
 3230CITHER2_1,  A17C,    67,  1,     25,     25,2,19940129,1806,-32.8480, -41.4622, 4510,    300.7,  14.7900,  35.6030,2,  35.6050,2,    225.5,2,    220.1,2,     2.00,2,     6.30,2,     0.52,2,    2.707,2,    1.454,2, -999.000,9,-999.0000,9,  -999.00,9,   -999.0,5,   -999.0,9,     8.20,2, 14.7450
 3230CITHER2_1,  A17C,    67,  1,     24,     24,2,19940129,1806,-32.8480, -41.4622, 4510,    300.8,  14.7680,  35.6020,2,  35.6000,2,    225.5,2,    220.7,2,     2.20,2,     6.30,2,     0.53,2,    2.708,2,    1.455,2, -999.000,9,-999.0000,9,  -999.00,9,   2094.0,2,   -999.0,9,     8.20,2, 14.7230
 3230CITHER2_1,  A17C,    67,  1,     23,     23,2,19940129,1806,-32.8480, -41.4622, 4510,    401.0,  12.8790,  35.2540,2,  35.2560,2,    219.0,2,    215.1,2,     3.30,2,    10.34,2,     0.79,2,    2.613,2,    1.377,2, -999.000,9,-999.0000,9,  -999.00,9,   2105.5,2,   -999.0,9,     8.14,2, 12.8240
 3230CITHER2_1,  A17C,    67,  1,     22,     22,2,19940129,1806,-32.8480, -41.4622, 4510,    500.8,  10.3010,  34.8400,2,  34.8350,2,    210.4,2,    208.0,2,     5.90,2,    16.84,2,     1.21,2,    2.385,2,    1.239,2, -999.000,9,-999.0000,9,  -999.00,9,   2126.7,2,   -999.0,9,     8.06,2, 10.2410
 3230CITHER2_1,  A17C,    67,  1,     21,     21,2,19940129,1806,-32.8480, -41.4622, 4510,    601.1,   7.6540,  34.5290,2,  34.5160,2,    223.2,2,    224.4,2,     8.80,2,    21.70,2,     1.55,2,    2.583,2,    1.309,2, -999.000,9,-999.0000,9,  -999.00,9,   2140.1,2,   -999.0,9,     8.00,2,  7.5940
 3230CITHER2_1,  A17C,    67,  1,     20,     20,2,19940129,1806,-32.8480, -41.4622, 4510,    800.7,   4.7540,  34.2670,2,  34.2690,2,    245.7,2,    246.4,2,    16.50,2,    26.75,2,     1.89,2,    2.525,2,    1.259,2, -999.000,9,-999.0000,9,  -999.00,9,   2155.6,2,   -999.0,9,     7.95,2,  4.6900
 3230CITHER2_1,  A17C,    67,  1,     19,     19,2,19940129,1806,-32.8480, -41.4622, 4510,   1000.8,   3.8100,  34.2700,2,  34.2690,2,    234.7,2,    234.0,2,    26.40,2,    29.87,2,     2.08,2,    1.771,2,    0.912,2, -999.000,9,-999.0000,9,  -999.00,9,   2175.2,2,   -999.0,9,     7.92,2,  3.7360
 3230CITHER2_1,  A17C,    67,  1,     18,     18,2,19940129,1806,-32.8480, -41.4622, 4510,   1197.7,   3.2120,  34.3420,2,  34.3390,2,    212.4,2,    212.2,2,    39.70,2,    32.08,2,     2.23,2, -999.000,5, -999.000,5, -999.000,9,-999.0000,9,  -999.00,9,   -999.0,9,   -999.0,9,     7.88,2,  3.1270
 3230CITHER2_1,  A17C,    67,  1,     17,     17,2,19940129,1806,-32.8480, -41.4622, 4510,   1400.0,   2.9020,  34.4610,2,  34.4570,2,    191.8,2,    192.4,2,    53.00,2,    33.14,2,     2.30,2,    0.372,2,    0.193,2, -999.000,9,-999.0000,9,  -999.00,9,   -999.0,9,   -999.0,9,     7.86,2,  2.8040
 3230CITHER2_1,  A17C,    67,  1,     16,     16,2,19940129,1806,-32.8480, -41.4622, 4510,   1599.4,   2.8680,  34.5910,2,  34.5870,2,    187.6,2,    188.6,2,    57.10,2,    31.81,2,     2.21,2,    0.092,2,    0.058,2, -999.000,9,-999.0000,9,  -999.00,9,   -999.0,9,   -999.0,9,     7.86,2,  2.7530
 3230CITHER2_1,  A17C,    67,  1,     15,     15,2,19940129,1806,-32.8480, -41.4622, 4510,   1799.0,   2.8980,  34.6990,2,  34.6940,2,    197.0,2,    197.1,2,    54.70,2,    29.57,2,     2.04,2,    0.030,2,    0.025,2, -999.000,9,-999.0000,9,  -999.00,9,   -999.0,9,   -999.0,9,     7.89,2,  2.7660
 3230CITHER2_1,  A17C,    67,  1,     14,     14,2,19940129,1806,-32.8480, -41.4622, 4510,   1998.1,   3.0260,  34.7880,2,  34.8010,2,    211.8,2,    213.1,2,    46.30,2,    26.21,2,     1.81,2,    0.016,2,    0.018,2, -999.000,9,-999.0000,9,  -999.00,9,   -999.0,9,   -999.0,9,     7.93,2,  2.8740
 3230CITHER2_1,  A17C,    67,  1,     13,     13,2,19940129,1806,-32.8480, -41.4622, 4510,   2199.6,   3.1980,  34.8810,2,  34.8780,2,    231.7,2,    232.1,2,    35.60,2,    22.94,2,     1.59,2,    0.009,2,    0.017,2, -999.000,9,-999.0000,9,  -999.00,9,   -999.0,9,   -999.0,9,     7.96,2,  3.0240
 3230CITHER2_1,  A17C,    67,  1,     12,     12,2,19940129,1806,-32.8480, -41.4622, 4510,   2400.4,   3.2620,  34.9260,2,  34.9270,2,    246.4,2,    245.8,2,    28.50,2,    21.18,2,     1.44,2,    0.011,2,    0.022,2, -999.000,9,-999.0000,9,  -999.00,9,   -999.0,9,   -999.0,9,     7.99,2,  3.0670
 3230CITHER2_1,  A17C,    67,  1,     11,     11,2,19940129,1806,-32.8480, -41.4622, 4510,   2597.6,   3.1800,  34.9360,2,  34.9360,2,    250.6,2,    250.4,2,    27.60,2,    20.61,2,     1.40,2,    0.011,2,    0.015,2, -999.000,9,-999.0000,9,  -999.00,9,   -999.0,9,   -999.0,9,     8.00,2,  2.9670
 3230CITHER2_1,  A17C,    67,  1,     10,     10,2,19940129,1806,-32.8480, -41.4622, 4510,   2799.4,   3.0380,  34.9320,2,  34.9310,2,    251.2,2,    251.3,2,    29.60,2,    20.93,2,     1.40,2,    0.012,2,    0.017,2, -999.000,9,-999.0000,9,  -999.00,9,   -999.0,9,   -999.0,9,     8.00,2,  2.8070
 3230CITHER2_1,  A17C,    67,  1,      9,      9,2,19940129,1806,-32.8480, -41.4622, 4510,   2997.7,   2.8840,  34.9230,2,  34.9220,2,    251.5,2,    247.9,2,    32.80,2,    21.09,2,     1.42,2,    0.009,2,    0.012,2, -999.000,9,-999.0000,9,  -999.00,9,   -999.0,9,   -999.0,9,     8.00,2,  2.6360
 3230CITHER2_1,  A17C,    67,  1,      8,      8,2,19940129,1806,-32.8480, -41.4622, 4510,   3199.7,   2.7320,  34.9170,2,  34.9160,2,    253.0,2,    252.0,2,    34.70,2,    21.17,2,     1.42,2,    0.007,2,    0.012,2, -999.000,9,-999.0000,9,  -999.00,9,   -999.0,9,   -999.0,9,     8.00,2,  2.4660
 3230CITHER2_1,  A17C,    67,  1,      7,      7,2,19940129,1806,-32.8480, -41.4622, 4510,   3397.7,   2.4030,  34.8800,2,  34.8820,2,    249.1,2,    246.2,2,    47.40,2,    22.64,2,     1.54,2,    0.017,2,    0.024,2, -999.000,9,-999.0000,9,  -999.00,9,   -999.0,9,   -999.0,9,     7.98,2,  2.1240
 3230CITHER2_1,  A17C,    67,  1,      6,      6,2,19940129,1806,-32.8480, -41.4622, 4510,   3599.2,   1.5960,  34.7910,2,  34.7890,2,    228.8,2,    227.5,2,    84.00,2,    27.70,2,     1.90,2,    0.030,2,    0.030,2, -999.000,9,-999.0000,9,  -999.00,9,   -999.0,9,   -999.0,9,     7.92,2,  1.3170
 3230CITHER2_1,  A17C,    67,  1,      5,      5,2,19940129,1806,-32.8480, -41.4622, 4510,   3800.1,   0.8900,  34.7200,2,  34.7180,2,    216.4,2,    217.1,2,   111.20,2,    31.30,2,     2.15,2,    0.066,2,    0.048,2, -999.000,9,-999.0000,9,  -999.00,9,   -999.0,9,   -999.0,9,     7.88,2,  0.6090
 3230CITHER2_1,  A17C,    67,  1,      4,      4,2,19940129,1806,-32.8480, -41.4622, 4510,   3999.4,   0.4630,  34.6880,2,  34.6870,2,    216.1,2,    218.0,2,   122.50,2,    32.65,2,     2.26,2,    0.086,2,    0.054,2, -999.000,9,-999.0000,9,  -999.00,9,   -999.0,9,   -999.0,9,     7.87,2,  0.1740
 3230CITHER2_1,  A17C,    67,  1,      3,      3,2,19940129,1806,-32.8480, -41.4622, 4510,   4199.6,   0.2430,  34.6760,2,  34.6760,2,    219.1,2,    221.6,2,   126.80,2,    32.90,2,     2.29,2,    0.107,2,    0.067,2, -999.000,9,-999.0000,9,  -999.00,9,   -999.0,9,   -999.0,9,     7.87,2, -0.0610
 3230CITHER2_1,  A17C,    67,  1,      2,      2,2,19940129,1806,-32.8480, -41.4622, 4510,   4399.2,   0.1650,  34.6720,2,  34.6700,2,    220.3,2,    222.0,2,   128.80,2,    33.15,2,     2.30,2,    0.136,2,    0.084,2, -999.000,9,-999.0000,9,  -999.00,9,   -999.0,9,   -999.0,9,     7.87,2, -0.1570
 3230CITHER2_1,  A17C,    67,  1,      1,      1,2,19940129,1806,-32.8480, -41.4622, 4510,   4571.5,   0.1840,  34.6730,2,  34.6710,2,    220.4,2,    221.9,2,   128.50,2,    33.07,2,     2.29,2,    0.131,2,    0.079,2, -999.000,9,-999.0000,9,  -999.00,9,   -999.0,9,   -999.0,9,     7.87,2, -0.1570