BOTTLE,20030515WHPSIOSA
EXPOCODE,SECT_ID,STNNBR,CASTNO,SAMPNO,BTLNBR,BTLNBR_FLAG_W,DATE,TIME,LATITUDE,LONGITUDE,DEPTH,CTDPRS,CTDTMP,CTDSAL,CTDSAL_FLAG_W,SALNTY,SALNTY_FLAG_W,CTDOXY,CTDOXY_FLAG_W,OXYGEN,OXYGEN_FLAG_W,SILCAT,SILCAT_FLAG_W,NITRAT,NITRAT_FLAG_W,PHSPHT,PHSPHT_FLAG_W,CFC-11,CFC-11_FLAG_W,CFC-12,CFC-12_FLAG_W,TRITUM,TRITUM_FLAG_W,HELIUM,HELIUM_FLAG_W,DELHE3,DELHE3_FLAG_W,TCARBN,TCARBN_FLAG_W,ALKALI,ALKALI_FLAG_W,PH,PH_FLAG_W,THETA
,,,,,,,,,,,,DBAR,ITS-90,PSS-78,,PSS-78,,UMOL/KG,,UMOL/KG,,UMOL/KG,,UMOL/KG,,UMOL/KG,,PMOL/KG,,PMOL/KG,,TU,,NMOL/KG,,PERCNT,,UMOL/KG,,UMOL/KG,,,,DEG C
 3230CITHER2_2,  A17N,   146,  1,     32,     32,2,19940224,0737,-11.4493, -30.4857, 5360,      5.5,  27.7730,  36.9400,2,  36.9430,2,    196.0,2,    220.0,2,     1.10,2,     0.04,2,     0.09,2,    1.656,2,    0.968,2, -999.000,9,-999.0000,9,  -999.00,9,   2053.6,2,   -999.0,9,     8.40,2, 27.7720
 3230CITHER2_2,  A17N,   146,  1,     31,     31,2,19940224,0737,-11.4493, -30.4857, 5360,     51.1,  27.7670,  37.0210,2,  37.0200,2,    199.5,2,    198.6,2,     1.00,2,     0.04,2,     0.09,2,    1.672,2,    0.964,2, -999.000,9,-999.0000,9,  -999.00,9,   2058.4,2,   -999.0,9,     8.39,2, 27.7550
 3230CITHER2_2,  A17N,   146,  1,     30,     30,2,19940224,0737,-11.4493, -30.4857, 5360,    126.4,  23.2400,  36.7850,2,  36.7790,2,    211.2,2,    210.2,2,     1.10,2,     0.04,2,     0.18,2,    1.988,2,    1.112,2, -999.000,9,-999.0000,9,  -999.00,9,   2087.0,2,   -999.0,9,     8.34,2, 23.2140
 3230CITHER2_2,  A17N,   146,  1,     29,     29,2,19940224,0737,-11.4493, -30.4857, 5360,    202.3,  16.1370,  35.6990,2,  35.6990,2,    158.4,2,    161.1,2,     3.80,2,    11.80,2,     0.87,2,    1.960,2,    1.052,2, -999.000,9,-999.0000,9,  -999.00,9,   2134.5,2,   -999.0,9,     8.13,2, 16.1050
 3230CITHER2_2,  A17N,   146,  1,     28,     28,2,19940224,0737,-11.4493, -30.4857, 5360,    401.2,   8.1960,  34.7020,2,  34.6970,2,    128.6,2,    132.5,2,    15.60,2,    29.54,2,     1.95,2,    0.460,2,    0.249,2, -999.000,9,-999.0000,9,  -999.00,9,   2199.6,2,   -999.0,9,     7.90,2,  8.1540
 3230CITHER2_2,  A17N,   146,  1,     27,     27,2,19940224,0737,-11.4493, -30.4857, 5360,    600.2,   5.7240,  34.4950,2,  34.4950,2,    150.1,2,    147.4,2,    24.20,2,    33.74,2,     2.24,2,    0.217,2,    0.116,2, -999.000,9,-999.0000,9,  -999.00,9,   2212.8,2,   -999.0,9,     7.86,2,  5.6720
 3230CITHER2_2,  A17N,   146,  1,     25,     25,2,19940224,0737,-11.4493, -30.4857, 5360,    799.6,   4.4760,  34.4450,2,  34.4490,2,    164.7,2,    163.3,2,    32.10,2,    34.33,2,     2.32,2,    0.080,2,    0.046,2, -999.000,9,-999.0000,9,  -999.00,9,   2218.4,2,   -999.0,9,     7.86,2,  4.4140
 3230CITHER2_2,  A17N,   146,  1,     26,     26,2,19940224,0737,-11.4493, -30.4857, 5360,    799.9,   4.4750,  34.4470,2,  34.4470,2,    164.7,2,    163.5,2,    31.90,2,    34.28,2,     2.32,2,    0.078,2,    0.045,2, -999.000,9,-999.0000,9,  -999.00,9,   -999.0,5,   -999.0,9,     7.86,2,  4.4130
 3230CITHER2_2,  A17N,   146,  1,     24,     24,2,19940224,0737,-11.4493, -30.4857, 5360,   1000.0,   3.8790,  34.5230,2,  34.5230,2,    172.4,2,    174.5,2,    37.30,2,    33.05,2,     2.25,2,    0.051,2,    0.030,2, -999.000,9,-999.0000,9,  -999.00,9,   2218.9,2,   -999.0,9,     7.87,2,  3.8040
 3230CITHER2_2,  A17N,   146,  1,     23,     23,2,19940224,0737,-11.4493, -30.4857, 5360,   1201.0,   3.9710,  34.7030,2,  34.7030,2,    179.8,2,    181.4,2,    32.60,2,    30.57,2,     2.05,2,    0.002,2,    0.000,2, -999.000,9,-999.0000,9,  -999.00,9,   -999.0,9,   -999.0,9,     7.90,2,  3.8780
 3230CITHER2_2,  A17N,   146,  1,     22,     22,2,19940224,0737,-11.4493, -30.4857, 5360,   1401.3,   4.2090,  34.8840,2,  34.8830,2,    207.1,2,    207.0,2,    23.80,2,    25.23,2,     1.70,2,    0.018,2,    0.008,2, -999.000,9,-999.0000,9,  -999.00,9,   -999.0,9,   -999.0,9,     7.96,2,  4.0960
 3230CITHER2_2,  A17N,   146,  1,     21,     21,2,19940224,0737,-11.4493, -30.4857, 5360,   1600.4,   3.9520,  34.9420,2,  34.9410,2,    230.1,2,    230.9,2,    21.30,2,    22.40,2,     1.50,2,    0.028,2,    0.020,2, -999.000,9,-999.0000,9,  -999.00,9,   -999.0,9,   -999.0,9,     8.00,2,  3.8230
 3230CITHER2_2,  A17N,   146,  1,     20,     20,2,19940224,0737,-11.4493, -30.4857, 5360,   1698.3,   3.8600,  34.9570,2,  34.9600,2,    239.7,2,    239.3,2,    20.10,2,    21.39,2,     1.41,2,    0.028,2,    0.020,2, -999.000,9,-999.0000,9,  -999.00,9,   -999.0,9,   -999.0,9,     8.01,2,  3.7230
 3230CITHER2_2,  A17N,   146,  1,     19,     19,2,19940224,0737,-11.4493, -30.4857, 5360,   1798.9,   3.5870,  34.9460,2,  34.9480,2,    241.2,2,    241.1,2,    22.90,2,    21.55,2,     1.43,2,    0.008,2,    0.009,2, -999.000,9,-999.0000,9,  -999.00,9,   -999.0,9,   -999.0,9,     8.01,2,  3.4450
 3230CITHER2_2,  A17N,   146,  1,     18,     18,2,19940224,0737,-11.4493, -30.4857, 5360,   1999.7,   3.2770,  34.9370,2,  34.9360,2,    244.6,2,    244.5,2,    26.70,2,    21.39,2,     1.42,2,    0.001,2,    0.003,2, -999.000,9,-999.0000,9,  -999.00,9,   -999.0,9,   -999.0,9,     8.01,2,  3.1200
 3230CITHER2_2,  A17N,   146,  1,     17,     17,2,19940224,0737,-11.4493, -30.4857, 5360,   2199.6,   3.0360,  34.9260,2,  34.9230,2,    244.3,2,    244.6,2,    30.90,2,    21.70,2,     1.45,2,    0.002,2,    0.001,2, -999.000,9,-999.0000,9,  -999.00,9,   -999.0,9,   -999.0,9,     8.01,2,  2.8640
 3230CITHER2_2,  A17N,   146,  1,     16,     16,2,19940224,0737,-11.4493, -30.4857, 5360,   2398.4,   2.9140,  34.9230,2,  34.9220,2,    246.0,2,    246.4,2,    32.50,2,    21.82,2,     1.44,2,    0.003,2,    0.005,2, -999.000,9,-999.0000,9,  -999.00,9,   -999.0,9,   -999.0,9,     8.01,2,  2.7260
 3230CITHER2_2,  A17N,   146,  1,     15,     15,2,19940224,0737,-11.4493, -30.4857, 5360,   2701.2,   2.7890,  34.9200,2,  34.9180,2,    246.7,2,    247.0,2,    34.40,2,    21.66,2,     1.44,2,    0.002,2,    0.004,2, -999.000,9,-999.0000,9,  -999.00,9,   -999.0,9,   -999.0,9,     8.01,2,  2.5730
 3230CITHER2_2,  A17N,   146,  1,     14,     14,2,19940224,0737,-11.4493, -30.4857, 5360,   2999.0,   2.6640,  34.9090,2,  34.9110,2,    245.5,2,    246.3,2,    39.20,2,    21.93,2,     1.45,2,    0.000,2,    0.001,2, -999.000,9,-999.0000,9,  -999.00,9,   -999.0,9,   -999.0,9,     8.01,2,  2.4210
 3230CITHER2_2,  A17N,   146,  1,     13,     13,2,19940224,0737,-11.4493, -30.4857, 5360,   3300.2,   2.5900,  34.9140,2,  34.9110,2,    252.2,2,    253.2,2,    35.70,2,    21.16,2,     1.39,2,    0.008,2,    0.006,2, -999.000,9,-999.0000,9,  -999.00,9,   -999.0,9,   -999.0,9,     8.02,2,  2.3170
 3230CITHER2_2,  A17N,   146,  1,     12,     12,2,19940224,0737,-11.4493, -30.4857, 5360,   3599.9,   2.4260,  34.9040,2,  34.9040,2,    255.5,2,    255.8,2,    38.50,2,    21.12,2,     1.39,2,    0.018,2,    0.018,2, -999.000,9,-999.0000,9,  -999.00,9,   -999.0,9,   -999.0,9,     8.02,2,  2.1250
 3230CITHER2_2,  A17N,   146,  1,     11,     11,2,19940224,0737,-11.4493, -30.4857, 5360,   3800.7,   2.2030,  34.8800,2,  34.8780,2,    253.0,2,    252.8,2,    47.10,2,    22.13,2,     1.48,2,    0.010,2,    0.009,2, -999.000,9,-999.0000,9,  -999.00,9,   -999.0,9,   -999.0,9,     8.01,2,  1.8850
 3230CITHER2_2,  A17N,   146,  1,     10,     10,2,19940224,0737,-11.4493, -30.4857, 5360,   3999.1,   1.8560,  34.8400,2,  34.8450,2,    246.1,2,    246.2,2,    61.40,2,    24.14,2,     1.64,2,    0.004,2,    0.002,2, -999.000,9,-999.0000,9,  -999.00,9,   -999.0,9,   -999.0,9,     7.99,2,  1.5260
 3230CITHER2_2,  A17N,   146,  1,      9,      9,2,19940224,0737,-11.4493, -30.4857, 5360,   4199.5,   1.5020,  34.8000,2,  34.8010,2,    236.9,2,    236.4,2,    79.30,2,    26.77,2,     1.82,2,   -0.001,2,   -0.001,2, -999.000,9,-999.0000,9,  -999.00,9,   -999.0,9,   -999.0,9,     7.96,2,  1.1600
 3230CITHER2_2,  A17N,   146,  1,      8,      8,2,19940224,0737,-11.4493, -30.4857, 5360,   4397.4,   1.1620,  34.7640,2,  34.7640,2,    231.2,2,    231.1,2,    93.00,2,    28.60,2,     1.96,2,    0.002,2,   -0.001,2, -999.000,9,-999.0000,9,  -999.00,9,   -999.0,9,   -999.0,9,     7.94,2,  0.8090
 3230CITHER2_2,  A17N,   146,  1,      7,      7,2,19940224,0737,-11.4493, -30.4857, 5360,   4598.5,   0.9490,  34.7400,2,  34.7390,2,    226.7,2,    227.5,2,   102.00,2,    29.78,2,     2.04,2,    0.008,2,    0.008,2, -999.000,9,-999.0000,9,  -999.00,9,   -999.0,9,   -999.0,9,     7.93,2,  0.5800
 3230CITHER2_2,  A17N,   146,  1,      6,      6,2,19940224,0737,-11.4493, -30.4857, 5360,   4799.0,   0.7880,  34.7210,2,  34.7190,2,    224.5,2,    224.6,2,   109.20,2,    31.17,2,     2.12,2,    0.015,2,    0.005,2, -999.000,9,-999.0000,9,  -999.00,9,   -999.0,9,   -999.0,9,     7.91,2,  0.4010
 3230CITHER2_2,  A17N,   146,  1,      5,      5,2,19940224,0737,-11.4493, -30.4857, 5360,   4999.6,   0.6810,  34.7070,2,  34.7100,2,    222.7,2,    223.5,2,   113.60,2,    31.32,2,     2.16,2,    0.021,2,    0.011,2, -999.000,9,-999.0000,9,  -999.00,9,   -999.0,9,   -999.0,9,     7.91,2,  0.2750
 3230CITHER2_2,  A17N,   146,  1,      4,      4,2,19940224,0737,-11.4493, -30.4857, 5360,   5200.0,   0.6020,  34.6990,2,  34.6980,2,    221.8,2,    222.5,2,   117.40,2,    32.06,2,     2.20,2,    0.034,2,    0.017,2, -999.000,9,-999.0000,9,  -999.00,9,   -999.0,9,   -999.0,9,     7.90,2,  0.1750
 3230CITHER2_2,  A17N,   146,  1,      3,      3,2,19940224,0737,-11.4493, -30.4857, 5360,   5298.5,   0.5640,  34.6950,2,  34.6960,2,    221.6,2,    221.8,2,   119.60,2,    32.21,2,     2.21,2,    0.043,2,    0.025,2, -999.000,9,-999.0000,9,  -999.00,9,   -999.0,9,   -999.0,9,     7.90,2,  0.1260
 3230CITHER2_2,  A17N,   146,  1,      2,      2,2,19940224,0737,-11.4493, -30.4857, 5360,   5399.2,   0.5370,  34.6890,2,  34.6920,2,    221.3,2,    221.2,2,   120.80,2,    32.45,2,     2.23,2,    0.054,2,    0.032,2, -999.000,9,-999.0000,9,  -999.00,9,   -999.0,9,   -999.0,9,     7.89,2,  0.0880
 3230CITHER2_2,  A17N,   146,  1,      1,      1,2,19940224,0737,-11.4493, -30.4857, 5360,   5453.7,   0.5430,  34.6900,2,  34.6920,2,    220.7,2,    220.9,2,   120.90,2,    32.31,2,     2.22,2,    0.054,2,    0.027,2, -999.000,9,-999.0000,9,  -999.00,9,   -999.0,9,   -999.0,9,     7.89,2,  0.0870
 3230CITHER2_2,  A17N,   147,  1,     32,     32,2,19940224,1406,-10.9522, -30.4572, 5331,      6.0,  28.0430,  36.8470,2,  36.8620,2,    190.7,2,    196.8,2,     1.10,2,     0.04,2,     0.07,2,    1.646,2,    0.938,2, -999.000,9,-999.0000,9,  -999.00,9,   -999.0,9,   -999.0,9,     8.38,2, 28.0420
 3230CITHER2_2,  A17N,   147,  1,     31,     31,2,19940224,1406,-10.9522, -30.4572, 5331,     51.7,  27.7240,  36.9430,2,  36.9090,2,    197.7,2,    198.8,2,     1.00,2,     0.04,2,     0.07,2,    1.665,2,    0.944,2, -999.000,9,-999.0000,9,  -999.00,9,   -999.0,9,   -999.0,9,     8.38,2, 27.7120
 3230CITHER2_2,  A17N,   147,  1,     30,     30,2,19940224,1406,-10.9522, -30.4572, 5331,    124.4,  24.0550,  36.9280,2,  36.9220,2,    213.0,2,    211.3,2,     1.10,2,     0.04,2,     0.16,2,    1.935,2,    1.080,2, -999.000,9,-999.0000,9,  -999.00,9,   -999.0,9,   -999.0,9,     8.34,2, 24.0290
 3230CITHER2_2,  A17N,   147,  1,     29,     29,2,19940224,1406,-10.9522, -30.4572, 5331,    200.9,  16.8070,  35.8110,2,  35.7920,2,    164.8,2,    164.0,2,     3.50,2,    10.25,2,     0.80,2,    1.950,2,    1.052,2, -999.000,9,-999.0000,9,  -999.00,9,   -999.0,9,   -999.0,9,     8.15,2, 16.7740
 3230CITHER2_2,  A17N,   147,  1,     28,     28,2,19940224,1406,-10.9522, -30.4572, 5331,    401.3,   7.9150,  34.6790,2,  34.6780,2,    128.5,2,    128.5,2,    16.50,2,    30.48,2,     2.02,2,    0.421,2,    0.234,2, -999.000,9,-999.0000,9,  -999.00,9,   -999.0,9,   -999.0,9,     7.88,2,  7.8740
 3230CITHER2_2,  A17N,   147,  1,     26,     26,2,19940224,1406,-10.9522, -30.4572, 5331,    600.9,   5.9070,  34.5080,2,  34.4980,2,    142.7,2,    142.9,2,    23.20,2,    33.64,2,     2.24,2,    0.245,2,    0.128,2, -999.000,9,-999.0000,9,  -999.00,9,   -999.0,9,   -999.0,9,     7.85,2,  5.8540
 3230CITHER2_2,  A17N,   147,  1,     27,     27,2,19940224,1406,-10.9522, -30.4572, 5331,    601.0,   5.9180,  34.5080,2,  34.5110,2,    142.7,2,    142.1,2,    23.20,2,    33.66,2,     2.25,2,    0.243,2,    0.129,2, -999.000,9,-999.0000,9,  -999.00,9,   -999.0,9,   -999.0,9,     7.85,2,  5.8650
 3230CITHER2_2,  A17N,   147,  1,     25,     25,2,19940224,1406,-10.9522, -30.4572, 5331,    799.8,   4.4680,  34.4360,2,  34.4340,2,    171.1,2,    171.1,2,    31.50,2,    33.84,2,     2.27,2,    0.161,2,    0.091,2, -999.000,9,-999.0000,9,  -999.00,9,   -999.0,9,   -999.0,9,     7.87,2,  4.4060
 3230CITHER2_2,  A17N,   147,  1,     24,     24,2,19940224,1406,-10.9522, -30.4572, 5331,   1001.7,   3.9040,  34.5150,2,  34.5120,2,    175.3,2,    173.1,2,    37.00,2,    32.95,2,     2.26,2,    0.033,2,    0.020,2, -999.000,9,-999.0000,9,  -999.00,9,   -999.0,9,   -999.0,9,     7.86,2,  3.8290
 3230CITHER2_2,  A17N,   147,  1,     23,     23,2,19940224,1406,-10.9522, -30.4572, 5331,   1201.7,   3.9760,  34.6820,2,  34.6810,2,    183.1,2,    180.2,2,    33.50,2,    30.08,2,     2.07,2,    0.003,2,    0.000,2, -999.000,9,-999.0000,9,  -999.00,9,   -999.0,9,   -999.0,9,     7.89,2,  3.8830
 3230CITHER2_2,  A17N,   147,  1,     22,     22,2,19940224,1406,-10.9522, -30.4572, 5331,   1400.2,   4.1180,  34.8660,2,  34.8650,2,    205.4,2,    204.6,2,    25.10,2,    25.23,2,     1.72,2,    0.009,2,    0.004,2, -999.000,9,-999.0000,9,  -999.00,9,   -999.0,9,   -999.0,9,     7.94,2,  4.0060
 3230CITHER2_2,  A17N,   147,  1,     21,     21,2,19940224,1406,-10.9522, -30.4572, 5331,   1599.9,   3.9280,  34.9390,2,  34.9400,2,    231.8,2,    230.8,2,    21.50,2,    22.17,2,     1.47,2,    0.021,2,    0.011,2, -999.000,9,-999.0000,9,  -999.00,9,   -999.0,9,   -999.0,9,     7.98,2,  3.8000
 3230CITHER2_2,  A17N,   147,  1,     20,     20,2,19940224,1406,-10.9522, -30.4572, 5331,   1702.4,   3.7810,  34.9600,2,  34.9580,2,    239.6,2,    240.6,2,    20.80,2,    21.08,2,     1.39,2,    0.024,2,    0.019,2, -999.000,9,-999.0000,9,  -999.00,9,   -999.0,9,   -999.0,9,     8.00,2,  3.6450
 3230CITHER2_2,  A17N,   147,  1,     19,     19,2,19940224,1406,-10.9522, -30.4572, 5331,   1798.8,   3.6190,  34.9580,2,  34.9610,2,    245.2,2,    246.1,2,    21.00,2,    20.77,2,     1.36,2,    0.029,2,    0.020,2, -999.000,9,-999.0000,9,  -999.00,9,   -999.0,9,   -999.0,9,     8.00,2,  3.4760
 3230CITHER2_2,  A17N,   147,  1,     18,     18,2,19940224,1406,-10.9522, -30.4572, 5331,   2000.5,   3.3700,  34.9580,2,  34.9580,2,    250.1,2,    250.3,2,    23.00,2,    20.46,2,     1.35,2,    0.025,2,    0.018,2, -999.000,9,-999.0000,9,  -999.00,9,   -999.0,9,   -999.0,9,     8.01,2,  3.2120
 3230CITHER2_2,  A17N,   147,  1,     17,     17,2,19940224,1406,-10.9522, -30.4572, 5331,   2201.6,   3.1350,  34.9480,2,  34.9480,2,    250.6,2,    251.4,2,    25.80,2,    20.62,2,     1.36,2,    0.019,2,    0.014,2, -999.000,9,-999.0000,9,  -999.00,9,   -999.0,9,   -999.0,9,     8.01,2,  2.9620
 3230CITHER2_2,  A17N,   147,  1,     16,     16,2,19940224,1406,-10.9522, -30.4572, 5331,   2399.9,   2.9950,  34.9380,2,  34.9380,2,    249.1,2,    250.4,2,    28.80,2,    20.70,2,     1.38,2,    0.015,2,    0.011,2, -999.000,9,-999.0000,9,  -999.00,9,   -999.0,9,   -999.0,9,     8.00,2,  2.8050
 3230CITHER2_2,  A17N,   147,  1,     15,     15,2,19940224,1406,-10.9522, -30.4572, 5331,   2699.0,   2.8500,  34.9330,2,  34.9320,2,    250.0,2,    251.6,2,    30.30,2,    20.97,2,     1.38,2,    0.016,2,    0.007,2, -999.000,9,-999.0000,9,  -999.00,9,   -999.0,9,   -999.0,9,     8.01,2,  2.6330
 3230CITHER2_2,  A17N,   147,  1,     14,     14,2,19940224,1406,-10.9522, -30.4572, 5331,   2998.7,   2.7190,  34.9230,2,  34.9240,2,    251.4,2,   -999.0,5,    32.30,2,    20.85,2,     1.39,2,    0.011,2,    0.007,2, -999.000,9,-999.0000,9,  -999.00,9,   -999.0,9,   -999.0,9,     8.01,2,  2.4750
 3230CITHER2_2,  A17N,   147,  1,     13,     13,2,19940224,1406,-10.9522, -30.4572, 5331,   3198.7,   2.6560,  34.9200,2,  34.9200,2,    253.7,2,    254.1,2,    32.60,2,    20.77,2,     1.38,2,    0.012,2,    0.008,2, -999.000,9,-999.0000,9,  -999.00,9,   -999.0,9,   -999.0,9,     8.01,2,  2.3920
 3230CITHER2_2,  A17N,   147,  1,     12,     12,2,19940224,1406,-10.9522, -30.4572, 5331,   3399.8,   2.5780,  34.9140,2,  34.9150,2,    255.1,2,    255.1,2,    33.70,2,    20.74,2,     1.38,2,    0.018,2,    0.010,2, -999.000,9,-999.0000,9,  -999.00,9,   -999.0,9,   -999.0,9,     8.01,2,  2.2940
 3230CITHER2_2,  A17N,   147,  1,     11,     11,2,19940224,1406,-10.9522, -30.4572, 5331,   3600.5,   2.4560,  34.9020,2,  34.9030,2,    254.7,2,    254.4,2,    37.40,2,    21.20,2,     1.41,2,    0.012,2,    0.008,2, -999.000,9,-999.0000,9,  -999.00,9,   -999.0,9,   -999.0,9,     8.01,2,  2.1540
 3230CITHER2_2,  A17N,   147,  1,     10,     10,2,19940224,1406,-10.9522, -30.4572, 5331,   3799.6,   2.1800,  34.8770,2,  34.8780,2,    252.8,2,    252.3,2,    46.00,2,    22.21,2,     1.49,2,    0.016,2,    0.012,2, -999.000,9,-999.0000,9,  -999.00,9,   -999.0,9,   -999.0,9,     8.01,2,  1.8630
 3230CITHER2_2,  A17N,   147,  1,      9,      9,2,19940224,1406,-10.9522, -30.4572, 5331,   3998.5,   1.8350,  34.8390,2,  34.8370,2,    244.5,2,    243.6,2,    62.70,2,    24.26,2,     1.66,2,   -0.001,2,    0.001,2, -999.000,9,-999.0000,9,  -999.00,9,   -999.0,9,   -999.0,9,     7.99,2,  1.5060
 3230CITHER2_2,  A17N,   147,  1,      8,      8,2,19940224,1406,-10.9522, -30.4572, 5331,   4199.4,   1.4090,  34.7900,2,  34.7930,2,    236.1,2,    235.7,2,    81.90,2,    26.81,2,     1.84,2,   -0.001,2,   -0.003,2, -999.000,9,-999.0000,9,  -999.00,9,   -999.0,9,   -999.0,9,     7.97,2,  1.0700
 3230CITHER2_2,  A17N,   147,  1,      7,      7,2,19940224,1406,-10.9522, -30.4572, 5331,   4401.0,   1.1190,  34.7610,2,  34.7610,2,    230.0,2,    230.2,2,    94.80,2,    28.94,2,     1.97,2,    0.003,2,    0.005,2, -999.000,9,-999.0000,9,  -999.00,9,   -999.0,9,   -999.0,9,     7.94,2,  0.7670
 3230CITHER2_2,  A17N,   147,  1,      6,      6,2,19940224,1406,-10.9522, -30.4572, 5331,   4598.4,   0.9230,  34.7370,2,  34.7370,2,    226.1,2,    226.8,2,   103.40,2,    30.01,2,     2.05,2,    0.008,2,    0.010,2, -999.000,9,-999.0000,9,  -999.00,9,   -999.0,9,   -999.0,9,     7.94,2,  0.5550
 3230CITHER2_2,  A17N,   147,  1,      5,      5,2,19940224,1406,-10.9522, -30.4572, 5331,   4798.5,   0.7760,  34.7190,2,  34.7220,2,    223.9,2,    224.4,2,   109.40,2,    30.77,2,     2.10,2,    0.008,2,    0.002,2, -999.000,9,-999.0000,9,  -999.00,9,   -999.0,9,   -999.0,9,     7.92,2,  0.3900
 3230CITHER2_2,  A17N,   147,  1,      4,      4,2,19940224,1406,-10.9522, -30.4572, 5331,   4998.9,   0.6800,  34.7070,2,  34.7100,2,    222.6,2,    222.7,2,   113.60,2,    31.61,2,     2.16,2,    0.029,2,    0.017,2, -999.000,9,-999.0000,9,  -999.00,9,   -999.0,9,   -999.0,9,     7.91,2,  0.2740
 3230CITHER2_2,  A17N,   147,  1,      3,      3,2,19940224,1406,-10.9522, -30.4572, 5331,   5197.4,   0.6020,  34.6990,2,  34.7010,2,    221.9,2,    222.1,2,   117.20,2,    32.26,2,     2.19,2,    0.032,2,    0.015,2, -999.000,9,-999.0000,9,  -999.00,9,   -999.0,9,   -999.0,9,     7.90,2,  0.1750
 3230CITHER2_2,  A17N,   147,  1,      2,      2,2,19940224,1406,-10.9522, -30.4572, 5331,   5327.5,   0.5420,  34.6910,2,  34.6920,2,    221.3,2,    221.3,2,   120.10,2,    32.16,2,     2.22,2,    0.052,2,    0.026,2, -999.000,9,-999.0000,9,  -999.00,9,   -999.0,9,   -999.0,9,     7.90,2,  0.1020
 3230CITHER2_2,  A17N,   147,  1,      1,      1,2,19940224,1406,-10.9522, -30.4572, 5331,   5420.2,   0.5390,  34.6900,2,  34.6930,2,    219.6,2,   -999.0,5,   120.50,2,    32.26,2,     2.22,2,    0.054,2,    0.029,2, -999.000,9,-999.0000,9,  -999.00,9,   -999.0,9,   -999.0,9,     7.90,2,  0.0870