BOTTLE,20030515WHPSIOSA
EXPOCODE,SECT_ID,STNNBR,CASTNO,SAMPNO,BTLNBR,BTLNBR_FLAG_W,DATE,TIME,LATITUDE,LONGITUDE,DEPTH,CTDPRS,CTDTMP,CTDSAL,CTDSAL_FLAG_W,SALNTY,SALNTY_FLAG_W,CTDOXY,CTDOXY_FLAG_W,OXYGEN,OXYGEN_FLAG_W,SILCAT,SILCAT_FLAG_W,NITRAT,NITRAT_FLAG_W,PHSPHT,PHSPHT_FLAG_W,CFC-11,CFC-11_FLAG_W,CFC-12,CFC-12_FLAG_W,TRITUM,TRITUM_FLAG_W,HELIUM,HELIUM_FLAG_W,DELHE3,DELHE3_FLAG_W,TCARBN,TCARBN_FLAG_W,ALKALI,ALKALI_FLAG_W,PH,PH_FLAG_W,THETA
,,,,,,,,,,,,DBAR,ITS-90,PSS-78,,PSS-78,,UMOL/KG,,UMOL/KG,,UMOL/KG,,UMOL/KG,,UMOL/KG,,PMOL/KG,,PMOL/KG,,TU,,NMOL/KG,,PERCNT,,UMOL/KG,,UMOL/KG,,,,DEG C
 3230CITHER2_2,  A17N,   219,  1,     32,     32,2,19940317,0925, 10.4945, -48.8180, 4861,      4.8,  25.4990,  36.4260,2,  36.4270,2,    241.2,2,    205.2,2,     1.80,2,     0.04,2,     0.05,2,    1.803,2,    1.015,2,    0.690,2,   1.6900,2,     0.10,2,   -999.0,9,   -999.0,9,     8.37,2, 25.4980
 3230CITHER2_2,  A17N,   219,  1,     31,     31,2,19940317,0925, 10.4945, -48.8180, 4861,    100.8,  23.4010,  36.6640,2,  36.6830,2,    226.7,2,    164.8,2,     2.50,2,     3.36,2,     0.23,2,    1.773,2,    0.987,2,    0.900,2,   1.6900,2,     1.24,2,   -999.0,9,   -999.0,9,     8.27,2, 23.3800
 3230CITHER2_2,  A17N,   219,  1,     29,     29,2,19940317,0925, 10.4945, -48.8180, 4861,    201.3,  12.3790,  35.3620,2,  35.3570,2,    109.7,2,    110.5,2,    10.80,2,    23.71,2,     1.51,2,    0.913,2,    0.506,2,    0.610,2,   1.6900,2,     1.21,2,   -999.0,9,   -999.0,9,     7.99,2, 12.3520
 3230CITHER2_2,  A17N,   219,  1,     30,     30,2,19940317,0925, 10.4945, -48.8180, 4861,    201.7,  12.3740,  35.3520,2,  35.3670,2,    109.8,2,    109.7,2,    10.80,2,    23.55,2,     1.51,2,    0.924,2,    0.504,2, -999.000,9,   1.6900,2,     1.25,2,   -999.0,9,   -999.0,9,     7.99,2, 12.3470
 3230CITHER2_2,  A17N,   219,  1,     28,     28,2,19940317,0925, 10.4945, -48.8180, 4861,    399.2,   8.6230,  34.8220,2,  34.8220,2,    108.1,2,    107.7,2,    17.60,2,    31.55,2,     2.01,2,    0.311,2,    0.179,2,    0.360,2,   1.7000,2,     2.02,2,   -999.0,9,   -999.0,9,     7.88,2,  8.5800
 3230CITHER2_2,  A17N,   219,  1,     27,     27,2,19940317,0925, 10.4945, -48.8180, 4861,    600.7,   7.0710,  34.7090,2,  34.7050,2,    119.5,2,    117.9,2,    22.80,2,    33.63,2,     2.18,2,    0.145,2,    0.084,2,    0.080,2,   1.6900,2,     2.60,2,   -999.0,9,   -999.0,9,     7.84,2,  7.0130
 3230CITHER2_2,  A17N,   219,  1,     26,     26,2,19940317,0925, 10.4945, -48.8180, 4861,    799.8,   5.6180,  34.6320,2,  34.6330,2,    129.9,2,    132.3,2,    28.60,2,    34.63,2,     2.29,2,    0.036,2,    0.019,2,    0.010,2,   1.6900,2,     2.46,2,   -999.0,9,   -999.0,9,     7.83,2,  5.5490
 3230CITHER2_2,  A17N,   219,  1,     25,     25,2,19940317,0925, 10.4945, -48.8180, 4861,   1000.2,   5.2040,  34.7400,2,  34.7410,2,    143.1,2,    141.1,2,    29.00,2,    33.02,2,     2.20,2,    0.009,2,    0.000,2,    0.020,2,   1.6900,2,     2.29,2,   -999.0,9,   -999.0,9,     7.86,2,  5.1190
 3230CITHER2_2,  A17N,   219,  1,     24,     24,2,19940317,0925, 10.4945, -48.8180, 4861,   1199.6,   5.0020,  34.8920,2,  34.8930,2,    178.0,2,    181.2,2,    24.30,2,    27.11,2,     1.81,2,    0.060,2,    0.034,2,    0.100,2,   1.7800,2,     1.70,2,   -999.0,9,   -999.0,9,     7.93,2,  4.9000
 3230CITHER2_2,  A17N,   219,  1,     23,     23,2,19940317,0925, 10.4945, -48.8180, 4861,   1399.7,   4.7260,  34.9840,2,  34.9830,2,    214.8,2,    216.6,2,    19.70,2,    22.65,2,     1.50,2,    0.101,2,    0.060,2,    0.170,2,   1.7900,2,     2.64,2,   -999.0,9,   -999.0,9,     7.98,2,  4.6070
 3230CITHER2_2,  A17N,   219,  1,     22,     22,2,19940317,0925, 10.4945, -48.8180, 4861,   1499.2,   4.5340,  35.0000,2,  35.0010,2,    229.7,2,    232.1,2,    17.60,2,    21.24,2,     1.38,2,    0.159,2,    0.095,2,    0.220,2,   1.7900,2,     3.20,2,   -999.0,9,   -999.0,9,     8.00,2,  4.4080
 3230CITHER2_2,  A17N,   219,  1,     21,     21,2,19940317,0925, 10.4945, -48.8180, 4861,   1598.9,   4.3150,  35.0060,2,  35.0060,2,    245.6,2,    244.7,2,    16.50,2,    20.05,2,     1.30,2,    0.200,2,    0.118,2,    0.260,2,   1.7300,2,     3.84,2,   -999.0,9,   -999.0,9,     8.01,2,  4.1820
 3230CITHER2_2,  A17N,   219,  1,     20,     20,2,19940317,0925, 10.4945, -48.8180, 4861,   1699.3,   4.0960,  34.9980,2,  35.0000,2,    250.3,2,    250.0,2,    16.70,2,    19.75,2,     1.28,2,    0.149,2,    0.087,2,    0.200,2,   1.7900,2,     1.32,2,   -999.0,9,   -999.0,9,     8.01,2,  3.9560
 3230CITHER2_2,  A17N,   219,  1,     19,     19,2,19940317,0925, 10.4945, -48.8180, 4861,   1798.8,   3.9230,  34.9940,2,  34.9950,2,    255.2,2,    254.9,2,    16.90,2,    19.41,2,     1.25,2,    0.149,2,    0.088,2, -999.000,9,-999.0000,9,  -999.00,9,   -999.0,9,   -999.0,9,     8.02,2,  3.7760
 3230CITHER2_2,  A17N,   219,  1,     18,     18,2,19940317,0925, 10.4945, -48.8180, 4861,   1998.7,   3.5780,  34.9770,2,  34.9780,2,    256.8,2,    254.6,2,    20.10,2,    19.76,2,     1.29,2,    0.032,2,    0.019,2, -999.000,9,   1.8100,2,     2.84,2,   -999.0,9,   -999.0,9,     8.02,2,  3.4170
 3230CITHER2_2,  A17N,   219,  1,     17,     17,2,19940317,0925, 10.4945, -48.8180, 4861,   2198.2,   3.3860,  34.9670,2,  34.9690,2,    256.7,2,    255.5,2,    22.40,2,    19.88,2,     1.29,2,    0.020,2,    0.013,2, -999.000,9,-999.0000,9,  -999.00,9,   -999.0,9,   -999.0,9,     8.02,2,  3.2090
 3230CITHER2_2,  A17N,   219,  1,     16,     16,2,19940317,0925, 10.4945, -48.8180, 4861,   2399.4,   3.2250,  34.9610,2,  34.9600,2,    257.3,2,    255.9,2,    24.30,2,    19.89,2,     1.30,2,    0.022,2,    0.010,2, -999.000,9,   1.7500,2,     2.19,2,   -999.0,9,   -999.0,9,     8.02,2,  3.0310
 3230CITHER2_2,  A17N,   219,  1,     15,     15,2,19940317,0925, 10.4945, -48.8180, 4861,   2598.3,   3.0880,  34.9520,2,  34.9520,2,    256.0,2,    255.7,2,    26.90,2,    20.20,2,     1.31,2,    0.013,2,    0.009,2, -999.000,9,   1.8000,2,     2.27,2,   -999.0,9,   -999.0,9,     8.02,2,  2.8770
 3230CITHER2_2,  A17N,   219,  1,     14,     14,2,19940317,0925, 10.4945, -48.8180, 4861,   2799.7,   2.9580,  34.9450,2,  34.9420,2,    253.2,2,    252.6,2,    30.80,2,    20.70,2,     1.36,2,    0.005,2,    0.003,2, -999.000,9,-999.0000,9,  -999.00,9,   -999.0,9,   -999.0,9,     8.02,2,  2.7290
 3230CITHER2_2,  A17N,   219,  1,     13,     13,2,19940317,0925, 10.4945, -48.8180, 4861,   2988.7,   2.8260,  34.9360,2,  34.9350,2,    252.4,2,    252.0,2,    33.10,2,    20.94,2,     1.36,2,    0.007,2,   -0.001,2, -999.000,9,   1.7900,2,     2.47,2,   -999.0,9,   -999.0,9,     8.02,2,  2.5800
 3230CITHER2_2,  A17N,   219,  1,     12,     12,2,19940317,0925, 10.4945, -48.8180, 4861,   2999.2,   2.8090,  34.9340,2,  34.9370,2,    252.3,2,    252.4,2,    33.40,2,    21.01,2,     1.37,2,    0.005,2,    0.000,2, -999.000,9,-999.0000,9,  -999.00,9,   -999.0,9,   -999.0,9,     8.02,2,  2.5620
 3230CITHER2_2,  A17N,   219,  1,     11,     11,2,19940317,0925, 10.4945, -48.8180, 4861,   3197.9,   2.6720,  34.9250,2,  34.9230,2,    251.9,2,    252.3,2,    36.40,2,    21.24,2,     1.39,2,    0.006,2,    0.002,2, -999.000,9,-999.0000,9,  -999.00,9,   -999.0,9,   -999.0,9,     8.02,2,  2.4080
 3230CITHER2_2,  A17N,   219,  1,     10,     10,2,19940317,0925, 10.4945, -48.8180, 4861,   3398.9,   2.5890,  34.9190,2,  34.9160,2,    253.7,2,    255.6,2,    36.40,2,    21.02,2,     1.37,2,    0.013,2,    0.006,2, -999.000,9,   1.8000,2,     3.04,2,   -999.0,9,   -999.0,9,     8.02,2,  2.3050
 3230CITHER2_2,  A17N,   219,  1,      9,      9,2,19940317,0925, 10.4945, -48.8180, 4861,   3599.2,   2.4670,  34.9060,2,  34.9050,2,    253.5,2,    254.2,2,    39.20,2,    21.33,2,     1.39,2,    0.019,2,    0.009,2, -999.000,9,-999.0000,9,  -999.00,9,   -999.0,9,   -999.0,9,     8.01,2,  2.1650
 3230CITHER2_2,  A17N,   219,  1,      8,      8,2,19940317,0925, 10.4945, -48.8180, 4861,   3798.1,   2.3990,  34.9060,2,  34.9080,2,    261.9,2,    262.9,2,    32.80,2,    19.97,2,     1.30,2,    0.076,2,    0.051,2, -999.000,9,   1.8100,2,     3.35,2,   -999.0,9,   -999.0,9,     8.02,2,  2.0760
 3230CITHER2_2,  A17N,   219,  1,      7,      7,2,19940317,0925, 10.4945, -48.8180, 4861,   3998.9,   2.3370,  34.9020,2,  34.9020,2,    264.5,2,    264.7,2,    32.80,2,    19.82,2,     1.30,2,    0.095,2,    0.062,2, -999.000,9,-999.0000,9,  -999.00,9,   -999.0,9,   -999.0,9,     8.02,2,  1.9930
 3230CITHER2_2,  A17N,   219,  1,      6,      6,2,19940317,0925, 10.4945, -48.8180, 4861,   4199.0,   2.2980,  34.8970,2,  34.8980,2,    264.5,2,    265.7,2,    33.60,2,    19.87,2,     1.30,2,    0.110,2,    0.065,2, -999.000,9,-999.0000,9,  -999.00,9,   -999.0,9,   -999.0,9,     8.02,2,  1.9320
 3230CITHER2_2,  A17N,   219,  1,      5,      5,2,19940317,0925, 10.4945, -48.8180, 4861,   4399.9,   2.2710,  34.8920,2,  34.8910,2,    263.5,2,    262.9,2,    36.10,2,    20.25,2,     1.32,2,    0.093,2,    0.059,2, -999.000,9,   1.8100,2,     3.63,2,   -999.0,9,   -999.0,9,     8.02,2,  1.8830
 3230CITHER2_2,  A17N,   219,  1,      4,      4,2,19940317,0925, 10.4945, -48.8180, 4861,   4597.2,   2.2280,  34.8850,2,  34.8840,2,    261.5,2,    261.4,2,    39.50,2,    20.75,2,     1.35,2,    0.083,2,    0.052,2, -999.000,9,-999.0000,9,  -999.00,9,   -999.0,9,   -999.0,9,     8.01,2,  1.8170
 3230CITHER2_2,  A17N,   219,  1,      3,      3,2,19940317,0925, 10.4945, -48.8180, 4861,   4798.3,   2.1270,  34.8690,2,  34.8700,2,    255.8,2,    256.0,2,    47.90,2,    21.90,2,     1.44,2,    0.051,2,    0.036,2, -999.000,9,-999.0000,9,  -999.00,9,   -999.0,9,   -999.0,9,     8.00,2,  1.6950
 3230CITHER2_2,  A17N,   219,  1,      2,      2,2,19940317,0925, 10.4945, -48.8180, 4861,   4898.3,   2.0070,  34.8530,2,  34.8520,2,    250.4,2,    249.4,2,    57.10,2,    23.05,2,     1.53,2,    0.035,2,    0.026,2, -999.000,9,-999.0000,9,  -999.00,9,   -999.0,9,   -999.0,9,     7.99,2,  1.5670
 3230CITHER2_2,  A17N,   219,  1,      1,      1,2,19940317,0925, 10.4945, -48.8180, 4861,   4975.4,   1.6440,  34.8120,2,  34.8100,2,    241.7,2,    241.2,2,    75.00,2,    25.55,2,     1.71,2,    0.006,2,   -0.001,2, -999.000,9,   1.8000,2,     3.54,2,   -999.0,9,   -999.0,9,     7.97,2,  1.2070
 3230CITHER2_2,  A17N,   220,  1,     32,     32,2,19940317,1516, 10.0408, -49.0772, 4847,     10.4,  25.6300,  36.3710,2,  36.3710,2,    205.7,2,    205.6,2,     1.50,2,     0.04,2,     0.03,2, -999.000,9, -999.000,9, -999.000,9,-999.0000,9,  -999.00,9,   2025.5,2,   2390.6,2,     8.38,2, 25.6280
 3230CITHER2_2,  A17N,   220,  1,     31,     31,2,19940317,1516, 10.0408, -49.0772, 4847,     65.4,  25.5210,  36.3750,2,  36.3760,2,    204.9,2,    205.7,2,     1.50,2,     0.04,2,     0.03,2, -999.000,9, -999.000,9, -999.000,9,-999.0000,9,  -999.00,9,   2029.7,2,   2388.9,2,     8.37,2, 25.5070
 3230CITHER2_2,  A17N,   220,  1,     30,     30,2,19940317,1516, 10.0408, -49.0772, 4847,    126.1,  19.4580,  36.5080,2,  36.5060,2,    135.8,2,    123.9,2,     3.90,2,    11.84,2,     0.64,2, -999.000,9, -999.000,9, -999.000,9,-999.0000,9,  -999.00,9,   2156.8,2,   2392.8,2,     8.15,2, 19.4350
 3230CITHER2_2,  A17N,   220,  1,     29,     29,2,19940317,1516, 10.0408, -49.0772, 4847,    201.4,  11.7190,  35.2650,2,  35.2510,2,    113.1,2,    111.8,2,    11.30,2,    24.38,2,     1.57,2, -999.000,9, -999.000,9, -999.000,9,-999.0000,9,  -999.00,9,   2189.2,2,   2329.9,2,     7.95,2, 11.6930
 3230CITHER2_2,  A17N,   220,  1,     28,     28,2,19940317,1516, 10.0408, -49.0772, 4847,    299.5,   9.5300,  34.9380,2,  34.9380,2,    111.9,2,    115.3,2,    14.70,2,    28.53,2,     1.85,2, -999.000,9, -999.000,9, -999.000,9,-999.0000,9,  -999.00,9,   2197.1,2,   2316.2,2,     7.89,2,  9.4960
 3230CITHER2_2,  A17N,   220,  1,     27,     27,2,19940317,1516, 10.0408, -49.0772, 4847,    400.3,   8.7230,  34.8540,2,  34.8510,2,    107.7,2,    105.5,2,    17.10,2,    31.23,2,     2.00,2, -999.000,9, -999.000,9, -999.000,9,-999.0000,9,  -999.00,9,   2209.1,2,   2314.7,2,     7.86,2,  8.6800
 3230CITHER2_2,  A17N,   220,  1,     26,     26,2,19940317,1516, 10.0408, -49.0772, 4847,    600.7,   7.1150,  34.7400,2,  34.7320,2,    106.2,2,    108.0,2,    22.20,2,    34.23,2,     2.22,2, -999.000,9, -999.000,9, -999.000,9,-999.0000,9,  -999.00,9,   2221.0,2,   2312.2,2,     7.82,2,  7.0570
 3230CITHER2_2,  A17N,   220,  1,     25,     25,2,19940317,1516, 10.0408, -49.0772, 4847,    801.2,   5.9060,  34.6710,2,  34.6730,2,    119.3,2,    117.7,2,    24.60,2,    35.04,2,     2.33,2, -999.000,9, -999.000,9, -999.000,9,-999.0000,9,  -999.00,9,   2228.2,2,   2313.8,2,     7.81,2,  5.8350
 3230CITHER2_2,  A17N,   220,  1,     24,     24,2,19940317,1516, 10.0408, -49.0772, 4847,   1000.0,   5.1550,  34.7410,2,  34.7380,2,    141.2,2,    141.3,2,    28.20,2,    32.86,2,     2.20,2, -999.000,9, -999.000,9, -999.000,9,-999.0000,9,  -999.00,9,   2221.7,2,   2319.8,2,     7.85,2,  5.0700
 3230CITHER2_2,  A17N,   220,  1,     23,     23,2,19940317,1516, 10.0408, -49.0772, 4847,   1200.7,   5.0480,  34.9100,2,  34.9120,2,    178.4,2,    182.3,2,    22.90,2,    26.45,2,     1.77,2, -999.000,9, -999.000,9, -999.000,9,-999.0000,9,  -999.00,9,   2198.9,2,   2325.2,2,     7.93,2,  4.9450
 3230CITHER2_2,  A17N,   220,  1,     22,     22,2,19940317,1516, 10.0408, -49.0772, 4847,   1398.9,   4.7890,  35.0050,2,  35.0050,2,    221.6,2,    222.5,2,    17.50,2,    21.71,2,     1.42,2, -999.000,9, -999.000,9, -999.000,9,-999.0000,9,  -999.00,9,   2176.0,2,   2327.9,2,     7.98,2,  4.6700
 3230CITHER2_2,  A17N,   220,  1,     21,     21,2,19940317,1516, 10.0408, -49.0772, 4847,   1498.6,   4.5420,  35.0050,2,  35.0060,2,    234.7,2,    233.1,2,    16.90,2,    20.72,2,     1.36,2, -999.000,9, -999.000,9, -999.000,9,-999.0000,9,  -999.00,9,   2177.8,2,   2326.6,2,     8.00,2,  4.4160
 3230CITHER2_2,  A17N,   220,  1,     20,     20,2,19940317,1516, 10.0408, -49.0772, 4847,   1599.2,   4.3520,  35.0050,2,  35.0050,2,    243.9,2,    242.1,2,    16.20,2,    20.00,2,     1.31,2, -999.000,9, -999.000,9, -999.000,9,-999.0000,9,  -999.00,9,   2166.8,2,   2326.2,2,     8.00,2,  4.2180
 3230CITHER2_2,  A17N,   220,  1,     19,     19,2,19940317,1516, 10.0408, -49.0772, 4847,   1698.9,   4.1480,  35.0030,2,  35.0030,2,    252.0,2,    253.5,2,    15.40,2,    19.24,2,     1.25,2, -999.000,9, -999.000,9, -999.000,9,-999.0000,9,  -999.00,9,   2163.1,2,   2326.2,2,     8.01,2,  4.0070
 3230CITHER2_2,  A17N,   220,  1,     18,     18,2,19940317,1516, 10.0408, -49.0772, 4847,   1799.1,   3.9280,  34.9900,2,  34.9930,2,    252.5,2,    250.6,2,    17.20,2,    19.63,2,     1.28,2, -999.000,9, -999.000,9, -999.000,9,-999.0000,9,  -999.00,9,   2160.5,2,   2324.4,2,     8.01,2,  3.7810
 3230CITHER2_2,  A17N,   220,  1,     17,     17,2,19940317,1516, 10.0408, -49.0772, 4847,   2000.3,   3.6880,  34.9860,2,  34.9870,2,    258.8,2,    256.6,2,    17.60,2,    19.06,2,     1.24,2, -999.000,9, -999.000,9, -999.000,9,-999.0000,9,  -999.00,9,   2164.7,2,   2327.7,2,     8.02,2,  3.5250
 3230CITHER2_2,  A17N,   220,  1,     16,     16,2,19940317,1516, 10.0408, -49.0772, 4847,   2198.6,   3.4360,  34.9740,2,  34.9750,2,    260.1,2,    259.0,2,    19.30,2,    19.07,2,     1.24,2, -999.000,9, -999.000,9, -999.000,9,-999.0000,9,  -999.00,9,   2162.5,2,   2330.1,2,     8.02,2,  3.2580
 3230CITHER2_2,  A17N,   220,  1,     15,     15,2,19940317,1516, 10.0408, -49.0772, 4847,   2398.4,   3.2050,  34.9630,2,  34.9640,2,    259.9,2,    259.6,2,    21.80,2,    19.32,2,     1.26,2, -999.000,9, -999.000,9, -999.000,9,-999.0000,9,  -999.00,9,   2165.8,2,   2332.5,2,     8.02,2,  3.0110
 3230CITHER2_2,  A17N,   220,  1,     14,     14,2,19940317,1516, 10.0408, -49.0772, 4847,   2598.5,   3.0510,  34.9550,2,  34.9530,2,    259.9,2,    259.1,2,    23.70,2,    19.36,2,     1.27,2, -999.000,9, -999.000,9, -999.000,9,-999.0000,9,  -999.00,9,   -999.0,5,   2335.7,2,     8.02,2,  2.8400
 3230CITHER2_2,  A17N,   220,  1,     13,     13,2,19940317,1516, 10.0408, -49.0772, 4847,   2598.8,   3.0510,  34.9530,2,  34.9550,2,    259.9,2,    259.5,2,    23.70,2,    19.35,2,     1.27,2, -999.000,9, -999.000,9, -999.000,9,-999.0000,9,  -999.00,9,   2166.5,2,   2335.7,2,     8.02,2,  2.8400
 3230CITHER2_2,  A17N,   220,  1,     12,     12,2,19940317,1516, 10.0408, -49.0772, 4847,   2799.0,   2.9090,  34.9430,2,  34.9430,2,    255.3,2,    255.3,2,    28.30,2,    20.13,2,     1.32,2, -999.000,9, -999.000,9, -999.000,9,-999.0000,9,  -999.00,9,   2175.3,2,   2340.4,2,     8.02,2,  2.6810
 3230CITHER2_2,  A17N,   220,  1,     11,     11,2,19940317,1516, 10.0408, -49.0772, 4847,   2998.9,   2.8220,  34.9370,2,  34.9390,2,    257.1,2,    257.3,2,    28.30,2,    19.91,2,     1.30,2, -999.000,9, -999.000,9, -999.000,9,-999.0000,9,  -999.00,9,   2171.9,2,   2347.2,2,     8.02,2,  2.5750
 3230CITHER2_2,  A17N,   220,  1,     10,     10,2,19940317,1516, 10.0408, -49.0772, 4847,   3298.6,   2.6520,  34.9260,2,  34.9300,2,    257.0,2,    257.1,2,    31.60,2,    20.14,2,     1.32,2, -999.000,9, -999.000,9, -999.000,9,-999.0000,9,  -999.00,9,   2177.8,2,   2341.1,2,     8.02,2,  2.3780
 3230CITHER2_2,  A17N,   220,  1,      9,      9,2,19940317,1516, 10.0408, -49.0772, 4847,   3599.4,   2.4870,  34.9130,2,  34.9150,2,    260.6,2,    261.0,2,    31.60,2,    19.77,2,     1.31,2, -999.000,9, -999.000,9, -999.000,9,-999.0000,9,  -999.00,9,   2174.2,2,   2341.4,2,     8.01,2,  2.1840
 3230CITHER2_2,  A17N,   220,  1,      8,      8,2,19940317,1516, 10.0408, -49.0772, 4847,   3798.4,   2.4040,  34.9090,2,  34.9100,2,    263.2,2,    264.8,2,    30.30,2,    19.43,2,     1.28,2, -999.000,9, -999.000,9, -999.000,9,-999.0000,9,  -999.00,9,   2171.6,2,   2339.5,2,     8.01,2,  2.0810
 3230CITHER2_2,  A17N,   220,  1,      7,      7,2,19940317,1516, 10.0408, -49.0772, 4847,   3995.5,   2.3440,  34.9040,2,  34.9050,2,    263.2,2,    264.5,2,    31.70,2,    19.43,2,     1.28,2, -999.000,9, -999.000,9, -999.000,9,-999.0000,9,  -999.00,9,   2173.6,2,   2343.7,2,     8.02,2,  2.0010
 3230CITHER2_2,  A17N,   220,  1,      6,      6,2,19940317,1516, 10.0408, -49.0772, 4847,   4198.3,   2.2990,  34.8980,2,  34.9000,2,    263.5,2,    264.9,2,    32.10,2,    19.44,2,     1.28,2, -999.000,9, -999.000,9, -999.000,9,-999.0000,9,  -999.00,9,   2174.4,2,   2338.8,2,     8.02,2,  1.9340
 3230CITHER2_2,  A17N,   220,  1,      5,      5,2,19940317,1516, 10.0408, -49.0772, 4847,   4398.5,   2.2630,  34.8930,2,  34.8940,2,    261.8,2,    262.8,2,    34.80,2,    19.75,2,     1.31,2, -999.000,9, -999.000,9, -999.000,9,-999.0000,9,  -999.00,9,   2178.1,2,   2342.1,2,     8.01,2,  1.8750
 3230CITHER2_2,  A17N,   220,  1,      4,      4,2,19940317,1516, 10.0408, -49.0772, 4847,   4596.5,   2.2200,  34.8850,2,  34.8860,2,    259.1,2,    259.9,2,    39.00,2,    20.37,2,     1.35,2, -999.000,9, -999.000,9, -999.000,9,-999.0000,9,  -999.00,9,   2183.6,2,   2347.4,2,     8.01,2,  1.8100
 3230CITHER2_2,  A17N,   220,  1,      3,      3,2,19940317,1516, 10.0408, -49.0772, 4847,   4798.2,   2.0360,  34.8600,2,  34.8620,2,    251.9,2,    251.2,2,    52.30,2,    22.31,2,     1.49,2, -999.000,9, -999.000,9, -999.000,9,-999.0000,9,  -999.00,9,   2198.8,2,   2354.2,2,     7.99,2,  1.6070
 3230CITHER2_2,  A17N,   220,  1,      2,      2,2,19940317,1516, 10.0408, -49.0772, 4847,   4900.7,   1.7640,  34.8240,2,  34.8260,2,    244.2,2,    242.3,2,    68.20,2,    24.28,2,     1.65,2, -999.000,9, -999.000,9, -999.000,9,-999.0000,9,  -999.00,9,   2214.1,2,   2364.6,2,     7.97,2,  1.3320
 3230CITHER2_2,  A17N,   220,  1,      1,      1,2,19940317,1516, 10.0408, -49.0772, 4847,   4930.7,   1.6940,  34.8160,2,  34.8180,2,    240.7,2,    240.3,2,    72.70,2,    24.93,2,     1.70,2, -999.000,9, -999.000,9, -999.000,9,-999.0000,9,  -999.00,9,   2220.5,2,   2367.4,2,     7.97,2,  1.2610