BOTTLE,20030515WHPSIOSA
EXPOCODE,SECT_ID,STNNBR,CASTNO,SAMPNO,BTLNBR,BTLNBR_FLAG_W,DATE,TIME,LATITUDE,LONGITUDE,DEPTH,CTDPRS,CTDTMP,CTDSAL,CTDSAL_FLAG_W,SALNTY,SALNTY_FLAG_W,CTDOXY,CTDOXY_FLAG_W,OXYGEN,OXYGEN_FLAG_W,SILCAT,SILCAT_FLAG_W,NITRAT,NITRAT_FLAG_W,PHSPHT,PHSPHT_FLAG_W,CFC-11,CFC-11_FLAG_W,CFC-12,CFC-12_FLAG_W,TRITUM,TRITUM_FLAG_W,HELIUM,HELIUM_FLAG_W,DELHE3,DELHE3_FLAG_W,TCARBN,TCARBN_FLAG_W,ALKALI,ALKALI_FLAG_W,PH,PH_FLAG_W,THETA
,,,,,,,,,,,,DBAR,ITS-90,PSS-78,,PSS-78,,UMOL/KG,,UMOL/KG,,UMOL/KG,,UMOL/KG,,UMOL/KG,,PMOL/KG,,PMOL/KG,,TU,,NMOL/KG,,PERCNT,,UMOL/KG,,UMOL/KG,,,,DEG C
 3230CITHER2_2,  A17N,   189,  1,     32,     32,2,19940309,0251,  4.2090, -38.9630, 4593,      3.7,  26.5280,  36.0580,2,  36.0610,2,    193.0,2,    201.6,2,     1.60,2,     0.00,2,     0.01,2,    1.746,2,    1.005,2, -999.000,9,-999.0000,9,  -999.00,9,   -999.0,9,   -999.0,9,     8.39,2, 26.5270
 3230CITHER2_2,  A17N,   189,  1,     31,     31,2,19940309,0251,  4.2090, -38.9630, 4593,     61.3,  26.5230,  36.0610,2,  36.0620,2,    208.1,2,    201.6,2,     1.60,2,     0.00,2,     0.01,2,    1.737,2,    0.992,2, -999.000,9,-999.0000,9,  -999.00,9,   -999.0,9,   -999.0,9,     8.39,2, 26.5090
 3230CITHER2_2,  A17N,   189,  1,     30,     30,2,19940309,0251,  4.2090, -38.9630, 4593,    139.8,  15.3070,  35.5980,2,  35.5790,2,    174.6,2,    168.5,2,     6.10,2,    12.96,2,     0.94,2,    1.663,2,    0.881,2, -999.000,9,-999.0000,9,  -999.00,9,   -999.0,9,   -999.0,9,     8.13,2, 15.2850
 3230CITHER2_2,  A17N,   189,  1,     29,     29,2,19940309,0251,  4.2090, -38.9630, 4593,    198.4,  11.3960,  35.0660,2,  35.0680,2,    140.0,2,    148.0,2,    10.10,2,    21.00,2,     1.45,2,    1.162,2,    0.627,2, -999.000,9,-999.0000,9,  -999.00,9,   -999.0,9,   -999.0,9,     8.01,2, 11.3710
 3230CITHER2_2,  A17N,   189,  1,     28,     28,2,19940309,0251,  4.2090, -38.9630, 4593,    301.8,  10.3290,  34.9430,2,  34.9430,2,    141.3,2,    139.6,2,    12.10,2,    23.77,2,     1.64,2,    0.917,2,    0.490,2, -999.000,9,-999.0000,9,  -999.00,9,   -999.0,9,   -999.0,9,     7.97,2, 10.2930
 3230CITHER2_2,  A17N,   189,  1,     27,     27,2,19940309,0251,  4.2090, -38.9630, 4593,    402.2,   9.1800,  34.8460,2,  34.8440,2,    132.7,2,    129.2,2,    14.80,2,    27.31,2,     1.83,2,    0.623,2,    0.337,2, -999.000,9,-999.0000,9,  -999.00,9,   -999.0,9,   -999.0,9,     7.92,2,  9.1350
 3230CITHER2_2,  A17N,   189,  1,     26,     26,2,19940309,0251,  4.2090, -38.9630, 4593,    500.7,   7.6130,  34.7020,2,  34.6990,2,    132.6,2,    115.4,2,    19.80,2,    32.52,2,     2.13,2,    0.229,2,    0.132,2, -999.000,9,-999.0000,9,  -999.00,9,   -999.0,9,   -999.0,9,     7.84,2,  7.5630
 3230CITHER2_2,  A17N,   189,  1,     25,     25,2,19940309,0251,  4.2090, -38.9630, 4593,    600.7,   6.5090,  34.6130,2,  34.6140,2,    123.0,2,    118.0,2,    23.70,2,    34.35,2,     2.29,2,    0.098,2,    0.058,2, -999.000,9,-999.0000,9,  -999.00,9,   -999.0,9,   -999.0,9,     7.83,2,  6.4540
 3230CITHER2_2,  A17N,   189,  1,     24,     24,2,19940309,0251,  4.2090, -38.9630, 4593,    799.9,   5.0450,  34.5570,2,  34.5570,2,    141.2,2,    138.6,2,    30.10,2,    34.72,2,     2.36,2,    0.021,2,    0.014,2, -999.000,9,-999.0000,9,  -999.00,9,   -999.0,9,   -999.0,9,     7.83,2,  4.9790
 3230CITHER2_2,  A17N,   189,  1,     23,     23,2,19940309,0251,  4.2090, -38.9630, 4593,   1000.7,   4.6840,  34.6760,2,  34.6790,2,    154.4,2,    155.5,2,    30.10,2,    32.21,2,     2.19,2,    0.005,2,    0.004,2, -999.000,9,-999.0000,9,  -999.00,9,   -999.0,9,   -999.0,9,     7.87,2,  4.6030
 3230CITHER2_2,  A17N,   189,  1,     22,     22,2,19940309,0251,  4.2090, -38.9630, 4593,   1200.6,   4.7280,  34.8590,2,  34.8620,2,    177.7,2,    183.0,2,    24.50,2,    27.02,2,     1.83,2,    0.023,2,    0.016,2, -999.000,9,-999.0000,9,  -999.00,9,   -999.0,9,   -999.0,9,     7.92,2,  4.6280
 3230CITHER2_2,  A17N,   189,  1,     21,     21,2,19940309,0251,  4.2090, -38.9630, 4593,   1400.0,   4.4320,  34.9520,2,  34.9540,2,    212.7,2,    218.0,2,    19.80,2,    22.60,2,     1.51,2,    0.051,2,    0.031,2, -999.000,9,-999.0000,9,  -999.00,9,   -999.0,9,   -999.0,9,     7.97,2,  4.3160
 3230CITHER2_2,  A17N,   189,  1,     20,     20,2,19940309,0251,  4.2090, -38.9630, 4593,   1500.0,   4.3120,  34.9730,2,  34.9740,2,    227.2,2,    230.2,2,    18.60,2,    21.62,2,     1.40,2,    0.071,2,    0.041,2, -999.000,9,-999.0000,9,  -999.00,9,   -999.0,9,   -999.0,9,     7.99,2,  4.1880
 3230CITHER2_2,  A17N,   189,  1,     19,     19,2,19940309,0251,  4.2090, -38.9630, 4593,   1599.8,   4.1700,  34.9790,2,  34.9740,2,    237.8,2,    238.0,2,    18.10,2,    20.80,2,     1.36,2,    0.071,2,    0.041,2, -999.000,9,-999.0000,9,  -999.00,9,   -999.0,9,   -999.0,9,     8.00,2,  4.0390
 3230CITHER2_2,  A17N,   189,  1,     18,     18,2,19940309,0251,  4.2090, -38.9630, 4593,   1700.2,   4.0680,  34.9840,2,  34.9870,2,    245.4,2,    244.4,2,    17.60,2,    20.21,2,     1.32,2,    0.085,2,    0.052,2, -999.000,9,-999.0000,9,  -999.00,9,   -999.0,9,   -999.0,9,     8.01,2,  3.9280
 3230CITHER2_2,  A17N,   189,  1,     17,     17,2,19940309,0251,  4.2090, -38.9630, 4593,   1799.8,   3.9660,  34.9800,2,  34.9830,2,    247.9,2,    246.3,2,    18.00,2,    20.18,2,     1.31,2,    0.065,2,    0.037,2, -999.000,9,-999.0000,9,  -999.00,9,   -999.0,9,   -999.0,9,     8.01,2,  3.8180
 3230CITHER2_2,  A17N,   189,  1,     16,     16,2,19940309,0251,  4.2090, -38.9630, 4593,   1999.2,   3.6830,  34.9770,2,  34.9770,2,    254.6,2,    253.6,2,    18.90,2,    19.67,2,     1.27,2,    0.059,2,    0.036,2, -999.000,9,-999.0000,9,  -999.00,9,   -999.0,9,   -999.0,9,     8.02,2,  3.5200
 3230CITHER2_2,  A17N,   189,  1,     15,     15,2,19940309,0251,  4.2090, -38.9630, 4593,   2199.7,   3.4180,  34.9680,2,  34.9690,2,    258.3,2,    265.9,2,    20.60,2,    19.40,2,     1.27,2,    0.044,2,    0.028,2, -999.000,9,-999.0000,9,  -999.00,9,   -999.0,9,   -999.0,9,     8.02,2,  3.2400
 3230CITHER2_2,  A17N,   189,  1,     14,     14,2,19940309,0251,  4.2090, -38.9630, 4593,   2400.0,   3.1740,  34.9540,2,  34.9560,2,    258.5,2,    257.0,2,    23.50,2,    19.76,2,     1.28,2,    0.023,2,    0.020,2, -999.000,9,-999.0000,9,  -999.00,9,   -999.0,9,   -999.0,9,     8.02,2,  2.9810
 3230CITHER2_2,  A17N,   189,  1,     13,     13,2,19940309,0251,  4.2090, -38.9630, 4593,   2700.8,   2.9370,  34.9400,2,  34.9400,2,    258.4,2,    257.1,2,    26.80,2,    20.05,2,     1.30,2,    0.021,2,    0.014,2, -999.000,9,-999.0000,9,  -999.00,9,   -999.0,9,   -999.0,9,     8.02,2,  2.7180
 3230CITHER2_2,  A17N,   189,  1,     11,     11,2,19940309,0251,  4.2090, -38.9630, 4593,   2999.4,   2.7500,  34.9270,2,  34.9280,2,    257.3,2,    256.6,2,    30.20,2,    20.30,2,     1.32,2,    0.014,2,    0.009,2, -999.000,9,-999.0000,9,  -999.00,9,   -999.0,9,   -999.0,9,     8.02,2,  2.5050
 3230CITHER2_2,  A17N,   189,  1,     12,     12,2,19940309,0251,  4.2090, -38.9630, 4593,   2999.7,   2.7500,  34.9270,2,  34.9280,2,    257.3,2,    256.7,2,    30.30,2,    20.21,2,     1.32,2,    0.014,2,    0.009,2, -999.000,9,-999.0000,9,  -999.00,9,   -999.0,9,   -999.0,9,     8.02,2,  2.5050
 3230CITHER2_2,  A17N,   189,  1,     10,     10,2,19940309,0251,  4.2090, -38.9630, 4593,   3198.6,   2.6610,  34.9210,2,  34.9230,2,    258.0,2,    257.7,2,    31.00,2,    20.31,2,     1.33,2,    0.017,2,    0.011,2, -999.000,9,-999.0000,9,  -999.00,9,   -999.0,9,   -999.0,9,     8.02,2,  2.3970
 3230CITHER2_2,  A17N,   189,  1,      9,      9,2,19940309,0251,  4.2090, -38.9630, 4593,   3398.1,   2.5540,  34.9130,2,  34.9150,2,    257.8,2,    257.7,2,    33.30,2,    20.51,2,     1.34,2,    0.021,2,    0.010,2, -999.000,9,-999.0000,9,  -999.00,9,   -999.0,9,   -999.0,9,     8.02,2,  2.2710
 3230CITHER2_2,  A17N,   189,  1,      8,      8,2,19940309,0251,  4.2090, -38.9630, 4593,   3547.7,   2.5050,  34.9110,2,  34.9120,2,    259.8,2,    260.2,2,    32.00,2,    20.04,2,     1.31,2,    0.044,2,    0.029,2, -999.000,9,-999.0000,9,  -999.00,9,   -999.0,9,   -999.0,9,     8.02,2,  2.2070
 3230CITHER2_2,  A17N,   189,  1,      7,      7,2,19940309,0251,  4.2090, -38.9630, 4593,   3699.4,   2.4500,  34.9060,2,  34.9090,2,    260.9,2,    261.1,2,    32.50,2,    20.01,2,     1.31,2,    0.051,2,    0.030,2, -999.000,9,-999.0000,9,  -999.00,9,   -999.0,9,   -999.0,9,     8.02,2,  2.1370
 3230CITHER2_2,  A17N,   189,  1,      6,      6,2,19940309,0251,  4.2090, -38.9630, 4593,   3847.3,   2.3460,  34.8990,2,  34.9010,2,    261.5,2,    261.7,2,    33.90,2,    20.10,2,     1.32,2,    0.057,2,    0.035,2, -999.000,9,-999.0000,9,  -999.00,9,   -999.0,9,   -999.0,9,     8.02,2,  2.0190
 3230CITHER2_2,  A17N,   189,  1,      5,      5,2,19940309,0251,  4.2090, -38.9630, 4593,   3999.2,   2.2430,  34.8880,2,  34.8890,2,    260.5,2,    260.1,2,    38.30,2,    20.58,2,     1.36,2,    0.057,2,    0.040,2, -999.000,9,-999.0000,9,  -999.00,9,   -999.0,9,   -999.0,9,     8.01,2,  1.9020
 3230CITHER2_2,  A17N,   189,  1,      4,      4,2,19940309,0251,  4.2090, -38.9630, 4593,   4197.7,   1.8870,  34.8450,2,  34.8470,2,    252.9,2,    250.2,2,    56.30,2,    23.09,2,     1.55,2,    0.046,2,    0.032,2, -999.000,9,-999.0000,9,  -999.00,9,   -999.0,9,   -999.0,9,     7.99,2,  1.5340
 3230CITHER2_2,  A17N,   189,  1,      3,      3,2,19940309,0251,  4.2090, -38.9630, 4593,   4399.5,   1.5280,  34.8010,2,  34.8040,2,    240.3,2,    239.8,2,    74.80,2,    25.58,2,     1.76,2,    0.022,2,    0.019,2, -999.000,9,-999.0000,9,  -999.00,9,   -999.0,9,   -999.0,9,     7.96,2,  1.1630
 3230CITHER2_2,  A17N,   189,  1,      2,      2,2,19940309,0251,  4.2090, -38.9630, 4593,   4597.8,   1.3530,  34.7800,2,  34.7820,2,    234.5,2,    234.7,2,    84.80,2,    27.14,2,     1.86,2,    0.015,2,    0.006,2, -999.000,9,-999.0000,9,  -999.00,9,   -999.0,9,   -999.0,9,     7.95,2,  0.9710
 3230CITHER2_2,  A17N,   189,  1,      1,      1,2,19940309,0251,  4.2090, -38.9630, 4593,   4657.2,   1.3290,  34.7770,2,  34.7790,2,    233.4,2,    234.0,2,    86.10,2,    27.16,2,     1.88,2,    0.011,2,    0.006,2, -999.000,9,-999.0000,9,  -999.00,9,   -999.0,9,   -999.0,9,     7.95,2,  0.9410
 3230CITHER2_2,  A17N,   190,  1,     32,     32,2,19940309,0901,  4.4987, -39.4660, 4433,      5.7,  26.3050,  36.0850,2,  36.0840,2,    200.3,2,    201.1,2,     1.60,2,     0.00,2,     0.02,2,    1.774,2,    1.006,2, -999.000,9,-999.0000,9,  -999.00,9,   -999.0,9,   -999.0,9,     8.38,2, 26.3040
 3230CITHER2_2,  A17N,   190,  1,     31,     31,2,19940309,0901,  4.4987, -39.4660, 4433,     60.5,  26.3140,  36.0860,2,  36.0840,2,    203.4,2,    201.9,2,     1.60,2,     0.00,2,     0.02,2,    1.742,2,    0.987,2, -999.000,9,-999.0000,9,  -999.00,9,   -999.0,9,   -999.0,9,     8.38,2, 26.3000
 3230CITHER2_2,  A17N,   190,  1,     30,     30,2,19940309,0901,  4.4987, -39.4660, 4433,     93.8,  23.1440,  35.9820,2,  35.9870,2,    160.1,2,    156.7,2,     3.00,2,     5.13,2,     0.43,2,    1.622,2,    0.894,2, -999.000,9,-999.0000,9,  -999.00,9,   -999.0,9,   -999.0,9,     8.24,2, 23.1250
 3230CITHER2_2,  A17N,   190,  1,     29,     29,2,19940309,0901,  4.4987, -39.4660, 4433,    199.6,  10.9580,  35.0310,2,  35.0280,2,    137.1,2,    133.9,2,    11.40,2,    23.85,2,     1.58,2,    0.965,2,    0.524,2, -999.000,9,-999.0000,9,  -999.00,9,   -999.0,9,   -999.0,9,     7.97,2, 10.9330
 3230CITHER2_2,  A17N,   190,  1,     28,     28,2,19940309,0901,  4.4987, -39.4660, 4433,    301.4,   9.7290,  34.8850,2,  34.8800,2,    136.6,2,    136.0,2,    13.60,2,    26.12,2,     1.72,2,    0.781,2,    0.427,2, -999.000,9,-999.0000,9,  -999.00,9,   -999.0,9,   -999.0,9,     7.94,2,  9.6940
 3230CITHER2_2,  A17N,   190,  1,     27,     27,2,19940309,0901,  4.4987, -39.4660, 4433,    400.7,   8.2890,  34.7570,2,  34.7600,2,    129.0,2,    128.0,2,    17.30,2,    30.34,2,     1.95,2,    0.459,2,    0.272,2, -999.000,9,-999.0000,9,  -999.00,9,   -999.0,9,   -999.0,9,     7.90,2,  8.2470
 3230CITHER2_2,  A17N,   190,  1,     26,     26,2,19940309,0901,  4.4987, -39.4660, 4433,    500.0,   6.9450,  34.6390,2,  34.6400,2,    139.1,2,    127.7,2,    21.50,2,    32.93,2,     2.17,2,    0.230,2,    0.127,2, -999.000,9,-999.0000,9,  -999.00,9,   -999.0,9,   -999.0,9,     7.85,2,  6.8980
 3230CITHER2_2,  A17N,   190,  1,     25,     25,2,19940309,0901,  4.4987, -39.4660, 4433,    601.9,   6.1230,  34.5930,2,  34.5910,2,    123.0,2,    122.4,2,    25.30,2,    35.04,2,     2.32,2,    0.072,2,    0.043,2, -999.000,9,-999.0000,9,  -999.00,9,   -999.0,9,   -999.0,9,     7.82,2,  6.0690
 3230CITHER2_2,  A17N,   190,  1,     24,     24,2,19940309,0901,  4.4987, -39.4660, 4433,    796.3,   5.0480,  34.5620,2,  34.5620,2,    136.7,2,    138.7,2,    30.30,2,    35.02,2,     2.35,2,    0.024,2,    0.014,2, -999.000,9,-999.0000,9,  -999.00,9,   -999.0,9,   -999.0,9,     7.83,2,  4.9820
 3230CITHER2_2,  A17N,   190,  1,     23,     23,2,19940309,0901,  4.4987, -39.4660, 4433,   1000.5,   4.7630,  34.6730,2,  34.6710,2,    151.5,2,    153.8,2,    30.10,2,    32.81,2,     2.22,2,    0.004,2,    0.002,2, -999.000,9,-999.0000,9,  -999.00,9,   -999.0,9,   -999.0,9,     7.86,2,  4.6810
 3230CITHER2_2,  A17N,   190,  1,     22,     22,2,19940309,0901,  4.4987, -39.4660, 4433,   1200.8,   4.7480,  34.8540,2,  34.8540,2,    181.2,2,    180.1,2,    24.90,2,    27.60,2,     1.86,2,    0.022,2,    0.015,2, -999.000,9,-999.0000,9,  -999.00,9,   -999.0,9,   -999.0,9,     7.92,2,  4.6480
 3230CITHER2_2,  A17N,   190,  1,     21,     21,2,19940309,0901,  4.4987, -39.4660, 4433,   1399.1,   4.5010,  34.9480,2,  34.9450,2,    214.7,2,    211.8,2,    20.70,2,    23.36,2,     1.57,2,    0.048,2,    0.031,2, -999.000,9,-999.0000,9,  -999.00,9,   -999.0,9,   -999.0,9,     7.96,2,  4.3850
 3230CITHER2_2,  A17N,   190,  1,     20,     20,2,19940309,0901,  4.4987, -39.4660, 4433,   1500.2,   4.4450,  34.9790,2,  34.9790,2,    227.8,2,    227.0,2,    18.50,2,    21.76,2,     1.44,2,    0.102,2,    0.060,2, -999.000,9,-999.0000,9,  -999.00,9,   -999.0,9,   -999.0,9,     7.99,2,  4.3200
 3230CITHER2_2,  A17N,   190,  1,     19,     19,2,19940309,0901,  4.4987, -39.4660, 4433,   1600.3,   4.2640,  34.9800,2,  34.9810,2,    235.0,2,    233.4,2,    18.00,2,    21.29,2,     1.41,2,    0.073,2,    0.045,2, -999.000,9,-999.0000,9,  -999.00,9,   -999.0,9,   -999.0,9,     8.00,2,  4.1310
 3230CITHER2_2,  A17N,   190,  1,     18,     18,2,19940309,0901,  4.4987, -39.4660, 4433,   1699.5,   4.1410,  34.9840,2,  34.9850,2,    241.3,2,    239.9,2,    17.80,2,    20.76,2,     1.35,2,    0.072,2,    0.043,2, -999.000,9,-999.0000,9,  -999.00,9,   -999.0,9,   -999.0,9,     8.00,2,  4.0010
 3230CITHER2_2,  A17N,   190,  1,     17,     17,2,19940309,0901,  4.4987, -39.4660, 4433,   1799.3,   4.0370,  34.9880,2,  34.9890,2,    249.7,2,    246.1,2,    17.40,2,    20.14,2,     1.31,2,    0.091,2,    0.055,2, -999.000,9,-999.0000,9,  -999.00,9,   -999.0,9,   -999.0,9,     8.01,2,  3.8880
 3230CITHER2_2,  A17N,   190,  1,     16,     16,2,19940309,0901,  4.4987, -39.4660, 4433,   1999.5,   3.7230,  34.9850,2,  34.9790,2,    256.8,2,    255.9,2,    17.40,2,    19.23,2,     1.25,2,    0.114,2,    0.061,2, -999.000,9,-999.0000,9,  -999.00,9,   -999.0,9,   -999.0,9,     8.02,2,  3.5600
 3230CITHER2_2,  A17N,   190,  1,     15,     15,2,19940309,0901,  4.4987, -39.4660, 4433,   2161.2,   3.4410,  34.9710,2,  34.9690,2,    256.1,2,    255.6,2,    20.40,2,    19.44,2,     1.27,2,    0.032,2,    0.024,2, -999.000,9,-999.0000,9,  -999.00,9,   -999.0,9,   -999.0,9,     8.02,2,  3.2660
 3230CITHER2_2,  A17N,   190,  1,     13,     13,2,19940309,0901,  4.4987, -39.4660, 4433,   2399.4,   3.2190,  34.9600,2,  34.9630,2,    257.2,2,    258.2,2,    22.50,2,    19.73,2,     1.28,2,    0.037,2,    0.021,2, -999.000,9,-999.0000,9,  -999.00,9,   -999.0,9,   -999.0,9,     8.02,2,  3.0250
 3230CITHER2_2,  A17N,   190,  1,     14,     14,2,19940309,0901,  4.4987, -39.4660, 4433,   2399.7,   3.2230,  34.9620,2,  34.9610,2,    257.2,2,    257.6,2,    22.60,2,    19.71,2,     1.27,2,    0.035,2,    0.018,2, -999.000,9,-999.0000,9,  -999.00,9,   -999.0,9,   -999.0,9,     8.02,2,  3.0290
 3230CITHER2_2,  A17N,   190,  1,     12,     12,2,19940309,0901,  4.4987, -39.4660, 4433,   2597.9,   3.0140,  34.9460,2,  34.9480,2,    256.0,2,    255.8,2,    26.10,2,    20.12,2,     1.32,2,    0.015,2,    0.011,2, -999.000,9,-999.0000,9,  -999.00,9,   -999.0,9,   -999.0,9,     8.02,2,  2.8040
 3230CITHER2_2,  A17N,   190,  1,     11,     11,2,19940309,0901,  4.4987, -39.4660, 4433,   2799.5,   2.8840,  34.9360,2,  34.9370,2,    254.7,2,    254.8,2,    28.70,2,    20.35,2,     1.34,2,    0.010,2,    0.004,2, -999.000,9,-999.0000,9,  -999.00,9,   -999.0,9,   -999.0,9,     8.01,2,  2.6560
 3230CITHER2_2,  A17N,   190,  1,     10,     10,2,19940309,0901,  4.4987, -39.4660, 4433,   2999.9,   2.7670,  34.9300,2,  34.9320,2,    255.5,2,    255.8,2,    29.90,2,    20.30,2,     1.34,2,    0.011,2,    0.009,2, -999.000,9,-999.0000,9,  -999.00,9,   -999.0,9,   -999.0,9,     8.02,2,  2.5210
 3230CITHER2_2,  A17N,   190,  1,      9,      9,2,19940309,0901,  4.4987, -39.4660, 4433,   3200.0,   2.6900,  34.9260,2,  34.9260,2,    256.7,2,    256.8,2,    30.50,2,    20.21,2,     1.34,2,    0.019,2,    0.013,2, -999.000,9,-999.0000,9,  -999.00,9,   -999.0,9,   -999.0,9,     8.02,2,  2.4250
 3230CITHER2_2,  A17N,   190,  1,      8,      8,2,19940309,0901,  4.4987, -39.4660, 4433,   3399.7,   2.6180,  34.9220,2,  34.9210,2,    259.0,2,    259.2,2,    30.10,2,    19.90,2,     1.32,2,    0.045,2,    0.024,2, -999.000,9,-999.0000,9,  -999.00,9,   -999.0,9,   -999.0,9,     8.02,2,  2.3330
 3230CITHER2_2,  A17N,   190,  1,      7,      7,2,19940309,0901,  4.4987, -39.4660, 4433,   3550.1,   2.5340,  34.9160,2,  34.9180,2,    260.3,2,    260.4,2,    30.40,2,    19.76,2,     1.33,2,    0.059,2,    0.036,2, -999.000,9,-999.0000,9,  -999.00,9,   -999.0,9,   -999.0,9,     8.02,2,  2.2350
 3230CITHER2_2,  A17N,   190,  1,      6,      6,2,19940309,0901,  4.4987, -39.4660, 4433,   3698.9,   2.4440,  34.9090,2,  34.9100,2,    261.1,2,    261.7,2,    31.50,2,    19.76,2,     1.32,2,    0.054,2,    0.032,2, -999.000,9,-999.0000,9,  -999.00,9,   -999.0,9,   -999.0,9,     8.02,2,  2.1310
 3230CITHER2_2,  A17N,   190,  1,      5,      5,2,19940309,0901,  4.4987, -39.4660, 4433,   3848.0,   2.3890,  34.9050,2,  34.9050,2,    261.4,2,    261.8,2,    32.20,2,    19.76,2,     1.32,2,    0.058,2,    0.038,2, -999.000,9,-999.0000,9,  -999.00,9,   -999.0,9,   -999.0,9,     8.02,2,  2.0610
 3230CITHER2_2,  A17N,   190,  1,      4,      4,2,19940309,0901,  4.4987, -39.4660, 4433,   3998.7,   2.3050,  34.8970,2,  34.8970,2,    261.1,2,    261.2,2,    34.60,2,    20.07,2,     1.34,2,    0.060,2,    0.037,2, -999.000,9,-999.0000,9,  -999.00,9,   -999.0,9,   -999.0,9,     8.01,2,  1.9620
 3230CITHER2_2,  A17N,   190,  1,      3,      3,2,19940309,0901,  4.4987, -39.4660, 4433,   4199.6,   2.1250,  34.8730,2,  34.8750,2,    256.0,2,    255.0,2,    44.50,2,    21.59,2,     1.46,2,    0.039,2,    0.030,2, -999.000,9,-999.0000,9,  -999.00,9,   -999.0,9,   -999.0,9,     8.00,2,  1.7650
 3230CITHER2_2,  A17N,   190,  1,      2,      2,2,19940309,0901,  4.4987, -39.4660, 4433,   4397.9,   1.6450,  34.8210,2,  34.8190,2,    243.3,2,    243.2,2,    68.30,2,    24.69,2,     1.70,2,    0.033,2,    0.022,2, -999.000,9,-999.0000,9,  -999.00,9,   -999.0,9,   -999.0,9,     7.97,2,  1.2760
 3230CITHER2_2,  A17N,   190,  1,      1,      1,2,19940309,0901,  4.4987, -39.4660, 4433,   4489.4,   1.4510,  34.7950,2,  34.7960,2,    236.7,2,    237.4,2,    78.70,2,    26.37,2,     1.81,2,    0.017,2,    0.012,2, -999.000,9,-999.0000,9,  -999.00,9,   -999.0,9,   -999.0,9,     7.96,2,  1.0780