BOTTLE,20030515WHPSIOSA
EXPOCODE,SECT_ID,STNNBR,CASTNO,SAMPNO,BTLNBR,BTLNBR_FLAG_W,DATE,TIME,LATITUDE,LONGITUDE,DEPTH,CTDPRS,CTDTMP,CTDSAL,CTDSAL_FLAG_W,SALNTY,SALNTY_FLAG_W,CTDOXY,CTDOXY_FLAG_W,OXYGEN,OXYGEN_FLAG_W,SILCAT,SILCAT_FLAG_W,NITRAT,NITRAT_FLAG_W,PHSPHT,PHSPHT_FLAG_W,CFC-11,CFC-11_FLAG_W,CFC-12,CFC-12_FLAG_W,TRITUM,TRITUM_FLAG_W,HELIUM,HELIUM_FLAG_W,DELHE3,DELHE3_FLAG_W,TCARBN,TCARBN_FLAG_W,ALKALI,ALKALI_FLAG_W,PH,PH_FLAG_W,THETA
,,,,,,,,,,,,DBAR,ITS-90,PSS-78,,PSS-78,,UMOL/KG,,UMOL/KG,,UMOL/KG,,UMOL/KG,,UMOL/KG,,PMOL/KG,,PMOL/KG,,TU,,NMOL/KG,,PERCNT,,UMOL/KG,,UMOL/KG,,,,DEG C
 3230CITHER2_1,  A17C,    30,  1,     32,     32,2,19940118,0117,-40.5935, -48.1667, 5340,      4.7,  20.7950,  35.4730,2,  35.4740,2,    230.8,2,    224.8,2,     1.50,2,     0.04,2,     0.12,2,    2.330,2,    1.331,2, -999.000,9,-999.0000,9,  -999.00,9,   2026.7,2,   2357.6,2,     8.33,2, 20.7940
 3230CITHER2_1,  A17C,    30,  1,     31,     31,2,19940118,0117,-40.5935, -48.1667, 5340,     30.7,  20.7710,  35.4950,2,  35.4390,2,    231.9,2,    226.5,2,     1.30,2,     0.04,2,     0.12,2,    2.409,2,    1.362,2, -999.000,9,-999.0000,9,  -999.00,9,   2024.7,2,   2356.3,2,     8.33,2, 20.7650
 3230CITHER2_1,  A17C,    30,  1,     30,     30,2,19940118,0117,-40.5935, -48.1667, 5340,    100.8,  13.0640,  35.0830,2,  35.0860,2,    223.6,2,    225.4,2,     2.70,2,    10.06,2,     0.78,2,    3.242,2,    1.732,2, -999.000,9,-999.0000,9,  -999.00,9,   2095.6,2,   2329.3,2,     8.16,2, 13.0500
 3230CITHER2_1,  A17C,    30,  1,     29,     29,2,19940118,0117,-40.5935, -48.1667, 5340,    202.4,   9.9520,  34.7560,2,  34.7700,2,    242.3,2,    241.0,2,     3.50,2,    15.07,2,     1.07,2,    3.518,2,    1.819,2, -999.000,9,-999.0000,9,  -999.00,9,   2108.2,2,   2315.3,2,     8.10,2,  9.9290
 3230CITHER2_1,  A17C,    30,  1,     28,     28,2,19940118,0117,-40.5935, -48.1667, 5340,    302.8,   6.7980,  34.3690,2,  34.3700,2,    236.8,2,    245.6,2,     7.70,2,    22.37,2,     1.56,2,    3.509,2,    1.772,2, -999.000,9,-999.0000,9,  -999.00,9,   2133.5,2,   2294.4,2,     8.01,2,  6.7700
 3230CITHER2_1,  A17C,    30,  1,     27,     27,2,19940118,0117,-40.5935, -48.1667, 5340,    402.1,   5.1700,  34.2090,2,  34.2130,2,    273.3,2,    274.9,2,     8.80,2,    23.87,2,     1.65,2,    4.408,2,    2.183,2, -999.000,9,-999.0000,9,  -999.00,9,   2132.5,2,   2291.2,2,     8.00,2,  5.1380
 3230CITHER2_1,  A17C,    30,  1,     26,     26,2,19940118,0117,-40.5935, -48.1667, 5340,    602.7,   4.5210,  34.2220,2,  34.2200,2,    262.4,2,    262.5,2,    15.10,2,    27.29,2,     1.85,2,    3.557,2,    1.784,2, -999.000,9,-999.0000,9,  -999.00,9,   2150.4,2,   2296.4,2,     7.97,2,  4.4750
 3230CITHER2_1,  A17C,    30,  1,     25,     25,2,19940118,0117,-40.5935, -48.1667, 5340,    798.8,   3.6030,  34.2200,2,  34.2230,2,    252.1,2,    250.6,2,    24.40,2,    30.13,2,     2.04,2,    2.852,2,    1.450,2, -999.000,9,-999.0000,9,  -999.00,9,   2170.1,2,   2304.6,2,     7.93,2,  3.5470
 3230CITHER2_1,  A17C,    30,  1,     24,     24,2,19940118,0117,-40.5935, -48.1667, 5340,   1002.0,   2.9600,  34.2730,2,  34.2730,2,    230.7,2,    229.8,2,    37.00,2,    32.76,2,     2.22,2,    2.058,2,    1.055,2, -999.000,9,-999.0000,9,  -999.00,9,   2195.5,2,   2312.7,2,     7.89,2,  2.8930
 3230CITHER2_1,  A17C,    30,  1,     23,     23,2,19940118,0117,-40.5935, -48.1667, 5340,   1194.9,   2.7110,  34.3730,2,  34.3720,2,    206.0,2,    204.4,2,    51.00,2,    34.48,2,     2.33,2,    1.205,2,    0.618,2, -999.000,9,-999.0000,9,  -999.00,9,   2214.2,2,   2326.6,2,     7.86,2,  2.6310
 3230CITHER2_1,  A17C,    30,  1,     22,     22,2,19940118,0117,-40.5935, -48.1667, 5340,   1397.4,   2.6710,  34.5050,2,  34.5040,2,    185.4,2,    185.1,2,    62.30,2,    34.69,2,     2.35,2,    0.513,2,    0.279,2, -999.000,9,-999.0000,9,  -999.00,9,   2236.9,2,   2339.6,2,     7.84,2,  2.5750
 3230CITHER2_1,  A17C,    30,  1,     21,     21,2,19940118,0117,-40.5935, -48.1667, 5340,   1599.4,   2.6630,  34.5910,2,  34.5940,2,    179.1,2,    179.9,2,    67.50,2,    34.08,2,     2.31,2,    0.287,2,    0.157,2, -999.000,9,-999.0000,9,  -999.00,9,   2242.1,2,   2347.5,2,     7.84,2,  2.5510
 3230CITHER2_1,  A17C,    30,  1,     20,     20,2,19940118,0117,-40.5935, -48.1667, 5340,   1800.2,   2.7970,  34.6910,2,  34.6900,2,    185.9,2,    186.7,2,    63.60,2,    32.00,2,     2.15,2,    0.144,2,    0.084,2, -999.000,9,-999.0000,9,  -999.00,9,   2235.2,2,   2348.6,2,     7.87,2,  2.6660
 3230CITHER2_1,  A17C,    30,  1,     19,     19,2,19940118,0117,-40.5935, -48.1667, 5340,   2000.1,   3.0080,  34.7960,2,  34.7960,2,    196.1,2,    205.0,2,    53.60,2,    28.32,2,     1.90,2,    0.070,2,    0.051,2, -999.000,9,-999.0000,9,  -999.00,9,   2217.0,2,   2346.5,2,     7.91,2,  2.8560
 3230CITHER2_1,  A17C,    30,  1,     18,     18,2,19940118,0117,-40.5935, -48.1667, 5340,   2201.2,   2.8620,  34.8180,2,  34.8170,2,    210.2,2,    210.8,2,    54.90,2,    27.56,2,     1.84,2,    0.054,2,    0.031,2, -999.000,9,-999.0000,9,  -999.00,9,   2215.6,2,   2348.2,2,     7.92,2,  2.6930
 3230CITHER2_1,  A17C,    30,  1,     17,     17,2,19940118,0117,-40.5935, -48.1667, 5340,   2399.9,   2.8550,  34.8520,2,  34.8520,2,    211.1,2,    222.5,2,    50.30,2,    25.79,2,     1.72,2,    0.043,2,    0.035,2, -999.000,9,-999.0000,9,  -999.00,9,   2205.8,2,   2347.2,2,     7.94,2,  2.6680
 3230CITHER2_1,  A17C,    30,  1,     16,     16,2,19940118,0117,-40.5935, -48.1667, 5340,   2599.7,   3.1260,  34.9370,2,  34.9380,2,    248.9,2,    250.1,2,    28.10,2,    21.32,2,     1.40,2,    0.020,2,    0.021,2, -999.000,9,-999.0000,9,  -999.00,9,   2174.4,2,   2337.6,2,     8.00,2,  2.9140
 3230CITHER2_1,  A17C,    30,  1,     14,     14,2,19940118,0117,-40.5935, -48.1667, 5340,   2798.4,   2.7310,  34.8880,2,  34.8820,2,    234.9,2,    235.5,2,  -999.00,5,    23.84,2,     1.58,2,    0.022,2,    0.018,2, -999.000,9,-999.0000,9,  -999.00,9,   2196.7,2,   2347.4,2,     7.97,2,  2.5070
 3230CITHER2_1,  A17C,    30,  1,     15,     15,2,19940118,0117,-40.5935, -48.1667, 5340,   2798.5,   2.7330,  34.8870,2,  34.8860,2,    234.7,2,    236.7,2,    44.70,2,    23.68,2,     1.59,2,    0.020,2,    0.017,2, -999.000,9,-999.0000,9,  -999.00,9,   2194.7,2,   2347.4,2,     7.97,2,  2.5090
 3230CITHER2_1,  A17C,    30,  1,     13,     13,2,19940118,0117,-40.5935, -48.1667, 5340,   2997.9,   2.3150,  34.8400,2,  34.8420,2,    228.0,2,    226.2,2,    60.80,2,    26.20,2,     1.75,2,    0.028,2,    0.019,2, -999.000,9,-999.0000,9,  -999.00,9,   2212.3,2,   2354.9,2,     7.95,2,  2.0800
 3230CITHER2_1,  A17C,    30,  1,     12,     12,2,19940118,0117,-40.5935, -48.1667, 5340,   3299.0,   1.6010,  34.7560,2,  34.7570,2,    207.0,2,    206.9,2,    99.00,2,    31.17,2,     2.08,2,    0.060,2,    0.041,2, -999.000,9,-999.0000,9,  -999.00,9,   2245.6,2,   2366.8,2,     7.89,2,  1.3520
 3230CITHER2_1,  A17C,    30,  1,     11,     11,2,19940118,0117,-40.5935, -48.1667, 5340,   3599.1,   1.2260,  34.7320,2,  34.7330,2,    207.1,2,    207.9,2,   112.10,2,    32.18,2,     2.16,2,    0.082,2,    0.053,2, -999.000,9,-999.0000,9,  -999.00,9,   2253.2,2,   2371.8,2,     7.88,2,  0.9560
 3230CITHER2_1,  A17C,    30,  1,     10,     10,2,19940118,0117,-40.5935, -48.1667, 5340,   3799.6,   0.9740,  34.7150,2,  34.7170,2,    209.1,2,    210.5,2,   117.80,2,    32.76,2,     2.21,2,    0.103,2,    0.064,2, -999.000,9,-999.0000,9,  -999.00,9,   2256.2,2,   2372.6,2,     7.87,2,  0.6910
 3230CITHER2_1,  A17C,    30,  1,      9,      9,2,19940118,0117,-40.5935, -48.1667, 5340,   3999.1,   0.7260,  34.6990,2,  34.7010,2,    211.2,2,    212.6,2,   122.20,2,    33.50,2,     2.25,2,    0.130,2,    0.079,2, -999.000,9,-999.0000,9,  -999.00,9,   2259.8,2,   2375.0,2,     7.87,2,  0.4290
 3230CITHER2_1,  A17C,    30,  1,      8,      8,2,19940118,0117,-40.5935, -48.1667, 5340,   4201.5,   0.5460,  34.6890,2,  34.6910,2,    214.8,2,    216.1,2,   124.50,2,    33.55,2,     2.27,2,    0.133,2,    0.081,2, -999.000,9,-999.0000,9,  -999.00,9,   2261.2,2,   2375.7,2,     7.87,2,  0.2330
 3230CITHER2_1,  A17C,    30,  1,      7,      7,2,19940118,0117,-40.5935, -48.1667, 5340,   4400.1,   0.4040,  34.6820,2,  34.6850,2,    217.7,2,    219.1,2,   125.70,2,    33.73,2,     2.28,2,    0.143,2,    0.092,2, -999.000,9,-999.0000,9,  -999.00,9,   2261.7,2,   2375.3,2,     7.87,2,  0.0740
 3230CITHER2_1,  A17C,    30,  1,      6,      6,2,19940118,0117,-40.5935, -48.1667, 5340,   4597.1,   0.3310,  34.6780,2,  34.6800,2,    220.0,2,    220.8,2,   127.90,2,    33.81,2,     2.29,2,    0.132,2,    0.083,2, -999.000,9,-999.0000,9,  -999.00,9,   2261.9,2,   2374.2,2,     7.87,2, -0.0180
 3230CITHER2_1,  A17C,    30,  1,      5,      5,2,19940118,0117,-40.5935, -48.1667, 5340,   4796.3,   0.2850,  34.6750,2,  34.6760,2,    221.4,2,    222.2,2,   128.30,2,    34.02,2,     2.30,2,    0.140,2,    0.088,2, -999.000,9,-999.0000,9,  -999.00,9,   2262.3,2,   2375.9,2,     7.86,2, -0.0850
 3230CITHER2_1,  A17C,    30,  1,      4,      4,2,19940118,0117,-40.5935, -48.1667, 5340,   4999.4,   0.2670,  34.6730,2,  34.6780,2,    222.3,2,    223.1,2,   129.10,2,    34.02,2,     2.31,2,    0.149,2,    0.090,2, -999.000,9,-999.0000,9,  -999.00,9,   2262.2,2,   2376.5,2,     7.86,2, -0.1250
 3230CITHER2_1,  A17C,    30,  1,      3,      3,2,19940118,0117,-40.5935, -48.1667, 5340,   5198.0,   0.2600,  34.6720,2,  34.6740,2,    223.2,2,    223.4,2,   130.00,2,    33.77,2,     2.31,2,    0.164,2,    0.103,2, -999.000,9,-999.0000,9,  -999.00,9,   2263.0,2,   2376.3,2,     7.86,2, -0.1550
 3230CITHER2_1,  A17C,    30,  1,      2,      2,2,19940118,0117,-40.5935, -48.1667, 5340,   5299.4,   0.2610,  34.6710,2,  34.6750,2,    223.6,2,    223.2,2,   129.70,2,    33.72,2,     2.31,2,    0.171,2,    0.100,2, -999.000,9,-999.0000,9,  -999.00,9,   2263.7,2,   2377.5,2,     7.87,2, -0.1660
 3230CITHER2_1,  A17C,    30,  1,      1,      1,2,19940118,0117,-40.5935, -48.1667, 5340,   5415.9,   0.2720,  34.6720,2,  34.6740,2,    222.8,2,    223.9,2,   130.70,2,    33.82,2,     2.31,2,    0.183,2,    0.110,2, -999.000,9,-999.0000,9,  -999.00,9,   2262.8,2,   2376.6,2,     7.88,2, -0.1690
 3230CITHER2_1,  A17C,    31,  1,     32,     32,2,19940118,0755,-40.1827, -47.8160, 5293,      7.7,  20.8660,  35.8240,2,  35.8250,2,    225.9,2,    221.8,2,     1.70,2,     0.04,2,     0.08,2,    2.287,2,    1.309,2,    1.182,2,-999.0000,9,  -999.00,9,   -999.0,9,   -999.0,9,     8.33,2, 20.8650
 3230CITHER2_1,  A17C,    31,  1,     15,     15,2,19940118,0755,-40.1827, -47.8160, 5293,     30.8,  20.8820,  35.8270,2,  35.8390,2,    226.9,2,    221.4,2,     2.10,2,     0.04,2,     0.08,2,    2.293,2,    1.322,2,    1.157,2,-999.0000,9,  -999.00,9,   -999.0,9,   -999.0,9,     8.33,2, 20.8760
 3230CITHER2_1,  A17C,    31,  1,     16,     16,2,19940118,0755,-40.1827, -47.8160, 5293,     30.8,  20.8810,  35.8250,2,  35.8390,2,    226.9,2,    221.4,2,     2.10,2,     0.04,2,     0.08,2,    2.293,2,    1.322,2, -999.000,9,-999.0000,9,  -999.00,9,   -999.0,9,   -999.0,9,     8.33,2, 20.8760
 3230CITHER2_1,  A17C,    31,  1,     14,     14,2,19940118,0755,-40.1827, -47.8160, 5293,    100.2,  16.9510,  35.8290,2,  35.8440,2,    204.9,2,    202.6,2,     3.00,2,     4.62,2,     0.40,2,    2.473,2,    1.370,2,    1.043,2,-999.0000,9,  -999.00,9,   -999.0,9,   -999.0,9,     8.22,2, 16.9340
 3230CITHER2_1,  A17C,    31,  1,     13,     13,2,19940118,0755,-40.1827, -47.8160, 5293,    200.9,  14.7250,  35.6040,2,  35.6000,2,    216.4,2,    225.5,2,     3.00,2,     7.07,2,     0.55,2,    2.700,2,    1.481,2,    0.808,2,-999.0000,9,  -999.00,9,   -999.0,9,   -999.0,9,     8.20,2, 14.6950
 3230CITHER2_1,  A17C,    31,  1,     12,     12,2,19940118,0755,-40.1827, -47.8160, 5293,    302.4,  11.5510,  35.0290,2,  35.0190,2,    240.1,2,    229.4,2,     4.60,2,    13.15,2,     0.93,2,    2.991,2,    1.603,2, -999.000,9,-999.0000,9,  -999.00,9,   -999.0,9,   -999.0,9,     8.12,2, 11.5120
 3230CITHER2_1,  A17C,    31,  1,     11,     11,2,19940118,0755,-40.1827, -47.8160, 5293,    401.4,   7.7010,  34.4760,2,  34.4730,2,    228.2,2,    234.0,2,     8.60,2,    21.56,2,     1.48,2,    3.094,2,    1.604,2,    0.452,2,-999.0000,9,  -999.00,9,   -999.0,9,   -999.0,9,     8.02,2,  7.6610
 3230CITHER2_1,  A17C,    31,  1,     10,     10,2,19940118,0755,-40.1827, -47.8160, 5293,    599.9,   4.8260,  34.1840,2,  34.1910,2,    252.1,2,    278.9,2,    11.40,2,    25.01,2,     1.68,2,    4.355,2,    2.173,2,    0.358,2,-999.0000,9,  -999.00,9,   -999.0,9,   -999.0,9,     8.00,2,  4.7790
 3230CITHER2_1,  A17C,    31,  1,      9,      9,2,19940118,0755,-40.1827, -47.8160, 5293,    699.1,   4.9510,  34.2820,2,  34.2800,2,    266.4,2,    244.4,2,    17.00,2,    28.34,2,     1.87,2,    2.635,2,    1.353,2,    0.280,2,-999.0000,9,  -999.00,9,   -999.0,9,   -999.0,9,     7.96,2,  4.8950
 3230CITHER2_1,  A17C,    31,  1,      8,      8,2,19940118,0755,-40.1827, -47.8160, 5293,    800.6,   4.0100,  34.2050,2,  34.2060,2,    256.4,2,    257.9,2,    20.50,2,    29.35,2,     1.95,2,    3.320,2,    1.680,2,    0.225,2,-999.0000,9,  -999.00,9,   -999.0,9,   -999.0,9,     7.95,2,  3.9510
 3230CITHER2_1,  A17C,    31,  1,      7,      7,2,19940118,0755,-40.1827, -47.8160, 5293,   1001.4,   3.1690,  34.2320,2,  34.2440,2,    240.2,2,    241.9,2,    31.60,2,    31.78,2,     2.12,2,    2.463,2,    1.262,2, -999.000,9,-999.0000,9,  -999.00,9,   -999.0,9,   -999.0,9,     7.91,2,  3.1000
 3230CITHER2_1,  A17C,    31,  1,      6,      6,2,19940118,0755,-40.1827, -47.8160, 5293,   1199.2,   2.8960,  34.3520,2,  34.3530,2,    207.8,2,    209.0,2,    47.60,2,    34.00,2,     2.29,2,    1.224,2,    0.633,2,    0.118,2,-999.0000,9,  -999.00,9,   -999.0,9,   -999.0,9,     7.87,2,  2.8140
 3230CITHER2_1,  A17C,    31,  1,      5,      5,2,19940118,0755,-40.1827, -47.8160, 5293,   1400.9,   2.8550,  34.4950,2,  34.5010,2,    189.3,2,    188.5,2,    57.80,2,    34.10,2,     2.31,2,    0.428,2,    0.223,2,    0.084,2,-999.0000,9,  -999.00,9,   -999.0,9,   -999.0,9,     7.86,2,  2.7570
 3230CITHER2_1,  A17C,    31,  1,      4,      4,2,19940118,0755,-40.1827, -47.8160, 5293,   1599.8,   2.9230,  34.6090,2,  34.6130,2,    186.5,2,    187.9,2,    59.10,2,    32.98,2,     2.21,2,    0.208,2,    0.109,2, -999.000,9,-999.0000,9,  -999.00,9,   -999.0,9,   -999.0,9,     7.86,2,  2.8080
 3230CITHER2_1,  A17C,    31,  1,      3,      3,2,19940118,0755,-40.1827, -47.8160, 5293,   1799.6,   3.4030,  34.7790,2,  34.7800,2,    204.5,2,    204.9,2,    43.20,2,    28.21,2,     1.88,2,    0.050,2,    0.037,2, -999.000,9,-999.0000,9,  -999.00,9,   -999.0,9,   -999.0,9,     7.88,2,  3.2630
 3230CITHER2_1,  A17C,    31,  1,      2,      2,2,19940118,0755,-40.1827, -47.8160, 5293,   1999.4,   3.1510,  34.8020,2,  34.7980,2,    208.0,2,    206.4,2,    50.00,2,    28.12,2,     1.87,2,    0.067,2,    0.050,2, -999.000,9,-999.0000,9,  -999.00,9,   -999.0,9,   -999.0,9,     7.91,2,  2.9970
 3230CITHER2_1,  A17C,    31,  1,      1,      1,2,19940118,0755,-40.1827, -47.8160, 5293,   2200.2,   3.0850,  34.8390,2,  34.8420,2,    218.4,2,    216.9,2,    47.80,2,    26.40,2,     1.76,2,    0.049,2,    0.038,2, -999.000,9,-999.0000,9,  -999.00,9,   -999.0,9,   -999.0,9,     7.93,2,  2.9130
 3230CITHER2_1,  A17C,    31,  1,     31,     31,2,19940118,0755,-40.1827, -47.8160, 5293,   2399.5,   2.9900,  34.8650,2,  34.8650,2,    231.3,2,    225.1,2,    46.20,2,    25.18,2,     1.68,2,    0.036,2,    0.029,2, -999.000,9,-999.0000,9,  -999.00,9,   -999.0,9,   -999.0,9,     7.95,2,  2.8000
 3230CITHER2_1,  A17C,    31,  1,     30,     30,2,19940118,0755,-40.1827, -47.8160, 5293,   2598.7,   2.7710,  34.8560,2,  34.8630,2,    225.3,2,    224.6,2,    51.90,2,    25.59,2,     1.70,2,    0.030,2,    0.025,2, -999.000,9,-999.0000,9,  -999.00,9,   -999.0,9,   -999.0,9,     7.94,2,  2.5660
 3230CITHER2_1,  A17C,    31,  1,     29,     29,2,19940118,0755,-40.1827, -47.8160, 5293,   2798.8,   2.5490,  34.8480,2,  34.8490,2,    223.5,2,    224.0,2,    57.60,2,    26.04,2,     1.73,2,    0.038,2,    0.033,2, -999.000,9,-999.0000,9,  -999.00,9,   -999.0,9,   -999.0,9,     7.94,2,  2.3290
 3230CITHER2_1,  A17C,    31,  1,     28,     28,2,19940118,0755,-40.1827, -47.8160, 5293,   2997.3,   2.1040,  34.7980,2,  34.8050,2,    214.1,2,    212.3,2,    77.70,2,    28.72,2,     1.92,2,    0.039,2,    0.032,2, -999.000,9,-999.0000,9,  -999.00,9,   -999.0,9,   -999.0,9,     7.92,2,  1.8740
 3230CITHER2_1,  A17C,    31,  1,     27,     27,2,19940118,0755,-40.1827, -47.8160, 5293,   3297.0,   1.5590,  34.7400,2,  34.7410,2,    201.0,2,    200.2,2,   103.80,2,    31.93,2,     2.15,2,    0.075,2,    0.047,2, -999.000,9,-999.0000,9,  -999.00,9,   -999.0,9,   -999.0,9,     7.88,2,  1.3120
 3230CITHER2_1,  A17C,    31,  1,     26,     26,2,19940118,0755,-40.1827, -47.8160, 5293,   3597.1,   1.2510,  34.7260,2,  34.7230,2,    203.7,2,    203.6,2,   112.50,2,    32.55,2,     2.19,2,    0.060,2,    0.036,2, -999.000,9,-999.0000,9,  -999.00,9,   -999.0,9,   -999.0,9,     7.87,2,  0.9810
 3230CITHER2_1,  A17C,    31,  1,     25,     25,2,19940118,0755,-40.1827, -47.8160, 5293,   3797.6,   1.0500,  34.7170,2,  34.7190,2,    208.2,2,    208.3,2,   115.50,2,    32.70,2,     2.20,2,    0.112,2,    0.062,2, -999.000,9,-999.0000,9,  -999.00,9,   -999.0,9,   -999.0,9,     7.87,2,  0.7650
 3230CITHER2_1,  A17C,    31,  1,     24,     24,2,19940118,0755,-40.1827, -47.8160, 5293,   3998.8,   0.7850,  34.7020,2,  34.7030,2,    211.3,2,    211.8,2,   121.00,2,    33.15,2,     2.24,2,    0.131,2,    0.073,2, -999.000,9,-999.0000,9,  -999.00,9,   -999.0,9,   -999.0,9,     7.87,2,  0.4860
 3230CITHER2_1,  A17C,    31,  1,     23,     23,2,19940118,0755,-40.1827, -47.8160, 5293,   4198.1,   0.5630,  34.6900,2,  34.6910,2,    215.4,2,    216.2,2,   127.40,2,    33.70,2,     2.27,2,    0.152,2,    0.079,2, -999.000,9,-999.0000,9,  -999.00,9,   -999.0,9,   -999.0,9,     7.87,2,  0.2500
 3230CITHER2_1,  A17C,    31,  1,     22,     22,2,19940118,0755,-40.1827, -47.8160, 5293,   4398.5,   0.3890,  34.6830,2,  34.6830,2,    218.6,2,    219.2,2,   127.80,2,    33.65,2,     2.28,2,    0.137,2,    0.085,2, -999.000,9,-999.0000,9,  -999.00,9,   -999.0,9,   -999.0,9,     7.87,2,  0.0600
 3230CITHER2_1,  A17C,    31,  1,     21,     21,2,19940118,0755,-40.1827, -47.8160, 5293,   4596.8,   0.3150,  34.6770,2,  34.6760,2,    221.1,2,    221.0,2,   129.60,2,    33.69,2,     2.29,2,    0.139,2,    0.083,2, -999.000,9,-999.0000,9,  -999.00,9,   -999.0,9,   -999.0,9,     7.86,2, -0.0330
 3230CITHER2_1,  A17C,    31,  1,     20,     20,2,19940118,0755,-40.1827, -47.8160, 5293,   4798.5,   0.2750,  34.6750,2,  34.6740,2,    222.7,2,    222.2,2,   130.40,2,    33.49,2,     2.29,2,    0.149,2,    0.088,2, -999.000,9,-999.0000,9,  -999.00,9,   -999.0,9,   -999.0,9,     7.86,2, -0.0940
 3230CITHER2_1,  A17C,    31,  1,     19,     19,2,19940118,0755,-40.1827, -47.8160, 5293,   4997.7,   0.2550,  34.6740,2,  34.6740,2,    223.8,2,    223.1,2,   131.00,2,    34.04,2,     2.30,2,    0.161,2,    0.089,2, -999.000,9,-999.0000,9,  -999.00,9,   -999.0,9,   -999.0,9,     7.87,2, -0.1360
 3230CITHER2_1,  A17C,    31,  1,     18,     18,2,19940118,0755,-40.1827, -47.8160, 5293,   5197.8,   0.2510,  34.6730,2,  34.6730,2,    225.5,2,    223.3,2,   131.60,2,    33.63,2,     2.31,2,    0.168,2,    0.101,2, -999.000,9,-999.0000,9,  -999.00,9,   -999.0,9,   -999.0,9,     7.86,2, -0.1630
 3230CITHER2_1,  A17C,    31,  1,     17,     17,2,19940118,0755,-40.1827, -47.8160, 5293,   5379.4,   0.2550,  34.6700,2,  34.6720,2,    226.1,2,    223.3,2,   132.20,2,    34.03,2,     2.32,2,    0.199,2,    0.116,2, -999.000,9,-999.0000,9,  -999.00,9,   -999.0,9,   -999.0,9,     7.87,2, -0.1810