BOTTLE,20030515WHPSIOSA
EXPOCODE,SECT_ID,STNNBR,CASTNO,SAMPNO,BTLNBR,BTLNBR_FLAG_W,DATE,TIME,LATITUDE,LONGITUDE,DEPTH,CTDPRS,CTDTMP,CTDSAL,CTDSAL_FLAG_W,SALNTY,SALNTY_FLAG_W,CTDOXY,CTDOXY_FLAG_W,OXYGEN,OXYGEN_FLAG_W,SILCAT,SILCAT_FLAG_W,NITRAT,NITRAT_FLAG_W,PHSPHT,PHSPHT_FLAG_W,CFC-11,CFC-11_FLAG_W,CFC-12,CFC-12_FLAG_W,TRITUM,TRITUM_FLAG_W,HELIUM,HELIUM_FLAG_W,DELHE3,DELHE3_FLAG_W,TCARBN,TCARBN_FLAG_W,ALKALI,ALKALI_FLAG_W,PH,PH_FLAG_W,THETA
,,,,,,,,,,,,DBAR,ITS-90,PSS-78,,PSS-78,,UMOL/KG,,UMOL/KG,,UMOL/KG,,UMOL/KG,,UMOL/KG,,PMOL/KG,,PMOL/KG,,TU,,NMOL/KG,,PERCNT,,UMOL/KG,,UMOL/KG,,,,DEG C
 3230CITHER2_1,  A17C,    24,  1,     32,     32,2,19940116,0735,-43.0902, -50.3012, 5525,     10.0,  16.0630,  34.6200,2,  34.6220,2,    250.2,2,    252.7,2,     0.60,2,     0.19,2,     0.22,2,    3.052,2,    1.680,2, -999.000,9,-999.0000,9,  -999.00,9,   1999.5,2,   2316.0,2,     8.32,2, 16.0610
 3230CITHER2_1,  A17C,    24,  1,     31,     31,2,19940116,0735,-43.0902, -50.3012, 5525,     42.0,  16.0220,  34.9160,2,  34.9130,2,    250.6,2,    252.1,2,     0.20,2,     0.19,2,     0.24,2,    3.030,2,    1.692,2, -999.000,9,-999.0000,9,  -999.00,9,   2027.5,2,   2329.0,2,     8.30,2, 16.0150
 3230CITHER2_1,  A17C,    24,  1,     30,     30,2,19940116,0735,-43.0902, -50.3012, 5525,    124.6,  12.6710,  35.1870,2,  35.1880,2,    226.3,2,    231.0,2,     2.80,2,    10.29,2,     0.78,2,    3.145,2,    1.704,2, -999.000,9,-999.0000,9,  -999.00,9,   2098.6,2,   2333.2,2,     8.16,2, 12.6540
 3230CITHER2_1,  A17C,    24,  1,     29,     29,2,19940116,0735,-43.0902, -50.3012, 5525,    199.3,   9.8910,  34.7580,2,  34.7390,2,    238.4,2,    241.8,2,     4.00,2,    15.22,2,     1.11,2,    3.480,2,    1.809,2, -999.000,9,-999.0000,9,  -999.00,9,   2109.1,2,   2310.2,2,     8.10,2,  9.8680
 3230CITHER2_1,  A17C,    24,  1,     28,     28,2,19940116,0735,-43.0902, -50.3012, 5525,    301.3,   7.2220,  34.4190,2,  34.4050,2,    247.9,2,    242.5,2,     7.40,2,    21.58,2,     1.52,2,    3.436,2,    1.772,2, -999.000,9,-999.0000,9,  -999.00,9,   2131.1,2,   2298.3,2,     8.02,2,  7.1930
 3230CITHER2_1,  A17C,    24,  1,     27,     27,2,19940116,0735,-43.0902, -50.3012, 5525,    402.9,   5.5140,  34.2490,2,  34.2500,2,    248.1,2,    265.8,2,     9.50,2,    23.47,2,     1.68,2,    3.948,2,    1.981,2, -999.000,9,-999.0000,9,  -999.00,9,   2135.7,2,   2294.1,2,     8.00,2,  5.4810
 3230CITHER2_1,  A17C,    24,  1,     26,     26,2,19940116,0735,-43.0902, -50.3012, 5525,    604.8,   4.7150,  34.2500,2,  34.2490,2,    256.2,2,    253.0,2,    15.40,2,    26.86,2,     1.88,2,    3.094,2,    1.618,2, -999.000,9,-999.0000,9,  -999.00,9,   2153.2,2,   2298.1,2,     7.97,2,  4.6680
 3230CITHER2_1,  A17C,    24,  1,     25,     25,2,19940116,0735,-43.0902, -50.3012, 5525,    802.2,   3.7510,  34.2400,2,  34.2390,2,    249.3,2,    244.1,2,    25.20,2,    29.59,2,     2.06,2,    2.471,2,    1.325,2, -999.000,9,-999.0000,9,  -999.00,9,   2173.1,2,   2303.5,2,     7.93,2,  3.6930
 3230CITHER2_1,  A17C,    24,  1,     24,     24,2,19940116,0735,-43.0902, -50.3012, 5525,    998.8,   3.1920,  34.2870,2,  34.2890,2,    230.1,2,    226.0,2,    36.70,2,    31.97,2,     2.21,2,    1.696,2,    0.948,2, -999.000,9,-999.0000,9,  -999.00,9,   2193.9,2,   2313.2,2,     7.89,2,  3.1230
 3230CITHER2_1,  A17C,    24,  1,     23,     23,2,19940116,0735,-43.0902, -50.3012, 5525,   1199.9,   3.0560,  34.4070,2,  34.4070,2,    202.2,2,    199.8,2,    49.10,2,    33.06,2,     2.31,2,    0.612,2,    0.366,2, -999.000,9,-999.0000,9,  -999.00,9,   2215.9,2,   2325.0,2,     7.87,2,  2.9720
 3230CITHER2_1,  A17C,    24,  1,     22,     22,2,19940116,0735,-43.0902, -50.3012, 5525,   1399.3,   2.8210,  34.4850,2,  34.4820,2,    190.1,2,    189.7,2,    58.20,2,    33.66,2,     2.33,2,    0.514,2,    0.311,2, -999.000,9,-999.0000,9,  -999.00,9,   2231.0,2,   2335.1,2,     7.85,2,  2.7240
 3230CITHER2_1,  A17C,    24,  1,     21,     21,2,19940116,0735,-43.0902, -50.3012, 5525,   1602.2,   2.8640,  34.6060,2,  34.6050,2,    185.4,2,    184.4,2,    61.20,2,    32.88,2,     2.25,2,    0.216,2,    0.140,2, -999.000,9,-999.0000,9,  -999.00,9,   2234.2,2,   2343.0,2,     7.86,2,  2.7490
 3230CITHER2_1,  A17C,    24,  1,     20,     20,2,19940116,0735,-43.0902, -50.3012, 5525,   1800.0,   2.8630,  34.6850,2,  34.6870,2,    188.0,2,    188.4,2,    62.50,2,    31.42,2,     2.15,2,    0.137,2,    0.092,2, -999.000,9,-999.0000,9,  -999.00,9,   2232.4,2,   2346.6,2,     7.87,2,  2.7310
 3230CITHER2_1,  A17C,    24,  1,     19,     19,2,19940116,0735,-43.0902, -50.3012, 5525,   1999.6,   2.8920,  34.7390,2,  34.7400,2,    198.6,2,    194.8,2,    60.50,2,    29.82,2,     2.05,2,    0.097,2,    0.059,2, -999.000,9,-999.0000,9,  -999.00,9,   2227.2,2,   2349.3,2,     7.89,2,  2.7420
 3230CITHER2_1,  A17C,    24,  1,     18,     18,2,19940116,0735,-43.0902, -50.3012, 5525,   2202.2,   2.7670,  34.7700,2,  34.7610,2,    200.4,2,    199.1,2,    63.60,2,    29.09,2,     2.00,2,    0.065,2,    0.047,2, -999.000,9,-999.0000,9,  -999.00,9,   2228.3,2,   2351.6,2,     7.89,2,  2.6000
 3230CITHER2_1,  A17C,    24,  1,     17,     17,2,19940116,0735,-43.0902, -50.3012, 5525,   2402.2,   2.7230,  34.8090,2,  34.8080,2,    209.3,2,    208.8,2,    61.10,2,    27.55,2,     1.90,2,    0.043,2,    0.029,2, -999.000,9,-999.0000,9,  -999.00,9,   2220.5,2,   2352.5,2,     7.92,2,  2.5380
 3230CITHER2_1,  A17C,    24,  1,     16,     16,2,19940116,0735,-43.0902, -50.3012, 5525,   2603.3,   2.6500,  34.8380,2,  34.8400,2,    216.1,2,    219.8,2,    57.20,2,    26.37,2,     1.79,2,    0.031,2,    0.021,2, -999.000,9,-999.0000,9,  -999.00,9,   2211.5,2,   2353.6,2,     7.94,2,  2.4470
 3230CITHER2_1,  A17C,    24,  1,     15,     15,2,19940116,0735,-43.0902, -50.3012, 5525,   2800.7,   2.4370,  34.8220,2,  34.8220,2,    218.3,2,    215.7,2,    65.00,2,    27.16,2,     1.85,2,    0.027,2,    0.018,2, -999.000,9,-999.0000,9,  -999.00,9,   2218.8,2,   2356.6,2,     7.93,2,  2.2190
 3230CITHER2_1,  A17C,    24,  1,     14,     14,2,19940116,0735,-43.0902, -50.3012, 5525,   2998.9,   2.2540,  34.8200,2,  34.8180,2,    221.9,2,    219.1,2,    69.40,2,    27.22,2,     1.85,2,    0.030,2,    0.015,2, -999.000,9,-999.0000,9,  -999.00,9,   2220.5,2,   2358.1,2,     7.93,2,  2.0200
 3230CITHER2_1,  A17C,    24,  1,     13,     13,2,19940116,0735,-43.0902, -50.3012, 5525,   3300.7,   1.7370,  34.7630,2,  34.7640,2,    209.7,2,    205.8,2,    93.80,2,    30.15,2,     2.07,2,    0.053,2,    0.028,2, -999.000,9,-999.0000,9,  -999.00,9,   2243.0,2,   2369.2,2,     7.89,2,  1.4850
 3230CITHER2_1,  A17C,    24,  1,     12,     12,2,19940116,0735,-43.0902, -50.3012, 5525,   3599.7,   1.3420,  34.7370,2,  34.7440,2,    208.6,2,    207.7,2,   106.50,2,    31.54,2,     2.16,2,    0.066,2,    0.055,2, -999.000,9,-999.0000,9,  -999.00,9,   2251.6,2,   2373.2,2,     7.88,2,  1.0690
 3230CITHER2_1,  A17C,    24,  1,     11,     11,2,19940116,0735,-43.0902, -50.3012, 5525,   3801.2,   1.1510,  34.7260,2,  34.7280,2,    210.3,2,    208.9,2,   111.20,2,    31.85,2,     2.19,2,    0.082,2,    0.059,2, -999.000,9,-999.0000,9,  -999.00,9,   2253.4,2,   2374.0,2,     7.88,2,  0.8630
 3230CITHER2_1,  A17C,    24,  1,     10,     10,2,19940116,0735,-43.0902, -50.3012, 5525,   3995.7,   0.9360,  34.7120,2,  34.7110,2,    212.2,2,    210.8,2,   116.80,2,    32.30,2,     2.23,2,    0.101,2,    0.076,2, -999.000,9,-999.0000,9,  -999.00,9,   2257.0,2,   2374.0,2,     7.87,2,  0.6330
 3230CITHER2_1,  A17C,    24,  1,      9,      9,2,19940116,0735,-43.0902, -50.3012, 5525,   4197.4,   0.6930,  34.6980,2,  34.6960,2,    215.4,2,    213.8,2,   120.70,2,    32.60,2,     2.26,2,    0.113,2,    0.078,2, -999.000,9,-999.0000,9,  -999.00,9,   2258.6,2,   2376.3,2,     7.87,2,  0.3760
 3230CITHER2_1,  A17C,    24,  1,      8,      8,2,19940116,0735,-43.0902, -50.3012, 5525,   4402.0,   0.5360,  34.6880,2,  34.6880,2,    218.3,2,    217.3,2,   126.80,2,    33.06,2,     2.29,2,    0.131,2,    0.091,2, -999.000,9,-999.0000,9,  -999.00,9,   2260.3,2,   2375.7,2,     7.87,2,  0.2020
 3230CITHER2_1,  A17C,    24,  1,      7,      7,2,19940116,0735,-43.0902, -50.3012, 5525,   4596.3,   0.4020,  34.6820,2,  34.6820,2,    220.7,2,    219.9,2,   130.40,2,    33.26,2,     2.29,2,    0.127,2,    0.092,2, -999.000,9,-999.0000,9,  -999.00,9,   2260.9,2,   2375.7,2,     7.87,2,  0.0510
 3230CITHER2_1,  A17C,    24,  1,      6,      6,2,19940116,0735,-43.0902, -50.3012, 5525,   4796.9,   0.3270,  34.6770,2,  34.6780,2,    223.1,2,    222.4,2,   131.90,2,    33.56,2,     2.31,2,    0.141,2,    0.094,2, -999.000,9,-999.0000,9,  -999.00,9,   2262.0,2,   2377.4,2,     7.87,2, -0.0440
 3230CITHER2_1,  A17C,    24,  1,      5,      5,2,19940116,0735,-43.0902, -50.3012, 5525,   5001.0,   0.2900,  34.6750,2,  34.6750,2,    224.7,2,    222.5,2,   130.90,2,    33.47,2,     2.31,2,    0.126,2,    0.079,2, -999.000,9,-999.0000,9,  -999.00,9,   2262.2,2,   2378.2,2,     7.87,2, -0.1030
 3230CITHER2_1,  A17C,    24,  1,      4,      4,2,19940116,0735,-43.0902, -50.3012, 5525,   5197.7,   0.2710,  34.6730,2,  34.6730,2,    225.5,2,    223.2,2,   130.90,2,    33.58,2,     2.31,2,    0.134,2,    0.089,2, -999.000,9,-999.0000,9,  -999.00,9,   2263.8,2,   2379.0,2,     7.87,2, -0.1440
 3230CITHER2_1,  A17C,    24,  1,      3,      3,2,19940116,0735,-43.0902, -50.3012, 5525,   5400.3,   0.2650,  34.6700,2,  34.6720,2,    226.2,2,    225.1,2,   132.10,2,    33.48,2,     2.32,2,    0.178,2,    0.109,2, -999.000,9,-999.0000,9,  -999.00,9,   2263.4,2,   2375.6,2,     7.87,2, -0.1740
 3230CITHER2_1,  A17C,    24,  1,      2,      2,2,19940116,0735,-43.0902, -50.3012, 5525,   5614.5,   0.2160,  34.6680,2,  34.6690,2,    230.1,2,    229.6,2,   131.20,2,    33.39,2,     2.31,2,    0.293,2,    0.180,2, -999.000,9,-999.0000,9,  -999.00,9,   2259.7,2,   2375.9,2,     7.87,2, -0.2470
 3230CITHER2_1,  A17C,    24,  1,      1,      1,2,19940116,0735,-43.0902, -50.3012, 5525,   5615.4,   0.2160,  34.6680,2,  34.6680,2,    230.1,2,    227.1,2,   131.20,2,    33.35,2,     2.33,2,    0.302,2,    0.186,2, -999.000,9,-999.0000,9,  -999.00,9,   2260.6,2,   2375.9,2,     7.87,2, -0.2470
 3230CITHER2_1,  A17C,    25,  1,     32,     32,2,19940116,1407,-42.6792, -49.9617, 5683,      6.3,  16.1390,  35.0030,2,  35.0060,2,    245.1,2,    251.3,2,     0.40,2,     0.04,2,     0.22,2,    2.969,2,    1.632,2, -999.000,9,-999.0000,9,  -999.00,9,   2029.5,2,   -999.0,9,     8.35,2, 16.1380
 3230CITHER2_1,  A17C,    25,  1,     31,     31,2,19940116,1407,-42.6792, -49.9617, 5683,     56.3,  16.4630,  35.3410,2,  35.4240,2,    230.8,2,    235.9,2,     1.10,2,     1.12,2,     0.26,2,    2.817,2,    1.551,2, -999.000,9,-999.0000,9,  -999.00,9,   2054.8,2,   -999.0,9,     8.27,2, 16.4540
 3230CITHER2_1,  A17C,    25,  1,     30,     30,2,19940116,1407,-42.6792, -49.9617, 5683,    101.8,  14.6660,  35.5760,2,  35.5750,2,    220.6,2,    221.8,2,     2.30,2,     6.78,2,     0.55,2,    2.814,2,    1.549,2, -999.000,9,-999.0000,9,  -999.00,9,   2092.7,2,   -999.0,9,     8.20,2, 14.6510
 3230CITHER2_1,  A17C,    25,  1,     29,     29,2,19940116,1407,-42.6792, -49.9617, 5683,    202.0,  12.0780,  35.1230,2,  35.1620,2,    234.6,2,    229.4,2,     3.30,2,    11.04,2,     0.82,2,    2.970,2,    1.587,2, -999.000,9,-999.0000,9,  -999.00,9,   2103.0,2,   -999.0,9,     8.15,2, 12.0510
 3230CITHER2_1,  A17C,    25,  1,     28,     28,2,19940116,1407,-42.6792, -49.9617, 5683,    301.7,   7.7860,  34.4770,2,  34.4680,2,    233.6,2,    239.5,2,     6.90,2,    20.35,2,     1.43,2,    3.399,2,    1.754,2, -999.000,9,-999.0000,9,  -999.00,9,   2127.6,2,   -999.0,9,     8.04,2,  7.7560
 3230CITHER2_1,  A17C,    25,  1,     27,     27,2,19940116,1407,-42.6792, -49.9617, 5683,    423.8,   5.3740,  34.2280,2,  34.2290,2,    264.9,2,    269.1,2,     9.50,2,    23.68,2,     1.66,2,    4.163,2,    2.127,2, -999.000,9,-999.0000,9,  -999.00,9,   2125.4,2,   -999.0,9,     8.00,2,  5.3390
 3230CITHER2_1,  A17C,    25,  1,     26,     26,2,19940116,1407,-42.6792, -49.9617, 5683,    600.4,   4.3730,  34.2000,2,  34.2000,2,    267.6,2,    266.0,2,    14.70,2,    26.85,2,     1.85,2,    3.759,2,    1.929,2, -999.000,9,-999.0000,9,  -999.00,9,   2149.5,2,   -999.0,9,     7.97,2,  4.3280
 3230CITHER2_1,  A17C,    25,  1,     25,     25,2,19940116,1407,-42.6792, -49.9617, 5683,    800.5,   3.6870,  34.2160,2,  34.2180,2,    256.6,2,    252.3,2,    23.30,2,    29.69,2,     2.03,2,    2.914,2,    1.472,2, -999.000,9,-999.0000,9,  -999.00,9,   2168.2,2,   -999.0,9,     7.94,2,  3.6300
 3230CITHER2_1,  A17C,    25,  1,     24,     24,2,19940116,1407,-42.6792, -49.9617, 5683,   1002.1,   2.8800,  34.2450,2,  34.2490,2,    238.6,2,    238.2,2,    34.90,2,    32.09,2,     2.20,2,    2.411,2,    1.222,2, -999.000,9,-999.0000,9,  -999.00,9,   2191.6,2,   -999.0,9,     7.90,2,  2.8120
 3230CITHER2_1,  A17C,    25,  1,     23,     23,2,19940116,1407,-42.6792, -49.9617, 5683,   1002.2,   2.8790,  34.2460,2,  34.2440,2,    238.6,2,    238.5,2,    35.00,2,    32.08,2,     2.20,2,    2.471,2,    1.240,2, -999.000,9,-999.0000,9,  -999.00,9,   2191.2,2,   -999.0,9,     7.90,2,  2.8130
 3230CITHER2_1,  A17C,    25,  1,     22,     22,2,19940116,1407,-42.6792, -49.9617, 5683,   1299.3,   2.6240,  34.4120,2,  34.4110,2,    195.6,2,    196.4,2,    56.00,2,    34.38,2,     2.37,2,    0.969,2,    0.499,2, -999.000,9,-999.0000,9,  -999.00,9,   -999.0,9,   -999.0,9,     7.85,2,  2.5370
 3230CITHER2_1,  A17C,    25,  1,     21,     21,2,19940116,1407,-42.6792, -49.9617, 5683,   1598.6,   2.7240,  34.5800,2,  34.5780,2,    180.9,2,    181.2,2,    64.50,2,    33.39,2,     2.31,2,    0.276,2,    0.153,2, -999.000,9,-999.0000,9,  -999.00,9,   -999.0,9,   -999.0,9,     7.85,2,  2.6110
 3230CITHER2_1,  A17C,    25,  1,     20,     20,2,19940116,1407,-42.6792, -49.9617, 5683,   1798.4,   2.7230,  34.6500,2,  34.6450,2,    182.0,2,    181.6,2,    66.70,2,    32.70,2,     2.24,2,    0.174,2,    0.099,2, -999.000,9,-999.0000,9,  -999.00,9,   -999.0,9,   -999.0,9,     7.86,2,  2.5930
 3230CITHER2_1,  A17C,    25,  1,     19,     19,2,19940116,1407,-42.6792, -49.9617, 5683,   1999.1,   2.8480,  34.7590,2,  34.7510,2,    188.1,2,    196.0,2,    61.10,2,    29.93,2,     2.02,2,    0.082,2,    0.056,2, -999.000,9,-999.0000,9,  -999.00,9,   -999.0,9,   -999.0,9,     7.90,2,  2.6980
 3230CITHER2_1,  A17C,    25,  1,     18,     18,2,19940116,1407,-42.6792, -49.9617, 5683,   2200.5,   2.9920,  34.8260,2,  34.8220,2,    209.0,2,    212.6,2,    51.30,2,    27.14,2,     1.82,2,    0.048,2,    0.050,2, -999.000,9,-999.0000,9,  -999.00,9,   -999.0,9,   -999.0,9,     7.93,2,  2.8210
 3230CITHER2_1,  A17C,    25,  1,     17,     17,2,19940116,1407,-42.6792, -49.9617, 5683,   2398.9,   2.9090,  34.8440,2,  34.8470,2,    219.0,2,    219.2,2,    50.50,2,    26.15,2,     1.75,2,    0.035,2,    0.041,2, -999.000,9,-999.0000,9,  -999.00,9,   -999.0,9,   -999.0,9,     7.94,2,  2.7210
 3230CITHER2_1,  A17C,    25,  1,     16,     16,2,19940116,1407,-42.6792, -49.9617, 5683,   2600.0,   2.8210,  34.8580,2,  34.8590,2,    227.6,2,    224.7,2,    49.90,2,    25.26,2,     1.71,2,    0.031,2,    0.037,2, -999.000,9,-999.0000,9,  -999.00,9,   -999.0,9,   -999.0,9,     7.95,2,  2.6150
 3230CITHER2_1,  A17C,    25,  1,     15,     15,2,19940116,1407,-42.6792, -49.9617, 5683,   2797.8,   2.4790,  34.8210,2,  34.8210,2,    216.8,2,    215.7,2,    63.70,2,    27.06,2,     1.84,2,    0.029,2,    0.031,2, -999.000,9,-999.0000,9,  -999.00,9,   -999.0,9,   -999.0,9,     7.93,2,  2.2600
 3230CITHER2_1,  A17C,    25,  1,     14,     14,2,19940116,1407,-42.6792, -49.9617, 5683,   2999.8,   2.2850,  34.8140,2,  34.8140,2,    215.4,2,    215.7,2,    71.00,2,    27.71,2,     1.87,2,    0.025,2,    0.018,2, -999.000,9,-999.0000,9,  -999.00,9,   -999.0,9,   -999.0,9,     7.93,2,  2.0500
 3230CITHER2_1,  A17C,    25,  1,     13,     13,2,19940116,1407,-42.6792, -49.9617, 5683,   3298.4,   1.8680,  34.7750,2,  34.7750,2,    208.7,2,    208.3,2,    90.60,2,    29.89,2,     2.02,2,    0.037,2,    0.039,2, -999.000,9,-999.0000,9,  -999.00,9,   -999.0,9,   -999.0,9,     7.90,2,  1.6130
 3230CITHER2_1,  A17C,    25,  1,     12,     12,2,19940116,1407,-42.6792, -49.9617, 5683,   3602.9,   1.4400,  34.7440,2,  34.7400,2,    206.1,2,    206.2,2,   106.60,2,    31.56,2,     2.13,2,    0.064,2,    0.049,2, -999.000,9,-999.0000,9,  -999.00,9,   -999.0,9,   -999.0,9,     7.88,2,  1.1640
 3230CITHER2_1,  A17C,    25,  1,     11,     11,2,19940116,1407,-42.6792, -49.9617, 5683,   3800.1,   1.2550,  34.7340,2,  34.7460,2,    208.7,2,    208.8,2,   109.90,2,    31.61,2,     2.16,2,    0.073,2,    0.048,2, -999.000,9,-999.0000,9,  -999.00,9,   -999.0,9,   -999.0,9,     7.88,2,  0.9640
 3230CITHER2_1,  A17C,    25,  1,     10,     10,2,19940116,1407,-42.6792, -49.9617, 5683,   4000.5,   1.0370,  34.7190,2,  34.7210,2,    209.9,2,    211.9,2,   114.40,2,    32.47,2,     2.20,2,    0.095,2,    0.063,2, -999.000,9,-999.0000,9,  -999.00,9,   -999.0,9,   -999.0,9,     7.88,2,  0.7310
 3230CITHER2_1,  A17C,    25,  1,      9,      9,2,19940116,1407,-42.6792, -49.9617, 5683,   4201.1,   0.8050,  34.7020,2,  34.7020,2,    212.4,2,    213.3,2,   120.70,2,    32.87,2,     2.25,2,    0.110,2,    0.070,2, -999.000,9,-999.0000,9,  -999.00,9,   -999.0,9,   -999.0,9,     7.87,2,  0.4840
 3230CITHER2_1,  A17C,    25,  1,      8,      8,2,19940116,1407,-42.6792, -49.9617, 5683,   4401.6,   0.6230,  34.6930,2,  34.6920,2,    215.2,2,    215.5,2,   122.80,2,    33.18,2,     2.27,2,    0.112,2,    0.079,2, -999.000,9,-999.0000,9,  -999.00,9,   -999.0,9,   -999.0,9,     7.87,2,  0.2860
 3230CITHER2_1,  A17C,    25,  1,      7,      7,2,19940116,1407,-42.6792, -49.9617, 5683,   4598.3,   0.4660,  34.6850,2,  34.6860,2,    218.9,2,    218.2,2,   125.20,2,    33.18,2,     2.29,2,    0.119,2,    0.083,2, -999.000,9,-999.0000,9,  -999.00,9,   -999.0,9,   -999.0,9,     7.87,2,  0.1130
 3230CITHER2_1,  A17C,    25,  1,      6,      6,2,19940116,1407,-42.6792, -49.9617, 5683,   4799.9,   0.3730,  34.6790,2,  34.6790,2,    221.1,2,    220.6,2,   127.00,2,    33.39,2,     2.30,2,    0.113,2,    0.077,2, -999.000,9,-999.0000,9,  -999.00,9,   -999.0,9,   -999.0,9,     7.87,2,  0.0000
 3230CITHER2_1,  A17C,    25,  1,      5,      5,2,19940116,1407,-42.6792, -49.9617, 5683,   4999.5,   0.3210,  34.6770,2,  34.6740,2,    222.8,2,    222.0,2,   127.30,2,    33.19,2,     2.31,2,    0.125,2,    0.082,2, -999.000,9,-999.0000,9,  -999.00,9,   -999.0,9,   -999.0,9,     7.87,2, -0.0730
 3230CITHER2_1,  A17C,    25,  1,      4,      4,2,19940116,1407,-42.6792, -49.9617, 5683,   5202.6,   0.2950,  34.6740,2,  34.6740,2,    224.0,2,    223.0,2,   128.20,2,    33.40,2,     2.31,2,    0.132,2,    0.090,2, -999.000,9,-999.0000,9,  -999.00,9,   -999.0,9,   -999.0,9,     7.87,2, -0.1220
 3230CITHER2_1,  A17C,    25,  1,      3,      3,2,19940116,1407,-42.6792, -49.9617, 5683,   5398.2,   0.2840,  34.6720,2,  34.6740,2,    224.7,2,    223.3,2,   129.30,2,    33.41,2,     2.31,2,    0.155,2,    0.093,2, -999.000,9,-999.0000,9,  -999.00,9,   -999.0,9,   -999.0,9,     7.87,2, -0.1550
 3230CITHER2_1,  A17C,    25,  1,      2,      2,2,19940116,1407,-42.6792, -49.9617, 5683,   5599.1,   0.2940,  34.6710,2,  34.6740,2,    224.5,2,    223.4,2,   129.30,2,    33.46,2,     2.33,2,    0.176,2,    0.118,2, -999.000,9,-999.0000,9,  -999.00,9,   -999.0,9,   -999.0,9,     7.87,2, -0.1700
 3230CITHER2_1,  A17C,    25,  1,      1,      1,2,19940116,1407,-42.6792, -49.9617, 5683,   5787.6,   0.3040,  34.6710,2,  34.6730,2,    223.7,2,    223.2,2,   129.90,2,    33.62,2,     2.33,2,    0.182,2,    0.118,2, -999.000,9,-999.0000,9,  -999.00,9,   -999.0,9,   -999.0,9,     7.88,2, -0.1840