BOTTLE,20030515WHPSIOSA
EXPOCODE,SECT_ID,STNNBR,CASTNO,SAMPNO,BTLNBR,BTLNBR_FLAG_W,DATE,TIME,LATITUDE,LONGITUDE,DEPTH,CTDPRS,CTDTMP,CTDSAL,CTDSAL_FLAG_W,SALNTY,SALNTY_FLAG_W,CTDOXY,CTDOXY_FLAG_W,OXYGEN,OXYGEN_FLAG_W,SILCAT,SILCAT_FLAG_W,NITRAT,NITRAT_FLAG_W,PHSPHT,PHSPHT_FLAG_W,CFC-11,CFC-11_FLAG_W,CFC-12,CFC-12_FLAG_W,TRITUM,TRITUM_FLAG_W,HELIUM,HELIUM_FLAG_W,DELHE3,DELHE3_FLAG_W,TCARBN,TCARBN_FLAG_W,ALKALI,ALKALI_FLAG_W,PH,PH_FLAG_W,THETA
,,,,,,,,,,,,DBAR,ITS-90,PSS-78,,PSS-78,,UMOL/KG,,UMOL/KG,,UMOL/KG,,UMOL/KG,,UMOL/KG,,PMOL/KG,,PMOL/KG,,TU,,NMOL/KG,,PERCNT,,UMOL/KG,,UMOL/KG,,,,DEG C
 3230CITHER2_2,  A17N,   156,  1,     32,     32,2,19940301,0644, -6.4812, -30.2177, 5209,      5.9,  28.1490,  36.1600,2,  36.1600,2,    196.3,2,    197.3,2,     1.10,2,     0.00,2,     0.08,2,    1.640,2,    0.943,2, -999.000,9,-999.0000,9,  -999.00,9,   -999.0,9,   -999.0,9,     8.38,2, 28.1480
 3230CITHER2_2,  A17N,   156,  1,     31,     31,2,19940301,0644, -6.4812, -30.2177, 5209,     52.4,  28.1400,  36.2240,2,  36.2440,2,    196.4,2,    197.9,2,     1.10,2,     0.00,2,     0.09,2,    1.642,2,    0.953,2, -999.000,9,-999.0000,9,  -999.00,9,   -999.0,9,   -999.0,9,     8.38,2, 28.1280
 3230CITHER2_2,  A17N,   156,  1,     30,     30,2,19940301,0644, -6.4812, -30.2177, 5209,    126.1,  22.5240,  36.6150,2,  36.6000,2,    202.0,2,    196.0,2,     1.50,2,     0.65,2,     0.30,2,    1.955,2,    1.084,2, -999.000,9,-999.0000,9,  -999.00,9,   -999.0,9,   -999.0,9,     8.30,2, 22.4980
 3230CITHER2_2,  A17N,   156,  1,     29,     29,2,19940301,0644, -6.4812, -30.2177, 5209,    203.7,  11.3070,  35.1120,2,  35.1210,2,     88.5,2,     85.9,2,    10.70,2,    27.81,2,     1.82,2,    0.677,2,    0.373,2, -999.000,9,-999.0000,9,  -999.00,9,   -999.0,9,   -999.0,9,     7.91,2, 11.2810
 3230CITHER2_2,  A17N,   156,  1,     28,     28,2,19940301,0644, -6.4812, -30.2177, 5209,    402.5,   8.2950,  34.7460,2,  34.7430,2,     76.9,2,     80.0,2,    17.80,2,    34.02,2,     2.24,2,    0.149,2,    0.083,2, -999.000,9,-999.0000,9,  -999.00,9,   -999.0,9,   -999.0,9,     7.80,2,  8.2530
 3230CITHER2_2,  A17N,   156,  1,     27,     27,2,19940301,0644, -6.4812, -30.2177, 5209,    603.6,   5.9960,  34.5290,2,  34.5290,2,    124.4,2,    128.7,2,    23.90,2,    35.13,2,     2.31,2,    0.121,2,    0.062,2, -999.000,9,-999.0000,9,  -999.00,9,   -999.0,9,   -999.0,9,     7.83,2,  5.9430
 3230CITHER2_2,  A17N,   156,  1,     26,     26,2,19940301,0644, -6.4812, -30.2177, 5209,    799.9,   4.5820,  34.4770,2,  34.4770,2,    146.7,2,    148.5,2,    31.80,2,    35.77,2,     2.37,2,    0.019,2,    0.009,2, -999.000,9,-999.0000,9,  -999.00,9,   -999.0,9,   -999.0,9,     7.84,2,  4.5190
 3230CITHER2_2,  A17N,   156,  1,     25,     25,2,19940301,0644, -6.4812, -30.2177, 5209,   1000.7,   4.0010,  34.5790,2,  34.5820,2,    176.1,2,    174.0,2,    34.70,2,    32.85,2,     2.20,2,    0.028,2,    0.014,2, -999.000,9,-999.0000,9,  -999.00,9,   -999.0,9,   -999.0,9,     7.88,2,  3.9250
 3230CITHER2_2,  A17N,   156,  1,     24,     24,2,19940301,0644, -6.4812, -30.2177, 5209,   1201.5,   4.3160,  34.8070,2,  34.8040,2,    184.8,2,    184.6,2,    26.50,2,    29.01,2,     1.94,2,    0.004,2,    0.007,2, -999.000,9,-999.0000,9,  -999.00,9,   -999.0,9,   -999.0,9,     7.92,2,  4.2200
 3230CITHER2_2,  A17N,   156,  1,     23,     23,2,19940301,0644, -6.4812, -30.2177, 5209,   1400.0,   4.3100,  34.9080,2,  34.9060,2,    209.7,2,    208.6,2,    21.90,2,    24.63,2,     1.69,2,    0.019,2,    0.018,2, -999.000,9,-999.0000,9,  -999.00,9,   -999.0,9,   -999.0,9,     7.96,2,  4.1960
 3230CITHER2_2,  A17N,   156,  1,     22,     22,2,19940301,0644, -6.4812, -30.2177, 5209,   1502.8,   4.2690,  34.9420,2,  34.9410,2,    222.3,2,    220.7,2,    20.00,2,    23.15,2,     1.56,2,    0.029,2,    0.019,2, -999.000,9,-999.0000,9,  -999.00,9,   -999.0,9,   -999.0,9,     7.99,2,  4.1460
 3230CITHER2_2,  A17N,   156,  1,     21,     21,2,19940301,0644, -6.4812, -30.2177, 5209,   1600.8,   4.1790,  34.9640,2,  34.9630,2,    233.9,2,    231.5,2,    18.70,2,    21.89,2,     1.47,2,    0.037,2,    0.025,2, -999.000,9,-999.0000,9,  -999.00,9,   -999.0,9,   -999.0,9,     8.00,2,  4.0470
 3230CITHER2_2,  A17N,   156,  1,     20,     20,2,19940301,0644, -6.4812, -30.2177, 5209,   1701.0,   4.0680,  34.9820,2,  34.9810,2,    244.2,2,    242.4,2,    17.40,2,    20.68,2,     1.37,2,    0.096,2,    0.057,2, -999.000,9,-999.0000,9,  -999.00,9,   -999.0,9,   -999.0,9,     8.02,2,  3.9280
 3230CITHER2_2,  A17N,   156,  1,     19,     19,2,19940301,0644, -6.4812, -30.2177, 5209,   1803.3,   3.8910,  34.9790,2,  34.9800,2,    249.1,2,    247.3,2,    17.80,2,    20.38,2,     1.35,2,    0.078,2,    0.045,2, -999.000,9,-999.0000,9,  -999.00,9,   -999.0,9,   -999.0,9,     8.02,2,  3.7440
 3230CITHER2_2,  A17N,   156,  1,     18,     18,2,19940301,0644, -6.4812, -30.2177, 5209,   2000.8,   3.5330,  34.9630,2,  34.9640,2,    249.8,2,    250.5,2,    21.20,2,    20.53,2,     1.36,2,    0.023,2,    0.012,2, -999.000,9,-999.0000,9,  -999.00,9,   -999.0,9,   -999.0,9,     8.02,2,  3.3720
 3230CITHER2_2,  A17N,   156,  1,     17,     17,2,19940301,0644, -6.4812, -30.2177, 5209,   2199.7,   3.2760,  34.9450,2,  34.9460,2,    249.1,2,    247.8,2,    25.60,2,    21.07,2,     1.41,2,    0.010,2,    0.001,2, -999.000,9,-999.0000,9,  -999.00,9,   -999.0,9,   -999.0,9,     8.02,2,  3.1000
 3230CITHER2_2,  A17N,   156,  1,     16,     16,2,19940301,0644, -6.4812, -30.2177, 5209,   2400.6,   3.0140,  34.9250,2,  34.9250,2,    244.9,2,    243.9,2,    31.80,2,    22.03,2,     1.47,2,    0.001,2,    0.000,2, -999.000,9,-999.0000,9,  -999.00,9,   -999.0,9,   -999.0,9,     8.01,2,  2.8240
 3230CITHER2_2,  A17N,   156,  1,     15,     15,2,19940301,0644, -6.4812, -30.2177, 5209,   2698.5,   2.8680,  34.9260,2,  34.9260,2,    248.0,2,    248.0,2,    32.30,2,    21.62,2,     1.44,2,    0.004,2,    0.005,2, -999.000,9,-999.0000,9,  -999.00,9,   -999.0,9,   -999.0,9,     8.02,2,  2.6510
 3230CITHER2_2,  A17N,   156,  1,     14,     14,2,19940301,0644, -6.4812, -30.2177, 5209,   2998.1,   2.7490,  34.9230,2,  34.9230,2,    252.9,2,    251.8,2,    32.20,2,    21.12,2,     1.41,2,    0.011,2,    0.010,2, -999.000,9,-999.0000,9,  -999.00,9,   -999.0,9,   -999.0,9,     8.02,2,  2.5040
 3230CITHER2_2,  A17N,   156,  1,     13,     13,2,19940301,0644, -6.4812, -30.2177, 5209,   3199.1,   2.6820,  34.9220,2,  34.9160,2,    255.3,2,    254.6,2,    32.00,2,    20.97,2,     1.39,2,    0.014,2,    0.010,2, -999.000,9,-999.0000,9,  -999.00,9,   -999.0,9,   -999.0,9,     8.02,2,  2.4170
 3230CITHER2_2,  A17N,   156,  1,     12,     12,2,19940301,0644, -6.4812, -30.2177, 5209,   3400.7,   2.5830,  34.9150,2,  34.9170,2,    257.2,2,    256.5,2,    32.70,2,    20.84,2,     1.39,2,    0.011,2,    0.015,2, -999.000,9,-999.0000,9,  -999.00,9,   -999.0,9,   -999.0,9,     8.02,2,  2.2990
 3230CITHER2_2,  A17N,   156,  1,     11,     11,2,19940301,0644, -6.4812, -30.2177, 5209,   3549.3,   2.5250,  34.9110,2,  34.9080,2,    257.8,2,    257.6,2,    33.60,2,    20.90,2,     1.39,2,    0.013,2,    0.010,2, -999.000,9,-999.0000,9,  -999.00,9,   -999.0,9,   -999.0,9,     8.02,2,  2.2270
 3230CITHER2_2,  A17N,   156,  1,     10,     10,2,19940301,0644, -6.4812, -30.2177, 5209,   3700.2,   2.4140,  34.9000,2,  34.9060,2,    258.6,2,    258.4,2,    35.30,2,    20.90,2,     1.39,2,    0.023,2,    0.013,2, -999.000,9,-999.0000,9,  -999.00,9,   -999.0,9,   -999.0,9,     8.02,2,  2.1020
 3230CITHER2_2,  A17N,   156,  1,      9,      9,2,19940301,0644, -6.4812, -30.2177, 5209,   3849.1,   2.2450,  34.8850,2,  34.8850,2,    256.1,2,    256.0,2,    41.40,2,    21.67,2,     1.46,2,    0.020,2,    0.013,2, -999.000,9,-999.0000,9,  -999.00,9,   -999.0,9,   -999.0,9,     8.01,2,  1.9210
 3230CITHER2_2,  A17N,   156,  1,      8,      8,2,19940301,0644, -6.4812, -30.2177, 5209,   4000.8,   1.9300,  34.8490,2,  34.8470,2,    249.1,2,    247.9,2,    56.20,2,    23.62,2,     1.61,2,    0.008,2,    0.005,2, -999.000,9,-999.0000,9,  -999.00,9,   -999.0,9,   -999.0,9,     7.99,2,  1.5980
 3230CITHER2_2,  A17N,   156,  1,      7,      7,2,19940301,0644, -6.4812, -30.2177, 5209,   4196.3,   1.5520,  34.8070,2,  34.8080,2,    240.3,2,    239.3,2,    74.30,2,    26.22,2,     1.79,2,   -0.002,2,    0.000,2, -999.000,9,-999.0000,9,  -999.00,9,   -999.0,9,   -999.0,9,     7.97,2,  1.2090
 3230CITHER2_2,  A17N,   156,  1,      6,      6,2,19940301,0644, -6.4812, -30.2177, 5209,   4400.7,   1.1180,  34.7610,2,  34.7590,2,    231.2,2,    231.4,2,    93.80,2,    28.96,2,     1.96,2,   -0.004,2,   -0.003,2, -999.000,9,-999.0000,9,  -999.00,9,   -999.0,9,   -999.0,9,     7.94,2,  0.7660
 3230CITHER2_2,  A17N,   156,  1,      5,      5,2,19940301,0644, -6.4812, -30.2177, 5209,   4599.7,   0.9280,  34.7370,2,  34.7390,2,    226.6,2,    227.7,2,   102.40,2,    30.14,2,     2.05,2,    0.006,2,   -0.001,2, -999.000,9,-999.0000,9,  -999.00,9,   -999.0,9,   -999.0,9,     7.93,2,  0.5590
 3230CITHER2_2,  A17N,   156,  1,      4,      4,2,19940301,0644, -6.4812, -30.2177, 5209,   4798.8,   0.8510,  34.7270,2,  34.7280,2,    224.8,2,    227.1,2,   106.20,2,    30.74,2,     2.09,2,    0.011,2,    0.008,2, -999.000,9,-999.0000,9,  -999.00,9,   -999.0,9,   -999.0,9,     7.92,2,  0.4620
 3230CITHER2_2,  A17N,   156,  1,      3,      3,2,19940301,0644, -6.4812, -30.2177, 5209,   4997.0,   0.7810,  34.7180,2,  34.7190,2,    223.1,2,    224.2,2,   109.80,2,    31.18,2,     2.12,2,    0.008,2,    0.005,2, -999.000,9,-999.0000,9,  -999.00,9,   -999.0,9,   -999.0,9,     7.92,2,  0.3710
 3230CITHER2_2,  A17N,   156,  1,      2,      2,2,19940301,0644, -6.4812, -30.2177, 5209,   5197.4,   0.6580,  34.7020,2,  34.7030,2,    221.7,2,    222.4,2,   115.00,2,    32.17,2,     2.17,2,    0.024,2,    0.015,2, -999.000,9,-999.0000,9,  -999.00,9,   -999.0,9,   -999.0,9,     7.91,2,  0.2290
 3230CITHER2_2,  A17N,   156,  1,      1,      1,2,19940301,0644, -6.4812, -30.2177, 5209,   5309.3,   0.6090,  34.6950,2,  34.6980,2,    220.0,2,    221.0,2,   117.60,2,    32.47,2,     2.19,2,    0.024,2,    0.012,2, -999.000,9,-999.0000,9,  -999.00,9,   -999.0,9,   -999.0,9,     7.90,2,  0.1680
 3230CITHER2_2,  A17N,   157,  1,     32,     32,2,19940301,1256, -5.9865, -30.1907, 5179,      7.0,  28.3070,  35.9250,2,  35.9280,2,    194.2,2,    197.6,2,     1.00,2,     0.00,2,     0.07,2,    1.639,2,    0.941,2, -999.000,9,-999.0000,9,  -999.00,9,   2008.3,2,   2365.9,2,     8.37,2, 28.3050
 3230CITHER2_2,  A17N,   157,  1,     31,     31,2,19940301,1256, -5.9865, -30.1907, 5179,     42.6,  28.0820,  35.9210,2,  35.9250,2,    198.3,2,    198.0,2,     1.00,2,     0.00,2,     0.06,2,    1.652,2,    0.944,2, -999.000,9,-999.0000,9,  -999.00,9,   2008.2,2,   2364.8,2,     8.37,2, 28.0720
 3230CITHER2_2,  A17N,   157,  1,     30,     30,2,19940301,1256, -5.9865, -30.1907, 5179,    106.5,  25.7570,  36.7830,2,  36.7780,2,    211.3,2,    207.8,2,     1.00,2,     0.00,2,     0.11,2,    1.801,2,    1.009,2, -999.000,9,-999.0000,9,  -999.00,9,   2057.9,2,   2422.0,2,     8.36,2, 25.7330
 3230CITHER2_2,  A17N,   157,  1,     29,     29,2,19940301,1256, -5.9865, -30.1907, 5179,    200.5,  12.2590,  35.1850,2,  35.1760,2,    115.3,2,    115.2,2,     9.00,2,    23.03,2,     1.58,2,    1.023,2,    0.535,2, -999.000,9,-999.0000,9,  -999.00,9,   2181.0,2,   2325.9,2,     7.96,2, 12.2320
 3230CITHER2_2,  A17N,   157,  1,     28,     28,2,19940301,1256, -5.9865, -30.1907, 5179,    400.5,   8.3580,  34.7500,2,  34.7480,2,     85.0,2,     83.8,2,    17.50,2,    34.33,2,     2.21,2,    0.201,2,    0.112,2, -999.000,9,-999.0000,9,  -999.00,9,   2243.3,3,   2310.3,2,     7.79,2,  8.3160
 3230CITHER2_2,  A17N,   157,  1,     27,     27,2,19940301,1256, -5.9865, -30.1907, 5179,    601.4,   5.8280,  34.5200,2,  34.5190,2,    131.4,2,    133.3,2,    24.40,2,    34.78,2,     2.30,2,    0.134,2,    0.075,2, -999.000,9,-999.0000,9,  -999.00,9,   2219.1,2,   2307.8,2,     7.82,2,  5.7760
 3230CITHER2_2,  A17N,   157,  1,     26,     26,2,19940301,1256, -5.9865, -30.1907, 5179,    801.1,   4.6120,  34.4640,2,  34.4650,2,    155.0,2,    157.8,2,    30.70,2,    34.49,2,     2.31,2,    0.091,2,    0.051,2, -999.000,9,-999.0000,9,  -999.00,9,   2215.3,2,   2310.7,2,     7.84,2,  4.5490
 3230CITHER2_2,  A17N,   157,  1,     25,     25,2,19940301,1256, -5.9865, -30.1907, 5179,   1000.8,   4.1810,  34.5700,2,  34.5730,2,    164.3,2,    163.6,2,    34.10,2,    33.78,2,     2.26,2,    0.058,2,    0.032,2, -999.000,9,-999.0000,9,  -999.00,9,   2219.9,2,   2321.4,2,     7.85,2,  4.1040
 3230CITHER2_2,  A17N,   157,  1,     24,     24,2,19940301,1256, -5.9865, -30.1907, 5179,   1200.5,   4.3750,  34.8050,2,  34.8050,2,    185.7,2,    183.9,2,    26.50,2,    28.28,2,     1.93,2,    0.008,2,    0.012,2, -999.000,9,-999.0000,9,  -999.00,9,   2204.9,2,   2327.7,2,     7.91,2,  4.2780
 3230CITHER2_2,  A17N,   157,  1,     23,     23,2,19940301,1256, -5.9865, -30.1907, 5179,   1400.0,   4.3500,  34.9110,2,  34.9110,2,    208.5,2,    208.5,2,    21.80,2,    24.39,2,     1.67,2,    0.023,2,    0.016,2, -999.000,9,-999.0000,9,  -999.00,9,   2188.8,2,   2328.3,2,     7.95,2,  4.2350
 3230CITHER2_2,  A17N,   157,  1,     22,     22,2,19940301,1256, -5.9865, -30.1907, 5179,   1501.7,   4.2860,  34.9470,2,  34.9480,2,    220.1,2,    222.2,2,    19.60,2,    22.94,2,     1.54,2,    0.036,2,    0.026,2, -999.000,9,-999.0000,9,  -999.00,9,   2195.4,3,   2328.6,2,     7.97,2,  4.1620
 3230CITHER2_2,  A17N,   157,  1,     21,     21,2,19940301,1256, -5.9865, -30.1907, 5179,   1600.1,   4.1630,  34.9610,2,  34.9640,2,    230.5,2,    230.5,2,    19.00,2,    22.25,2,     1.48,2,    0.027,2,    0.019,2, -999.000,9,-999.0000,9,  -999.00,9,   2177.2,2,   2328.5,2,     7.98,2,  4.0320
 3230CITHER2_2,  A17N,   157,  1,     20,     20,2,19940301,1256, -5.9865, -30.1907, 5179,   1699.8,   3.9910,  34.9720,2,  34.9730,2,    239.7,2,    240.2,2,    18.50,2,    21.21,2,     1.39,2,    0.029,2,    0.021,2, -999.000,9,-999.0000,9,  -999.00,9,   2172.1,2,   2329.0,2,     8.00,2,  3.8520
 3230CITHER2_2,  A17N,   157,  1,     19,     19,2,19940301,1256, -5.9865, -30.1907, 5179,   1798.8,   3.8860,  34.9770,2,  34.9730,2,    244.7,2,    246.0,2,    18.00,2,    20.76,2,     1.35,2,    0.045,2,    0.028,2, -999.000,9,-999.0000,9,  -999.00,9,   2170.1,2,   2330.7,2,     8.00,2,  3.7390
 3230CITHER2_2,  A17N,   157,  1,     18,     18,2,19940301,1256, -5.9865, -30.1907, 5179,   2000.7,   3.5810,  34.9660,2,  34.9690,2,    250.7,2,    249.7,2,    20.70,2,    20.65,2,     1.35,2,    0.023,2,    0.017,2, -999.000,9,-999.0000,9,  -999.00,9,   2187.0,3,   2333.4,2,     8.01,2,  3.4200
 3230CITHER2_2,  A17N,   157,  1,     17,     17,2,19940301,1256, -5.9865, -30.1907, 5179,   2198.9,   3.2950,  34.9470,2,  34.9480,2,    248.4,2,    247.8,2,    25.40,2,    21.19,2,     1.40,2,    0.006,2,    0.004,2, -999.000,9,-999.0000,9,  -999.00,9,   2174.8,2,   2336.7,2,     8.01,2,  3.1190
 3230CITHER2_2,  A17N,   157,  1,     16,     16,2,19940301,1256, -5.9865, -30.1907, 5179,   2400.1,   3.0540,  34.9350,2,  34.9330,2,    246.7,2,    246.5,2,    30.10,2,    21.84,2,     1.43,2,    0.007,2,    0.006,2, -999.000,9,-999.0000,9,  -999.00,9,   2180.6,2,   2338.7,2,     8.01,2,  2.8630
 3230CITHER2_2,  A17N,   157,  1,     15,     15,2,19940301,1256, -5.9865, -30.1907, 5179,   2699.0,   2.8520,  34.9290,2,  34.9270,2,    249.2,2,    249.2,2,    32.00,2,    21.43,2,     1.41,2,    0.007,2,    0.008,2, -999.000,9,-999.0000,9,  -999.00,9,   2180.0,2,   2343.6,2,     8.01,2,  2.6350
 3230CITHER2_2,  A17N,   157,  1,     14,     14,2,19940301,1256, -5.9865, -30.1907, 5179,   2998.3,   2.7300,  34.9250,2,  34.9230,2,    253.5,2,    252.7,2,    32.00,2,    21.16,2,     1.39,2,    0.011,2,    0.010,2, -999.000,9,-999.0000,9,  -999.00,9,   -999.0,5,   2342.8,2,     8.01,2,  2.4850
 3230CITHER2_2,  A17N,   157,  1,     13,     13,2,19940301,1256, -5.9865, -30.1907, 5179,   2998.6,   2.7300,  34.9250,2,  34.9250,2,    253.5,2,    253.7,2,    32.00,2,    21.24,2,     1.39,2,    0.014,2,    0.008,2, -999.000,9,-999.0000,9,  -999.00,9,   2181.2,2,   2342.8,2,     8.01,2,  2.4850
 3230CITHER2_2,  A17N,   157,  1,     12,     12,2,19940301,1256, -5.9865, -30.1907, 5179,   3199.5,   2.6630,  34.9220,2,  34.9190,2,    254.1,2,    254.5,2,    32.60,2,    20.94,2,     1.39,2,    0.008,2,    0.011,2, -999.000,9,-999.0000,9,  -999.00,9,   2180.7,2,   2342.0,2,     8.01,2,  2.3990
 3230CITHER2_2,  A17N,   157,  1,     11,     11,2,19940301,1256, -5.9865, -30.1907, 5179,   3397.6,   2.5910,  34.9180,2,  34.9190,2,    257.2,2,    256.7,2,    32.50,2,    20.86,2,     1.37,2,    0.015,2,    0.014,2, -999.000,9,-999.0000,9,  -999.00,9,   2180.9,2,   2344.7,2,     8.01,2,  2.3070
 3230CITHER2_2,  A17N,   157,  1,     10,     10,2,19940301,1256, -5.9865, -30.1907, 5179,   3599.2,   2.4830,  34.9080,2,  34.9190,2,    258.3,2,    257.6,2,    32.50,2,    20.94,2,     1.37,2,    0.014,2,    0.012,2, -999.000,9,-999.0000,9,  -999.00,9,   2181.1,2,   2343.1,2,     8.01,2,  2.1800
 3230CITHER2_2,  A17N,   157,  1,      9,      9,2,19940301,1256, -5.9865, -30.1907, 5179,   3796.8,   2.2440,  34.8870,2,  34.8900,2,    257.0,2,    255.9,2,    41.30,2,    21.68,2,     1.44,2,    0.016,2,    0.013,2, -999.000,9,-999.0000,9,  -999.00,9,   2186.3,2,   2346.9,2,     8.00,2,  1.9260
 3230CITHER2_2,  A17N,   157,  1,      8,      8,2,19940301,1256, -5.9865, -30.1907, 5179,   3998.8,   1.8840,  34.8480,2,  34.8480,2,    249.1,2,    247.1,2,    58.50,2,    23.95,2,     1.61,2,    0.013,2,    0.007,2, -999.000,9,-999.0000,9,  -999.00,9,   2205.2,2,   2356.8,2,     7.99,2,  1.5530
 3230CITHER2_2,  A17N,   157,  1,      7,      7,2,19940301,1256, -5.9865, -30.1907, 5179,   4198.5,   1.4440,  34.7970,2,  34.7980,2,    238.6,2,    237.4,2,    79.80,2,    26.80,2,     1.82,2,    0.000,2,    0.003,2, -999.000,9,-999.0000,9,  -999.00,9,   2239.9,2,   2369.7,2,     7.96,2,  1.1040
 3230CITHER2_2,  A17N,   157,  1,      6,      6,2,19940301,1256, -5.9865, -30.1907, 5179,   4398.1,   1.0860,  34.7590,2,  34.7570,2,    230.5,2,    231.2,2,    96.40,2,    29.31,2,     1.96,2,   -0.001,2,    0.003,2, -999.000,9,-999.0000,9,  -999.00,9,   2242.0,2,   2373.6,2,     7.93,2,  0.7350
 3230CITHER2_2,  A17N,   157,  1,      5,      5,2,19940301,1256, -5.9865, -30.1907, 5179,   4599.4,   0.9100,  34.7390,2,  34.7380,2,    226.1,2,    227.4,2,   105.00,2,    30.50,2,     2.04,2,    0.002,2,    0.004,2, -999.000,9,-999.0000,9,  -999.00,9,   2249.2,2,   2378.8,2,     7.92,2,  0.5420
 3230CITHER2_2,  A17N,   157,  1,      4,      4,2,19940301,1256, -5.9865, -30.1907, 5179,   4797.9,   0.8320,  34.7280,2,  34.7290,2,    224.4,2,    225.4,2,   109.10,2,    31.29,2,     2.08,2,    0.005,2,    0.002,2, -999.000,9,-999.0000,9,  -999.00,9,   2253.3,2,   2380.7,2,     7.91,2,  0.4440
 3230CITHER2_2,  A17N,   157,  1,      3,      3,2,19940301,1256, -5.9865, -30.1907, 5179,   4998.2,   0.7400,  34.7140,2,  34.7140,2,    222.9,2,    223.9,2,   112.60,2,    31.81,2,     2.14,2,    0.022,2,    0.014,2, -999.000,9,-999.0000,9,  -999.00,9,   2271.9,3,   2379.6,2,     7.90,2,  0.3320
 3230CITHER2_2,  A17N,   157,  1,      2,      2,2,19940301,1256, -5.9865, -30.1907, 5179,   5199.6,   0.6660,  34.7050,2,  34.7030,2,    221.9,2,    222.5,2,   116.40,2,    32.39,2,     2.16,2,    0.032,2,    0.020,2, -999.000,9,-999.0000,9,  -999.00,9,   2257.7,2,   2380.4,2,     7.90,2,  0.2360
 3230CITHER2_2,  A17N,   157,  1,      1,      1,2,19940301,1256, -5.9865, -30.1907, 5179,   5269.8,   0.6300,  34.7030,2,  34.7010,2,    221.8,2,    221.8,2,   118.20,2,    32.54,2,     2.17,2,    0.033,2,    0.021,2, -999.000,9,-999.0000,9,  -999.00,9,   2270.4,3,   2379.1,2,     7.89,2,  0.1930