BOTTLE,20030515WHPSIOSA
EXPOCODE,SECT_ID,STNNBR,CASTNO,SAMPNO,BTLNBR,BTLNBR_FLAG_W,DATE,TIME,LATITUDE,LONGITUDE,DEPTH,CTDPRS,CTDTMP,CTDSAL,CTDSAL_FLAG_W,SALNTY,SALNTY_FLAG_W,CTDOXY,CTDOXY_FLAG_W,OXYGEN,OXYGEN_FLAG_W,SILCAT,SILCAT_FLAG_W,NITRAT,NITRAT_FLAG_W,PHSPHT,PHSPHT_FLAG_W,CFC-11,CFC-11_FLAG_W,CFC-12,CFC-12_FLAG_W,TRITUM,TRITUM_FLAG_W,HELIUM,HELIUM_FLAG_W,DELHE3,DELHE3_FLAG_W,TCARBN,TCARBN_FLAG_W,ALKALI,ALKALI_FLAG_W,PH,PH_FLAG_W,THETA
,,,,,,,,,,,,DBAR,ITS-90,PSS-78,,PSS-78,,UMOL/KG,,UMOL/KG,,UMOL/KG,,UMOL/KG,,UMOL/KG,,PMOL/KG,,PMOL/KG,,TU,,NMOL/KG,,PERCNT,,UMOL/KG,,UMOL/KG,,,,DEG C
 3230CITHER2_1,  A17C,   100,  1,     32,     32,2,19940206,1838,-20.3340, -30.9613, 4499,      3.6,  28.2600,  37.5540,2,  37.5520,2,    188.2,2,    197.1,2,     1.40,2,     0.04,2,     0.05,2, -999.000,5, -999.000,5, -999.000,9,-999.0000,9,  -999.00,9,   2086.2,2,   -999.0,9,     8.39,2, 28.2590
 3230CITHER2_1,  A17C,   100,  1,     31,     31,2,19940206,1838,-20.3340, -30.9613, 4499,     41.4,  28.0460,  37.5450,2,  37.5240,2,    203.0,2,    199.2,2,     1.30,2,     0.04,2,     0.05,2, -999.000,5, -999.000,5, -999.000,9,-999.0000,9,  -999.00,9,   2082.1,2,   -999.0,9,     8.39,2, 28.0360
 3230CITHER2_1,  A17C,   100,  1,     30,     30,2,19940206,1838,-20.3340, -30.9613, 4499,    101.0,  23.3750,  36.8670,2,  36.8570,2,    218.7,2,    221.5,2,     1.30,2,     0.04,2,     0.10,2, -999.000,5, -999.000,5, -999.000,9,-999.0000,9,  -999.00,9,   2071.5,2,   -999.0,9,     8.36,2, 23.3540
 3230CITHER2_1,  A17C,   100,  1,     29,     29,2,19940206,1838,-20.3340, -30.9613, 4499,    200.7,  18.8130,  36.0820,2,  36.0900,2,    198.7,2,    201.5,2,     1.80,2,     1.63,2,     0.30,2, -999.000,5, -999.000,5, -999.000,9,-999.0000,9,  -999.00,9,   2093.5,2,   -999.0,9,     8.26,2, 18.7770
 3230CITHER2_1,  A17C,   100,  1,     28,     28,2,19940206,1838,-20.3340, -30.9613, 4499,    301.2,  14.3600,  35.3550,2,  35.3650,2,    197.2,2,    196.1,2,     3.90,2,     8.76,2,     0.69,2, -999.000,5, -999.000,5, -999.000,9,-999.0000,9,  -999.00,9,   2105.4,2,   -999.0,9,     8.17,2, 14.3150
 3230CITHER2_1,  A17C,   100,  1,     26,     26,2,19940206,1838,-20.3340, -30.9613, 4499,    400.8,  11.7970,  35.0280,2,  35.0210,2,    177.6,2,    177.5,2,     7.10,2,    16.61,2,     1.17,2, -999.000,5, -999.000,5, -999.000,9,-999.0000,9,  -999.00,9,   2137.2,2,   -999.0,9,     8.07,2, 11.7450
 3230CITHER2_1,  A17C,   100,  1,     27,     27,2,19940206,1838,-20.3340, -30.9613, 4499,    401.1,  11.8220,  35.0270,2,  35.0250,2,    177.6,2,    177.9,2,     7.10,2,    16.48,2,     1.17,2, -999.000,5, -999.000,5, -999.000,9,-999.0000,9,  -999.00,9,   -999.0,5,   -999.0,9,     8.07,2, 11.7700
 3230CITHER2_1,  A17C,   100,  1,     25,     25,2,19940206,1838,-20.3340, -30.9613, 4499,    601.2,   6.9520,  34.5440,2,  34.5490,2,    167.5,2,    169.1,2,    18.30,2,    28.49,2,     1.93,2,    0.688,2,    0.379,2, -999.000,9,-999.0000,9,  -999.00,9,   2185.6,2,   -999.0,9,     7.93,2,  6.8950
 3230CITHER2_1,  A17C,   100,  1,     24,     24,2,19940206,1838,-20.3340, -30.9613, 4499,    800.0,   4.1590,  34.4040,2,  34.4060,2,    186.8,2,    186.4,2,    33.90,2,    32.50,2,     2.23,2,    0.203,2,    0.119,2, -999.000,9,-999.0000,9,  -999.00,9,   2207.9,2,   -999.0,9,     7.89,2,  4.0990
 3230CITHER2_1,  A17C,   100,  1,     23,     23,2,19940206,1838,-20.3340, -30.9613, 4499,   1000.7,   3.5420,  34.5040,2,  34.5030,2,    185.5,2,    186.4,2,    42.00,2,    32.26,2,     2.22,2,    0.065,2,    0.042,2, -999.000,9,-999.0000,9,  -999.00,9,   2217.9,2,   -999.0,9,     7.89,2,  3.4700
 3230CITHER2_1,  A17C,   100,  1,     22,     22,2,19940206,1838,-20.3340, -30.9613, 4499,   1201.1,   3.8230,  34.7140,2,  34.7170,2,    190.7,2,    192.2,2,    34.70,2,    28.93,2,     1.98,2,    0.021,2,    0.016,2, -999.000,9,-999.0000,9,  -999.00,9,   -999.0,9,   -999.0,9,     7.92,2,  3.7320
 3230CITHER2_1,  A17C,   100,  1,     21,     21,2,19940206,1838,-20.3340, -30.9613, 4499,   1400.1,   4.0340,  34.8790,2,  34.8790,2,    210.3,2,    212.9,2,    25.60,2,    24.39,2,     1.66,2,    0.024,2,    0.021,2, -999.000,9,-999.0000,9,  -999.00,9,   -999.0,9,   -999.0,9,     7.97,2,  3.9230
 3230CITHER2_1,  A17C,   100,  1,     20,     20,2,19940206,1838,-20.3340, -30.9613, 4499,   1599.9,   3.9210,  34.9560,2,  34.9590,2,    235.3,2,    237.7,2,    20.30,2,    21.07,2,     1.41,2,    0.043,2,    0.039,2, -999.000,9,-999.0000,9,  -999.00,9,   -999.0,9,   -999.0,9,     8.01,2,  3.7930
 3230CITHER2_1,  A17C,   100,  1,     19,     19,2,19940206,1838,-20.3340, -30.9613, 4499,   1700.0,   3.7940,  34.9610,2,  34.9610,2,    241.8,2,    242.8,2,    20.40,2,    20.74,2,     1.37,2,    0.043,2,    0.039,2, -999.000,9,-999.0000,9,  -999.00,9,   -999.0,9,   -999.0,9,     8.01,2,  3.6580
 3230CITHER2_1,  A17C,   100,  1,     18,     18,2,19940206,1838,-20.3340, -30.9613, 4499,   1800.7,   3.6870,  34.9660,2,  34.9680,2,    246.4,2,    247.4,2,    20.30,2,    20.20,2,     1.33,2,    0.043,2,    0.036,2, -999.000,9,-999.0000,9,  -999.00,9,   -999.0,9,   -999.0,9,     8.02,2,  3.5430
 3230CITHER2_1,  A17C,   100,  1,     17,     17,2,19940206,1838,-20.3340, -30.9613, 4499,   1900.5,   3.5830,  34.9650,2,  34.9660,2,    248.7,2,    249.3,2,    21.00,2,    20.13,2,     1.32,2,    0.039,2,    0.034,2, -999.000,9,-999.0000,9,  -999.00,9,   -999.0,9,   -999.0,9,     8.02,2,  3.4310
 3230CITHER2_1,  A17C,   100,  1,     16,     16,2,19940206,1838,-20.3340, -30.9613, 4499,   2000.5,   3.5070,  34.9630,2,  34.9630,2,    250.1,2,    250.5,2,    21.70,2,    20.13,2,     1.32,2,    0.037,2,    0.033,2, -999.000,9,-999.0000,9,  -999.00,9,   -999.0,9,   -999.0,9,     8.02,2,  3.3470
 3230CITHER2_1,  A17C,   100,  1,     15,     15,2,19940206,1838,-20.3340, -30.9613, 4499,   2199.8,   3.3320,  34.9560,2,  34.9570,2,    251.4,2,    251.9,2,    23.90,2,    20.27,2,     1.33,2,    0.026,2,    0.030,2, -999.000,9,-999.0000,9,  -999.00,9,   -999.0,9,   -999.0,9,     8.02,2,  3.1550
 3230CITHER2_1,  A17C,   100,  1,     14,     14,2,19940206,1838,-20.3340, -30.9613, 4499,   2399.1,   3.1570,  34.9450,2,  34.9460,2,    251.5,2,    251.5,2,    26.50,2,    20.45,2,     1.35,2,    0.017,2,    0.021,2, -999.000,9,-999.0000,9,  -999.00,9,   -999.0,9,   -999.0,9,     8.02,2,  2.9640
 3230CITHER2_1,  A17C,   100,  1,     13,     13,2,19940206,1838,-20.3340, -30.9613, 4499,   2599.7,   3.0250,  34.9380,2,  34.9390,2,    251.0,2,    251.1,2,    28.70,2,    20.92,2,     1.37,2,    0.015,2,    0.022,2, -999.000,9,-999.0000,9,  -999.00,9,   -999.0,9,   -999.0,9,     8.02,2,  2.8150
 3230CITHER2_1,  A17C,   100,  1,     12,     12,2,19940206,1838,-20.3340, -30.9613, 4499,   2799.9,   2.9060,  34.9310,2,  34.9310,2,    251.0,2,    251.4,2,    30.40,2,    20.88,2,     1.38,2,    0.011,2,    0.020,2, -999.000,9,-999.0000,9,  -999.00,9,   -999.0,9,   -999.0,9,     8.02,2,  2.6780
 3230CITHER2_1,  A17C,   100,  1,     11,     11,2,19940206,1838,-20.3340, -30.9613, 4499,   2999.0,   2.8200,  34.9270,2,  34.9270,2,    251.3,2,    251.8,2,    31.90,2,    20.85,2,     1.39,2,    0.011,2,    0.018,2, -999.000,9,-999.0000,9,  -999.00,9,   -999.0,9,   -999.0,9,     8.02,2,  2.5730
 3230CITHER2_1,  A17C,   100,  1,     10,     10,2,19940206,1838,-20.3340, -30.9613, 4499,   3198.6,   2.7290,  34.9200,2,  34.9230,2,    251.9,2,    252.2,2,    33.30,2,    20.98,2,     1.39,2,    0.009,2,    0.015,2, -999.000,9,-999.0000,9,  -999.00,9,   -999.0,9,   -999.0,9,     8.02,2,  2.4630
 3230CITHER2_1,  A17C,   100,  1,      9,      9,2,19940206,1838,-20.3340, -30.9613, 4499,   3398.5,   2.6110,  34.9150,2,  34.9150,2,    253.7,2,    253.4,2,    34.80,2,    20.99,2,     1.39,2,    0.012,2,    0.011,2, -999.000,9,-999.0000,9,  -999.00,9,   -999.0,9,   -999.0,9,     8.02,2,  2.3270
 3230CITHER2_1,  A17C,   100,  1,      8,      8,2,19940206,1838,-20.3340, -30.9613, 4499,   3599.0,   2.4550,  34.9000,2,  34.8990,2,    253.4,2,    252.9,2,    39.10,2,    21.47,2,     1.43,2,    0.009,2,    0.011,2, -999.000,9,-999.0000,9,  -999.00,9,   -999.0,9,   -999.0,9,     8.01,2,  2.1530
 3230CITHER2_1,  A17C,   100,  1,      7,      7,2,19940206,1838,-20.3340, -30.9613, 4499,   3798.6,   2.1480,  34.8680,2,  34.8700,2,    249.3,2,    248.0,2,    50.90,2,    22.83,2,     1.54,2,    0.006,2,    0.015,2, -999.000,9,-999.0000,9,  -999.00,9,   -999.0,9,   -999.0,9,     8.00,2,  1.8320
 3230CITHER2_1,  A17C,   100,  1,      6,      6,2,19940206,1838,-20.3340, -30.9613, 4499,   3899.2,   1.9660,  34.8490,2,  34.8510,2,    246.1,2,    244.4,2,    58.60,2,    23.89,2,     1.62,2,    0.003,2,    0.009,2, -999.000,9,-999.0000,9,  -999.00,9,   -999.0,9,   -999.0,9,     7.99,2,  1.6440
 3230CITHER2_1,  A17C,   100,  1,      5,      5,2,19940206,1838,-20.3340, -30.9613, 4499,   3999.0,   1.7130,  34.8220,2,  34.8210,2,    241.1,2,    239.9,2,    69.70,2,    25.37,2,     1.72,2,    0.004,2,    0.014,2, -999.000,9,-999.0000,9,  -999.00,9,   -999.0,9,   -999.0,9,     7.97,2,  1.3870
 3230CITHER2_1,  A17C,   100,  1,      4,      4,2,19940206,1838,-20.3340, -30.9613, 4499,   4197.4,   1.3190,  34.7790,2,  34.7810,2,    233.3,2,    232.8,2,    87.20,2,    27.76,2,     1.87,2,    0.006,2,    0.011,2, -999.000,9,-999.0000,9,  -999.00,9,   -999.0,9,   -999.0,9,     7.95,2,  0.9830
 3230CITHER2_1,  A17C,   100,  1,      3,      3,2,19940206,1838,-20.3340, -30.9613, 4499,   4398.7,   0.9620,  34.7400,2,  34.7430,2,    227.6,2,    227.3,2,   103.20,2,    30.03,2,     2.02,2,    0.023,2,    0.016,2, -999.000,9,-999.0000,9,  -999.00,9,   -999.0,9,   -999.0,9,     7.92,2,  0.6150
 3230CITHER2_1,  A17C,   100,  1,      2,      2,2,19940206,1838,-20.3340, -30.9613, 4499,   4497.2,   0.8290,  34.7270,2,  34.7290,2,    224.8,2,    225.2,2,   108.30,2,    30.79,2,     2.07,2,    0.038,2,    0.021,2, -999.000,9,-999.0000,9,  -999.00,9,   -999.0,9,   -999.0,9,     7.92,2,  0.4750
 3230CITHER2_1,  A17C,   100,  1,      1,      1,2,19940206,1838,-20.3340, -30.9613, 4499,   4561.0,   0.7530,  34.7190,2,  34.7220,2,    220.6,2,    224.1,2,   110.90,2,    31.27,2,     2.10,2,    0.044,2,    0.028,2, -999.000,9,-999.0000,9,  -999.00,9,   -999.0,9,   -999.0,9,     7.91,2,  0.3940
 3230CITHER2_1,  A17C,   101,  1,     32,     32,2,19940206,2334,-20.0015, -30.9428, 4552,      5.8,  27.8700,  37.4600,2,  37.4610,2,    192.3,2,    197.9,2,     1.30,2,     0.00,2,     0.13,2,    1.773,2,    1.041,2, -999.000,9,-999.0000,9,  -999.00,9,   -999.0,9,   -999.0,9,     8.39,2, 27.8690
 3230CITHER2_1,  A17C,   101,  1,     31,     31,2,19940206,2334,-20.0015, -30.9428, 4552,     31.3,  27.8310,  37.4640,2,  37.4620,2,    203.1,2,    198.1,2,     1.20,2,     0.00,2,     0.13,2,    1.777,2,    1.043,2, -999.000,9,-999.0000,9,  -999.00,9,   -999.0,9,   -999.0,9,     8.38,2, 27.8240
 3230CITHER2_1,  A17C,   101,  1,     30,     30,2,19940206,2334,-20.0015, -30.9428, 4552,    126.1,  23.5360,  36.9540,2,  36.9360,2,    215.5,2,    216.6,2,     1.30,2,     0.00,2,     0.14,2,    2.103,2,    1.206,2, -999.000,9,-999.0000,9,  -999.00,9,   -999.0,9,   -999.0,9,     8.36,2, 23.5100
 3230CITHER2_1,  A17C,   101,  1,     29,     29,2,19940206,2334,-20.0015, -30.9428, 4552,    201.2,  19.4700,  36.2080,2,  36.1780,2,    203.2,2,    200.6,2,     1.70,2,     1.44,2,     0.31,2,    2.379,2,    1.317,2, -999.000,9,-999.0000,9,  -999.00,9,   -999.0,9,   -999.0,9,     8.27,2, 19.4330
 3230CITHER2_1,  A17C,   101,  1,     27,     27,2,19940206,2334,-20.0015, -30.9428, 4552,    302.0,  14.7280,  35.3970,2,  35.4010,2,    192.4,2,    194.8,2,     3.60,2,     8.43,2,     0.67,2,    2.403,2,    1.286,2, -999.000,9,-999.0000,9,  -999.00,9,   -999.0,9,   -999.0,9,     8.18,2, 14.6830
 3230CITHER2_1,  A17C,   101,  1,     28,     28,2,19940206,2334,-20.0015, -30.9428, 4552,    302.6,  14.7150,  35.3960,2,  35.4000,2,    192.3,2,    197.2,2,     3.60,2,     8.43,2,     0.66,2,    2.404,2,    1.282,2, -999.000,9,-999.0000,9,  -999.00,9,   -999.0,9,   -999.0,9,     8.18,2, 14.6690
 3230CITHER2_1,  A17C,   101,  1,     26,     26,2,19940206,2334,-20.0015, -30.9428, 4552,    401.2,  11.6200,  35.0070,2,  35.0020,2,    169.7,2,    171.1,2,     7.40,2,    17.75,2,     1.22,2,    1.675,2,    0.904,2, -999.000,9,-999.0000,9,  -999.00,9,   -999.0,9,   -999.0,9,     8.06,2, 11.5680
 3230CITHER2_1,  A17C,   101,  1,     25,     25,2,19940206,2334,-20.0015, -30.9428, 4552,    601.4,   6.8780,  34.5330,2,  34.5370,2,    169.3,2,    171.7,2,    18.00,2,    28.25,2,     1.90,2,    0.713,2,    0.398,2, -999.000,9,-999.0000,9,  -999.00,9,   -999.0,9,   -999.0,9,     7.93,2,  6.8210
 3230CITHER2_1,  A17C,   101,  1,     24,     24,2,19940206,2334,-20.0015, -30.9428, 4552,    801.3,   4.1980,  34.3960,2,  34.3890,2,    188.4,2,    189.2,2,    33.30,2,    32.57,2,     2.19,2,    0.284,2,    0.167,2, -999.000,9,-999.0000,9,  -999.00,9,   -999.0,9,   -999.0,9,     7.89,2,  4.1370
 3230CITHER2_1,  A17C,   101,  1,     23,     23,2,19940206,2334,-20.0015, -30.9428, 4552,   1001.6,   3.5420,  34.5150,2,  34.5120,2,    185.3,2,    185.7,2,    42.00,2,    32.57,2,     2.17,2,    0.064,2,    0.049,2, -999.000,9,-999.0000,9,  -999.00,9,   -999.0,9,   -999.0,9,     7.89,2,  3.4700
 3230CITHER2_1,  A17C,   101,  1,     22,     22,2,19940206,2334,-20.0015, -30.9428, 4552,   1200.3,   3.8950,  34.7250,2,  34.7220,2,    189.1,2,    189.7,2,    33.60,2,    29.41,2,     1.95,2,    0.018,2,    0.015,2, -999.000,9,-999.0000,9,  -999.00,9,   -999.0,9,   -999.0,9,     7.92,2,  3.8030
 3230CITHER2_1,  A17C,   101,  1,     21,     21,2,19940206,2334,-20.0015, -30.9428, 4552,   1399.3,   4.0090,  34.8690,2,  34.8690,2,    212.2,2,    211.9,2,    26.30,2,    25.03,2,     1.66,2,    0.020,2,    0.019,2, -999.000,9,-999.0000,9,  -999.00,9,   -999.0,9,   -999.0,9,     7.96,2,  3.8980
 3230CITHER2_1,  A17C,   101,  1,     20,     20,2,19940206,2334,-20.0015, -30.9428, 4552,   1500.5,   3.9750,  34.9220,2,  34.9200,2,    225.1,2,    226.0,2,    23.20,2,    23.01,2,     1.51,2,    0.036,2,    0.031,2, -999.000,9,-999.0000,9,  -999.00,9,   -999.0,9,   -999.0,9,     7.99,2,  3.8550
 3230CITHER2_1,  A17C,   101,  1,     19,     19,2,19940206,2334,-20.0015, -30.9428, 4552,   1600.9,   3.8820,  34.9500,2,  34.9500,2,    235.8,2,    237.2,2,    21.10,2,    21.65,2,     1.41,2,    0.040,2,    0.032,2, -999.000,9,-999.0000,9,  -999.00,9,   -999.0,9,   -999.0,9,     8.00,2,  3.7540
 3230CITHER2_1,  A17C,   101,  1,     18,     18,2,19940206,2334,-20.0015, -30.9428, 4552,   1701.2,   3.7680,  34.9600,2,  34.9590,2,    241.8,2,    242.5,2,    20.60,2,    20.98,2,     1.36,2,    0.033,2,    0.031,2, -999.000,9,-999.0000,9,  -999.00,9,   -999.0,9,   -999.0,9,     8.01,2,  3.6320
 3230CITHER2_1,  A17C,   101,  1,     17,     17,2,19940206,2334,-20.0015, -30.9428, 4552,   1800.2,   3.6730,  34.9630,2,  34.9620,2,    246.0,2,    246.4,2,    20.90,2,    20.53,2,     1.33,2,    0.041,2,    0.031,2, -999.000,9,-999.0000,9,  -999.00,9,   -999.0,9,   -999.0,9,     8.01,2,  3.5290
 3230CITHER2_1,  A17C,   101,  1,     16,     16,2,19940206,2334,-20.0015, -30.9428, 4552,   1999.8,   3.4570,  34.9570,2,  34.9570,2,    249.5,2,    249.5,2,    22.70,2,    20.55,2,     1.33,2,    0.029,2,    0.024,2, -999.000,9,-999.0000,9,  -999.00,9,   -999.0,9,   -999.0,9,     8.02,2,  3.2980
 3230CITHER2_1,  A17C,   101,  1,     15,     15,2,19940206,2334,-20.0015, -30.9428, 4552,   2200.7,   3.2730,  34.9490,2,  34.9480,2,    250.0,2,    250.8,2,    24.90,2,    20.81,2,     1.35,2,    0.015,2,    0.013,2, -999.000,9,-999.0000,9,  -999.00,9,   -999.0,9,   -999.0,9,     8.02,2,  3.0970
 3230CITHER2_1,  A17C,   101,  1,     14,     14,2,19940206,2334,-20.0015, -30.9428, 4552,   2399.9,   3.1180,  34.9420,2,  34.9410,2,    250.9,2,    251.8,2,    27.10,2,    20.72,2,     1.35,2,    0.017,2,    0.013,2, -999.000,9,-999.0000,9,  -999.00,9,   -999.0,9,   -999.0,9,     8.02,2,  2.9260
 3230CITHER2_1,  A17C,   101,  1,     13,     13,2,19940206,2334,-20.0015, -30.9428, 4552,   2599.7,   3.0010,  34.9370,2,  34.9370,2,    251.0,2,    251.7,2,    29.20,2,    20.89,2,     1.35,2,    0.015,2,    0.015,2, -999.000,9,-999.0000,9,  -999.00,9,   -999.0,9,   -999.0,9,     8.02,2,  2.7910
 3230CITHER2_1,  A17C,   101,  1,     12,     12,2,19940206,2334,-20.0015, -30.9428, 4552,   2799.3,   2.8960,  34.9310,2,  34.9280,2,    250.9,2,    251.1,2,    30.90,2,    20.98,2,     1.37,2,    0.009,2,    0.017,2, -999.000,9,-999.0000,9,  -999.00,9,   -999.0,9,   -999.0,9,     8.02,2,  2.6680
 3230CITHER2_1,  A17C,   101,  1,     11,     11,2,19940206,2334,-20.0015, -30.9428, 4552,   2998.8,   2.8030,  34.9260,2,  34.9240,2,    251.4,2,    251.6,2,    32.40,2,    21.10,2,     1.38,2,    0.012,2,    0.012,2, -999.000,9,-999.0000,9,  -999.00,9,   -999.0,9,   -999.0,9,     8.02,2,  2.5570
 3230CITHER2_1,  A17C,   101,  1,     10,     10,2,19940206,2334,-20.0015, -30.9428, 4552,   3199.3,   2.7100,  34.9200,2,  34.9190,2,    252.6,2,    252.8,2,    33.60,2,    21.14,2,     1.37,2,    0.014,2,    0.012,2, -999.000,9,-999.0000,9,  -999.00,9,   -999.0,9,   -999.0,9,     8.02,2,  2.4450
 3230CITHER2_1,  A17C,   101,  1,      9,      9,2,19940206,2334,-20.0015, -30.9428, 4552,   3397.9,   2.6060,  34.9140,2,  34.9130,2,    253.5,2,    250.9,2,    35.40,2,    21.10,2,     1.39,2,    0.010,2,    0.013,2, -999.000,9,-999.0000,9,  -999.00,9,   -999.0,9,   -999.0,9,     8.02,2,  2.3220
 3230CITHER2_1,  A17C,   101,  1,      8,      8,2,19940206,2334,-20.0015, -30.9428, 4552,   3598.9,   2.4500,  34.9000,2,  34.8970,2,    253.3,2,    252.3,2,    39.90,2,    21.65,2,     1.42,2,    0.011,2,    0.013,2, -999.000,9,-999.0000,9,  -999.00,9,   -999.0,9,   -999.0,9,     8.01,2,  2.1480
 3230CITHER2_1,  A17C,   101,  1,      7,      7,2,19940206,2334,-20.0015, -30.9428, 4552,   3798.9,   2.1870,  34.8740,2,  34.8710,2,    249.6,2,    248.5,2,    50.00,2,    22.84,2,     1.51,2,    0.007,2,    0.011,2, -999.000,9,-999.0000,9,  -999.00,9,   -999.0,9,   -999.0,9,     8.00,2,  1.8700
 3230CITHER2_1,  A17C,   101,  1,      6,      6,2,19940206,2334,-20.0015, -30.9428, 4552,   3899.4,   1.9710,  34.8490,2,  34.8490,2,    245.8,2,    244.7,2,    59.60,2,    23.94,2,     1.60,2,    0.006,2,    0.010,2, -999.000,9,-999.0000,9,  -999.00,9,   -999.0,9,   -999.0,9,     7.99,2,  1.6490
 3230CITHER2_1,  A17C,   101,  1,      5,      5,2,19940206,2334,-20.0015, -30.9428, 4552,   3999.6,   1.7520,  34.8260,2,  34.8260,2,    241.2,2,    240.8,2,    69.50,2,    25.45,2,     1.70,2,    0.004,2,    0.008,2, -999.000,9,-999.0000,9,  -999.00,9,   -999.0,9,   -999.0,9,     7.98,2,  1.4250
 3230CITHER2_1,  A17C,   101,  1,      4,      4,2,19940206,2334,-20.0015, -30.9428, 4552,   4199.3,   1.3370,  34.7810,2,  34.7800,2,    233.1,2,    233.0,2,    88.60,2,    27.93,2,     1.87,2,    0.004,2,    0.014,2, -999.000,9,-999.0000,9,  -999.00,9,   -999.0,9,   -999.0,9,     7.95,2,  1.0000
 3230CITHER2_1,  A17C,   101,  1,      3,      3,2,19940206,2334,-20.0015, -30.9428, 4552,   4398.9,   0.9650,  34.7400,2,  34.7400,2,    226.6,2,    226.9,2,   104.50,2,    30.25,2,     2.06,2,    0.020,2,    0.016,2, -999.000,9,-999.0000,9,  -999.00,9,   -999.0,9,   -999.0,9,     7.92,2,  0.6180
 3230CITHER2_1,  A17C,   101,  1,      2,      2,2,19940206,2334,-20.0015, -30.9428, 4552,   4497.6,   0.6780,  34.7180,2,  34.7110,2,    223.0,2,    223.1,2,   115.50,2,    31.73,2,     2.15,2,    0.053,2,    0.028,2, -999.000,9,-999.0000,9,  -999.00,9,   -999.0,9,   -999.0,9,     7.91,2,  0.3290
 3230CITHER2_1,  A17C,   101,  1,      1,      1,2,19940206,2334,-20.0015, -30.9428, 4552,   4601.3,   0.4820,  34.6940,2,  34.6950,2,    220.0,2,    221.2,2,   122.50,2,    32.57,2,     2.22,2,    0.080,2,    0.042,2, -999.000,9,-999.0000,9,  -999.00,9,   -999.0,9,   -999.0,9,     7.90,2,  0.1280