BOTTLE,20030515WHPSIOSA
EXPOCODE,SECT_ID,STNNBR,CASTNO,SAMPNO,BTLNBR,BTLNBR_FLAG_W,DATE,TIME,LATITUDE,LONGITUDE,DEPTH,CTDPRS,CTDTMP,CTDSAL,CTDSAL_FLAG_W,SALNTY,SALNTY_FLAG_W,CTDOXY,CTDOXY_FLAG_W,OXYGEN,OXYGEN_FLAG_W,SILCAT,SILCAT_FLAG_W,NITRAT,NITRAT_FLAG_W,PHSPHT,PHSPHT_FLAG_W,CFC-11,CFC-11_FLAG_W,CFC-12,CFC-12_FLAG_W,TRITUM,TRITUM_FLAG_W,HELIUM,HELIUM_FLAG_W,DELHE3,DELHE3_FLAG_W,TCARBN,TCARBN_FLAG_W,ALKALI,ALKALI_FLAG_W,PH,PH_FLAG_W,THETA
,,,,,,,,,,,,DBAR,ITS-90,PSS-78,,PSS-78,,UMOL/KG,,UMOL/KG,,UMOL/KG,,UMOL/KG,,UMOL/KG,,PMOL/KG,,PMOL/KG,,TU,,NMOL/KG,,PERCNT,,UMOL/KG,,UMOL/KG,,,,DEG C
 3230CITHER2_1,  A17C,     8,  1,     18,     18,2,19940110,2100,-48.6745, -55.1952, 1737,      8.9,   9.2880,  34.1210,2,  34.1200,2,    305.9,2,    307.4,2,     0.90,2,    14.25,2,     0.94,2,    4.619,2,    2.364,2, -999.000,9,-999.0000,9,  -999.00,9,   2059.1,2,   2293.9,2,     8.20,2,  9.2870
 3230CITHER2_1,  A17C,     8,  1,     17,     17,2,19940110,2100,-48.6745, -55.1952, 1737,     29.3,   7.1520,  34.1540,2,  34.1560,2,    313.4,2,    319.7,2,     0.50,2,    16.58,2,     1.10,2,    4.959,2,    2.489,2, -999.000,9,-999.0000,9,  -999.00,9,   2082.0,2,   2293.2,2,     8.14,2,  7.1490
 3230CITHER2_1,  A17C,     8,  1,     16,     16,2,19940110,2100,-48.6745, -55.1952, 1737,     74.6,   4.9800,  34.1830,2,  34.1840,2,    304.4,2,    300.2,2,     8.40,2,    22.44,2,     1.59,2,    5.037,2,    2.563,2, -999.000,9,-999.0000,9,  -999.00,9,   2125.1,2,   2290.3,2,     8.03,2,  4.9740
 3230CITHER2_1,  A17C,     8,  1,     15,     15,2,19940110,2100,-48.6745, -55.1952, 1737,    100.2,   4.7640,  34.1970,2,  34.1980,2,    298.3,2,    300.2,2,     9.00,2,    23.49,2,     1.61,2,    4.790,2,    2.386,2, -999.000,9,-999.0000,9,  -999.00,9,   2130.3,2,   2290.5,2,     8.02,2,  4.7570
 3230CITHER2_1,  A17C,     8,  1,     14,     14,2,19940110,2100,-48.6745, -55.1952, 1737,    151.3,   4.5560,  34.1950,2,  34.1960,2,    286.1,2,    288.5,2,    11.00,2,    24.13,2,     1.66,2,    4.613,2,    2.324,2, -999.000,9,-999.0000,9,  -999.00,9,   2136.0,2,   2293.0,2,     8.01,2,  4.5450
 3230CITHER2_1,  A17C,     8,  1,     13,     13,2,19940110,2100,-48.6745, -55.1952, 1737,    200.2,   4.2120,  34.1760,2,  34.1760,2,    284.7,2,    289.3,2,    12.30,2,    25.35,2,     1.72,2,    4.615,2,    2.342,2, -999.000,9,-999.0000,9,  -999.00,9,   2139.5,2,   2293.0,2,     8.00,2,  4.1980
 3230CITHER2_1,  A17C,     8,  1,     12,     12,2,19940110,2100,-48.6745, -55.1952, 1737,    249.6,   4.0500,  34.1790,2,  34.1830,2,    277.9,2,    278.3,2,    15.20,2,    26.50,2,     1.81,2,    4.195,2,    2.106,2, -999.000,9,-999.0000,9,  -999.00,9,   2147.9,2,   2295.3,2,     7.98,2,  4.0330
 3230CITHER2_1,  A17C,     8,  1,     11,     11,2,19940110,2100,-48.6745, -55.1952, 1737,    301.2,   3.7860,  34.1590,2,  34.1600,2,    288.8,2,    285.5,2,    15.00,2,    26.35,2,     1.81,2,    4.517,2,    2.306,2, -999.000,9,-999.0000,9,  -999.00,9,   2147.1,2,   2294.1,2,     7.98,2,  3.7660
 3230CITHER2_1,  A17C,     8,  1,     10,     10,2,19940110,2100,-48.6745, -55.1952, 1737,    400.5,   3.2100,  34.1270,2,  34.1320,2,    282.1,2,    287.5,2,    17.50,2,    27.51,2,     1.89,2,    4.566,2,    2.295,2, -999.000,9,-999.0000,9,  -999.00,9,   2152.8,2,   2296.7,2,     7.97,2,  3.1840
 3230CITHER2_1,  A17C,     8,  1,      9,      9,2,19940110,2100,-48.6745, -55.1952, 1737,    500.0,   3.0890,  34.1800,2,  34.1830,2,    253.4,2,    258.8,2,    25.90,2,    29.98,2,     2.04,2,    3.417,2,    1.728,2, -999.000,9,-999.0000,9,  -999.00,9,   2173.1,2,   2300.8,2,     7.93,2,  3.0570
 3230CITHER2_1,  A17C,     8,  1,      8,      8,2,19940110,2100,-48.6745, -55.1952, 1737,    600.0,   3.1670,  34.2640,2,  34.2660,2,    228.0,2,    228.7,2,    37.00,2,    32.14,2,     2.20,2,    2.182,2,    1.109,2, -999.000,9,-999.0000,9,  -999.00,9,   2195.4,2,   2309.7,2,     7.89,2,  3.1280
 3230CITHER2_1,  A17C,     8,  1,      7,      7,2,19940110,2100,-48.6745, -55.1952, 1737,    800.8,   2.8060,  34.3670,2,  34.3680,2,    202.0,2,    200.5,2,    49.70,2,    33.57,2,     2.33,2,    1.198,2,    0.622,2, -999.000,9,-999.0000,9,  -999.00,9,   2223.4,2,   2326.1,2,     7.85,2,  2.7540
 3230CITHER2_1,  A17C,     8,  1,      6,      6,2,19940110,2100,-48.6745, -55.1952, 1737,   1006.2,   2.5090,  34.4840,2,  34.4850,2,    182.9,2,    180.5,2,    65.00,2,    34.37,2,     2.41,2,    0.599,2,    0.318,2, -999.000,9,-999.0000,9,  -999.00,9,   2246.1,2,   2343.0,2,     7.83,2,  2.4450
 3230CITHER2_1,  A17C,     8,  1,      5,      5,2,19940110,2100,-48.6745, -55.1952, 1737,   1199.6,   2.3880,  34.5540,2,  34.5560,2,    173.1,2,    172.9,2,    72.40,2,    34.37,2,     2.42,2,    0.359,2,    0.195,2, -999.000,9,-999.0000,9,  -999.00,9,   -999.0,9,   2351.6,2,     7.82,2,  2.3100
 3230CITHER2_1,  A17C,     8,  1,      4,      4,2,19940110,2100,-48.6745, -55.1952, 1737,   1201.5,   2.3880,  34.5530,2,  34.5570,2,    173.2,2,    172.8,2,    73.00,2,    34.37,2,     2.42,2,    0.358,2,    0.195,2, -999.000,9,-999.0000,9,  -999.00,9,   2255.9,2,   2351.6,2,     7.82,2,  2.3100
 3230CITHER2_1,  A17C,     8,  1,      3,      3,2,19940110,2100,-48.6745, -55.1952, 1737,   1401.3,   2.2910,  34.6020,2,  34.6050,2,    171.3,2,    170.9,2,    80.90,2,    34.37,2,     2.40,2,    0.246,2,    0.137,2, -999.000,9,-999.0000,9,  -999.00,9,   2260.8,2,   2358.1,2,     7.83,2,  2.1990
 3230CITHER2_1,  A17C,     8,  1,      2,      2,2,19940110,2100,-48.6745, -55.1952, 1737,   1600.4,   2.2080,  34.6360,2,  34.6360,2,    172.1,2,    171.8,2,    85.10,2,    33.96,2,     2.35,2,    0.181,2,    0.102,2, -999.000,9,-999.0000,9,  -999.00,9,   2262.7,2,   2362.4,2,     7.83,2,  2.1010
 3230CITHER2_1,  A17C,     8,  1,      1,      1,2,19940110,2100,-48.6745, -55.1952, 1737,   1713.6,   2.2170,  34.6350,2,  34.6400,2,    171.4,2,    173.6,2,    85.10,2,    33.95,2,     2.35,2,    0.189,2,    0.112,2, -999.000,9,-999.0000,9,  -999.00,9,   2263.6,2,   2362.6,2,     7.83,2,  2.1010
 3230CITHER2_1,  A17C,     9,  1,     28,     28,2,19940111,0019,-48.5162, -55.0385, 2883,      6.0,   8.1410,  35.0560,2,-999.0000,5,    313.3,2,   -999.0,5,     0.30,2,    16.84,2,     1.09,2, -999.000,5, -999.000,5, -999.000,9,-999.0000,9,  -999.00,9,   -999.0,5,   -999.0,9,     8.15,2,  8.1400
 3230CITHER2_1,  A17C,     9,  1,     27,     27,2,19940111,0019,-48.5162, -55.0385, 2883,     30.8,   7.6940,  34.1270,2,  34.1500,2,    319.4,2,    322.2,2,  -999.00,5,  -999.00,5,  -999.00,5, -999.000,5, -999.000,5,    0.289,2,   1.7700,2,    -1.89,2,   2077.0,2,   -999.0,9,     8.13,2,  7.6910
 3230CITHER2_1,  A17C,     9,  1,     26,     26,2,19940111,0019,-48.5162, -55.0385, 2883,     75.9,   5.2000,  34.1660,2,  34.1660,2,    303.6,2,    303.5,2,     8.90,2,    22.47,2,     1.61,2, -999.000,5, -999.000,5,    0.284,2,   1.7900,2,    -0.90,2,   2126.8,2,   -999.0,9,     8.04,2,  5.1940
 3230CITHER2_1,  A17C,     9,  1,     25,     25,2,19940111,0019,-48.5162, -55.0385, 2883,    102.9,   4.6700,  34.1700,2,  34.1770,2,    298.9,2,    300.3,2,     9.50,2,    23.56,2,     1.62,2, -999.000,5, -999.000,5,    0.210,2,   1.7600,2,    -1.70,2,   2132.2,2,   -999.0,9,     8.02,2,  4.6620
 3230CITHER2_1,  A17C,     9,  1,     24,     24,2,19940111,0019,-48.5162, -55.0385, 2883,    150.9,   4.3930,  34.1640,2,  34.1660,2,    293.8,2,    300.9,2,    10.60,2,    24.01,2,     1.66,2, -999.000,5, -999.000,5,    0.316,2,   1.8000,2,    -1.49,2,   2136.2,2,   -999.0,9,     8.02,2,  4.3820
 3230CITHER2_1,  A17C,     9,  1,     23,     23,2,19940111,0019,-48.5162, -55.0385, 2883,    201.1,   4.1040,  34.1610,2,  34.1620,2,    294.5,2,    297.5,2,    11.70,2,    25.30,2,     1.70,2, -999.000,5, -999.000,5,    0.282,2,   1.8000,2,    -1.54,2,   2139.6,2,   -999.0,9,     8.01,2,  4.0900
 3230CITHER2_1,  A17C,     9,  1,     22,     22,2,19940111,0019,-48.5162, -55.0385, 2883,    249.4,   3.8590,  34.1430,2,  34.1540,2,    292.9,2,    294.6,2,    12.70,2,    25.76,2,     1.73,2,    4.961,2,    2.488,2,    0.275,2,   1.8200,2,    -1.57,2,   2143.8,2,   -999.0,9,     8.00,2,  3.8420
 3230CITHER2_1,  A17C,     9,  1,     21,     21,2,19940111,0019,-48.5162, -55.0385, 2883,    301.6,   3.6410,  34.1580,2,  34.1590,2,    282.4,2,    281.5,2,    16.30,2,    27.59,2,     1.82,2,    5.236,2,    2.616,2,    0.225,2,   1.7900,2,    -1.00,2,   2154.5,2,   -999.0,9,     7.98,2,  3.6210
 3230CITHER2_1,  A17C,     9,  1,     20,     20,2,19940111,0019,-48.5162, -55.0385, 2883,    400.9,   3.2600,  34.1460,2,  34.1540,2,    279.5,2,    279.0,2,    19.20,2,    28.43,2,     1.90,2,    5.144,2,    2.570,2,    0.954,2,   1.8200,2,    -1.10,2,   2162.0,2,   -999.0,9,     7.96,2,  3.2340
 3230CITHER2_1,  A17C,     9,  1,     19,     19,2,19940111,0019,-48.5162, -55.0385, 2883,    500.6,   3.0760,  34.1930,2,  34.1900,2,    251.2,2,    254.1,2,    27.10,2,    30.72,2,     2.05,2,    5.102,2,    2.571,2, -999.000,9,   1.8200,2,    -0.28,2,   2181.3,2,   -999.0,9,     7.92,2,  3.0440
 3230CITHER2_1,  A17C,     9,  1,     18,     18,2,19940111,0019,-48.5162, -55.0385, 2883,    601.0,   3.1210,  34.2770,2,  34.2760,2,    225.2,2,    226.2,2,    37.80,2,    32.81,2,     2.22,2,    4.994,2,    2.521,2, -999.000,9,   1.7700,2,     3.45,2,   2203.2,2,   -999.0,9,     7.90,2,  3.0820
 3230CITHER2_1,  A17C,     9,  1,     17,     17,2,19940111,0019,-48.5162, -55.0385, 2883,    799.9,   2.7080,  34.3740,2,  34.3750,2,    199.2,2,    199.9,2,    53.70,2,    34.62,2,     2.36,2,    4.822,2,    2.464,2, -999.000,9,   1.7600,2,     5.48,2,   2230.2,2,   -999.0,9,     7.86,2,  2.6570
 3230CITHER2_1,  A17C,     9,  1,     11,     11,2,19940111,0019,-48.5162, -55.0385, 2883,    999.5,   2.4700,  34.4770,2,  34.4750,2,    183.2,2,    182.8,2,    67.20,2,    35.21,2,     2.41,2,    0.691,2,    0.372,2,    0.060,2,   1.8200,2,     9.66,2,   2243.7,2,   -999.0,9,     7.84,2,  2.4060
 3230CITHER2_1,  A17C,     9,  1,     10,     10,2,19940111,0019,-48.5162, -55.0385, 2883,   1201.4,   2.3220,  34.5630,2,  34.5630,2,    174.3,2,    174.3,2,    76.90,2,    35.31,2,     2.40,2,    0.406,2,    0.214,2, -999.000,9,   1.8100,2,    10.99,2,   -999.0,9,   -999.0,9,     7.84,2,  2.2450
 3230CITHER2_1,  A17C,     9,  1,      9,      9,2,19940111,0019,-48.5162, -55.0385, 2883,   1400.4,   2.2460,  34.6120,2,  34.6130,2,    171.4,2,    172.4,2,    82.40,2,    34.68,2,     2.38,2,    0.261,2,    0.148,2,    0.100,2,   1.8100,2,   -10.00,2,   -999.0,9,   -999.0,9,     7.84,2,  2.1540
 3230CITHER2_1,  A17C,     9,  1,      8,      8,2,19940111,0019,-48.5162, -55.0385, 2883,   1600.5,   2.1280,  34.6650,2,  34.6630,2,    173.3,2,    175.6,2,    88.10,2,    34.47,2,     2.33,2,    0.157,2,    0.091,2, -999.000,9,   1.7600,2,    10.15,2,   -999.0,9,   -999.0,9,     7.84,2,  2.0220
 3230CITHER2_1,  A17C,     9,  1,      7,      7,2,19940111,0019,-48.5162, -55.0385, 2883,   1801.0,   2.0410,  34.6900,2,  34.6890,2,    175.1,2,    177.7,2,    92.30,2,    34.22,2,     2.29,2,    0.103,2,    0.077,2, -999.000,9,   1.7600,2,     8.09,2,   -999.0,9,   -999.0,9,     7.86,2,  1.9200
 3230CITHER2_1,  A17C,     9,  1,      5,      5,2,19940111,0019,-48.5162, -55.0385, 2883,   2000.8,   1.9290,  34.7170,2,  34.7180,2,    182.3,2,    183.8,2,    96.40,2,    33.54,2,     2.24,2,    0.071,2,    0.051,2, -999.000,9,   1.8200,2,    11.79,2,   -999.0,9,   -999.0,9,     7.86,2,  1.7930
 3230CITHER2_1,  A17C,     9,  1,      6,      6,2,19940111,0019,-48.5162, -55.0385, 2883,   2002.0,   1.9280,  34.7170,2,  34.7200,2,    182.3,2,    185.7,2,    95.80,2,    33.42,2,     2.24,2,    0.071,2,    0.057,2, -999.000,9,-999.0000,9,  -999.00,9,   -999.0,9,   -999.0,9,     7.86,2,  1.7920
 3230CITHER2_1,  A17C,     9,  1,      4,      4,2,19940111,0019,-48.5162, -55.0385, 2883,   2200.2,   1.6920,  34.7210,2,  34.7220,2,    187.1,2,    189.9,2,   102.70,2,    33.41,2,     2.23,2,    0.081,2,    0.053,2, -999.000,9,   1.7700,2,     9.73,2,   -999.0,9,   -999.0,9,     7.87,2,  1.5430
 3230CITHER2_1,  A17C,     9,  1,      3,      3,2,19940111,0019,-48.5162, -55.0385, 2883,   2400.5,   1.6470,  34.7230,2,  34.7220,2,    189.7,2,    190.2,2,   104.60,2,    33.50,2,     2.24,2,    0.078,2,    0.053,2, -999.000,9,   1.8100,2,     8.43,2,   -999.0,9,   -999.0,9,     7.87,2,  1.4820
 3230CITHER2_1,  A17C,     9,  1,      2,      2,2,19940111,0019,-48.5162, -55.0385, 2883,   2600.4,   1.6400,  34.7230,2,  34.7220,2,    190.3,2,    190.8,2,   104.60,2,    33.37,2,     2.23,2,    0.076,2,    0.053,2, -999.000,9,-999.0000,9,  -999.00,9,   -999.0,9,   -999.0,9,     7.87,2,  1.4570
 3230CITHER2_1,  A17C,     9,  1,      1,      1,2,19940111,0019,-48.5162, -55.0385, 2883,   2738.5,   1.6470,  34.7230,2,  34.7230,2,    188.2,2,    192.6,2,   105.40,2,    33.51,2,     2.23,2,    0.074,2,    0.047,2, -999.000,9,   1.8200,2,    11.14,2,   -999.0,9,   -999.0,9,     7.86,2,  1.4510