BOTTLE,20030515WHPSIOSA
EXPOCODE,SECT_ID,STNNBR,CASTNO,SAMPNO,BTLNBR,BTLNBR_FLAG_W,DATE,TIME,LATITUDE,LONGITUDE,DEPTH,CTDPRS,CTDTMP,CTDSAL,CTDSAL_FLAG_W,SALNTY,SALNTY_FLAG_W,CTDOXY,CTDOXY_FLAG_W,OXYGEN,OXYGEN_FLAG_W,SILCAT,SILCAT_FLAG_W,NITRAT,NITRAT_FLAG_W,PHSPHT,PHSPHT_FLAG_W,CFC-11,CFC-11_FLAG_W,CFC-12,CFC-12_FLAG_W,TRITUM,TRITUM_FLAG_W,HELIUM,HELIUM_FLAG_W,DELHE3,DELHE3_FLAG_W,TCARBN,TCARBN_FLAG_W,ALKALI,ALKALI_FLAG_W,PH,PH_FLAG_W,THETA
,,,,,,,,,,,,DBAR,ITS-90,PSS-78,,PSS-78,,UMOL/KG,,UMOL/KG,,UMOL/KG,,UMOL/KG,,UMOL/KG,,PMOL/KG,,PMOL/KG,,TU,,NMOL/KG,,PERCNT,,UMOL/KG,,UMOL/KG,,,,DEG C
 3230CITHER2_1,  A17C,   112,  1,     32,     32,2,19940209,1616,-14.9137, -30.6668, 4871,      3.3,  27.8940,  37.3220,2,  37.3250,2,    224.5,2,    197.8,2,     1.10,2,     0.04,2,     0.11,2,    1.655,2,    0.988,2, -999.000,9,-999.0000,9,  -999.00,9,   2069.9,2,   -999.0,9,     8.39,2, 27.8930
 3230CITHER2_1,  A17C,   112,  1,     31,     31,2,19940209,1616,-14.9137, -30.6668, 4871,     46.3,  27.6230,  37.3510,2,  37.3520,2,    199.8,2,    199.3,2,     1.10,2,     0.04,2,     0.10,2,    1.672,2,    1.002,2, -999.000,9,-999.0000,9,  -999.00,9,   2070.5,2,   -999.0,9,     8.39,2, 27.6120
 3230CITHER2_1,  A17C,   112,  1,     30,     30,2,19940209,1616,-14.9137, -30.6668, 4871,    125.0,  24.6540,  37.1800,2,  37.1780,2,    216.0,2,    213.0,2,     1.20,2,     0.04,2,     0.13,2,    1.881,2,    1.101,2, -999.000,9,-999.0000,9,  -999.00,9,   2081.5,2,   -999.0,9,     8.37,2, 24.6270
 3230CITHER2_1,  A17C,   112,  1,     29,     29,2,19940209,1616,-14.9137, -30.6668, 4871,    200.9,  18.9190,  36.1110,2,  36.1300,2,    192.0,2,    189.5,2,     2.10,2,     3.25,2,     0.45,2,    2.153,2,    1.190,2, -999.000,9,-999.0000,9,  -999.00,9,   2105.0,2,   -999.0,9,     8.24,2, 18.8830
 3230CITHER2_1,  A17C,   112,  1,     28,     28,2,19940209,1616,-14.9137, -30.6668, 4871,    302.0,  13.0530,  35.1930,2,  35.2010,2,    167.4,2,    168.6,2,     5.70,2,    15.11,2,     1.07,2,    1.735,2,    0.943,2, -999.000,9,-999.0000,9,  -999.00,9,   2121.2,2,   -999.0,9,     8.09,2, 13.0110
 3230CITHER2_1,  A17C,   112,  1,     27,     27,2,19940209,1616,-14.9137, -30.6668, 4871,    401.9,   9.6940,  34.8350,2,  34.8350,2,    133.7,2,    135.7,2,    12.30,2,    25.59,2,     1.73,2,    0.704,2,    0.393,2, -999.000,9,-999.0000,9,  -999.00,9,   2181.8,2,   -999.0,9,     7.95,2,  9.6480
 3230CITHER2_1,  A17C,   112,  1,     26,     26,2,19940209,1616,-14.9137, -30.6668, 4871,    600.5,   5.6770,  34.4650,2,  34.4630,2,    170.6,2,    170.7,2,    23.00,2,    31.57,2,     2.11,2,    0.343,2,    0.194,2, -999.000,9,-999.0000,9,  -999.00,9,   2195.5,2,   -999.0,9,     7.90,2,  5.6260
 3230CITHER2_1,  A17C,   112,  1,     25,     25,2,19940209,1616,-14.9137, -30.6668, 4871,    798.7,   4.2850,  34.4250,2,  34.4260,2,    179.6,2,    177.2,2,    32.70,2,    33.38,2,     2.25,2,    0.172,2,    0.104,2, -999.000,9,-999.0000,9,  -999.00,9,   2209.4,2,   -999.0,9,     7.88,2,  4.2240
 3230CITHER2_1,  A17C,   112,  1,     24,     24,2,19940209,1616,-14.9137, -30.6668, 4871,   1000.6,   3.7100,  34.5040,2,  34.5060,2,    184.3,2,    184.1,2,    39.20,2,    32.54,2,     2.19,2,    0.070,2,    0.039,2, -999.000,9,-999.0000,9,  -999.00,9,   2215.1,2,   -999.0,9,     7.89,2,  3.6370
 3230CITHER2_1,  A17C,   112,  1,     23,     23,2,19940209,1616,-14.9137, -30.6668, 4871,   1199.7,   3.9480,  34.6910,2,  34.6900,2,    183.6,2,    183.1,2,    33.20,2,    30.26,2,     2.03,2,    0.007,2,    0.004,2, -999.000,9,-999.0000,9,  -999.00,9,   -999.0,9,   -999.0,9,     7.91,2,  3.8560
 3230CITHER2_1,  A17C,   112,  1,     22,     22,2,19940209,1616,-14.9137, -30.6668, 4871,   1398.1,   4.0980,  34.8600,2,  34.8550,2,    205.8,2,    206.1,2,    26.00,2,    25.26,2,     1.72,2,    0.013,2,    0.015,2, -999.000,9,-999.0000,9,  -999.00,9,   -999.0,9,   -999.0,9,     7.96,2,  3.9860
 3230CITHER2_1,  A17C,   112,  1,     21,     21,2,19940209,1616,-14.9137, -30.6668, 4871,   1499.4,   4.0040,  34.9080,2,  34.9090,2,    219.2,2,    220.9,2,    23.50,2,    23.08,2,     1.58,2,    0.021,2,    0.017,2, -999.000,9,-999.0000,9,  -999.00,9,   -999.0,9,   -999.0,9,     7.99,2,  3.8840
 3230CITHER2_1,  A17C,   112,  1,     20,     20,2,19940209,1616,-14.9137, -30.6668, 4871,   1601.1,   3.8680,  34.9340,2,  34.9370,2,    231.4,2,    233.2,2,    22.00,2,    21.82,2,     1.48,2,    0.030,2,    0.017,2, -999.000,9,-999.0000,9,  -999.00,9,   -999.0,9,   -999.0,9,     8.00,2,  3.7400
 3230CITHER2_1,  A17C,   112,  1,     19,     19,2,19940209,1616,-14.9137, -30.6668, 4871,   1699.2,   3.7030,  34.9460,2,  34.9480,2,    238.0,2,    240.2,2,    22.30,2,    21.02,2,     1.42,2,    0.027,2,    0.015,2, -999.000,9,-999.0000,9,  -999.00,9,   -999.0,9,   -999.0,9,     8.01,2,  3.5680
 3230CITHER2_1,  A17C,   112,  1,     18,     18,2,19940209,1616,-14.9137, -30.6668, 4871,   1796.9,   3.6030,  34.9560,2,  34.9570,2,    245.8,2,    245.4,2,    21.80,2,    20.30,2,     1.37,2,    0.027,2,    0.021,2, -999.000,9,-999.0000,9,  -999.00,9,   -999.0,9,   -999.0,9,     8.02,2,  3.4600
 3230CITHER2_1,  A17C,   112,  1,     17,     17,2,19940209,1616,-14.9137, -30.6668, 4871,   2000.6,   3.3480,  34.9470,2,  34.9480,2,    249.5,2,    248.2,2,    24.60,2,    20.47,2,     1.38,2,    0.010,2,    0.008,2, -999.000,9,-999.0000,9,  -999.00,9,   -999.0,9,   -999.0,9,     8.02,2,  3.1900
 3230CITHER2_1,  A17C,   112,  1,     16,     16,2,19940209,1616,-14.9137, -30.6668, 4871,   2200.7,   3.1380,  34.9350,2,  34.9350,2,    247.7,2,    247.6,2,    28.20,2,    20.64,2,     1.40,2,    0.009,2,    0.002,2, -999.000,9,-999.0000,9,  -999.00,9,   -999.0,9,   -999.0,9,     8.02,2,  2.9650
 3230CITHER2_1,  A17C,   112,  1,     15,     15,2,19940209,1616,-14.9137, -30.6668, 4871,   2400.6,   2.9380,  34.9210,2,  34.9190,2,    245.7,2,    245.4,2,    32.80,2,    21.30,2,     1.44,2,    0.003,2,    0.008,2, -999.000,9,-999.0000,9,  -999.00,9,   -999.0,9,   -999.0,9,     8.02,2,  2.7490
 3230CITHER2_1,  A17C,   112,  1,     14,     14,2,19940209,1616,-14.9137, -30.6668, 4871,   2701.0,   2.7570,  34.9040,2,  34.9020,2,    242.5,2,    242.5,2,    38.30,2,    22.04,2,     1.50,2,    0.001,2,   -0.001,2, -999.000,9,-999.0000,9,  -999.00,9,   -999.0,9,   -999.0,9,     8.01,2,  2.5420
 3230CITHER2_1,  A17C,   112,  1,     13,     13,2,19940209,1616,-14.9137, -30.6668, 4871,   2997.1,   2.6860,  34.9020,2,  34.9030,2,    243.1,2,    243.2,2,    39.60,2,    22.04,2,     1.50,2,    0.000,2,    0.000,2, -999.000,9,-999.0000,9,  -999.00,9,   -999.0,9,   -999.0,9,     8.01,2,  2.4420
 3230CITHER2_1,  A17C,   112,  1,     12,     12,2,19940209,1616,-14.9137, -30.6668, 4871,   3197.4,   2.6230,  34.9000,2,  34.8980,2,    244.4,2,    244.0,2,    40.80,2,    22.03,2,     1.50,2,    0.002,2,   -0.001,2, -999.000,9,-999.0000,9,  -999.00,9,   -999.0,9,   -999.0,9,     8.01,2,  2.3600
 3230CITHER2_1,  A17C,   112,  1,     11,     11,2,19940209,1616,-14.9137, -30.6668, 4871,   3401.3,   2.5690,  34.9040,2,  34.9050,2,    248.4,2,    247.2,2,    39.20,2,    21.49,2,     1.46,2,    0.006,2,    0.007,2, -999.000,9,-999.0000,9,  -999.00,9,   -999.0,9,   -999.0,9,     8.01,2,  2.2860
 3230CITHER2_1,  A17C,   112,  1,     10,     10,2,19940209,1616,-14.9137, -30.6668, 4871,   3596.8,   2.4580,  34.8950,2,  34.8950,2,    249.4,2,    249.4,2,    41.60,2,    21.66,2,     1.47,2,    0.003,2,    0.000,2, -999.000,9,-999.0000,9,  -999.00,9,   -999.0,9,   -999.0,9,     8.01,2,  2.1560
 3230CITHER2_1,  A17C,   112,  1,      9,      9,2,19940209,1616,-14.9137, -30.6668, 4871,   3798.5,   2.3120,  34.8860,2,  34.8870,2,    252.6,2,    251.3,2,    44.40,2,    21.56,2,     1.48,2,    0.007,2,    0.008,2, -999.000,9,-999.0000,9,  -999.00,9,   -999.0,9,   -999.0,9,     8.01,2,  1.9920
 3230CITHER2_1,  A17C,   112,  1,      8,      8,2,19940209,1616,-14.9137, -30.6668, 4871,   3898.7,   2.1690,  34.8680,2,  34.8660,2,    248.3,2,    246.9,2,    52.40,2,    22.66,2,     1.57,2,    0.001,2,   -0.002,2, -999.000,9,-999.0000,9,  -999.00,9,   -999.0,9,   -999.0,9,     7.99,2,  1.8420
 3230CITHER2_1,  A17C,   112,  1,      7,      7,2,19940209,1616,-14.9137, -30.6668, 4871,   3999.2,   2.0580,  34.8600,2,  34.8610,2,    248.9,2,    247.9,2,    53.80,2,    22.61,2,     1.57,2,    0.005,2,    0.000,2, -999.000,9,-999.0000,9,  -999.00,9,   -999.0,9,   -999.0,9,     7.99,2,  1.7220
 3230CITHER2_1,  A17C,   112,  1,      6,      6,2,19940209,1616,-14.9137, -30.6668, 4871,   4101.4,   1.8980,  34.8420,2,  34.8420,2,    246.4,2,    244.9,2,    60.80,2,    23.58,2,     1.63,2,    0.000,2,    0.005,2, -999.000,9,-999.0000,9,  -999.00,9,   -999.0,9,   -999.0,9,     7.98,2,  1.5560
 3230CITHER2_1,  A17C,   112,  1,      5,      5,2,19940209,1616,-14.9137, -30.6668, 4871,   4200.0,   1.7510,  34.8260,2,  34.8260,2,    241.8,2,    241.8,2,    68.30,2,    24.88,2,     1.68,2,    0.000,2,    0.002,2, -999.000,9,-999.0000,9,  -999.00,9,   -999.0,9,   -999.0,9,     7.97,2,  1.4020
 3230CITHER2_1,  A17C,   112,  1,      4,      4,2,19940209,1616,-14.9137, -30.6668, 4871,   4398.0,   1.3070,  34.7770,2,  34.7760,2,    233.0,2,    232.9,2,    88.50,2,    27.39,2,     1.91,2,    0.004,2,    0.009,2, -999.000,9,-999.0000,9,  -999.00,9,   -999.0,9,   -999.0,9,     7.94,2,  0.9490
 3230CITHER2_1,  A17C,   112,  1,      3,      3,2,19940209,1616,-14.9137, -30.6668, 4871,   4599.8,   0.9070,  34.7350,2,  34.7340,2,    226.1,2,    226.7,2,   105.30,2,    29.58,2,     2.07,2,    0.018,2,    0.008,2, -999.000,9,-999.0000,9,  -999.00,9,   -999.0,9,   -999.0,9,     7.92,2,  0.5390
 3230CITHER2_1,  A17C,   112,  1,      2,      2,2,19940209,1616,-14.9137, -30.6668, 4871,   4801.6,   0.4820,  34.6930,2,  34.6940,2,    220.9,2,    221.9,2,   120.60,2,    31.60,2,     2.22,2,    0.064,2,    0.031,2, -999.000,9,-999.0000,9,  -999.00,9,   -999.0,9,   -999.0,9,     7.89,2,  0.1050
 3230CITHER2_1,  A17C,   112,  1,      1,      1,2,19940209,1616,-14.9137, -30.6668, 4871,   4915.8,   0.3940,  34.6840,2,  34.6840,2,    219.3,2,    221.0,2,   123.40,2,    32.02,2,     2.25,2,    0.088,2,    0.050,2, -999.000,9,-999.0000,9,  -999.00,9,   -999.0,9,   -999.0,9,     7.89,2,  0.0070
 3230CITHER2_1,  A17C,   113,  1,     32,     32,2,19940209,2220,-14.4225, -30.6408, 4904,      5.0,  27.7190,  37.2430,2,  37.2470,2,    196.1,2,    197.8,2,     0.90,2,     0.04,2,     0.11,2,    1.667,2,    0.993,2, -999.000,9,-999.0000,9,  -999.00,9,   -999.0,9,   -999.0,9,     8.39,2, 27.7180
 3230CITHER2_1,  A17C,   113,  1,     31,     31,2,19940209,2220,-14.4225, -30.6408, 4904,     42.2,  27.4900,  37.2790,2,  37.2760,2,    203.5,2,    199.9,2,     0.90,2,     0.04,2,     0.12,2,    1.687,2,    1.012,2, -999.000,9,-999.0000,9,  -999.00,9,   -999.0,9,   -999.0,9,     8.39,2, 27.4800
 3230CITHER2_1,  A17C,   113,  1,     30,     30,2,19940209,2220,-14.4225, -30.6408, 4904,    126.7,  23.9080,  37.0100,2,  37.0500,2,    213.8,2,    209.7,2,     1.00,2,     0.04,2,     0.18,2,    1.911,2,    1.119,2, -999.000,9,-999.0000,9,  -999.00,9,   -999.0,9,   -999.0,9,     8.35,2, 23.8810
 3230CITHER2_1,  A17C,   113,  1,     29,     29,2,19940209,2220,-14.4225, -30.6408, 4904,    200.0,  17.8240,  35.9190,2,  35.9620,2,    196.9,2,    193.4,2,     2.00,2,     3.58,2,     0.46,2,    2.218,2,    1.225,2, -999.000,9,-999.0000,9,  -999.00,9,   -999.0,9,   -999.0,9,     8.23,2, 17.7900
 3230CITHER2_1,  A17C,   113,  1,     28,     28,2,19940209,2220,-14.4225, -30.6408, 4904,    299.6,  12.8900,  35.1880,2,  35.1830,2,    154.4,2,    154.8,2,     6.20,2,    17.36,2,     1.19,2,    1.609,2,    0.877,2, -999.000,9,-999.0000,9,  -999.00,9,   -999.0,9,   -999.0,9,     8.06,2, 12.8490
 3230CITHER2_1,  A17C,   113,  1,     27,     27,2,19940209,2220,-14.4225, -30.6408, 4904,    402.0,   9.5100,  34.8140,2,  34.8120,2,    135.3,2,    136.2,2,    12.40,2,    26.26,2,     1.75,2,    0.676,2,    0.377,2, -999.000,9,-999.0000,9,  -999.00,9,   -999.0,9,   -999.0,9,     7.94,2,  9.4640
 3230CITHER2_1,  A17C,   113,  1,     26,     26,2,19940209,2220,-14.4225, -30.6408, 4904,    601.7,   5.6000,  34.4680,2,  34.4680,2,    164.1,2,    162.3,2,    23.80,2,    32.44,2,     2.17,2,    0.222,2,    0.125,2, -999.000,9,-999.0000,9,  -999.00,9,   -999.0,9,   -999.0,9,     7.89,2,  5.5490
 3230CITHER2_1,  A17C,   113,  1,     25,     25,2,19940209,2220,-14.4225, -30.6408, 4904,    800.2,   4.2380,  34.4190,2,  34.4220,2,    180.8,2,    180.4,2,    33.00,2,    33.08,2,     2.24,2,    0.194,2,    0.109,2, -999.000,9,-999.0000,9,  -999.00,9,   -999.0,9,   -999.0,9,     7.89,2,  4.1770
 3230CITHER2_1,  A17C,   113,  1,     24,     24,2,19940209,2220,-14.4225, -30.6408, 4904,   1001.4,   3.8230,  34.5180,2,  34.5180,2,    177.7,2,    176.9,2,    37.60,2,    33.11,2,     2.24,2,    0.033,2,    0.020,2, -999.000,9,-999.0000,9,  -999.00,9,   -999.0,9,   -999.0,9,     7.88,2,  3.7490
 3230CITHER2_1,  A17C,   113,  1,     23,     23,2,19940209,2220,-14.4225, -30.6408, 4904,   1203.2,   3.9540,  34.6890,2,  34.6860,2,    181.3,2,    184.3,2,    33.40,2,    30.45,2,     2.05,2,    0.006,2,    0.003,2, -999.000,9,-999.0000,9,  -999.00,9,   -999.0,9,   -999.0,9,     7.90,2,  3.8610
 3230CITHER2_1,  A17C,   113,  1,     22,     22,2,19940209,2220,-14.4225, -30.6408, 4904,   1399.2,   4.1160,  34.8580,2,  34.8590,2,    202.8,2,    204.6,2,    25.40,2,    25.64,2,     1.75,2,    0.009,2,    0.008,2, -999.000,9,-999.0000,9,  -999.00,9,   -999.0,9,   -999.0,9,     7.96,2,  4.0040
 3230CITHER2_1,  A17C,   113,  1,     21,     21,2,19940209,2220,-14.4225, -30.6408, 4904,   1600.0,   3.9630,  34.9340,2,  34.9340,2,    228.3,2,    229.8,2,    21.90,2,    22.35,2,     1.49,2,    0.027,2,    0.019,2, -999.000,9,-999.0000,9,  -999.00,9,   -999.0,9,   -999.0,9,     7.99,2,  3.8340
 3230CITHER2_1,  A17C,   113,  1,     20,     20,2,19940209,2220,-14.4225, -30.6408, 4904,   1700.6,   3.8100,  34.9480,2,  34.9490,2,    237.4,2,    237.9,2,    21.40,2,    21.33,2,     1.42,2,    0.028,2,    0.010,2, -999.000,9,-999.0000,9,  -999.00,9,   -999.0,9,   -999.0,9,     8.01,2,  3.6740
 3230CITHER2_1,  A17C,   113,  1,     19,     19,2,19940209,2220,-14.4225, -30.6408, 4904,   1800.4,   3.6480,  34.9530,2,  34.9530,2,    243.1,2,    243.7,2,    21.90,2,    20.89,2,     1.38,2,    0.022,2,    0.021,2, -999.000,9,-999.0000,9,  -999.00,9,   -999.0,9,   -999.0,9,     8.01,2,  3.5050
 3230CITHER2_1,  A17C,   113,  1,     18,     18,2,19940209,2220,-14.4225, -30.6408, 4904,   2001.8,   3.4000,  34.9520,2,  34.9530,2,    249.1,2,    249.0,2,    23.60,2,    20.53,2,     1.36,2,    0.012,2,    0.010,2, -999.000,9,-999.0000,9,  -999.00,9,   -999.0,9,   -999.0,9,     8.02,2,  3.2410
 3230CITHER2_1,  A17C,   113,  1,     17,     17,2,19940209,2220,-14.4225, -30.6408, 4904,   2197.4,   3.1750,  34.9420,2,  34.9430,2,    248.8,2,    249.5,2,    27.00,2,    20.75,2,     1.37,2,    0.012,2,    0.010,2, -999.000,9,-999.0000,9,  -999.00,9,   -999.0,9,   -999.0,9,     8.02,2,  3.0010
 3230CITHER2_1,  A17C,   113,  1,     16,     16,2,19940209,2220,-14.4225, -30.6408, 4904,   2399.1,   2.9740,  34.9280,2,  34.9270,2,    248.4,2,    248.1,2,    30.90,2,    21.13,2,     1.41,2,    0.005,2,    0.004,2, -999.000,9,-999.0000,9,  -999.00,9,   -999.0,9,   -999.0,9,     8.01,2,  2.7840
 3230CITHER2_1,  A17C,   113,  1,     15,     15,2,19940209,2220,-14.4225, -30.6408, 4904,   2599.2,   2.8540,  34.9210,2,  34.9180,2,    246.7,2,    246.8,2,    33.90,2,    21.39,2,     1.43,2,    0.003,2,    0.001,2, -999.000,9,-999.0000,9,  -999.00,9,   -999.0,9,   -999.0,9,     8.01,2,  2.6470
 3230CITHER2_1,  A17C,   113,  1,     14,     14,2,19940209,2220,-14.4225, -30.6408, 4904,   2798.1,   2.7930,  34.9190,2,  34.9180,2,    247.3,2,    248.4,2,    34.40,2,    21.32,2,     1.43,2,    0.003,2,    0.006,2, -999.000,9,-999.0000,9,  -999.00,9,   -999.0,9,   -999.0,9,     8.01,2,  2.5670
 3230CITHER2_1,  A17C,   113,  1,     13,     13,2,19940209,2220,-14.4225, -30.6408, 4904,   3001.6,   2.7150,  34.9160,2,  34.9150,2,    249.0,2,    248.7,2,    35.80,2,    21.42,2,     1.42,2,    0.003,2,    0.004,2, -999.000,9,-999.0000,9,  -999.00,9,   -999.0,9,   -999.0,9,     8.02,2,  2.4700
 3230CITHER2_1,  A17C,   113,  1,     12,     12,2,19940209,2220,-14.4225, -30.6408, 4904,   3199.1,   2.6590,  34.9130,2,  34.9120,2,    249.9,2,    250.1,2,    36.20,2,    21.26,2,     1.42,2,    0.002,2,    0.006,2, -999.000,9,-999.0000,9,  -999.00,9,   -999.0,9,   -999.0,9,     8.02,2,  2.3950
 3230CITHER2_1,  A17C,   113,  1,     11,     11,2,19940209,2220,-14.4225, -30.6408, 4904,   3400.1,   2.6050,  34.9130,2,  34.9160,2,    253.2,2,    253.3,2,    35.10,2,    20.86,2,     1.38,2, -999.000,5, -999.000,5, -999.000,9,-999.0000,9,  -999.00,9,   -999.0,9,   -999.0,9,     8.03,2,  2.3210
 3230CITHER2_1,  A17C,   113,  1,     10,     10,2,19940209,2220,-14.4225, -30.6408, 4904,   3601.7,   2.4990,  34.9060,2,  34.9110,2,    254.6,2,    254.4,2,    36.90,2,    20.87,2,     1.39,2,    0.011,2,    0.007,2, -999.000,9,-999.0000,9,  -999.00,9,   -999.0,9,   -999.0,9,     8.02,2,  2.1960
 3230CITHER2_1,  A17C,   113,  1,      9,      9,2,19940209,2220,-14.4225, -30.6408, 4904,   3797.9,   2.3290,  34.8890,2,  34.8890,2,    253.2,2,    253.1,2,    42.60,2,    21.55,2,     1.45,2,    0.008,2,    0.011,2, -999.000,9,-999.0000,9,  -999.00,9,   -999.0,9,   -999.0,9,     8.01,2,  2.0080
 3230CITHER2_1,  A17C,   113,  1,      8,      8,2,19940209,2220,-14.4225, -30.6408, 4904,   3897.1,   2.1960,  34.8730,2,  34.8750,2,    251.8,2,    251.3,2,    47.80,2,    22.15,2,     1.49,2,    0.006,2,    0.009,2, -999.000,9,-999.0000,9,  -999.00,9,   -999.0,9,   -999.0,9,     8.01,2,  1.8680
 3230CITHER2_1,  A17C,   113,  1,      7,      7,2,19940209,2220,-14.4225, -30.6408, 4904,   4000.4,   2.1010,  34.8650,2,  34.8640,2,    249.8,2,    249.6,2,    51.80,2,    22.74,2,     1.54,2,    0.005,2,    0.006,2, -999.000,9,-999.0000,9,  -999.00,9,   -999.0,9,   -999.0,9,     8.00,2,  1.7640
 3230CITHER2_1,  A17C,   113,  1,      6,      6,2,19940209,2220,-14.4225, -30.6408, 4904,   4197.0,   1.7850,  34.8290,2,  34.8310,2,    243.0,2,    243.1,2,    67.00,2,    24.59,2,     1.69,2,    0.000,2,    0.004,2, -999.000,9,-999.0000,9,  -999.00,9,   -999.0,9,   -999.0,9,     7.98,2,  1.4350
 3230CITHER2_1,  A17C,   113,  1,      5,      5,2,19940209,2220,-14.4225, -30.6408, 4904,   4396.8,   1.3990,  34.7870,2,  34.7860,2,    234.7,2,    234.6,2,    85.50,2,    27.14,2,     1.86,2,    0.004,2,    0.004,2, -999.000,9,-999.0000,9,  -999.00,9,   -999.0,9,   -999.0,9,     7.96,2,  1.0380
 3230CITHER2_1,  A17C,   113,  1,      4,      4,2,19940209,2220,-14.4225, -30.6408, 4904,   4597.6,   0.9790,  34.7400,2,  34.7400,2,    226.9,2,    227.6,2,   103.20,2,    29.61,2,     2.04,2,    0.015,2,    0.007,2, -999.000,9,-999.0000,9,  -999.00,9,   -999.0,9,   -999.0,9,     7.93,2,  0.6090
 3230CITHER2_1,  A17C,   113,  1,      3,      3,2,19940209,2220,-14.4225, -30.6408, 4904,   4798.4,   0.5800,  34.7050,2,  34.7030,2,    221.9,2,    222.4,2,   117.90,2,    31.66,2,     2.18,2,    0.040,2,    0.024,2, -999.000,9,-999.0000,9,  -999.00,9,   -999.0,9,   -999.0,9,     7.91,2,  0.2000
 3230CITHER2_1,  A17C,   113,  1,      2,      2,2,19940209,2220,-14.4225, -30.6408, 4904,   4899.3,   0.5050,  34.6950,2,  34.6930,2,    220.4,2,    222.2,2,   120.80,2,    31.94,2,     2.20,2,    0.054,2,    0.034,2, -999.000,9,-999.0000,9,  -999.00,9,   -999.0,9,   -999.0,9,     7.90,2,  0.1160
 3230CITHER2_1,  A17C,   113,  1,      1,      1,2,19940209,2220,-14.4225, -30.6408, 4904,   4960.7,   0.4020,  34.6840,2,  34.6860,2,    220.4,2,    221.3,2,   124.40,2,    32.59,2,     2.24,2,    0.073,2,    0.035,2, -999.000,9,-999.0000,9,  -999.00,9,   -999.0,9,   -999.0,9,     7.89,2,  0.0100