BOTTLE,20030515WHPSIOSA
EXPOCODE,SECT_ID,STNNBR,CASTNO,SAMPNO,BTLNBR,BTLNBR_FLAG_W,DATE,TIME,LATITUDE,LONGITUDE,DEPTH,CTDPRS,CTDTMP,CTDSAL,CTDSAL_FLAG_W,SALNTY,SALNTY_FLAG_W,CTDOXY,CTDOXY_FLAG_W,OXYGEN,OXYGEN_FLAG_W,SILCAT,SILCAT_FLAG_W,NITRAT,NITRAT_FLAG_W,PHSPHT,PHSPHT_FLAG_W,CFC-11,CFC-11_FLAG_W,CFC-12,CFC-12_FLAG_W,TRITUM,TRITUM_FLAG_W,HELIUM,HELIUM_FLAG_W,DELHE3,DELHE3_FLAG_W,TCARBN,TCARBN_FLAG_W,ALKALI,ALKALI_FLAG_W,PH,PH_FLAG_W,THETA
,,,,,,,,,,,,DBAR,ITS-90,PSS-78,,PSS-78,,UMOL/KG,,UMOL/KG,,UMOL/KG,,UMOL/KG,,UMOL/KG,,PMOL/KG,,PMOL/KG,,TU,,NMOL/KG,,PERCNT,,UMOL/KG,,UMOL/KG,,,,DEG C
 3230CITHER2_2,  A17N,   187,  1,     32,     32,2,19940308,1430,  3.6263, -37.9558, 4372,      7.2,  26.8180,  35.9340,2,  35.9350,2,    196.7,2,    201.0,2,     1.80,2,     0.04,2,     0.02,2,    1.716,2,    0.979,2, -999.000,9,-999.0000,9,  -999.00,9,   -999.0,9,   -999.0,9,     8.38,2, 26.8160
 3230CITHER2_2,  A17N,   187,  1,     31,     31,2,19940308,1430,  3.6263, -37.9558, 4372,     51.2,  26.6200,  36.0000,2,  36.0030,2,    205.5,2,    201.3,2,     1.80,2,     0.20,2,     0.03,2,    1.704,2,    0.973,2, -999.000,9,-999.0000,9,  -999.00,9,   -999.0,9,   -999.0,9,     8.38,2, 26.6080
 3230CITHER2_2,  A17N,   187,  1,     30,     30,2,19940308,1430,  3.6263, -37.9558, 4372,    111.6,  12.5990,  35.2200,2,  35.2370,2,    156.2,2,    149.2,2,     8.80,2,    18.79,2,     1.29,2,    1.351,2,    0.710,2, -999.000,9,-999.0000,9,  -999.00,9,   -999.0,9,   -999.0,9,     8.05,2, 12.5840
 3230CITHER2_2,  A17N,   187,  1,     29,     29,2,19940308,1430,  3.6263, -37.9558, 4372,    201.0,  11.7270,  35.1130,2,  35.1050,2,    134.6,2,    141.5,2,    10.20,2,    21.20,2,     1.46,2,    1.192,2,    0.639,2, -999.000,9,-999.0000,9,  -999.00,9,   -999.0,9,   -999.0,9,     8.01,2, 11.7010
 3230CITHER2_2,  A17N,   187,  1,     28,     28,2,19940308,1430,  3.6263, -37.9558, 4372,    301.0,  10.8500,  35.0050,2,  35.0000,2,    141.1,2,    143.6,2,    11.40,2,    22.66,2,     1.56,2,    1.022,2,    0.536,2, -999.000,9,-999.0000,9,  -999.00,9,   -999.0,9,   -999.0,9,     7.99,2, 10.8130
 3230CITHER2_2,  A17N,   187,  1,     27,     27,2,19940308,1430,  3.6263, -37.9558, 4372,    401.1,   9.8220,  34.9270,2,  34.9080,2,    132.8,2,    136.1,2,    13.60,2,    24.98,2,     1.73,2,    0.796,2,    0.429,2, -999.000,9,-999.0000,9,  -999.00,9,   -999.0,9,   -999.0,9,     7.95,2,  9.7760
 3230CITHER2_2,  A17N,   187,  1,     26,     26,2,19940308,1430,  3.6263, -37.9558, 4372,    500.4,   7.7840,  34.7080,2,  34.7050,2,    131.5,2,    126.9,2,    18.70,2,    30.73,2,     2.06,2,    0.364,2,    0.195,2, -999.000,9,-999.0000,9,  -999.00,9,   -999.0,9,   -999.0,9,     7.88,2,  7.7330
 3230CITHER2_2,  A17N,   187,  1,     25,     25,2,19940308,1430,  3.6263, -37.9558, 4372,    599.6,   6.5070,  34.6170,2,  34.6190,2,    117.3,2,    116.0,2,    23.40,2,    34.51,2,     2.32,2,    0.091,2,    0.054,2, -999.000,9,-999.0000,9,  -999.00,9,   -999.0,9,   -999.0,9,     7.85,2,  6.4520
 3230CITHER2_2,  A17N,   187,  1,     24,     24,2,19940308,1430,  3.6263, -37.9558, 4372,    801.4,   4.9790,  34.5690,2,  34.5680,2,    140.3,2,    138.8,2,    29.80,2,    34.56,2,     2.38,2,    0.021,2,    0.011,2, -999.000,9,-999.0000,9,  -999.00,9,   -999.0,9,   -999.0,9,     7.83,2,  4.9130
 3230CITHER2_2,  A17N,   187,  1,     23,     23,2,19940308,1430,  3.6263, -37.9558, 4372,   1000.5,   4.6430,  34.6700,2,  34.6680,2,    159.5,2,    157.3,2,    29.70,2,    31.83,2,     2.20,2,    0.009,2,    0.006,2, -999.000,9,-999.0000,9,  -999.00,9,   -999.0,9,   -999.0,9,     7.88,2,  4.5620
 3230CITHER2_2,  A17N,   187,  1,     22,     22,2,19940308,1430,  3.6263, -37.9558, 4372,   1199.7,   4.6440,  34.8560,2,  34.8540,2,    184.7,2,    183.4,2,    24.40,2,    26.79,2,     1.85,2,    0.018,2,    0.011,2, -999.000,9,-999.0000,9,  -999.00,9,   -999.0,9,   -999.0,9,     7.93,2,  4.5450
 3230CITHER2_2,  A17N,   187,  1,     21,     21,2,19940308,1430,  3.6263, -37.9558, 4372,   1400.3,   4.4450,  34.9570,2,  34.9640,2,    218.1,2,    218.7,2,    19.40,2,    22.22,2,     1.52,2,    0.067,2,    0.043,2, -999.000,9,-999.0000,9,  -999.00,9,   -999.0,9,   -999.0,9,     7.99,2,  4.3290
 3230CITHER2_2,  A17N,   187,  1,     20,     20,2,19940308,1430,  3.6263, -37.9558, 4372,   1500.6,   4.2560,  34.9750,2,  34.9730,2,    229.0,2,    230.8,2,    18.50,2,    21.15,2,     1.44,2,    0.061,2,    0.041,2, -999.000,9,-999.0000,9,  -999.00,9,   -999.0,9,   -999.0,9,     8.01,2,  4.1330
 3230CITHER2_2,  A17N,   187,  1,     19,     19,2,19940308,1430,  3.6263, -37.9558, 4372,   1601.0,   4.1360,  34.9840,2,  34.9820,2,    238.7,2,    242.1,2,    17.50,2,    20.16,2,     1.37,2,    0.071,2,    0.045,2, -999.000,9,-999.0000,9,  -999.00,9,   -999.0,9,   -999.0,9,     8.02,2,  4.0050
 3230CITHER2_2,  A17N,   187,  1,     18,     18,2,19940308,1430,  3.6263, -37.9558, 4372,   1699.9,   4.0270,  34.9870,2,  34.9850,2,    244.7,2,    245.1,2,    17.40,2,    19.73,2,     1.32,2,    0.082,2,    0.052,2, -999.000,9,-999.0000,9,  -999.00,9,   -999.0,9,   -999.0,9,     8.03,2,  3.8880
 3230CITHER2_2,  A17N,   187,  1,     17,     17,2,19940308,1430,  3.6263, -37.9558, 4372,   1799.6,   3.9230,  34.9830,2,  34.9810,2,    246.8,2,    246.6,2,    17.90,2,    19.76,2,     1.32,2,    0.060,2,    0.037,2, -999.000,9,-999.0000,9,  -999.00,9,   -999.0,9,   -999.0,9,     8.02,2,  3.7760
 3230CITHER2_2,  A17N,   187,  1,     16,     16,2,19940308,1430,  3.6263, -37.9558, 4372,   1999.1,   3.6110,  34.9780,2,  34.9730,2,    253.3,2,    254.2,2,    18.90,2,    19.05,2,     1.28,2,    0.052,2,    0.033,2, -999.000,9,-999.0000,9,  -999.00,9,   -999.0,9,   -999.0,9,     8.03,2,  3.4490
 3230CITHER2_2,  A17N,   187,  1,     15,     15,2,19940308,1430,  3.6263, -37.9558, 4372,   2197.6,   3.3240,  34.9620,2,  34.9620,2,    255.4,2,    254.9,2,    21.90,2,    19.29,2,     1.30,2,    0.036,2,    0.021,2, -999.000,9,-999.0000,9,  -999.00,9,   -999.0,9,   -999.0,9,     8.03,2,  3.1480
 3230CITHER2_2,  A17N,   187,  1,     14,     14,2,19940308,1430,  3.6263, -37.9558, 4372,   2399.7,   3.0530,  34.9500,2,  34.9480,2,    256.1,2,    256.1,2,    24.90,2,    19.44,2,     1.31,2,    0.015,2,    0.015,2, -999.000,9,-999.0000,9,  -999.00,9,   -999.0,9,   -999.0,9,     8.03,2,  2.8620
 3230CITHER2_2,  A17N,   187,  1,     13,     13,2,19940308,1430,  3.6263, -37.9558, 4372,   2599.7,   2.8730,  34.9380,2,  34.9350,2,    255.1,2,    255.7,2,    27.80,2,    19.76,2,     1.33,2,    0.012,2,    0.009,2, -999.000,9,-999.0000,9,  -999.00,9,   -999.0,9,   -999.0,9,     8.03,2,  2.6660
 3230CITHER2_2,  A17N,   187,  1,     12,     12,2,19940308,1430,  3.6263, -37.9558, 4372,   2797.6,   2.7690,  34.9290,2,  34.9270,2,    254.2,2,    254.6,2,    30.00,2,    19.99,2,     1.35,2,    0.009,2,    0.006,2, -999.000,9,-999.0000,9,  -999.00,9,   -999.0,9,   -999.0,9,     8.03,2,  2.5440
 3230CITHER2_2,  A17N,   187,  1,     11,     11,2,19940308,1430,  3.6263, -37.9558, 4372,   2999.0,   2.6930,  34.9220,2,  34.9200,2,    252.5,2,    253.4,2,    32.60,2,    20.39,2,     1.38,2,    0.006,2,    0.005,2, -999.000,9,-999.0000,9,  -999.00,9,   -999.0,9,   -999.0,9,     8.03,2,  2.4490
 3230CITHER2_2,  A17N,   187,  1,     10,     10,2,19940308,1430,  3.6263, -37.9558, 4372,   3198.2,   2.6040,  34.9190,2,  34.9180,2,    255.6,2,    256.3,2,    32.00,2,    19.99,2,     1.35,2,    0.017,2,    0.010,2, -999.000,9,-999.0000,9,  -999.00,9,   -999.0,9,   -999.0,9,     8.03,2,  2.3390
 3230CITHER2_2,  A17N,   187,  1,      9,      9,2,19940308,1430,  3.6263, -37.9558, 4372,   3199.0,   2.6020,  34.9180,2,  34.9180,2,    255.6,2,    256.7,2,    32.00,2,    20.03,2,     1.35,2,    0.014,2,    0.011,2, -999.000,9,-999.0000,9,  -999.00,9,   -999.0,9,   -999.0,9,     8.03,2,  2.3410
 3230CITHER2_2,  A17N,   187,  1,      8,      8,2,19940308,1430,  3.6263, -37.9558, 4372,   3398.9,   2.4930,  34.9120,2,  34.9110,2,    258.5,2,    259.1,2,    31.90,2,    19.44,2,     1.33,2,    0.033,2,    0.024,2, -999.000,9,-999.0000,9,  -999.00,9,   -999.0,9,   -999.0,9,     8.03,2,  2.2120
 3230CITHER2_2,  A17N,   187,  1,      7,      7,2,19940308,1430,  3.6263, -37.9558, 4372,   3548.7,   2.4340,  34.9080,2,  34.9100,2,    260.6,2,    260.9,2,    31.60,2,    19.24,2,     1.32,2,    0.054,2,    0.035,2, -999.000,9,-999.0000,9,  -999.00,9,   -999.0,9,   -999.0,9,     8.03,2,  2.1380
 3230CITHER2_2,  A17N,   187,  1,      6,      6,2,19940308,1430,  3.6263, -37.9558, 4372,   3698.6,   2.3860,  34.9040,2,  34.9040,2,    261.2,2,    261.3,2,    32.70,2,    19.79,2,     1.31,2,    0.054,2,    0.033,2, -999.000,9,-999.0000,9,  -999.00,9,   -999.0,9,   -999.0,9,     8.03,2,  2.0750
 3230CITHER2_2,  A17N,   187,  1,      5,      5,2,19940308,1430,  3.6263, -37.9558, 4372,   3849.1,   2.2890,  34.8950,2,  34.8930,2,    260.4,2,    259.9,2,    35.90,2,    20.18,2,     1.36,2,    0.049,2,    0.032,2, -999.000,9,-999.0000,9,  -999.00,9,   -999.0,9,   -999.0,9,     8.03,2,  1.9640
 3230CITHER2_2,  A17N,   187,  1,      4,      4,2,19940308,1430,  3.6263, -37.9558, 4372,   3998.5,   2.1520,  34.8810,2,  34.8810,2,    259.0,2,    257.9,2,    40.50,2,    20.58,2,     1.40,2,    0.036,2,    0.024,2, -999.000,9,-999.0000,9,  -999.00,9,   -999.0,9,   -999.0,9,     8.02,2,  1.8140
 3230CITHER2_2,  A17N,   187,  1,      3,      3,2,19940308,1430,  3.6263, -37.9558, 4372,   4198.0,   1.8160,  34.8380,2,  34.8400,2,    248.6,2,    247.9,2,    58.60,2,    23.16,2,     1.59,2,    0.036,2,    0.024,2, -999.000,9,-999.0000,9,  -999.00,9,   -999.0,9,   -999.0,9,     8.00,2,  1.4650
 3230CITHER2_2,  A17N,   187,  1,      2,      2,2,19940308,1430,  3.6263, -37.9558, 4372,   4397.3,   1.5710,  34.8090,2,  34.8080,2,    241.3,2,    240.7,2,    72.60,2,    25.13,2,     1.74,2,    0.026,2,    0.016,2, -999.000,9,-999.0000,9,  -999.00,9,   -999.0,9,   -999.0,9,     7.98,2,  1.2050
 3230CITHER2_2,  A17N,   187,  1,      1,      1,2,19940308,1430,  3.6263, -37.9558, 4372,   4426.7,   1.5190,  34.8030,2,  34.8020,2,    240.2,2,    239.6,2,    75.20,2,    25.43,2,     1.76,2,    0.024,2,    0.016,2, -999.000,9,-999.0000,9,  -999.00,9,   -999.0,9,   -999.0,9,     7.98,2,  1.1510
 3230CITHER2_2,  A17N,   188,  1,     32,     32,2,19940308,2043,  3.9167, -38.4600, 4349,      5.9,  26.6380,  36.0450,2,  36.0460,2,    202.6,2,    202.0,2,     1.60,2,     0.00,2,     0.00,2,    1.740,2,    0.989,2, -999.000,9,-999.0000,9,  -999.00,9,   1998.5,2,   2368.0,2,     8.39,2, 26.6370
 3230CITHER2_2,  A17N,   188,  1,     31,     31,2,19940308,2043,  3.9167, -38.4600, 4349,     51.0,  26.5760,  36.0410,2,  36.0430,2,    203.2,2,    202.3,2,     1.80,2,     0.00,2,     0.00,2,    1.737,2,    0.978,2, -999.000,9,-999.0000,9,  -999.00,9,   1999.5,2,   2366.9,2,     8.39,2, 26.5640
 3230CITHER2_2,  A17N,   188,  1,     30,     30,2,19940308,2043,  3.9167, -38.4600, 4349,    126.4,  16.6440,  35.8260,2,  35.7800,2,    146.9,2,    145.6,2,     6.60,2,    14.72,2,     1.01,2,    1.504,2,    0.810,2, -999.000,9,-999.0000,9,  -999.00,9,   2145.1,2,   2357.9,2,     8.12,2, 16.6230
 3230CITHER2_2,  A17N,   188,  1,     29,     29,2,19940308,2043,  3.9167, -38.4600, 4349,    201.3,  11.5380,  35.0900,2,  35.0860,2,    134.1,2,    147.3,2,    10.20,2,    21.16,2,     1.45,2,    1.193,2,    0.634,2, -999.000,9,-999.0000,9,  -999.00,9,   2161.1,2,   2322.2,2,     8.01,2, 11.5120
 3230CITHER2_2,  A17N,   188,  1,     28,     28,2,19940308,2043,  3.9167, -38.4600, 4349,    301.1,  10.4610,  34.9600,2,  34.9580,2,    137.2,2,    138.3,2,    12.10,2,    23.93,2,     1.63,2,    0.925,2,    0.500,2, -999.000,9,-999.0000,9,  -999.00,9,   2177.2,2,   2317.3,2,     7.96,2, 10.4250
 3230CITHER2_2,  A17N,   188,  1,     27,     27,2,19940308,2043,  3.9167, -38.4600, 4349,    400.3,   9.6670,  34.9220,2,  34.9180,2,    137.7,2,    129.0,2,    13.90,2,    26.33,2,     1.76,2,    0.699,2,    0.377,2, -999.000,9,-999.0000,9,  -999.00,9,   2188.9,2,   2316.3,2,     7.93,2,  9.6210
 3230CITHER2_2,  A17N,   188,  1,     26,     26,2,19940308,2043,  3.9167, -38.4600, 4349,    502.9,   7.6770,  34.7160,2,  34.7180,2,    114.9,2,    108.1,2,    19.90,2,    33.08,2,     2.17,2,    0.191,2,    0.107,2, -999.000,9,-999.0000,9,  -999.00,9,   2217.4,2,   2310.5,2,     7.83,2,  7.6270
 3230CITHER2_2,  A17N,   188,  1,     25,     25,2,19940308,2043,  3.9167, -38.4600, 4349,    599.9,   6.4540,  34.6280,2,  34.6220,2,    116.8,2,    117.1,2,    23.80,2,    34.49,2,     2.30,2,    0.084,2,    0.055,2, -999.000,9,-999.0000,9,  -999.00,9,   2220.0,2,   2309.1,2,     7.82,2,  6.3990
 3230CITHER2_2,  A17N,   188,  1,     24,     24,2,19940308,2043,  3.9167, -38.4600, 4349,    800.3,   5.0310,  34.5570,2,  34.5580,2,    137.4,2,    140.1,2,    29.90,2,    34.50,2,     2.37,2,    0.042,2,    0.026,2, -999.000,9,-999.0000,9,  -999.00,9,   2205.1,3,   2314.2,2,     7.84,2,  4.9650
 3230CITHER2_2,  A17N,   188,  1,     23,     23,2,19940308,2043,  3.9167, -38.4600, 4349,   1001.1,   4.6590,  34.6500,2,  34.6520,2,    156.0,2,    154.0,2,    30.50,2,    32.52,2,     2.23,2,    0.007,2,    0.006,2, -999.000,9,-999.0000,9,  -999.00,9,   2217.9,2,   2318.8,2,     7.85,2,  4.5780
 3230CITHER2_2,  A17N,   188,  1,     22,     22,2,19940308,2043,  3.9167, -38.4600, 4349,   1200.5,   4.6650,  34.8120,2,  34.8130,2,    176.9,2,    175.0,2,    26.10,2,    28.44,2,     1.95,2,    0.012,2,    0.010,2, -999.000,9,-999.0000,9,  -999.00,9,   2204.7,2,   2324.5,2,     7.91,2,  4.5660
 3230CITHER2_2,  A17N,   188,  1,     21,     21,2,19940308,2043,  3.9167, -38.4600, 4349,   1399.7,   4.4610,  34.9510,2,  34.9510,2,    215.1,2,    215.4,2,    20.10,2,    22.78,2,     1.55,2,    0.052,2,    0.034,2, -999.000,9,-999.0000,9,  -999.00,9,   2181.0,2,   2324.5,2,     7.97,2,  4.3450
 3230CITHER2_2,  A17N,   188,  1,     20,     20,2,19940308,2043,  3.9167, -38.4600, 4349,   1500.3,   4.2980,  34.9800,2,  34.9800,2,    230.2,2,    232.5,2,    18.00,2,    21.03,2,     1.41,2,    0.086,2,    0.053,2, -999.000,9,-999.0000,9,  -999.00,9,   2171.4,2,   2325.3,2,     7.99,2,  4.1740
 3230CITHER2_2,  A17N,   188,  1,     19,     19,2,19940308,2043,  3.9167, -38.4600, 4349,   1600.7,   4.1260,  34.9840,2,  34.9840,2,    238.7,2,    240.9,2,    17.50,2,    20.33,2,     1.36,2,    0.075,2,    0.044,2, -999.000,9,-999.0000,9,  -999.00,9,   2166.0,2,   2325.3,2,     8.00,2,  3.9950
 3230CITHER2_2,  A17N,   188,  1,     18,     18,2,19940308,2043,  3.9167, -38.4600, 4349,   1701.4,   4.0040,  34.9850,2,  34.9860,2,    246.7,2,    246.3,2,    17.40,2,    19.87,2,     1.32,2,    0.072,2,    0.049,2, -999.000,9,-999.0000,9,  -999.00,9,   2164.4,2,   2328.4,2,     8.01,2,  3.8650
 3230CITHER2_2,  A17N,   188,  1,     17,     17,2,19940308,2043,  3.9167, -38.4600, 4349,   1799.9,   3.9290,  34.9840,2,  34.9850,2,    248.7,2,    247.5,2,    17.70,2,    19.64,2,     1.32,2,    0.061,2,    0.040,2, -999.000,9,-999.0000,9,  -999.00,9,   2165.5,2,   2328.1,2,     8.01,2,  3.7820
 3230CITHER2_2,  A17N,   188,  1,     16,     16,2,19940308,2043,  3.9167, -38.4600, 4349,   2000.6,   3.6570,  34.9800,2,  34.9770,2,    255.0,2,    253.9,2,    18.60,2,    19.29,2,     1.28,2,    0.056,2,    0.037,2, -999.000,9,-999.0000,9,  -999.00,9,   2162.0,2,   2326.1,2,     8.02,2,  3.4940
 3230CITHER2_2,  A17N,   188,  1,     15,     15,2,19940308,2043,  3.9167, -38.4600, 4349,   2200.3,   3.4730,  34.9730,2,  34.9730,2,    258.6,2,    256.4,2,    19.80,2,    19.14,2,     1.27,2,    0.043,2,    0.032,2, -999.000,9,-999.0000,9,  -999.00,9,   2164.4,2,   2328.3,2,     8.02,2,  3.2940
 3230CITHER2_2,  A17N,   188,  1,     14,     14,2,19940308,2043,  3.9167, -38.4600, 4349,   2399.5,   3.2220,  34.9560,2,  34.9570,2,    256.8,2,    255.1,2,    23.60,2,    19.62,2,     1.31,2,    0.015,2,    0.015,2, -999.000,9,-999.0000,9,  -999.00,9,   2166.7,2,   2332.1,2,     8.02,2,  3.0280
 3230CITHER2_2,  A17N,   188,  1,     13,     13,2,19940308,2043,  3.9167, -38.4600, 4349,   2598.4,   2.9550,  34.9430,2,  34.9430,2,    257.1,2,    256.2,2,    26.50,2,    19.71,2,     1.31,2,    0.017,2,    0.012,2, -999.000,9,-999.0000,9,  -999.00,9,   2170.6,2,   2334.3,2,     8.02,2,  2.7460
 3230CITHER2_2,  A17N,   188,  1,     12,     12,2,19940308,2043,  3.9167, -38.4600, 4349,   2800.7,   2.8140,  34.9350,2,  34.9340,2,    257.1,2,    257.4,2,    28.00,2,    19.79,2,     1.32,2,    0.023,2,    0.015,2, -999.000,9,-999.0000,9,  -999.00,9,   2160.7,3,   2337.3,2,     8.02,2,  2.5880
 3230CITHER2_2,  A17N,   188,  1,     10,     10,2,19940308,2043,  3.9167, -38.4600, 4349,   2999.4,   2.7350,  34.9270,2,  34.9280,2,    256.4,2,    256.8,2,    30.70,2,    20.04,2,     1.34,2,    0.012,2,    0.011,2, -999.000,9,-999.0000,9,  -999.00,9,   2175.4,2,   2338.3,2,     8.02,2,  2.4900
 3230CITHER2_2,  A17N,   188,  1,     11,     11,2,19940308,2043,  3.9167, -38.4600, 4349,   2999.5,   2.7360,  34.9250,2,  34.9260,2,    256.4,2,    255.2,2,    30.70,2,    20.15,2,     1.34,2,    0.012,2,    0.010,2, -999.000,9,-999.0000,9,  -999.00,9,   -999.0,5,   2338.3,2,     8.02,2,  2.4910
 3230CITHER2_2,  A17N,   188,  1,      9,      9,2,19940308,2043,  3.9167, -38.4600, 4349,   3199.1,   2.6320,  34.9200,2,  34.9210,2,    256.8,2,    257.0,2,    31.60,2,    19.97,2,     1.35,2,    0.016,2,    0.006,2, -999.000,9,-999.0000,9,  -999.00,9,   2175.1,2,   2342.7,2,     8.02,2,  2.3690
 3230CITHER2_2,  A17N,   188,  1,      8,      8,2,19940308,2043,  3.9167, -38.4600, 4349,   3398.6,   2.5620,  34.9170,2,  34.9160,2,    259.2,2,    259.1,2,    31.10,2,    19.62,2,     1.32,2,    0.032,2,    0.024,2, -999.000,9,-999.0000,9,  -999.00,9,   2173.8,2,   2339.2,2,     8.02,2,  2.2790
 3230CITHER2_2,  A17N,   188,  1,      7,      7,2,19940308,2043,  3.9167, -38.4600, 4349,   3548.8,   2.4810,  34.9120,2,  34.9130,2,    260.1,2,    260.5,2,    31.70,2,    19.55,2,     1.32,2,    0.046,2,    0.029,2, -999.000,9,-999.0000,9,  -999.00,9,   2175.6,2,   2338.5,2,     8.02,2,  2.1840
 3230CITHER2_2,  A17N,   188,  1,      6,      6,2,19940308,2043,  3.9167, -38.4600, 4349,   3697.9,   2.3720,  34.9000,2,  34.9020,2,    258.5,2,    258.9,2,    35.10,2,    19.99,2,     1.35,2,    0.029,2,    0.021,2, -999.000,9,-999.0000,9,  -999.00,9,   2176.5,2,   2341.8,2,     8.01,2,  2.0610
 3230CITHER2_2,  A17N,   188,  1,      5,      5,2,19940308,2043,  3.9167, -38.4600, 4349,   3848.7,   2.3060,  34.8950,2,  34.8950,2,    260.0,2,    260.7,2,    35.70,2,    20.00,2,     1.35,2,    0.043,2,    0.030,2, -999.000,9,-999.0000,9,  -999.00,9,   2165.8,2,   2341.6,2,     8.01,2,  1.9800
 3230CITHER2_2,  A17N,   188,  1,      4,      4,2,19940308,2043,  3.9167, -38.4600, 4349,   3998.3,   2.1860,  34.8830,2,  34.8820,2,    257.3,2,    257.3,2,    41.20,2,    20.71,2,     1.41,2,    0.045,2,    0.032,2, -999.000,9,-999.0000,9,  -999.00,9,   2182.6,2,   2347.5,2,     8.00,2,  1.8470
 3230CITHER2_2,  A17N,   188,  1,      3,      3,2,19940308,2043,  3.9167, -38.4600, 4349,   4146.9,   2.0110,  34.8620,2,  34.8630,2,    252.8,2,    253.1,2,    49.30,2,    21.82,2,     1.49,2,    0.041,2,    0.020,2, -999.000,9,-999.0000,9,  -999.00,9,   2193.4,2,   2352.8,2,     7.99,2,  1.6600
 3230CITHER2_2,  A17N,   188,  1,      2,      2,2,19940308,2043,  3.9167, -38.4600, 4349,   4298.4,   1.6880,  34.8230,2,  34.8250,2,    244.4,2,    244.4,2,    66.10,2,    24.11,2,     1.68,2,    0.035,2,    0.021,2, -999.000,9,-999.0000,9,  -999.00,9,   2208.2,2,   2361.8,2,     7.97,2,  1.3290
 3230CITHER2_2,  A17N,   188,  1,      1,      1,2,19940308,2043,  3.9167, -38.4600, 4349,   4400.1,   1.5820,  34.8100,2,  34.8130,2,    239.7,2,    240.9,2,    72.50,2,    24.87,2,     1.73,2,    0.026,2,    0.019,2, -999.000,9,-999.0000,9,  -999.00,9,   2217.5,2,   2364.1,2,     7.97,2,  1.2150