BOTTLE,20030515WHPSIOSA
EXPOCODE,SECT_ID,STNNBR,CASTNO,SAMPNO,BTLNBR,BTLNBR_FLAG_W,DATE,TIME,LATITUDE,LONGITUDE,DEPTH,CTDPRS,CTDTMP,CTDSAL,CTDSAL_FLAG_W,SALNTY,SALNTY_FLAG_W,CTDOXY,CTDOXY_FLAG_W,OXYGEN,OXYGEN_FLAG_W,SILCAT,SILCAT_FLAG_W,NITRAT,NITRAT_FLAG_W,PHSPHT,PHSPHT_FLAG_W,CFC-11,CFC-11_FLAG_W,CFC-12,CFC-12_FLAG_W,TRITUM,TRITUM_FLAG_W,HELIUM,HELIUM_FLAG_W,DELHE3,DELHE3_FLAG_W,TCARBN,TCARBN_FLAG_W,ALKALI,ALKALI_FLAG_W,PH,PH_FLAG_W,THETA
,,,,,,,,,,,,DBAR,ITS-90,PSS-78,,PSS-78,,UMOL/KG,,UMOL/KG,,UMOL/KG,,UMOL/KG,,UMOL/KG,,PMOL/KG,,PMOL/KG,,TU,,NMOL/KG,,PERCNT,,UMOL/KG,,UMOL/KG,,,,DEG C
 3230CITHER2_2,  A17N,   181,  1,     32,     32,2,19940307,0211,  1.8738, -34.9458, 4000,      5.3,  27.2000,  36.0070,2,  36.0050,2,    203.2,2,    199.8,2,     1.70,2,     0.04,2,     0.06,2,    1.669,2,    0.964,2, -999.000,9,-999.0000,9,  -999.00,9,   -999.0,9,   -999.0,9,     8.37,2, 27.1990
 3230CITHER2_2,  A17N,   181,  1,     31,     31,2,19940307,0211,  1.8738, -34.9458, 4000,     41.4,  27.1420,  36.0270,2,  36.0280,2,    200.1,2,    199.6,2,     1.70,2,     0.04,2,     0.06,2,    1.662,2,    0.955,2, -999.000,9,-999.0000,9,  -999.00,9,   -999.0,9,   -999.0,9,     8.37,2, 27.1320
 3230CITHER2_2,  A17N,   181,  1,     30,     30,2,19940307,0211,  1.8738, -34.9458, 4000,    100.2,  13.6750,  35.3730,2,  35.3710,2,    155.2,2,    143.7,2,     7.90,2,    17.98,2,     1.23,2,    1.380,2,    0.733,2, -999.000,9,-999.0000,9,  -999.00,9,   -999.0,9,   -999.0,9,     8.05,2, 13.6610
 3230CITHER2_2,  A17N,   181,  1,     29,     29,2,19940307,0211,  1.8738, -34.9458, 4000,    150.8,  12.3680,  35.2050,2,  35.2030,2,    108.9,2,    114.3,2,    10.10,2,    23.08,2,     1.54,2,    0.994,2,    0.525,2, -999.000,9,-999.0000,9,  -999.00,9,   -999.0,9,   -999.0,9,     7.97,2, 12.3480
 3230CITHER2_2,  A17N,   181,  1,     28,     28,2,19940307,0211,  1.8738, -34.9458, 4000,    202.0,  11.7330,  35.1270,2,  35.1210,2,    122.3,2,    128.8,2,    10.60,2,    22.74,2,     1.52,2,    1.026,2,    0.544,2, -999.000,9,-999.0000,9,  -999.00,9,   -999.0,9,   -999.0,9,     7.98,2, 11.7070
 3230CITHER2_2,  A17N,   181,  1,     27,     27,2,19940307,0211,  1.8738, -34.9458, 4000,    301.3,  10.1300,  34.9300,2,  34.9310,2,    132.9,2,    134.4,2,    13.10,2,    25.03,2,     1.67,2,    0.828,2,    0.435,2, -999.000,9,-999.0000,9,  -999.00,9,   -999.0,9,   -999.0,9,     7.94,2, 10.0950
 3230CITHER2_2,  A17N,   181,  1,     26,     26,2,19940307,0211,  1.8738, -34.9458, 4000,    402.0,   8.3430,  34.7490,2,  34.7500,2,    115.9,2,    114.6,2,    17.60,2,    31.22,2,     2.01,2,    0.392,2,    0.212,2, -999.000,9,-999.0000,9,  -999.00,9,   -999.0,9,   -999.0,9,     7.86,2,  8.3010
 3230CITHER2_2,  A17N,   181,  1,     25,     25,2,19940307,0211,  1.8738, -34.9458, 4000,    501.3,   7.5620,  34.6730,2,  34.6710,2,    131.0,2,    123.5,2,    19.80,2,    32.16,2,     2.09,2,    0.307,2,    0.169,2, -999.000,9,-999.0000,9,  -999.00,9,   -999.0,9,   -999.0,9,     7.85,2,  7.5120
 3230CITHER2_2,  A17N,   181,  1,     24,     24,2,19940307,0211,  1.8738, -34.9458, 4000,    601.2,   6.4410,  34.5730,2,  34.5740,2,    141.2,2,    140.1,2,    23.30,2,    33.16,2,     2.18,2,    0.247,2,    0.137,2, -999.000,9,-999.0000,9,  -999.00,9,   -999.0,9,   -999.0,9,     7.84,2,  6.3860
 3230CITHER2_2,  A17N,   181,  1,     23,     23,2,19940307,0211,  1.8738, -34.9458, 4000,    702.1,   5.4390,  34.5170,2,  34.5150,2,    146.9,2,    145.7,2,    27.80,2,    34.21,2,     2.28,2,    0.121,2,    0.071,2, -999.000,9,-999.0000,9,  -999.00,9,   -999.0,9,   -999.0,9,     7.84,2,  5.3800
 3230CITHER2_2,  A17N,   181,  1,     22,     22,2,19940307,0211,  1.8738, -34.9458, 4000,    800.8,   4.8360,  34.5180,2,  34.5140,2,    154.8,2,    154.4,2,    31.30,2,    34.16,2,     2.29,2,    0.085,2,    0.047,2, -999.000,9,-999.0000,9,  -999.00,9,   -999.0,9,   -999.0,9,     7.84,2,  4.7710
 3230CITHER2_2,  A17N,   181,  1,     21,     21,2,19940307,0211,  1.8738, -34.9458, 4000,   1000.3,   4.5160,  34.6890,2,  34.6830,2,    161.4,2,    162.9,2,    31.20,2,    31.99,2,     2.15,2,    0.004,2,    0.002,2, -999.000,9,-999.0000,9,  -999.00,9,   -999.0,9,   -999.0,9,     7.86,2,  4.4360
 3230CITHER2_2,  A17N,   181,  1,     20,     20,2,19940307,0211,  1.8738, -34.9458, 4000,   1201.8,   4.6710,  34.8490,2,  34.8470,2,    175.1,2,    182.0,2,    25.60,2,    27.84,2,     1.85,2,    0.025,2,    0.011,2, -999.000,9,-999.0000,9,  -999.00,9,   -999.0,9,   -999.0,9,     7.91,2,  4.5710
 3230CITHER2_2,  A17N,   181,  1,     19,     19,2,19940307,0211,  1.8738, -34.9458, 4000,   1401.4,   4.3200,  34.9830,2,  34.9820,2,    231.0,2,    247.4,2,    18.20,2,    21.11,2,     1.38,2, -999.000,5, -999.000,5, -999.000,9,-999.0000,9,  -999.00,9,   -999.0,9,   -999.0,9,     7.99,2,  4.2050
 3230CITHER2_2,  A17N,   181,  1,     18,     18,2,19940307,0211,  1.8738, -34.9458, 4000,   1500.4,   4.1690,  34.9780,2,  34.9770,2,    235.7,2,    236.9,2,    18.60,2,    21.07,2,     1.38,2,    0.077,2,    0.050,2, -999.000,9,-999.0000,9,  -999.00,9,   -999.0,9,   -999.0,9,     7.99,2,  4.0470
 3230CITHER2_2,  A17N,   181,  1,     17,     17,2,19940307,0211,  1.8738, -34.9458, 4000,   1598.7,   4.1550,  34.9790,2,  34.9790,2,    238.1,2,    237.8,2,    18.40,2,    20.99,2,     1.37,2,    0.073,2,    0.043,2, -999.000,9,-999.0000,9,  -999.00,9,   -999.0,9,   -999.0,9,     7.99,2,  4.0240
 3230CITHER2_2,  A17N,   181,  1,     16,     16,2,19940307,0211,  1.8738, -34.9458, 4000,   1701.9,   4.0270,  34.9830,2,  34.9800,2,    242.5,2,    243.7,2,    18.40,2,    20.50,2,     1.33,2,    0.074,2,    0.046,2, -999.000,9,-999.0000,9,  -999.00,9,   -999.0,9,   -999.0,9,     8.00,2,  3.8880
 3230CITHER2_2,  A17N,   181,  1,     15,     15,2,19940307,0211,  1.8738, -34.9458, 4000,   1799.6,   3.8840,  34.9860,2,  34.9880,2,    250.2,2,    252.4,2,    17.70,2,    19.57,2,     1.27,2,    0.111,2,    0.067,2, -999.000,9,-999.0000,9,  -999.00,9,   -999.0,9,   -999.0,9,     8.00,2,  3.7370
 3230CITHER2_2,  A17N,   181,  1,     14,     14,2,19940307,0211,  1.8738, -34.9458, 4000,   1998.9,   3.5210,  34.9730,2,  34.9720,2,    253.7,2,    254.1,2,    20.70,2,    19.66,2,     1.27,2,    0.045,2,    0.030,2, -999.000,9,-999.0000,9,  -999.00,9,   -999.0,9,   -999.0,9,     8.01,2,  3.3610
 3230CITHER2_2,  A17N,   181,  1,     13,     13,2,19940307,0211,  1.8738, -34.9458, 4000,   2200.5,   3.3930,  34.9670,2,  34.9660,2,    256.0,2,    255.7,2,    21.80,2,    19.78,2,     1.27,2,    0.045,2,    0.031,2, -999.000,9,-999.0000,9,  -999.00,9,   -999.0,9,   -999.0,9,     8.01,2,  3.2150
 3230CITHER2_2,  A17N,   181,  1,     12,     12,2,19940307,0211,  1.8738, -34.9458, 4000,   2399.5,   3.1560,  34.9560,2,  34.9560,2,    257.0,2,    257.8,2,    24.10,2,    19.74,2,     1.27,2,    0.030,2,    0.021,2, -999.000,9,-999.0000,9,  -999.00,9,   -999.0,9,   -999.0,9,     8.01,2,  2.9630
 3230CITHER2_2,  A17N,   181,  1,     11,     11,2,19940307,0211,  1.8738, -34.9458, 4000,   2600.2,   2.9210,  34.9410,2,  34.9410,2,    256.1,2,    257.2,2,    27.90,2,    20.33,2,     1.30,2,    0.014,2,    0.010,2, -999.000,9,-999.0000,9,  -999.00,9,   -999.0,9,   -999.0,9,     8.01,2,  2.7130
 3230CITHER2_2,  A17N,   181,  1,     10,     10,2,19940307,0211,  1.8738, -34.9458, 4000,   2799.6,   2.8220,  34.9340,2,  34.9310,2,    255.1,2,    254.4,2,    30.90,2,    20.79,2,     1.33,2,    0.009,2,    0.013,2, -999.000,9,-999.0000,9,  -999.00,9,   -999.0,9,   -999.0,9,     8.01,2,  2.5960
 3230CITHER2_2,  A17N,   181,  1,      9,      9,2,19940307,0211,  1.8738, -34.9458, 4000,   3000.4,   2.7440,  34.9260,2,  34.9240,2,    254.1,2,    253.8,2,    32.70,2,    20.80,2,     1.34,2,    0.006,2,    0.005,2, -999.000,9,-999.0000,9,  -999.00,9,   -999.0,9,   -999.0,9,     8.01,2,  2.4990
 3230CITHER2_2,  A17N,   181,  1,      8,      8,2,19940307,0211,  1.8738, -34.9458, 4000,   3198.1,   2.6210,  34.9180,2,  34.9170,2,    255.3,2,    255.7,2,    33.80,2,    20.57,2,     1.33,2,    0.015,2,    0.014,2, -999.000,9,-999.0000,9,  -999.00,9,   -999.0,9,   -999.0,9,     8.00,2,  2.3580
 3230CITHER2_2,  A17N,   181,  1,      7,      7,2,19940307,0211,  1.8738, -34.9458, 4000,   3399.0,   2.5300,  34.9140,2,  34.9120,2,    256.5,2,    256.5,2,    34.30,2,    20.54,2,     1.33,2,    0.026,2,    0.018,2, -999.000,9,-999.0000,9,  -999.00,9,   -999.0,9,   -999.0,9,     8.01,2,  2.2470
 3230CITHER2_2,  A17N,   181,  1,      6,      6,2,19940307,0211,  1.8738, -34.9458, 4000,   3399.8,   2.5290,  34.9130,2,  34.9130,2,    256.5,2,    256.8,2,    34.40,2,    20.42,2,     1.33,2,    0.026,2,    0.018,2, -999.000,9,-999.0000,9,  -999.00,9,   -999.0,9,   -999.0,9,     8.01,2,  2.2480
 3230CITHER2_2,  A17N,   181,  1,      5,      5,2,19940307,0211,  1.8738, -34.9458, 4000,   3549.1,   2.4530,  34.9030,2,  34.9020,2,    255.3,2,    255.3,2,    37.60,2,    21.04,2,     1.38,2,    0.014,2,    0.013,2, -999.000,9,-999.0000,9,  -999.00,9,   -999.0,9,   -999.0,9,     8.00,2,  2.1560
 3230CITHER2_2,  A17N,   181,  1,      4,      4,2,19940307,0211,  1.8738, -34.9458, 4000,   3699.1,   2.3740,  34.8990,2,  34.9000,2,    256.9,2,    257.0,2,    38.00,2,    20.86,2,     1.37,2,    0.032,2,    0.028,2, -999.000,9,-999.0000,9,  -999.00,9,   -999.0,9,   -999.0,9,     8.00,2,  2.0630
 3230CITHER2_2,  A17N,   181,  1,      3,      3,2,19940307,0211,  1.8738, -34.9458, 4000,   3849.5,   2.3210,  34.8940,2,  34.8960,2,    258.2,2,    257.2,2,    38.60,2,    20.78,2,     1.37,2,    0.038,2,    0.027,2, -999.000,9,-999.0000,9,  -999.00,9,   -999.0,9,   -999.0,9,     8.00,2,  1.9950
 3230CITHER2_2,  A17N,   181,  1,      2,      2,2,19940307,0211,  1.8738, -34.9458, 4000,   4000.3,   2.2490,  34.8860,2,  34.8880,2,    256.8,2,    255.7,2,    41.70,2,    21.29,2,     1.40,2,    0.036,2,    0.024,2, -999.000,9,-999.0000,9,  -999.00,9,   -999.0,9,   -999.0,9,     8.00,2,  1.9080
 3230CITHER2_2,  A17N,   181,  1,      1,      1,2,19940307,0211,  1.8738, -34.9458, 4000,   4036.5,   2.2200,  34.8830,2,  34.8830,2,    256.6,2,    254.9,2,    42.80,2,    21.15,2,     1.41,2,    0.033,2,    0.024,2, -999.000,9,-999.0000,9,  -999.00,9,   -999.0,9,   -999.0,9,     8.00,2,  1.8760
 3230CITHER2_2,  A17N,   182,  1,     32,     32,2,19940307,0809,  2.1685, -35.4467, 4303,      4.5,  27.1990,  35.8980,2,  35.8970,2,    201.6,2,    199.9,2,     1.70,2,     0.04,2,     0.10,2,    1.678,2,    0.962,2, -999.000,9,-999.0000,9,  -999.00,9,   2000.8,2,   2360.8,2,     8.38,2, 27.1980
 3230CITHER2_2,  A17N,   182,  1,     31,     31,2,19940307,0809,  2.1685, -35.4467, 4303,     61.2,  23.8020,  36.3000,2,  36.2490,2,    182.1,2,    179.9,2,     2.70,2,     1.29,2,     0.21,2,    1.670,2,    0.948,2, -999.000,9,-999.0000,9,  -999.00,9,   2069.9,2,   2386.1,2,     8.30,2, 23.7890
 3230CITHER2_2,  A17N,   182,  1,     30,     30,2,19940307,0809,  2.1685, -35.4467, 4303,    120.0,  12.6140,  35.2290,2,  35.2270,2,    149.8,2,    142.7,2,     8.90,2,    19.49,2,     1.32,2,    1.280,2,    0.688,2, -999.000,9,-999.0000,9,  -999.00,9,   2161.2,2,   2327.5,2,     8.03,2, 12.5980
 3230CITHER2_2,  A17N,   182,  1,     29,     29,2,19940307,0809,  2.1685, -35.4467, 4303,    200.7,  11.7190,  35.1110,2,  35.1110,2,    129.4,2,    137.5,2,    10.20,2,    21.82,2,     1.47,2,    1.112,2,    0.590,2, -999.000,9,-999.0000,9,  -999.00,9,   2171.0,2,   2324.1,2,     7.99,2, 11.6930
 3230CITHER2_2,  A17N,   182,  1,     28,     28,2,19940307,0809,  2.1685, -35.4467, 4303,    301.1,  10.4460,  34.9680,2,  34.9660,2,    137.1,2,    138.0,2,    12.10,2,    23.84,2,     1.61,2,    0.915,2,    0.484,2, -999.000,9,-999.0000,9,  -999.00,9,   2177.9,2,   2322.9,2,     7.96,2, 10.4100
 3230CITHER2_2,  A17N,   182,  1,     27,     27,2,19940307,0809,  2.1685, -35.4467, 4303,    400.8,   8.3750,  34.7420,2,  34.7560,2,    111.8,2,    109.5,2,    17.30,2,    31.61,2,     2.04,2,    0.364,2,    0.201,2, -999.000,9,-999.0000,9,  -999.00,9,   2211.1,2,   2311.0,2,     7.86,2,  8.3330
 3230CITHER2_2,  A17N,   182,  1,     26,     26,2,19940307,0809,  2.1685, -35.4467, 4303,    601.4,   6.1460,  34.5600,2,  34.5650,2,    143.1,2,    139.6,2,    24.00,2,    33.40,2,     2.20,2,    0.203,2,    0.118,2, -999.000,9,-999.0000,9,  -999.00,9,   2211.7,2,   2309.1,2,     7.85,2,  6.0920
 3230CITHER2_2,  A17N,   182,  1,     25,     25,2,19940307,0809,  2.1685, -35.4467, 4303,    700.6,   5.3140,  34.5150,2,  34.5150,2,    146.0,2,    146.2,2,    27.90,2,    34.14,2,     2.30,2,    0.106,2,    0.058,2, -999.000,9,-999.0000,9,  -999.00,9,   2217.1,2,   2311.2,2,     7.84,2,  5.2550
 3230CITHER2_2,  A17N,   182,  1,     24,     24,2,19940307,0809,  2.1685, -35.4467, 4303,    800.9,   4.9990,  34.5390,2,  34.5420,2,    150.9,2,    149.0,2,    29.80,2,    33.99,2,     2.29,2,    0.090,2,    0.054,2, -999.000,9,-999.0000,9,  -999.00,9,   2220.2,2,   2315.6,2,     7.84,2,  4.9330
 3230CITHER2_2,  A17N,   182,  1,     23,     23,2,19940307,0809,  2.1685, -35.4467, 4303,   1001.2,   4.5620,  34.6910,2,  34.6920,2,    161.3,2,    163.8,2,    29.70,2,    31.25,2,     2.14,2,    0.009,2,    0.012,2, -999.000,9,-999.0000,9,  -999.00,9,   2215.4,2,   2322.6,2,     7.87,2,  4.4820
 3230CITHER2_2,  A17N,   182,  1,     22,     22,2,19940307,0809,  2.1685, -35.4467, 4303,   1199.7,   4.6520,  34.8430,2,  34.8440,2,    176.0,2,    181.2,2,    25.10,2,    27.57,2,     1.87,2,    0.018,2,    0.008,2, -999.000,9,-999.0000,9,  -999.00,9,   2204.0,2,   2326.0,2,     7.92,2,  4.5530
 3230CITHER2_2,  A17N,   182,  1,     21,     21,2,19940307,0809,  2.1685, -35.4467, 4303,   1400.5,   4.3770,  34.9680,2,  34.9780,2,    223.3,2,    225.3,2,    18.90,2,    21.76,2,     1.46,2,    0.075,2,    0.048,2, -999.000,9,-999.0000,9,  -999.00,9,   2179.7,2,   2326.9,2,     7.99,2,  4.2620
 3230CITHER2_2,  A17N,   182,  1,     20,     20,2,19940307,0809,  2.1685, -35.4467, 4303,   1500.8,   4.2540,  34.9880,2,  34.9890,2,    238.8,2,    239.0,2,    17.40,2,    20.28,2,     1.36,2,    0.132,2,    0.078,2, -999.000,9,-999.0000,9,  -999.00,9,   2170.9,2,   2327.7,2,     8.00,2,  4.1310
 3230CITHER2_2,  A17N,   182,  1,     19,     19,2,19940307,0809,  2.1685, -35.4467, 4303,   1599.2,   4.1450,  34.9930,2,  34.9930,2,    245.9,2,    244.2,2,    16.90,2,    19.74,2,     1.32,2,    0.137,2,    0.081,2, -999.000,9,-999.0000,9,  -999.00,9,   2166.2,2,   2327.5,2,     8.01,2,  4.0140
 3230CITHER2_2,  A17N,   182,  1,     18,     18,2,19940307,0809,  2.1685, -35.4467, 4303,   1700.5,   3.8510,  34.9790,2,  34.9810,2,    247.9,2,    245.6,2,    18.70,2,    20.08,2,     1.33,2,    0.042,2,    0.026,2, -999.000,9,-999.0000,9,  -999.00,9,   2168.2,2,   2329.9,2,     8.01,2,  3.7140
 3230CITHER2_2,  A17N,   182,  1,     17,     17,2,19940307,0809,  2.1685, -35.4467, 4303,   1800.1,   3.6980,  34.9820,2,  34.9820,2,    255.1,2,    253.1,2,    18.30,2,    19.30,2,     1.28,2,    0.080,2,    0.047,2, -999.000,9,-999.0000,9,  -999.00,9,   2163.6,2,   2328.3,2,     8.02,2,  3.5540
 3230CITHER2_2,  A17N,   182,  1,     16,     16,2,19940307,0809,  2.1685, -35.4467, 4303,   1998.8,   3.5260,  34.9760,2,  34.9720,2,    258.1,2,    256.0,2,    19.30,2,    18.99,2,     1.27,2,    0.066,2,    0.043,2, -999.000,9,-999.0000,9,  -999.00,9,   2164.0,2,   2328.4,2,     8.02,2,  3.3660
 3230CITHER2_2,  A17N,   182,  1,     15,     15,2,19940307,0809,  2.1685, -35.4467, 4303,   2199.5,   3.3410,  34.9650,2,  34.9690,2,    259.1,2,    257.5,2,    21.00,2,    19.14,2,     1.27,2,    0.044,2,    0.025,2, -999.000,9,-999.0000,9,  -999.00,9,   2164.8,2,   2329.9,2,     8.02,2,  3.1640
 3230CITHER2_2,  A17N,   182,  1,     14,     14,2,19940307,0809,  2.1685, -35.4467, 4303,   2398.3,   3.1070,  34.9530,2,  34.9540,2,    258.5,2,    259.2,2,    24.00,2,    19.47,2,     1.30,2,    0.027,2,    0.018,2, -999.000,9,-999.0000,9,  -999.00,9,   2168.0,2,   2333.5,2,     8.02,2,  2.9150
 3230CITHER2_2,  A17N,   182,  1,     13,     13,2,19940307,0809,  2.1685, -35.4467, 4303,   2598.5,   2.9170,  34.9390,2,  34.9390,2,    257.1,2,    262.3,2,    27.70,2,    19.96,2,     1.32,2,    0.019,2,    0.013,2, -999.000,9,-999.0000,9,  -999.00,9,   2170.6,2,   2333.6,2,     8.02,2,  2.7090
 3230CITHER2_2,  A17N,   182,  1,     12,     12,2,19940307,0809,  2.1685, -35.4467, 4303,   2798.6,   2.8290,  34.9350,2,  34.9350,2,    256.0,2,    255.5,2,    29.20,2,    20.03,2,     1.33,2,    0.013,2,    0.015,2, -999.000,9,-999.0000,9,  -999.00,9,   2175.2,2,   2338.5,2,     8.02,2,  2.6030
 3230CITHER2_2,  A17N,   182,  1,     11,     11,2,19940307,0809,  2.1685, -35.4467, 4303,   2998.6,   2.7260,  34.9240,2,  34.9270,2,    255.4,2,    257.2,2,    31.50,2,    20.34,2,     1.35,2,    0.008,2,    0.009,2, -999.000,9,-999.0000,9,  -999.00,9,   2177.0,2,   2338.3,2,     8.02,2,  2.4810
 3230CITHER2_2,  A17N,   182,  1,     10,     10,2,19940307,0809,  2.1685, -35.4467, 4303,   3201.1,   2.6190,  34.9170,2,  34.9220,2,    256.1,2,    256.5,2,    33.20,2,    20.41,2,     1.36,2,    0.011,2,    0.011,2, -999.000,9,-999.0000,9,  -999.00,9,   2178.5,2,   2341.7,2,     8.02,2,  2.3560
 3230CITHER2_2,  A17N,   182,  1,      9,      9,2,19940307,0809,  2.1685, -35.4467, 4303,   3399.9,   2.5260,  34.9120,2,  34.9110,2,    259.3,2,    258.1,2,    33.30,2,    20.18,2,     1.34,2,    0.025,2,    0.021,2, -999.000,9,-999.0000,9,  -999.00,9,   2176.4,2,   2336.8,2,     8.02,2,  2.2440
 3230CITHER2_2,  A17N,   182,  1,      7,      7,2,19940307,0809,  2.1685, -35.4467, 4303,   3549.9,   2.4520,  34.9080,2,  34.9100,2,    260.5,2,    259.2,2,    33.50,2,    19.75,2,     1.35,2,    0.040,2,    0.028,2, -999.000,9,-999.0000,9,  -999.00,9,   2177.5,2,   2341.4,2,     8.02,2,  2.1550
 3230CITHER2_2,  A17N,   182,  1,      8,      8,2,19940307,0809,  2.1685, -35.4467, 4303,   3560.6,   2.4490,  34.9070,2,  34.9070,2,    260.8,2,    261.4,2,    33.50,2,    19.79,2,     1.34,2,    0.038,2,    0.024,2, -999.000,9,-999.0000,9,  -999.00,9,   -999.0,5,   2341.1,2,     8.02,2,  2.1510
 3230CITHER2_2,  A17N,   182,  1,      6,      6,2,19940307,0809,  2.1685, -35.4467, 4303,   3698.5,   2.4090,  34.9040,2,  34.9080,2,    260.7,2,    267.2,2,    34.10,2,    19.71,2,     1.35,2,    0.043,2,    0.030,2, -999.000,9,-999.0000,9,  -999.00,9,   2179.5,2,   2338.9,2,     8.02,2,  2.0970
 3230CITHER2_2,  A17N,   182,  1,      5,      5,2,19940307,0809,  2.1685, -35.4467, 4303,   3849.1,   2.3190,  34.8930,2,  34.8950,2,    259.5,2,    257.7,2,    37.70,2,    20.39,2,     1.38,2,    0.037,2,    0.027,2, -999.000,9,-999.0000,9,  -999.00,9,   2182.5,2,   2342.9,2,     8.01,2,  1.9930
 3230CITHER2_2,  A17N,   182,  1,      4,      4,2,19940307,0809,  2.1685, -35.4467, 4303,   3998.2,   2.2450,  34.8860,2,  34.8880,2,    258.0,2,    258.3,2,    40.60,2,    20.79,2,     1.42,2,    0.036,2,    0.022,2, -999.000,9,-999.0000,9,  -999.00,9,   2185.8,2,   2342.6,2,     8.01,2,  1.9040
 3230CITHER2_2,  A17N,   182,  1,      3,      3,2,19940307,0809,  2.1685, -35.4467, 4303,   4149.2,   2.1990,  34.8780,2,  34.8820,2,    256.7,2,    255.0,2,    43.10,2,    21.13,2,     1.44,2,    0.035,2,    0.024,2, -999.000,9,-999.0000,9,  -999.00,9,   2190.4,2,   2348.0,2,     8.01,2,  1.8420
 3230CITHER2_2,  A17N,   182,  1,      2,      2,2,19940307,0809,  2.1685, -35.4467, 4303,   4299.4,   2.1410,  34.8710,2,  34.8730,2,    255.6,2,    253.5,2,    46.10,2,    21.60,2,     1.47,2,    0.037,2,    0.025,2, -999.000,9,-999.0000,9,  -999.00,9,   2191.7,2,   2347.5,2,     8.00,2,  1.7690
 3230CITHER2_2,  A17N,   182,  1,      1,      1,2,19940307,0809,  2.1685, -35.4467, 4303,   4353.3,   2.1190,  34.8670,2,  34.8720,2,    254.6,2,    253.5,2,    47.40,2,    21.75,2,     1.47,2,    0.035,2,    0.024,2, -999.000,9,-999.0000,9,  -999.00,9,   2193.3,2,   2347.0,2,     8.00,2,  1.7410