BOTTLE,20030515WHPSIOSA
EXPOCODE,SECT_ID,STNNBR,CASTNO,SAMPNO,BTLNBR,BTLNBR_FLAG_W,DATE,TIME,LATITUDE,LONGITUDE,DEPTH,CTDPRS,CTDTMP,CTDSAL,CTDSAL_FLAG_W,SALNTY,SALNTY_FLAG_W,CTDOXY,CTDOXY_FLAG_W,OXYGEN,OXYGEN_FLAG_W,SILCAT,SILCAT_FLAG_W,NITRAT,NITRAT_FLAG_W,PHSPHT,PHSPHT_FLAG_W,CFC-11,CFC-11_FLAG_W,CFC-12,CFC-12_FLAG_W,TRITUM,TRITUM_FLAG_W,HELIUM,HELIUM_FLAG_W,DELHE3,DELHE3_FLAG_W,TCARBN,TCARBN_FLAG_W,ALKALI,ALKALI_FLAG_W,PH,PH_FLAG_W,THETA
,,,,,,,,,,,,DBAR,ITS-90,PSS-78,,PSS-78,,UMOL/KG,,UMOL/KG,,UMOL/KG,,UMOL/KG,,UMOL/KG,,PMOL/KG,,PMOL/KG,,TU,,NMOL/KG,,PERCNT,,UMOL/KG,,UMOL/KG,,,,DEG C
 3230CITHER2_1,  A17C,    52,  1,     32,     32,2,19940124,0350,-34.0747, -47.3902, 4210,      3.5,  22.2320,  35.7040,2,  35.7080,2,    217.7,2,    220.7,2,     1.50,2,     0.12,2,     0.06,2,    2.240,2,    1.248,2, -999.000,9,-999.0000,9,  -999.00,9,   -999.0,9,   -999.0,9,     8.34,2, 22.2310
 3230CITHER2_1,  A17C,    52,  1,     31,     31,2,19940124,0350,-34.0747, -47.3902, 4210,     50.3,  20.9810,  35.9590,2,  35.9720,2,    227.1,2,    231.1,2,     1.50,2,     0.12,2,     0.06,2,    2.327,2,    1.299,2, -999.000,9,-999.0000,9,  -999.00,9,   -999.0,9,   -999.0,9,     8.34,2, 20.9710
 3230CITHER2_1,  A17C,    52,  1,     30,     30,2,19940124,0350,-34.0747, -47.3902, 4210,     76.0,  19.2970,  36.1970,2,  36.1800,2,    211.3,2,    206.8,2,     2.00,2,     0.21,2,     0.17,2,    2.355,2,    1.300,2, -999.000,9,-999.0000,9,  -999.00,9,   -999.0,9,   -999.0,9,     8.29,2, 19.2830
 3230CITHER2_1,  A17C,    52,  1,     29,     29,2,19940124,0350,-34.0747, -47.3902, 4210,    101.2,  17.7170,  35.9420,2,  35.9480,2,    213.5,2,    198.5,2,     2.40,2,     3.96,2,     0.37,2,    2.438,2,    1.322,2, -999.000,9,-999.0000,9,  -999.00,9,   -999.0,9,   -999.0,9,     8.24,2, 17.7000
 3230CITHER2_1,  A17C,    52,  1,     28,     28,2,19940124,0350,-34.0747, -47.3902, 4210,    150.9,  15.0960,  35.5480,2,  35.5640,2,    206.1,2,    195.4,2,     3.10,2,     7.72,2,     0.59,2,    2.407,2,    1.288,2, -999.000,9,-999.0000,9,  -999.00,9,   -999.0,9,   -999.0,9,     8.19,2, 15.0730
 3230CITHER2_1,  A17C,    52,  1,     27,     27,2,19940124,0350,-34.0747, -47.3902, 4210,    199.5,  14.0120,  35.4220,2,  35.4160,2,    216.1,2,    207.7,2,     2.90,2,     8.89,2,     0.67,2,    2.474,2,    1.305,2, -999.000,9,-999.0000,9,  -999.00,9,   -999.0,9,   -999.0,9,     8.18,2, 13.9830
 3230CITHER2_1,  A17C,    52,  1,     26,     26,2,19940124,0350,-34.0747, -47.3902, 4210,    300.2,  11.6610,  35.0370,2,  35.0350,2,    209.7,2,    205.0,2,     4.80,2,    14.31,2,     0.99,2,    2.236,2,    1.169,2, -999.000,9,-999.0000,9,  -999.00,9,   -999.0,9,   -999.0,9,     8.11,2, 11.6220
 3230CITHER2_1,  A17C,    52,  1,     25,     25,2,19940124,0350,-34.0747, -47.3902, 4210,    401.4,   9.5630,  34.7650,2,  34.7670,2,    206.5,2,    204.0,2,     7.90,2,    19.27,2,     1.32,2,    1.976,2,    1.022,2, -999.000,9,-999.0000,9,  -999.00,9,   -999.0,9,   -999.0,9,     8.05,2,  9.5170
 3230CITHER2_1,  A17C,    52,  1,     24,     24,2,19940124,0350,-34.0747, -47.3902, 4210,    500.4,   7.5010,  34.5230,2,  34.5210,2,    214.4,2,    215.8,2,    10.70,2,    23.37,2,     1.58,2,    2.051,2,    1.043,2, -999.000,9,-999.0000,9,  -999.00,9,   -999.0,9,   -999.0,9,     8.01,2,  7.4520
 3230CITHER2_1,  A17C,    52,  1,     23,     23,2,19940124,0350,-34.0747, -47.3902, 4210,    600.0,   6.0000,  34.3740,2,  34.3750,2,    233.9,2,    230.7,2,    13.10,2,    25.58,2,     1.74,2, -999.000,5, -999.000,5, -999.000,9,-999.0000,9,  -999.00,9,   -999.0,9,   -999.0,9,     7.98,2,  5.9470
 3230CITHER2_1,  A17C,    52,  1,     22,     22,2,19940124,0350,-34.0747, -47.3902, 4210,    701.0,   4.8530,  34.2710,2,  34.2800,2,    234.5,2,    245.0,2,    16.10,2,    27.35,2,     1.84,2,    2.567,2,    1.270,2, -999.000,9,-999.0000,9,  -999.00,9,   -999.0,9,   -999.0,9,     7.97,2,  4.7970
 3230CITHER2_1,  A17C,    52,  1,     21,     21,2,19940124,0350,-34.0747, -47.3902, 4210,    820.1,   4.2400,  34.2860,2,  34.2870,2,    238.0,2,    231.9,2,    23.60,2,    30.20,2,     2.01,2, -999.000,5, -999.000,5, -999.000,9,-999.0000,9,  -999.00,9,   -999.0,9,   -999.0,9,     7.94,2,  4.1780
 3230CITHER2_1,  A17C,    52,  1,     20,     20,2,19940124,0350,-34.0747, -47.3902, 4210,    899.6,   3.9370,  34.2900,2,  34.2920,2,    228.0,2,    226.3,2,    27.60,2,    30.78,2,     2.06,2,    2.256,2,    1.145,2, -999.000,9,-999.0000,9,  -999.00,9,   -999.0,9,   -999.0,9,     7.93,2,  3.8700
 3230CITHER2_1,  A17C,    52,  1,     18,     18,2,19940124,0350,-34.0747, -47.3902, 4210,   1000.9,   3.5490,  34.3000,2,  34.3000,2,    218.9,2,    222.7,2,    32.20,2,    31.51,2,     2.13,2,    1.242,2,    0.629,2, -999.000,9,-999.0000,9,  -999.00,9,   -999.0,9,   -999.0,9,     7.91,2,  3.4770
 3230CITHER2_1,  A17C,    52,  1,     19,     19,2,19940124,0350,-34.0747, -47.3902, 4210,   1001.4,   3.5500,  34.2990,2,  34.3000,2,    218.9,2,    222.6,2,    32.50,2,    31.51,2,     2.12,2,    1.265,2,    0.644,2, -999.000,9,-999.0000,9,  -999.00,9,   -999.0,9,   -999.0,9,     7.91,2,  3.4780
 3230CITHER2_1,  A17C,    52,  1,     17,     17,2,19940124,0350,-34.0747, -47.3902, 4210,   1199.4,   3.1320,  34.3950,2,  34.3970,2,    204.6,2,    200.8,2,    45.00,2,    33.28,2,     2.25,2,    0.544,2,    0.287,2, -999.000,9,-999.0000,9,  -999.00,9,   -999.0,9,   -999.0,9,     7.88,2,  3.0480
 3230CITHER2_1,  A17C,    52,  1,     16,     16,2,19940124,0350,-34.0747, -47.3902, 4210,   1399.6,   3.1750,  34.5540,2,  34.5560,2,    189.3,2,    189.1,2,    49.30,2,    32.55,2,     2.17,2,    0.087,2,    0.055,2, -999.000,9,-999.0000,9,  -999.00,9,   -999.0,9,   -999.0,9,     7.88,2,  3.0740
 3230CITHER2_1,  A17C,    52,  1,     15,     15,2,19940124,0350,-34.0747, -47.3902, 4210,   1600.4,   3.3920,  34.7080,2,  34.7110,2,    193.5,2,    196.9,2,    43.20,2,    29.54,2,     1.96,2,    0.032,2,    0.022,2, -999.000,9,-999.0000,9,  -999.00,9,   -999.0,9,   -999.0,9,     7.91,2,  3.2710
 3230CITHER2_1,  A17C,    52,  1,     14,     14,2,19940124,0350,-34.0747, -47.3902, 4210,   1800.7,   3.6180,  34.8300,2,  34.8280,2,    213.2,2,    213.4,2,    33.90,2,    26.01,2,     1.72,2,    0.020,2,    0.022,2, -999.000,9,-999.0000,9,  -999.00,9,   -999.0,9,   -999.0,9,     7.95,2,  3.4750
 3230CITHER2_1,  A17C,    52,  1,     13,     13,2,19940124,0350,-34.0747, -47.3902, 4210,   1999.1,   3.3530,  34.8470,2,  34.8480,2,    217.7,2,    217.9,2,    39.00,2,    25.39,2,     1.69,2,    0.039,2,    0.031,2, -999.000,9,-999.0000,9,  -999.00,9,   -999.0,9,   -999.0,9,     7.95,2,  3.1960
 3230CITHER2_1,  A17C,    52,  1,     12,     12,2,19940124,0350,-34.0747, -47.3902, 4210,   2199.9,   3.4980,  34.9290,2,  34.9320,2,    239.8,2,    241.6,2,    26.20,2,    21.76,2,     1.43,2,    0.024,2,    0.023,2, -999.000,9,-999.0000,9,  -999.00,9,   -999.0,9,   -999.0,9,     7.99,2,  3.3190
 3230CITHER2_1,  A17C,    52,  1,     11,     11,2,19940124,0350,-34.0747, -47.3902, 4210,   2399.0,   3.2850,  34.9250,2,  34.9240,2,    247.2,2,    243.5,2,    29.30,2,    21.89,2,     1.43,2,    0.020,2,    0.022,2, -999.000,9,-999.0000,9,  -999.00,9,   -999.0,9,   -999.0,9,     8.00,2,  3.0900
 3230CITHER2_1,  A17C,    52,  1,     10,     10,2,19940124,0350,-34.0747, -47.3902, 4210,   2599.4,   3.1240,  34.9290,2,  34.9320,2,    250.1,2,    247.9,2,    29.40,2,    21.43,2,     1.40,2,    0.015,2,    0.021,2, -999.000,9,-999.0000,9,  -999.00,9,   -999.0,9,   -999.0,9,     8.01,2,  2.9120
 3230CITHER2_1,  A17C,    52,  1,      9,      9,2,19940124,0350,-34.0747, -47.3902, 4210,   2799.1,   2.7110,  34.8910,2,  34.8940,2,    245.9,2,    237.6,2,    42.20,2,    23.19,2,     1.53,2,    0.018,2,    0.019,2, -999.000,9,-999.0000,9,  -999.00,9,   -999.0,9,   -999.0,9,     7.99,2,  2.4870
 3230CITHER2_1,  A17C,    52,  1,      8,      8,2,19940124,0350,-34.0747, -47.3902, 4210,   3000.3,   2.2360,  34.8340,2,  34.8330,2,    236.1,2,   -999.0,5,    63.70,2,    26.08,2,     1.73,2,    0.025,2,    0.019,2, -999.000,9,-999.0000,9,  -999.00,9,   -999.0,9,   -999.0,9,     7.95,2,  2.0020
 3230CITHER2_1,  A17C,    52,  1,      7,      7,2,19940124,0350,-34.0747, -47.3902, 4210,   3199.1,   1.5610,  34.7700,2,  34.7720,2,    221.3,2,    215.5,2,    91.10,2,    29.37,2,     1.97,2,    0.052,2,    0.032,2, -999.000,9,-999.0000,9,  -999.00,9,   -999.0,9,   -999.0,9,     7.92,2,  1.3230
 3230CITHER2_1,  A17C,    52,  1,      6,      6,2,19940124,0350,-34.0747, -47.3902, 4210,   3398.5,   1.0140,  34.7320,2,  34.7340,2,    215.9,2,    217.4,2,   107.30,2,    31.43,2,     2.09,2,    0.062,2,    0.038,2, -999.000,9,-999.0000,9,  -999.00,9,   -999.0,9,   -999.0,9,     7.90,2,  0.7700
 3230CITHER2_1,  A17C,    52,  1,      5,      5,2,19940124,0350,-34.0747, -47.3902, 4210,   3599.1,   0.5000,  34.6900,2,  34.6920,2,    213.8,2,    216.4,2,   124.10,2,    32.84,2,     2.23,2,    0.106,2,    0.064,2, -999.000,9,-999.0000,9,  -999.00,9,   -999.0,9,   -999.0,9,     7.88,2,  0.2500
 3230CITHER2_1,  A17C,    52,  1,      4,      4,2,19940124,0350,-34.0747, -47.3902, 4210,   3797.9,   0.2820,  34.6780,2,  34.6790,2,    217.6,2,    220.2,2,   128.00,2,    33.20,2,     2.27,2,    0.107,2,    0.061,2, -999.000,9,-999.0000,9,  -999.00,9,   -999.0,9,   -999.0,9,     7.88,2,  0.0180
 3230CITHER2_1,  A17C,    52,  1,      3,      3,2,19940124,0350,-34.0747, -47.3902, 4210,   3999.0,   0.1730,  34.6730,2,-999.0000,5,    219.9,2,    228.4,2,   130.50,2,    33.52,2,     2.27,2,    0.125,2,    0.069,2, -999.000,9,-999.0000,9,  -999.00,9,   -999.0,9,   -999.0,9,     7.88,2, -0.1080
 3230CITHER2_1,  A17C,    52,  1,      2,      2,2,19940124,0350,-34.0747, -47.3902, 4210,   4098.2,   0.1520,  34.6720,2,  34.6750,2,    220.7,2,    222.9,2,   131.10,2,    33.47,2,     2.28,2,    0.138,2,    0.071,2, -999.000,9,-999.0000,9,  -999.00,9,   -999.0,9,   -999.0,9,     7.88,2, -0.1380
 3230CITHER2_1,  A17C,    52,  1,      1,      1,2,19940124,0350,-34.0747, -47.3902, 4210,   4226.8,   0.1380,  34.6690,2,  34.6720,2,    218.1,2,    223.1,2,   131.70,2,    33.73,2,     2.28,2,    0.149,2,    0.087,2, -999.000,9,-999.0000,9,  -999.00,9,   -999.0,9,   -999.0,9,     7.88,2, -0.1650
 3230CITHER2_1,  A17C,    53,  1,     32,     32,2,19940124,1022,-34.3508, -46.9375, 4500,      5.4,  22.8200,  35.9670,2,  35.9700,2,    217.9,2,    221.3,2,     1.30,2,     0.04,2,     0.02,2,    2.155,2,    1.212,2,    1.208,2,-999.0000,9,  -999.00,9,   -999.0,9,   -999.0,9,     8.34,2, 22.8190
 3230CITHER2_1,  A17C,    53,  1,     31,     31,2,19940124,1022,-34.3508, -46.9375, 4500,     42.1,  22.0000,  36.1910,2,  36.0520,2,    219.4,2,    220.8,2,     1.30,2,     0.04,2,     0.01,2,    2.195,2,    1.230,2,    1.361,2,-999.0000,9,  -999.00,9,   -999.0,9,   -999.0,9,     8.35,2, 21.9920
 3230CITHER2_1,  A17C,    53,  1,     30,     30,2,19940124,1022,-34.3508, -46.9375, 4500,    100.8,  18.2580,  36.0660,2,  36.0520,2,    208.6,2,    211.8,2,     1.40,2,     1.80,2,     0.21,2,    2.478,2,    1.337,2,    1.007,2,-999.0000,9,  -999.00,9,   -999.0,9,   -999.0,9,     8.27,2, 18.2400
 3230CITHER2_1,  A17C,    53,  1,     29,     29,2,19940124,1022,-34.3508, -46.9375, 4500,    201.1,  16.5570,  35.8860,2,  35.8910,2,    208.9,2,    212.3,2,     1.80,2,     4.18,2,     0.36,2,    2.562,2,    1.392,2,    0.871,2,-999.0000,9,  -999.00,9,   -999.0,9,   -999.0,9,     8.24,2, 16.5240
 3230CITHER2_1,  A17C,    53,  1,     28,     28,2,19940124,1022,-34.3508, -46.9375, 4500,    299.0,  14.5630,  35.5040,2,  35.5020,2,    205.9,2,    212.5,2,     2.80,2,     8.08,2,     0.60,2,    2.479,2,    1.313,2,    0.951,2,-999.0000,9,  -999.00,9,   -999.0,9,   -999.0,9,     8.19,2, 14.5180
 3230CITHER2_1,  A17C,    53,  1,     27,     27,2,19940124,1022,-34.3508, -46.9375, 4500,    402.3,  12.4830,  35.1690,2,  35.1780,2,    209.8,2,    206.8,2,     4.00,2,    11.92,2,     0.85,2,    2.359,2,    1.232,2, -999.000,9,-999.0000,9,  -999.00,9,   -999.0,9,   -999.0,9,     8.13,2, 12.4290
 3230CITHER2_1,  A17C,    53,  1,     26,     26,2,19940124,1022,-34.3508, -46.9375, 4500,    500.8,  10.0240,  34.8050,2,  34.8060,2,    205.0,2,    205.1,2,     6.70,2,    17.97,2,     1.25,2,    2.103,2,    1.090,2, -999.000,9,-999.0000,9,  -999.00,9,   -999.0,9,   -999.0,9,     8.06,2,  9.9650
 3230CITHER2_1,  A17C,    53,  1,     25,     25,2,19940124,1022,-34.3508, -46.9375, 4500,    600.4,   7.4320,  34.5060,2,  34.5170,2,    215.1,2,    216.3,2,     9.10,2,    23.17,2,     1.58,2,    2.116,2,    1.070,2,    0.312,2,-999.0000,9,  -999.00,9,   -999.0,9,   -999.0,9,     8.00,2,  7.3730
 3230CITHER2_1,  A17C,    53,  1,     24,     24,2,19940124,1022,-34.3508, -46.9375, 4500,    701.8,   5.4800,  34.2990,2,  34.3150,2,    241.9,2,    244.1,2,    12.60,2,    25.23,2,     1.73,2,    2.906,2,    1.427,2, -999.000,9,-999.0000,9,  -999.00,9,   -999.0,9,   -999.0,9,     7.99,2,  5.4210
 3230CITHER2_1,  A17C,    53,  1,     23,     23,2,19940124,1022,-34.3508, -46.9375, 4500,    798.8,   4.6550,  34.2360,2,  34.2360,2,    254.1,2,    257.5,2,    15.00,2,    26.48,2,     1.81,2,    3.256,2,    1.590,2,    0.150,2,-999.0000,9,  -999.00,9,   -999.0,9,   -999.0,9,     7.97,2,  4.5920
 3230CITHER2_1,  A17C,    53,  1,     22,     22,2,19940124,1022,-34.3508, -46.9375, 4500,    902.3,   4.2190,  34.2530,2,  34.2550,2,    248.4,2,    244.9,2,    20.90,2,    28.87,2,     1.95,2,    2.357,2,    1.173,2, -999.000,9,-999.0000,9,  -999.00,9,   -999.0,9,   -999.0,9,     7.95,2,  4.1500
 3230CITHER2_1,  A17C,    53,  1,     21,     21,2,19940124,1022,-34.3508, -46.9375, 4500,   1001.7,   3.9030,  34.2770,2,  34.2820,2,    230.3,2,    231.5,2,    26.90,2,    30.44,2,     2.05,2,    1.535,2,    0.781,2, -999.000,9,-999.0000,9,  -999.00,9,   -999.0,9,   -999.0,9,     7.93,2,  3.8280
 3230CITHER2_1,  A17C,    53,  1,     20,     20,2,19940124,1022,-34.3508, -46.9375, 4500,   1100.7,   3.5250,  34.3040,2,  34.3050,2,    223.2,2,    220.4,2,    33.60,2,    31.69,2,     2.14,2,    1.116,2,    0.566,2, -999.000,9,-999.0000,9,  -999.00,9,   -999.0,9,   -999.0,9,     7.91,2,  3.4450
 3230CITHER2_1,  A17C,    53,  1,     19,     19,2,19940124,1022,-34.3508, -46.9375, 4500,   1200.3,   3.2500,  34.3430,2,  34.3400,2,    214.7,2,    213.3,2,    40.00,2,    32.52,2,     2.21,2,    0.888,2,    0.462,2,    0.086,2,-999.0000,9,  -999.00,9,   -999.0,9,   -999.0,9,     7.89,2,  3.1650
 3230CITHER2_1,  A17C,    53,  1,     18,     18,2,19940124,1022,-34.3508, -46.9375, 4500,   1399.7,   3.0810,  34.4730,2,  34.4740,2,    191.6,2,    191.3,2,    50.70,2,    33.41,2,     2.25,2,    0.233,2,    0.131,2,    0.142,2,-999.0000,9,  -999.00,9,   -999.0,9,   -999.0,9,     7.87,2,  2.9810
 3230CITHER2_1,  A17C,    53,  1,     17,     17,2,19940124,1022,-34.3508, -46.9375, 4500,   1600.0,   3.1400,  34.6150,2,  34.6140,2,    187.9,2,    190.7,2,    51.60,2,    31.54,2,     2.13,2,    0.063,2,    0.044,2, -999.000,9,-999.0000,9,  -999.00,9,   -999.0,9,   -999.0,9,     7.88,2,  3.0220
 3230CITHER2_1,  A17C,    53,  1,     16,     16,2,19940124,1022,-34.3508, -46.9375, 4500,   1798.4,   3.3190,  34.7340,2,  34.7350,2,    194.8,2,    200.6,2,    44.20,2,    28.94,2,     1.93,2,    0.031,2,    0.024,2, -999.000,9,-999.0000,9,  -999.00,9,   -999.0,9,   -999.0,9,     7.91,2,  3.1810
 3230CITHER2_1,  A17C,    53,  1,     15,     15,2,19940124,1022,-34.3508, -46.9375, 4500,   2000.7,   3.4190,  34.8290,2,  34.8300,2,    215.4,2,    215.9,2,    38.30,2,    25.87,2,     1.72,2,    0.020,2,    0.021,2, -999.000,9,-999.0000,9,  -999.00,9,   -999.0,9,   -999.0,9,     7.95,2,  3.2600
 3230CITHER2_1,  A17C,    53,  1,     14,     14,2,19940124,1022,-34.3508, -46.9375, 4500,   2200.0,   3.4760,  34.8920,2,  34.8930,2,    232.0,2,    231.6,2,    31.30,2,    23.08,2,     1.54,2,    0.020,2,    0.019,2, -999.000,9,-999.0000,9,  -999.00,9,   -999.0,9,   -999.0,9,     7.97,2,  3.2970
 3230CITHER2_1,  A17C,    53,  1,     13,     13,2,19940124,1022,-34.3508, -46.9375, 4500,   2399.7,   3.4290,  34.9300,2,  34.9310,2,    243.3,2,    243.3,2,    26.70,2,    21.81,2,     1.42,2,    0.018,2,    0.019,2, -999.000,9,-999.0000,9,  -999.00,9,   -999.0,9,   -999.0,9,     8.00,2,  3.2310
 3230CITHER2_1,  A17C,    53,  1,     12,     12,2,19940124,1022,-34.3508, -46.9375, 4500,   2598.6,   3.2870,  34.9400,2,  34.9400,2,    249.7,2,    249.3,2,    26.10,2,    20.97,2,     1.37,2,    0.019,2,    0.019,2, -999.000,9,-999.0000,9,  -999.00,9,   -999.0,9,   -999.0,9,     8.00,2,  3.0720
 3230CITHER2_1,  A17C,    53,  1,     11,     11,2,19940124,1022,-34.3508, -46.9375, 4500,   2798.5,   3.1180,  34.9340,2,  34.9380,2,    251.0,2,    250.8,2,    28.10,2,    20.93,2,     1.36,2,    0.013,2,    0.014,2, -999.000,9,-999.0000,9,  -999.00,9,   -999.0,9,   -999.0,9,     8.01,2,  2.8830
 3230CITHER2_1,  A17C,    53,  1,     10,     10,2,19940124,1022,-34.3508, -46.9375, 4500,   2799.2,   3.1150,  34.9350,2,  34.9370,2,    251.0,2,    251.2,2,    28.10,2,    20.97,2,     1.37,2,    0.013,2,    0.015,2, -999.000,9,-999.0000,9,  -999.00,9,   -999.0,9,   -999.0,9,     8.01,2,  2.8860
 3230CITHER2_1,  A17C,    53,  1,      9,      9,2,19940124,1022,-34.3508, -46.9375, 4500,   2999.0,   2.9100,  34.9250,2,  34.9250,2,    251.9,2,    250.6,2,    31.50,2,    21.06,2,     1.38,2,    0.011,2,    0.016,2, -999.000,9,-999.0000,9,  -999.00,9,   -999.0,9,   -999.0,9,     8.01,2,  2.6610
 3230CITHER2_1,  A17C,    53,  1,      8,      8,2,19940124,1022,-34.3508, -46.9375, 4500,   3201.8,   2.5760,  34.9030,2,  34.9010,2,    251.0,2,    249.7,2,    38.90,2,    21.73,2,     1.44,2,    0.011,2,    0.015,2, -999.000,9,-999.0000,9,  -999.00,9,   -999.0,9,   -999.0,9,     8.00,2,  2.3140
 3230CITHER2_1,  A17C,    53,  1,      7,      7,2,19940124,1022,-34.3508, -46.9375, 4500,   3398.6,   1.6750,  34.7760,2,  34.7820,2,    225.1,2,    216.9,2,    87.10,2,    28.80,2,     1.94,2,    0.064,2,    0.042,2, -999.000,9,-999.0000,9,  -999.00,9,   -999.0,9,   -999.0,9,     7.93,2,  1.4140
 3230CITHER2_1,  A17C,    53,  1,      6,      6,2,19940124,1022,-34.3508, -46.9375, 4500,   3598.1,   1.1920,  34.7490,2,  34.7460,2,    218.3,2,    218.9,2,   101.90,2,    30.47,2,     2.05,2,    0.056,2,    0.036,2, -999.000,9,-999.0000,9,  -999.00,9,   -999.0,9,   -999.0,9,     7.91,2,  0.9230
 3230CITHER2_1,  A17C,    53,  1,      5,      5,2,19940124,1022,-34.3508, -46.9375, 4500,   3798.5,   0.5230,  34.6890,2,  34.6890,2,    213.3,2,    216.7,2,   122.30,2,    32.71,2,     2.23,2,    0.103,2,    0.055,2, -999.000,9,-999.0000,9,  -999.00,9,   -999.0,9,   -999.0,9,     7.88,2,  0.2520
 3230CITHER2_1,  A17C,    53,  1,      4,      4,2,19940124,1022,-34.3508, -46.9375, 4500,   3999.4,   0.2610,  34.6770,2,  34.6770,2,    218.0,2,    221.6,2,   126.80,2,    33.13,2,     2.26,2,    0.099,2,    0.061,2, -999.000,9,-999.0000,9,  -999.00,9,   -999.0,9,   -999.0,9,     7.88,2, -0.0230
 3230CITHER2_1,  A17C,    53,  1,      3,      3,2,19940124,1022,-34.3508, -46.9375, 4500,   4201.0,   0.1670,  34.6720,2,  34.6730,2,    220.0,2,    222.1,2,   129.50,2,    33.24,2,     2.28,2,    0.138,2,    0.078,2, -999.000,9,-999.0000,9,  -999.00,9,   -999.0,9,   -999.0,9,     7.88,2, -0.1340
 3230CITHER2_1,  A17C,    53,  1,      2,      2,2,19940124,1022,-34.3508, -46.9375, 4500,   4397.3,   0.1660,  34.6700,2,  34.6690,2,    220.3,2,    223.1,2,   128.90,2,    33.19,2,     2.28,2,    0.142,2,    0.084,2, -999.000,9,-999.0000,9,  -999.00,9,   -999.0,9,   -999.0,9,     7.88,2, -0.1560
 3230CITHER2_1,  A17C,    53,  1,      1,      1,2,19940124,1022,-34.3508, -46.9375, 4500,   4554.1,   0.1780,  34.6700,2,  34.6730,2,    219.3,2,    223.9,2,   129.20,2,    33.19,2,     2.29,2,    0.139,2,    0.081,2, -999.000,9,-999.0000,9,  -999.00,9,   -999.0,9,   -999.0,9,     7.88,2, -0.1610