BOTTLE,20030515WHPSIOSA
EXPOCODE,SECT_ID,STNNBR,CASTNO,SAMPNO,BTLNBR,BTLNBR_FLAG_W,DATE,TIME,LATITUDE,LONGITUDE,DEPTH,CTDPRS,CTDTMP,CTDSAL,CTDSAL_FLAG_W,SALNTY,SALNTY_FLAG_W,CTDOXY,CTDOXY_FLAG_W,OXYGEN,OXYGEN_FLAG_W,SILCAT,SILCAT_FLAG_W,NITRAT,NITRAT_FLAG_W,PHSPHT,PHSPHT_FLAG_W,CFC-11,CFC-11_FLAG_W,CFC-12,CFC-12_FLAG_W,TRITUM,TRITUM_FLAG_W,HELIUM,HELIUM_FLAG_W,DELHE3,DELHE3_FLAG_W,TCARBN,TCARBN_FLAG_W,ALKALI,ALKALI_FLAG_W,PH,PH_FLAG_W,THETA
,,,,,,,,,,,,DBAR,ITS-90,PSS-78,,PSS-78,,UMOL/KG,,UMOL/KG,,UMOL/KG,,UMOL/KG,,UMOL/KG,,PMOL/KG,,PMOL/KG,,TU,,NMOL/KG,,PERCNT,,UMOL/KG,,UMOL/KG,,,,DEG C
 3230CITHER2_2,  A17N,   223,  1,     32,     32,2,19940318,0858,  8.7405, -49.8348, 4580,      5.1,  25.7950,  36.2800,2,  36.2820,2,    202.9,2,    204.7,2,     1.40,2,     0.04,2,     0.02,2,    1.805,2,    0.996,2, -999.000,9,-999.0000,9,  -999.00,9,   2020.2,2,   2385.0,2,     8.38,2, 25.7940
 3230CITHER2_2,  A17N,   223,  1,     31,     31,2,19940318,0858,  8.7405, -49.8348, 4580,     51.9,  24.7670,  36.2210,2,  36.2300,2,    209.9,2,    209.2,2,     0.90,2,     0.04,2,     0.03,2,    1.836,2,    1.012,2, -999.000,9,-999.0000,9,  -999.00,9,   2025.4,2,   2380.4,2,     8.37,2, 24.7560
 3230CITHER2_2,  A17N,   223,  1,     30,     30,2,19940318,0858,  8.7405, -49.8348, 4580,    124.9,  15.0460,  35.7500,2,  35.7190,2,    111.5,2,    105.6,2,     8.10,2,    21.09,2,     1.26,2,    1.153,2,    0.613,2, -999.000,9,-999.0000,9,  -999.00,9,   2182.6,2,   2352.4,2,     8.01,2, 15.0270
 3230CITHER2_2,  A17N,   223,  1,     29,     29,2,19940318,0858,  8.7405, -49.8348, 4580,    199.9,  10.7610,  35.1210,2,  35.1180,2,    105.1,2,    107.5,2,    12.70,2,    26.99,2,     1.69,2,    0.670,2,    0.363,2, -999.000,9,-999.0000,9,  -999.00,9,   2195.7,2,   2324.3,2,     7.92,2, 10.7370
 3230CITHER2_2,  A17N,   223,  1,     28,     28,2,19940318,0858,  8.7405, -49.8348, 4580,    301.3,   9.4310,  34.9380,2,  34.9330,2,    109.2,2,    110.4,2,    15.30,2,    29.47,2,     1.86,2,    0.464,2,    0.257,2, -999.000,9,-999.0000,9,  -999.00,9,   2204.4,2,   2317.9,2,     7.89,2,  9.3970
 3230CITHER2_2,  A17N,   223,  1,     27,     27,2,19940318,0858,  8.7405, -49.8348, 4580,    400.9,   8.5160,  34.8260,2,  34.8260,2,    106.9,2,    107.8,2,    17.70,2,    31.83,2,     2.01,2,    0.294,2,    0.165,2, -999.000,9,-999.0000,9,  -999.00,9,   2212.6,2,   2313.2,2,     7.86,2,  8.4730
 3230CITHER2_2,  A17N,   223,  1,     26,     26,2,19940318,0858,  8.7405, -49.8348, 4580,    500.4,   7.8040,  34.7830,2,  34.7780,2,    105.6,2,    104.4,2,    20.10,2,    33.86,2,     2.13,2,    0.160,2,    0.095,2, -999.000,9,-999.0000,9,  -999.00,9,   2220.3,2,   2315.1,2,     7.83,2,  7.7530
 3230CITHER2_2,  A17N,   223,  1,     25,     25,2,19940318,0858,  8.7405, -49.8348, 4580,    599.5,   7.0790,  34.7420,2,  34.7400,2,    105.4,2,    107.0,2,    22.70,2,    35.22,2,     2.24,2,    0.105,2,    0.071,2, -999.000,9,-999.0000,9,  -999.00,9,   2225.9,2,   2314.1,2,     7.82,2,  7.0210
 3230CITHER2_2,  A17N,   223,  1,     24,     24,2,19940318,0858,  8.7405, -49.8348, 4580,    799.1,   5.6190,  34.6370,2,  34.6340,2,    130.3,2,    130.3,2,    28.10,2,    34.92,2,     2.30,2,    0.030,2,    0.019,2, -999.000,9,-999.0000,9,  -999.00,9,   2223.5,2,   2314.4,2,     7.83,2,  5.5500
 3230CITHER2_2,  A17N,   223,  1,     23,     23,2,19940318,0858,  8.7405, -49.8348, 4580,    999.4,   5.0830,  34.7220,2,  34.7250,2,    144.3,2,    144.6,2,    28.80,2,    33.04,2,     2.18,2,    0.006,2,    0.004,2, -999.000,9,-999.0000,9,  -999.00,9,   2218.6,2,   2320.9,2,     7.85,2,  4.9990
 3230CITHER2_2,  A17N,   223,  1,     22,     22,2,19940318,0858,  8.7405, -49.8348, 4580,   1199.9,   4.9770,  34.8800,2,  34.8810,2,    174.4,2,    176.9,2,    24.30,2,    27.89,2,     1.85,2,    0.032,2,    0.018,2, -999.000,9,-999.0000,9,  -999.00,9,   2202.0,2,   2327.1,2,     7.91,2,  4.8750
 3230CITHER2_2,  A17N,   223,  1,     21,     21,2,19940318,0858,  8.7405, -49.8348, 4580,   1399.7,   4.7860,  34.9800,2,  34.9810,2,    215.8,2,    214.8,2,    19.20,2,    22.79,2,     1.49,2,    0.138,2,    0.079,2, -999.000,9,-999.0000,9,  -999.00,9,   2180.8,2,   2326.6,2,     7.97,2,  4.6670
 3230CITHER2_2,  A17N,   223,  1,     20,     20,2,19940318,0858,  8.7405, -49.8348, 4580,   1499.4,   4.6340,  35.0090,2,  35.0090,2,    232.6,2,    233.0,2,    16.80,2,    20.85,2,     1.35,2,    0.243,2,    0.133,2, -999.000,9,-999.0000,9,  -999.00,9,   2171.3,2,   2328.5,2,     7.99,2,  4.5070
 3230CITHER2_2,  A17N,   223,  1,     19,     19,2,19940318,0858,  8.7405, -49.8348, 4580,   1599.0,   4.4110,  35.0130,2,  35.0130,2,    247.0,2,    245.1,2,    15.50,2,    19.76,2,     1.27,2,    0.323,2,    0.177,2, -999.000,9,-999.0000,9,  -999.00,9,   2165.5,2,   2328.5,2,     8.01,2,  4.2770
 3230CITHER2_2,  A17N,   223,  1,     18,     18,2,19940318,0858,  8.7405, -49.8348, 4580,   1700.1,   4.2110,  35.0060,2,  35.0070,2,    254.3,2,    250.9,2,    15.30,2,    19.41,2,     1.24,2,    0.270,2,    0.150,2, -999.000,9,-999.0000,9,  -999.00,9,   -999.0,5,   2329.1,2,     8.01,2,  4.0690
 3230CITHER2_2,  A17N,   223,  1,     17,     17,2,19940318,0858,  8.7405, -49.8348, 4580,   1700.3,   4.2110,  35.0060,2,  35.0070,2,    254.3,2,    250.5,2,    15.20,2,    19.45,2,     1.24,2,    0.279,2,    0.156,2, -999.000,9,-999.0000,9,  -999.00,9,   2161.2,2,   2329.1,2,     8.01,2,  4.0700
 3230CITHER2_2,  A17N,   223,  1,     16,     16,2,19940318,0858,  8.7405, -49.8348, 4580,   1798.6,   3.9580,  34.9940,2,  34.9920,2,    257.9,2,    254.2,2,    16.50,2,    19.40,2,     1.24,2,    0.153,2,    0.088,2, -999.000,9,-999.0000,9,  -999.00,9,   2161.3,2,   2327.9,2,     8.01,2,  3.8100
 3230CITHER2_2,  A17N,   223,  1,     15,     15,2,19940318,0858,  8.7405, -49.8348, 4580,   1999.0,   3.6100,  34.9830,2,  34.9830,2,    260.1,2,    259.7,2,    18.40,2,    19.29,2,     1.24,2,    0.089,2,    0.055,2, -999.000,9,-999.0000,9,  -999.00,9,   2162.2,2,   2329.0,2,     8.02,2,  3.4480
 3230CITHER2_2,  A17N,   223,  1,     14,     14,2,19940318,0858,  8.7405, -49.8348, 4580,   2199.7,   3.3350,  34.9690,2,  34.9690,2,    261.0,2,    259.5,2,    20.60,2,    19.36,2,     1.25,2,    0.065,2,    0.040,2, -999.000,9,-999.0000,9,  -999.00,9,   2162.3,2,   2331.5,2,     8.02,2,  3.1580
 3230CITHER2_2,  A17N,   223,  1,     13,     13,2,19940318,0858,  8.7405, -49.8348, 4580,   2399.3,   3.1340,  34.9600,2,  34.9580,2,    263.1,2,    261.9,2,    21.60,2,    19.13,2,     1.23,2,    0.106,2,    0.060,2, -999.000,9,-999.0000,9,  -999.00,9,   2162.9,2,   2330.0,2,     8.02,2,  2.9410
 3230CITHER2_2,  A17N,   223,  1,     12,     12,2,19940318,0858,  8.7405, -49.8348, 4580,   2598.7,   2.9760,  34.9490,2,  34.9480,2,    260.1,2,    258.7,2,    25.70,2,    19.79,2,     1.28,2,    0.045,2,    0.028,2, -999.000,9,-999.0000,9,  -999.00,9,   2168.1,2,   2335.1,2,     8.02,2,  2.7670
 3230CITHER2_2,  A17N,   223,  1,     11,     11,2,19940318,0858,  8.7405, -49.8348, 4580,   2798.3,   2.8230,  34.9390,2,  34.9380,2,    259.0,2,    258.6,2,    27.80,2,    19.90,2,     1.29,2,    0.043,2,    0.027,2, -999.000,9,-999.0000,9,  -999.00,9,   2173.6,2,   2339.1,2,     8.02,2,  2.5970
 3230CITHER2_2,  A17N,   223,  1,     10,     10,2,19940318,0858,  8.7405, -49.8348, 4580,   2998.7,   2.7050,  34.9310,2,  34.9310,2,    258.4,2,    260.4,2,    29.40,2,    20.13,2,     1.29,2,    0.064,2,    0.038,2, -999.000,9,-999.0000,9,  -999.00,9,   2172.3,2,   2340.2,2,     8.02,2,  2.4610
 3230CITHER2_2,  A17N,   223,  1,      9,      9,2,19940318,0858,  8.7405, -49.8348, 4580,   3197.6,   2.5800,  34.9210,2,  34.9220,2,    259.6,2,    257.0,2,    33.30,2,    20.64,2,     1.33,2,    0.054,2,    0.029,2, -999.000,9,-999.0000,9,  -999.00,9,   2180.3,2,   2343.0,2,     8.01,2,  2.3180
 3230CITHER2_2,  A17N,   223,  1,      8,      8,2,19940318,0858,  8.7405, -49.8348, 4580,   3397.7,   2.4860,  34.9140,2,  34.9140,2,    259.6,2,    260.5,2,    32.50,2,    20.29,2,     1.31,2,    0.077,2,    0.044,2, -999.000,9,-999.0000,9,  -999.00,9,   2179.4,2,   2341.6,2,     8.01,2,  2.2050
 3230CITHER2_2,  A17N,   223,  1,      7,      7,2,19940318,0858,  8.7405, -49.8348, 4580,   3597.6,   2.3720,  34.9080,2,  34.9060,2,    263.3,2,    264.8,2,    30.60,2,    19.70,2,     1.27,2,    0.134,2,    0.077,2, -999.000,9,-999.0000,9,  -999.00,9,   2172.4,2,   2339.3,2,     8.01,2,  2.0720
 3230CITHER2_2,  A17N,   223,  1,      6,      6,2,19940318,0858,  8.7405, -49.8348, 4580,   3798.6,   2.2970,  34.9010,2,  34.9020,2,    264.4,2,    265.7,2,    31.70,2,    19.51,2,     1.27,2,    0.153,2,    0.088,2, -999.000,9,-999.0000,9,  -999.00,9,   2174.8,2,   2339.8,2,     8.01,2,  1.9770
 3230CITHER2_2,  A17N,   223,  1,      5,      5,2,19940318,0858,  8.7405, -49.8348, 4580,   3998.7,   2.2570,  34.8970,2,  34.8990,2,    263.1,2,    264.4,2,    33.50,2,    19.74,2,     1.28,2,    0.138,2,    0.087,2, -999.000,9,-999.0000,9,  -999.00,9,   2178.4,2,   2339.0,2,     8.01,2,  1.9160
 3230CITHER2_2,  A17N,   223,  1,      4,      4,2,19940318,0858,  8.7405, -49.8348, 4580,   4198.6,   2.2390,  34.8920,2,  34.8930,2,    263.0,2,    263.7,2,    35.50,2,    20.09,2,     1.28,2,    0.128,2,    0.075,2, -999.000,9,-999.0000,9,  -999.00,9,   2179.1,2,   2344.1,2,     8.01,2,  1.8750
 3230CITHER2_2,  A17N,   223,  1,      3,      3,2,19940318,0858,  8.7405, -49.8348, 4580,   4398.0,   2.1690,  34.8800,2,  34.8810,2,    258.5,2,    258.8,2,    41.60,2,    21.13,2,     1.38,2,    0.067,2,    0.048,2, -999.000,9,-999.0000,9,  -999.00,9,   2187.0,2,   2346.7,2,     8.00,2,  1.7840
 3230CITHER2_2,  A17N,   223,  1,      2,      2,2,19940318,0858,  8.7405, -49.8348, 4580,   4598.6,   2.0170,  34.8590,2,  34.8600,2,    251.3,2,    251.8,2,    52.00,2,    22.37,2,     1.49,2,    0.043,2,    0.032,2, -999.000,9,-999.0000,9,  -999.00,9,   2199.9,2,   2353.2,2,     7.99,2,  1.6130
 3230CITHER2_2,  A17N,   223,  1,      1,      1,2,19940318,0858,  8.7405, -49.8348, 4580,   4643.6,   1.9790,  34.8530,2,  34.8550,2,    249.6,2,    250.4,2,    55.20,2,    22.76,2,     1.50,2,    0.038,2,    0.029,2, -999.000,9,-999.0000,9,  -999.00,9,   2202.6,2,   2360.9,2,     7.99,2,  1.5710
 3230CITHER2_2,  A17N,   224,  1,     32,     32,2,19940318,1435,  8.3083, -50.0843, 4471,      7.0,  26.2870,  36.2730,2,  36.2760,2,    201.9,2,    203.7,2,     1.80,2,     0.04,2,     0.02,2,    1.771,2,    0.991,2, -999.000,9,   1.6800,2,     0.92,2,   2018.4,2,   -999.0,9,     8.38,2, 26.2850
 3230CITHER2_2,  A17N,   224,  1,     31,     31,2,19940318,1435,  8.3083, -50.0843, 4471,     55.8,  25.9960,  36.2720,2,  36.2770,2,    206.2,2,    205.0,2,     1.70,2,     0.04,2,     0.01,2,    1.774,2,    0.982,2,    0.760,2,   1.6800,2,     1.34,2,   2020.2,2,   -999.0,9,     8.38,2, 25.9830
 3230CITHER2_2,  A17N,   224,  1,     30,     30,2,19940318,1435,  8.3083, -50.0843, 4471,    125.7,  16.1110,  35.8730,2,  35.8600,2,    110.8,2,    109.3,2,     7.10,2,    19.00,2,     1.12,2,    1.279,2,    0.686,2,    0.740,2,   1.6900,2,     3.03,2,   2180.2,2,   -999.0,9,     8.05,2, 16.0910
 3230CITHER2_2,  A17N,   224,  1,     29,     29,2,19940318,1435,  8.3083, -50.0843, 4471,    200.7,  10.8610,  35.1080,2,  35.1110,2,    115.5,2,    119.0,2,    12.30,2,    25.29,2,     1.64,2,    0.786,2,    0.425,2,    0.360,2,   1.7300,2,     2.45,2,   2189.6,2,   -999.0,9,     7.94,2, 10.8360
 3230CITHER2_2,  A17N,   224,  1,     28,     28,2,19940318,1435,  8.3083, -50.0843, 4471,    301.3,   9.1770,  34.8930,2,  34.9170,2,    108.4,2,    109.8,2,    15.80,2,    30.21,2,     1.93,2,    0.401,2,    0.229,2, -999.000,9,   1.7300,2,     2.89,2,   2207.1,2,   -999.0,9,     7.88,2,  9.1440
 3230CITHER2_2,  A17N,   224,  1,     27,     27,2,19940318,1435,  8.3083, -50.0843, 4471,    400.7,   8.3290,  34.7990,2,  34.8000,2,    119.3,2,    113.1,2,    17.90,2,    31.49,2,     2.03,2,    0.317,2,    0.179,2,    0.440,2,   1.7600,2,     4.06,2,   2208.6,2,   -999.0,9,     7.87,2,  8.2870
 3230CITHER2_2,  A17N,   224,  1,     26,     26,2,19940318,1435,  8.3083, -50.0843, 4471,    501.1,   7.3100,  34.7190,2,  34.7170,2,    122.7,2,    119.4,2,    21.00,2,    32.92,2,     2.14,2,    0.188,2,    0.110,2,    0.070,2,   1.7700,2,     3.35,2,   2214.6,2,   -999.0,9,     7.86,2,  7.2610
 3230CITHER2_2,  A17N,   224,  1,     25,     25,2,19940318,1435,  8.3083, -50.0843, 4471,    601.0,   6.7250,  34.7100,2,  34.7050,2,    110.6,2,    112.3,2,    23.50,2,    34.55,2,     2.26,2,    0.068,2,    0.038,2,    0.070,2,   1.7700,2,     3.65,2,   2224.2,2,   -999.0,9,     7.83,2,  6.6690
 3230CITHER2_2,  A17N,   224,  1,     24,     24,2,19940318,1435,  8.3083, -50.0843, 4471,    800.8,   5.2920,  34.6180,2,  34.6180,2,    138.8,2,    137.5,2,    28.80,2,    34.27,2,     2.30,2,    0.031,2,    0.021,2,    0.310,2,   1.7800,2,     2.55,2,   2222.9,2,   -999.0,9,     7.84,2,  5.2250
 3230CITHER2_2,  A17N,   224,  1,     23,     23,2,19940318,1435,  8.3083, -50.0843, 4471,   1000.8,   5.1050,  34.7440,2,  34.7460,2,    150.1,2,    151.3,2,    27.80,2,    31.61,2,     2.13,2,    0.013,2,    0.010,2,    0.060,2,   1.7500,2,     3.10,2,   2216.5,2,   -999.0,9,     7.87,2,  5.0200
 3230CITHER2_2,  A17N,   224,  1,     22,     22,2,19940318,1435,  8.3083, -50.0843, 4471,   1199.8,   5.1900,  34.9230,2,  34.9240,2,    181.1,2,    183.2,2,    22.30,2,    26.07,2,     1.75,2,    0.085,2,    0.054,2,    0.160,2,   1.7900,2,     2.33,2,   -999.0,9,   -999.0,9,     7.94,2,  5.0860
 3230CITHER2_2,  A17N,   224,  1,     21,     21,2,19940318,1435,  8.3083, -50.0843, 4471,   1400.3,   4.8430,  35.0000,2,  35.0020,2,    217.4,2,    219.8,2,    18.10,2,    21.86,2,     1.45,2,    0.193,2,    0.112,2,    0.260,2,   1.7900,2,     2.82,2,   -999.0,9,   -999.0,9,     7.98,2,  4.7230
 3230CITHER2_2,  A17N,   224,  1,     20,     20,2,19940318,1435,  8.3083, -50.0843, 4471,   1499.6,   4.6530,  35.0090,2,  35.0100,2,    231.2,2,    231.8,2,    16.90,2,    20.85,2,     1.37,2,    0.235,2,    0.131,2, -999.000,9,-999.0000,9,  -999.00,9,   -999.0,9,   -999.0,9,     8.00,2,  4.5250
 3230CITHER2_2,  A17N,   224,  1,     18,     18,2,19940318,1435,  8.3083, -50.0843, 4471,   1600.2,   4.3880,  35.0100,2,  35.0150,2,    243.5,2,    243.8,2,    15.80,2,    19.71,2,     1.29,2,    0.267,2,    0.150,2, -999.000,9,   1.7900,2,     4.16,2,   -999.0,9,   -999.0,9,     8.01,2,  4.2540
 3230CITHER2_2,  A17N,   224,  1,     19,     19,2,19940318,1435,  8.3083, -50.0843, 4471,   1600.4,   4.3960,  35.0110,2,  35.0110,2,    243.5,2,    246.1,2,    15.70,2,    19.73,2,     1.29,2,    0.268,2,    0.158,2, -999.000,9,-999.0000,9,  -999.00,9,   -999.0,9,   -999.0,9,     8.01,2,  4.2620
 3230CITHER2_2,  A17N,   224,  1,     17,     17,2,19940318,1435,  8.3083, -50.0843, 4471,   1700.4,   4.2200,  35.0060,2,  35.0060,2,    250.2,2,    250.1,2,    15.50,2,    19.36,2,     1.25,2,    0.272,2,    0.151,2, -999.000,9,-999.0000,9,  -999.00,9,   -999.0,9,   -999.0,9,     8.01,2,  4.0780
 3230CITHER2_2,  A17N,   224,  1,     16,     16,2,19940318,1435,  8.3083, -50.0843, 4471,   1799.0,   4.0540,  35.0010,2,  34.9980,2,    255.0,2,    254.1,2,    15.60,2,    19.06,2,     1.24,2,    0.235,2,    0.135,2, -999.000,9,   1.8000,2,     4.30,2,   -999.0,9,   -999.0,9,     8.02,2,  3.9050
 3230CITHER2_2,  A17N,   224,  1,     15,     15,2,19940318,1435,  8.3083, -50.0843, 4471,   1999.3,   3.7500,  34.9900,2,  34.9920,2,    259.5,2,    258.4,2,    16.90,2,    18.91,2,     1.23,2,    0.153,2,    0.089,2, -999.000,9,-999.0000,9,  -999.00,9,   -999.0,9,   -999.0,9,     8.03,2,  3.5860
 3230CITHER2_2,  A17N,   224,  1,     14,     14,2,19940318,1435,  8.3083, -50.0843, 4471,   2200.4,   3.4010,  34.9720,2,  34.9740,2,    259.7,2,    260.1,2,    19.80,2,    19.07,2,     1.24,2,    0.080,2,    0.049,2, -999.000,9,   1.7600,2,     3.71,2,   -999.0,9,   -999.0,9,     8.03,2,  3.2230
 3230CITHER2_2,  A17N,   224,  1,     13,     13,2,19940318,1435,  8.3083, -50.0843, 4471,   2400.0,   3.1990,  34.9620,2,  34.9640,2,    260.6,2,    260.6,2,    21.30,2,    19.07,2,     1.24,2,    0.087,2,    0.053,2, -999.000,9,-999.0000,9,  -999.00,9,   -999.0,9,   -999.0,9,     8.03,2,  3.0050
 3230CITHER2_2,  A17N,   224,  1,     12,     12,2,19940318,1435,  8.3083, -50.0843, 4471,   2599.7,   3.0310,  34.9530,2,  34.9530,2,    261.0,2,    260.6,2,    23.30,2,    19.28,2,     1.26,2,    0.079,2,    0.046,2, -999.000,9,   1.7600,2,     2.77,2,   -999.0,9,   -999.0,9,     8.02,2,  2.8210
 3230CITHER2_2,  A17N,   224,  1,     11,     11,2,19940318,1435,  8.3083, -50.0843, 4471,   2799.2,   2.8660,  34.9410,2,  34.9440,2,    259.0,2,    259.3,2,    26.30,2,    19.48,2,     1.28,2,    0.064,2,    0.038,2, -999.000,9,-999.0000,9,  -999.00,9,   -999.0,9,   -999.0,9,     8.02,2,  2.6390
 3230CITHER2_2,  A17N,   224,  1,     10,     10,2,19940318,1435,  8.3083, -50.0843, 4471,   2999.6,   2.7120,  34.9310,2,  34.9330,2,    258.5,2,    257.9,2,    29.90,2,    19.95,2,     1.31,2,    0.053,2,    0.030,2, -999.000,9,   1.8100,2,     1.68,2,   -999.0,9,   -999.0,9,     8.02,2,  2.4680
 3230CITHER2_2,  A17N,   224,  1,      9,      9,2,19940318,1435,  8.3083, -50.0843, 4471,   3198.5,   2.5950,  34.9230,2,  34.9230,2,    257.1,2,    257.8,2,    31.90,2,    20.08,2,     1.33,2,    0.048,2,    0.032,2, -999.000,9,-999.0000,9,  -999.00,9,   -999.0,9,   -999.0,9,     8.02,2,  2.3320
 3230CITHER2_2,  A17N,   224,  1,      8,      8,2,19940318,1435,  8.3083, -50.0843, 4471,   3398.7,   2.4780,  34.9130,2,  34.9150,2,    260.8,2,    261.6,2,    31.40,2,    19.69,2,     1.29,2,    0.087,2,    0.053,2, -999.000,9,   1.8000,2,     5.20,2,   -999.0,9,   -999.0,9,     8.02,2,  2.1970
 3230CITHER2_2,  A17N,   224,  1,      7,      7,2,19940318,1435,  8.3083, -50.0843, 4471,   3600.4,   2.3740,  34.9070,2,  34.9120,2,    265.0,2,    265.7,2,    29.70,2,    19.23,2,     1.26,2,    0.168,2,    0.101,2, -999.000,9,-999.0000,9,  -999.00,9,   -999.0,9,   -999.0,9,     8.02,2,  2.0740
 3230CITHER2_2,  A17N,   224,  1,      6,      6,2,19940318,1435,  8.3083, -50.0843, 4471,   3798.0,   2.3220,  34.9030,2,  34.9060,2,    264.5,2,    265.3,2,    31.20,2,    19.27,2,     1.27,2,    0.159,2,    0.091,2, -999.000,9,-999.0000,9,  -999.00,9,   -999.0,9,   -999.0,9,     8.02,2,  2.0010
 3230CITHER2_2,  A17N,   224,  1,      5,      5,2,19940318,1435,  8.3083, -50.0843, 4471,   3997.1,   2.2730,  34.8980,2,  34.9010,2,    264.1,2,    264.6,2,    32.80,2,    19.52,2,     1.28,2,    0.132,2,    0.079,2, -999.000,9,   1.8000,2,     4.99,2,   -999.0,9,   -999.0,9,     8.02,2,  1.9310
 3230CITHER2_2,  A17N,   224,  1,      4,      4,2,19940318,1435,  8.3083, -50.0843, 4471,   4198.4,   2.2330,  34.8910,2,  34.8930,2,    262.2,2,    263.1,2,    35.30,2,    19.84,2,     1.31,2,    0.121,2,    0.074,2, -999.000,9,-999.0000,9,  -999.00,9,   -999.0,9,   -999.0,9,     8.02,2,  1.8690
 3230CITHER2_2,  A17N,   224,  1,      3,      3,2,19940318,1435,  8.3083, -50.0843, 4471,   4399.4,   2.1020,  34.8720,2,  34.8770,2,    257.2,2,    256.0,2,    44.80,2,    21.21,2,     1.42,2,    0.065,2,    0.049,2, -999.000,9,-999.0000,9,  -999.00,9,   -999.0,9,   -999.0,9,     8.00,2,  1.7190
 3230CITHER2_2,  A17N,   224,  1,      2,      2,2,19940318,1435,  8.3083, -50.0843, 4471,   4480.1,   1.8410,  34.8420,2,  34.8460,2,    251.6,2,    246.5,2,    60.80,2,    23.30,2,     1.57,2,    0.031,2,    0.024,2, -999.000,9,-999.0000,9,  -999.00,9,   -999.0,9,   -999.0,9,     7.99,2,  1.4570
 3230CITHER2_2,  A17N,   224,  1,      1,      1,2,19940318,1435,  8.3083, -50.0843, 4471,   4526.2,   1.8070,  34.8350,2,  34.8350,2,    242.4,2,    244.6,2,    65.30,2,    23.74,2,     1.61,2,    0.024,2,    0.021,2, -999.000,9,   1.8100,2,     4.51,2,   -999.0,9,   -999.0,9,     7.98,2,  1.4180