BOTTLE,20030515WHPSIOSA
EXPOCODE,SECT_ID,STNNBR,CASTNO,SAMPNO,BTLNBR,BTLNBR_FLAG_W,DATE,TIME,LATITUDE,LONGITUDE,DEPTH,CTDPRS,CTDTMP,CTDSAL,CTDSAL_FLAG_W,SALNTY,SALNTY_FLAG_W,CTDOXY,CTDOXY_FLAG_W,OXYGEN,OXYGEN_FLAG_W,SILCAT,SILCAT_FLAG_W,NITRAT,NITRAT_FLAG_W,PHSPHT,PHSPHT_FLAG_W,CFC-11,CFC-11_FLAG_W,CFC-12,CFC-12_FLAG_W,TRITUM,TRITUM_FLAG_W,HELIUM,HELIUM_FLAG_W,DELHE3,DELHE3_FLAG_W,TCARBN,TCARBN_FLAG_W,ALKALI,ALKALI_FLAG_W,PH,PH_FLAG_W,THETA
,,,,,,,,,,,,DBAR,ITS-90,PSS-78,,PSS-78,,UMOL/KG,,UMOL/KG,,UMOL/KG,,UMOL/KG,,UMOL/KG,,PMOL/KG,,PMOL/KG,,TU,,NMOL/KG,,PERCNT,,UMOL/KG,,UMOL/KG,,,,DEG C
 3230CITHER2_1,  A17C,    60,  1,     32,     32,2,19940127,2305,-35.5960, -43.8898, 4893,      7.2,  21.2110,  35.4590,2,  35.4640,2,    221.0,2,    223.5,2,     1.80,2,     0.04,2,     0.11,2,    2.421,2, -999.000,5, -999.000,9,-999.0000,9,  -999.00,9,   2024.4,2,   2354.5,2,     8.33,2, 21.2100
 3230CITHER2_1,  A17C,    60,  1,     31,     31,2,19940127,2305,-35.5960, -43.8898, 4893,     40.5,  21.2000,  35.4580,2,  35.4590,2,    225.8,2,    224.4,2,     1.80,2,     0.04,2,     0.12,2,    2.349,2,    1.358,2, -999.000,9,-999.0000,9,  -999.00,9,   2024.5,2,   2354.0,2,     8.34,2, 21.1920
 3230CITHER2_1,  A17C,    60,  1,     30,     30,2,19940127,2305,-35.5960, -43.8898, 4893,    100.5,  16.7650,  35.6850,2,  35.6870,2,    215.0,2,    214.0,2,     2.20,2,     2.75,2,     0.35,2,    2.760,2,    1.528,2, -999.000,9,-999.0000,9,  -999.00,9,   2080.6,2,   2357.0,2,     8.24,2, 16.7490
 3230CITHER2_1,  A17C,    60,  1,     29,     29,2,19940127,2305,-35.5960, -43.8898, 4893,    199.8,  13.9550,  35.3850,2,  35.3950,2,    223.3,2,    215.2,2,     2.90,2,     8.34,2,     0.66,2,    2.854,2,    1.543,2, -999.000,9,-999.0000,9,  -999.00,9,   2098.6,2,   2339.5,2,     8.18,2, 13.9260
 3230CITHER2_1,  A17C,    60,  1,     28,     28,2,19940127,2305,-35.5960, -43.8898, 4893,    398.9,   9.2000,  34.6450,2,  34.6480,2,    229.9,2,    229.2,2,     5.70,2,    17.52,2,     1.25,2,    3.126,2,    1.626,2, -999.000,9,-999.0000,9,  -999.00,9,   2121.3,2,   2301.9,2,     8.07,2,  9.1560
 3230CITHER2_1,  A17C,    60,  1,     27,     27,2,19940127,2305,-35.5960, -43.8898, 4893,    502.6,   6.8400,  34.3960,2,  34.3990,2,    239.7,2,    237.6,2,     9.00,2,    22.39,2,     1.57,2,    3.237,2,    1.637,2, -999.000,9,-999.0000,9,  -999.00,9,   2137.7,2,   2292.7,2,     8.00,2,  6.7930
 3230CITHER2_1,  A17C,    60,  1,     26,     26,2,19940127,2305,-35.5960, -43.8898, 4893,    599.8,   5.2930,  34.2350,2,  34.2390,2,    263.9,2,    265.8,2,    10.00,2,    23.59,2,     1.67,2,    4.071,2,    2.016,2, -999.000,9,-999.0000,9,  -999.00,9,   2136.5,2,   2288.2,2,     8.00,2,  5.2440
 3230CITHER2_1,  A17C,    60,  1,     25,     25,2,19940127,2305,-35.5960, -43.8898, 4893,    701.8,   4.6070,  34.2050,2,  34.2060,2,    264.1,2,    267.1,2,    13.40,2,    25.40,2,     1.77,2,    3.950,2,    1.954,2, -999.000,9,-999.0000,9,  -999.00,9,   2145.5,2,   2290.7,2,     7.98,2,  4.5530
 3230CITHER2_1,  A17C,    60,  1,     24,     24,2,19940127,2305,-35.5960, -43.8898, 4893,    800.8,   4.1450,  34.2070,2,  34.2110,2,    257.7,2,    259.9,2,    17.60,2,    27.29,2,     1.88,2,    3.480,2,    1.729,2, -999.000,9,-999.0000,9,  -999.00,9,   2156.7,2,   2294.5,2,     7.96,2,  4.0850
 3230CITHER2_1,  A17C,    60,  1,     23,     23,2,19940127,2305,-35.5960, -43.8898, 4893,    899.8,   3.8270,  34.2310,2,  34.2290,2,    248.8,2,    249.1,2,    22.80,2,    28.99,2,     1.99,2,    2.763,2,    1.384,2, -999.000,9,-999.0000,9,  -999.00,9,   2169.9,2,   2299.2,2,     7.94,2,  3.7610
 3230CITHER2_1,  A17C,    60,  1,     22,     22,2,19940127,2305,-35.5960, -43.8898, 4893,   1001.1,   3.4490,  34.2410,2,  34.2430,2,    237.4,2,    242.4,2,    27.90,2,    30.09,2,     2.07,2,    2.398,2,    1.214,2, -999.000,9,-999.0000,9,  -999.00,9,   2179.1,2,   2304.5,2,     7.92,2,  3.3780
 3230CITHER2_1,  A17C,    60,  1,     21,     21,2,19940127,2305,-35.5960, -43.8898, 4893,   1199.3,   2.9250,  34.3300,2,  34.3270,2,    214.7,2,    215.8,2,    43.40,2,    32.61,2,     2.23,2,    1.421,2,    0.733,2, -999.000,9,-999.0000,9,  -999.00,9,   2200.9,2,   2315.9,2,     7.88,2,  2.8430
 3230CITHER2_1,  A17C,    60,  1,     20,     20,2,19940127,2305,-35.5960, -43.8898, 4893,   1401.0,   2.9010,  34.4680,2,  34.4700,2,    191.3,2,    191.3,2,    52.30,2,    33.21,2,     2.28,2,    0.424,2,    0.236,2, -999.000,9,-999.0000,9,  -999.00,9,   2227.0,2,   2330.0,2,     7.85,2,  2.8030
 3230CITHER2_1,  A17C,    60,  1,     19,     19,2,19940127,2305,-35.5960, -43.8898, 4893,   1600.6,   2.9110,  34.5920,2,  34.5910,2,    184.0,2,    185.2,2,    58.20,2,    32.19,2,     2.21,2,    0.210,2,    0.113,2, -999.000,9,-999.0000,9,  -999.00,9,   2232.2,2,   2339.2,2,     7.86,2,  2.7960
 3230CITHER2_1,  A17C,    60,  1,     18,     18,2,19940127,2305,-35.5960, -43.8898, 4893,   1800.5,   2.7710,  34.6580,2,  34.6560,2,    182.3,2,    183.8,2,    64.90,2,    31.80,2,     2.17,2,    0.183,2,    0.102,2, -999.000,9,-999.0000,9,  -999.00,9,   2237.8,2,   2346.3,2,     7.86,2,  2.6400
 3230CITHER2_1,  A17C,    60,  1,     17,     17,2,19940127,2305,-35.5960, -43.8898, 4893,   1998.0,   2.9740,  34.7660,2,  34.7670,2,    193.4,2,    199.8,2,    56.70,2,    28.73,2,     1.93,2,    0.087,2,    0.057,2, -999.000,9,-999.0000,9,  -999.00,9,   -999.0,5,   2344.2,2,     7.90,2,  2.8230
 3230CITHER2_1,  A17C,    60,  1,     16,     16,2,19940127,2305,-35.5960, -43.8898, 4893,   1999.2,   2.9740,  34.7670,2,  34.7680,2,    193.5,2,    199.9,2,    56.80,2,    28.73,2,     1.94,2,    0.086,2,    0.060,2, -999.000,9,-999.0000,9,  -999.00,9,   2221.1,2,   2344.2,2,     7.90,2,  2.8220
 3230CITHER2_1,  A17C,    60,  1,     15,     15,2,19940127,2305,-35.5960, -43.8898, 4893,   2198.7,   3.1310,  34.8480,2,  34.8480,2,    215.9,2,    218.7,2,    45.00,2,    25.40,2,     1.71,2,    0.049,2,    0.034,2, -999.000,9,-999.0000,9,  -999.00,9,   2202.0,2,   2340.7,2,     7.94,2,  2.9580
 3230CITHER2_1,  A17C,    60,  1,     14,     14,2,19940127,2305,-35.5960, -43.8898, 4893,   2397.2,   3.0880,  34.8840,2,  34.8820,2,    230.9,2,    231.0,2,    40.50,2,    23.72,2,     1.60,2,    0.034,2,    0.027,2, -999.000,9,-999.0000,9,  -999.00,9,   2191.9,2,   2339.0,2,     7.96,2,  2.8970
 3230CITHER2_1,  A17C,    60,  1,     13,     13,2,19940127,2305,-35.5960, -43.8898, 4893,   2597.5,   2.8700,  34.8780,2,  34.8790,2,    234.5,2,    231.2,2,    45.50,2,    23.88,2,     1.60,2,    0.029,2,    0.030,2, -999.000,9,-999.0000,9,  -999.00,9,   2197.0,2,   2340.9,2,     7.96,2,  2.6630
 3230CITHER2_1,  A17C,    60,  1,     12,     12,2,19940127,2305,-35.5960, -43.8898, 4893,   2797.5,   2.5880,  34.8510,2,  34.8510,2,    226.2,2,    225.4,2,    55.60,2,    25.37,2,     1.70,2,    0.034,2,    0.025,2, -999.000,9,-999.0000,9,  -999.00,9,   2207.6,2,   2346.8,2,     7.95,2,  2.3670
 3230CITHER2_1,  A17C,    60,  1,     11,     11,2,19940127,2305,-35.5960, -43.8898, 4893,   2998.0,   2.3180,  34.8280,2,  34.8320,2,    219.7,2,    220.7,2,    65.50,2,    26.37,2,     1.78,2,    0.029,2,    0.019,2, -999.000,9,-999.0000,9,  -999.00,9,   2216.4,2,   2352.4,2,     7.93,2,  2.0830
 3230CITHER2_1,  A17C,    60,  1,     10,     10,2,19940127,2305,-35.5960, -43.8898, 4893,   3197.6,   1.9120,  34.7850,2,  34.7910,2,    211.8,2,    212.3,2,    83.90,2,    28.66,2,     1.96,2,    0.050,2,    0.038,2, -999.000,9,-999.0000,9,  -999.00,9,   2233.5,2,   2360.5,2,     7.91,2,  1.6660
 3230CITHER2_1,  A17C,    60,  1,      9,      9,2,19940127,2305,-35.5960, -43.8898, 4893,   3400.0,   1.5110,  34.7510,2,  34.7560,2,    206.7,2,    207.6,2,    99.60,2,    30.46,2,     2.07,2,    0.060,2,    0.037,2, -999.000,9,-999.0000,9,  -999.00,9,   2246.0,2,   2365.8,2,     7.89,2,  1.2540
 3230CITHER2_1,  A17C,    60,  1,      8,      8,2,19940127,2305,-35.5960, -43.8898, 4893,   3599.5,   1.1960,  34.7310,2,  34.7320,2,    207.7,2,    208.7,2,   110.20,2,    30.97,2,     2.13,2,    0.079,2,    0.045,2, -999.000,9,-999.0000,9,  -999.00,9,   2252.6,2,   2369.8,2,     7.88,2,  0.9270
 3230CITHER2_1,  A17C,    60,  1,      7,      7,2,19940127,2305,-35.5960, -43.8898, 4893,   3796.3,   0.9150,  34.7120,2,  34.7200,2,    209.5,2,    210.9,2,   116.40,2,    31.87,2,     2.19,2,    0.115,2,    0.065,2, -999.000,9,-999.0000,9,  -999.00,9,   2256.2,2,   2370.5,2,     7.87,2,  0.6340
 3230CITHER2_1,  A17C,    60,  1,      6,      6,2,19940127,2305,-35.5960, -43.8898, 4893,   3998.6,   0.6420,  34.6950,2,  34.6990,2,    212.3,2,    214.5,2,   124.10,2,    32.53,2,     2.24,2,    0.124,2,    0.081,2, -999.000,9,-999.0000,9,  -999.00,9,   2260.7,2,   2372.6,2,     7.87,2,  0.3480
 3230CITHER2_1,  A17C,    60,  1,      5,      5,2,19940127,2305,-35.5960, -43.8898, 4893,   4197.7,   0.4430,  34.6850,2,  34.6850,2,    216.0,2,    217.7,2,   127.60,2,    32.73,2,     2.26,2,    0.115,2,    0.066,2, -999.000,9,-999.0000,9,  -999.00,9,   2261.8,2,   2371.9,2,     7.86,2,  0.1340
 3230CITHER2_1,  A17C,    60,  1,      4,      4,2,19940127,2305,-35.5960, -43.8898, 4893,   4397.2,   0.3020,  34.6780,2,  34.6810,2,    218.9,2,    220.7,2,   129.20,2,    32.98,2,     2.28,2,    0.123,2,    0.072,2, -999.000,9,-999.0000,9,  -999.00,9,   2262.6,2,   2373.5,2,     7.86,2, -0.0240
 3230CITHER2_1,  A17C,    60,  1,      3,      3,2,19940127,2305,-35.5960, -43.8898, 4893,   4596.4,   0.2470,  34.6740,2,  34.6780,2,    220.2,2,    223.9,2,   130.60,2,    33.19,2,     2.28,2,    0.130,2,    0.088,2, -999.000,9,-999.0000,9,  -999.00,9,   2263.3,2,   2372.8,2,     7.87,2, -0.0990
 3230CITHER2_1,  A17C,    60,  1,      2,      2,2,19940127,2305,-35.5960, -43.8898, 4893,   4797.2,   0.2200,  34.6720,2,  34.6760,2,    222.1,2,    222.9,2,   131.10,2,    33.29,2,     2.29,2,    0.141,2,    0.085,2, -999.000,9,-999.0000,9,  -999.00,9,   2264.2,2,   2376.7,2,     7.86,2, -0.1470
 3230CITHER2_1,  A17C,    60,  1,      1,      1,2,19940127,2305,-35.5960, -43.8898, 4893,   4966.6,   0.2190,  34.6720,2,  34.6720,2,    221.0,2,    222.0,2,   132.80,2,    33.34,2,     2.29,2, -999.000,5, -999.000,5, -999.000,9,-999.0000,9,  -999.00,9,   2267.5,2,   2376.8,2,     7.86,2, -0.1680
 3230CITHER2_1,  A17C,    61,  1,     32,     32,2,19940128,0529,-35.2110, -43.5530, 4878,      4.3,  20.7960,  35.3160,2,  35.3190,2,    231.4,2,    226.3,2,     1.50,2,     0.04,2,     0.12,2, -999.000,5, -999.000,5, -999.000,9,-999.0000,9,  -999.00,9,   2019.4,2,   -999.0,9,     8.32,2, 20.7950
 3230CITHER2_1,  A17C,    61,  1,     31,     31,2,19940128,0529,-35.2110, -43.5530, 4878,     36.9,  20.5150,  35.2730,2,  35.3220,2,    236.1,2,    231.9,2,     1.30,2,     0.04,2,     0.12,2, -999.000,5, -999.000,5, -999.000,9,-999.0000,9,  -999.00,9,   2021.5,2,   -999.0,9,     8.32,2, 20.5080
 3230CITHER2_1,  A17C,    61,  1,     30,     30,2,19940128,0529,-35.2110, -43.5530, 4878,    101.7,  15.9490,  35.6380,2,  35.6460,2,    202.1,2,    195.9,2,     2.80,2,     6.10,2,     0.54,2,    2.466,2,    1.317,2, -999.000,9,-999.0000,9,  -999.00,9,   2095.8,2,   -999.0,9,     8.20,2, 15.9330
 3230CITHER2_1,  A17C,    61,  1,     29,     29,2,19940128,0529,-35.2110, -43.5530, 4878,    200.8,  14.2460,  35.4940,2,  35.4820,2,    219.6,2,    220.9,2,     2.50,2,     6.82,2,     0.62,2,    2.843,2,    1.499,2, -999.000,9,-999.0000,9,  -999.00,9,   2095.2,2,   -999.0,9,     8.18,2, 14.2170
 3230CITHER2_1,  A17C,    61,  1,     28,     28,2,19940128,0529,-35.2110, -43.5530, 4878,    301.9,  12.4180,  35.1870,2,  35.1840,2,    228.4,2,    227.8,2,     3.10,2,    10.64,2,     0.80,2,    3.071,2,    1.577,2, -999.000,9,-999.0000,9,  -999.00,9,   2100.4,2,   -999.0,9,     8.15,2, 12.3770
 3230CITHER2_1,  A17C,    61,  1,     27,     27,2,19940128,0529,-35.2110, -43.5530, 4878,    400.4,   9.0870,  34.6480,2,  34.6520,2,    215.7,2,    220.8,2,     6.30,2,    18.63,2,     1.32,2,    2.832,2,    1.430,2, -999.000,9,-999.0000,9,  -999.00,9,   2127.8,2,   -999.0,9,     8.05,2,  9.0430
 3230CITHER2_1,  A17C,    61,  1,     26,     26,2,19940128,0529,-35.2110, -43.5530, 4878,    500.8,   6.7550,  34.3950,2,  34.3870,2,    227.7,2,    239.9,2,     9.30,2,    22.70,2,     1.60,2,    3.148,2,    1.564,2, -999.000,9,-999.0000,9,  -999.00,9,   2137.8,2,   -999.0,9,     8.01,2,  6.7080
 3230CITHER2_1,  A17C,    61,  1,     25,     25,2,19940128,0529,-35.2110, -43.5530, 4878,    600.3,   5.4870,  34.2740,2,  34.2770,2,    253.1,2,    254.4,2,    11.00,2,    24.70,2,     1.72,2,    3.596,2,    1.730,2, -999.000,9,-999.0000,9,  -999.00,9,   2142.1,2,   -999.0,9,     7.98,2,  5.4370
 3230CITHER2_1,  A17C,    61,  1,     24,     24,2,19940128,0529,-35.2110, -43.5530, 4878,    700.6,   4.7860,  34.2380,2,  34.2390,2,    257.3,2,    259.0,2,    14.00,2,    26.40,2,     1.82,2,    3.489,2,    1.688,2, -999.000,9,-999.0000,9,  -999.00,9,   2148.5,2,   -999.0,9,     7.97,2,  4.7310
 3230CITHER2_1,  A17C,    61,  1,     23,     23,2,19940128,0529,-35.2110, -43.5530, 4878,    800.9,   4.5130,  34.2640,2,  34.2640,2,    243.5,2,    245.6,2,    18.80,2,    27.94,2,     1.93,2,    2.509,2,    1.240,2, -999.000,9,-999.0000,9,  -999.00,9,   2147.0,2,   -999.0,9,     7.95,2,  4.4510
 3230CITHER2_1,  A17C,    61,  1,     22,     22,2,19940128,0529,-35.2110, -43.5530, 4878,    899.8,   3.7770,  34.2290,2,  34.2320,2,    244.6,2,    249.2,2,    23.50,2,    29.46,2,     2.02,2,    2.699,2,    1.322,2, -999.000,9,-999.0000,9,  -999.00,9,   2169.0,2,   -999.0,9,     7.94,2,  3.7120
 3230CITHER2_1,  A17C,    61,  1,     21,     21,2,19940128,0529,-35.2110, -43.5530, 4878,    999.8,   3.6890,  34.2960,2,  34.2980,2,    222.7,2,    224.1,2,    31.00,2,    31.02,2,     2.15,2,    1.250,2,    0.649,2, -999.000,9,-999.0000,9,  -999.00,9,   2187.1,2,   -999.0,9,     7.91,2,  3.6160
 3230CITHER2_1,  A17C,    61,  1,     20,     20,2,19940128,0529,-35.2110, -43.5530, 4878,   1200.3,   2.9990,  34.3730,2,  34.3750,2,    206.0,2,    204.9,2,    46.20,2,    33.13,2,     2.28,2,    0.790,2,    0.410,2, -999.000,9,-999.0000,9,  -999.00,9,   2094.0,2,   -999.0,9,     7.87,2,  2.9160
 3230CITHER2_1,  A17C,    61,  1,     19,     19,2,19940128,0529,-35.2110, -43.5530, 4878,   1399.5,   3.0000,  34.5090,2,  34.5120,2,    187.8,2,    189.1,2,    53.80,2,    32.88,2,     2.27,2,    0.261,2,    0.147,2, -999.000,9,-999.0000,9,  -999.00,9,   -999.0,9,   -999.0,9,     7.86,2,  2.9010
 3230CITHER2_1,  A17C,    61,  1,     17,     17,2,19940128,0529,-35.2110, -43.5530, 4878,   1599.0,   2.9790,  34.6210,2,  34.6250,2,    185.9,2,    187.2,2,    57.40,2,    31.86,2,     2.17,2,    0.172,2,    0.104,2, -999.000,9,-999.0000,9,  -999.00,9,   -999.0,9,   -999.0,9,     7.87,2,  2.8630
 3230CITHER2_1,  A17C,    61,  1,     18,     18,2,19940128,0529,-35.2110, -43.5530, 4878,   1599.5,   2.9760,  34.6210,2,  34.6220,2,    186.1,2,    186.6,2,    57.70,2,    31.84,2,     2.19,2,    0.177,2,    0.105,2, -999.000,9,-999.0000,9,  -999.00,9,   -999.0,9,   -999.0,9,     7.87,2,  2.8600
 3230CITHER2_1,  A17C,    61,  1,     16,     16,2,19940128,0529,-35.2110, -43.5530, 4878,   1799.8,   3.2590,  34.7470,2,  34.7470,2,    198.1,2,    199.1,2,    48.30,2,    28.80,2,     1.95,2,    0.071,2,    0.058,2, -999.000,9,-999.0000,9,  -999.00,9,   -999.0,9,   -999.0,9,     7.91,2,  3.1210
 3230CITHER2_1,  A17C,    61,  1,     15,     15,2,19940128,0529,-35.2110, -43.5530, 4878,   1999.3,   3.1280,  34.7960,2,  34.7950,2,    204.3,2,    206.2,2,    50.20,2,    27.65,2,     1.87,2,    0.055,2,    0.047,2, -999.000,9,-999.0000,9,  -999.00,9,   -999.0,9,   -999.0,9,     7.92,2,  2.9740
 3230CITHER2_1,  A17C,    61,  1,     14,     14,2,19940128,0529,-35.2110, -43.5530, 4878,   2201.6,   3.0470,  34.8360,2,  34.8370,2,    216.0,2,    215.7,2,    48.90,2,    26.21,2,     1.77,2,    0.040,2,    0.034,2, -999.000,9,-999.0000,9,  -999.00,9,   -999.0,9,   -999.0,9,     7.93,2,  2.8750
 3230CITHER2_1,  A17C,    61,  1,     13,     13,2,19940128,0529,-35.2110, -43.5530, 4878,   2398.7,   2.9560,  34.8610,2,  34.8600,2,    221.9,2,    224.3,2,    47.60,2,    24.76,2,     1.68,2,    0.029,2,    0.032,2, -999.000,9,-999.0000,9,  -999.00,9,   -999.0,9,   -999.0,9,     7.95,2,  2.7670
 3230CITHER2_1,  A17C,    61,  1,     12,     12,2,19940128,0529,-35.2110, -43.5530, 4878,   2598.2,   2.9400,  34.8990,2,  34.9030,2,    236.8,2,    239.3,2,    39.50,2,    22.59,2,     1.53,2,    0.020,2,    0.029,2, -999.000,9,-999.0000,9,  -999.00,9,   -999.0,9,   -999.0,9,     7.97,2,  2.7320
 3230CITHER2_1,  A17C,    61,  1,     11,     11,2,19940128,0529,-35.2110, -43.5530, 4878,   2798.8,   2.7210,  34.8840,2,  34.8860,2,    237.9,2,    237.0,2,    45.80,2,    23.31,2,     1.58,2,    0.019,2,    0.022,2, -999.000,9,-999.0000,9,  -999.00,9,   -999.0,9,   -999.0,9,     7.97,2,  2.4970
 3230CITHER2_1,  A17C,    61,  1,     10,     10,2,19940128,0529,-35.2110, -43.5530, 4878,   2998.1,   2.3650,  34.8510,2,-999.0000,5,    231.6,2,    236.4,2,    58.70,2,    24.73,2,     1.69,2,    0.022,2,    0.023,2, -999.000,9,-999.0000,9,  -999.00,9,   -999.0,9,   -999.0,9,     7.96,2,  2.1290
 3230CITHER2_1,  A17C,    61,  1,      9,      9,2,19940128,0529,-35.2110, -43.5530, 4878,   3297.9,   1.6000,  34.7640,2,  34.7680,2,    214.0,2,    209.0,2,    96.00,2,    29.81,2,     2.02,2,    0.048,2,    0.038,2, -999.000,9,-999.0000,9,  -999.00,9,   -999.0,9,   -999.0,9,     7.90,2,  1.3510
 3230CITHER2_1,  A17C,    61,  1,      8,      8,2,19940128,0529,-35.2110, -43.5530, 4878,   3599.0,   1.0930,  34.7240,2,  34.7220,2,    207.8,2,    209.6,2,   113.80,2,    31.90,2,     2.16,2,    0.084,2,    0.054,2, -999.000,9,-999.0000,9,  -999.00,9,   -999.0,9,   -999.0,9,     7.88,2,  0.8270
 3230CITHER2_1,  A17C,    61,  1,      7,      7,2,19940128,0529,-35.2110, -43.5530, 4878,   3797.9,   0.8370,  34.7060,2,  34.7090,2,    209.3,2,    211.4,2,   119.30,2,    32.36,2,     2.20,2,    0.129,2,    0.091,2, -999.000,9,-999.0000,9,  -999.00,9,   -999.0,9,   -999.0,9,     7.87,2,  0.5580
 3230CITHER2_1,  A17C,    61,  1,      6,      6,2,19940128,0529,-35.2110, -43.5530, 4878,   3999.1,   0.5870,  34.6940,2,  34.6940,2,    212.3,2,    215.2,2,   125.30,2,    32.92,2,     2.24,2,    0.114,2,    0.072,2, -999.000,9,-999.0000,9,  -999.00,9,   -999.0,9,   -999.0,9,     7.87,2,  0.2940
 3230CITHER2_1,  A17C,    61,  1,      5,      5,2,19940128,0529,-35.2110, -43.5530, 4878,   4198.1,   0.3830,  34.6830,2,  34.6850,2,    216.4,2,    219.1,2,   128.10,2,    33.22,2,     2.26,2,    0.104,2,    0.068,2, -999.000,9,-999.0000,9,  -999.00,9,   -999.0,9,   -999.0,9,     7.87,2,  0.0750
 3230CITHER2_1,  A17C,    61,  1,      4,      4,2,19940128,0529,-35.2110, -43.5530, 4878,   4399.1,   0.2670,  34.6770,2,  34.6780,2,    219.0,2,    221.4,2,   130.30,2,    33.23,2,     2.28,2,    0.108,2,    0.068,2, -999.000,9,-999.0000,9,  -999.00,9,   -999.0,9,   -999.0,9,     7.87,2, -0.0580
 3230CITHER2_1,  A17C,    61,  1,      3,      3,2,19940128,0529,-35.2110, -43.5530, 4878,   4597.0,   0.2140,  34.6730,2,  34.6760,2,    220.7,2,    222.9,2,   130.80,2,    33.29,2,     2.28,2,    0.135,2,    0.084,2, -999.000,9,-999.0000,9,  -999.00,9,   -999.0,9,   -999.0,9,     7.87,2, -0.1310
 3230CITHER2_1,  A17C,    61,  1,      2,      2,2,19940128,0529,-35.2110, -43.5530, 4878,   4797.5,   0.2050,  34.6710,2,  34.6740,2,    221.6,2,    223.0,2,   132.20,2,    33.29,2,     2.29,2,    0.139,2,    0.073,2, -999.000,9,-999.0000,9,  -999.00,9,   -999.0,9,   -999.0,9,     7.87,2, -0.1620
 3230CITHER2_1,  A17C,    61,  1,      1,      1,2,19940128,0529,-35.2110, -43.5530, 4878,   4930.5,   0.2030,  34.6690,2,  34.6730,2,    220.9,2,    222.1,2,   133.00,2,    33.35,2,     2.29,2,    0.156,2,    0.076,2, -999.000,9,-999.0000,9,  -999.00,9,   -999.0,9,   -999.0,9,     7.87,2, -0.1790