BOTTLE,20030515WHPSIOSA
EXPOCODE,SECT_ID,STNNBR,CASTNO,SAMPNO,BTLNBR,BTLNBR_FLAG_W,DATE,TIME,LATITUDE,LONGITUDE,DEPTH,CTDPRS,CTDTMP,CTDSAL,CTDSAL_FLAG_W,SALNTY,SALNTY_FLAG_W,CTDOXY,CTDOXY_FLAG_W,OXYGEN,OXYGEN_FLAG_W,SILCAT,SILCAT_FLAG_W,NITRAT,NITRAT_FLAG_W,PHSPHT,PHSPHT_FLAG_W,CFC-11,CFC-11_FLAG_W,CFC-12,CFC-12_FLAG_W,TRITUM,TRITUM_FLAG_W,HELIUM,HELIUM_FLAG_W,DELHE3,DELHE3_FLAG_W,TCARBN,TCARBN_FLAG_W,ALKALI,ALKALI_FLAG_W,PH,PH_FLAG_W,THETA
,,,,,,,,,,,,DBAR,ITS-90,PSS-78,,PSS-78,,UMOL/KG,,UMOL/KG,,UMOL/KG,,UMOL/KG,,UMOL/KG,,PMOL/KG,,PMOL/KG,,TU,,NMOL/KG,,PERCNT,,UMOL/KG,,UMOL/KG,,,,DEG C
 3230CITHER2_1,  A17C,    94,  1,     32,     32,2,19940205,0557,-22.2875, -32.1355, 4559,      4.9,  28.2890,  36.9520,2,  36.9540,2,    185.9,2,    197.4,2,     0.90,2,     0.04,2,     0.07,2,    1.758,2,    1.031,2, -999.000,9,-999.0000,9,  -999.00,9,   -999.0,9,   -999.0,9,     8.38,2, 28.2880
 3230CITHER2_1,  A17C,    94,  1,     31,     31,2,19940205,0557,-22.2875, -32.1355, 4559,     26.5,  27.6080,  36.9240,2,  36.9320,2,    201.8,2,    202.7,2,     0.90,2,     0.04,2,     0.07,2,    1.829,2,    1.047,2, -999.000,9,-999.0000,9,  -999.00,9,   -999.0,9,   -999.0,9,     8.38,2, 27.6020
 3230CITHER2_1,  A17C,    94,  1,     30,     30,2,19940205,0557,-22.2875, -32.1355, 4559,    100.5,  21.6840,  36.5090,2,  36.5070,2,    222.1,2,    223.7,2,     0.90,2,     0.04,2,     0.06,2,    2.262,2,    1.252,2, -999.000,9,-999.0000,9,  -999.00,9,   -999.0,9,   -999.0,9,     8.35,2, 21.6640
 3230CITHER2_1,  A17C,    94,  1,     29,     29,2,19940205,0557,-22.2875, -32.1355, 4559,    202.0,  17.2210,  35.7870,2,  35.7810,2,    203.4,2,    205.5,2,     1.80,2,     3.10,2,     0.38,2,    2.514,2,    1.347,2, -999.000,9,-999.0000,9,  -999.00,9,   -999.0,9,   -999.0,9,     8.24,2, 17.1870
 3230CITHER2_1,  A17C,    94,  1,     28,     28,2,19940205,0557,-22.2875, -32.1355, 4559,    301.3,  14.1160,  35.3010,2,  35.3030,2,    197.9,2,    198.1,2,     3.70,2,     9.28,2,     0.72,2,    2.414,2,    1.272,2, -999.000,9,-999.0000,9,  -999.00,9,   -999.0,9,   -999.0,9,     8.16,2, 14.0720
 3230CITHER2_1,  A17C,    94,  1,     27,     27,2,19940205,0557,-22.2875, -32.1355, 4559,    400.0,  11.6160,  34.9950,2,  34.9940,2,    189.3,2,    187.3,2,     6.40,2,    16.02,2,     1.12,2,    1.941,2,    1.018,2, -999.000,9,-999.0000,9,  -999.00,9,   -999.0,9,   -999.0,9,     8.08,2, 11.5640
 3230CITHER2_1,  A17C,    94,  1,     26,     26,2,19940205,0557,-22.2875, -32.1355, 4559,    501.2,   9.1880,  34.7250,2,  34.7270,2,    192.8,2,    194.5,2,     9.70,2,    20.31,2,     1.40,2,    1.647,2,    0.868,2, -999.000,9,-999.0000,9,  -999.00,9,   -999.0,9,   -999.0,9,     8.03,2,  9.1320
 3230CITHER2_1,  A17C,    94,  1,     25,     25,2,19940205,0557,-22.2875, -32.1355, 4559,    601.8,   6.8170,  34.5030,2,  34.5050,2,    189.8,2,    190.1,2,    16.40,2,    26.35,2,     1.82,2,    1.124,2,    0.589,2, -999.000,9,-999.0000,9,  -999.00,9,   -999.0,9,   -999.0,9,     7.95,2,  6.7600
 3230CITHER2_1,  A17C,    94,  1,     24,     24,2,19940205,0557,-22.2875, -32.1355, 4559,    700.9,   5.3870,  34.4030,2,  34.4060,2,    190.2,2,    194.0,2,    22.30,2,    29.20,2,     2.01,2,    0.814,2,    0.431,2, -999.000,9,-999.0000,9,  -999.00,9,   -999.0,9,   -999.0,9,     7.92,2,  5.3280
 3230CITHER2_1,  A17C,    94,  1,     23,     23,2,19940205,0557,-22.2875, -32.1355, 4559,    801.3,   4.2160,  34.3520,2,  34.3570,2,    198.6,2,    202.1,2,    30.50,2,    30.93,2,     2.13,2,    0.607,2,    0.340,2, -999.000,9,-999.0000,9,  -999.00,9,   -999.0,9,   -999.0,9,     7.91,2,  4.1550
 3230CITHER2_1,  A17C,    94,  1,     22,     22,2,19940205,0557,-22.2875, -32.1355, 4559,   1001.6,   3.5570,  34.4710,2,  34.4750,2,    184.2,2,    185.2,2,    42.00,2,    32.15,2,     2.22,2,    0.082,2,    0.050,2, -999.000,9,-999.0000,9,  -999.00,9,   -999.0,9,   -999.0,9,     7.89,2,  3.4850
 3230CITHER2_1,  A17C,    94,  1,     20,     20,2,19940205,0557,-22.2875, -32.1355, 4559,   1201.3,   3.7520,  34.6850,2,  34.6870,2,    188.0,2,    190.7,2,    36.50,2,  -999.00,5,     1.99,2,    0.032,2,    0.024,2, -999.000,9,-999.0000,9,  -999.00,9,   -999.0,9,   -999.0,9,     7.93,2,  3.6610
 3230CITHER2_1,  A17C,    94,  1,     21,     21,2,19940205,0557,-22.2875, -32.1355, 4559,   1201.4,   3.7560,  34.6850,2,  34.6860,2,    188.0,2,    190.7,2,    36.50,2,    29.35,2,     1.99,2,    0.027,2,    0.019,2, -999.000,9,-999.0000,9,  -999.00,9,   -999.0,9,   -999.0,9,     7.93,2,  3.6650
 3230CITHER2_1,  A17C,    94,  1,     19,     19,2,19940205,0557,-22.2875, -32.1355, 4559,   1400.4,   4.0380,  34.8770,2,  34.8810,2,    206.8,2,    212.6,2,    25.40,2,    24.37,2,     1.64,2,    0.028,2,    0.019,2, -999.000,9,-999.0000,9,  -999.00,9,   -999.0,9,   -999.0,9,     7.97,2,  3.9270
 3230CITHER2_1,  A17C,    94,  1,     18,     18,2,19940205,0557,-22.2875, -32.1355, 4559,   1601.1,   3.9360,  34.9440,2,  34.9450,2,    230.1,2,    233.2,2,    21.00,2,    21.79,2,     1.44,2,    0.041,2,    0.028,2, -999.000,9,-999.0000,9,  -999.00,9,   -999.0,9,   -999.0,9,     8.00,2,  3.8070
 3230CITHER2_1,  A17C,    94,  1,     17,     17,2,19940205,0557,-22.2875, -32.1355, 4559,   1800.3,   3.6800,  34.9560,2,  34.9600,2,    243.0,2,    245.8,2,    21.00,2,    20.61,2,     1.36,2,    0.035,2,    0.024,2, -999.000,9,-999.0000,9,  -999.00,9,   -999.0,9,   -999.0,9,     8.02,2,  3.5360
 3230CITHER2_1,  A17C,    94,  1,     16,     16,2,19940205,0557,-22.2875, -32.1355, 4559,   2000.0,   3.4940,  34.9570,2,  34.9630,2,    250.0,2,    250.5,2,    21.90,2,    20.16,2,     1.34,2,    0.037,2,    0.032,2, -999.000,9,-999.0000,9,  -999.00,9,   -999.0,9,   -999.0,9,     8.02,2,  3.3340
 3230CITHER2_1,  A17C,    94,  1,     15,     15,2,19940205,0557,-22.2875, -32.1355, 4559,   2199.4,   3.3020,  34.9500,2,  34.9540,2,    250.7,2,    251.2,2,    24.00,2,    20.32,2,     1.33,2,    0.032,2,    0.017,2, -999.000,9,-999.0000,9,  -999.00,9,   -999.0,9,   -999.0,9,     8.03,2,  3.1260
 3230CITHER2_1,  A17C,    94,  1,     14,     14,2,19940205,0557,-22.2875, -32.1355, 4559,   2400.1,   3.1110,  34.9430,2,  34.9420,2,    251.3,2,    252.1,2,    26.70,2,    20.41,2,     1.34,2,    0.020,2,    0.011,2, -999.000,9,-999.0000,9,  -999.00,9,   -999.0,9,   -999.0,9,     8.03,2,  2.9190
 3230CITHER2_1,  A17C,    94,  1,     13,     13,2,19940205,0557,-22.2875, -32.1355, 4559,   2600.1,   3.0380,  34.9370,2,  34.9380,2,    251.6,2,    252.0,2,    28.20,2,    20.65,2,     1.35,2,    0.015,2,    0.011,2, -999.000,9,-999.0000,9,  -999.00,9,   -999.0,9,   -999.0,9,     8.03,2,  2.8270
 3230CITHER2_1,  A17C,    94,  1,     12,     12,2,19940205,0557,-22.2875, -32.1355, 4559,   2799.9,   2.8980,  34.9290,2,  34.9360,2,    251.3,2,    251.0,2,    30.90,2,    20.91,2,     1.38,2,    0.014,2,    0.019,2, -999.000,9,-999.0000,9,  -999.00,9,   -999.0,9,   -999.0,9,     8.02,2,  2.6700
 3230CITHER2_1,  A17C,    94,  1,     11,     11,2,19940205,0557,-22.2875, -32.1355, 4559,   2997.8,   2.7990,  34.9230,2,  34.9280,2,    252.2,2,    251.5,2,    32.30,2,    20.90,2,     1.37,2,    0.020,2,    0.020,2, -999.000,9,-999.0000,9,  -999.00,9,   -999.0,9,   -999.0,9,     8.02,2,  2.5530
 3230CITHER2_1,  A17C,    94,  1,     10,     10,2,19940205,0557,-22.2875, -32.1355, 4559,   3199.8,   2.6980,  34.9190,2,  34.9190,2,    253.3,2,    252.6,2,    33.80,2,    20.82,2,     1.38,2,    0.023,2,    0.013,2, -999.000,9,-999.0000,9,  -999.00,9,   -999.0,9,   -999.0,9,     8.02,2,  2.4330
 3230CITHER2_1,  A17C,    94,  1,      9,      9,2,19940205,0557,-22.2875, -32.1355, 4559,   3399.1,   2.5660,  34.9080,2,  34.9090,2,    253.9,2,    253.2,2,    36.80,2,    21.28,2,     1.38,2,    0.021,2,    0.021,2, -999.000,9,-999.0000,9,  -999.00,9,   -999.0,9,   -999.0,9,     8.02,2,  2.2830
 3230CITHER2_1,  A17C,    94,  1,      8,      8,2,19940205,0557,-22.2875, -32.1355, 4559,   3599.6,   2.3130,  34.8830,2,  34.8850,2,    252.4,2,    250.4,2,    45.50,2,    22.42,2,     1.47,2,    0.015,2,    0.010,2, -999.000,9,-999.0000,9,  -999.00,9,   -999.0,9,   -999.0,9,     8.01,2,  2.0150
 3230CITHER2_1,  A17C,    94,  1,      7,      7,2,19940205,0557,-22.2875, -32.1355, 4559,   3799.8,   1.8900,  34.8410,2,  34.8440,2,    244.6,2,    245.4,2,    62.60,2,    24.29,2,     1.63,2,    0.018,2,    0.015,2, -999.000,9,-999.0000,9,  -999.00,9,   -999.0,9,   -999.0,9,     7.98,2,  1.5810
 3230CITHER2_1,  A17C,    94,  1,      6,      6,2,19940205,0557,-22.2875, -32.1355, 4559,   3999.0,   1.4820,  34.7960,2,  34.7990,2,    236.2,2,    236.4,2,    81.70,2,    27.09,2,     1.80,2,    0.012,2,    0.012,2, -999.000,9,-999.0000,9,  -999.00,9,   -999.0,9,   -999.0,9,     7.96,2,  1.1630
 3230CITHER2_1,  A17C,    94,  1,      5,      5,2,19940205,0557,-22.2875, -32.1355, 4559,   4199.6,   1.1770,  34.7640,2,  34.7640,2,    230.7,2,    232.1,2,    95.10,2,    28.77,2,     1.93,2,    0.022,2,    0.014,2, -999.000,9,-999.0000,9,  -999.00,9,   -999.0,9,   -999.0,9,     7.94,2,  0.8450
 3230CITHER2_1,  A17C,    94,  1,      4,      4,2,19940205,0557,-22.2875, -32.1355, 4559,   4297.8,   1.0060,  34.7440,2,  34.7450,2,    227.8,2,    227.8,2,   102.20,2,    29.59,2,     1.98,2,    0.031,2,    0.016,2, -999.000,9,-999.0000,9,  -999.00,9,   -999.0,9,   -999.0,9,     7.93,2,  0.6690
 3230CITHER2_1,  A17C,    94,  1,      3,      3,2,19940205,0557,-22.2875, -32.1355, 4559,   4399.0,   0.8500,  34.7290,2,  34.7300,2,    225.2,2,    225.3,2,   108.80,2,    30.66,2,     2.05,2,    0.042,2,    0.024,2, -999.000,9,-999.0000,9,  -999.00,9,   -999.0,9,   -999.0,9,     7.92,2,  0.5060
 3230CITHER2_1,  A17C,    94,  1,      2,      2,2,19940205,0557,-22.2875, -32.1355, 4559,   4495.8,   0.5520,  34.6970,2,  34.7010,2,    222.4,2,    222.0,2,   118.90,2,    32.03,2,     2.15,2,    0.076,2,    0.043,2, -999.000,9,-999.0000,9,  -999.00,9,   -999.0,9,   -999.0,9,     7.90,2,  0.2070
 3230CITHER2_1,  A17C,    94,  1,      1,      1,2,19940205,0557,-22.2875, -32.1355, 4559,   4601.6,   0.4010,  34.6830,2,  34.6860,2,    219.4,2,    221.6,2,   123.20,2,    32.70,2,     2.19,2,    0.091,2,    0.054,2, -999.000,9,-999.0000,9,  -999.00,9,   -999.0,9,   -999.0,9,     7.89,2,  0.0490
 3230CITHER2_1,  A17C,    95,  1,     32,     32,2,19940205,1635,-21.9033, -31.7923, 4550,      4.5,  28.3860,  37.3750,2,  37.3720,2,    179.6,2,    197.7,2,     0.90,2,     0.04,2,     0.09,2,    1.805,2,    1.036,2, -999.000,9,-999.0000,9,  -999.00,9,   -999.0,9,   -999.0,9,     8.39,2, 28.3850
 3230CITHER2_1,  A17C,    95,  1,     31,     31,2,19940205,1635,-21.9033, -31.7923, 4550,     31.0,  27.9490,  37.3570,2,  37.3140,2,    200.7,2,    200.4,2,     0.80,2,     0.04,2,     0.09,2,    1.809,2,    1.057,2, -999.000,9,-999.0000,9,  -999.00,9,   -999.0,9,   -999.0,9,     8.38,2, 27.9420
 3230CITHER2_1,  A17C,    95,  1,     30,     30,2,19940205,1635,-21.9033, -31.7923, 4550,    100.2,  22.7420,  36.7990,2,  36.7760,2,    218.1,2,    217.1,2,     0.80,2,     0.04,2,     0.13,2,    2.181,2,    1.238,2, -999.000,9,-999.0000,9,  -999.00,9,   -999.0,9,   -999.0,9,     8.35,2, 22.7220
 3230CITHER2_1,  A17C,    95,  1,     29,     29,2,19940205,1635,-21.9033, -31.7923, 4550,    151.2,  20.7990,  36.4380,2,  36.4290,2,    213.5,2,    210.9,2,     0.90,2,     0.04,2,     0.18,2,    2.316,2,    1.287,2, -999.000,9,-999.0000,9,  -999.00,9,   -999.0,9,   -999.0,9,     8.31,2, 20.7700
 3230CITHER2_1,  A17C,    95,  1,     28,     28,2,19940205,1635,-21.9033, -31.7923, 4550,    201.9,  18.2380,  35.9770,2,  35.9610,2,    202.4,2,    201.8,2,     1.60,2,     2.50,2,     0.37,2,    2.470,2,    1.332,2, -999.000,9,-999.0000,9,  -999.00,9,   -999.0,9,   -999.0,9,     8.25,2, 18.2030
 3230CITHER2_1,  A17C,    95,  1,     27,     27,2,19940205,1635,-21.9033, -31.7923, 4550,    301.8,  14.1210,  35.3070,2,  35.2980,2,    199.1,2,    199.3,2,     3.60,2,     9.51,2,     0.74,2,    2.418,2,    1.278,2, -999.000,9,-999.0000,9,  -999.00,9,   -999.0,9,   -999.0,9,     8.16,2, 14.0770
 3230CITHER2_1,  A17C,    95,  1,     26,     26,2,19940205,1635,-21.9033, -31.7923, 4550,    402.1,  11.5770,  34.9930,2,  34.9870,2,    190.0,2,    187.3,2,     6.50,2,    16.27,2,     1.15,2,    1.898,2,    1.007,2, -999.000,9,-999.0000,9,  -999.00,9,   -999.0,9,   -999.0,9,     8.06,2, 11.5250
 3230CITHER2_1,  A17C,    95,  1,     25,     25,2,19940205,1635,-21.9033, -31.7923, 4550,    500.7,   9.0310,  34.7330,2,  34.7160,2,    183.8,2,    180.8,2,    11.40,2,    22.38,2,     1.55,2,    1.418,2,    0.763,2, -999.000,9,-999.0000,9,  -999.00,9,   -999.0,9,   -999.0,9,     8.00,2,  8.9760
 3230CITHER2_1,  A17C,    95,  1,     24,     24,2,19940205,1635,-21.9033, -31.7923, 4550,    600.2,   6.8560,  34.5180,2,  34.5080,2,    189.2,2,    188.3,2,    17.10,2,    27.04,2,     1.86,2,    1.101,2,    0.595,2, -999.000,9,-999.0000,9,  -999.00,9,   -999.0,9,   -999.0,9,     7.95,2,  6.7990
 3230CITHER2_1,  A17C,    95,  1,     23,     23,2,19940205,1635,-21.9033, -31.7923, 4550,    701.1,   5.1620,  34.3940,2,  34.3900,2,    198.1,2,    195.3,2,    24.30,2,    30.51,2,     2.07,2,    0.772,2,    0.420,2, -999.000,9,-999.0000,9,  -999.00,9,   -999.0,9,   -999.0,9,     7.92,2,  5.1040
 3230CITHER2_1,  A17C,    95,  1,     21,     21,2,19940205,1635,-21.9033, -31.7923, 4550,    800.5,   4.3630,  34.4000,2,  34.3970,2,    187.3,2,    185.7,2,    32.00,2,    32.59,2,     2.21,2,    0.288,2,    0.166,2, -999.000,9,-999.0000,9,  -999.00,9,   -999.0,9,   -999.0,9,     7.89,2,  4.3020
 3230CITHER2_1,  A17C,    95,  1,     22,     22,2,19940205,1635,-21.9033, -31.7923, 4550,    800.6,   4.3780,  34.3990,2,  34.4010,2,    187.3,2,    184.7,2,    32.20,2,    32.65,2,     2.21,2,    0.299,2,    0.174,2, -999.000,9,-999.0000,9,  -999.00,9,   -999.0,9,   -999.0,9,     7.89,2,  4.3160
 3230CITHER2_1,  A17C,    95,  1,     20,     20,2,19940205,1635,-21.9033, -31.7923, 4550,   1000.7,   3.5480,  34.4900,2,  34.4860,2,    186.7,2,    183.9,2,    43.00,2,    32.78,2,     2.24,2,    0.073,2,    0.048,2, -999.000,9,-999.0000,9,  -999.00,9,   -999.0,9,   -999.0,9,     7.88,2,  3.4760
 3230CITHER2_1,  A17C,    95,  1,     19,     19,2,19940205,1635,-21.9033, -31.7923, 4550,   1200.3,   3.6520,  34.6880,2,  34.6890,2,    193.0,2,    191.6,2,    38.40,2,    29.60,2,     2.00,2,    0.029,2,    0.021,2, -999.000,9,-999.0000,9,  -999.00,9,   -999.0,9,   -999.0,9,     7.91,2,  3.5620
 3230CITHER2_1,  A17C,    95,  1,     18,     18,2,19940205,1635,-21.9033, -31.7923, 4550,   1401.3,   3.9100,  34.8590,2,  34.8590,2,    212.9,2,    211.8,2,    28.60,2,    25.30,2,     1.69,2,    0.040,2,    0.026,2, -999.000,9,-999.0000,9,  -999.00,9,   -999.0,9,   -999.0,9,     7.95,2,  3.8000
 3230CITHER2_1,  A17C,    95,  1,     17,     17,2,19940205,1635,-21.9033, -31.7923, 4550,   1599.9,   3.8950,  34.9470,2,  34.9470,2,    238.0,2,    235.7,2,    21.70,2,    21.96,2,     1.43,2,    0.053,2,    0.032,2, -999.000,9,-999.0000,9,  -999.00,9,   -999.0,9,   -999.0,9,     8.00,2,  3.7670
 3230CITHER2_1,  A17C,    95,  1,     16,     16,2,19940205,1635,-21.9033, -31.7923, 4550,   1798.4,   3.6130,  34.9520,2,  34.9530,2,    248.1,2,    244.4,2,    22.20,2,    21.12,2,     1.38,2,    0.041,2,    0.028,2, -999.000,9,-999.0000,9,  -999.00,9,   -999.0,9,   -999.0,9,     8.01,2,  3.4700
 3230CITHER2_1,  A17C,    95,  1,     15,     15,2,19940205,1635,-21.9033, -31.7923, 4550,   1999.3,   3.4500,  34.9560,2,  34.9560,2,    252.0,2,    249.6,2,    22.70,2,    20.61,2,     1.34,2,    0.045,2,    0.025,2, -999.000,9,-999.0000,9,  -999.00,9,   -999.0,9,   -999.0,9,     8.01,2,  3.2910
 3230CITHER2_1,  A17C,    95,  1,     14,     14,2,19940205,1635,-21.9033, -31.7923, 4550,   2199.7,   3.3190,  34.9530,2,  34.9540,2,    253.8,2,    251.9,2,    23.90,2,    20.63,2,     1.33,2,    0.037,2,    0.026,2, -999.000,9,-999.0000,9,  -999.00,9,   -999.0,9,   -999.0,9,     8.01,2,  3.1430
 3230CITHER2_1,  A17C,    95,  1,     13,     13,2,19940205,1635,-21.9033, -31.7923, 4550,   2399.4,   3.1560,  34.9460,2,  34.9460,2,    252.7,2,    251.6,2,    26.50,2,    20.60,2,     1.35,2,    0.031,2,    0.019,2, -999.000,9,-999.0000,9,  -999.00,9,   -999.0,9,   -999.0,9,     8.01,2,  2.9630
 3230CITHER2_1,  A17C,    95,  1,     12,     12,2,19940205,1635,-21.9033, -31.7923, 4550,   2600.4,   3.0160,  34.9380,2,  34.9370,2,    252.8,2,    252.2,2,    28.80,2,    20.80,2,     1.37,2,    0.014,2,    0.020,2, -999.000,9,-999.0000,9,  -999.00,9,   -999.0,9,   -999.0,9,     8.01,2,  2.8060
 3230CITHER2_1,  A17C,    95,  1,     11,     11,2,19940205,1635,-21.9033, -31.7923, 4550,   2798.8,   2.8950,  34.9320,2,  34.9300,2,    253.4,2,    251.3,2,    30.90,2,    21.09,2,     1.38,2,    0.030,2,    0.020,2, -999.000,9,-999.0000,9,  -999.00,9,   -999.0,9,   -999.0,9,     8.01,2,  2.6670
 3230CITHER2_1,  A17C,    95,  1,     10,     10,2,19940205,1635,-21.9033, -31.7923, 4550,   2998.2,   2.7940,  34.9250,2,  34.9240,2,    253.9,2,    251.8,2,    32.60,2,    21.13,2,     1.38,2,    0.029,2,    0.018,2, -999.000,9,-999.0000,9,  -999.00,9,   -999.0,9,   -999.0,9,     8.01,2,  2.5480
 3230CITHER2_1,  A17C,    95,  1,      9,      9,2,19940205,1635,-21.9033, -31.7923, 4550,   3299.5,   2.6360,  34.9160,2,  34.9170,2,    255.9,2,    251.0,2,    34.80,2,    21.09,2,     1.39,2,    0.022,2,    0.014,2, -999.000,9,-999.0000,9,  -999.00,9,   -999.0,9,   -999.0,9,     8.01,2,  2.3620
 3230CITHER2_1,  A17C,    95,  1,      8,      8,2,19940205,1635,-21.9033, -31.7923, 4550,   3598.9,   2.4000,  34.8940,2,  34.8920,2,    255.2,2,    251.8,2,    42.00,2,    21.91,2,     1.45,2,    0.019,2,    0.017,2, -999.000,9,-999.0000,9,  -999.00,9,   -999.0,9,   -999.0,9,     8.01,2,  2.0990
 3230CITHER2_1,  A17C,    95,  1,      7,      7,2,19940205,1635,-21.9033, -31.7923, 4550,   3799.1,   2.0040,  34.8540,2,  34.8530,2,    249.1,2,    245.5,2,    57.90,2,    23.96,2,     1.60,2, -999.000,5, -999.000,5, -999.000,9,-999.0000,9,  -999.00,9,   -999.0,9,   -999.0,9,     7.99,2,  1.6920
 3230CITHER2_1,  A17C,    95,  1,      6,      6,2,19940205,1635,-21.9033, -31.7923, 4550,   3998.6,   1.5730,  34.8080,2,  34.8060,2,    240.5,2,    237.7,2,    77.40,2,    26.71,2,     1.77,2,    0.015,2,    0.014,2, -999.000,9,-999.0000,9,  -999.00,9,   -999.0,9,   -999.0,9,     7.96,2,  1.2510
 3230CITHER2_1,  A17C,    95,  1,      5,      5,2,19940205,1635,-21.9033, -31.7923, 4550,   4198.3,   1.2220,  34.7700,2,  34.7690,2,    233.7,2,    231.3,2,    92.90,2,    28.69,2,     1.92,2,    0.017,2,    0.020,2, -999.000,9,-999.0000,9,  -999.00,9,   -999.0,9,   -999.0,9,     7.94,2,  0.8890
 3230CITHER2_1,  A17C,    95,  1,      4,      4,2,19940205,1635,-21.9033, -31.7923, 4550,   4299.2,   1.0370,  34.7510,2,  34.7480,2,    230.6,2,    228.3,2,   100.70,2,    29.66,2,     1.98,2,    0.034,2,    0.018,2, -999.000,9,-999.0000,9,  -999.00,9,   -999.0,9,   -999.0,9,     7.93,2,  0.6980
 3230CITHER2_1,  A17C,    95,  1,      3,      3,2,19940205,1635,-21.9033, -31.7923, 4550,   4399.3,   0.8700,  34.7310,2,  34.7320,2,    227.7,2,    225.9,2,   107.80,2,    30.58,2,     2.06,2,    0.049,2,    0.024,2, -999.000,9,-999.0000,9,  -999.00,9,   -999.0,9,   -999.0,9,     7.92,2,  0.5260
 3230CITHER2_1,  A17C,    95,  1,      2,      2,2,19940205,1635,-21.9033, -31.7923, 4550,   4499.1,   0.6500,  34.7110,2,  34.7100,2,    224.8,2,    223.1,2,   115.70,2,    31.70,2,     2.13,2,    0.072,2,    0.041,2, -999.000,9,-999.0000,9,  -999.00,9,   -999.0,9,   -999.0,9,     7.90,2,  0.3020
 3230CITHER2_1,  A17C,    95,  1,      1,      1,2,19940205,1635,-21.9033, -31.7923, 4550,   4597.4,   0.4310,  34.6890,2,  34.6890,2,    221.2,2,    221.9,2,   122.00,2,    32.57,2,     2.19,2,    0.087,2,    0.053,2, -999.000,9,-999.0000,9,  -999.00,9,   -999.0,9,   -999.0,9,     7.89,2,  0.0790