BOTTLE,20030515WHPSIOSA
EXPOCODE,SECT_ID,STNNBR,CASTNO,SAMPNO,BTLNBR,BTLNBR_FLAG_W,DATE,TIME,LATITUDE,LONGITUDE,DEPTH,CTDPRS,CTDTMP,CTDSAL,CTDSAL_FLAG_W,SALNTY,SALNTY_FLAG_W,CTDOXY,CTDOXY_FLAG_W,OXYGEN,OXYGEN_FLAG_W,SILCAT,SILCAT_FLAG_W,NITRAT,NITRAT_FLAG_W,PHSPHT,PHSPHT_FLAG_W,CFC-11,CFC-11_FLAG_W,CFC-12,CFC-12_FLAG_W,TRITUM,TRITUM_FLAG_W,HELIUM,HELIUM_FLAG_W,DELHE3,DELHE3_FLAG_W,TCARBN,TCARBN_FLAG_W,ALKALI,ALKALI_FLAG_W,PH,PH_FLAG_W,THETA
,,,,,,,,,,,,DBAR,ITS-90,PSS-78,,PSS-78,,UMOL/KG,,UMOL/KG,,UMOL/KG,,UMOL/KG,,UMOL/KG,,PMOL/KG,,PMOL/KG,,TU,,NMOL/KG,,PERCNT,,UMOL/KG,,UMOL/KG,,,,DEG C
 3230CITHER2_2,  A17N,   185,  1,     32,     32,2,19940308,0211,  3.0423, -36.9527, 4146,      6.6,  26.9440,  35.9530,2,  35.9530,2,    187.0,2,    199.8,2,     1.60,2,     0.00,2,     0.05,2,    1.694,2,    0.969,2, -999.000,9,-999.0000,9,  -999.00,9,   2006.4,2,   2364.8,2,     8.39,2, 26.9420
 3230CITHER2_2,  A17N,   185,  1,     31,     31,2,19940308,0211,  3.0423, -36.9527, 4146,     51.5,  26.9220,  35.9630,2,  35.9750,2,    161.5,2,    197.6,2,     1.80,2,     0.20,2,     0.07,2,    1.681,2,    0.957,2, -999.000,9,-999.0000,9,  -999.00,9,   2011.4,2,   2365.4,2,     8.38,2, 26.9100
 3230CITHER2_2,  A17N,   185,  1,     30,     30,2,19940308,0211,  3.0423, -36.9527, 4146,    100.0,  12.4230,  35.2090,2,  35.2040,2,    165.1,2,    151.1,2,     8.70,2,    18.43,2,     1.31,2,    1.322,2,    0.705,2, -999.000,9,-999.0000,9,  -999.00,9,   2154.8,2,   2330.4,2,     8.05,2, 12.4100
 3230CITHER2_2,  A17N,   185,  1,     28,     28,2,19940308,0211,  3.0423, -36.9527, 4146,    149.3,  12.0240,  35.1450,2,  35.1440,2,    147.5,2,    146.4,2,     9.40,2,    19.76,2,     1.39,2,    1.239,2,    0.655,2, -999.000,9,-999.0000,9,  -999.00,9,   2159.4,2,   2327.3,2,     8.03,2, 12.0050
 3230CITHER2_2,  A17N,   185,  1,     29,     29,2,19940308,0211,  3.0423, -36.9527, 4146,    149.6,  12.0380,  35.1460,2,  35.1480,2,    147.2,2,    146.1,2,     9.40,2,    19.76,2,     1.39,2,    1.236,2,    0.658,2, -999.000,9,-999.0000,9,  -999.00,9,   -999.0,5,   2327.3,2,     8.03,2, 12.0180
 3230CITHER2_2,  A17N,   185,  1,     27,     27,2,19940308,0211,  3.0423, -36.9527, 4146,    200.1,  11.6040,  35.0830,2,  35.0800,2,    160.1,2,    161.2,2,     9.40,2,    18.82,2,     1.33,2,    1.310,2,    0.695,2, -999.000,9,-999.0000,9,  -999.00,9,   2151.9,2,   2325.3,2,     8.05,2, 11.5780
 3230CITHER2_2,  A17N,   185,  1,     26,     26,2,19940308,0211,  3.0423, -36.9527, 4146,    299.8,  10.7320,  34.9890,2,  34.9910,2,    137.8,2,    139.0,2,    11.50,2,    22.83,2,     1.59,2,    0.973,2,    0.516,2, -999.000,9,-999.0000,9,  -999.00,9,   2174.6,2,   2320.8,2,     7.98,2, 10.6950
 3230CITHER2_2,  A17N,   185,  1,     25,     25,2,19940308,0211,  3.0423, -36.9527, 4146,    399.8,   9.7820,  34.8910,2,  34.8960,2,    132.4,2,    131.7,2,    13.30,2,    24.98,2,     1.74,2,    0.742,2,    0.405,2, -999.000,9,-999.0000,9,  -999.00,9,   2185.5,2,   2317.1,2,     7.94,2,  9.7360
 3230CITHER2_2,  A17N,   185,  1,     24,     24,2,19940308,0211,  3.0423, -36.9527, 4146,    600.8,   6.6910,  34.6310,2,  34.6290,2,    117.0,2,    115.5,2,    22.70,2,    33.37,2,     2.28,2,    0.109,2,    0.063,2, -999.000,9,-999.0000,9,  -999.00,9,   2219.3,2,   2310.0,2,     7.83,2,  6.6350
 3230CITHER2_2,  A17N,   185,  1,     23,     23,2,19940308,0211,  3.0423, -36.9527, 4146,    700.7,   5.5140,  34.5570,2,  34.5560,2,    130.0,2,    130.5,2,    27.40,2,    34.38,2,     2.35,2,    0.046,2,    0.030,2, -999.000,9,-999.0000,9,  -999.00,9,   2223.1,2,   2310.5,2,     7.83,2,  5.4540
 3230CITHER2_2,  A17N,   185,  1,     22,     22,2,19940308,0211,  3.0423, -36.9527, 4146,    801.5,   4.9160,  34.5770,2,  34.5770,2,    140.4,2,    141.3,2,    30.40,2,    34.03,2,     2.33,2,    0.016,2,    0.011,2, -999.000,9,-999.0000,9,  -999.00,9,   2217.5,2,   2316.3,2,     7.84,2,  4.8510
 3230CITHER2_2,  A17N,   185,  1,     21,     21,2,19940308,0211,  3.0423, -36.9527, 4146,   1000.5,   4.6410,  34.6870,2,  34.6840,2,    154.9,2,    157.8,2,    30.00,2,    31.67,2,     2.16,2,    0.009,2,    0.005,2, -999.000,9,-999.0000,9,  -999.00,9,   2216.5,2,   2321.0,2,     7.88,2,  4.5600
 3230CITHER2_2,  A17N,   185,  1,     20,     20,2,19940308,0211,  3.0423, -36.9527, 4146,   1200.3,   4.6350,  34.8270,2,  34.8260,2,    175.8,2,    178.4,2,    26.00,2,    27.80,2,     1.89,2,    0.011,2,    0.008,2, -999.000,9,-999.0000,9,  -999.00,9,   2201.7,2,   2325.5,2,     7.92,2,  4.5360
 3230CITHER2_2,  A17N,   185,  1,     19,     19,2,19940308,0211,  3.0423, -36.9527, 4146,   1401.3,   4.3940,  34.9510,2,  34.9510,2,    214.3,2,    217.0,2,    20.40,2,  -999.00,5,     1.53,2,    0.042,2,    0.024,2, -999.000,9,-999.0000,9,  -999.00,9,   2180.3,2,   2328.3,2,     7.98,2,  4.2790
 3230CITHER2_2,  A17N,   185,  1,     18,     18,2,19940308,0211,  3.0423, -36.9527, 4146,   1500.1,   4.2370,  34.9710,2,  34.9700,2,    229.4,2,    229.7,2,    19.20,2,    21.49,2,     1.43,2,    0.051,2,    0.032,2, -999.000,9,-999.0000,9,  -999.00,9,   2173.6,2,   2329.1,2,     8.00,2,  4.1140
 3230CITHER2_2,  A17N,   185,  1,     17,     17,2,19940308,0211,  3.0423, -36.9527, 4146,   1598.9,   4.0560,  34.9810,2,  34.9800,2,    240.7,2,    240.4,2,    18.40,2,    20.47,2,     1.35,2,    0.052,2,    0.035,2, -999.000,9,-999.0000,9,  -999.00,9,   2168.2,2,   2327.9,2,     8.02,2,  3.9260
 3230CITHER2_2,  A17N,   185,  1,     16,     16,2,19940308,0211,  3.0423, -36.9527, 4146,   1700.0,   3.9820,  34.9820,2,  34.9790,2,    245.3,2,    243.7,2,    18.30,2,    20.08,2,     1.33,2,    0.058,2,    0.039,2, -999.000,9,-999.0000,9,  -999.00,9,   2165.0,2,   2330.0,2,     8.02,2,  3.8430
 3230CITHER2_2,  A17N,   185,  1,     15,     15,2,19940308,0211,  3.0423, -36.9527, 4146,   1800.3,   3.7610,  34.9820,2,  34.9820,2,    254.1,2,    252.2,2,    18.30,2,    19.29,2,     1.28,2,    0.062,2,    0.036,2, -999.000,9,-999.0000,9,  -999.00,9,   2163.5,2,   2328.8,2,     8.03,2,  3.6160
 3230CITHER2_2,  A17N,   185,  1,     14,     14,2,19940308,0211,  3.0423, -36.9527, 4146,   1998.9,   3.4570,  34.9700,2,  34.9710,2,    258.0,2,    255.2,2,    20.50,2,    19.26,2,     1.27,2,    0.037,2,    0.024,2, -999.000,9,-999.0000,9,  -999.00,9,   2162.5,2,   2329.8,2,     8.03,2,  3.2980
 3230CITHER2_2,  A17N,   185,  1,     13,     13,2,19940308,0211,  3.0423, -36.9527, 4146,   2200.4,   3.2700,  34.9620,2,  34.9610,2,    258.9,2,    256.9,2,    22.20,2,    19.37,2,     1.27,2,    0.032,2,    0.022,2, -999.000,9,-999.0000,9,  -999.00,9,   2163.6,2,   2333.4,2,     8.03,2,  3.0940
 3230CITHER2_2,  A17N,   185,  1,     12,     12,2,19940308,0211,  3.0423, -36.9527, 4146,   2399.5,   3.0980,  34.9550,2,  34.9540,2,    260.2,2,    258.3,2,    23.70,2,    19.49,2,     1.28,2,    0.034,2,    0.021,2, -999.000,9,-999.0000,9,  -999.00,9,   2166.3,2,   2334.2,2,     8.03,2,  2.9060
 3230CITHER2_2,  A17N,   185,  1,     11,     11,2,19940308,0211,  3.0423, -36.9527, 4146,   2599.4,   2.9100,  34.9410,2,  34.9410,2,    258.9,2,    257.4,2,    27.10,2,    19.69,2,     1.29,2,    0.021,2,    0.014,2, -999.000,9,-999.0000,9,  -999.00,9,   2169.5,2,   2334.7,2,     8.03,2,  2.7020
 3230CITHER2_2,  A17N,   185,  1,     10,     10,2,19940308,0211,  3.0423, -36.9527, 4146,   2798.3,   2.7830,  34.9280,2,  34.9290,2,    256.3,2,    254.3,2,    31.40,2,    20.44,2,     1.35,2,    0.004,2,    0.006,2, -999.000,9,-999.0000,9,  -999.00,9,   2175.8,2,   2339.2,2,     8.02,2,  2.5580
 3230CITHER2_2,  A17N,   185,  1,      9,      9,2,19940308,0211,  3.0423, -36.9527, 4146,   3000.1,   2.6760,  34.9230,2,  34.9220,2,    254.3,2,    255.3,2,    32.60,2,    20.36,2,     1.34,2,    0.010,2,    0.006,2, -999.000,9,-999.0000,9,  -999.00,9,   2176.1,2,   2340.4,2,     8.02,2,  2.4320
 3230CITHER2_2,  A17N,   185,  1,      8,      8,2,19940308,0211,  3.0423, -36.9527, 4146,   3200.2,   2.5870,  34.9160,2,  34.9160,2,    254.3,2,    254.9,2,    34.10,2,    20.56,2,     1.35,2,    0.011,2,    0.007,2, -999.000,9,-999.0000,9,  -999.00,9,   2179.1,2,   2343.5,2,     8.02,2,  2.3250
 3230CITHER2_2,  A17N,   185,  1,      7,      7,2,19940308,0211,  3.0423, -36.9527, 4146,   3399.0,   2.5100,  34.9120,2,  34.9130,2,    257.2,2,    258.6,2,    33.50,2,    20.16,2,     1.32,2,    0.022,2,    0.018,2, -999.000,9,-999.0000,9,  -999.00,9,   2176.3,2,   2339.2,2,     8.02,2,  2.2280
 3230CITHER2_2,  A17N,   185,  1,      6,      6,2,19940308,0211,  3.0423, -36.9527, 4146,   3548.5,   2.4610,  34.9100,2,  34.9110,2,    258.9,2,    260.2,2,    33.00,2,    19.85,2,     1.31,2,    0.044,2,    0.029,2, -999.000,9,-999.0000,9,  -999.00,9,   2175.3,2,   2339.9,2,     8.03,2,  2.1640
 3230CITHER2_2,  A17N,   185,  1,      5,      5,2,19940308,0211,  3.0423, -36.9527, 4146,   3699.8,   2.3810,  34.9030,2,  34.9050,2,    260.0,2,    261.5,2,    33.70,2,    19.89,2,     1.31,2,    0.064,2,    0.041,2, -999.000,9,-999.0000,9,  -999.00,9,   2175.5,2,   2340.7,2,     8.03,2,  2.0700
 3230CITHER2_2,  A17N,   185,  1,      4,      4,2,19940308,0211,  3.0423, -36.9527, 4146,   3847.7,   2.3100,  34.8960,2,  34.9000,2,    259.8,2,    260.5,2,    36.10,2,    20.12,2,     1.34,2,    0.059,2,    0.035,2, -999.000,9,-999.0000,9,  -999.00,9,   2176.6,2,   2341.5,2,     8.02,2,  1.9840
 3230CITHER2_2,  A17N,   185,  1,      3,      3,2,19940308,0211,  3.0423, -36.9527, 4146,   3998.7,   2.2220,  34.8860,2,  34.8880,2,    257.7,2,    258.2,2,    40.20,2,    20.63,2,     1.37,2,    0.051,2,    0.035,2, -999.000,9,-999.0000,9,  -999.00,9,   2182.4,2,   2342.5,2,     8.02,2,  1.8820
 3230CITHER2_2,  A17N,   185,  1,      2,      2,2,19940308,0211,  3.0423, -36.9527, 4146,   4099.6,   2.1140,  34.8730,2,  34.8740,2,    254.6,2,    254.6,2,    46.70,2,    21.58,2,     1.44,2,    0.045,2,    0.030,2, -999.000,9,-999.0000,9,  -999.00,9,   2188.1,2,   2349.1,2,     8.01,2,  1.7650
 3230CITHER2_2,  A17N,   185,  1,      1,      1,2,19940308,0211,  3.0423, -36.9527, 4146,   4196.4,   1.9300,  34.8510,2,  34.8510,2,    249.5,2,    249.0,2,    56.70,2,    22.80,2,     1.54,2,    0.028,2,    0.022,2, -999.000,9,-999.0000,9,  -999.00,9,   2199.5,2,   2353.2,2,     8.00,2,  1.5760
 3230CITHER2_2,  A17N,   186,  1,     32,     32,2,19940308,0817,  3.3328, -37.4550, 4546,      5.3,  26.7500,  35.8790,2,  35.8790,2,    198.4,2,    201.0,2,     1.80,2,     0.00,2,     0.03,2,    1.704,2,    0.981,2, -999.000,9,-999.0000,9,  -999.00,9,   -999.0,9,   -999.0,9,     8.39,2, 26.7490
 3230CITHER2_2,  A17N,   186,  1,     31,     31,2,19940308,0817,  3.3328, -37.4550, 4546,     41.2,  26.7490,  35.8780,2,  35.8790,2,    201.8,2,    201.2,2,     1.60,2,     0.00,2,     0.03,2,    1.701,2,    0.976,2, -999.000,9,-999.0000,9,  -999.00,9,   -999.0,9,   -999.0,9,     8.38,2, 26.7400
 3230CITHER2_2,  A17N,   186,  1,     30,     30,2,19940308,0817,  3.3328, -37.4550, 4546,    125.6,  12.3000,  35.1820,2,  35.1800,2,    145.6,2,    148.4,2,     9.20,2,    19.54,2,     1.33,2,    1.293,2,    0.690,2, -999.000,9,-999.0000,9,  -999.00,9,   -999.0,9,   -999.0,9,     8.05,2, 12.2830
 3230CITHER2_2,  A17N,   186,  1,     29,     29,2,19940308,0817,  3.3328, -37.4550, 4546,    201.7,  11.5350,  35.0830,2,  35.0820,2,    142.8,2,    145.0,2,    10.20,2,    21.19,2,     1.45,2,    1.176,2,    0.633,2, -999.000,9,-999.0000,9,  -999.00,9,   -999.0,9,   -999.0,9,     8.02,2, 11.5090
 3230CITHER2_2,  A17N,   186,  1,     28,     28,2,19940308,0817,  3.3328, -37.4550, 4546,    300.9,  10.9400,  35.0150,2,  35.0120,2,    138.0,2,    134.7,2,    11.50,2,    23.32,2,     1.57,2,    0.985,2,    0.524,2, -999.000,9,-999.0000,9,  -999.00,9,   -999.0,9,   -999.0,9,     7.98,2, 10.9030
 3230CITHER2_2,  A17N,   186,  1,     27,     27,2,19940308,0817,  3.3328, -37.4550, 4546,    400.3,   9.7300,  34.8840,2,  34.8840,2,    138.9,2,    138.0,2,    13.70,2,    25.56,2,     1.70,2,    0.801,2,    0.433,2, -999.000,9,-999.0000,9,  -999.00,9,   -999.0,9,   -999.0,9,     7.96,2,  9.6840
 3230CITHER2_2,  A17N,   186,  1,     26,     26,2,19940308,0817,  3.3328, -37.4550, 4546,    599.8,   6.8710,  34.6480,2,  34.6460,2,    115.4,2,    113.4,2,    22.70,2,    33.47,2,     2.24,2,    0.117,2,    0.068,2, -999.000,9,-999.0000,9,  -999.00,9,   -999.0,9,   -999.0,9,     7.83,2,  6.8140
 3230CITHER2_2,  A17N,   186,  1,     25,     25,2,19940308,0817,  3.3328, -37.4550, 4546,    700.4,   6.0060,  34.6220,2,  34.6220,2,    116.0,2,    114.5,2,    26.70,2,    34.98,2,     2.37,2,    0.026,2,    0.018,2, -999.000,9,-999.0000,9,  -999.00,9,   -999.0,9,   -999.0,9,     7.82,2,  5.9440
 3230CITHER2_2,  A17N,   186,  1,     24,     24,2,19940308,0817,  3.3328, -37.4550, 4546,    799.2,   5.1570,  34.5820,2,  34.5860,2,    134.6,2,    133.3,2,    30.10,2,    34.23,2,     2.35,2,    0.017,2,    0.009,2, -999.000,9,-999.0000,9,  -999.00,9,   -999.0,9,   -999.0,9,     7.84,2,  5.0910
 3230CITHER2_2,  A17N,   186,  1,     23,     23,2,19940308,0817,  3.3328, -37.4550, 4546,   1000.1,   4.6640,  34.6640,2,  34.6680,2,    153.7,2,    154.7,2,    30.40,2,    31.67,2,     2.20,2,    0.005,2,    0.005,2, -999.000,9,-999.0000,9,  -999.00,9,   -999.0,9,   -999.0,9,     7.87,2,  4.5830
 3230CITHER2_2,  A17N,   186,  1,     22,     22,2,19940308,0817,  3.3328, -37.4550, 4546,   1200.6,   4.6430,  34.8510,2,  34.8470,2,    183.5,2,    181.2,2,    25.40,2,    27.99,2,     1.86,2,    0.021,2,    0.010,2, -999.000,9,-999.0000,9,  -999.00,9,   -999.0,9,   -999.0,9,     7.93,2,  4.5440
 3230CITHER2_2,  A17N,   186,  1,     21,     21,2,19940308,0817,  3.3328, -37.4550, 4546,   1399.1,   4.4620,  34.9520,2,  34.9500,2,    215.5,2,    214.9,2,    20.70,2,    23.33,2,     1.55,2,    0.047,2,    0.029,2, -999.000,9,-999.0000,9,  -999.00,9,   -999.0,9,   -999.0,9,     7.99,2,  4.3460
 3230CITHER2_2,  A17N,   186,  1,     20,     20,2,19940308,0817,  3.3328, -37.4550, 4546,   1500.2,   4.3160,  34.9800,2,  34.9800,2,    228.9,2,    232.0,2,    18.10,2,    21.29,2,     1.41,2,    0.087,2,    0.052,2, -999.000,9,-999.0000,9,  -999.00,9,   -999.0,9,   -999.0,9,     8.01,2,  4.1920
 3230CITHER2_2,  A17N,   186,  1,     19,     19,2,19940308,0817,  3.3328, -37.4550, 4546,   1600.0,   4.1870,  34.9860,2,  34.9860,2,    236.2,2,    238.6,2,    17.60,2,    20.62,2,     1.36,2,    0.087,2,    0.052,2, -999.000,9,-999.0000,9,  -999.00,9,   -999.0,9,   -999.0,9,     8.01,2,  4.0550
 3230CITHER2_2,  A17N,   186,  1,     18,     18,2,19940308,0817,  3.3328, -37.4550, 4546,   1699.4,   4.0750,  34.9870,2,  34.9880,2,    241.6,2,    243.8,2,    17.30,2,    20.03,2,     1.33,2,    0.082,2,    0.051,2, -999.000,9,-999.0000,9,  -999.00,9,   -999.0,9,   -999.0,9,     8.02,2,  3.9350
 3230CITHER2_2,  A17N,   186,  1,     17,     17,2,19940308,0817,  3.3328, -37.4550, 4546,   1798.1,   3.9270,  34.9860,2,  34.9890,2,    246.9,2,    249.4,2,    17.40,2,    19.56,2,     1.30,2,    0.083,2,    0.055,2, -999.000,9,-999.0000,9,  -999.00,9,   -999.0,9,   -999.0,9,     8.03,2,  3.7800
 3230CITHER2_2,  A17N,   186,  1,     16,     16,2,19940308,0817,  3.3328, -37.4550, 4546,   1999.4,   3.6180,  34.9760,2,  34.9730,2,    250.8,2,    253.3,2,    19.10,2,    19.40,2,     1.29,2,    0.047,2,    0.031,2, -999.000,9,-999.0000,9,  -999.00,9,   -999.0,9,   -999.0,9,     8.03,2,  3.4560
 3230CITHER2_2,  A17N,   186,  1,     15,     15,2,19940308,0817,  3.3328, -37.4550, 4546,   2201.1,   3.3690,  34.9650,2,  34.9660,2,    252.9,2,    255.6,2,    21.30,2,    19.25,2,     1.29,2,    0.028,2,    0.019,2, -999.000,9,-999.0000,9,  -999.00,9,   -999.0,9,   -999.0,9,     8.03,2,  3.1920
 3230CITHER2_2,  A17N,   186,  1,     14,     14,2,19940308,0817,  3.3328, -37.4550, 4546,   2401.8,   3.1130,  34.9510,2,  34.9520,2,    253.4,2,    255.1,2,    24.70,2,    19.48,2,     1.32,2,    0.011,2,    0.006,2, -999.000,9,-999.0000,9,  -999.00,9,   -999.0,9,   -999.0,9,     8.03,2,  2.9210
 3230CITHER2_2,  A17N,   186,  1,     13,     13,2,19940308,0817,  3.3328, -37.4550, 4546,   2700.6,   2.8720,  34.9390,2,  34.9370,2,    251.3,2,    256.4,2,    27.50,2,    19.48,2,     1.32,2,    0.022,2,    0.009,2, -999.000,9,-999.0000,9,  -999.00,9,   -999.0,9,   -999.0,9,     8.03,2,  2.6550
 3230CITHER2_2,  A17N,   186,  1,     12,     12,2,19940308,0817,  3.3328, -37.4550, 4546,   2999.8,   2.6870,  34.9210,2,  34.9210,2,    251.6,2,    253.6,2,    32.70,2,    20.19,2,     1.37,2,    0.005,2,    0.007,2, -999.000,9,-999.0000,9,  -999.00,9,   -999.0,9,   -999.0,9,     8.03,2,  2.4430
 3230CITHER2_2,  A17N,   186,  1,     11,     11,2,19940308,0817,  3.3328, -37.4550, 4546,   3198.6,   2.5950,  34.9190,2,  34.9200,2,    255.9,2,    256.7,2,    32.10,2,    19.88,2,     1.35,2,    0.016,2,    0.017,2, -999.000,9,-999.0000,9,  -999.00,9,   -999.0,9,   -999.0,9,     8.03,2,  2.3320
 3230CITHER2_2,  A17N,   186,  1,     10,     10,2,19940308,0817,  3.3328, -37.4550, 4546,   3398.0,   2.5290,  34.9150,2,  34.9150,2,    258.4,2,    258.7,2,    32.10,2,    19.73,2,     1.34,2,    0.027,2,    0.019,2, -999.000,9,-999.0000,9,  -999.00,9,   -999.0,9,   -999.0,9,     8.03,2,  2.2470
 3230CITHER2_2,  A17N,   186,  1,      8,      8,2,19940308,0817,  3.3328, -37.4550, 4546,   3549.2,   2.4700,  34.9110,2,  34.9110,2,    259.7,2,    260.0,2,    31.80,2,    19.65,2,     1.32,2,    0.043,2,    0.025,2, -999.000,9,-999.0000,9,  -999.00,9,   -999.0,9,   -999.0,9,     8.03,2,  2.1730
 3230CITHER2_2,  A17N,   186,  1,      9,      9,2,19940308,0817,  3.3328, -37.4550, 4546,   3550.2,   2.4710,  34.9100,2,  34.9120,2,    259.8,2,    260.4,2,    31.90,2,    19.73,2,     1.32,2,    0.045,2,    0.026,2, -999.000,9,-999.0000,9,  -999.00,9,   -999.0,9,   -999.0,9,     8.03,2,  2.1740
 3230CITHER2_2,  A17N,   186,  1,      7,      7,2,19940308,0817,  3.3328, -37.4550, 4546,   3699.7,   2.4000,  34.9050,2,  34.9050,2,    261.2,2,    261.2,2,    32.60,2,    19.57,2,     1.32,2,    0.057,2,    0.032,2, -999.000,9,-999.0000,9,  -999.00,9,   -999.0,9,   -999.0,9,     8.03,2,  2.0880
 3230CITHER2_2,  A17N,   186,  1,      6,      6,2,19940308,0817,  3.3328, -37.4550, 4546,   3850.0,   2.3190,  34.8980,2,  34.8980,2,    261.6,2,    261.0,2,    34.40,2,    19.73,2,     1.34,2,    0.066,2,    0.040,2, -999.000,9,-999.0000,9,  -999.00,9,   -999.0,9,   -999.0,9,     8.03,2,  1.9930
 3230CITHER2_2,  A17N,   186,  1,      5,      5,2,19940308,0817,  3.3328, -37.4550, 4546,   3998.6,   2.2450,  34.8880,2,  34.8900,2,    260.0,2,    258.7,2,    38.10,2,    20.13,2,     1.37,2,    0.053,2,    0.026,2, -999.000,9,-999.0000,9,  -999.00,9,   -999.0,9,   -999.0,9,     8.02,2,  1.9040
 3230CITHER2_2,  A17N,   186,  1,      4,      4,2,19940308,0817,  3.3328, -37.4550, 4546,   4198.9,   1.8270,  34.8390,2,  34.8400,2,    250.6,2,    248.2,2,    59.20,2,    23.42,2,     1.59,2,    0.037,2,    0.021,2, -999.000,9,-999.0000,9,  -999.00,9,   -999.0,9,   -999.0,9,     7.99,2,  1.4760
 3230CITHER2_2,  A17N,   186,  1,      3,      3,2,19940308,0817,  3.3328, -37.4550, 4546,   4399.6,   1.4950,  34.8010,2,  34.8040,2,    241.3,2,    239.2,2,    75.80,2,    25.51,2,     1.77,2,    0.026,2,    0.018,2, -999.000,9,-999.0000,9,  -999.00,9,   -999.0,9,   -999.0,9,     7.97,2,  1.1310
 3230CITHER2_2,  A17N,   186,  1,      2,      2,2,19940308,0817,  3.3328, -37.4550, 4546,   4500.0,   1.4410,  34.7940,2,  34.7940,2,    238.5,2,    237.0,2,    79.80,2,    25.98,2,     1.81,2,    0.020,2,    0.012,2, -999.000,9,-999.0000,9,  -999.00,9,   -999.0,9,   -999.0,9,     7.97,2,  1.0670
 3230CITHER2_2,  A17N,   186,  1,      1,      1,2,19940308,0817,  3.3328, -37.4550, 4546,   4601.7,   1.4110,  34.7890,2,  34.7920,2,    237.8,2,    236.1,2,    81.90,2,    26.24,2,     1.83,2,    0.014,2,    0.013,2, -999.000,9,-999.0000,9,  -999.00,9,   -999.0,9,   -999.0,9,     7.98,2,  1.0260