BOTTLE,20030515WHPSIOSA
EXPOCODE,SECT_ID,STNNBR,CASTNO,SAMPNO,BTLNBR,BTLNBR_FLAG_W,DATE,TIME,LATITUDE,LONGITUDE,DEPTH,CTDPRS,CTDTMP,CTDSAL,CTDSAL_FLAG_W,SALNTY,SALNTY_FLAG_W,CTDOXY,CTDOXY_FLAG_W,OXYGEN,OXYGEN_FLAG_W,SILCAT,SILCAT_FLAG_W,NITRAT,NITRAT_FLAG_W,PHSPHT,PHSPHT_FLAG_W,CFC-11,CFC-11_FLAG_W,CFC-12,CFC-12_FLAG_W,TRITUM,TRITUM_FLAG_W,HELIUM,HELIUM_FLAG_W,DELHE3,DELHE3_FLAG_W,TCARBN,TCARBN_FLAG_W,ALKALI,ALKALI_FLAG_W,PH,PH_FLAG_W,THETA
,,,,,,,,,,,,DBAR,ITS-90,PSS-78,,PSS-78,,UMOL/KG,,UMOL/KG,,UMOL/KG,,UMOL/KG,,UMOL/KG,,PMOL/KG,,PMOL/KG,,TU,,NMOL/KG,,PERCNT,,UMOL/KG,,UMOL/KG,,,,DEG C
 3230CITHER2_2,  A17N,   199,  1,     32,     32,2,19940311,1332,  6.8315, -43.4982, 4661,      8.0,  26.8330,  35.9090,2,  35.9090,2,    199.5,2,    201.1,2,     1.80,2,     0.04,2,     0.04,2,    1.708,2,    1.012,2, -999.000,9,-999.0000,9,  -999.00,9,   2000.2,2,   -999.0,9,     8.38,2, 26.8310
 3230CITHER2_2,  A17N,   199,  1,     31,     31,2,19940311,1332,  6.8315, -43.4982, 4661,     51.3,  26.7440,  35.9840,2,  35.9840,2,    202.3,2,    201.4,2,     1.50,2,     0.04,2,     0.04,2,    1.728,2,    0.987,2, -999.000,9,-999.0000,9,  -999.00,9,   2004.2,2,   -999.0,9,     8.38,2, 26.7320
 3230CITHER2_2,  A17N,   199,  1,     30,     30,2,19940311,1332,  6.8315, -43.4982, 4661,    115.3,  26.6980,  36.3400,2,  36.3950,2,    202.4,2,    190.0,2,     1.80,2,     1.03,2,     0.12,2,    1.699,2,    0.960,2, -999.000,9,-999.0000,9,  -999.00,9,   2044.2,2,   -999.0,9,     8.35,2, 26.6720
 3230CITHER2_2,  A17N,   199,  1,     29,     29,2,19940311,1332,  6.8315, -43.4982, 4661,    200.4,  11.0740,  35.1410,2,  35.1300,2,    118.2,2,    118.1,2,    12.20,2,    24.74,2,     1.63,2,    0.802,2,    0.441,2, -999.000,9,-999.0000,9,  -999.00,9,   2190.3,2,   -999.0,9,     7.95,2, 11.0490
 3230CITHER2_2,  A17N,   199,  1,     28,     28,2,19940311,1332,  6.8315, -43.4982, 4661,    301.1,   8.6780,  34.7910,2,  34.7880,2,    136.2,2,    141.2,2,    15.60,2,    27.06,2,     1.81,2,    0.691,2,    0.369,2, -999.000,9,-999.0000,9,  -999.00,9,   2188.8,2,   -999.0,9,     7.92,2,  8.6460
 3230CITHER2_2,  A17N,   199,  1,     27,     27,2,19940311,1332,  6.8315, -43.4982, 4661,    401.0,   7.8910,  34.7130,2,  34.7080,2,    133.8,2,    133.0,2,    18.10,2,    29.96,2,     1.98,2,    0.455,2,    0.247,2, -999.000,9,-999.0000,9,  -999.00,9,   2200.3,2,   -999.0,9,     7.88,2,  7.8500
 3230CITHER2_2,  A17N,   199,  1,     26,     26,2,19940311,1332,  6.8315, -43.4982, 4661,    501.4,   6.9990,  34.6270,2,  34.6230,2,    148.0,2,    138.6,2,    20.80,2,    31.43,2,     2.09,2,    0.352,2,    0.191,2, -999.000,9,-999.0000,9,  -999.00,9,   2204.5,2,   -999.0,9,     7.86,2,  6.9510
 3230CITHER2_2,  A17N,   199,  1,     25,     25,2,19940311,1332,  6.8315, -43.4982, 4661,    600.4,   6.3030,  34.5990,2,  34.6020,2,    132.4,2,    130.1,2,    23.60,2,    33.23,2,     2.23,2,    0.167,2,    0.097,2, -999.000,9,-999.0000,9,  -999.00,9,   2216.8,2,   -999.0,9,     7.84,2,  6.2490
 3230CITHER2_2,  A17N,   199,  1,     24,     24,2,19940311,1332,  6.8315, -43.4982, 4661,    800.4,   5.0990,  34.5540,2,  34.5520,2,    146.9,2,    142.3,2,    29.10,2,    34.06,2,     2.33,2,    0.049,2,    0.026,2, -999.000,9,-999.0000,9,  -999.00,9,   2221.6,2,   -999.0,9,     7.83,2,  5.0330
 3230CITHER2_2,  A17N,   199,  1,     23,     23,2,19940311,1332,  6.8315, -43.4982, 4661,   1000.9,   4.8040,  34.6570,2,  34.6550,2,    150.4,2,    150.5,2,    29.60,2,    32.54,2,     2.23,2,    0.011,2,    0.004,2, -999.000,9,-999.0000,9,  -999.00,9,   2219.7,2,   -999.0,9,     7.86,2,  4.7220
 3230CITHER2_2,  A17N,   199,  1,     22,     22,2,19940311,1332,  6.8315, -43.4982, 4661,   1199.7,   4.8140,  34.8640,2,  34.8530,2,    177.0,2,    176.8,2,    24.90,2,    27.88,2,     1.88,2,    0.018,2,    0.014,2, -999.000,9,-999.0000,9,  -999.00,9,   -999.0,9,   -999.0,9,     7.91,2,  4.7130
 3230CITHER2_2,  A17N,   199,  1,     21,     21,2,19940311,1332,  6.8315, -43.4982, 4661,   1402.2,   4.6090,  34.9760,2,  34.9770,2,    217.5,2,    218.0,2,    19.00,2,    22.25,2,     1.50,2,    0.099,2,    0.058,2, -999.000,9,-999.0000,9,  -999.00,9,   -999.0,9,   -999.0,9,     7.98,2,  4.4910
 3230CITHER2_2,  A17N,   199,  1,     20,     20,2,19940311,1332,  6.8315, -43.4982, 4661,   1500.5,   4.4050,  34.9860,2,  34.9860,2,    230.4,2,    229.7,2,    16.80,2,    21.13,2,     1.41,2,    0.095,2,    0.055,2, -999.000,9,-999.0000,9,  -999.00,9,   -999.0,9,   -999.0,9,     7.99,2,  4.2800
 3230CITHER2_2,  A17N,   199,  1,     19,     19,2,19940311,1332,  6.8315, -43.4982, 4661,   1600.0,   4.2650,  34.9970,2,  34.9990,2,    241.6,2,    241.9,2,    16.40,2,    19.98,2,     1.32,2,    0.151,2,    0.080,2, -999.000,9,-999.0000,9,  -999.00,9,   -999.0,9,   -999.0,9,     8.00,2,  4.1320
 3230CITHER2_2,  A17N,   199,  1,     18,     18,2,19940311,1332,  6.8315, -43.4982, 4661,   1699.7,   4.0730,  34.9940,2,  34.9940,2,    246.5,2,    246.7,2,    16.60,2,    19.65,2,     1.30,2,    0.118,2,    0.069,2, -999.000,9,-999.0000,9,  -999.00,9,   -999.0,9,   -999.0,9,     8.01,2,  3.9330
 3230CITHER2_2,  A17N,   199,  1,     17,     17,2,19940311,1332,  6.8315, -43.4982, 4661,   1800.6,   3.9030,  34.9870,2,  34.9870,2,    249.3,2,    249.3,2,    17.40,2,    19.56,2,     1.30,2,    0.074,2,    0.050,2, -999.000,9,-999.0000,9,  -999.00,9,   -999.0,9,   -999.0,9,     8.01,2,  3.7560
 3230CITHER2_2,  A17N,   199,  1,     16,     16,2,19940311,1332,  6.8315, -43.4982, 4661,   1998.6,   3.6690,  34.9800,2,  34.9780,2,    253.6,2,    253.8,2,    18.50,2,    19.31,2,     1.28,2,    0.051,2,    0.028,2, -999.000,9,-999.0000,9,  -999.00,9,   -999.0,9,   -999.0,9,     8.02,2,  3.5060
 3230CITHER2_2,  A17N,   199,  1,     15,     15,2,19940311,1332,  6.8315, -43.4982, 4661,   2198.8,   3.4850,  34.9760,2,  34.9750,2,    256.4,2,    257.1,2,    19.50,2,    19.02,2,     1.26,2,    0.055,2,    0.030,2, -999.000,9,-999.0000,9,  -999.00,9,   -999.0,9,   -999.0,9,     8.02,2,  3.3060
 3230CITHER2_2,  A17N,   199,  1,     14,     14,2,19940311,1332,  6.8315, -43.4982, 4661,   2398.9,   3.2770,  34.9660,2,  34.9650,2,    257.9,2,    258.6,2,    21.10,2,    18.98,2,     1.27,2,    0.054,2,    0.030,2, -999.000,9,-999.0000,9,  -999.00,9,   -999.0,9,   -999.0,9,     8.02,2,  3.0820
 3230CITHER2_2,  A17N,   199,  1,     13,     13,2,19940311,1332,  6.8315, -43.4982, 4661,   2699.2,   3.0370,  34.9510,2,  34.9520,2,    258.3,2,    259.8,2,    23.50,2,    19.02,2,     1.27,2,    0.061,2,    0.036,2, -999.000,9,-999.0000,9,  -999.00,9,   -999.0,9,   -999.0,9,     8.02,2,  2.8160
 3230CITHER2_2,  A17N,   199,  1,     12,     12,2,19940311,1332,  6.8315, -43.4982, 4661,   2998.2,   2.7860,  34.9360,2,  34.9380,2,    257.7,2,    259.1,2,    27.30,2,    19.39,2,     1.31,2,    0.063,2,    0.035,2, -999.000,9,-999.0000,9,  -999.00,9,   -999.0,9,   -999.0,9,     8.02,2,  2.5400
 3230CITHER2_2,  A17N,   199,  1,     11,     11,2,19940311,1332,  6.8315, -43.4982, 4661,   3199.8,   2.6740,  34.9280,2,  34.9270,2,    257.7,2,    258.7,2,    29.30,2,    19.55,2,     1.32,2,    0.050,2,    0.024,2, -999.000,9,-999.0000,9,  -999.00,9,   -999.0,9,   -999.0,9,     8.01,2,  2.4090
 3230CITHER2_2,  A17N,   199,  1,     10,     10,2,19940311,1332,  6.8315, -43.4982, 4661,   3398.4,   2.5840,  34.9200,2,  34.9180,2,    258.8,2,    259.9,2,    30.30,2,    19.59,2,     1.34,2,    0.043,2,    0.022,2, -999.000,9,-999.0000,9,  -999.00,9,   -999.0,9,   -999.0,9,     8.02,2,  2.3000
 3230CITHER2_2,  A17N,   199,  1,      9,      9,2,19940311,1332,  6.8315, -43.4982, 4661,   3547.9,   2.4790,  34.9130,2,  34.9120,2,    259.1,2,    260.7,2,    31.40,2,    19.51,2,     1.33,2,    0.057,2,    0.035,2, -999.000,9,-999.0000,9,  -999.00,9,   -999.0,9,   -999.0,9,     8.01,2,  2.1820
 3230CITHER2_2,  A17N,   199,  1,      8,      8,2,19940311,1332,  6.8315, -43.4982, 4661,   3699.1,   2.3650,  34.9050,2,  34.9040,2,    260.9,2,    262.2,2,    32.00,2,    19.34,2,     1.31,2,    0.065,2,    0.038,2, -999.000,9,-999.0000,9,  -999.00,9,   -999.0,9,   -999.0,9,     8.01,2,  2.0540
 3230CITHER2_2,  A17N,   199,  1,      7,      7,2,19940311,1332,  6.8315, -43.4982, 4661,   3847.7,   2.2900,  34.8990,2,  34.8990,2,    262.1,2,    262.5,2,    33.20,2,    19.38,2,     1.32,2,    0.072,2,    0.044,2, -999.000,9,-999.0000,9,  -999.00,9,   -999.0,9,   -999.0,9,     8.01,2,  1.9650
 3230CITHER2_2,  A17N,   199,  1,      6,      6,2,19940311,1332,  6.8315, -43.4982, 4661,   3998.8,   2.2640,  34.8960,2,  34.8960,2,    262.1,2,    262.9,2,    33.60,2,    19.38,2,     1.32,2,    0.098,2,    0.057,2, -999.000,9,-999.0000,9,  -999.00,9,   -999.0,9,   -999.0,9,     8.01,2,  1.9220
 3230CITHER2_2,  A17N,   199,  1,      5,      5,2,19940311,1332,  6.8315, -43.4982, 4661,   4198.1,   2.2370,  34.8910,2,  34.8900,2,    261.5,2,    261.4,2,    35.70,2,    19.66,2,     1.34,2,    0.089,2,    0.054,2, -999.000,9,-999.0000,9,  -999.00,9,   -999.0,9,   -999.0,9,     8.00,2,  1.8730
 3230CITHER2_2,  A17N,   199,  1,      4,      4,2,19940311,1332,  6.8315, -43.4982, 4661,   4399.1,   2.1620,  34.8790,2,  34.8790,2,    259.3,2,    258.2,2,    40.80,2,    20.44,2,     1.40,2,    0.072,2,    0.042,2, -999.000,9,-999.0000,9,  -999.00,9,   -999.0,9,   -999.0,9,     8.00,2,  1.7770
 3230CITHER2_2,  A17N,   199,  1,      3,      3,2,19940311,1332,  6.8315, -43.4982, 4661,   4597.8,   1.6460,  34.8180,2,  34.8160,2,    244.6,2,    242.7,2,    68.40,2,    24.25,2,     1.70,2,    0.029,2,    0.020,2, -999.000,9,-999.0000,9,  -999.00,9,   -999.0,9,   -999.0,9,     7.96,2,  1.2540
 3230CITHER2_2,  A17N,   199,  1,      2,      2,2,19940311,1332,  6.8315, -43.4982, 4661,   4697.3,   1.5470,  34.8050,2,  34.8040,2,    240.4,2,    239.5,2,    74.20,2,    25.08,2,     1.75,2,    0.030,2,    0.024,2, -999.000,9,-999.0000,9,  -999.00,9,   -999.0,9,   -999.0,9,     7.95,2,  1.1470
 3230CITHER2_2,  A17N,   199,  1,      1,      1,2,19940311,1332,  6.8315, -43.4982, 4661,   4727.4,   1.5370,  34.8030,2,-999.0000,9,    239.4,2,   -999.0,9,  -999.00,9,  -999.00,9,  -999.00,9, -999.000,9, -999.000,9, -999.000,9,-999.0000,9,  -999.00,9,   -999.0,9,   -999.0,9,  -999.00,9,-999.0000
 3230CITHER2_2,  A17N,   200,  1,     32,     32,2,19940311,1947,  7.1258, -44.0038, 4656,      2.5,  26.7930,  36.1370,2,  36.1370,2,    197.3,2,    200.8,2,     1.60,2,     0.04,2,     0.04,2,    1.721,2,    0.923,2, -999.000,9,-999.0000,9,  -999.00,9,   -999.0,9,   -999.0,9,     8.38,2, 26.7920
 3230CITHER2_2,  A17N,   200,  1,     31,     31,2,19940311,1947,  7.1258, -44.0038, 4656,     82.3,  26.8510,  36.3430,2,  36.3430,2,    202.5,2,    199.4,2,     1.60,2,     0.04,2,     0.06,2,    1.732,2,    0.929,2, -999.000,9,-999.0000,9,  -999.00,9,   -999.0,9,   -999.0,9,     8.37,2, 26.8320
 3230CITHER2_2,  A17N,   200,  1,     30,     30,2,19940311,1947,  7.1258, -44.0038, 4656,    125.3,  22.9370,  36.7390,2,  36.6850,2,    187.5,2,    155.8,2,     2.70,2,     5.31,2,     0.31,2,    1.734,2,    0.902,2, -999.000,9,-999.0000,9,  -999.00,9,   -999.0,9,   -999.0,9,     8.25,2, 22.9110
 3230CITHER2_2,  A17N,   200,  1,     29,     29,2,19940311,1947,  7.1258, -44.0038, 4656,    201.3,  11.6490,  35.2070,2,  35.2030,2,    112.5,2,    113.2,2,    11.40,2,    24.52,2,     1.61,2,    0.858,2,    0.433,2, -999.000,9,-999.0000,9,  -999.00,9,   -999.0,9,   -999.0,9,     7.95,2, 11.6230
 3230CITHER2_2,  A17N,   200,  1,     28,     28,2,19940311,1947,  7.1258, -44.0038, 4656,    299.6,   9.2150,  34.8650,2,  34.8760,2,    118.6,2,    121.4,2,    15.30,2,    28.56,2,     1.87,2,    0.541,2,    0.273,2, -999.000,9,-999.0000,9,  -999.00,9,   -999.0,9,   -999.0,9,     7.89,2,  9.1820
 3230CITHER2_2,  A17N,   200,  1,     27,     27,2,19940311,1947,  7.1258, -44.0038, 4656,    400.2,   8.1420,  34.7420,2,  34.7420,2,    132.0,2,    127.7,2,    17.80,2,    30.14,2,     1.98,2,    0.437,2,    0.221,2, -999.000,9,-999.0000,9,  -999.00,9,   -999.0,9,   -999.0,9,     7.88,2,  8.1010
 3230CITHER2_2,  A17N,   200,  1,     26,     26,2,19940311,1947,  7.1258, -44.0038, 4656,    501.8,   7.2930,  34.6650,2,  34.6630,2,    134.0,2,    132.6,2,    20.40,2,    31.56,2,     2.08,2,    0.346,2,    0.176,2, -999.000,9,-999.0000,9,  -999.00,9,   -999.0,9,   -999.0,9,     7.87,2,  7.2440
 3230CITHER2_2,  A17N,   200,  1,     25,     25,2,19940311,1947,  7.1258, -44.0038, 4656,    600.5,   6.6200,  34.6260,2,  34.6220,2,    137.4,2,    129.9,2,    23.20,2,    33.28,2,     2.20,2,    0.192,2,    0.105,2, -999.000,9,-999.0000,9,  -999.00,9,   -999.0,9,   -999.0,9,     7.84,2,  6.5640
 3230CITHER2_2,  A17N,   200,  1,     24,     24,2,19940311,1947,  7.1258, -44.0038, 4656,    800.2,   5.1520,  34.5920,2,  34.5900,2,    137.0,2,    124.4,2,    30.20,2,    35.08,2,     2.36,2,    0.016,2,    0.016,2, -999.000,9,-999.0000,9,  -999.00,9,   -999.0,9,   -999.0,9,     7.83,2,  5.0850
 3230CITHER2_2,  A17N,   200,  1,     23,     23,2,19940311,1947,  7.1258, -44.0038, 4656,   1000.9,   4.8580,  34.7320,2,  34.7290,2,    150.8,2,    152.1,2,    29.30,2,    32.18,2,     2.14,2,    0.002,2,    0.009,2, -999.000,9,-999.0000,9,  -999.00,9,   -999.0,9,   -999.0,9,     7.86,2,  4.7750
 3230CITHER2_2,  A17N,   200,  1,     22,     22,2,19940311,1947,  7.1258, -44.0038, 4656,   1201.3,   4.7170,  34.8820,2,  34.8820,2,    183.2,2,    184.2,2,    24.30,2,    26.74,2,     1.82,2,    0.029,2,    0.021,2, -999.000,9,-999.0000,9,  -999.00,9,   -999.0,9,   -999.0,9,     7.92,2,  4.6170
 3230CITHER2_2,  A17N,   200,  1,     21,     21,2,19940311,1947,  7.1258, -44.0038, 4656,   1400.6,   4.4970,  34.9650,2,  34.9630,2,    216.0,2,    218.7,2,    19.90,2,    22.50,2,     1.52,2, -999.000,5, -999.000,5, -999.000,9,-999.0000,9,  -999.00,9,   -999.0,9,   -999.0,9,     7.97,2,  4.3810
 3230CITHER2_2,  A17N,   200,  1,     20,     20,2,19940311,1947,  7.1258, -44.0038, 4656,   1499.2,   4.3960,  34.9820,2,  34.9800,2,    228.6,2,    229.5,2,    18.60,2,    21.60,2,     1.41,2,    0.082,2,    0.052,2, -999.000,9,-999.0000,9,  -999.00,9,   -999.0,9,   -999.0,9,     7.99,2,  4.2710
 3230CITHER2_2,  A17N,   200,  1,     19,     19,2,19940311,1947,  7.1258, -44.0038, 4656,   1601.1,   4.1940,  34.9880,2,  34.9860,2,    238.2,2,    240.4,2,    18.10,2,    20.87,2,     1.36,2,    0.073,2,    0.047,2, -999.000,9,-999.0000,9,  -999.00,9,   -999.0,9,   -999.0,9,     8.00,2,  4.0620
 3230CITHER2_2,  A17N,   200,  1,     18,     18,2,19940311,1947,  7.1258, -44.0038, 4656,   1700.3,   4.0380,  34.9890,2,  34.9880,2,    244.1,2,    245.7,2,    17.80,2,    20.18,2,     1.32,2,    0.086,2,    0.056,2, -999.000,9,-999.0000,9,  -999.00,9,   -999.0,9,   -999.0,9,     8.01,2,  3.8990
 3230CITHER2_2,  A17N,   200,  1,     17,     17,2,19940311,1947,  7.1258, -44.0038, 4656,   1799.2,   3.8650,  34.9870,2,  34.9870,2,    252.1,2,    252.0,2,    17.90,2,    19.71,2,     1.28,2,    0.089,2,    0.054,2, -999.000,9,-999.0000,9,  -999.00,9,   -999.0,9,   -999.0,9,     8.02,2,  3.7190
 3230CITHER2_2,  A17N,   200,  1,     16,     16,2,19940311,1947,  7.1258, -44.0038, 4656,   2001.0,   3.6160,  34.9790,2,  34.9780,2,    256.0,2,    254.9,2,    19.20,2,    19.63,2,     1.28,2,    0.055,2,    0.036,2, -999.000,9,-999.0000,9,  -999.00,9,   -999.0,9,   -999.0,9,     8.02,2,  3.4540
 3230CITHER2_2,  A17N,   200,  1,     15,     15,2,19940311,1947,  7.1258, -44.0038, 4656,   2202.4,   3.3550,  34.9680,2,  34.9660,2,    257.7,2,    256.1,2,    21.80,2,    19.78,2,     1.29,2,    0.020,2,    0.020,2, -999.000,9,-999.0000,9,  -999.00,9,   -999.0,9,   -999.0,9,     8.02,2,  3.1780
 3230CITHER2_2,  A17N,   200,  1,     14,     14,2,19940311,1947,  7.1258, -44.0038, 4656,   2399.0,   3.1480,  34.9570,2,  34.9560,2,    258.9,2,    257.2,2,    23.80,2,    19.75,2,     1.30,2,    0.030,2,    0.022,2, -999.000,9,-999.0000,9,  -999.00,9,   -999.0,9,   -999.0,9,     8.02,2,  2.9550
 3230CITHER2_2,  A17N,   200,  1,     13,     13,2,19940311,1947,  7.1258, -44.0038, 4656,   2700.1,   2.9610,  34.9460,2,  34.9430,2,    260.4,2,    258.4,2,    25.60,2,    19.76,2,     1.30,2,    0.042,2,    0.027,2, -999.000,9,-999.0000,9,  -999.00,9,   -999.0,9,   -999.0,9,     8.02,2,  2.7420
 3230CITHER2_2,  A17N,   200,  1,     12,     12,2,19940311,1947,  7.1258, -44.0038, 4656,   2999.2,   2.8070,  34.9370,2,  34.9330,2,    258.3,2,    257.5,2,    28.60,2,    19.95,2,     1.33,2,    0.037,2,    0.030,2, -999.000,9,-999.0000,9,  -999.00,9,   -999.0,9,   -999.0,9,     8.02,2,  2.5600
 3230CITHER2_2,  A17N,   200,  1,     11,     11,2,19940311,1947,  7.1258, -44.0038, 4656,   3199.2,   2.6820,  34.9280,2,  34.9250,2,    258.0,2,    257.2,2,    30.70,2,    20.14,2,     1.33,2,    0.044,2,    0.031,2, -999.000,9,-999.0000,9,  -999.00,9,   -999.0,9,   -999.0,9,     8.01,2,  2.4170
 3230CITHER2_2,  A17N,   200,  1,     10,     10,2,19940311,1947,  7.1258, -44.0038, 4656,   3398.4,   2.5550,  34.9180,2,  34.9150,2,    257.3,2,    258.6,2,    32.30,2,    20.11,2,     1.33,2,    0.053,2,    0.035,2, -999.000,9,-999.0000,9,  -999.00,9,   -999.0,9,   -999.0,9,     8.01,2,  2.2720
 3230CITHER2_2,  A17N,   200,  1,      9,      9,2,19940311,1947,  7.1258, -44.0038, 4656,   3545.9,   2.4480,  34.9100,2,  34.9090,2,    258.9,2,    260.7,2,    32.30,2,    19.81,2,     1.33,2,    0.071,2,    0.042,2, -999.000,9,-999.0000,9,  -999.00,9,   -999.0,9,   -999.0,9,     8.02,2,  2.1520
 3230CITHER2_2,  A17N,   200,  1,      8,      8,2,19940311,1947,  7.1258, -44.0038, 4656,   3698.4,   2.3720,  34.9050,2,  34.9050,2,    261.7,2,    262.2,2,    32.50,2,    19.48,2,     1.32,2,    0.059,2,    0.038,2, -999.000,9,-999.0000,9,  -999.00,9,   -999.0,9,   -999.0,9,     8.02,2,  2.0600
 3230CITHER2_2,  A17N,   200,  1,      7,      7,2,19940311,1947,  7.1258, -44.0038, 4656,   3698.8,   2.3710,  34.9060,2,  34.9030,2,    261.7,2,    262.2,2,    32.50,2,    19.47,2,     1.32,2,    0.056,2,    0.040,2, -999.000,9,-999.0000,9,  -999.00,9,   -999.0,9,   -999.0,9,     8.02,2,  2.0610
 3230CITHER2_2,  A17N,   200,  1,      6,      6,2,19940311,1947,  7.1258, -44.0038, 4656,   3848.5,   2.3200,  34.9010,2,  34.9000,2,    262.3,2,    262.5,2,    33.60,2,    19.58,2,     1.32,2,    0.059,2,    0.042,2, -999.000,9,-999.0000,9,  -999.00,9,   -999.0,9,   -999.0,9,     8.02,2,  1.9940
 3230CITHER2_2,  A17N,   200,  1,      5,      5,2,19940311,1947,  7.1258, -44.0038, 4656,   3998.9,   2.2740,  34.8960,2,  34.8950,2,    261.6,2,    261.8,2,    35.00,2,    19.99,2,     1.33,2,    0.066,2,    0.051,2, -999.000,9,-999.0000,9,  -999.00,9,   -999.0,9,   -999.0,9,     8.01,2,  1.9320
 3230CITHER2_2,  A17N,   200,  1,      4,      4,2,19940311,1947,  7.1258, -44.0038, 4656,   4197.8,   2.1960,  34.8860,2,  34.8850,2,    259.3,2,    258.8,2,    39.60,2,    20.67,2,     1.38,2,    0.055,2,    0.038,2, -999.000,9,-999.0000,9,  -999.00,9,   -999.0,9,   -999.0,9,     8.01,2,  1.8340
 3230CITHER2_2,  A17N,   200,  1,      3,      3,2,19940311,1947,  7.1258, -44.0038, 4656,   4398.7,   1.9960,  34.8600,2,  34.8600,2,    253.3,2,    252.0,2,    51.00,2,    22.15,2,     1.49,2,    0.048,2,    0.046,2, -999.000,9,-999.0000,9,  -999.00,9,   -999.0,9,   -999.0,9,     7.99,2,  1.6160
 3230CITHER2_2,  A17N,   200,  1,      2,      2,2,19940311,1947,  7.1258, -44.0038, 4656,   4597.2,   1.5370,  34.8050,2,  34.8050,2,    239.7,2,    239.7,2,    75.70,2,    25.42,2,     1.74,2,    0.027,2,    0.021,2, -999.000,9,-999.0000,9,  -999.00,9,   -999.0,9,   -999.0,9,     7.96,2,  1.1490
 3230CITHER2_2,  A17N,   200,  1,      1,      1,2,19940311,1947,  7.1258, -44.0038, 4656,   4724.5,   1.4740,  34.7970,2,  34.7960,2,    236.7,2,    237.3,2,    79.70,2,    25.90,2,     1.76,2,    0.019,2,    0.018,2, -999.000,9,-999.0000,9,  -999.00,9,   -999.0,9,   -999.0,9,     7.96,2,  1.0730