BOTTLE,20030515WHPSIOSA
EXPOCODE,SECT_ID,STNNBR,CASTNO,SAMPNO,BTLNBR,BTLNBR_FLAG_W,DATE,TIME,LATITUDE,LONGITUDE,DEPTH,CTDPRS,CTDTMP,CTDSAL,CTDSAL_FLAG_W,SALNTY,SALNTY_FLAG_W,CTDOXY,CTDOXY_FLAG_W,OXYGEN,OXYGEN_FLAG_W,SILCAT,SILCAT_FLAG_W,NITRAT,NITRAT_FLAG_W,PHSPHT,PHSPHT_FLAG_W,CFC-11,CFC-11_FLAG_W,CFC-12,CFC-12_FLAG_W,TRITUM,TRITUM_FLAG_W,HELIUM,HELIUM_FLAG_W,DELHE3,DELHE3_FLAG_W,TCARBN,TCARBN_FLAG_W,ALKALI,ALKALI_FLAG_W,PH,PH_FLAG_W,THETA
,,,,,,,,,,,,DBAR,ITS-90,PSS-78,,PSS-78,,UMOL/KG,,UMOL/KG,,UMOL/KG,,UMOL/KG,,UMOL/KG,,PMOL/KG,,PMOL/KG,,TU,,NMOL/KG,,PERCNT,,UMOL/KG,,UMOL/KG,,,,DEG C
 3230CITHER2_2,  A17N,   175,  1,     32,     32,2,19940305,1533,  0.2493, -32.1503, 4555,      6.2,  27.4630,  36.1150,2,  36.1120,2,    194.3,2,    200.3,2,     1.90,2,     0.00,2,     0.04,2,    1.697,2,    0.978,2, -999.000,9,-999.0000,9,  -999.00,9,   -999.0,9,   -999.0,9,     8.38,2, 27.4620
 3230CITHER2_2,  A17N,   175,  1,     31,     31,2,19940305,1533,  0.2493, -32.1503, 4555,     51.7,  26.7090,  36.2000,2,  36.2010,2,    205.8,2,    201.5,2,     1.90,2,     0.04,2,     0.09,2,    1.706,2,    0.976,2, -999.000,9,-999.0000,9,  -999.00,9,   -999.0,9,   -999.0,9,     8.37,2, 26.6970
 3230CITHER2_2,  A17N,   175,  1,     30,     30,2,19940305,1533,  0.2493, -32.1503, 4555,    110.9,  14.5810,  35.4930,2,  35.4850,2,    176.4,2,    173.4,2,     6.60,2,    14.25,2,     0.98,2,    1.630,2,    0.873,2, -999.000,9,-999.0000,9,  -999.00,9,   -999.0,9,   -999.0,9,     8.12,2, 14.5640
 3230CITHER2_2,  A17N,   175,  1,     29,     29,2,19940305,1533,  0.2493, -32.1503, 4555,    200.8,  11.9170,  35.1470,2,  35.1390,2,    154.8,2,    121.2,2,    10.40,2,    23.24,2,     1.54,2,    1.000,2,    0.534,2, -999.000,9,-999.0000,9,  -999.00,9,   -999.0,9,   -999.0,9,     7.98,2, 11.8910
 3230CITHER2_2,  A17N,   175,  1,     28,     28,2,19940305,1533,  0.2493, -32.1503, 4555,    302.4,  10.1060,  34.9370,2,  34.9330,2,    102.3,2,    107.7,2,    13.80,2,    28.71,2,     1.86,2,    0.594,2,    0.325,2, -999.000,9,-999.0000,9,  -999.00,9,   -999.0,9,   -999.0,9,     7.91,2, 10.0710
 3230CITHER2_2,  A17N,   175,  1,     27,     27,2,19940305,1533,  0.2493, -32.1503, 4555,    402.2,   8.4250,  34.7550,2,  34.7650,2,    107.1,2,    107.1,2,    17.20,2,    32.04,2,     2.06,2,    0.359,2,    0.203,2, -999.000,9,-999.0000,9,  -999.00,9,   -999.0,9,   -999.0,9,     7.86,2,  8.3830
 3230CITHER2_2,  A17N,   175,  1,     26,     26,2,19940305,1533,  0.2493, -32.1503, 4555,    601.1,   5.8830,  34.5560,2,  34.5370,2,    145.5,2,    142.6,2,    24.80,2,    33.57,2,     2.24,2,    0.172,2,    0.100,2, -999.000,9,-999.0000,9,  -999.00,9,   -999.0,9,   -999.0,9,     7.86,2,  5.8310
 3230CITHER2_2,  A17N,   175,  1,     25,     25,2,19940305,1533,  0.2493, -32.1503, 4555,    702.6,   5.1320,  34.5100,2,  34.5060,2,    151.2,2,    147.9,2,    28.80,2,    34.41,2,     2.32,2,    0.085,2,    0.053,2, -999.000,9,-999.0000,9,  -999.00,9,   -999.0,9,   -999.0,9,     7.85,2,  5.0740
 3230CITHER2_2,  A17N,   175,  1,     24,     24,2,19940305,1533,  0.2493, -32.1503, 4555,    801.4,   4.9530,  34.5080,2,  34.5020,2,    153.5,2,    151.2,2,    29.90,2,    34.40,2,     2.32,2,    0.093,2,    0.063,2, -999.000,9,-999.0000,9,  -999.00,9,   -999.0,9,   -999.0,9,     7.85,2,  4.8880
 3230CITHER2_2,  A17N,   175,  1,     23,     23,2,19940305,1533,  0.2493, -32.1503, 4555,    999.5,   4.5460,  34.6660,2,  34.6650,2,    162.5,2,    160.8,2,    29.90,2,    32.20,2,     2.17,2,    0.010,2,    0.002,2, -999.000,9,-999.0000,9,  -999.00,9,   -999.0,9,   -999.0,9,     7.88,2,  4.4660
 3230CITHER2_2,  A17N,   175,  1,     21,     21,2,19940305,1533,  0.2493, -32.1503, 4555,   1200.5,   4.5280,  34.8290,2,  34.8260,2,    182.4,2,    185.7,2,    25.30,2,    27.61,2,     1.87,2,    0.018,2,    0.014,2, -999.000,9,-999.0000,9,  -999.00,9,   -999.0,9,   -999.0,9,     7.93,2,  4.4300
 3230CITHER2_2,  A17N,   175,  1,     22,     22,2,19940305,1533,  0.2493, -32.1503, 4555,   1200.7,   4.5300,  34.8280,2,  34.8300,2,    182.4,2,    185.7,2,    25.30,2,    27.62,2,     1.87,2,    0.016,2,    0.013,2, -999.000,9,-999.0000,9,  -999.00,9,   -999.0,9,   -999.0,9,     7.93,2,  4.4320
 3230CITHER2_2,  A17N,   175,  1,     20,     20,2,19940305,1533,  0.2493, -32.1503, 4555,   1400.7,   4.3790,  34.9570,2,  34.9540,2,    222.3,2,    223.0,2,    19.50,2,    22.80,2,     1.49,2,    0.060,2,    0.039,2, -999.000,9,-999.0000,9,  -999.00,9,   -999.0,9,   -999.0,9,     7.99,2,  4.2640
 3230CITHER2_2,  A17N,   175,  1,     19,     19,2,19940305,1533,  0.2493, -32.1503, 4555,   1500.9,   4.2530,  34.9660,2,  34.9650,2,    229.8,2,    231.5,2,    18.80,2,    21.68,2,     1.46,2,    0.052,2,    0.033,2, -999.000,9,-999.0000,9,  -999.00,9,   -999.0,9,   -999.0,9,     8.00,2,  4.1300
 3230CITHER2_2,  A17N,   175,  1,     18,     18,2,19940305,1533,  0.2493, -32.1503, 4555,   1599.5,   4.1560,  34.9780,2,  34.9770,2,    239.1,2,    237.9,2,    18.00,2,    20.85,2,     1.39,2,    0.071,2,    0.046,2, -999.000,9,-999.0000,9,  -999.00,9,   -999.0,9,   -999.0,9,     8.01,2,  4.0250
 3230CITHER2_2,  A17N,   175,  1,     17,     17,2,19940305,1533,  0.2493, -32.1503, 4555,   1699.5,   4.0450,  34.9810,2,  34.9810,2,    244.4,2,    246.3,2,    17.80,2,    20.46,2,     1.36,2,    0.068,2,    0.044,2, -999.000,9,-999.0000,9,  -999.00,9,   -999.0,9,   -999.0,9,     8.01,2,  3.9060
 3230CITHER2_2,  A17N,   175,  1,     16,     16,2,19940305,1533,  0.2493, -32.1503, 4555,   1800.8,   3.8420,  34.9870,2,  34.9790,2,    254.2,2,    253.9,2,    17.00,2,    19.29,2,     1.28,2,    0.116,2,    0.068,2, -999.000,9,-999.0000,9,  -999.00,9,   -999.0,9,   -999.0,9,     8.03,2,  3.6960
 3230CITHER2_2,  A17N,   175,  1,     15,     15,2,19940305,1533,  0.2493, -32.1503, 4555,   1998.8,   3.5680,  34.9780,2,  34.9780,2,    257.9,2,    257.0,2,    18.70,2,    19.21,2,     1.28,2,    0.081,2,    0.049,2, -999.000,9,-999.0000,9,  -999.00,9,   -999.0,9,   -999.0,9,     8.04,2,  3.4070
 3230CITHER2_2,  A17N,   175,  1,     14,     14,2,19940305,1533,  0.2493, -32.1503, 4555,   2200.7,   3.2160,  34.9610,2,  34.9560,2,    252.9,2,    256.3,2,    23.20,2,    19.83,2,     1.32,2,    0.033,2,    0.021,2, -999.000,9,-999.0000,9,  -999.00,9,   -999.0,9,   -999.0,9,     8.03,2,  3.0410
 3230CITHER2_2,  A17N,   175,  1,     13,     13,2,19940305,1533,  0.2493, -32.1503, 4555,   2400.0,   3.0580,  34.9460,2,  34.9390,2,    252.0,2,    252.5,2,    27.30,2,    20.48,2,     1.37,2,    0.013,2,    0.014,2, -999.000,9,-999.0000,9,  -999.00,9,   -999.0,9,   -999.0,9,     8.03,2,  2.8670
 3230CITHER2_2,  A17N,   175,  1,     12,     12,2,19940305,1533,  0.2493, -32.1503, 4555,   2699.0,   2.8530,  34.9360,2,  34.9330,2,    254.9,2,    258.6,2,    28.80,2,    20.32,2,     1.36,2,    0.013,2,    0.010,2, -999.000,9,-999.0000,9,  -999.00,9,   -999.0,9,   -999.0,9,     8.03,2,  2.6360
 3230CITHER2_2,  A17N,   175,  1,     11,     11,2,19940305,1533,  0.2493, -32.1503, 4555,   2999.3,   2.6580,  34.9200,2,  34.9180,2,    252.8,2,    252.8,2,    33.50,2,    20.94,2,     1.40,2, -999.000,5, -999.000,5, -999.000,9,-999.0000,9,  -999.00,9,   -999.0,9,   -999.0,9,     8.03,2,  2.4150
 3230CITHER2_2,  A17N,   175,  1,     10,     10,2,19940305,1533,  0.2493, -32.1503, 4555,   3198.1,   2.5420,  34.9120,2,  34.9090,2,    254.0,2,    254.3,2,    34.40,2,    20.82,2,     1.39,2,    0.012,2,    0.015,2, -999.000,9,-999.0000,9,  -999.00,9,   -999.0,9,   -999.0,9,     8.02,2,  2.2810
 3230CITHER2_2,  A17N,   175,  1,      9,      9,2,19940305,1533,  0.2493, -32.1503, 4555,   3399.7,   2.4630,  34.9100,2,  34.9080,2,    258.4,2,    258.7,2,    32.80,2,    20.35,2,     1.35,2,    0.035,2,    0.024,2, -999.000,9,-999.0000,9,  -999.00,9,   -999.0,9,   -999.0,9,     8.03,2,  2.1820
 3230CITHER2_2,  A17N,   175,  1,      8,      8,2,19940305,1533,  0.2493, -32.1503, 4555,   3547.4,   2.4500,  34.9090,2,  34.9080,2,    260.4,2,    260.8,2,    32.30,2,    20.19,2,     1.34,2,    0.048,2,    0.030,2, -999.000,9,-999.0000,9,  -999.00,9,   -999.0,9,   -999.0,9,     8.03,2,  2.1540
 3230CITHER2_2,  A17N,   175,  1,      7,      7,2,19940305,1533,  0.2493, -32.1503, 4555,   3699.3,   2.3660,  34.9030,2,  34.9020,2,    261.5,2,    261.0,2,    33.30,2,    20.07,2,     1.34,2,    0.054,2,    0.037,2, -999.000,9,-999.0000,9,  -999.00,9,   -999.0,9,   -999.0,9,     8.03,2,  2.0550
 3230CITHER2_2,  A17N,   175,  1,      6,      6,2,19940305,1533,  0.2493, -32.1503, 4555,   3848.1,   2.3110,  34.8980,2,  34.8960,2,    262.0,2,    261.3,2,    34.50,2,    20.14,2,     1.35,2,    0.067,2,    0.043,2, -999.000,9,-999.0000,9,  -999.00,9,   -999.0,9,   -999.0,9,     8.03,2,  1.9850
 3230CITHER2_2,  A17N,   175,  1,      5,      5,2,19940305,1533,  0.2493, -32.1503, 4555,   3999.1,   2.3020,  34.8970,2,  34.8950,2,    262.1,2,    261.6,2,    35.00,2,    20.18,2,     1.35,2,    0.070,2,    0.048,2, -999.000,9,-999.0000,9,  -999.00,9,   -999.0,9,   -999.0,9,     8.03,2,  1.9590
 3230CITHER2_2,  A17N,   175,  1,      4,      4,2,19940305,1533,  0.2493, -32.1503, 4555,   4198.4,   1.5390,  34.8070,2,  34.8080,2,    247.4,2,    241.8,2,    72.00,2,    25.31,2,     1.75,2,    0.028,2,    0.015,2, -999.000,9,-999.0000,9,  -999.00,9,   -999.0,9,   -999.0,9,     7.98,2,  1.1960
 3230CITHER2_2,  A17N,   175,  1,      3,      3,2,19940305,1533,  0.2493, -32.1503, 4555,   4398.4,   1.0970,  34.7570,2,  34.7570,2,    230.6,2,    230.3,2,    93.80,2,    28.52,2,     1.97,2,    0.015,2,    0.011,2, -999.000,9,-999.0000,9,  -999.00,9,   -999.0,9,   -999.0,9,     7.95,2,  0.7460
 3230CITHER2_2,  A17N,   175,  1,      2,      2,2,19940305,1533,  0.2493, -32.1503, 4555,   4549.8,   0.9710,  34.7430,2,  34.7420,2,    226.7,2,    228.0,2,    99.40,2,    29.60,2,     2.04,2,    0.015,2,    0.011,2, -999.000,9,-999.0000,9,  -999.00,9,   -999.0,9,   -999.0,9,     7.95,2,  0.6070
 3230CITHER2_2,  A17N,   175,  1,      1,      1,2,19940305,1533,  0.2493, -32.1503, 4555,   4597.9,   0.9540,  34.7400,2,  34.7420,2,    226.6,2,    227.7,2,   100.50,2,    29.64,2,     2.05,2,    0.015,2,    0.009,2, -999.000,9,-999.0000,9,  -999.00,9,   -999.0,9,   -999.0,9,     7.95,2,  0.5850
 3230CITHER2_2,  A17N,   176,  1,     32,     32,2,19940305,2118,  0.4997, -32.5815, 4566,      6.8,  27.2060,  36.1150,2,  36.1150,2,    201.6,2,    200.3,2,     1.60,2,     0.00,2,     0.05,2,    1.725,2,    0.990,2, -999.000,9,-999.0000,9,  -999.00,9,   2017.1,2,   2376.2,2,     8.38,2, 27.2040
 3230CITHER2_2,  A17N,   176,  1,     31,     31,2,19940305,2118,  0.4997, -32.5815, 4566,     59.5,  22.7460,  36.4970,2,  36.4240,2,    200.2,2,    187.2,2,     2.50,2,     2.70,2,     0.31,2,    1.829,2,    1.014,2, -999.000,9,-999.0000,9,  -999.00,9,   2086.9,2,   2399.2,2,     8.30,2, 22.7340
 3230CITHER2_2,  A17N,   176,  1,     30,     30,2,19940305,2118,  0.4997, -32.5815, 4566,    126.2,  14.4940,  35.4850,2,  35.4790,2,    165.2,2,    166.9,2,     6.60,2,    14.35,2,     1.03,2,    1.657,2,    0.884,2, -999.000,9,-999.0000,9,  -999.00,9,   2135.6,2,   2346.0,2,     8.12,2, 14.4750
 3230CITHER2_2,  A17N,   176,  1,     29,     29,2,19940305,2118,  0.4997, -32.5815, 4566,    201.0,  12.2680,  35.1640,2,  35.1610,2,    154.0,2,    160.8,2,     8.60,2,    18.34,2,     1.26,2,    1.427,2,    0.765,2, -999.000,9,-999.0000,9,  -999.00,9,   2150.3,2,   2329.3,2,     8.05,2, 12.2410
 3230CITHER2_2,  A17N,   176,  1,     28,     28,2,19940305,2118,  0.4997, -32.5815, 4566,    298.4,  10.3140,  34.9620,2,  34.9620,2,    103.4,2,    102.4,2,    13.80,2,    28.03,2,     1.83,2,    0.629,2,    0.350,2, -999.000,9,-999.0000,9,  -999.00,9,   2203.1,2,   2318.5,2,     7.89,2, 10.2790
 3230CITHER2_2,  A17N,   176,  1,     27,     27,2,19940305,2118,  0.4997, -32.5815, 4566,    401.7,   8.4830,  34.7680,2,  34.7710,2,    107.3,2,    105.6,2,    17.50,2,    31.64,2,     2.04,2,    0.404,2,    0.234,2, -999.000,9,-999.0000,9,  -999.00,9,   2213.1,2,   2313.4,2,     7.86,2,  8.4400
 3230CITHER2_2,  A17N,   176,  1,     26,     26,2,19940305,2118,  0.4997, -32.5815, 4566,    600.8,   5.9830,  34.5420,2,  34.5410,2,    143.8,2,    141.3,2,    24.80,2,    33.45,2,     2.21,2,    0.179,2,    0.108,2, -999.000,9,-999.0000,9,  -999.00,9,   2211.7,2,   2311.4,2,     7.85,2,  5.9300
 3230CITHER2_2,  A17N,   176,  1,     24,     24,2,19940305,2118,  0.4997, -32.5815, 4566,    800.6,   4.9940,  34.5030,2,  34.5020,2,    151.1,2,    150.2,2,    29.90,2,    34.54,2,     2.32,2,    0.095,2,    0.059,2, -999.000,9,-999.0000,9,  -999.00,9,   2218.2,2,   2314.2,2,     7.84,2,  4.9280
 3230CITHER2_2,  A17N,   176,  1,     25,     25,2,19940305,2118,  0.4997, -32.5815, 4566,    801.2,   4.9940,  34.5030,2,  34.5040,2,    151.1,2,    150.1,2,    29.90,2,    34.69,2,     2.32,2,    0.087,2,    0.054,2, -999.000,9,-999.0000,9,  -999.00,9,   -999.0,5,   2314.2,2,     7.84,2,  4.9280
 3230CITHER2_2,  A17N,   176,  1,     23,     23,2,19940305,2118,  0.4997, -32.5815, 4566,   1000.9,   4.5300,  34.6670,2,  34.6660,2,    159.5,2,    161.6,2,    30.60,2,    32.34,2,     2.17,2,    0.007,2,    0.009,2, -999.000,9,-999.0000,9,  -999.00,9,   2217.7,2,   2322.4,2,     7.87,2,  4.4500
 3230CITHER2_2,  A17N,   176,  1,     22,     22,2,19940305,2118,  0.4997, -32.5815, 4566,   1201.1,   4.5510,  34.8190,2,  34.8110,2,    177.2,2,    181.0,2,    26.20,2,    28.29,2,     1.91,2,    0.019,2,    0.013,2, -999.000,9,-999.0000,9,  -999.00,9,   2204.6,2,   2326.6,2,     7.92,2,  4.4530
 3230CITHER2_2,  A17N,   176,  1,     21,     21,2,19940305,2118,  0.4997, -32.5815, 4566,   1401.3,   4.3840,  34.9550,2,  34.9580,2,    219.1,2,    221.6,2,    19.60,2,    22.49,2,     1.49,2,    0.064,2,    0.038,2, -999.000,9,-999.0000,9,  -999.00,9,   2180.3,2,   2327.4,2,     7.98,2,  4.2690
 3230CITHER2_2,  A17N,   176,  1,     20,     20,2,19940305,2118,  0.4997, -32.5815, 4566,   1499.7,   4.2670,  34.9720,2,  34.9710,2,    227.8,2,    230.8,2,    18.80,2,    21.40,2,     1.42,2,    0.071,2,    0.049,2, -999.000,9,-999.0000,9,  -999.00,9,   2174.6,2,   2329.1,2,     8.00,2,  4.1440
 3230CITHER2_2,  A17N,   176,  1,     19,     19,2,19940305,2118,  0.4997, -32.5815, 4566,   1600.6,   4.1430,  34.9800,2,  34.9810,2,    240.0,2,    239.7,2,    17.90,2,    20.70,2,     1.36,2,    0.087,2,    0.057,2, -999.000,9,-999.0000,9,  -999.00,9,   2168.3,2,   2327.9,2,     8.01,2,  4.0120
 3230CITHER2_2,  A17N,   176,  1,     18,     18,2,19940305,2118,  0.4997, -32.5815, 4566,   1700.0,   4.0360,  34.9830,2,  34.9850,2,    242.9,2,    243.5,2,    17.90,2,    20.15,2,     1.33,2,    0.072,2,    0.043,2, -999.000,9,-999.0000,9,  -999.00,9,   2167.6,2,   2330.2,2,     8.01,2,  3.8970
 3230CITHER2_2,  A17N,   176,  1,     17,     17,2,19940305,2118,  0.4997, -32.5815, 4566,   1798.6,   3.8890,  34.9860,2,  34.9860,2,    252.3,2,    250.5,2,    17.50,2,    19.60,2,     1.29,2,    0.098,2,    0.063,2, -999.000,9,-999.0000,9,  -999.00,9,   2165.4,2,   2325.0,2,     8.02,2,  3.7420
 3230CITHER2_2,  A17N,   176,  1,     16,     16,2,19940305,2118,  0.4997, -32.5815, 4566,   2001.6,   3.6090,  34.9790,2,  34.9650,2,    256.4,2,    256.6,2,    18.50,2,    19.13,2,     1.25,2,    0.120,2,    0.073,2, -999.000,9,-999.0000,9,  -999.00,9,   2161.4,2,   2330.2,2,     8.03,2,  3.4470
 3230CITHER2_2,  A17N,   176,  1,     15,     15,2,19940305,2118,  0.4997, -32.5815, 4566,   2198.3,   3.2840,  34.9570,2,  34.9530,2,    253.1,2,    253.0,2,    24.00,2,    19.84,2,     1.32,2,    0.042,2,    0.031,2, -999.000,9,-999.0000,9,  -999.00,9,   2167.4,2,   2337.8,2,     8.02,2,  3.1080
 3230CITHER2_2,  A17N,   176,  1,     14,     14,2,19940305,2118,  0.4997, -32.5815, 4566,   2400.4,   3.1040,  34.9500,2,  34.9490,2,    254.4,2,    253.9,2,    26.10,2,    20.08,2,     1.33,2,    0.019,2,    0.014,2, -999.000,9,-999.0000,9,  -999.00,9,   2171.1,2,   2336.9,2,     8.02,2,  2.9120
 3230CITHER2_2,  A17N,   176,  1,     13,     13,2,19940305,2118,  0.4997, -32.5815, 4566,   2700.0,   2.8450,  34.9330,2,  34.9300,2,    253.0,2,    252.8,2,    30.60,2,    20.39,2,     1.36,2,    0.007,2,    0.004,2, -999.000,9,-999.0000,9,  -999.00,9,   2174.9,2,   2339.6,2,     8.02,2,  2.6280
 3230CITHER2_2,  A17N,   176,  1,     12,     12,2,19940305,2118,  0.4997, -32.5815, 4566,   3000.0,   2.6950,  34.9220,2,  34.9220,2,    253.7,2,    253.7,2,    32.80,2,    20.39,2,     1.36,2,    0.024,2,    0.021,2, -999.000,9,-999.0000,9,  -999.00,9,   2178.2,2,   2342.9,2,     8.02,2,  2.4510
 3230CITHER2_2,  A17N,   176,  1,     11,     11,2,19940305,2118,  0.4997, -32.5815, 4566,   3198.5,   2.5720,  34.9150,2,  34.9130,2,    254.3,2,    254.3,2,    34.30,2,    20.39,2,     1.37,2,    0.021,2,    0.018,2, -999.000,9,-999.0000,9,  -999.00,9,   2181.7,2,   2345.2,2,     8.02,2,  2.3100
 3230CITHER2_2,  A17N,   176,  1,     10,     10,2,19940305,2118,  0.4997, -32.5815, 4566,   3399.2,   2.5090,  34.9080,2,  34.9110,2,    255.1,2,    255.6,2,    34.90,2,    20.35,2,     1.36,2,    0.020,2,    0.015,2, -999.000,9,-999.0000,9,  -999.00,9,   2181.9,2,   2345.8,2,     8.02,2,  2.2270
 3230CITHER2_2,  A17N,   176,  1,      9,      9,2,19940305,2118,  0.4997, -32.5815, 4566,   3549.4,   2.4380,  34.9070,2,  34.9050,2,    260.2,2,    259.7,2,    34.00,2,    20.09,2,     1.32,2,    0.050,2,    0.034,2, -999.000,9,-999.0000,9,  -999.00,9,   2177.6,2,   2344.5,2,     8.02,2,  2.1420
 3230CITHER2_2,  A17N,   176,  1,      8,      8,2,19940305,2118,  0.4997, -32.5815, 4566,   3698.8,   2.3970,  34.9030,2,  34.9040,2,    260.6,2,    260.3,2,    34.00,2,    19.99,2,     1.32,2,    0.047,2,    0.034,2, -999.000,9,-999.0000,9,  -999.00,9,   2177.2,2,   2343.1,2,     8.02,2,  2.0850
 3230CITHER2_2,  A17N,   176,  1,      7,      7,2,19940305,2118,  0.4997, -32.5815, 4566,   3848.5,   2.3370,  34.8990,2,  34.8760,2,    261.5,2,    260.7,2,    34.60,2,    20.06,2,     1.32,2,    0.068,2,    0.044,2, -999.000,9,-999.0000,9,  -999.00,9,   2178.7,2,   2341.1,2,     8.02,2,  2.0100
 3230CITHER2_2,  A17N,   176,  1,      6,      6,2,19940305,2118,  0.4997, -32.5815, 4566,   3999.1,   2.2780,  34.8920,2,  34.8910,2,    260.7,2,    260.5,2,    37.20,2,    20.08,2,     1.36,2,    0.066,2,    0.048,2, -999.000,9,-999.0000,9,  -999.00,9,   2179.9,2,   2345.6,2,     8.02,2,  1.9360
 3230CITHER2_2,  A17N,   176,  1,      5,      5,2,19940305,2118,  0.4997, -32.5815, 4566,   4197.7,   1.6450,  34.8190,2,  34.8200,2,    246.4,2,    244.5,2,    66.80,2,    24.28,2,     1.68,2,    0.028,2,    0.022,2, -999.000,9,-999.0000,9,  -999.00,9,   2212.2,2,   2362.1,2,     7.97,2,  1.2990
 3230CITHER2_2,  A17N,   176,  1,      4,      4,2,19940305,2118,  0.4997, -32.5815, 4566,   4397.2,   1.1010,  34.7580,2,  34.7570,2,    231.6,2,    230.4,2,    94.50,2,    28.63,2,     1.97,2,    0.014,2,    0.012,2, -999.000,9,-999.0000,9,  -999.00,9,   2240.2,2,   2379.6,2,     7.94,2,  0.7500
 3230CITHER2_2,  A17N,   176,  1,      3,      3,2,19940305,2118,  0.4997, -32.5815, 4566,   4495.2,   0.9940,  34.7440,2,  34.7460,2,    226.9,2,    227.9,2,    99.30,2,    29.45,2,     2.03,2,    0.011,2,    0.007,2, -999.000,9,-999.0000,9,  -999.00,9,   2246.9,2,   2381.0,2,     7.93,2,  0.6350
 3230CITHER2_2,  A17N,   176,  1,      2,      2,2,19940305,2118,  0.4997, -32.5815, 4566,   4597.6,   0.9620,  34.7390,2,  34.7420,2,    226.0,2,    227.2,2,   101.50,2,    29.45,2,     2.04,2,    0.014,2,    0.008,2, -999.000,9,-999.0000,9,  -999.00,9,   2247.5,2,   2381.5,2,     7.93,2,  0.5920
 3230CITHER2_2,  A17N,   176,  1,      1,      1,2,19940305,2118,  0.4997, -32.5815, 4566,   4621.9,   0.9540,  34.7380,2,  34.7440,2,    225.9,2,    226.6,2,   102.80,2,    29.40,2,     2.04,2,    0.013,2,    0.012,2, -999.000,9,-999.0000,9,  -999.00,9,   2246.6,2,   2380.2,2,     7.93,2,  0.5820