BOTTLE,20030515WHPSIOSA
EXPOCODE,SECT_ID,STNNBR,CASTNO,SAMPNO,BTLNBR,BTLNBR_FLAG_W,DATE,TIME,LATITUDE,LONGITUDE,DEPTH,CTDPRS,CTDTMP,CTDSAL,CTDSAL_FLAG_W,SALNTY,SALNTY_FLAG_W,CTDOXY,CTDOXY_FLAG_W,OXYGEN,OXYGEN_FLAG_W,SILCAT,SILCAT_FLAG_W,NITRAT,NITRAT_FLAG_W,PHSPHT,PHSPHT_FLAG_W,CFC-11,CFC-11_FLAG_W,CFC-12,CFC-12_FLAG_W,TRITUM,TRITUM_FLAG_W,HELIUM,HELIUM_FLAG_W,DELHE3,DELHE3_FLAG_W,TCARBN,TCARBN_FLAG_W,ALKALI,ALKALI_FLAG_W,PH,PH_FLAG_W,THETA
,,,,,,,,,,,,DBAR,ITS-90,PSS-78,,PSS-78,,UMOL/KG,,UMOL/KG,,UMOL/KG,,UMOL/KG,,UMOL/KG,,PMOL/KG,,PMOL/KG,,TU,,NMOL/KG,,PERCNT,,UMOL/KG,,UMOL/KG,,,,DEG C
 3230CITHER2_2,  A17N,   221,  1,     32,     32,2,19940317,2110,  9.6087, -49.3328, 4768,      7.7,  25.7560,  36.3560,2,  36.3560,2,    202.6,2,    205.8,2,     1.60,2,     0.04,2,     0.03,2,    1.819,2,    1.006,2, -999.000,9,-999.0000,9,  -999.00,9,   2023.5,2,   -999.0,9,     8.38,2, 25.7540
 3230CITHER2_2,  A17N,   221,  1,     31,     31,2,19940317,2110,  9.6087, -49.3328, 4768,     50.5,  25.4650,  36.2900,2,  36.2910,2,    206.6,2,    205.8,2,     1.60,2,     0.04,2,     0.02,2,    1.822,2,    0.979,2, -999.000,9,-999.0000,9,  -999.00,9,   2028.5,2,   -999.0,9,     8.37,2, 25.4540
 3230CITHER2_2,  A17N,   221,  1,     30,     30,2,19940317,2110,  9.6087, -49.3328, 4768,    125.6,  17.8840,  36.2480,2,  36.2090,2,    118.1,2,    111.4,2,     5.50,2,    16.18,2,     0.91,2,    1.646,2,    0.847,2, -999.000,9,-999.0000,9,  -999.00,9,   2171.4,2,   -999.0,9,     8.09,2, 17.8620
 3230CITHER2_2,  A17N,   221,  1,     29,     29,2,19940317,2110,  9.6087, -49.3328, 4768,    200.5,  11.1760,  35.1670,2,  35.1810,2,    101.6,2,    104.7,2,    11.10,2,    26.04,2,     1.68,2,    0.815,2,    0.432,2, -999.000,9,-999.0000,9,  -999.00,9,   2196.4,2,   -999.0,9,     7.93,2, 11.1510
 3230CITHER2_2,  A17N,   221,  1,     28,     28,2,19940317,2110,  9.6087, -49.3328, 4768,    299.4,   9.6660,  34.9460,2,  34.9510,2,    104.5,2,    104.9,2,    15.00,2,    29.29,2,     1.87,2,    0.483,2,    0.258,2, -999.000,9,-999.0000,9,  -999.00,9,   2205.8,2,   -999.0,9,     7.88,2,  9.6320
 3230CITHER2_2,  A17N,   221,  1,     27,     27,2,19940317,2110,  9.6087, -49.3328, 4768,    401.3,   8.8740,  34.8720,2,  34.8700,2,    103.2,2,    101.9,2,    17.10,2,    31.32,2,     1.99,2,    0.292,2,    0.154,2, -999.000,9,-999.0000,9,  -999.00,9,   2212.6,2,   -999.0,9,     7.86,2,  8.8300
 3230CITHER2_2,  A17N,   221,  1,     26,     26,2,19940317,2110,  9.6087, -49.3328, 4768,    700.3,   6.2720,  34.6840,2,  34.6820,2,    110.9,2,    113.7,2,    25.70,2,    35.04,2,     2.31,2,    0.086,2,    0.049,2, -999.000,9,-999.0000,9,  -999.00,9,   2216.0,2,   -999.0,9,     7.82,2,  6.2080
 3230CITHER2_2,  A17N,   221,  1,     25,     25,2,19940317,2110,  9.6087, -49.3328, 4768,    800.5,   5.8150,  34.6790,2,  34.6780,2,    117.4,2,    119.0,2,    27.60,2,    35.40,2,     2.34,2,    0.018,2,    0.007,2, -999.000,9,-999.0000,9,  -999.00,9,   2229.3,2,   -999.0,9,     7.81,2,  5.7440
 3230CITHER2_2,  A17N,   221,  1,     24,     24,2,19940317,2110,  9.6087, -49.3328, 4768,   1000.3,   5.2180,  34.7240,2,  34.7240,2,    141.6,2,    137.6,2,    28.60,2,    33.41,2,     2.22,2,    0.000,2,   -0.002,2, -999.000,9,-999.0000,9,  -999.00,9,   2222.9,2,   -999.0,9,     7.85,2,  5.1330
 3230CITHER2_2,  A17N,   221,  1,     23,     23,2,19940317,2110,  9.6087, -49.3328, 4768,   1200.1,   4.9980,  34.8810,2,  34.8800,2,    180.4,2,    177.2,2,    24.40,2,    27.54,2,     1.85,2,    0.045,2,    0.024,2, -999.000,9,-999.0000,9,  -999.00,9,   -999.0,9,   -999.0,9,     7.91,2,  4.8960
 3230CITHER2_2,  A17N,   221,  1,     22,     22,2,19940317,2110,  9.6087, -49.3328, 4768,   1399.8,   4.7620,  34.9780,2,  34.9780,2,    212.7,2,    213.1,2,    19.50,2,    22.85,2,     1.52,2,    0.188,2,    0.100,2, -999.000,9,-999.0000,9,  -999.00,9,   -999.0,9,   -999.0,9,     7.97,2,  4.6430
 3230CITHER2_2,  A17N,   221,  1,     21,     21,2,19940317,2110,  9.6087, -49.3328, 4768,   1498.7,   4.5550,  34.9990,2,  34.9960,2,    229.6,2,    230.0,2,    17.60,2,    21.21,2,     1.40,2,    0.169,2,    0.094,2, -999.000,9,-999.0000,9,  -999.00,9,   -999.0,9,   -999.0,9,     7.99,2,  4.4290
 3230CITHER2_2,  A17N,   221,  1,     20,     20,2,19940317,2110,  9.6087, -49.3328, 4768,   1599.2,   4.3600,  35.0050,2,  35.0030,2,    241.1,2,    241.8,2,    16.40,2,    20.02,2,     1.32,2,    0.190,2,    0.103,2, -999.000,9,-999.0000,9,  -999.00,9,   -999.0,9,   -999.0,9,     8.00,2,  4.2260
 3230CITHER2_2,  A17N,   221,  1,     19,     19,2,19940317,2110,  9.6087, -49.3328, 4768,   1699.0,   4.1690,  35.0000,2,  35.0000,2,    246.5,2,    247.7,2,    16.30,2,    19.53,2,     1.29,2,    0.221,2,    0.118,2, -999.000,9,-999.0000,9,  -999.00,9,   -999.0,9,   -999.0,9,     8.01,2,  4.0280
 3230CITHER2_2,  A17N,   221,  1,     18,     18,2,19940317,2110,  9.6087, -49.3328, 4768,   1799.6,   3.9980,  34.9960,2,  34.9970,2,    253.6,2,    253.7,2,    16.10,2,    19.11,2,     1.25,2,    0.089,2,    0.054,2, -999.000,9,-999.0000,9,  -999.00,9,   -999.0,9,   -999.0,9,     8.01,2,  3.8500
 3230CITHER2_2,  A17N,   221,  1,     17,     17,2,19940317,2110,  9.6087, -49.3328, 4768,   2000.7,   3.6520,  34.9780,2,  34.9800,2,    253.7,2,    253.4,2,    19.40,2,    19.50,2,     1.28,2,    0.093,2,    0.055,2, -999.000,9,-999.0000,9,  -999.00,9,   -999.0,9,   -999.0,9,     8.01,2,  3.4900
 3230CITHER2_2,  A17N,   221,  1,     16,     16,2,19940317,2110,  9.6087, -49.3328, 4768,   2201.0,   3.4290,  34.9700,2,  34.9670,2,    255.2,2,    255.6,2,    21.40,2,    19.59,2,     1.29,2,    0.082,2,    0.043,2, -999.000,9,-999.0000,9,  -999.00,9,   -999.0,9,   -999.0,9,     8.02,2,  3.2510
 3230CITHER2_2,  A17N,   221,  1,     14,     14,2,19940317,2110,  9.6087, -49.3328, 4768,   2400.0,   3.2490,  34.9630,2,  34.9630,2,    258.3,2,    259.4,2,    21.80,2,    19.25,2,     1.26,2,    0.045,2,    0.025,2, -999.000,9,-999.0000,9,  -999.00,9,   -999.0,9,   -999.0,9,     8.02,2,  3.0540
 3230CITHER2_2,  A17N,   221,  1,     15,     15,2,19940317,2110,  9.6087, -49.3328, 4768,   2400.5,   3.2550,  34.9640,2,  34.9640,2,    258.3,2,    259.3,2,    21.70,2,    19.21,2,     1.26,2,    0.051,2,    0.026,2, -999.000,9,-999.0000,9,  -999.00,9,   -999.0,9,   -999.0,9,     8.02,2,  3.0600
 3230CITHER2_2,  A17N,   221,  1,     13,     13,2,19940317,2110,  9.6087, -49.3328, 4768,   2599.1,   3.0620,  34.9520,2,  34.9500,2,    258.3,2,    258.1,2,    25.30,2,    19.75,2,     1.29,2,    0.049,2,    0.025,2, -999.000,9,-999.0000,9,  -999.00,9,   -999.0,9,   -999.0,9,     8.02,2,  2.8510
 3230CITHER2_2,  A17N,   221,  1,     12,     12,2,19940317,2110,  9.6087, -49.3328, 4768,   2798.0,   2.9160,  34.9450,2,  34.9440,2,    258.4,2,    258.8,2,    26.70,2,    19.87,2,     1.30,2,    0.021,2,    0.013,2, -999.000,9,-999.0000,9,  -999.00,9,   -999.0,9,   -999.0,9,     8.02,2,  2.6880
 3230CITHER2_2,  A17N,   221,  1,     11,     11,2,19940317,2110,  9.6087, -49.3328, 4768,   3000.1,   2.8160,  34.9370,2,  34.9350,2,    256.9,2,    257.6,2,    29.20,2,    20.00,2,     1.32,2,    0.041,2,    0.021,2, -999.000,9,-999.0000,9,  -999.00,9,   -999.0,9,   -999.0,9,     8.02,2,  2.5690
 3230CITHER2_2,  A17N,   221,  1,     10,     10,2,19940317,2110,  9.6087, -49.3328, 4768,   3198.9,   2.6810,  34.9280,2,  34.9270,2,    255.8,2,    256.0,2,    32.50,2,    20.35,2,     1.35,2,    0.046,2,    0.027,2, -999.000,9,-999.0000,9,  -999.00,9,   -999.0,9,   -999.0,9,     8.01,2,  2.4160
 3230CITHER2_2,  A17N,   221,  1,      9,      9,2,19940317,2110,  9.6087, -49.3328, 4768,   3398.9,   2.5950,  34.9200,2,  34.9180,2,    256.5,2,    257.1,2,    33.50,2,    20.28,2,     1.35,2,    0.077,2,    0.041,2, -999.000,9,-999.0000,9,  -999.00,9,   -999.0,9,   -999.0,9,     8.01,2,  2.3110
 3230CITHER2_2,  A17N,   221,  1,      8,      8,2,19940317,2110,  9.6087, -49.3328, 4768,   3600.2,   2.4960,  34.9130,2,  34.9110,2,    258.2,2,    258.4,2,    34.40,2,    20.20,2,     1.34,2,    0.132,2,    0.070,2, -999.000,9,-999.0000,9,  -999.00,9,   -999.0,9,   -999.0,9,     8.01,2,  2.1930
 3230CITHER2_2,  A17N,   221,  1,      7,      7,2,19940317,2110,  9.6087, -49.3328, 4768,   3797.3,   2.4210,  34.9080,2,  34.9080,2,    262.3,2,    262.4,2,    32.40,2,    19.59,2,     1.29,2,    0.118,2,    0.064,2, -999.000,9,-999.0000,9,  -999.00,9,   -999.0,9,   -999.0,9,     8.01,2,  2.0980
 3230CITHER2_2,  A17N,   221,  1,      6,      6,2,19940317,2110,  9.6087, -49.3328, 4768,   3999.4,   2.3500,  34.9040,2,  34.9020,2,    263.8,2,    264.4,2,    32.50,2,    19.41,2,     1.29,2,    0.152,2,    0.088,2, -999.000,9,-999.0000,9,  -999.00,9,   -999.0,9,   -999.0,9,     8.02,2,  2.0060
 3230CITHER2_2,  A17N,   221,  1,      5,      5,2,19940317,2110,  9.6087, -49.3328, 4768,   4199.8,   2.3070,  34.8980,2,  34.8960,2,    262.9,2,    263.5,2,    34.00,2,    19.76,2,     1.30,2,    0.141,2,    0.078,2, -999.000,9,-999.0000,9,  -999.00,9,   -999.0,9,   -999.0,9,     8.01,2,  1.9410
 3230CITHER2_2,  A17N,   221,  1,      4,      4,2,19940317,2110,  9.6087, -49.3328, 4768,   4398.5,   2.2690,  34.8920,2,  34.8910,2,    262.5,2,    262.4,2,    35.70,2,    19.96,2,     1.32,2,    0.117,2,    0.070,2, -999.000,9,-999.0000,9,  -999.00,9,   -999.0,9,   -999.0,9,     8.01,2,  1.8810
 3230CITHER2_2,  A17N,   221,  1,      3,      3,2,19940317,2110,  9.6087, -49.3328, 4768,   4598.0,   2.1660,  34.8780,2,  34.8780,2,    258.1,2,    257.8,2,    43.40,2,    21.04,2,     1.40,2,    0.041,2,    0.026,2, -999.000,9,-999.0000,9,  -999.00,9,   -999.0,9,   -999.0,9,     8.00,2,  1.7570
 3230CITHER2_2,  A17N,   221,  1,      2,      2,2,19940317,2110,  9.6087, -49.3328, 4768,   4699.1,   2.0710,  34.8650,2,  34.8640,2,    254.4,2,    253.4,2,    50.00,2,    21.93,2,     1.47,2,    0.024,2,    0.016,2, -999.000,9,-999.0000,9,  -999.00,9,   -999.0,9,   -999.0,9,     7.99,2,  1.6530
 3230CITHER2_2,  A17N,   221,  1,      1,      1,2,19940317,2110,  9.6087, -49.3328, 4768,   4840.7,   1.8190,  34.8320,2,  34.8310,2,    244.0,2,    243.2,2,    66.40,2,    24.02,2,     1.63,2,    0.021,2,    0.010,2, -999.000,9,-999.0000,9,  -999.00,9,   -999.0,9,   -999.0,9,     7.97,2,  1.3920
 3230CITHER2_2,  A17N,   222,  1,     32,     32,2,19940318,0306,  9.1765, -49.5860, 4679,     12.0,  26.0350,  36.3150,2,  36.3170,2,    199.7,2,    204.5,2,     1.60,2,     0.00,2,     0.04,2,    1.774,2,    0.983,2, -999.000,9,-999.0000,9,  -999.00,9,   -999.0,9,   -999.0,9,     8.37,2, 26.0320
 3230CITHER2_2,  A17N,   222,  1,     31,     31,2,19940318,0306,  9.1765, -49.5860, 4679,     65.8,  24.9530,  36.2690,2,  36.2670,2,    208.3,2,    207.2,2,     1.30,2,     0.00,2,     0.01,2,    1.830,2,    1.008,2, -999.000,9,-999.0000,9,  -999.00,9,   -999.0,9,   -999.0,9,     8.37,2, 24.9390
 3230CITHER2_2,  A17N,   222,  1,     30,     30,2,19940318,0306,  9.1765, -49.5860, 4679,    126.6,  16.3280,  35.9410,2,  35.9340,2,    113.9,2,    106.0,2,     6.80,2,    18.88,2,     1.10,2,    1.273,2,    0.669,2, -999.000,9,-999.0000,9,  -999.00,9,   -999.0,9,   -999.0,9,     8.05,2, 16.3080
 3230CITHER2_2,  A17N,   222,  1,     29,     29,2,19940318,0306,  9.1765, -49.5860, 4679,    200.8,  11.7860,  35.3130,2,  35.2860,2,    104.2,2,    109.7,2,    11.50,2,    24.79,2,     1.58,2,    0.782,2,    0.428,2, -999.000,9,-999.0000,9,  -999.00,9,   -999.0,9,   -999.0,9,     7.95,2, 11.7600
 3230CITHER2_2,  A17N,   222,  1,     28,     28,2,19940318,0306,  9.1765, -49.5860, 4679,    301.4,   9.4950,  34.9460,2,  34.9440,2,    106.2,2,    107.9,2,    15.10,2,    29.12,2,     1.87,2,    0.438,2,    0.240,2, -999.000,9,-999.0000,9,  -999.00,9,   -999.0,9,   -999.0,9,     7.89,2,  9.4610
 3230CITHER2_2,  A17N,   222,  1,     27,     27,2,19940318,0306,  9.1765, -49.5860, 4679,    400.0,   8.4150,  34.8190,2,  34.8190,2,    107.5,2,    103.1,2,    18.10,2,    32.25,2,     2.06,2,    0.238,2,    0.141,2, -999.000,9,-999.0000,9,  -999.00,9,   -999.0,9,   -999.0,9,     7.85,2,  8.3730
 3230CITHER2_2,  A17N,   222,  1,     26,     26,2,19940318,0306,  9.1765, -49.5860, 4679,    700.8,   6.2470,  34.6770,2,  34.6780,2,    116.3,2,    116.4,2,    25.50,2,    34.93,2,     2.29,2,    0.040,2,    0.025,2, -999.000,9,-999.0000,9,  -999.00,9,   -999.0,9,   -999.0,9,     7.82,2,  6.1830
 3230CITHER2_2,  A17N,   222,  1,     25,     25,2,19940318,0306,  9.1765, -49.5860, 4679,    800.7,   5.8020,  34.6750,2,  34.6750,2,    117.6,2,    119.9,2,    27.10,2,    35.08,2,     2.33,2,    0.036,2,    0.021,2, -999.000,9,-999.0000,9,  -999.00,9,   -999.0,9,   -999.0,9,     7.82,2,  5.7310
 3230CITHER2_2,  A17N,   222,  1,     24,     24,2,19940318,0306,  9.1765, -49.5860, 4679,   1000.0,   5.0740,  34.7310,2,  34.7290,2,    143.7,2,    145.3,2,    28.20,2,    32.37,2,     2.18,2,    0.007,2,    0.005,2, -999.000,9,-999.0000,9,  -999.00,9,   -999.0,9,   -999.0,9,     7.86,2,  4.9900
 3230CITHER2_2,  A17N,   222,  1,     23,     23,2,19940318,0306,  9.1765, -49.5860, 4679,   1199.9,   4.9860,  34.8840,2,  34.8840,2,    183.1,2,    180.0,2,    23.90,2,    27.24,2,     1.82,2,    0.045,2,    0.027,2, -999.000,9,-999.0000,9,  -999.00,9,   -999.0,9,   -999.0,9,     7.92,2,  4.8840
 3230CITHER2_2,  A17N,   222,  1,     22,     22,2,19940318,0306,  9.1765, -49.5860, 4679,   1400.8,   4.7980,  34.9850,2,  34.9860,2,    218.1,2,    215.7,2,    18.80,2,    22.59,2,     1.48,2,    0.139,2,    0.080,2, -999.000,9,-999.0000,9,  -999.00,9,   -999.0,9,   -999.0,9,     7.97,2,  4.6780
 3230CITHER2_2,  A17N,   222,  1,     21,     21,2,19940318,0306,  9.1765, -49.5860, 4679,   1499.8,   4.5210,  34.9960,2,  34.9950,2,    229.6,2,    229.9,2,    17.60,2,    21.51,2,     1.40,2,    0.123,2,    0.074,2, -999.000,9,-999.0000,9,  -999.00,9,   -999.0,9,   -999.0,9,     7.99,2,  4.3950
 3230CITHER2_2,  A17N,   222,  1,     20,     20,2,19940318,0306,  9.1765, -49.5860, 4679,   1600.2,   4.3440,  35.0000,2,  35.0010,2,    241.0,2,    240.2,2,    16.70,2,    20.47,2,     1.33,2,    0.145,2,    0.086,2, -999.000,9,-999.0000,9,  -999.00,9,   -999.0,9,   -999.0,9,     8.00,2,  4.2100
 3230CITHER2_2,  A17N,   222,  1,     19,     19,2,19940318,0306,  9.1765, -49.5860, 4679,   1701.4,   4.1020,  34.9960,2,  34.9960,2,    247.9,2,    248.2,2,    16.50,2,    19.85,2,     1.29,2,    0.132,2,    0.077,2, -999.000,9,-999.0000,9,  -999.00,9,   -999.0,9,   -999.0,9,     8.01,2,  3.9620
 3230CITHER2_2,  A17N,   222,  1,     18,     18,2,19940318,0306,  9.1765, -49.5860, 4679,   1800.3,   3.9270,  34.9920,2,  34.9930,2,    251.5,2,    251.5,2,    17.00,2,    19.70,2,     1.27,2,    0.100,2,    0.062,2, -999.000,9,-999.0000,9,  -999.00,9,   -999.0,9,   -999.0,9,     8.01,2,  3.7800
 3230CITHER2_2,  A17N,   222,  1,     17,     17,2,19940318,0306,  9.1765, -49.5860, 4679,   1999.6,   3.6550,  34.9810,2,  34.9810,2,    255.2,2,    255.4,2,    18.50,2,    19.55,2,     1.27,2,    0.061,2,    0.034,2, -999.000,9,-999.0000,9,  -999.00,9,   -999.0,9,   -999.0,9,     8.02,2,  3.4930
 3230CITHER2_2,  A17N,   222,  1,     15,     15,2,19940318,0306,  9.1765, -49.5860, 4679,   2200.3,   3.3920,  34.9710,2,  34.9720,2,    258.6,2,    258.5,2,    20.20,2,    19.40,2,     1.25,2,    0.059,2,    0.038,2, -999.000,9,-999.0000,9,  -999.00,9,   -999.0,9,   -999.0,9,     8.02,2,  3.2140
 3230CITHER2_2,  A17N,   222,  1,     16,     16,2,19940318,0306,  9.1765, -49.5860, 4679,   2201.0,   3.3940,  34.9720,2,  34.9660,2,    258.6,2,    258.3,2,    20.20,2,    19.40,2,     1.25,2,    0.059,2,    0.033,2, -999.000,9,-999.0000,9,  -999.00,9,   -999.0,9,   -999.0,9,     8.02,2,  3.2160
 3230CITHER2_2,  A17N,   222,  1,     14,     14,2,19940318,0306,  9.1765, -49.5860, 4679,   2399.1,   3.1960,  34.9620,2,  34.9610,2,    260.0,2,    260.5,2,    21.50,2,    19.25,2,     1.25,2,    0.069,2,    0.040,2, -999.000,9,-999.0000,9,  -999.00,9,   -999.0,9,   -999.0,9,     8.02,2,  3.0020
 3230CITHER2_2,  A17N,   222,  1,     13,     13,2,19940318,0306,  9.1765, -49.5860, 4679,   2599.4,   3.0400,  34.9540,2,  34.9520,2,    259.6,2,    262.4,2,    23.60,2,    19.41,2,     1.26,2,    0.063,2,    0.037,2, -999.000,9,-999.0000,9,  -999.00,9,   -999.0,9,   -999.0,9,     8.02,2,  2.8290
 3230CITHER2_2,  A17N,   222,  1,     12,     12,2,19940318,0306,  9.1765, -49.5860, 4679,   2798.9,   2.9030,  34.9440,2,  34.9420,2,    257.3,2,    257.6,2,    27.40,2,    19.99,2,     1.29,2,    0.042,2,    0.021,2, -999.000,9,-999.0000,9,  -999.00,9,   -999.0,9,   -999.0,9,     8.02,2,  2.6750
 3230CITHER2_2,  A17N,   222,  1,     11,     11,2,19940318,0306,  9.1765, -49.5860, 4679,   3000.1,   2.7630,  34.9330,2,  34.9310,2,    256.0,2,    256.1,2,    30.70,2,    20.39,2,     1.33,2,    0.033,2,    0.021,2, -999.000,9,-999.0000,9,  -999.00,9,   -999.0,9,   -999.0,9,     8.01,2,  2.5170
 3230CITHER2_2,  A17N,   222,  1,     10,     10,2,19940318,0306,  9.1765, -49.5860, 4679,   3199.8,   2.6540,  34.9250,2,  34.9270,2,    255.1,2,    256.6,2,    32.30,2,    20.43,2,     1.34,2,    0.037,2,    0.021,2, -999.000,9,-999.0000,9,  -999.00,9,   -999.0,9,   -999.0,9,     8.01,2,  2.3900
 3230CITHER2_2,  A17N,   222,  1,      9,      9,2,19940318,0306,  9.1765, -49.5860, 4679,   3398.5,   2.5550,  34.9200,2,  34.9190,2,    256.7,2,    256.5,2,    30.90,2,    19.81,2,     1.30,2,    0.084,2,    0.048,2, -999.000,9,-999.0000,9,  -999.00,9,   -999.0,9,   -999.0,9,     8.02,2,  2.2720
 3230CITHER2_2,  A17N,   222,  1,      8,      8,2,19940318,0306,  9.1765, -49.5860, 4679,   3598.3,   2.4330,  34.9090,2,  34.9090,2,    260.4,2,    261.7,2,    32.40,2,    19.89,2,     1.29,2,    0.078,2,    0.047,2, -999.000,9,-999.0000,9,  -999.00,9,   -999.0,9,   -999.0,9,     8.01,2,  2.1320
 3230CITHER2_2,  A17N,   222,  1,      7,      7,2,19940318,0306,  9.1765, -49.5860, 4679,   3800.6,   2.3500,  34.9050,2,  34.9060,2,    262.6,2,    264.6,2,    31.80,2,    19.59,2,     1.28,2,    0.113,2,    0.065,2, -999.000,9,-999.0000,9,  -999.00,9,   -999.0,9,   -999.0,9,     8.02,2,  2.0280
 3230CITHER2_2,  A17N,   222,  1,      6,      6,2,19940318,0306,  9.1765, -49.5860, 4679,   3999.8,   2.2950,  34.8980,2,  34.9010,2,    263.1,2,    264.5,2,    32.80,2,    19.67,2,     1.29,2,    0.119,2,    0.068,2, -999.000,9,-999.0000,9,  -999.00,9,   -999.0,9,   -999.0,9,     8.01,2,  1.9520
 3230CITHER2_2,  A17N,   222,  1,      5,      5,2,19940318,0306,  9.1765, -49.5860, 4679,   4197.3,   2.2670,  34.8950,2,  34.8940,2,    262.4,2,    263.6,2,    34.50,2,    19.87,2,     1.30,2,    0.110,2,    0.066,2, -999.000,9,-999.0000,9,  -999.00,9,   -999.0,9,   -999.0,9,     8.01,2,  1.9030
 3230CITHER2_2,  A17N,   222,  1,      4,      4,2,19940318,0306,  9.1765, -49.5860, 4679,   4398.5,   2.2320,  34.8880,2,  34.8910,2,    261.3,2,    262.0,2,    37.00,2,    20.30,2,     1.33,2,    0.117,2,    0.071,2, -999.000,9,-999.0000,9,  -999.00,9,   -999.0,9,   -999.0,9,     8.01,2,  1.8450
 3230CITHER2_2,  A17N,   222,  1,      3,      3,2,19940318,0306,  9.1765, -49.5860, 4679,   4597.6,   2.1630,  34.8780,2,  34.8800,2,    257.0,2,    257.2,2,    43.20,2,    21.00,2,     1.39,2,    0.084,2,    0.055,2, -999.000,9,-999.0000,9,  -999.00,9,   -999.0,9,   -999.0,9,     8.00,2,  1.7540
 3230CITHER2_2,  A17N,   222,  1,      2,      2,2,19940318,0306,  9.1765, -49.5860, 4679,   4699.7,   2.0360,  34.8600,2,  34.8610,2,    253.2,2,    251.6,2,    52.80,2,    22.36,2,     1.48,2,    0.045,2,    0.035,2, -999.000,9,-999.0000,9,  -999.00,9,   -999.0,9,   -999.0,9,     7.99,2,  1.6190
 3230CITHER2_2,  A17N,   222,  1,      1,      1,2,19940318,0306,  9.1765, -49.5860, 4679,   4742.5,   1.8480,  34.8360,2,  34.8370,2,    249.2,2,    244.6,2,    65.20,2,    23.96,2,     1.61,2,    0.028,2,    0.021,2, -999.000,9,-999.0000,9,  -999.00,9,   -999.0,9,   -999.0,9,     7.98,2,  1.4320