BOTTLE,20030515WHPSIOSA
EXPOCODE,SECT_ID,STNNBR,CASTNO,SAMPNO,BTLNBR,BTLNBR_FLAG_W,DATE,TIME,LATITUDE,LONGITUDE,DEPTH,CTDPRS,CTDTMP,CTDSAL,CTDSAL_FLAG_W,SALNTY,SALNTY_FLAG_W,CTDOXY,CTDOXY_FLAG_W,OXYGEN,OXYGEN_FLAG_W,SILCAT,SILCAT_FLAG_W,NITRAT,NITRAT_FLAG_W,PHSPHT,PHSPHT_FLAG_W,CFC-11,CFC-11_FLAG_W,CFC-12,CFC-12_FLAG_W,TRITUM,TRITUM_FLAG_W,HELIUM,HELIUM_FLAG_W,DELHE3,DELHE3_FLAG_W,TCARBN,TCARBN_FLAG_W,ALKALI,ALKALI_FLAG_W,PH,PH_FLAG_W,THETA
,,,,,,,,,,,,DBAR,ITS-90,PSS-78,,PSS-78,,UMOL/KG,,UMOL/KG,,UMOL/KG,,UMOL/KG,,UMOL/KG,,PMOL/KG,,PMOL/KG,,TU,,NMOL/KG,,PERCNT,,UMOL/KG,,UMOL/KG,,,,DEG C
 3230CITHER2_1,  A17C,    62,  1,     32,     32,2,19940128,1155,-34.8182, -43.2055, 4791,      7.3,  21.7930,  35.7670,2,  35.7730,2,    222.6,2,    222.7,2,     1.40,2,     0.04,2,     0.05,2,    2.288,2,    1.312,2, -999.000,9,-999.0000,9,  -999.00,9,   -999.0,9,   -999.0,9,     8.34,2, 21.7920
 3230CITHER2_1,  A17C,    62,  1,     31,     31,2,19940128,1155,-34.8182, -43.2055, 4791,     36.0,  21.7260,  35.7710,2,  35.7790,2,    226.7,2,    222.6,2,     1.40,2,     0.04,2,     0.05,2,    2.307,2,    1.323,2, -999.000,9,-999.0000,9,  -999.00,9,   -999.0,9,   -999.0,9,     8.34,2, 21.7190
 3230CITHER2_1,  A17C,    62,  1,     30,     30,2,19940128,1155,-34.8182, -43.2055, 4791,     99.3,  17.6800,  36.0550,2,  36.0610,2,    214.1,2,    212.7,2,     1.50,2,     2.26,2,     0.25,2,    2.580,2,    1.457,2, -999.000,9,-999.0000,9,  -999.00,9,   -999.0,9,   -999.0,9,     8.26,2, 17.6630
 3230CITHER2_1,  A17C,    62,  1,     29,     29,2,19940128,1155,-34.8182, -43.2055, 4791,    198.6,  15.5470,  35.7070,2,  35.7080,2,    216.2,2,    214.9,2,     2.00,2,     5.53,2,     0.46,2,    2.694,2,    1.483,2, -999.000,9,-999.0000,9,  -999.00,9,   -999.0,9,   -999.0,9,     8.22,2, 15.5160
 3230CITHER2_1,  A17C,    62,  1,     28,     28,2,19940128,1155,-34.8182, -43.2055, 4791,    298.7,  14.2970,  35.5220,2,  35.5190,2,    220.1,2,    220.1,2,     2.50,2,     7.63,2,     0.59,2,    2.747,2,    1.510,2, -999.000,9,-999.0000,9,  -999.00,9,   -999.0,9,   -999.0,9,     8.19,2, 14.2530
 3230CITHER2_1,  A17C,    62,  1,     27,     27,2,19940128,1155,-34.8182, -43.2055, 4791,    401.0,  11.5940,  35.0450,2,  35.0340,2,    213.3,2,    219.9,2,     4.10,2,    13.29,2,     0.95,2,    2.758,2,    1.474,2, -999.000,9,-999.0000,9,  -999.00,9,   -999.0,9,   -999.0,9,     8.12,2, 11.5420
 3230CITHER2_1,  A17C,    62,  1,     26,     26,2,19940128,1155,-34.8182, -43.2055, 4791,    499.5,   7.8590,  34.5160,2,  34.5150,2,    222.8,2,    226.5,2,     8.40,2,    21.21,2,     1.49,2,    2.812,2,    1.457,2, -999.000,9,-999.0000,9,  -999.00,9,   -999.0,9,   -999.0,9,     8.02,2,  7.8080
 3230CITHER2_1,  A17C,    62,  1,     25,     25,2,19940128,1155,-34.8182, -43.2055, 4791,    600.4,   4.9880,  34.1700,2,  34.1750,2,    268.9,2,    275.2,2,     9.60,2,    23.80,2,     1.67,2,    4.738,2,    2.303,2, -999.000,9,-999.0000,9,  -999.00,9,   -999.0,9,   -999.0,9,     8.00,2,  4.9400
 3230CITHER2_1,  A17C,    62,  1,     24,     24,2,19940128,1155,-34.8182, -43.2055, 4791,    701.0,   4.7020,  34.1650,2,  34.1690,2,    279.2,2,    279.9,2,    10.70,2,    24.18,2,     1.70,2,    4.748,2,    2.328,2, -999.000,9,-999.0000,9,  -999.00,9,   -999.0,9,   -999.0,9,     8.00,2,  4.6470
 3230CITHER2_1,  A17C,    62,  1,     23,     23,2,19940128,1155,-34.8182, -43.2055, 4791,    800.0,   4.7090,  34.2080,2,  34.2130,2,    274.0,2,    268.0,2,    13.10,2,    25.49,2,     1.78,2,    3.938,2,    1.948,2, -999.000,9,-999.0000,9,  -999.00,9,   -999.0,9,   -999.0,9,     7.98,2,  4.6460
 3230CITHER2_1,  A17C,    62,  1,     22,     22,2,19940128,1155,-34.8182, -43.2055, 4791,    899.9,   4.4250,  34.2370,2,  34.2360,2,    254.5,2,    254.0,2,    17.10,2,    27.21,2,     1.88,2,    3.106,2,    1.545,2, -999.000,9,-999.0000,9,  -999.00,9,   -999.0,9,   -999.0,9,     7.96,2,  4.3550
 3230CITHER2_1,  A17C,    62,  1,     21,     21,2,19940128,1155,-34.8182, -43.2055, 4791,    999.0,   4.0020,  34.2570,2,  34.2570,2,    240.7,2,    241.1,2,    23.60,2,    29.28,2,     2.02,2,    2.146,2,    1.089,2, -999.000,9,-999.0000,9,  -999.00,9,   -999.0,9,   -999.0,9,     7.93,2,  3.9270
 3230CITHER2_1,  A17C,    62,  1,     20,     20,2,19940128,1155,-34.8182, -43.2055, 4791,   1199.8,   3.2610,  34.3330,2,  34.3320,2,    211.9,2,    213.7,2,    38.80,2,    32.00,2,     2.21,2,    0.846,2,    0.455,2, -999.000,9,-999.0000,9,  -999.00,9,   -999.0,9,   -999.0,9,     7.89,2,  3.1760
 3230CITHER2_1,  A17C,    62,  1,     19,     19,2,19940128,1155,-34.8182, -43.2055, 4791,   1399.2,   2.9030,  34.4540,2,  34.4570,2,    193.4,2,    192.2,2,    53.30,2,    33.13,2,     2.29,2,    0.487,2,    0.264,2, -999.000,9,-999.0000,9,  -999.00,9,   -999.0,9,   -999.0,9,     7.86,2,  2.8110
 3230CITHER2_1,  A17C,    62,  1,     18,     18,2,19940128,1155,-34.8182, -43.2055, 4791,   1399.5,   2.9090,  34.4580,2,  34.4550,2,    193.4,2,    192.6,2,    53.30,2,    33.08,2,     2.29,2,    0.488,2,    0.259,2, -999.000,9,-999.0000,9,  -999.00,9,   -999.0,9,   -999.0,9,     7.86,2,  2.8050
 3230CITHER2_1,  A17C,    62,  1,     17,     17,2,19940128,1155,-34.8182, -43.2055, 4791,   1598.8,   2.9180,  34.5920,2,  34.5910,2,    185.1,2,    186.4,2,    57.50,2,    32.07,2,     2.23,2,    0.168,2,    0.109,2, -999.000,9,-999.0000,9,  -999.00,9,   -999.0,9,   -999.0,9,     7.86,2,  2.8030
 3230CITHER2_1,  A17C,    62,  1,     16,     16,2,19940128,1155,-34.8182, -43.2055, 4791,   1798.4,   3.1390,  34.7310,2,  34.7320,2,    194.0,2,    197.5,2,    50.60,2,    29.20,2,     1.98,2,    0.064,2,    0.054,2, -999.000,9,-999.0000,9,  -999.00,9,   -999.0,9,   -999.0,9,     7.90,2,  3.0030
 3230CITHER2_1,  A17C,    62,  1,     15,     15,2,19940128,1155,-34.8182, -43.2055, 4791,   1997.3,   3.3480,  34.8380,2,  34.8370,2,    214.5,2,    217.1,2,    39.30,2,    25.23,2,     1.73,2,    0.023,2,    0.028,2, -999.000,9,-999.0000,9,  -999.00,9,   -999.0,9,   -999.0,9,     7.94,2,  3.1910
 3230CITHER2_1,  A17C,    62,  1,     14,     14,2,19940128,1155,-34.8182, -43.2055, 4791,   2202.8,   3.3920,  34.9030,2,  34.9060,2,    234.2,2,    235.2,2,    31.50,2,    22.63,2,     1.52,2,    0.018,2,    0.023,2, -999.000,9,-999.0000,9,  -999.00,9,   -999.0,9,   -999.0,9,     7.97,2,  3.2140
 3230CITHER2_1,  A17C,    62,  1,     13,     13,2,19940128,1155,-34.8182, -43.2055, 4791,   2400.3,   3.3290,  34.9280,2,  34.9290,2,    243.0,2,    244.2,2,    28.60,2,    21.38,2,     1.43,2,    0.018,2,    0.024,2, -999.000,9,-999.0000,9,  -999.00,9,   -999.0,9,   -999.0,9,     7.99,2,  3.1330
 3230CITHER2_1,  A17C,    62,  1,     12,     12,2,19940128,1155,-34.8182, -43.2055, 4791,   2598.9,   3.0700,  34.9090,2,  34.9100,2,    240.9,2,    241.2,2,    35.30,2,    22.19,2,     1.48,2,    0.024,2,    0.018,2, -999.000,9,-999.0000,9,  -999.00,9,   -999.0,9,   -999.0,9,     7.98,2,  2.8590
 3230CITHER2_1,  A17C,    62,  1,     11,     11,2,19940128,1155,-34.8182, -43.2055, 4791,   2797.3,   2.8510,  34.9030,2,  34.9060,2,    241.8,2,    241.9,2,    39.00,2,    22.20,2,     1.50,2,    0.016,2,    0.014,2, -999.000,9,-999.0000,9,  -999.00,9,   -999.0,9,   -999.0,9,     7.98,2,  2.6240
 3230CITHER2_1,  A17C,    62,  1,     10,     10,2,19940128,1155,-34.8182, -43.2055, 4791,   2999.1,   2.6740,  34.8970,2,  34.8970,2,    247.2,2,    243.7,2,    41.80,2,    22.24,2,     1.50,2,    0.016,2,    0.016,2, -999.000,9,-999.0000,9,  -999.00,9,   -999.0,9,   -999.0,9,     7.99,2,  2.4310
 3230CITHER2_1,  A17C,    62,  1,      9,      9,2,19940128,1155,-34.8182, -43.2055, 4791,   3299.4,   1.8800,  34.7960,2,  34.7960,2,    216.8,2,    219.1,2,    80.10,2,    27.73,2,     1.89,2,    0.034,2,    0.030,2, -999.000,9,-999.0000,9,  -999.00,9,   -999.0,9,   -999.0,9,     7.93,2,  1.6240
 3230CITHER2_1,  A17C,    62,  1,      8,      8,2,19940128,1155,-34.8182, -43.2055, 4791,   3598.7,   1.2390,  34.7400,2,  34.7430,2,    210.5,2,    212.9,2,   104.20,2,    30.76,2,     2.09,2,    0.067,2,    0.042,2, -999.000,9,-999.0000,9,  -999.00,9,   -999.0,9,   -999.0,9,     7.89,2,  0.9690
 3230CITHER2_1,  A17C,    62,  1,      7,      7,2,19940128,1155,-34.8182, -43.2055, 4791,   3796.5,   0.9310,  34.7150,2,  34.7220,2,    212.5,2,    213.2,2,   112.90,2,    31.55,2,     2.16,2,    0.099,2,    0.064,2, -999.000,9,-999.0000,9,  -999.00,9,   -999.0,9,   -999.0,9,     7.89,2,  0.6490
 3230CITHER2_1,  A17C,    62,  1,      6,      6,2,19940128,1155,-34.8182, -43.2055, 4791,   3996.7,   0.5800,  34.6940,2,  34.6950,2,    213.4,2,    216.3,2,   122.20,2,    32.54,2,     2.23,2,    0.103,2,    0.066,2, -999.000,9,-999.0000,9,  -999.00,9,   -999.0,9,   -999.0,9,     7.88,2,  0.2870
 3230CITHER2_1,  A17C,    62,  1,      5,      5,2,19940128,1155,-34.8182, -43.2055, 4791,   4196.7,   0.3660,  34.6810,2,  34.6810,2,    217.0,2,    219.4,2,   125.80,2,    32.95,2,     2.26,2,    0.112,2,    0.064,2, -999.000,9,-999.0000,9,  -999.00,9,   -999.0,9,   -999.0,9,     7.87,2,  0.0590
 3230CITHER2_1,  A17C,    62,  1,      4,      4,2,19940128,1155,-34.8182, -43.2055, 4791,   4397.7,   0.2650,  34.6760,2,  34.6750,2,    219.9,2,    221.8,2,   127.60,2,    33.26,2,     2.26,2,    0.118,2,    0.072,2, -999.000,9,-999.0000,9,  -999.00,9,   -999.0,9,   -999.0,9,     7.87,2, -0.0600
 3230CITHER2_1,  A17C,    62,  1,      3,      3,2,19940128,1155,-34.8182, -43.2055, 4791,   4597.4,   0.2160,  34.6720,2,  34.6750,2,    221.6,2,    222.9,2,   127.70,2,    33.06,2,     2.27,2,    0.132,2,    0.080,2, -999.000,9,-999.0000,9,  -999.00,9,   -999.0,9,   -999.0,9,     7.87,2, -0.1290
 3230CITHER2_1,  A17C,    62,  1,      2,      2,2,19940128,1155,-34.8182, -43.2055, 4791,   4800.2,   0.1960,  34.6710,2,  34.6710,2,    221.5,2,    222.8,2,   130.10,2,    33.32,2,     2.28,2,    0.152,2,    0.093,2, -999.000,9,-999.0000,9,  -999.00,9,   -999.0,9,   -999.0,9,     7.87,2, -0.1710
 3230CITHER2_1,  A17C,    62,  1,      1,      1,2,19940128,1155,-34.8182, -43.2055, 4791,   4864.0,   0.1980,  34.6710,2,  34.6720,2,    221.2,2,    222.0,2,   130.10,2,    33.18,2,     2.29,2,    0.166,2,    0.106,2, -999.000,9,-999.0000,9,  -999.00,9,   -999.0,9,   -999.0,9,     7.87,2, -0.1760
 3230CITHER2_1,  A17C,    63,  1,     32,     32,2,19940128,1804,-34.4190, -42.8520, 4651,      8.1,  21.4560,  35.6610,2,  35.6740,2,    217.0,2,    224.6,2,     1.00,2,     0.04,2,     0.07,2,    2.323,2,    1.292,2, -999.000,9,-999.0000,9,  -999.00,9,   2032.9,2,   2360.8,2,     8.33,2, 21.4540
 3230CITHER2_1,  A17C,    63,  1,     31,     31,2,19940128,1804,-34.4190, -42.8520, 4651,     51.1,  21.1680,  35.6990,2,  35.6880,2,    229.1,2,    226.1,2,     1.00,2,     0.04,2,     0.07,2,    2.354,2,    1.310,2, -999.000,9,-999.0000,9,  -999.00,9,   2034.3,2,   2361.2,2,     8.33,2, 21.1580
 3230CITHER2_1,  A17C,    63,  1,     30,     30,2,19940128,1804,-34.4190, -42.8520, 4651,    100.9,  17.4550,  35.9550,2,  35.9490,2,    215.5,2,    213.6,2,     1.90,2,     2.31,2,     0.28,2,    2.587,2,    1.413,2, -999.000,9,-999.0000,9,  -999.00,9,   2082.6,2,   2371.4,2,     8.25,2, 17.4380
 3230CITHER2_1,  A17C,    63,  1,     29,     29,2,19940128,1804,-34.4190, -42.8520, 4651,    202.5,  15.3200,  35.6740,2,  35.6850,2,    215.3,2,    215.1,2,     2.30,2,     5.89,2,     0.50,2,    2.642,2,    1.416,2, -999.000,9,-999.0000,9,  -999.00,9,   2093.8,2,   2356.1,2,     8.22,2, 15.2890
 3230CITHER2_1,  A17C,    63,  1,     28,     28,2,19940128,1804,-34.4190, -42.8520, 4651,    301.2,  14.2140,  35.4810,2,  35.4870,2,    218.1,2,    216.0,2,     2.70,2,     7.84,2,     0.62,2,    2.662,2,    1.415,2, -999.000,9,-999.0000,9,  -999.00,9,   2099.7,2,   2344.9,2,     8.19,2, 14.1700
 3230CITHER2_1,  A17C,    63,  1,     27,     27,2,19940128,1804,-34.4190, -42.8520, 4651,    401.2,  12.2360,  35.1250,2,  35.1400,2,    217.4,2,    213.9,2,     3.90,2,    12.27,2,     0.90,2,    2.598,2,    1.359,2, -999.000,9,-999.0000,9,  -999.00,9,   2111.8,2,   2327.6,2,     8.13,2, 12.1820
 3230CITHER2_1,  A17C,    63,  1,     26,     26,2,19940128,1804,-34.4190, -42.8520, 4651,    501.9,   9.7140,  34.7620,2,  34.7680,2,    211.4,2,    209.2,2,     6.90,2,    18.40,2,     1.30,2,    2.322,2,    1.202,2, -999.000,9,-999.0000,9,  -999.00,9,   2131.4,2,   2309.1,2,     8.05,2,  9.6560
 3230CITHER2_1,  A17C,    63,  1,     25,     25,2,19940128,1804,-34.4190, -42.8520, 4651,    601.0,   7.2010,  34.4680,2,  34.4720,2,    223.4,2,    224.6,2,    10.10,2,    22.95,2,     1.61,2,    2.533,2,    1.279,2, -999.000,9,-999.0000,9,  -999.00,9,   2144.5,2,   2298.9,2,     8.00,2,  7.1430
 3230CITHER2_1,  A17C,    63,  1,     24,     24,2,19940128,1804,-34.4190, -42.8520, 4651,    701.1,   5.3980,  34.2880,2,  34.2880,2,    246.2,2,    249.9,2,    12.60,2,    25.45,2,     1.77,2,    3.143,2,    1.556,2, -999.000,9,-999.0000,9,  -999.00,9,   2147.6,2,   2292.8,2,     7.98,2,  5.3390
 3230CITHER2_1,  A17C,    63,  1,     23,     23,2,19940128,1804,-34.4190, -42.8520, 4651,    801.0,   4.6420,  34.2430,2,  34.2450,2,    255.4,2,    257.3,2,    15.70,2,    26.76,2,     1.86,2,    3.134,2,    1.529,2, -999.000,9,-999.0000,9,  -999.00,9,   2154.2,2,   2295.1,2,     7.96,2,  4.5790
 3230CITHER2_1,  A17C,    63,  1,     22,     22,2,19940128,1804,-34.4190, -42.8520, 4651,    900.1,   4.0950,  34.2390,2,  34.2420,2,    251.3,2,    249.4,2,    20.70,2,    28.53,2,     1.98,2,    2.575,2,    1.280,2, -999.000,9,-999.0000,9,  -999.00,9,   2164.0,2,   2299.3,2,     7.94,2,  4.0270
 3230CITHER2_1,  A17C,    63,  1,     21,     21,2,19940128,1804,-34.4190, -42.8520, 4651,    999.6,   3.6590,  34.2510,2,  34.2500,2,    243.5,2,    240.8,2,    26.60,2,    30.20,2,     2.08,2,    2.055,2,    1.027,2, -999.000,9,-999.0000,9,  -999.00,9,   2177.7,2,   2304.5,2,     7.92,2,  3.5860
 3230CITHER2_1,  A17C,    63,  1,     19,     19,2,19940128,1804,-34.4190, -42.8520, 4651,   1199.8,   3.2080,  34.3470,2,  34.3450,2,    211.9,2,    210.2,2,    40.40,2,    32.82,2,     2.24,2,    0.710,2,    0.373,2, -999.000,9,-999.0000,9,  -999.00,9,   2205.6,2,   2318.8,2,     7.88,2,  3.1230
 3230CITHER2_1,  A17C,    63,  1,     20,     20,2,19940128,1804,-34.4190, -42.8520, 4651,   1200.3,   3.2180,  34.3460,2,  34.3460,2,    211.9,2,    210.6,2,    40.40,2,    32.62,2,     2.24,2,    0.705,2,    0.377,2, -999.000,9,-999.0000,9,  -999.00,9,   -999.0,5,   2318.8,2,     7.88,2,  3.1330
 3230CITHER2_1,  A17C,    63,  1,     18,     18,2,19940128,1804,-34.4190, -42.8520, 4651,   1400.6,   2.8580,  34.4580,2,  34.4510,2,    193.7,2,    192.2,2,    53.80,2,    33.63,2,     2.31,2,    0.489,2,    0.249,2, -999.000,9,-999.0000,9,  -999.00,9,   2227.1,2,   2331.8,2,     7.85,2,  2.7600
 3230CITHER2_1,  A17C,    63,  1,     17,     17,2,19940128,1804,-34.4190, -42.8520, 4651,   1599.1,   2.9770,  34.5990,2,  34.5980,2,    185.2,2,    186.9,2,    55.50,2,    32.32,2,     2.21,2,    0.160,2,    0.089,2, -999.000,9,-999.0000,9,  -999.00,9,   2229.9,2,   2338.4,2,     7.86,2,  2.8610
 3230CITHER2_1,  A17C,    63,  1,     16,     16,2,19940128,1804,-34.4190, -42.8520, 4651,   1800.2,   3.1560,  34.7310,2,  34.7320,2,    194.7,2,    197.1,2,    49.60,2,    29.39,2,     1.99,2,    0.066,2,    0.042,2, -999.000,9,-999.0000,9,  -999.00,9,   2219.1,2,   2340.4,2,     7.89,2,  3.0200
 3230CITHER2_1,  A17C,    63,  1,     15,     15,2,19940128,1804,-34.4190, -42.8520, 4651,   1999.2,   3.2560,  34.8210,2,  34.8210,2,    212.8,2,    212.8,2,    42.60,2,    26.46,2,     1.79,2,    0.035,2,    0.027,2, -999.000,9,-999.0000,9,  -999.00,9,   2204.6,2,   2338.8,2,     7.93,2,  3.1000
 3230CITHER2_1,  A17C,    63,  1,     14,     14,2,19940128,1804,-34.4190, -42.8520, 4651,   2200.6,   3.3360,  34.8900,2,  34.8920,2,    230.3,2,    231.0,2,    34.10,2,    23.28,2,     1.58,2,    0.024,2,    0.018,2, -999.000,9,-999.0000,9,  -999.00,9,   2188.0,2,   2335.8,2,     7.96,2,  3.1600
 3230CITHER2_1,  A17C,    63,  1,     13,     13,2,19940128,1804,-34.4190, -42.8520, 4651,   2397.9,   3.2990,  34.9180,2,  34.9180,2,    239.6,2,    240.3,2,    30.80,2,    22.14,2,     1.48,2,    0.020,2,    0.013,2, -999.000,9,-999.0000,9,  -999.00,9,   2181.3,2,   2335.5,2,     7.98,2,  3.1040
 3230CITHER2_1,  A17C,    63,  1,     12,     12,2,19940128,1804,-34.4190, -42.8520, 4651,   2598.5,   3.1740,  34.9260,2,  34.9210,2,    246.4,2,    244.2,2,    31.50,2,    21.90,2,     1.46,2,    0.015,2,    0.017,2, -999.000,9,-999.0000,9,  -999.00,9,   2181.2,2,   2337.8,2,     7.99,2,  2.9610
 3230CITHER2_1,  A17C,    63,  1,     11,     11,2,19940128,1804,-34.4190, -42.8520, 4651,   2799.6,   2.9120,  34.9050,2,  34.9070,2,    241.4,2,    241.9,2,    37.30,2,    22.42,2,     1.51,2,    0.021,2,    0.018,2, -999.000,9,-999.0000,9,  -999.00,9,   2187.3,2,   2340.1,2,     7.98,2,  2.6840
 3230CITHER2_1,  A17C,    63,  1,     10,     10,2,19940128,1804,-34.4190, -42.8520, 4651,   2998.9,   2.5020,  34.8470,2,  34.8510,2,    228.8,2,    227.8,2,    55.90,2,    25.45,2,     1.72,2,    0.023,2,    0.018,2, -999.000,9,-999.0000,9,  -999.00,9,   2209.4,2,   2350.7,2,     7.95,2,  2.2630
 3230CITHER2_1,  A17C,    63,  1,      9,      9,2,19940128,1804,-34.4190, -42.8520, 4651,   3198.7,   2.2160,  34.8280,2,  34.8290,2,    231.2,2,    224.3,2,    65.40,2,    26.36,2,     1.78,2,    0.028,2,    0.021,2, -999.000,9,-999.0000,9,  -999.00,9,   2216.9,2,   2355.7,2,     7.94,2,  1.9630
 3230CITHER2_1,  A17C,    63,  1,      8,      8,2,19940128,1804,-34.4190, -42.8520, 4651,   3398.4,   1.7680,  34.7930,2,  34.7930,2,    221.2,2,    221.0,2,    81.20,2,    28.02,2,     1.90,2,    0.040,2,    0.025,2, -999.000,9,-999.0000,9,  -999.00,9,   2228.9,2,   2361.9,2,     7.92,2,  1.5050
 3230CITHER2_1,  A17C,    63,  1,      7,      7,2,19940128,1804,-34.4190, -42.8520, 4651,   3596.5,   1.3170,  34.7560,2,  34.7590,2,    218.0,2,    218.1,2,    96.90,2,    30.20,2,     2.03,2,    0.058,2,    0.036,2, -999.000,9,-999.0000,9,  -999.00,9,   2242.1,2,   2368.5,2,     7.91,2,  1.0450
 3230CITHER2_1,  A17C,    63,  1,      6,      6,2,19940128,1804,-34.4190, -42.8520, 4651,   3798.2,   0.8500,  34.7110,2,  34.7130,2,    212.9,2,    213.7,2,   114.10,2,    31.91,2,     2.19,2,    0.088,2,    0.056,2, -999.000,9,-999.0000,9,  -999.00,9,   2256.2,2,   2372.5,2,     7.88,2,  0.5700
 3230CITHER2_1,  A17C,    63,  1,      5,      5,2,19940128,1804,-34.4190, -42.8520, 4651,   3999.7,   0.4860,  34.6880,2,  34.6880,2,    214.7,2,    216.7,2,   122.20,2,    32.97,2,     2.26,2,    0.115,2,    0.070,2, -999.000,9,-999.0000,9,  -999.00,9,   2261.3,2,   2376.0,2,     7.87,2,  0.1960
 3230CITHER2_1,  A17C,    63,  1,      4,      4,2,19940128,1804,-34.4190, -42.8520, 4651,   4197.2,   0.3110,  34.6780,2,  34.6810,2,    217.9,2,    220.3,2,   124.90,2,    33.23,2,     2.29,2,    0.106,2,    0.068,2, -999.000,9,-999.0000,9,  -999.00,9,   2262.4,2,   2376.5,2,     7.87,2,  0.0060
 3230CITHER2_1,  A17C,    63,  1,      3,      3,2,19940128,1804,-34.4190, -42.8520, 4651,   4397.0,   0.2220,  34.6750,2,  34.6780,2,    220.5,2,    222.3,2,   126.60,2,    33.18,2,     2.28,2,    0.124,2,    0.071,2, -999.000,9,-999.0000,9,  -999.00,9,   2263.5,2,   2378.1,2,     7.87,2, -0.1020
 3230CITHER2_1,  A17C,    63,  1,      2,      2,2,19940128,1804,-34.4190, -42.8520, 4651,   4598.1,   0.1860,  34.6720,2,  34.6740,2,    221.4,2,    223.0,2,   128.20,2,    33.03,2,     2.29,2,    0.142,2,    0.084,2, -999.000,9,-999.0000,9,  -999.00,9,   2265.2,2,   2382.2,2,     7.86,2, -0.1580
 3230CITHER2_1,  A17C,    63,  1,      1,      1,2,19940128,1804,-34.4190, -42.8520, 4651,   4712.5,   0.1800,  34.6710,2,  34.6730,2,    220.9,2,    222.6,2,   129.40,2,    33.43,2,     2.29,2,    0.161,2,    0.097,2, -999.000,9,-999.0000,9,  -999.00,9,   2266.0,2,   2379.9,2,     7.87,2, -0.1770