BOTTLE,20030515WHPSIOSA
EXPOCODE,SECT_ID,STNNBR,CASTNO,SAMPNO,BTLNBR,BTLNBR_FLAG_W,DATE,TIME,LATITUDE,LONGITUDE,DEPTH,CTDPRS,CTDTMP,CTDSAL,CTDSAL_FLAG_W,SALNTY,SALNTY_FLAG_W,CTDOXY,CTDOXY_FLAG_W,OXYGEN,OXYGEN_FLAG_W,SILCAT,SILCAT_FLAG_W,NITRAT,NITRAT_FLAG_W,PHSPHT,PHSPHT_FLAG_W,CFC-11,CFC-11_FLAG_W,CFC-12,CFC-12_FLAG_W,TRITUM,TRITUM_FLAG_W,HELIUM,HELIUM_FLAG_W,DELHE3,DELHE3_FLAG_W,TCARBN,TCARBN_FLAG_W,ALKALI,ALKALI_FLAG_W,PH,PH_FLAG_W,THETA
,,,,,,,,,,,,DBAR,ITS-90,PSS-78,,PSS-78,,UMOL/KG,,UMOL/KG,,UMOL/KG,,UMOL/KG,,UMOL/KG,,PMOL/KG,,PMOL/KG,,TU,,NMOL/KG,,PERCNT,,UMOL/KG,,UMOL/KG,,,,DEG C
 3230CITHER2_1,  A17C,    88,  1,     32,     32,2,19940203,1851,-24.6270, -34.1983, 4625,      4.5,  28.0970,  36.4320,2,  36.4320,2,    195.8,2,    201.5,2,     0.90,2,     0.04,2,     0.03,2,    1.821,2,    1.069,2, -999.000,9,-999.0000,9,  -999.00,9,   2033.2,2,   -999.0,9,     8.39,2, 28.0960
 3230CITHER2_1,  A17C,    88,  1,     31,     31,2,19940203,1851,-24.6270, -34.1983, 4625,     50.6,  23.3140,  36.8030,2,  36.8310,2,    224.6,2,    226.0,2,     1.00,2,     0.04,2,     0.04,2,    2.131,2,    1.218,2, -999.000,9,-999.0000,9,  -999.00,9,   2061.2,2,   -999.0,9,     8.37,2, 23.3030
 3230CITHER2_1,  A17C,    88,  1,     30,     30,2,19940203,1851,-24.6270, -34.1983, 4625,    100.2,  21.0020,  36.4360,2,  36.4500,2,    219.0,2,    221.6,2,     0.90,2,     0.04,2,     0.06,2,    2.287,2,    1.293,2, -999.000,9,-999.0000,9,  -999.00,9,   2062.9,2,   -999.0,9,     8.35,2, 20.9830
 3230CITHER2_1,  A17C,    88,  1,     29,     29,2,19940203,1851,-24.6270, -34.1983, 4625,    150.8,  19.2640,  36.1250,2,  36.1720,2,    209.6,2,    212.9,2,     1.10,2,     0.83,2,     0.15,2,    2.397,2,    1.333,2, -999.000,9,-999.0000,9,  -999.00,9,   2073.2,2,   -999.0,9,     8.31,2, 19.2370
 3230CITHER2_1,  A17C,    88,  1,     28,     28,2,19940203,1851,-24.6270, -34.1983, 4625,    200.7,  17.3970,  35.8280,2,  35.8490,2,    202.7,2,    204.1,2,     1.80,2,     2.73,2,     0.33,2,    2.466,2,    1.360,2, -999.000,9,-999.0000,9,  -999.00,9,   2088.3,2,   -999.0,9,     8.25,2, 17.3630
 3230CITHER2_1,  A17C,    88,  1,     27,     27,2,19940203,1851,-24.6270, -34.1983, 4625,    300.4,  14.5670,  35.4040,2,  35.4090,2,    205.9,2,    206.6,2,     2.80,2,     7.32,2,     0.60,2,    2.516,2,    1.338,2, -999.000,9,-999.0000,9,  -999.00,9,   2100.7,2,   -999.0,9,     8.19,2, 14.5220
 3230CITHER2_1,  A17C,    88,  1,     26,     26,2,19940203,1851,-24.6270, -34.1983, 4625,    401.2,  12.4510,  35.1350,2,  35.1280,2,    205.5,2,    205.1,2,     4.50,2,    12.54,2,     0.90,2,    2.232,2,    1.198,2, -999.000,9,-999.0000,9,  -999.00,9,   2118.6,2,   -999.0,9,     8.13,2, 12.3970
 3230CITHER2_1,  A17C,    88,  1,     25,     25,2,19940203,1851,-24.6270, -34.1983, 4625,    500.3,  10.1400,  34.8370,2,  34.8440,2,    203.0,2,    201.6,2,     7.60,2,    18.20,2,     1.25,2,    1.929,2,    1.029,2, -999.000,9,-999.0000,9,  -999.00,9,   2137.6,2,   -999.0,9,     8.07,2, 10.0810
 3230CITHER2_1,  A17C,    88,  1,     24,     24,2,19940203,1851,-24.6270, -34.1983, 4625,    650.5,   6.6860,  34.4730,2,  34.4720,2,    206.6,2,    206.3,2,    15.20,2,    25.82,2,     1.77,2,    1.500,2,    0.796,2, -999.000,9,-999.0000,9,  -999.00,9,   2164.4,2,   -999.0,9,     7.97,2,  6.6250
 3230CITHER2_1,  A17C,    88,  1,     23,     23,2,19940203,1851,-24.6270, -34.1983, 4625,    750.5,   4.9780,  34.3380,2,  34.3380,2,    218.6,2,    218.5,2,    21.10,2,    29.42,2,     1.96,2,    1.266,2,    0.664,2, -999.000,9,-999.0000,9,  -999.00,9,   2175.9,2,   -999.0,9,     7.94,2,  4.9170
 3230CITHER2_1,  A17C,    88,  1,     22,     22,2,19940203,1851,-24.6270, -34.1983, 4625,    851.4,   4.6020,  34.3870,2,  34.3870,2,    193.6,2,    190.5,2,    29.40,2,    31.99,2,     2.16,2,    0.434,2,    0.250,2, -999.000,9,-999.0000,9,  -999.00,9,   2199.7,2,   -999.0,9,     7.90,2,  4.5350
 3230CITHER2_1,  A17C,    88,  1,     21,     21,2,19940203,1851,-24.6270, -34.1983, 4625,   1000.9,   3.8660,  34.4150,2,  34.4170,2,    187.9,2,    188.2,2,    37.80,2,    33.12,2,     2.23,2,    0.194,2,    0.116,2, -999.000,9,-999.0000,9,  -999.00,9,   2211.6,2,   -999.0,9,     7.89,2,  3.7910
 3230CITHER2_1,  A17C,    88,  1,     20,     20,2,19940203,1851,-24.6270, -34.1983, 4625,   1201.4,   3.4740,  34.5350,2,  34.5370,2,    185.9,2,    186.2,2,    44.00,2,    32.70,2,     2.18,2,    0.049,2,    0.028,2, -999.000,9,-999.0000,9,  -999.00,9,   -999.0,9,   -999.0,9,     7.88,2,  3.3860
 3230CITHER2_1,  A17C,    88,  1,     19,     19,2,19940203,1851,-24.6270, -34.1983, 4625,   1400.4,   3.5690,  34.7050,2,  34.7060,2,    194.8,2,    194.0,2,    40.00,2,    29.64,2,     1.97,2,    0.019,2,    0.021,2, -999.000,9,-999.0000,9,  -999.00,9,   -999.0,9,   -999.0,9,     7.92,2,  3.4630
 3230CITHER2_1,  A17C,    88,  1,     18,     18,2,19940203,1851,-24.6270, -34.1983, 4625,   1599.7,   3.2760,  34.7770,2,  34.7720,2,    207.5,2,    207.0,2,    42.40,2,    27.44,2,     1.84,2,    0.019,2,    0.018,2, -999.000,9,-999.0000,9,  -999.00,9,   -999.0,9,   -999.0,9,     7.94,2,  3.1560
 3230CITHER2_1,  A17C,    88,  1,     17,     17,2,19940203,1851,-24.6270, -34.1983, 4625,   1800.7,   3.5960,  34.9180,2,  34.9180,2,    232.7,2,    234.8,2,    26.80,2,    22.63,2,     1.49,2,    0.029,2,    0.025,2, -999.000,9,-999.0000,9,  -999.00,9,   -999.0,9,   -999.0,9,     8.00,2,  3.4530
 3230CITHER2_1,  A17C,    88,  1,     16,     16,2,19940203,1851,-24.6270, -34.1983, 4625,   2000.2,   3.5500,  34.9590,2,  34.9540,2,    249.4,2,    249.0,2,    22.20,2,    20.82,2,     1.34,2,    0.035,2,    0.036,2, -999.000,9,-999.0000,9,  -999.00,9,   -999.0,9,   -999.0,9,     8.01,2,  3.3890
 3230CITHER2_1,  A17C,    88,  1,     14,     14,2,19940203,1851,-24.6270, -34.1983, 4625,   2199.7,   3.3050,  34.9530,2,  34.9530,2,    252.0,2,    252.0,2,    24.40,2,    20.63,2,     1.34,2,    0.030,2,    0.025,2, -999.000,9,-999.0000,9,  -999.00,9,   -999.0,9,   -999.0,9,     8.02,2,  3.1290
 3230CITHER2_1,  A17C,    88,  1,     15,     15,2,19940203,1851,-24.6270, -34.1983, 4625,   2200.0,   3.3050,  34.9530,2,  34.9500,2,    252.0,2,    251.6,2,    24.40,2,    20.50,2,     1.34,2,    0.031,2,    0.027,2, -999.000,9,-999.0000,9,  -999.00,9,   -999.0,9,   -999.0,9,     8.02,2,  3.1290
 3230CITHER2_1,  A17C,    88,  1,     13,     13,2,19940203,1851,-24.6270, -34.1983, 4625,   2400.1,   3.1130,  34.9440,2,  34.9420,2,    252.3,2,    252.2,2,    26.90,2,    20.79,2,     1.35,2,    0.024,2,    0.028,2, -999.000,9,-999.0000,9,  -999.00,9,   -999.0,9,   -999.0,9,     8.02,2,  2.9210
 3230CITHER2_1,  A17C,    88,  1,     12,     12,2,19940203,1851,-24.6270, -34.1983, 4625,   2600.3,   2.9390,  34.9340,2,  34.9320,2,    252.2,2,    251.9,2,    29.80,2,    20.99,2,     1.37,2,    0.013,2,    0.016,2, -999.000,9,-999.0000,9,  -999.00,9,   -999.0,9,   -999.0,9,     8.02,2,  2.7300
 3230CITHER2_1,  A17C,    88,  1,     11,     11,2,19940203,1851,-24.6270, -34.1983, 4625,   2799.9,   2.7950,  34.9250,2,  34.9260,2,    252.3,2,    251.7,2,    32.00,2,    21.19,2,     1.38,2,    0.016,2,    0.013,2, -999.000,9,-999.0000,9,  -999.00,9,   -999.0,9,   -999.0,9,     8.02,2,  2.5690
 3230CITHER2_1,  A17C,    88,  1,     10,     10,2,19940203,1851,-24.6270, -34.1983, 4625,   3000.7,   2.6850,  34.9190,2,  34.9190,2,    253.2,2,    252.9,2,    33.50,2,    21.24,2,     1.39,2,    0.010,2,    0.016,2, -999.000,9,-999.0000,9,  -999.00,9,   -999.0,9,   -999.0,9,     8.02,2,  2.4410
 3230CITHER2_1,  A17C,    88,  1,      9,      9,2,19940203,1851,-24.6270, -34.1983, 4625,   3200.0,   2.5730,  34.9110,2,  34.9100,2,    253.8,2,    253.1,2,    35.90,2,    21.56,2,     1.41,2,    0.010,2,    0.009,2, -999.000,9,-999.0000,9,  -999.00,9,   -999.0,9,   -999.0,9,     8.01,2,  2.3110
 3230CITHER2_1,  A17C,    88,  1,      8,      8,2,19940203,1851,-24.6270, -34.1983, 4625,   3398.3,   2.3860,  34.8920,2,  34.8920,2,    252.9,2,    251.8,2,    41.90,2,    22.22,2,     1.45,2,    0.009,2,    0.009,2, -999.000,9,-999.0000,9,  -999.00,9,   -999.0,9,   -999.0,9,     8.01,2,  2.1070
 3230CITHER2_1,  A17C,    88,  1,      7,      7,2,19940203,1851,-24.6270, -34.1983, 4625,   3597.9,   2.0370,  34.8570,2,  34.8570,2,    247.2,2,    246.1,2,    56.60,2,    23.81,2,     1.59,2,    0.011,2,    0.009,2, -999.000,9,-999.0000,9,  -999.00,9,   -999.0,9,   -999.0,9,     7.99,2,  1.7460
 3230CITHER2_1,  A17C,    88,  1,      6,      6,2,19940203,1851,-24.6270, -34.1983, 4625,   3799.3,   1.6640,  34.8180,2,  34.8170,2,    240.3,2,    239.8,2,    72.30,2,    26.09,2,     1.74,2,    0.005,2,    0.010,2, -999.000,9,-999.0000,9,  -999.00,9,   -999.0,9,   -999.0,9,     7.97,2,  1.3610
 3230CITHER2_1,  A17C,    88,  1,      5,      5,2,19940203,1851,-24.6270, -34.1983, 4625,   3998.3,   1.4130,  34.7930,2,  34.7900,2,    235.5,2,    235.8,2,    83.50,2,    27.65,2,     1.84,2,    0.003,2,    0.007,2, -999.000,9,-999.0000,9,  -999.00,9,   -999.0,9,   -999.0,9,     7.96,2,  1.0960
 3230CITHER2_1,  A17C,    88,  1,      4,      4,2,19940203,1851,-24.6270, -34.1983, 4625,   4197.8,   1.2550,  34.7740,2,  34.7730,2,    232.5,2,    232.5,2,    90.50,2,    28.67,2,     1.92,2,    0.007,2,    0.005,2, -999.000,9,-999.0000,9,  -999.00,9,   -999.0,9,   -999.0,9,     7.95,2,  0.9210
 3230CITHER2_1,  A17C,    88,  1,      3,      3,2,19940203,1851,-24.6270, -34.1983, 4625,   4399.1,   1.0380,  34.7470,2,  34.7490,2,    228.8,2,    229.2,2,   100.40,2,    30.26,2,     2.00,2,    0.017,2,    0.010,2, -999.000,9,-999.0000,9,  -999.00,9,   -999.0,9,   -999.0,9,     7.93,2,  0.6880
 3230CITHER2_1,  A17C,    88,  1,      2,      2,2,19940203,1851,-24.6270, -34.1983, 4625,   4598.1,   0.3840,  34.6850,2,  34.6830,2,    222.4,2,    220.8,2,   124.30,2,    33.09,2,     2.24,2,    0.105,2,    0.056,2, -999.000,9,-999.0000,9,  -999.00,9,   -999.0,9,   -999.0,9,     7.89,2,  0.0330
 3230CITHER2_1,  A17C,    88,  1,      1,      1,2,19940203,1851,-24.6270, -34.1983, 4625,   4682.8,   0.3280,  34.6790,2,  34.6780,2,    218.5,2,    221.8,2,   125.90,2,    33.15,2,     2.25,2,    0.105,2,    0.059,2, -999.000,9,-999.0000,9,  -999.00,9,   -999.0,9,   -999.0,9,     7.89,2, -0.0300
 3230CITHER2_1,  A17C,    89,  1,     32,     32,2,19940204,0040,-24.2367, -33.8628, 4583,      4.6,  28.0530,  36.7860,2,  36.7910,2,    198.5,2,    201.0,2,     1.40,2,     0.04,2,     0.04,2, -999.000,5, -999.000,5, -999.000,9,-999.0000,9,  -999.00,9,   -999.0,9,   -999.0,9,     8.39,2, 28.0520
 3230CITHER2_1,  A17C,    89,  1,     31,     31,2,19940204,0040,-24.2367, -33.8628, 4583,     50.7,  24.0710,  36.9160,2,  36.9190,2,    218.3,2,    225.2,2,     1.30,2,     0.04,2,     0.04,2, -999.000,5, -999.000,5, -999.000,9,-999.0000,9,  -999.00,9,   -999.0,9,   -999.0,9,     8.38,2, 24.0600
 3230CITHER2_1,  A17C,    89,  1,     30,     30,2,19940204,0040,-24.2367, -33.8628, 4583,    101.0,  21.5390,  36.5770,2,  36.5970,2,    215.3,2,    216.6,2,     1.10,2,     0.04,2,     0.07,2, -999.000,5, -999.000,5, -999.000,9,-999.0000,9,  -999.00,9,   -999.0,9,   -999.0,9,     8.35,2, 21.5190
 3230CITHER2_1,  A17C,    89,  1,     29,     29,2,19940204,0040,-24.2367, -33.8628, 4583,    150.5,  19.4740,  36.1960,2,  36.2180,2,    211.4,2,    212.1,2,     1.20,2,     0.60,2,     0.14,2, -999.000,5, -999.000,5, -999.000,9,-999.0000,9,  -999.00,9,   -999.0,9,   -999.0,9,     8.31,2, 19.4470
 3230CITHER2_1,  A17C,    89,  1,     28,     28,2,19940204,0040,-24.2367, -33.8628, 4583,    200.9,  17.8040,  35.9080,2,  35.9080,2,    211.4,2,    213.3,2,     1.40,2,     1.64,2,     0.24,2, -999.000,5, -999.000,5, -999.000,9,-999.0000,9,  -999.00,9,   -999.0,9,   -999.0,9,     8.27,2, 17.7700
 3230CITHER2_1,  A17C,    89,  1,     27,     27,2,19940204,0040,-24.2367, -33.8628, 4583,    300.8,  14.8500,  35.4360,2,  35.4360,2,    203.2,2,    204.5,2,     2.70,2,     6.82,2,     0.58,2,    2.860,2,    1.794,2, -999.000,9,-999.0000,9,  -999.00,9,   -999.0,9,   -999.0,9,     8.20,2, 14.8040
 3230CITHER2_1,  A17C,    89,  1,     26,     26,2,19940204,0040,-24.2367, -33.8628, 4583,    400.6,  12.5920,  35.1620,2,  35.1720,2,    206.2,2,    205.7,2,     4.10,2,    11.73,2,     0.86,2,    2.281,2,    1.221,2, -999.000,9,-999.0000,9,  -999.00,9,   -999.0,9,   -999.0,9,     8.14,2, 12.5380
 3230CITHER2_1,  A17C,    89,  1,     25,     25,2,19940204,0040,-24.2367, -33.8628, 4583,    499.6,  10.4400,  34.8810,2,  34.8780,2,    202.1,2,    202.0,2,     6.80,2,    17.20,2,     1.21,2,    1.948,2,    1.054,2, -999.000,9,-999.0000,9,  -999.00,9,   -999.0,9,   -999.0,9,     8.07,2, 10.3800
 3230CITHER2_1,  A17C,    89,  1,     24,     24,2,19940204,0040,-24.2367, -33.8628, 4583,    601.6,   7.9830,  34.5920,2,  34.6120,2,    191.0,2,    189.5,2,    12.70,2,    23.83,2,     1.66,2,    1.331,2,    0.731,2, -999.000,9,-999.0000,9,  -999.00,9,   -999.0,9,   -999.0,9,     7.99,2,  7.9210
 3230CITHER2_1,  A17C,    89,  1,     23,     23,2,19940204,0040,-24.2367, -33.8628, 4583,    699.9,   6.5440,  34.4990,2,  34.4980,2,    184.3,2,    179.0,2,    18.80,2,    28.76,2,     1.96,2,    0.759,2,    0.429,2, -999.000,9,-999.0000,9,  -999.00,9,   -999.0,9,   -999.0,9,     7.93,2,  6.4790
 3230CITHER2_1,  A17C,    89,  1,     22,     22,2,19940204,0040,-24.2367, -33.8628, 4583,    851.8,   4.5220,  34.3420,2,  34.3430,2,    208.4,2,    209.7,2,    26.30,2,    30.35,2,     2.08,2,    0.840,2,    0.468,2, -999.000,9,-999.0000,9,  -999.00,9,   -999.0,9,   -999.0,9,     7.92,2,  4.4550
 3230CITHER2_1,  A17C,    89,  1,     21,     21,2,19940204,0040,-24.2367, -33.8628, 4583,   1001.6,   3.6640,  34.3780,2,  34.3780,2,    200.2,2,    198.5,2,    38.00,2,    32.30,2,     2.23,2,    0.383,2,    0.221,2, -999.000,9,-999.0000,9,  -999.00,9,   -999.0,9,   -999.0,9,     7.90,2,  3.5910
 3230CITHER2_1,  A17C,    89,  1,     20,     20,2,19940204,0040,-24.2367, -33.8628, 4583,   1199.9,   3.1700,  34.5100,2,  34.5110,2,    187.7,2,    187.2,2,    49.90,2,    32.65,2,     2.24,2,    0.089,2,    0.058,2, -999.000,9,-999.0000,9,  -999.00,9,   -999.0,9,   -999.0,9,     7.88,2,  3.0850
 3230CITHER2_1,  A17C,    89,  1,     19,     19,2,19940204,0040,-24.2367, -33.8628, 4583,   1399.9,   3.2290,  34.6590,2,  34.6620,2,    192.2,2,   -999.0,5,    47.90,2,    30.67,2,     2.07,2,    0.022,2,    0.019,2, -999.000,9,-999.0000,9,  -999.00,9,   -999.0,9,   -999.0,9,     7.90,2,  3.1270
 3230CITHER2_1,  A17C,    89,  1,     18,     18,2,19940204,0040,-24.2367, -33.8628, 4583,   1600.3,   3.4390,  34.8130,2,  34.8130,2,    213.7,2,   -999.0,5,    37.50,2,    26.20,2,     1.77,2,    0.017,2,    0.016,2, -999.000,9,-999.0000,9,  -999.00,9,   -999.0,9,   -999.0,9,     7.95,2,  3.3170
 3230CITHER2_1,  A17C,    89,  1,     17,     17,2,19940204,0040,-24.2367, -33.8628, 4583,   1800.0,   3.6380,  34.9320,2,  34.9340,2,    238.7,2,    238.4,2,    24.70,2,    21.78,2,     1.44,2,    0.029,2,    0.021,2, -999.000,9,-999.0000,9,  -999.00,9,   -999.0,9,   -999.0,9,     8.00,2,  3.4950
 3230CITHER2_1,  A17C,    89,  1,     15,     15,2,19940204,0040,-24.2367, -33.8628, 4583,   1999.6,   3.5200,  34.9570,2,  34.9580,2,    249.9,2,    248.9,2,    22.20,2,    20.75,2,     1.36,2,    0.032,2,    0.025,2, -999.000,9,-999.0000,9,  -999.00,9,   -999.0,9,   -999.0,9,     8.02,2,  3.3600
 3230CITHER2_1,  A17C,    89,  1,     16,     16,2,19940204,0040,-24.2367, -33.8628, 4583,   1999.8,   3.5200,  34.9570,2,  34.9560,2,    249.9,2,    249.0,2,    22.10,2,    20.70,2,     1.36,2,    0.032,2,    0.027,2, -999.000,9,-999.0000,9,  -999.00,9,   -999.0,9,   -999.0,9,     8.02,2,  3.3600
 3230CITHER2_1,  A17C,    89,  1,     14,     14,2,19940204,0040,-24.2367, -33.8628, 4583,   2199.9,   3.3090,  34.9510,2,  34.9560,2,    252.1,2,    251.3,2,    24.10,2,    20.63,2,     1.35,2,    0.023,2,    0.021,2, -999.000,9,-999.0000,9,  -999.00,9,   -999.0,9,   -999.0,9,     8.02,2,  3.1330
 3230CITHER2_1,  A17C,    89,  1,     13,     13,2,19940204,0040,-24.2367, -33.8628, 4583,   2398.8,   3.1170,  34.9440,2,  34.9460,2,    252.2,2,    251.5,2,    27.00,2,    21.07,2,     1.37,2,    0.019,2,    0.018,2, -999.000,9,-999.0000,9,  -999.00,9,   -999.0,9,   -999.0,9,     8.02,2,  2.9250
 3230CITHER2_1,  A17C,    89,  1,     12,     12,2,19940204,0040,-24.2367, -33.8628, 4583,   2599.6,   2.9700,  34.9350,2,  34.9380,2,    251.9,2,    251.6,2,    29.50,2,    21.07,2,     1.38,2,    0.012,2,    0.021,2, -999.000,9,-999.0000,9,  -999.00,9,   -999.0,9,   -999.0,9,     8.02,2,  2.7610
 3230CITHER2_1,  A17C,    89,  1,     11,     11,2,19940204,0040,-24.2367, -33.8628, 4583,   2797.8,   2.8440,  34.9270,2,  34.9320,2,    251.9,2,    251.4,2,    31.70,2,    21.20,2,     1.38,2,    0.015,2,    0.013,2, -999.000,9,-999.0000,9,  -999.00,9,   -999.0,9,   -999.0,9,     8.02,2,  2.6170
 3230CITHER2_1,  A17C,    89,  1,     10,     10,2,19940204,0040,-24.2367, -33.8628, 4583,   2999.6,   2.7270,  34.9210,2,  34.9230,2,    253.2,2,    252.2,2,    33.20,2,    21.20,2,     1.39,2,    0.010,2,    0.012,2, -999.000,9,-999.0000,9,  -999.00,9,   -999.0,9,   -999.0,9,     8.02,2,  2.4820
 3230CITHER2_1,  A17C,    89,  1,      9,      9,2,19940204,0040,-24.2367, -33.8628, 4583,   3199.0,   2.6260,  34.9150,2,  34.9170,2,    254.1,2,    253.1,2,    35.10,2,    21.32,2,     1.40,2,    0.010,2,    0.006,2, -999.000,9,-999.0000,9,  -999.00,9,   -999.0,9,   -999.0,9,     8.02,2,  2.3630
 3230CITHER2_1,  A17C,    89,  1,      8,      8,2,19940204,0040,-24.2367, -33.8628, 4583,   3398.2,   2.4670,  34.8990,2,  34.9020,2,    253.7,2,    252.7,2,    39.40,2,    21.73,2,     1.43,2,    0.010,2,    0.018,2, -999.000,9,-999.0000,9,  -999.00,9,   -999.0,9,   -999.0,9,     8.01,2,  2.1860
 3230CITHER2_1,  A17C,    89,  1,      7,      7,2,19940204,0040,-24.2367, -33.8628, 4583,   3598.6,   2.2170,  34.8740,2,  34.8790,2,    250.8,2,    249.6,2,    48.70,2,    22.89,2,     1.52,2,    0.010,2,    0.018,2, -999.000,9,-999.0000,9,  -999.00,9,   -999.0,9,   -999.0,9,     8.00,2,  1.9210
 3230CITHER2_1,  A17C,    89,  1,      6,      6,2,19940204,0040,-24.2367, -33.8628, 4583,   3797.9,   1.7850,  34.8300,2,  34.8330,2,    243.5,2,    241.9,2,    67.60,2,    25.26,2,     1.70,2,    0.004,2,    0.007,2, -999.000,9,-999.0000,9,  -999.00,9,   -999.0,9,   -999.0,9,     7.98,2,  1.4790
 3230CITHER2_1,  A17C,    89,  1,      5,      5,2,19940204,0040,-24.2367, -33.8628, 4583,   3997.8,   1.4080,  34.7890,2,  34.7920,2,    234.6,2,    234.8,2,    84.30,2,    27.56,2,     1.86,2,    0.008,2,    0.013,2, -999.000,9,-999.0000,9,  -999.00,9,   -999.0,9,   -999.0,9,     7.95,2,  1.0910
 3230CITHER2_1,  A17C,    89,  1,      4,      4,2,19940204,0040,-24.2367, -33.8628, 4583,   4197.3,   1.1330,  34.7600,2,  34.7610,2,    230.1,2,    230.5,2,    96.70,2,    29.26,2,     1.96,2,    0.007,2,    0.017,2, -999.000,9,-999.0000,9,  -999.00,9,   -999.0,9,   -999.0,9,     7.93,2,  0.8030
 3230CITHER2_1,  A17C,    89,  1,      3,      3,2,19940204,0040,-24.2367, -33.8628, 4583,   4397.4,   0.8080,  34.7230,2,  34.7270,2,    225.4,2,    224.1,2,   110.40,2,    31.02,2,     2.09,2,    0.047,2,    0.027,2, -999.000,9,-999.0000,9,  -999.00,9,   -999.0,9,   -999.0,9,     7.91,2,  0.4660
 3230CITHER2_1,  A17C,    89,  1,      2,      2,2,19940204,0040,-24.2367, -33.8628, 4583,   4496.8,   0.4620,  34.6890,2,  34.6930,2,    220.6,2,    220.8,2,   122.60,2,    32.57,2,     2.21,2,    0.092,2,    0.052,2, -999.000,9,-999.0000,9,  -999.00,9,   -999.0,9,   -999.0,9,     7.89,2,  0.1200
 3230CITHER2_1,  A17C,    89,  1,      1,      1,2,19940204,0040,-24.2367, -33.8628, 4583,   4649.3,   0.2920,  34.6780,2,  34.6810,2,    219.9,2,    222.4,2,   127.90,2,    32.86,2,     2.26,2,    0.131,2,    0.070,2, -999.000,9,-999.0000,9,  -999.00,9,   -999.0,9,   -999.0,9,     7.89,2, -0.0610