BOTTLE,20030515WHPSIOSA
EXPOCODE,SECT_ID,STNNBR,CASTNO,SAMPNO,BTLNBR,BTLNBR_FLAG_W,DATE,TIME,LATITUDE,LONGITUDE,DEPTH,CTDPRS,CTDTMP,CTDSAL,CTDSAL_FLAG_W,SALNTY,SALNTY_FLAG_W,CTDOXY,CTDOXY_FLAG_W,OXYGEN,OXYGEN_FLAG_W,SILCAT,SILCAT_FLAG_W,NITRAT,NITRAT_FLAG_W,PHSPHT,PHSPHT_FLAG_W,CFC-11,CFC-11_FLAG_W,CFC-12,CFC-12_FLAG_W,TRITUM,TRITUM_FLAG_W,HELIUM,HELIUM_FLAG_W,DELHE3,DELHE3_FLAG_W,TCARBN,TCARBN_FLAG_W,ALKALI,ALKALI_FLAG_W,PH,PH_FLAG_W,THETA
,,,,,,,,,,,,DBAR,ITS-90,PSS-78,,PSS-78,,UMOL/KG,,UMOL/KG,,UMOL/KG,,UMOL/KG,,UMOL/KG,,PMOL/KG,,PMOL/KG,,TU,,NMOL/KG,,PERCNT,,UMOL/KG,,UMOL/KG,,,,DEG C
 3230CITHER2_1,  A17C,    34,  1,     32,     32,2,19940119,0331,-38.9223, -46.7468, 5207,      4.5,  19.5690,  35.7850,2,  35.7850,2,    222.2,2,    227.4,2,     1.60,2,     0.04,2,     0.10,2,    2.448,2,    1.421,2, -999.000,9,-999.0000,9,  -999.00,9,   2045.2,2,   -999.0,9,     8.32,2, 19.5680
 3230CITHER2_1,  A17C,    34,  1,     31,     31,2,19940119,0331,-38.9223, -46.7468, 5207,     69.5,  17.6490,  35.9290,2,  35.9780,2,    230.7,2,    216.8,2,     1.70,2,     1.22,2,     0.21,2,    2.537,2,    1.431,2, -999.000,9,-999.0000,9,  -999.00,9,   2062.2,2,   -999.0,9,     8.28,2, 17.6370
 3230CITHER2_1,  A17C,    34,  1,     30,     30,2,19940119,0331,-38.9223, -46.7468, 5207,    200.2,  15.8650,  35.8710,2,  35.8530,2,    224.7,2,    223.9,2,     2.00,2,     4.34,2,     0.38,2,    2.736,2,    1.496,2, -999.000,9,-999.0000,9,  -999.00,9,   2087.3,2,   -999.0,9,     8.24,2, 15.8330
 3230CITHER2_1,  A17C,    34,  1,     29,     29,2,19940119,0331,-38.9223, -46.7468, 5207,    301.9,  14.0590,  35.4500,2,  35.4580,2,    220.4,2,    216.6,2,     3.10,2,     8.40,2,     0.63,2,    2.644,2,    1.438,2, -999.000,9,-999.0000,9,  -999.00,9,   -999.0,9,   -999.0,9,     8.19,2, 14.0150
 3230CITHER2_1,  A17C,    34,  1,     28,     28,2,19940119,0331,-38.9223, -46.7468, 5207,    399.4,  12.3990,  35.1730,2,  35.1570,2,    227.5,2,    220.5,2,     3.90,2,    11.76,2,     0.83,2,    2.767,2,    1.479,2, -999.000,9,-999.0000,9,  -999.00,9,   -999.0,9,   -999.0,9,     8.14,2, 12.3450
 3230CITHER2_1,  A17C,    34,  1,     27,     27,2,19940119,0331,-38.9223, -46.7468, 5207,    570.8,   7.8520,  34.5340,2,  34.5390,2,    248.0,2,    219.4,2,     9.70,2,    22.01,2,     1.51,2,    2.443,2,    1.276,2, -999.000,9,-999.0000,9,  -999.00,9,   -999.0,9,   -999.0,9,     8.02,2,  7.7940
 3230CITHER2_1,  A17C,    34,  1,     26,     26,2,19940119,0331,-38.9223, -46.7468, 5207,    700.1,   5.1140,  34.2210,2,  34.2210,2,    264.3,2,    269.5,2,    11.10,2,    24.29,2,     1.66,2,    4.110,2,    2.049,2, -999.000,9,-999.0000,9,  -999.00,9,   -999.0,9,   -999.0,9,     8.00,2,  5.0570
 3230CITHER2_1,  A17C,    34,  1,     25,     25,2,19940119,0331,-38.9223, -46.7468, 5207,    801.4,   4.6820,  34.2160,2,  34.2170,2,    268.7,2,    263.6,2,    14.50,2,    26.33,2,     1.77,2,    3.705,2,    1.853,2, -999.000,9,-999.0000,9,  -999.00,9,   -999.0,9,   -999.0,9,     7.98,2,  4.6190
 3230CITHER2_1,  A17C,    34,  1,     24,     24,2,19940119,0331,-38.9223, -46.7468, 5207,   1000.6,   3.8600,  34.2260,2,  34.2240,2,    252.6,2,    251.0,2,    23.50,2,    29.02,2,     1.97,2,    2.815,2,    1.414,2, -999.000,9,-999.0000,9,  -999.00,9,   -999.0,9,   -999.0,9,     7.94,2,  3.7860
 3230CITHER2_1,  A17C,    34,  1,     23,     23,2,19940119,0331,-38.9223, -46.7468, 5207,   1200.7,   3.1030,  34.2830,2,  34.2830,2,    229.7,2,    228.5,2,    37.10,2,    32.20,2,     2.16,2,    1.769,2,    0.917,2, -999.000,9,-999.0000,9,  -999.00,9,   -999.0,9,   -999.0,9,     7.90,2,  3.0190
 3230CITHER2_1,  A17C,    34,  1,     22,     22,2,19940119,0331,-38.9223, -46.7468, 5207,   1400.9,   2.7870,  34.3890,2,  34.3840,2,    203.4,2,    202.6,2,    52.10,2,    33.59,2,     2.27,2,    0.996,2,    0.554,2, -999.000,9,-999.0000,9,  -999.00,9,   -999.0,9,   -999.0,9,     7.87,2,  2.6900
 3230CITHER2_1,  A17C,    34,  1,     21,     21,2,19940119,0331,-38.9223, -46.7468, 5207,   1599.0,   2.8930,  34.5210,2,  34.5210,2,    187.4,2,    187.0,2,    58.50,2,    33.28,2,     2.25,2,    0.315,2,    0.176,2, -999.000,9,-999.0000,9,  -999.00,9,   -999.0,9,   -999.0,9,     7.86,2,  2.7780
 3230CITHER2_1,  A17C,    34,  1,     20,     20,2,19940119,0331,-38.9223, -46.7468, 5207,   1800.6,   3.0180,  34.6590,2,  34.6560,2,    189.3,2,    188.0,2,    58.20,2,    31.44,2,     2.11,2,    0.139,2,    0.082,2, -999.000,9,-999.0000,9,  -999.00,9,   -999.0,9,   -999.0,9,     7.88,2,  2.8840
 3230CITHER2_1,  A17C,    34,  1,     19,     19,2,19940119,0331,-38.9223, -46.7468, 5207,   1999.3,   3.0120,  34.7350,2,  34.7360,2,    197.1,2,    195.2,2,    57.40,2,    29.84,2,     1.99,2,    0.091,2,    0.063,2, -999.000,9,-999.0000,9,  -999.00,9,   -999.0,9,   -999.0,9,     7.90,2,  2.8390
 3230CITHER2_1,  A17C,    34,  1,     18,     18,2,19940119,0331,-38.9223, -46.7468, 5207,   1999.6,   2.9910,  34.7350,2,  34.7380,2,    197.6,2,    195.4,2,    56.90,2,    29.78,2,     1.98,2,    0.090,2,    0.054,2, -999.000,9,-999.0000,9,  -999.00,9,   -999.0,9,   -999.0,9,     7.90,2,  2.8600
 3230CITHER2_1,  A17C,    34,  1,     17,     17,2,19940119,0331,-38.9223, -46.7468, 5207,   2151.5,   3.0530,  34.7910,2,  34.7920,2,    208.6,2,    205.5,2,    54.00,2,    28.19,2,     1.86,2,    0.065,2,    0.046,2, -999.000,9,-999.0000,9,  -999.00,9,   -999.0,9,   -999.0,9,     7.92,2,  2.8860
 3230CITHER2_1,  A17C,    34,  1,     16,     16,2,19940119,0331,-38.9223, -46.7468, 5207,   2399.7,   3.0750,  34.8620,2,  34.8610,2,    219.3,2,    223.3,2,    46.20,2,    25.40,2,     1.66,2,    0.040,2,    0.035,2, -999.000,9,-999.0000,9,  -999.00,9,   -999.0,9,   -999.0,9,     7.96,2,  2.8840
 3230CITHER2_1,  A17C,    34,  1,     15,     15,2,19940119,0331,-38.9223, -46.7468, 5207,   2600.6,   2.8660,  34.8570,2,  34.8590,2,    221.8,2,    223.5,2,    51.20,2,    25.45,2,     1.68,2,    0.031,2,    0.025,2, -999.000,9,-999.0000,9,  -999.00,9,   -999.0,9,   -999.0,9,     7.95,2,  2.6590
 3230CITHER2_1,  A17C,    34,  1,     14,     14,2,19940119,0331,-38.9223, -46.7468, 5207,   2799.7,   2.6930,  34.8610,2,  34.8500,2,    227.1,2,    226.3,2,    53.50,2,    25.10,2,     1.66,2,    0.030,2,    0.025,2, -999.000,9,-999.0000,9,  -999.00,9,   -999.0,9,   -999.0,9,     7.96,2,  2.4700
 3230CITHER2_1,  A17C,    34,  1,     13,     13,2,19940119,0331,-38.9223, -46.7468, 5207,   3001.0,   2.5220,  34.8560,2,  34.8580,2,    231.5,2,    228.3,2,    56.30,2,    25.09,2,     1.66,2,    0.028,2,    0.024,2, -999.000,9,-999.0000,9,  -999.00,9,   -999.0,9,   -999.0,9,     7.96,2,  2.2820
 3230CITHER2_1,  A17C,    34,  1,     12,     12,2,19940119,0331,-38.9223, -46.7468, 5207,   3201.2,   2.1120,  34.8040,2,  34.8050,2,    217.1,2,    215.4,2,    77.80,2,    27.92,2,     1.86,2, -999.000,5, -999.000,5, -999.000,9,-999.0000,9,  -999.00,9,   -999.0,9,   -999.0,9,     7.93,2,  1.8610
 3230CITHER2_1,  A17C,    34,  1,     11,     11,2,19940119,0331,-38.9223, -46.7468, 5207,   3399.1,   1.6860,  34.7640,2,  34.7630,2,    208.5,2,    207.8,2,    97.00,2,    30.26,2,     2.02,2, -999.000,5, -999.000,5, -999.000,9,-999.0000,9,  -999.00,9,   -999.0,9,   -999.0,9,     7.91,2,  1.4250
 3230CITHER2_1,  A17C,    34,  1,     10,     10,2,19940119,0331,-38.9223, -46.7468, 5207,   3600.0,   1.4030,  34.7440,2,  34.7440,2,    207.2,2,    207.4,2,   107.10,2,    31.22,2,     2.09,2,    0.098,2,    0.054,2, -999.000,9,-999.0000,9,  -999.00,9,   -999.0,9,   -999.0,9,     7.89,2,  1.1290
 3230CITHER2_1,  A17C,    34,  1,      9,      9,2,19940119,0331,-38.9223, -46.7468, 5207,   3800.6,   1.1590,  34.7260,2,  34.7270,2,    207.8,2,    208.6,2,   114.20,2,    32.04,2,     2.14,2,    0.090,2,    0.055,2, -999.000,9,-999.0000,9,  -999.00,9,   -999.0,9,   -999.0,9,     7.88,2,  0.8710
 3230CITHER2_1,  A17C,    34,  1,      8,      8,2,19940119,0331,-38.9223, -46.7468, 5207,   3999.0,   0.9000,  34.7090,2,  34.7100,2,    210.4,2,    210.7,2,   120.20,2,    32.58,2,     2.19,2,    0.115,2,    0.074,2, -999.000,9,-999.0000,9,  -999.00,9,   -999.0,9,   -999.0,9,     7.88,2,  0.5980
 3230CITHER2_1,  A17C,    34,  1,      7,      7,2,19940119,0331,-38.9223, -46.7468, 5207,   4199.8,   0.6320,  34.6940,2,  34.6960,2,    214.5,2,    215.1,2,   125.40,2,    32.97,2,     2.22,2,    0.117,2,    0.075,2, -999.000,9,-999.0000,9,  -999.00,9,   -999.0,9,   -999.0,9,     7.88,2,  0.3170
 3230CITHER2_1,  A17C,    34,  1,      6,      6,2,19940119,0331,-38.9223, -46.7468, 5207,   4397.1,   0.4440,  34.6860,2,  34.6860,2,    217.6,2,    218.0,2,   128.90,2,    33.36,2,     2.24,2,    0.111,2,    0.077,2, -999.000,9,-999.0000,9,  -999.00,9,   -999.0,9,   -999.0,9,     7.88,2,  0.1130
 3230CITHER2_1,  A17C,    34,  1,      5,      5,2,19940119,0331,-38.9223, -46.7468, 5207,   4596.6,   0.3310,  34.6790,2,  34.6800,2,    220.8,2,    220.5,2,   130.40,2,    33.26,2,     2.25,2,    0.118,2,    0.072,2, -999.000,9,-999.0000,9,  -999.00,9,   -999.0,9,   -999.0,9,     7.88,2, -0.0180
 3230CITHER2_1,  A17C,    34,  1,      4,      4,2,19940119,0331,-38.9223, -46.7468, 5207,   4797.8,   0.2750,  34.6750,2,  34.6750,2,    222.6,2,    222.0,2,   131.50,2,    33.21,2,     2.26,2,    0.121,2,    0.069,2, -999.000,9,-999.0000,9,  -999.00,9,   -999.0,9,   -999.0,9,     7.87,2, -0.0940
 3230CITHER2_1,  A17C,    34,  1,      3,      3,2,19940119,0331,-38.9223, -46.7468, 5207,   4999.6,   0.2470,  34.6730,2,  34.6740,2,    223.9,2,    223.1,2,   132.40,2,    33.58,2,     2.27,2,    0.134,2,    0.085,2, -999.000,9,-999.0000,9,  -999.00,9,   -999.0,9,   -999.0,9,     7.88,2, -0.1440
 3230CITHER2_1,  A17C,    34,  1,      2,      2,2,19940119,0331,-38.9223, -46.7468, 5207,   5200.6,   0.2430,  34.6730,2,  34.6720,2,    223.4,2,   -999.0,5,   133.30,2,    33.44,2,     2.28,2,    0.153,2,    0.104,2, -999.000,9,-999.0000,9,  -999.00,9,   -999.0,9,   -999.0,9,     7.88,2, -0.1720
 3230CITHER2_1,  A17C,    34,  1,      1,      1,2,19940119,0331,-38.9223, -46.7468, 5207,   5297.9,   0.2510,  34.6720,2,  34.6770,2,    221.8,2,    222.5,2,   134.10,2,    33.44,2,     2.28,2,    0.161,2,    0.101,2, -999.000,9,-999.0000,9,  -999.00,9,   -999.0,9,   -999.0,9,     7.88,2, -0.1750
 3230CITHER2_1,  A17C,    35,  1,     32,     32,2,19940119,1036,-38.5037, -46.3713, 5190,      7.0,  19.3330,  35.6440,2,  35.6460,2,    226.8,2,    230.3,2,     1.60,2,     0.04,2,     0.09,2,    2.486,2,    1.379,2, -999.000,9,-999.0000,9,  -999.00,9,   2037.5,2,   -999.0,9,     8.33,2, 19.3320
 3230CITHER2_1,  A17C,    35,  1,     31,     31,2,19940119,1036,-38.5037, -46.3713, 5190,     50.1,  19.2320,  35.6460,2,  35.6490,2,    230.2,2,    230.7,2,     1.60,2,     0.04,2,     0.10,2,    2.489,2,    1.391,2, -999.000,9,-999.0000,9,  -999.00,9,   2035.6,2,   -999.0,9,     8.33,2, 19.2230
 3230CITHER2_1,  A17C,    35,  1,     30,     30,2,19940119,1036,-38.5037, -46.3713, 5190,     99.5,  17.0560,  35.9580,2,  35.9480,2,    216.1,2,    215.8,2,     1.80,2,     2.95,2,     0.30,2,    2.595,2,    1.441,2, -999.000,9,-999.0000,9,  -999.00,9,   2080.8,2,   -999.0,9,     8.27,2, 17.0390
 3230CITHER2_1,  A17C,    35,  1,     29,     29,2,19940119,1036,-38.5037, -46.3713, 5190,    150.9,  15.9250,  35.8020,2,  35.8000,2,    216.5,2,    220.9,2,     2.00,2,     4.20,2,     0.38,2,    2.700,2,    1.488,2, -999.000,9,-999.0000,9,  -999.00,9,   2085.4,2,   -999.0,9,     8.24,2, 15.9010
 3230CITHER2_1,  A17C,    35,  1,     28,     28,2,19940119,1036,-38.5037, -46.3713, 5190,    200.7,  15.1340,  35.6530,2,  35.6530,2,    213.7,2,    216.2,2,     2.50,2,     6.40,2,     0.51,2,    2.637,2,    1.443,2, -999.000,9,-999.0000,9,  -999.00,9,   2091.5,2,   -999.0,9,     8.21,2, 15.1030
 3230CITHER2_1,  A17C,    35,  1,     27,     27,2,19940119,1036,-38.5037, -46.3713, 5190,    300.1,  14.0260,  35.4490,2,  35.4500,2,    229.5,2,    216.4,2,     3.00,2,     8.37,2,     0.64,2,    2.663,2,    1.449,2, -999.000,9,-999.0000,9,  -999.00,9,   -999.0,9,   -999.0,9,     8.19,2, 13.9820
 3230CITHER2_1,  A17C,    35,  1,     26,     26,2,19940119,1036,-38.5037, -46.3713, 5190,    399.9,  12.0900,  35.0970,2,  35.0990,2,    229.1,2,    227.1,2,     3.70,2,    11.59,2,     0.85,2,    2.997,2,    1.595,2, -999.000,9,-999.0000,9,  -999.00,9,   -999.0,9,   -999.0,9,     8.15,2, 12.0370
 3230CITHER2_1,  A17C,    35,  1,     25,     25,2,19940119,1036,-38.5037, -46.3713, 5190,    625.4,   5.5770,  34.2470,2,  34.2500,2,    263.7,2,    264.4,2,     9.50,2,    22.35,2,     1.61,2,    4.031,2,    2.006,2, -999.000,9,-999.0000,9,  -999.00,9,   -999.0,9,   -999.0,9,     8.01,2,  5.5240
 3230CITHER2_1,  A17C,    35,  1,     24,     24,2,19940119,1036,-38.5037, -46.3713, 5190,    800.8,   4.8760,  34.2820,2,  34.2820,2,    249.4,2,    243.4,2,    16.90,2,    27.04,2,     1.84,2,    2.495,2,    1.280,2, -999.000,9,-999.0000,9,  -999.00,9,   -999.0,9,   -999.0,9,     7.96,2,  4.8110
 3230CITHER2_1,  A17C,    35,  1,     23,     23,2,19940119,1036,-38.5037, -46.3713, 5190,   1001.5,   3.5700,  34.2290,2,  34.2280,2,    249.9,2,    246.4,2,    26.40,2,    29.62,2,     2.02,2,    2.642,2,    1.334,2, -999.000,9,-999.0000,9,  -999.00,9,   -999.0,9,   -999.0,9,     7.93,2,  3.4980
 3230CITHER2_1,  A17C,    35,  1,     22,     22,2,19940119,1036,-38.5037, -46.3713, 5190,   1198.8,   2.9970,  34.2790,2,  34.2770,2,    230.6,2,    230.0,2,    37.50,2,    31.89,2,     2.16,2,    1.928,2,    0.973,2, -999.000,9,-999.0000,9,  -999.00,9,   -999.0,9,   -999.0,9,     7.90,2,  2.9140
 3230CITHER2_1,  A17C,    35,  1,     21,     21,2,19940119,1036,-38.5037, -46.3713, 5190,   1399.1,   2.6720,  34.3610,2,  34.3600,2,    203.4,2,    207.0,2,    51.40,2,    33.62,2,     2.28,2,    1.295,2,    0.667,2, -999.000,9,-999.0000,9,  -999.00,9,   -999.0,9,   -999.0,9,     7.86,2,  2.5770
 3230CITHER2_1,  A17C,    35,  1,     19,     19,2,19940119,1036,-38.5037, -46.3713, 5190,   1599.3,   2.7880,  34.5320,2,  34.5300,2,    185.1,2,    184.5,2,    62.60,2,    33.61,2,     2.27,2,    0.345,2,    0.188,2, -999.000,9,-999.0000,9,  -999.00,9,   -999.0,9,   -999.0,9,     7.86,2,  2.6750
 3230CITHER2_1,  A17C,    35,  1,     20,     20,2,19940119,1036,-38.5037, -46.3713, 5190,   1599.3,   2.7880,  34.5310,2,  34.5300,2,    185.1,2,    184.5,2,    62.60,2,    33.61,2,     2.27,2,    0.345,2,    0.188,2, -999.000,9,-999.0000,9,  -999.00,9,   -999.0,9,   -999.0,9,     7.86,2,  2.6750
 3230CITHER2_1,  A17C,    35,  1,     18,     18,2,19940119,1036,-38.5037, -46.3713, 5190,   1798.7,   2.8590,  34.6390,2,  34.6370,2,    185.3,2,    184.7,2,    63.30,2,    32.12,2,     2.16,2,    0.185,2,    0.108,2, -999.000,9,-999.0000,9,  -999.00,9,   -999.0,9,   -999.0,9,     7.87,2,  2.7270
 3230CITHER2_1,  A17C,    35,  1,     17,     17,2,19940119,1036,-38.5037, -46.3713, 5190,   1998.3,   2.9190,  34.7240,2,-999.0000,5,    192.8,2,    194.0,2,    63.30,2,    32.11,2,     2.16,2,    0.114,2,    0.078,2, -999.000,9,-999.0000,9,  -999.00,9,   -999.0,9,   -999.0,9,     7.87,2,  2.7690
 3230CITHER2_1,  A17C,    35,  1,     16,     16,2,19940119,1036,-38.5037, -46.3713, 5190,   2198.0,   3.0500,  34.8070,2,  34.8020,2,    207.3,2,    207.8,2,    52.50,2,    27.40,2,     1.83,2,    0.055,2,    0.049,2, -999.000,9,-999.0000,9,  -999.00,9,   -999.0,9,   -999.0,9,     7.92,2,  2.8790
 3230CITHER2_1,  A17C,    35,  1,     15,     15,2,19940119,1036,-38.5037, -46.3713, 5190,   2397.0,   3.1030,  34.8660,2,  34.8640,2,    225.6,2,    224.2,2,    44.10,2,    24.72,2,     1.65,2,    0.036,2,    0.041,2, -999.000,9,-999.0000,9,  -999.00,9,   -999.0,9,   -999.0,9,     7.96,2,  2.9120
 3230CITHER2_1,  A17C,    35,  1,     14,     14,2,19940119,1036,-38.5037, -46.3713, 5190,   2601.2,   2.8580,  34.8530,2,  34.8540,2,    223.0,2,    222.1,2,    50.70,2,    25.27,2,     1.69,2,    0.035,2,    0.032,2, -999.000,9,-999.0000,9,  -999.00,9,   -999.0,9,   -999.0,9,     7.95,2,  2.6510
 3230CITHER2_1,  A17C,    35,  1,     13,     13,2,19940119,1036,-38.5037, -46.3713, 5190,   2799.3,   2.8190,  34.8880,2,  34.8860,2,    233.8,2,    235.6,2,    44.10,2,    23.30,2,     1.55,2,    0.022,2,    0.031,2, -999.000,9,-999.0000,9,  -999.00,9,   -999.0,9,   -999.0,9,     7.97,2,  2.5930
 3230CITHER2_1,  A17C,    35,  1,     12,     12,2,19940119,1036,-38.5037, -46.3713, 5190,   2999.1,   2.5460,  34.8650,2,  34.8650,2,    232.5,2,    231.2,2,    52.80,2,    24.47,2,     1.63,2,    0.021,2,    0.021,2, -999.000,9,-999.0000,9,  -999.00,9,   -999.0,9,   -999.0,9,     7.97,2,  2.3060
 3230CITHER2_1,  A17C,    35,  1,     11,     11,2,19940119,1036,-38.5037, -46.3713, 5190,   3297.2,   1.9290,  34.7990,2,  34.7980,2,    219.2,2,    217.8,2,    80.40,2,    28.13,2,     1.88,2,    0.036,2,    0.045,2, -999.000,9,-999.0000,9,  -999.00,9,   -999.0,9,   -999.0,9,     7.93,2,  1.6720
 3230CITHER2_1,  A17C,    35,  1,     10,     10,2,19940119,1036,-38.5037, -46.3713, 5190,   3598.2,   1.2980,  34.7330,2,  34.7310,2,    208.7,2,    207.4,2,   108.80,2,    31.34,2,     2.12,2,    0.079,2,    0.059,2, -999.000,9,-999.0000,9,  -999.00,9,   -999.0,9,   -999.0,9,     7.89,2,  1.0270
 3230CITHER2_1,  A17C,    35,  1,      9,      9,2,19940119,1036,-38.5037, -46.3713, 5190,   3799.2,   1.0550,  34.7190,2,  34.7220,2,    208.7,2,    208.7,2,   114.60,2,    31.83,2,     2.16,2,    0.100,2,    0.065,2, -999.000,9,-999.0000,9,  -999.00,9,   -999.0,9,   -999.0,9,     7.88,2,  0.7700
 3230CITHER2_1,  A17C,    35,  1,      8,      8,2,19940119,1036,-38.5037, -46.3713, 5190,   3997.4,   0.8510,  34.7060,2,  34.7070,2,    211.4,2,    211.4,2,   119.40,2,    32.12,2,     2.19,2,    0.109,2,    0.068,2, -999.000,9,-999.0000,9,  -999.00,9,   -999.0,9,   -999.0,9,     7.88,2,  0.5510
 3230CITHER2_1,  A17C,    35,  1,      7,      7,2,19940119,1036,-38.5037, -46.3713, 5190,   4197.2,   0.6050,  34.6950,2,  34.6930,2,    215.0,2,    215.3,2,   123.60,2,    32.51,2,     2.22,2,    0.129,2,    0.087,2, -999.000,9,-999.0000,9,  -999.00,9,   -999.0,9,   -999.0,9,     7.87,2,  0.2910
 3230CITHER2_1,  A17C,    35,  1,      6,      6,2,19940119,1036,-38.5037, -46.3713, 5190,   4397.0,   0.4200,  34.6830,2,  34.6840,2,    217.9,2,    218.4,2,   126.60,2,    32.76,2,     2.25,2,    0.113,2,    0.081,2, -999.000,9,-999.0000,9,  -999.00,9,   -999.0,9,   -999.0,9,     7.88,2,  0.0900
 3230CITHER2_1,  A17C,    35,  1,      5,      5,2,19940119,1036,-38.5037, -46.3713, 5190,   4598.1,   0.3330,  34.6780,2,  34.6800,2,    221.4,2,    220.7,2,   128.40,2,    33.10,2,     2.26,2,    0.115,2,    0.081,2, -999.000,9,-999.0000,9,  -999.00,9,   -999.0,9,   -999.0,9,     7.88,2, -0.0160
 3230CITHER2_1,  A17C,    35,  1,      4,      4,2,19940119,1036,-38.5037, -46.3713, 5190,   4796.7,   0.2790,  34.6760,2,  34.6770,2,    222.9,2,    222.0,2,   128.50,2,    32.90,2,     2.26,2,    0.122,2,    0.076,2, -999.000,9,-999.0000,9,  -999.00,9,   -999.0,9,   -999.0,9,     7.87,2, -0.0900
 3230CITHER2_1,  A17C,    35,  1,      3,      3,2,19940119,1036,-38.5037, -46.3713, 5190,   4997.8,   0.2510,  34.6730,2,  34.6750,2,    224.6,2,    222.9,2,   129.60,2,    32.94,2,     2.27,2,    0.150,2,    0.091,2, -999.000,9,-999.0000,9,  -999.00,9,   -999.0,9,   -999.0,9,     7.87,2, -0.1400
 3230CITHER2_1,  A17C,    35,  1,      2,      2,2,19940119,1036,-38.5037, -46.3713, 5190,   5199.0,   0.2430,  34.6720,2,  34.6730,2,    224.1,2,    222.4,2,   129.80,2,    32.99,2,     2.28,2,    0.165,2,    0.095,2, -999.000,9,-999.0000,9,  -999.00,9,   -999.0,9,   -999.0,9,     7.87,2, -0.1710
 3230CITHER2_1,  A17C,    35,  1,      1,      1,2,19940119,1036,-38.5037, -46.3713, 5190,   5282.1,   0.2530,  34.6710,2,  34.6740,2,    224.1,2,    222.0,2,   130.00,2,    33.13,2,     2.28,2,    0.158,2,    0.101,2, -999.000,9,-999.0000,9,  -999.00,9,   -999.0,9,   -999.0,9,     7.87,2, -0.1710