BOTTLE,20030219WHPSIOdm
EXPOCODE,SECT_ID,STNNBR,CASTNO,SAMPNO,BTLNBR,BTLNBR_FLAG_W,DATE,TIME,LATITUDE,LONGITUDE,DEPTH,CTDPRS,CTDTMP,CTDSAL,CTDSAL_FLAG_W,SALNTY,SALNTY_FLAG_W,CTDOXY,CTDOXY_FLAG_W,OXYGEN,OXYGEN_FLAG_W,SILCAT,SILCAT_FLAG_W,NITRAT,NITRAT_FLAG_W,NITRIT,NITRIT_FLAG_W,PHSPHT,PHSPHT_FLAG_W,CFC-11,CFC-11_FLAG_W,CFC-12,CFC-12_FLAG_W,TRITUM,TRITUM_FLAG_W,HELIUM,HELIUM_FLAG_W,DELHE3,DELHE3_FLAG_W,DELC14,DELC14_FLAG_W,DELC13,DELC13_FLAG_W,NEON,NEON_FLAG_W,TCARBN,TCARBN_FLAG_W,PCO2,PCO2_FLAG_W,PCO2TMP,C14ERR,HELIER,DELHER,NEONER,THETA,TRITER
,,,,,,,,,,,,DBAR,ITS-90,PSS-78,,PSS-78,,UMOL/KG,,UMOL/KG,,UMOL/KG,,UMOL/KG,,UMOL/KG,,UMOL/KG,,PMOL/KG,,PMOL/KG,,TU,,NMOL/KG,,PERCNT,,/MILLE,,/MILLE,,NMOL/KG,,UMOL/KG,,UATM,,DEG_C,/MILLE,NMOL/KG,PERCNT,NMOL/KG,ITS-90,TU
     316N138_5,  P06W,   219,  1,     12,    112,2,19920720,1320,-30.0843, 162.8233, 1147,     17.8,  19.3730,  35.6524,2,  35.6532,2,    246.8,3,    223.1,2,     0.83,2,     0.41,2,     0.11,2,     0.10,2,    2.220,2,    1.187,2, -999.000,9,-999.0000,9,  -999.00,9,    121.2,2,     1.44,2,-999.000,9,   2014.6,2,    325.9,2,   20.30,     3.7,-999.0000,-999.000,-999.000, 19.3699,-999.000
     316N138_5,  P06W,   219,  1,     11,    129,2,19920720,1320,-30.0843, 162.8233, 1147,     57.0,  19.3918,  35.6576,2,  35.6587,2,    224.5,2,    222.8,2,     0.64,2,     0.40,2,     0.12,2,     0.12,2,    2.230,2,    1.180,2, -999.000,9,-999.0000,9,  -999.00,9,    133.0,2,     1.41,2,-999.000,9,   2015.2,2,    329.5,6,   20.30,     3.7,-999.0000,-999.000,-999.000, 19.3815,-999.000
     316N138_5,  P06W,   219,  1,     10,    110,2,19920720,1320,-30.0843, 162.8233, 1147,    108.1,  19.3897,  35.6583,2,  35.6593,2,    221.3,2,    223.2,2,     0.83,2,     0.45,2,     0.11,2,     0.13,2,    2.228,2,    1.175,2, -999.000,9,-999.0000,9,  -999.00,9,    119.7,2,     1.40,2,-999.000,9,   2015.3,2,   -999.0,9, -999.00,     3.6,-999.0000,-999.000,-999.000, 19.3701,-999.000
     316N138_5,  P06W,   219,  1,      9,    126,2,19920720,1320,-30.0843, 162.8233, 1147,    156.2,  18.4524,  35.5790,2,  35.5760,2,    202.5,2,    195.6,2,     1.38,2,     3.87,2,     0.04,2,     0.37,2,    2.108,2,    1.139,2, -999.000,9,-999.0000,9,  -999.00,9,    108.5,2,     1.21,2,-999.000,9,   2047.5,2,    390.3,2,   20.30,     3.8,-999.0000,-999.000,-999.000, 18.4250,-999.000
     316N138_5,  P06W,   219,  1,      8,    108,2,19920720,1320,-30.0843, 162.8233, 1147,    204.6,  17.2725,  35.5261,2,  35.5310,2,    192.9,2,    194.2,2,     1.75,2,     5.34,2,     0.01,2,     0.48,2,    2.093,2,    1.085,2, -999.000,9,-999.0000,9,  -999.00,9,    111.9,6,     1.17,6,-999.000,9,   2061.1,2,   -999.0,9, -999.00,     5.4,-999.0000,-999.000,-999.000, 17.2382,-999.000
     316N138_5,  P06W,   219,  1,      7,    107,3,19920720,1320,-30.0843, 162.8233, 1147,    251.8,  16.0250,  35.4335,2,  35.4350,2,    191.5,2,    191.3,2,     2.47,2,     7.31,2,     0.00,2,     0.62,2,    1.990,2,    1.036,2, -999.000,9,-999.0000,9,  -999.00,9,     94.0,2,     1.18,2,-999.000,9,   2075.1,2,    465.4,2,   20.30,     4.6,-999.0000,-999.000,-999.000, 15.9849,-999.000
     316N138_5,  P06W,   219,  1,      6,    180,2,19920720,1320,-30.0843, 162.8233, 1147,    300.4,  14.9015,  35.3345,2,  35.3317,2,    189.3,2,    190.0,2,     3.20,2,     9.06,2,     0.00,2,     0.75,2,    1.904,2,    0.985,2, -999.000,9,-999.0000,9,  -999.00,9,    100.3,6,     1.16,6,-999.000,9,   2087.7,2,   -999.0,9, -999.00,     2.4,-999.0000,-999.000,-999.000, 14.8559,-999.000
     316N138_5,  P06W,   219,  1,      5,    131,2,19920720,1320,-30.0843, 162.8233, 1147,    391.8,  12.9333,  35.1091,2,  35.1124,2,    185.8,2,    185.5,2,     4.83,2,    12.93,2,     0.00,2,     1.01,2,    1.546,2,    0.791,2, -999.000,9,-999.0000,9,  -999.00,9,     69.4,2,     1.17,2,-999.000,9,   2109.0,2,    583.4,2,   20.30,     3.3,-999.0000,-999.000,-999.000, 12.8791,-999.000
     316N138_5,  P06W,   219,  1,      4,    516,3,19920720,1320,-30.0843, 162.8233, 1147,    583.9,   9.0560,  34.6761,2,  34.7123,2,    193.7,2,    194.7,2,     9.55,2,    19.82,2,     0.01,2,     1.44,2,    0.952,2,    0.498,2, -999.000,9,-999.0000,9,  -999.00,9,     12.4,2,     1.16,2,-999.000,9,   2136.5,2,   -999.0,9, -999.00,     4.6,-999.0000,-999.000,-999.000,  8.9912,-999.000
     316N138_5,  P06W,   219,  1,      3,    130,2,19920720,1320,-30.0843, 162.8233, 1147,    783.1,   6.8537,  34.5010,2,  34.5032,2,    194.1,2,    195.2,2,    20.60,2,    25.45,2,     0.00,2,     1.80,2,    0.387,2,    0.202,2, -999.000,9,-999.0000,9,  -999.00,9,    -49.5,6,     1.08,6,-999.000,9,   2163.2,2,    855.7,2,   20.30,     2.1,-999.0000,-999.000,-999.000,  6.7787,-999.000
     316N138_5,  P06W,   219,  1,      2,    136,2,19920720,1320,-30.0843, 162.8233, 1147,    984.1,   5.4640,  34.4703,2,  34.4709,2,    184.0,2,    182.6,2,    37.45,2,    29.16,2,     0.00,2,     2.06,2,    0.134,2,    0.081,2, -999.000,9,-999.0000,9,  -999.00,9,    -98.2,2,     0.90,2,-999.000,9,   2194.5,2,   -999.0,9, -999.00,     2.7,-999.0000,-999.000,-999.000,  5.3787,-999.000
     316N138_5,  P06W,   219,  1,      1,    134,2,19920720,1320,-30.0843, 162.8233, 1147,   1143.9,   4.3960,  34.5014,2,  34.5003,2,    167.0,2,    167.8,2,    58.46,2,    31.88,2,     0.01,2,     2.25,2,    0.053,2,    0.034,2, -999.000,9,-999.0000,9,  -999.00,9,   -134.6,6,     0.71,6,-999.000,9,   2228.3,6,   1060.1,2,   20.30,     2.8,-999.0000,-999.000,-999.000,  4.3049,-999.000
     316N138_5,  P06W,   220,  1,     12,    132,2,19920720,1729,-30.0855, 162.1663, 1152,      8.3,  19.8138,  35.5378,2,  35.5356,2,    223.5,2,    219.4,2,     0.82,2,     1.08,2,     0.09,2,     0.19,2, -999.000,5, -999.000,5,    0.939,2,   1.7650,2,    -1.25,2,   -999.0,9,  -999.00,9,-999.000,9,   -999.0,9,   -999.0,9, -999.00,  -999.0,-999.0000,   0.150,-999.000, 19.8123,   0.005
     316N138_5,  P06W,   220,  1,     11,    123,2,19920720,1729,-30.0855, 162.1663, 1152,     47.7,  19.6639,  35.5841,2,  35.5500,2,    219.8,2,    219.2,2,     0.81,2,     1.31,2,     0.11,2,     0.19,2, -999.000,5, -999.000,5, -999.000,2,   1.8140,2,    -1.28,2,   -999.0,9,  -999.00,9,-999.000,9,   -999.0,9,   -999.0,9, -999.00,  -999.0,-999.0000,   0.150,-999.000, 19.6552,-999.000
     316N138_5,  P06W,   220,  1,     10,    128,2,19920720,1729,-30.0855, 162.1663, 1152,     97.3,  18.5153,  35.5613,2,  35.5594,2,    219.8,2,    221.9,2,     1.00,2,     1.28,2,     0.29,2,     0.19,2, -999.000,5, -999.000,5,    0.907,2,   1.8180,2,    -1.54,2,   -999.0,9,  -999.00,9,-999.000,9,   -999.0,9,   -999.0,9, -999.00,  -999.0,-999.0000,   0.150,-999.000, 18.4983,   0.005
     316N138_5,  P06W,   220,  1,      9,    121,2,19920720,1729,-30.0855, 162.1663, 1152,    147.3,  18.1601,  35.5357,2,  35.5369,2,    203.3,2,    199.3,2,     1.53,2,     3.78,2,     0.08,2,     0.35,2, -999.000,5, -999.000,5,    0.860,2,   1.7970,2,    -0.91,2,   -999.0,9,  -999.00,9,-999.000,9,   -999.0,9,   -999.0,9, -999.00,  -999.0,-999.0000,   0.150,-999.000, 18.1346,   0.005
     316N138_5,  P06W,   220,  1,      8,    515,2,19920720,1729,-30.0855, 162.1663, 1152,    197.8,  16.5524,  35.4632,2,  35.4614,2,    192.0,2,    192.2,2,     2.25,2,     6.46,2,     0.00,2,     0.52,2, -999.000,5, -999.000,5,    0.743,2,   1.7960,2,    -0.46,2,   -999.0,9,  -999.00,9,-999.000,9,   -999.0,9,   -999.0,9, -999.00,  -999.0,-999.0000,   0.150,-999.000, 16.5203,   0.005
     316N138_5,  P06W,   220,  1,      7,    120,2,19920720,1729,-30.0855, 162.1663, 1152,    246.9,  15.4011,  35.3768,2,  35.3843,2,    191.3,2,    196.1,2,     2.61,2,     7.71,2,     0.00,2,     0.61,2, -999.000,5, -999.000,5,    0.696,2,   1.8000,2,    -0.35,2,   -999.0,9,  -999.00,9,-999.000,9,   -999.0,9,   -999.0,9, -999.00,  -999.0,-999.0000,   0.150,-999.000, 15.3629,   0.004
     316N138_5,  P06W,   220,  1,      6,    118,2,19920720,1729,-30.0855, 162.1663, 1152,    297.6,  13.7663,  35.2368,2,  35.2294,2,    189.4,2,    186.4,2,     4.06,2,    11.19,2,     0.00,2,     0.83,2, -999.000,5, -999.000,5,    0.569,2,   1.8020,2,     0.38,2,   -999.0,9,  -999.00,9,-999.000,9,   -999.0,9,   -999.0,9, -999.00,  -999.0,-999.0000,   0.150,-999.000, 13.7235,   0.004
     316N138_5,  P06W,   220,  1,      5,    514,2,19920720,1729,-30.0855, 162.1663, 1152,    397.5,  11.9472,  35.0495,2,  35.0512,2,    193.6,2,    194.9,2,     5.32,2,    13.64,2,     0.00,2,     0.98,2, -999.000,5, -999.000,5,    0.480,2,   1.8160,2,     0.28,2,   -999.0,9,  -999.00,9,-999.000,9,   -999.0,9,   -999.0,9, -999.00,  -999.0,-999.0000,   0.150,-999.000, 11.8950,   0.004
     316N138_5,  P06W,   220,  1,      4,    116,2,19920720,1729,-30.0855, 162.1663, 1152,    597.6,   8.9983,  34.6848,2,  34.6867,2,    192.9,2,    191.6,2,    10.76,2,    20.88,2,    -0.01,2,     1.43,2, -999.000,5, -999.000,5,    0.265,2,   1.8360,2,     1.43,2,   -999.0,9,  -999.00,9,-999.000,9,   -999.0,9,   -999.0,9, -999.00,  -999.0,-999.0000,   0.150,-999.000,  8.9323,   0.003
     316N138_5,  P06W,   220,  1,      3,    115,2,19920720,1729,-30.0855, 162.1663, 1152,    798.5,   6.9192,  34.5110,2,  34.5131,2,    192.6,2,    190.6,2,    20.91,2,    25.36,2,    -0.01,2,     1.74,2, -999.000,5, -999.000,5,    0.115,2,   1.8560,2,     2.93,2,   -999.0,9,  -999.00,9,-999.000,9,   -999.0,9,   -999.0,9, -999.00,  -999.0,-999.0000,   0.150,-999.000,  6.8423,   0.002
     316N138_5,  P06W,   220,  1,      2,    513,2,19920720,1729,-30.0855, 162.1663, 1152,   1000.0,   5.3544,  34.4709,2,  34.4705,2,    182.5,2,    181.8,2,    39.23,2,    29.20,2,     0.00,2,     2.01,2, -999.000,5, -999.000,5,    0.046,2,   1.8840,2,     6.55,2,   -999.0,9,  -999.00,9,-999.000,9,   -999.0,9,   -999.0,9, -999.00,  -999.0,-999.0000,   0.150,-999.000,  5.2684,   0.002
     316N138_5,  P06W,   220,  1,      1,    125,2,19920720,1729,-30.0855, 162.1663, 1152,   1152.1,   4.1609,  34.5165,2,  34.5164,2,    163.2,2,    161.1,2,    64.52,2,    32.26,2,     0.00,2,     2.26,2, -999.000,5, -999.000,5,    0.017,2,   1.9180,2,    11.58,2,   -999.0,9,  -999.00,9,-999.000,9,   -999.0,9,   -999.0,9, -999.00,  -999.0,-999.0000,   0.150,-999.000,  4.0709,   0.002
     316N138_5,  P06W,   221,  1,     12,    112,2,19920720,2147,-30.0857, 161.5043, 1178,      7.8,  19.7237,  35.5462,2,  35.5438,2,    205.6,2,    212.3,2,     1.09,2,     1.83,2,     0.08,2,     0.23,2,    2.088,2,    1.111,2, -999.000,9,-999.0000,9,  -999.00,9,   -999.0,9,  -999.00,9,-999.000,9,   2016.9,2,    362.8,2,   20.30,  -999.0,-999.0000,-999.000,-999.000, 19.7223,-999.000
     316N138_5,  P06W,   221,  1,     11,    129,2,19920720,2147,-30.0857, 161.5043, 1178,     47.9,  19.2064,  35.5448,2,  35.5592,2,    219.7,2,    219.9,2,     0.93,2,     1.00,2,     0.25,2,     0.20,2,    2.209,2,    1.170,2, -999.000,9,-999.0000,9,  -999.00,9,   -999.0,9,  -999.00,9,-999.000,9,   2013.4,2,    335.9,2,   20.30,  -999.0,-999.0000,-999.000,-999.000, 19.1978,-999.000
     316N138_5,  P06W,   221,  1,     10,    110,2,19920720,2147,-30.0857, 161.5043, 1178,     98.2,  18.5939,  35.5577,2,  35.5517,2,    206.9,2,    206.4,2,     1.30,2,     2.78,2,     0.21,2,     0.30,2,    2.130,2,    1.137,2, -999.000,9,-999.0000,9,  -999.00,9,   -999.0,9,  -999.00,9,-999.000,9,   2032.2,2,   -999.0,9, -999.00,  -999.0,-999.0000,-999.000,-999.000, 18.5766,-999.000
     316N138_5,  P06W,   221,  1,      9,    126,3,19920720,2147,-30.0857, 161.5043, 1178,    197.9,  16.2725,  35.4334,2,  35.4460,2,    188.0,2,    187.6,3,     2.39,2,     6.89,2,     0.03,2,     0.57,2, -999.000,5, -999.000,5, -999.000,9,-999.0000,9,  -999.00,9,   -999.0,9,  -999.00,9,-999.000,9,   2072.6,2,    498.6,2,   20.30,  -999.0,-999.0000,-999.000,-999.000, 16.2407,-999.000
     316N138_5,  P06W,   221,  1,      8,    108,2,19920720,2147,-30.0857, 161.5043, 1178,    248.1,  15.2997,  35.3879,2,  35.3664,2,    187.4,2,    188.7,2,     3.12,2,     8.75,2,     0.01,2,     0.71,2,    1.918,6,    0.999,6, -999.000,9,-999.0000,9,  -999.00,9,   -999.0,9,  -999.00,9,-999.000,9,   2083.4,2,   -999.0,9, -999.00,  -999.0,-999.0000,-999.000,-999.000, 15.2615,-999.000
     316N138_5,  P06W,   221,  1,      7,    107,2,19920720,2147,-30.0857, 161.5043, 1178,    297.0,  13.6081,  35.2170,2,  35.2215,2,    187.1,2,    185.2,2,     4.22,2,    11.54,2,     0.01,2,     0.88,2,    1.705,2,    0.880,2, -999.000,9,-999.0000,9,  -999.00,9,   -999.0,9,  -999.00,9,-999.000,9,   2099.7,2,    565.6,6,   20.30,  -999.0,-999.0000,-999.000,-999.000, 13.5658,-999.000
     316N138_5,  P06W,   221,  1,      6,    180,2,19920720,2147,-30.0857, 161.5043, 1178,    397.3,  11.6392,  35.0000,2,  34.9978,2,    189.0,2,    189.2,2,     6.22,2,    15.23,2,     0.00,2,     1.11,2,    1.556,2,    0.793,2, -999.000,9,-999.0000,9,  -999.00,9,   -999.0,9,  -999.00,9,-999.000,9,   2119.2,2,   -999.0,9, -999.00,  -999.0,-999.0000,-999.000,-999.000, 11.5880,-999.000
     316N138_5,  P06W,   221,  1,      5,    131,2,19920720,2147,-30.0857, 161.5043, 1178,    597.3,   8.5254,  34.6225,2,  34.6366,2,    194.4,2,    191.0,2,    12.04,2,    22.00,2,     0.00,2,     1.53,2,    0.782,2,    0.399,2, -999.000,9,-999.0000,9,  -999.00,9,   -999.0,9,  -999.00,9,-999.000,9,   2144.7,2,    807.8,2,   20.30,  -999.0,-999.0000,-999.000,-999.000,  8.4614,-999.000
     316N138_5,  P06W,   221,  1,      4,    516,3,19920720,2147,-30.0857, 161.5043, 1178,    748.9,   6.7714,  34.4919,2,  34.4995,2,    195.6,2,    192.8,2,    20.57,2,    25.70,2,     0.00,2,     1.78,2,    0.323,2,    0.183,2, -999.000,9,-999.0000,9,  -999.00,9,   -999.0,9,  -999.00,9,-999.000,9,   2163.6,6,   -999.0,9, -999.00,  -999.0,-999.0000,-999.000,-999.000,  6.7003,-999.000
     316N138_5,  P06W,   221,  1,      3,    130,2,19920720,2147,-30.0857, 161.5043, 1178,    799.7,   6.3953,  34.4801,2,  34.4807,2,    190.4,2,    187.1,2,    25.30,2,    27.16,2,     0.00,2,     1.93,2,    0.210,2,    0.124,2, -999.000,9,-999.0000,9,  -999.00,9,   -999.0,9,  -999.00,9,-999.000,9,   2174.2,2,    934.8,6,   20.30,  -999.0,-999.0000,-999.000,-999.000,  6.3214,-999.000
     316N138_5,  P06W,   221,  1,      2,    136,2,19920720,2147,-30.0857, 161.5043, 1178,   1001.0,   4.9146,  34.4809,2,  34.4815,2,    178.1,2,    175.6,2,    47.44,2,    30.66,2,     0.00,2,     2.19,2,    0.082,2,    0.053,2, -999.000,9,-999.0000,9,  -999.00,9,   -999.0,9,  -999.00,9,-999.000,9,   2209.9,2,   -999.0,9, -999.00,  -999.0,-999.0000,-999.000,-999.000,  4.8319,-999.000
     316N138_5,  P06W,   221,  1,      1,    134,2,19920720,2147,-30.0857, 161.5043, 1178,   1178.0,   4.0553,  34.5193,2,  34.5188,2,    165.0,2,    164.6,2,    65.89,2,    32.56,2,     0.00,2,     2.30,2,    0.038,2,    0.024,2, -999.000,9,-999.0000,9,  -999.00,9,   -999.0,9,  -999.00,9,-999.000,9,   2238.0,2,   1095.0,2,   20.30,  -999.0,-999.0000,-999.000,-999.000,  3.9641,-999.000
     316N138_5,  P06W,   222,  1,     12,    112,2,19920721,0200,-30.0847, 161.0033, 1273,     16.4,  19.0642,  35.5389,2,  35.5383,2,    219.7,2,    226.1,2,     0.90,2,     0.63,2,     0.13,2,     0.20,2, -999.000,5, -999.000,5, -999.000,9,-999.0000,9,  -999.00,9,   -999.0,9,  -999.00,9,-999.000,9,   -999.0,9,   -999.0,9, -999.00,  -999.0,-999.0000,-999.000,-999.000, 19.0612,-999.000
     316N138_5,  P06W,   222,  1,     11,    129,2,19920721,0200,-30.0847, 161.0033, 1273,     55.7,  18.6604,  35.5585,2,  35.5588,2,    219.8,2,    220.1,2,     0.90,4,     1.29,4,     0.32,4,     0.26,4, -999.000,5, -999.000,5, -999.000,9,-999.0000,9,  -999.00,9,   -999.0,9,  -999.00,9,-999.000,9,   -999.0,9,   -999.0,9, -999.00,  -999.0,-999.0000,-999.000,-999.000, 18.6506,-999.000
     316N138_5,  P06W,   222,  1,     10,    110,2,19920721,0200,-30.0847, 161.0033, 1273,    104.8,  18.3294,  35.5630,2,  35.5620,2,    223.4,2,    224.9,2,     0.89,2,     0.73,2,     0.21,2,     0.23,2, -999.000,5, -999.000,5, -999.000,9,-999.0000,9,  -999.00,9,   -999.0,9,  -999.00,9,-999.000,9,   -999.0,9,   -999.0,9, -999.00,  -999.0,-999.0000,-999.000,-999.000, 18.3111,-999.000
     316N138_5,  P06W,   222,  1,      9,    126,2,19920721,0200,-30.0847, 161.0033, 1273,    204.7,  16.3010,  35.4281,2,  35.4336,2,    185.4,2,    184.5,2,     2.53,2,     7.61,2,     0.00,2,     0.66,2, -999.000,5, -999.000,5, -999.000,9,-999.0000,9,  -999.00,9,   -999.0,9,  -999.00,9,-999.000,9,   -999.0,9,   -999.0,9, -999.00,  -999.0,-999.0000,-999.000,-999.000, 16.2681,-999.000
     316N138_5,  P06W,   222,  1,      8,    108,2,19920721,0200,-30.0847, 161.0033, 1273,    305.4,  13.9081,  35.2096,3,  35.2684,2,    192.5,2,    191.9,2,     3.61,2,    10.24,2,     0.00,2,     0.84,2, -999.000,5, -999.000,5, -999.000,9,-999.0000,9,  -999.00,9,   -999.0,9,  -999.00,9,-999.000,9,   -999.0,9,   -999.0,9, -999.00,  -999.0,-999.0000,-999.000,-999.000, 13.8639,-999.000
     316N138_5,  P06W,   222,  1,      7,    107,2,19920721,0200,-30.0847, 161.0033, 1273,    405.4,  12.1562,  35.0780,2,  35.0687,2,    192.8,2,    190.1,2,     5.25,2,    13.76,2,     0.00,2,     1.06,2, -999.000,5, -999.000,5, -999.000,9,-999.0000,9,  -999.00,9,   -999.0,9,  -999.00,9,-999.000,9,   -999.0,9,   -999.0,9, -999.00,  -999.0,-999.0000,-999.000,-999.000, 12.1023,-999.000
     316N138_5,  P06W,   222,  1,      6,    180,2,19920721,0200,-30.0847, 161.0033, 1273,    505.4,   9.8998,  34.7938,2,  34.7970,2,    194.1,2,    193.3,2,     7.62,2,    18.41,2,    -0.01,2,     1.36,2, -999.000,5, -999.000,5, -999.000,9,-999.0000,9,  -999.00,9,   -999.0,9,  -999.00,9,-999.000,9,   -999.0,9,   -999.0,9, -999.00,  -999.0,-999.0000,-999.000,-999.000,  9.8407,-999.000
     316N138_5,  P06W,   222,  1,      5,    131,2,19920721,0200,-30.0847, 161.0033, 1273,    603.0,   8.3820,  34.6157,2,  34.6148,2,    193.3,2,    191.8,2,    12.54,2,    22.26,2,    -0.01,2,     1.61,2, -999.000,5, -999.000,5, -999.000,9,-999.0000,9,  -999.00,9,   -999.0,9,  -999.00,9,-999.000,9,   -999.0,9,   -999.0,9, -999.00,  -999.0,-999.0000,-999.000,-999.000,  8.3180,-999.000
     316N138_5,  P06W,   222,  1,      4,    516,2,19920721,0200,-30.0847, 161.0033, 1273,    799.7,   6.3954,  34.4844,2,  34.4848,2,    187.9,2,    186.1,2,    25.48,2,    27.14,2,    -0.01,2,     1.93,2, -999.000,5, -999.000,5, -999.000,9,-999.0000,9,  -999.00,9,   -999.0,9,  -999.00,9,-999.000,9,   -999.0,9,   -999.0,9, -999.00,  -999.0,-999.0000,-999.000,-999.000,  6.3215,-999.000
     316N138_5,  P06W,   222,  1,      3,    130,2,19920721,0200,-30.0847, 161.0033, 1273,    997.6,   5.0715,  34.4689,2,  34.4689,2,    179.7,2,    178.8,2,    43.16,2,    30.13,2,     0.00,2,     2.14,2, -999.000,5, -999.000,5, -999.000,9,-999.0000,9,  -999.00,9,   -999.0,9,  -999.00,9,-999.000,9,   -999.0,9,   -999.0,9, -999.00,  -999.0,-999.0000,-999.000,-999.000,  4.9879,-999.000
     316N138_5,  P06W,   222,  1,      2,    136,2,19920721,0200,-30.0847, 161.0033, 1273,   1098.0,   4.5308,  34.4911,2,  34.4893,2,    172.4,2,    170.1,2,    54.28,2,    31.59,2,    -0.01,2,     2.25,2, -999.000,5, -999.000,5, -999.000,9,-999.0000,9,  -999.00,9,   -999.0,9,  -999.00,9,-999.000,9,   -999.0,9,   -999.0,9, -999.00,  -999.0,-999.0000,-999.000,-999.000,  4.4425,-999.000
     316N138_5,  P06W,   222,  1,      1,    134,2,19920721,0200,-30.0847, 161.0033, 1273,   1271.2,   3.7776,  34.5381,2,  34.5364,2,    161.7,2,    161.9,2,    72.14,2,    33.10,2,     0.00,2,     2.33,2, -999.000,5, -999.000,5, -999.000,9,-999.0000,9,  -999.00,9,   -999.0,9,  -999.00,9,-999.000,9,   -999.0,9,   -999.0,9, -999.00,  -999.0,-999.0000,-999.000,-999.000,  3.6809,-999.000