BOTTLE,20030219WHPSIOdm
EXPOCODE,SECT_ID,STNNBR,CASTNO,SAMPNO,BTLNBR,BTLNBR_FLAG_W,DATE,TIME,LATITUDE,LONGITUDE,DEPTH,CTDPRS,CTDTMP,CTDSAL,CTDSAL_FLAG_W,SALNTY,SALNTY_FLAG_W,CTDOXY,CTDOXY_FLAG_W,OXYGEN,OXYGEN_FLAG_W,SILCAT,SILCAT_FLAG_W,NITRAT,NITRAT_FLAG_W,NITRIT,NITRIT_FLAG_W,PHSPHT,PHSPHT_FLAG_W,CFC-11,CFC-11_FLAG_W,CFC-12,CFC-12_FLAG_W,TRITUM,TRITUM_FLAG_W,HELIUM,HELIUM_FLAG_W,DELHE3,DELHE3_FLAG_W,DELC14,DELC14_FLAG_W,DELC13,DELC13_FLAG_W,NEON,NEON_FLAG_W,TCARBN,TCARBN_FLAG_W,PCO2,PCO2_FLAG_W,PCO2TMP,C14ERR,HELIER,DELHER,NEONER,THETA,TRITER
,,,,,,,,,,,,DBAR,ITS-90,PSS-78,,PSS-78,,UMOL/KG,,UMOL/KG,,UMOL/KG,,UMOL/KG,,UMOL/KG,,UMOL/KG,,PMOL/KG,,PMOL/KG,,TU,,NMOL/KG,,PERCNT,,/MILLE,,/MILLE,,NMOL/KG,,UMOL/KG,,UATM,,DEG_C,/MILLE,NMOL/KG,PERCNT,NMOL/KG,ITS-90,TU
     316N138_5,  P06W,   217,  1,     24,    132,2,19920720,0136,-30.0832, 163.9173, 1950,     17.3,  19.3144,  35.6466,2,  35.6490,2,    236.8,2,    223.3,2,     0.79,2,     0.48,2,     0.16,2,     0.15,2,    2.257,2,    1.175,2,    0.911,2,   1.7890,2,    -1.37,2,   -999.0,9,  -999.00,9,-999.000,9,   -999.0,9,   -999.0,9, -999.00,  -999.0,-999.0000,   0.150,-999.000, 19.3113,   0.005
     316N138_5,  P06W,   217,  1,     23,    123,2,19920720,0136,-30.0832, 163.9173, 1950,     57.2,  19.3182,  35.6517,2,  35.6502,2,    220.8,2,    222.3,2,     0.80,2,     0.46,2,     0.17,2,     0.16,2, -999.000,5, -999.000,5,    0.923,2,   1.7860,2,    -1.46,2,   -999.0,9,  -999.00,9,-999.000,9,   -999.0,9,   -999.0,9, -999.00,  -999.0,-999.0000,   0.150,-999.000, 19.3078,   0.005
     316N138_5,  P06W,   217,  1,     22,    128,2,19920720,0136,-30.0832, 163.9173, 1950,    107.9,  19.3136,  35.6503,2,  35.6496,2,    220.0,2,    221.8,2,     0.80,2,     0.50,2,     0.18,2,     0.18,2,    2.257,2,    1.196,2,    0.967,2,   1.7760,2,    -1.47,2,   -999.0,9,  -999.00,9,-999.000,9,   -999.0,9,   -999.0,9, -999.00,  -999.0,-999.0000,   0.150,-999.000, 19.2941,   0.005
     316N138_5,  P06W,   217,  1,     21,    121,2,19920720,0136,-30.0832, 163.9173, 1950,    156.6,  19.2656,  35.6464,2,  35.6463,2,    219.6,2,    219.9,2,     0.80,2,     0.67,2,     0.18,2,     0.19,2, -999.000,5, -999.000,5, -999.000,9,-999.0000,9,  -999.00,9,   -999.0,9,  -999.00,9,-999.000,9,   -999.0,9,   -999.0,9, -999.00,  -999.0,-999.0000,-999.000,-999.000, 19.2373,-999.000
     316N138_5,  P06W,   217,  1,     20,    515,2,19920720,0136,-30.0832, 163.9173, 1950,    206.7,  17.9960,  35.5633,2,  35.5620,2,    200.5,2,    193.5,2,     1.53,2,     4.62,2,     0.02,2,     0.44,2,    2.100,2,    1.104,2,    0.840,2,   1.7810,2,    -0.67,2,   -999.0,9,  -999.00,9,-999.000,9,   -999.0,9,   -999.0,9, -999.00,  -999.0,-999.0000,   0.150,-999.000, 17.9604,   0.005
     316N138_5,  P06W,   217,  1,     19,    120,2,19920720,0136,-30.0832, 163.9173, 1950,    257.2,  17.1290,  35.5394,2,  35.5375,2,    197.2,2,    197.1,2,     1.72,2,     5.22,2,     0.02,2,     0.49,2, -999.000,5, -999.000,5, -999.000,9,-999.0000,9,  -999.00,9,   -999.0,9,  -999.00,9,-999.000,9,   -999.0,9,   -999.0,9, -999.00,  -999.0,-999.0000,-999.000,-999.000, 17.0861,-999.000
     316N138_5,  P06W,   217,  1,     18,    118,2,19920720,0136,-30.0832, 163.9173, 1950,    306.6,  16.1801,  35.4593,2,  35.4549,2,    196.1,2,    193.7,2,     2.27,2,     6.88,2,     0.01,2,     0.60,2,    2.057,2,    1.073,2,    0.731,2,   1.7950,2,    -0.19,2,   -999.0,9,  -999.00,9,-999.000,9,   -999.0,9,   -999.0,9, -999.00,  -999.0,-999.0000,   0.150,-999.000, 16.1309,   0.005
     316N138_5,  P06W,   217,  1,     17,    514,2,19920720,0136,-30.0832, 163.9173, 1950,    356.7,  14.8121,  35.3137,2,  35.3157,2,    193.0,2,    187.4,2,     3.37,2,     9.53,2,     0.01,2,     0.77,2, -999.000,5, -999.000,5, -999.000,9,-999.0000,9,  -999.00,9,   -999.0,9,  -999.00,9,-999.000,9,   -999.0,9,   -999.0,9, -999.00,  -999.0,-999.0000,-999.000,-999.000, 14.7582,-999.000
     316N138_5,  P06W,   217,  1,     16,    116,2,19920720,0136,-30.0832, 163.9173, 1950,    455.5,  12.3916,  35.0641,2,  35.0675,2,    188.8,2,    185.8,2,     5.56,2,    14.06,2,     0.01,2,     1.06,2,    1.516,2,    0.788,2,    0.439,2,   1.8320,2,     0.79,2,   -999.0,9,  -999.00,9,-999.000,9,   -999.0,9,   -999.0,9, -999.00,  -999.0,-999.0000,   0.150,-999.000, 12.3302,   0.004
     316N138_5,  P06W,   217,  1,     15,    115,2,19920720,0136,-30.0832, 163.9173, 1950,    558.2,  10.4665,  34.8467,2,  34.8465,2,    190.4,2,    189.1,2,     8.11,2,    17.86,2,     0.00,2,     1.30,2,    1.228,2,    0.629,2,    0.346,2,   1.8290,2,     1.13,2,   -999.0,9,  -999.00,9,-999.000,9,   -999.0,9,   -999.0,9, -999.00,  -999.0,-999.0000,   0.150,-999.000, 10.3988,   0.003
     316N138_5,  P06W,   217,  1,     14,    513,2,19920720,0136,-30.0832, 163.9173, 1950,    658.0,   8.9417,  34.6610,2,  34.6690,2,    194.6,2,    193.7,2,    10.73,2,    20.91,2,     0.00,2,     1.48,2,    0.827,2,    0.437,2,    0.240,2,   1.8480,2,     1.50,2,   -999.0,9,  -999.00,9,-999.000,9,   -999.0,9,   -999.0,9, -999.00,  -999.0,-999.0000,   0.150,-999.000,  8.8689,   0.003
     316N138_5,  P06W,   217,  1,     13,    125,2,19920720,0136,-30.0832, 163.9173, 1950,    759.2,   7.5833,  34.5405,2,  34.5362,2,    199.4,2,    199.4,2,    13.97,2,    23.42,2,     0.01,2,     1.66,2,    0.551,2,    0.291,2,    0.161,2,   1.8070,2,     1.38,2,   -999.0,9,  -999.00,9,-999.000,9,   -999.0,9,   -999.0,9, -999.00,  -999.0,-999.0000,   0.150,-999.000,  7.5066,   0.002
     316N138_5,  P06W,   217,  1,     12,    112,2,19920720,0136,-30.0832, 163.9173, 1950,    859.3,   6.6948,  34.4844,2,  34.4758,2,    198.0,2,    197.4,2,    19.62,2,    25.74,2,     0.01,2,     1.82,2,    0.346,2,    0.182,2,    0.103,2,   1.8570,2,     2.86,2,   -999.0,9,  -999.00,9,-999.000,9,   -999.0,9,   -999.0,9, -999.00,  -999.0,-999.0000,   0.150,-999.000,  6.6131,   0.002
     316N138_5,  P06W,   217,  1,     11,    129,2,19920720,0136,-30.0832, 163.9173, 1950,    959.3,   6.0941,  34.4609,2,  34.4577,2,    194.7,2,    192.5,2,    26.38,2,    27.40,2,     0.01,2,     1.93,2,    0.234,2,    0.137,2, -999.000,9,-999.0000,9,  -999.00,9,   -999.0,9,  -999.00,9,-999.000,9,   -999.0,9,   -999.0,9, -999.00,  -999.0,-999.0000,-999.000,-999.000,  6.0067,-999.000
     316N138_5,  P06W,   217,  1,     10,    110,2,19920720,0136,-30.0832, 163.9173, 1950,   1059.6,   5.6257,  34.4747,2,  34.4654,2,    187.1,2,    186.2,2,    34.41,2,    28.72,2,     0.01,2,     2.02,2,    0.182,2,    0.103,2,    0.059,2,   1.8690,2,     5.77,2,   -999.0,9,  -999.00,9,-999.000,9,   -999.0,9,   -999.0,9, -999.00,  -999.0,-999.0000,   0.150,-999.000,  5.5321,   0.002
     316N138_5,  P06W,   217,  1,      9,    126,2,19920720,0136,-30.0832, 163.9173, 1950,   1161.7,   5.0395,  34.4822,2,  34.4815,2,    179.6,2,    178.1,2,    45.54,2,    30.27,2,     0.01,2,     2.12,2,    0.118,2,    0.065,2, -999.000,9,-999.0000,9,  -999.00,9,   -999.0,9,  -999.00,9,-999.000,9,   -999.0,9,   -999.0,9, -999.00,  -999.0,-999.0000,-999.000,-999.000,  4.9411,-999.000
     316N138_5,  P06W,   217,  1,      8,    108,2,19920720,0136,-30.0832, 163.9173, 1950,   1263.7,   4.5380,  34.4998,2,  34.4934,2,    173.3,2,    173.0,2,    54.32,2,    31.30,2,     0.01,2,     2.20,2, -999.000,5, -999.000,5,    0.023,2,   1.9060,2,     9.80,2,   -999.0,9,  -999.00,9,-999.000,9,   -999.0,9,   -999.0,9, -999.00,  -999.0,-999.0000,   0.150,-999.000,  4.4347,   0.002
     316N138_5,  P06W,   217,  1,      7,    107,2,19920720,0136,-30.0832, 163.9173, 1950,   1363.6,   4.0508,  34.5165,2,  34.5190,2,    167.7,2,    166.6,2,    66.08,2,    32.50,2,     0.00,2,     2.29,2,    0.044,2,    0.021,2, -999.000,9,-999.0000,9,  -999.00,9,   -999.0,9,  -999.00,9,-999.000,9,   -999.0,9,   -999.0,9, -999.00,  -999.0,-999.0000,-999.000,-999.000,  3.9435,-999.000
     316N138_5,  P06W,   217,  1,      6,    180,2,19920720,0136,-30.0832, 163.9173, 1950,   1464.6,   3.5687,  34.5482,2,  34.5474,2,    160.9,2,    159.6,2,    77.57,2,    33.49,2,     0.00,2,     2.35,2, -999.000,5, -999.000,5, -999.000,9,-999.0000,9,  -999.00,9,   -999.0,9,  -999.00,9,-999.000,9,   -999.0,9,   -999.0,9, -999.00,  -999.0,-999.0000,-999.000,-999.000,  3.4576,-999.000
     316N138_5,  P06W,   217,  1,      5,    131,2,19920720,0136,-30.0832, 163.9173, 1950,   1566.3,   3.2858,  34.5720,2,  34.5712,2,    156.9,2,    155.9,2,    85.23,2,    34.04,2,     0.00,2,     2.39,2,    0.013,2,    0.006,2,    0.004,2,   1.9330,2,    15.98,2,   -999.0,9,  -999.00,9,-999.000,9,   -999.0,9,   -999.0,9, -999.00,  -999.0,-999.0000,   0.150,-999.000,  3.1689,   0.002
     316N138_5,  P06W,   217,  1,      4,    516,2,19920720,0136,-30.0832, 163.9173, 1950,   1666.4,   3.0766,  34.5862,2,  34.5857,2,    154.3,2,    153.5,2,    90.84,2,    34.32,2,     0.01,2,     2.44,2, -999.000,5, -999.000,5, -999.000,9,-999.0000,9,  -999.00,9,   -999.0,9,  -999.00,9,-999.000,9,   -999.0,9,   -999.0,9, -999.00,  -999.0,-999.0000,-999.000,-999.000,  2.9537,-999.000
     316N138_5,  P06W,   217,  1,      3,    130,2,19920720,0136,-30.0832, 163.9173, 1950,   1766.6,   2.8258,  34.6053,2,  34.6044,2,    153.1,2,    151.9,2,    96.28,2,    34.64,2,     0.00,2,     2.43,3,    0.004,2,    0.008,2,   -0.001,2,   1.8880,2,    17.63,2,   -999.0,9,  -999.00,9,-999.000,9,   -999.0,9,   -999.0,9, -999.00,  -999.0,-999.0000,   0.150,-999.000,  2.6975,   0.001
     316N138_5,  P06W,   217,  1,      2,    136,2,19920720,0136,-30.0832, 163.9173, 1950,   1867.7,   2.4213,  34.6373,2,  34.6396,2,    152.1,2,    151.5,2,   105.95,3,    34.94,2,     0.00,2,     2.45,3, -999.000,5, -999.000,5, -999.000,9,-999.0000,9,  -999.00,9,   -999.0,9,  -999.00,9,-999.000,9,   -999.0,9,   -999.0,9, -999.00,  -999.0,-999.0000,-999.000,-999.000,  2.2898,-999.000
     316N138_5,  P06W,   217,  1,      1,    134,2,19920720,0136,-30.0832, 163.9173, 1950,   1960.4,   2.2648,  34.6511,2,  34.6508,2,    150.8,2,    151.8,2,   109.07,3,    34.95,2,     0.00,2,     2.46,3,   -0.003,2,    0.005,2,   -0.002,2,   1.9530,2,    17.92,2,   -999.0,9,  -999.00,9,-999.000,9,   -999.0,9,   -999.0,9, -999.00,  -999.0,-999.0000,   0.150,-999.000,  2.1276,   0.001
     316N138_5,  P06W,   218,  1,     18,    118,2,19920720,0504,-30.0863, 163.5063, 1439,     16.6,  19.3290,  35.6383,2,  35.6368,2,    222.2,2,    224.4,2,     0.71,2,     0.43,2,     0.13,2,     0.15,2, -999.000,5, -999.000,5, -999.000,9,-999.0000,9,  -999.00,9,   -999.0,9,  -999.00,9,-999.000,9,   -999.0,9,   -999.0,9, -999.00,  -999.0,-999.0000,-999.000,-999.000, 19.3260,-999.000
     316N138_5,  P06W,   218,  1,     17,    514,2,19920720,0504,-30.0863, 163.5063, 1439,     55.8,  19.2835,  35.6469,2,  35.6465,2,    223.8,2,    222.7,2,     0.70,2,     0.50,2,     0.16,2,     0.16,2, -999.000,5, -999.000,5, -999.000,9,-999.0000,9,  -999.00,9,   -999.0,9,  -999.00,9,-999.000,9,   -999.0,9,   -999.0,9, -999.00,  -999.0,-999.0000,-999.000,-999.000, 19.2734,-999.000
     316N138_5,  P06W,   218,  1,     16,    116,2,19920720,0504,-30.0863, 163.5063, 1439,    106.6,  19.2175,  35.6449,2,  35.6435,2,    220.0,2,    221.8,2,     0.69,2,     0.57,2,     0.18,2,     0.17,2, -999.000,5, -999.000,5, -999.000,9,-999.0000,9,  -999.00,9,   -999.0,9,  -999.00,9,-999.000,9,   -999.0,9,   -999.0,9, -999.00,  -999.0,-999.0000,-999.000,-999.000, 19.1983,-999.000
     316N138_5,  P06W,   218,  1,     15,    115,2,19920720,0504,-30.0863, 163.5063, 1439,    156.2,  18.8473,  35.6024,2,  35.6015,2,    214.8,2,    211.8,2,     0.86,2,     1.90,2,     0.16,2,     0.28,2, -999.000,5, -999.000,5, -999.000,9,-999.0000,9,  -999.00,9,   -999.0,9,  -999.00,9,-999.000,9,   -999.0,9,   -999.0,9, -999.00,  -999.0,-999.0000,-999.000,-999.000, 18.8196,-999.000
     316N138_5,  P06W,   218,  1,     14,    513,2,19920720,0504,-30.0863, 163.5063, 1439,    203.8,  17.8952,  35.5655,2,  35.5655,2,    198.8,2,    195.7,2,     1.39,2,     4.52,2,     0.01,2,     0.44,2, -999.000,5, -999.000,5, -999.000,9,-999.0000,9,  -999.00,9,   -999.0,9,  -999.00,9,-999.000,9,   -999.0,9,   -999.0,9, -999.00,  -999.0,-999.0000,-999.000,-999.000, 17.8602,-999.000
     316N138_5,  P06W,   218,  1,     13,    125,2,19920720,0504,-30.0863, 163.5063, 1439,    253.7,  17.0263,  35.5278,2,  35.5259,2,    195.2,2,    196.0,2,     1.74,2,     5.50,2,     0.01,2,     0.51,2, -999.000,5, -999.000,5, -999.000,9,-999.0000,9,  -999.00,9,   -999.0,9,  -999.00,9,-999.000,9,   -999.0,9,   -999.0,9, -999.00,  -999.0,-999.0000,-999.000,-999.000, 16.9841,-999.000
     316N138_5,  P06W,   218,  1,     12,    112,2,19920720,0504,-30.0863, 163.5063, 1439,    302.9,  15.7326,  35.4026,2,  35.4034,2,    193.3,2,    190.7,2,     2.64,2,     7.98,2,     0.00,2,     0.68,2, -999.000,5, -999.000,5, -999.000,9,-999.0000,9,  -999.00,9,   -999.0,9,  -999.00,9,-999.000,9,   -999.0,9,   -999.0,9, -999.00,  -999.0,-999.0000,-999.000,-999.000, 15.6849,-999.000
     316N138_5,  P06W,   218,  1,     11,    129,2,19920720,0504,-30.0863, 163.5063, 1439,    399.3,  13.8199,  35.2222,2,  35.2221,2,    190.4,2,    188.4,2,     3.96,2,    11.26,2,     0.00,2,     0.92,2, -999.000,5, -999.000,5, -999.000,9,-999.0000,9,  -999.00,9,   -999.0,9,  -999.00,9,-999.000,9,   -999.0,9,   -999.0,9, -999.00,  -999.0,-999.0000,-999.000,-999.000, 13.7622,-999.000
     316N138_5,  P06W,   218,  1,     10,    110,2,19920720,0504,-30.0863, 163.5063, 1439,    495.7,  11.4781,  34.9527,2,  34.9585,2,    190.1,2,    186.2,2,     6.41,2,    16.03,2,     0.00,2,     1.20,2, -999.000,5, -999.000,5, -999.000,9,-999.0000,9,  -999.00,9,   -999.0,9,  -999.00,9,-999.000,9,   -999.0,9,   -999.0,9, -999.00,  -999.0,-999.0000,-999.000,-999.000, 11.4146,-999.000
     316N138_5,  P06W,   218,  1,      9,    126,2,19920720,0504,-30.0863, 163.5063, 1439,    594.0,   9.9642,  34.7755,2,  34.7813,2,    191.9,2,    190.0,2,     8.58,2,    18.84,2,     0.00,2,     1.39,2, -999.000,5, -999.000,5, -999.000,9,-999.0000,9,  -999.00,9,   -999.0,9,  -999.00,9,-999.000,9,   -999.0,9,   -999.0,9, -999.00,  -999.0,-999.0000,-999.000,-999.000,  9.8942,-999.000
     316N138_5,  P06W,   218,  1,      8,    108,2,19920720,0504,-30.0863, 163.5063, 1439,    692.6,   8.4767,  34.6291,2,  34.6213,2,    195.7,2,    193.5,2,    11.84,2,    21.96,2,     0.00,2,     1.58,2, -999.000,5, -999.000,5, -999.000,9,-999.0000,9,  -999.00,9,   -999.0,9,  -999.00,9,-999.000,9,   -999.0,9,   -999.0,9, -999.00,  -999.0,-999.0000,-999.000,-999.000,  8.4023,-999.000
     316N138_5,  P06W,   218,  1,      7,    107,2,19920720,0504,-30.0863, 163.5063, 1439,    791.7,   7.2132,  34.5150,2,  34.5074,2,    198.9,2,    198.2,2,    16.36,2,    24.48,2,     0.00,2,     1.74,2, -999.000,5, -999.000,5, -999.000,9,-999.0000,9,  -999.00,9,   -999.0,9,  -999.00,9,-999.000,9,   -999.0,9,   -999.0,9, -999.00,  -999.0,-999.0000,-999.000,-999.000,  7.1352,-999.000
     316N138_5,  P06W,   218,  1,      6,    180,2,19920720,0504,-30.0863, 163.5063, 1439,    887.5,   6.5490,  34.4760,2,  34.4752,2,    195.9,2,    194.4,2,    22.34,2,    26.32,2,     0.00,2,     1.86,2, -999.000,5, -999.000,5, -999.000,9,-999.0000,9,  -999.00,9,   -999.0,9,  -999.00,9,-999.000,9,   -999.0,9,   -999.0,9, -999.00,  -999.0,-999.0000,-999.000,-999.000,  6.4654,-999.000
     316N138_5,  P06W,   218,  1,      5,    131,2,19920720,0504,-30.0863, 163.5063, 1439,    987.7,   5.7709,  34.4364,2,  34.4369,2,    193.0,2,    192.0,2,    28.13,2,    28.22,2,     0.00,2,     1.99,2, -999.000,5, -999.000,5, -999.000,9,-999.0000,9,  -999.00,9,   -999.0,9,  -999.00,9,-999.000,9,   -999.0,9,   -999.0,9, -999.00,  -999.0,-999.0000,-999.000,-999.000,  5.6830,-999.000
     316N138_5,  P06W,   218,  1,      4,    516,2,19920720,0504,-30.0863, 163.5063, 1439,   1084.9,   5.2056,  34.4383,2,  34.4420,2,    186.7,2,    185.4,2,    37.41,2,    29.67,2,     0.00,2,     2.07,2, -999.000,5, -999.000,5, -999.000,9,-999.0000,9,  -999.00,9,   -999.0,9,  -999.00,9,-999.000,9,   -999.0,9,   -999.0,9, -999.00,  -999.0,-999.0000,-999.000,-999.000,  5.1130,-999.000
     316N138_5,  P06W,   218,  1,      3,    130,2,19920720,0504,-30.0863, 163.5063, 1439,   1185.4,   4.8822,  34.4824,2,  34.4815,2,    178.9,2,    177.0,2,    47.56,2,    30.60,2,     0.00,2,  -999.00,5, -999.000,5, -999.000,5, -999.000,9,-999.0000,9,  -999.00,9,   -999.0,9,  -999.00,9,-999.000,9,   -999.0,9,   -999.0,9, -999.00,  -999.0,-999.0000,-999.000,-999.000,  4.7830,-999.000
     316N138_5,  P06W,   218,  1,      2,    136,2,19920720,0504,-30.0863, 163.5063, 1439,   1285.7,   4.4055,  34.5012,2,  34.5001,2,    171.8,2,    170.4,2,    57.30,2,    31.71,2,     0.00,2,     2.23,2, -999.000,5, -999.000,5, -999.000,9,-999.0000,9,  -999.00,9,   -999.0,9,  -999.00,9,-999.000,9,   -999.0,9,   -999.0,9, -999.00,  -999.0,-999.0000,-999.000,-999.000,  4.3016,-999.000
     316N138_5,  P06W,   218,  1,      1,    134,2,19920720,0504,-30.0863, 163.5063, 1439,   1443.6,   3.6268,  34.5467,2,  34.5459,2,    158.7,2,    159.1,2,    76.07,2,    33.45,2,     0.01,2,     2.34,2, -999.000,5, -999.000,5, -999.000,9,-999.0000,9,  -999.00,9,   -999.0,9,  -999.00,9,-999.000,9,   -999.0,9,   -999.0,9, -999.00,  -999.0,-999.0000,-999.000,-999.000,  3.5169,-999.000