BOTTLE,20030219WHPSIOdm
EXPOCODE,SECT_ID,STNNBR,CASTNO,SAMPNO,BTLNBR,BTLNBR_FLAG_W,DATE,TIME,LATITUDE,LONGITUDE,DEPTH,CTDPRS,CTDTMP,CTDSAL,CTDSAL_FLAG_W,SALNTY,SALNTY_FLAG_W,CTDOXY,CTDOXY_FLAG_W,OXYGEN,OXYGEN_FLAG_W,SILCAT,SILCAT_FLAG_W,NITRAT,NITRAT_FLAG_W,NITRIT,NITRIT_FLAG_W,PHSPHT,PHSPHT_FLAG_W,CFC-11,CFC-11_FLAG_W,CFC-12,CFC-12_FLAG_W,TRITUM,TRITUM_FLAG_W,HELIUM,HELIUM_FLAG_W,DELHE3,DELHE3_FLAG_W,DELC14,DELC14_FLAG_W,DELC13,DELC13_FLAG_W,NEON,NEON_FLAG_W,TCARBN,TCARBN_FLAG_W,PCO2,PCO2_FLAG_W,PCO2TMP,C14ERR,HELIER,DELHER,NEONER,THETA,TRITER
,,,,,,,,,,,,DBAR,ITS-90,PSS-78,,PSS-78,,UMOL/KG,,UMOL/KG,,UMOL/KG,,UMOL/KG,,UMOL/KG,,UMOL/KG,,PMOL/KG,,PMOL/KG,,TU,,NMOL/KG,,PERCNT,,/MILLE,,/MILLE,,NMOL/KG,,UMOL/KG,,UATM,,DEG_C,/MILLE,NMOL/KG,PERCNT,NMOL/KG,ITS-90,TU
     316N138_5,  P06W,   232,  1,     36,1385-36,2,19920722,1957,-30.0877, 156.9240, 4861,     14.9,  20.1953,  35.5572,2,  35.5571,2,    251.8,4,    218.6,2,     0.82,2,     0.53,2,     0.18,2,     0.17,2, -999.000,5, -999.000,5,    0.915,2,   1.7840,2,    -1.20,2,   -999.0,9,  -999.00,9,-999.000,9,   -999.0,9,   -999.0,9, -999.00,  -999.0,-999.0000,   0.150,-999.000, 20.1925,   0.009
     316N138_5,  P06W,   232,  1,     35,02-9454,2,19920722,1957,-30.0877, 156.9240, 4861,     54.2,  20.2022,  35.5563,2,  35.5616,3,    225.8,2,    218.2,2,     0.82,2,     0.48,2,     0.17,2,     0.18,2, -999.000,5, -999.000,5,    0.935,2,   1.7810,2,    -1.07,2,   -999.0,9,  -999.00,9,-999.000,9,   -999.0,9,   -999.0,9, -999.00,  -999.0,-999.0000,   0.150,-999.000, 20.1922,   0.009
     316N138_5,  P06W,   232,  1,     34,02-9457,2,19920722,1957,-30.0877, 156.9240, 4861,    103.4,  20.2113,  35.5589,2,  35.5577,2,    225.2,2,    218.2,2,     0.82,2,     0.51,2,     0.18,2,     0.19,2, -999.000,5, -999.000,5,    1.108,2,   1.7690,2,    -1.24,2,   -999.0,9,  -999.00,9,-999.000,9,   -999.0,9,   -999.0,9, -999.00,  -999.0,-999.0000,   0.150,-999.000, 20.1921,   0.006
     316N138_5,  P06W,   232,  1,     33,1385-33,2,19920722,1957,-30.0877, 156.9240, 4861,    154.0,  19.8971,  35.5481,2,  35.5472,2,    202.0,2,    209.3,2,     0.82,2,     1.43,2,     0.21,2,     0.26,2, -999.000,5, -999.000,5, -999.000,9,-999.0000,9,  -999.00,9,   -999.0,9,  -999.00,9,-999.000,9,   -999.0,9,   -999.0,9, -999.00,  -999.0,-999.0000,-999.000,-999.000, 19.8687,-999.000
     316N138_5,  P06W,   232,  1,     32,02-9510,2,19920722,1957,-30.0877, 156.9240, 4861,    204.3,  18.6379,  35.5819,2,  35.5559,2,    186.3,2,    185.3,2,     1.72,2,     5.01,2,     0.02,2,     0.49,2, -999.000,5, -999.000,5,    0.708,2,   1.7820,2,    -0.10,2,   -999.0,9,  -999.00,9,-999.000,9,   -999.0,9,   -999.0,9, -999.00,  -999.0,-999.0000,   0.150,-999.000, 18.6018,   0.004
     316N138_5,  P06W,   232,  1,     31,02-9453,2,19920722,1957,-30.0877, 156.9240, 4861,    256.1,  17.4620,  35.4901,2,  35.5016,2,    181.0,2,    182.4,2,     2.25,2,     6.51,2,     0.01,2,     0.59,2, -999.000,5, -999.000,5, -999.000,9,-999.0000,9,  -999.00,9,   -999.0,9,  -999.00,9,-999.000,9,   -999.0,9,   -999.0,9, -999.00,  -999.0,-999.0000,-999.000,-999.000, 17.4187,-999.000
     316N138_5,  P06W,   232,  1,     30,02-9456,2,19920722,1957,-30.0877, 156.9240, 4861,    304.4,  15.6283,  35.3521,2,  35.3545,2,    185.3,2,    176.7,2,     3.49,2,     9.56,2,     0.01,2,     0.79,2, -999.000,5, -999.000,5,    0.636,2,   1.7980,2,     0.61,2,   -999.0,9,  -999.00,9,-999.000,9,   -999.0,9,   -999.0,9, -999.00,  -999.0,-999.0000,   0.150,-999.000, 15.5807,   0.004
     316N138_5,  P06W,   232,  1,     29,02-9458,2,19920722,1957,-30.0877, 156.9240, 4861,    403.0,  13.5282,  35.1937,2,  35.1931,2,    184.3,2,    186.3,2,     4.57,2,    11.97,2,     0.01,2,     0.95,2, -999.000,5, -999.000,5,    0.538,2,   1.8210,2,     0.49,2,   -999.0,9,  -999.00,9,-999.000,9,   -999.0,9,   -999.0,9, -999.00,  -999.0,-999.0000,   0.150,-999.000, 13.4708,   0.004
     316N138_5,  P06W,   232,  1,     28,02-9454,2,19920722,1957,-30.0877, 156.9240, 4861,    503.9,  11.2123,  34.9250,2,  34.9364,2,    186.0,2,    187.3,2,     6.88,2,    16.37,2,     0.01,2,     1.21,2, -999.000,5, -999.000,5,    0.387,2,   1.8250,2,     0.87,2,   -999.0,9,  -999.00,9,-999.000,9,   -999.0,9,   -999.0,9, -999.00,  -999.0,-999.0000,   0.150,-999.000, 11.1486,   0.003
     316N138_5,  P06W,   232,  1,     27,02-9543,2,19920722,1957,-30.0877, 156.9240, 4861,    603.8,   9.1299,  34.6921,2,  34.6989,2,    193.1,2,    192.3,2,    10.27,2,    20.68,2,     0.00,2,     1.47,2, -999.000,5, -999.000,5,    0.260,2,   1.8410,2,     1.13,2,   -999.0,9,  -999.00,9,-999.000,9,   -999.0,9,   -999.0,9, -999.00,  -999.0,-999.0000,   0.150,-999.000,  9.0625,   0.003
     316N138_5,  P06W,   232,  1,     26,02-9544,2,19920722,1957,-30.0877, 156.9240, 4861,    704.1,   7.8488,  34.5768,2,  34.5732,2,    193.9,2,    191.3,2,    15.26,2,    23.66,2,     0.01,2,     1.68,2, -999.000,5, -999.000,5,    0.157,2,   1.8550,2,     2.17,2,   -999.0,9,  -999.00,9,-999.000,9,   -999.0,9,   -999.0,9, -999.00,  -999.0,-999.0000,   0.150,-999.000,  7.7764,   0.005
     316N138_5,  P06W,   232,  1,     25,02-9455,2,19920722,1957,-30.0877, 156.9240, 4861,    805.6,   6.8668,  34.5027,2,  34.5099,2,    192.2,2,    214.9,4,    21.50,2,    26.27,2,     0.01,2,     1.85,2, -999.000,5, -999.000,5,    0.086,2,   1.8650,2,     3.21,2,   -999.0,9,  -999.00,9,-999.000,9,   -999.0,9,   -999.0,9, -999.00,  -999.0,-999.0000,   0.150,-999.000,  6.7895,   0.002
     316N138_5,  P06W,   232,  1,     24,    132,2,19920722,1957,-30.0877, 156.9240, 4861,    905.1,   6.0180,  34.4725,2,  34.4848,2,    188.7,2,    185.0,2,    29.52,2,    28.11,2,     0.00,2,     1.97,2, -999.000,5, -999.000,5, -999.000,9,-999.0000,9,  -999.00,9,   -999.0,9,  -999.00,9,-999.000,9,   -999.0,9,   -999.0,9, -999.00,  -999.0,-999.0000,-999.000,-999.000,  5.9362,-999.000
     316N138_5,  P06W,   232,  1,     23,    123,2,19920722,1957,-30.0877, 156.9240, 4861,   1006.2,   5.3133,  34.4804,3,  34.4669,2,    183.0,2,    180.6,2,    39.14,2,    29.90,2,     0.00,2,     2.10,2, -999.000,5, -999.000,5,    0.034,2,   1.8720,2,     6.72,2,   -999.0,9,  -999.00,9,-999.000,9,   -999.0,9,   -999.0,9, -999.00,  -999.0,-999.0000,   0.150,-999.000,  5.2270,   0.002
     316N138_5,  P06W,   232,  1,     22,    128,2,19920722,1957,-30.0877, 156.9240, 4861,   1106.8,   4.6797,  34.4835,2,  34.4809,2,    175.8,2,    174.2,2,    50.54,2,    31.43,2,     0.00,2,     2.22,2, -999.000,5, -999.000,5, -999.000,9,-999.0000,9,  -999.00,9,   -999.0,9,  -999.00,9,-999.000,9,   -999.0,9,   -999.0,9, -999.00,  -999.0,-999.0000,-999.000,-999.000,  4.5893,-999.000
     316N138_5,  P06W,   232,  1,     21,    121,2,19920722,1957,-30.0877, 156.9240, 4861,   1198.1,   4.1455,  34.5031,2,  34.5013,2,    169.6,2,    167.2,2,    61.41,2,    32.68,2,     0.00,2,     2.31,2, -999.000,5, -999.000,5,    0.011,2,   1.9080,2,    11.57,2,   -999.0,9,  -999.00,9,-999.000,9,   -999.0,9,   -999.0,9, -999.00,  -999.0,-999.0000,   0.150,-999.000,  4.0517,   0.002
     316N138_5,  P06W,   232,  1,     20,    515,2,19920722,1957,-30.0877, 156.9240, 4861,   1299.4,   3.8036,  34.5312,2,  34.5278,2,    162.5,2,    161.3,2,    72.10,2,    33.63,2,     0.01,2,     2.39,2, -999.000,5, -999.000,5, -999.000,9,-999.0000,9,  -999.00,9,   -999.0,9,  -999.00,9,-999.000,9,   -999.0,9,   -999.0,9, -999.00,  -999.0,-999.0000,-999.000,-999.000,  3.7042,-999.000
     316N138_5,  P06W,   232,  1,     19,    120,2,19920722,1957,-30.0877, 156.9240, 4861,   1399.2,   3.4349,  34.5545,2,  34.5496,2,    158.0,2,    158.7,3,    80.47,2,    34.30,2,     0.00,2,     2.45,2, -999.000,5, -999.000,5,    0.003,2,   1.8870,2,    15.57,2,   -999.0,9,  -999.00,9,-999.000,9,   -999.0,9,   -999.0,9, -999.00,  -999.0,-999.0000,   0.150,-999.000,  3.3308,   0.002
     316N138_5,  P06W,   232,  1,     18,    118,2,19920722,1957,-30.0877, 156.9240, 4861,   1603.1,   2.9151,  34.5960,2,  34.5956,2,    150.9,2,    150.9,2,    95.08,2,    35.26,2,     0.00,2,     2.52,2, -999.000,5, -999.000,5,    0.003,2,   1.9660,2,    18.34,2,   -999.0,9,  -999.00,9,-999.000,9,   -999.0,9,   -999.0,9, -999.00,  -999.0,-999.0000,   0.150,-999.000,  2.7996,   0.002
     316N138_5,  P06W,   232,  1,     17,    514,2,19920722,1957,-30.0877, 156.9240, 4861,   1803.4,   2.5715,  34.6322,2,  34.6333,2,    154.8,2,    155.8,2,    97.94,2,    34.87,2,     0.00,2,     2.49,2, -999.000,5, -999.000,5,    0.004,2,   1.9500,2,    17.06,2,   -999.0,9,  -999.00,9,-999.000,9,   -999.0,9,   -999.0,9, -999.00,  -999.0,-999.0000,   0.150,-999.000,  2.4434,   0.002
     316N138_5,  P06W,   232,  1,     16,    116,2,19920722,1957,-30.0877, 156.9240, 4861,   2006.6,   2.3613,  34.6595,2,  34.6608,2,    160.7,2,    162.7,2,    97.93,2,    34.22,2,     0.00,2,     2.45,2, -999.000,5, -999.000,5,   -0.002,2,   1.9480,2,    15.41,2,   -999.0,9,  -999.00,9,-999.000,9,   -999.0,9,   -999.0,9, -999.00,  -999.0,-999.0000,   0.150,-999.000,  2.2188,   0.002
     316N138_5,  P06W,   232,  1,     15,    115,2,19920722,1957,-30.0877, 156.9240, 4861,   2200.3,   2.2115,  34.6832,2,  34.6924,4,    169.1,2,    168.6,2,    95.98,2,    33.54,2,     0.00,2,     2.39,2,   -0.001,2,    0.001,2, -999.000,9,-999.0000,9,  -999.00,9,   -999.0,9,  -999.00,9,-999.000,9,   -999.0,9,   -999.0,9, -999.00,  -999.0,-999.0000,-999.000,-999.000,  2.0543,-999.000
     316N138_5,  P06W,   232,  1,     14,    513,2,19920722,1957,-30.0877, 156.9240, 4861,   2403.5,   2.0513,  34.7032,2,  34.7062,2,    176.0,2,    176.3,2,    96.34,2,    32.85,2,    -0.01,2,     2.34,2,   -0.002,2,    0.000,2, -999.000,9,-999.0000,9,  -999.00,9,   -999.0,9,  -999.00,9,-999.000,9,   -999.0,9,   -999.0,9, -999.00,  -999.0,-999.0000,-999.000,-999.000,  1.8786,-999.000
     316N138_5,  P06W,   232,  1,     13,    125,2,19920722,1957,-30.0877, 156.9240, 4861,   2605.2,   1.8613,  34.7145,2,  34.7144,2,    181.2,2,    181.3,2,    99.73,2,    32.65,2,     0.00,2,     2.32,2,    0.000,2,    0.000,2, -999.000,9,-999.0000,9,  -999.00,9,   -999.0,9,  -999.00,9,-999.000,9,   -999.0,9,   -999.0,9, -999.00,  -999.0,-999.0000,-999.000,-999.000,  1.6737,-999.000
     316N138_5,  P06W,   232,  1,     12,    112,2,19920722,1957,-30.0877, 156.9240, 4861,   2799.0,   1.5948,  34.7205,2,  34.7241,2,    187.3,2,    187.0,2,   105.08,2,    32.44,2,     0.00,2,     2.31,2, -999.000,5, -999.000,5, -999.000,9,-999.0000,9,  -999.00,9,   -999.0,9,  -999.00,9,-999.000,9,   -999.0,9,   -999.0,9, -999.00,  -999.0,-999.0000,-999.000,-999.000,  1.3947,-999.000
     316N138_5,  P06W,   232,  1,     11,    129,2,19920722,1957,-30.0877, 156.9240, 4861,   3002.1,   1.4417,  34.7211,2,  34.7268,2,    190.6,2,    189.6,2,   109.00,2,    32.43,2,     0.00,2,     2.32,2, -999.000,5, -999.000,5, -999.000,9,-999.0000,9,  -999.00,9,   -999.0,9,  -999.00,9,-999.000,9,   -999.0,9,   -999.0,9, -999.00,  -999.0,-999.0000,-999.000,-999.000,  1.2257,-999.000
     316N138_5,  P06W,   232,  1,     10,    110,2,19920722,1957,-30.0877, 156.9240, 4861,   3194.8,   1.3255,  34.7208,2,  34.7239,2,    192.5,2,    191.8,2,   112.04,2,    32.57,2,     0.00,2,     2.32,2, -999.000,5, -999.000,5, -999.000,9,-999.0000,9,  -999.00,9,   -999.0,9,  -999.00,9,-999.000,9,   -999.0,9,   -999.0,9, -999.00,  -999.0,-999.0000,-999.000,-999.000,  1.0937,-999.000
     316N138_5,  P06W,   232,  1,      9,    126,2,19920722,1957,-30.0877, 156.9240, 4861,   3399.3,   1.2612,  34.7193,2,  34.7188,2,    193.4,2,    194.0,2,   114.00,2,    32.61,2,     0.00,2,     2.33,2, -999.000,5, -999.000,5, -999.000,9,-999.0000,9,  -999.00,9,   -999.0,9,  -999.00,9,-999.000,9,   -999.0,9,   -999.0,9, -999.00,  -999.0,-999.0000,-999.000,-999.000,  1.0110,-999.000
     316N138_5,  P06W,   232,  1,      8,    108,2,19920722,1957,-30.0877, 156.9240, 4861,   3604.4,   1.2564,  34.7190,2,  34.7215,2,    193.4,2,    194.1,2,   114.55,2,    32.60,2,     0.00,2,     2.33,2, -999.000,5, -999.000,5, -999.000,9,-999.0000,9,  -999.00,9,   -999.0,9,  -999.00,9,-999.000,9,   -999.0,9,   -999.0,9, -999.00,  -999.0,-999.0000,-999.000,-999.000,  0.9857,-999.000
     316N138_5,  P06W,   232,  1,      7,    107,2,19920722,1957,-30.0877, 156.9240, 4861,   3799.1,   1.2342,  34.7186,2,  34.7170,2,    193.9,2,    194.7,2,   115.62,2,    32.64,2,     0.00,2,     2.33,2, -999.000,5, -999.000,5, -999.000,9,-999.0000,9,  -999.00,9,   -999.0,9,  -999.00,9,-999.000,9,   -999.0,9,   -999.0,9, -999.00,  -999.0,-999.0000,-999.000,-999.000,  0.9439,-999.000
     316N138_5,  P06W,   232,  1,      6,    180,2,19920722,1957,-30.0877, 156.9240, 4861,   4002.8,   1.2027,  34.7170,2,  34.7172,2,    195.4,2,    196.0,2,   116.70,2,    32.68,2,     0.00,2,     2.33,2, -999.000,5, -999.000,5, -999.000,9,-999.0000,9,  -999.00,9,   -999.0,9,  -999.00,9,-999.000,9,   -999.0,9,   -999.0,9, -999.00,  -999.0,-999.0000,-999.000,-999.000,  0.8917,-999.000
     316N138_5,  P06W,   232,  1,      5,    131,2,19920722,1957,-30.0877, 156.9240, 4861,   4197.4,   1.1902,  34.7163,2,  34.7164,2,    195.5,2,    195.9,2,   117.41,2,    32.67,2,     0.00,2,     2.33,2, -999.000,5, -999.000,5, -999.000,9,-999.0000,9,  -999.00,9,   -999.0,9,  -999.00,9,-999.000,9,   -999.0,9,   -999.0,9, -999.00,  -999.0,-999.0000,-999.000,-999.000,  0.8584,-999.000
     316N138_5,  P06W,   232,  1,      4,    516,2,19920722,1957,-30.0877, 156.9240, 4861,   4402.1,   1.1867,  34.7155,2,  34.7148,2,    196.0,2,    196.1,2,   117.96,2,    32.70,2,     0.00,2,     2.32,2, -999.000,5, -999.000,5, -999.000,9,-999.0000,9,  -999.00,9,   -999.0,9,  -999.00,9,-999.000,9,   -999.0,9,   -999.0,9, -999.00,  -999.0,-999.0000,-999.000,-999.000,  0.8323,-999.000
     316N138_5,  P06W,   232,  1,      3,    130,2,19920722,1957,-30.0877, 156.9240, 4861,   4595.5,   1.1999,  34.7154,2,  34.7148,2,    196.4,2,    195.8,2,   118.32,2,    32.78,2,     0.00,2,     2.32,2,    0.001,2,    0.001,2, -999.000,9,-999.0000,9,  -999.00,9,   -999.0,9,  -999.00,9,-999.000,9,   -999.0,9,   -999.0,9, -999.00,  -999.0,-999.0000,-999.000,-999.000,  0.8231,-999.000
     316N138_5,  P06W,   232,  1,      2,    136,2,19920722,1957,-30.0877, 156.9240, 4861,   4800.9,   1.2136,  34.7149,2,  34.7140,2,    196.4,2,    196.3,2,   118.68,2,    32.72,2,     0.00,2,     2.32,2,   -0.001,2,    0.000,2, -999.000,9,-999.0000,9,  -999.00,9,   -999.0,9,  -999.00,9,-999.000,9,   -999.0,9,   -999.0,9, -999.00,  -999.0,-999.0000,-999.000,-999.000,  0.8126,-999.000
     316N138_5,  P06W,   232,  1,      1,    134,2,19920722,1957,-30.0877, 156.9240, 4861,   4883.5,   1.2155,  34.7148,2,  34.7164,2,    195.2,2,    196.4,2,   118.71,2,    32.74,2,     0.00,2,     2.32,2,    0.002,2,    0.005,2, -999.000,9,-999.0000,9,  -999.00,9,   -999.0,9,  -999.00,9,-999.000,9,   -999.0,9,   -999.0,9, -999.00,  -999.0,-999.0000,-999.000,-999.000,  0.8047,-999.000