BOTTLE,20030219WHPSIOdm
EXPOCODE,SECT_ID,STNNBR,CASTNO,SAMPNO,BTLNBR,BTLNBR_FLAG_W,DATE,TIME,LATITUDE,LONGITUDE,DEPTH,CTDPRS,CTDTMP,CTDSAL,CTDSAL_FLAG_W,SALNTY,SALNTY_FLAG_W,CTDOXY,CTDOXY_FLAG_W,OXYGEN,OXYGEN_FLAG_W,SILCAT,SILCAT_FLAG_W,NITRAT,NITRAT_FLAG_W,NITRIT,NITRIT_FLAG_W,PHSPHT,PHSPHT_FLAG_W,CFC-11,CFC-11_FLAG_W,CFC-12,CFC-12_FLAG_W,TRITUM,TRITUM_FLAG_W,HELIUM,HELIUM_FLAG_W,DELHE3,DELHE3_FLAG_W,DELC14,DELC14_FLAG_W,DELC13,DELC13_FLAG_W,NEON,NEON_FLAG_W,TCARBN,TCARBN_FLAG_W,PCO2,PCO2_FLAG_W,PCO2TMP,C14ERR,HELIER,DELHER,NEONER,THETA,TRITER
,,,,,,,,,,,,DBAR,ITS-90,PSS-78,,PSS-78,,UMOL/KG,,UMOL/KG,,UMOL/KG,,UMOL/KG,,UMOL/KG,,UMOL/KG,,PMOL/KG,,PMOL/KG,,TU,,NMOL/KG,,PERCNT,,/MILLE,,/MILLE,,NMOL/KG,,UMOL/KG,,UATM,,DEG_C,/MILLE,NMOL/KG,PERCNT,NMOL/KG,ITS-90,TU
     316N138_5,  P06W,   239,  1,     36,1385-36,2,19920724,0932,-30.0923, 154.1535, 4606,     25.2,  20.8748,  35.5245,2,  35.5239,2,    243.8,3,    215.4,2,     0.90,2,     0.60,2,     0.22,2,     0.18,2,    2.049,2,    1.106,2, -999.000,9,-999.0000,9,  -999.00,9,   -999.0,9,  -999.00,9,-999.000,9,   1998.6,6,   -999.0,9, -999.00,  -999.0,-999.0000,-999.000,-999.000, 20.8700,-999.000
     316N138_5,  P06W,   239,  1,     35,02-9454,2,19920724,0932,-30.0923, 154.1535, 4606,     64.5,  20.8099,  35.5282,2,  35.5279,2,    218.1,2,    215.4,2,     0.90,2,     0.63,2,     0.23,2,     0.19,2,    2.056,2,    1.109,2, -999.000,9,-999.0000,9,  -999.00,9,   -999.0,9,  -999.00,9,-999.000,9,   1999.2,2,   -999.0,9, -999.00,  -999.0,-999.0000,-999.000,-999.000, 20.7976,-999.000
     316N138_5,  P06W,   239,  1,     34,02-9457,2,19920724,0932,-30.0923, 154.1535, 4606,    112.3,  20.6836,  35.5313,2,  35.5294,2,    217.5,2,    214.7,2,     0.90,2,     0.80,2,     0.26,2,     0.20,2,    2.058,2,    1.098,2, -999.000,9,-999.0000,9,  -999.00,9,   -999.0,9,  -999.00,9,-999.000,9,   2003.1,2,   -999.0,9, -999.00,  -999.0,-999.0000,-999.000,-999.000, 20.6623,-999.000
     316N138_5,  P06W,   239,  1,     33,1385-33,2,19920724,0932,-30.0923, 154.1535, 4606,    162.7,  20.6455,  35.5322,2,  35.5310,2,    212.8,2,    220.0,2,     0.90,2,     0.92,2,     0.30,2,     0.22,2, -999.000,5, -999.000,5, -999.000,9,-999.0000,9,  -999.00,9,   -999.0,9,  -999.00,9,-999.000,9,   2003.5,2,   -999.0,9, -999.00,  -999.0,-999.0000,-999.000,-999.000, 20.6147,-999.000
     316N138_5,  P06W,   239,  1,     32,02-9510,2,19920724,0932,-30.0923, 154.1535, 4606,    212.2,  19.5202,  35.5724,2,  35.5721,2,    177.3,2,    177.8,2,     1.61,2,     4.93,2,     0.02,2,     0.48,2,    1.890,2,    1.044,2, -999.000,9,-999.0000,9,  -999.00,9,   -999.0,9,  -999.00,9,-999.000,9,   2051.1,2,   -999.0,9, -999.00,  -999.0,-999.0000,-999.000,-999.000, 19.4815,-999.000
     316N138_5,  P06W,   239,  1,     31,02-9453,2,19920724,0932,-30.0923, 154.1535, 4606,    260.0,  18.2209,  35.5344,2,  35.5340,2,    175.5,2,    178.4,2,     1.97,2,     6.06,2,     0.02,2,     0.58,2, -999.000,5, -999.000,5, -999.000,9,-999.0000,9,  -999.00,9,   -999.0,9,  -999.00,9,-999.000,9,   2063.2,2,   -999.0,9, -999.00,  -999.0,-999.0000,-999.000,-999.000, 18.1756,-999.000
     316N138_5,  P06W,   239,  1,     30,02-9456,2,19920724,0932,-30.0923, 154.1535, 4606,    309.0,  17.0339,  35.4650,2,  35.4582,2,    175.6,2,    178.0,2,     2.51,2,     7.55,2,     0.02,2,     0.67,2,    1.755,2,    0.912,2, -999.000,9,-999.0000,9,  -999.00,9,   -999.0,9,  -999.00,9,-999.000,9,   2076.0,6,   -999.0,9, -999.00,  -999.0,-999.0000,-999.000,-999.000, 16.9825,-999.000
     316N138_5,  P06W,   239,  1,     29,02-9458,2,19920724,0932,-30.0923, 154.1535, 4606,    360.5,  15.5942,  35.3378,2,  35.3451,2,    175.0,2,    175.5,2,     3.57,2,     9.73,2,     0.02,2,     0.81,2, -999.000,5, -999.000,5, -999.000,9,-999.0000,9,  -999.00,9,   -999.0,9,  -999.00,9,-999.000,9,   2091.8,2,   -999.0,9, -999.00,  -999.0,-999.0000,-999.000,-999.000, 15.5377,-999.000
     316N138_5,  P06W,   239,  1,     28,02-9454,2,19920724,0932,-30.0923, 154.1535, 4606,    409.4,  14.2667,  35.2571,2,  35.2530,2,    179.3,2,    182.8,2,     4.11,2,    11.03,2,     0.01,2,     0.90,2,    1.644,2,    0.850,2, -999.000,9,-999.0000,9,  -999.00,9,   -999.0,9,  -999.00,9,-999.000,9,   2098.2,2,   -999.0,9, -999.00,  -999.0,-999.0000,-999.000,-999.000, 14.2062,-999.000
     316N138_5,  P06W,   239,  1,     27,02-9543,2,19920724,0932,-30.0923, 154.1535, 4606,    508.8,  11.9933,  35.0207,2,  35.0266,2,    185.2,2,    187.1,2,     5.91,2,    14.80,2,     0.02,2,     1.14,2,    1.472,2,    0.739,2, -999.000,9,-999.0000,9,  -999.00,9,   -999.0,9,  -999.00,9,-999.000,9,   2117.8,2,   -999.0,9, -999.00,  -999.0,-999.0000,-999.000,-999.000, 11.9261,-999.000
     316N138_5,  P06W,   239,  1,     26,02-9544,2,19920724,0932,-30.0923, 154.1535, 4606,    609.5,   9.5159,  34.6863,3,  34.7327,2,    186.8,2,    189.5,2,     9.66,2,    19.94,2,     0.01,2,     1.46,2,    0.946,2,    0.478,2, -999.000,9,-999.0000,9,  -999.00,9,   -999.0,9,  -999.00,9,-999.000,9,   2137.9,2,   -999.0,9, -999.00,  -999.0,-999.0000,-999.000,-999.000,  9.4454,-999.000
     316N138_5,  P06W,   239,  1,     25,02-9455,2,19920724,0932,-30.0923, 154.1535, 4606,    709.1,   8.0573,  34.5836,2,  34.5867,2,    192.0,2,    191.1,2,    14.13,2,    23.14,2,     0.02,2,     1.68,2,    0.568,2,    0.290,2, -999.000,9,-999.0000,9,  -999.00,9,   -999.0,9,  -999.00,9,-999.000,9,   2150.9,2,   -999.0,9, -999.00,  -999.0,-999.0000,-999.000,-999.000,  7.9833,-999.000
     316N138_5,  P06W,   239,  1,     24,    132,2,19920724,0932,-30.0923, 154.1535, 4606,    809.5,   7.0438,  34.5045,2,  34.5042,2,    193.0,2,    191.9,2,    19.50,2,    25.37,2,     0.01,2,     1.83,2,    0.313,2,    0.168,2, -999.000,9,-999.0000,9,  -999.00,9,   -999.0,9,  -999.00,9,-999.000,9,   2162.5,2,   -999.0,9, -999.00,  -999.0,-999.0000,-999.000,-999.000,  6.9650,-999.000
     316N138_5,  P06W,   239,  1,     23,    123,2,19920724,0932,-30.0923, 154.1535, 4606,    910.9,   6.2564,  34.4779,2,  34.4811,2,    189.6,2,    186.9,2,    26.84,2,    27.44,2,     0.01,2,     1.98,2,    0.182,2,    0.097,2, -999.000,9,-999.0000,9,  -999.00,9,   -999.0,9,  -999.00,9,-999.000,9,   2180.0,2,   -999.0,9, -999.00,  -999.0,-999.0000,-999.000,-999.000,  6.1725,-999.000
     316N138_5,  P06W,   239,  1,     22,    128,2,19920724,0932,-30.0923, 154.1535, 4606,   1012.0,   5.5430,  34.4609,2,  34.4606,2,    184.6,2,    182.1,2,    35.96,2,    29.19,2,     0.01,2,     2.09,2,    0.108,2,    0.058,2, -999.000,9,-999.0000,9,  -999.00,9,   -999.0,9,  -999.00,9,-999.000,9,   -999.0,9,   -999.0,9, -999.00,  -999.0,-999.0000,-999.000,-999.000,  5.4545,-999.000
     316N138_5,  P06W,   239,  1,     21,    121,2,19920724,0932,-30.0923, 154.1535, 4606,   1113.6,   4.8428,  34.4732,2,  34.4722,2,    177.5,2,    174.7,2,    47.95,2,    30.89,2,     0.01,2,     2.22,2,    0.055,2,    0.033,2, -999.000,9,-999.0000,9,  -999.00,9,   -999.0,9,  -999.00,9,-999.000,9,   2211.8,2,   -999.0,9, -999.00,  -999.0,-999.0000,-999.000,-999.000,  4.7505,-999.000
     316N138_5,  P06W,   239,  1,     20,    515,2,19920724,0932,-30.0923, 154.1535, 4606,   1214.4,   4.2746,  34.4972,2,  34.4954,2,    169.7,2,    166.7,2,    59.57,2,    32.29,2,     0.01,2,     2.33,2,    0.022,2,    0.013,2, -999.000,9,-999.0000,9,  -999.00,9,   -999.0,9,  -999.00,9,-999.000,9,   -999.0,9,   -999.0,9, -999.00,  -999.0,-999.0000,-999.000,-999.000,  4.1782,-999.000
     316N138_5,  P06W,   239,  1,     19,    120,2,19920724,0932,-30.0923, 154.1535, 4606,   1318.0,   3.9156,  34.5110,2,  34.5180,2,    162.9,2,    161.7,2,    69.05,2,    33.37,2,     0.01,2,     2.39,2,    0.012,2,    0.011,2, -999.000,9,-999.0000,9,  -999.00,9,   -999.0,9,  -999.00,9,-999.000,9,   2244.4,2,   -999.0,9, -999.00,  -999.0,-999.0000,-999.000,-999.000,  3.8136,-999.000
     316N138_5,  P06W,   239,  1,     18,    118,2,19920724,0932,-30.0923, 154.1535, 4606,   1418.9,   3.5010,  34.5457,2,  34.5455,2,    157.8,2,    155.9,2,    79.25,2,    34.04,2,     0.01,2,     2.45,2,    0.004,2,    0.005,2, -999.000,9,-999.0000,9,  -999.00,9,   -999.0,9,  -999.00,9,-999.000,9,   -999.0,9,   -999.0,9, -999.00,  -999.0,-999.0000,-999.000,-999.000,  3.3945,-999.000
     316N138_5,  P06W,   239,  1,     17,    514,2,19920724,0932,-30.0923, 154.1535, 4606,   1521.3,   3.2326,  34.5674,2,  34.5667,2,    153.3,2,    152.0,2,    86.40,2,    34.59,2,     0.01,2,     2.50,2,    0.004,2,    0.002,2, -999.000,9,-999.0000,9,  -999.00,9,   -999.0,9,  -999.00,9,-999.000,9,   2269.2,2,   -999.0,9, -999.00,  -999.0,-999.0000,-999.000,-999.000,  3.1204,-999.000
     316N138_5,  P06W,   239,  1,     16,    116,2,19920724,0932,-30.0923, 154.1535, 4606,   1723.0,   2.7707,  34.6101,2,  34.6097,2,    152.5,2,    151.8,2,    94.44,2,    34.80,2,     0.01,2,     2.52,2,    0.003,2,    0.010,2, -999.000,9,-999.0000,9,  -999.00,9,   -182.6,2,     0.33,2,-999.000,9,   -999.0,9,   -999.0,9, -999.00,     2.6,-999.0000,-999.000,-999.000,  2.6469,-999.000
     316N138_5,  P06W,   239,  1,     15,    115,2,19920724,0932,-30.0923, 154.1535, 4606,   1924.7,   2.4682,  34.6461,2,  34.6439,2,    157.7,2,    158.5,2,    96.22,2,    34.32,2,     0.01,2,     2.47,2,    0.001,2,    0.000,2, -999.000,9,-999.0000,9,  -999.00,9,   -193.3,2,     0.34,2,-999.000,9,   2277.1,2,   -999.0,9, -999.00,     3.8,-999.0000,-999.000,-999.000,  2.3311,-999.000
     316N138_5,  P06W,   239,  1,     14,    513,2,19920724,0932,-30.0923, 154.1535, 4606,   2123.5,   2.2745,  34.6768,2,  34.6745,2,    165.0,2,    167.0,2,    94.60,2,    33.43,2,     0.01,2,     2.40,2,   -0.001,2,    0.003,2, -999.000,9,-999.0000,9,  -999.00,9,   -173.0,2,     0.37,2,-999.000,9,   -999.0,9,   -999.0,9, -999.00,     2.8,-999.0000,-999.000,-999.000,  2.1230,-999.000
     316N138_5,  P06W,   239,  1,     13,    125,2,19920724,0932,-30.0923, 154.1535, 4606,   2322.7,   2.1072,  34.6997,2,  34.7011,2,    174.1,2,    175.2,2,    94.06,2,    32.75,2,     0.00,2,     2.34,2,    0.001,2,    0.000,2, -999.000,9,-999.0000,9,  -999.00,9,   -173.0,2,     0.40,2,-999.000,9,   2264.8,2,   -999.0,9, -999.00,     2.3,-999.0000,-999.000,-999.000,  1.9408,-999.000
     316N138_5,  P06W,   239,  1,     12,    112,2,19920724,0932,-30.0923, 154.1535, 4606,   2520.3,   1.9529,  34.7157,2,  34.7154,2,    179.6,2,    180.8,2,    96.20,2,    32.33,2,     0.00,2,     2.30,2,   -0.003,2,    0.004,2, -999.000,9,-999.0000,9,  -999.00,9,   -164.1,2,     0.38,2,-999.000,9,   -999.0,9,   -999.0,9, -999.00,     2.4,-999.0000,-999.000,-999.000,  1.7714,-999.000
     316N138_5,  P06W,   239,  1,     11,    129,2,19920724,0932,-30.0923, 154.1535, 4606,   2720.0,   1.7993,  34.7225,2,  34.7221,2,    183.5,2,    184.5,2,    99.60,2,    32.23,2,     0.00,2,     2.29,2,    0.004,2,    0.003,2, -999.000,9,-999.0000,9,  -999.00,9,   -183.2,2,     0.39,2,-999.000,9,   -999.0,9,   -999.0,9, -999.00,     2.1,-999.0000,-999.000,-999.000,  1.6023,-999.000
     316N138_5,  P06W,   239,  1,     10,    110,2,19920724,0932,-30.0923, 154.1535, 4606,   2920.9,   1.6255,  34.7254,2,  34.7270,2,    187.1,2,    188.3,2,   103.71,2,    32.22,2,     0.00,2,     2.30,2, -999.000,5, -999.000,5, -999.000,9,-999.0000,9,  -999.00,9,   -182.3,2,     0.43,2,-999.000,9,   2264.6,2,   -999.0,9, -999.00,     2.7,-999.0000,-999.000,-999.000,  1.4133,-999.000
     316N138_5,  P06W,   239,  1,      9,    126,2,19920724,0932,-30.0923, 154.1535, 4606,   3124.6,   1.4658,  34.7243,2,  34.7245,2,    191.2,2,    190.8,2,   108.17,2,    32.41,2,     0.00,2,     2.31,2,    0.000,2,    0.001,2, -999.000,9,-999.0000,9,  -999.00,9,   -174.3,2,     0.38,2,-999.000,9,   -999.0,9,   -999.0,9, -999.00,     2.2,-999.0000,-999.000,-999.000,  1.2376,-999.000
     316N138_5,  P06W,   239,  1,      8,    108,2,19920724,0932,-30.0923, 154.1535, 4606,   3327.5,   1.3218,  34.7203,2,  34.7219,2,    193.0,2,    193.5,2,   111.56,2,    32.76,2,     0.00,2,     2.31,2, -999.000,5, -999.000,5, -999.000,9,-999.0000,9,  -999.00,9,   -173.6,2,     0.37,2,-999.000,9,   2269.9,2,   -999.0,9, -999.00,     2.7,-999.0000,-999.000,-999.000,  1.0771,-999.000
     316N138_5,  P06W,   239,  1,      7,    107,2,19920724,0932,-30.0923, 154.1535, 4606,   3531.8,   1.2310,  34.7189,2,  34.7180,2,    193.4,2,    194.4,2,   114.06,2,    32.75,2,     0.01,2,     2.32,2,    0.000,2,    0.001,2, -999.000,9,-999.0000,9,  -999.00,9,   -169.6,2,     0.37,2,-999.000,9,   -999.0,9,   -999.0,9, -999.00,     2.5,-999.0000,-999.000,-999.000,  0.9683,-999.000
     316N138_5,  P06W,   239,  1,      6,    180,2,19920724,0932,-30.0923, 154.1535, 4606,   3735.7,   1.1757,  34.7172,2,  34.7176,2,    194.7,2,    195.7,2,   115.85,2,    32.84,2,     0.01,2,     2.33,2, -999.000,5, -999.000,5, -999.000,9,-999.0000,9,  -999.00,9,   -175.0,2,     0.44,2,-999.000,9,   2273.5,2,   -999.0,9, -999.00,     1.9,-999.0000,-999.000,-999.000,  0.8935,-999.000
     316N138_5,  P06W,   239,  1,      5,    131,2,19920724,0932,-30.0923, 154.1535, 4606,   3940.9,   1.1514,  34.7160,2,  34.7160,2,    195.2,2,    196.1,2,   116.91,2,    32.85,2,     0.00,2,     2.33,2,    0.003,2,   -0.001,2, -999.000,9,-999.0000,9,  -999.00,9,   -176.7,2,     0.39,2,-999.000,9,   -999.0,9,   -999.0,9, -999.00,     2.7,-999.0000,-999.000,-999.000,  0.8484,-999.000
     316N138_5,  P06W,   239,  1,      4,    516,2,19920724,0932,-30.0923, 154.1535, 4606,   4145.4,   1.1481,  34.7147,2,  34.7148,2,    195.9,2,    196.2,2,   117.45,2,    32.83,2,     0.01,2,     2.34,2, -999.000,5, -999.000,5, -999.000,9,-999.0000,9,  -999.00,9,   -168.0,2,     0.37,2,-999.000,9,   2275.4,2,   -999.0,9, -999.00,     2.1,-999.0000,-999.000,-999.000,  0.8233,-999.000
     316N138_5,  P06W,   239,  1,      3,    130,2,19920724,0932,-30.0923, 154.1535, 4606,   4349.6,   1.1535,  34.7142,2,  34.7172,2,    196.0,2,    196.4,2,   117.98,2,    32.67,2,     0.01,2,     2.32,2,    0.001,2,    0.002,2, -999.000,9,-999.0000,9,  -999.00,9,   -176.4,2,     0.40,2,-999.000,9,   -999.0,9,   -999.0,9, -999.00,     1.9,-999.0000,-999.000,-999.000,  0.8060,-999.000
     316N138_5,  P06W,   239,  1,      2,    136,2,19920724,0932,-30.0923, 154.1535, 4606,   4556.2,   1.1583,  34.7136,2,  34.7134,2,    195.1,2,    196.6,2,   118.52,2,    32.77,2,     0.00,2,     2.33,2,    0.007,4,    0.004,2, -999.000,9,-999.0000,9,  -999.00,9,   -166.6,2,     0.41,2,-999.000,9,   -999.0,9,   -999.0,9, -999.00,     2.2,-999.0000,-999.000,-999.000,  0.7874,-999.000
     316N138_5,  P06W,   239,  1,      1,    134,2,19920724,0932,-30.0923, 154.1535, 4606,   4670.3,   1.1634,  34.7141,2,  34.7140,2,    195.5,2,    196.6,2,   118.81,2,    32.60,2,     0.01,2,     2.30,2,    0.001,2,    0.003,2, -999.000,9,-999.0000,9,  -999.00,9,   -175.8,2,     0.34,2,-999.000,9,   2277.6,6,   -999.0,9, -999.00,     2.6,-999.0000,-999.000,-999.000,  0.7792,-999.000