BOTTLE,20030219WHPSIOdm
EXPOCODE,SECT_ID,STNNBR,CASTNO,SAMPNO,BTLNBR,BTLNBR_FLAG_W,DATE,TIME,LATITUDE,LONGITUDE,DEPTH,CTDPRS,CTDTMP,CTDSAL,CTDSAL_FLAG_W,SALNTY,SALNTY_FLAG_W,CTDOXY,CTDOXY_FLAG_W,OXYGEN,OXYGEN_FLAG_W,SILCAT,SILCAT_FLAG_W,NITRAT,NITRAT_FLAG_W,NITRIT,NITRIT_FLAG_W,PHSPHT,PHSPHT_FLAG_W,CFC-11,CFC-11_FLAG_W,CFC-12,CFC-12_FLAG_W,TRITUM,TRITUM_FLAG_W,HELIUM,HELIUM_FLAG_W,DELHE3,DELHE3_FLAG_W,DELC14,DELC14_FLAG_W,DELC13,DELC13_FLAG_W,NEON,NEON_FLAG_W,TCARBN,TCARBN_FLAG_W,PCO2,PCO2_FLAG_W,PCO2TMP,C14ERR,HELIER,DELHER,NEONER,THETA,TRITER
,,,,,,,,,,,,DBAR,ITS-90,PSS-78,,PSS-78,,UMOL/KG,,UMOL/KG,,UMOL/KG,,UMOL/KG,,UMOL/KG,,UMOL/KG,,PMOL/KG,,PMOL/KG,,TU,,NMOL/KG,,PERCNT,,/MILLE,,/MILLE,,NMOL/KG,,UMOL/KG,,UATM,,DEG_C,/MILLE,NMOL/KG,PERCNT,NMOL/KG,ITS-90,TU
     316N138_5,  P06W,   230,  1,     17,    514,2,19920722,1219,-30.0845, 157.6642, 1851,     15.4,  20.2809,  35.5547,2,  35.5553,2,    243.6,2,    224.1,2,     0.76,2,     0.49,2,     0.21,2,     0.19,2, -999.000,5, -999.000,5, -999.000,9,-999.0000,9,  -999.00,9,   -999.0,9,  -999.00,9,-999.000,9,   -999.0,9,   -999.0,9, -999.00,  -999.0,-999.0000,-999.000,-999.000, 20.2780,-999.000
     316N138_5,  P06W,   230,  1,     16,    116,2,19920722,1219,-30.0845, 157.6642, 1851,     54.6,  20.2864,  35.5547,2,  35.5523,2,    224.5,2,    224.9,2,     0.77,2,     0.48,2,     0.22,2,     0.19,2, -999.000,5, -999.000,5, -999.000,9,-999.0000,9,  -999.00,9,   -999.0,9,  -999.00,9,-999.000,9,   -999.0,9,   -999.0,9, -999.00,  -999.0,-999.0000,-999.000,-999.000, 20.2762,-999.000
     316N138_5,  P06W,   230,  1,     15,    115,3,19920722,1219,-30.0845, 157.6642, 1851,    105.1,  20.2875,  35.5549,2,  35.5545,2,    223.6,2,    224.6,2,     0.77,2,     0.52,2,     0.22,2,     0.20,2, -999.000,5, -999.000,5, -999.000,9,-999.0000,9,  -999.00,9,   -999.0,9,  -999.00,9,-999.000,9,   -999.0,9,   -999.0,9, -999.00,  -999.0,-999.0000,-999.000,-999.000, 20.2678,-999.000
     316N138_5,  P06W,   230,  1,     14,    513,2,19920722,1219,-30.0845, 157.6642, 1851,    202.3,  18.8281,  35.5630,2,  35.5551,2,    185.0,2,    181.2,2,     1.70,2,     5.53,2,     0.02,2,     0.53,2, -999.000,5, -999.000,5, -999.000,9,-999.0000,9,  -999.00,9,   -999.0,9,  -999.00,9,-999.000,9,   -999.0,9,   -999.0,9, -999.00,  -999.0,-999.0000,-999.000,-999.000, 18.7921,-999.000
     316N138_5,  P06W,   230,  1,     13,    125,2,19920722,1219,-30.0845, 157.6642, 1851,    303.0,  15.9474,  35.4015,2,  35.4018,2,    185.4,2,    183.4,2,     2.81,2,     8.41,2,     0.01,2,     0.71,2, -999.000,5, -999.000,5, -999.000,9,-999.0000,9,  -999.00,9,   -999.0,9,  -999.00,9,-999.000,9,   -999.0,9,   -999.0,9, -999.00,  -999.0,-999.0000,-999.000,-999.000, 15.8993,-999.000
     316N138_5,  P06W,   230,  1,     12,    112,2,19920722,1219,-30.0845, 157.6642, 1851,    400.5,  13.2028,  35.1892,2,  35.1656,2,    187.3,2,    185.8,2,     4.67,2,    12.47,2,     0.01,2,     0.98,2, -999.000,5, -999.000,5, -999.000,9,-999.0000,9,  -999.00,9,   -999.0,9,  -999.00,9,-999.000,9,   -999.0,9,   -999.0,9, -999.00,  -999.0,-999.0000,-999.000,-999.000, 13.1467,-999.000
     316N138_5,  P06W,   230,  1,     11,    129,2,19920722,1219,-30.0845, 157.6642, 1851,    498.7,  11.1084,  34.9476,2,  34.9274,2,    187.7,2,    187.8,2,     6.89,2,    16.48,2,     0.01,2,     1.21,2, -999.000,5, -999.000,5, -999.000,9,-999.0000,9,  -999.00,9,   -999.0,9,  -999.00,9,-999.000,9,   -999.0,9,   -999.0,9, -999.00,  -999.0,-999.0000,-999.000,-999.000, 11.0457,-999.000
     316N138_5,  P06W,   230,  1,     10,    110,2,19920722,1219,-30.0845, 157.6642, 1851,    597.5,   9.4442,  34.7293,2,  34.7294,2,    191.6,2,    191.4,2,     9.49,2,    20.02,2,     0.01,2,     1.44,2, -999.000,5, -999.000,5, -999.000,9,-999.0000,9,  -999.00,9,   -999.0,9,  -999.00,9,-999.000,9,   -999.0,9,   -999.0,9, -999.00,  -999.0,-999.0000,-999.000,-999.000,  9.3761,-999.000
     316N138_5,  P06W,   230,  1,      9,    126,2,19920722,1219,-30.0845, 157.6642, 1851,    695.2,   8.1264,  34.5946,2,  34.5983,2,    190.5,2,    190.8,2,    13.77,2,    23.09,2,     0.01,2,     1.66,2, -999.000,5, -999.000,5, -999.000,9,-999.0000,9,  -999.00,9,   -999.0,9,  -999.00,9,-999.000,9,   -999.0,9,   -999.0,9, -999.00,  -999.0,-999.0000,-999.000,-999.000,  8.0536,-999.000
     316N138_5,  P06W,   230,  1,      8,    108,3,19920722,1219,-30.0845, 157.6642, 1851,    795.4,   7.0718,  34.5109,2,  34.5276,4,    189.8,2,    190.1,2,    19.16,2,    25.06,2,     0.01,2,     1.78,2, -999.000,5, -999.000,5, -999.000,9,-999.0000,9,  -999.00,9,   -999.0,9,  -999.00,9,-999.000,9,   -999.0,9,   -999.0,9, -999.00,  -999.0,-999.0000,-999.000,-999.000,  6.9942,-999.000
     316N138_5,  P06W,   230,  1,      7,    107,2,19920722,1219,-30.0845, 157.6642, 1851,    892.6,   6.2645,  34.4769,2,  34.4756,2,    188.3,2,    187.1,2,    26.79,2,    27.42,2,     0.01,2,     1.94,2, -999.000,5, -999.000,5, -999.000,9,-999.0000,9,  -999.00,9,   -999.0,9,  -999.00,9,-999.000,9,   -999.0,9,   -999.0,9, -999.00,  -999.0,-999.0000,-999.000,-999.000,  6.1823,-999.000
     316N138_5,  P06W,   230,  1,      6,    180,2,19920722,1219,-30.0845, 157.6642, 1851,    993.8,   5.3719,  34.4670,2,  34.4659,2,    181.4,2,    180.5,2,    38.89,2,    29.64,2,     0.00,2,     2.10,2, -999.000,5, -999.000,5, -999.000,9,-999.0000,9,  -999.00,9,   -999.0,9,  -999.00,9,-999.000,9,   -999.0,9,   -999.0,9, -999.00,  -999.0,-999.0000,-999.000,-999.000,  5.2863,-999.000
     316N138_5,  P06W,   230,  1,      5,    131,2,19920722,1219,-30.0845, 157.6642, 1851,   1091.6,   4.7953,  34.4805,2,  34.4775,2,    174.5,2,    173.1,2,    48.96,2,    31.14,2,     0.01,2,     2.20,2, -999.000,5, -999.000,5, -999.000,9,-999.0000,9,  -999.00,9,   -999.0,9,  -999.00,9,-999.000,9,   -999.0,9,   -999.0,9, -999.00,  -999.0,-999.0000,-999.000,-999.000,  4.7054,-999.000
     316N138_5,  P06W,   230,  1,      4,    516,2,19920722,1219,-30.0845, 157.6642, 1851,   1293.3,   3.7611,  34.5260,2,  34.5247,2,    161.0,2,    159.5,2,    71.69,2,    33.60,2,     0.00,2,     2.38,2, -999.000,5, -999.000,5, -999.000,9,-999.0000,9,  -999.00,9,   -999.0,9,  -999.00,9,-999.000,9,   -999.0,9,   -999.0,9, -999.00,  -999.0,-999.0000,-999.000,-999.000,  3.6627,-999.000
     316N138_5,  P06W,   230,  1,      3,    130,2,19920722,1219,-30.0845, 157.6642, 1851,   1493.9,   3.1253,  34.5771,2,  34.5749,2,    152.8,2,    151.9,2,    88.31,2,    34.57,2,     0.01,2,     2.47,2, -999.000,5, -999.000,5, -999.000,9,-999.0000,9,  -999.00,9,   -999.0,9,  -999.00,9,-999.000,9,   -999.0,9,   -999.0,9, -999.00,  -999.0,-999.0000,-999.000,-999.000,  3.0166,-999.000
     316N138_5,  P06W,   230,  1,      2,    136,2,19920722,1219,-30.0845, 157.6642, 1851,   1697.2,   2.6974,  34.6188,2,  34.6193,2,    150.6,2,    150.5,2,    98.61,3,    34.86,3,     0.01,3,     2.50,3, -999.000,5, -999.000,5, -999.000,9,-999.0000,9,  -999.00,9,   -999.0,9,  -999.00,9,-999.000,9,   -999.0,9,   -999.0,9, -999.00,  -999.0,-999.0000,-999.000,-999.000,  2.5766,-999.000
     316N138_5,  P06W,   230,  1,      1,    134,2,19920722,1219,-30.0845, 157.6642, 1851,   1857.1,   2.5196,  34.6394,2,  34.6394,2,    156.4,2,    155.6,2,    98.14,2,    34.49,2,     0.00,2,     2.46,2, -999.000,5, -999.000,5, -999.000,9,-999.0000,9,  -999.00,9,   -999.0,9,  -999.00,9,-999.000,9,   -999.0,9,   -999.0,9, -999.00,  -999.0,-999.0000,-999.000,-999.000,  2.3876,-999.000
     316N138_5,  P06W,   231,  1,     24,    132,2,19920722,1536,-30.0853, 157.3323, 3220,     19.9,  20.2537,  35.5595,2,  35.5598,2,    313.7,3,    217.4,2,     0.89,2,     0.49,2,     0.23,2,     0.18,2,    2.127,2,    1.128,2, -999.000,9,-999.0000,9,  -999.00,9,   -999.0,9,  -999.00,9,-999.000,9,   2005.2,6,    325.6,2,   20.60,  -999.0,-999.0000,-999.000,-999.000, 20.2499,-999.000
     316N138_5,  P06W,   231,  1,     23,    123,2,19920722,1536,-30.0853, 157.3323, 3220,     58.2,  20.2617,  35.5593,2,  35.5630,2,    223.3,2,    218.5,2,     0.89,2,     0.42,2,     0.24,2,     0.18,2,    2.119,2,    1.131,2, -999.000,9,-999.0000,9,  -999.00,9,   -999.0,9,  -999.00,9,-999.000,9,   2005.4,2,   -999.0,9, -999.00,  -999.0,-999.0000,-999.000,-999.000, 20.2508,-999.000
     316N138_5,  P06W,   231,  1,     22,    128,2,19920722,1536,-30.0853, 157.3323, 3220,    110.0,  20.2759,  35.5595,2,  35.5582,2,    221.4,2,    217.3,2,     0.89,2,     0.43,2,     0.23,2,     0.20,2,    2.131,2,    1.175,2, -999.000,9,-999.0000,9,  -999.00,9,   -999.0,9,  -999.00,9,-999.000,9,   2004.8,2,    316.1,2,   20.60,  -999.0,-999.0000,-999.000,-999.000, 20.2553,-999.000
     316N138_5,  P06W,   231,  1,     21,    121,2,19920722,1536,-30.0853, 157.3323, 3220,    206.6,  18.8618,  35.5734,2,  35.5600,2,    187.4,2,    185.0,2,     1.60,2,     4.70,2,     0.03,2,     0.48,2,    1.951,2,    1.057,2, -999.000,9,-999.0000,9,  -999.00,9,   -999.0,9,  -999.00,9,-999.000,9,   2051.5,2,   -999.0,9, -999.00,  -999.0,-999.0000,-999.000,-999.000, 18.8249,-999.000
     316N138_5,  P06W,   231,  1,     20,    515,2,19920722,1536,-30.0853, 157.3323, 3220,    304.2,  16.2541,  35.4316,2,  35.4346,2,    187.6,2,    186.2,2,     2.67,2,     7.65,2,     0.02,2,     0.66,2,    1.887,2,    0.997,2, -999.000,9,-999.0000,9,  -999.00,9,   -999.0,9,  -999.00,9,-999.000,9,   2076.4,2,    468.2,2,   20.60,  -999.0,-999.0000,-999.000,-999.000, 16.2051,-999.000
     316N138_5,  P06W,   231,  1,     19,    120,2,19920722,1536,-30.0853, 157.3323, 3220,    403.0,  13.5033,  35.1933,2,  35.1965,2,    186.3,2,    185.8,2,     4.45,2,    11.93,2,     0.01,2,     0.94,2,    1.667,2,    0.864,2, -999.000,9,-999.0000,9,  -999.00,9,   -999.0,9,  -999.00,9,-999.000,9,   2104.5,2,   -999.0,9, -999.00,  -999.0,-999.0000,-999.000,-999.000, 13.4460,-999.000
     316N138_5,  P06W,   231,  1,     18,    118,2,19920722,1536,-30.0853, 157.3323, 3220,    503.8,  10.8666,  34.8877,2,  34.8845,2,    188.5,2,    186.3,2,     7.49,2,    17.20,2,     0.01,2,     1.27,2,    1.200,2,    0.620,2, -999.000,9,-999.0000,9,  -999.00,9,   -999.0,9,  -999.00,9,-999.000,9,   2127.9,6,    676.6,2,   20.60,  -999.0,-999.0000,-999.000,-999.000, 10.8041,-999.000
     316N138_5,  P06W,   231,  1,     17,    514,2,19920722,1536,-30.0853, 157.3323, 3220,    603.9,   9.2758,  34.7062,2,  34.7136,2,    192.0,2,    191.4,2,     9.99,2,    20.27,2,     0.01,2,     1.46,2,    1.015,2,    0.515,2, -999.000,9,-999.0000,9,  -999.00,9,   -999.0,9,  -999.00,9,-999.000,9,   2140.9,2,   -999.0,9, -999.00,  -999.0,-999.0000,-999.000,-999.000,  9.2077,-999.000
     316N138_5,  P06W,   231,  1,     16,    116,2,19920722,1536,-30.0853, 157.3323, 3220,    806.1,   7.0537,  34.5167,2,  34.5182,2,    185.1,2,    189.0,2,    19.97,2,    25.53,2,     0.01,2,     1.81,2,    0.318,2,    0.171,2, -999.000,9,-999.0000,9,  -999.00,9,   -999.0,9,  -999.00,9,-999.000,9,   2165.5,2,    871.2,6,   20.60,  -999.0,-999.0000,-999.000,-999.000,  6.9751,-999.000
     316N138_5,  P06W,   231,  1,     15,    115,2,19920722,1536,-30.0853, 157.3323, 3220,   1005.8,   5.4505,  34.4698,2,  34.4665,2,    180.4,2,    181.3,2,    37.63,2,    29.27,2,     0.01,2,     2.07,2,    0.104,2,    0.062,2, -999.000,9,-999.0000,9,  -999.00,9,   -999.0,9,  -999.00,9,-999.000,9,   2196.2,2,   -999.0,9, -999.00,  -999.0,-999.0000,-999.000,-999.000,  5.3633,-999.000
     316N138_5,  P06W,   231,  1,     14,    513,2,19920722,1536,-30.0853, 157.3323, 3220,   1208.7,   4.2038,  34.5111,2,  34.5115,2,    168.8,2,    167.4,2,    62.25,2,    32.08,2,     0.00,2,     2.29,2,    0.033,2,    0.022,2, -999.000,9,-999.0000,9,  -999.00,9,   -999.0,9,  -999.00,9,-999.000,9,   2233.0,2,   1086.0,2,   20.60,  -999.0,-999.0000,-999.000,-999.000,  4.1085,-999.000
     316N138_5,  P06W,   231,  1,     13,    125,2,19920722,1536,-30.0853, 157.3323, 3220,   1412.0,   3.4344,  34.5539,2,  34.5518,2,    155.7,2,    154.7,2,    82.05,2,    34.01,2,     0.00,2,     2.43,2,    0.010,2,    0.008,2, -999.000,9,-999.0000,9,  -999.00,9,   -999.0,9,  -999.00,9,-999.000,9,   2262.9,2,   -999.0,9, -999.00,  -999.0,-999.0000,-999.000,-999.000,  3.3292,-999.000
     316N138_5,  P06W,   231,  1,     12,    112,2,19920722,1536,-30.0853, 157.3323, 3220,   1611.0,   2.9111,  34.5963,2,  34.5954,2,    150.4,2,    150.5,2,    93.10,2,    34.61,2,     0.00,2,     2.49,2,    0.001,2,    0.002,2, -999.000,9,-999.0000,9,  -999.00,9,   -999.0,9,  -999.00,9,-999.000,9,   2277.3,2,   1177.6,2,   20.60,  -999.0,-999.0000,-999.000,-999.000,  2.7950,-999.000
     316N138_5,  P06W,   231,  1,     11,    129,2,19920722,1536,-30.0853, 157.3323, 3220,   1815.4,   2.5751,  34.6324,2,  34.6327,2,    153.5,2,    152.8,2,    98.81,2,    34.51,2,     0.00,2,     2.48,2,   -0.001,2,    0.004,2, -999.000,9,-999.0000,9,  -999.00,9,   -999.0,9,  -999.00,9,-999.000,9,   2282.2,2,   -999.0,9, -999.00,  -999.0,-999.0000,-999.000,-999.000,  2.4459,-999.000
     316N138_5,  P06W,   231,  1,     10,    110,2,19920722,1536,-30.0853, 157.3323, 3220,   2015.1,   2.3706,  34.6599,2,  34.6590,2,    160.6,2,    160.7,2,    97.21,2,    33.84,2,     0.00,2,     2.42,2,   -0.001,2,    0.003,2, -999.000,9,-999.0000,9,  -999.00,9,   -999.0,9,  -999.00,9,-999.000,9,   2276.9,2,   1145.0,2,   20.60,  -999.0,-999.0000,-999.000,-999.000,  2.2272,-999.000
     316N138_5,  P06W,   231,  1,      9,    126,2,19920722,1536,-30.0853, 157.3323, 3220,   2118.6,   2.2727,  34.6732,2,  34.6726,2,    165.4,2,    164.9,2,    96.67,2,    33.45,2,     0.00,2,     2.38,2,    0.000,2,    0.006,2, -999.000,9,-999.0000,9,  -999.00,9,   -999.0,9,  -999.00,9,-999.000,9,   2273.5,2,   -999.0,9, -999.00,  -999.0,-999.0000,-999.000,-999.000,  2.1217,-999.000
     316N138_5,  P06W,   231,  1,      8,    108,2,19920722,1536,-30.0853, 157.3323, 3220,   2218.3,   2.1582,  34.6883,2,  34.6885,2,    169.2,2,    169.5,2,    96.86,2,    33.11,2,     0.00,2,     2.36,2,   -0.001,2,   -0.002,2, -999.000,9,-999.0000,9,  -999.00,9,   -999.0,9,  -999.00,9,-999.000,9,   2271.3,2,   -999.0,9, -999.00,  -999.0,-999.0000,-999.000,-999.000,  2.0002,-999.000
     316N138_5,  P06W,   231,  1,      7,    107,2,19920722,1536,-30.0853, 157.3323, 3220,   2322.8,   2.0513,  34.6989,2,  34.6975,2,    174.0,2,    173.3,2,    97.21,2,    32.76,2,     0.00,2,     2.32,2,   -0.001,2,    0.002,2, -999.000,9,-999.0000,9,  -999.00,9,   -999.0,9,  -999.00,9,-999.000,9,   2268.9,2,   1120.3,2,   20.60,  -999.0,-999.0000,-999.000,-999.000,  1.8859,-999.000
     316N138_5,  P06W,   231,  1,      6,    180,2,19920722,1536,-30.0853, 157.3323, 3220,   2422.5,   1.9868,  34.7051,2,  34.7076,2,    176.4,2,    176.6,2,    97.93,2,    32.56,2,     0.01,2,     2.31,2,    0.000,2,    0.001,2, -999.000,9,-999.0000,9,  -999.00,9,   -999.0,9,  -999.00,9,-999.000,9,   2268.1,2,   -999.0,9, -999.00,  -999.0,-999.0000,-999.000,-999.000,  1.8136,-999.000
     316N138_5,  P06W,   231,  1,      5,    131,2,19920722,1536,-30.0853, 157.3323, 3220,   2522.3,   1.8991,  34.7104,2,  34.7207,4,    179.6,2,    179.4,2,    98.99,2,    32.40,2,     0.01,2,     2.29,2,    0.003,4,    0.006,4, -999.000,9,-999.0000,9,  -999.00,9,   -999.0,9,  -999.00,9,-999.000,9,   2266.9,2,   -999.0,9, -999.00,  -999.0,-999.0000,-999.000,-999.000,  1.7185,-999.000
     316N138_5,  P06W,   231,  1,      4,    516,2,19920722,1536,-30.0853, 157.3323, 3220,   2724.6,   1.6692,  34.7190,2,  34.7190,2,    185.1,2,    185.0,2,   103.28,2,    32.26,2,     0.01,2,     2.29,2,   -0.002,2,    0.000,2, -999.000,9,-999.0000,9,  -999.00,9,   -999.0,9,  -999.00,9,-999.000,9,   2267.9,2,   1110.8,6,   20.60,  -999.0,-999.0000,-999.000,-999.000,  1.4744,-999.000
     316N138_5,  P06W,   231,  1,      3,    130,2,19920722,1536,-30.0853, 157.3323, 3220,   2929.3,   1.6185,  34.7216,2,  34.7197,2,    187.8,2,    186.6,2,   104.89,2,    32.25,2,     0.01,2,     2.28,2,    0.002,2,    0.002,2, -999.000,9,-999.0000,9,  -999.00,9,   -999.0,9,  -999.00,9,-999.000,9,   2268.4,2,   -999.0,9, -999.00,  -999.0,-999.0000,-999.000,-999.000,  1.4057,-999.000
     316N138_5,  P06W,   231,  1,      2,    136,2,19920722,1536,-30.0853, 157.3323, 3220,   3134.0,   1.5471,  34.7213,2,  34.7264,4,    189.8,2,    188.0,2,   106.68,2,    32.28,2,     0.01,2,     2.28,2,   -0.001,2,    0.001,2, -999.000,9,-999.0000,9,  -999.00,9,   -999.0,9,  -999.00,9,-999.000,9,   2269.0,2,   -999.0,9, -999.00,  -999.0,-999.0000,-999.000,-999.000,  1.3161,-999.000
     316N138_5,  P06W,   231,  1,      1,    134,2,19920722,1536,-30.0853, 157.3323, 3220,   3244.3,   1.3648,  34.7187,2,  34.7211,2,    192.8,2,    191.7,2,   111.06,3,    32.31,2,     0.01,2,     2.27,2,    0.001,2,    0.000,2, -999.000,9,-999.0000,9,  -999.00,9,   -999.0,9,  -999.00,9,-999.000,9,   2271.9,6,   1126.4,2,   20.60,  -999.0,-999.0000,-999.000,-999.000,  1.1273,-999.000