BOTTLE,20030219WHPSIOdm
EXPOCODE,SECT_ID,STNNBR,CASTNO,SAMPNO,BTLNBR,BTLNBR_FLAG_W,DATE,TIME,LATITUDE,LONGITUDE,DEPTH,CTDPRS,CTDTMP,CTDSAL,CTDSAL_FLAG_W,SALNTY,SALNTY_FLAG_W,CTDOXY,CTDOXY_FLAG_W,OXYGEN,OXYGEN_FLAG_W,SILCAT,SILCAT_FLAG_W,NITRAT,NITRAT_FLAG_W,NITRIT,NITRIT_FLAG_W,PHSPHT,PHSPHT_FLAG_W,CFC-11,CFC-11_FLAG_W,CFC-12,CFC-12_FLAG_W,TRITUM,TRITUM_FLAG_W,HELIUM,HELIUM_FLAG_W,DELHE3,DELHE3_FLAG_W,DELC14,DELC14_FLAG_W,DELC13,DELC13_FLAG_W,NEON,NEON_FLAG_W,TCARBN,TCARBN_FLAG_W,PCO2,PCO2_FLAG_W,PCO2TMP,C14ERR,HELIER,DELHER,NEONER,THETA,TRITER
,,,,,,,,,,,,DBAR,ITS-90,PSS-78,,PSS-78,,UMOL/KG,,UMOL/KG,,UMOL/KG,,UMOL/KG,,UMOL/KG,,UMOL/KG,,PMOL/KG,,PMOL/KG,,TU,,NMOL/KG,,PERCNT,,/MILLE,,/MILLE,,NMOL/KG,,UMOL/KG,,UATM,,DEG_C,/MILLE,NMOL/KG,PERCNT,NMOL/KG,ITS-90,TU
     316N138_5,  P06W,   214,  1,     36,1385-36,2,19920719,1037,-30.0723, 165.4057, 3372,     17.1,  18.9041,  35.6110,2,  35.6070,2,    226.3,2,    223.8,2,     0.76,2,     0.79,2,     0.18,2,     0.18,2, -999.000,5, -999.000,5, -999.000,9,-999.0000,9,  -999.00,9,    111.9,2,     1.31,2,-999.000,9,   -999.0,9,   -999.0,9, -999.00,     4.7,-999.0000,-999.000,-999.000, 18.9010,-999.000
     316N138_5,  P06W,   214,  1,     35,02-9454,2,19920719,1037,-30.0723, 165.4057, 3372,     58.0,  18.8931,  35.6128,2,  35.6161,2,    223.4,2,    224.1,2,     0.77,2,     0.66,2,     0.20,2,     0.18,2, -999.000,5, -999.000,5, -999.000,9,-999.0000,9,  -999.00,9,   -999.0,9,  -999.00,9,-999.000,9,   -999.0,9,   -999.0,9, -999.00,  -999.0,-999.0000,-999.000,-999.000, 18.8827,-999.000
     316N138_5,  P06W,   214,  1,     34,02-9457,2,19920719,1037,-30.0723, 165.4057, 3372,    108.4,  18.8861,  35.6116,2,  35.6129,2,    225.1,2,    224.1,2,     0.77,2,     0.63,2,     0.22,2,     0.19,2, -999.000,5, -999.000,5, -999.000,9,-999.0000,9,  -999.00,9,     95.0,2,     1.29,2,-999.000,9,   -999.0,9,   -999.0,9, -999.00,     5.1,-999.0000,-999.000,-999.000, 18.8668,-999.000
     316N138_5,  P06W,   214,  1,     33,1385-33,3,19920719,1037,-30.0723, 165.4057, 3372,    158.0,  18.8506,  35.6081,2,  35.6133,2,    214.8,2,    222.0,2,     0.77,2,     0.68,2,     0.26,2,     0.20,2, -999.000,5, -999.000,5, -999.000,9,-999.0000,9,  -999.00,9,   -999.0,9,  -999.00,9,-999.000,9,   -999.0,9,   -999.0,9, -999.00,  -999.0,-999.0000,-999.000,-999.000, 18.8225,-999.000
     316N138_5,  P06W,   214,  1,     32,02-9510,2,19920719,1037,-30.0723, 165.4057, 3372,    208.9,  17.2969,  35.5407,2,  35.5344,2,    202.3,2,    194.7,2,     1.69,2,     5.24,2,     0.00,2,     0.49,2, -999.000,5, -999.000,5, -999.000,9,-999.0000,9,  -999.00,9,     95.6,2,     1.07,2,-999.000,9,   -999.0,9,   -999.0,9, -999.00,     5.7,-999.0000,-999.000,-999.000, 17.2619,-999.000
     316N138_5,  P06W,   214,  1,     31,02-9453,2,19920719,1037,-30.0723, 165.4057, 3372,    257.0,  16.6562,  35.4816,2,  35.4817,2,    194.6,2,    192.3,2,     2.06,2,     6.46,2,     0.00,2,     0.58,2, -999.000,5, -999.000,5, -999.000,9,-999.0000,9,  -999.00,9,    100.3,2,     1.01,2,-999.000,9,   -999.0,9,   -999.0,9, -999.00,     5.0,-999.0000,-999.000,-999.000, 16.6142,-999.000
     316N138_5,  P06W,   214,  1,     30,02-9456,2,19920719,1037,-30.0723, 165.4057, 3372,    307.0,  15.6832,  35.4099,2,  35.4050,2,    192.8,2,    205.9,4,     2.79,2,     7.95,2,    -0.01,2,     0.67,2, -999.000,5, -999.000,5, -999.000,9,-999.0000,9,  -999.00,9,     87.8,2,     1.08,2,-999.000,9,   -999.0,9,   -999.0,9, -999.00,     3.8,-999.0000,-999.000,-999.000, 15.6350,-999.000
     316N138_5,  P06W,   214,  1,     29,02-9458,2,19920719,1037,-30.0723, 165.4057, 3372,    407.2,  13.6155,  35.2211,2,  35.2237,2,    195.7,2,    195.6,2,     3.89,2,    10.65,2,    -0.01,2,     0.87,2, -999.000,5, -999.000,5, -999.000,9,-999.0000,9,  -999.00,9,     68.4,2,     1.03,2,-999.000,9,   -999.0,9,   -999.0,9, -999.00,     3.5,-999.0000,-999.000,-999.000, 13.5572,-999.000
     316N138_5,  P06W,   214,  1,     28,02-9454,2,19920719,1037,-30.0723, 165.4057, 3372,    510.5,  11.6070,  34.9996,2,  35.0030,2,    197.8,2,    194.9,2,     5.53,2,    14.47,2,    -0.01,2,     1.10,2, -999.000,5, -999.000,5, -999.000,9,-999.0000,9,  -999.00,9,     43.7,2,     1.03,2,-999.000,9,   -999.0,9,   -999.0,9, -999.00,     3.8,-999.0000,-999.000,-999.000, 11.5410,-999.000
     316N138_5,  P06W,   214,  1,     27,02-9543,2,19920719,1037,-30.0723, 165.4057, 3372,    607.4,   9.7499,  34.7719,2,  34.7675,2,    195.7,2,    191.9,2,     8.99,2,    19.21,2,     0.00,2,     1.40,2, -999.000,5, -999.000,5, -999.000,9,-999.0000,9,  -999.00,9,     14.1,2,     0.98,2,-999.000,9,   -999.0,9,   -999.0,9, -999.00,     5.1,-999.0000,-999.000,-999.000,  9.6792,-999.000
     316N138_5,  P06W,   214,  1,     26,02-9544,2,19920719,1037,-30.0723, 165.4057, 3372,    709.6,   8.2825,  34.6123,2,  34.6124,2,    194.4,2,    190.3,2,    13.73,2,    22.74,2,    -0.01,2,     1.63,2, -999.000,5, -999.000,5, -999.000,9,-999.0000,9,  -999.00,9,    -27.8,2,     1.03,2,-999.000,9,   -999.0,9,   -999.0,9, -999.00,     2.9,-999.0000,-999.000,-999.000,  8.2073,-999.000
     316N138_5,  P06W,   214,  1,     25,02-9455,2,19920719,1037,-30.0723, 165.4057, 3372,    810.4,   7.1799,  34.5283,2,  34.5317,2,    194.4,2,    193.2,2,    19.03,2,    24.67,2,    -0.01,2,     1.78,2, -999.000,5, -999.000,5, -999.000,9,-999.0000,9,  -999.00,9,    -48.8,2,     1.07,2,-999.000,9,   -999.0,9,   -999.0,9, -999.00,     2.8,-999.0000,-999.000,-999.000,  7.1001,-999.000
     316N138_5,  P06W,   214,  1,     24,    132,2,19920719,1037,-30.0723, 165.4057, 3372,    910.1,   6.3535,  34.4832,2,  34.4844,2,    192.3,2,    190.8,2,    25.78,2,    26.80,2,    -0.01,2,     1.92,2, -999.000,5, -999.000,5, -999.000,9,-999.0000,9,  -999.00,9,    -78.8,2,     1.00,2,-999.000,9,   -999.0,9,   -999.0,9, -999.00,     3.0,-999.0000,-999.000,-999.000,  6.2690,-999.000
     316N138_5,  P06W,   214,  1,     23,    123,2,19920719,1037,-30.0723, 165.4057, 3372,   1013.0,   5.5109,  34.4612,2,  34.4620,2,    189.0,2,    184.6,2,    35.81,2,    28.88,2,    -0.01,2,     2.06,2, -999.000,5, -999.000,5, -999.000,9,-999.0000,9,  -999.00,9,   -102.7,2,     0.87,2,-999.000,9,   -999.0,9,   -999.0,9, -999.00,     2.8,-999.0000,-999.000,-999.000,  5.4226,-999.000
     316N138_5,  P06W,   214,  1,     22,    128,2,19920719,1037,-30.0723, 165.4057, 3372,   1111.7,   4.9320,  34.4663,2,  34.4657,2,    182.3,2,    179.0,2,    45.12,2,    30.25,2,    -0.01,2,     2.17,2, -999.000,5, -999.000,5, -999.000,9,-999.0000,9,  -999.00,9,   -124.1,2,     0.68,2,-999.000,9,   -999.0,9,   -999.0,9, -999.00,     2.7,-999.0000,-999.000,-999.000,  4.8392,-999.000
     316N138_5,  P06W,   214,  1,     21,    121,2,19920719,1037,-30.0723, 165.4057, 3372,   1211.2,   4.4228,  34.5033,2,  34.4958,2,    175.3,2,    171.5,2,    56.79,2,    31.41,2,    -0.01,2,     2.26,2, -999.000,5, -999.000,5, -999.000,9,-999.0000,9,  -999.00,9,   -135.9,2,     0.65,2,-999.000,9,   -999.0,9,   -999.0,9, -999.00,     2.7,-999.0000,-999.000,-999.000,  4.3255,-999.000
     316N138_5,  P06W,   214,  1,     20,    515,2,19920719,1037,-30.0723, 165.4057, 3372,   1314.9,   4.0693,  34.5143,2,  34.5176,2,    168.2,2,    167.2,2,    65.00,2,    32.16,2,    -0.01,2,     2.31,2, -999.000,5, -999.000,5, -999.000,9,-999.0000,9,  -999.00,9,   -157.6,2,     0.59,2,-999.000,9,   -999.0,9,   -999.0,9, -999.00,     2.7,-999.0000,-999.000,-999.000,  3.9660,-999.000
     316N138_5,  P06W,   214,  1,     19,    120,2,19920719,1037,-30.0723, 165.4057, 3372,   1410.9,   3.6023,  34.5475,2,  34.5480,2,    161.5,2,    159.9,2,    76.68,2,    33.22,2,     0.00,2,     2.39,2, -999.000,5, -999.000,5, -999.000,9,-999.0000,9,  -999.00,9,   -167.0,2,     0.48,2,-999.000,9,   -999.0,9,   -999.0,9, -999.00,     2.7,-999.0000,-999.000,-999.000,  3.4955,-999.000
     316N138_5,  P06W,   214,  1,     18,    118,2,19920719,1037,-30.0723, 165.4057, 3372,   1508.9,   3.3133,  34.5685,2,  34.5655,2,    156.8,2,    156.2,2,    83.98,2,    33.82,2,    -0.01,2,     2.44,2, -999.000,5, -999.000,5, -999.000,9,-999.0000,9,  -999.00,9,   -165.8,2,     0.44,2,-999.000,9,   -999.0,9,   -999.0,9, -999.00,     4.0,-999.0000,-999.000,-999.000,  3.2011,-999.000
     316N138_5,  P06W,   214,  1,     17,    514,2,19920719,1037,-30.0723, 165.4057, 3372,   1604.9,   3.0941,  34.5835,2,  34.5830,2,    154.2,2,    153.4,2,    90.19,2,    34.21,2,     0.00,2,     2.48,2, -999.000,5, -999.000,5, -999.000,9,-999.0000,9,  -999.00,9,   -177.0,2,     0.36,2,-999.000,9,   -999.0,9,   -999.0,9, -999.00,     2.6,-999.0000,-999.000,-999.000,  2.9762,-999.000
     316N138_5,  P06W,   214,  1,     16,    116,2,19920719,1037,-30.0723, 165.4057, 3372,   1701.7,   2.8815,  34.5996,2,  34.6001,2,    152.4,2,    151.9,2,    95.50,2,    34.51,2,    -0.01,2,     2.49,2, -999.000,5, -999.000,5, -999.000,9,-999.0000,9,  -999.00,9,   -190.8,2,     0.37,2,-999.000,9,   -999.0,9,   -999.0,9, -999.00,     2.9,-999.0000,-999.000,-999.000,  2.7579,-999.000
     316N138_5,  P06W,   214,  1,     15,    115,2,19920719,1037,-30.0723, 165.4057, 3372,   1801.3,   2.7028,  34.6142,2,  34.6148,2,    151.9,2,    151.2,2,    99.89,2,    34.64,2,     0.00,2,     2.50,2, -999.000,5, -999.000,5, -999.000,9,-999.0000,9,  -999.00,9,   -999.0,9,  -999.00,9,-999.000,9,   -999.0,9,   -999.0,9, -999.00,  -999.0,-999.0000,-999.000,-999.000,  2.5731,-999.000
     316N138_5,  P06W,   214,  1,     14,    513,2,19920719,1037,-30.0723, 165.4057, 3372,   1906.4,   2.5380,  34.6272,2,  34.6276,2,    151.6,2,    151.2,2,   103.55,2,    34.68,2,     0.00,2,     2.51,2, -999.000,5, -999.000,5, -999.000,9,-999.0000,9,  -999.00,9,   -193.5,2,     0.31,2,-999.000,9,   -999.0,9,   -999.0,9, -999.00,     2.8,-999.0000,-999.000,-999.000,  2.4016,-999.000
     316N138_5,  P06W,   214,  1,     13,    125,2,19920719,1037,-30.0723, 165.4057, 3372,   2006.3,   2.4092,  34.6400,2,  34.6405,2,    151.8,2,    151.7,2,   105.93,2,    34.67,2,     0.00,2,     2.51,2, -999.000,5, -999.000,5, -999.000,9,-999.0000,9,  -999.00,9,   -210.0,2,     0.25,2,-999.000,9,   -999.0,9,   -999.0,9, -999.00,     2.8,-999.0000,-999.000,-999.000,  2.2660,-999.000
     316N138_5,  P06W,   214,  1,     12,    112,2,19920719,1037,-30.0723, 165.4057, 3372,   2108.8,   2.2954,  34.6527,2,  34.6500,2,    152.7,2,    152.3,2,   108.50,2,    34.85,2,     0.01,2,     2.51,2, -999.000,5, -999.000,5, -999.000,9,-999.0000,9,  -999.00,9,   -201.2,2,     0.27,2,-999.000,9,   -999.0,9,   -999.0,9, -999.00,     2.8,-999.0000,-999.000,-999.000,  2.1450,-999.000
     316N138_5,  P06W,   214,  1,     11,    129,2,19920719,1037,-30.0723, 165.4057, 3372,   2211.7,   2.2037,  34.6599,2,  34.6594,2,    152.7,2,    153.2,2,   110.34,2,    34.73,2,     0.01,2,     2.50,2, -999.000,5, -999.000,5, -999.000,9,-999.0000,9,  -999.00,9,   -200.5,2,     0.22,2,-999.000,9,   -999.0,9,   -999.0,9, -999.00,     2.8,-999.0000,-999.000,-999.000,  2.0457,-999.000
     316N138_5,  P06W,   214,  1,     10,    110,2,19920719,1037,-30.0723, 165.4057, 3372,   2313.0,   2.1373,  34.6646,2,  34.6647,2,    153.4,2,    152.9,2,   111.81,2,    34.83,2,     0.01,2,     2.50,2, -999.000,5, -999.000,5, -999.000,9,-999.0000,9,  -999.00,9,   -197.6,2,     0.24,2,-999.000,9,   -999.0,9,   -999.0,9, -999.00,     2.9,-999.0000,-999.000,-999.000,  1.9714,-999.000
     316N138_5,  P06W,   214,  1,      9,    126,2,19920719,1037,-30.0723, 165.4057, 3372,   2417.5,   2.0836,  34.6693,2,  34.6696,2,    153.0,2,    152.6,2,   113.10,2,    35.01,2,     0.01,2,     2.51,2, -999.000,5, -999.000,5, -999.000,2,   1.9630,2,    17.09,2,   -999.0,9,  -999.00,9,-999.000,9,   -999.0,9,   -999.0,9, -999.00,  -999.0,-999.0000,   0.150,-999.000,  1.9092,-999.000
     316N138_5,  P06W,   214,  1,      8,    108,2,19920719,1037,-30.0723, 165.4057, 3372,   2515.8,   2.0490,  34.6724,2,  34.6726,2,    154.1,2,    154.6,2,   113.48,2,    34.89,2,     0.01,2,     2.49,2, -999.000,5, -999.000,5, -999.000,2,   1.9720,2,    17.05,2,   -999.0,9,  -999.00,9,-999.000,9,   -999.0,9,   -999.0,9, -999.00,  -999.0,-999.0000,   0.150,-999.000,  1.8664,-999.000
     316N138_5,  P06W,   214,  1,      7,    107,2,19920719,1037,-30.0723, 165.4057, 3372,   2618.2,   2.0198,  34.6759,2,  34.6761,2,    154.1,2,    154.7,2,   114.22,2,    34.83,2,     0.01,2,     2.50,2, -999.000,5, -999.000,5, -999.000,2,   1.9700,2,    16.99,2,   -999.0,9,  -999.00,9,-999.000,9,   -999.0,9,   -999.0,9, -999.00,  -999.0,-999.0000,   0.150,-999.000,  1.8282,-999.000
     316N138_5,  P06W,   214,  1,      6,    180,2,19920719,1037,-30.0723, 165.4057, 3372,   2717.0,   2.0014,  34.6772,2,  34.6789,2,    155.0,2,    155.3,2,   114.42,2,    34.67,2,     0.01,2,     2.50,2,   -0.003,2,    0.003,2, -999.000,2,   1.9770,2,    16.79,2,   -999.0,9,  -999.00,9,-999.000,9,   -999.0,9,   -999.0,9, -999.00,  -999.0,-999.0000,   0.150,-999.000,  1.8009,-999.000
     316N138_5,  P06W,   214,  1,      5,    131,2,19920719,1037,-30.0723, 165.4057, 3372,   2817.8,   1.9829,  34.6796,2,  34.6836,2,    156.5,2,    156.4,2,   115.16,2,    34.71,2,     0.01,2,     2.48,2,    0.000,2,   -0.002,2, -999.000,9,-999.0000,9,  -999.00,9,   -999.0,9,  -999.00,9,-999.000,9,   -999.0,9,   -999.0,9, -999.00,  -999.0,-999.0000,-999.000,-999.000,  1.7732,-999.000
     316N138_5,  P06W,   214,  1,      4,    516,2,19920719,1037,-30.0723, 165.4057, 3372,   2924.1,   1.9674,  34.6816,2,  34.6844,2,    157.0,2,    157.0,2,   115.72,2,    34.80,2,     0.01,2,     2.48,2,   -0.001,2,    0.002,2, -999.000,2,   1.9600,2,    16.82,2,   -999.0,9,  -999.00,9,-999.000,9,   -999.0,9,   -999.0,9, -999.00,  -999.0,-999.0000,   0.150,-999.000,  1.7477,-999.000
     316N138_5,  P06W,   214,  1,      3,    130,2,19920719,1037,-30.0723, 165.4057, 3372,   3131.9,   1.9399,  34.6851,2,  34.6881,2,    158.4,2,    158.2,2,   116.47,2,    34.62,2,     0.02,2,     2.47,2,   -0.002,2,   -0.001,2, -999.000,2,   1.9850,2,    16.49,2,   -999.0,9,  -999.00,9,-999.000,9,   -999.0,9,   -999.0,9, -999.00,  -999.0,-999.0000,   0.150,-999.000,  1.7004,-999.000
     316N138_5,  P06W,   214,  1,      2,    136,2,19920719,1037,-30.0723, 165.4057, 3372,   3339.5,   1.9219,  34.6875,2,  34.6869,2,    159.2,2,    159.0,2,   117.22,2,    34.72,2,     0.01,2,     2.46,2,   -0.001,2,    0.000,2, -999.000,2,   1.9760,2,    16.56,2,   -999.0,9,  -999.00,9,-999.000,9,   -999.0,9,   -999.0,9, -999.00,  -999.0,-999.0000,   0.150,-999.000,  1.6618,-999.000
     316N138_5,  P06W,   214,  1,      1,    134,2,19920719,1037,-30.0723, 165.4057, 3372,   3409.9,   1.9263,  34.6861,2,  34.6893,2,    159.4,2,    159.0,2,   117.34,2,    34.59,2,     0.01,2,     2.46,2,    0.000,2,   -0.001,2, -999.000,2,   1.9840,2,    16.38,2,   -999.0,9,  -999.00,9,-999.000,9,   -999.0,9,   -999.0,9, -999.00,  -999.0,-999.0000,   0.150,-999.000,  1.6588,-999.000