BOTTLE,20030219WHPSIOdm
EXPOCODE,SECT_ID,STNNBR,CASTNO,SAMPNO,BTLNBR,BTLNBR_FLAG_W,DATE,TIME,LATITUDE,LONGITUDE,DEPTH,CTDPRS,CTDTMP,CTDSAL,CTDSAL_FLAG_W,SALNTY,SALNTY_FLAG_W,CTDOXY,CTDOXY_FLAG_W,OXYGEN,OXYGEN_FLAG_W,SILCAT,SILCAT_FLAG_W,NITRAT,NITRAT_FLAG_W,NITRIT,NITRIT_FLAG_W,PHSPHT,PHSPHT_FLAG_W,CFC-11,CFC-11_FLAG_W,CFC-12,CFC-12_FLAG_W,TRITUM,TRITUM_FLAG_W,HELIUM,HELIUM_FLAG_W,DELHE3,DELHE3_FLAG_W,DELC14,DELC14_FLAG_W,DELC13,DELC13_FLAG_W,NEON,NEON_FLAG_W,TCARBN,TCARBN_FLAG_W,PCO2,PCO2_FLAG_W,PCO2TMP,C14ERR,HELIER,DELHER,NEONER,THETA,TRITER
,,,,,,,,,,,,DBAR,ITS-90,PSS-78,,PSS-78,,UMOL/KG,,UMOL/KG,,UMOL/KG,,UMOL/KG,,UMOL/KG,,UMOL/KG,,PMOL/KG,,PMOL/KG,,TU,,NMOL/KG,,PERCNT,,/MILLE,,/MILLE,,NMOL/KG,,UMOL/KG,,UATM,,DEG_C,/MILLE,NMOL/KG,PERCNT,NMOL/KG,ITS-90,TU
     316N138_5,  P06W,   240,  1,     36,1385-36,2,19920724,1410,-30.1003, 153.9950, 4460,     24.4,  21.0671,  35.5131,2,  35.5162,2,    264.2,3,    213.7,2,     0.91,2,     0.49,2,     0.27,2,     0.17,2, -999.000,5, -999.000,5,    1.020,2,   1.7370,2,    -1.26,2,   -999.0,9,  -999.00,9,-999.000,9,   -999.0,9,   -999.0,9, -999.00,  -999.0,-999.0000,   0.150,-999.000, 21.0625,   0.006
     316N138_5,  P06W,   240,  1,     35,02-9454,2,19920724,1410,-30.1003, 153.9950, 4460,     63.8,  21.0816,  35.5134,2,  35.5133,2,    218.4,2,    215.1,2,     0.91,2,     0.45,2,     0.30,2,     0.16,2, -999.000,5, -999.000,5,    1.008,2,   1.7720,2,    -1.27,2,   -999.0,9,  -999.00,9,-999.000,9,   -999.0,9,   -999.0,9, -999.00,  -999.0,-999.0000,   0.150,-999.000, 21.0694,   0.005
     316N138_5,  P06W,   240,  1,     34,02-9457,2,19920724,1410,-30.1003, 153.9950, 4460,    113.9,  21.0893,  35.5125,2,  35.5141,2,    216.2,2,    212.8,2,     0.90,2,     0.59,2,     0.31,2,     0.17,2, -999.000,5, -999.000,5,    1.023,2,   1.7680,2,    -1.18,2,   -999.0,9,  -999.00,9,-999.000,9,   -999.0,9,   -999.0,9, -999.00,  -999.0,-999.0000,   0.150,-999.000, 21.0674,   0.006
     316N138_5,  P06W,   240,  1,     33,1385-33,2,19920724,1410,-30.1003, 153.9950, 4460,    163.4,  21.0470,  35.5163,2,  35.5208,2,    212.7,2,    209.8,2,     0.90,2,     1.33,2,     0.03,2,     0.21,2, -999.000,5, -999.000,5, -999.000,9,-999.0000,9,  -999.00,9,   -999.0,9,  -999.00,9,-999.000,9,   -999.0,9,   -999.0,9, -999.00,  -999.0,-999.0000,-999.000,-999.000, 21.0157,-999.000
     316N138_5,  P06W,   240,  1,     32,02-9510,2,19920724,1410,-30.1003, 153.9950, 4460,    212.8,  19.2494,  35.5759,2,  35.5675,2,    183.5,2,    185.7,2,     1.44,2,     4.34,2,     0.03,2,     0.43,2, -999.000,5, -999.000,5,    0.875,2,   1.7800,2,    -0.22,2,   -999.0,9,  -999.00,9,-999.000,9,   -999.0,9,   -999.0,9, -999.00,  -999.0,-999.0000,   0.150,-999.000, 19.2109,   0.007
     316N138_5,  P06W,   240,  1,     31,02-9453,2,19920724,1410,-30.1003, 153.9950, 4460,    262.3,  17.8801,  35.5156,2,  35.5170,2,    181.4,2,    179.3,2,     2.17,2,     6.33,2,     0.03,2,     0.58,2, -999.000,5, -999.000,5, -999.000,9,-999.0000,9,  -999.00,9,   -999.0,9,  -999.00,9,-999.000,9,   -999.0,9,   -999.0,9, -999.00,  -999.0,-999.0000,-999.000,-999.000, 17.8350,-999.000
     316N138_5,  P06W,   240,  1,     30,02-9456,2,19920724,1410,-30.1003, 153.9950, 4460,    311.6,  16.8678,  35.4543,2,  35.4504,2,    178.0,2,    179.3,2,     2.70,2,     7.62,2,     0.02,2,     0.65,2, -999.000,5, -999.000,5,    0.720,2,   1.7900,2,     0.17,2,   -999.0,9,  -999.00,9,-999.000,9,   -999.0,9,   -999.0,9, -999.00,  -999.0,-999.0000,   0.150,-999.000, 16.8164,   0.004
     316N138_5,  P06W,   240,  1,     29,02-9458,2,19920724,1410,-30.1003, 153.9950, 4460,    360.7,  15.4149,  35.3564,2,  35.3500,2,    179.2,2,    183.2,2,     3.25,2,     9.25,2,     0.02,2,     0.77,2, -999.000,5, -999.000,5, -999.000,9,-999.0000,9,  -999.00,9,   -999.0,9,  -999.00,9,-999.000,9,   -999.0,9,   -999.0,9, -999.00,  -999.0,-999.0000,-999.000,-999.000, 15.3588,-999.000
     316N138_5,  P06W,   240,  1,     28,02-9454,2,19920724,1410,-30.1003, 153.9950, 4460,    408.4,  14.1655,  35.2546,2,  35.2499,2,    183.8,2,    186.4,2,     3.97,2,    10.88,2,     0.02,2,     0.88,2, -999.000,5, -999.000,5,    0.584,2,   1.8000,2,     0.18,2,   -999.0,9,  -999.00,9,-999.000,9,   -999.0,9,   -999.0,9, -999.00,  -999.0,-999.0000,   0.150,-999.000, 14.1055,   0.004
     316N138_5,  P06W,   240,  1,     27,02-9543,2,19920724,1410,-30.1003, 153.9950, 4460,    455.6,  12.9895,  35.1368,2,  35.1358,2,    184.6,2,    187.0,2,     4.87,2,    12.88,2,     0.01,2,     1.00,2, -999.000,5, -999.000,5, -999.000,9,-999.0000,9,  -999.00,9,   -999.0,9,  -999.00,9,-999.000,9,   -999.0,9,   -999.0,9, -999.00,  -999.0,-999.0000,-999.000,-999.000, 12.9261,-999.000
     316N138_5,  P06W,   240,  1,     26,02-9544,2,19920724,1410,-30.1003, 153.9950, 4460,    503.0,  11.8395,  35.0080,2,  35.0116,2,    185.4,2,    186.7,2,     5.96,2,    15.03,2,     0.01,2,     1.15,2, -999.000,5, -999.000,5, -999.000,9,-999.0000,9,  -999.00,9,   -999.0,9,  -999.00,9,-999.000,9,   -999.0,9,   -999.0,9, -999.00,  -999.0,-999.0000,-999.000,-999.000, 11.7736,-999.000
     316N138_5,  P06W,   240,  1,     25,02-9455,2,19920724,1410,-30.1003, 153.9950, 4460,    503.0,  11.8395,  35.0080,2,  35.0100,2,    185.4,2,    186.9,2,     6.13,2,    15.07,2,     0.00,2,     1.17,2, -999.000,5, -999.000,5,    0.444,2,   1.8340,2,     0.63,2,   -999.0,9,  -999.00,9,-999.000,9,   -999.0,9,   -999.0,9, -999.00,  -999.0,-999.0000,   0.150,-999.000, 11.7736,   0.003
     316N138_5,  P06W,   240,  1,     24,    132,2,19920724,1410,-30.1003, 153.9950, 4460,    691.1,   8.4895,  34.6247,2,  34.6242,2,    192.0,2,    191.3,2,    12.45,2,    22.22,2,     0.02,2,     1.61,2, -999.000,5, -999.000,5,    0.208,2,   1.8370,2,     1.55,2,   -999.0,9,  -999.00,9,-999.000,9,   -999.0,9,   -999.0,9, -999.00,  -999.0,-999.0000,   0.150,-999.000,  8.4152,   0.003
     316N138_5,  P06W,   240,  1,     23,    123,2,19920724,1410,-30.1003, 153.9950, 4460,    783.2,   7.2647,  34.5206,2,  34.5221,2,    193.0,2,    191.9,2,    18.05,2,    24.99,2,     0.00,2,     1.81,2, -999.000,5, -999.000,5,    0.118,2,-999.0000,9,  -999.00,9,   -999.0,9,  -999.00,9,-999.000,9,   -999.0,9,   -999.0,9, -999.00,  -999.0,-999.0000,-999.000,-999.000,  7.1872,   0.002
     316N138_5,  P06W,   240,  1,     22,    128,2,19920724,1410,-30.1003, 153.9950, 4460,    875.9,   6.4157,  34.4785,2,  34.4773,2,    190.5,2,    188.6,2,    25.08,2,    27.11,2,     0.01,2,     1.93,2, -999.000,5, -999.000,5,    0.077,2,   1.8620,2,     3.76,2,   -999.0,9,  -999.00,9,-999.000,9,   -999.0,9,   -999.0,9, -999.00,  -999.0,-999.0000,   0.150,-999.000,  6.3341,   0.002
     316N138_5,  P06W,   240,  1,     21,    121,2,19920724,1410,-30.1003, 153.9950, 4460,    969.0,   5.7042,  34.4624,2,  34.4622,2,    185.6,2,    183.0,2,    33.57,2,    28.91,2,     0.00,2,     2.06,2, -999.000,5, -999.000,5,    0.045,2,   1.8760,2,     5.29,2,   -999.0,9,  -999.00,9,-999.000,9,   -999.0,9,   -999.0,9, -999.00,  -999.0,-999.0000,   0.150,-999.000,  5.6187,   0.002
     316N138_5,  P06W,   240,  1,     20,    515,2,19920724,1410,-30.1003, 153.9950, 4460,   1062.1,   5.1018,  34.4648,2,  34.4656,2,    180.2,2,    177.6,2,    43.13,2,    30.43,2,     0.00,2,     2.18,2, -999.000,5, -999.000,5, -999.000,9,-999.0000,9,  -999.00,9,   -999.0,9,  -999.00,9,-999.000,9,   -999.0,9,   -999.0,9, -999.00,  -999.0,-999.0000,-999.000,-999.000,  5.0121,-999.000
     316N138_5,  P06W,   240,  1,     19,    120,2,19920724,1410,-30.1003, 153.9950, 4460,   1155.7,   4.5822,  34.4810,2,  34.4807,2,    174.1,2,    171.0,2,    53.42,2,    31.74,2,     0.00,2,     2.27,2, -999.000,5, -999.000,5,    0.017,2,   1.9070,2,    10.07,2,   -999.0,9,  -999.00,9,-999.000,9,   -999.0,9,   -999.0,9, -999.00,  -999.0,-999.0000,   0.150,-999.000,  4.4883,   0.002
     316N138_5,  P06W,   240,  1,     18,    118,2,19920724,1410,-30.1003, 153.9950, 4460,   1252.2,   4.1427,  34.5036,2,  34.5032,2,    168.1,2,    164.7,2,    63.52,2,    32.76,2,     0.00,2,     2.35,2, -999.000,5, -999.000,5, -999.000,9,-999.0000,9,  -999.00,9,   -999.0,9,  -999.00,9,-999.000,9,   -999.0,9,   -999.0,9, -999.00,  -999.0,-999.0000,-999.000,-999.000,  4.0442,-999.000
     316N138_5,  P06W,   240,  1,     17,    514,2,19920724,1410,-30.1003, 153.9950, 4460,   1350.2,   3.7920,  34.5240,2,  34.5241,2,    162.0,2,    159.7,2,    71.99,2,    33.56,2,     0.00,2,     2.39,2, -999.000,5, -999.000,5,    0.005,2,   1.9300,2,    14.32,2,   -999.0,9,  -999.00,9,-999.000,9,   -999.0,9,   -999.0,9, -999.00,  -999.0,-999.0000,   0.150,-999.000,  3.6883,   0.002
     316N138_5,  P06W,   240,  1,     16,    116,2,19920724,1410,-30.1003, 153.9950, 4460,   1445.8,   3.4674,  34.5480,2,  34.5494,2,    156.3,2,    154.4,2,    80.64,2,    34.26,2,     0.00,2,     2.46,2, -999.000,5, -999.000,5, -999.000,9,-999.0000,9,  -999.00,9,   -999.0,9,  -999.00,9,-999.000,9,   -999.0,9,   -999.0,9, -999.00,  -999.0,-999.0000,-999.000,-999.000,  3.3590,-999.000
     316N138_5,  P06W,   240,  1,     15,    115,2,19920724,1410,-30.1003, 153.9950, 4460,   1632.3,   2.9529,  34.5922,2,  34.5918,2,    150.8,2,    149.5,2,    93.45,2,    34.96,2,     0.00,2,     2.52,2, -999.000,5, -999.000,5,    0.006,2,   1.9600,2,    18.42,2,   -999.0,9,  -999.00,9,-999.000,9,   -999.0,9,   -999.0,9, -999.00,  -999.0,-999.0000,   0.150,-999.000,  2.8345,   0.003
     316N138_5,  P06W,   240,  1,     14,    513,2,19920724,1410,-30.1003, 153.9950, 4460,   1818.0,   2.5948,  34.6291,2,  34.6286,2,    153.9,2,    153.5,2,    98.31,2,    34.74,2,     0.00,2,     2.51,2, -999.000,5, -999.000,5,    0.004,2,   1.9690,2,    17.46,2,   -999.0,9,  -999.00,9,-999.000,9,   -999.0,9,   -999.0,9, -999.00,  -999.0,-999.0000,   0.150,-999.000,  2.4651,   0.002
     316N138_5,  P06W,   240,  1,     13,    125,2,19920724,1410,-30.1003, 153.9950, 4460,   2006.9,   2.3827,  34.6601,2,  34.6598,2,    163.0,2,    163.4,2,    93.97,2,    33.76,2,     0.00,2,     2.41,2, -999.000,5, -999.000,5,    0.001,2,   1.9480,2,    14.16,2,   -999.0,9,  -999.00,9,-999.000,9,   -999.0,9,   -999.0,9, -999.00,  -999.0,-999.0000,   0.150,-999.000,  2.2398,   0.003
     316N138_5,  P06W,   240,  1,     12,    112,2,19920724,1410,-30.1003, 153.9950, 4460,   2188.2,   2.1921,  34.6869,2,  34.6873,2,    169.8,2,    170.9,2,    94.50,2,    33.08,2,     0.00,2,     2.38,2, -999.000,5, -999.000,5, -999.000,9,-999.0000,9,  -999.00,9,   -999.0,9,  -999.00,9,-999.000,9,   -999.0,9,   -999.0,9, -999.00,  -999.0,-999.0000,-999.000,-999.000,  2.0362,-999.000
     316N138_5,  P06W,   240,  1,     11,    129,2,19920724,1410,-30.1003, 153.9950, 4460,   2372.0,   2.0347,  34.7076,2,  34.7083,2,    176.9,2,    177.7,2,    95.22,2,    32.46,2,    -0.01,2,     2.33,2, -999.000,5, -999.000,5, -999.000,9,-999.0000,9,  -999.00,9,   -999.0,9,  -999.00,9,-999.000,9,   -999.0,9,   -999.0,9, -999.00,  -999.0,-999.0000,-999.000,-999.000,  1.8652,-999.000
     316N138_5,  P06W,   240,  1,     10,    110,2,19920724,1410,-30.1003, 153.9950, 4460,   2567.2,   1.8633,  34.7188,2,  34.7195,2,    181.5,2,    182.5,2,    98.64,2,    32.20,2,    -0.01,2,     2.31,2, -999.000,5, -999.000,5, -999.000,9,-999.0000,9,  -999.00,9,   -999.0,9,  -999.00,9,-999.000,9,   -999.0,9,   -999.0,9, -999.00,  -999.0,-999.0000,-999.000,-999.000,  1.6791,-999.000
     316N138_5,  P06W,   240,  1,      9,    126,2,19920724,1410,-30.1003, 153.9950, 4460,   2759.2,   1.7050,  34.7232,2,  34.7241,2,    185.2,2,    186.2,2,   102.42,2,    32.12,2,     0.00,2,     2.30,2, -999.000,5, -999.000,5, -999.000,9,-999.0000,9,  -999.00,9,   -999.0,9,  -999.00,9,-999.000,9,   -999.0,9,   -999.0,9, -999.00,  -999.0,-999.0000,-999.000,-999.000,  1.5063,-999.000
     316N138_5,  P06W,   240,  1,      8,    108,2,19920724,1410,-30.1003, 153.9950, 4460,   2950.9,   1.5524,  34.7238,2,  34.7241,2,    188.0,2,    189.1,2,   106.20,2,    32.16,2,     0.00,2,     2.30,2, -999.000,5, -999.000,5, -999.000,9,-999.0000,9,  -999.00,9,   -999.0,9,  -999.00,9,-999.000,9,   -999.0,9,   -999.0,9, -999.00,  -999.0,-999.0000,-999.000,-999.000,  1.3389,-999.000
     316N138_5,  P06W,   240,  1,      7,    107,2,19920724,1410,-30.1003, 153.9950, 4460,   3143.0,   1.4230,  34.7223,2,  34.7217,2,    191.2,2,    191.1,2,   109.44,2,    32.20,2,     0.00,2,     2.29,2, -999.000,5, -999.000,5, -999.000,9,-999.0000,9,  -999.00,9,   -999.0,9,  -999.00,9,-999.000,9,   -999.0,9,   -999.0,9, -999.00,  -999.0,-999.0000,-999.000,-999.000,  1.1939,-999.000
     316N138_5,  P06W,   240,  1,      6,    180,2,19920724,1410,-30.1003, 153.9950, 4460,   3343.2,   1.3052,  34.7198,2,  34.7193,2,    192.7,2,    193.0,2,   112.68,2,    32.35,2,    -0.01,2,     2.30,2, -999.000,5, -999.000,5, -999.000,9,-999.0000,9,  -999.00,9,   -999.0,9,  -999.00,9,-999.000,9,   -999.0,9,   -999.0,9, -999.00,  -999.0,-999.0000,-999.000,-999.000,  1.0594,-999.000
     316N138_5,  P06W,   240,  1,      5,    131,2,19920724,1410,-30.1003, 153.9950, 4460,   3546.5,   1.2354,  34.7186,2,  34.7178,2,    194.3,2,    194.1,2,   114.66,2,    32.38,2,     0.00,2,     2.32,2, -999.000,5, -999.000,5, -999.000,9,-999.0000,9,  -999.00,9,   -999.0,9,  -999.00,9,-999.000,9,   -999.0,9,   -999.0,9, -999.00,  -999.0,-999.0000,-999.000,-999.000,  0.9711,-999.000
     316N138_5,  P06W,   240,  1,      4,    516,2,19920724,1410,-30.1003, 153.9950, 4460,   3748.8,   1.1973,  34.7165,2,  34.7166,2,    195.1,2,    198.2,4,   116.09,2,    32.48,2,    -0.01,2,     2.32,2, -999.000,5, -999.000,5, -999.000,9,-999.0000,9,  -999.00,9,   -999.0,9,  -999.00,9,-999.000,9,   -999.0,9,   -999.0,9, -999.00,  -999.0,-999.0000,-999.000,-999.000,  0.9132,-999.000
     316N138_5,  P06W,   240,  1,      3,    130,2,19920724,1410,-30.1003, 153.9950, 4460,   3964.6,   1.1632,  34.7157,2,  34.7152,2,    194.8,2,    195.9,2,   117.35,2,    32.51,2,     0.00,2,     2.31,2,    0.000,2,    0.006,2, -999.000,9,-999.0000,9,  -999.00,9,   -999.0,9,  -999.00,9,-999.000,9,   -999.0,9,   -999.0,9, -999.00,  -999.0,-999.0000,-999.000,-999.000,  0.8574,-999.000
     316N138_5,  P06W,   240,  1,      2,    136,2,19920724,1410,-30.1003, 153.9950, 4460,   4190.3,   1.1633,  34.7151,2,  34.7142,2,    195.4,2,    196.0,2,   117.88,2,    32.55,2,     0.00,2,     2.31,2,    0.001,2,    0.010,2, -999.000,9,-999.0000,9,  -999.00,9,   -999.0,9,  -999.00,9,-999.000,9,   -999.0,9,   -999.0,9, -999.00,  -999.0,-999.0000,-999.000,-999.000,  0.8331,-999.000
     316N138_5,  P06W,   240,  1,      1,    134,2,19920724,1410,-30.1003, 153.9950, 4460,   4515.1,   1.1839,  34.7146,2,  34.7150,2,    195.4,2,    196.5,2,   118.36,2,    32.23,2,     0.25,2,     2.31,2,    0.001,2,    0.002,2, -999.000,9,-999.0000,9,  -999.00,9,   -999.0,9,  -999.00,9,-999.000,9,   -999.0,9,   -999.0,9, -999.00,  -999.0,-999.0000,-999.000,-999.000,  0.8168,-999.000