BOTTLE,20030219WHPSIOdm
EXPOCODE,SECT_ID,STNNBR,CASTNO,SAMPNO,BTLNBR,BTLNBR_FLAG_W,DATE,TIME,LATITUDE,LONGITUDE,DEPTH,CTDPRS,CTDTMP,CTDSAL,CTDSAL_FLAG_W,SALNTY,SALNTY_FLAG_W,CTDOXY,CTDOXY_FLAG_W,OXYGEN,OXYGEN_FLAG_W,SILCAT,SILCAT_FLAG_W,NITRAT,NITRAT_FLAG_W,NITRIT,NITRIT_FLAG_W,PHSPHT,PHSPHT_FLAG_W,CFC-11,CFC-11_FLAG_W,CFC-12,CFC-12_FLAG_W,TRITUM,TRITUM_FLAG_W,HELIUM,HELIUM_FLAG_W,DELHE3,DELHE3_FLAG_W,DELC14,DELC14_FLAG_W,DELC13,DELC13_FLAG_W,NEON,NEON_FLAG_W,TCARBN,TCARBN_FLAG_W,PCO2,PCO2_FLAG_W,PCO2TMP,C14ERR,HELIER,DELHER,NEONER,THETA,TRITER
,,,,,,,,,,,,DBAR,ITS-90,PSS-78,,PSS-78,,UMOL/KG,,UMOL/KG,,UMOL/KG,,UMOL/KG,,UMOL/KG,,UMOL/KG,,PMOL/KG,,PMOL/KG,,TU,,NMOL/KG,,PERCNT,,/MILLE,,/MILLE,,NMOL/KG,,UMOL/KG,,UATM,,DEG_C,/MILLE,NMOL/KG,PERCNT,NMOL/KG,ITS-90,TU
     316N138_5,  P06W,   209,  1,     14,    513,2,19920718,1317,-30.0802, 167.9912, 1159,     18.2,  18.4971,  35.6519,2,  35.6549,2,    227.9,2,    225.9,2,     0.89,2,     0.71,2,     0.24,2,     0.32,2,    2.305,2,    1.316,2,    0.747,2,   1.7890,2,    -1.22,2,   -999.0,9,  -999.00,9,-999.000,9,   2024.7,6,    347.0,2,   20.30,  -999.0,-999.0000,   0.150,-999.000, 18.4939,   0.005
     316N138_5,  P06W,   209,  1,     13,    125,2,19920718,1317,-30.0802, 167.9912, 1159,     56.5,  18.5085,  35.6522,2,  35.6512,2,    227.2,2,    225.6,2,     0.89,2,     0.71,2,     0.24,2,     0.19,2,    2.332,2,    1.212,2,    0.749,2,   1.8040,2,    -1.35,2,   -999.0,9,  -999.00,9,-999.000,9,   2025.2,2,   -999.0,9, -999.00,  -999.0,-999.0000,   0.150,-999.000, 18.4986,   0.005
     316N138_5,  P06W,   209,  1,     12,    112,2,19920718,1317,-30.0802, 167.9912, 1159,    105.0,  18.5159,  35.6508,2,  35.6508,2,    225.7,2,    225.3,2,     0.88,2,     0.72,2,     0.23,2,     0.19,2,    2.312,2,    1.231,2,    0.753,2,   1.8280,2,    -1.39,2,   -999.0,9,  -999.00,9,-999.000,9,   2025.2,2,    338.6,6,   20.30,  -999.0,-999.0000,   0.150,-999.000, 18.4975,   0.005
     316N138_5,  P06W,   209,  1,     11,    129,2,19920718,1317,-30.0802, 167.9912, 1159,    155.2,  18.4826,  35.6455,2,  35.6453,2,    220.0,2,    223.8,2,     0.88,2,     0.88,2,     0.23,2,     0.20,2,    2.320,2,    1.237,2, -999.000,9,-999.0000,9,  -999.00,9,   -999.0,9,  -999.00,9,-999.000,9,   2026.3,2,   -999.0,9, -999.00,  -999.0,-999.0000,-999.000,-999.000, 18.4554,-999.000
     316N138_5,  P06W,   209,  1,     10,    110,2,19920718,1317,-30.0802, 167.9912, 1159,    202.1,  17.1470,  35.5429,2,  35.5373,2,    200.8,2,    199.4,2,     1.61,2,     4.90,2,     0.02,2,     0.44,2,    2.178,2,    1.141,2,    0.665,2,   1.7970,2,    -0.65,2,   -999.0,9,  -999.00,9,-999.000,9,   2058.3,2,    415.9,2,   20.30,  -999.0,-999.0000,   0.150,-999.000, 17.1133,   0.005
     316N138_5,  P06W,   209,  1,      9,    126,2,19920718,1317,-30.0802, 167.9912, 1159,    249.5,  16.5922,  35.4914,2,  35.4918,2,    197.1,2,    197.2,2,     1.98,2,     5.97,2,     0.01,2,     0.52,2,    2.143,2,    1.102,2, -999.000,9,-999.0000,9,  -999.00,9,   -999.0,9,  -999.00,9,-999.000,9,   2066.6,6,   -999.0,9, -999.00,  -999.0,-999.0000,-999.000,-999.000, 16.5515,-999.000
     316N138_5,  P06W,   209,  1,      8,    108,2,19920718,1317,-30.0802, 167.9912, 1159,    297.5,  15.7588,  35.4130,2,  35.4212,2,    194.5,2,    194.5,2,     2.53,2,     7.43,2,     0.01,2,     0.61,2,    2.045,2,    1.062,2,    0.576,2,-999.0000,9,  -999.00,9,   -999.0,9,  -999.00,9,-999.000,9,   2076.3,2,    458.7,2,   20.30,  -999.0,-999.0000,-999.000,-999.000, 15.7119,   0.004
     316N138_5,  P06W,   209,  1,      7,    107,2,19920718,1317,-30.0802, 167.9912, 1159,    348.4,  14.8681,  35.3300,2,  35.3293,2,    192.6,2,    192.3,2,     3.26,2,     9.07,2,     0.01,2,     0.72,2,    1.949,2,    0.988,2,    0.526,2,   1.8150,2,    -0.03,2,   -999.0,9,  -999.00,9,-999.000,9,   2086.1,2,   -999.0,9, -999.00,  -999.0,-999.0000,   0.150,-999.000, 14.8153,   0.004
     316N138_5,  P06W,   209,  1,      6,    180,2,19920718,1317,-30.0802, 167.9912, 1159,    394.1,  13.4891,  35.1883,2,  35.1886,2,    191.4,2,    190.1,2,     4.36,2,    11.63,2,     0.01,2,     0.89,2,    1.772,2,    0.916,2,    0.412,2,   1.8050,2,     0.31,2,   -999.0,9,  -999.00,9,-999.000,9,   2100.6,2,    546.6,2,   20.30,  -999.0,-999.0000,   0.150,-999.000, 13.4331,   0.004
     316N138_5,  P06W,   209,  1,      5,    131,2,19920718,1317,-30.0802, 167.9912, 1159,    495.2,  11.1365,  34.9284,2,  34.9264,2,    191.8,2,    189.2,2,     7.13,2,    16.40,2,     0.01,2,     1.19,2,    1.355,2,    0.695,2,    0.383,2,   1.8330,2,     1.00,2,   -999.0,9,  -999.00,9,-999.000,9,   2123.0,2,   -999.0,9, -999.00,  -999.0,-999.0000,   0.150,-999.000, 11.0741,   0.005
     316N138_5,  P06W,   209,  1,      4,    516,2,19920718,1317,-30.0802, 167.9912, 1159,    592.4,   9.8675,  34.7897,2,  34.8051,3,    193.5,2,    193.0,2,     8.60,2,    18.34,2,     0.01,2,     1.32,2,    1.127,2,    0.574,2,    0.275,2,   1.8380,2,     1.15,2,   -999.0,9,  -999.00,9,-999.000,9,   2129.2,2,    683.4,6,   20.30,  -999.0,-999.0000,   0.150,-999.000,  9.7981,   0.003
     316N138_5,  P06W,   209,  1,      3,    130,2,19920718,1317,-30.0802, 167.9912, 1159,    783.8,   7.3100,  34.4955,2,  34.4968,2,    203.8,2,    203.9,2,    13.77,2,    23.89,2,     0.01,2,     1.68,2,    0.514,2,    0.276,2,    0.120,2,   1.8490,2,     1.77,2,   -999.0,9,  -999.00,9,-999.000,9,   2148.9,2,   -999.0,9, -999.00,  -999.0,-999.0000,   0.150,-999.000,  7.2323,   0.002
     316N138_5,  P06W,   209,  1,      2,    136,2,19920718,1317,-30.0802, 167.9912, 1159,    981.8,   5.3620,  34.4537,2,  34.4536,2,    187.4,2,    185.9,2,    36.67,2,    29.26,2,     0.00,2,     2.04,2,    0.164,2,    0.115,2, -999.000,9,   1.8200,2,     5.92,2,   -999.0,9,  -999.00,9,-999.000,9,   2191.4,2,    939.1,2,   20.30,  -999.0,-999.0000,   0.150,-999.000,  5.2777,-999.000
     316N138_5,  P06W,   209,  1,      1,    134,2,19920718,1317,-30.0802, 167.9912, 1159,   1201.9,   4.3528,  34.4820,2,  34.4828,2,    174.1,2,    175.2,2,    55.67,2,    31.65,2,     0.00,2,     2.23,2,    0.062,2,    0.036,2,    0.016,2,   1.9010,2,     9.93,2,   -999.0,9,  -999.00,9,-999.000,9,   2221.2,6,   1029.2,2,   20.30,  -999.0,-999.0000,   0.150,-999.000,  4.2568,   0.002
     316N138_5,  P06W,   210,  1,     15,    115,2,19920718,1642,-30.0818, 167.4983, 1272,      9.9,  18.7353,  35.6312,2,  35.6328,2,    233.5,2,    223.4,2,     0.78,2,     0.82,2,     0.15,2,     0.19,2, -999.000,5, -999.000,5, -999.000,9,-999.0000,9,  -999.00,9,     96.9,2,     1.33,2,-999.000,9,   -999.0,9,   -999.0,9, -999.00,     3.4,-999.0000,-999.000,-999.000, 18.7336,-999.000
     316N138_5,  P06W,   210,  1,     14,    513,2,19920718,1642,-30.0818, 167.4983, 1272,     49.4,  18.7456,  35.6310,2,  35.6378,2,    224.7,2,    222.7,2,     0.78,2,     0.83,2,     0.14,2,     0.19,2, -999.000,5, -999.000,5, -999.000,9,-999.0000,9,  -999.00,9,     76.9,2,     1.31,2,-999.000,9,   -999.0,9,   -999.0,9, -999.00,     3.9,-999.0000,-999.000,-999.000, 18.7369,-999.000
     316N138_5,  P06W,   210,  1,     13,    125,2,19920718,1642,-30.0818, 167.4983, 1272,     99.9,  18.6430,  35.6325,2,  35.6324,2,    218.6,2,    220.6,2,     0.98,2,     1.12,2,     0.18,2,     0.21,2, -999.000,5, -999.000,5, -999.000,9,-999.0000,9,  -999.00,9,     79.9,2,     1.25,2,-999.000,9,   -999.0,9,   -999.0,9, -999.00,     3.5,-999.0000,-999.000,-999.000, 18.6254,-999.000
     316N138_5,  P06W,   210,  1,     12,    112,2,19920718,1642,-30.0818, 167.4983, 1272,    149.9,  18.2180,  35.5779,2,  35.5778,2,    198.0,2,    204.3,2,     1.16,2,     3.13,2,     0.04,2,     0.35,2, -999.000,5, -999.000,5, -999.000,9,-999.0000,9,  -999.00,9,     81.4,2,     1.21,2,-999.000,9,   -999.0,9,   -999.0,9, -999.00,     3.6,-999.0000,-999.000,-999.000, 18.1920,-999.000
     316N138_5,  P06W,   210,  1,     11,    129,2,19920718,1642,-30.0818, 167.4983, 1272,    204.6,  17.0549,  35.5107,2,  35.5166,2,    193.8,2,    193.9,2,     1.90,2,     5.87,2,     0.00,2,     0.53,2, -999.000,5, -999.000,5, -999.000,9,-999.0000,9,  -999.00,9,     70.0,3,     1.12,2,-999.000,9,   -999.0,9,   -999.0,9, -999.00,     3.7,-999.0000,-999.000,-999.000, 17.0209,-999.000
     316N138_5,  P06W,   210,  1,     10,    110,2,19920718,1642,-30.0818, 167.4983, 1272,    253.0,  16.2482,  35.4430,2,  35.4541,2,    192.0,2,    191.3,2,     2.27,2,     7.22,2,    -0.01,2,     0.61,2, -999.000,5, -999.000,5, -999.000,9,-999.0000,9,  -999.00,9,     96.6,4,     1.12,2,-999.000,9,   -999.0,9,   -999.0,9, -999.00,     5.0,-999.0000,-999.000,-999.000, 16.2075,-999.000
     316N138_5,  P06W,   210,  1,      9,    126,2,19920718,1642,-30.0818, 167.4983, 1272,    307.8,  15.0635,  35.3716,2,  35.3567,2,    192.6,2,    191.8,2,     3.02,2,     8.76,2,     0.00,2,     0.73,2, -999.000,5, -999.000,5, -999.000,9,-999.0000,9,  -999.00,9,     84.0,2,     1.11,2,-999.000,9,   -999.0,9,   -999.0,9, -999.00,     5.8,-999.0000,-999.000,-999.000, 15.0165,-999.000
     316N138_5,  P06W,   210,  1,      8,    108,2,19920718,1642,-30.0818, 167.4983, 1272,    354.3,  14.1698,  35.2717,2,  35.2704,2,    192.5,2,    192.0,2,     3.57,2,    10.25,2,    -0.01,2,     0.82,2, -999.000,5, -999.000,5, -999.000,9,-999.0000,9,  -999.00,9,     72.3,2,     1.10,2,-999.000,9,   -999.0,9,   -999.0,9, -999.00,     3.5,-999.0000,-999.000,-999.000, 14.1178,-999.000
     316N138_5,  P06W,   210,  1,      7,    107,2,19920718,1642,-30.0818, 167.4983, 1272,    407.9,  13.0855,  35.1741,2,  35.1719,2,    193.0,2,    191.9,2,     4.69,2,    12.22,2,    -0.01,2,     0.96,2, -999.000,5, -999.000,5, -999.000,9,-999.0000,9,  -999.00,9,     60.6,2,     1.09,2,-999.000,9,   -999.0,9,   -999.0,9, -999.00,     3.3,-999.0000,-999.000,-999.000, 13.0286,-999.000
     316N138_5,  P06W,   210,  1,      6,    180,2,19920718,1642,-30.0818, 167.4983, 1272,    507.3,  10.9781,  34.9167,2,  34.9174,2,    190.7,2,    189.2,2,     7.46,2,    16.85,2,    -0.01,2,     1.25,2, -999.000,5, -999.000,5, -999.000,9,-999.0000,9,  -999.00,9,     37.5,2,     1.04,2,-999.000,9,   -999.0,9,   -999.0,9, -999.00,     3.9,-999.0000,-999.000,-999.000, 10.9148,-999.000
     316N138_5,  P06W,   210,  1,      5,    131,2,19920718,1642,-30.0818, 167.4983, 1272,    605.3,   9.2194,  34.7202,2,  34.7191,2,    193.1,2,    190.9,2,    11.71,2,    20.66,2,    -0.01,2,     1.49,2, -999.000,5, -999.000,5, -999.000,9,-999.0000,9,  -999.00,9,      3.2,2,     1.03,2,-999.000,9,   -999.0,9,   -999.0,9, -999.00,     3.0,-999.0000,-999.000,-999.000,  9.1514,-999.000
     316N138_5,  P06W,   210,  1,      4,    516,2,19920718,1642,-30.0818, 167.4983, 1272,    806.7,   7.4178,  34.5796,2,  34.5899,2,    190.1,2,    188.4,2,    20.58,2,    24.56,2,    -0.01,2,     1.75,2, -999.000,5, -999.000,5, -999.000,9,-999.0000,9,  -999.00,9,    -45.1,2,     0.98,2,-999.000,9,   -999.0,9,   -999.0,9, -999.00,     3.4,-999.0000,-999.000,-999.000,  7.3370,-999.000
     316N138_5,  P06W,   210,  1,      3,    130,2,19920718,1642,-30.0818, 167.4983, 1272,    999.7,   5.6482,  34.4609,2,  34.4603,2,    189.2,2,    187.9,2,    33.50,2,    28.66,2,    -0.01,2,     2.04,2, -999.000,5, -999.000,5, -999.000,9,-999.0000,9,  -999.00,9,    -92.7,2,     0.89,2,-999.000,9,   -999.0,9,   -999.0,9, -999.00,     2.9,-999.0000,-999.000,-999.000,  5.5602,-999.000
     316N138_5,  P06W,   210,  1,      2,    136,2,19920718,1642,-30.0818, 167.4983, 1272,   1202.8,   4.7079,  34.5032,2,  34.5023,2,    174.9,2,    174.0,2,    53.45,2,    30.96,2,     0.00,2,     2.21,2, -999.000,5, -999.000,5, -999.000,9,-999.0000,9,  -999.00,9,   -122.8,2,     0.68,2,-999.000,9,   -999.0,9,   -999.0,9, -999.00,     2.8,-999.0000,-999.000,-999.000,  4.6086,-999.000
     316N138_5,  P06W,   210,  1,      1,    134,2,19920718,1642,-30.0818, 167.4983, 1272,   1307.9,   3.9007,  34.5406,2,  34.5417,2,    165.1,2,    164.8,2,    70.72,2,    32.63,2,     0.00,2,     2.30,2, -999.000,5, -999.000,5, -999.000,9,-999.0000,9,  -999.00,9,   -148.8,6,     0.52,6,-999.000,9,   -999.0,9,   -999.0,9, -999.00,     2.2,-999.0000,-999.000,-999.000,  3.7997,-999.000