BOTTLE,20030219WHPSIOdm
EXPOCODE,SECT_ID,STNNBR,CASTNO,SAMPNO,BTLNBR,BTLNBR_FLAG_W,DATE,TIME,LATITUDE,LONGITUDE,DEPTH,CTDPRS,CTDTMP,CTDSAL,CTDSAL_FLAG_W,SALNTY,SALNTY_FLAG_W,CTDOXY,CTDOXY_FLAG_W,OXYGEN,OXYGEN_FLAG_W,SILCAT,SILCAT_FLAG_W,NITRAT,NITRAT_FLAG_W,NITRIT,NITRIT_FLAG_W,PHSPHT,PHSPHT_FLAG_W,CFC-11,CFC-11_FLAG_W,CFC-12,CFC-12_FLAG_W,TRITUM,TRITUM_FLAG_W,HELIUM,HELIUM_FLAG_W,DELHE3,DELHE3_FLAG_W,DELC14,DELC14_FLAG_W,DELC13,DELC13_FLAG_W,NEON,NEON_FLAG_W,TCARBN,TCARBN_FLAG_W,PCO2,PCO2_FLAG_W,PCO2TMP,C14ERR,HELIER,DELHER,NEONER,THETA,TRITER
,,,,,,,,,,,,DBAR,ITS-90,PSS-78,,PSS-78,,UMOL/KG,,UMOL/KG,,UMOL/KG,,UMOL/KG,,UMOL/KG,,UMOL/KG,,PMOL/KG,,PMOL/KG,,TU,,NMOL/KG,,PERCNT,,/MILLE,,/MILLE,,NMOL/KG,,UMOL/KG,,UATM,,DEG_C,/MILLE,NMOL/KG,PERCNT,NMOL/KG,ITS-90,TU
     316N138_5,  P06W,   194,  1,     36,1385-36,3,19920715,1840,-30.0810, 175.1680, 4106,     20.9,  19.9416,  35.7029,2,  35.7027,2,    233.1,2,    223.0,2,     0.69,2,     0.03,2,     0.01,2,     0.10,2, -999.000,5, -999.000,5, -999.000,9,-999.0000,9,  -999.00,9,   -999.0,9,  -999.00,9,-999.000,9,   2012.9,6,   -999.0,9, -999.00,  -999.0,-999.0000,-999.000,-999.000, 19.9378,-999.000
     316N138_5,  P06W,   194,  1,     35,02-9454,2,19920715,1840,-30.0810, 175.1680, 4106,     60.4,  19.7096,  35.7174,2,  35.7161,2,    223.0,2,    224.0,2,     0.69,2,     0.08,2,     0.01,2,     0.12,2,    2.209,2,    1.188,2, -999.000,9,-999.0000,9,  -999.00,9,    121.4,2,     1.37,2,-999.000,9,   2017.5,2,   -999.0,9, -999.00,     3.4,-999.0000,-999.000,-999.000, 19.6985,-999.000
     316N138_5,  P06W,   194,  1,     34,02-9457,2,19920715,1840,-30.0810, 175.1680, 4106,    109.6,  18.9621,  35.6549,2,  35.6407,2,    209.4,2,    205.1,2,     1.05,2,     2.36,2,     0.04,2,     0.30,2,    2.156,2,    1.141,2, -999.000,9,-999.0000,9,  -999.00,9,    117.7,2,     1.20,2,-999.000,9,   2044.6,2,   -999.0,9, -999.00,     3.5,-999.0000,-999.000,-999.000, 18.9426,-999.000
     316N138_5,  P06W,   194,  1,     33,1385-33,2,19920715,1840,-30.0810, 175.1680, 4106,    158.1,  17.5687,  35.5670,2,  35.5655,2,    196.5,2,    199.0,2,     1.60,2,     4.32,2,     0.02,2,     0.42,2,    2.171,2,    1.144,2, -999.000,9,-999.0000,9,  -999.00,9,    122.6,2,     1.15,2,-999.000,9,   2059.5,2,   -999.0,9, -999.00,     3.9,-999.0000,-999.000,-999.000, 17.5419,-999.000
     316N138_5,  P06W,   194,  1,     32,02-9510,2,19920715,1840,-30.0810, 175.1680, 4106,    206.8,  16.9577,  35.5365,2,  35.5369,2,    196.0,2,    200.2,2,     1.79,2,     5.04,2,     0.02,2,     0.48,2,    2.195,2,    1.154,2, -999.000,9,-999.0000,9,  -999.00,9,    116.5,2,     1.13,2,-999.000,9,   2065.4,2,   -999.0,9, -999.00,     4.1,-999.0000,-999.000,-999.000, 16.9234,-999.000
     316N138_5,  P06W,   194,  1,     31,02-9453,2,19920715,1840,-30.0810, 175.1680, 4106,    256.5,  16.0408,  35.4510,2,  35.6360,4,    196.3,2,    214.1,4,     1.23,4,     1.94,4,     0.02,4,     0.28,4,    2.149,4,    1.210,4, -999.000,9,-999.0000,9,  -999.00,9,   -999.0,9,  -999.00,9,-999.000,9,   2033.0,2,   -999.0,9, -999.00,  -999.0,-999.0000,-999.000,-999.000, 16.0000,-999.000
     316N138_5,  P06W,   194,  1,     30,02-9456,2,19920715,1840,-30.0810, 175.1680, 4106,    305.1,  15.3045,  35.3923,2,  35.3904,2,    195.2,2,    199.3,2,     2.69,2,     7.45,2,     0.02,2,     0.64,2,    2.108,2,    1.103,2, -999.000,9,-999.0000,9,  -999.00,9,     96.8,2,     0.90,3,-999.000,9,   2083.7,2,   -999.0,9, -999.00,     5.7,-999.0000,-999.000,-999.000, 15.2574,-999.000
     316N138_5,  P06W,   194,  1,     29,02-9458,2,19920715,1840,-30.0810, 175.1680, 4106,    355.0,  14.3293,  35.2868,2,  35.3906,4,    195.9,2,    196.4,2,     3.43,2,     9.25,2,     0.02,2,     0.77,2,    2.011,2,    1.041,2, -999.000,9,-999.0000,9,  -999.00,9,   -999.0,9,  -999.00,9,-999.000,9,   2093.7,2,   -999.0,9, -999.00,  -999.0,-999.0000,-999.000,-999.000, 14.2768,-999.000
     316N138_5,  P06W,   194,  1,     28,02-9454,2,19920715,1840,-30.0810, 175.1680, 4106,    402.1,  13.4489,  35.1872,2,  35.1861,2,    195.0,2,    193.4,2,     4.16,2,    11.30,2,     0.01,2,     0.88,2,    1.809,2,    0.948,2, -999.000,9,-999.0000,9,  -999.00,9,     83.5,2,     1.10,2,-999.000,9,   2103.0,2,   -999.0,9, -999.00,     5.4,-999.0000,-999.000,-999.000, 13.3918,-999.000
     316N138_5,  P06W,   194,  1,     27,02-9543,2,19920715,1840,-30.0810, 175.1680, 4106,    449.3,  12.3199,  35.0497,2,  35.0492,2,    191.4,2,    191.1,2,     5.25,2,    13.64,2,     0.01,2,     1.04,2, -999.000,5, -999.000,5, -999.000,9,-999.0000,9,  -999.00,9,   -999.0,9,  -999.00,9,-999.000,9,   2114.0,2,   -999.0,9, -999.00,  -999.0,-999.0000,-999.000,-999.000, 12.2597,-999.000
     316N138_5,  P06W,   194,  1,     26,02-9544,2,19920715,1840,-30.0810, 175.1680, 4106,    479.2,  11.7606,  34.9781,2,  34.9770,2,    191.1,2,    191.7,2,     5.61,2,    14.73,2,     0.01,2,     1.12,2,    1.533,2,    0.792,2, -999.000,9,-999.0000,9,  -999.00,9,     58.0,2,     1.13,2,-999.000,9,   2118.8,2,   -999.0,9, -999.00,     6.6,-999.0000,-999.000,-999.000, 11.6982,-999.000
     316N138_5,  P06W,   194,  1,     25,02-9455,2,19920715,1840,-30.0810, 175.1680, 4106,    585.7,   9.8716,  34.7531,2,  34.7569,2,    195.7,2,    195.4,2,     7.81,2,    18.59,2,     0.01,2,     1.36,2,    1.169,2,    0.597,2, -999.000,9,-999.0000,9,  -999.00,9,     18.5,2,     1.10,2,-999.000,9,   2133.0,2,   -999.0,9, -999.00,     4.1,-999.0000,-999.000,-999.000,  9.8030,-999.000
     316N138_5,  P06W,   194,  1,     24,    132,3,19920715,1840,-30.0810, 175.1680, 4106,    689.3,   8.4758,  34.6075,2,  34.6394,3,    201.2,2,    201.4,2,     9.82,2,    20.78,2,     0.01,2,     1.50,2,    0.933,2,    0.471,2, -999.000,9,-999.0000,9,  -999.00,9,   -999.0,9,  -999.00,9,-999.000,9,   2139.9,2,   -999.0,9, -999.00,  -999.0,-999.0000,-999.000,-999.000,  8.4018,-999.000
     316N138_5,  P06W,   194,  1,     23,    123,2,19920715,1840,-30.0810, 175.1680, 4106,    802.1,   7.2642,  34.4896,2,  34.4919,2,    207.2,2,    207.0,2,    13.13,2,    23.83,2,     0.01,2,     1.70,2,    0.557,2,    0.293,2, -999.000,9,-999.0000,9,  -999.00,9,    -18.4,2,     1.14,2,-999.000,9,   2149.6,2,   -999.0,9, -999.00,     4.6,-999.0000,-999.000,-999.000,  7.1848,-999.000
     316N138_5,  P06W,   194,  1,     22,    128,2,19920715,1840,-30.0810, 175.1680, 4106,    893.0,   6.5970,  34.4467,2,  34.4459,2,    204.2,2,    204.8,2,    17.35,2,    25.70,2,     0.01,2,     1.82,2,    0.379,2,    0.199,2, -999.000,9,-999.0000,9,  -999.00,9,    -57.6,2,     1.08,2,-999.000,9,   2160.2,2,   -999.0,9, -999.00,     3.2,-999.0000,-999.000,-999.000,  6.5126,-999.000
     316N138_5,  P06W,   194,  1,     21,    121,2,19920715,1840,-30.0810, 175.1680, 4106,    993.5,   5.6789,  34.3749,2,  34.3792,2,    201.3,2,    201.8,2,    22.66,2,    28.23,2,     0.01,2,     1.98,2,    0.160,2,    0.096,2, -999.000,9,-999.0000,9,  -999.00,9,    -80.1,2,     1.04,2,-999.000,9,   2173.0,2,   -999.0,9, -999.00,     3.0,-999.0000,-999.000,-999.000,  5.5914,-999.000
     316N138_5,  P06W,   194,  1,     20,    515,2,19920715,1840,-30.0810, 175.1680, 4106,   1094.7,   5.1224,  34.3821,2,  34.3808,2,    192.0,2,    193.1,2,    30.55,2,    30.13,2,     0.01,2,     2.11,2,    0.088,2,    0.059,2, -999.000,9,-999.0000,9,  -999.00,9,    -99.7,2,     0.95,2,-999.000,9,   2188.0,2,   -999.0,9, -999.00,     2.8,-999.0000,-999.000,-999.000,  5.0296,-999.000
     316N138_5,  P06W,   194,  1,     19,    120,2,19920715,1840,-30.0810, 175.1680, 4106,   1196.3,   4.5747,  34.4047,2,  34.4065,2,    182.1,2,    183.6,2,    41.38,2,    31.76,2,     0.01,2,     2.22,2,    0.049,2,    0.039,2, -999.000,9,-999.0000,9,  -999.00,9,   -118.8,2,     0.79,2,-999.000,9,   2206.1,2,   -999.0,9, -999.00,     2.8,-999.0000,-999.000,-999.000,  4.4774,-999.000
     316N138_5,  P06W,   194,  1,     18,    118,2,19920715,1840,-30.0810, 175.1680, 4106,   1296.5,   4.0107,  34.4571,2,  34.4573,2,    174.7,2,    174.6,2,    55.68,2,    32.87,2,     0.01,2,     2.31,2,    0.027,6,    0.016,2, -999.000,9,-999.0000,9,  -999.00,9,   -137.8,2,     0.62,2,-999.000,9,   2227.7,6,   -999.0,9, -999.00,     3.0,-999.0000,-999.000,-999.000,  3.9098,-999.000
     316N138_5,  P06W,   194,  1,     17,    514,2,19920715,1840,-30.0810, 175.1680, 4106,   1397.7,   3.4842,  34.5076,2,  34.5056,2,    167.8,2,    166.3,2,    71.09,2,    33.92,2,     0.01,2,     2.39,2, -999.000,5, -999.000,5, -999.000,9,-999.0000,9,  -999.00,9,   -163.1,2,     0.51,2,-999.000,9,   2246.8,2,   -999.0,9, -999.00,     2.7,-999.0000,-999.000,-999.000,  3.3798,-999.000
     316N138_5,  P06W,   194,  1,     16,    116,2,19920715,1840,-30.0810, 175.1680, 4106,   1499.2,   3.2105,  34.5427,2,  34.5441,2,    162.7,2,    161.9,2,    81.36,2,    34.30,2,     0.01,2,     2.44,2,    0.009,2,    0.007,2, -999.000,9,-999.0000,9,  -999.00,9,   -167.9,2,     0.41,2,-999.000,9,   2261.4,2,   -999.0,9, -999.00,     2.7,-999.0000,-999.000,-999.000,  3.1005,-999.000
     316N138_5,  P06W,   194,  1,     15,    115,2,19920715,1840,-30.0810, 175.1680, 4106,   1599.1,   3.0268,  34.5636,2,  34.5655,2,    159.6,2,    159.2,2,    87.96,2,    34.51,2,     0.01,2,     2.47,2, -999.000,5, -999.000,5, -999.000,9,-999.0000,9,  -999.00,9,   -180.9,2,     0.41,2,-999.000,9,   2269.2,2,   -999.0,9, -999.00,     2.8,-999.0000,-999.000,-999.000,  2.9103,-999.000
     316N138_5,  P06W,   194,  1,     14,    513,2,19920715,1840,-30.0810, 175.1680, 4106,   1699.7,   2.8005,  34.5889,2,  34.5912,2,    156.9,2,    157.4,2,    95.30,2,    34.89,2,     0.01,2,     2.48,2,    0.003,2,   -0.001,2, -999.000,9,-999.0000,9,  -999.00,9,   -201.8,3,     0.41,2,-999.000,9,   2278.7,2,   -999.0,9, -999.00,     2.9,-999.0000,-999.000,-999.000,  2.6783,-999.000
     316N138_5,  P06W,   194,  1,     13,    125,2,19920715,1840,-30.0810, 175.1680, 4106,   1796.9,   2.6232,  34.6071,2,  34.6091,2,    155.5,2,    155.6,2,   100.98,2,    35.05,2,     0.00,2,     2.49,2, -999.000,5, -999.000,5, -999.000,9,-999.0000,9,  -999.00,9,   -187.5,2,     0.36,2,-999.000,9,   2286.0,2,   -999.0,9, -999.00,     5.2,-999.0000,-999.000,-999.000,  2.4950,-999.000
     316N138_5,  P06W,   194,  1,     12,    112,2,19920715,1840,-30.0810, 175.1680, 4106,   1983.9,   2.3817,  34.6293,2,  34.6291,2,    153.8,2,    154.0,2,   108.50,2,    35.39,2,     0.00,2,     2.51,2,   -0.001,2,   -0.001,2, -999.000,9,-999.0000,9,  -999.00,9,   -192.7,2,     0.28,2,-999.000,9,   2292.8,2,   -999.0,9, -999.00,     3.7,-999.0000,-999.000,-999.000,  2.2409,-999.000
     316N138_5,  P06W,   194,  1,     11,    129,2,19920715,1840,-30.0810, 175.1680, 4106,   2186.1,   2.1889,  34.6458,2,  34.6478,2,    152.4,2,    152.7,2,   114.19,2,    35.59,2,     0.00,2,     2.54,2,    0.002,2,   -0.001,2, -999.000,9,-999.0000,9,  -999.00,9,   -201.2,2,     0.27,2,-999.000,9,   2300.6,2,   -999.0,9, -999.00,     2.7,-999.0000,-999.000,-999.000,  2.0334,-999.000
     316N138_5,  P06W,   194,  1,     10,    110,3,19920715,1840,-30.0810, 175.1680, 4106,   2390.1,   2.0558,  34.6575,2,  34.6598,2,    152.8,2,    153.3,2,   117.48,2,    35.60,2,     0.00,2,     2.52,2,   -0.003,2,    0.002,2, -999.000,9,-999.0000,9,  -999.00,9,   -209.3,2,     0.20,2,-999.000,9,   2303.6,2,   -999.0,9, -999.00,     3.2,-999.0000,-999.000,-999.000,  1.8844,-999.000
     316N138_5,  P06W,   194,  1,      9,    126,2,19920715,1840,-30.0810, 175.1680, 4106,   2584.1,   1.9594,  34.6673,2,  34.6692,2,    153.1,2,    154.6,2,   119.87,2,    35.50,2,     0.00,2,     2.51,2, -999.000,5, -999.000,5, -999.000,9,-999.0000,9,  -999.00,9,   -199.7,2,     0.22,2,-999.000,9,   2306.2,2,   -999.0,9, -999.00,     5.1,-999.0000,-999.000,-999.000,  1.7721,-999.000
     316N138_5,  P06W,   194,  1,      8,    108,2,19920715,1840,-30.0810, 175.1680, 4106,   2789.0,   1.9023,  34.6730,2,  34.6730,2,    153.7,2,    154.7,2,   121.52,2,    35.37,2,    -0.01,2,     2.50,2,   -0.002,2,   -0.001,2, -999.000,9,-999.0000,9,  -999.00,9,   -198.8,2,     0.22,2,-999.000,9,   2307.7,2,   -999.0,9, -999.00,     2.8,-999.0000,-999.000,-999.000,  1.6970,-999.000
     316N138_5,  P06W,   194,  1,      7,    107,2,19920715,1840,-30.0810, 175.1680, 4106,   2996.0,   1.8692,  34.6771,2,  34.6771,2,    154.5,2,    154.9,2,   122.80,2,    35.20,2,    -0.02,2,     2.50,2,    0.001,2,    0.001,2, -999.000,9,-999.0000,9,  -999.00,9,   -999.0,9,  -999.00,9,-999.000,9,   2309.7,2,   -999.0,9, -999.00,  -999.0,-999.0000,-999.000,-999.000,  1.6446,-999.000
     316N138_5,  P06W,   194,  1,      6,    180,2,19920715,1840,-30.0810, 175.1680, 4106,   3202.3,   1.8556,  34.6793,2,  34.6787,2,    154.9,2,    155.5,2,   123.54,2,    35.14,2,     0.00,2,     2.50,2, -999.000,5, -999.000,5, -999.000,9,-999.0000,9,  -999.00,9,   -999.0,9,  -999.00,9,-999.000,9,   2311.8,2,   -999.0,9, -999.00,  -999.0,-999.0000,-999.000,-999.000,  1.6109,-999.000
     316N138_5,  P06W,   194,  1,      5,    131,2,19920715,1840,-30.0810, 175.1680, 4106,   3396.7,   1.8570,  34.6808,2,  34.6818,2,    154.6,2,    155.3,2,   124.08,2,    35.10,2,     0.00,2,     2.49,2,    0.002,2,    0.000,2, -999.000,9,-999.0000,9,  -999.00,9,   -999.0,9,  -999.00,9,-999.000,9,   2310.5,2,   -999.0,9, -999.00,  -999.0,-999.0000,-999.000,-999.000,  1.5925,-999.000
     316N138_5,  P06W,   194,  1,      4,    516,2,19920715,1840,-30.0810, 175.1680, 4106,   3610.3,   1.8660,  34.6812,2,  34.6830,2,    154.9,2,    155.7,2,   124.45,2,    35.15,2,     0.00,2,     2.49,2,    0.002,2,    0.004,2, -999.000,9,-999.0000,9,  -999.00,9,   -999.0,9,  -999.00,9,-999.000,9,   2312.0,2,   -999.0,9, -999.00,  -999.0,-999.0000,-999.000,-999.000,  1.5790,-999.000
     316N138_5,  P06W,   194,  1,      3,    130,2,19920715,1840,-30.0810, 175.1680, 4106,   3783.1,   1.8759,  34.6821,2,  34.6830,2,    155.0,2,    155.0,2,   124.63,2,    35.16,2,     0.00,2,     2.48,2,   -0.003,2,    0.001,2, -999.000,9,-999.0000,9,  -999.00,9,   -999.0,9,  -999.00,9,-999.000,9,   2314.5,2,   -999.0,9, -999.00,  -999.0,-999.0000,-999.000,-999.000,  1.5702,-999.000
     316N138_5,  P06W,   194,  1,      2,    136,2,19920715,1840,-30.0810, 175.1680, 4106,   3989.6,   1.8914,  34.6824,2,  34.6824,2,    155.0,2,    154.9,2,   124.81,2,    35.13,2,    -0.01,2,     2.49,2,    0.000,2,    0.000,2, -999.000,9,-999.0000,9,  -999.00,9,   -999.0,9,  -999.00,9,-999.000,9,   2313.7,2,   -999.0,9, -999.00,  -999.0,-999.0000,-999.000,-999.000,  1.5627,-999.000
     316N138_5,  P06W,   194,  1,      1,    134,2,19920715,1840,-30.0810, 175.1680, 4106,   4195.2,   1.9110,  34.6827,2,  34.6832,2,    154.3,2,    155.0,2,   125.66,2,    35.15,2,    -0.01,2,     2.44,2,    0.002,2,    0.001,2, -999.000,9,-999.0000,9,  -999.00,9,   -999.0,9,  -999.00,9,-999.000,9,   2312.9,6,   -999.0,9, -999.00,  -999.0,-999.0000,-999.000,-999.000,  1.5586,-999.000