BOTTLE,20030219WHPSIOdm
EXPOCODE,SECT_ID,STNNBR,CASTNO,SAMPNO,BTLNBR,BTLNBR_FLAG_W,DATE,TIME,LATITUDE,LONGITUDE,DEPTH,CTDPRS,CTDTMP,CTDSAL,CTDSAL_FLAG_W,SALNTY,SALNTY_FLAG_W,CTDOXY,CTDOXY_FLAG_W,OXYGEN,OXYGEN_FLAG_W,SILCAT,SILCAT_FLAG_W,NITRAT,NITRAT_FLAG_W,NITRIT,NITRIT_FLAG_W,PHSPHT,PHSPHT_FLAG_W,CFC-11,CFC-11_FLAG_W,CFC-12,CFC-12_FLAG_W,TRITUM,TRITUM_FLAG_W,HELIUM,HELIUM_FLAG_W,DELHE3,DELHE3_FLAG_W,DELC14,DELC14_FLAG_W,DELC13,DELC13_FLAG_W,NEON,NEON_FLAG_W,TCARBN,TCARBN_FLAG_W,PCO2,PCO2_FLAG_W,PCO2TMP,C14ERR,HELIER,DELHER,NEONER,THETA,TRITER
,,,,,,,,,,,,DBAR,ITS-90,PSS-78,,PSS-78,,UMOL/KG,,UMOL/KG,,UMOL/KG,,UMOL/KG,,UMOL/KG,,UMOL/KG,,PMOL/KG,,PMOL/KG,,TU,,NMOL/KG,,PERCNT,,/MILLE,,/MILLE,,NMOL/KG,,UMOL/KG,,UATM,,DEG_C,/MILLE,NMOL/KG,PERCNT,NMOL/KG,ITS-90,TU
     316N138_5,  P06W,   196,  1,     35,1385-36,2,19920716,0537,-30.0787, 173.9965, 3357,     26.8,  18.8693,  35.7198,2,  35.7197,2,    231.7,2,    227.5,2,     0.76,2,     0.19,2,     0.03,2,     0.13,2,    2.278,2,    1.241,2,    0.716,2,   1.7810,2,    -1.24,2,   -999.0,9,  -999.00,9,-999.000,9,   -999.0,9,   -999.0,9, -999.00,  -999.0,-999.0000,   0.150,-999.000, 18.8645,   0.005
     316N138_5,  P06W,   196,  1,     34,02-9454,2,19920716,0537,-30.0787, 173.9965, 3357,     68.3,  18.8723,  35.7360,2,  35.7345,2,    225.8,2,    223.9,2,     0.76,2,     0.19,2,     0.03,2,     0.14,2,    2.303,2,    1.228,2,    0.708,2,   1.7890,2,    -1.06,2,   -999.0,9,  -999.00,9,-999.000,9,   -999.0,9,   -999.0,9, -999.00,  -999.0,-999.0000,   0.150,-999.000, 18.8601,   0.005
     316N138_5,  P06W,   196,  1,     33,02-9457,2,19920716,0537,-30.0787, 173.9965, 3357,    113.3,  18.4469,  35.7117,2,  35.7128,2,    220.7,2,    221.1,2,     0.76,2,     0.18,2,     0.09,2,     0.16,2,    2.203,2,    1.150,2, -999.000,9,-999.0000,9,  -999.00,9,   -999.0,9,  -999.00,9,-999.000,9,   -999.0,9,   -999.0,9, -999.00,  -999.0,-999.0000,-999.000,-999.000, 18.4271,-999.000
     316N138_5,  P06W,   196,  1,     32,1385-33,2,19920716,0537,-30.0787, 173.9965, 3357,    165.9,  17.2985,  35.5607,2,  35.5594,2,    203.2,2,    201.5,2,     0.95,2,     0.82,2,     0.27,2,     0.21,2,    2.080,2,    1.077,2,    0.595,2,   1.8440,2,    -0.19,2,   -999.0,9,  -999.00,9,-999.000,9,   -999.0,9,   -999.0,9, -999.00,  -999.0,-999.0000,   0.150,-999.000, 17.2708,   0.004
     316N138_5,  P06W,   196,  1,     31,02-9510,2,19920716,0537,-30.0787, 173.9965, 3357,    217.4,  16.1403,  35.4733,2,  35.4622,2,    195.4,2,    195.6,2,     1.51,2,     4.27,2,     0.03,2,     0.43,2,    2.044,2,    1.059,2, -999.000,9,-999.0000,9,  -999.00,9,   -999.0,9,  -999.00,9,-999.000,9,   -999.0,9,   -999.0,9, -999.00,  -999.0,-999.0000,-999.000,-999.000, 16.1056,-999.000
     316N138_5,  P06W,   196,  1,     30,02-9453,2,19920716,0537,-30.0787, 173.9965, 3357,    263.6,  15.3300,  35.3866,2,  35.3833,2,    194.9,2,    194.9,2,     2.09,2,     6.47,2,     0.02,2,     0.56,2,    1.888,2,    0.975,2,    0.485,2,   1.8160,2,     0.00,2,   -999.0,9,  -999.00,9,-999.000,9,   -999.0,9,   -999.0,9, -999.00,  -999.0,-999.0000,   0.150,-999.000, 15.2893,   0.004
     316N138_5,  P06W,   196,  1,     29,02-9456,2,19920716,0537,-30.0787, 173.9965, 3357,    313.7,  14.2283,  35.2636,2,  35.2658,2,    194.9,2,    191.5,2,     2.66,2,     7.73,2,     0.02,2,     0.66,2,    1.822,2,    0.944,2, -999.000,9,-999.0000,9,  -999.00,9,   -999.0,9,  -999.00,9,-999.000,9,   -999.0,9,   -999.0,9, -999.00,  -999.0,-999.0000,-999.000,-999.000, 14.1822,-999.000
     316N138_5,  P06W,   196,  1,     28,02-9458,2,19920716,0537,-30.0787, 173.9965, 3357,    365.8,  13.5281,  35.1881,2,  35.1930,2,    191.3,2,    190.7,2,     3.42,2,     9.78,2,     0.02,2,     0.80,2,    1.700,2,    0.885,2,    0.377,2,   1.8260,2,     0.38,2,   -999.0,9,  -999.00,9,-999.000,9,   -999.0,9,   -999.0,9, -999.00,  -999.0,-999.0000,   0.150,-999.000, 13.4761,   0.003
     316N138_5,  P06W,   196,  1,     27,02-9454,2,19920716,0537,-30.0787, 173.9965, 3357,    414.3,  12.4075,  35.0650,2,  35.0638,2,    192.7,2,    190.7,2,     3.98,2,    11.19,2,     0.01,2,     0.88,2,    1.488,2,    0.757,2, -999.000,9,-999.0000,9,  -999.00,9,   -999.0,9,  -999.00,9,-999.000,9,   -999.0,9,   -999.0,9, -999.00,  -999.0,-999.0000,-999.000,-999.000, 12.3517,-999.000
     316N138_5,  P06W,   196,  1,     26,02-9543,2,19920716,0537,-30.0787, 173.9965, 3357,    463.0,  11.4574,  34.9510,2,  34.9557,2,    190.6,2,    191.2,2,     4.93,2,    13.28,2,     0.02,2,     1.02,2,    1.329,2,    0.665,2,    0.315,2,   1.8380,2,     1.02,2,   -999.0,9,  -999.00,9,-999.000,9,   -999.0,9,   -999.0,9, -999.00,  -999.0,-999.0000,   0.150,-999.000, 11.3983,   0.003
     316N138_5,  P06W,   196,  1,     25,02-9544,2,19920716,0537,-30.0787, 173.9965, 3357,    513.1,  10.6490,  34.8458,2,  34.8519,2,    191.3,2,    191.5,2,     6.26,2,    15.42,2,     0.02,2,     1.15,2, -999.000,5, -999.000,5, -999.000,9,-999.0000,9,  -999.00,9,   -999.0,9,  -999.00,9,-999.000,9,   -999.0,9,   -999.0,9, -999.00,  -999.0,-999.0000,-999.000,-999.000, 10.5863,-999.000
     316N138_5,  P06W,   196,  1,     24,02-9455,2,19920716,0537,-30.0787, 173.9965, 3357,    563.0,   9.8623,  34.7572,2,  34.7657,2,    194.4,2,    193.4,2,     7.02,2,    17.05,2,     0.02,2,     1.26,2, -999.000,5, -999.000,5, -999.000,9,-999.0000,9,  -999.00,9,   -999.0,9,  -999.00,9,-999.000,9,   -999.0,9,   -999.0,9, -999.00,  -999.0,-999.0000,-999.000,-999.000,  9.7965,-999.000
     316N138_5,  P06W,   196,  1,     23,    123,2,19920716,0537,-30.0787, 173.9965, 3357,    614.2,   9.0510,  34.6636,2,  34.6655,2,    198.6,2,    198.1,2,     8.93,2,    20.23,2,     0.01,2,     1.46,2,    1.006,2,    0.514,2, -999.000,9,   1.8550,2,     1.51,2,   -999.0,9,  -999.00,9,-999.000,9,   -999.0,9,   -999.0,9, -999.00,  -999.0,-999.0000,   0.150,-999.000,  8.9828,-999.000
     316N138_5,  P06W,   196,  1,     22,    128,2,19920716,0537,-30.0787, 173.9965, 3357,    664.8,   8.3051,  34.5709,2,  34.5737,2,    204.3,2,    205.1,2,     9.11,2,    21.20,2,     0.01,2,     1.55,2, -999.000,5, -999.000,5,    0.173,2,   1.8440,2,     1.51,2,   -999.0,9,  -999.00,9,-999.000,9,   -999.0,9,   -999.0,9, -999.00,  -999.0,-999.0000,   0.150,-999.000,  8.2347,   0.003
     316N138_5,  P06W,   196,  1,     21,    121,2,19920716,0537,-30.0787, 173.9965, 3357,    716.6,   7.6945,  34.5104,2,  34.5125,2,    208.0,2,    208.5,2,    10.44,2,    22.43,2,     0.00,2,     1.63,2,    0.708,2,    0.360,2,    0.187,2,   1.8410,2,     1.62,2,   -999.0,9,  -999.00,9,-999.000,9,   -999.0,9,   -999.0,9, -999.00,  -999.0,-999.0000,   0.150,-999.000,  7.6217,   0.003
     316N138_5,  P06W,   196,  1,     20,    515,2,19920716,0537,-30.0787, 173.9965, 3357,    818.1,   6.6321,  34.4094,2,  34.4104,2,    212.5,2,    213.6,2,    13.11,2,    24.76,2,     0.00,2,     1.79,2,    0.404,2,    0.229,2, -999.000,9,-999.0000,9,  -999.00,9,   -999.0,9,  -999.00,9,-999.000,9,   -999.0,9,   -999.0,9, -999.00,  -999.0,-999.0000,-999.000,-999.000,  6.5550,-999.000
     316N138_5,  P06W,   196,  1,     19,    120,2,19920716,0537,-30.0787, 173.9965, 3357,    919.5,   6.0153,  34.3800,2,  34.3831,2,    211.2,2,    207.8,2,    18.04,2,    26.76,2,     0.00,2,     1.92,2,    0.238,2,    0.136,2,    0.056,2,   1.8670,2,     2.06,2,   -999.0,9,  -999.00,9,-999.000,9,   -999.0,9,   -999.0,9, -999.00,  -999.0,-999.0000,   0.150,-999.000,  5.9323,   0.002
     316N138_5,  P06W,   196,  1,     18,    118,2,19920716,0537,-30.0787, 173.9965, 3357,   1019.9,   5.4759,  34.3638,3,  34.3896,2,    198.3,2,    197.1,2,    26.22,2,    28.63,2,     0.00,2,     2.06,2,    0.134,2,    0.081,2, -999.000,9,-999.0000,9,  -999.00,9,   -999.0,9,  -999.00,9,-999.000,9,   -999.0,9,   -999.0,9, -999.00,  -999.0,-999.0000,-999.000,-999.000,  5.3874,-999.000
     316N138_5,  P06W,   196,  1,     17,    514,2,19920716,0537,-30.0787, 173.9965, 3357,   1121.4,   4.8696,  34.4044,2,  34.4016,2,    187.7,2,    188.3,2,    35.91,2,    30.45,2,     0.00,2,     2.18,2,    0.077,2,    0.037,2,    0.022,2,   1.5730,2,     5.93,2,   -999.0,9,  -999.00,9,-999.000,9,   -999.0,9,   -999.0,9, -999.00,  -999.0,-999.0000,   0.150,-999.000,  4.7765,   0.002
     316N138_5,  P06W,   196,  1,     16,    116,2,19920716,0537,-30.0787, 173.9965, 3357,   1221.0,   4.2827,  34.4471,3,  34.4349,2,    178.0,2,    177.9,2,    49.20,2,    32.04,2,     0.00,2,     2.30,2,    0.037,6,    0.014,2, -999.000,9,-999.0000,9,  -999.00,9,   -999.0,9,  -999.00,9,-999.000,9,   -999.0,9,   -999.0,9, -999.00,  -999.0,-999.0000,-999.000,-999.000,  4.1857,-999.000
     316N138_5,  P06W,   196,  1,     15,    115,2,19920716,0537,-30.0787, 173.9965, 3357,   1320.0,   3.9238,  34.4635,2,  34.4612,2,    173.2,2,    172.5,2,    58.14,2,    32.73,2,     0.00,2,     2.36,2, -999.000,5, -999.000,5,    0.008,2,   1.9250,2,    10.48,2,   -999.0,9,  -999.00,9,-999.000,9,   -999.0,9,   -999.0,9, -999.00,  -999.0,-999.0000,   0.150,-999.000,  3.8216,   0.002
     316N138_5,  P06W,   196,  1,     14,    513,2,19920716,0537,-30.0787, 173.9965, 3357,   1422.6,   3.4262,  34.5242,2,  34.5213,2,    165.3,2,    164.5,2,    74.80,2,    33.65,2,     0.00,2,     2.39,2,    0.017,2,    0.009,2, -999.000,9,-999.0000,9,  -999.00,9,   -999.0,9,  -999.00,9,-999.000,9,   -999.0,9,   -999.0,9, -999.00,  -999.0,-999.0000,-999.000,-999.000,  3.3203,-999.000
     316N138_5,  P06W,   196,  1,     13,    125,2,19920716,0537,-30.0787, 173.9965, 3357,   1525.4,   3.1135,  34.5611,2,  34.5594,2,    160.7,2,    160.7,2,    85.30,2,    33.99,2,     0.00,2,     2.46,2, -999.000,5, -999.000,5, -999.000,9,-999.0000,9,  -999.00,9,   -999.0,9,  -999.00,9,-999.000,9,   -999.0,9,   -999.0,9, -999.00,  -999.0,-999.0000,-999.000,-999.000,  3.0022,-999.000
     316N138_5,  P06W,   196,  1,     12,    112,2,19920716,0537,-30.0787, 173.9965, 3357,   1624.2,   2.9330,  34.5804,2,  34.5781,2,    158.5,2,    158.2,2,    91.57,2,    34.45,2,     0.00,2,     2.48,2,    0.006,2,    0.015,2,    0.002,2,   1.9460,2,    17.11,2,   -999.0,9,  -999.00,9,-999.000,9,   -999.0,9,   -999.0,9, -999.00,  -999.0,-999.0000,   0.150,-999.000,  2.8155,   0.002
     316N138_5,  P06W,   196,  1,     11,    129,2,19920716,0537,-30.0787, 173.9965, 3357,   1727.8,   2.7056,  34.6018,2,  34.6018,2,    156.3,2,    155.4,2,    98.99,2,    34.49,2,     0.00,2,     2.49,2, -999.000,5, -999.000,5, -999.000,9,-999.0000,9,  -999.00,9,   -999.0,9,  -999.00,9,-999.000,9,   -999.0,9,   -999.0,9, -999.00,  -999.0,-999.0000,-999.000,-999.000,  2.5821,-999.000
     316N138_5,  P06W,   196,  1,     10,    110,2,19920716,0537,-30.0787, 173.9965, 3357,   1826.4,   2.5392,  34.6177,2,  34.6154,2,    155.1,2,    153.8,2,   103.75,2,    34.77,2,     0.00,2,     2.51,2,    0.003,2,   -0.002,2, -999.000,9,-999.0000,9,  -999.00,9,   -999.0,9,  -999.00,9,-999.000,9,   -999.0,9,   -999.0,9, -999.00,  -999.0,-999.0000,-999.000,-999.000,  2.4096,-999.000
     316N138_5,  P06W,   196,  1,      9,    126,2,19920716,0537,-30.0787, 173.9965, 3357,   1926.0,   2.4092,  34.6285,2,  34.6250,2,    153.8,2,    152.5,2,   107.93,2,    34.95,2,     0.00,2,     2.54,2, -999.000,5, -999.000,5,    0.002,2,   1.9610,2,    20.33,2,   -999.0,9,  -999.00,9,-999.000,9,   -999.0,9,   -999.0,9, -999.00,  -999.0,-999.0000,   0.150,-999.000,  2.2730,   0.002
     316N138_5,  P06W,   196,  1,      8,    108,2,19920716,0537,-30.0787, 173.9965, 3357,   2027.3,   2.3081,  34.6370,2,  34.6344,2,    153.4,2,    151.7,2,   110.97,2,    34.95,2,     0.00,2,     2.54,2,    0.004,2,    0.003,2, -999.000,9,-999.0000,9,  -999.00,9,   -999.0,9,  -999.00,9,-999.000,9,   -999.0,9,   -999.0,9, -999.00,  -999.0,-999.0000,-999.000,-999.000,  2.1647,-999.000
     316N138_5,  P06W,   196,  1,      7,    107,2,19920716,0537,-30.0787, 173.9965, 3357,   2224.5,   2.1619,  34.6476,2,  34.6474,2,    152.1,2,    151.5,2,   114.98,2,    35.04,2,     0.00,2,     2.55,2,    0.000,2,   -0.001,2, -999.000,9,-999.0000,9,  -999.00,9,   -999.0,9,  -999.00,9,-999.000,9,   -999.0,9,   -999.0,9, -999.00,  -999.0,-999.0000,-999.000,-999.000,  2.0035,-999.000
     316N138_5,  P06W,   196,  1,      6,    180,2,19920716,0537,-30.0787, 173.9965, 3357,   2423.9,   2.0412,  34.6582,2,  34.6592,2,    152.3,2,    151.7,2,   118.39,2,    35.41,3,     0.00,2,     2.55,2,   -0.001,2,    0.000,2, -999.000,9,-999.0000,9,  -999.00,9,   -999.0,9,  -999.00,9,-999.000,9,   -999.0,9,   -999.0,9, -999.00,  -999.0,-999.0000,-999.000,-999.000,  1.8671,-999.000
     316N138_5,  P06W,   196,  1,      5,    131,2,19920716,0537,-30.0787, 173.9965, 3357,   2625.2,   1.9502,  34.6679,2,  34.6683,2,    153.4,2,    152.7,2,   120.69,2,    35.03,2,     0.00,2,     2.55,2,    0.004,2,    0.002,2, -999.000,9,-999.0000,9,  -999.00,9,   -999.0,9,  -999.00,9,-999.000,9,   -999.0,9,   -999.0,9, -999.00,  -999.0,-999.0000,-999.000,-999.000,  1.7593,-999.000
     316N138_5,  P06W,   196,  1,      4,    516,2,19920716,0537,-30.0787, 173.9965, 3357,   2831.3,   1.8570,  34.6763,2,  34.6808,4,    154.1,2,    153.3,2,   123.16,2,    35.08,2,     0.00,2,     2.53,2,   -0.002,2,    0.000,2, -999.000,9,-999.0000,9,  -999.00,9,   -999.0,9,  -999.00,9,-999.000,9,   -999.0,9,   -999.0,9, -999.00,  -999.0,-999.0000,-999.000,-999.000,  1.6485,-999.000
     316N138_5,  P06W,   196,  1,      3,    130,2,19920716,0537,-30.0787, 173.9965, 3357,   3039.2,   1.8386,  34.6795,2,  34.6791,2,    154.3,2,    153.6,2,   124.11,2,    35.27,2,    -0.01,2,     2.54,2,   -0.001,2,   -0.003,2, -999.000,9,-999.0000,9,  -999.00,9,   -999.0,9,  -999.00,9,-999.000,9,   -999.0,9,   -999.0,9, -999.00,  -999.0,-999.0000,-999.000,-999.000,  1.6105,-999.000
     316N138_5,  P06W,   196,  1,      2,    136,2,19920716,0537,-30.0787, 173.9965, 3357,   3244.8,   1.8274,  34.6816,2,  34.6808,2,    154.5,2,    153.7,2,   124.89,2,    35.03,2,    -0.01,2,     2.54,2,   -0.002,2,   -0.001,2, -999.000,9,-999.0000,9,  -999.00,9,   -999.0,9,  -999.00,9,-999.000,9,   -999.0,9,   -999.0,9, -999.00,  -999.0,-999.0000,-999.000,-999.000,  1.5791,-999.000
     316N138_5,  P06W,   196,  1,      1,    134,2,19920716,0537,-30.0787, 173.9965, 3357,   3385.4,   1.8255,  34.6818,2,  34.6812,2,    154.3,2,    154.2,2,   125.38,2,    35.09,2,     0.00,2,     2.51,2,    0.000,2,   -0.002,2, -999.000,9,-999.0000,9,  -999.00,9,   -999.0,9,  -999.00,9,-999.000,9,   -999.0,9,   -999.0,9, -999.00,  -999.0,-999.0000,-999.000,-999.000,  1.5630,-999.000