BOTTLE,20030219WHPSIOdm
EXPOCODE,SECT_ID,STNNBR,CASTNO,SAMPNO,BTLNBR,BTLNBR_FLAG_W,DATE,TIME,LATITUDE,LONGITUDE,DEPTH,CTDPRS,CTDTMP,CTDSAL,CTDSAL_FLAG_W,SALNTY,SALNTY_FLAG_W,CTDOXY,CTDOXY_FLAG_W,OXYGEN,OXYGEN_FLAG_W,SILCAT,SILCAT_FLAG_W,NITRAT,NITRAT_FLAG_W,NITRIT,NITRIT_FLAG_W,PHSPHT,PHSPHT_FLAG_W,CFC-11,CFC-11_FLAG_W,CFC-12,CFC-12_FLAG_W,TRITUM,TRITUM_FLAG_W,HELIUM,HELIUM_FLAG_W,DELHE3,DELHE3_FLAG_W,DELC14,DELC14_FLAG_W,DELC13,DELC13_FLAG_W,NEON,NEON_FLAG_W,TCARBN,TCARBN_FLAG_W,PCO2,PCO2_FLAG_W,PCO2TMP,C14ERR,HELIER,DELHER,NEONER,THETA,TRITER
,,,,,,,,,,,,DBAR,ITS-90,PSS-78,,PSS-78,,UMOL/KG,,UMOL/KG,,UMOL/KG,,UMOL/KG,,UMOL/KG,,UMOL/KG,,PMOL/KG,,PMOL/KG,,TU,,NMOL/KG,,PERCNT,,/MILLE,,/MILLE,,NMOL/KG,,UMOL/KG,,UATM,,DEG_C,/MILLE,NMOL/KG,PERCNT,NMOL/KG,ITS-90,TU
     316N138_5,  P06W,   226,  1,     21,    121,2,19920721,1940,-30.3297, 159.0848, 2354,     10.6,  19.7114,  35.5498,2,  35.5498,2,    253.7,3,    219.4,2,     0.90,2,     1.03,2,     0.18,2,     0.18,2, -999.000,5, -999.000,5, -999.000,9,-999.0000,9,  -999.00,9,   -999.0,9,  -999.00,9,-999.000,9,   -999.0,9,   -999.0,9, -999.00,  -999.0,-999.0000,-999.000,-999.000, 19.7095,-999.000
     316N138_5,  P06W,   226,  1,     20,    515,2,19920721,1940,-30.3297, 159.0848, 2354,     49.3,  18.9737,  35.5589,2,  35.5571,2,    228.0,2,    221.3,2,     0.90,2,     0.97,2,     0.33,2,     0.19,2, -999.000,5, -999.000,5, -999.000,9,-999.0000,9,  -999.00,9,   -999.0,9,  -999.00,9,-999.000,9,   -999.0,9,   -999.0,9, -999.00,  -999.0,-999.0000,-999.000,-999.000, 18.9649,-999.000
     316N138_5,  P06W,   226,  1,     19,    120,2,19920721,1940,-30.3297, 159.0848, 2354,     98.6,  18.9707,  35.5602,2,  35.5600,2,    225.0,2,    219.7,2,     1.07,2,     1.46,2,     0.38,2,     0.23,2, -999.000,5, -999.000,5, -999.000,9,-999.0000,9,  -999.00,9,   -999.0,9,  -999.00,9,-999.000,9,   -999.0,9,   -999.0,9, -999.00,  -999.0,-999.0000,-999.000,-999.000, 18.9531,-999.000
     316N138_5,  P06W,   226,  1,     18,    118,2,19920721,1940,-30.3297, 159.0848, 2354,    150.1,  18.5472,  35.5778,2,  35.5679,2,    220.2,2,    219.9,2,     0.90,2,     1.01,2,     0.36,2,     0.20,2, -999.000,5, -999.000,5, -999.000,9,-999.0000,9,  -999.00,9,   -999.0,9,  -999.00,9,-999.000,9,   -999.0,9,   -999.0,9, -999.00,  -999.0,-999.0000,-999.000,-999.000, 18.5209,-999.000
     316N138_5,  P06W,   226,  1,     17,    514,2,19920721,1940,-30.3297, 159.0848, 2354,    201.0,  18.0766,  35.5637,2,  35.5600,2,    218.0,2,    220.8,2,     1.26,2,     1.98,2,     0.32,2,     0.27,2, -999.000,5, -999.000,5, -999.000,9,-999.0000,9,  -999.00,9,   -999.0,9,  -999.00,9,-999.000,9,   -999.0,9,   -999.0,9, -999.00,  -999.0,-999.0000,-999.000,-999.000, 18.0418,-999.000
     316N138_5,  P06W,   226,  1,     16,    116,2,19920721,1940,-30.3297, 159.0848, 2354,    249.6,  17.0136,  35.5237,2,  35.5304,2,    216.3,2,    227.9,2,     1.07,2,     1.24,2,     0.41,2,     0.27,2, -999.000,5, -999.000,5, -999.000,9,-999.0000,9,  -999.00,9,   -999.0,9,  -999.00,9,-999.000,9,   -999.0,9,   -999.0,9, -999.00,  -999.0,-999.0000,-999.000,-999.000, 16.9721,-999.000
     316N138_5,  P06W,   226,  1,     15,    115,2,19920721,1940,-30.3297, 159.0848, 2354,    297.3,  15.3407,  35.3216,3,  35.3746,2,    197.2,2,    192.2,2,     2.87,2,     8.46,2,     0.00,2,     0.70,2, -999.000,5, -999.000,5, -999.000,9,-999.0000,9,  -999.00,9,   -999.0,9,  -999.00,9,-999.000,9,   -999.0,9,   -999.0,9, -999.00,  -999.0,-999.0000,-999.000,-999.000, 15.2947,-999.000
     316N138_5,  P06W,   226,  1,     14,    513,2,19920721,1940,-30.3297, 159.0848, 2354,    409.5,  12.4493,  35.0974,2,  35.1020,2,    195.8,2,    193.7,2,     5.03,2,    13.15,2,     0.00,2,     1.02,2, -999.000,5, -999.000,5, -999.000,9,-999.0000,9,  -999.00,9,   -999.0,9,  -999.00,9,-999.000,9,   -999.0,9,   -999.0,9, -999.00,  -999.0,-999.0000,-999.000,-999.000, 12.3940,-999.000
     316N138_5,  P06W,   226,  1,     13,    125,2,19920721,1940,-30.3297, 159.0848, 2354,    503.2,  10.8521,  34.9034,2,  34.8965,2,    189.8,2,    190.0,2,     7.01,2,    17.09,2,     0.00,2,     1.25,2, -999.000,5, -999.000,5, -999.000,9,-999.0000,9,  -999.00,9,   -999.0,9,  -999.00,9,-999.000,9,   -999.0,9,   -999.0,9, -999.00,  -999.0,-999.0000,-999.000,-999.000, 10.7897,-999.000
     316N138_5,  P06W,   226,  1,     12,    112,2,19920721,1940,-30.3297, 159.0848, 2354,    596.1,   9.2184,  34.7039,2,  34.7119,2,    192.9,2,    192.7,2,     9.88,2,    20.53,2,     0.00,2,     1.46,2, -999.000,5, -999.000,5, -999.000,9,-999.0000,9,  -999.00,9,   -999.0,9,  -999.00,9,-999.000,9,   -999.0,9,   -999.0,9, -999.00,  -999.0,-999.0000,-999.000,-999.000,  9.1515,-999.000
     316N138_5,  P06W,   226,  1,     11,    129,2,19920721,1940,-30.3297, 159.0848, 2354,    699.6,   8.1422,  34.6170,2,  34.6132,2,    188.1,2,    188.8,2,    14.73,2,    23.31,2,     0.00,2,     1.67,2, -999.000,5, -999.000,5, -999.000,9,-999.0000,9,  -999.00,9,   -999.0,9,  -999.00,9,-999.000,9,   -999.0,9,   -999.0,9, -999.00,  -999.0,-999.0000,-999.000,-999.000,  8.0689,-999.000
     316N138_5,  P06W,   226,  1,     10,    110,2,19920721,1940,-30.3297, 159.0848, 2354,    799.5,   7.1811,  34.5272,2,  34.5409,2,    186.1,2,    187.5,2,    20.84,2,    25.58,2,     0.00,2,     1.84,2, -999.000,5, -999.000,5, -999.000,9,-999.0000,9,  -999.00,9,   -999.0,9,  -999.00,9,-999.000,9,   -999.0,9,   -999.0,9, -999.00,  -999.0,-999.0000,-999.000,-999.000,  7.1024,-999.000
     316N138_5,  P06W,   226,  1,      9,    126,2,19920721,1940,-30.3297, 159.0848, 2354,    902.5,   6.0707,  34.4679,2,  34.4707,2,    185.5,2,    185.5,2,    28.56,2,    28.09,2,     0.00,2,     1.98,2, -999.000,5, -999.000,5, -999.000,9,-999.0000,9,  -999.00,9,   -999.0,9,  -999.00,9,-999.000,9,   -999.0,9,   -999.0,9, -999.00,  -999.0,-999.0000,-999.000,-999.000,  5.9890,-999.000
     316N138_5,  P06W,   226,  1,      8,    108,2,19920721,1940,-30.3297, 159.0848, 2354,   1001.5,   5.4083,  34.4786,3,  34.4671,2,    180.8,2,    180.9,2,    37.91,2,    29.80,2,     0.00,2,     2.10,2, -999.000,5, -999.000,5, -999.000,9,-999.0000,9,  -999.00,9,   -999.0,9,  -999.00,9,-999.000,9,   -999.0,9,   -999.0,9, -999.00,  -999.0,-999.0000,-999.000,-999.000,  5.3217,-999.000
     316N138_5,  P06W,   226,  1,      7,    107,2,19920721,1940,-30.3297, 159.0848, 2354,   1202.8,   4.3142,  34.4949,2,  34.4972,2,    168.4,2,    167.4,2,    58.55,2,    32.35,2,     0.00,2,     2.28,2, -999.000,5, -999.000,5, -999.000,9,-999.0000,9,  -999.00,9,   -999.0,9,  -999.00,9,-999.000,9,   -999.0,9,   -999.0,9, -999.00,  -999.0,-999.0000,-999.000,-999.000,  4.2184,-999.000
     316N138_5,  P06W,   226,  1,      6,    180,2,19920721,1940,-30.3297, 159.0848, 2354,   1393.3,   3.4770,  34.5520,2,  34.5484,2,    155.4,2,    156.2,2,    79.38,2,    33.97,2,     0.00,2,     2.41,2, -999.000,5, -999.000,5, -999.000,9,-999.0000,9,  -999.00,9,   -999.0,9,  -999.00,9,-999.000,9,   -999.0,9,   -999.0,9, -999.00,  -999.0,-999.0000,-999.000,-999.000,  3.3729,-999.000
     316N138_5,  P06W,   226,  1,      5,    131,2,19920721,1940,-30.3297, 159.0848, 2354,   1600.3,   2.9056,  34.5976,2,  34.6054,2,    150.5,2,    151.2,2,    92.67,2,    34.71,2,     0.00,2,     2.45,2, -999.000,5, -999.000,5, -999.000,9,-999.0000,9,  -999.00,9,   -999.0,9,  -999.00,9,-999.000,9,   -999.0,9,   -999.0,9, -999.00,  -999.0,-999.0000,-999.000,-999.000,  2.7903,-999.000
     316N138_5,  P06W,   226,  1,      4,    516,2,19920721,1940,-30.3297, 159.0848, 2354,   1801.9,   2.5871,  34.6317,2,  34.6311,2,    154.1,2,    156.3,2,    95.18,2,    34.29,2,     0.00,2,     2.41,2, -999.000,5, -999.000,5, -999.000,9,-999.0000,9,  -999.00,9,   -999.0,9,  -999.00,9,-999.000,9,   -999.0,9,   -999.0,9, -999.00,  -999.0,-999.0000,-999.000,-999.000,  2.4589,-999.000
     316N138_5,  P06W,   226,  1,      3,    130,2,19920721,1940,-30.3297, 159.0848, 2354,   2004.2,   2.3599,  34.6624,2,  34.6606,2,    161.4,2,    162.9,2,    95.35,2,    33.63,2,     0.00,2,     2.37,2, -999.000,5, -999.000,5, -999.000,9,-999.0000,9,  -999.00,9,   -999.0,9,  -999.00,9,-999.000,9,   -999.0,9,   -999.0,9, -999.00,  -999.0,-999.0000,-999.000,-999.000,  2.2176,-999.000
     316N138_5,  P06W,   226,  1,      2,    136,2,19920721,1940,-30.3297, 159.0848, 2354,   2205.5,   2.1803,  34.6844,2,  34.6834,2,    167.4,2,    169.3,2,    95.88,2,    33.07,2,     0.00,2,     2.32,2, -999.000,5, -999.000,5, -999.000,9,-999.0000,9,  -999.00,9,   -999.0,9,  -999.00,9,-999.000,9,   -999.0,9,   -999.0,9, -999.00,  -999.0,-999.0000,-999.000,-999.000,  2.0231,-999.000
     316N138_5,  P06W,   226,  1,      1,    134,2,19920721,1940,-30.3297, 159.0848, 2354,   2358.6,   2.0505,  34.6979,2,  34.6979,2,    173.9,2,    174.8,2,    96.51,2,    32.72,2,     0.00,2,     2.29,2, -999.000,5, -999.000,5, -999.000,9,-999.0000,9,  -999.00,9,   -999.0,9,  -999.00,9,-999.000,9,   -999.0,9,   -999.0,9, -999.00,  -999.0,-999.0000,-999.000,-999.000,  1.8819,-999.000