BOTTLE,20030219WHPSIOdm
EXPOCODE,SECT_ID,STNNBR,CASTNO,SAMPNO,BTLNBR,BTLNBR_FLAG_W,DATE,TIME,LATITUDE,LONGITUDE,DEPTH,CTDPRS,CTDTMP,CTDSAL,CTDSAL_FLAG_W,SALNTY,SALNTY_FLAG_W,CTDOXY,CTDOXY_FLAG_W,OXYGEN,OXYGEN_FLAG_W,SILCAT,SILCAT_FLAG_W,NITRAT,NITRAT_FLAG_W,NITRIT,NITRIT_FLAG_W,PHSPHT,PHSPHT_FLAG_W,CFC-11,CFC-11_FLAG_W,CFC-12,CFC-12_FLAG_W,TRITUM,TRITUM_FLAG_W,HELIUM,HELIUM_FLAG_W,DELHE3,DELHE3_FLAG_W,DELC14,DELC14_FLAG_W,DELC13,DELC13_FLAG_W,NEON,NEON_FLAG_W,TCARBN,TCARBN_FLAG_W,PCO2,PCO2_FLAG_W,PCO2TMP,C14ERR,HELIER,DELHER,NEONER,THETA,TRITER
,,,,,,,,,,,,DBAR,ITS-90,PSS-78,,PSS-78,,UMOL/KG,,UMOL/KG,,UMOL/KG,,UMOL/KG,,UMOL/KG,,UMOL/KG,,PMOL/KG,,PMOL/KG,,TU,,NMOL/KG,,PERCNT,,/MILLE,,/MILLE,,NMOL/KG,,UMOL/KG,,UATM,,DEG_C,/MILLE,NMOL/KG,PERCNT,NMOL/KG,ITS-90,TU
     316N138_5,  P06W,   241,  1,     24,    132,3,19920724,1900,-30.0995, 153.9098, 2570,     15.4,  21.0732,  35.5148,2,  35.5137,2,    212.1,2,    216.8,2,     0.79,2,     0.40,2,     0.24,2,     0.15,2,    2.070,2,    1.103,2, -999.000,9,-999.0000,9,  -999.00,9,   -999.0,9,  -999.00,9,-999.000,9,   1995.2,6,   -999.0,9, -999.00,  -999.0,-999.0000,-999.000,-999.000, 21.0703,-999.000
     316N138_5,  P06W,   241,  1,     23,    123,2,19920724,1900,-30.0995, 153.9098, 2570,     56.3,  21.0849,  35.5147,2,  35.5139,2,    217.5,2,    215.4,2,     0.79,2,     0.40,2,     0.24,2,     0.16,2,    2.042,2,    1.147,2, -999.000,9,-999.0000,9,  -999.00,9,   -999.0,9,  -999.00,9,-999.000,9,   1994.9,2,    316.9,2,   20.30,  -999.0,-999.0000,-999.000,-999.000, 21.0741,-999.000
     316N138_5,  P06W,   241,  1,     22,    128,2,19920724,1900,-30.0995, 153.9098, 2570,    105.1,  21.0679,  35.5135,2,  35.5117,2,    215.1,2,    214.0,2,     0.80,2,     0.48,2,     0.26,2,     0.18,2,    2.058,2,    1.141,2, -999.000,9,-999.0000,9,  -999.00,9,   -999.0,9,  -999.00,9,-999.000,9,   -999.0,9,   -999.0,9, -999.00,  -999.0,-999.0000,-999.000,-999.000, 21.0477,-999.000
     316N138_5,  P06W,   241,  1,     21,    121,2,19920724,1900,-30.0995, 153.9098, 2570,    155.7,  21.0195,  35.5203,2,  35.5150,2,    212.1,2,    211.8,2,     0.81,2,     0.78,2,     0.27,2,     0.20,2,    2.014,2,    1.090,2, -999.000,9,-999.0000,9,  -999.00,9,   -999.0,9,  -999.00,9,-999.000,9,   2000.0,2,    324.2,6,   20.30,  -999.0,-999.0000,-999.000,-999.000, 20.9896,-999.000
     316N138_5,  P06W,   241,  1,     20,    515,2,19920724,1900,-30.0995, 153.9098, 2570,    204.8,  19.2801,  35.5652,2,  35.5701,2,    183.8,2,    180.6,2,     1.53,2,     4.50,2,     0.01,2,     0.45,2,    1.885,2,    0.993,2, -999.000,9,-999.0000,9,  -999.00,9,   -999.0,9,  -999.00,9,-999.000,9,   2046.5,2,   -999.0,9, -999.00,  -999.0,-999.0000,-999.000,-999.000, 19.2430,-999.000
     316N138_5,  P06W,   241,  1,     19,    120,2,19920724,1900,-30.0995, 153.9098, 2570,    254.0,  17.7211,  35.5037,3,  35.5216,2,    183.3,2,    183.3,2,     1.89,2,     5.91,2,     0.00,2,     0.56,2,    1.891,2,    0.979,2, -999.000,9,-999.0000,9,  -999.00,9,   -999.0,9,  -999.00,9,-999.000,9,   2064.2,2,    452.0,2,   20.30,  -999.0,-999.0000,-999.000,-999.000, 17.6778,-999.000
     316N138_5,  P06W,   241,  1,     18,    118,2,19920724,1900,-30.0995, 153.9098, 2570,    304.0,  16.6884,  35.4855,3,  35.4515,2,    183.4,2,    183.7,2,     2.62,2,     7.39,2,    -0.01,2,     0.65,2,    1.833,2,    0.958,2, -999.000,9,-999.0000,9,  -999.00,9,   -999.0,9,  -999.00,9,-999.000,9,   2073.5,2,   -999.0,9, -999.00,  -999.0,-999.0000,-999.000,-999.000, 16.6386,-999.000
     316N138_5,  P06W,   241,  1,     17,    514,2,19920724,1900,-30.0995, 153.9098, 2570,    404.7,  13.7134,  35.1080,4,  35.2138,2,    185.0,2,    187.0,2,     4.24,2,    11.50,2,     0.00,2,     0.92,2,    1.717,2,    0.867,2, -999.000,9,-999.0000,9,  -999.00,9,   -999.0,9,  -999.00,9,-999.000,9,   2100.2,2,    574.4,2,   20.30,  -999.0,-999.0000,-999.000,-999.000, 13.6553,-999.000
     316N138_5,  P06W,   241,  1,     16,    116,2,19920724,1900,-30.0995, 153.9098, 2570,    504.7,  11.3769,  34.9530,2,  34.9504,2,    188.6,2,    187.8,2,     6.57,2,    15.94,2,     0.00,2,     1.19,2,    1.372,2,    0.698,2, -999.000,9,-999.0000,9,  -999.00,9,     45.7,2,     1.20,2,-999.000,9,   2122.2,2,   -999.0,9, -999.00,     3.1,-999.0000,-999.000,-999.000, 11.3125,-999.000
     316N138_5,  P06W,   241,  1,     15,    115,2,19920724,1900,-30.0995, 153.9098, 2570,    605.3,   9.5055,  34.7426,2,  34.7421,2,    191.3,2,    191.5,2,     9.62,2,    19.66,2,     0.00,2,     1.44,2,    1.076,2,    0.548,2, -999.000,9,-999.0000,9,  -999.00,9,     16.3,2,     1.18,2,-999.000,9,   2137.4,2,    785.6,2,   20.30,     5.6,-999.0000,-999.000,-999.000,  9.4362,-999.000
     316N138_5,  P06W,   241,  1,     14,    513,2,19920724,1900,-30.0995, 153.9098, 2570,    706.7,   8.3284,  34.6140,2,  34.6148,2,    191.7,2,    192.0,2,    12.85,2,    22.37,2,     0.00,2,     1.61,2,    0.669,2,    0.338,2, -999.000,9,-999.0000,9,  -999.00,9,    -25.2,2,     1.04,2,-999.000,9,   2146.8,2,   -999.0,9, -999.00,     5.2,-999.0000,-999.000,-999.000,  8.2532,-999.000
     316N138_5,  P06W,   241,  1,     13,    125,2,19920724,1900,-30.0995, 153.9098, 2570,    806.1,   7.1434,  34.5103,2,  34.5125,2,    186.5,2,    192.5,2,    18.77,2,    25.20,2,     0.00,2,     1.80,2,    0.343,2,    0.177,2, -999.000,9,-999.0000,9,  -999.00,9,    -30.4,2,     1.15,2,-999.000,9,   2161.2,2,    934.2,2,   20.30,     3.1,-999.0000,-999.000,-999.000,  7.0643,-999.000
     316N138_5,  P06W,   241,  1,     12,    112,2,19920724,1900,-30.0995, 153.9098, 2570,    906.2,   6.1676,  34.4697,2,  34.4669,2,    187.7,2,    188.4,2,    26.84,2,    27.55,2,    -0.01,2,     1.95,2,    0.173,2,    0.096,2, -999.000,9,-999.0000,9,  -999.00,9,    -54.5,2,     1.06,2,-999.000,9,   2176.4,2,   -999.0,9, -999.00,     2.8,-999.0000,-999.000,-999.000,  6.0848,-999.000
     316N138_5,  P06W,   241,  1,     11,    129,2,19920724,1900,-30.0995, 153.9098, 2570,   1006.1,   5.4451,  34.4500,2,  34.4567,2,    181.2,2,    182.3,2,    36.71,2,    29.53,2,     0.00,2,     2.09,2,    0.091,2,    0.058,2, -999.000,9,-999.0000,9,  -999.00,9,    -86.1,2,     0.95,2,-999.000,9,   2194.1,2,    967.2,2,   20.30,     2.9,-999.0000,-999.000,-999.000,  5.3579,-999.000
     316N138_5,  P06W,   241,  1,     10,    110,2,19920724,1900,-30.0995, 153.9098, 2570,   1205.2,   4.2593,  34.4969,2,  34.4968,2,    168.0,2,    167.3,2,    60.37,2,    32.45,2,     0.00,2,     2.30,2,    0.023,2,    0.003,2, -999.000,9,-999.0000,9,  -999.00,9,   -131.5,2,     0.74,2,-999.000,9,   2231.3,2,   -999.0,9, -999.00,     2.7,-999.0000,-999.000,-999.000,  4.1638,-999.000
     316N138_5,  P06W,   241,  1,      9,    126,2,19920724,1900,-30.0995, 153.9098, 2570,   1413.0,   3.5451,  34.5425,2,  34.5419,2,    156.5,2,    156.4,2,    78.12,2,    34.01,2,     0.00,2,     2.41,2,    0.006,2,    0.009,2, -999.000,9,-999.0000,9,  -999.00,9,   -160.4,2,     0.56,2,-999.000,9,   2256.0,2,   1176.6,2,   20.30,     2.5,-999.0000,-999.000,-999.000,  3.4387,-999.000
     316N138_5,  P06W,   241,  1,      8,    108,2,19920724,1900,-30.0995, 153.9098, 2570,   1607.1,   2.9844,  34.5884,2,  34.5883,2,    151.1,2,    150.9,2,    91.75,2,    34.84,2,     0.00,2,     2.47,2,   -0.002,2,    0.006,2, -999.000,9,-999.0000,9,  -999.00,9,   -179.9,2,     0.34,2,-999.000,9,   2275.0,2,   -999.0,9, -999.00,     4.5,-999.0000,-999.000,-999.000,  2.8677,-999.000
     316N138_5,  P06W,   241,  1,      7,    107,2,19920724,1900,-30.0995, 153.9098, 2570,   1812.4,   2.5850,  34.6310,2,  34.6282,2,    154.0,2,    154.2,2,    97.49,2,    34.67,2,     0.00,2,     2.46,2,   -0.001,2,    0.000,2, -999.000,9,-999.0000,9,  -999.00,9,   -181.9,2,     0.38,2,-999.000,9,   2280.0,2,   1202.0,2,   20.30,     3.9,-999.0000,-999.000,-999.000,  2.4559,-999.000
     316N138_5,  P06W,   241,  1,      6,    180,2,19920724,1900,-30.0995, 153.9098, 2570,   2016.1,   2.3623,  34.6616,2,  34.6600,2,    162.1,2,    163.3,2,    95.88,2,    33.92,2,     0.01,2,     2.38,2,    0.001,2,    0.000,2, -999.000,9,-999.0000,9,  -999.00,9,   -175.6,2,     0.39,2,-999.000,9,   2273.9,2,   -999.0,9, -999.00,     2.5,-999.0000,-999.000,-999.000,  2.2189,-999.000
     316N138_5,  P06W,   241,  1,      5,    131,2,19920724,1900,-30.0995, 153.9098, 2570,   2209.8,   2.1938,  34.6852,2,  34.6859,2,    170.6,2,    170.9,2,    94.99,2,    33.19,2,     0.00,2,     2.34,2,    0.002,2,    0.003,2, -999.000,9,-999.0000,9,  -999.00,9,   -166.5,2,     0.45,2,-999.000,9,   2268.3,2,   -999.0,9, -999.00,     2.7,-999.0000,-999.000,-999.000,  2.0360,-999.000
     316N138_5,  P06W,   241,  1,      4,    516,2,19920724,1900,-30.0995, 153.9098, 2570,   2413.7,   1.9135,  34.7137,2,  34.7138,2,    181.1,2,    181.0,2,    97.32,2,    32.40,2,     0.00,2,     2.29,2,    0.000,2,   -0.002,2, -999.000,9,-999.0000,9,  -999.00,9,   -165.8,2,     0.45,2,-999.000,9,   2263.5,2,   1139.6,6,   20.30,     2.4,-999.0000,-999.000,-999.000,  1.7424,-999.000
     316N138_5,  P06W,   241,  1,      3,    130,2,19920724,1900,-30.0995, 153.9098, 2570,   2609.7,   1.7933,  34.7204,2,  34.7205,2,    184.3,2,    183.8,2,    99.84,2,    32.14,2,     0.00,2,     2.27,2,   -0.001,2,    0.000,2, -999.000,9,-999.0000,9,  -999.00,9,   -164.1,2,     0.30,2,-999.000,9,   2264.7,2,   -999.0,9, -999.00,     4.4,-999.0000,-999.000,-999.000,  1.6066,-999.000
     316N138_5,  P06W,   241,  1,      2,    136,2,19920724,1900,-30.0995, 153.9098, 2570,   2806.2,   1.6675,  34.7226,2,  34.7215,2,    186.8,2,    187.0,2,   103.09,2,    32.12,2,     0.01,2,     2.27,2,    0.009,4,    0.000,2, -999.000,9,-999.0000,9,  -999.00,9,   -170.6,2,     0.45,2,-999.000,9,   2265.0,2,   -999.0,9, -999.00,     3.3,-999.0000,-999.000,-999.000,  1.4652,-999.000
     316N138_5,  P06W,   241,  1,      1,    134,2,19920724,1900,-30.0995, 153.9098, 2570,   2944.7,   1.5512,  34.7232,2,  34.7076,3,    189.0,2,    189.8,2,   105.80,2,    31.95,2,     0.00,2,     2.26,2,    0.000,2,   -0.001,2, -999.000,9,-999.0000,9,  -999.00,9,   -170.0,2,     0.28,2,-999.000,9,   2266.6,6,   1111.0,2,   20.30,     3.3,-999.0000,-999.000,-999.000,  1.3383,-999.000
     316N138_5,  P06W,   242,  1,     20,    515,2,19920724,2310,-30.0925, 153.7477, 2125,     13.8,  22.1960,  35.5048,2,  35.5052,2,    215.2,2,    213.7,2,     0.81,2,     0.05,2,     0.03,2,     0.14,2, -999.000,5, -999.000,5, -999.000,2,   1.7930,2,    -1.22,2,   -999.0,9,  -999.00,9,-999.000,9,   -999.0,9,   -999.0,9, -999.00,  -999.0,-999.0000,   0.150,-999.000, 22.1932,-999.000
     316N138_5,  P06W,   242,  1,     19,    120,2,19920724,2310,-30.0925, 153.7477, 2125,     51.4,  22.1744,  35.5030,2,  35.5087,2,    213.1,2,    212.5,2,     0.81,2,     0.02,2,     0.04,2,     0.15,2, -999.000,5, -999.000,5,    0.796,2,   1.7800,2,    -1.32,2,   -999.0,9,  -999.00,9,-999.000,9,   -999.0,9,   -999.0,9, -999.00,  -999.0,-999.0000,   0.150,-999.000, 22.1641,   0.005
     316N138_5,  P06W,   242,  1,     18,    118,2,19920724,2310,-30.0925, 153.7477, 2125,     99.9,  21.1396,  35.5069,2,  35.5074,2,    211.2,2,    212.7,2,     0.81,2,     0.41,2,     0.37,2,     0.20,2, -999.000,5, -999.000,5,    0.908,2,   1.7830,2,    -1.38,2,   -999.0,9,  -999.00,9,-999.000,9,   -999.0,9,   -999.0,9, -999.00,  -999.0,-999.0000,   0.150,-999.000, 21.1203,   0.005
     316N138_5,  P06W,   242,  1,     17,    514,2,19920724,2310,-30.0925, 153.7477, 2125,    151.1,  20.7310,  35.5450,2,  35.5352,2,    198.7,2,    199.3,2,     0.99,2,     1.77,2,     0.20,2,     0.27,2, -999.000,5, -999.000,5, -999.000,9,-999.0000,9,  -999.00,9,   -999.0,9,  -999.00,9,-999.000,9,   -999.0,9,   -999.0,9, -999.00,  -999.0,-999.0000,-999.000,-999.000, 20.7023,-999.000
     316N138_5,  P06W,   242,  1,     16,    116,2,19920724,2310,-30.0925, 153.7477, 2125,    199.7,  18.5455,  35.5490,2,  35.5541,2,    186.0,2,    181.9,2,     1.71,2,     4.93,2,     0.01,2,     0.49,2, -999.000,5, -999.000,5,    0.734,2,   1.8010,2,    -0.25,2,   -999.0,9,  -999.00,9,-999.000,9,   -999.0,9,   -999.0,9, -999.00,  -999.0,-999.0000,   0.150,-999.000, 18.5105,   0.005
     316N138_5,  P06W,   242,  1,     15,    115,2,19920724,2310,-30.0925, 153.7477, 2125,    249.3,  17.3778,  35.4706,2,  35.4766,2,    178.0,2,    176.7,2,     2.61,2,     7.01,2,     0.01,2,     0.64,2, -999.000,5, -999.000,5, -999.000,9,-999.0000,9,  -999.00,9,   -999.0,9,  -999.00,9,-999.000,9,   -999.0,9,   -999.0,9, -999.00,  -999.0,-999.0000,-999.000,-999.000, 17.3358,-999.000
     316N138_5,  P06W,   242,  1,     14,    513,2,19920724,2310,-30.0925, 153.7477, 2125,    301.9,  15.8316,  35.3852,2,  35.3967,2,    183.3,2,    184.8,2,     2.97,2,     8.04,2,     0.01,2,     0.72,2, -999.000,5, -999.000,5,    0.639,2,   1.8010,2,     0.04,2,   -999.0,9,  -999.00,9,-999.000,9,   -999.0,9,   -999.0,9, -999.00,  -999.0,-999.0000,   0.150,-999.000, 15.7839,   0.004
     316N138_5,  P06W,   242,  1,     13,    125,2,19920724,2310,-30.0925, 153.7477, 2125,    401.8,  12.4646,  35.0635,2,  35.0701,2,    187.8,2,    186.7,2,     5.48,2,    13.52,2,     0.00,2,     1.07,2, -999.000,5, -999.000,5,    0.433,2,   1.8200,2,     0.57,2,   -999.0,9,  -999.00,9,-999.000,9,   -999.0,9,   -999.0,9, -999.00,  -999.0,-999.0000,   0.150,-999.000, 12.4104,   0.003
     316N138_5,  P06W,   242,  1,     12,    112,2,19920724,2310,-30.0925, 153.7477, 2125,    501.7,  10.7383,  34.8742,2,  34.8949,2,    189.6,2,    187.9,2,     7.10,2,    16.49,2,     0.00,2,     1.26,2, -999.000,5, -999.000,5,    0.313,2,   1.8190,2,     0.84,2,   -999.0,9,  -999.00,9,-999.000,9,   -999.0,9,   -999.0,9, -999.00,  -999.0,-999.0000,   0.150,-999.000, 10.6766,   0.003
     316N138_5,  P06W,   242,  1,     11,    129,2,19920724,2310,-30.0925, 153.7477, 2125,    601.1,   9.1674,  34.7003,2,  34.6967,2,    192.1,2,    191.5,2,    10.34,2,    20.03,2,     0.00,2,     1.48,2, -999.000,5, -999.000,5,    0.217,2,   1.8410,2,     1.12,2,   -999.0,9,  -999.00,9,-999.000,9,   -999.0,9,   -999.0,9, -999.00,  -999.0,-999.0000,   0.150,-999.000,  9.1001,   0.003
     316N138_5,  P06W,   242,  1,     10,    110,2,19920724,2310,-30.0925, 153.7477, 2125,    699.5,   7.8994,  34.5731,2,  34.5720,2,    192.2,2,    191.9,2,    14.66,2,    22.94,2,     0.00,2,     1.67,2, -999.000,5, -999.000,5,    0.165,2,   1.8440,2,     2.07,2,   -999.0,9,  -999.00,9,-999.000,9,   -999.0,9,   -999.0,9, -999.00,  -999.0,-999.0000,   0.150,-999.000,  7.8273,   0.002
     316N138_5,  P06W,   242,  1,      9,    126,2,19920724,2310,-30.0925, 153.7477, 2125,    798.0,   6.8656,  34.4954,2,  34.4948,2,    193.2,2,    192.2,2,    14.84,3,    22.97,3,     0.00,3,     1.68,3, -999.000,5, -999.000,5,    0.067,2,   1.8570,2,     3.09,2,   -999.0,9,  -999.00,9,-999.000,9,   -999.0,9,   -999.0,9, -999.00,  -999.0,-999.0000,   0.150,-999.000,  6.7890,   0.004
     316N138_5,  P06W,   242,  1,      8,    108,2,19920724,2310,-30.0925, 153.7477, 2125,    895.9,   6.0237,  34.4615,2,  34.4624,2,    189.4,2,    188.7,2,    20.60,2,    25.20,2,     0.00,2,     1.86,2, -999.000,5, -999.000,5,    0.053,2,   1.8210,2,     4.46,2,   -999.0,9,  -999.00,9,-999.000,9,   -999.0,9,   -999.0,9, -999.00,  -999.0,-999.0000,   0.150,-999.000,  5.9428,   0.002
     316N138_5,  P06W,   242,  1,      7,    107,2,19920724,2310,-30.0925, 153.7477, 2125,   1003.6,   5.6041,  34.4598,2,  34.4593,2,    185.7,2,    184.1,2,    34.81,2,    28.41,2,     0.01,2,     2.06,2, -999.000,5, -999.000,5,    0.035,2,   1.8710,2,     5.83,2,   -999.0,9,  -999.00,9,-999.000,9,   -999.0,9,   -999.0,9, -999.00,  -999.0,-999.0000,   0.150,-999.000,  5.5159,   0.004
     316N138_5,  P06W,   242,  1,      6,    180,2,19920724,2310,-30.0925, 153.7477, 2125,   1199.2,   4.1794,  34.5020,2,  34.5009,2,    168.6,2,    166.6,2,    62.34,2,    31.78,2,     0.01,2,     2.31,2,    0.023,2,    0.009,2,    0.009,2,   1.9070,2,    12.20,2,   -999.0,9,  -999.00,9,-999.000,9,   -999.0,9,   -999.0,9, -999.00,  -999.0,-999.0000,   0.150,-999.000,  4.0852,   0.002
     316N138_5,  P06W,   242,  1,      5,    131,2,19920724,2310,-30.0925, 153.7477, 2125,   1405.7,   3.4091,  34.5536,2,  34.5531,2,    155.6,2,    154.5,2,    82.68,2,    33.54,2,     0.01,2,     2.46,2,    0.005,2,    0.002,2,   -0.001,2,   1.9340,2,    17.10,2,   -999.0,9,  -999.00,9,-999.000,9,   -999.0,9,   -999.0,9, -999.00,  -999.0,-999.0000,   0.150,-999.000,  3.3047,   0.001
     316N138_5,  P06W,   242,  1,      4,    516,2,19920724,2310,-30.0925, 153.7477, 2125,   1607.6,   2.7730,  34.6090,2,  34.6085,2,    151.0,2,    150.2,2,    96.54,2,    34.19,2,     0.01,2,     2.50,2,    0.003,2,   -0.001,2, -999.000,9,-999.0000,9,  -999.00,9,   -999.0,9,  -999.00,9,-999.000,9,   -999.0,9,   -999.0,9, -999.00,  -999.0,-999.0000,-999.000,-999.000,  2.6589,-999.000
     316N138_5,  P06W,   242,  1,      3,    130,2,19920724,2310,-30.0925, 153.7477, 2125,   1804.2,   2.4428,  34.6482,2,  34.6474,2,    158.8,2,    158.7,2,    96.91,2,    33.60,2,     0.01,2,     2.42,2,    0.000,2,   -0.001,2,   -0.001,2,   1.9560,2,    16.11,2,   -999.0,9,  -999.00,9,-999.000,9,   -999.0,9,   -999.0,9, -999.00,  -999.0,-999.0000,   0.150,-999.000,  2.3163,   0.002
     316N138_5,  P06W,   242,  1,      2,    136,2,19920724,2310,-30.0925, 153.7477, 2125,   1999.5,   2.2462,  34.6763,2,  34.6759,2,    167.1,2,    167.7,2,    95.30,2,    32.95,2,     0.01,2,     2.36,2,    0.000,2,    0.001,2, -999.000,9,-999.0000,9,  -999.00,9,   -999.0,9,  -999.00,9,-999.000,9,   -999.0,9,   -999.0,9, -999.00,  -999.0,-999.0000,-999.000,-999.000,  2.1059,-999.000
     316N138_5,  P06W,   242,  1,      1,    134,2,19920724,2310,-30.0925, 153.7477, 2125,   2126.3,   2.1505,  34.6894,2,  34.6895,2,    170.6,2,    172.4,2,    95.20,2,    32.60,2,     0.01,2,     2.31,2,   -0.002,2,    0.004,2,    0.001,2,   1.9420,2,    12.48,2,   -999.0,9,  -999.00,9,-999.000,9,   -999.0,9,   -999.0,9, -999.00,  -999.0,-999.0000,   0.150,-999.000,  2.0007,   0.002