BOTTLE,20030219WHPSIOdm
EXPOCODE,SECT_ID,STNNBR,CASTNO,SAMPNO,BTLNBR,BTLNBR_FLAG_W,DATE,TIME,LATITUDE,LONGITUDE,DEPTH,CTDPRS,CTDTMP,CTDSAL,CTDSAL_FLAG_W,SALNTY,SALNTY_FLAG_W,CTDOXY,CTDOXY_FLAG_W,OXYGEN,OXYGEN_FLAG_W,SILCAT,SILCAT_FLAG_W,NITRAT,NITRAT_FLAG_W,NITRIT,NITRIT_FLAG_W,PHSPHT,PHSPHT_FLAG_W,CFC-11,CFC-11_FLAG_W,CFC-12,CFC-12_FLAG_W,TRITUM,TRITUM_FLAG_W,HELIUM,HELIUM_FLAG_W,DELHE3,DELHE3_FLAG_W,DELC14,DELC14_FLAG_W,DELC13,DELC13_FLAG_W,NEON,NEON_FLAG_W,TCARBN,TCARBN_FLAG_W,PCO2,PCO2_FLAG_W,PCO2TMP,C14ERR,HELIER,DELHER,NEONER,THETA,TRITER
,,,,,,,,,,,,DBAR,ITS-90,PSS-78,,PSS-78,,UMOL/KG,,UMOL/KG,,UMOL/KG,,UMOL/KG,,UMOL/KG,,UMOL/KG,,PMOL/KG,,PMOL/KG,,TU,,NMOL/KG,,PERCNT,,/MILLE,,/MILLE,,NMOL/KG,,UMOL/KG,,UATM,,DEG_C,/MILLE,NMOL/KG,PERCNT,NMOL/KG,ITS-90,TU
     316N138_5,  P06W,   236,  1,     36,1385-36,2,19920723,1818,-30.0895, 155.4820, 4835,     11.0,  20.8279,  35.5239,2,  35.5227,2,    237.5,3,    214.5,2,     0.65,2,     0.72,2,     0.25,2,     0.18,2, -999.000,5, -999.000,5, -999.000,9,-999.0000,9,  -999.00,9,   -999.0,9,  -999.00,9,-999.000,9,   -999.0,9,   -999.0,9, -999.00,  -999.0,-999.0000,-999.000,-999.000, 20.8258,-999.000
     316N138_5,  P06W,   236,  1,     35,02-9454,2,19920723,1818,-30.0895, 155.4820, 4835,     51.6,  20.8315,  35.5251,2,  35.5243,2,    220.4,2,    213.6,2,     0.84,2,     0.81,2,     0.26,2,     0.21,2, -999.000,5, -999.000,5, -999.000,9,-999.0000,9,  -999.00,9,   -999.0,9,  -999.00,9,-999.000,9,   -999.0,9,   -999.0,9, -999.00,  -999.0,-999.0000,-999.000,-999.000, 20.8217,-999.000
     316N138_5,  P06W,   236,  1,     34,02-9457,2,19920723,1818,-30.0895, 155.4820, 4835,    101.8,  20.8128,  35.5296,2,  35.5298,2,    213.3,2,    211.9,2,     0.85,2,     1.11,2,     0.25,2,     0.22,2, -999.000,5, -999.000,5, -999.000,9,-999.0000,9,  -999.00,9,   -999.0,9,  -999.00,9,-999.000,9,   -999.0,9,   -999.0,9, -999.00,  -999.0,-999.0000,-999.000,-999.000, 20.7934,-999.000
     316N138_5,  P06W,   236,  1,     33,1385-33,2,19920723,1818,-30.0895, 155.4820, 4835,    152.1,  20.7401,  35.5223,2,  35.5223,2,    209.1,2,    213.2,2,     0.86,2,     0.89,2,     0.31,2,     0.22,2, -999.000,5, -999.000,5, -999.000,9,-999.0000,9,  -999.00,9,   -999.0,9,  -999.00,9,-999.000,9,   -999.0,9,   -999.0,9, -999.00,  -999.0,-999.0000,-999.000,-999.000, 20.7112,-999.000
     316N138_5,  P06W,   236,  1,     32,02-9510,2,19920723,1818,-30.0895, 155.4820, 4835,    202.1,  20.5387,  35.5648,2,  35.5375,2,    201.8,2,    207.5,3,     1.05,2,     1.64,2,     0.25,2,     0.29,2, -999.000,5, -999.000,5, -999.000,9,-999.0000,9,  -999.00,9,   -999.0,9,  -999.00,9,-999.000,9,   -999.0,9,   -999.0,9, -999.00,  -999.0,-999.0000,-999.000,-999.000, 20.5005,-999.000
     316N138_5,  P06W,   236,  1,     31,02-9453,2,19920723,1818,-30.0895, 155.4820, 4835,    399.6,  17.2874,  35.5065,2,  35.4866,2,    178.3,2,    180.6,2,     2.32,2,     7.02,2,     0.00,2,     0.63,2, -999.000,5, -999.000,5, -999.000,9,-999.0000,9,  -999.00,9,   -999.0,9,  -999.00,9,-999.000,9,   -999.0,9,   -999.0,9, -999.00,  -999.0,-999.0000,-999.000,-999.000, 17.2202,-999.000
     316N138_5,  P06W,   236,  1,     30,02-9456,2,19920723,1818,-30.0895, 155.4820, 4835,    399.6,  17.2874,  35.5065,2,  35.4866,2,    178.3,2,    180.6,2,     2.52,2,     6.96,2,     0.00,2,     0.64,2, -999.000,5, -999.000,5, -999.000,9,-999.0000,9,  -999.00,9,   -999.0,9,  -999.00,9,-999.000,9,   -999.0,9,   -999.0,9, -999.00,  -999.0,-999.0000,-999.000,-999.000, 17.2202,-999.000
     316N138_5,  P06W,   236,  1,     29,02-9458,2,19920723,1818,-30.0895, 155.4820, 4835,    500.0,  12.7468,  35.0623,2,  35.0659,2,    182.5,2,    183.6,2,     5.78,2,    14.25,2,     0.01,2,     1.11,2, -999.000,5, -999.000,5, -999.000,9,-999.0000,9,  -999.00,9,   -999.0,9,  -999.00,9,-999.000,9,   -999.0,9,   -999.0,9, -999.00,  -999.0,-999.0000,-999.000,-999.000, 12.6781,-999.000
     316N138_5,  P06W,   236,  1,     28,02-9454,2,19920723,1818,-30.0895, 155.4820, 4835,    601.3,   8.5348,  34.6265,2,  34.6352,2,    186.1,2,    191.0,2,    12.29,2,    22.03,2,     0.00,2,     1.59,2, -999.000,5, -999.000,5, -999.000,9,-999.0000,9,  -999.00,9,   -999.0,9,  -999.00,9,-999.000,9,   -999.0,9,   -999.0,9, -999.00,  -999.0,-999.0000,-999.000,-999.000,  8.4703,-999.000
     316N138_5,  P06W,   236,  1,     27,02-9543,2,19920723,1818,-30.0895, 155.4820, 4835,    701.6,   7.5661,  34.5603,2,  34.5510,2,    188.2,2,    191.1,2,    16.26,2,    24.31,2,     0.00,2,     1.75,2, -999.000,5, -999.000,5, -999.000,9,-999.0000,9,  -999.00,9,   -999.0,9,  -999.00,9,-999.000,9,   -999.0,9,   -999.0,9, -999.00,  -999.0,-999.0000,-999.000,-999.000,  7.4955,-999.000
     316N138_5,  P06W,   236,  1,     26,02-9544,2,19920723,1818,-30.0895, 155.4820, 4835,    802.5,   6.6656,  34.4859,2,  34.4917,2,    188.5,2,    189.7,2,    22.59,2,    26.44,2,     0.00,2,     1.89,2, -999.000,5, -999.000,5, -999.000,9,-999.0000,9,  -999.00,9,   -999.0,9,  -999.00,9,-999.000,9,   -999.0,9,   -999.0,9, -999.00,  -999.0,-999.0000,-999.000,-999.000,  6.5897,-999.000
     316N138_5,  P06W,   236,  1,     25,02-9455,2,19920723,1818,-30.0895, 155.4820, 4835,    901.8,   5.8647,  34.4700,2,  34.4657,2,    187.2,2,    184.8,2,    31.08,2,    28.52,2,     0.00,2,     2.03,2, -999.000,5, -999.000,5, -999.000,9,-999.0000,9,  -999.00,9,   -999.0,9,  -999.00,9,-999.000,9,   -999.0,9,   -999.0,9, -999.00,  -999.0,-999.0000,-999.000,-999.000,  5.7843,-999.000
     316N138_5,  P06W,   236,  1,     24,    132,2,19920723,1818,-30.0895, 155.4820, 4835,   1003.2,   5.2277,  34.4657,2,  34.4646,2,    182.0,2,    179.4,2,    39.57,2,    29.96,2,     0.00,2,     2.14,2, -999.000,5, -999.000,5, -999.000,9,-999.0000,9,  -999.00,9,   -999.0,9,  -999.00,9,-999.000,9,   -999.0,9,   -999.0,9, -999.00,  -999.0,-999.0000,-999.000,-999.000,  5.1425,-999.000
     316N138_5,  P06W,   236,  1,     23,    123,2,19920723,1818,-30.0895, 155.4820, 4835,   1103.5,   4.6205,  34.4823,2,  34.4822,2,    172.6,2,    172.1,2,    52.02,2,    31.59,2,     0.00,2,     2.26,2, -999.000,5, -999.000,5, -999.000,9,-999.0000,9,  -999.00,9,   -999.0,9,  -999.00,9,-999.000,9,   -999.0,9,   -999.0,9, -999.00,  -999.0,-999.0000,-999.000,-999.000,  4.5309,-999.000
     316N138_5,  P06W,   236,  1,     22,    128,2,19920723,1818,-30.0895, 155.4820, 4835,   1204.8,   4.0982,  34.5111,2,  34.5040,2,    167.1,2,    165.1,2,    63.56,2,    32.72,2,     0.00,2,     2.35,2, -999.000,5, -999.000,5, -999.000,9,-999.0000,9,  -999.00,9,   -999.0,9,  -999.00,9,-999.000,9,   -999.0,9,   -999.0,9, -999.00,  -999.0,-999.0000,-999.000,-999.000,  4.0043,-999.000
     316N138_5,  P06W,   236,  1,     21,    121,2,19920723,1818,-30.0895, 155.4820, 4835,   1306.3,   3.6828,  34.5330,2,  34.5302,2,    161.6,2,    159.3,2,    73.48,2,    33.65,2,     0.00,2,     2.42,2, -999.000,5, -999.000,5, -999.000,9,-999.0000,9,  -999.00,9,   -999.0,9,  -999.00,9,-999.000,9,   -999.0,9,   -999.0,9, -999.00,  -999.0,-999.0000,-999.000,-999.000,  3.5840,-999.000
     316N138_5,  P06W,   236,  1,     20,    515,2,19920723,1818,-30.0895, 155.4820, 4835,   1407.0,   3.3381,  34.5563,2,  34.5578,2,    155.8,2,    153.8,2,    83.03,2,    34.33,2,     0.00,2,     2.49,2, -999.000,5, -999.000,5, -999.000,9,-999.0000,9,  -999.00,9,   -999.0,9,  -999.00,9,-999.000,9,   -999.0,9,   -999.0,9, -999.00,  -999.0,-999.0000,-999.000,-999.000,  3.2343,-999.000
     316N138_5,  P06W,   236,  1,     19,    120,2,19920723,1818,-30.0895, 155.4820, 4835,   1508.2,   3.0986,  34.5800,2,  34.5775,2,    153.2,2,    152.6,2,    88.25,2,    34.72,2,     0.00,2,     2.50,2, -999.000,5, -999.000,5, -999.000,9,-999.0000,9,  -999.00,9,   -999.0,9,  -999.00,9,-999.000,9,   -999.0,9,   -999.0,9, -999.00,  -999.0,-999.0000,-999.000,-999.000,  2.9889,-999.000
     316N138_5,  P06W,   236,  1,     18,    118,2,19920723,1818,-30.0895, 155.4820, 4835,   1608.6,   2.9053,  34.5957,2,  34.5942,2,    152.6,2,    152.2,2,    91.67,2,    34.76,2,     0.00,2,     2.50,2, -999.000,5, -999.000,5, -999.000,9,-999.0000,9,  -999.00,9,   -999.0,9,  -999.00,9,-999.000,9,   -999.0,9,   -999.0,9, -999.00,  -999.0,-999.0000,-999.000,-999.000,  2.7894,-999.000
     316N138_5,  P06W,   236,  1,     17,    514,2,19920723,1818,-30.0895, 155.4820, 4835,   1708.0,   2.7485,  34.6119,2,  34.6124,2,    153.2,2,    152.7,2,    94.19,2,    34.74,2,     0.00,2,     2.50,2, -999.000,5, -999.000,5, -999.000,9,-999.0000,9,  -999.00,9,   -999.0,9,  -999.00,9,-999.000,9,   -999.0,9,   -999.0,9, -999.00,  -999.0,-999.0000,-999.000,-999.000,  2.6262,-999.000
     316N138_5,  P06W,   236,  1,     16,    116,2,19920723,1818,-30.0895, 155.4820, 4835,   1798.7,   2.6713,  34.6209,2,  34.6209,2,    154.3,2,    153.5,2,    95.44,2,    34.58,2,     0.00,2,     2.49,2, -999.000,5, -999.000,5, -999.000,9,-999.0000,9,  -999.00,9,   -999.0,9,  -999.00,9,-999.000,9,   -999.0,9,   -999.0,9, -999.00,  -999.0,-999.0000,-999.000,-999.000,  2.5422,-999.000
     316N138_5,  P06W,   236,  1,     15,    115,2,19920723,1818,-30.0895, 155.4820, 4835,   2000.2,   2.3929,  34.6557,2,  34.6535,2,    158.7,2,    160.1,2,    97.95,2,    34.06,2,     0.00,2,     2.45,2, -999.000,5, -999.000,5, -999.000,9,-999.0000,9,  -999.00,9,   -999.0,9,  -999.00,9,-999.000,9,   -999.0,9,   -999.0,9, -999.00,  -999.0,-999.0000,-999.000,-999.000,  2.2504,-999.000
     316N138_5,  P06W,   236,  1,     14,    513,2,19920723,1818,-30.0895, 155.4820, 4835,   2202.9,   2.0263,  34.7035,2,  34.7042,2,    173.9,2,    176.9,2,    96.32,2,    32.62,2,     0.00,2,     2.34,2, -999.000,5, -999.000,5, -999.000,9,-999.0000,9,  -999.00,9,   -999.0,9,  -999.00,9,-999.000,9,   -999.0,9,   -999.0,9, -999.00,  -999.0,-999.0000,-999.000,-999.000,  1.8719,-999.000
     316N138_5,  P06W,   236,  1,     13,    125,2,19920723,1818,-30.0895, 155.4820, 4835,   2405.3,   1.9065,  34.7173,2,  34.7160,2,    179.8,2,    180.5,2,    97.75,2,    32.35,2,     0.00,2,     2.31,2, -999.000,5, -999.000,5, -999.000,9,-999.0000,9,  -999.00,9,   -999.0,9,  -999.00,9,-999.000,9,   -999.0,9,   -999.0,9, -999.00,  -999.0,-999.0000,-999.000,-999.000,  1.7362,-999.000
     316N138_5,  P06W,   236,  1,     12,    112,2,19920723,1818,-30.0895, 155.4820, 4835,   2607.1,   1.7712,  34.7208,2,  34.7223,2,    183.1,2,    184.4,2,   100.62,2,    32.19,2,     0.00,2,     2.29,2, -999.000,5, -999.000,5, -999.000,9,-999.0000,9,  -999.00,9,   -999.0,9,  -999.00,9,-999.000,9,   -999.0,9,   -999.0,9, -999.00,  -999.0,-999.0000,-999.000,-999.000,  1.5852,-999.000
     316N138_5,  P06W,   236,  1,     11,    129,2,19920723,1818,-30.0895, 155.4820, 4835,   2800.4,   1.6387,  34.7237,2,  34.7245,2,    186.0,2,    188.4,3,   104.04,2,    32.18,2,     0.00,2,     2.30,2, -999.000,5, -999.000,5, -999.000,9,-999.0000,9,  -999.00,9,   -999.0,9,  -999.00,9,-999.000,9,   -999.0,9,   -999.0,9, -999.00,  -999.0,-999.0000,-999.000,-999.000,  1.4376,-999.000
     316N138_5,  P06W,   236,  1,     10,    110,3,19920723,1818,-30.0895, 155.4820, 4835,   3003.9,   1.4874,  34.7242,2,  35.1575,4,    190.1,2,    187.1,4,    48.78,4,    18.37,4,     0.09,4,     1.40,4, -999.000,5, -999.000,5, -999.000,9,-999.0000,9,  -999.00,9,   -999.0,9,  -999.00,9,-999.000,9,   -999.0,9,   -999.0,9, -999.00,  -999.0,-999.0000,-999.000,-999.000,  1.2703,-999.000
     316N138_5,  P06W,   236,  1,      9,    126,2,19920723,1818,-30.0895, 155.4820, 4835,   3205.8,   1.3579,  34.7232,2,  34.7245,2,    192.4,2,    192.1,2,   110.86,2,    32.30,2,     0.00,2,     2.31,2, -999.000,5, -999.000,5, -999.000,9,-999.0000,9,  -999.00,9,   -999.0,9,  -999.00,9,-999.000,9,   -999.0,9,   -999.0,9, -999.00,  -999.0,-999.0000,-999.000,-999.000,  1.1243,-999.000
     316N138_5,  P06W,   236,  1,      8,    108,2,19920723,1818,-30.0895, 155.4820, 4835,   3408.9,   1.2554,  34.7199,2,  34.7225,2,    193.8,2,    193.9,2,   113.73,2,    32.44,2,     0.00,2,     2.32,2, -999.000,5, -999.000,5, -999.000,9,-999.0000,9,  -999.00,9,   -999.0,9,  -999.00,9,-999.000,9,   -999.0,9,   -999.0,9, -999.00,  -999.0,-999.0000,-999.000,-999.000,  1.0044,-999.000
     316N138_5,  P06W,   236,  1,      7,    107,2,19920723,1818,-30.0895, 155.4820, 4835,   3601.4,   1.2009,  34.7175,2,  34.7168,2,    194.8,2,    195.0,2,   115.52,2,    32.48,2,     0.00,2,     2.33,2, -999.000,5, -999.000,5, -999.000,9,-999.0000,9,  -999.00,9,   -999.0,9,  -999.00,9,-999.000,9,   -999.0,9,   -999.0,9, -999.00,  -999.0,-999.0000,-999.000,-999.000,  0.9319,-999.000
     316N138_5,  P06W,   236,  1,      6,    180,2,19920723,1818,-30.0895, 155.4820, 4835,   3803.3,   1.1698,  34.7162,2,  34.7174,2,    195.1,2,    195.4,2,   116.77,2,    32.51,2,     0.00,2,     2.33,2, -999.000,5, -999.000,5, -999.000,9,-999.0000,9,  -999.00,9,   -999.0,9,  -999.00,9,-999.000,9,   -999.0,9,   -999.0,9, -999.00,  -999.0,-999.0000,-999.000,-999.000,  0.8808,-999.000
     316N138_5,  P06W,   236,  1,      5,    131,2,19920723,1818,-30.0895, 155.4820, 4835,   4006.4,   1.1669,  34.7155,2,  34.7158,2,    195.4,2,    195.8,2,   117.29,2,    32.60,2,     0.00,2,     2.34,2, -999.000,5, -999.000,5, -999.000,9,-999.0000,9,  -999.00,9,   -999.0,9,  -999.00,9,-999.000,9,   -999.0,9,   -999.0,9, -999.00,  -999.0,-999.0000,-999.000,-999.000,  0.8565,-999.000
     316N138_5,  P06W,   236,  1,      4,    516,2,19920723,1818,-30.0895, 155.4820, 4835,   4199.3,   1.1671,  34.7153,2,  34.7158,2,    195.7,2,    195.6,2,   117.65,2,    32.59,2,     0.00,2,     2.34,2, -999.000,5, -999.000,5, -999.000,9,-999.0000,9,  -999.00,9,   -999.0,9,  -999.00,9,-999.000,9,   -999.0,9,   -999.0,9, -999.00,  -999.0,-999.0000,-999.000,-999.000,  0.8358,-999.000
     316N138_5,  P06W,   236,  1,      3,    130,2,19920723,1818,-30.0895, 155.4820, 4835,   4403.4,   1.1709,  34.7144,2,  34.7152,2,    196.1,2,    196.5,2,   118.35,2,    32.63,2,     0.00,2,     2.33,2, -999.000,5, -999.000,5, -999.000,9,-999.0000,9,  -999.00,9,   -999.0,9,  -999.00,9,-999.000,9,   -999.0,9,   -999.0,9, -999.00,  -999.0,-999.0000,-999.000,-999.000,  0.8169,-999.000
     316N138_5,  P06W,   236,  1,      2,    136,2,19920723,1818,-30.0895, 155.4820, 4835,   4597.1,   1.1846,  34.7147,2,  34.7158,2,    196.0,2,    197.0,2,   118.53,2,    32.62,2,     0.00,2,     2.33,2, -999.000,5, -999.000,5, -999.000,9,-999.0000,9,  -999.00,9,   -999.0,9,  -999.00,9,-999.000,9,   -999.0,9,   -999.0,9, -999.00,  -999.0,-999.0000,-999.000,-999.000,  0.8081,-999.000
     316N138_5,  P06W,   236,  1,      1,    134,2,19920723,1818,-30.0895, 155.4820, 4835,   4905.5,   1.2139,  34.7148,2,  34.7180,3,    195.1,2,    196.3,2,   118.66,2,    32.65,2,     0.00,2,     2.30,2, -999.000,5, -999.000,5, -999.000,9,-999.0000,9,  -999.00,9,   -999.0,9,  -999.00,9,-999.000,9,   -999.0,9,   -999.0,9, -999.00,  -999.0,-999.0000,-999.000,-999.000,  0.8005,-999.000