BOTTLE,20030219WHPSIOdm
EXPOCODE,SECT_ID,STNNBR,CASTNO,SAMPNO,BTLNBR,BTLNBR_FLAG_W,DATE,TIME,LATITUDE,LONGITUDE,DEPTH,CTDPRS,CTDTMP,CTDSAL,CTDSAL_FLAG_W,SALNTY,SALNTY_FLAG_W,CTDOXY,CTDOXY_FLAG_W,OXYGEN,OXYGEN_FLAG_W,SILCAT,SILCAT_FLAG_W,NITRAT,NITRAT_FLAG_W,NITRIT,NITRIT_FLAG_W,PHSPHT,PHSPHT_FLAG_W,CFC-11,CFC-11_FLAG_W,CFC-12,CFC-12_FLAG_W,TRITUM,TRITUM_FLAG_W,HELIUM,HELIUM_FLAG_W,DELHE3,DELHE3_FLAG_W,DELC14,DELC14_FLAG_W,DELC13,DELC13_FLAG_W,NEON,NEON_FLAG_W,TCARBN,TCARBN_FLAG_W,PCO2,PCO2_FLAG_W,PCO2TMP,C14ERR,HELIER,DELHER,NEONER,THETA,TRITER
,,,,,,,,,,,,DBAR,ITS-90,PSS-78,,PSS-78,,UMOL/KG,,UMOL/KG,,UMOL/KG,,UMOL/KG,,UMOL/KG,,UMOL/KG,,PMOL/KG,,PMOL/KG,,TU,,NMOL/KG,,PERCNT,,/MILLE,,/MILLE,,NMOL/KG,,UMOL/KG,,UATM,,DEG_C,/MILLE,NMOL/KG,PERCNT,NMOL/KG,ITS-90,TU
     316N138_5,  P06W,   193,  1,     36,1385-36,2,19920715,1232,-30.0803, 175.8407, 4248,     18.5,  18.7696,  35.7494,2,  35.7497,2,    226.6,2,    225.6,2,     0.60,2,     0.26,2,    -0.02,2,     0.10,2, -999.000,5, -999.000,5,    0.755,2,   1.7680,2,    -1.26,2,   -999.0,9,  -999.00,9,-999.000,9,   -999.0,9,   -999.0,9, -999.00,  -999.0,-999.0000,   0.150,-999.000, 18.7664,   0.005
     316N138_5,  P06W,   193,  1,     35,02-9454,2,19920715,1232,-30.0803, 175.8407, 4248,     57.7,  18.7735,  35.7491,2,  35.7523,2,    226.6,2,    225.1,2,     0.61,2,     0.10,2,     0.14,2,     0.11,2, -999.000,5, -999.000,5,    0.887,2,   1.7690,2,    -1.29,2,   -999.0,9,  -999.00,9,-999.000,9,   -999.0,9,   -999.0,9, -999.00,  -999.0,-999.0000,   0.150,-999.000, 18.7633,   0.005
     316N138_5,  P06W,   193,  1,     34,02-9457,2,19920715,1232,-30.0803, 175.8407, 4248,    107.2,  18.7742,  35.7484,2,  35.7499,2,    225.0,2,    224.7,2,     0.61,2,     0.19,2,     0.14,2,     0.13,2, -999.000,5, -999.000,5,    0.785,2,   1.7820,2,    -1.05,2,   -999.0,9,  -999.00,9,-999.000,9,   -999.0,9,   -999.0,9, -999.00,  -999.0,-999.0000,   0.150,-999.000, 18.7552,   0.005
     316N138_5,  P06W,   193,  1,     33,1385-33,2,19920715,1232,-30.0803, 175.8407, 4248,    157.3,  17.8482,  35.6317,2,  35.6261,2,    223.2,2,    226.8,2,     0.80,2,     1.16,2,     0.15,2,     0.21,2, -999.000,5, -999.000,5, -999.000,9,-999.0000,9,  -999.00,9,   -999.0,9,  -999.00,9,-999.000,9,   -999.0,9,   -999.0,9, -999.00,  -999.0,-999.0000,-999.000,-999.000, 17.8212,-999.000
     316N138_5,  P06W,   193,  1,     32,02-9510,2,19920715,1232,-30.0803, 175.8407, 4248,    207.7,  16.8209,  35.5341,2,  35.5310,2,    209.4,2,    201.1,2,     1.55,2,     4.47,2,     0.43,2,     0.45,2, -999.000,5, -999.000,5,    0.657,2,   1.8030,2,    -0.45,2,   -999.0,9,  -999.00,9,-999.000,9,   -999.0,9,   -999.0,9, -999.00,  -999.0,-999.0000,   0.150,-999.000, 16.7868,   0.004
     316N138_5,  P06W,   193,  1,     31,02-9453,2,19920715,1232,-30.0803, 175.8407, 4248,    257.3,  15.8488,  35.4366,2,  35.4342,2,    201.0,2,    195.7,2,     2.30,2,     6.83,2,     0.03,2,     0.58,2, -999.000,5, -999.000,5,    0.583,2,   1.7840,2,    -0.40,2,   -999.0,9,  -999.00,9,-999.000,9,   -999.0,9,   -999.0,9, -999.00,  -999.0,-999.0000,   0.150,-999.000, 15.8081,   0.004
     316N138_5,  P06W,   193,  1,     30,02-9456,2,19920715,1232,-30.0803, 175.8407, 4248,    307.2,  15.0583,  35.3665,2,  35.3555,2,    197.1,2,    205.1,3,     2.86,2,     7.96,2,     0.03,2,     0.66,2, -999.000,5, -999.000,5,    0.571,2,   1.8060,2,    -0.15,2,   -999.0,9,  -999.00,9,-999.000,9,   -999.0,9,   -999.0,9, -999.00,  -999.0,-999.0000,   0.150,-999.000, 15.0114,   0.004
     316N138_5,  P06W,   193,  1,     29,02-9458,2,19920715,1232,-30.0803, 175.8407, 4248,    356.9,  13.5303,  35.1987,2,  35.1951,2,    200.1,2,    193.5,2,     3.99,2,    10.72,2,     0.02,2,     0.85,2, -999.000,5, -999.000,5,    0.468,2,   1.8140,2,     0.17,2,   -999.0,9,  -999.00,9,-999.000,9,   -999.0,9,   -999.0,9, -999.00,  -999.0,-999.0000,   0.150,-999.000, 13.4795,   0.004
     316N138_5,  P06W,   193,  1,     28,02-9454,2,19920715,1232,-30.0803, 175.8407, 4248,    407.0,  12.5983,  35.0949,2,  35.0902,2,    195.5,2,    191.5,2,     5.12,2,    12.82,2,     0.02,2,     0.98,2, -999.000,5, -999.000,5,    0.464,2,   1.8150,2,     0.52,2,   -999.0,9,  -999.00,9,-999.000,9,   -999.0,9,   -999.0,9, -999.00,  -999.0,-999.0000,   0.150,-999.000, 12.5429,   0.006
     316N138_5,  P06W,   193,  1,     27,02-9543,2,19920715,1232,-30.0803, 175.8407, 4248,    457.7,  11.8108,  35.0079,2,  35.0035,2,    193.5,2,    191.3,2,     6.24,2,    14.42,2,     0.01,2,     1.09,2, -999.000,5, -999.000,5, -999.000,9,-999.0000,9,  -999.00,9,   -999.0,9,  -999.00,9,-999.000,9,   -999.0,9,   -999.0,9, -999.00,  -999.0,-999.0000,-999.000,-999.000, 11.7511,-999.000
     316N138_5,  P06W,   193,  1,     26,02-9544,2,19920715,1232,-30.0803, 175.8407, 4248,    507.0,  10.9550,  34.9043,2,  34.9063,2,    192.5,2,    192.3,2,     7.37,2,    16.29,2,     0.01,2,     1.20,2, -999.000,5, -999.000,5, -999.000,9,-999.0000,9,  -999.00,9,   -999.0,9,  -999.00,9,-999.000,9,   -999.0,9,   -999.0,9, -999.00,  -999.0,-999.0000,-999.000,-999.000, 10.8918,-999.000
     316N138_5,  P06W,   193,  1,     25,02-9455,2,19920715,1232,-30.0803, 175.8407, 4248,    607.0,   9.5548,  34.7314,2,  34.7313,2,    196.0,2,    196.3,2,     8.87,2,    18.95,2,     0.01,2,     1.37,2, -999.000,5, -999.000,5,    0.253,2,   1.8360,2,     1.29,2,   -999.0,9,  -999.00,9,-999.000,9,   -999.0,9,   -999.0,9, -999.00,  -999.0,-999.0000,   0.150,-999.000,  9.4851,   0.003
     316N138_5,  P06W,   193,  1,     24,    132,2,19920715,1232,-30.0803, 175.8407, 4248,    704.7,   8.1619,  34.5739,2,  34.6193,4,    202.3,2,    203.6,2,    10.37,2,    20.77,2,     0.01,2,     1.49,2, -999.000,5, -999.000,5, -999.000,9,-999.0000,9,  -999.00,9,   -999.0,9,  -999.00,9,-999.000,9,   -999.0,9,   -999.0,9, -999.00,  -999.0,-999.0000,-999.000,-999.000,  8.0880,-999.000
     316N138_5,  P06W,   193,  1,     23,    123,3,19920715,1232,-30.0803, 175.8407, 4248,    805.8,   7.3031,  34.5193,2,  34.5205,2,    200.1,2,    200.8,2,    16.36,4,    24.10,4,     0.01,4,     1.70,4, -999.000,5, -999.000,5,    0.126,2,   1.8560,2,     2.19,2,   -999.0,9,  -999.00,9,-999.000,9,   -999.0,9,   -999.0,9, -999.00,  -999.0,-999.0000,   0.150,-999.000,  7.2231,   0.002
     316N138_5,  P06W,   193,  1,     22,    128,2,19920715,1232,-30.0803, 175.8407, 4248,    906.1,   6.4046,  34.4441,2,  34.4438,2,    201.3,2,    201.6,2,    20.30,2,    26.11,2,     0.00,2,     1.84,2, -999.000,5, -999.000,5, -999.000,9,-999.0000,9,  -999.00,9,   -999.0,9,  -999.00,9,-999.000,9,   -999.0,9,   -999.0,9, -999.00,  -999.0,-999.0000,-999.000,-999.000,  6.3202,-999.000
     316N138_5,  P06W,   193,  1,     21,    121,2,19920715,1232,-30.0803, 175.8407, 4248,   1008.4,   5.6204,  34.4135,2,  34.4137,2,    194.3,2,    195.6,2,    27.23,2,    28.36,2,     0.00,2,     1.99,2, -999.000,5, -999.000,5,    0.016,2,   1.8620,2,     4.12,2,   -999.0,9,  -999.00,9,-999.000,9,   -999.0,9,   -999.0,9, -999.00,  -999.0,-999.0000,   0.150,-999.000,  5.5317,   0.003
     316N138_5,  P06W,   193,  1,     20,    515,2,19920715,1232,-30.0803, 175.8407, 4248,   1109.9,   4.9752,  34.4181,2,  34.4182,2,    187.2,2,    187.0,2,    37.16,2,    30.31,2,     0.00,2,     2.13,2, -999.000,5, -999.000,5, -999.000,9,-999.0000,9,  -999.00,9,   -999.0,9,  -999.00,9,-999.000,9,   -999.0,9,   -999.0,9, -999.00,  -999.0,-999.0000,-999.000,-999.000,  4.8822,-999.000
     316N138_5,  P06W,   193,  1,     19,    120,2,19920715,1232,-30.0803, 175.8407, 4248,   1211.9,   4.3755,  34.4355,2,  34.4408,2,    178.8,2,    178.9,2,    48.77,2,    31.89,2,     0.00,2,     2.25,2, -999.000,5, -999.000,5,    0.010,2,   1.9000,2,     8.55,2,   -999.0,9,  -999.00,9,-999.000,9,   -999.0,9,   -999.0,9, -999.00,  -999.0,-999.0000,   0.150,-999.000,  4.2787,   0.002
     316N138_5,  P06W,   193,  1,     18,    118,2,19920715,1232,-30.0803, 175.8407, 4248,   1313.0,   3.8176,  34.4762,2,  34.4803,2,    171.9,2,    171.7,2,    61.13,2,    33.06,2,     0.00,2,     2.33,2, -999.000,5, -999.000,5, -999.000,9,-999.0000,9,  -999.00,9,   -999.0,9,  -999.00,9,-999.000,9,   -999.0,9,   -999.0,9, -999.00,  -999.0,-999.0000,-999.000,-999.000,  3.7170,-999.000
     316N138_5,  P06W,   193,  1,     17,    514,2,19920715,1232,-30.0803, 175.8407, 4248,   1412.9,   3.5036,  34.5284,2,  34.5250,2,    166.0,2,    165.7,2,    73.87,2,    33.57,2,     0.00,2,     2.37,2, -999.000,5, -999.000,5,    0.007,2,   1.9250,2,    13.63,2,   -999.0,9,  -999.00,9,-999.000,9,   -999.0,9,   -999.0,9, -999.00,  -999.0,-999.0000,   0.150,-999.000,  3.3976,   0.002
     316N138_5,  P06W,   193,  1,     16,    116,2,19920715,1232,-30.0803, 175.8407, 4248,   1513.8,   3.2114,  34.5625,2,  34.5610,2,    161.6,2,    161.6,2,    84.17,2,    33.98,2,     0.00,2,     2.40,2, -999.000,5, -999.000,5, -999.000,9,-999.0000,9,  -999.00,9,   -999.0,9,  -999.00,9,-999.000,9,   -999.0,9,   -999.0,9, -999.00,  -999.0,-999.0000,-999.000,-999.000,  3.1001,-999.000
     316N138_5,  P06W,   193,  1,     15,    115,3,19920715,1232,-30.0803, 175.8407, 4248,   1612.3,   2.9044,  34.5828,2,  34.5834,2,    158.3,2,    158.2,2,    92.79,2,    34.34,2,     0.01,2,     2.43,2, -999.000,5, -999.000,5,    0.002,2,   1.9440,2,    17.31,2,   -999.0,9,  -999.00,9,-999.000,9,   -999.0,9,   -999.0,9, -999.00,  -999.0,-999.0000,   0.150,-999.000,  2.7882,   0.002
     316N138_5,  P06W,   193,  1,     14,    513,2,19920715,1232,-30.0803, 175.8407, 4248,   1709.8,   2.7184,  34.6001,2,  34.5993,2,    156.2,2,    156.7,2,    98.97,2,    34.50,2,     0.02,2,     2.45,2, -999.000,5, -999.000,5, -999.000,9,-999.0000,9,  -999.00,9,   -999.0,9,  -999.00,9,-999.000,9,   -999.0,9,   -999.0,9, -999.00,  -999.0,-999.0000,-999.000,-999.000,  2.5964,-999.000
     316N138_5,  P06W,   193,  1,     13,    125,2,19920715,1232,-30.0803, 175.8407, 4248,   1910.1,   2.4372,  34.6256,2,  34.6244,2,    153.9,2,    154.4,2,   107.59,2,    34.60,2,     0.01,2,     2.49,2, -999.000,5, -999.000,5,    0.000,2,   1.8760,2,    19.17,2,   -999.0,9,  -999.00,9,-999.000,9,   -999.0,9,   -999.0,9, -999.00,  -999.0,-999.0000,   0.150,-999.000,  2.3018,   0.002
     316N138_5,  P06W,   193,  1,     12,    112,2,19920715,1232,-30.0803, 175.8407, 4248,   2113.8,   2.2205,  34.6435,2,  34.6429,2,    152.8,2,    152.5,2,   114.16,2,    34.68,2,     0.02,2,     2.49,2, -999.000,5, -999.000,5,    0.002,2,   1.9670,2,    20.96,2,   -999.0,9,  -999.00,9,-999.000,9,   -999.0,9,   -999.0,9, -999.00,  -999.0,-999.0000,   0.150,-999.000,  2.0708,   0.002
     316N138_5,  P06W,   193,  1,     11,    129,2,19920715,1232,-30.0803, 175.8407, 4248,   2315.1,   2.0813,  34.6562,2,  34.6567,2,    152.6,2,    153.4,2,   117.73,2,    34.68,2,     0.01,2,     2.49,2, -999.000,5, -999.000,5, -999.000,9,-999.0000,9,  -999.00,9,   -999.0,9,  -999.00,9,-999.000,9,   -999.0,9,   -999.0,9, -999.00,  -999.0,-999.0000,-999.000,-999.000,  1.9162,-999.000
     316N138_5,  P06W,   193,  1,     10,    110,2,19920715,1232,-30.0803, 175.8407, 4248,   2516.8,   1.9952,  34.6640,2,  34.6657,2,    153.1,2,    153.6,2,   120.36,2,    34.63,2,     0.00,2,     2.49,2, -999.000,5, -999.000,5, -999.000,9,-999.0000,9,  -999.00,9,   -999.0,9,  -999.00,9,-999.000,9,   -999.0,9,   -999.0,9, -999.00,  -999.0,-999.0000,-999.000,-999.000,  1.8134,-999.000
     316N138_5,  P06W,   193,  1,      9,    126,2,19920715,1232,-30.0803, 175.8407, 4248,   2720.2,   1.9234,  34.6707,2,  34.6712,2,    153.7,2,    154.3,2,   122.43,2,    34.63,2,     0.00,2,     2.47,2, -999.000,5, -999.000,5, -999.000,9,-999.0000,9,  -999.00,9,   -999.0,9,  -999.00,9,-999.000,9,   -999.0,9,   -999.0,9, -999.00,  -999.0,-999.0000,-999.000,-999.000,  1.7242,-999.000
     316N138_5,  P06W,   193,  1,      8,    108,2,19920715,1232,-30.0803, 175.8407, 4248,   2921.0,   1.8773,  34.6761,2,  34.6777,2,    154.1,2,    154.6,2,   123.75,2,    34.75,2,     0.01,2,     2.47,2, -999.000,5, -999.000,5, -999.000,9,-999.0000,9,  -999.00,9,   -999.0,9,  -999.00,9,-999.000,9,   -999.0,9,   -999.0,9, -999.00,  -999.0,-999.0000,-999.000,-999.000,  1.6599,-999.000
     316N138_5,  P06W,   193,  1,      7,    107,2,19920715,1232,-30.0803, 175.8407, 4248,   3122.8,   1.8612,  34.6786,2,  34.6785,2,    154.4,2,    154.8,2,   124.51,2,    34.60,2,     0.01,2,     2.46,2, -999.000,5, -999.000,5, -999.000,9,-999.0000,9,  -999.00,9,   -999.0,9,  -999.00,9,-999.000,9,   -999.0,9,   -999.0,9, -999.00,  -999.0,-999.0000,-999.000,-999.000,  1.6243,-999.000
     316N138_5,  P06W,   193,  1,      6,    180,2,19920715,1232,-30.0803, 175.8407, 4248,   3327.0,   1.8560,  34.6802,2,  34.6806,2,    154.9,2,    155.0,2,   125.27,2,    34.88,2,     0.00,2,     2.47,2, -999.000,5, -999.000,5, -999.000,9,-999.0000,9,  -999.00,9,   -999.0,9,  -999.00,9,-999.000,9,   -999.0,9,   -999.0,9, -999.00,  -999.0,-999.0000,-999.000,-999.000,  1.5987,-999.000
     316N138_5,  P06W,   193,  1,      5,    131,2,19920715,1232,-30.0803, 175.8407, 4248,   3531.2,   1.8585,  34.6823,2,  34.6816,2,    155.1,2,    155.3,2,   125.47,2,    34.73,2,     0.01,2,     2.46,2, -999.000,5, -999.000,5, -999.000,9,-999.0000,9,  -999.00,9,   -999.0,9,  -999.00,9,-999.000,9,   -999.0,9,   -999.0,9, -999.00,  -999.0,-999.0000,-999.000,-999.000,  1.5800,-999.000
     316N138_5,  P06W,   193,  1,      4,    516,2,19920715,1232,-30.0803, 175.8407, 4248,   3737.4,   1.8699,  34.6823,2,  34.6832,2,    155.2,2,    155.8,2,   125.85,2,    34.68,2,     0.01,2,     2.47,2, -999.000,5, -999.000,5, -999.000,9,-999.0000,9,  -999.00,9,   -999.0,9,  -999.00,9,-999.000,9,   -999.0,9,   -999.0,9, -999.00,  -999.0,-999.0000,-999.000,-999.000,  1.5692,-999.000
     316N138_5,  P06W,   193,  1,      3,    130,2,19920715,1232,-30.0803, 175.8407, 4248,   3942.9,   1.8834,  34.6828,2,  34.6830,2,    155.7,2,    156.2,2,   126.24,2,    34.72,2,     0.01,2,     2.46,2, -999.000,5, -999.000,5, -999.000,9,-999.0000,9,  -999.00,9,   -999.0,9,  -999.00,9,-999.000,9,   -999.0,9,   -999.0,9, -999.00,  -999.0,-999.0000,-999.000,-999.000,  1.5601,-999.000
     316N138_5,  P06W,   193,  1,      2,    136,2,19920715,1232,-30.0803, 175.8407, 4248,   4149.1,   1.9028,  34.6836,2,  34.6836,2,    155.9,2,    155.6,2,   126.25,2,    34.80,2,     0.01,2,     2.46,2, -999.000,5, -999.000,5, -999.000,9,-999.0000,9,  -999.00,9,   -999.0,9,  -999.00,9,-999.000,9,   -999.0,9,   -999.0,9, -999.00,  -999.0,-999.0000,-999.000,-999.000,  1.5559,-999.000
     316N138_5,  P06W,   193,  1,      1,    134,2,19920715,1232,-30.0803, 175.8407, 4248,   4310.1,   1.9179,  34.6833,2,  34.6836,2,    155.4,2,    155.9,2,   126.25,2,    34.44,2,     0.00,2,     2.45,2, -999.000,5, -999.000,5, -999.000,9,-999.0000,9,  -999.00,9,   -999.0,9,  -999.00,9,-999.000,9,   -999.0,9,   -999.0,9, -999.00,  -999.0,-999.0000,-999.000,-999.000,  1.5521,-999.000