BOTTLE,20030219WHPSIOdm
EXPOCODE,SECT_ID,STNNBR,CASTNO,SAMPNO,BTLNBR,BTLNBR_FLAG_W,DATE,TIME,LATITUDE,LONGITUDE,DEPTH,CTDPRS,CTDTMP,CTDSAL,CTDSAL_FLAG_W,SALNTY,SALNTY_FLAG_W,CTDOXY,CTDOXY_FLAG_W,OXYGEN,OXYGEN_FLAG_W,SILCAT,SILCAT_FLAG_W,NITRAT,NITRAT_FLAG_W,NITRIT,NITRIT_FLAG_W,PHSPHT,PHSPHT_FLAG_W,CFC-11,CFC-11_FLAG_W,CFC-12,CFC-12_FLAG_W,TRITUM,TRITUM_FLAG_W,HELIUM,HELIUM_FLAG_W,DELHE3,DELHE3_FLAG_W,DELC14,DELC14_FLAG_W,DELC13,DELC13_FLAG_W,NEON,NEON_FLAG_W,TCARBN,TCARBN_FLAG_W,PCO2,PCO2_FLAG_W,PCO2TMP,C14ERR,HELIER,DELHER,NEONER,THETA,TRITER
,,,,,,,,,,,,DBAR,ITS-90,PSS-78,,PSS-78,,UMOL/KG,,UMOL/KG,,UMOL/KG,,UMOL/KG,,UMOL/KG,,UMOL/KG,,PMOL/KG,,PMOL/KG,,TU,,NMOL/KG,,PERCNT,,/MILLE,,/MILLE,,NMOL/KG,,UMOL/KG,,UATM,,DEG_C,/MILLE,NMOL/KG,PERCNT,NMOL/KG,ITS-90,TU
     316N138_5,  P06W,   213,  1,     24,    132,2,19920719,0625,-30.0780, 165.8252, 2444,     20.3,  18.8109,  35.5949,2,  35.5957,2,    221.9,2,    223.9,2,     0.98,2,     0.95,2,     0.17,2,     0.20,2,    2.271,2,    1.208,2,    0.892,2,   1.7930,2,    -1.19,2,   -999.0,9,  -999.00,9,-999.000,9,   -999.0,9,   -999.0,9, -999.00,  -999.0,-999.0000,   0.150,-999.000, 18.8074,   0.005
     316N138_5,  P06W,   213,  1,     23,    123,2,19920719,0625,-30.0780, 165.8252, 2444,     60.2,  18.8169,  35.5797,3,  35.5946,2,    219.4,2,    223.9,2,     0.98,2,     0.95,2,     0.16,2,     0.20,2,    2.244,2,    1.221,2,    0.820,2,   1.7950,2,    -1.16,2,   -999.0,9,  -999.00,9,-999.000,9,   -999.0,9,   -999.0,9, -999.00,  -999.0,-999.0000,   0.150,-999.000, 18.8063,   0.005
     316N138_5,  P06W,   213,  1,     22,    128,2,19920719,0625,-30.0780, 165.8252, 2444,    110.4,  18.8209,  35.5942,2,  35.5991,2,    224.7,2,    223.7,2,     0.98,2,     0.99,2,     0.17,2,     0.21,2,    2.293,2,    1.211,2, -999.000,9,   1.8650,2,    -0.65,2,   -999.0,9,  -999.00,9,-999.000,9,   -999.0,9,   -999.0,9, -999.00,  -999.0,-999.0000,   0.150,-999.000, 18.8013,-999.000
     316N138_5,  P06W,   213,  1,     21,    121,2,19920719,0625,-30.0780, 165.8252, 2444,    208.4,  17.5472,  35.5469,2,  35.5547,2,    199.7,2,    196.3,2,     1.52,2,     4.82,2,     0.01,2,     0.47,2,    2.152,2,    1.131,2,    0.847,2,   1.7880,2,    -0.52,2,   -999.0,9,  -999.00,9,-999.000,9,   -999.0,9,   -999.0,9, -999.00,  -999.0,-999.0000,   0.150,-999.000, 17.5119,   0.005
     316N138_5,  P06W,   213,  1,     20,    515,2,19920719,0625,-30.0780, 165.8252, 2444,    306.9,  15.3286,  35.3746,2,  35.3733,2,    194.5,2,    192.7,2,     2.98,2,     8.37,2,     0.00,2,     0.72,2,    2.019,2,    1.057,2,    0.658,2,   1.8100,2,     0.05,2,   -999.0,9,  -999.00,9,-999.000,9,   -999.0,9,   -999.0,9, -999.00,  -999.0,-999.0000,   0.150,-999.000, 15.2811,   0.004
     316N138_5,  P06W,   213,  1,     19,    120,2,19920719,0625,-30.0780, 165.8252, 2444,    402.2,  13.1150,  35.1723,2,  35.1748,2,    195.0,2,    195.0,2,     4.26,2,    11.69,2,     0.00,2,     0.93,2,    1.953,2,    1.002,2,    0.528,2,   1.8100,2,     0.10,2,   -999.0,9,  -999.00,9,-999.000,9,   -999.0,9,   -999.0,9, -999.00,  -999.0,-999.0000,   0.150,-999.000, 13.0588,   0.004
     316N138_5,  P06W,   213,  1,     18,    118,2,19920719,0625,-30.0780, 165.8252, 2444,    603.9,   9.4019,  34.7301,2,  34.7258,2,    192.3,2,    193.7,2,     9.37,2,    19.98,2,     0.00,2,     1.46,2,    1.363,2,    0.680,2,    0.299,2,   1.8380,2,     1.20,2,   -999.0,9,  -999.00,9,-999.000,9,   -999.0,9,   -999.0,9, -999.00,  -999.0,-999.0000,   0.150,-999.000,  9.3333,   0.003
     316N138_5,  P06W,   213,  1,     17,    514,2,19920719,0625,-30.0780, 165.8252, 2444,    705.2,   8.1463,  34.5981,2,  34.6146,2,    191.7,2,    188.7,2,    14.47,2,    23.14,2,     0.00,2,     1.66,2,    0.751,2,    0.390,2,    0.182,2,   1.8590,2,     2.16,2,   -999.0,9,  -999.00,9,-999.000,9,   -999.0,9,   -999.0,9, -999.00,  -999.0,-999.0000,   0.150,-999.000,  8.0724,   0.002
     316N138_5,  P06W,   213,  1,     16,    116,2,19920719,0625,-30.0780, 165.8252, 2444,    806.0,   7.2432,  34.5407,2,  34.5417,2,    189.1,2,    186.4,2,    20.13,2,    25.48,2,     0.00,2,     1.82,2,    0.416,2,    0.221,2,    0.126,2,   1.8670,2,     3.15,2,   -999.0,9,  -999.00,9,-999.000,9,   -999.0,9,   -999.0,9, -999.00,  -999.0,-999.0000,   0.150,-999.000,  7.1635,   0.002
     316N138_5,  P06W,   213,  1,     15,    115,2,19920719,0625,-30.0780, 165.8252, 2444,    906.9,   6.3209,  34.4929,2,  34.4909,2,    187.1,2,    184.7,2,    27.80,2,    27.44,2,     0.00,2,     1.95,2,    0.230,2,    0.127,2,    0.075,2,   1.8800,2,     4.46,2,   -999.0,9,  -999.00,9,-999.000,9,   -999.0,9,   -999.0,9, -999.00,  -999.0,-999.0000,   0.150,-999.000,  6.2369,   0.003
     316N138_5,  P06W,   213,  1,     14,    513,2,19920719,0625,-30.0780, 165.8252, 2444,   1006.6,   5.5919,  34.4704,2,  34.4756,2,    183.8,2,    184.1,2,    35.47,2,    28.87,2,     0.00,2,     2.06,2,    0.159,2,    0.087,2,    0.038,2,   1.8720,2,     6.26,2,   -999.0,9,  -999.00,9,-999.000,9,   -999.0,9,   -999.0,9, -999.00,  -999.0,-999.0000,   0.150,-999.000,  5.5035,   0.002
     316N138_5,  P06W,   213,  1,     13,    125,2,19920719,0625,-30.0780, 165.8252, 2444,   1208.1,   4.4323,  34.5053,2,  34.5054,2,    172.4,2,    170.8,2,    57.55,2,    31.54,2,     0.00,2,     2.25,2,    0.077,2,    0.040,2, -999.000,9,-999.0000,9,  -999.00,9,   -999.0,9,  -999.00,9,-999.000,9,   -999.0,9,   -999.0,9, -999.00,  -999.0,-999.0000,-999.000,-999.000,  4.3351,-999.000
     316N138_5,  P06W,   213,  1,     12,    112,2,19920719,0625,-30.0780, 165.8252, 2444,   1311.0,   3.9341,  34.5315,2,  34.5311,2,    166.6,2,    164.8,2,    68.68,2,    32.59,2,     0.00,2,     2.33,2,    0.046,6,    0.026,6,    0.011,2,   1.9210,2,    12.75,2,   -999.0,9,  -999.00,9,-999.000,9,   -999.0,9,   -999.0,9, -999.00,  -999.0,-999.0000,   0.150,-999.000,  3.8325,   0.003
     316N138_5,  P06W,   213,  1,     11,    129,2,19920719,0625,-30.0780, 165.8252, 2444,   1414.6,   3.4769,  34.5572,2,  34.5569,2,    161.3,2,    159.0,2,    79.08,2,    33.44,2,     0.00,2,     2.40,2,    0.025,2,    0.013,2, -999.000,9,-999.0000,9,  -999.00,9,   -999.0,9,  -999.00,9,-999.000,9,   -999.0,9,   -999.0,9, -999.00,  -999.0,-999.0000,-999.000,-999.000,  3.3710,-999.000
     316N138_5,  P06W,   213,  1,     10,    110,2,19920719,0625,-30.0780, 165.8252, 2444,   1514.7,   3.2079,  34.5783,2,  34.5765,2,    157.1,2,    155.8,2,    86.20,2,    33.91,2,     0.00,2,     2.43,2,    0.010,2,    0.006,2,    0.003,2,   1.9530,2,    15.86,2,   -999.0,9,  -999.00,9,-999.000,9,   -999.0,9,   -999.0,9, -999.00,  -999.0,-999.0000,   0.150,-999.000,  3.0965,   0.002
     316N138_5,  P06W,   213,  1,      9,    126,2,19920719,0625,-30.0780, 165.8252, 2444,   1618.8,   2.9111,  34.5982,2,  34.5997,2,    154.2,2,    152.9,2,    93.68,2,    34.43,2,     0.00,2,     2.47,2,    0.005,2,    0.002,2, -999.000,9,-999.0000,9,  -999.00,9,   -999.0,9,  -999.00,9,-999.000,9,   -999.0,9,   -999.0,9, -999.00,  -999.0,-999.0000,-999.000,-999.000,  2.7943,-999.000
     316N138_5,  P06W,   213,  1,      8,    108,2,19920719,0625,-30.0780, 165.8252, 2444,   1718.4,   2.7664,  34.6106,2,  34.6099,2,    152.8,2,    152.1,2,    97.51,2,    34.66,2,     0.00,2,     2.48,2,    0.002,2,    0.006,2,    0.017,2,   1.9490,2,    17.91,2,   -999.0,9,  -999.00,9,-999.000,9,   -999.0,9,   -999.0,9, -999.00,  -999.0,-999.0000,   0.150,-999.000,  2.6430,   0.003
     316N138_5,  P06W,   213,  1,      7,    107,2,19920719,0625,-30.0780, 165.8252, 2444,   1817.0,   2.6049,  34.6220,2,  34.6234,2,    152.7,2,    151.7,2,   101.33,2,    34.80,2,     0.00,2,     2.49,2,   -0.001,2,    0.004,2, -999.000,9,-999.0000,9,  -999.00,9,   -999.0,9,  -999.00,9,-999.000,9,   -999.0,9,   -999.0,9, -999.00,  -999.0,-999.0000,-999.000,-999.000,  2.4752,-999.000
     316N138_5,  P06W,   213,  1,      6,    180,2,19920719,0625,-30.0780, 165.8252, 2444,   1920.8,   2.4528,  34.6349,2,  34.6350,2,    152.5,2,    151.5,2,   104.44,2,    34.88,2,     0.00,2,     2.49,2,    0.000,2,   -0.002,2, -999.000,2,   1.9330,2,    17.92,2,   -999.0,9,  -999.00,9,-999.000,9,   -999.0,9,   -999.0,9, -999.00,  -999.0,-999.0000,   0.150,-999.000,  2.3162,-999.000
     316N138_5,  P06W,   213,  1,      5,    131,2,19920719,0625,-30.0780, 165.8252, 2444,   2021.8,   2.3332,  34.6458,2,  34.6460,2,    152.6,2,    151.9,2,   106.99,2,    34.87,2,     0.00,2,     2.50,2,    0.000,2,   -0.002,2, -999.000,2,   1.9580,2,    18.05,2,   -999.0,9,  -999.00,9,-999.000,9,   -999.0,9,   -999.0,9, -999.00,  -999.0,-999.0000,   0.150,-999.000,  2.1898,-999.000
     316N138_5,  P06W,   213,  1,      4,    516,2,19920719,0625,-30.0780, 165.8252, 2444,   2122.1,   2.2293,  34.6552,2,  34.6604,2,    152.8,2,    152.5,2,   109.17,2,    34.91,2,     0.00,2,     2.50,2,   -0.001,2,   -0.001,2, -999.000,2,   1.9800,2,    17.73,2,   -999.0,9,  -999.00,9,-999.000,9,   -999.0,9,   -999.0,9, -999.00,  -999.0,-999.0000,   0.150,-999.000,  2.0787,-999.000
     316N138_5,  P06W,   213,  1,      3,    130,2,19920719,0625,-30.0780, 165.8252, 2444,   2222.9,   2.1513,  34.6618,2,  34.6631,2,    153.4,2,    153.1,2,   110.81,2,    34.90,2,     0.00,2,     2.49,2,   -0.003,2,   -0.001,2, -999.000,2,   2.0170,2,    17.13,2,   -999.0,9,  -999.00,9,-999.000,9,   -999.0,9,   -999.0,9, -999.00,  -999.0,-999.0000,   0.150,-999.000,  1.9931,-999.000
     316N138_5,  P06W,   213,  1,      2,    136,2,19920719,0625,-30.0780, 165.8252, 2444,   2322.7,   2.0974,  34.6680,2,  34.6712,2,    153.7,2,    153.4,2,   112.09,2,    34.84,2,     0.00,2,     2.48,2, -999.000,5, -999.000,5,   -0.003,2,   1.9780,2,    16.97,2,   -999.0,9,  -999.00,9,-999.000,9,   -999.0,9,   -999.0,9, -999.00,  -999.0,-999.0000,   0.150,-999.000,  1.9313,   0.002
     316N138_5,  P06W,   213,  1,      1,    134,2,19920719,0625,-30.0780, 165.8252, 2444,   2456.0,   2.0406,  34.6721,2,  34.6708,2,    153.1,2,    154.3,2,   113.63,2,    34.85,2,     0.00,2,     2.47,2,   -0.002,2,   -0.001,2,   -0.002,2,   1.9570,2,    17.30,2,   -999.0,9,  -999.00,9,-999.000,9,   -999.0,9,   -999.0,9, -999.00,  -999.0,-999.0000,   0.150,-999.000,  1.8636,   0.002