BOTTLE,20030219WHPSIOdm
EXPOCODE,SECT_ID,STNNBR,CASTNO,SAMPNO,BTLNBR,BTLNBR_FLAG_W,DATE,TIME,LATITUDE,LONGITUDE,DEPTH,CTDPRS,CTDTMP,CTDSAL,CTDSAL_FLAG_W,SALNTY,SALNTY_FLAG_W,CTDOXY,CTDOXY_FLAG_W,OXYGEN,OXYGEN_FLAG_W,SILCAT,SILCAT_FLAG_W,NITRAT,NITRAT_FLAG_W,NITRIT,NITRIT_FLAG_W,PHSPHT,PHSPHT_FLAG_W,CFC-11,CFC-11_FLAG_W,CFC-12,CFC-12_FLAG_W,TRITUM,TRITUM_FLAG_W,HELIUM,HELIUM_FLAG_W,DELHE3,DELHE3_FLAG_W,DELC14,DELC14_FLAG_W,DELC13,DELC13_FLAG_W,NEON,NEON_FLAG_W,TCARBN,TCARBN_FLAG_W,PCO2,PCO2_FLAG_W,PCO2TMP,C14ERR,HELIER,DELHER,NEONER,THETA,TRITER
,,,,,,,,,,,,DBAR,ITS-90,PSS-78,,PSS-78,,UMOL/KG,,UMOL/KG,,UMOL/KG,,UMOL/KG,,UMOL/KG,,UMOL/KG,,PMOL/KG,,PMOL/KG,,TU,,NMOL/KG,,PERCNT,,/MILLE,,/MILLE,,NMOL/KG,,UMOL/KG,,UATM,,DEG_C,/MILLE,NMOL/KG,PERCNT,NMOL/KG,ITS-90,TU
     316N138_5,  P06W,   201,  1,     24,    132,2,19920717,0259,-30.0668, 171.5065, 2994,     17.7,  18.4464,  35.6759,2,  35.6763,2,    233.8,2,    228.9,2,     0.85,2,     0.43,2,     0.13,2,     0.18,2, -999.000,5, -999.000,5, -999.000,9,-999.0000,9,  -999.00,9,   -999.0,9,  -999.00,9,-999.000,9,   -999.0,9,   -999.0,9, -999.00,  -999.0,-999.0000,-999.000,-999.000, 18.4433,-999.000
     316N138_5,  P06W,   201,  1,     23,    123,2,19920717,0259,-30.0668, 171.5065, 2994,     56.8,  18.4273,  35.6748,2,  35.6729,2,    224.4,2,    228.3,2,     0.85,2,     0.39,2,     0.12,2,     0.17,2, -999.000,5, -999.000,5, -999.000,9,-999.0000,9,  -999.00,9,   -999.0,9,  -999.00,9,-999.000,9,   -999.0,9,   -999.0,9, -999.00,  -999.0,-999.0000,-999.000,-999.000, 18.4174,-999.000
     316N138_5,  P06W,   201,  1,     22,    128,2,19920717,0259,-30.0668, 171.5065, 2994,    106.0,  18.2808,  35.6464,2,  35.6459,2,    224.2,2,    225.7,2,     0.85,2,     0.77,2,     0.15,2,     0.22,2, -999.000,5, -999.000,5, -999.000,9,-999.0000,9,  -999.00,9,   -999.0,9,  -999.00,9,-999.000,9,   -999.0,9,   -999.0,9, -999.00,  -999.0,-999.0000,-999.000,-999.000, 18.2624,-999.000
     316N138_5,  P06W,   201,  1,     21,    121,3,19920717,0259,-30.0668, 171.5065, 2994,    154.1,  17.3427,  35.5521,2,  35.5519,2,    194.0,2,    199.7,2,     1.60,2,     4.52,2,     0.00,2,     0.46,2, -999.000,5, -999.000,5, -999.000,9,-999.0000,9,  -999.00,9,   -999.0,9,  -999.00,9,-999.000,9,   -999.0,9,   -999.0,9, -999.00,  -999.0,-999.0000,-999.000,-999.000, 17.3168,-999.000
     316N138_5,  P06W,   201,  1,     20,    515,2,19920717,0259,-30.0668, 171.5065, 2994,    200.3,  16.4922,  35.4804,2,  35.4837,2,    198.3,2,    198.1,2,     1.98,2,     5.90,2,    -0.01,2,     0.55,2, -999.000,5, -999.000,5, -999.000,9,-999.0000,9,  -999.00,9,   -999.0,9,  -999.00,9,-999.000,9,   -999.0,9,   -999.0,9, -999.00,  -999.0,-999.0000,-999.000,-999.000, 16.4597,-999.000
     316N138_5,  P06W,   201,  1,     19,    120,2,19920717,0259,-30.0668, 171.5065, 2994,    249.2,  15.6608,  35.4051,2,  35.4107,2,    198.1,2,    195.3,2,     2.55,2,     7.41,2,    -0.01,2,     0.63,2, -999.000,5, -999.000,5, -999.000,9,-999.0000,9,  -999.00,9,   -999.0,9,  -999.00,9,-999.000,9,   -999.0,9,   -999.0,9, -999.00,  -999.0,-999.0000,-999.000,-999.000, 15.6218,-999.000
     316N138_5,  P06W,   201,  1,     18,    118,2,19920717,0259,-30.0668, 171.5065, 2994,    299.8,  14.2496,  35.2745,2,  35.2743,2,    199.8,2,    197.6,2,     3.87,2,     9.43,2,    -0.01,2,     0.78,2, -999.000,5, -999.000,5, -999.000,9,-999.0000,9,  -999.00,9,   -999.0,9,  -999.00,9,-999.000,9,   -999.0,9,   -999.0,9, -999.00,  -999.0,-999.0000,-999.000,-999.000, 14.2055,-999.000
     316N138_5,  P06W,   201,  1,     17,    514,2,19920717,0259,-30.0668, 171.5065, 2994,    349.8,  13.1870,  35.1626,2,  35.1636,2,    198.8,2,    195.8,2,     4.80,2,    11.53,2,    -0.01,2,     0.91,2, -999.000,5, -999.000,5, -999.000,9,-999.0000,9,  -999.00,9,   -999.0,9,  -999.00,9,-999.000,9,   -999.0,9,   -999.0,9, -999.00,  -999.0,-999.0000,-999.000,-999.000, 13.1381,-999.000
     316N138_5,  P06W,   201,  1,     16,    116,2,19920717,0259,-30.0668, 171.5065, 2994,    402.8,  12.2200,  35.0550,2,  35.0524,2,    197.8,2,    193.4,2,     5.75,2,    13.60,2,    -0.01,2,     1.03,2, -999.000,5, -999.000,5, -999.000,9,-999.0000,9,  -999.00,9,   -999.0,9,  -999.00,9,-999.000,9,   -999.0,9,   -999.0,9, -999.00,  -999.0,-999.0000,-999.000,-999.000, 12.1663,-999.000
     316N138_5,  P06W,   201,  1,     15,    115,2,19920717,0259,-30.0668, 171.5065, 2994,    502.4,  10.6328,  34.8592,2,  34.8644,2,    193.4,2,    192.6,2,     7.64,2,    17.04,2,    -0.01,2,     1.26,2, -999.000,5, -999.000,5, -999.000,9,-999.0000,9,  -999.00,9,   -999.0,9,  -999.00,9,-999.000,9,   -999.0,9,   -999.0,9, -999.00,  -999.0,-999.0000,-999.000,-999.000, 10.5715,-999.000
     316N138_5,  P06W,   201,  1,     14,    513,2,19920717,0259,-30.0668, 171.5065, 2994,    603.3,   8.9361,  34.6692,2,  34.6712,2,    198.2,2,    197.7,2,    10.27,2,    20.58,2,    -0.01,2,     1.47,2, -999.000,5, -999.000,5, -999.000,9,-999.0000,9,  -999.00,9,   -999.0,9,  -999.00,9,-999.000,9,   -999.0,9,   -999.0,9, -999.00,  -999.0,-999.0000,-999.000,-999.000,  8.8695,-999.000
     316N138_5,  P06W,   201,  1,     13,    125,2,19920717,0259,-30.0668, 171.5065, 2994,    704.0,   7.8515,  34.5651,2,  34.5675,2,    200.9,2,    199.6,2,    13.85,2,    23.05,2,     0.00,2,     1.63,2, -999.000,5, -999.000,5, -999.000,9,-999.0000,9,  -999.00,9,   -999.0,9,  -999.00,9,-999.000,9,   -999.0,9,   -999.0,9, -999.00,  -999.0,-999.0000,-999.000,-999.000,  7.7791,-999.000
     316N138_5,  P06W,   201,  1,     12,    112,2,19920717,0259,-30.0668, 171.5065, 2994,    803.9,   6.8690,  34.4956,2,  34.4944,2,    200.5,2,    199.4,2,    19.32,2,    25.44,2,     0.00,2,     1.80,2, -999.000,5, -999.000,5, -999.000,9,-999.0000,9,  -999.00,9,   -999.0,9,  -999.00,9,-999.000,9,   -999.0,9,   -999.0,9, -999.00,  -999.0,-999.0000,-999.000,-999.000,  6.7918,-999.000
     316N138_5,  P06W,   201,  1,     11,    129,2,19920717,0259,-30.0668, 171.5065, 2994,    904.3,   6.0148,  34.4577,2,  34.4573,2,    195.6,2,    192.8,2,    27.23,2,    27.88,2,     0.00,2,     1.95,2, -999.000,5, -999.000,5, -999.000,9,-999.0000,9,  -999.00,9,   -999.0,9,  -999.00,9,-999.000,9,   -999.0,9,   -999.0,9, -999.00,  -999.0,-999.0000,-999.000,-999.000,  5.9331,-999.000
     316N138_5,  P06W,   201,  1,     10,    110,2,19920717,0259,-30.0668, 171.5065, 2994,   1003.7,   5.2761,  34.4530,2,  34.4538,2,    188.6,2,    185.3,2,    37.60,2,    29.77,2,     0.00,2,     2.09,2, -999.000,5, -999.000,5, -999.000,9,-999.0000,9,  -999.00,9,   -999.0,9,  -999.00,9,-999.000,9,   -999.0,9,   -999.0,9, -999.00,  -999.0,-999.0000,-999.000,-999.000,  5.1905,-999.000
     316N138_5,  P06W,   201,  1,      9,    126,2,19920717,0259,-30.0668, 171.5065, 2994,   1103.8,   4.7220,  34.4669,2,  34.4671,2,    180.7,2,    178.8,2,    47.38,2,    31.24,2,     0.01,2,     2.20,2, -999.000,5, -999.000,5, -999.000,9,-999.0000,9,  -999.00,9,   -999.0,9,  -999.00,9,-999.000,9,   -999.0,9,   -999.0,9, -999.00,  -999.0,-999.0000,-999.000,-999.000,  4.6316,-999.000
     316N138_5,  P06W,   201,  1,      8,    108,2,19920717,0259,-30.0668, 171.5065, 2994,   1204.4,   4.2804,  34.4958,2,  34.4956,2,    175.0,2,    172.8,2,    58.30,2,    32.17,2,     0.01,2,     2.27,2, -999.000,5, -999.000,5, -999.000,9,-999.0000,9,  -999.00,9,   -999.0,9,  -999.00,9,-999.000,9,   -999.0,9,   -999.0,9, -999.00,  -999.0,-999.0000,-999.000,-999.000,  4.1848,-999.000
     316N138_5,  P06W,   201,  1,      7,    107,2,19920717,0259,-30.0668, 171.5065, 2994,   1305.8,   3.9468,  34.5114,2,  34.5107,2,    171.2,2,    169.3,2,    65.08,2,    32.78,2,     0.01,2,     2.32,2, -999.000,5, -999.000,5, -999.000,9,-999.0000,9,  -999.00,9,   -999.0,9,  -999.00,9,-999.000,9,   -999.0,9,   -999.0,9, -999.00,  -999.0,-999.0000,-999.000,-999.000,  3.8455,-999.000
     316N138_5,  P06W,   201,  1,      6,    180,2,19920717,0259,-30.0668, 171.5065, 2994,   1408.3,   3.6546,  34.5340,2,  34.5329,2,    166.2,2,    165.1,2,    73.54,2,    33.32,2,     0.02,2,     2.35,2, -999.000,5, -999.000,5, -999.000,9,-999.0000,9,  -999.00,9,   -999.0,9,  -999.00,9,-999.000,9,   -999.0,9,   -999.0,9, -999.00,  -999.0,-999.0000,-999.000,-999.000,  3.5474,-999.000
     316N138_5,  P06W,   201,  1,      5,    131,2,19920717,0259,-30.0668, 171.5065, 2994,   1508.2,   3.1964,  34.5688,2,  34.5677,2,    162.9,2,    160.2,2,    85.96,2,    33.95,2,     0.01,2,     2.42,2, -999.000,5, -999.000,5, -999.000,9,-999.0000,9,  -999.00,9,   -999.0,9,  -999.00,9,-999.000,9,   -999.0,9,   -999.0,9, -999.00,  -999.0,-999.0000,-999.000,-999.000,  3.0857,-999.000
     316N138_5,  P06W,   201,  1,      4,    516,2,19920717,0259,-30.0668, 171.5065, 2994,   1709.3,   2.8123,  34.5976,2,  34.5983,2,    157.8,2,    157.3,2,    96.68,2,    34.18,2,     0.01,2,     2.44,2, -999.000,5, -999.000,5, -999.000,9,-999.0000,9,  -999.00,9,   -999.0,9,  -999.00,9,-999.000,9,   -999.0,9,   -999.0,9, -999.00,  -999.0,-999.0000,-999.000,-999.000,  2.6891,-999.000
     316N138_5,  P06W,   201,  1,      3,    130,2,19920717,0259,-30.0668, 171.5065, 2994,   1904.4,   2.5077,  34.6224,2,  34.6321,4,    155.7,2,    155.1,2,   105.39,2,    34.57,2,     0.00,2,     2.45,2, -999.000,5, -999.000,5, -999.000,9,-999.0000,9,  -999.00,9,   -999.0,9,  -999.00,9,-999.000,9,   -999.0,9,   -999.0,9, -999.00,  -999.0,-999.0000,-999.000,-999.000,  2.3719,-999.000
     316N138_5,  P06W,   201,  1,      2,    136,2,19920717,0259,-30.0668, 171.5065, 2994,   2096.2,   2.3540,  34.6345,2,  34.6360,2,    154.4,2,    154.0,2,   110.02,2,    34.64,2,    -0.01,2,     2.47,2, -999.000,5, -999.000,5, -999.000,9,-999.0000,9,  -999.00,9,   -999.0,9,  -999.00,9,-999.000,9,   -999.0,9,   -999.0,9, -999.00,  -999.0,-999.0000,-999.000,-999.000,  2.2039,-999.000
     316N138_5,  P06W,   201,  1,      1,    134,2,19920717,0259,-30.0668, 171.5065, 2994,   2266.3,   2.1677,  34.6497,2,  34.6504,2,    153.5,2,    153.4,2,   115.30,2,    34.77,2,    -0.01,2,     2.46,2, -999.000,5, -999.000,5, -999.000,9,-999.0000,9,  -999.00,9,   -999.0,9,  -999.00,9,-999.000,9,   -999.0,9,   -999.0,9, -999.00,  -999.0,-999.0000,-999.000,-999.000,  2.0055,-999.000
     316N138_5,  P06W,   202,  1,      8,    108,3,19920717,0850,-30.0750, 171.2762,  596,     20.1,  18.0706,  35.6512,2,  35.6638,2,    272.2,3,    230.1,2,     0.94,2,     0.88,2,     0.14,2,     0.19,2,    2.361,2,    1.251,2, -999.000,9,-999.0000,9,  -999.00,9,   -999.0,9,  -999.00,9,-999.000,9,   2029.4,6,   -999.0,9, -999.00,  -999.0,-999.0000,-999.000,-999.000, 18.0671,-999.000
     316N138_5,  P06W,   202,  1,      7,    107,2,19920717,0850,-30.0750, 171.2762,  596,     59.9,  17.8580,  35.6125,2,  35.6188,2,    227.1,2,    228.7,2,     1.12,2,     1.26,2,     0.23,2,     0.22,2,    2.365,2,    1.244,2, -999.000,9,-999.0000,9,  -999.00,9,   -999.0,9,  -999.00,9,-999.000,9,   2033.9,2,   -999.0,9, -999.00,  -999.0,-999.0000,-999.000,-999.000, 17.8478,-999.000
     316N138_5,  P06W,   202,  1,      6,    180,2,19920717,0850,-30.0750, 171.2762,  596,    109.3,  17.7302,  35.5916,2,  35.5934,2,    223.2,2,    223.7,2,     1.31,2,     1.79,2,     0.25,2,     0.28,2,    2.361,2,    1.235,2, -999.000,9,-999.0000,9,  -999.00,9,   -999.0,9,  -999.00,9,-999.000,9,   2038.5,2,   -999.0,9, -999.00,  -999.0,-999.0000,-999.000,-999.000, 17.7116,-999.000
     316N138_5,  P06W,   202,  1,      5,    131,2,19920717,0850,-30.0750, 171.2762,  596,    209.5,  16.5795,  35.5031,2,  35.5014,2,    202.6,2,    202.1,2,     2.06,2,     5.55,2,     0.02,2,     0.51,2,    2.185,2,    1.138,2, -999.000,9,-999.0000,9,  -999.00,9,   -999.0,9,  -999.00,9,-999.000,9,   2064.6,2,   -999.0,9, -999.00,  -999.0,-999.0000,-999.000,-999.000, 16.5454,-999.000
     316N138_5,  P06W,   202,  1,      4,    516,3,19920717,0850,-30.0750, 171.2762,  596,    309.6,  14.4572,  35.2976,2,  35.3009,2,    194.8,2,    197.1,2,     3.47,2,     9.20,2,     0.01,2,     0.70,2,    2.036,2,    1.062,2, -999.000,9,-999.0000,9,  -999.00,9,   -999.0,9,  -999.00,9,-999.000,9,   2089.4,2,   -999.0,9, -999.00,  -999.0,-999.0000,-999.000,-999.000, 14.4112,-999.000
     316N138_5,  P06W,   202,  1,      3,    130,2,19920717,0850,-30.0750, 171.2762,  596,    404.8,  12.5797,  35.0934,2,  35.1008,2,    193.6,2,    193.0,2,     5.43,2,    13.05,2,     0.02,2,     0.99,2,    1.784,2,    0.914,2, -999.000,9,-999.0000,9,  -999.00,9,   -999.0,9,  -999.00,9,-999.000,9,   2109.0,2,   -999.0,9, -999.00,  -999.0,-999.0000,-999.000,-999.000, 12.5247,-999.000
     316N138_5,  P06W,   202,  1,      2,    136,2,19920717,0850,-30.0750, 171.2762,  596,    508.1,  11.0393,  34.9119,2,  34.9223,2,    189.1,2,    189.9,2,     7.67,2,    16.65,2,     0.01,2,     1.24,2,    1.412,2,    0.719,2, -999.000,9,-999.0000,9,  -999.00,9,   -999.0,9,  -999.00,9,-999.000,9,   2125.0,2,   -999.0,9, -999.00,  -999.0,-999.0000,-999.000,-999.000, 10.9757,-999.000
     316N138_5,  P06W,   202,  1,      1,    134,2,19920717,0850,-30.0750, 171.2762,  596,    603.6,   9.7054,  34.7754,2,  34.7691,2,    192.5,2,    191.9,2,    10.38,2,    19.50,2,     0.01,2,     1.43,2,    1.094,2,    0.572,2, -999.000,9,-999.0000,9,  -999.00,9,   -999.0,9,  -999.00,9,-999.000,9,   2136.8,2,   -999.0,9, -999.00,  -999.0,-999.0000,-999.000,-999.000,  9.6353,-999.000