BOTTLE,20030219WHPSIOdm
EXPOCODE,SECT_ID,STNNBR,CASTNO,SAMPNO,BTLNBR,BTLNBR_FLAG_W,DATE,TIME,LATITUDE,LONGITUDE,DEPTH,CTDPRS,CTDTMP,CTDSAL,CTDSAL_FLAG_W,SALNTY,SALNTY_FLAG_W,CTDOXY,CTDOXY_FLAG_W,OXYGEN,OXYGEN_FLAG_W,SILCAT,SILCAT_FLAG_W,NITRAT,NITRAT_FLAG_W,NITRIT,NITRIT_FLAG_W,PHSPHT,PHSPHT_FLAG_W,CFC-11,CFC-11_FLAG_W,CFC-12,CFC-12_FLAG_W,TRITUM,TRITUM_FLAG_W,HELIUM,HELIUM_FLAG_W,DELHE3,DELHE3_FLAG_W,DELC14,DELC14_FLAG_W,DELC13,DELC13_FLAG_W,NEON,NEON_FLAG_W,TCARBN,TCARBN_FLAG_W,PCO2,PCO2_FLAG_W,PCO2TMP,C14ERR,HELIER,DELHER,NEONER,THETA,TRITER
,,,,,,,,,,,,DBAR,ITS-90,PSS-78,,PSS-78,,UMOL/KG,,UMOL/KG,,UMOL/KG,,UMOL/KG,,UMOL/KG,,UMOL/KG,,PMOL/KG,,PMOL/KG,,TU,,NMOL/KG,,PERCNT,,/MILLE,,/MILLE,,NMOL/KG,,UMOL/KG,,UATM,,DEG_C,/MILLE,NMOL/KG,PERCNT,NMOL/KG,ITS-90,TU
     316N138_5,  P06W,   203,  1,     24,    132,2,19920717,1123,-30.0822, 171.0055, 2140,     23.4,  18.2621,  35.6481,2,  35.6471,2,    233.2,2,    228.4,2,     0.75,2,     0.71,2,     0.19,2,     0.19,2,    2.343,2,    1.241,2, -999.000,9,-999.0000,9,  -999.00,9,   -999.0,9,  -999.00,9,-999.000,9,   -999.0,9,   -999.0,9, -999.00,  -999.0,-999.0000,-999.000,-999.000, 18.2580,-999.000
     316N138_5,  P06W,   203,  1,     23,    123,2,19920717,1123,-30.0822, 171.0055, 2140,     63.6,  18.2755,  35.6472,2,  35.6455,2,    227.9,2,    228.4,2,     0.94,2,     0.71,2,     0.19,2,     0.18,2,    2.333,2,    1.258,2, -999.000,9,-999.0000,9,  -999.00,9,   -999.0,9,  -999.00,9,-999.000,9,   -999.0,9,   -999.0,9, -999.00,  -999.0,-999.0000,-999.000,-999.000, 18.2645,-999.000
     316N138_5,  P06W,   203,  1,     22,    128,2,19920717,1123,-30.0822, 171.0055, 2140,    114.1,  18.2864,  35.6487,2,  35.6459,2,    224.6,2,    227.5,2,     0.94,2,     0.81,2,     0.19,2,     0.19,2,    2.360,2,    1.262,2, -999.000,9,-999.0000,9,  -999.00,9,   -999.0,9,  -999.00,9,-999.000,9,   -999.0,9,   -999.0,9, -999.00,  -999.0,-999.0000,-999.000,-999.000, 18.2666,-999.000
     316N138_5,  P06W,   203,  1,     21,    121,2,19920717,1123,-30.0822, 171.0055, 2140,    161.9,  17.5380,  35.5474,2,  35.5492,2,    209.6,2,    210.3,2,     1.49,2,     3.40,2,     0.03,2,     0.33,2, -999.000,5, -999.000,5, -999.000,9,-999.0000,9,  -999.00,9,   -999.0,9,  -999.00,9,-999.000,9,   -999.0,9,   -999.0,9, -999.00,  -999.0,-999.0000,-999.000,-999.000, 17.5106,-999.000
     316N138_5,  P06W,   203,  1,     20,    515,2,19920717,1123,-30.0822, 171.0055, 2140,    211.7,  16.4748,  35.4794,2,  35.4736,2,    201.3,2,    199.1,2,     2.06,2,     5.99,2,     0.01,2,     0.50,2,    2.138,2,    1.127,2, -999.000,9,-999.0000,9,  -999.00,9,   -999.0,9,  -999.00,9,-999.000,9,   -999.0,9,   -999.0,9, -999.00,  -999.0,-999.0000,-999.000,-999.000, 16.4406,-999.000
     316N138_5,  P06W,   203,  1,     19,    120,2,19920717,1123,-30.0822, 171.0055, 2140,    261.9,  15.3477,  35.3848,2,  35.3770,2,    199.9,2,    198.8,2,     2.80,2,     7.55,2,     0.01,2,     0.61,2, -999.000,5, -999.000,5, -999.000,9,-999.0000,9,  -999.00,9,   -999.0,9,  -999.00,9,-999.000,9,   -999.0,9,   -999.0,9, -999.00,  -999.0,-999.0000,-999.000,-999.000, 15.3072,-999.000
     316N138_5,  P06W,   203,  1,     18,    118,2,19920717,1123,-30.0822, 171.0055, 2140,    310.1,  14.3418,  35.2840,2,  35.2794,2,    201.3,2,    197.2,2,     3.74,2,     9.32,2,     0.02,2,     0.70,2,    2.058,2,    1.075,2, -999.000,9,-999.0000,9,  -999.00,9,   -999.0,9,  -999.00,9,-999.000,9,   -999.0,9,   -999.0,9, -999.00,  -999.0,-999.0000,-999.000,-999.000, 14.2960,-999.000
     316N138_5,  P06W,   203,  1,     17,    514,2,19920717,1123,-30.0822, 171.0055, 2140,    359.5,  13.3165,  35.1775,2,  35.1748,2,    197.1,2,    193.9,2,     4.68,2,    11.50,2,     0.02,2,     0.87,2,    1.879,2,    0.970,2, -999.000,9,-999.0000,9,  -999.00,9,   -999.0,9,  -999.00,9,-999.000,9,   -999.0,9,   -999.0,9, -999.00,  -999.0,-999.0000,-999.000,-999.000, 13.2659,-999.000
     316N138_5,  P06W,   203,  1,     16,    116,2,19920717,1123,-30.0822, 171.0055, 2140,    410.9,  12.6870,  35.1111,2,  35.1004,2,    193.9,2,    191.9,2,     5.42,2,    13.07,2,     0.02,2,     0.97,2,    1.728,2,    0.896,2, -999.000,9,-999.0000,9,  -999.00,9,   -999.0,9,  -999.00,9,-999.000,9,   -999.0,9,   -999.0,9, -999.00,  -999.0,-999.0000,-999.000,-999.000, 12.6308,-999.000
     316N138_5,  P06W,   203,  1,     15,    115,2,19920717,1123,-30.0822, 171.0055, 2140,    461.6,  11.2974,  34.9749,2,  34.9496,2,    195.6,2,    189.9,2,     7.29,2,    16.16,2,     0.02,2,     1.15,2,    1.449,2,    0.741,2, -999.000,9,-999.0000,9,  -999.00,9,   -999.0,9,  -999.00,9,-999.000,9,   -999.0,9,   -999.0,9, -999.00,  -999.0,-999.0000,-999.000,-999.000, 11.2389,-999.000
     316N138_5,  P06W,   203,  1,     14,    513,2,19920717,1123,-30.0822, 171.0055, 2140,    512.2,  10.2820,  34.8334,2,  34.8314,2,    193.7,2,    190.8,2,     8.97,2,    18.47,2,     0.03,2,     1.31,2,    1.237,2,    0.641,2, -999.000,9,-999.0000,9,  -999.00,9,   -999.0,9,  -999.00,9,-999.000,9,   -999.0,9,   -999.0,9, -999.00,  -999.0,-999.0000,-999.000,-999.000, 10.2207,-999.000
     316N138_5,  P06W,   203,  1,     13,    125,2,19920717,1123,-30.0822, 171.0055, 2140,    613.3,   9.1509,  34.7159,2,  34.7160,2,    192.6,2,    191.1,2,    11.96,2,    21.07,2,     0.02,2,     1.46,2,    0.993,2,    0.509,2, -999.000,9,-999.0000,9,  -999.00,9,   -999.0,9,  -999.00,9,-999.000,9,   -999.0,9,   -999.0,9, -999.00,  -999.0,-999.0000,-999.000,-999.000,  9.0823,-999.000
     316N138_5,  P06W,   203,  1,     12,    112,2,19920717,1123,-30.0822, 171.0055, 2140,    711.1,   7.8018,  34.5689,2,  34.5655,2,    194.8,2,    197.4,2,    14.58,2,    23.62,2,     0.01,2,     1.62,2,    0.628,2,    0.328,2, -999.000,9,-999.0000,9,  -999.00,9,   -999.0,9,  -999.00,9,-999.000,9,   -999.0,9,   -999.0,9, -999.00,  -999.0,-999.0000,-999.000,-999.000,  7.7289,-999.000
     316N138_5,  P06W,   203,  1,     11,    129,2,19920717,1123,-30.0822, 171.0055, 2140,    811.9,   6.9811,  34.5283,2,  34.5260,2,    193.2,2,    192.6,2,    21.68,2,    25.90,2,     0.01,2,     1.79,2,    0.443,2,    0.244,2, -999.000,9,-999.0000,9,  -999.00,9,   -999.0,9,  -999.00,9,-999.000,9,   -999.0,9,   -999.0,9, -999.00,  -999.0,-999.0000,-999.000,-999.000,  6.9024,-999.000
     316N138_5,  P06W,   203,  1,     10,    110,2,19920717,1123,-30.0822, 171.0055, 2140,    912.8,   6.1866,  34.4791,2,  34.4789,2,    192.4,2,    191.5,2,    27.10,2,    27.58,2,     0.01,2,     1.90,2,    0.286,2,    0.154,2, -999.000,9,-999.0000,9,  -999.00,9,   -999.0,9,  -999.00,9,-999.000,9,   -999.0,9,   -999.0,9, -999.00,  -999.0,-999.0000,-999.000,-999.000,  6.1030,-999.000
     316N138_5,  P06W,   203,  1,      9,    126,2,19920717,1123,-30.0822, 171.0055, 2140,   1014.0,   5.3925,  34.4658,2,  34.4661,2,    187.6,2,    185.2,2,    35.89,2,    29.40,2,     0.02,2,     2.04,2,    0.172,2,    0.095,2, -999.000,9,-999.0000,9,  -999.00,9,   -999.0,9,  -999.00,9,-999.000,9,   -999.0,9,   -999.0,9, -999.00,  -999.0,-999.0000,-999.000,-999.000,  5.3049,-999.000
     316N138_5,  P06W,   203,  1,      8,    108,3,19920717,1123,-30.0822, 171.0055, 2140,   1116.4,   4.5800,  34.4655,2,  34.4644,2,    181.5,2,    179.0,2,    47.48,2,    31.23,2,     0.02,2,     2.17,2,    0.094,2,    0.050,2, -999.000,9,-999.0000,9,  -999.00,9,   -999.0,9,  -999.00,9,-999.000,9,   -999.0,9,   -999.0,9, -999.00,  -999.0,-999.0000,-999.000,-999.000,  4.4897,-999.000
     316N138_5,  P06W,   203,  1,      7,    107,2,19920717,1123,-30.0822, 171.0055, 2140,   1214.6,   4.3011,  34.4833,2,  34.4807,2,    174.5,2,    174.3,2,    55.51,2,    32.05,2,     0.02,2,     2.25,2,    0.064,6,    0.043,6, -999.000,9,-999.0000,9,  -999.00,9,   -999.0,9,  -999.00,9,-999.000,9,   -999.0,9,   -999.0,9, -999.00,  -999.0,-999.0000,-999.000,-999.000,  4.2045,-999.000
     316N138_5,  P06W,   203,  1,      6,    180,2,19920717,1123,-30.0822, 171.0055, 2140,   1316.7,   3.8446,  34.5165,2,  34.5158,2,    168.3,2,    168.0,2,    67.83,2,    32.96,2,     0.02,2,     2.33,2,    0.038,2,    0.022,2, -999.000,9,-999.0000,9,  -999.00,9,   -999.0,9,  -999.00,9,-999.000,9,   -999.0,9,   -999.0,9, -999.00,  -999.0,-999.0000,-999.000,-999.000,  3.7433,-999.000
     316N138_5,  P06W,   203,  1,      5,    131,2,19920717,1123,-30.0822, 171.0055, 2140,   1415.4,   3.5130,  34.5460,2,  34.5441,2,    166.0,2,    164.3,2,    76.98,2,    33.42,2,     0.02,2,     2.37,2,    0.031,2,    0.022,2, -999.000,9,-999.0000,9,  -999.00,9,   -999.0,9,  -999.00,9,-999.000,9,   -999.0,9,   -999.0,9, -999.00,  -999.0,-999.0000,-999.000,-999.000,  3.4067,-999.000
     316N138_5,  P06W,   203,  1,      4,    516,2,19920717,1123,-30.0822, 171.0055, 2140,   1617.3,   3.0616,  34.5776,2,  34.5808,2,    160.3,2,    159.9,2,    88.92,2,    34.13,2,     0.02,2,     2.42,2,    0.017,2,    0.016,2, -999.000,9,-999.0000,9,  -999.00,9,   -999.0,9,  -999.00,9,-999.000,9,   -999.0,9,   -999.0,9, -999.00,  -999.0,-999.0000,-999.000,-999.000,  2.9431,-999.000
     316N138_5,  P06W,   203,  1,      3,    130,2,19920717,1123,-30.0822, 171.0055, 2140,   1821.0,   2.6155,  34.6139,2,  34.6154,2,    156.1,2,    156.4,2,   101.62,2,    34.71,2,     0.01,2,     2.47,2, -999.000,5, -999.000,5, -999.000,9,-999.0000,9,  -999.00,9,   -999.0,9,  -999.00,9,-999.000,9,   -999.0,9,   -999.0,9, -999.00,  -999.0,-999.0000,-999.000,-999.000,  2.4853,-999.000
     316N138_5,  P06W,   203,  1,      2,    136,2,19920717,1123,-30.0822, 171.0055, 2140,   2022.5,   2.4047,  34.6322,2,  34.6303,2,    154.9,2,    154.8,2,   107.77,2,    34.72,2,     0.01,2,     2.49,2,    0.003,2,    0.004,2, -999.000,9,-999.0000,9,  -999.00,9,   -999.0,9,  -999.00,9,-999.000,9,   -999.0,9,   -999.0,9, -999.00,  -999.0,-999.0000,-999.000,-999.000,  2.2602,-999.000
     316N138_5,  P06W,   203,  1,      1,    134,2,19920717,1123,-30.0822, 171.0055, 2140,   2154.5,   2.3301,  34.6377,2,  34.6354,2,    152.2,2,    154.1,2,   110.00,2,    34.90,2,     0.01,2,     2.50,2,    0.002,6,    0.004,6, -999.000,9,-999.0000,9,  -999.00,9,   -999.0,9,  -999.00,9,-999.000,9,   -999.0,9,   -999.0,9, -999.00,  -999.0,-999.0000,-999.000,-999.000,  2.1752,-999.000
     316N138_5,  P06W,   204,  1,     24,    132,2,19920717,1535,-30.0807, 170.5087, 2899,     11.5,  18.6330,  35.6763,2,  35.6749,2,    234.6,2,    225.1,2,     0.96,2,     0.62,2,     0.12,2,     0.17,2, -999.000,5, -999.000,5, -999.000,9,-999.0000,9,  -999.00,9,   -999.0,9,  -999.00,9,-999.000,9,   -999.0,9,   -999.0,9, -999.00,  -999.0,-999.0000,-999.000,-999.000, 18.6310,-999.000
     316N138_5,  P06W,   204,  1,     23,    123,2,19920717,1535,-30.0807, 170.5087, 2899,     52.3,  18.6385,  35.6773,2,  35.6775,2,    226.9,2,    225.0,2,     0.77,2,     0.67,2,     0.12,2,     0.18,2, -999.000,5, -999.000,5, -999.000,9,-999.0000,9,  -999.00,9,   -999.0,9,  -999.00,9,-999.000,9,   -999.0,9,   -999.0,9, -999.00,  -999.0,-999.0000,-999.000,-999.000, 18.6293,-999.000
     316N138_5,  P06W,   204,  1,     22,    128,2,19920717,1535,-30.0807, 170.5087, 2899,    102.9,  18.0020,  35.6267,2,  35.6101,2,    211.7,2,    216.1,2,     1.14,2,     2.16,2,     0.16,2,     0.28,2, -999.000,5, -999.000,5, -999.000,9,-999.0000,9,  -999.00,9,   -999.0,9,  -999.00,9,-999.000,9,   -999.0,9,   -999.0,9, -999.00,  -999.0,-999.0000,-999.000,-999.000, 17.9843,-999.000
     316N138_5,  P06W,   204,  1,     21,    121,2,19920717,1535,-30.0807, 170.5087, 2899,    152.6,  17.6799,  35.5796,2,  35.5780,2,    207.4,2,    209.8,2,     1.34,2,     3.28,2,     0.10,2,     0.36,2, -999.000,5, -999.000,5, -999.000,9,-999.0000,9,  -999.00,9,   -999.0,9,  -999.00,9,-999.000,9,   -999.0,9,   -999.0,9, -999.00,  -999.0,-999.0000,-999.000,-999.000, 17.6539,-999.000
     316N138_5,  P06W,   204,  1,     20,    515,2,19920717,1535,-30.0807, 170.5087, 2899,    201.4,  17.1159,  35.5302,2,  35.5292,2,    200.6,2,    206.1,2,     1.71,2,     4.48,2,     0.06,2,     0.45,2, -999.000,5, -999.000,5, -999.000,9,-999.0000,9,  -999.00,9,   -999.0,9,  -999.00,9,-999.000,9,   -999.0,9,   -999.0,9, -999.00,  -999.0,-999.0000,-999.000,-999.000, 17.0823,-999.000
     316N138_5,  P06W,   204,  1,     19,    120,2,19920717,1535,-30.0807, 170.5087, 2899,    252.6,  16.0400,  35.4423,2,  35.4371,2,    193.3,2,    196.6,2,     2.45,2,     6.95,2,     0.01,2,     0.61,2, -999.000,5, -999.000,5, -999.000,9,-999.0000,9,  -999.00,9,   -999.0,9,  -999.00,9,-999.000,9,   -999.0,9,   -999.0,9, -999.00,  -999.0,-999.0000,-999.000,-999.000, 15.9999,-999.000
     316N138_5,  P06W,   204,  1,     18,    118,2,19920717,1535,-30.0807, 170.5087, 2899,    297.7,  15.0984,  35.3354,2,  35.3591,2,    193.7,2,    195.4,2,     3.02,2,     8.47,2,     0.01,2,     0.71,2, -999.000,5, -999.000,5, -999.000,9,-999.0000,9,  -999.00,9,   -999.0,9,  -999.00,9,-999.000,9,   -999.0,9,   -999.0,9, -999.00,  -999.0,-999.0000,-999.000,-999.000, 15.0529,-999.000
     316N138_5,  P06W,   204,  1,     17,    514,2,19920717,1535,-30.0807, 170.5087, 2899,    347.0,  14.0863,  35.2547,2,  35.2552,2,    189.1,2,    192.7,2,     3.76,2,    10.24,2,     0.01,2,     0.84,2, -999.000,5, -999.000,5, -999.000,9,-999.0000,9,  -999.00,9,   -999.0,9,  -999.00,9,-999.000,9,   -999.0,9,   -999.0,9, -999.00,  -999.0,-999.0000,-999.000,-999.000, 14.0356,-999.000
     316N138_5,  P06W,   204,  1,     16,    116,2,19920717,1535,-30.0807, 170.5087, 2899,    397.2,  13.1400,  35.1508,2,  35.1494,2,    189.3,2,    190.3,2,     4.70,2,    12.21,2,     0.01,2,     0.95,2, -999.000,5, -999.000,5, -999.000,9,-999.0000,9,  -999.00,9,   -999.0,9,  -999.00,9,-999.000,9,   -999.0,9,   -999.0,9, -999.00,  -999.0,-999.0000,-999.000,-999.000, 13.0845,-999.000
     316N138_5,  P06W,   204,  1,     15,    115,2,19920717,1535,-30.0807, 170.5087, 2899,    498.1,  11.2960,  34.9368,2,  34.9484,2,    188.7,2,    189.7,2,     6.75,2,    15.92,2,     0.01,2,     1.19,2, -999.000,5, -999.000,5, -999.000,9,-999.0000,9,  -999.00,9,   -999.0,9,  -999.00,9,-999.000,9,   -999.0,9,   -999.0,9, -999.00,  -999.0,-999.0000,-999.000,-999.000, 11.2328,-999.000
     316N138_5,  P06W,   204,  1,     14,    513,2,19920717,1535,-30.0807, 170.5087, 2899,    607.2,   9.4895,  34.6997,2,  34.7329,2,    194.5,2,    193.8,2,     9.36,2,    19.76,2,     0.01,2,     1.44,2, -999.000,5, -999.000,5, -999.000,9,-999.0000,9,  -999.00,9,   -999.0,9,  -999.00,9,-999.000,9,   -999.0,9,   -999.0,9, -999.00,  -999.0,-999.0000,-999.000,-999.000,  9.4201,-999.000
     316N138_5,  P06W,   204,  1,     13,    125,2,19920717,1535,-30.0807, 170.5087, 2899,    703.8,   7.9960,  34.5670,2,  34.5679,2,    202.3,2,    200.4,2,    12.52,2,    22.85,2,     0.01,2,     1.64,2, -999.000,5, -999.000,5, -999.000,9,-999.0000,9,  -999.00,9,   -999.0,9,  -999.00,9,-999.000,9,   -999.0,9,   -999.0,9, -999.00,  -999.0,-999.0000,-999.000,-999.000,  7.9229,-999.000
     316N138_5,  P06W,   204,  1,     12,    112,2,19920717,1535,-30.0807, 170.5087, 2899,    804.0,   6.9847,  34.4790,2,  34.4738,2,    203.2,2,    204.0,2,    15.69,2,    25.08,2,     0.01,2,     1.79,2, -999.000,5, -999.000,5, -999.000,9,-999.0000,9,  -999.00,9,   -999.0,9,  -999.00,9,-999.000,9,   -999.0,9,   -999.0,9, -999.00,  -999.0,-999.0000,-999.000,-999.000,  6.9068,-999.000
     316N138_5,  P06W,   204,  1,     11,    129,2,19920717,1535,-30.0807, 170.5087, 2899,   1012.3,   5.7437,  34.4580,2,  34.4569,2,    188.3,2,    188.7,2,    31.52,2,    29.03,2,     0.01,2,     2.04,2, -999.000,5, -999.000,5, -999.000,9,-999.0000,9,  -999.00,9,   -999.0,9,  -999.00,9,-999.000,9,   -999.0,9,   -999.0,9, -999.00,  -999.0,-999.0000,-999.000,-999.000,  5.6536,-999.000
     316N138_5,  P06W,   204,  1,     10,    110,2,19920717,1535,-30.0807, 170.5087, 2899,   1206.1,   4.4960,  34.4700,2,  34.4712,2,    177.0,2,    176.3,2,    51.64,2,    32.02,2,     0.01,2,     2.27,2, -999.000,5, -999.000,5, -999.000,9,-999.0000,9,  -999.00,9,   -999.0,9,  -999.00,9,-999.000,9,   -999.0,9,   -999.0,9, -999.00,  -999.0,-999.0000,-999.000,-999.000,  4.3984,-999.000
     316N138_5,  P06W,   204,  1,      9,    126,2,19920717,1535,-30.0807, 170.5087, 2899,   1410.3,   3.6761,  34.5279,2,  34.5254,2,    165.9,2,    166.0,2,    72.13,2,    33.48,2,     0.01,2,     2.39,2, -999.000,5, -999.000,5, -999.000,9,-999.0000,9,  -999.00,9,   -999.0,9,  -999.00,9,-999.000,9,   -999.0,9,   -999.0,9, -999.00,  -999.0,-999.0000,-999.000,-999.000,  3.5685,-999.000
     316N138_5,  P06W,   204,  1,      8,    108,2,19920717,1535,-30.0807, 170.5087, 2899,   1630.3,   3.0389,  34.5789,2,  34.5763,2,    158.8,2,    159.6,2,    89.82,2,    34.58,2,     0.02,2,     2.46,2, -999.000,5, -999.000,5, -999.000,9,-999.0000,9,  -999.00,9,   -999.0,9,  -999.00,9,-999.000,9,   -999.0,9,   -999.0,9, -999.00,  -999.0,-999.0000,-999.000,-999.000,  2.9196,-999.000
     316N138_5,  P06W,   204,  1,      7,    107,2,19920717,1535,-30.0807, 170.5087, 2899,   1832.6,   2.6534,  34.6107,2,  34.6085,2,    156.4,2,    155.7,2,   100.56,2,    35.10,2,     0.01,2,     2.49,2, -999.000,5, -999.000,5, -999.000,9,-999.0000,9,  -999.00,9,   -999.0,9,  -999.00,9,-999.000,9,   -999.0,9,   -999.0,9, -999.00,  -999.0,-999.0000,-999.000,-999.000,  2.5217,-999.000
     316N138_5,  P06W,   204,  1,      6,    180,2,19920717,1535,-30.0807, 170.5087, 2899,   2028.4,   2.3794,  34.6330,2,  34.6325,2,    155.2,2,    155.0,2,   108.83,2,    34.94,2,     0.01,2,     2.51,2, -999.000,5, -999.000,5, -999.000,9,-999.0000,9,  -999.00,9,   -999.0,9,  -999.00,9,-999.000,9,   -999.0,9,   -999.0,9, -999.00,  -999.0,-999.0000,-999.000,-999.000,  2.2348,-999.000
     316N138_5,  P06W,   204,  1,      5,    131,2,19920717,1535,-30.0807, 170.5087, 2899,   2222.9,   2.1786,  34.6493,2,  34.6486,2,    154.0,2,    153.6,2,   114.42,2,    35.05,2,     0.01,2,     2.52,2, -999.000,5, -999.000,5, -999.000,9,-999.0000,9,  -999.00,9,   -999.0,9,  -999.00,9,-999.000,9,   -999.0,9,   -999.0,9, -999.00,  -999.0,-999.0000,-999.000,-999.000,  2.0200,-999.000
     316N138_5,  P06W,   204,  1,      4,    516,2,19920717,1535,-30.0807, 170.5087, 2899,   2370.1,   2.0845,  34.6569,2,  34.6576,2,    153.5,2,    154.2,2,   116.48,2,    35.11,2,     0.00,2,     2.52,2, -999.000,5, -999.000,5, -999.000,9,-999.0000,9,  -999.00,9,   -999.0,9,  -999.00,9,-999.000,9,   -999.0,9,   -999.0,9, -999.00,  -999.0,-999.0000,-999.000,-999.000,  1.9144,-999.000
     316N138_5,  P06W,   204,  1,      3,    130,2,19920717,1535,-30.0807, 170.5087, 2899,   2567.4,   1.9687,  34.6664,2,  34.6671,2,    153.8,2,    154.2,2,   120.58,2,    35.17,2,    -0.01,2,     2.51,2, -999.000,5, -999.000,5, -999.000,9,-999.0000,9,  -999.00,9,   -999.0,9,  -999.00,9,-999.000,9,   -999.0,9,   -999.0,9, -999.00,  -999.0,-999.0000,-999.000,-999.000,  1.7828,-999.000
     316N138_5,  P06W,   204,  1,      2,    136,2,19920717,1535,-30.0807, 170.5087, 2899,   2768.2,   1.9065,  34.6717,2,  34.6739,2,    154.1,2,    155.0,2,   122.45,2,    35.12,2,    -0.01,2,     2.52,2, -999.000,5, -999.000,5, -999.000,9,-999.0000,9,  -999.00,9,   -999.0,9,  -999.00,9,-999.000,9,   -999.0,9,   -999.0,9, -999.00,  -999.0,-999.0000,-999.000,-999.000,  1.7031,-999.000
     316N138_5,  P06W,   204,  1,      1,    134,2,19920717,1535,-30.0807, 170.5087, 2899,   2817.3,   1.9048,  34.6717,2,  34.6712,2,    154.2,2,    154.6,2,   122.39,2,    35.09,2,     0.00,2,     2.51,2, -999.000,5, -999.000,5, -999.000,9,-999.0000,9,  -999.00,9,   -999.0,9,  -999.00,9,-999.000,9,   -999.0,9,   -999.0,9, -999.00,  -999.0,-999.0000,-999.000,-999.000,  1.6968,-999.000