BOTTLE,20030219WHPSIOdm
EXPOCODE,SECT_ID,STNNBR,CASTNO,SAMPNO,BTLNBR,BTLNBR_FLAG_W,DATE,TIME,LATITUDE,LONGITUDE,DEPTH,CTDPRS,CTDTMP,CTDSAL,CTDSAL_FLAG_W,SALNTY,SALNTY_FLAG_W,CTDOXY,CTDOXY_FLAG_W,OXYGEN,OXYGEN_FLAG_W,SILCAT,SILCAT_FLAG_W,NITRAT,NITRAT_FLAG_W,NITRIT,NITRIT_FLAG_W,PHSPHT,PHSPHT_FLAG_W,CFC-11,CFC-11_FLAG_W,CFC-12,CFC-12_FLAG_W,TRITUM,TRITUM_FLAG_W,HELIUM,HELIUM_FLAG_W,DELHE3,DELHE3_FLAG_W,DELC14,DELC14_FLAG_W,DELC13,DELC13_FLAG_W,NEON,NEON_FLAG_W,TCARBN,TCARBN_FLAG_W,PCO2,PCO2_FLAG_W,PCO2TMP,C14ERR,HELIER,DELHER,NEONER,THETA,TRITER
,,,,,,,,,,,,DBAR,ITS-90,PSS-78,,PSS-78,,UMOL/KG,,UMOL/KG,,UMOL/KG,,UMOL/KG,,UMOL/KG,,UMOL/KG,,PMOL/KG,,PMOL/KG,,TU,,NMOL/KG,,PERCNT,,/MILLE,,/MILLE,,NMOL/KG,,UMOL/KG,,UATM,,DEG_C,/MILLE,NMOL/KG,PERCNT,NMOL/KG,ITS-90,TU
     316N138_5,  P06W,   195,  1,     36,1385-36,2,19920715,0045,-30.0908, 174.5080, 3579,     25.5,  20.0614,  35.6744,2,  35.6897,2,    223.5,2,    221.5,2,     0.78,2,     0.09,2,     0.02,2,     0.12,2, -999.000,5, -999.000,5, -999.000,9,-999.0000,9,  -999.00,9,   -999.0,9,  -999.00,9,-999.000,9,   -999.0,9,   -999.0,9, -999.00,  -999.0,-999.0000,-999.000,-999.000, 20.0567,-999.000
     316N138_5,  P06W,   195,  1,     35,02-9454,2,19920715,0045,-30.0908, 174.5080, 3579,     63.7,  19.2024,  35.7233,2,  35.7209,2,    215.6,2,    216.0,2,     0.97,2,     0.87,2,     0.14,2,     0.20,2, -999.000,5, -999.000,5, -999.000,9,-999.0000,9,  -999.00,9,   -999.0,9,  -999.00,9,-999.000,9,   -999.0,9,   -999.0,9, -999.00,  -999.0,-999.0000,-999.000,-999.000, 19.1909,-999.000
     316N138_5,  P06W,   195,  1,     34,02-9457,2,19920715,0045,-30.0908, 174.5080, 3579,    114.2,  17.8955,  35.5841,2,  35.5867,2,    203.1,2,    199.5,2,     1.52,2,     3.78,2,     0.02,2,     0.42,2, -999.000,5, -999.000,5, -999.000,9,-999.0000,9,  -999.00,9,   -999.0,9,  -999.00,9,-999.000,9,   -999.0,9,   -999.0,9, -999.00,  -999.0,-999.0000,-999.000,-999.000, 17.8759,-999.000
     316N138_5,  P06W,   195,  1,     33,1385-33,2,19920715,0045,-30.0908, 174.5080, 3579,    163.7,  16.9333,  35.5067,2,  35.5052,2,    196.3,2,    191.1,2,     2.09,2,     5.90,2,     0.02,2,     0.55,2, -999.000,5, -999.000,5, -999.000,9,-999.0000,9,  -999.00,9,   -999.0,9,  -999.00,9,-999.000,9,   -999.0,9,   -999.0,9, -999.00,  -999.0,-999.0000,-999.000,-999.000, 16.9063,-999.000
     316N138_5,  P06W,   195,  1,     32,02-9510,2,19920715,0045,-30.0908, 174.5080, 3579,    211.6,  16.2825,  35.4640,2,  35.4630,2,    197.3,2,    193.5,2,     2.27,2,     6.67,2,     0.02,2,     0.61,2, -999.000,5, -999.000,5, -999.000,9,-999.0000,9,  -999.00,9,   -999.0,9,  -999.00,9,-999.000,9,   -999.0,9,   -999.0,9, -999.00,  -999.0,-999.0000,-999.000,-999.000, 16.2485,-999.000
     316N138_5,  P06W,   195,  1,     31,02-9453,2,19920715,0045,-30.0908, 174.5080, 3579,    211.6,  16.2825,  35.4640,2,  35.4630,2,    197.3,2,    192.8,2,     2.27,2,     6.52,2,     0.02,2,     0.61,2, -999.000,5, -999.000,5, -999.000,9,-999.0000,9,  -999.00,9,   -999.0,9,  -999.00,9,-999.000,9,   -999.0,9,   -999.0,9, -999.00,  -999.0,-999.0000,-999.000,-999.000, 16.2485,-999.000
     316N138_5,  P06W,   195,  1,     30,02-9456,2,19920715,0045,-30.0908, 174.5080, 3579,    310.0,  14.5345,  35.2991,2,  35.3019,2,    194.6,2,    192.2,2,     3.39,2,     9.36,2,     0.02,2,     0.79,2, -999.000,5, -999.000,5, -999.000,9,-999.0000,9,  -999.00,9,   -999.0,9,  -999.00,9,-999.000,9,   -999.0,9,   -999.0,9, -999.00,  -999.0,-999.0000,-999.000,-999.000, 14.4883,-999.000
     316N138_5,  P06W,   195,  1,     29,02-9458,2,19920715,0045,-30.0908, 174.5080, 3579,    357.2,  13.7457,  35.2166,2,  35.2111,2,    191.8,2,    189.4,2,     4.13,2,    11.07,2,     0.01,2,     0.89,2, -999.000,5, -999.000,5, -999.000,9,-999.0000,9,  -999.00,9,   -999.0,9,  -999.00,9,-999.000,9,   -999.0,9,   -999.0,9, -999.00,  -999.0,-999.0000,-999.000,-999.000, 13.6943,-999.000
     316N138_5,  P06W,   195,  1,     28,02-9454,2,19920715,0045,-30.0908, 174.5080, 3579,    406.6,  12.7929,  35.0949,2,  35.1114,2,    191.5,2,    190.9,2,     5.07,2,    12.73,2,     0.01,2,     1.01,2, -999.000,5, -999.000,5, -999.000,9,-999.0000,9,  -999.00,9,   -999.0,9,  -999.00,9,-999.000,9,   -999.0,9,   -999.0,9, -999.00,  -999.0,-999.0000,-999.000,-999.000, 12.7370,-999.000
     316N138_5,  P06W,   195,  1,     27,02-9543,2,19920715,0045,-30.0908, 174.5080, 3579,    452.1,  12.1483,  35.0576,2,  35.0461,2,    191.4,2,    192.5,2,     5.99,2,    14.01,2,     0.01,2,     1.06,2, -999.000,5, -999.000,5, -999.000,9,-999.0000,9,  -999.00,9,   -999.0,9,  -999.00,9,-999.000,9,   -999.0,9,   -999.0,9, -999.00,  -999.0,-999.0000,-999.000,-999.000, 12.0882,-999.000
     316N138_5,  P06W,   195,  1,     26,02-9544,2,19920715,0045,-30.0908, 174.5080, 3579,    498.8,  11.2088,  34.9266,2,  34.9278,2,    194.4,2,    192.0,2,     6.92,2,    15.99,2,     0.01,2,     1.19,2, -999.000,5, -999.000,5, -999.000,9,-999.0000,9,  -999.00,9,   -999.0,9,  -999.00,9,-999.000,9,   -999.0,9,   -999.0,9, -999.00,  -999.0,-999.0000,-999.000,-999.000, 11.1457,-999.000
     316N138_5,  P06W,   195,  1,     25,02-9455,2,19920715,0045,-30.0908, 174.5080, 3579,    544.2,  10.3453,  34.8189,2,  34.8228,2,    191.0,2,    192.1,2,     7.67,2,    18.04,2,     0.01,2,     1.33,2, -999.000,5, -999.000,5, -999.000,9,-999.0000,9,  -999.00,9,   -999.0,9,  -999.00,9,-999.000,9,   -999.0,9,   -999.0,9, -999.00,  -999.0,-999.0000,-999.000,-999.000, 10.2798,-999.000
     316N138_5,  P06W,   195,  1,     24,    132,2,19920715,0045,-30.0908, 174.5080, 3579,    594.0,   9.4409,  34.7129,2,  34.7176,2,    196.1,2,    195.3,2,     8.78,2,    19.74,2,     0.01,2,     1.45,2, -999.000,5, -999.000,5, -999.000,9,-999.0000,9,  -999.00,9,   -999.0,9,  -999.00,9,-999.000,9,   -999.0,9,   -999.0,9, -999.00,  -999.0,-999.0000,-999.000,-999.000,  9.3732,-999.000
     316N138_5,  P06W,   195,  1,     23,    123,2,19920715,0045,-30.0908, 174.5080, 3579,    695.2,   7.9204,  34.5461,2,  34.5506,2,    203.7,2,    203.9,2,    11.37,2,    22.68,2,     0.01,2,     1.64,2, -999.000,5, -999.000,5, -999.000,9,-999.0000,9,  -999.00,9,   -999.0,9,  -999.00,9,-999.000,9,   -999.0,9,   -999.0,9, -999.00,  -999.0,-999.0000,-999.000,-999.000,  7.8486,-999.000
     316N138_5,  P06W,   195,  1,     22,    128,2,19920715,0045,-30.0908, 174.5080, 3579,    795.9,   6.9630,  34.4624,2,  34.4599,2,    208.0,2,    207.7,2,    14.15,2,    24.58,2,     0.00,2,     1.78,2, -999.000,5, -999.000,5, -999.000,9,-999.0000,9,  -999.00,9,   -999.0,9,  -999.00,9,-999.000,9,   -999.0,9,   -999.0,9, -999.00,  -999.0,-999.0000,-999.000,-999.000,  6.8861,-999.000
     316N138_5,  P06W,   195,  1,     21,    121,2,19920715,0045,-30.0908, 174.5080, 3579,    894.7,   6.1608,  34.3984,2,  34.3982,2,    207.6,2,    206.9,2,    18.41,2,    26.58,2,     0.00,2,     1.91,2, -999.000,5, -999.000,5, -999.000,9,-999.0000,9,  -999.00,9,   -999.0,9,  -999.00,9,-999.000,9,   -999.0,9,   -999.0,9, -999.00,  -999.0,-999.0000,-999.000,-999.000,  6.0792,-999.000
     316N138_5,  P06W,   195,  1,     20,    515,2,19920715,0045,-30.0908, 174.5080, 3579,   1000.2,   5.5083,  34.3816,2,  34.3811,2,    196.5,2,    198.7,2,    25.26,2,    28.57,2,    -0.01,2,     2.05,2, -999.000,5, -999.000,5, -999.000,9,-999.0000,9,  -999.00,9,   -999.0,9,  -999.00,9,-999.000,9,   -999.0,9,   -999.0,9, -999.00,  -999.0,-999.0000,-999.000,-999.000,  5.4213,-999.000
     316N138_5,  P06W,   195,  1,     19,    120,2,19920715,0045,-30.0908, 174.5080, 3579,   1097.7,   4.9792,  34.4028,2,  34.4027,2,    188.1,2,    188.0,2,    35.26,2,    30.13,2,    -0.01,2,     2.17,2, -999.000,5, -999.000,5, -999.000,9,-999.0000,9,  -999.00,9,   -999.0,9,  -999.00,9,-999.000,9,   -999.0,9,   -999.0,9, -999.00,  -999.0,-999.0000,-999.000,-999.000,  4.8873,-999.000
     316N138_5,  P06W,   195,  1,     18,    118,2,19920715,0045,-30.0908, 174.5080, 3579,   1196.0,   4.4430,  34.4209,2,  34.4265,2,    180.1,2,    180.1,2,    45.81,2,    31.55,2,    -0.01,2,     2.28,2, -999.000,5, -999.000,5, -999.000,9,-999.0000,9,  -999.00,9,   -999.0,9,  -999.00,9,-999.000,9,   -999.0,9,   -999.0,9, -999.00,  -999.0,-999.0000,-999.000,-999.000,  4.3470,-999.000
     316N138_5,  P06W,   195,  1,     17,    514,2,19920715,0045,-30.0908, 174.5080, 3579,   1297.2,   3.8374,  34.4632,2,  34.4663,2,    172.2,2,    171.4,2,    60.05,2,    33.01,2,    -0.01,2,     2.36,2, -999.000,5, -999.000,5, -999.000,9,-999.0000,9,  -999.00,9,   -999.0,9,  -999.00,9,-999.000,9,   -999.0,9,   -999.0,9, -999.00,  -999.0,-999.0000,-999.000,-999.000,  3.7380,-999.000
     316N138_5,  P06W,   195,  1,     16,    116,2,19920715,0045,-30.0908, 174.5080, 3579,   1400.6,   3.4412,  34.5187,2,  34.5186,2,    167.5,2,    164.6,2,    74.11,2,    33.57,2,     0.00,2,     2.42,2, -999.000,5, -999.000,5, -999.000,9,-999.0000,9,  -999.00,9,   -999.0,9,  -999.00,9,-999.000,9,   -999.0,9,   -999.0,9, -999.00,  -999.0,-999.0000,-999.000,-999.000,  3.3370,-999.000
     316N138_5,  P06W,   195,  1,     15,    115,2,19920715,0045,-30.0908, 174.5080, 3579,   1501.4,   3.1449,  34.5519,2,  34.5537,2,    162.6,2,    160.6,2,    84.29,2,    34.09,2,     0.00,2,     2.47,2, -999.000,5, -999.000,5, -999.000,9,-999.0000,9,  -999.00,9,   -999.0,9,  -999.00,9,-999.000,9,   -999.0,9,   -999.0,9, -999.00,  -999.0,-999.0000,-999.000,-999.000,  3.0354,-999.000
     316N138_5,  P06W,   195,  1,     14,    513,2,19920715,0045,-30.0908, 174.5080, 3579,   1609.3,   2.8895,  34.5830,2,  34.5804,2,    160.3,2,    157.6,2,    92.79,2,    34.37,2,     0.00,2,     2.49,2, -999.000,5, -999.000,5, -999.000,9,-999.0000,9,  -999.00,9,   -999.0,9,  -999.00,9,-999.000,9,   -999.0,9,   -999.0,9, -999.00,  -999.0,-999.0000,-999.000,-999.000,  2.7737,-999.000
     316N138_5,  P06W,   195,  1,     13,    125,2,19920715,0045,-30.0908, 174.5080, 3579,   1706.1,   2.7774,  34.5952,2,  34.5952,2,    157.3,2,    156.2,2,    97.23,2,    34.50,2,     0.00,2,     2.49,2, -999.000,5, -999.000,5, -999.000,9,-999.0000,9,  -999.00,9,   -999.0,9,  -999.00,9,-999.000,9,   -999.0,9,   -999.0,9, -999.00,  -999.0,-999.0000,-999.000,-999.000,  2.6549,-999.000
     316N138_5,  P06W,   195,  1,     12,    112,2,19920715,0045,-30.0908, 174.5080, 3579,   1803.9,   2.5792,  34.6131,2,  34.6124,2,    155.6,2,    154.3,2,   102.95,2,    34.79,2,     0.00,2,     2.49,2, -999.000,5, -999.000,5, -999.000,9,-999.0000,9,  -999.00,9,   -999.0,9,  -999.00,9,-999.000,9,   -999.0,9,   -999.0,9, -999.00,  -999.0,-999.0000,-999.000,-999.000,  2.4510,-999.000
     316N138_5,  P06W,   195,  1,     11,    129,2,19920715,0045,-30.0908, 174.5080, 3579,   1903.7,   2.4663,  34.6224,2,  34.6221,2,    154.6,2,    153.5,2,   106.28,2,    35.02,2,     0.00,2,     2.50,2, -999.000,5, -999.000,5, -999.000,9,-999.0000,9,  -999.00,9,   -999.0,9,  -999.00,9,-999.000,9,   -999.0,9,   -999.0,9, -999.00,  -999.0,-999.0000,-999.000,-999.000,  2.3312,-999.000
     316N138_5,  P06W,   195,  1,     10,    110,2,19920715,0045,-30.0908, 174.5080, 3579,   2005.5,   2.3607,  34.6311,2,  34.6311,2,    153.4,2,    152.5,2,   109.23,2,    35.26,2,     0.00,2,     2.51,2, -999.000,5, -999.000,5, -999.000,9,-999.0000,9,  -999.00,9,   -999.0,9,  -999.00,9,-999.000,9,   -999.0,9,   -999.0,9, -999.00,  -999.0,-999.0000,-999.000,-999.000,  2.2184,-999.000
     316N138_5,  P06W,   195,  1,      9,    126,2,19920715,0045,-30.0908, 174.5080, 3579,   2208.1,   2.2013,  34.6450,2,  34.6460,2,    152.4,2,    151.8,2,   113.84,2,    35.49,2,     0.00,2,     2.52,2, -999.000,5, -999.000,5, -999.000,9,-999.0000,9,  -999.00,9,   -999.0,9,  -999.00,9,-999.000,9,   -999.0,9,   -999.0,9, -999.00,  -999.0,-999.0000,-999.000,-999.000,  2.0437,-999.000
     316N138_5,  P06W,   195,  1,      8,    108,2,19920715,0045,-30.0908, 174.5080, 3579,   2414.0,   2.0678,  34.6572,2,  34.6614,2,    152.4,2,    152.3,2,   117.36,2,    35.58,2,     0.00,2,     2.52,2, -999.000,5, -999.000,5, -999.000,9,-999.0000,9,  -999.00,9,   -999.0,9,  -999.00,9,-999.000,9,   -999.0,9,   -999.0,9, -999.00,  -999.0,-999.0000,-999.000,-999.000,  1.8941,-999.000
     316N138_5,  P06W,   195,  1,      7,    107,2,19920715,0045,-30.0908, 174.5080, 3579,   2617.7,   1.9795,  34.6655,2,  34.6661,2,    153.2,2,    152.8,2,   119.75,2,    35.62,2,     0.01,2,     2.53,2, -999.000,5, -999.000,5, -999.000,9,-999.0000,9,  -999.00,9,   -999.0,9,  -999.00,9,-999.000,9,   -999.0,9,   -999.0,9, -999.00,  -999.0,-999.0000,-999.000,-999.000,  1.7887,-999.000
     316N138_5,  P06W,   195,  1,      6,    180,2,19920715,0045,-30.0908, 174.5080, 3579,   2824.8,   1.8984,  34.6737,2,  34.6749,2,    153.9,2,    153.6,2,   121.78,2,    35.70,2,     0.01,2,     2.52,2, -999.000,5, -999.000,5, -999.000,9,-999.0000,9,  -999.00,9,   -999.0,9,  -999.00,9,-999.000,9,   -999.0,9,   -999.0,9, -999.00,  -999.0,-999.0000,-999.000,-999.000,  1.6898,-999.000
     316N138_5,  P06W,   195,  1,      5,    131,2,19920715,0045,-30.0908, 174.5080, 3579,   3025.7,   1.8640,  34.6768,2,  34.6832,3,    154.3,2,    154.0,2,   122.88,2,    35.80,2,     0.01,2,     2.52,2, -999.000,5, -999.000,5, -999.000,9,-999.0000,9,  -999.00,9,   -999.0,9,  -999.00,9,-999.000,9,   -999.0,9,   -999.0,9, -999.00,  -999.0,-999.0000,-999.000,-999.000,  1.6366,-999.000
     316N138_5,  P06W,   195,  1,      4,    516,2,19920715,0045,-30.0908, 174.5080, 3579,   3228.8,   1.8515,  34.6800,2,  34.6796,2,    154.5,2,    154.3,2,   123.80,2,    35.84,2,     0.01,2,     2.52,2, -999.000,5, -999.000,5, -999.000,9,-999.0000,9,  -999.00,9,   -999.0,9,  -999.00,9,-999.000,9,   -999.0,9,   -999.0,9, -999.00,  -999.0,-999.0000,-999.000,-999.000,  1.6043,-999.000
     316N138_5,  P06W,   195,  1,      3,    130,2,19920715,0045,-30.0908, 174.5080, 3579,   3434.0,   1.8463,  34.6818,2,  34.6816,2,    154.9,2,    154.2,2,   124.53,2,    35.69,2,     0.01,2,     2.53,2, -999.000,5, -999.000,5, -999.000,9,-999.0000,9,  -999.00,9,   -999.0,9,  -999.00,9,-999.000,9,   -999.0,9,   -999.0,9, -999.00,  -999.0,-999.0000,-999.000,-999.000,  1.5782,-999.000
     316N138_5,  P06W,   195,  1,      2,    136,2,19920715,0045,-30.0908, 174.5080, 3579,   3641.4,   1.8555,  34.6826,2,  34.6824,2,    154.7,2,    154.1,2,   125.08,2,    35.68,2,     0.02,2,     2.52,2, -999.000,5, -999.000,5, -999.000,9,-999.0000,9,  -999.00,9,   -999.0,9,  -999.00,9,-999.000,9,   -999.0,9,   -999.0,9, -999.00,  -999.0,-999.0000,-999.000,-999.000,  1.5655,-999.000
     316N138_5,  P06W,   195,  1,      1,    134,2,19920715,0045,-30.0908, 174.5080, 3579,   3697.6,   1.8605,  34.6820,2,  34.6826,2,    154.5,2,    154.5,2,   125.50,2,    35.32,4,     0.01,4,     2.50,4, -999.000,5, -999.000,5, -999.000,9,-999.0000,9,  -999.00,9,   -999.0,9,  -999.00,9,-999.000,9,   -999.0,9,   -999.0,9, -999.00,  -999.0,-999.0000,-999.000,-999.000,  1.5644,-999.000