BOTTLE,20030219WHPSIOdm
EXPOCODE,SECT_ID,STNNBR,CASTNO,SAMPNO,BTLNBR,BTLNBR_FLAG_W,DATE,TIME,LATITUDE,LONGITUDE,DEPTH,CTDPRS,CTDTMP,CTDSAL,CTDSAL_FLAG_W,SALNTY,SALNTY_FLAG_W,CTDOXY,CTDOXY_FLAG_W,OXYGEN,OXYGEN_FLAG_W,SILCAT,SILCAT_FLAG_W,NITRAT,NITRAT_FLAG_W,NITRIT,NITRIT_FLAG_W,PHSPHT,PHSPHT_FLAG_W,CFC-11,CFC-11_FLAG_W,CFC-12,CFC-12_FLAG_W,TRITUM,TRITUM_FLAG_W,HELIUM,HELIUM_FLAG_W,DELHE3,DELHE3_FLAG_W,DELC14,DELC14_FLAG_W,DELC13,DELC13_FLAG_W,NEON,NEON_FLAG_W,TCARBN,TCARBN_FLAG_W,PCO2,PCO2_FLAG_W,PCO2TMP,C14ERR,HELIER,DELHER,NEONER,THETA,TRITER
,,,,,,,,,,,,DBAR,ITS-90,PSS-78,,PSS-78,,UMOL/KG,,UMOL/KG,,UMOL/KG,,UMOL/KG,,UMOL/KG,,UMOL/KG,,PMOL/KG,,PMOL/KG,,TU,,NMOL/KG,,PERCNT,,/MILLE,,/MILLE,,NMOL/KG,,UMOL/KG,,UATM,,DEG_C,/MILLE,NMOL/KG,PERCNT,NMOL/KG,ITS-90,TU
     316N138_5,  P06W,   227,  1,     36,1385-36,2,19920722,0042,-30.0817, 158.6987, 3195,     18.2,  18.0101,  35.5537,2,  35.5515,2,    233.8,2,    230.4,2,     1.12,2,     1.16,2,     0.09,2,     0.20,2,    2.362,2,    1.303,2,    0.849,2,   1.7920,2,    -1.41,2,   -999.0,9,  -999.00,9,-999.000,9,   2022.5,6,    353.1,2,   20.50,  -999.0,-999.0000,   0.150,-999.000, 18.0070,   0.005
     316N138_5,  P06W,   227,  1,     35,02-9454,2,19920722,0042,-30.0817, 158.6987, 3195,     57.7,  17.9046,  35.5539,2,  35.5515,2,    227.4,2,    228.0,2,     1.12,2,     1.41,2,     0.12,2,     0.24,2,    2.350,2,    1.265,2, -999.000,5,   1.7930,2,    -1.45,2,   -999.0,9,  -999.00,9,-999.000,9,   2026.0,2,   -999.0,9, -999.00,  -999.0,-999.0000,   0.150,-999.000, 17.8947,-999.000
     316N138_5,  P06W,   227,  1,     34,02-9457,2,19920722,0042,-30.0817, 158.6987, 3195,    106.4,  17.4984,  35.5476,2,  35.5474,2,    216.8,2,    224.3,2,     1.12,2,     1.83,2,     0.16,2,     0.27,2,    2.351,2,    1.231,2,    0.816,2,   1.7880,2,    -1.30,2,   -999.0,9,  -999.00,9,-999.000,9,   2033.1,2,    375.6,6,   20.50,  -999.0,-999.0000,   0.150,-999.000, 17.4804,   0.005
     316N138_5,  P06W,   227,  1,     33,1385-33,3,19920722,0042,-30.0817, 158.6987, 3195,    154.4,  16.8896,  35.5074,2,  35.5052,2,    220.6,2,    220.7,2,     1.31,2,     2.69,2,     0.19,2,     0.33,2,    2.371,2,    1.234,2, -999.000,9,-999.0000,9,  -999.00,9,   -999.0,9,  -999.00,9,-999.000,9,   2043.7,2,   -999.0,9, -999.00,  -999.0,-999.0000,-999.000,-999.000, 16.8643,-999.000
     316N138_5,  P06W,   227,  1,     32,02-9510,2,19920722,0042,-30.0817, 158.6987, 3195,    200.6,  16.0616,  35.4438,2,  35.4320,2,    202.3,2,    200.3,2,     2.39,2,     6.31,2,     0.00,2,     0.56,2,    2.158,2,    1.132,2, -999.000,5,   1.7930,2,    -0.53,2,   -999.0,9,  -999.00,9,-999.000,9,   2070.3,2,    459.4,2,   20.50,  -999.0,-999.0000,   0.150,-999.000, 16.0298,-999.000
     316N138_5,  P06W,   227,  1,     31,02-9453,2,19920722,0042,-30.0817, 158.6987, 3195,    249.1,  15.2649,  35.3678,2,  35.3671,2,    191.7,2,    190.2,2,     2.94,2,     8.71,2,     0.00,2,     0.72,2, -999.000,5, -999.000,5, -999.000,9,-999.0000,9,  -999.00,9,   -999.0,9,  -999.00,9,-999.000,9,   2085.1,2,   -999.0,9, -999.00,  -999.0,-999.0000,-999.000,-999.000, 15.2266,-999.000
     316N138_5,  P06W,   227,  1,     30,02-9456,2,19920722,0042,-30.0817, 158.6987, 3195,    300.9,  14.1998,  35.2773,2,  35.2733,2,    194.7,2,    190.2,2,     3.66,2,    10.35,2,     0.00,2,     0.82,2,    1.883,2,    0.975,2,    0.606,2,   1.8080,2,     0.04,2,   -999.0,9,  -999.00,9,-999.000,9,   2095.1,2,    533.7,2,   20.50,  -999.0,-999.0000,   0.150,-999.000, 14.1557,   0.004
     316N138_5,  P06W,   227,  1,     29,02-9458,2,19920722,0042,-30.0817, 158.6987, 3195,    351.0,  13.2872,  35.1892,2,  35.1870,2,    194.0,2,    194.1,2,     4.39,2,    11.47,2,     0.00,2,     0.91,2,    1.913,2,    0.968,2, -999.000,9,-999.0000,9,  -999.00,9,   -999.0,9,  -999.00,9,-999.000,9,   2102.8,2,   -999.0,9, -999.00,  -999.0,-999.0000,-999.000,-999.000, 13.2379,-999.000
     316N138_5,  P06W,   227,  1,     28,02-9454,2,19920722,0042,-30.0817, 158.6987, 3195,    405.1,  12.3262,  35.0903,2,  35.0905,2,    198.0,2,    195.9,2,     4.93,2,    12.93,2,     0.00,2,     0.98,2,    1.908,2,    0.964,2,    0.511,2,   1.8340,2,     0.10,2,   -999.0,9,  -999.00,9,-999.000,9,   2110.8,2,    597.9,2,   20.50,  -999.0,-999.0000,   0.150,-999.000, 12.2720,   0.004
     316N138_5,  P06W,   227,  1,     27,02-9543,2,19920722,0042,-30.0817, 158.6987, 3195,    455.0,  11.5334,  34.9935,2,  34.9943,2,    197.1,2,    197.5,2,     5.66,2,    14.62,2,     0.00,2,     1.09,2, -999.000,5, -999.000,5, -999.000,9,-999.0000,9,  -999.00,9,   -999.0,9,  -999.00,9,-999.000,9,   2118.8,2,   -999.0,9, -999.00,  -999.0,-999.0000,-999.000,-999.000, 11.4749,-999.000
     316N138_5,  P06W,   227,  1,     26,02-9544,2,19920722,0042,-30.0817, 158.6987, 3195,    505.6,  10.5915,  34.8694,2,  34.8676,2,    196.2,2,    192.0,2,     7.11,2,    17.35,2,     0.00,2,     1.25,2,    1.617,2,    0.809,2,    0.391,2,   1.8470,2,     0.67,2,   -999.0,9,  -999.00,9,-999.000,9,   2128.8,2,    732.4,2,   20.50,  -999.0,-999.0000,   0.150,-999.000, 10.5298,   0.003
     316N138_5,  P06W,   227,  1,     25,02-9455,2,19920722,0042,-30.0817, 158.6987, 3195,    552.0,   9.9086,  34.7860,2,  34.7862,2,    193.5,2,    192.6,2,     8.55,2,    19.04,2,     0.00,2,     1.35,2, -999.000,5, -999.000,5, -999.000,9,-999.0000,9,  -999.00,9,   -999.0,9,  -999.00,9,-999.000,9,   2135.9,2,   -999.0,9, -999.00,  -999.0,-999.0000,-999.000,-999.000,  9.8439,-999.000
     316N138_5,  P06W,   227,  1,     24,    132,2,19920722,0042,-30.0817, 158.6987, 3195,    598.5,   9.2569,  34.7125,2,  34.7138,2,    191.6,2,    192.4,2,    10.01,2,    20.45,2,     0.00,2,     1.45,2,    1.172,2,    0.589,2,    0.283,2,   1.8410,2,     1.20,2,   -999.0,9,  -999.00,9,-999.000,9,   2139.6,2,    760.1,2,   20.50,  -999.0,-999.0000,   0.150,-999.000,  9.1895,   0.003
     316N138_5,  P06W,   227,  1,     23,    123,2,19920722,0042,-30.0817, 158.6987, 3195,    697.6,   8.0971,  34.6120,2,  34.6103,2,    190.2,2,    187.9,2,    15.62,2,    23.51,2,     0.00,2,     1.64,2,    0.678,2,    0.350,2, -999.000,9,-999.0000,9,  -999.00,9,   -999.0,9,  -999.00,9,-999.000,9,   2155.0,2,   -999.0,9, -999.00,  -999.0,-999.0000,-999.000,-999.000,  8.0241,-999.000
     316N138_5,  P06W,   227,  1,     22,    128,2,19920722,0042,-30.0817, 158.6987, 3195,    794.6,   7.0736,  34.5308,2,  34.5294,2,    188.1,2,    186.3,2,    21.40,2,    25.91,2,     0.00,2,     1.80,2,    0.379,2,    0.206,2,    0.105,2,-999.0000,9,  -999.00,9,   -999.0,9,  -999.00,9,-999.000,9,   2167.5,2,    942.8,2,   20.50,  -999.0,-999.0000,-999.000,-999.000,  6.9961,   0.004
     316N138_5,  P06W,   227,  1,     21,    121,2,19920722,0042,-30.0817, 158.6987, 3195,    894.1,   6.3406,  34.5001,2,  34.4993,2,    181.4,2,    183.2,2,    28.28,2,    27.65,2,     0.00,2,     1.93,2,    0.236,2,    0.121,2, -999.000,9,-999.0000,9,  -999.00,9,   -999.0,9,  -999.00,9,-999.000,9,   2180.3,2,   -999.0,9, -999.00,  -999.0,-999.0000,-999.000,-999.000,  6.2577,-999.000
     316N138_5,  P06W,   227,  1,     20,    515,4,19920722,0042,-30.0817, 158.6987, 3195,    991.2,   5.5330,  34.4649,2,  35.3522,4,    182.5,2,    209.6,4,     4.42,4,     6.70,4,     0.09,4,     0.61,4, -999.000,5, -999.000,5, -999.000,5,   1.8130,2,     0.07,2,   -999.0,9,  -999.00,9,-999.000,9,   -999.0,9,   -999.0,9, -999.00,  -999.0,-999.0000,   0.150,-999.000,  5.4466,-999.000
     316N138_5,  P06W,   227,  1,     19,    120,2,19920722,0042,-30.0817, 158.6987, 3195,   1107.7,   4.7460,  34.4793,2,  34.4781,2,    176.5,2,    173.9,2,    49.62,2,    31.18,2,     0.00,2,     2.18,2,    0.063,2,    0.038,2, -999.000,9,-999.0000,9,  -999.00,9,   -999.0,9,  -999.00,9,-999.000,9,   2214.3,2,   1121.8,2,   20.50,  -999.0,-999.0000,-999.000,-999.000,  4.6550,-999.000
     316N138_5,  P06W,   227,  1,     18,    118,2,19920722,0042,-30.0817, 158.6987, 3195,   1210.5,   4.2367,  34.5062,2,  34.5048,2,    170.9,2,    167.3,2,    61.20,2,    32.36,2,     0.00,2,     2.26,2, -999.000,5, -999.000,5, -999.000,2,   1.9120,2,    11.28,2,   -999.0,9,  -999.00,9,-999.000,9,   2231.9,2,   -999.0,9, -999.00,  -999.0,-999.0000,   0.150,-999.000,  4.1410,-999.000
     316N138_5,  P06W,   227,  1,     17,    514,2,19920722,0042,-30.0817, 158.6987, 3195,   1322.0,   3.7895,  34.5266,2,  34.5250,2,    161.7,2,    159.4,2,    71.34,2,    33.58,2,     0.00,2,     2.34,2,    0.017,2,    0.009,2, -999.000,9,-999.0000,9,  -999.00,9,   -999.0,9,  -999.00,9,-999.000,9,   2247.8,2,   -999.0,9, -999.00,  -999.0,-999.0000,-999.000,-999.000,  3.6883,-999.000
     316N138_5,  P06W,   227,  1,     16,    116,2,19920722,0042,-30.0817, 158.6987, 3195,   1413.7,   3.4780,  34.5467,2,  34.5459,2,    157.2,2,    155.3,2,    78.76,2,    34.18,2,     0.00,2,     2.40,2,    0.010,2,    0.006,2,    0.003,2,   1.7900,2,    15.14,2,   -999.0,9,  -999.00,9,-999.000,9,   2259.3,2,   1193.9,6,   20.50,  -999.0,-999.0000,   0.150,-999.000,  3.3722,   0.002
     316N138_5,  P06W,   227,  1,     15,    115,2,19920722,0042,-30.0817, 158.6987, 3195,   1510.5,   3.1723,  34.5711,2,  34.5714,2,    153.6,2,    152.2,2,    86.19,2,    34.69,2,     0.01,2,     2.44,2, -999.000,5, -999.000,5, -999.000,9,-999.0000,9,  -999.00,9,   -999.0,9,  -999.00,9,-999.000,9,   2269.3,2,   -999.0,9, -999.00,  -999.0,-999.0000,-999.000,-999.000,  3.0617,-999.000
     316N138_5,  P06W,   227,  1,     14,    513,2,19920722,0042,-30.0817, 158.6987, 3195,   1603.2,   2.9153,  34.5954,2,  34.5946,2,    152.4,2,    151.2,2,    91.45,2,    34.88,2,     0.01,2,     2.45,2,    0.003,2,    0.003,2,    0.000,2,   1.9470,2,    17.16,2,   -999.0,9,  -999.00,9,-999.000,9,   2275.9,2,   -999.0,9, -999.00,  -999.0,-999.0000,   0.150,-999.000,  2.7998,   0.002
     316N138_5,  P06W,   227,  1,     13,    125,2,19920722,0042,-30.0817, 158.6987, 3195,   1699.3,   2.7142,  34.6172,2,  34.6164,2,    152.7,2,    152.5,2,    94.73,2,    34.80,2,     0.00,2,     2.44,2,    0.007,2,    0.004,2, -999.000,9,-999.0000,9,  -999.00,9,   -999.0,9,  -999.00,9,-999.000,9,   2278.4,6,   1194.8,2,   20.50,  -999.0,-999.0000,-999.000,-999.000,  2.5931,-999.000
     316N138_5,  P06W,   227,  1,     12,    112,2,19920722,0042,-30.0817, 158.6987, 3195,   1807.3,   2.5301,  34.6382,2,  34.6386,2,    155.6,2,    156.3,2,    95.65,3,    34.55,2,     0.00,2,     2.42,2,    0.003,2,    0.005,2,    0.003,2,   1.9510,2,    16.05,2,   -999.0,9,  -999.00,9,-999.000,9,   2277.3,2,   -999.0,9, -999.00,  -999.0,-999.0000,   0.150,-999.000,  2.4022,   0.002
     316N138_5,  P06W,   227,  1,     11,    129,2,19920722,0042,-30.0817, 158.6987, 3195,   1892.6,   2.4108,  34.6520,2,  34.6508,2,    158.1,2,    157.2,2,    98.74,2,    34.50,2,     0.00,2,     2.41,2,    0.005,2,    0.003,2, -999.000,9,-999.0000,9,  -999.00,9,   -999.0,9,  -999.00,9,-999.000,9,   2280.1,2,   -999.0,9, -999.00,  -999.0,-999.0000,-999.000,-999.000,  2.2773,-999.000
     316N138_5,  P06W,   227,  1,     10,    110,2,19920722,0042,-30.0817, 158.6987, 3195,   1999.0,   2.3072,  34.6670,2,  34.6671,2,    161.7,2,    162.5,2,    97.13,2,    33.94,2,     0.00,2,     2.38,2,   -0.001,2,    0.002,2,    0.001,2,   1.9450,2,    14.78,2,   -999.0,9,  -999.00,9,-999.000,9,   2275.4,2,   1183.0,2,   20.50,  -999.0,-999.0000,   0.150,-999.000,  2.1661,   0.002
     316N138_5,  P06W,   227,  1,      9,    126,2,19920722,0042,-30.0817, 158.6987, 3195,   2096.1,   2.2530,  34.6769,2,  34.6743,2,    164.4,2,    165.5,2,    96.43,2,    33.70,2,     0.00,2,     2.36,2,    0.004,2,    0.000,2, -999.000,9,-999.0000,9,  -999.00,9,   -999.0,9,  -999.00,9,-999.000,9,   2273.4,2,   -999.0,9, -999.00,  -999.0,-999.0000,-999.000,-999.000,  2.1042,-999.000
     316N138_5,  P06W,   227,  1,      8,    108,2,19920722,0042,-30.0817, 158.6987, 3195,   2198.4,   2.1507,  34.6901,2,  34.6885,2,    169.3,2,    170.1,2,    95.55,2,    33.27,2,     0.00,2,     2.32,2,    0.012,4,    0.020,4, -999.000,9,-999.0000,9,  -999.00,9,   -999.0,9,  -999.00,9,-999.000,9,   2269.8,2,   -999.0,9, -999.00,  -999.0,-999.0000,-999.000,-999.000,  1.9946,-999.000
     316N138_5,  P06W,   227,  1,      7,    107,2,19920722,0042,-30.0817, 158.6987, 3195,   2287.7,   2.0798,  34.6989,2,  34.6975,2,    173.1,2,    173.2,2,    95.93,2,    33.04,2,     0.00,2,     2.30,2,    0.002,2,    0.005,2, -999.000,9,-999.0000,9,  -999.00,9,   -999.0,9,  -999.00,9,-999.000,9,   2267.6,2,   1145.0,2,   20.50,  -999.0,-999.0000,-999.000,-999.000,  1.9170,-999.000
     316N138_5,  P06W,   227,  1,      6,    180,2,19920722,0042,-30.0817, 158.6987, 3195,   2385.2,   2.0280,  34.7048,2,  34.7032,2,    175.1,2,    175.4,2,    96.31,2,    32.80,2,     0.00,2,     2.30,2,    0.001,2,    0.000,2, -999.000,9,-999.0000,9,  -999.00,9,   -999.0,9,  -999.00,9,-999.000,9,   2267.2,2,   -999.0,9, -999.00,  -999.0,-999.0000,-999.000,-999.000,  1.8575,-999.000
     316N138_5,  P06W,   227,  1,      5,    131,2,19920722,0042,-30.0817, 158.6987, 3195,   2487.7,   1.9494,  34.7114,2,  34.7111,2,    177.5,2,    178.5,2,    97.05,2,    32.57,2,     0.00,2,     2.28,2,    0.001,2,   -0.003,2, -999.000,9,-999.0000,9,  -999.00,9,   -999.0,9,  -999.00,9,-999.000,9,   2267.5,2,   -999.0,9, -999.00,  -999.0,-999.0000,-999.000,-999.000,  1.7710,-999.000
     316N138_5,  P06W,   227,  1,      4,    516,2,19920722,0042,-30.0817, 158.6987, 3195,   2693.5,   1.8864,  34.7172,2,  34.7170,2,    181.2,2,    180.9,2,    98.34,2,    32.47,2,     0.00,2,     2.28,2,    0.001,2,    0.003,2, -999.000,9,-999.0000,9,  -999.00,9,   -999.0,9,  -999.00,9,-999.000,9,   2265.2,2,   1219.3,3,   20.50,  -999.0,-999.0000,-999.000,-999.000,  1.6902,-999.000
     316N138_5,  P06W,   227,  1,      3,    130,2,19920722,0042,-30.0817, 158.6987, 3195,   2894.3,   1.6895,  34.7211,2,  34.7193,2,    186.3,2,    184.6,2,   103.07,2,    32.37,2,     0.00,2,     2.28,2,   -0.001,2,    0.001,2, -999.000,9,-999.0000,9,  -999.00,9,   -999.0,9,  -999.00,9,-999.000,9,   2266.6,2,   -999.0,9, -999.00,  -999.0,-999.0000,-999.000,-999.000,  1.4784,-999.000
     316N138_5,  P06W,   227,  1,      2,    136,2,19920722,0042,-30.0817, 158.6987, 3195,   3106.1,   1.4996,  34.7227,2,  34.7219,2,    190.2,2,    188.8,2,   107.63,2,    32.37,2,     0.00,2,     2.27,2,    0.000,2,    0.001,2, -999.000,9,-999.0000,9,  -999.00,9,   -999.0,9,  -999.00,9,-999.000,9,   2269.2,2,   -999.0,9, -999.00,  -999.0,-999.0000,-999.000,-999.000,  1.2724,-999.000
     316N138_5,  P06W,   227,  1,      1,    134,2,19920722,0042,-30.0817, 158.6987, 3195,   3229.8,   1.3637,  34.7209,2,  34.7209,2,    192.3,2,    191.3,2,   110.78,2,    32.39,2,    -0.01,2,     2.25,2,    0.003,2,    0.001,2, -999.000,9,-999.0000,9,  -999.00,9,   -999.0,9,  -999.00,9,-999.000,9,   2272.0,6,   1034.7,2,   20.50,  -999.0,-999.0000,-999.000,-999.000,  1.1276,-999.000