BOTTLE,20030219WHPSIOdm
EXPOCODE,SECT_ID,STNNBR,CASTNO,SAMPNO,BTLNBR,BTLNBR_FLAG_W,DATE,TIME,LATITUDE,LONGITUDE,DEPTH,CTDPRS,CTDTMP,CTDSAL,CTDSAL_FLAG_W,SALNTY,SALNTY_FLAG_W,CTDOXY,CTDOXY_FLAG_W,OXYGEN,OXYGEN_FLAG_W,SILCAT,SILCAT_FLAG_W,NITRAT,NITRAT_FLAG_W,NITRIT,NITRIT_FLAG_W,PHSPHT,PHSPHT_FLAG_W,CFC-11,CFC-11_FLAG_W,CFC-12,CFC-12_FLAG_W,TRITUM,TRITUM_FLAG_W,HELIUM,HELIUM_FLAG_W,DELHE3,DELHE3_FLAG_W,DELC14,DELC14_FLAG_W,DELC13,DELC13_FLAG_W,NEON,NEON_FLAG_W,TCARBN,TCARBN_FLAG_W,PCO2,PCO2_FLAG_W,PCO2TMP,C14ERR,HELIER,DELHER,NEONER,THETA,TRITER
,,,,,,,,,,,,DBAR,ITS-90,PSS-78,,PSS-78,,UMOL/KG,,UMOL/KG,,UMOL/KG,,UMOL/KG,,UMOL/KG,,UMOL/KG,,PMOL/KG,,PMOL/KG,,TU,,NMOL/KG,,PERCNT,,/MILLE,,/MILLE,,NMOL/KG,,UMOL/KG,,UATM,,DEG_C,/MILLE,NMOL/KG,PERCNT,NMOL/KG,ITS-90,TU
     316N138_5,  P06W,   223,  1,     12,    112,2,19920721,0548,-30.0847, 160.5053, 1514,     24.3,  18.0854,  35.5480,2,  35.5454,2,    231.9,2,    230.0,2,     0.60,2,     0.88,2,     0.12,2,     0.20,2,    2.347,2,    1.239,2, -999.000,9,-999.0000,9,  -999.00,9,   -999.0,9,  -999.00,9,-999.000,9,   -999.0,9,   -999.0,9, -999.00,  -999.0,-999.0000,-999.000,-999.000, 18.0812,-999.000
     316N138_5,  P06W,   223,  1,     11,    129,2,19920721,0548,-30.0847, 160.5053, 1514,     64.9,  18.0539,  35.5529,2,  35.5480,2,    227.5,2,    228.6,2,     0.77,2,     1.00,2,     0.15,2,     0.22,2,    2.344,2,    1.235,2, -999.000,9,-999.0000,9,  -999.00,9,   -999.0,9,  -999.00,9,-999.000,9,   -999.0,9,   -999.0,9, -999.00,  -999.0,-999.0000,-999.000,-999.000, 18.0427,-999.000
     316N138_5,  P06W,   223,  1,     10,    110,2,19920721,0548,-30.0847, 160.5053, 1514,    114.1,  17.4148,  35.5252,2,  35.5158,2,    212.5,2,    209.6,2,     1.32,2,     3.40,2,     0.04,2,     0.38,2,    2.241,2,    1.187,2, -999.000,9,-999.0000,9,  -999.00,9,   -999.0,9,  -999.00,9,-999.000,9,   -999.0,9,   -999.0,9, -999.00,  -999.0,-999.0000,-999.000,-999.000, 17.3956,-999.000
     316N138_5,  P06W,   223,  1,      9,    126,2,19920721,0548,-30.0847, 160.5053, 1514,    216.0,  15.0631,  35.3481,2,  35.3597,2,    189.0,2,    189.7,2,     2.95,2,     8.69,2,     0.01,2,     0.73,2,    1.979,2,    1.024,2, -999.000,9,-999.0000,9,  -999.00,9,   -999.0,9,  -999.00,9,-999.000,9,   -999.0,9,   -999.0,9, -999.00,  -999.0,-999.0000,-999.000,-999.000, 15.0302,-999.000
     316N138_5,  P06W,   223,  1,      8,    108,2,19920721,0548,-30.0847, 160.5053, 1514,    314.6,  12.8875,  35.1458,2,  35.1449,2,    189.6,2,    190.9,2,     4.58,2,    12.40,2,     0.01,2,     0.98,2,    1.809,2,    0.937,2, -999.000,9,-999.0000,9,  -999.00,9,   -999.0,9,  -999.00,9,-999.000,9,   -999.0,9,   -999.0,9, -999.00,  -999.0,-999.0000,-999.000,-999.000, 12.8442,-999.000
     316N138_5,  P06W,   223,  1,      7,    107,2,19920721,0548,-30.0847, 160.5053, 1514,    463.5,  10.3322,  34.8369,2,  34.8591,3,    190.9,2,    189.3,2,     7.49,2,    17.61,2,     0.01,2,     1.30,2,    1.423,2,    0.720,2, -999.000,9,-999.0000,9,  -999.00,9,   -999.0,9,  -999.00,9,-999.000,9,   -999.0,9,   -999.0,9, -999.00,  -999.0,-999.0000,-999.000,-999.000, 10.2767,-999.000
     316N138_5,  P06W,   223,  1,      6,    180,2,19920721,0548,-30.0847, 160.5053, 1514,    615.7,   8.5101,  34.6465,2,  34.6378,2,    190.2,2,    190.0,2,    12.77,2,    22.42,2,     0.00,2,     1.60,2,    0.894,2,    0.450,2, -999.000,9,-999.0000,9,  -999.00,9,   -999.0,9,  -999.00,9,-999.000,9,   -999.0,9,   -999.0,9, -999.00,  -999.0,-999.0000,-999.000,-999.000,  8.4441,-999.000
     316N138_5,  P06W,   223,  1,      5,    131,2,19920721,0548,-30.0847, 160.5053, 1514,    816.3,   6.4964,  34.4995,2,  34.4954,2,    187.3,2,    186.1,2,    25.34,2,    27.12,2,     0.00,2,     1.91,2,    0.261,2,    0.145,2, -999.000,9,-999.0000,9,  -999.00,9,   -999.0,9,  -999.00,9,-999.000,9,   -999.0,9,   -999.0,9, -999.00,  -999.0,-999.0000,-999.000,-999.000,  6.4203,-999.000
     316N138_5,  P06W,   223,  1,      4,    516,2,19920721,0548,-30.0847, 160.5053, 1514,   1015.1,   5.1044,  34.4689,3,  34.4824,2,    179.2,2,    178.5,2,    42.09,2,    30.08,2,     0.00,2,     2.13,2,    0.114,2,    0.069,2, -999.000,9,-999.0000,9,  -999.00,9,   -999.0,9,  -999.00,9,-999.000,9,   -999.0,9,   -999.0,9, -999.00,  -999.0,-999.0000,-999.000,-999.000,  5.0190,-999.000
     316N138_5,  P06W,   223,  1,      3,    130,2,19920721,0548,-30.0847, 160.5053, 1514,   1219.9,   3.9672,  34.5192,2,  34.5174,2,    165.2,2,    162.7,2,    67.22,2,    33.14,2,    -0.01,2,     2.34,2,    0.021,2,    0.017,2, -999.000,9,-999.0000,9,  -999.00,9,   -999.0,9,  -999.00,9,-999.000,9,   -999.0,9,   -999.0,9, -999.00,  -999.0,-999.0000,-999.000,-999.000,  3.8733,-999.000
     316N138_5,  P06W,   223,  1,      2,    136,2,19920721,0548,-30.0847, 160.5053, 1514,   1421.3,   3.2242,  34.5709,2,  34.5690,2,    154.2,2,    152.6,2,    85.61,2,    34.63,2,    -0.01,2,     2.46,2,    0.004,2,    0.007,2, -999.000,9,-999.0000,9,  -999.00,9,   -999.0,9,  -999.00,9,-999.000,9,   -999.0,9,   -999.0,9, -999.00,  -999.0,-999.0000,-999.000,-999.000,  3.1205,-999.000
     316N138_5,  P06W,   223,  1,      1,    134,2,19920721,0548,-30.0847, 160.5053, 1514,   1525.2,   2.8928,  34.6003,2,  34.6011,2,    151.3,2,    150.4,2,    94.21,2,    34.83,2,     0.00,2,     2.49,2,    0.005,2,    0.002,2, -999.000,9,-999.0000,9,  -999.00,9,   -999.0,9,  -999.00,9,-999.000,9,   -999.0,9,   -999.0,9, -999.00,  -999.0,-999.0000,-999.000,-999.000,  2.7840,-999.000
     316N138_5,  P06W,   224,  1,     13,    112,2,19920721,1003,-30.0835, 160.0237, 1615,     24.2,  18.0620,  35.5510,2,  35.5492,2,    243.8,2,    226.7,2,     1.02,2,     1.42,2,     0.14,2,     0.24,2, -999.000,5, -999.000,5, -999.000,9,-999.0000,9,  -999.00,9,    110.6,6,     1.31,6,-999.000,9,   -999.0,9,   -999.0,9, -999.00,     4.4,-999.0000,-999.000,-999.000, 18.0578,-999.000
     316N138_5,  P06W,   224,  1,     12,    129,2,19920721,1003,-30.0835, 160.0237, 1615,     58.8,  18.0690,  35.5507,2,  35.5492,2,    231.9,2,    226.2,2,     1.02,2,     1.37,2,     0.14,2,     0.26,2, -999.000,5, -999.000,5,    0.873,2,   1.7870,2,    -1.09,2,    111.6,2,     1.31,2,-999.000,9,   -999.0,9,   -999.0,9, -999.00,     5.9,-999.0000,   0.150,-999.000, 18.0589,   0.005
     316N138_5,  P06W,   224,  1,     11,    110,3,19920721,1003,-30.0835, 160.0237, 1615,    107.3,  17.9331,  35.5481,2,  35.5482,2,    225.8,2,    216.6,2,     1.20,2,     2.29,2,     0.14,2,     0.32,2, -999.000,5, -999.000,5,    0.815,2,   1.7800,2,    -1.22,2,    110.5,2,     1.31,2,-999.000,9,   -999.0,9,   -999.0,9, -999.00,     3.0,-999.0000,   0.150,-999.000, 17.9147,   0.005
     316N138_5,  P06W,   224,  1,     10,    126,2,19920721,1003,-30.0835, 160.0237, 1615,    306.6,  13.4645,  35.2177,2,  35.2278,2,    196.2,2,    196.7,2,     3.92,2,    10.61,2,     0.01,2,     0.86,2, -999.000,5, -999.000,5,    0.774,2,   1.7770,2,    -1.04,2,     66.6,6,     1.07,6,-999.000,9,   -999.0,9,   -999.0,9, -999.00,     2.1,-999.0000,   0.150,-999.000, 13.4211,   0.005
     316N138_5,  P06W,   224,  1,      9,    108,2,19920721,1003,-30.0835, 160.0237, 1615,    402.2,  11.5155,  34.9817,2,  34.9935,2,    194.2,2,    189.8,2,     6.11,2,    15.21,2,     0.01,2,     1.15,2, -999.000,5, -999.000,5,    0.567,2,   1.8070,2,     0.01,2,     33.0,2,     1.10,2,-999.000,9,   -999.0,9,   -999.0,9, -999.00,     3.0,-999.0000,   0.150,-999.000, 11.4640,   0.004
     316N138_5,  P06W,   224,  1,      8,    107,2,19920721,1003,-30.0835, 160.0237, 1615,    498.6,   9.6879,  34.7616,2,  34.7655,2,    192.5,2,    194.2,2,     8.65,2,    19.22,2,     0.00,2,     1.40,2, -999.000,5, -999.000,5,    0.418,2,   1.8150,2,     0.65,2,     12.1,2,     1.11,2,-999.000,9,   -999.0,9,   -999.0,9, -999.00,     3.4,-999.0000,   0.150,-999.000,  9.6304,   0.004
     316N138_5,  P06W,   224,  1,      7,    180,2,19920721,1003,-30.0835, 160.0237, 1615,    681.1,   7.6344,  34.5625,2,  34.5622,2,    189.6,2,    188.6,2,    17.03,2,    24.26,2,     0.00,2,     1.74,2, -999.000,5, -999.000,5,    0.328,2,   1.8280,2,     0.93,2,    -42.1,6,     1.08,6,-999.000,9,   -999.0,9,   -999.0,9, -999.00,     2.6,-999.0000,   0.150,-999.000,  7.5656,   0.003
     316N138_5,  P06W,   224,  1,      6,    131,2,19920721,1003,-30.0835, 160.0237, 1615,    859.1,   6.2298,  34.4921,2,  34.4964,2,    182.9,2,    183.1,2,    29.42,2,    27.55,2,     0.00,2,     1.96,2, -999.000,5, -999.000,5,    0.150,2,   1.8530,2,     2.43,2,    -91.7,2,     0.93,2,-999.000,9,   -999.0,9,   -999.0,9, -999.00,     3.3,-999.0000,   0.150,-999.000,  6.1511,   0.002
     316N138_5,  P06W,   224,  1,      5,    516,2,19920721,1003,-30.0835, 160.0237, 1615,   1032.5,   4.9773,  34.4738,2,  34.4748,2,    176.9,2,    176.3,2,    45.63,2,    30.22,2,     0.01,2,     2.15,2, -999.000,5, -999.000,5, -999.000,2,   1.8660,2,     4.73,2,   -120.2,2,     0.77,2,-999.000,9,   -999.0,9,   -999.0,9, -999.00,     2.6,-999.0000,   0.150,-999.000,  4.8913,-999.000
     316N138_5,  P06W,   224,  1,      4,    130,2,19920721,1003,-30.0835, 160.0237, 1615,   1203.8,   4.1088,  34.5076,2,  34.5087,2,    165.3,2,    164.7,2,    63.85,2,    32.40,2,     0.00,2,     2.31,2, -999.000,5, -999.000,5,    0.026,2,   1.8930,2,     8.14,2,   -154.0,6,     0.60,6,-999.000,9,   -999.0,9,   -999.0,9, -999.00,     2.9,-999.0000,   0.150,-999.000,  4.0149,   0.002
     316N138_5,  P06W,   224,  1,      3,    136,2,19920721,1003,-30.0835, 160.0237, 1615,   1389.0,   3.3185,  34.5635,2,  34.5616,2,    154.4,2,    153.8,2,    83.88,2,    33.98,2,     0.01,2,     2.42,2, -999.000,5, -999.000,5,    0.016,2,   1.9120,2,    12.43,2,   -170.4,2,     0.42,2,-999.000,9,   -999.0,9,   -999.0,9, -999.00,     2.5,-999.0000,   0.150,-999.000,  3.2164,   0.003
     316N138_5,  P06W,   224,  1,      2,    134,2,19920721,1003,-30.0835, 160.0237, 1615,   1624.6,   2.7031,  34.6175,2,  34.6193,2,    150.2,2,    149.9,2,    97.82,2,    34.81,2,     0.01,2,     2.45,2, -999.000,5, -999.000,5,   -0.001,2,   1.9390,2,    16.51,2,   -181.4,2,     0.15,2,-999.000,9,   -999.0,9,   -999.0,9, -999.00,     2.4,-999.0000,   0.150,-999.000,  2.5883,   0.002
     316N138_5,  P06W,   225,  1,     23,    123,2,19920721,1440,-30.0847, 159.5123, 2680,     18.2,  18.4075,  35.5581,2,-999.0000,9,    225.0,2,   -999.0,9,  -999.00,9,  -999.00,9,  -999.00,9,  -999.00,9, -999.000,5, -999.000,5, -999.000,9,-999.0000,9,  -999.00,9,   -999.0,9,  -999.00,9,-999.000,9,   -999.0,9,   -999.0,9, -999.00,  -999.0,-999.0000,-999.000,-999.000, 18.4043,-999.000
     316N138_5,  P06W,   225,  1,     24,    132,2,19920721,1440,-30.0847, 159.5123, 2680,     18.4,  18.4100,  35.5598,2,-999.0000,9,    225.0,2,   -999.0,9,  -999.00,9,  -999.00,9,  -999.00,9,  -999.00,9, -999.000,5, -999.000,5, -999.000,9,-999.0000,9,  -999.00,9,   -999.0,9,  -999.00,9,-999.000,9,   -999.0,9,   -999.0,9, -999.00,  -999.0,-999.0000,-999.000,-999.000, 18.4068,-999.000
     316N138_5,  P06W,   225,  1,     22,    128,2,19920721,1440,-30.0847, 159.5123, 2680,     18.8,  18.4080,  35.5590,2,  35.5596,2,    225.0,2,    223.7,2,     1.16,2,     1.54,2,     0.17,2,     0.22,2,    2.298,2,    1.231,2, -999.000,9,-999.0000,9,  -999.00,9,   -999.0,9,  -999.00,9,-999.000,9,   2021.0,6,    352.1,2,   20.30,  -999.0,-999.0000,-999.000,-999.000, 18.4047,-999.000
     316N138_5,  P06W,   225,  1,     21,    121,3,19920721,1440,-30.0847, 159.5123, 2680,     60.4,  18.4051,  35.5578,2,-999.0000,9,    225.6,2,   -999.0,9,     1.16,2,     1.62,2,     0.18,2,     0.24,2, -999.000,5, -999.000,5, -999.000,9,-999.0000,9,  -999.00,9,   -999.0,9,  -999.00,9,-999.000,9,   -999.0,9,   -999.0,9, -999.00,  -999.0,-999.0000,-999.000,-999.000, 18.3946,-999.000
     316N138_5,  P06W,   225,  1,     20,    515,2,19920721,1440,-30.0847, 159.5123, 2680,    110.0,  18.1525,  35.5715,2,  35.5736,2,    224.4,2,    224.5,2,     0.97,2,     1.39,2,     0.21,2,     0.24,2,    2.297,6,    1.255,6, -999.000,9,-999.0000,9,  -999.00,9,   -999.0,9,  -999.00,9,-999.000,9,   2025.3,2,   -999.0,9, -999.00,  -999.0,-999.0000,-999.000,-999.000, 18.1335,-999.000
     316N138_5,  P06W,   225,  1,     19,    120,3,19920721,1440,-30.0847, 159.5123, 2680,    157.7,  17.5198,  35.5287,2,-999.0000,9,    204.4,2,   -999.0,9,     1.14,2,     2.21,2,     0.18,2,     0.29,2, -999.000,5, -999.000,5, -999.000,9,-999.0000,9,  -999.00,9,   -999.0,9,  -999.00,9,-999.000,9,   -999.0,9,   -999.0,9, -999.00,  -999.0,-999.0000,-999.000,-999.000, 17.4931,-999.000
     316N138_5,  P06W,   225,  1,     18,    118,2,19920721,1440,-30.0847, 159.5123, 2680,    203.0,  16.1805,  35.4288,2,  35.4316,2,    194.9,2,    222.3,4,     2.58,2,     7.32,2,     0.02,2,     0.62,2,    2.009,2,    1.067,2, -999.000,9,-999.0000,9,  -999.00,9,   -999.0,9,  -999.00,9,-999.000,9,   2073.0,2,   -999.0,9, -999.00,  -999.0,-999.0000,-999.000,-999.000, 16.1480,-999.000
     316N138_5,  P06W,   225,  1,     17,    514,2,19920721,1440,-30.0847, 159.5123, 2680,    254.2,  15.2180,  35.3439,2,  35.3683,2,    192.4,2,    195.0,2,     2.93,2,     8.45,2,     0.01,2,     0.70,2,    2.059,2,    1.084,2, -999.000,9,-999.0000,9,  -999.00,9,   -999.0,9,  -999.00,9,-999.000,9,   2081.4,2,    502.5,2,   20.30,  -999.0,-999.0000,-999.000,-999.000, 15.1791,-999.000
     316N138_5,  P06W,   225,  1,     16,    116,2,19920721,1440,-30.0847, 159.5123, 2680,    301.7,  13.8857,  35.2446,2,  35.2456,2,    191.4,2,    191.4,2,     4.01,2,    11.02,2,     0.01,2,     0.88,2,    1.885,2,    0.975,2, -999.000,9,-999.0000,9,  -999.00,9,   -999.0,9,  -999.00,9,-999.000,9,   2097.9,2,   -999.0,9, -999.00,  -999.0,-999.0000,-999.000,-999.000, 13.8421,-999.000
     316N138_5,  P06W,   225,  1,     15,    115,2,19920721,1440,-30.0847, 159.5123, 2680,    395.2,  12.3470,  35.0905,2,  35.0892,2,    197.0,2,    193.5,2,     5.09,2,    13.45,2,     0.01,2,     1.03,2,    1.796,2,    0.918,2, -999.000,9,-999.0000,9,  -999.00,9,   -999.0,9,  -999.00,9,-999.000,9,   2111.9,2,    604.3,2,   20.30,  -999.0,-999.0000,-999.000,-999.000, 12.2940,-999.000
     316N138_5,  P06W,   225,  1,     14,    513,2,19920721,1440,-30.0847, 159.5123, 2680,    491.2,  10.4814,  34.8566,2,  34.8558,2,    191.7,2,    190.2,2,     7.61,2,    17.82,2,     0.00,2,     1.30,2,    1.442,2,    0.724,2, -999.000,9,-999.0000,9,  -999.00,9,   -999.0,9,  -999.00,9,-999.000,9,   2130.7,2,   -999.0,9, -999.00,  -999.0,-999.0000,-999.000,-999.000, 10.4219,-999.000
     316N138_5,  P06W,   225,  1,     13,    125,2,19920721,1440,-30.0847, 159.5123, 2680,    590.6,   8.9817,  34.6733,2,  34.6824,2,    194.8,2,    192.8,2,    10.67,2,    21.02,2,     0.00,2,     1.51,2,    1.162,2,    0.597,2, -999.000,9,-999.0000,9,  -999.00,9,   -999.0,9,  -999.00,9,-999.000,9,   2141.9,6,    760.3,2,   20.30,  -999.0,-999.0000,-999.000,-999.000,  8.9165,-999.000
     316N138_5,  P06W,   225,  1,     12,    112,2,19920721,1440,-30.0847, 159.5123, 2680,    683.7,   7.7448,  34.5611,2,  34.5661,2,    189.6,2,    190.6,2,    15.73,2,    23.87,2,     0.00,2,     1.69,2,    0.529,2,    0.278,2, -999.000,9,-999.0000,9,  -999.00,9,   -999.0,9,  -999.00,9,-999.000,9,   2154.5,2,   -999.0,9, -999.00,  -999.0,-999.0000,-999.000,-999.000,  7.6753,-999.000
     316N138_5,  P06W,   225,  1,     11,    129,2,19920721,1440,-30.0847, 159.5123, 2680,    782.0,   7.0046,  34.5104,2,  34.5089,2,    189.7,2,    191.6,2,    19.89,2,    25.56,2,     0.00,2,     1.80,2,    0.346,2,    0.184,2, -999.000,9,-999.0000,9,  -999.00,9,   -999.0,9,  -999.00,9,-999.000,9,   2163.5,2,    882.2,2,   20.30,  -999.0,-999.0000,-999.000,-999.000,  6.9288,-999.000
     316N138_5,  P06W,   225,  1,     10,    110,2,19920721,1440,-30.0847, 159.5123, 2680,    877.4,   6.2966,  34.4857,2,  34.4848,2,    187.3,2,    185.4,2,    27.11,2,    27.44,2,     0.00,2,     1.94,2,    0.221,2,    0.124,2, -999.000,9,-999.0000,9,  -999.00,9,   -999.0,9,  -999.00,9,-999.000,9,   2178.4,2,   -999.0,9, -999.00,  -999.0,-999.0000,-999.000,-999.000,  6.2157,-999.000
     316N138_5,  P06W,   225,  1,      9,    126,2,19920721,1440,-30.0847, 159.5123, 2680,   1081.4,   4.9565,  34.4756,2,  34.4742,2,    176.4,2,    175.6,2,    45.74,2,    30.52,2,     0.00,2,     2.15,2,    0.075,2,    0.040,2, -999.000,9,-999.0000,9,  -999.00,9,   -999.0,9,  -999.00,9,-999.000,9,   2209.3,2,   1030.3,6,   20.30,  -999.0,-999.0000,-999.000,-999.000,  4.8662,-999.000
     316N138_5,  P06W,   225,  1,      8,    108,2,19920721,1440,-30.0847, 159.5123, 2680,   1274.1,   4.0616,  34.5107,2,  34.5109,2,    165.3,2,    163.9,2,    65.09,2,    32.78,2,     0.00,2,     2.30,2,    0.025,2,    0.014,2, -999.000,9,-999.0000,9,  -999.00,9,   -999.0,9,  -999.00,9,-999.000,9,   2239.2,2,   -999.0,9, -999.00,  -999.0,-999.0000,-999.000,-999.000,  3.9620,-999.000
     316N138_5,  P06W,   225,  1,      7,    107,2,19920721,1440,-30.0847, 159.5123, 2680,   1465.1,   3.4174,  34.5532,2,  34.5547,2,    155.9,2,    155.3,2,    81.19,2,    33.95,2,     0.00,2,     2.40,2,    0.009,2,    0.008,2, -999.000,9,-999.0000,9,  -999.00,9,   -999.0,9,  -999.00,9,-999.000,9,   2261.1,2,   1170.0,2,   20.30,  -999.0,-999.0000,-999.000,-999.000,  3.3079,-999.000
     316N138_5,  P06W,   225,  1,      6,    180,2,19920721,1440,-30.0847, 159.5123, 2680,   1662.2,   2.8165,  34.6077,2,  34.6066,2,    152.4,2,    151.2,2,    94.74,2,    34.69,2,     0.00,2,     2.46,2,    0.003,2,   -0.001,2, -999.000,9,-999.0000,9,  -999.00,9,   -999.0,9,  -999.00,9,-999.000,9,   2278.9,2,   -999.0,9, -999.00,  -999.0,-999.0000,-999.000,-999.000,  2.6972,-999.000
     316N138_5,  P06W,   225,  1,      5,    131,2,19920721,1440,-30.0847, 159.5123, 2680,   1858.0,   2.3333,  34.6613,2,  34.6627,2,    160.1,2,    161.4,2,    97.45,2,    33.94,2,     0.00,2,     2.39,2,    0.003,2,    0.001,2, -999.000,9,-999.0000,9,  -999.00,9,   -999.0,9,  -999.00,9,-999.000,9,   2276.9,2,   1182.7,2,   20.30,  -999.0,-999.0000,-999.000,-999.000,  2.2038,-999.000
     316N138_5,  P06W,   225,  1,      4,    516,2,19920721,1440,-30.0847, 159.5123, 2680,   2060.9,   2.1492,  34.6871,2,  34.6857,2,    169.6,2,    169.9,2,    96.17,2,    33.18,2,     0.00,2,     2.33,2,    0.006,2,    0.000,2, -999.000,9,-999.0000,9,  -999.00,9,   -999.0,9,  -999.00,9,-999.000,9,   2271.5,2,   -999.0,9, -999.00,  -999.0,-999.0000,-999.000,-999.000,  2.0051,-999.000
     316N138_5,  P06W,   225,  1,      3,    130,2,19920721,1440,-30.0847, 159.5123, 2680,   2276.6,   2.0810,  34.6968,2,  34.6960,2,    172.4,2,    173.4,2,    96.53,2,    32.89,2,     0.00,2,     2.30,2,    0.007,2,    0.012,4, -999.000,9,-999.0000,9,  -999.00,9,   -999.0,9,  -999.00,9,-999.000,9,   2268.3,2,   1128.3,2,   20.30,  -999.0,-999.0000,-999.000,-999.000,  1.9192,-999.000
     316N138_5,  P06W,   225,  1,      2,    136,2,19920721,1440,-30.0847, 159.5123, 2680,   2473.9,   1.9481,  34.7070,2,  34.7077,2,    177.8,2,    177.3,2,    98.15,2,    32.56,2,     0.00,2,     2.28,2,    0.002,2,   -0.001,2, -999.000,9,-999.0000,9,  -999.00,9,   -999.0,9,  -999.00,9,-999.000,9,   2267.1,2,   -999.0,9, -999.00,  -999.0,-999.0000,-999.000,-999.000,  1.7709,-999.000
     316N138_5,  P06W,   225,  1,      1,    134,2,19920721,1440,-30.0847, 159.5123, 2680,   2709.7,   1.8794,  34.7122,2,  34.7125,2,    180.5,2,    179.9,2,    99.34,2,    32.52,2,     0.00,2,     2.26,2,    0.003,2,   -0.001,2, -999.000,9,-999.0000,9,  -999.00,9,   -999.0,9,  -999.00,9,-999.000,9,   2268.0,6,   1140.2,2,   20.30,  -999.0,-999.0000,-999.000,-999.000,  1.6819,-999.000