BOTTLE,20030219WHPSIOdm
EXPOCODE,SECT_ID,STNNBR,CASTNO,SAMPNO,BTLNBR,BTLNBR_FLAG_W,DATE,TIME,LATITUDE,LONGITUDE,DEPTH,CTDPRS,CTDTMP,CTDSAL,CTDSAL_FLAG_W,SALNTY,SALNTY_FLAG_W,CTDOXY,CTDOXY_FLAG_W,OXYGEN,OXYGEN_FLAG_W,SILCAT,SILCAT_FLAG_W,NITRAT,NITRAT_FLAG_W,NITRIT,NITRIT_FLAG_W,PHSPHT,PHSPHT_FLAG_W,CFC-11,CFC-11_FLAG_W,CFC-12,CFC-12_FLAG_W,TRITUM,TRITUM_FLAG_W,HELIUM,HELIUM_FLAG_W,DELHE3,DELHE3_FLAG_W,DELC14,DELC14_FLAG_W,DELC13,DELC13_FLAG_W,NEON,NEON_FLAG_W,TCARBN,TCARBN_FLAG_W,PCO2,PCO2_FLAG_W,PCO2TMP,C14ERR,HELIER,DELHER,NEONER,THETA,TRITER
,,,,,,,,,,,,DBAR,ITS-90,PSS-78,,PSS-78,,UMOL/KG,,UMOL/KG,,UMOL/KG,,UMOL/KG,,UMOL/KG,,UMOL/KG,,PMOL/KG,,PMOL/KG,,TU,,NMOL/KG,,PERCNT,,/MILLE,,/MILLE,,NMOL/KG,,UMOL/KG,,UATM,,DEG_C,/MILLE,NMOL/KG,PERCNT,NMOL/KG,ITS-90,TU
     316N138_5,  P06W,   205,  1,     24,    132,2,19920717,2029,-30.0822, 169.9975, 2939,      9.0,  18.4189,  35.6635,2,  35.6619,2,    227.4,2,    227.4,2,     0.61,2,     0.68,2,     0.16,2,     0.19,2,    2.353,2,    1.322,2, -999.000,9,   1.8030,2,    -1.29,2,    109.6,2,     1.31,2,-999.000,9,   2027.6,6,    349.1,2,   20.40,     3.4,-999.0000,   0.150,-999.000, 18.4173,-999.000
     316N138_5,  P06W,   205,  1,     23,    123,2,19920717,2029,-30.0822, 169.9975, 2939,     49.9,  18.4305,  35.6632,2,  35.6613,2,    227.8,2,    227.5,2,     0.61,2,     0.68,2,     0.16,2,     0.20,2,    2.348,2,    1.227,2,    0.934,2,   1.7970,2,    -1.50,2,    114.7,2,     1.33,2,-999.000,9,   2027.2,2,   -999.0,9, -999.00,     3.7,-999.0000,   0.150,-999.000, 18.4218,   0.005
     316N138_5,  P06W,   205,  1,     22,    128,2,19920717,2029,-30.0822, 169.9975, 2939,     99.5,  18.4114,  35.6598,2,  35.6603,2,    225.6,2,    227.0,2,     0.81,2,     0.73,2,     0.16,2,     0.21,2,    2.369,2,    1.254,2,    0.871,2,   1.7910,2,    -1.25,2,    101.4,2,     1.32,2,-999.000,9,   2029.0,2,    352.6,6,   20.40,     3.3,-999.0000,   0.150,-999.000, 18.3940,   0.005
     316N138_5,  P06W,   205,  1,     21,    121,2,19920717,2029,-30.0822, 169.9975, 2939,    149.4,  18.2314,  35.6217,2,  35.6451,2,    226.7,2,    224.2,2,     1.00,2,     1.16,2,     0.14,2,     0.24,2,    2.336,6,    1.259,6, -999.000,9,-999.0000,9,  -999.00,9,    116.7,2,     1.29,2,-999.000,9,   2031.2,2,   -999.0,9, -999.00,     3.3,-999.0000,-999.000,-999.000, 18.2054,-999.000
     316N138_5,  P06W,   205,  1,     20,    515,2,19920717,2029,-30.0822, 169.9975, 2939,    199.2,  16.7898,  35.5115,2,  35.4943,2,    211.5,2,    196.9,2,     1.76,2,     5.84,2,     0.01,2,     0.55,2,    2.147,2,    1.150,2,    0.744,2,   1.8000,2,    -0.41,2,    107.7,2,     1.13,2,-999.000,9,   2066.6,2,   -999.0,9, -999.00,     3.5,-999.0000,   0.150,-999.000, 16.7571,   0.005
     316N138_5,  P06W,   205,  1,     19,    120,2,19920717,2029,-30.0822, 169.9975, 2939,    250.3,  15.6702,  35.3946,2,  35.4082,2,    196.7,2,    194.1,2,     2.32,2,     7.55,2,     0.01,2,     0.66,2,    2.049,2,    1.087,2,    0.556,2,   1.8030,2,    -0.16,2,    101.8,2,     1.10,2,-999.000,9,   2078.3,2,    475.3,2,   20.40,     3.7,-999.0000,   0.150,-999.000, 15.6310,   0.004
     316N138_5,  P06W,   205,  1,     18,    118,2,19920717,2029,-30.0822, 169.9975, 2939,    300.0,  14.7661,  35.3207,2,  35.3198,2,    194.4,2,    193.6,2,     4.95,2,     9.13,2,     0.00,2,     0.76,2,    1.975,2,    1.044,2,    0.516,2,   1.8460,2,     0.08,2,     82.4,2,     1.09,2,-999.000,9,   2088.8,2,   -999.0,9, -999.00,     3.4,-999.0000,   0.150,-999.000, 14.7209,   0.004
     316N138_5,  P06W,   205,  1,     17,    514,2,19920717,2029,-30.0822, 169.9975, 2939,    349.5,  13.7932,  35.2463,2,  35.2253,2,    195.1,2,    192.9,2,     5.52,2,    10.85,2,     0.00,2,     0.88,2,    1.911,2,    0.970,2, -999.000,9,-999.0000,9,  -999.00,9,     71.2,2,     1.07,2,-999.000,9,   2098.9,6,   -999.0,9, -999.00,     3.4,-999.0000,-999.000,-999.000, 13.7428,-999.000
     316N138_5,  P06W,   205,  1,     16,    116,2,19920717,2029,-30.0822, 169.9975, 2939,    399.6,  13.0639,  35.1429,2,  35.1553,2,    193.2,2,    192.6,2,     4.58,2,    12.16,2,     0.00,2,     0.98,2,    1.845,2,    0.936,2,    0.445,2,   1.8530,2,     0.40,2,     62.6,2,     1.08,2,-999.000,9,   2106.8,2,    587.0,6,   20.40,     3.8,-999.0000,   0.150,-999.000, 13.0082,   0.004
     316N138_5,  P06W,   205,  1,     15,    115,2,19920717,2029,-30.0822, 169.9975, 2939,    499.3,  11.5792,  34.9674,2,  34.9839,2,    191.4,2,    189.3,2,     6.28,2,    15.41,2,    -0.01,2,     1.17,2,    1.473,2,    0.755,2,    0.358,2,   1.8300,2,     1.04,2,     34.4,2,     1.07,2,-999.000,9,   2121.1,2,   -999.0,9, -999.00,     3.1,-999.0000,   0.150,-999.000, 11.5148,   0.003
     316N138_5,  P06W,   205,  1,     14,    513,2,19920717,2029,-30.0822, 169.9975, 2939,    600.8,   9.3270,  34.7282,2,  34.7260,2,    194.5,2,    192.1,2,    10.40,2,    20.10,2,     0.00,2,     1.47,2,    0.974,2,    0.502,2,    0.263,2,   1.8590,2,     1.67,2,     -7.1,2,     1.06,2,-999.000,9,   2140.0,2,   -999.0,9, -999.00,     4.4,-999.0000,   0.150,-999.000,  9.2590,   0.004
     316N138_5,  P06W,   205,  1,     13,    125,2,19920717,2029,-30.0822, 169.9975, 2939,    700.9,   8.3127,  34.6264,2,  34.6272,2,    193.7,2,    193.7,2,    13.98,2,    22.33,2,     0.00,2,     1.62,2,    0.754,2,    0.385,2,    0.173,2,   1.8370,2,     2.14,2,    -20.0,2,     1.04,2,-999.000,9,   2149.3,2,    816.0,2,   20.40,     4.0,-999.0000,   0.150,-999.000,  8.2383,   0.003
     316N138_5,  P06W,   205,  1,     12,    112,2,19920717,2029,-30.0822, 169.9975, 2939,    801.2,   7.4342,  34.5637,2,  34.5732,2,    190.7,2,    191.0,2,    18.85,2,    24.24,2,     0.00,2,     1.76,2,    0.559,2,    0.292,2,    0.153,2,   1.8480,2,     2.92,2,    -44.0,2,     1.03,2,-999.000,9,   2160.8,2,   -999.0,9, -999.00,     3.1,-999.0000,   0.150,-999.000,  7.3539,   0.002
     316N138_5,  P06W,   205,  1,     11,    129,2,19920717,2029,-30.0822, 169.9975, 2939,   1003.5,   5.5937,  34.4869,2,  34.4915,2,    182.3,2,    182.8,2,    37.24,2,    28.69,2,     0.00,2,     2.07,2,    0.203,2,    0.114,2,    0.054,2,   1.8870,2,     6.71,2,    -96.1,2,     0.81,2,-999.000,9,   2194.5,2,   -999.0,9, -999.00,     3.2,-999.0000,   0.150,-999.000,  5.5056,   0.002
     316N138_5,  P06W,   205,  1,     10,    110,2,19920717,2029,-30.0822, 169.9975, 2939,   1204.7,   4.4119,  34.4904,2,  34.4901,2,    172.8,2,    174.1,2,    55.25,2,    31.31,2,     0.00,2,     2.26,2,    0.074,2,    0.040,2,    0.019,2,   1.9050,2,     9.80,2,   -130.9,2,     0.66,2,-999.000,9,   2222.3,2,   1099.2,2,   20.40,     3.0,-999.0000,   0.150,-999.000,  4.3153,   0.002
     316N138_5,  P06W,   205,  1,      9,    126,2,19920717,2029,-30.0822, 169.9975, 2939,   1405.0,   3.5870,  34.5430,2,  34.5360,2,    164.9,2,    165.7,2,    73.45,2,    32.73,2,     0.00,2,     2.37,2,    0.032,2,    0.020,2,    0.004,2,   1.9230,2,    13.53,2,   -149.2,2,     0.53,2,-999.000,9,   2249.9,2,   -999.0,9, -999.00,     3.6,-999.0000,   0.150,-999.000,  3.4809,   0.002
     316N138_5,  P06W,   205,  1,      8,    108,2,19920717,2029,-30.0822, 169.9975, 2939,   1598.4,   3.1267,  34.5675,2,  34.5696,2,    160.5,2,    160.9,2,    86.40,2,    33.48,2,     0.00,2,     2.42,2,    0.019,2,    0.012,2,    0.007,2,   1.9400,2,    15.76,2,   -169.7,2,     0.41,2,-999.000,9,   2265.6,2,   -999.0,9, -999.00,     3.4,-999.0000,   0.150,-999.000,  3.0091,   0.002
     316N138_5,  P06W,   205,  1,      7,    107,2,19920717,2029,-30.0822, 169.9975, 2939,   1801.6,   2.6451,  34.6116,2,  34.6128,2,    156.0,2,    156.6,2,   101.59,2,    34.18,2,     0.00,2,     2.47,2,    0.010,2,    0.005,2, -999.000,9,-999.0000,9,  -999.00,9,   -182.6,2,     0.28,2,-999.000,9,   2282.4,2,   1185.0,2,   20.40,     2.7,-999.0000,-999.000,-999.000,  2.5162,-999.000
     316N138_5,  P06W,   205,  1,      6,    180,2,19920717,2029,-30.0822, 169.9975, 2939,   2004.2,   2.3781,  34.6329,2,  34.6323,2,    154.8,2,    155.4,2,   108.91,2,    34.44,2,     0.00,2,     2.49,2,    0.004,2,    0.002,2,    0.000,2,   1.9610,2,    18.81,2,   -189.9,2,     0.26,2,-999.000,9,   2293.3,2,   -999.0,9, -999.00,     2.7,-999.0000,   0.150,-999.000,  2.2356,   0.002
     316N138_5,  P06W,   205,  1,      5,    131,2,19920717,2029,-30.0822, 169.9975, 2939,   2206.2,   2.1761,  34.6477,2,  34.6486,2,    153.7,2,    154.4,2,   114.17,2,    34.74,2,     0.00,2,     2.52,2,    0.004,2,    0.004,2, -999.000,9,-999.0000,9,  -999.00,9,   -196.1,2,     0.24,2,-999.000,9,   2297.5,2,   -999.0,9, -999.00,     2.7,-999.0000,-999.000,-999.000,  2.0191,-999.000
     316N138_5,  P06W,   205,  1,      4,    516,2,19920717,2029,-30.0822, 169.9975, 2939,   2399.1,   2.0448,  34.6590,2,  34.6620,2,    153.8,2,    154.6,2,   117.92,2,    34.79,2,     0.00,2,     2.52,2, -999.000,5, -999.000,5, -999.000,9,-999.0000,9,  -999.00,9,   -999.0,9,  -999.00,9,-999.000,9,   2302.5,2,   1193.1,6,   20.40,  -999.0,-999.0000,-999.000,-999.000,  1.8729,-999.000
     316N138_5,  P06W,   205,  1,      3,    130,2,19920717,2029,-30.0822, 169.9975, 2939,   2601.3,   1.9945,  34.6636,2,  34.6641,2,    153.9,2,    153.7,2,   119.62,2,    34.98,2,     0.00,2,     2.52,2,   -0.001,2,    0.003,2, -999.000,9,-999.0000,9,  -999.00,9,   -199.2,2,     0.16,2,-999.000,9,   2304.5,2,   -999.0,9, -999.00,     2.8,-999.0000,-999.000,-999.000,  1.8050,-999.000
     316N138_5,  P06W,   205,  1,      2,    136,2,19920717,2029,-30.0822, 169.9975, 2939,   2803.5,   1.9155,  34.6717,2,  34.6737,2,    154.1,2,    154.0,2,   122.06,2,    34.99,2,    -0.01,2,     2.51,2,   -0.001,2,    0.000,2, -999.000,9,-999.0000,9,  -999.00,9,   -205.1,2,     0.14,2,-999.000,9,   2306.4,2,   -999.0,9, -999.00,     3.1,-999.0000,-999.000,-999.000,  1.7086,-999.000
     316N138_5,  P06W,   205,  1,      1,    134,2,19920717,2029,-30.0822, 169.9975, 2939,   2967.0,   1.8542,  34.6764,2,  34.6802,2,    154.4,2,    154.3,2,   123.95,2,    35.04,2,     0.00,2,     2.50,2,    0.003,2,    0.004,2, -999.000,9,-999.0000,9,  -999.00,9,   -209.0,2,     0.15,2,-999.000,9,   2308.9,6,   1187.8,2,   20.40,     2.8,-999.0000,-999.000,-999.000,  1.6328,-999.000
     316N138_5,  P06W,   206,  1,     24,    132,2,19920718,0040,-30.0797, 169.4922, 2708,     17.2,  18.3877,  35.6599,2,  35.6581,2,    233.9,2,    226.1,2,     0.93,2,     0.87,2,     0.16,2,     0.20,2, -999.000,5, -999.000,5, -999.000,9,-999.0000,9,  -999.00,9,   -999.0,9,  -999.00,9,-999.000,9,   -999.0,9,   -999.0,9, -999.00,  -999.0,-999.0000,-999.000,-999.000, 18.3847,-999.000
     316N138_5,  P06W,   206,  1,     23,    123,2,19920718,0040,-30.0797, 169.4922, 2708,     56.7,  18.3880,  35.6600,2,  35.6577,2,    226.9,2,    226.6,2,     0.93,2,     0.92,2,     0.16,2,     0.20,2, -999.000,5, -999.000,5, -999.000,9,-999.0000,9,  -999.00,9,   -999.0,9,  -999.00,9,-999.000,9,   -999.0,9,   -999.0,9, -999.00,  -999.0,-999.0000,-999.000,-999.000, 18.3781,-999.000
     316N138_5,  P06W,   206,  1,     22,    128,2,19920718,0040,-30.0797, 169.4922, 2708,    107.2,  18.3852,  35.6597,2,  35.6577,2,    225.6,2,    226.1,2,     0.93,2,     0.91,2,     0.16,2,     0.20,2, -999.000,5, -999.000,5, -999.000,9,-999.0000,9,  -999.00,9,   -999.0,9,  -999.00,9,-999.000,9,   -999.0,9,   -999.0,9, -999.00,  -999.0,-999.0000,-999.000,-999.000, 18.3665,-999.000
     316N138_5,  P06W,   206,  1,     21,    121,2,19920718,0040,-30.0797, 169.4922, 2708,    156.8,  17.3495,  35.5338,2,  35.5308,2,    222.4,2,    200.8,2,     1.67,2,     4.66,2,     0.04,2,     0.46,2, -999.000,5, -999.000,5, -999.000,9,-999.0000,9,  -999.00,9,   -999.0,9,  -999.00,9,-999.000,9,   -999.0,9,   -999.0,9, -999.00,  -999.0,-999.0000,-999.000,-999.000, 17.3231,-999.000
     316N138_5,  P06W,   206,  1,     20,    515,2,19920718,0040,-30.0797, 169.4922, 2708,    206.4,  15.9468,  35.4567,2,  35.4373,2,    194.1,2,    194.4,2,     2.41,2,     7.13,2,     0.01,2,     0.61,2, -999.000,5, -999.000,5, -999.000,9,-999.0000,9,  -999.00,9,   -999.0,9,  -999.00,9,-999.000,9,   -999.0,9,   -999.0,9, -999.00,  -999.0,-999.0000,-999.000,-999.000, 15.9141,-999.000
     316N138_5,  P06W,   206,  1,     19,    120,2,19920718,0040,-30.0797, 169.4922, 2708,    256.6,  14.6245,  35.3174,2,  35.3124,2,    195.4,2,    193.3,2,     3.34,2,     9.34,2,     0.01,2,     0.77,2, -999.000,5, -999.000,5, -999.000,9,-999.0000,9,  -999.00,9,   -999.0,9,  -999.00,9,-999.000,9,   -999.0,9,   -999.0,9, -999.00,  -999.0,-999.0000,-999.000,-999.000, 14.5861,-999.000
     316N138_5,  P06W,   206,  1,     18,    118,2,19920718,0040,-30.0797, 169.4922, 2708,    307.4,  13.9214,  35.2346,2,  35.2473,2,    192.8,2,    192.6,2,     3.89,2,    10.53,2,     0.00,2,     0.84,2, -999.000,5, -999.000,5, -999.000,9,-999.0000,9,  -999.00,9,   -999.0,9,  -999.00,9,-999.000,9,   -999.0,9,   -999.0,9, -999.00,  -999.0,-999.0000,-999.000,-999.000, 13.8769,-999.000
     316N138_5,  P06W,   206,  1,     17,    514,2,19920718,0040,-30.0797, 169.4922, 2708,    355.1,  12.8725,  35.1241,2,  35.1327,2,    193.9,2,    192.0,2,     5.18,2,    12.54,2,     0.01,2,     0.98,2, -999.000,5, -999.000,5, -999.000,9,-999.0000,9,  -999.00,9,   -999.0,9,  -999.00,9,-999.000,9,   -999.0,9,   -999.0,9, -999.00,  -999.0,-999.0000,-999.000,-999.000, 12.8236,-999.000
     316N138_5,  P06W,   206,  1,     16,    116,2,19920718,0040,-30.0797, 169.4922, 2708,    405.5,  12.0807,  35.0489,2,  35.0459,2,    193.4,2,    191.3,2,     6.30,2,    14.27,2,     0.00,2,     1.08,2, -999.000,5, -999.000,5, -999.000,9,-999.0000,9,  -999.00,9,   -999.0,9,  -999.00,9,-999.000,9,   -999.0,9,   -999.0,9, -999.00,  -999.0,-999.0000,-999.000,-999.000, 12.0271,-999.000
     316N138_5,  P06W,   206,  1,     15,    115,2,19920718,0040,-30.0797, 169.4922, 2708,    505.5,   9.9385,  34.8068,2,  34.7952,2,    192.6,2,    190.4,2,     9.45,2,    18.99,2,     0.00,2,     1.38,2, -999.000,5, -999.000,5, -999.000,9,-999.0000,9,  -999.00,9,   -999.0,9,  -999.00,9,-999.000,9,   -999.0,9,   -999.0,9, -999.00,  -999.0,-999.0000,-999.000,-999.000,  9.8792,-999.000
     316N138_5,  P06W,   206,  1,     14,    513,2,19920718,0040,-30.0797, 169.4922, 2708,    604.7,   8.8225,  34.6870,2,  34.6814,2,    193.6,2,    191.2,2,    12.98,2,    21.42,2,    -0.01,2,     1.54,2, -999.000,5, -999.000,5, -999.000,9,-999.0000,9,  -999.00,9,   -999.0,9,  -999.00,9,-999.000,9,   -999.0,9,   -999.0,9, -999.00,  -999.0,-999.0000,-999.000,-999.000,  8.7563,-999.000
     316N138_5,  P06W,   206,  1,     13,    125,3,19920718,0040,-30.0797, 169.4922, 2708,    704.2,   8.0033,  34.6088,2,  34.7862,4,    192.0,2,    193.6,4,    12.79,4,    18.84,4,     0.01,4,     1.40,4, -999.000,5, -999.000,5, -999.000,9,-999.0000,9,  -999.00,9,   -999.0,9,  -999.00,9,-999.000,9,   -999.0,9,   -999.0,9, -999.00,  -999.0,-999.0000,-999.000,-999.000,  7.9301,-999.000
     316N138_5,  P06W,   206,  1,     12,    112,2,19920718,0040,-30.0797, 169.4922, 2708,    803.5,   6.9800,  34.5527,2,  34.5355,2,    192.2,2,    191.1,2,    21.88,2,    25.40,2,     0.00,2,     1.82,2, -999.000,5, -999.000,5, -999.000,9,-999.0000,9,  -999.00,9,   -999.0,9,  -999.00,9,-999.000,9,   -999.0,9,   -999.0,9, -999.00,  -999.0,-999.0000,-999.000,-999.000,  6.9021,-999.000
     316N138_5,  P06W,   206,  1,     11,    129,2,19920718,0040,-30.0797, 169.4922, 2708,    903.4,   6.0608,  34.4779,2,  34.4767,2,    190.0,2,    189.0,2,    29.48,2,    27.68,2,    -0.01,2,     1.98,2, -999.000,5, -999.000,5, -999.000,9,-999.0000,9,  -999.00,9,   -999.0,9,  -999.00,9,-999.000,9,   -999.0,9,   -999.0,9, -999.00,  -999.0,-999.0000,-999.000,-999.000,  5.9791,-999.000
     316N138_5,  P06W,   206,  1,     10,    110,2,19920718,0040,-30.0797, 169.4922, 2708,   1000.3,   5.4271,  34.4675,2,  34.4669,2,    184.7,2,    184.0,2,    36.90,2,    29.16,2,    -0.01,2,     2.08,2, -999.000,5, -999.000,5, -999.000,9,-999.0000,9,  -999.00,9,   -999.0,9,  -999.00,9,-999.000,9,   -999.0,9,   -999.0,9, -999.00,  -999.0,-999.0000,-999.000,-999.000,  5.3405,-999.000
     316N138_5,  P06W,   206,  1,      9,    126,2,19920718,0040,-30.0797, 169.4922, 2708,   1198.0,   4.3733,  34.5025,2,  34.5019,2,    172.9,2,    171.1,2,    57.85,2,    31.58,2,    -0.01,2,     2.27,2, -999.000,5, -999.000,5, -999.000,9,-999.0000,9,  -999.00,9,   -999.0,9,  -999.00,9,-999.000,9,   -999.0,9,   -999.0,9, -999.00,  -999.0,-999.0000,-999.000,-999.000,  4.2775,-999.000
     316N138_5,  P06W,   206,  1,      8,    108,2,19920718,0040,-30.0797, 169.4922, 2708,   1398.4,   3.6334,  34.5369,2,  34.5345,2,    166.5,2,    164.9,2,    74.17,2,    33.06,2,    -0.01,2,     2.36,2, -999.000,5, -999.000,5, -999.000,9,-999.0000,9,  -999.00,9,   -999.0,9,  -999.00,9,-999.000,9,   -999.0,9,   -999.0,9, -999.00,  -999.0,-999.0000,-999.000,-999.000,  3.5273,-999.000
     316N138_5,  P06W,   206,  1,      7,    107,2,19920718,0040,-30.0797, 169.4922, 2708,   1595.8,   3.1521,  34.5703,2,  34.5690,2,    160.7,2,    160.0,2,    86.96,2,    33.74,2,     0.00,2,     2.43,2, -999.000,5, -999.000,5, -999.000,9,-999.0000,9,  -999.00,9,   -999.0,9,  -999.00,9,-999.000,9,   -999.0,9,   -999.0,9, -999.00,  -999.0,-999.0000,-999.000,-999.000,  3.0344,-999.000
     316N138_5,  P06W,   206,  1,      6,    180,2,19920718,0040,-30.0797, 169.4922, 2708,   1796.8,   2.6387,  34.6122,2,  34.6107,2,    156.7,2,    155.8,2,   101.42,2,    34.54,2,     0.00,2,     2.47,2, -999.000,5, -999.000,5, -999.000,9,-999.0000,9,  -999.00,9,   -999.0,9,  -999.00,9,-999.000,9,   -999.0,9,   -999.0,9, -999.00,  -999.0,-999.0000,-999.000,-999.000,  2.5103,-999.000
     316N138_5,  P06W,   206,  1,      5,    131,2,19920718,0040,-30.0797, 169.4922, 2708,   1996.2,   2.3930,  34.6310,2,  34.6305,2,    155.3,2,    154.5,2,   108.28,2,    34.74,2,     0.00,2,     2.51,2, -999.000,5, -999.000,5, -999.000,9,-999.0000,9,  -999.00,9,   -999.0,9,  -999.00,9,-999.000,9,   -999.0,9,   -999.0,9, -999.00,  -999.0,-999.0000,-999.000,-999.000,  2.2510,-999.000
     316N138_5,  P06W,   206,  1,      4,    516,2,19920718,0040,-30.0797, 169.4922, 2708,   2198.9,   2.1973,  34.6484,2,  34.6478,2,    154.7,2,    153.7,2,   113.84,2,    35.04,2,     0.00,2,     2.51,2, -999.000,5, -999.000,5, -999.000,9,-999.0000,9,  -999.00,9,   -999.0,9,  -999.00,9,-999.000,9,   -999.0,9,   -999.0,9, -999.00,  -999.0,-999.0000,-999.000,-999.000,  2.0405,-999.000
     316N138_5,  P06W,   206,  1,      3,    130,2,19920718,0040,-30.0797, 169.4922, 2708,   2404.2,   2.0887,  34.6566,2,  34.6557,2,    154.1,2,    153.4,2,   117.18,2,    35.05,2,     0.00,2,     2.53,2, -999.000,5, -999.000,5, -999.000,9,-999.0000,9,  -999.00,9,   -999.0,9,  -999.00,9,-999.000,9,   -999.0,9,   -999.0,9, -999.00,  -999.0,-999.0000,-999.000,-999.000,  1.9155,-999.000
     316N138_5,  P06W,   206,  1,      2,    136,2,19920718,0040,-30.0797, 169.4922, 2708,   2606.1,   2.0049,  34.6648,2,  34.6653,2,    153.5,2,    153.0,2,   119.78,2,    35.26,2,     0.00,2,     2.53,2, -999.000,5, -999.000,5, -999.000,9,-999.0000,9,  -999.00,9,   -999.0,9,  -999.00,9,-999.000,9,   -999.0,9,   -999.0,9, -999.00,  -999.0,-999.0000,-999.000,-999.000,  1.8147,-999.000
     316N138_5,  P06W,   206,  1,      1,    134,2,19920718,0040,-30.0797, 169.4922, 2708,   2715.1,   1.9568,  34.6687,2,  34.6688,2,    153.7,2,    153.5,2,   121.14,2,    35.24,2,     0.00,2,     2.51,2, -999.000,5, -999.000,5, -999.000,9,-999.0000,9,  -999.00,9,   -999.0,9,  -999.00,9,-999.000,9,   -999.0,9,   -999.0,9, -999.00,  -999.0,-999.0000,-999.000,-999.000,  1.7574,-999.000