BOTTLE,20030219WHPSIOdm
EXPOCODE,SECT_ID,STNNBR,CASTNO,SAMPNO,BTLNBR,BTLNBR_FLAG_W,DATE,TIME,LATITUDE,LONGITUDE,DEPTH,CTDPRS,CTDTMP,CTDSAL,CTDSAL_FLAG_W,SALNTY,SALNTY_FLAG_W,CTDOXY,CTDOXY_FLAG_W,OXYGEN,OXYGEN_FLAG_W,SILCAT,SILCAT_FLAG_W,NITRAT,NITRAT_FLAG_W,NITRIT,NITRIT_FLAG_W,PHSPHT,PHSPHT_FLAG_W,CFC-11,CFC-11_FLAG_W,CFC-12,CFC-12_FLAG_W,TRITUM,TRITUM_FLAG_W,HELIUM,HELIUM_FLAG_W,DELHE3,DELHE3_FLAG_W,DELC14,DELC14_FLAG_W,DELC13,DELC13_FLAG_W,NEON,NEON_FLAG_W,TCARBN,TCARBN_FLAG_W,PCO2,PCO2_FLAG_W,PCO2TMP,C14ERR,HELIER,DELHER,NEONER,THETA,TRITER
,,,,,,,,,,,,DBAR,ITS-90,PSS-78,,PSS-78,,UMOL/KG,,UMOL/KG,,UMOL/KG,,UMOL/KG,,UMOL/KG,,UMOL/KG,,PMOL/KG,,PMOL/KG,,TU,,NMOL/KG,,PERCNT,,/MILLE,,/MILLE,,NMOL/KG,,UMOL/KG,,UATM,,DEG_C,/MILLE,NMOL/KG,PERCNT,NMOL/KG,ITS-90,TU
     316N138_5,  P06W,   259,  1,     12,    112,2,19920727,0820,-30.0848, 154.4945, 4590,     21.2,  20.2919,  35.5529,2,  35.5553,2,    217.1,2,    215.5,2,  -999.00,9,  -999.00,9,  -999.00,9,  -999.00,9, -999.000,5, -999.000,5, -999.000,9,-999.0000,9,  -999.00,9,   -999.0,9,  -999.00,9,-999.000,9,   -999.0,9,   -999.0,9, -999.00,  -999.0,-999.0000,-999.000,-999.000, 20.2880,-999.000
     316N138_5,  P06W,   259,  1,     11,    129,2,19920727,0820,-30.0848, 154.4945, 4590,    111.6,  19.8578,  35.5758,2,  35.5766,2,    187.2,2,    180.7,2,  -999.00,9,  -999.00,9,  -999.00,9,  -999.00,9, -999.000,5, -999.000,5, -999.000,9,-999.0000,9,  -999.00,9,   -999.0,9,  -999.00,9,-999.000,9,   -999.0,9,   -999.0,9, -999.00,  -999.0,-999.0000,-999.000,-999.000, 19.8372,-999.000
     316N138_5,  P06W,   259,  1,     10,    110,2,19920727,0820,-30.0848, 154.4945, 4590,    259.4,  17.9537,  35.5294,2,  35.5292,2,    188.6,2,    181.5,2,  -999.00,9,  -999.00,9,  -999.00,9,  -999.00,9, -999.000,5, -999.000,5, -999.000,9,-999.0000,9,  -999.00,9,   -999.0,9,  -999.00,9,-999.000,9,   -999.0,9,   -999.0,9, -999.00,  -999.0,-999.0000,-999.000,-999.000, 17.9090,-999.000
     316N138_5,  P06W,   259,  1,      9,    126,2,19920727,0820,-30.0848, 154.4945, 4590,    508.4,  12.5940,  35.0736,2,  35.0683,2,    186.7,2,    183.7,2,  -999.00,9,  -999.00,9,  -999.00,9,  -999.00,9, -999.000,5, -999.000,5, -999.000,9,-999.0000,9,  -999.00,9,   -999.0,9,  -999.00,9,-999.000,9,   -999.0,9,   -999.0,9, -999.00,  -999.0,-999.0000,-999.000,-999.000, 12.5246,-999.000
     316N138_5,  P06W,   259,  1,      8,    108,2,19920727,0820,-30.0848, 154.4945, 4590,   1012.5,   5.6373,  34.4626,2,  34.4646,2,    189.3,3,    183.8,2,  -999.00,9,  -999.00,9,  -999.00,9,  -999.00,9, -999.000,5, -999.000,5, -999.000,9,-999.0000,9,  -999.00,9,   -999.0,9,  -999.00,9,-999.000,9,   -999.0,9,   -999.0,9, -999.00,  -999.0,-999.0000,-999.000,-999.000,  5.5481,-999.000
     316N138_5,  P06W,   259,  1,      7,    107,2,19920727,0820,-30.0848, 154.4945, 4590,   1515.0,   3.2369,  34.5651,2,  34.5679,2,    157.3,2,    154.2,2,  -999.00,9,  -999.00,9,  -999.00,9,  -999.00,9, -999.000,5, -999.000,5, -999.000,9,-999.0000,9,  -999.00,9,   -999.0,9,  -999.00,9,-999.000,9,   -999.0,9,   -999.0,9, -999.00,  -999.0,-999.0000,-999.000,-999.000,  3.1250,-999.000
     316N138_5,  P06W,   259,  1,      6,    180,2,19920727,0820,-30.0848, 154.4945, 4590,   2020.1,   2.4093,  34.6554,2,-999.0000,9,    163.8,2,   -999.0,9,  -999.00,9,  -999.00,9,  -999.00,9,  -999.00,9, -999.000,5, -999.000,5, -999.000,9,-999.0000,9,  -999.00,9,   -999.0,9,  -999.00,9,-999.000,9,   -999.0,9,   -999.0,9, -999.00,  -999.0,-999.0000,-999.000,-999.000,  2.2649,-999.000
     316N138_5,  P06W,   259,  1,      5,    131,2,19920727,0820,-30.0848, 154.4945, 4590,   2522.8,   1.9515,  34.7139,2,  34.7136,2,    181.6,2,    154.1,4,  -999.00,9,  -999.00,9,  -999.00,9,  -999.00,9, -999.000,5, -999.000,5, -999.000,9,-999.0000,9,  -999.00,9,   -999.0,9,  -999.00,9,-999.000,9,   -999.0,9,   -999.0,9, -999.00,  -999.0,-999.0000,-999.000,-999.000,  1.7698,-999.000
     316N138_5,  P06W,   259,  1,      4,    516,2,19920727,0820,-30.0848, 154.4945, 4590,   2522.8,   1.9515,  34.7139,2,  34.7140,2,    181.6,2,    181.5,2,  -999.00,9,  -999.00,9,  -999.00,9,  -999.00,9, -999.000,5, -999.000,5, -999.000,9,-999.0000,9,  -999.00,9,   -999.0,9,  -999.00,9,-999.000,9,   -999.0,9,   -999.0,9, -999.00,  -999.0,-999.0000,-999.000,-999.000,  1.7698,-999.000
     316N138_5,  P06W,   259,  1,      3,    130,2,19920727,0820,-30.0848, 154.4945, 4590,   3534.7,   1.2257,  34.7199,2,  34.7247,4,    195.5,2,    190.4,4,  -999.00,9,  -999.00,9,  -999.00,9,  -999.00,9, -999.000,5, -999.000,5, -999.000,9,-999.0000,9,  -999.00,9,   -999.0,9,  -999.00,9,-999.000,9,   -999.0,9,   -999.0,9, -999.00,  -999.0,-999.0000,-999.000,-999.000,  0.9629,-999.000
     316N138_5,  P06W,   259,  1,      2,    136,2,19920727,0820,-30.0848, 154.4945, 4590,   4044.5,   1.1597,  34.7171,2,  34.7221,4,    197.7,2,    196.1,2,  -999.00,9,  -999.00,9,  -999.00,9,  -999.00,9, -999.000,5, -999.000,5, -999.000,9,-999.0000,9,  -999.00,9,   -999.0,9,  -999.00,9,-999.000,9,   -999.0,9,   -999.0,9, -999.00,  -999.0,-999.0000,-999.000,-999.000,  0.8455,-999.000
     316N138_5,  P06W,   259,  1,      1,    134,2,19920727,0820,-30.0848, 154.4945, 4590,   4650.0,   1.1812,  34.7158,2,  34.7172,2,    198.6,2,    198.0,2,  -999.00,9,  -999.00,9,  -999.00,9,  -999.00,9, -999.000,5, -999.000,5, -999.000,9,-999.0000,9,  -999.00,9,   -999.0,9,  -999.00,9,-999.000,9,   -999.0,9,   -999.0,9, -999.00,  -999.0,-999.0000,-999.000,-999.000,  0.7988,-999.000
     316N138_5,  P06W,   260,  1,     12,    112,2,19920727,1200,-30.0853, 154.1722, 4611,     20.2,  21.0142,  35.5176,2,  35.5184,2,    219.8,2,    219.1,2,  -999.00,9,  -999.00,9,  -999.00,9,  -999.00,9, -999.000,5, -999.000,5, -999.000,9,-999.0000,9,  -999.00,9,   -999.0,9,  -999.00,9,-999.000,9,   -999.0,9,   -999.0,9, -999.00,  -999.0,-999.0000,-999.000,-999.000, 21.0104,-999.000
     316N138_5,  P06W,   260,  1,     11,    129,2,19920727,1200,-30.0853, 154.1722, 4611,     59.5,  20.9420,  35.5214,2,  35.5212,2,    219.1,2,    220.4,2,  -999.00,9,  -999.00,9,  -999.00,9,  -999.00,9, -999.000,5, -999.000,5, -999.000,9,-999.0000,9,  -999.00,9,   -999.0,9,  -999.00,9,-999.000,9,   -999.0,9,   -999.0,9, -999.00,  -999.0,-999.0000,-999.000,-999.000, 20.9306,-999.000
     316N138_5,  P06W,   260,  1,     10,    110,2,19920727,1200,-30.0853, 154.1722, 4611,    207.1,  19.5472,  35.5733,2,  35.5723,2,    189.6,2,    184.1,2,  -999.00,9,  -999.00,9,  -999.00,9,  -999.00,9, -999.000,5, -999.000,5, -999.000,9,-999.0000,9,  -999.00,9,   -999.0,9,  -999.00,9,-999.000,9,   -999.0,9,   -999.0,9, -999.00,  -999.0,-999.0000,-999.000,-999.000, 19.5094,-999.000
     316N138_5,  P06W,   260,  1,      9,    126,2,19920727,1200,-30.0853, 154.1722, 4611,    604.4,   9.9033,  34.7633,2,  34.7762,2,    190.1,2,    188.1,2,  -999.00,9,  -999.00,9,  -999.00,9,  -999.00,9, -999.000,5, -999.000,5, -999.000,9,-999.0000,9,  -999.00,9,   -999.0,9,  -999.00,9,-999.000,9,   -999.0,9,   -999.0,9, -999.00,  -999.0,-999.0000,-999.000,-999.000,  9.8323,-999.000
     316N138_5,  P06W,   260,  1,      8,    108,2,19920727,1200,-30.0853, 154.1722, 4611,   1005.2,   5.6235,  34.4616,2,  34.4650,2,    188.0,2,    184.0,2,  -999.00,9,  -999.00,9,  -999.00,9,  -999.00,9, -999.000,5, -999.000,5, -999.000,9,-999.0000,9,  -999.00,9,   -999.0,9,  -999.00,9,-999.000,9,   -999.0,9,   -999.0,9, -999.00,  -999.0,-999.0000,-999.000,-999.000,  5.5352,-999.000
     316N138_5,  P06W,   260,  1,      7,    107,2,19920727,1200,-30.0853, 154.1722, 4611,   1510.8,   3.2608,  34.5647,2,  34.5643,2,    158.2,2,    154.2,2,  -999.00,9,  -999.00,9,  -999.00,9,  -999.00,9, -999.000,5, -999.000,5, -999.000,9,-999.0000,9,  -999.00,9,   -999.0,9,  -999.00,9,-999.000,9,   -999.0,9,   -999.0,9, -999.00,  -999.0,-999.0000,-999.000,-999.000,  3.1490,-999.000
     316N138_5,  P06W,   260,  1,      6,    180,2,19920727,1200,-30.0853, 154.1722, 4611,   2015.5,   2.3877,  34.6578,2,  34.6592,2,    164.6,2,    164.3,2,  -999.00,9,  -999.00,9,  -999.00,9,  -999.00,9, -999.000,5, -999.000,5, -999.000,9,-999.0000,9,  -999.00,9,   -999.0,9,  -999.00,9,-999.000,9,   -999.0,9,   -999.0,9, -999.00,  -999.0,-999.0000,-999.000,-999.000,  2.2440,-999.000
     316N138_5,  P06W,   260,  1,      5,    131,2,19920727,1200,-30.0853, 154.1722, 4611,   2015.5,   2.3877,  34.6578,2,  34.6620,2,    164.6,2,    163.4,2,  -999.00,9,  -999.00,9,  -999.00,9,  -999.00,9, -999.000,5, -999.000,5, -999.000,9,-999.0000,9,  -999.00,9,   -999.0,9,  -999.00,9,-999.000,9,   -999.0,9,   -999.0,9, -999.00,  -999.0,-999.0000,-999.000,-999.000,  2.2440,-999.000
     316N138_5,  P06W,   260,  1,      4,    516,2,19920727,1200,-30.0853, 154.1722, 4611,   3026.5,   1.5538,  34.7249,2,  34.7119,4,    189.2,2,    180.9,4,  -999.00,9,  -999.00,9,  -999.00,9,  -999.00,9, -999.000,5, -999.000,5, -999.000,9,-999.0000,9,  -999.00,9,   -999.0,9,  -999.00,9,-999.000,9,   -999.0,9,   -999.0,9, -999.00,  -999.0,-999.0000,-999.000,-999.000,  1.3331,-999.000
     316N138_5,  P06W,   260,  1,      3,    130,2,19920727,1200,-30.0853, 154.1722, 4611,   3530.8,   1.2408,  34.7197,2,  34.7237,4,    194.5,2,    190.6,3,  -999.00,9,  -999.00,9,  -999.00,9,  -999.00,9, -999.000,5, -999.000,5, -999.000,9,-999.0000,9,  -999.00,9,   -999.0,9,  -999.00,9,-999.000,9,   -999.0,9,   -999.0,9, -999.00,  -999.0,-999.0000,-999.000,-999.000,  0.9779,-999.000
     316N138_5,  P06W,   260,  1,      2,    136,2,19920727,1200,-30.0853, 154.1722, 4611,   4035.2,   1.1604,  34.7171,2,  34.7162,2,    197.1,2,    197.8,2,  -999.00,9,  -999.00,9,  -999.00,9,  -999.00,9, -999.000,5, -999.000,5, -999.000,9,-999.0000,9,  -999.00,9,   -999.0,9,  -999.00,9,-999.000,9,   -999.0,9,   -999.0,9, -999.00,  -999.0,-999.0000,-999.000,-999.000,  0.8471,-999.000
     316N138_5,  P06W,   260,  1,      1,    134,2,19920727,1200,-30.0853, 154.1722, 4611,   4631.2,   1.1763,  34.7158,2,  34.7146,2,    198.4,2,    197.7,2,  -999.00,9,  -999.00,9,  -999.00,9,  -999.00,9, -999.000,5, -999.000,5, -999.000,9,-999.0000,9,  -999.00,9,   -999.0,9,  -999.00,9,-999.000,9,   -999.0,9,   -999.0,9, -999.00,  -999.0,-999.0000,-999.000,-999.000,  0.7962,-999.000
     316N138_5,  P06W,   261,  1,     11,    129,2,19920727,1448,-30.0963, 153.9978, 4447,     18.6,  21.1028,  35.5278,2,  35.5277,2,    214.7,2,    216.3,2,  -999.00,9,  -999.00,9,  -999.00,9,  -999.00,9, -999.000,5, -999.000,5, -999.000,9,-999.0000,9,  -999.00,9,   -999.0,9,  -999.00,9,-999.000,9,   -999.0,9,   -999.0,9, -999.00,  -999.0,-999.0000,-999.000,-999.000, 21.0993,-999.000
     316N138_5,  P06W,   261,  1,     10,    110,2,19920727,1448,-30.0963, 153.9978, 4447,    107.9,  20.9282,  35.5255,2,  35.5251,2,    211.0,2,    214.8,2,  -999.00,9,  -999.00,9,  -999.00,9,  -999.00,9, -999.000,5, -999.000,5, -999.000,9,-999.0000,9,  -999.00,9,   -999.0,9,  -999.00,9,-999.000,9,   -999.0,9,   -999.0,9, -999.00,  -999.0,-999.0000,-999.000,-999.000, 20.9075,-999.000
     316N138_5,  P06W,   261,  1,      9,    126,2,19920727,1448,-30.0963, 153.9978, 4447,    589.8,   9.6454,  34.7489,2,  34.7498,2,    190.7,2,    191.1,2,  -999.00,9,  -999.00,9,  -999.00,9,  -999.00,9, -999.000,5, -999.000,5, -999.000,9,-999.0000,9,  -999.00,9,   -999.0,9,  -999.00,9,-999.000,9,   -999.0,9,   -999.0,9, -999.00,  -999.0,-999.0000,-999.000,-999.000,  9.5773,-999.000
     316N138_5,  P06W,   261,  1,      8,    108,2,19920727,1448,-30.0963, 153.9978, 4447,    972.7,   5.7118,  34.4596,2,  34.4646,2,    188.5,2,    184.4,2,  -999.00,9,  -999.00,9,  -999.00,9,  -999.00,9, -999.000,5, -999.000,5, -999.000,9,-999.0000,9,  -999.00,9,   -999.0,9,  -999.00,9,-999.000,9,   -999.0,9,   -999.0,9, -999.00,  -999.0,-999.0000,-999.000,-999.000,  5.6258,-999.000
     316N138_5,  P06W,   261,  1,      7,    107,2,19920727,1448,-30.0963, 153.9978, 4447,   1448.1,   3.4139,  34.5528,2,-999.0000,9,    159.1,2,   -999.0,9,  -999.00,9,  -999.00,9,  -999.00,9,  -999.00,9, -999.000,5, -999.000,5, -999.000,9,-999.0000,9,  -999.00,9,   -999.0,9,  -999.00,9,-999.000,9,   -999.0,9,   -999.0,9, -999.00,  -999.0,-999.0000,-999.000,-999.000,  3.3058,-999.000
     316N138_5,  P06W,   261,  1,      6,    180,2,19920727,1448,-30.0963, 153.9978, 4447,   1900.6,   2.4729,  34.6448,2,  34.6449,2,    159.3,2,    158.4,2,  -999.00,9,  -999.00,9,  -999.00,9,  -999.00,9, -999.000,5, -999.000,5, -999.000,9,-999.0000,9,  -999.00,9,   -999.0,9,  -999.00,9,-999.000,9,   -999.0,9,   -999.0,9, -999.00,  -999.0,-999.0000,-999.000,-999.000,  2.3378,-999.000
     316N138_5,  P06W,   261,  1,      5,    131,2,19920727,1448,-30.0963, 153.9978, 4447,   1900.6,   2.4729,  34.6448,2,  34.6445,2,    159.3,2,    158.4,2,  -999.00,9,  -999.00,9,  -999.00,9,  -999.00,9, -999.000,5, -999.000,5, -999.000,9,-999.0000,9,  -999.00,9,   -999.0,9,  -999.00,9,-999.000,9,   -999.0,9,   -999.0,9, -999.00,  -999.0,-999.0000,-999.000,-999.000,  2.3378,-999.000
     316N138_5,  P06W,   261,  1,      4,    516,2,19920727,1448,-30.0963, 153.9978, 4447,   2892.6,   1.5711,  34.7256,2,-999.0000,9,    188.4,2,   -999.0,9,  -999.00,9,  -999.00,9,  -999.00,9,  -999.00,9, -999.000,5, -999.000,5, -999.000,9,-999.0000,9,  -999.00,9,   -999.0,9,  -999.00,9,-999.000,9,   -999.0,9,   -999.0,9, -999.00,  -999.0,-999.0000,-999.000,-999.000,  1.3627,-999.000
     316N138_5,  P06W,   261,  1,      3,    130,2,19920727,1448,-30.0963, 153.9978, 4447,   3420.1,   1.2604,  34.7205,2,  34.7193,2,    193.7,2,    194.7,2,  -999.00,9,  -999.00,9,  -999.00,9,  -999.00,9, -999.000,5, -999.000,5, -999.000,9,-999.0000,9,  -999.00,9,   -999.0,9,  -999.00,9,-999.000,9,   -999.0,9,   -999.0,9, -999.00,  -999.0,-999.0000,-999.000,-999.000,  1.0081,-999.000
     316N138_5,  P06W,   261,  1,      2,    136,2,19920727,1448,-30.0963, 153.9978, 4447,   3954.1,   1.1576,  34.7175,2,  34.7158,2,    196.7,2,    196.8,2,  -999.00,9,  -999.00,9,  -999.00,9,  -999.00,9, -999.000,5, -999.000,5, -999.000,9,-999.0000,9,  -999.00,9,   -999.0,9,  -999.00,9,-999.000,9,   -999.0,9,   -999.0,9, -999.00,  -999.0,-999.0000,-999.000,-999.000,  0.8531,-999.000
     316N138_5,  P06W,   261,  1,      1,    134,2,19920727,1448,-30.0963, 153.9978, 4447,   4386.4,   1.1692,  34.7166,2,  34.7144,2,    198.8,2,    196.9,2,  -999.00,9,  -999.00,9,  -999.00,9,  -999.00,9, -999.000,5, -999.000,5, -999.000,9,-999.0000,9,  -999.00,9,   -999.0,9,  -999.00,9,-999.000,9,   -999.0,9,   -999.0,9, -999.00,  -999.0,-999.0000,-999.000,-999.000,  0.8172,-999.000
     316N138_5,  P06W,   262,  1,      8,    108,2,19920727,1653,-30.0845, 153.9053, 2429,     15.4,  20.9079,  35.5269,2,  35.5257,2,    218.8,2,    217.7,2,  -999.00,9,  -999.00,9,  -999.00,9,  -999.00,9, -999.000,5, -999.000,5, -999.000,9,-999.0000,9,  -999.00,9,   -999.0,9,  -999.00,9,-999.000,9,   -999.0,9,   -999.0,9, -999.00,  -999.0,-999.0000,-999.000,-999.000, 20.9050,-999.000
     316N138_5,  P06W,   262,  1,      7,    107,2,19920727,1653,-30.0845, 153.9053, 2429,    210.8,  19.2778,  35.5837,2,  35.5681,2,    182.2,2,    178.4,2,  -999.00,9,  -999.00,9,  -999.00,9,  -999.00,9, -999.000,5, -999.000,5, -999.000,9,-999.0000,9,  -999.00,9,   -999.0,9,  -999.00,9,-999.000,9,   -999.0,9,   -999.0,9, -999.00,  -999.0,-999.0000,-999.000,-999.000, 19.2397,-999.000
     316N138_5,  P06W,   262,  1,      6,    180,2,19920727,1653,-30.0845, 153.9053, 2429,    701.9,   7.8168,  34.5657,2,  34.5659,2,    192.4,2,    193.5,2,  -999.00,9,  -999.00,9,  -999.00,9,  -999.00,9, -999.000,5, -999.000,5, -999.000,9,-999.0000,9,  -999.00,9,   -999.0,9,  -999.00,9,-999.000,9,   -999.0,9,   -999.0,9, -999.00,  -999.0,-999.0000,-999.000,-999.000,  7.7449,-999.000
     316N138_5,  P06W,   262,  1,      5,    131,2,19920727,1653,-30.0845, 153.9053, 2429,   1178.7,   4.4322,  34.4891,2,  34.4891,2,    175.0,3,    170.1,2,  -999.00,9,  -999.00,9,  -999.00,9,  -999.00,9, -999.000,5, -999.000,5, -999.000,9,-999.0000,9,  -999.00,9,   -999.0,9,  -999.00,9,-999.000,9,   -999.0,9,   -999.0,9, -999.00,  -999.0,-999.0000,-999.000,-999.000,  4.3377,-999.000
     316N138_5,  P06W,   262,  1,      4,    516,2,19920727,1653,-30.0845, 153.9053, 2429,   1371.3,   3.6772,  34.5332,2,  34.5339,2,    162.4,2,    159.8,2,  -999.00,9,  -999.00,9,  -999.00,9,  -999.00,9, -999.000,5, -999.000,5, -999.000,9,-999.0000,9,  -999.00,9,   -999.0,9,  -999.00,9,-999.000,9,   -999.0,9,   -999.0,9, -999.00,  -999.0,-999.0000,-999.000,-999.000,  3.5729,-999.000
     316N138_5,  P06W,   262,  1,      3,    130,2,19920727,1653,-30.0845, 153.9053, 2429,   1756.8,   2.6114,  34.6293,2,  34.6272,2,    157.3,2,    156.8,2,  -999.00,9,  -999.00,9,  -999.00,9,  -999.00,9, -999.000,5, -999.000,5, -999.000,9,-999.0000,9,  -999.00,9,   -999.0,9,  -999.00,9,-999.000,9,   -999.0,9,   -999.0,9, -999.00,  -999.0,-999.0000,-999.000,-999.000,  2.4867,-999.000
     316N138_5,  P06W,   262,  1,      2,    136,2,19920727,1653,-30.0845, 153.9053, 2429,   1756.8,   2.6114,  34.6293,2,  34.6278,2,    157.3,2,    156.1,2,  -999.00,9,  -999.00,9,  -999.00,9,  -999.00,9, -999.000,5, -999.000,5, -999.000,9,-999.0000,9,  -999.00,9,   -999.0,9,  -999.00,9,-999.000,9,   -999.0,9,   -999.0,9, -999.00,  -999.0,-999.0000,-999.000,-999.000,  2.4867,-999.000
     316N138_5,  P06W,   262,  1,      1,    134,2,19920727,1653,-30.0845, 153.9053, 2429,   2484.4,   1.9096,  34.7169,2,  34.7132,2,    179.3,2,    177.5,4,  -999.00,9,  -999.00,9,  -999.00,9,  -999.00,9, -999.000,5, -999.000,5, -999.000,9,-999.0000,9,  -999.00,9,   -999.0,9,  -999.00,9,-999.000,9,   -999.0,9,   -999.0,9, -999.00,  -999.0,-999.0000,-999.000,-999.000,  1.7322,-999.000