BOTTLE,20030219WHPSIOdm
EXPOCODE,SECT_ID,STNNBR,CASTNO,SAMPNO,BTLNBR,BTLNBR_FLAG_W,DATE,TIME,LATITUDE,LONGITUDE,DEPTH,CTDPRS,CTDTMP,CTDSAL,CTDSAL_FLAG_W,SALNTY,SALNTY_FLAG_W,CTDOXY,CTDOXY_FLAG_W,OXYGEN,OXYGEN_FLAG_W,SILCAT,SILCAT_FLAG_W,NITRAT,NITRAT_FLAG_W,NITRIT,NITRIT_FLAG_W,PHSPHT,PHSPHT_FLAG_W,CFC-11,CFC-11_FLAG_W,CFC-12,CFC-12_FLAG_W,TRITUM,TRITUM_FLAG_W,HELIUM,HELIUM_FLAG_W,DELHE3,DELHE3_FLAG_W,DELC14,DELC14_FLAG_W,DELC13,DELC13_FLAG_W,NEON,NEON_FLAG_W,TCARBN,TCARBN_FLAG_W,PCO2,PCO2_FLAG_W,PCO2TMP,C14ERR,HELIER,DELHER,NEONER,THETA,TRITER
,,,,,,,,,,,,DBAR,ITS-90,PSS-78,,PSS-78,,UMOL/KG,,UMOL/KG,,UMOL/KG,,UMOL/KG,,UMOL/KG,,UMOL/KG,,PMOL/KG,,PMOL/KG,,TU,,NMOL/KG,,PERCNT,,/MILLE,,/MILLE,,NMOL/KG,,UMOL/KG,,UATM,,DEG_C,/MILLE,NMOL/KG,PERCNT,NMOL/KG,ITS-90,TU
     316N138_5,  P06W,   233,  1,     36,1385-36,2,19920723,0226,-30.0725, 156.4742, 4815,     21.0,  20.2421,  35.5557,2,  35.5543,2,    298.5,3,    220.0,2,     0.77,2,     0.32,2,     0.14,2,     0.17,2,    2.120,2,    1.158,2, -999.000,9,-999.0000,9,  -999.00,9,   -999.0,9,  -999.00,9,-999.000,9,   2002.2,6,    291.2,2,   20.30,  -999.0,-999.0000,-999.000,-999.000, 20.2381,-999.000
     316N138_5,  P06W,   233,  1,     35,02-9454,2,19920723,0226,-30.0725, 156.4742, 4815,     62.0,  20.2314,  35.5549,2,  35.5535,2,    215.1,2,    219.6,2,     0.76,2,     0.37,2,     0.14,2,     0.16,2,    2.131,2,    1.175,2, -999.000,9,-999.0000,9,  -999.00,9,   -999.0,9,  -999.00,9,-999.000,9,   2003.0,2,   -999.0,9, -999.00,  -999.0,-999.0000,-999.000,-999.000, 20.2198,-999.000
     316N138_5,  P06W,   233,  1,     34,02-9457,2,19920723,0226,-30.0725, 156.4742, 4815,    110.6,  20.2095,  35.5567,2,  35.5545,2,    211.7,2,    219.0,2,     0.75,2,     0.45,2,     0.15,2,     0.18,2,    2.121,2,    1.146,2, -999.000,9,-999.0000,9,  -999.00,9,   -999.0,9,  -999.00,9,-999.000,9,   2004.1,2,    317.4,2,   20.30,  -999.0,-999.0000,-999.000,-999.000, 20.1889,-999.000
     316N138_5,  P06W,   233,  1,     33,1385-33,2,19920723,0226,-30.0725, 156.4742, 4815,    161.5,  19.5110,  35.5550,2,  35.5511,2,    217.7,2,    221.4,2,     0.57,2,     0.53,2,     0.17,2,     0.20,2, -999.000,5, -999.000,5, -999.000,9,-999.0000,9,  -999.00,9,   -999.0,9,  -999.00,9,-999.000,9,   2011.7,2,   -999.0,9, -999.00,  -999.0,-999.0000,-999.000,-999.000, 19.4816,-999.000
     316N138_5,  P06W,   233,  1,     32,02-9510,2,19920723,0226,-30.0725, 156.4742, 4815,    211.5,  18.4665,  35.5535,2,  35.5567,2,    188.1,2,    183.0,2,     1.62,2,     5.25,2,     0.02,2,     0.51,2,    1.925,2,    1.078,2, -999.000,9,-999.0000,9,  -999.00,9,   -999.0,9,  -999.00,9,-999.000,9,   2056.2,2,    405.8,2,   20.30,  -999.0,-999.0000,-999.000,-999.000, 18.4294,-999.000
     316N138_5,  P06W,   233,  1,     31,02-9453,4,19920723,0226,-30.0725, 156.4742, 4815,    258.6,  17.4216,  35.5186,2,-999.0000,9,    184.1,2,   -999.0,9,  -999.00,9,  -999.00,9,  -999.00,9,  -999.00,9, -999.000,5, -999.000,5, -999.000,9,-999.0000,9,  -999.00,9,   -999.0,9,  -999.00,9,-999.000,9,   -999.0,9,   -999.0,9, -999.00,  -999.0,-999.0000,-999.000,-999.000, 17.3779,-999.000
     316N138_5,  P06W,   233,  1,     30,02-9456,2,19920723,0226,-30.0725, 156.4742, 4815,    312.7,  15.9991,  35.4007,2,  35.3987,2,    183.4,2,    181.6,2,     2.86,2,     8.51,2,     0.01,2,     0.71,2,    1.772,2,    0.932,2, -999.000,9,-999.0000,9,  -999.00,9,   -999.0,9,  -999.00,9,-999.000,9,   2082.0,2,    507.9,2,   20.30,  -999.0,-999.0000,-999.000,-999.000, 15.9493,-999.000
     316N138_5,  P06W,   233,  1,     29,02-9458,2,19920723,0226,-30.0725, 156.4742, 4815,    357.7,  14.6926,  35.3117,2,  35.3171,2,    186.6,2,    187.4,2,     3.55,2,     9.88,2,     0.01,2,     0.81,2, -999.000,5, -999.000,5, -999.000,9,-999.0000,9,  -999.00,9,   -999.0,9,  -999.00,9,-999.000,9,   2092.0,2,   -999.0,9, -999.00,  -999.0,-999.0000,-999.000,-999.000, 14.6388,-999.000
     316N138_5,  P06W,   233,  1,     28,02-9454,2,19920723,0226,-30.0725, 156.4742, 4815,    406.3,  13.3177,  35.1695,2,  35.1671,2,    190.2,2,    185.0,2,     4.61,2,    12.45,2,     0.00,2,     0.97,2,    1.632,2,    0.833,2, -999.000,9,-999.0000,9,  -999.00,9,   -999.0,9,  -999.00,9,-999.000,9,   2106.4,2,    566.0,2,   20.30,  -999.0,-999.0000,-999.000,-999.000, 13.2604,-999.000
     316N138_5,  P06W,   233,  1,     27,02-9543,2,19920723,0226,-30.0725, 156.4742, 4815,    497.6,  11.6373,  34.9883,2,  34.9923,2,    186.7,2,    188.9,2,     6.01,2,    15.30,2,     0.00,2,     1.15,2,    1.518,2,    0.761,2, -999.000,9,-999.0000,9,  -999.00,9,   -999.0,9,  -999.00,9,-999.000,9,   2120.2,2,   -999.0,9, -999.00,  -999.0,-999.0000,-999.000,-999.000, 11.5729,-999.000
     316N138_5,  P06W,   233,  1,     26,02-9544,2,19920723,0226,-30.0725, 156.4742, 4815,    606.1,   9.4368,  34.7290,2,  34.7304,2,    192.9,2,    190.5,2,     9.74,2,    20.13,2,     0.00,2,     1.46,2,    1.008,2,    0.500,2, -999.000,9,-999.0000,9,  -999.00,9,   -999.0,9,  -999.00,9,-999.000,9,   2138.5,2,    740.7,2,   20.30,  -999.0,-999.0000,-999.000,-999.000,  9.3678,-999.000
     316N138_5,  P06W,   233,  1,     25,02-9455,2,19920723,0226,-30.0725, 156.4742, 4815,    708.8,   8.3030,  34.6136,2,  34.6174,2,    192.0,2,    192.1,2,    13.27,2,    22.64,2,     0.00,2,     1.60,2,    0.657,2,    0.328,2, -999.000,9,-999.0000,9,  -999.00,9,   -999.0,9,  -999.00,9,-999.000,9,   2148.1,2,   -999.0,9, -999.00,  -999.0,-999.0000,-999.000,-999.000,  8.2278,-999.000
     316N138_5,  P06W,   233,  1,     24,    132,2,19920723,0226,-30.0725, 156.4742, 4815,    809.0,   7.0128,  34.5116,2,  34.5215,2,    190.8,2,    189.6,2,    19.11,2,    25.44,2,     0.00,2,     1.80,2,    0.352,2,    0.180,2, -999.000,9,-999.0000,9,  -999.00,9,   -999.0,9,  -999.00,9,-999.000,9,   2163.8,2,    888.4,2,   20.30,  -999.0,-999.0000,-999.000,-999.000,  6.9342,-999.000
     316N138_5,  P06W,   233,  1,     23,    123,2,19920723,0226,-30.0725, 156.4742, 4815,    909.3,   6.0367,  34.4746,2,  34.4754,2,    187.1,2,    183.7,2,    29.58,2,    28.30,2,     0.00,2,     1.99,2,    0.154,2,    0.090,2, -999.000,9,-999.0000,9,  -999.00,9,   -999.0,9,  -999.00,9,-999.000,9,   2183.7,2,   -999.0,9, -999.00,  -999.0,-999.0000,-999.000,-999.000,  5.9544,-999.000
     316N138_5,  P06W,   233,  1,     22,    128,2,19920723,0226,-30.0725, 156.4742, 4815,   1005.7,   5.6435,  34.4676,2,  34.4671,2,    183.1,2,    180.5,2,    34.89,2,    29.22,2,     0.00,2,     2.07,2,    0.125,2,    0.072,2, -999.000,9,-999.0000,9,  -999.00,9,   -999.0,9,  -999.00,9,-999.000,9,   2191.9,2,    988.0,2,   20.30,  -999.0,-999.0000,-999.000,-999.000,  5.5549,-999.000
     316N138_5,  P06W,   233,  1,     21,    121,2,19920723,0226,-30.0725, 156.4742, 4815,   1109.8,   4.8549,  34.4772,2,  34.4777,2,    178.8,3,    174.3,2,    47.82,2,    30.99,2,     0.00,2,     2.20,2,    0.067,2,    0.037,2, -999.000,9,-999.0000,9,  -999.00,9,   -999.0,9,  -999.00,9,-999.000,9,   2212.3,2,   -999.0,9, -999.00,  -999.0,-999.0000,-999.000,-999.000,  4.7629,-999.000
     316N138_5,  P06W,   233,  1,     20,    515,2,19920723,0226,-30.0725, 156.4742, 4815,   1216.0,   4.2219,  34.4998,2,  34.5076,2,    168.9,2,    166.1,2,    61.11,2,    32.51,2,     0.00,2,     2.31,2,    0.032,2,    0.029,2, -999.000,9,-999.0000,9,  -999.00,9,   -999.0,9,  -999.00,9,-999.000,9,   2232.5,2,   -999.0,9, -999.00,  -999.0,-999.0000,-999.000,-999.000,  4.1258,-999.000
     316N138_5,  P06W,   233,  1,     19,    120,2,19920723,0226,-30.0725, 156.4742, 4815,   1302.8,   3.8157,  34.5236,2,  34.5252,2,    162.4,2,    159.7,2,    70.67,2,    33.44,2,     0.00,2,     2.38,2,    0.011,2,    0.006,2, -999.000,9,-999.0000,9,  -999.00,9,   -999.0,9,  -999.00,9,-999.000,9,   2247.2,2,   -999.0,9, -999.00,  -999.0,-999.0000,-999.000,-999.000,  3.7159,-999.000
     316N138_5,  P06W,   233,  1,     18,    118,2,19920723,0226,-30.0725, 156.4742, 4815,   1409.3,   3.4922,  34.5466,2,  34.5470,2,    157.3,2,    154.8,2,    79.36,2,    34.21,2,     0.01,2,     2.43,2,    0.003,2,    0.003,2, -999.000,9,-999.0000,9,  -999.00,9,   -999.0,9,  -999.00,9,-999.000,9,   2260.0,2,   1133.6,2,   20.30,  -999.0,-999.0000,-999.000,-999.000,  3.3866,-999.000
     316N138_5,  P06W,   233,  1,     17,    514,2,19920723,0226,-30.0725, 156.4742, 4815,   1618.1,   2.9419,  34.5939,2,  34.5946,2,    150.8,2,    148.6,2,    93.89,2,    35.00,2,     0.00,2,     2.50,2,   -0.001,2,   -0.001,2, -999.000,9,-999.0000,9,  -999.00,9,   -999.0,9,  -999.00,9,-999.000,9,   2279.2,2,   -999.0,9, -999.00,  -999.0,-999.0000,-999.000,-999.000,  2.8248,-999.000
     316N138_5,  P06W,   233,  1,     16,    116,2,19920723,0226,-30.0725, 156.4742, 4815,   1818.9,   2.5886,  34.6305,2,  34.6305,2,    154.5,2,    152.8,2,    97.77,2,    34.75,2,     0.00,2,     2.48,2,    0.001,2,    0.001,2, -999.000,9,-999.0000,9,  -999.00,9,   -999.0,9,  -999.00,9,-999.000,9,   2281.2,6,   1188.6,2,   20.30,  -999.0,-999.0000,-999.000,-999.000,  2.4589,-999.000
     316N138_5,  P06W,   233,  1,     15,    115,2,19920723,0226,-30.0725, 156.4742, 4815,   2010.5,   2.3634,  34.6610,2,  34.6620,2,    161.9,2,    161.2,2,    96.69,2,    34.05,2,     0.00,2,     2.43,2,   -0.002,2,    0.000,2, -999.000,9,-999.0000,9,  -999.00,9,   -999.0,9,  -999.00,9,-999.000,9,   2275.1,2,   -999.0,9, -999.00,  -999.0,-999.0000,-999.000,-999.000,  2.2205,-999.000
     316N138_5,  P06W,   233,  1,     14,    513,2,19920723,0226,-30.0725, 156.4742, 4815,   2209.7,   2.2112,  34.6864,2,  34.7019,4,    169.7,2,    170.4,2,    93.49,2,    33.11,2,     0.01,2,  -999.00,5,    0.001,2,    0.002,2, -999.000,9,-999.0000,9,  -999.00,9,   -999.0,9,  -999.00,9,-999.000,9,   2267.7,2,   1122.0,2,   20.30,  -999.0,-999.0000,-999.000,-999.000,  2.0531,-999.000
     316N138_5,  P06W,   233,  1,     13,    125,2,19920723,0226,-30.0725, 156.4742, 4815,   2412.2,   2.0548,  34.7077,2,  34.7077,2,    176.8,2,    175.7,2,    94.36,2,    32.56,2,     0.00,2,     2.33,2,    0.001,2,    0.000,2, -999.000,9,-999.0000,9,  -999.00,9,   -999.0,9,  -999.00,9,-999.000,9,   2264.0,2,   -999.0,9, -999.00,  -999.0,-999.0000,-999.000,-999.000,  1.8813,-999.000
     316N138_5,  P06W,   233,  1,     12,    112,2,19920723,0226,-30.0725, 156.4742, 4815,   2608.9,   1.8605,  34.7193,2,  34.7213,2,    181.6,2,    182.2,2,    98.42,2,    32.25,2,     0.01,2,     2.29,2,    0.000,2,    0.005,2, -999.000,9,-999.0000,9,  -999.00,9,   -999.0,9,  -999.00,9,-999.000,9,   2264.5,2,   1088.7,2,   20.30,  -999.0,-999.0000,-999.000,-999.000,  1.6726,-999.000
     316N138_5,  P06W,   233,  1,     11,    129,2,19920723,0226,-30.0725, 156.4742, 4815,   2800.9,   1.6875,  34.7238,2,  34.7284,3,    186.2,2,    186.0,2,   102.30,2,    32.15,2,     0.01,2,     2.29,2,    0.008,4,    0.001,2, -999.000,9,-999.0000,9,  -999.00,9,   -999.0,9,  -999.00,9,-999.000,9,   2265.2,2,   -999.0,9, -999.00,  -999.0,-999.0000,-999.000,-999.000,  1.4852,-999.000
     316N138_5,  P06W,   233,  1,     10,    110,2,19920723,0226,-30.0725, 156.4742, 4815,   3000.1,   1.5436,  34.7243,2,  34.7266,2,    189.8,2,    188.7,2,   105.84,2,    32.24,2,     0.01,2,     2.29,2,   -0.002,2,    0.000,2, -999.000,9,-999.0000,9,  -999.00,9,   -999.0,9,  -999.00,9,-999.000,9,   2266.9,2,   1126.6,2,   20.30,  -999.0,-999.0000,-999.000,-999.000,  1.3256,-999.000
     316N138_5,  P06W,   233,  1,      9,    126,2,19920723,0226,-30.0725, 156.4742, 4815,   3199.9,   1.3911,  34.7232,2,  34.7221,2,    192.0,2,    191.2,2,   109.90,2,    32.33,2,     0.01,2,     2.30,2,   -0.001,2,   -0.001,2, -999.000,9,-999.0000,9,  -999.00,9,   -999.0,9,  -999.00,9,-999.000,9,   2269.8,2,   -999.0,9, -999.00,  -999.0,-999.0000,-999.000,-999.000,  1.1572,-999.000
     316N138_5,  P06W,   233,  1,      8,    108,2,19920723,0226,-30.0725, 156.4742, 4815,   3389.3,   1.2871,  34.7207,2,  34.7199,2,    194.1,2,    193.0,2,   112.73,2,    32.37,2,     0.01,2,     2.31,2,   -0.001,2,   -0.001,2, -999.000,9,-999.0000,9,  -999.00,9,   -999.0,9,  -999.00,9,-999.000,9,   2272.4,2,   -999.0,9, -999.00,  -999.0,-999.0000,-999.000,-999.000,  1.0373,-999.000
     316N138_5,  P06W,   233,  1,      7,    107,2,19920723,0226,-30.0725, 156.4742, 4815,   3584.4,   1.2442,  34.7185,2,  34.7209,2,    194.7,2,    193.4,2,   114.13,2,    32.46,2,     0.01,2,     2.32,2, -999.000,5, -999.000,5, -999.000,9,-999.0000,9,  -999.00,9,   -999.0,9,  -999.00,9,-999.000,9,   2272.7,2,   1056.5,2,   20.30,  -999.0,-999.0000,-999.000,-999.000,  0.9758,-999.000
     316N138_5,  P06W,   233,  1,      6,    180,2,19920723,0226,-30.0725, 156.4742, 4815,   3775.2,   1.1823,  34.7173,2,  34.7172,2,    195.1,2,    194.8,2,   116.25,2,    32.56,2,     0.01,2,     2.31,2,    0.001,2,    0.001,2, -999.000,9,-999.0000,9,  -999.00,9,   -999.0,9,  -999.00,9,-999.000,9,   2274.5,2,   -999.0,9, -999.00,  -999.0,-999.0000,-999.000,-999.000,  0.8959,-999.000
     316N138_5,  P06W,   233,  1,      5,    131,2,19920723,0226,-30.0725, 156.4742, 4815,   3982.2,   1.1770,  34.7171,2,  34.7172,2,    195.6,2,    194.7,2,   116.77,2,    32.60,2,     0.01,2,     2.31,2, -999.000,5, -999.000,5, -999.000,9,-999.0000,9,  -999.00,9,   -999.0,9,  -999.00,9,-999.000,9,   2275.3,2,   -999.0,9, -999.00,  -999.0,-999.0000,-999.000,-999.000,  0.8689,-999.000
     316N138_5,  P06W,   233,  1,      4,    516,2,19920723,0226,-30.0725, 156.4742, 4815,   4203.1,   1.1663,  34.7158,2,  34.7282,3,    195.6,2,    195.7,2,   117.46,2,    32.59,2,     0.01,2,     2.32,2,    0.011,4,    0.000,2, -999.000,9,-999.0000,9,  -999.00,9,   -999.0,9,  -999.00,9,-999.000,9,   2276.4,2,   1046.2,2,   20.30,  -999.0,-999.0000,-999.000,-999.000,  0.8346,-999.000
     316N138_5,  P06W,   233,  1,      3,    130,2,19920723,0226,-30.0725, 156.4742, 4815,   4417.9,   1.1743,  34.7160,2,  34.7205,4,    196.2,2,    195.4,2,   117.98,2,    32.64,2,     0.01,2,     2.32,2, -999.000,5, -999.000,5, -999.000,9,-999.0000,9,  -999.00,9,   -999.0,9,  -999.00,9,-999.000,9,   2276.4,2,   -999.0,9, -999.00,  -999.0,-999.0000,-999.000,-999.000,  0.8185,-999.000
     316N138_5,  P06W,   233,  1,      2,    136,2,19920723,0226,-30.0725, 156.4742, 4815,   4579.0,   1.1851,  34.7153,2,  34.7142,2,    195.2,2,    195.3,2,   118.14,2,    32.68,2,     0.01,2,     2.31,2,    0.003,2,    0.003,2, -999.000,9,-999.0000,9,  -999.00,9,   -999.0,9,  -999.00,9,-999.000,9,   2277.2,2,   -999.0,9, -999.00,  -999.0,-999.0000,-999.000,-999.000,  0.8107,-999.000
     316N138_5,  P06W,   233,  1,      1,    134,2,19920723,0226,-30.0725, 156.4742, 4815,   4796.8,   1.2042,  34.7143,2,  34.7146,2,    195.5,2,    195.5,2,   118.41,2,    32.68,2,     0.00,2,     2.30,2,    0.003,2,    0.002,2, -999.000,9,-999.0000,9,  -999.00,9,   -999.0,9,  -999.00,9,-999.000,9,   2278.1,6,   1044.0,2,   20.30,  -999.0,-999.0000,-999.000,-999.000,  0.8039,-999.000