BOTTLE,20030219WHPSIOdm
EXPOCODE,SECT_ID,STNNBR,CASTNO,SAMPNO,BTLNBR,BTLNBR_FLAG_W,DATE,TIME,LATITUDE,LONGITUDE,DEPTH,CTDPRS,CTDTMP,CTDSAL,CTDSAL_FLAG_W,SALNTY,SALNTY_FLAG_W,CTDOXY,CTDOXY_FLAG_W,OXYGEN,OXYGEN_FLAG_W,SILCAT,SILCAT_FLAG_W,NITRAT,NITRAT_FLAG_W,NITRIT,NITRIT_FLAG_W,PHSPHT,PHSPHT_FLAG_W,CFC-11,CFC-11_FLAG_W,CFC-12,CFC-12_FLAG_W,TRITUM,TRITUM_FLAG_W,HELIUM,HELIUM_FLAG_W,DELHE3,DELHE3_FLAG_W,DELC14,DELC14_FLAG_W,DELC13,DELC13_FLAG_W,NEON,NEON_FLAG_W,TCARBN,TCARBN_FLAG_W,PCO2,PCO2_FLAG_W,PCO2TMP,C14ERR,HELIER,DELHER,NEONER,THETA,TRITER
,,,,,,,,,,,,DBAR,ITS-90,PSS-78,,PSS-78,,UMOL/KG,,UMOL/KG,,UMOL/KG,,UMOL/KG,,UMOL/KG,,UMOL/KG,,PMOL/KG,,PMOL/KG,,TU,,NMOL/KG,,PERCNT,,/MILLE,,/MILLE,,NMOL/KG,,UMOL/KG,,UATM,,DEG_C,/MILLE,NMOL/KG,PERCNT,NMOL/KG,ITS-90,TU
     316N138_5,  P06W,   243,  1,     24,    132,2,19920725,0233,-30.0952, 153.6678, 2753,     19.6,  22.2324,  35.5072,2,  35.5074,2,    246.0,3,    213.0,2,     0.74,2,     0.18,2,     0.03,2,     0.16,2,    1.958,2,    1.059,2, -999.000,9,-999.0000,9,  -999.00,9,    124.5,2,     1.45,2,-999.000,9,   -999.0,9,   -999.0,9, -999.00,     2.8,-999.0000,-999.000,-999.000, 22.2285,-999.000
     316N138_5,  P06W,   243,  1,     23,    123,2,19920725,0233,-30.0952, 153.6678, 2753,     59.6,  22.2252,  35.5089,2,  35.5046,2,    220.3,2,    212.2,2,     0.74,2,     0.21,2,     0.04,2,     0.17,2,    1.941,2,    1.036,2, -999.000,9,-999.0000,9,  -999.00,9,   -999.0,9,  -999.00,9,-999.000,9,   -999.0,9,   -999.0,9, -999.00,  -999.0,-999.0000,-999.000,-999.000, 22.2133,-999.000
     316N138_5,  P06W,   243,  1,     22,    128,2,19920725,0233,-30.0952, 153.6678, 2753,    109.4,  20.8237,  35.5625,2,  35.5663,2,    195.6,2,    174.0,2,     1.46,2,     4.39,2,     0.03,2,     0.46,2,    1.821,2,    0.976,2, -999.000,9,-999.0000,9,  -999.00,9,    122.0,2,     1.18,2,-999.000,9,   -999.0,9,   -999.0,9, -999.00,     3.0,-999.0000,-999.000,-999.000, 20.8029,-999.000
     316N138_5,  P06W,   243,  1,     21,    121,2,19920725,0233,-30.0952, 153.6678, 2753,    159.7,  19.3309,  35.5663,2,  35.5646,2,    184.3,2,    180.8,2,     1.65,2,     4.66,2,     0.03,2,     0.48,2,    1.892,2,    0.994,2, -999.000,9,-999.0000,9,  -999.00,9,   -999.0,9,  -999.00,9,-999.000,9,   -999.0,9,   -999.0,9, -999.00,  -999.0,-999.0000,-999.000,-999.000, 19.3020,-999.000
     316N138_5,  P06W,   243,  1,     20,    515,2,19920725,0233,-30.0952, 153.6678, 2753,    209.1,  17.7796,  35.4996,2,  35.4914,2,    181.1,2,    173.7,2,     2.55,2,     7.14,2,     0.02,2,     0.65,2,    1.725,2,    0.914,2, -999.000,9,-999.0000,9,  -999.00,9,    110.4,2,     1.15,2,-999.000,9,   -999.0,9,   -999.0,9, -999.00,     2.8,-999.0000,-999.000,-999.000, 17.7438,-999.000
     316N138_5,  P06W,   243,  1,     19,    120,2,19920725,0233,-30.0952, 153.6678, 2753,    258.2,  16.3259,  35.4534,2,  35.4143,2,    180.0,2,    177.8,2,     3.09,2,     8.41,2,     0.02,2,     0.73,2,    1.699,2,    0.889,2, -999.000,9,-999.0000,9,  -999.00,9,   -999.0,9,  -999.00,9,-999.000,9,   -999.0,9,   -999.0,9, -999.00,  -999.0,-999.0000,-999.000,-999.000, 16.2843,-999.000
     316N138_5,  P06W,   243,  1,     18,    118,2,19920725,0233,-30.0952, 153.6678, 2753,    307.0,  14.5159,  35.2736,2,  35.2643,2,    182.2,2,    180.5,2,     3.99,2,    10.79,2,     0.02,2,     0.89,2,    1.597,2,    0.817,2, -999.000,9,-999.0000,9,  -999.00,9,     70.8,2,     1.15,2,-999.000,9,   -999.0,9,   -999.0,9, -999.00,     2.7,-999.0000,-999.000,-999.000, 14.4702,-999.000
     316N138_5,  P06W,   243,  1,     17,    514,2,19920725,0233,-30.0952, 153.6678, 2753,    404.2,  11.6268,  34.9608,2,  34.9823,2,    189.1,2,    186.7,2,     6.34,2,    15.33,2,     0.02,2,     1.16,2,    1.416,2,    0.721,2, -999.000,9,-999.0000,9,  -999.00,9,     30.5,2,     1.16,2,-999.000,9,   -999.0,9,   -999.0,9, -999.00,     4.2,-999.0000,-999.000,-999.000, 11.5747,-999.000
     316N138_5,  P06W,   243,  1,     16,    116,2,19920725,0233,-30.0952, 153.6678, 2753,    500.0,  10.0348,  34.7967,2,  34.7954,2,    190.6,2,    190.4,2,     8.32,2,    18.56,2,     0.02,2,     1.37,2,    1.222,2,    0.613,2, -999.000,9,-999.0000,9,  -999.00,9,     16.0,2,     1.12,2,-999.000,9,   -999.0,9,   -999.0,9, -999.00,     2.6,-999.0000,-999.000,-999.000,  9.9759,-999.000
     316N138_5,  P06W,   243,  1,     15,    115,2,19920725,0233,-30.0952, 153.6678, 2753,    593.5,   8.5500,  34.6321,2,  34.6362,2,    193.9,2,    191.5,2,    12.28,2,    21.90,2,     0.02,2,     1.58,2,    0.753,2,    0.390,2, -999.000,9,-999.0000,9,  -999.00,9,    -20.5,2,     1.13,2,-999.000,9,   -999.0,9,   -999.0,9, -999.00,     2.8,-999.0000,-999.000,-999.000,  8.4864,-999.000
     316N138_5,  P06W,   243,  1,     14,    513,2,19920725,0233,-30.0952, 153.6678, 2753,    677.6,   7.7663,  34.5584,2,  34.5606,2,    192.6,2,    191.9,2,    15.16,2,    23.60,2,     0.01,2,     1.70,2,    0.472,2,    0.256,2, -999.000,9,-999.0000,9,  -999.00,9,    -41.9,2,     1.16,2,-999.000,9,   -999.0,9,   -999.0,9, -999.00,     2.5,-999.0000,-999.000,-999.000,  7.6973,-999.000
     316N138_5,  P06W,   243,  1,     13,    125,2,19920725,0233,-30.0952, 153.6678, 2753,    762.2,   7.0304,  34.5055,2,  34.5058,2,    190.7,2,    191.2,2,    19.66,2,    25.46,2,     0.00,2,     1.82,2,    0.321,2,    0.194,2, -999.000,9,-999.0000,9,  -999.00,9,    -62.1,2,     1.07,2,-999.000,9,   -999.0,9,   -999.0,9, -999.00,     2.6,-999.0000,-999.000,-999.000,  6.9565,-999.000
     316N138_5,  P06W,   243,  1,     12,    112,2,19920725,0233,-30.0952, 153.6678, 2753,    848.8,   6.2375,  34.4699,2,  34.4699,2,    189.7,2,    187.5,2,    26.87,2,    27.42,2,     0.00,2,     1.97,2,    0.183,2,    0.099,2, -999.000,9,-999.0000,9,  -999.00,9,    -85.1,2,     1.00,2,-999.000,9,   -999.0,9,   -999.0,9, -999.00,     2.5,-999.0000,-999.000,-999.000,  6.1598,-999.000
     316N138_5,  P06W,   243,  1,     11,    129,2,19920725,0233,-30.0952, 153.6678, 2753,    933.9,   5.5570,  34.4627,2,  34.4620,2,    185.6,2,    181.7,2,    36.04,2,    29.12,2,     0.00,2,     2.07,2, -999.000,5, -999.000,5, -999.000,9,-999.0000,9,  -999.00,9,   -102.9,2,     0.92,2,-999.000,9,   -999.0,9,   -999.0,9, -999.00,     2.5,-999.0000,-999.000,-999.000,  5.4758,-999.000
     316N138_5,  P06W,   243,  1,     10,    110,2,19920725,0233,-30.0952, 153.6678, 2753,   1015.6,   4.9577,  34.4677,2,  34.4675,2,    176.0,2,    174.8,2,    45.95,2,    30.71,2,     0.00,2,     2.20,2,    0.058,2,    0.034,2, -999.000,9,-999.0000,9,  -999.00,9,   -999.0,9,  -999.00,9,-999.000,9,   -999.0,9,   -999.0,9, -999.00,  -999.0,-999.0000,-999.000,-999.000,  4.8734,-999.000
     316N138_5,  P06W,   243,  1,      9,    126,2,19920725,0233,-30.0952, 153.6678, 2753,   1097.1,   4.4270,  34.4893,2,  34.4868,2,    170.0,2,    168.4,2,    56.75,2,    31.98,2,     0.00,2,     2.30,2,    0.029,2,    0.015,2, -999.000,9,-999.0000,9,  -999.00,9,   -141.4,2,     0.68,2,-999.000,9,   -999.0,9,   -999.0,9, -999.00,     3.7,-999.0000,-999.000,-999.000,  4.3398,-999.000
     316N138_5,  P06W,   243,  1,      8,    108,2,19920725,0233,-30.0952, 153.6678, 2753,   1275.4,   3.6276,  34.5366,2,  34.4697,4,    157.4,2,    187.4,4,    26.87,4,    27.58,4,     0.00,4,     1.95,4, -999.000,5, -999.000,5, -999.000,9,-999.0000,9,  -999.00,9,   -999.0,9,  -999.00,9,-999.000,9,   -999.0,9,   -999.0,9, -999.00,  -999.0,-999.0000,-999.000,-999.000,  3.5321,-999.000
     316N138_5,  P06W,   243,  1,      7,    107,2,19920725,0233,-30.0952, 153.6678, 2753,   1465.5,   3.0664,  34.5834,2,  34.5820,2,    150.7,2,    150.8,2,    90.58,2,    34.73,2,     0.00,2,     2.49,2,    0.006,2,   -0.005,2, -999.000,9,-999.0000,9,  -999.00,9,   -180.9,2,     0.42,2,-999.000,9,   -999.0,9,   -999.0,9, -999.00,     2.3,-999.0000,-999.000,-999.000,  2.9607,-999.000
     316N138_5,  P06W,   243,  1,      6,    180,2,19920725,0233,-30.0952, 153.6678, 2753,   1644.4,   2.6726,  34.6205,2,  34.6207,2,    152.0,2,    152.9,2,    96.15,2,    34.68,2,     0.00,2,     2.48,2, -999.000,5, -999.000,5, -999.000,9,-999.0000,9,  -999.00,9,   -999.0,9,  -999.00,9,-999.000,9,   -999.0,9,   -999.0,9, -999.00,  -999.0,-999.0000,-999.000,-999.000,  2.5565,-999.000
     316N138_5,  P06W,   243,  1,      5,    131,2,19920725,0233,-30.0952, 153.6678, 2753,   1829.5,   2.3765,  34.6572,2,  34.6565,2,    160.9,2,    161.4,2,    95.96,2,    34.09,2,     0.00,2,     2.42,2,    0.001,2,    0.001,2, -999.000,9,-999.0000,9,  -999.00,9,   -182.1,2,     0.37,2,-999.000,9,   -999.0,9,   -999.0,9, -999.00,     2.5,-999.0000,-999.000,-999.000,  2.2488,-999.000
     316N138_5,  P06W,   243,  1,      4,    516,2,19920725,0233,-30.0952, 153.6678, 2753,   2020.1,   2.2298,  34.6788,2,  34.6834,3,    167.7,2,    167.5,2,    95.42,2,    33.52,2,     0.00,2,     2.38,2, -999.000,5, -999.000,5, -999.000,9,-999.0000,9,  -999.00,9,   -999.0,9,  -999.00,9,-999.000,9,   -999.0,9,   -999.0,9, -999.00,  -999.0,-999.0000,-999.000,-999.000,  2.0880,-999.000
     316N138_5,  P06W,   243,  1,      3,    130,2,19920725,0233,-30.0952, 153.6678, 2753,   2209.6,   2.0546,  34.7003,2,  34.6999,2,    175.2,2,    175.1,2,    95.78,2,    32.88,2,     0.00,2,     2.31,2,    0.004,2,    0.002,2, -999.000,9,-999.0000,9,  -999.00,9,   -173.1,2,     0.40,2,-999.000,9,   -999.0,9,   -999.0,9, -999.00,     2.5,-999.0000,-999.000,-999.000,  1.8991,-999.000
     316N138_5,  P06W,   243,  1,      2,    136,2,19920725,0233,-30.0952, 153.6678, 2753,   2401.2,   1.8777,  34.7132,2,  34.7087,3,    180.5,2,    178.6,4,    97.40,2,    32.56,2,     0.00,2,     2.30,2, -999.000,5, -999.000,5, -999.000,9,-999.0000,9,  -999.00,9,   -999.0,9,  -999.00,9,-999.000,9,   -999.0,9,   -999.0,9, -999.00,  -999.0,-999.0000,-999.000,-999.000,  1.7084,-999.000
     316N138_5,  P06W,   243,  1,      1,    134,2,19920725,0233,-30.0952, 153.6678, 2753,   2622.8,   1.7296,  34.7202,2,  34.7207,2,    186.2,2,    186.1,2,   101.81,2,    32.13,2,     0.00,2,     2.26,2,    0.002,2,    0.000,2, -999.000,9,-999.0000,9,  -999.00,9,   -177.1,2,     0.31,2,-999.000,9,   -999.0,9,   -999.0,9, -999.00,     2.5,-999.0000,-999.000,-999.000,  1.5430,-999.000
     316N138_5,  P06W,   244,  1,     15,    115,2,19920725,0455,-30.0945, 153.5898, 1112,     16.3,  21.8145,  35.5237,2,  35.5239,2,    225.7,2,    220.5,2,     0.63,2,     0.06,2,     0.01,2,     0.16,2,    1.980,2,    1.107,2, -999.000,9,-999.0000,9,  -999.00,9,   -999.0,9,  -999.00,9,-999.000,9,   1987.3,2,   -999.0,9, -999.00,  -999.0,-999.0000,-999.000,-999.000, 21.8113,-999.000
     316N138_5,  P06W,   244,  1,     14,    513,2,19920725,0455,-30.0945, 153.5898, 1112,     55.7,  21.7688,  35.5233,2,  35.5249,2,    215.7,2,    219.9,2,     0.62,2,     0.00,2,     0.01,2,     0.18,2, -999.000,5, -999.000,5, -999.000,9,-999.0000,9,  -999.00,9,   -999.0,9,  -999.00,9,-999.000,9,   1987.4,2,   -999.0,9, -999.00,  -999.0,-999.0000,-999.000,-999.000, 21.7579,-999.000
     316N138_5,  P06W,   244,  1,     13,    125,2,19920725,0455,-30.0945, 153.5898, 1112,    105.8,  20.5967,  35.5073,2,  35.5062,2,    186.2,2,    199.3,2,     1.34,2,     1.42,2,     0.26,2,     0.31,2,    1.975,2,    1.050,2, -999.000,9,-999.0000,9,  -999.00,9,   -999.0,9,  -999.00,9,-999.000,9,   2011.5,2,   -999.0,9, -999.00,  -999.0,-999.0000,-999.000,-999.000, 20.5767,-999.000
     316N138_5,  P06W,   244,  1,     12,    112,2,19920725,0455,-30.0945, 153.5898, 1112,    150.0,  19.2650,  35.5461,2,  35.5452,2,    171.8,2,    171.0,2,     2.05,2,     5.78,2,     0.01,2,     0.57,2,    1.763,2,    0.932,2, -999.000,9,-999.0000,9,  -999.00,9,   -999.0,9,  -999.00,9,-999.000,9,   2059.7,2,   -999.0,9, -999.00,  -999.0,-999.0000,-999.000,-999.000, 19.2379,-999.000
     316N138_5,  P06W,   244,  1,     11,    129,2,19920725,0455,-30.0945, 153.5898, 1112,    202.8,  17.5079,  35.4772,2,  35.4770,2,    175.4,2,    174.7,2,     2.58,2,     7.19,2,     0.01,2,     0.65,2,    1.729,2,    0.908,2, -999.000,9,-999.0000,9,  -999.00,9,   -999.0,9,  -999.00,9,-999.000,9,   2073.1,2,   -999.0,9, -999.00,  -999.0,-999.0000,-999.000,-999.000, 17.4736,-999.000
     316N138_5,  P06W,   244,  1,     10,    110,2,19920725,0455,-30.0945, 153.5898, 1112,    253.7,  14.8309,  35.2685,2,  35.2834,2,    178.2,2,    178.4,2,     4.00,2,    10.56,2,     0.01,2,     0.87,2,    1.556,2,    0.800,2, -999.000,9,-999.0000,9,  -999.00,9,   -999.0,9,  -999.00,9,-999.000,9,   2094.5,2,   -999.0,9, -999.00,  -999.0,-999.0000,-999.000,-999.000, 14.7926,-999.000
     316N138_5,  P06W,   244,  1,      9,    126,2,19920725,0455,-30.0945, 153.5898, 1112,    304.3,  12.5876,  35.0669,2,  35.0634,2,    182.4,2,    181.8,2,     5.78,2,    14.02,2,     0.02,2,     1.09,2,    1.372,2,    0.698,2, -999.000,9,-999.0000,9,  -999.00,9,   -999.0,9,  -999.00,9,-999.000,9,   2114.3,2,   -999.0,9, -999.00,  -999.0,-999.0000,-999.000,-999.000, 12.5464,-999.000
     316N138_5,  P06W,   244,  1,      8,    108,2,19920725,0455,-30.0945, 153.5898, 1112,    396.5,  11.0007,  34.8997,2,  34.8926,2,    184.4,2,    186.2,2,     7.74,2,    16.93,2,     0.01,2,     1.29,2,    1.186,2,    0.601,2, -999.000,9,-999.0000,9,  -999.00,9,   -999.0,9,  -999.00,9,-999.000,9,   2126.5,2,   -999.0,9, -999.00,  -999.0,-999.0000,-999.000,-999.000, 10.9514,-999.000
     316N138_5,  P06W,   244,  1,      7,    107,2,19920725,0455,-30.0945, 153.5898, 1112,    488.8,   9.3922,  34.7225,2,  34.7199,2,    189.1,2,    190.1,2,     9.88,2,    19.94,2,     0.00,2,     1.49,2,    0.969,2,    0.499,2, -999.000,9,-999.0000,9,  -999.00,9,   -999.0,9,  -999.00,9,-999.000,9,   2139.1,2,   -999.0,9, -999.00,  -999.0,-999.0000,-999.000,-999.000,  9.3371,-999.000
     316N138_5,  P06W,   244,  1,      6,    180,2,19920725,0455,-30.0945, 153.5898, 1112,    579.4,   8.4270,  34.6273,2,  34.6197,2,    190.1,2,    190.6,2,    12.91,2,    22.05,2,     0.00,2,     1.60,2, -999.000,5, -999.000,5, -999.000,9,-999.0000,9,  -999.00,9,   -999.0,9,  -999.00,9,-999.000,9,   2147.7,2,   -999.0,9, -999.00,  -999.0,-999.0000,-999.000,-999.000,  8.3654,-999.000
     316N138_5,  P06W,   244,  1,      5,    131,2,19920725,0455,-30.0945, 153.5898, 1112,    668.6,   7.3874,  34.5318,2,-999.0000,9,    189.4,2,    190.6,2,    17.54,2,    24.44,2,    -0.01,2,     1.76,2,    0.384,2,    0.205,2, -999.000,9,-999.0000,9,  -999.00,9,   -999.0,9,  -999.00,9,-999.000,9,   2159.1,2,   -999.0,9, -999.00,  -999.0,-999.0000,-999.000,-999.000,  7.3212,-999.000
     316N138_5,  P06W,   244,  1,      4,    516,2,19920725,0455,-30.0945, 153.5898, 1112,    760.7,   6.5089,  34.4801,2,  34.4864,2,    188.5,2,    188.8,2,    23.78,2,    26.39,2,    -0.01,2,     1.90,2,    0.226,2,    0.126,2, -999.000,9,-999.0000,9,  -999.00,9,   -999.0,9,  -999.00,9,-999.000,9,   2171.4,2,   -999.0,9, -999.00,  -999.0,-999.0000,-999.000,-999.000,  6.4382,-999.000
     316N138_5,  P06W,   244,  1,      3,    130,2,19920725,0455,-30.0945, 153.5898, 1112,    854.5,   5.9404,  34.4619,2,  34.4652,2,    185.0,2,    185.4,2,    30.19,2,    27.96,2,    -0.01,2,     2.01,2, -999.000,5, -999.000,5, -999.000,9,-999.0000,9,  -999.00,9,   -999.0,9,  -999.00,9,-999.000,9,   2183.8,2,   -999.0,9, -999.00,  -999.0,-999.0000,-999.000,-999.000,  5.8640,-999.000
     316N138_5,  P06W,   244,  1,      2,    136,2,19920725,0455,-30.0945, 153.5898, 1112,    947.9,   5.3459,  34.4588,2,  34.4599,2,    180.6,2,    180.1,2,    38.21,2,    29.45,2,    -0.01,2,     2.10,2,    0.087,2,    0.053,2, -999.000,9,-999.0000,9,  -999.00,9,   -999.0,9,  -999.00,9,-999.000,9,   2197.5,2,   -999.0,9, -999.00,  -999.0,-999.0000,-999.000,-999.000,  5.2648,-999.000
     316N138_5,  P06W,   244,  1,      1,    134,2,19920725,0455,-30.0945, 153.5898, 1112,   1124.9,   4.4763,  34.4867,2,  34.4877,2,    168.1,2,    169.6,2,    55.56,2,    31.65,2,     0.00,2,     2.23,2,    0.033,2,    0.021,2, -999.000,9,-999.0000,9,  -999.00,9,   -999.0,9,  -999.00,9,-999.000,9,   2224.4,6,   -999.0,9, -999.00,  -999.0,-999.0000,-999.000,-999.000,  4.3861,-999.000
     316N138_5,  P06W,   245,  1,      5,    131,2,19920725,0624,-30.0887, 153.5253,  140,     14.9,  21.4272,  35.5256,2,-999.0000,9,    219.9,2,   -999.0,9,  -999.00,9,  -999.00,9,  -999.00,9,  -999.00,9, -999.000,5, -999.000,5, -999.000,9,-999.0000,9,  -999.00,9,   -999.0,9,  -999.00,9,-999.000,9,   -999.0,9,   -999.0,9, -999.00,  -999.0,-999.0000,-999.000,-999.000, 21.4243,-999.000
     316N138_5,  P06W,   245,  1,      4,    516,2,19920725,0624,-30.0887, 153.5253,  140,     30.9,  21.3512,  35.5439,2,  35.5263,2,    220.7,2,    219.2,2,     0.65,2,     0.03,2,     0.02,2,     0.15,2,    2.002,2,    1.074,2, -999.000,9,-999.0000,9,  -999.00,9,   -999.0,9,  -999.00,9,-999.000,9,   1998.8,2,    313.5,2,   20.30,  -999.0,-999.0000,-999.000,-999.000, 21.3452,-999.000
     316N138_5,  P06W,   245,  1,      3,    130,2,19920725,0624,-30.0887, 153.5253,  140,     56.3,  21.2543,  35.5277,2,  35.5257,2,    218.2,2,    215.1,2,     0.83,2,     0.31,2,     0.04,2,     0.17,2,    1.986,2,    1.066,2, -999.000,9,-999.0000,9,  -999.00,9,   -999.0,9,  -999.00,9,-999.000,9,   1993.7,2,    302.9,2,   20.30,  -999.0,-999.0000,-999.000,-999.000, 21.2434,-999.000
     316N138_5,  P06W,   245,  1,      2,    136,2,19920725,0624,-30.0887, 153.5253,  140,     84.6,  21.1194,  35.5303,2,  35.5304,2,    209.1,2,    214.7,2,     0.82,2,     0.47,2,     0.04,2,     0.19,2,    1.990,2,    1.066,2, -999.000,9,-999.0000,9,  -999.00,9,   -999.0,9,  -999.00,9,-999.000,9,   1997.2,2,    308.2,2,   20.30,  -999.0,-999.0000,-999.000,-999.000, 21.1031,-999.000
     316N138_5,  P06W,   245,  1,      1,    134,2,19920725,0624,-30.0887, 153.5253,  140,    125.5,  20.6482,  35.5176,2,  35.5158,2,    199.3,2,    202.2,2,     1.36,2,     1.92,2,     0.13,2,     0.30,2,    1.943,2,    1.055,2, -999.000,9,-999.0000,9,  -999.00,9,   -999.0,9,  -999.00,9,-999.000,9,   2014.5,2,    336.1,2,   20.30,  -999.0,-999.0000,-999.000,-999.000, 20.6244,-999.000
     316N138_5,  P06W,   246,  1,      3,    130,2,19920725,0721,-30.0900, 153.4817,   90,     11.9,  21.2420,  35.5354,2,  35.5358,2,    215.9,2,    216.6,2,     0.85,2,     0.57,2,     0.04,2,     0.18,2,    1.980,2,    1.064,2, -999.000,9,-999.0000,9,  -999.00,9,   -999.0,9,  -999.00,9,-999.000,9,   -999.0,9,   -999.0,9, -999.00,  -999.0,-999.0000,-999.000,-999.000, 21.2397,-999.000
     316N138_5,  P06W,   246,  1,      2,    136,2,19920725,0721,-30.0900, 153.4817,   90,     47.5,  21.1042,  35.5320,2,  35.5320,2,    202.8,2,    211.2,2,     1.02,2,     0.85,2,     0.06,2,     0.20,2,    1.969,2,    1.102,2, -999.000,9,-999.0000,9,  -999.00,9,   -999.0,9,  -999.00,9,-999.000,9,   -999.0,9,   -999.0,9, -999.00,  -999.0,-999.0000,-999.000,-999.000, 21.0951,-999.000
     316N138_5,  P06W,   246,  1,      1,    134,2,19920725,0721,-30.0900, 153.4817,   90,     86.2,  20.5471,  35.5163,2,  35.5166,2,    195.2,2,    197.0,2,     1.64,2,     2.46,2,     0.15,2,     0.33,2,    1.908,2,    1.031,2, -999.000,9,-999.0000,9,  -999.00,9,   -999.0,9,  -999.00,9,-999.000,9,   -999.0,9,   -999.0,9, -999.00,  -999.0,-999.0000,-999.000,-999.000, 20.5308,-999.000