BOTTLE,20030219WHPSIOdm
EXPOCODE,SECT_ID,STNNBR,CASTNO,SAMPNO,BTLNBR,BTLNBR_FLAG_W,DATE,TIME,LATITUDE,LONGITUDE,DEPTH,CTDPRS,CTDTMP,CTDSAL,CTDSAL_FLAG_W,SALNTY,SALNTY_FLAG_W,CTDOXY,CTDOXY_FLAG_W,OXYGEN,OXYGEN_FLAG_W,SILCAT,SILCAT_FLAG_W,NITRAT,NITRAT_FLAG_W,NITRIT,NITRIT_FLAG_W,PHSPHT,PHSPHT_FLAG_W,CFC-11,CFC-11_FLAG_W,CFC-12,CFC-12_FLAG_W,TRITUM,TRITUM_FLAG_W,HELIUM,HELIUM_FLAG_W,DELHE3,DELHE3_FLAG_W,DELC14,DELC14_FLAG_W,DELC13,DELC13_FLAG_W,NEON,NEON_FLAG_W,TCARBN,TCARBN_FLAG_W,PCO2,PCO2_FLAG_W,PCO2TMP,C14ERR,HELIER,DELHER,NEONER,THETA,TRITER
,,,,,,,,,,,,DBAR,ITS-90,PSS-78,,PSS-78,,UMOL/KG,,UMOL/KG,,UMOL/KG,,UMOL/KG,,UMOL/KG,,UMOL/KG,,PMOL/KG,,PMOL/KG,,TU,,NMOL/KG,,PERCNT,,/MILLE,,/MILLE,,NMOL/KG,,UMOL/KG,,UATM,,DEG_C,/MILLE,NMOL/KG,PERCNT,NMOL/KG,ITS-90,TU
     316N138_5,  P06W,   192,  1,     36,1385-36,2,19920715,0639,-30.0763, 176.4978, 4365,     26.0,  18.5467,  35.7063,2,  35.7053,2,    225.9,2,    230.2,2,     0.82,2,     0.14,2,     0.04,2,     0.13,2,    2.326,2,    1.347,2, -999.000,9,-999.0000,9,  -999.00,9,   -999.0,9,  -999.00,9,-999.000,9,   2029.3,6,   -999.0,9, -999.00,  -999.0,-999.0000,-999.000,-999.000, 18.5422,-999.000
     316N138_5,  P06W,   192,  1,     35,02-9454,2,19920715,0639,-30.0763, 176.4978, 4365,     66.2,  18.5080,  35.7317,2,  35.7282,2,    217.0,2,    224.9,2,     0.82,2,     0.34,2,     0.12,2,     0.15,2,    2.315,2,    1.238,2, -999.000,9,-999.0000,9,  -999.00,9,   -999.0,9,  -999.00,9,-999.000,9,   2036.0,2,   -999.0,9, -999.00,  -999.0,-999.0000,-999.000,-999.000, 18.4964,-999.000
     316N138_5,  P06W,   192,  1,     34,02-9457,2,19920715,0639,-30.0763, 176.4978, 4365,    115.8,  17.9534,  35.6189,2,  35.6338,2,    215.8,2,    211.9,2,     1.19,2,     2.48,2,     0.07,2,     0.28,2,    2.261,2,    1.195,2, -999.000,9,-999.0000,9,  -999.00,9,   -999.0,9,  -999.00,9,-999.000,9,   2049.2,2,   -999.0,9, -999.00,  -999.0,-999.0000,-999.000,-999.000, 17.9335,-999.000
     316N138_5,  P06W,   192,  1,     33,1385-33,2,19920715,0639,-30.0763, 176.4978, 4365,    165.9,  16.9718,  35.5528,2,  35.5500,2,    201.7,2,    204.8,2,     1.56,2,     4.49,2,     0.01,2,     0.43,2, -999.000,5, -999.000,5, -999.000,9,-999.0000,9,  -999.00,9,   -999.0,9,  -999.00,9,-999.000,9,   2074.4,2,   -999.0,9, -999.00,  -999.0,-999.0000,-999.000,-999.000, 16.9443,-999.000
     316N138_5,  P06W,   192,  1,     32,02-9510,2,19920715,0639,-30.0763, 176.4978, 4365,    215.0,  15.9701,  35.4556,2,  35.4450,2,    196.9,2,    210.0,4,     2.31,2,     6.81,2,     0.01,2,     0.59,2,    2.121,2,    1.101,2, -999.000,9,-999.0000,9,  -999.00,9,   -999.0,9,  -999.00,9,-999.000,9,   2085.5,2,   -999.0,9, -999.00,  -999.0,-999.0000,-999.000,-999.000, 15.9360,-999.000
     316N138_5,  P06W,   192,  1,     31,02-9453,2,19920715,0639,-30.0763, 176.4978, 4365,    265.8,  14.7286,  35.3151,2,  35.3198,2,    199.6,2,    198.0,2,     3.24,2,     8.76,2,     0.01,2,     0.70,2,    2.102,2,    1.082,2, -999.000,9,-999.0000,9,  -999.00,9,   -999.0,9,  -999.00,9,-999.000,9,   2096.6,2,   -999.0,9, -999.00,  -999.0,-999.0000,-999.000,-999.000, 14.6887,-999.000
     316N138_5,  P06W,   192,  1,     30,02-9456,2,19920715,0639,-30.0763, 176.4978, 4365,    316.1,  13.7558,  35.2380,2,  35.2294,2,    195.5,2,    193.4,2,     3.81,2,    10.66,2,     0.01,2,     0.82,2,    1.903,2,    1.006,2, -999.000,9,-999.0000,9,  -999.00,9,   -999.0,9,  -999.00,9,-999.000,9,   2104.0,2,   -999.0,9, -999.00,  -999.0,-999.0000,-999.000,-999.000, 13.7104,-999.000
     316N138_5,  P06W,   192,  1,     29,02-9458,2,19920715,0639,-30.0763, 176.4978, 4365,    365.4,  12.7845,  35.1187,2,  35.1185,2,    194.0,2,    191.8,2,     4.92,2,    12.65,2,     0.01,2,     0.94,2,    1.781,2,    0.911,2, -999.000,9,-999.0000,9,  -999.00,9,   -999.0,9,  -999.00,9,-999.000,9,   2115.7,2,   -999.0,9, -999.00,  -999.0,-999.0000,-999.000,-999.000, 12.7344,-999.000
     316N138_5,  P06W,   192,  1,     28,02-9454,2,19920715,0639,-30.0763, 176.4978, 4365,    415.8,  11.7046,  34.9621,2,  34.9793,2,    191.8,2,    192.1,2,     5.86,2,    14.84,2,     0.01,2,     1.07,2,    1.612,2,    0.829,2, -999.000,9,-999.0000,9,  -999.00,9,   -999.0,9,  -999.00,9,-999.000,9,   2124.1,2,   -999.0,9, -999.00,  -999.0,-999.0000,-999.000,-999.000, 11.6508,-999.000
     316N138_5,  P06W,   192,  1,     27,02-9543,2,19920715,0639,-30.0763, 176.4978, 4365,    465.4,  10.6849,  34.8364,2,  34.8424,2,    193.4,2,    192.8,2,     6.23,2,    16.79,2,     0.01,2,     1.20,2,    1.315,2,    0.677,2, -999.000,9,-999.0000,9,  -999.00,9,   -999.0,9,  -999.00,9,-999.000,9,   2129.5,2,   -999.0,9, -999.00,  -999.0,-999.0000,-999.000,-999.000, 10.6279,-999.000
     316N138_5,  P06W,   192,  1,     26,02-9544,2,19920715,0639,-30.0763, 176.4978, 4365,    516.3,   9.6279,  34.7041,2,  34.7046,2,    198.2,2,    196.9,2,     6.80,2,    18.69,2,     0.01,2,     1.33,2,    1.066,2,    0.552,2, -999.000,9,-999.0000,9,  -999.00,9,   -999.0,9,  -999.00,9,-999.000,9,   2133.5,2,   -999.0,9, -999.00,  -999.0,-999.0000,-999.000,-999.000,  9.5686,-999.000
     316N138_5,  P06W,   192,  1,     25,02-9455,2,19920715,0639,-30.0763, 176.4978, 4365,    617.2,   8.1062,  34.5471,2,  34.5466,2,    207.4,2,    206.7,2,     9.23,2,    21.69,2,     0.01,2,     1.51,2,    0.801,2,    0.428,2, -999.000,9,-999.0000,9,  -999.00,9,   -999.0,9,  -999.00,9,-999.000,9,   2139.7,2,   -999.0,9, -999.00,  -999.0,-999.0000,-999.000,-999.000,  8.0419,-999.000
     316N138_5,  P06W,   192,  1,     24,    132,2,19920715,0639,-30.0763, 176.4978, 4365,    716.7,   7.5319,  34.5228,2,  34.5278,2,    204.0,2,    203.4,2,    13.91,2,    23.54,2,     0.01,2,     1.62,2,    0.668,2,    0.340,2, -999.000,9,-999.0000,9,  -999.00,9,   -999.0,9,  -999.00,9,-999.000,9,   2149.1,2,   -999.0,9, -999.00,  -999.0,-999.0000,-999.000,-999.000,  7.4599,-999.000
     316N138_5,  P06W,   192,  1,     23,    123,2,19920715,0639,-30.0763, 176.4978, 4365,    816.7,   6.8087,  34.4698,2,  34.4701,2,    203.6,2,    203.5,2,    17.28,2,    25.25,2,     0.01,2,     1.74,2,    0.439,2,    0.237,2, -999.000,9,-999.0000,9,  -999.00,9,   -999.0,9,  -999.00,9,-999.000,9,   2160.6,2,   -999.0,9, -999.00,  -999.0,-999.0000,-999.000,-999.000,  6.7306,-999.000
     316N138_5,  P06W,   192,  1,     22,    128,2,19920715,0639,-30.0763, 176.4978, 4365,    916.5,   6.2228,  34.4610,2,  34.4569,2,    196.7,2,    196.3,2,    24.21,2,    27.01,2,     0.01,2,     1.87,2,    0.301,2,    0.156,2, -999.000,9,-999.0000,9,  -999.00,9,   -999.0,9,  -999.00,9,-999.000,9,   2176.7,2,   -999.0,9, -999.00,  -999.0,-999.0000,-999.000,-999.000,  6.1386,-999.000
     316N138_5,  P06W,   192,  1,     21,    121,2,19920715,0639,-30.0763, 176.4978, 4365,   1017.6,   5.4013,  34.4298,2,  34.4286,2,    192.3,2,    190.7,2,    31.89,2,    29.25,2,     0.00,2,     2.00,2,    0.154,2,    0.081,2, -999.000,9,-999.0000,9,  -999.00,9,   -999.0,9,  -999.00,9,-999.000,9,   2193.0,2,   -999.0,9, -999.00,  -999.0,-999.0000,-999.000,-999.000,  5.3134,-999.000
     316N138_5,  P06W,   192,  1,     20,    515,2,19920715,0639,-30.0763, 176.4978, 4365,   1118.8,   4.7905,  34.4275,2,  34.4265,2,    184.7,2,    184.2,2,    40.90,2,    30.91,2,     0.00,2,     2.12,2,    0.076,2,    0.051,2, -999.000,9,-999.0000,9,  -999.00,9,   -999.0,9,  -999.00,9,-999.000,9,   2208.8,2,   -999.0,9, -999.00,  -999.0,-999.0000,-999.000,-999.000,  4.6983,-999.000
     316N138_5,  P06W,   192,  1,     19,    120,2,19920715,0639,-30.0763, 176.4978, 4365,   1219.1,   4.2516,  34.4537,2,  34.4508,2,    178.3,2,    176.7,2,    51.95,2,    31.96,2,     0.00,2,     2.22,2,    0.048,2,    0.027,2, -999.000,9,-999.0000,9,  -999.00,9,   -999.0,9,  -999.00,9,-999.000,9,   2224.7,2,   -999.0,9, -999.00,  -999.0,-999.0000,-999.000,-999.000,  4.1551,-999.000
     316N138_5,  P06W,   192,  1,     18,    118,2,19920715,0639,-30.0763, 176.4978, 4365,   1320.2,   3.7648,  34.4924,2,  34.4862,2,    171.0,2,    170.6,2,    63.77,2,    32.99,2,     0.00,2,     2.29,2,    0.028,2,    0.025,2, -999.000,9,-999.0000,9,  -999.00,9,   -999.0,9,  -999.00,9,-999.000,9,   2238.0,2,   -999.0,9, -999.00,  -999.0,-999.0000,-999.000,-999.000,  3.6641,-999.000
     316N138_5,  P06W,   192,  1,     17,    514,2,19920715,0639,-30.0763, 176.4978, 4365,   1421.6,   3.3947,  34.5317,2,  34.5278,2,    165.1,2,    164.6,2,    76.15,2,    33.61,2,     0.00,2,     2.34,2,    0.017,2,    0.016,2, -999.000,9,-999.0000,9,  -999.00,9,   -999.0,9,  -999.00,9,-999.000,9,   2253.5,6,   -999.0,9, -999.00,  -999.0,-999.0000,-999.000,-999.000,  3.2892,-999.000
     316N138_5,  P06W,   192,  1,     16,    116,2,19920715,0639,-30.0763, 176.4978, 4365,   1522.6,   3.1518,  34.5619,2,  34.5616,2,    160.9,2,    161.2,2,    85.72,2,    33.79,2,     0.00,2,     2.36,2,    0.016,2,    0.011,4, -999.000,9,-999.0000,9,  -999.00,9,   -999.0,9,  -999.00,9,-999.000,9,   2263.1,2,   -999.0,9, -999.00,  -999.0,-999.0000,-999.000,-999.000,  3.0404,-999.000
     316N138_5,  P06W,   192,  1,     15,    115,2,19920715,0639,-30.0763, 176.4978, 4365,   1625.2,   2.8950,  34.5887,2,  34.5867,2,    158.9,2,    158.6,2,    93.43,2,    34.08,2,     0.00,2,     2.37,2, -999.000,5, -999.000,5, -999.000,9,-999.0000,9,  -999.00,9,   -999.0,9,  -999.00,9,-999.000,9,   2271.0,2,   -999.0,9, -999.00,  -999.0,-999.0000,-999.000,-999.000,  2.7778,-999.000
     316N138_5,  P06W,   192,  1,     14,    513,2,19920715,0639,-30.0763, 176.4978, 4365,   1725.7,   2.7175,  34.6038,2,  34.6022,2,    156.6,2,    156.5,2,    99.06,2,    34.31,2,     0.00,2,     2.41,2,    0.008,2,    0.016,4, -999.000,9,-999.0000,9,  -999.00,9,   -999.0,9,  -999.00,9,-999.000,9,   2279.8,2,   -999.0,9, -999.00,  -999.0,-999.0000,-999.000,-999.000,  2.5942,-999.000
     316N138_5,  P06W,   192,  1,     13,    125,2,19920715,0639,-30.0763, 176.4978, 4365,   1929.4,   2.3852,  34.6305,2,  34.6278,2,    154.0,2,    153.8,2,   108.65,2,    34.88,2,    -0.01,2,     2.44,2,    0.003,2,   -0.001,2, -999.000,9,-999.0000,9,  -999.00,9,   -999.0,9,  -999.00,9,-999.000,9,   2285.5,2,   -999.0,9, -999.00,  -999.0,-999.0000,-999.000,-999.000,  2.2490,-999.000
     316N138_5,  P06W,   192,  1,     12,    112,2,19920715,0639,-30.0763, 176.4978, 4365,   2130.8,   2.2147,  34.6442,2,  34.6437,2,    152.9,2,    153.0,2,   113.73,2,    34.87,2,    -0.01,2,     2.45,2,    0.001,2,    0.005,2, -999.000,9,-999.0000,9,  -999.00,9,   -999.0,9,  -999.00,9,-999.000,9,   2294.1,2,   -999.0,9, -999.00,  -999.0,-999.0000,-999.000,-999.000,  2.0636,-999.000
     316N138_5,  P06W,   192,  1,     11,    129,2,19920715,0639,-30.0763, 176.4978, 4365,   2333.9,   2.0653,  34.6584,2,  34.6570,2,    152.9,2,    153.5,2,   117.88,2,    35.11,2,    -0.01,2,     2.45,2, -999.000,5, -999.000,5, -999.000,9,-999.0000,9,  -999.00,9,   -999.0,9,  -999.00,9,-999.000,9,   2299.1,2,   -999.0,9, -999.00,  -999.0,-999.0000,-999.000,-999.000,  1.8988,-999.000
     316N138_5,  P06W,   192,  1,     10,    110,2,19920715,0639,-30.0763, 176.4978, 4365,   2537.3,   1.9769,  34.6668,2,  34.6647,2,    153.1,2,    153.7,2,   120.34,2,    35.14,2,     0.00,2,     2.45,2,    0.004,2,    0.006,2, -999.000,9,-999.0000,9,  -999.00,9,   -999.0,9,  -999.00,9,-999.000,9,   2301.9,2,   -999.0,9, -999.00,  -999.0,-999.0000,-999.000,-999.000,  1.7936,-999.000
     316N138_5,  P06W,   192,  1,      9,    126,2,19920715,0639,-30.0763, 176.4978, 4365,   2739.9,   1.9067,  34.6735,2,  34.6722,2,    153.7,2,    154.2,2,   122.23,2,    35.09,2,     0.00,2,     2.44,2, -999.000,5, -999.000,5, -999.000,9,-999.0000,9,  -999.00,9,   -999.0,9,  -999.00,9,-999.000,9,   2306.1,2,   -999.0,9, -999.00,  -999.0,-999.0000,-999.000,-999.000,  1.7059,-999.000
     316N138_5,  P06W,   192,  1,      8,    108,2,19920715,0639,-30.0763, 176.4978, 4365,   2941.1,   1.8768,  34.6764,2,  34.6763,2,    154.2,2,    154.1,2,   123.38,2,    35.05,2,    -0.01,2,     2.45,2,   -0.001,2,    0.006,2, -999.000,9,-999.0000,9,  -999.00,9,   -999.0,9,  -999.00,9,-999.000,9,   2307.3,2,   -999.0,9, -999.00,  -999.0,-999.0000,-999.000,-999.000,  1.6575,-999.000
     316N138_5,  P06W,   192,  1,      7,    107,2,19920715,0639,-30.0763, 176.4978, 4365,   3139.7,   1.8602,  34.6789,2,  34.6791,2,    154.3,2,    154.9,2,   123.78,2,    34.99,2,    -0.01,2,     2.45,2, -999.000,5, -999.000,5, -999.000,9,-999.0000,9,  -999.00,9,   -999.0,9,  -999.00,9,-999.000,9,   2307.8,2,   -999.0,9, -999.00,  -999.0,-999.0000,-999.000,-999.000,  1.6217,-999.000
     316N138_5,  P06W,   192,  1,      6,    180,2,19920715,0639,-30.0763, 176.4978, 4365,   3343.4,   1.8590,  34.6812,2,  34.6806,2,    154.6,2,    155.2,2,   124.37,2,    35.04,2,    -0.01,2,     2.44,2,    0.000,2,   -0.001,2, -999.000,9,-999.0000,9,  -999.00,9,   -999.0,9,  -999.00,9,-999.000,9,   2308.0,2,   -999.0,9, -999.00,  -999.0,-999.0000,-999.000,-999.000,  1.5999,-999.000
     316N138_5,  P06W,   192,  1,      5,    131,2,19920715,0639,-30.0763, 176.4978, 4365,   3546.8,   1.8631,  34.6820,2,  34.6816,2,    154.9,2,    155.4,2,   124.94,2,    35.03,2,    -0.01,2,     2.44,2, -999.000,5, -999.000,5, -999.000,9,-999.0000,9,  -999.00,9,   -999.0,9,  -999.00,9,-999.000,9,   2309.7,2,   -999.0,9, -999.00,  -999.0,-999.0000,-999.000,-999.000,  1.5829,-999.000
     316N138_5,  P06W,   192,  1,      4,    516,2,19920715,0639,-30.0763, 176.4978, 4365,   3754.3,   1.8744,  34.6833,2,  34.6830,2,    155.0,2,    155.3,2,   125.34,2,    34.93,2,    -0.01,2,     2.41,2,    0.005,2,    0.016,4, -999.000,9,-999.0000,9,  -999.00,9,   -999.0,9,  -999.00,9,-999.000,9,   2310.5,2,   -999.0,9, -999.00,  -999.0,-999.0000,-999.000,-999.000,  1.5719,-999.000
     316N138_5,  P06W,   192,  1,      3,    130,2,19920715,0639,-30.0763, 176.4978, 4365,   3962.0,   1.8889,  34.6828,2,  34.6824,2,    155.4,2,    155.1,2,   125.56,2,    35.07,2,    -0.01,2,     2.42,2, -999.000,5, -999.000,5, -999.000,9,-999.0000,9,  -999.00,9,   -999.0,9,  -999.00,9,-999.000,9,   2310.9,2,   -999.0,9, -999.00,  -999.0,-999.0000,-999.000,-999.000,  1.5633,-999.000
     316N138_5,  P06W,   192,  1,      2,    136,2,19920715,0639,-30.0763, 176.4978, 4365,   4169.8,   1.9070,  34.6834,2,  34.6830,2,    155.7,2,    155.9,2,   125.76,2,    35.16,2,    -0.01,2,     2.42,2,   -0.002,2,    0.000,2, -999.000,9,-999.0000,9,  -999.00,9,   -999.0,9,  -999.00,9,-999.000,9,   2310.1,2,   -999.0,9, -999.00,  -999.0,-999.0000,-999.000,-999.000,  1.5576,-999.000
     316N138_5,  P06W,   192,  1,      1,    134,2,19920715,0639,-30.0763, 176.4978, 4365,   4349.1,   1.9249,  34.6838,2,  34.6840,2,    155.3,2,    155.4,2,   125.95,2,    35.11,2,    -0.01,2,     2.42,2,    0.004,6,    0.015,4, -999.000,9,-999.0000,9,  -999.00,9,   -999.0,9,  -999.00,9,-999.000,9,   2311.1,6,   -999.0,9, -999.00,  -999.0,-999.0000,-999.000,-999.000,  1.5544,-999.000