BOTTLE,20030219WHPSIOdm
EXPOCODE,SECT_ID,STNNBR,CASTNO,SAMPNO,BTLNBR,BTLNBR_FLAG_W,DATE,TIME,LATITUDE,LONGITUDE,DEPTH,CTDPRS,CTDTMP,CTDSAL,CTDSAL_FLAG_W,SALNTY,SALNTY_FLAG_W,CTDOXY,CTDOXY_FLAG_W,OXYGEN,OXYGEN_FLAG_W,SILCAT,SILCAT_FLAG_W,NITRAT,NITRAT_FLAG_W,NITRIT,NITRIT_FLAG_W,PHSPHT,PHSPHT_FLAG_W,CFC-11,CFC-11_FLAG_W,CFC-12,CFC-12_FLAG_W,TRITUM,TRITUM_FLAG_W,HELIUM,HELIUM_FLAG_W,DELHE3,DELHE3_FLAG_W,DELC14,DELC14_FLAG_W,DELC13,DELC13_FLAG_W,NEON,NEON_FLAG_W,TCARBN,TCARBN_FLAG_W,PCO2,PCO2_FLAG_W,PCO2TMP,C14ERR,HELIER,DELHER,NEONER,THETA,TRITER
,,,,,,,,,,,,DBAR,ITS-90,PSS-78,,PSS-78,,UMOL/KG,,UMOL/KG,,UMOL/KG,,UMOL/KG,,UMOL/KG,,UMOL/KG,,PMOL/KG,,PMOL/KG,,TU,,NMOL/KG,,PERCNT,,/MILLE,,/MILLE,,NMOL/KG,,UMOL/KG,,UATM,,DEG_C,/MILLE,NMOL/KG,PERCNT,NMOL/KG,ITS-90,TU
     316N138_5,  P06W,   252,  1,      8,    108,2,19920726,0957,-30.0905, 153.9145, 2623,     23.9,  21.4368,  35.5193,2,  35.5204,2,    271.3,3,    214.5,2,     0.89,2,     0.53,2,     0.15,2,     0.20,2, -999.000,5, -999.000,5, -999.000,9,-999.0000,9,  -999.00,9,   -999.0,9,  -999.00,9,-999.000,9,   -999.0,9,   -999.0,9, -999.00,  -999.0,-999.0000,-999.000,-999.000, 21.4321,-999.000
     316N138_5,  P06W,   252,  1,      7,    107,2,19920726,0957,-30.0905, 153.9145, 2623,    204.1,  19.3249,  35.5609,2,  35.5721,2,    182.4,2,    182.9,2,     1.60,2,     4.70,2,     0.00,2,     0.44,2, -999.000,5, -999.000,5, -999.000,9,-999.0000,9,  -999.00,9,   -999.0,9,  -999.00,9,-999.000,9,   -999.0,9,   -999.0,9, -999.00,  -999.0,-999.0000,-999.000,-999.000, 19.2879,-999.000
     316N138_5,  P06W,   252,  1,      6,    180,3,19920726,0957,-30.0905, 153.9145, 2623,    703.5,   8.1829,  34.5957,2,  34.5987,2,    193.7,2,    192.8,2,  -999.00,9,  -999.00,9,  -999.00,9,  -999.00,9, -999.000,5, -999.000,5, -999.000,9,-999.0000,9,  -999.00,9,   -999.0,9,  -999.00,9,-999.000,9,   -999.0,9,   -999.0,9, -999.00,  -999.0,-999.0000,-999.000,-999.000,  8.1090,-999.000
     316N138_5,  P06W,   252,  1,      5,    131,2,19920726,0957,-30.0905, 153.9145, 2623,   1199.2,   4.3628,  34.4911,2,  34.4913,2,    173.3,2,    169.1,2,    57.20,2,    32.08,2,     0.00,2,     2.23,2, -999.000,5, -999.000,5, -999.000,9,-999.0000,9,  -999.00,9,   -999.0,9,  -999.00,9,-999.000,9,   -999.0,9,   -999.0,9, -999.00,  -999.0,-999.0000,-999.000,-999.000,  4.2670,-999.000
     316N138_5,  P06W,   252,  1,      4,    516,2,19920726,0957,-30.0905, 153.9145, 2623,   1199.2,   4.3628,  34.4911,2,  34.4913,2,    173.3,2,    169.7,2,    57.56,2,    32.02,2,     0.00,2,     2.23,2, -999.000,5, -999.000,5, -999.000,9,-999.0000,9,  -999.00,9,   -999.0,9,  -999.00,9,-999.000,9,   -999.0,9,   -999.0,9, -999.00,  -999.0,-999.0000,-999.000,-999.000,  4.2670,-999.000
     316N138_5,  P06W,   252,  1,      3,    130,2,19920726,0957,-30.0905, 153.9145, 2623,   1802.0,   2.5923,  34.6305,2,  34.6305,2,    157.1,2,    157.3,2,    94.26,2,    34.41,2,     0.00,2,     2.39,2, -999.000,5, -999.000,5, -999.000,9,-999.0000,9,  -999.00,9,   -999.0,9,  -999.00,9,-999.000,9,   -999.0,9,   -999.0,9, -999.00,  -999.0,-999.0000,-999.000,-999.000,  2.4640,-999.000
     316N138_5,  P06W,   252,  1,      2,    136,2,19920726,0957,-30.0905, 153.9145, 2623,   2210.4,   2.1307,  34.6938,2,  34.6936,2,    172.4,2,    174.8,2,    94.09,2,    32.89,2,     0.00,2,     2.29,2, -999.000,5, -999.000,5, -999.000,9,-999.0000,9,  -999.00,9,   -999.0,9,  -999.00,9,-999.000,9,   -999.0,9,   -999.0,9, -999.00,  -999.0,-999.0000,-999.000,-999.000,  1.9739,-999.000
     316N138_5,  P06W,   252,  1,      1,    134,2,19920726,0957,-30.0905, 153.9145, 2623,   2625.4,   1.7174,  34.7241,2,  34.7231,2,    184.3,2,    186.7,3,   101.50,2,    32.19,2,     0.00,2,     2.24,2, -999.000,5, -999.000,5, -999.000,9,-999.0000,9,  -999.00,9,   -999.0,9,  -999.00,9,-999.000,9,   -999.0,9,   -999.0,9, -999.00,  -999.0,-999.0000,-999.000,-999.000,  1.5307,-999.000
     316N138_5,  P06W,   253,  1,      8,    108,2,19920726,1446,-30.0937, 153.7452, 1906,     14.4,  21.8590,  35.5207,2,  35.5216,2,    216.7,2,    217.5,2,     0.89,2,     0.20,2,     0.08,2,     0.17,3, -999.000,5, -999.000,5, -999.000,9,-999.0000,9,  -999.00,9,   -999.0,9,  -999.00,9,-999.000,9,   -999.0,9,   -999.0,9, -999.00,  -999.0,-999.0000,-999.000,-999.000, 21.8562,-999.000
     316N138_5,  P06W,   253,  1,      7,    107,2,19920726,1446,-30.0937, 153.7452, 1906,    303.4,  15.4740,  35.3708,2,  35.3687,2,    185.7,2,    184.6,2,     3.03,2,     9.07,2,     0.00,2,     0.73,3, -999.000,5, -999.000,5, -999.000,9,-999.0000,9,  -999.00,9,   -999.0,9,  -999.00,9,-999.000,9,   -999.0,9,   -999.0,9, -999.00,  -999.0,-999.0000,-999.000,-999.000, 15.4268,-999.000
     316N138_5,  P06W,   253,  1,      6,    180,3,19920726,1446,-30.0937, 153.7452, 1906,    754.5,   7.3300,  34.5239,2,  34.5280,2,    194.9,2,    192.7,2,    17.45,2,    24.70,2,     0.00,2,     1.70,3, -999.000,5, -999.000,5, -999.000,9,-999.0000,9,  -999.00,9,   -999.0,9,  -999.00,9,-999.000,9,   -999.0,9,   -999.0,9, -999.00,  -999.0,-999.0000,-999.000,-999.000,  7.2553,-999.000
     316N138_5,  P06W,   253,  1,      5,    131,2,19920726,1446,-30.0937, 153.7452, 1906,   1003.4,   5.3970,  34.4607,2,  34.4624,2,    185.2,2,    181.9,2,    37.75,2,    29.45,2,     0.00,2,     2.00,3, -999.000,5, -999.000,5, -999.000,9,-999.0000,9,  -999.00,9,   -999.0,9,  -999.00,9,-999.000,9,   -999.0,9,   -999.0,9, -999.00,  -999.0,-999.0000,-999.000,-999.000,  5.3104,-999.000
     316N138_5,  P06W,   253,  1,      4,    516,2,19920726,1446,-30.0937, 153.7452, 1906,   1503.6,   3.1435,  34.5747,2,  34.5759,2,    155.5,2,    152.4,2,    89.02,2,    34.60,2,     0.00,2,     2.40,3, -999.000,5, -999.000,5, -999.000,9,-999.0000,9,  -999.00,9,   -999.0,9,  -999.00,9,-999.000,9,   -999.0,9,   -999.0,9, -999.00,  -999.0,-999.0000,-999.000,-999.000,  3.0338,-999.000
     316N138_5,  P06W,   253,  1,      3,    130,2,19920726,1446,-30.0937, 153.7452, 1906,   1753.6,   2.5073,  34.6405,2,  34.6398,2,    158.8,2,    158.5,2,    97.38,2,    34.12,2,     0.00,2,     2.36,3, -999.000,5, -999.000,5, -999.000,9,-999.0000,9,  -999.00,9,   -999.0,9,  -999.00,9,-999.000,9,   -999.0,9,   -999.0,9, -999.00,  -999.0,-999.0000,-999.000,-999.000,  2.3842,-999.000
     316N138_5,  P06W,   253,  1,      2,    136,2,19920726,1446,-30.0937, 153.7452, 1906,   1753.6,   2.5073,  34.6405,2,  34.6399,2,    158.8,2,    159.8,2,    97.02,2,    34.22,2,     0.00,2,     2.37,3, -999.000,5, -999.000,5, -999.000,9,-999.0000,9,  -999.00,9,   -999.0,9,  -999.00,9,-999.000,9,   -999.0,9,   -999.0,9, -999.00,  -999.0,-999.0000,-999.000,-999.000,  2.3842,-999.000
     316N138_5,  P06W,   253,  1,      1,    134,2,19920726,1446,-30.0937, 153.7452, 1906,   2113.7,   2.1791,  34.6869,2,  34.6883,2,    171.9,2,    172.0,2,    95.22,2,    32.94,2,     0.00,2,     2.30,3, -999.000,5, -999.000,5, -999.000,9,-999.0000,9,  -999.00,9,   -999.0,9,  -999.00,9,-999.000,9,   -999.0,9,   -999.0,9, -999.00,  -999.0,-999.0000,-999.000,-999.000,  2.0299,-999.000
     316N138_5,  P06W,   254,  1,      9,    126,2,19920726,1624,-30.0953, 153.6797, 2563,     16.0,  21.7524,  35.5264,2,-999.0000,9,    218.4,2,   -999.0,9,  -999.00,9,  -999.00,9,  -999.00,9,  -999.00,9, -999.000,5, -999.000,5, -999.000,9,-999.0000,9,  -999.00,9,   -999.0,9,  -999.00,9,-999.000,9,   -999.0,9,   -999.0,9, -999.00,  -999.0,-999.0000,-999.000,-999.000, 21.7492,-999.000
     316N138_5,  P06W,   254,  1,      8,    108,2,19920726,1624,-30.0953, 153.6797, 2563,    299.1,  15.0818,  35.3296,2,  35.3332,2,    185.7,2,    184.3,2,     3.44,2,     9.75,2,     0.01,2,     0.81,2, -999.000,5, -999.000,5, -999.000,9,-999.0000,9,  -999.00,9,   -999.0,9,  -999.00,9,-999.000,9,   -999.0,9,   -999.0,9, -999.00,  -999.0,-999.0000,-999.000,-999.000, 15.0361,-999.000
     316N138_5,  P06W,   254,  1,      7,    107,2,19920726,1624,-30.0953, 153.6797, 2563,    709.0,   7.9836,  34.5750,2,  34.5798,2,    193.1,2,    191.9,2,    14.31,2,    23.37,2,     0.01,2,     1.64,2, -999.000,5, -999.000,5, -999.000,9,-999.0000,9,  -999.00,9,   -999.0,9,  -999.00,9,-999.000,9,   -999.0,9,   -999.0,9, -999.00,  -999.0,-999.0000,-999.000,-999.000,  7.9100,-999.000
     316N138_5,  P06W,   254,  1,      6,    180,2,19920726,1624,-30.0953, 153.6797, 2563,    935.1,   5.8288,  34.4611,2,  34.4650,2,    186.2,2,    184.6,2,    32.23,2,    28.45,2,     0.02,2,     1.99,2, -999.000,5, -999.000,5, -999.000,9,-999.0000,9,  -999.00,9,   -999.0,9,  -999.00,9,-999.000,9,   -999.0,9,   -999.0,9, -999.00,  -999.0,-999.0000,-999.000,-999.000,  5.7455,-999.000
     316N138_5,  P06W,   254,  1,      5,    131,2,19920726,1624,-30.0953, 153.6797, 2563,    935.1,   5.8288,  34.4611,2,  34.4632,2,    186.2,2,    185.4,2,    32.16,2,    28.57,2,     0.01,2,     1.96,2, -999.000,5, -999.000,5, -999.000,9,-999.0000,9,  -999.00,9,   -999.0,9,  -999.00,9,-999.000,9,   -999.0,9,   -999.0,9, -999.00,  -999.0,-999.0000,-999.000,-999.000,  5.7455,-999.000
     316N138_5,  P06W,   254,  1,      4,    516,2,19920726,1624,-30.0953, 153.6797, 2563,   1650.3,   2.7300,  34.6143,2,  34.6158,2,    154.8,2,    153.8,2,    96.31,2,    34.66,2,     0.01,2,     2.42,2, -999.000,5, -999.000,5, -999.000,9,-999.0000,9,  -999.00,9,   -999.0,9,  -999.00,9,-999.000,9,   -999.0,9,   -999.0,9, -999.00,  -999.0,-999.0000,-999.000,-999.000,  2.6128,-999.000
     316N138_5,  P06W,   254,  1,      3,    130,2,19920726,1624,-30.0953, 153.6797, 2563,   2018.8,   2.2123,  34.6805,2,  34.6820,2,    168.8,2,    170.8,2,    95.39,2,    33.17,2,    -0.01,2,     2.29,2, -999.000,5, -999.000,5, -999.000,9,-999.0000,9,  -999.00,9,   -999.0,9,  -999.00,9,-999.000,9,   -999.0,9,   -999.0,9, -999.00,  -999.0,-999.0000,-999.000,-999.000,  2.0708,-999.000
     316N138_5,  P06W,   254,  1,      2,    136,2,19920726,1624,-30.0953, 153.6797, 2563,   2232.0,   2.0680,  34.6992,2,  34.7007,2,    175.2,2,    177.2,2,    95.66,2,    32.25,2,     0.01,2,     2.28,2, -999.000,5, -999.000,5, -999.000,9,-999.0000,9,  -999.00,9,   -999.0,9,  -999.00,9,-999.000,9,   -999.0,9,   -999.0,9, -999.00,  -999.0,-999.0000,-999.000,-999.000,  1.9103,-999.000
     316N138_5,  P06W,   254,  1,      1,    134,2,19920726,1624,-30.0953, 153.6797, 2563,   2232.0,   2.0680,  34.6992,2,  34.6995,2,    175.2,2,    176.3,2,    95.70,2,    32.65,2,     0.01,2,     2.28,2, -999.000,5, -999.000,5, -999.000,9,-999.0000,9,  -999.00,9,   -999.0,9,  -999.00,9,-999.000,9,   -999.0,9,   -999.0,9, -999.00,  -999.0,-999.0000,-999.000,-999.000,  1.9103,-999.000
     316N138_5,  P06W,   255,  1,      5,    131,2,19920726,1812,-30.0957, 153.5945, 1176,      5.0,  21.7506,  35.5295,2,  35.5306,2,    207.4,2,    212.6,2,     0.72,2,     0.34,2,     0.11,2,     0.19,2, -999.000,5, -999.000,5, -999.000,9,-999.0000,9,  -999.00,9,   -999.0,9,  -999.00,9,-999.000,9,   -999.0,9,   -999.0,9, -999.00,  -999.0,-999.0000,-999.000,-999.000, 21.7496,-999.000
     316N138_5,  P06W,   255,  1,      4,    516,2,19920726,1812,-30.0957, 153.5945, 1176,    361.1,  12.0917,  35.0183,2,  35.0173,2,    183.4,2,    184.8,2,     6.34,2,    15.14,2,     0.00,2,     1.15,2, -999.000,5, -999.000,5, -999.000,9,-999.0000,9,  -999.00,9,   -999.0,9,  -999.00,9,-999.000,9,   -999.0,9,   -999.0,9, -999.00,  -999.0,-999.0000,-999.000,-999.000, 12.0440,-999.000
     316N138_5,  P06W,   255,  1,      3,    130,2,19920726,1812,-30.0957, 153.5945, 1176,    804.4,   6.7680,  34.4914,2,  34.4921,2,    191.3,2,    191.0,2,    22.10,2,    26.22,2,     0.00,2,     1.85,2, -999.000,5, -999.000,5, -999.000,9,-999.0000,9,  -999.00,9,   -999.0,9,  -999.00,9,-999.000,9,   -999.0,9,   -999.0,9, -999.00,  -999.0,-999.0000,-999.000,-999.000,  6.6913,-999.000
     316N138_5,  P06W,   255,  1,      2,    136,2,19920726,1812,-30.0957, 153.5945, 1176,   1200.1,   4.0234,  34.5094,2,  34.5093,2,    163.7,2,    164.4,2,    66.49,2,    32.92,2,     0.00,2,     2.30,2, -999.000,5, -999.000,5, -999.000,9,-999.0000,9,  -999.00,9,   -999.0,9,  -999.00,9,-999.000,9,   -999.0,9,   -999.0,9, -999.00,  -999.0,-999.0000,-999.000,-999.000,  3.9306,-999.000
     316N138_5,  P06W,   255,  1,      1,    134,2,19920726,1812,-30.0957, 153.5945, 1176,   1200.1,   4.0234,  34.5094,2,  34.5101,2,    163.7,2,    164.9,2,    66.48,2,    32.95,2,     0.00,2,     2.30,2, -999.000,5, -999.000,5, -999.000,9,-999.0000,9,  -999.00,9,   -999.0,9,  -999.00,9,-999.000,9,   -999.0,9,   -999.0,9, -999.00,  -999.0,-999.0000,-999.000,-999.000,  3.9306,-999.000
     316N138_5,  P06W,   256,  1,      2,    136,2,19920726,1910,-30.0833, 153.5232,   85,      8.8,  21.5354,  35.5204,2,  35.5206,2,    217.3,2,    211.3,2,     0.72,2,     0.26,2,     0.07,2,     0.16,2, -999.000,5, -999.000,5, -999.000,9,-999.0000,9,  -999.00,9,   -999.0,9,  -999.00,9,-999.000,9,   -999.0,9,   -999.0,9, -999.00,  -999.0,-999.0000,-999.000,-999.000, 21.5337,-999.000
     316N138_5,  P06W,   256,  1,      1,    134,2,19920726,1910,-30.0833, 153.5232,   85,     99.0,  20.6558,  35.5238,2,  35.5237,2,    202.3,2,    202.2,2,     1.36,2,     1.90,2,     0.16,2,     0.31,2, -999.000,5, -999.000,5, -999.000,9,-999.0000,9,  -999.00,9,   -999.0,9,  -999.00,9,-999.000,9,   -999.0,9,   -999.0,9, -999.00,  -999.0,-999.0000,-999.000,-999.000, 20.6370,-999.000
     316N138_5,  P06W,   257,  1,      2,    136,2,19920726,1940,-30.0852, 153.4793,   85,      9.8,  21.1865,  35.5336,2,  35.5334,2,    213.0,2,    216.9,2,     0.72,2,     0.28,2,     0.06,2,     0.15,2, -999.000,5, -999.000,5, -999.000,9,-999.0000,9,  -999.00,9,   -999.0,9,  -999.00,9,-999.000,9,   -999.0,9,   -999.0,9, -999.00,  -999.0,-999.0000,-999.000,-999.000, 21.1846,-999.000
     316N138_5,  P06W,   257,  1,      1,    134,2,19920726,1940,-30.0852, 153.4793,   85,     77.9,  20.4720,  35.5203,2,  35.5251,2,    198.0,2,    207.5,2,     1.27,2,     1.60,2,     0.14,2,     0.27,2, -999.000,5, -999.000,5, -999.000,9,-999.0000,9,  -999.00,9,   -999.0,9,  -999.00,9,-999.000,9,   -999.0,9,   -999.0,9, -999.00,  -999.0,-999.0000,-999.000,-999.000, 20.4573,-999.000
     316N138_5,  P06W,   258,  1,     12,    112,2,19920727,0419,-30.0797, 154.9827, 4713,     20.5,  21.0255,  35.5112,2,  35.5119,2,    217.3,2,    215.2,2,  -999.00,9,  -999.00,9,  -999.00,9,  -999.00,9, -999.000,5, -999.000,5, -999.000,9,-999.0000,9,  -999.00,9,   -999.0,9,  -999.00,9,-999.000,9,   -999.0,9,   -999.0,9, -999.00,  -999.0,-999.0000,-999.000,-999.000, 21.0215,-999.000
     316N138_5,  P06W,   258,  1,     11,    129,2,19920727,0419,-30.0797, 154.9827, 4713,    401.1,  17.0129,  35.4665,2,  34.5573,4,    183.8,2,    191.3,2,  -999.00,9,  -999.00,9,  -999.00,9,  -999.00,9, -999.000,5, -999.000,5, -999.000,9,-999.0000,9,  -999.00,9,   -999.0,9,  -999.00,9,-999.000,9,   -999.0,9,   -999.0,9, -999.00,  -999.0,-999.0000,-999.000,-999.000, 16.9461,-999.000
     316N138_5,  P06W,   258,  1,     10,    110,2,19920727,0419,-30.0797, 154.9827, 4713,   1206.7,   4.4158,  34.4891,2,  34.4926,2,    174.0,2,    170.6,2,  -999.00,9,  -999.00,9,  -999.00,9,  -999.00,9, -999.000,5, -999.000,5, -999.000,9,-999.0000,9,  -999.00,9,   -999.0,9,  -999.00,9,-999.000,9,   -999.0,9,   -999.0,9, -999.00,  -999.0,-999.0000,-999.000,-999.000,  4.3189,-999.000
     316N138_5,  P06W,   258,  1,      9,    126,2,19920727,0419,-30.0797, 154.9827, 4713,   1206.7,   4.4158,  34.4891,2,  34.4923,2,    174.0,2,    169.1,2,  -999.00,9,  -999.00,9,  -999.00,9,  -999.00,9, -999.000,5, -999.000,5, -999.000,9,-999.0000,9,  -999.00,9,   -999.0,9,  -999.00,9,-999.000,9,   -999.0,9,   -999.0,9, -999.00,  -999.0,-999.0000,-999.000,-999.000,  4.3189,-999.000
     316N138_5,  P06W,   258,  1,      8,    108,2,19920727,0419,-30.0797, 154.9827, 4713,   1600.7,   2.9808,  34.5892,2,  34.6645,4,    157.0,2,    165.3,4,  -999.00,9,  -999.00,9,  -999.00,9,  -999.00,9, -999.000,5, -999.000,5, -999.000,9,-999.0000,9,  -999.00,9,   -999.0,9,  -999.00,9,-999.000,9,   -999.0,9,   -999.0,9, -999.00,  -999.0,-999.0000,-999.000,-999.000,  2.8646,-999.000
     316N138_5,  P06W,   258,  1,      7,    107,2,19920727,0419,-30.0797, 154.9827, 4713,   2380.9,   2.0412,  34.7046,2,  34.7054,2,    177.3,2,    179.1,2,  -999.00,9,  -999.00,9,  -999.00,9,  -999.00,9, -999.000,5, -999.000,5, -999.000,9,-999.0000,9,  -999.00,9,   -999.0,9,  -999.00,9,-999.000,9,   -999.0,9,   -999.0,9, -999.00,  -999.0,-999.0000,-999.000,-999.000,  1.8708,-999.000
     316N138_5,  P06W,   258,  1,      6,    180,2,19920727,0419,-30.0797, 154.9827, 4713,   2380.9,   2.0412,  34.7046,2,  34.7060,2,    177.3,2,    178.9,2,  -999.00,9,  -999.00,9,  -999.00,9,  -999.00,9, -999.000,5, -999.000,5, -999.000,9,-999.0000,9,  -999.00,9,   -999.0,9,  -999.00,9,-999.000,9,   -999.0,9,   -999.0,9, -999.00,  -999.0,-999.0000,-999.000,-999.000,  1.8708,-999.000
     316N138_5,  P06W,   258,  1,      5,    131,2,19920727,0419,-30.0797, 154.9827, 4713,   2772.2,   1.6861,  34.7244,2,  34.7274,2,    187.7,2,    192.3,4,  -999.00,9,  -999.00,9,  -999.00,9,  -999.00,9, -999.000,5, -999.000,5, -999.000,9,-999.0000,9,  -999.00,9,   -999.0,9,  -999.00,9,-999.000,9,   -999.0,9,   -999.0,9, -999.00,  -999.0,-999.0000,-999.000,-999.000,  1.4865,-999.000
     316N138_5,  P06W,   258,  1,      4,    516,2,19920727,0419,-30.0797, 154.9827, 4713,   3155.1,   1.3886,  34.7224,2,  34.7191,3,    193.1,2,    196.5,4,  -999.00,9,  -999.00,9,  -999.00,9,  -999.00,9, -999.000,5, -999.000,5, -999.000,9,-999.0000,9,  -999.00,9,   -999.0,9,  -999.00,9,-999.000,9,   -999.0,9,   -999.0,9, -999.00,  -999.0,-999.0000,-999.000,-999.000,  1.1591,-999.000
     316N138_5,  P06W,   258,  1,      3,    130,2,19920727,0419,-30.0797, 154.9827, 4713,   3643.6,   1.1972,  34.7198,2,  34.7193,2,    196.2,2,    195.7,2,  -999.00,9,  -999.00,9,  -999.00,9,  -999.00,9, -999.000,5, -999.000,5, -999.000,9,-999.0000,9,  -999.00,9,   -999.0,9,  -999.00,9,-999.000,9,   -999.0,9,   -999.0,9, -999.00,  -999.0,-999.0000,-999.000,-999.000,  0.9240,-999.000
     316N138_5,  P06W,   258,  1,      2,    136,2,19920727,0419,-30.0797, 154.9827, 4713,   4153.9,   1.1587,  34.7168,2,  34.7162,2,    198.1,2,    197.3,2,  -999.00,9,  -999.00,9,  -999.00,9,  -999.00,9, -999.000,5, -999.000,5, -999.000,9,-999.0000,9,  -999.00,9,   -999.0,9,  -999.00,9,-999.000,9,   -999.0,9,   -999.0,9, -999.00,  -999.0,-999.0000,-999.000,-999.000,  0.8326,-999.000
     316N138_5,  P06W,   258,  1,      1,    134,2,19920727,0419,-30.0797, 154.9827, 4713,   4771.3,   1.1960,  34.7167,2,  34.7144,2,    198.3,2,    196.6,2,  -999.00,9,  -999.00,9,  -999.00,9,  -999.00,9, -999.000,5, -999.000,5, -999.000,9,-999.0000,9,  -999.00,9,   -999.0,9,  -999.00,9,-999.000,9,   -999.0,9,   -999.0,9, -999.00,  -999.0,-999.0000,-999.000,-999.000,  0.7990,-999.000