BOTTLE,20030219WHPSIOdm
EXPOCODE,SECT_ID,STNNBR,CASTNO,SAMPNO,BTLNBR,BTLNBR_FLAG_W,DATE,TIME,LATITUDE,LONGITUDE,DEPTH,CTDPRS,CTDTMP,CTDSAL,CTDSAL_FLAG_W,SALNTY,SALNTY_FLAG_W,CTDOXY,CTDOXY_FLAG_W,OXYGEN,OXYGEN_FLAG_W,SILCAT,SILCAT_FLAG_W,NITRAT,NITRAT_FLAG_W,NITRIT,NITRIT_FLAG_W,PHSPHT,PHSPHT_FLAG_W,CFC-11,CFC-11_FLAG_W,CFC-12,CFC-12_FLAG_W,TRITUM,TRITUM_FLAG_W,HELIUM,HELIUM_FLAG_W,DELHE3,DELHE3_FLAG_W,DELC14,DELC14_FLAG_W,DELC13,DELC13_FLAG_W,NEON,NEON_FLAG_W,TCARBN,TCARBN_FLAG_W,PCO2,PCO2_FLAG_W,PCO2TMP,C14ERR,HELIER,DELHER,NEONER,THETA,TRITER
,,,,,,,,,,,,DBAR,ITS-90,PSS-78,,PSS-78,,UMOL/KG,,UMOL/KG,,UMOL/KG,,UMOL/KG,,UMOL/KG,,UMOL/KG,,PMOL/KG,,PMOL/KG,,TU,,NMOL/KG,,PERCNT,,/MILLE,,/MILLE,,NMOL/KG,,UMOL/KG,,UATM,,DEG_C,/MILLE,NMOL/KG,PERCNT,NMOL/KG,ITS-90,TU
     316N138_5,  P06W,   197,  1,     24,    132,3,19920716,1046,-30.0857, 173.4942, 2434,     18.5,  18.8157,  35.7410,2,  35.7406,2,    233.7,2,    226.7,2,     0.76,2,    -0.01,2,     0.06,2,     0.12,2, -999.000,5, -999.000,5, -999.000,9,-999.0000,9,  -999.00,9,   -999.0,9,  -999.00,9,-999.000,9,   -999.0,9,   -999.0,9, -999.00,  -999.0,-999.0000,-999.000,-999.000, 18.8125,-999.000
     316N138_5,  P06W,   197,  1,     23,    123,2,19920716,1046,-30.0857, 173.4942, 2434,     56.4,  18.8058,  35.7506,2,  35.7481,2,    223.8,2,    224.8,2,     0.76,2,     0.08,2,     0.11,2,     0.15,2, -999.000,5, -999.000,5, -999.000,9,-999.0000,9,  -999.00,9,   -999.0,9,  -999.00,9,-999.000,9,   -999.0,9,   -999.0,9, -999.00,  -999.0,-999.0000,-999.000,-999.000, 18.7958,-999.000
     316N138_5,  P06W,   197,  1,     22,    128,2,19920716,1046,-30.0857, 173.4942, 2434,    107.9,  17.5440,  35.5673,2,  35.5659,2,    198.5,2,    198.3,2,     1.52,2,     4.17,2,     0.03,2,     0.43,2, -999.000,5, -999.000,5, -999.000,9,-999.0000,9,  -999.00,9,   -999.0,9,  -999.00,9,-999.000,9,   -999.0,9,   -999.0,9, -999.00,  -999.0,-999.0000,-999.000,-999.000, 17.5257,-999.000
     316N138_5,  P06W,   197,  1,     21,    121,2,19920716,1046,-30.0857, 173.4942, 2434,    154.5,  16.8304,  35.5507,2,  35.5470,2,    199.9,2,    203.6,2,     1.72,2,     4.49,2,     0.03,2,     0.46,2, -999.000,5, -999.000,5, -999.000,9,-999.0000,9,  -999.00,9,   -999.0,9,  -999.00,9,-999.000,9,   -999.0,9,   -999.0,9, -999.00,  -999.0,-999.0000,-999.000,-999.000, 16.8050,-999.000
     316N138_5,  P06W,   197,  1,     20,    515,2,19920716,1046,-30.0857, 173.4942, 2434,    204.9,  16.1370,  35.4651,2,  35.4677,2,    206.3,2,    201.4,2,     2.10,2,     5.97,2,     0.02,2,     0.56,2, -999.000,5, -999.000,5, -999.000,9,-999.0000,9,  -999.00,9,   -999.0,9,  -999.00,9,-999.000,9,   -999.0,9,   -999.0,9, -999.00,  -999.0,-999.0000,-999.000,-999.000, 16.1043,-999.000
     316N138_5,  P06W,   197,  1,     19,    120,2,19920716,1046,-30.0857, 173.4942, 2434,    257.4,  15.3063,  35.3891,2,  35.3882,2,    201.2,2,    198.0,2,     2.66,2,     7.49,2,     0.02,2,     0.65,2, -999.000,5, -999.000,5, -999.000,9,-999.0000,9,  -999.00,9,   -999.0,9,  -999.00,9,-999.000,9,   -999.0,9,   -999.0,9, -999.00,  -999.0,-999.0000,-999.000,-999.000, 15.2666,-999.000
     316N138_5,  P06W,   197,  1,     18,    118,2,19920716,1046,-30.0857, 173.4942, 2434,    306.1,  14.4394,  35.2966,2,  35.3053,2,    198.9,2,    196.2,2,     3.24,2,     8.87,2,     0.02,2,     0.76,2, -999.000,5, -999.000,5, -999.000,9,-999.0000,9,  -999.00,9,   -999.0,9,  -999.00,9,-999.000,9,   -999.0,9,   -999.0,9, -999.00,  -999.0,-999.0000,-999.000,-999.000, 14.3940,-999.000
     316N138_5,  P06W,   197,  1,     17,    514,2,19920716,1046,-30.0857, 173.4942, 2434,    407.1,  12.4020,  35.0511,2,  35.0644,2,    192.3,2,    190.2,2,     5.34,2,    13.57,2,     0.02,2,     1.05,2, -999.000,5, -999.000,5, -999.000,9,-999.0000,9,  -999.00,9,   -999.0,9,  -999.00,9,-999.000,9,   -999.0,9,   -999.0,9, -999.00,  -999.0,-999.0000,-999.000,-999.000, 12.3472,-999.000
     316N138_5,  P06W,   197,  1,     16,    116,2,19920716,1046,-30.0857, 173.4942, 2434,    505.4,  10.6206,  34.8183,2,  34.8314,2,    191.5,2,    192.4,2,     7.05,2,    17.45,2,     0.02,2,     1.30,2, -999.000,5, -999.000,5, -999.000,9,-999.0000,9,  -999.00,9,   -999.0,9,  -999.00,9,-999.000,9,   -999.0,9,   -999.0,9, -999.00,  -999.0,-999.0000,-999.000,-999.000, 10.5589,-999.000
     316N138_5,  P06W,   197,  1,     15,    115,2,19920716,1046,-30.0857, 173.4942, 2434,    606.3,   8.6342,  34.6125,2,  34.6062,2,    201.8,2,    204.0,2,     8.58,2,    20.77,2,     0.02,2,     1.51,2, -999.000,5, -999.000,5, -999.000,9,-999.0000,9,  -999.00,9,   -999.0,9,  -999.00,9,-999.000,9,   -999.0,9,   -999.0,9, -999.00,  -999.0,-999.0000,-999.000,-999.000,  8.5687,-999.000
     316N138_5,  P06W,   197,  1,     14,    513,2,19920716,1046,-30.0857, 173.4942, 2434,    704.3,   7.7281,  34.5068,2,  34.5078,2,    209.5,2,    210.7,2,     9.73,2,    22.66,2,     0.02,2,     1.63,2, -999.000,5, -999.000,5, -999.000,9,-999.0000,9,  -999.00,9,   -999.0,9,  -999.00,9,-999.000,9,   -999.0,9,   -999.0,9, -999.00,  -999.0,-999.0000,-999.000,-999.000,  7.6565,-999.000
     316N138_5,  P06W,   197,  1,     13,    125,2,19920716,1046,-30.0857, 173.4942, 2434,    801.8,   6.9940,  34.4336,2,  34.4387,2,    213.0,2,    214.1,2,    11.45,2,    24.00,2,     0.02,2,     1.74,2, -999.000,5, -999.000,5, -999.000,9,-999.0000,9,  -999.00,9,   -999.0,9,  -999.00,9,-999.000,9,   -999.0,9,   -999.0,9, -999.00,  -999.0,-999.0000,-999.000,-999.000,  6.9164,-999.000
     316N138_5,  P06W,   197,  1,     12,    112,2,19920716,1046,-30.0857, 173.4942, 2434,    902.2,   6.0911,  34.3821,2,  34.3815,2,    208.5,2,    209.1,2,    17.55,2,    26.69,2,     0.01,2,     1.92,2, -999.000,5, -999.000,5, -999.000,9,-999.0000,9,  -999.00,9,   -999.0,9,  -999.00,9,-999.000,9,   -999.0,9,   -999.0,9, -999.00,  -999.0,-999.0000,-999.000,-999.000,  6.0094,-999.000
     316N138_5,  P06W,   197,  1,     11,    129,2,19920716,1046,-30.0857, 173.4942, 2434,   1004.0,   5.4019,  34.3873,2,  34.3843,2,    199.4,2,    196.4,2,    27.28,2,    29.17,2,     0.01,2,     2.09,2, -999.000,5, -999.000,5, -999.000,9,-999.0000,9,  -999.00,9,   -999.0,9,  -999.00,9,-999.000,9,   -999.0,9,   -999.0,9, -999.00,  -999.0,-999.0000,-999.000,-999.000,  5.3153,-999.000
     316N138_5,  P06W,   197,  1,     10,    110,2,19920716,1046,-30.0857, 173.4942, 2434,   1103.3,   4.7581,  34.4020,2,  34.4045,2,    189.6,2,    186.2,2,    38.36,2,    30.70,2,     0.00,2,     2.22,2, -999.000,5, -999.000,5, -999.000,9,-999.0000,9,  -999.00,9,   -999.0,9,  -999.00,9,-999.000,9,   -999.0,9,   -999.0,9, -999.00,  -999.0,-999.0000,-999.000,-999.000,  4.6675,-999.000
     316N138_5,  P06W,   197,  1,      9,    126,2,19920716,1046,-30.0857, 173.4942, 2434,   1201.7,   4.2271,  34.4324,2,  34.4349,2,    179.5,2,    177.4,2,    50.19,2,    31.89,2,     0.00,2,     2.32,2, -999.000,5, -999.000,5, -999.000,9,-999.0000,9,  -999.00,9,   -999.0,9,  -999.00,9,-999.000,9,   -999.0,9,   -999.0,9, -999.00,  -999.0,-999.0000,-999.000,-999.000,  4.1324,-999.000
     316N138_5,  P06W,   197,  1,      8,    108,2,19920716,1046,-30.0857, 173.4942, 2434,   1302.9,   3.8916,  34.4710,2,  34.4728,2,    171.4,2,    172.3,2,    60.50,2,    32.50,2,    -0.01,2,     2.35,2, -999.000,5, -999.000,5, -999.000,9,-999.0000,9,  -999.00,9,   -999.0,9,  -999.00,9,-999.000,9,   -999.0,9,   -999.0,9, -999.00,  -999.0,-999.0000,-999.000,-999.000,  3.7912,-999.000
     316N138_5,  P06W,   197,  1,      7,    107,2,19920716,1046,-30.0857, 173.4942, 2434,   1406.0,   3.5880,  34.4939,2,  34.4956,2,    166.9,2,    167.6,2,    68.53,2,    33.18,2,    -0.01,2,     2.41,2, -999.000,5, -999.000,5, -999.000,9,-999.0000,9,  -999.00,9,   -999.0,9,  -999.00,9,-999.000,9,   -999.0,9,   -999.0,9, -999.00,  -999.0,-999.0000,-999.000,-999.000,  3.4819,-999.000
     316N138_5,  P06W,   197,  1,      6,    180,2,19920716,1046,-30.0857, 173.4942, 2434,   1502.3,   3.3408,  34.5357,2,  34.5362,2,    162.4,2,    163.5,2,    79.02,2,    33.35,2,     0.00,2,     2.43,2, -999.000,5, -999.000,5, -999.000,9,-999.0000,9,  -999.00,9,   -999.0,9,  -999.00,9,-999.000,9,   -999.0,9,   -999.0,9, -999.00,  -999.0,-999.0000,-999.000,-999.000,  3.2289,-999.000
     316N138_5,  P06W,   197,  1,      5,    131,2,19920716,1046,-30.0857, 173.4942, 2434,   1712.1,   2.8495,  34.5857,2,  34.5851,2,    156.8,2,    157.2,2,    94.88,2,    34.04,2,     0.00,2,     2.49,2, -999.000,5, -999.000,5, -999.000,9,-999.0000,9,  -999.00,9,   -999.0,9,  -999.00,9,-999.000,9,   -999.0,9,   -999.0,9, -999.00,  -999.0,-999.0000,-999.000,-999.000,  2.7255,-999.000
     316N138_5,  P06W,   197,  1,      4,    516,2,19920716,1046,-30.0857, 173.4942, 2434,   1918.9,   2.5146,  34.6148,2,  34.6168,2,    153.9,2,    155.0,2,   105.58,2,    34.45,2,     0.00,2,     2.53,2, -999.000,5, -999.000,5, -999.000,9,-999.0000,9,  -999.00,9,   -999.0,9,  -999.00,9,-999.000,9,   -999.0,9,   -999.0,9, -999.00,  -999.0,-999.0000,-999.000,-999.000,  2.3775,-999.000
     316N138_5,  P06W,   197,  1,      3,    130,2,19920716,1046,-30.0857, 173.4942, 2434,   2121.4,   2.2222,  34.6429,2,  34.6427,2,    152.8,2,    153.1,2,   113.93,2,    35.13,3,     0.00,2,     2.55,2, -999.000,5, -999.000,5, -999.000,9,-999.0000,9,  -999.00,9,   -999.0,9,  -999.00,9,-999.000,9,   -999.0,9,   -999.0,9, -999.00,  -999.0,-999.0000,-999.000,-999.000,  2.0718,-999.000
     316N138_5,  P06W,   197,  1,      2,    136,2,19920716,1046,-30.0857, 173.4942, 2434,   2324.7,   1.9810,  34.6633,2,  34.6635,2,    152.9,2,    153.2,2,   120.31,2,    34.99,2,     0.00,2,     2.55,2, -999.000,5, -999.000,5, -999.000,9,-999.0000,9,  -999.00,9,   -999.0,9,  -999.00,9,-999.000,9,   -999.0,9,   -999.0,9, -999.00,  -999.0,-999.0000,-999.000,-999.000,  1.8168,-999.000
     316N138_5,  P06W,   197,  1,      1,    134,2,19920716,1046,-30.0857, 173.4942, 2434,   2466.3,   1.9084,  34.6701,2,  34.6704,2,    153.4,2,    153.9,2,   120.95,2,    35.07,2,     0.00,2,     2.53,2, -999.000,5, -999.000,5, -999.000,9,-999.0000,9,  -999.00,9,   -999.0,9,  -999.00,9,-999.000,9,   -999.0,9,   -999.0,9, -999.00,  -999.0,-999.0000,-999.000,-999.000,  1.7328,-999.000
     316N138_5,  P06W,   198,  1,     12,    112,2,19920716,1440,-30.0865, 173.0032, 1310,     16.3,  17.8215,  35.6216,2,  35.6267,2,    234.5,2,    229.4,2,     1.08,2,     0.95,2,     0.26,2,     0.22,2,    2.376,2,    1.257,2, -999.000,9,-999.0000,9,  -999.00,9,   -999.0,9,  -999.00,9,-999.000,9,   2034.0,6,    353.8,2,   20.40,  -999.0,-999.0000,-999.000,-999.000, 17.8187,-999.000
     316N138_5,  P06W,   198,  1,     11,    129,2,19920716,1440,-30.0865, 173.0032, 1310,     57.1,  17.6917,  35.5940,2,  35.5999,2,    227.3,2,    228.9,2,     1.08,2,     1.11,2,     0.33,2,     0.24,2,    2.398,2,    1.278,2, -999.000,9,-999.0000,9,  -999.00,9,   -999.0,9,  -999.00,9,-999.000,9,   2032.7,2,    357.8,6,   20.40,  -999.0,-999.0000,-999.000,-999.000, 17.6820,-999.000
     316N138_5,  P06W,   198,  1,     10,    110,2,19920716,1440,-30.0865, 173.0032, 1310,    107.2,  17.6543,  35.5939,2,  35.5938,2,    225.3,2,    228.9,2,     1.08,2,     1.12,2,     0.32,2,     0.25,2,    2.391,2,    1.252,2, -999.000,9,-999.0000,9,  -999.00,9,   -999.0,9,  -999.00,9,-999.000,9,   2033.8,2,   -999.0,9, -999.00,  -999.0,-999.0000,-999.000,-999.000, 17.6361,-999.000
     316N138_5,  P06W,   198,  1,      9,    126,2,19920716,1440,-30.0865, 173.0032, 1310,    204.6,  16.0279,  35.4497,2,  35.4442,2,    198.2,2,    200.3,2,     2.23,2,     6.26,2,     0.01,2,     0.58,2,    2.174,2,    1.115,2, -999.000,9,-999.0000,9,  -999.00,9,   -999.0,9,  -999.00,9,-999.000,9,   2071.0,2,    446.9,2,   20.40,  -999.0,-999.0000,-999.000,-999.000, 15.9954,-999.000
     316N138_5,  P06W,   198,  1,      8,    108,3,19920716,1440,-30.0865, 173.0032, 1310,    302.5,  13.4666,  35.1777,2,  35.1780,2,    188.2,2,    189.0,2,     4.13,2,    11.50,2,     0.00,2,     0.90,2,    1.728,2,    0.879,2, -999.000,9,-999.0000,9,  -999.00,9,   -999.0,9,  -999.00,9,-999.000,9,   2101.8,2,   -999.0,9, -999.00,  -999.0,-999.0000,-999.000,-999.000, 13.4238,-999.000
     316N138_5,  P06W,   198,  1,      7,    107,2,19920716,1440,-30.0865, 173.0032, 1310,    401.1,  11.4778,  34.9522,2,  34.9498,2,    189.6,2,    190.7,2,     5.92,2,    15.05,2,     0.00,2,     1.12,2,    1.464,2,    0.744,2, -999.000,9,-999.0000,9,  -999.00,9,   -999.0,9,  -999.00,9,-999.000,9,   2118.1,2,    630.0,6,   20.40,  -999.0,-999.0000,-999.000,-999.000, 11.4267,-999.000
     316N138_5,  P06W,   198,  1,      6,    180,2,19920716,1440,-30.0865, 173.0032, 1310,    503.1,  10.7755,  34.8591,2,  34.8623,2,    191.6,2,    192.0,2,     6.60,2,    16.58,2,     0.01,2,     1.22,2,    1.334,2,    0.665,2, -999.000,9,-999.0000,9,  -999.00,9,   -999.0,9,  -999.00,9,-999.000,9,   2123.8,2,   -999.0,9, -999.00,  -999.0,-999.0000,-999.000,-999.000, 10.7135,-999.000
     316N138_5,  P06W,   198,  1,      5,    131,2,19920716,1440,-30.0865, 173.0032, 1310,    603.5,   8.7621,  34.6139,2,  34.6229,2,    202.4,2,    202.4,2,     8.31,2,    20.08,2,     0.01,2,     1.45,2,    0.994,2,    0.517,2, -999.000,9,-999.0000,9,  -999.00,9,   -999.0,9,  -999.00,9,-999.000,9,   2133.4,2,    739.0,2,   20.40,  -999.0,-999.0000,-999.000,-999.000,  8.6963,-999.000
     316N138_5,  P06W,   198,  1,      4,    516,3,19920716,1440,-30.0865, 173.0032, 1310,    704.8,   7.3796,  34.4699,2,  34.5166,2,    211.9,2,    218.0,3,     9.83,2,    22.06,2,     0.02,2,     1.55,2,    0.716,2,    0.387,2, -999.000,9,-999.0000,9,  -999.00,9,   -999.0,9,  -999.00,9,-999.000,9,   2137.3,2,   -999.0,9, -999.00,  -999.0,-999.0000,-999.000,-999.000,  7.3098,-999.000
     316N138_5,  P06W,   198,  1,      3,    130,2,19920716,1440,-30.0865, 173.0032, 1310,    905.5,   5.7747,  34.3975,2,  34.3982,2,    202.0,2,    200.4,2,    23.30,2,    27.75,2,     0.01,2,     1.93,2,    0.190,2,    0.110,2, -999.000,9,-999.0000,9,  -999.00,9,   -999.0,9,  -999.00,9,-999.000,9,   2170.0,2,    895.0,2,   20.40,  -999.0,-999.0000,-999.000,-999.000,  5.6947,-999.000
     316N138_5,  P06W,   198,  1,      2,    136,2,19920716,1440,-30.0865, 173.0032, 1310,   1109.3,   5.3259,  34.4541,2,  34.4532,2,    186.7,2,    186.3,2,    37.15,2,    29.43,2,     0.01,2,     2.04,2,    0.161,2,    0.076,2, -999.000,9,-999.0000,9,  -999.00,9,   -999.0,9,  -999.00,9,-999.000,9,   2192.4,2,   -999.0,9, -999.00,  -999.0,-999.0000,-999.000,-999.000,  5.2299,-999.000
     316N138_5,  P06W,   198,  1,      1,    134,2,19920716,1440,-30.0865, 173.0032, 1310,   1298.9,   4.2073,  34.5054,2,  34.4958,2,    172.3,2,    173.3,2,    59.62,2,    31.93,2,     0.02,2,     2.22,2,    0.070,2,    0.038,2, -999.000,9,-999.0000,9,  -999.00,9,   -999.0,9,  -999.00,9,-999.000,9,   2226.6,6,   1049.5,6,   20.40,  -999.0,-999.0000,-999.000,-999.000,  4.1040,-999.000