BOTTLE,20030219WHPSIOdm
EXPOCODE,SECT_ID,STNNBR,CASTNO,SAMPNO,BTLNBR,BTLNBR_FLAG_W,DATE,TIME,LATITUDE,LONGITUDE,DEPTH,CTDPRS,CTDTMP,CTDSAL,CTDSAL_FLAG_W,SALNTY,SALNTY_FLAG_W,CTDOXY,CTDOXY_FLAG_W,OXYGEN,OXYGEN_FLAG_W,SILCAT,SILCAT_FLAG_W,NITRAT,NITRAT_FLAG_W,NITRIT,NITRIT_FLAG_W,PHSPHT,PHSPHT_FLAG_W,CFC-11,CFC-11_FLAG_W,CFC-12,CFC-12_FLAG_W,TRITUM,TRITUM_FLAG_W,HELIUM,HELIUM_FLAG_W,DELHE3,DELHE3_FLAG_W,DELC14,DELC14_FLAG_W,DELC13,DELC13_FLAG_W,NEON,NEON_FLAG_W,TCARBN,TCARBN_FLAG_W,PCO2,PCO2_FLAG_W,PCO2TMP,C14ERR,HELIER,DELHER,NEONER,THETA,TRITER
,,,,,,,,,,,,DBAR,ITS-90,PSS-78,,PSS-78,,UMOL/KG,,UMOL/KG,,UMOL/KG,,UMOL/KG,,UMOL/KG,,UMOL/KG,,PMOL/KG,,PMOL/KG,,TU,,NMOL/KG,,PERCNT,,/MILLE,,/MILLE,,NMOL/KG,,UMOL/KG,,UATM,,DEG_C,/MILLE,NMOL/KG,PERCNT,NMOL/KG,ITS-90,TU
     316N138_5,  P06W,   263,  1,      7,    107,2,19920727,1842,-30.0962, 153.7403, 2194,      7.0,  21.3876,  35.5369,2,  35.5364,2,    211.4,2,    216.2,2,  -999.00,9,  -999.00,9,  -999.00,9,  -999.00,9, -999.000,5, -999.000,5, -999.000,9,-999.0000,9,  -999.00,9,   -999.0,9,  -999.00,9,-999.000,9,   -999.0,9,   -999.0,9, -999.00,  -999.0,-999.0000,-999.000,-999.000, 21.3863,-999.000
     316N138_5,  P06W,   263,  1,      6,    180,2,19920727,1842,-30.0962, 153.7403, 2194,    204.2,  18.2569,  35.5304,2,  35.5281,2,    178.6,2,    177.5,2,  -999.00,9,  -999.00,9,  -999.00,9,  -999.00,9, -999.000,5, -999.000,5, -999.000,9,-999.0000,9,  -999.00,9,   -999.0,9,  -999.00,9,-999.000,9,   -999.0,9,   -999.0,9, -999.00,  -999.0,-999.0000,-999.000,-999.000, 18.2214,-999.000
     316N138_5,  P06W,   263,  1,      5,    131,2,19920727,1842,-30.0962, 153.7403, 2194,    204.2,  18.2569,  35.5304,2,  35.5277,2,    178.6,2,    177.4,2,  -999.00,9,  -999.00,9,  -999.00,9,  -999.00,9, -999.000,5, -999.000,5, -999.000,9,-999.0000,9,  -999.00,9,   -999.0,9,  -999.00,9,-999.000,9,   -999.0,9,   -999.0,9, -999.00,  -999.0,-999.0000,-999.000,-999.000, 18.2214,-999.000
     316N138_5,  P06W,   263,  1,      4,    516,2,19920727,1842,-30.0962, 153.7403, 2194,   1161.0,   4.6704,  34.4797,2,  34.4787,2,    174.1,2,    173.5,2,  -999.00,9,  -999.00,9,  -999.00,9,  -999.00,9, -999.000,5, -999.000,5, -999.000,9,-999.0000,9,  -999.00,9,   -999.0,9,  -999.00,9,-999.000,9,   -999.0,9,   -999.0,9, -999.00,  -999.0,-999.0000,-999.000,-999.000,  4.5752,-999.000
     316N138_5,  P06W,   263,  1,      3,    130,2,19920727,1842,-30.0962, 153.7403, 2194,   1353.5,   3.5712,  34.5416,2,  34.5411,2,    160.5,2,    157.7,2,  -999.00,9,  -999.00,9,  -999.00,9,  -999.00,9, -999.000,5, -999.000,5, -999.000,9,-999.0000,9,  -999.00,9,   -999.0,9,  -999.00,9,-999.000,9,   -999.0,9,   -999.0,9, -999.00,  -999.0,-999.0000,-999.000,-999.000,  3.4697,-999.000
     316N138_5,  P06W,   263,  1,      2,    136,2,19920727,1842,-30.0962, 153.7403, 2194,   1749.8,   2.4615,  34.6471,2,  34.6431,2,    158.1,2,    161.5,2,  -999.00,9,  -999.00,9,  -999.00,9,  -999.00,9, -999.000,5, -999.000,5, -999.000,9,-999.0000,9,  -999.00,9,   -999.0,9,  -999.00,9,-999.000,9,   -999.0,9,   -999.0,9, -999.00,  -999.0,-999.0000,-999.000,-999.000,  2.3393,-999.000
     316N138_5,  P06W,   263,  1,      1,    134,2,19920727,1842,-30.0962, 153.7403, 2194,   2237.7,   2.0166,  34.7062,2,  34.7054,2,    176.4,2,    177.8,2,  -999.00,9,  -999.00,9,  -999.00,9,  -999.00,9, -999.000,5, -999.000,5, -999.000,9,-999.0000,9,  -999.00,9,   -999.0,9,  -999.00,9,-999.000,9,   -999.0,9,   -999.0,9, -999.00,  -999.0,-999.0000,-999.000,-999.000,  1.8594,-999.000
     316N138_5,  P06W,   264,  1,      7,    107,3,19920727,2012,-30.1007, 153.6740, 2194,      7.8,  21.4303,  35.5398,2,  35.5371,2,    232.8,2,    212.8,2,  -999.00,9,  -999.00,9,  -999.00,9,  -999.00,9, -999.000,5, -999.000,5, -999.000,9,-999.0000,9,  -999.00,9,   -999.0,9,  -999.00,9,-999.000,9,   -999.0,9,   -999.0,9, -999.00,  -999.0,-999.0000,-999.000,-999.000, 21.4287,-999.000
     316N138_5,  P06W,   264,  1,      6,    180,2,19920727,2012,-30.1007, 153.6740, 2194,    205.4,  17.1156,  35.4482,2,  35.4454,2,    177.9,2,    172.6,2,  -999.00,9,  -999.00,9,  -999.00,9,  -999.00,9, -999.000,5, -999.000,5, -999.000,9,-999.0000,9,  -999.00,9,   -999.0,9,  -999.00,9,-999.000,9,   -999.0,9,   -999.0,9, -999.00,  -999.0,-999.0000,-999.000,-999.000, 17.0814,-999.000
     316N138_5,  P06W,   264,  1,      5,    131,2,19920727,2012,-30.1007, 153.6740, 2194,    643.8,   8.3673,  34.6166,2,  34.6152,2,    196.0,2,    191.9,2,  -999.00,9,  -999.00,9,  -999.00,9,  -999.00,9, -999.000,5, -999.000,5, -999.000,9,-999.0000,9,  -999.00,9,   -999.0,9,  -999.00,9,-999.000,9,   -999.0,9,   -999.0,9, -999.00,  -999.0,-999.0000,-999.000,-999.000,  8.2989,-999.000
     316N138_5,  P06W,   264,  1,      4,    516,2,19920727,2012,-30.1007, 153.6740, 2194,   1094.3,   5.0345,  34.4702,2,  34.4777,2,    183.4,3,    178.1,2,  -999.00,9,  -999.00,9,  -999.00,9,  -999.00,9, -999.000,5, -999.000,5, -999.000,9,-999.0000,9,  -999.00,9,   -999.0,9,  -999.00,9,-999.000,9,   -999.0,9,   -999.0,9, -999.00,  -999.0,-999.0000,-999.000,-999.000,  4.9423,-999.000
     316N138_5,  P06W,   264,  1,      3,    130,2,19920727,2012,-30.1007, 153.6740, 2194,   1459.3,   2.9431,  34.5948,2,  35.2172,4,    153.9,2,    193.4,4,  -999.00,9,  -999.00,9,  -999.00,9,  -999.00,9, -999.000,5, -999.000,5, -999.000,9,-999.0000,9,  -999.00,9,   -999.0,9,  -999.00,9,-999.000,9,   -999.0,9,   -999.0,9, -999.00,  -999.0,-999.0000,-999.000,-999.000,  2.8393,-999.000
     316N138_5,  P06W,   264,  1,      2,    136,2,19920727,2012,-30.1007, 153.6740, 2194,   1960.8,   2.2706,  34.6759,2,  34.6759,2,    167.1,2,    168.4,2,  -999.00,9,  -999.00,9,  -999.00,9,  -999.00,9, -999.000,5, -999.000,5, -999.000,9,-999.0000,9,  -999.00,9,   -999.0,9,  -999.00,9,-999.000,9,   -999.0,9,   -999.0,9, -999.00,  -999.0,-999.0000,-999.000,-999.000,  2.1333,-999.000
     316N138_5,  P06W,   264,  1,      1,    134,2,19920727,2012,-30.1007, 153.6740, 2194,   1960.8,   2.2706,  34.6759,2,  34.6743,2,    167.1,2,    169.1,2,  -999.00,9,  -999.00,9,  -999.00,9,  -999.00,9, -999.000,5, -999.000,5, -999.000,9,-999.0000,9,  -999.00,9,   -999.0,9,  -999.00,9,-999.000,9,   -999.0,9,   -999.0,9, -999.00,  -999.0,-999.0000,-999.000,-999.000,  2.1333,-999.000
     316N138_5,  P06W,   265,  1,      4,    516,2,19920727,2132,-30.0937, 153.6113, 1152,      6.5,  21.3822,  35.5358,2,  35.5346,2,    212.6,2,    215.0,2,  -999.00,9,  -999.00,9,  -999.00,9,  -999.00,9, -999.000,5, -999.000,5, -999.000,9,-999.0000,9,  -999.00,9,   -999.0,9,  -999.00,9,-999.000,9,   -999.0,9,   -999.0,9, -999.00,  -999.0,-999.0000,-999.000,-999.000, 21.3809,-999.000
     316N138_5,  P06W,   265,  1,      3,    130,2,19920727,2132,-30.0937, 153.6113, 1152,    390.3,  11.1812,  34.9293,2,  34.9294,2,    185.2,2,    188.2,2,  -999.00,9,  -999.00,9,  -999.00,9,  -999.00,9, -999.000,5, -999.000,5, -999.000,9,-999.0000,9,  -999.00,9,   -999.0,9,  -999.00,9,-999.000,9,   -999.0,9,   -999.0,9, -999.00,  -999.0,-999.0000,-999.000,-999.000, 11.1322,-999.000
     316N138_5,  P06W,   265,  1,      2,    136,2,19920727,2132,-30.0937, 153.6113, 1152,    390.3,  11.1812,  34.9293,2,  34.9280,2,    185.2,2,    188.3,2,  -999.00,9,  -999.00,9,  -999.00,9,  -999.00,9, -999.000,5, -999.000,5, -999.000,9,-999.0000,9,  -999.00,9,   -999.0,9,  -999.00,9,-999.000,9,   -999.0,9,   -999.0,9, -999.00,  -999.0,-999.0000,-999.000,-999.000, 11.1322,-999.000
     316N138_5,  P06W,   265,  1,      1,    134,2,19920727,2132,-30.0937, 153.6113, 1152,   1159.8,   4.3350,  34.4953,2,  34.4936,2,    169.8,2,    169.8,2,  -999.00,9,  -999.00,9,  -999.00,9,  -999.00,9, -999.000,5, -999.000,5, -999.000,9,-999.0000,9,  -999.00,9,   -999.0,9,  -999.00,9,-999.000,9,   -999.0,9,   -999.0,9, -999.00,  -999.0,-999.0000,-999.000,-999.000,  4.2429,-999.000
     316N138_5,  P06W,   266,  1,      2,    136,2,19920727,2228,-30.0872, 153.5240,  130,      1.9,  20.6306,  35.5337,2,  35.5401,2,    199.0,2,    214.2,2,  -999.00,9,  -999.00,9,  -999.00,9,  -999.00,9, -999.000,5, -999.000,5, -999.000,9,-999.0000,9,  -999.00,9,   -999.0,9,  -999.00,9,-999.000,9,   -999.0,9,   -999.0,9, -999.00,  -999.0,-999.0000,-999.000,-999.000, 20.6302,-999.000
     316N138_5,  P06W,   266,  1,      1,    134,2,19920727,2228,-30.0872, 153.5240,  130,    121.5,  17.0498,  35.4521,2,  35.4588,2,    176.0,2,    176.5,2,  -999.00,9,  -999.00,9,  -999.00,9,  -999.00,9, -999.000,5, -999.000,5, -999.000,9,-999.0000,9,  -999.00,9,   -999.0,9,  -999.00,9,-999.000,9,   -999.0,9,   -999.0,9, -999.00,  -999.0,-999.0000,-999.000,-999.000, 17.0296,-999.000
     316N138_5,  P06W,   267,  1,      2,    136,2,19920727,2258,-30.0852, 153.4827,   85,      2.0,  20.7776,  35.5454,2,  35.5419,2,    200.3,2,    215.9,2,  -999.00,9,  -999.00,9,  -999.00,9,  -999.00,9, -999.000,5, -999.000,5, -999.000,9,-999.0000,9,  -999.00,9,   -999.0,9,  -999.00,9,-999.000,9,   -999.0,9,   -999.0,9, -999.00,  -999.0,-999.0000,-999.000,-999.000, 20.7772,-999.000
     316N138_5,  P06W,   267,  1,      1,    134,2,19920727,2258,-30.0852, 153.4827,   85,     72.8,  19.9196,  35.5323,2,  35.5399,2,    192.9,2,    196.4,2,  -999.00,9,  -999.00,9,  -999.00,9,  -999.00,9, -999.000,5, -999.000,5, -999.000,9,-999.0000,9,  -999.00,9,   -999.0,9,  -999.00,9,-999.000,9,   -999.0,9,   -999.0,9, -999.00,  -999.0,-999.0000,-999.000,-999.000, 19.9062,-999.000