BOTTLE,20030219WHPSIOdm
EXPOCODE,SECT_ID,STNNBR,CASTNO,SAMPNO,BTLNBR,BTLNBR_FLAG_W,DATE,TIME,LATITUDE,LONGITUDE,DEPTH,CTDPRS,CTDTMP,CTDSAL,CTDSAL_FLAG_W,SALNTY,SALNTY_FLAG_W,CTDOXY,CTDOXY_FLAG_W,OXYGEN,OXYGEN_FLAG_W,SILCAT,SILCAT_FLAG_W,NITRAT,NITRAT_FLAG_W,NITRIT,NITRIT_FLAG_W,PHSPHT,PHSPHT_FLAG_W,CFC-11,CFC-11_FLAG_W,CFC-12,CFC-12_FLAG_W,TRITUM,TRITUM_FLAG_W,HELIUM,HELIUM_FLAG_W,DELHE3,DELHE3_FLAG_W,DELC14,DELC14_FLAG_W,DELC13,DELC13_FLAG_W,NEON,NEON_FLAG_W,TCARBN,TCARBN_FLAG_W,PCO2,PCO2_FLAG_W,PCO2TMP,C14ERR,HELIER,DELHER,NEONER,THETA,TRITER
,,,,,,,,,,,,DBAR,ITS-90,PSS-78,,PSS-78,,UMOL/KG,,UMOL/KG,,UMOL/KG,,UMOL/KG,,UMOL/KG,,UMOL/KG,,PMOL/KG,,PMOL/KG,,TU,,NMOL/KG,,PERCNT,,/MILLE,,/MILLE,,NMOL/KG,,UMOL/KG,,UATM,,DEG_C,/MILLE,NMOL/KG,PERCNT,NMOL/KG,ITS-90,TU
     316N138_5,  P06W,   211,  1,     24,    132,2,19920718,2034,-30.0892, 167.0013, 2889,     13.0,  18.5453,  35.5927,2,  35.5916,2,    225.5,2,    225.2,2,     0.97,2,     1.05,2,     0.12,2,     0.20,2,    2.300,2,    1.227,2, -999.000,9,-999.0000,9,  -999.00,9,   -999.0,9,  -999.00,9,-999.000,9,   2020.2,2,    344.6,2,   20.30,  -999.0,-999.0000,-999.000,-999.000, 18.5430,-999.000
     316N138_5,  P06W,   211,  1,     23,    123,2,19920718,2034,-30.0892, 167.0013, 2889,     51.2,  18.3075,  35.5791,2,  35.5792,2,    222.5,2,    223.3,2,     0.98,2,     1.52,2,     0.13,2,     0.26,2, -999.000,5, -999.000,5, -999.000,9,-999.0000,9,  -999.00,9,   -999.0,9,  -999.00,9,-999.000,9,   2025.1,2,    357.0,6,   20.30,  -999.0,-999.0000,-999.000,-999.000, 18.2986,-999.000
     316N138_5,  P06W,   211,  1,     22,    128,2,19920718,2034,-30.0892, 167.0013, 2889,    103.5,  17.4997,  35.5279,2,  35.5287,2,    222.4,2,    222.4,2,     1.16,2,     1.87,2,     0.29,2,     0.30,2,    2.385,2,    1.245,2, -999.000,9,-999.0000,9,  -999.00,9,   -999.0,9,  -999.00,9,-999.000,9,   2034.7,2,   -999.0,9, -999.00,  -999.0,-999.0000,-999.000,-999.000, 17.4822,-999.000
     316N138_5,  P06W,   211,  1,     21,    121,2,19920718,2034,-30.0892, 167.0013, 2889,    153.7,  17.2516,  35.5203,2,  35.5249,2,    224.4,2,    225.9,2,     1.16,2,     1.52,2,     0.35,2,     0.29,2,    2.398,2,    1.259,2, -999.000,9,-999.0000,9,  -999.00,9,   -999.0,9,  -999.00,9,-999.000,9,   2035.4,2,    369.0,2,   20.30,  -999.0,-999.0000,-999.000,-999.000, 17.2259,-999.000
     316N138_5,  P06W,   211,  1,     20,    515,2,19920718,2034,-30.0892, 167.0013, 2889,    202.3,  16.2816,  35.4722,2,  35.4596,2,    192.6,2,    193.2,2,     2.27,2,     6.77,2,     0.02,2,     0.60,2,    2.054,2,    1.071,2, -999.000,9,-999.0000,9,  -999.00,9,   -999.0,9,  -999.00,9,-999.000,9,   2071.0,2,   -999.0,9, -999.00,  -999.0,-999.0000,-999.000,-999.000, 16.2491,-999.000
     316N138_5,  P06W,   211,  1,     19,    120,2,19920718,2034,-30.0892, 167.0013, 2889,    250.3,  15.2269,  35.3569,2,  35.3608,2,    192.1,2,    191.1,2,     3.02,2,     8.74,2,     0.01,2,     0.73,2,    1.968,2,    1.053,2, -999.000,9,-999.0000,9,  -999.00,9,   -999.0,9,  -999.00,9,-999.000,9,   2083.9,2,    496.8,2,   20.30,  -999.0,-999.0000,-999.000,-999.000, 15.1885,-999.000
     316N138_5,  P06W,   211,  1,     18,    118,2,19920718,2034,-30.0892, 167.0013, 2889,    300.2,  14.0407,  35.2481,2,  35.2591,2,    190.4,2,    188.3,2,     3.93,2,    10.69,2,     0.01,2,     0.87,2,    1.811,2,    0.937,2, -999.000,9,-999.0000,9,  -999.00,9,   -999.0,9,  -999.00,9,-999.000,9,   2095.5,2,   -999.0,9, -999.00,  -999.0,-999.0000,-999.000,-999.000, 13.9970,-999.000
     316N138_5,  P06W,   211,  1,     17,    514,2,19920718,2034,-30.0892, 167.0013, 2889,    399.3,  12.3561,  35.1057,2,  35.1041,2,    199.9,2,    199.9,2,     4.68,2,    12.45,3,     0.01,2,     1.01,3,    2.053,2,    1.031,2, -999.000,9,-999.0000,9,  -999.00,9,   -999.0,9,  -999.00,9,-999.000,9,   2106.5,2,    607.7,3,   20.30,  -999.0,-999.0000,-999.000,-999.000, 12.3025,-999.000
     316N138_5,  P06W,   211,  1,     16,    116,2,19920718,2034,-30.0892, 167.0013, 2889,    508.0,  10.0936,  34.7904,2,  34.7933,2,    190.6,2,    189.5,2,     8.37,2,    18.57,2,     0.00,2,     1.37,2,    1.055,2,    0.545,2, -999.000,9,-999.0000,9,  -999.00,9,   -999.0,9,  -999.00,9,-999.000,9,   2130.5,2,   -999.0,9, -999.00,  -999.0,-999.0000,-999.000,-999.000, 10.0335,-999.000
     316N138_5,  P06W,   211,  1,     15,    115,2,19920718,2034,-30.0892, 167.0013, 2889,    606.3,   8.8368,  34.6762,2,  34.6667,2,    193.3,2,    192.7,2,    11.69,2,    21.28,2,     0.01,2,     1.55,2,    0.815,2,    0.425,2, -999.000,9,-999.0000,9,  -999.00,9,   -999.0,9,  -999.00,9,-999.000,9,   2140.7,2,    766.4,6,   20.30,  -999.0,-999.0000,-999.000,-999.000,  8.7703,-999.000
     316N138_5,  P06W,   211,  1,     14,    513,2,19920718,2034,-30.0892, 167.0013, 2889,    805.2,   6.8250,  34.5011,2,  34.5003,2,    191.3,2,    192.7,2,    21.27,2,    25.87,2,     0.00,2,     1.86,2,    0.326,2,    0.178,2, -999.000,9,-999.0000,9,  -999.00,9,   -999.0,9,  -999.00,9,-999.000,9,   2164.8,6,   -999.0,9, -999.00,  -999.0,-999.0000,-999.000,-999.000,  6.7480,-999.000
     316N138_5,  P06W,   211,  1,     13,    125,2,19920718,2034,-30.0892, 167.0013, 2889,    925.0,   6.0676,  34.5082,2,  34.5021,2,    182.9,2,    184.3,2,    32.89,2,    27.92,2,     0.00,2,     2.00,2,    0.250,6,    0.135,6, -999.000,9,-999.0000,9,  -999.00,9,   -999.0,9,  -999.00,9,-999.000,9,   2184.4,2,    940.1,2,   20.30,  -999.0,-999.0000,-999.000,-999.000,  5.9837,-999.000
     316N138_5,  P06W,   211,  1,     12,    112,2,19920718,2034,-30.0892, 167.0013, 2889,    972.7,   5.7090,  34.5036,2,  34.5019,2,    182.5,2,    181.6,2,    37.31,2,    28.64,2,     0.00,2,     2.06,2,    0.213,2,    0.122,2, -999.000,9,-999.0000,9,  -999.00,9,   -999.0,9,  -999.00,9,-999.000,9,   2192.6,2,   -999.0,9, -999.00,  -999.0,-999.0000,-999.000,-999.000,  5.6230,-999.000
     316N138_5,  P06W,   211,  1,     11,    129,2,19920718,2034,-30.0892, 167.0013, 2889,   1004.2,   5.5301,  34.5004,3,  34.4862,2,    180.4,2,    180.7,2,    39.16,2,    29.20,2,     0.00,2,     2.09,2,    0.158,2,    0.086,2, -999.000,9,-999.0000,9,  -999.00,9,   -999.0,9,  -999.00,9,-999.000,9,   2194.8,2,    999.4,2,   20.30,  -999.0,-999.0000,-999.000,-999.000,  5.4424,-999.000
     316N138_5,  P06W,   211,  1,     10,    110,2,19920718,2034,-30.0892, 167.0013, 2889,   1202.7,   4.6356,  34.5235,2,  34.5203,2,    170.9,2,    171.0,2,    55.74,2,    31.06,2,     0.00,2,     2.23,3,    0.116,2,    0.061,2, -999.000,9,-999.0000,9,  -999.00,9,   -999.0,9,  -999.00,9,-999.000,9,   2221.4,2,   -999.0,9, -999.00,  -999.0,-999.0000,-999.000,-999.000,  4.5369,-999.000
     316N138_5,  P06W,   211,  1,      9,    126,2,19920718,2034,-30.0892, 167.0013, 2889,   1404.5,   3.5441,  34.5538,2,  34.5535,2,    161.4,2,    159.9,2,    78.41,2,    33.34,2,     0.00,2,     2.41,2,   -0.011,4,   -0.003,4, -999.000,9,-999.0000,9,  -999.00,9,   -999.0,9,  -999.00,9,-999.000,9,   2255.3,2,   1154.3,2,   20.30,  -999.0,-999.0000,-999.000,-999.000,  3.4384,-999.000
     316N138_5,  P06W,   211,  1,      8,    108,2,19920718,2034,-30.0892, 167.0013, 2889,   1597.7,   2.9152,  34.5992,2,  34.5991,2,    155.6,2,    154.5,2,    94.07,2,    34.34,2,     0.01,2,     2.48,2,    0.008,2,    0.007,2, -999.000,9,-999.0000,9,  -999.00,9,   -999.0,9,  -999.00,9,-999.000,9,   2275.7,2,   -999.0,9, -999.00,  -999.0,-999.0000,-999.000,-999.000,  2.8001,-999.000
     316N138_5,  P06W,   211,  1,      7,    107,2,19920718,2034,-30.0892, 167.0013, 2889,   1799.5,   2.5923,  34.6242,2,  34.6238,2,    153.5,2,    152.8,2,   102.00,2,    34.67,2,     0.00,2,     2.53,2,    0.002,2,    0.000,2, -999.000,9,-999.0000,9,  -999.00,9,   -999.0,9,  -999.00,9,-999.000,9,   2284.3,2,   1182.2,2,   20.30,  -999.0,-999.0000,-999.000,-999.000,  2.4642,-999.000
     316N138_5,  P06W,   211,  1,      6,    180,2,19920718,2034,-30.0892, 167.0013, 2889,   1994.8,   2.3458,  34.6449,2,  34.6462,2,    153.4,2,    153.7,2,   107.35,2,    34.81,2,     0.01,2,     2.53,2,   -0.002,2,    0.001,2, -999.000,9,-999.0000,9,  -999.00,9,   -999.0,9,  -999.00,9,-999.000,9,   2291.4,2,   -999.0,9, -999.00,  -999.0,-999.0000,-999.000,-999.000,  2.2046,-999.000
     316N138_5,  P06W,   211,  1,      5,    131,2,19920718,2034,-30.0892, 167.0013, 2889,   2199.7,   2.1425,  34.6620,2,  34.6643,2,    154.3,2,    154.8,2,   111.41,2,    34.76,2,     0.00,2,     2.52,2,    0.000,2,    0.000,2, -999.000,9,-999.0000,9,  -999.00,9,   -999.0,9,  -999.00,9,-999.000,9,   2296.3,2,   -999.0,9, -999.00,  -999.0,-999.0000,-999.000,-999.000,  1.9865,-999.000
     316N138_5,  P06W,   211,  1,      4,    516,2,19920718,2034,-30.0892, 167.0013, 2889,   2395.9,   2.0357,  34.6727,2,  34.6732,2,    155.7,2,    155.3,2,   113.81,2,    34.75,2,     0.01,2,     2.51,2,    0.002,2,    0.007,2, -999.000,9,-999.0000,9,  -999.00,9,   -999.0,9,  -999.00,9,-999.000,9,   2298.6,2,   1189.5,6,   20.30,  -999.0,-999.0000,-999.000,-999.000,  1.8642,-999.000
     316N138_5,  P06W,   211,  1,      3,    130,2,19920718,2034,-30.0892, 167.0013, 2889,   2600.5,   1.9738,  34.6787,2,  34.6800,2,    156.4,2,    156.6,2,   115.30,2,    34.69,2,     0.01,2,     2.51,2,   -0.001,2,    0.003,2, -999.000,9,-999.0000,9,  -999.00,9,   -999.0,9,  -999.00,9,-999.000,9,   2299.0,2,   -999.0,9, -999.00,  -999.0,-999.0000,-999.000,-999.000,  1.7847,-999.000
     316N138_5,  P06W,   211,  1,      2,    136,2,19920718,2034,-30.0892, 167.0013, 2889,   2806.7,   1.9334,  34.6832,2,  34.6844,2,    157.2,2,    157.7,2,   116.22,2,    34.65,2,     0.00,2,     2.50,2,    0.000,2,    0.001,2, -999.000,9,-999.0000,9,  -999.00,9,   -999.0,9,  -999.00,9,-999.000,9,   2300.0,2,   -999.0,9, -999.00,  -999.0,-999.0000,-999.000,-999.000,  1.7257,-999.000
     316N138_5,  P06W,   211,  1,      1,    134,2,19920718,2034,-30.0892, 167.0013, 2889,   2871.6,   1.9258,  34.6837,2,  34.6842,2,    156.9,2,    158.5,2,   116.64,2,    34.67,2,     0.00,2,     2.49,2,   -0.002,2,    0.003,2, -999.000,9,-999.0000,9,  -999.00,9,   -999.0,9,  -999.00,9,-999.000,9,   2302.4,6,   1155.1,2,   20.30,  -999.0,-999.0000,-999.000,-999.000,  1.7121,-999.000
     316N138_5,  P06W,   212,  1,     24,    132,2,19920719,0117,-30.0683, 166.4872, 3114,     18.5,  18.4960,  35.5869,2,  35.5877,2,    228.2,2,    226.1,2,     0.93,2,     1.17,2,     0.11,2,     0.25,2, -999.000,5, -999.000,5, -999.000,9,-999.0000,9,  -999.00,9,   -999.0,9,  -999.00,9,-999.000,9,   -999.0,9,   -999.0,9, -999.00,  -999.0,-999.0000,-999.000,-999.000, 18.4928,-999.000
     316N138_5,  P06W,   212,  1,     23,    123,2,19920719,0117,-30.0683, 166.4872, 3114,     57.2,  18.0067,  35.5523,2,  35.5535,2,    223.0,2,    223.8,2,     1.11,2,     1.71,2,     0.14,2,     0.29,2, -999.000,5, -999.000,5, -999.000,9,-999.0000,9,  -999.00,9,   -999.0,9,  -999.00,9,-999.000,9,   -999.0,9,   -999.0,9, -999.00,  -999.0,-999.0000,-999.000,-999.000, 17.9969,-999.000
     316N138_5,  P06W,   212,  1,     22,    128,2,19920719,0117,-30.0683, 166.4872, 3114,    105.1,  17.8783,  35.5448,2,  35.5405,2,    220.1,2,    221.8,2,     1.11,2,     1.90,2,     0.18,2,     0.31,2, -999.000,5, -999.000,5, -999.000,9,-999.0000,9,  -999.00,9,   -999.0,9,  -999.00,9,-999.000,9,   -999.0,9,   -999.0,9, -999.00,  -999.0,-999.0000,-999.000,-999.000, 17.8603,-999.000
     316N138_5,  P06W,   212,  1,     21,    121,2,19920719,0117,-30.0683, 166.4872, 3114,    154.4,  16.9299,  35.4959,2,  35.5022,2,    212.4,2,    206.9,2,     1.66,2,     4.29,2,     0.02,2,     0.46,2, -999.000,5, -999.000,5, -999.000,9,-999.0000,9,  -999.00,9,   -999.0,9,  -999.00,9,-999.000,9,   -999.0,9,   -999.0,9, -999.00,  -999.0,-999.0000,-999.000,-999.000, 16.9045,-999.000
     316N138_5,  P06W,   212,  1,     20,    515,2,19920719,0117,-30.0683, 166.4872, 3114,    202.7,  16.0542,  35.4315,2,  35.4302,2,    198.6,2,    197.2,2,     2.40,2,     6.76,2,     0.02,2,     0.62,2, -999.000,5, -999.000,5, -999.000,9,-999.0000,9,  -999.00,9,   -999.0,9,  -999.00,9,-999.000,9,   -999.0,9,   -999.0,9, -999.00,  -999.0,-999.0000,-999.000,-999.000, 16.0220,-999.000
     316N138_5,  P06W,   212,  1,     19,    120,2,19920719,0117,-30.0683, 166.4872, 3114,    252.5,  14.9406,  35.3558,2,  35.3547,2,    198.9,2,    197.8,2,     2.96,2,     8.30,2,     0.01,2,     0.69,2, -999.000,5, -999.000,5, -999.000,9,-999.0000,9,  -999.00,9,   -999.0,9,  -999.00,9,-999.000,9,   -999.0,9,   -999.0,9, -999.00,  -999.0,-999.0000,-999.000,-999.000, 14.9023,-999.000
     316N138_5,  P06W,   212,  1,     18,    118,2,19920719,0117,-30.0683, 166.4872, 3114,    300.2,  13.8719,  35.2496,2,  35.2487,2,    196.5,2,    195.1,2,     3.88,2,    10.35,2,     0.01,2,     0.84,2, -999.000,5, -999.000,5, -999.000,9,-999.0000,9,  -999.00,9,   -999.0,9,  -999.00,9,-999.000,9,   -999.0,9,   -999.0,9, -999.00,  -999.0,-999.0000,-999.000,-999.000, 13.8286,-999.000
     316N138_5,  P06W,   212,  1,     17,    514,2,19920719,0117,-30.0683, 166.4872, 3114,    397.6,  12.0495,  35.0592,2,  35.0602,2,    193.8,2,    196.5,2,     5.17,2,    13.43,2,     0.01,2,     1.05,2, -999.000,5, -999.000,5, -999.000,9,-999.0000,9,  -999.00,9,   -999.0,9,  -999.00,9,-999.000,9,   -999.0,9,   -999.0,9, -999.00,  -999.0,-999.0000,-999.000,-999.000, 11.9970,-999.000
     316N138_5,  P06W,   212,  1,     16,    116,2,19920719,0117,-30.0683, 166.4872, 3114,    494.3,  10.3757,  34.8386,2,  34.8416,2,    194.0,2,    192.9,2,     7.39,2,    17.77,2,     0.01,2,     1.30,2, -999.000,5, -999.000,5, -999.000,9,-999.0000,9,  -999.00,9,   -999.0,9,  -999.00,9,-999.000,9,   -999.0,9,   -999.0,9, -999.00,  -999.0,-999.0000,-999.000,-999.000, 10.3163,-999.000
     316N138_5,  P06W,   212,  1,     15,    115,2,19920719,0117,-30.0683, 166.4872, 3114,    589.8,   9.1897,  34.6979,2,  34.7003,2,    194.2,2,    194.5,2,     9.98,2,    20.45,2,     0.00,2,     1.47,2, -999.000,5, -999.000,5, -999.000,9,-999.0000,9,  -999.00,9,   -999.0,9,  -999.00,9,-999.000,9,   -999.0,9,   -999.0,9, -999.00,  -999.0,-999.0000,-999.000,-999.000,  9.1236,-999.000
     316N138_5,  P06W,   212,  1,     14,    513,2,19920719,0117,-30.0683, 166.4872, 3114,    688.2,   8.1501,  34.6095,2,  34.6103,2,    186.1,2,    188.7,2,    14.97,2,    23.31,2,     0.00,2,     1.67,2, -999.000,5, -999.000,5, -999.000,9,-999.0000,9,  -999.00,9,   -999.0,9,  -999.00,9,-999.000,9,   -999.0,9,   -999.0,9, -999.00,  -999.0,-999.0000,-999.000,-999.000,  8.0780,-999.000
     316N138_5,  P06W,   212,  1,     13,    125,3,19920719,0117,-30.0683, 166.4872, 3114,    785.7,   7.1211,  34.5319,2,  34.7418,4,    187.4,2,    190.9,4,    16.45,4,    21.49,4,     0.01,4,     1.55,4, -999.000,5, -999.000,5, -999.000,9,-999.0000,9,  -999.00,9,   -999.0,9,  -999.00,9,-999.000,9,   -999.0,9,   -999.0,9, -999.00,  -999.0,-999.0000,-999.000,-999.000,  7.0442,-999.000
     316N138_5,  P06W,   212,  1,     12,    112,2,19920719,0117,-30.0683, 166.4872, 3114,    978.9,   5.6338,  34.4834,2,  34.4842,2,    180.2,2,    179.1,2,    36.97,2,    29.26,2,     0.00,2,     2.04,2, -999.000,5, -999.000,5, -999.000,9,-999.0000,9,  -999.00,9,   -999.0,9,  -999.00,9,-999.000,9,   -999.0,9,   -999.0,9, -999.00,  -999.0,-999.0000,-999.000,-999.000,  5.5478,-999.000
     316N138_5,  P06W,   212,  1,     11,    129,2,19920719,0117,-30.0683, 166.4872, 3114,   1174.5,   4.5241,  34.4988,2,  34.4958,2,    172.6,2,    172.4,2,    55.09,2,    31.36,2,     0.00,2,     2.24,2, -999.000,5, -999.000,5, -999.000,9,-999.0000,9,  -999.00,9,   -999.0,9,  -999.00,9,-999.000,9,   -999.0,9,   -999.0,9, -999.00,  -999.0,-999.0000,-999.000,-999.000,  4.4290,-999.000
     316N138_5,  P06W,   212,  1,     10,    110,2,19920719,0117,-30.0683, 166.4872, 3114,   1375.3,   3.6698,  34.5439,2,  34.5413,2,    161.6,2,    160.8,2,    75.05,2,    33.30,2,     0.01,2,     2.37,2, -999.000,5, -999.000,5, -999.000,9,-999.0000,9,  -999.00,9,   -999.0,9,  -999.00,9,-999.000,9,   -999.0,9,   -999.0,9, -999.00,  -999.0,-999.0000,-999.000,-999.000,  3.5652,-999.000
     316N138_5,  P06W,   212,  1,      9,    126,2,19920719,0117,-30.0683, 166.4872, 3114,   1577.4,   3.0150,  34.5900,2,  34.5899,2,    154.3,2,    153.2,2,    91.69,2,    34.36,2,     0.00,2,     2.45,2, -999.000,5, -999.000,5, -999.000,9,-999.0000,9,  -999.00,9,   -999.0,9,  -999.00,9,-999.000,9,   -999.0,9,   -999.0,9, -999.00,  -999.0,-999.0000,-999.000,-999.000,  2.9004,-999.000
     316N138_5,  P06W,   212,  1,      8,    108,2,19920719,0117,-30.0683, 166.4872, 3114,   1784.0,   2.6172,  34.6225,2,  34.6288,4,    152.0,2,    151.8,2,   101.12,2,    34.70,2,     0.00,2,     2.47,2, -999.000,5, -999.000,5, -999.000,9,-999.0000,9,  -999.00,9,   -999.0,9,  -999.00,9,-999.000,9,   -999.0,9,   -999.0,9, -999.00,  -999.0,-999.0000,-999.000,-999.000,  2.4901,-999.000
     316N138_5,  P06W,   212,  1,      7,    107,2,19920719,0117,-30.0683, 166.4872, 3114,   1987.1,   2.3512,  34.6451,2,  34.6464,2,    152.3,2,    151.9,2,   107.22,2,    34.88,2,     0.00,2,     2.49,2, -999.000,5, -999.000,5, -999.000,9,-999.0000,9,  -999.00,9,   -999.0,9,  -999.00,9,-999.000,9,   -999.0,9,   -999.0,9, -999.00,  -999.0,-999.0000,-999.000,-999.000,  2.2105,-999.000
     316N138_5,  P06W,   212,  1,      6,    180,2,19920719,0117,-30.0683, 166.4872, 3114,   2188.0,   2.1671,  34.6612,2,  34.6612,2,    153.1,2,    152.4,2,   111.12,2,    34.93,2,     0.00,2,     2.49,2, -999.000,5, -999.000,5, -999.000,9,-999.0000,9,  -999.00,9,   -999.0,9,  -999.00,9,-999.000,9,   -999.0,9,   -999.0,9, -999.00,  -999.0,-999.0000,-999.000,-999.000,  2.0118,-999.000
     316N138_5,  P06W,   212,  1,      5,    131,2,19920719,0117,-30.0683, 166.4872, 3114,   2386.5,   2.0538,  34.6714,2,  34.6714,2,    154.2,2,    153.9,2,   113.33,2,    34.84,2,     0.00,2,     2.50,2, -999.000,5, -999.000,5, -999.000,9,-999.0000,9,  -999.00,9,   -999.0,9,  -999.00,9,-999.000,9,   -999.0,9,   -999.0,9, -999.00,  -999.0,-999.0000,-999.000,-999.000,  1.8827,-999.000
     316N138_5,  P06W,   212,  1,      4,    516,2,19920719,0117,-30.0683, 166.4872, 3114,   2584.4,   1.9991,  34.6773,2,  34.6773,2,    154.8,2,    155.2,2,   114.82,2,    34.79,2,     0.00,2,     2.47,2, -999.000,5, -999.000,5, -999.000,9,-999.0000,9,  -999.00,9,   -999.0,9,  -999.00,9,-999.000,9,   -999.0,9,   -999.0,9, -999.00,  -999.0,-999.0000,-999.000,-999.000,  1.8110,-999.000
     316N138_5,  P06W,   212,  1,      3,    130,2,19920719,0117,-30.0683, 166.4872, 3114,   2793.5,   1.9368,  34.6832,2,  34.6826,2,    157.1,2,    157.0,2,   116.12,2,    34.70,2,     0.00,2,     2.47,2, -999.000,5, -999.000,5, -999.000,9,-999.0000,9,  -999.00,9,   -999.0,9,  -999.00,9,-999.000,9,   -999.0,9,   -999.0,9, -999.00,  -999.0,-999.0000,-999.000,-999.000,  1.7303,-999.000
     316N138_5,  P06W,   212,  1,      2,    136,2,19920719,0117,-30.0683, 166.4872, 3114,   2999.4,   1.9137,  34.6854,2,  34.6859,2,    158.2,2,    158.0,2,   117.05,2,    34.65,2,     0.00,2,     2.46,2, -999.000,5, -999.000,5, -999.000,9,-999.0000,9,  -999.00,9,   -999.0,9,  -999.00,9,-999.000,9,   -999.0,9,   -999.0,9, -999.00,  -999.0,-999.0000,-999.000,-999.000,  1.6879,-999.000
     316N138_5,  P06W,   212,  1,      1,    134,2,19920719,0117,-30.0683, 166.4872, 3114,   3148.0,   1.8971,  34.6876,2,  34.6920,3,    158.5,2,    158.4,2,   117.59,2,    34.61,2,     0.00,2,     2.44,2, -999.000,5, -999.000,5, -999.000,9,-999.0000,9,  -999.00,9,   -999.0,9,  -999.00,9,-999.000,9,   -999.0,9,   -999.0,9, -999.00,  -999.0,-999.0000,-999.000,-999.000,  1.6569,-999.000