BOTTLE,20030219WHPSIOdm
EXPOCODE,SECT_ID,STNNBR,CASTNO,SAMPNO,BTLNBR,BTLNBR_FLAG_W,DATE,TIME,LATITUDE,LONGITUDE,DEPTH,CTDPRS,CTDTMP,CTDSAL,CTDSAL_FLAG_W,SALNTY,SALNTY_FLAG_W,CTDOXY,CTDOXY_FLAG_W,OXYGEN,OXYGEN_FLAG_W,SILCAT,SILCAT_FLAG_W,NITRAT,NITRAT_FLAG_W,NITRIT,NITRIT_FLAG_W,PHSPHT,PHSPHT_FLAG_W,CFC-11,CFC-11_FLAG_W,CFC-12,CFC-12_FLAG_W,TRITUM,TRITUM_FLAG_W,HELIUM,HELIUM_FLAG_W,DELHE3,DELHE3_FLAG_W,DELC14,DELC14_FLAG_W,DELC13,DELC13_FLAG_W,NEON,NEON_FLAG_W,TCARBN,TCARBN_FLAG_W,PCO2,PCO2_FLAG_W,PCO2TMP,C14ERR,HELIER,DELHER,NEONER,THETA,TRITER
,,,,,,,,,,,,DBAR,ITS-90,PSS-78,,PSS-78,,UMOL/KG,,UMOL/KG,,UMOL/KG,,UMOL/KG,,UMOL/KG,,UMOL/KG,,PMOL/KG,,PMOL/KG,,TU,,NMOL/KG,,PERCNT,,/MILLE,,/MILLE,,NMOL/KG,,UMOL/KG,,UATM,,DEG_C,/MILLE,NMOL/KG,PERCNT,NMOL/KG,ITS-90,TU
     316N138_5,  P06W,   238,  1,     36,1385-36,2,19920724,0453,-30.0858, 154.4892, 4601,     19.6,  21.0574,  35.5160,2,  35.5154,2,    206.5,2,    215.1,2,     0.78,2,     0.61,2,     0.20,2,     0.16,2, -999.000,5, -999.000,5, -999.000,9,-999.0000,9,  -999.00,9,   -999.0,9,  -999.00,9,-999.000,9,   -999.0,9,   -999.0,9, -999.00,  -999.0,-999.0000,-999.000,-999.000, 21.0537,-999.000
     316N138_5,  P06W,   238,  1,     35,02-9454,2,19920724,0453,-30.0858, 154.4892, 4601,     59.9,  20.7241,  35.5241,2,  35.5233,2,    213.8,2,    213.3,2,     0.77,2,     0.80,2,     0.31,2,     0.18,2, -999.000,5, -999.000,5, -999.000,9,-999.0000,9,  -999.00,9,   -999.0,9,  -999.00,9,-999.000,9,   -999.0,9,   -999.0,9, -999.00,  -999.0,-999.0000,-999.000,-999.000, 20.7127,-999.000
     316N138_5,  P06W,   238,  1,     34,02-9457,2,19920724,0453,-30.0858, 154.4892, 4601,    109.9,  20.6336,  35.5341,2,  35.5289,2,    207.2,2,    212.4,2,     0.95,2,     1.03,2,     0.32,2,     0.20,2, -999.000,5, -999.000,5, -999.000,9,-999.0000,9,  -999.00,9,   -999.0,9,  -999.00,9,-999.000,9,   -999.0,9,   -999.0,9, -999.00,  -999.0,-999.0000,-999.000,-999.000, 20.6129,-999.000
     316N138_5,  P06W,   238,  1,     33,1385-33,2,19920724,0453,-30.0858, 154.4892, 4601,    159.1,  20.1801,  35.5727,2,  35.5632,2,    208.4,2,    190.4,2,     1.11,2,     3.36,2,     0.10,2,     0.36,2, -999.000,5, -999.000,5, -999.000,9,-999.0000,9,  -999.00,9,   -999.0,9,  -999.00,9,-999.000,9,   -999.0,9,   -999.0,9, -999.00,  -999.0,-999.0000,-999.000,-999.000, 20.1504,-999.000
     316N138_5,  P06W,   238,  1,     32,02-9510,2,19920724,0453,-30.0858, 154.4892, 4601,    210.2,  19.0120,  35.5620,2,  35.5567,2,    179.2,2,    178.9,2,     1.64,2,     5.33,2,     0.01,2,     0.49,2, -999.000,5, -999.000,5, -999.000,9,-999.0000,9,  -999.00,9,   -999.0,9,  -999.00,9,-999.000,9,   -999.0,9,   -999.0,9, -999.00,  -999.0,-999.0000,-999.000,-999.000, 18.9743,-999.000
     316N138_5,  P06W,   238,  1,     31,02-9453,2,19920724,0453,-30.0858, 154.4892, 4601,    259.2,  17.8152,  35.5315,2,  35.5334,3,    179.8,2,    190.9,3,     1.45,4,     4.15,4,     0.11,4,     0.42,4, -999.000,5, -999.000,5, -999.000,9,-999.0000,9,  -999.00,9,   -999.0,9,  -999.00,9,-999.000,9,   -999.0,9,   -999.0,9, -999.00,  -999.0,-999.0000,-999.000,-999.000, 17.7708,-999.000
     316N138_5,  P06W,   238,  1,     30,02-9456,2,19920724,0453,-30.0858, 154.4892, 4601,    309.0,  17.0589,  35.4953,2,  35.4926,2,    182.1,2,    185.6,2,     2.16,2,     6.44,2,     0.01,2,     0.58,2, -999.000,5, -999.000,5, -999.000,9,-999.0000,9,  -999.00,9,   -999.0,9,  -999.00,9,-999.000,9,   -999.0,9,   -999.0,9, -999.00,  -999.0,-999.0000,-999.000,-999.000, 17.0074,-999.000
     316N138_5,  P06W,   238,  1,     29,02-9458,2,19920724,0453,-30.0858, 154.4892, 4601,    409.5,  14.5480,  35.2706,2,  35.2619,2,    183.3,2,    179.4,2,     3.93,2,    10.85,2,     0.00,2,     0.87,2, -999.000,5, -999.000,5, -999.000,9,-999.0000,9,  -999.00,9,   -999.0,9,  -999.00,9,-999.000,9,   -999.0,9,   -999.0,9, -999.00,  -999.0,-999.0000,-999.000,-999.000, 14.4867,-999.000
     316N138_5,  P06W,   238,  1,     28,02-9454,2,19920724,0453,-30.0858, 154.4892, 4601,    508.9,  12.2106,  35.0137,2,  35.0220,2,    181.4,2,    181.5,2,     6.07,2,    14.84,2,     0.00,2,     1.12,2, -999.000,5, -999.000,5, -999.000,9,-999.0000,9,  -999.00,9,   -999.0,9,  -999.00,9,-999.000,9,   -999.0,9,   -999.0,9, -999.00,  -999.0,-999.0000,-999.000,-999.000, 12.1426,-999.000
     316N138_5,  P06W,   238,  1,     27,02-9543,2,19920724,0453,-30.0858, 154.4892, 4601,    608.3,  10.0890,  34.7895,2,  34.7862,2,    186.3,2,    186.9,2,     8.94,2,    18.88,2,     0.00,2,     1.37,2, -999.000,5, -999.000,5, -999.000,9,-999.0000,9,  -999.00,9,   -999.0,9,  -999.00,9,-999.000,9,   -999.0,9,   -999.0,9, -999.00,  -999.0,-999.0000,-999.000,-999.000, 10.0168,-999.000
     316N138_5,  P06W,   238,  1,     26,02-9544,2,19920724,0453,-30.0858, 154.4892, 4601,    708.1,   8.5416,  34.6157,2,  34.6346,2,    192.4,2,    190.9,2,    11.96,2,    21.79,2,     0.00,2,     1.57,2, -999.000,5, -999.000,5, -999.000,9,-999.0000,9,  -999.00,9,   -999.0,9,  -999.00,9,-999.000,9,   -999.0,9,   -999.0,9, -999.00,  -999.0,-999.0000,-999.000,-999.000,  8.4653,-999.000
     316N138_5,  P06W,   238,  1,     25,02-9455,2,19920724,0453,-30.0858, 154.4892, 4601,    808.9,   7.1608,  34.5248,2,  34.5162,2,    195.7,2,    190.8,2,    18.76,2,    25.11,2,     0.00,2,     1.79,2, -999.000,5, -999.000,5, -999.000,9,-999.0000,9,  -999.00,9,   -999.0,9,  -999.00,9,-999.000,9,   -999.0,9,   -999.0,9, -999.00,  -999.0,-999.0000,-999.000,-999.000,  7.0813,-999.000
     316N138_5,  P06W,   238,  1,     24,    132,2,19920724,0453,-30.0858, 154.4892, 4601,    909.4,   6.2757,  34.4726,2,  34.4734,2,    192.7,2,    188.0,2,    26.45,2,    27.31,2,     0.00,2,     1.93,2, -999.000,5, -999.000,5, -999.000,9,-999.0000,9,  -999.00,9,   -999.0,9,  -999.00,9,-999.000,9,   -999.0,9,   -999.0,9, -999.00,  -999.0,-999.0000,-999.000,-999.000,  6.1918,-999.000
     316N138_5,  P06W,   238,  1,     23,    123,2,19920724,0453,-30.0858, 154.4892, 4601,   1008.3,   5.5172,  34.4611,2,  34.4624,2,    188.4,3,    182.0,2,    36.10,2,    29.15,2,     0.00,2,     2.07,2, -999.000,5, -999.000,5, -999.000,2,   1.9110,2,     6.10,2,   -999.0,9,  -999.00,9,-999.000,9,   -999.0,9,   -999.0,9, -999.00,  -999.0,-999.0000,   0.150,-999.000,  5.4293,-999.000
     316N138_5,  P06W,   238,  1,     22,    128,2,19920724,0453,-30.0858, 154.4892, 4601,   1108.9,   4.9510,  34.4695,2,  34.4714,2,    180.0,3,    175.4,2,    45.94,2,    30.63,2,     0.00,2,     2.17,2, -999.000,5, -999.000,5, -999.000,9,-999.0000,9,  -999.00,9,   -999.0,9,  -999.00,9,-999.000,9,   -999.0,9,   -999.0,9, -999.00,  -999.0,-999.0000,-999.000,-999.000,  4.8582,-999.000
     316N138_5,  P06W,   238,  1,     21,    121,2,19920724,0453,-30.0858, 154.4892, 4601,   1260.6,   4.1849,  34.5016,2,  34.5017,2,    170.3,3,    165.1,2,    62.40,2,    32.47,2,     0.00,2,     2.31,3, -999.000,5, -999.000,5, -999.000,2,   1.9280,2,    12.11,2,   -999.0,9,  -999.00,9,-999.000,9,   -999.0,9,   -999.0,9, -999.00,  -999.0,-999.0000,   0.150,-999.000,  4.0853,-999.000
     316N138_5,  P06W,   238,  1,     20,    515,2,19920724,0453,-30.0858, 154.4892, 4601,   1411.5,   3.6631,  34.5345,2,  34.5343,2,    161.6,2,    157.9,2,    75.27,2,    33.64,2,     0.00,2,     2.38,3, -999.000,5, -999.000,5, -999.000,9,-999.0000,9,  -999.00,9,   -999.0,9,  -999.00,9,-999.000,9,   -999.0,9,   -999.0,9, -999.00,  -999.0,-999.0000,-999.000,-999.000,  3.5555,-999.000
     316N138_5,  P06W,   238,  1,     19,    120,2,19920724,0453,-30.0858, 154.4892, 4601,   1511.4,   3.3316,  34.5596,2,  34.5602,2,    155.9,2,    152.3,2,    84.22,2,    34.24,2,     0.00,2,     2.44,3, -999.000,5, -999.000,5, -999.000,2,   1.9750,2,    16.81,2,   -999.0,9,  -999.00,9,-999.000,9,   -999.0,9,   -999.0,9, -999.00,  -999.0,-999.0000,   0.150,-999.000,  3.2190,-999.000
     316N138_5,  P06W,   238,  1,     18,    118,2,19920724,0453,-30.0858, 154.4892, 4601,   1613.5,   3.0623,  34.5829,2,  34.5810,2,    151.9,2,    148.9,2,    91.19,2,    34.75,2,     0.00,2,     2.48,3, -999.000,5, -999.000,5, -999.000,9,-999.0000,9,  -999.00,9,   -999.0,9,  -999.00,9,-999.000,9,   -999.0,9,   -999.0,9, -999.00,  -999.0,-999.0000,-999.000,-999.000,  2.9441,-999.000
     316N138_5,  P06W,   238,  1,     17,    514,2,19920724,0453,-30.0858, 154.4892, 4601,   1765.1,   2.7286,  34.6139,2,  34.6154,2,    152.5,2,    151.1,2,    96.36,2,    34.69,2,     0.00,2,     2.46,3, -999.000,5, -999.000,5, -999.000,2,   1.9700,2,    17.86,2,   -999.0,9,  -999.00,9,-999.000,9,   -999.0,9,   -999.0,9, -999.00,  -999.0,-999.0000,   0.150,-999.000,  2.6017,-999.000
     316N138_5,  P06W,   238,  1,     16,    116,2,19920724,0453,-30.0858, 154.4892, 4601,   1917.3,   2.4869,  34.6431,2,  34.6431,2,    156.5,2,    156.0,2,    97.96,2,    34.33,2,     0.00,2,     2.44,3, -999.000,5, -999.000,5, -999.000,9,-999.0000,9,  -999.00,9,   -999.0,9,  -999.00,9,-999.000,9,   -999.0,9,   -999.0,9, -999.00,  -999.0,-999.0000,-999.000,-999.000,  2.3502,-999.000
     316N138_5,  P06W,   238,  1,     15,    115,2,19920724,0453,-30.0858, 154.4892, 4601,   2018.5,   2.3866,  34.6581,2,  34.6567,2,    160.1,2,    161.1,2,    95.99,2,    33.86,2,     0.00,2,     2.40,3, -999.000,5, -999.000,5, -999.000,2,   1.9540,2,    15.00,2,   -999.0,9,  -999.00,9,-999.000,9,   -999.0,9,   -999.0,9, -999.00,  -999.0,-999.0000,   0.150,-999.000,  2.2426,-999.000
     316N138_5,  P06W,   238,  1,     14,    513,2,19920724,0453,-30.0858, 154.4892, 4601,   2273.4,   2.1604,  34.6923,2,  34.6910,2,    171.3,2,    171.8,2,    94.37,2,    32.93,2,     0.00,2,     2.31,3, -999.000,5, -999.000,5, -999.000,2,   1.9470,2,    12.47,2,   -999.0,9,  -999.00,9,-999.000,9,   -999.0,9,   -999.0,9, -999.00,  -999.0,-999.0000,   0.150,-999.000,  1.9975,-999.000
     316N138_5,  P06W,   238,  1,     13,    125,2,19920724,0453,-30.0858, 154.4892, 4601,   2425.2,   2.0578,  34.7052,2,  34.7052,2,    176.8,2,    176.6,2,    94.89,2,    32.57,2,     0.00,2,     2.29,3, -999.000,5, -999.000,5, -999.000,9,-999.0000,9,  -999.00,9,   -999.0,9,  -999.00,9,-999.000,9,   -999.0,9,   -999.0,9, -999.00,  -999.0,-999.0000,-999.000,-999.000,  1.8830,-999.000
     316N138_5,  P06W,   238,  1,     12,    112,2,19920724,0453,-30.0858, 154.4892, 4601,   2527.7,   1.9577,  34.7130,2,  34.7132,2,    180.0,2,    179.2,2,    96.67,2,    32.46,2,     0.00,2,     2.27,3, -999.000,5, -999.000,5, -999.000,2,   1.9420,2,    11.15,2,   -999.0,9,  -999.00,9,-999.000,9,   -999.0,9,   -999.0,9, -999.00,  -999.0,-999.0000,   0.150,-999.000,  1.7755,-999.000
     316N138_5,  P06W,   238,  1,     11,    129,2,19920724,0453,-30.0858, 154.4892, 4601,   2627.6,   1.8693,  34.7196,2,  34.7193,2,    182.2,2,    182.3,2,    98.27,2,    32.35,2,     0.00,2,     2.26,3, -999.000,5, -999.000,5, -999.000,9,-999.0000,9,  -999.00,9,   -999.0,9,  -999.00,9,-999.000,9,   -999.0,9,   -999.0,9, -999.00,  -999.0,-999.0000,-999.000,-999.000,  1.6795,-999.000
     316N138_5,  P06W,   238,  1,     10,    110,2,19920724,0453,-30.0858, 154.4892, 4601,   2781.4,   1.7328,  34.7227,2,  34.7233,2,    185.8,2,    185.2,2,   101.31,2,    32.29,2,     0.00,2,     2.25,3, -999.000,5, -999.000,5, -999.000,2,   1.9700,2,    10.72,2,   -999.0,9,  -999.00,9,-999.000,9,   -999.0,9,   -999.0,9, -999.00,  -999.0,-999.0000,   0.150,-999.000,  1.5314,-999.000
     316N138_5,  P06W,   238,  1,      9,    126,2,19920724,0453,-30.0858, 154.4892, 4601,   3036.0,   1.5315,  34.7244,2,  34.7266,2,    191.1,2,    189.5,2,   106.49,2,    32.19,2,     0.00,2,     2.26,3, -999.000,5, -999.000,5, -999.000,2,   1.9550,2,    10.43,2,   -999.0,9,  -999.00,9,-999.000,9,   -999.0,9,   -999.0,9, -999.00,  -999.0,-999.0000,   0.150,-999.000,  1.3103,-999.000
     316N138_5,  P06W,   238,  1,      8,    108,2,19920724,0453,-30.0858, 154.4892, 4601,   3240.0,   1.3638,  34.7219,2,  34.7217,2,    192.9,2,    191.8,2,   110.59,2,    32.28,2,     0.00,2,     2.25,3, -999.000,5, -999.000,5, -999.000,2,   1.9530,2,    10.26,2,   -999.0,9,  -999.00,9,-999.000,9,   -999.0,9,   -999.0,9, -999.00,  -999.0,-999.0000,   0.150,-999.000,  1.1267,-999.000
     316N138_5,  P06W,   238,  1,      7,    107,2,19920724,0453,-30.0858, 154.4892, 4601,   3445.3,   1.2602,  34.7197,2,  34.7188,2,    194.2,2,    193.7,2,   113.81,2,    32.38,2,     0.00,2,     2.26,3, -999.000,5, -999.000,5, -999.000,2,   1.9390,2,     9.82,2,   -999.0,9,  -999.00,9,-999.000,9,   -999.0,9,   -999.0,9, -999.00,  -999.0,-999.0000,   0.150,-999.000,  1.0055,-999.000
     316N138_5,  P06W,   238,  1,      6,    180,2,19920724,0453,-30.0858, 154.4892, 4601,   3650.2,   1.2013,  34.7168,2,  34.7174,2,    195.1,2,    194.2,2,   115.77,2,    32.47,2,     0.00,2,     2.26,3, -999.000,5, -999.000,5, -999.000,2,   1.9510,2,     9.83,2,   -999.0,9,  -999.00,9,-999.000,9,   -999.0,9,   -999.0,9, -999.00,  -999.0,-999.0000,   0.150,-999.000,  0.9273,-999.000
     316N138_5,  P06W,   238,  1,      5,    131,2,19920724,0453,-30.0858, 154.4892, 4601,   3854.1,   1.1698,  34.7163,2,  34.7176,2,    195.5,2,    195.2,2,   116.84,2,    32.51,2,     0.01,2,     2.26,3, -999.000,5, -999.000,5, -999.000,2,   1.9500,2,     9.41,2,   -999.0,9,  -999.00,9,-999.000,9,   -999.0,9,   -999.0,9, -999.00,  -999.0,-999.0000,   0.150,-999.000,  0.8755,-999.000
     316N138_5,  P06W,   238,  1,      4,    516,2,19920724,0453,-30.0858, 154.4892, 4601,   4058.3,   1.1587,  34.7154,2,  34.7250,3,    196.4,2,    195.5,2,   117.72,2,    32.50,2,     0.01,2,     2.27,3, -999.000,5, -999.000,5, -999.000,9,-999.0000,9,  -999.00,9,   -999.0,9,  -999.00,9,-999.000,9,   -999.0,9,   -999.0,9, -999.00,  -999.0,-999.0000,-999.000,-999.000,  0.8430,-999.000
     316N138_5,  P06W,   238,  1,      3,    130,2,19920724,0453,-30.0858, 154.4892, 4601,   4263.3,   1.1613,  34.7145,2,  34.7146,2,    196.3,2,    195.7,2,   118.25,2,    32.60,2,     0.01,2,     2.26,3, -999.000,5, -999.000,5, -999.000,2,   1.9490,2,     9.36,2,   -999.0,9,  -999.00,9,-999.000,9,   -999.0,9,   -999.0,9, -999.00,  -999.0,-999.0000,   0.150,-999.000,  0.8231,-999.000
     316N138_5,  P06W,   238,  1,      2,    136,2,19920724,0453,-30.0858, 154.4892, 4601,   4470.0,   1.1698,  34.7142,2,  34.7168,2,    196.8,2,    196.0,2,   118.60,2,    32.56,2,     0.00,2,     2.25,3, -999.000,5, -999.000,5,    0.003,2,   1.9500,2,     9.33,2,   -999.0,9,  -999.00,9,-999.000,9,   -999.0,9,   -999.0,9, -999.00,  -999.0,-999.0000,   0.150,-999.000,  0.8083,   0.002
     316N138_5,  P06W,   238,  1,      1,    134,2,19920724,0453,-30.0858, 154.4892, 4601,   4658.4,   1.1833,  34.7148,2,  34.7144,2,    195.8,2,    195.6,2,   118.89,2,    32.62,2,     0.00,2,     2.28,3, -999.000,5, -999.000,5,    0.001,2,   1.9520,2,     9.33,2,   -999.0,9,  -999.00,9,-999.000,9,   -999.0,9,   -999.0,9, -999.00,  -999.0,-999.0000,   0.150,-999.000,  0.7998,   0.002