BOTTLE,20030219WHPSIOdm
EXPOCODE,SECT_ID,STNNBR,CASTNO,SAMPNO,BTLNBR,BTLNBR_FLAG_W,DATE,TIME,LATITUDE,LONGITUDE,DEPTH,CTDPRS,CTDTMP,CTDSAL,CTDSAL_FLAG_W,SALNTY,SALNTY_FLAG_W,CTDOXY,CTDOXY_FLAG_W,OXYGEN,OXYGEN_FLAG_W,SILCAT,SILCAT_FLAG_W,NITRAT,NITRAT_FLAG_W,NITRIT,NITRIT_FLAG_W,PHSPHT,PHSPHT_FLAG_W,CFC-11,CFC-11_FLAG_W,CFC-12,CFC-12_FLAG_W,TRITUM,TRITUM_FLAG_W,HELIUM,HELIUM_FLAG_W,DELHE3,DELHE3_FLAG_W,DELC14,DELC14_FLAG_W,DELC13,DELC13_FLAG_W,NEON,NEON_FLAG_W,TCARBN,TCARBN_FLAG_W,PCO2,PCO2_FLAG_W,PCO2TMP,C14ERR,HELIER,DELHER,NEONER,THETA,TRITER
,,,,,,,,,,,,DBAR,ITS-90,PSS-78,,PSS-78,,UMOL/KG,,UMOL/KG,,UMOL/KG,,UMOL/KG,,UMOL/KG,,UMOL/KG,,PMOL/KG,,PMOL/KG,,TU,,NMOL/KG,,PERCNT,,/MILLE,,/MILLE,,NMOL/KG,,UMOL/KG,,UATM,,DEG_C,/MILLE,NMOL/KG,PERCNT,NMOL/KG,ITS-90,TU
     316N138_5,  P06W,   248,  1,     12,    112,2,19920725,2043,-30.0817, 154.9882, 4714,    513.1,  13.1742,  35.1367,2,  35.1402,2,    185.5,2,    190.0,4,     3.53,2,    13.18,2,     0.00,2,     1.05,2, -999.000,5, -999.000,5, -999.000,9,-999.0000,9,  -999.00,9,   -999.0,9,  -999.00,9,-999.000,9,   -999.0,9,   -999.0,9, -999.00,  -999.0,-999.0000,-999.000,-999.000, 13.1022,-999.000
     316N138_5,  P06W,   248,  1,     11,    129,2,19920725,2043,-30.0817, 154.9882, 4714,   1002.8,   5.7516,  34.4611,2,  34.4632,2,    186.1,2,    214.9,4,    31.19,2,    29.01,2,     0.00,2,     2.06,2, -999.000,5, -999.000,5, -999.000,9,-999.0000,9,  -999.00,9,   -999.0,9,  -999.00,9,-999.000,9,   -999.0,9,   -999.0,9, -999.00,  -999.0,-999.0000,-999.000,-999.000,  5.6623,-999.000
     316N138_5,  P06W,   248,  1,     10,    110,2,19920725,2043,-30.0817, 154.9882, 4714,   1413.8,   3.5868,  34.5396,2,  34.5388,2,    160.9,2,    187.3,4,    74.24,2,    33.91,2,     0.00,2,     2.45,2, -999.000,5, -999.000,5, -999.000,9,-999.0000,9,  -999.00,9,   -999.0,9,  -999.00,9,-999.000,9,   -999.0,9,   -999.0,9, -999.00,  -999.0,-999.0000,-999.000,-999.000,  3.4799,-999.000
     316N138_5,  P06W,   248,  1,      9,    126,2,19920725,2043,-30.0817, 154.9882, 4714,   1816.3,   2.6080,  34.6288,2,  34.6274,2,    157.5,2,    162.4,4,    92.46,2,    34.52,2,     0.00,2,     2.49,2, -999.000,5, -999.000,5, -999.000,9,-999.0000,9,  -999.00,9,   -999.0,9,  -999.00,9,-999.000,9,   -999.0,9,   -999.0,9, -999.00,  -999.0,-999.0000,-999.000,-999.000,  2.4782,-999.000
     316N138_5,  P06W,   248,  1,      8,    108,2,19920725,2043,-30.0817, 154.9882, 4714,   2212.2,   2.1798,  34.6891,2,  34.6906,2,    172.5,2,    197.5,4,    92.55,2,    33.01,2,     0.01,2,     2.37,2, -999.000,5, -999.000,5, -999.000,9,-999.0000,9,  -999.00,9,   -999.0,9,  -999.00,9,-999.000,9,   -999.0,9,   -999.0,9, -999.00,  -999.0,-999.0000,-999.000,-999.000,  2.0220,-999.000
     316N138_5,  P06W,   248,  1,      7,    107,2,19920725,2043,-30.0817, 154.9882, 4714,   2619.3,   1.8381,  34.7196,2,  34.7199,2,    183.1,2,    210.5,4,    97.35,2,    32.08,2,     0.00,2,     2.30,2, -999.000,5, -999.000,5, -999.000,9,-999.0000,9,  -999.00,9,   -999.0,9,  -999.00,9,-999.000,9,   -999.0,9,   -999.0,9, -999.00,  -999.0,-999.0000,-999.000,-999.000,  1.6496,-999.000
     316N138_5,  P06W,   248,  1,      6,    180,2,19920725,2043,-30.0817, 154.9882, 4714,   3026.0,   1.4793,  34.7244,2,  34.7172,3,    189.2,2,    209.7,4,   101.08,2,    32.12,2,     0.00,2,     2.30,2, -999.000,5, -999.000,5, -999.000,9,-999.0000,9,  -999.00,9,   -999.0,9,  -999.00,9,-999.000,9,   -999.0,9,   -999.0,9, -999.00,  -999.0,-999.0000,-999.000,-999.000,  1.2603,-999.000
     316N138_5,  P06W,   248,  1,      5,    131,2,19920725,2043,-30.0817, 154.9882, 4714,   3414.6,   1.2545,  34.7206,2,  34.7237,3,    192.8,2,    195.5,4,   105.71,2,    31.98,2,     0.00,2,     2.29,2, -999.000,5, -999.000,5, -999.000,9,-999.0000,9,  -999.00,9,   -999.0,9,  -999.00,9,-999.000,9,   -999.0,9,   -999.0,9, -999.00,  -999.0,-999.0000,-999.000,-999.000,  1.0029,-999.000
     316N138_5,  P06W,   248,  1,      4,    516,2,19920725,2043,-30.0817, 154.9882, 4714,   3812.6,   1.1705,  34.7183,2,  34.7182,2,    195.1,2,    211.3,4,   110.52,2,    32.16,2,    -0.01,2,     2.31,2, -999.000,5, -999.000,5, -999.000,9,-999.0000,9,  -999.00,9,   -999.0,9,  -999.00,9,-999.000,9,   -999.0,9,   -999.0,9, -999.00,  -999.0,-999.0000,-999.000,-999.000,  0.8805,-999.000
     316N138_5,  P06W,   248,  1,      3,    130,2,19920725,2043,-30.0817, 154.9882, 4714,   4222.2,   1.1534,  34.7169,2,  34.7176,2,    196.8,2,    200.0,3,   114.42,2,    32.37,2,    -0.01,2,     2.31,2, -999.000,5, -999.000,5, -999.000,9,-999.0000,9,  -999.00,9,   -999.0,9,  -999.00,9,-999.000,9,   -999.0,9,   -999.0,9, -999.00,  -999.0,-999.0000,-999.000,-999.000,  0.8200,-999.000
     316N138_5,  P06W,   248,  1,      2,    136,2,19920725,2043,-30.0817, 154.9882, 4714,   4784.9,   1.1992,  34.7162,2,-999.0000,9,    197.5,2,    199.5,3,   116.51,2,    32.46,2,    -0.01,2,     2.31,2, -999.000,5, -999.000,5, -999.000,9,-999.0000,9,  -999.00,9,   -999.0,9,  -999.00,9,-999.000,9,   -999.0,9,   -999.0,9, -999.00,  -999.0,-999.0000,-999.000,-999.000,  0.8005,-999.000
     316N138_5,  P06W,   248,  1,      1,    134,2,19920725,2043,-30.0817, 154.9882, 4714,   4784.9,   1.1992,  34.7162,2,-999.0000,9,    197.5,2,    200.0,3,   115.87,2,    32.73,2,    -0.01,2,     2.32,2, -999.000,5, -999.000,5, -999.000,9,-999.0000,9,  -999.00,9,   -999.0,9,  -999.00,9,-999.000,9,   -999.0,9,   -999.0,9, -999.00,  -999.0,-999.0000,-999.000,-999.000,  0.8005,-999.000
     316N138_5,  P06W,   249,  1,     13,    125,2,19920725,0100,-30.0862, 154.4970, 4590,     17.1,  20.8055,  35.5237,2,  35.5253,2,    215.6,2,   -999.0,9,     0.35,2,     0.70,2,     0.23,2,     0.23,2, -999.000,5, -999.000,5, -999.000,9,-999.0000,9,  -999.00,9,   -999.0,9,  -999.00,9,-999.000,9,   -999.0,9,   -999.0,9, -999.00,  -999.0,-999.0000,-999.000,-999.000, 20.8023,-999.000
     316N138_5,  P06W,   249,  1,     12,    112,2,19920725,0100,-30.0862, 154.4970, 4590,    503.7,  12.1121,  35.0139,2,  35.0209,2,    192.3,2,    191.4,2,     5.53,2,    15.06,2,     0.01,2,     1.15,2, -999.000,5, -999.000,5, -999.000,9,-999.0000,9,  -999.00,9,   -999.0,9,  -999.00,9,-999.000,9,   -999.0,9,   -999.0,9, -999.00,  -999.0,-999.0000,-999.000,-999.000, 12.0452,-999.000
     316N138_5,  P06W,   249,  1,     11,    129,2,19920725,0100,-30.0862, 154.4970, 4590,   1008.1,   5.8832,  34.4665,2,  34.4659,2,    189.7,2,    186.6,2,    30.66,2,    28.52,2,     0.01,2,     1.99,2, -999.000,5, -999.000,5, -999.000,9,-999.0000,9,  -999.00,9,   -999.0,9,  -999.00,9,-999.000,9,   -999.0,9,   -999.0,9, -999.00,  -999.0,-999.0000,-999.000,-999.000,  5.7924,-999.000
     316N138_5,  P06W,   249,  1,     10,    110,2,19920725,0100,-30.0862, 154.4970, 4590,   1413.3,   3.6626,  34.5343,2,  34.5343,2,    162.7,2,    159.7,2,    74.45,2,    33.81,2,     0.01,2,     2.38,2, -999.000,5, -999.000,5, -999.000,9,-999.0000,9,  -999.00,9,   -999.0,9,  -999.00,9,-999.000,9,   -999.0,9,   -999.0,9, -999.00,  -999.0,-999.0000,-999.000,-999.000,  3.5548,-999.000
     316N138_5,  P06W,   249,  1,      9,    126,2,19920725,0100,-30.0862, 154.4970, 4590,   1813.1,   2.6471,  34.6237,2,  34.6258,2,    155.6,2,    156.4,2,    95.04,2,    34.64,2,     0.02,2,     2.47,2, -999.000,5, -999.000,5, -999.000,9,-999.0000,9,  -999.00,9,   -999.0,9,  -999.00,9,-999.000,9,   -999.0,9,   -999.0,9, -999.00,  -999.0,-999.0000,-999.000,-999.000,  2.5171,-999.000
     316N138_5,  P06W,   249,  1,      8,    108,2,19920725,0100,-30.0862, 154.4970, 4590,   2215.3,   2.2058,  34.6860,2,  34.6855,2,    170.4,2,    177.8,4,    93.68,2,    33.21,2,     0.02,2,     2.34,2, -999.000,5, -999.000,5, -999.000,9,-999.0000,9,  -999.00,9,   -999.0,9,  -999.00,9,-999.000,9,   -999.0,9,   -999.0,9, -999.00,  -999.0,-999.0000,-999.000,-999.000,  2.0473,-999.000
     316N138_5,  P06W,   249,  1,      7,    107,2,19920725,0100,-30.0862, 154.4970, 4590,   2618.5,   1.8736,  34.7201,2,  34.7201,2,    181.8,2,    186.4,4,    97.22,2,    32.28,2,     0.02,2,     2.27,2, -999.000,5, -999.000,5, -999.000,9,-999.0000,9,  -999.00,9,   -999.0,9,  -999.00,9,-999.000,9,   -999.0,9,   -999.0,9, -999.00,  -999.0,-999.0000,-999.000,-999.000,  1.6846,-999.000
     316N138_5,  P06W,   249,  1,      6,    180,2,19920725,0100,-30.0862, 154.4970, 4590,   3030.7,   1.5151,  34.7256,2,  34.7205,4,    188.4,2,    184.1,4,    97.32,2,    32.33,2,     0.01,2,     2.29,2, -999.000,5, -999.000,5, -999.000,9,-999.0000,9,  -999.00,9,   -999.0,9,  -999.00,9,-999.000,9,   -999.0,9,   -999.0,9, -999.00,  -999.0,-999.0000,-999.000,-999.000,  1.2948,-999.000
     316N138_5,  P06W,   249,  1,      5,    131,2,19920725,0100,-30.0862, 154.4970, 4590,   3437.6,   1.2621,  34.7206,2,  34.7205,2,    192.5,2,    193.7,3,   102.31,2,    32.28,2,     0.01,2,     2.27,2, -999.000,5, -999.000,5, -999.000,9,-999.0000,9,  -999.00,9,   -999.0,9,  -999.00,9,-999.000,9,   -999.0,9,   -999.0,9, -999.00,  -999.0,-999.0000,-999.000,-999.000,  1.0080,-999.000
     316N138_5,  P06W,   249,  1,      4,    516,2,19920725,0100,-30.0862, 154.4970, 4590,   3844.9,   1.1667,  34.7188,2,  34.7203,2,    194.3,2,    200.7,4,   112.38,2,    32.50,2,     0.01,2,     2.29,2, -999.000,5, -999.000,5, -999.000,9,-999.0000,9,  -999.00,9,   -999.0,9,  -999.00,9,-999.000,9,   -999.0,9,   -999.0,9, -999.00,  -999.0,-999.0000,-999.000,-999.000,  0.8734,-999.000
     316N138_5,  P06W,   249,  1,      3,    130,2,19920725,0100,-30.0862, 154.4970, 4590,   4252.2,   1.1612,  34.7168,2,  34.7162,2,    196.2,2,    197.3,2,   116.46,2,    32.70,2,     0.02,2,     2.31,2, -999.000,5, -999.000,5, -999.000,9,-999.0000,9,  -999.00,9,   -999.0,9,  -999.00,9,-999.000,9,   -999.0,9,   -999.0,9, -999.00,  -999.0,-999.0000,-999.000,-999.000,  0.8243,-999.000
     316N138_5,  P06W,   249,  1,      2,    136,2,19920725,0100,-30.0862, 154.4970, 4590,   4653.1,   1.1814,  34.7158,2,  34.7148,2,    197.0,2,    204.0,4,   116.20,2,    32.79,2,     0.01,2,     2.30,2, -999.000,5, -999.000,5, -999.000,9,-999.0000,9,  -999.00,9,   -999.0,9,  -999.00,9,-999.000,9,   -999.0,9,   -999.0,9, -999.00,  -999.0,-999.0000,-999.000,-999.000,  0.7986,-999.000
     316N138_5,  P06W,   249,  1,      1,    134,2,19920725,0100,-30.0862, 154.4970, 4590,   4653.1,   1.1814,  34.7158,2,  34.7125,2,    197.0,2,    198.4,2,   117.08,2,    32.85,2,     0.01,2,     2.31,2, -999.000,5, -999.000,5, -999.000,9,-999.0000,9,  -999.00,9,   -999.0,9,  -999.00,9,-999.000,9,   -999.0,9,   -999.0,9, -999.00,  -999.0,-999.0000,-999.000,-999.000,  0.7986,-999.000
     316N138_5,  P06W,   250,  1,     12,    112,2,19920726,0444,-30.0825, 154.1697, 4606,     18.7,  20.7228,  35.5303,2,  35.5304,2,    223.1,2,    217.4,2,     0.87,2,     0.79,2,     0.22,2,     0.22,2, -999.000,5, -999.000,5, -999.000,9,-999.0000,9,  -999.00,9,   -999.0,9,  -999.00,9,-999.000,9,   -999.0,9,   -999.0,9, -999.00,  -999.0,-999.0000,-999.000,-999.000, 20.7193,-999.000
     316N138_5,  P06W,   250,  1,     11,    129,2,19920726,0444,-30.0825, 154.1697, 4606,     56.6,  20.7380,  35.5302,2,  35.5296,2,    218.8,2,    219.3,2,     0.87,2,     0.78,2,     0.22,2,     0.21,2, -999.000,5, -999.000,5, -999.000,9,-999.0000,9,  -999.00,9,   -999.0,9,  -999.00,9,-999.000,9,   -999.0,9,   -999.0,9, -999.00,  -999.0,-999.0000,-999.000,-999.000, 20.7272,-999.000
     316N138_5,  P06W,   250,  1,     10,    110,2,19920726,0444,-30.0825, 154.1697, 4606,    205.7,  19.6577,  35.5728,2,  35.5760,2,    188.0,2,    184.2,2,     1.40,2,     4.73,2,     0.03,2,     0.47,2, -999.000,5, -999.000,5, -999.000,9,-999.0000,9,  -999.00,9,   -999.0,9,  -999.00,9,-999.000,9,   -999.0,9,   -999.0,9, -999.00,  -999.0,-999.0000,-999.000,-999.000, 19.6200,-999.000
     316N138_5,  P06W,   250,  1,      9,    126,2,19920726,0444,-30.0825, 154.1697, 4606,    205.7,  19.6577,  35.5728,2,  35.5727,2,    188.0,2,    180.6,2,     1.57,2,     4.74,2,     0.02,2,     0.47,2, -999.000,5, -999.000,5, -999.000,9,-999.0000,9,  -999.00,9,   -999.0,9,  -999.00,9,-999.000,9,   -999.0,9,   -999.0,9, -999.00,  -999.0,-999.0000,-999.000,-999.000, 19.6200,-999.000
     316N138_5,  P06W,   250,  1,      8,    108,2,19920726,0444,-30.0825, 154.1697, 4606,   1004.0,   5.6828,  34.4613,2,  34.4630,2,    188.3,2,    187.1,2,    33.81,2,    29.01,2,     0.00,2,     2.01,2, -999.000,5, -999.000,5, -999.000,9,-999.0000,9,  -999.00,9,   -999.0,9,  -999.00,9,-999.000,9,   -999.0,9,   -999.0,9, -999.00,  -999.0,-999.0000,-999.000,-999.000,  5.5941,-999.000
     316N138_5,  P06W,   250,  1,      7,    107,2,19920726,0444,-30.0825, 154.1697, 4606,   1511.0,   3.2866,  34.5623,2,  34.5665,2,    157.2,2,    156.3,2,    85.88,2,    34.56,2,     0.01,2,     2.43,2, -999.000,5, -999.000,5, -999.000,9,-999.0000,9,  -999.00,9,   -999.0,9,  -999.00,9,-999.000,9,   -999.0,9,   -999.0,9, -999.00,  -999.0,-999.0000,-999.000,-999.000,  3.1746,-999.000
     316N138_5,  P06W,   250,  1,      6,    180,2,19920726,0444,-30.0825, 154.1697, 4606,   2019.5,   2.3748,  34.6603,2,  34.6421,3,    164.8,2,    162.7,2,    94.54,2,    34.29,2,     0.01,2,     2.40,2, -999.000,5, -999.000,5, -999.000,9,-999.0000,9,  -999.00,9,   -999.0,9,  -999.00,9,-999.000,9,   -999.0,9,   -999.0,9, -999.00,  -999.0,-999.0000,-999.000,-999.000,  2.2310,-999.000
     316N138_5,  P06W,   250,  1,      5,    131,2,19920726,0444,-30.0825, 154.1697, 4606,   2521.2,   1.9302,  34.7149,2,  34.7219,2,    180.7,2,    181.5,2,    96.71,2,    32.43,2,     0.00,2,     2.27,2, -999.000,5, -999.000,5, -999.000,9,-999.0000,9,  -999.00,9,   -999.0,9,  -999.00,9,-999.000,9,   -999.0,9,   -999.0,9, -999.00,  -999.0,-999.0000,-999.000,-999.000,  1.7491,-999.000
     316N138_5,  P06W,   250,  1,      4,    516,2,19920726,0444,-30.0825, 154.1697, 4606,   3018.2,   1.5209,  34.7248,2,  34.7132,3,    188.4,2,    183.5,4,    96.55,2,    32.42,2,     0.00,2,     2.28,2, -999.000,5, -999.000,5, -999.000,9,-999.0000,9,  -999.00,9,   -999.0,9,  -999.00,9,-999.000,9,   -999.0,9,   -999.0,9, -999.00,  -999.0,-999.0000,-999.000,-999.000,  1.3017,-999.000
     316N138_5,  P06W,   250,  1,      3,    130,2,19920726,0444,-30.0825, 154.1697, 4606,   3525.2,   1.2345,  34.7205,2,-999.0000,9,    193.7,2,    190.6,4,   105.95,2,    32.28,2,     0.00,2,     2.27,2, -999.000,5, -999.000,5, -999.000,9,-999.0000,9,  -999.00,9,   -999.0,9,  -999.00,9,-999.000,9,   -999.0,9,   -999.0,9, -999.00,  -999.0,-999.0000,-999.000,-999.000,  0.9723,-999.000
     316N138_5,  P06W,   250,  1,      2,    136,2,19920726,0444,-30.0825, 154.1697, 4606,   4049.3,   1.1572,  34.7166,2,  34.7243,3,    195.9,2,    195.0,2,  -999.00,9,  -999.00,9,  -999.00,9,  -999.00,9, -999.000,5, -999.000,5, -999.000,9,-999.0000,9,  -999.00,9,   -999.0,9,  -999.00,9,-999.000,9,   -999.0,9,   -999.0,9, -999.00,  -999.0,-999.0000,-999.000,-999.000,  0.8425,-999.000
     316N138_5,  P06W,   250,  1,      1,    134,2,19920726,0444,-30.0825, 154.1697, 4606,   4663.4,   1.1648,  34.7153,2,  34.7134,2,    198.3,2,    197.4,2,   117.16,2,    32.65,2,     0.01,2,     2.28,2, -999.000,5, -999.000,5, -999.000,9,-999.0000,9,  -999.00,9,   -999.0,9,  -999.00,9,-999.000,9,   -999.0,9,   -999.0,9, -999.00,  -999.0,-999.0000,-999.000,-999.000,  0.7814,-999.000
     316N138_5,  P06W,   251,  1,     12,    112,2,19920726,0741,-30.0898, 154.0037, 4477,     59.4,  21.0333,  35.5158,2,  35.5158,2,    223.4,2,    214.9,2,     0.81,2,     0.53,2,     0.29,2,     0.21,2, -999.000,5, -999.000,5, -999.000,9,-999.0000,9,  -999.00,9,   -999.0,9,  -999.00,9,-999.000,9,   -999.0,9,   -999.0,9, -999.00,  -999.0,-999.0000,-999.000,-999.000, 21.0220,-999.000
     316N138_5,  P06W,   251,  1,     11,    129,2,19920726,0741,-30.0898, 154.0037, 4477,    205.4,  19.5030,  35.5714,2,  35.5725,2,    185.3,2,    185.1,2,     1.34,2,     4.54,2,     0.00,2,     0.46,2, -999.000,5, -999.000,5, -999.000,9,-999.0000,9,  -999.00,9,   -999.0,9,  -999.00,9,-999.000,9,   -999.0,9,   -999.0,9, -999.00,  -999.0,-999.0000,-999.000,-999.000, 19.4656,-999.000
     316N138_5,  P06W,   251,  1,     10,    110,2,19920726,0741,-30.0898, 154.0037, 4477,    607.4,   9.4714,  34.7265,2,  34.7406,2,    193.1,2,    192.4,2,     9.39,2,    19.84,2,    -0.01,2,     1.44,2, -999.000,5, -999.000,5, -999.000,9,-999.0000,9,  -999.00,9,   -999.0,9,  -999.00,9,-999.000,9,   -999.0,9,   -999.0,9, -999.00,  -999.0,-999.0000,-999.000,-999.000,  9.4020,-999.000
     316N138_5,  P06W,   251,  1,      9,    126,2,19920726,0741,-30.0898, 154.0037, 4477,    607.4,   9.4714,  34.7265,2,  34.7410,2,    193.1,2,    190.8,2,     9.21,2,    19.78,2,    -0.01,2,     1.42,2, -999.000,5, -999.000,5, -999.000,9,-999.0000,9,  -999.00,9,   -999.0,9,  -999.00,9,-999.000,9,   -999.0,9,   -999.0,9, -999.00,  -999.0,-999.0000,-999.000,-999.000,  9.4020,-999.000
     316N138_5,  P06W,   251,  1,      8,    108,2,19920726,0741,-30.0898, 154.0037, 4477,   1513.0,   3.2397,  34.5663,2,  34.7638,3,    157.0,2,    155.1,2,    86.53,2,    34.40,2,     0.00,2,     2.43,2, -999.000,5, -999.000,5, -999.000,9,-999.0000,9,  -999.00,9,   -999.0,9,  -999.00,9,-999.000,9,   -999.0,9,   -999.0,9, -999.00,  -999.0,-999.0000,-999.000,-999.000,  3.1280,-999.000
     316N138_5,  P06W,   251,  1,      7,    107,2,19920726,0741,-30.0898, 154.0037, 4477,   2019.2,   2.3477,  34.6628,2,  34.6624,2,    164.7,2,    166.0,2,    96.78,2,    33.77,2,     0.00,2,     2.39,2, -999.000,5, -999.000,5, -999.000,9,-999.0000,9,  -999.00,9,   -999.0,9,  -999.00,9,-999.000,9,   -999.0,9,   -999.0,9, -999.00,  -999.0,-999.0000,-999.000,-999.000,  2.2043,-999.000
     316N138_5,  P06W,   251,  1,      6,    180,2,19920726,0741,-30.0898, 154.0037, 4477,   2518.5,   1.9056,  34.7190,2,  34.7193,2,    181.7,2,    184.5,4,    97.68,2,    32.12,2,     0.00,2,     2.26,2, -999.000,5, -999.000,5, -999.000,9,-999.0000,9,  -999.00,9,   -999.0,9,  -999.00,9,-999.000,9,   -999.0,9,   -999.0,9, -999.00,  -999.0,-999.0000,-999.000,-999.000,  1.7251,-999.000
     316N138_5,  P06W,   251,  1,      5,    131,2,19920726,0741,-30.0898, 154.0037, 4477,   3008.6,   1.5071,  34.7246,2,  34.7180,4,    188.3,2,    183.2,4,    97.53,2,    32.11,2,     0.00,2,     2.25,2, -999.000,5, -999.000,5, -999.000,9,-999.0000,9,  -999.00,9,   -999.0,9,  -999.00,9,-999.000,9,   -999.0,9,   -999.0,9, -999.00,  -999.0,-999.0000,-999.000,-999.000,  1.2891,-999.000
     316N138_5,  P06W,   251,  1,      4,    516,2,19920726,0741,-30.0898, 154.0037, 4477,   3490.4,   1.2435,  34.7207,2,  34.7231,3,    192.3,2,    192.0,2,   107.06,2,    32.14,2,     0.01,2,     2.26,2, -999.000,5, -999.000,5, -999.000,9,-999.0000,9,  -999.00,9,   -999.0,9,  -999.00,9,-999.000,9,   -999.0,9,   -999.0,9, -999.00,  -999.0,-999.0000,-999.000,-999.000,  0.9846,-999.000
     316N138_5,  P06W,   251,  1,      3,    130,2,19920726,0741,-30.0898, 154.0037, 4477,   3971.2,   1.1807,  34.7176,2,  34.7272,3,    195.0,2,    195.9,2,   114.07,2,    32.35,2,     0.01,2,     2.27,2, -999.000,5, -999.000,5, -999.000,9,-999.0000,9,  -999.00,9,   -999.0,9,  -999.00,9,-999.000,9,   -999.0,9,   -999.0,9, -999.00,  -999.0,-999.0000,-999.000,-999.000,  0.8737,-999.000
     316N138_5,  P06W,   251,  1,      2,    136,2,19920726,0741,-30.0898, 154.0037, 4477,   4513.5,   1.1612,  34.7160,2,  34.7142,2,    194.9,2,    200.0,4,   119.50,2,    32.57,2,     0.01,2,     2.29,2, -999.000,5, -999.000,5, -999.000,9,-999.0000,9,  -999.00,9,   -999.0,9,  -999.00,9,-999.000,9,   -999.0,9,   -999.0,9, -999.00,  -999.0,-999.0000,-999.000,-999.000,  0.7950,-999.000
     316N138_5,  P06W,   251,  1,      1,    134,2,19920726,0741,-30.0898, 154.0037, 4477,   4513.5,   1.1612,  34.7160,2,  34.7150,2,    194.9,2,    198.4,2,   118.97,2,    32.61,2,     0.00,2,     2.29,2, -999.000,5, -999.000,5, -999.000,9,-999.0000,9,  -999.00,9,   -999.0,9,  -999.00,9,-999.000,9,   -999.0,9,   -999.0,9, -999.00,  -999.0,-999.0000,-999.000,-999.000,  0.7950,-999.000