BOTTLE,20030219WHPSIOdm
EXPOCODE,SECT_ID,STNNBR,CASTNO,SAMPNO,BTLNBR,BTLNBR_FLAG_W,DATE,TIME,LATITUDE,LONGITUDE,DEPTH,CTDPRS,CTDTMP,CTDSAL,CTDSAL_FLAG_W,SALNTY,SALNTY_FLAG_W,CTDOXY,CTDOXY_FLAG_W,OXYGEN,OXYGEN_FLAG_W,SILCAT,SILCAT_FLAG_W,NITRAT,NITRAT_FLAG_W,NITRIT,NITRIT_FLAG_W,PHSPHT,PHSPHT_FLAG_W,CFC-11,CFC-11_FLAG_W,CFC-12,CFC-12_FLAG_W,TRITUM,TRITUM_FLAG_W,HELIUM,HELIUM_FLAG_W,DELHE3,DELHE3_FLAG_W,DELC14,DELC14_FLAG_W,DELC13,DELC13_FLAG_W,NEON,NEON_FLAG_W,TCARBN,TCARBN_FLAG_W,PCO2,PCO2_FLAG_W,PCO2TMP,C14ERR,HELIER,DELHER,NEONER,THETA,TRITER
,,,,,,,,,,,,DBAR,ITS-90,PSS-78,,PSS-78,,UMOL/KG,,UMOL/KG,,UMOL/KG,,UMOL/KG,,UMOL/KG,,UMOL/KG,,PMOL/KG,,PMOL/KG,,TU,,NMOL/KG,,PERCNT,,/MILLE,,/MILLE,,NMOL/KG,,UMOL/KG,,UATM,,DEG_C,/MILLE,NMOL/KG,PERCNT,NMOL/KG,ITS-90,TU
     316N138_5,  P06W,   191,  1,     36,1385-36,2,19920715,0002,-30.5920, 177.0095, 4294,     23.4,  17.4588,  35.5653,2,  35.5659,2,    236.6,2,    236.7,2,     1.17,2,     0.79,2,     0.12,2,     0.20,2, -999.000,5, -999.000,5, -999.000,9,-999.0000,9,  -999.00,9,   -999.0,9,  -999.00,9,-999.000,9,   2038.5,6,    376.0,2,   20.50,  -999.0,-999.0000,-999.000,-999.000, 17.4548,-999.000
     316N138_5,  P06W,   191,  1,     35,02-9454,2,19920715,0002,-30.5920, 177.0095, 4294,     63.7,  17.3849,  35.6001,2,  35.5973,2,    227.5,2,    231.5,2,     1.18,2,     1.14,2,     0.21,2,     0.23,2, -999.000,5, -999.000,5, -999.000,9,-999.0000,9,  -999.00,9,   -999.0,9,  -999.00,9,-999.000,9,   2037.9,2,   -999.0,9, -999.00,  -999.0,-999.0000,-999.000,-999.000, 17.3742,-999.000
     316N138_5,  P06W,   191,  1,     34,02-9457,2,19920715,0002,-30.5920, 177.0095, 4294,    114.6,  17.1018,  35.5693,2,  35.5506,2,    225.3,2,    221.1,2,     1.56,2,     2.77,2,     0.16,2,     0.34,2, -999.000,5, -999.000,5, -999.000,9,-999.0000,9,  -999.00,9,   -999.0,9,  -999.00,9,-999.000,9,   2043.1,2,    378.9,6,   20.50,  -999.0,-999.0000,-999.000,-999.000, 17.0827,-999.000
     316N138_5,  P06W,   191,  1,     33,1385-33,2,19920715,0002,-30.5920, 177.0095, 4294,    164.8,  15.8749,  35.4491,2,  35.4433,2,    212.3,2,    199.9,2,     2.31,2,     6.50,2,     0.02,2,     0.56,2, -999.000,5, -999.000,5, -999.000,9,-999.0000,9,  -999.00,9,   -999.0,9,  -999.00,9,-999.000,9,   2058.9,2,   -999.0,9, -999.00,  -999.0,-999.0000,-999.000,-999.000, 15.8489,-999.000
     316N138_5,  P06W,   191,  1,     32,02-9510,2,19920715,0002,-30.5920, 177.0095, 4294,    214.4,  14.8996,  35.3296,2,  35.3441,2,    197.3,2,    199.3,2,     3.06,2,     8.13,2,     0.01,2,     0.68,2, -999.000,5, -999.000,5, -999.000,9,-999.0000,9,  -999.00,9,   -999.0,9,  -999.00,9,-999.000,9,   2078.0,2,    473.8,2,   20.50,  -999.0,-999.0000,-999.000,-999.000, 14.8672,-999.000
     316N138_5,  P06W,   191,  1,     31,02-9453,2,19920715,0002,-30.5920, 177.0095, 4294,    263.7,  13.8552,  35.2661,2,  35.2396,2,    200.4,2,    195.0,2,     3.81,2,    10.29,2,     0.02,2,     0.80,2, -999.000,5, -999.000,5, -999.000,9,-999.0000,9,  -999.00,9,   -999.0,9,  -999.00,9,-999.000,9,   2091.5,2,   -999.0,9, -999.00,  -999.0,-999.0000,-999.000,-999.000, 13.8172,-999.000
     316N138_5,  P06W,   191,  1,     30,02-9456,2,19920715,0002,-30.5920, 177.0095, 4294,    314.2,  13.1346,  35.1630,2,  35.1522,2,    196.8,2,    194.6,2,     4.74,2,    11.77,2,     0.01,2,     0.91,2, -999.000,5, -999.000,5, -999.000,9,-999.0000,9,  -999.00,9,   -999.0,9,  -999.00,9,-999.000,9,   2100.3,2,    547.2,2,   20.50,  -999.0,-999.0000,-999.000,-999.000, 13.0909,-999.000
     316N138_5,  P06W,   191,  1,     29,02-9458,2,19920715,0002,-30.5920, 177.0095, 4294,    364.5,  12.0228,  35.0328,2,  35.0250,2,    196.3,2,    190.7,2,     6.05,2,    14.43,2,     0.01,2,     1.06,2, -999.000,5, -999.000,5, -999.000,9,-999.0000,9,  -999.00,9,   -999.0,9,  -999.00,9,-999.000,9,   2111.2,2,   -999.0,9, -999.00,  -999.0,-999.0000,-999.000,-999.000, 11.9748,-999.000
     316N138_5,  P06W,   191,  1,     28,02-9454,2,19920715,0002,-30.5920, 177.0095, 4294,    414.4,  11.1028,  34.8784,2,  34.9083,2,    194.8,2,    190.7,2,     6.81,2,    16.44,2,     0.01,2,     1.19,2, -999.000,5, -999.000,5, -999.000,9,-999.0000,9,  -999.00,9,   -999.0,9,  -999.00,9,-999.000,9,   2121.3,2,    627.6,2,   20.50,  -999.0,-999.0000,-999.000,-999.000, 11.0509,-999.000
     316N138_5,  P06W,   191,  1,     27,02-9543,2,19920715,0002,-30.5920, 177.0095, 4294,    465.1,  10.3235,  34.8121,2,  34.8106,2,    194.5,2,    192.8,2,     7.56,2,    17.82,2,     0.01,2,     1.27,2, -999.000,5, -999.000,5, -999.000,9,-999.0000,9,  -999.00,9,   -999.0,9,  -999.00,9,-999.000,9,   2128.4,2,   -999.0,9, -999.00,  -999.0,-999.0000,-999.000,-999.000, 10.2678,-999.000
     316N138_5,  P06W,   191,  1,     26,02-9544,2,19920715,0002,-30.5920, 177.0095, 4294,    514.0,   9.5483,  34.7288,2,  34.7197,2,    193.5,2,    195.5,2,     8.12,2,    19.26,2,     0.00,2,     1.37,2, -999.000,5, -999.000,5, -999.000,9,-999.0000,9,  -999.00,9,   -999.0,9,  -999.00,9,-999.000,9,   2133.1,2,    700.9,2,   20.50,  -999.0,-999.0000,-999.000,-999.000,  9.4896,-999.000
     316N138_5,  P06W,   191,  1,     25,02-9455,2,19920715,0002,-30.5920, 177.0095, 4294,    615.5,   8.3276,  34.5819,2,  34.5796,2,    203.5,2,    203.4,2,     9.82,2,    21.52,2,     0.00,2,     1.51,2, -999.000,5, -999.000,5, -999.000,9,-999.0000,9,  -999.00,9,   -999.0,9,  -999.00,9,-999.000,9,   2136.2,2,   -999.0,9, -999.00,  -999.0,-999.0000,-999.000,-999.000,  8.2625,-999.000
     316N138_5,  P06W,   191,  1,     24,    132,2,19920715,0002,-30.5920, 177.0095, 4294,    715.3,   7.3775,  34.5059,2,  34.5078,2,    204.4,2,    205.1,2,    13.36,2,    23.58,2,     0.00,2,     1.65,2, -999.000,5, -999.000,5, -999.000,9,-999.0000,9,  -999.00,9,   -999.0,9,  -999.00,9,-999.000,9,   2143.9,2,    780.1,2,   20.50,  -999.0,-999.0000,-999.000,-999.000,  7.3066,-999.000
     316N138_5,  P06W,   191,  1,     23,    123,2,19920715,0002,-30.5920, 177.0095, 4294,    816.6,   6.4454,  34.4394,2,  34.4357,2,    203.5,2,    204.0,2,    18.40,2,    26.04,2,     0.00,2,     1.80,2, -999.000,5, -999.000,5, -999.000,9,-999.0000,9,  -999.00,9,   -999.0,9,  -999.00,9,-999.000,9,   2149.1,2,   -999.0,9, -999.00,  -999.0,-999.0000,-999.000,-999.000,  6.3696,-999.000
     316N138_5,  P06W,   191,  1,     22,    128,2,19920715,0002,-30.5920, 177.0095, 4294,    916.7,   5.8598,  34.4481,2,  34.4410,2,    195.1,2,    193.9,2,    26.99,2,    27.90,2,     0.00,2,     1.92,2, -999.000,5, -999.000,5, -999.000,9,-999.0000,9,  -999.00,9,   -999.0,9,  -999.00,9,-999.000,9,   2162.1,2,    863.0,2,   20.50,  -999.0,-999.0000,-999.000,-999.000,  5.7780,-999.000
     316N138_5,  P06W,   191,  1,     21,    121,2,19920715,0002,-30.5920, 177.0095, 4294,   1015.8,   5.3471,  34.4581,2,  34.4587,2,    186.8,2,    185.6,2,    36.70,2,    29.37,2,     0.00,2,     2.04,2, -999.000,5, -999.000,5, -999.000,9,-999.0000,9,  -999.00,9,   -999.0,9,  -999.00,9,-999.000,9,   2176.9,2,   -999.0,9, -999.00,  -999.0,-999.0000,-999.000,-999.000,  5.2597,-999.000
     316N138_5,  P06W,   191,  1,     20,    515,2,19920715,0002,-30.5920, 177.0095, 4294,   1116.7,   4.6056,  34.4417,2,  34.4402,2,    181.6,2,    181.4,2,    45.10,2,    31.29,2,     0.00,2,     2.16,2, -999.000,5, -999.000,5, -999.000,9,-999.0000,9,  -999.00,9,   -999.0,9,  -999.00,9,-999.000,9,   -999.0,9,   -999.0,9, -999.00,  -999.0,-999.0000,-999.000,-999.000,  4.5151,-999.000
     316N138_5,  P06W,   191,  1,     19,    120,2,19920715,0002,-30.5920, 177.0095, 4294,   1216.6,   4.1739,  34.4692,2,  34.4730,2,    174.8,2,    174.3,2,    55.74,2,    32.31,2,     0.00,2,     2.24,2, -999.000,5, -999.000,5, -999.000,9,-999.0000,9,  -999.00,9,   -999.0,9,  -999.00,9,-999.000,9,   2207.0,6,   1035.5,2,   20.50,  -999.0,-999.0000,-999.000,-999.000,  4.0783,-999.000
     316N138_5,  P06W,   191,  1,     18,    118,2,19920715,0002,-30.5920, 177.0095, 4294,   1318.0,   3.8527,  34.5122,2,  34.5123,2,    168.5,2,    168.3,2,    66.75,2,    32.69,3,     0.00,2,     2.28,2, -999.000,5, -999.000,5, -999.000,9,-999.0000,9,  -999.00,9,   -999.0,9,  -999.00,9,-999.000,9,   2223.5,2,   -999.0,9, -999.00,  -999.0,-999.0000,-999.000,-999.000,  3.7512,-999.000
     316N138_5,  P06W,   191,  1,     17,    514,2,19920715,0002,-30.5920, 177.0095, 4294,   1417.1,   3.4900,  34.5456,2,  34.5433,2,    164.1,2,    163.5,2,    77.39,2,    33.42,2,     0.00,2,     2.33,2, -999.000,5, -999.000,5, -999.000,9,-999.0000,9,  -999.00,9,   -999.0,9,  -999.00,9,-999.000,9,   2240.9,2,   -999.0,9, -999.00,  -999.0,-999.0000,-999.000,-999.000,  3.3838,-999.000
     316N138_5,  P06W,   191,  1,     16,    116,2,19920715,0002,-30.5920, 177.0095, 4294,   1517.3,   3.2193,  34.5703,2,  34.5696,2,    161.0,2,    160.6,2,    85.42,2,    33.66,2,     0.00,2,     2.36,2, -999.000,5, -999.000,5, -999.000,9,-999.0000,9,  -999.00,9,   -999.0,9,  -999.00,9,-999.000,9,   2254.8,2,   1134.2,6,   20.50,  -999.0,-999.0000,-999.000,-999.000,  3.1075,-999.000
     316N138_5,  P06W,   191,  1,     15,    115,2,19920715,0002,-30.5920, 177.0095, 4294,   1617.7,   2.9718,  34.5843,2,  34.5836,2,    158.9,2,    158.2,2,    91.96,2,    34.10,2,     0.00,2,     2.40,2, -999.000,5, -999.000,5, -999.000,9,-999.0000,9,  -999.00,9,   -999.0,9,  -999.00,9,-999.000,9,   2264.6,2,   -999.0,9, -999.00,  -999.0,-999.0000,-999.000,-999.000,  2.8544,-999.000
     316N138_5,  P06W,   191,  1,     14,    513,2,19920715,0002,-30.5920, 177.0095, 4294,   1718.2,   2.7625,  34.6024,2,  34.6012,2,    157.4,2,    156.7,2,    97.94,2,    34.38,2,     0.00,2,     2.42,2, -999.000,5, -999.000,5, -999.000,9,-999.0000,9,  -999.00,9,   -999.0,9,  -999.00,9,-999.000,9,   2274.1,2,   -999.0,9, -999.00,  -999.0,-999.0000,-999.000,-999.000,  2.6392,-999.000
     316N138_5,  P06W,   191,  1,     13,    125,2,19920715,0002,-30.5920, 177.0095, 4294,   1818.1,   2.5830,  34.6146,2,  34.6134,2,    155.8,2,    155.0,2,   102.99,2,    34.52,2,     0.00,2,     2.44,2, -999.000,5, -999.000,5, -999.000,9,-999.0000,9,  -999.00,9,   -999.0,9,  -999.00,9,-999.000,9,   2284.5,2,   1182.2,2,   20.50,  -999.0,-999.0000,-999.000,-999.000,  2.4535,-999.000
     316N138_5,  P06W,   191,  1,     12,    112,2,19920715,0002,-30.5920, 177.0095, 4294,   2018.4,   2.3213,  34.6351,2,  34.6343,2,    153.8,2,    152.7,2,   110.64,2,    34.90,2,     0.00,2,     2.46,2, -999.000,5, -999.000,5, -999.000,9,-999.0000,9,  -999.00,9,   -999.0,9,  -999.00,9,-999.000,9,   2293.7,2,   -999.0,9, -999.00,  -999.0,-999.0000,-999.000,-999.000,  2.1784,-999.000
     316N138_5,  P06W,   191,  1,     11,    129,2,19920715,0002,-30.5920, 177.0095, 4294,   2224.6,   2.1586,  34.6491,2,  34.6490,2,    153.4,2,    152.5,2,   115.32,2,    35.15,2,     0.00,2,     2.47,2, -999.000,5, -999.000,5, -999.000,9,-999.0000,9,  -999.00,9,   -999.0,9,  -999.00,9,-999.000,9,   2300.8,2,   -999.0,9, -999.00,  -999.0,-999.0000,-999.000,-999.000,  2.0002,-999.000
     316N138_5,  P06W,   191,  1,     10,    110,2,19920715,0002,-30.5920, 177.0095, 4294,   2425.1,   2.0274,  34.6606,2,  34.6614,2,    153.7,2,    152.8,2,   118.87,2,    35.23,2,     0.01,2,     2.48,2, -999.000,5, -999.000,5, -999.000,9,-999.0000,9,  -999.00,9,   -999.0,9,  -999.00,9,-999.000,9,   2296.7,2,   1188.8,2,   20.50,  -999.0,-999.0000,-999.000,-999.000,  1.8534,-999.000
     316N138_5,  P06W,   191,  1,      9,    126,2,19920715,0002,-30.5920, 177.0095, 4294,   2626.0,   1.9382,  34.6689,2,  34.6696,2,    154.0,2,    153.4,2,   121.12,2,    35.46,2,     0.01,2,     2.47,2, -999.000,5, -999.000,5, -999.000,9,-999.0000,9,  -999.00,9,   -999.0,9,  -999.00,9,-999.000,9,   2307.2,2,   -999.0,9, -999.00,  -999.0,-999.0000,-999.000,-999.000,  1.7475,-999.000
     316N138_5,  P06W,   191,  1,      8,    108,2,19920715,0002,-30.5920, 177.0095, 4294,   2831.9,   1.8914,  34.6745,2,  34.6747,2,    154.5,2,    154.0,2,   122.25,2,    35.22,2,     0.00,2,     2.47,2, -999.000,5, -999.000,5, -999.000,9,-999.0000,9,  -999.00,9,   -999.0,9,  -999.00,9,-999.000,9,   2310.1,2,   -999.0,9, -999.00,  -999.0,-999.0000,-999.000,-999.000,  1.6822,-999.000
     316N138_5,  P06W,   191,  1,      7,    107,2,19920715,0002,-30.5920, 177.0095, 4294,   3035.5,   1.8668,  34.6776,2,  34.6779,2,    154.9,2,    154.4,2,   123.38,2,    35.16,2,     0.00,2,     2.48,2, -999.000,5, -999.000,5, -999.000,9,-999.0000,9,  -999.00,9,   -999.0,9,  -999.00,9,-999.000,9,   2310.4,2,   1216.5,2,   20.50,  -999.0,-999.0000,-999.000,-999.000,  1.6384,-999.000
     316N138_5,  P06W,   191,  1,      6,    180,2,19920715,0002,-30.5920, 177.0095, 4294,   3238.7,   1.8578,  34.6791,2,  34.6804,2,    155.0,2,    154.6,2,   124.13,2,    35.16,2,     0.00,2,     2.48,2, -999.000,5, -999.000,5, -999.000,9,-999.0000,9,  -999.00,9,   -999.0,9,  -999.00,9,-999.000,9,   2311.6,2,   -999.0,9, -999.00,  -999.0,-999.0000,-999.000,-999.000,  1.6094,-999.000
     316N138_5,  P06W,   191,  1,      5,    131,2,19920715,0002,-30.5920, 177.0095, 4294,   3441.3,   1.8580,  34.6812,2,  34.6848,3,    155.3,2,    154.7,2,   124.90,2,    35.10,2,     0.00,2,     2.46,2, -999.000,5, -999.000,5, -999.000,9,-999.0000,9,  -999.00,9,   -999.0,9,  -999.00,9,-999.000,9,   2312.6,2,   -999.0,9, -999.00,  -999.0,-999.0000,-999.000,-999.000,  1.5889,-999.000
     316N138_5,  P06W,   191,  1,      4,    516,2,19920715,0002,-30.5920, 177.0095, 4294,   3645.9,   1.8665,  34.6816,2,  34.6859,3,    155.5,2,    154.7,2,   125.09,2,    35.09,2,     0.00,2,     2.47,2, -999.000,5, -999.000,5, -999.000,9,-999.0000,9,  -999.00,9,   -999.0,9,  -999.00,9,-999.000,9,   2312.0,2,   1201.8,6,   20.50,  -999.0,-999.0000,-999.000,-999.000,  1.5757,-999.000
     316N138_5,  P06W,   191,  1,      3,    130,2,19920715,0002,-30.5920, 177.0095, 4294,   3850.5,   1.8789,  34.6823,2,  34.6828,2,    156.0,2,    154.7,2,   125.29,2,    35.13,2,     0.00,2,     2.46,2, -999.000,5, -999.000,5, -999.000,9,-999.0000,9,  -999.00,9,   -999.0,9,  -999.00,9,-999.000,9,   2311.8,2,   -999.0,9, -999.00,  -999.0,-999.0000,-999.000,-999.000,  1.5658,-999.000
     316N138_5,  P06W,   191,  1,      2,    136,2,19920715,0002,-30.5920, 177.0095, 4294,   4056.0,   1.8948,  34.6828,2,  34.6828,2,    156.2,2,    154.8,2,   125.86,2,    35.18,2,     0.00,2,     2.45,2, -999.000,5, -999.000,5, -999.000,9,-999.0000,9,  -999.00,9,   -999.0,9,  -999.00,9,-999.000,9,   2312.7,2,   -999.0,9, -999.00,  -999.0,-999.0000,-999.000,-999.000,  1.5586,-999.000
     316N138_5,  P06W,   191,  1,      1,    134,2,19920715,0002,-30.5920, 177.0095, 4294,   4355.4,   1.9276,  34.6837,2,  34.6836,2,    156.0,2,    154.5,2,   125.73,2,    35.10,2,     0.00,2,     2.45,2, -999.000,5, -999.000,5, -999.000,9,-999.0000,9,  -999.00,9,   -999.0,9,  -999.00,9,-999.000,9,   2312.4,6,   1202.1,2,   20.50,  -999.0,-999.0000,-999.000,-999.000,  1.5563,-999.000