BOTTLE,20030219WHPSIOdm
EXPOCODE,SECT_ID,STNNBR,CASTNO,SAMPNO,BTLNBR,BTLNBR_FLAG_W,DATE,TIME,LATITUDE,LONGITUDE,DEPTH,CTDPRS,CTDTMP,CTDSAL,CTDSAL_FLAG_W,SALNTY,SALNTY_FLAG_W,CTDOXY,CTDOXY_FLAG_W,OXYGEN,OXYGEN_FLAG_W,SILCAT,SILCAT_FLAG_W,NITRAT,NITRAT_FLAG_W,NITRIT,NITRIT_FLAG_W,PHSPHT,PHSPHT_FLAG_W,CFC-11,CFC-11_FLAG_W,CFC-12,CFC-12_FLAG_W,TRITUM,TRITUM_FLAG_W,HELIUM,HELIUM_FLAG_W,DELHE3,DELHE3_FLAG_W,DELC14,DELC14_FLAG_W,DELC13,DELC13_FLAG_W,NEON,NEON_FLAG_W,TCARBN,TCARBN_FLAG_W,PCO2,PCO2_FLAG_W,PCO2TMP,C14ERR,HELIER,DELHER,NEONER,THETA,TRITER
,,,,,,,,,,,,DBAR,ITS-90,PSS-78,,PSS-78,,UMOL/KG,,UMOL/KG,,UMOL/KG,,UMOL/KG,,UMOL/KG,,UMOL/KG,,PMOL/KG,,PMOL/KG,,TU,,NMOL/KG,,PERCNT,,/MILLE,,/MILLE,,NMOL/KG,,UMOL/KG,,UATM,,DEG_C,/MILLE,NMOL/KG,PERCNT,NMOL/KG,ITS-90,TU
     316N138_5,  P06W,   207,  1,     24,    132,2,19920718,0449,-30.0725, 168.9963, 3145,     18.3,  18.4577,  35.6528,2,  35.6510,2,    275.2,3,    225.7,2,     0.65,2,     0.66,2,     0.15,2,     0.17,2,    2.329,2,    1.228,2, -999.000,9,-999.0000,9,  -999.00,9,   -999.0,9,  -999.00,9,-999.000,9,   -999.0,9,   -999.0,9, -999.00,  -999.0,-999.0000,-999.000,-999.000, 18.4545,-999.000
     316N138_5,  P06W,   207,  1,     23,    123,2,19920718,0449,-30.0725, 168.9963, 3145,     59.9,  18.4675,  35.6533,2,  35.6508,2,    225.9,2,    225.6,2,     0.66,2,     0.65,2,     0.16,2,     0.18,2,    2.326,2,    1.224,2, -999.000,9,-999.0000,9,  -999.00,9,   -999.0,9,  -999.00,9,-999.000,9,   -999.0,9,   -999.0,9, -999.00,  -999.0,-999.0000,-999.000,-999.000, 18.4570,-999.000
     316N138_5,  P06W,   207,  1,     22,    128,2,19920718,0449,-30.0725, 168.9963, 3145,    109.7,  18.4307,  35.6457,2,  35.6453,2,    226.6,2,    223.7,2,     0.86,2,     0.86,2,     0.15,2,     0.20,2,    2.327,6,    1.252,6, -999.000,9,-999.0000,9,  -999.00,9,   -999.0,9,  -999.00,9,-999.000,9,   -999.0,9,   -999.0,9, -999.00,  -999.0,-999.0000,-999.000,-999.000, 18.4115,-999.000
     316N138_5,  P06W,   207,  1,     21,    121,2,19920718,0449,-30.0725, 168.9963, 3145,    159.7,  17.2992,  35.5270,2,  35.5474,2,    210.5,2,    201.4,2,     1.42,2,     4.23,2,     0.01,2,     0.41,2,    2.189,2,    1.164,2, -999.000,9,-999.0000,9,  -999.00,9,   -999.0,9,  -999.00,9,-999.000,9,   -999.0,9,   -999.0,9, -999.00,  -999.0,-999.0000,-999.000,-999.000, 17.2725,-999.000
     316N138_5,  P06W,   207,  1,     20,    515,2,19920718,0449,-30.0725, 168.9963, 3145,    208.7,  16.2235,  35.4715,2,  35.4507,2,    196.8,2,    194.3,2,     2.17,2,     6.74,2,    -0.01,2,     0.60,2,    2.082,2,    1.093,2, -999.000,9,-999.0000,9,  -999.00,9,   -999.0,9,  -999.00,9,-999.000,9,   -999.0,9,   -999.0,9, -999.00,  -999.0,-999.0000,-999.000,-999.000, 16.1900,-999.000
     316N138_5,  P06W,   207,  1,     19,    120,2,19920718,0449,-30.0725, 168.9963, 3145,    258.9,  15.4331,  35.4329,2,  35.3733,2,    193.4,2,    193.8,2,     2.73,2,     8.17,2,    -0.01,2,     0.68,2,    2.045,2,    1.059,2, -999.000,9,-999.0000,9,  -999.00,9,   -999.0,9,  -999.00,9,-999.000,9,   -999.0,9,   -999.0,9, -999.00,  -999.0,-999.0000,-999.000,-999.000, 15.3929,-999.000
     316N138_5,  P06W,   207,  1,     18,    118,2,19920718,0449,-30.0725, 168.9963, 3145,    308.9,  14.4184,  35.3124,2,  35.2915,2,    194.7,2,    194.4,2,     3.48,2,     9.54,2,    -0.01,2,     0.77,2,    1.999,2,    1.030,2, -999.000,9,-999.0000,9,  -999.00,9,   -999.0,9,  -999.00,9,-999.000,9,   -999.0,9,   -999.0,9, -999.00,  -999.0,-999.0000,-999.000,-999.000, 14.3726,-999.000
     316N138_5,  P06W,   207,  1,     17,    514,2,19920718,0449,-30.0725, 168.9963, 3145,    409.1,  11.9724,  34.9831,2,  35.0240,2,    191.5,2,    188.1,2,     6.08,2,    14.65,2,    -0.02,2,     1.09,2,    1.519,2,    0.785,2, -999.000,9,-999.0000,9,  -999.00,9,   -999.0,9,  -999.00,9,-999.000,9,   -999.0,9,   -999.0,9, -999.00,  -999.0,-999.0000,-999.000,-999.000, 11.9186,-999.000
     316N138_5,  P06W,   207,  1,     16,    116,2,19920718,0449,-30.0725, 168.9963, 3145,    509.6,  10.1484,  34.8198,2,  34.8133,2,    192.1,2,    189.9,2,     9.05,2,    18.56,2,    -0.02,2,     1.35,2,    1.179,2,    0.628,2, -999.000,9,-999.0000,9,  -999.00,9,   -999.0,9,  -999.00,9,-999.000,9,   -999.0,9,   -999.0,9, -999.00,  -999.0,-999.0000,-999.000,-999.000, 10.0879,-999.000
     316N138_5,  P06W,   207,  1,     15,    115,2,19920718,0449,-30.0725, 168.9963, 3145,    608.8,   9.0239,  34.7190,2,  34.7013,2,    193.4,2,    190.9,2,    12.21,2,    20.96,2,    -0.01,2,     1.51,2,    0.942,2,    0.489,2, -999.000,9,-999.0000,9,  -999.00,9,   -999.0,9,  -999.00,9,-999.000,9,   -999.0,9,   -999.0,9, -999.00,  -999.0,-999.0000,-999.000,-999.000,  8.9564,-999.000
     316N138_5,  P06W,   207,  1,     14,    513,2,19920718,0449,-30.0725, 168.9963, 3145,    708.0,   7.8119,  34.5822,2,  34.5918,2,    192.9,2,    191.9,2,    17.21,2,    23.61,2,    -0.01,2,     1.70,2,    0.641,2,    0.332,2, -999.000,9,-999.0000,9,  -999.00,9,   -999.0,9,  -999.00,9,-999.000,9,   -999.0,9,   -999.0,9, -999.00,  -999.0,-999.0000,-999.000,-999.000,  7.7393,-999.000
     316N138_5,  P06W,   207,  1,     13,    125,2,19920718,0449,-30.0725, 168.9963, 3145,    807.0,   6.9436,  34.5308,2,  34.5302,2,    192.4,2,    190.4,2,    22.78,2,    25.68,2,    -0.01,2,     1.83,2,    0.439,2,    0.229,2, -999.000,9,-999.0000,9,  -999.00,9,   -999.0,9,  -999.00,9,-999.000,9,   -999.0,9,   -999.0,9, -999.00,  -999.0,-999.0000,-999.000,-999.000,  6.8657,-999.000
     316N138_5,  P06W,   207,  1,     12,    112,2,19920718,0449,-30.0725, 168.9963, 3145,   1010.6,   5.3427,  34.4851,3,  34.4738,2,    185.0,2,    182.3,2,    39.00,2,    29.35,2,    -0.01,2,     2.06,2,    0.160,2,    0.090,2, -999.000,9,-999.0000,9,  -999.00,9,   -999.0,9,  -999.00,9,-999.000,9,   -999.0,9,   -999.0,9, -999.00,  -999.0,-999.0000,-999.000,-999.000,  5.2558,-999.000
     316N138_5,  P06W,   207,  1,     11,    129,2,19920718,0449,-30.0725, 168.9963, 3145,   1210.4,   4.2474,  34.5028,2,  34.5005,2,    173.2,2,    171.3,2,    59.63,2,    31.95,2,    -0.01,2,     2.28,2,    0.064,2,    0.038,2, -999.000,9,-999.0000,9,  -999.00,9,   -999.0,9,  -999.00,9,-999.000,9,   -999.0,9,   -999.0,9, -999.00,  -999.0,-999.0000,-999.000,-999.000,  4.1516,-999.000
     316N138_5,  P06W,   207,  1,     10,    110,2,19920718,0449,-30.0725, 168.9963, 3145,   1434.8,   3.4282,  34.5513,2,  34.5563,2,    163.3,2,    163.3,2,    78.51,2,    33.37,2,     0.00,2,     2.38,2,    0.027,2,    0.017,2, -999.000,9,-999.0000,9,  -999.00,9,   -999.0,9,  -999.00,9,-999.000,9,   -999.0,9,   -999.0,9, -999.00,  -999.0,-999.0000,-999.000,-999.000,  3.3211,-999.000
     316N138_5,  P06W,   207,  1,      9,    126,2,19920718,0449,-30.0725, 168.9963, 3145,   1636.8,   2.9006,  34.5902,2,  34.5889,2,    158.4,2,    157.3,2,    93.34,2,    34.21,2,     0.00,2,     2.45,2,    0.013,2,    0.011,2, -999.000,9,-999.0000,9,  -999.00,9,   -999.0,9,  -999.00,9,-999.000,9,   -999.0,9,   -999.0,9, -999.00,  -999.0,-999.0000,-999.000,-999.000,  2.7823,-999.000
     316N138_5,  P06W,   207,  1,      8,    108,2,19920718,0449,-30.0725, 168.9963, 3145,   1819.6,   2.5411,  34.6195,2,  34.6191,2,    156.9,2,    155.0,2,   103.52,2,    34.65,2,     0.00,2,     2.48,2,    0.008,2,    0.001,2, -999.000,9,-999.0000,9,  -999.00,9,   -999.0,9,  -999.00,9,-999.000,9,   -999.0,9,   -999.0,9, -999.00,  -999.0,-999.0000,-999.000,-999.000,  2.4121,-999.000
     316N138_5,  P06W,   207,  1,      7,    107,2,19920718,0449,-30.0725, 168.9963, 3145,   2021.0,   2.3497,  34.6353,2,  34.6341,2,    155.3,2,    154.3,2,   109.46,2,    34.81,2,     0.00,2,     2.50,2,    0.003,2,    0.003,2, -999.000,9,-999.0000,9,  -999.00,9,   -999.0,9,  -999.00,9,-999.000,9,   -999.0,9,   -999.0,9, -999.00,  -999.0,-999.0000,-999.000,-999.000,  2.2062,-999.000
     316N138_5,  P06W,   207,  1,      6,    180,2,19920718,0449,-30.0725, 168.9963, 3145,   2218.2,   2.1694,  34.6491,2,  34.6494,2,    154.3,2,    153.4,2,   114.65,2,    35.06,2,     0.00,2,     2.52,2,    0.000,2,    0.000,2, -999.000,9,-999.0000,9,  -999.00,9,   -999.0,9,  -999.00,9,-999.000,9,   -999.0,9,   -999.0,9, -999.00,  -999.0,-999.0000,-999.000,-999.000,  2.0114,-999.000
     316N138_5,  P06W,   207,  1,      5,    131,2,19920718,0449,-30.0725, 168.9963, 3145,   2419.1,   2.0212,  34.6612,2,  34.6610,2,    153.8,2,    153.1,2,   118.93,2,    35.22,2,     0.00,2,     2.54,2, -999.000,5, -999.000,5, -999.000,9,-999.0000,9,  -999.00,9,   -999.0,9,  -999.00,9,-999.000,9,   -999.0,9,   -999.0,9, -999.00,  -999.0,-999.0000,-999.000,-999.000,  1.8478,-999.000
     316N138_5,  P06W,   207,  1,      4,    516,2,19920718,0449,-30.0725, 168.9963, 3145,   2617.0,   1.9606,  34.6676,2,  34.6724,4,    153.8,2,    153.1,2,   120.60,2,    35.23,2,     0.00,2,     2.53,2,    0.001,2,    0.003,2, -999.000,9,-999.0000,9,  -999.00,9,   -999.0,9,  -999.00,9,-999.000,9,   -999.0,9,   -999.0,9, -999.00,  -999.0,-999.0000,-999.000,-999.000,  1.7703,-999.000
     316N138_5,  P06W,   207,  1,      3,    130,2,19920718,0449,-30.0725, 168.9963, 3145,   2823.4,   1.9461,  34.6706,2,  34.6698,2,    154.0,2,    152.9,2,   121.55,2,    35.23,2,     0.00,2,     2.53,2, -999.000,5, -999.000,5, -999.000,9,-999.0000,9,  -999.00,9,   -999.0,9,  -999.00,9,-999.000,9,   -999.0,9,   -999.0,9, -999.00,  -999.0,-999.0000,-999.000,-999.000,  1.7366,-999.000
     316N138_5,  P06W,   207,  1,      2,    136,2,19920718,0449,-30.0725, 168.9963, 3145,   3024.7,   1.9326,  34.6725,2,  34.6734,2,    154.0,2,    152.9,2,   122.30,2,    35.28,2,     0.00,2,     2.52,2,   -0.003,2,    0.004,2, -999.000,9,-999.0000,9,  -999.00,9,   -999.0,9,  -999.00,9,-999.000,9,   -999.0,9,   -999.0,9, -999.00,  -999.0,-999.0000,-999.000,-999.000,  1.7039,-999.000
     316N138_5,  P06W,   207,  1,      1,    134,2,19920718,0449,-30.0725, 168.9963, 3145,   3171.2,   1.9185,  34.6752,2,  34.6765,2,    153.6,2,    152.6,2,   122.94,2,    35.22,2,     0.00,2,     2.50,2,    0.001,6,    0.002,6, -999.000,9,-999.0000,9,  -999.00,9,   -999.0,9,  -999.00,9,-999.000,9,   -999.0,9,   -999.0,9, -999.00,  -999.0,-999.0000,-999.000,-999.000,  1.6756,-999.000
     316N138_5,  P06W,   208,  1,     24,    132,2,19920718,0927,-30.0717, 168.4957, 3342,     18.5,  18.4885,  35.6362,2,  35.6348,2,    284.6,3,    224.5,2,     0.88,2,     0.77,2,     0.20,2,     0.19,2, -999.000,5, -999.000,5, -999.000,9,-999.0000,9,  -999.00,9,   -999.0,9,  -999.00,9,-999.000,9,   -999.0,9,   -999.0,9, -999.00,  -999.0,-999.0000,-999.000,-999.000, 18.4853,-999.000
     316N138_5,  P06W,   208,  1,     23,    123,2,19920718,0927,-30.0717, 168.4957, 3342,     58.2,  18.4952,  35.6359,2,  35.6384,2,    227.3,2,    224.7,2,     0.88,2,     0.77,2,     0.20,2,     0.18,2, -999.000,5, -999.000,5, -999.000,9,-999.0000,9,  -999.00,9,   -999.0,9,  -999.00,9,-999.000,9,   -999.0,9,   -999.0,9, -999.00,  -999.0,-999.0000,-999.000,-999.000, 18.4850,-999.000
     316N138_5,  P06W,   208,  1,     22,    128,3,19920718,0927,-30.0717, 168.4957, 3342,    107.0,  18.5012,  35.6358,2,  35.6360,2,    224.3,2,    224.8,2,     0.87,2,     0.77,2,     0.20,2,     0.19,2, -999.000,5, -999.000,5, -999.000,9,-999.0000,9,  -999.00,9,   -999.0,9,  -999.00,9,-999.000,9,   -999.0,9,   -999.0,9, -999.00,  -999.0,-999.0000,-999.000,-999.000, 18.4825,-999.000
     316N138_5,  P06W,   208,  1,     21,    121,2,19920718,0927,-30.0717, 168.4957, 3342,    157.1,  18.5118,  35.6359,2,  35.6344,2,    206.8,2,    224.8,2,     0.87,2,     0.72,2,     0.20,2,     0.20,2, -999.000,5, -999.000,5, -999.000,9,-999.0000,9,  -999.00,9,   -999.0,9,  -999.00,9,-999.000,9,   -999.0,9,   -999.0,9, -999.00,  -999.0,-999.0000,-999.000,-999.000, 18.4842,-999.000
     316N138_5,  P06W,   208,  1,     20,    515,2,19920718,0927,-30.0717, 168.4957, 3342,    207.6,  17.2678,  35.5357,2,  35.5360,2,    194.6,2,    197.1,2,     1.61,2,     5.04,2,     0.01,2,     0.47,2, -999.000,5, -999.000,5, -999.000,9,-999.0000,9,  -999.00,9,   -999.0,9,  -999.00,9,-999.000,9,   -999.0,9,   -999.0,9, -999.00,  -999.0,-999.0000,-999.000,-999.000, 17.2330,-999.000
     316N138_5,  P06W,   208,  1,     19,    120,2,19920718,0927,-30.0717, 168.4957, 3342,    257.9,  16.1583,  35.4550,2,  35.4502,2,    194.2,2,    195.2,2,     2.16,2,     6.79,2,     0.01,2,     0.61,2, -999.000,5, -999.000,5, -999.000,9,-999.0000,9,  -999.00,9,   -999.0,9,  -999.00,9,-999.000,9,   -999.0,9,   -999.0,9, -999.00,  -999.0,-999.0000,-999.000,-999.000, 16.1170,-999.000
     316N138_5,  P06W,   208,  1,     18,    118,2,19920718,0927,-30.0717, 168.4957, 3342,    304.6,  15.1495,  35.3605,2,  35.3628,2,    192.8,2,    193.4,2,     2.90,2,     8.45,2,     0.00,2,     0.70,2, -999.000,5, -999.000,5, -999.000,9,-999.0000,9,  -999.00,9,   -999.0,9,  -999.00,9,-999.000,9,   -999.0,9,   -999.0,9, -999.00,  -999.0,-999.0000,-999.000,-999.000, 15.1028,-999.000
     316N138_5,  P06W,   208,  1,     17,    514,2,19920718,0927,-30.0717, 168.4957, 3342,    404.1,  12.6269,  35.0931,2,  35.0909,2,    188.2,2,    188.7,2,     5.31,2,    13.46,2,     0.01,2,     1.03,2, -999.000,5, -999.000,5, -999.000,9,-999.0000,9,  -999.00,9,   -999.0,9,  -999.00,9,-999.000,9,   -999.0,9,   -999.0,9, -999.00,  -999.0,-999.0000,-999.000,-999.000, 12.5718,-999.000
     316N138_5,  P06W,   208,  1,     16,    116,2,19920718,0927,-30.0717, 168.4957, 3342,    503.7,  10.8123,  34.8917,2,  34.8890,2,    190.2,2,    189.4,2,     7.90,2,    17.17,2,     0.01,2,     1.25,2, -999.000,5, -999.000,5, -999.000,9,-999.0000,9,  -999.00,9,   -999.0,9,  -999.00,9,-999.000,9,   -999.0,9,   -999.0,9, -999.00,  -999.0,-999.0000,-999.000,-999.000, 10.7500,-999.000
     316N138_5,  P06W,   208,  1,     15,    115,2,19920718,0927,-30.0717, 168.4957, 3342,    604.3,   9.3983,  34.7318,2,  34.7319,2,    193.1,2,    191.8,2,    10.68,2,    20.14,2,     0.01,2,     1.46,2, -999.000,5, -999.000,5, -999.000,9,-999.0000,9,  -999.00,9,   -999.0,9,  -999.00,9,-999.000,9,   -999.0,9,   -999.0,9, -999.00,  -999.0,-999.0000,-999.000,-999.000,  9.3297,-999.000
     316N138_5,  P06W,   208,  1,     14,    513,2,19920718,0927,-30.0717, 168.4957, 3342,    804.7,   7.5620,  34.5903,2,  34.5906,2,    188.1,2,    187.3,2,    20.71,2,    24.57,2,     0.01,2,     1.77,2, -999.000,5, -999.000,5, -999.000,9,-999.0000,9,  -999.00,9,   -999.0,9,  -999.00,9,-999.000,9,   -999.0,9,   -999.0,9, -999.00,  -999.0,-999.0000,-999.000,-999.000,  7.4805,-999.000
     316N138_5,  P06W,   208,  1,     13,    125,2,19920718,0927,-30.0717, 168.4957, 3342,   1000.6,   5.8652,  34.4986,2,  34.5011,2,    181.7,2,    182.1,2,    35.39,2,    28.47,2,     0.01,2,     2.03,2, -999.000,5, -999.000,5, -999.000,9,-999.0000,9,  -999.00,9,   -999.0,9,  -999.00,9,-999.000,9,   -999.0,9,   -999.0,9, -999.00,  -999.0,-999.0000,-999.000,-999.000,  5.7753,-999.000
     316N138_5,  P06W,   208,  1,     12,    112,2,19920718,0927,-30.0717, 168.4957, 3342,   1197.5,   4.4925,  34.5007,2,  34.4987,2,    175.2,2,    173.4,2,    55.45,2,    31.45,2,     0.01,2,     2.24,2, -999.000,5, -999.000,5, -999.000,9,-999.0000,9,  -999.00,9,   -999.0,9,  -999.00,9,-999.000,9,   -999.0,9,   -999.0,9, -999.00,  -999.0,-999.0000,-999.000,-999.000,  4.3956,-999.000
     316N138_5,  P06W,   208,  1,     11,    129,2,19920718,0927,-30.0717, 168.4957, 3342,   1393.3,   3.6445,  34.5376,2,  34.5315,2,    165.2,2,    165.4,2,    72.91,2,    33.16,2,     0.01,2,     2.36,2, -999.000,5, -999.000,5, -999.000,9,-999.0000,9,  -999.00,9,   -999.0,9,  -999.00,9,-999.000,9,   -999.0,9,   -999.0,9, -999.00,  -999.0,-999.0000,-999.000,-999.000,  3.5388,-999.000
     316N138_5,  P06W,   208,  1,     10,    110,2,19920718,0927,-30.0717, 168.4957, 3342,   1588.2,   3.1223,  34.5694,2,  34.5704,2,    160.6,2,    160.3,2,    87.58,2,    34.00,2,     0.00,2,     2.42,2, -999.000,5, -999.000,5, -999.000,9,-999.0000,9,  -999.00,9,   -999.0,9,  -999.00,9,-999.000,9,   -999.0,9,   -999.0,9, -999.00,  -999.0,-999.0000,-999.000,-999.000,  3.0056,-999.000
     316N138_5,  P06W,   208,  1,      9,    126,2,19920718,0927,-30.0717, 168.4957, 3342,   1787.5,   2.6806,  34.6040,2,  34.6060,2,    156.5,2,    155.8,2,   100.58,2,    34.68,2,     0.00,2,     2.47,2, -999.000,5, -999.000,5, -999.000,9,-999.0000,9,  -999.00,9,   -999.0,9,  -999.00,9,-999.000,9,   -999.0,9,   -999.0,9, -999.00,  -999.0,-999.0000,-999.000,-999.000,  2.5524,-999.000
     316N138_5,  P06W,   208,  1,      8,    108,2,19920718,0927,-30.0717, 168.4957, 3342,   1992.6,   2.2813,  34.6369,2,  34.6376,2,    153.8,2,    153.7,2,   111.54,2,    35.17,2,     0.00,2,     2.51,2, -999.000,5, -999.000,5, -999.000,9,-999.0000,9,  -999.00,9,   -999.0,9,  -999.00,9,-999.000,9,   -999.0,9,   -999.0,9, -999.00,  -999.0,-999.0000,-999.000,-999.000,  2.1412,-999.000
     316N138_5,  P06W,   208,  1,      7,    107,2,19920718,0927,-30.0717, 168.4957, 3342,   2199.8,   2.1307,  34.6536,2,  34.6511,2,    154.0,2,    153.4,2,   115.62,2,    35.17,2,     0.01,2,     2.51,2, -999.000,5, -999.000,5, -999.000,9,-999.0000,9,  -999.00,9,   -999.0,9,  -999.00,9,-999.000,9,   -999.0,9,   -999.0,9, -999.00,  -999.0,-999.0000,-999.000,-999.000,  1.9750,-999.000
     316N138_5,  P06W,   208,  1,      6,    180,2,19920718,0927,-30.0717, 168.4957, 3342,   2399.7,   2.0169,  34.6614,2,  34.6622,2,    154.0,2,    153.5,2,   118.77,2,    35.26,2,     0.01,2,     2.51,2, -999.000,5, -999.000,5, -999.000,9,-999.0000,9,  -999.00,9,   -999.0,9,  -999.00,9,-999.000,9,   -999.0,9,   -999.0,9, -999.00,  -999.0,-999.0000,-999.000,-999.000,  1.8454,-999.000
     316N138_5,  P06W,   208,  1,      5,    131,2,19920718,0927,-30.0717, 168.4957, 3342,   2598.9,   1.9346,  34.6706,2,  34.6700,2,    154.0,2,    153.2,2,   121.37,2,    35.33,2,     0.00,2,     2.51,2, -999.000,5, -999.000,5, -999.000,9,-999.0000,9,  -999.00,9,   -999.0,9,  -999.00,9,-999.000,9,   -999.0,9,   -999.0,9, -999.00,  -999.0,-999.0000,-999.000,-999.000,  1.7464,-999.000
     316N138_5,  P06W,   208,  1,      4,    516,2,19920718,0927,-30.0717, 168.4957, 3342,   2800.7,   1.9189,  34.6718,2,  34.6736,2,    153.9,2,    153.7,2,   122.30,2,    35.38,2,     0.00,2,     2.52,2, -999.000,5, -999.000,5, -999.000,9,-999.0000,9,  -999.00,9,   -999.0,9,  -999.00,9,-999.000,9,   -999.0,9,   -999.0,9, -999.00,  -999.0,-999.0000,-999.000,-999.000,  1.7122,-999.000
     316N138_5,  P06W,   208,  1,      3,    130,2,19920718,0927,-30.0717, 168.4957, 3342,   3003.9,   1.9184,  34.6727,2,  34.6737,2,    154.2,2,    153.8,2,   122.86,2,    35.14,2,     0.00,2,     2.49,2, -999.000,5, -999.000,5, -999.000,9,-999.0000,9,  -999.00,9,   -999.0,9,  -999.00,9,-999.000,9,   -999.0,9,   -999.0,9, -999.00,  -999.0,-999.0000,-999.000,-999.000,  1.6921,-999.000
     316N138_5,  P06W,   208,  1,      2,    136,2,19920718,0927,-30.0717, 168.4957, 3342,   3203.8,   1.9309,  34.6741,2,  34.6741,2,    155.0,2,    153.5,2,   122.85,2,    35.39,2,     0.00,2,     2.50,2, -999.000,5, -999.000,5, -999.000,9,-999.0000,9,  -999.00,9,   -999.0,9,  -999.00,9,-999.000,9,   -999.0,9,   -999.0,9, -999.00,  -999.0,-999.0000,-999.000,-999.000,  1.6844,-999.000
     316N138_5,  P06W,   208,  1,      1,    134,2,19920718,0927,-30.0717, 168.4957, 3342,   3382.7,   1.9355,  34.6756,2,  34.6757,2,    154.0,2,    153.2,2,   123.48,2,    35.32,2,     0.00,2,     2.47,2, -999.000,5, -999.000,5, -999.000,9,-999.0000,9,  -999.00,9,   -999.0,9,  -999.00,9,-999.000,9,   -999.0,9,   -999.0,9, -999.00,  -999.0,-999.0000,-999.000,-999.000,  1.6707,-999.000