BOTTLE,20030219WHPSIOdm
EXPOCODE,SECT_ID,STNNBR,CASTNO,SAMPNO,BTLNBR,BTLNBR_FLAG_W,DATE,TIME,LATITUDE,LONGITUDE,DEPTH,CTDPRS,CTDTMP,CTDSAL,CTDSAL_FLAG_W,SALNTY,SALNTY_FLAG_W,CTDOXY,CTDOXY_FLAG_W,OXYGEN,OXYGEN_FLAG_W,SILCAT,SILCAT_FLAG_W,NITRAT,NITRAT_FLAG_W,NITRIT,NITRIT_FLAG_W,PHSPHT,PHSPHT_FLAG_W,CFC-11,CFC-11_FLAG_W,CFC-12,CFC-12_FLAG_W,TRITUM,TRITUM_FLAG_W,HELIUM,HELIUM_FLAG_W,DELHE3,DELHE3_FLAG_W,DELC14,DELC14_FLAG_W,DELC13,DELC13_FLAG_W,NEON,NEON_FLAG_W,TCARBN,TCARBN_FLAG_W,PCO2,PCO2_FLAG_W,PCO2TMP,C14ERR,HELIER,DELHER,NEONER,THETA,TRITER
,,,,,,,,,,,,DBAR,ITS-90,PSS-78,,PSS-78,,UMOL/KG,,UMOL/KG,,UMOL/KG,,UMOL/KG,,UMOL/KG,,UMOL/KG,,PMOL/KG,,PMOL/KG,,TU,,NMOL/KG,,PERCNT,,/MILLE,,/MILLE,,NMOL/KG,,UMOL/KG,,UATM,,DEG_C,/MILLE,NMOL/KG,PERCNT,NMOL/KG,ITS-90,TU
     316N138_5,  P06W,   228,  1,     25,    132,2,19920722,0528,-30.0770, 158.3365, 2648,     17.7,  20.2305,  35.5379,2,  35.5371,2,    240.3,2,    220.9,2,     0.79,2,     0.47,2,     0.10,2,     0.19,2, -999.000,5, -999.000,5, -999.000,9,-999.0000,9,  -999.00,9,   -999.0,9,  -999.00,9,-999.000,9,   -999.0,9,   -999.0,9, -999.00,  -999.0,-999.0000,-999.000,-999.000, 20.2272,-999.000
     316N138_5,  P06W,   228,  1,     24,    123,2,19920722,0528,-30.0770, 158.3365, 2648,     56.3,  20.0772,  35.5379,2,  35.5348,2,    220.1,2,    218.9,2,     0.78,2,     0.69,2,     0.11,2,     0.20,2, -999.000,5, -999.000,5, -999.000,9,-999.0000,9,  -999.00,9,   -999.0,9,  -999.00,9,-999.000,9,   -999.0,9,   -999.0,9, -999.00,  -999.0,-999.0000,-999.000,-999.000, 20.0668,-999.000
     316N138_5,  P06W,   228,  1,     23,    128,2,19920722,0528,-30.0770, 158.3365, 2648,    106.2,  20.0120,  35.5442,2,  35.5458,2,    203.4,2,    215.9,2,     0.78,2,     0.86,2,     0.13,2,     0.21,2, -999.000,5, -999.000,5, -999.000,9,-999.0000,9,  -999.00,9,   -999.0,9,  -999.00,9,-999.000,9,   -999.0,9,   -999.0,9, -999.00,  -999.0,-999.0000,-999.000,-999.000, 19.9924,-999.000
     316N138_5,  P06W,   228,  1,     22,    121,2,19920722,0528,-30.0770, 158.3365, 2648,    207.4,  17.9422,  35.5355,2,  35.5352,2,    185.8,2,    185.9,2,     1.86,2,     5.67,2,     0.00,2,     0.53,2, -999.000,5, -999.000,5, -999.000,9,-999.0000,9,  -999.00,9,   -999.0,9,  -999.00,9,-999.000,9,   -999.0,9,   -999.0,9, -999.00,  -999.0,-999.0000,-999.000,-999.000, 17.9065,-999.000
     316N138_5,  P06W,   228,  1,     21,    515,2,19920722,0528,-30.0770, 158.3365, 2648,    307.5,  15.5878,  35.3535,2,  35.3569,2,    182.4,2,    180.5,2,     3.30,2,     9.39,2,    -0.01,2,     0.77,2, -999.000,5, -999.000,5, -999.000,9,-999.0000,9,  -999.00,9,   -999.0,9,  -999.00,9,-999.000,9,   -999.0,9,   -999.0,9, -999.00,  -999.0,-999.0000,-999.000,-999.000, 15.5397,-999.000
     316N138_5,  P06W,   228,  1,     20,    120,2,19920722,0528,-30.0770, 158.3365, 2648,    405.7,  13.2585,  35.1607,2,  35.1640,2,    189.0,2,    185.8,2,     4.56,2,    12.57,2,     0.00,2,     0.97,2, -999.000,5, -999.000,5, -999.000,9,-999.0000,9,  -999.00,9,   -999.0,9,  -999.00,9,-999.000,9,   -999.0,9,   -999.0,9, -999.00,  -999.0,-999.0000,-999.000,-999.000, 13.2015,-999.000
     316N138_5,  P06W,   228,  1,     19,    118,2,19920722,0528,-30.0770, 158.3365, 2648,    506.7,  10.9037,  34.9003,2,  34.8930,2,    188.5,2,    187.3,2,     7.26,2,    17.21,2,     0.00,2,     1.25,2, -999.000,5, -999.000,5, -999.000,9,-999.0000,9,  -999.00,9,   -999.0,9,  -999.00,9,-999.000,9,   -999.0,9,   -999.0,9, -999.00,  -999.0,-999.0000,-999.000,-999.000, 10.8407,-999.000
     316N138_5,  P06W,   228,  1,     18,    514,2,19920722,0528,-30.0770, 158.3365, 2648,    606.4,   9.3248,  34.7159,2,  34.7132,2,    191.8,2,    190.4,2,     9.97,2,    20.41,2,     0.00,2,     1.46,2, -999.000,5, -999.000,5, -999.000,9,-999.0000,9,  -999.00,9,   -999.0,9,  -999.00,9,-999.000,9,   -999.0,9,   -999.0,9, -999.00,  -999.0,-999.0000,-999.000,-999.000,  9.2562,-999.000
     316N138_5,  P06W,   228,  1,     17,    116,2,19920722,0528,-30.0770, 158.3365, 2648,    708.5,   7.7570,  34.5747,2,  34.5647,2,    193.7,2,    189.9,2,    15.56,2,    24.03,2,     0.00,2,     1.69,2, -999.000,5, -999.000,5, -999.000,9,-999.0000,9,  -999.00,9,   -999.0,9,  -999.00,9,-999.000,9,   -999.0,9,   -999.0,9, -999.00,  -999.0,-999.0000,-999.000,-999.000,  7.6847,-999.000
     316N138_5,  P06W,   228,  1,     16,    115,2,19920722,0528,-30.0770, 158.3365, 2648,    807.0,   6.8421,  34.5008,2,  34.4997,2,    191.4,2,    188.5,2,    21.32,2,    26.27,2,     0.00,2,     1.85,2, -999.000,5, -999.000,5, -999.000,9,-999.0000,9,  -999.00,9,   -999.0,9,  -999.00,9,-999.000,9,   -999.0,9,   -999.0,9, -999.00,  -999.0,-999.0000,-999.000,-999.000,  6.7648,-999.000
     316N138_5,  P06W,   228,  1,     15,    513,2,19920722,0528,-30.0770, 158.3365, 2648,    908.5,   6.1274,  34.4839,2,  34.4720,2,    188.7,2,    187.0,2,    27.82,2,    27.83,2,     0.00,2,     1.95,2, -999.000,5, -999.000,5, -999.000,9,-999.0000,9,  -999.00,9,   -999.0,9,  -999.00,9,-999.000,9,   -999.0,9,   -999.0,9, -999.00,  -999.0,-999.0000,-999.000,-999.000,  6.0446,-999.000
     316N138_5,  P06W,   228,  1,     14,    125,2,19920722,0528,-30.0770, 158.3365, 2648,   1009.9,   5.4446,  34.4721,2,  34.4661,2,    183.4,2,    180.8,2,    37.37,2,    29.56,2,     0.00,2,     2.06,2, -999.000,5, -999.000,5, -999.000,9,-999.0000,9,  -999.00,9,   -999.0,9,  -999.00,9,-999.000,9,   -999.0,9,   -999.0,9, -999.00,  -999.0,-999.0000,-999.000,-999.000,  5.3570,-999.000
     316N138_5,  P06W,   228,  1,     13,    112,2,19920722,0528,-30.0770, 158.3365, 2648,   1108.8,   4.8048,  34.4807,2,  34.4765,2,    177.4,2,    174.9,2,    48.55,2,    31.10,2,     0.00,2,     2.18,2, -999.000,5, -999.000,5, -999.000,9,-999.0000,9,  -999.00,9,   -999.0,9,  -999.00,9,-999.000,9,   -999.0,9,   -999.0,9, -999.00,  -999.0,-999.0000,-999.000,-999.000,  4.7133,-999.000
     316N138_5,  P06W,   228,  1,     12,    129,2,19920722,0528,-30.0770, 158.3365, 2648,   1211.7,   4.3923,  34.4968,2,  34.4946,2,    169.0,2,    169.2,2,    57.58,2,    32.04,2,     0.00,2,     2.27,2, -999.000,5, -999.000,5, -999.000,9,-999.0000,9,  -999.00,9,   -999.0,9,  -999.00,9,-999.000,9,   -999.0,9,   -999.0,9, -999.00,  -999.0,-999.0000,-999.000,-999.000,  4.2952,-999.000
     316N138_5,  P06W,   228,  1,     11,    110,2,19920722,0528,-30.0770, 158.3365, 2648,   1308.3,   3.8650,  34.5205,2,  34.5176,2,    162.0,2,    160.9,2,    68.94,2,    33.34,2,     0.00,2,     2.35,2, -999.000,5, -999.000,5, -999.000,9,-999.0000,9,  -999.00,9,   -999.0,9,  -999.00,9,-999.000,9,   -999.0,9,   -999.0,9, -999.00,  -999.0,-999.0000,-999.000,-999.000,  3.7643,-999.000
     316N138_5,  P06W,   228,  1,     10,    126,2,19920722,0528,-30.0770, 158.3365, 2648,   1409.3,   3.4642,  34.5503,2,  34.5453,2,    158.0,2,    155.0,2,    79.40,2,    34.18,2,     0.00,2,     2.42,2, -999.000,5, -999.000,5, -999.000,9,-999.0000,9,  -999.00,9,   -999.0,9,  -999.00,9,-999.000,9,   -999.0,9,   -999.0,9, -999.00,  -999.0,-999.0000,-999.000,-999.000,  3.3589,-999.000
     316N138_5,  P06W,   228,  1,      9,    108,2,19920722,0528,-30.0770, 158.3365, 2648,   1511.7,   3.1388,  34.5769,2,  34.5734,2,    153.8,2,    151.7,2,    87.52,2,    34.65,2,     0.00,2,     2.46,2, -999.000,5, -999.000,5, -999.000,9,-999.0000,9,  -999.00,9,   -999.0,9,  -999.00,9,-999.000,9,   -999.0,9,   -999.0,9, -999.00,  -999.0,-999.0000,-999.000,-999.000,  3.0285,-999.000
     316N138_5,  P06W,   228,  1,      8,    107,2,19920722,0528,-30.0770, 158.3365, 2648,   1612.4,   2.8326,  34.6068,2,  34.6011,2,    152.2,2,    151.4,2,    93.30,2,    34.89,2,     0.00,2,     2.48,2, -999.000,5, -999.000,5, -999.000,9,-999.0000,9,  -999.00,9,   -999.0,9,  -999.00,9,-999.000,9,   -999.0,9,   -999.0,9, -999.00,  -999.0,-999.0000,-999.000,-999.000,  2.7172,-999.000
     316N138_5,  P06W,   228,  1,      7,    180,2,19920722,0528,-30.0770, 158.3365, 2648,   1715.3,   2.6622,  34.6230,2,  34.6205,2,    153.5,2,    152.7,2,    96.00,2,    34.74,2,     0.00,2,     2.47,2, -999.000,5, -999.000,5, -999.000,9,-999.0000,9,  -999.00,9,   -999.0,9,  -999.00,9,-999.000,9,   -999.0,9,   -999.0,9, -999.00,  -999.0,-999.0000,-999.000,-999.000,  2.5403,-999.000
     316N138_5,  P06W,   228,  1,      6,    131,2,19920722,0528,-30.0770, 158.3365, 2648,   1918.5,   2.3768,  34.6595,2,  34.6578,2,    161.1,2,    161.1,2,    96.19,2,    34.02,2,     0.01,2,     2.40,2, -999.000,5, -999.000,5, -999.000,9,-999.0000,9,  -999.00,9,   -999.0,9,  -999.00,9,-999.000,9,   -999.0,9,   -999.0,9, -999.00,  -999.0,-999.0000,-999.000,-999.000,  2.2416,-999.000
     316N138_5,  P06W,   228,  1,      5,    516,2,19920722,0528,-30.0770, 158.3365, 2648,   2121.4,   2.1113,  34.6943,2,  34.6948,2,    170.6,2,    172.0,2,    96.01,2,    33.08,2,     0.01,2,     2.32,2, -999.000,5, -999.000,5, -999.000,9,-999.0000,9,  -999.00,9,   -999.0,9,  -999.00,9,-999.000,9,   -999.0,9,   -999.0,9, -999.00,  -999.0,-999.0000,-999.000,-999.000,  1.9626,-999.000
     316N138_5,  P06W,   228,  1,      4,    130,2,19920722,0528,-30.0770, 158.3365, 2648,   2319.1,   2.0458,  34.7016,2,  34.7026,2,    175.3,2,    174.7,2,    96.55,2,    32.83,2,     0.01,2,     2.31,2, -999.000,5, -999.000,5, -999.000,9,-999.0000,9,  -999.00,9,   -999.0,9,  -999.00,9,-999.000,9,   -999.0,9,   -999.0,9, -999.00,  -999.0,-999.0000,-999.000,-999.000,  1.8808,-999.000
     316N138_5,  P06W,   228,  1,      3,    136,2,19920722,0528,-30.0770, 158.3365, 2648,   2523.5,   1.9539,  34.7113,2,  34.7087,2,    177.9,2,    177.8,2,    97.82,2,    32.60,2,     0.01,2,     2.29,2, -999.000,5, -999.000,5, -999.000,9,-999.0000,9,  -999.00,9,   -999.0,9,  -999.00,9,-999.000,9,   -999.0,9,   -999.0,9, -999.00,  -999.0,-999.0000,-999.000,-999.000,  1.7721,-999.000
     316N138_5,  P06W,   228,  1,      2,    134,2,19920722,0528,-30.0770, 158.3365, 2648,   2664.4,   1.8266,  34.7197,2,  34.7195,2,    182.3,2,    182.4,2,    99.67,2,    32.27,2,     0.00,2,     2.25,2, -999.000,5, -999.000,5, -999.000,9,-999.0000,9,  -999.00,9,   -999.0,9,  -999.00,9,-999.000,9,   -999.0,9,   -999.0,9, -999.00,  -999.0,-999.0000,-999.000,-999.000,  1.6342,-999.000
     316N138_5,  P06W,   229,  1,     18,    118,2,19920722,0920,-30.0847, 158.0037, 2031,     19.4,  20.5850,  35.5284,2,  35.5346,3,    318.3,3,    217.1,2,     0.68,2,     0.50,2,     0.14,2,     0.18,2,    2.078,2,    1.466,4, -999.000,9,-999.0000,9,  -999.00,9,    108.9,2,     1.33,2,-999.000,9,   -999.0,9,   -999.0,9, -999.00,     3.5,-999.0000,-999.000,-999.000, 20.5813,-999.000
     316N138_5,  P06W,   229,  1,     17,    514,2,19920722,0920,-30.0847, 158.0037, 2031,     59.6,  20.5887,  35.5292,2,  35.5263,2,    221.5,2,    217.4,2,     0.66,2,     0.53,2,     0.15,2,     0.19,2,    2.075,2,    1.203,2, -999.000,9,-999.0000,9,  -999.00,9,   -999.0,9,  -999.00,9,-999.000,9,   -999.0,9,   -999.0,9, -999.00,  -999.0,-999.0000,-999.000,-999.000, 20.5774,-999.000
     316N138_5,  P06W,   229,  1,     16,    116,2,19920722,0920,-30.0847, 158.0037, 2031,    109.5,  20.2663,  35.5686,2,  35.5673,2,    219.2,2,    215.8,2,     0.84,2,     0.54,2,     0.32,2,     0.20,2,    2.110,2,    1.128,2, -999.000,9,-999.0000,9,  -999.00,9,    123.7,2,     1.38,2,-999.000,9,   -999.0,9,   -999.0,9, -999.00,     3.3,-999.0000,-999.000,-999.000, 20.2458,-999.000
     316N138_5,  P06W,   229,  1,     15,    115,2,19920722,0920,-30.0847, 158.0037, 2031,    209.6,  17.9180,  35.5393,2,  35.5259,2,    184.2,2,    183.2,2,     1.91,2,     5.82,2,     0.02,2,     0.52,2,    1.915,2,    1.016,2, -999.000,9,-999.0000,9,  -999.00,9,    124.8,2,     1.11,2,-999.000,9,   -999.0,9,   -999.0,9, -999.00,     4.7,-999.0000,-999.000,-999.000, 17.8820,-999.000
     316N138_5,  P06W,   229,  1,     14,    513,2,19920722,0920,-30.0847, 158.0037, 2031,    307.3,  15.0579,  35.3251,2,  35.3421,2,    186.3,2,    185.7,2,     3.17,2,     9.43,2,     0.02,2,     0.74,2,    1.825,2,    0.952,2, -999.000,9,-999.0000,9,  -999.00,9,     96.8,2,     1.12,2,-999.000,9,   -999.0,9,   -999.0,9, -999.00,     3.2,-999.0000,-999.000,-999.000, 15.0110,-999.000
     316N138_5,  P06W,   229,  1,     13,    125,2,19920722,0920,-30.0847, 158.0037, 2031,    408.7,  12.7052,  35.1002,2,  35.1012,2,    184.7,2,    183.5,2,     5.15,2,    13.70,2,     0.02,2,     1.01,2,    1.484,2,    0.749,2, -999.000,9,-999.0000,9,  -999.00,9,     49.3,2,     1.09,2,-999.000,9,   -999.0,9,   -999.0,9, -999.00,     6.1,-999.0000,-999.000,-999.000, 12.6494,-999.000
     316N138_5,  P06W,   229,  1,     12,    112,2,19920722,0920,-30.0847, 158.0037, 2031,    508.4,  10.6281,  34.8590,2,  34.8774,2,    190.5,2,    187.9,2,     7.32,2,    17.47,2,     0.01,2,     1.23,2,    1.274,2,    0.643,2, -999.000,9,-999.0000,9,  -999.00,9,     16.6,2,     1.13,2,-999.000,9,   -999.0,9,   -999.0,9, -999.00,     3.1,-999.0000,-999.000,-999.000, 10.5661,-999.000
     316N138_5,  P06W,   229,  1,     11,    129,2,19920722,0920,-30.0847, 158.0037, 2031,    605.5,   9.1007,  34.6937,2,  34.6924,2,    193.0,2,    191.4,2,    10.40,2,    20.79,2,     0.02,2,     1.45,2,    0.985,2,    0.504,2, -999.000,9,-999.0000,9,  -999.00,9,      1.5,2,     1.14,2,-999.000,9,   -999.0,9,   -999.0,9, -999.00,     4.6,-999.0000,-999.000,-999.000,  9.0332,-999.000
     316N138_5,  P06W,   229,  1,     10,    110,2,19920722,0920,-30.0847, 158.0037, 2031,    704.6,   7.8917,  34.5710,2,  34.5796,2,    192.0,2,    189.1,2,    14.75,2,    23.66,2,     0.01,2,     1.62,2,    0.539,2,    0.279,2, -999.000,9,-999.0000,9,  -999.00,9,    -28.7,2,     1.12,2,-999.000,9,   -999.0,9,   -999.0,9, -999.00,     3.2,-999.0000,-999.000,-999.000,  7.8191,-999.000
     316N138_5,  P06W,   229,  1,      9,    126,2,19920722,0920,-30.0847, 158.0037, 2031,    803.9,   6.9404,  34.5094,2,  34.5066,2,    189.3,2,    187.6,2,    20.74,2,    26.05,2,     0.02,2,     1.77,2,    0.294,2,    0.157,2, -999.000,9,-999.0000,9,  -999.00,9,    -88.3,2,     1.07,2,-999.000,9,   -999.0,9,   -999.0,9, -999.00,     3.2,-999.0000,-999.000,-999.000,  6.8629,-999.000
     316N138_5,  P06W,   229,  1,      8,    108,2,19920722,0920,-30.0847, 158.0037, 2031,    902.0,   6.1051,  34.4701,2,  34.4756,2,    186.9,2,    184.3,2,    28.53,2,    28.13,2,     0.01,2,     1.89,3,    0.169,2,    0.094,2, -999.000,9,-999.0000,9,  -999.00,9,    -96.7,2,     0.96,2,-999.000,9,   -999.0,9,   -999.0,9, -999.00,     4.3,-999.0000,-999.000,-999.000,  6.0232,-999.000
     316N138_5,  P06W,   229,  1,      7,    107,3,19920722,0920,-30.0847, 158.0037, 2031,   1004.2,   5.3721,  34.4712,2,  34.4815,3,    183.1,2,    181.3,2,    37.25,2,    29.20,2,     0.01,2,     1.96,3,    0.139,2,    0.076,2, -999.000,9,-999.0000,9,  -999.00,9,   -999.0,9,  -999.00,9,-999.000,9,   -999.0,9,   -999.0,9, -999.00,  -999.0,-999.0000,-999.000,-999.000,  5.2856,-999.000
     316N138_5,  P06W,   229,  1,      6,    180,2,19920722,0920,-30.0847, 158.0037, 2031,   1099.4,   4.8163,  34.4744,2,  34.4805,2,    176.8,2,    175.2,2,    48.15,2,    30.98,2,     0.01,2,     2.08,3,    0.066,2,    0.042,2, -999.000,9,-999.0000,9,  -999.00,9,   -135.4,2,     0.77,2,-999.000,9,   -999.0,9,   -999.0,9, -999.00,     5.6,-999.0000,-999.000,-999.000,  4.7255,-999.000
     316N138_5,  P06W,   229,  1,      5,    131,2,19920722,0920,-30.0847, 158.0037, 2031,   1301.2,   3.7376,  34.5293,2,  34.5250,2,    160.5,2,    159.0,2,    71.95,2,    33.66,2,     0.01,2,     2.29,3,    0.013,2,    0.008,2, -999.000,9,-999.0000,9,  -999.00,9,   -158.8,2,     0.55,2,-999.000,9,   -999.0,9,   -999.0,9, -999.00,     3.2,-999.0000,-999.000,-999.000,  3.6387,-999.000
     316N138_5,  P06W,   229,  1,      4,    516,2,19920722,0920,-30.0847, 158.0037, 2031,   1499.4,   3.0974,  34.5798,2,  34.5793,2,    152.4,2,    151.5,2,    88.32,2,    34.78,2,     0.01,2,     2.37,3,    0.002,2,    0.009,2, -999.000,9,-999.0000,9,  -999.00,9,   -189.7,2,     0.39,2,-999.000,9,   -999.0,9,   -999.0,9, -999.00,     2.6,-999.0000,-999.000,-999.000,  2.9885,-999.000
     316N138_5,  P06W,   229,  1,      3,    130,2,19920722,0920,-30.0847, 158.0037, 2031,   1698.9,   2.6416,  34.6250,2,  34.6260,2,    154.6,2,    154.2,2,    94.68,2,    34.68,2,     0.01,2,     2.35,3,    0.002,2,    0.003,2, -999.000,9,-999.0000,9,  -999.00,9,   -186.0,2,     0.34,2,-999.000,9,   -999.0,9,   -999.0,9, -999.00,     4.8,-999.0000,-999.000,-999.000,  2.5214,-999.000
     316N138_5,  P06W,   229,  1,      2,    136,2,19920722,0920,-30.0847, 158.0037, 2031,   1900.0,   2.3932,  34.6558,2,  34.6551,2,    160.0,2,    160.3,2,    96.32,2,    34.16,2,     0.00,2,     2.30,3,    0.000,2,    0.004,2, -999.000,9,-999.0000,9,  -999.00,9,   -191.6,2,     0.32,2,-999.000,9,   -999.0,9,   -999.0,9, -999.00,     5.4,-999.0000,-999.000,-999.000,  2.2593,-999.000
     316N138_5,  P06W,   229,  1,      1,    134,2,19920722,0920,-30.0847, 158.0037, 2031,   2025.5,   2.2363,  34.6788,2,  34.6779,2,    168.1,2,    167.9,2,    94.81,2,    33.39,2,     0.00,2,     2.29,3,    0.000,2,    0.002,2, -999.000,9,-999.0000,9,  -999.00,9,   -181.8,2,     0.35,2,-999.000,9,   -999.0,9,   -999.0,9, -999.00,     3.2,-999.0000,-999.000,-999.000,  2.0939,-999.000