BOTTLE,20030219WHPSIOdm
EXPOCODE,SECT_ID,STNNBR,CASTNO,SAMPNO,BTLNBR,BTLNBR_FLAG_W,DATE,TIME,LATITUDE,LONGITUDE,DEPTH,CTDPRS,CTDTMP,CTDSAL,CTDSAL_FLAG_W,SALNTY,SALNTY_FLAG_W,CTDOXY,CTDOXY_FLAG_W,OXYGEN,OXYGEN_FLAG_W,SILCAT,SILCAT_FLAG_W,NITRAT,NITRAT_FLAG_W,NITRIT,NITRIT_FLAG_W,PHSPHT,PHSPHT_FLAG_W,CFC-11,CFC-11_FLAG_W,CFC-12,CFC-12_FLAG_W,TRITUM,TRITUM_FLAG_W,HELIUM,HELIUM_FLAG_W,DELHE3,DELHE3_FLAG_W,DELC14,DELC14_FLAG_W,DELC13,DELC13_FLAG_W,NEON,NEON_FLAG_W,TCARBN,TCARBN_FLAG_W,PCO2,PCO2_FLAG_W,PCO2TMP,C14ERR,HELIER,DELHER,NEONER,THETA,TRITER
,,,,,,,,,,,,DBAR,ITS-90,PSS-78,,PSS-78,,UMOL/KG,,UMOL/KG,,UMOL/KG,,UMOL/KG,,UMOL/KG,,UMOL/KG,,PMOL/KG,,PMOL/KG,,TU,,NMOL/KG,,PERCNT,,/MILLE,,/MILLE,,NMOL/KG,,UMOL/KG,,UATM,,DEG_C,/MILLE,NMOL/KG,PERCNT,NMOL/KG,ITS-90,TU
     316N138_5,  P06W,   215,  1,     24,    132,2,19920719,1708,-30.0913, 164.8400, 3375,      8.9,  19.2303,  35.6045,2,  35.5908,2,    218.3,2,    223.4,2,     0.60,2,     0.56,2,     0.15,2,     0.16,2,    2.259,2,    1.203,2, -999.000,9,-999.0000,9,  -999.00,9,   -999.0,9,  -999.00,9,-999.000,9,   2013.6,6,    342.9,2,   20.30,  -999.0,-999.0000,-999.000,-999.000, 19.2287,-999.000
     316N138_5,  P06W,   215,  1,     23,    123,2,19920719,1708,-30.0913, 164.8400, 3375,     48.3,  19.0844,  35.6161,2,  35.6163,2,    220.8,2,    222.6,2,     0.78,2,     0.69,2,     0.21,2,     0.18,2,    2.223,2,    1.189,2, -999.000,9,-999.0000,9,  -999.00,9,   -999.0,9,  -999.00,9,-999.000,9,   2017.9,2,    337.1,2,   20.30,  -999.0,-999.0000,-999.000,-999.000, 19.0757,-999.000
     316N138_5,  P06W,   215,  1,     22,    128,2,19920719,1708,-30.0913, 164.8400, 3375,     99.1,  19.0840,  35.6156,2,  35.6155,2,    220.7,2,    222.1,2,     0.79,2,     0.78,2,     0.22,2,     0.19,2, -999.000,5, -999.000,5, -999.000,9,-999.0000,9,  -999.00,9,   -999.0,9,  -999.00,9,-999.000,9,   2017.7,2,   -999.0,9, -999.00,  -999.0,-999.0000,-999.000,-999.000, 19.0662,-999.000
     316N138_5,  P06W,   215,  1,     21,    121,2,19920719,1708,-30.0913, 164.8400, 3375,    147.9,  19.0901,  35.6166,2,  35.6172,2,    222.2,2,    221.6,2,     0.79,2,     0.78,2,     0.22,2,     0.20,2,    2.255,6,    1.194,6, -999.000,9,-999.0000,9,  -999.00,9,   -999.0,9,  -999.00,9,-999.000,9,   2018.4,2,    337.7,2,   20.30,  -999.0,-999.0000,-999.000,-999.000, 19.0635,-999.000
     316N138_5,  P06W,   215,  1,     20,    515,2,19920719,1708,-30.0913, 164.8400, 3375,    198.2,  18.0899,  35.5733,2,  35.5679,2,    196.3,2,    194.7,2,     1.35,2,     4.31,2,     0.03,2,     0.44,2,    2.081,2,    1.096,2, -999.000,9,-999.0000,9,  -999.00,9,   -999.0,9,  -999.00,9,-999.000,9,   2052.7,2,   -999.0,9, -999.00,  -999.0,-999.0000,-999.000,-999.000, 18.0556,-999.000
     316N138_5,  P06W,   215,  1,     19,    120,2,19920719,1708,-30.0913, 164.8400, 3375,    248.1,  17.1687,  35.5200,2,  35.5239,2,    195.1,2,    194.6,2,     1.72,2,     5.48,2,     0.02,2,     0.52,2,    2.080,2,    1.105,2, -999.000,9,-999.0000,9,  -999.00,9,   -999.0,9,  -999.00,9,-999.000,9,   2062.9,2,    429.9,2,   20.30,  -999.0,-999.0000,-999.000,-999.000, 17.1272,-999.000
     316N138_5,  P06W,   215,  1,     18,    118,2,19920719,1708,-30.0913, 164.8400, 3375,    296.7,  16.1567,  35.4486,2,  35.4547,2,    194.8,2,    194.6,2,     2.26,2,     6.97,2,     0.02,2,     0.62,2,    2.080,6,    1.112,6, -999.000,9,-999.0000,9,  -999.00,9,   -999.0,9,  -999.00,9,-999.000,9,   2072.0,2,   -999.0,9, -999.00,  -999.0,-999.0000,-999.000,-999.000, 16.1091,-999.000
     316N138_5,  P06W,   215,  1,     17,    514,2,19920719,1708,-30.0913, 164.8400, 3375,    406.2,  13.9948,  35.2503,2,  35.2503,2,    189.5,2,    191.5,2,     3.74,2,    10.58,2,     0.02,2,     0.87,2,    1.872,2,    0.969,2, -999.000,9,-999.0000,9,  -999.00,9,   -999.0,9,  -999.00,9,-999.000,9,   2096.5,2,    532.5,2,   20.30,  -999.0,-999.0000,-999.000,-999.000, 13.9357,-999.000
     316N138_5,  P06W,   215,  1,     16,    116,2,19920719,1708,-30.0913, 164.8400, 3375,    505.0,  11.5967,  34.9797,2,  34.9776,2,    190.5,2,    187.6,2,     6.30,2,    15.53,2,     0.01,2,     1.18,2,    1.394,2,    0.710,2, -999.000,9,-999.0000,9,  -999.00,9,   -999.0,9,  -999.00,9,-999.000,9,   2120.5,2,   -999.0,9, -999.00,  -999.0,-999.0000,-999.000,-999.000, 11.5314,-999.000
     316N138_5,  P06W,   215,  1,     15,    115,2,19920719,1708,-30.0913, 164.8400, 3375,    604.3,   9.8039,  34.7669,2,  34.7681,2,    192.2,2,    190.5,2,     9.23,2,    19.26,2,     0.01,2,     1.42,2,    1.071,2,    0.544,2, -999.000,9,-999.0000,9,  -999.00,9,   -999.0,9,  -999.00,9,-999.000,9,   2134.9,2,    736.8,6,   20.30,  -999.0,-999.0000,-999.000,-999.000,  9.7334,-999.000
     316N138_5,  P06W,   215,  1,     14,    513,2,19920719,1708,-30.0913, 164.8400, 3375,    704.3,   8.4911,  34.6345,2,  34.6390,2,    194.2,2,    195.0,2,    13.07,2,    21.97,2,     0.01,2,     1.60,2,    0.798,2,    0.422,2, -999.000,9,-999.0000,9,  -999.00,9,   -999.0,9,  -999.00,9,-999.000,9,   2146.0,2,   -999.0,9, -999.00,  -999.0,-999.0000,-999.000,-999.000,  8.4153,-999.000
     316N138_5,  P06W,   215,  1,     13,    125,2,19920719,1708,-30.0913, 164.8400, 3375,    801.6,   7.4170,  34.5493,2,  34.5492,2,    193.0,2,    193.2,2,    18.37,2,    24.57,2,     0.01,2,     1.77,2,    0.490,2,    0.261,2, -999.000,9,-999.0000,9,  -999.00,9,   -999.0,9,  -999.00,9,-999.000,9,   2158.3,2,    839.5,2,   20.30,  -999.0,-999.0000,-999.000,-999.000,  7.3368,-999.000
     316N138_5,  P06W,   215,  1,     12,    112,2,19920719,1708,-30.0913, 164.8400, 3375,    911.6,   6.3506,  34.4539,2,  34.4634,2,    196.5,2,    197.0,2,    22.76,2,    26.44,2,     0.01,2,     1.90,2,    0.283,2,    0.152,2, -999.000,9,-999.0000,9,  -999.00,9,   -999.0,9,  -999.00,9,-999.000,9,   2168.0,6,   -999.0,9, -999.00,  -999.0,-999.0000,-999.000,-999.000,  6.2660,-999.000
     316N138_5,  P06W,   215,  1,     11,    129,2,19920719,1708,-30.0913, 164.8400, 3375,   1008.3,   5.6988,  34.4477,2,  34.4453,2,    190.3,2,    190.5,2,    30.98,2,    28.25,2,     0.01,2,     2.04,2,    0.176,2,    0.099,2, -999.000,9,-999.0000,9,  -999.00,9,   -999.0,9,  -999.00,9,-999.000,9,   2182.9,2,   -999.0,9, -999.00,  -999.0,-999.0000,-999.000,-999.000,  5.6096,-999.000
     316N138_5,  P06W,   215,  1,     10,    110,2,19920719,1708,-30.0913, 164.8400, 3375,   1247.5,   4.6119,  34.5026,2,  34.5021,2,    174.1,2,    173.9,2,    54.54,2,    31.01,2,     0.01,2,     2.23,2,    0.094,2,    0.056,2, -999.000,9,-999.0000,9,  -999.00,9,   -999.0,9,  -999.00,9,-999.000,9,   2220.1,2,   1058.3,2,   20.30,  -999.0,-999.0000,-999.000,-999.000,  4.5094,-999.000
     316N138_5,  P06W,   215,  1,      9,    126,2,19920719,1708,-30.0913, 164.8400, 3375,   1499.6,   3.4982,  34.5583,2,  34.5574,2,    161.4,2,    160.0,2,    79.54,2,    33.29,2,     0.01,2,     2.40,2,    0.020,2,    0.015,2, -999.000,9,-999.0000,9,  -999.00,9,   -999.0,9,  -999.00,9,-999.000,9,   2257.0,2,   -999.0,9, -999.00,  -999.0,-999.0000,-999.000,-999.000,  3.3847,-999.000
     316N138_5,  P06W,   215,  1,      8,    108,2,19920719,1708,-30.0913, 164.8400, 3375,   1752.0,   2.8644,  34.6033,2,  34.6036,2,    153.5,2,    153.8,2,    95.40,2,    34.41,2,     0.01,2,     2.48,2,    0.004,2,    0.014,4, -999.000,9,-999.0000,9,  -999.00,9,   -999.0,9,  -999.00,9,-999.000,9,   2278.4,2,   -999.0,9, -999.00,  -999.0,-999.0000,-999.000,-999.000,  2.7367,-999.000
     316N138_5,  P06W,   215,  1,      7,    107,2,19920719,1708,-30.0913, 164.8400, 3375,   1996.5,   2.4497,  34.6365,2,  34.6370,2,    152.2,2,    152.6,2,   105.23,2,    34.78,2,     0.01,2,     2.51,2,   -0.002,2,    0.004,2, -999.000,9,-999.0000,9,  -999.00,9,   -999.0,9,  -999.00,9,-999.000,9,   2289.6,2,   1137.6,2,   20.30,  -999.0,-999.0000,-999.000,-999.000,  2.3067,-999.000
     316N138_5,  P06W,   215,  1,      6,    180,2,19920719,1708,-30.0913, 164.8400, 3375,   2300.9,   2.1552,  34.6617,2,  34.6633,2,    153.4,2,    153.9,2,   111.22,2,    34.78,2,     0.01,2,     2.50,2,    0.000,2,    0.005,2, -999.000,9,-999.0000,9,  -999.00,9,   -999.0,9,  -999.00,9,-999.000,9,   2297.1,2,   -999.0,9, -999.00,  -999.0,-999.0000,-999.000,-999.000,  1.9901,-999.000
     316N138_5,  P06W,   215,  1,      5,    131,2,19920719,1708,-30.0913, 164.8400, 3375,   2599.4,   2.0348,  34.6745,2,  34.6938,4,    155.0,2,    155.0,2,   113.94,2,    34.83,2,     0.01,2,     2.49,2,    0.003,2,    0.003,2, -999.000,9,-999.0000,9,  -999.00,9,   -999.0,9,  -999.00,9,-999.000,9,   2299.7,2,   -999.0,9, -999.00,  -999.0,-999.0000,-999.000,-999.000,  1.8447,-999.000
     316N138_5,  P06W,   215,  1,      4,    516,2,19920719,1708,-30.0913, 164.8400, 3375,   2801.6,   1.9904,  34.6785,2,  34.6785,2,    156.4,2,    156.7,2,   115.00,2,    34.83,2,     0.01,2,     2.48,2,   -0.001,2,    0.002,2, -999.000,9,-999.0000,9,  -999.00,9,   -999.0,9,  -999.00,9,-999.000,9,   2300.2,2,   1190.3,6,   20.30,  -999.0,-999.0000,-999.000,-999.000,  1.7820,-999.000
     316N138_5,  P06W,   215,  1,      3,    130,2,19920719,1708,-30.0913, 164.8400, 3375,   3001.1,   1.9514,  34.6830,2,  34.6832,2,    156.9,2,    157.2,2,   115.89,2,    34.61,2,     0.01,2,     2.47,2,   -0.003,2,    0.004,2, -999.000,9,-999.0000,9,  -999.00,9,   -999.0,9,  -999.00,9,-999.000,9,   2300.7,2,   -999.0,9, -999.00,  -999.0,-999.0000,-999.000,-999.000,  1.7246,-999.000
     316N138_5,  P06W,   215,  1,      2,    136,2,19920719,1708,-30.0913, 164.8400, 3375,   3203.0,   1.9299,  34.6859,2,  34.6853,2,    158.5,2,    158.6,2,   116.41,2,    34.30,2,     0.00,2,     2.44,2, -999.000,5, -999.000,5, -999.000,9,-999.0000,9,  -999.00,9,   -999.0,9,  -999.00,9,-999.000,9,   2301.4,2,   -999.0,9, -999.00,  -999.0,-999.0000,-999.000,-999.000,  1.6835,-999.000
     316N138_5,  P06W,   215,  1,      1,    134,2,19920719,1708,-30.0913, 164.8400, 3375,   3403.6,   1.9231,  34.6862,2,  34.6861,2,    159.1,2,    159.2,2,   117.34,2,    34.26,2,     0.00,2,     2.43,2,    0.000,2,    0.004,2, -999.000,9,-999.0000,9,  -999.00,9,   -999.0,9,  -999.00,9,-999.000,9,   2301.3,6,   1158.4,2,   20.30,  -999.0,-999.0000,-999.000,-999.000,  1.6564,-999.000
     316N138_5,  P06W,   216,  1,     24,    132,2,19920719,2145,-30.0847, 164.3407, 3301,     11.3,  19.2745,  35.6432,2,  35.6439,2,    249.7,3,    222.9,2,     0.69,2,     0.55,2,     0.18,2,     0.16,2, -999.000,5, -999.000,5, -999.000,9,-999.0000,9,  -999.00,9,   -999.0,9,  -999.00,9,-999.000,9,   -999.0,9,   -999.0,9, -999.00,  -999.0,-999.0000,-999.000,-999.000, 19.2724,-999.000
     316N138_5,  P06W,   216,  1,     23,    123,2,19920719,2145,-30.0847, 164.3407, 3301,     53.5,  19.2862,  35.6456,2,  35.6463,2,    223.1,2,    222.9,2,     0.70,2,     0.54,2,     0.19,2,     0.16,2, -999.000,5, -999.000,5, -999.000,9,-999.0000,9,  -999.00,9,   -999.0,9,  -999.00,9,-999.000,9,   -999.0,9,   -999.0,9, -999.00,  -999.0,-999.0000,-999.000,-999.000, 19.2765,-999.000
     316N138_5,  P06W,   216,  1,     22,    128,2,19920719,2145,-30.0847, 164.3407, 3301,    103.8,  19.2695,  35.6505,2,  35.6496,2,    222.0,2,    223.2,2,     0.72,2,     0.53,2,     0.19,2,     0.17,2, -999.000,5, -999.000,5, -999.000,9,-999.0000,9,  -999.00,9,   -999.0,9,  -999.00,9,-999.000,9,   -999.0,9,   -999.0,9, -999.00,  -999.0,-999.0000,-999.000,-999.000, 19.2507,-999.000
     316N138_5,  P06W,   216,  1,     21,    121,2,19920719,2145,-30.0847, 164.3407, 3301,    154.0,  19.2254,  35.6490,2,  35.6494,2,    225.8,2,    223.0,2,     0.73,2,     0.54,2,     0.18,2,     0.18,2, -999.000,5, -999.000,5, -999.000,9,-999.0000,9,  -999.00,9,   -999.0,9,  -999.00,9,-999.000,9,   -999.0,9,   -999.0,9, -999.00,  -999.0,-999.0000,-999.000,-999.000, 19.1976,-999.000
     316N138_5,  P06W,   216,  1,     20,    515,2,19920719,2145,-30.0847, 164.3407, 3301,    203.3,  17.7710,  35.5800,2,  35.5571,2,    201.6,2,    193.4,2,     1.47,2,     4.92,2,     0.01,2,     0.47,2, -999.000,5, -999.000,5, -999.000,9,-999.0000,9,  -999.00,9,   -999.0,9,  -999.00,9,-999.000,9,   -999.0,9,   -999.0,9, -999.00,  -999.0,-999.0000,-999.000,-999.000, 17.7362,-999.000
     316N138_5,  P06W,   216,  1,     19,    120,2,19920719,2145,-30.0847, 164.3407, 3301,    253.5,  16.5940,  35.4934,2,  35.4780,2,    195.3,2,    191.0,2,     2.04,2,     6.77,2,     0.00,2,     0.60,2, -999.000,5, -999.000,5, -999.000,9,-999.0000,9,  -999.00,9,   -999.0,9,  -999.00,9,-999.000,9,   -999.0,9,   -999.0,9, -999.00,  -999.0,-999.0000,-999.000,-999.000, 16.5527,-999.000
     316N138_5,  P06W,   216,  1,     18,    118,2,19920719,2145,-30.0847, 164.3407, 3301,    302.5,  15.8637,  35.4192,2,  35.4151,2,    191.5,2,    189.6,2,     2.60,2,     7.95,2,     0.00,2,     0.68,2, -999.000,5, -999.000,5, -999.000,9,-999.0000,9,  -999.00,9,   -999.0,9,  -999.00,9,-999.000,9,   -999.0,9,   -999.0,9, -999.00,  -999.0,-999.0000,-999.000,-999.000, 15.8158,-999.000
     316N138_5,  P06W,   216,  1,     17,    514,2,19920719,2145,-30.0847, 164.3407, 3301,    402.8,  13.3497,  35.1757,2,  35.1636,2,    189.0,2,    185.1,2,     4.44,2,    12.46,2,     0.00,2,     0.99,2, -999.000,5, -999.000,5, -999.000,9,-999.0000,9,  -999.00,9,   -999.0,9,  -999.00,9,-999.000,9,   -999.0,9,   -999.0,9, -999.00,  -999.0,-999.0000,-999.000,-999.000, 13.2928,-999.000
     316N138_5,  P06W,   216,  1,     16,    116,2,19920719,2145,-30.0847, 164.3407, 3301,    502.6,  11.2039,  34.9548,2,  34.9329,2,    195.8,2,    188.5,2,     6.83,2,    16.39,2,     0.00,2,     1.23,2, -999.000,5, -999.000,5, -999.000,9,-999.0000,9,  -999.00,9,   -999.0,9,  -999.00,9,-999.000,9,   -999.0,9,   -999.0,9, -999.00,  -999.0,-999.0000,-999.000,-999.000, 11.1403,-999.000
     316N138_5,  P06W,   216,  1,     15,    115,2,19920719,2145,-30.0847, 164.3407, 3301,    603.7,   9.8537,  34.7878,2,  34.7901,2,    192.8,2,    190.2,2,     9.96,2,    19.30,2,    -0.01,2,     1.42,2, -999.000,5, -999.000,5, -999.000,9,-999.0000,9,  -999.00,9,   -999.0,9,  -999.00,9,-999.000,9,   -999.0,9,   -999.0,9, -999.00,  -999.0,-999.0000,-999.000,-999.000,  9.7831,-999.000
     316N138_5,  P06W,   216,  1,     14,    513,2,19920719,2145,-30.0847, 164.3407, 3301,    803.9,   7.3673,  34.5653,2,  34.5496,2,    192.0,2,    189.5,2,    18.77,2,    24.89,2,     0.00,2,     1.80,2, -999.000,5, -999.000,5, -999.000,9,-999.0000,9,  -999.00,9,   -999.0,9,  -999.00,9,-999.000,9,   -999.0,9,   -999.0,9, -999.00,  -999.0,-999.0000,-999.000,-999.000,  7.2871,-999.000
     316N138_5,  P06W,   216,  1,     13,    125,2,19920719,2145,-30.0847, 164.3407, 3301,   1007.0,   5.8722,  34.4919,2,  34.4928,2,    182.3,2,    183.1,2,    33.99,2,    28.46,2,    -0.01,2,     2.04,2, -999.000,5, -999.000,5, -999.000,9,-999.0000,9,  -999.00,9,   -999.0,9,  -999.00,9,-999.000,9,   -999.0,9,   -999.0,9, -999.00,  -999.0,-999.0000,-999.000,-999.000,  5.7816,-999.000
     316N138_5,  P06W,   216,  1,     12,    112,2,19920719,2145,-30.0847, 164.3407, 3301,   1207.7,   4.6330,  34.4807,2,  34.4777,2,    175.8,2,    176.3,2,    50.67,2,    31.17,2,    -0.01,2,     2.24,2, -999.000,5, -999.000,5, -999.000,9,-999.0000,9,  -999.00,9,   -999.0,9,  -999.00,9,-999.000,9,   -999.0,9,   -999.0,9, -999.00,  -999.0,-999.0000,-999.000,-999.000,  4.5340,-999.000
     316N138_5,  P06W,   216,  1,     11,    129,2,19920719,2145,-30.0847, 164.3407, 3301,   1407.7,   3.8796,  34.5384,2,  34.5331,2,    166.2,2,    165.1,2,    69.92,2,    32.77,2,     0.00,2,     2.34,2, -999.000,5, -999.000,5, -999.000,9,-999.0000,9,  -999.00,9,   -999.0,9,  -999.00,9,-999.000,9,   -999.0,9,   -999.0,9, -999.00,  -999.0,-999.0000,-999.000,-999.000,  3.7700,-999.000
     316N138_5,  P06W,   216,  1,     10,    110,2,19920719,2145,-30.0847, 164.3407, 3301,   1599.2,   3.1734,  34.5794,2,  34.5794,2,    156.4,2,    155.5,2,    87.16,2,    34.14,2,     0.00,2,     2.45,2, -999.000,5, -999.000,5, -999.000,9,-999.0000,9,  -999.00,9,   -999.0,9,  -999.00,9,-999.000,9,   -999.0,9,   -999.0,9, -999.00,  -999.0,-999.0000,-999.000,-999.000,  3.0552,-999.000
     316N138_5,  P06W,   216,  1,      9,    126,2,19920719,2145,-30.0847, 164.3407, 3301,   1802.6,   2.7675,  34.6099,2,  34.6091,2,    152.5,2,    153.2,2,    98.16,2,    34.81,2,     0.00,2,     2.50,2, -999.000,5, -999.000,5, -999.000,9,-999.0000,9,  -999.00,9,   -999.0,9,  -999.00,9,-999.000,9,   -999.0,9,   -999.0,9, -999.00,  -999.0,-999.0000,-999.000,-999.000,  2.6369,-999.000
     316N138_5,  P06W,   216,  1,      8,    108,2,19920719,2145,-30.0847, 164.3407, 3301,   2003.3,   2.4635,  34.6342,2,  34.6384,2,    152.5,2,    152.1,2,   104.77,2,    34.94,2,     0.00,2,     2.52,2, -999.000,5, -999.000,5, -999.000,9,-999.0000,9,  -999.00,9,   -999.0,9,  -999.00,9,-999.000,9,   -999.0,9,   -999.0,9, -999.00,  -999.0,-999.0000,-999.000,-999.000,  2.3198,-999.000
     316N138_5,  P06W,   216,  1,      7,    107,2,19920719,2145,-30.0847, 164.3407, 3301,   2205.6,   2.2471,  34.6545,2,  34.6557,2,    153.3,2,    153.4,2,   109.56,2,    34.94,2,     0.00,2,     2.51,2, -999.000,5, -999.000,5, -999.000,9,-999.0000,9,  -999.00,9,   -999.0,9,  -999.00,9,-999.000,9,   -999.0,9,   -999.0,9, -999.00,  -999.0,-999.0000,-999.000,-999.000,  2.0889,-999.000
     316N138_5,  P06W,   216,  1,      6,    180,2,19920719,2145,-30.0847, 164.3407, 3301,   2397.2,   2.1222,  34.6642,2,  34.6665,2,    154.1,2,    154.0,2,   112.13,2,    34.94,2,     0.00,2,     2.51,2, -999.000,5, -999.000,5, -999.000,9,-999.0000,9,  -999.00,9,   -999.0,9,  -999.00,9,-999.000,9,   -999.0,9,   -999.0,9, -999.00,  -999.0,-999.0000,-999.000,-999.000,  1.9490,-999.000
     316N138_5,  P06W,   216,  1,      5,    131,2,19920719,2145,-30.0847, 164.3407, 3301,   2600.7,   2.0398,  34.6735,2,  34.6745,2,    155.2,2,    155.6,2,   114.16,2,    34.94,2,     0.00,2,     2.50,2, -999.000,5, -999.000,5, -999.000,9,-999.0000,9,  -999.00,9,   -999.0,9,  -999.00,9,-999.000,9,   -999.0,9,   -999.0,9, -999.00,  -999.0,-999.0000,-999.000,-999.000,  1.8495,-999.000
     316N138_5,  P06W,   216,  1,      4,    516,2,19920719,2145,-30.0847, 164.3407, 3301,   2803.2,   2.0013,  34.6778,2,  34.6787,2,    156.0,2,    156.6,2,   115.10,2,    34.84,2,     0.00,2,     2.50,2, -999.000,5, -999.000,5, -999.000,9,-999.0000,9,  -999.00,9,   -999.0,9,  -999.00,9,-999.000,9,   -999.0,9,   -999.0,9, -999.00,  -999.0,-999.0000,-999.000,-999.000,  1.7926,-999.000
     316N138_5,  P06W,   216,  1,      3,    130,2,19920719,2145,-30.0847, 164.3407, 3301,   2996.7,   1.9634,  34.6821,2,  34.6832,2,    157.3,2,    156.8,2,   115.85,2,    34.80,2,     0.00,2,     2.49,2, -999.000,5, -999.000,5, -999.000,9,-999.0000,9,  -999.00,9,   -999.0,9,  -999.00,9,-999.000,9,   -999.0,9,   -999.0,9, -999.00,  -999.0,-999.0000,-999.000,-999.000,  1.7367,-999.000
     316N138_5,  P06W,   216,  1,      2,    136,2,19920719,2145,-30.0847, 164.3407, 3301,   3199.0,   1.9420,  34.6847,2,  34.6871,2,    158.4,2,    158.9,2,   116.96,2,    34.76,2,     0.00,2,     2.48,2, -999.000,5, -999.000,5, -999.000,9,-999.0000,9,  -999.00,9,   -999.0,9,  -999.00,9,-999.000,9,   -999.0,9,   -999.0,9, -999.00,  -999.0,-999.0000,-999.000,-999.000,  1.6957,-999.000
     316N138_5,  P06W,   216,  1,      1,    134,2,19920719,2145,-30.0847, 164.3407, 3301,   3341.5,   1.9219,  34.6866,2,  34.6877,2,    159.5,2,    158.9,2,   117.46,2,    34.67,2,     0.00,2,     2.46,2, -999.000,5, -999.000,5, -999.000,9,-999.0000,9,  -999.00,9,   -999.0,9,  -999.00,9,-999.000,9,   -999.0,9,   -999.0,9, -999.00,  -999.0,-999.0000,-999.000,-999.000,  1.6616,-999.000