BOTTLE,20030219WHPSIOdm
EXPOCODE,SECT_ID,STNNBR,CASTNO,SAMPNO,BTLNBR,BTLNBR_FLAG_W,DATE,TIME,LATITUDE,LONGITUDE,DEPTH,CTDPRS,CTDTMP,CTDSAL,CTDSAL_FLAG_W,SALNTY,SALNTY_FLAG_W,CTDOXY,CTDOXY_FLAG_W,OXYGEN,OXYGEN_FLAG_W,SILCAT,SILCAT_FLAG_W,NITRAT,NITRAT_FLAG_W,NITRIT,NITRIT_FLAG_W,PHSPHT,PHSPHT_FLAG_W,CFC-11,CFC-11_FLAG_W,CFC-12,CFC-12_FLAG_W,TRITUM,TRITUM_FLAG_W,HELIUM,HELIUM_FLAG_W,DELHE3,DELHE3_FLAG_W,DELC14,DELC14_FLAG_W,DELC13,DELC13_FLAG_W,NEON,NEON_FLAG_W,TCARBN,TCARBN_FLAG_W,PCO2,PCO2_FLAG_W,PCO2TMP,C14ERR,HELIER,DELHER,NEONER,THETA,TRITER
,,,,,,,,,,,,DBAR,ITS-90,PSS-78,,PSS-78,,UMOL/KG,,UMOL/KG,,UMOL/KG,,UMOL/KG,,UMOL/KG,,UMOL/KG,,PMOL/KG,,PMOL/KG,,TU,,NMOL/KG,,PERCNT,,/MILLE,,/MILLE,,NMOL/KG,,UMOL/KG,,UATM,,DEG_C,/MILLE,NMOL/KG,PERCNT,NMOL/KG,ITS-90,TU
     316N138_5,  P06W,   234,  1,     36,1385-36,2,19920723,0738,-30.0845, 156.5153, 4825,     26.9,  20.2702,  35.5503,2,  35.5509,2,    219.4,2,    219.5,2,     0.78,2,     0.36,2,     0.13,2,     0.17,2, -999.000,5, -999.000,5, -999.000,9,-999.0000,9,  -999.00,9,    109.9,2,     0.99,2,-999.000,9,   -999.0,9,   -999.0,9, -999.00,     3.4,-999.0000,-999.000,-999.000, 20.2651,-999.000
     316N138_5,  P06W,   234,  1,     35,02-9454,2,19920723,0738,-30.0845, 156.5153, 4825,     27.9,  20.2737,  35.5511,2,  35.5571,2,    219.4,2,    219.9,2,     0.73,2,     0.34,2,     0.12,2,     0.17,2, -999.000,5, -999.000,5,    0.819,2,-999.0000,9,  -999.00,9,   -999.0,9,  -999.00,9,-999.000,9,   -999.0,9,   -999.0,9, -999.00,  -999.0,-999.0000,-999.000,-999.000, 20.2684,   0.005
     316N138_5,  P06W,   234,  1,     34,02-9457,2,19920723,0738,-30.0845, 156.5153, 4825,    101.1,  20.2825,  35.5522,2,  35.5513,2,    218.9,2,    219.0,2,     0.82,2,     0.37,2,     0.15,2,     0.18,2, -999.000,5, -999.000,5,    0.912,2,   1.7750,2,    -1.18,2,    119.0,2,     1.29,2,-999.000,9,   -999.0,9,   -999.0,9, -999.00,     5.2,-999.0000,   0.150,-999.000, 20.2635,   0.005
     316N138_5,  P06W,   234,  1,     33,1385-33,2,19920723,0738,-30.0845, 156.5153, 4825,    201.8,  18.9802,  35.5743,2,  35.5626,2,    182.0,2,    185.2,2,     1.50,2,     4.67,2,     0.01,2,     0.47,2, -999.000,5, -999.000,5,    0.855,2,   1.7890,2,    -0.43,2,    105.7,2,     0.84,3,-999.000,9,   -999.0,9,   -999.0,9, -999.00,     4.4,-999.0000,   0.150,-999.000, 18.9442,   0.005
     316N138_5,  P06W,   234,  1,     31,02-9453,2,19920723,0738,-30.0845, 156.5153, 4825,    300.3,  16.1023,  35.4074,2,  35.4074,2,    182.4,2,    182.2,2,     2.88,2,     8.29,2,     0.01,2,     0.71,2, -999.000,5, -999.000,5,    0.574,2,   1.8020,2,     0.10,2,     82.0,2,     1.06,2,-999.000,9,   -999.0,9,   -999.0,9, -999.00,     3.3,-999.0000,   0.150,-999.000, 16.0543,   0.004
     316N138_5,  P06W,   234,  1,     32,02-9510,2,19920723,0738,-30.0845, 156.5153, 4825,    301.3,  16.3090,  35.4289,2,  35.4184,2,    181.6,2,    198.9,3,     2.76,2,     7.97,2,     0.01,2,     0.69,2, -999.000,5, -999.000,5, -999.000,9,-999.0000,9,  -999.00,9,   -999.0,9,  -999.00,9,-999.000,9,   -999.0,9,   -999.0,9, -999.00,  -999.0,-999.0000,-999.000,-999.000, 16.2604,-999.000
     316N138_5,  P06W,   234,  1,     30,02-9456,3,19920723,0738,-30.0845, 156.5153, 4825,    401.9,  13.1957,  35.1824,2,  35.2085,3,    188.7,2,    187.5,2,     4.12,2,    10.78,2,     0.02,2,     0.88,2, -999.000,5, -999.000,5,    0.627,2,   1.8110,2,     0.40,2,     76.7,2,     1.41,2,-999.000,9,   -999.0,9,   -999.0,9, -999.00,     4.3,-999.0000,   0.150,-999.000, 13.1394,   0.004
     316N138_5,  P06W,   234,  1,     29,02-9458,3,19920723,0738,-30.0845, 156.5153, 4825,    501.5,  11.1001,  34.9084,2,  35.0104,4,    186.1,2,    188.7,2,     5.94,2,    14.04,2,     0.02,2,     1.08,2, -999.000,5, -999.000,5,    0.485,2,   1.8380,2,     0.79,2,     47.5,2,     1.42,2,-999.000,9,   -999.0,9,   -999.0,9, -999.00,     3.7,-999.0000,   0.150,-999.000, 11.0371,   0.004
     316N138_5,  P06W,   234,  1,     28,02-9454,2,19920723,0738,-30.0845, 156.5153, 4825,    602.3,   9.4720,  34.7300,2,  34.7292,2,    190.6,2,    191.3,2,     9.69,2,    19.85,2,     0.00,2,     1.45,2, -999.000,5, -999.000,5,    0.276,2,   1.8000,2,     1.16,2,    -12.7,2,     1.02,2,-999.000,9,   -999.0,9,   -999.0,9, -999.00,     6.0,-999.0000,   0.150,-999.000,  9.4032,   0.003
     316N138_5,  P06W,   234,  1,     27,02-9543,2,19920723,0738,-30.0845, 156.5153, 4825,    702.0,   8.1118,  34.6109,2,  34.6014,2,    194.5,2,    193.0,2,    13.82,2,    22.68,2,     0.00,2,     1.62,2, -999.000,5, -999.000,5,    0.182,2,   1.7610,2,     1.99,2,    -38.0,2,     1.04,2,-999.000,9,   -999.0,9,   -999.0,9, -999.00,     3.0,-999.0000,   0.150,-999.000,  8.0382,   0.002
     316N138_5,  P06W,   234,  1,     25,02-9455,2,19920723,0738,-30.0845, 156.5153, 4825,    802.9,   6.9158,  34.4945,2,  34.5068,2,    192.2,2,    190.7,2,    20.61,2,    25.64,2,     0.00,2,     1.83,2, -999.000,5, -999.000,5,    0.097,2,   1.9530,2,     2.79,2,    -68.8,2,     0.95,2,-999.000,9,   -999.0,9,   -999.0,9, -999.00,     3.0,-999.0000,   0.150,-999.000,  6.8385,   0.002
     316N138_5,  P06W,   234,  1,     26,02-9544,2,19920723,0738,-30.0845, 156.5153, 4825,    804.1,   6.9472,  34.5070,2,  34.5099,2,    192.0,2,    191.2,2,    20.29,2,    25.49,2,     0.00,2,     1.82,2, -999.000,5, -999.000,5, -999.000,9,-999.0000,9,  -999.00,9,   -999.0,9,  -999.00,9,-999.000,9,   -999.0,9,   -999.0,9, -999.00,  -999.0,-999.0000,-999.000,-999.000,  6.8696,-999.000
     316N138_5,  P06W,   234,  1,     24,    132,2,19920723,0738,-30.0845, 156.5153, 4825,    902.0,   6.0391,  34.4691,2,  34.4720,2,    186.9,2,    185.4,2,    29.30,2,    28.03,2,     0.00,2,     2.00,2, -999.000,5, -999.000,5,    0.055,2,   1.8710,2,     4.77,2,    -98.2,2,     0.65,3,-999.000,9,   -999.0,9,   -999.0,9, -999.00,     4.0,-999.0000,   0.150,-999.000,  5.9575,   0.002
     316N138_5,  P06W,   234,  1,     23,    123,2,19920723,0738,-30.0845, 156.5153, 4825,   1003.4,   5.4293,  34.4641,2,  34.4683,2,    181.5,2,    179.5,2,    38.09,2,    29.60,2,     0.00,2,     2.10,2, -999.000,5, -999.000,5,    0.039,2,   1.8710,2,     6.54,2,   -107.7,2,     0.83,2,-999.000,9,   -999.0,9,   -999.0,9, -999.00,     2.9,-999.0000,   0.150,-999.000,  5.3424,   0.002
     316N138_5,  P06W,   234,  1,     22,    128,2,19920723,0738,-30.0845, 156.5153, 4825,   1103.4,   4.7969,  34.4801,2,  34.4767,2,    177.9,2,    173.8,2,    48.80,2,    31.12,2,     0.00,2,     2.22,2, -999.000,5, -999.000,5, -999.000,9,-999.0000,9,  -999.00,9,   -124.6,2,     0.72,2,-999.000,9,   -999.0,9,   -999.0,9, -999.00,     2.9,-999.0000,-999.000,-999.000,  4.7059,-999.000
     316N138_5,  P06W,   234,  1,     21,    121,2,19920723,0738,-30.0845, 156.5153, 4825,   1204.1,   4.2196,  34.4958,2,  34.4981,2,    168.9,2,    166.4,2,    60.91,2,    32.45,2,     0.00,2,     2.31,2, -999.000,5, -999.000,5,    0.010,2,   1.9060,2,    12.04,2,   -159.4,2,     0.21,3,-999.000,9,   -999.0,9,   -999.0,9, -999.00,     2.8,-999.0000,   0.150,-999.000,  4.1246,   0.002
     316N138_5,  P06W,   234,  1,     20,    515,2,19920723,0738,-30.0845, 156.5153, 4825,   1302.3,   3.7525,  34.5275,2,  34.5294,2,    161.2,2,    158.5,2,    73.39,2,    33.63,2,     0.00,2,     2.40,2, -999.000,5, -999.000,5, -999.000,9,-999.0000,9,  -999.00,9,   -157.1,2,     0.49,2,-999.000,9,   -999.0,9,   -999.0,9, -999.00,     2.8,-999.0000,-999.000,-999.000,  3.6534,-999.000
     316N138_5,  P06W,   234,  1,     19,    120,2,19920723,0738,-30.0845, 156.5153, 4825,   1403.9,   3.4224,  34.5537,2,  34.5533,2,    155.3,2,    154.4,2,    81.84,2,    34.32,2,     0.00,2,     2.45,2, -999.000,5, -999.000,5,    0.001,2,   1.9340,2,    16.58,2,   -172.3,2,     0.41,2,-999.000,9,   -999.0,9,   -999.0,9, -999.00,     3.0,-999.0000,   0.150,-999.000,  3.3180,   0.002
     316N138_5,  P06W,   234,  1,     18,    118,2,19920723,0738,-30.0845, 156.5153, 4825,   1605.7,   2.9241,  34.5958,2,  34.5979,2,    150.2,2,    150.5,2,    93.17,2,    34.92,2,     0.00,2,     2.50,2, -999.000,5, -999.000,5,    0.001,2,   1.9440,2,    18.09,2,   -169.8,2,     0.35,2,-999.000,9,   -999.0,9,   -999.0,9, -999.00,     3.7,-999.0000,   0.150,-999.000,  2.8083,   0.002
     316N138_5,  P06W,   234,  1,     17,    514,2,19920723,0738,-30.0845, 156.5153, 4825,   1802.8,   2.6137,  34.6275,2,  34.6303,2,    153.0,2,    152.2,2,    98.36,2,    34.83,2,     0.00,2,     2.50,2, -999.000,5, -999.000,5,   -0.002,2,   1.9500,2,    17.82,2,   -189.6,2,    -0.14,4,-999.000,9,   -999.0,9,   -999.0,9, -999.00,     3.5,-999.0000,   0.150,-999.000,  2.4851,   0.002
     316N138_5,  P06W,   234,  1,     16,    116,2,19920723,0738,-30.0845, 156.5153, 4825,   2004.2,   2.3894,  34.6607,2,  34.6598,2,    161.6,2,    162.4,2,    94.59,2,    33.93,2,     0.00,2,     2.41,2, -999.000,5, -999.000,5,    0.002,2,   1.9410,2,    14.66,2,   -173.3,2,     0.31,2,-999.000,9,   -999.0,9,   -999.0,9, -999.00,     3.0,-999.0000,   0.150,-999.000,  2.2466,   0.002
     316N138_5,  P06W,   234,  1,     15,    115,2,19920723,0738,-30.0845, 156.5153, 4825,   2200.1,   2.2248,  34.6839,2,  34.6855,2,    169.0,2,    170.0,2,    94.13,2,    33.25,2,     0.00,2,     2.36,2, -999.000,5, -999.000,5, -999.000,9,-999.0000,9,  -999.00,9,   -171.7,2,     0.35,2,-999.000,9,   -999.0,9,   -999.0,9, -999.00,     2.9,-999.0000,-999.000,-999.000,  2.0673,-999.000
     316N138_5,  P06W,   234,  1,     14,    513,2,19920723,0738,-30.0845, 156.5153, 4825,   2402.8,   2.0559,  34.7060,2,  34.7074,2,    175.9,2,    176.8,2,    95.06,2,    32.69,2,     0.00,2,     2.32,2, -999.000,5, -999.000,5, -999.000,9,-999.0000,9,  -999.00,9,   -168.5,2,     0.74,2,-999.000,9,   -999.0,9,   -999.0,9, -999.00,     3.3,-999.0000,-999.000,-999.000,  1.8832,-999.000
     316N138_5,  P06W,   234,  1,     13,    125,2,19920723,0738,-30.0845, 156.5153, 4825,   2607.2,   1.8744,  34.7219,2,  34.7209,2,    181.5,2,    183.2,2,    98.15,2,    32.24,2,     0.00,2,     2.29,2, -999.000,5, -999.000,5, -999.000,9,-999.0000,9,  -999.00,9,   -167.6,2,     0.71,2,-999.000,9,   -999.0,9,   -999.0,9, -999.00,     3.0,-999.0000,-999.000,-999.000,  1.6864,-999.000
     316N138_5,  P06W,   234,  1,     12,    112,2,19920723,0738,-30.0845, 156.5153, 4825,   2802.0,   1.7020,  34.7262,2,  34.7248,2,    185.6,2,    186.1,2,   102.39,2,    32.14,2,     0.00,2,     2.29,2, -999.000,5, -999.000,5, -999.000,9,-999.0000,9,  -999.00,9,   -154.7,2,     0.34,2,-999.000,9,   -999.0,9,   -999.0,9, -999.00,     4.4,-999.0000,-999.000,-999.000,  1.4993,-999.000
     316N138_5,  P06W,   234,  1,     11,    129,2,19920723,0738,-30.0845, 156.5153, 4825,   3002.2,   1.5399,  34.7235,2,  34.7254,2,    189.4,2,    190.0,2,   106.34,2,    32.09,2,     0.00,2,     2.29,2, -999.000,5, -999.000,5, -999.000,9,-999.0000,9,  -999.00,9,   -999.0,9,  -999.00,9,-999.000,9,   -999.0,9,   -999.0,9, -999.00,  -999.0,-999.0000,-999.000,-999.000,  1.3218,-999.000
     316N138_5,  P06W,   234,  1,     10,    110,2,19920723,0738,-30.0845, 156.5153, 4825,   3002.2,   1.5381,  34.7242,2,  34.7237,2,    189.4,2,    188.8,2,   106.36,2,    32.07,2,     0.00,2,     2.30,2, -999.000,5, -999.000,5, -999.000,9,-999.0000,9,  -999.00,9,   -160.8,2,     0.36,2,-999.000,9,   -999.0,9,   -999.0,9, -999.00,     3.1,-999.0000,-999.000,-999.000,  1.3200,-999.000
     316N138_5,  P06W,   234,  1,      9,    126,2,19920723,0738,-30.0845, 156.5153, 4825,   3203.5,   1.3969,  34.7224,2,  34.7221,2,    191.4,2,    191.8,2,   109.86,2,    32.23,2,     0.00,2,     2.31,2, -999.000,5, -999.000,5, -999.000,9,-999.0000,9,  -999.00,9,   -160.8,2,     0.38,2,-999.000,9,   -999.0,9,   -999.0,9, -999.00,     3.5,-999.0000,-999.000,-999.000,  1.1626,-999.000
     316N138_5,  P06W,   234,  1,      8,    108,2,19920723,0738,-30.0845, 156.5153, 4825,   3406.5,   1.2891,  34.7198,2,  34.7197,2,    192.8,2,    194.4,2,   112.96,2,    32.30,2,     0.00,2,     2.31,2, -999.000,5, -999.000,5, -999.000,9,-999.0000,9,  -999.00,9,   -159.8,2,     0.36,2,-999.000,9,   -999.0,9,   -999.0,9, -999.00,     4.3,-999.0000,-999.000,-999.000,  1.0375,-999.000
     316N138_5,  P06W,   234,  1,      7,    107,2,19920723,0738,-30.0845, 156.5153, 4825,   3603.9,   1.2301,  34.7185,2,  34.7184,2,    194.8,2,    196.0,2,   114.77,2,    32.34,2,     0.00,2,     2.31,2, -999.000,5, -999.000,5, -999.000,9,-999.0000,9,  -999.00,9,   -155.7,2,     0.36,2,-999.000,9,   -999.0,9,   -999.0,9, -999.00,     4.6,-999.0000,-999.000,-999.000,  0.9601,-999.000
     316N138_5,  P06W,   234,  1,      6,    180,2,19920723,0738,-30.0845, 156.5153, 4825,   3801.4,   1.1790,  34.7169,2,  34.7186,2,    194.5,2,    196.1,2,   116.42,2,    32.37,2,     0.00,2,     2.32,2, -999.000,5, -999.000,5, -999.000,9,-999.0000,9,  -999.00,9,   -168.0,2,     0.34,2,-999.000,9,   -999.0,9,   -999.0,9, -999.00,     4.2,-999.0000,-999.000,-999.000,  0.8899,-999.000
     316N138_5,  P06W,   234,  1,      5,    131,2,19920723,0738,-30.0845, 156.5153, 4825,   4004.9,   1.1613,  34.7157,2,  34.7180,2,    195.5,2,    195.1,2,   117.54,2,    32.49,2,     0.00,2,     2.32,2, -999.000,5, -999.000,5, -999.000,9,-999.0000,9,  -999.00,9,   -166.1,2,     0.35,2,-999.000,9,   -999.0,9,   -999.0,9, -999.00,     4.9,-999.0000,-999.000,-999.000,  0.8512,-999.000
     316N138_5,  P06W,   234,  1,      4,    516,2,19920723,0738,-30.0845, 156.5153, 4825,   4206.2,   1.1673,  34.7159,2,  34.7180,2,    195.8,2,    196.0,2,   118.10,2,    32.42,2,     0.00,2,     2.32,2, -999.000,5, -999.000,5, -999.000,9,-999.0000,9,  -999.00,9,   -172.1,2,     0.36,2,-999.000,9,   -999.0,9,   -999.0,9, -999.00,     4.1,-999.0000,-999.000,-999.000,  0.8352,-999.000
     316N138_5,  P06W,   234,  1,      3,    130,2,19920723,0738,-30.0845, 156.5153, 4825,   4412.0,   1.1754,  34.7148,2,  34.7160,2,    195.7,2,    195.4,2,   118.37,2,    32.48,2,     0.00,2,     2.30,2, -999.000,5, -999.000,5, -999.000,9,-999.0000,9,  -999.00,9,   -174.2,2,     0.10,3,-999.000,9,   -999.0,9,   -999.0,9, -999.00,     4.1,-999.0000,-999.000,-999.000,  0.8203,-999.000
     316N138_5,  P06W,   234,  1,      2,    136,2,19920723,0738,-30.0845, 156.5153, 4825,   4611.7,   1.1841,  34.7148,2,  34.7205,4,    196.0,2,    196.4,2,   118.52,2,    32.47,2,     0.00,2,     2.31,2, -999.000,5, -999.000,5, -999.000,9,-999.0000,9,  -999.00,9,   -167.1,2,     0.32,2,-999.000,9,   -999.0,9,   -999.0,9, -999.00,     4.2,-999.0000,-999.000,-999.000,  0.8060,-999.000
     316N138_5,  P06W,   234,  1,      1,    134,2,19920723,0738,-30.0845, 156.5153, 4825,   4899.1,   1.2038,  34.7137,2,  34.7158,2,    195.5,2,    195.6,2,   118.72,2,    32.53,2,     0.00,2,     2.30,2, -999.000,5, -999.000,5, -999.000,9,-999.0000,9,  -999.00,9,   -173.6,2,     0.34,2,-999.000,9,   -999.0,9,   -999.0,9, -999.00,     3.9,-999.0000,-999.000,-999.000,  0.7914,-999.000