BOTTLE,20030219WHPSIOdm
EXPOCODE,SECT_ID,STNNBR,CASTNO,SAMPNO,BTLNBR,BTLNBR_FLAG_W,DATE,TIME,LATITUDE,LONGITUDE,DEPTH,CTDPRS,CTDTMP,CTDSAL,CTDSAL_FLAG_W,SALNTY,SALNTY_FLAG_W,CTDOXY,CTDOXY_FLAG_W,OXYGEN,OXYGEN_FLAG_W,SILCAT,SILCAT_FLAG_W,NITRAT,NITRAT_FLAG_W,NITRIT,NITRIT_FLAG_W,PHSPHT,PHSPHT_FLAG_W,CFC-11,CFC-11_FLAG_W,CFC-12,CFC-12_FLAG_W,TRITUM,TRITUM_FLAG_W,HELIUM,HELIUM_FLAG_W,DELHE3,DELHE3_FLAG_W,DELC14,DELC14_FLAG_W,DELC13,DELC13_FLAG_W,NEON,NEON_FLAG_W,TCARBN,TCARBN_FLAG_W,PCO2,PCO2_FLAG_W,PCO2TMP,C14ERR,HELIER,DELHER,NEONER,THETA,TRITER
,,,,,,,,,,,,DBAR,ITS-90,PSS-78,,PSS-78,,UMOL/KG,,UMOL/KG,,UMOL/KG,,UMOL/KG,,UMOL/KG,,UMOL/KG,,PMOL/KG,,PMOL/KG,,TU,,NMOL/KG,,PERCNT,,/MILLE,,/MILLE,,NMOL/KG,,UMOL/KG,,UATM,,DEG_C,/MILLE,NMOL/KG,PERCNT,NMOL/KG,ITS-90,TU
     316N138_5,  P06W,   199,  1,     24,    132,2,19920716,1818,-30.0803, 172.5017, 2135,      9.9,  17.6133,  35.5961,2,  35.5953,2,    221.7,2,    229.5,2,     1.14,2,     1.16,2,     0.25,2,     0.24,2, -999.000,5, -999.000,5, -999.000,9,-999.0000,9,  -999.00,9,    105.1,2,     1.39,2,-999.000,9,   -999.0,9,   -999.0,9, -999.00,     3.5,-999.0000,-999.000,-999.000, 17.6116,-999.000
     316N138_5,  P06W,   199,  1,     23,    123,2,19920716,1818,-30.0803, 172.5017, 2135,     48.3,  17.6217,  35.5953,2,  35.5951,2,    226.7,2,    229.2,2,     1.14,2,     1.20,2,     0.25,2,     0.25,2, -999.000,5, -999.000,5, -999.000,9,-999.0000,9,  -999.00,9,   -999.0,9,  -999.00,9,-999.000,9,   -999.0,9,   -999.0,9, -999.00,  -999.0,-999.0000,-999.000,-999.000, 17.6135,-999.000
     316N138_5,  P06W,   199,  1,     22,    128,2,19920716,1818,-30.0803, 172.5017, 2135,     98.2,  17.6217,  35.5941,2,  35.5946,2,    224.7,2,    230.2,2,     1.14,2,     1.20,2,     0.25,2,     0.25,2, -999.000,5, -999.000,5, -999.000,9,-999.0000,9,  -999.00,9,    115.5,2,     1.42,2,-999.000,9,   -999.0,9,   -999.0,9, -999.00,     3.1,-999.0000,-999.000,-999.000, 17.6050,-999.000
     316N138_5,  P06W,   199,  1,     21,    121,3,19920716,1818,-30.0803, 172.5017, 2135,    148.3,  17.1969,  35.5473,2,-999.0000,9,    213.0,2,   -999.0,9,     1.71,2,     2.82,2,     0.17,2,     0.36,2, -999.000,5, -999.000,5, -999.000,9,-999.0000,9,  -999.00,9,   -999.0,9,  -999.00,9,-999.000,9,   -999.0,9,   -999.0,9, -999.00,  -999.0,-999.0000,-999.000,-999.000, 17.1721,-999.000
     316N138_5,  P06W,   199,  1,     20,    515,2,19920716,1818,-30.0803, 172.5017, 2135,    198.2,  16.2888,  35.4578,2,  35.4592,2,    201.9,2,    205.9,2,     2.27,2,     5.59,2,     0.03,2,     0.54,2, -999.000,5, -999.000,5, -999.000,9,-999.0000,9,  -999.00,9,    101.7,2,     1.26,2,-999.000,9,   -999.0,9,   -999.0,9, -999.00,     3.3,-999.0000,-999.000,-999.000, 16.2570,-999.000
     316N138_5,  P06W,   199,  1,     19,    120,2,19920716,1818,-30.0803, 172.5017, 2135,    253.6,  14.9489,  35.3394,2,  35.3441,2,    197.4,2,    198.9,2,     3.22,2,     8.34,2,     0.01,2,     0.69,2, -999.000,5, -999.000,5, -999.000,9,-999.0000,9,  -999.00,9,     84.8,2,     1.21,2,-999.000,9,   -999.0,9,   -999.0,9, -999.00,     2.9,-999.0000,-999.000,-999.000, 14.9104,-999.000
     316N138_5,  P06W,   199,  1,     18,    118,2,19920716,1818,-30.0803, 172.5017, 2135,    303.0,  13.8047,  35.2351,2,  35.2320,2,    194.4,2,    196.0,2,     4.17,2,    10.65,2,     0.01,2,     0.86,2, -999.000,5, -999.000,5, -999.000,9,-999.0000,9,  -999.00,9,     71.6,2,     1.23,2,-999.000,9,   -999.0,9,   -999.0,9, -999.00,     3.1,-999.0000,-999.000,-999.000, 13.7611,-999.000
     316N138_5,  P06W,   199,  1,     17,    514,2,19920716,1818,-30.0803, 172.5017, 2135,    395.8,  12.1246,  35.0420,2,  35.0417,2,    190.0,2,    193.1,2,     6.06,2,    14.17,2,     0.01,2,     1.09,2, -999.000,5, -999.000,5, -999.000,9,-999.0000,9,  -999.00,9,     49.0,2,     1.13,2,-999.000,9,   -999.0,9,   -999.0,9, -999.00,     3.0,-999.0000,-999.000,-999.000, 12.0722,-999.000
     316N138_5,  P06W,   199,  1,     16,    116,2,19920716,1818,-30.0803, 172.5017, 2135,    497.6,  10.4280,  34.8158,2,  34.8334,2,    193.1,2,    194.3,2,     8.15,2,    17.77,2,     0.01,2,     1.31,2, -999.000,5, -999.000,5, -999.000,9,-999.0000,9,  -999.00,9,     23.7,2,     1.20,2,-999.000,9,   -999.0,9,   -999.0,9, -999.00,     3.4,-999.0000,-999.000,-999.000, 10.3680,-999.000
     316N138_5,  P06W,   199,  1,     15,    115,2,19920716,1818,-30.0803, 172.5017, 2135,    598.7,   8.7213,  34.6456,2,  34.6486,2,    198.6,2,    199.8,2,    10.81,2,    21.06,2,     0.01,2,     1.53,2, -999.000,5, -999.000,5, -999.000,9,-999.0000,9,  -999.00,9,     -2.1,2,     1.23,2,-999.000,9,   -999.0,9,   -999.0,9, -999.00,     3.8,-999.0000,-999.000,-999.000,  8.6562,-999.000
     316N138_5,  P06W,   199,  1,     14,    513,2,19920716,1818,-30.0803, 172.5017, 2135,    696.5,   7.8197,  34.5478,2,  34.5545,2,    200.3,2,    202.7,2,    13.09,2,    22.90,2,     0.01,2,     1.65,2, -999.000,5, -999.000,5, -999.000,9,-999.0000,9,  -999.00,9,    -17.2,2,     1.25,2,-999.000,9,   -999.0,9,   -999.0,9, -999.00,     3.7,-999.0000,-999.000,-999.000,  7.7483,-999.000
     316N138_5,  P06W,   199,  1,     13,    125,2,19920716,1818,-30.0803, 172.5017, 2135,    797.3,   6.8039,  34.4647,2,  34.4661,2,    202.1,2,    203.8,2,    17.16,2,    24.90,2,     0.00,2,     1.80,2, -999.000,5, -999.000,5, -999.000,9,-999.0000,9,  -999.00,9,    -50.2,2,     1.21,2,-999.000,9,   -999.0,9,   -999.0,9, -999.00,     4.5,-999.0000,-999.000,-999.000,  6.7278,-999.000
     316N138_5,  P06W,   199,  1,     12,    112,2,19920716,1818,-30.0803, 172.5017, 2135,    899.8,   6.3149,  34.4802,2,  34.4779,2,    195.7,2,    195.4,2,    25.61,2,    26.46,2,     0.00,2,     1.91,2, -999.000,5, -999.000,5, -999.000,9,-999.0000,9,  -999.00,9,    -67.3,2,     1.11,2,-999.000,9,   -999.0,9,   -999.0,9, -999.00,     4.1,-999.0000,-999.000,-999.000,  6.2317,-999.000
     316N138_5,  P06W,   199,  1,     11,    129,2,19920716,1818,-30.0803, 172.5017, 2135,   1002.1,   5.6052,  34.4566,2,  34.4614,3,    188.5,2,    189.7,2,    33.57,2,    28.32,2,    -0.01,2,     2.02,2, -999.000,5, -999.000,5, -999.000,9,-999.0000,9,  -999.00,9,    -94.8,2,     0.93,2,-999.000,9,   -999.0,9,   -999.0,9, -999.00,     3.8,-999.0000,-999.000,-999.000,  5.5172,-999.000
     316N138_5,  P06W,   199,  1,     10,    110,3,19920716,1818,-30.0803, 172.5017, 2135,   1102.8,   4.8858,  34.4492,2,  34.4905,4,    181.0,2,    183.8,3,    40.59,4,    28.82,4,    -0.01,4,     2.06,4, -999.000,5, -999.000,5, -999.000,9,-999.0000,9,  -999.00,9,   -999.0,9,  -999.00,9,-999.000,9,   -999.0,9,   -999.0,9, -999.00,  -999.0,-999.0000,-999.000,-999.000,  4.7941,-999.000
     316N138_5,  P06W,   199,  1,      9,    126,2,19920716,1818,-30.0803, 172.5017, 2135,   1203.7,   4.4052,  34.4801,2,  34.4797,2,    176.0,2,    176.2,2,    54.06,2,    31.23,2,    -0.02,2,     2.24,2,    0.070,2,    0.039,2, -999.000,9,-999.0000,9,  -999.00,9,   -129.9,2,     0.77,2,-999.000,9,   -999.0,9,   -999.0,9, -999.00,     4.4,-999.0000,-999.000,-999.000,  4.3087,-999.000
     316N138_5,  P06W,   199,  1,      8,    108,2,19920716,1818,-30.0803, 172.5017, 2135,   1307.2,   4.0146,  34.4903,3,  34.5011,2,    170.9,2,    171.2,2,    63.23,2,    32.18,2,    -0.01,2,     2.30,2,    0.050,2,    0.034,2, -999.000,9,-999.0000,9,  -999.00,9,   -150.7,2,     0.70,2,-999.000,9,   -999.0,9,   -999.0,9, -999.00,     3.8,-999.0000,-999.000,-999.000,  3.9127,-999.000
     316N138_5,  P06W,   199,  1,      7,    107,2,19920716,1818,-30.0803, 172.5017, 2135,   1405.8,   3.7041,  34.5272,2,  34.5288,2,    165.5,2,    167.0,2,    72.28,2,    32.69,2,    -0.02,2,     2.34,2,    0.037,2,    0.019,2, -999.000,9,-999.0000,9,  -999.00,9,   -168.7,2,     0.60,2,-999.000,9,   -999.0,9,   -999.0,9, -999.00,     4.0,-999.0000,-999.000,-999.000,  3.5966,-999.000
     316N138_5,  P06W,   199,  1,      6,    180,2,19920716,1818,-30.0803, 172.5017, 2135,   1496.7,   3.4287,  34.5521,2,  34.5535,2,    162.8,2,    163.9,2,    80.06,2,    33.09,2,    -0.01,2,     2.38,2, -999.000,5, -999.000,5, -999.000,9,-999.0000,9,  -999.00,9,   -161.9,2,     0.54,2,-999.000,9,   -999.0,9,   -999.0,9, -999.00,     4.4,-999.0000,-999.000,-999.000,  3.3163,-999.000
     316N138_5,  P06W,   199,  1,      5,    131,2,19920716,1818,-30.0803, 172.5017, 2135,   1597.2,   3.1319,  34.5714,2,  34.5865,3,    160.6,2,    161.2,2,    87.65,2,    33.64,2,    -0.01,2,     2.42,2,    0.021,2,    0.011,2, -999.000,9,-999.0000,9,  -999.00,9,   -999.0,9,  -999.00,9,-999.000,9,   -999.0,9,   -999.0,9, -999.00,  -999.0,-999.0000,-999.000,-999.000,  3.0144,-999.000
     316N138_5,  P06W,   199,  1,      4,    516,3,19920716,1818,-30.0803, 172.5017, 2135,   1699.1,   2.9729,  34.5846,2,-999.0000,9,    158.2,2,    159.0,2,    91.64,4,    33.67,4,     0.00,4,     2.42,4, -999.000,5, -999.000,5, -999.000,9,-999.0000,9,  -999.00,9,   -999.0,9,  -999.00,9,-999.000,9,   -999.0,9,   -999.0,9, -999.00,  -999.0,-999.0000,-999.000,-999.000,  2.8485,-999.000
     316N138_5,  P06W,   199,  1,      3,    130,2,19920716,1818,-30.0803, 172.5017, 2135,   1801.4,   2.7474,  34.6066,2,  34.6020,2,    157.0,2,    157.7,2,    98.09,2,    34.26,2,     0.00,2,     2.46,2,    0.007,2,    0.006,2, -999.000,9,-999.0000,9,  -999.00,9,   -999.0,9,  -999.00,9,-999.000,9,   -999.0,9,   -999.0,9, -999.00,  -999.0,-999.0000,-999.000,-999.000,  2.6172,-999.000
     316N138_5,  P06W,   199,  1,      2,    136,2,19920716,1818,-30.0803, 172.5017, 2135,   2012.4,   2.4216,  34.6298,2,  34.6293,2,    154.5,2,    155.3,2,   107.42,2,    34.62,2,     0.00,2,     2.46,2, -999.000,5, -999.000,5, -999.000,9,-999.0000,9,  -999.00,9,   -999.0,9,  -999.00,9,-999.000,9,   -999.0,9,   -999.0,9, -999.00,  -999.0,-999.0000,-999.000,-999.000,  2.2777,-999.000
     316N138_5,  P06W,   199,  1,      1,    134,2,19920716,1818,-30.0803, 172.5017, 2135,   2148.3,   2.1774,  34.6481,2,  34.6500,2,    152.0,2,    153.9,2,   114.51,2,    34.92,2,     0.00,2,     2.47,2,   -0.001,2,    0.000,2, -999.000,9,-999.0000,9,  -999.00,9,   -999.0,9,  -999.00,9,-999.000,9,   -999.0,9,   -999.0,9, -999.00,  -999.0,-999.0000,-999.000,-999.000,  2.0254,-999.000
     316N138_5,  P06W,   200,  1,     24,    132,2,19920716,2229,-30.0840, 172.0007, 2767,      9.8,  17.6032,  35.5867,2,  35.5867,2,    231.8,2,    229.2,2,     0.89,2,     1.19,2,     0.31,2,     0.23,2,    2.406,2,    1.259,2,    0.813,2,   1.7760,2,    -1.26,2,   -999.0,9,  -999.00,9,-999.000,9,   2034.7,6,    364.2,2,   20.30,  -999.0,-999.0000,   0.150,-999.000, 17.6015,   0.005
     316N138_5,  P06W,   200,  1,     23,    123,2,19920716,2229,-30.0840, 172.0007, 2767,     52.2,  17.6043,  35.5864,2,  35.5859,2,    228.0,2,    228.8,2,     0.89,2,     1.24,2,     0.31,2,     0.24,2,    2.405,2,    1.262,2,    0.860,2,   1.8110,2,    -1.32,2,   -999.0,9,  -999.00,9,-999.000,9,   2035.0,2,    368.4,6,   20.30,  -999.0,-999.0000,   0.150,-999.000, 17.5954,   0.005
     316N138_5,  P06W,   200,  1,     22,    128,2,19920716,2229,-30.0840, 172.0007, 2767,    101.8,  17.6117,  35.5870,2,  35.5873,2,    227.7,2,    229.2,2,     0.89,2,     1.14,2,     0.31,2,     0.24,2,    2.429,2,    1.252,2, -999.000,5,   1.8060,2,    -1.29,2,   -999.0,9,  -999.00,9,-999.000,9,   2034.7,2,   -999.0,9, -999.00,  -999.0,-999.0000,   0.150,-999.000, 17.5944,-999.000
     316N138_5,  P06W,   200,  1,     21,    121,3,19920716,2229,-30.0840, 172.0007, 2767,    201.2,  16.1717,  35.4421,2,  35.4427,2,    211.6,2,    200.5,2,     2.21,2,     6.22,2,     0.01,2,     0.56,2,    2.170,2,    1.127,2,    0.613,2,   1.8210,2,    -0.74,2,   -999.0,9,  -999.00,9,-999.000,9,   2069.9,2,    460.1,2,   20.30,  -999.0,-999.0000,   0.150,-999.000, 16.1395,   0.004
     316N138_5,  P06W,   200,  1,     20,    515,2,19920716,2229,-30.0840, 172.0007, 2767,    301.9,  14.5380,  35.3062,2,  35.2990,2,    198.1,2,    196.7,2,     3.33,2,     9.11,2,     0.00,2,     0.75,2,    2.041,2,    1.063,2,    0.557,2,   1.8150,2,    -0.19,2,   -999.0,9,  -999.00,9,-999.000,9,   2089.0,2,   -999.0,9, -999.00,  -999.0,-999.0000,   0.150,-999.000, 14.4930,   0.004
     316N138_5,  P06W,   200,  1,     19,    120,2,19920716,2229,-30.0840, 172.0007, 2767,    401.6,  12.5949,  35.0907,2,  35.0951,2,    193.3,2,    192.9,2,     5.41,2,    13.09,2,     0.00,2,     0.99,2,    1.794,2,    0.901,2,    0.390,2,   1.8170,2,     0.29,2,   -999.0,9,  -999.00,9,-999.000,9,   2109.5,2,    594.6,2,   20.30,  -999.0,-999.0000,   0.150,-999.000, 12.5403,   0.003
     316N138_5,  P06W,   200,  1,     18,    118,2,19920716,2229,-30.0840, 172.0007, 2767,    501.0,  10.5734,  34.8599,2,  34.8599,2,    193.0,2,    192.5,2,     7.86,2,    17.45,2,     0.00,2,     1.25,2,    1.404,2,    0.717,2,    0.321,2,   1.8250,2,     0.98,2,   -999.0,9,  -999.00,9,-999.000,9,   2127.6,2,   -999.0,9, -999.00,  -999.0,-999.0000,   0.150,-999.000, 10.5124,   0.003
     316N138_5,  P06W,   200,  1,     17,    514,2,19920716,2229,-30.0840, 172.0007, 2767,    601.2,   9.4686,  34.7310,2,  34.7333,2,    196.1,2,    195.5,2,     9.57,2,    19.59,2,     0.00,2,     1.40,2,    1.183,2,    0.599,2,    0.208,2,   1.8160,2,     1.16,2,   -999.0,9,  -999.00,9,-999.000,9,   2135.9,2,    731.5,2,   20.30,  -999.0,-999.0000,   0.150,-999.000,  9.3999,   0.003
     316N138_5,  P06W,   200,  1,     16,    116,2,19920716,2229,-30.0840, 172.0007, 2767,    702.5,   8.1825,  34.5974,2,  34.5930,2,    200.3,2,    200.2,2,    11.94,2,    21.98,2,     0.00,2,     1.54,2,    0.871,2,    0.438,2,    0.206,2,   1.8510,2,     1.77,2,   -999.0,9,  -999.00,9,-999.000,9,   2144.6,2,   -999.0,9, -999.00,  -999.0,-999.0000,   0.150,-999.000,  8.1087,   0.003
     316N138_5,  P06W,   200,  1,     15,    115,2,19920716,2229,-30.0840, 172.0007, 2767,    798.2,   7.0290,  34.5000,2,  34.5007,2,    201.7,2,    199.9,2,    17.89,2,    25.03,2,     0.00,2,     1.76,2,    0.512,2,    0.270,2,    0.125,2,   1.8550,2,     2.67,2,   -999.0,9,  -999.00,9,-999.000,9,   2157.9,2,    862.2,6,   20.30,  -999.0,-999.0000,   0.150,-999.000,  6.9514,   0.005
     316N138_5,  P06W,   200,  1,     14,    513,2,19920716,2229,-30.0840, 172.0007, 2767,    898.1,   6.3075,  34.4689,2,  34.4689,2,    198.8,2,    195.6,2,    24.52,2,    26.98,2,     0.01,2,     1.89,2,    0.344,2,    0.179,2, -999.000,9,-999.0000,9,  -999.00,9,   -999.0,9,  -999.00,9,-999.000,9,   2170.6,2,   -999.0,9, -999.00,  -999.0,-999.0000,-999.000,-999.000,  6.2245,-999.000
     316N138_5,  P06W,   200,  1,     13,    125,2,19920716,2229,-30.0840, 172.0007, 2767,   1000.4,   5.7053,  34.4580,2,  34.4532,2,    192.5,2,    190.4,2,    30.95,2,    28.61,2,     0.02,2,     2.00,2,    0.210,2,    0.107,2,    0.056,2,   1.8720,2,     4.85,2,   -999.0,9,  -999.00,9,-999.000,9,   2183.3,2,    952.0,2,   20.30,  -999.0,-999.0000,   0.150,-999.000,  5.6168,   0.002
     316N138_5,  P06W,   200,  1,     12,    112,2,19920716,2229,-30.0840, 172.0007, 2767,   1099.6,   4.7711,  34.4549,2,  34.4565,2,    184.8,3,    179.7,2,    45.34,4,    31.03,4,     0.01,4,     2.18,4,    0.093,2,    0.045,2, -999.000,9,-999.0000,9,  -999.00,9,   -999.0,9,  -999.00,9,-999.000,9,   2207.3,6,   -999.0,9, -999.00,  -999.0,-999.0000,-999.000,-999.000,  4.6806,-999.000
     316N138_5,  P06W,   200,  1,     11,    129,2,19920716,2229,-30.0840, 172.0007, 2767,   1201.4,   4.4600,  34.4734,2,  34.4707,2,    179.3,2,    176.2,2,    51.79,2,    31.38,2,     0.01,2,     2.22,2,    0.074,2,    0.039,2,    0.020,2,   1.9000,2,     9.07,2,   -999.0,9,  -999.00,9,-999.000,9,   2217.1,2,   1058.3,2,   20.30,  -999.0,-999.0000,   0.150,-999.000,  4.3633,   0.002
     316N138_5,  P06W,   200,  1,     10,    110,2,19920716,2229,-30.0840, 172.0007, 2767,   1302.6,   3.8979,  34.5040,2,  34.5017,2,    170.7,2,    168.7,2,    65.23,2,    32.51,2,     0.01,2,     2.30,2,    0.038,2,    0.021,2, -999.000,9,-999.0000,9,  -999.00,9,   -999.0,9,  -999.00,9,-999.000,9,   2236.1,2,   -999.0,9, -999.00,  -999.0,-999.0000,-999.000,-999.000,  3.7974,-999.000
     316N138_5,  P06W,   200,  1,      9,    126,2,19920716,2229,-30.0840, 172.0007, 2767,   1403.1,   3.6120,  34.5276,2,  34.5266,2,    167.0,2,    165.2,2,    73.39,2,    32.93,2,    -0.01,2,     2.34,2,    0.029,2,    0.019,2, -999.000,9,-999.0000,9,  -999.00,9,   -999.0,9,  -999.00,9,-999.000,9,   2246.5,2,   1142.3,6,   20.30,  -999.0,-999.0000,-999.000,-999.000,  3.5058,-999.000
     316N138_5,  P06W,   200,  1,      8,    108,2,19920716,2229,-30.0840, 172.0007, 2767,   1504.8,   3.2144,  34.5662,2,  34.5677,2,    163.3,2,    161.4,2,    85.52,2,    33.37,2,    -0.01,2,     2.38,2,    0.018,2,    0.011,2,    0.003,2,   1.9390,2,    15.28,2,   -999.0,9,  -999.00,9,-999.000,9,   2261.8,2,   -999.0,9, -999.00,  -999.0,-999.0000,   0.150,-999.000,  3.1038,   0.002
     316N138_5,  P06W,   200,  1,      7,    107,2,19920716,2229,-30.0840, 172.0007, 2767,   1604.7,   2.9912,  34.5874,2,  34.5826,2,    160.1,2,    159.1,2,    91.59,2,    33.71,2,     0.00,2,     2.41,2,    0.014,2,    0.008,2, -999.000,9,-999.0000,9,  -999.00,9,   -999.0,9,  -999.00,9,-999.000,9,   2270.0,2,   1156.1,2,   20.30,  -999.0,-999.0000,-999.000,-999.000,  2.8746,-999.000
     316N138_5,  P06W,   200,  1,      6,    180,2,19920716,2229,-30.0840, 172.0007, 2767,   1796.4,   2.6881,  34.6078,2,  34.6077,2,    156.4,2,    157.2,2,   100.32,2,    34.15,2,     0.00,2,     2.43,2, -999.000,5, -999.000,5,   -0.002,2,   1.9510,2,    17.55,2,   -999.0,9,  -999.00,9,-999.000,9,   2281.3,2,   -999.0,9, -999.00,  -999.0,-999.0000,   0.150,-999.000,  2.5590,   0.002
     316N138_5,  P06W,   200,  1,      5,    131,2,19920716,2229,-30.0840, 172.0007, 2767,   2000.4,   2.4423,  34.6258,2,  34.6262,2,    155.1,2,    155.3,2,   107.16,2,    34.50,2,     0.00,2,     2.45,2,    0.006,2,    0.008,2,    0.000,2,   1.9510,2,    18.46,2,   -999.0,9,  -999.00,9,-999.000,9,   2288.9,2,   -999.0,9, -999.00,  -999.0,-999.0000,   0.150,-999.000,  2.2991,   0.002
     316N138_5,  P06W,   200,  1,      4,    516,2,19920716,2229,-30.0840, 172.0007, 2767,   2203.4,   2.1892,  34.6479,2,  34.6470,2,    154.1,2,    154.4,2,   113.79,2,    34.72,2,     0.00,2,     2.46,2,    0.018,4,    0.024,4, -999.000,9,-999.0000,9,  -999.00,9,   -999.0,9,  -999.00,9,-999.000,9,   2296.2,2,   1179.1,2,   20.30,  -999.0,-999.0000,-999.000,-999.000,  2.0322,-999.000
     316N138_5,  P06W,   200,  1,      3,    130,2,19920716,2229,-30.0840, 172.0007, 2767,   2408.3,   2.0074,  34.6618,2,  34.6612,2,    154.0,2,    153.8,2,   119.31,2,    34.98,2,     0.00,2,     2.47,2, -999.000,5, -999.000,5, -999.000,9,-999.0000,9,  -999.00,9,   -999.0,9,  -999.00,9,-999.000,9,   2303.4,2,   -999.0,9, -999.00,  -999.0,-999.0000,-999.000,-999.000,  1.8353,-999.000
     316N138_5,  P06W,   200,  1,      2,    136,2,19920716,2229,-30.0840, 172.0007, 2767,   2598.7,   1.9493,  34.6666,2,  34.6684,2,    153.9,2,    153.8,2,   121.03,2,    35.01,2,     0.00,2,     2.47,2,    0.003,2,    0.002,2, -999.000,9,-999.0000,9,  -999.00,9,   -999.0,9,  -999.00,9,-999.000,9,   2305.2,2,   -999.0,9, -999.00,  -999.0,-999.0000,-999.000,-999.000,  1.7609,-999.000
     316N138_5,  P06W,   200,  1,      1,    134,2,19920716,2229,-30.0840, 172.0007, 2767,   2803.7,   1.9016,  34.6725,2,  34.6722,2,    152.8,2,    154.5,2,   122.38,2,    35.20,2,     0.00,2,     2.46,2,   -0.001,6,    0.001,6, -999.000,9,-999.0000,9,  -999.00,9,   -999.0,9,  -999.00,9,-999.000,9,   2306.2,6,   1217.0,6,   20.30,  -999.0,-999.0000,-999.000,-999.000,  1.6949,-999.000