BOTTLE,20020809WHPSIObren
#code : jjward hyd_to_exchange.pl 
#original files copied from HTML directory: 20020809
#original HYD file: /whpo/11/HOTS/BOTTLE/hot23/hot23.sea   Fri Aug  9 09:51:30 2002
#original SUM file: /whpo/11/HOTS/BOTTLE/hot23/hot23.sum   Fri Aug  9 13:30:35 2002
EXPOCODE,SECT_ID,STNNBR,CASTNO,SAMPNO,BTLNBR,BTLNBR_FLAG_W,DATE,TIME,LATITUDE,LONGITUDE,DEPTH,CTDPRS,CTDTMP,CTDSAL,CTDSAL_FLAG_W,SALNTY,SALNTY_FLAG_W,CTDOXY,CTDOXY_FLAG_W,OXYGEN,OXYGEN_FLAG_W,SILCAT,SILCAT_FLAG_W,NO2+NO3,NO2+NO3_FLAG_W,PHSPHT,PHSPHT_FLAG_W,CTDRAW,REVTMP,REVPRS,THETA
,,,,,,,,,,,,DBAR,ITS-90,PSS-78,,PSS-78,,UMOL/KG,,UMOL/KG,,UMOL/KG,,UMOL/KG,,UMOL/KG,,,DEG C,DBAR,ITS-90
     32MW023_1,  PRS2,     1,  1,     19,     19,2,19910201,2340, 21.3400,-158.2833, 1500,      6.1,  24.4330,  34.8600,2,  34.8581,2,    248.9,2,    209.1,2,     0.95,2,     0.00,2,     0.11,2,      5,-999.000,  -999.0, 24.4317
     32MW023_1,  PRS2,     1,  1,     18,     18,2,19910201,2340, 21.3400,-158.2833, 1500,     24.4,  24.3062,  34.8592,2,  34.8566,2,    245.4,2,    209.3,2,     0.95,2,     0.00,2,     0.11,2,     24,-999.000,  -999.0, 24.3010
     32MW023_1,  PRS2,     1,  1,     17,     17,2,19910201,2340, 21.3400,-158.2833, 1500,     46.7,  24.3028,  34.8598,2,  34.8576,2,    266.8,2,   -999.0,5,     1.05,2,     0.00,2,     0.11,2,     45,-999.000,  -999.0, 24.2929
     32MW023_1,  PRS2,     1,  1,     16,     16,2,19910201,2340, 21.3400,-158.2833, 1500,     62.3,  24.2091,  34.9110,2,  34.9080,2,    226.1,2,    210.8,2,     0.95,2,     0.00,2,     0.10,2,     60,-999.000,  -999.0, 24.1959
     32MW023_1,  PRS2,     1,  1,     15,     15,2,19910201,2340, 21.3400,-158.2833, 1500,     78.0,  23.6438,  34.9978,2,  34.9950,2,    212.9,2,    209.6,2,     0.95,2,     0.00,2,     0.10,2,     76,-999.000,  -999.0, 23.6276
     32MW023_1,  PRS2,     1,  1,     14,     14,3,19910201,2340, 21.3400,-158.2833, 1500,    100.8,  22.3861,  35.0826,2,  35.0809,2,    204.9,2,    204.8,2,     1.04,2,     0.46,2,     0.15,2,     99,-999.000,  -999.0, 22.3659
     32MW023_1,  PRS2,     1,  1,     13,     13,2,19910201,2340, 21.3400,-158.2833, 1500,    109.0,  22.0196,  35.0882,2,  35.0864,2,    203.6,2,    202.5,2,     0.76,2,     0.62,2,     0.16,2,    107,-999.000,  -999.0, 21.9980
     32MW023_1,  PRS2,     1,  1,     12,     12,2,19910201,2340, 21.3400,-158.2833, 1500,    121.8,  21.4863,  35.1031,2,  35.1002,2,    201.9,2,    200.2,2,     1.14,2,     0.87,2,     0.17,2,    117,-999.000,  -999.0, 21.4626
     32MW023_1,  PRS2,     1,  1,     11,     11,2,19910201,2340, 21.3400,-158.2833, 1500,    129.5,  21.2858,  35.1052,2,  35.1032,2,    200.5,2,    200.3,2,     1.33,2,     1.00,2,     0.18,2,    125,-999.000,  -999.0, 21.2608
     32MW023_1,  PRS2,     1,  1,     10,     10,2,19910201,2340, 21.3400,-158.2833, 1500,    154.2,  19.9758,  35.0650,2,  35.0642,2,    193.6,2,    193.7,2,     1.71,2,     1.76,2,     0.25,2,    151,-999.000,  -999.0, 19.9473
     32MW023_1,  PRS2,     1,  1,      9,      9,2,19910201,2340, 21.3400,-158.2833, 1500,    177.9,  18.3359,  34.9818,2,  34.9827,2,    188.4,2,    193.9,2,     2.66,2,     3.00,2,     0.30,2,    174,-999.000,  -999.0, 18.3050
     32MW023_1,  PRS2,     1,  1,      8,      8,2,19910201,2340, 21.3400,-158.2833, 1500,    204.9,  17.4930,  34.8916,2,  34.8920,2,    195.4,2,    194.9,2,     3.22,2,     3.73,2,     0.34,2,    201,-999.000,  -999.0, 17.4586
     32MW023_1,  PRS2,     1,  1,      7,      7,2,19910201,2340, 21.3400,-158.2833, 1500,    232.2,  16.1340,  34.7045,2,  34.7090,2,    192.6,2,    192.8,2,     4.93,2,     5.35,2,     0.47,2,    227,-999.000,  -999.0, 16.0971
     32MW023_1,  PRS2,     1,  1,      6,      6,2,19910201,2340, 21.3400,-158.2833, 1500,    257.8,  13.7325,  34.4167,2,  34.4183,2,    190.9,2,    192.1,2,     7.98,2,     8.65,2,     0.70,2,    250,-999.000,  -999.0, 13.6958
     32MW023_1,  PRS2,     1,  1,      5,     26,3,19910201,2340, 21.3400,-158.2833, 1500,    308.2,  11.3983,  34.2269,2,  34.2253,2,    196.9,2,    192.2,2,    14.06,2,    12.84,2,     1.01,2,    303,-999.000,  -999.0, 11.3596
     32MW023_1,  PRS2,     1,  1,      4,      4,2,19910201,2340, 21.3400,-158.2833, 1500,    407.7,   7.7427,  34.0962,2,  34.0942,2,    120.4,2,    124.2,2,    41.42,2,    27.31,2,     1.98,2,    398,-999.000,  -999.0,  7.7023
     32MW023_1,  PRS2,     1,  1,      3,      3,2,19910201,2340, 21.3400,-158.2833, 1500,    507.3,   6.7189,  34.2051,2,  34.2009,2,     59.4,2,     56.0,2,    59.46,2,    35.01,2,     2.62,2,    499,-999.000,  -999.0,  6.6720
     32MW023_1,  PRS2,     1,  1,      2,      2,2,19910201,2340, 21.3400,-158.2833, 1500,    749.5,   4.9716,  34.4252,2,  34.4245,2,     32.6,2,     33.2,2,    90.80,2,    40.96,2,     3.00,2,    741,-999.000,  -999.0,  4.9108
     32MW023_1,  PRS2,     1,  1,      1,      1,2,19910201,2340, 21.3400,-158.2833, 1500,   1013.4,   4.0594,  34.5106,2,  34.5121,2,     52.5,2,     52.9,2,   108.45,2,    41.56,2,     3.03,2,   1002,-999.000,  -999.0,  3.9822
     32MW023_1,  PRS2,     2,  1,     23,     23,3,19910202,1934, 22.7400,-157.9450, 4750,     15.0,  23.1582,  35.1481,2,  35.1453,2,    254.1,2,    212.2,2,     0.57,2,     0.00,2,     0.07,2,     16,-999.000,  -999.0, 23.1552
     32MW023_1,  PRS2,     2,  1,     22,     22,2,19910202,1934, 22.7400,-157.9450, 4750,    119.4,  21.4687,  35.1949,2,  35.2052,2,    209.5,2,    203.7,2,     1.52,2,     0.54,2,     0.11,2,    119,-999.000,  -999.0, 21.4455
     32MW023_1,  PRS2,     2,  1,     21,     21,2,19910202,1934, 22.7400,-157.9450, 4750,    553.8,   6.2126,  34.0683,2,  34.0674,2,     84.8,2,     89.1,2,    60.42,2,    33.39,2,     2.37,2,    551,-999.000,  -999.0,  6.1635
     32MW023_1,  PRS2,     2,  1,     20,     20,2,19910202,1934, 22.7400,-157.9450, 4750,   1021.1,   3.8546,  34.4751,2,  34.4748,2,     45.8,2,     43.9,2,   113.86,2,    42.04,2,     3.00,2,   1018,-999.000,  -999.0,  3.7784
     32MW023_1,  PRS2,     2,  1,     19,     19,2,19910202,1934, 22.7400,-157.9450, 4750,   1214.2,   3.4014,  34.5267,2,  34.5255,2,     55.5,2,     54.3,2,   124.03,2,    41.23,2,     2.96,2,   1214,-999.000,  -999.0,  3.3132
     32MW023_1,  PRS2,     2,  1,     18,     18,2,19910202,1934, 22.7400,-157.9450, 4750,   1420.1,   2.9067,  34.5678,2,  34.5665,2,     67.7,2,     64.1,2,   133.52,2,    41.09,2,     2.93,2,   1418,-999.000,  -999.0,  2.8066
     32MW023_1,  PRS2,     2,  1,     17,     17,2,19910202,1934, 22.7400,-157.9450, 4750,   1615.4,   2.5668,  34.5856,2,  34.5839,2,     75.0,2,     72.8,2,   142.05,2,    40.28,2,     2.88,2,   1613,-999.000,  -999.0,  2.4546
     32MW023_1,  PRS2,     2,  1,     16,     16,2,19910202,1934, 22.7400,-157.9450, 4750,   1817.9,   2.2561,  34.6117,2,  34.6121,2,     83.6,2,     83.4,2,   148.70,2,    40.28,2,     2.83,2,   1816,-999.000,  -999.0,  2.1312
     32MW023_1,  PRS2,     2,  1,     15,     15,3,19910202,1934, 22.7400,-157.9450, 4750,   2037.5,   2.0286,  34.6239,2,  34.6262,2,    -14.3,2,     89.5,2,   154.21,2,    40.00,2,     2.81,2,   2036,-999.000,  -999.0,  1.8886
     32MW023_1,  PRS2,     2,  1,     14,     14,2,19910202,1934, 22.7400,-157.9450, 4750,   2168.3,   1.9079,  34.6308,2,  34.6307,2,     95.2,2,     94.0,2,   155.35,2,    39.19,2,     2.78,2,   2165,-999.000,  -999.0,  1.7587
     32MW023_1,  PRS2,     2,  1,     13,     13,2,19910202,1934, 22.7400,-157.9450, 4750,   2400.7,   1.7714,  34.6470,2,  34.6468,2,    101.7,2,    103.8,2,   157.25,2,    39.06,2,     2.75,2,   2400,-999.000,  -999.0,  1.6042
     32MW023_1,  PRS2,     2,  1,     12,     12,2,19910202,1934, 22.7400,-157.9450, 4750,   2606.7,   1.6695,  34.6568,2,  34.6573,2,    107.1,2,    111.0,2,   158.76,2,    38.52,2,     2.70,2,   2605,-999.000,  -999.0,  1.4858
     32MW023_1,  PRS2,     2,  1,     11,     11,2,19910202,1934, 22.7400,-157.9450, 4750,   2810.7,   1.5843,  34.6642,2,  34.6653,2,    114.1,2,    118.5,2,   161.61,2,    38.11,2,     2.66,2,   2809,-999.000,  -999.0,  1.3836
     32MW023_1,  PRS2,     2,  1,     10,     10,2,19910202,1934, 22.7400,-157.9450, 4750,   3010.3,   1.5254,  34.6706,2,  34.6708,2,    121.7,2,    126.3,2,   158.29,2,    37.78,2,     2.61,2,   3009,-999.000,  -999.0,  1.3071
     32MW023_1,  PRS2,     2,  1,      9,      9,2,19910202,1934, 22.7400,-157.9450, 4750,   3188.8,   1.4907,  34.6753,2,  34.6751,2,    127.4,2,    132.3,2,   156.30,2,    37.03,2,     2.59,2,   3188,-999.000,  -999.0,  1.2559
     32MW023_1,  PRS2,     2,  1,      8,      8,2,19910202,1934, 22.7400,-157.9450, 4750,   3400.4,   1.4664,  34.6801,2,  34.6801,2,    132.9,2,    138.3,2,   154.96,2,    36.62,2,     2.56,2,   3400,-999.000,  -999.0,  1.2112
     32MW023_1,  PRS2,     2,  1,      7,      7,2,19910202,1934, 22.7400,-157.9450, 4750,   3588.2,   1.4506,  34.6829,2,  34.6846,2,    139.3,2,    142.7,2,   153.44,2,    36.36,2,     2.53,2,   3587,-999.000,  -999.0,  1.1766
     32MW023_1,  PRS2,     2,  1,      6,      6,2,19910202,1934, 22.7400,-157.9450, 4750,   3789.4,   1.4479,  34.6853,2,  34.6854,2,    144.0,2,    145.9,2,   152.12,2,    36.49,2,     2.52,2,   3788,-999.000,  -999.0,  1.1531
     32MW023_1,  PRS2,     2,  1,      5,     26,2,19910202,1934, 22.7400,-157.9450, 4750,   3999.3,   1.4523,  34.6869,2,  34.6875,2,    148.1,2,    148.9,2,   151.55,2,    36.36,2,     2.50,2,   3998,-999.000,  -999.0,  1.1348
     32MW023_1,  PRS2,     2,  1,      4,      4,2,19910202,1934, 22.7400,-157.9450, 4750,   4173.0,   1.4615,  34.6880,2,  34.6882,2,    151.5,2,    150.3,2,   150.21,2,    36.22,2,     2.49,2,   4172,-999.000,  -999.0,  1.1247
     32MW023_1,  PRS2,     2,  1,      3,      3,2,19910202,1934, 22.7400,-157.9450, 4750,   4395.8,   1.4783,  34.6887,2,  34.6895,2,    154.7,2,    151.4,2,   149.93,2,    36.02,2,     2.49,2,   4394,-999.000,  -999.0,  1.1159
     32MW023_1,  PRS2,     2,  1,      2,      2,2,19910202,1934, 22.7400,-157.9450, 4750,   4519.8,   1.4899,  34.6892,2,  34.6886,2,    157.1,2,    151.9,2,   150.21,2,    35.95,2,     2.48,2,   4520,-999.000,  -999.0,  1.1129
     32MW023_1,  PRS2,     2,  1,      1,      1,2,19910202,1934, 22.7400,-157.9450, 4750,   4638.3,   1.4992,  34.6896,2,  34.6888,2,    158.8,2,    152.7,2,   149.26,2,    35.67,2,     2.48,2,   4636,-999.000,  -999.0,  1.1082
     32MW023_1,  PRS2,     2,  2,     23,     23,3,19910203,0317, 22.7500,-158.0000, 4750,     12.6,  23.3312,  35.1053,2,  35.1052,2,    269.4,2,    217.4,2,     0.95,2,     0.00,2,     0.07,2,     10,-999.000,  -999.0, 23.3286
     32MW023_1,  PRS2,     2,  2,     22,     22,2,19910203,0317, 22.7500,-158.0000, 4750,     53.4,  22.9389,  35.1934,2,  35.1932,2,    243.4,2,    215.1,2,     0.76,2,     0.00,2,     0.06,2,     51,-999.000,  -999.0, 22.9280
     32MW023_1,  PRS2,     2,  2,     21,     21,2,19910203,0317, 22.7500,-158.0000, 4750,     85.4,  22.7094,  35.2269,2,  35.2275,2,    231.7,2,    213.2,2,     0.76,2,     0.00,2,     0.06,2,     83,-999.000,  -999.0, 22.6921
     32MW023_1,  PRS2,     2,  2,     20,     20,3,19910203,0317, 22.7500,-158.0000, 4750,    110.1,  22.6944,  35.2276,2,  35.2292,2,    230.6,2,    213.0,2,     0.57,2,     0.00,2,     0.06,2,    107,-999.000,  -999.0, 22.6721
     32MW023_1,  PRS2,     2,  2,     19,     19,2,19910203,0317, 22.7500,-158.0000, 4750,    138.4,  21.2464,  35.1778,2,  35.1748,2,    215.0,2,    200.6,2,     1.33,2,     0.89,2,     0.14,2,    134,-999.000,  -999.0, 21.2197
     32MW023_1,  PRS2,     2,  2,     18,     18,2,19910203,0317, 22.7500,-158.0000, 4750,    209.2,  17.4064,  34.8977,2,  34.8918,2,    200.2,2,    198.4,2,     3.32,2,     3.40,2,     0.30,2,    201,-999.000,  -999.0, 17.3713
     32MW023_1,  PRS2,     2,  2,     17,     17,2,19910203,0317, 22.7500,-158.0000, 4750,    243.4,  15.6809,  34.6733,2,  34.6724,2,    199.2,2,    199.2,2,     4.75,2,     5.22,2,     0.43,2,    237,-999.000,  -999.0, 15.6430
     32MW023_1,  PRS2,     2,  2,     16,     16,4,19910203,0317, 22.7500,-158.0000, 4750,    342.4,  11.9071,  34.3085,2,  34.3098,2,    216.3,2,    213.6,2,    11.39,2,    10.82,2,     0.79,2,    335,-999.000,  -999.0, 11.8627
     32MW023_1,  PRS2,     2,  2,     15,     15,3,19910203,0317, 22.7500,-158.0000, 4750,    374.5,  10.8218,  34.2295,2,  34.2362,2,    219.3,2,    215.3,2,    14.43,2,    12.87,2,     0.94,2,    369,-999.000,  -999.0, 10.7761
     32MW023_1,  PRS2,     2,  2,     14,     14,4,19910203,0317, 22.7500,-158.0000, 4750,    407.8,  10.0591,  34.1680,2,  34.1650,2,    211.2,2,    207.3,2,    18.24,2,    14.74,2,     1.09,2,    402,-999.000,  -999.0, 10.0116
     32MW023_1,  PRS2,     2,  2,     13,     13,4,19910203,0317, 22.7500,-158.0000, 4750,    424.6,   9.4768,  34.1276,2,  34.1254,2,    200.6,2,    196.5,2,    21.66,2,    17.31,2,     1.25,2,    417,-999.000,  -999.0,  9.4291
     32MW023_1,  PRS2,     2,  2,     12,     12,4,19910203,0317, 22.7500,-158.0000, 4750,    470.1,   7.9129,  34.0697,2,  34.0661,2,    155.3,2,    149.9,2,    37.43,2,    24.61,2,     1.77,2,    462,-999.000,  -999.0,  7.8654
     32MW023_1,  PRS2,     2,  2,     11,     11,4,19910203,0317, 22.7500,-158.0000, 4750,    531.2,   6.5406,  34.0579,2,  34.0556,2,    109.7,2,    104.3,2,    55.77,2,    31.37,2,     2.29,2,    525,-999.000,  -999.0,  6.4923
     32MW023_1,  PRS2,     2,  2,     10,     10,3,19910203,0317, 22.7500,-158.0000, 4750,    585.1,   5.8356,  34.0882,2,  34.0869,2,     71.1,2,     69.2,2,    68.59,2,    35.83,2,     2.65,2,    576,-999.000,  -999.0,  5.7853
     32MW023_1,  PRS2,     2,  2,      9,      9,2,19910203,0317, 22.7500,-158.0000, 4750,    642.3,   5.3607,  34.1400,2,  34.1376,2,     48.6,2,     46.0,2,    78.46,2,    38.26,2,     2.83,2,    636,-999.000,  -999.0,  5.3074
     32MW023_1,  PRS2,     2,  2,      8,      8,3,19910203,0317, 22.7500,-158.0000, 4750,    708.0,   4.9918,  34.2281,2,  34.2269,2,     31.3,2,     30.8,2,    89.47,2,    40.15,2,     2.99,2,    700,-999.000,  -999.0,  4.9346
     32MW023_1,  PRS2,     2,  2,      7,      7,2,19910203,0317, 22.7500,-158.0000, 4750,    756.5,   4.7863,  34.2779,2,  34.2779,2,     34.8,2,     33.0,2,    93.85,2,    41.10,2,     3.00,2,    747,-999.000,  -999.0,  4.7261
     32MW023_1,  PRS2,     2,  2,      6,      6,3,19910203,0317, 22.7500,-158.0000, 4750,    793.4,   4.6240,  34.3091,2,  34.3050,2,     33.7,2,     31.7,2,    97.45,2,    41.23,2,     3.02,2,    784,-999.000,  -999.0,  4.5616
     32MW023_1,  PRS2,     2,  2,      5,     26,2,19910203,0317, 22.7500,-158.0000, 4750,    817.6,   4.4378,  34.3202,2,  34.3177,2,     32.6,2,     32.6,2,   101.25,2,    41.10,2,     3.03,2,    807,-999.000,  -999.0,  4.3746
     32MW023_1,  PRS2,     2,  2,      4,      4,2,19910203,0317, 22.7500,-158.0000, 4750,    855.3,   4.2421,  34.3652,2,  34.3641,2,     33.7,2,     33.2,2,   105.61,2,    40.96,2,     3.05,2,    845,-999.000,  -999.0,  4.1770
     32MW023_1,  PRS2,     2,  2,      3,      3,2,19910203,0317, 22.7500,-158.0000, 4750,    889.3,   4.2072,  34.4086,2,  34.4095,2,     36.0,2,     36.0,2,   106.94,2,    40.96,2,     3.05,2,    879,-999.000,  -999.0,  4.1394
     32MW023_1,  PRS2,     2,  2,      2,      2,2,19910203,0317, 22.7500,-158.0000, 4750,    997.4,   3.9837,  34.4814,2,  34.4824,2,     43.2,2,     44.4,2,   110.73,2,    41.09,2,     3.03,2,    985,-999.000,  -999.0,  3.9085
     32MW023_1,  PRS2,     2,  2,      1,      1,2,19910203,0317, 22.7500,-158.0000, 4750,   1066.6,   3.7820,  34.5005,2,  34.5008,2,     61.5,2,     47.6,2,   115.76,2,    41.97,2,     3.03,2,   1057,   3.804,  1079.0,  3.7026