BOTTLE,20020809WHPSIObren
EXPOCODE,SECT_ID,STNNBR,CASTNO,SAMPNO,BTLNBR,BTLNBR_FLAG_W,DATE,TIME,LATITUDE,LONGITUDE,DEPTH,CTDPRS,CTDTMP,CTDSAL,CTDSAL_FLAG_W,SALNTY,SALNTY_FLAG_W,CTDOXY,CTDOXY_FLAG_W,OXYGEN,OXYGEN_FLAG_W,SILCAT,SILCAT_FLAG_W,NO2+NO3,NO2+NO3_FLAG_W,PHSPHT,PHSPHT_FLAG_W,CTDRAW,REVTMP,REVPRS,THETA
,,,,,,,,,,,,DBAR,ITS-90,PSS-78,,PSS-78,,UMOL/KG,,UMOL/KG,,UMOL/KG,,UMOL/KG,,UMOL/KG,,,DEG C,DBAR,ITS-90
     32MW023_1,  PRS2,     2,  3,     23,     23,2,19910203,0656, 22.7467,-157.9983, 4750,      6.0,  23.5111,  35.0505,2,  35.0479,2,    253.6,2,    211.4,2,     0.76,2,     0.00,2,     0.09,2,      4,-999.000,  -999.0, 23.5098
     32MW023_1,  PRS2,     2,  3,     22,     22,2,19910203,0656, 22.7467,-157.9983, 4750,      6.2,  23.5147,  35.0495,2,  35.0468,2,    252.9,2,    211.4,2,  -999.00,5,  -999.00,5,  -999.00,5,      5,-999.000,  -999.0, 23.5134
     32MW023_1,  PRS2,     2,  3,     21,     21,2,19910203,0656, 22.7467,-157.9983, 4750,     16.2,  23.4915,  35.0653,2,  35.0639,2,    252.1,2,    211.6,2,  -999.00,5,  -999.00,5,  -999.00,5,     15,-999.000,  -999.0, 23.4881
     32MW023_1,  PRS2,     2,  3,     20,     20,2,19910203,0656, 22.7467,-157.9983, 4750,     26.1,  23.4471,  35.0790,2,  35.0581,4,    251.3,3,    211.7,2,     0.76,2,     0.00,2,     0.07,2,     24,-999.000,  -999.0, 23.4417
     32MW023_1,  PRS2,     2,  3,     19,     19,2,19910203,0656, 22.7467,-157.9983, 4750,     26.2,  23.4754,  35.0699,2,  35.0630,2,    250.7,2,    211.4,2,  -999.00,5,  -999.00,5,  -999.00,5,     24,-999.000,  -999.0, 23.4699
     32MW023_1,  PRS2,     2,  3,     18,     18,2,19910203,0656, 22.7467,-157.9983, 4750,     36.0,  23.3892,  35.0914,2,  35.0886,2,    248.7,2,    211.6,2,     0.76,2,     0.00,2,     0.07,2,     34,-999.000,  -999.0, 23.3817
     32MW023_1,  PRS2,     2,  3,     17,     17,2,19910203,0656, 22.7467,-157.9983, 4750,     49.6,  23.2021,  35.1363,2,  35.1391,2,    243.0,2,    212.3,2,     0.76,2,     0.00,2,     0.07,2,     47,-999.000,  -999.0, 23.1920
     32MW023_1,  PRS2,     2,  3,     16,     16,2,19910203,0656, 22.7467,-157.9983, 4750,     62.1,  22.9808,  35.1849,2,  35.1794,2,    240.9,2,    213.5,2,     0.95,2,     0.00,2,     0.07,2,     60,-999.000,  -999.0, 22.9681
     32MW023_1,  PRS2,     2,  3,     15,     15,2,19910203,0656, 22.7467,-157.9983, 4750,     75.6,  22.7927,  35.2201,2,  35.2188,2,    230.9,2,    213.7,2,     0.76,2,     0.00,2,     0.06,2,     72,-999.000,  -999.0, 22.7773
     32MW023_1,  PRS2,     2,  3,     14,     14,2,19910203,0656, 22.7467,-157.9983, 4750,     88.4,  22.7174,  35.2281,2,  35.2271,2,    228.0,2,    213.5,2,     0.57,2,     0.00,2,     0.06,2,     86,-999.000,  -999.0, 22.6996
     32MW023_1,  PRS2,     2,  3,     13,     13,2,19910203,0656, 22.7467,-157.9983, 4750,     99.1,  22.7006,  35.2290,2,  35.2291,2,    228.7,2,    213.1,2,     0.76,2,     0.00,2,     0.06,2,     96,-999.000,  -999.0, 22.6806
     32MW023_1,  PRS2,     2,  3,     12,     12,2,19910203,0656, 22.7467,-157.9983, 4750,    107.3,  22.7024,  35.2299,2,  35.2296,2,    228.4,2,    211.9,2,     0.57,2,     0.00,2,     0.06,2,    104,-999.000,  -999.0, 22.6807
     32MW023_1,  PRS2,     2,  3,     11,     11,2,19910203,0656, 22.7467,-157.9983, 4750,    118.2,  22.6888,  35.2290,2,  35.2292,2,    224.8,2,    212.8,2,     0.76,2,     0.03,2,     0.04,2,    115,-999.000,  -999.0, 22.6649
     32MW023_1,  PRS2,     2,  3,     10,     10,2,19910203,0656, 22.7467,-157.9983, 4750,    128.5,  22.5685,  35.2305,2,  35.2357,2,    223.9,2,    213.4,2,     0.57,2,     0.06,2,     0.06,2,    124,-999.000,  -999.0, 22.5426
     32MW023_1,  PRS2,     2,  3,      9,      9,2,19910203,0656, 22.7467,-157.9983, 4750,    139.0,  20.8086,  35.1668,2,  35.1696,2,    196.7,2,    200.1,2,     1.52,2,     1.04,2,     0.17,2,    134,-999.000,  -999.0, 20.7821
     32MW023_1,  PRS2,     2,  3,      8,      8,2,19910203,0656, 22.7467,-157.9983, 4750,    154.8,  20.2929,  35.1502,2,  35.1534,2,    194.8,2,    201.7,2,     2.09,2,     1.41,2,     0.18,2,    151,-999.000,  -999.0, 20.2639
     32MW023_1,  PRS2,     2,  3,      7,      7,2,19910203,0656, 22.7467,-157.9983, 4750,    168.0,  19.7796,  35.1342,2,  35.1357,2,    203.2,2,    199.9,2,  -999.00,5,  -999.00,5,  -999.00,5,    163,-999.000,  -999.0, 19.7488
     32MW023_1,  PRS2,     2,  3,      6,      6,2,19910203,0656, 22.7467,-157.9983, 4750,    182.3,  18.7453,  35.0502,2,  35.0607,2,    198.9,2,    198.2,2,     2.66,2,     2.22,2,     0.25,2,    176,-999.000,  -999.0, 18.7130
     32MW023_1,  PRS2,     2,  3,      5,     26,2,19910203,0656, 22.7467,-157.9983, 4750,    190.4,  18.5153,  35.0249,2,  35.0269,2,    199.0,2,    208.3,2,  -999.00,5,  -999.00,5,  -999.00,5,    185,-999.000,  -999.0, 18.4820
     32MW023_1,  PRS2,     2,  3,      4,      4,4,19910203,0656, 22.7467,-157.9983, 4750,    207.7,  17.9282,  34.9578,2,-999.0000,5,    198.3,2,   -999.0,5,  -999.00,5,  -999.00,5,  -999.00,5,    201,-999.000,  -999.0, 17.8927
     32MW023_1,  PRS2,     2,  3,      3,      3,4,19910203,0656, 22.7467,-157.9983, 4750,    220.0,  17.5715,  34.9163,2,-999.0000,5,    199.3,2,   -999.0,5,  -999.00,5,  -999.00,5,  -999.00,5,    213,-999.000,  -999.0, 17.5343
     32MW023_1,  PRS2,     2,  3,      2,      2,2,19910203,0656, 22.7467,-157.9983, 4750,    554.5,   6.3314,  34.0551,2,  34.0561,2,     99.8,2,   -999.0,5,  -999.00,5,  -999.00,5,  -999.00,5,    544,-999.000,  -999.0,  6.2817
     32MW023_1,  PRS2,     2,  3,      1,      1,2,19910203,0656, 22.7467,-157.9983, 4750,   1013.2,   3.8843,  34.4928,2,  34.4944,2,     44.3,2,   -999.0,5,  -999.00,5,  -999.00,5,  -999.00,5,   1002,   3.903,  1027.8,  3.8085
     32MW023_1,  PRS2,     2,  4,     18,     18,2,19910203,1057, 22.7183,-157.9900, 4750,    141.1,  20.0250,  35.1433,2,  35.1407,2,    204.4,2,   -999.0,5,  -999.00,5,  -999.00,5,  -999.00,5,    136,-999.000,  -999.0, 19.9989
     32MW023_1,  PRS2,     2,  4,     17,     17,2,19910203,1057, 22.7183,-157.9900, 4750,    209.8,  16.0623,  34.7255,2,  34.7387,2,    200.0,2,    201.9,2,     4.27,2,     4.37,2,     0.38,2,    205,-999.000,  -999.0, 16.0291
     32MW023_1,  PRS2,     2,  4,     16,     16,2,19910203,1057, 22.7183,-157.9900, 4750,    217.8,  15.2791,  34.6233,2,  34.6219,2,    197.7,2,    202.3,2,  -999.00,5,  -999.00,5,  -999.00,5,    212,-999.000,  -999.0, 15.2458
     32MW023_1,  PRS2,     2,  4,     15,     15,2,19910203,1057, 22.7183,-157.9900, 4750,    229.1,  14.3025,  34.5060,2,  34.5116,2,    202.7,2,    203.9,2,     6.64,2,     6.70,2,     0.54,2,    223,-999.000,  -999.0, 14.2690
     32MW023_1,  PRS2,     2,  4,     14,     14,2,19910203,1057, 22.7183,-157.9900, 4750,    244.5,  13.7250,  34.4433,2,  34.4420,2,    201.1,2,    206.5,2,  -999.00,5,  -999.00,5,  -999.00,5,    239,-999.000,  -999.0, 13.6902
     32MW023_1,  PRS2,     2,  4,     13,     13,2,19910203,1057, 22.7183,-157.9900, 4750,    259.5,  13.0663,  34.3847,2,  34.3908,2,    205.5,2,    209.5,2,     8.55,2,     8.52,2,     0.66,2,    253,-999.000,  -999.0, 13.0306
     32MW023_1,  PRS2,     2,  4,     12,     12,2,19910203,1057, 22.7183,-157.9900, 4750,    283.6,  12.5183,  34.3410,2,  34.3480,2,    208.4,2,    211.5,2,     9.69,2,     9.46,2,     0.73,2,    279,-999.000,  -999.0, 12.4804
     32MW023_1,  PRS2,     2,  4,     11,     11,2,19910203,1057, 22.7183,-157.9900, 4750,    310.0,  12.0634,  34.3135,2,  34.3106,2,    212.3,2,    213.4,2,    10.64,2,    10.51,2,     0.79,2,    304,-999.000,  -999.0, 12.0230
     32MW023_1,  PRS2,     2,  4,     10,     10,2,19910203,1057, 22.7183,-157.9900, 4750,    339.5,  11.0988,  34.2488,2,  34.2523,2,    217.5,2,    215.5,2,    13.30,2,    12.12,2,     0.89,2,    333,-999.000,  -999.0, 11.0568
     32MW023_1,  PRS2,     2,  4,      9,      9,2,19910203,1057, 22.7183,-157.9900, 4750,    357.0,  10.7367,  34.2202,2,  34.2178,2,    217.1,2,    214.3,2,    14.81,2,    13.79,2,     0.99,2,    350,-999.000,  -999.0, 10.6935
     32MW023_1,  PRS2,     2,  4,      8,      8,2,19910203,1057, 22.7183,-157.9900, 4750,    410.3,   9.9727,  34.1591,2,  34.1580,2,    207.6,2,    206.4,2,    18.24,2,    15.96,2,     1.13,2,    403,-999.000,  -999.0,  9.9251
     32MW023_1,  PRS2,     2,  4,      7,      7,2,19910203,1057, 22.7183,-157.9900, 4750,    493.9,   7.7682,  34.0663,2,  34.0664,2,    148.3,2,    146.0,2,    38.19,2,    25.96,2,     1.83,2,    486,-999.000,  -999.0,  7.7188
     32MW023_1,  PRS2,     2,  4,      6,      6,2,19910203,1057, 22.7183,-157.9900, 4750,    552.0,   6.7801,  34.0556,2,  34.0545,2,    117.2,2,   -999.0,5,  -999.00,5,  -999.00,5,  -999.00,5,    544,-999.000,  -999.0,  6.7288
     32MW023_1,  PRS2,     2,  4,      5,     26,2,19910203,1057, 22.7183,-157.9900, 4750,    612.3,   5.6387,  34.1037,2,  34.1057,2,     60.7,2,     59.1,2,    71.82,2,    37.19,2,     2.70,2,    603,-999.000,  -999.0,  5.5868
     32MW023_1,  PRS2,     2,  4,      4,     25,2,19910203,1057, 22.7183,-157.9900, 4750,    702.3,   5.0205,  34.2216,2,  34.2185,2,     35.5,2,     34.7,2,    87.96,2,    40.96,2,     2.95,2,    694,-999.000,  -999.0,  4.9637
     32MW023_1,  PRS2,     2,  4,      3,      3,2,19910203,1057, 22.7183,-157.9900, 4750,    810.0,   4.4543,  34.3173,2,  34.3169,2,     33.3,2,     32.1,2,   101.53,2,    41.84,2,     3.03,2,    800,-999.000,  -999.0,  4.3916
     32MW023_1,  PRS2,     2,  4,      2,      2,2,19910203,1057, 22.7183,-157.9900, 4750,    902.5,   4.1685,  34.4090,2,  34.4071,2,     37.0,2,     36.3,2,   107.89,2,    41.63,2,     3.05,2,    893,-999.000,  -999.0,  4.0998
     32MW023_1,  PRS2,     2,  4,      1,      1,2,19910203,1057, 22.7183,-157.9900, 4750,    984.2,   4.0075,  34.4705,2,  34.4701,2,     43.0,2,     42.1,2,   111.68,2,    41.49,2,     3.03,2,    974,-999.000,  -999.0,  3.9332
     32MW023_1,  PRS2,     2,  5,     15,     15,2,19910203,1418, 22.6983,-158.0067, 4750,      6.7,  23.5553,  35.0432,2,  35.0397,2,    276.3,1,   -999.0,9,  -999.00,9,  -999.00,9,  -999.00,9,      4,-999.000,  -999.0, 23.5539
     32MW023_1,  PRS2,     2,  5,     14,     14,2,19910203,1418, 22.6983,-158.0067, 4750,     26.5,  23.5604,  35.0446,2,  35.0407,2,    275.0,1,   -999.0,9,  -999.00,9,  -999.00,9,  -999.00,9,     24,-999.000,  -999.0, 23.5549
     32MW023_1,  PRS2,     2,  5,     13,     13,2,19910203,1418, 22.6983,-158.0067, 4750,     46.6,  23.5088,  35.0588,2,  35.0601,2,    245.4,1,   -999.0,9,  -999.00,9,  -999.00,9,  -999.00,9,     45,-999.000,  -999.0, 23.4991
     32MW023_1,  PRS2,     2,  5,     12,     12,2,19910203,1418, 22.6983,-158.0067, 4750,     79.6,  23.0452,  35.1533,2,  35.1498,2,    236.8,1,   -999.0,9,  -999.00,9,  -999.00,9,  -999.00,9,     78,-999.000,  -999.0, 23.0290
     32MW023_1,  PRS2,     2,  5,     11,     11,2,19910203,1418, 22.6983,-158.0067, 4750,    104.2,  22.6366,  35.2378,2,  35.2373,2,    226.8,1,   -999.0,9,  -999.00,9,  -999.00,9,  -999.00,9,    102,-999.000,  -999.0, 22.6156
     32MW023_1,  PRS2,     2,  5,     10,     10,2,19910203,1418, 22.6983,-158.0067, 4750,    113.5,  22.1955,  35.2270,2,  35.2432,3,    219.3,1,   -999.0,9,  -999.00,9,  -999.00,9,  -999.00,9,    111,-999.000,  -999.0, 22.1729
     32MW023_1,  PRS2,     2,  5,      9,      9,2,19910203,1418, 22.6983,-158.0067, 4750,    119.5,  21.8268,  35.2045,2,  35.2061,2,    218.4,1,   -999.0,9,  -999.00,9,  -999.00,9,  -999.00,9,    117,-999.000,  -999.0, 21.8033
     32MW023_1,  PRS2,     2,  5,      7,      7,2,19910203,1418, 22.6983,-158.0067, 4750,    130.5,  21.3259,  35.2023,2,  35.2070,2,    209.6,1,   -999.0,9,  -999.00,9,  -999.00,9,  -999.00,9,    127,-999.000,  -999.0, 21.3006
     32MW023_1,  PRS2,     2,  5,      8,      8,2,19910203,1418, 22.6983,-158.0067, 4750,    130.7,  21.4088,  35.2031,2,-999.0000,5,    210.4,1,   -999.0,9,  -999.00,9,  -999.00,9,  -999.00,9,    127,-999.000,  -999.0, 21.3835
     32MW023_1,  PRS2,     2,  5,      6,      6,2,19910203,1418, 22.6983,-158.0067, 4750,    162.4,  19.7554,  35.1341,2,  35.1339,2,    203.3,1,   -999.0,9,  -999.00,9,  -999.00,9,  -999.00,9,    157,-999.000,  -999.0, 19.7256
     32MW023_1,  PRS2,     2,  5,      4,     25,2,19910203,1418, 22.6983,-158.0067, 4750,    185.0,  18.7401,  35.0498,2,  34.4252,4,    198.3,1,   -999.0,9,  -999.00,9,  -999.00,9,  -999.00,9,    179,-999.000,  -999.0, 18.7074
     32MW023_1,  PRS2,     2,  5,      5,     26,2,19910203,1418, 22.6983,-158.0067, 4750,    185.5,  18.7075,  35.0462,2,-999.0000,5,    198.4,1,   -999.0,9,  -999.00,9,  -999.00,9,  -999.00,9,    180,-999.000,  -999.0, 18.6747
     32MW023_1,  PRS2,     2,  5,      2,      2,2,19910203,1418, 22.6983,-158.0067, 4750,    559.7,   6.7775,  34.0582,2,  34.0574,2,    115.8,1,   -999.0,9,  -999.00,9,  -999.00,9,  -999.00,9,    551,-999.000,  -999.0,  6.7255
     32MW023_1,  PRS2,     2,  5,      3,      3,2,19910203,1418, 22.6983,-158.0067, 4750,    560.7,   6.7547,  34.0564,2,-999.0000,5,    115.9,1,   -999.0,9,  -999.00,9,  -999.00,9,  -999.00,9,    553,-999.000,  -999.0,  6.7026
     32MW023_1,  PRS2,     2,  5,      1,      1,2,19910203,1418, 22.6983,-158.0067, 4750,   1018.0,   3.9281,  34.4856,2,  34.4848,2,     43.7,1,   -999.0,9,  -999.00,9,  -999.00,9,  -999.00,9,   1008,-999.000,  -999.0,  3.8516
     32MW023_1,  PRS2,     2,  6,     18,     18,2,19910204,0028, 22.7517,-158.0367, 4750,      6.9,  23.1736,  35.1522,2,-999.0000,5,    258.7,1,   -999.0,9,  -999.00,9,  -999.00,9,  -999.00,9,      6,-999.000,  -999.0, 23.1722
     32MW023_1,  PRS2,     2,  6,     17,     17,2,19910204,0028, 22.7517,-158.0367, 4750,      6.9,  23.1721,  35.1521,2,  35.1504,2,    258.5,1,   -999.0,9,  -999.00,9,  -999.00,9,  -999.00,9,      6,-999.000,  -999.0, 23.1707
     32MW023_1,  PRS2,     2,  6,     16,     16,2,19910204,0028, 22.7517,-158.0367, 4750,     26.6,  23.1374,  35.1496,2,-999.0000,5,    257.5,1,   -999.0,9,  -999.00,9,  -999.00,9,  -999.00,9,     25,-999.000,  -999.0, 23.1319
     32MW023_1,  PRS2,     2,  6,     15,     15,2,19910204,0028, 22.7517,-158.0367, 4750,     26.6,  23.1452,  35.1502,2,  35.1504,2,    257.3,1,   -999.0,9,  -999.00,9,  -999.00,9,  -999.00,9,     25,-999.000,  -999.0, 23.1398
     32MW023_1,  PRS2,     2,  6,     14,     14,2,19910204,0028, 22.7517,-158.0367, 4750,     46.5,  23.1264,  35.1507,2,  35.1512,2,    254.6,1,   -999.0,9,  -999.00,9,  -999.00,9,  -999.00,9,     45,-999.000,  -999.0, 23.1169
     32MW023_1,  PRS2,     2,  6,     13,     13,2,19910204,0028, 22.7517,-158.0367, 4750,     76.2,  23.0304,  35.1573,2,  35.1564,2,    233.1,1,   -999.0,9,  -999.00,9,  -999.00,9,  -999.00,9,     74,-999.000,  -999.0, 23.0148
     32MW023_1,  PRS2,     2,  6,     12,     12,2,19910204,0028, 22.7517,-158.0367, 4750,    105.7,  21.6186,  35.2045,2,-999.0000,5,    221.2,1,   -999.0,9,  -999.00,9,  -999.00,9,  -999.00,9,    103,-999.000,  -999.0, 21.5980
     32MW023_1,  PRS2,     2,  6,     11,     11,2,19910204,0028, 22.7517,-158.0367, 4750,    105.7,  21.6301,  35.2054,2,  35.2088,2,    220.7,1,   -999.0,9,  -999.00,9,  -999.00,9,  -999.00,9,    104,-999.000,  -999.0, 21.6094
     32MW023_1,  PRS2,     2,  6,     10,     10,2,19910204,0028, 22.7517,-158.0367, 4750,    129.7,  20.5188,  35.1554,2,  35.1574,2,    207.3,1,   -999.0,9,  -999.00,9,  -999.00,9,  -999.00,9,    126,-999.000,  -999.0, 20.4944
     32MW023_1,  PRS2,     2,  6,      8,      8,2,19910204,0028, 22.7517,-158.0367, 4750,    157.4,  18.9524,  35.0725,2,  35.0745,2,    204.3,1,   -999.0,9,  -999.00,9,  -999.00,9,  -999.00,9,    154,-999.000,  -999.0, 18.9244
     32MW023_1,  PRS2,     2,  6,      9,      9,2,19910204,0028, 22.7517,-158.0367, 4750,    158.0,  18.9430,  35.0707,2,-999.0000,5,    204.3,1,   -999.0,9,  -999.00,9,  -999.00,9,  -999.00,9,    154,-999.000,  -999.0, 18.9149
     32MW023_1,  PRS2,     2,  6,      6,      6,2,19910204,0028, 22.7517,-158.0367, 4750,    179.3,  17.8649,  34.9494,2,  34.9624,2,    201.0,1,   -999.0,9,  -999.00,9,  -999.00,9,  -999.00,9,    174,-999.000,  -999.0, 17.8342
     32MW023_1,  PRS2,     2,  6,      7,      7,2,19910204,0028, 22.7517,-158.0367, 4750,    179.8,  17.8284,  34.9470,2,-999.0000,5,    201.0,1,   -999.0,9,  -999.00,9,  -999.00,9,  -999.00,9,    175,-999.000,  -999.0, 17.7978
     32MW023_1,  PRS2,     2,  6,      5,     26,2,19910204,0028, 22.7517,-158.0367, 4750,    205.4,  16.9237,  34.8325,2,  34.8347,2,    202.7,1,   -999.0,9,  -999.00,9,  -999.00,9,  -999.00,9,    200,-999.000,  -999.0, 16.8899
     32MW023_1,  PRS2,     2,  6,      4,     25,2,19910204,0028, 22.7517,-158.0367, 4750,    264.0,  14.2021,  34.4941,2,  34.4958,2,    200.7,1,   -999.0,9,  -999.00,9,  -999.00,9,  -999.00,9,    257,-999.000,  -999.0, 14.1636
     32MW023_1,  PRS2,     2,  6,      3,      3,2,19910204,0028, 22.7517,-158.0367, 4750,    510.8,   6.9517,  34.0536,2,  34.0554,2,    126.0,1,   -999.0,9,  -999.00,9,  -999.00,9,  -999.00,9,    504,-999.000,  -999.0,  6.9037
     32MW023_1,  PRS2,     2,  6,      2,      2,2,19910204,0028, 22.7517,-158.0367, 4750,    771.8,   4.6596,  34.2947,2,  34.2984,2,     32.4,1,   -999.0,9,  -999.00,9,  -999.00,9,  -999.00,9,    763,-999.000,  -999.0,  4.5989
     32MW023_1,  PRS2,     2,  6,      1,      1,2,19910204,0028, 22.7517,-158.0367, 4750,   1043.9,   3.8640,  34.4942,2,  34.4966,2,     46.2,1,   -999.0,9,  -999.00,9,  -999.00,9,  -999.00,9,   1034,   3.893,  1057.2,  3.7857