BOTTLE,20020809WHPSIObren
EXPOCODE,SECT_ID,STNNBR,CASTNO,SAMPNO,BTLNBR,BTLNBR_FLAG_W,DATE,TIME,LATITUDE,LONGITUDE,DEPTH,CTDPRS,CTDTMP,CTDSAL,CTDSAL_FLAG_W,SALNTY,SALNTY_FLAG_W,CTDOXY,CTDOXY_FLAG_W,OXYGEN,OXYGEN_FLAG_W,SILCAT,SILCAT_FLAG_W,NO2+NO3,NO2+NO3_FLAG_W,PHSPHT,PHSPHT_FLAG_W,CTDRAW,REVTMP,REVPRS,THETA
,,,,,,,,,,,,DBAR,ITS-90,PSS-78,,PSS-78,,UMOL/KG,,UMOL/KG,,UMOL/KG,,UMOL/KG,,UMOL/KG,,,DEG C,DBAR,ITS-90
     32MW023_1,  PRS2,     5,  1,     18,     18,2,19910205,0103, 22.6567,-157.9300, -999,      9.3,  23.6721,  35.0454,2,  35.0428,2,    256.9,1,   -999.0,9,  -999.00,9,  -999.00,9,  -999.00,9,     10,-999.000,  -999.0, 23.6702
     32MW023_1,  PRS2,     5,  1,     17,     17,2,19910205,0103, 22.6567,-157.9300, -999,     19.4,  23.5924,  35.0555,2,-999.0000,5,    266.2,1,   -999.0,9,  -999.00,9,  -999.00,9,  -999.00,9,     19,-999.000,  -999.0, 23.5884
     32MW023_1,  PRS2,     5,  1,     16,     16,2,19910205,0103, 22.6567,-157.9300, -999,     39.8,  23.2330,  35.1187,2,-999.0000,5,    241.5,1,   -999.0,9,  -999.00,9,  -999.00,9,  -999.00,9,     41,-999.000,  -999.0, 23.2248
     32MW023_1,  PRS2,     5,  1,     15,     15,2,19910205,0103, 22.6567,-157.9300, -999,     80.3,  23.1474,  35.1353,2,-999.0000,5,    228.6,1,   -999.0,9,  -999.00,9,  -999.00,9,  -999.00,9,     80,-999.000,  -999.0, 23.1309
     32MW023_1,  PRS2,     5,  1,     14,     14,2,19910205,0103, 22.6567,-157.9300, -999,     91.4,  22.8385,  35.1865,2,-999.0000,5,    224.2,1,   -999.0,9,  -999.00,9,  -999.00,9,  -999.00,9,     91,-999.000,  -999.0, 22.8199
     32MW023_1,  PRS2,     5,  1,     13,     13,2,19910205,0103, 22.6567,-157.9300, -999,     91.4,  22.8045,  35.1902,2,-999.0000,5,    223.6,1,   -999.0,9,  -999.00,9,  -999.00,9,  -999.00,9,     91,-999.000,  -999.0, 22.7860
     32MW023_1,  PRS2,     5,  1,     11,     11,2,19910205,0103, 22.6567,-157.9300, -999,    101.1,  22.3835,  35.2309,2,-999.0000,5,    217.3,1,   -999.0,9,  -999.00,9,  -999.00,9,  -999.00,9,    101,-999.000,  -999.0, 22.3632
     32MW023_1,  PRS2,     5,  1,     12,     12,2,19910205,0103, 22.6567,-157.9300, -999,    101.7,  22.3730,  35.2307,2,-999.0000,5,    217.1,1,   -999.0,9,  -999.00,9,  -999.00,9,  -999.00,9,    101,-999.000,  -999.0, 22.3527
     32MW023_1,  PRS2,     5,  1,     10,     10,2,19910205,0103, 22.6567,-157.9300, -999,    109.9,  22.1522,  35.2420,2,-999.0000,5,    217.2,1,   -999.0,9,  -999.00,9,  -999.00,9,  -999.00,9,    108,-999.000,  -999.0, 22.1303
     32MW023_1,  PRS2,     5,  1,      9,      9,2,19910205,0103, 22.6567,-157.9300, -999,    110.2,  22.1378,  35.2425,2,-999.0000,5,    217.1,1,   -999.0,9,  -999.00,9,  -999.00,9,  -999.00,9,    108,-999.000,  -999.0, 22.1159
     32MW023_1,  PRS2,     5,  1,      8,      8,2,19910205,0103, 22.6567,-157.9300, -999,    116.6,  21.2400,  35.1816,2,  35.1845,2,    210.3,1,   -999.0,9,  -999.00,9,  -999.00,9,  -999.00,9,    116,-999.000,  -999.0, 21.2175
     32MW023_1,  PRS2,     5,  1,      7,      7,2,19910205,0103, 22.6567,-157.9300, -999,    122.0,  20.8205,  35.1669,2,-999.0000,5,    202.4,1,   -999.0,9,  -999.00,9,  -999.00,9,  -999.00,9,    120,-999.000,  -999.0, 20.7973
     32MW023_1,  PRS2,     5,  1,      6,      6,2,19910205,0103, 22.6567,-157.9300, -999,    132.3,  20.3816,  35.1595,2,-999.0000,5,    202.7,1,   -999.0,9,  -999.00,9,  -999.00,9,  -999.00,9,    131,-999.000,  -999.0, 20.3568
     32MW023_1,  PRS2,     5,  1,      5,     26,2,19910205,0103, 22.6567,-157.9300, -999,    141.0,  19.8763,  35.1494,2,-999.0000,5,    204.1,1,   -999.0,9,  -999.00,9,  -999.00,9,  -999.00,9,    139,-999.000,  -999.0, 19.8504
     32MW023_1,  PRS2,     5,  1,      4,     25,2,19910205,0103, 22.6567,-157.9300, -999,    179.0,  17.7521,  34.9361,2,-999.0000,5,    199.5,1,   -999.0,9,  -999.00,9,  -999.00,9,  -999.00,9,    177,-999.000,  -999.0, 17.7217
     32MW023_1,  PRS2,     5,  1,      3,      3,2,19910205,0103, 22.6567,-157.9300, -999,    202.8,  16.3948,  34.7648,2,-999.0000,5,    199.6,1,   -999.0,9,  -999.00,9,  -999.00,9,  -999.00,9,    200,-999.000,  -999.0, 16.3622
     32MW023_1,  PRS2,     5,  1,      2,      2,2,19910205,0103, 22.6567,-157.9300, -999,    537.2,   6.6762,  34.0589,2,  34.0574,2,    114.3,1,   -999.0,9,  -999.00,9,  -999.00,9,  -999.00,9,    532,-999.000,  -999.0,  6.6267
     32MW023_1,  PRS2,     5,  1,      1,      1,2,19910205,0103, 22.6567,-157.9300, -999,    940.7,   4.0381,  34.4574,2,  34.4599,2,     40.8,1,   -999.0,9,  -999.00,9,  -999.00,9,  -999.00,9,    933,-999.000,  -999.0,  3.9672
     32MW023_1,  PRS2,     6,  1,      5,     26,2,19910205,0552, 22.7500,-158.0000, -999,      5.3,  23.4409,  35.0880,2,  35.0881,2,    258.7,1,   -999.0,9,  -999.00,9,  -999.00,9,  -999.00,9,      3,-999.000,  -999.0, 23.4398
     32MW023_1,  PRS2,     6,  1,      4,     25,2,19910205,0552, 22.7500,-158.0000, -999,     49.5,  23.0047,  35.1737,2,  35.1752,2,    247.3,1,   -999.0,9,  -999.00,9,  -999.00,9,  -999.00,9,     47,-999.000,  -999.0, 22.9946
     32MW023_1,  PRS2,     6,  1,      3,      3,4,19910205,0552, 22.7500,-158.0000, -999,    129.2,  21.2596,  35.1968,2,-999.0000,5,    203.1,1,   -999.0,9,  -999.00,9,  -999.00,9,  -999.00,9,    127,-999.000,  -999.0, 21.2347
     32MW023_1,  PRS2,     6,  1,      2,      2,2,19910205,0552, 22.7500,-158.0000, -999,    516.3,   7.2620,  34.0586,2,  34.0580,2,    133.5,1,   -999.0,9,  -999.00,9,  -999.00,9,  -999.00,9,    507,-999.000,  -999.0,  7.2122
     32MW023_1,  PRS2,     6,  1,      1,      1,2,19910205,0552, 22.7500,-158.0000, -999,   1031.2,   3.8719,  34.4939,2,  34.4950,2,     45.4,1,   -999.0,9,  -999.00,9,  -999.00,9,  -999.00,9,   1019,-999.000,  -999.0,  3.7947
     32MW023_1,  PRS2,     7,  1,      7,      7,2,19910205,2319, 22.5000,-157.7517, 4810,     14.9,  23.8163,  34.9652,2,  34.9685,2,    260.4,1,   -999.0,9,  -999.00,9,  -999.00,9,  -999.00,9,     13,-999.000,  -999.0, 23.8132
     32MW023_1,  PRS2,     7,  1,      6,      6,2,19910205,2319, 22.5000,-157.7517, 4810,    131.9,  22.0063,  35.2059,2,  35.2193,2,    217.9,1,   -999.0,9,  -999.00,9,  -999.00,9,  -999.00,9,    129,-999.000,  -999.0, 21.9802
     32MW023_1,  PRS2,     7,  1,      5,     26,2,19910205,2319, 22.5000,-157.7517, 4810,    557.8,   6.1045,  34.0754,2,  34.0753,2,     82.1,1,   -999.0,9,  -999.00,9,  -999.00,9,  -999.00,9,    553,-999.000,  -999.0,  6.0555
     32MW023_1,  PRS2,     7,  1,      2,      2,2,19910205,2319, 22.5000,-157.7517, 4810,   1021.8,   3.8301,  34.4921,2,  34.4923,2,     47.2,1,   -999.0,9,  -999.00,9,  -999.00,9,  -999.00,9,   1017,-999.000,  -999.0,  3.7540
     32MW023_1,  PRS2,     7,  1,      3,      3,2,19910205,2319, 22.5000,-157.7517, 4810,   1025.2,   3.8215,  34.4923,2,-999.0000,5,     47.1,1,   -999.0,9,  -999.00,9,  -999.00,9,  -999.00,9,   1021,-999.000,  -999.0,  3.7451
     32MW023_1,  PRS2,     7,  1,      4,     25,2,19910205,2319, 22.5000,-157.7517, 4810,   1028.5,   3.8081,  34.4938,2,-999.0000,5,     47.1,1,   -999.0,9,  -999.00,9,  -999.00,9,  -999.00,9,   1024,-999.000,  -999.0,  3.7316
     32MW023_1,  PRS2,     7,  1,      1,      1,2,19910205,2319, 22.5000,-157.7517, 4810,   4613.4,   1.5004,  34.6879,2,  34.6889,2,    158.0,1,   -999.0,9,  -999.00,9,  -999.00,9,  -999.00,9,   4610,-999.000,  -999.0,  1.1123