BOTTLE,20020809WHPSIObren
EXPOCODE,SECT_ID,STNNBR,CASTNO,SAMPNO,BTLNBR,BTLNBR_FLAG_W,DATE,TIME,LATITUDE,LONGITUDE,DEPTH,CTDPRS,CTDTMP,CTDSAL,CTDSAL_FLAG_W,SALNTY,SALNTY_FLAG_W,CTDOXY,CTDOXY_FLAG_W,OXYGEN,OXYGEN_FLAG_W,SILCAT,SILCAT_FLAG_W,NO2+NO3,NO2+NO3_FLAG_W,PHSPHT,PHSPHT_FLAG_W,CTDRAW,REVTMP,REVPRS,THETA
,,,,,,,,,,,,DBAR,ITS-90,PSS-78,,PSS-78,,UMOL/KG,,UMOL/KG,,UMOL/KG,,UMOL/KG,,UMOL/KG,,,DEG C,DBAR,ITS-90
     32MW023_1,  PRS2,     2,  7,     23,     23,2,19910204,0351, 22.7567,-158.0200, 4500,      3.4,  23.1071,  35.1647,2,-999.0000,5,    242.4,1,   -999.0,9,  -999.00,9,  -999.00,9,  -999.00,9,      5,-999.000,  -999.0, 23.1064
     32MW023_1,  PRS2,     2,  7,     22,     22,2,19910204,0351, 22.7567,-158.0200, 4500,      3.4,  23.1169,  35.1670,2,  35.1694,2,    242.4,1,   -999.0,9,  -999.00,9,  -999.00,9,  -999.00,9,      3,-999.000,  -999.0, 23.1162
     32MW023_1,  PRS2,     2,  7,     21,     21,2,19910204,0351, 22.7567,-158.0200, 4500,     22.9,  23.0883,  35.1685,2,  35.1659,2,    242.6,1,   -999.0,9,  -999.00,9,  -999.00,9,  -999.00,9,     23,-999.000,  -999.0, 23.0836
     32MW023_1,  PRS2,     2,  7,     20,     20,2,19910204,0351, 22.7567,-158.0200, 4500,     23.0,  23.0850,  35.1671,2,  35.1658,2,    242.8,1,   -999.0,9,  -999.00,9,  -999.00,9,  -999.00,9,     22,-999.000,  -999.0, 23.0803
     32MW023_1,  PRS2,     2,  7,     19,     19,2,19910204,0351, 22.7567,-158.0200, 4500,     45.1,  23.0427,  35.1703,2,  35.1710,2,    243.1,1,   -999.0,9,  -999.00,9,  -999.00,9,  -999.00,9,     46,-999.000,  -999.0, 23.0335
     32MW023_1,  PRS2,     2,  7,     18,     18,2,19910204,0351, 22.7567,-158.0200, 4500,     76.0,  22.9083,  35.1893,2,  35.1896,2,    231.9,1,   -999.0,9,  -999.00,9,  -999.00,9,  -999.00,9,     75,-999.000,  -999.0, 22.8928
     32MW023_1,  PRS2,     2,  7,     16,     16,2,19910204,0351, 22.7567,-158.0200, 4500,    100.8,  22.5744,  35.2433,2,  35.2423,2,    228.6,1,   -999.0,9,  -999.00,9,  -999.00,9,  -999.00,9,    100,-999.000,  -999.0, 22.5541
     32MW023_1,  PRS2,     2,  7,     17,     17,2,19910204,0351, 22.7567,-158.0200, 4500,    100.9,  22.5802,  35.2434,2,  35.2422,2,    228.8,1,   -999.0,9,  -999.00,9,  -999.00,9,  -999.00,9,     99,-999.000,  -999.0, 22.5599
     32MW023_1,  PRS2,     2,  7,     15,     15,2,19910204,0351, 22.7567,-158.0200, 4500,    128.2,  20.6662,  35.1656,2,  35.1638,2,    205.1,1,   -999.0,9,  -999.00,9,  -999.00,9,  -999.00,9,    128,-999.000,  -999.0, 20.6420
     32MW023_1,  PRS2,     2,  7,     13,     13,2,19910204,0351, 22.7567,-158.0200, 4500,    157.2,  19.0242,  35.0762,2,-999.0000,5,    203.0,1,   -999.0,9,  -999.00,9,  -999.00,9,  -999.00,9,    157,-999.000,  -999.0, 18.9962
     32MW023_1,  PRS2,     2,  7,     14,     14,2,19910204,0351, 22.7567,-158.0200, 4500,    158.7,  18.8771,  35.0645,2,  35.0700,2,    203.2,1,   -999.0,9,  -999.00,9,  -999.00,9,  -999.00,9,    157,-999.000,  -999.0, 18.8490
     32MW023_1,  PRS2,     2,  7,     11,     11,2,19910204,0351, 22.7567,-158.0200, 4500,    182.4,  18.3683,  35.0114,2,  35.0095,2,    202.4,1,   -999.0,9,  -999.00,9,  -999.00,9,  -999.00,9,    180,-999.000,  -999.0, 18.3365
     32MW023_1,  PRS2,     2,  7,     12,     12,2,19910204,0351, 22.7567,-158.0200, 4500,    185.7,  18.3671,  35.0109,2,-999.0000,5,    202.4,1,   -999.0,9,  -999.00,9,  -999.00,9,  -999.00,9,    183,-999.000,  -999.0, 18.3347
     32MW023_1,  PRS2,     2,  7,     10,     10,2,19910204,0351, 22.7567,-158.0200, 4500,    200.4,  18.0018,  34.9674,2,-999.0000,5,    198.8,1,   -999.0,9,  -999.00,9,  -999.00,9,  -999.00,9,    196,-999.000,  -999.0, 17.9674
     32MW023_1,  PRS2,     2,  7,      9,      9,2,19910204,0351, 22.7567,-158.0200, 4500,    256.3,  15.1555,  34.6058,2,  34.6017,2,    201.5,1,   -999.0,9,  -999.00,9,  -999.00,9,  -999.00,9,    251,-999.000,  -999.0, 15.1164
     32MW023_1,  PRS2,     2,  7,      8,      8,2,19910204,0351, 22.7567,-158.0200, 4500,    502.6,   7.3789,  34.0610,2,  34.0594,2,    137.6,1,   -999.0,9,  -999.00,9,  -999.00,9,  -999.00,9,    495,-999.000,  -999.0,  7.3301
     32MW023_1,  PRS2,     2,  7,      7,      7,2,19910204,0351, 22.7567,-158.0200, 4500,    754.3,   4.7139,  34.2844,2,  34.2845,2,     34.6,1,   -999.0,9,  -999.00,9,  -999.00,9,  -999.00,9,    746,-999.000,  -999.0,  4.6544
     32MW023_1,  PRS2,     2,  7,      6,      6,2,19910204,0351, 22.7567,-158.0200, 4500,   1022.4,   3.9114,  34.4900,2,-999.0000,5,     44.8,1,   -999.0,9,  -999.00,9,  -999.00,9,  -999.00,9,   1012,-999.000,  -999.0,  3.8346
     32MW023_1,  PRS2,     2,  7,      3,      3,2,19910204,0351, 22.7567,-158.0200, 4500,   1022.4,   3.9074,  34.4906,2,-999.0000,5,     44.8,1,   -999.0,9,  -999.00,9,  -999.00,9,  -999.00,9,   1014,-999.000,  -999.0,  3.8306
     32MW023_1,  PRS2,     2,  7,      1,      1,2,19910204,0351, 22.7567,-158.0200, 4500,   1022.4,   3.9064,  34.4905,2,  34.4894,2,     44.9,1,   -999.0,9,  -999.00,9,  -999.00,9,  -999.00,9,   1013,   3.923,  1042.9,  3.8297
     32MW023_1,  PRS2,     2,  7,      5,     26,2,19910204,0351, 22.7567,-158.0200, 4500,   1022.5,   3.9092,  34.4907,2,-999.0000,5,     44.7,1,   -999.0,9,  -999.00,9,  -999.00,9,  -999.00,9,   1015,-999.000,  -999.0,  3.8324
     32MW023_1,  PRS2,     2,  7,      4,     25,2,19910204,0351, 22.7567,-158.0200, 4500,   1022.5,   3.9086,  34.4902,2,-999.0000,5,     44.8,1,   -999.0,9,  -999.00,9,  -999.00,9,  -999.00,9,   1015,-999.000,  -999.0,  3.8318
     32MW023_1,  PRS2,     2,  7,      2,      2,2,19910204,0351, 22.7567,-158.0200, 4500,   1022.5,   3.9068,  34.4904,2,-999.0000,5,     44.9,1,   -999.0,9,  -999.00,9,  -999.00,9,  -999.00,9,   1014,-999.000,  -999.0,  3.8300
     32MW023_1,  PRS2,     2,  8,     16,     16,2,19910204,0646, 22.7533,-157.9850, 4750,      8.0,  23.3894,  35.1399,2,  35.1389,2,    250.4,1,   -999.0,9,  -999.00,9,  -999.00,9,  -999.00,9,      6,-999.000,  -999.0, 23.3878
     32MW023_1,  PRS2,     2,  8,     17,     17,2,19910204,0646, 22.7533,-157.9850, 4750,      8.1,  23.3965,  35.1396,2,-999.0000,5,    251.0,1,   -999.0,9,  -999.00,9,  -999.00,9,  -999.00,9,      7,-999.000,  -999.0, 23.3948
     32MW023_1,  PRS2,     2,  8,     15,     15,2,19910204,0646, 22.7533,-157.9850, 4750,     27.3,  23.1784,  35.1406,2,  35.1428,2,    281.1,1,   -999.0,9,  -999.00,9,  -999.00,9,  -999.00,9,     25,-999.000,  -999.0, 23.1728
     32MW023_1,  PRS2,     2,  8,     14,     14,2,19910204,0646, 22.7533,-157.9850, 4750,     51.6,  23.0562,  35.1708,2,  35.1713,2,    239.8,1,   -999.0,9,  -999.00,9,  -999.00,9,  -999.00,9,     50,-999.000,  -999.0, 23.0457
     32MW023_1,  PRS2,     2,  8,     13,     13,2,19910204,0646, 22.7533,-157.9850, 4750,     79.4,  22.7864,  35.2200,2,  35.2227,2,    229.4,1,   -999.0,9,  -999.00,9,  -999.00,9,  -999.00,9,     76,-999.000,  -999.0, 22.7703
     32MW023_1,  PRS2,     2,  8,     12,     12,2,19910204,0646, 22.7533,-157.9850, 4750,     99.8,  22.7158,  35.2268,2,  35.2280,2,    226.6,1,   -999.0,9,  -999.00,9,  -999.00,9,  -999.00,9,     98,-999.000,  -999.0, 22.6956
     32MW023_1,  PRS2,     2,  8,     11,     11,2,19910204,0646, 22.7533,-157.9850, 4750,    125.1,  22.3893,  35.2271,2,  35.2300,2,    224.5,1,   -999.0,9,  -999.00,9,  -999.00,9,  -999.00,9,    123,-999.000,  -999.0, 22.3642
     32MW023_1,  PRS2,     2,  8,     10,     10,2,19910204,0646, 22.7533,-157.9850, 4750,    136.0,  21.0051,  35.2315,2,-999.0000,5,    205.5,1,   -999.0,9,  -999.00,9,  -999.00,9,  -999.00,9,    132,-999.000,  -999.0, 20.9791
     32MW023_1,  PRS2,     2,  8,      9,      9,2,19910204,0646, 22.7533,-157.9850, 4750,    136.3,  20.9883,  35.2333,2,-999.0000,5,    205.4,1,   -999.0,9,  -999.00,9,  -999.00,9,  -999.00,9,    133,-999.000,  -999.0, 20.9622
     32MW023_1,  PRS2,     2,  8,      8,      8,2,19910204,0646, 22.7533,-157.9850, 4750,    141.2,  20.2643,  35.1776,2,  35.1808,2,    200.5,1,   -999.0,9,  -999.00,9,  -999.00,9,  -999.00,9,    137,-999.000,  -999.0, 20.2380
     32MW023_1,  PRS2,     2,  8,      7,      7,2,19910204,0646, 22.7533,-157.9850, 4750,    151.5,  19.3891,  35.1093,2,  35.1278,2,    205.0,1,   -999.0,9,  -999.00,9,  -999.00,9,  -999.00,9,    148,-999.000,  -999.0, 19.3617
     32MW023_1,  PRS2,     2,  8,      6,      6,2,19910204,0646, 22.7533,-157.9850, 4750,    183.1,  18.6257,  35.0419,2,  35.0492,2,    199.1,1,   -999.0,9,  -999.00,9,  -999.00,9,  -999.00,9,    179,-999.000,  -999.0, 18.5935
     32MW023_1,  PRS2,     2,  8,      5,     26,2,19910204,0646, 22.7533,-157.9850, 4750,    257.4,  15.5048,  34.6489,2,  34.6524,2,    204.7,1,   -999.0,9,  -999.00,9,  -999.00,9,  -999.00,9,    251,-999.000,  -999.0, 15.4650
     32MW023_1,  PRS2,     2,  8,      4,     25,2,19910204,0646, 22.7533,-157.9850, 4750,    513.4,   7.2693,  34.0584,2,  34.0605,2,    133.5,1,   -999.0,9,  -999.00,9,  -999.00,9,  -999.00,9,    504,-999.000,  -999.0,  7.2199
     32MW023_1,  PRS2,     2,  8,      3,      3,2,19910204,0646, 22.7533,-157.9850, 4750,    549.5,   6.6179,  34.0611,2,  34.0621,2,    109.9,1,   -999.0,9,  -999.00,9,  -999.00,9,  -999.00,9,    540,-999.000,  -999.0,  6.5675
     32MW023_1,  PRS2,     2,  8,      2,      2,2,19910204,0646, 22.7533,-157.9850, 4750,    774.6,   4.5795,  34.3286,2,  34.3297,2,     31.7,1,   -999.0,9,  -999.00,9,  -999.00,9,  -999.00,9,    764,-999.000,  -999.0,  4.5189
     32MW023_1,  PRS2,     2,  8,      1,      1,2,19910204,0646, 22.7533,-157.9850, 4750,    962.3,   3.9644,  34.4690,2,  34.4727,2,     42.6,1,   -999.0,9,  -999.00,9,  -999.00,9,  -999.00,9,    951,   3.997,   981.8,  3.8922
     32MW023_1,  PRS2,     3,  1,     19,     19,2,19910204,1915, 22.5000,-157.7517, -999,      7.8,  23.7581,  34.9835,2,-999.0000,5,    265.7,1,   -999.0,9,  -999.00,9,  -999.00,9,  -999.00,9,      7,-999.000,  -999.0, 23.7565
     32MW023_1,  PRS2,     3,  1,     18,     18,2,19910204,1915, 22.5000,-157.7517, -999,      7.8,  23.7572,  34.9832,2,-999.0000,5,    265.6,1,   -999.0,9,  -999.00,9,  -999.00,9,  -999.00,9,      6,-999.000,  -999.0, 23.7556
     32MW023_1,  PRS2,     3,  1,     17,     17,2,19910204,1915, 22.5000,-157.7517, -999,      7.8,  23.7555,  34.9832,2,-999.0000,5,    265.5,1,   -999.0,9,  -999.00,9,  -999.00,9,  -999.00,9,      6,-999.000,  -999.0, 23.7539
     32MW023_1,  PRS2,     3,  1,     15,     15,2,19910204,1915, 22.5000,-157.7517, -999,      7.8,  23.7424,  34.9834,2,-999.0000,5,    265.4,1,   -999.0,9,  -999.00,9,  -999.00,9,  -999.00,9,      6,-999.000,  -999.0, 23.7408
     32MW023_1,  PRS2,     3,  1,     23,     23,2,19910204,1915, 22.5000,-157.7517, -999,      7.9,  23.7476,  34.9846,2,-999.0000,5,    266.1,1,   -999.0,9,  -999.00,9,  -999.00,9,  -999.00,9,      6,-999.000,  -999.0, 23.7460
     32MW023_1,  PRS2,     3,  1,     21,     21,2,19910204,1915, 22.5000,-157.7517, -999,      7.9,  23.7489,  34.9843,2,-999.0000,5,    265.9,1,   -999.0,9,  -999.00,9,  -999.00,9,  -999.00,9,      7,-999.000,  -999.0, 23.7472
     32MW023_1,  PRS2,     3,  1,     20,     20,2,19910204,1915, 22.5000,-157.7517, -999,      7.9,  23.7530,  34.9837,2,-999.0000,5,    265.8,1,   -999.0,9,  -999.00,9,  -999.00,9,  -999.00,9,      7,-999.000,  -999.0, 23.7513
     32MW023_1,  PRS2,     3,  1,     16,     16,2,19910204,1915, 22.5000,-157.7517, -999,      7.9,  23.7435,  34.9836,2,-999.0000,5,    265.4,1,   -999.0,9,  -999.00,9,  -999.00,9,  -999.00,9,      7,-999.000,  -999.0, 23.7419
     32MW023_1,  PRS2,     3,  1,     14,     14,2,19910204,1915, 22.5000,-157.7517, -999,      7.9,  23.7431,  34.9836,2,-999.0000,5,    265.3,1,   -999.0,9,  -999.00,9,  -999.00,9,  -999.00,9,      6,-999.000,  -999.0, 23.7414
     32MW023_1,  PRS2,     3,  1,      7,      7,2,19910204,1915, 22.5000,-157.7517, -999,      7.9,  23.7469,  34.9824,2,-999.0000,5,    265.1,1,   -999.0,9,  -999.00,9,  -999.00,9,  -999.00,9,      5,-999.000,  -999.0, 23.7452
     32MW023_1,  PRS2,     3,  1,     22,     22,2,19910204,1915, 22.5000,-157.7517, -999,      8.0,  23.7476,  34.9843,2,-999.0000,5,    266.0,1,   -999.0,9,  -999.00,9,  -999.00,9,  -999.00,9,      7,-999.000,  -999.0, 23.7460
     32MW023_1,  PRS2,     3,  1,     13,     13,2,19910204,1915, 22.5000,-157.7517, -999,      8.0,  23.7464,  34.9831,2,-999.0000,5,    265.2,1,   -999.0,9,  -999.00,9,  -999.00,9,  -999.00,9,      6,-999.000,  -999.0, 23.7447
     32MW023_1,  PRS2,     3,  1,      6,      6,2,19910204,1915, 22.5000,-157.7517, -999,      8.0,  23.7467,  34.9819,2,-999.0000,5,    265.1,1,   -999.0,9,  -999.00,9,  -999.00,9,  -999.00,9,      5,-999.000,  -999.0, 23.7451
     32MW023_1,  PRS2,     3,  1,     12,     12,2,19910204,1915, 22.5000,-157.7517, -999,      8.1,  23.7441,  34.9833,2,-999.0000,5,    265.2,1,   -999.0,9,  -999.00,9,  -999.00,9,  -999.00,9,      6,-999.000,  -999.0, 23.7424
     32MW023_1,  PRS2,     3,  1,     11,     11,2,19910204,1915, 22.5000,-157.7517, -999,      8.1,  23.7436,  34.9830,2,-999.0000,5,    265.1,1,   -999.0,9,  -999.00,9,  -999.00,9,  -999.00,9,      6,-999.000,  -999.0, 23.7419
     32MW023_1,  PRS2,     3,  1,     10,     10,2,19910204,1915, 22.5000,-157.7517, -999,      8.1,  23.7439,  34.9829,2,-999.0000,5,    265.0,1,   -999.0,9,  -999.00,9,  -999.00,9,  -999.00,9,      6,-999.000,  -999.0, 23.7422
     32MW023_1,  PRS2,     3,  1,      9,      9,2,19910204,1915, 22.5000,-157.7517, -999,      8.1,  23.7489,  34.9825,2,-999.0000,5,    265.0,1,   -999.0,9,  -999.00,9,  -999.00,9,  -999.00,9,      6,-999.000,  -999.0, 23.7472
     32MW023_1,  PRS2,     3,  1,      8,      8,2,19910204,1915, 22.5000,-157.7517, -999,      8.1,  23.7503,  34.9822,2,-999.0000,5,    265.1,1,   -999.0,9,  -999.00,9,  -999.00,9,  -999.00,9,      5,-999.000,  -999.0, 23.7486
     32MW023_1,  PRS2,     3,  1,      5,     26,2,19910204,1915, 22.5000,-157.7517, -999,      8.1,  23.7421,  34.9824,2,  34.9866,2,    265.2,1,   -999.0,9,  -999.00,9,  -999.00,9,  -999.00,9,      4,-999.000,  -999.0, 23.7404
     32MW023_1,  PRS2,     3,  1,      4,     25,2,19910204,1915, 22.5000,-157.7517, -999,    108.9,  22.5804,  35.2885,2,  35.2898,2,    226.3,1,   -999.0,9,  -999.00,9,  -999.00,9,  -999.00,9,    104,-999.000,  -999.0, 22.5585
     32MW023_1,  PRS2,     3,  1,      3,      3,2,19910204,1915, 22.5000,-157.7517, -999,    503.4,   7.5176,  34.1216,2,  34.1236,2,    103.2,1,   -999.0,9,  -999.00,9,  -999.00,9,  -999.00,9,    494,-999.000,  -999.0,  7.4681
     32MW023_1,  PRS2,     3,  1,      2,      2,2,19910204,1915, 22.5000,-157.7517, -999,    523.6,   7.0196,  34.0946,2,-999.0000,5,     95.2,1,   -999.0,9,  -999.00,9,  -999.00,9,  -999.00,9,    514,-999.000,  -999.0,  6.9701
     32MW023_1,  PRS2,     3,  1,      1,      1,2,19910204,1915, 22.5000,-157.7517, -999,   1018.2,   3.9023,  34.4685,2,  34.4707,2,     46.9,1,   -999.0,9,  -999.00,9,  -999.00,9,  -999.00,9,   1007,   3.914,  1022.1,  3.8259
     32MW023_1,  PRS2,     4,  1,      7,      7,2,19910204,2204, 22.5967,-157.8417, -999,     19.7,  23.6958,  35.0332,2,  35.0328,2,    263.0,1,   -999.0,9,  -999.00,9,  -999.00,9,  -999.00,9,     19,-999.000,  -999.0, 23.6917
     32MW023_1,  PRS2,     4,  1,      4,     25,2,19910204,2204, 22.5967,-157.8417, -999,    136.5,  22.0142,  35.2294,2,  35.2308,2,    215.5,1,   -999.0,9,  -999.00,9,  -999.00,9,  -999.00,9,    134,-999.000,  -999.0, 21.9872
     32MW023_1,  PRS2,     4,  1,      5,     26,2,19910204,2204, 22.5967,-157.8417, -999,    137.8,  21.8852,  35.2376,2,-999.0000,5,    215.8,1,   -999.0,9,  -999.00,9,  -999.00,9,  -999.00,9,    135,-999.000,  -999.0, 21.8581
     32MW023_1,  PRS2,     4,  1,      6,      6,2,19910204,2204, 22.5967,-157.8417, -999,    139.2,  21.7451,  35.2407,2,-999.0000,5,    216.0,1,   -999.0,9,  -999.00,9,  -999.00,9,  -999.00,9,    137,-999.000,  -999.0, 21.7178
     32MW023_1,  PRS2,     4,  1,      3,      3,2,19910204,2204, 22.5967,-157.8417, -999,    141.5,  21.4716,  35.2308,2,-999.0000,5,    214.1,1,   -999.0,9,  -999.00,9,  -999.00,9,  -999.00,9,    137,-999.000,  -999.0, 21.4441
     32MW023_1,  PRS2,     4,  1,      2,      2,2,19910204,2204, 22.5967,-157.8417, -999,    525.5,   6.7888,  34.0524,2,  34.0518,2,    110.6,1,   -999.0,9,  -999.00,9,  -999.00,9,  -999.00,9,    517,-999.000,  -999.0,  6.7400
     32MW023_1,  PRS2,     4,  1,      1,      1,2,19910204,2204, 22.5967,-157.8417, -999,   1004.9,   3.8113,  34.4853,2,  34.4857,2,     46.3,1,   -999.0,9,  -999.00,9,  -999.00,9,  -999.00,9,    994,   3.834,  1027.2,  3.7367