BOTTLE,20011018WHPSIOKJU
#code : jjward hyd_to_exchange.pl 
#original files copied from HTML directory: 20011018
#original HYD file: bottle   Thu Oct 18 13:38:52 2001
#original SUM file: pr17_bsu.txt.tmp   Thu Oct 18 13:39:46 2001
EXPOCODE,SECT_ID,STNNBR,CASTNO,SAMPNO,BTLNBR,BTLNBR_FLAG_W,DATE,TIME,LATITUDE,LONGITUDE,DEPTH,CTDPRS,CTDTMP,CTDSAL,CTDSAL_FLAG_W,SALNTY,SALNTY_FLAG_W,OXYGEN,OXYGEN_FLAG_W,NITRAT,NITRAT_FLAG_W,NITRIT,NITRIT_FLAG_W,PHSPHT,PHSPHT_FLAG_W
,,,,,,,,,,,,DBAR,ITS-90,PSS-78,,PSS-78,,UMOL/KG,,UMOL/KG,,UMOL/KG,,UMOL/KG,
    49SU9104_2,  PR17,SH4453,  2,      9,   -999,5,19910503,1256, 31.1697, 131.5077,  271,     10.1,  22.4320,  34.6418,3,  34.6382,3,    217.0,3,     0.00,3,     0.01,3,     0.04,3
    49SU9104_2,  PR17,SH4453,  2,      8,   -999,5,19910503,1256, 31.1697, 131.5077,  271,     25.4,  22.4050,  34.6363,3,  34.6353,3,    218.0,3,     0.00,3,     0.01,3,     0.05,3
    49SU9104_2,  PR17,SH4453,  2,      7,   -999,5,19910503,1256, 31.1697, 131.5077,  271,     50.4,  20.2490,  34.5165,3,  34.9075,3,    224.0,3,     0.30,3,     0.05,3,     0.07,3
    49SU9104_2,  PR17,SH4453,  2,      6,   -999,5,19910503,1256, 31.1697, 131.5077,  271,     76.8,  19.6260,  34.5094,3,  34.5082,3,    223.0,3,     1.10,3,     0.15,3,     0.11,3
    49SU9104_2,  PR17,SH4453,  2,      5,   -999,5,19910503,1256, 31.1697, 131.5077,  271,    101.3,  18.7070,  34.5552,3,  34.5800,3,    188.0,3,     7.40,3,     0.03,3,     0.43,3
    49SU9104_2,  PR17,SH4453,  2,      4,   -999,5,19910503,1256, 31.1697, 131.5077,  271,    125.8,  17.5830,  34.5691,3,  34.5671,3,    189.0,3,     7.00,3,     0.03,3,     0.41,3
    49SU9104_2,  PR17,SH4453,  2,      3,   -999,5,19910503,1256, 31.1697, 131.5077,  271,    150.6,  17.2140,  34.5820,3,  34.5765,3,    186.0,3,     7.40,3,     0.03,3,     0.43,3
    49SU9104_2,  PR17,SH4453,  2,      2,   -999,5,19910503,1256, 31.1697, 131.5077,  271,    199.5,  14.2260,  34.5358,3,  34.5325,3,    177.0,3,    12.40,3,     0.02,3,     0.75,3
    49SU9104_2,  PR17,SH4453,  2,      1,   -999,5,19910503,1256, 31.1697, 131.5077,  271,    234.4,  12.7920,  34.4821,3,  34.4811,3,    169.0,3,    15.20,3,     0.01,3,     0.91,3
    49SU9104_2,  PR17,SH4454,  2,      9,   -999,5,19910503,1525, 31.0085, 131.7277, 1428,    403.9,   9.7940,  34.3626,3,-999.0000,9,    145.0,3,    22.60,3,     0.01,3,     1.46,3
    49SU9104_2,  PR17,SH4454,  2,      8,   -999,5,19910503,1525, 31.0085, 131.7277, 1428,    506.1,   6.5630,  34.2584,3,-999.0000,9,    103.0,3,    31.60,3,     0.00,3,     2.16,3
    49SU9104_2,  PR17,SH4454,  2,      7,   -999,5,19910503,1525, 31.0085, 131.7277, 1428,    605.0,   5.3580,  34.2787,3,-999.0000,9,     88.0,3,    34.30,3,     0.00,3,     2.41,3
    49SU9104_2,  PR17,SH4454,  2,      6,   -999,5,19910503,1525, 31.0085, 131.7277, 1428,    705.8,   4.4330,  34.3292,3,-999.0000,9,     73.0,3,    37.70,3,     0.01,3,     2.65,3
    49SU9104_2,  PR17,SH4454,  2,      5,   -999,5,19910503,1525, 31.0085, 131.7277, 1428,    807.2,   3.8820,  34.3816,3,-999.0000,9,     73.0,3,    38.90,3,     0.01,3,     2.74,3
    49SU9104_2,  PR17,SH4454,  2,      4,   -999,5,19910503,1525, 31.0085, 131.7277, 1428,   1008.7,   3.2500,  34.4460,3,-999.0000,9,     79.0,3,    39.40,3,     0.01,3,     2.76,3
    49SU9104_2,  PR17,SH4454,  2,      3,   -999,5,19910503,1525, 31.0085, 131.7277, 1428,   1108.4,   2.9680,  34.4802,3,-999.0000,9,     78.0,3,    39.40,3,     0.01,3,     2.76,3
    49SU9104_2,  PR17,SH4454,  2,      2,   -999,5,19910503,1525, 31.0085, 131.7277, 1428,   1210.0,   2.8620,  34.4906,3,-999.0000,9,     83.0,3,    39.50,3,     0.01,3,     2.75,3
    49SU9104_2,  PR17,SH4454,  2,      1,   -999,5,19910503,1525, 31.0085, 131.7277, 1428,   1400.1,   2.5360,  34.5293,3,-999.0000,9,     91.0,3,    39.20,3,     0.01,3,     2.71,3
    49SU9104_2,  PR17,SH4454,  3,     19,   -999,5,19910503,1622, 31.0085, 131.7277, -999,      9.6,  22.4000,  34.7087,3,-999.0000,9,    216.0,3,     0.00,3,     0.02,3,     0.05,3
    49SU9104_2,  PR17,SH4454,  3,     18,   -999,5,19910503,1622, 31.0085, 131.7277, -999,     24.4,  22.4170,  34.7058,3,-999.0000,9,    216.0,3,     0.00,3,     0.02,3,     0.04,3
    49SU9104_2,  PR17,SH4454,  3,     17,   -999,5,19910503,1622, 31.0085, 131.7277, -999,     50.7,  22.3280,  34.7071,3,-999.0000,9,    211.0,3,     0.40,3,     0.07,3,     0.06,3
    49SU9104_2,  PR17,SH4454,  3,     16,   -999,5,19910503,1622, 31.0085, 131.7277, -999,     75.5,  21.6410,  34.7150,3,-999.0000,9,    205.0,3,     1.60,3,     0.21,3,     0.11,3
    49SU9104_2,  PR17,SH4454,  3,     15,   -999,5,19910503,1622, 31.0085, 131.7277, -999,    100.3,  20.3220,  34.5921,3,-999.0000,9,    199.0,3,     2.90,3,     0.16,3,     0.20,3
    49SU9104_2,  PR17,SH4454,  3,     14,   -999,5,19910503,1622, 31.0085, 131.7277, -999,    126.1,  19.1620,  34.4773,3,-999.0000,9,    206.0,3,     3.60,3,     0.20,3,     0.23,3
    49SU9104_2,  PR17,SH4454,  3,     13,   -999,5,19910503,1622, 31.0085, 131.7277, -999,    151.7,  18.7360,  34.5328,3,-999.0000,9,    201.0,3,     4.30,3,     0.12,3,     0.27,3
    49SU9104_2,  PR17,SH4454,  3,     12,   -999,5,19910503,1622, 31.0085, 131.7277, -999,    200.8,  16.5990,  34.5953,3,-999.0000,9,    191.0,3,     7.90,3,     0.02,3,     0.47,3
    49SU9104_2,  PR17,SH4454,  3,     11,   -999,5,19910503,1622, 31.0085, 131.7277, -999,    250.2,  14.6430,  34.5545,3,-999.0000,9,    182.0,3,    11.40,3,     0.01,3,     0.70,3
    49SU9104_2,  PR17,SH4454,  3,     10,   -999,5,19910503,1622, 31.0085, 131.7277, -999,    300.8,  13.5960,  34.5133,3,-999.0000,9,    172.0,3,    13.60,3,     0.01,3,     0.82,3
    49SU9104_2,  PR17,SH4455,  2,     11,   -999,5,19910503,2251, 30.4492, 132.3360, 3676,    501.5,  11.9150,  34.4364,3,-999.0000,9,    165.0,3,    16.90,3,     0.01,3,     1.03,3
    49SU9104_2,  PR17,SH4455,  2,     10,   -999,5,19910503,2251, 30.4492, 132.3360, 3676,    604.6,   9.1100,  34.3196,3,-999.0000,9,    141.0,3,    24.20,3,     0.01,3,     1.57,3
    49SU9104_2,  PR17,SH4455,  2,      9,   -999,5,19910503,2251, 30.4492, 132.3360, 3676,    703.6,   7.3700,  34.3108,3,-999.0000,9,    114.0,3,    29.40,3,     0.01,3,     1.96,3
    49SU9104_2,  PR17,SH4455,  2,      8,   -999,5,19910503,2251, 30.4492, 132.3360, 3676,    806.1,   4.8930,  34.3219,3,-999.0000,9,     84.0,3,    36.80,3,     0.00,3,     2.56,3
    49SU9104_2,  PR17,SH4455,  2,      7,   -999,5,19910503,2251, 30.4492, 132.3360, 3676,   1008.9,   3.4370,  34.4336,3,-999.0000,9,     84.0,3,    37.50,3,     0.01,3,     2.59,3
    49SU9104_2,  PR17,SH4455,  2,      6,   -999,5,19910503,2251, 30.4492, 132.3360, 3676,   1209.8,   2.9600,  34.4826,3,-999.0000,9,     82.0,3,    39.40,3,     0.01,3,     2.72,3
    49SU9104_2,  PR17,SH4455,  2,      5,   -999,5,19910503,2251, 30.4492, 132.3360, 3676,   1515.4,   2.4980,  34.5368,3,-999.0000,9,     92.0,3,    39.10,3,     0.01,3,     2.70,3
    49SU9104_2,  PR17,SH4455,  2,      4,   -999,5,19910503,2251, 30.4492, 132.3360, 3676,   2023.6,   2.0010,  34.6023,3,-999.0000,9,    120.0,3,    38.10,3,     0.01,3,     2.58,3
    49SU9104_2,  PR17,SH4455,  2,      3,   -999,5,19910503,2251, 30.4492, 132.3360, 3676,   2533.2,   1.6720,  34.6442,3,-999.0000,9,    141.0,3,    36.90,3,     0.01,3,     2.44,3
    49SU9104_2,  PR17,SH4455,  2,      2,   -999,5,19910503,2251, 30.4492, 132.3360, 3676,   3042.0,   1.5800,  34.6601,3,-999.0000,9,    151.0,3,    36.30,3,     0.01,3,     2.40,3
    49SU9104_2,  PR17,SH4455,  2,      1,   -999,5,19910503,2251, 30.4492, 132.3360, 3676,   3550.6,   1.5370,  34.6708,3,-999.0000,9,    156.0,3,    35.90,3,     0.01,3,     2.36,3
    49SU9104_2,  PR17,SH4455,  3,     21,   -999,5,19910504,0027, 30.4492, 132.3360, -999,      9.0,  22.9680,  34.6992,3,-999.0000,9,    216.0,3,     0.00,3,     0.01,3,     0.04,3
    49SU9104_2,  PR17,SH4455,  3,     20,   -999,5,19910504,0027, 30.4492, 132.3360, -999,     24.9,  22.9700,  34.6993,3,-999.0000,9,    213.0,3,     0.00,3,     0.01,3,     0.03,3
    49SU9104_2,  PR17,SH4455,  3,     19,   -999,5,19910504,0027, 30.4492, 132.3360, -999,     50.6,  22.9690,  34.7001,3,-999.0000,9,    218.0,3,     0.00,3,     0.01,3,     0.03,3
    49SU9104_2,  PR17,SH4455,  3,     18,   -999,5,19910504,0027, 30.4492, 132.3360, -999,     75.9,  22.9520,  34.7083,3,-999.0000,9,    213.0,3,     0.00,3,     0.01,3,     0.03,3
    49SU9104_2,  PR17,SH4455,  3,     17,   -999,5,19910504,0027, 30.4492, 132.3360, -999,    100.4,  22.4690,  34.7901,3,-999.0000,9,    208.0,3,     0.80,3,     0.16,3,     0.07,3
    49SU9104_2,  PR17,SH4455,  3,     16,   -999,5,19910504,0027, 30.4492, 132.3360, -999,    125.9,  22.1730,  34.8285,3,-999.0000,9,    206.0,3,     0.90,3,     0.13,3,     0.07,3
    49SU9104_2,  PR17,SH4455,  3,     15,   -999,5,19910504,0027, 30.4492, 132.3360, -999,    151.7,  21.7480,  34.8345,3,-999.0000,9,    209.0,3,     1.10,3,     0.14,3,     0.08,3
    49SU9104_2,  PR17,SH4455,  3,     14,   -999,5,19910504,0027, 30.4492, 132.3360, -999,    201.5,  20.1350,  34.7313,3,-999.0000,9,    198.0,3,     3.10,3,     0.08,3,     0.19,3
    49SU9104_2,  PR17,SH4455,  3,     13,   -999,5,19910504,0027, 30.4492, 132.3360, -999,    251.1,  19.1730,  34.7794,3,-999.0000,9,    182.0,3,     4.20,3,     0.02,3,     0.23,3
    49SU9104_2,  PR17,SH4455,  3,     12,   -999,5,19910504,0027, 30.4492, 132.3360, -999,    404.2,  15.2560,  34.6177,3,-999.0000,9,    179.0,3,    10.20,3,     0.01,3,     0.58,3
    49SU9104_2,  PR17,SH4456,  2,     12,   -999,5,19910504,0306, 30.2892, 132.5527, 3888,    402.3,  15.6500,  34.6671,3,-999.0000,9,    189.0,3,     8.30,3,     0.01,3,     0.46,3
    49SU9104_2,  PR17,SH4456,  2,     11,   -999,5,19910504,0306, 30.2892, 132.5527, 3888,    503.4,  13.0030,  34.4931,3,-999.0000,9,    175.0,3,    13.70,3,     0.01,3,     0.80,3
    49SU9104_2,  PR17,SH4456,  2,     10,   -999,5,19910504,0306, 30.2892, 132.5527, 3888,    604.3,   9.6750,  34.2618,3,-999.0000,9,    169.0,3,    20.60,3,     0.01,3,     1.29,3
    49SU9104_2,  PR17,SH4456,  2,      9,   -999,5,19910504,0306, 30.2892, 132.5527, 3888,    704.5,   7.4140,  34.1558,3,-999.0000,9,    133.0,3,    28.60,3,     0.00,3,     1.82,3
    49SU9104_2,  PR17,SH4456,  2,      8,   -999,5,19910504,0306, 30.2892, 132.5527, 3888,    806.4,   5.6550,  34.1755,3,-999.0000,9,     94.0,3,    34.40,3,     0.00,3,     2.35,3
    49SU9104_2,  PR17,SH4456,  2,      7,   -999,5,19910504,0306, 30.2892, 132.5527, 3888,   1008.0,   3.9510,  34.3767,3,-999.0000,9,     68.0,3,    39.10,3,     0.00,3,     2.68,3
    49SU9104_2,  PR17,SH4456,  2,      6,   -999,5,19910504,0306, 30.2892, 132.5527, 3888,   1210.9,   3.1500,  34.4599,3,-999.0000,9,     82.0,3,    39.40,3,     0.00,3,     2.72,3
    49SU9104_2,  PR17,SH4456,  2,      5,   -999,5,19910504,0306, 30.2892, 132.5527, 3888,   1514.6,   2.6460,  34.5176,3,-999.0000,9,     88.0,3,    39.50,3,     0.00,3,     2.70,3
    49SU9104_2,  PR17,SH4456,  2,      4,   -999,5,19910504,0306, 30.2892, 132.5527, 3888,   2022.6,   2.0840,  34.5904,3,-999.0000,9,    111.0,3,    38.40,3,     0.00,3,     2.58,3
    49SU9104_2,  PR17,SH4456,  2,      3,   -999,5,19910504,0306, 30.2892, 132.5527, 3888,   2531.4,   1.7640,  34.6356,3,-999.0000,9,    135.0,3,    37.20,3,     0.00,3,     2.46,3
    49SU9104_2,  PR17,SH4456,  2,      2,   -999,5,19910504,0306, 30.2892, 132.5527, 3888,   3042.8,   1.5760,  34.6615,3,-999.0000,9,    145.0,3,    36.30,3,     0.01,3,     2.36,3
    49SU9104_2,  PR17,SH4456,  2,      1,   -999,5,19910504,0306, 30.2892, 132.5527, 3888,   3605.3,   1.5390,  34.6730,3,-999.0000,9,    155.0,3,    35.90,3,     0.01,3,     2.32,3
    49SU9104_2,  PR17,SH4456,  3,     22,   -999,5,19910504,0420, 30.2892, 132.5527, -999,     10.1,  22.9160,  34.7107,3,-999.0000,9,    216.0,3,     0.00,3,     0.01,3,     0.03,3
    49SU9104_2,  PR17,SH4456,  3,     21,   -999,5,19910504,0420, 30.2892, 132.5527, -999,     24.3,  22.9150,  34.7106,3,-999.0000,9,    214.0,3,     0.00,3,     0.00,3,     0.03,3
    49SU9104_2,  PR17,SH4456,  3,     20,   -999,5,19910504,0420, 30.2892, 132.5527, -999,     50.4,  22.6290,  34.7415,3,-999.0000,9,    210.0,3,     0.00,3,     0.01,3,     0.02,3
    49SU9104_2,  PR17,SH4456,  3,     19,   -999,5,19910504,0420, 30.2892, 132.5527, -999,     75.5,  22.4250,  34.7985,3,-999.0000,9,    206.0,3,     0.60,3,     0.12,3,     0.05,3
    49SU9104_2,  PR17,SH4456,  3,     18,   -999,5,19910504,0420, 30.2892, 132.5527, -999,    101.1,  22.0360,  34.8426,3,-999.0000,9,    205.0,3,     0.70,3,     0.11,3,     0.06,3
    49SU9104_2,  PR17,SH4456,  3,     17,   -999,5,19910504,0420, 30.2892, 132.5527, -999,    126.1,  21.3170,  34.8343,3,-999.0000,9,    204.0,3,     1.10,3,     0.04,3,     0.07,3
    49SU9104_2,  PR17,SH4456,  3,     16,   -999,5,19910504,0420, 30.2892, 132.5527, -999,    151.7,  20.4790,  34.8455,3,-999.0000,9,    199.0,3,     2.00,3,     0.03,3,     0.12,3
    49SU9104_2,  PR17,SH4456,  3,     15,   -999,5,19910504,0420, 30.2892, 132.5527, -999,    201.6,  19.1550,  34.8688,3,-999.0000,9,    198.0,3,     2.50,3,     0.01,3,     0.15,3
    49SU9104_2,  PR17,SH4456,  3,     14,   -999,5,19910504,0420, 30.2892, 132.5527, -999,    250.7,  18.1510,  34.8248,3,-999.0000,9,    200.0,3,     3.60,3,     0.01,3,     0.21,3
    49SU9104_2,  PR17,SH4456,  3,     13,   -999,5,19910504,0420, 30.2892, 132.5527, -999,    297.2,  17.3370,  34.7722,3,-999.0000,9,    192.0,3,     5.50,3,     0.01,3,     0.30,3
    49SU9104_2,  PR17,SH4457,  2,     11,   -999,5,19910504,0819, 29.9545, 132.9367, 3827,    503.6,  14.0120,  34.5448,3,  34.5426,3,    189.0,3,    10.70,3,     0.00,3,     0.62,3
    49SU9104_2,  PR17,SH4457,  2,     10,   -999,5,19910504,0819, 29.9545, 132.9367, 3827,    604.0,  11.4110,  34.3784,3,  34.3745,3,    172.0,3,    17.00,3,     0.00,3,     1.04,3
    49SU9104_2,  PR17,SH4457,  2,      9,   -999,5,19910504,0819, 29.9545, 132.9367, 3827,    706.0,   9.6530,  34.2912,3,  34.3019,3,    153.0,3,    21.80,3,     0.00,3,     1.39,3
    49SU9104_2,  PR17,SH4457,  2,      8,   -999,5,19910504,0819, 29.9545, 132.9367, 3827,    806.0,   7.3400,  34.1359,3,  34.1425,3,    133.0,3,    27.80,3,     0.00,3,     1.86,3
    49SU9104_2,  PR17,SH4457,  2,      7,   -999,5,19910504,0819, 29.9545, 132.9367, 3827,   1008.1,   4.5910,  34.3339,3,  34.3400,3,     80.0,3,    36.70,3,     0.00,3,     2.54,3
    49SU9104_2,  PR17,SH4457,  2,      6,   -999,5,19910504,0819, 29.9545, 132.9367, 3827,   1212.6,   3.5750,  34.4208,3,  34.4271,3,     72.0,3,    39.20,3,     0.00,3,     2.74,3
    49SU9104_2,  PR17,SH4457,  2,      5,   -999,5,19910504,0819, 29.9545, 132.9367, 3827,   1515.3,   2.7690,  34.4998,3,  34.5061,3,     83.0,3,    39.50,3,     0.00,3,     2.75,3
    49SU9104_2,  PR17,SH4457,  2,      4,   -999,5,19910504,0819, 29.9545, 132.9367, 3827,   2022.3,   2.1250,  34.5824,3,  34.5913,3,    107.0,3,    38.40,3,     0.00,3,     2.61,3
    49SU9104_2,  PR17,SH4457,  2,      3,   -999,5,19910504,0819, 29.9545, 132.9367, 3827,   2532.2,   1.7740,  34.6319,3,  34.6393,3,    130.0,3,    37.10,3,     0.00,3,     2.49,3
    49SU9104_2,  PR17,SH4457,  2,      2,   -999,5,19910504,0819, 29.9545, 132.9367, 3827,   3041.3,   1.6120,  34.6571,3,  34.6656,3,    145.0,3,    36.20,3,     0.00,3,     2.40,3
    49SU9104_2,  PR17,SH4457,  2,      1,   -999,5,19910504,0819, 29.9545, 132.9367, 3827,   3567.7,   1.5660,  34.6694,3,  34.6736,3,    151.0,3,    35.80,3,     0.01,3,     2.35,3
    49SU9104_2,  PR17,SH4457,  3,     22,   -999,5,19910504,0933, 29.9545, 132.9367, -999,      9.5,  22.1290,  34.8726,3,  34.8744,3,    222.0,3,     0.00,3,     0.00,3,     0.02,3
    49SU9104_2,  PR17,SH4457,  3,     21,   -999,5,19910504,0933, 29.9545, 132.9367, -999,     24.8,  22.1060,  34.8671,3,  34.8682,3,    219.0,3,     0.00,3,     0.00,3,     0.02,3
    49SU9104_2,  PR17,SH4457,  3,     20,   -999,5,19910504,0933, 29.9545, 132.9367, -999,     50.4,  22.0810,  34.8659,3,  34.8658,3,    218.0,3,     0.00,3,     0.00,3,     0.02,3
    49SU9104_2,  PR17,SH4457,  3,     19,   -999,5,19910504,0933, 29.9545, 132.9367, -999,     74.8,  21.3230,  34.8454,3,  34.8453,3,    206.0,3,     1.00,3,     0.03,3,     0.08,3
    49SU9104_2,  PR17,SH4457,  3,     18,   -999,5,19910504,0933, 29.9545, 132.9367, -999,    100.1,  20.7680,  34.9236,3,  34.9193,3,    218.0,3,     0.20,3,     0.08,3,     0.03,3
    49SU9104_2,  PR17,SH4457,  3,     17,   -999,5,19910504,0933, 29.9545, 132.9367, -999,    126.1,  20.4530,  34.9164,3,  34.9217,3,    219.0,3,     0.30,3,     0.16,3,     0.04,3
    49SU9104_2,  PR17,SH4457,  3,     16,   -999,5,19910504,0933, 29.9545, 132.9367, -999,    150.9,  20.0490,  34.8986,3,  34.9032,3,    218.0,3,     0.70,3,     0.02,3,     0.06,3
    49SU9104_2,  PR17,SH4457,  3,     15,   -999,5,19910504,0933, 29.9545, 132.9367, -999,    200.9,  19.3410,  34.8721,3,  34.8733,3,    215.0,3,     1.30,3,     0.01,3,     0.09,3
    49SU9104_2,  PR17,SH4457,  3,     14,   -999,5,19910504,0933, 29.9545, 132.9367, -999,    251.7,  18.7750,  34.8658,3,  34.8670,3,    222.0,3,     1.40,3,     0.01,3,     0.09,3
    49SU9104_2,  PR17,SH4457,  3,     13,   -999,5,19910504,0933, 29.9545, 132.9367, -999,    302.3,  18.0680,  34.8169,3,  34.8233,3,    209.0,3,     3.20,3,     0.00,3,     0.19,3
    49SU9104_2,  PR17,SH4457,  3,     12,   -999,5,19910504,0933, 29.9545, 132.9367, -999,    404.2,  15.9590,  34.6897,3,  34.6943,3,    198.0,3,     7.30,3,     0.00,3,     0.40,3
    49SU9104_2,  PR17,SH4458,  2,     10,   -999,5,19910504,1431, 29.5100, 133.5042, 2639,    402.9,  16.9120,  34.7545,3,-999.0000,9,    198.0,3,     5.90,3,     0.01,3,     0.30,3
    49SU9104_2,  PR17,SH4458,  2,      9,   -999,5,19910504,1431, 29.5100, 133.5042, 2639,    504.2,  15.0030,  34.6226,3,-999.0000,9,    184.0,3,     9.90,3,     0.01,3,     0.53,3
    49SU9104_2,  PR17,SH4458,  2,      8,   -999,5,19910504,1431, 29.5100, 133.5042, 2639,    605.2,  12.5870,  34.4475,3,-999.0000,9,    178.0,3,    14.60,3,     0.01,3,     0.84,3
    49SU9104_2,  PR17,SH4458,  2,      7,   -999,5,19910504,1431, 29.5100, 133.5042, 2639,    706.4,  10.1050,  34.2977,3,-999.0000,9,    165.0,3,    20.50,3,     0.01,3,     1.24,3
    49SU9104_2,  PR17,SH4458,  2,      6,   -999,5,19910504,1431, 29.5100, 133.5042, 2639,    807.0,   7.7990,  34.2178,3,-999.0000,9,    131.0,3,    27.50,3,     0.01,3,     1.78,3
    49SU9104_2,  PR17,SH4458,  2,      5,   -999,5,19910504,1431, 29.5100, 133.5042, 2639,   1010.0,   4.9750,  34.2838,3,-999.0000,9,     81.0,3,    37.00,3,     0.01,3,     2.52,3
    49SU9104_2,  PR17,SH4458,  2,      4,   -999,5,19910504,1431, 29.5100, 133.5042, 2639,   1211.7,   3.7790,  34.3817,3,-999.0000,9,     73.0,3,    39.50,3,     0.01,3,     2.71,3
    49SU9104_2,  PR17,SH4458,  2,      3,   -999,5,19910504,1431, 29.5100, 133.5042, 2639,   1516.2,   2.8290,  34.4880,3,-999.0000,9,     80.0,3,    40.20,3,     0.01,3,     2.72,3
    49SU9104_2,  PR17,SH4458,  2,      2,   -999,5,19910504,1431, 29.5100, 133.5042, 2639,   2023.1,   2.1160,  34.5843,3,-999.0000,9,    112.0,3,    38.10,3,     0.01,3,     2.59,3
    49SU9104_2,  PR17,SH4458,  2,      1,   -999,5,19910504,1431, 29.5100, 133.5042, 2639,   2635.8,   1.7350,  34.6380,3,-999.0000,9,    138.0,3,    36.80,3,     0.01,3,     2.44,3