BOTTLE,20010424WHPSIOKJU
#code : jjward hyd_to_exchange.pl 
#original files copied from HTML directory: 20010420
#original HYD file: pr15_bbhy.txt   Tue Apr 17 16:09:08 2001
#original SUM file: pr15_bbsu.txt   Mon Sep 18 10:21:42 2000
EXPOCODE,SECT_ID,STNNBR,CASTNO,SAMPNO,BTLNBR,BTLNBR_FLAG_W,DATE,TIME,LATITUDE,LONGITUDE,DEPTH,CTDPRS,CTDTMP,CTDSAL,CTDSAL_FLAG_W,SALNTY,SALNTY_FLAG_W,CTDOXY,CTDOXY_FLAG_W,OXYGEN,OXYGEN_FLAG_W
,,,,,,,,,,,,DBAR,ITS-90,PSS-78,,PSS-78,,UMOL/KG,,UMOL/KG,
   33KMGP396_1,  PR15,    18,  1,      6,      6,2,19960706,1536, -7.9800, 165.1000, 3900,     10.2,  28.9723,  34.6246,2,  34.6234,2,   -999.0,9,   -999.0,9
   33KMGP396_1,  PR15,    18,  1,      5,      5,2,19960706,1536, -7.9800, 165.1000, 3900,    200.0,  20.9966,  35.8314,2,  35.8591,2,   -999.0,9,   -999.0,9
   33KMGP396_1,  PR15,    18,  1,      4,      4,2,19960706,1536, -7.9800, 165.1000, 3900,    594.9,   6.6561,  34.5431,2,  34.5453,2,   -999.0,9,   -999.0,9
   33KMGP396_1,  PR15,    18,  1,      3,      3,2,19960706,1536, -7.9800, 165.1000, 3900,    799.9,   5.2939,  34.5187,2,  34.5211,2,   -999.0,9,   -999.0,9
   33KMGP396_1,  PR15,    18,  1,      1,      1,2,19960706,1536, -7.9800, 165.1000, 3900,   1000.2,   4.3379,  34.5187,2,  34.5204,2,   -999.0,9,   -999.0,9
   33KMGP396_1,  PR15,    18,  1,      2,      2,2,19960706,1536, -7.9800, 165.1000, 3900,   1000.4,   4.3367,  34.5190,2,  34.5204,2,   -999.0,9,   -999.0,9
   33KMGP396_1,  PR15,    18,  2,      6,      6,2,19960706,2350, -8.0400, 164.8100, 3900,     14.7,  28.9836,  34.6229,2,  34.6225,2,   -999.0,9,   -999.0,9
   33KMGP396_1,  PR15,    18,  2,      5,      5,2,19960706,2350, -8.0400, 164.8100, 3900,    200.6,  22.6383,  35.9643,2,  35.9643,2,   -999.0,9,   -999.0,9
   33KMGP396_1,  PR15,    18,  2,      4,      4,2,19960706,2350, -8.0400, 164.8100, 3900,    301.2,  13.9942,  35.0982,2,  35.1016,2,   -999.0,9,   -999.0,9
   33KMGP396_1,  PR15,    18,  2,      3,      3,2,19960706,2350, -8.0400, 164.8100, 3900,    399.2,   9.6742,  34.7229,2,  34.7219,2,   -999.0,9,   -999.0,9
   33KMGP396_1,  PR15,    18,  2,      2,      2,2,19960706,2350, -8.0400, 164.8100, 3900,    496.9,   8.0741,  34.6172,2,  34.6138,2,   -999.0,9,   -999.0,9
   33KMGP396_1,  PR15,    18,  2,      1,      1,2,19960706,2350, -8.0400, 164.8100, 3900,    498.7,   8.0686,  34.6169,2,  34.6140,2,   -999.0,9,   -999.0,9
   33KMGP396_1,  PR15,    19,  1,      6,      6,2,19960709,0523, -4.9900, 165.1900, 2580,     13.1,  29.4660,  34.5868,2,  34.5875,2,   -999.0,9,   -999.0,9
   33KMGP396_1,  PR15,    19,  1,      5,      5,2,19960709,0523, -4.9900, 165.1900, 2580,    199.2,  16.9524,  35.4211,2,  35.4189,2,   -999.0,9,   -999.0,9
   33KMGP396_1,  PR15,    19,  1,      4,      4,2,19960709,0523, -4.9900, 165.1900, 2580,    599.1,   6.9108,  34.5648,2,  34.5674,2,   -999.0,9,   -999.0,9
   33KMGP396_1,  PR15,    19,  1,      3,      3,2,19960709,0523, -4.9900, 165.1900, 2580,    801.1,   5.4524,  34.5284,2,  34.5282,2,   -999.0,9,   -999.0,9
   33KMGP396_1,  PR15,    19,  1,      1,      1,2,19960709,0523, -4.9900, 165.1900, 2580,   1000.0,   4.5839,  34.5326,2,  34.5320,2,   -999.0,9,   -999.0,9
   33KMGP396_1,  PR15,    19,  1,      2,      2,2,19960709,0523, -4.9900, 165.1900, 2580,   1000.5,   4.5831,  34.5325,2,  34.5319,2,   -999.0,9,   -999.0,9
   33KMGP396_1,  PR15,    20,  1,      6,      6,2,19960710,1021, -1.9100, 164.3200, 4440,     12.0,  29.1908,  35.3899,2,  35.3914,2,   -999.0,9,   -999.0,9
   33KMGP396_1,  PR15,    20,  1,      5,      5,2,19960710,1021, -1.9100, 164.3200, 4440,    199.3,  14.4632,  35.1528,2,  35.1478,2,   -999.0,9,   -999.0,9
   33KMGP396_1,  PR15,    20,  1,      4,      4,2,19960710,1021, -1.9100, 164.3200, 4440,    600.7,   6.5686,  34.5345,2,  34.5354,2,   -999.0,9,   -999.0,9
   33KMGP396_1,  PR15,    20,  1,      3,      3,2,19960710,1021, -1.9100, 164.3200, 4440,    799.6,   5.4156,  34.5299,2,  34.5306,2,   -999.0,9,   -999.0,9
   33KMGP396_1,  PR15,    20,  1,      2,      2,2,19960710,1021, -1.9100, 164.3200, 4440,   1002.7,   4.3424,  34.5527,2,  34.5534,2,   -999.0,9,   -999.0,9
   33KMGP396_1,  PR15,    20,  1,      1,      1,2,19960710,1021, -1.9100, 164.3200, 4440,   1002.8,   4.3407,  34.5529,2,  34.5530,2,   -999.0,9,   -999.0,9
   33KMGP396_1,  PR15,    21,  1,      6,      6,2,19960711,1322,  0.0000, 165.0500, 4371,     14.4,  28.6695,  35.3660,2,  35.3661,2,   -999.0,9,   -999.0,9
   33KMGP396_1,  PR15,    21,  1,      5,      5,2,19960711,1322,  0.0000, 165.0500, 4371,    299.6,  12.1505,  34.8925,2,  34.8915,2,   -999.0,9,   -999.0,9
   33KMGP396_1,  PR15,    21,  1,      4,      4,2,19960711,1322,  0.0000, 165.0500, 4371,   1997.1,   2.2788,  34.6380,2,  34.6383,2,   -999.0,9,   -999.0,9
   33KMGP396_1,  PR15,    21,  1,      3,      3,2,19960711,1322,  0.0000, 165.0500, 4371,   3001.1,   1.6655,  34.6723,2,  34.6712,2,   -999.0,9,   -999.0,9
   33KMGP396_1,  PR15,    21,  1,      2,      2,2,19960711,1322,  0.0000, 165.0500, 4371,   4100.9,   1.4076,  34.6948,2,  34.6964,2,   -999.0,9,   -999.0,9
   33KMGP396_1,  PR15,    21,  1,      1,      1,2,19960711,1322,  0.0000, 165.0500, 4371,   4102.1,   1.4069,  34.6950,2,  34.6965,2,   -999.0,9,   -999.0,9
   33KMGP396_1,  PR15,    22,  1,      6,      6,2,19960714,0647,  5.0600, 164.9800, 5376,     15.2,  29.1799,  34.4415,2,  34.4417,2,   -999.0,9,   -999.0,9
   33KMGP396_1,  PR15,    22,  1,      5,      5,2,19960714,0647,  5.0600, 164.9800, 5376,    200.8,  12.8576,  34.5689,2,  34.5735,2,   -999.0,9,   -999.0,9
   33KMGP396_1,  PR15,    22,  1,      4,      4,2,19960714,0647,  5.0600, 164.9800, 5376,    598.9,   6.9367,  34.5607,2,  34.5589,2,   -999.0,9,   -999.0,9
   33KMGP396_1,  PR15,    22,  1,      3,      3,2,19960714,0647,  5.0600, 164.9800, 5376,    799.1,   5.4211,  34.5455,2,  34.5432,2,   -999.0,9,   -999.0,9
   33KMGP396_1,  PR15,    22,  1,      1,      1,2,19960714,0647,  5.0600, 164.9800, 5376,   1003.8,   4.4033,  34.5608,2,  34.5591,2,   -999.0,9,   -999.0,9
   33KMGP396_1,  PR15,    22,  1,      2,      2,2,19960714,0647,  5.0600, 164.9800, 5376,   1004.8,   4.4058,  34.5607,2,  34.5590,2,   -999.0,9,   -999.0,9