BOTTLE,20020311WHPSIOdm
EXPOCODE,SECT_ID,STNNBR,CASTNO,SAMPNO,BTLNBR,BTLNBR_FLAG_W,DATE,TIME,LATITUDE,LONGITUDE,DEPTH,CTDPRS,CTDTMP,CTDSAL,CTDSAL_FLAG_W,SALNTY,SALNTY_FLAG_W,CTDOXY,CTDOXY_FLAG_W,OXYGEN,OXYGEN_FLAG_W,SILCAT,SILCAT_FLAG_W,NITRAT,NITRAT_FLAG_W,NITRIT,NITRIT_FLAG_W,PHSPHT,PHSPHT_FLAG_W,CFC-11,CFC-11_FLAG_W,CFC-12,CFC-12_FLAG_W,TRITUM,TRITUM_FLAG_W,HELIUM,HELIUM_FLAG_W,DELHE3,DELHE3_FLAG_W,NEON,NEON_FLAG_W,CTDRAW,HELIER,DELHER,NEONER,THETA,TRITER
,,,,,,,,,,,,DBAR,ITS-90,PSS-78,,PSS-78,,UMOL/KG,,UMOL/KG,,UMOL/KG,,UMOL/KG,,UMOL/KG,,UMOL/KG,,PMOL/KG,,PMOL/KG,,TU,,NMOL/KG,,PERCNT,,NMOL/KG,,,NMOL/KG,PERCNT,NMOL/KG,ITS-90,TU
     32MW893_2,  P04C,   113,  1,     24,     24,2,19890319,1748,  9.5000,-166.1683, 4993,      7.0,  26.2862,  34.3883,2,  34.3867,2,   -999.0,5,    220.3,2,     0.29,2,     0.00,2,     0.00,2,     0.16,2,    1.727,2,    0.932,2, -999.000,9,-999.0000,9,  -999.00,9,-999.000,9,   -999,-999.0000,-999.000,-999.000, 26.2846,-999.000
     32MW893_2,  P04C,   113,  1,     23,     23,2,19890319,1748,  9.5000,-166.1683, 4993,     47.6,  26.2492,  34.3972,2,  34.3888,2,   -999.0,5,    219.0,2,     0.59,2,     0.10,2,     0.00,2,     0.15,2,    1.774,2,    0.945,2, -999.000,9,-999.0000,9,  -999.00,9,-999.000,9,   -999,-999.0000,-999.000,-999.000, 26.2385,-999.000
     32MW893_2,  P04C,   113,  1,     22,     22,2,19890319,1748,  9.5000,-166.1683, 4993,     96.9,  21.8532,  34.9236,2,  34.8391,2,   -999.0,5,    222.4,2,     1.48,2,     0.29,2,     0.00,2,     0.23,2,    1.934,2,    0.997,2, -999.000,9,-999.0000,9,  -999.00,9,-999.000,9,   -999,-999.0000,-999.000,-999.000, 21.8342,-999.000
     32MW893_2,  P04C,   113,  1,     21,     21,2,19890319,1748,  9.5000,-166.1683, 4993,    146.7,  13.5006,  34.5417,2,  34.5255,2,   -999.0,5,    108.6,2,    15.36,2,    19.55,2,     0.02,2,     1.50,2,    1.213,2,    0.605,2, -999.000,9,-999.0000,9,  -999.00,9,-999.000,9,   -999,-999.0000,-999.000,-999.000, 13.4800,-999.000
     32MW893_2,  P04C,   113,  1,     20,     20,2,19890319,1748,  9.5000,-166.1683, 4993,    197.9,  10.9314,  34.6725,2,  34.6592,2,   -999.0,5,     23.5,2,    29.23,2,    33.23,2,     0.00,2,     2.43,2,    0.168,2, -999.000,5, -999.000,9,-999.0000,9,  -999.00,9,-999.000,9,   -999,-999.0000,-999.000,-999.000, 10.9072,-999.000
     32MW893_2,  P04C,   113,  1,     19,     19,2,19890319,1748,  9.5000,-166.1683, 4993,    247.4,  10.1777,  34.6834,2,  34.6806,2,   -999.0,5,     24.3,2,    32.19,2,    34.99,2,     0.00,2,     2.49,2,    0.068,2, -999.000,5, -999.000,9,-999.0000,9,  -999.00,9,-999.000,9,   -999,-999.0000,-999.000,-999.000, 10.1487,-999.000
     32MW893_2,  P04C,   113,  1,     18,     18,2,19890319,1748,  9.5000,-166.1683, 4993,    295.4,   9.8107,  34.6697,2,  34.6706,2,   -999.0,5,     23.9,2,    34.05,2,    35.77,2,     0.00,2,     2.52,2,    0.043,2,    0.032,2, -999.000,9,-999.0000,9,  -999.00,9,-999.000,9,   -999,-999.0000,-999.000,-999.000,  9.7769,-999.000
     32MW893_2,  P04C,   113,  1,     17,     17,2,19890319,1748,  9.5000,-166.1683, 4993,    395.8,   8.9101,  34.6336,2,  34.6272,2,   -999.0,5,     26.1,2,    40.25,2,    36.95,2,     0.00,2,     2.67,2,    0.027,2, -999.000,5, -999.000,9,-999.0000,9,  -999.00,9,-999.000,9,   -999,-999.0000,-999.000,-999.000,  8.8671,-999.000
     32MW893_2,  P04C,   113,  1,     16,     16,2,19890319,1748,  9.5000,-166.1683, 4993,    497.8,   8.1933,  34.5845,2,  34.5993,2,   -999.0,5,     23.9,2,    46.06,2,    37.93,2,     0.00,2,     2.82,2, -999.000,5,   -0.004,2, -999.000,9,-999.0000,9,  -999.00,9,-999.000,9,   -999,-999.0000,-999.000,-999.000,  8.1415,-999.000
     32MW893_2,  P04C,   113,  1,     15,     15,2,19890319,1748,  9.5000,-166.1683, 4993,    597.3,   7.1927,  34.5381,2,  34.5524,2,   -999.0,5,     29.5,2,    56.00,2,    39.49,2,     0.00,2,     2.91,2,    0.011,2,    0.002,2, -999.000,9,-999.0000,9,  -999.00,9,-999.000,9,   -999,-999.0000,-999.000,-999.000,  7.1347,-999.000
     32MW893_2,  P04C,   113,  1,     14,     14,2,19890319,1748,  9.5000,-166.1683, 4993,    799.4,   5.8472,  34.5397,2,  34.5382,2,   -999.0,5,     34.3,2,    72.25,2,    41.84,2,     0.00,2,     3.05,2,    0.011,2,    0.013,2, -999.000,9,-999.0000,9,  -999.00,9,-999.000,9,   -999,-999.0000,-999.000,-999.000,  5.7765,-999.000
     32MW893_2,  P04C,   113,  1,     13,     13,2,19890319,1748,  9.5000,-166.1683, 4993,    997.0,   4.8125,  34.5472,2,  34.5472,2,   -999.0,5,     47.4,2,    88.00,2,    42.72,2,     0.00,2,     3.07,2,    0.003,2,    0.015,2, -999.000,9,-999.0000,9,  -999.00,9,-999.000,9,   -999,-999.0000,-999.000,-999.000,  4.7309,-999.000
     32MW893_2,  P04C,   113,  1,     12,     12,2,19890319,1748,  9.5000,-166.1683, 4993,   1248.8,   3.6300,  34.5782,2,  34.5744,2,   -999.0,5,     71.7,2,   110.83,2,    41.45,2,     0.00,2,     2.97,2,    0.013,2,    0.007,2, -999.000,9,-999.0000,9,  -999.00,9,-999.000,9,   -999,-999.0000,-999.000,-999.000,  3.5367,-999.000
     32MW893_2,  P04C,   113,  1,     11,     11,2,19890319,1748,  9.5000,-166.1683, 4993,   1498.4,   2.9173,  34.6029,2,  34.5995,2,   -999.0,5,     86.9,2,   126.57,2,    40.66,2,     0.00,2,     2.89,2, -999.000,5,   -0.005,2, -999.000,9,-999.0000,9,  -999.00,9,-999.000,9,   -999,-999.0000,-999.000,-999.000,  2.8105,-999.000
     32MW893_2,  P04C,   113,  1,     10,     10,2,19890319,1748,  9.5000,-166.1683, 4993,   2001.0,   2.2136,  34.6390,2,  34.6368,2,   -999.0,5,    103.8,2,   142.81,2,    40.08,2,     0.00,2,     2.82,2,    0.009,2,   -0.004,2, -999.000,9,-999.0000,9,  -999.00,9,-999.000,9,   -999,-999.0000,-999.000,-999.000,  2.0738,-999.000
     32MW893_2,  P04C,   113,  1,      9,      9,2,19890319,1748,  9.5000,-166.1683, 4993,   2502.8,   1.8897,  34.6600,2,  34.6598,2,   -999.0,5,    117.3,2,   149.11,2,    39.00,2,     0.00,2,     2.73,2,   -0.008,2,   -0.005,2, -999.000,9,-999.0000,9,  -999.00,9,-999.000,9,   -999,-999.0000,-999.000,-999.000,  1.7112,-999.000
     32MW893_2,  P04C,   113,  1,      8,      8,2,19890319,1748,  9.5000,-166.1683, 4993,   3002.2,   1.6528,  34.6733,2,  34.6708,2,   -999.0,5,    133.0,2,   150.58,2,    37.83,2,     0.00,2,     2.62,2,   -0.006,2,    0.001,2, -999.000,9,-999.0000,9,  -999.00,9,-999.000,9,   -999,-999.0000,-999.000,-999.000,  1.4325,-999.000
     32MW893_2,  P04C,   113,  1,      6,      6,2,19890319,1748,  9.5000,-166.1683, 4993,   4005.3,   1.3850,  34.6899,2,  34.6885,2,   -999.0,5,    165.5,2,   141.13,2,    35.68,2,     0.00,2,     2.46,2,    0.003,2,   -0.004,2, -999.000,9,-999.0000,9,  -999.00,9,-999.000,9,   -999,-999.0000,-999.000,-999.000,  1.0687,-999.000
     32MW893_2,  P04C,   113,  1,      5,      5,2,19890319,1748,  9.5000,-166.1683, 4993,   4255.3,   1.3350,  34.6957,2,  34.6936,2,   -999.0,5,    175.1,2,   135.91,2,    35.09,2,     0.00,2,     2.41,2,   -0.003,2,   -0.005,2, -999.000,9,-999.0000,9,  -999.00,9,-999.000,9,   -999,-999.0000,-999.000,-999.000,  0.9927,-999.000
     32MW893_2,  P04C,   113,  1,      4,      4,2,19890319,1748,  9.5000,-166.1683, 4993,   4503.8,   1.3020,  34.6971,2,  34.6960,2,   -999.0,5,    183.4,2,   131.38,2,    34.50,2,     0.00,2,     2.37,2,    0.010,2,   -0.005,2, -999.000,9,-999.0000,9,  -999.00,9,-999.000,9,   -999,-999.0000,-999.000,-999.000,  0.9327,-999.000
     32MW893_2,  P04C,   113,  1,      3,      3,2,19890319,1748,  9.5000,-166.1683, 4993,   4756.1,   1.2850,  34.7004,2,  34.6993,2,   -999.0,5,    188.6,2,   128.04,2,    34.31,2,     0.00,2,     2.32,2,   -0.011,2,   -0.005,2, -999.000,9,-999.0000,9,  -999.00,9,-999.000,9,   -999,-999.0000,-999.000,-999.000,  0.8870,-999.000
     32MW893_2,  P04C,   113,  1,      1,      1,2,19890319,1748,  9.5000,-166.1683, 4993,   5068.3,   1.3170,  34.7017,2,-999.0000,5,   -999.0,5,    187.7,2,   128.04,2,    34.21,2,     0.00,2,     2.35,2,   -0.003,2,   -0.004,2, -999.000,9,-999.0000,9,  -999.00,9,-999.000,9,   -999,-999.0000,-999.000,-999.000,  0.8806,-999.000
     32MW893_2,  P04C,   113,  1,      2,      2,2,19890319,1748,  9.5000,-166.1683, 4993,   5068.8,   1.3170,  34.7015,2,  34.7007,2,   -999.0,5,    188.6,2,   127.84,2,    34.31,2,     0.00,2,     2.32,2,   -0.005,2,   -0.004,2, -999.000,9,-999.0000,9,  -999.00,9,-999.000,9,   -999,-999.0000,-999.000,-999.000,  0.8805,-999.000
     32MW893_2,  P04C,   114,  1,     24,     24,2,19890320,0221,  9.4983,-165.3367, 4352,     21.0,  26.5651,  34.4355,2,  34.4330,2,   -999.0,5,    207.7,2,     0.68,2,     0.00,2,    -0.01,2,     0.22,2, -999.000,9, -999.000,9,    1.789,2,   1.7720,2,    -0.65,2,   6.884,2,   -999,  0.0080,   0.150,   0.041, 26.5604,   0.028
     32MW893_2,  P04C,   114,  1,     23,     23,2,19890320,0221,  9.4983,-165.3367, 4352,     46.7,  26.5071,  34.4330,2,  34.4289,2,   -999.0,5,    216.0,2,     0.68,2,     0.10,2,    -0.01,2,     0.22,2, -999.000,9, -999.000,9, -999.000,9,-999.0000,9,  -999.00,9,-999.000,9,   -999,-999.0000,-999.000,-999.000, 26.4966,-999.000
     32MW893_2,  P04C,   114,  1,     22,     22,2,19890320,0221,  9.4983,-165.3367, 4352,     70.5,  23.9906,  34.7882,2,  34.7888,2,   -999.0,5,    220.3,2,     0.79,2,     0.10,2,     0.00,2,     0.20,2, -999.000,9, -999.000,9,    2.225,2,   1.7920,2,    -0.05,2,   7.027,2,   -999,  0.0080,   0.150,   0.042, 23.9758,   0.031
     32MW893_2,  P04C,   114,  1,     21,     21,2,19890320,0221,  9.4983,-165.3367, 4352,     93.9,  21.0873,  34.9288,2,  34.9032,2,   -999.0,5,    198.5,2,     1.67,2,     0.49,2,     0.02,2,     0.29,2, -999.000,9, -999.000,9,    2.507,2,   1.7990,2,     1.22,2,   7.150,2,   -999,  0.0080,   0.150,   0.043, 21.0693,   0.033
     32MW893_2,  P04C,   114,  1,     20,     20,2,19890320,0221,  9.4983,-165.3367, 4352,    120.2,  17.8982,  34.8507,2,  34.8456,2,   -999.0,5,    179.0,2,     3.84,2,     5.86,2,     0.06,2,     0.56,2, -999.000,9, -999.000,9,    2.688,2,   1.8090,2,     3.40,2,   7.287,2,   -999,  0.0080,   0.150,   0.044, 17.8777,   0.034
     32MW893_2,  P04C,   114,  1,     19,     19,2,19890320,0221,  9.4983,-165.3367, 4352,    144.2,  14.8591,  34.5622,2,  34.5573,2,   -999.0,5,    122.5,2,    12.50,2,    16.62,2,     0.00,2,     1.32,2, -999.000,9, -999.000,9,    2.064,2,-999.0000,9,  -999.00,9,-999.000,9,   -999,-999.0000,-999.000,-999.000, 14.8375,   0.004
     32MW893_2,  P04C,   114,  1,     18,     18,2,19890320,0221,  9.4983,-165.3367, 4352,    171.1,  12.8847,  34.5434,2,  34.5386,2,   -999.0,5,     68.2,2,    20.97,2,    25.81,2,     0.00,2,     1.98,2, -999.000,9, -999.000,9,    1.543,2,   1.8480,2,     9.89,2,   7.560,2,   -999,  0.0080,   0.150,   0.045, 12.8614,   0.014
     32MW893_2,  P04C,   114,  1,     17,     17,2,19890320,0221,  9.4983,-165.3367, 4352,    192.7,  11.9650,  34.6309,2,  34.6360,2,   -999.0,5,     32.2,2,    26.18,2,    31.08,2,     0.00,2,     2.35,2, -999.000,9, -999.000,9, -999.000,9,   1.8500,2,     9.57,2,   7.551,2,   -999,  0.0080,   0.150,   0.045, 11.9400,-999.000
     32MW893_2,  P04C,   114,  1,     16,     16,2,19890320,0221,  9.4983,-165.3367, 4352,    244.5,  10.9284,  34.6986,2,  34.6983,2,   -999.0,5,     21.3,2,    30.31,2,    34.21,2,     0.00,2,     2.46,2, -999.000,9, -999.000,9,    0.278,2,   1.8610,2,     7.43,2,   7.603,2,   -999,  0.0080,   0.150,   0.046, 10.8984,   0.019
     32MW893_2,  P04C,   114,  1,     15,     15,2,19890320,0221,  9.4983,-165.3367, 4352,    297.6,  10.1537,  34.6888,2,  34.6869,2,   -999.0,5,     22.6,2,    32.87,2,    35.38,2,     0.00,2,     2.53,2, -999.000,9, -999.000,9,    0.156,2,   1.8600,2,     6.58,2,   7.642,2,   -999,  0.0080,   0.150,   0.046, 10.1188,   0.006
     32MW893_2,  P04C,   114,  1,     14,     14,2,19890320,0221,  9.4983,-165.3367, 4352,    394.1,   9.4508,  34.6598,2,  34.6785,2,   -999.0,5,     36.9,2,    35.53,2,    35.68,2,     0.00,2,     2.54,2, -999.000,9, -999.000,9,    0.106,2,   1.8690,2,     6.74,2,   7.675,2,   -999,  0.0080,   0.150,   0.046,  9.4064,   0.005
     32MW893_2,  P04C,   114,  1,     13,     13,2,19890320,0221,  9.4983,-165.3367, 4352,    496.3,   8.4422,  34.6104,2,  34.6136,2,   -999.0,5,     17.4,2,    45.47,2,    37.83,2,     0.00,2,     2.84,2, -999.000,9, -999.000,9,    0.033,2,   1.8060,2,     5.73,2,   7.746,2,   -999,  0.0080,   0.150,   0.046,  8.3896,   0.004
     32MW893_2,  P04C,   114,  1,     12,     12,2,19890320,0221,  9.4983,-165.3367, 4352,    995.1,   4.5597,  34.5503,2,  34.5480,2,   -999.0,5,     56.5,2,    93.30,2,    42.23,2,     0.00,2,     3.03,2, -999.000,9, -999.000,9, -999.000,9,-999.0000,9,  -999.00,9,-999.000,9,   -999,-999.0000,-999.000,-999.000,  4.4801,-999.000
     32MW893_2,  P04C,   114,  1,     11,     11,2,19890320,0221,  9.4983,-165.3367, 4352,   1495.5,   2.9643,  34.5992,2,  34.5991,2,   -999.0,5,     84.7,2,   127.26,2,    40.96,2,     0.00,2,     2.90,2, -999.000,9, -999.000,9, -999.000,9,-999.0000,9,  -999.00,9,-999.000,9,   -999,-999.0000,-999.000,-999.000,  2.8572,-999.000
     32MW893_2,  P04C,   114,  1,     10,     10,2,19890320,0221,  9.4983,-165.3367, 4352,   1998.7,   2.1946,  34.6384,2,  34.6374,2,   -999.0,5,    103.8,2,   144.09,2,    39.88,2,     0.00,2,     2.82,2, -999.000,9, -999.000,9, -999.000,9,-999.0000,9,  -999.00,9,-999.000,9,   -999,-999.0000,-999.000,-999.000,  2.0553,-999.000
     32MW893_2,  P04C,   114,  1,      9,      9,2,19890320,0221,  9.4983,-165.3367, 4352,   2500.1,   1.8458,  34.6617,2,  34.6633,2,   -999.0,5,    119.5,2,   150.28,2,    39.00,2,     0.00,2,     2.71,2, -999.000,9, -999.000,9, -999.000,9,-999.0000,9,  -999.00,9,-999.000,9,   -999,-999.0000,-999.000,-999.000,  1.6683,-999.000
     32MW893_2,  P04C,   114,  1,      8,      8,2,19890320,0221,  9.4983,-165.3367, 4352,   3002.6,   1.6678,  34.6731,2,  34.6728,2,   -999.0,5,    133.0,2,   153.34,2,    38.02,2,     0.00,2,     2.63,2, -999.000,9, -999.000,9, -999.000,9,-999.0000,9,  -999.00,9,-999.000,9,   -999,-999.0000,-999.000,-999.000,  1.4471,-999.000
     32MW893_2,  P04C,   114,  1,      7,      7,2,19890320,0221,  9.4983,-165.3367, 4352,   3253.0,   1.5748,  34.6793,2,  34.6781,2,   -999.0,5,    142.1,2,   150.28,2,    37.34,2,     0.00,2,     2.58,2, -999.000,9, -999.000,9, -999.000,9,-999.0000,9,  -999.00,9,-999.000,9,   -999,-999.0000,-999.000,-999.000,  1.3318,-999.000
     32MW893_2,  P04C,   114,  1,      6,      6,2,19890320,0221,  9.4983,-165.3367, 4352,   3504.7,   1.5179,  34.6818,2,  34.6842,2,   -999.0,5,    149.0,2,   147.82,2,    37.14,2,     0.00,2,     2.56,2, -999.000,9, -999.000,9, -999.000,9,-999.0000,9,  -999.00,9,-999.000,9,   -999,-999.0000,-999.000,-999.000,  1.2509,-999.000
     32MW893_2,  P04C,   114,  1,      5,      5,2,19890320,0221,  9.4983,-165.3367, 4352,   3754.5,   1.4619,  34.6862,2,  34.6863,2,   -999.0,5,    156.0,2,   145.17,2,    36.36,2,     0.00,2,     2.52,2, -999.000,9, -999.000,9, -999.000,9,-999.0000,9,  -999.00,9,-999.000,9,   -999,-999.0000,-999.000,-999.000,  1.1704,-999.000
     32MW893_2,  P04C,   114,  1,      4,      4,2,19890320,0221,  9.4983,-165.3367, 4352,   4005.6,   1.3820,  34.6918,2,  34.6922,2,   -999.0,5,    167.3,2,   140.54,2,    35.77,2,     0.00,2,     2.46,2, -999.000,9, -999.000,9, -999.000,9,-999.0000,9,  -999.00,9,-999.000,9,   -999,-999.0000,-999.000,-999.000,  1.0657,-999.000
     32MW893_2,  P04C,   114,  1,      3,      3,2,19890320,0221,  9.4983,-165.3367, 4352,   4257.1,   1.3320,  34.6944,2,  34.6944,2,   -999.0,5,    176.0,2,   135.13,2,    35.28,2,     0.00,2,     2.41,2, -999.000,9, -999.000,9, -999.000,9,-999.0000,9,  -999.00,9,-999.000,9,   -999,-999.0000,-999.000,-999.000,  0.9896,-999.000
     32MW893_2,  P04C,   114,  1,      2,      2,2,19890320,0221,  9.4983,-165.3367, 4352,   4410.6,   1.3310,  34.6946,2,  34.6964,2,   -999.0,5,    176.8,2,  -999.00,5,  -999.00,5,  -999.00,5,  -999.00,5,   -0.004,2,   -0.004,2, -999.000,9,-999.0000,9,  -999.00,9,-999.000,9,   -999,-999.0000,-999.000,-999.000,  0.9714,-999.000
     32MW893_2,  P04C,   114,  1,      1,      1,2,19890320,0221,  9.4983,-165.3367, 4352,   4410.6,   1.3310,  34.6946,2,  34.6962,2,   -999.0,5,    177.7,2,   135.22,2,    34.99,2,     0.00,2,     2.41,2,   -0.006,2,   -0.004,2, -999.000,9,-999.0000,9,  -999.00,9,-999.000,9,   -999,-999.0000,-999.000,-999.000,  0.9714,-999.000