BOTTLE,20020311WHPSIOdm
EXPOCODE,SECT_ID,STNNBR,CASTNO,SAMPNO,BTLNBR,BTLNBR_FLAG_W,DATE,TIME,LATITUDE,LONGITUDE,DEPTH,CTDPRS,CTDTMP,CTDSAL,CTDSAL_FLAG_W,SALNTY,SALNTY_FLAG_W,CTDOXY,CTDOXY_FLAG_W,OXYGEN,OXYGEN_FLAG_W,SILCAT,SILCAT_FLAG_W,NITRAT,NITRAT_FLAG_W,NITRIT,NITRIT_FLAG_W,PHSPHT,PHSPHT_FLAG_W,CFC-11,CFC-11_FLAG_W,CFC-12,CFC-12_FLAG_W,TRITUM,TRITUM_FLAG_W,HELIUM,HELIUM_FLAG_W,DELHE3,DELHE3_FLAG_W,NEON,NEON_FLAG_W,CTDRAW,HELIER,DELHER,NEONER,THETA,TRITER
,,,,,,,,,,,,DBAR,ITS-90,PSS-78,,PSS-78,,UMOL/KG,,UMOL/KG,,UMOL/KG,,UMOL/KG,,UMOL/KG,,UMOL/KG,,PMOL/KG,,PMOL/KG,,TU,,NMOL/KG,,PERCNT,,NMOL/KG,,,NMOL/KG,PERCNT,NMOL/KG,ITS-90,TU
     32MW893_2,  P04C,    87,  1,     24,     24,2,19890310,0656,  9.4933, 172.6667, 4942,      7.4,  27.6379,  34.4283,2,  34.4273,2,   -999.0,5,    234.2,2,     0.89,2,     0.00,2,     0.00,2,     0.15,2, -999.000,9, -999.000,9, -999.000,9,-999.0000,9,  -999.00,9,-999.000,9,   -999,-999.0000,-999.000,-999.000, 27.6362,-999.000
     32MW893_2,  P04C,    87,  1,     23,     23,2,19890310,0656,  9.4933, 172.6667, 4942,     47.8,  27.6899,  34.5138,2,  34.5113,2,   -999.0,5,    230.8,2,     0.89,2,     0.00,2,     0.00,2,     0.20,2, -999.000,9, -999.000,9, -999.000,9,-999.0000,9,  -999.00,9,-999.000,9,   -999,-999.0000,-999.000,-999.000, 27.6787,-999.000
     32MW893_2,  P04C,    87,  1,     22,     22,2,19890310,0656,  9.4933, 172.6667, 4942,     96.4,  23.0709,  34.8731,2,  34.8717,2,   -999.0,5,    191.2,2,     2.66,2,     2.54,2,     0.32,2,     0.37,2, -999.000,9, -999.000,9, -999.000,9,-999.0000,9,  -999.00,9,-999.000,9,   -999,-999.0000,-999.000,-999.000, 23.0512,-999.000
     32MW893_2,  P04C,    87,  1,     21,     21,2,19890310,0656,  9.4933, 172.6667, 4942,    145.9,  18.3481,  34.8477,2,  34.8355,2,   -999.0,5,    171.2,2,     6.10,2,     7.43,2,     0.02,2,     0.69,2, -999.000,9, -999.000,9, -999.000,9,-999.0000,9,  -999.00,9,-999.000,9,   -999,-999.0000,-999.000,-999.000, 18.3228,-999.000
     32MW893_2,  P04C,    87,  1,     20,     20,2,19890310,0656,  9.4933, 172.6667, 4942,    195.9,  11.6451,  34.3418,2,  34.3421,2,   -999.0,5,    162.5,2,    20.18,2,    18.48,2,     0.00,2,     1.40,2, -999.000,9, -999.000,9, -999.000,9,-999.0000,9,  -999.00,9,-999.000,9,   -999,-999.0000,-999.000,-999.000, 11.6202,-999.000
     32MW893_2,  P04C,    87,  1,     19,     19,2,19890310,0656,  9.4933, 172.6667, 4942,    246.6,  10.4125,  34.4450,2,  34.4779,2,   -999.0,5,     85.2,2,    31.40,2,    29.33,2,     0.00,2,     2.19,2, -999.000,9, -999.000,9, -999.000,9,-999.0000,9,  -999.00,9,-999.000,9,   -999,-999.0000,-999.000,-999.000, 10.3832,-999.000
     32MW893_2,  P04C,    87,  1,     18,     18,2,19890310,0656,  9.4933, 172.6667, 4942,    295.5,  10.1397,  34.6399,2,  34.6313,2,   -999.0,5,     48.7,2,    34.74,2,    34.41,2,     0.00,2,     2.48,2, -999.000,9, -999.000,9, -999.000,9,-999.0000,9,  -999.00,9,-999.000,9,   -999,-999.0000,-999.000,-999.000, 10.1051,-999.000
     32MW893_2,  P04C,    87,  1,     17,     17,2,19890310,0656,  9.4933, 172.6667, 4942,    347.4,   9.3269,  34.6105,2,  34.6101,2,   -999.0,5,     46.5,2,    39.07,2,    35.78,2,     0.00,2,     2.55,2, -999.000,9, -999.000,9, -999.000,9,-999.0000,9,  -999.00,9,-999.000,9,   -999,-999.0000,-999.000,-999.000,  9.2882,-999.000
     32MW893_2,  P04C,    87,  1,     16,     16,2,19890310,0656,  9.4933, 172.6667, 4942,    398.5,   9.0230,  34.6300,2,  34.6286,2,   -999.0,5,     29.1,2,    40.85,2,    36.95,2,     0.00,2,     2.64,2, -999.000,9, -999.000,9, -999.000,9,-999.0000,9,  -999.00,9,-999.000,9,   -999,-999.0000,-999.000,-999.000,  8.9793,-999.000
     32MW893_2,  P04C,    87,  1,     15,     15,2,19890310,0656,  9.4933, 172.6667, 4942,    496.6,   7.8414,  34.5769,2,  34.5740,2,   -999.0,5,     52.6,2,    49.80,2,    38.02,2,     0.00,2,     2.76,2, -999.000,9, -999.000,9, -999.000,9,-999.0000,9,  -999.00,9,-999.000,9,   -999,-999.0000,-999.000,-999.000,  7.7911,-999.000
     32MW893_2,  P04C,    87,  1,     13,     13,2,19890310,0656,  9.4933, 172.6667, 4942,    795.8,   5.4073,  34.5419,2,  34.5386,2,   -999.0,5,     48.2,2,    80.81,2,    42.72,2,     0.00,2,     3.05,2, -999.000,9, -999.000,9, -999.000,9,-999.0000,9,  -999.00,9,-999.000,9,   -999,-999.0000,-999.000,-999.000,  5.3396,-999.000
     32MW893_2,  P04C,    87,  1,     12,     12,2,19890310,0656,  9.4933, 172.6667, 4942,    998.7,   4.4197,  34.5495,2,  34.5478,2,   -999.0,5,   -999.0,5,    98.13,2,    41.54,2,     0.00,2,     2.97,2, -999.000,9, -999.000,9, -999.000,9,-999.0000,9,  -999.00,9,-999.000,9,   -999,-999.0000,-999.000,-999.000,  4.3409,-999.000
     32MW893_2,  P04C,    87,  1,     11,     11,2,19890310,0656,  9.4933, 172.6667, 4942,   1248.1,   3.5241,  34.5771,2,  34.5753,2,   -999.0,5,     79.5,2,   116.14,2,    41.05,2,     0.00,2,     2.93,2, -999.000,9, -999.000,9, -999.000,9,-999.0000,9,  -999.00,9,-999.000,9,   -999,-999.0000,-999.000,-999.000,  3.4317,-999.000
     32MW893_2,  P04C,    87,  1,     10,     10,2,19890310,0656,  9.4933, 172.6667, 4942,   1495.9,   2.9203,  34.5976,2,  34.5981,2,   -999.0,5,   -999.0,5,   129.82,2,    40.66,2,     0.00,2,     2.90,2, -999.000,9, -999.000,9, -999.000,9,-999.0000,9,  -999.00,9,-999.000,9,   -999,-999.0000,-999.000,-999.000,  2.8136,-999.000
     32MW893_2,  P04C,    87,  1,      9,      9,2,19890310,0656,  9.4933, 172.6667, 4942,   1999.7,   2.1257,  34.6396,2,  34.6386,2,   -999.0,5,    108.6,2,   146.26,2,    39.59,2,     0.00,2,     2.80,2, -999.000,9, -999.000,9, -999.000,9,-999.0000,9,  -999.00,9,-999.000,9,   -999,-999.0000,-999.000,-999.000,  1.9873,-999.000
     32MW893_2,  P04C,    87,  1,      8,      8,2,19890310,0656,  9.4933, 172.6667, 4942,   2499.3,   1.8178,  34.6590,2,  34.6578,2,   -999.0,5,    123.4,2,   151.85,2,    38.71,2,     0.00,2,     2.72,2, -999.000,9, -999.000,9, -999.000,9,-999.0000,9,  -999.00,9,-999.000,9,   -999,-999.0000,-999.000,-999.000,  1.6409,-999.000
     32MW893_2,  P04C,    87,  1,      7,      7,2,19890310,0656,  9.4933, 172.6667, 4942,   3016.3,   1.6238,  34.6722,2,  34.6712,2,   -999.0,5,   -999.0,5,   151.96,2,    37.73,2,     0.00,2,     2.63,2, -999.000,9, -999.000,9, -999.000,9,-999.0000,9,  -999.00,9,-999.000,9,   -999,-999.0000,-999.000,-999.000,  1.4028,-999.000
     32MW893_2,  P04C,    87,  1,      6,      6,2,19890310,0656,  9.4933, 172.6667, 4942,   3529.0,   1.4919,  34.6806,2,  34.6804,2,   -999.0,5,   -999.0,5,   148.61,2,    36.75,2,     0.00,2,     2.63,2, -999.000,9, -999.000,9, -999.000,9,-999.0000,9,  -999.00,9,-999.000,9,   -999,-999.0000,-999.000,-999.000,  1.2230,-999.000
     32MW893_2,  P04C,    87,  1,      5,      5,2,19890310,0656,  9.4933, 172.6667, 4942,   4004.4,   1.3940,  34.6883,2,  34.6875,2,   -999.0,5,    171.2,2,   141.92,2,    35.58,2,     0.00,2,     2.51,2, -999.000,9, -999.000,9, -999.000,9,-999.0000,9,  -999.00,9,-999.000,9,   -999,-999.0000,-999.000,-999.000,  1.0775,-999.000
     32MW893_2,  P04C,    87,  1,      4,      4,2,19890310,0656,  9.4933, 172.6667, 4942,   4255.0,   1.3680,  34.6929,2,  34.6948,2,   -999.0,5,    178.1,2,   136.90,2,    35.19,2,     0.00,2,     2.47,2, -999.000,9, -999.000,9, -999.000,9,-999.0000,9,  -999.00,9,-999.000,9,   -999,-999.0000,-999.000,-999.000,  1.0248,-999.000
     32MW893_2,  P04C,    87,  1,      3,      3,2,19890310,0656,  9.4933, 172.6667, 4942,   4508.3,   1.3700,  34.6933,2,  34.6944,2,   -999.0,5,    183.8,2,   135.32,2,    34.99,2,     0.00,2,     2.48,2, -999.000,9, -999.000,9, -999.000,9,-999.0000,9,  -999.00,9,-999.000,9,   -999,-999.0000,-999.000,-999.000,  0.9981,-999.000
     32MW893_2,  P04C,    87,  1,      2,      2,2,19890310,0656,  9.4933, 172.6667, 4942,   4753.4,   1.3600,  34.6970,2,  34.6975,2,   -999.0,5,    183.8,2,   132.66,2,    34.60,2,     0.00,2,     2.38,2, -999.000,9, -999.000,9, -999.000,9,-999.0000,9,  -999.00,9,-999.000,9,   -999,-999.0000,-999.000,-999.000,  0.9599,-999.000
     32MW893_2,  P04C,    87,  1,      1,      1,2,19890310,0656,  9.4933, 172.6667, 4942,   4945.1,   1.2990,  34.7017,2,  34.7011,2,   -999.0,5,    193.3,2,   127.15,2,    33.82,2,     0.00,2,     2.35,2, -999.000,9, -999.000,9, -999.000,9,-999.0000,9,  -999.00,9,-999.000,9,   -999,-999.0000,-999.000,-999.000,  0.8781,-999.000
     32MW893_2,  P04C,    88,  1,     24,     24,2,19890310,1442,  9.4867, 173.3333, 5214,      6.4,  27.9408,  34.5148,2,  34.5156,2,   -999.0,5,    218.1,2,     1.48,2,     0.00,2,     0.00,2,     0.17,2, -999.000,9, -999.000,9, -999.000,9,-999.0000,9,  -999.00,9,-999.000,9,   -999,-999.0000,-999.000,-999.000, 27.9393,-999.000
     32MW893_2,  P04C,    88,  1,     23,     23,2,19890310,1442,  9.4867, 173.3333, 5214,     47.4,  27.9488,  34.5158,2,  34.5147,2,   -999.0,5,    216.8,2,     1.48,2,     0.00,2,     0.00,2,     0.22,2, -999.000,9, -999.000,9, -999.000,9,-999.0000,9,  -999.00,9,-999.000,9,   -999,-999.0000,-999.000,-999.000, 27.9377,-999.000
     32MW893_2,  P04C,    88,  1,     22,     22,2,19890310,1442,  9.4867, 173.3333, 5214,     97.2,  25.6873,  34.8078,2,  34.8062,2,   -999.0,5,    207.2,2,     1.48,2,     0.10,2,     0.00,2,     0.24,2, -999.000,9, -999.000,9, -999.000,9,-999.0000,9,  -999.00,9,-999.000,9,   -999,-999.0000,-999.000,-999.000, 25.6658,-999.000
     32MW893_2,  P04C,    88,  1,     21,     21,2,19890310,1442,  9.4867, 173.3333, 5214,    147.3,  18.1991,  34.8458,2,  34.8338,2,   -999.0,5,    163.8,2,     5.61,2,     7.43,2,     0.04,2,     0.73,2, -999.000,9, -999.000,9, -999.000,9,-999.0000,9,  -999.00,9,-999.000,9,   -999,-999.0000,-999.000,-999.000, 18.1737,-999.000
     32MW893_2,  P04C,    88,  1,     20,     20,2,19890310,1442,  9.4867, 173.3333, 5214,    198.3,  12.2110,  34.5249,2,  34.5180,2,   -999.0,5,     87.3,2,    22.93,2,    24.63,2,     0.00,2,     1.88,2, -999.000,9, -999.000,9, -999.000,9,-999.0000,9,  -999.00,9,-999.000,9,   -999,-999.0000,-999.000,-999.000, 12.1850,-999.000
     32MW893_2,  P04C,    88,  1,     19,     19,2,19890310,1442,  9.4867, 173.3333, 5214,    246.1,  11.0743,  34.6823,2,  34.6816,2,   -999.0,5,     21.7,2,    31.00,2,    33.62,2,     0.00,2,     2.46,2, -999.000,9, -999.000,9, -999.000,9,-999.0000,9,  -999.00,9,-999.000,9,   -999,-999.0000,-999.000,-999.000, 11.0439,-999.000
     32MW893_2,  P04C,    88,  1,     18,     18,2,19890310,1442,  9.4867, 173.3333, 5214,    298.3,  10.0237,  34.6794,2,  34.6761,2,   -999.0,5,     27.8,2,    34.25,2,    35.48,2,     0.00,2,     2.52,2, -999.000,9, -999.000,9, -999.000,9,-999.0000,9,  -999.00,9,-999.000,9,   -999,-999.0000,-999.000,-999.000,  9.9890,-999.000
     32MW893_2,  P04C,    88,  1,     17,     17,2,19890310,1442,  9.4867, 173.3333, 5214,    398.2,   9.1750,  34.6534,2,  34.6504,2,   -999.0,5,     22.6,2,    39.07,2,    37.24,2,     0.00,2,     2.69,2, -999.000,9, -999.000,9, -999.000,9,-999.0000,9,  -999.00,9,-999.000,9,   -999,-999.0000,-999.000,-999.000,  9.1309,-999.000
     32MW893_2,  P04C,    88,  1,     16,     16,2,19890310,1442,  9.4867, 173.3333, 5214,    497.3,   8.5401,  34.6186,2,  34.6195,2,   -999.0,5,     32.2,2,    42.72,2,    37.34,2,     0.00,2,     2.72,2, -999.000,9, -999.000,9, -999.000,9,-999.0000,9,  -999.00,9,-999.000,9,   -999,-999.0000,-999.000,-999.000,  8.4872,-999.000
     32MW893_2,  P04C,    88,  1,     15,     15,2,19890310,1442,  9.4867, 173.3333, 5214,    598.6,   7.6815,  34.5763,2,  34.5753,2,   -999.0,5,     35.2,2,    50.89,2,    38.71,2,     0.00,2,     2.82,2, -999.000,9, -999.000,9, -999.000,9,-999.0000,9,  -999.00,9,-999.000,9,   -999,-999.0000,-999.000,-999.000,  7.6211,-999.000
     32MW893_2,  P04C,    88,  1,     14,     14,2,19890310,1442,  9.4867, 173.3333, 5214,    698.4,   6.8598,  34.5586,2,  34.5610,2,   -999.0,5,     41.7,2,    58.07,2,    40.18,2,     0.00,2,     2.89,2, -999.000,9, -999.000,9, -999.000,9,-999.0000,9,  -999.00,9,-999.000,9,   -999,-999.0000,-999.000,-999.000,  6.7932,-999.000
     32MW893_2,  P04C,    88,  1,     13,     13,2,19890310,1442,  9.4867, 173.3333, 5214,    798.0,   5.9672,  34.5412,2,  34.5398,2,   -999.0,5,     36.9,2,    72.05,2,    42.23,2,     0.00,2,     3.05,2, -999.000,9, -999.000,9, -999.000,9,-999.0000,9,  -999.00,9,-999.000,9,   -999,-999.0000,-999.000,-999.000,  5.8959,-999.000
     32MW893_2,  P04C,    88,  1,     12,     12,2,19890310,1442,  9.4867, 173.3333, 5214,    997.8,   4.9355,  34.5480,2,  34.5465,2,   -999.0,5,     44.3,2,    88.48,2,    43.21,2,     0.00,2,     3.09,2, -999.000,9, -999.000,9, -999.000,9,-999.0000,9,  -999.00,9,-999.000,9,   -999,-999.0000,-999.000,-999.000,  4.8528,-999.000
     32MW893_2,  P04C,    88,  1,     11,     11,2,19890310,1442,  9.4867, 173.3333, 5214,   1244.1,   3.8590,  34.5622,2,  34.5626,2,   -999.0,5,     68.2,2,   110.53,2,    41.74,2,     0.00,2,     2.96,2, -999.000,9, -999.000,9, -999.000,9,-999.0000,9,  -999.00,9,-999.000,9,   -999,-999.0000,-999.000,-999.000,  3.7638,-999.000
     32MW893_2,  P04C,    88,  1,     10,     10,2,19890310,1442,  9.4867, 173.3333, 5214,   1497.7,   2.9813,  34.5935,2,  34.5907,2,   -999.0,5,     83.0,2,   129.43,2,    41.05,2,     0.00,2,     2.90,2, -999.000,9, -999.000,9, -999.000,9,-999.0000,9,  -999.00,9,-999.000,9,   -999,-999.0000,-999.000,-999.000,  2.8738,-999.000
     32MW893_2,  P04C,    88,  1,      9,      9,2,19890310,1442,  9.4867, 173.3333, 5214,   1997.3,   2.1187,  34.6372,2,  34.6343,2,   -999.0,5,    108.2,2,   147.73,2,    39.78,2,     0.00,2,     2.80,2, -999.000,9, -999.000,9, -999.000,9,-999.0000,9,  -999.00,9,-999.000,9,   -999,-999.0000,-999.000,-999.000,  1.9806,-999.000
     32MW893_2,  P04C,    88,  1,      8,      8,2,19890310,1442,  9.4867, 173.3333, 5214,   2499.4,   1.7988,  34.6596,2,  34.6578,2,   -999.0,5,    122.1,2,   153.23,2,    38.80,2,     0.00,2,     2.71,2, -999.000,9, -999.000,9, -999.000,9,-999.0000,9,  -999.00,9,-999.000,9,   -999,-999.0000,-999.000,-999.000,  1.6223,-999.000
     32MW893_2,  P04C,    88,  1,      7,      7,2,19890310,1442,  9.4867, 173.3333, 5214,   3001.8,   1.6028,  34.6730,2,  34.6706,2,   -999.0,5,    137.7,2,   152.55,2,    37.83,2,     0.00,2,     2.62,2, -999.000,9, -999.000,9, -999.000,9,-999.0000,9,  -999.00,9,-999.000,9,   -999,-999.0000,-999.000,-999.000,  1.3836,-999.000
     32MW893_2,  P04C,    88,  1,      6,      6,2,19890310,1442,  9.4867, 173.3333, 5214,   3501.4,   1.4589,  34.6824,2,  34.6802,2,   -999.0,5,    151.6,2,   147.83,2,    36.65,2,     0.00,2,     2.54,2, -999.000,9, -999.000,9, -999.000,9,-999.0000,9,  -999.00,9,-999.000,9,   -999,-999.0000,-999.000,-999.000,  1.1937,-999.000
     32MW893_2,  P04C,    88,  1,      5,      5,2,19890310,1442,  9.4867, 173.3333, 5214,   4001.7,   1.3680,  34.6901,2,  34.6897,2,   -999.0,5,    169.9,2,   139.26,2,    35.58,2,     0.00,2,     2.43,2, -999.000,9, -999.000,9, -999.000,9,-999.0000,9,  -999.00,9,-999.000,9,   -999,-999.0000,-999.000,-999.000,  1.0525,-999.000
     32MW893_2,  P04C,    88,  1,      4,      4,2,19890310,1442,  9.4867, 173.3333, 5214,   4503.3,   1.3410,  34.6954,2,  34.6942,2,   -999.0,5,    181.2,2,   133.55,2,    34.80,2,     0.00,2,     2.37,2, -999.000,9, -999.000,9, -999.000,9,-999.0000,9,  -999.00,9,-999.000,9,   -999,-999.0000,-999.000,-999.000,  0.9706,-999.000
     32MW893_2,  P04C,    88,  1,      3,      3,2,19890310,1442,  9.4867, 173.3333, 5214,   4751.3,   1.3280,  34.6986,2,  34.6960,2,   -999.0,5,    186.4,2,   130.40,2,    34.31,2,     0.00,2,     2.37,2, -999.000,9, -999.000,9, -999.000,9,-999.0000,9,  -999.00,9,-999.000,9,   -999,-999.0000,-999.000,-999.000,  0.9292,-999.000
     32MW893_2,  P04C,    88,  1,      2,      2,2,19890310,1442,  9.4867, 173.3333, 5214,   5006.3,   1.3130,  34.7009,2,  34.7007,2,   -999.0,5,    191.6,2,   127.05,2,    33.92,2,     0.00,2,     2.35,2, -999.000,9, -999.000,9, -999.000,9,-999.0000,9,  -999.00,9,-999.000,9,   -999,-999.0000,-999.000,-999.000,  0.8842,-999.000
     32MW893_2,  P04C,    88,  1,      1,      1,2,19890310,1442,  9.4867, 173.3333, 5214,   5216.5,   1.3230,  34.7020,2,  34.7001,2,   -999.0,5,    192.9,2,   127.05,2,    33.82,2,     0.00,2,     2.32,2, -999.000,9, -999.000,9, -999.000,9,-999.0000,9,  -999.00,9,-999.000,9,   -999,-999.0000,-999.000,-999.000,  0.8683,-999.000