BOTTLE,20020311WHPSIOdm
EXPOCODE,SECT_ID,STNNBR,CASTNO,SAMPNO,BTLNBR,BTLNBR_FLAG_W,DATE,TIME,LATITUDE,LONGITUDE,DEPTH,CTDPRS,CTDTMP,CTDSAL,CTDSAL_FLAG_W,SALNTY,SALNTY_FLAG_W,CTDOXY,CTDOXY_FLAG_W,OXYGEN,OXYGEN_FLAG_W,SILCAT,SILCAT_FLAG_W,NITRAT,NITRAT_FLAG_W,NITRIT,NITRIT_FLAG_W,PHSPHT,PHSPHT_FLAG_W,CFC-11,CFC-11_FLAG_W,CFC-12,CFC-12_FLAG_W,TRITUM,TRITUM_FLAG_W,HELIUM,HELIUM_FLAG_W,DELHE3,DELHE3_FLAG_W,NEON,NEON_FLAG_W,CTDRAW,HELIER,DELHER,NEONER,THETA,TRITER
,,,,,,,,,,,,DBAR,ITS-90,PSS-78,,PSS-78,,UMOL/KG,,UMOL/KG,,UMOL/KG,,UMOL/KG,,UMOL/KG,,UMOL/KG,,PMOL/KG,,PMOL/KG,,TU,,NMOL/KG,,PERCNT,,NMOL/KG,,,NMOL/KG,PERCNT,NMOL/KG,ITS-90,TU
     32MW893_2,  P04C,    89,  1,     24,     24,2,19890310,2228,  9.4867, 174.0000, 5400,      2.4,  27.9468,  34.5858,2,  34.5844,2,   -999.0,5,    219.4,2,     1.57,2,     0.00,2,     0.01,2,     0.20,2,    1.530,2,    0.835,2, -999.000,9,-999.0000,9,  -999.00,9,-999.000,9,   -999,-999.0000,-999.000,-999.000, 27.9462,-999.000
     32MW893_2,  P04C,    89,  1,     23,     23,2,19890310,2228,  9.4867, 174.0000, 5400,     46.8,  27.9108,  34.5922,2,  34.5930,2,   -999.0,5,    214.7,2,     1.57,2,     0.00,2,     0.01,2,     0.22,2,    1.525,2,    0.836,2, -999.000,9,-999.0000,9,  -999.00,9,-999.000,9,   -999,-999.0000,-999.000,-999.000, 27.8998,-999.000
     32MW893_2,  P04C,    89,  1,     22,     22,2,19890310,2228,  9.4867, 174.0000, 5400,     96.4,  25.1414,  34.8069,2,  34.8151,2,   -999.0,5,    202.5,2,     1.96,2,     0.29,2,     0.01,2,     0.27,2,    1.699,2,    0.933,2, -999.000,9,-999.0000,9,  -999.00,9,-999.000,9,   -999,-999.0000,-999.000,-999.000, 25.1204,-999.000
     32MW893_2,  P04C,    89,  1,     21,     21,2,19890310,2228,  9.4867, 174.0000, 5400,    145.8,  16.6076,  34.6634,2,  34.7697,2,   -999.0,5,    148.6,2,     8.37,2,    10.16,2,     0.01,2,     0.91,2,    1.532,2,    0.804,2, -999.000,9,-999.0000,9,  -999.00,9,-999.000,9,   -999,-999.0000,-999.000,-999.000, 16.5840,-999.000
     32MW893_2,  P04C,    89,  1,     20,     20,2,19890310,2228,  9.4867, 174.0000, 5400,    195.0,  11.9120,  34.5824,2,  34.5814,2,   -999.0,5,     40.8,2,    26.68,2,    29.42,2,     0.01,2,     2.25,2,    0.432,2,    0.234,2, -999.000,9,-999.0000,9,  -999.00,9,-999.000,9,   -999,-999.0000,-999.000,-999.000, 11.8868,-999.000
     32MW893_2,  P04C,    89,  1,     19,     19,2,19890310,2228,  9.4867, 174.0000, 5400,    246.2,  10.7554,  34.6763,2,  34.6689,2,   -999.0,5,     20.4,2,    31.69,2,    33.72,2,     0.01,2,     2.51,2,    0.127,2,    0.066,2, -999.000,9,-999.0000,9,  -999.00,9,-999.000,9,   -999,-999.0000,-999.000,-999.000, 10.7255,-999.000
     32MW893_2,  P04C,    89,  1,     18,     18,2,19890310,2228,  9.4867, 174.0000, 5400,    297.2,  10.1557,  34.6879,2,  34.6871,2,   -999.0,5,     20.0,2,    34.15,2,    35.28,2,     0.01,2,     2.55,2,    0.031,2, -999.000,5, -999.000,9,-999.0000,9,  -999.00,9,-999.000,9,   -999,-999.0000,-999.000,-999.000, 10.1208,-999.000
     32MW893_2,  P04C,    89,  1,     17,     17,2,19890310,2228,  9.4867, 174.0000, 5400,    395.8,   9.3109,  34.6567,2,  34.6563,2,   -999.0,5,     18.2,2,    38.09,2,    36.65,2,     0.01,2,     2.69,2,    0.016,2, -999.000,5, -999.000,9,-999.0000,9,  -999.00,9,-999.000,9,   -999,-999.0000,-999.000,-999.000,  9.2667,-999.000
     32MW893_2,  P04C,    89,  1,     16,     16,2,19890310,2228,  9.4867, 174.0000, 5400,    498.5,   8.3643,  34.6095,2,  34.6076,2,   -999.0,5,     19.6,2,    46.46,2,    37.83,2,     0.01,2,     2.82,2,    0.006,2,    0.008,2, -999.000,9,-999.0000,9,  -999.00,9,-999.000,9,   -999,-999.0000,-999.000,-999.000,  8.3118,-999.000
     32MW893_2,  P04C,    89,  1,     15,     15,2,19890310,2228,  9.4867, 174.0000, 5400,    598.8,   7.4176,  34.5678,2,  34.5728,2,   -999.0,5,     22.6,2,    55.51,2,    39.39,2,     0.01,2,     2.98,2,    0.006,2,   -0.004,2, -999.000,9,-999.0000,9,  -999.00,9,-999.000,9,   -999,-999.0000,-999.000,-999.000,  7.3584,-999.000
     32MW893_2,  P04C,    89,  1,     14,     14,2,19890310,2228,  9.4867, 174.0000, 5400,    696.7,   6.4769,  34.5622,2,  34.5412,2,   -999.0,5,     29.5,2,    65.65,2,    41.25,2,     0.01,2,     3.03,2,   -0.001,2,   -0.004,2, -999.000,9,-999.0000,9,  -999.00,9,-999.000,9,   -999,-999.0000,-999.000,-999.000,  6.4126,-999.000
     32MW893_2,  P04C,    89,  1,     13,     13,2,19890310,2228,  9.4867, 174.0000, 5400,    798.5,   5.8182,  34.5404,2,  34.5386,2,   -999.0,5,     33.5,2,    74.31,2,    42.13,2,     0.00,2,     3.08,2,   -0.015,2,    0.001,2, -999.000,9,-999.0000,9,  -999.00,9,-999.000,9,   -999,-999.0000,-999.000,-999.000,  5.7478,-999.000
     32MW893_2,  P04C,    89,  1,     12,     12,2,19890310,2228,  9.4867, 174.0000, 5400,    996.9,   4.7995,  34.5492,2,  34.5463,2,   -999.0,5,     45.6,2,    90.45,2,    42.52,2,     0.00,2,     3.10,2,   -0.010,2,   -0.005,2, -999.000,9,-999.0000,9,  -999.00,9,-999.000,9,   -999,-999.0000,-999.000,-999.000,  4.7180,-999.000
     32MW893_2,  P04C,    89,  1,     11,     11,2,19890310,2228,  9.4867, 174.0000, 5400,   1247.9,   3.8420,  34.5686,2,  34.5667,2,   -999.0,5,     69.5,2,   109.16,2,    41.35,2,     0.00,2,     2.98,2, -999.000,5,    0.001,2, -999.000,9,-999.0000,9,  -999.00,9,-999.000,9,   -999,-999.0000,-999.000,-999.000,  3.7466,-999.000
     32MW893_2,  P04C,    89,  1,      9,      9,2,19890310,2228,  9.4867, 174.0000, 5400,   2000.3,   2.1726,  34.6344,2,  34.6360,2,   -999.0,5,    103.8,2,   145.95,2,    39.49,2,     0.00,2,     2.81,2, -999.000,9, -999.000,9, -999.000,9,-999.0000,9,  -999.00,9,-999.000,9,   -999,-999.0000,-999.000,-999.000,  2.0335,-999.000
     32MW893_2,  P04C,    89,  1,      8,      8,2,19890310,2228,  9.4867, 174.0000, 5400,   2501.4,   1.7928,  34.6601,2,  34.6592,2,   -999.0,5,    120.4,2,   151.96,2,    38.41,2,     0.00,2,     2.73,2, -999.000,9, -999.000,9, -999.000,9,-999.0000,9,  -999.00,9,-999.000,9,   -999,-999.0000,-999.000,-999.000,  1.6162,-999.000
     32MW893_2,  P04C,    89,  1,      7,      7,2,19890310,2228,  9.4867, 174.0000, 5400,   3000.5,   1.5968,  34.6726,2,  34.6763,2,   -999.0,5,    136.0,2,   151.56,2,    37.34,2,     0.00,2,     2.62,2, -999.000,9, -999.000,9, -999.000,9,-999.0000,9,  -999.00,9,-999.000,9,   -999,-999.0000,-999.000,-999.000,  1.3779,-999.000
     32MW893_2,  P04C,    89,  1,      6,      6,2,19890310,2228,  9.4867, 174.0000, 5400,   3501.0,   1.4609,  34.6829,2,  34.6808,2,   -999.0,5,    151.6,2,   146.94,2,    36.26,2,     0.00,2,     2.55,2, -999.000,9, -999.000,9, -999.000,9,-999.0000,9,  -999.00,9,-999.000,9,   -999,-999.0000,-999.000,-999.000,  1.1957,-999.000
     32MW893_2,  P04C,    89,  1,      5,      5,2,19890310,2228,  9.4867, 174.0000, 5400,   4004.7,   1.4060,  34.6878,2,  34.6905,2,   -999.0,5,    164.2,2,   141.42,2,    35.48,2,     0.00,2,     2.47,2, -999.000,9, -999.000,9, -999.000,9,-999.0000,9,  -999.00,9,-999.000,9,   -999,-999.0000,-999.000,-999.000,  1.0891,-999.000
     32MW893_2,  P04C,    89,  1,      4,      4,2,19890310,2228,  9.4867, 174.0000, 5400,   4503.3,   1.3700,  34.6941,2,  34.6954,2,   -999.0,5,    175.1,2,   134.63,2,    34.40,2,     0.00,2,     2.36,2, -999.000,9, -999.000,9, -999.000,9,-999.0000,9,  -999.00,9,-999.000,9,   -999,-999.0000,-999.000,-999.000,  0.9986,-999.000
     32MW893_2,  P04C,    89,  1,      3,      3,2,19890310,2228,  9.4867, 174.0000, 5400,   4752.7,   1.3340,  34.6979,2,  34.7001,2,   -999.0,5,    185.1,2,   130.49,2,    34.21,2,     0.00,2,     2.32,2, -999.000,9, -999.000,9, -999.000,9,-999.0000,9,  -999.00,9,-999.000,9,   -999,-999.0000,-999.000,-999.000,  0.9348,-999.000
     32MW893_2,  P04C,    89,  1,      2,      2,2,19890310,2228,  9.4867, 174.0000, 5400,   5006.6,   1.3150,  34.6999,2,  34.7048,2,   -999.0,5,    189.0,2,   127.64,2,    33.62,2,     0.00,2,     2.32,2,    0.012,2,   -0.005,2, -999.000,9,-999.0000,9,  -999.00,9,-999.000,9,   -999,-999.0000,-999.000,-999.000,  0.8861,-999.000
     32MW893_2,  P04C,    89,  1,      1,      1,2,19890310,2228,  9.4867, 174.0000, 5400,   5409.4,   1.3460,  34.7023,2,  34.7030,2,   -999.0,5,    193.8,2,   126.86,2,    33.75,2,    -0.01,2,     2.31,2, -999.000,9, -999.000,9, -999.000,9,-999.0000,9,  -999.00,9,-999.000,9,   -999,-999.0000,-999.000,-999.000,  0.8664,-999.000
     32MW893_2,  P04C,    90,  1,     24,     24,2,19890311,0606,  9.4900, 174.6667, 5436,     20.6,  27.8128,  34.5135,2,  34.5127,2,   -999.0,5,    215.5,2,     1.67,2,     0.00,2,    -0.01,2,     0.17,2, -999.000,9, -999.000,9,    1.670,2,   1.7030,2,    -1.04,2,-999.000,9,   -999,  0.0090,   0.080,-999.000, 27.8080,   0.029
     32MW893_2,  P04C,    90,  1,     23,     23,2,19890311,0606,  9.4900, 174.6667, 5436,     47.5,  27.7758,  34.6816,2,  34.6543,2,   -999.0,5,    236.8,2,     1.87,2,     0.00,2,    -0.01,2,     0.21,2, -999.000,9, -999.000,9,    1.709,2,   1.7000,2,    -0.56,2,-999.000,9,   -999,  0.0090,   0.080,-999.000, 27.7647,   0.030
     32MW893_2,  P04C,    90,  1,     22,     22,2,19890311,0606,  9.4900, 174.6667, 5436,     72.8,  25.8833,  34.8330,2,  34.8271,2,   -999.0,5,    185.1,2,     2.46,2,     2.54,2,    -0.01,2,     0.37,2, -999.000,9, -999.000,9, -999.000,9,-999.0000,9,  -999.00,9,-999.000,9,   -999,-999.0000,-999.000,-999.000, 25.8671,-999.000
     32MW893_2,  P04C,    90,  1,     21,     21,2,19890311,0606,  9.4900, 174.6667, 5436,     97.0,  23.6337,  34.8875,2,  34.8643,2,   -999.0,5,    168.1,2,     4.04,2,     5.47,2,     0.30,2,     0.52,2, -999.000,9, -999.000,9,    2.022,2,   1.7240,2,     2.10,2,-999.000,9,   -999,  0.0090,   0.080,-999.000, 23.6135,   0.032
     32MW893_2,  P04C,    90,  1,     20,     20,2,19890311,0606,  9.4900, 174.6667, 5436,    122.9,  20.3925,  34.9225,2,  34.8595,2,   -999.0,5,    170.7,2,     4.43,2,     5.08,2,     0.11,2,     0.57,2, -999.000,9, -999.000,9,    1.884,2,   1.7360,2,     3.23,2,-999.000,9,   -999,  0.0100,   0.080,-999.000, 20.3695,   0.016
     32MW893_2,  P04C,    90,  1,     19,     19,2,19890311,0606,  9.4900, 174.6667, 5436,    147.1,  17.5383,  34.7329,2,  34.7365,2,   -999.0,5,    156.0,2,     7.09,2,     8.60,2,     0.22,2,     0.79,2, -999.000,9, -999.000,9,    2.387,2,   1.7540,2,     4.96,2,-999.000,9,   -999,  0.0100,   0.080,-999.000, 17.5136,   0.019
     32MW893_2,  P04C,    90,  1,     18,     18,2,19890311,0606,  9.4900, 174.6667, 5436,    173.2,  15.1500,  34.5880,2,  34.5726,2,   -999.0,5,    139.5,2,    11.42,2,    14.08,2,    -0.01,2,     1.13,2, -999.000,9, -999.000,9,    2.006,2,   1.7700,2,     7.73,2,-999.000,9,   -999,  0.0100,   0.080,-999.000, 15.1237,   0.017
     32MW893_2,  P04C,    90,  1,     17,     17,2,19890311,0606,  9.4900, 174.6667, 5436,    197.6,  12.9147,  34.5379,2,  34.4561,2,   -999.0,5,    123.4,2,    16.34,2,    18.57,2,    -0.01,2,     1.45,2, -999.000,9, -999.000,9,    1.640,2,   1.7730,2,     9.95,2,-999.000,9,   -999,  0.0100,   0.080,-999.000, 12.8878,   0.014
     32MW893_2,  P04C,    90,  1,     16,     16,2,19890311,0606,  9.4900, 174.6667, 5436,    247.1,  10.8724,  34.5325,2,  34.5449,2,   -999.0,5,     50.8,2,    30.02,2,    30.79,2,    -0.01,2,     2.32,2, -999.000,9, -999.000,9,    0.696,2,   1.8460,2,     9.69,2,-999.000,9,   -999,  0.0100,   0.080,-999.000, 10.8422,   0.009
     32MW893_2,  P04C,    90,  1,     15,     15,2,19890311,0606,  9.4900, 174.6667, 5436,    297.1,  10.3005,  34.6782,2,  34.6822,2,   -999.0,5,     61.3,2,    32.87,2,    34.60,2,     0.00,2,     2.48,2, -999.000,9, -999.000,9,    0.190,2,   1.7970,2,     6.39,2,-999.000,9,   -999,  0.0100,   0.080,-999.000, 10.2653,   0.005
     32MW893_2,  P04C,    90,  1,     14,     14,2,19890311,0606,  9.4900, 174.6667, 5436,    396.0,   9.3319,  34.6694,2,  34.6602,2,   -999.0,5,     30.0,2,    36.52,2,    36.65,2,     0.00,2,     2.61,2, -999.000,9, -999.000,9,    0.048,2,   1.8040,2,     5.97,2,-999.000,9,   -999,  0.0100,   0.080,-999.000,  9.2876,   0.004
     32MW893_2,  P04C,    90,  1,     13,     13,2,19890311,0606,  9.4900, 174.6667, 5436,    497.2,   8.2553,  34.5929,2,  34.5920,2,   -999.0,5,   -999.0,5,    45.47,2,    37.34,2,     0.00,2,     2.76,2, -999.000,9, -999.000,9,    0.052,2,   1.8160,2,     7.01,2,-999.000,9,   -999,  0.0100,   0.080,-999.000,  8.2034,   0.003
     32MW893_2,  P04C,    90,  1,     12,     12,2,19890311,0606,  9.4900, 174.6667, 5436,    746.8,   5.8672,  34.5395,2,  34.5345,2,   -999.0,5,     37.8,2,    72.93,2,    42.23,2,     0.00,2,     3.08,2, -999.000,9, -999.000,9, -999.000,9,-999.0000,9,  -999.00,9,-999.000,9,   -999,-999.0000,-999.000,-999.000,  5.8014,-999.000
     32MW893_2,  P04C,    90,  1,     11,     11,2,19890311,0606,  9.4900, 174.6667, 5436,    996.1,   4.6447,  34.5524,2,  34.5512,2,   -999.0,5,     55.2,2,    92.42,2,    42.62,2,     0.00,2,     3.06,2, -999.000,9, -999.000,9, -999.000,9,-999.0000,9,  -999.00,9,-999.000,9,   -999,-999.0000,-999.000,-999.000,  4.5643,-999.000
     32MW893_2,  P04C,    90,  1,     10,     10,2,19890311,0606,  9.4900, 174.6667, 5436,   1496.1,   2.9903,  34.5981,2,  34.5956,2,   -999.0,5,   -999.0,5,   126.17,2,    40.86,2,     0.00,2,     2.91,2, -999.000,9, -999.000,9, -999.000,9,-999.0000,9,  -999.00,9,-999.000,9,   -999,-999.0000,-999.000,-999.000,  2.8828,-999.000
     32MW893_2,  P04C,    90,  1,      9,      9,2,19890311,0606,  9.4900, 174.6667, 5436,   1998.8,   2.1936,  34.6360,2,  34.6333,2,   -999.0,5,    106.5,2,   143.89,2,    39.68,2,    -0.01,2,     2.75,2, -999.000,9, -999.000,9, -999.000,9,-999.0000,9,  -999.00,9,-999.000,9,   -999,-999.0000,-999.000,-999.000,  2.0543,-999.000
     32MW893_2,  P04C,    90,  1,      8,      8,2,19890311,0606,  9.4900, 174.6667, 5436,   2498.0,   1.8228,  34.6580,2,  34.6565,2,   -999.0,5,    122.1,2,   151.37,2,    39.20,2,     0.00,2,     2.67,2, -999.000,9, -999.000,9, -999.000,9,-999.0000,9,  -999.00,9,-999.000,9,   -999,-999.0000,-999.000,-999.000,  1.6459,-999.000
     32MW893_2,  P04C,    90,  1,      7,      7,2,19890311,0606,  9.4900, 174.6667, 5436,   3001.1,   1.6188,  34.6710,2,  34.6698,2,   -999.0,5,    138.2,2,   151.36,2,    38.12,2,    -0.01,2,     2.56,2, -999.000,9, -999.000,9, -999.000,9,-999.0000,9,  -999.00,9,-999.000,9,   -999,-999.0000,-999.000,-999.000,  1.3994,-999.000
     32MW893_2,  P04C,    90,  1,      6,      6,2,19890311,0606,  9.4900, 174.6667, 5436,   3503.0,   1.4560,  34.6824,2,  34.6802,2,   -999.0,5,   -999.0,5,   147.03,2,    36.85,2,     0.00,2,     2.52,2, -999.000,9, -999.000,9, -999.000,9,-999.0000,9,  -999.00,9,-999.000,9,   -999,-999.0000,-999.000,-999.000,  1.1906,-999.000
     32MW893_2,  P04C,    90,  1,      5,      5,2,19890311,0606,  9.4900, 174.6667, 5436,   4003.7,   1.3470,  34.6919,2,  34.6914,2,   -999.0,5,    172.1,2,   136.99,2,    35.58,2,     0.00,2,     2.42,2, -999.000,9, -999.000,9, -999.000,9,-999.0000,9,  -999.00,9,-999.000,9,   -999,-999.0000,-999.000,-999.000,  1.0320,-999.000
     32MW893_2,  P04C,    90,  1,      4,      4,2,19890311,0606,  9.4900, 174.6667, 5436,   4504.8,   1.3560,  34.6948,2,  34.6962,2,   -999.0,5,   -999.0,5,   132.96,2,    35.09,2,     0.00,2,     2.39,2, -999.000,9, -999.000,9, -999.000,9,-999.0000,9,  -999.00,9,-999.000,9,   -999,-999.0000,-999.000,-999.000,  0.9849,-999.000
     32MW893_2,  P04C,    90,  1,      3,      3,2,19890311,0606,  9.4900, 174.6667, 5436,   5007.2,   1.3480,  34.6978,2,  34.6979,2,   -999.0,5,    185.5,2,   129.13,2,    34.60,2,     0.00,2,     2.32,2, -999.000,9, -999.000,9, -999.000,9,-999.0000,9,  -999.00,9,-999.000,9,   -999,-999.0000,-999.000,-999.000,  0.9180,-999.000
     32MW893_2,  P04C,    90,  1,      2,      2,2,19890311,0606,  9.4900, 174.6667, 5436,   5253.7,   1.3490,  34.7007,2,  34.7009,2,   -999.0,5,    190.3,2,   126.56,2,    34.31,2,     0.00,2,     2.29,2, -999.000,9, -999.000,9,   -0.003,2,-999.0000,9,  -999.00,9,-999.000,9,   -999,-999.0000,-999.000,-999.000,  0.8887,   0.004
     32MW893_2,  P04C,    90,  1,      1,      1,2,19890311,0606,  9.4900, 174.6667, 5436,   5530.3,   1.3700,  34.7025,2,  34.7028,2,   -999.0,5,    190.7,2,   126.37,2,    34.11,2,     0.00,2,     2.29,2, -999.000,9, -999.000,9, -999.000,9,-999.0000,9,  -999.00,9,-999.000,9,   -999,-999.0000,-999.000,-999.000,  0.8742,-999.000