BOTTLE,20020311WHPSIOdm
EXPOCODE,SECT_ID,STNNBR,CASTNO,SAMPNO,BTLNBR,BTLNBR_FLAG_W,DATE,TIME,LATITUDE,LONGITUDE,DEPTH,CTDPRS,CTDTMP,CTDSAL,CTDSAL_FLAG_W,SALNTY,SALNTY_FLAG_W,CTDOXY,CTDOXY_FLAG_W,OXYGEN,OXYGEN_FLAG_W,SILCAT,SILCAT_FLAG_W,NITRAT,NITRAT_FLAG_W,NITRIT,NITRIT_FLAG_W,PHSPHT,PHSPHT_FLAG_W,CFC-11,CFC-11_FLAG_W,CFC-12,CFC-12_FLAG_W,TRITUM,TRITUM_FLAG_W,HELIUM,HELIUM_FLAG_W,DELHE3,DELHE3_FLAG_W,NEON,NEON_FLAG_W,CTDRAW,HELIER,DELHER,NEONER,THETA,TRITER
,,,,,,,,,,,,DBAR,ITS-90,PSS-78,,PSS-78,,UMOL/KG,,UMOL/KG,,UMOL/KG,,UMOL/KG,,UMOL/KG,,UMOL/KG,,PMOL/KG,,PMOL/KG,,TU,,NMOL/KG,,PERCNT,,NMOL/KG,,,NMOL/KG,PERCNT,NMOL/KG,ITS-90,TU
     32MW893_2,  P04C,    95,  1,     24,     24,2,19890313,0136,  9.4933, 178.8267, 5483,      8.3,  27.4419,  34.4070,2,  34.4065,2,   -999.0,5,    223.4,2,     1.18,2,     0.00,2,     0.00,2,     0.14,2,    1.608,2,    0.879,2, -999.000,9,-999.0000,9,  -999.00,9,-999.000,9,   -999,-999.0000,-999.000,-999.000, 27.4400,-999.000
     32MW893_2,  P04C,    95,  1,     23,     23,2,19890313,0136,  9.4933, 178.8267, 5483,     48.3,  27.3709,  34.4143,2,  34.4100,2,   -999.0,5,    223.4,2,     1.38,2,     0.00,2,     0.00,2,     0.16,2,    1.601,2,    0.882,2, -999.000,9,-999.0000,9,  -999.00,9,-999.000,9,   -999,-999.0000,-999.000,-999.000, 27.3597,-999.000
     32MW893_2,  P04C,    95,  1,     22,     22,2,19890313,0136,  9.4933, 178.8267, 5483,     96.6,  20.7484,  35.0251,2,  34.8135,2,   -999.0,5,    189.0,2,     2.95,2,     1.95,2,     0.14,2,     0.42,2,    1.753,2,    0.974,2, -999.000,9,-999.0000,9,  -999.00,9,-999.000,9,   -999,-999.0000,-999.000,-999.000, 20.7301,-999.000
     32MW893_2,  P04C,    95,  1,     21,     21,2,19890313,0136,  9.4933, 178.8267, 5483,    145.6,  14.7392,  34.6151,2,  34.6013,2,   -999.0,5,    162.5,2,     9.84,2,    11.44,2,     0.04,2,     0.92,2,    1.703,2,    0.895,2, -999.000,9,-999.0000,9,  -999.00,9,-999.000,9,   -999,-999.0000,-999.000,-999.000, 14.7175,-999.000
     32MW893_2,  P04C,    95,  1,     20,     20,2,19890313,0136,  9.4933, 178.8267, 5483,    196.2,  11.5561,  34.5471,2,  34.5441,2,   -999.0,5,     50.4,2,    27.86,2,    29.33,2,     0.00,2,     2.21,2,    0.444,2,    0.264,2, -999.000,9,-999.0000,9,  -999.00,9,-999.000,9,   -999,-999.0000,-999.000,-999.000, 11.5312,-999.000
     32MW893_2,  P04C,    95,  1,     19,     19,2,19890313,0136,  9.4933, 178.8267, 5483,    246.9,  10.6604,  34.7001,2,  34.7001,2,   -999.0,5,     23.5,2,    31.98,2,    34.40,2,     0.00,2,     2.45,2,    0.104,2,    0.057,2, -999.000,9,-999.0000,9,  -999.00,9,-999.000,9,   -999,-999.0000,-999.000,-999.000, 10.6306,-999.000
     32MW893_2,  P04C,    95,  1,     18,     18,2,19890313,0136,  9.4933, 178.8267, 5483,    295.6,   9.9817,  34.6884,2,  34.6850,2,   -999.0,5,     25.6,2,    34.25,2,    35.28,2,     0.00,2,     2.49,2,    0.040,2,    0.028,2, -999.000,9,-999.0000,9,  -999.00,9,-999.000,9,   -999,-999.0000,-999.000,-999.000,  9.9474,-999.000
     32MW893_2,  P04C,    95,  1,     17,     17,2,19890313,0136,  9.4933, 178.8267, 5483,    397.2,   9.1870,  34.6444,2,  34.6567,2,   -999.0,5,     21.3,2,    39.37,2,    36.75,2,     0.00,2,     2.64,2,    0.021,2, -999.000,5, -999.000,9,-999.0000,9,  -999.00,9,-999.000,9,   -999,-999.0000,-999.000,-999.000,  9.1430,-999.000
     32MW893_2,  P04C,    95,  1,     16,     16,2,19890313,0136,  9.4933, 178.8267, 5483,    496.1,   8.2613,  34.5919,2,  34.5981,2,   -999.0,5,     28.7,2,    47.14,2,    37.34,2,     0.00,2,     2.77,2,    0.013,2, -999.000,5, -999.000,9,-999.0000,9,  -999.00,9,-999.000,9,   -999,-999.0000,-999.000,-999.000,  8.2094,-999.000
     32MW893_2,  P04C,    95,  1,     15,     15,2,19890313,0136,  9.4933, 178.8267, 5483,    596.7,   7.2407,  34.5624,2,  34.5651,2,   -999.0,5,     26.5,2,    57.48,2,    39.39,2,     0.00,2,     2.93,2,    0.009,2,    0.014,2, -999.000,9,-999.0000,9,  -999.00,9,-999.000,9,   -999,-999.0000,-999.000,-999.000,  7.1825,-999.000
     32MW893_2,  P04C,    95,  1,     14,     14,2,19890313,0136,  9.4933, 178.8267, 5483,    696.7,   6.4250,  34.5481,2,  34.5451,2,   -999.0,5,     31.7,2,    65.75,2,    40.96,2,     0.00,2,     2.98,2,    0.009,2,    0.008,2, -999.000,9,-999.0000,9,  -999.00,9,-999.000,9,   -999,-999.0000,-999.000,-999.000,  6.3609,-999.000
     32MW893_2,  P04C,    95,  1,     13,     13,2,19890313,0136,  9.4933, 178.8267, 5483,    796.2,   5.7782,  34.5394,2,  34.5414,2,   -999.0,5,     43.5,2,    73.23,2,    41.64,2,     0.00,2,     3.01,2,    0.007,2, -999.000,5, -999.000,9,-999.0000,9,  -999.00,9,-999.000,9,   -999,-999.0000,-999.000,-999.000,  5.7083,-999.000
     32MW893_2,  P04C,    95,  1,     12,     12,2,19890313,0136,  9.4933, 178.8267, 5483,    996.9,   4.7446,  34.5540,2,  34.5524,2,   -999.0,5,     53.9,2,    90.65,2,    41.94,2,     0.00,2,     3.03,2,   -0.001,2,    0.007,2, -999.000,9,-999.0000,9,  -999.00,9,-999.000,9,   -999,-999.0000,-999.000,-999.000,  4.6634,-999.000
     32MW893_2,  P04C,    95,  1,     11,     11,2,19890313,0136,  9.4933, 178.8267, 5483,   1246.6,   3.8490,  34.5749,2,  34.5718,2,   -999.0,5,     66.5,2,   109.55,2,    41.64,2,     0.00,2,     3.00,2, -999.000,9, -999.000,9, -999.000,9,-999.0000,9,  -999.00,9,-999.000,9,   -999,-999.0000,-999.000,-999.000,  3.7537,-999.000
     32MW893_2,  P04C,    95,  1,     10,     10,2,19890313,0136,  9.4933, 178.8267, 5483,   1497.6,   3.0773,  34.5967,2,  34.5940,2,   -999.0,5,     84.3,2,   126.28,2,    40.37,2,     0.00,2,     2.89,2, -999.000,9, -999.000,9, -999.000,9,-999.0000,9,  -999.00,9,-999.000,9,   -999,-999.0000,-999.000,-999.000,  2.9687,-999.000
     32MW893_2,  P04C,    95,  1,      9,      9,2,19890313,0136,  9.4933, 178.8267, 5483,   1999.0,   2.1217,  34.6416,2,  34.6380,2,   -999.0,5,    107.3,2,   148.42,2,    39.29,2,     0.00,2,     2.79,2, -999.000,9, -999.000,9, -999.000,9,-999.0000,9,  -999.00,9,-999.000,9,   -999,-999.0000,-999.000,-999.000,  1.9834,-999.000
     32MW893_2,  P04C,    95,  1,      8,      8,2,19890313,0136,  9.4933, 178.8267, 5483,   2500.3,   1.8288,  34.6614,2,  34.6614,2,   -999.0,5,    118.6,2,   153.44,2,    38.61,2,     0.00,2,     2.72,2, -999.000,9, -999.000,9, -999.000,9,-999.0000,9,  -999.00,9,-999.000,9,   -999,-999.0000,-999.000,-999.000,  1.6516,-999.000
     32MW893_2,  P04C,    95,  1,      7,      7,2,19890313,0136,  9.4933, 178.8267, 5483,   3001.6,   1.6388,  34.6740,2,  34.6759,2,   -999.0,5,    132.1,2,   154.61,2,    37.73,2,     0.00,2,     2.62,2, -999.000,9, -999.000,9, -999.000,9,-999.0000,9,  -999.00,9,-999.000,9,   -999,-999.0000,-999.000,-999.000,  1.4188,-999.000
     32MW893_2,  P04C,    95,  1,      6,      6,2,19890313,0136,  9.4933, 178.8267, 5483,   3502.5,   1.4809,  34.6830,2,  34.6812,2,   -999.0,5,    149.5,2,   150.87,2,    36.46,2,     0.00,2,     2.54,2, -999.000,9, -999.000,9, -999.000,9,-999.0000,9,  -999.00,9,-999.000,9,   -999,-999.0000,-999.000,-999.000,  1.2150,-999.000
     32MW893_2,  P04C,    95,  1,      5,      5,2,19890313,0136,  9.4933, 178.8267, 5483,   4004.9,   1.3630,  34.6927,2,  34.6920,2,   -999.0,5,    166.4,2,   142.12,2,    35.19,2,     0.00,2,     2.43,2, -999.000,9, -999.000,9, -999.000,9,-999.0000,9,  -999.00,9,-999.000,9,   -999,-999.0000,-999.000,-999.000,  1.0473,-999.000
     32MW893_2,  P04C,    95,  1,      4,      4,2,19890313,0136,  9.4933, 178.8267, 5483,   4505.8,   1.2930,  34.6986,2,  34.6995,2,   -999.0,5,    182.1,2,   132.27,2,    34.11,2,     0.00,2,     2.34,2, -999.000,9, -999.000,9, -999.000,9,-999.0000,9,  -999.00,9,-999.000,9,   -999,-999.0000,-999.000,-999.000,  0.9237,-999.000
     32MW893_2,  P04C,    95,  1,      3,      3,2,19890313,0136,  9.4933, 178.8267, 5483,   5005.9,   1.2960,  34.7018,2,  34.7036,2,   -999.0,5,    189.4,2,   128.04,2,    33.52,2,     0.00,2,     2.31,2, -999.000,9, -999.000,9, -999.000,9,-999.0000,9,  -999.00,9,-999.000,9,   -999,-999.0000,-999.000,-999.000,  0.8678,-999.000
     32MW893_2,  P04C,    95,  1,      2,      2,2,19890313,0136,  9.4933, 178.8267, 5483,   5254.4,   1.3110,  34.7038,2,  34.7034,2,   -999.0,5,    190.7,2,   127.84,2,    33.52,2,     0.00,2,     2.31,2,    0.020,2,    0.012,2, -999.000,9,-999.0000,9,  -999.00,9,-999.000,9,   -999,-999.0000,-999.000,-999.000,  0.8520,-999.000
     32MW893_2,  P04C,    95,  1,      1,      1,2,19890313,0136,  9.4933, 178.8267, 5483,   5584.4,   1.3460,  34.7041,2,  34.7034,2,   -999.0,5,    191.2,2,  -999.00,5,    33.52,2,     0.00,2,     2.29,2, -999.000,9, -999.000,9, -999.000,9,-999.0000,9,  -999.00,9,-999.000,9,   -999,-999.0000,-999.000,-999.000,  0.8442,-999.000
     32MW893_2,  P04C,    96,  1,     24,     24,2,19890313,1035,  9.4983, 179.6617, 6037,     22.0,  27.2360,  34.4041,2,  34.4033,2,   -999.0,5,    213.8,2,     1.48,2,     0.00,2,     0.00,2,     0.15,2, -999.000,9, -999.000,9,    1.687,2,   1.7760,2,    -0.44,2,   6.852,2,   -999,  0.0080,   0.150,   0.041, 27.2309,   0.027
     32MW893_2,  P04C,    96,  1,     23,     23,2,19890313,1035,  9.4983, 179.6617, 6037,     46.7,  27.0790,  34.3992,2,  34.3975,2,   -999.0,5,    216.0,2,     1.48,2,     0.00,2,     0.00,2,     0.15,2, -999.000,9, -999.000,9,    1.873,2,   1.7700,2,    -0.76,2,   6.845,2,   -999,  0.0080,   0.150,   0.041, 27.0683,   0.029
     32MW893_2,  P04C,    96,  1,     22,     22,2,19890313,1035,  9.4983, 179.6617, 6037,     72.6,  26.7801,  34.5465,2,  34.5832,2,   -999.0,5,    211.2,2,     1.77,2,     0.00,2,     0.00,2,     0.21,2, -999.000,9, -999.000,9,    1.758,2,   1.7790,2,    -0.17,2,   6.893,2,   -999,  0.0080,   0.150,   0.041, 26.7636,   0.028
     32MW893_2,  P04C,    96,  1,     21,     21,2,19890313,1035,  9.4983, 179.6617, 6037,     96.3,  23.6377,  35.0333,2,  35.0242,2,   -999.0,5,    202.0,2,     1.87,2,     0.00,2,     0.00,2,     0.20,2, -999.000,9, -999.000,9,    2.238,2,   1.7910,2,     0.71,2,   7.019,2,   -999,  0.0080,   0.150,   0.042, 23.6177,   0.031
     32MW893_2,  P04C,    96,  1,     20,     20,2,19890313,1035,  9.4983, 179.6617, 6037,    120.8,  19.8447,  34.8700,2,  34.8963,2,   -999.0,5,    171.2,2,     3.74,2,     4.20,2,     0.15,2,     0.47,2, -999.000,9, -999.000,9,    2.453,2,   1.8040,2,     2.55,2,   7.173,2,   -999,  0.0080,   0.150,   0.043, 19.8225,   0.011
     32MW893_2,  P04C,    96,  1,     19,     19,2,19890313,1035,  9.4983, 179.6617, 6037,    146.9,  16.6266,  34.7285,2,  34.6858,2,   -999.0,5,    146.4,2,     9.05,2,    11.24,2,     0.01,2,     0.94,2, -999.000,9, -999.000,9,    2.383,2,   1.8360,2,     6.53,2,   7.405,2,   -999,  0.0080,   0.150,   0.044, 16.6028,   0.011
     32MW893_2,  P04C,    96,  1,     18,     18,2,19890313,1035,  9.4983, 179.6617, 6037,    172.2,  12.0630,  34.4275,2,  34.4230,2,   -999.0,5,    119.9,2,    21.46,2,    22.29,2,     0.01,2,     1.70,2, -999.000,9, -999.000,9,    1.911,2,   1.8460,2,    11.58,2,   7.474,2,   -999,  0.0080,   0.150,   0.045, 12.0406,   0.010
     32MW893_2,  P04C,    96,  1,     17,     17,2,19890313,1035,  9.4983, 179.6617, 6037,    196.4,  11.1243,  34.5918,2,  34.6015,2,   -999.0,5,     33.0,2,    30.51,2,    31.57,2,     0.05,2,     2.35,2, -999.000,9, -999.000,9,    0.784,2,   1.8500,2,     9.61,2,   7.521,2,   -999,  0.0080,   0.150,   0.045, 11.1000,   0.008
     32MW893_2,  P04C,    96,  1,     16,     16,2,19890313,1035,  9.4983, 179.6617, 6037,    247.3,  10.3755,  34.6899,2,  34.6869,2,   -999.0,5,     23.5,2,    33.07,2,    34.41,2,     0.00,2,     2.46,2, -999.000,9, -999.000,9,    0.270,2,   1.8580,2,     6.82,2,   7.586,2,   -999,  0.0080,   0.150,   0.046, 10.3462,   0.006
     32MW893_2,  P04C,    96,  1,     15,     15,2,19890313,1035,  9.4983, 179.6617, 6037,    297.6,   9.8707,  34.6857,2,  34.6822,2,   -999.0,5,     26.5,2,    34.84,2,    35.28,2,     0.00,2,     2.49,2, -999.000,9, -999.000,9,    0.160,2,   1.8630,2,     6.00,2,   7.662,2,   -999,  0.0080,   0.150,   0.046,  9.8364,   0.005
     32MW893_2,  P04C,    96,  1,     14,     14,2,19890313,1035,  9.4983, 179.6617, 6037,    396.3,   9.0260,  34.6470,2,  34.6504,2,   -999.0,5,     21.7,2,    39.96,2,    36.75,2,     0.00,2,     2.64,2, -999.000,9, -999.000,9,    0.048,2,   1.8750,2,     6.23,2,   7.696,2,   -999,  0.0080,   0.150,   0.046,  8.9826,   0.005
     32MW893_2,  P04C,    96,  1,     13,     13,2,19890313,1035,  9.4983, 179.6617, 6037,    496.0,   7.9854,  34.5820,2,  34.5816,2,   -999.0,5,     33.0,2,    48.52,2,    37.24,2,     0.00,2,     2.73,2, -999.000,9, -999.000,9,    0.048,2,   1.8830,2,     7.96,2,   7.767,2,   -999,  0.0080,   0.150,   0.047,  7.9346,   0.005
     32MW893_2,  P04C,    96,  1,     12,     12,2,19890313,1035,  9.4983, 179.6617, 6037,    617.6,   6.8987,  34.5506,2,  34.5480,2,   -999.0,5,     30.0,2,    60.23,2,    39.78,2,     0.00,2,     2.89,2, -999.000,9, -999.000,9,    0.023,2,   1.8940,2,     9.83,2,   7.790,2,   -999,  0.0090,   0.150,   0.047,  6.8401,   0.005
     32MW893_2,  P04C,    96,  1,     11,     11,2,19890313,1035,  9.4983, 179.6617, 6037,    747.9,   5.9082,  34.5390,2,  34.5364,2,   -999.0,5,     35.2,2,    72.44,2,    41.54,2,     0.00,2,     2.98,2, -999.000,9, -999.000,9,    0.022,2,   1.9150,2,    13.04,2,   7.879,2,   -999,  0.0090,   0.150,   0.047,  5.8420,   0.017
     32MW893_2,  P04C,    96,  1,     10,     10,2,19890313,1035,  9.4983, 179.6617, 6037,    872.1,   5.2704,  34.5500,2,  34.5474,2,   -999.0,5,     47.8,2,    80.62,2,    41.94,2,     0.00,2,     2.98,2, -999.000,9, -999.000,9,    0.011,2,   1.9260,2,    14.91,2,   7.919,2,   -999,  0.0090,   0.150,   0.048,  5.1968,   0.005
     32MW893_2,  P04C,    96,  1,      9,      9,2,19890313,1035,  9.4983, 179.6617, 6037,    997.4,   4.8165,  34.5487,2,  34.5502,2,   -999.0,5,     46.5,2,    89.77,2,    42.23,2,     0.00,2,     3.03,2, -999.000,9, -999.000,9,    0.006,2,   1.9370,2,    16.85,2,   7.941,2,   -999,  0.0090,   0.150,   0.048,  4.7348,   0.005
     32MW893_2,  P04C,    96,  1,      8,      8,2,19890313,1035,  9.4983, 179.6617, 6037,   1499.3,   3.0903,  34.5929,2,  34.5905,2,   -999.0,5,     83.9,2,   125.20,2,    40.27,2,     0.00,2,     2.84,2, -999.000,9, -999.000,9, -999.000,9,   1.9680,2,    21.94,2,   8.030,2,   -999,  0.0090,   0.150,   0.048,  2.9814,-999.000
     32MW893_2,  P04C,    96,  1,      7,      7,2,19890313,1035,  9.4983, 179.6617, 6037,   1999.8,   2.1476,  34.6380,2,  34.6378,2,   -999.0,5,    104.7,2,   145.27,2,    39.20,2,     0.00,2,     2.75,2, -999.000,9, -999.000,9, -999.000,9,   1.9860,2,    24.93,2,   8.183,2,   -999,  0.0090,   0.150,   0.049,  2.0089,-999.000
     32MW893_2,  P04C,    96,  1,      6,      6,2,19890313,1035,  9.4983, 179.6617, 6037,   2501.4,   1.8308,  34.6600,2,  34.6643,2,   -999.0,5,    119.5,2,   151.27,2,    38.51,2,     0.00,2,     2.69,2, -999.000,9, -999.000,9, -999.000,9,   1.9980,2,    25.30,2,   8.213,2,   -999,  0.0090,   0.150,   0.049,  1.6535,-999.000
     32MW893_2,  P04C,    96,  1,      5,      5,2,19890313,1035,  9.4983, 179.6617, 6037,   3002.0,   1.6488,  34.6717,2,  34.6704,2,   -999.0,5,    129.9,2,   153.04,2,    37.34,2,     0.00,2,     2.60,2, -999.000,9, -999.000,9, -999.000,9,   1.9940,2,    23.43,2,   8.197,2,   -999,  0.0090,   0.150,   0.049,  1.4286,-999.000
     32MW893_2,  P04C,    96,  1,      4,      4,2,19890313,1035,  9.4983, 179.6617, 6037,   3702.5,   1.4090,  34.6866,2,  34.6897,2,   -999.0,5,    156.4,2,   144.97,2,    35.77,2,     0.00,2,     2.46,2, -999.000,9, -999.000,9, -999.000,9,   1.9810,2,    17.63,2,   8.217,2,   -999,  0.0090,   0.150,   0.049,  1.1242,-999.000
     32MW893_2,  P04C,    96,  1,      3,      3,2,19890313,1035,  9.4983, 179.6617, 6037,   4505.2,   1.2850,  34.6975,2,  34.6975,2,   -999.0,5,    182.1,2,   131.68,2,    33.72,2,     0.00,2,     2.32,2, -999.000,9, -999.000,9, -999.000,9,   1.9690,2,    13.83,2,   8.215,2,   -999,  0.0090,   0.150,   0.049,  0.9161,-999.000
     32MW893_2,  P04C,    96,  1,      2,      2,2,19890313,1035,  9.4983, 179.6617, 6037,   5305.3,   1.3150,  34.7023,2,-999.0000,5,   -999.0,5,    192.5,2,   126.96,2,    33.23,2,     0.00,2,     2.29,2, -999.000,9, -999.000,9, -999.000,9,   1.9770,2,    12.52,2,   8.223,2,   -999,  0.0090,   0.150,   0.049,  0.8496,-999.000