BOTTLE,20020311WHPSIOdm
EXPOCODE,SECT_ID,STNNBR,CASTNO,SAMPNO,BTLNBR,BTLNBR_FLAG_W,DATE,TIME,LATITUDE,LONGITUDE,DEPTH,CTDPRS,CTDTMP,CTDSAL,CTDSAL_FLAG_W,SALNTY,SALNTY_FLAG_W,CTDOXY,CTDOXY_FLAG_W,OXYGEN,OXYGEN_FLAG_W,SILCAT,SILCAT_FLAG_W,NITRAT,NITRAT_FLAG_W,NITRIT,NITRIT_FLAG_W,PHSPHT,PHSPHT_FLAG_W,CFC-11,CFC-11_FLAG_W,CFC-12,CFC-12_FLAG_W,TRITUM,TRITUM_FLAG_W,HELIUM,HELIUM_FLAG_W,DELHE3,DELHE3_FLAG_W,NEON,NEON_FLAG_W,CTDRAW,HELIER,DELHER,NEONER,THETA,TRITER
,,,,,,,,,,,,DBAR,ITS-90,PSS-78,,PSS-78,,UMOL/KG,,UMOL/KG,,UMOL/KG,,UMOL/KG,,UMOL/KG,,UMOL/KG,,PMOL/KG,,PMOL/KG,,TU,,NMOL/KG,,PERCNT,,NMOL/KG,,,NMOL/KG,PERCNT,NMOL/KG,ITS-90,TU
     32MW893_2,  P04C,    97,  1,     24,     24,2,19890313,1945,  9.4967,-179.5033, 6147,      6.9,  27.5519,  34.4027,2,  34.4018,2,   -999.0,5,    226.0,2,     1.48,2,     0.00,2,     0.00,2,     0.19,2,    1.640,2,    0.889,2, -999.000,9,-999.0000,9,  -999.00,9,-999.000,9,   -999,-999.0000,-999.000,-999.000, 27.5503,-999.000
     32MW893_2,  P04C,    97,  1,     23,     23,2,19890313,1945,  9.4967,-179.5033, 6147,     46.3,  27.5319,  34.4156,2,  34.4161,2,   -999.0,5,    209.5,2,     1.48,2,     0.00,2,     0.00,2,     0.22,2,    1.623,2,    0.910,2, -999.000,9,-999.0000,9,  -999.00,9,-999.000,9,   -999,-999.0000,-999.000,-999.000, 27.5211,-999.000
     32MW893_2,  P04C,    97,  1,     22,     22,2,19890313,1945,  9.4967,-179.5033, 6147,     97.0,  23.3378,  34.9890,2,  34.9906,2,   -999.0,5,    208.5,2,     1.77,2,     0.29,2,     0.00,2,     0.26,2,    1.828,2,    0.983,2, -999.000,9,-999.0000,9,  -999.00,9,-999.000,9,   -999,-999.0000,-999.000,-999.000, 23.3178,-999.000
     32MW893_2,  P04C,    97,  1,     21,     21,2,19890313,1945,  9.4967,-179.5033, 6147,    149.2,  15.9928,  34.6639,2,  34.6256,2,   -999.0,5,    136.0,2,    10.23,2,    12.90,2,     0.04,2,     1.08,2,    1.513,2,    0.787,2, -999.000,9,-999.0000,9,  -999.00,9,-999.000,9,   -999,-999.0000,-999.000,-999.000, 15.9693,-999.000
     32MW893_2,  P04C,    97,  1,     20,     20,2,19890313,1945,  9.4967,-179.5033, 6147,    198.4,  10.9884,  34.5527,2,  34.5313,2,   -999.0,5,     50.0,2,    28.54,2,    29.33,2,     0.00,2,     2.23,2,    0.415,2,    0.234,2, -999.000,9,-999.0000,9,  -999.00,9,-999.000,9,   -999,-999.0000,-999.000,-999.000, 10.9641,-999.000
     32MW893_2,  P04C,    97,  1,     19,     19,2,19890313,1945,  9.4967,-179.5033, 6147,    248.2,  10.4015,  34.6860,2,  34.6858,2,   -999.0,5,     20.4,2,    32.97,2,    34.31,2,     0.00,2,     2.49,2,    0.084,2,    0.051,2, -999.000,9,-999.0000,9,  -999.00,9,-999.000,9,   -999,-999.0000,-999.000,-999.000, 10.3720,-999.000
     32MW893_2,  P04C,    97,  1,     18,     18,2,19890313,1945,  9.4967,-179.5033, 6147,    296.7,   9.9727,  34.6863,2,  34.6797,2,   -999.0,5,     22.6,2,    34.15,2,    34.89,2,     0.00,2,     2.49,2,    0.049,2,    0.035,2, -999.000,9,-999.0000,9,  -999.00,9,-999.000,9,   -999,-999.0000,-999.000,-999.000,  9.9383,-999.000
     32MW893_2,  P04C,    97,  1,     17,     17,2,19890313,1945,  9.4967,-179.5033, 6147,    396.9,   9.1330,  34.6553,2,  34.6539,2,   -999.0,5,     16.5,2,    38.87,2,    36.65,2,     0.00,2,     2.67,2,    0.023,2, -999.000,5, -999.000,9,-999.0000,9,  -999.00,9,-999.000,9,   -999,-999.0000,-999.000,-999.000,  9.0892,-999.000
     32MW893_2,  P04C,    97,  1,     16,     16,2,19890313,1945,  9.4967,-179.5033, 6147,    494.6,   8.0324,  34.6036,2,  34.5905,2,   -999.0,5,     24.3,2,    48.23,2,    37.34,2,     0.00,2,     2.80,2,    0.015,2, -999.000,5, -999.000,9,-999.0000,9,  -999.00,9,-999.000,9,   -999,-999.0000,-999.000,-999.000,  7.9816,-999.000
     32MW893_2,  P04C,    97,  1,     15,     15,2,19890313,1945,  9.4967,-179.5033, 6147,    597.6,   7.1077,  34.5539,2,  34.5522,2,   -999.0,5,     30.0,2,    57.48,2,    39.20,2,     0.00,2,     2.90,2,    0.007,2,    0.008,2, -999.000,9,-999.0000,9,  -999.00,9,-999.000,9,   -999,-999.0000,-999.000,-999.000,  7.0500,-999.000
     32MW893_2,  P04C,    97,  1,     14,     14,2,19890313,1945,  9.4967,-179.5033, 6147,    705.1,   6.1090,  34.5411,2,  34.5522,2,   -999.0,5,     30.9,2,    69.50,2,    41.25,2,  -999.00,5,     3.01,2,    0.003,2,    0.008,2, -999.000,9,-999.0000,9,  -999.00,9,-999.000,9,   -999,-999.0000,-999.000,-999.000,  6.0457,-999.000
     32MW893_2,  P04C,    97,  1,     13,     13,2,19890313,1945,  9.4967,-179.5033, 6147,    995.9,   4.5467,  34.5565,2,  34.5551,2,   -999.0,5,     52.1,2,    94.10,2,    41.84,2,     0.00,2,     3.02,2,    0.000,2, -999.000,5, -999.000,9,-999.0000,9,  -999.00,9,-999.000,9,   -999,-999.0000,-999.000,-999.000,  4.4671,-999.000
     32MW893_2,  P04C,    97,  1,     12,     12,2,19890313,1945,  9.4967,-179.5033, 6147,   1497.2,   3.0423,  34.6014,2,  34.6001,2,   -999.0,5,     82.1,2,   124.40,2,    40.37,2,     0.00,2,     2.90,2,   -0.009,2,    0.001,2, -999.000,9,-999.0000,9,  -999.00,9,-999.000,9,   -999,-999.0000,-999.000,-999.000,  2.9341,-999.000
     32MW893_2,  P04C,    97,  1,     11,     11,2,19890313,1945,  9.4967,-179.5033, 6147,   1998.0,   2.2206,  34.6369,2,  34.6366,2,   -999.0,5,    102.1,2,   143.29,2,    39.29,2,     0.00,2,     2.78,2, -999.000,5,   -0.005,2, -999.000,9,-999.0000,9,  -999.00,9,-999.000,9,   -999,-999.0000,-999.000,-999.000,  2.0809,-999.000
     32MW893_2,  P04C,    97,  1,     10,     10,2,19890313,1945,  9.4967,-179.5033, 6147,   2501.2,   1.8658,  34.6584,2,  34.6608,2,   -999.0,5,    116.0,2,   150.28,2,    38.41,2,     0.00,2,     2.71,2,   -0.004,2,   -0.004,2, -999.000,9,-999.0000,9,  -999.00,9,-999.000,9,   -999,-999.0000,-999.000,-999.000,  1.6878,-999.000
     32MW893_2,  P04C,    97,  1,      9,      9,2,19890313,1945,  9.4967,-179.5033, 6147,   2995.2,   1.6698,  34.6709,2,  34.6730,2,   -999.0,5,    130.4,2,   151.56,2,    37.44,2,     0.00,2,     2.61,2, -999.000,5,   -0.005,2, -999.000,9,-999.0000,9,  -999.00,9,-999.000,9,   -999,-999.0000,-999.000,-999.000,  1.4498,-999.000
     32MW893_2,  P04C,    97,  1,      8,      8,2,19890313,1945,  9.4967,-179.5033, 6147,   3502.3,   1.5189,  34.6808,2,  34.6863,2,   -999.0,5,    144.3,2,   149.98,2,    36.56,2,     0.00,2,     2.54,2,   -0.003,2,   -0.005,2, -999.000,9,-999.0000,9,  -999.00,9,-999.000,9,   -999,-999.0000,-999.000,-999.000,  1.2521,-999.000
     32MW893_2,  P04C,    97,  1,      7,      7,2,19890313,1945,  9.4967,-179.5033, 6147,   4005.2,   1.3740,  34.6896,2,  34.6914,2,   -999.0,5,    163.8,2,   141.32,2,    35.19,2,     0.00,2,     2.43,2,   -0.006,2,    0.007,2, -999.000,9,-999.0000,9,  -999.00,9,-999.000,9,   -999,-999.0000,-999.000,-999.000,  1.0580,-999.000
     32MW893_2,  P04C,    97,  1,      6,      6,2,19890313,1945,  9.4967,-179.5033, 6147,   4499.7,   1.2910,  34.6970,2,  34.6989,2,   -999.0,5,    179.9,2,   131.68,2,    34.11,2,     0.00,2,     2.35,2,   -0.004,2,   -0.004,2, -999.000,9,-999.0000,9,  -999.00,9,-999.000,9,   -999,-999.0000,-999.000,-999.000,  0.9225,-999.000
     32MW893_2,  P04C,    97,  1,      5,      5,2,19890313,1945,  9.4967,-179.5033, 6147,   5003.5,   1.3000,  34.7010,2,  34.7044,2,   -999.0,5,    187.7,2,   127.84,2,    33.52,2,     0.00,2,     2.30,2,    0.000,2,    0.001,2, -999.000,9,-999.0000,9,  -999.00,9,-999.000,9,   -999,-999.0000,-999.000,-999.000,  0.8720,-999.000
     32MW893_2,  P04C,    97,  1,      4,      4,2,19890313,1945,  9.4967,-179.5033, 6147,   5500.8,   1.3350,  34.7028,2,  34.7054,2,   -999.0,5,    190.7,2,   126.16,2,    33.23,2,     0.00,2,     2.28,2,    0.003,2,   -0.005,2, -999.000,9,-999.0000,9,  -999.00,9,-999.000,9,   -999,-999.0000,-999.000,-999.000,  0.8442,-999.000
     32MW893_2,  P04C,    97,  1,      3,      3,2,19890313,1945,  9.4967,-179.5033, 6147,   5749.2,   1.3620,  34.7047,2,  34.7046,2,   -999.0,5,    190.7,2,   125.77,2,    33.23,2,     0.00,2,     2.26,2,    0.013,2, -999.000,5, -999.000,9,-999.0000,9,  -999.00,9,-999.000,9,   -999,-999.0000,-999.000,-999.000,  0.8383,-999.000
     32MW893_2,  P04C,    97,  1,      2,      2,2,19890313,1945,  9.4967,-179.5033, 6147,   6000.8,   1.3940,  34.7045,2,  34.7046,2,   -999.0,5,    190.7,2,   125.77,2,    33.33,2,     0.00,2,     2.26,2,    0.014,2,    0.018,2, -999.000,9,-999.0000,9,  -999.00,9,-999.000,9,   -999,-999.0000,-999.000,-999.000,  0.8360,-999.000
     32MW893_2,  P04C,    97,  1,      1,      1,2,19890313,1945,  9.4967,-179.5033, 6147,   6275.0,   1.4300,  34.7064,2,  34.7048,2,   -999.0,5,    190.7,2,   125.28,2,    33.23,2,     0.00,2,     2.25,2,   -0.002,2,   -0.005,2, -999.000,9,-999.0000,9,  -999.00,9,-999.000,9,   -999,-999.0000,-999.000,-999.000,  0.8337,-999.000
     32MW893_2,  P04C,    98,  1,     24,     24,2,19890314,0524,  9.4933,-178.6700, 6053,      7.0,  27.5749,  34.3477,2,  34.3456,2,   -999.0,5,    221.7,2,     1.57,2,     0.10,2,     0.00,2,     0.16,2, -999.000,9, -999.000,9, -999.000,9,-999.0000,9,  -999.00,9,-999.000,9,   -999,-999.0000,-999.000,-999.000, 27.5733,-999.000
     32MW893_2,  P04C,    98,  1,     23,     23,2,19890314,0524,  9.4933,-178.6700, 6053,     47.7,  27.2510,  34.4478,2,  34.4548,2,   -999.0,5,    222.5,2,     1.57,2,     0.10,2,     0.00,2,     0.20,2, -999.000,9, -999.000,9, -999.000,9,-999.0000,9,  -999.00,9,-999.000,9,   -999,-999.0000,-999.000,-999.000, 27.2400,-999.000
     32MW893_2,  P04C,    98,  1,     22,     22,2,19890314,0524,  9.4933,-178.6700, 6053,     97.1,  20.2495,  34.7827,2,  34.7659,2,   -999.0,5,    151.2,2,     6.60,2,     8.11,2,     0.17,2,     0.73,2, -999.000,9, -999.000,9, -999.000,9,-999.0000,9,  -999.00,9,-999.000,9,   -999,-999.0000,-999.000,-999.000, 20.2314,-999.000
     32MW893_2,  P04C,    98,  1,     21,     21,2,19890314,0524,  9.4933,-178.6700, 6053,    147.0,  14.0153,  34.5102,2,  34.5111,2,   -999.0,5,    152.5,2,    13.09,2,    14.08,2,     0.00,2,     1.10,2, -999.000,9, -999.000,9, -999.000,9,-999.0000,9,  -999.00,9,-999.000,9,   -999,-999.0000,-999.000,-999.000, 13.9942,-999.000
     32MW893_2,  P04C,    98,  1,     20,     20,2,19890314,0524,  9.4933,-178.6700, 6053,    196.7,  10.6604,  34.5337,2,  34.5317,2,   -999.0,5,     50.0,2,    30.91,2,    30.30,2,     0.00,2,     2.24,2, -999.000,9, -999.000,9, -999.000,9,-999.0000,9,  -999.00,9,-999.000,9,   -999,-999.0000,-999.000,-999.000, 10.6368,-999.000
     32MW893_2,  P04C,    98,  1,     19,     19,2,19890314,0524,  9.4933,-178.6700, 6053,    297.5,   9.6168,  34.6736,2,  34.6584,2,   -999.0,5,     28.7,2,    36.21,2,    35.48,2,     0.00,2,     2.55,2, -999.000,9, -999.000,9, -999.000,9,-999.0000,9,  -999.00,9,-999.000,9,   -999,-999.0000,-999.000,-999.000,  9.5831,-999.000
     32MW893_2,  P04C,    98,  1,     18,     18,2,19890314,0524,  9.4933,-178.6700, 6053,    398.0,   8.8821,  34.6347,2,  34.6284,2,   -999.0,5,     25.6,2,    41.24,2,    36.65,2,     0.00,2,     2.67,2, -999.000,9, -999.000,9, -999.000,9,-999.0000,9,  -999.00,9,-999.000,9,   -999,-999.0000,-999.000,-999.000,  8.8389,-999.000
     32MW893_2,  P04C,    98,  1,     17,     17,2,19890314,0524,  9.4933,-178.6700, 6053,    497.2,   7.9554,  34.5853,2,  34.5820,2,   -999.0,5,     29.5,2,    49.41,2,    37.63,2,     0.00,2,     2.78,2, -999.000,9, -999.000,9, -999.000,9,-999.0000,9,  -999.00,9,-999.000,9,   -999,-999.0000,-999.000,-999.000,  7.9046,-999.000
     32MW893_2,  P04C,    98,  1,     16,     16,2,19890314,0524,  9.4933,-178.6700, 6053,    598.6,   6.9897,  34.5532,2,  34.5524,2,   -999.0,5,     33.9,2,    59.26,2,    39.20,2,     0.00,2,     2.89,2, -999.000,9, -999.000,9, -999.000,9,-999.0000,9,  -999.00,9,-999.000,9,   -999,-999.0000,-999.000,-999.000,  6.9324,-999.000
     32MW893_2,  P04C,    98,  1,     15,     15,2,19890314,0524,  9.4933,-178.6700, 6053,    798.3,   5.6642,  34.5404,2,  34.5382,2,   -999.0,5,     45.6,2,    75.20,2,    41.74,2,     0.00,2,     2.99,2, -999.000,9, -999.000,9, -999.000,9,-999.0000,9,  -999.00,9,-999.000,9,   -999,-999.0000,-999.000,-999.000,  5.5949,-999.000
     32MW893_2,  P04C,    98,  1,     13,     13,2,19890314,0524,  9.4933,-178.6700, 6053,   1249.4,   3.7750,  34.5801,2,  34.5775,2,   -999.0,5,     66.9,2,   110.04,2,    41.64,2,     0.00,2,     2.99,2, -999.000,9, -999.000,9, -999.000,9,-999.0000,9,  -999.00,9,-999.000,9,   -999,-999.0000,-999.000,-999.000,  3.6801,-999.000
     32MW893_2,  P04C,    98,  1,     12,     12,2,19890314,0524,  9.4933,-178.6700, 6053,   1497.6,   3.0683,  34.5978,2,  34.5973,2,   -999.0,5,     84.7,2,   125.20,2,    40.47,2,     0.00,2,     2.89,2, -999.000,9, -999.000,9, -999.000,9,-999.0000,9,  -999.00,9,-999.000,9,   -999,-999.0000,-999.000,-999.000,  2.9598,-999.000
     32MW893_2,  P04C,    98,  1,     11,     11,2,19890314,0524,  9.4933,-178.6700, 6053,   1999.1,   2.2426,  34.6348,2,  34.6319,2,   -999.0,5,    104.3,2,   142.42,2,    39.20,2,     0.00,2,     2.79,2, -999.000,9, -999.000,9, -999.000,9,-999.0000,9,  -999.00,9,-999.000,9,   -999,-999.0000,-999.000,-999.000,  2.1025,-999.000
     32MW893_2,  P04C,    98,  1,      9,      9,2,19890314,0524,  9.4933,-178.6700, 6053,   3000.7,   1.6818,  34.6703,2,  34.6724,2,   -999.0,5,    130.4,2,   152.64,2,    37.34,2,     0.00,2,     2.63,2, -999.000,9, -999.000,9, -999.000,9,-999.0000,9,  -999.00,9,-999.000,9,   -999,-999.0000,-999.000,-999.000,  1.4609,-999.000
     32MW893_2,  P04C,    98,  1,      8,      8,2,19890314,0524,  9.4933,-178.6700, 6053,   3504.1,   1.5199,  34.6801,2,  34.6804,2,   -999.0,5,    149.0,2,   150.48,2,    36.56,2,     0.00,2,     2.53,2, -999.000,9, -999.000,9, -999.000,9,-999.0000,9,  -999.00,9,-999.000,9,   -999,-999.0000,-999.000,-999.000,  1.2529,-999.000
     32MW893_2,  P04C,    98,  1,      7,      7,2,19890314,0524,  9.4933,-178.6700, 6053,   4004.1,   1.3680,  34.6915,2,  34.6920,2,   -999.0,5,    168.1,2,   140.84,2,    35.19,2,     0.00,2,     2.42,2, -999.000,9, -999.000,9, -999.000,9,-999.0000,9,  -999.00,9,-999.000,9,   -999,-999.0000,-999.000,-999.000,  1.0523,-999.000
     32MW893_2,  P04C,    98,  1,      6,      6,2,19890314,0524,  9.4933,-178.6700, 6053,   4504.3,   1.2910,  34.6989,2,  34.6989,2,   -999.0,5,    184.2,2,   132.37,2,    34.11,2,     0.00,2,     2.37,2, -999.000,9, -999.000,9, -999.000,9,-999.0000,9,  -999.00,9,-999.000,9,   -999,-999.0000,-999.000,-999.000,  0.9220,-999.000
     32MW893_2,  P04C,    98,  1,      5,      5,2,19890314,0524,  9.4933,-178.6700, 6053,   5003.9,   1.2890,  34.7015,2,  34.7025,2,   -999.0,5,    189.9,2,   128.63,2,    33.52,2,     0.00,2,     2.34,2, -999.000,9, -999.000,9, -999.000,9,-999.0000,9,  -999.00,9,-999.000,9,   -999,-999.0000,-999.000,-999.000,  0.8613,-999.000
     32MW893_2,  P04C,    98,  1,      4,      4,2,19890314,0524,  9.4933,-178.6700, 6053,   5253.0,   1.3050,  34.7034,2,  34.7019,2,   -999.0,5,    192.5,2,   126.96,2,    33.33,2,     0.00,2,     2.30,2, -999.000,9, -999.000,9, -999.000,9,-999.0000,9,  -999.00,9,-999.000,9,   -999,-999.0000,-999.000,-999.000,  0.8464,-999.000
     32MW893_2,  P04C,    98,  1,      3,      3,2,19890314,0524,  9.4933,-178.6700, 6053,   5502.5,   1.3330,  34.7030,2,  34.7021,2,   -999.0,5,    192.9,2,   126.86,2,    33.13,2,     0.00,2,     2.29,2, -999.000,9, -999.000,9, -999.000,9,-999.0000,9,  -999.00,9,-999.000,9,   -999,-999.0000,-999.000,-999.000,  0.8421,-999.000
     32MW893_2,  P04C,    98,  1,      2,      2,2,19890314,0524,  9.4933,-178.6700, 6053,   5802.6,   1.3690,  34.7059,2,  34.7032,2,   -999.0,5,    192.0,2,   126.86,2,    33.13,2,     0.00,2,     2.30,2, -999.000,9, -999.000,9, -999.000,9,-999.0000,9,  -999.00,9,-999.000,9,   -999,-999.0000,-999.000,-999.000,  0.8381,-999.000
     32MW893_2,  P04C,    98,  1,      1,      1,2,19890314,0524,  9.4933,-178.6700, 6053,   6016.4,   1.3980,  34.7045,2,-999.0000,5,   -999.0,5,    193.8,2,   126.47,2,    33.04,2,     0.00,2,     2.30,2, -999.000,9, -999.000,9, -999.000,9,-999.0000,9,  -999.00,9,-999.000,9,   -999,-999.0000,-999.000,-999.000,  0.8378,-999.000