BOTTLE,20020311WHPSIOdm
EXPOCODE,SECT_ID,STNNBR,CASTNO,SAMPNO,BTLNBR,BTLNBR_FLAG_W,DATE,TIME,LATITUDE,LONGITUDE,DEPTH,CTDPRS,CTDTMP,CTDSAL,CTDSAL_FLAG_W,SALNTY,SALNTY_FLAG_W,CTDOXY,CTDOXY_FLAG_W,OXYGEN,OXYGEN_FLAG_W,SILCAT,SILCAT_FLAG_W,NITRAT,NITRAT_FLAG_W,NITRIT,NITRIT_FLAG_W,PHSPHT,PHSPHT_FLAG_W,CFC-11,CFC-11_FLAG_W,CFC-12,CFC-12_FLAG_W,TRITUM,TRITUM_FLAG_W,HELIUM,HELIUM_FLAG_W,DELHE3,DELHE3_FLAG_W,NEON,NEON_FLAG_W,CTDRAW,HELIER,DELHER,NEONER,THETA,TRITER
,,,,,,,,,,,,DBAR,ITS-90,PSS-78,,PSS-78,,UMOL/KG,,UMOL/KG,,UMOL/KG,,UMOL/KG,,UMOL/KG,,UMOL/KG,,PMOL/KG,,PMOL/KG,,TU,,NMOL/KG,,PERCNT,,NMOL/KG,,,NMOL/KG,PERCNT,NMOL/KG,ITS-90,TU
     32MW893_2,  P04C,   101,  1,     24,     24,2,19890315,1013,  9.5000,-176.1650, 6048,      8.8,  27.3919,  34.3928,2,  34.3916,2,   -999.0,5,    220.8,2,     1.09,2,     0.00,2,    -0.01,2,     0.19,2, -999.000,9, -999.000,9, -999.000,9,-999.0000,9,  -999.00,9,-999.000,9,   -999,-999.0000,-999.000,-999.000, 27.3899,-999.000
     32MW893_2,  P04C,   101,  1,     23,     23,2,19890315,1013,  9.5000,-176.1650, 6048,     46.6,  27.3809,  34.3954,2,  34.3906,2,   -999.0,5,    212.1,2,     1.09,2,     0.10,2,    -0.01,2,     0.19,2, -999.000,9, -999.000,9, -999.000,9,-999.0000,9,  -999.00,9,-999.000,9,   -999,-999.0000,-999.000,-999.000, 27.3701,-999.000
     32MW893_2,  P04C,   101,  1,     22,     22,2,19890315,1013,  9.5000,-176.1650, 6048,     80.5,  24.1366,  35.1204,2,  35.1132,2,   -999.0,5,    212.8,2,     1.48,2,     0.10,2,    -0.01,2,     0.20,2, -999.000,9, -999.000,9, -999.000,9,-999.0000,9,  -999.00,9,-999.000,9,   -999,-999.0000,-999.000,-999.000, 24.1196,-999.000
     32MW893_2,  P04C,   101,  1,     21,     21,2,19890315,1013,  9.5000,-176.1650, 6048,    146.1,  14.1513,  34.5454,2,  34.5192,2,   -999.0,5,    135.6,2,    13.19,2,    15.74,2,    -0.01,2,     1.24,2, -999.000,9, -999.000,9, -999.000,9,-999.0000,9,  -999.00,9,-999.000,9,   -999,-999.0000,-999.000,-999.000, 14.1302,-999.000
     32MW893_2,  P04C,   101,  1,     20,     20,2,19890315,1013,  9.5000,-176.1650, 6048,    197.5,  11.3072,  34.6355,2,  34.6313,2,   -999.0,5,     26.1,2,    29.72,2,    32.35,2,    -0.01,2,     2.41,2, -999.000,9, -999.000,9, -999.000,9,-999.0000,9,  -999.00,9,-999.000,9,   -999,-999.0000,-999.000,-999.000, 11.2825,-999.000
     32MW893_2,  P04C,   101,  1,     19,     19,2,19890315,1013,  9.5000,-176.1650, 6048,    246.2,  10.5025,  34.6745,2,  34.6740,2,   -999.0,5,     26.1,2,    32.68,2,    34.31,2,    -0.01,2,     2.45,2, -999.000,9, -999.000,9, -999.000,9,-999.0000,9,  -999.00,9,-999.000,9,   -999,-999.0000,-999.000,-999.000, 10.4731,-999.000
     32MW893_2,  P04C,   101,  1,     18,     18,2,19890315,1013,  9.5000,-176.1650, 6048,    296.6,   9.8837,  34.6706,2,  34.6706,2,   -999.0,5,     25.2,2,    34.74,2,    35.58,2,    -0.01,2,     2.53,2, -999.000,9, -999.000,9, -999.000,9,-999.0000,9,  -999.00,9,-999.000,9,   -999,-999.0000,-999.000,-999.000,  9.8495,-999.000
     32MW893_2,  P04C,   101,  1,     17,     17,2,19890315,1013,  9.5000,-176.1650, 6048,    396.6,   9.0010,  34.6377,2,  34.6353,2,   -999.0,5,     22.6,2,    40.15,2,    37.14,2,    -0.01,2,     2.67,2, -999.000,9, -999.000,9, -999.000,9,-999.0000,9,  -999.00,9,-999.000,9,   -999,-999.0000,-999.000,-999.000,  8.9576,-999.000
     32MW893_2,  P04C,   101,  1,     16,     16,2,19890315,1013,  9.5000,-176.1650, 6048,    497.6,   8.1174,  34.5943,2,  34.5948,2,   -999.0,5,     23.5,2,    48.42,2,    38.22,2,    -0.01,2,     2.82,2, -999.000,9, -999.000,9, -999.000,9,-999.0000,9,  -999.00,9,-999.000,9,   -999,-999.0000,-999.000,-999.000,  8.0659,-999.000
     32MW893_2,  P04C,   101,  1,     15,     15,2,19890315,1013,  9.5000,-176.1650, 6048,    697.5,   6.3910,  34.5375,2,  34.5366,2,   -999.0,5,     37.4,2,    66.14,2,    40.66,2,    -0.01,2,     2.95,2, -999.000,9, -999.000,9, -999.000,9,-999.0000,9,  -999.00,9,-999.000,9,   -999,-999.0000,-999.000,-999.000,  6.3270,-999.000
     32MW893_2,  P04C,   101,  1,     14,     14,2,19890315,1013,  9.5000,-176.1650, 6048,    997.3,   4.7416,  34.5523,2,  34.5520,2,   -999.0,5,     50.8,2,    91.05,2,    42.52,2,    -0.01,2,     3.05,2, -999.000,9, -999.000,9, -999.000,9,-999.0000,9,  -999.00,9,-999.000,9,   -999,-999.0000,-999.000,-999.000,  4.6604,-999.000
     32MW893_2,  P04C,   101,  1,     13,     13,2,19890315,1013,  9.5000,-176.1650, 6048,   1499.2,   3.1113,  34.5948,2,  34.5936,2,   -999.0,5,     82.1,2,   124.21,2,    40.76,2,    -0.01,2,     2.91,2, -999.000,9, -999.000,9, -999.000,9,-999.0000,9,  -999.00,9,-999.000,9,   -999,-999.0000,-999.000,-999.000,  3.0022,-999.000
     32MW893_2,  P04C,   101,  1,     12,     12,2,19890315,1013,  9.5000,-176.1650, 6048,   1999.8,   2.2166,  34.6342,2,  34.6333,2,   -999.0,5,    103.4,2,   143.99,2,    39.68,2,    -0.01,2,     2.79,2, -999.000,9, -999.000,9, -999.000,9,-999.0000,9,  -999.00,9,-999.000,9,   -999,-999.0000,-999.000,-999.000,  2.0769,-999.000
     32MW893_2,  P04C,   101,  1,     11,     11,2,19890315,1013,  9.5000,-176.1650, 6048,   2751.1,   1.7218,  34.6683,2,  34.6667,2,   -999.0,5,    124.7,2,   153.44,2,    38.32,2,     0.00,2,     2.67,2, -999.000,9, -999.000,9, -999.000,9,-999.0000,9,  -999.00,9,-999.000,9,   -999,-999.0000,-999.000,-999.000,  1.5237,-999.000
     32MW893_2,  P04C,   101,  1,      9,      9,2,19890315,1013,  9.5000,-176.1650, 6048,   4254.1,   1.3020,  34.6958,2,  34.7009,2,   -999.0,5,    177.3,2,   135.71,2,    34.89,2,     0.00,2,     2.39,2, -999.000,9, -999.000,9, -999.000,9,-999.0000,9,  -999.00,9,-999.000,9,   -999,-999.0000,-999.000,-999.000,  0.9608,-999.000
     32MW893_2,  P04C,   101,  1,      8,      8,2,19890315,1013,  9.5000,-176.1650, 6048,   5005.9,   1.2890,  34.7019,2,  34.7027,2,   -999.0,5,    189.9,2,   128.14,2,    33.92,2,     0.00,2,     2.34,2, -999.000,9, -999.000,9, -999.000,9,-999.0000,9,  -999.00,9,-999.000,9,   -999,-999.0000,-999.000,-999.000,  0.8611,-999.000
     32MW893_2,  P04C,   101,  1,      7,      7,2,19890315,1013,  9.5000,-176.1650, 6048,   5205.4,   1.3020,  34.7028,2,  34.7040,2,   -999.0,5,    190.7,2,   127.64,2,    33.82,2,     0.00,2,     2.31,2, -999.000,9, -999.000,9, -999.000,9,-999.0000,9,  -999.00,9,-999.000,9,   -999,-999.0000,-999.000,-999.000,  0.8493,-999.000
     32MW893_2,  P04C,   101,  1,      6,      6,2,19890315,1013,  9.5000,-176.1650, 6048,   5404.9,   1.3240,  34.7039,2,  34.7056,2,   -999.0,5,    191.2,2,   127.75,2,    33.82,2,     0.00,2,     2.32,2, -999.000,9, -999.000,9, -999.000,9,-999.0000,9,  -999.00,9,-999.000,9,   -999,-999.0000,-999.000,-999.000,  0.8457,-999.000
     32MW893_2,  P04C,   101,  1,      5,      5,2,19890315,1013,  9.5000,-176.1650, 6048,   5605.6,   1.3480,  34.7038,2,  34.7052,2,   -999.0,5,    191.6,2,   127.64,2,    33.72,2,     0.00,2,     2.31,2, -999.000,9, -999.000,9, -999.000,9,-999.0000,9,  -999.00,9,-999.000,9,   -999,-999.0000,-999.000,-999.000,  0.8434,-999.000
     32MW893_2,  P04C,   101,  1,      4,      4,2,19890315,1013,  9.5000,-176.1650, 6048,   5703.9,   1.3600,  34.7051,2,  34.7048,2,   -999.0,5,    192.0,2,   127.54,2,    33.72,2,     0.00,2,     2.31,2, -999.000,9, -999.000,9, -999.000,9,-999.0000,9,  -999.00,9,-999.000,9,   -999,-999.0000,-999.000,-999.000,  0.8423,-999.000
     32MW893_2,  P04C,   101,  1,      3,      3,2,19890315,1013,  9.5000,-176.1650, 6048,   5804.2,   1.3730,  34.7048,2,  34.7040,2,   -999.0,5,    191.6,2,   127.25,2,    33.82,2,     0.00,2,     2.31,2, -999.000,9, -999.000,9, -999.000,9,-999.0000,9,  -999.00,9,-999.000,9,   -999,-999.0000,-999.000,-999.000,  0.8417,-999.000
     32MW893_2,  P04C,   101,  1,      2,      2,2,19890315,1013,  9.5000,-176.1650, 6048,   5902.3,   1.3860,  34.7044,2,  34.7015,2,   -999.0,5,    192.0,2,   127.25,2,    33.82,2,     0.00,2,     2.30,2, -999.000,9, -999.000,9, -999.000,9,-999.0000,9,  -999.00,9,-999.000,9,   -999,-999.0000,-999.000,-999.000,  0.8414,-999.000
     32MW893_2,  P04C,   101,  1,      1,      1,2,19890315,1013,  9.5000,-176.1650, 6048,   6054.7,   1.4060,  34.7056,2,-999.0000,5,   -999.0,5,    197.3,2,   127.44,2,    33.82,2,     0.00,2,     2.31,2, -999.000,9, -999.000,9, -999.000,9,-999.0000,9,  -999.00,9,-999.000,9,   -999,-999.0000,-999.000,-999.000,  0.8404,-999.000
     32MW893_2,  P04C,   102,  1,     24,     24,2,19890315,1951,  9.5017,-175.3183, 6121,     19.4,  27.5229,  34.4964,2,  34.4946,2,   -999.0,5,    209.5,2,     1.18,2,     0.10,2,     0.00,2,     0.15,2,    1.577,2,    0.878,2,    1.672,2,   1.7050,2,    -1.09,2,-999.000,9,   -999,  0.0090,   0.080,-999.000, 27.5184,   0.029
     32MW893_2,  P04C,   102,  1,     23,     23,2,19890315,1951,  9.5017,-175.3183, 6121,     47.6,  27.5209,  34.4959,2,  34.4938,2,   -999.0,5,    209.9,2,     1.18,2,     0.10,2,     0.00,2,     0.15,2,    1.599,2,    0.916,2,    1.651,2,   1.7150,2,    -1.02,2,-999.000,9,   -999,  0.0090,   0.080,-999.000, 27.5098,   0.029
     32MW893_2,  P04C,   102,  1,     22,     22,2,19890315,1951,  9.5017,-175.3183, 6121,     72.6,  27.4609,  34.5229,2,  34.5200,2,   -999.0,5,    211.6,2,     1.38,2,     0.10,2,     0.00,2,     0.15,2,    1.637,2,    0.863,2,    1.610,2,   1.7010,2,    -1.10,2,-999.000,9,   -999,  0.0090,   0.080,-999.000, 27.4441,   0.029
     32MW893_2,  P04C,   102,  1,     21,     21,2,19890315,1951,  9.5017,-175.3183, 6121,     96.0,  23.4768,  35.0519,2,  35.0476,2,   -999.0,5,    201.1,2,     1.48,2,     0.10,2,     0.00,2,     0.19,2,    1.752,2,    0.935,2,    2.304,2,   1.7280,2,     0.25,2,-999.000,9,   -999,  0.0100,   0.080,-999.000, 23.4569,   0.034
     32MW893_2,  P04C,   102,  1,     20,     20,2,19890315,1951,  9.5017,-175.3183, 6121,    122.0,  21.1273,  34.9709,2,  34.9723,2,   -999.0,5,    181.6,2,     2.95,2,     1.47,2,     0.11,2,     0.36,2,    1.837,2,    0.971,2,    2.449,2,   1.7390,2,     1.53,2,-999.000,9,   -999,  0.0100,   0.080,-999.000, 21.1039,   0.020
     32MW893_2,  P04C,   102,  1,     18,     18,2,19890315,1951,  9.5017,-175.3183, 6121,    169.6,  13.2716,  34.4548,2,  34.4469,2,   -999.0,5,    146.0,2,    13.98,2,    16.03,2,     0.00,2,     1.24,2, -999.000,9, -999.000,9,    2.365,2,   1.7660,2,     8.73,2,-999.000,9,   -999,  0.0100,   0.080,-999.000, 13.2481,   0.022
     32MW893_2,  P04C,   102,  1,     17,     17,2,19890315,1951,  9.5017,-175.3183, 6121,    196.8,  11.6041,  34.5365,2,  34.5363,2,   -999.0,5,     50.8,2,    26.48,2,    29.42,2,     0.00,2,     2.20,2,    0.475,2,    0.239,2,    1.257,2,   1.7850,2,    10.18,2,-999.000,9,   -999,  0.0100,   0.080,-999.000, 11.5791,   0.013
     32MW893_2,  P04C,   102,  1,     16,     16,2,19890315,1951,  9.5017,-175.3183, 6121,    247.3,  10.4075,  34.6140,2,  34.6066,2,   -999.0,5,     33.0,2,    32.97,2,    33.53,2,     0.00,2,     2.44,2, -999.000,9, -999.000,9,    0.543,2,   1.8000,2,     7.74,2,-999.000,9,   -999,  0.0100,   0.080,-999.000, 10.3781,   0.010
     32MW893_2,  P04C,   102,  1,     15,     15,2,19890315,1951,  9.5017,-175.3183, 6121,    297.4,   9.9517,  34.6612,2,  34.6612,2,   -999.0,5,     17.8,2,    34.93,2,    35.48,2,     0.00,2,     2.52,2, -999.000,9, -999.000,9,    0.224,2,   1.8030,2,     6.30,2,-999.000,9,   -999,  0.0100,   0.080,-999.000,  9.9173,   0.007
     32MW893_2,  P04C,   102,  1,     14,     14,2,19890315,1951,  9.5017,-175.3183, 6121,    397.9,   9.1010,  34.6401,2,  34.6398,2,   -999.0,5,     23.9,2,    39.27,2,    37.14,2,     0.00,2,     2.64,2, -999.000,9, -999.000,9,    0.090,2,   1.8070,2,     6.20,2,-999.000,9,   -999,  0.0100,   0.080,-999.000,  9.0572,   0.006
     32MW893_2,  P04C,   102,  1,     13,     13,2,19890315,1951,  9.5017,-175.3183, 6121,    496.1,   8.2023,  34.5956,2,  34.5926,2,   -999.0,5,     25.6,2,    46.85,2,    38.02,2,     0.00,2,     2.79,2,    0.010,2,    0.016,2,    0.048,2,   1.8120,2,     6.91,2,-999.000,9,   -999,  0.0100,   0.080,-999.000,  8.1507,   0.005
     32MW893_2,  P04C,   102,  1,     12,     12,2,19890315,1951,  9.5017,-175.3183, 6121,    696.2,   6.3430,  34.5399,2,  34.5384,2,   -999.0,5,     32.6,2,    66.04,2,    41.64,2,     0.00,2,     2.99,2,    0.025,2,    0.012,2, -999.000,9,-999.0000,9,  -999.00,9,-999.000,9,   -999,-999.0000,-999.000,-999.000,  6.2794,-999.000
     32MW893_2,  P04C,   102,  1,     11,     11,2,19890315,1951,  9.5017,-175.3183, 6121,    997.5,   4.6846,  34.5498,2,  34.5498,2,   -999.0,5,     53.4,2,    91.44,2,    42.42,2,     0.00,2,     3.02,2,    0.016,2,    0.001,2, -999.000,9,-999.0000,9,  -999.00,9,-999.000,9,   -999,-999.0000,-999.000,-999.000,  4.6038,-999.000
     32MW893_2,  P04C,   102,  1,     10,     10,2,19890315,1951,  9.5017,-175.3183, 6121,   1497.7,   3.1342,  34.5929,2,  34.5909,2,   -999.0,5,     83.0,2,   123.52,2,    41.05,2,     0.00,2,     2.90,2,    0.007,2, -999.000,5, -999.000,9,-999.0000,9,  -999.00,9,-999.000,9,   -999,-999.0000,-999.000,-999.000,  3.0251,-999.000
     32MW893_2,  P04C,   102,  1,      9,      9,2,19890315,1951,  9.5017,-175.3183, 6121,   1998.0,   2.1916,  34.6372,2,  34.6343,2,   -999.0,5,    104.3,2,   143.89,2,    40.08,2,     0.00,2,     2.80,2, -999.000,5,    0.001,2, -999.000,9,-999.0000,9,  -999.00,9,-999.000,9,   -999,-999.0000,-999.000,-999.000,  2.0524,-999.000
     32MW893_2,  P04C,   102,  1,      8,      8,2,19890315,1951,  9.5017,-175.3183, 6121,   2501.1,   1.8518,  34.6586,2,  34.6592,2,   -999.0,5,    117.8,2,   150.49,2,    39.20,2,     0.00,2,     2.70,2,   -0.003,2,   -0.005,2, -999.000,9,-999.0000,9,  -999.00,9,-999.000,9,   -999,-999.0000,-999.000,-999.000,  1.6741,-999.000
     32MW893_2,  P04C,   102,  1,      7,      7,2,19890315,1951,  9.5017,-175.3183, 6121,   3002.7,   1.6468,  34.6723,2,  34.6724,2,   -999.0,5,    132.1,2,   152.84,2,    38.41,2,     0.00,2,     2.61,2,   -0.005,2,   -0.005,2, -999.000,9,-999.0000,9,  -999.00,9,-999.000,9,   -999,-999.0000,-999.000,-999.000,  1.4266,-999.000
     32MW893_2,  P04C,   102,  1,      6,      6,2,19890315,1951,  9.5017,-175.3183, 6121,   3502.8,   1.4969,  34.6806,2,  34.6816,2,   -999.0,5,    148.2,2,   148.70,2,    37.14,2,     0.00,2,     2.53,2,   -0.001,2,   -0.004,2, -999.000,9,-999.0000,9,  -999.00,9,-999.000,9,   -999,-999.0000,-999.000,-999.000,  1.2306,-999.000
     32MW893_2,  P04C,   102,  1,      5,      5,2,19890315,1951,  9.5017,-175.3183, 6121,   4002.7,   1.3560,  34.6901,2,  34.6913,2,   -999.0,5,    168.2,2,   140.24,2,    35.77,2,     0.00,2,     2.42,2,    0.001,2,   -0.005,2, -999.000,9,-999.0000,9,  -999.00,9,-999.000,9,   -999,-999.0000,-999.000,-999.000,  1.0409,-999.000
     32MW893_2,  P04C,   102,  1,      4,      4,2,19890315,1951,  9.5017,-175.3183, 6121,   4503.7,   1.2830,  34.6978,2,  34.7025,2,   -999.0,5,    182.5,2,   131.58,2,    34.70,2,     0.00,2,     2.36,2,    0.001,2,    0.001,2, -999.000,9,-999.0000,9,  -999.00,9,-999.000,9,   -999,-999.0000,-999.000,-999.000,  0.9143,-999.000
     32MW893_2,  P04C,   102,  1,      3,      3,2,19890315,1951,  9.5017,-175.3183, 6121,   5003.9,   1.2880,  34.7013,2,  34.7023,2,   -999.0,5,    189.9,2,   126.37,2,    33.92,2,     0.00,2,     2.30,2,    0.014,2,    0.006,2, -999.000,9,-999.0000,9,  -999.00,9,-999.000,9,   -999,-999.0000,-999.000,-999.000,  0.8604,-999.000
     32MW893_2,  P04C,   102,  1,      2,      2,2,19890315,1951,  9.5017,-175.3183, 6121,   5495.8,   1.3340,  34.7033,2,  34.7025,2,   -999.0,5,    190.7,2,   127.44,2,    34.11,2,     0.00,2,     2.30,2,   -0.002,2, -999.000,5, -999.000,9,-999.0000,9,  -999.00,9,-999.000,9,   -999,-999.0000,-999.000,-999.000,  0.8439,-999.000
     32MW893_2,  P04C,   102,  1,      1,      1,2,19890315,1951,  9.5017,-175.3183, 6121,   6239.0,   1.4320,  34.7059,2,-999.0000,5,   -999.0,5,    191.2,2,   127.25,2,    34.11,2,     0.00,2,     2.30,2,    0.001,2,    0.012,2, -999.000,9,-999.0000,9,  -999.00,9,-999.000,9,   -999,-999.0000,-999.000,-999.000,  0.8405,-999.000