BOTTLE,20020311WHPSIOdm
EXPOCODE,SECT_ID,STNNBR,CASTNO,SAMPNO,BTLNBR,BTLNBR_FLAG_W,DATE,TIME,LATITUDE,LONGITUDE,DEPTH,CTDPRS,CTDTMP,CTDSAL,CTDSAL_FLAG_W,SALNTY,SALNTY_FLAG_W,CTDOXY,CTDOXY_FLAG_W,OXYGEN,OXYGEN_FLAG_W,SILCAT,SILCAT_FLAG_W,NITRAT,NITRAT_FLAG_W,NITRIT,NITRIT_FLAG_W,PHSPHT,PHSPHT_FLAG_W,CFC-11,CFC-11_FLAG_W,CFC-12,CFC-12_FLAG_W,TRITUM,TRITUM_FLAG_W,HELIUM,HELIUM_FLAG_W,DELHE3,DELHE3_FLAG_W,NEON,NEON_FLAG_W,CTDRAW,HELIER,DELHER,NEONER,THETA,TRITER
,,,,,,,,,,,,DBAR,ITS-90,PSS-78,,PSS-78,,UMOL/KG,,UMOL/KG,,UMOL/KG,,UMOL/KG,,UMOL/KG,,UMOL/KG,,PMOL/KG,,PMOL/KG,,TU,,NMOL/KG,,PERCNT,,NMOL/KG,,,NMOL/KG,PERCNT,NMOL/KG,ITS-90,TU
     32MW893_2,  P04C,   119,  1,     24,     12,2,19890321,1800,  9.4983,-161.1733, 4885,      7.0,  26.4132,  34.3706,2,  34.3723,2,   -999.0,5,    219.9,2,     0.49,2,     0.00,2,     0.00,2,     0.31,2,    1.759,2,    0.941,2, -999.000,9,-999.0000,9,  -999.00,9,-999.000,9,   -999,-999.0000,-999.000,-999.000, 26.4116,-999.000
     32MW893_2,  P04C,   119,  1,     23,     11,2,19890321,1800,  9.4983,-161.1733, 4885,     47.5,  25.8783,  34.4250,2,  34.3967,2,   -999.0,5,    222.1,2,     0.68,2,     0.10,2,     0.00,2,     0.29,2,    1.793,2,    0.946,2, -999.000,9,-999.0000,9,  -999.00,9,-999.000,9,   -999,-999.0000,-999.000,-999.000, 25.8678,-999.000
     32MW893_2,  P04C,   119,  1,     22,     10,2,19890321,1800,  9.4983,-161.1733, 4885,     97.0,  18.8260,  34.8259,2,  34.7952,2,   -999.0,5,    182.5,2,     3.05,2,     4.01,2,     0.19,2,     0.56,2,    1.938,2,    0.989,2, -999.000,9,-999.0000,9,  -999.00,9,-999.000,9,   -999,-999.0000,-999.000,-999.000, 18.8089,-999.000
     32MW893_2,  P04C,   119,  1,     21,      9,2,19890321,1800,  9.4983,-161.1733, 4885,    146.4,  12.3389,  34.5608,2,  34.5484,2,   -999.0,5,     48.2,2,    23.23,2,    28.35,2,     0.00,2,     2.19,2,    0.598,2,    0.277,2, -999.000,9,-999.0000,9,  -999.00,9,-999.000,9,   -999,-999.0000,-999.000,-999.000, 12.3196,-999.000
     32MW893_2,  P04C,   119,  1,     20,      8,2,19890321,1800,  9.4983,-161.1733, 4885,    198.2,  11.3112,  34.7017,2,  34.6977,2,   -999.0,5,     17.8,2,    28.93,2,    33.53,2,     0.00,2,     2.49,2,    0.124,2,    0.064,2, -999.000,9,-999.0000,9,  -999.00,9,-999.000,9,   -999,-999.0000,-999.000,-999.000, 11.2864,-999.000
     32MW893_2,  P04C,   119,  1,     19,      7,2,19890321,1800,  9.4983,-161.1733, 4885,    244.3,  10.6394,  34.6991,2,  34.6970,2,   -999.0,5,     17.4,2,    31.30,2,    34.60,2,     0.00,2,     2.53,2,    0.052,2,    0.034,2, -999.000,9,-999.0000,9,  -999.00,9,-999.000,9,   -999,-999.0000,-999.000,-999.000, 10.6100,-999.000
     32MW893_2,  P04C,   119,  1,     18,      6,2,19890321,1800,  9.4983,-161.1733, 4885,    296.7,  10.0427,  34.6804,2,  34.6787,2,   -999.0,5,     20.0,2,    33.76,2,    35.48,2,     0.00,2,     2.55,2,    0.037,2,    0.020,2, -999.000,9,-999.0000,9,  -999.00,9,-999.000,9,   -999,-999.0000,-999.000,-999.000, 10.0081,-999.000
     32MW893_2,  P04C,   119,  1,     17,      5,2,19890321,1800,  9.4983,-161.1733, 4885,    397.1,   9.2190,  34.6509,2,  34.6500,2,   -999.0,5,     15.6,2,    38.87,2,    37.14,2,     0.00,2,     2.72,2,    0.007,2,   -0.005,2, -999.000,9,-999.0000,9,  -999.00,9,-999.000,9,   -999,-999.0000,-999.000,-999.000,  9.1749,-999.000
     32MW893_2,  P04C,   119,  1,     16,      4,2,19890321,1800,  9.4983,-161.1733, 4885,    496.4,   8.4112,  34.6006,2,  34.6001,2,   -999.0,5,     20.4,2,    44.58,2,    37.73,2,     0.00,2,     2.81,2,    0.015,2,   -0.005,2, -999.000,9,-999.0000,9,  -999.00,9,-999.000,9,   -999,-999.0000,-999.000,-999.000,  8.3588,-999.000
     32MW893_2,  P04C,   119,  1,     15,      3,2,19890321,1800,  9.4983,-161.1733, 4885,    599.6,   7.2267,  34.5478,2,  34.5459,2,   -999.0,5,     28.2,2,    56.79,2,    39.30,2,     0.00,2,     2.90,2,   -0.011,2,   -0.005,2, -999.000,9,-999.0000,9,  -999.00,9,-999.000,9,   -999,-999.0000,-999.000,-999.000,  7.1683,-999.000
     32MW893_2,  P04C,   119,  1,     14,      2,2,19890321,1800,  9.4983,-161.1733, 4885,    746.9,   5.7962,  34.5260,2,  34.5235,2,   -999.0,5,     30.0,2,    75.59,2,    42.33,2,     0.00,2,     3.08,2,   -0.007,2,   -0.004,2, -999.000,9,-999.0000,9,  -999.00,9,-999.000,9,   -999,-999.0000,-999.000,-999.000,  5.7308,-999.000
     32MW893_2,  P04C,   119,  1,     13,      1,2,19890321,1800,  9.4983,-161.1733, 4885,    996.9,   4.5167,  34.5509,2,  34.5431,2,   -999.0,5,     55.2,2,    95.18,2,    42.03,2,     0.00,2,     3.01,2,    0.006,2,   -0.004,2, -999.000,9,-999.0000,9,  -999.00,9,-999.000,9,   -999,-999.0000,-999.000,-999.000,  4.4373,-999.000
     32MW893_2,  P04C,   119,  1,     12,     24,2,19890321,1800,  9.4983,-161.1733, 4885,   1246.6,   3.5780,  34.5793,2,  34.5761,2,   -999.0,5,     74.3,2,   113.78,2,    41.84,2,     0.00,2,     2.99,2,    0.003,2,   -0.005,2, -999.000,9,-999.0000,9,  -999.00,9,-999.000,9,   -999,-999.0000,-999.000,-999.000,  3.4853,-999.000
     32MW893_2,  P04C,   119,  1,     11,     23,2,19890321,1800,  9.4983,-161.1733, 4885,   1497.7,   2.9543,  34.6002,2,  34.5991,2,   -999.0,5,     81.3,2,   127.85,2,    41.35,2,     0.00,2,     2.92,2,    0.003,2,   -0.005,2, -999.000,9,-999.0000,9,  -999.00,9,-999.000,9,   -999,-999.0000,-999.000,-999.000,  2.8471,-999.000
     32MW893_2,  P04C,   119,  1,     10,     22,2,19890321,1800,  9.4983,-161.1733, 4885,   1999.7,   2.1586,  34.6384,2,  34.6382,2,   -999.0,5,    103.4,2,   145.07,2,    39.78,2,     0.00,2,     2.80,2,    0.005,2,    0.001,2, -999.000,9,-999.0000,9,  -999.00,9,-999.000,9,   -999,-999.0000,-999.000,-999.000,  2.0197,-999.000
     32MW893_2,  P04C,   119,  1,      9,     21,2,19890321,1800,  9.4983,-161.1733, 4885,   2500.6,   1.8268,  34.6620,2,  34.6616,2,   -999.0,5,    120.4,2,   151.46,2,    38.90,2,     0.00,2,     2.73,2,    0.014,2,   -0.005,2, -999.000,9,-999.0000,9,  -999.00,9,-999.000,9,   -999,-999.0000,-999.000,-999.000,  1.6496,-999.000
     32MW893_2,  P04C,   119,  1,      8,     20,2,19890321,1800,  9.4983,-161.1733, 4885,   3002.2,   1.6608,  34.6734,2,  34.6722,2,   -999.0,5,    130.4,2,   153.73,2,    38.22,2,     0.00,2,     2.66,2,    0.006,2,    0.012,2, -999.000,9,-999.0000,9,  -999.00,9,-999.000,9,   -999,-999.0000,-999.000,-999.000,  1.4403,-999.000
     32MW893_2,  P04C,   119,  1,      7,     19,2,19890321,1800,  9.4983,-161.1733, 4885,   3503.0,   1.5259,  34.6814,2,  34.6804,2,   -999.0,5,    146.4,2,   150.08,2,    37.04,2,     0.00,2,     2.59,2,    0.012,2,    0.013,2, -999.000,9,-999.0000,9,  -999.00,9,-999.000,9,   -999,-999.0000,-999.000,-999.000,  1.2588,-999.000
     32MW893_2,  P04C,   119,  1,      6,     18,2,19890321,1800,  9.4983,-161.1733, 4885,   4005.4,   1.3790,  34.6889,2,  34.6905,2,   -999.0,5,    165.5,2,   142.21,2,    35.87,2,     0.00,2,     2.49,2, -999.000,9, -999.000,9, -999.000,9,-999.0000,9,  -999.00,9,-999.000,9,   -999,-999.0000,-999.000,-999.000,  1.0628,-999.000
     32MW893_2,  P04C,   119,  1,      5,     17,2,19890321,1800,  9.4983,-161.1733, 4885,   4254.3,   1.3410,  34.6922,2,  34.6940,2,   -999.0,5,    174.7,2,   137.88,2,    35.28,2,     0.00,2,     2.45,2, -999.000,9, -999.000,9, -999.000,9,-999.0000,9,  -999.00,9,-999.000,9,   -999,-999.0000,-999.000,-999.000,  0.9987,-999.000
     32MW893_2,  P04C,   119,  1,      4,     16,2,19890321,1800,  9.4983,-161.1733, 4885,   4505.2,   1.3260,  34.6944,2,  34.6960,2,   -999.0,5,    179.4,2,   134.73,2,    34.89,2,     0.00,2,     2.41,2,    0.012,2,    0.008,2, -999.000,9,-999.0000,9,  -999.00,9,-999.000,9,   -999,-999.0000,-999.000,-999.000,  0.9558,-999.000
     32MW893_2,  P04C,   119,  1,      3,     15,2,19890321,1800,  9.4983,-161.1733, 4885,   4745.5,   1.3380,  34.6963,2,  34.6962,2,   -999.0,5,    181.2,2,   132.76,2,    34.50,2,     0.00,2,     2.39,2,    0.004,2,    0.008,2, -999.000,9,-999.0000,9,  -999.00,9,-999.000,9,   -999,-999.0000,-999.000,-999.000,  0.9395,-999.000
     32MW893_2,  P04C,   119,  1,      1,     13,2,19890321,1800,  9.4983,-161.1733, 4885,   4980.3,   1.3460,  34.6968,2,  34.6983,2,   -999.0,5,    184.2,2,   132.47,2,    34.50,2,     0.00,2,     2.38,2,    0.003,2, -999.000,5, -999.000,9,-999.0000,9,  -999.00,9,-999.000,9,   -999,-999.0000,-999.000,-999.000,  0.9193,-999.000
     32MW893_2,  P04C,   119,  1,      2,     14,2,19890321,1800,  9.4983,-161.1733, 4885,   4981.9,   1.3460,  34.6974,2,  34.6991,2,   -999.0,5,    183.8,2,   132.37,2,    34.50,2,     0.00,2,     2.38,2,    0.004,2, -999.000,5, -999.000,9,-999.0000,9,  -999.00,9,-999.000,9,   -999,-999.0000,-999.000,-999.000,  0.9191,-999.000