BOTTLE,20020311WHPSIOdm
EXPOCODE,SECT_ID,STNNBR,CASTNO,SAMPNO,BTLNBR,BTLNBR_FLAG_W,DATE,TIME,LATITUDE,LONGITUDE,DEPTH,CTDPRS,CTDTMP,CTDSAL,CTDSAL_FLAG_W,SALNTY,SALNTY_FLAG_W,CTDOXY,CTDOXY_FLAG_W,OXYGEN,OXYGEN_FLAG_W,SILCAT,SILCAT_FLAG_W,NITRAT,NITRAT_FLAG_W,NITRIT,NITRIT_FLAG_W,PHSPHT,PHSPHT_FLAG_W,CFC-11,CFC-11_FLAG_W,CFC-12,CFC-12_FLAG_W,TRITUM,TRITUM_FLAG_W,HELIUM,HELIUM_FLAG_W,DELHE3,DELHE3_FLAG_W,NEON,NEON_FLAG_W,CTDRAW,HELIER,DELHER,NEONER,THETA,TRITER
,,,,,,,,,,,,DBAR,ITS-90,PSS-78,,PSS-78,,UMOL/KG,,UMOL/KG,,UMOL/KG,,UMOL/KG,,UMOL/KG,,UMOL/KG,,PMOL/KG,,PMOL/KG,,TU,,NMOL/KG,,PERCNT,,NMOL/KG,,,NMOL/KG,PERCNT,NMOL/KG,ITS-90,TU
     32MW893_2,  P04C,   117,  1,     24,     24,2,19890321,0200,  9.4967,-162.8350, 4762,      7.4,  26.2722,  34.2083,2,  34.2023,2,   -999.0,5,    217.3,2,     0.68,2,     0.00,2,     0.00,2,     0.23,2, -999.000,9, -999.000,9, -999.000,9,-999.0000,9,  -999.00,9,-999.000,9,   -999,-999.0000,-999.000,-999.000, 26.2705,-999.000
     32MW893_2,  P04C,   117,  1,     23,     23,2,19890321,0200,  9.4967,-162.8350, 4762,     48.1,  26.2622,  34.4285,2,  34.4253,2,   -999.0,5,    216.9,2,     0.68,2,     0.00,2,     0.00,2,     0.26,2, -999.000,9, -999.000,9, -999.000,9,-999.0000,9,  -999.00,9,-999.000,9,   -999,-999.0000,-999.000,-999.000, 26.2514,-999.000
     32MW893_2,  P04C,   117,  1,     22,     22,2,19890321,0200,  9.4967,-162.8350, 4762,     97.1,  17.1794,  34.6281,2,  34.6388,2,   -999.0,5,    165.5,2,     5.61,2,     7.53,2,     0.31,2,     0.76,2, -999.000,9, -999.000,9, -999.000,9,-999.0000,9,  -999.00,9,-999.000,9,   -999,-999.0000,-999.000,-999.000, 17.1633,-999.000
     32MW893_2,  P04C,   117,  1,     21,     21,2,19890321,0200,  9.4967,-162.8350, 4762,    146.5,  12.6568,  34.5598,2,  34.5345,2,   -999.0,5,     65.2,2,    21.16,2,    26.20,2,     0.00,2,     2.02,2, -999.000,9, -999.000,9, -999.000,9,-999.0000,9,  -999.00,9,-999.000,9,   -999,-999.0000,-999.000,-999.000, 12.6371,-999.000
     32MW893_2,  P04C,   117,  1,     20,     20,2,19890321,0200,  9.4967,-162.8350, 4762,    196.5,  11.1683,  34.7132,2,  34.7162,2,   -999.0,5,     16.5,2,    29.33,2,    34.31,2,     0.00,2,     2.50,2, -999.000,9, -999.000,9, -999.000,9,-999.0000,9,  -999.00,9,-999.000,9,   -999,-999.0000,-999.000,-999.000, 11.1439,-999.000
     32MW893_2,  P04C,   117,  1,     19,     19,2,19890321,0200,  9.4967,-162.8350, 4762,    247.0,  10.3385,  34.6971,2,  34.6946,2,   -999.0,5,     21.3,2,    32.28,2,    35.09,2,     0.00,2,     2.53,2, -999.000,9, -999.000,9, -999.000,9,-999.0000,9,  -999.00,9,-999.000,9,   -999,-999.0000,-999.000,-999.000, 10.3093,-999.000
     32MW893_2,  P04C,   117,  1,     18,     18,2,19890321,0200,  9.4967,-162.8350, 4762,    297.6,   9.8987,  34.6824,2,  34.6834,2,   -999.0,5,     30.0,2,    33.46,2,    35.28,2,     0.00,2,     2.53,2, -999.000,9, -999.000,9, -999.000,9,-999.0000,9,  -999.00,9,-999.000,9,   -999,-999.0000,-999.000,-999.000,  9.8643,-999.000
     32MW893_2,  P04C,   117,  1,     17,     17,2,19890321,0200,  9.4967,-162.8350, 4762,    398.1,   8.9810,  34.6429,2,  34.6390,2,   -999.0,5,     18.2,2,    40.35,2,    37.24,2,     0.00,2,     2.75,2, -999.000,9, -999.000,9, -999.000,9,-999.0000,9,  -999.00,9,-999.000,9,   -999,-999.0000,-999.000,-999.000,  8.9376,-999.000
     32MW893_2,  P04C,   117,  1,     16,     16,2,19890321,0200,  9.4967,-162.8350, 4762,    497.0,   7.9384,  34.5839,2,  34.5850,2,   -999.0,5,     22.2,2,    49.41,2,    38.42,2,     0.00,2,     2.90,2, -999.000,9, -999.000,9, -999.000,9,-999.0000,9,  -999.00,9,-999.000,9,   -999,-999.0000,-999.000,-999.000,  7.8876,-999.000
     32MW893_2,  P04C,   117,  1,     15,     15,2,19890321,0200,  9.4967,-162.8350, 4762,    596.2,   6.9707,  34.5536,2,  34.5553,2,   -999.0,5,     22.2,2,    59.15,2,    40.37,2,     0.00,2,     3.03,2, -999.000,9, -999.000,9, -999.000,9,-999.0000,9,  -999.00,9,-999.000,9,   -999,-999.0000,-999.000,-999.000,  6.9138,-999.000
     32MW893_2,  P04C,   117,  1,     14,     14,2,19890321,0200,  9.4967,-162.8350, 4762,    802.9,   5.6912,  34.5456,2,  34.5402,2,   -999.0,5,     32.2,2,    74.51,2,    42.72,2,     0.00,2,     3.12,2, -999.000,9, -999.000,9, -999.000,9,-999.0000,9,  -999.00,9,-999.000,9,   -999,-999.0000,-999.000,-999.000,  5.6213,-999.000
     32MW893_2,  P04C,   117,  1,     13,     13,2,19890321,0200,  9.4967,-162.8350, 4762,    997.2,   4.5567,  34.5500,2,  34.5494,2,   -999.0,5,     54.3,2,    94.19,2,    42.42,2,     0.00,2,     3.06,2, -999.000,9, -999.000,9, -999.000,9,-999.0000,9,  -999.00,9,-999.000,9,   -999,-999.0000,-999.000,-999.000,  4.4769,-999.000
     32MW893_2,  P04C,   117,  1,     12,     12,2,19890321,0200,  9.4967,-162.8350, 4762,   1195.6,   3.7730,  34.5676,2,  34.5734,2,   -999.0,5,     65.2,2,   110.33,2,    42.13,2,     0.00,2,     3.05,2, -999.000,9, -999.000,9, -999.000,9,-999.0000,9,  -999.00,9,-999.000,9,   -999,-999.0000,-999.000,-999.000,  3.6827,-999.000
     32MW893_2,  P04C,   117,  1,     11,     11,2,19890321,0200,  9.4967,-162.8350, 4762,   1513.0,   2.9053,  34.6035,2,  34.6028,2,   -999.0,5,     82.1,2,   127.85,2,    41.05,2,     0.00,2,     2.96,2, -999.000,9, -999.000,9, -999.000,9,-999.0000,9,  -999.00,9,-999.000,9,   -999,-999.0000,-999.000,-999.000,  2.7974,-999.000
     32MW893_2,  P04C,   117,  1,     10,     10,2,19890321,0200,  9.4967,-162.8350, 4762,   1987.9,   2.2386,  34.6371,2,  34.6380,2,   -999.0,5,    102.1,2,   144.18,2,    39.98,2,     0.00,2,     2.84,2, -999.000,9, -999.000,9, -999.000,9,-999.0000,9,  -999.00,9,-999.000,9,   -999,-999.0000,-999.000,-999.000,  2.0995,-999.000
     32MW893_2,  P04C,   117,  1,      9,      9,2,19890321,0200,  9.4967,-162.8350, 4762,   2498.2,   1.8278,  34.6633,2,  34.6632,2,   -999.0,5,    121.2,2,   152.55,2,    38.90,2,     0.00,2,     2.75,2, -999.000,9, -999.000,9, -999.000,9,-999.0000,9,  -999.00,9,-999.000,9,   -999,-999.0000,-999.000,-999.000,  1.6508,-999.000
     32MW893_2,  P04C,   117,  1,      8,      8,2,19890321,0200,  9.4967,-162.8350, 4762,   3001.0,   1.6968,  34.6712,2,  34.6759,2,   -999.0,5,    130.8,2,   152.74,2,    38.22,2,     0.00,2,     2.67,2, -999.000,9, -999.000,9, -999.000,9,-999.0000,9,  -999.00,9,-999.000,9,   -999,-999.0000,-999.000,-999.000,  1.4755,-999.000
     32MW893_2,  P04C,   117,  1,      7,      7,2,19890321,0200,  9.4967,-162.8350, 4762,   3501.4,   1.5189,  34.6810,2,  34.6820,2,   -999.0,5,    147.7,2,   149.98,2,    37.04,2,     0.00,2,     2.59,2, -999.000,9, -999.000,9, -999.000,9,-999.0000,9,  -999.00,9,-999.000,9,   -999,-999.0000,-999.000,-999.000,  1.2522,-999.000
     32MW893_2,  P04C,   117,  1,      6,      6,2,19890321,0200,  9.4967,-162.8350, 4762,   4002.4,   1.3820,  34.6907,2,  34.6940,2,   -999.0,5,    166.8,2,   141.32,2,    35.68,2,     0.00,2,     2.48,2, -999.000,9, -999.000,9, -999.000,9,-999.0000,9,  -999.00,9,-999.000,9,   -999,-999.0000,-999.000,-999.000,  1.0660,-999.000
     32MW893_2,  P04C,   117,  1,      5,      5,2,19890321,0200,  9.4967,-162.8350, 4762,   4254.1,   1.3230,  34.6929,2,  34.6964,2,   -999.0,5,    176.8,2,   136.60,2,    35.09,2,     0.00,2,     2.42,2, -999.000,9, -999.000,9, -999.000,9,-999.0000,9,  -999.00,9,-999.000,9,   -999,-999.0000,-999.000,-999.000,  0.9812,-999.000
     32MW893_2,  P04C,   117,  1,      4,      4,2,19890321,0200,  9.4967,-162.8350, 4762,   4503.3,   1.3020,  34.6961,2,  34.6981,2,   -999.0,5,    182.1,2,  -999.00,5,  -999.00,5,  -999.00,5,  -999.00,5, -999.000,9, -999.000,9, -999.000,9,-999.0000,9,  -999.00,9,-999.000,9,   -999,-999.0000,-999.000,-999.000,  0.9327,-999.000
     32MW893_2,  P04C,   117,  1,      3,      3,2,19890321,0200,  9.4967,-162.8350, 4762,   4503.3,   1.3020,  34.6961,2,  34.6985,2,   -999.0,5,    182.1,2,   132.86,2,    34.60,2,     0.00,2,     2.39,2,   -0.011,2,    0.013,2, -999.000,9,-999.0000,9,  -999.00,9,-999.000,9,   -999,-999.0000,-999.000,-999.000,  0.9327,-999.000
     32MW893_2,  P04C,   117,  1,      2,      2,2,19890321,0200,  9.4967,-162.8350, 4762,   4843.1,   1.3180,  34.6983,2,  34.6997,2,   -999.0,5,    186.4,2,   131.09,2,    34.40,2,     0.00,2,     2.38,2, -999.000,9, -999.000,9, -999.000,9,-999.0000,9,  -999.00,9,-999.000,9,   -999,-999.0000,-999.000,-999.000,  0.9086,-999.000
     32MW893_2,  P04C,   117,  1,      1,      1,2,19890321,0200,  9.4967,-162.8350, 4762,   4843.1,   1.3180,  34.6983,2,  34.6993,2,   -999.0,5,   -999.0,5,   131.19,2,    34.40,2,     0.00,2,     2.38,2, -999.000,9, -999.000,9, -999.000,9,-999.0000,9,  -999.00,9,-999.000,9,   -999,-999.0000,-999.000,-999.000,  0.9086,-999.000
     32MW893_2,  P04C,   118,  1,     24,     24,2,19890321,1010,  9.4967,-162.0050, 3727,      4.2,  26.2302,  34.2304,2,  34.2291,2,   -999.0,5,    222.1,2,     0.68,2,     0.00,2,     0.00,2,     0.29,2, -999.000,9, -999.000,9, -999.000,9,-999.0000,9,  -999.00,9,-999.000,9,   -999,-999.0000,-999.000,-999.000, 26.2293,-999.000
     32MW893_2,  P04C,   118,  1,     23,     23,2,19890321,1010,  9.4967,-162.0050, 3727,     48.4,  24.1036,  34.5657,2,-999.0000,5,   -999.0,5,    223.4,2,     0.79,2,     0.00,2,     0.00,2,     0.29,2, -999.000,9, -999.000,9, -999.000,9,-999.0000,9,  -999.00,9,-999.000,9,   -999,-999.0000,-999.000,-999.000, 24.0934,-999.000
     32MW893_2,  P04C,   118,  1,     22,     22,2,19890321,1010,  9.4967,-162.0050, 3727,     98.8,  18.8390,  34.7716,2,  34.7884,2,   -999.0,5,    191.6,2,     3.05,2,     3.62,2,     0.13,2,     0.51,2, -999.000,9, -999.000,9, -999.000,9,-999.0000,9,  -999.00,9,-999.000,9,   -999,-999.0000,-999.000,-999.000, 18.8215,-999.000
     32MW893_2,  P04C,   118,  1,     21,     21,2,19890321,1010,  9.4967,-162.0050, 3727,    148.5,  13.2566,  34.4773,2,  34.4864,2,   -999.0,5,     83.9,2,    17.52,2,    22.87,2,     0.00,2,     1.78,2, -999.000,9, -999.000,9, -999.000,9,-999.0000,9,  -999.00,9,-999.000,9,   -999,-999.0000,-999.000,-999.000, 13.2360,-999.000
     32MW893_2,  P04C,   118,  1,     20,     20,2,19890321,1010,  9.4967,-162.0050, 3727,    196.5,  11.5491,  34.6991,2,  34.6991,2,   -999.0,5,     10.0,2,    28.34,2,    33.43,2,     0.00,2,     2.50,2, -999.000,9, -999.000,9, -999.000,9,-999.0000,9,  -999.00,9,-999.000,9,   -999,-999.0000,-999.000,-999.000, 11.5242,-999.000
     32MW893_2,  P04C,   118,  1,     19,     19,2,19890321,1010,  9.4967,-162.0050, 3727,    241.4,  10.8144,  34.7089,2,  34.7113,2,   -999.0,5,     16.9,2,    30.21,2,    34.50,2,     0.00,2,     2.51,2, -999.000,9, -999.000,9, -999.000,9,-999.0000,9,  -999.00,9,-999.000,9,   -999,-999.0000,-999.000,-999.000, 10.7850,-999.000
     32MW893_2,  P04C,   118,  1,     18,     18,2,19890321,1010,  9.4967,-162.0050, 3727,    296.9,  10.1047,  34.7004,2,  34.6966,2,   -999.0,5,     16.1,2,    32.67,2,    35.58,2,     0.00,2,     2.57,2, -999.000,9, -999.000,9, -999.000,9,-999.0000,9,  -999.00,9,-999.000,9,   -999,-999.0000,-999.000,-999.000, 10.0700,-999.000
     32MW893_2,  P04C,   118,  1,     17,     17,2,19890321,1010,  9.4967,-162.0050, 3727,    397.4,   9.0500,  34.6367,2,  34.6354,2,   -999.0,5,     19.1,2,    39.17,2,    37.05,2,     0.00,2,     2.70,2, -999.000,9, -999.000,9, -999.000,9,-999.0000,9,  -999.00,9,-999.000,9,   -999,-999.0000,-999.000,-999.000,  9.0064,-999.000
     32MW893_2,  P04C,   118,  1,     16,     16,2,19890321,1010,  9.4967,-162.0050, 3727,    493.0,   8.0394,  34.5815,2,  34.5802,2,   -999.0,5,     26.5,2,    47.44,2,    37.93,2,     0.00,2,     2.81,2, -999.000,9, -999.000,9, -999.000,9,-999.0000,9,  -999.00,9,-999.000,9,   -999,-999.0000,-999.000,-999.000,  7.9887,-999.000
     32MW893_2,  P04C,   118,  1,     15,     15,2,19890321,1010,  9.4967,-162.0050, 3727,    596.7,   7.0207,  34.5395,2,  34.5498,2,   -999.0,5,     44.3,2,    56.60,2,    38.81,2,     0.00,2,     2.83,2, -999.000,9, -999.000,9, -999.000,9,-999.0000,9,  -999.00,9,-999.000,9,   -999,-999.0000,-999.000,-999.000,  6.9635,-999.000
     32MW893_2,  P04C,   118,  1,     14,     14,2,19890321,1010,  9.4967,-162.0050, 3727,    798.2,   5.6822,  34.5424,2,  34.5451,2,   -999.0,5,     30.0,2,    74.70,2,    42.91,2,     0.00,2,     3.11,2, -999.000,9, -999.000,9, -999.000,9,-999.0000,9,  -999.00,9,-999.000,9,   -999,-999.0000,-999.000,-999.000,  5.6127,-999.000
     32MW893_2,  P04C,   118,  1,     13,     13,2,19890321,1010,  9.4967,-162.0050, 3727,    996.0,   4.7486,  34.5560,2,  34.5637,2,   -999.0,5,     40.8,2,    89.96,2,    43.40,2,     0.00,2,     3.15,2, -999.000,9, -999.000,9, -999.000,9,-999.0000,9,  -999.00,9,-999.000,9,   -999,-999.0000,-999.000,-999.000,  4.6674,-999.000
     32MW893_2,  P04C,   118,  1,     12,     12,2,19890321,1010,  9.4967,-162.0050, 3727,   1249.1,   3.7210,  34.5751,2,  34.5751,2,   -999.0,5,     64.7,2,   109.35,2,    41.93,2,     0.00,2,     3.02,2, -999.000,9, -999.000,9, -999.000,9,-999.0000,9,  -999.00,9,-999.000,9,   -999,-999.0000,-999.000,-999.000,  3.6267,-999.000
     32MW893_2,  P04C,   118,  1,     11,     11,2,19890321,1010,  9.4967,-162.0050, 3727,   1497.0,   3.0793,  34.5960,2,  34.5971,2,   -999.0,5,     76.9,2,   124.90,2,    41.35,2,     0.00,2,     2.95,2, -999.000,9, -999.000,9, -999.000,9,-999.0000,9,  -999.00,9,-999.000,9,   -999,-999.0000,-999.000,-999.000,  2.9707,-999.000
     32MW893_2,  P04C,   118,  1,     10,     10,2,19890321,1010,  9.4967,-162.0050, 3727,   1796.4,   2.3625,  34.6289,2,  34.6313,2,   -999.0,5,     95.6,2,   141.04,2,    40.37,2,     0.00,2,     2.87,2, -999.000,9, -999.000,9, -999.000,9,-999.0000,9,  -999.00,9,-999.000,9,   -999,-999.0000,-999.000,-999.000,  2.2379,-999.000
     32MW893_2,  P04C,   118,  1,      9,      9,2,19890321,1010,  9.4967,-162.0050, 3727,   1999.7,   2.1716,  34.6380,2,  34.6398,2,   -999.0,5,    102.1,2,   144.98,2,    39.78,2,     0.00,2,     2.82,2, -999.000,9, -999.000,9, -999.000,9,-999.0000,9,  -999.00,9,-999.000,9,   -999,-999.0000,-999.000,-999.000,  2.0325,-999.000
     32MW893_2,  P04C,   118,  1,      8,      8,2,19890321,1010,  9.4967,-162.0050, 3727,   2249.6,   1.9427,  34.6539,2,  34.6571,2,   -999.0,5,    111.2,2,   149.21,2,    39.20,2,     0.00,2,     2.77,2, -999.000,9, -999.000,9, -999.000,9,-999.0000,9,  -999.00,9,-999.000,9,   -999,-999.0000,-999.000,-999.000,  1.7858,-999.000
     32MW893_2,  P04C,   118,  1,      7,      7,2,19890321,1010,  9.4967,-162.0050, 3727,   2500.5,   1.8448,  34.6613,2,  34.6635,2,   -999.0,5,    118.2,2,   150.58,2,    38.90,2,     0.00,2,     2.75,2, -999.000,9, -999.000,9, -999.000,9,-999.0000,9,  -999.00,9,-999.000,9,   -999,-999.0000,-999.000,-999.000,  1.6673,-999.000
     32MW893_2,  P04C,   118,  1,      6,      6,2,19890321,1010,  9.4967,-162.0050, 3727,   2753.2,   1.7618,  34.6663,2,  34.6692,2,   -999.0,5,    124.3,2,   151.36,2,    38.61,2,     0.00,2,     2.71,2, -999.000,9, -999.000,9, -999.000,9,-999.0000,9,  -999.00,9,-999.000,9,   -999,-999.0000,-999.000,-999.000,  1.5627,-999.000
     32MW893_2,  P04C,   118,  1,      5,      5,2,19890321,1010,  9.4967,-162.0050, 3727,   3003.9,   1.6778,  34.6717,2,-999.0000,5,   -999.0,5,    130.4,2,   151.66,2,    38.12,2,     0.00,2,     2.63,2, -999.000,9, -999.000,9, -999.000,9,-999.0000,9,  -999.00,9,-999.000,9,   -999,-999.0000,-999.000,-999.000,  1.4568,-999.000
     32MW893_2,  P04C,   118,  1,      4,      4,2,19890321,1010,  9.4967,-162.0050, 3727,   3252.3,   1.6118,  34.6771,2,  34.6773,2,   -999.0,5,    136.4,2,   150.58,2,    37.73,2,     0.00,2,     2.61,2, -999.000,9, -999.000,9, -999.000,9,-999.0000,9,  -999.00,9,-999.000,9,   -999,-999.0000,-999.000,-999.000,  1.3680,-999.000
     32MW893_2,  P04C,   118,  1,      3,      3,2,19890321,1010,  9.4967,-162.0050, 3727,   3505.8,   1.5179,  34.6826,2,  34.6856,2,   -999.0,5,    147.3,2,   147.73,2,    37.04,2,     0.00,2,     2.56,2, -999.000,9, -999.000,9, -999.000,9,-999.0000,9,  -999.00,9,-999.000,9,   -999,-999.0000,-999.000,-999.000,  1.2507,-999.000
     32MW893_2,  P04C,   118,  1,      1,      1,2,19890321,1010,  9.4967,-162.0050, 3727,   3818.2,   1.4510,  34.6863,2,  34.6899,2,   -999.0,5,    154.7,2,   144.18,2,    36.36,2,     0.00,2,     2.52,2, -999.000,9, -999.000,9, -999.000,9,-999.0000,9,  -999.00,9,-999.000,9,   -999,-999.0000,-999.000,-999.000,  1.1529,-999.000
     32MW893_2,  P04C,   118,  1,      2,      2,2,19890321,1010,  9.4967,-162.0050, 3727,   3819.1,   1.4480,  34.6854,2,  34.6883,2,   -999.0,5,    155.6,2,   144.17,2,    36.36,2,     0.00,2,     2.51,2, -999.000,9, -999.000,9, -999.000,9,-999.0000,9,  -999.00,9,-999.000,9,   -999,-999.0000,-999.000,-999.000,  1.1499,-999.000