BOTTLE,20020311WHPSIOdm
EXPOCODE,SECT_ID,STNNBR,CASTNO,SAMPNO,BTLNBR,BTLNBR_FLAG_W,DATE,TIME,LATITUDE,LONGITUDE,DEPTH,CTDPRS,CTDTMP,CTDSAL,CTDSAL_FLAG_W,SALNTY,SALNTY_FLAG_W,CTDOXY,CTDOXY_FLAG_W,OXYGEN,OXYGEN_FLAG_W,SILCAT,SILCAT_FLAG_W,NITRAT,NITRAT_FLAG_W,NITRIT,NITRIT_FLAG_W,PHSPHT,PHSPHT_FLAG_W,CFC-11,CFC-11_FLAG_W,CFC-12,CFC-12_FLAG_W,TRITUM,TRITUM_FLAG_W,HELIUM,HELIUM_FLAG_W,DELHE3,DELHE3_FLAG_W,NEON,NEON_FLAG_W,CTDRAW,HELIER,DELHER,NEONER,THETA,TRITER
,,,,,,,,,,,,DBAR,ITS-90,PSS-78,,PSS-78,,UMOL/KG,,UMOL/KG,,UMOL/KG,,UMOL/KG,,UMOL/KG,,UMOL/KG,,PMOL/KG,,PMOL/KG,,TU,,NMOL/KG,,PERCNT,,NMOL/KG,,,NMOL/KG,PERCNT,NMOL/KG,ITS-90,TU
     32MW893_2,  P04C,   107,  1,     24,     24,2,19890317,1710,  9.5083,-171.1633, 4542,      6.3,  26.6651,  34.3254,2,  34.3221,2,   -999.0,5,    216.4,2,     1.18,2,     0.00,2,     0.00,2,     0.14,2,    1.644,2,    0.891,2, -999.000,9,-999.0000,9,  -999.00,9,-999.000,9,   -999,-999.0000,-999.000,-999.000, 26.6637,-999.000
     32MW893_2,  P04C,   107,  1,     23,     23,2,19890317,1710,  9.5083,-171.1633, 4542,     45.9,  26.6331,  34.3344,2,  34.3245,2,   -999.0,5,    215.1,2,     1.18,2,     0.00,2,     0.00,2,     0.15,2,    1.685,2,    0.907,2, -999.000,9,-999.0000,9,  -999.00,9,-999.000,9,   -999,-999.0000,-999.000,-999.000, 26.6227,-999.000
     32MW893_2,  P04C,   107,  1,     22,     22,2,19890317,1710,  9.5083,-171.1633, 4542,     96.3,  22.4020,  34.9073,2,  34.9046,2,   -999.0,5,    201.6,2,     1.67,2,     0.20,2,     0.02,2,     0.27,2,    1.860,2,    0.972,2, -999.000,9,-999.0000,9,  -999.00,9,-999.000,9,   -999,-999.0000,-999.000,-999.000, 22.3827,-999.000
     32MW893_2,  P04C,   107,  1,     21,     21,2,19890317,1710,  9.5083,-171.1633, 4542,    146.0,  15.7688,  34.6340,2,  34.6237,2,   -999.0,5,    149.0,2,     8.95,2,    12.02,2,     0.00,2,     0.98,2,    1.611,6,    0.818,6, -999.000,9,-999.0000,9,  -999.00,9,-999.000,9,   -999,-999.0000,-999.000,-999.000, 15.7460,-999.000
     32MW893_2,  P04C,   107,  1,     20,     20,2,19890317,1710,  9.5083,-171.1633, 4542,    195.2,  11.4721,  34.4518,2,  34.4414,2,   -999.0,5,     83.4,2,    24.61,2,    25.81,2,     0.00,2,     1.94,2,    0.713,2,    0.354,2, -999.000,9,-999.0000,9,  -999.00,9,-999.000,9,   -999,-999.0000,-999.000,-999.000, 11.4476,-999.000
     32MW893_2,  P04C,   107,  1,     19,     19,2,19890317,1710,  9.5083,-171.1633, 4542,    246.2,  10.0137,  34.5374,2,  34.5343,2,   -999.0,5,     43.0,2,    34.25,2,    32.65,2,     0.00,2,     2.38,2,    0.193,2,    0.107,2, -999.000,9,-999.0000,9,  -999.00,9,-999.000,9,   -999,-999.0000,-999.000,-999.000,  9.9852,-999.000
     32MW893_2,  P04C,   107,  1,     18,     18,2,19890317,1710,  9.5083,-171.1633, 4542,    298.0,   9.5018,  34.6122,2,  34.6076,2,   -999.0,5,     33.0,2,    37.01,2,    35.19,2,     0.00,2,     2.49,2,    0.065,2,    0.040,2, -999.000,9,-999.0000,9,  -999.00,9,-999.000,9,   -999,-999.0000,-999.000,-999.000,  9.4683,-999.000
     32MW893_2,  P04C,   107,  1,     17,     17,2,19890317,1710,  9.5083,-171.1633, 4542,    345.6,   9.1440,  34.6267,2,  34.6256,2,   -999.0,5,     31.7,2,    38.68,2,    36.07,2,     0.00,2,     2.53,2,    0.035,2, -999.000,5, -999.000,9,-999.0000,9,  -999.00,9,-999.000,9,   -999,-999.0000,-999.000,-999.000,  9.1059,-999.000
     32MW893_2,  P04C,   107,  1,     16,     16,2,19890317,1710,  9.5083,-171.1633, 4542,    398.4,   8.8291,  34.6201,2,  34.6176,2,   -999.0,5,     33.5,2,    40.55,2,    36.65,2,     0.00,2,     2.58,2,    0.026,2, -999.000,5, -999.000,9,-999.0000,9,  -999.00,9,-999.000,9,   -999,-999.0000,-999.000,-999.000,  8.7860,-999.000
     32MW893_2,  P04C,   107,  1,     15,     15,2,19890317,1710,  9.5083,-171.1633, 4542,    497.0,   7.8974,  34.5708,2,  34.5685,2,   -999.0,5,   -999.0,5,    48.52,2,    37.24,2,     0.00,2,     2.70,2,    0.022,2,    0.018,2, -999.000,9,-999.0000,9,  -999.00,9,-999.000,9,   -999,-999.0000,-999.000,-999.000,  7.8468,-999.000
     32MW893_2,  P04C,   107,  1,     14,     14,2,19890317,1710,  9.5083,-171.1633, 4542,    599.1,   7.1977,  34.5529,2,  34.5535,2,   -999.0,5,     33.5,2,    56.29,2,    39.49,2,     0.00,2,     2.84,2,    0.012,2,   -0.004,2, -999.000,9,-999.0000,9,  -999.00,9,-999.000,9,   -999,-999.0000,-999.000,-999.000,  7.1395,-999.000
     32MW893_2,  P04C,   107,  1,     13,     13,2,19890317,1710,  9.5083,-171.1633, 4542,    697.8,   6.3660,  34.5359,2,  34.5355,2,   -999.0,5,     41.7,2,    65.36,2,    40.27,2,     0.00,2,     2.89,2,    0.002,2,    0.006,2, -999.000,9,-999.0000,9,  -999.00,9,-999.000,9,   -999,-999.0000,-999.000,-999.000,  6.3021,-999.000
     32MW893_2,  P04C,   107,  1,     12,     12,2,19890317,1710,  9.5083,-171.1633, 4542,    797.5,   5.6972,  34.5331,2,  34.5317,2,   -999.0,5,     49.5,2,    74.21,2,    41.06,2,     0.00,2,     2.89,2,    0.014,2,    0.012,2, -999.000,9,-999.0000,9,  -999.00,9,-999.000,9,   -999,-999.0000,-999.000,-999.000,  5.6276,-999.000
     32MW893_2,  P04C,   107,  1,     11,     11,2,19890317,1710,  9.5083,-171.1633, 4542,    998.4,   4.7066,  34.5508,2,  34.5474,2,   -999.0,5,     58.7,2,    90.75,2,    41.74,2,     0.00,2,     2.94,2, -999.000,5,    0.001,2, -999.000,9,-999.0000,9,  -999.00,9,-999.000,9,   -999,-999.0000,-999.000,-999.000,  4.6256,-999.000
     32MW893_2,  P04C,   107,  1,     10,     10,2,19890317,1710,  9.5083,-171.1633, 4542,   1247.4,   3.7320,  34.5739,2,  34.5738,2,   -999.0,5,     72.6,2,   110.53,2,    41.45,2,     0.00,2,     2.91,2,    0.010,2,    0.007,2, -999.000,9,-999.0000,9,  -999.00,9,-999.000,9,   -999,-999.0000,-999.000,-999.000,  3.6377,-999.000
     32MW893_2,  P04C,   107,  1,      9,      9,2,19890317,1710,  9.5083,-171.1633, 4542,   1499.1,   3.0673,  34.5920,2,  34.5909,2,   -999.0,5,     85.6,2,   125.29,2,    40.66,2,     0.00,2,     2.86,2, -999.000,5,   -0.005,2, -999.000,9,-999.0000,9,  -999.00,9,-999.000,9,   -999,-999.0000,-999.000,-999.000,  2.9587,-999.000
     32MW893_2,  P04C,   107,  1,      8,      8,2,19890317,1710,  9.5083,-171.1633, 4542,   1998.5,   2.2096,  34.6348,2,  34.6354,2,   -999.0,5,    103.8,2,   143.99,2,    39.59,2,     0.00,2,     2.76,2,   -0.009,2,   -0.005,2, -999.000,9,-999.0000,9,  -999.00,9,-999.000,9,   -999,-999.0000,-999.000,-999.000,  2.0701,-999.000
     32MW893_2,  P04C,   107,  1,      7,      7,2,19890317,1710,  9.5083,-171.1633, 4542,   2499.0,   1.8508,  34.6593,2,  34.6575,2,   -999.0,5,    116.9,2,   151.76,2,    39.00,2,     0.00,2,     2.66,2,   -0.010,2,   -0.005,2, -999.000,9,-999.0000,9,  -999.00,9,-999.000,9,   -999,-999.0000,-999.000,-999.000,  1.6733,-999.000
     32MW893_2,  P04C,   107,  1,      6,      6,2,19890317,1710,  9.5083,-171.1633, 4542,   3004.2,   1.6398,  34.6728,2,  34.6716,2,   -999.0,5,    133.4,2,   152.55,2,    37.92,2,     0.00,2,     2.60,2,   -0.003,2,   -0.004,2, -999.000,9,-999.0000,9,  -999.00,9,-999.000,9,   -999,-999.0000,-999.000,-999.000,  1.4196,-999.000
     32MW893_2,  P04C,   107,  1,      5,      5,2,19890317,1710,  9.5083,-171.1633, 4542,   3495.9,   1.4869,  34.6818,2,  34.6812,2,   -999.0,5,    149.9,2,   149.30,2,    36.85,2,     0.00,2,     2.51,2,   -0.006,2,    0.001,2, -999.000,9,-999.0000,9,  -999.00,9,-999.000,9,   -999,-999.0000,-999.000,-999.000,  1.2215,-999.000
     32MW893_2,  P04C,   107,  1,      4,      4,2,19890317,1710,  9.5083,-171.1633, 4542,   3752.6,   1.4220,  34.6866,2,  34.6881,2,   -999.0,5,    159.5,2,   145.65,2,    36.16,2,     0.00,2,     2.46,2,    0.003,2,   -0.005,2, -999.000,9,-999.0000,9,  -999.00,9,-999.000,9,   -999,-999.0000,-999.000,-999.000,  1.1316,-999.000
     32MW893_2,  P04C,   107,  1,      3,      3,2,19890317,1710,  9.5083,-171.1633, 4542,   4005.8,   1.3320,  34.6932,2,  34.6920,2,   -999.0,5,    172.9,2,   138.76,2,    35.28,2,     0.00,2,     2.38,2,   -0.010,2,   -0.005,2, -999.000,9,-999.0000,9,  -999.00,9,-999.000,9,   -999,-999.0000,-999.000,-999.000,  1.0172,-999.000
     32MW893_2,  P04C,   107,  1,      2,      2,2,19890317,1710,  9.5083,-171.1633, 4542,   4256.3,   1.2880,  34.6960,2,  34.6964,2,   -999.0,5,    182.5,2,   134.04,2,    34.80,2,     0.00,2,     2.36,2,   -0.005,2,   -0.005,2, -999.000,9,-999.0000,9,  -999.00,9,-999.000,9,   -999,-999.0000,-999.000,-999.000,  0.9470,-999.000
     32MW893_2,  P04C,   107,  1,      1,      1,2,19890317,1710,  9.5083,-171.1633, 4542,   4605.5,   1.2670,  34.7002,2,  34.6973,2,   -999.0,5,    187.3,2,   130.10,2,    34.31,2,     0.00,2,     2.31,2,   -0.003,2,    0.001,2, -999.000,9,-999.0000,9,  -999.00,9,-999.000,9,   -999,-999.0000,-999.000,-999.000,  0.8871,-999.000
     32MW893_2,  P04C,   108,  1,     24,     24,2,19890318,0048,  9.4967,-170.3350, 5034,     14.1,  26.7051,  34.3342,2,  34.3360,2,   -999.0,5,    222.5,2,     1.28,2,     0.00,2,     0.00,2,     0.15,2, -999.000,9, -999.000,9,    1.748,2,   1.7130,2,    -1.02,2,-999.000,9,   -999,  0.0090,   0.080,-999.000, 26.7019,   0.029
     32MW893_2,  P04C,   108,  1,     23,     23,2,19890318,0048,  9.4967,-170.3350, 5034,     44.3,  26.6851,  34.3342,2,  34.3360,2,   -999.0,5,    223.4,2,     1.28,2,     0.00,2,     0.00,2,     0.16,2, -999.000,9, -999.000,9,    1.726,2,   1.7100,2,    -1.26,2,-999.000,9,   -999,  0.0090,   0.080,-999.000, 26.6750,   0.030
     32MW893_2,  P04C,   108,  1,     22,     22,2,19890318,0048,  9.4967,-170.3350, 5034,     71.2,  25.4864,  34.5886,2,  34.5276,2,   -999.0,5,    212.1,2,     1.28,2,     0.00,2,     0.00,2,     0.17,2, -999.000,9, -999.000,9,    1.897,2,   1.7180,2,    -1.12,2,-999.000,9,   -999,  0.0090,   0.080,-999.000, 25.4708,   0.030
     32MW893_2,  P04C,   108,  1,     21,     21,2,19890318,0048,  9.4967,-170.3350, 5034,     96.5,  21.0663,  34.8843,2,  34.8873,2,   -999.0,5,    194.6,2,     2.56,2,     0.88,2,     0.00,2,     0.31,2, -999.000,9, -999.000,9,    2.425,2,   1.7340,2,     1.46,2,-999.000,9,   -999,  0.0100,   0.080,-999.000, 21.0478,   0.034
     32MW893_2,  P04C,   108,  1,     20,     20,2,19890318,0048,  9.4967,-170.3350, 5034,    121.5,  17.5613,  34.7286,2,  34.7245,2,   -999.0,5,    159.9,2,     6.20,2,     8.21,2,     0.08,2,     0.73,2, -999.000,9, -999.000,9,    2.065,2,-999.0000,9,  -999.00,9,-999.000,9,   -999,-999.0000,-999.000,-999.000, 17.5409,   0.018
     32MW893_2,  P04C,   108,  1,     19,     19,2,19890318,0048,  9.4967,-170.3350, 5034,    145.2,  14.2713,  34.5763,2,  34.5223,2,   -999.0,5,    132.5,2,    13.48,2,    15.93,2,     0.00,2,     1.23,2, -999.000,9, -999.000,9,    2.134,2,   1.7670,2,     8.02,2,-999.000,9,   -999,  0.0100,   0.080,-999.000, 14.2502,   0.018
     32MW893_2,  P04C,   108,  1,     18,     18,2,19890318,0048,  9.4967,-170.3350, 5034,    170.5,  12.2210,  34.4504,2,  34.4438,2,   -999.0,5,     99.5,2,    20.87,2,    22.78,2,     0.00,2,     1.71,2, -999.000,9, -999.000,9,    1.318,2,   1.7840,2,    10.99,2,-999.000,9,   -999,  0.0100,   0.080,-999.000, 12.1986,   0.012
     32MW893_2,  P04C,   108,  1,     17,     17,2,19890318,0048,  9.4967,-170.3350, 5034,    195.1,  11.2362,  34.5300,2,  34.5284,2,   -999.0,5,     54.8,2,    28.06,2,    29.52,2,     0.00,2,     2.20,2, -999.000,9, -999.000,9,    0.834,2,   1.7970,2,     9.86,2,-999.000,9,   -999,  0.0100,   0.080,-999.000, 11.2119,   0.009
     32MW893_2,  P04C,   108,  1,     16,     16,2,19890318,0048,  9.4967,-170.3350, 5034,    245.8,   9.9117,  34.5596,2,  34.5683,2,   -999.0,5,     38.2,2,    35.14,2,    33.43,2,     0.00,2,     2.41,2, -999.000,9, -999.000,9,    0.529,2,   1.8040,2,     8.12,2,-999.000,9,   -999,  0.0100,   0.080,-999.000,  9.8834,   0.009
     32MW893_2,  P04C,   108,  1,     15,     15,2,19890318,0048,  9.4967,-170.3350, 5034,    295.8,   9.4998,  34.6317,2,  34.6315,2,   -999.0,5,     30.9,2,    36.81,2,    35.58,2,     0.00,2,     2.50,2, -999.000,9, -999.000,9, -999.000,9,   1.8030,2,     6.42,2,-999.000,9,   -999,  0.0100,   0.080,-999.000,  9.4665,-999.000
     32MW893_2,  P04C,   108,  1,     14,     14,2,19890318,0048,  9.4967,-170.3350, 5034,    395.9,   8.7331,  34.6099,2,  34.6140,2,   -999.0,5,     31.7,2,    41.63,2,    36.95,2,     0.00,2,     2.61,2, -999.000,9, -999.000,9,    0.088,2,   1.8080,2,     6.52,2,-999.000,9,   -999,  0.0100,   0.080,-999.000,  8.6906,   0.007
     32MW893_2,  P04C,   108,  1,     13,     13,2,19890318,0048,  9.4967,-170.3350, 5034,    497.5,   7.7834,  34.5748,2,  34.5759,2,   -999.0,5,     27.4,2,    51.08,2,    38.61,2,     0.00,2,     2.80,2, -999.000,9, -999.000,9,    0.043,2,-999.0000,9,  -999.00,9,-999.000,9,   -999,-999.0000,-999.000,-999.000,  7.7332,   0.006
     32MW893_2,  P04C,   108,  1,     12,     12,2,19890318,0048,  9.4967,-170.3350, 5034,    622.4,   6.6949,  34.5448,2,  34.5416,2,   -999.0,5,     33.9,2,    62.11,2,    40.27,2,     0.00,2,     2.90,2, -999.000,9, -999.000,9,    0.019,2,   1.8250,2,    10.16,2,-999.000,9,   -999,  0.0100,   0.080,-999.000,  6.6367,   0.005
     32MW893_2,  P04C,   108,  1,     11,     11,2,19890318,0048,  9.4967,-170.3350, 5034,    747.8,   5.8062,  34.5323,2,  34.5398,2,   -999.0,5,     39.5,2,    73.32,2,    41.74,2,     0.00,2,     2.98,2, -999.000,9, -999.000,9,    0.009,2,   1.8480,2,    12.77,2,-999.000,9,   -999,  0.0100,   0.080,-999.000,  5.7406,   0.005
     32MW893_2,  P04C,   108,  1,     10,     10,2,19890318,0048,  9.4967,-170.3350, 5034,    869.8,   5.0665,  34.5373,2,  34.5392,2,   -999.0,5,     57.4,2,    84.35,2,    41.64,2,     0.00,2,     2.92,2, -999.000,9, -999.000,9,    0.017,2,   1.8690,2,    15.71,2,-999.000,9,   -999,  0.0100,   0.080,-999.000,  4.9943,   0.005
     32MW893_2,  P04C,   108,  1,      9,      9,2,19890318,0048,  9.4967,-170.3350, 5034,    991.2,   4.6477,  34.5505,2,  34.5549,2,   -999.0,5,     58.7,2,    92.33,2,    41.94,2,     0.00,2,     2.96,2, -999.000,9, -999.000,9,    0.004,2,-999.0000,9,  -999.00,9,-999.000,9,   -999,-999.0000,-999.000,-999.000,  4.5677,   0.005
     32MW893_2,  P04C,   108,  1,      8,      8,2,19890318,0048,  9.4967,-170.3350, 5034,   1213.1,   3.7630,  34.5681,2,  34.5702,2,   -999.0,5,     71.3,2,   110.53,2,    41.45,2,     0.00,2,     2.88,2, -999.000,9, -999.000,9, -999.000,9,   1.8930,2,    20.34,2,-999.000,9,   -999,  0.0100,   0.080,-999.000,  3.6713,-999.000
     32MW893_2,  P04C,   108,  1,      7,      7,2,19890318,0048,  9.4967,-170.3350, 5034,   1999.8,   2.1397,  34.6354,2,  34.6408,2,   -999.0,5,    106.9,2,   145.76,2,    39.78,2,     0.00,2,     2.75,2, -999.000,9, -999.000,9, -999.000,9,-999.0000,9,  -999.00,9,-999.000,9,   -999,-999.0000,-999.000,-999.000,  2.0011,-999.000
     32MW893_2,  P04C,   108,  1,      6,      6,2,19890318,0048,  9.4967,-170.3350, 5034,   2499.2,   1.8478,  34.6563,2,  34.6584,2,   -999.0,5,    118.2,2,   151.56,2,    39.00,2,     0.00,2,     2.67,2, -999.000,9, -999.000,9, -999.000,9,   1.9410,2,    26.23,2,-999.000,9,   -999,  0.0110,   0.080,-999.000,  1.6704,-999.000
     32MW893_2,  P04C,   108,  1,      5,      5,2,19890318,0048,  9.4967,-170.3350, 5034,   3000.9,   1.6488,  34.6684,2,  34.6745,2,   -999.0,5,    132.5,2,   152.94,2,    38.12,2,     0.00,2,     2.60,2, -999.000,9, -999.000,9, -999.000,9,   1.9300,2,    23.59,2,-999.000,9,   -999,  0.0110,   0.080,-999.000,  1.4287,-999.000
     32MW893_2,  P04C,   108,  1,      4,      4,2,19890318,0048,  9.4967,-170.3350, 5034,   3754.1,   1.4390,  34.6776,2,  34.6858,2,   -999.0,5,    157.3,2,   145.56,2,    36.46,2,     0.00,2,     2.49,2, -999.000,9, -999.000,9, -999.000,9,-999.0000,9,  -999.00,9,-999.000,9,   -999,-999.0000,-999.000,-999.000,  1.1480,-999.000
     32MW893_2,  P04C,   108,  1,      3,      3,2,19890318,0048,  9.4967,-170.3350, 5034,   4501.1,   1.2990,  34.6940,2,  34.7027,2,   -999.0,5,    184.7,2,   132.76,2,    34.70,2,     0.00,2,     2.32,2, -999.000,9, -999.000,9, -999.000,9,   1.8850,2,    13.69,2,-999.000,9,   -999,  0.0100,   0.080,-999.000,  0.9301,-999.000
     32MW893_2,  P04C,   108,  1,      2,      2,2,19890318,0048,  9.4967,-170.3350, 5034,   5106.4,   1.3260,  34.6922,2,  34.6999,2,   -999.0,5,    187.7,2,   129.42,2,    34.31,2,     0.00,2,     2.32,2, -999.000,9, -999.000,9, -999.000,9,   1.8950,2,    12.61,2,-999.000,9,   -999,  0.0100,   0.080,-999.000,  0.8847,-999.000
     32MW893_2,  P04C,   108,  1,      1,      1,2,19890318,0048,  9.4967,-170.3350, 5034,   5106.5,   1.3250,  34.6932,2,-999.0000,5,   -999.0,5,    187.7,2,   129.41,2,    34.31,2,     0.00,2,     2.32,2, -999.000,9, -999.000,9, -999.000,9,-999.0000,9,  -999.00,9,-999.000,9,   -999,-999.0000,-999.000,-999.000,  0.8837,-999.000