BOTTLE,20020311WHPSIOdm
#code : jjward hyd_to_exchange.pl 
#original files copied from HTML directory: 20020311
#original HYD file: p04chy.txt   Mon Mar 11 09:38:00 2002
#original SUM file: p4csu   Mon Mar 11 09:45:36 2002
EXPOCODE,SECT_ID,STNNBR,CASTNO,SAMPNO,BTLNBR,BTLNBR_FLAG_W,DATE,TIME,LATITUDE,LONGITUDE,DEPTH,CTDPRS,CTDTMP,CTDSAL,CTDSAL_FLAG_W,SALNTY,SALNTY_FLAG_W,CTDOXY,CTDOXY_FLAG_W,OXYGEN,OXYGEN_FLAG_W,SILCAT,SILCAT_FLAG_W,NITRAT,NITRAT_FLAG_W,NITRIT,NITRIT_FLAG_W,PHSPHT,PHSPHT_FLAG_W,CFC-11,CFC-11_FLAG_W,CFC-12,CFC-12_FLAG_W,TRITUM,TRITUM_FLAG_W,HELIUM,HELIUM_FLAG_W,DELHE3,DELHE3_FLAG_W,NEON,NEON_FLAG_W,CTDRAW,HELIER,DELHER,NEONER,THETA,TRITER
,,,,,,,,,,,,DBAR,ITS-90,PSS-78,,PSS-78,,UMOL/KG,,UMOL/KG,,UMOL/KG,,UMOL/KG,,UMOL/KG,,UMOL/KG,,PMOL/KG,,PMOL/KG,,TU,,NMOL/KG,,PERCNT,,NMOL/KG,,,NMOL/KG,PERCNT,NMOL/KG,ITS-90,TU
     32MW893_2,  P04C,    85,  1,     23,     24,2,19890309,1440,  9.5367, 171.3517, 4834,      7.8,  27.6719,  34.4074,2,  34.2111,2,   -999.0,5,    214.3,2,     1.87,2,     0.00,2,     0.00,2,     0.13,2, -999.000,9, -999.000,9, -999.000,9,-999.0000,9,  -999.00,9,-999.000,9,   -999,-999.0000,-999.000,-999.000, 27.6701,-999.000
     32MW893_2,  P04C,    85,  1,     22,     23,2,19890309,1440,  9.5367, 171.3517, 4834,     48.0,  27.6799,  34.4115,2,  34.4082,2,   -999.0,5,    214.3,2,     1.87,2,     0.00,2,     0.00,2,     0.19,2, -999.000,9, -999.000,9, -999.000,9,-999.0000,9,  -999.00,9,-999.000,9,   -999,-999.0000,-999.000,-999.000, 27.6687,-999.000
     32MW893_2,  P04C,    85,  1,     21,     22,2,19890309,1440,  9.5367, 171.3517, 4834,     98.4,  24.1726,  34.9173,2,-999.0000,5,   -999.0,5,    197.3,2,     2.06,2,     0.49,2,     0.04,2,     0.23,2, -999.000,9, -999.000,9, -999.000,9,-999.0000,9,  -999.00,9,-999.000,9,   -999,-999.0000,-999.000,-999.000, 24.1518,-999.000
     32MW893_2,  P04C,    85,  1,     20,     21,2,19890309,1440,  9.5367, 171.3517, 4834,    145.9,  17.3773,  34.7317,2,  34.7557,2,   -999.0,5,    156.0,2,     6.99,2,     9.09,2,     0.03,2,     0.76,2, -999.000,9, -999.000,9, -999.000,9,-999.0000,9,  -999.00,9,-999.000,9,   -999,-999.0000,-999.000,-999.000, 17.3529,-999.000
     32MW893_2,  P04C,    85,  1,     19,     20,2,19890309,1440,  9.5367, 171.3517, 4834,    196.2,  12.5248,  34.3985,2,  34.4190,2,   -999.0,5,    124.3,2,    18.60,2,    19.75,2,     0.00,2,     1.45,2, -999.000,9, -999.000,9, -999.000,9,-999.0000,9,  -999.00,9,-999.000,9,   -999,-999.0000,-999.000,-999.000, 12.4986,-999.000
     32MW893_2,  P04C,    85,  1,     18,     19,2,19890309,1440,  9.5367, 171.3517, 4834,    245.3,  10.5385,  34.3307,2,  34.3290,2,   -999.0,5,    116.9,2,    26.97,2,    23.86,2,     0.00,2,     1.75,2, -999.000,9, -999.000,9, -999.000,9,-999.0000,9,  -999.00,9,-999.000,9,   -999,-999.0000,-999.000,-999.000, 10.5092,-999.000
     32MW893_2,  P04C,    85,  1,     17,     18,2,19890309,1440,  9.5367, 171.3517, 4834,    296.6,   9.6398,  34.5295,2,  34.5229,2,   -999.0,5,     50.4,2,    36.12,2,    32.65,2,     0.00,2,     2.38,2, -999.000,9, -999.000,9, -999.000,9,-999.0000,9,  -999.00,9,-999.000,9,   -999,-999.0000,-999.000,-999.000,  9.6062,-999.000
     32MW893_2,  P04C,    85,  1,     16,     17,2,19890309,1440,  9.5367, 171.3517, 4834,    346.5,   8.9131,  34.5728,2,  34.5702,2,   -999.0,5,     36.9,2,    41.24,2,    35.39,2,     0.00,2,     2.53,2, -999.000,9, -999.000,9, -999.000,9,-999.0000,9,  -999.00,9,-999.000,9,   -999,-999.0000,-999.000,-999.000,  8.8756,-999.000
     32MW893_2,  P04C,    85,  1,     15,     16,2,19890309,1440,  9.5367, 171.3517, 4834,    396.2,   8.4502,  34.5709,2,  34.5765,2,   -999.0,5,     39.5,2,    44.58,2,    36.27,2,     0.00,2,     2.61,2, -999.000,9, -999.000,9, -999.000,9,-999.0000,9,  -999.00,9,-999.000,9,   -999,-999.0000,-999.000,-999.000,  8.4085,-999.000
     32MW893_2,  P04C,    85,  1,     14,     15,2,19890309,1440,  9.5367, 171.3517, 4834,    496.2,   7.4416,  34.5396,2,  34.5416,2,   -999.0,5,   -999.0,5,    46.85,2,    37.24,2,     0.00,2,     2.63,2, -999.000,9, -999.000,9, -999.000,9,-999.0000,9,  -999.00,9,-999.000,9,   -999,-999.0000,-999.000,-999.000,  7.3928,-999.000
     32MW893_2,  P04C,    85,  1,     13,     13,2,19890309,1440,  9.5367, 171.3517, 4834,    797.0,   5.3324,  34.5395,2,  34.5386,2,   -999.0,5,     46.1,2,    79.63,2,    42.42,2,     0.00,2,     2.95,2, -999.000,9, -999.000,9, -999.000,9,-999.0000,9,  -999.00,9,-999.000,9,   -999,-999.0000,-999.000,-999.000,  5.2651,-999.000
     32MW893_2,  P04C,    85,  1,     12,     12,2,19890309,1440,  9.5367, 171.3517, 4834,    996.8,   4.2428,  34.5604,2,  34.5563,2,   -999.0,5,     62.1,2,   100.69,2,    42.23,2,     0.00,2,     3.05,2, -999.000,9, -999.000,9, -999.000,9,-999.0000,9,  -999.00,9,-999.000,9,   -999,-999.0000,-999.000,-999.000,  4.1654,-999.000
     32MW893_2,  P04C,    85,  1,     11,     11,2,19890309,1440,  9.5367, 171.3517, 4834,   1246.7,   3.3821,  34.5830,2,  34.5816,2,   -999.0,5,     78.7,2,   118.70,2,    41.64,2,     0.00,2,     2.91,2, -999.000,9, -999.000,9, -999.000,9,-999.0000,9,  -999.00,9,-999.000,9,   -999,-999.0000,-999.000,-999.000,  3.2912,-999.000
     32MW893_2,  P04C,    85,  1,     10,     10,2,19890309,1440,  9.5367, 171.3517, 4834,   1494.8,   2.8843,  34.6012,2,  34.6005,2,   -999.0,5,     89.9,2,   129.62,2,    40.96,2,     0.00,2,     2.97,2, -999.000,9, -999.000,9, -999.000,9,-999.0000,9,  -999.00,9,-999.000,9,   -999,-999.0000,-999.000,-999.000,  2.7781,-999.000
     32MW893_2,  P04C,    85,  1,      9,      9,2,19890309,1440,  9.5367, 171.3517, 4834,   1999.6,   2.1976,  34.6375,2,  34.6356,2,   -999.0,5,    106.9,2,   144.09,2,    40.08,2,     0.00,2,     2.79,2, -999.000,9, -999.000,9, -999.000,9,-999.0000,9,  -999.00,9,-999.000,9,   -999,-999.0000,-999.000,-999.000,  2.0581,-999.000
     32MW893_2,  P04C,    85,  1,      8,      8,2,19890309,1440,  9.5367, 171.3517, 4834,   2499.1,   1.9037,  34.6557,2,  34.6563,2,   -999.0,5,    119.1,2,   149.60,2,    39.10,2,     0.00,2,     2.75,2, -999.000,9, -999.000,9, -999.000,9,-999.0000,9,  -999.00,9,-999.000,9,   -999,-999.0000,-999.000,-999.000,  1.7253,-999.000
     32MW893_2,  P04C,    85,  1,      7,      7,2,19890309,1440,  9.5367, 171.3517, 4834,   3001.8,   1.7378,  34.6667,2,  34.6637,2,   -999.0,5,    129.5,2,   149.79,2,    38.41,2,     0.00,2,     2.70,2, -999.000,9, -999.000,9, -999.000,9,-999.0000,9,  -999.00,9,-999.000,9,   -999,-999.0000,-999.000,-999.000,  1.5156,-999.000
     32MW893_2,  P04C,    85,  1,      6,      6,2,19890309,1440,  9.5367, 171.3517, 4834,   3551.7,   1.5718,  34.6764,2,  34.6753,2,   -999.0,5,    144.3,2,   150.48,2,    37.63,2,     0.00,2,     2.60,2, -999.000,9, -999.000,9, -999.000,9,-999.0000,9,  -999.00,9,-999.000,9,   -999,-999.0000,-999.000,-999.000,  1.2986,-999.000
     32MW893_2,  P04C,    85,  1,      5,      5,2,19890309,1440,  9.5367, 171.3517, 4834,   3754.1,   1.5149,  34.6806,2,  34.6801,2,   -999.0,5,    151.6,2,   147.52,2,    36.75,2,     0.00,2,     2.56,2, -999.000,9, -999.000,9, -999.000,9,-999.0000,9,  -999.00,9,-999.000,9,   -999,-999.0000,-999.000,-999.000,  1.2220,-999.000
     32MW893_2,  P04C,    85,  1,      4,      4,2,19890309,1440,  9.5367, 171.3517, 4834,   4003.2,   1.4510,  34.6848,2,  34.6832,2,   -999.0,5,    158.6,2,   144.57,2,    36.36,2,     0.00,2,     2.49,2, -999.000,9, -999.000,9, -999.000,9,-999.0000,9,  -999.00,9,-999.000,9,   -999,-999.0000,-999.000,-999.000,  1.1331,-999.000
     32MW893_2,  P04C,    85,  1,      3,      3,2,19890309,1440,  9.5367, 171.3517, 4834,   4254.5,   1.3850,  34.6910,2,  34.6913,2,   -999.0,5,    171.2,2,   138.18,2,    35.48,2,     0.00,2,     2.44,2, -999.000,9, -999.000,9, -999.000,9,-999.0000,9,  -999.00,9,-999.000,9,   -999,-999.0000,-999.000,-999.000,  1.0414,-999.000
     32MW893_2,  P04C,    85,  1,      2,      2,2,19890309,1440,  9.5367, 171.3517, 4834,   4506.7,   1.3610,  34.6949,2,  34.6956,2,   -999.0,5,    174.7,2,   133.85,2,    34.89,2,     0.01,2,     2.42,2, -999.000,9, -999.000,9, -999.000,9,-999.0000,9,  -999.00,9,-999.000,9,   -999,-999.0000,-999.000,-999.000,  0.9895,-999.000
     32MW893_2,  P04C,    85,  1,      1,      1,2,19890309,1440,  9.5367, 171.3517, 4834,   4840.4,   1.2950,  34.7006,2,  34.7007,2,   -999.0,5,   -999.0,5,   127.75,2,    33.69,2,     0.01,2,     2.38,2, -999.000,9, -999.000,9, -999.000,9,-999.0000,9,  -999.00,9,-999.000,9,   -999,-999.0000,-999.000,-999.000,  0.8867,-999.000
     32MW893_2,  P04C,    86,  1,     24,     24,2,19890309,2302,  9.4933, 172.0000, 4926,      6.4,  27.7678,  34.4525,2,  34.4510,2,   -999.0,5,    219.9,2,     2.06,2,     0.10,2,     0.00,2,     0.19,2,    1.560,2,    0.865,2, -999.000,9,-999.0000,9,  -999.00,9,-999.000,9,   -999,-999.0000,-999.000,-999.000, 27.7663,-999.000
     32MW893_2,  P04C,    86,  1,     23,     23,2,19890309,2302,  9.4933, 172.0000, 4926,     45.3,  27.6849,  34.4550,2,  34.8493,2,   -999.0,5,    212.0,2,     2.06,2,     0.39,2,     0.00,2,     0.21,2,    1.592,2,    0.891,2, -999.000,9,-999.0000,9,  -999.00,9,-999.000,9,   -999,-999.0000,-999.000,-999.000, 27.6743,-999.000
     32MW893_2,  P04C,    86,  1,     22,     22,2,19890309,2302,  9.4933, 172.0000, 4926,     97.1,  22.8489,  34.9361,2,  34.9701,2,   -999.0,5,    182.0,2,     3.15,2,     2.44,2,     0.14,2,     0.39,2,    1.676,2,    0.898,2, -999.000,9,-999.0000,9,  -999.00,9,-999.000,9,   -999,-999.0000,-999.000,-999.000, 22.8292,-999.000
     32MW893_2,  P04C,    86,  1,     21,     21,2,19890309,2302,  9.4933, 172.0000, 4926,    145.8,  16.1627,  34.6391,2,  34.6468,2,   -999.0,5,    146.4,2,     9.65,2,    12.02,2,     0.00,2,     1.02,2,    1.572,2,    0.820,2, -999.000,9,-999.0000,9,  -999.00,9,-999.000,9,   -999,-999.0000,-999.000,-999.000, 16.1395,-999.000
     32MW893_2,  P04C,    86,  1,     20,     20,2,19890309,2302,  9.4933, 172.0000, 4926,    199.1,  10.9964,  34.3437,2,  34.5840,2,   -999.0,5,    116.9,2,    25.10,2,    23.46,2,     0.00,2,     1.77,2,    0.961,2,    0.553,2, -999.000,9,-999.0000,9,  -999.00,9,-999.000,9,   -999,-999.0000,-999.000,-999.000, 10.9720,-999.000
     32MW893_2,  P04C,    86,  1,     19,     19,2,19890309,2302,  9.4933, 172.0000, 4926,    247.7,  10.0477,  34.5805,2,  34.5844,2,   -999.0,5,     38.7,2,    34.54,2,    33.53,2,     0.00,2,     2.48,2,    0.185,2,    0.084,2, -999.000,9,-999.0000,9,  -999.00,9,-999.000,9,   -999,-999.0000,-999.000,-999.000, 10.0189,-999.000
     32MW893_2,  P04C,    86,  1,     18,     18,2,19890309,2302,  9.4933, 172.0000, 4926,    295.2,   9.4658,  34.6377,2,  34.6321,2,   -999.0,5,     28.7,2,    37.90,2,    36.46,2,     0.00,2,     2.57,2,    0.041,2, -999.000,5, -999.000,9,-999.0000,9,  -999.00,9,-999.000,9,   -999,-999.0000,-999.000,-999.000,  9.4327,-999.000
     32MW893_2,  P04C,    86,  1,     17,     17,2,19890309,2302,  9.4933, 172.0000, 4926,    345.0,   8.7151,  34.5922,2,  34.6044,2,   -999.0,5,     34.8,2,    42.62,2,    36.56,2,     0.00,2,     2.62,2, -999.000,9, -999.000,9, -999.000,9,-999.0000,9,  -999.00,9,-999.000,9,   -999,-999.0000,-999.000,-999.000,  8.6782,-999.000
     32MW893_2,  P04C,    86,  1,     16,     16,2,19890309,2302,  9.4933, 172.0000, 4926,    398.4,   8.0934,  34.5611,2,  34.5616,2,   -999.0,5,     41.7,2,    47.24,2,    36.85,2,     0.00,2,     2.66,2,    0.032,2, -999.000,5, -999.000,9,-999.0000,9,  -999.00,9,-999.000,9,   -999,-999.0000,-999.000,-999.000,  8.0525,-999.000
     32MW893_2,  P04C,    86,  1,     15,     15,2,19890309,2302,  9.4933, 172.0000, 4926,    495.9,   7.1627,  34.5313,2,  34.5315,2,   -999.0,5,     49.1,2,    56.20,2,    38.12,2,     0.00,2,     2.78,2,    0.014,2,    0.008,2, -999.000,9,-999.0000,9,  -999.00,9,-999.000,9,   -999,-999.0000,-999.000,-999.000,  7.1150,-999.000
     32MW893_2,  P04C,    86,  1,     14,     14,2,19890309,2302,  9.4933, 172.0000, 4926,    596.5,   6.3360,  34.5275,2,  34.5272,2,   -999.0,5,     47.4,2,    66.04,2,    40.18,2,     0.00,2,     2.88,2,    0.006,2,    0.008,2, -999.000,9,-999.0000,9,  -999.00,9,-999.000,9,   -999,-999.0000,-999.000,-999.000,  6.2819,-999.000
     32MW893_2,  P04C,    86,  1,     13,     13,2,19890309,2302,  9.4933, 172.0000, 4926,    798.3,   5.2404,  34.5407,2,  34.5404,2,   -999.0,5,     46.9,2,    81.79,2,    42.03,2,     0.00,2,     3.02,2, -999.000,9, -999.000,9, -999.000,9,-999.0000,9,  -999.00,9,-999.000,9,   -999,-999.0000,-999.000,-999.000,  5.1736,-999.000
     32MW893_2,  P04C,    86,  1,     12,     12,2,19890309,2302,  9.4933, 172.0000, 4926,   1001.4,   4.2378,  34.5597,2,  34.5588,2,   -999.0,5,     62.1,2,   100.19,2,    42.03,2,     0.00,2,     3.01,2,   -0.013,2,   -0.005,2, -999.000,9,-999.0000,9,  -999.00,9,-999.000,9,   -999,-999.0000,-999.000,-999.000,  4.1601,-999.000
     32MW893_2,  P04C,    86,  1,     11,     11,2,19890309,2302,  9.4933, 172.0000, 4926,   1246.7,   3.4991,  34.5803,2,  34.5791,2,   -999.0,5,     75.2,2,   115.55,2,    41.45,2,     0.00,2,     2.95,2, -999.000,5,    0.001,2, -999.000,9,-999.0000,9,  -999.00,9,-999.000,9,   -999,-999.0000,-999.000,-999.000,  3.4071,-999.000
     32MW893_2,  P04C,    86,  1,     10,     10,2,19890309,2302,  9.4933, 172.0000, 4926,   1499.5,   2.8903,  34.6034,2,-999.0000,5,   -999.0,5,     88.6,2,   129.23,2,    40.76,2,     0.00,2,     2.90,2,    0.004,2,   -0.004,2, -999.000,9,-999.0000,9,  -999.00,9,-999.000,9,   -999,-999.0000,-999.000,-999.000,  2.7837,-999.000
     32MW893_2,  P04C,    86,  1,      9,      9,2,19890309,2302,  9.4933, 172.0000, 4926,   1999.4,   2.1247,  34.6383,2,  34.6356,2,   -999.0,5,    105.6,2,   145.86,2,    39.68,2,     0.00,2,     2.79,2, -999.000,5,   -0.005,2, -999.000,9,-999.0000,9,  -999.00,9,-999.000,9,   -999,-999.0000,-999.000,-999.000,  1.9864,-999.000
     32MW893_2,  P04C,    86,  1,      8,      8,2,19890309,2302,  9.4933, 172.0000, 4926,   2500.8,   1.8408,  34.6595,2,-999.0000,5,   -999.0,5,    119.5,2,   150.28,2,    38.61,2,     0.00,2,     2.72,2,   -0.003,2,    0.001,2, -999.000,9,-999.0000,9,  -999.00,9,-999.000,9,   -999,-999.0000,-999.000,-999.000,  1.6634,-999.000
     32MW893_2,  P04C,    86,  1,      7,      7,2,19890309,2302,  9.4933, 172.0000, 4926,   2999.8,   1.6558,  34.6703,2,  34.6689,2,   -999.0,5,    134.3,2,   149.50,2,    37.92,2,     0.00,2,     2.63,2,   -0.016,6,   -0.005,2, -999.000,9,-999.0000,9,  -999.00,9,-999.000,9,   -999,-999.0000,-999.000,-999.000,  1.4357,-999.000
     32MW893_2,  P04C,    86,  1,      6,      6,2,19890309,2302,  9.4933, 172.0000, 4926,   3504.6,   1.5599,  34.6767,2,  34.6779,2,   -999.0,5,    146.0,2,   148.61,2,    37.24,2,     0.00,2,     2.59,2,    0.016,2,    0.007,2, -999.000,9,-999.0000,9,  -999.00,9,-999.000,9,   -999,-999.0000,-999.000,-999.000,  1.2918,-999.000
     32MW893_2,  P04C,    86,  1,      5,      5,2,19890309,2302,  9.4933, 172.0000, 4926,   4005.2,   1.4550,  34.6858,2,-999.0000,5,   -999.0,5,    158.2,2,   144.97,2,    36.26,2,     0.00,2,     2.52,2, -999.000,5,    0.001,2, -999.000,9,-999.0000,9,  -999.00,9,-999.000,9,   -999,-999.0000,-999.000,-999.000,  1.1368,-999.000
     32MW893_2,  P04C,    86,  1,      4,      4,2,19890309,2302,  9.4933, 172.0000, 4926,   4255.0,   1.4290,  34.6895,2,  34.6889,2,   -999.0,5,    164.7,2,   141.42,2,    35.87,2,     0.00,2,     2.48,2,    0.013,2,    0.006,2, -999.000,9,-999.0000,9,  -999.00,9,-999.000,9,   -999,-999.0000,-999.000,-999.000,  1.0839,-999.000
     32MW893_2,  P04C,    86,  1,      3,      3,2,19890309,2302,  9.4933, 172.0000, 4926,   4501.7,   1.4030,  34.6916,2,  34.6926,2,   -999.0,5,    172.1,2,   136.90,2,    35.28,2,     0.00,2,     2.41,2, -999.000,5,    0.006,2, -999.000,9,-999.0000,9,  -999.00,9,-999.000,9,   -999,-999.0000,-999.000,-999.000,  1.0308,-999.000
     32MW893_2,  P04C,    86,  1,      2,      2,2,19890309,2302,  9.4933, 172.0000, 4926,   4752.7,   1.3790,  34.6955,2,  34.6966,2,   -999.0,5,    178.6,2,   132.86,2,    34.89,2,     0.00,2,     2.40,2, -999.000,9, -999.000,9, -999.000,9,-999.0000,9,  -999.00,9,-999.000,9,   -999,-999.0000,-999.000,-999.000,  0.9783,-999.000
     32MW893_2,  P04C,    86,  1,      1,      1,2,19890309,2302,  9.4933, 172.0000, 4926,   4933.8,   1.3370,  34.6990,2,-999.0000,5,   -999.0,5,    186.0,2,   129.42,2,    34.31,2,     0.00,2,     2.37,2,    0.008,2, -999.000,5, -999.000,9,-999.0000,9,  -999.00,9,-999.000,9,   -999,-999.0000,-999.000,-999.000,  0.9162,-999.000