BOTTLE,20020311WHPSIOdm
EXPOCODE,SECT_ID,STNNBR,CASTNO,SAMPNO,BTLNBR,BTLNBR_FLAG_W,DATE,TIME,LATITUDE,LONGITUDE,DEPTH,CTDPRS,CTDTMP,CTDSAL,CTDSAL_FLAG_W,SALNTY,SALNTY_FLAG_W,CTDOXY,CTDOXY_FLAG_W,OXYGEN,OXYGEN_FLAG_W,SILCAT,SILCAT_FLAG_W,NITRAT,NITRAT_FLAG_W,NITRIT,NITRIT_FLAG_W,PHSPHT,PHSPHT_FLAG_W,CFC-11,CFC-11_FLAG_W,CFC-12,CFC-12_FLAG_W,TRITUM,TRITUM_FLAG_W,HELIUM,HELIUM_FLAG_W,DELHE3,DELHE3_FLAG_W,NEON,NEON_FLAG_W,CTDRAW,HELIER,DELHER,NEONER,THETA,TRITER
,,,,,,,,,,,,DBAR,ITS-90,PSS-78,,PSS-78,,UMOL/KG,,UMOL/KG,,UMOL/KG,,UMOL/KG,,UMOL/KG,,UMOL/KG,,PMOL/KG,,PMOL/KG,,TU,,NMOL/KG,,PERCNT,,NMOL/KG,,,NMOL/KG,PERCNT,NMOL/KG,ITS-90,TU
     32MW893_2,  P04C,    93,  1,     24,     24,2,19890312,0848,  9.4983, 177.1667, 4895,      5.9,  27.4669,  34.4114,2,  34.4102,2,   -999.0,5,    219.5,2,     1.28,2,     0.00,2,    -0.01,2,     0.17,2, -999.000,9, -999.000,9, -999.000,9,-999.0000,9,  -999.00,9,-999.000,9,   -999,-999.0000,-999.000,-999.000, 27.4655,-999.000
     32MW893_2,  P04C,    93,  1,     23,     23,2,19890312,0848,  9.4983, 177.1667, 4895,     45.9,  27.4689,  34.4320,2,  34.4275,2,   -999.0,5,    219.9,2,     1.38,2,     0.00,2,    -0.01,2,     0.21,2, -999.000,9, -999.000,9, -999.000,9,-999.0000,9,  -999.00,9,-999.000,9,   -999,-999.0000,-999.000,-999.000, 27.4583,-999.000
     32MW893_2,  P04C,    93,  1,     22,     22,2,19890312,0848,  9.4983, 177.1667, 4895,     97.0,  22.2701,  34.9366,2,  34.9441,2,   -999.0,5,    200.7,2,     2.56,2,     0.68,2,     0.03,2,     0.33,2, -999.000,9, -999.000,9, -999.000,9,-999.0000,9,  -999.00,9,-999.000,9,   -999,-999.0000,-999.000,-999.000, 22.2508,-999.000
     32MW893_2,  P04C,    93,  1,     21,     21,2,19890312,0848,  9.4983, 177.1667, 4895,    145.7,  16.0857,  34.6557,2,  34.6466,2,   -999.0,5,    140.8,2,     9.65,2,    12.12,2,     0.00,2,     1.03,2, -999.000,9, -999.000,9, -999.000,9,-999.0000,9,  -999.00,9,-999.000,9,   -999,-999.0000,-999.000,-999.000, 16.0626,-999.000
     32MW893_2,  P04C,    93,  1,     20,     20,2,19890312,0848,  9.4983, 177.1667, 4895,    196.3,  12.3808,  34.5536,2,  34.5529,2,   -999.0,5,     83.0,2,    23.72,2,    24.34,2,     0.00,2,     1.84,2, -999.000,9, -999.000,9, -999.000,9,-999.0000,9,  -999.00,9,-999.000,9,   -999,-999.0000,-999.000,-999.000, 12.3548,-999.000
     32MW893_2,  P04C,    93,  1,     19,     19,2,19890312,0848,  9.4983, 177.1667, 4895,    245.1,  10.8674,  34.6319,2,  34.6419,2,   -999.0,5,     29.1,2,  -999.00,5,  -999.00,5,  -999.00,5,  -999.00,5, -999.000,9, -999.000,9, -999.000,9,-999.0000,9,  -999.00,9,-999.000,9,   -999,-999.0000,-999.000,-999.000, 10.8375,-999.000
     32MW893_2,  P04C,    93,  1,     18,     18,2,19890312,0848,  9.4983, 177.1667, 4895,    297.3,  10.1137,  34.6833,2,  34.6795,2,   -999.0,5,     24.3,2,    33.46,2,    34.41,2,     0.00,2,     2.49,2, -999.000,9, -999.000,9, -999.000,9,-999.0000,9,  -999.00,9,-999.000,9,   -999,-999.0000,-999.000,-999.000, 10.0789,-999.000
     32MW893_2,  P04C,    93,  1,     17,     17,2,19890312,0848,  9.4983, 177.1667, 4895,    395.4,   9.2330,  34.6566,2,  34.6518,2,   -999.0,5,     22.2,2,    38.38,2,    36.26,2,     0.00,2,     2.63,2, -999.000,9, -999.000,9, -999.000,9,-999.0000,9,  -999.00,9,-999.000,9,   -999,-999.0000,-999.000,-999.000,  9.1891,-999.000
     32MW893_2,  P04C,    93,  1,     16,     16,2,19890312,0848,  9.4983, 177.1667, 4895,    497.1,   8.1993,  34.6033,2,  34.5991,2,   -999.0,5,     21.3,2,    47.05,2,    37.63,2,     0.00,2,     2.81,2, -999.000,9, -999.000,9, -999.000,9,-999.0000,9,  -999.00,9,-999.000,9,   -999,-999.0000,-999.000,-999.000,  8.1476,-999.000
     32MW893_2,  P04C,    93,  1,     15,     15,2,19890312,0848,  9.4983, 177.1667, 4895,    596.5,   7.2727,  34.5556,2,  34.5590,2,   -999.0,5,     25.2,2,    55.71,2,    38.90,2,     0.00,2,     2.91,2, -999.000,9, -999.000,9, -999.000,9,-999.0000,9,  -999.00,9,-999.000,9,   -999,-999.0000,-999.000,-999.000,  7.2144,-999.000
     32MW893_2,  P04C,    93,  1,     14,     14,2,19890312,0848,  9.4983, 177.1667, 4895,    698.3,   6.4240,  34.5327,2,  34.5339,2,   -999.0,5,     42.6,2,    64.17,2,    39.30,2,     0.00,2,     2.86,2, -999.000,9, -999.000,9, -999.000,9,-999.0000,9,  -999.00,9,-999.000,9,   -999,-999.0000,-999.000,-999.000,  6.3597,-999.000
     32MW893_2,  P04C,    93,  1,     13,     13,2,19890312,0848,  9.4983, 177.1667, 4895,    798.4,   5.7062,  34.5348,2,  34.5296,2,   -999.0,5,     45.2,2,    74.21,2,    40.37,2,     0.00,2,     2.95,2, -999.000,9, -999.000,9, -999.000,9,-999.0000,9,  -999.00,9,-999.000,9,   -999,-999.0000,-999.000,-999.000,  5.6365,-999.000
     32MW893_2,  P04C,    93,  1,     12,     12,2,19890312,0848,  9.4983, 177.1667, 4895,    997.9,   4.6017,  34.5508,2,  34.5302,2,   -999.0,5,     57.8,2,    93.61,2,    40.86,2,     0.00,2,     2.98,2, -999.000,9, -999.000,9, -999.000,9,-999.0000,9,  -999.00,9,-999.000,9,   -999,-999.0000,-999.000,-999.000,  4.5215,-999.000
     32MW893_2,  P04C,    93,  1,     11,     11,2,19890312,0848,  9.4983, 177.1667, 4895,   1246.9,   3.7380,  34.5751,2,  34.5673,2,   -999.0,5,     69.1,2,   111.22,2,    40.66,2,     0.00,2,     2.95,2, -999.000,9, -999.000,9, -999.000,9,-999.0000,9,  -999.00,9,-999.000,9,   -999,-999.0000,-999.000,-999.000,  3.6437,-999.000
     32MW893_2,  P04C,    93,  1,     10,     10,2,19890312,0848,  9.4983, 177.1667, 4895,   1499.1,   2.9353,  34.5969,2,  34.5932,2,   -999.0,5,     85.6,2,   128.73,2,    39.88,2,     0.00,2,     2.87,2, -999.000,9, -999.000,9, -999.000,9,-999.0000,9,  -999.00,9,-999.000,9,   -999,-999.0000,-999.000,-999.000,  2.8282,-999.000
     32MW893_2,  P04C,    93,  1,      9,      9,2,19890312,0848,  9.4983, 177.1667, 4895,   2001.8,   2.1417,  34.6374,2,  34.6335,2,   -999.0,5,    103.8,2,   146.35,2,    38.90,2,     0.00,2,     2.78,2, -999.000,9, -999.000,9, -999.000,9,-999.0000,9,  -999.00,9,-999.000,9,   -999,-999.0000,-999.000,-999.000,  2.0029,-999.000
     32MW893_2,  P04C,    93,  1,      8,      8,2,19890312,0848,  9.4983, 177.1667, 4895,   2501.1,   1.8158,  34.6603,2,  34.6580,2,   -999.0,5,    119.9,2,   151.85,2,    38.02,2,     0.00,2,     2.72,2, -999.000,9, -999.000,9, -999.000,9,-999.0000,9,  -999.00,9,-999.000,9,   -999,-999.0000,-999.000,-999.000,  1.6388,-999.000
     32MW893_2,  P04C,    93,  1,      7,      7,2,19890312,0848,  9.4983, 177.1667, 4895,   3001.9,   1.6438,  34.6735,2,  34.6690,2,   -999.0,5,    131.7,2,   152.55,2,    37.24,2,     0.00,2,     2.63,2, -999.000,9, -999.000,9, -999.000,9,-999.0000,9,  -999.00,9,-999.000,9,   -999,-999.0000,-999.000,-999.000,  1.4237,-999.000
     32MW893_2,  P04C,    93,  1,      6,      6,2,19890312,0848,  9.4983, 177.1667, 4895,   3502.6,   1.5089,  34.6815,2,  34.6801,2,   -999.0,5,    146.9,2,   149.20,2,    36.36,2,     0.00,2,     2.54,2, -999.000,9, -999.000,9, -999.000,9,-999.0000,9,  -999.00,9,-999.000,9,   -999,-999.0000,-999.000,-999.000,  1.2423,-999.000
     32MW893_2,  P04C,    93,  1,      5,      5,2,19890312,0848,  9.4983, 177.1667, 4895,   4003.0,   1.3750,  34.6895,2,  34.6885,2,   -999.0,5,    164.7,2,   141.62,2,    34.89,2,     0.00,2,     2.44,2, -999.000,9, -999.000,9, -999.000,9,-999.0000,9,  -999.00,9,-999.000,9,   -999,-999.0000,-999.000,-999.000,  1.0592,-999.000
     32MW893_2,  P04C,    93,  1,      4,      4,2,19890312,0848,  9.4983, 177.1667, 4895,   4255.1,   1.3220,  34.6950,2,  34.6924,2,   -999.0,5,    175.1,2,   136.20,2,    34.31,2,     0.00,2,     2.38,2, -999.000,9, -999.000,9, -999.000,9,-999.0000,9,  -999.00,9,-999.000,9,   -999,-999.0000,-999.000,-999.000,  0.9802,-999.000
     32MW893_2,  P04C,    93,  1,      3,      3,2,19890312,0848,  9.4983, 177.1667, 4895,   4505.1,   1.2850,  34.6988,2,  34.7015,2,   -999.0,5,    182.9,2,   130.30,2,    33.43,2,     0.00,2,     2.34,2, -999.000,9, -999.000,9, -999.000,9,-999.0000,9,  -999.00,9,-999.000,9,   -999,-999.0000,-999.000,-999.000,  0.9160,-999.000
     32MW893_2,  P04C,    93,  1,      2,      2,2,19890312,0848,  9.4983, 177.1667, 4895,   4754.8,   1.2890,  34.7006,2,  34.7034,2,   -999.0,5,    186.8,2,   128.82,2,    33.33,2,     0.01,2,     2.32,2, -999.000,9, -999.000,9, -999.000,9,-999.0000,9,  -999.00,9,-999.000,9,   -999,-999.0000,-999.000,-999.000,  0.8910,-999.000
     32MW893_2,  P04C,    93,  1,      1,      1,2,19890312,0848,  9.4983, 177.1667, 4895,   4978.9,   1.2930,  34.7021,2,  34.7013,2,   -999.0,5,    190.3,2,   127.64,2,    32.80,2,     0.01,2,     2.31,2, -999.000,9, -999.000,9, -999.000,9,-999.0000,9,  -999.00,9,-999.000,9,   -999,-999.0000,-999.000,-999.000,  0.8682,-999.000
     32MW893_2,  P04C,    94,  1,     24,     24,2,19890312,1700,  9.4900, 177.9967, 5364,      6.8,  27.4379,  34.3913,2,  34.3910,2,   -999.0,5,    209.0,2,     1.77,2,     0.00,2,     0.00,2,     0.13,2, -999.000,9, -999.000,9, -999.000,9,-999.0000,9,  -999.00,9,-999.000,9,   -999,-999.0000,-999.000,-999.000, 27.4363,-999.000
     32MW893_2,  P04C,    94,  1,     23,     23,2,19890312,1700,  9.4900, 177.9967, 5364,     46.7,  27.4349,  34.3951,2,  34.3902,2,   -999.0,5,    213.8,2,     1.77,2,     0.00,2,     0.00,2,     0.14,2, -999.000,9, -999.000,9, -999.000,9,-999.0000,9,  -999.00,9,-999.000,9,   -999,-999.0000,-999.000,-999.000, 27.4241,-999.000
     32MW893_2,  P04C,    94,  1,     22,     22,2,19890312,1700,  9.4900, 177.9967, 5364,     96.5,  21.8612,  34.9564,2,  34.8629,2,   -999.0,5,    188.5,2,     3.15,2,     0.88,2,     0.04,2,     0.31,2, -999.000,9, -999.000,9, -999.000,9,-999.0000,9,  -999.00,9,-999.000,9,   -999,-999.0000,-999.000,-999.000, 21.8422,-999.000
     32MW893_2,  P04C,    94,  1,     21,     21,2,19890312,1700,  9.4900, 177.9967, 5364,    148.5,  14.7562,  34.5842,2,  34.5759,2,   -999.0,5,    172.5,2,     9.84,2,    10.26,2,     0.03,2,     0.82,2, -999.000,9, -999.000,9, -999.000,9,-999.0000,9,  -999.00,9,-999.000,9,   -999,-999.0000,-999.000,-999.000, 14.7341,-999.000
     32MW893_2,  P04C,    94,  1,     20,     20,2,19890312,1700,  9.4900, 177.9967, 5364,    197.5,  11.3112,  34.6337,2,  34.6296,2,   -999.0,5,     34.8,2,    29.33,2,    31.67,2,     0.00,2,     2.32,2, -999.000,9, -999.000,9, -999.000,9,-999.0000,9,  -999.00,9,-999.000,9,   -999,-999.0000,-999.000,-999.000, 11.2865,-999.000
     32MW893_2,  P04C,    94,  1,     19,     19,2,19890312,1700,  9.4900, 177.9967, 5364,    295.9,  10.0097,  34.6848,2,  34.6789,2,   -999.0,5,     23.5,2,    31.59,2,    34.89,2,     0.00,2,     2.49,2, -999.000,9, -999.000,9, -999.000,9,-999.0000,9,  -999.00,9,-999.000,9,   -999,-999.0000,-999.000,-999.000,  9.9753,-999.000
     32MW893_2,  P04C,    94,  1,     18,     18,2,19890312,1700,  9.4900, 177.9967, 5364,    396.5,   9.2190,  34.6532,2,  34.6484,2,   -999.0,5,   -999.0,5,    38.38,2,    36.56,2,     0.00,2,     2.60,2, -999.000,9, -999.000,9, -999.000,9,-999.0000,9,  -999.00,9,-999.000,9,   -999,-999.0000,-999.000,-999.000,  9.1750,-999.000
     32MW893_2,  P04C,    94,  1,     17,     17,2,19890312,1700,  9.4900, 177.9967, 5364,    496.2,   8.3183,  34.6123,2,  34.6074,2,   -999.0,5,     23.0,2,    46.35,2,    37.24,2,     0.00,2,     2.77,2, -999.000,9, -999.000,9, -999.000,9,-999.0000,9,  -999.00,9,-999.000,9,   -999,-999.0000,-999.000,-999.000,  8.2662,-999.000
     32MW893_2,  P04C,    94,  1,     16,     16,2,19890312,1700,  9.4900, 177.9967, 5364,    593.7,   7.5566,  34.5741,2,  34.5732,2,   -999.0,5,     28.2,2,    53.94,2,    38.61,2,     0.00,2,     2.90,2, -999.000,9, -999.000,9, -999.000,9,-999.0000,9,  -999.00,9,-999.000,9,   -999,-999.0000,-999.000,-999.000,  7.4973,-999.000
     32MW893_2,  P04C,    94,  1,     15,     15,2,19890312,1700,  9.4900, 177.9967, 5364,    796.9,   5.9772,  34.5406,2,  34.5351,2,   -999.0,5,     47.4,2,    71.07,2,    41.06,2,     0.00,2,     2.97,2, -999.000,9, -999.000,9, -999.000,9,-999.0000,9,  -999.00,9,-999.000,9,   -999,-999.0000,-999.000,-999.000,  5.9060,-999.000
     32MW893_2,  P04C,    94,  1,     14,     14,2,19890312,1700,  9.4900, 177.9967, 5364,    997.9,   4.7446,  34.5500,2,  34.5457,2,   -999.0,5,   -999.0,5,    90.55,2,    41.06,2,     0.00,2,     2.94,2, -999.000,9, -999.000,9, -999.000,9,-999.0000,9,  -999.00,9,-999.000,9,   -999,-999.0000,-999.000,-999.000,  4.6633,-999.000
     32MW893_2,  P04C,    94,  1,     13,     13,2,19890312,1700,  9.4900, 177.9967, 5364,   1248.4,   3.7320,  34.5759,2,  34.5710,2,   -999.0,5,   -999.0,5,   111.02,2,    40.76,2,     0.00,2,     2.92,2, -999.000,9, -999.000,9, -999.000,9,-999.0000,9,  -999.00,9,-999.000,9,   -999,-999.0000,-999.000,-999.000,  3.6376,-999.000
     32MW893_2,  P04C,    94,  1,     12,     12,2,19890312,1700,  9.4900, 177.9967, 5364,   1497.6,   3.1922,  34.5953,2,  34.5903,2,   -999.0,5,   -999.0,5,   121.84,2,    40.27,2,     0.00,2,     2.86,2, -999.000,9, -999.000,9, -999.000,9,-999.0000,9,  -999.00,9,-999.000,9,   -999,-999.0000,-999.000,-999.000,  3.0824,-999.000
     32MW893_2,  P04C,    94,  1,     11,     11,2,19890312,1700,  9.4900, 177.9967, 5364,   1750.6,   2.5155,  34.6217,2,-999.0000,5,   -999.0,5,   -999.0,5,   136.52,2,    39.20,2,     0.00,2,     2.80,2, -999.000,9, -999.000,9, -999.000,9,-999.0000,9,  -999.00,9,-999.000,9,   -999,-999.0000,-999.000,-999.000,  2.3927,-999.000
     32MW893_2,  P04C,    94,  1,      9,      9,2,19890312,1700,  9.4900, 177.9967, 5364,   2501.7,   1.7968,  34.6655,2,  34.6606,2,   -999.0,5,   -999.0,5,   151.56,2,    37.92,2,     0.00,2,     2.63,2, -999.000,9, -999.000,9, -999.000,9,-999.0000,9,  -999.00,9,-999.000,9,   -999,-999.0000,-999.000,-999.000,  1.6201,-999.000
     32MW893_2,  P04C,    94,  1,      8,      8,2,19890312,1700,  9.4900, 177.9967, 5364,   3002.8,   1.6398,  34.6724,2,  34.6690,2,   -999.0,5,    138.6,2,   151.27,2,    37.04,2,     0.00,2,     2.57,2, -999.000,9, -999.000,9, -999.000,9,-999.0000,9,  -999.00,9,-999.000,9,   -999,-999.0000,-999.000,-999.000,  1.4197,-999.000
     32MW893_2,  P04C,    94,  1,      7,      7,2,19890312,1700,  9.4900, 177.9967, 5364,   3503.1,   1.5169,  34.6813,2,  34.6789,2,   -999.0,5,   -999.0,5,   149.20,2,    36.16,2,     0.00,2,     2.50,2, -999.000,9, -999.000,9, -999.000,9,-999.0000,9,  -999.00,9,-999.000,9,   -999,-999.0000,-999.000,-999.000,  1.2501,-999.000
     32MW893_2,  P04C,    94,  1,      6,      6,2,19890312,1700,  9.4900, 177.9967, 5364,   4004.0,   1.3880,  34.6899,2,  34.6905,2,   -999.0,5,    169.9,2,   141.92,2,    34.89,2,     0.00,2,     2.41,2, -999.000,9, -999.000,9, -999.000,9,-999.0000,9,  -999.00,9,-999.000,9,   -999,-999.0000,-999.000,-999.000,  1.0717,-999.000
     32MW893_2,  P04C,    94,  1,      5,      5,2,19890312,1700,  9.4900, 177.9967, 5364,   4253.6,   1.3240,  34.6947,2,  34.6903,2,   -999.0,5,    175.5,2,   136.20,2,    34.31,2,     0.00,2,     2.36,2, -999.000,9, -999.000,9, -999.000,9,-999.0000,9,  -999.00,9,-999.000,9,   -999,-999.0000,-999.000,-999.000,  0.9823,-999.000
     32MW893_2,  P04C,    94,  1,      4,      4,2,19890312,1700,  9.4900, 177.9967, 5364,   4503.0,   1.2970,  34.6979,2,  34.6932,2,   -999.0,5,    190.7,2,   131.68,2,    33.62,2,     0.00,2,     2.31,2, -999.000,9, -999.000,9, -999.000,9,-999.0000,9,  -999.00,9,-999.000,9,   -999,-999.0000,-999.000,-999.000,  0.9280,-999.000
     32MW893_2,  P04C,    94,  1,      3,      3,2,19890312,1700,  9.4900, 177.9967, 5364,   4753.6,   1.2890,  34.6998,2,  34.6966,2,   -999.0,5,    188.1,2,   128.24,2,    33.13,2,     0.00,2,     2.27,2, -999.000,9, -999.000,9, -999.000,9,-999.0000,9,  -999.00,9,-999.000,9,   -999,-999.0000,-999.000,-999.000,  0.8912,-999.000
     32MW893_2,  P04C,    94,  1,      2,      2,2,19890312,1700,  9.4900, 177.9967, 5364,   5003.3,   1.3070,  34.7010,2,  34.7009,2,   -999.0,5,    191.6,2,   127.94,2,    33.13,2,     0.00,2,     2.29,2, -999.000,9, -999.000,9, -999.000,9,-999.0000,9,  -999.00,9,-999.000,9,   -999,-999.0000,-999.000,-999.000,  0.8788,-999.000
     32MW893_2,  P04C,    94,  1,      1,      1,2,19890312,1700,  9.4900, 177.9967, 5364,   5453.7,   1.3510,  34.7035,2,-999.0000,5,   -999.0,5,   -999.0,5,   127.54,2,    33.04,2,     0.00,2,     2.28,2, -999.000,9, -999.000,9, -999.000,9,-999.0000,9,  -999.00,9,-999.000,9,   -999,-999.0000,-999.000,-999.000,  0.8656,-999.000