BOTTLE,20020311WHPSIOdm
EXPOCODE,SECT_ID,STNNBR,CASTNO,SAMPNO,BTLNBR,BTLNBR_FLAG_W,DATE,TIME,LATITUDE,LONGITUDE,DEPTH,CTDPRS,CTDTMP,CTDSAL,CTDSAL_FLAG_W,SALNTY,SALNTY_FLAG_W,CTDOXY,CTDOXY_FLAG_W,OXYGEN,OXYGEN_FLAG_W,SILCAT,SILCAT_FLAG_W,NITRAT,NITRAT_FLAG_W,NITRIT,NITRIT_FLAG_W,PHSPHT,PHSPHT_FLAG_W,CFC-11,CFC-11_FLAG_W,CFC-12,CFC-12_FLAG_W,TRITUM,TRITUM_FLAG_W,HELIUM,HELIUM_FLAG_W,DELHE3,DELHE3_FLAG_W,NEON,NEON_FLAG_W,CTDRAW,HELIER,DELHER,NEONER,THETA,TRITER
,,,,,,,,,,,,DBAR,ITS-90,PSS-78,,PSS-78,,UMOL/KG,,UMOL/KG,,UMOL/KG,,UMOL/KG,,UMOL/KG,,UMOL/KG,,PMOL/KG,,PMOL/KG,,TU,,NMOL/KG,,PERCNT,,NMOL/KG,,,NMOL/KG,PERCNT,NMOL/KG,ITS-90,TU
     32MW893_2,  P04C,   103,  1,     24,     24,2,19890316,0459,  9.4950,-174.4983, 6022,      5.4,  27.4909,  34.4310,2,  34.4302,2,   -999.0,5,    222.9,2,     1.77,2,     0.10,2,     0.00,2,     0.19,2, -999.000,9, -999.000,9, -999.000,9,-999.0000,9,  -999.00,9,-999.000,9,   -999,-999.0000,-999.000,-999.000, 27.4896,-999.000
     32MW893_2,  P04C,   103,  1,     23,     23,2,19890316,0459,  9.4950,-174.4983, 6022,     45.9,  27.4609,  34.4256,2,-999.0000,5,   -999.0,5,    210.3,2,     1.77,2,     0.20,2,     0.00,2,     0.19,2, -999.000,9, -999.000,9, -999.000,9,-999.0000,9,  -999.00,9,-999.000,9,   -999,-999.0000,-999.000,-999.000, 27.4503,-999.000
     32MW893_2,  P04C,   103,  1,     22,     22,2,19890316,0459,  9.4950,-174.4983, 6022,     96.9,  23.3198,  35.0523,2,  35.0606,2,   -999.0,5,    201.1,2,     1.96,2,     0.20,2,     0.02,2,     0.21,2, -999.000,9, -999.000,9, -999.000,9,-999.0000,9,  -999.00,9,-999.000,9,   -999,-999.0000,-999.000,-999.000, 23.2998,-999.000
     32MW893_2,  P04C,   103,  1,     21,     21,2,19890316,0459,  9.4950,-174.4983, 6022,    147.4,  15.4929,  34.6300,2,  34.6195,2,   -999.0,5,    168.2,2,     9.25,2,    10.65,2,     0.00,2,     0.90,2, -999.000,9, -999.000,9, -999.000,9,-999.0000,9,  -999.00,9,-999.000,9,   -999,-999.0000,-999.000,-999.000, 15.4702,-999.000
     32MW893_2,  P04C,   103,  1,     20,     20,2,19890316,0459,  9.4950,-174.4983, 6022,    197.8,  11.8051,  34.5539,2,  34.5535,2,   -999.0,5,     51.7,2,    26.58,2,    29.52,2,     0.00,2,     2.23,2, -999.000,9, -999.000,9, -999.000,9,-999.0000,9,  -999.00,9,-999.000,9,   -999,-999.0000,-999.000,-999.000, 11.7797,-999.000
     32MW893_2,  P04C,   103,  1,     19,     19,2,19890316,0459,  9.4950,-174.4983, 6022,    246.8,  10.7524,  34.6781,2,  34.6541,2,   -999.0,5,     42.1,2,  -999.00,5,  -999.00,5,  -999.00,5,  -999.00,5, -999.000,9, -999.000,9, -999.000,9,-999.0000,9,  -999.00,9,-999.000,9,   -999,-999.0000,-999.000,-999.000, 10.7225,-999.000
     32MW893_2,  P04C,   103,  1,     18,     18,2,19890316,0459,  9.4950,-174.4983, 6022,    297.8,  10.1277,  34.6850,2,  34.6826,2,   -999.0,5,     26.5,2,    33.86,2,    35.48,2,     0.00,2,     2.53,2, -999.000,9, -999.000,9, -999.000,9,-999.0000,9,  -999.00,9,-999.000,9,   -999,-999.0000,-999.000,-999.000, 10.0928,-999.000
     32MW893_2,  P04C,   103,  1,     17,     17,2,19890316,0459,  9.4950,-174.4983, 6022,    397.3,   9.1480,  34.6489,2,  34.6466,2,   -999.0,5,     22.2,2,    39.86,2,    37.14,2,     0.00,2,     2.70,2, -999.000,9, -999.000,9, -999.000,9,-999.0000,9,  -999.00,9,-999.000,9,   -999,-999.0000,-999.000,-999.000,  9.1041,-999.000
     32MW893_2,  P04C,   103,  1,     16,     16,2,19890316,0459,  9.4950,-174.4983, 6022,    497.6,   8.1723,  34.6095,2,  34.5964,2,   -999.0,5,     25.2,2,    48.03,2,    38.32,2,     0.00,2,     2.82,2, -999.000,9, -999.000,9, -999.000,9,-999.0000,9,  -999.00,9,-999.000,9,   -999,-999.0000,-999.000,-999.000,  8.1207,-999.000
     32MW893_2,  P04C,   103,  1,     15,     15,2,19890316,0459,  9.4950,-174.4983, 6022,    598.0,   7.2117,  34.5580,2,  34.5567,2,   -999.0,5,     30.0,2,    58.07,2,    39.20,2,     0.00,2,     2.92,2, -999.000,9, -999.000,9, -999.000,9,-999.0000,9,  -999.00,9,-999.000,9,   -999,-999.0000,-999.000,-999.000,  7.1535,-999.000
     32MW893_2,  P04C,   103,  1,     14,     14,2,19890316,0459,  9.4950,-174.4983, 6022,    697.0,   6.3640,  34.5394,2,  34.5414,2,   -999.0,5,     34.3,2,    66.93,2,    41.64,2,     0.00,2,     3.01,2, -999.000,9, -999.000,9, -999.000,9,-999.0000,9,  -999.00,9,-999.000,9,   -999,-999.0000,-999.000,-999.000,  6.3002,-999.000
     32MW893_2,  P04C,   103,  1,     13,     13,2,19890316,0459,  9.4950,-174.4983, 6022,    796.8,   5.7432,  34.5409,2,  34.5429,2,   -999.0,5,     37.8,2,    75.40,2,    42.52,2,     0.00,2,     3.07,2, -999.000,9, -999.000,9, -999.000,9,-999.0000,9,  -999.00,9,-999.000,9,   -999,-999.0000,-999.000,-999.000,  5.6734,-999.000
     32MW893_2,  P04C,   103,  1,     12,     12,2,19890316,0459,  9.4950,-174.4983, 6022,    997.5,   4.6976,  34.5514,2,  34.5498,2,   -999.0,5,     54.8,2,    92.62,2,    42.42,2,     0.00,2,     3.03,2, -999.000,9, -999.000,9, -999.000,9,-999.0000,9,  -999.00,9,-999.000,9,   -999,-999.0000,-999.000,-999.000,  4.6167,-999.000
     32MW893_2,  P04C,   103,  1,     11,     11,2,19890316,0459,  9.4950,-174.4983, 6022,   1497.5,   3.0673,  34.5941,2,  34.5930,2,   -999.0,5,     85.6,2,   127.26,2,    40.86,2,     0.00,2,     2.90,2, -999.000,9, -999.000,9, -999.000,9,-999.0000,9,  -999.00,9,-999.000,9,   -999,-999.0000,-999.000,-999.000,  2.9588,-999.000
     32MW893_2,  P04C,   103,  1,     10,     10,2,19890316,0459,  9.4950,-174.4983, 6022,   1998.1,   2.1976,  34.6381,2,  34.6372,2,   -999.0,5,    108.2,2,   146.26,2,    39.88,2,     0.00,2,     2.81,2, -999.000,9, -999.000,9, -999.000,9,-999.0000,9,  -999.00,9,-999.000,9,   -999,-999.0000,-999.000,-999.000,  2.0583,-999.000
     32MW893_2,  P04C,   103,  1,      9,      9,2,19890316,0459,  9.4950,-174.4983, 6022,   2500.2,   1.8767,  34.6581,2,  34.6584,2,   -999.0,5,    117.8,2,   153.83,2,    39.29,2,     0.00,2,     2.73,2, -999.000,9, -999.000,9, -999.000,9,-999.0000,9,  -999.00,9,-999.000,9,   -999,-999.0000,-999.000,-999.000,  1.6987,-999.000
     32MW893_2,  P04C,   103,  1,      8,      8,2,19890316,0459,  9.4950,-174.4983, 6022,   3002.1,   1.6918,  34.6689,2,  34.6696,2,   -999.0,5,    129.9,2,   155.50,2,    38.32,2,     0.00,2,     2.66,2, -999.000,9, -999.000,9, -999.000,9,-999.0000,9,  -999.00,9,-999.000,9,   -999,-999.0000,-999.000,-999.000,  1.4706,-999.000
     32MW893_2,  P04C,   103,  1,      7,      7,2,19890316,0459,  9.4950,-174.4983, 6022,   3503.1,   1.5379,  34.6798,2,  34.6820,2,   -999.0,5,    145.1,2,   152.55,2,    37.24,2,     0.00,2,     2.57,2, -999.000,9, -999.000,9, -999.000,9,-999.0000,9,  -999.00,9,-999.000,9,   -999,-999.0000,-999.000,-999.000,  1.2705,-999.000
     32MW893_2,  P04C,   103,  1,      6,      6,2,19890316,0459,  9.4950,-174.4983, 6022,   4004.9,   1.3830,  34.6887,2,  34.6911,2,   -999.0,5,    162.1,2,   143.29,2,    35.87,2,     0.00,2,     2.46,2, -999.000,9, -999.000,9, -999.000,9,-999.0000,9,  -999.00,9,-999.000,9,   -999,-999.0000,-999.000,-999.000,  1.0668,-999.000
     32MW893_2,  P04C,   103,  1,      5,      5,2,19890316,0459,  9.4950,-174.4983, 6022,   4501.9,   1.2930,  34.6965,2,  34.6993,2,   -999.0,5,    182.9,2,   134.43,2,    34.80,2,     0.00,2,     2.38,2, -999.000,9, -999.000,9, -999.000,9,-999.0000,9,  -999.00,9,-999.000,9,   -999,-999.0000,-999.000,-999.000,  0.9242,-999.000
     32MW893_2,  P04C,   103,  1,      4,      4,2,19890316,0459,  9.4950,-174.4983, 6022,   5254.9,   1.3120,  34.7002,2,  34.7032,2,   -999.0,5,    190.7,2,   129.32,2,    34.11,2,     0.00,2,     2.31,2, -999.000,9, -999.000,9, -999.000,9,-999.0000,9,  -999.00,9,-999.000,9,   -999,-999.0000,-999.000,-999.000,  0.8529,-999.000
     32MW893_2,  P04C,   103,  1,      3,      3,2,19890316,0459,  9.4950,-174.4983, 6022,   5505.5,   1.3360,  34.7025,2,  34.7027,2,   -999.0,5,    192.5,2,   129.12,2,    34.11,2,     0.00,2,     2.31,2, -999.000,9, -999.000,9, -999.000,9,-999.0000,9,  -999.00,9,-999.000,9,   -999,-999.0000,-999.000,-999.000,  0.8446,-999.000
     32MW893_2,  P04C,   103,  1,      2,      2,2,19890316,0459,  9.4950,-174.4983, 6022,   5801.6,   1.3740,  34.7035,2,  34.7027,2,   -999.0,5,    193.3,2,   129.81,2,    33.72,2,     0.00,2,     2.32,2, -999.000,9, -999.000,9, -999.000,9,-999.0000,9,  -999.00,9,-999.000,9,   -999,-999.0000,-999.000,-999.000,  0.8431,-999.000
     32MW893_2,  P04C,   103,  1,      1,      1,2,19890316,0459,  9.4950,-174.4983, 6022,   6131.2,   1.4180,  34.7037,2,  34.7040,2,   -999.0,5,    193.3,2,   129.61,2,    33.88,2,     0.01,2,     2.34,2, -999.000,9, -999.000,9, -999.000,9,-999.0000,9,  -999.00,9,-999.000,9,   -999,-999.0000,-999.000,-999.000,  0.8416,-999.000
     32MW893_2,  P04C,   104,  1,     24,     24,2,19890316,1354,  9.4933,-173.6667, 5679,      5.7,  27.2220,  34.3530,2,  34.3537,2,   -999.0,5,    202.1,2,     1.18,2,     0.00,2,     0.00,2,     0.20,2,    1.630,2,    0.921,2, -999.000,9,-999.0000,9,  -999.00,9,-999.000,9,   -999,-999.0000,-999.000,-999.000, 27.2207,-999.000
     32MW893_2,  P04C,   104,  1,     23,     23,2,19890316,1354,  9.4933,-173.6667, 5679,     45.7,  27.2280,  34.3538,2,  34.3543,2,   -999.0,5,    213.4,2,     1.28,2,     0.00,2,     0.00,2,     0.20,2,    1.623,2,    0.923,2, -999.000,9,-999.0000,9,  -999.00,9,-999.000,9,   -999,-999.0000,-999.000,-999.000, 27.2175,-999.000
     32MW893_2,  P04C,   104,  1,     22,     22,2,19890316,1354,  9.4933,-173.6667, 5679,     95.1,  23.4208,  35.0434,2,  34.9955,2,   -999.0,5,    206.8,2,     1.48,2,     0.20,2,     0.03,2,     0.25,2,    1.829,2,    0.951,2, -999.000,9,-999.0000,9,  -999.00,9,-999.000,9,   -999,-999.0000,-999.000,-999.000, 23.4011,-999.000
     32MW893_2,  P04C,   104,  1,     21,     21,2,19890316,1354,  9.4933,-173.6667, 5679,    145.6,  14.6052,  34.5505,2,  34.5482,2,   -999.0,5,    159.5,2,    10.53,2,    12.32,2,     0.00,2,     1.03,2,    1.663,2,    0.853,2, -999.000,9,-999.0000,9,  -999.00,9,-999.000,9,   -999,-999.0000,-999.000,-999.000, 14.5837,-999.000
     32MW893_2,  P04C,   104,  1,     20,     20,2,19890316,1354,  9.4933,-173.6667, 5679,    196.1,  11.0044,  34.5955,2,  34.5873,2,   -999.0,5,     35.2,2,    29.92,2,    31.38,2,     0.00,2,     2.36,2,    0.275,2,    0.158,2, -999.000,9,-999.0000,9,  -999.00,9,-999.000,9,   -999,-999.0000,-999.000,-999.000, 10.9803,-999.000
     32MW893_2,  P04C,   104,  1,     19,     19,2,19890316,1354,  9.4933,-173.6667, 5679,    246.1,  10.4635,  34.6945,2,  34.6916,2,   -999.0,5,     22.6,2,    32.38,2,    34.50,2,     0.00,2,     2.48,2,    0.084,6,    0.046,6, -999.000,9,-999.0000,9,  -999.00,9,-999.000,9,   -999,-999.0000,-999.000,-999.000, 10.4341,-999.000
     32MW893_2,  P04C,   104,  1,     18,     18,2,19890316,1354,  9.4933,-173.6667, 5679,    296.1,  10.0277,  34.6869,2,  34.6838,2,   -999.0,5,     26.5,2,    34.05,2,    35.09,2,     0.00,2,     2.51,2,    0.045,2, -999.000,5, -999.000,9,-999.0000,9,  -999.00,9,-999.000,9,   -999,-999.0000,-999.000,-999.000,  9.9932,-999.000
     32MW893_2,  P04C,   104,  1,     17,     17,2,19890316,1354,  9.4933,-173.6667, 5679,    396.6,   9.2799,  34.6657,2,  34.6573,2,   -999.0,5,     20.4,2,    38.19,2,    36.56,2,     0.00,2,     2.64,2,    0.019,2, -999.000,5, -999.000,9,-999.0000,9,  -999.00,9,-999.000,9,   -999,-999.0000,-999.000,-999.000,  9.2357,-999.000
     32MW893_2,  P04C,   104,  1,     16,     16,2,19890316,1354,  9.4933,-173.6667, 5679,    495.3,   8.3183,  34.6074,2,  34.5999,2,   -999.0,5,     26.1,2,    45.57,2,    37.44,2,     0.00,2,     2.76,2,    0.021,2, -999.000,5, -999.000,9,-999.0000,9,  -999.00,9,-999.000,9,   -999,-999.0000,-999.000,-999.000,  8.2663,-999.000
     32MW893_2,  P04C,   104,  1,     15,     15,2,19890316,1354,  9.4933,-173.6667, 5679,    597.1,   7.4906,  34.5742,2,  34.5736,2,   -999.0,5,     22.6,2,    53.94,2,    39.00,2,     0.00,2,     2.91,2,    0.020,2,    0.015,2, -999.000,9,-999.0000,9,  -999.00,9,-999.000,9,   -999,-999.0000,-999.000,-999.000,  7.4312,-999.000
     32MW893_2,  P04C,   104,  1,     14,     14,2,19890316,1354,  9.4933,-173.6667, 5679,    796.6,   5.8272,  34.5423,2,  34.5433,2,   -999.0,5,     34.8,2,    72.25,2,    42.03,2,     0.00,2,     3.03,2,    0.018,2,    0.007,2, -999.000,9,-999.0000,9,  -999.00,9,-999.000,9,   -999,-999.0000,-999.000,-999.000,  5.7569,-999.000
     32MW893_2,  P04C,   104,  1,     13,     13,2,19890316,1354,  9.4933,-173.6667, 5679,    995.4,   4.8905,  34.5471,2,  34.5488,2,   -999.0,5,     47.8,2,    87.20,2,    42.33,2,     0.00,2,     3.01,2,    0.005,2,    0.006,2, -999.000,9,-999.0000,9,  -999.00,9,-999.000,9,   -999,-999.0000,-999.000,-999.000,  4.8083,-999.000
     32MW893_2,  P04C,   104,  1,     12,     12,2,19890316,1354,  9.4933,-173.6667, 5679,   1247.0,   3.9010,  34.5698,2,  34.5734,2,   -999.0,5,     67.8,2,   106.79,2,    41.25,2,     0.00,2,     2.95,2,    0.018,2,    0.012,2, -999.000,9,-999.0000,9,  -999.00,9,-999.000,9,   -999,-999.0000,-999.000,-999.000,  3.8051,-999.000
     32MW893_2,  P04C,   104,  1,     11,     11,2,19890316,1354,  9.4933,-173.6667, 5679,   1497.1,   3.2612,  34.5897,2,  34.5895,2,   -999.0,5,     79.1,2,   120.67,2,    40.86,2,     0.00,2,     2.90,2, -999.000,9, -999.000,9, -999.000,9,-999.0000,9,  -999.00,9,-999.000,9,   -999,-999.0000,-999.000,-999.000,  3.1506,-999.000
     32MW893_2,  P04C,   104,  1,     10,     10,2,19890316,1354,  9.4933,-173.6667, 5679,   1997.0,   2.3005,  34.6337,2,  34.6345,2,   -999.0,5,    101.2,2,   142.81,2,    39.78,2,     0.00,2,     2.78,2, -999.000,9, -999.000,9, -999.000,9,-999.0000,9,  -999.00,9,-999.000,9,   -999,-999.0000,-999.000,-999.000,  2.1598,-999.000
     32MW893_2,  P04C,   104,  1,      9,      9,2,19890316,1354,  9.4933,-173.6667, 5679,   2499.5,   1.9397,  34.6549,2,  34.6563,2,   -999.0,5,    115.6,2,   149.89,2,    38.80,2,     0.00,2,     2.71,2, -999.000,9, -999.000,9, -999.000,9,-999.0000,9,  -999.00,9,-999.000,9,   -999,-999.0000,-999.000,-999.000,  1.7606,-999.000
     32MW893_2,  P04C,   104,  1,      8,      8,2,19890316,1354,  9.4933,-173.6667, 5679,   3002.5,   1.7128,  34.6683,2,  34.6677,2,   -999.0,5,    128.6,2,   153.04,2,    38.12,2,     0.00,2,     2.62,2, -999.000,9, -999.000,9, -999.000,9,-999.0000,9,  -999.00,9,-999.000,9,   -999,-999.0000,-999.000,-999.000,  1.4911,-999.000
     32MW893_2,  P04C,   104,  1,      7,      7,2,19890316,1354,  9.4933,-173.6667, 5679,   3501.5,   1.5519,  34.6790,2,  34.6791,2,   -999.0,5,    144.7,2,   150.18,2,    36.65,2,     0.00,2,     2.52,2, -999.000,9, -999.000,9, -999.000,9,-999.0000,9,  -999.00,9,-999.000,9,   -999,-999.0000,-999.000,-999.000,  1.2844,-999.000
     32MW893_2,  P04C,   104,  1,      6,      6,2,19890316,1354,  9.4933,-173.6667, 5679,   4001.0,   1.4000,  34.6881,2,  34.6907,2,   -999.0,5,    164.2,2,   143.09,2,    35.58,2,     0.01,2,     2.44,2, -999.000,9, -999.000,9, -999.000,9,-999.0000,9,  -999.00,9,-999.000,9,   -999,-999.0000,-999.000,-999.000,  1.0837,-999.000
     32MW893_2,  P04C,   104,  1,      5,      5,2,19890316,1354,  9.4933,-173.6667, 5679,   4503.1,   1.2940,  34.6972,2,  34.6983,2,   -999.0,5,    182.1,2,   132.37,2,    34.31,2,     0.01,2,     2.35,2, -999.000,9, -999.000,9, -999.000,9,-999.0000,9,  -999.00,9,-999.000,9,   -999,-999.0000,-999.000,-999.000,  0.9250,-999.000
     32MW893_2,  P04C,   104,  1,      4,      4,2,19890316,1354,  9.4933,-173.6667, 5679,   5002.5,   1.2920,  34.7011,2,  34.7019,2,   -999.0,5,    189.0,2,   128.72,2,    33.62,2,     0.01,2,     2.28,2, -999.000,9, -999.000,9, -999.000,9,-999.0000,9,  -999.00,9,-999.000,9,   -999,-999.0000,-999.000,-999.000,  0.8644,-999.000
     32MW893_2,  P04C,   104,  1,      3,      3,2,19890316,1354,  9.4933,-173.6667, 5679,   5302.7,   1.3120,  34.7026,2,  34.7027,2,   -999.0,5,    192.9,2,   127.25,2,    33.52,2,     0.01,2,     2.26,2, -999.000,9, -999.000,9, -999.000,9,-999.0000,9,  -999.00,9,-999.000,9,   -999,-999.0000,-999.000,-999.000,  0.8469,-999.000
     32MW893_2,  P04C,   104,  1,      2,      2,2,19890316,1354,  9.4933,-173.6667, 5679,   5601.9,   1.3480,  34.7039,2,  34.7034,2,   -999.0,5,    192.0,2,   127.64,2,    33.52,2,     0.01,2,     2.27,2,    0.001,6,    0.014,2, -999.000,9,-999.0000,9,  -999.00,9,-999.000,9,   -999,-999.0000,-999.000,-999.000,  0.8439,-999.000
     32MW893_2,  P04C,   104,  1,      1,      1,2,19890316,1354,  9.4933,-173.6667, 5679,   5836.7,   1.3780,  34.7046,2,  34.7011,2,   -999.0,5,    191.2,2,   127.44,2,    33.09,2,     0.01,2,     2.27,2, -999.000,9, -999.000,9, -999.000,9,-999.0000,9,  -999.00,9,-999.000,9,   -999,-999.0000,-999.000,-999.000,  0.8423,-999.000