BOTTLE,20020311WHPSIOdm
EXPOCODE,SECT_ID,STNNBR,CASTNO,SAMPNO,BTLNBR,BTLNBR_FLAG_W,DATE,TIME,LATITUDE,LONGITUDE,DEPTH,CTDPRS,CTDTMP,CTDSAL,CTDSAL_FLAG_W,SALNTY,SALNTY_FLAG_W,CTDOXY,CTDOXY_FLAG_W,OXYGEN,OXYGEN_FLAG_W,SILCAT,SILCAT_FLAG_W,NITRAT,NITRAT_FLAG_W,NITRIT,NITRIT_FLAG_W,PHSPHT,PHSPHT_FLAG_W,CFC-11,CFC-11_FLAG_W,CFC-12,CFC-12_FLAG_W,TRITUM,TRITUM_FLAG_W,HELIUM,HELIUM_FLAG_W,DELHE3,DELHE3_FLAG_W,NEON,NEON_FLAG_W,CTDRAW,HELIER,DELHER,NEONER,THETA,TRITER
,,,,,,,,,,,,DBAR,ITS-90,PSS-78,,PSS-78,,UMOL/KG,,UMOL/KG,,UMOL/KG,,UMOL/KG,,UMOL/KG,,UMOL/KG,,PMOL/KG,,PMOL/KG,,TU,,NMOL/KG,,PERCNT,,NMOL/KG,,,NMOL/KG,PERCNT,NMOL/KG,ITS-90,TU
     32MW893_2,  P04C,   105,  1,     24,     24,2,19890316,2300,  9.4917,-172.8367, 5880,      6.3,  27.2550,  34.4525,2,  34.4459,2,   -999.0,5,    228.6,2,     1.18,2,     0.00,2,     0.00,2,     0.16,2, -999.000,9, -999.000,9, -999.000,9,-999.0000,9,  -999.00,9,-999.000,9,   -999,-999.0000,-999.000,-999.000, 27.2535,-999.000
     32MW893_2,  P04C,   105,  1,     23,     23,2,19890316,2300,  9.4917,-172.8367, 5880,     46.7,  27.2140,  34.4580,2,  34.4585,2,   -999.0,5,    224.2,2,     1.57,2,     0.00,2,     0.00,2,     0.19,2, -999.000,9, -999.000,9, -999.000,9,-999.0000,9,  -999.00,9,-999.000,9,   -999,-999.0000,-999.000,-999.000, 27.2032,-999.000
     32MW893_2,  P04C,   105,  1,     22,     22,2,19890316,2300,  9.4917,-172.8367, 5880,     96.5,  21.1393,  34.8631,2,  34.8308,2,   -999.0,5,    178.6,2,     3.44,2,     3.62,2,     0.41,2,     0.48,2, -999.000,9, -999.000,9, -999.000,9,-999.0000,9,  -999.00,9,-999.000,9,   -999,-999.0000,-999.000,-999.000, 21.1208,-999.000
     32MW893_2,  P04C,   105,  1,     21,     21,2,19890316,2300,  9.4917,-172.8367, 5880,    147.5,  13.5455,  34.5166,2,  34.5366,2,   -999.0,5,     99.9,2,    16.24,2,    20.23,2,     0.00,2,     1.57,2, -999.000,9, -999.000,9, -999.000,9,-999.0000,9,  -999.00,9,-999.000,9,   -999,-999.0000,-999.000,-999.000, 13.5249,-999.000
     32MW893_2,  P04C,   105,  1,     20,     20,2,19890316,2300,  9.4917,-172.8367, 5880,    196.6,  11.4082,  34.6173,2,  34.6189,2,   -999.0,5,     31.7,2,    28.93,2,    32.06,2,     0.00,2,     2.38,2, -999.000,9, -999.000,9, -999.000,9,-999.0000,9,  -999.00,9,-999.000,9,   -999,-999.0000,-999.000,-999.000, 11.3835,-999.000
     32MW893_2,  P04C,   105,  1,     19,     19,2,19890316,2300,  9.4917,-172.8367, 5880,    247.5,  10.6324,  34.6893,2,  34.6838,2,   -999.0,5,     22.6,2,    31.88,2,    34.41,2,     0.00,2,     2.47,2, -999.000,9, -999.000,9, -999.000,9,-999.0000,9,  -999.00,9,-999.000,9,   -999,-999.0000,-999.000,-999.000, 10.6027,-999.000
     32MW893_2,  P04C,   105,  1,     18,     18,2,19890316,2300,  9.4917,-172.8367, 5880,    295.9,  10.1037,  34.6835,2,  34.6873,2,   -999.0,5,     24.3,2,    33.36,2,    35.28,2,     0.00,2,     2.50,2, -999.000,9, -999.000,9, -999.000,9,-999.0000,9,  -999.00,9,-999.000,9,   -999,-999.0000,-999.000,-999.000, 10.0691,-999.000
     32MW893_2,  P04C,   105,  1,     17,     17,2,19890316,2300,  9.4917,-172.8367, 5880,    346.5,   9.7698,  34.6859,2,  34.6808,2,   -999.0,5,     23.9,2,    34.74,2,    36.16,2,     0.00,2,     2.54,2, -999.000,9, -999.000,9, -999.000,9,-999.0000,9,  -999.00,9,-999.000,9,   -999,-999.0000,-999.000,-999.000,  9.7300,-999.000
     32MW893_2,  P04C,   105,  1,     16,     16,2,19890316,2300,  9.4917,-172.8367, 5880,    398.2,   9.2989,  34.6539,2,  34.6622,2,   -999.0,5,     22.2,2,    38.29,2,    36.95,2,     0.00,2,     2.63,2, -999.000,9, -999.000,9, -999.000,9,-999.0000,9,  -999.00,9,-999.000,9,   -999,-999.0000,-999.000,-999.000,  9.2544,-999.000
     32MW893_2,  P04C,   105,  1,     15,     15,2,19890316,2300,  9.4917,-172.8367, 5880,    498.6,   8.6251,  34.6225,2,  34.6235,2,   -999.0,5,     20.0,2,    44.00,2,    37.73,2,     0.00,2,     2.78,2, -999.000,9, -999.000,9, -999.000,9,-999.0000,9,  -999.00,9,-999.000,9,   -999,-999.0000,-999.000,-999.000,  8.5716,-999.000
     32MW893_2,  P04C,   105,  1,     14,     14,2,19890316,2300,  9.4917,-172.8367, 5880,    597.9,   7.3966,  34.5696,2,  34.5604,2,   -999.0,5,     29.5,2,    54.53,2,    39.39,2,     0.00,2,     2.87,2, -999.000,9, -999.000,9, -999.000,9,-999.0000,9,  -999.00,9,-999.000,9,   -999,-999.0000,-999.000,-999.000,  7.3376,-999.000
     32MW893_2,  P04C,   105,  1,     13,     13,2,19890316,2300,  9.4917,-172.8367, 5880,    799.0,   5.7492,  34.5404,2,  34.5402,2,   -999.0,5,     43.0,2,    74.51,2,    41.94,2,     0.00,2,     2.97,2, -999.000,9, -999.000,9, -999.000,9,-999.0000,9,  -999.00,9,-999.000,9,   -999,-999.0000,-999.000,-999.000,  5.6792,-999.000
     32MW893_2,  P04C,   105,  1,     12,     12,2,19890316,2300,  9.4917,-172.8367, 5880,    996.4,   4.7046,  34.5481,2,  34.5492,2,   -999.0,5,     52.6,2,    91.05,2,    42.42,2,     0.00,2,     3.01,2, -999.000,9, -999.000,9, -999.000,9,-999.0000,9,  -999.00,9,-999.000,9,   -999,-999.0000,-999.000,-999.000,  4.6238,-999.000
     32MW893_2,  P04C,   105,  1,     11,     11,2,19890316,2300,  9.4917,-172.8367, 5880,   1247.0,   3.7770,  34.5779,2,  34.5781,2,   -999.0,5,     66.5,2,   111.22,2,    42.23,2,     0.00,2,     2.98,2, -999.000,9, -999.000,9, -999.000,9,-999.0000,9,  -999.00,9,-999.000,9,   -999,-999.0000,-999.000,-999.000,  3.6823,-999.000
     32MW893_2,  P04C,   105,  1,     10,     10,2,19890316,2300,  9.4917,-172.8367, 5880,   1498.4,   3.1452,  34.5988,2,  34.5977,2,   -999.0,5,     79.5,2,   124.60,2,    41.35,2,     0.00,2,     2.93,2, -999.000,9, -999.000,9, -999.000,9,-999.0000,9,  -999.00,9,-999.000,9,   -999,-999.0000,-999.000,-999.000,  3.0359,-999.000
     32MW893_2,  P04C,   105,  1,      9,      9,2,19890316,2300,  9.4917,-172.8367, 5880,   2000.0,   2.2826,  34.6320,2,  34.6372,2,   -999.0,5,    102.1,2,   144.09,2,    40.08,2,     0.00,2,     2.81,2, -999.000,9, -999.000,9, -999.000,9,-999.0000,9,  -999.00,9,-999.000,9,   -999,-999.0000,-999.000,-999.000,  2.1418,-999.000
     32MW893_2,  P04C,   105,  1,      8,      8,2,19890316,2300,  9.4917,-172.8367, 5880,   2501.3,   1.9167,  34.6565,2,  34.6580,2,   -999.0,5,    116.0,2,   152.45,2,    39.20,2,     0.00,2,     2.74,2, -999.000,9, -999.000,9, -999.000,9,-999.0000,9,  -999.00,9,-999.000,9,   -999,-999.0000,-999.000,-999.000,  1.7379,-999.000
     32MW893_2,  P04C,   105,  1,      7,      7,2,19890316,2300,  9.4917,-172.8367, 5880,   3001.2,   1.7178,  34.6684,2,  34.6681,2,   -999.0,5,    127.3,2,   154.71,2,    38.51,2,     0.00,2,     2.65,2, -999.000,9, -999.000,9, -999.000,9,-999.0000,9,  -999.00,9,-999.000,9,   -999,-999.0000,-999.000,-999.000,  1.4961,-999.000
     32MW893_2,  P04C,   105,  1,      6,      6,2,19890316,2300,  9.4917,-172.8367, 5880,   3502.9,   1.5419,  34.6792,2,  34.6824,2,   -999.0,5,    145.1,2,   152.25,2,    37.34,2,     0.00,2,     2.56,2, -999.000,9, -999.000,9, -999.000,9,-999.0000,9,  -999.00,9,-999.000,9,   -999,-999.0000,-999.000,-999.000,  1.2744,-999.000
     32MW893_2,  P04C,   105,  1,      5,      5,2,19890316,2300,  9.4917,-172.8367, 5880,   4003.5,   1.3890,  34.6889,2,  34.6914,2,   -999.0,5,    164.2,2,   144.08,2,    35.87,2,     0.00,2,     2.46,2, -999.000,9, -999.000,9, -999.000,9,-999.0000,9,  -999.00,9,-999.000,9,   -999,-999.0000,-999.000,-999.000,  1.0727,-999.000
     32MW893_2,  P04C,   105,  1,      4,      4,2,19890316,2300,  9.4917,-172.8367, 5880,   4505.1,   1.3040,  34.6969,2,  34.6964,2,   -999.0,5,    181.6,2,   135.03,2,    34.80,2,     0.00,2,     2.38,2, -999.000,9, -999.000,9, -999.000,9,-999.0000,9,  -999.00,9,-999.000,9,   -999,-999.0000,-999.000,-999.000,  0.9345,-999.000
     32MW893_2,  P04C,   105,  1,      3,      3,2,19890316,2300,  9.4917,-172.8367, 5880,   5005.3,   1.3030,  34.7006,2,  34.7048,2,   -999.0,5,    188.1,2,   130.20,2,    34.11,2,     0.00,2,     2.32,2, -999.000,9, -999.000,9, -999.000,9,-999.0000,9,  -999.00,9,-999.000,9,   -999,-999.0000,-999.000,-999.000,  0.8747,-999.000
     32MW893_2,  P04C,   105,  1,      1,      1,2,19890316,2300,  9.4917,-172.8367, 5880,   5945.8,   1.3910,  34.7041,2,-999.0000,5,   -999.0,5,    190.3,2,   129.52,2,    33.89,2,     0.01,2,     2.31,2, -999.000,9, -999.000,9, -999.000,9,-999.0000,9,  -999.00,9,-999.000,9,   -999,-999.0000,-999.000,-999.000,  0.8404,-999.000
     32MW893_2,  P04C,   106,  1,     24,     24,2,19890317,0823,  9.4950,-172.0033, 5648,      7.8,  27.0250,  34.4092,2,  34.4079,2,   -999.0,5,    221.6,2,     1.28,2,     0.00,2,     0.00,2,     0.17,2, -999.000,9, -999.000,9, -999.000,9,-999.0000,9,  -999.00,9,-999.000,9,   -999,-999.0000,-999.000,-999.000, 27.0232,-999.000
     32MW893_2,  P04C,   106,  1,     23,     23,2,19890317,0823,  9.4950,-172.0033, 5648,     47.7,  27.0210,  34.4067,2,  34.4043,2,   -999.0,5,    215.1,2,     1.28,2,     0.00,2,     0.00,2,     0.17,2, -999.000,9, -999.000,9, -999.000,9,-999.0000,9,  -999.00,9,-999.000,9,   -999,-999.0000,-999.000,-999.000, 27.0101,-999.000
     32MW893_2,  P04C,   106,  1,     22,     22,2,19890317,0823,  9.4950,-172.0033, 5648,     97.1,  21.6272,  34.8948,2,  34.8934,2,   -999.0,5,    200.7,2,     1.96,2,     0.29,2,     0.03,2,     0.28,2, -999.000,9, -999.000,9, -999.000,9,-999.0000,9,  -999.00,9,-999.000,9,   -999,-999.0000,-999.000,-999.000, 21.6083,-999.000
     32MW893_2,  P04C,   106,  1,     21,     21,2,19890317,0823,  9.4950,-172.0033, 5648,    148.0,  15.0850,  34.5734,2,  34.5573,2,   -999.0,5,    136.0,2,    11.22,2,    14.47,2,     0.00,2,     1.15,2, -999.000,9, -999.000,9, -999.000,9,-999.0000,9,  -999.00,9,-999.000,9,   -999,-999.0000,-999.000,-999.000, 15.0626,-999.000
     32MW893_2,  P04C,   106,  1,     20,     20,2,19890317,0823,  9.4950,-172.0033, 5648,    196.7,  11.7591,  34.4691,2,  34.4634,2,   -999.0,5,     82.6,2,    23.63,2,    25.32,2,     0.00,2,     1.89,2, -999.000,9, -999.000,9, -999.000,9,-999.0000,9,  -999.00,9,-999.000,9,   -999,-999.0000,-999.000,-999.000, 11.7339,-999.000
     32MW893_2,  P04C,   106,  1,     19,     19,2,19890317,0823,  9.4950,-172.0033, 5648,    295.8,   9.9857,  34.6692,2,  34.6708,2,   -999.0,5,     23.0,2,    33.86,2,    34.89,2,     0.00,2,     2.48,2, -999.000,9, -999.000,9, -999.000,9,-999.0000,9,  -999.00,9,-999.000,9,   -999,-999.0000,-999.000,-999.000,  9.9514,-999.000
     32MW893_2,  P04C,   106,  1,     18,     18,2,19890317,0823,  9.4950,-172.0033, 5648,    397.8,   9.1520,  34.6324,2,  34.6313,2,   -999.0,5,     27.4,2,    37.79,2,    36.17,2,     0.00,2,     2.57,2, -999.000,9, -999.000,9, -999.000,9,-999.0000,9,  -999.00,9,-999.000,9,   -999,-999.0000,-999.000,-999.000,  9.1080,-999.000
     32MW893_2,  P04C,   106,  1,     17,     17,2,19890317,0823,  9.4950,-172.0033, 5648,    496.4,   8.3333,  34.5912,2,  34.5926,2,   -999.0,5,     36.5,2,    44.19,2,    36.75,2,     0.00,2,     2.63,2, -999.000,9, -999.000,9, -999.000,9,-999.0000,9,  -999.00,9,-999.000,9,   -999,-999.0000,-999.000,-999.000,  8.2812,-999.000
     32MW893_2,  P04C,   106,  1,     16,     16,2,19890317,0823,  9.4950,-172.0033, 5648,    597.2,   7.3096,  34.5599,2,  34.5551,2,   -999.0,5,     32.2,2,    54.23,2,    38.71,2,     0.00,2,     2.81,2, -999.000,9, -999.000,9, -999.000,9,-999.0000,9,  -999.00,9,-999.000,9,   -999,-999.0000,-999.000,-999.000,  7.2512,-999.000
     32MW893_2,  P04C,   106,  1,     15,     15,2,19890317,0823,  9.4950,-172.0033, 5648,    698.6,   6.5509,  34.5389,2,  34.5384,2,   -999.0,5,     37.4,2,    63.19,2,    40.08,2,     0.00,2,     2.89,2, -999.000,9, -999.000,9, -999.000,9,-999.0000,9,  -999.00,9,-999.000,9,   -999,-999.0000,-999.000,-999.000,  6.4859,-999.000
     32MW893_2,  P04C,   106,  1,     14,     14,2,19890317,0823,  9.4950,-172.0033, 5648,    797.6,   5.6962,  34.5329,2,  34.5447,2,   -999.0,5,     47.4,2,    73.42,2,    40.86,2,     0.00,2,     2.90,2, -999.000,9, -999.000,9, -999.000,9,-999.0000,9,  -999.00,9,-999.000,9,   -999,-999.0000,-999.000,-999.000,  5.6266,-999.000
     32MW893_2,  P04C,   106,  1,     13,     13,2,19890317,0823,  9.4950,-172.0033, 5648,    997.3,   4.6457,  34.5507,2,  34.5494,2,   -999.0,5,     55.6,2,    91.24,2,    41.64,2,     0.00,2,     2.97,2, -999.000,9, -999.000,9, -999.000,9,-999.0000,9,  -999.00,9,-999.000,9,   -999,-999.0000,-999.000,-999.000,  4.5652,-999.000
     32MW893_2,  P04C,   106,  1,     12,     12,2,19890317,0823,  9.4950,-172.0033, 5648,   1248.4,   3.6690,  34.5766,2,  34.5757,2,   -999.0,5,     73.9,2,   111.22,2,    40.86,2,     0.00,2,     2.90,2, -999.000,9, -999.000,9, -999.000,9,-999.0000,9,  -999.00,9,-999.000,9,   -999,-999.0000,-999.000,-999.000,  3.5752,-999.000
     32MW893_2,  P04C,   106,  1,     11,     11,2,19890317,0823,  9.4950,-172.0033, 5648,   1498.0,   3.0323,  34.5958,2,  34.5950,2,   -999.0,5,     84.7,2,   124.31,2,    40.37,2,     0.00,2,     2.84,2, -999.000,9, -999.000,9, -999.000,9,-999.0000,9,  -999.00,9,-999.000,9,   -999,-999.0000,-999.000,-999.000,  2.9242,-999.000
     32MW893_2,  P04C,   106,  1,     10,     10,2,19890317,0823,  9.4950,-172.0033, 5648,   2000.0,   2.1956,  34.6367,2,  34.6354,2,   -999.0,5,    104.7,2,   142.41,2,    39.29,2,     0.00,2,     2.76,2, -999.000,9, -999.000,9, -999.000,9,-999.0000,9,  -999.00,9,-999.000,9,   -999,-999.0000,-999.000,-999.000,  2.0561,-999.000
     32MW893_2,  P04C,   106,  1,      9,      9,2,19890317,0823,  9.4950,-172.0033, 5648,   2499.5,   1.8608,  34.6594,2,  34.6600,2,   -999.0,5,    116.4,2,   150.78,2,    38.71,2,     0.00,2,     2.67,2, -999.000,9, -999.000,9, -999.000,9,-999.0000,9,  -999.00,9,-999.000,9,   -999,-999.0000,-999.000,-999.000,  1.6831,-999.000
     32MW893_2,  P04C,   106,  1,      8,      8,2,19890317,0823,  9.4950,-172.0033, 5648,   3002.2,   1.6508,  34.6718,2,  34.6720,2,   -999.0,5,    131.7,2,   151.76,2,    37.73,2,     0.00,2,     2.61,2, -999.000,9, -999.000,9, -999.000,9,-999.0000,9,  -999.00,9,-999.000,9,   -999,-999.0000,-999.000,-999.000,  1.4305,-999.000
     32MW893_2,  P04C,   106,  1,      7,      7,2,19890317,0823,  9.4950,-172.0033, 5648,   3502.2,   1.4819,  34.6819,2,  34.6836,2,   -999.0,5,    149.5,2,   147.92,2,    36.26,2,     0.00,2,     2.51,2, -999.000,9, -999.000,9, -999.000,9,-999.0000,9,  -999.00,9,-999.000,9,   -999,-999.0000,-999.000,-999.000,  1.2160,-999.000
     32MW893_2,  P04C,   106,  1,      6,      6,2,19890317,0823,  9.4950,-172.0033, 5648,   4004.5,   1.3570,  34.6905,2,  34.6922,2,   -999.0,5,    168.6,2,   139.16,2,    35.19,2,     0.00,2,     2.41,2, -999.000,9, -999.000,9, -999.000,9,-999.0000,9,  -999.00,9,-999.000,9,   -999,-999.0000,-999.000,-999.000,  1.0415,-999.000
     32MW893_2,  P04C,   106,  1,      5,      5,2,19890317,0823,  9.4950,-172.0033, 5648,   4504.3,   1.2820,  34.6984,2,  34.7005,2,   -999.0,5,    183.8,2,   130.40,2,    33.92,2,     0.00,2,     2.34,2, -999.000,9, -999.000,9, -999.000,9,-999.0000,9,  -999.00,9,-999.000,9,   -999,-999.0000,-999.000,-999.000,  0.9132,-999.000
     32MW893_2,  P04C,   106,  1,      4,      4,2,19890317,0823,  9.4950,-172.0033, 5648,   5004.6,   1.2900,  34.7012,2,  34.7023,2,   -999.0,5,    188.6,2,   127.25,2,    33.62,2,     0.00,2,     2.29,2, -999.000,9, -999.000,9, -999.000,9,-999.0000,9,  -999.00,9,-999.000,9,   -999,-999.0000,-999.000,-999.000,  0.8622,-999.000
     32MW893_2,  P04C,   106,  1,      3,      3,2,19890317,0823,  9.4950,-172.0033, 5648,   5254.4,   1.3110,  34.7025,2,  34.7042,2,   -999.0,5,    191.2,2,   126.86,2,    33.43,2,     0.00,2,     2.28,2, -999.000,9, -999.000,9, -999.000,9,-999.0000,9,  -999.00,9,-999.000,9,   -999,-999.0000,-999.000,-999.000,  0.8520,-999.000
     32MW893_2,  P04C,   106,  1,      2,      2,2,19890317,0823,  9.4950,-172.0033, 5648,   5503.4,   1.3360,  34.7031,2,  34.7028,2,   -999.0,5,    191.2,2,   126.56,2,    33.43,2,     0.00,2,     2.27,2, -999.000,9, -999.000,9, -999.000,9,-999.0000,9,  -999.00,9,-999.000,9,   -999,-999.0000,-999.000,-999.000,  0.8449,-999.000
     32MW893_2,  P04C,   106,  1,      1,      1,2,19890317,0823,  9.4950,-172.0033, 5648,   5680.5,   1.3560,  34.7043,2,  34.6995,2,   -999.0,5,    192.9,2,   126.56,2,    33.43,2,     0.00,2,     2.27,2, -999.000,9, -999.000,9, -999.000,9,-999.0000,9,  -999.00,9,-999.000,9,   -999,-999.0000,-999.000,-999.000,  0.8415,-999.000