BOTTLE,20020311WHPSIOdm
EXPOCODE,SECT_ID,STNNBR,CASTNO,SAMPNO,BTLNBR,BTLNBR_FLAG_W,DATE,TIME,LATITUDE,LONGITUDE,DEPTH,CTDPRS,CTDTMP,CTDSAL,CTDSAL_FLAG_W,SALNTY,SALNTY_FLAG_W,CTDOXY,CTDOXY_FLAG_W,OXYGEN,OXYGEN_FLAG_W,SILCAT,SILCAT_FLAG_W,NITRAT,NITRAT_FLAG_W,NITRIT,NITRIT_FLAG_W,PHSPHT,PHSPHT_FLAG_W,CFC-11,CFC-11_FLAG_W,CFC-12,CFC-12_FLAG_W,TRITUM,TRITUM_FLAG_W,HELIUM,HELIUM_FLAG_W,DELHE3,DELHE3_FLAG_W,NEON,NEON_FLAG_W,CTDRAW,HELIER,DELHER,NEONER,THETA,TRITER
,,,,,,,,,,,,DBAR,ITS-90,PSS-78,,PSS-78,,UMOL/KG,,UMOL/KG,,UMOL/KG,,UMOL/KG,,UMOL/KG,,UMOL/KG,,PMOL/KG,,PMOL/KG,,TU,,NMOL/KG,,PERCNT,,NMOL/KG,,,NMOL/KG,PERCNT,NMOL/KG,ITS-90,TU
     32MW893_2,  P04C,   111,  1,     24,     24,2,19890319,0111,  9.4950,-167.8367, 5126,      6.8,  27.1970,  34.5187,2,  34.5160,2,   -999.0,5,    227.3,2,     1.48,2,     0.00,2,     0.00,2,     0.21,2, -999.000,9, -999.000,9, -999.000,9,-999.0000,9,  -999.00,9,-999.000,9,   -999,-999.0000,-999.000,-999.000, 27.1954,-999.000
     32MW893_2,  P04C,   111,  1,     23,     23,2,19890319,0111,  9.4950,-167.8367, 5126,     45.5,  27.0310,  34.5130,2,  34.5135,2,   -999.0,5,    213.4,2,     1.48,2,     0.00,2,     0.00,2,     0.22,2, -999.000,9, -999.000,9, -999.000,9,-999.0000,9,  -999.00,9,-999.000,9,   -999,-999.0000,-999.000,-999.000, 27.0206,-999.000
     32MW893_2,  P04C,   111,  1,     22,     22,2,19890319,0111,  9.4950,-167.8367, 5126,     96.2,  21.1143,  34.9323,2,  34.8300,2,   -999.0,5,    195.1,2,     3.24,2,     1.56,2,     0.07,2,     0.38,2, -999.000,9, -999.000,9, -999.000,9,-999.0000,9,  -999.00,9,-999.000,9,   -999,-999.0000,-999.000,-999.000, 21.0959,-999.000
     32MW893_2,  P04C,   111,  1,     21,     21,2,19890319,0111,  9.4950,-167.8367, 5126,    144.9,  13.6045,  34.4008,2,  34.5520,2,   -999.0,5,    103.4,2,    15.65,2,    19.45,2,     0.03,2,     1.52,2, -999.000,9, -999.000,9, -999.000,9,-999.0000,9,  -999.00,9,-999.000,9,   -999,-999.0000,-999.000,-999.000, 13.5841,-999.000
     32MW893_2,  P04C,   111,  1,     20,     20,2,19890319,0111,  9.4950,-167.8367, 5126,    197.4,  11.1233,  34.6668,2,  34.6539,2,   -999.0,5,     26.5,2,    29.92,2,    32.94,2,     0.00,2,     2.42,2, -999.000,9, -999.000,9, -999.000,9,-999.0000,9,  -999.00,9,-999.000,9,   -999,-999.0000,-999.000,-999.000, 11.0989,-999.000
     32MW893_2,  P04C,   111,  1,     19,     19,2,19890319,0111,  9.4950,-167.8367, 5126,    246.6,  10.4905,  34.6978,2,  34.6938,2,   -999.0,5,     21.3,2,    31.88,2,    34.60,2,     0.00,2,     2.48,2, -999.000,9, -999.000,9, -999.000,9,-999.0000,9,  -999.00,9,-999.000,9,   -999,-999.0000,-999.000,-999.000, 10.4610,-999.000
     32MW893_2,  P04C,   111,  1,     18,     18,2,19890319,0111,  9.4950,-167.8367, 5126,    296.5,   9.9677,  34.6984,2,  34.6873,2,   -999.0,5,     22.6,2,    33.66,2,    35.58,2,     0.00,2,     2.51,2, -999.000,9, -999.000,9, -999.000,9,-999.0000,9,  -999.00,9,-999.000,9,   -999,-999.0000,-999.000,-999.000,  9.9333,-999.000
     32MW893_2,  P04C,   111,  1,     17,     17,2,19890319,0111,  9.4950,-167.8367, 5126,    347.5,   9.5138,  34.6513,2,  34.6773,2,   -999.0,5,     20.4,2,    36.21,2,    36.56,2,     0.00,2,     2.60,2, -999.000,9, -999.000,9, -999.000,9,-999.0000,9,  -999.00,9,-999.000,9,   -999,-999.0000,-999.000,-999.000,  9.4746,-999.000
     32MW893_2,  P04C,   111,  1,     16,     16,2,19890319,0111,  9.4950,-167.8367, 5126,    397.5,   8.9231,  34.6264,2,  34.6398,2,   -999.0,5,     19.1,2,    40.64,2,    37.24,2,     0.00,2,     2.72,2, -999.000,9, -999.000,9, -999.000,9,-999.0000,9,  -999.00,9,-999.000,9,   -999,-999.0000,-999.000,-999.000,  8.8798,-999.000
     32MW893_2,  P04C,   111,  1,     15,     15,2,19890319,0111,  9.4950,-167.8367, 5126,    495.8,   8.0704,  34.5870,2,  34.5969,2,   -999.0,5,     16.1,2,    49.01,2,    38.32,2,     0.00,2,     2.88,2, -999.000,9, -999.000,9, -999.000,9,-999.0000,9,  -999.00,9,-999.000,9,   -999,-999.0000,-999.000,-999.000,  8.0193,-999.000
     32MW893_2,  P04C,   111,  1,     14,     14,2,19890319,0111,  9.4950,-167.8367, 5126,    598.4,   6.9577,  34.5491,2,  34.5722,2,   -999.0,5,     28.7,2,    59.35,2,    39.88,2,     0.00,2,     2.93,2, -999.000,9, -999.000,9, -999.000,9,-999.0000,9,  -999.00,9,-999.000,9,   -999,-999.0000,-999.000,-999.000,  6.9006,-999.000
     32MW893_2,  P04C,   111,  1,     13,     13,2,19890319,0111,  9.4950,-167.8367, 5126,    805.7,   5.5423,  34.5445,2,  34.5457,2,   -999.0,5,     30.9,2,    75.98,2,    43.01,2,     0.00,2,     3.12,2, -999.000,9, -999.000,9, -999.000,9,-999.0000,9,  -999.00,9,-999.000,9,   -999,-999.0000,-999.000,-999.000,  5.4729,-999.000
     32MW893_2,  P04C,   111,  1,     12,     12,2,19890319,0111,  9.4950,-167.8367, 5126,    994.6,   4.6846,  34.5511,2,  34.5559,2,   -999.0,5,     50.4,2,    90.75,2,    42.52,2,     0.00,2,     3.07,2, -999.000,9, -999.000,9, -999.000,9,-999.0000,9,  -999.00,9,-999.000,9,   -999,-999.0000,-999.000,-999.000,  4.6041,-999.000
     32MW893_2,  P04C,   111,  1,     11,     11,2,19890319,0111,  9.4950,-167.8367, 5126,   1246.2,   3.7430,  34.5748,2,  34.5802,2,   -999.0,5,     63.9,2,   110.53,2,    42.33,2,     0.00,2,     3.05,2, -999.000,9, -999.000,9, -999.000,9,-999.0000,9,  -999.00,9,-999.000,9,   -999,-999.0000,-999.000,-999.000,  3.6487,-999.000
     32MW893_2,  P04C,   111,  1,     10,     10,2,19890319,0111,  9.4950,-167.8367, 5126,   1497.7,   3.0693,  34.6013,2,  34.5999,2,   -999.0,5,     80.8,2,   124.79,2,    41.25,2,     0.00,2,     2.94,2, -999.000,9, -999.000,9, -999.000,9,-999.0000,9,  -999.00,9,-999.000,9,   -999,-999.0000,-999.000,-999.000,  2.9608,-999.000
     32MW893_2,  P04C,   111,  1,      9,      9,2,19890319,0111,  9.4950,-167.8367, 5126,   1998.0,   2.2686,  34.6344,2,  34.6333,2,   -999.0,5,    101.7,2,   142.71,2,    39.88,2,     0.00,2,     2.82,2, -999.000,9, -999.000,9, -999.000,9,-999.0000,9,  -999.00,9,-999.000,9,   -999,-999.0000,-999.000,-999.000,  2.1282,-999.000
     32MW893_2,  P04C,   111,  1,      8,      8,2,19890319,0111,  9.4950,-167.8367, 5126,   2397.6,   1.9727,  34.6524,2,  34.6518,2,   -999.0,5,    113.4,2,   148.90,2,    39.20,2,     0.00,2,     2.76,2, -999.000,9, -999.000,9, -999.000,9,-999.0000,9,  -999.00,9,-999.000,9,   -999,-999.0000,-999.000,-999.000,  1.8022,-999.000
     32MW893_2,  P04C,   111,  1,      7,      7,2,19890319,0111,  9.4950,-167.8367, 5126,   2999.6,   1.7138,  34.6710,2,  34.6722,2,   -999.0,5,    129.0,2,   151.56,2,    38.22,2,     0.00,2,     2.65,2, -999.000,9, -999.000,9, -999.000,9,-999.0000,9,  -999.00,9,-999.000,9,   -999,-999.0000,-999.000,-999.000,  1.4923,-999.000
     32MW893_2,  P04C,   111,  1,      6,      6,2,19890319,0111,  9.4950,-167.8367, 5126,   3502.9,   1.5479,  34.6802,2,  34.6783,2,   -999.0,5,    144.7,2,   149.99,2,    37.14,2,     0.00,2,     2.58,2, -999.000,9, -999.000,9, -999.000,9,-999.0000,9,  -999.00,9,-999.000,9,   -999,-999.0000,-999.000,-999.000,  1.2803,-999.000
     32MW893_2,  P04C,   111,  1,      5,      5,2,19890319,0111,  9.4950,-167.8367, 5126,   4005.0,   1.4150,  34.6877,2,  34.6889,2,   -999.0,5,    162.5,2,   143.49,2,    35.97,2,     0.00,2,     2.45,2, -999.000,9, -999.000,9, -999.000,9,-999.0000,9,  -999.00,9,-999.000,9,   -999,-999.0000,-999.000,-999.000,  1.0979,-999.000
     32MW893_2,  P04C,   111,  1,      4,      4,2,19890319,0111,  9.4950,-167.8367, 5126,   4253.3,   1.3350,  34.6940,2,  34.6950,2,   -999.0,5,    174.2,2,   136.90,2,    35.19,2,     0.00,2,     2.41,2, -999.000,9, -999.000,9, -999.000,9,-999.0000,9,  -999.00,9,-999.000,9,   -999,-999.0000,-999.000,-999.000,  0.9930,-999.000
     32MW893_2,  P04C,   111,  1,      3,      3,2,19890319,0111,  9.4950,-167.8367, 5126,   4502.5,   1.3120,  34.6968,2,  34.6985,2,   -999.0,5,    181.2,2,   133.15,2,    34.60,2,     0.00,2,     2.38,2, -999.000,9, -999.000,9, -999.000,9,-999.0000,9,  -999.00,9,-999.000,9,   -999,-999.0000,-999.000,-999.000,  0.9425,-999.000
     32MW893_2,  P04C,   111,  1,      2,      2,2,19890319,0111,  9.4950,-167.8367, 5126,   4755.2,   1.2980,  34.6993,2,  34.6985,2,   -999.0,5,    186.4,2,   130.30,2,    34.40,2,     0.00,2,     2.37,2, -999.000,9, -999.000,9, -999.000,9,-999.0000,9,  -999.00,9,-999.000,9,   -999,-999.0000,-999.000,-999.000,  0.8997,-999.000
     32MW893_2,  P04C,   111,  1,      1,      1,2,19890319,0111,  9.4950,-167.8367, 5126,   5219.7,   1.3350,  34.7002,2,-999.0000,5,   -999.0,5,    186.4,2,   128.63,2,    34.31,2,     0.00,2,     2.35,2, -999.000,9, -999.000,9, -999.000,9,-999.0000,9,  -999.00,9,-999.000,9,   -999,-999.0000,-999.000,-999.000,  0.8795,-999.000
     32MW893_2,  P04C,   112,  1,     24,     24,2,19890319,0920,  9.4967,-167.0100, 5045,      8.7,  26.6401,  34.4271,2,  34.4259,2,   -999.0,5,    219.5,2,     0.89,2,     0.00,2,     0.00,2,     0.19,2, -999.000,9, -999.000,9, -999.000,9,-999.0000,9,  -999.00,9,-999.000,9,   -999,-999.0000,-999.000,-999.000, 26.6381,-999.000
     32MW893_2,  P04C,   112,  1,     23,     23,2,19890319,0920,  9.4967,-167.0100, 5045,     46.0,  26.5691,  34.4300,2,  34.4261,2,   -999.0,5,    217.7,2,     0.89,2,     0.00,2,     0.00,2,     0.17,2, -999.000,9, -999.000,9, -999.000,9,-999.0000,9,  -999.00,9,-999.000,9,   -999,-999.0000,-999.000,-999.000, 26.5587,-999.000
     32MW893_2,  P04C,   112,  1,     22,     22,2,19890319,0920,  9.4967,-167.0100, 5045,     96.8,  20.5835,  34.9150,2,  34.8900,2,   -999.0,5,    196.4,2,     1.77,2,     1.07,2,     0.06,2,     0.34,2, -999.000,9, -999.000,9, -999.000,9,-999.0000,9,  -999.00,9,-999.000,9,   -999,-999.0000,-999.000,-999.000, 20.5653,-999.000
     32MW893_2,  P04C,   112,  1,     21,     21,2,19890319,0920,  9.4967,-167.0100, 5045,    146.4,  14.9301,  34.5731,2,  34.5751,2,   -999.0,5,    112.1,2,    13.09,2,    17.50,2,     0.06,2,     1.38,2, -999.000,9, -999.000,9, -999.000,9,-999.0000,9,  -999.00,9,-999.000,9,   -999,-999.0000,-999.000,-999.000, 14.9081,-999.000
     32MW893_2,  P04C,   112,  1,     20,     20,2,19890319,0920,  9.4967,-167.0100, 5045,    196.6,  11.8231,  34.6276,2,  34.6362,2,   -999.0,5,     30.9,2,    26.67,2,    31.28,2,     0.00,2,     2.32,2, -999.000,9, -999.000,9, -999.000,9,-999.0000,9,  -999.00,9,-999.000,9,   -999,-999.0000,-999.000,-999.000, 11.7978,-999.000
     32MW893_2,  P04C,   112,  1,     19,     19,2,19890319,0920,  9.4967,-167.0100, 5045,    297.8,  10.0507,  34.6814,2,  34.6789,2,   -999.0,5,     17.4,2,    33.56,2,    35.19,2,     0.00,2,     2.55,2, -999.000,9, -999.000,9, -999.000,9,-999.0000,9,  -999.00,9,-999.000,9,   -999,-999.0000,-999.000,-999.000, 10.0160,-999.000
     32MW893_2,  P04C,   112,  1,     18,     18,2,19890319,0920,  9.4967,-167.0100, 5045,    397.3,   9.1480,  34.6510,2,  34.6443,2,   -999.0,5,     15.2,2,    38.97,2,    36.85,2,     0.00,2,     2.71,2, -999.000,9, -999.000,9, -999.000,9,-999.0000,9,  -999.00,9,-999.000,9,   -999,-999.0000,-999.000,-999.000,  9.1041,-999.000
     32MW893_2,  P04C,   112,  1,     17,     17,2,19890319,0920,  9.4967,-167.0100, 5045,    496.6,   8.4452,  34.6084,2,  34.6091,2,   -999.0,5,     21.3,2,    44.29,2,    37.73,2,     0.00,2,     2.77,2, -999.000,9, -999.000,9, -999.000,9,-999.0000,9,  -999.00,9,-999.000,9,   -999,-999.0000,-999.000,-999.000,  8.3926,-999.000
     32MW893_2,  P04C,   112,  1,     16,     16,2,19890319,0920,  9.4967,-167.0100, 5045,    596.2,   7.3486,  34.5661,2,  34.5616,2,   -999.0,5,     23.5,2,    54.82,2,    39.49,2,     0.00,2,     2.91,2, -999.000,9, -999.000,9, -999.000,9,-999.0000,9,  -999.00,9,-999.000,9,   -999,-999.0000,-999.000,-999.000,  7.2900,-999.000
     32MW893_2,  P04C,   112,  1,     15,     15,2,19890319,0920,  9.4967,-167.0100, 5045,    698.8,   6.1870,  34.5401,2,  34.5366,2,   -999.0,5,   -999.0,5,    68.02,2,    41.64,2,     0.00,2,     3.01,2, -999.000,9, -999.000,9, -999.000,9,-999.0000,9,  -999.00,9,-999.000,9,   -999,-999.0000,-999.000,-999.000,  6.1239,-999.000
     32MW893_2,  P04C,   112,  1,     14,     14,2,19890319,0920,  9.4967,-167.0100, 5045,    797.2,   5.5433,  34.5453,2,  34.5441,2,   -999.0,5,     31.3,2,    77.07,2,    42.91,2,     0.00,2,     3.10,2, -999.000,9, -999.000,9, -999.000,9,-999.0000,9,  -999.00,9,-999.000,9,   -999,-999.0000,-999.000,-999.000,  5.4747,-999.000
     32MW893_2,  P04C,   112,  1,     13,     13,2,19890319,0920,  9.4967,-167.0100, 5045,    998.8,   4.6187,  34.5547,2,  34.5514,2,   -999.0,5,     48.7,2,    92.52,2,    42.72,2,     0.00,2,     3.07,2, -999.000,9, -999.000,9, -999.000,9,-999.0000,9,  -999.00,9,-999.000,9,   -999,-999.0000,-999.000,-999.000,  4.5383,-999.000
     32MW893_2,  P04C,   112,  1,     12,     12,2,19890319,0920,  9.4967,-167.0100, 5045,   1245.4,   3.6860,  34.5769,2,  34.5744,2,   -999.0,5,     69.5,2,   110.63,2,    41.45,2,     0.00,2,     2.96,2, -999.000,9, -999.000,9, -999.000,9,-999.0000,9,  -999.00,9,-999.000,9,   -999,-999.0000,-999.000,-999.000,  3.5923,-999.000
     32MW893_2,  P04C,   112,  1,     11,     11,2,19890319,0920,  9.4967,-167.0100, 5045,   1499.7,   3.0453,  34.5993,2,  34.5997,2,   -999.0,5,     81.3,2,   124.90,2,    41.25,2,     0.00,2,     2.92,2, -999.000,9, -999.000,9, -999.000,9,-999.0000,9,  -999.00,9,-999.000,9,   -999,-999.0000,-999.000,-999.000,  2.9369,-999.000
     32MW893_2,  P04C,   112,  1,     10,     10,2,19890319,0920,  9.4967,-167.0100, 5045,   1998.6,   2.2656,  34.6361,2,  34.6353,2,   -999.0,5,    100.4,2,   142.32,2,    39.88,2,     0.00,2,     2.82,2, -999.000,9, -999.000,9, -999.000,9,-999.0000,9,  -999.00,9,-999.000,9,   -999,-999.0000,-999.000,-999.000,  2.1252,-999.000
     32MW893_2,  P04C,   112,  1,      9,      9,2,19890319,0920,  9.4967,-167.0100, 5045,   2503.2,   1.9157,  34.6591,2,  34.6586,2,   -999.0,5,    115.1,2,   150.09,2,    39.10,2,     0.00,2,     2.75,2, -999.000,9, -999.000,9, -999.000,9,-999.0000,9,  -999.00,9,-999.000,9,   -999,-999.0000,-999.000,-999.000,  1.7367,-999.000
     32MW893_2,  P04C,   112,  1,      8,      8,2,19890319,0920,  9.4967,-167.0100, 5045,   3002.8,   1.7868,  34.6678,2,  34.6685,2,   -999.0,5,    123.4,2,   151.76,2,    38.61,2,     0.00,2,     2.67,2, -999.000,9, -999.000,9, -999.000,9,-999.0000,9,  -999.00,9,-999.000,9,   -999,-999.0000,-999.000,-999.000,  1.5634,-999.000
     32MW893_2,  P04C,   112,  1,      7,      7,2,19890319,0920,  9.4967,-167.0100, 5045,   3504.7,   1.4909,  34.6811,2,  34.6806,2,   -999.0,5,    146.9,2,   148.90,2,    36.95,2,     0.00,2,     2.55,2, -999.000,9, -999.000,9, -999.000,9,-999.0000,9,  -999.00,9,-999.000,9,   -999,-999.0000,-999.000,-999.000,  1.2246,-999.000
     32MW893_2,  P04C,   112,  1,      6,      6,2,19890319,0920,  9.4967,-167.0100, 5045,   4005.1,   1.3660,  34.6906,2,  34.6916,2,   -999.0,5,    167.3,2,   140.93,2,    35.58,2,     0.00,2,     2.45,2, -999.000,9, -999.000,9, -999.000,9,-999.0000,9,  -999.00,9,-999.000,9,   -999,-999.0000,-999.000,-999.000,  1.0502,-999.000
     32MW893_2,  P04C,   112,  1,      5,      5,2,19890319,0920,  9.4967,-167.0100, 5045,   4254.2,   1.3300,  34.6940,2,  34.6960,2,   -999.0,5,    174.2,2,   136.99,2,    35.09,2,     0.00,2,     2.41,2, -999.000,9, -999.000,9, -999.000,9,-999.0000,9,  -999.00,9,-999.000,9,   -999,-999.0000,-999.000,-999.000,  0.9880,-999.000
     32MW893_2,  P04C,   112,  1,      4,      4,2,19890319,0920,  9.4967,-167.0100, 5045,   4505.4,   1.3050,  34.6981,2,  34.6989,2,   -999.0,5,    181.2,2,   132.08,2,    34.80,2,     0.00,2,     2.39,2, -999.000,9, -999.000,9, -999.000,9,-999.0000,9,  -999.00,9,-999.000,9,   -999,-999.0000,-999.000,-999.000,  0.9354,-999.000
     32MW893_2,  P04C,   112,  1,      3,      3,2,19890319,0920,  9.4967,-167.0100, 5045,   4755.4,   1.3070,  34.6994,2,-999.0000,5,   -999.0,5,    183.4,2,   130.99,2,    34.50,2,     0.00,2,     2.36,2, -999.000,9, -999.000,9, -999.000,9,-999.0000,9,  -999.00,9,-999.000,9,   -999,-999.0000,-999.000,-999.000,  0.9084,-999.000
     32MW893_2,  P04C,   112,  1,      2,      2,2,19890319,0920,  9.4967,-167.0100, 5045,   5117.5,   1.3280,  34.7004,2,  34.6997,2,   -999.0,5,    186.8,2,   129.61,2,    34.31,2,     0.00,2,     2.36,2, -999.000,9, -999.000,9, -999.000,9,-999.0000,9,  -999.00,9,-999.000,9,   -999,-999.0000,-999.000,-999.000,  0.8852,-999.000
     32MW893_2,  P04C,   112,  1,      1,      1,2,19890319,0920,  9.4967,-167.0100, 5045,   5118.6,   1.3280,  34.7000,2,  34.6977,2,   -999.0,5,    187.3,2,   129.42,2,    34.31,2,     0.00,2,     2.36,2, -999.000,9, -999.000,9, -999.000,9,-999.0000,9,  -999.00,9,-999.000,9,   -999,-999.0000,-999.000,-999.000,  0.8851,-999.000