BOTTLE,20020311WHPSIOdm
EXPOCODE,SECT_ID,STNNBR,CASTNO,SAMPNO,BTLNBR,BTLNBR_FLAG_W,DATE,TIME,LATITUDE,LONGITUDE,DEPTH,CTDPRS,CTDTMP,CTDSAL,CTDSAL_FLAG_W,SALNTY,SALNTY_FLAG_W,CTDOXY,CTDOXY_FLAG_W,OXYGEN,OXYGEN_FLAG_W,SILCAT,SILCAT_FLAG_W,NITRAT,NITRAT_FLAG_W,NITRIT,NITRIT_FLAG_W,PHSPHT,PHSPHT_FLAG_W,CFC-11,CFC-11_FLAG_W,CFC-12,CFC-12_FLAG_W,TRITUM,TRITUM_FLAG_W,HELIUM,HELIUM_FLAG_W,DELHE3,DELHE3_FLAG_W,NEON,NEON_FLAG_W,CTDRAW,HELIER,DELHER,NEONER,THETA,TRITER
,,,,,,,,,,,,DBAR,ITS-90,PSS-78,,PSS-78,,UMOL/KG,,UMOL/KG,,UMOL/KG,,UMOL/KG,,UMOL/KG,,UMOL/KG,,PMOL/KG,,PMOL/KG,,TU,,NMOL/KG,,PERCNT,,NMOL/KG,,,NMOL/KG,PERCNT,NMOL/KG,ITS-90,TU
     32MW893_2,  P04C,   115,  1,     24,     24,2,19890320,1020,  9.4933,-164.5050, 4496,      3.7,  26.6381,  34.5634,2,  34.5628,2,   -999.0,5,    216.4,2,     0.99,2,     0.10,2,     0.00,2,     0.28,2, -999.000,9, -999.000,9, -999.000,9,-999.0000,9,  -999.00,9,-999.000,9,   -999,-999.0000,-999.000,-999.000, 26.6373,-999.000
     32MW893_2,  P04C,   115,  1,     23,     23,2,19890320,1020,  9.4933,-164.5050, 4496,     46.1,  26.6371,  34.5614,2,  34.5618,2,   -999.0,5,    212.1,2,     1.28,2,     0.20,2,     0.00,2,     0.23,2, -999.000,9, -999.000,9, -999.000,9,-999.0000,9,  -999.00,9,-999.000,9,   -999,-999.0000,-999.000,-999.000, 26.6266,-999.000
     32MW893_2,  P04C,   115,  1,     22,     22,2,19890320,1020,  9.4933,-164.5050, 4496,     96.4,  18.3721,  34.9020,2,  34.8786,2,   -999.0,5,    179.4,2,     3.94,2,     4.79,2,     0.00,2,     0.50,2, -999.000,9, -999.000,9, -999.000,9,-999.0000,9,  -999.00,9,-999.000,9,   -999,-999.0000,-999.000,-999.000, 18.3554,-999.000
     32MW893_2,  P04C,   115,  1,     21,     21,2,19890320,1020,  9.4933,-164.5050, 4496,    146.2,  14.0393,  34.4984,2,  34.5231,2,   -999.0,5,    103.0,2,    15.65,2,    19.75,2,     0.00,2,     1.52,2, -999.000,9, -999.000,9, -999.000,9,-999.0000,9,  -999.00,9,-999.000,9,   -999,-999.0000,-999.000,-999.000, 14.0183,-999.000
     32MW893_2,  P04C,   115,  1,     20,     20,2,19890320,1020,  9.4933,-164.5050, 4496,    198.3,  11.7991,  34.6404,2,  34.6447,2,   -999.0,5,     28.2,2,    27.46,2,    31.38,2,     0.12,2,     2.36,2, -999.000,9, -999.000,9, -999.000,9,-999.0000,9,  -999.00,9,-999.000,9,   -999,-999.0000,-999.000,-999.000, 11.7736,-999.000
     32MW893_2,  P04C,   115,  1,     19,     19,2,19890320,1020,  9.4933,-164.5050, 4496,    247.0,  10.8704,  34.7004,2,  34.6987,2,   -999.0,5,     20.0,2,    30.81,2,    33.82,2,     0.00,2,     2.46,2, -999.000,9, -999.000,9, -999.000,9,-999.0000,9,  -999.00,9,-999.000,9,   -999,-999.0000,-999.000,-999.000, 10.8402,-999.000
     32MW893_2,  P04C,   115,  1,     18,     18,2,19890320,1020,  9.4933,-164.5050, 4496,    295.7,  10.0037,  34.6856,2,  34.6856,2,   -999.0,5,     21.3,2,    34.05,2,    35.48,2,     0.00,2,     2.54,2, -999.000,9, -999.000,9, -999.000,9,-999.0000,9,  -999.00,9,-999.000,9,   -999,-999.0000,-999.000,-999.000,  9.9693,-999.000
     32MW893_2,  P04C,   115,  1,     17,     17,2,19890320,1020,  9.4933,-164.5050, 4496,    398.3,   9.1260,  34.6490,2,  34.6472,2,   -999.0,5,     17.8,2,    38.97,2,    36.95,2,     0.00,2,     2.65,2, -999.000,9, -999.000,9, -999.000,9,-999.0000,9,  -999.00,9,-999.000,9,   -999,-999.0000,-999.000,-999.000,  9.0820,-999.000
     32MW893_2,  P04C,   115,  1,     16,     16,2,19890320,1020,  9.4933,-164.5050, 4496,    496.9,   8.1323,  34.6001,2,  34.5909,2,   -999.0,5,     26.9,2,    46.75,2,    37.63,2,     0.00,2,     2.77,2, -999.000,9, -999.000,9, -999.000,9,-999.0000,9,  -999.00,9,-999.000,9,   -999,-999.0000,-999.000,-999.000,  8.0809,-999.000
     32MW893_2,  P04C,   115,  1,     15,     15,2,19890320,1020,  9.4933,-164.5050, 4496,    597.3,   7.1887,  34.5410,2,  34.5488,2,   -999.0,5,     38.7,2,    55.51,2,    38.61,2,     0.00,2,     2.83,2, -999.000,9, -999.000,9, -999.000,9,-999.0000,9,  -999.00,9,-999.000,9,   -999,-999.0000,-999.000,-999.000,  7.1307,-999.000
     32MW893_2,  P04C,   115,  1,     14,     14,2,19890320,1020,  9.4933,-164.5050, 4496,    796.6,   5.6882,  34.5291,2,  34.5302,2,   -999.0,5,     45.2,2,    74.91,2,    40.96,2,     0.00,2,     2.97,2, -999.000,9, -999.000,9, -999.000,9,-999.0000,9,  -999.00,9,-999.000,9,   -999,-999.0000,-999.000,-999.000,  5.6189,-999.000
     32MW893_2,  P04C,   115,  1,     13,     13,2,19890320,1020,  9.4933,-164.5050, 4496,    998.4,   4.5347,  34.5467,2,  34.5476,2,   -999.0,5,     50.4,2,    95.28,2,    42.03,2,     0.00,2,     3.03,2, -999.000,9, -999.000,9, -999.000,9,-999.0000,9,  -999.00,9,-999.000,9,   -999,-999.0000,-999.000,-999.000,  4.4550,-999.000
     32MW893_2,  P04C,   115,  1,     12,     12,2,19890320,1020,  9.4933,-164.5050, 4496,   1248.3,   3.7100,  34.5681,2,  34.5698,2,   -999.0,5,     62.6,2,   111.90,2,    41.93,2,     0.00,2,     3.02,2, -999.000,9, -999.000,9, -999.000,9,-999.0000,9,  -999.00,9,-999.000,9,   -999,-999.0000,-999.000,-999.000,  3.6158,-999.000
     32MW893_2,  P04C,   115,  1,     11,     11,2,19890320,1020,  9.4933,-164.5050, 4496,   1500.1,   3.0253,  34.5986,2,  34.5967,2,   -999.0,5,     78.6,2,   126.38,2,    40.86,2,     0.00,2,     2.94,2, -999.000,9, -999.000,9, -999.000,9,-999.0000,9,  -999.00,9,-999.000,9,   -999,-999.0000,-999.000,-999.000,  2.9171,-999.000
     32MW893_2,  P04C,   115,  1,     10,     10,2,19890320,1020,  9.4933,-164.5050, 4496,   2000.2,   2.1237,  34.6412,2,  34.6415,2,   -999.0,5,    105.2,2,   146.15,2,    39.49,2,     0.00,2,     2.80,2, -999.000,9, -999.000,9, -999.000,9,-999.0000,9,  -999.00,9,-999.000,9,   -999,-999.0000,-999.000,-999.000,  1.9853,-999.000
     32MW893_2,  P04C,   115,  1,      9,      9,2,19890320,1020,  9.4933,-164.5050, 4496,   2501.3,   1.8728,  34.6593,2,  34.6582,2,   -999.0,5,    115.6,2,   151.17,2,    38.80,2,     0.00,2,     2.71,2, -999.000,9, -999.000,9, -999.000,9,-999.0000,9,  -999.00,9,-999.000,9,   -999,-999.0000,-999.000,-999.000,  1.6947,-999.000
     32MW893_2,  P04C,   115,  1,      8,      8,2,19890320,1020,  9.4933,-164.5050, 4496,   3003.8,   1.6768,  34.6704,2,  34.6745,2,   -999.0,5,    130.8,2,   152.06,2,    37.92,2,     0.00,2,     2.64,2, -999.000,9, -999.000,9, -999.000,9,-999.0000,9,  -999.00,9,-999.000,9,   -999,-999.0000,-999.000,-999.000,  1.4558,-999.000
     32MW893_2,  P04C,   115,  1,      7,      7,2,19890320,1020,  9.4933,-164.5050, 4496,   3252.5,   1.5698,  34.6787,2,  34.6787,2,   -999.0,5,    139.0,2,  -999.00,5,    37.34,2,     0.00,2,     2.60,2, -999.000,9, -999.000,9, -999.000,9,-999.0000,9,  -999.00,9,-999.000,9,   -999,-999.0000,-999.000,-999.000,  1.3269,-999.000
     32MW893_2,  P04C,   115,  1,      6,      6,2,19890320,1020,  9.4933,-164.5050, 4496,   3504.3,   1.5009,  34.6829,2,  34.6836,2,   -999.0,5,    149.9,2,   147.33,2,    36.56,2,     0.00,2,     2.53,2, -999.000,9, -999.000,9, -999.000,9,-999.0000,9,  -999.00,9,-999.000,9,   -999,-999.0000,-999.000,-999.000,  1.2343,-999.000
     32MW893_2,  P04C,   115,  1,      5,      5,2,19890320,1020,  9.4933,-164.5050, 4496,   3754.6,   1.4380,  34.6871,2,  34.6858,2,   -999.0,5,    157.7,2,   144.37,2,    36.16,2,     0.00,2,     2.51,2, -999.000,9, -999.000,9, -999.000,9,-999.0000,9,  -999.00,9,-999.000,9,   -999,-999.0000,-999.000,-999.000,  1.1470,-999.000
     32MW893_2,  P04C,   115,  1,      4,      4,2,19890320,1020,  9.4933,-164.5050, 4496,   4006.5,   1.3840,  34.6893,2,  34.6905,2,   -999.0,5,    165.5,2,   140.84,2,    35.68,2,     0.00,2,     2.46,2, -999.000,9, -999.000,9, -999.000,9,-999.0000,9,  -999.00,9,-999.000,9,   -999,-999.0000,-999.000,-999.000,  1.0676,-999.000
     32MW893_2,  P04C,   115,  1,      3,      3,2,19890320,1020,  9.4933,-164.5050, 4496,   4256.9,   1.3090,  34.6956,2,  34.6948,2,   -999.0,5,    176.8,2,   135.03,2,    34.80,2,     0.00,2,     2.40,2, -999.000,9, -999.000,9, -999.000,9,-999.0000,9,  -999.00,9,-999.000,9,   -999,-999.0000,-999.000,-999.000,  0.9673,-999.000
     32MW893_2,  P04C,   115,  1,      1,      1,2,19890320,1020,  9.4933,-164.5050, 4496,   4555.3,   1.3010,  34.6968,2,-999.0000,5,   -999.0,5,    183.4,2,   132.17,2,    34.50,2,     0.00,2,     2.38,2, -999.000,9, -999.000,9, -999.000,9,-999.0000,9,  -999.00,9,-999.000,9,   -999,-999.0000,-999.000,-999.000,  0.9258,-999.000
     32MW893_2,  P04C,   115,  1,      2,      2,2,19890320,1020,  9.4933,-164.5050, 4496,   4555.9,   1.3010,  34.6978,2,  34.6977,2,   -999.0,5,    182.1,2,   132.08,2,    34.50,2,     0.00,2,     2.37,2, -999.000,9, -999.000,9, -999.000,9,-999.0000,9,  -999.00,9,-999.000,9,   -999,-999.0000,-999.000,-999.000,  0.9257,-999.000
     32MW893_2,  P04C,   116,  1,     24,     24,2,19890320,1821,  9.4933,-163.6717, 4337,      6.7,  26.5321,  34.5370,2,  34.5378,2,   -999.0,5,    216.4,2,     0.59,2,     0.10,2,    -0.01,2,     0.22,2,    1.671,2,    0.879,2, -999.000,9,-999.0000,9,  -999.00,9,-999.000,9,   -999,-999.0000,-999.000,-999.000, 26.5306,-999.000
     32MW893_2,  P04C,   116,  1,     23,     23,2,19890320,1821,  9.4933,-163.6717, 4337,     47.6,  26.5171,  34.5401,2,  34.5361,2,   -999.0,5,    212.5,2,     0.68,2,     0.10,2,    -0.01,2,     0.22,2,    1.700,2,    0.878,2, -999.000,9,-999.0000,9,  -999.00,9,-999.000,9,   -999,-999.0000,-999.000,-999.000, 26.5063,-999.000
     32MW893_2,  P04C,   116,  1,     22,     22,2,19890320,1821,  9.4933,-163.6717, 4337,     96.8,  18.8430,  34.8158,2,  34.8135,2,   -999.0,5,    174.7,2,     3.84,2,     4.89,2,     0.15,2,     0.58,2,    1.858,2,    0.938,2, -999.000,9,-999.0000,9,  -999.00,9,-999.000,9,   -999,-999.0000,-999.000,-999.000, 18.8259,-999.000
     32MW893_2,  P04C,   116,  1,     21,     21,2,19890320,1821,  9.4933,-163.6717, 4337,    147.1,  13.1566,  34.5763,2,  34.5789,2,   -999.0,5,     57.4,2,    20.97,2,    26.69,2,    -0.01,2,     2.03,2,    0.697,2,    0.330,2, -999.000,9,-999.0000,9,  -999.00,9,-999.000,9,   -999,-999.0000,-999.000,-999.000, 13.1363,-999.000
     32MW893_2,  P04C,   116,  1,     20,     20,2,19890320,1821,  9.4933,-163.6717, 4337,    195.8,  11.1413,  34.6774,2,  34.6696,2,   -999.0,5,     35.6,2,    28.83,2,    32.35,2,     0.00,2,     2.37,2,    0.215,2,    0.108,2, -999.000,9,-999.0000,9,  -999.00,9,-999.000,9,   -999,-999.0000,-999.000,-999.000, 11.1170,-999.000
     32MW893_2,  P04C,   116,  1,     19,     19,2,19890320,1821,  9.4933,-163.6717, 4337,    246.9,  10.6095,  34.6963,2,  34.6930,2,   -999.0,5,     21.3,2,    31.10,2,    34.40,2,     0.00,2,     2.50,2,    0.080,2,    0.037,2, -999.000,9,-999.0000,9,  -999.00,9,-999.000,9,   -999,-999.0000,-999.000,-999.000, 10.5798,-999.000
     32MW893_2,  P04C,   116,  1,     18,     18,2,19890320,1821,  9.4933,-163.6717, 4337,    296.7,  10.2205,  34.6911,2,  34.6883,2,   -999.0,5,     26.5,2,    32.08,2,    34.89,2,     0.00,2,     2.51,2,    0.063,2,    0.036,2, -999.000,9,-999.0000,9,  -999.00,9,-999.000,9,   -999,-999.0000,-999.000,-999.000, 10.1856,-999.000
     32MW893_2,  P04C,   116,  1,     17,     17,2,19890320,1821,  9.4933,-163.6717, 4337,    398.0,   9.4368,  34.6602,2,  34.6600,2,   -999.0,5,     26.5,2,    36.02,2,    36.07,2,     0.00,2,     2.60,2,    0.038,2, -999.000,5, -999.000,9,-999.0000,9,  -999.00,9,-999.000,9,   -999,-999.0000,-999.000,-999.000,  9.3920,-999.000
     32MW893_2,  P04C,   116,  1,     16,     16,2,19890320,1821,  9.4933,-163.6717, 4337,    497.2,   8.3073,  34.6025,2,  34.6019,2,   -999.0,5,     22.2,2,    45.86,2,    37.83,2,     0.00,2,     2.83,2,    0.008,2, -999.000,5, -999.000,9,-999.0000,9,  -999.00,9,-999.000,9,   -999,-999.0000,-999.000,-999.000,  8.2552,-999.000
     32MW893_2,  P04C,   116,  1,     15,     15,2,19890320,1821,  9.4933,-163.6717, 4337,    598.9,   7.4156,  34.5665,2,  34.5673,2,   -999.0,5,     20.4,2,    55.12,2,    39.39,2,     0.00,2,     2.99,2,    0.006,2, -999.000,5, -999.000,9,-999.0000,9,  -999.00,9,-999.000,9,   -999,-999.0000,-999.000,-999.000,  7.3564,-999.000
     32MW893_2,  P04C,   116,  1,     14,     14,2,19890320,1821,  9.4933,-163.6717, 4337,    797.7,   5.9152,  34.5379,2,  34.5333,2,   -999.0,5,     41.7,2,    71.55,2,    41.45,2,     0.00,2,     3.01,2,    0.010,2,    0.018,2, -999.000,9,-999.0000,9,  -999.00,9,-999.000,9,   -999,-999.0000,-999.000,-999.000,  5.8443,-999.000
     32MW893_2,  P04C,   116,  1,     13,     13,2,19890320,1821,  9.4933,-163.6717, 4337,    998.6,   4.7436,  34.5449,2,  34.5453,2,   -999.0,5,     52.6,2,    90.25,2,    42.03,2,     0.00,2,     3.05,2,   -0.003,2,    0.011,2, -999.000,9,-999.0000,9,  -999.00,9,-999.000,9,   -999,-999.0000,-999.000,-999.000,  4.6623,-999.000
     32MW893_2,  P04C,   116,  1,     11,     11,2,19890320,1821,  9.4933,-163.6717, 4337,   1497.3,   3.0123,  34.6005,2,  34.5999,2,   -999.0,5,     82.6,2,   126.38,2,    41.05,2,     0.00,2,     2.96,2, -999.000,9, -999.000,9, -999.000,9,-999.0000,9,  -999.00,9,-999.000,9,   -999,-999.0000,-999.000,-999.000,  2.9045,-999.000
     32MW893_2,  P04C,   116,  1,     10,     10,2,19890320,1821,  9.4933,-163.6717, 4337,   2002.1,   2.1776,  34.6414,2,  34.6388,2,   -999.0,5,    104.3,2,   145.27,2,    39.78,2,     0.00,2,     2.82,2, -999.000,9, -999.000,9, -999.000,9,-999.0000,9,  -999.00,9,-999.000,9,   -999,-999.0000,-999.000,-999.000,  2.0382,-999.000
     32MW893_2,  P04C,   116,  1,      9,      9,2,19890320,1821,  9.4933,-163.6717, 4337,   2500.2,   1.8927,  34.6593,2,  34.6586,2,   -999.0,5,    116.4,2,   150.88,2,    38.90,2,     0.00,2,     2.74,2, -999.000,9, -999.000,9, -999.000,9,-999.0000,9,  -999.00,9,-999.000,9,   -999,-999.0000,-999.000,-999.000,  1.7144,-999.000
     32MW893_2,  P04C,   116,  1,      8,      8,2,19890320,1821,  9.4933,-163.6717, 4337,   3002.4,   1.6578,  34.6729,2,  34.6730,2,   -999.0,5,    133.8,2,   152.06,2,    38.12,2,     0.00,2,     2.63,2, -999.000,9, -999.000,9, -999.000,9,-999.0000,9,  -999.00,9,-999.000,9,   -999,-999.0000,-999.000,-999.000,  1.4374,-999.000
     32MW893_2,  P04C,   116,  1,      7,      7,2,19890320,1821,  9.4933,-163.6717, 4337,   3251.2,   1.5948,  34.6785,2,  34.6769,2,   -999.0,5,    140.3,2,   150.78,2,    37.63,2,     0.00,2,     2.59,2, -999.000,9, -999.000,9, -999.000,9,-999.0000,9,  -999.00,9,-999.000,9,   -999,-999.0000,-999.000,-999.000,  1.3515,-999.000
     32MW893_2,  P04C,   116,  1,      6,      6,2,19890320,1821,  9.4933,-163.6717, 4337,   3503.6,   1.5359,  34.6816,2,  34.6816,2,   -999.0,5,    148.2,2,   148.70,2,    37.14,2,     0.00,2,     2.57,2, -999.000,9, -999.000,9, -999.000,9,-999.0000,9,  -999.00,9,-999.000,9,   -999,-999.0000,-999.000,-999.000,  1.2685,-999.000
     32MW893_2,  P04C,   116,  1,      5,      5,2,19890320,1821,  9.4933,-163.6717, 4337,   3753.0,   1.4819,  34.6840,2,  34.6848,2,   -999.0,5,    156.4,2,   145.26,2,    36.65,2,     0.00,2,     2.52,2, -999.000,9, -999.000,9, -999.000,9,-999.0000,9,  -999.00,9,-999.000,9,   -999,-999.0000,-999.000,-999.000,  1.1900,-999.000
     32MW893_2,  P04C,   116,  1,      4,      4,2,19890320,1821,  9.4933,-163.6717, 4337,   4003.4,   1.3760,  34.6905,2,  34.6907,2,   -999.0,5,    168.2,2,   140.93,2,    35.68,2,     0.00,2,     2.46,2, -999.000,9, -999.000,9, -999.000,9,-999.0000,9,  -999.00,9,-999.000,9,   -999,-999.0000,-999.000,-999.000,  1.0601,-999.000
     32MW893_2,  P04C,   116,  1,      3,      3,2,19890320,1821,  9.4933,-163.6717, 4337,   4202.4,   1.2990,  34.6958,2,  34.6958,2,   -999.0,5,    178.1,2,   135.03,2,    34.89,2,     0.00,2,     2.39,2,   -0.005,2,    0.006,2, -999.000,9,-999.0000,9,  -999.00,9,-999.000,9,   -999,-999.0000,-999.000,-999.000,  0.9637,-999.000
     32MW893_2,  P04C,   116,  1,      1,      1,2,19890320,1821,  9.4933,-163.6717, 4337,   4397.9,   1.2990,  34.6958,2,  34.6973,2,   -999.0,5,    180.3,2,   133.55,2,    34.70,2,     0.00,2,     2.38,2, -999.000,9, -999.000,9, -999.000,9,-999.0000,9,  -999.00,9,-999.000,9,   -999,-999.0000,-999.000,-999.000,  0.9418,-999.000
     32MW893_2,  P04C,   116,  1,      2,      2,2,19890320,1821,  9.4933,-163.6717, 4337,   4399.6,   1.2990,  34.6963,2,  34.6962,2,   -999.0,5,    181.2,2,   133.35,2,    34.70,2,     0.00,2,     2.38,2,   -0.004,2,    0.007,2, -999.000,9,-999.0000,9,  -999.00,9,-999.000,9,   -999,-999.0000,-999.000,-999.000,  0.9416,-999.000