BOTTLE,20020311WHPSIOdm
EXPOCODE,SECT_ID,STNNBR,CASTNO,SAMPNO,BTLNBR,BTLNBR_FLAG_W,DATE,TIME,LATITUDE,LONGITUDE,DEPTH,CTDPRS,CTDTMP,CTDSAL,CTDSAL_FLAG_W,SALNTY,SALNTY_FLAG_W,CTDOXY,CTDOXY_FLAG_W,OXYGEN,OXYGEN_FLAG_W,SILCAT,SILCAT_FLAG_W,NITRAT,NITRAT_FLAG_W,NITRIT,NITRIT_FLAG_W,PHSPHT,PHSPHT_FLAG_W,CFC-11,CFC-11_FLAG_W,CFC-12,CFC-12_FLAG_W,TRITUM,TRITUM_FLAG_W,HELIUM,HELIUM_FLAG_W,DELHE3,DELHE3_FLAG_W,NEON,NEON_FLAG_W,CTDRAW,HELIER,DELHER,NEONER,THETA,TRITER
,,,,,,,,,,,,DBAR,ITS-90,PSS-78,,PSS-78,,UMOL/KG,,UMOL/KG,,UMOL/KG,,UMOL/KG,,UMOL/KG,,UMOL/KG,,PMOL/KG,,PMOL/KG,,TU,,NMOL/KG,,PERCNT,,NMOL/KG,,,NMOL/KG,PERCNT,NMOL/KG,ITS-90,TU
     32MW893_2,  P04C,    91,  1,     24,     24,2,19890311,1451,  9.4933, 175.4983, 5913,      7.2,  27.1680,  34.6514,2,  34.6486,2,   -999.0,5,    210.3,2,     1.18,2,     0.00,2,     0.01,2,     0.11,2, -999.000,9, -999.000,9, -999.000,9,-999.0000,9,  -999.00,9,-999.000,9,   -999,-999.0000,-999.000,-999.000, 27.1663,-999.000
     32MW893_2,  P04C,    91,  1,     23,     23,2,19890311,1451,  9.4933, 175.4983, 5913,     47.6,  26.8421,  34.7903,2,  34.7819,2,   -999.0,5,    214.6,2,     1.18,2,     0.00,2,     0.00,2,     0.12,2, -999.000,9, -999.000,9, -999.000,9,-999.0000,9,  -999.00,9,-999.000,9,   -999,-999.0000,-999.000,-999.000, 26.8312,-999.000
     32MW893_2,  P04C,    91,  1,     22,     22,2,19890311,1451,  9.4933, 175.4983, 5913,     97.1,  23.6617,  35.1315,2,  35.1357,2,   -999.0,5,    195.5,2,     1.77,2,     0.20,2,     0.00,2,     0.20,2, -999.000,9, -999.000,9, -999.000,9,-999.0000,9,  -999.00,9,-999.000,9,   -999,-999.0000,-999.000,-999.000, 23.6415,-999.000
     32MW893_2,  P04C,    91,  1,     21,     21,2,19890311,1451,  9.4933, 175.4983, 5913,    146.3,  17.9092,  34.9190,2,  34.9119,2,   -999.0,5,    192.4,2,     4.23,2,     4.59,2,     0.00,2,     0.43,2, -999.000,9, -999.000,9, -999.000,9,-999.0000,9,  -999.00,9,-999.000,9,   -999,-999.0000,-999.000,-999.000, 17.8842,-999.000
     32MW893_2,  P04C,    91,  1,     20,     20,2,19890311,1451,  9.4933, 175.4983, 5913,    197.8,  13.3846,  34.4689,2,  34.4557,2,   -999.0,5,    197.7,2,    11.22,2,    11.14,2,     0.00,2,     0.86,2, -999.000,9, -999.000,9, -999.000,9,-999.0000,9,  -999.00,9,-999.000,9,   -999,-999.0000,-999.000,-999.000, 13.3570,-999.000
     32MW893_2,  P04C,    91,  1,     19,     19,2,19890311,1451,  9.4933, 175.4983, 5913,    247.3,  10.2885,  34.4054,2,-999.0000,5,   -999.0,5,     86.5,2,    30.91,2,    27.76,2,     0.00,2,     2.05,2, -999.000,9, -999.000,9, -999.000,9,-999.0000,9,  -999.00,9,-999.000,9,   -999,-999.0000,-999.000,-999.000, 10.2594,-999.000
     32MW893_2,  P04C,    91,  1,     18,     18,2,19890311,1451,  9.4933, 175.4983, 5913,    296.6,   9.7358,  34.5657,2,  34.5657,2,   -999.0,5,     33.9,2,    36.52,2,    34.31,2,     0.00,2,     2.53,2, -999.000,9, -999.000,9, -999.000,9,-999.0000,9,  -999.00,9,-999.000,9,   -999,-999.0000,-999.000,-999.000,  9.7020,-999.000
     32MW893_2,  P04C,    91,  1,     17,     17,2,19890311,1451,  9.4933, 175.4983, 5913,    396.8,   8.5561,  34.5705,2,  34.5641,2,   -999.0,5,     36.5,2,    44.39,2,    36.56,2,     0.00,2,     2.66,2, -999.000,9, -999.000,9, -999.000,9,-999.0000,9,  -999.00,9,-999.000,9,   -999,-999.0000,-999.000,-999.000,  8.5141,-999.000
     32MW893_2,  P04C,    91,  1,     16,     16,2,19890311,1451,  9.4933, 175.4983, 5913,    497.2,   7.4716,  34.5430,2,  34.5416,2,   -999.0,5,     45.6,2,    53.34,2,    38.03,2,     0.00,2,     2.76,2, -999.000,9, -999.000,9, -999.000,9,-999.0000,9,  -999.00,9,-999.000,9,   -999,-999.0000,-999.000,-999.000,  7.4226,-999.000
     32MW893_2,  P04C,    91,  1,     15,     15,2,19890311,1451,  9.4933, 175.4983, 5913,    595.5,   6.6889,  34.5230,2,  34.5311,2,   -999.0,5,     46.5,2,    61.71,2,    39.39,2,     0.00,2,     2.85,2, -999.000,9, -999.000,9, -999.000,9,-999.0000,9,  -999.00,9,-999.000,9,   -999,-999.0000,-999.000,-999.000,  6.6333,-999.000
     32MW893_2,  P04C,    91,  1,     14,     14,2,19890311,1451,  9.4933, 175.4983, 5913,    694.9,   5.9892,  34.5343,2,  34.5313,2,   -999.0,5,     46.1,2,    70.87,2,    41.06,2,     0.00,2,     2.95,2, -999.000,9, -999.000,9, -999.000,9,-999.0000,9,  -999.00,9,-999.000,9,   -999,-999.0000,-999.000,-999.000,  5.9275,-999.000
     32MW893_2,  P04C,    91,  1,     13,     13,2,19890311,1451,  9.4933, 175.4983, 5913,    845.7,   5.0605,  34.5417,2,  34.5423,2,   -999.0,5,     51.3,2,    85.34,2,    42.23,2,     0.00,2,     3.03,2, -999.000,9, -999.000,9, -999.000,9,-999.0000,9,  -999.00,9,-999.000,9,   -999,-999.0000,-999.000,-999.000,  4.9905,-999.000
     32MW893_2,  P04C,    91,  1,     12,     12,2,19890311,1451,  9.4933, 175.4983, 5913,    995.7,   4.4427,  34.5644,2,  34.5602,2,   -999.0,5,     54.8,2,    97.24,2,    42.81,2,     0.00,2,     3.08,2, -999.000,9, -999.000,9, -999.000,9,-999.0000,9,  -999.00,9,-999.000,9,   -999,-999.0000,-999.000,-999.000,  4.3640,-999.000
     32MW893_2,  P04C,    91,  1,     11,     11,2,19890311,1451,  9.4933, 175.4983, 5913,   1497.8,   2.9433,  34.5940,2,  34.6007,2,   -999.0,5,     88.2,2,   126.77,2,    40.66,2,     0.00,2,     2.91,2, -999.000,9, -999.000,9, -999.000,9,-999.0000,9,  -999.00,9,-999.000,9,   -999,-999.0000,-999.000,-999.000,  2.8362,-999.000
     32MW893_2,  P04C,    91,  1,     10,     10,2,19890311,1451,  9.4933, 175.4983, 5913,   1999.1,   2.2166,  34.6357,2,  34.6337,2,   -999.0,5,    105.2,2,   143.99,2,    39.88,2,     0.00,2,     2.81,2, -999.000,9, -999.000,9, -999.000,9,-999.0000,9,  -999.00,9,-999.000,9,   -999,-999.0000,-999.000,-999.000,  2.0769,-999.000
     32MW893_2,  P04C,    91,  1,      9,      9,2,19890311,1451,  9.4933, 175.4983, 5913,   2497.4,   1.8678,  34.6569,2,  34.6565,2,   -999.0,5,    119.1,2,   150.38,2,    39.00,2,     0.00,2,     2.73,2, -999.000,9, -999.000,9, -999.000,9,-999.0000,9,  -999.00,9,-999.000,9,   -999,-999.0000,-999.000,-999.000,  1.6902,-999.000
     32MW893_2,  P04C,    91,  1,      8,      8,2,19890311,1451,  9.4933, 175.4983, 5913,   3000.9,   1.6688,  34.6694,2,  34.6694,2,   -999.0,5,    132.5,2,   152.55,2,    38.22,2,     0.00,2,     2.64,2, -999.000,9, -999.000,9, -999.000,9,-999.0000,9,  -999.00,9,-999.000,9,   -999,-999.0000,-999.000,-999.000,  1.4483,-999.000
     32MW893_2,  P04C,    91,  1,      7,      7,2,19890311,1451,  9.4933, 175.4983, 5913,   3502.3,   1.5139,  34.6775,2,  34.6783,2,   -999.0,5,    146.4,2,   151.66,2,    37.24,2,     0.00,2,     2.58,2, -999.000,9, -999.000,9, -999.000,9,-999.0000,9,  -999.00,9,-999.000,9,   -999,-999.0000,-999.000,-999.000,  1.2472,-999.000
     32MW893_2,  P04C,    91,  1,      6,      6,2,19890311,1451,  9.4933, 175.4983, 5913,   4002.7,   1.3800,  34.6892,2,  34.6901,2,   -999.0,5,    166.0,2,   141.13,2,    35.97,2,     0.00,2,     2.47,2, -999.000,9, -999.000,9, -999.000,9,-999.0000,9,  -999.00,9,-999.000,9,   -999,-999.0000,-999.000,-999.000,  1.0641,-999.000
     32MW893_2,  P04C,    91,  1,      5,      5,2,19890311,1451,  9.4933, 175.4983, 5913,   4502.9,   1.2940,  34.6963,2,  34.7036,2,   -999.0,5,    183.8,2,   130.89,2,    34.31,2,     0.00,2,     2.38,2, -999.000,9, -999.000,9, -999.000,9,-999.0000,9,  -999.00,9,-999.000,9,   -999,-999.0000,-999.000,-999.000,  0.9250,-999.000
     32MW893_2,  P04C,    91,  1,      4,      4,2,19890311,1451,  9.4933, 175.4983, 5913,   4753.2,   1.2940,  34.6984,2,  34.6999,2,   -999.0,5,    188.6,2,   129.52,2,    34.21,2,     0.00,2,     2.34,2, -999.000,9, -999.000,9, -999.000,9,-999.0000,9,  -999.00,9,-999.000,9,   -999,-999.0000,-999.000,-999.000,  0.8960,-999.000
     32MW893_2,  P04C,    91,  1,      3,      3,2,19890311,1451,  9.4933, 175.4983, 5913,   5003.2,   1.3150,  34.7000,2,  34.7001,2,   -999.0,5,    188.1,2,   128.43,2,    34.21,2,     0.00,2,     2.34,2, -999.000,9, -999.000,9, -999.000,9,-999.0000,9,  -999.00,9,-999.000,9,   -999,-999.0000,-999.000,-999.000,  0.8866,-999.000
     32MW893_2,  P04C,    91,  1,      2,      2,2,19890311,1451,  9.4933, 175.4983, 5913,   5504.3,   1.3740,  34.7007,2,  34.7005,2,   -999.0,5,    193.3,2,   128.33,2,    34.21,2,     0.00,2,     2.34,2, -999.000,9, -999.000,9, -999.000,9,-999.0000,9,  -999.00,9,-999.000,9,   -999,-999.0000,-999.000,-999.000,  0.8814,-999.000
     32MW893_2,  P04C,    91,  1,      1,      1,2,19890311,1451,  9.4933, 175.4983, 5913,   6022.8,   1.4420,  34.7022,2,  34.7005,2,   -999.0,5,    189.9,2,   128.14,2,    34.31,2,     0.00,2,     2.35,2, -999.000,9, -999.000,9, -999.000,9,-999.0000,9,  -999.00,9,-999.000,9,   -999,-999.0000,-999.000,-999.000,  0.8793,-999.000
     32MW893_2,  P04C,    92,  1,     24,     24,2,19890312,0001,  9.4967, 176.3267, 5318,      4.6,  27.5109,  34.4852,2,  34.4824,2,   -999.0,5,    225.5,2,     0.39,2,     0.00,2,     0.00,2,     0.15,2,    1.581,2,    0.865,2, -999.000,9,-999.0000,9,  -999.00,9,-999.000,9,   -999,-999.0000,-999.000,-999.000, 27.5098,-999.000
     32MW893_2,  P04C,    92,  1,     23,     23,2,19890312,0001,  9.4967, 176.3267, 5318,     47.5,  27.3859,  34.5005,2,  34.4911,2,   -999.0,5,    214.7,2,     0.29,2,     0.00,2,     0.00,2,     0.16,2,    1.569,2,    0.871,2, -999.000,9,-999.0000,9,  -999.00,9,-999.000,9,   -999,-999.0000,-999.000,-999.000, 27.3749,-999.000
     32MW893_2,  P04C,    92,  1,     22,     22,2,19890312,0001,  9.4967, 176.3267, 5318,     95.7,  24.7735,  35.0398,2,  35.0282,2,   -999.0,5,    214.1,2,     0.20,2,     0.00,2,     0.00,2,     0.20,2,    1.732,2,    0.930,2, -999.000,9,-999.0000,9,  -999.00,9,-999.000,9,   -999,-999.0000,-999.000,-999.000, 24.7529,-999.000
     32MW893_2,  P04C,    92,  1,     21,     21,2,19890312,0001,  9.4967, 176.3267, 5318,    148.4,  17.6713,  34.8231,2,  34.8283,2,   -999.0,5,    172.0,2,     4.04,2,     6.84,2,     0.00,2,     0.62,2,    1.806,2,    0.967,2, -999.000,9,-999.0000,9,  -999.00,9,-999.000,9,   -999,-999.0000,-999.000,-999.000, 17.6462,-999.000
     32MW893_2,  P04C,    92,  1,     20,     20,2,19890312,0001,  9.4967, 176.3267, 5318,    198.4,  12.8407,  34.4107,2,  34.4167,2,   -999.0,5,    180.8,2,    11.71,2,    13.30,2,     0.00,2,     1.02,2,    1.723,2,    0.912,2, -999.000,9,-999.0000,9,  -999.00,9,-999.000,9,   -999,-999.0000,-999.000,-999.000, 12.8138,-999.000
     32MW893_2,  P04C,    92,  1,     19,     19,2,19890312,0001,  9.4967, 176.3267, 5318,    247.9,  10.3955,  34.4746,2,  34.4775,2,   -999.0,5,     58.2,2,    30.72,2,    30.11,2,     0.00,2,     2.25,2,    0.354,2,    0.183,2, -999.000,9,-999.0000,9,  -999.00,9,-999.000,9,   -999,-999.0000,-999.000,-999.000, 10.3661,-999.000
     32MW893_2,  P04C,    92,  1,     18,     18,2,19890312,0001,  9.4967, 176.3267, 5318,    296.3,   9.7608,  34.5839,2,  34.5800,2,   -999.0,5,     30.0,2,    35.34,2,    34.51,2,     0.00,2,     2.53,2,    0.066,2, -999.000,5, -999.000,9,-999.0000,9,  -999.00,9,-999.000,9,   -999,-999.0000,-999.000,-999.000,  9.7269,-999.000
     32MW893_2,  P04C,    92,  1,     17,     17,2,19890312,0001,  9.4967, 176.3267, 5318,    397.0,   8.6001,  34.5728,2,  34.5720,2,   -999.0,5,     32.2,2,    42.23,2,    36.46,2,     0.00,2,     2.62,2,    0.018,2, -999.000,5, -999.000,9,-999.0000,9,  -999.00,9,-999.000,9,   -999,-999.0000,-999.000,-999.000,  8.5579,-999.000
     32MW893_2,  P04C,    92,  1,     16,     16,2,19890312,0001,  9.4967, 176.3267, 5318,    496.5,   7.3946,  34.5417,2,  34.5410,2,   -999.0,5,     38.7,2,    52.76,2,    38.42,2,     0.00,2,     2.77,2,   -0.001,2,    0.019,2, -999.000,9,-999.0000,9,  -999.00,9,-999.000,9,   -999,-999.0000,-999.000,-999.000,  7.3460,-999.000
     32MW893_2,  P04C,    92,  1,     15,     15,2,19890312,0001,  9.4967, 176.3267, 5318,    597.0,   6.5689,  34.5212,2,  34.5219,2,   -999.0,5,     48.7,2,    61.13,2,    39.20,2,     0.00,2,     2.81,2,    0.000,2,    0.013,2, -999.000,9,-999.0000,9,  -999.00,9,-999.000,9,   -999,-999.0000,-999.000,-999.000,  6.5137,-999.000
     32MW893_2,  P04C,    92,  1,     14,     14,2,19890312,0001,  9.4967, 176.3267, 5318,    696.7,   5.8552,  34.5222,2,  34.5233,2,   -999.0,5,     40.8,2,    72.05,2,    41.25,2,     0.00,2,     2.96,2,    0.004,2,    0.020,2, -999.000,9,-999.0000,9,  -999.00,9,-999.000,9,   -999,-999.0000,-999.000,-999.000,  5.7941,-999.000
     32MW893_2,  P04C,    92,  1,     13,     13,2,19890312,0001,  9.4967, 176.3267, 5318,    797.1,   5.2914,  34.5301,2,  34.5268,2,   -999.0,5,     47.4,2,    84.64,2,    41.84,2,     0.00,2,     2.99,2,   -0.004,2,    0.007,2, -999.000,9,-999.0000,9,  -999.00,9,-999.000,9,   -999,-999.0000,-999.000,-999.000,  5.2243,-999.000
     32MW893_2,  P04C,    92,  1,     12,     12,2,19890312,0001,  9.4967, 176.3267, 5318,    996.9,   4.3837,  34.5563,2,  34.5539,2,   -999.0,5,     62.6,2,   100.00,2,    41.74,2,     0.00,2,     2.98,2,   -0.006,2,    0.001,2, -999.000,9,-999.0000,9,  -999.00,9,-999.000,9,   -999,-999.0000,-999.000,-999.000,  4.3054,-999.000
     32MW893_2,  P04C,    92,  1,     11,     11,2,19890312,0001,  9.4967, 176.3267, 5318,   1247.6,   3.5810,  34.5817,2,  34.5800,2,   -999.0,5,     71.7,2,   116.73,2,    41.84,2,     0.00,2,     2.96,2, -999.000,5,   -0.005,2, -999.000,9,-999.0000,9,  -999.00,9,-999.000,9,   -999,-999.0000,-999.000,-999.000,  3.4882,-999.000
     32MW893_2,  P04C,    92,  1,     10,     10,2,19890312,0001,  9.4967, 176.3267, 5318,   1498.2,   2.9863,  34.5964,2,  34.5948,2,   -999.0,5,     85.2,2,   129.53,2,    40.66,2,     0.00,2,     2.88,2,   -0.005,2,    0.008,2, -999.000,9,-999.0000,9,  -999.00,9,-999.000,9,   -999,-999.0000,-999.000,-999.000,  2.8787,-999.000
     32MW893_2,  P04C,    92,  1,      9,      9,2,19890312,0001,  9.4967, 176.3267, 5318,   1999.0,   2.2036,  34.6350,2,  34.6325,2,   -999.0,5,    103.4,2,   146.15,2,    39.59,2,     0.00,2,     2.77,2, -999.000,5,   -0.005,2, -999.000,9,-999.0000,9,  -999.00,9,-999.000,9,   -999,-999.0000,-999.000,-999.000,  2.0641,-999.000
     32MW893_2,  P04C,    92,  1,      8,      8,2,19890312,0001,  9.4967, 176.3267, 5318,   2500.9,   1.8538,  34.6591,2,  34.6563,2,   -999.0,5,    118.2,2,   152.84,2,    38.71,2,     0.00,2,     2.71,2,   -0.006,2,   -0.005,2, -999.000,9,-999.0000,9,  -999.00,9,-999.000,9,   -999,-999.0000,-999.000,-999.000,  1.6761,-999.000
     32MW893_2,  P04C,    92,  1,      7,      7,2,19890312,0001,  9.4967, 176.3267, 5318,   3003.2,   1.6588,  34.6716,2,  34.6690,2,   -999.0,5,    131.7,2,   153.93,2,    38.02,2,     0.00,2,     2.60,2,   -0.008,2,   -0.005,2, -999.000,9,-999.0000,9,  -999.00,9,-999.000,9,   -999,-999.0000,-999.000,-999.000,  1.4383,-999.000
     32MW893_2,  P04C,    92,  1,      6,      6,2,19890312,0001,  9.4967, 176.3267, 5318,   3502.5,   1.5009,  34.6814,2,  34.6787,2,   -999.0,5,    147.3,2,   150.97,2,    36.85,2,     0.00,2,     2.52,2,   -0.009,2,   -0.004,2, -999.000,9,-999.0000,9,  -999.00,9,-999.000,9,   -999,-999.0000,-999.000,-999.000,  1.2345,-999.000
     32MW893_2,  P04C,    92,  1,      5,      5,2,19890312,0001,  9.4967, 176.3267, 5318,   4005.6,   1.3570,  34.6915,2,  34.6899,2,   -999.0,5,    167.3,2,   141.92,2,    35.58,2,     0.00,2,     2.42,2,   -0.001,2,   -0.005,2, -999.000,9,-999.0000,9,  -999.00,9,-999.000,9,   -999,-999.0000,-999.000,-999.000,  1.0415,-999.000
     32MW893_2,  P04C,    92,  1,      4,      4,2,19890312,0001,  9.4967, 176.3267, 5318,   4505.4,   1.2670,  34.6994,2,  34.7021,2,   -999.0,5,    186.8,2,   130.49,2,    34.21,2,     0.00,2,     2.31,2,    0.001,2,   -0.005,2, -999.000,9,-999.0000,9,  -999.00,9,-999.000,9,   -999,-999.0000,-999.000,-999.000,  0.8986,-999.000
     32MW893_2,  P04C,    92,  1,      3,      3,2,19890312,0001,  9.4967, 176.3267, 5318,   4755.2,   1.2830,  34.7007,2,  34.7034,2,   -999.0,5,    188.1,2,   129.12,2,    33.82,2,     0.00,2,     2.30,2,    0.017,2,    0.019,2, -999.000,9,-999.0000,9,  -999.00,9,-999.000,9,   -999,-999.0000,-999.000,-999.000,  0.8851,-999.000
     32MW893_2,  P04C,    92,  1,      2,      2,2,19890312,0001,  9.4967, 176.3267, 5318,   5006.2,   1.3110,  34.7006,2,  34.7025,2,   -999.0,5,    189.0,2,   129.02,2,    33.82,2,     0.00,2,     2.30,2,    0.013,2,    0.007,2, -999.000,9,-999.0000,9,  -999.00,9,-999.000,9,   -999,-999.0000,-999.000,-999.000,  0.8823,-999.000
     32MW893_2,  P04C,    92,  1,      1,      1,2,19890312,0001,  9.4967, 176.3267, 5318,   5410.1,   1.3500,  34.7015,2,  34.7025,2,   -999.0,5,   -999.0,5,   129.02,2,    33.92,2,     0.00,2,     2.30,2,    0.000,2,    0.001,2, -999.000,9,-999.0000,9,  -999.00,9,-999.000,9,   -999,-999.0000,-999.000,-999.000,  0.8702,-999.000