BOTTLE,20020311WHPSIOdm
EXPOCODE,SECT_ID,STNNBR,CASTNO,SAMPNO,BTLNBR,BTLNBR_FLAG_W,DATE,TIME,LATITUDE,LONGITUDE,DEPTH,CTDPRS,CTDTMP,CTDSAL,CTDSAL_FLAG_W,SALNTY,SALNTY_FLAG_W,CTDOXY,CTDOXY_FLAG_W,OXYGEN,OXYGEN_FLAG_W,SILCAT,SILCAT_FLAG_W,NITRAT,NITRAT_FLAG_W,NITRIT,NITRIT_FLAG_W,PHSPHT,PHSPHT_FLAG_W,CFC-11,CFC-11_FLAG_W,CFC-12,CFC-12_FLAG_W,TRITUM,TRITUM_FLAG_W,HELIUM,HELIUM_FLAG_W,DELHE3,DELHE3_FLAG_W,NEON,NEON_FLAG_W,CTDRAW,HELIER,DELHER,NEONER,THETA,TRITER
,,,,,,,,,,,,DBAR,ITS-90,PSS-78,,PSS-78,,UMOL/KG,,UMOL/KG,,UMOL/KG,,UMOL/KG,,UMOL/KG,,UMOL/KG,,PMOL/KG,,PMOL/KG,,TU,,NMOL/KG,,PERCNT,,NMOL/KG,,,NMOL/KG,PERCNT,NMOL/KG,ITS-90,TU
     32MW893_2,  P04C,    99,  1,     24,     24,2,19890314,1522,  9.4900,-177.8367, 5907,      7.8,  27.4699,  34.4380,2,  34.4375,2,   -999.0,5,    218.2,2,     1.18,2,     0.00,2,     0.00,2,     0.17,2,    1.622,2,    0.880,2, -999.000,9,-999.0000,9,  -999.00,9,-999.000,9,   -999,-999.0000,-999.000,-999.000, 27.4681,-999.000
     32MW893_2,  P04C,    99,  1,     23,     23,2,19890314,1522,  9.4900,-177.8367, 5907,     47.5,  27.4749,  34.4403,2,  34.4367,2,   -999.0,5,    220.8,2,     1.38,2,     0.10,2,     0.00,2,     0.17,2,    1.617,2,    0.883,2, -999.000,9,-999.0000,9,  -999.00,9,-999.000,9,   -999,-999.0000,-999.000,-999.000, 27.4639,-999.000
     32MW893_2,  P04C,    99,  1,     22,     22,2,19890314,1522,  9.4900,-177.8367, 5907,     96.4,  21.7262,  34.9908,2,  34.9435,2,   -999.0,5,    193.7,2,     1.87,2,     0.59,2,     0.02,2,     0.28,2,    1.847,2,    0.976,2, -999.000,9,-999.0000,9,  -999.00,9,-999.000,9,   -999,-999.0000,-999.000,-999.000, 21.7073,-999.000
     32MW893_2,  P04C,    99,  1,     21,     21,2,19890314,1522,  9.4900,-177.8367, 5907,    146.7,  12.8887,  34.5213,2,  34.5196,2,   -999.0,5,     66.9,2,    21.55,2,    25.02,2,     0.01,2,     1.90,2,    0.753,6,    0.385,6, -999.000,9,-999.0000,9,  -999.00,9,-999.000,9,   -999,-999.0000,-999.000,-999.000, 12.8688,-999.000
     32MW893_2,  P04C,    99,  1,     20,     20,2,19890314,1522,  9.4900,-177.8367, 5907,    196.0,  11.0443,  34.6643,2,  34.6559,2,   -999.0,5,     21.7,2,    30.60,2,    32.55,2,     0.00,2,     2.40,2,    0.165,2, -999.000,5, -999.000,9,-999.0000,9,  -999.00,9,-999.000,9,   -999,-999.0000,-999.000,-999.000, 11.0203,-999.000
     32MW893_2,  P04C,    99,  1,     19,     19,2,19890314,1522,  9.4900,-177.8367, 5907,    245.9,  10.2096,  34.6717,2,  34.6804,2,   -999.0,5,     21.7,2,    33.16,2,    34.11,2,     0.00,2,     2.45,2,    0.078,2,    0.036,2, -999.000,9,-999.0000,9,  -999.00,9,-999.000,9,   -999,-999.0000,-999.000,-999.000, 10.1808,-999.000
     32MW893_2,  P04C,    99,  1,     18,     18,2,19890314,1522,  9.4900,-177.8367, 5907,    296.0,   9.8067,  34.6752,2,  34.6738,2,   -999.0,5,     23.9,2,    34.93,2,    34.89,2,     0.00,2,     2.48,2,    0.042,2, -999.000,5, -999.000,9,-999.0000,9,  -999.00,9,-999.000,9,   -999,-999.0000,-999.000,-999.000,  9.7728,-999.000
     32MW893_2,  P04C,    99,  1,     17,     17,2,19890314,1522,  9.4900,-177.8367, 5907,    395.8,   9.0220,  34.6459,2,  34.6435,2,   -999.0,5,   -999.0,5,    38.58,2,    35.68,2,     0.00,2,     2.58,2,    0.028,2, -999.000,5, -999.000,9,-999.0000,9,  -999.00,9,-999.000,9,   -999,-999.0000,-999.000,-999.000,  8.9786,-999.000
     32MW893_2,  P04C,    99,  1,     16,     16,2,19890314,1522,  9.4900,-177.8367, 5907,    495.7,   8.2713,  34.6215,2,  34.6101,2,   -999.0,5,     25.2,2,    45.47,2,    37.14,2,     0.00,2,     2.75,2,    0.006,2, -999.000,5, -999.000,9,-999.0000,9,  -999.00,9,-999.000,9,   -999,-999.0000,-999.000,-999.000,  8.2194,-999.000
     32MW893_2,  P04C,    99,  1,     15,     15,2,19890314,1522,  9.4900,-177.8367, 5907,    748.2,   6.0102,  34.5420,2,  34.5396,2,   -999.0,5,     35.6,2,    70.18,2,    40.96,2,     0.00,2,     2.99,2,   -0.002,2,    0.013,2, -999.000,9,-999.0000,9,  -999.00,9,-999.000,9,   -999,-999.0000,-999.000,-999.000,  5.9434,-999.000
     32MW893_2,  P04C,    99,  1,     13,     13,2,19890314,1522,  9.4900,-177.8367, 5907,   1497.2,   3.0743,  34.5953,2,  34.5967,2,   -999.0,5,     86.0,2,   124.60,2,    39.88,2,     0.00,2,     2.86,2,   -0.005,2,    0.001,2, -999.000,9,-999.0000,9,  -999.00,9,-999.000,9,   -999,-999.0000,-999.000,-999.000,  2.9658,-999.000
     32MW893_2,  P04C,    99,  1,     12,     12,2,19890314,1522,  9.4900,-177.8367, 5907,   1998.3,   2.2026,  34.6376,2,  34.6362,2,   -999.0,5,    107.8,2,   142.81,2,    38.71,2,     0.00,2,     2.75,2,   -0.008,2,   -0.005,2, -999.000,9,-999.0000,9,  -999.00,9,-999.000,9,   -999,-999.0000,-999.000,-999.000,  2.0632,-999.000
     32MW893_2,  P04C,    99,  1,     11,     11,2,19890314,1522,  9.4900,-177.8367, 5907,   2749.9,   1.7308,  34.6667,2,  34.6643,2,   -999.0,5,    126.9,2,   152.16,2,    37.63,2,     0.00,2,     2.64,2, -999.000,9, -999.000,9, -999.000,9,-999.0000,9,  -999.00,9,-999.000,9,   -999,-999.0000,-999.000,-999.000,  1.5326,-999.000
     32MW893_2,  P04C,    99,  1,      9,      9,2,19890314,1522,  9.4900,-177.8367, 5907,   4253.5,   1.3260,  34.6951,2,  34.6950,2,   -999.0,5,    176.0,2,   135.62,2,    34.31,2,     0.00,2,     2.38,2, -999.000,9, -999.000,9, -999.000,9,-999.0000,9,  -999.00,9,-999.000,9,   -999,-999.0000,-999.000,-999.000,  0.9842,-999.000
     32MW893_2,  P04C,    99,  1,      8,      8,2,19890314,1522,  9.4900,-177.8367, 5907,   5002.6,   1.2910,  34.7023,2,  34.7030,2,   -999.0,5,    190.3,2,   128.33,2,    33.33,2,     0.00,2,     2.29,2, -999.000,9, -999.000,9, -999.000,9,-999.0000,9,  -999.00,9,-999.000,9,   -999,-999.0000,-999.000,-999.000,  0.8634,-999.000
     32MW893_2,  P04C,    99,  1,      7,      7,2,19890314,1522,  9.4900,-177.8367, 5907,   5202.5,   1.3020,  34.7026,2,  34.7025,2,   -999.0,5,    194.7,2,   126.96,2,    33.13,2,     0.00,2,     2.29,2, -999.000,9, -999.000,9, -999.000,9,-999.0000,9,  -999.00,9,-999.000,9,   -999,-999.0000,-999.000,-999.000,  0.8497,-999.000
     32MW893_2,  P04C,    99,  1,      6,      6,2,19890314,1522,  9.4900,-177.8367, 5907,   5301.9,   1.3110,  34.7029,2,  34.7040,2,   -999.0,5,    192.9,2,   126.76,2,    33.13,2,     0.00,2,     2.29,2, -999.000,9, -999.000,9, -999.000,9,-999.0000,9,  -999.00,9,-999.000,9,   -999,-999.0000,-999.000,-999.000,  0.8461,-999.000
     32MW893_2,  P04C,    99,  1,      5,      5,2,19890314,1522,  9.4900,-177.8367, 5907,   5403.0,   1.3210,  34.7042,2,  34.7036,2,   -999.0,5,    193.8,2,   126.56,2,    33.04,2,     0.00,2,     2.28,2, -999.000,9, -999.000,9, -999.000,9,-999.0000,9,  -999.00,9,-999.000,9,   -999,-999.0000,-999.000,-999.000,  0.8431,-999.000
     32MW893_2,  P04C,    99,  1,      4,      4,2,19890314,1522,  9.4900,-177.8367, 5907,   5502.4,   1.3320,  34.7041,2,  34.7076,2,   -999.0,5,    194.7,2,   125.67,2,    32.94,2,     0.00,2,     2.27,2, -999.000,9, -999.000,9, -999.000,9,-999.0000,9,  -999.00,9,-999.000,9,   -999,-999.0000,-999.000,-999.000,  0.8411,-999.000
     32MW893_2,  P04C,    99,  1,      3,      3,2,19890314,1522,  9.4900,-177.8367, 5907,   5604.0,   1.3440,  34.7050,2,  34.7032,2,   -999.0,5,    195.1,2,   125.87,2,    33.04,2,     0.00,2,     2.27,2, -999.000,9, -999.000,9, -999.000,9,-999.0000,9,  -999.00,9,-999.000,9,   -999,-999.0000,-999.000,-999.000,  0.8397,-999.000
     32MW893_2,  P04C,    99,  1,      2,      2,2,19890314,1522,  9.4900,-177.8367, 5907,   5702.9,   1.3550,  34.7058,2,  34.7021,2,   -999.0,5,    195.5,2,   126.16,2,    33.13,2,     0.00,2,     2.27,2,    0.019,2, -999.000,5, -999.000,9,-999.0000,9,  -999.00,9,-999.000,9,   -999,-999.0000,-999.000,-999.000,  0.8376,-999.000
     32MW893_2,  P04C,    99,  1,      1,      1,2,19890314,1522,  9.4900,-177.8367, 5907,   5911.5,   1.3820,  34.7053,2,  34.6997,2,   -999.0,5,   -999.0,5,   125.48,2,    33.04,2,     0.00,2,     2.27,2, -999.000,9, -999.000,9, -999.000,9,-999.0000,9,  -999.00,9,-999.000,9,   -999,-999.0000,-999.000,-999.000,  0.8364,-999.000
     32MW893_2,  P04C,   100,  1,     24,     24,2,19890315,0053,  9.4933,-177.0017, 5751,      6.9,  27.4929,  34.4623,2,  34.4630,2,   -999.0,5,    202.1,2,     1.28,2,     0.00,2,     0.00,2,     0.14,2, -999.000,9, -999.000,9, -999.000,9,-999.0000,9,  -999.00,9,-999.000,9,   -999,-999.0000,-999.000,-999.000, 27.4913,-999.000
     32MW893_2,  P04C,   100,  1,     23,     23,2,19890315,0053,  9.4933,-177.0017, 5751,     44.5,  27.4269,  34.4786,2,  34.4720,2,   -999.0,5,    220.8,2,     1.48,2,     0.10,2,     0.00,2,     0.16,2, -999.000,9, -999.000,9, -999.000,9,-999.0000,9,  -999.00,9,-999.000,9,   -999,-999.0000,-999.000,-999.000, 27.4166,-999.000
     32MW893_2,  P04C,   100,  1,     22,     22,2,19890315,0053,  9.4933,-177.0017, 5751,     98.0,  22.3950,  34.9962,2,  35.0079,2,   -999.0,5,    198.9,2,     1.77,2,     0.20,2,     0.02,2,     0.24,2, -999.000,9, -999.000,9, -999.000,9,-999.0000,9,  -999.00,9,-999.000,9,   -999,-999.0000,-999.000,-999.000, 22.3754,-999.000
     32MW893_2,  P04C,   100,  1,     21,     21,2,19890315,0053,  9.4933,-177.0017, 5751,    146.3,  14.9621,  34.5838,2,  34.5690,2,   -999.0,5,    123.0,2,    12.60,2,    16.03,2,     0.03,2,     1.24,2, -999.000,9, -999.000,9, -999.000,9,-999.0000,9,  -999.00,9,-999.000,9,   -999,-999.0000,-999.000,-999.000, 14.9401,-999.000
     32MW893_2,  P04C,   100,  1,     20,     20,2,19890315,0053,  9.4933,-177.0017, 5751,    196.6,  11.1623,  34.6572,2,  34.6571,2,   -999.0,5,     24.8,2,    30.60,2,    32.94,2,     0.00,2,     2.39,2, -999.000,9, -999.000,9, -999.000,9,-999.0000,9,  -999.00,9,-999.000,9,   -999,-999.0000,-999.000,-999.000, 11.1379,-999.000
     32MW893_2,  P04C,   100,  1,     19,     19,2,19890315,0053,  9.4933,-177.0017, 5751,    246.4,  10.3145,  34.6817,2,  34.6808,2,   -999.0,5,     29.5,2,    32.97,2,    34.31,2,     0.00,2,     2.41,2, -999.000,9, -999.000,9, -999.000,9,-999.0000,9,  -999.00,9,-999.000,9,   -999,-999.0000,-999.000,-999.000, 10.2854,-999.000
     32MW893_2,  P04C,   100,  1,     18,     18,2,19890315,0053,  9.4933,-177.0017, 5751,    296.5,   9.8617,  34.6774,2,  34.6744,2,   -999.0,5,     26.5,2,    34.93,2,    35.29,2,     0.00,2,     2.47,2, -999.000,9, -999.000,9, -999.000,9,-999.0000,9,  -999.00,9,-999.000,9,   -999,-999.0000,-999.000,-999.000,  9.8275,-999.000
     32MW893_2,  P04C,   100,  1,     17,     17,2,19890315,0053,  9.4933,-177.0017, 5751,    413.5,   8.9451,  34.6405,2,  34.6370,2,   -999.0,5,     23.0,2,    41.14,2,    37.05,2,     0.00,2,     2.67,2, -999.000,9, -999.000,9, -999.000,9,-999.0000,9,  -999.00,9,-999.000,9,   -999,-999.0000,-999.000,-999.000,  8.9000,-999.000
     32MW893_2,  P04C,   100,  1,     16,     16,2,19890315,0053,  9.4933,-177.0017, 5751,    494.7,   8.1703,  34.6022,2,  34.6076,2,   -999.0,5,     25.2,2,    47.53,2,    37.93,2,     0.00,2,     2.78,2, -999.000,9, -999.000,9, -999.000,9,-999.0000,9,  -999.00,9,-999.000,9,   -999,-999.0000,-999.000,-999.000,  8.1190,-999.000
     32MW893_2,  P04C,   100,  1,     15,     15,2,19890315,0053,  9.4933,-177.0017, 5751,    746.6,   6.0441,  34.5442,2,  34.5386,2,   -999.0,5,     34.8,2,    70.47,2,    41.74,2,     0.00,2,     2.97,2, -999.000,9, -999.000,9, -999.000,9,-999.0000,9,  -999.00,9,-999.000,9,   -999,-999.0000,-999.000,-999.000,  5.9774,-999.000
     32MW893_2,  P04C,   100,  1,     14,     14,2,19890315,0053,  9.4933,-177.0017, 5751,    993.6,   4.7716,  34.5520,2,  34.5512,2,   -999.0,5,     47.4,2,    90.06,2,    42.62,2,     0.00,2,     3.03,2, -999.000,9, -999.000,9, -999.000,9,-999.0000,9,  -999.00,9,-999.000,9,   -999,-999.0000,-999.000,-999.000,  4.6905,-999.000
     32MW893_2,  P04C,   100,  1,     13,     13,2,19890315,0053,  9.4933,-177.0017, 5751,   1496.7,   3.1013,  34.5958,2,  34.5985,2,   -999.0,5,     84.3,2,   124.40,2,    40.76,2,     0.00,2,     2.88,2, -999.000,9, -999.000,9, -999.000,9,-999.0000,9,  -999.00,9,-999.000,9,   -999,-999.0000,-999.000,-999.000,  2.9925,-999.000
     32MW893_2,  P04C,   100,  1,     12,     12,2,19890315,0053,  9.4933,-177.0017, 5751,   1997.5,   2.1926,  34.6364,2,  34.6343,2,   -999.0,5,    106.0,2,   143.70,2,    39.68,2,     0.00,2,     2.73,2, -999.000,9, -999.000,9, -999.000,9,-999.0000,9,  -999.00,9,-999.000,9,   -999,-999.0000,-999.000,-999.000,  2.0534,-999.000
     32MW893_2,  P04C,   100,  1,     11,     11,2,19890315,0053,  9.4933,-177.0017, 5751,   2751.2,   1.7698,  34.6650,2,  34.6649,2,   -999.0,5,    123.4,2,   151.07,2,    38.41,2,     0.00,2,     2.60,2, -999.000,9, -999.000,9, -999.000,9,-999.0000,9,  -999.00,9,-999.000,9,   -999,-999.0000,-999.000,-999.000,  1.5707,-999.000
     32MW893_2,  P04C,   100,  1,     10,     10,2,19890315,0053,  9.4933,-177.0017, 5751,   3501.5,   1.5359,  34.6814,2,  34.6850,2,   -999.0,5,    146.9,2,   149.00,2,    37.04,2,     0.00,2,     2.52,2, -999.000,9, -999.000,9, -999.000,9,-999.0000,9,  -999.00,9,-999.000,9,   -999,-999.0000,-999.000,-999.000,  1.2687,-999.000
     32MW893_2,  P04C,   100,  1,      9,      9,2,19890315,0053,  9.4933,-177.0017, 5751,   4253.8,   1.3290,  34.6942,2,-999.0000,5,   -999.0,5,    175.1,2,   136.20,2,    34.99,2,     0.00,2,     2.38,2, -999.000,9, -999.000,9, -999.000,9,-999.0000,9,  -999.00,9,-999.000,9,   -999,-999.0000,-999.000,-999.000,  0.9871,-999.000
     32MW893_2,  P04C,   100,  1,      8,      8,2,19890315,0053,  9.4933,-177.0017, 5751,   5007.3,   1.2850,  34.7031,2,-999.0000,5,   -999.0,5,    191.2,2,   127.35,2,    33.82,2,     0.00,2,     2.30,2, -999.000,9, -999.000,9, -999.000,9,-999.0000,9,  -999.00,9,-999.000,9,   -999,-999.0000,-999.000,-999.000,  0.8572,-999.000
     32MW893_2,  P04C,   100,  1,      7,      7,2,19890315,0053,  9.4933,-177.0017, 5751,   5203.0,   1.3010,  34.7035,2,  34.7040,2,   -999.0,5,    192.5,2,   126.86,2,    33.82,2,     0.00,2,     2.29,2, -999.000,9, -999.000,9, -999.000,9,-999.0000,9,  -999.00,9,-999.000,9,   -999,-999.0000,-999.000,-999.000,  0.8487,-999.000
     32MW893_2,  P04C,   100,  1,      6,      6,2,19890315,0053,  9.4933,-177.0017, 5751,   5404.6,   1.3240,  34.7041,2,  34.7030,2,   -999.0,5,    192.9,2,   126.86,2,    33.82,2,     0.01,2,     2.29,2, -999.000,9, -999.000,9, -999.000,9,-999.0000,9,  -999.00,9,-999.000,9,   -999,-999.0000,-999.000,-999.000,  0.8458,-999.000
     32MW893_2,  P04C,   100,  1,      5,      5,2,19890315,0053,  9.4933,-177.0017, 5751,   5504.6,   1.3360,  34.7028,2,  34.7082,2,   -999.0,5,    192.5,2,   126.66,2,    33.72,2,     0.01,2,     2.29,2, -999.000,9, -999.000,9, -999.000,9,-999.0000,9,  -999.00,9,-999.000,9,   -999,-999.0000,-999.000,-999.000,  0.8447,-999.000
     32MW893_2,  P04C,   100,  1,      4,      4,2,19890315,0053,  9.4933,-177.0017, 5751,   5603.1,   1.3470,  34.7046,2,  34.7025,2,   -999.0,5,    192.5,2,   126.47,2,    33.72,2,     0.01,2,     2.28,2, -999.000,9, -999.000,9, -999.000,9,-999.0000,9,  -999.00,9,-999.000,9,   -999,-999.0000,-999.000,-999.000,  0.8428,-999.000
     32MW893_2,  P04C,   100,  1,      3,      3,2,19890315,0053,  9.4933,-177.0017, 5751,   5703.1,   1.3590,  34.7040,2,  34.7034,2,   -999.0,5,    192.5,2,   126.16,2,    33.72,2,     0.01,2,     2.29,2, -999.000,9, -999.000,9, -999.000,9,-999.0000,9,  -999.00,9,-999.000,9,   -999,-999.0000,-999.000,-999.000,  0.8414,-999.000
     32MW893_2,  P04C,   100,  1,      2,      2,2,19890315,0053,  9.4933,-177.0017, 5751,   5804.4,   1.3710,  34.7056,2,  34.7048,2,   -999.0,5,    192.9,2,   126.66,2,    33.72,2,     0.01,2,     2.29,2, -999.000,9, -999.000,9, -999.000,9,-999.0000,9,  -999.00,9,-999.000,9,   -999,-999.0000,-999.000,-999.000,  0.8398,-999.000
     32MW893_2,  P04C,   100,  1,      1,      1,2,19890315,0053,  9.4933,-177.0017, 5751,   5955.9,   1.3890,  34.7063,2,-999.0000,5,   -999.0,5,    192.0,2,   126.56,2,    33.49,2,     0.01,2,     2.29,2, -999.000,9, -999.000,9, -999.000,9,-999.0000,9,  -999.00,9,-999.000,9,   -999,-999.0000,-999.000,-999.000,  0.8372,-999.000