BOTTLE,20020311WHPSIOdm
EXPOCODE,SECT_ID,STNNBR,CASTNO,SAMPNO,BTLNBR,BTLNBR_FLAG_W,DATE,TIME,LATITUDE,LONGITUDE,DEPTH,CTDPRS,CTDTMP,CTDSAL,CTDSAL_FLAG_W,SALNTY,SALNTY_FLAG_W,CTDOXY,CTDOXY_FLAG_W,OXYGEN,OXYGEN_FLAG_W,SILCAT,SILCAT_FLAG_W,NITRAT,NITRAT_FLAG_W,NITRIT,NITRIT_FLAG_W,PHSPHT,PHSPHT_FLAG_W,CFC-11,CFC-11_FLAG_W,CFC-12,CFC-12_FLAG_W,TRITUM,TRITUM_FLAG_W,HELIUM,HELIUM_FLAG_W,DELHE3,DELHE3_FLAG_W,NEON,NEON_FLAG_W,CTDRAW,HELIER,DELHER,NEONER,THETA,TRITER
,,,,,,,,,,,,DBAR,ITS-90,PSS-78,,PSS-78,,UMOL/KG,,UMOL/KG,,UMOL/KG,,UMOL/KG,,UMOL/KG,,UMOL/KG,,PMOL/KG,,PMOL/KG,,TU,,NMOL/KG,,PERCNT,,NMOL/KG,,,NMOL/KG,PERCNT,NMOL/KG,ITS-90,TU
     32MW893_2,  P04C,   109,  1,     24,     24,2,19890318,0854,  9.4950,-169.5033, 4572,      8.0,  26.7601,  34.3803,2,  34.3763,2,   -999.0,5,    216.9,2,     0.89,2,     0.00,2,     0.00,2,     0.17,2, -999.000,9, -999.000,9, -999.000,9,-999.0000,9,  -999.00,9,-999.000,9,   -999,-999.0000,-999.000,-999.000, 26.7583,-999.000
     32MW893_2,  P04C,   109,  1,     23,     23,2,19890318,0854,  9.4950,-169.5033, 4572,     46.4,  26.6891,  34.3707,2,  34.3680,2,   -999.0,5,    216.4,2,     0.89,2,     0.00,2,     0.00,2,     0.21,2, -999.000,9, -999.000,9, -999.000,9,-999.0000,9,  -999.00,9,-999.000,9,   -999,-999.0000,-999.000,-999.000, 26.6786,-999.000
     32MW893_2,  P04C,   109,  1,     22,     22,2,19890318,0854,  9.4950,-169.5033, 4572,     97.9,  21.4642,  34.8508,2,  34.8853,2,   -999.0,5,    198.1,2,     2.06,2,     0.20,2,     0.00,2,     0.30,2, -999.000,9, -999.000,9, -999.000,9,-999.0000,9,  -999.00,9,-999.000,9,   -999,-999.0000,-999.000,-999.000, 21.4453,-999.000
     32MW893_2,  P04C,   109,  1,     21,     21,2,19890318,0854,  9.4950,-169.5033, 4572,    146.6,  15.7388,  34.6046,2,  34.6213,2,   -999.0,5,    149.5,2,     8.56,2,    11.34,2,     0.00,2,     0.95,2, -999.000,9, -999.000,9, -999.000,9,-999.0000,9,  -999.00,9,-999.000,9,   -999,-999.0000,-999.000,-999.000, 15.7160,-999.000
     32MW893_2,  P04C,   109,  1,     20,     20,2,19890318,0854,  9.4950,-169.5033, 4572,    197.8,  11.0463,  34.5015,2,-999.0000,5,   -999.0,5,     56.9,2,    28.25,2,    28.84,2,     0.00,2,     2.17,2, -999.000,9, -999.000,9, -999.000,9,-999.0000,9,  -999.00,9,-999.000,9,   -999,-999.0000,-999.000,-999.000, 11.0220,-999.000
     32MW893_2,  P04C,   109,  1,     19,     19,2,19890318,0854,  9.4950,-169.5033, 4572,    247.0,  10.0237,  34.5897,2,-999.0000,5,   -999.0,5,     32.6,2,    34.35,2,    33.23,2,     0.00,2,     2.43,2, -999.000,9, -999.000,9, -999.000,9,-999.0000,9,  -999.00,9,-999.000,9,   -999,-999.0000,-999.000,-999.000,  9.9950,-999.000
     32MW893_2,  P04C,   109,  1,     18,     18,2,19890318,0854,  9.4950,-169.5033, 4572,    296.9,   9.4358,  34.6206,2,  34.6239,2,   -999.0,5,     30.0,2,    37.20,2,    35.38,2,     0.00,2,     2.50,2, -999.000,9, -999.000,9, -999.000,9,-999.0000,9,  -999.00,9,-999.000,9,   -999,-999.0000,-999.000,-999.000,  9.4026,-999.000
     32MW893_2,  P04C,   109,  1,     17,     17,2,19890318,0854,  9.4950,-169.5033, 4572,    348.2,   9.1830,  34.6386,2,  34.6525,2,   -999.0,5,     22.2,2,    38.38,2,    36.17,2,     0.00,2,     2.61,2, -999.000,9, -999.000,9, -999.000,9,-999.0000,9,  -999.00,9,-999.000,9,   -999,-999.0000,-999.000,-999.000,  9.1445,-999.000
     32MW893_2,  P04C,   109,  1,     16,     16,2,19890318,0854,  9.4950,-169.5033, 4572,    397.6,   8.6871,  34.6183,2,  34.6252,2,   -999.0,5,     24.8,2,    42.32,2,    37.24,2,     0.00,2,     2.70,2, -999.000,9, -999.000,9, -999.000,9,-999.0000,9,  -999.00,9,-999.000,9,   -999,-999.0000,-999.000,-999.000,  8.6445,-999.000
     32MW893_2,  P04C,   109,  1,     15,     15,2,19890318,0854,  9.4950,-169.5033, 4572,    497.8,   7.7764,  34.5665,2,  34.5787,2,   -999.0,5,     38.7,2,    49.51,2,    37.73,2,     0.00,2,     2.71,2, -999.000,9, -999.000,9, -999.000,9,-999.0000,9,  -999.00,9,-999.000,9,   -999,-999.0000,-999.000,-999.000,  7.7262,-999.000
     32MW893_2,  P04C,   109,  1,     14,     14,2,19890318,0854,  9.4950,-169.5033, 4572,    596.4,   6.8688,  34.5414,2,  34.5423,2,   -999.0,5,     39.1,2,    59.26,2,    39.39,2,     0.00,2,     2.82,2, -999.000,9, -999.000,9, -999.000,9,-999.0000,9,  -999.00,9,-999.000,9,   -999,-999.0000,-999.000,-999.000,  6.8123,-999.000
     32MW893_2,  P04C,   109,  1,     13,     13,2,19890318,0854,  9.4950,-169.5033, 4572,    797.0,   5.4363,  34.5446,2,  34.5384,2,   -999.0,5,     41.3,2,    78.25,2,    42.03,2,     0.00,2,     2.99,2, -999.000,9, -999.000,9, -999.000,9,-999.0000,9,  -999.00,9,-999.000,9,   -999,-999.0000,-999.000,-999.000,  5.3684,-999.000
     32MW893_2,  P04C,   109,  1,     12,     12,2,19890318,0854,  9.4950,-169.5033, 4572,    997.9,   4.5637,  34.5448,2,  34.5512,2,   -999.0,5,     53.9,2,    92.62,2,    42.03,2,     0.00,2,     2.96,2, -999.000,9, -999.000,9, -999.000,9,-999.0000,9,  -999.00,9,-999.000,9,   -999,-999.0000,-999.000,-999.000,  4.4838,-999.000
     32MW893_2,  P04C,   109,  1,     11,     11,2,19890318,0854,  9.4950,-169.5033, 4572,   1247.9,   3.6990,  34.5774,2,  34.5751,2,   -999.0,5,     69.1,2,   111.02,2,    41.54,2,     0.00,2,     2.93,2, -999.000,9, -999.000,9, -999.000,9,-999.0000,9,  -999.00,9,-999.000,9,   -999,-999.0000,-999.000,-999.000,  3.6050,-999.000
     32MW893_2,  P04C,   109,  1,     10,     10,2,19890318,0854,  9.4950,-169.5033, 4572,   1499.0,   3.0433,  34.6005,2,  34.5983,2,   -999.0,5,     80.4,2,   124.79,2,    40.86,2,     0.00,2,     2.90,2, -999.000,9, -999.000,9, -999.000,9,-999.0000,9,  -999.00,9,-999.000,9,   -999,-999.0000,-999.000,-999.000,  2.9350,-999.000
     32MW893_2,  P04C,   109,  1,      9,      9,2,19890318,0854,  9.4950,-169.5033, 4572,   2000.6,   2.2476,  34.6372,2,  34.6388,2,   -999.0,5,    101.2,2,   142.90,2,    39.78,2,     0.00,2,     2.79,2, -999.000,9, -999.000,9, -999.000,9,-999.0000,9,  -999.00,9,-999.000,9,   -999,-999.0000,-999.000,-999.000,  2.1073,-999.000
     32MW893_2,  P04C,   109,  1,      8,      8,2,19890318,0854,  9.4950,-169.5033, 4572,   2549.6,   1.8608,  34.6627,2,  34.6618,2,   -999.0,5,    117.3,2,   150.68,2,    38.71,2,     0.00,2,     2.71,2, -999.000,9, -999.000,9, -999.000,9,-999.0000,9,  -999.00,9,-999.000,9,   -999,-999.0000,-999.000,-999.000,  1.6785,-999.000
     32MW893_2,  P04C,   109,  1,      7,      7,2,19890318,0854,  9.4950,-169.5033, 4572,   3001.9,   1.6978,  34.6710,2,-999.0000,5,   -999.0,5,   -999.0,5,   152.16,2,    38.22,2,     0.00,2,     2.64,2, -999.000,9, -999.000,9, -999.000,9,-999.0000,9,  -999.00,9,-999.000,9,   -999,-999.0000,-999.000,-999.000,  1.4765,-999.000
     32MW893_2,  P04C,   109,  1,      6,      6,2,19890318,0854,  9.4950,-169.5033, 4572,   3253.3,   1.6118,  34.6766,2,  34.6779,2,   -999.0,5,    136.0,2,   151.46,2,    37.34,2,     0.00,2,     2.58,2, -999.000,9, -999.000,9, -999.000,9,-999.0000,9,  -999.00,9,-999.000,9,   -999,-999.0000,-999.000,-999.000,  1.3678,-999.000
     32MW893_2,  P04C,   109,  1,      5,      5,2,19890318,0854,  9.4950,-169.5033, 4572,   3504.0,   1.5329,  34.6809,2,  34.6816,2,   -999.0,5,    146.0,2,   149.79,2,    36.95,2,     0.00,2,     2.52,2, -999.000,9, -999.000,9, -999.000,9,-999.0000,9,  -999.00,9,-999.000,9,   -999,-999.0000,-999.000,-999.000,  1.2656,-999.000
     32MW893_2,  P04C,   109,  1,      4,      4,2,19890318,0854,  9.4950,-169.5033, 4572,   3754.6,   1.4879,  34.6843,2,  34.6844,2,   -999.0,5,    151.2,2,   148.51,2,    36.56,2,     0.00,2,     2.49,2, -999.000,9, -999.000,9, -999.000,9,-999.0000,9,  -999.00,9,-999.000,9,   -999,-999.0000,-999.000,-999.000,  1.1957,-999.000
     32MW893_2,  P04C,   109,  1,      3,      3,2,19890318,0854,  9.4950,-169.5033, 4572,   4005.9,   1.4100,  34.6889,2,  34.6926,2,   -999.0,5,    162.5,2,   142.70,2,    35.77,2,     0.00,2,     2.44,2, -999.000,9, -999.000,9, -999.000,9,-999.0000,9,  -999.00,9,-999.000,9,   -999,-999.0000,-999.000,-999.000,  1.0929,-999.000
     32MW893_2,  P04C,   109,  1,      2,      2,2,19890318,0854,  9.4950,-169.5033, 4572,   4254.7,   1.3510,  34.6949,2,  34.6930,2,   -999.0,5,    171.6,2,   138.96,2,    35.19,2,     0.00,2,     2.40,2, -999.000,9, -999.000,9, -999.000,9,-999.0000,9,  -999.00,9,-999.000,9,   -999,-999.0000,-999.000,-999.000,  1.0083,-999.000
     32MW893_2,  P04C,   109,  1,      1,      1,2,19890318,0854,  9.4950,-169.5033, 4572,   4610.8,   1.2950,  34.6979,2,-999.0000,5,   -999.0,5,    184.7,2,   131.38,2,    34.21,2,     0.00,2,     2.35,2, -999.000,9, -999.000,9, -999.000,9,-999.0000,9,  -999.00,9,-999.000,9,   -999,-999.0000,-999.000,-999.000,  0.9136,-999.000
     32MW893_2,  P04C,   110,  1,     24,     24,2,19890318,1650,  9.4950,-168.6717, 5214,      5.1,  26.9600,  34.4447,2,  34.4448,2,   -999.0,5,    213.4,2,     1.38,2,     0.00,2,     0.00,2,     0.17,2,    1.667,2,    0.927,2, -999.000,9,-999.0000,9,  -999.00,9,-999.000,9,   -999,-999.0000,-999.000,-999.000, 26.9588,-999.000
     32MW893_2,  P04C,   110,  1,     23,     23,2,19890318,1650,  9.4950,-168.6717, 5214,     46.4,  27.0310,  34.5255,2,  34.5223,2,   -999.0,5,    212.9,2,     1.67,2,     0.10,2,     0.00,2,     0.19,2,    1.687,2,    0.969,2, -999.000,9,-999.0000,9,  -999.00,9,-999.000,9,   -999,-999.0000,-999.000,-999.000, 27.0204,-999.000
     32MW893_2,  P04C,   110,  1,     22,     22,2,19890318,1650,  9.4950,-168.6717, 5214,     97.9,  20.9884,  34.7945,2,  34.8570,2,   -999.0,5,    195.1,2,     2.56,2,     0.98,2,     0.04,2,     0.33,2,    1.826,2,    0.999,2, -999.000,9,-999.0000,9,  -999.00,9,-999.000,9,   -999,-999.0000,-999.000,-999.000, 20.9697,-999.000
     32MW893_2,  P04C,   110,  1,     21,     21,2,19890318,1650,  9.4950,-168.6717, 5214,    146.6,  14.1903,  34.5160,2,  34.5215,2,   -999.0,5,    138.6,2,    12.00,2,    14.86,2,     0.03,2,     1.16,2,    1.528,2,    0.769,2, -999.000,9,-999.0000,9,  -999.00,9,-999.000,9,   -999,-999.0000,-999.000,-999.000, 14.1690,-999.000
     32MW893_2,  P04C,   110,  1,     20,     20,2,19890318,1650,  9.4950,-168.6717, 5214,    197.0,  10.9634,  34.4753,2,-999.0000,5,   -999.0,5,     60.4,2,    28.54,2,    28.94,2,     0.00,2,     2.17,2,    0.468,2,    0.255,2, -999.000,9,-999.0000,9,  -999.00,9,-999.000,9,   -999,-999.0000,-999.000,-999.000, 10.9393,-999.000
     32MW893_2,  P04C,   110,  1,     19,     19,2,19890318,1650,  9.4950,-168.6717, 5214,    246.9,   9.9737,  34.6273,2,-999.0000,5,   -999.0,5,     30.4,2,    34.55,2,    34.31,2,     0.00,2,     2.45,2,    0.101,2,    0.053,2, -999.000,9,-999.0000,9,  -999.00,9,-999.000,9,   -999,-999.0000,-999.000,-999.000,  9.9452,-999.000
     32MW893_2,  P04C,   110,  1,     18,     18,2,19890318,1650,  9.4950,-168.6717, 5214,    296.8,   9.4078,  34.6436,2,  34.6317,2,   -999.0,5,     31.3,2,    37.01,2,    35.77,2,     0.00,2,     2.53,2, -999.000,5,    0.017,2, -999.000,9,-999.0000,9,  -999.00,9,-999.000,9,   -999,-999.0000,-999.000,-999.000,  9.3746,-999.000
     32MW893_2,  P04C,   110,  1,     17,     17,2,19890318,1650,  9.4950,-168.6717, 5214,    350.0,   9.1670,  34.6419,2,  34.6396,2,   -999.0,5,     26.5,2,    38.48,2,    36.46,2,     0.00,2,     2.57,2,    0.034,2, -999.000,5, -999.000,9,-999.0000,9,  -999.00,9,-999.000,9,   -999,-999.0000,-999.000,-999.000,  9.1284,-999.000
     32MW893_2,  P04C,   110,  1,     16,     16,2,19890318,1650,  9.4950,-168.6717, 5214,    397.3,   8.8731,  34.6396,2,  34.6248,2,   -999.0,5,     29.5,2,    40.35,2,    36.85,2,     0.00,2,     2.61,2,    0.025,2, -999.000,5, -999.000,9,-999.0000,9,  -999.00,9,-999.000,9,   -999,-999.0000,-999.000,-999.000,  8.8300,-999.000
     32MW893_2,  P04C,   110,  1,     15,     15,2,19890318,1650,  9.4950,-168.6717, 5214,    497.3,   7.9394,  34.5946,2,  34.5889,2,   -999.0,5,     23.0,2,    49.41,2,    38.51,2,     0.00,2,     2.83,2,    0.008,2,    0.008,2, -999.000,9,-999.0000,9,  -999.00,9,-999.000,9,   -999,-999.0000,-999.000,-999.000,  7.8886,-999.000
     32MW893_2,  P04C,   110,  1,     14,     14,2,19890318,1650,  9.4950,-168.6717, 5214,    597.9,   6.9447,  34.5546,2,  34.5535,2,   -999.0,5,     27.8,2,    59.35,2,    40.37,2,     0.00,2,     2.93,2,    0.013,2,   -0.004,2, -999.000,9,-999.0000,9,  -999.00,9,-999.000,9,   -999,-999.0000,-999.000,-999.000,  6.8877,-999.000
     32MW893_2,  P04C,   110,  1,     13,     13,2,19890318,1650,  9.4950,-168.6717, 5214,    798.4,   5.5583,  34.5374,2,  34.5398,2,   -999.0,5,     36.5,2,    77.46,2,    42.82,2,     0.00,2,     3.06,2,    0.000,2,   -0.005,2, -999.000,9,-999.0000,9,  -999.00,9,-999.000,9,   -999,-999.0000,-999.000,-999.000,  5.4895,-999.000
     32MW893_2,  P04C,   110,  1,     12,     12,2,19890318,1650,  9.4950,-168.6717, 5214,    998.8,   4.5657,  34.5631,2,  34.5573,2,   -999.0,5,     51.3,2,    93.61,2,    42.81,2,     0.00,2,     3.06,2,    0.016,2,    0.006,2, -999.000,9,-999.0000,9,  -999.00,9,-999.000,9,   -999,-999.0000,-999.000,-999.000,  4.4857,-999.000
     32MW893_2,  P04C,   110,  1,     11,     11,2,19890318,1650,  9.4950,-168.6717, 5214,   1247.0,   3.6870,  34.5810,2,  34.5787,2,   -999.0,5,     64.7,2,   112.70,2,    42.52,2,     0.00,2,     3.02,2, -999.000,9, -999.000,9, -999.000,9,-999.0000,9,  -999.00,9,-999.000,9,   -999,-999.0000,-999.000,-999.000,  3.5932,-999.000
     32MW893_2,  P04C,   110,  1,     10,     10,2,19890318,1650,  9.4950,-168.6717, 5214,   1502.7,   3.0363,  34.5977,2,  34.5946,2,   -999.0,5,     85.6,2,   125.39,2,    40.96,2,     0.00,2,     2.86,2, -999.000,9, -999.000,9, -999.000,9,-999.0000,9,  -999.00,9,-999.000,9,   -999,-999.0000,-999.000,-999.000,  2.9277,-999.000
     32MW893_2,  P04C,   110,  1,      9,      9,2,19890318,1650,  9.4950,-168.6717, 5214,   2001.6,   2.2636,  34.6368,2,  34.6353,2,   -999.0,5,    102.5,2,   143.29,2,    40.08,2,     0.00,2,     2.81,2, -999.000,9, -999.000,9, -999.000,9,-999.0000,9,  -999.00,9,-999.000,9,   -999,-999.0000,-999.000,-999.000,  2.1230,-999.000
     32MW893_2,  P04C,   110,  1,      8,      8,2,19890318,1650,  9.4950,-168.6717, 5214,   2501.6,   1.9037,  34.6580,2,  34.6563,2,   -999.0,5,    116.9,2,   151.07,2,    39.20,2,     0.00,2,     2.71,2, -999.000,9, -999.000,9, -999.000,9,-999.0000,9,  -999.00,9,-999.000,9,   -999,-999.0000,-999.000,-999.000,  1.7251,-999.000
     32MW893_2,  P04C,   110,  1,      7,      7,2,19890318,1650,  9.4950,-168.6717, 5214,   3000.6,   1.7128,  34.6716,2,  34.6690,2,   -999.0,5,   -999.0,5,   152.55,2,    38.22,2,     0.00,2,     2.64,2, -999.000,9, -999.000,9, -999.000,9,-999.0000,9,  -999.00,9,-999.000,9,   -999,-999.0000,-999.000,-999.000,  1.4912,-999.000
     32MW893_2,  P04C,   110,  1,      6,      6,2,19890318,1650,  9.4950,-168.6717, 5214,   3507.4,   1.5399,  34.6805,2,  34.6806,2,   -999.0,5,   -999.0,5,   149.69,2,    37.34,2,     0.00,2,     2.55,2, -999.000,9, -999.000,9, -999.000,9,-999.0000,9,  -999.00,9,-999.000,9,   -999,-999.0000,-999.000,-999.000,  1.2720,-999.000
     32MW893_2,  P04C,   110,  1,      5,      5,2,19890318,1650,  9.4950,-168.6717, 5214,   4006.0,   1.3920,  34.6896,2,  34.6895,2,   -999.0,5,    165.5,2,   142.02,2,    36.07,2,     0.00,2,     2.44,2, -999.000,9, -999.000,9, -999.000,9,-999.0000,9,  -999.00,9,-999.000,9,   -999,-999.0000,-999.000,-999.000,  1.0754,-999.000
     32MW893_2,  P04C,   110,  1,      4,      4,2,19890318,1650,  9.4950,-168.6717, 5214,   4508.6,   1.3230,  34.6961,2,  34.6966,2,   -999.0,5,    180.7,2,   134.53,2,    35.09,2,     0.00,2,     2.38,2, -999.000,9, -999.000,9, -999.000,9,-999.0000,9,  -999.00,9,-999.000,9,   -999,-999.0000,-999.000,-999.000,  0.9525,-999.000
     32MW893_2,  P04C,   110,  1,      3,      3,2,19890318,1650,  9.4950,-168.6717, 5214,   5022.2,   1.3130,  34.7006,2,  34.6999,2,   -999.0,5,    191.6,2,   129.61,2,    34.50,2,     0.00,2,     2.32,2,    0.002,2,    0.001,2, -999.000,9,-999.0000,9,  -999.00,9,-999.000,9,   -999,-999.0000,-999.000,-999.000,  0.8823,-999.000
     32MW893_2,  P04C,   110,  1,      1,      1,2,19890318,1650,  9.4950,-168.6717, 5214,   5258.2,   1.3380,  34.7019,2,-999.0000,5,   -999.0,5,    191.2,2,   129.12,2,    34.50,2,     0.00,2,     2.34,2, -999.000,9, -999.000,9, -999.000,9,-999.0000,9,  -999.00,9,-999.000,9,   -999,-999.0000,-999.000,-999.000,  0.8776,-999.000
     32MW893_2,  P04C,   110,  1,      2,      2,2,19890318,1650,  9.4950,-168.6717, 5214,   5259.6,   1.3380,  34.7013,2,  34.7019,2,   -999.0,5,    188.6,2,   129.12,2,    34.40,2,     0.00,2,     2.34,2,   -0.004,2,   -0.005,2, -999.000,9,-999.0000,9,  -999.00,9,-999.000,9,   -999,-999.0000,-999.000,-999.000,  0.8774,-999.000