BOTTLE,20090817PRINUNIVRMK
# 4/21/05 Initialized README file 
# Data from Kozry 5/11/04 
# Corrected file from Skjelvan 7/5/05 
# Ship: Haakon Mosby 
# Cruise: 58AA9502 
# Cruise dates: 2/17 - 3/18/95 
# EXPOCODE: 58AA19950217 
# Region: Greenland-Norwegian Sea section at 75N 
# Chief Scientist - O.M. Johannessen , I. Skjelvan, L. Anderson 
# 34 stations;  with 12 place Rosette 
# Hydro: Who - O.M. Johannessen; Status - final 
# 	Notes: sta 461 near Bear Island 
# Nuts: Who - T. Johannessen; Status - final 
# 	Notes: Nut. samples preserved with chloroform and run 8mo. later. 
# 	Nitrate values show considerable scatter and are ~3umol/kg low relative to TTO  
# 	Silicate values compare favorably with TTO 
# 	Phosphate values from southern stations (421:483) are offset,flagged 3.  
# 	Other data show scatter, but are otherwise comperable to TTO 
# O2: Who - Eva Falck, University of Bergen; Status - final 
# 	Notes:final oxygen data from A.Olsen 11/23/07 
# 	Oxygen via Winkler titration; precision 1umol/kg 
# 	Ssouthern stations slightly higher than TTO, but probably real. Otherwise comparable. 
# TCO2: Who - L.Anderson/T.Johannessen/I.Skjelvan; Status - final 
# 	Notes: SOMMA/Coulometer 
# 	CRM used 
# 	Precision +/-3umol/kg 
# 	12 values flagged 3/4 
# 	On average deep water values are slightly lower than TTO, but within expected TTO uncertainty 
# TA: Who - L.Anderson/T.Johannessen/I.Skjelvan; Status - final 
# 	Notes: Open cell titration; calibrated with TRIS buffer 
# 	Overall quality marginal 
# 	Alk values are ~20umol/kg lower than TTO. The alk-salt relation  
# 		is not discernably different than for TTO 
# fCO2: Who - I. Skjelvan; Status - underway only 
# pH: Who - Anderson; Status - final 
# 	Notes: Spectrophotometric with m-Creosol purple at 15C, total H scale 
# 	Converted to SWS@25 
# 	Accuracy of +/-0.002; precision of 0.001 
# CFC: Who - A. Olsson/T. Tanhua; Status - final  
# 	Notes: Include CFC-11,12,113 
# C-13: Who - T. Johannessen; Status - not included  
# 	Notes: data too poor to be of value 
EXPOCODE,SECT_ID,STNNBR,CASTNO,BTLNBR,BTLNBR_FLAG_W,DATE,TIME,LATITUDE,LONGITUDE,DEPTH,CTDPRS,CTDTMP,CTDSAL,CTDSAL_FLAG_W,SALNTY,SALNTY_FLAG_W,OXYGEN,OXYGEN_FLAG_W,SILCAT,SILCAT_FLAG_W,NITRAT,NITRAT_FLAG_W,NITRIT,NITRIT_FLAG_W,PHSPHT,PHSPHT_FLAG_W,CFC-11,CFC-11_FLAG_W,CFC-12,CFC-12_FLAG_W,CFC113,CFC113_FLAG_W,TCARBN,TCARBN_FLAG_W,ALKALI,ALKALI_FLAG_W,PH_SWS,PH_TEMP,PH_SWS_FLAG_W,THETA
,,,,,,,,,,METERS,DBARS,ITS-90,PSS-78,,PSS-78,,UMOL/KG,,UMOL/KG,,UMOL/KG,,UMOL/KG,,UMOL/KG,,PMOL/KG,,PMOL/KG,,PMOL/KG,,UMOL/KG,,UMOL/KG,,,DEGC,,DEGC
  58AA19950217,   75N,     1,  2,   7633,2,19950224,0000, 74.9817,  -9.5530, 3155,      5.7,  -0.1910,  34.9000,2,  34.8990,2,    331.2,2,     6.70,3,    11.30,2,     0.07,2,     0.82,2,    4.610,2,    2.240,2,    0.340,2,   2144.5,2,   -999.0,9,   7.7073,    25.00,2,  -0.1912
  58AA19950217,   75N,     1,  2,   7634,2,19950224,0000, 74.9817,  -9.5530, 3155,     12.2,  -0.1940,  34.9010,2,  34.9080,2,    326.4,2,     6.70,3,    11.50,2,     0.07,2,     0.83,2,    5.020,2,    2.620,2,    0.410,2,   2144.2,2,   -999.0,9,-999.0000,  -999.00,9,  -0.1944
  58AA19950217,   75N,     1,  2,   7635,2,19950224,0000, 74.9817,  -9.5530, 3155,     21.5,  -0.1830,  34.9000,2,-999.0000,9,    325.5,2,     6.70,3,    11.50,2,     0.07,2,     0.80,2,    4.620,2,    2.990,2,    0.330,2,   2144.8,2,   -999.0,9,   7.7082,    25.00,2,  -0.1837
  58AA19950217,   75N,     1,  2,   7636,2,19950224,0000, 74.9817,  -9.5530, 3155,     30.6,  -0.1810,  34.9000,2,  34.8990,2,    326.8,2,     6.70,3,    11.20,2,     0.08,2,     0.88,2,    5.070,2,    2.370,2,    0.350,2,   2148.0,2,   -999.0,9,   7.7015,    25.00,2,  -0.1821
  58AA19950217,   75N,     1,  2,   7637,2,19950224,0000, 74.9817,  -9.5530, 3155,     48.7,  -0.1880,  34.9000,2,  34.8990,2,    326.4,2,     6.80,3,    11.20,2,     0.07,2,     0.83,2, -999.000,9, -999.000,9, -999.000,9,   2147.6,2,   -999.0,9,   7.7024,    25.00,2,  -0.1897
  58AA19950217,   75N,     1,  2,   7638,2,19950224,0000, 74.9817,  -9.5530, 3155,     75.3,  -0.2080,  34.8990,2,  34.8970,2,   -999.0,9,     6.70,3,    11.30,2,     0.07,2,     0.83,2,    4.950,2,    2.400,2,    0.410,2,   2145.9,2,   -999.0,9,   7.7073,    25.00,2,  -0.2106
  58AA19950217,   75N,     1,  2,   7639,2,19950224,0000, 74.9817,  -9.5530, 3155,    108.9,  -0.3300,  34.8980,2,  34.8960,2,    328.6,2,     6.80,3,    11.40,2,     0.07,2,     0.83,2,    4.600,2,    2.490,2,    0.330,2,   2152.3,2,   -999.0,9,   7.7015,    25.00,2,  -0.3337
  58AA19950217,   75N,     1,  2,   7640,2,19950224,0000, 74.9817,  -9.5530, 3155,    210.5,  -0.3580,  34.8970,2,  34.8970,2,    326.0,2,     6.80,3,    11.30,2,     0.07,2,     0.83,2,    4.990,2,    2.660,2,    0.370,2,   2147.6,2,   2269.0,2,   7.6977,    25.00,2,  -0.3653
  58AA19950217,   75N,     1,  2,   7641,2,19950224,0000, 74.9817,  -9.5530, 3155,    405.4,  -0.5540,  34.8900,2,  34.8900,2,    325.5,2,     7.10,3,    11.50,2,     0.07,2,     0.85,2, -999.000,9, -999.000,9, -999.000,9,   2148.3,2,   -999.0,9,   7.6928,    25.00,2,  -0.5680
  58AA19950217,   75N,     1,  1,   -999,3,19950224,0000, 74.9817,  -9.5530, 3155,    605.4,-999.0000,-999.0000,9,  34.8790,2,    326.1,2,  -999.00,9,  -999.00,9,  -999.00,9,  -999.00,9, -999.000,9, -999.000,9, -999.000,9,   2147.3,2,   -999.0,9,   7.6945,    25.00,2,-999.0000
  58AA19950217,   75N,     1,  1,   -999,3,19950224,0000, 74.9817,  -9.5530, 3155,    706.5,-999.0000,-999.0000,9,  34.8870,2,    322.6,2,  -999.00,9,  -999.00,9,  -999.00,9,  -999.00,9, -999.000,9, -999.000,9, -999.000,9,   -999.0,9,   -999.0,9,   7.6945,    25.00,2,-999.0000
  58AA19950217,   75N,     1,  1,   -999,3,19950224,0000, 74.9817,  -9.5530, 3155,    807.6,-999.0000,-999.0000,9,  34.8910,2,    309.9,2,  -999.00,9,  -999.00,9,  -999.00,9,  -999.00,9, -999.000,9, -999.000,9, -999.000,9,   2144.0,2,   2267.8,2,   7.6946,    25.00,2,-999.0000
  58AA19950217,   75N,     1,  1,   -999,3,19950224,0000, 74.9817,  -9.5530, 3155,   1009.9,-999.0000,-999.0000,9,  34.9020,2,    303.4,2,  -999.00,9,  -999.00,9,  -999.00,9,  -999.00,9, -999.000,9, -999.000,9, -999.000,9,   2156.5,2,   -999.0,9,   7.6945,    25.00,2,-999.0000
  58AA19950217,   75N,     1,  1,   -999,3,19950224,0000, 74.9817,  -9.5530, 3155,   1313.8,-999.0000,-999.0000,9,  34.9090,2,    300.8,2,  -999.00,9,  -999.00,9,  -999.00,9,  -999.00,9, -999.000,9, -999.000,9, -999.000,9,   2161.5,2,   -999.0,9,   7.6945,    25.00,2,-999.0000
  58AA19950217,   75N,     1,  1,   -999,3,19950224,0000, 74.9817,  -9.5530, 3155,   1516.6,-999.0000,-999.0000,9,  34.9090,2,    303.4,2,  -999.00,9,  -999.00,9,  -999.00,9,  -999.00,9, -999.000,9, -999.000,9, -999.000,9,   2147.6,2,   -999.0,9,   7.6945,    25.00,2,-999.0000
  58AA19950217,   75N,     1,  1,   -999,3,19950224,0000, 74.9817,  -9.5530, 3155,   1821.2,-999.0000,-999.0000,9,  34.9090,2,    302.5,2,  -999.00,9,  -999.00,9,  -999.00,9,  -999.00,9, -999.000,9, -999.000,9, -999.000,9,   2157.3,2,   2277.6,2,   7.6946,    25.00,2,-999.0000
  58AA19950217,   75N,     1,  1,   -999,3,19950224,0000, 74.9817,  -9.5530, 3155,   2024.5,-999.0000,-999.0000,9,  34.9130,2,    301.6,2,  -999.00,9,  -999.00,9,  -999.00,9,  -999.00,9, -999.000,9, -999.000,9, -999.000,9,   2153.6,2,   2272.1,2,   7.6946,    25.00,2,-999.0000
  58AA19950217,   75N,     1,  1,   -999,3,19950224,0000, 74.9817,  -9.5530, 3155,   2329.7,-999.0000,-999.0000,9,  34.9130,2,    301.6,2,  -999.00,9,  -999.00,9,  -999.00,9,  -999.00,9, -999.000,9, -999.000,9, -999.000,9,   2152.8,2,   2264.9,2,   7.6946,    25.00,2,-999.0000
  58AA19950217,   75N,     1,  1,   -999,3,19950224,0000, 74.9817,  -9.5530, 3155,   2533.5,-999.0000,-999.0000,9,  34.9150,2,    304.7,2,  -999.00,9,  -999.00,9,  -999.00,9,  -999.00,9, -999.000,9, -999.000,9, -999.000,9,   2171.9,3,   2267.8,2,   7.6946,    25.00,2,-999.0000
  58AA19950217,   75N,     1,  1,   -999,3,19950224,0000, 74.9817,  -9.5530, 3155,   2737.4,-999.0000,-999.0000,9,  34.9090,2,    302.1,2,  -999.00,9,  -999.00,9,  -999.00,9,  -999.00,9, -999.000,9, -999.000,9, -999.000,9,   2150.8,2,   -999.0,9,   7.6945,    25.00,2,-999.0000
  58AA19950217,   75N,     1,  2,   7642,2,19950224,0000, 74.9817,  -9.5530, 3155,   2802.5,  -0.9720,  34.9080,2,-999.0000,9,    303.8,2,  -999.00,9,  -999.00,9,  -999.00,9,  -999.00,9,    0.740,2, -999.000,9,    0.000,2,   2150.5,2,   -999.0,9,   7.6851,    25.00,2,  -1.1192
  58AA19950217,   75N,     1,  2,   7643,2,19950224,0000, 74.9817,  -9.5530, 3155,   2901.3,  -0.9740,  34.9070,2,-999.0000,9,    305.1,2,  -999.00,9,  -999.00,9,  -999.00,9,  -999.00,9,    0.740,2,    1.080,2,    0.000,2,   2146.9,2,   2265.0,2,-999.0000,  -999.00,9,  -1.1288
  58AA19950217,   75N,     1,  2,   7644,2,19950224,0000, 74.9817,  -9.5530, 3155,   3026.3,  -0.9770,  34.9060,2,-999.0000,9,    304.6,2,  -999.00,9,  -999.00,9,  -999.00,9,  -999.00,9,    0.780,2,    0.660,2,    0.000,2,   2139.3,2,   -999.0,9,-999.0000,  -999.00,9,  -1.1416
  58AA19950217,   75N,     1,  1,   -999,3,19950224,0000, 74.9817,  -9.5530, 3155,   3145.7,-999.0000,-999.0000,9,  34.9010,2,   -999.0,9,  -999.00,9,  -999.00,9,  -999.00,9,  -999.00,9, -999.000,9, -999.000,9, -999.000,9,   2136.9,2,   2262.7,2,   7.6946,    25.00,2,-999.0000
  58AA19950217,   75N,     4,  1,   7645,2,19950225,0000, 75.0000,  -9.0150, 3040,      5.2,  -0.1620,  34.8990,2,  34.9000,2,    326.0,2,     6.80,2,    11.00,2,     0.07,2,     0.82,2, -999.000,9, -999.000,9, -999.000,9,   2156.8,2,   -999.0,9,-999.0000,  -999.00,9,  -0.1622
  58AA19950217,   75N,     4,  1,   7646,2,19950225,0000, 75.0000,  -9.0150, 3040,     10.3,  -0.1640,  34.8990,2,  34.8990,2,    327.7,2,     6.80,2,    11.00,2,     0.07,2,     0.82,2, -999.000,9, -999.000,9, -999.000,9,   2135.5,2,   -999.0,9,-999.0000,  -999.00,9,  -0.1644
  58AA19950217,   75N,     4,  1,   7647,2,19950225,0000, 75.0000,  -9.0150, 3040,     19.2,  -0.1560,  34.8990,2,  34.8990,2,    326.0,2,     6.80,2,    11.10,2,     0.07,2,     0.82,2, -999.000,9, -999.000,9, -999.000,9,   2150.4,2,   -999.0,9,-999.0000,  -999.00,9,  -0.1567
  58AA19950217,   75N,     4,  1,   7648,2,19950225,0000, 75.0000,  -9.0150, 3040,     29.5,  -0.1510,  34.8990,2,  34.8980,2,    325.5,2,     6.80,2,    11.70,2,     0.07,2,     0.84,2, -999.000,9, -999.000,9, -999.000,9,   2139.0,2,   -999.0,9,-999.0000,  -999.00,9,  -0.1520
  58AA19950217,   75N,     4,  1,   7649,2,19950225,0000, 75.0000,  -9.0150, 3040,     50.2,  -0.1480,  34.8990,2,  34.8990,2,    326.4,2,     6.80,2,    11.40,2,     0.07,2,     0.81,2, -999.000,9, -999.000,9, -999.000,9,   2141.3,2,   -999.0,9,-999.0000,  -999.00,9,  -0.1497
  58AA19950217,   75N,     4,  1,   7650,2,19950225,0000, 75.0000,  -9.0150, 3040,     71.9,  -0.1460,  34.8990,2,  34.8990,2,    324.2,2,     6.80,2,    11.30,2,     0.08,2,     0.80,2, -999.000,9, -999.000,9, -999.000,9,   2146.7,2,   -999.0,9,-999.0000,  -999.00,9,  -0.1485
  58AA19950217,   75N,     4,  1,   7651,2,19950225,0000, 75.0000,  -9.0150, 3040,     97.8,  -0.1470,  34.8990,2,  34.8990,2,    324.6,2,     6.80,2,    11.20,2,     0.07,2,     0.82,2, -999.000,9, -999.000,9, -999.000,9,   2145.4,2,   -999.0,9,-999.0000,  -999.00,9,  -0.1504
  58AA19950217,   75N,     4,  1,   7652,2,19950225,0000, 75.0000,  -9.0150, 3040,    149.6,  -0.2240,  34.8970,2,  34.8970,2,    326.8,2,     6.80,2,    11.60,2,     0.07,2,     0.84,2, -999.000,9, -999.000,9, -999.000,9,   2151.0,2,   -999.0,9,-999.0000,  -999.00,9,  -0.2293
  58AA19950217,   75N,     4,  1,   7653,2,19950225,0000, 75.0000,  -9.0150, 3040,    199.6,  -0.2300,  34.8970,2,  34.8960,2,    326.0,2,     6.80,2,    11.20,2,     0.07,2,     0.82,2, -999.000,9, -999.000,9, -999.000,9,   2145.9,2,   -999.0,9,-999.0000,  -999.00,9,  -0.2371
  58AA19950217,   75N,     4,  1,   7654,2,19950225,0000, 75.0000,  -9.0150, 3040,    297.4,  -0.2560,  34.8970,2,  34.8970,2,    322.0,2,     6.80,2,    11.10,2,     0.07,2,     0.83,2, -999.000,9, -999.000,9, -999.000,9,   2151.6,2,   -999.0,9,-999.0000,  -999.00,9,  -0.2668
  58AA19950217,   75N,     4,  1,   7655,2,19950225,0000, 75.0000,  -9.0150, 3040,    397.9,  -0.4390,  34.8900,2,  34.8910,2,    322.5,2,     7.10,2,    11.70,2,     0.07,2,     0.84,2, -999.000,9, -999.000,9, -999.000,9,   2148.2,2,   -999.0,9,-999.0000,  -999.00,9,  -0.4531
  58AA19950217,   75N,     4,  1,   7656,2,19950225,0000, 75.0000,  -9.0150, 3040,    496.9,  -0.5890,  34.8880,2,  34.8870,2,    326.0,2,     7.00,2,    11.50,2,     0.07,2,     0.85,2, -999.000,9, -999.000,9, -999.000,9,   2157.1,2,   -999.0,9,-999.0000,  -999.00,9,  -0.6065
  58AA19950217,   75N,     5,  1,   7657,2,19950225,0000, 75.0000,  -7.9970, 3342,     49.6,  -0.5250,  34.8870,2,  34.8880,2,    331.2,2,     6.80,2,    11.50,2,     0.07,2,     0.87,2, -999.000,9, -999.000,9, -999.000,9,   2134.4,2,   2278.0,2,   7.7035,    25.00,2,  -0.5266
  58AA19950217,   75N,     5,  1,   7658,2,19950225,0000, 75.0000,  -7.9970, 3342,    104.6,  -0.5190,  34.8880,2,  34.8880,2,    329.4,2,     6.90,2,    11.60,2,     0.08,2,     0.94,2,    5.070,2,    2.390,2,    0.400,2,   2136.6,2,   2267.0,2,   7.6987,    25.00,2,  -0.5224
  58AA19950217,   75N,     5,  1,   7659,2,19950225,0000, 75.0000,  -7.9970, 3342,    403.2,  -0.7240,  34.8830,2,  34.8840,2,    319.4,2,     7.80,2,    12.00,2,     0.07,2,     0.89,3, -999.000,9, -999.000,9, -999.000,9,   2140.0,2,   2260.0,2,   7.6910,    25.00,2,  -0.7374
  58AA19950217,   75N,     5,  1,   7660,2,19950225,0000, 75.0000,  -7.9970, 3342,    798.6,  -0.7610,  34.8950,2,  34.8950,2,    306.8,2,     8.90,2,    12.60,2,     0.07,2,     0.96,2, -999.000,9, -999.000,9, -999.000,9,   2144.0,2,   2271.0,2,   7.6861,    25.00,2,  -0.7902
  58AA19950217,   75N,     5,  1,   7661,2,19950225,0000, 75.0000,  -7.9970, 3342,   1002.2,  -0.7330,  34.9080,2,  34.9080,2,    300.3,2,    10.00,2,    13.20,2,     0.07,2,     0.95,2, -999.000,9, -999.000,9, -999.000,9,   2145.1,2,   2276.0,2,   7.6823,    25.00,2,  -0.7717
  58AA19950217,   75N,     5,  1,   7662,2,19950225,0000, 75.0000,  -7.9970, 3342,   1601.9,  -0.8890,  34.9100,2,  34.9090,2,    299.0,2,    10.90,2,    13.20,2,     0.07,2,     0.95,2, -999.000,9, -999.000,9, -999.000,9,   2144.1,2,   2274.0,2,   7.6871,    25.00,2,  -0.9575
  58AA19950217,   75N,     5,  1,   7663,2,19950225,0000, 75.0000,  -7.9970, 3342,   2001.0,  -0.9420,  34.9090,2,-999.0000,9,    301.6,2,    11.20,2,    13.90,2,     0.08,2,     0.99,3,    0.840,2,    1.070,2,    0.000,2,   2148.8,2,   2270.0,2,   7.6880,    25.00,2,  -1.0338
  58AA19950217,   75N,     5,  1,   7664,2,19950225,0000, 75.0000,  -7.9970, 3342,   2398.1,  -0.9760,  34.9070,2,  34.9070,2,    302.9,2,    11.20,2,    13.40,2,     0.07,2,     0.99,2,    0.920,2,    0.750,2,    0.000,2,   2147.9,2,   2265.0,2,   7.6881,    25.00,2,  -1.0936
  58AA19950217,   75N,     5,  1,   7665,2,19950225,0000, 75.0000,  -7.9970, 3342,   2702.2,  -0.9850,  34.9060,2,-999.0000,9,    303.4,2,    11.30,2,    13.50,2,     0.07,2,     0.93,3,    0.780,2,    0.350,2,    0.000,2,   2148.5,2,   2281.0,2,   7.6909,    25.00,2,  -1.1244
  58AA19950217,   75N,     5,  1,   7666,2,19950225,0000, 75.0000,  -7.9970, 3342,   3000.2,  -0.9860,  34.9050,2,  34.9040,2,    305.1,2,    11.60,2,    13.00,2,     0.07,2,     0.95,2,    0.780,2,    0.360,2,    0.000,2,   2148.0,2,   2283.0,2,   7.6890,    25.00,2,  -1.1483
  58AA19950217,   75N,     5,  1,   7667,2,19950225,0000, 75.0000,  -7.9970, 3342,   3098.5,  -0.9890,  34.9040,2,-999.0000,9,    305.1,2,    11.50,2,    12.90,2,     0.07,2,     0.95,2,    0.690,2,    0.470,2,    0.000,2,   2148.3,2,   2283.0,2,   7.6900,    25.00,2,  -1.1591
  58AA19950217,   75N,     5,  1,   7668,2,19950225,0000, 75.0000,  -7.9970, 3342,   3229.4,  -0.9940,  34.9030,2,  34.9020,2,    306.0,2,    11.70,2,    13.10,2,     0.07,2,     0.95,2,    0.780,2,    0.440,2,    0.000,2,   2133.3,3,   2286.0,2,   7.6880,    25.00,2,  -1.1747
  58AA19950217,   75N,     6,  1,   7669,2,19950225,0000, 75.0050,  -7.0180, 3228,    802.3,  -0.9770,  34.8770,2,  34.8780,2,    331.6,2,     7.10,2,    11.50,2,     0.07,2,     0.94,2,    4.660,2,    2.670,2,    0.360,2,   2145.6,2,   -999.0,9,   7.7092,    25.00,2,  -1.0049
  58AA19950217,   75N,     6,  1,   7670,2,19950225,0000, 75.0050,  -7.0180, 3228,   1002.6,  -0.9700,  34.8770,2,  34.8780,2,    332.9,2,     7.10,2,    11.50,2,     0.07,2,     0.93,2,    4.660,2,    2.160,2,    0.290,2,   2144.6,2,   2284.0,2,   7.7093,    25.00,2,  -1.0067
  58AA19950217,   75N,     6,  1,   7671,2,19950225,0000, 75.0050,  -7.0180, 3228,   1297.2,  -0.7660,  34.9050,2,  34.9050,2,    303.4,2,     9.40,2,    12.50,2,     0.07,2,     0.99,2,    1.740,2,    0.870,2,    0.000,2,   2146.1,2,   2274.0,2,   7.7064,    25.00,2,  -0.8192
  58AA19950217,   75N,     6,  1,   7672,2,19950225,0000, 75.0050,  -7.0180, 3228,   1500.2,  -0.8670,  34.9060,2,  34.9060,2,    303.8,2,     9.80,2,    12.00,2,     0.07,2,     1.03,2,    1.410,2,    1.110,2,    0.000,2,   2146.7,2,   2272.0,2,   7.7112,    25.00,2,  -0.9301
  58AA19950217,   75N,     6,  1,   7673,2,19950225,0000, 75.0050,  -7.0180, 3228,   1799.9,  -0.9510,  34.9050,2,  34.9050,2,    305.5,2,    10.00,2,    12.20,2,     0.07,2,     1.03,2,    1.090,2,    0.430,2,    0.000,2,   2139.3,2,   2289.0,2,   7.7092,    25.00,2,  -1.0302
  58AA19950217,   75N,     6,  1,   7674,2,19950225,0000, 75.0050,  -7.0180, 3228,   2001.0,  -0.9720,  34.9060,2,  34.9050,2,    305.1,2,    10.10,2,    12.40,2,     0.07,2,     1.07,2,    0.930,2,    0.650,2,    0.000,2,   2141.5,2,   2275.0,2,   7.7122,    25.00,2,  -1.0633
  58AA19950217,   75N,     6,  1,   7675,2,19950225,0000, 75.0050,  -7.0180, 3228,   2503.5,  -0.9900,  34.9070,2,  34.9060,2,    304.2,2,    10.80,2,    12.70,2,     0.06,2,     1.06,2,    0.870,2, -999.000,9,    0.000,2,   2146.8,2,   2287.0,2,   7.7150,    25.00,2,  -1.1148
  58AA19950217,   75N,     6,  1,   7676,2,19950225,0000, 75.0050,  -7.0180, 3228,   2698.8,  -0.9980,  34.9060,2,  34.9060,2,    306.8,2,    10.80,2,    12.70,2,     0.06,2,     1.05,2,    0.870,2,    0.480,2,    0.000,2,   2145.2,2,   2285.0,2,   7.7112,    25.00,2,  -1.1369
  58AA19950217,   75N,     6,  1,   7677,2,19950225,0000, 75.0050,  -7.0180, 3228,   3000.5,  -1.0010,  34.9040,2,  34.9040,2,   -999.0,9,    10.70,2,    12.40,2,     0.07,2,     1.06,2,    0.820,2,    0.370,2,    0.000,2,   2146.3,2,   2286.0,2,   7.7121,    25.00,2,  -1.1630
  58AA19950217,   75N,     6,  1,   7678,2,19950225,0000, 75.0050,  -7.0180, 3228,   3099.9,  -1.0050,  34.9030,2,  34.9030,2,   -999.0,9,    10.70,2,    12.20,2,     0.07,2,     1.04,2,    0.810,2,    0.340,2,    0.000,2,   2153.9,2,   2285.0,2,   7.7121,    25.00,2,  -1.1748
  58AA19950217,   75N,     6,  1,   7679,2,19950225,0000, 75.0050,  -7.0180, 3228,   3197.2,  -1.0060,  34.9030,2,  34.9030,2,    308.6,2,    10.80,2,    12.90,2,     0.07,2,     1.03,2,    0.810,2, -999.000,9,    0.000,2,   -999.0,9,   2283.0,2,   7.7112,    25.00,2,  -1.1837
  58AA19950217,   75N,     6,  1,   7680,2,19950225,0000, 75.0050,  -7.0180, 3228,   3218.8,  -1.0050,  34.9030,2,  34.9020,2,    307.7,2,    10.60,2,    13.40,2,     0.07,2,     1.04,2,    0.690,2,    0.360,2,    0.000,2,   2142.2,2,   2279.0,2,   7.7112,    25.00,2,  -1.1845