BOTTLE,20090817PRINUNIVRMK
EXPOCODE,SECT_ID,STNNBR,CASTNO,BTLNBR,BTLNBR_FLAG_W,DATE,TIME,LATITUDE,LONGITUDE,DEPTH,CTDPRS,CTDTMP,CTDSAL,CTDSAL_FLAG_W,SALNTY,SALNTY_FLAG_W,OXYGEN,OXYGEN_FLAG_W,SILCAT,SILCAT_FLAG_W,NITRAT,NITRAT_FLAG_W,NITRIT,NITRIT_FLAG_W,PHSPHT,PHSPHT_FLAG_W,CFC-11,CFC-11_FLAG_W,CFC-12,CFC-12_FLAG_W,CFC113,CFC113_FLAG_W,TCARBN,TCARBN_FLAG_W,ALKALI,ALKALI_FLAG_W,PH_SWS,PH_TEMP,PH_SWS_FLAG_W,THETA
,,,,,,,,,,METERS,DBARS,ITS-90,PSS-78,,PSS-78,,UMOL/KG,,UMOL/KG,,UMOL/KG,,UMOL/KG,,UMOL/KG,,PMOL/KG,,PMOL/KG,,PMOL/KG,,UMOL/KG,,UMOL/KG,,,DEGC,,DEGC
  58AA19950217,   75N,    12,  1,   7741,2,19950227,0000, 75.0000,  -4.0030, 3547,      8.4,  -1.0260,  34.8690,2,  34.8700,2,    335.9,2,     6.90,2,    12.20,2,     0.07,2,     0.92,2,    5.070,2,    4.220,2,    0.290,2,   2149.6,2,   2284.0,2,   7.6707,    25.00,2,  -1.0262
  58AA19950217,   75N,    12,  1,   7742,2,19950227,0000, 75.0000,  -4.0030, 3547,     31.0,  -1.0200,  34.8690,2,  34.8700,2,    336.4,2,     6.90,2,    12.00,2,     0.06,2,     0.90,2,    5.660,2,    2.800,2,    0.360,2,   2156.5,2,   2287.0,2,   7.6688,    25.00,2,  -1.0208
  58AA19950217,   75N,    12,  1,   7743,2,19950227,0000, 75.0000,  -4.0030, 3547,     49.6,  -1.0210,  34.8690,2,  34.8680,2,    335.5,2,     7.00,2,    12.00,2,     0.06,2,     0.91,2,    5.050,2,    2.140,2,    0.330,2,   2155.5,2,   2284.0,2,   7.6726,    25.00,2,  -1.0224
  58AA19950217,   75N,    12,  1,   7744,2,19950227,0000, 75.0000,  -4.0030, 3547,    101.3,  -1.0200,  34.8690,2,  34.8690,2,    335.1,2,     6.90,2,    12.10,2,     0.06,2,     0.90,2,    5.540,2,    2.800,2,    0.350,2,   2156.4,2,   2285.0,2,   7.6736,    25.00,2,  -1.0228
  58AA19950217,   75N,    12,  1,   7745,2,19950227,0000, 75.0000,  -4.0030, 3547,    302.1,  -1.0140,  34.8690,2,  34.8700,2,    335.9,2,     6.90,2,    12.00,2,     0.07,2,     0.93,2,    5.000,2,    3.130,2,    0.340,2,   2151.2,2,   2284.0,2,   7.6755,    25.00,2,  -1.0230
  58AA19950217,   75N,    12,  1,   7746,2,19950227,0000, 75.0000,  -4.0030, 3547,    403.6,  -0.9960,  34.8710,2,  34.8710,2,    332.5,2,     6.90,2,    12.00,2,     0.06,2,     0.89,2,    4.890,2,    2.330,2,    0.320,2,   2151.1,2,   2282.0,2,   7.6755,    25.00,2,  -1.0084
  58AA19950217,   75N,    12,  1,   7747,2,19950227,0000, 75.0000,  -4.0030, 3547,    701.6,  -0.9840,  34.8710,2,  34.8720,2,    336.8,2,     7.00,2,    12.00,2,     0.06,2,     0.89,2,    4.870,2,    1.950,2,    0.260,2,   2152.3,2,   2282.0,2,   7.6717,    25.00,2,  -1.0077
  58AA19950217,   75N,    12,  1,   7748,2,19950227,0000, 75.0000,  -4.0030, 3547,   1000.7,  -0.8070,  34.8900,2,  34.8900,2,    310.7,2,     8.80,2,    13.00,2,     0.06,2,     0.98,2,    2.460,2,    0.710,2,    0.080,2,   2154.4,2,   -999.0,9,   7.6687,    25.00,2,  -0.8450
  58AA19950217,   75N,    12,  1,   7749,2,19950227,0000, 75.0000,  -4.0030, 3547,   1301.9,  -0.8490,  34.9010,2,  34.9010,2,    304.7,2,     9.90,2,    13.60,2,     0.08,2,     1.02,2,    1.490,2,    1.070,2,    0.050,2,   -999.0,9,   2283.0,2,   7.6726,    25.00,2,  -0.9016
  58AA19950217,   75N,    12,  1,   7750,2,19950227,0000, 75.0000,  -4.0030, 3547,   2000.3,  -0.9840,  34.9020,2,  34.9000,2,    308.1,2,    10.70,2,    13.60,2,     0.07,2,     1.00,2,    1.000,2, -999.000,9,    0.000,2,   2153.7,2,   2284.0,2,   7.6765,    25.00,2,  -1.0751
  58AA19950217,   75N,    12,  1,   7751,2,19950227,0000, 75.0000,  -4.0030, 3547,   3102.0,  -1.0040,  34.8990,2,  34.8990,2,    309.4,2,    11.40,2,    13.50,2,     0.14,2,     0.99,2,    0.710,2,    0.280,2,    0.000,2,   2151.7,2,   2280.0,2,   7.6784,    25.00,2,  -1.1740
  58AA19950217,   75N,    12,  1,   7752,2,19950227,0000, 75.0000,  -4.0030, 3547,   3461.4,  -0.9940,  34.8970,2,  34.8960,2,    310.3,2,    11.70,2,    13.60,2,     0.06,2,     1.01,2,    0.710,2,    0.390,2,    0.000,2,   2154.6,2,   2286.0,2,   7.6755,    25.00,2,  -1.1942
  58AA19950217,   75N,    13,  1,   7753,2,19950227,0000, 75.0000,  -3.5030, 3545,    105.7,  -0.9960,  34.8680,2,-999.0000,9,   -999.0,9,  -999.00,9,  -999.00,9,  -999.00,9,  -999.00,9,    5.150,2,    2.650,2,    0.320,2,   -999.0,9,   -999.0,9,-999.0000,  -999.00,9,  -0.9990
  58AA19950217,   75N,    13,  1,   7754,2,19950227,0000, 75.0000,  -3.5030, 3545,    296.9,  -0.9840,  34.8690,2,-999.0000,9,   -999.0,9,  -999.00,9,  -999.00,9,  -999.00,9,  -999.00,9,    4.800,2,    2.390,2,    0.340,2,   -999.0,9,   -999.0,9,-999.0000,  -999.00,9,  -0.9929
  58AA19950217,   75N,    13,  1,   7755,2,19950227,0000, 75.0000,  -3.5030, 3545,    605.6,  -0.9900,  34.8690,2,-999.0000,9,   -999.0,9,  -999.00,9,  -999.00,9,  -999.00,9,  -999.00,9,    4.680,2, -999.000,9, -999.000,9,   -999.0,9,   -999.0,9,-999.0000,  -999.00,9,  -1.0099
  58AA19950217,   75N,    13,  1,   7756,2,19950227,0000, 75.0000,  -3.5030, 3545,    803.2,  -0.9770,  34.8700,2,-999.0000,9,   -999.0,9,  -999.00,9,  -999.00,9,  -999.00,9,  -999.00,9,    3.780,2,    1.910,2,    0.280,2,   -999.0,9,   -999.0,9,-999.0000,  -999.00,9,  -1.0049
  58AA19950217,   75N,    13,  1,   7757,2,19950227,0000, 75.0000,  -3.5030, 3545,   1003.1,  -0.7940,  34.8910,2,-999.0000,9,   -999.0,9,  -999.00,9,  -999.00,9,  -999.00,9,  -999.00,9,    2.230,2,    1.290,2,    0.000,2,   -999.0,9,   -999.0,9,-999.0000,  -999.00,9,  -0.8322
  58AA19950217,   75N,    13,  1,   7758,2,19950227,0000, 75.0000,  -3.5030, 3545,   1100.5,  -0.7780,  34.8970,2,-999.0000,9,   -999.0,9,  -999.00,9,  -999.00,9,  -999.00,9,  -999.00,9,    1.870,2,    1.140,2,    0.000,2,   -999.0,9,   -999.0,9,-999.0000,  -999.00,9,  -0.8211
  58AA19950217,   75N,    13,  1,   7759,2,19950227,0000, 75.0000,  -3.5030, 3545,   1199.9,  -0.8030,  34.9000,2,-999.0000,9,   -999.0,9,  -999.00,9,  -999.00,9,  -999.00,9,  -999.00,9, -999.000,9, -999.000,9, -999.000,9,   -999.0,9,   -999.0,9,-999.0000,  -999.00,9,  -0.8508
  58AA19950217,   75N,    13,  1,   7760,2,19950227,0000, 75.0000,  -3.5030, 3545,   1501.5,  -0.9130,  34.9010,2,-999.0000,9,   -999.0,9,  -999.00,9,  -999.00,9,  -999.00,9,  -999.00,9,    1.390,2,    0.750,2,    0.000,2,   -999.0,9,   -999.0,9,-999.0000,  -999.00,9,  -0.9756
  58AA19950217,   75N,    13,  1,   7761,2,19950227,0000, 75.0000,  -3.5030, 3545,   2000.9,  -0.9820,  34.9020,2,-999.0000,9,   -999.0,9,  -999.00,9,  -999.00,9,  -999.00,9,  -999.00,9,    1.040,2, -999.000,9,    0.000,2,   -999.0,9,   -999.0,9,-999.0000,  -999.00,9,  -1.0731
  58AA19950217,   75N,    13,  1,   7762,2,19950227,0000, 75.0000,  -3.5030, 3545,   2499.2,  -0.9970,  34.9020,2,-999.0000,9,   -999.0,9,  -999.00,9,  -999.00,9,  -999.00,9,  -999.00,9,    0.840,2,    0.430,2,    0.000,2,   -999.0,9,   -999.0,9,-999.0000,  -999.00,9,  -1.1213
  58AA19950217,   75N,    13,  1,   7763,2,19950227,0000, 75.0000,  -3.5030, 3545,   3002.2,  -1.0030,  34.8990,2,-999.0000,9,   -999.0,9,  -999.00,9,  -999.00,9,  -999.00,9,  -999.00,9,    0.760,2,    0.810,2,    0.000,2,   -999.0,9,   -999.0,9,-999.0000,  -999.00,9,  -1.1650
  58AA19950217,   75N,    13,  1,   7764,2,19950227,0000, 75.0000,  -3.5030, 3545,   3450.1,  -0.9940,  34.8970,2,-999.0000,9,   -999.0,9,  -999.00,9,  -999.00,9,  -999.00,9,  -999.00,9,    0.730,2,    0.400,2,    0.000,2,   -999.0,9,   -999.0,9,-999.0000,  -999.00,9,  -1.1933
  58AA19950217,   75N,    14,  1,   7765,2,19950227,0000, 75.0067,  -2.9920, 3530,    999.2,  -0.7830,  34.8990,2,  34.8990,2,    304.7,2,     9.20,2,    12.80,2,     0.06,2,     0.96,2,    1.970,2,    1.380,2,    0.000,2,   2154.6,2,   2277.0,2,   7.6726,    25.00,2,  -0.8212
  58AA19950217,   75N,    14,  1,   7766,2,19950227,0000, 75.0067,  -2.9920, 3530,   1102.7,  -0.7910,  34.9020,2,  34.9020,2,    303.8,2,     9.50,2,    13.10,2,     0.06,2,     1.00,2,    1.650,2,    0.850,2,    0.000,2,   2157.6,2,   2276.0,2,   7.6717,    25.00,2,  -0.8341
  58AA19950217,   75N,    14,  1,   7767,2,19950227,0000, 75.0067,  -2.9920, 3530,   1199.2,  -0.8200,  34.9040,2,  34.9050,2,    303.4,2,     9.70,2,    13.00,2,     0.11,2,     0.98,2,    1.490,2,    1.380,2,    0.000,2,   2153.0,2,   2276.0,2,   7.6669,    25.00,2,  -0.8676
  58AA19950217,   75N,    14,  1,   7768,2,19950227,0000, 75.0067,  -2.9920, 3530,   1297.2,  -0.8580,  34.9040,2,  34.9030,2,    303.8,2,    10.00,2,    13.10,2,     0.06,2,     0.97,2,    1.400,2, -999.000,9,    0.000,2,   2152.5,2,   2280.0,2,   7.6688,    25.00,2,  -0.9103
  58AA19950217,   75N,    14,  1,   7769,2,19950227,0000, 75.0067,  -2.9920, 3530,   1498.0,  -0.9290,  34.9030,2,  34.9030,2,    305.1,2,    10.00,2,    13.10,2,     0.07,2,     0.99,2,    1.280,2,    0.530,2,    0.000,2,   2152.7,2,   2281.0,2,   7.6707,    25.00,2,  -0.9912
  58AA19950217,   75N,    14,  1,   7770,2,19950227,0000, 75.0067,  -2.9920, 3530,   1796.9,  -0.9720,  34.9030,2,-999.0000,9,    306.0,2,    10.40,2,    13.30,2,     0.06,2,     0.99,2,    1.170,2,    0.780,2,    0.000,2,   2154.6,2,   2281.0,2,   7.6698,    25.00,2,  -1.0508
  58AA19950217,   75N,    14,  1,   7771,2,19950227,0000, 75.0067,  -2.9920, 3530,   1996.8,  -0.9840,  34.9040,2,  34.9030,2,    306.4,2,    10.60,2,    13.40,2,     0.06,2,     1.01,2,    1.040,2,    0.580,2,    0.000,2,   2157.6,2,   2280.0,2,   7.6649,    25.00,3,  -1.0748
  58AA19950217,   75N,    14,  1,   7772,2,19950227,0000, 75.0067,  -2.9920, 3530,   2297.9,  -0.9920,  34.9050,2,-999.0000,9,    306.0,2,    10.70,2,    13.60,2,     0.06,2,     1.00,2,    0.870,2,    0.610,2,    0.000,2,   2159.0,2,   -999.0,9,   7.6716,    25.00,2,  -1.1024
  58AA19950217,   75N,    14,  1,   7773,2,19950227,0000, 75.0067,  -2.9920, 3530,   2502.2,  -0.9960,  34.9050,2,  34.9040,2,    312.0,3,    11.00,2,    13.40,2,     0.06,2,     1.04,2,    0.840,2, -999.000,9,    0.000,2,   2149.6,2,   2282.0,2,   7.6736,    25.00,2,  -1.1206
  58AA19950217,   75N,    14,  1,   7774,2,19950227,0000, 75.0067,  -2.9920, 3530,   2706.4,  -1.0020,  34.9030,2,-999.0000,9,    307.3,2,    11.20,2,    13.60,2,     0.06,2,     1.02,2,    0.770,2,    0.370,2,    0.000,2,   2149.3,2,   2278.0,2,   7.6717,    25.00,2,  -1.1413
  58AA19950217,   75N,    14,  1,   7775,2,19950227,0000, 75.0067,  -2.9920, 3530,   3000.7,  -1.0010,  34.9020,2,  34.9030,2,    308.1,2,    11.30,2,    13.50,2,     0.07,2,     0.99,2,    0.740,2,    0.640,2,    0.000,2,   2144.5,2,   2282.0,2,   7.6736,    25.00,2,  -1.1630
  58AA19950217,   75N,    14,  1,   7776,2,19950227,0000, 75.0067,  -2.9920, 3530,   3502.5,  -0.9910,  34.9000,2,  34.9020,2,    311.6,2,    11.70,2,    13.50,2,     0.06,2,     0.99,2,    0.620,2,    0.310,2,    0.000,2,   2130.2,3,   2281.0,2,   7.6698,    25.00,2,  -1.1949
  58AA19950217,   75N,    14,  2,   7777,2,19950227,0000, 75.0067,  -2.9920, 3530,     11.0,  -0.9910,  34.8740,2,  34.8910,0,    334.6,2,     7.00,2,    12.00,2,     0.06,2,     0.90,2,    5.050,2,    2.270,2,    0.370,2,   2153.4,2,   -999.0,9,   7.6697,    25.00,2,  -0.9913
  58AA19950217,   75N,    14,  2,   7778,2,19950227,0000, 75.0067,  -2.9920, 3530,     19.6,  -0.9880,  34.8740,2,-999.0000,9,    334.6,2,     7.00,2,    11.90,2,     0.13,2,     0.89,2,    4.930,2,    2.070,2,    0.340,2,   2153.7,2,   -999.0,9,   7.6707,    25.00,2,  -0.9885
  58AA19950217,   75N,    14,  2,   7779,2,19950227,0000, 75.0067,  -2.9920, 3530,     30.2,  -0.9880,  34.8740,2,-999.0000,9,    334.6,2,     7.00,2,    11.80,2,     0.06,2,     0.89,2,    5.060,2,    2.260,2,    0.330,2,   2155.6,2,   -999.0,9,   7.6697,    25.00,2,  -0.9888
  58AA19950217,   75N,    14,  2,   7780,2,19950227,0000, 75.0067,  -2.9920, 3530,     50.7,  -0.9900,  34.8740,2,-999.0000,9,   -999.0,9,  -999.00,9,  -999.00,9,  -999.00,9,  -999.00,9, -999.000,9, -999.000,9, -999.000,9,   -999.0,9,   -999.0,9,-999.0000,  -999.00,9,  -0.9914
  58AA19950217,   75N,    14,  2,   7781,2,19950227,0000, 75.0067,  -2.9920, 3530,     73.9,  -0.9880,  34.8740,2,  34.8730,2,    335.5,2,     7.00,2,    11.80,2,     0.06,2,     0.91,2,    4.910,2,    2.070,2,    0.340,2,   2155.3,2,   -999.0,9,   7.6659,    25.00,2,  -0.9901
  58AA19950217,   75N,    14,  2,   7782,2,19950227,0000, 75.0067,  -2.9920, 3530,    102.2,  -0.9840,  34.8740,2,  34.8750,2,    333.8,2,     7.00,2,    11.80,2,     0.06,2,     0.90,2,    4.870,2,    2.180,2,    0.320,2,   2153.7,2,   2269.0,2,   7.6611,    25.00,3,  -0.9869
  58AA19950217,   75N,    14,  2,   7783,2,19950227,0000, 75.0067,  -2.9920, 3530,    201.7,  -0.9980,  34.8740,2,  34.8710,2,    334.2,2,     6.90,2,    11.70,2,     0.06,2,     0.88,2,    4.970,2,    2.260,2,    0.330,2,   2155.0,2,   2270.0,2,   7.6707,    25.00,2,  -1.0038
  58AA19950217,   75N,    14,  2,   7784,2,19950227,0000, 75.0067,  -2.9920, 3530,    302.7,  -0.9910,  34.8750,2,  34.8740,2,    333.3,2,     7.10,2,    11.90,2,     0.06,2,     0.88,2,    5.020,2,    2.250,2,    0.360,2,   2157.3,2,   -999.0,9,   7.6736,    25.00,2,  -1.0001
  58AA19950217,   75N,    14,  2,   7785,2,19950227,0000, 75.0067,  -2.9920, 3530,    486.2,  -0.9850,  34.8750,2,  34.8750,2,    333.3,2,     7.30,2,    12.00,2,     0.13,2,     0.91,2,    4.920,2,    2.960,2,    0.300,2,   2155.9,2,   2270.0,2,   7.6736,    25.00,2,  -1.0004
  58AA19950217,   75N,    14,  2,   7786,2,19950227,0000, 75.0067,  -2.9920, 3530,    701.4,  -0.9770,  34.8750,2,  34.8770,2,    329.9,2,     7.10,2,    12.00,2,     0.06,2,     0.90,2, -999.000,9, -999.000,9, -999.000,9,   2155.0,2,   2278.0,2,   7.6755,    25.00,2,  -1.0007
  58AA19950217,   75N,    14,  2,   7787,2,19950227,0000, 75.0067,  -2.9920, 3530,    797.5,  -0.9620,  34.8760,2,  34.8780,2,    328.6,2,     6.90,2,    11.80,2,     0.18,2,     0.87,2,    2.800,2,    1.930,2,    0.330,2,   2160.2,2,   2275.0,2,   7.6746,    25.00,2,  -0.9898
  58AA19950217,   75N,    14,  2,   7788,2,19950227,0000, 75.0067,  -2.9920, 3530,    904.7,  -0.8650,  34.8860,2,  34.8880,2,    316.0,2,     8.20,2,    12.50,2,     0.06,2,     0.95,2,    3.250,2,    1.680,2,    0.280,2,   2151.7,2,   -999.0,9,   7.6745,    25.00,2,  -0.8981
  58AA19950217,   75N,    16,  1,   7789,2,19950228,0000, 75.0000,  -2.5030, 3517,     49.0,  -1.0240,  34.8650,2,  34.8650,2,    335.9,2,     6.70,2,    11.60,2,     0.06,2,     0.89,2,    5.260,2,    2.130,2,    0.370,2,   2135.3,2,   -999.0,9,-999.0000,  -999.00,9,  -1.0253
  58AA19950217,   75N,    16,  1,   7790,2,19950228,0000, 75.0000,  -2.5030, 3517,    104.5,  -1.0250,  34.8700,2,  34.8700,2,    339.0,2,     6.80,2,    11.70,2,     0.06,2,     0.92,2,    4.930,2,    2.420,2,    0.360,2,   2139.8,2,   -999.0,9,-999.0000,  -999.00,9,  -1.0279
  58AA19950217,   75N,    16,  1,   7791,2,19950228,0000, 75.0000,  -2.5030, 3517,    200.5,  -1.0130,  34.8720,2,  34.8730,2,    337.2,2,     6.90,2,    12.00,2,     0.06,2,     0.91,2,    5.000,2,    1.800,2, -999.000,9,   2132.3,2,   -999.0,9,-999.0000,  -999.00,9,  -1.0188
  58AA19950217,   75N,    16,  1,   7792,2,19950228,0000, 75.0000,  -2.5030, 3517,    399.8,  -0.9960,  34.8730,2,-999.0000,9,    334.6,2,     6.90,2,    11.70,2,     0.12,2,     0.90,2,    4.890,2,    2.750,2,    0.340,2,   2131.4,2,   -999.0,9,-999.0000,  -999.00,9,  -1.0083
  58AA19950217,   75N,    16,  1,   7793,2,19950228,0000, 75.0000,  -2.5030, 3517,    600.7,  -0.9900,  34.8740,2,-999.0000,9,    334.2,2,     6.80,2,    11.80,2,     0.06,2,     0.90,2,    5.050,2,    2.660,2,    0.370,2,   2134.3,2,   -999.0,9,-999.0000,  -999.00,9,  -1.0097
  58AA19950217,   75N,    16,  1,   7794,2,19950228,0000, 75.0000,  -2.5030, 3517,    999.9,  -0.7810,  34.8990,2,  34.8990,2,    313.3,2,     9.20,2,    12.80,2,     0.06,2,     0.98,2,    2.190,2,    1.160,2,    0.000,2,   2143.8,2,   -999.0,9,-999.0000,  -999.00,9,  -0.8192
  58AA19950217,   75N,    16,  1,   7795,2,19950228,0000, 75.0000,  -2.5030, 3517,   1200.0,  -0.8100,  34.9040,2,  34.9040,2,    312.9,2,     9.80,2,    13.20,2,     0.06,2,     1.00,2,    1.530,2,    0.590,2,    0.000,2,   2125.8,3,   -999.0,9,-999.0000,  -999.00,9,  -0.8578
  58AA19950217,   75N,    16,  1,   7796,2,19950228,0000, 75.0000,  -2.5030, 3517,   1500.8,  -0.9280,  34.9040,2,  34.9020,2,    312.0,2,    10.00,2,    13.00,2,     0.11,2,     0.98,2,    1.530,2,    0.820,2,    0.000,2,   2131.6,3,   -999.0,9,-999.0000,  -999.00,9,  -0.9904
  58AA19950217,   75N,    16,  1,   7797,2,19950228,0000, 75.0000,  -2.5030, 3517,   1998.0,  -0.9820,  34.9050,2,  34.9040,2,    306.8,2,    10.60,2,    13.30,2,     0.06,2,     1.01,2,    1.050,2,    0.230,2,    0.000,2,   2129.8,3,   -999.0,9,-999.0000,  -999.00,9,  -1.0730
  58AA19950217,   75N,    16,  1,   7798,2,19950228,0000, 75.0000,  -2.5030, 3517,   2504.9,  -0.9990,  34.9050,2,  34.9040,2,    307.3,2,    11.10,2,    13.30,2,     0.06,2,     1.02,2,    0.950,2,    0.440,2,    0.000,2,   2135.9,3,   -999.0,9,-999.0000,  -999.00,9,  -1.1237
  58AA19950217,   75N,    16,  1,   7799,2,19950228,0000, 75.0000,  -2.5030, 3517,   3000.8,  -1.0020,  34.9030,2,  34.9020,2,    325.9,4,    11.30,2,    13.40,2,     0.06,2,     1.01,2,    0.770,2,    0.000,2,    0.000,2,   2139.7,3,   -999.0,9,-999.0000,  -999.00,9,  -1.1640
  58AA19950217,   75N,    16,  1,   7800,2,19950228,0000, 75.0000,  -2.5030, 3517,   3507.9,  -0.9900,  34.9010,2,  34.9080,2,    307.3,2,    11.80,2,    13.50,2,     0.06,2,     1.02,2,    0.810,2,    0.410,2,    0.000,2,   2143.7,2,   -999.0,9,-999.0000,  -999.00,9,  -1.1944