BOTTLE,20090817PRINUNIVRMK
EXPOCODE,SECT_ID,STNNBR,CASTNO,BTLNBR,BTLNBR_FLAG_W,DATE,TIME,LATITUDE,LONGITUDE,DEPTH,CTDPRS,CTDTMP,CTDSAL,CTDSAL_FLAG_W,SALNTY,SALNTY_FLAG_W,OXYGEN,OXYGEN_FLAG_W,SILCAT,SILCAT_FLAG_W,NITRAT,NITRAT_FLAG_W,NITRIT,NITRIT_FLAG_W,PHSPHT,PHSPHT_FLAG_W,CFC-11,CFC-11_FLAG_W,CFC-12,CFC-12_FLAG_W,CFC113,CFC113_FLAG_W,TCARBN,TCARBN_FLAG_W,ALKALI,ALKALI_FLAG_W,PH_SWS,PH_TEMP,PH_SWS_FLAG_W,THETA
,,,,,,,,,,METERS,DBARS,ITS-90,PSS-78,,PSS-78,,UMOL/KG,,UMOL/KG,,UMOL/KG,,UMOL/KG,,UMOL/KG,,PMOL/KG,,PMOL/KG,,PMOL/KG,,UMOL/KG,,UMOL/KG,,,DEGC,,DEGC
  58AA19950217,   75N,    17,  1,   7801,2,19950228,0000, 75.0017,  -2.0000, 3517,     13.3,  -1.0100,  34.8620,2,  34.8620,2,    339.8,2,     6.40,2,    11.40,2,     0.06,2,     0.90,2, -999.000,9, -999.000,9, -999.000,9,   2143.8,2,   -999.0,9,   7.6822,    25.00,2,  -1.0104
  58AA19950217,   75N,    17,  1,   7802,2,19950228,0000, 75.0017,  -2.0000, 3517,     32.4,  -1.0100,  34.8620,2,  34.8620,2,    339.4,2,     6.40,2,    11.20,2,     0.06,2,     0.86,2, -999.000,9, -999.000,9, -999.000,9,   2141.0,2,   -999.0,9,   7.6832,    25.00,2,  -1.0109
  58AA19950217,   75N,    17,  1,   7803,2,19950228,0000, 75.0017,  -2.0000, 3517,     49.3,  -1.0090,  34.8620,2,  34.8630,2,    339.8,2,     6.40,2,    11.30,2,     0.15,2,     0.88,2,    4.420,2,    2.870,2,    0.370,2,   2140.4,2,   -999.0,9,   7.6822,    25.00,2,  -1.0103
  58AA19950217,   75N,    17,  1,   7804,2,19950228,0000, 75.0017,  -2.0000, 3517,     80.3,  -1.0080,  34.8620,2,  34.8620,2,    340.7,2,     6.40,2,    11.30,2,     0.06,2,     0.89,2,    4.880,2,    2.340,2,    0.390,2,   2142.7,2,   -999.0,9,   7.6841,    25.00,2,  -1.0102
  58AA19950217,   75N,    17,  1,   7805,2,19950228,0000, 75.0017,  -2.0000, 3517,    100.5,  -1.0050,  34.8620,2,  34.8620,2,    339.4,2,     6.50,2,    11.50,2,     0.06,2,     0.87,2,    4.330,2,    2.500,2,    0.340,2,   -999.0,9,   -999.0,9,   7.6793,    25.00,2,  -1.0078
  58AA19950217,   75N,    17,  1,   7806,2,19950228,0000, 75.0017,  -2.0000, 3517,    302.0,  -0.9580,  34.8720,2,  34.8730,2,    323.8,4,     7.40,3,    12.10,2,     0.06,2,     0.95,2,    4.310,2,    2.460,2,    0.310,2,   2154.0,2,   -999.0,9,   7.6784,    25.00,2,  -0.9671
  58AA19950217,   75N,    17,  1,   7807,2,19950228,0000, 75.0017,  -2.0000, 3517,    399.6,  -0.9430,  34.8760,2,  34.8770,2,    335.5,2,     6.80,2,    11.60,2,     0.06,2,     0.91,2,    4.130,2,    2.770,2,    0.270,2,   2141.5,2,   -999.0,9,   7.6832,    25.00,2,  -0.9555
  58AA19950217,   75N,    17,  1,   7808,2,19950228,0000, 75.0017,  -2.0000, 3517,    505.5,  -0.9270,  34.8770,2,  34.8770,2,    333.3,2,     6.90,2,    11.60,2,     0.06,2,     0.89,2,    5.050,2,    3.040,2,    0.370,2,   2143.5,2,   -999.0,9,   7.6841,    25.00,2,  -0.9434
  58AA19950217,   75N,    17,  1,   7809,2,19950228,0000, 75.0017,  -2.0000, 3517,    799.9,  -0.9310,  34.8770,2,  34.8760,2,    333.3,2,     6.90,2,    11.60,2,     0.07,2,     0.89,2,    4.070,2,    1.980,2,    0.330,2,   2143.5,2,   -999.0,9,   7.6822,    25.00,2,  -0.9591
  58AA19950217,   75N,    17,  1,   7810,2,19950228,0000, 75.0017,  -2.0000, 3517,    995.0,  -0.9350,  34.8770,2,  34.8770,2,    329.0,2,     7.20,2,    11.90,2,     0.06,2,     0.91,2,    4.640,2,    2.180,2,    0.340,2,   2147.5,2,   -999.0,9,   7.6832,    25.00,2,  -0.9717
  58AA19950217,   75N,    17,  1,   7811,2,19950228,0000, 75.0017,  -2.0000, 3517,   1101.5,  -0.7830,  34.8970,2,  34.8970,2,    307.3,2,     9.00,2,    12.50,2,     0.07,2,     0.99,2,    1.920,2,    1.090,2,    0.000,2,   2146.3,2,   -999.0,9,   7.6784,    25.00,2,  -0.8261
  58AA19950217,   75N,    17,  1,   7812,2,19950228,0000, 75.0017,  -2.0000, 3517,   1201.8,  -0.7760,  34.9030,2,  34.9020,2,    302.9,2,     9.40,2,    12.80,2,     0.06,2,     0.98,2,    1.950,2,    0.900,2,    0.000,2,   -999.0,9,   -999.0,9,   7.6774,    25.00,2,  -0.8242
  58AA19950217,   75N,    18,  1,   7813,2,19950228,0000, 75.0017,  -1.4970, 3535,     10.6,  -1.0130,  34.8630,2,-999.0000,9,   -999.0,9,  -999.00,9,  -999.00,9,  -999.00,9,  -999.00,9,    5.920,2,    3.350,2,    0.410,2,   -999.0,9,   -999.0,9,-999.0000,  -999.00,9,  -1.0133
  58AA19950217,   75N,    18,  1,   7814,2,19950228,0000, 75.0017,  -1.4970, 3535,     52.0,  -1.0090,  34.8630,2,-999.0000,9,   -999.0,9,  -999.00,9,  -999.00,9,  -999.00,9,  -999.00,9,    5.730,2,    2.730,2,    0.410,2,   -999.0,9,   -999.0,9,-999.0000,  -999.00,9,  -1.0104
  58AA19950217,   75N,    18,  1,   7815,2,19950228,0000, 75.0017,  -1.4970, 3535,     98.0,  -1.0110,  34.8650,2,-999.0000,9,   -999.0,9,  -999.00,9,  -999.00,9,  -999.00,9,  -999.00,9,    5.830,2,    3.600,2,    0.390,2,   -999.0,9,   -999.0,9,-999.0000,  -999.00,9,  -1.0137
  58AA19950217,   75N,    18,  1,   7816,2,19950228,0000, 75.0017,  -1.4970, 3535,    201.9,  -0.9580,  34.8740,2,-999.0000,9,   -999.0,9,  -999.00,9,  -999.00,9,  -999.00,9,  -999.00,9,    4.930,2,    2.410,2,    0.350,2,   -999.0,9,   -999.0,9,-999.0000,  -999.00,9,  -0.9639
  58AA19950217,   75N,    18,  1,   7817,2,19950228,0000, 75.0017,  -1.4970, 3535,    400.6,  -0.9280,  34.8780,2,-999.0000,9,   -999.0,9,  -999.00,9,  -999.00,9,  -999.00,9,  -999.00,9,    5.300,2,    2.870,2,    0.380,2,   -999.0,9,   -999.0,9,-999.0000,  -999.00,9,  -0.9406
  58AA19950217,   75N,    18,  1,   7818,2,19950228,0000, 75.0017,  -1.4970, 3535,    600.0,  -0.9380,  34.8770,2,-999.0000,9,   -999.0,9,  -999.00,9,  -999.00,9,  -999.00,9,  -999.00,9,    5.100,2,    3.200,2,    0.360,2,   -999.0,9,   -999.0,9,-999.0000,  -999.00,9,  -0.9579
  58AA19950217,   75N,    18,  1,   7819,2,19950228,0000, 75.0017,  -1.4970, 3535,    802.0,  -0.8490,  34.8880,2,-999.0000,9,   -999.0,9,  -999.00,9,  -999.00,9,  -999.00,9,  -999.00,9,    2.780,2,    2.270,2,    0.170,2,   -999.0,9,   -999.0,9,-999.0000,  -999.00,9,  -0.8777
  58AA19950217,   75N,    18,  1,   7820,2,19950228,0000, 75.0017,  -1.4970, 3535,    999.0,  -0.7790,  34.9020,2,-999.0000,9,   -999.0,9,  -999.00,9,  -999.00,9,  -999.00,9,  -999.00,9,    1.920,2,    1.500,2,    0.080,2,   -999.0,9,   -999.0,9,-999.0000,  -999.00,9,  -0.8172
  58AA19950217,   75N,    18,  1,   7821,2,19950228,0000, 75.0017,  -1.4970, 3535,   1499.7,  -0.9280,  34.9050,2,-999.0000,9,   -999.0,9,  -999.00,9,  -999.00,9,  -999.00,9,  -999.00,9,    1.370,2,    0.390,2,    0.000,2,   -999.0,9,   -999.0,9,-999.0000,  -999.00,9,  -0.9903
  58AA19950217,   75N,    18,  1,   7822,2,19950228,0000, 75.0017,  -1.4970, 3535,   2502.1,  -1.0000,  34.9060,2,-999.0000,9,   -999.0,9,  -999.00,9,  -999.00,9,  -999.00,9,  -999.00,9,    0.900,2,    0.420,2,    0.000,2,   -999.0,9,   -999.0,9,-999.0000,  -999.00,9,  -1.1245
  58AA19950217,   75N,    18,  1,   7823,2,19950228,0000, 75.0017,  -1.4970, 3535,   3004.0,  -1.0030,  34.9040,2,-999.0000,9,   -999.0,9,  -999.00,9,  -999.00,9,  -999.00,9,  -999.00,9,    0.710,2,    0.390,2,    0.000,2,   -999.0,9,   -999.0,9,-999.0000,  -999.00,9,  -1.1652
  58AA19950217,   75N,    18,  1,   7824,2,19950228,0000, 75.0017,  -1.4970, 3535,   3508.4,  -0.9880,  34.9020,2,-999.0000,9,   -999.0,9,  -999.00,9,  -999.00,9,  -999.00,9,  -999.00,9,    0.810,2,    0.380,2,    0.000,2,   -999.0,9,   -999.0,9,-999.0000,  -999.00,9,  -1.1925
  58AA19950217,   75N,    19,  1,   7825,2,19950228,0000, 75.0000,  -1.0070, 3596,    899.2,  -0.8530,  34.8840,2,  34.8850,2,    309.9,2,     8.30,2,    12.30,2,     0.06,2,     0.97,2,    3.080,2,    1.820,2,    0.130,2,   2145.8,2,   2287.0,2,   7.6698,    25.00,2,  -0.8860
  58AA19950217,   75N,    19,  1,   7826,2,19950228,0000, 75.0000,  -1.0070, 3596,    999.1,  -0.7910,  34.8940,2,  34.8940,2,    307.7,2,     8.80,2,    12.60,2,     0.06,2,     1.00,2,    2.350,2,    1.210,2,    0.120,2,   2143.6,2,   2292.0,2,   7.6717,    25.00,2,  -0.8291
  58AA19950217,   75N,    19,  1,   7827,2,19950228,0000, 75.0000,  -1.0070, 3596,   1099.4,  -0.7800,  34.9000,2,  34.9010,2,    305.1,2,     9.20,2,    12.70,2,     0.06,2,     0.99,2,    1.960,2,    0.900,2,    0.000,2,   2149.2,2,   2295.0,2,   7.6688,    25.00,2,  -0.8230
  58AA19950217,   75N,    19,  1,   7828,2,19950228,0000, 75.0000,  -1.0070, 3596,   1301.4,  -0.8300,  34.9040,2,  34.9040,2,    302.9,2,     9.80,2,    12.80,2,     0.07,2,     0.98,2,    1.540,2,    0.680,2,    0.050,2,   2145.1,2,   2293.0,2,   7.6765,    25.00,2,  -0.8828
  58AA19950217,   75N,    19,  1,   7829,2,19950228,0000, 75.0000,  -1.0070, 3596,   1500.5,  -0.9150,  34.9030,2,  34.9030,2,    306.4,2,    10.00,2,    12.90,2,     0.06,2,     0.99,2,    1.450,2,    0.850,2,    0.000,2,   2152.8,2,   2294.0,2,   7.6697,    25.00,2,  -0.9775
  58AA19950217,   75N,    19,  1,   7830,2,19950228,0000, 75.0000,  -1.0070, 3596,   1798.5,  -0.9660,  34.9040,2,  34.9040,2,    306.0,2,    10.40,2,    13.10,2,     0.06,2,     1.00,2,    1.280,2,    0.720,2,    0.000,2,   2154.3,2,   2293.0,2,   7.6717,    25.00,2,  -1.0449
  58AA19950217,   75N,    19,  1,   7831,2,19950228,0000, 75.0000,  -1.0070, 3596,   2001.1,  -0.9790,  34.9050,2,-999.0000,9,    305.1,2,    10.50,2,    13.10,2,     0.06,2,     1.01,2,    1.100,2,    0.580,2,    0.000,2,   2144.7,2,   2294.0,2,   7.6717,    25.00,2,  -1.0702
  58AA19950217,   75N,    19,  1,   7832,2,19950228,0000, 75.0000,  -1.0070, 3596,   2300.8,  -0.9910,  34.9050,2,  34.9050,2,    306.0,2,    10.80,2,    13.10,2,     0.06,2,     1.00,2,    0.970,2,    0.580,2,    0.000,2,   2141.3,2,   2295.0,2,   7.6774,    25.00,2,  -1.1017
  58AA19950217,   75N,    19,  1,   7833,2,19950228,0000, 75.0000,  -1.0070, 3596,   2500.3,  -1.0030,  34.9050,2,-999.0000,9,    306.8,2,    11.10,2,    13.10,2,     0.06,2,     1.05,2,    0.830,2,    0.230,2,    0.000,2,   2144.5,2,   2296.0,2,   7.6765,    25.00,2,  -1.1273
  58AA19950217,   75N,    19,  1,   7834,2,19950228,0000, 75.0000,  -1.0070, 3596,   2702.2,  -1.0090,  34.9030,2,  34.9030,2,    308.1,2,    11.20,2,    13.40,2,     0.06,2,     1.00,2,    0.850,2,    0.400,2,    0.020,2,   2149.2,2,   2296.0,2,   7.6765,    25.00,2,  -1.1479
  58AA19950217,   75N,    19,  1,   7835,2,19950228,0000, 75.0000,  -1.0070, 3596,   3001.8,  -1.0090,  34.9020,2,-999.0000,9,    307.7,2,    11.40,2,    13.10,2,     0.06,2,     0.99,2,    0.720,2,    0.000,2,    0.000,2,   2147.7,2,   2289.0,2,   7.6774,    25.00,2,  -1.1709
  58AA19950217,   75N,    19,  1,   7836,2,19950228,0000, 75.0000,  -1.0070, 3596,   3356.4,  -1.0030,  34.9000,2,  34.8990,2,    309.9,2,    11.70,2,    13.00,2,     0.17,2,     0.98,2,    0.720,2,    0.300,2,    0.020,2,   2147.5,2,   2288.0,2,   7.6784,    25.00,2,  -1.1940
  58AA19950217,   75N,    19,  2,   7837,2,19950228,0000, 75.0000,  -1.0070, 3596,      8.6,  -1.0050,  34.8540,2,  34.8540,2,    340.7,2,     6.30,2,    10.80,2,     0.08,2,     0.88,2,    5.740,2,    3.620,2,    0.390,2,   2140.8,2,   2269.0,3,   7.6765,    25.00,2,  -1.0052
  58AA19950217,   75N,    19,  2,   7838,2,19950228,0000, 75.0000,  -1.0070, 3596,     18.6,  -1.0070,  34.8550,2,  34.8540,2,    339.9,2,     6.30,2,    11.10,2,     0.08,2,     0.88,2,    5.510,2,    2.640,2,    0.400,2,   2140.8,2,   2267.0,3,   7.6794,    25.00,2,  -1.0075
  58AA19950217,   75N,    19,  2,   7839,2,19950228,0000, 75.0000,  -1.0070, 3596,     50.0,  -1.0070,  34.8550,2,  34.8550,2,    340.3,2,     6.30,2,    11.20,2,     0.08,2,     0.88,2, -999.000,9, -999.000,9, -999.000,9,   2140.0,2,   2270.0,3,   7.6804,    25.00,2,  -1.0084
  58AA19950217,   75N,    19,  2,   7840,2,19950228,0000, 75.0000,  -1.0070, 3596,     74.9,  -1.0060,  34.8550,2,  34.8550,2,    339.9,2,     6.30,2,    11.20,2,     0.08,2,     0.86,2,    5.450,2,    2.570,2,    0.400,2,   2141.6,2,   2265.0,3,   7.6794,    25.00,2,  -1.0081
  58AA19950217,   75N,    19,  2,   7841,2,19950228,0000, 75.0000,  -1.0070, 3596,     98.6,  -1.0050,  34.8560,2,  34.8570,2,    339.4,2,     6.40,2,    11.50,2,     0.08,2,     0.91,2,    5.720,2,    3.260,2,    0.390,2,   2145.3,2,   2261.0,3,   7.6794,    25.00,2,  -1.0077
  58AA19950217,   75N,    19,  2,   7842,2,19950228,0000, 75.0000,  -1.0070, 3596,    150.4,  -0.9970,  34.8650,2,  34.8670,2,    336.8,2,     6.50,2,    11.60,2,     0.08,2,     0.90,2,    5.330,2,    2.570,2,    0.380,2,   2151.3,2,   -999.0,9,   7.6726,    25.00,2,  -1.0013
  58AA19950217,   75N,    19,  2,   7843,2,19950228,0000, 75.0000,  -1.0070, 3596,    202.2,  -0.9940,  34.8650,2,  34.8650,2,    337.7,2,     6.60,2,    11.50,2,     0.08,2,     0.88,2, -999.000,9, -999.000,9, -999.000,9,   2142.9,2,   2284.0,2,   7.6707,    25.00,2,  -0.9999
  58AA19950217,   75N,    19,  2,   7844,2,19950228,0000, 75.0000,  -1.0070, 3596,    300.7,  -0.9850,  34.8660,2,  34.8660,2,    335.9,2,     6.50,2,    11.20,2,     0.08,2,     0.89,2,    4.970,2,    2.250,2,    0.340,2,   2146.3,2,   2282.0,2,   7.6707,    25.00,2,  -0.9940
  58AA19950217,   75N,    19,  2,   7845,2,19950228,0000, 75.0000,  -1.0070, 3596,    501.3,  -0.9750,  34.8660,2,  34.8670,2,    336.4,2,     6.60,2,    11.30,2,     0.08,2,     0.88,2,    5.430,2,    2.760,2,    0.330,2,   2146.9,2,   2285.0,2,   7.6707,    25.00,2,  -0.9910
  58AA19950217,   75N,    19,  2,   7846,2,19950228,0000, 75.0000,  -1.0070, 3596,    600.4,  -0.9560,  34.8690,2,  34.8690,2,    329.4,2,     7.00,2,    11.80,2,     0.08,2,     0.92,2,    4.450,2,    2.110,2,    0.290,2,   2151.6,2,   2286.0,2,   7.6678,    25.00,2,  -0.9758
  58AA19950217,   75N,    19,  2,   7847,2,19950228,0000, 75.0000,  -1.0070, 3596,    701.0,  -0.9630,  34.8700,2,  34.8710,2,    326.0,2,     7.30,2,    11.90,2,     0.06,2,     0.94,2,    4.520,2,    2.490,2,    0.170,2,   2147.7,2,   2288.0,2,   7.6669,    25.00,2,  -0.9868
  58AA19950217,   75N,    19,  2,   7848,2,19950228,0000, 75.0000,  -1.0070, 3596,    803.1,  -0.8630,  34.8820,2,  34.8800,2,    316.4,2,     8.00,2,    12.30,2,     0.06,2,     0.95,2,    3.240,2,    1.520,2,    0.180,2,   2146.0,2,   2290.0,2,   7.6678,    25.00,2,  -0.8917
  58AA19950217,   75N,    21,  1,   7849,2,19950301,0000, 74.9983,  -0.4970, 3564,     12.1,  -0.9960,  34.8530,2,-999.0000,9,   -999.0,9,  -999.00,9,  -999.00,9,  -999.00,9,  -999.00,9,    5.690,2,    3.020,2,    0.380,2,   -999.0,9,   -999.0,9,-999.0000,  -999.00,9,  -0.9963
  58AA19950217,   75N,    21,  1,   7850,2,19950301,0000, 74.9983,  -0.4970, 3564,    100.9,  -0.9860,  34.8530,2,  34.8530,2,   -999.0,9,  -999.00,9,  -999.00,9,  -999.00,9,  -999.00,9,    5.440,2,    2.920,2,    0.400,2,   -999.0,9,   -999.0,9,-999.0000,  -999.00,9,  -0.9888
  58AA19950217,   75N,    21,  1,   7851,2,19950301,0000, 74.9983,  -0.4970, 3564,    247.9,  -0.9430,  34.8610,2,-999.0000,9,   -999.0,9,  -999.00,9,  -999.00,9,  -999.00,9,  -999.00,9,    5.310,2,    3.190,2,    0.380,2,   -999.0,9,   -999.0,9,-999.0000,  -999.00,9,  -0.9504
  58AA19950217,   75N,    21,  1,   7852,2,19950301,0000, 74.9983,  -0.4970, 3564,    270.8,  -0.9340,  34.8620,2,  34.8630,2,    336.8,2,     6.50,3,    11.10,3,     0.08,2,     0.96,3,    5.210,2,    2.440,2,    0.390,2,   2157.3,3,   -999.0,9,-999.0000,  -999.00,9,  -0.9421
  58AA19950217,   75N,    21,  1,   7853,2,19950301,0000, 74.9983,  -0.4970, 3564,    402.5,  -0.9030,  34.8680,2,  34.8690,2,    326.0,2,     7.30,3,    11.90,3,     0.07,2,     0.93,3,    4.100,2,    1.750,2,    0.240,2,   2146.4,2,   -999.0,9,-999.0000,  -999.00,9,  -0.9157
  58AA19950217,   75N,    21,  1,   7854,2,19950301,0000, 74.9983,  -0.4970, 3564,    600.5,  -0.9510,  34.8700,2,  34.8710,2,    322.0,2,     7.50,3,    12.30,3,     0.08,2,     0.93,3,    4.150,2, -999.000,9,    0.230,2,   2152.0,2,   -999.0,9,-999.0000,  -999.00,9,  -0.9709
  58AA19950217,   75N,    21,  1,   7855,2,19950301,0000, 74.9983,  -0.4970, 3564,    999.2,  -0.7840,  34.8960,2,-999.0000,9,   -999.0,9,  -999.00,9,  -999.00,9,  -999.00,9,  -999.00,9,    1.930,2,    1.060,2,    0.080,2,   -999.0,9,   -999.0,9,-999.0000,  -999.00,9,  -0.8221
  58AA19950217,   75N,    21,  1,   7856,2,19950301,0000, 74.9983,  -0.4970, 3564,   1497.3,  -0.9070,  34.9030,2,-999.0000,9,   -999.0,9,  -999.00,9,  -999.00,9,  -999.00,9,  -999.00,9,    1.280,2, -999.000,9,    0.000,2,   -999.0,9,   -999.0,9,-999.0000,  -999.00,9,  -0.9694
  58AA19950217,   75N,    21,  1,   7857,2,19950301,0000, 74.9983,  -0.4970, 3564,   1998.6,  -0.9810,  34.9040,2,  34.9030,2,   -999.0,9,  -999.00,9,  -999.00,9,  -999.00,9,  -999.00,9,    1.090,2,    0.770,2,    0.000,2,   -999.0,9,   -999.0,9,-999.0000,  -999.00,9,  -1.0720
  58AA19950217,   75N,    21,  1,   7858,2,19950301,0000, 74.9983,  -0.4970, 3564,   2998.7,  -1.0010,  34.9020,2,-999.0000,9,   -999.0,9,  -999.00,9,  -999.00,9,  -999.00,9,  -999.00,9, -999.000,9, -999.000,9, -999.000,9,   -999.0,9,   -999.0,9,-999.0000,  -999.00,9,  -1.1628
  58AA19950217,   75N,    21,  1,   7859,2,19950301,0000, 74.9983,  -0.4970, 3564,   3499.3,  -0.9890,  34.8990,2,-999.0000,9,   -999.0,9,  -999.00,9,  -999.00,9,  -999.00,9,  -999.00,9, -999.000,9, -999.000,9, -999.000,9,   -999.0,9,   -999.0,9,-999.0000,  -999.00,9,  -1.1927
  58AA19950217,   75N,    21,  1,   7860,2,19950301,0000, 74.9983,  -0.4970, 3564,   3554.7,  -0.9850,  34.8990,2,  34.8980,2,   -999.0,9,  -999.00,9,  -999.00,9,  -999.00,9,  -999.00,9,    0.630,2,    0.260,2,    0.000,2,   -999.0,9,   -999.0,9,-999.0000,  -999.00,9,  -1.1936