BOTTLE,20020814WHPSIOSCD
EXPOCODE,SECT_ID,STNNBR,CASTNO,SAMPNO,BTLNBR,BTLNBR_FLAG_W,DATE,TIME,LATITUDE,LONGITUDE,DEPTH,CTDPRS,CTDTMP,CTDSAL,CTDSAL_FLAG_W,SALNTY,SALNTY_FLAG_W,OXYGEN,OXYGEN_FLAG_W,THETA
,,,,,,,,,,,,DBAR,ITS-90,PSS-78,,PSS-78,,UMOL/KG,,DEG
     49HH932_1,  P13J,   C18,  1,     23,2-10377,2,19930525,1453, 45.0015, 164.9922, 5957,      9.9,   4.9966,  33.4316,2,  33.4290,2,    321.2,2,  4.9959
     49HH932_1,  P13J,   C18,  1,     24, 2-9963,4,19930525,1453, 45.0015, 164.9922, 5957,      9.9,   4.9966,  33.4316,2,  33.4286,2,    320.8,2,  4.9959
     49HH932_1,  P13J,   C18,  1,     22, 2-9956,2,19930525,1453, 45.0015, 164.9922, 5957,     19.6,   4.9975,  33.4310,2,  33.4270,2,    319.3,2,  4.9960
     49HH932_1,  P13J,   C18,  1,     21, 2-9961,2,19930525,1453, 45.0015, 164.9922, 5957,     48.6,   4.8437,  33.4261,2,  33.4219,2,    318.2,2,  4.8401
     49HH932_1,  P13J,   C18,  1,     20,2-10375,4,19930525,1453, 45.0015, 164.9922, 5957,    100.2,   4.4486,  33.4109,2,  33.4078,2,    317.6,2,  4.4415
     49HH932_1,  P13J,   C18,  1,     18, 2-9659,2,19930525,1453, 45.0015, 164.9922, 5957,    397.9,   3.6927,  33.9561,2,  33.9554,2,     85.0,2,  3.6658
     49HH932_1,  P13J,   C18,  1,     16,2-10374,2,19930525,1453, 45.0015, 164.9922, 5957,    696.8,   3.3026,  34.2249,2,  34.2264,2,     37.3,2,  3.2556
     49HH932_1,  P13J,   C18,  1,     15, 2-9660,2,19930525,1453, 45.0015, 164.9922, 5957,    849.7,   3.0994,  34.3042,2,  34.3033,2,     34.4,2,  3.0423
     49HH932_1,  P13J,   C18,  1,     14, 2-9962,2,19930525,1453, 45.0015, 164.9922, 5957,    998.4,   2.8146,  34.3763,2,  34.3779,2,     36.6,2,  2.7485
     49HH932_1,  P13J,   C18,  1,     13, 2-9964,2,19930525,1453, 45.0015, 164.9922, 5957,   1199.8,   2.5572,  34.4338,2,  34.4317,2,     35.4,2,  2.4781
     49HH932_1,  P13J,   C18,  1,     12, 2-9958,2,19930525,1453, 45.0015, 164.9922, 5957,   1397.3,   2.3577,  34.4809,2,  34.4796,2,     40.9,2,  2.2655
     49HH932_1,  P13J,   C18,  1,     11, 2-9662,2,19930525,1453, 45.0015, 164.9922, 5957,   1601.4,   2.1965,  34.5233,2,  34.5225,2,     48.6,2,  2.0901
     49HH932_1,  P13J,   C18,  1,     10,2-10373,2,19930525,1453, 45.0015, 164.9922, 5957,   1797.6,   2.0754,  34.5548,2,  34.5535,2,     57.0,2,  1.9548
     49HH932_1,  P13J,   C18,  1,      9, 2-9165,2,19930525,1453, 45.0015, 164.9922, 5957,   2000.8,   1.9527,  34.5841,2,  34.5834,2,     69.0,2,  1.8171
     49HH932_1,  P13J,   C18,  1,      8, 2-9204,2,19930525,1453, 45.0015, 164.9922, 5957,   2496.6,   1.7327,  34.6277,2,  34.6274,2,     96.8,2,  1.5578
     49HH932_1,  P13J,   C18,  1,      7, 2-9661,2,19930525,1453, 45.0015, 164.9922, 5957,   3000.6,   1.6000,  34.6536,2,  34.6537,2,    119.8,2,  1.3811
     49HH932_1,  P13J,   C18,  1,      5, 2-9957,4,19930525,1453, 45.0015, 164.9922, 5957,   3496.8,   1.5214,  34.6686,2,  34.6687,2,    134.0,2,  1.2551
     49HH932_1,  P13J,   C18,  1,      6,2-10329,2,19930525,1453, 45.0015, 164.9922, 5957,   3496.8,   1.5214,  34.6686,2,  34.6687,2,    136.4,2,  1.2551
     49HH932_1,  P13J,   C18,  1,      4, 2-9959,2,19930525,1453, 45.0015, 164.9922, 5957,   4496.9,   1.4934,  34.6833,2,  34.6832,2,    155.0,2,  1.1190
     49HH932_1,  P13J,   C18,  1,      2,2-10378,4,19930525,1453, 45.0015, 164.9922, 5957,   5001.5,   1.5221,  34.6873,2,  34.6809,2,    158.2,2,  1.0870
     49HH932_1,  P13J,   C18,  1,      3,2-10372,2,19930525,1453, 45.0015, 164.9922, 5957,   5001.5,   1.5221,  34.6873,2,  34.6860,2,    158.2,2,  1.0870
     49HH932_1,  P13J,   C18,  1,      1, 2-9663,2,19930525,1453, 45.0015, 164.9922, 5957,   6084.4,   1.6501,  34.6894,2,  34.6887,2,    159.9,2,  1.0711
     49HH932_1,  P13J,   C19,  1,     24, 2-9963,2,19930525,2211, 45.9980, 164.9798, 5775,      9.7,   4.1702,  33.2924,2,  33.2902,2,    329.3,2,  4.1695
     49HH932_1,  P13J,   C19,  1,     23,2-10377,2,19930525,2211, 45.9980, 164.9798, 5775,     19.9,   4.0827,  33.2913,2,  33.2890,2,    329.2,2,  4.0814
     49HH932_1,  P13J,   C19,  1,     22, 2-9956,2,19930525,2211, 45.9980, 164.9798, 5775,     49.1,   4.0276,  33.3163,2,  33.3137,2,    326.1,2,  4.0243
     49HH932_1,  P13J,   C19,  1,     21, 2-9961,2,19930525,2211, 45.9980, 164.9798, 5775,     96.7,   3.5930,  33.3225,2,  33.3207,2,    319.8,2,  3.5869
     49HH932_1,  P13J,   C19,  1,     20,2-10375,2,19930525,2211, 45.9980, 164.9798, 5775,    196.1,   4.0124,  33.6688,2,  33.6707,2,    195.8,2,  3.9990
     49HH932_1,  P13J,   C19,  1,     19, 2-9960,2,19930525,2211, 45.9980, 164.9798, 5775,    300.9,   3.6975,  33.8402,2,  33.8367,2,    121.2,2,  3.6774
     49HH932_1,  P13J,   C19,  1,     18, 2-9659,2,19930525,2211, 45.9980, 164.9798, 5775,    397.3,   3.7076,  33.9803,2,  33.9852,2,     79.7,2,  3.6806
     49HH932_1,  P13J,   C19,  1,     17,2-10323,4,19930525,2211, 45.9980, 164.9798, 5775,    552.3,   3.5262,  34.1342,2,  34.1303,2,     47.6,2,  3.4887
     49HH932_1,  P13J,   C19,  1,     16,2-10374,2,19930525,2211, 45.9980, 164.9798, 5775,    850.1,   2.9841,  34.3235,2,  34.3210,2,     32.2,2,  2.9277
     49HH932_1,  P13J,   C19,  1,     15, 2-9660,2,19930525,2211, 45.9980, 164.9798, 5775,    996.3,   2.7910,  34.3779,2,  34.3783,2,     34.0,2,  2.7252
     49HH932_1,  P13J,   C19,  1,     14, 2-9962,2,19930525,2211, 45.9980, 164.9798, 5775,   1200.7,   2.5291,  34.4408,2,  34.4368,2,     37.5,2,  2.4502
     49HH932_1,  P13J,   C19,  1,     13, 2-9964,2,19930525,2211, 45.9980, 164.9798, 5775,   1396.3,   2.3344,  34.4860,2,  34.4855,2,     39.7,2,  2.2425
     49HH932_1,  P13J,   C19,  1,     12, 2-9958,2,19930525,2211, 45.9980, 164.9798, 5775,   1601.5,   2.1861,  34.5253,2,  34.5236,2,     48.4,2,  2.0799
     49HH932_1,  P13J,   C19,  1,     11, 2-9662,2,19930525,2211, 45.9980, 164.9798, 5775,   1796.7,   2.0696,  34.5550,2,  34.5551,2,     57.2,2,  1.9492
     49HH932_1,  P13J,   C19,  1,     10,2-10373,2,19930525,2211, 45.9980, 164.9798, 5775,   2002.7,   1.9420,  34.5838,2,  34.5822,2,     67.6,2,  1.8064
     49HH932_1,  P13J,   C19,  1,      9, 2-9165,2,19930525,2211, 45.9980, 164.9798, 5775,   2497.8,   1.7057,  34.6321,2,  34.6313,2,    100.5,2,  1.5312
     49HH932_1,  P13J,   C19,  1,      8, 2-9204,2,19930525,2211, 45.9980, 164.9798, 5775,   3001.7,   1.5742,  34.6574,2,  34.6561,2,    124.4,2,  1.3557
     49HH932_1,  P13J,   C19,  1,      7, 2-9661,2,19930525,2211, 45.9980, 164.9798, 5775,   3496.7,   1.5094,  34.6705,2,  34.6699,2,    138.4,2,  1.2434
     49HH932_1,  P13J,   C19,  1,      6,2-10329,2,19930525,2211, 45.9980, 164.9798, 5775,   3994.9,   1.4807,  34.6803,2,  34.6781,2,    148.6,2,  1.1629
     49HH932_1,  P13J,   C19,  1,      5, 2-9957,2,19930525,2211, 45.9980, 164.9798, 5775,   4497.0,   1.4855,  34.6855,2,  34.6828,2,    155.8,2,  1.1113
     49HH932_1,  P13J,   C19,  1,      4, 2-9959,2,19930525,2211, 45.9980, 164.9798, 5775,   4999.7,   1.5170,  34.6890,2,  34.6872,2,    158.9,2,  1.0822
     49HH932_1,  P13J,   C19,  1,      3,2-10372,2,19930525,2211, 45.9980, 164.9798, 5775,   5496.2,   1.5727,  34.6903,2,  34.6879,2,    163.5,2,  1.0740
     49HH932_1,  P13J,   C19,  1,      1, 2-9663,2,19930525,2211, 45.9980, 164.9798, 5775,   5903.4,   1.6254,  34.6911,2,  34.6883,2,    160.4,2,  1.0716
     49HH932_1,  P13J,   C19,  1,      2,2-10378,4,19930525,2211, 45.9980, 164.9798, 5775,   5903.4,   1.6254,  34.6911,2,  34.6883,2,    160.5,2,  1.0716
     49HH932_1,  P13J,   C20,  1,     23,2-10377,2,19930526,0528, 46.9853, 165.0155, 5875,      8.8,   3.2540,  33.0720,2,  33.0715,2,    338.9,2,  3.2535
     49HH932_1,  P13J,   C20,  1,     21, 2-9961,4,19930526,0528, 46.9853, 165.0155, 5875,     20.0,-999.0000,-999.0000,5,  33.0711,2,   -999.0,1,-999.0000
     49HH932_1,  P13J,   C20,  1,     22, 2-9956,2,19930526,0528, 46.9853, 165.0155, 5875,     20.0,-999.0000,-999.0000,5,  33.0719,2,   -999.0,1,-999.0000
     49HH932_1,  P13J,   C20,  1,     20,2-10375,4,19930526,0528, 46.9853, 165.0155, 5875,    100.4,   1.8196,  33.1347,2,  33.1356,2,    332.7,2,  1.8147
     49HH932_1,  P13J,   C20,  1,     19, 2-9960,2,19930526,0528, 46.9853, 165.0155, 5875,    297.9,   3.3793,  33.9623,2,  33.9582,2,     34.2,2,  3.3601
     49HH932_1,  P13J,   C20,  1,     18, 2-9659,2,19930526,0528, 46.9853, 165.0155, 5875,    397.1,   3.3184,  34.0757,2,  34.0714,2,     27.3,2,  3.2926
     49HH932_1,  P13J,   C20,  1,     17,2-10323,2,19930526,0528, 46.9853, 165.0155, 5875,    550.1,   3.2155,  34.2084,2,  34.2056,2,     24.1,2,  3.1794
     49HH932_1,  P13J,   C20,  1,     16,2-10374,2,19930526,0528, 46.9853, 165.0155, 5875,    697.3,   3.0117,  34.2824,2,  34.2770,2,     24.2,2,  2.9662
     49HH932_1,  P13J,   C20,  1,     15, 2-9660,2,19930526,0528, 46.9853, 165.0155, 5875,    849.8,   2.8437,  34.3547,2,  34.3520,2,     22.3,2,  2.7883
     49HH932_1,  P13J,   C20,  1,     14, 2-9962,2,19930526,0528, 46.9853, 165.0155, 5875,    999.7,   2.6410,  34.4122,2,  34.4113,2,   -999.0,1,  2.5761
     49HH932_1,  P13J,   C20,  1,     13, 2-9964,2,19930526,0528, 46.9853, 165.0155, 5875,   1200.6,   2.4021,  34.4647,2,  34.4631,2,     36.3,2,  2.3244
     49HH932_1,  P13J,   C20,  1,     12, 2-9958,2,19930526,0528, 46.9853, 165.0155, 5875,   1397.9,   2.2175,  34.5114,2,  34.5107,2,     42.9,2,  2.1267
     49HH932_1,  P13J,   C20,  1,     11, 2-9662,2,19930526,0528, 46.9853, 165.0155, 5875,   1599.9,   2.0959,  34.5428,2,  34.5429,2,     52.3,2,  1.9909
     49HH932_1,  P13J,   C20,  1,     10,2-10373,2,19930526,0528, 46.9853, 165.0155, 5875,   1797.8,   1.9659,  34.5734,2,  34.5739,2,     63.3,2,  1.8467
     49HH932_1,  P13J,   C20,  1,      9, 2-9165,2,19930526,0528, 46.9853, 165.0155, 5875,   2001.8,   1.8677,  34.5968,2,  34.5967,2,     74.4,2,  1.7332
     49HH932_1,  P13J,   C20,  1,      8, 2-9204,2,19930526,0528, 46.9853, 165.0155, 5875,   2498.9,   1.6570,  34.6383,2,  34.6404,2,    106.3,2,  1.4833
     49HH932_1,  P13J,   C20,  1,      7, 2-9661,2,19930526,0528, 46.9853, 165.0155, 5875,   3002.0,   1.5496,  34.6599,2,  34.6612,2,    126.0,2,  1.3316
     49HH932_1,  P13J,   C20,  1,      5, 2-9957,4,19930526,0528, 46.9853, 165.0155, 5875,   3499.3,   1.4904,  34.6721,2,  34.6722,2,    141.0,2,  1.2246
     49HH932_1,  P13J,   C20,  1,      6,2-10329,2,19930526,0528, 46.9853, 165.0155, 5875,   3499.3,   1.4904,  34.6721,2,  34.6761,2,    142.5,2,  1.2246
     49HH932_1,  P13J,   C20,  1,      4, 2-9959,2,19930526,0528, 46.9853, 165.0155, 5875,   4496.4,   1.4877,  34.6842,2,  34.6848,2,    154.9,2,  1.1135
     49HH932_1,  P13J,   C20,  1,      3,2-10372,2,19930526,0528, 46.9853, 165.0155, 5875,   4998.8,   1.5213,  34.6873,2,  34.6868,2,    159.0,2,  1.0865
     49HH932_1,  P13J,   C20,  1,      2,2-10378,2,19930526,0528, 46.9853, 165.0155, 5875,   5496.0,   1.5749,  34.6887,2,  34.6883,2,    161.4,2,  1.0761
     49HH932_1,  P13J,   C20,  1,      1, 2-9663,2,19930526,0528, 46.9853, 165.0155, 5875,   5992.1,   1.6414,  34.6892,2,  34.6895,2,    160.4,2,  1.0751
     49HH932_1,  P13J,   C21,  1,     21, 2-9961,2,19930526,1247, 47.9928, 164.9890, 5845,      9.7,   3.5887,  33.1600,2,  33.1676,2,    338.6,2,  3.5881
     49HH932_1,  P13J,   C21,  1,     20,2-10375,4,19930526,1247, 47.9928, 164.9890, 5845,     19.6,   3.2101,  33.1835,2,  33.1906,2,    338.4,2,  3.2089
     49HH932_1,  P13J,   C21,  1,     19, 2-9960,2,19930526,1247, 47.9928, 164.9890, 5845,     98.9,   2.5335,  33.2141,2,  33.2152,2,    328.8,2,  2.5281
     49HH932_1,  P13J,   C21,  1,     18, 2-9659,2,19930526,1247, 47.9928, 164.9890, 5845,    197.1,   3.8728,  33.8651,2,  33.8633,2,     55.1,2,  3.8595
     49HH932_1,  P13J,   C21,  1,     17,2-10323,2,19930526,1247, 47.9928, 164.9890, 5845,    296.4,   3.7260,  34.0100,2,  34.0075,2,     28.6,3,  3.7061
     49HH932_1,  P13J,   C21,  1,     16,2-10374,2,19930526,1247, 47.9928, 164.9890, 5845,    397.4,   3.5669,  34.1130,2,  34.1130,2,     24.0,2,  3.5403
     49HH932_1,  P13J,   C21,  1,     15, 2-9660,2,19930526,1247, 47.9928, 164.9890, 5845,    550.0,   3.3366,  34.2121,2,  34.2127,2,     20.7,2,  3.3000
     49HH932_1,  P13J,   C21,  1,     14, 2-9962,2,19930526,1247, 47.9928, 164.9890, 5845,    696.4,   3.0585,  34.2975,2,  34.2966,2,     23.6,2,  3.0128
     49HH932_1,  P13J,   C21,  1,     13, 2-9964,4,19930526,1247, 47.9928, 164.9890, 5845,    849.4,   2.8097,  34.3592,2,  34.3598,2,     23.9,2,  2.7545
     49HH932_1,  P13J,   C21,  1,     12, 2-9958,4,19930526,1247, 47.9928, 164.9890, 5845,   1200.5,   2.3580,  34.4750,2,  34.4761,2,     34.2,2,  2.2807
     49HH932_1,  P13J,   C21,  1,     11, 2-9662,2,19930526,1247, 47.9928, 164.9890, 5845,   1600.5,   2.0367,  34.5570,2,  34.5563,2,     59.6,2,  1.9323
     49HH932_1,  P13J,   C21,  1,     10,2-10373,2,19930526,1247, 47.9928, 164.9890, 5845,   1797.3,   1.9279,  34.5818,2,  34.5822,2,     66.2,2,  1.8093
     49HH932_1,  P13J,   C21,  1,      9, 2-9165,2,19930526,1247, 47.9928, 164.9890, 5845,   1998.3,   1.8385,  34.6021,2,  34.6026,2,     77.2,2,  1.7048
     49HH932_1,  P13J,   C21,  1,      8, 2-9204,2,19930526,1247, 47.9928, 164.9890, 5845,   2496.8,   1.6470,  34.6399,2,  34.6384,2,    107.7,2,  1.4736
     49HH932_1,  P13J,   C21,  1,      7, 2-9661,2,19930526,1247, 47.9928, 164.9890, 5845,   2999.1,   1.5291,  34.6620,2,  34.6561,2,    129.2,2,  1.3118
     49HH932_1,  P13J,   C21,  1,      6,2-10329,2,19930526,1247, 47.9928, 164.9890, 5845,   3496.9,   1.4780,  34.6732,2,  34.6734,2,    141.8,2,  1.2128
     49HH932_1,  P13J,   C21,  1,      5, 2-9957,2,19930526,1247, 47.9928, 164.9890, 5845,   4000.0,   1.4618,  34.6807,2,  34.6805,2,    150.5,2,  1.1440
     49HH932_1,  P13J,   C21,  1,      4, 2-9959,2,19930526,1247, 47.9928, 164.9890, 5845,   4496.7,   1.4817,  34.6847,2,  34.6836,2,    154.8,2,  1.1077
     49HH932_1,  P13J,   C21,  1,      3,2-10372,2,19930526,1247, 47.9928, 164.9890, 5845,   4992.3,   1.5199,  34.6869,2,  34.6875,2,    157.9,2,  1.0859
     49HH932_1,  P13J,   C21,  1,      2,2-10378,2,19930526,1247, 47.9928, 164.9890, 5845,   5496.8,   1.5750,  34.6888,2,  34.6883,2,    159.1,2,  1.0761
     49HH932_1,  P13J,   C21,  1,      1, 2-9663,2,19930526,1247, 47.9928, 164.9890, 5845,   5961.3,   1.6378,  34.6892,2,  34.6887,2,    160.6,2,  1.0758