BOTTLE,20020814WHPSIOSCD
EXPOCODE,SECT_ID,STNNBR,CASTNO,SAMPNO,BTLNBR,BTLNBR_FLAG_W,DATE,TIME,LATITUDE,LONGITUDE,DEPTH,CTDPRS,CTDTMP,CTDSAL,CTDSAL_FLAG_W,SALNTY,SALNTY_FLAG_W,OXYGEN,OXYGEN_FLAG_W,THETA
,,,,,,,,,,,,DBAR,ITS-90,PSS-78,,PSS-78,,UMOL/KG,,DEG
     49HH932_1,  P13J,   C05,  1,     24, 2-9963,2,19930518,2129, 30.4985, 165.0083, 5985,      9.4,  22.3961,  35.2815,2,  35.2861,2,    224.1,2, 22.3942
     49HH932_1,  P13J,   C05,  1,     23,2-10377,2,19930518,2129, 30.4985, 165.0083, 5985,     18.4,  22.2370,  35.2507,2,  35.2679,2,    225.2,2, 22.2333
     49HH932_1,  P13J,   C05,  1,     22, 2-9956,2,19930518,2129, 30.4985, 165.0083, 5985,     48.3,  19.5665,  35.0174,2,  34.9988,2,    239.7,2, 19.5577
     49HH932_1,  P13J,   C05,  1,     21, 2-9961,2,19930518,2129, 30.4985, 165.0083, 5985,     99.5,  18.0220,  34.8506,2,  34.8524,2,    234.8,2, 18.0049
     49HH932_1,  P13J,   C05,  1,     20,2-10375,2,19930518,2129, 30.4985, 165.0083, 5985,    198.2,  17.2000,  34.7775,2,  34.7796,2,    229.5,2, 17.1671
     49HH932_1,  P13J,   C05,  1,     19, 2-9960,2,19930518,2129, 30.4985, 165.0083, 5985,    301.8,  16.6205,  34.7447,2,  34.7454,2,    227.4,2, 16.5714
     49HH932_1,  P13J,   C05,  1,     18, 2-9659,2,19930518,2129, 30.4985, 165.0083, 5985,    397.4,  15.2766,  34.6305,2,  34.6313,2,    212.2,2, 15.2155
     49HH932_1,  P13J,   C05,  1,     17,2-10323,2,19930518,2129, 30.4985, 165.0083, 5985,    549.9,  11.7710,  34.3528,2,  33.9617,4,    204.9,2, 11.6999
     49HH932_1,  P13J,   C05,  1,     16,2-10374,2,19930518,2129, 30.4985, 165.0083, 5985,    697.5,   7.7064,  34.0724,2,  34.0789,2,    178.6,2,  7.6360
     49HH932_1,  P13J,   C05,  1,     15, 2-9660,2,19930518,2129, 30.4985, 165.0083, 5985,    843.6,   5.0658,  34.0327,2,  34.0326,2,    116.1,2,  4.9967
     49HH932_1,  P13J,   C05,  1,     14, 2-9962,2,19930518,2129, 30.4985, 165.0083, 5985,    996.2,   4.1384,  34.2025,2,  34.2028,2,     65.6,2,  4.0625
     49HH932_1,  P13J,   C05,  1,     13, 2-9964,2,19930518,2129, 30.4985, 165.0083, 5985,   1199.0,   3.3294,  34.3517,2,  34.3536,2,     42.0,2,  3.2434
     49HH932_1,  P13J,   C05,  1,     12,2-10379,2,19930518,2129, 30.4985, 165.0083, 5985,   1397.2,   2.8615,  34.4315,2,  34.4333,2,     43.2,2,  2.7640
     49HH932_1,  P13J,   C05,  1,     11, 2-9662,2,19930518,2129, 30.4985, 165.0083, 5985,   1599.3,   2.5107,  34.5053,2,  34.5056,2,     45.7,2,  2.4007
     49HH932_1,  P13J,   C05,  1,     10,2-10373,2,19930518,2129, 30.4985, 165.0083, 5985,   1796.1,   2.2001,  34.5514,2,  34.5531,2,     59.0,2,  2.0779
     49HH932_1,  P13J,   C05,  1,      9, 2-9165,2,19930518,2129, 30.4985, 165.0083, 5985,   1998.8,   2.0028,  34.5898,2,  34.5908,2,     79.2,2,  1.8666
     49HH932_1,  P13J,   C05,  1,      8, 2-9204,2,19930518,2129, 30.4985, 165.0083, 5985,   2496.9,   1.7152,  34.6389,2,  34.6498,2,    116.4,2,  1.5405
     49HH932_1,  P13J,   C05,  1,      7, 2-9661,2,19930518,2129, 30.4985, 165.0083, 5985,   2999.0,   1.5852,  34.6603,2,  34.6726,2,    135.5,2,  1.3666
     49HH932_1,  P13J,   C05,  1,      6,2-10329,2,19930518,2129, 30.4985, 165.0083, 5985,   3497.2,   1.5000,  34.6725,2,  34.6718,2,    143.1,2,  1.2342
     49HH932_1,  P13J,   C05,  1,      5, 2-9957,2,19930518,2129, 30.4985, 165.0083, 5985,   3994.7,   1.4760,  34.6801,2,  34.6816,2,    152.3,2,  1.1584
     49HH932_1,  P13J,   C05,  1,      4, 2-9959,2,19930518,2129, 30.4985, 165.0083, 5985,   4495.5,   1.4727,  34.6856,2,  34.6872,2,    164.6,2,  1.0991
     49HH932_1,  P13J,   C05,  1,      3,2-10372,2,19930518,2129, 30.4985, 165.0083, 5985,   5000.3,   1.4807,  34.6905,2,  34.6911,2,    171.0,2,  1.0471
     49HH932_1,  P13J,   C05,  1,      1, 2-9663,4,19930518,2129, 30.4985, 165.0083, 5985,   5500.0,-999.0000,-999.0000,5,  34.6942,2,   -999.0,1,-999.0000
     49HH932_1,  P13J,   C05,  1,      2,2-10378,2,19930518,2129, 30.4985, 165.0083, 5985,   5500.0,-999.0000,-999.0000,5,  34.6946,2,   -999.0,1,-999.0000
     49HH932_1,  P13J,   C06,  1,     24, 2-9963,2,19930519,0742, 31.0022, 165.0020, 6167,     10.2,  22.0281,  35.2367,2,  35.2092,2,    227.8,2, 22.0261
     49HH932_1,  P13J,   C06,  1,     23,2-10377,2,19930519,0742, 31.0022, 165.0020, 6167,     20.7,  20.7520,  35.0774,2,  35.1217,2,    230.6,2, 20.7481
     49HH932_1,  P13J,   C06,  1,     22, 2-9956,2,19930519,0742, 31.0022, 165.0020, 6167,     48.5,  19.4273,  35.0005,2,  34.9949,2,    239.0,2, 19.4185
     49HH932_1,  P13J,   C06,  1,     21, 2-9961,2,19930519,0742, 31.0022, 165.0020, 6167,    101.0,  17.8089,  34.8164,2,  34.8189,2,    235.2,2, 17.7917
     49HH932_1,  P13J,   C06,  1,     20,2-10375,2,19930519,0742, 31.0022, 165.0020, 6167,    197.8,  16.9272,  34.7681,2,  34.7725,2,    231.9,2, 16.8947
     49HH932_1,  P13J,   C06,  1,     19, 2-9960,2,19930519,0742, 31.0022, 165.0020, 6167,    296.8,  16.0625,  34.7015,2,  34.7064,2,    213.9,2, 16.0154
     49HH932_1,  P13J,   C06,  1,     18, 2-9659,2,19930519,0742, 31.0022, 165.0020, 6167,    398.2,  14.2458,  34.5343,2,  34.5417,2,    203.9,2, 14.1874
     49HH932_1,  P13J,   C06,  1,     17,2-10323,2,19930519,0742, 31.0022, 165.0020, 6167,    550.9,  11.2308,  34.3422,2,  34.3422,2,    183.8,2, 11.1614
     49HH932_1,  P13J,   C06,  1,     16,2-10374,2,19930519,0742, 31.0022, 165.0020, 6167,    697.4,   6.7282,  34.0236,2,  34.0264,2,    161.6,2,  6.6630
     49HH932_1,  P13J,   C06,  1,     15, 2-9660,2,19930519,0742, 31.0022, 165.0020, 6167,    849.2,   4.7957,  34.0704,2,  34.0699,2,     98.9,2,  4.7278
     49HH932_1,  P13J,   C06,  1,     14, 2-9962,2,19930519,0742, 31.0022, 165.0020, 6167,    999.3,   3.9732,  34.2351,2,  34.2338,2,     52.2,2,  3.8983
     49HH932_1,  P13J,   C06,  1,     13, 2-9964,2,19930519,0742, 31.0022, 165.0020, 6167,   1199.1,   3.2511,  34.3657,2,  34.3689,2,     41.4,2,  3.1658
     49HH932_1,  P13J,   C06,  1,     12,2-10379,2,19930519,0742, 31.0022, 165.0020, 6167,   1398.1,   2.7962,  34.4452,2,  34.4478,2,     38.8,2,  2.6993
     49HH932_1,  P13J,   C06,  1,     11, 2-9662,2,19930519,0742, 31.0022, 165.0020, 6167,   1598.8,   2.4399,  34.5061,2,  34.5060,2,     42.6,2,  2.3308
     49HH932_1,  P13J,   C06,  1,     10,2-10373,2,19930519,0742, 31.0022, 165.0020, 6167,   1797.1,   2.2090,  34.5570,2,  34.5574,2,     59.8,2,  2.0866
     49HH932_1,  P13J,   C06,  1,      9, 2-9165,2,19930519,0742, 31.0022, 165.0020, 6167,   2000.1,   2.0283,  34.5878,2,  34.5889,2,     75.2,2,  1.8916
     49HH932_1,  P13J,   C06,  1,      8, 2-9204,2,19930519,0742, 31.0022, 165.0020, 6167,   2497.9,   1.7320,  34.6319,2,  34.6313,2,    101.1,2,  1.5570
     49HH932_1,  P13J,   C06,  1,      7, 2-9661,2,19930519,0742, 31.0022, 165.0020, 6167,   3001.1,   1.5845,  34.6578,2,  34.6573,2,    126.1,2,  1.3658
     49HH932_1,  P13J,   C06,  1,      6,2-10329,2,19930519,0742, 31.0022, 165.0020, 6167,   3496.7,   1.5149,  34.6708,2,  34.6687,2,    139.6,2,  1.2488
     49HH932_1,  P13J,   C06,  1,      5, 2-9957,2,19930519,0742, 31.0022, 165.0020, 6167,   4001.0,   1.4844,  34.6794,2,  34.6801,2,    149.6,2,  1.1659
     49HH932_1,  P13J,   C06,  1,      4, 2-9959,2,19930519,0742, 31.0022, 165.0020, 6167,   4496.1,   1.4818,  34.6851,2,  34.6856,2,    158.4,2,  1.1078
     49HH932_1,  P13J,   C06,  1,      3,2-10372,2,19930519,0742, 31.0022, 165.0020, 6167,   4998.2,   1.4940,  34.6896,2,  34.6883,2,    167.6,2,  1.0602
     49HH932_1,  P13J,   C06,  1,      2,2-10378,2,19930519,0742, 31.0022, 165.0020, 6167,   5496.4,   1.5121,  34.6936,2,  34.6927,2,    175.2,2,  1.0155
     49HH932_1,  P13J,   C06,  1,      1, 2-9663,2,19930519,0742, 31.0022, 165.0020, 6167,   6173.5,   1.5790,  34.6967,2,  34.6950,2,    180.0,2,  0.9906
     49HH932_1,  P13J,   C07,  1,     24, 2-9963,2,19930519,1528, 31.9905, 164.9947, 6033,     10.4,  18.2879,  34.8700,2,  34.8685,2,    241.8,2, 18.2861
     49HH932_1,  P13J,   C07,  1,     23,2-10377,2,19930519,1528, 31.9905, 164.9947, 6033,     20.3,  18.2871,  34.8704,2,  34.8717,2,    243.6,2, 18.2836
     49HH932_1,  P13J,   C07,  1,     22, 2-9956,2,19930519,1528, 31.9905, 164.9947, 6033,     47.7,  18.1762,  34.8812,2,  34.8972,2,    243.6,2, 18.1680
     49HH932_1,  P13J,   C07,  1,     21, 2-9961,2,19930519,1528, 31.9905, 164.9947, 6033,    101.8,  17.3830,  34.8174,2,  34.8189,2,    232.8,2, 17.3660
     49HH932_1,  P13J,   C07,  1,     20,2-10375,2,19930519,1528, 31.9905, 164.9947, 6033,    197.2,  16.9469,  34.7857,2,  34.7855,2,    226.7,2, 16.9145
     49HH932_1,  P13J,   C07,  1,     19, 2-9960,2,19930519,1528, 31.9905, 164.9947, 6033,    297.8,  15.9349,  34.6910,2,  34.6934,2,    206.8,2, 15.8879
     49HH932_1,  P13J,   C07,  1,     18, 2-9659,2,19930519,1528, 31.9905, 164.9947, 6033,    398.8,  13.7502,  34.5236,2,  34.5248,2,    250.7,2, 13.6931
     49HH932_1,  P13J,   C07,  1,     17,2-10323,2,19930519,1528, 31.9905, 164.9947, 6033,    550.8,  10.9191,  34.2988,2,  34.2766,2,    218.2,2, 10.8510
     49HH932_1,  P13J,   C07,  1,     16,2-10374,2,19930519,1528, 31.9905, 164.9947, 6033,    696.6,   6.7211,  34.0100,2,  34.0142,2,    170.5,2,  6.6560
     49HH932_1,  P13J,   C07,  1,     15, 2-9660,2,19930519,1528, 31.9905, 164.9947, 6033,    852.0,   4.7252,  34.0702,2,  34.0699,2,     96.7,2,  4.6575
     49HH932_1,  P13J,   C07,  1,     14, 2-9962,2,19930519,1528, 31.9905, 164.9947, 6033,    995.8,   4.0003,  34.2242,2,  34.2272,2,     58.5,2,  3.9254
     49HH932_1,  P13J,   C07,  1,     13, 2-9964,2,19930519,1528, 31.9905, 164.9947, 6033,   1201.8,   3.2897,  34.3633,2,  34.3622,2,     48.0,2,  3.2038
     49HH932_1,  P13J,   C07,  1,     12,2-10379,2,19930519,1528, 31.9905, 164.9947, 6033,   1397.2,   2.7962,  34.4412,2,  34.4419,2,     45.1,2,  2.6994
     49HH932_1,  P13J,   C07,  1,     11, 2-9662,2,19930519,1528, 31.9905, 164.9947, 6033,   1602.1,   2.4688,  34.5019,2,  34.5016,2,     44.9,2,  2.3591
     49HH932_1,  P13J,   C07,  1,     10,2-10373,2,19930519,1528, 31.9905, 164.9947, 6033,   1797.7,   2.2099,  34.5534,2,  34.5531,2,     62.2,2,  2.0875
     49HH932_1,  P13J,   C07,  1,      9, 2-9165,2,19930519,1528, 31.9905, 164.9947, 6033,   1996.6,   2.0521,  34.5837,2,  34.5834,2,     71.9,2,  1.9153
     49HH932_1,  P13J,   C07,  1,      8, 2-9204,2,19930519,1528, 31.9905, 164.9947, 6033,   2497.5,   1.7184,  34.6331,2,  34.6333,2,    103.7,2,  1.5437
     49HH932_1,  P13J,   C07,  1,      7, 2-9661,2,19930519,1528, 31.9905, 164.9947, 6033,   3001.6,   1.5861,  34.6578,2,  34.6577,2,    125.4,2,  1.3673
     49HH932_1,  P13J,   C07,  1,      6,2-10329,2,19930519,1528, 31.9905, 164.9947, 6033,   3496.4,   1.5116,  34.6710,2,  34.6714,2,    143.7,2,  1.2456
     49HH932_1,  P13J,   C07,  1,      5, 2-9957,2,19930519,1528, 31.9905, 164.9947, 6033,   3999.4,   1.4852,  34.6794,2,  34.6746,2,    148.8,2,  1.1668
     49HH932_1,  P13J,   C07,  1,      4, 2-9959,2,19930519,1528, 31.9905, 164.9947, 6033,   4498.1,   1.4817,  34.6847,2,  34.6856,2,    158.4,2,  1.1075
     49HH932_1,  P13J,   C07,  1,      3,2-10372,2,19930519,1528, 31.9905, 164.9947, 6033,   4996.0,   1.4926,  34.6895,2,  34.6903,2,    156.3,4,  1.0591
     49HH932_1,  P13J,   C07,  1,      1, 2-9663,4,19930519,1528, 31.9905, 164.9947, 6033,   5497.0,   1.5120,  34.6931,2,  34.6942,2,    180.0,3,  1.0153
     49HH932_1,  P13J,   C07,  1,      2,2-10378,2,19930519,1528, 31.9905, 164.9947, 6033,   5497.0,   1.5120,  34.6931,2,  34.6915,2,    172.1,2,  1.0154
     49HH932_1,  P13J,   C08,  1,     24, 2-9963,2,19930519,2116, 32.5012, 165.0050, 6194,      9.6,  18.4267,  34.8896,2,  34.8886,2,    240.1,2, 18.4250
     49HH932_1,  P13J,   C08,  1,     23,2-10377,2,19930519,2116, 32.5012, 165.0050, 6194,     19.6,  18.4108,  34.8879,2,  34.8815,2,    242.2,2, 18.4074
     49HH932_1,  P13J,   C08,  1,     22, 2-9956,2,19930519,2116, 32.5012, 165.0050, 6194,     49.0,  17.7078,  34.8432,2,  34.4439,4,    239.8,2, 17.6995
     49HH932_1,  P13J,   C08,  1,     21, 2-9961,2,19930519,2116, 32.5012, 165.0050, 6194,     99.0,  17.2573,  34.8088,2,  34.8059,2,    233.0,2, 17.2408
     49HH932_1,  P13J,   C08,  1,     20,2-10375,2,19930519,2116, 32.5012, 165.0050, 6194,    197.5,  16.9301,  34.7927,2,  34.7902,2,    233.5,2, 16.8976
     49HH932_1,  P13J,   C08,  1,     19, 2-9960,2,19930519,2116, 32.5012, 165.0050, 6194,    297.3,  16.0220,  34.6986,2,  34.7021,2,    210.3,2, 15.9749
     49HH932_1,  P13J,   C08,  1,     18, 2-9659,2,19930519,2116, 32.5012, 165.0050, 6194,    396.8,  13.6310,  34.5210,2,  34.5044,2,    205.3,2, 13.5745
     49HH932_1,  P13J,   C08,  1,     17,2-10323,2,19930519,2116, 32.5012, 165.0050, 6194,    547.6,  10.3766,  34.2514,2,  34.2503,2,    216.3,2, 10.3110
     49HH932_1,  P13J,   C08,  1,     16,2-10374,2,19930519,2116, 32.5012, 165.0050, 6194,    697.2,   6.4652,  34.0092,2,  34.0166,2,    164.2,2,  6.4014
     49HH932_1,  P13J,   C08,  1,     15, 2-9660,2,19930519,2116, 32.5012, 165.0050, 6194,    848.2,   4.6920,  34.1049,2,  34.1020,2,     92.1,2,  4.6248
     49HH932_1,  P13J,   C08,  1,     14, 2-9962,2,19930519,2116, 32.5012, 165.0050, 6194,    997.4,   3.8784,  34.2315,2,  34.2319,2,     58.6,2,  3.8043
     49HH932_1,  P13J,   C08,  1,     13, 2-9964,2,19930519,2116, 32.5012, 165.0050, 6194,   1198.9,   3.2878,  34.3551,2,  34.8799,4,     43.7,2,  3.2011
     49HH932_1,  P13J,   C08,  1,     12,2-10379,2,19930519,2116, 32.5012, 165.0050, 6194,   1396.5,   2.7830,  34.4437,2,  34.4435,2,     48.9,2,  2.6864
     49HH932_1,  P13J,   C08,  1,     11, 2-9662,2,19930519,2116, 32.5012, 165.0050, 6194,   1599.4,   2.4593,  34.4956,2,  34.4938,2,     47.1,2,  2.3499
     49HH932_1,  P13J,   C08,  1,     10,2-10373,2,19930519,2116, 32.5012, 165.0050, 6194,   1796.6,   2.2157,  34.5439,2,  34.5429,2,     57.0,2,  2.0933
     49HH932_1,  P13J,   C08,  1,      9, 2-9165,2,19930519,2116, 32.5012, 165.0050, 6194,   1999.0,   2.0197,  34.5820,2,  34.5826,2,     71.0,2,  1.8832
     49HH932_1,  P13J,   C08,  1,      8, 2-9204,2,19930519,2116, 32.5012, 165.0050, 6194,   2497.0,   1.7235,  34.6330,2,  34.6325,2,    104.1,2,  1.5487
     49HH932_1,  P13J,   C08,  1,      7, 2-9661,2,19930519,2116, 32.5012, 165.0050, 6194,   2999.2,   1.5856,  34.6583,2,  34.6585,2,    128.4,2,  1.3671
     49HH932_1,  P13J,   C08,  1,      6,2-10329,2,19930519,2116, 32.5012, 165.0050, 6194,   3496.8,   1.5201,  34.6711,2,  34.6710,2,    139.4,2,  1.2538
     49HH932_1,  P13J,   C08,  1,      5, 2-9957,2,19930519,2116, 32.5012, 165.0050, 6194,   3996.4,   1.4919,  34.6792,2,  34.6777,2,    150.3,2,  1.1737
     49HH932_1,  P13J,   C08,  1,      4, 2-9959,2,19930519,2116, 32.5012, 165.0050, 6194,   4496.2,   1.4945,  34.6843,2,  34.6840,2,    156.1,2,  1.1201
     49HH932_1,  P13J,   C08,  1,      3,2-10372,2,19930519,2116, 32.5012, 165.0050, 6194,   4994.1,   1.5037,  34.6894,2,  34.6832,2,    162.9,2,  1.0701
     49HH932_1,  P13J,   C08,  1,      2,2-10378,2,19930519,2116, 32.5012, 165.0050, 6194,   5497.2,   1.5222,  34.6932,2,  34.6927,2,    172.0,2,  1.0252
     49HH932_1,  P13J,   C08,  1,      1, 2-9663,2,19930519,2116, 32.5012, 165.0050, 6194,   6348.2,   1.6035,  34.6969,2,  34.6954,2,    176.3,2,  0.9902
     49HH932_1,  P13J,   C09,  1,     24, 2-9963,2,19930520,1006, 33.0078, 165.0090, 6264,     10.1,  18.4155,  34.8454,2,  34.8429,2,    241.8,2, 18.4137
     49HH932_1,  P13J,   C09,  1,     23,2-10377,2,19930520,1006, 33.0078, 165.0090, 6264,     19.0,  18.4141,  34.8459,2,  34.8390,2,    241.7,2, 18.4108
     49HH932_1,  P13J,   C09,  1,     22, 2-9956,2,19930520,1006, 33.0078, 165.0090, 6264,     50.1,  18.2597,  34.8391,2,  34.8366,2,    241.6,2, 18.2510
     49HH932_1,  P13J,   C09,  1,     21, 2-9961,2,19930520,1006, 33.0078, 165.0090, 6264,     99.4,  17.8464,  34.8311,2,  34.8280,2,    229.8,2, 17.8295
     49HH932_1,  P13J,   C09,  1,     20,2-10375,2,19930520,1006, 33.0078, 165.0090, 6264,    197.6,  16.5608,  34.7375,2,  34.7430,2,    210.8,2, 16.5288
     49HH932_1,  P13J,   C09,  1,     19, 2-9960,2,19930520,1006, 33.0078, 165.0090, 6264,    298.2,  14.3464,  34.5689,2,  34.5692,2,    214.3,2, 14.3026
     49HH932_1,  P13J,   C09,  1,     18, 2-9659,2,19930520,1006, 33.0078, 165.0090, 6264,    399.8,  12.4371,  34.4286,2,  34.4184,2,    203.8,2, 12.3836
     49HH932_1,  P13J,   C09,  1,     17,2-10323,2,19930520,1006, 33.0078, 165.0090, 6264,    550.6,   8.1107,  34.0596,2,  34.0464,2,    226.2,2,  8.0540
     49HH932_1,  P13J,   C09,  1,     16,2-10374,2,19930520,1006, 33.0078, 165.0090, 6264,    697.1,   5.3871,  33.9975,2,  33.9997,2,    134.7,2,  5.3290
     49HH932_1,  P13J,   C09,  1,     15, 2-9660,2,19930520,1006, 33.0078, 165.0090, 6264,    851.1,   4.2884,  34.1456,2,  34.1444,2,     71.5,2,  4.2236
     49HH932_1,  P13J,   C09,  1,     14, 2-9962,2,19930520,1006, 33.0078, 165.0090, 6264,   1000.7,   3.6935,  34.2762,2,  34.2766,2,     51.6,2,  3.6205
     49HH932_1,  P13J,   C09,  1,     13, 2-9964,2,19930520,1006, 33.0078, 165.0090, 6264,   1198.7,   3.1441,  34.3820,2,  34.3838,2,     42.2,2,  3.0598
     49HH932_1,  P13J,   C09,  1,     12, 2-9958,2,19930520,1006, 33.0078, 165.0090, 6264,   1394.0,   2.7262,  34.4515,2,  34.4490,2,     44.3,2,  2.6304
     49HH932_1,  P13J,   C09,  1,     11, 2-9662,2,19930520,1006, 33.0078, 165.0090, 6264,   1600.7,   2.4134,  34.5010,2,  34.4997,2,     42.0,2,  2.3045
     49HH932_1,  P13J,   C09,  1,     10,2-10373,2,19930520,1006, 33.0078, 165.0090, 6264,   1801.4,   2.2057,  34.5475,2,  34.5468,2,     54.7,2,  2.0830
     49HH932_1,  P13J,   C09,  1,      9, 2-9165,2,19930520,1006, 33.0078, 165.0090, 6264,   2000.5,   2.0167,  34.5832,2,  34.5838,2,     69.9,2,  1.8801
     49HH932_1,  P13J,   C09,  1,      7, 2-9661,4,19930520,1006, 33.0078, 165.0090, 6264,   2496.4,   1.7209,  34.6333,2,  34.6294,2,    102.3,2,  1.5462
     49HH932_1,  P13J,   C09,  1,      8, 2-9204,2,19930520,1006, 33.0078, 165.0090, 6264,   2496.4,   1.7209,  34.6333,2,  34.6329,2,    102.4,2,  1.5462
     49HH932_1,  P13J,   C09,  1,      6,2-10329,2,19930520,1006, 33.0078, 165.0090, 6264,   3498.2,   1.5209,  34.6698,2,  34.6687,2,    141.0,2,  1.2545
     49HH932_1,  P13J,   C09,  1,      5, 2-9957,2,19930520,1006, 33.0078, 165.0090, 6264,   4000.5,   1.4932,  34.6784,2,  34.6781,2,    148.1,2,  1.1745
     49HH932_1,  P13J,   C09,  1,      4, 2-9959,2,19930520,1006, 33.0078, 165.0090, 6264,   4497.2,   1.4914,  34.6839,2,  34.6852,2,    155.2,2,  1.1170
     49HH932_1,  P13J,   C09,  1,      3,2-10372,2,19930520,1006, 33.0078, 165.0090, 6264,   4998.5,   1.5015,  34.6890,2,  34.6887,2,    162.8,2,  1.0674
     49HH932_1,  P13J,   C09,  1,      2,2-10378,2,19930520,1006, 33.0078, 165.0090, 6264,   5497.2,   1.5236,  34.6929,2,  34.6923,2,    171.4,2,  1.0265
     49HH932_1,  P13J,   C09,  1,      1, 2-9663,2,19930520,1006, 33.0078, 165.0090, 6264,   6371.2,   1.6105,  34.6962,2,  34.6950,2,    175.5,2,  0.9938