BOTTLE,20020814WHPSIOSCD
EXPOCODE,SECT_ID,STNNBR,CASTNO,SAMPNO,BTLNBR,BTLNBR_FLAG_W,DATE,TIME,LATITUDE,LONGITUDE,DEPTH,CTDPRS,CTDTMP,CTDSAL,CTDSAL_FLAG_W,SALNTY,SALNTY_FLAG_W,OXYGEN,OXYGEN_FLAG_W,THETA
,,,,,,,,,,,,DBAR,ITS-90,PSS-78,,PSS-78,,UMOL/KG,,DEG
     49HH932_1,  P13J,   C10,  1,     24, 2-9963,2,19930521,1750, 34.0543, 164.9860, 6008,      9.1,  16.7773,  34.7188,2,  34.7167,2,    250.1,2, 16.7758
     49HH932_1,  P13J,   C10,  1,     23,2-10377,2,19930521,1750, 34.0543, 164.9860, 6008,     18.3,  16.7744,  34.7159,2,  34.7155,2,    249.8,2, 16.7714
     49HH932_1,  P13J,   C10,  1,     22, 2-9956,2,19930521,1750, 34.0543, 164.9860, 6008,     49.9,  15.2732,  34.5708,2,  34.5669,2,    253.1,2, 15.2656
     49HH932_1,  P13J,   C10,  1,     21, 2-9961,2,19930521,1750, 34.0543, 164.9860, 6008,     75.7,  13.7664,  34.4490,2,  34.4462,3,    255.5,2, 13.7557
     49HH932_1,  P13J,   C10,  1,     20,2-10375,2,19930521,1750, 34.0543, 164.9860, 6008,     89.8,  13.4976,  34.4670,2,  34.4639,2,    247.7,2, 13.4850
     49HH932_1,  P13J,   C10,  1,      1, 2-9663,4,19930521,1750, 34.0543, 164.9860, 6008,    145.4,  12.4716,  34.4202,2,  34.4282,2,    244.7,2, 12.4523
     49HH932_1,  P13J,   C10,  1,     19, 2-9960,2,19930521,1750, 34.0543, 164.9860, 6008,    145.4,  12.4716,  34.4202,2,  34.4215,2,    240.0,2, 12.4523
     49HH932_1,  P13J,   C10,  1,     18, 2-9659,2,19930521,1750, 34.0543, 164.9860, 6008,    199.3,  12.0047,  34.3923,2,  34.3909,2,    236.9,2, 11.9788
     49HH932_1,  P13J,   C10,  1,     17,2-10323,2,19930521,1750, 34.0543, 164.9860, 6008,    252.4,  10.8364,  34.2940,2,  34.2974,2,    217.6,2, 10.8057
     49HH932_1,  P13J,   C10,  1,     16,2-10374,2,19930521,1750, 34.0543, 164.9860, 6008,    297.7,   9.4427,  34.1716,2,  34.1773,2,    198.9,2,  9.4095
     49HH932_1,  P13J,   C10,  1,     15, 2-9660,2,19930521,1750, 34.0543, 164.9860, 6008,    398.0,   6.8105,  34.0138,2,  34.0122,2,    173.1,2,  6.7739
     49HH932_1,  P13J,   C10,  1,     14, 2-9962,2,19930521,1750, 34.0543, 164.9860, 6008,    500.3,   5.3066,  33.9633,2,  33.9593,2,    143.6,2,  5.2660
     49HH932_1,  P13J,   C10,  1,     13, 2-9964,2,19930521,1750, 34.0543, 164.9860, 6008,    600.3,   4.7023,  34.0530,2,  34.0487,2,    102.4,2,  4.6559
     49HH932_1,  P13J,   C10,  1,     12, 2-9958,2,19930521,1750, 34.0543, 164.9860, 6008,    694.8,   4.2940,  34.1514,2,  34.1495,2,     71.5,2,  4.2419
     49HH932_1,  P13J,   C10,  1,     11, 2-9662,2,19930521,1750, 34.0543, 164.9860, 6008,    800.8,   3.8193,  34.2404,2,  34.2370,2,     52.2,2,  3.7614
     49HH932_1,  P13J,   C10,  1,     10,2-10373,2,19930521,1750, 34.0543, 164.9860, 6008,    901.2,   3.4653,  34.3117,2,  34.3072,2,     45.3,2,  3.4018
     49HH932_1,  P13J,   C10,  1,      9, 2-9165,2,19930521,1750, 34.0543, 164.9860, 6008,   1002.0,   3.1965,  34.3677,2,  34.3653,2,     41.1,2,  3.1271
     49HH932_1,  P13J,   C10,  1,      8, 2-9204,2,19930521,1750, 34.0543, 164.9860, 6008,   1096.7,   3.0314,  34.4027,2,  34.4019,2,     45.8,2,  2.9560
     49HH932_1,  P13J,   C10,  1,      7, 2-9661,2,19930521,1750, 34.0543, 164.9860, 6008,   1197.5,   2.8156,  34.4329,2,  34.4305,2,     38.5,2,  2.7343
     49HH932_1,  P13J,   C10,  1,      6,2-10329,2,19930521,1750, 34.0543, 164.9860, 6008,   1403.7,   2.4806,  34.4967,2,  34.4938,2,     43.2,2,  2.3865
     49HH932_1,  P13J,   C10,  1,      5, 2-9957,2,19930521,1750, 34.0543, 164.9860, 6008,   1608.3,   2.2420,  34.5411,2,  34.5386,2,     51.3,2,  2.1345
     49HH932_1,  P13J,   C10,  1,      4, 2-9959,2,19930521,1750, 34.0543, 164.9860, 6008,   1796.5,   2.0523,  34.5703,2,  34.5696,2,     61.8,2,  1.9321
     49HH932_1,  P13J,   C10,  1,      3,2-10372,2,19930521,1750, 34.0543, 164.9860, 6008,   2001.8,   1.9002,  34.5999,2,  34.5995,2,     77.7,2,  1.7652
     49HH932_1,  P13J,   C10,  1,      2,2-10378,2,19930521,1750, 34.0543, 164.9860, 6008,   2496.8,   1.6570,  34.6424,2,  34.6423,2,    109.3,2,  1.4834
     49HH932_1,  P13J,   C11,  1,     23,2-10377,2,19930522,0230, 34.9965, 165.0143, 5880,     18.8,  15.4960,  34.4937,2,  34.4985,2,    265.8,2, 15.4931
     49HH932_1,  P13J,   C11,  1,     22, 2-9956,2,19930522,0230, 34.9965, 165.0143, 5880,     47.4,  14.1311,  34.4922,2,  34.4993,2,    252.9,2, 14.1243
     49HH932_1,  P13J,   C11,  1,     21, 2-9961,2,19930522,0230, 34.9965, 165.0143, 5880,    101.9,  12.7903,  34.4426,2,  34.4443,2,    237.0,2, 12.7766
     49HH932_1,  P13J,   C11,  1,     20,2-10375,2,19930522,0230, 34.9965, 165.0143, 5880,    196.6,  11.0592,  34.3124,2,  34.2927,2,    222.3,2, 11.0351
     49HH932_1,  P13J,   C11,  1,     19, 2-9960,2,19930522,0230, 34.9965, 165.0143, 5880,    296.9,   8.9748,  34.1474,2,  34.1550,2,    225.2,2,  8.9428
     49HH932_1,  P13J,   C11,  1,     18, 2-9659,2,19930522,0230, 34.9965, 165.0143, 5880,    398.1,   6.2123,  33.9913,2,  33.9958,2,    158.5,2,  6.1775
     49HH932_1,  P13J,   C11,  1,     17,2-10323,2,19930522,0230, 34.9965, 165.0143, 5880,    550.9,   4.7852,  34.0797,2,  34.0860,2,     96.5,2,  4.7424
     49HH932_1,  P13J,   C11,  1,     16,2-10374,2,19930522,0230, 34.9965, 165.0143, 5880,    697.0,   4.1832,  34.2333,2,  34.2342,2,     60.0,2,  4.1314
     49HH932_1,  P13J,   C11,  1,     15, 2-9660,2,19930522,0230, 34.9965, 165.0143, 5880,    851.1,   3.4994,  34.3146,2,  34.3151,2,     42.1,2,  3.4395
     49HH932_1,  P13J,   C11,  1,     14, 2-9962,2,19930522,0230, 34.9965, 165.0143, 5880,    997.1,   3.1511,  34.3774,2,  34.3799,2,     39.5,2,  3.0824
     49HH932_1,  P13J,   C11,  1,     13, 2-9964,2,19930522,0230, 34.9965, 165.0143, 5880,   1201.4,   2.7450,  34.4450,2,  34.4455,2,     34.4,2,  2.6640
     49HH932_1,  P13J,   C11,  1,     12, 2-9958,2,19930522,0230, 34.9965, 165.0143, 5880,   1397.2,   2.4393,  34.5020,2,  34.5020,2,     41.2,2,  2.3462
     49HH932_1,  P13J,   C11,  1,     11, 2-9662,2,19930522,0230, 34.9965, 165.0143, 5880,   1601.8,   2.1921,  34.5437,2,  34.5441,2,     51.5,2,  2.0857
     49HH932_1,  P13J,   C11,  1,     10,2-10373,2,19930522,0230, 34.9965, 165.0143, 5880,   1797.3,   2.0085,  34.5760,2,  34.5775,2,     64.5,2,  1.8888
     49HH932_1,  P13J,   C11,  1,      9, 2-9165,2,19930522,0230, 34.9965, 165.0143, 5880,   2001.0,   1.8669,  34.6044,2,  34.6058,2,     79.8,2,  1.7325
     49HH932_1,  P13J,   C11,  1,      8, 2-9204,2,19930522,0230, 34.9965, 165.0143, 5880,   2497.9,   1.6296,  34.6448,2,  34.6470,2,    112.3,2,  1.4564
     49HH932_1,  P13J,   C11,  1,      7, 2-9661,2,19930522,0230, 34.9965, 165.0143, 5880,   2999.9,   1.5231,  34.6633,2,  34.6644,2,    132.6,2,  1.3059
     49HH932_1,  P13J,   C11,  1,      6,2-10329,2,19930522,0230, 34.9965, 165.0143, 5880,   3497.0,   1.4752,  34.6741,2,  34.6710,2,    143.1,2,  1.2101
     49HH932_1,  P13J,   C11,  1,      5, 2-9957,2,19930522,0230, 34.9965, 165.0143, 5880,   3999.3,   1.4606,  34.6813,2,  34.6801,2,    151.2,2,  1.1429
     49HH932_1,  P13J,   C11,  1,      4, 2-9959,2,19930522,0230, 34.9965, 165.0143, 5880,   4496.7,   1.4621,  34.6864,2,  34.6887,2,    160.2,2,  1.0887
     49HH932_1,  P13J,   C11,  1,      3,2-10372,2,19930522,0230, 34.9965, 165.0143, 5880,   4998.0,   1.4747,  34.6908,2,  34.6927,2,    169.1,2,  1.0415
     49HH932_1,  P13J,   C11,  1,      2,2-10378,2,19930522,0230, 34.9965, 165.0143, 5880,   5496.2,   1.4998,  34.6941,2,  34.6958,2,    173.6,2,  1.0037
     49HH932_1,  P13J,   C11,  1,      1, 2-9663,2,19930522,0230, 34.9965, 165.0143, 5880,   6011.4,   1.5524,  34.6960,2,  34.6970,2,    177.9,2,  0.9869
     49HH932_1,  P13J,   C11,  1,     24, 2-9963,4,19930522,0230, 34.9965, 165.0143, 5880,   6011.4,   1.5524,  34.6960,2,  34.6993,2,    175.5,2,  0.9869
     49HH932_1,  P13J,   C14,  1,     24, 2-9963,2,19930524,0158, 38.9887, 165.0095, 5532,     20.3,  10.4688,  34.2054,2,  34.2040,2,    279.4,2, 10.4664
     49HH932_1,  P13J,   C14,  1,     23,2-10377,2,19930524,0158, 38.9887, 165.0095, 5532,     50.6,  10.4601,  34.2045,2,  34.2052,2,    277.5,2, 10.4541
     49HH932_1,  P13J,   C14,  1,     22, 2-9956,2,19930524,0158, 38.9887, 165.0095, 5532,    100.0,   9.4775,  34.0952,2,  34.0903,2,    273.0,2,  9.4665
     49HH932_1,  P13J,   C14,  1,     21, 2-9961,2,19930524,0158, 38.9887, 165.0095, 5532,    179.8,   7.5010,  33.9298,2,  33.9307,2,    267.3,2,  7.4838
     49HH932_1,  P13J,   C14,  1,     20,2-10375,2,19930524,0158, 38.9887, 165.0095, 5532,    298.0,   5.7394,  33.8808,2,  33.8806,2,    182.4,2,  5.7147
     49HH932_1,  P13J,   C14,  1,     19, 2-9960,2,19930524,0158, 38.9887, 165.0095, 5532,    397.5,   4.5643,  33.9023,2,  33.9029,2,    135.6,2,  4.5347
     49HH932_1,  P13J,   C14,  1,     18, 2-9659,2,19930524,0158, 38.9887, 165.0095, 5532,    501.3,   4.1978,  34.0331,2,  34.0299,2,     88.5,2,  4.1614
     49HH932_1,  P13J,   C14,  1,     17,2-10323,2,19930524,0158, 38.9887, 165.0095, 5532,    597.4,   4.1231,  34.1737,2,  34.1817,2,     62.6,2,  4.0795
     49HH932_1,  P13J,   C14,  1,     16,2-10374,2,19930524,0158, 38.9887, 165.0095, 5532,    700.7,   3.7512,  34.2351,2,  34.2342,2,     50.5,2,  3.7014
     49HH932_1,  P13J,   C14,  1,     14, 2-9962,2,19930524,0158, 38.9887, 165.0095, 5532,   1000.0,   2.9896,  34.3928,2,  34.3913,2,     39.3,2,  2.9220
     49HH932_1,  P13J,   C14,  1,     13, 2-9964,2,19930524,0158, 38.9887, 165.0095, 5532,   1197.4,   2.6337,  34.4476,2,  34.4478,2,     40.4,2,  2.5541
     49HH932_1,  P13J,   C14,  1,     12, 2-9958,2,19930524,0158, 38.9887, 165.0095, 5532,   1400.6,   2.4076,  34.4970,2,  34.4969,2,   -999.0,1,  2.3146
     49HH932_1,  P13J,   C14,  1,     11, 2-9662,2,19930524,0158, 38.9887, 165.0095, 5532,   1597.3,   2.1870,  34.5366,2,  34.5374,2,     50.7,2,  2.0810
     49HH932_1,  P13J,   C14,  1,     10,2-10373,2,19930524,0158, 38.9887, 165.0095, 5532,   1801.2,   2.0082,  34.5719,2,  34.5731,2,     63.0,2,  1.8882
     49HH932_1,  P13J,   C14,  1,     15, 2-9660,4,19930524,0158, 38.9887, 165.0095, 5532,   1801.2,   2.0082,  34.5719,2,  34.5728,2,     65.0,2,  1.8882
     49HH932_1,  P13J,   C14,  1,      9, 2-9165,2,19930524,0158, 38.9887, 165.0095, 5532,   1997.3,   1.9098,  34.5916,2,  34.5936,2,     72.9,2,  1.7751
     49HH932_1,  P13J,   C14,  1,      8, 2-9204,2,19930524,0158, 38.9887, 165.0095, 5532,   2499.0,   1.6513,  34.6399,2,  34.6412,2,    106.1,2,  1.4777
     49HH932_1,  P13J,   C14,  1,      7, 2-9661,2,19930524,0158, 38.9887, 165.0095, 5532,   2997.1,   1.5338,  34.6612,2,  34.6632,2,    127.3,2,  1.3166
     49HH932_1,  P13J,   C14,  1,      6,2-10329,2,19930524,0158, 38.9887, 165.0095, 5532,   3499.8,   1.4677,  34.6745,2,  34.6710,2,    141.8,2,  1.2024
     49HH932_1,  P13J,   C14,  1,      5, 2-9957,2,19930524,0158, 38.9887, 165.0095, 5532,   3998.1,   1.4504,  34.6821,2,  34.6844,2,    152.5,2,  1.1331
     49HH932_1,  P13J,   C14,  1,      4, 2-9959,2,19930524,0158, 38.9887, 165.0095, 5532,   4499.9,   1.4696,  34.6858,2,  34.6879,2,    157.2,2,  1.0956
     49HH932_1,  P13J,   C14,  1,      2,2-10378,2,19930524,0158, 38.9887, 165.0095, 5532,   4999.1,   1.5104,  34.6883,2,  34.6907,2,    162.4,2,  1.0759
     49HH932_1,  P13J,   C14,  1,      3,2-10372,4,19930524,0158, 38.9887, 165.0095, 5532,   4999.1,   1.5104,  34.6883,2,  34.6903,2,    158.8,2,  1.0759
     49HH932_1,  P13J,   C14,  1,      1, 2-9663,2,19930524,0158, 38.9887, 165.0095, 5532,   5445.6,   1.5663,  34.6888,2,  34.6911,2,    157.1,2,  1.0742
     49HH932_1,  P13J,   C15,  1,     24, 2-9963,2,19930524,1307, 41.0202, 165.0160, 5308,      9.2,   6.6324,  33.4230,2,  33.4235,2,    314.1,2,  6.6316
     49HH932_1,  P13J,   C15,  1,     23,2-10377,2,19930524,1307, 41.0202, 165.0160, 5308,     19.7,   6.5217,  33.4287,2,-999.0000,1,    313.6,2,  6.5200
     49HH932_1,  P13J,   C15,  1,     22, 2-9956,2,19930524,1307, 41.0202, 165.0160, 5308,     46.9,   6.2535,  33.4379,2,  33.4481,2,    310.6,2,  6.2495
     49HH932_1,  P13J,   C15,  1,     21, 2-9961,2,19930524,1307, 41.0202, 165.0160, 5308,     98.1,   6.1910,  33.6346,2,  33.6589,2,    297.1,2,  6.1827
     49HH932_1,  P13J,   C15,  1,     20,2-10375,3,19930524,1307, 41.0202, 165.0160, 5308,    196.2,   5.3876,  33.7365,2,  33.7411,2,    240.3,2,  5.3721
     49HH932_1,  P13J,   C15,  1,     19, 2-9960,2,19930524,1307, 41.0202, 165.0160, 5308,    296.3,   4.1670,  33.8446,2,  33.8445,2,    138.4,2,  4.1461
     49HH932_1,  P13J,   C15,  1,     18, 2-9659,2,19930524,1307, 41.0202, 165.0160, 5308,    397.2,   3.9648,  33.9797,2,  33.9770,2,     91.4,2,  3.9370
     49HH932_1,  P13J,   C15,  1,     17,2-10323,2,19930524,1307, 41.0202, 165.0160, 5308,    497.9,   3.9879,  34.1094,2,  34.1079,2,     67.5,2,  3.9525
     49HH932_1,  P13J,   C15,  1,     16,2-10374,2,19930524,1307, 41.0202, 165.0160, 5308,    593.7,   3.8559,  34.1873,2,  34.1864,2,     55.4,2,  3.8138
     49HH932_1,  P13J,   C15,  1,     15, 2-9660,4,19930524,1307, 41.0202, 165.0160, 5308,    696.1,   3.6089,  34.2627,2,  34.2625,2,     45.9,2,  3.5602
     49HH932_1,  P13J,   C15,  1,     14, 2-9962,2,19930524,1307, 41.0202, 165.0160, 5308,   1001.7,   2.9354,  34.4010,2,  34.3991,2,     40.9,2,  2.8681
     49HH932_1,  P13J,   C15,  1,     13, 2-9964,2,19930524,1307, 41.0202, 165.0160, 5308,   1196.6,   2.5669,  34.4591,2,  34.4588,2,     37.9,2,  2.4879
     49HH932_1,  P13J,   C15,  1,     12, 2-9958,2,19930524,1307, 41.0202, 165.0160, 5308,   1400.9,   2.3418,  34.4996,2,  34.4981,2,   -999.0,1,  2.2495
     49HH932_1,  P13J,   C15,  1,     11, 2-9662,2,19930524,1307, 41.0202, 165.0160, 5308,   1596.1,   2.1727,  34.5355,2,  34.5327,2,     50.0,2,  2.0670
     49HH932_1,  P13J,   C15,  1,     10,2-10373,2,19930524,1307, 41.0202, 165.0160, 5308,   1802.1,   2.0269,  34.5684,2,  34.5669,2,     62.3,2,  1.9066
     49HH932_1,  P13J,   C15,  1,      9, 2-9165,2,19930524,1307, 41.0202, 165.0160, 5308,   1993.3,   1.9053,  34.5928,2,  34.5885,2,     72.6,2,  1.7710
     49HH932_1,  P13J,   C15,  1,      8, 2-9204,2,19930524,1307, 41.0202, 165.0160, 5308,   2507.2,   1.6615,  34.6394,2,  34.6400,2,    105.1,2,  1.4869
     49HH932_1,  P13J,   C15,  1,      7, 2-9661,2,19930524,1307, 41.0202, 165.0160, 5308,   2997.0,   1.5323,  34.6615,2,  34.6628,2,    127.2,2,  1.3151
     49HH932_1,  P13J,   C15,  1,      6,2-10329,2,19930524,1307, 41.0202, 165.0160, 5308,   3506.2,   1.4695,  34.6746,2,  34.6746,2,    140.9,2,  1.2035
     49HH932_1,  P13J,   C15,  1,      5, 2-9957,2,19930524,1307, 41.0202, 165.0160, 5308,   3997.0,   1.4571,  34.6813,2,  34.6816,2,   -999.0,1,  1.1398
     49HH932_1,  P13J,   C15,  1,      4, 2-9959,2,19930524,1307, 41.0202, 165.0160, 5308,   4506.8,   1.4721,  34.6859,2,  34.6860,2,    156.7,2,  1.0972
     49HH932_1,  P13J,   C15,  1,      3,2-10372,2,19930524,1307, 41.0202, 165.0160, 5308,   4997.1,   1.5138,  34.6879,2,  34.6883,2,    159.3,2,  1.0795
     49HH932_1,  P13J,   C15,  1,      1, 2-9663,2,19930524,1307, 41.0202, 165.0160, 5308,   5408.2,   1.5614,  34.6886,2,  34.6891,2,   -999.0,1,  1.0743
     49HH932_1,  P13J,   C15,  1,      2,2-10378,4,19930524,1307, 41.0202, 165.0160, 5308,   5408.2,   1.5614,  34.6886,2,  34.6891,2,   -999.0,1,  1.0743
     49HH932_1,  P13J,   C17,  1,     23,2-10377,2,19930525,0725, 44.0020, 164.9578, 5647,      6.1,   5.4969,  33.4707,2,  33.4692,2,    318.9,2,  5.4964
     49HH932_1,  P13J,   C17,  1,     22, 2-9956,2,19930525,0725, 44.0020, 164.9578, 5647,     11.9,   5.4981,  33.4707,2,  33.4684,2,    318.3,2,  5.4972
     49HH932_1,  P13J,   C17,  1,     21, 2-9961,2,19930525,0725, 44.0020, 164.9578, 5647,     48.6,   5.4625,  33.5071,2,  33.5427,2,    310.5,2,  5.4587
     49HH932_1,  P13J,   C17,  1,     20,2-10375,2,19930525,0725, 44.0020, 164.9578, 5647,    100.3,   5.0693,  33.5222,2,  33.5208,2,    314.1,2,  5.0617
     49HH932_1,  P13J,   C17,  1,     19, 2-9960,2,19930525,0725, 44.0020, 164.9578, 5647,    195.6,   4.8152,  33.6990,2,  33.7059,2,    212.3,2,  4.8006
     49HH932_1,  P13J,   C17,  1,     17,2-10323,4,19930525,0725, 44.0020, 164.9578, 5647,    397.1,   3.9810,  33.9665,2,  33.9762,2,     93.9,2,  3.9532
     49HH932_1,  P13J,   C17,  1,     18, 2-9659,4,19930525,0725, 44.0020, 164.9578, 5647,    397.1,   3.9810,  33.9665,2,  33.9809,2,     90.7,2,  3.9532
     49HH932_1,  P13J,   C17,  1,     16,2-10374,2,19930525,0725, 44.0020, 164.9578, 5647,    851.1,   3.1336,  34.3240,2,  34.3210,2,     36.7,2,  3.0762
     49HH932_1,  P13J,   C17,  1,     15, 2-9660,2,19930525,0725, 44.0020, 164.9578, 5647,    997.4,   2.8688,  34.3819,2,  34.3826,2,     35.4,2,  2.8023
     49HH932_1,  P13J,   C17,  1,     14, 2-9962,2,19930525,0725, 44.0020, 164.9578, 5647,   1204.5,   2.5786,  34.4415,2,  34.4392,2,     39.3,2,  2.4990
     49HH932_1,  P13J,   C17,  1,     13, 2-9964,2,19930525,0725, 44.0020, 164.9578, 5647,   1397.6,   2.3747,  34.4977,2,  34.4961,2,     44.4,2,  2.2823
     49HH932_1,  P13J,   C17,  1,     12, 2-9958,2,19930525,0725, 44.0020, 164.9578, 5647,   1568.9,   2.2465,  34.5280,2,  34.5280,2,     51.1,2,  2.1421
     49HH932_1,  P13J,   C17,  1,     11, 2-9662,2,19930525,0725, 44.0020, 164.9578, 5647,   1797.4,   2.0753,  34.5640,2,  34.5633,2,     65.7,2,  1.9547
     49HH932_1,  P13J,   C17,  1,     10,2-10373,2,19930525,0725, 44.0020, 164.9578, 5647,   2002.5,   1.9458,  34.5892,2,  34.5889,2,     73.1,2,  1.8101
     49HH932_1,  P13J,   C17,  1,      9, 2-9165,2,19930525,0725, 44.0020, 164.9578, 5647,   2496.7,   1.7080,  34.6331,2,  34.6321,2,    101.0,2,  1.5335
     49HH932_1,  P13J,   C17,  1,      8, 2-9204,2,19930525,0725, 44.0020, 164.9578, 5647,   3001.1,   1.5771,  34.6568,2,  34.6569,2,    123.2,2,  1.3586
     49HH932_1,  P13J,   C17,  1,      7, 2-9661,2,19930525,0725, 44.0020, 164.9578, 5647,   3497.1,   1.5122,  34.6700,2,  34.6702,2,    138.4,2,  1.2461
     49HH932_1,  P13J,   C17,  1,      6,2-10329,2,19930525,0725, 44.0020, 164.9578, 5647,   3994.6,   1.4882,  34.6783,2,  34.6785,2,    147.0,2,  1.1703
     49HH932_1,  P13J,   C17,  1,      5, 2-9957,2,19930525,0725, 44.0020, 164.9578, 5647,   4496.0,   1.4916,  34.6835,2,  34.6840,2,    154.7,2,  1.1174
     49HH932_1,  P13J,   C17,  1,      4, 2-9959,2,19930525,0725, 44.0020, 164.9578, 5647,   4993.1,   1.5200,  34.6871,2,  34.6887,2,    158.1,2,  1.0859
     49HH932_1,  P13J,   C17,  1,      3,2-10372,2,19930525,0725, 44.0020, 164.9578, 5647,   5497.2,   1.5677,  34.6891,2,  34.6891,2,    160.9,2,  1.0690
     49HH932_1,  P13J,   C17,  1,      1, 2-9663,2,19930525,0725, 44.0020, 164.9578, 5647,   5776.5,   1.5998,  34.6903,2,  34.6891,2,    162.4,2,  1.0637
     49HH932_1,  P13J,   C17,  1,      2,2-10378,4,19930525,0725, 44.0020, 164.9578, 5647,   5776.5,   1.5998,  34.6903,2,  34.6891,2,    162.4,2,  1.0637