BOTTLE,20020814WHPSIOSCD
#code : jjward hyd_to_exchange.pl 
#original files copied from HTML directory: 
#original HYD file: p13jhy.txt   Wed Aug 14 14:32:12 2002
#original SUM file: p13jsu.txt   Wed Aug 14 14:32:02 2002
EXPOCODE,SECT_ID,STNNBR,CASTNO,SAMPNO,BTLNBR,BTLNBR_FLAG_W,DATE,TIME,LATITUDE,LONGITUDE,DEPTH,CTDPRS,CTDTMP,CTDSAL,CTDSAL_FLAG_W,SALNTY,SALNTY_FLAG_W,OXYGEN,OXYGEN_FLAG_W,THETA
,,,,,,,,,,,,DBAR,ITS-90,PSS-78,,PSS-78,,UMOL/KG,,DEG
     49HH932_1,  P13J,   C00,  1,     24, 2-9963,2,19930516,0200, 29.0600, 158.5550, 5905,      9.6,  21.2396,  35.0391,2,  35.0378,2,    227.7,2, 21.2377
     49HH932_1,  P13J,   C00,  1,     23,2-10377,2,19930516,0200, 29.0600, 158.5550, 5905,     18.6,  20.5557,  35.0397,2,  35.0599,2,    231.4,2, 20.5522
     49HH932_1,  P13J,   C00,  1,     22, 2-9956,2,19930516,0200, 29.0600, 158.5550, 5905,     50.0,-999.0000,-999.0000,5,  34.9240,2,   -999.0,1,-999.0000
     49HH932_1,  P13J,   C00,  1,     21, 2-9961,2,19930516,0200, 29.0600, 158.5550, 5905,     98.9,  17.7024,  34.8459,2,  34.8453,2,    231.7,2, 17.6857
     49HH932_1,  P13J,   C00,  1,     20,2-10375,2,19930516,0200, 29.0600, 158.5550, 5905,    200.3,  17.0577,  34.7877,2,  34.7827,2,    215.7,2, 17.0246
     49HH932_1,  P13J,   C00,  1,     19, 2-9960,2,19930516,0200, 29.0600, 158.5550, 5905,    299.6,  15.9481,  34.6970,2,  34.7033,2,    208.9,2, 15.9007
     49HH932_1,  P13J,   C00,  1,     18, 2-9659,2,19930516,0200, 29.0600, 158.5550, 5905,    399.6,  13.7710,  34.5081,2,  34.5248,2,    196.2,2, 13.7137
     49HH932_1,  P13J,   C00,  1,     17,2-10323,2,19930516,0200, 29.0600, 158.5550, 5905,    549.8,   9.9523,  34.2534,2,  34.2590,2,    175.0,2,  9.8881
     49HH932_1,  P13J,   C00,  1,     16,2-10374,2,19930516,0200, 29.0600, 158.5550, 5905,    701.4,   6.0039,  34.0091,2,  34.0091,2,    149.9,2,  5.9422
     49HH932_1,  P13J,   C00,  1,     15, 2-9660,2,19930516,0200, 29.0600, 158.5550, 5905,    849.3,   5.0127,  34.1726,2,  34.1691,2,     87.6,2,  4.9432
     49HH932_1,  P13J,   C00,  1,     14, 2-9962,2,19930516,0200, 29.0600, 158.5550, 5905,    999.5,   3.9657,  34.2469,2,  34.2460,2,     54.8,2,  3.8908
     49HH932_1,  P13J,   C00,  1,     13, 2-9964,2,19930516,0200, 29.0600, 158.5550, 5905,   1199.7,   3.1525,  34.3885,2,  34.3873,2,     40.8,3,  3.0680
     49HH932_1,  P13J,   C00,  1,     12,2-10379,2,19930516,0200, 29.0600, 158.5550, 5905,   1404.8,   2.6964,  34.4706,2,  34.4682,2,     39.6,2,  2.6000
     49HH932_1,  P13J,   C00,  1,     11, 2-9662,2,19930516,0200, 29.0600, 158.5550, 5905,   1604.3,   2.3944,  34.5271,2,  34.5268,2,     51.5,2,  2.2854
     49HH932_1,  P13J,   C00,  1,     10,2-10373,2,19930516,0200, 29.0600, 158.5550, 5905,   1804.0,   2.1502,  34.5703,2,  34.5700,2,     69.9,2,  2.0280
     49HH932_1,  P13J,   C00,  1,      9, 2-9204,2,19930516,0200, 29.0600, 158.5550, 5905,   2003.5,   1.9660,  34.6005,2,  34.6050,2,     84.1,2,  1.8299
     49HH932_1,  P13J,   C00,  1,      8, 2-9165,2,19930516,0200, 29.0600, 158.5550, 5905,   2498.3,   1.7124,  34.6408,2,  34.6427,2,    114.3,2,  1.5377
     49HH932_1,  P13J,   C00,  1,      7, 2-9661,2,19930516,0200, 29.0600, 158.5550, 5905,   2995.8,   1.5773,  34.6605,2,  34.6616,2,   -999.0,1,  1.3593
     49HH932_1,  P13J,   C00,  1,      6,2-10329,2,19930516,0200, 29.0600, 158.5550, 5905,   3497.4,   1.4991,  34.6726,2,  34.6832,2,    141.6,2,  1.2332
     49HH932_1,  P13J,   C00,  1,      5, 2-9957,2,19930516,0200, 29.0600, 158.5550, 5905,   4005.7,   1.4716,  34.6803,2,  34.6832,2,    150.6,2,  1.1529
     49HH932_1,  P13J,   C00,  1,      4, 2-9959,2,19930516,0200, 29.0600, 158.5550, 5905,   4506.8,   1.4689,  34.6859,2,-999.0000,1,    158.9,2,  1.0941
     49HH932_1,  P13J,   C00,  1,      3,2-10372,2,19930516,0200, 29.0600, 158.5550, 5905,   4999.9,   1.4892,  34.6896,2,  34.6895,2,    164.9,2,  1.0553
     49HH932_1,  P13J,   C00,  1,      1, 2-9663,4,19930516,0200, 29.0600, 158.5550, 5905,   5500.0,-999.0000,-999.0000,5,  34.6942,2,   -999.0,1,-999.0000
     49HH932_1,  P13J,   C00,  1,      2,2-10378,2,19930516,0200, 29.0600, 158.5550, 5905,   5500.0,-999.0000,-999.0000,5,  34.6907,2,   -999.0,1,-999.0000
     49HH932_1,  P13J,   C01,  1,     24, 2-9963,2,19930517,1311, 26.9867, 164.9950, 5787,      8.6,  25.1354,  35.3009,2,  35.3003,2,    212.2,2, 25.1335
     49HH932_1,  P13J,   C01,  1,     23,2-10377,2,19930517,1311, 26.9867, 164.9950, 5787,     18.5,  24.9617,  35.3259,2,  35.3287,2,    214.1,2, 24.9577
     49HH932_1,  P13J,   C01,  1,     22, 2-9956,2,19930517,1311, 26.9867, 164.9950, 5787,     50.0,-999.0000,-999.0000,5,  35.3350,2,   -999.0,1,-999.0000
     49HH932_1,  P13J,   C01,  1,     21, 2-9961,2,19930517,1311, 26.9867, 164.9950, 5787,     99.9,  20.9271,  35.2510,2,  35.2537,2,    221.5,2, 20.9080
     49HH932_1,  P13J,   C01,  1,     20,2-10375,3,19930517,1311, 26.9867, 164.9950, 5787,    198.1,  17.1847,  34.7774,2,  34.7816,2,    224.8,2, 17.1518
     49HH932_1,  P13J,   C01,  1,     19, 2-9960,2,19930517,1311, 26.9867, 164.9950, 5787,    298.5,  15.4409,  34.6461,2,  34.6415,2,    210.3,2, 15.3948
     49HH932_1,  P13J,   C01,  1,     18, 2-9659,2,19930517,1311, 26.9867, 164.9950, 5787,    397.5,  13.1521,  34.4358,2,  34.4439,2,    203.1,2, 13.0969
     49HH932_1,  P13J,   C01,  1,     17,2-10323,2,19930517,1311, 26.9867, 164.9950, 5787,    547.8,   9.4830,  34.1731,2,  34.1722,2,    188.8,2,  9.4210
     49HH932_1,  P13J,   C01,  1,     16,2-10374,2,19930517,1311, 26.9867, 164.9950, 5787,    698.2,   6.5022,  34.0498,2,  34.0550,2,    124.1,2,  6.4381
     49HH932_1,  P13J,   C01,  1,     15, 2-9660,2,19930517,1311, 26.9867, 164.9950, 5787,    855.0,   4.8766,  34.1432,2,  34.1397,2,     68.3,2,  4.8076
     49HH932_1,  P13J,   C01,  1,     14, 2-9962,2,19930517,1311, 26.9867, 164.9950, 5787,   1000.6,   3.9015,  34.2665,2,  34.2680,2,     42.0,2,  3.8269
     49HH932_1,  P13J,   C01,  1,     13, 2-9964,2,19930517,1311, 26.9867, 164.9950, 5787,   1210.0,   3.2784,  34.4072,2,  34.4062,2,     36.5,2,  3.1919
     49HH932_1,  P13J,   C01,  1,     12,2-10379,2,19930517,1311, 26.9867, 164.9950, 5787,   1400.8,   2.8470,  34.4852,2,  34.4840,2,     47.1,2,  2.7492
     49HH932_1,  P13J,   C01,  1,     11, 2-9662,2,19930517,1311, 26.9867, 164.9950, 5787,   1610.7,   2.4738,  34.5401,2,  34.5378,2,     59.5,2,  2.3632
     49HH932_1,  P13J,   C01,  1,     10,2-10373,2,19930517,1311, 26.9867, 164.9950, 5787,   1800.4,   2.2186,  34.5712,2,  34.5716,2,     74.6,2,  2.0958
     49HH932_1,  P13J,   C01,  1,      9, 2-9165,2,19930517,1311, 26.9867, 164.9950, 5787,   2008.0,   2.0096,  34.5999,2,  34.5991,2,     87.6,2,  1.8725
     49HH932_1,  P13J,   C01,  1,      8, 2-9204,2,19930517,1311, 26.9867, 164.9950, 5787,   2500.9,   1.7179,  34.6420,2,  34.6431,2,    117.7,2,  1.5428
     49HH932_1,  P13J,   C01,  1,      7, 2-9661,2,19930517,1311, 26.9867, 164.9950, 5787,   3001.8,   1.5737,  34.6613,2,  34.6608,2,    132.9,2,  1.3552
     49HH932_1,  P13J,   C01,  1,      6,2-10329,2,19930517,1311, 26.9867, 164.9950, 5787,   3496.4,   1.5058,  34.6727,2,  34.6687,2,    144.9,2,  1.2400
     49HH932_1,  P13J,   C01,  1,      5, 2-9957,2,19930517,1311, 26.9867, 164.9950, 5787,   3994.4,   1.4801,  34.6799,2,  34.6805,2,    154.9,2,  1.1624
     49HH932_1,  P13J,   C01,  1,      4, 2-9959,2,19930517,1311, 26.9867, 164.9950, 5787,   4499.8,   1.4690,  34.6858,2,  34.6868,2,    161.1,2,  1.0950
     49HH932_1,  P13J,   C01,  1,      3,2-10372,2,19930517,1311, 26.9867, 164.9950, 5787,   4988.6,   1.4745,  34.6907,2,  34.6883,2,    169.7,2,  1.0425
     49HH932_1,  P13J,   C01,  1,      2,2-10378,3,19930517,1311, 26.9867, 164.9950, 5787,   5497.9,   1.5057,  34.6937,2,  34.6895,2,    170.8,2,  1.0092
     49HH932_1,  P13J,   C01,  1,      1, 2-9663,2,19930517,1311, 26.9867, 164.9950, 5787,   5879.7,   1.5109,  34.6970,2,  34.6974,2,    178.0,2,  0.9645
     49HH932_1,  P13J,   C02,  1,     24, 2-9963,2,19930517,2110, 28.0027, 164.9845, 5642,      9.3,  22.9247,  35.2282,2,  35.2285,2,    227.6,2, 22.9228
     49HH932_1,  P13J,   C02,  1,     23,2-10377,2,19930517,2110, 28.0027, 164.9845, 5642,     20.7,  22.7526,  35.2187,2,  35.2198,2,    225.1,2, 22.7484
     49HH932_1,  P13J,   C02,  1,     22, 2-9956,2,19930517,2110, 28.0027, 164.9845, 5642,     49.5,  20.1542,  35.0548,2,  35.0603,2,    235.5,2, 20.1450
     49HH932_1,  P13J,   C02,  1,     21, 2-9961,2,19930517,2110, 28.0027, 164.9845, 5642,    100.5,  18.2908,  34.8820,2,  34.8831,2,    233.7,2, 18.2734
     49HH932_1,  P13J,   C02,  1,     20,2-10375,2,19930517,2110, 28.0027, 164.9845, 5642,    199.1,  16.4640,  34.7452,2,  34.7544,2,    218.9,3, 16.4319
     49HH932_1,  P13J,   C02,  1,     19, 2-9960,2,19930517,2110, 28.0027, 164.9845, 5642,    301.4,  15.2075,  34.6273,2,  34.6270,2,    209.9,2, 15.1614
     49HH932_1,  P13J,   C02,  1,     18, 2-9659,2,19930517,2110, 28.0027, 164.9845, 5642,    398.1,  13.3868,  34.4596,2,  34.4682,2,    210.6,3, 13.3308
     49HH932_1,  P13J,   C02,  1,     17,2-10323,2,19930517,2110, 28.0027, 164.9845, 5642,    550.1,   9.6622,  34.1979,2,  34.1922,2,    196.9,3,  9.5992
     49HH932_1,  P13J,   C02,  1,     16,2-10374,2,19930517,2110, 28.0027, 164.9845, 5642,    696.5,   6.2551,  34.0243,2,  34.0322,2,    145.0,2,  6.1925
     49HH932_1,  P13J,   C02,  1,     15, 2-9660,2,19930517,2110, 28.0027, 164.9845, 5642,    850.5,   4.6557,  34.1347,2,  34.1369,2,     77.5,2,  4.5885
     49HH932_1,  P13J,   C02,  1,     14, 2-9962,2,19930517,2110, 28.0027, 164.9845, 5642,    997.0,   3.8601,  34.2779,2,  34.2766,2,     42.8,2,  3.7861
     49HH932_1,  P13J,   C02,  1,     13, 2-9964,2,19930517,2110, 28.0027, 164.9845, 5642,   1200.4,   3.3124,  34.3993,2,  34.3991,2,     41.7,3,  3.2263
     49HH932_1,  P13J,   C02,  1,     12,2-10379,2,19930517,2110, 28.0027, 164.9845, 5642,   1397.6,   2.7435,  34.4635,2,  34.4651,2,     38.2,2,  2.6471
     49HH932_1,  P13J,   C02,  1,     11, 2-9662,2,19930517,2110, 28.0027, 164.9845, 5642,   1601.3,   2.4182,  34.5234,2,  34.5229,2,     48.7,2,  2.3091
     49HH932_1,  P13J,   C02,  1,     10,2-10373,2,19930517,2110, 28.0027, 164.9845, 5642,   1797.8,   2.1435,  34.5622,2,  34.5673,2,     61.4,2,  2.0219
     49HH932_1,  P13J,   C02,  1,      9, 2-9165,2,19930517,2110, 28.0027, 164.9845, 5642,   2000.4,   1.9681,  34.5942,2,  34.5948,2,     75.5,2,  1.8322
     49HH932_1,  P13J,   C02,  1,      8, 2-9204,2,19930517,2110, 28.0027, 164.9845, 5642,   2497.5,   1.6728,  34.6431,2,  34.6447,2,    114.3,2,  1.4989
     49HH932_1,  P13J,   C02,  1,      7, 2-9661,2,19930517,2110, 28.0027, 164.9845, 5642,   2999.6,   1.5478,  34.6635,2,  34.6651,2,    132.6,2,  1.3300
     49HH932_1,  P13J,   C02,  1,      6,2-10329,2,19930517,2110, 28.0027, 164.9845, 5642,   3496.8,   1.4925,  34.6736,2,-999.0000,1,    144.1,2,  1.2268
     49HH932_1,  P13J,   C02,  1,      5, 2-9957,2,19930517,2110, 28.0027, 164.9845, 5642,   3998.9,   1.4636,  34.6811,2,-999.0000,1,    153.2,2,  1.1458
     49HH932_1,  P13J,   C02,  1,      4, 2-9959,2,19930517,2110, 28.0027, 164.9845, 5642,   4498.0,   1.4565,  34.6870,2,  34.6891,2,    161.5,2,  1.0831
     49HH932_1,  P13J,   C02,  1,      3,2-10372,2,19930517,2110, 28.0027, 164.9845, 5642,   4999.1,   1.4739,  34.6909,2,  34.6923,2,    169.8,2,  1.0406
     49HH932_1,  P13J,   C02,  1,      2,2-10378,2,19930517,2110, 28.0027, 164.9845, 5642,   5498.3,   1.4986,  34.6940,2,  34.6950,2,    174.2,2,  1.0023
     49HH932_1,  P13J,   C02,  1,      1, 2-9663,2,19930517,2110, 28.0027, 164.9845, 5642,   5675.3,   1.5073,  34.6950,2,  34.6966,2,    172.5,3,  0.9878
     49HH932_1,  P13J,   C03,  1,     24, 2-9963,2,19930518,0807, 29.0007, 164.9818, 5815,      9.0,  21.0042,  35.0019,2,  35.0008,2,    229.9,2, 21.0025
     49HH932_1,  P13J,   C03,  1,     23,2-10377,2,19930518,0807, 29.0007, 164.9818, 5815,     20.5,  20.6984,  34.9883,2,  34.9949,2,    230.3,2, 20.6945
     49HH932_1,  P13J,   C03,  1,     22, 2-9956,2,19930518,0807, 29.0007, 164.9818, 5815,     49.6,  18.4050,  34.8113,2,  34.8264,2,    247.2,2, 18.3964
     49HH932_1,  P13J,   C03,  1,     21, 2-9961,2,19930518,0807, 29.0007, 164.9818, 5815,     98.8,  17.3135,  34.7961,2,  34.7953,2,    233.1,2, 17.2970
     49HH932_1,  P13J,   C03,  1,     20,2-10375,2,19930518,0807, 29.0007, 164.9818, 5815,    198.1,  16.7502,  34.7646,2,  34.7662,2,    229.2,2, 16.7179
     49HH932_1,  P13J,   C03,  1,     19, 2-9960,2,19930518,0807, 29.0007, 164.9818, 5815,    300.2,  16.0004,  34.6984,2,  34.6962,2,    214.7,2, 15.9528
     49HH932_1,  P13J,   C03,  1,     18, 2-9659,2,19930518,0807, 29.0007, 164.9818, 5815,    397.6,  14.1413,  34.5305,2,  34.5358,2,    205.9,2, 14.0833
     49HH932_1,  P13J,   C03,  1,     17,2-10323,2,19930518,0807, 29.0007, 164.9818, 5815,    550.1,  10.5907,  34.2801,2,  34.2809,2,    192.4,2, 10.5239
     49HH932_1,  P13J,   C03,  1,     16,2-10374,2,19930518,0807, 29.0007, 164.9818, 5815,    698.5,   6.9011,  34.0402,2,  34.0424,2,    155.7,2,  6.8349
     49HH932_1,  P13J,   C03,  1,     15, 2-9660,2,19930518,0807, 29.0007, 164.9818, 5815,    851.0,   4.8085,  34.0921,2,  34.0903,2,     90.8,2,  4.7403
     49HH932_1,  P13J,   C03,  1,     14, 2-9962,2,19930518,0807, 29.0007, 164.9818, 5815,    999.3,   3.9213,  34.2431,2,  34.2539,2,     47.6,2,  3.8467
     49HH932_1,  P13J,   C03,  1,     13, 2-9964,2,19930518,0807, 29.0007, 164.9818, 5815,   1199.4,   3.2452,  34.3716,2,  34.3724,2,     35.0,2,  3.1599
     49HH932_1,  P13J,   C03,  1,     12,2-10379,2,19930518,0807, 29.0007, 164.9818, 5815,   1399.9,   2.7289,  34.4617,2,  34.4635,2,     38.7,2,  2.6325
     49HH932_1,  P13J,   C03,  1,     11, 2-9662,2,19930518,0807, 29.0007, 164.9818, 5815,   1600.6,   2.4251,  34.5176,2,  34.5189,2,     48.1,2,  2.3160
     49HH932_1,  P13J,   C03,  1,     10,2-10373,2,19930518,0807, 29.0007, 164.9818, 5815,   1799.6,   2.1763,  34.5629,2,  34.5641,2,     62.8,2,  2.0541
     49HH932_1,  P13J,   C03,  1,      9, 2-9165,2,19930518,0807, 29.0007, 164.9818, 5815,   1999.1,   1.9766,  34.5945,2,  34.5952,2,     78.3,2,  1.8407
     49HH932_1,  P13J,   C03,  1,      8, 2-9204,2,19930518,0807, 29.0007, 164.9818, 5815,   2498.4,   1.6943,  34.6399,2,  34.6404,2,    110.9,2,  1.5199
     49HH932_1,  P13J,   C03,  1,      7, 2-9661,2,19930518,0807, 29.0007, 164.9818, 5815,   2999.3,   1.5636,  34.6623,2,  34.6632,2,    131.6,2,  1.3455
     49HH932_1,  P13J,   C03,  1,      6,2-10329,2,19930518,0807, 29.0007, 164.9818, 5815,   3499.5,   1.5037,  34.6732,2,  34.6742,2,    145.0,2,  1.2376
     49HH932_1,  P13J,   C03,  1,      5, 2-9957,2,19930518,0807, 29.0007, 164.9818, 5815,   4000.4,   1.4695,  34.6810,2,  34.6813,2,    157.4,2,  1.1514
     49HH932_1,  P13J,   C03,  1,      4, 2-9959,2,19930518,0807, 29.0007, 164.9818, 5815,   4499.0,   1.4678,  34.6860,2,  34.6872,2,    164.7,3,  1.0939
     49HH932_1,  P13J,   C03,  1,      3,2-10372,2,19930518,0807, 29.0007, 164.9818, 5815,   5000.5,   1.4831,  34.6904,2,  34.6911,2,    168.7,2,  1.0494
     49HH932_1,  P13J,   C03,  1,      2,2-10378,3,19930518,0807, 29.0007, 164.9818, 5815,   5500.9,   1.5194,  34.6928,2,  34.6982,2,    174.0,2,  1.0219
     49HH932_1,  P13J,   C03,  1,      1, 2-9663,2,19930518,0807, 29.0007, 164.9818, 5815,   5941.0,-999.0000,-999.0000,5,  34.6962,2,   -999.0,1,-999.0000
     49HH932_1,  P13J,   C04,  1,     24, 2-9963,2,19930518,1536, 30.0022, 164.9860, 5863,     20.5,  21.4165,  35.1658,2,  35.1670,2,    226.8,2, 21.4125
     49HH932_1,  P13J,   C04,  1,     23,2-10377,2,19930518,1536, 30.0022, 164.9860, 5863,     47.8,  19.3940,  35.0047,2,  35.0079,2,    234.1,2, 19.3854
     49HH932_1,  P13J,   C04,  1,     22, 2-9956,2,19930518,1536, 30.0022, 164.9860, 5863,     99.3,  18.1224,  34.8558,2,  34.8547,2,    236.3,2, 18.1053
     49HH932_1,  P13J,   C04,  1,     21, 2-9961,2,19930518,1536, 30.0022, 164.9860, 5863,    197.1,  17.1980,  34.7814,2,  34.7835,2,    228.5,2, 17.1652
     49HH932_1,  P13J,   C04,  1,     20,2-10375,2,19930518,1536, 30.0022, 164.9860, 5863,    299.6,  16.3619,  34.7407,2,  34.7387,2,    213.8,2, 16.3137
     49HH932_1,  P13J,   C04,  1,     19, 2-9960,2,19930518,1536, 30.0022, 164.9860, 5863,    397.7,  14.9322,  34.5927,2,  34.6003,2,    204.9,2, 14.8720
     49HH932_1,  P13J,   C04,  1,     18, 2-9659,2,19930518,1536, 30.0022, 164.9860, 5863,    549.9,  11.4826,  34.3527,2,  34.3504,2,    191.9,2, 11.4123
     49HH932_1,  P13J,   C04,  1,     17,2-10323,2,19930518,1536, 30.0022, 164.9860, 5863,    697.2,   7.0415,  34.0435,2,  34.0495,2,    166.9,2,  6.9746
     49HH932_1,  P13J,   C04,  1,     16,2-10374,2,19930518,1536, 30.0022, 164.9860, 5863,    850.3,   4.8549,  34.0615,2,  34.0624,2,    109.5,2,  4.7865
     49HH932_1,  P13J,   C04,  1,     15, 2-9660,2,19930518,1536, 30.0022, 164.9860, 5863,    997.0,   4.0264,  34.2178,2,  34.2205,2,     52.9,2,  3.9513
     49HH932_1,  P13J,   C04,  1,     14, 2-9962,2,19930518,1536, 30.0022, 164.9860, 5863,   1201.1,   3.2966,  34.3551,2,  34.3543,2,     37.4,2,  3.2107
     49HH932_1,  P13J,   C04,  1,     13, 2-9964,2,19930518,1536, 30.0022, 164.9860, 5863,   1397.6,   2.7916,  34.4450,2,  34.4470,2,     37.1,2,  2.6948
     49HH932_1,  P13J,   C04,  1,     12,2-10379,2,19930518,1536, 30.0022, 164.9860, 5863,   1599.7,   2.4198,  34.5123,2,  34.5091,2,     46.3,2,  2.3109
     49HH932_1,  P13J,   C04,  1,     11, 2-9662,2,19930518,1536, 30.0022, 164.9860, 5863,   1797.4,   2.1813,  34.5556,2,  34.5559,2,     56.5,2,  2.0593
     49HH932_1,  P13J,   C04,  1,     10,2-10373,2,19930518,1536, 30.0022, 164.9860, 5863,   2001.8,   1.9664,  34.5928,2,  34.5932,2,     73.3,2,  1.8305
     49HH932_1,  P13J,   C04,  1,      9, 2-9165,2,19930518,1536, 30.0022, 164.9860, 5863,   2496.6,   1.6837,  34.6411,2,  34.6435,2,    114.0,2,  1.5097
     49HH932_1,  P13J,   C04,  1,      8, 2-9204,2,19930518,1536, 30.0022, 164.9860, 5863,   2998.6,   1.5679,  34.6623,2,  34.6632,2,    130.7,2,  1.3498
     49HH932_1,  P13J,   C04,  1,      7, 2-9661,2,19930518,1536, 30.0022, 164.9860, 5863,   3496.5,   1.5073,  34.6725,2,  34.6730,2,    142.7,2,  1.2414
     49HH932_1,  P13J,   C04,  1,      6,2-10329,2,19930518,1536, 30.0022, 164.9860, 5863,   3999.5,   1.4778,  34.6798,2,  34.6805,2,    152.4,2,  1.1596
     49HH932_1,  P13J,   C04,  1,      5, 2-9957,2,19930518,1536, 30.0022, 164.9860, 5863,   4496.1,   1.4723,  34.6849,2,  34.6860,2,    160.0,2,  1.0986
     49HH932_1,  P13J,   C04,  1,      4, 2-9959,2,19930518,1536, 30.0022, 164.9860, 5863,   4993.2,   1.4904,  34.6886,2,  34.6907,2,    166.2,2,  1.0573
     49HH932_1,  P13J,   C04,  1,      3,2-10372,2,19930518,1536, 30.0022, 164.9860, 5863,   5495.4,   1.5138,  34.6926,2,  34.6923,2,    172.8,2,  1.0173
     49HH932_1,  P13J,   C04,  1,      1, 2-9663,2,19930518,1536, 30.0022, 164.9860, 5863,   5999.7,   1.5628,  34.6936,2,  34.6958,2,    173.8,2,  0.9985
     49HH932_1,  P13J,   C04,  1,      2,2-10378,4,19930518,1536, 30.0022, 164.9860, 5863,   5999.7,   1.5628,  34.6936,2,  34.6962,2,    170.0,3,  0.9985