BOTTLE,20020809WHPSIObren
EXPOCODE,SECT_ID,STNNBR,CASTNO,SAMPNO,BTLNBR,BTLNBR_FLAG_W,DATE,TIME,LATITUDE,LONGITUDE,DEPTH,CTDPRS,CTDTMP,CTDSAL,CTDSAL_FLAG_W,SALNTY,SALNTY_FLAG_W,CTDOXY,CTDOXY_FLAG_W,OXYGEN,OXYGEN_FLAG_W,SILCAT,SILCAT_FLAG_W,NO2+NO3,NO2+NO3_FLAG_W,PHSPHT,PHSPHT_FLAG_W,CTDRAW,REVTMP,REVPRS,THETA
,,,,,,,,,,,,DBAR,IPTS-68,PSS-78,,PSS-78,,UMOL/KG,,UMOL/KG,,UMOL/KG,,UMOL/KG,,UMOL/KG,,,DEG C,DBAR,IPTS-68
     31KA009_1,  PRS2,     2, 22,      6,      6,2,19890826,0759, 22.9983,-158.1400, 4750,      7.4,  26.2860,  34.6807,2,-999.0000,9,    188.7,1,   -999.0,9,  -999.00,9,  -999.00,9,  -999.00,9,      6,-999.000,  -999.0, 26.2844
     31KA009_1,  PRS2,     2, 22,      5,      5,2,19890826,0759, 22.9983,-158.1400, 4750,     49.2,  26.0422,  34.6775,2,-999.0000,9,    217.9,1,   -999.0,9,  -999.00,9,  -999.00,9,  -999.00,9,     46,-999.000,  -999.0, 26.0312
     31KA009_1,  PRS2,     2, 22,      4,      4,2,19890826,0759, 22.9983,-158.1400, 4750,    106.8,  22.3273,  35.2729,2,-999.0000,9,    226.6,1,   -999.0,9,  -999.00,9,  -999.00,9,  -999.00,9,    101,-999.000,  -999.0, 22.3059
     31KA009_1,  PRS2,     2, 22,      3,      3,2,19890826,0759, 22.9983,-158.1400, 4750,    258.6,  13.4381,  34.3544,2,-999.0000,9,    198.2,1,   -999.0,9,  -999.00,9,  -999.00,9,  -999.00,9,    250,-999.000,  -999.0, 13.4018
     31KA009_1,  PRS2,     2, 22,      2,      2,2,19890826,0759, 22.9983,-158.1400, 4750,    512.0,   6.5695,  34.0406,2,-999.0000,9,    112.6,1,   -999.0,9,  -999.00,9,  -999.00,9,  -999.00,9,    502,-999.000,  -999.0,  6.5229
     31KA009_1,  PRS2,     2, 22,      1,      1,2,19890826,0759, 22.9983,-158.1400, 4750,   1010.6,   4.0051,  34.4876,2,-999.0000,9,     45.6,1,   -999.0,9,  -999.00,9,  -999.00,9,  -999.00,9,   1000,-999.000,  -999.0,  3.9285
     31KA009_1,  PRS2,     2, 23,      3,      3,2,19890826,1057, 23.0117,-158.1500, 4750,     36.9,  26.1213,  34.6566,2,  34.6575,2,    220.6,1,   -999.0,9,  -999.00,9,  -999.00,9,  -999.00,9,     33,-999.000,  -999.0, 26.1131
     31KA009_1,  PRS2,     2, 23,      2,      2,2,19890826,1057, 23.0117,-158.1500, 4750,    469.3,   7.4696,  34.0451,2,  34.0513,2,    145.0,1,   -999.0,9,  -999.00,9,  -999.00,9,  -999.00,9,    460,-999.000,  -999.0,  7.4239
     31KA009_1,  PRS2,     2, 23,      1,      1,2,19890826,1057, 23.0117,-158.1500, 4750,   1029.1,   3.9102,  34.4895,2,  34.4907,2,     43.0,1,   -999.0,9,  -999.00,9,  -999.00,9,  -999.00,9,   1019,-999.000,  -999.0,  3.8328
     31KA009_1,  PRS2,     2, 24,     12,     12,2,19890826,1345, 23.0150,-158.1550, 4750,      6.6,  26.2011,  34.6866,2,-999.0000,5,    212.6,1,   -999.0,9,  -999.00,9,  -999.00,9,  -999.00,9,      6,-999.000,  -999.0, 26.1997
     31KA009_1,  PRS2,     2, 24,     11,     11,2,19890826,1345, 23.0150,-158.1550, 4750,     26.6,  26.1919,  34.6770,2,-999.0000,5,    213.1,1,   -999.0,9,  -999.00,9,  -999.00,9,  -999.00,9,     25,-999.000,  -999.0, 26.1860
     31KA009_1,  PRS2,     2, 24,     10,     10,2,19890826,1345, 23.0150,-158.1550, 4750,     47.6,  25.8068,  34.7709,2,-999.0000,5,    214.7,1,   -999.0,9,  -999.00,9,  -999.00,9,  -999.00,9,     46,-999.000,  -999.0, 25.7963
     31KA009_1,  PRS2,     2, 24,      9,      9,2,19890826,1345, 23.0150,-158.1550, 4750,     78.0,  24.3114,  34.9173,2,-999.0000,5,    223.5,1,   -999.0,9,  -999.00,9,  -999.00,9,  -999.00,9,     75,-999.000,  -999.0, 24.2949
     31KA009_1,  PRS2,     2, 24,      8,      8,2,19890826,1345, 23.0150,-158.1550, 4750,    102.9,  23.0521,  35.0758,2,-999.0000,5,    215.1,1,   -999.0,9,  -999.00,9,  -999.00,9,  -999.00,9,     99,-999.000,  -999.0, 23.0311
     31KA009_1,  PRS2,     2, 24,      7,      7,2,19890826,1345, 23.0150,-158.1550, 4750,    125.9,  22.2688,  35.2675,2,-999.0000,5,    220.2,1,   -999.0,9,  -999.00,9,  -999.00,9,  -999.00,9,    122,-999.000,  -999.0, 22.2436
     31KA009_1,  PRS2,     2, 24,      6,      6,2,19890826,1345, 23.0150,-158.1550, 4750,    157.0,  21.4420,  35.2943,2,  35.2899,2,    206.6,1,   -999.0,9,  -999.00,9,  -999.00,9,  -999.00,9,    151,-999.000,  -999.0, 21.4114
     31KA009_1,  PRS2,     2, 24,      5,      5,2,19890826,1345, 23.0150,-158.1550, 4750,    183.1,  20.1686,  35.1678,2,-999.0000,5,    194.0,1,   -999.0,9,  -999.00,9,  -999.00,9,  -999.00,9,    176,-999.000,  -999.0, 20.1346
     31KA009_1,  PRS2,     2, 24,      4,      4,2,19890826,1345, 23.0150,-158.1550, 4750,    258.9,  14.2124,  34.4471,2,-999.0000,5,    201.8,1,   -999.0,9,  -999.00,9,  -999.00,9,  -999.00,9,    251,-999.000,  -999.0, 14.1747
     31KA009_1,  PRS2,     2, 24,      3,      3,2,19890826,1345, 23.0150,-158.1550, 4750,    508.5,   7.0607,  34.1309,2,  34.1305,2,     94.8,1,   -999.0,9,  -999.00,9,  -999.00,9,  -999.00,9,    498,-999.000,  -999.0,  7.0124
     31KA009_1,  PRS2,     2, 24,      2,      2,2,19890826,1345, 23.0150,-158.1550, 4750,    760.6,   4.6921,  34.3299,2,-999.0000,5,     25.6,1,   -999.0,9,  -999.00,9,  -999.00,9,  -999.00,9,    749,-999.000,  -999.0,  4.6320
     31KA009_1,  PRS2,     2, 24,      1,      1,2,19890826,1345, 23.0150,-158.1550, 4750,   1021.2,   3.9777,  34.4939,2,  34.4951,2,     46.5,1,   -999.0,9,  -999.00,9,  -999.00,9,  -999.00,9,   1010,-999.000,  -999.0,  3.9005