BOTTLE,20020809WHPSIObren
EXPOCODE,SECT_ID,STNNBR,CASTNO,SAMPNO,BTLNBR,BTLNBR_FLAG_W,DATE,TIME,LATITUDE,LONGITUDE,DEPTH,CTDPRS,CTDTMP,CTDSAL,CTDSAL_FLAG_W,SALNTY,SALNTY_FLAG_W,CTDOXY,CTDOXY_FLAG_W,OXYGEN,OXYGEN_FLAG_W,SILCAT,SILCAT_FLAG_W,NO2+NO3,NO2+NO3_FLAG_W,PHSPHT,PHSPHT_FLAG_W,CTDRAW,REVTMP,REVPRS,THETA
,,,,,,,,,,,,DBAR,IPTS-68,PSS-78,,PSS-78,,UMOL/KG,,UMOL/KG,,UMOL/KG,,UMOL/KG,,UMOL/KG,,,DEG C,DBAR,IPTS-68
     31KA009_1,  PRS2,     2,  7,      4,      4,2,19890824,1101, 22.8417,-158.0083, 4750,     13.8,  26.1846,  34.6723,2,  34.6735,2,    185.8,1,   -999.0,9,  -999.00,9,  -999.00,9,  -999.00,9,     12,-999.000,  -999.0, 26.1815
     31KA009_1,  PRS2,     2,  7,      3,      3,2,19890824,1101, 22.8417,-158.0083, 4750,    136.6,  21.9980,  35.2706,2,  35.2728,2,    214.5,1,   -999.0,9,  -999.00,9,  -999.00,9,  -999.00,9,    131,-999.000,  -999.0, 21.9710
     31KA009_1,  PRS2,     2,  7,      2,      2,2,19890824,1101, 22.8417,-158.0083, 4750,    531.9,   6.4550,  34.1428,2,  34.1456,2,     74.9,1,   -999.0,9,  -999.00,9,  -999.00,9,  -999.00,9,    522,-999.000,  -999.0,  6.4068
     31KA009_1,  PRS2,     2,  7,      1,      1,2,19890824,1101, 22.8417,-158.0083, 4750,   1023.0,   3.9986,  34.4913,2,  34.4925,2,     45.9,1,   -999.0,9,  -999.00,9,  -999.00,9,  -999.00,9,   1012,   4.000,  1021.8,  3.9210
     31KA009_1,  PRS2,     2,  9,      3,      3,2,19890824,1420, 22.8533,-158.0200, 4800,    146.9,  21.5305,  35.3094,2,  35.2973,2,    209.4,1,   -999.0,9,  -999.00,9,  -999.00,9,  -999.00,9,    140,-999.000,  -999.0, 21.5019
     31KA009_1,  PRS2,     2,  9,      2,      2,2,19890824,1420, 22.8533,-158.0200, 4800,    459.5,   7.3615,  34.0395,2,  34.0397,2,    143.0,1,   -999.0,9,  -999.00,9,  -999.00,9,  -999.00,9,    450,-999.000,  -999.0,  7.3171
     31KA009_1,  PRS2,     2,  9,      1,      1,2,19890824,1420, 22.8533,-158.0200, 4800,   1025.0,   3.9871,  34.4877,2,  34.4889,2,     45.3,1,   -999.0,9,  -999.00,9,  -999.00,9,  -999.00,9,   1014,-999.000,  -999.0,  3.9094
     31KA009_1,  PRS2,     2, 11,      3,      3,2,19890824,1658, 22.8650,-158.0133, 4800,    157.0,  20.8847,  35.2625,2,  35.2629,2,    202.9,1,   -999.0,9,  -999.00,9,  -999.00,9,  -999.00,9,    151,-999.000,  -999.0, 20.8547
     31KA009_1,  PRS2,     2, 11,      2,      2,2,19890824,1658, 22.8650,-158.0133, 4800,    470.6,   7.5121,  34.0794,2,  34.0650,2,    140.1,1,   -999.0,9,  -999.00,9,  -999.00,9,  -999.00,9,    461,-999.000,  -999.0,  7.4660
     31KA009_1,  PRS2,     2, 11,      1,      1,2,19890824,1658, 22.8650,-158.0133, 4800,   1021.1,   3.9697,  34.4869,2,  34.4881,2,     44.3,1,   -999.0,9,  -999.00,9,  -999.00,9,  -999.00,9,   1010,   3.978,  1023.5,  3.8925
     31KA009_1,  PRS2,     2, 12,     12,     12,2,19890824,1955, 22.8650,-158.0283, 4800,    128.4,  22.0076,  35.2699,2,  35.2729,2,    221.6,1,   -999.0,9,  -999.00,9,  -999.00,9,  -999.00,9,    124,-999.000,  -999.0, 21.9822
     31KA009_1,  PRS2,     2, 12,      9,      9,2,19890824,1955, 22.8650,-158.0283, 4800,    181.0,  19.8139,  35.1267,2,  35.1336,2,    193.9,1,   -999.0,9,  -999.00,9,  -999.00,9,  -999.00,9,    176,-999.000,  -999.0, 19.7806
     31KA009_1,  PRS2,     2, 12,     11,     11,2,19890824,1955, 22.8650,-158.0283, 4800,    181.1,  19.7911,  35.1231,2,  35.1331,2,    193.5,1,   -999.0,9,  -999.00,9,  -999.00,9,  -999.00,9,    182,-999.000,  -999.0, 19.7578
     31KA009_1,  PRS2,     2, 12,     10,     10,2,19890824,1955, 22.8650,-158.0283, 4800,    181.1,  19.7959,  35.1223,2,-999.0000,5,    193.6,1,   -999.0,9,  -999.00,9,  -999.00,9,  -999.00,9,    176,-999.000,  -999.0, 19.7627
     31KA009_1,  PRS2,     2, 12,      8,      8,2,19890824,1955, 22.8650,-158.0283, 4800,    257.9,  14.9255,  34.5203,2,-999.0000,5,    201.7,1,   -999.0,9,  -999.00,9,  -999.00,9,  -999.00,9,    257,-999.000,  -999.0, 14.8867
     31KA009_1,  PRS2,     2, 12,      6,      6,2,19890824,1955, 22.8650,-158.0283, 4800,    510.2,   7.5170,  34.2088,2,-999.0000,5,     59.4,1,   -999.0,9,  -999.00,9,  -999.00,9,  -999.00,9,    501,-999.000,  -999.0,  7.4668
     31KA009_1,  PRS2,     2, 12,      7,      7,2,19890824,1955, 22.8650,-158.0283, 4800,    511.1,   7.5085,  34.2081,2,  34.2098,2,     59.0,1,   -999.0,9,  -999.00,9,  -999.00,9,  -999.00,9,    502,-999.000,  -999.0,  7.4582
     31KA009_1,  PRS2,     2, 12,      4,      4,2,19890824,1955, 22.8650,-158.0283, 4800,    760.0,   4.8630,  34.3421,2,-999.0000,5,     32.2,1,   -999.0,9,  -999.00,9,  -999.00,9,  -999.00,9,    749,-999.000,  -999.0,  4.8020
     31KA009_1,  PRS2,     2, 12,      5,      5,2,19890824,1955, 22.8650,-158.0283, 4800,    760.1,   4.8633,  34.3424,2,  34.3434,2,     32.2,1,   -999.0,9,  -999.00,9,  -999.00,9,  -999.00,9,    750,-999.000,  -999.0,  4.8023
     31KA009_1,  PRS2,     2, 12,      3,      3,2,19890824,1955, 22.8650,-158.0283, 4800,   1020.0,   3.9119,  34.4936,2,  34.4964,2,     48.9,1,   -999.0,9,  -999.00,9,  -999.00,9,  -999.00,9,   1009,-999.000,  -999.0,  3.8353
     31KA009_1,  PRS2,     2, 12,      2,      2,2,19890824,1955, 22.8650,-158.0283, 4800,   1020.1,   3.9115,  34.4934,2,-999.0000,5,     48.9,1,   -999.0,9,  -999.00,9,  -999.00,9,  -999.00,9,   1013,-999.000,  -999.0,  3.8349
     31KA009_1,  PRS2,     2, 12,      1,      1,2,19890824,1955, 22.8650,-158.0283, 4800,   1020.3,   3.9113,  34.4934,2,  34.4944,2,     48.9,1,   -999.0,9,  -999.00,9,  -999.00,9,  -999.00,9,   1009,   3.906,  1022.5,  3.8346
     31KA009_1,  PRS2,     2, 13,      9,      9,2,19890824,2257, 22.8767,-158.0400, 4700,      3.6,  26.3531,  34.6867,2,  34.6806,2,    207.6,1,   -999.0,9,  -999.00,9,  -999.00,9,  -999.00,9,      3,-999.000,  -999.0, 26.3523
     31KA009_1,  PRS2,     2, 13,      8,      8,2,19890824,2257, 22.8767,-158.0400, 4700,     27.0,  26.1711,  34.6793,2,  34.6790,2,    213.0,1,   -999.0,9,  -999.00,9,  -999.00,9,  -999.00,9,     26,-999.000,  -999.0, 26.1650
     31KA009_1,  PRS2,     2, 13,      7,      7,2,19890824,2257, 22.8767,-158.0400, 4700,     46.7,  26.0809,  34.6706,2,  34.6693,2,    214.6,1,   -999.0,9,  -999.00,9,  -999.00,9,  -999.00,9,     45,-999.000,  -999.0, 26.0705
     31KA009_1,  PRS2,     2, 13,      6,      6,2,19890824,2257, 22.8767,-158.0400, 4700,     78.2,  24.0124,  34.9644,2,  34.9701,2,    222.7,1,   -999.0,9,  -999.00,9,  -999.00,9,  -999.00,9,     76,-999.000,  -999.0, 23.9960
     31KA009_1,  PRS2,     2, 13,      5,      5,2,19890824,2257, 22.8767,-158.0400, 4700,    105.8,  22.9988,  35.2011,2,  35.2062,2,    220.9,1,   -999.0,9,  -999.00,9,  -999.00,9,  -999.00,9,    102,-999.000,  -999.0, 22.9772
     31KA009_1,  PRS2,     2, 13,      4,      4,2,19890824,2257, 22.8767,-158.0400, 4700,    130.7,  21.7671,  35.2950,2,  35.2919,2,    213.5,1,   -999.0,9,  -999.00,9,  -999.00,9,  -999.00,9,    125,-999.000,  -999.0, 21.7415
     31KA009_1,  PRS2,     2, 13,      3,      3,2,19890824,2257, 22.8767,-158.0400, 4700,    157.8,  20.5840,  35.2207,2,  35.2178,2,    198.7,1,   -999.0,9,  -999.00,9,  -999.00,9,  -999.00,9,    151,-999.000,  -999.0, 20.5542
     31KA009_1,  PRS2,     2, 13,      2,      2,2,19890824,2257, 22.8767,-158.0400, 4700,    486.3,   7.6828,  34.1684,2,  34.1582,2,    116.2,1,   -999.0,9,  -999.00,9,  -999.00,9,  -999.00,9,    476,-999.000,  -999.0,  7.6344
     31KA009_1,  PRS2,     2, 13,      1,      1,2,19890824,2257, 22.8767,-158.0400, 4700,   1020.3,   3.9384,  34.4945,2,  34.4957,2,     45.6,1,   -999.0,9,  -999.00,9,  -999.00,9,  -999.00,9,   1009,   3.921,  1020.6,  3.8615
     31KA009_1,  PRS2,     2, 14,      4,      4,2,19890825,0201, 22.9033,-158.0550, 4750,     37.7,  26.1679,  34.6649,2,  34.6788,2,    218.5,1,   -999.0,9,  -999.00,9,  -999.00,9,  -999.00,9,     34,-999.000,  -999.0, 26.1595
     31KA009_1,  PRS2,     2, 14,      3,      3,2,19890825,0201, 22.9033,-158.0550, 4750,    140.9,  21.6544,  35.2824,2,  35.2910,2,    211.3,1,   -999.0,9,  -999.00,9,  -999.00,9,  -999.00,9,    135,-999.000,  -999.0, 21.6268
     31KA009_1,  PRS2,     2, 14,      2,      2,2,19890825,0201, 22.9033,-158.0550, 4750,    554.5,   6.1723,  34.1477,2,  34.1473,2,     64.9,1,   -999.0,9,  -999.00,9,  -999.00,9,  -999.00,9,    545,-999.000,  -999.0,  6.1232
     31KA009_1,  PRS2,     2, 14,      1,      1,2,19890825,0201, 22.9033,-158.0550, 4750,   1032.0,   3.8955,  34.4953,2,  34.4965,2,     47.5,1,   -999.0,9,  -999.00,9,  -999.00,9,  -999.00,9,   1021,-999.000,  -999.0,  3.8180
     31KA009_1,  PRS2,     2, 15,      4,      4,2,19890825,0457, 22.9167,-158.0700, 4750,     28.3,  26.1646,  34.6729,2,  34.6958,2,    216.5,1,   -999.0,9,  -999.00,9,  -999.00,9,  -999.00,9,     27,-999.000,  -999.0, 26.1582
     31KA009_1,  PRS2,     2, 15,      3,      3,2,19890825,0457, 22.9167,-158.0700, 4750,    137.5,  21.8156,  35.2752,2,  35.2756,2,    212.3,1,   -999.0,9,  -999.00,9,  -999.00,9,  -999.00,9,    132,-999.000,  -999.0, 21.7885
     31KA009_1,  PRS2,     2, 15,      2,      2,2,19890825,0457, 22.9167,-158.0700, 4750,    549.1,   6.4353,  34.1429,2,  34.1450,2,     71.1,1,   -999.0,9,  -999.00,9,  -999.00,9,  -999.00,9,    539,-999.000,  -999.0,  6.3856
     31KA009_1,  PRS2,     2, 15,      1,      1,2,19890825,0457, 22.9167,-158.0700, 4750,   1022.9,   4.0007,  34.4908,2,  34.4920,2,     46.6,1,   -999.0,9,  -999.00,9,  -999.00,9,  -999.00,9,   1012,   4.000,  1022.7,  3.9231
     31KA009_1,  PRS2,     2, 16,      4,      4,2,19890825,0758, 22.9233,-158.0650, 4750,     31.0,  26.1538,  34.6687,2,  34.6700,2,    217.2,1,   -999.0,9,  -999.00,9,  -999.00,9,  -999.00,9,     29,-999.000,  -999.0, 26.1469
     31KA009_1,  PRS2,     2, 16,      3,      3,2,19890825,0758, 22.9233,-158.0650, 4750,    130.5,  21.7111,  35.2786,2,  35.2773,2,    209.0,1,   -999.0,9,  -999.00,9,  -999.00,9,  -999.00,9,    125,-999.000,  -999.0, 21.6856
     31KA009_1,  PRS2,     2, 16,      2,      2,2,19890825,0758, 22.9233,-158.0650, 4750,    533.9,   6.5176,  34.1438,2,  34.1429,2,     74.0,1,   -999.0,9,  -999.00,9,  -999.00,9,  -999.00,9,    525,-999.000,  -999.0,  6.4690
     31KA009_1,  PRS2,     2, 16,      1,      1,2,19890825,0758, 22.9233,-158.0650, 4750,   1027.4,   4.0130,  34.4891,2,  34.4903,2,     45.3,1,   -999.0,9,  -999.00,9,  -999.00,9,  -999.00,9,   1017,   4.014,  1026.3,  3.9350
     31KA009_1,  PRS2,     2, 17,     12,     12,2,19890825,0945, 22.9533,-158.0700, 4750,      4.7,  26.2202,  34.6871,2,-999.0000,9,    225.2,1,   -999.0,9,  -999.00,9,  -999.00,9,  -999.00,9,      5,-999.000,  -999.0, 26.2191
     31KA009_1,  PRS2,     2, 17,     11,     11,2,19890825,0945, 22.9533,-158.0700, 4750,     26.3,  26.1996,  34.6823,2,-999.0000,9,    214.6,1,   -999.0,9,  -999.00,9,  -999.00,9,  -999.00,9,     25,-999.000,  -999.0, 26.1937
     31KA009_1,  PRS2,     2, 17,     10,     10,2,19890825,0945, 22.9533,-158.0700, 4750,     46.2,  25.9617,  34.6872,2,-999.0000,9,    216.8,1,   -999.0,9,  -999.00,9,  -999.00,9,  -999.00,9,     45,-999.000,  -999.0, 25.9514
     31KA009_1,  PRS2,     2, 17,      9,      9,2,19890825,0945, 22.9533,-158.0700, 4750,     77.2,  23.9763,  34.9775,2,-999.0000,9,    225.4,1,   -999.0,9,  -999.00,9,  -999.00,9,  -999.00,9,     76,-999.000,  -999.0, 23.9601
     31KA009_1,  PRS2,     2, 17,      8,      8,2,19890825,0945, 22.9533,-158.0700, 4750,     92.0,  23.4138,  35.1491,2,-999.0000,9,    217.8,1,   -999.0,9,  -999.00,9,  -999.00,9,  -999.00,9,     90,-999.000,  -999.0, 23.3948
     31KA009_1,  PRS2,     2, 17,      7,      7,2,19890825,0945, 22.9533,-158.0700, 4750,    103.0,  23.0098,  35.1876,2,-999.0000,9,    224.6,1,   -999.0,9,  -999.00,9,  -999.00,9,  -999.00,9,    101,-999.000,  -999.0, 22.9888
     31KA009_1,  PRS2,     2, 17,      6,      6,2,19890825,0945, 22.9533,-158.0700, 4750,    112.9,  22.1616,  35.2702,2,-999.0000,9,    224.3,1,   -999.0,9,  -999.00,9,  -999.00,9,  -999.00,9,    110,-999.000,  -999.0, 22.1391
     31KA009_1,  PRS2,     2, 17,      5,      5,2,19890825,0945, 22.9533,-158.0700, 4750,    128.8,  21.6378,  35.3063,2,-999.0000,9,    206.9,1,   -999.0,9,  -999.00,9,  -999.00,9,  -999.00,9,    126,-999.000,  -999.0, 21.6126
     31KA009_1,  PRS2,     2, 17,      4,      4,2,19890825,0945, 22.9533,-158.0700, 4750,    139.9,  21.3363,  35.2926,2,-999.0000,9,    206.3,1,   -999.0,9,  -999.00,9,  -999.00,9,  -999.00,9,    136,-999.000,  -999.0, 21.3092
     31KA009_1,  PRS2,     2, 17,      3,      3,2,19890825,0945, 22.9533,-158.0700, 4750,    154.7,  20.7382,  35.2413,2,-999.0000,9,    201.8,1,   -999.0,9,  -999.00,9,  -999.00,9,  -999.00,9,    150,-999.000,  -999.0, 20.7088
     31KA009_1,  PRS2,     2, 17,      2,      2,2,19890825,0945, 22.9533,-158.0700, 4750,    181.6,  18.9625,  35.0338,2,-999.0000,9,    188.8,1,   -999.0,9,  -999.00,9,  -999.00,9,  -999.00,9,    176,-999.000,  -999.0, 18.9302
     31KA009_1,  PRS2,     2, 17,      1,      1,2,19890825,0945, 22.9533,-158.0700, 4750,    208.6,  17.4900,  34.8928,2,-999.0000,9,    199.3,1,   -999.0,9,  -999.00,9,  -999.00,9,  -999.00,9,    201,-999.000,  -999.0, 17.4549
     31KA009_1,  PRS2,     2, 18,     12,     12,2,19890825,1858, 22.9483,-158.0933, 4750,      6.1,  26.1539,  34.6649,2,  34.6601,2,    230.2,1,   -999.0,9,  -999.00,9,  -999.00,9,  -999.00,9,      5,-999.000,  -999.0, 26.1526
     31KA009_1,  PRS2,     2, 18,     11,     11,2,19890825,1858, 22.9483,-158.0933, 4750,     26.3,  26.1354,  34.6636,2,  34.6607,2,    236.5,1,   -999.0,9,  -999.00,9,  -999.00,9,  -999.00,9,     25,-999.000,  -999.0, 26.1295
     31KA009_1,  PRS2,     2, 18,     10,     10,2,19890825,1858, 22.9483,-158.0933, 4750,     46.9,  26.0444,  34.6718,2,  34.6912,2,    242.6,1,   -999.0,9,  -999.00,9,  -999.00,9,  -999.00,9,     45,-999.000,  -999.0, 26.0339
     31KA009_1,  PRS2,     2, 18,      9,      9,2,19890825,1858, 22.9483,-158.0933, 4750,     77.2,  23.8566,  34.9939,2,  35.0258,2,    221.6,1,   -999.0,9,  -999.00,9,  -999.00,9,  -999.00,9,     75,-999.000,  -999.0, 23.8405
     31KA009_1,  PRS2,     2, 18,      8,      8,2,19890825,1858, 22.9483,-158.0933, 4750,    103.2,  23.0720,  35.2020,2,  35.2109,2,    222.3,1,   -999.0,9,  -999.00,9,  -999.00,9,  -999.00,9,    100,-999.000,  -999.0, 23.0508
     31KA009_1,  PRS2,     2, 18,      7,      7,2,19890825,1858, 22.9483,-158.0933, 4750,    130.1,  22.1136,  35.2802,2,  35.2812,2,    216.4,1,   -999.0,9,  -999.00,9,  -999.00,9,  -999.00,9,    126,-999.000,  -999.0, 22.0877
     31KA009_1,  PRS2,     2, 18,      6,      6,2,19890825,1858, 22.9483,-158.0933, 4750,    156.9,  21.3595,  35.2932,2,  35.2851,2,    207.5,1,   -999.0,9,  -999.00,9,  -999.00,9,  -999.00,9,    151,-999.000,  -999.0, 21.3290
     31KA009_1,  PRS2,     2, 18,      5,      5,2,19890825,1858, 22.9483,-158.0933, 4750,    183.6,  19.7425,  35.1102,2,  35.1125,2,    191.5,1,   -999.0,9,  -999.00,9,  -999.00,9,  -999.00,9,    176,-999.000,  -999.0, 19.7088
     31KA009_1,  PRS2,     2, 18,      4,      4,2,19890825,1858, 22.9483,-158.0933, 4750,    259.9,  14.0949,  34.4165,2,  34.4043,2,    200.3,1,   -999.0,9,  -999.00,9,  -999.00,9,  -999.00,9,    251,-999.000,  -999.0, 14.0573
     31KA009_1,  PRS2,     2, 18,      3,      3,2,19890825,1858, 22.9483,-158.0933, 4750,    510.9,   6.6792,  34.0628,2,  34.0695,2,    105.5,1,   -999.0,9,  -999.00,9,  -999.00,9,  -999.00,9,    500,-999.000,  -999.0,  6.6322
     31KA009_1,  PRS2,     2, 18,      2,      2,2,19890825,1858, 22.9483,-158.0933, 4750,    762.0,   4.7158,  34.3222,2,  34.3233,2,     29.9,1,   -999.0,9,  -999.00,9,  -999.00,9,  -999.00,9,    750,-999.000,  -999.0,  4.6555
     31KA009_1,  PRS2,     2, 18,      1,      1,2,19890825,1858, 22.9483,-158.0933, 4750,   1021.5,   3.9412,  34.4970,2,  35.0229,4,     46.8,1,   -999.0,9,  -999.00,9,  -999.00,9,  -999.00,9,   1011,-999.000,  -999.0,  3.8642
     31KA009_1,  PRS2,     2, 19,      4,      4,2,19890825,2301, 22.9483,-158.0933, 4800,    153.8,  20.7326,  35.2239,2,  35.2268,2,    199.1,1,   -999.0,9,  -999.00,9,  -999.00,9,  -999.00,9,    148,-999.000,  -999.0, 20.7035
     31KA009_1,  PRS2,     2, 19,      3,      3,2,19890825,2301, 22.9483,-158.0933, 4800,    459.3,   7.6418,  34.0844,2,  34.0868,2,    143.6,1,   -999.0,9,  -999.00,9,  -999.00,9,  -999.00,9,    450,-999.000,  -999.0,  7.5964
     31KA009_1,  PRS2,     2, 19,      2,      2,2,19890825,2301, 22.9483,-158.0933, 4800,   1020.5,   3.9080,  34.4968,2,  34.4980,2,     48.5,1,   -999.0,9,  -999.00,9,  -999.00,9,  -999.00,9,   1009,-999.000,  -999.0,  3.8314
     31KA009_1,  PRS2,     2, 20,      8,      8,2,19890826,0156, 22.9800,-158.1267, 4800,     28.4,  26.1869,  34.6663,2,  34.6681,2,    220.4,1,   -999.0,9,  -999.00,5,  -999.00,5,  -999.00,5,     26,-999.000,  -999.0, 26.1806
     31KA009_1,  PRS2,     2, 20,      7,      7,2,19890826,0156, 22.9800,-158.1267, 4800,    149.6,  20.9740,  35.2476,2,  35.2474,2,    209.7,1,   -999.0,9,  -999.00,5,  -999.00,5,  -999.00,5,    145,-999.000,  -999.0, 20.9454
     31KA009_1,  PRS2,     2, 20,      5,      5,2,19890826,0156, 22.9800,-158.1267, 4800,    258.0,  15.5583,  34.6025,2,-999.0000,5,    204.2,1,   -999.0,9,  -999.00,5,  -999.00,5,  -999.00,5,    251,-999.000,  -999.0, 15.5183
     31KA009_1,  PRS2,     2, 20,      4,      4,2,19890826,0156, 22.9800,-158.1267, 4800,    258.0,  15.5088,  34.5934,2,-999.0000,5,    204.1,1,   -999.0,9,     5.50,2,     5.64,2,     0.51,2,    250,-999.000,  -999.0, 15.4689
     31KA009_1,  PRS2,     2, 20,      6,      6,2,19890826,0156, 22.9800,-158.1267, 4800,    258.1,  15.5748,  34.6047,2,-999.0000,5,    204.3,1,   -999.0,9,  -999.00,5,  -999.00,5,  -999.00,5,    252,-999.000,  -999.0, 15.5348
     31KA009_1,  PRS2,     2, 20,      3,      3,2,19890826,0156, 22.9800,-158.1267, 4800,    478.2,   7.2001,  34.0670,2,  34.0708,2,    110.8,1,   -999.0,9,  -999.00,5,  -999.00,5,  -999.00,5,    469,-999.000,  -999.0,  7.1544
     31KA009_1,  PRS2,     2, 20,      2,      2,2,19890826,0156, 22.9800,-158.1267, 4800,    507.1,   6.4869,  34.0440,2,  34.0470,2,    110.9,1,   -999.0,9,  -999.00,5,  -999.00,5,  -999.00,5,    497,-999.000,  -999.0,  6.4411
     31KA009_1,  PRS2,     2, 20,      1,      1,2,19890826,0156, 22.9800,-158.1267, 4800,   1021.5,   3.9657,  34.4853,2,  34.4865,2,     42.4,1,   -999.0,9,  -999.00,5,  -999.00,5,  -999.00,5,   1011,   3.968,  1020.7,  3.8885
     31KA009_1,  PRS2,     2, 21,      5,      5,2,19890826,0458, 22.9917,-158.1283, 4750,     31.5,  26.1543,  34.6646,2,  34.6618,2,    222.4,1,   -999.0,9,  -999.00,9,  -999.00,9,  -999.00,9,     30,-999.000,  -999.0, 26.1472
     31KA009_1,  PRS2,     2, 21,      4,      4,2,19890826,0458, 22.9917,-158.1283, 4750,    104.3,  22.7332,  35.2526,2,-999.0000,5,    224.3,1,   -999.0,9,  -999.00,9,  -999.00,9,  -999.00,9,    101,-999.000,  -999.0, 22.7121
     31KA009_1,  PRS2,     2, 21,      3,      3,2,19890826,0458, 22.9917,-158.1283, 4750,    131.3,  21.6769,  35.3037,2,  35.3043,2,    216.8,1,   -999.0,9,  -999.00,9,  -999.00,9,  -999.00,9,    125,-999.000,  -999.0, 21.6512
     31KA009_1,  PRS2,     2, 21,      2,      2,2,19890826,0458, 22.9917,-158.1283, 4750,    438.4,   7.8232,  34.0512,2,  34.0518,2,    156.3,1,   -999.0,9,  -999.00,9,  -999.00,9,  -999.00,9,    429,-999.000,  -999.0,  7.7793
     31KA009_1,  PRS2,     2, 21,      1,      1,2,19890826,0458, 22.9917,-158.1283, 4750,   1023.7,   3.9823,  34.4859,2,  34.4871,2,     43.3,1,   -999.0,9,  -999.00,9,  -999.00,9,  -999.00,9,   1013,   3.990,  1023.2,  3.9049