BOTTLE,20020809WHPSIObren
#code : jjward hyd_to_exchange.pl 
#original files copied from HTML directory: 20020809
#original HYD file: /whpo/11/HOTS/BOTTLE/hot9/hot9.sea   Fri Aug  9 09:51:38 2002
#original SUM file: /whpo/11/HOTS/BOTTLE/hot9/hot9.sum   Fri Aug  9 13:30:34 2002
EXPOCODE,SECT_ID,STNNBR,CASTNO,SAMPNO,BTLNBR,BTLNBR_FLAG_W,DATE,TIME,LATITUDE,LONGITUDE,DEPTH,CTDPRS,CTDTMP,CTDSAL,CTDSAL_FLAG_W,SALNTY,SALNTY_FLAG_W,CTDOXY,CTDOXY_FLAG_W,OXYGEN,OXYGEN_FLAG_W,SILCAT,SILCAT_FLAG_W,NO2+NO3,NO2+NO3_FLAG_W,PHSPHT,PHSPHT_FLAG_W,CTDRAW,REVTMP,REVPRS,THETA
,,,,,,,,,,,,DBAR,IPTS-68,PSS-78,,PSS-78,,UMOL/KG,,UMOL/KG,,UMOL/KG,,UMOL/KG,,UMOL/KG,,,DEG C,DBAR,IPTS-68
     31KA009_1,  PRS2,     1,  1,     12,     12,2,19890823,0118, 21.2283,-158.4050, 1300,      5.4,  26.7551,  34.7172,2,  34.7133,2,    208.7,2,    208.3,2,     1.81,2,     0.04,2,     0.10,2,      7,  26.875,     2.3, 26.7539
     31KA009_1,  PRS2,     1,  1,     11,     11,2,19890823,0118, 21.2283,-158.4050, 1300,     70.3,  25.7286,  34.6594,2,  34.6690,2,    213.4,2,    214.2,2,     1.44,2,     0.04,2,     0.11,2,     68,-999.000,  -999.0, 25.7131
     31KA009_1,  PRS2,     1,  1,     10,     10,2,19890823,0118, 21.2283,-158.4050, 1300,    117.4,  22.0606,  35.2246,2,  35.2222,2,    211.0,2,    212.7,2,     1.62,2,     0.49,2,     0.13,2,    113,-999.000,  -999.0, 22.0373
     31KA009_1,  PRS2,     1,  1,      9,      9,2,19890823,0118, 21.2283,-158.4050, 1300,    149.9,  20.2110,  35.1401,2,  35.1421,2,    193.5,2,    196.4,2,     2.18,2,     1.96,2,     0.23,2,    145,-999.000,  -999.0, 20.1830
     31KA009_1,  PRS2,     1,  1,      8,      8,2,19890823,0118, 21.2283,-158.4050, 1300,    208.0,  16.2005,  34.6699,2,  34.6663,2,    181.1,2,    179.8,2,     6.43,2,     7.08,2,     0.63,2,    202,-999.000,  -999.0, 16.1674
     31KA009_1,  PRS2,     1,  1,      7,      7,2,19890823,0118, 21.2283,-158.4050, 1300,    266.3,  11.7286,  34.2675,2,  34.6664,4,    172.2,3,    170.9,2,    16.42,2,    14.84,2,     1.18,2,    259,-999.000,  -999.0, 11.6946
     31KA009_1,  PRS2,     1,  1,      6,      6,2,19890823,0118, 21.2283,-158.4050, 1300,    352.1,   8.6916,  34.1261,2,  34.1253,2,    147.2,2,    150.8,2,    32.70,2,    23.00,2,     1.72,2,    344,-999.000,  -999.0,  8.6543
     31KA009_1,  PRS2,     1,  1,      5,      5,2,19890823,0118, 21.2283,-158.4050, 1300,    430.9,   7.1739,  34.1194,2,  34.1151,2,    109.6,2,    107.1,2,    50.28,2,    29.90,2,     2.25,2,    423,-999.000,  -999.0,  7.1329
     31KA009_1,  PRS2,     1,  1,      4,      4,2,19890823,0118, 21.2283,-158.4050, 1300,    539.4,   6.2279,  34.2452,2,  34.2455,2,     52.7,2,     51.1,2,    68.96,2,    36.47,2,     2.76,2,    531,-999.000,  -999.0,  6.1799
     31KA009_1,  PRS2,     1,  1,      3,      3,2,19890823,0118, 21.2283,-158.4050, 1300,    633.0,   5.6640,  34.3203,2,  34.3215,2,     36.1,2,     35.9,2,    79.31,2,    39.12,2,     2.95,2,    623,-999.000,  -999.0,  5.6099
     31KA009_1,  PRS2,     1,  1,      2,      2,2,19890823,0118, 21.2283,-158.4050, 1300,    727.4,   5.0350,  34.4145,2,  34.4147,2,     33.3,2,     35.2,2,    91.32,2,    40.81,2,     3.03,2,    717,   5.032,   727.2,  4.9757
     31KA009_1,  PRS2,     1,  1,      1,      1,2,19890823,0118, 21.2283,-158.4050, 1300,   1026.1,   3.9820,  34.5158,2,  34.5170,2,     46.3,2,     47.7,2,   111.30,2,    41.55,2,     3.06,2,   1015,-999.000,  -999.0,  3.9043
     31KA009_1,  PRS2,     2,  1,     12,     12,2,19890823,1733, 22.7617,-157.9400, 4800,     10.1,  26.1213,  34.6624,2,  34.6608,2,    199.0,1,   -999.0,9,  -999.00,9,  -999.00,9,  -999.00,9,     10,-999.000,  -999.0, 26.1191
     31KA009_1,  PRS2,     2,  1,     11,     11,2,19890823,1733, 22.7617,-157.9400, 4800,     26.0,  26.1225,  34.6608,2,-999.0000,5,    198.4,1,   -999.0,9,  -999.00,9,  -999.00,9,  -999.00,9,     25,-999.000,  -999.0, 26.1166
     31KA009_1,  PRS2,     2,  1,     10,     10,2,19890823,1733, 22.7617,-157.9400, 4800,     46.7,  26.1213,  34.6611,2,-999.0000,5,    197.9,1,   -999.0,9,  -999.00,9,  -999.00,9,  -999.00,9,     45,-999.000,  -999.0, 26.1109
     31KA009_1,  PRS2,     2,  1,      9,      9,2,19890823,1733, 22.7617,-157.9400, 4800,     77.6,  24.9257,  34.7832,2,-999.0000,5,    215.6,1,   -999.0,9,  -999.00,9,  -999.00,9,  -999.00,9,     76,-999.000,  -999.0, 24.9089
     31KA009_1,  PRS2,     2,  1,      8,      8,2,19890823,1733, 22.7617,-157.9400, 4800,    104.6,  23.6597,  35.0805,2,-999.0000,5,    215.4,1,   -999.0,9,  -999.00,9,  -999.00,9,  -999.00,9,    102,-999.000,  -999.0, 23.6379
     31KA009_1,  PRS2,     2,  1,      7,      7,2,19890823,1733, 22.7617,-157.9400, 4800,    129.2,  22.4311,  35.2793,2,-999.0000,5,    217.4,1,   -999.0,9,  -999.00,9,  -999.00,9,  -999.00,9,    125,-999.000,  -999.0, 22.4052
     31KA009_1,  PRS2,     2,  1,      6,      6,2,19890823,1733, 22.7617,-157.9400, 4800,    154.3,  21.3928,  35.3097,2,  35.3090,2,    205.3,1,   -999.0,9,  -999.00,9,  -999.00,9,  -999.00,9,    149,-999.000,  -999.0, 21.3629
     31KA009_1,  PRS2,     2,  1,      5,      5,2,19890823,1733, 22.7617,-157.9400, 4800,    181.3,  20.5944,  35.2091,2,-999.0000,5,    196.4,1,   -999.0,9,  -999.00,9,  -999.00,9,  -999.00,9,    175,-999.000,  -999.0, 20.5601
     31KA009_1,  PRS2,     2,  1,      4,      4,2,19890823,1733, 22.7617,-157.9400, 4800,    258.5,  14.9422,  34.5205,2,-999.0000,5,    196.5,1,   -999.0,9,  -999.00,9,  -999.00,9,  -999.00,9,    251,-999.000,  -999.0, 14.9032
     31KA009_1,  PRS2,     2,  1,      3,      3,2,19890823,1733, 22.7617,-157.9400, 4800,    509.9,   7.2520,  34.1835,2,-999.0000,5,     78.4,1,   -999.0,9,  -999.00,9,  -999.00,9,  -999.00,9,    500,-999.000,  -999.0,  7.2029
     31KA009_1,  PRS2,     2,  1,      2,      2,2,19890823,1733, 22.7617,-157.9400, 4800,    761.7,   4.8172,  34.3432,2,-999.0000,5,     33.3,1,   -999.0,9,  -999.00,9,  -999.00,9,  -999.00,9,    750,-999.000,  -999.0,  4.7563
     31KA009_1,  PRS2,     2,  1,      1,      1,2,19890823,1733, 22.7617,-157.9400, 4800,   1026.9,   4.0033,  34.4952,2,  34.4964,2,     46.2,1,   -999.0,9,  -999.00,9,  -999.00,9,  -999.00,9,   1016,-999.000,  -999.0,  3.9253
     31KA009_1,  PRS2,     2,  2,     12,     12,2,19890823,1942, 22.7900,-157.9567, 4800,    779.3,   4.7353,  34.3769,2,  34.3783,2,     33.7,2,     32.4,2,    95.96,2,    41.13,2,     3.05,2,    778,-999.000,  -999.0,  4.6733
     31KA009_1,  PRS2,     2,  2,     11,     11,2,19890823,1942, 22.7900,-157.9567, 4800,    911.2,   4.2523,  34.4545,2,  34.4544,2,     40.7,2,     42.0,2,   106.12,2,    41.34,2,     3.05,2,    909,-999.000,  -999.0,  4.1823
     31KA009_1,  PRS2,     2,  2,     10,     10,2,19890823,1942, 22.7900,-157.9567, 4800,   1053.8,   3.8866,  34.5036,2,  34.5042,2,     49.6,2,     48.5,2,   113.14,2,    41.34,2,     3.05,2,   1052,-999.000,  -999.0,  3.8073
     31KA009_1,  PRS2,     2,  2,      9,      9,2,19890823,1942, 22.7900,-157.9567, 4800,   1198.1,   3.4732,  34.5336,2,  34.5341,2,     55.8,2,     55.8,2,   120.91,2,    41.24,2,     3.02,2,   1197,-999.000,  -999.0,  3.3856
     31KA009_1,  PRS2,     2,  2,      8,      8,2,19890823,1942, 22.7900,-157.9567, 4800,   1352.3,   3.0854,  34.5604,2,  34.5599,2,     63.3,2,     62.7,2,   130.16,2,    41.02,2,     2.99,2,   1351,-999.000,  -999.0,  2.9888
     31KA009_1,  PRS2,     2,  2,      7,      7,2,19890823,1942, 22.7900,-157.9567, 4800,   1499.7,   2.8692,  34.5732,2,  34.5734,2,     67.7,2,     68.6,2,   134.78,2,    40.70,2,     2.98,2,   1498,-999.000,  -999.0,  2.7629
     31KA009_1,  PRS2,     2,  2,      6,      6,2,19890823,1942, 22.7900,-157.9567, 4800,   1649.7,   2.6502,  34.5866,2,  34.5873,2,     73.8,2,     74.9,2,   139.40,2,    40.49,2,     2.94,2,   1648,-999.000,  -999.0,  2.5341
     31KA009_1,  PRS2,     2,  2,      5,      5,2,19890823,1942, 22.7900,-157.9567, 4800,   1802.7,   2.4439,  34.5997,2,  34.5963,2,     79.6,2,     80.5,2,   143.10,2,    40.28,2,     2.91,2,   1801,-999.000,  -999.0,  2.3177
     31KA009_1,  PRS2,     2,  2,      4,      4,2,19890823,1942, 22.7900,-157.9567, 4800,   1952.6,   2.2284,  34.6144,2,  34.6146,2,     88.4,2,     88.7,2,   147.72,2,    39.75,2,     2.87,2,   1950,-999.000,  -999.0,  2.0926
     31KA009_1,  PRS2,     2,  2,      3,      3,2,19890823,1942, 22.7900,-157.9567, 4800,   2100.3,   2.0566,  34.6265,2,  34.6269,2,     94.8,2,     95.8,2,   150.49,2,    39.43,2,     2.82,2,   2098,-999.000,  -999.0,  1.9108
     31KA009_1,  PRS2,     2,  2,      2,      2,2,19890823,1942, 22.7900,-157.9567, 4800,   2303.7,   1.8963,  34.6390,2,-999.0000,5,    103.8,2,   -999.0,5,  -999.00,5,  -999.00,5,  -999.00,5,   2300,-999.000,  -999.0,  1.7354
     31KA009_1,  PRS2,     2,  2,      1,      1,2,19890823,1942, 22.7900,-157.9567, 4800,   2508.2,   1.7777,  34.6479,2,  34.6492,2,    109.3,2,    107.7,2,   158.44,2,    38.79,2,     2.77,2,   2503,   1.762,  2509.2,  1.6008
     31KA009_1,  PRS2,     2,  3,     12,     12,2,19890823,2258, 22.7933,-157.9517, 4800,      4.5,  26.3100,  34.6689,2,-999.0000,5,    204.2,2,   -999.0,5,  -999.00,5,  -999.00,5,  -999.00,5,      4,-999.000,  -999.0, 26.3090
     31KA009_1,  PRS2,     2,  3,     11,     11,2,19890823,2258, 22.7933,-157.9517, 4800,     59.9,  25.4491,  34.7232,2,  34.7158,2,    214.5,2,    214.2,2,     0.14,2,     0.02,2,     0.11,2,     58,-999.000,  -999.0, 25.4360
     31KA009_1,  PRS2,     2,  3,     10,     10,2,19890823,2258, 22.7933,-157.9517, 4800,     91.6,  23.3925,  35.1139,2,  35.1126,2,    215.7,2,    216.5,2,    -0.05,2,     0.04,2,     0.07,2,     88,-999.000,  -999.0, 23.3736
     31KA009_1,  PRS2,     2,  3,      9,      9,2,19890823,2258, 22.7933,-157.9517, 4800,    139.3,  21.2055,  35.2855,2,  35.2872,2,    204.5,2,    205.2,2,     0.32,2,     0.63,2,     0.13,2,    135,-999.000,  -999.0, 21.1786
     31KA009_1,  PRS2,     2,  3,      8,      8,2,19890823,2258, 22.7933,-157.9517, 4800,    191.7,  18.4659,  34.9657,2,  34.9623,2,    186.1,2,    188.2,2,     1.81,2,     3.62,2,     0.34,2,    186,-999.000,  -999.0, 18.4324
     31KA009_1,  PRS2,     2,  3,      7,      7,2,19890823,2258, 22.7933,-157.9517, 4800,    227.3,  16.6256,  34.7415,2,  34.7388,2,    193.5,2,    196.1,2,     2.73,2,     4.43,2,     0.41,2,    221,-999.000,  -999.0, 16.5887
     31KA009_1,  PRS2,     2,  3,      6,      6,2,19890823,2258, 22.7933,-157.9517, 4800,    299.8,  12.2979,  34.2364,2,  34.6673,4,    192.9,3,    195.0,2,     9.39,2,    10.82,2,     0.87,2,    292,-999.000,  -999.0, 12.2583
     31KA009_1,  PRS2,     2,  3,      5,      5,2,19890823,2258, 22.7933,-157.9517, 4800,    357.1,  10.1362,  34.1284,2,  34.1262,2,    189.9,2,    188.8,2,    17.90,2,    16.39,2,     1.25,2,    349,-999.000,  -999.0, 10.0945
     31KA009_1,  PRS2,     2,  3,      4,      4,2,19890823,2258, 22.7933,-157.9517, 4800,    483.7,   7.0663,  34.0484,2,  34.0467,2,    122.8,2,    125.3,2,    46.02,2,    28.42,2,     2.08,2,    475,-999.000,  -999.0,  7.0205
     31KA009_1,  PRS2,     2,  3,      3,      3,2,19890823,2258, 22.7933,-157.9517, 4800,    523.7,   7.0248,  34.1780,2,  34.1742,2,     69.8,2,     69.2,2,    53.69,2,    33.02,2,     2.52,2,    514,-999.000,  -999.0,  6.9752
     31KA009_1,  PRS2,     2,  3,      2,      2,2,19890823,2258, 22.7933,-157.9517, 4800,    563.4,   6.2438,  34.1570,2,  34.1537,2,     66.5,2,     60.7,2,    64.15,2,    35.52,2,     2.66,2,    554,-999.000,  -999.0,  6.1935
     31KA009_1,  PRS2,     2,  3,      1,      1,2,19890823,2258, 22.7933,-157.9517, 4800,    678.3,   5.2800,  34.2664,2,  34.2599,2,     36.2,2,     34.0,2,    84.49,2,    39.76,2,     2.95,2,    668,   5.264,   685.0,  5.2239
     31KA009_1,  PRS2,     2,  4,     12,     12,2,19890824,0204, 22.8100,-157.9800, 4800,    203.8,  16.9964,  34.8029,2,-999.0000,5,    197.1,2,    195.7,2,     3.90,2,     3.91,2,     0.38,2,    200,-999.000,  -999.0, 16.9628
     31KA009_1,  PRS2,     2,  4,     11,     11,2,19890824,0204, 22.8100,-157.9800, 4800,    230.9,  15.7983,  34.6354,2,-999.0000,5,    196.0,2,    195.9,2,     4.58,2,     5.05,2,     0.46,2,    227,-999.000,  -999.0, 15.7621
     31KA009_1,  PRS2,     2,  4,     10,     10,2,19890824,0204, 22.8100,-157.9800, 4800,    255.6,  14.0715,  34.4311,2,-999.0000,5,    196.6,2,    197.1,2,     6.80,2,     7.38,2,     0.64,2,    251,-999.000,  -999.0, 14.0345
     31KA009_1,  PRS2,     2,  4,      9,      9,2,19890824,0204, 22.8100,-157.9800, 4800,    305.4,  11.8087,  34.2061,2,-999.0000,5,    195.4,2,    195.1,2,    11.79,2,    11.83,2,     0.94,2,    300,-999.000,  -999.0, 11.7695
     31KA009_1,  PRS2,     2,  4,      8,      8,2,19890824,0204, 22.8100,-157.9800, 4800,    355.5,   9.8859,  34.1296,2,-999.0000,5,    192.1,2,    195.2,2,    20.68,2,    16.52,2,     1.24,2,    350,-999.000,  -999.0,  9.8450
     31KA009_1,  PRS2,     2,  4,      7,      7,2,19890824,0204, 22.8100,-157.9800, 4800,    408.1,   8.5074,  34.0796,2,  34.0726,2,    172.4,2,    172.6,2,    30.30,2,    21.37,2,     1.59,2,    402,-999.000,  -999.0,  8.4646
     31KA009_1,  PRS2,     2,  4,      6,      6,2,19890824,0204, 22.8100,-157.9800, 4800,    508.4,   7.5463,  34.2281,2,-999.0000,5,     66.1,2,     66.7,4,    50.28,3,    31.81,3,     2.47,3,    502,-999.000,  -999.0,  7.4961
     31KA009_1,  PRS2,     2,  4,      5,      5,2,19890824,0204, 22.8100,-157.9800, 4800,    612.9,   5.7766,  34.2046,2,-999.0000,5,     47.1,2,     46.3,2,    74.70,2,    37.64,2,     2.81,2,    605,-999.000,  -999.0,  5.7239
     31KA009_1,  PRS2,     2,  4,      4,      4,2,19890824,0204, 22.8100,-157.9800, 4800,    709.8,   5.0375,  34.3072,2,-999.0000,5,     32.4,2,     31.7,2,    90.41,2,    40.39,2,     2.99,2,    701,-999.000,  -999.0,  4.9798
     31KA009_1,  PRS2,     2,  4,      3,      3,2,19890824,0204, 22.8100,-157.9800, 4800,    814.6,   4.5883,  34.4208,2,-999.0000,5,     34.9,2,     34.7,2,   100.95,2,    41.27,2,     3.05,2,    805,-999.000,  -999.0,  4.5242
     31KA009_1,  PRS2,     2,  4,      2,      2,2,19890824,0204, 22.8100,-157.9800, 4800,    919.3,   4.1953,  34.4774,2,-999.0000,5,     42.5,2,     41.9,2,   107.97,2,    41.44,2,     3.05,2,    909,-999.000,  -999.0,  4.1250
     31KA009_1,  PRS2,     2,  4,      1,      1,2,19890824,0204, 22.8100,-157.9800, 4800,   1022.2,   3.9126,  34.5072,2,  34.5084,2,     46.1,2,     47.1,2,   113.52,2,    41.44,2,     3.05,2,   1012,   3.912,  1023.9,  3.8357
     31KA009_1,  PRS2,     2,  5,     12,     12,2,19890824,0459, 22.8200,-157.9900, 4800,      4.8,  26.2610,  34.6793,2,-999.0000,5,    216.0,2,    208.8,2,     2.24,2,     0.01,2,     0.11,2,      5,-999.000,  -999.0, 26.2599
     31KA009_1,  PRS2,     2,  5,     11,     11,2,19890824,0459, 22.8200,-157.9900, 4800,     25.8,  26.1401,  34.6738,2,-999.0000,5,    217.2,2,    208.5,2,     1.25,2,     0.02,2,     0.11,2,     26,-999.000,  -999.0, 26.1344
     31KA009_1,  PRS2,     2,  5,     10,     10,2,19890824,0459, 22.8200,-157.9900, 4800,     45.8,  26.0200,  34.6798,2,-999.0000,5,    214.1,2,    209.9,2,     1.62,2,     0.02,2,     0.11,2,     45,-999.000,  -999.0, 26.0098
     31KA009_1,  PRS2,     2,  5,      9,      9,2,19890824,0459, 22.8200,-157.9900, 4800,     61.6,  25.0756,  34.7974,2,-999.0000,5,    223.0,2,    215.2,2,     1.25,2,     0.02,2,     0.10,2,     61,-999.000,  -999.0, 25.0622
     31KA009_1,  PRS2,     2,  5,      8,      8,2,19890824,0459, 22.8200,-157.9900, 4800,     76.1,  23.8861,  34.9985,2,-999.0000,5,    216.7,2,    216.2,2,     1.25,2,     0.02,2,     0.08,2,     75,-999.000,  -999.0, 23.8702
     31KA009_1,  PRS2,     2,  5,      7,      7,2,19890824,0459, 22.8200,-157.9900, 4800,     87.3,  23.3785,  35.1276,2,-999.0000,5,    221.3,2,    216.7,2,     0.88,2,     0.00,2,     0.07,2,     86,-999.000,  -999.0, 23.3605
     31KA009_1,  PRS2,     2,  5,      6,      6,2,19890824,0459, 22.8200,-157.9900, 4800,     97.4,  23.0802,  35.1818,2,-999.0000,5,    219.0,2,    216.4,2,     1.06,2,     0.01,2,     0.06,2,     96,-999.000,  -999.0, 23.0602
     31KA009_1,  PRS2,     2,  5,      5,      5,2,19890824,0459, 22.8200,-157.9900, 4800,    109.0,  22.8429,  35.2286,2,-999.0000,5,    218.9,2,    216.8,2,     1.25,2,     0.02,2,     0.06,2,    106,-999.000,  -999.0, 22.8207
     31KA009_1,  PRS2,     2,  5,      4,      4,2,19890824,0459, 22.8200,-157.9900, 4800,    118.0,  22.4879,  35.2671,2,-999.0000,5,    220.7,2,    215.6,2,     1.25,2,     0.04,2,     0.06,2,    115,-999.000,  -999.0, 22.4642
     31KA009_1,  PRS2,     2,  5,      3,      3,2,19890824,0459, 22.8200,-157.9900, 4800,    130.5,  21.9993,  35.2860,2,  35.2819,2,    213.9,2,    211.7,2,     1.06,2,     0.13,2,     0.07,2,    127,-999.000,  -999.0, 21.9735
     31KA009_1,  PRS2,     2,  5,      2,      2,2,19890824,0459, 22.8200,-157.9900, 4800,    157.0,  20.9781,  35.2643,2,-999.0000,5,    205.1,2,    201.5,2,     1.71,2,     0.91,2,     0.14,2,    152,-999.000,  -999.0, 20.9480
     31KA009_1,  PRS2,     2,  5,      1,      1,2,19890824,0459, 22.8200,-157.9900, 4800,    181.8,  19.1463,  35.0566,2,-999.0000,5,    191.4,2,    190.1,2,     2.35,2,     2.75,2,     0.27,2,    175,-999.000,  -999.0, 19.1137
     31KA009_1,  PRS2,     2,  6,     12,     12,2,19890824,0757, 22.8300,-157.9900, 4750,      4.8,  26.2161,  34.6804,2,  34.6886,2,    225.1,1,   -999.0,9,  -999.00,9,  -999.00,9,  -999.00,9,      6,-999.000,  -999.0, 26.2150
     31KA009_1,  PRS2,     2,  6,     11,     11,2,19890824,0757, 22.8300,-157.9900, 4750,      4.8,  26.2150,  34.6801,2,  34.6740,2,    224.6,1,   -999.0,9,  -999.00,9,  -999.00,9,  -999.00,9,      5,-999.000,  -999.0, 26.2139
     31KA009_1,  PRS2,     2,  6,     10,     10,2,19890824,0757, 22.8300,-157.9900, 4750,     25.7,  26.1965,  34.6769,2,-999.0000,5,    217.0,1,   -999.0,9,  -999.00,9,  -999.00,9,  -999.00,9,     25,-999.000,  -999.0, 26.1908
     31KA009_1,  PRS2,     2,  6,      9,      9,2,19890824,0757, 22.8300,-157.9900, 4750,     25.7,  26.2061,  34.6739,2,  34.6706,2,    216.9,1,   -999.0,9,  -999.00,9,  -999.00,9,  -999.00,9,     25,-999.000,  -999.0, 26.2003
     31KA009_1,  PRS2,     2,  6,      8,      8,2,19890824,0757, 22.8300,-157.9900, 4750,     46.7,  26.1328,  34.6720,2,-999.0000,5,    217.3,1,   -999.0,9,  -999.00,9,  -999.00,9,  -999.00,9,     45,-999.000,  -999.0, 26.1224
     31KA009_1,  PRS2,     2,  6,      7,      7,2,19890824,0757, 22.8300,-157.9900, 4750,     77.4,  25.0420,  34.7997,2,-999.0000,5,    224.0,1,   -999.0,9,  -999.00,9,  -999.00,9,  -999.00,9,     76,-999.000,  -999.0, 25.0252
     31KA009_1,  PRS2,     2,  6,      6,      6,2,19890824,0757, 22.8300,-157.9900, 4750,    103.1,  23.0426,  35.1901,2,-999.0000,5,    220.2,1,   -999.0,9,  -999.00,9,  -999.00,9,  -999.00,9,    101,-999.000,  -999.0, 23.0216
     31KA009_1,  PRS2,     2,  6,      5,      5,2,19890824,0757, 22.8300,-157.9900, 4750,    128.1,  22.3440,  35.2712,2,-999.0000,5,    217.3,1,   -999.0,9,  -999.00,9,  -999.00,9,  -999.00,9,    125,-999.000,  -999.0, 22.3184
     31KA009_1,  PRS2,     2,  6,      4,      4,2,19890824,0757, 22.8300,-157.9900, 4750,    155.8,  21.5677,  35.2936,2,-999.0000,5,    207.5,1,   -999.0,9,  -999.00,9,  -999.00,9,  -999.00,9,    152,-999.000,  -999.0, 21.5373
     31KA009_1,  PRS2,     2,  6,      3,      3,2,19890824,0757, 22.8300,-157.9900, 4750,    179.7,  19.8609,  35.1290,2,-999.0000,5,    191.5,1,   -999.0,9,  -999.00,9,  -999.00,9,  -999.00,9,    174,-999.000,  -999.0, 19.8278
     31KA009_1,  PRS2,     2,  6,      2,      2,2,19890824,0757, 22.8300,-157.9900, 4750,    207.7,  18.0323,  34.9290,2,-999.0000,5,    193.8,1,   -999.0,9,  -999.00,9,  -999.00,9,  -999.00,9,    201,-999.000,  -999.0, 17.9966
     31KA009_1,  PRS2,     2,  6,      1,      1,2,19890824,0757, 22.8300,-157.9900, 4750,    269.1,  14.1335,  34.4309,2,-999.0000,5,    202.1,1,   -999.0,9,  -999.00,9,  -999.00,9,  -999.00,9,    261,-999.000,  -999.0, 14.0945