BOTTLE,20061016WHPSIODBK
#code : jjward hyd_to_exchange.pl 
#original files copied from HTML directory: 20061014
#original HYD file: pr16_2005bhy.txt   Fri Oct 13 14:06:08 2006
#original SUM file: pr16_2005bsu.txt   Fri Oct 13 14:06:09 2006
EXPOCODE,SECT_ID,STNNBR,CASTNO,SAMPNO,BTLNBR,BTLNBR_FLAG_W,DATE,TIME,LATITUDE,LONGITUDE,DEPTH,CTDPRS,CTDTMP,CTDSAL,CTDSAL_FLAG_W,SALNTY,SALNTY_FLAG_W,CTDOXY,CTDOXY_FLAG_W,THETA,OXYGEN,OXYGEN_FLAG_W
,,,,,,,,,,,,DBAR,ITS-90,PSS-78,,PSS-78,,UMOL/KG,,DEG C,UMOL/KG,
  33RB20051026,  PR16,    20,  1,     12,     12,2,20051114,1653,  2.0633,-110.0483, 3732,      1.9,  21.8593,  34.7906,2,  34.7908,2,   -999.0,9, 21.8589,   -999.0,9
  33RB20051026,  PR16,    20,  1,     11,     11,2,20051114,1653,  2.0633,-110.0483, 3732,     10.8,  21.7639,  34.7894,2,  34.7896,2,   -999.0,9, 21.7618,   -999.0,9
  33RB20051026,  PR16,    20,  1,     10,     10,2,20051114,1653,  2.0633,-110.0483, 3732,     26.2,  21.6831,  34.7855,2,  34.7858,2,   -999.0,9, 21.6780,   -999.0,9
  33RB20051026,  PR16,    20,  1,      7,      7,2,20051114,1653,  2.0633,-110.0483, 3732,    100.3,  18.0492,  34.8026,2,  34.8084,2,   -999.0,9, 18.0320,   -999.0,9
  33RB20051026,  PR16,    20,  1,      6,      6,2,20051114,1653,  2.0633,-110.0483, 3732,    150.6,  13.9745,  34.9663,2,  34.9657,2,   -999.0,9, 13.9528,   -999.0,9
  33RB20051026,  PR16,    20,  1,      4,      4,2,20051114,1653,  2.0633,-110.0483, 3732,    400.4,   9.0451,  34.6647,2,  34.6654,2,   -999.0,9,  9.0012,   -999.0,9
  33RB20051026,  PR16,    20,  1,      3,      3,2,20051114,1653,  2.0633,-110.0483, 3732,    601.3,   7.0549,  34.5874,2,  34.5874,2,   -999.0,9,  6.9971,   -999.0,9
  33RB20051026,  PR16,    20,  1,      1,      1,2,20051114,1653,  2.0633,-110.0483, 3732,   1000.9,   4.7136,  34.5521,2,  34.5534,2,   -999.0,9,  4.6323,   -999.0,9
  33RB20051026,  PR16,    22,  1,     12,     12,2,20051115,0241,  1.0033,-110.0050, 3817,      2.1,  21.9942,  34.8265,2,  34.8261,2,   -999.0,9, 21.9938,   -999.0,9
  33RB20051026,  PR16,    22,  1,     11,     11,2,20051115,0241,  1.0033,-110.0050, 3817,     10.8,  21.9946,  34.8258,2,  34.8343,2,   -999.0,9, 21.9925,   -999.0,9
  33RB20051026,  PR16,    22,  1,     10,     10,2,20051115,0241,  1.0033,-110.0050, 3817,     26.2,  21.7574,  34.8421,2,  34.8583,2,   -999.0,9, 21.7522,   -999.0,9
  33RB20051026,  PR16,    22,  1,      7,      7,2,20051115,0241,  1.0033,-110.0050, 3817,    101.7,  15.6732,  34.9103,2,  34.9090,2,   -999.0,9, 15.6574,   -999.0,9
  33RB20051026,  PR16,    22,  1,      6,      6,2,20051115,0241,  1.0033,-110.0050, 3817,    150.9,  13.6605,  34.9510,2,  34.9490,2,   -999.0,9, 13.6391,   -999.0,9
  33RB20051026,  PR16,    22,  1,      4,      4,2,20051115,0241,  1.0033,-110.0050, 3817,    401.4,   9.4325,  34.7002,2,  34.6993,2,   -999.0,9,  9.3873,   -999.0,9
  33RB20051026,  PR16,    22,  1,      3,      3,2,20051115,0241,  1.0033,-110.0050, 3817,    600.4,   6.7038,  34.5757,2,  34.5772,2,   -999.0,9,  6.6476,   -999.0,9
  33RB20051026,  PR16,    22,  1,      1,      1,2,20051115,0241,  1.0033,-110.0050, 3817,   1001.2,   4.6692,  34.5549,2,  34.5552,2,   -999.0,9,  4.5882,   -999.0,9
  33RB20051026,  PR16,    24,  1,     12,     12,2,20051115,1217,  0.0017,-109.9683, 3822,      5.6,  22.0276,  34.8535,2,  34.8524,2,   -999.0,9, 22.0265,   -999.0,9
  33RB20051026,  PR16,    24,  1,     11,     11,2,20051115,1217,  0.0017,-109.9683, 3822,     10.7,  22.0067,  34.8560,2,  34.8631,2,   -999.0,9, 22.0046,   -999.0,9
  33RB20051026,  PR16,    24,  1,     10,     10,2,20051115,1217,  0.0017,-109.9683, 3822,     25.6,  21.6119,  34.9140,2,  34.9139,2,   -999.0,9, 21.6069,   -999.0,9
  33RB20051026,  PR16,    24,  1,      7,      7,2,20051115,1217,  0.0017,-109.9683, 3822,     99.2,  15.2324,  35.0912,2,  35.0987,2,   -999.0,9, 15.2173,   -999.0,9
  33RB20051026,  PR16,    24,  1,      6,      6,2,20051115,1217,  0.0017,-109.9683, 3822,    150.3,  13.8760,  34.9533,2,  34.9553,2,   -999.0,9, 13.8544,   -999.0,9
  33RB20051026,  PR16,    24,  1,      3,      3,2,20051115,1217,  0.0017,-109.9683, 3822,   1999.6,   2.3057,  34.6432,2,  34.6431,2,   -999.0,9,  2.1646,   -999.0,9
  33RB20051026,  PR16,    24,  1,      1,      1,2,20051115,1217,  0.0017,-109.9683, 3822,   2999.5,   1.6972,  34.6741,2,  34.6924,2,   -999.0,9,  1.4761,   -999.0,9
  33RB20051026,  PR16,    25,  1,     12,     12,2,20051116,1015, -1.0017,-110.0000, 3977,      2.9,  22.4711,  34.8126,2,  34.8121,2,   -999.0,9, 22.4705,   -999.0,9
  33RB20051026,  PR16,    25,  1,     11,     11,2,20051116,1015, -1.0017,-110.0000, 3977,     10.3,  22.4798,  34.8119,2,  34.8120,2,   -999.0,9, 22.4777,   -999.0,9
  33RB20051026,  PR16,    25,  1,     10,     10,2,20051116,1015, -1.0017,-110.0000, 3977,     25.3,  22.3813,  34.8164,2,  34.8184,2,   -999.0,9, 22.3763,   -999.0,9
  33RB20051026,  PR16,    25,  1,      7,      7,2,20051116,1015, -1.0017,-110.0000, 3977,    102.0,  14.3463,  35.0516,2,  35.0673,2,   -999.0,9, 14.3313,   -999.0,9
  33RB20051026,  PR16,    25,  1,      6,      6,2,20051116,1015, -1.0017,-110.0000, 3977,    150.1,  13.6125,  34.9964,2,  34.9929,2,   -999.0,9, 13.5913,   -999.0,9
  33RB20051026,  PR16,    25,  1,      2,      2,2,20051116,1015, -1.0017,-110.0000, 3977,    801.1,   5.5604,  34.5508,2,  34.5515,2,   -999.0,9,  5.4913,   -999.0,9
  33RB20051026,  PR16,    25,  1,      1,      1,2,20051116,1015, -1.0017,-110.0000, 3977,   1000.8,   4.6883,  34.5514,2,  34.5526,2,   -999.0,9,  4.6072,   -999.0,9
  33RB20051026,  PR16,    26,  1,     12,     12,2,20051117,0038, -1.9767,-109.9967, 3906,      3.1,  22.9036,  34.6544,2,  34.6593,2,   -999.0,9, 22.9030,   -999.0,9
  33RB20051026,  PR16,    26,  1,     11,     11,2,20051117,0038, -1.9767,-109.9967, 3906,     11.2,  22.8909,  34.6524,2,  34.6646,2,   -999.0,9, 22.8886,   -999.0,9
  33RB20051026,  PR16,    26,  1,     10,     10,2,20051117,0038, -1.9767,-109.9967, 3906,     25.3,  22.8305,  34.6485,2,  34.6577,2,   -999.0,9, 22.8254,   -999.0,9
  33RB20051026,  PR16,    26,  1,      7,      7,2,20051117,0038, -1.9767,-109.9967, 3906,     99.7,  14.3097,  35.0238,2,  35.0225,2,   -999.0,9, 14.2951,   -999.0,9
  33RB20051026,  PR16,    26,  1,      6,      6,2,20051117,0038, -1.9767,-109.9967, 3906,    149.7,  13.3968,  34.9599,2,  34.9582,2,   -999.0,9, 13.3758,   -999.0,9
  33RB20051026,  PR16,    26,  1,      3,      3,2,20051117,0038, -1.9767,-109.9967, 3906,    600.0,   6.6704,  34.5742,2,  34.5799,2,   -999.0,9,  6.6144,   -999.0,9
  33RB20051026,  PR16,    26,  1,      1,      1,2,20051117,0038, -1.9767,-109.9967, 3906,   1000.0,   4.4345,  34.5545,2,  34.5558,2,   -999.0,9,  4.3554,   -999.0,9
  33RB20051026,  PR16,    27,  1,     12,     12,2,20051117,0731, -3.0000,-110.0017, 3771,      2.3,  23.4930,  34.8222,2,  34.8216,2,   -999.0,9, 23.4925,   -999.0,9
  33RB20051026,  PR16,    27,  1,     11,     11,2,20051117,0731, -3.0000,-110.0017, 3771,     10.8,  23.4895,  34.8188,2,  34.8406,2,   -999.0,9, 23.4872,   -999.0,9
  33RB20051026,  PR16,    27,  1,     10,     10,2,20051117,0731, -3.0000,-110.0017, 3771,     25.1,  23.5202,  34.8635,2,  34.8644,2,   -999.0,9, 23.5150,   -999.0,9
  33RB20051026,  PR16,    27,  1,      7,      7,2,20051117,0731, -3.0000,-110.0017, 3771,     99.0,  14.5102,  35.0377,2,  35.0368,2,   -999.0,9, 14.4956,   -999.0,9
  33RB20051026,  PR16,    27,  1,      6,      6,2,20051117,0731, -3.0000,-110.0017, 3771,    151.6,  13.7771,  34.9896,2,  34.9932,2,   -999.0,9, 13.7555,   -999.0,9
  33RB20051026,  PR16,    27,  1,      3,      3,2,20051117,0731, -3.0000,-110.0017, 3771,    600.6,   6.8061,  34.5828,2,  34.5841,2,   -999.0,9,  6.7494,   -999.0,9
  33RB20051026,  PR16,    27,  1,      2,      2,2,20051117,0731, -3.0000,-110.0017, 3771,    799.9,   5.5006,  34.5553,2,  34.5555,2,   -999.0,9,  5.4320,   -999.0,9
  33RB20051026,  PR16,    27,  1,      1,      1,2,20051117,0731, -3.0000,-110.0017, 3771,   1002.5,   4.4343,  34.5534,2,  34.5566,2,   -999.0,9,  4.3550,   -999.0,9
  33RB20051026,  PR16,    28,  1,     12,     12,2,20051117,1330, -4.0000,-110.0000, 3826,      2.0,  23.9701,  35.2488,2,  35.2510,2,   -999.0,9, 23.9697,   -999.0,9
  33RB20051026,  PR16,    28,  1,     11,     11,2,20051117,1330, -4.0000,-110.0000, 3826,     11.8,  23.9853,  35.2572,2,  35.2553,2,   -999.0,9, 23.9829,   -999.0,9
  33RB20051026,  PR16,    28,  1,     10,     10,2,20051117,1330, -4.0000,-110.0000, 3826,     26.0,  23.9917,  35.2609,2,  35.2607,2,   -999.0,9, 23.9863,   -999.0,9
  33RB20051026,  PR16,    28,  1,      7,      7,2,20051117,1330, -4.0000,-110.0000, 3826,     99.9,  14.8128,  35.0554,2,  35.0536,2,   -999.0,9, 14.7979,   -999.0,9
  33RB20051026,  PR16,    28,  1,      6,      6,2,20051117,1330, -4.0000,-110.0000, 3826,    150.1,  13.8239,  34.9932,2,  34.9903,2,   -999.0,9, 13.8024,   -999.0,9
  33RB20051026,  PR16,    28,  1,      4,      4,2,20051117,1330, -4.0000,-110.0000, 3826,    401.7,   9.9914,  34.7451,2,  34.7438,2,   -999.0,9,  9.9445,   -999.0,9
  33RB20051026,  PR16,    28,  1,      2,      2,2,20051117,1330, -4.0000,-110.0000, 3826,    799.6,   5.4467,  34.5539,2,  34.5535,2,   -999.0,9,  5.3784,   -999.0,9
  33RB20051026,  PR16,    28,  1,      1,      1,2,20051117,1330, -4.0000,-110.0000, 3826,    999.8,   4.6432,  34.5530,2,  34.5526,2,   -999.0,9,  4.5625,   -999.0,9
  33RB20051026,  PR16,    29,  1,     12,     12,2,20051117,2256, -4.9900,-109.9950, 3615,      3.5,  24.2326,  35.3460,2,  35.3471,2,   -999.0,9, 24.2318,   -999.0,9
  33RB20051026,  PR16,    29,  1,     11,     11,2,20051117,2256, -4.9900,-109.9950, 3615,     10.5,  24.1900,  35.3438,2,  35.3451,2,   -999.0,9, 24.1878,   -999.0,9
  33RB20051026,  PR16,    29,  1,     10,     10,2,20051117,2256, -4.9900,-109.9950, 3615,     24.5,  24.1210,  35.3411,2,  35.3425,2,   -999.0,9, 24.1158,   -999.0,9
  33RB20051026,  PR16,    29,  1,      7,      7,2,20051117,2256, -4.9900,-109.9950, 3615,    100.0,  15.8272,  35.1317,2,  35.1295,2,   -999.0,9, 15.8115,   -999.0,9
  33RB20051026,  PR16,    29,  1,      6,      6,2,20051117,2256, -4.9900,-109.9950, 3615,    149.9,  13.2374,  34.9513,2,  34.9504,2,   -999.0,9, 13.2166,   -999.0,9
  33RB20051026,  PR16,    29,  1,      3,      3,2,20051117,2256, -4.9900,-109.9950, 3615,    600.7,   6.8078,  34.5793,2,  34.5780,2,   -999.0,9,  6.7511,   -999.0,9
  33RB20051026,  PR16,    29,  1,      2,      2,2,20051117,2256, -4.9900,-109.9950, 3615,    801.8,   5.2802,  34.5424,2,  34.5438,2,   -999.0,9,  5.2128,   -999.0,9
  33RB20051026,  PR16,    29,  1,      1,      1,2,20051117,2256, -4.9900,-109.9950, 3615,   1001.0,   4.5432,  34.5462,2,  34.5473,2,   -999.0,9,  4.4632,   -999.0,9
  33RB20051026,  PR16,    30,  1,     12,     12,2,20051119,1621, -6.0150,-112.6683, 4096,      1.7,  24.4113,  35.1260,2,  35.1257,2,   -999.0,9, 24.4110,   -999.0,9
  33RB20051026,  PR16,    30,  1,     11,     11,2,20051119,1621, -6.0150,-112.6683, 4096,     10.6,  24.4090,  35.1253,2,  35.1259,2,   -999.0,9, 24.4068,   -999.0,9
  33RB20051026,  PR16,    30,  1,     10,     10,2,20051119,1621, -6.0150,-112.6683, 4096,     25.3,  24.4111,  35.1241,2,  35.1394,2,   -999.0,9, 24.4058,   -999.0,9
  33RB20051026,  PR16,    30,  1,      7,      7,2,20051119,1621, -6.0150,-112.6683, 4096,    101.4,  20.7991,  35.7805,2,  35.7768,2,   -999.0,9, 20.7798,   -999.0,9
  33RB20051026,  PR16,    30,  1,      6,      6,2,20051119,1621, -6.0150,-112.6683, 4096,    150.3,  14.7865,  35.0279,2,  35.0199,2,   -999.0,9, 14.7639,   -999.0,9
  33RB20051026,  PR16,    30,  1,      3,      3,2,20051119,1621, -6.0150,-112.6683, 4096,    600.7,   6.7924,  34.5724,2,  34.5813,2,   -999.0,9,  6.7358,   -999.0,9
  33RB20051026,  PR16,    30,  1,      2,      2,2,20051119,1621, -6.0150,-112.6683, 4096,    800.1,   5.3044,  34.5432,2,  34.5479,2,   -999.0,9,  5.2370,   -999.0,9
  33RB20051026,  PR16,    30,  1,      1,      1,2,20051119,1621, -6.0150,-112.6683, 4096,   1000.8,   4.4196,  34.5488,2,  34.5603,2,   -999.0,9,  4.3406,   -999.0,9
  33RB20051026,  PR16,    31,  1,     12,     12,2,20051120,0213, -7.0167,-111.2917, 3761,      1.9,  23.7676,  34.9688,2,  34.9676,2,   -999.0,9, 23.7672,   -999.0,9
  33RB20051026,  PR16,    31,  1,     11,     11,2,20051120,0213, -7.0167,-111.2917, 3761,     11.0,  23.7747,  34.9678,2,  34.9676,2,   -999.0,9, 23.7724,   -999.0,9
  33RB20051026,  PR16,    31,  1,     10,     10,2,20051120,0213, -7.0167,-111.2917, 3761,     25.4,  23.6735,  34.9837,2,  34.9830,2,   -999.0,9, 23.6682,   -999.0,9
  33RB20051026,  PR16,    31,  1,      7,      7,2,20051120,0213, -7.0167,-111.2917, 3761,    101.6,  20.4709,  35.7172,2,  35.7114,2,   -999.0,9, 20.4517,   -999.0,9
  33RB20051026,  PR16,    31,  1,      6,      6,2,20051120,0213, -7.0167,-111.2917, 3761,    151.0,  14.7218,  35.0125,2,  35.0128,2,   -999.0,9, 14.6992,   -999.0,9
  33RB20051026,  PR16,    31,  1,      3,      3,2,20051120,0213, -7.0167,-111.2917, 3761,    600.5,   7.0797,  34.5878,2,  34.5868,2,   -999.0,9,  7.0218,   -999.0,9
  33RB20051026,  PR16,    31,  1,      2,      2,2,20051120,0213, -7.0167,-111.2917, 3761,    801.1,   5.2575,  34.5384,2,  34.5381,2,   -999.0,9,  5.1903,   -999.0,9
  33RB20051026,  PR16,    31,  1,      1,      1,2,20051120,0213, -7.0167,-111.2917, 3761,   1001.4,   4.3417,  34.5457,2,  34.5472,2,   -999.0,9,  4.2632,   -999.0,9
  33RB20051026,  PR16,    32,  1,     12,     12,2,20051120,2134, -7.9950,-110.0667, 3424,      3.0,  23.9225,  35.2395,2,  35.2390,2,   -999.0,9, 23.9218,   -999.0,9
  33RB20051026,  PR16,    32,  1,     11,     11,2,20051120,2134, -7.9950,-110.0667, 3424,     10.9,  23.9125,  35.2381,2,  35.2386,2,   -999.0,9, 23.9102,   -999.0,9
  33RB20051026,  PR16,    32,  1,     10,     10,2,20051120,2134, -7.9950,-110.0667, 3424,     24.7,  23.8549,  35.2357,2,  35.2363,2,   -999.0,9, 23.8497,   -999.0,9
  33RB20051026,  PR16,    32,  1,      7,      7,2,20051120,2134, -7.9950,-110.0667, 3424,    100.4,  20.4805,  35.6884,2,  35.6950,2,   -999.0,9, 20.4616,   -999.0,9
  33RB20051026,  PR16,    32,  1,      6,      6,2,20051120,2134, -7.9950,-110.0667, 3424,    150.8,  14.8485,  34.9923,2,  34.9818,2,   -999.0,9, 14.8259,   -999.0,9
  33RB20051026,  PR16,    32,  1,      3,      3,2,20051120,2134, -7.9950,-110.0667, 3424,    600.2,   7.2263,  34.5930,2,  34.5915,2,   -999.0,9,  7.1678,   -999.0,9
  33RB20051026,  PR16,    32,  1,      2,      2,2,20051120,2134, -7.9950,-110.0667, 3424,    800.1,   5.5987,  34.5428,2,  34.5428,2,   -999.0,9,  5.5294,   -999.0,9
  33RB20051026,  PR16,    32,  1,      1,      1,2,20051120,2134, -7.9950,-110.0667, 3424,   1000.4,   4.5719,  34.5433,2,  34.5443,2,   -999.0,9,  4.4917,   -999.0,9