BOTTLE,20020809WHPSIObren
#code : jjward hyd_to_exchange.pl 
#original files copied from HTML directory: 20020809
#original HYD file: /whpo/11/HOTS/BOTTLE/hot61/hot61.sea   Fri Aug  9 09:51:35 2002
#original SUM file: /whpo/11/HOTS/BOTTLE/hot61/hot61.sum   Fri Aug  9 13:30:39 2002
EXPOCODE,SECT_ID,STNNBR,CASTNO,SAMPNO,BTLNBR,BTLNBR_FLAG_W,DATE,TIME,LATITUDE,LONGITUDE,DEPTH,CTDPRS,CTDTMP,CTDSAL,CTDSAL_FLAG_W,SALNTY,SALNTY_FLAG_W,CTDOXY,CTDOXY_FLAG_W,OXYGEN,OXYGEN_FLAG_W,SILCAT,SILCAT_FLAG_W,NO2+NO3,NO2+NO3_FLAG_W,PHSPHT,PHSPHT_FLAG_W,CTDRAW,REVTMP,REVPRS,THETA
,,,,,,,,,,,,DBAR,ITS-90,PSS-78,,PSS-78,,UMOL/KG,,UMOL/KG,,UMOL/KG,,UMOL/KG,,UMOL/KG,,,DEG C,DBAR,ITS-90
     32MW061_1,  PRS2,     1,  1,     22,     22,2,19950302,2301, 21.3442,-158.2702, 1490,      4.9,  24.2441,  34.6348,2,-999.0000,5,    209.6,2,    210.5,2,  -999.00,5,  -999.00,5,  -999.00,5,      6,-999.000,  -999.0, 24.2431
     32MW061_1,  PRS2,     1,  1,     21,     21,2,19950302,2301, 21.3442,-158.2702, 1490,      4.9,  24.2441,  34.6349,2,  34.6482,4,    209.6,3,    209.8,2,     1.32,2,     0.01,2,     0.11,2,      5,-999.000,  -999.0, 24.2431
     32MW061_1,  PRS2,     1,  1,     20,     20,2,19950302,2301, 21.3442,-158.2702, 1490,     26.2,  24.1793,  34.6396,2,  34.6394,2,    210.1,2,    209.9,2,     1.31,2,     0.00,2,     0.11,2,     26,-999.000,  -999.0, 24.1738
     32MW061_1,  PRS2,     1,  1,     19,     19,2,19950302,2301, 21.3442,-158.2702, 1490,     45.5,  23.9117,  34.6642,2,  34.6597,2,    210.7,2,    211.9,2,     1.27,2,     0.00,2,     0.11,2,     46,-999.000,  -999.0, 23.9022
     32MW061_1,  PRS2,     1,  1,     18,     18,2,19950302,2301, 21.3442,-158.2702, 1490,     60.4,  23.6437,  34.6812,2,  34.6773,2,    212.4,2,    212.4,2,     1.24,2,     0.01,2,     0.11,2,     60,-999.000,  -999.0, 23.6312
     32MW061_1,  PRS2,     1,  1,     17,     17,2,19950302,2301, 21.3442,-158.2702, 1490,     75.4,  23.4722,  34.7611,2,  34.7435,2,    211.0,2,    211.3,2,     1.28,2,     0.01,2,     0.11,2,     74,-999.000,  -999.0, 23.4566
     32MW061_1,  PRS2,     1,  1,     16,     16,2,19950302,2301, 21.3442,-158.2702, 1490,     94.8,  22.9193,  34.8742,2,  34.8699,2,    204.7,2,    206.5,2,     1.47,2,     0.08,2,     0.12,2,     95,-999.000,  -999.0, 22.9001
     32MW061_1,  PRS2,     1,  1,     15,     15,2,19950302,2301, 21.3442,-158.2702, 1490,    105.1,  22.7215,  34.9393,2,  34.9389,2,    204.6,2,    203.6,2,     1.58,2,     0.30,2,     0.14,2,    106,-999.000,  -999.0, 22.7003
     32MW061_1,  PRS2,     1,  1,     14,     14,2,19950302,2301, 21.3442,-158.2702, 1490,    115.3,  22.5687,  35.0308,2,  34.9373,4,    203.6,3,    203.5,2,     1.57,2,     0.31,2,     0.13,2,    116,-999.000,  -999.0, 22.5455
     32MW061_1,  PRS2,     1,  1,     13,     13,2,19950302,2301, 21.3442,-158.2702, 1490,    126.8,  21.3902,  34.9894,2,  34.9744,2,    197.6,2,    199.4,2,     1.88,2,     0.88,2,     0.18,2,    127,-999.000,  -999.0, 21.3656
     32MW061_1,  PRS2,     1,  1,     12,     12,2,19950302,2301, 21.3442,-158.2702, 1490,    138.3,  21.0315,  35.0966,2,  35.0872,2,    201.8,2,    200.0,2,  -999.00,5,  -999.00,5,  -999.00,5,    138,-999.000,  -999.0, 21.0050
     32MW061_1,  PRS2,     1,  1,     11,     11,2,19950302,2301, 21.3442,-158.2702, 1490,    149.2,  20.5569,  35.0881,2,  35.0889,2,    197.2,2,    195.1,2,     1.98,2,     1.43,2,     0.21,2,    149,-999.000,  -999.0, 20.5287
     32MW061_1,  PRS2,     1,  1,     10,     32,2,19950302,2301, 21.3442,-158.2702, 1490,    175.0,  19.6433,  35.0354,2,  35.0272,2,    187.7,2,    195.0,2,     2.51,2,     2.38,2,     0.26,2,    176,-999.000,  -999.0, 19.6114
     32MW061_1,  PRS2,     1,  1,      9,      3,2,19950302,2301, 21.3442,-158.2702, 1490,    200.7,  18.9420,  35.0128,2,  35.0149,2,    187.7,2,    189.7,2,     2.76,2,     2.84,2,     0.28,2,    202,-999.000,  -999.0, 18.9062
     32MW061_1,  PRS2,     1,  1,      8,     29,3,19950302,2301, 21.3442,-158.2702, 1490,    224.4,  16.8215,  34.7572,2,  34.7577,2,    184.7,2,    186.5,2,     4.77,2,     5.15,2,     0.43,2,    224,-999.000,  -999.0, 16.7847
     32MW061_1,  PRS2,     1,  1,      7,     28,2,19950302,2301, 21.3442,-158.2702, 1490,    249.9,  15.1709,  34.5515,2,  34.5547,2,    183.6,2,    182.2,2,     6.91,2,     7.58,2,     0.61,2,    251,-999.000,  -999.0, 15.1328
     32MW061_1,  PRS2,     1,  1,      6,      7,2,19950302,2301, 21.3442,-158.2702, 1490,    298.7,  12.2058,  34.2796,2,  34.1108,4,    181.7,3,    183.9,2,    12.44,2,    12.01,2,     0.90,2,    299,-999.000,  -999.0, 12.1665
     32MW061_1,  PRS2,     1,  1,      5,     23,2,19950302,2301, 21.3442,-158.2702, 1490,    400.0,   8.1804,  34.1092,2,  34.2857,4,    134.9,3,    136.3,2,    37.57,2,    24.66,2,     1.79,2,    400,-999.000,  -999.0,  8.1393
     32MW061_1,  PRS2,     1,  1,      4,     36,2,19950302,2301, 21.3442,-158.2702, 1490,    440.5,   7.3394,  34.1232,2,  34.1231,2,    100.2,2,    101.5,2,  -999.00,5,  -999.00,5,  -999.00,5,    442,-999.000,  -999.0,  7.2969
     32MW061_1,  PRS2,     1,  1,      3,     35,2,19950302,2301, 21.3442,-158.2702, 1490,    500.7,   6.4848,  34.1676,2,  34.1672,2,     66.0,2,     64.0,2,    61.87,2,    34.04,2,     2.53,2,    500,-999.000,  -999.0,  6.4395
     32MW061_1,  PRS2,     1,  1,      2,     34,2,19950302,2301, 21.3442,-158.2702, 1490,    750.7,   4.9376,  34.4242,2,  34.4237,2,     33.8,2,     33.2,2,    91.77,2,    40.30,2,     2.98,2,    752,-999.000,  -999.0,  4.8768
     32MW061_1,  PRS2,     1,  1,      1,     33,2,19950302,2301, 21.3442,-158.2702, 1490,   1026.0,   4.0837,  34.5106,2,  34.5154,2,     45.0,2,     46.7,2,   108.06,2,    40.96,2,     3.04,2,   1025,-999.000,  -999.0,  4.0052
     32MW061_1,  PRS2,     2,  1,     24,     31,2,19950303,1929, 22.7488,-158.0037, 4730,      5.1,  23.1006,  34.7204,2,  34.7212,2,    213.9,2,    213.3,2,     1.71,2,     0.00,2,     0.09,2,      5,-999.000,  -999.0, 23.0996
     32MW061_1,  PRS2,     2,  1,     23,     30,2,19950303,1929, 22.7488,-158.0037, 4730,    101.3,  20.9522,  35.1075,2,  35.1090,2,    199.7,2,    201.0,2,     1.88,2,     0.92,2,     0.13,2,    101,-999.000,  -999.0, 20.9329
     32MW061_1,  PRS2,     2,  1,     22,     22,2,19950303,1929, 22.7488,-158.0037, 4730,    504.7,   6.6499,  34.0545,2,  34.0546,2,    101.8,2,    102.2,2,    53.47,2,    30.39,2,     2.14,2,    507,-999.000,  -999.0,  6.6036
     32MW061_1,  PRS2,     2,  1,     21,     21,2,19950303,1929, 22.7488,-158.0037, 4730,    772.7,   4.6376,  34.3235,2,  34.3226,2,     27.4,2,     28.8,2,    97.04,2,    40.51,2,     2.98,2,    773,-999.000,  -999.0,  4.5769
     32MW061_1,  PRS2,     2,  1,     20,     20,2,19950303,1929, 22.7488,-158.0037, 4730,    998.8,   3.8768,  34.4760,2,  34.4756,2,     46.6,2,     43.7,2,   112.94,2,    40.98,2,     3.01,2,    997,-999.000,  -999.0,  3.8023
     32MW061_1,  PRS2,     2,  1,     19,     19,2,19950303,1929, 22.7488,-158.0037, 4730,   1197.4,   3.3505,  34.5350,2,  34.5350,2,     57.6,2,     54.3,2,   123.61,2,    40.74,2,     2.98,2,   1196,-999.000,  -999.0,  3.2640
     32MW061_1,  PRS2,     2,  1,     18,     18,2,19950303,1929, 22.7488,-158.0037, 4730,   1398.8,   2.9789,  34.5658,2,  34.5665,2,     64.3,2,     62.1,2,   132.04,2,    40.50,2,     2.98,2,   1401,-999.000,  -999.0,  2.8797
     32MW061_1,  PRS2,     2,  1,     17,     17,2,19950303,1929, 22.7488,-158.0037, 4730,   1601.9,   2.5943,  34.5888,2,  34.5880,2,     71.6,2,     72.1,2,   140.59,2,    39.99,2,     2.91,2,   1600,-999.000,  -999.0,  2.4828
     32MW061_1,  PRS2,     2,  1,     16,     16,2,19950303,1929, 22.7488,-158.0037, 4730,   1802.6,   2.3451,  34.6024,2,  34.6019,2,     78.5,2,     79.4,2,   146.14,2,    39.53,2,     2.87,2,   1805,-999.000,  -999.0,  2.2202
     32MW061_1,  PRS2,     2,  1,     15,     15,2,19950303,1929, 22.7488,-158.0037, 4730,   2006.6,   2.0722,  34.6213,2,  34.6221,2,     87.3,2,     89.3,2,   153.06,2,    39.11,2,     2.84,2,   2008,-999.000,  -999.0,  1.9342
     32MW061_1,  PRS2,     2,  1,     14,     14,2,19950303,1929, 22.7488,-158.0037, 4730,   2198.0,   1.8885,  34.6369,2,  34.6382,2,     97.9,2,     99.1,2,   155.94,2,    38.56,2,     2.78,2,   2198,-999.000,  -999.0,  1.7370
     32MW061_1,  PRS2,     2,  1,     13,     13,2,19950303,1929, 22.7488,-158.0037, 4730,   2400.0,   1.7584,  34.6475,2,  34.6485,2,    103.8,2,    106.2,2,   157.74,2,    38.10,2,     2.72,2,   2400,-999.000,  -999.0,  1.5915
     32MW061_1,  PRS2,     2,  1,     12,     12,2,19950303,1929, 22.7488,-158.0037, 4730,   2597.5,   1.6581,  34.6569,2,  34.6668,4,    112.0,3,    123.6,4,   156.58,4,    36.82,4,     2.66,4,   2599,-999.000,  -999.0,  1.4754
     32MW061_1,  PRS2,     2,  1,     11,     11,2,19950303,1929, 22.7488,-158.0037, 4730,   2800.6,   1.5828,  34.6649,2,  34.6581,4,    121.1,3,    118.4,3,   158.65,3,    37.21,3,     2.70,3,   2803,-999.000,  -999.0,  1.3831
     32MW061_1,  PRS2,     2,  1,     10,     32,2,19950303,1929, 22.7488,-158.0037, 4730,   2996.5,   1.5460,  34.6693,2,  34.6696,2,    124.6,2,    125.0,2,   159.35,2,    36.95,2,     2.63,2,   2996,-999.000,  -999.0,  1.3285
     32MW061_1,  PRS2,     2,  1,      9,      3,2,19950303,1929, 22.7488,-158.0037, 4730,   3197.6,   1.4957,  34.6752,2,  34.6751,2,    133.5,2,    131.7,2,   157.48,2,    36.51,2,     2.58,2,   3198,-999.000,  -999.0,  1.2599
     32MW061_1,  PRS2,     2,  1,      8,     29,2,19950303,1929, 22.7488,-158.0037, 4730,   3402.3,   1.4625,  34.6796,2,  34.6795,2,    137.3,2,    138.1,2,   155.48,2,    36.28,2,     2.57,2,   3403,-999.000,  -999.0,  1.2072
     32MW061_1,  PRS2,     2,  1,      7,     28,2,19950303,1929, 22.7488,-158.0037, 4730,   3596.7,   1.4442,  34.6829,2,  34.6830,2,    143.4,2,    143.4,2,   154.21,2,    35.94,2,     2.54,2,   3597,-999.000,  -999.0,  1.1696
     32MW061_1,  PRS2,     2,  1,      6,      7,2,19950303,1929, 22.7488,-158.0037, 4730,   3801.2,   1.4421,  34.6852,2,  34.6847,2,    147.8,2,    147.9,2,   152.49,2,    35.74,2,     2.47,2,   3802,-999.000,  -999.0,  1.1461
     32MW061_1,  PRS2,     2,  1,      5,     23,2,19950303,1929, 22.7488,-158.0037, 4730,   4002.9,   1.4464,  34.6865,2,  34.6868,2,    151.4,2,    148.2,2,   151.28,2,    35.58,2,     2.50,2,   4003,-999.000,  -999.0,  1.1287
     32MW061_1,  PRS2,     2,  1,      4,     36,2,19950303,1929, 22.7488,-158.0037, 4730,   4199.5,   1.4586,  34.6873,2,  34.6864,2,    150.2,2,    150.1,2,   150.63,2,    35.38,2,     2.50,2,   4199,-999.000,  -999.0,  1.1189
     32MW061_1,  PRS2,     2,  1,      3,     35,2,19950303,1929, 22.7488,-158.0037, 4730,   4402.6,   1.4742,  34.6879,2,  34.6873,2,    150.6,2,    150.8,2,   149.73,2,    35.41,2,     2.51,2,   4402,-999.000,  -999.0,  1.1111
     32MW061_1,  PRS2,     2,  1,      2,     34,2,19950303,1929, 22.7488,-158.0037, 4730,   4600.2,   1.4938,  34.6883,2,  34.6883,2,    151.1,2,    151.5,2,   149.56,2,    35.23,2,     2.49,2,   4600,-999.000,  -999.0,  1.1074
     32MW061_1,  PRS2,     2,  1,      1,     33,2,19950303,1929, 22.7488,-158.0037, 4730,   4809.3,   1.5142,  34.6888,2,  34.6889,2,    150.2,2,    152.5,2,   149.58,2,    35.30,2,     2.48,2,   4808,-999.000,  -999.0,  1.1024
     32MW061_1,  PRS2,     2,  2,     24,     31,3,19950304,0048, 22.7485,-158.0015, 4725,      6.0,  23.2185,  34.6277,2,  34.6323,2,    214.2,2,    218.3,2,     1.38,2,     0.00,2,     0.11,2,      7,-999.000,  -999.0, 23.2173
     32MW061_1,  PRS2,     2,  2,     23,     30,2,19950304,0048, 22.7485,-158.0015, 4725,     53.2,  23.0463,  34.8742,2,  34.8754,2,    213.0,2,    207.8,2,     1.32,2,     0.01,2,     0.09,2,     55,-999.000,  -999.0, 23.0355
     32MW061_1,  PRS2,     2,  2,     22,     22,2,19950304,0048, 22.7485,-158.0015, 4725,     75.9,  22.4720,  35.0898,2,  35.0844,2,    210.4,2,    210.8,2,     1.34,2,     0.01,2,     0.07,2,     76,-999.000,  -999.0, 22.4568
     32MW061_1,  PRS2,     2,  2,     21,     21,2,19950304,0048, 22.7485,-158.0015, 4725,     90.4,  22.1685,  35.1449,2,  35.1451,2,    208.4,2,    208.6,2,     1.34,2,     0.02,2,     0.07,2,     92,-999.000,  -999.0, 22.1506
     32MW061_1,  PRS2,     2,  2,     20,     20,2,19950304,0048, 22.7485,-158.0015, 4725,    140.1,  20.2383,  35.0327,2,  35.0988,4,    199.3,3,    200.1,2,     1.83,2,     0.96,2,     0.15,2,    140,-999.000,  -999.0, 20.2122
     32MW061_1,  PRS2,     2,  2,     19,     19,2,19950304,0048, 22.7485,-158.0015, 4725,    197.0,  17.5422,  34.8039,2,  34.8054,2,    184.3,2,    183.1,2,     3.93,2,     4.47,2,     0.38,2,    197,-999.000,  -999.0, 17.5090
     32MW061_1,  PRS2,     2,  2,     18,     18,2,19950304,0048, 22.7485,-158.0015, 4725,    215.4,  16.6535,  34.7018,2,  34.7175,2,    186.4,2,    185.7,2,     4.38,2,     4.97,2,     0.41,2,    215,-999.000,  -999.0, 16.6186
     32MW061_1,  PRS2,     2,  2,     17,     17,2,19950304,0048, 22.7485,-158.0015, 4725,    291.8,  12.5597,  34.2616,2,  34.2593,2,    154.7,2,    156.4,2,    12.63,2,    14.05,2,     1.07,2,    294,-999.000,  -999.0, 12.5206
     32MW061_1,  PRS2,     2,  2,     16,     16,2,19950304,0048, 22.7485,-158.0015, 4725,    304.9,  11.7098,  34.2092,2,  34.2115,2,    160.6,2,    163.2,2,    14.52,2,    14.87,2,     1.11,2,    303,-999.000,  -999.0, 11.6708
     32MW061_1,  PRS2,     2,  2,     15,     15,2,19950304,0048, 22.7485,-158.0015, 4725,    344.1,  10.1567,  34.1428,2,  34.1406,2,    187.5,2,    187.9,2,    18.27,2,    15.90,2,     1.13,2,    347,-999.000,  -999.0, 10.1165
     32MW061_1,  PRS2,     2,  2,     14,     14,2,19950304,0048, 22.7485,-158.0015, 4725,    359.2,   9.7680,  34.1244,2,  34.1290,2,    186.2,2,    187.1,2,    18.93,2,    16.11,2,     1.16,2,    357,-999.000,  -999.0,  9.7270
     32MW061_1,  PRS2,     2,  2,     13,     13,2,19950304,0048, 22.7485,-158.0015, 4725,    399.7,   8.5103,  34.0816,2,  34.0815,2,    163.4,2,    161.4,2,    30.33,2,    21.99,2,     1.56,2,    398,-999.000,  -999.0,  8.4683
     32MW061_1,  PRS2,     2,  2,     12,     12,2,19950304,0048, 22.7485,-158.0015, 4725,    468.9,   7.1271,  34.0575,2,  34.2315,4,    116.5,3,     55.5,4,    89.75,4,    37.34,4,     2.68,4,    468,-999.000,  -999.0,  7.0825
     32MW061_1,  PRS2,     2,  2,     11,     11,2,19950304,0048, 22.7485,-158.0015, 4725,    500.9,   6.7215,  34.0594,2,  34.0600,2,    102.7,2,    100.3,2,    54.61,2,    31.31,2,     2.27,2,    500,-999.000,  -999.0,  6.6753
     32MW061_1,  PRS2,     2,  2,     10,     32,2,19950304,0048, 22.7485,-158.0015, 4725,    515.7,   6.4039,  34.0623,2,  34.0612,2,     92.8,2,     93.2,2,    57.64,2,    32.28,2,     2.33,2,    514,-999.000,  -999.0,  6.3576
     32MW061_1,  PRS2,     2,  2,      9,      3,2,19950304,0048, 22.7485,-158.0015, 4725,    557.6,   5.8959,  34.0913,2,  34.0877,2,     71.3,2,     70.8,2,    67.62,2,    35.01,2,     2.59,2,    556,-999.000,  -999.0,  5.8477
     32MW061_1,  PRS2,     2,  2,      8,     29,2,19950304,0048, 22.7485,-158.0015, 4725,    613.9,   5.4893,  34.1636,2,  34.1627,2,     48.8,2,     48.3,2,    77.43,2,    38.00,2,     2.78,2,    615,-999.000,  -999.0,  5.4379
     32MW061_1,  PRS2,     2,  2,      7,     28,2,19950304,0048, 22.7485,-158.0015, 4725,    671.6,   5.0463,  34.2386,2,  34.2339,2,     36.2,2,     36.2,2,    87.46,2,    39.66,2,     2.97,2,    670,-999.000,  -999.0,  4.9920
     32MW061_1,  PRS2,     2,  2,      6,      7,2,19950304,0048, 22.7485,-158.0015, 4725,    725.0,   4.7153,  34.3154,2,  34.3183,2,     30.9,2,     30.6,2,    95.54,2,    40.52,2,     3.05,2,    724,-999.000,  -999.0,  4.6582
     32MW061_1,  PRS2,     2,  2,      5,     23,2,19950304,0048, 22.7485,-158.0015, 4725,    790.2,   4.4333,  34.3620,2,  34.3607,2,     31.8,2,     30.3,2,   102.64,2,    41.17,2,     3.09,2,    789,-999.000,  -999.0,  4.3723
     32MW061_1,  PRS2,     2,  2,      4,     36,2,19950304,0048, 22.7485,-158.0015, 4725,    843.6,   4.2503,  34.3957,2,  34.3944,2,     33.7,2,     33.8,2,   106.75,2,    41.26,2,     3.09,2,    845,-999.000,  -999.0,  4.1860
     32MW061_1,  PRS2,     2,  2,      3,     35,2,19950304,0048, 22.7485,-158.0015, 4725,    901.4,   4.0924,  34.4308,2,  34.4291,2,     37.0,2,     37.3,2,   109.33,2,    41.35,2,     3.08,2,    899,-999.000,  -999.0,  4.0243
     32MW061_1,  PRS2,     2,  2,      2,     34,2,19950304,0048, 22.7485,-158.0015, 4725,    995.0,   3.9036,  34.4685,2,  34.4675,2,     40.4,2,     43.3,2,   113.22,2,    41.06,2,     3.06,2,    996,-999.000,  -999.0,  3.8292
     32MW061_1,  PRS2,     2,  2,      1,     33,2,19950304,0048, 22.7485,-158.0015, 4725,   1022.4,   3.8146,  34.4783,2,  34.4774,2,     38.9,2,     44.7,2,   114.93,2,    41.09,2,     3.05,2,   1025,-999.000,  -999.0,  3.7385