BOTTLE,20020809WHPSIObren
EXPOCODE,SECT_ID,STNNBR,CASTNO,SAMPNO,BTLNBR,BTLNBR_FLAG_W,DATE,TIME,LATITUDE,LONGITUDE,DEPTH,CTDPRS,CTDTMP,CTDSAL,CTDSAL_FLAG_W,SALNTY,SALNTY_FLAG_W,CTDOXY,CTDOXY_FLAG_W,OXYGEN,OXYGEN_FLAG_W,SILCAT,SILCAT_FLAG_W,NO2+NO3,NO2+NO3_FLAG_W,PHSPHT,PHSPHT_FLAG_W,CTDRAW,REVTMP,REVPRS,THETA
,,,,,,,,,,,,DBAR,ITS-90,PSS-78,,PSS-78,,UMOL/KG,,UMOL/KG,,UMOL/KG,,UMOL/KG,,UMOL/KG,,,DEG C,DBAR,ITS-90
     32MW061_1,  PRS2,     2,  3,     17,     17,2,19950304,0346, 22.7688,-158.0013, 4715,      5.2,  23.1922,  34.6296,2,  34.6291,2,    213.9,2,    212.9,2,  -999.00,5,  -999.00,5,  -999.00,5,      5,-999.000,  -999.0, 23.1911
     32MW061_1,  PRS2,     2,  3,     16,     16,2,19950304,0346, 22.7688,-158.0013, 4715,     90.9,  22.5626,  35.0798,2,  35.0734,2,    209.9,2,    210.7,2,  -999.00,5,  -999.00,5,  -999.00,5,     89,-999.000,  -999.0, 22.5443
     32MW061_1,  PRS2,     2,  3,     15,     15,2,19950304,0346, 22.7688,-158.0013, 4715,    209.8,  16.4562,  34.6760,2,  34.7025,3,    184.2,3,    185.8,2,     4.43,2,     5.06,2,     0.44,2,    211,-999.000,  -999.0, 16.4224
     32MW061_1,  PRS2,     2,  3,     14,     14,2,19950304,0346, 22.7688,-158.0013, 4715,    225.6,  16.1661,  34.6316,2,  34.6302,2,    180.7,2,    180.5,2,     5.20,2,     6.08,2,     0.51,2,    227,-999.000,  -999.0, 16.1302
     32MW061_1,  PRS2,     2,  3,     13,     13,2,19950304,0346, 22.7688,-158.0013, 4715,    234.0,  15.9159,  34.5936,2,  34.5989,2,    178.3,2,    178.8,2,     5.55,2,     6.56,2,     0.55,2,    234,-999.000,  -999.0, 15.8790
     32MW061_1,  PRS2,     2,  3,     12,     12,2,19950304,0346, 22.7688,-158.0013, 4715,    249.6,  14.8124,  34.4553,2,  34.3581,4,    174.3,3,     52.5,4,    48.13,4,    23.36,4,     1.66,4,    251,-999.000,  -999.0, 14.7751
     32MW061_1,  PRS2,     2,  3,     11,     11,2,19950304,0346, 22.7688,-158.0013, 4715,    275.0,  13.3070,  34.3088,2,  34.3090,2,    173.3,2,    172.6,2,     9.86,2,    11.07,2,     0.84,2,    276,-999.000,  -999.0, 13.2687
     32MW061_1,  PRS2,     2,  3,     10,     32,2,19950304,0346, 22.7688,-158.0013, 4715,    299.0,  12.2522,  34.2418,2,  34.2450,2,    153.7,2,    152.4,2,    13.65,2,    14.94,2,     1.15,2,    300,-999.000,  -999.0, 12.2128
     32MW061_1,  PRS2,     2,  3,      9,      3,2,19950304,0346, 22.7688,-158.0013, 4715,    325.3,  11.0507,  34.1785,2,  35.1809,4,    168.5,3,    166.8,2,    16.23,2,    16.08,2,     1.20,2,    325,-999.000,  -999.0, 11.0106
     32MW061_1,  PRS2,     2,  3,      8,     29,2,19950304,0346, 22.7688,-158.0013, 4715,    349.7,  10.0819,  34.1329,2,  34.1356,2,    181.1,2,    183.1,2,    18.94,2,    16.65,2,     1.20,2,    349,-999.000,  -999.0, 10.0412
     32MW061_1,  PRS2,     2,  3,      7,     28,2,19950304,0346, 22.7688,-158.0013, 4715,    404.2,   8.6655,  34.0847,2,  34.0866,2,    166.7,2,    166.4,2,    28.72,2,    21.17,2,     1.51,2,    405,-999.000,  -999.0,  8.6226
     32MW061_1,  PRS2,     2,  3,      6,      7,2,19950304,0346, 22.7688,-158.0013, 4715,    501.4,   6.6821,  34.0670,2,  34.0689,2,     98.8,2,    100.1,2,    53.35,2,    30.86,2,     2.24,2,    500,-999.000,  -999.0,  6.6360
     32MW061_1,  PRS2,     2,  3,      5,     23,2,19950304,0346, 22.7688,-158.0013, 4715,    601.3,   5.5661,  34.1511,2,  34.1494,2,     47.3,2,     52.3,2,    76.36,2,    37.14,2,     2.70,2,    600,-999.000,  -999.0,  5.5155
     32MW061_1,  PRS2,     2,  3,      4,     36,2,19950304,0346, 22.7688,-158.0013, 4715,    697.3,   4.8643,  34.2806,2,  34.2809,2,     28.9,2,     30.3,2,    93.44,2,    40.37,2,     2.94,2,    699,-999.000,  -999.0,  4.8087
     32MW061_1,  PRS2,     2,  3,      3,     35,2,19950304,0346, 22.7688,-158.0013, 4715,    799.5,   4.4529,  34.3640,2,  34.3630,2,     31.4,2,     30.6,2,   101.76,2,    41.08,2,     3.06,2,    800,-999.000,  -999.0,  4.3910
     32MW061_1,  PRS2,     2,  3,      2,     34,2,19950304,0346, 22.7688,-158.0013, 4715,    901.3,   4.0762,  34.4302,2,  34.4304,2,     37.7,2,     37.2,2,   110.13,2,    41.14,2,     3.04,2,    903,-999.000,  -999.0,  4.0083
     32MW061_1,  PRS2,     2,  3,      1,     33,2,19950304,0346, 22.7688,-158.0013, 4715,   1020.9,   3.7945,  34.4764,2,  34.4764,2,     45.8,2,     45.3,2,   116.10,2,    41.09,2,     3.03,2,   1021,-999.000,  -999.0,  3.7188
     32MW061_1,  PRS2,     2,  4,     23,     30,2,19950304,0645, 22.7490,-157.9998, 4725,      5.5,  23.1275,  34.6890,2,  34.6885,2,    213.1,2,   -999.0,5,  -999.00,5,  -999.00,5,  -999.00,5,      5,-999.000,  -999.0, 23.1264
     32MW061_1,  PRS2,     2,  4,     22,     22,2,19950304,0645, 22.7490,-157.9998, 4725,      5.5,  23.1243,  34.6895,2,  34.6854,2,    213.0,2,    212.7,2,     1.53,2,     0.00,2,     0.12,2,      6,-999.000,  -999.0, 23.1232
     32MW061_1,  PRS2,     2,  4,     21,     21,2,19950304,0645, 22.7490,-157.9998, 4725,     15.0,  23.1281,  34.6894,2,  34.6976,2,    212.9,2,    212.5,2,     1.42,2,     0.00,2,     0.11,2,     15,-999.000,  -999.0, 23.1250
     32MW061_1,  PRS2,     2,  4,     20,     20,2,19950304,0645, 22.7490,-157.9998, 4725,     25.5,  23.1288,  34.6904,2,  34.6957,2,    212.8,2,   -999.0,5,  -999.00,5,  -999.00,5,  -999.00,5,     27,-999.000,  -999.0, 23.1236
     32MW061_1,  PRS2,     2,  4,     19,     19,2,19950304,0645, 22.7490,-157.9998, 4725,     25.5,  23.1289,  34.6904,2,  34.6865,2,    212.7,2,   -999.0,5,     1.43,2,     0.01,2,     0.11,2,     25,-999.000,  -999.0, 23.1237
     32MW061_1,  PRS2,     2,  4,     18,     18,2,19950304,0645, 22.7490,-157.9998, 4725,     34.0,  23.1286,  34.6914,2,  34.6866,2,    212.7,2,    213.9,2,     1.43,2,     0.00,2,     0.11,2,     32,-999.000,  -999.0, 23.1216
     32MW061_1,  PRS2,     2,  4,     17,     17,2,19950304,0645, 22.7490,-157.9998, 4725,     44.7,  22.8156,  34.9749,2,  34.9734,2,    211.9,2,    211.8,2,     1.39,2,     0.00,2,     0.10,2,     47,-999.000,  -999.0, 22.8066
     32MW061_1,  PRS2,     2,  4,     16,     16,2,19950304,0645, 22.7490,-157.9998, 4725,     57.9,  22.4674,  35.0240,2,  35.0216,2,    209.4,2,    209.9,2,     1.42,2,     0.01,2,     0.10,2,     59,-999.000,  -999.0, 22.4558
     32MW061_1,  PRS2,     2,  4,     15,     15,2,19950304,0645, 22.7490,-157.9998, 4725,     78.0,  22.0983,  35.0469,2,  35.0406,2,    208.3,2,    208.1,2,     1.45,2,     0.02,2,     0.11,2,     79,-999.000,  -999.0, 22.0829
     32MW061_1,  PRS2,     2,  4,     14,     14,2,19950304,0645, 22.7490,-157.9998, 4725,     85.2,  22.0125,  35.0935,2,  35.0903,2,    207.1,2,    207.5,2,     1.73,2,     0.07,2,     0.11,2,     85,-999.000,  -999.0, 21.9956
     32MW061_1,  PRS2,     2,  4,     13,     13,2,19950304,0645, 22.7490,-157.9998, 4725,     96.0,  21.6614,  35.1053,2,  35.1035,2,    202.3,2,    204.2,2,     1.46,2,     0.38,2,     0.12,2,     96,-999.000,  -999.0, 21.6426
     32MW061_1,  PRS2,     2,  4,     12,     12,2,19950304,0645, 22.7490,-157.9998, 4725,    106.3,  21.3109,  35.0644,2,  35.0460,3,    198.7,3,    191.3,3,     2.37,2,     1.30,2,     0.19,2,    107,-999.000,  -999.0, 21.2903
     32MW061_1,  PRS2,     2,  4,     11,     11,2,19950304,0645, 22.7490,-157.9998, 4725,    111.9,  20.9933,  35.0148,2,  35.0239,2,    198.4,2,    199.4,2,     1.79,2,     0.92,2,     0.18,2,    111,-999.000,  -999.0, 20.9719
     32MW061_1,  PRS2,     2,  4,     10,     32,2,19950304,0645, 22.7490,-157.9998, 4725,    123.6,  20.4625,  34.9536,2,  34.9522,2,    193.8,2,    192.5,2,     2.53,2,     1.63,2,     0.24,2,    123,-999.000,  -999.0, 20.4393
     32MW061_1,  PRS2,     2,  4,      9,      3,2,19950304,0645, 22.7490,-157.9998, 4725,    134.2,  20.5164,  35.1174,2,  35.1083,2,    200.1,2,    198.7,2,     1.74,2,     1.15,2,     0.17,2,    133,-999.000,  -999.0, 20.4912
     32MW061_1,  PRS2,     2,  4,      8,     29,2,19950304,0645, 22.7490,-157.9998, 4725,    139.1,  20.5259,  35.1219,2,  35.1203,2,    200.1,2,    199.0,2,  -999.00,5,  -999.00,5,  -999.00,5,    141,-999.000,  -999.0, 20.4997
     32MW061_1,  PRS2,     2,  4,      7,     28,2,19950304,0645, 22.7490,-157.9998, 4725,    149.2,  20.4392,  35.1193,2,  35.1231,2,    199.1,2,    198.7,2,     1.74,2,     1.18,2,     0.16,2,    150,-999.000,  -999.0, 20.4112
     32MW061_1,  PRS2,     2,  4,      6,      7,2,19950304,0645, 22.7490,-157.9998, 4725,    161.3,  19.3486,  35.0362,2,  35.0376,2,    193.1,2,    191.8,2,  -999.00,5,  -999.00,5,  -999.00,5,    163,-999.000,  -999.0, 19.3195
     32MW061_1,  PRS2,     2,  4,      5,     23,2,19950304,0645, 22.7490,-157.9998, 4725,    174.9,  18.9515,  35.0225,2,  35.0200,2,    191.4,2,    192.3,2,     2.45,2,     2.40,2,     0.23,2,    175,-999.000,  -999.0, 18.9204
     32MW061_1,  PRS2,     2,  4,      4,     36,2,19950304,0645, 22.7490,-157.9998, 4725,    184.9,  18.8460,  35.0142,2,  35.0159,2,    191.2,2,    193.2,2,  -999.00,5,  -999.00,5,  -999.00,5,    183,-999.000,  -999.0, 18.8132
     32MW061_1,  PRS2,     2,  4,      3,     35,2,19950304,0645, 22.7490,-157.9998, 4725,    200.0,  18.3002,  34.9125,2,  34.9123,2,    187.4,2,    189.9,2,     3.05,2,     3.47,2,     0.32,2,    199,-999.000,  -999.0, 18.2655
     32MW061_1,  PRS2,     2,  4,      2,     34,2,19950304,0645, 22.7490,-157.9998, 4725,    499.4,   6.3992,  34.0635,2,  34.0640,2,     94.4,2,     93.7,2,  -999.00,5,  -999.00,5,  -999.00,5,    500,-999.000,  -999.0,  6.3544
     32MW061_1,  PRS2,     2,  4,      1,     33,2,19950304,0645, 22.7490,-157.9998, 4725,   1019.6,   3.8644,  34.4728,2,  34.4724,2,     44.4,2,     44.9,2,  -999.00,5,  -999.00,5,  -999.00,5,   1020,-999.000,  -999.0,  3.7882
     32MW061_1,  PRS2,     2,  5,     12,     12,2,19950304,0944, 22.7503,-157.9995, 4725,      4.2,  23.0875,  34.6937,2,  34.9323,4,    210.9,1,   -999.0,9,  -999.00,9,  -999.00,9,  -999.00,9,      5,-999.000,  -999.0, 23.0866
     32MW061_1,  PRS2,     2,  5,     11,     11,2,19950304,0944, 22.7503,-157.9995, 4725,     25.0,  23.0969,  34.6940,2,  34.6920,2,    210.9,1,   -999.0,9,  -999.00,9,  -999.00,9,  -999.00,9,     25,-999.000,  -999.0, 23.0918
     32MW061_1,  PRS2,     2,  5,     10,     32,2,19950304,0944, 22.7503,-157.9995, 4725,     45.7,  22.7949,  34.9777,2,  34.9752,2,    210.4,1,   -999.0,9,  -999.00,9,  -999.00,9,  -999.00,9,     46,-999.000,  -999.0, 22.7856
     32MW061_1,  PRS2,     2,  5,      9,      3,2,19950304,0944, 22.7503,-157.9995, 4725,     75.3,  22.1267,  35.0368,2,  35.0369,2,    206.7,1,   -999.0,9,  -999.00,9,  -999.00,9,  -999.00,9,     76,-999.000,  -999.0, 22.1118
     32MW061_1,  PRS2,     2,  5,      8,     29,2,19950304,0944, 22.7503,-157.9995, 4725,    101.2,  21.2644,  35.0741,2,  35.0683,2,    199.2,1,   -999.0,9,  -999.00,9,  -999.00,9,  -999.00,9,    103,-999.000,  -999.0, 21.2448
     32MW061_1,  PRS2,     2,  5,      7,     28,2,19950304,0944, 22.7503,-157.9995, 4725,    123.5,  19.9929,  34.9177,2,  34.9188,2,    190.3,1,   -999.0,9,  -999.00,9,  -999.00,9,  -999.00,9,    123,-999.000,  -999.0, 19.9701
     32MW061_1,  PRS2,     2,  5,      6,      7,2,19950304,0944, 22.7503,-157.9995, 4725,    137.1,  19.9893,  35.0737,2,  35.0632,2,    196.7,1,   -999.0,9,  -999.00,9,  -999.00,9,  -999.00,9,    138,-999.000,  -999.0, 19.9639
     32MW061_1,  PRS2,     2,  5,      5,     23,2,19950304,0944, 22.7503,-157.9995, 4725,    142.2,  19.6930,  35.0681,2,  35.0781,2,    195.5,1,   -999.0,9,  -999.00,9,  -999.00,9,  -999.00,9,    142,-999.000,  -999.0, 19.6670
     32MW061_1,  PRS2,     2,  5,      4,     36,2,19950304,0944, 22.7503,-157.9995, 4725,    150.7,  19.1695,  35.0185,2,  35.0226,2,    190.5,1,   -999.0,9,  -999.00,9,  -999.00,9,  -999.00,9,    151,-999.000,  -999.0, 19.1425
     32MW061_1,  PRS2,     2,  5,      3,     35,2,19950304,0944, 22.7503,-157.9995, 4725,    169.1,  18.5117,  34.9487,2,  34.9297,2,    190.6,1,   -999.0,9,  -999.00,9,  -999.00,9,  -999.00,9,    171,-999.000,  -999.0, 18.4821
     32MW061_1,  PRS2,     2,  5,      2,     34,2,19950304,0944, 22.7503,-157.9995, 4725,    497.5,   6.8744,  34.0600,2,  34.0615,2,    107.7,1,   -999.0,9,  -999.00,9,  -999.00,9,  -999.00,9,    498,-999.000,  -999.0,  6.8280
     32MW061_1,  PRS2,     2,  5,      1,     33,2,19950304,0944, 22.7503,-157.9995, 4725,   1024.7,   3.7179,  34.4930,2,  34.4938,2,     49.0,1,   -999.0,9,  -999.00,9,  -999.00,9,  -999.00,9,   1025,-999.000,  -999.0,  3.6424
     32MW061_1,  PRS2,     2,  6,      9,      3,2,19950304,1320, 22.7273,-158.0390, 4725,      4.6,  23.0539,  34.7089,2,  34.7101,2,    214.3,1,   -999.0,9,  -999.00,9,  -999.00,9,  -999.00,9,      5,-999.000,  -999.0, 23.0529
     32MW061_1,  PRS2,     2,  6,      4,     36,2,19950304,1320, 22.7273,-158.0390, 4725,    102.9,  21.0866,  35.0569,2,-999.0000,5,    198.4,1,   -999.0,9,  -999.00,9,  -999.00,9,  -999.00,9,    103,-999.000,  -999.0, 21.0669
     32MW061_1,  PRS2,     2,  6,      5,     23,2,19950304,1320, 22.7273,-158.0390, 4725,    103.3,  21.0442,  35.0520,2,-999.0000,5,    198.6,1,   -999.0,9,  -999.00,9,  -999.00,9,  -999.00,9,    104,-999.000,  -999.0, 21.0244
     32MW061_1,  PRS2,     2,  6,      6,      7,2,19950304,1320, 22.7273,-158.0390, 4725,    103.8,  21.0321,  35.0504,2,-999.0000,5,    198.7,1,   -999.0,9,  -999.00,9,  -999.00,9,  -999.00,9,    105,-999.000,  -999.0, 21.0123
     32MW061_1,  PRS2,     2,  6,      7,     28,2,19950304,1320, 22.7273,-158.0390, 4725,    104.1,  20.9920,  35.0448,2,-999.0000,5,    198.9,1,   -999.0,9,  -999.00,9,  -999.00,9,  -999.00,9,    104,-999.000,  -999.0, 20.9721
     32MW061_1,  PRS2,     2,  6,      8,     29,2,19950304,1320, 22.7273,-158.0390, 4725,    104.5,  20.9814,  35.0405,2,  35.0505,2,    199.1,1,   -999.0,9,  -999.00,9,  -999.00,9,  -999.00,9,    104,-999.000,  -999.0, 20.9614
     32MW061_1,  PRS2,     2,  6,      3,     35,2,19950304,1320, 22.7273,-158.0390, 4725,    502.7,   6.8964,  34.0563,2,  34.0565,2,    109.5,1,   -999.0,9,  -999.00,9,  -999.00,9,  -999.00,9,    504,-999.000,  -999.0,  6.8494
     32MW061_1,  PRS2,     2,  6,      2,     34,2,19950304,1320, 22.7273,-158.0390, 4725,    804.2,   4.4830,  34.3467,2,  34.3446,2,     33.2,1,   -999.0,9,  -999.00,9,  -999.00,9,  -999.00,9,    804,-999.000,  -999.0,  4.4205
     32MW061_1,  PRS2,     2,  6,      1,     33,2,19950304,1320, 22.7273,-158.0390, 4725,   1024.4,   3.7292,  34.4873,2,  34.4866,2,     48.7,1,   -999.0,9,  -999.00,9,  -999.00,9,  -999.00,9,   1025,-999.000,  -999.0,  3.6537
     32MW061_1,  PRS2,     2,  7,     13,     13,2,19950304,1629, 22.7487,-158.0182, 4725,      4.8,  23.0724,  34.6393,2,  34.6381,2,    206.4,1,   -999.0,9,  -999.00,9,  -999.00,9,  -999.00,9,      5,-999.000,  -999.0, 23.0714
     32MW061_1,  PRS2,     2,  7,     12,     12,2,19950304,1629, 22.7487,-158.0182, 4725,     25.2,  23.0911,  34.6493,2,  34.6425,2,    206.4,1,   -999.0,9,  -999.00,9,  -999.00,9,  -999.00,9,     25,-999.000,  -999.0, 23.0860
     32MW061_1,  PRS2,     2,  7,     11,     11,2,19950304,1629, 22.7487,-158.0182, 4725,     46.0,  23.0604,  34.7890,2,  34.7864,2,    205.4,1,   -999.0,9,  -999.00,9,  -999.00,9,  -999.00,9,     46,-999.000,  -999.0, 23.0510
     32MW061_1,  PRS2,     2,  7,     10,     32,2,19950304,1629, 22.7487,-158.0182, 4725,     74.9,  22.3288,  35.0465,2,  35.0462,2,    203.2,1,   -999.0,9,  -999.00,9,  -999.00,9,  -999.00,9,     76,-999.000,  -999.0, 22.3139
     32MW061_1,  PRS2,     2,  7,      9,      3,2,19950304,1629, 22.7487,-158.0182, 4725,    102.9,  21.2324,  35.0798,2,  35.0817,2,    195.1,1,   -999.0,9,  -999.00,9,  -999.00,9,  -999.00,9,    103,-999.000,  -999.0, 21.2125
     32MW061_1,  PRS2,     2,  7,      8,     29,2,19950304,1629, 22.7487,-158.0182, 4725,    127.3,  20.1446,  34.9699,2,  34.9803,2,    186.4,1,   -999.0,9,  -999.00,9,  -999.00,9,  -999.00,9,    126,-999.000,  -999.0, 20.1210
     32MW061_1,  PRS2,     2,  7,      7,     28,2,19950304,1629, 22.7487,-158.0182, 4725,    147.1,  19.6918,  34.9648,2,  34.9647,2,    184.1,1,   -999.0,9,  -999.00,9,  -999.00,9,  -999.00,9,    148,-999.000,  -999.0, 19.6650
     32MW061_1,  PRS2,     2,  7,      6,      7,2,19950304,1629, 22.7487,-158.0182, 4725,    173.8,  19.0953,  35.0162,2,  35.0166,2,    186.7,1,   -999.0,9,  -999.00,9,  -999.00,9,  -999.00,9,    173,-999.000,  -999.0, 19.0642
     32MW061_1,  PRS2,     2,  7,      5,     23,4,19950304,1629, 22.7487,-158.0182, 4725,    251.6,  14.8474,  34.4656,2,-999.0000,5,    174.8,1,   -999.0,9,  -999.00,9,  -999.00,9,  -999.00,9,    254,-999.000,  -999.0, 14.8097
     32MW061_1,  PRS2,     2,  7,      4,     36,2,19950304,1629, 22.7487,-158.0182, 4725,    501.5,   6.8760,  34.0574,2,  34.0579,2,    103.3,1,   -999.0,9,  -999.00,9,  -999.00,9,  -999.00,9,    503,-999.000,  -999.0,  6.8292
     32MW061_1,  PRS2,     2,  7,      3,     35,2,19950304,1629, 22.7487,-158.0182, 4725,    750.8,   4.7460,  34.3041,2,  34.3054,2,     30.0,1,   -999.0,9,  -999.00,9,  -999.00,9,  -999.00,9,    749,-999.000,  -999.0,  4.6865
     32MW061_1,  PRS2,     2,  7,      1,     33,2,19950304,1629, 22.7487,-158.0182, 4725,   1021.2,   3.7170,  34.4932,2,  34.4923,2,     46.8,1,   -999.0,9,  -999.00,9,  -999.00,9,  -999.00,9,   1024,-999.000,  -999.0,  3.6418
     32MW061_1,  PRS2,     2,  7,      2,     34,2,19950304,1629, 22.7487,-158.0182, 4725,   1022.6,   3.7166,  34.4920,2,  34.4913,2,     46.8,1,   -999.0,9,  -999.00,9,  -999.00,9,  -999.00,9,   1021,-999.000,  -999.0,  3.6413