BOTTLE,20020809WHPSIObren
EXPOCODE,SECT_ID,STNNBR,CASTNO,SAMPNO,BTLNBR,BTLNBR_FLAG_W,DATE,TIME,LATITUDE,LONGITUDE,DEPTH,CTDPRS,CTDTMP,CTDSAL,CTDSAL_FLAG_W,SALNTY,SALNTY_FLAG_W,CTDOXY,CTDOXY_FLAG_W,OXYGEN,OXYGEN_FLAG_W,SILCAT,SILCAT_FLAG_W,NO2+NO3,NO2+NO3_FLAG_W,PHSPHT,PHSPHT_FLAG_W,CTDRAW,REVTMP,REVPRS,THETA
,,,,,,,,,,,,DBAR,ITS-90,PSS-78,,PSS-78,,UMOL/KG,,UMOL/KG,,UMOL/KG,,UMOL/KG,,UMOL/KG,,,DEG C,DBAR,ITS-90
     32MW061_1,  PRS2,     2, 15,     23,     30,2,19950305,1659, 22.7527,-157.9980, 4720,      5.5,  23.0779,  34.7087,2,  34.7057,2,    214.7,1,   -999.0,9,  -999.00,9,  -999.00,9,  -999.00,9,      6,-999.000,  -999.0, 23.0768
     32MW061_1,  PRS2,     2, 15,     24,     31,2,19950305,1659, 22.7527,-157.9980, 4720,      5.6,  23.0780,  34.7088,2,-999.0000,5,    214.7,1,   -999.0,9,  -999.00,9,  -999.00,9,  -999.00,9,      5,-999.000,  -999.0, 23.0768
     32MW061_1,  PRS2,     2, 15,     22,     22,2,19950305,1659, 22.7527,-157.9980, 4720,     25.9,  23.0908,  34.7195,2,-999.0000,5,    214.7,1,   -999.0,9,  -999.00,9,  -999.00,9,  -999.00,9,     27,-999.000,  -999.0, 23.0855
     32MW061_1,  PRS2,     2, 15,     21,     21,2,19950305,1659, 22.7527,-157.9980, 4720,     25.9,  23.0911,  34.7204,2,  34.7166,2,    214.7,1,   -999.0,9,  -999.00,9,  -999.00,9,  -999.00,9,     26,-999.000,  -999.0, 23.0858
     32MW061_1,  PRS2,     2, 15,     19,     19,2,19950305,1659, 22.7527,-157.9980, 4720,     46.5,  22.7705,  34.9977,2,  34.9920,2,    211.4,1,   -999.0,9,  -999.00,9,  -999.00,9,  -999.00,9,     48,-999.000,  -999.0, 22.7611
     32MW061_1,  PRS2,     2, 15,     20,     20,2,19950305,1659, 22.7527,-157.9980, 4720,     46.8,  22.7707,  34.9989,2,-999.0000,5,    211.4,1,   -999.0,9,  -999.00,9,  -999.00,9,  -999.00,9,     47,-999.000,  -999.0, 22.7612
     32MW061_1,  PRS2,     2, 15,     18,     18,2,19950305,1659, 22.7527,-157.9980, 4720,     74.2,  22.6782,  35.1027,2,-999.0000,5,    208.0,1,   -999.0,9,  -999.00,9,  -999.00,9,  -999.00,9,     75,-999.000,  -999.0, 22.6632
     32MW061_1,  PRS2,     2, 15,     17,     17,2,19950305,1659, 22.7527,-157.9980, 4720,     74.2,  22.6782,  35.1027,2,  35.1037,2,    208.0,1,   -999.0,9,  -999.00,9,  -999.00,9,  -999.00,9,     73,-999.000,  -999.0, 22.6632
     32MW061_1,  PRS2,     2, 15,     16,     16,2,19950305,1659, 22.7527,-157.9980, 4720,    100.2,  21.9880,  35.0819,2,-999.0000,5,    201.9,1,   -999.0,9,  -999.00,9,  -999.00,9,  -999.00,9,    100,-999.000,  -999.0, 21.9682
     32MW061_1,  PRS2,     2, 15,     15,     15,2,19950305,1659, 22.7527,-157.9980, 4720,    100.2,  21.9880,  35.0815,2,  35.0823,2,    201.9,1,   -999.0,9,  -999.00,9,  -999.00,9,  -999.00,9,    101,-999.000,  -999.0, 21.9682
     32MW061_1,  PRS2,     2, 15,     13,     13,2,19950305,1659, 22.7527,-157.9980, 4720,    126.7,  21.2353,  35.0651,2,  35.0664,2,    196.4,1,   -999.0,9,  -999.00,9,  -999.00,9,  -999.00,9,    128,-999.000,  -999.0, 21.2109
     32MW061_1,  PRS2,     2, 15,     14,     14,2,19950305,1659, 22.7527,-157.9980, 4720,    126.8,  21.2351,  35.0651,2,-999.0000,5,    196.4,1,   -999.0,9,  -999.00,9,  -999.00,9,  -999.00,9,    127,-999.000,  -999.0, 21.2106
     32MW061_1,  PRS2,     2, 15,     12,     12,2,19950305,1659, 22.7527,-157.9980, 4720,    149.8,  20.0538,  35.0016,2,-999.0000,5,    190.6,1,   -999.0,9,  -999.00,9,  -999.00,9,  -999.00,9,    151,-999.000,  -999.0, 20.0261
     32MW061_1,  PRS2,     2, 15,     11,     11,2,19950305,1659, 22.7527,-157.9980, 4720,    149.9,  20.0517,  35.0009,2,  34.9932,2,    190.8,1,   -999.0,9,  -999.00,9,  -999.00,9,  -999.00,9,    152,-999.000,  -999.0, 20.0240
     32MW061_1,  PRS2,     2, 15,     10,     32,2,19950305,1659, 22.7527,-157.9980, 4720,    174.4,  19.0904,  35.0350,2,-999.0000,5,    189.7,1,   -999.0,9,  -999.00,9,  -999.00,9,  -999.00,9,    175,-999.000,  -999.0, 19.0592
     32MW061_1,  PRS2,     2, 15,      9,      3,2,19950305,1659, 22.7527,-157.9980, 4720,    174.5,  19.0911,  35.0352,2,  35.0343,2,    189.8,1,   -999.0,9,  -999.00,9,  -999.00,9,  -999.00,9,    174,-999.000,  -999.0, 19.0598
     32MW061_1,  PRS2,     2, 15,      7,     28,2,19950305,1659, 22.7527,-157.9980, 4720,    251.3,  14.1516,  34.3856,2,-999.0000,5,    176.6,1,   -999.0,9,  -999.00,9,  -999.00,9,  -999.00,9,    251,-999.000,  -999.0, 14.1152
     32MW061_1,  PRS2,     2, 15,      8,     29,2,19950305,1659, 22.7527,-157.9980, 4720,    251.6,  14.1363,  34.3832,2,-999.0000,5,    176.9,1,   -999.0,9,  -999.00,9,  -999.00,9,  -999.00,9,    253,-999.000,  -999.0, 14.0998
     32MW061_1,  PRS2,     2, 15,      6,      7,2,19950305,1659, 22.7527,-157.9980, 4720,    500.5,   7.0869,  34.0587,2,-999.0000,5,    114.7,1,   -999.0,9,  -999.00,9,  -999.00,9,  -999.00,9,    499,-999.000,  -999.0,  7.0394
     32MW061_1,  PRS2,     2, 15,      5,     23,2,19950305,1659, 22.7527,-157.9980, 4720,    500.6,   7.0856,  34.0587,2,  34.0673,3,    114.4,1,   -999.0,9,  -999.00,9,  -999.00,9,  -999.00,9,    500,-999.000,  -999.0,  7.0381
     32MW061_1,  PRS2,     2, 15,      4,     36,2,19950305,1659, 22.7527,-157.9980, 4720,    750.9,   4.8041,  34.2967,2,-999.0000,5,     29.9,1,   -999.0,9,  -999.00,9,  -999.00,9,  -999.00,9,    749,-999.000,  -999.0,  4.7442
     32MW061_1,  PRS2,     2, 15,      3,     35,2,19950305,1659, 22.7527,-157.9980, 4720,    751.1,   4.8039,  34.2965,2,  34.2963,2,     29.9,1,   -999.0,9,  -999.00,9,  -999.00,9,  -999.00,9,    753,-999.000,  -999.0,  4.7440
     32MW061_1,  PRS2,     2, 15,      1,     33,2,19950305,1659, 22.7527,-157.9980, 4720,   1024.1,   3.7335,  34.4815,2,  34.4797,2,     40.1,1,   -999.0,9,  -999.00,9,  -999.00,9,  -999.00,9,   1023,-999.000,  -999.0,  3.6580
     32MW061_1,  PRS2,     2, 15,      2,     34,2,19950305,1659, 22.7527,-157.9980, 4720,   1025.0,   3.7303,  34.4816,2,-999.0000,5,     40.1,1,   -999.0,9,  -999.00,9,  -999.00,9,  -999.00,9,   1024,-999.000,  -999.0,  3.6547
     32MW061_1,  PRS2,     2, 16,     17,     17,2,19950305,2230, 22.7497,-157.9913, 4720,     10.5,  23.1557,  34.6766,2,-999.0000,5,    206.9,1,   -999.0,9,  -999.00,9,  -999.00,9,  -999.00,9,     11,-999.000,  -999.0, 23.1536
     32MW061_1,  PRS2,     2, 16,     16,     16,2,19950305,2230, 22.7497,-157.9913, 4720,     10.5,  23.1559,  34.6768,2,  34.6813,2,    206.8,1,   -999.0,9,  -999.00,9,  -999.00,9,  -999.00,9,     11,-999.000,  -999.0, 23.1537
     32MW061_1,  PRS2,     2, 16,     14,     14,2,19950305,2230, 22.7497,-157.9913, 4720,     49.1,  22.3377,  35.0410,2,  35.0413,2,    205.6,1,   -999.0,9,  -999.00,9,  -999.00,9,  -999.00,9,     50,-999.000,  -999.0, 22.3279
     32MW061_1,  PRS2,     2, 16,     15,     15,2,19950305,2230, 22.7497,-157.9913, 4720,     49.2,  22.3380,  35.0410,2,-999.0000,5,    205.8,1,   -999.0,9,  -999.00,9,  -999.00,9,  -999.00,9,     50,-999.000,  -999.0, 22.3281
     32MW061_1,  PRS2,     2, 16,     13,     13,2,19950305,2230, 22.7497,-157.9913, 4720,    100.2,  21.1898,  35.0667,2,-999.0000,5,    195.4,1,   -999.0,9,  -999.00,9,  -999.00,9,  -999.00,9,    101,-999.000,  -999.0, 21.1705
     32MW061_1,  PRS2,     2, 16,     12,     12,2,19950305,2230, 22.7497,-157.9913, 4720,    100.2,  21.1900,  35.0671,2,  35.0678,2,    195.5,1,   -999.0,9,  -999.00,9,  -999.00,9,  -999.00,9,    102,-999.000,  -999.0, 21.1707
     32MW061_1,  PRS2,     2, 16,     11,     11,2,19950305,2230, 22.7497,-157.9913, 4720,    201.8,  17.5837,  34.8644,2,-999.0000,5,    191.3,1,   -999.0,9,  -999.00,9,  -999.00,9,  -999.00,9,    202,-999.000,  -999.0, 17.5497
     32MW061_1,  PRS2,     2, 16,     10,     32,2,19950305,2230, 22.7497,-157.9913, 4720,    201.8,  17.5871,  34.8641,2,  34.8650,2,    191.6,1,   -999.0,9,  -999.00,9,  -999.00,9,  -999.00,9,    202,-999.000,  -999.0, 17.5530
     32MW061_1,  PRS2,     2, 16,      9,      3,2,19950305,2230, 22.7497,-157.9913, 4720,    299.8,  11.7636,  34.2085,2,-999.0000,5,    174.8,1,   -999.0,9,  -999.00,9,  -999.00,9,  -999.00,9,    299,-999.000,  -999.0, 11.7251
     32MW061_1,  PRS2,     2, 16,      8,     29,2,19950305,2230, 22.7497,-157.9913, 4720,    299.9,  11.7600,  34.2082,2,  34.2081,2,    174.2,1,   -999.0,9,  -999.00,9,  -999.00,9,  -999.00,9,    301,-999.000,  -999.0, 11.7216
     32MW061_1,  PRS2,     2, 16,      7,     28,2,19950305,2230, 22.7497,-157.9913, 4720,    499.8,   6.6797,  34.0578,2,  34.0583,2,    101.1,1,   -999.0,9,  -999.00,9,  -999.00,9,  -999.00,9,    501,-999.000,  -999.0,  6.6338
     32MW061_1,  PRS2,     2, 16,      6,      7,2,19950305,2230, 22.7497,-157.9913, 4720,   1021.2,   3.7596,  34.4783,2,-999.0000,5,     37.8,1,   -999.0,9,  -999.00,9,  -999.00,9,  -999.00,9,   1023,-999.000,  -999.0,  3.6841
     32MW061_1,  PRS2,     2, 16,      1,     33,2,19950305,2230, 22.7497,-157.9913, 4720,   1021.2,   3.7603,  34.4779,2,  34.4789,2,     37.7,1,   -999.0,9,  -999.00,9,  -999.00,9,  -999.00,9,   1020,-999.000,  -999.0,  3.6848
     32MW061_1,  PRS2,     2, 16,      5,     23,2,19950305,2230, 22.7497,-157.9913, 4720,   1021.3,   3.7599,  34.4781,2,-999.0000,5,     37.8,1,   -999.0,9,  -999.00,9,  -999.00,9,  -999.00,9,   1022,-999.000,  -999.0,  3.6844
     32MW061_1,  PRS2,     2, 16,      4,     36,2,19950305,2230, 22.7497,-157.9913, 4720,   1021.3,   3.7602,  34.4779,2,-999.0000,5,     37.8,1,   -999.0,9,  -999.00,9,  -999.00,9,  -999.00,9,   1020,-999.000,  -999.0,  3.6846
     32MW061_1,  PRS2,     2, 16,      3,     35,2,19950305,2230, 22.7497,-157.9913, 4720,   1021.5,   3.7602,  34.4778,2,-999.0000,5,     37.7,1,   -999.0,9,  -999.00,9,  -999.00,9,  -999.00,9,   1022,-999.000,  -999.0,  3.6846
     32MW061_1,  PRS2,     2, 16,      2,     34,2,19950305,2230, 22.7497,-157.9913, 4720,   1021.6,   3.7602,  34.4777,2,-999.0000,5,     37.7,1,   -999.0,9,  -999.00,9,  -999.00,9,  -999.00,9,   1022,-999.000,  -999.0,  3.6846
     32MW061_1,  PRS2,     2, 17,     24,     31,2,19950306,0132, 22.7387,-158.0135, 4720,      4.8,  23.0245,  34.7612,2,  34.7605,2,    220.3,1,   -999.0,9,  -999.00,9,  -999.00,9,  -999.00,9,      5,-999.000,  -999.0, 23.0236
     32MW061_1,  PRS2,     2, 17,     23,     30,2,19950306,0132, 22.7387,-158.0135, 4720,     10.1,  23.0293,  34.7595,2,  34.7592,2,    220.3,1,   -999.0,9,  -999.00,9,  -999.00,9,  -999.00,9,     10,-999.000,  -999.0, 23.0273
     32MW061_1,  PRS2,     2, 17,     22,     22,2,19950306,0132, 22.7387,-158.0135, 4720,     15.8,  23.0284,  34.7617,2,  34.7733,3,    220.3,1,   -999.0,9,  -999.00,9,  -999.00,9,  -999.00,9,     16,-999.000,  -999.0, 23.0252
     32MW061_1,  PRS2,     2, 17,     21,     21,2,19950306,0132, 22.7387,-158.0135, 4720,     19.4,  23.0273,  34.7627,2,  34.7864,4,    220.3,1,   -999.0,9,  -999.00,9,  -999.00,9,  -999.00,9,     19,-999.000,  -999.0, 23.0234
     32MW061_1,  PRS2,     2, 17,     20,     20,2,19950306,0132, 22.7387,-158.0135, 4720,     44.9,  22.6173,  35.0629,2,  35.0628,2,    219.4,1,   -999.0,9,  -999.00,9,  -999.00,9,  -999.00,9,     45,-999.000,  -999.0, 22.6083
     32MW061_1,  PRS2,     2, 17,     19,     19,2,19950306,0132, 22.7387,-158.0135, 4720,     65.1,  22.0878,  35.1219,2,  35.1360,3,    215.5,1,   -999.0,9,  -999.00,9,  -999.00,9,  -999.00,9,     66,-999.000,  -999.0, 22.0749
     32MW061_1,  PRS2,     2, 17,     18,     18,2,19950306,0132, 22.7387,-158.0135, 4720,     79.8,  21.6459,  35.0655,2,  35.0700,2,    210.9,1,   -999.0,9,  -999.00,9,  -999.00,9,  -999.00,9,     81,-999.000,  -999.0, 21.6303
     32MW061_1,  PRS2,     2, 17,     17,     17,2,19950306,0132, 22.7387,-158.0135, 4720,    100.9,  21.3406,  35.0687,2,  35.0658,2,    207.0,1,   -999.0,9,  -999.00,9,  -999.00,9,  -999.00,9,    101,-999.000,  -999.0, 21.3211
     32MW061_1,  PRS2,     2, 17,     16,     16,2,19950306,0132, 22.7387,-158.0135, 4720,    118.8,  20.5699,  35.0421,2,  35.0354,2,    202.3,1,   -999.0,9,  -999.00,9,  -999.00,9,  -999.00,9,    120,-999.000,  -999.0, 20.5475
     32MW061_1,  PRS2,     2, 17,     15,     15,2,19950306,0132, 22.7387,-158.0135, 4720,    139.0,  20.0448,  35.0457,2,  35.0472,2,    199.7,1,   -999.0,9,  -999.00,9,  -999.00,9,  -999.00,9,    141,-999.000,  -999.0, 20.0190
     32MW061_1,  PRS2,     2, 17,     14,     14,2,19950306,0132, 22.7387,-158.0135, 4720,    160.3,  19.4361,  35.0505,2,  35.0523,2,    200.3,1,   -999.0,9,  -999.00,9,  -999.00,9,  -999.00,9,    160,-999.000,  -999.0, 19.4071
     32MW061_1,  PRS2,     2, 17,     13,     13,2,19950306,0132, 22.7387,-158.0135, 4720,    179.6,  18.9267,  35.0139,2,  35.0154,2,    200.0,1,   -999.0,9,  -999.00,9,  -999.00,9,  -999.00,9,    180,-999.000,  -999.0, 18.8948
     32MW061_1,  PRS2,     2, 17,     12,     12,2,19950306,0132, 22.7387,-158.0135, 4720,    200.8,  17.6281,  34.8372,2,  34.8407,2,    195.9,1,   -999.0,9,  -999.00,9,  -999.00,9,  -999.00,9,    201,-999.000,  -999.0, 17.5941
     32MW061_1,  PRS2,     2, 17,     11,     11,2,19950306,0132, 22.7387,-158.0135, 4720,    248.4,  14.7427,  34.4535,2,  34.4653,2,    170.4,1,   -999.0,9,  -999.00,9,  -999.00,9,  -999.00,9,    249,-999.000,  -999.0, 14.7057
     32MW061_1,  PRS2,     2, 17,     10,     32,2,19950306,0132, 22.7387,-158.0135, 4720,    298.5,  11.5723,  34.2089,2,  34.2078,2,    194.6,1,   -999.0,9,  -999.00,9,  -999.00,9,  -999.00,9,    301,-999.000,  -999.0, 11.5345
     32MW061_1,  PRS2,     2, 17,      9,      3,2,19950306,0132, 22.7387,-158.0135, 4720,    349.7,  10.1110,  34.1364,2,  34.1399,2,    185.0,1,   -999.0,9,  -999.00,9,  -999.00,9,  -999.00,9,    349,-999.000,  -999.0, 10.0703
     32MW061_1,  PRS2,     2, 17,      8,     29,2,19950306,0132, 22.7387,-158.0135, 4720,    400.0,   8.6186,  34.0812,2,  34.0828,2,    174.5,1,   -999.0,9,  -999.00,9,  -999.00,9,  -999.00,9,    399,-999.000,  -999.0,  8.5763
     32MW061_1,  PRS2,     2, 17,      7,     28,2,19950306,0132, 22.7387,-158.0135, 4720,    449.7,   7.7740,  34.0631,2,  34.0642,2,    149.3,1,   -999.0,9,  -999.00,9,  -999.00,9,  -999.00,9,    450,-999.000,  -999.0,  7.7291
     32MW061_1,  PRS2,     2, 17,      6,      7,2,19950306,0132, 22.7387,-158.0135, 4720,    498.5,   6.6983,  34.0568,2,  34.0574,2,    112.8,1,   -999.0,9,  -999.00,9,  -999.00,9,  -999.00,9,    497,-999.000,  -999.0,  6.6525
     32MW061_1,  PRS2,     2, 17,      5,     23,2,19950306,0132, 22.7387,-158.0135, 4720,    599.6,   5.4225,  34.1395,2,  34.1437,2,     59.6,1,   -999.0,9,  -999.00,9,  -999.00,9,  -999.00,9,    601,-999.000,  -999.0,  5.3727
     32MW061_1,  PRS2,     2, 17,      4,     36,2,19950306,0132, 22.7387,-158.0135, 4720,    700.1,   4.8377,  34.2841,2,  34.2909,2,     38.4,1,   -999.0,9,  -999.00,9,  -999.00,9,  -999.00,9,    700,-999.000,  -999.0,  4.7820
     32MW061_1,  PRS2,     2, 17,      3,     35,2,19950306,0132, 22.7387,-158.0135, 4720,    799.5,   4.3641,  34.3761,2,  34.3759,2,     36.2,1,   -999.0,9,  -999.00,9,  -999.00,9,  -999.00,9,    799,-999.000,  -999.0,  4.3028
     32MW061_1,  PRS2,     2, 17,      2,     34,2,19950306,0132, 22.7387,-158.0135, 4720,    899.1,   4.0592,  34.4336,2,  34.4387,2,     39.7,1,   -999.0,9,  -999.00,9,  -999.00,9,  -999.00,9,    900,-999.000,  -999.0,  3.9915
     32MW061_1,  PRS2,     2, 17,      1,     33,2,19950306,0132, 22.7387,-158.0135, 4720,   1020.4,   3.7961,  34.4805,2,  34.4809,2,     44.2,1,   -999.0,9,  -999.00,9,  -999.00,9,  -999.00,9,   1020,-999.000,  -999.0,  3.7204
     32MW061_1,  PRS2,     6,  1,     11,     11,2,19950303,0352, 21.8462,-158.3645, 2425,      5.0,  23.9794,  34.3640,2,  34.3607,2,    211.6,2,    211.6,2,  -999.00,9,  -999.00,9,  -999.00,9,      5,-999.000,  -999.0, 23.9783
     32MW061_1,  PRS2,     6,  1,     10,     32,2,19950303,0352, 21.8462,-158.3645, 2425,     25.3,  23.9892,  34.4086,2,  34.4056,2,    211.4,2,   -999.0,5,  -999.00,9,  -999.00,9,  -999.00,9,     24,-999.000,  -999.0, 23.9839
     32MW061_1,  PRS2,     6,  1,      9,      3,2,19950303,0352, 21.8462,-158.3645, 2425,     44.8,  23.8505,  34.4105,2,  34.4085,2,    211.2,2,   -999.0,5,  -999.00,9,  -999.00,9,  -999.00,9,     45,-999.000,  -999.0, 23.8411
     32MW061_1,  PRS2,     6,  1,      8,     29,2,19950303,0352, 21.8462,-158.3645, 2425,     75.2,  23.9951,  34.7299,2,  34.7266,2,    210.1,2,   -999.0,5,  -999.00,9,  -999.00,9,  -999.00,9,     74,-999.000,  -999.0, 23.9793
     32MW061_1,  PRS2,     6,  1,      7,     28,2,19950303,0352, 21.8462,-158.3645, 2425,    101.4,  23.6583,  34.8355,2,  34.8420,2,    209.2,2,   -999.0,5,  -999.00,9,  -999.00,9,  -999.00,9,    101,-999.000,  -999.0, 23.6372
     32MW061_1,  PRS2,     6,  1,      6,      7,2,19950303,0352, 21.8462,-158.3645, 2425,    127.0,  23.0252,  34.9214,2,  34.9151,2,    207.6,2,   -999.0,5,  -999.00,9,  -999.00,9,  -999.00,9,    126,-999.000,  -999.0, 22.9993
     32MW061_1,  PRS2,     6,  1,      5,     23,2,19950303,0352, 21.8462,-158.3645, 2425,    149.2,  21.5810,  35.0618,2,  35.0644,2,    191.2,2,   -999.0,5,  -999.00,9,  -999.00,9,  -999.00,9,    149,-999.000,  -999.0, 21.5519
     32MW061_1,  PRS2,     6,  1,      4,     36,2,19950303,0352, 21.8462,-158.3645, 2425,    164.7,  21.1877,  35.0879,2,  35.1010,2,    195.8,2,    197.7,2,  -999.00,9,  -999.00,9,  -999.00,9,    164,-999.000,  -999.0, 21.1559
     32MW061_1,  PRS2,     6,  1,      3,     35,2,19950303,0352, 21.8462,-158.3645, 2425,    175.7,  20.4414,  35.1207,2,  35.1063,2,    192.8,2,   -999.0,5,  -999.00,9,  -999.00,9,  -999.00,9,    174,-999.000,  -999.0, 20.4084
     32MW061_1,  PRS2,     6,  1,      2,     34,2,19950303,0352, 21.8462,-158.3645, 2425,    500.7,   6.9764,  34.1318,2,  34.1325,2,     84.1,2,     85.9,2,  -999.00,9,  -999.00,9,  -999.00,9,    501,-999.000,  -999.0,  6.9292
     32MW061_1,  PRS2,     6,  1,      1,     33,2,19950303,0352, 21.8462,-158.3645, 2425,   2416.7,   1.7681,  34.6503,2,  34.6484,2,    109.2,2,    109.2,2,  -999.00,9,  -999.00,9,  -999.00,9,   2419,-999.000,  -999.0,  1.5996