BOTTLE,20020809WHPSIObren
EXPOCODE,SECT_ID,STNNBR,CASTNO,SAMPNO,BTLNBR,BTLNBR_FLAG_W,DATE,TIME,LATITUDE,LONGITUDE,DEPTH,CTDPRS,CTDTMP,CTDSAL,CTDSAL_FLAG_W,SALNTY,SALNTY_FLAG_W,CTDOXY,CTDOXY_FLAG_W,OXYGEN,OXYGEN_FLAG_W,SILCAT,SILCAT_FLAG_W,NO2+NO3,NO2+NO3_FLAG_W,PHSPHT,PHSPHT_FLAG_W,CTDRAW,REVTMP,REVPRS,THETA
,,,,,,,,,,,,DBAR,ITS-90,PSS-78,,PSS-78,,UMOL/KG,,UMOL/KG,,UMOL/KG,,UMOL/KG,,UMOL/KG,,,DEG C,DBAR,ITS-90
     32MW061_1,  PRS2,     2,  8,     13,     13,2,19950304,1928, 22.7897,-158.0132, 4730,      5.4,  23.1024,  34.6345,2,  34.6697,3,    222.2,1,   -999.0,9,  -999.00,9,  -999.00,9,  -999.00,9,      6,-999.000,  -999.0, 23.1013
     32MW061_1,  PRS2,     2,  8,     12,     12,2,19950304,1928, 22.7897,-158.0132, 4730,     25.0,  23.0933,  34.6343,2,  34.6332,2,    209.8,1,   -999.0,9,  -999.00,9,  -999.00,9,  -999.00,9,     25,-999.000,  -999.0, 23.0882
     32MW061_1,  PRS2,     2,  8,     11,     11,2,19950304,1928, 22.7897,-158.0132, 4730,     45.4,  23.1186,  34.6833,2,  34.6789,2,    209.7,1,   -999.0,9,  -999.00,9,  -999.00,9,  -999.00,9,     46,-999.000,  -999.0, 23.1093
     32MW061_1,  PRS2,     2,  8,     10,     32,2,19950304,1928, 22.7897,-158.0132, 4730,     74.4,  22.2505,  35.0467,2,  35.0515,2,    203.0,1,   -999.0,9,  -999.00,9,  -999.00,9,  -999.00,9,     74,-999.000,  -999.0, 22.2357
     32MW061_1,  PRS2,     2,  8,      9,      3,2,19950304,1928, 22.7897,-158.0132, 4730,    100.3,  20.8314,  35.0165,2,  35.0192,2,    192.4,1,   -999.0,9,  -999.00,9,  -999.00,9,  -999.00,9,    102,-999.000,  -999.0, 20.8123
     32MW061_1,  PRS2,     2,  8,      8,     29,3,19950304,1928, 22.7897,-158.0132, 4730,    125.6,  19.9191,  34.9509,2,  34.9443,2,    186.1,1,   -999.0,9,  -999.00,9,  -999.00,9,  -999.00,9,    129,-999.000,  -999.0, 19.8960
     32MW061_1,  PRS2,     2,  8,      7,     28,2,19950304,1928, 22.7897,-158.0132, 4730,    150.2,  19.4400,  35.0441,2,  35.0456,2,    188.1,1,   -999.0,9,  -999.00,9,  -999.00,9,  -999.00,9,    153,-999.000,  -999.0, 19.4128
     32MW061_1,  PRS2,     2,  8,      6,      7,2,19950304,1928, 22.7897,-158.0132, 4730,    174.8,  19.1505,  35.0209,2,  35.0221,2,    188.0,1,   -999.0,9,  -999.00,9,  -999.00,9,  -999.00,9,    175,-999.000,  -999.0, 19.1191
     32MW061_1,  PRS2,     2,  8,      5,     23,2,19950304,1928, 22.7897,-158.0132, 4730,    249.6,  13.7604,  34.3577,2,  34.3632,2,    176.2,1,   -999.0,9,  -999.00,9,  -999.00,9,  -999.00,9,    250,-999.000,  -999.0, 13.7249
     32MW061_1,  PRS2,     2,  8,      4,     36,2,19950304,1928, 22.7897,-158.0132, 4730,    249.6,  13.7508,  34.3584,2,  34.3620,2,    176.0,1,   -999.0,9,  -999.00,9,  -999.00,9,  -999.00,9,    249,-999.000,  -999.0, 13.7153
     32MW061_1,  PRS2,     2,  8,      3,     35,2,19950304,1928, 22.7897,-158.0132, 4730,    499.9,   6.9313,  34.0587,2,  34.0575,2,    110.6,1,   -999.0,9,  -999.00,9,  -999.00,9,  -999.00,9,    502,-999.000,  -999.0,  6.8845
     32MW061_1,  PRS2,     2,  8,      2,     34,2,19950304,1928, 22.7897,-158.0132, 4730,    750.4,   4.8380,  34.2992,2,  34.2990,2,     36.8,1,   -999.0,9,  -999.00,9,  -999.00,9,  -999.00,9,    752,-999.000,  -999.0,  4.7780
     32MW061_1,  PRS2,     2,  8,      1,     33,2,19950304,1928, 22.7897,-158.0132, 4730,   1019.5,   3.7658,  34.4793,2,  34.4774,2,     49.3,1,   -999.0,9,  -999.00,9,  -999.00,9,  -999.00,9,   1020,-999.000,  -999.0,  3.6904
     32MW061_1,  PRS2,     2,  9,     12,     12,2,19950304,2229, 22.8185,-158.0212, 4710,      5.2,  23.1539,  34.6325,2,  34.6331,2,    213.9,1,   -999.0,9,  -999.00,9,  -999.00,9,  -999.00,9,      5,-999.000,  -999.0, 23.1528
     32MW061_1,  PRS2,     2,  9,     11,     11,2,19950304,2229, 22.8185,-158.0212, 4710,     25.1,  23.1356,  34.6727,2,  34.6702,2,    214.4,1,   -999.0,9,  -999.00,9,  -999.00,9,  -999.00,9,     24,-999.000,  -999.0, 23.1305
     32MW061_1,  PRS2,     2,  9,     10,     32,2,19950304,2229, 22.8185,-158.0212, 4710,     45.4,  22.7568,  34.9797,2,  34.9766,2,    208.1,1,   -999.0,9,  -999.00,9,  -999.00,9,  -999.00,9,     46,-999.000,  -999.0, 22.7476
     32MW061_1,  PRS2,     2,  9,      9,      3,2,19950304,2229, 22.8185,-158.0212, 4710,     76.6,  21.6926,  35.0521,2,  35.0599,2,    203.8,1,   -999.0,9,  -999.00,9,  -999.00,9,  -999.00,9,     77,-999.000,  -999.0, 21.6776
     32MW061_1,  PRS2,     2,  9,      8,     29,2,19950304,2229, 22.8185,-158.0212, 4710,     99.8,  21.1138,  35.0532,2,  35.0631,2,    198.7,1,   -999.0,9,  -999.00,9,  -999.00,9,  -999.00,9,     99,-999.000,  -999.0, 21.0947
     32MW061_1,  PRS2,     2,  9,      7,     28,2,19950304,2229, 22.8185,-158.0212, 4710,    125.1,  20.3319,  35.0615,2,  35.0624,2,    197.4,1,   -999.0,9,  -999.00,9,  -999.00,9,  -999.00,9,    125,-999.000,  -999.0, 20.3085
     32MW061_1,  PRS2,     2,  9,      6,      7,2,19950304,2229, 22.8185,-158.0212, 4710,    149.3,  19.5260,  35.0415,2,  35.0437,2,    187.0,1,   -999.0,9,  -999.00,9,  -999.00,9,  -999.00,9,    150,-999.000,  -999.0, 19.4989
     32MW061_1,  PRS2,     2,  9,      5,     23,3,19950304,2229, 22.8185,-158.0212, 4710,    174.3,  18.6732,  34.9622,2,  34.9741,2,    182.4,1,   -999.0,9,  -999.00,9,  -999.00,9,  -999.00,9,    173,-999.000,  -999.0, 18.6425
     32MW061_1,  PRS2,     2,  9,      4,     36,2,19950304,2229, 22.8185,-158.0212, 4710,    248.9,  13.3539,  34.3181,2,  34.3321,2,    174.1,1,   -999.0,9,  -999.00,9,  -999.00,9,  -999.00,9,    248,-999.000,  -999.0, 13.3192
     32MW061_1,  PRS2,     2,  9,      3,     35,2,19950304,2229, 22.8185,-158.0212, 4710,    499.2,   6.7647,  34.0643,2,  34.0643,2,    102.0,1,   -999.0,9,  -999.00,9,  -999.00,9,  -999.00,9,    500,-999.000,  -999.0,  6.7185
     32MW061_1,  PRS2,     2,  9,      2,     34,2,19950304,2229, 22.8185,-158.0212, 4710,    746.3,   4.7592,  34.3081,2,  34.3076,2,     36.0,1,   -999.0,9,  -999.00,9,  -999.00,9,  -999.00,9,    746,-999.000,  -999.0,  4.7001
     32MW061_1,  PRS2,     2,  9,      1,     33,2,19950304,2229, 22.8185,-158.0212, 4710,   1018.5,   3.8173,  34.4803,2,  34.4799,2,     44.9,1,   -999.0,9,  -999.00,9,  -999.00,9,  -999.00,9,   1018,-999.000,  -999.0,  3.7415
     32MW061_1,  PRS2,     2, 10,     12,     12,2,19950305,0115, 22.8338,-158.0072, 4702,      6.9,  23.1621,  34.6572,2,  34.6577,2,    207.4,1,   -999.0,9,  -999.00,9,  -999.00,9,  -999.00,9,      7,-999.000,  -999.0, 23.1607
     32MW061_1,  PRS2,     2, 10,     11,     11,2,19950305,0115, 22.8338,-158.0072, 4702,     25.5,  23.1727,  34.6585,2,  34.6567,2,    207.4,1,   -999.0,9,  -999.00,9,  -999.00,9,  -999.00,9,     24,-999.000,  -999.0, 23.1674
     32MW061_1,  PRS2,     2, 10,     10,     32,2,19950305,0115, 22.8338,-158.0072, 4702,     44.6,  23.1232,  34.6961,2,  34.6875,2,    206.1,1,   -999.0,9,  -999.00,9,  -999.00,9,  -999.00,9,     47,-999.000,  -999.0, 23.1141
     32MW061_1,  PRS2,     2, 10,      9,      3,2,19950305,0115, 22.8338,-158.0072, 4702,     74.0,  22.1345,  35.0306,2,  35.0328,2,    202.6,1,   -999.0,9,  -999.00,9,  -999.00,9,  -999.00,9,     75,-999.000,  -999.0, 22.1199
     32MW061_1,  PRS2,     2, 10,      8,     29,2,19950305,0115, 22.8338,-158.0072, 4702,    100.7,  21.4273,  35.1134,2,  35.1094,2,    197.6,1,   -999.0,9,  -999.00,9,  -999.00,9,  -999.00,9,    101,-999.000,  -999.0, 21.4078
     32MW061_1,  PRS2,     2, 10,      7,     28,2,19950305,0115, 22.8338,-158.0072, 4702,    123.9,  20.3850,  34.9878,2,  35.0251,3,    183.8,1,   -999.0,9,  -999.00,9,  -999.00,9,  -999.00,9,    124,-999.000,  -999.0, 20.3618
     32MW061_1,  PRS2,     2, 10,      6,      7,2,19950305,0115, 22.8338,-158.0072, 4702,    151.1,  19.4232,  35.0370,2,  35.0381,2,    182.7,1,   -999.0,9,  -999.00,9,  -999.00,9,  -999.00,9,    151,-999.000,  -999.0, 19.3959
     32MW061_1,  PRS2,     2, 10,      5,     23,2,19950305,0115, 22.8338,-158.0072, 4702,    176.6,  18.3872,  34.9260,2,  34.9324,2,    174.2,1,   -999.0,9,  -999.00,9,  -999.00,9,  -999.00,9,    174,-999.000,  -999.0, 18.3564
     32MW061_1,  PRS2,     2, 10,      4,     36,2,19950305,0115, 22.8338,-158.0072, 4702,    249.6,  14.1464,  34.3864,2,  34.3862,2,    164.3,1,   -999.0,9,  -999.00,9,  -999.00,9,  -999.00,9,    249,-999.000,  -999.0, 14.1102
     32MW061_1,  PRS2,     2, 10,      3,     35,2,19950305,0115, 22.8338,-158.0072, 4702,    500.0,   6.6553,  34.0599,2,  34.0601,2,     90.2,1,   -999.0,9,  -999.00,9,  -999.00,9,  -999.00,9,    502,-999.000,  -999.0,  6.6094
     32MW061_1,  PRS2,     2, 10,      2,     34,2,19950305,0115, 22.8338,-158.0072, 4702,    751.0,   4.6258,  34.3294,2,  34.3282,2,     23.7,1,   -999.0,9,  -999.00,9,  -999.00,9,  -999.00,9,    752,-999.000,  -999.0,  4.5670
     32MW061_1,  PRS2,     2, 10,      1,     33,2,19950305,0115, 22.8338,-158.0072, 4702,   1022.4,   3.8060,  34.4802,2,  34.4784,2,     38.7,1,   -999.0,9,  -999.00,9,  -999.00,9,  -999.00,9,   1022,-999.000,  -999.0,  3.7301
     32MW061_1,  PRS2,     2, 11,     12,     12,2,19950305,0411, 22.8332,-158.0188, 4705,      5.6,  23.0584,  34.7662,2,  34.7640,2,    199.4,1,   -999.0,9,  -999.00,9,  -999.00,9,  -999.00,9,      6,-999.000,  -999.0, 23.0573
     32MW061_1,  PRS2,     2, 11,     11,     11,2,19950305,0411, 22.8332,-158.0188, 4705,      9.3,  23.0631,  34.7691,2,  34.7664,2,    199.4,1,   -999.0,9,  -999.00,9,  -999.00,9,  -999.00,9,     10,-999.000,  -999.0, 23.0612
     32MW061_1,  PRS2,     2, 11,     10,     32,2,19950305,0411, 22.8332,-158.0188, 4705,     18.8,  23.0625,  34.7696,2,  34.7684,2,    199.4,1,   -999.0,9,  -999.00,9,  -999.00,9,  -999.00,9,     20,-999.000,  -999.0, 23.0587
     32MW061_1,  PRS2,     2, 11,      9,      3,2,19950305,0411, 22.8332,-158.0188, 4705,     29.1,  23.0635,  34.7887,2,  34.7875,2,    199.2,1,   -999.0,9,  -999.00,9,  -999.00,9,  -999.00,9,     28,-999.000,  -999.0, 23.0576
     32MW061_1,  PRS2,     2, 11,      8,     29,2,19950305,0411, 22.8332,-158.0188, 4705,     40.0,  23.0668,  34.7908,2,  34.7886,2,    199.2,1,   -999.0,9,  -999.00,9,  -999.00,9,  -999.00,9,     41,-999.000,  -999.0, 23.0586
     32MW061_1,  PRS2,     2, 11,      7,     28,2,19950305,0411, 22.8332,-158.0188, 4705,     59.0,  22.6397,  34.9978,2,  34.9960,2,    197.8,1,   -999.0,9,  -999.00,9,  -999.00,9,  -999.00,9,     59,-999.000,  -999.0, 22.6278
     32MW061_1,  PRS2,     2, 11,      6,      7,2,19950305,0411, 22.8332,-158.0188, 4705,     79.6,  22.3936,  35.0051,2,  35.0082,2,    196.4,1,   -999.0,9,  -999.00,9,  -999.00,9,  -999.00,9,     82,-999.000,  -999.0, 22.3777
     32MW061_1,  PRS2,     2, 11,      5,     23,2,19950305,0411, 22.8332,-158.0188, 4705,    104.2,  21.6235,  35.0593,2,  35.0590,2,    191.3,1,   -999.0,9,  -999.00,9,  -999.00,9,  -999.00,9,    106,-999.000,  -999.0, 21.6031
     32MW061_1,  PRS2,     2, 11,      4,     36,2,19950305,0411, 22.8332,-158.0188, 4705,    121.4,  20.8959,  35.0432,2,  35.0536,2,    185.6,1,   -999.0,9,  -999.00,9,  -999.00,9,  -999.00,9,    121,-999.000,  -999.0, 20.8728
     32MW061_1,  PRS2,     2, 11,      3,     35,2,19950305,0411, 22.8332,-158.0188, 4705,    165.4,  18.8311,  34.9852,2,  34.9871,2,    177.2,1,   -999.0,9,  -999.00,9,  -999.00,9,  -999.00,9,    165,-999.000,  -999.0, 18.8018
     32MW061_1,  PRS2,     2, 11,      2,     34,2,19950305,0411, 22.8332,-158.0188, 4705,    500.2,   6.8190,  34.0627,2,  34.0637,2,     93.4,1,   -999.0,9,  -999.00,9,  -999.00,9,  -999.00,9,    500,-999.000,  -999.0,  6.7725
     32MW061_1,  PRS2,     2, 11,      1,     33,2,19950305,0411, 22.8332,-158.0188, 4705,   1018.9,   3.8695,  34.4732,2,  34.4724,2,     37.1,1,   -999.0,9,  -999.00,9,  -999.00,9,  -999.00,9,   1020,-999.000,  -999.0,  3.7933
     32MW061_1,  PRS2,     2, 12,      8,     29,2,19950305,0737, 22.7482,-157.9967, 4725,      4.7,  22.9917,  34.7733,2,  34.7715,2,    205.9,1,   -999.0,9,  -999.00,9,  -999.00,9,  -999.00,9,      5,-999.000,  -999.0, 22.9907
     32MW061_1,  PRS2,     2, 12,      7,     28,2,19950305,0737, 22.7482,-157.9967, 4725,     25.1,  22.9974,  34.7720,2,  34.7704,2,    205.9,1,   -999.0,9,  -999.00,9,  -999.00,9,  -999.00,9,     25,-999.000,  -999.0, 22.9923
     32MW061_1,  PRS2,     2, 12,      6,      7,2,19950305,0737, 22.7482,-157.9967, 4725,     99.6,  21.5127,  35.0837,2,  35.0778,2,    190.2,1,   -999.0,9,  -999.00,9,  -999.00,9,  -999.00,9,    100,-999.000,  -999.0, 21.4933
     32MW061_1,  PRS2,     2, 12,      5,     23,2,19950305,0737, 22.7482,-157.9967, 4725,    273.6,  13.2984,  34.3230,2,  34.3278,2,    167.1,1,   -999.0,9,  -999.00,9,  -999.00,9,  -999.00,9,    273,-999.000,  -999.0, 13.2603
     32MW061_1,  PRS2,     2, 12,      4,     36,2,19950305,0737, 22.7482,-157.9967, 4725,    399.4,   8.8258,  34.0901,2,  34.0903,2,    160.3,1,   -999.0,9,  -999.00,9,  -999.00,9,  -999.00,9,    400,-999.000,  -999.0,  8.7830
     32MW061_1,  PRS2,     2, 12,      3,     35,2,19950305,0737, 22.7482,-157.9967, 4725,    499.4,   7.0365,  34.0577,2,  34.0567,2,     99.3,1,   -999.0,9,  -999.00,9,  -999.00,9,  -999.00,9,    500,-999.000,  -999.0,  6.9893
     32MW061_1,  PRS2,     2, 12,      2,     34,2,19950305,0737, 22.7482,-157.9967, 4725,    699.7,   5.0136,  34.2479,2,  34.2481,2,     26.8,1,   -999.0,9,  -999.00,9,  -999.00,9,  -999.00,9,    700,-999.000,  -999.0,  4.9571
     32MW061_1,  PRS2,     2, 12,      1,     33,2,19950305,0737, 22.7482,-157.9967, 4725,   1021.6,   3.8639,  34.4737,2,  34.4734,2,     34.7,1,   -999.0,9,  -999.00,9,  -999.00,9,  -999.00,9,   1023,-999.000,  -999.0,  3.7875
     32MW061_1,  PRS2,     2, 13,     12,     12,2,19950305,1029, 22.7238,-157.9872, 4725,      4.8,  23.0240,  34.7520,2,  34.7499,2,    214.4,1,   -999.0,9,  -999.00,9,  -999.00,9,  -999.00,9,      5,-999.000,  -999.0, 23.0230
     32MW061_1,  PRS2,     2, 13,     11,     11,2,19950305,1029, 22.7238,-157.9872, 4725,     25.4,  23.0260,  34.7613,2,  34.7595,2,    210.2,1,   -999.0,9,  -999.00,9,  -999.00,9,  -999.00,9,     25,-999.000,  -999.0, 23.0209
     32MW061_1,  PRS2,     2, 13,     10,     32,2,19950305,1029, 22.7238,-157.9872, 4725,     44.8,  22.9454,  34.9408,2,  34.9288,2,    207.2,1,   -999.0,9,  -999.00,9,  -999.00,9,  -999.00,9,     45,-999.000,  -999.0, 22.9363
     32MW061_1,  PRS2,     2, 13,      9,      3,2,19950305,1029, 22.7238,-157.9872, 4725,     74.5,  21.7815,  35.0768,2,  35.0822,2,    199.1,1,   -999.0,9,  -999.00,9,  -999.00,9,  -999.00,9,     76,-999.000,  -999.0, 21.7668
     32MW061_1,  PRS2,     2, 13,      8,     29,2,19950305,1029, 22.7238,-157.9872, 4725,    100.8,  20.9828,  35.0721,2,  35.0755,2,    191.2,1,   -999.0,9,  -999.00,9,  -999.00,9,  -999.00,9,    100,-999.000,  -999.0, 20.9636
     32MW061_1,  PRS2,     2, 13,      7,     28,2,19950305,1029, 22.7238,-157.9872, 4725,    124.3,  19.6176,  34.9086,2,  34.9121,2,    184.8,1,   -999.0,9,  -999.00,9,  -999.00,9,  -999.00,9,    125,-999.000,  -999.0, 19.5950
     32MW061_1,  PRS2,     2, 13,      6,      7,2,19950305,1029, 22.7238,-157.9872, 4725,    150.6,  19.2471,  35.0584,2,-999.0000,5,    187.4,1,   -999.0,9,  -999.00,9,  -999.00,9,  -999.00,9,    152,-999.000,  -999.0, 19.2200
     32MW061_1,  PRS2,     2, 13,      5,     23,2,19950305,1029, 22.7238,-157.9872, 4725,    174.0,  18.6572,  35.0055,2,-999.0000,5,    187.4,1,   -999.0,9,  -999.00,9,  -999.00,9,  -999.00,9,    175,-999.000,  -999.0, 18.6266
     32MW061_1,  PRS2,     2, 13,      4,     36,2,19950305,1029, 22.7238,-157.9872, 4725,    249.7,  13.9044,  34.3655,2,  34.3663,2,    162.9,1,   -999.0,9,  -999.00,9,  -999.00,9,  -999.00,9,    251,-999.000,  -999.0, 13.8686
     32MW061_1,  PRS2,     2, 13,      3,     35,2,19950305,1029, 22.7238,-157.9872, 4725,    500.2,   6.8654,  34.0516,2,  34.0528,2,    104.9,1,   -999.0,9,  -999.00,9,  -999.00,9,  -999.00,9,    502,-999.000,  -999.0,  6.8187
     32MW061_1,  PRS2,     2, 13,      2,     34,2,19950305,1029, 22.7238,-157.9872, 4725,    750.3,   4.6630,  34.3280,2,  34.3290,2,     28.5,1,   -999.0,9,  -999.00,9,  -999.00,9,  -999.00,9,    750,-999.000,  -999.0,  4.6041
     32MW061_1,  PRS2,     2, 13,      1,     33,2,19950305,1029, 22.7238,-157.9872, 4725,   1019.8,   3.7479,  34.4896,2,  34.4901,2,     40.9,1,   -999.0,9,  -999.00,9,  -999.00,9,  -999.00,9,   1022,-999.000,  -999.0,  3.6726
     32MW061_1,  PRS2,     2, 14,     12,     12,2,19950305,1401, 22.7522,-158.0098, 4725,      5.3,  23.0225,  34.7660,2,  34.7677,2,    217.6,1,   -999.0,9,  -999.00,9,  -999.00,9,  -999.00,9,      5,-999.000,  -999.0, 23.0214
     32MW061_1,  PRS2,     2, 14,     13,     13,2,19950305,1401, 22.7522,-158.0098, 4725,      5.4,  23.0223,  34.7661,2,  34.7643,2,    217.6,1,   -999.0,9,  -999.00,9,  -999.00,9,  -999.00,9,      6,-999.000,  -999.0, 23.0212
     32MW061_1,  PRS2,     2, 14,     11,     11,2,19950305,1401, 22.7522,-158.0098, 4725,     25.7,  23.0253,  34.7624,2,  34.7571,2,    217.6,1,   -999.0,9,  -999.00,9,  -999.00,9,  -999.00,9,     26,-999.000,  -999.0, 23.0201
     32MW061_1,  PRS2,     2, 14,     10,     32,2,19950305,1401, 22.7522,-158.0098, 4725,     25.7,  23.0252,  34.7625,2,  34.7764,3,    217.6,1,   -999.0,9,  -999.00,9,  -999.00,9,  -999.00,9,     26,-999.000,  -999.0, 23.0199
     32MW061_1,  PRS2,     2, 14,      9,      3,2,19950305,1401, 22.7522,-158.0098, 4725,     75.0,  22.1752,  35.0254,2,  35.0257,2,    213.8,1,   -999.0,9,  -999.00,9,  -999.00,9,  -999.00,9,     74,-999.000,  -999.0, 22.1603
     32MW061_1,  PRS2,     2, 14,      8,     29,2,19950305,1401, 22.7522,-158.0098, 4725,     75.0,  22.1741,  35.0251,2,  35.0257,2,    213.3,1,   -999.0,9,  -999.00,9,  -999.00,9,  -999.00,9,     75,-999.000,  -999.0, 22.1592
     32MW061_1,  PRS2,     2, 14,      6,      7,2,19950305,1401, 22.7522,-158.0098, 4725,    151.0,  19.0913,  35.0175,2,  35.0161,2,    190.9,1,   -999.0,9,  -999.00,9,  -999.00,9,  -999.00,9,    152,-999.000,  -999.0, 19.0643
     32MW061_1,  PRS2,     2, 14,      7,     28,2,19950305,1401, 22.7522,-158.0098, 4725,    151.1,  19.0936,  35.0172,2,  35.0205,2,    191.0,1,   -999.0,9,  -999.00,9,  -999.00,9,  -999.00,9,    152,-999.000,  -999.0, 19.0665
     32MW061_1,  PRS2,     2, 14,      5,     23,2,19950305,1401, 22.7522,-158.0098, 4725,    250.2,  14.1666,  34.3849,2,  34.3912,2,    175.6,1,   -999.0,9,  -999.00,9,  -999.00,9,  -999.00,9,    252,-999.000,  -999.0, 14.1303
     32MW061_1,  PRS2,     2, 14,      4,     36,2,19950305,1401, 22.7522,-158.0098, 4725,    250.2,  14.1887,  34.3901,2,  34.3902,2,    175.5,1,   -999.0,9,  -999.00,9,  -999.00,9,  -999.00,9,    250,-999.000,  -999.0, 14.1524
     32MW061_1,  PRS2,     2, 14,      3,     35,2,19950305,1401, 22.7522,-158.0098, 4725,    502.6,   6.8860,  34.0584,2,  34.0571,2,    104.6,1,   -999.0,9,  -999.00,9,  -999.00,9,  -999.00,9,    503,-999.000,  -999.0,  6.8390
     32MW061_1,  PRS2,     2, 14,      1,     33,2,19950305,1401, 22.7522,-158.0098, 4725,   1019.9,   3.7383,  34.4867,2,  34.4862,2,     39.9,1,   -999.0,9,  -999.00,9,  -999.00,9,  -999.00,9,   1019,-999.000,  -999.0,  3.6631
     32MW061_1,  PRS2,     2, 14,      2,     34,2,19950305,1401, 22.7522,-158.0098, 4725,   1020.0,   3.7369,  34.4870,2,  34.4861,2,     39.9,1,   -999.0,9,  -999.00,9,  -999.00,9,  -999.00,9,   1021,-999.000,  -999.0,  3.6617