BOTTLE,20090923WHPSIOMYS
EXPOCODE,SECT_ID,STNNBR,CASTNO,SAMPNO,BTLNBR,BTLNBR_FLAG_W,DATE,TIME,LATITUDE,LONGITUDE,DEPTH,CTDRAW,CTDPRS,CTDTMP,CTDSAL,CTDSAL_FLAG_W,SALNTY,SALNTY_FLAG_W,CTDOXY,CTDOXY_FLAG_W,THETA,OXYGEN,OXYGEN_FLAG_W,SILCAT,SILCAT_FLAG_W,NO2+NO3,NO2+NO3_FLAG_W,PHSPHT,PHSPHT_FLAG_W,REVPRS,REVTMP
,,,,,,,,,,,,,DBAR,ITS-90,PSS-78,,PSS-78,,UMOL/KG,,ITS-90,UMOL/KG,,UMOL/KG,,UMOL/KG,,UMOL/KG,,DBAR,DEG C
     33KI155_1,  PRS2,     2, 15,      8,     29,2,20040123,1033, 22.7572,-158.0002, 4721,      4,      4.4,  24.0502,  35.1922,2,  35.2007,2,    209.8,2, 24.0493,    209.8,2,  -999.00,9,  -999.00,9,  -999.00,9,  -999.0,-999.000
     33KI155_1,  PRS2,     2, 15,      7,     28,2,20040123,1033, 22.7572,-158.0002, 4721,    351,    351.2,  11.3177,  34.1905,2,  34.1911,2,    202.2,2, 11.2737,    203.1,2,  -999.00,9,  -999.00,9,  -999.00,9,  -999.0,-999.000
     33KI155_1,  PRS2,     2, 15,      6,     13,2,20040123,1033, 22.7572,-158.0002, 4721,    499,    498.4,   7.0158,  34.0482,2,  34.0484,2,    115.9,2,  6.9688,    113.1,2,  -999.00,9,  -999.00,9,  -999.00,9,  -999.0,-999.000
     33KI155_1,  PRS2,     2, 15,      5,     38,2,20040123,1033, 22.7572,-158.0002, 4721,    800,    799.6,   4.6718,  34.3626,2,  34.3635,2,     31.2,2,  4.6085,     31.9,2,  -999.00,9,  -999.00,9,  -999.00,9,  -999.0,-999.000
     33KI155_1,  PRS2,     2, 15,      4,     36,2,20040123,1033, 22.7572,-158.0002, 4721,   2002,   2000.1,   2.0366,  34.6238,2,  34.6223,2,     90.9,2,  1.8997,     92.4,2,  -999.00,9,  -999.00,9,  -999.00,9,  -999.0,-999.000
     33KI155_1,  PRS2,     2, 15,      3,     35,2,20040123,1033, 22.7572,-158.0002, 4721,   2999,   2996.6,   1.5364,  34.6704,2,  34.6697,2,    125.6,2,  1.3191,    126.3,2,  -999.00,9,  -999.00,9,  -999.00,9,  -999.0,-999.000
     33KI155_1,  PRS2,     2, 15,      2,     34,2,20040123,1033, 22.7572,-158.0002, 4721,   4001,   3997.2,   1.4478,  34.6881,2,  34.6870,2,    149.7,2,  1.1307,    149.8,2,  -999.00,9,  -999.00,9,  -999.00,9,  -999.0,-999.000
     33KI155_1,  PRS2,     2, 15,      1,     33,2,20040123,1033, 22.7572,-158.0002, 4721,   4806,   4805.0,   1.5004,  34.6914,2,  34.6903,2,    156.0,2,  1.0897,    156.1,2,  -999.00,9,  -999.00,9,  -999.00,9,  -999.0,-999.000
     33KI155_1,  PRS2,     6,  1,     13,     42,2,20040124,0639, 21.8463,-158.3645, 2500,      5,      4.3,  24.1228,  35.1826,2,  35.1828,2,    207.4,1, 24.1218,   -999.0,9,  -999.00,9,  -999.00,9,  -999.00,9,  -999.0,-999.000
     33KI155_1,  PRS2,     6,  1,     12,     12,2,20040124,0639, 21.8463,-158.3645, 2500,     24,     24.0,  24.1313,  35.2119,2,  35.2107,2,    208.1,1, 24.1263,   -999.0,9,  -999.00,9,  -999.00,9,  -999.00,9,  -999.0,-999.000
     33KI155_1,  PRS2,     6,  1,     11,     39,2,20040124,0639, 21.8463,-158.3645, 2500,     45,     44.4,  23.9778,  35.2633,2,  35.2643,2,    207.4,1, 23.9685,   -999.0,9,  -999.00,9,  -999.00,9,  -999.00,9,  -999.0,-999.000
     33KI155_1,  PRS2,     6,  1,     10,     32,2,20040124,0639, 21.8463,-158.3645, 2500,     75,     74.4,  23.6228,  35.2692,2,  35.2690,2,    205.3,1, 23.6073,   -999.0,9,  -999.00,9,  -999.00,9,  -999.00,9,  -999.0,-999.000
     33KI155_1,  PRS2,     6,  1,      9,      3,2,20040124,0639, 21.8463,-158.3645, 2500,    100,     98.4,  23.2300,  35.2706,2,  35.2645,2,    203.0,1, 23.2097,   -999.0,9,  -999.00,9,  -999.00,9,  -999.00,9,  -999.0,-999.000
     33KI155_1,  PRS2,     6,  1,      8,     29,2,20040124,0639, 21.8463,-158.3645, 2500,    125,    124.4,  22.6038,  35.2840,2,  35.2820,2,    201.8,1, 22.5787,   -999.0,9,  -999.00,9,  -999.00,9,  -999.00,9,  -999.0,-999.000
     33KI155_1,  PRS2,     6,  1,      7,     28,2,20040124,0639, 21.8463,-158.3645, 2500,    149,    148.7,  21.5353,  35.2329,2,  35.2326,2,    198.6,1, 21.5064,   -999.0,9,  -999.00,9,  -999.00,9,  -999.00,9,  -999.0,-999.000
     33KI155_1,  PRS2,     6,  1,      6,     13,2,20040124,0639, 21.8463,-158.3645, 2500,    175,    174.8,  20.0295,  35.0972,2,  35.0947,2,    188.7,1, 19.9971,   -999.0,9,  -999.00,9,  -999.00,9,  -999.00,9,  -999.0,-999.000
     33KI155_1,  PRS2,     6,  1,      5,     38,2,20040124,0639, 21.8463,-158.3645, 2500,    500,    499.2,   6.8630,  34.0246,2,  34.0247,2,    119.6,1,  6.8165,   -999.0,9,  -999.00,9,  -999.00,9,  -999.00,9,  -999.0,-999.000
     33KI155_1,  PRS2,     6,  1,      4,     36,2,20040124,0639, 21.8463,-158.3645, 2500,   1000,    998.9,   3.9356,  34.4933,2,  34.4933,2,     46.6,1,  3.8606,   -999.0,9,  -999.00,9,  -999.00,9,  -999.00,9,  -999.0,-999.000
     33KI155_1,  PRS2,     6,  1,      3,     35,2,20040124,0639, 21.8463,-158.3645, 2500,   1499,   1498.8,   2.8773,  34.5748,2,  34.5740,2,     68.3,1,  2.7710,   -999.0,9,  -999.00,9,  -999.00,9,  -999.00,9,  -999.0,-999.000
     33KI155_1,  PRS2,     6,  1,      2,     34,2,20040124,0639, 21.8463,-158.3645, 2500,   2001,   2000.2,   2.2236,  34.6159,2,  34.6154,2,     87.7,1,  2.0838,   -999.0,9,  -999.00,9,  -999.00,9,  -999.00,9,  -999.0,-999.000
     33KI155_1,  PRS2,     6,  1,      1,     33,2,20040124,0639, 21.8463,-158.3645, 2500,   2450,   2450.0,   1.7682,  34.6501,2,  34.6543,3,    109.9,1,  1.5967,   -999.0,9,  -999.00,9,  -999.00,9,  -999.00,9,  -999.0,-999.000