BOTTLE,20090923WHPSIOMYS
#code : jjward hyd_to_exchange.pl 
#original files copied from HTML directory: 20090923
#original HYD file: 33KI155_1_hy.txt   Wed Sep 23 17:55:25 2009
#original SUM file: ../33KI155_1su.txt   Wed Sep 23 17:55:23 2009
EXPOCODE,SECT_ID,STNNBR,CASTNO,SAMPNO,BTLNBR,BTLNBR_FLAG_W,DATE,TIME,LATITUDE,LONGITUDE,DEPTH,CTDRAW,CTDPRS,CTDTMP,CTDSAL,CTDSAL_FLAG_W,SALNTY,SALNTY_FLAG_W,CTDOXY,CTDOXY_FLAG_W,THETA,OXYGEN,OXYGEN_FLAG_W,SILCAT,SILCAT_FLAG_W,NO2+NO3,NO2+NO3_FLAG_W,PHSPHT,PHSPHT_FLAG_W,REVPRS,REVTMP
,,,,,,,,,,,,,DBAR,ITS-90,PSS-78,,PSS-78,,UMOL/KG,,ITS-90,UMOL/KG,,UMOL/KG,,UMOL/KG,,UMOL/KG,,DBAR,DEG C
     33KI155_1,  PRS2,     1,  1,     23,     30,2,20040120,2353, 21.3500,-158.2733, 1496,      5,      4.3,  24.8407,  34.9513,2,  34.9511,2,    208.9,2, 24.8398,    210.2,2,  -999.00,9,  -999.00,9,  -999.00,9,  -999.0,-999.000
     33KI155_1,  PRS2,     1,  1,     24,     31,3,20040120,2353, 21.3500,-158.2733, 1496,      5,      4.4,  24.8403,  34.9514,2,-999.0000,5,    208.9,2, 24.8393,    208.6,2,  -999.00,9,  -999.00,9,  -999.00,9,  -999.0,-999.000
     33KI155_1,  PRS2,     1,  1,     22,     22,2,20040120,2353, 21.3500,-158.2733, 1496,     26,     24.7,  24.6743,  34.9471,2,  34.9475,2,    209.2,2, 24.6690,    211.9,2,  -999.00,9,  -999.00,9,  -999.00,9,  -999.0,-999.000
     33KI155_1,  PRS2,     1,  1,     21,     21,3,20040120,2353, 21.3500,-158.2733, 1496,     45,     44.6,  24.6333,  34.9480,2,  34.9485,2,    209.1,2, 24.6237,    209.3,2,  -999.00,9,  -999.00,9,  -999.00,9,  -999.0,-999.000
     33KI155_1,  PRS2,     1,  1,     20,     20,2,20040120,2353, 21.3500,-158.2733, 1496,     59,     58.9,  24.6669,  34.9766,2,  34.9747,2,    209.0,2, 24.6542,    208.6,2,  -999.00,9,  -999.00,9,  -999.00,9,  -999.0,-999.000
     33KI155_1,  PRS2,     1,  1,     19,     19,3,20040120,2353, 21.3500,-158.2733, 1496,     75,     73.6,  24.5071,  35.0827,2,  35.0835,2,    208.5,2, 24.4914,    207.6,2,  -999.00,9,  -999.00,9,  -999.00,9,  -999.0,-999.000
     33KI155_1,  PRS2,     1,  1,     18,     18,2,20040120,2353, 21.3500,-158.2733, 1496,    100,     98.7,  23.6727,  35.1481,2,  35.1422,2,    203.0,2, 23.6522,    203.2,2,  -999.00,9,  -999.00,9,  -999.00,9,  -999.0,-999.000
     33KI155_1,  PRS2,     1,  1,     17,     17,2,20040120,2353, 21.3500,-158.2733, 1496,    113,    113.2,  23.5827,  35.1505,2,  35.1507,2,    202.4,2, 23.5591,    202.6,2,  -999.00,9,  -999.00,9,  -999.00,9,  -999.0,-999.000
     33KI155_1,  PRS2,     1,  1,     16,     16,3,20040120,2353, 21.3500,-158.2733, 1496,    124,    123.4,  23.1203,  35.1658,2,  35.1650,2,    200.3,2, 23.0950,    199.9,2,  -999.00,9,  -999.00,9,  -999.00,9,  -999.0,-999.000
     33KI155_1,  PRS2,     1,  1,     15,     23,2,20040120,2353, 21.3500,-158.2733, 1496,    149,    148.8,  21.6773,  35.1754,2,  35.1768,2,    192.9,2, 21.6481,    193.4,2,  -999.00,9,  -999.00,9,  -999.00,9,  -999.0,-999.000
     33KI155_1,  PRS2,     1,  1,     14,    101,2,20040120,2353, 21.3500,-158.2733, 1496,    174,    173.8,  19.8822,  35.0586,2,  35.0735,2,    190.1,2, 19.8502,    190.6,2,  -999.00,9,  -999.00,9,  -999.00,9,  -999.0,-999.000
     33KI155_1,  PRS2,     1,  1,     13,     42,2,20040120,2353, 21.3500,-158.2733, 1496,    201,    200.0,  19.0200,  34.9739,2,  34.9835,2,    191.7,2, 18.9843,    191.4,2,  -999.00,9,  -999.00,9,  -999.00,9,  -999.0,-999.000
     33KI155_1,  PRS2,     1,  1,     12,     12,2,20040120,2353, 21.3500,-158.2733, 1496,    226,    225.6,  17.5287,  34.8101,2,  34.8098,2,    194.8,2, 17.4907,    194.5,2,  -999.00,9,  -999.00,9,  -999.00,9,  -999.0,-999.000
     33KI155_1,  PRS2,     1,  1,     11,     39,2,20040120,2353, 21.3500,-158.2733, 1496,    250,    249.6,  15.6749,  34.6037,2,  34.6062,2,    197.2,2, 15.6360,    196.6,2,  -999.00,9,  -999.00,9,  -999.00,9,  -999.0,-999.000
     33KI155_1,  PRS2,     1,  1,     10,     32,2,20040120,2353, 21.3500,-158.2733, 1496,    299,    299.2,  12.7607,  34.3111,2,  34.3335,3,    195.1,3, 12.7202,    195.3,2,  -999.00,9,  -999.00,9,  -999.00,9,  -999.0,-999.000
     33KI155_1,  PRS2,     1,  1,      9,      3,2,20040120,2353, 21.3500,-158.2733, 1496,    349,    349.6,  10.0594,  34.1667,2,  34.1686,2,    169.8,2, 10.0188,    169.8,2,  -999.00,9,  -999.00,9,  -999.00,9,  -999.0,-999.000
     33KI155_1,  PRS2,     1,  1,      8,     29,2,20040120,2353, 21.3500,-158.2733, 1496,    400,    399.4,   9.1163,  34.1457,2,  34.1447,2,    149.7,2,  9.0726,    149.7,2,  -999.00,9,  -999.00,9,  -999.00,9,  -999.0,-999.000
     33KI155_1,  PRS2,     1,  1,      7,     28,2,20040120,2353, 21.3500,-158.2733, 1496,    500,    498.5,   7.1121,  34.1646,2,  34.1637,2,     84.1,2,  7.0646,     84.8,2,  -999.00,9,  -999.00,9,  -999.00,9,  -999.0,-999.000
     33KI155_1,  PRS2,     1,  1,      6,     13,2,20040120,2353, 21.3500,-158.2733, 1496,    602,    600.5,   5.7664,  34.2321,2,  34.2327,2,     45.8,2,  5.7149,     45.0,2,  -999.00,9,  -999.00,9,  -999.00,9,  -999.0,-999.000
     33KI155_1,  PRS2,     1,  1,      5,     38,2,20040120,2353, 21.3500,-158.2733, 1496,    699,    699.0,   5.2152,  34.3441,2,  34.3416,2,     35.2,2,  5.1575,     34.7,2,  -999.00,9,  -999.00,9,  -999.00,9,  -999.0,-999.000
     33KI155_1,  PRS2,     1,  1,      4,     36,2,20040120,2353, 21.3500,-158.2733, 1496,    751,    748.9,   5.1014,  34.3683,2,  34.3677,2,     35.6,2,  5.0400,     35.3,2,  -999.00,9,  -999.00,9,  -999.00,9,  -999.0,-999.000
     33KI155_1,  PRS2,     1,  1,      3,     35,2,20040120,2353, 21.3500,-158.2733, 1496,    801,    799.9,   4.8957,  34.4066,2,  34.4059,2,     36.9,2,  4.8310,     36.9,2,  -999.00,9,  -999.00,9,  -999.00,9,  -999.0,-999.000
     33KI155_1,  PRS2,     1,  1,      2,     34,2,20040120,2353, 21.3500,-158.2733, 1496,    903,    901.4,   4.4763,  34.4683,2,  34.4680,2,     41.7,2,  4.4055,     42.2,2,  -999.00,9,  -999.00,9,  -999.00,9,  -999.0,-999.000
     33KI155_1,  PRS2,     1,  1,      1,     33,2,20040120,2353, 21.3500,-158.2733, 1496,   1021,   1019.4,   4.0478,  34.5080,2,  34.5115,2,     47.6,2,  3.9701,     48.2,2,  -999.00,9,  -999.00,9,  -999.00,9,  -999.0,-999.000
     33KI155_1,  PRS2,     2,  1,     24,     31,3,20040121,1159, 22.7702,-157.9837, 4725,      5,      4.2,  24.1090,  35.1730,2,  35.1772,2,    210.9,2, 24.1081,    209.2,2,     1.04,2,     0.08,2,     0.00,2,  -999.0,-999.000
     33KI155_1,  PRS2,     2,  1,     23,     30,2,20040121,1159, 22.7702,-157.9837, 4725,    500,    497.8,   8.0543,  34.0567,2,  34.0576,2,    149.1,2,  8.0035,    148.9,2,    35.10,2,    24.78,2,     1.81,2,  -999.0,-999.000
     33KI155_1,  PRS2,     2,  1,     22,     22,2,20040121,1159, 22.7702,-157.9837, 4725,    751,    749.5,   4.8298,  34.3143,2,  34.3137,2,     31.5,2,  4.7700,     30.6,2,    76.26,3,    40.68,2,     3.02,2,  -999.0,-999.000
     33KI155_1,  PRS2,     2,  1,     21,     21,2,20040121,1159, 22.7702,-157.9837, 4725,    998,   1000.0,   3.9165,  34.4821,2,  34.4827,2,     44.6,2,  3.8415,     45.2,2,   110.26,2,    41.27,2,     3.04,2,  -999.0,-999.000
     33KI155_1,  PRS2,     2,  1,     20,     20,2,20040121,1159, 22.7702,-157.9837, 4725,   1200,   1199.1,   3.3924,  34.5290,2,  34.5288,2,     55.6,2,  3.3054,     55.5,2,   123.51,2,    41.16,2,     3.02,2,  -999.0,-999.000
     33KI155_1,  PRS2,     2,  1,     19,     19,2,20040121,1159, 22.7702,-157.9837, 4725,   1401,   1400.2,   2.9943,  34.5595,2,  34.5591,2,     64.6,2,  2.8948,     65.1,2,   132.39,2,    40.81,2,     2.94,2,  -999.0,-999.000
     33KI155_1,  PRS2,     2,  1,     18,     18,2,20040121,1159, 22.7702,-157.9837, 4725,   1600,   1598.6,   2.6264,  34.5790,2,  34.5791,2,     72.0,2,  2.5148,     72.1,2,   141.47,2,    40.54,2,     2.91,2,  -999.0,-999.000
     33KI155_1,  PRS2,     2,  1,     17,     17,2,20040121,1159, 22.7702,-157.9837, 4725,   1800,   1798.7,   2.3431,  34.6050,2,  34.6041,2,     81.6,2,  2.2186,     82.1,2,   146.80,2,    40.03,2,     2.83,2,  -999.0,-999.000
     33KI155_1,  PRS2,     2,  1,     16,     16,2,20040121,1159, 22.7702,-157.9837, 4725,   1999,   1998.5,   2.0937,  34.6178,2,  34.6188,2,     88.2,2,  1.9560,     88.9,2,   153.05,2,    39.63,2,     2.80,2,  -999.0,-999.000
     33KI155_1,  PRS2,     2,  1,     15,     23,2,20040121,1159, 22.7702,-157.9837, 4725,   2200,   2198.8,   1.9122,  34.6357,2,  34.6357,2,     98.5,2,  1.7603,    100.2,2,   156.13,2,    38.99,2,     2.76,2,  -999.0,-999.000
     33KI155_1,  PRS2,     2,  1,     14,    101,2,20040121,1159, 22.7702,-157.9837, 4725,   2399,   2400.1,   1.7898,  34.6481,2,  34.6483,2,    106.4,2,  1.6224,    106.8,2,   157.81,2,    38.57,2,     2.69,3,  -999.0,-999.000
     33KI155_1,  PRS2,     2,  1,     13,     42,2,20040121,1159, 22.7702,-157.9837, 4725,   2599,   2598.1,   1.6812,  34.6559,2,  34.6565,2,    111.2,2,  1.4980,    111.3,2,   159.27,2,    37.99,2,     2.72,2,  -999.0,-999.000
     33KI155_1,  PRS2,     2,  1,     12,     12,2,20040121,1159, 22.7702,-157.9837, 4725,   2800,   2798.6,   1.6050,  34.6623,2,  34.6624,2,    117.0,2,  1.4050,    117.3,2,   161.43,2,    37.96,2,     2.71,2,  -999.0,-999.000
     33KI155_1,  PRS2,     2,  1,     11,     39,2,20040121,1159, 22.7702,-157.9837, 4725,   2998,   2997.7,   1.5477,  34.6691,2,  34.6701,2,    124.5,2,  1.3301,    124.7,2,   160.38,2,    37.45,2,     2.65,2,  -999.0,-999.000
     33KI155_1,  PRS2,     2,  1,     10,     32,2,20040121,1159, 22.7702,-157.9837, 4725,   3198,   3197.5,   1.5096,  34.6746,2,  34.6693,4,    131.1,3,  1.2735,    129.9,2,   157.20,2,    37.01,2,     2.58,2,  -999.0,-999.000
     33KI155_1,  PRS2,     2,  1,      9,      3,2,20040121,1159, 22.7702,-157.9837, 4725,   3400,   3400.1,   1.4769,  34.6796,2,  34.6793,2,    137.4,2,  1.2214,    136.8,2,   157.32,2,    36.67,2,     2.60,2,  -999.0,-999.000
     33KI155_1,  PRS2,     2,  1,      8,     29,2,20040121,1159, 22.7702,-157.9837, 4725,   3598,   3599.2,   1.4624,  34.6827,2,  34.6821,2,    141.9,2,  1.1870,    141.8,2,   155.98,2,    36.26,2,     2.57,2,  -999.0,-999.000
     33KI155_1,  PRS2,     2,  1,      7,     28,2,20040121,1159, 22.7702,-157.9837, 4725,   3799,   3798.6,   1.4497,  34.6855,2,  34.6864,2,    146.3,2,  1.1538,    146.1,2,   153.78,2,    36.00,2,     2.51,2,  -999.0,-999.000
     33KI155_1,  PRS2,     2,  1,      6,     13,2,20040121,1159, 22.7702,-157.9837, 4725,   3998,   3997.8,   1.4525,  34.6874,2,  34.6889,2,    149.2,2,  1.1351,    148.5,2,   152.44,2,    35.81,2,     2.46,3,  -999.0,-999.000
     33KI155_1,  PRS2,     2,  1,      5,     38,2,20040121,1159, 22.7702,-157.9837, 4725,   4200,   4198.8,   1.4618,  34.6887,2,  34.6881,2,    151.1,2,  1.1221,    150.7,2,   152.06,2,    35.70,2,     2.48,2,  -999.0,-999.000
     33KI155_1,  PRS2,     2,  1,      4,     36,2,20040121,1159, 22.7702,-157.9837, 4725,   4397,   4399.0,   1.4767,  34.6892,2,  34.6897,2,    152.4,2,  1.1140,    152.1,2,   151.00,2,    35.61,2,     2.48,2,  -999.0,-999.000
     33KI155_1,  PRS2,     2,  1,      3,     35,2,20040121,1159, 22.7702,-157.9837, 4725,   4499,   4497.6,   1.4855,  34.6895,2,  34.6893,2,    152.9,2,  1.1112,    152.5,2,   150.62,2,    35.56,2,     2.48,2,  -999.0,-999.000
     33KI155_1,  PRS2,     2,  1,      2,     34,2,20040121,1159, 22.7702,-157.9837, 4725,   4600,   4599.0,   1.4978,  34.6896,2,  34.6897,2,    152.9,2,  1.1114,    152.7,2,   151.15,2,    35.75,2,     2.47,2,  -999.0,-999.000
     33KI155_1,  PRS2,     2,  1,      1,     33,2,20040121,1159, 22.7702,-157.9837, 4725,   4794,   4794.8,   1.4997,  34.6910,2,  34.6909,2,    154.7,2,  1.0901,    156.1,2,   149.64,2,    35.42,2,     2.44,2,  -999.0,-999.000
     33KI155_1,  PRS2,     2,  2,     24,     31,3,20040121,1753, 22.7518,-157.9973, 4727,      5,      4.1,  24.1105,  35.1617,2,  35.1631,2,    207.2,2, 24.1096,    204.4,3,     1.01,2,     0.01,2,     0.01,2,  -999.0,-999.000
     33KI155_1,  PRS2,     2,  2,     23,     30,2,20040121,1753, 22.7518,-157.9973, 4727,     55,     54.1,  24.1151,  35.1636,2,  35.1636,2,    207.4,2, 24.1037,    209.7,2,     0.99,2,     0.02,2,     0.00,2,  -999.0,-999.000
     33KI155_1,  PRS2,     2,  2,     22,     22,2,20040121,1753, 22.7518,-157.9973, 4727,    103,    102.0,  24.0252,  35.3036,2,  35.2990,2,    208.2,2, 24.0037,    208.1,2,     1.00,2,     0.03,2,     0.01,2,  -999.0,-999.000
     33KI155_1,  PRS2,     2,  2,     21,     21,3,20040121,1753, 22.7518,-157.9973, 4727,    146,    146.7,  22.8165,  35.3311,2,  35.3274,2,    203.2,2, 22.7867,    203.3,2,     1.28,2,     0.45,3,     0.03,2,  -999.0,-999.000
     33KI155_1,  PRS2,     2,  2,     20,     20,2,20040121,1753, 22.7518,-157.9973, 4727,    196,    193.6,  19.7206,  35.1160,2,  35.1085,2,    198.4,2, 19.6851,    198.5,2,     2.22,2,     1.86,2,     0.06,3,  -999.0,-999.000
     33KI155_1,  PRS2,     2,  2,     19,     19,2,20040121,1753, 22.7518,-157.9973, 4727,    252,    249.5,  15.4643,  34.5384,2,  34.5324,2,    201.9,2, 15.4258,    201.3,2,     5.50,2,     5.47,2,     0.48,2,  -999.0,-999.000
     33KI155_1,  PRS2,     2,  2,     18,     18,2,20040121,1753, 22.7518,-157.9973, 4727,    285,    285.4,  13.2192,  34.2989,2,  34.3041,2,    196.5,2, 13.1796,    195.7,2,     8.69,2,     9.29,2,     0.75,2,  -999.0,-999.000
     33KI155_1,  PRS2,     2,  2,     17,     17,2,20040121,1753, 22.7518,-157.9973, 4727,    324,    323.4,  11.2632,  34.1624,2,  34.1666,2,    201.8,2, 11.2229,    201.8,2,    12.86,2,    12.66,2,     0.97,2,  -999.0,-999.000
     33KI155_1,  PRS2,     2,  2,     16,     16,2,20040121,1753, 22.7518,-157.9973, 4727,    371,    368.6,  10.0403,  34.1291,2,  34.1298,2,    190.7,2,  9.9975,    189.7,2,    19.23,2,    16.77,2,     1.24,2,  -999.0,-999.000
     33KI155_1,  PRS2,     2,  2,     15,     23,2,20040121,1753, 22.7518,-157.9973, 4727,    410,    408.0,   9.3238,  34.1070,2,  34.1090,2,    172.9,2,  9.2785,    174.6,2,    24.37,2,    19.81,2,     1.46,2,  -999.0,-999.000
     33KI155_1,  PRS2,     2,  2,     14,    101,2,20040121,1753, 22.7518,-157.9973, 4727,    445,    445.6,   8.5223,  34.0743,2,  34.0751,2,    159.6,2,  8.4754,    160.2,2,    30.75,2,    22.93,2,     1.66,2,  -999.0,-999.000
     33KI155_1,  PRS2,     2,  2,     13,     42,2,20040121,1753, 22.7518,-157.9973, 4727,    482,    480.4,   7.9461,  34.0560,2,  34.0571,2,    145.4,2,  7.8974,    145.0,2,    36.14,2,    25.35,2,     1.83,2,  -999.0,-999.000
     33KI155_1,  PRS2,     2,  2,     12,     12,2,20040121,1753, 22.7518,-157.9973, 4727,    514,    513.0,   7.2061,  34.0456,2,  34.0455,2,    119.0,2,  7.1569,    121.2,2,    44.72,2,    28.93,2,     2.09,2,  -999.0,-999.000
     33KI155_1,  PRS2,     2,  2,     11,     39,2,20040121,1753, 22.7518,-157.9973, 4727,    568,    564.2,   6.3171,  34.0350,2,  34.0349,2,    101.4,2,  6.2666,     98.8,2,    57.20,2,    32.74,2,     2.36,2,  -999.0,-999.000
     33KI155_1,  PRS2,     2,  2,     10,     32,2,20040121,1753, 22.7518,-157.9973, 4727,    599,    597.1,   5.7758,  34.0822,2,  34.0812,2,     71.1,2,  5.7247,     70.8,2,    67.73,2,    35.90,2,     2.62,2,  -999.0,-999.000
     33KI155_1,  PRS2,     2,  2,      9,      3,2,20040121,1753, 22.7518,-157.9973, 4727,    646,    645.6,   5.2739,  34.1262,2,  34.1253,2,     50.2,2,  5.2209,     49.8,2,    78.75,2,    38.59,2,     2.82,2,  -999.0,-999.000
     33KI155_1,  PRS2,     2,  2,      8,     29,2,20040121,1753, 22.7518,-157.9973, 4727,    707,    706.8,   5.0156,  34.2221,2,  34.2227,2,     36.4,2,  4.9584,     35.2,2,    83.88,2,    40.08,2,     2.93,2,  -999.0,-999.000
     33KI155_1,  PRS2,     2,  2,      7,     28,2,20040121,1753, 22.7518,-157.9973, 4727,    772,    771.4,   4.8395,  34.3149,2,  34.3143,2,     32.1,2,  4.7777,     31.3,2,    92.93,2,    40.96,2,     3.00,2,  -999.0,-999.000
     33KI155_1,  PRS2,     2,  2,      6,     13,2,20040121,1753, 22.7518,-157.9973, 4727,    818,    819.6,   4.4592,  34.3276,2,  34.3298,2,     31.3,2,  4.3956,     30.2,2,    91.22,3,    41.62,2,     3.01,2,  -999.0,-999.000
     33KI155_1,  PRS2,     2,  2,      5,     38,2,20040121,1753, 22.7518,-157.9973, 4727,    866,    866.8,   4.4354,  34.3802,2,  34.3792,2,     32.8,2,  4.3679,     32.4,2,   101.25,2,    41.66,2,     3.04,2,  -999.0,-999.000
     33KI155_1,  PRS2,     2,  2,      4,     36,2,20040121,1753, 22.7518,-157.9973, 4727,    902,    901.8,   4.1707,  34.3904,2,  34.3912,2,     33.8,2,  4.1021,     34.4,2,   106.64,2,    41.94,2,     3.03,2,  -999.0,-999.000
     33KI155_1,  PRS2,     2,  2,      3,     35,2,20040121,1753, 22.7518,-157.9973, 4727,    941,    940.1,   4.0721,  34.4152,2,  34.4242,4,     36.7,3,  4.0010,     47.7,4,    99.30,3,    39.73,3,     2.86,3,  -999.0,-999.000
     33KI155_1,  PRS2,     2,  2,      2,     34,2,20040121,1753, 22.7518,-157.9973, 4727,    977,    975.3,   3.9863,  34.4380,2,  34.4383,2,     40.1,2,  3.9129,     39.8,2,   111.04,2,    41.73,2,     3.01,2,  -999.0,-999.000
     33KI155_1,  PRS2,     2,  2,      1,     33,2,20040121,1753, 22.7518,-157.9973, 4727,   1011,   1010.2,   3.9221,  34.4555,2,  34.4550,2,     42.3,2,  3.8462,     42.1,2,   112.02,2,    41.72,2,     3.01,2,  -999.0,-999.000