BOTTLE,20090923WHPSIOMYS
EXPOCODE,SECT_ID,STNNBR,CASTNO,SAMPNO,BTLNBR,BTLNBR_FLAG_W,DATE,TIME,LATITUDE,LONGITUDE,DEPTH,CTDRAW,CTDPRS,CTDTMP,CTDSAL,CTDSAL_FLAG_W,SALNTY,SALNTY_FLAG_W,CTDOXY,CTDOXY_FLAG_W,THETA,OXYGEN,OXYGEN_FLAG_W,SILCAT,SILCAT_FLAG_W,NO2+NO3,NO2+NO3_FLAG_W,PHSPHT,PHSPHT_FLAG_W,REVPRS,REVTMP
,,,,,,,,,,,,,DBAR,ITS-90,PSS-78,,PSS-78,,UMOL/KG,,ITS-90,UMOL/KG,,UMOL/KG,,UMOL/KG,,UMOL/KG,,DBAR,DEG C
     33KI155_1,  PRS2,     2,  8,     21,     21,3,20040122,1153, 22.7463,-157.9778, 4721,      6,      4.6,  24.0877,  35.1986,2,  35.1993,2,    210.3,1, 24.0867,   -999.0,9,  -999.00,9,  -999.00,9,  -999.00,9,  -999.0,-999.000
     33KI155_1,  PRS2,     2,  8,     20,     20,2,20040122,1153, 22.7463,-157.9778, 4721,      6,      4.6,  24.0905,  35.1990,2,  35.2003,2,    210.3,1, 24.0895,   -999.0,9,  -999.00,9,  -999.00,9,  -999.00,9,  -999.0,-999.000
     33KI155_1,  PRS2,     2,  8,     22,     22,2,20040122,1153, 22.7463,-157.9778, 4721,      5,      4.7,  24.0806,  35.1978,2,  35.1981,2,    210.3,1, 24.0796,   -999.0,9,  -999.00,9,  -999.00,9,  -999.00,9,  -999.0,-999.000
     33KI155_1,  PRS2,     2,  8,     17,     17,3,20040122,1153, 22.7463,-157.9778, 4721,     25,     23.9,  24.0946,  35.1980,2,  35.1991,2,    210.0,1, 24.0896,   -999.0,9,  -999.00,9,  -999.00,9,  -999.00,9,  -999.0,-999.000
     33KI155_1,  PRS2,     2,  8,     19,     19,2,20040122,1153, 22.7463,-157.9778, 4721,     25,     24.0,  24.0946,  35.1980,2,  35.1979,2,    210.3,1, 24.0895,   -999.0,9,  -999.00,9,  -999.00,9,  -999.00,9,  -999.0,-999.000
     33KI155_1,  PRS2,     2,  8,     18,     18,2,20040122,1153, 22.7463,-157.9778, 4721,     24,     24.2,  24.0944,  35.1980,2,  35.1971,2,    210.2,1, 24.0893,   -999.0,9,  -999.00,9,  -999.00,9,  -999.00,9,  -999.0,-999.000
     33KI155_1,  PRS2,     2,  8,     16,     16,3,20040122,1153, 22.7463,-157.9778, 4721,     46,     44.9,  24.0987,  35.1993,2,  35.1997,2,    209.7,1, 24.0892,   -999.0,9,  -999.00,9,  -999.00,9,  -999.00,9,  -999.0,-999.000
     33KI155_1,  PRS2,     2,  8,     15,     23,2,20040122,1153, 22.7463,-157.9778, 4721,     46,     44.9,  24.0986,  35.1993,2,  35.1975,2,    209.5,1, 24.0891,   -999.0,9,  -999.00,9,  -999.00,9,  -999.00,9,  -999.0,-999.000
     33KI155_1,  PRS2,     2,  8,     14,    101,2,20040122,1153, 22.7463,-157.9778, 4721,     46,     44.9,  24.0992,  35.1992,2,  35.2003,2,    209.4,1, 24.0897,   -999.0,9,  -999.00,9,  -999.00,9,  -999.00,9,  -999.0,-999.000
     33KI155_1,  PRS2,     2,  8,     12,     12,2,20040122,1153, 22.7463,-157.9778, 4721,     76,     74.9,  24.1093,  35.2171,2,  35.2160,2,    209.5,1, 24.0934,   -999.0,9,  -999.00,9,  -999.00,9,  -999.00,9,  -999.0,-999.000
     33KI155_1,  PRS2,     2,  8,     13,     42,2,20040122,1153, 22.7463,-157.9778, 4721,     75,     75.0,  24.1093,  35.2172,2,  35.2166,2,    209.5,1, 24.0934,   -999.0,9,  -999.00,9,  -999.00,9,  -999.00,9,  -999.0,-999.000
     33KI155_1,  PRS2,     2,  8,     11,     39,2,20040122,1153, 22.7463,-157.9778, 4721,     75,     75.1,  24.1093,  35.2170,2,  35.2214,2,    209.4,1, 24.0934,   -999.0,9,  -999.00,9,  -999.00,9,  -999.00,9,  -999.0,-999.000
     33KI155_1,  PRS2,     2,  8,     10,     32,2,20040122,1153, 22.7463,-157.9778, 4721,    100,     98.4,  24.1018,  35.2276,2,  35.2251,2,    208.7,1, 24.0810,   -999.0,9,  -999.00,9,  -999.00,9,  -999.00,9,  -999.0,-999.000
     33KI155_1,  PRS2,     2,  8,      9,      3,2,20040122,1153, 22.7463,-157.9778, 4721,    100,     98.4,  24.1012,  35.2278,2,  35.2283,2,    208.8,1, 24.0804,   -999.0,9,  -999.00,9,  -999.00,9,  -999.00,9,  -999.0,-999.000
     33KI155_1,  PRS2,     2,  8,      8,     29,2,20040122,1153, 22.7463,-157.9778, 4721,     97,     99.3,  24.1009,  35.2279,2,  35.2253,2,    208.9,1, 24.0800,   -999.0,9,  -999.00,9,  -999.00,9,  -999.00,9,  -999.0,-999.000
     33KI155_1,  PRS2,     2,  8,      7,     28,2,20040122,1153, 22.7463,-157.9778, 4721,    127,    125.2,  23.6829,  35.3612,2,  35.3699,2,    206.8,1, 23.6568,   -999.0,9,  -999.00,9,  -999.00,9,  -999.00,9,  -999.0,-999.000
     33KI155_1,  PRS2,     2,  8,      6,     13,3,20040122,1153, 22.7463,-157.9778, 4721,    126,    125.2,  23.6590,  35.3683,2,  35.3609,2,    206.8,1, 23.6329,   -999.0,9,  -999.00,9,  -999.00,9,  -999.00,9,  -999.0,-999.000
     33KI155_1,  PRS2,     2,  8,      5,     38,3,20040122,1153, 22.7463,-157.9778, 4721,    125,    125.2,  23.6505,  35.3683,2,  35.3627,2,    206.7,1, 23.6244,   -999.0,9,  -999.00,9,  -999.00,9,  -999.00,9,  -999.0,-999.000
     33KI155_1,  PRS2,     2,  8,      4,     36,2,20040122,1153, 22.7463,-157.9778, 4721,    150,    149.2,  21.9726,  35.2770,2,  35.2844,2,    200.0,1, 21.9431,   -999.0,9,  -999.00,9,  -999.00,9,  -999.00,9,  -999.0,-999.000
     33KI155_1,  PRS2,     2,  8,      3,     35,3,20040122,1153, 22.7463,-157.9778, 4721,    174,    174.0,  20.5878,  35.2112,2,  35.2095,2,    200.3,1, 20.5550,   -999.0,9,  -999.00,9,  -999.00,9,  -999.00,9,  -999.0,-999.000
     33KI155_1,  PRS2,     2,  8,      2,     34,2,20040122,1153, 22.7463,-157.9778, 4721,    523,    518.9,   6.7737,  34.0488,2,  34.0520,2,    104.4,1,  6.7257,   -999.0,9,  -999.00,9,  -999.00,9,  -999.00,9,  -999.0,-999.000
     33KI155_1,  PRS2,     2,  8,      1,     33,2,20040122,1153, 22.7463,-157.9778, 4721,   1021,   1020.9,   3.9295,  34.4872,2,  34.4905,2,     45.0,1,  3.8527,   -999.0,9,  -999.00,9,  -999.00,9,  -999.00,9,  -999.0,-999.000
     33KI155_1,  PRS2,     2,  9,      4,     36,3,20040122,1453, 22.7507,-158.0005, 4722,      4,      3.5,  24.0944,  35.2103,2,  35.2103,2,    209.2,1, 24.0937,   -999.0,9,  -999.00,9,  -999.00,9,  -999.00,9,  -999.0,-999.000
     33KI155_1,  PRS2,     2,  9,      3,     35,2,20040122,1453, 22.7507,-158.0005, 4722,    148,    149.1,  22.7530,  35.3195,2,  35.3341,3,    202.2,1, 22.7228,   -999.0,9,  -999.00,9,  -999.00,9,  -999.00,9,  -999.0,-999.000
     33KI155_1,  PRS2,     2,  9,      2,     34,2,20040122,1453, 22.7507,-158.0005, 4722,    500,    498.7,   7.7822,  34.0558,2,  34.0557,2,    138.1,1,  7.7323,   -999.0,9,  -999.00,9,  -999.00,9,  -999.00,9,  -999.0,-999.000
     33KI155_1,  PRS2,     2,  9,      1,     33,2,20040122,1453, 22.7507,-158.0005, 4722,   1018,   1016.5,   3.8939,  34.4948,2,  34.4943,2,     45.8,1,  3.8177,   -999.0,9,  -999.00,9,  -999.00,9,  -999.00,9,  -999.0,-999.000
     33KI155_1,  PRS2,     2, 10,     10,     32,2,20040122,1757, 22.7532,-158.0067, 4728,      6,      4.2,  24.0967,  35.2093,2,  35.2103,2,    207.3,1, 24.0958,   -999.0,9,  -999.00,9,  -999.00,9,  -999.00,9,  -999.0,-999.000
     33KI155_1,  PRS2,     2, 10,      9,      3,2,20040122,1757, 22.7532,-158.0067, 4728,     26,     24.6,  24.0987,  35.2099,2,  35.2097,2,    207.2,1, 24.0935,   -999.0,9,  -999.00,9,  -999.00,9,  -999.00,9,  -999.0,-999.000
     33KI155_1,  PRS2,     2, 10,      8,     29,2,20040122,1757, 22.7532,-158.0067, 4728,     46,     45.3,  24.1060,  35.2107,2,  35.2093,2,    207.1,1, 24.0964,   -999.0,9,  -999.00,9,  -999.00,9,  -999.00,9,  -999.0,-999.000
     33KI155_1,  PRS2,     2, 10,      7,     28,2,20040122,1757, 22.7532,-158.0067, 4728,     75,     75.4,  24.1078,  35.2106,2,  35.2111,2,    206.9,1, 24.0919,   -999.0,9,  -999.00,9,  -999.00,9,  -999.00,9,  -999.0,-999.000
     33KI155_1,  PRS2,     2, 10,      6,     13,2,20040122,1757, 22.7532,-158.0067, 4728,    103,    101.2,  24.0289,  35.2662,2,  35.2612,2,    208.8,1, 24.0075,   -999.0,9,  -999.00,9,  -999.00,9,  -999.00,9,  -999.0,-999.000
     33KI155_1,  PRS2,     2, 10,      5,     38,2,20040122,1757, 22.7532,-158.0067, 4728,    125,    122.9,  23.0829,  35.3480,2,  35.3556,2,    202.0,1, 23.0577,   -999.0,9,  -999.00,9,  -999.00,9,  -999.00,9,  -999.0,-999.000
     33KI155_1,  PRS2,     2, 10,      4,     36,2,20040122,1757, 22.7532,-158.0067, 4728,    149,    148.5,  21.5082,  35.2407,2,  35.2405,2,    199.4,1, 21.4793,   -999.0,9,  -999.00,9,  -999.00,9,  -999.00,9,  -999.0,-999.000
     33KI155_1,  PRS2,     2, 10,      3,     35,2,20040122,1757, 22.7532,-158.0067, 4728,    172,    172.5,  20.6756,  35.2194,2,  35.2196,2,    200.5,1, 20.6429,   -999.0,9,  -999.00,9,  -999.00,9,  -999.00,9,  -999.0,-999.000
     33KI155_1,  PRS2,     2, 10,      2,     34,2,20040122,1757, 22.7532,-158.0067, 4728,    495,    493.2,   7.7720,  34.0560,2,  34.0543,2,    146.2,1,  7.7227,   -999.0,9,  -999.00,9,  -999.00,9,  -999.00,9,  -999.0,-999.000
     33KI155_1,  PRS2,     2, 10,      1,     33,2,20040122,1757, 22.7532,-158.0067, 4728,   1025,   1021.9,   3.9621,  34.4885,2,  34.4894,2,     46.0,1,  3.8850,   -999.0,9,  -999.00,9,  -999.00,9,  -999.00,9,  -999.0,-999.000
     33KI155_1,  PRS2,     2, 11,      5,     38,2,20040122,2057, 22.7358,-157.9728, 4719,      5,      4.1,  24.0741,  35.2020,2,  35.2015,2,    209.2,1, 24.0732,   -999.0,9,  -999.00,9,  -999.00,9,  -999.00,9,  -999.0,-999.000
     33KI155_1,  PRS2,     2, 11,      4,     36,2,20040122,2057, 22.7358,-157.9728, 4719,    122,    123.7,  23.0653,  35.3555,2,  35.3605,2,    203.8,1, 23.0400,   -999.0,9,  -999.00,9,  -999.00,9,  -999.00,9,  -999.0,-999.000
     33KI155_1,  PRS2,     2, 11,      3,     35,2,20040122,2057, 22.7358,-157.9728, 4719,    551,    548.0,   6.2880,  34.0456,2,  34.0447,2,     91.9,1,  6.2391,   -999.0,9,  -999.00,9,  -999.00,9,  -999.00,9,  -999.0,-999.000
     33KI155_1,  PRS2,     2, 11,      2,     34,2,20040122,2057, 22.7358,-157.9728, 4719,    798,    798.5,   4.6025,  34.3454,2,  34.3449,2,     31.4,1,  4.5398,   -999.0,9,  -999.00,9,  -999.00,9,  -999.00,9,  -999.0,-999.000
     33KI155_1,  PRS2,     2, 11,      1,     33,2,20040122,2057, 22.7358,-157.9728, 4719,   1021,   1019.9,   3.9738,  34.4923,2,  34.4937,2,     45.1,1,  3.8967,   -999.0,9,  -999.00,9,  -999.00,9,  -999.00,9,  -999.0,-999.000
     33KI155_1,  PRS2,     2, 12,     11,     39,2,20040123,0028, 22.7288,-158.0075, 4728,      6,      4.9,  24.1098,  35.2125,2,  35.2137,2,    210.2,1, 24.1088,   -999.0,9,  -999.00,9,  -999.00,9,  -999.00,9,  -999.0,-999.000
     33KI155_1,  PRS2,     2, 12,     10,     32,2,20040123,0028, 22.7288,-158.0075, 4728,     25,     24.1,  24.1081,  35.2118,2,  35.2133,2,    209.9,1, 24.1030,   -999.0,9,  -999.00,9,  -999.00,9,  -999.00,9,  -999.0,-999.000
     33KI155_1,  PRS2,     2, 12,      9,      3,2,20040123,0028, 22.7288,-158.0075, 4728,     44,     44.0,  24.1039,  35.2119,2,  35.2188,2,    208.9,1, 24.0946,   -999.0,9,  -999.00,9,  -999.00,9,  -999.00,9,  -999.0,-999.000
     33KI155_1,  PRS2,     2, 12,      8,     29,2,20040123,0028, 22.7288,-158.0075, 4728,     76,     75.6,  24.0880,  35.2267,2,  35.2377,2,    209.6,1, 24.0720,   -999.0,9,  -999.00,9,  -999.00,9,  -999.00,9,  -999.0,-999.000
     33KI155_1,  PRS2,     2, 12,      7,     28,2,20040123,0028, 22.7288,-158.0075, 4728,    100,     99.3,  23.5859,  35.3812,2,  35.3784,2,    205.5,1, 23.5652,   -999.0,9,  -999.00,9,  -999.00,9,  -999.00,9,  -999.0,-999.000
     33KI155_1,  PRS2,     2, 12,      6,     13,2,20040123,0028, 22.7288,-158.0075, 4728,    125,    123.9,  22.5725,  35.3282,2,  35.3284,2,    201.5,1, 22.5475,   -999.0,9,  -999.00,9,  -999.00,9,  -999.00,9,  -999.0,-999.000
     33KI155_1,  PRS2,     2, 12,      5,     38,2,20040123,0028, 22.7288,-158.0075, 4728,    149,    147.9,  21.1531,  35.2550,2,  35.2552,2,    200.2,1, 21.1246,   -999.0,9,  -999.00,9,  -999.00,9,  -999.00,9,  -999.0,-999.000
     33KI155_1,  PRS2,     2, 12,      4,     36,3,20040123,0028, 22.7288,-158.0075, 4728,    252,    248.0,  16.2807,  34.6412,2,  34.6555,2,    198.9,1, 16.2411,   -999.0,9,  -999.00,9,  -999.00,9,  -999.00,9,  -999.0,-999.000
     33KI155_1,  PRS2,     2, 12,      3,     35,3,20040123,0028, 22.7288,-158.0075, 4728,    351,    348.7,  11.0267,  34.1780,2,  34.1780,2,    201.8,1, 10.9837,   -999.0,9,  -999.00,9,  -999.00,9,  -999.00,9,  -999.0,-999.000
     33KI155_1,  PRS2,     2, 12,      2,     34,2,20040123,0028, 22.7288,-158.0075, 4728,    800,    798.6,   4.4129,  34.3286,2,  34.3272,2,     30.5,1,  4.3514,   -999.0,9,  -999.00,9,  -999.00,9,  -999.00,9,  -999.0,-999.000
     33KI155_1,  PRS2,     2, 12,      1,     33,2,20040123,0028, 22.7288,-158.0075, 4728,   1020,   1019.2,   3.9271,  34.5000,2,  34.5000,2,     46.3,1,  3.8505,   -999.0,9,  -999.00,9,  -999.00,9,  -999.00,9,  -999.0,-999.000
     33KI155_1,  PRS2,     2, 13,      4,     36,2,20040123,0257, 22.7177,-158.0480, 4743,      5,      4.1,  24.0915,  35.2095,2,  35.2082,2,    210.1,1, 24.0907,   -999.0,9,  -999.00,9,  -999.00,9,  -999.00,9,  -999.0,-999.000
     33KI155_1,  PRS2,     2, 13,      3,     35,2,20040123,0257, 22.7177,-158.0480, 4743,    110,    109.4,  23.8874,  35.3371,2,  35.3165,3,    207.1,1, 23.8644,   -999.0,9,  -999.00,9,  -999.00,9,  -999.00,9,  -999.0,-999.000
     33KI155_1,  PRS2,     2, 13,      2,     34,2,20040123,0257, 22.7177,-158.0480, 4743,    551,    549.8,   6.6950,  34.0292,2,  34.0275,2,    114.5,1,  6.6443,   -999.0,9,  -999.00,9,  -999.00,9,  -999.00,9,  -999.0,-999.000
     33KI155_1,  PRS2,     2, 13,      1,     33,2,20040123,0257, 22.7177,-158.0480, 4743,   1020,   1019.6,   3.8325,  34.4576,2,  34.4572,2,     41.6,1,  3.7566,   -999.0,9,  -999.00,9,  -999.00,9,  -999.00,9,  -999.0,-999.000
     33KI155_1,  PRS2,     2, 14,     23,     30,2,20040123,0557, 22.7542,-157.9925, 4726,      5,      4.0,  24.0675,  35.1904,2,  35.1908,2,    208.5,1, 24.0667,   -999.0,9,  -999.00,9,  -999.00,9,  -999.00,9,  -999.0,-999.000
     33KI155_1,  PRS2,     2, 14,     22,     22,2,20040123,0557, 22.7542,-157.9925, 4726,      5,      4.0,  24.0659,  35.1905,2,  35.1898,2,    208.2,1, 24.0650,   -999.0,9,  -999.00,9,  -999.00,9,  -999.00,9,  -999.0,-999.000
     33KI155_1,  PRS2,     2, 14,     21,     21,3,20040123,0557, 22.7542,-157.9925, 4726,     25,     24.0,  24.0809,  35.1907,2,-999.0000,5,    208.1,1, 24.0758,   -999.0,9,  -999.00,9,  -999.00,9,  -999.00,9,  -999.0,-999.000
     33KI155_1,  PRS2,     2, 14,     20,     20,3,20040123,0557, 22.7542,-157.9925, 4726,     25,     24.0,  24.0809,  35.1907,2,  35.1902,2,    208.1,1, 24.0758,   -999.0,9,  -999.00,9,  -999.00,9,  -999.00,9,  -999.0,-999.000
     33KI155_1,  PRS2,     2, 14,     19,     19,2,20040123,0557, 22.7542,-157.9925, 4726,     45,     43.5,  24.0847,  35.1926,2,  35.1930,2,    207.9,1, 24.0755,   -999.0,9,  -999.00,9,  -999.00,9,  -999.00,9,  -999.0,-999.000
     33KI155_1,  PRS2,     2, 14,     18,     18,2,20040123,0557, 22.7542,-157.9925, 4726,     44,     43.5,  24.0852,  35.1924,2,  35.1922,2,    207.8,1, 24.0761,   -999.0,9,  -999.00,9,  -999.00,9,  -999.00,9,  -999.0,-999.000
     33KI155_1,  PRS2,     2, 14,     17,     17,3,20040123,0557, 22.7542,-157.9925, 4726,     58,     59.0,  24.0906,  35.1954,2,  35.1971,2,    207.8,1, 24.0781,   -999.0,9,  -999.00,9,  -999.00,9,  -999.00,9,  -999.0,-999.000
     33KI155_1,  PRS2,     2, 14,     16,     16,2,20040123,0557, 22.7542,-157.9925, 4726,     74,     73.7,  24.0974,  35.2039,2,  35.2025,2,    209.6,1, 24.0818,   -999.0,9,  -999.00,9,  -999.00,9,  -999.00,9,  -999.0,-999.000
     33KI155_1,  PRS2,     2, 14,     15,     23,2,20040123,0557, 22.7542,-157.9925, 4726,     74,     73.7,  24.0976,  35.2046,2,  35.2026,2,    209.3,1, 24.0821,   -999.0,9,  -999.00,9,  -999.00,9,  -999.00,9,  -999.0,-999.000
     33KI155_1,  PRS2,     2, 14,     14,    101,2,20040123,0557, 22.7542,-157.9925, 4726,     85,     84.2,  24.0876,  35.2206,2,  35.2566,4,    209.4,1, 24.0698,   -999.0,9,  -999.00,9,  -999.00,9,  -999.00,9,  -999.0,-999.000
     33KI155_1,  PRS2,     2, 14,     12,     12,3,20040123,0557, 22.7542,-157.9925, 4726,    101,    101.2,  23.9998,  35.2835,2,  35.2746,2,    207.6,1, 23.9785,   -999.0,9,  -999.00,9,  -999.00,9,  -999.00,9,  -999.0,-999.000
     33KI155_1,  PRS2,     2, 14,     13,     42,2,20040123,0557, 22.7542,-157.9925, 4726,    102,    102.0,  23.9884,  35.2891,2,  35.2797,2,    207.7,1, 23.9669,   -999.0,9,  -999.00,9,  -999.00,9,  -999.00,9,  -999.0,-999.000
     33KI155_1,  PRS2,     2, 14,     11,     39,3,20040123,0557, 22.7542,-157.9925, 4726,    115,    115.7,  23.7190,  35.3672,2,  35.3617,2,    206.1,1, 23.6948,   -999.0,9,  -999.00,9,  -999.00,9,  -999.00,9,  -999.0,-999.000
     33KI155_1,  PRS2,     2, 14,     10,     32,2,20040123,0557, 22.7542,-157.9925, 4726,    126,    124.5,  23.3092,  35.3789,2,  35.3778,2,    204.8,1, 23.2835,   -999.0,9,  -999.00,9,  -999.00,9,  -999.00,9,  -999.0,-999.000
     33KI155_1,  PRS2,     2, 14,      9,      3,2,20040123,0557, 22.7542,-157.9925, 4726,    126,    124.5,  23.3159,  35.3796,2,  35.3788,2,    204.8,1, 23.2902,   -999.0,9,  -999.00,9,  -999.00,9,  -999.00,9,  -999.0,-999.000
     33KI155_1,  PRS2,     2, 14,      8,     29,3,20040123,0557, 22.7542,-157.9925, 4726,    135,    134.7,  23.1176,  35.3673,2,  35.3664,2,    203.9,1, 23.0899,   -999.0,9,  -999.00,9,  -999.00,9,  -999.00,9,  -999.0,-999.000
     33KI155_1,  PRS2,     2, 14,      7,     28,3,20040123,0557, 22.7542,-157.9925, 4726,    151,    149.5,  22.5127,  35.3298,2,  35.3303,2,    203.6,1, 22.4826,   -999.0,9,  -999.00,9,  -999.00,9,  -999.00,9,  -999.0,-999.000
     33KI155_1,  PRS2,     2, 14,      6,     13,3,20040123,0557, 22.7542,-157.9925, 4726,    150,    149.5,  22.5264,  35.3323,2,  35.3343,2,    203.4,1, 22.4962,   -999.0,9,  -999.00,9,  -999.00,9,  -999.00,9,  -999.0,-999.000
     33KI155_1,  PRS2,     2, 14,      4,     36,3,20040123,0557, 22.7542,-157.9925, 4726,    178,    176.7,  20.3873,  35.1967,2,  35.2003,2,    196.4,1, 20.3541,   -999.0,9,  -999.00,9,  -999.00,9,  -999.00,9,  -999.0,-999.000
     33KI155_1,  PRS2,     2, 14,      5,     38,2,20040123,0557, 22.7542,-157.9925, 4726,    179,    177.7,  20.3678,  35.1946,2,  35.1975,2,    196.6,1, 20.3345,   -999.0,9,  -999.00,9,  -999.00,9,  -999.00,9,  -999.0,-999.000
     33KI155_1,  PRS2,     2, 14,      3,     35,3,20040123,0557, 22.7542,-157.9925, 4726,    542,    539.8,   6.5115,  34.0486,2,  34.0490,2,     98.0,1,  6.4625,   -999.0,9,  -999.00,9,  -999.00,9,  -999.00,9,  -999.0,-999.000
     33KI155_1,  PRS2,     2, 14,      2,     34,2,20040123,0557, 22.7542,-157.9925, 4726,    798,    798.1,   4.7529,  34.3358,2,  34.3378,2,     31.8,1,  4.6893,   -999.0,9,  -999.00,9,  -999.00,9,  -999.00,9,  -999.0,-999.000
     33KI155_1,  PRS2,     2, 14,      1,     33,2,20040123,0557, 22.7542,-157.9925, 4726,   1027,   1025.3,   4.0115,  34.4928,2,  34.4939,2,     44.7,1,  3.9337,   -999.0,9,  -999.00,9,  -999.00,9,  -999.00,9,  -999.0,-999.000