BOTTLE,20090923WHPSIOMYS
EXPOCODE,SECT_ID,STNNBR,CASTNO,SAMPNO,BTLNBR,BTLNBR_FLAG_W,DATE,TIME,LATITUDE,LONGITUDE,DEPTH,CTDRAW,CTDPRS,CTDTMP,CTDSAL,CTDSAL_FLAG_W,SALNTY,SALNTY_FLAG_W,CTDOXY,CTDOXY_FLAG_W,THETA,OXYGEN,OXYGEN_FLAG_W,SILCAT,SILCAT_FLAG_W,NO2+NO3,NO2+NO3_FLAG_W,PHSPHT,PHSPHT_FLAG_W,REVPRS,REVTMP
,,,,,,,,,,,,,DBAR,ITS-90,PSS-78,,PSS-78,,UMOL/KG,,ITS-90,UMOL/KG,,UMOL/KG,,UMOL/KG,,UMOL/KG,,DBAR,DEG C
     33KI155_1,  PRS2,     2,  3,     14,    101,2,20040121,2059, 22.7508,-157.9978, 4723,      5,      4.1,  24.1569,  35.1693,2,  35.1684,2,    206.4,1, 24.1561,   -999.0,9,  -999.00,9,  -999.00,9,  -999.00,9,  -999.0,-999.000
     33KI155_1,  PRS2,     2,  3,     13,     42,2,20040121,2059, 22.7508,-157.9978, 4723,     25,     24.3,  24.1185,  35.1661,2,  35.1698,2,    207.5,1, 24.1134,   -999.0,9,  -999.00,9,  -999.00,9,  -999.00,9,  -999.0,-999.000
     33KI155_1,  PRS2,     2,  3,     12,     12,3,20040121,2059, 22.7508,-157.9978, 4723,     46,     45.5,  24.1147,  35.1687,2,  35.1686,2,    209.7,1, 24.1051,   -999.0,9,  -999.00,9,  -999.00,9,  -999.00,9,  -999.0,-999.000
     33KI155_1,  PRS2,     2,  3,     11,     39,3,20040121,2059, 22.7508,-157.9978, 4723,     60,     59.2,  24.1164,  35.1723,2,  35.1721,2,    210.5,1, 24.1039,   -999.0,9,  -999.00,9,  -999.00,9,  -999.00,9,  -999.0,-999.000
     33KI155_1,  PRS2,     2,  3,     10,     32,2,20040121,2059, 22.7508,-157.9978, 4723,     76,     74.7,  24.1251,  35.1893,2,  35.1938,2,    208.8,1, 24.1093,   -999.0,9,  -999.00,9,  -999.00,9,  -999.00,9,  -999.0,-999.000
     33KI155_1,  PRS2,     2,  3,      9,      3,2,20040121,2059, 22.7508,-157.9978, 4723,     87,     85.1,  24.1032,  35.2452,2,  35.2499,2,    209.2,1, 24.0852,   -999.0,9,  -999.00,9,  -999.00,9,  -999.00,9,  -999.0,-999.000
     33KI155_1,  PRS2,     2,  3,      8,     29,2,20040121,2059, 22.7508,-157.9978, 4723,     99,     98.5,  23.7477,  35.3775,2,  35.3767,2,    207.3,1, 23.7271,   -999.0,9,  -999.00,9,  -999.00,9,  -999.00,9,  -999.0,-999.000
     33KI155_1,  PRS2,     2,  3,      7,     28,2,20040121,2059, 22.7508,-157.9978, 4723,    114,    113.6,  23.3083,  35.3720,2,  35.3875,4,    205.4,1, 23.2848,   -999.0,9,  -999.00,9,  -999.00,9,  -999.00,9,  -999.0,-999.000
     33KI155_1,  PRS2,     2,  3,      6,     13,3,20040121,2059, 22.7508,-157.9978, 4723,    125,    123.8,  23.0301,  35.3603,2,  35.3579,2,    204.5,1, 23.0047,   -999.0,9,  -999.00,9,  -999.00,9,  -999.00,9,  -999.0,-999.000
     33KI155_1,  PRS2,     2,  3,      5,     38,2,20040121,2059, 22.7508,-157.9978, 4723,    149,    148.9,  21.4149,  35.2572,2,  35.2586,2,    199.0,1, 21.3860,   -999.0,9,  -999.00,9,  -999.00,9,  -999.00,9,  -999.0,-999.000
     33KI155_1,  PRS2,     2,  3,      4,     36,3,20040121,2059, 22.7508,-157.9978, 4723,    176,    174.2,  20.0205,  35.1521,2,  35.1572,2,    199.3,1, 19.9882,   -999.0,9,  -999.00,9,  -999.00,9,  -999.00,9,  -999.0,-999.000
     33KI155_1,  PRS2,     2,  3,      3,     35,2,20040121,2059, 22.7508,-157.9978, 4723,    201,    199.7,  18.3733,  34.9293,2,  34.9499,3,    199.4,1, 18.3385,   -999.0,9,  -999.00,9,  -999.00,9,  -999.00,9,  -999.0,-999.000
     33KI155_1,  PRS2,     2,  3,      2,     34,2,20040121,2059, 22.7508,-157.9978, 4723,    501,    501.1,   6.9925,  34.0356,2,  34.0347,2,    118.9,1,  6.9453,   -999.0,9,  -999.00,9,  -999.00,9,  -999.00,9,  -999.0,-999.000
     33KI155_1,  PRS2,     2,  3,      1,     33,2,20040121,2059, 22.7508,-157.9978, 4723,   1018,   1018.5,   3.8337,  34.4709,2,  34.4697,2,     44.2,1,  3.7578,   -999.0,9,  -999.00,9,  -999.00,9,  -999.00,9,  -999.0,-999.000
     33KI155_1,  PRS2,     2,  4,     15,     23,3,20040121,2356, 22.7362,-157.9978, 4740,      5,      3.9,  24.1669,  35.1919,2,  35.1950,2,    210.1,1, 24.1661,   -999.0,9,  -999.00,9,  -999.00,9,  -999.00,9,  -999.0,-999.000
     33KI155_1,  PRS2,     2,  4,     13,     42,2,20040121,2356, 22.7362,-157.9978, 4740,     26,     23.7,  24.1261,  35.1857,2,  35.1857,2,    210.2,1, 24.1210,   -999.0,9,  -999.00,9,  -999.00,9,  -999.00,9,  -999.0,-999.000
     33KI155_1,  PRS2,     2,  4,     14,    101,2,20040121,2356, 22.7362,-157.9978, 4740,     25,     24.0,  24.1265,  35.1858,2,  35.1863,2,    210.2,1, 24.1214,   -999.0,9,  -999.00,9,  -999.00,9,  -999.00,9,  -999.0,-999.000
     33KI155_1,  PRS2,     2,  4,     12,     12,2,20040121,2356, 22.7362,-157.9978, 4740,     45,     44.1,  24.1183,  35.1862,2,  35.2013,4,    210.8,1, 24.1090,   -999.0,9,  -999.00,9,  -999.00,9,  -999.00,9,  -999.0,-999.000
     33KI155_1,  PRS2,     2,  4,     11,     39,2,20040121,2356, 22.7362,-157.9978, 4740,     75,     74.5,  24.1091,  35.2020,2,  35.2019,2,    210.0,1, 24.0934,   -999.0,9,  -999.00,9,  -999.00,9,  -999.00,9,  -999.0,-999.000
     33KI155_1,  PRS2,     2,  4,     10,     32,2,20040121,2356, 22.7362,-157.9978, 4740,    100,     99.3,  23.8094,  35.3765,2,  35.3735,2,    207.6,1, 23.7885,   -999.0,9,  -999.00,9,  -999.00,9,  -999.00,9,  -999.0,-999.000
     33KI155_1,  PRS2,     2,  4,      9,      3,2,20040121,2356, 22.7362,-157.9978, 4740,    126,    123.9,  23.1924,  35.3702,2,  35.3672,2,    206.2,1, 23.1669,   -999.0,9,  -999.00,9,  -999.00,9,  -999.00,9,  -999.0,-999.000
     33KI155_1,  PRS2,     2,  4,      8,     29,3,20040121,2356, 22.7362,-157.9978, 4740,    149,    149.9,  21.2757,  35.2487,2,  35.2507,2,    198.6,1, 21.2467,   -999.0,9,  -999.00,9,  -999.00,9,  -999.00,9,  -999.0,-999.000
     33KI155_1,  PRS2,     2,  4,      7,     28,2,20040121,2356, 22.7362,-157.9978, 4740,    176,    174.7,  19.6561,  35.1082,2,  35.1123,2,    199.9,1, 19.6242,   -999.0,9,  -999.00,9,  -999.00,9,  -999.00,9,  -999.0,-999.000
     33KI155_1,  PRS2,     2,  4,      6,     13,2,20040121,2356, 22.7362,-157.9978, 4740,    200,    200.6,  18.6656,  34.9748,2,  34.9847,2,    199.4,1, 18.6302,   -999.0,9,  -999.00,9,  -999.00,9,  -999.00,9,  -999.0,-999.000
     33KI155_1,  PRS2,     2,  4,      5,     38,2,20040121,2356, 22.7362,-157.9978, 4740,    250,    249.8,  16.4393,  34.6603,2,  34.6787,2,    204.4,1, 16.3991,   -999.0,9,  -999.00,9,  -999.00,9,  -999.00,9,  -999.0,-999.000
     33KI155_1,  PRS2,     2,  4,      4,     36,3,20040121,2356, 22.7362,-157.9978, 4740,    350,    350.2,  11.0296,  34.1677,2,  34.1653,2,    200.9,1, 10.9864,   -999.0,9,  -999.00,9,  -999.00,9,  -999.00,9,  -999.0,-999.000
     33KI155_1,  PRS2,     2,  4,      3,     35,3,20040121,2356, 22.7362,-157.9978, 4740,    350,    350.3,  11.0289,  34.1653,2,  34.1811,3,    200.8,1, 10.9857,   -999.0,9,  -999.00,9,  -999.00,9,  -999.00,9,  -999.0,-999.000
     33KI155_1,  PRS2,     2,  4,      2,     34,2,20040121,2356, 22.7362,-157.9978, 4740,    502,    500.2,   7.1203,  34.0355,2,  34.0351,2,    127.3,1,  7.0727,   -999.0,9,  -999.00,9,  -999.00,9,  -999.00,9,  -999.0,-999.000
     33KI155_1,  PRS2,     2,  4,      1,     33,2,20040121,2356, 22.7362,-157.9978, 4740,   1020,   1019.5,   3.8140,  34.4729,2,  34.4772,2,     44.6,1,  3.7383,   -999.0,9,  -999.00,9,  -999.00,9,  -999.00,9,  -999.0,-999.000
     33KI155_1,  PRS2,     2,  5,     14,    101,2,20040122,0257, 22.7512,-158.0012, 4722,      5,      4.4,  24.1487,  35.2080,2,  35.2095,2,    209.9,1, 24.1477,   -999.0,9,  -999.00,9,  -999.00,9,  -999.00,9,  -999.0,-999.000
     33KI155_1,  PRS2,     2,  5,     13,     42,3,20040122,0257, 22.7512,-158.0012, 4722,     24,     23.5,  24.1487,  35.2066,2,  35.2066,2,    210.0,1, 24.1437,   -999.0,9,  -999.00,9,  -999.00,9,  -999.00,9,  -999.0,-999.000
     33KI155_1,  PRS2,     2,  5,     12,     12,3,20040122,0257, 22.7512,-158.0012, 4722,     45,     43.6,  24.1461,  35.2047,2,  35.2044,2,    210.3,1, 24.1369,   -999.0,9,  -999.00,9,  -999.00,9,  -999.00,9,  -999.0,-999.000
     33KI155_1,  PRS2,     2,  5,     11,     39,2,20040122,0257, 22.7512,-158.0012, 4722,     73,     73.3,  24.0886,  35.2090,2,  35.2090,2,    210.2,1, 24.0732,   -999.0,9,  -999.00,9,  -999.00,9,  -999.00,9,  -999.0,-999.000
     33KI155_1,  PRS2,     2,  5,     10,     32,2,20040122,0257, 22.7512,-158.0012, 4722,    103,     99.6,  24.0398,  35.2587,2,  35.2614,2,    209.4,1, 24.0188,   -999.0,9,  -999.00,9,  -999.00,9,  -999.00,9,  -999.0,-999.000
     33KI155_1,  PRS2,     2,  5,      9,      3,2,20040122,0257, 22.7512,-158.0012, 4722,    124,    123.5,  23.6296,  35.3788,2,  35.3780,2,    207.1,1, 23.6038,   -999.0,9,  -999.00,9,  -999.00,9,  -999.00,9,  -999.0,-999.000
     33KI155_1,  PRS2,     2,  5,      8,     29,2,20040122,0257, 22.7512,-158.0012, 4722,    150,    148.7,  21.7448,  35.2748,2,  35.2734,2,    199.9,1, 21.7156,   -999.0,9,  -999.00,9,  -999.00,9,  -999.00,9,  -999.0,-999.000
     33KI155_1,  PRS2,     2,  5,      7,     28,3,20040122,0257, 22.7512,-158.0012, 4722,    174,    173.7,  20.1621,  35.1691,2,  35.1585,2,    200.7,1, 20.1298,   -999.0,9,  -999.00,9,  -999.00,9,  -999.00,9,  -999.0,-999.000
     33KI155_1,  PRS2,     2,  5,      6,     13,3,20040122,0257, 22.7512,-158.0012, 4722,    201,    197.3,  19.1956,  35.0480,2,  35.0455,2,    198.6,1, 19.1602,   -999.0,9,  -999.00,9,  -999.00,9,  -999.00,9,  -999.0,-999.000
     33KI155_1,  PRS2,     2,  5,      5,     38,2,20040122,0257, 22.7512,-158.0012, 4722,    252,    250.7,  17.0045,  34.7348,2,  34.7430,2,    201.6,1, 16.9631,   -999.0,9,  -999.00,9,  -999.00,9,  -999.00,9,  -999.0,-999.000
     33KI155_1,  PRS2,     2,  5,      4,     36,2,20040122,0257, 22.7512,-158.0012, 4722,    351,    350.5,  11.7890,  34.1852,2,  34.1851,2,    202.7,1, 11.7439,   -999.0,9,  -999.00,9,  -999.00,9,  -999.00,9,  -999.0,-999.000
     33KI155_1,  PRS2,     2,  5,      3,     35,3,20040122,0257, 22.7512,-158.0012, 4722,    353,    350.5,  11.7867,  34.1849,2,  34.1852,2,    202.6,1, 11.7416,   -999.0,9,  -999.00,9,  -999.00,9,  -999.00,9,  -999.0,-999.000
     33KI155_1,  PRS2,     2,  5,      2,     34,2,20040122,0257, 22.7512,-158.0012, 4722,    543,    541.0,   6.6026,  34.0300,2,  34.0296,2,    110.8,1,  6.5531,   -999.0,9,  -999.00,9,  -999.00,9,  -999.00,9,  -999.0,-999.000
     33KI155_1,  PRS2,     2,  5,      1,     33,2,20040122,0257, 22.7512,-158.0012, 4722,   1022,   1021.8,   3.8137,  34.4731,2,  34.4737,2,     44.7,1,  3.7377,   -999.0,9,  -999.00,9,  -999.00,9,  -999.00,9,  -999.0,-999.000
     33KI155_1,  PRS2,     2,  6,     14,    101,2,20040122,0557, 22.7505,-158.0015, 4727,      4,      3.7,  24.1302,  35.2109,2,  35.2099,2,    210.6,1, 24.1295,   -999.0,9,  -999.00,9,  -999.00,9,  -999.00,9,  -999.0,-999.000
     33KI155_1,  PRS2,     2,  6,     13,     42,2,20040122,0557, 22.7505,-158.0015, 4727,     15,     14.2,  24.1398,  35.2105,2,  35.2101,2,    210.5,1, 24.1368,   -999.0,9,  -999.00,9,  -999.00,9,  -999.00,9,  -999.0,-999.000
     33KI155_1,  PRS2,     2,  6,     12,     12,3,20040122,0557, 22.7505,-158.0015, 4727,     23,     22.8,  24.1406,  35.2105,2,  35.2143,2,    210.5,1, 24.1357,   -999.0,9,  -999.00,9,  -999.00,9,  -999.00,9,  -999.0,-999.000
     33KI155_1,  PRS2,     2,  6,     11,     39,3,20040122,0557, 22.7505,-158.0015, 4727,     34,     33.4,  24.1402,  35.2104,2,  35.2093,2,    210.4,1, 24.1332,   -999.0,9,  -999.00,9,  -999.00,9,  -999.00,9,  -999.0,-999.000
     33KI155_1,  PRS2,     2,  6,     10,     32,2,20040122,0557, 22.7505,-158.0015, 4727,     34,     33.5,  24.1406,  35.2104,2,  35.2099,2,    210.2,1, 24.1335,   -999.0,9,  -999.00,9,  -999.00,9,  -999.00,9,  -999.0,-999.000
     33KI155_1,  PRS2,     2,  6,      9,      3,2,20040122,0557, 22.7505,-158.0015, 4727,     45,     43.6,  24.1438,  35.2107,2,  35.2103,2,    210.1,1, 24.1346,   -999.0,9,  -999.00,9,  -999.00,9,  -999.00,9,  -999.0,-999.000
     33KI155_1,  PRS2,     2,  6,      8,     29,2,20040122,0557, 22.7505,-158.0015, 4727,     60,     58.7,  24.1285,  35.2110,2,  35.2107,2,    210.7,1, 24.1161,   -999.0,9,  -999.00,9,  -999.00,9,  -999.00,9,  -999.0,-999.000
     33KI155_1,  PRS2,     2,  6,      7,     28,2,20040122,0557, 22.7505,-158.0015, 4727,     76,     73.9,  24.1054,  35.2200,2,  35.2192,2,    210.2,1, 24.0898,   -999.0,9,  -999.00,9,  -999.00,9,  -999.00,9,  -999.0,-999.000
     33KI155_1,  PRS2,     2,  6,      6,     13,2,20040122,0557, 22.7505,-158.0015, 4727,    100,     99.0,  23.8863,  35.3304,2,  35.3181,2,    208.1,1, 23.8655,   -999.0,9,  -999.00,9,  -999.00,9,  -999.00,9,  -999.0,-999.000
     33KI155_1,  PRS2,     2,  6,      5,     38,3,20040122,0557, 22.7505,-158.0015, 4727,    125,    123.6,  22.6691,  35.3354,2,  35.3353,2,    203.6,1, 22.6441,   -999.0,9,  -999.00,9,  -999.00,9,  -999.00,9,  -999.0,-999.000
     33KI155_1,  PRS2,     2,  6,      4,     36,3,20040122,0557, 22.7505,-158.0015, 4727,    151,    149.5,  21.0228,  35.2418,2,  35.2450,2,    201.3,1, 20.9941,   -999.0,9,  -999.00,9,  -999.00,9,  -999.00,9,  -999.0,-999.000
     33KI155_1,  PRS2,     2,  6,      3,     35,3,20040122,0557, 22.7505,-158.0015, 4727,    176,    175.7,  19.5247,  35.0923,2,  35.0971,2,    199.5,1, 19.4927,   -999.0,9,  -999.00,9,  -999.00,9,  -999.00,9,  -999.0,-999.000
     33KI155_1,  PRS2,     2,  6,      2,     34,2,20040122,0557, 22.7505,-158.0015, 4727,    550,    548.8,   6.2760,  34.0321,2,  34.0326,2,     99.8,1,  6.2271,   -999.0,9,  -999.00,9,  -999.00,9,  -999.00,9,  -999.0,-999.000
     33KI155_1,  PRS2,     2,  6,      1,     33,2,20040122,0557, 22.7505,-158.0015, 4727,   1021,   1019.9,   3.9990,  34.4833,2,  34.4868,2,     44.7,1,  3.9217,   -999.0,9,  -999.00,9,  -999.00,9,  -999.00,9,  -999.0,-999.000
     33KI155_1,  PRS2,     2,  7,     19,     19,2,20040122,0855, 22.7515,-157.9998, 4724,      5,      3.6,  24.1199,  35.2105,2,  35.2115,2,    203.5,3, 24.1191,   -999.0,5,  -999.00,9,  -999.00,9,  -999.00,9,  -999.0,-999.000
     33KI155_1,  PRS2,     2,  7,     18,     18,2,20040122,0855, 22.7515,-157.9998, 4724,      5,      3.6,  24.1170,  35.2107,2,  35.2115,2,    203.4,3, 24.1162,    209.4,2,  -999.00,9,  -999.00,9,  -999.00,9,  -999.0,-999.000
     33KI155_1,  PRS2,     2,  7,     17,     17,2,20040122,0855, 22.7515,-157.9998, 4724,     13,     12.9,  24.1195,  35.2106,2,  35.2121,2,    203.2,3, 24.1168,   -999.0,5,  -999.00,9,  -999.00,9,  -999.00,9,  -999.0,-999.000
     33KI155_1,  PRS2,     2,  7,     16,     16,2,20040122,0855, 22.7515,-157.9998, 4724,     26,     24.5,  24.1253,  35.2106,2,  35.2109,2,    203.1,3, 24.1201,   -999.0,5,  -999.00,9,  -999.00,9,  -999.00,9,  -999.0,-999.000
     33KI155_1,  PRS2,     2,  7,     15,     23,2,20040122,0855, 22.7515,-157.9998, 4724,     25,     24.7,  24.1252,  35.2106,2,  35.2103,2,    203.2,3, 24.1200,    209.8,2,  -999.00,9,  -999.00,9,  -999.00,9,  -999.0,-999.000
     33KI155_1,  PRS2,     2,  7,     14,    101,2,20040122,0855, 22.7515,-157.9998, 4724,     35,     34.0,  24.1250,  35.2111,2,  35.2141,2,    203.5,3, 24.1178,   -999.0,5,  -999.00,9,  -999.00,9,  -999.00,9,  -999.0,-999.000
     33KI155_1,  PRS2,     2,  7,     13,     42,2,20040122,0855, 22.7515,-157.9998, 4724,     45,     43.2,  24.1275,  35.2109,2,  35.2105,2,    203.7,3, 24.1184,    209.5,2,  -999.00,9,  -999.00,9,  -999.00,9,  -999.0,-999.000
     33KI155_1,  PRS2,     2,  7,     12,     12,2,20040122,0855, 22.7515,-157.9998, 4724,     59,     59.8,  24.1259,  35.2117,2,  35.2115,2,    210.4,2, 24.1133,   -999.0,5,  -999.00,9,  -999.00,9,  -999.00,9,  -999.0,-999.000
     33KI155_1,  PRS2,     2,  7,     11,     39,2,20040122,0855, 22.7515,-157.9998, 4724,     74,     73.5,  24.1070,  35.2120,2,  35.2310,4,    209.7,3, 24.0915,    209.2,2,  -999.00,9,  -999.00,9,  -999.00,9,  -999.0,-999.000
     33KI155_1,  PRS2,     2,  7,     10,     32,2,20040122,0855, 22.7515,-157.9998, 4724,     85,     84.1,  24.1007,  35.2141,2,  35.2160,2,    210.6,2, 24.0829,    209.0,2,  -999.00,9,  -999.00,9,  -999.00,9,  -999.0,-999.000
     33KI155_1,  PRS2,     2,  7,      9,      3,2,20040122,0855, 22.7515,-157.9998, 4724,     99,     99.1,  24.0989,  35.2206,2,  35.2210,2,    209.8,2, 24.0780,    209.5,2,  -999.00,9,  -999.00,9,  -999.00,9,  -999.0,-999.000
     33KI155_1,  PRS2,     2,  7,      8,     29,2,20040122,0855, 22.7515,-157.9998, 4724,    114,    113.8,  23.9893,  35.2890,2,  35.2978,2,    207.1,2, 23.9653,    207.9,2,  -999.00,9,  -999.00,9,  -999.00,9,  -999.0,-999.000
     33KI155_1,  PRS2,     2,  7,      7,     28,2,20040122,0855, 22.7515,-157.9998, 4724,    123,    123.2,  23.6594,  35.3715,2,  35.3674,2,    206.3,2, 23.6337,    207.2,2,  -999.00,9,  -999.00,9,  -999.00,9,  -999.0,-999.000
     33KI155_1,  PRS2,     2,  7,      6,     13,2,20040122,0855, 22.7515,-157.9998, 4724,    150,    148.7,  21.4056,  35.2366,2,  35.2373,2,    198.3,2, 21.3767,    199.7,2,  -999.00,9,  -999.00,9,  -999.00,9,  -999.0,-999.000
     33KI155_1,  PRS2,     2,  7,      5,     38,2,20040122,0855, 22.7515,-157.9998, 4724,    167,    165.6,  20.0450,  35.1540,2,  35.1839,3,    200.0,3, 20.0144,    200.6,2,  -999.00,9,  -999.00,9,  -999.00,9,  -999.0,-999.000
     33KI155_1,  PRS2,     2,  7,      4,     36,3,20040122,0855, 22.7515,-157.9998, 4724,    176,    175.4,  19.3721,  35.0719,2,  35.0884,2,    198.7,2, 19.3404,    198.7,2,  -999.00,9,  -999.00,9,  -999.00,9,  -999.0,-999.000
     33KI155_1,  PRS2,     2,  7,      3,     35,2,20040122,0855, 22.7515,-157.9998, 4724,    202,    202.1,  18.1715,  34.9037,2,  34.9184,2,    198.2,2, 18.1366,    199.1,2,  -999.00,9,  -999.00,9,  -999.00,9,  -999.0,-999.000
     33KI155_1,  PRS2,     2,  7,      2,     34,2,20040122,0855, 22.7515,-157.9998, 4724,    541,    540.2,   6.2645,  34.0344,2,  34.0351,2,    100.7,2,  6.2165,     98.4,2,  -999.00,9,  -999.00,9,  -999.00,9,  -999.0,-999.000
     33KI155_1,  PRS2,     2,  7,      1,     33,2,20040122,0855, 22.7515,-157.9998, 4724,   1021,   1019.5,   3.9338,  34.4868,2,  34.4886,2,     45.0,2,  3.8571,     45.6,2,  -999.00,9,  -999.00,9,  -999.00,9,  -999.0,-999.000