BOTTLE,20120828SIOCCHMYS
EXPOCODE,STNNBR,SECT_ID,CASTNO,SAMPNO,BTLNBR,BTLNBR_FLAG_W,DATE,TIME,LATITUDE,LONGITUDE,DEPTH,CTDPRS,CTDTMP,CTDSAL,CTDSAL_FLAG_W,SALNTY,SALNTY_FLAG_W,CTDOXY,CTDOXY_FLAG_W,OXYGEN,OXYGEN_FLAG_W,CFC-11,CFC-11_FLAG_W,CFC-12,CFC-12_FLAG_W,THETA
,,,,,,,,,,,,DBAR,ITS-90,PSS-78,,PSS-78,,UMOL/KG,,UMOL/KG,,PMOL/KG,,PMOL/KG,,DEG C
06MT20050813,     432,       AR04,          1,         11,         11,2,20050828,       0000,     16.265,    -60.433,       4778,    34.7,  29.6051,  35.2964,2,-999.0000,9, 200.2000,2,   191.2,3,-999.000,9,-999.000,9,  29.5966
06MT20050813,     432,       AR04,          1,         10,         10,2,20050828,       0000,     16.265,    -60.433,       4778,   310.6,  15.9806,  36.1566,2,  36.1060,3, 156.9000,2,   150.7,3,-999.000,9,-999.000,9,  15.9309
06MT20050813,     432,       AR04,          1,          9,          9,2,20050828,       0000,     16.265,    -60.433,       4778,  1198.6,   5.1086,  35.0356,2,-999.0000,9, 222.4000,2,   223.6,2,-999.000,9,-999.000,9,   5.0050
06MT20050813,     432,       AR04,          1,          8,          8,2,20050828,       0000,     16.265,    -60.433,       4778,  1672.1,   3.8185,  34.9751,2,  34.9767,2, 260.5000,2,   260.4,2,-999.000,9,-999.000,9,   3.6846
06MT20050813,     432,       AR04,          1,          7,          7,2,20050828,       0000,     16.265,    -60.433,       4778,  2191.8,   3.4839,  34.9637,2,-999.0000,9, 260.7000,2,   261.2,2,-999.000,9,-999.000,9,   3.3056
06MT20050813,     432,       AR04,          1,          6,          6,2,20050828,       0000,     16.265,    -60.433,       4778,  2725.5,   3.0678,  34.9483,2,-999.0000,9, 260.0000,2,   261.9,2,-999.000,9,-999.000,9,   2.8439
06MT20050813,     432,       AR04,          1,          5,          5,2,20050828,       0000,     16.265,    -60.433,       4778,  3209.7,   2.6032,  34.9210,2,-999.0000,9, 262.5000,2,   257.3,3,-999.000,9,-999.000,9,   2.3393
06MT20050813,     432,       AR04,          1,          4,          4,2,20050828,       0000,     16.265,    -60.433,       4778,  3705.9,   2.4067,  34.9056,2,-999.0000,9, 264.2000,2,   284.9,4,-999.000,9,-999.000,9,   2.0941
06MT20050813,     432,       AR04,          1,          3,          3,2,20050828,       0000,     16.265,    -60.433,       4778,  4197.2,   2.2989,  34.8945,2,  34.9059,3, 263.3000,2,   263.5,2,-999.000,9,-999.000,9,   1.9335
06MT20050813,     432,       AR04,          1,          2,          2,2,20050828,       0000,     16.265,    -60.433,       4778,  4849.3,   2.2786,  34.8851,2,-999.0000,9, 260.0000,2,  -999.0,9,-999.000,9,-999.000,9,   1.8354
06MT20050813,     432,       AR04,          1,          1,          1,2,20050828,       0000,     16.265,    -60.433,       4778,  4850.6,   2.2784,  34.8852,2,  34.8866,2, 260.0000,2,   260.4,2,-999.000,9,-999.000,9,   1.8351
06MT20050813,     433,       AR04,          1,         22,         22,2,20050828,       0000,     16.275,    -60.533,       4359,     8.8,  29.7275,  35.1070,2,-999.0000,9, 198.4000,2,  -999.0,9,   1.432,2,   0.918,2,  29.7253
06MT20050813,     433,       AR04,          1,         21,         21,2,20050828,       0000,     16.275,    -60.533,       4359,   299.9,  16.0984,  36.2009,2,-999.0000,9, 164.2000,2,  -999.0,9,   2.051,2,   1.120,2,  16.0502
06MT20050813,     433,       AR04,          1,         20,         20,2,20050828,       0000,     16.275,    -60.533,       4359,   686.3,   6.9865,  34.8139,2,-999.0000,9, 125.5000,2,  -999.0,9,   0.261,2,   0.136,2,   6.9202
06MT20050813,     433,       AR04,          1,         19,         19,2,20050828,       0000,     16.275,    -60.533,       4359,  1002.8,   5.5970,  34.9145,2,-999.0000,9, 167.6000,2,  -999.0,9,   0.171,2,   0.091,2,   5.5082
06MT20050813,     433,       AR04,          1,         18,         18,2,20050828,       0000,     16.275,    -60.533,       4359,  1253.0,   4.7459,  35.0321,2,-999.0000,9, 237.3000,2,  -999.0,9,   0.969,2,   0.482,2,   4.6406
06MT20050813,     433,       AR04,          1,         17,         17,2,20050828,       0000,     16.275,    -60.533,       4359,  1452.5,   4.2395,  35.0007,2,-999.0000,9, 252.3000,2,  -999.0,9,   1.176,2,   0.579,2,   4.1209
06MT20050813,     433,       AR04,          1,         16,         16,2,20050828,       0000,     16.275,    -60.533,       4359,  1586.8,   3.9432,  34.9816,2,-999.0000,9, 259.0000,2,  -999.0,9,   1.220,2,   0.592,2,   3.8157
06MT20050813,     433,       AR04,          1,         15,         15,2,20050828,       0000,     16.275,    -60.533,       4359,  1737.8,   3.7803,  34.9733,2,-999.0000,9, 260.8000,2,  -999.0,9,   1.088,2,   0.534,2,   3.6408
06MT20050813,     433,       AR04,          1,         14,         14,2,20050828,       0000,     16.275,    -60.533,       4359,  1831.8,   3.6919,  34.9699,2,-999.0000,9, 261.2000,2,  -999.0,9,   1.039,2,   0.502,2,   3.5449
06MT20050813,     433,       AR04,          1,         13,         13,2,20050828,       0000,     16.275,    -60.533,       4359,  1980.8,   3.6185,  34.9681,2,-999.0000,9, 260.9000,2,  -999.0,9,   0.946,2,   0.455,2,   3.4584
06MT20050813,     433,       AR04,          1,         12,         12,2,20050828,       0000,     16.275,    -60.533,       4359,  2199.3,   3.4867,  34.9642,2,-999.0000,9, 260.6000,2,  -999.0,9,   0.748,2,   0.361,2,   3.3076
06MT20050813,     433,       AR04,          1,         11,         11,2,20050828,       0000,     16.275,    -60.533,       4359,  2500.5,   3.3058,  34.9599,2,-999.0000,9, 259.8000,2,  -999.0,9,   0.580,6,   0.282,6,   3.1001
06MT20050813,     433,       AR04,          1,         10,         10,2,20050828,       0000,     16.275,    -60.533,       4359,  2698.3,   3.0602,  34.9479,2,-999.0000,9, 260.0000,2,  -999.0,9,   0.480,2,   0.235,2,   2.8393
06MT20050813,     433,       AR04,          1,          9,          9,2,20050828,       0000,     16.275,    -60.533,       4359,  2987.2,   2.7732,  34.9302,2,-999.0000,9, 261.3000,2,  -999.0,9,   0.487,2,   0.241,2,   2.5287
06MT20050813,     433,       AR04,          1,          8,          8,2,20050828,       0000,     16.275,    -60.533,       4359,  3203.9,   2.7095,  34.9262,2,-999.0000,9, 262.0000,2,  -999.0,9,   0.501,2,   0.242,2,   2.4437
06MT20050813,     433,       AR04,          1,          7,          7,2,20050828,       0000,     16.275,    -60.533,       4359,  3402.5,   2.5827,  34.9186,2,-999.0000,9, 263.0000,2,  -999.0,9,   0.538,2,   0.255,2,   2.2987
06MT20050813,     433,       AR04,          1,          6,          6,2,20050828,       0000,     16.275,    -60.533,       4359,  3603.5,   2.4962,  34.9117,2,-999.0000,9, 263.9000,2,  -999.0,9,   0.566,2,   0.265,2,   2.1925
06MT20050813,     433,       AR04,          1,          5,          5,2,20050828,       0000,     16.275,    -60.533,       4359,  3898.2,   2.3825,  34.9025,2,-999.0000,9, 264.7000,2,  -999.0,9,   0.610,2,   0.294,2,   2.0490
06MT20050813,     433,       AR04,          1,          4,          4,2,20050828,       0000,     16.275,    -60.533,       4359,  4198.2,   2.3218,  34.8961,2,-999.0000,9, 263.6000,2,  -999.0,9,   0.555,2,   0.275,2,   1.9556
06MT20050813,     433,       AR04,          1,          3,          3,2,20050828,       0000,     16.275,    -60.533,       4359,  4387.5,   2.3330,  34.8949,2,-999.0000,9, 263.6000,2,  -999.0,9,   0.551,2,   0.277,2,   1.9442
06MT20050813,     433,       AR04,          1,          2,          2,2,20050828,       0000,     16.275,    -60.533,       4359,  4435.0,   2.3334,  34.8945,2,-999.0000,9, 263.2000,2,  -999.0,9,   0.542,2,   0.272,2,   1.9390
06MT20050813,     433,       AR04,          1,          1,          1,2,20050828,       0000,     16.275,    -60.533,       4359,  4434.3,   2.3333,  34.8946,2,-999.0000,9, 263.3000,2,  -999.0,9,-999.000,9,-999.000,9,   1.9389
06MT20050813,     434,       AR04,          1,          9,          9,2,20050828,       0000,     16.282,    -60.584,       3060,    12.4,  29.7444,  35.0115,2,-999.0000,9, 199.1000,2,   196.3,2,-999.000,9,-999.000,9,  29.7413
06MT20050813,     434,       AR04,          1,          8,          8,2,20050828,       0000,     16.282,    -60.584,       3060,    53.6,  28.1279,  36.1435,2,  36.1933,3, 199.7000,2,   194.4,3,-999.000,9,-999.000,9,  28.1152
06MT20050813,     434,       AR04,          1,          7,          7,2,20050828,       0000,     16.282,    -60.584,       3060,   616.5,   8.4740,  35.0160,2,-999.0000,9, 123.5000,2,   115.6,3,-999.000,9,-999.000,9,   8.4077
06MT20050813,     434,       AR04,          1,          6,          6,2,20050828,       0000,     16.282,    -60.584,       3060,  1407.2,   4.2426,  35.0000,2,  35.0021,2, 251.9000,2,   250.6,2,-999.000,9,-999.000,9,   4.1281
06MT20050813,     434,       AR04,          1,          5,          5,2,20050828,       0000,     16.282,    -60.584,       3060,  1701.2,   3.8261,  34.9753,2,-999.0000,9, 260.3000,2,   260.1,2,-999.000,9,-999.000,9,   3.6895
06MT20050813,     434,       AR04,          1,          4,          4,2,20050828,       0000,     16.282,    -60.584,       3060,  2002.3,   3.6555,  34.9693,2,-999.0000,9, 260.6000,2,   261.4,2,-999.000,9,-999.000,9,   3.4928
06MT20050813,     434,       AR04,          1,          3,          3,2,20050828,       0000,     16.282,    -60.584,       3060,  2501.0,   3.1645,  34.9535,2,  34.9559,2, 259.8000,2,   261.6,2,-999.000,9,-999.000,9,   2.9614
06MT20050813,     434,       AR04,          1,          2,          2,2,20050828,       0000,     16.282,    -60.584,       3060,  2999.9,   2.8403,  34.9344,2,-999.0000,9, 260.7000,2,   262.6,2,-999.000,9,-999.000,9,   2.5930
06MT20050813,     434,       AR04,          1,          1,          1,2,20050828,       0000,     16.282,    -60.584,       3060,  3108.9,   2.8369,  34.9340,2,  34.9342,2, 260.8000,2,   263.4,2,-999.000,9,-999.000,9,   2.5782
06MT20050813,     435,       AR04,          1,         22,         22,2,20050828,       0000,     16.291,    -60.633,       2540,    26.1,  29.6329,  35.3924,2,-999.0000,9, 201.4000,2,   204.2,2,   1.432,2,   0.901,2,  29.6265
06MT20050813,     435,       AR04,          1,         21,         21,2,20050828,       0000,     16.291,    -60.633,       2540,   211.3,  18.7287,  36.5194,2,-999.0000,9, 149.3000,2,  -999.0,9,   2.108,2,   1.205,2,  18.6910
06MT20050813,     435,       AR04,          1,         20,         20,2,20050828,       0000,     16.291,    -60.633,       2540,   399.2,  13.2342,  35.6928,2,-999.0000,9, 134.4000,2,  -999.0,9,   1.672,2,   0.864,2,  13.1779
06MT20050813,     435,       AR04,          1,         19,         19,2,20050828,       0000,     16.291,    -60.633,       2540,   604.6,   8.4913,  35.0181,2,-999.0000,9, 122.6000,2,  -999.0,9,   0.553,2,   0.286,2,   8.4263
06MT20050813,     435,       AR04,          1,         18,         18,2,20050828,       0000,     16.291,    -60.633,       2540,   896.1,   5.8639,  34.8123,2,-999.0000,9, 140.2000,2,  -999.0,9,   0.100,2,   0.051,2,   5.7836
06MT20050813,     435,       AR04,          1,         17,         17,2,20050828,       0000,     16.291,    -60.633,       2540,  1212.3,   4.9422,  35.0363,2,-999.0000,9, 230.4000,2,  -999.0,9,   0.877,2,   0.427,2,   4.8388
06MT20050813,     435,       AR04,          1,         16,         16,2,20050828,       0000,     16.291,    -60.633,       2540,  1309.3,   4.5974,  35.0252,2,-999.0000,9, 243.1000,2,  -999.0,9,-999.000,9,-999.000,9,   4.4883
06MT20050813,     435,       AR04,          1,         15,         15,2,20050828,       0000,     16.291,    -60.633,       2540,  1413.0,   4.2439,  35.0025,2,-999.0000,9, 252.5000,2,  -999.0,9,   1.175,2,   0.568,2,   4.1289
06MT20050813,     435,       AR04,          1,         14,         14,2,20050828,       0000,     16.291,    -60.633,       2540,  1500.7,   4.0731,  34.9892,2,  34.9897,2, 256.3000,2,  -999.0,9,-999.000,9,-999.000,9,   3.9519
06MT20050813,     435,       AR04,          1,         13,         13,2,20050828,       0000,     16.291,    -60.633,       2540,  1550.2,   4.0295,  34.9872,2,-999.0000,9, 257.3000,2,  -999.0,9,   1.189,2,   0.572,2,   3.9043
06MT20050813,     435,       AR04,          1,         12,         12,2,20050828,       0000,     16.291,    -60.633,       2540,  1611.7,   3.9609,  34.9839,2,-999.0000,9, 258.4000,2,   263.1,2,-999.000,9,-999.000,9,   3.8308
06MT20050813,     435,       AR04,          1,         11,         11,2,20050828,       0000,     16.291,    -60.633,       2540,  1698.0,   3.8553,  34.9767,2,-999.0000,9, 259.9000,2,  -999.0,9,   1.129,2,   0.553,2,   3.7186
06MT20050813,     435,       AR04,          1,         10,         10,2,20050828,       0000,     16.291,    -60.633,       2540,  1798.1,   3.7789,  34.9727,2,-999.0000,9, 260.4000,2,  -999.0,9,   1.076,2,   0.528,2,   3.6338
06MT20050813,     435,       AR04,          1,          9,          9,2,20050828,       0000,     16.291,    -60.633,       2540,  1899.5,   3.7080,  34.9702,2,-999.0000,9, 260.6000,2,  -999.0,9,   1.031,2,   0.503,2,   3.5544
06MT20050813,     435,       AR04,          1,          8,          8,2,20050828,       0000,     16.291,    -60.633,       2540,  1948.3,   3.6815,  34.9688,2,-999.0000,9, 260.8000,2,  -999.0,9,-999.000,9,-999.000,9,   3.5236
06MT20050813,     435,       AR04,          1,          7,          7,2,20050828,       0000,     16.291,    -60.633,       2540,  1997.8,   3.6639,  34.9679,2,-999.0000,9, 260.8000,2,  -999.0,9,-999.000,9,-999.000,9,   3.5015
06MT20050813,     435,       AR04,          1,          6,          6,2,20050828,       0000,     16.291,    -60.633,       2540,  2098.8,   3.6110,  34.9670,2,-999.0000,9, 260.8000,2,   266.5,3,   0.911,2,   0.448,2,   3.4397
06MT20050813,     435,       AR04,          1,          5,          5,2,20050828,       0000,     16.291,    -60.633,       2540,  2200.3,   3.5349,  34.9658,2,-999.0000,9, 260.3000,2,  -999.0,9,-999.000,9,-999.000,9,   3.3550
06MT20050813,     435,       AR04,          1,          4,          4,2,20050828,       0000,     16.291,    -60.633,       2540,  2300.1,   3.3094,  34.9599,2,-999.0000,9, 260.2000,2,  -999.0,9,   0.565,6,   0.278,6,   3.1235
06MT20050813,     435,       AR04,          1,          3,          3,2,20050828,       0000,     16.291,    -60.633,       2540,  2398.4,   3.1935,  34.9546,2,-999.0000,9, 259.9000,2,  -999.0,9,-999.000,9,-999.000,9,   3.0000
06MT20050813,     435,       AR04,          1,          2,          2,2,20050828,       0000,     16.291,    -60.633,       2540,  2510.5,   3.1424,  34.9528,2,-999.0000,9, 259.7000,2,  -999.0,9,   0.512,2,   0.257,2,   2.9387
06MT20050813,     435,       AR04,          1,          1,          1,2,20050828,       0000,     16.291,    -60.633,       2540,  2511.0,   3.1466,  34.9520,2,  34.9523,2, 259.7000,2,   263.7,2,-999.000,9,-999.000,9,   2.9428
06MT20050813,     436,       AR04,          1,         15,         15,2,20050829,       0000,     16.292,    -60.683,       1742,    15.3,  29.6543,  35.0088,2,-999.0000,9, 198.9000,2,   202.3,2,-999.000,9,-999.000,9,  29.6505
06MT20050813,     436,       AR04,          1,         14,         14,2,20050829,       0000,     16.292,    -60.683,       1742,    15.3,  29.6533,  35.0094,2,-999.0000,9, 198.9000,2,  -999.0,9,   1.390,4,   0.807,4,  29.6495
06MT20050813,     436,       AR04,          1,         13,         13,2,20050829,       0000,     16.292,    -60.683,       1742,   238.7,  17.1359,  36.2814,2,  36.3346,3, 153.1000,2,   163.4,3,   2.204,2,   1.184,2,  17.0959
06MT20050813,     436,       AR04,          1,         12,         12,2,20050829,       0000,     16.292,    -60.683,       1742,   499.6,  10.7452,  35.3168,2,-999.0000,9, 127.0000,2,  -999.0,9,   1.133,2,   0.574,2,  10.6834
06MT20050813,     436,       AR04,          1,         11,         11,2,20050829,       0000,     16.292,    -60.683,       1742,   800.9,   5.9827,  34.7303,2,-999.0000,9, 130.6000,2,  -999.0,9,   0.100,2,   0.051,2,   5.9108
06MT20050813,     436,       AR04,          1,         10,         10,2,20050829,       0000,     16.292,    -60.683,       1742,  1001.4,   5.4853,  34.9857,2,-999.0000,9, 188.0000,2,  -999.0,9,   1.482,3,   0.918,4,   5.3974
06MT20050813,     436,       AR04,          1,          9,          9,2,20050829,       0000,     16.292,    -60.683,       1742,  1154.5,   5.0345,  35.0307,2,-999.0000,9, 222.7000,2,  -999.0,9,   0.757,3,   0.312,4,   4.9357
06MT20050813,     436,       AR04,          1,          8,          8,2,20050829,       0000,     16.292,    -60.683,       1742,  1253.9,   4.7563,  35.0271,2,-999.0000,9, 237.1000,2,  -999.0,9,   0.664,4,   0.205,4,   4.6508
06MT20050813,     436,       AR04,          1,          7,          7,2,20050829,       0000,     16.292,    -60.683,       1742,  1254.8,   4.7536,  35.0266,2,-999.0000,9, 237.1000,2,  -999.0,9,-999.000,9,-999.000,9,   4.6480
06MT20050813,     436,       AR04,          1,          6,          6,2,20050829,       0000,     16.292,    -60.683,       1742,  1350.6,   4.4004,  35.0123,2,-999.0000,9, 249.0000,2,   249.6,2,   1.144,2,   0.560,2,   4.2895
06MT20050813,     436,       AR04,          1,          5,          5,2,20050829,       0000,     16.292,    -60.683,       1742,  1350.2,   4.4004,  35.0127,2,-999.0000,9, 249.0000,2,  -999.0,9,-999.000,9,-999.000,9,   4.2895
06MT20050813,     436,       AR04,          1,          4,          4,2,20050829,       0000,     16.292,    -60.683,       1742,  1451.6,   4.2125,  34.9986,2,-999.0000,9, 253.5000,2,  -999.0,9,-999.000,9,-999.000,9,   4.0943
06MT20050813,     436,       AR04,          1,          3,          3,2,20050829,       0000,     16.292,    -60.683,       1742,  1451.9,   4.2113,  34.9981,2,-999.0000,9, 253.5000,2,  -999.0,9,   1.202,2,   0.581,2,   4.0931
06MT20050813,     436,       AR04,          1,          2,          2,2,20050829,       0000,     16.292,    -60.683,       1742,  1535.0,   4.0586,  34.9883,2,-999.0000,9, 256.5000,2,  -999.0,9,   1.180,2,   0.568,2,   3.9345
06MT20050813,     436,       AR04,          1,          1,          1,2,20050829,       0000,     16.292,    -60.683,       1742,  1533.2,   4.0643,  34.9902,2,  34.9879,2, 256.5000,2,   256.7,2,-999.000,9,-999.000,9,   3.9403