BOTTLE,20120828SIOCCHMYS
EXPOCODE,STNNBR,SECT_ID,CASTNO,SAMPNO,BTLNBR,BTLNBR_FLAG_W,DATE,TIME,LATITUDE,LONGITUDE,DEPTH,CTDPRS,CTDTMP,CTDSAL,CTDSAL_FLAG_W,SALNTY,SALNTY_FLAG_W,CTDOXY,CTDOXY_FLAG_W,OXYGEN,OXYGEN_FLAG_W,CFC-11,CFC-11_FLAG_W,CFC-12,CFC-12_FLAG_W,THETA
,,,,,,,,,,,,DBAR,ITS-90,PSS-78,,PSS-78,,UMOL/KG,,UMOL/KG,,PMOL/KG,,PMOL/KG,,DEG C
06MT20050813,     416,       AR04,          1,         22,         22,2,20050825,       0000,     15.774,    -55.951,       5591,     3.6,  29.4497,  35.0956,2,  35.2075,3, 198.7000,2,   199.0,6,   1.485,2,   0.936,2,  29.4488
06MT20050813,     416,       AR04,          1,         21,         21,2,20050825,       0000,     15.774,    -55.951,       5591,     3.6,  29.4497,  35.0956,2,-999.0000,9, 198.7000,2,  -999.0,9,-999.000,9,-999.000,9,  29.4488
06MT20050813,     416,       AR04,          1,         20,         20,2,20050825,       0000,     15.774,    -55.951,       5591,   509.4,   8.9159,  34.9165,2,  34.9057,3, 121.2000,2,   120.7,2,   0.943,2,   0.489,2,   8.8599
06MT20050813,     416,       AR04,          1,         19,         19,2,20050825,       0000,     15.774,    -55.951,       5591,   971.2,   5.8726,  34.7972,2,-999.0000,9, 138.2000,2,  -999.0,9,   0.076,2,   0.042,2,   5.7850
06MT20050813,     416,       AR04,          1,         18,         18,2,20050825,       0000,     15.774,    -55.951,       5591,  1382.9,   5.0131,  35.0188,2,  35.0000,3, 216.5000,2,  -999.0,9,   0.535,2,   0.269,2,   4.8928
06MT20050813,     416,       AR04,          1,         17,         17,2,20050825,       0000,     15.774,    -55.951,       5591,  1620.0,   4.2951,  35.0047,2,-999.0000,9, 249.7000,2,  -999.0,9,   1.014,2,   0.505,2,   4.1602
06MT20050813,     416,       AR04,          1,         16,         16,2,20050825,       0000,     15.774,    -55.951,       5591,  1668.4,   4.1383,  34.9945,2,-999.0000,9, 254.6000,2,   246.4,3,   1.054,2,   0.519,2,   4.0007
06MT20050813,     416,       AR04,          1,         15,         15,2,20050825,       0000,     15.774,    -55.951,       5591,  1827.4,   3.8808,  34.9809,2,-999.0000,9, 257.5000,2,  -999.0,9,-999.000,9,-999.000,9,   3.7316
06MT20050813,     416,       AR04,          1,         14,         14,2,20050825,       0000,     15.774,    -55.951,       5591,  2046.6,   3.6495,  34.9720,2,-999.0000,9, 260.3000,2,  -999.0,9,   0.764,2,   0.376,2,   3.4827
06MT20050813,     416,       AR04,          1,         13,         13,2,20050825,       0000,     15.774,    -55.951,       5591,  2300.7,   3.3585,  34.9681,2,  34.9559,3, 257.6000,2,   255.5,2,-999.000,9,-999.000,9,   3.1717
06MT20050813,     416,       AR04,          1,         12,         12,2,20050825,       0000,     15.774,    -55.951,       5591,  2403.5,   3.2281,  34.9596,2,-999.0000,9, 258.9000,2,  -999.0,9,   0.333,2,   0.165,2,   3.0334
06MT20050813,     416,       AR04,          1,         11,         11,2,20050825,       0000,     15.774,    -55.951,       5591,  2696.9,   2.9739,  34.9457,2,-999.0000,9, 257.3000,2,  -999.0,9,   0.173,2,   0.087,2,   2.7548
06MT20050813,     416,       AR04,          1,         10,         10,2,20050825,       0000,     15.774,    -55.951,       5591,  3097.9,   2.7033,  34.9267,2,-999.0000,9, 257.5000,2,  -999.0,9,-999.000,9,-999.000,9,   2.4488
06MT20050813,     416,       AR04,          1,          9,          9,2,20050825,       0000,     15.774,    -55.951,       5591,  3099.3,   2.7023,  34.9266,2,-999.0000,9, 257.5000,2,  -999.0,9,   0.236,2,   0.119,2,   2.4477
06MT20050813,     416,       AR04,          1,          8,          8,2,20050825,       0000,     15.774,    -55.951,       5591,  3499.0,   2.5442,  34.9131,2,  34.9035,3, 256.7000,2,  -999.0,9,   0.168,2,   0.088,2,   2.2507
06MT20050813,     416,       AR04,          1,          7,          7,2,20050825,       0000,     15.774,    -55.951,       5591,  3893.4,   2.3932,  34.9015,2,-999.0000,9, 260.4000,2,   260.7,2,   0.210,2,   0.105,2,   2.0600
06MT20050813,     416,       AR04,          1,          6,          6,2,20050825,       0000,     15.774,    -55.951,       5591,  4297.2,   2.2905,  34.8925,2,-999.0000,9, 262.3000,2,  -999.0,9,   0.253,2,   0.128,2,   1.9137
06MT20050813,     416,       AR04,          1,          5,          5,2,20050825,       0000,     15.774,    -55.951,       5591,  4598.4,   2.2133,  34.8779,2,-999.0000,9, 257.7000,2,  -999.0,9,-999.000,9,-999.000,9,   1.8030
06MT20050813,     416,       AR04,          1,          4,          4,2,20050825,       0000,     15.774,    -55.951,       5591,  4898.9,   2.0784,  34.8588,2,-999.0000,9, 252.7000,2,  -999.0,9,   0.099,2,   0.055,2,   1.6359
06MT20050813,     416,       AR04,          1,          3,          3,2,20050825,       0000,     15.774,    -55.951,       5591,  5297.3,   1.9206,  34.8345,2,-999.0000,9, 246.6000,2,   243.4,2,-999.000,9,-999.000,9,   1.4336
06MT20050813,     416,       AR04,          1,          2,          2,2,20050825,       0000,     15.774,    -55.951,       5591,  5569.7,   1.8916,  34.8266,2,-999.0000,9, 243.6000,2,  -999.0,9,   0.096,2,   0.049,2,   1.3705
06MT20050813,     416,       AR04,          1,          1,          1,2,20050825,       0000,     15.774,    -55.951,       5591,  5569.2,   1.8916,  34.8264,2,  34.8276,2, 243.6000,2,   241.4,2,-999.000,9,-999.000,9,   1.3705
06MT20050813,     418,       AR04,          1,         21,         21,2,20050825,       0000,     15.816,    -56.308,       5333,     7.7,  29.6363,  34.5833,2,-999.0000,9, 198.8000,2,  -999.0,9,   1.397,2,   0.891,2,  29.6344
06MT20050813,     418,       AR04,          1,         22,         22,2,20050825,       0000,     15.816,    -56.308,       5333,     7.9,  29.6322,  34.5810,2,-999.0000,9, 198.8000,2,   201.7,2,-999.000,9,-999.000,9,  29.6303
06MT20050813,     418,       AR04,          1,         20,         20,2,20050825,       0000,     15.816,    -56.308,       5333,   802.2,   6.2886,  34.6596,2,  34.6639,2, 126.0000,2,   126.9,2,   0.230,2,   0.131,2,   6.2149
06MT20050813,     418,       AR04,          1,         19,         19,2,20050825,       0000,     15.816,    -56.308,       5333,  1334.5,   5.1994,  34.9546,2,-999.0000,9, 190.5000,2,  -999.0,9,   0.410,2,   0.215,2,   5.0821
06MT20050813,     418,       AR04,          1,         18,         18,2,20050825,       0000,     15.816,    -56.308,       5333,  1548.0,   4.5874,  35.0176,2,-999.0000,9, 239.4000,2,  -999.0,9,   0.999,2,   0.501,2,   4.4559
06MT20050813,     418,       AR04,          1,         17,         17,2,20050825,       0000,     15.816,    -56.308,       5333,  1629.6,   4.2837,  35.0013,2,  35.0039,2, 249.8000,2,   249.0,2,-999.000,9,-999.000,9,   4.1480
06MT20050813,     418,       AR04,          1,         16,         16,2,20050825,       0000,     15.816,    -56.308,       5333,  1750.7,   4.0779,  34.9895,2,-999.0000,9, 255.7000,2,  -999.0,9,   1.139,2,   0.550,2,   3.9333
06MT20050813,     418,       AR04,          1,         15,         15,2,20050825,       0000,     15.816,    -56.308,       5333,  1947.8,   3.7304,  34.9740,2,-999.0000,9, 260.8000,2,  -999.0,9,   0.860,2,   0.429,2,   3.5718
06MT20050813,     418,       AR04,          1,         14,         14,2,20050825,       0000,     15.816,    -56.308,       5333,  2211.9,   3.4685,  34.9689,2,-999.0000,9, 259.4000,2,   260.2,6,   0.460,2,   0.225,2,   3.2885
06MT20050813,     418,       AR04,          1,         13,         13,2,20050825,       0000,     15.816,    -56.308,       5333,  2407.4,   3.2454,  34.9610,2,  34.9618,2, 258.7000,2,  -999.0,9,-999.000,9,-999.000,9,   3.0500
06MT20050813,     418,       AR04,          1,         12,         12,2,20050825,       0000,     15.816,    -56.308,       5333,  2599.7,   3.0657,  34.9506,2,-999.0000,9, 258.5000,2,  -999.0,9,   0.280,2,   0.146,2,   2.8546
06MT20050813,     418,       AR04,          1,         11,         11,2,20050825,       0000,     15.816,    -56.308,       5333,  3011.8,   2.7597,  34.9309,2,-999.0000,9, 257.5000,2,   262.3,3,   0.165,2,   0.090,2,   2.5129
06MT20050813,     418,       AR04,          1,         10,         10,2,20050825,       0000,     15.816,    -56.308,       5333,  3015.1,   2.7554,  34.9310,2,-999.0000,9, 257.6000,2,  -999.0,9,   0.176,2,   0.093,2,   2.5083
06MT20050813,     418,       AR04,          1,          9,          9,2,20050825,       0000,     15.816,    -56.308,       5333,  3298.0,   2.6107,  34.9188,2,-999.0000,9, 255.9000,2,  -999.0,9,-999.000,9,-999.000,9,   2.3372
06MT20050813,     418,       AR04,          1,          8,          8,2,20050825,       0000,     15.816,    -56.308,       5333,  3698.5,   2.4311,  34.9047,2,-999.0000,9, 257.6000,2,  -999.0,9,   0.166,2,   0.092,2,   2.1186
06MT20050813,     418,       AR04,          1,          7,          7,2,20050825,       0000,     15.816,    -56.308,       5333,  3998.9,   2.3467,  34.8984,2,-999.0000,9, 262.0000,2,   243.9,4,   0.339,2,   0.178,2,   2.0028
06MT20050813,     418,       AR04,          1,          6,          6,2,20050825,       0000,     15.816,    -56.308,       5333,  4197.6,   2.3085,  34.8951,2,-999.0000,9, 262.9000,2,  -999.0,9,   0.284,2,   0.151,2,   1.9428
06MT20050813,     418,       AR04,          1,          5,          5,2,20050825,       0000,     15.816,    -56.308,       5333,  4398.9,   2.2651,  34.8884,2,  34.8886,2, 261.6000,2,   259.9,2,-999.000,9,-999.000,9,   1.8771
06MT20050813,     418,       AR04,          1,          4,          4,2,20050825,       0000,     15.816,    -56.308,       5333,  4598.6,   2.2122,  34.8798,2,-999.0000,9, 258.4000,2,  -999.0,9,   0.165,2,   0.090,2,   1.8019
06MT20050813,     418,       AR04,          1,          3,          3,2,20050825,       0000,     15.816,    -56.308,       5333,  4999.7,   2.0394,  34.8533,2,-999.0000,9, 251.4000,2,   250.3,2,   0.093,2,   0.054,2,   1.5857
06MT20050813,     418,       AR04,          1,          1,          1,2,20050825,       0000,     15.816,    -56.308,       5333,  5434.2,   1.8979,  34.8291,2,  34.8312,2, 244.7000,2,   243.9,2,-999.000,9,-999.000,9,   1.3941
06MT20050813,     418,       AR04,          1,          2,          2,2,20050825,       0000,     15.816,    -56.308,       5333,  5434.1,   1.8979,  34.8295,2,-999.0000,9, 244.7000,2,  -999.0,9,   0.075,2,   0.044,2,   1.3941
06MT20050813,     419,       AR04,          1,         21,         21,2,20050826,       0000,     15.858,    -56.651,       5287,    12.4,  29.6237,  34.1900,2,-999.0000,9, 198.9000,2,  -999.0,9,-999.000,9,-999.000,9,  29.6207
06MT20050813,     419,       AR04,          1,         22,         22,2,20050826,       0000,     15.858,    -56.651,       5287,    12.5,  29.6123,  34.1996,2,-999.0000,9, 198.9000,2,   199.6,2,-999.000,9,-999.000,9,  29.6092
06MT20050813,     419,       AR04,          1,         20,         20,2,20050826,       0000,     15.858,    -56.651,       5287,    97.7,  25.1967,  37.0647,2,  37.1101,3, 185.7000,2,   192.2,2,   1.720,2,   1.117,2,  25.1752
06MT20050813,     419,       AR04,          1,         19,         19,2,20050826,       0000,     15.858,    -56.651,       5287,   580.2,   8.2105,  34.8065,2,-999.0000,9, 119.7000,2,   120.0,2,   0.810,2,   0.410,2,   8.1496
06MT20050813,     419,       AR04,          1,         18,         18,2,20050826,       0000,     15.858,    -56.651,       5287,  1290.0,   5.2673,  34.9223,2,  34.9179,3, 179.7000,2,  -999.0,9,   0.205,2,   0.103,2,   5.1537
06MT20050813,     419,       AR04,          1,         17,         17,2,20050826,       0000,     15.858,    -56.651,       5287,  1503.8,   4.8159,  35.0268,2,-999.0000,9, 230.7000,2,   232.1,2,   0.885,2,   0.418,2,   4.6860
06MT20050813,     419,       AR04,          1,         16,         16,2,20050826,       0000,     15.858,    -56.651,       5287,  1697.3,   4.2204,  35.0009,2,-999.0000,9, 251.4000,2,  -999.0,9,   0.902,2,   0.444,2,   4.0790
06MT20050813,     419,       AR04,          1,         15,         15,2,20050826,       0000,     15.858,    -56.651,       5287,  1842.8,   3.9117,  34.9847,2,-999.0000,9, 257.0000,2,  -999.0,9,   0.794,2,   0.390,2,   3.7606
06MT20050813,     419,       AR04,          1,         14,         14,2,20050826,       0000,     15.858,    -56.651,       5287,  1992.9,   3.6771,  34.9765,2,-999.0000,9, 258.9000,2,   253.0,3,   0.688,2,   0.336,2,   3.5150
06MT20050813,     419,       AR04,          1,         13,         13,2,20050826,       0000,     15.858,    -56.651,       5287,  2305.8,   3.3375,  34.9661,2,-999.0000,9, 258.7000,2,  -999.0,9,   0.423,2,   0.214,2,   3.1505
06MT20050813,     419,       AR04,          1,         12,         12,2,20050826,       0000,     15.858,    -56.651,       5287,  2591.4,   3.0646,  34.9500,2,  34.9458,2, 259.4000,2,   262.4,2,-999.000,9,-999.000,9,   2.8543
06MT20050813,     419,       AR04,          1,         11,         11,2,20050826,       0000,     15.858,    -56.651,       5287,  2784.0,   2.8630,  34.9383,2,-999.0000,9, 258.2000,2,  -999.0,9,   0.233,2,   0.118,2,   2.6373
06MT20050813,     419,       AR04,          1,         10,         10,2,20050826,       0000,     15.858,    -56.651,       5287,  3193.9,   2.6404,  34.9213,2,-999.0000,9, 256.7000,2,  -999.0,9,-999.000,9,-999.000,9,   2.3773
06MT20050813,     419,       AR04,          1,          9,          9,2,20050826,       0000,     15.858,    -56.651,       5287,  3199.1,   2.6381,  34.9216,2,-999.0000,9, 256.6000,2,  -999.0,9,   0.187,2,   0.094,2,   2.3745
06MT20050813,     419,       AR04,          1,          8,          8,2,20050826,       0000,     15.858,    -56.651,       5287,  3596.0,   2.4519,  34.9056,2,  34.9061,2, 258.1000,2,   256.1,2,   0.152,2,   0.080,2,   2.1502
06MT20050813,     419,       AR04,          1,          7,          7,2,20050826,       0000,     15.858,    -56.651,       5287,  3898.0,   2.3485,  34.8993,2,-999.0000,9, 260.3000,2,  -999.0,9,   0.286,2,   0.152,2,   2.0160
06MT20050813,     419,       AR04,          1,          6,          6,2,20050826,       0000,     15.858,    -56.651,       5287,  4098.0,   2.2973,  34.8941,2,-999.0000,9, 261.7000,2,  -999.0,9,   0.236,2,   0.125,2,   1.9434
06MT20050813,     419,       AR04,          1,          5,          5,2,20050826,       0000,     15.858,    -56.651,       5287,  4297.9,   2.2713,  34.8897,2,-999.0000,9, 260.7000,2,   262.2,2,-999.000,9,-999.000,9,   1.8950
06MT20050813,     419,       AR04,          1,          4,          4,2,20050826,       0000,     15.858,    -56.651,       5287,  4496.3,   2.2110,  34.8804,2,  34.8778,2, 258.1000,2,  -999.0,9,   0.164,2,   0.091,2,   1.8131
06MT20050813,     419,       AR04,          1,          3,          3,2,20050826,       0000,     15.858,    -56.651,       5287,  4898.0,   2.0728,  34.8590,2,-999.0000,9, 252.3000,2,   250.6,2,   0.108,2,   0.064,2,   1.6306
06MT20050813,     419,       AR04,          1,          1,          1,2,20050826,       0000,     15.858,    -56.651,       5287,  5386.6,   1.8778,  34.8280,2,  34.8278,2, 244.3000,2,   244.7,2,-999.000,9,-999.000,9,   1.3809
06MT20050813,     419,       AR04,          1,          2,          2,2,20050826,       0000,     15.858,    -56.651,       5287,  5387.4,   1.8778,  34.8283,2,-999.0000,9, 244.3000,2,  -999.0,9,-999.000,9,-999.000,9,   1.3808