BOTTLE,20120828SIOCCHMYS
EXPOCODE,STNNBR,SECT_ID,CASTNO,SAMPNO,BTLNBR,BTLNBR_FLAG_W,DATE,TIME,LATITUDE,LONGITUDE,DEPTH,CTDPRS,CTDTMP,CTDSAL,CTDSAL_FLAG_W,SALNTY,SALNTY_FLAG_W,CTDOXY,CTDOXY_FLAG_W,OXYGEN,OXYGEN_FLAG_W,CFC-11,CFC-11_FLAG_W,CFC-12,CFC-12_FLAG_W,THETA
,,,,,,,,,,,,DBAR,ITS-90,PSS-78,,PSS-78,,UMOL/KG,,UMOL/KG,,PMOL/KG,,PMOL/KG,,DEG C
06MT20050813,     405,       AR04,          1,         20,         20,2,20050823,       0000,     15.366,    -52.418,       5150,    13.3,  29.0339,  36.2571,2,-999.0000,9, 195.7000,2,   197.3,2,   1.480,2,   0.944,2,  29.0307
06MT20050813,     405,       AR04,          1,         19,         19,2,20050823,       0000,     15.366,    -52.418,       5150,   303.1,  15.5869,  36.1075,2,-999.0000,9, 140.1000,2,  -999.0,9,   1.940,2,   1.106,2,  15.5392
06MT20050813,     405,       AR04,          1,         18,         18,2,20050823,       0000,     15.366,    -52.418,       5150,   618.8,   8.3330,  35.0090,2,-999.0000,9, 112.9000,2,   116.5,2,   0.092,4,   0.044,4,   8.2671
06MT20050813,     405,       AR04,          1,         17,         17,2,20050823,       0000,     15.366,    -52.418,       5150,  1011.6,   5.3771,  34.8085,2,  34.8160,3, 148.4000,2,  -999.0,9,   0.057,2,   0.028,2,   5.2893
06MT20050813,     405,       AR04,          1,         16,         16,2,20050823,       0000,     15.366,    -52.418,       5150,  1302.2,   5.0165,  34.9774,2,-999.0000,9, 198.1000,2,   199.3,2,   0.178,2,   0.093,2,   4.9040
06MT20050813,     405,       AR04,          1,         15,         15,2,20050823,       0000,     15.366,    -52.418,       5150,  1523.7,   4.5833,  35.0031,2,  35.0057,2, 226.0000,2,  -999.0,9,   0.317,2,   0.167,2,   4.4542
06MT20050813,     405,       AR04,          1,         14,         14,2,20050823,       0000,     15.366,    -52.418,       5150,  1743.3,   4.0579,  34.9939,2,-999.0000,9, 252.8000,2,  -999.0,9,   0.612,2,   0.305,2,   3.9143
06MT20050813,     405,       AR04,          1,         13,         13,2,20050823,       0000,     15.366,    -52.418,       5150,  1925.6,   3.7291,  34.9830,2,-999.0000,9, 253.4000,2,   250.9,2,   0.294,2,   0.152,2,   3.5726
06MT20050813,     405,       AR04,          1,         12,         12,2,20050823,       0000,     15.366,    -52.418,       5150,  2151.7,   3.4331,  34.9716,2,-999.0000,9, 255.2000,2,  -999.0,9,   0.178,2,   0.092,2,   3.2595
06MT20050813,     405,       AR04,          1,         11,         11,2,20050823,       0000,     15.366,    -52.418,       5150,  2450.5,   3.0834,  34.9520,2,  34.9456,3, 253.5000,2,   251.7,6,   0.060,2,   0.029,2,   2.8867
06MT20050813,     405,       AR04,          1,         10,         10,2,20050823,       0000,     15.366,    -52.418,       5150,  2451.3,   3.0828,  34.9516,2,-999.0000,9, 253.4000,2,  -999.0,9,-999.000,9,-999.000,9,   2.8861
06MT20050813,     405,       AR04,          1,          9,          9,2,20050823,       0000,     15.366,    -52.418,       5150,  2935.8,   2.7726,  34.9294,2,-999.0000,9, 250.6000,2,   243.5,3,   0.043,2,   0.018,2,   2.5334
06MT20050813,     405,       AR04,          1,          8,          8,2,20050823,       0000,     15.366,    -52.418,       5150,  3255.5,   2.6304,  34.9186,2,  34.9220,2, 251.5000,2,  -999.0,9,   0.060,2,   0.028,2,   2.3610
06MT20050813,     405,       AR04,          1,          7,          7,2,20050823,       0000,     15.366,    -52.418,       5150,  3759.9,   2.4128,  34.9016,2,-999.0000,9, 256.8000,2,   258.3,2,   0.219,2,   0.108,2,   2.0940
06MT20050813,     405,       AR04,          1,          6,          6,2,20050823,       0000,     15.366,    -52.418,       5150,  4073.3,   2.3210,  34.8956,2,-999.0000,9, 260.9000,2,  -999.0,9,   0.217,2,   0.110,2,   1.9693
06MT20050813,     405,       AR04,          1,          5,          5,2,20050823,       0000,     15.366,    -52.418,       5150,  4264.6,   2.2780,  34.8891,2,  34.8917,2, 259.9000,2,  -999.0,9,   0.190,2,   0.096,2,   1.9054
06MT20050813,     405,       AR04,          1,          4,          4,2,20050823,       0000,     15.366,    -52.418,       5150,  4683.2,   2.0434,  34.8580,2,-999.0000,9, 252.7000,2,   254.7,2,   0.116,2,   0.063,2,   1.6284
06MT20050813,     405,       AR04,          1,          3,          3,2,20050823,       0000,     15.366,    -52.418,       5150,  4984.8,   1.8971,  34.8362,2,-999.0000,9, 247.0000,2,  -999.0,9,   0.099,2,   0.052,2,   1.4501
06MT20050813,     405,       AR04,          1,          2,          2,2,20050823,       0000,     15.366,    -52.418,       5150,  5253.5,   1.9132,  34.8339,2,-999.0000,9, 246.5000,2,  -999.0,9,   0.096,2,   0.048,2,   1.4320
06MT20050813,     405,       AR04,          1,          1,          1,2,20050823,       0000,     15.366,    -52.418,       5150,  5254.3,   1.9116,  34.8335,2,  34.8355,2, 246.5000,2,   244.5,2,-999.000,9,-999.000,9,   1.4303
06MT20050813,     406,       AR04,          1,         22,         22,2,20050823,       0000,       15.4,    -52.767,       5150,     7.9,  29.0839,  36.3081,2,-999.0000,9, 196.4000,2,   198.8,6,   1.448,2,   0.940,2,  29.0820
06MT20050813,     406,       AR04,          1,         21,         21,2,20050823,       0000,       15.4,    -52.767,       5150,     7.9,  29.0851,  36.3068,2,-999.0000,9, 196.4000,2,  -999.0,9,-999.000,9,-999.000,9,  29.0832
06MT20050813,     406,       AR04,          1,         20,         20,2,20050823,       0000,       15.4,    -52.767,       5150,   481.1,   9.8309,  35.1675,2,-999.0000,9, 107.7000,2,   108.6,2,   0.762,2,   0.402,2,   9.7747
06MT20050813,     406,       AR04,          1,         19,         19,2,20050823,       0000,       15.4,    -52.767,       5150,   481.1,   9.8309,  35.1675,2,  35.1541,3, 107.7000,2,  -999.0,9,-999.000,9,-999.000,9,   9.7747
06MT20050813,     406,       AR04,          1,         18,         18,2,20050823,       0000,       15.4,    -52.767,       5150,  1410.4,   4.9011,  35.0058,2,-999.0000,9, 214.4000,2,  -999.0,9,   0.376,2,   0.189,2,   4.7794
06MT20050813,     406,       AR04,          1,         17,         17,2,20050823,       0000,       15.4,    -52.767,       5150,  1413.6,   4.8826,  35.0072,2,-999.0000,9, 215.2000,2,  -999.0,9,-999.000,9,-999.000,9,   4.7607
06MT20050813,     406,       AR04,          1,         16,         16,2,20050823,       0000,       15.4,    -52.767,       5150,  1666.3,   4.2522,  35.0008,2,  35.0005,2, 242.9000,2,   244.9,2,   0.504,2,   0.259,2,   4.1134
06MT20050813,     406,       AR04,          1,         15,         15,2,20050823,       0000,       15.4,    -52.767,       5150,  1669.0,   4.2447,  35.0000,2,-999.0000,9, 243.5000,2,  -999.0,9,-999.000,9,-999.000,9,   4.1057
06MT20050813,     406,       AR04,          1,         14,         14,2,20050823,       0000,       15.4,    -52.767,       5150,  2043.9,   3.6126,  34.9797,2,-999.0000,9, 252.6000,2,   252.4,2,   0.212,2,   0.102,2,   3.4466
06MT20050813,     406,       AR04,          1,         13,         13,2,20050823,       0000,       15.4,    -52.767,       5150,  2048.6,   3.6068,  34.9801,2,-999.0000,9, 252.7000,2,  -999.0,9,-999.000,9,-999.000,9,   3.4404
06MT20050813,     406,       AR04,          1,         12,         12,2,20050823,       0000,       15.4,    -52.767,       5150,  2545.5,   3.0453,  34.9491,2,-999.0000,9, 253.1000,2,   257.4,2,   0.073,2,   0.038,2,   2.8400
06MT20050813,     406,       AR04,          1,         11,         11,2,20050823,       0000,       15.4,    -52.767,       5150,  2546.3,   3.0437,  34.9490,2,  34.9490,2, 253.1000,2,  -999.0,9,-999.000,9,-999.000,9,   2.8383
06MT20050813,     406,       AR04,          1,         10,         10,2,20050823,       0000,       15.4,    -52.767,       5150,  3442.7,   2.5909,  34.9132,2,-999.0000,9, 248.9000,2,  -999.0,9,-999.000,9,-999.000,9,   2.3024
06MT20050813,     406,       AR04,          1,          9,          9,2,20050823,       0000,       15.4,    -52.767,       5150,  3445.3,   2.5907,  34.9133,2,-999.0000,9, 248.8000,2,   251.0,2,   0.085,2,   0.044,2,   2.3019
06MT20050813,     406,       AR04,          1,          8,          8,2,20050823,       0000,       15.4,    -52.767,       5150,  3853.2,   2.4222,  34.9009,2,  34.9037,2, 255.2000,2,  -999.0,9,   0.151,2,   0.078,2,   2.0927
06MT20050813,     406,       AR04,          1,          7,          7,2,20050823,       0000,       15.4,    -52.767,       5150,  3854.8,   2.4218,  34.9012,2,-999.0000,9, 255.3000,2,  -999.0,9,-999.000,9,-999.000,9,   2.0922
06MT20050813,     406,       AR04,          1,          6,          6,2,20050823,       0000,       15.4,    -52.767,       5150,  4159.7,   2.3092,  34.8927,2,-999.0000,9, 258.6000,2,   259.4,2,   0.189,2,   0.098,2,   1.9479
06MT20050813,     406,       AR04,          1,          5,          5,2,20050823,       0000,       15.4,    -52.767,       5150,  4162.2,   2.3069,  34.8926,2,-999.0000,9, 258.6000,2,  -999.0,9,-999.000,9,-999.000,9,   1.9454
06MT20050813,     406,       AR04,          1,          4,          4,2,20050823,       0000,       15.4,    -52.767,       5150,  4879.9,   1.9447,  34.8430,2,-999.0000,9, 247.8000,2,  -999.0,9,   0.093,2,   0.049,2,   1.5090
06MT20050813,     406,       AR04,          1,          3,          3,2,20050823,       0000,       15.4,    -52.767,       5150,  4881.8,   1.9418,  34.8431,2,-999.0000,9, 247.8000,2,  -999.0,9,-999.000,9,-999.000,9,   1.5060
06MT20050813,     406,       AR04,          1,          2,          2,2,20050823,       0000,       15.4,    -52.767,       5150,  5241.2,   1.9043,  34.8325,2,  34.8367,3, 245.5000,2,   242.9,2,   0.089,2,   0.050,2,   1.4250
06MT20050813,     406,       AR04,          1,          1,          1,2,20050823,       0000,       15.4,    -52.767,       5150,  5241.7,   1.9043,  34.8324,2,-999.0000,9, 245.5000,2,  -999.0,9,-999.000,9,-999.000,9,   1.4249
06MT20050813,     407,       AR04,          1,         22,         22,2,20050823,       0000,     15.441,    -53.119,       5310,    16.3,  29.2465,  35.2751,2,-999.0000,9, 199.2000,2,  -999.0,9,   1.455,2,   0.936,2,  29.2425
06MT20050813,     407,       AR04,          1,         21,         21,2,20050823,       0000,     15.441,    -53.119,       5310,    19.1,  29.2189,  35.2996,2,  35.4562,3, 199.1000,2,   206.3,3,-999.000,9,-999.000,9,  29.2143
06MT20050813,     407,       AR04,          1,         20,         20,2,20050823,       0000,     15.441,    -53.119,       5310,   206.5,  18.5070,  36.5970,2,  36.5711,3, 163.6000,2,  -999.0,9,   2.094,2,   1.253,2,  18.4705
06MT20050813,     407,       AR04,          1,         19,         19,2,20050823,       0000,     15.441,    -53.119,       5310,   612.0,   8.0317,  34.9044,2,-999.0000,9, 107.4000,2,   109.6,2,   0.380,2,   0.204,2,   7.9680
06MT20050813,     407,       AR04,          1,         18,         18,2,20050823,       0000,     15.441,    -53.119,       5310,  1207.6,   5.2926,  34.9145,2,-999.0000,9, 172.4000,2,  -999.0,9,   0.110,2,   0.056,2,   5.1867
06MT20050813,     407,       AR04,          1,         17,         17,2,20050823,       0000,     15.441,    -53.119,       5310,  1568.2,   4.5388,  35.0089,2,  35.0125,2, 233.1000,2,  -999.0,9,   0.450,2,   0.228,2,   4.4059
06MT20050813,     407,       AR04,          1,         16,         16,2,20050823,       0000,     15.441,    -53.119,       5310,  1682.4,   4.2772,  35.0017,2,-999.0000,9, 242.3000,2,   244.6,2,-999.000,9,-999.000,9,   4.1366
06MT20050813,     407,       AR04,          1,         15,         15,2,20050823,       0000,     15.441,    -53.119,       5310,  1780.9,   4.0484,  34.9941,2,-999.0000,9, 248.2000,2,  -999.0,9,   0.383,2,   0.197,2,   3.9013
06MT20050813,     407,       AR04,          1,         14,         14,2,20050823,       0000,     15.441,    -53.119,       5310,  1891.9,   3.8342,  34.9878,2,-999.0000,9, 253.0000,2,   255.5,6,-999.000,9,-999.000,9,   3.6795
06MT20050813,     407,       AR04,          1,         13,         13,2,20050823,       0000,     15.441,    -53.119,       5310,  1990.8,   3.6692,  34.9806,2,-999.0000,9, 256.2000,2,  -999.0,9,   0.347,2,   0.177,2,   3.5074
06MT20050813,     407,       AR04,          1,         12,         12,2,20050823,       0000,     15.441,    -53.119,       5310,  2250.4,   3.3450,  34.9665,2,  34.9677,2, 253.1000,2,  -999.0,9,   0.105,2,   0.053,2,   3.1633
06MT20050813,     407,       AR04,          1,         11,         11,2,20050823,       0000,     15.441,    -53.119,       5310,  2660.9,   2.9550,  34.9437,2,-999.0000,9, 256.4000,2,  -999.0,9,   0.140,2,   0.069,2,   2.7399
06MT20050813,     407,       AR04,          1,         10,         10,2,20050823,       0000,     15.441,    -53.119,       5310,  3056.3,   2.7330,  34.9274,2,-999.0000,9, 252.5000,2,  -999.0,9,-999.000,9,-999.000,9,   2.4822
06MT20050813,     407,       AR04,          1,          9,          9,2,20050823,       0000,     15.441,    -53.119,       5310,  3056.9,   2.7325,  34.9271,2,-999.0000,9, 252.5000,2,   245.5,3,   0.133,2,   0.068,2,   2.4816
06MT20050813,     407,       AR04,          1,          8,          8,2,20050823,       0000,     15.441,    -53.119,       5310,  3343.5,   2.6246,  34.9187,2,  34.9169,2, 253.6000,2,  -999.0,9,   0.132,2,   0.066,2,   2.3460
06MT20050813,     407,       AR04,          1,          7,          7,2,20050823,       0000,     15.441,    -53.119,       5310,  3649.8,   2.4916,  34.9071,2,-999.0000,9, 254.4000,2,  -999.0,9,   0.136,2,   0.066,2,   2.1830
06MT20050813,     407,       AR04,          1,          6,          6,2,20050823,       0000,     15.441,    -53.119,       5310,  3961.7,   2.3942,  34.9011,2,-999.0000,9, 259.9000,2,   261.0,2,   0.224,2,   0.113,2,   2.0532
06MT20050813,     407,       AR04,          1,          5,          5,2,20050823,       0000,     15.441,    -53.119,       5310,  4370.1,   2.2708,  34.8876,2,-999.0000,9, 258.1000,2,  -999.0,9,   0.167,2,   0.090,2,   1.8860
06MT20050813,     407,       AR04,          1,          4,          4,2,20050823,       0000,     15.441,    -53.119,       5310,  4699.0,   2.1260,  34.8674,2,  34.8679,2, 254.1000,2,   256.9,2,   0.129,2,   0.072,2,   1.7064
06MT20050813,     407,       AR04,          1,          3,          3,2,20050823,       0000,     15.441,    -53.119,       5310,  5009.3,   1.9235,  34.8399,2,-999.0000,9, 247.1000,2,  -999.0,9,   0.101,2,   0.053,2,   1.4726
06MT20050813,     407,       AR04,          1,          2,          2,2,20050823,       0000,     15.441,    -53.119,       5310,  5399.3,   1.9150,  34.8313,2,-999.0000,9, 245.5000,2,  -999.0,9,   0.090,2,   0.048,2,   1.4151
06MT20050813,     407,       AR04,          1,          1,          1,2,20050823,       0000,     15.441,    -53.119,       5310,  5400.5,   1.9147,  34.8313,2,  34.8333,2, 245.5000,2,   265.3,4,-999.000,9,-999.000,9,   1.4146
06MT20050813,     408,       AR04,          1,         22,         22,2,20050824,       0000,     15.484,    -53.467,       5413,    19.8,  29.1323,  35.7035,2,-999.0000,9, 199.8000,2,   199.9,2,   1.423,2,   0.923,2,  29.1275
06MT20050813,     408,       AR04,          1,         21,         21,2,20050824,       0000,     15.484,    -53.467,       5413,    19.8,  29.1331,  35.6969,2,-999.0000,9, 199.8000,2,  -999.0,9,-999.000,9,-999.000,9,  29.1283
06MT20050813,     408,       AR04,          1,         20,         20,2,20050824,       0000,     15.484,    -53.467,       5413,   402.9,  11.2585,  35.3817,2,-999.0000,9, 117.0000,2,   116.2,2,   1.052,2,   0.566,2,  11.2074
06MT20050813,     408,       AR04,          1,         19,         19,2,20050824,       0000,     15.484,    -53.467,       5413,   894.9,   5.7980,  34.7440,2,  34.7401,3, 129.5000,2,  -999.0,9,-999.000,9,-999.000,9,   5.7184
06MT20050813,     408,       AR04,          1,         18,         18,2,20050824,       0000,     15.484,    -53.467,       5413,  1311.3,   5.1364,  34.9703,2,-999.0000,9, 192.6000,2,  -999.0,9,   0.186,2,   0.096,2,   5.0219
06MT20050813,     408,       AR04,          1,         17,         17,2,20050824,       0000,     15.484,    -53.467,       5413,  1516.3,   4.6559,  35.0125,2,-999.0000,9, 231.1000,2,  -999.0,9,   0.530,2,   0.268,2,   4.5266
06MT20050813,     408,       AR04,          1,         16,         16,2,20050824,       0000,     15.484,    -53.467,       5413,  1610.5,   4.3968,  35.0066,2,-999.0000,9, 241.2000,2,   245.5,2,-999.000,9,-999.000,9,   4.2615
06MT20050813,     408,       AR04,          1,         15,         15,2,20050824,       0000,     15.484,    -53.467,       5413,  1668.4,   4.2745,  35.0032,2,-999.0000,9, 248.1000,2,  -999.0,9,   0.633,2,   0.317,2,   4.1352
06MT20050813,     408,       AR04,          1,         14,         14,2,20050824,       0000,     15.484,    -53.467,       5413,  1819.1,   3.9510,  34.9897,2,-999.0000,9, 256.1000,2,  -999.0,9,   0.581,2,   0.286,2,   3.8016
06MT20050813,     408,       AR04,          1,         13,         13,2,20050824,       0000,     15.484,    -53.467,       5413,  1920.9,   3.7913,  34.9858,2,-999.0000,9, 256.8000,2,   248.5,3,-999.000,9,-999.000,9,   3.6344
06MT20050813,     408,       AR04,          1,         12,         12,2,20050824,       0000,     15.484,    -53.467,       5413,  2012.6,   3.6278,  34.9815,2,  34.9789,2, 256.8000,2,  -999.0,9,   0.320,2,   0.162,2,   3.4645
06MT20050813,     408,       AR04,          1,         11,         11,2,20050824,       0000,     15.484,    -53.467,       5413,  2328.4,   3.2321,  34.9611,2,-999.0000,9, 257.7000,2,   257.0,2,   0.194,2,   0.097,2,   3.0447
06MT20050813,     408,       AR04,          1,         10,         10,2,20050824,       0000,     15.484,    -53.467,       5413,  2328.4,   3.2321,  34.9611,2,-999.0000,9, 257.7000,2,  -999.0,9,-999.000,9,-999.000,9,   3.0447
06MT20050813,     408,       AR04,          1,          9,          9,2,20050824,       0000,     15.484,    -53.467,       5413,  2733.4,   2.8771,  34.9385,2,-999.0000,9, 255.5000,2,  -999.0,9,   0.146,2,   0.074,2,   2.6563
06MT20050813,     408,       AR04,          1,          8,          8,2,20050824,       0000,     15.484,    -53.467,       5413,  3139.8,   2.6961,  34.9250,2,-999.0000,9, 256.5000,2,  -999.0,9,   0.210,2,   0.101,2,   2.4374
06MT20050813,     408,       AR04,          1,          7,          7,2,20050824,       0000,     15.484,    -53.467,       5413,  3558.3,   2.5434,  34.9114,2,-999.0000,9, 253.0000,2,   261.0,3,   0.116,2,   0.055,2,   2.2435
06MT20050813,     408,       AR04,          1,          6,          6,2,20050824,       0000,     15.484,    -53.467,       5413,  3856.4,   2.4289,  34.9038,2,-999.0000,9, 259.1000,2,  -999.0,9,   0.226,2,   0.117,2,   2.0989
06MT20050813,     408,       AR04,          1,          5,          5,2,20050824,       0000,     15.484,    -53.467,       5413,  4265.8,   2.3144,  34.8930,2,  34.8542,3, 259.5000,2,  -999.0,9,   0.232,2,   0.124,2,   1.9406
06MT20050813,     408,       AR04,          1,          4,          4,2,20050824,       0000,     15.484,    -53.467,       5413,  4635.8,   2.1616,  34.8723,2,-999.0000,9, 255.4000,2,   240.1,4,   0.146,2,   0.078,2,   1.7485
06MT20050813,     408,       AR04,          1,          3,          3,2,20050824,       0000,     15.484,    -53.467,       5413,  5191.4,   1.8936,  34.8330,2,-999.0000,9, 245.5000,2,  -999.0,9,   0.088,2,   0.048,2,   1.4210
06MT20050813,     408,       AR04,          1,          2,          2,2,20050824,       0000,     15.484,    -53.467,       5413,  5521.6,   1.9163,  34.8293,2,-999.0000,9, 245.1000,2,  -999.0,9,   0.097,2,   0.051,2,   1.4005
06MT20050813,     408,       AR04,          1,          1,          1,2,20050824,       0000,     15.484,    -53.467,       5413,  5520.9,   1.9162,  34.8291,2,  34.8312,2, 245.1000,2,   261.7,4,-999.000,9,-999.000,9,   1.4005