BOTTLE,20120828SIOCCHMYS
EXPOCODE,STNNBR,SECT_ID,CASTNO,SAMPNO,BTLNBR,BTLNBR_FLAG_W,DATE,TIME,LATITUDE,LONGITUDE,DEPTH,CTDPRS,CTDTMP,CTDSAL,CTDSAL_FLAG_W,SALNTY,SALNTY_FLAG_W,CTDOXY,CTDOXY_FLAG_W,OXYGEN,OXYGEN_FLAG_W,CFC-11,CFC-11_FLAG_W,CFC-12,CFC-12_FLAG_W,THETA
,,,,,,,,,,,,DBAR,ITS-90,PSS-78,,PSS-78,,UMOL/KG,,UMOL/KG,,PMOL/KG,,PMOL/KG,,DEG C
06MT20050813,     617,       AR04,          1,         22,         22,2,20050915,       0000,     22.701,    -64.134,       5806,    34.4,  29.7283,  36.7930,2,-999.0000,9, 197.8000,2,  -999.0,9,   1.438,2,   0.923,2,  29.7198
06MT20050813,     617,       AR04,          1,         21,         21,2,20050915,       0000,     22.701,    -64.134,       5806,   214.9,  19.0141,  36.6602,2,-999.0000,9, 178.3000,2,  -999.0,9,   2.165,2,   1.307,2,  18.9753
06MT20050813,     617,       AR04,          1,         20,         20,2,20050915,       0000,     22.701,    -64.134,       5806,   715.1,   9.6140,  35.2653,2,  35.2327,3, 136.4000,2,   138.7,2,   0.657,2,   0.360,2,   9.5305
06MT20050813,     617,       AR04,          1,         19,         19,2,20050915,       0000,     22.701,    -64.134,       5806,  1001.7,   6.3330,  35.0629,2,-999.0000,9, 182.9000,2,  -999.0,9,   0.575,2,   0.303,2,   6.2386
06MT20050813,     617,       AR04,          1,         18,         18,2,20050915,       0000,     22.701,    -64.134,       5806,  1302.0,   4.7238,  35.0381,2,-999.0000,9, 241.1000,2,  -999.0,9,-999.000,9,-999.000,9,   4.6141
06MT20050813,     617,       AR04,          1,         17,         17,2,20050915,       0000,     22.701,    -64.134,       5806,  1307.4,   4.7127,  35.0370,2,-999.0000,9, 241.8000,2,  -999.0,9,   0.967,2,   0.491,2,   4.6026
06MT20050813,     617,       AR04,          1,         16,         16,2,20050915,       0000,     22.701,    -64.134,       5806,  1474.6,   4.3139,  35.0140,2,-999.0000,9, 250.7000,2,  -999.0,9,   0.862,6,   0.435,6,   4.1924
06MT20050813,     617,       AR04,          1,         15,         15,2,20050915,       0000,     22.701,    -64.134,       5806,  1550.6,   4.1343,  35.0008,2,-999.0000,9, 254.3000,2,  -999.0,9,-999.000,9,-999.000,9,   4.0078
06MT20050813,     617,       AR04,          1,         14,         14,2,20050915,       0000,     22.701,    -64.134,       5806,  1658.3,   3.9376,  34.9868,2,-999.0000,9, 258.5000,2,   250.7,3,   0.958,2,   0.480,2,   3.8035
06MT20050813,     617,       AR04,          1,         13,         13,2,20050915,       0000,     22.701,    -64.134,       5806,  1847.6,   3.7293,  34.9824,2,-999.0000,9, 258.5000,2,  -999.0,9,   0.626,2,   0.311,2,   3.5802
06MT20050813,     617,       AR04,          1,         12,         12,2,20050915,       0000,     22.701,    -64.134,       5806,  2060.0,   3.5006,  34.9788,2,-999.0000,9, 257.0000,2,   258.2,2,   0.401,2,   0.216,2,   3.3347
06MT20050813,     617,       AR04,          1,         11,         11,2,20050915,       0000,     22.701,    -64.134,       5806,  2417.8,   3.1290,  34.9588,2,-999.0000,9, 256.0000,2,  -999.0,9,   0.268,2,   0.142,2,   2.9347
06MT20050813,     617,       AR04,          1,         10,         10,2,20050915,       0000,     22.701,    -64.134,       5806,  2709.2,   2.8667,  34.9409,2,-999.0000,9, 257.2000,2,  -999.0,9,-999.000,9,-999.000,9,   2.6485
06MT20050813,     617,       AR04,          1,          9,          9,2,20050915,       0000,     22.701,    -64.134,       5806,  2921.8,   2.7207,  34.9305,2,  34.9303,2, 258.7000,2,   261.4,2,   0.356,2,   0.188,2,   2.4840
06MT20050813,     617,       AR04,          1,          8,          8,2,20050915,       0000,     22.701,    -64.134,       5806,  3402.5,   2.4549,  34.9111,2,-999.0000,9, 262.1000,2,  -999.0,9,   0.435,2,   0.222,2,   2.1740
06MT20050813,     617,       AR04,          1,          7,          7,2,20050915,       0000,     22.701,    -64.134,       5806,  3698.1,   2.3592,  34.9029,2,-999.0000,9, 262.6000,2,   264.9,2,   0.524,2,   0.268,2,   2.0487
06MT20050813,     617,       AR04,          1,          6,          6,2,20050915,       0000,     22.701,    -64.134,       5806,  3999.0,   2.3115,  34.8979,2,  34.8965,2, 261.7000,2,  -999.0,9,   0.506,2,   0.263,2,   1.9686
06MT20050813,     617,       AR04,          1,          5,          5,2,20050915,       0000,     22.701,    -64.134,       5806,  4299.2,   2.2852,  34.8930,2,-999.0000,9, 260.8000,2,  -999.0,9,   0.436,2,   0.230,2,   1.9083
06MT20050813,     617,       AR04,          1,          4,          4,2,20050915,       0000,     22.701,    -64.134,       5806,  4699.6,   2.2674,  34.8860,2,-999.0000,9, 258.4000,2,   260.7,2,   0.388,2,   0.210,2,   1.8431
06MT20050813,     617,       AR04,          1,          3,          3,2,20050915,       0000,     22.701,    -64.134,       5806,  5199.5,   2.1342,  34.8632,2,-999.0000,9, 250.0000,2,  -999.0,9,   0.141,2,   0.086,2,   1.6520
06MT20050813,     617,       AR04,          1,          2,          2,2,20050915,       0000,     22.701,    -64.134,       5806,  5798.7,   2.0557,  34.8434,2,-999.0000,9, 243.1000,2,  -999.0,9,   0.064,2,   0.041,2,   1.4980
06MT20050813,     617,       AR04,          1,          1,          1,2,20050915,       0000,     22.701,    -64.134,       5806,  5798.8,   2.0557,  34.8432,2,  34.8428,2, 243.1000,2,   242.5,2,-999.000,9,-999.000,9,   1.4980
06MT20050813,     618,       AR04,          1,         22,         22,2,20050916,       0000,     23.115,    -64.117,       5803,    32.1,  29.6513,  36.8416,2,-999.0000,9, 199.0000,2,   200.8,3,-999.000,9,-999.000,9,  29.6434
06MT20050813,     618,       AR04,          1,         21,         21,2,20050916,       0000,     23.115,    -64.117,       5803,   814.8,   8.0653,  35.0853,2,-999.0000,9, 134.7000,2,   144.0,3,-999.000,9,-999.000,9,   7.9791
06MT20050813,     618,       AR04,          1,         20,         20,2,20050916,       0000,     23.115,    -64.117,       5803,  1206.4,   5.1368,  35.0549,2,-999.0000,9, 226.0000,2,  -999.0,9,-999.000,9,-999.000,9,   5.0322
06MT20050813,     618,       AR04,          1,         19,         19,2,20050916,       0000,     23.115,    -64.117,       5803,  1355.6,   4.6186,  35.0346,2,-999.0000,9, 242.7000,2,   238.0,3,-999.000,9,-999.000,9,   4.5049
06MT20050813,     618,       AR04,          1,         18,         18,2,20050916,       0000,     23.115,    -64.117,       5803,  1397.8,   4.4821,  35.0250,2,-999.0000,9, 245.8000,2,  -999.0,9,-999.000,9,-999.000,9,   4.3659
06MT20050813,     618,       AR04,          1,         17,         17,2,20050916,       0000,     23.115,    -64.117,       5803,  1553.1,   4.1026,  34.9983,2,-999.0000,9, 255.1000,2,  -999.0,9,-999.000,9,-999.000,9,   3.9762
06MT20050813,     618,       AR04,          1,         16,         16,2,20050916,       0000,     23.115,    -64.117,       5803,  1646.8,   3.9440,  34.9861,2,-999.0000,9, 258.0000,2,  -999.0,9,-999.000,9,-999.000,9,   3.8109
06MT20050813,     618,       AR04,          1,         15,         15,2,20050916,       0000,     23.115,    -64.117,       5803,  1749.0,   3.8136,  34.9804,2,-999.0000,9, 259.7000,2,  -999.0,9,-999.000,9,-999.000,9,   3.6726
06MT20050813,     618,       AR04,          1,         14,         14,2,20050916,       0000,     23.115,    -64.117,       5803,  1966.4,   3.6197,  34.9840,2,-999.0000,9, 256.8000,2,   264.1,3,-999.000,9,-999.000,9,   3.4609
06MT20050813,     618,       AR04,          1,         13,         13,2,20050916,       0000,     23.115,    -64.117,       5803,  2138.1,   3.4079,  34.9705,2,-999.0000,9, 257.8000,2,  -999.0,9,-999.000,9,-999.000,9,   3.2360
06MT20050813,     618,       AR04,          1,         12,         12,2,20050916,       0000,     23.115,    -64.117,       5803,  2490.3,   3.0738,  34.9560,2,-999.0000,9, 255.3000,2,  -999.0,9,-999.000,9,-999.000,9,   2.8734
06MT20050813,     618,       AR04,          1,         11,         11,2,20050916,       0000,     23.115,    -64.117,       5803,  2797.4,   2.8058,  34.9348,2,-999.0000,9, 259.6000,2,   262.3,2,-999.000,9,-999.000,9,   2.5800
06MT20050813,     618,       AR04,          1,         10,         10,2,20050916,       0000,     23.115,    -64.117,       5803,  2896.4,   2.7450,  34.9317,2,-999.0000,9, 258.3000,2,  -999.0,9,-999.000,9,-999.000,9,   2.5104
06MT20050813,     618,       AR04,          1,          9,          9,2,20050916,       0000,     23.115,    -64.117,       5803,  3096.8,   2.6294,  34.9233,2,-999.0000,9, 259.7000,2,  -999.0,9,-999.000,9,-999.000,9,   2.3767
06MT20050813,     618,       AR04,          1,          8,          8,2,20050916,       0000,     23.115,    -64.117,       5803,  3498.4,   2.4250,  34.9089,2,-999.0000,9, 262.5000,2,  -999.0,9,-999.000,9,-999.000,9,   2.1346
06MT20050813,     618,       AR04,          1,          7,          7,2,20050916,       0000,     23.115,    -64.117,       5803,  3798.8,   2.3349,  34.9009,2,-999.0000,9, 262.8000,2,   254.1,3,-999.000,9,-999.000,9,   2.0139
06MT20050813,     618,       AR04,          1,          6,          6,2,20050916,       0000,     23.115,    -64.117,       5803,  4198.4,   2.2957,  34.8952,2,-999.0000,9, 261.3000,2,  -999.0,9,-999.000,9,-999.000,9,   1.9303
06MT20050813,     618,       AR04,          1,          5,          5,2,20050916,       0000,     23.115,    -64.117,       5803,  4598.8,   2.2734,  34.8883,2,-999.0000,9, 259.0000,2,   263.4,3,-999.000,9,-999.000,9,   1.8611
06MT20050813,     618,       AR04,          1,          4,          4,2,20050916,       0000,     23.115,    -64.117,       5803,  4998.1,   2.2281,  34.8778,2,-999.0000,9, 254.6000,2,  -999.0,9,-999.000,9,-999.000,9,   1.7681
06MT20050813,     618,       AR04,          1,          3,          3,2,20050916,       0000,     23.115,    -64.117,       5803,  5399.9,   2.0633,  34.8516,2,-999.0000,9, 246.2000,2,  -999.0,9,-999.000,9,-999.000,9,   1.5579
06MT20050813,     618,       AR04,          1,          2,          2,2,20050916,       0000,     23.115,    -64.117,       5803,  5808.2,   2.0630,  34.8434,2,-999.0000,9, 242.9000,2,  -999.0,9,-999.000,9,-999.000,9,   1.5038
06MT20050813,     618,       AR04,          1,          1,          1,2,20050916,       0000,     23.115,    -64.117,       5803,  5808.2,   2.0630,  34.8434,2,-999.0000,9, 242.9000,2,   246.4,2,-999.000,9,-999.000,9,   1.5038
06MT20050813,     619,       AR04,          1,         21,         21,2,20050916,       0000,     23.608,    -64.102,       5805,   395.1,  16.8867,  36.3372,2,-999.0000,9, 182.9000,2,  -999.0,9,-999.000,9,-999.000,9,  16.8208
06MT20050813,     619,       AR04,          1,         20,         20,2,20050916,       0000,     23.608,    -64.102,       5805,   606.4,  12.7096,  35.6953,2,-999.0000,9, 154.3000,2,   156.4,2,-999.000,9,-999.000,9,  12.6256
06MT20050813,     619,       AR04,          1,         19,         19,2,20050916,       0000,     23.608,    -64.102,       5805,   982.6,   6.2676,  35.0567,2,-999.0000,9, 180.4000,2,  -999.0,9,-999.000,9,-999.000,9,   6.1756
06MT20050813,     619,       AR04,          1,         18,         18,2,20050916,       0000,     23.608,    -64.102,       5805,  1216.5,   5.0257,  35.0599,2,-999.0000,9, 231.7000,2,  -999.0,9,-999.000,9,-999.000,9,   4.9211
06MT20050813,     619,       AR04,          1,         17,         17,2,20050916,       0000,     23.608,    -64.102,       5805,  1217.4,   5.0204,  35.0602,2,-999.0000,9, 231.9000,2,  -999.0,9,-999.000,9,-999.000,9,   4.9158
06MT20050813,     619,       AR04,          1,         16,         16,2,20050916,       0000,     23.608,    -64.102,       5805,  1476.2,   4.2548,  35.0144,2,-999.0000,9, 252.6000,2,  -999.0,9,-999.000,9,-999.000,9,   4.1338
06MT20050813,     619,       AR04,          1,         15,         15,2,20050916,       0000,     23.608,    -64.102,       5805,  1687.2,   3.9101,  34.9969,2,-999.0000,9, 256.3000,2,   255.8,2,-999.000,9,-999.000,9,   3.7736
06MT20050813,     619,       AR04,          1,         14,         14,2,20050916,       0000,     23.608,    -64.102,       5805,  1898.6,   3.6626,  34.9895,2,-999.0000,9, 255.8000,2,  -999.0,9,-999.000,9,-999.000,9,   3.5096
06MT20050813,     619,       AR04,          1,         13,         13,2,20050916,       0000,     23.608,    -64.102,       5805,  2090.3,   3.4643,  34.9809,2,-999.0000,9, 254.8000,2,  -999.0,9,-999.000,9,-999.000,9,   3.2961
06MT20050813,     619,       AR04,          1,         12,         12,2,20050916,       0000,     23.608,    -64.102,       5805,  2298.4,   3.2105,  34.9626,2,-999.0000,9, 255.9000,2,   257.7,2,-999.000,9,-999.000,9,   3.0264
06MT20050813,     619,       AR04,          1,         11,         11,2,20050916,       0000,     23.608,    -64.102,       5805,  2499.1,   3.0237,  34.9536,2,-999.0000,9, 254.4000,2,  -999.0,9,-999.000,9,-999.000,9,   2.8233
06MT20050813,     619,       AR04,          1,         10,         10,2,20050916,       0000,     23.608,    -64.102,       5805,  2711.0,   2.8737,  34.9418,2,-999.0000,9, 255.2000,2,  -999.0,9,-999.000,9,-999.000,9,   2.6552
06MT20050813,     619,       AR04,          1,          9,          9,2,20050916,       0000,     23.608,    -64.102,       5805,  2999.2,   2.6696,  34.9259,2,-999.0000,9, 258.7000,2,  -999.0,9,-999.000,9,-999.000,9,   2.4261
06MT20050813,     619,       AR04,          1,          8,          8,2,20050916,       0000,     23.608,    -64.102,       5805,  3299.9,   2.5129,  34.9155,2,-999.0000,9, 261.1000,2,   257.9,2,-999.000,9,-999.000,9,   2.2416
06MT20050813,     619,       AR04,          1,          7,          7,2,20050916,       0000,     23.608,    -64.102,       5805,  3598.3,   2.3939,  34.9063,2,-999.0000,9, 261.3000,2,  -999.0,9,-999.000,9,-999.000,9,   2.0934
06MT20050813,     619,       AR04,          1,          6,          6,2,20050916,       0000,     23.608,    -64.102,       5805,  3999.4,   2.3126,  34.8984,2,-999.0000,9, 261.8000,2,   264.4,2,-999.000,9,-999.000,9,   1.9696
06MT20050813,     619,       AR04,          1,          5,          5,2,20050916,       0000,     23.608,    -64.102,       5805,  4399.9,   2.2864,  34.8917,2,-999.0000,9, 260.3000,2,  -999.0,9,-999.000,9,-999.000,9,   1.8976
06MT20050813,     619,       AR04,          1,          4,          4,2,20050916,       0000,     23.608,    -64.102,       5805,  4797.4,   2.2746,  34.8858,2,-999.0000,9, 257.7000,2,   260.2,2,-999.000,9,-999.000,9,   1.8380
06MT20050813,     619,       AR04,          1,          3,          3,2,20050916,       0000,     23.608,    -64.102,       5805,  5198.9,   2.1663,  34.8675,2,-999.0000,9, 251.0000,2,  -999.0,9,-999.000,9,-999.000,9,   1.6830
06MT20050813,     619,       AR04,          1,          2,          2,2,20050916,       0000,     23.608,    -64.102,       5805,  5799.9,   2.0726,  34.8451,2,-999.0000,9, 243.3000,2,  -999.0,9,-999.000,9,-999.000,9,   1.5141
06MT20050813,     619,       AR04,          1,          1,          1,2,20050916,       0000,     23.608,    -64.102,       5805,  5800.9,   2.0730,  34.8450,2,-999.0000,9, 243.3000,2,   244.2,2,-999.000,9,-999.000,9,   1.5144