BOTTLE,20120828SIOCCHMYS
EXPOCODE,STNNBR,SECT_ID,CASTNO,SAMPNO,BTLNBR,BTLNBR_FLAG_W,DATE,TIME,LATITUDE,LONGITUDE,DEPTH,CTDPRS,CTDTMP,CTDSAL,CTDSAL_FLAG_W,SALNTY,SALNTY_FLAG_W,CTDOXY,CTDOXY_FLAG_W,OXYGEN,OXYGEN_FLAG_W,CFC-11,CFC-11_FLAG_W,CFC-12,CFC-12_FLAG_W,THETA
,,,,,,,,,,,,DBAR,ITS-90,PSS-78,,PSS-78,,UMOL/KG,,UMOL/KG,,PMOL/KG,,PMOL/KG,,DEG C
06MT20050813,     413,       AR04,          1,         21,         21,2,20050824,       0000,     15.647,    -54.884,       5489,     8.0,  29.2495,  34.8552,2,-999.0000,9, 199.1000,2,  -999.0,9,   1.451,6,   0.921,6,  29.2476
06MT20050813,     413,       AR04,          1,         22,         22,2,20050824,       0000,     15.647,    -54.884,       5489,    22.9,  29.2506,  34.9174,2,-999.0000,9, 201.8000,2,  -999.0,9,-999.000,9,-999.000,9,  29.2450
06MT20050813,     413,       AR04,          1,         20,         20,2,20050824,       0000,     15.647,    -54.884,       5489,   623.3,   8.7977,  35.0961,2,  35.0440,3, 119.3000,2,   241.3,4,   0.360,2,   0.184,2,   8.7291
06MT20050813,     413,       AR04,          1,         19,         19,2,20050824,       0000,     15.647,    -54.884,       5489,  1231.8,   5.3489,  34.9967,2,-999.0000,9, 197.6000,2,  -999.0,9,   0.468,2,   0.244,2,   5.2400
06MT20050813,     413,       AR04,          1,         18,         18,2,20050824,       0000,     15.647,    -54.884,       5489,  1423.3,   4.7533,  35.0248,2,-999.0000,9, 233.4000,2,  -999.0,9,   0.711,2,   0.357,2,   4.6318
06MT20050813,     413,       AR04,          1,         17,         17,2,20050824,       0000,     15.647,    -54.884,       5489,  1567.6,   4.3332,  35.0069,2,  34.9901,3, 244.6000,2,  -999.0,9,   0.677,2,   0.332,2,   4.2028
06MT20050813,     413,       AR04,          1,         16,         16,2,20050824,       0000,     15.647,    -54.884,       5489,  1715.0,   4.0119,  34.9923,2,-999.0000,9, 253.9000,2,  -999.0,9,   0.616,2,   0.303,2,   3.8715
06MT20050813,     413,       AR04,          1,         15,         15,2,20050824,       0000,     15.647,    -54.884,       5489,  1866.8,   3.7377,  34.9820,2,-999.0000,9, 257.3000,2,  -999.0,9,   0.498,2,   0.251,2,   3.5867
06MT20050813,     413,       AR04,          1,         14,         14,2,20050824,       0000,     15.647,    -54.884,       5489,  2054.7,   3.4604,  34.9702,2,-999.0000,9, 260.1000,2,   258.8,2,   0.452,2,   0.221,2,   3.2957
06MT20050813,     413,       AR04,          1,         13,         13,2,20050824,       0000,     15.647,    -54.884,       5489,  2318.0,   3.1890,  34.9579,2,-999.0000,9, 260.5000,2,  -999.0,9,   0.349,2,   0.176,2,   3.0034
06MT20050813,     413,       AR04,          1,         12,         12,2,20050824,       0000,     15.647,    -54.884,       5489,  2622.7,   2.9543,  34.9437,2,  34.9397,2, 257.7000,2,   255.7,2,   0.159,2,   0.081,2,   2.7430
06MT20050813,     413,       AR04,          1,         11,         11,2,20050824,       0000,     15.647,    -54.884,       5489,  2935.9,   2.7829,  34.9317,2,-999.0000,9, 254.7000,2,  -999.0,9,-999.000,9,-999.000,9,   2.5434
06MT20050813,     413,       AR04,          1,         10,         10,2,20050824,       0000,     15.647,    -54.884,       5489,  3353.6,   2.6247,  34.9185,2,-999.0000,9, 254.4000,2,  -999.0,9,-999.000,9,-999.000,9,   2.3450
06MT20050813,     413,       AR04,          1,          9,          9,2,20050824,       0000,     15.647,    -54.884,       5489,  3365.3,   2.6232,  34.9182,2,  34.8921,3, 254.5000,2,  -999.0,9,   0.100,2,   0.055,2,   2.3422
06MT20050813,     413,       AR04,          1,          8,          8,2,20050824,       0000,     15.647,    -54.884,       5489,  3654.6,   2.4959,  34.9081,2,-999.0000,9, 256.6000,2,   257.6,2,   0.118,2,   0.063,2,   2.1866
06MT20050813,     413,       AR04,          1,          7,          7,2,20050824,       0000,     15.647,    -54.884,       5489,  3958.1,   2.3814,  34.8997,2,-999.0000,9, 261.2000,2,  -999.0,9,   0.181,2,   0.092,2,   2.0412
06MT20050813,     413,       AR04,          1,          6,          6,2,20050824,       0000,     15.647,    -54.884,       5489,  4265.6,   2.3121,  34.8933,2,-999.0000,9, 262.9000,2,   262.8,2,   0.211,2,   0.110,2,   1.9384
06MT20050813,     413,       AR04,          1,          5,          5,2,20050824,       0000,     15.647,    -54.884,       5489,  4688.7,   2.2098,  34.8773,2,  34.8746,2, 258.4000,2,  -999.0,9,   0.122,2,   0.068,2,   1.7887
06MT20050813,     413,       AR04,          1,          4,          4,2,20050824,       0000,     15.647,    -54.884,       5489,  4985.2,   2.0344,  34.8531,2,-999.0000,9, 253.2000,2,   249.5,2,   0.098,2,   0.052,2,   1.5827
06MT20050813,     413,       AR04,          1,          3,          3,2,20050824,       0000,     15.647,    -54.884,       5489,  5396.7,   1.8962,  34.8302,2,-999.0000,9, 246.6000,2,  -999.0,9,   0.076,2,   0.046,2,   1.3973
06MT20050813,     413,       AR04,          1,          1,          1,2,20050824,       0000,     15.647,    -54.884,       5489,  5605.2,   1.8766,  34.8242,2,  34.8233,2, 244.2000,2,   241.5,2,-999.000,9,-999.000,9,   1.3514
06MT20050813,     413,       AR04,          1,          2,          2,2,20050824,       0000,     15.647,    -54.884,       5489,  5604.6,   1.8766,  34.8243,2,-999.0000,9, 244.2000,2,  -999.0,9,   0.089,2,   0.052,2,   1.3515
06MT20050813,     414,       AR04,          1,         22,         22,2,20050825,       0000,     15.692,    -55.241,       5487,    26.2,  29.1327,  36.1219,2,  34.2436,3, 208.6000,2,   198.1,3,   1.447,2,   0.913,2,  29.1263
06MT20050813,     414,       AR04,          1,         21,         21,2,20050825,       0000,     15.692,    -55.241,       5487,    26.2,  29.1327,  36.1219,2,-999.0000,9, 208.6000,2,  -999.0,9,-999.000,9,-999.000,9,  29.1263
06MT20050813,     414,       AR04,          1,         20,         20,2,20050825,       0000,     15.692,    -55.241,       5487,   199.0,  18.6530,  36.6174,2,  36.5953,3, 178.1000,2,  -999.0,9,   2.176,2,   1.248,2,  18.6176
06MT20050813,     414,       AR04,          1,         19,         19,2,20050825,       0000,     15.692,    -55.241,       5487,   806.9,   6.2096,  34.7669,2,  34.7616,2, 125.5000,2,   123.8,2,   0.096,6,   0.052,6,   6.1358
06MT20050813,     414,       AR04,          1,         18,         18,2,20050825,       0000,     15.692,    -55.241,       5487,  1296.5,   5.1503,  34.9909,2,-999.0000,9, 202.2000,2,  -999.0,9,   0.393,2,   0.199,2,   5.0371
06MT20050813,     414,       AR04,          1,         17,         17,2,20050825,       0000,     15.692,    -55.241,       5487,  1519.2,   4.5833,  35.0171,2,-999.0000,9, 238.0000,2,  -999.0,9,   0.695,2,   0.349,2,   4.4546
06MT20050813,     414,       AR04,          1,         16,         16,2,20050825,       0000,     15.692,    -55.241,       5487,  1677.4,   4.2333,  35.0011,2,-999.0000,9, 251.2000,2,  -999.0,9,   0.845,2,   0.427,2,   4.0937
06MT20050813,     414,       AR04,          1,         15,         15,2,20050825,       0000,     15.692,    -55.241,       5487,  1824.7,   3.9389,  34.9856,2,-999.0000,9, 256.3000,2,   257.8,2,   0.816,2,   0.399,2,   3.7891
06MT20050813,     414,       AR04,          1,         14,         14,2,20050825,       0000,     15.692,    -55.241,       5487,  1999.7,   3.6311,  34.9726,2,  34.9736,2, 261.1000,2,  -999.0,9,   0.685,2,   0.337,2,   3.4690
06MT20050813,     414,       AR04,          1,         13,         13,2,20050825,       0000,     15.692,    -55.241,       5487,  2199.5,   3.4450,  34.9695,2,-999.0000,9, 258.9000,2,   256.3,2,   0.434,2,   0.218,2,   3.2666
06MT20050813,     414,       AR04,          1,         12,         12,2,20050825,       0000,     15.692,    -55.241,       5487,  2501.5,   3.1107,  34.9528,2,-999.0000,9, 260.0000,2,  -999.0,9,   0.338,2,   0.170,2,   2.9085
06MT20050813,     414,       AR04,          1,         11,         11,2,20050825,       0000,     15.692,    -55.241,       5487,  2807.9,   2.9033,  34.9407,2,-999.0000,9, 257.5000,2,   257.2,2,-999.000,9,-999.000,9,   2.6744
06MT20050813,     414,       AR04,          1,         10,         10,2,20050825,       0000,     15.692,    -55.241,       5487,  2996.4,   2.7789,  34.9320,2,-999.0000,9, 258.5000,2,  -999.0,9,-999.000,9,-999.000,9,   2.5333
06MT20050813,     414,       AR04,          1,          9,          9,2,20050825,       0000,     15.692,    -55.241,       5487,  2998.7,   2.7760,  34.9320,2,-999.0000,9, 258.5000,2,  -999.0,9,   0.205,2,   0.103,2,   2.5302
06MT20050813,     414,       AR04,          1,          8,          8,2,20050825,       0000,     15.692,    -55.241,       5487,  3507.2,   2.5156,  34.9124,2,  34.9104,2, 264.1000,2,  -999.0,9,   0.225,2,   0.110,2,   2.2220
06MT20050813,     414,       AR04,          1,          7,          7,2,20050825,       0000,     15.692,    -55.241,       5487,  3800.0,   2.4098,  34.9033,2,-999.0000,9, 262.5000,2,  -999.0,9,   0.252,2,   0.126,2,   2.0866
06MT20050813,     414,       AR04,          1,          6,          6,2,20050825,       0000,     15.692,    -55.241,       5487,  4098.6,   2.3328,  34.8978,2,-999.0000,9, 264.9000,2,   263.0,2,   0.384,2,   0.188,2,   1.9778
06MT20050813,     414,       AR04,          1,          5,          5,2,20050825,       0000,     15.692,    -55.241,       5487,  4499.0,   2.2559,  34.8859,2,  34.8847,2, 261.6000,2,  -999.0,9,   0.200,2,   0.109,2,   1.8562
06MT20050813,     414,       AR04,          1,          4,          4,2,20050825,       0000,     15.692,    -55.241,       5487,  4799.2,   2.1356,  34.8673,2,-999.0000,9, 256.3000,2,   252.7,2,   0.109,2,   0.061,2,   1.7034
06MT20050813,     414,       AR04,          1,          3,          3,2,20050825,       0000,     15.692,    -55.241,       5487,  5199.3,   1.9051,  34.8342,2,-999.0000,9, 247.8000,2,  -999.0,9,   0.087,2,   0.048,2,   1.4310
06MT20050813,     414,       AR04,          1,          2,          2,2,20050825,       0000,     15.692,    -55.241,       5487,  5599.8,   1.8925,  34.8262,2,-999.0000,9, 244.4000,2,  -999.0,9,   0.088,2,   0.050,2,   1.3674
06MT20050813,     414,       AR04,          1,          1,          1,2,20050825,       0000,     15.692,    -55.241,       5487,  5600.1,   1.8924,  34.8263,2,  34.8251,2, 244.4000,2,   228.2,4,-999.000,9,-999.000,9,   1.3673
06MT20050813,     415,       AR04,          1,         22,         22,2,20050825,       0000,     15.732,    -55.602,       5484,    19.4,  29.2641,  34.6331,2,-999.0000,9, 198.8000,2,   196.6,2,   1.442,2,   0.919,2,  29.2594
06MT20050813,     415,       AR04,          1,         21,         21,2,20050825,       0000,     15.732,    -55.602,       5484,    19.4,  29.2871,  34.6803,2,-999.0000,9, 198.8000,2,  -999.0,9,-999.000,9,-999.000,9,  29.2824
06MT20050813,     415,       AR04,          1,         20,         20,2,20050825,       0000,     15.732,    -55.602,       5484,   303.9,  15.5160,  36.0960,2,  36.0615,3, 141.2000,2,   143.0,2,   2.032,2,   1.103,2,  15.4683
06MT20050813,     415,       AR04,          1,         19,         19,2,20050825,       0000,     15.732,    -55.602,       5484,  1098.3,   5.4972,  34.9126,2,-999.0000,9, 169.1000,2,  -999.0,9,   0.137,2,   0.072,2,   5.4001
06MT20050813,     415,       AR04,          1,         18,         18,2,20050825,       0000,     15.732,    -55.602,       5484,  1459.4,   4.7143,  35.0160,2,  35.0096,3, 228.4000,2,  -999.0,9,   0.475,2,   0.238,2,   4.5898
06MT20050813,     415,       AR04,          1,         17,         17,2,20050825,       0000,     15.732,    -55.602,       5484,  1619.2,   4.3625,  35.0091,2,-999.0000,9, 243.5000,2,   242.0,2,   0.521,2,   0.262,2,   4.2268
06MT20050813,     415,       AR04,          1,         16,         16,2,20050825,       0000,     15.732,    -55.602,       5484,  1767.1,   4.0839,  34.9991,2,-999.0000,9, 249.7000,2,  -999.0,9,   0.443,2,   0.225,2,   3.9376
06MT20050813,     415,       AR04,          1,         15,         15,2,20050825,       0000,     15.732,    -55.602,       5484,  1908.1,   3.8650,  34.9938,2,-999.0000,9, 252.5000,2,   252.0,2,   0.322,2,   0.162,2,   3.7082
06MT20050813,     415,       AR04,          1,         14,         14,2,20050825,       0000,     15.732,    -55.602,       5484,  2104.1,   3.6013,  34.9863,2,-999.0000,9, 249.8000,2,  -999.0,9,   0.171,2,   0.082,2,   3.4296
06MT20050813,     415,       AR04,          1,         13,         13,2,20050825,       0000,     15.732,    -55.602,       5484,  2397.9,   3.1956,  34.9599,2,-999.0000,9, 256.5000,2,   256.7,2,-999.000,9,-999.000,9,   3.0021
06MT20050813,     415,       AR04,          1,         12,         12,2,20050825,       0000,     15.732,    -55.602,       5484,  2898.0,   2.8134,  34.9342,2,  34.9325,2, 260.1000,2,  -999.0,9,   0.312,2,   0.154,2,   2.5772
06MT20050813,     415,       AR04,          1,         11,         11,2,20050825,       0000,     15.732,    -55.602,       5484,  3407.9,   2.5534,  34.9147,2,-999.0000,9, 257.6000,2,   258.4,2,   0.201,2,   0.102,2,   2.2696
06MT20050813,     415,       AR04,          1,         10,         10,2,20050825,       0000,     15.732,    -55.602,       5484,  3712.5,   2.4371,  34.9058,2,-999.0000,9, 259.4000,2,  -999.0,9,-999.000,9,-999.000,9,   2.1229
06MT20050813,     415,       AR04,          1,          9,          9,2,20050825,       0000,     15.732,    -55.602,       5484,  3714.4,   2.4347,  34.9056,2,-999.0000,9, 259.5000,2,  -999.0,9,   0.197,2,   0.097,2,   2.1204
06MT20050813,     415,       AR04,          1,          8,          8,2,20050825,       0000,     15.732,    -55.602,       5484,  4005.1,   2.3390,  34.8956,2,-999.0000,9, 260.4000,2,   259.0,2,   0.180,2,   0.092,2,   1.9946
06MT20050813,     415,       AR04,          1,          7,          7,2,20050825,       0000,     15.732,    -55.602,       5484,  4197.9,   2.3096,  34.8946,2,  34.8969,2, 262.8000,2,  -999.0,9,   0.252,2,   0.128,2,   1.9438
06MT20050813,     415,       AR04,          1,          6,          6,2,20050825,       0000,     15.732,    -55.602,       5484,  4410.2,   2.2762,  34.8896,2,-999.0000,9, 261.7000,2,   260.6,2,   0.209,2,   0.111,2,   1.8865
06MT20050813,     415,       AR04,          1,          5,          5,2,20050825,       0000,     15.732,    -55.602,       5484,  4706.3,   2.1736,  34.8740,2,-999.0000,9, 257.0000,2,  -999.0,9,-999.000,9,-999.000,9,   1.7515
06MT20050813,     415,       AR04,          1,          4,          4,2,20050825,       0000,     15.732,    -55.602,       5484,  4898.8,   2.0473,  34.8560,2,-999.0000,9, 252.5000,2,   246.9,3,   0.100,2,   0.052,2,   1.6058
06MT20050813,     415,       AR04,          1,          3,          3,2,20050825,       0000,     15.732,    -55.602,       5484,  5198.8,   1.8987,  34.8336,2,-999.0000,9, 246.8000,2,  -999.0,9,   0.088,2,   0.046,2,   1.4249
06MT20050813,     415,       AR04,          1,          2,          2,2,20050825,       0000,     15.732,    -55.602,       5484,  5599.9,   1.9064,  34.8276,2,-999.0000,9, 244.5000,2,  -999.0,9,   0.084,2,   0.047,2,   1.3808
06MT20050813,     415,       AR04,          1,          1,          1,2,20050825,       0000,     15.732,    -55.602,       5484,  5601.4,   1.9062,  34.8282,2,  34.8292,2, 244.5000,2,   243.2,2,-999.000,9,-999.000,9,   1.3804