BOTTLE,20120828SIOCCHMYS
EXPOCODE,STNNBR,SECT_ID,CASTNO,SAMPNO,BTLNBR,BTLNBR_FLAG_W,DATE,TIME,LATITUDE,LONGITUDE,DEPTH,CTDPRS,CTDTMP,CTDSAL,CTDSAL_FLAG_W,SALNTY,SALNTY_FLAG_W,CTDOXY,CTDOXY_FLAG_W,OXYGEN,OXYGEN_FLAG_W,CFC-11,CFC-11_FLAG_W,CFC-12,CFC-12_FLAG_W,THETA
,,,,,,,,,,,,DBAR,ITS-90,PSS-78,,PSS-78,,UMOL/KG,,UMOL/KG,,PMOL/KG,,PMOL/KG,,DEG C
06MT20050813,     489,       AR04,          1,         13,         13,2,20050902,       0000,     13.535,    -60.309,       2000,    11.3,  29.9787,  33.4773,2,-999.0000,9, 198.6000,2,  -999.0,9,   1.498,2,   0.922,2,  29.9759
06MT20050813,     489,       AR04,          1,         14,         14,2,20050902,       0000,     13.535,    -60.309,       2000,    11.4,  29.9778,  33.4773,2,-999.0000,9, 198.6000,2,   195.0,2,-999.000,9,-999.000,9,  29.9750
06MT20050813,     489,       AR04,          1,         12,         12,2,20050902,       0000,     13.535,    -60.309,       2000,   202.1,  17.3872,  36.3053,2,-999.0000,9, 140.6000,2,   137.1,3,   2.071,2,   1.130,2,  17.3530
06MT20050813,     489,       AR04,          1,         11,         11,2,20050902,       0000,     13.535,    -60.309,       2000,   609.1,   7.1768,  34.7392,2,  34.7183,3, 121.8000,2,   123.6,2,   0.399,2,   0.219,2,   7.1175
06MT20050813,     489,       AR04,          1,         10,         10,2,20050902,       0000,     13.535,    -60.309,       2000,   998.4,   5.2801,  34.8234,2,-999.0000,9, 159.0000,2,  -999.0,9,-999.000,9,-999.000,9,   5.1943
06MT20050813,     489,       AR04,          1,          9,          9,2,20050902,       0000,     13.535,    -60.309,       2000,   999.7,   5.2796,  34.8250,2,-999.0000,9, 159.1000,2,  -999.0,9,   0.122,2,   0.067,2,   5.1937
06MT20050813,     489,       AR04,          1,          8,          8,2,20050902,       0000,     13.535,    -60.309,       2000,  1406.0,   4.4720,  35.0103,2,-999.0000,9, 242.1000,2,  -999.0,9,-999.000,9,-999.000,9,   4.3552
06MT20050813,     489,       AR04,          1,          7,          7,2,20050902,       0000,     13.535,    -60.309,       2000,  1408.1,   4.4650,  35.0100,2,-999.0000,9, 242.2000,2,  -999.0,9,-999.000,9,-999.000,9,   4.3481
06MT20050813,     489,       AR04,          1,          6,          6,2,20050902,       0000,     13.535,    -60.309,       2000,  1409.7,   4.4574,  35.0101,2,-999.0000,9, 242.4000,2,  -999.0,9,   0.879,2,   0.437,2,   4.3404
06MT20050813,     489,       AR04,          1,          5,          5,2,20050902,       0000,     13.535,    -60.309,       2000,  1748.2,   3.8708,  34.9851,2,-999.0000,9, 255.3000,2,  -999.0,9,-999.000,9,-999.000,9,   3.7292
06MT20050813,     489,       AR04,          1,          4,          4,2,20050902,       0000,     13.535,    -60.309,       2000,  1750.0,   3.8703,  34.9844,2,-999.0000,9, 255.3000,2,   254.4,2,   0.667,2,   0.334,2,   3.7285
06MT20050813,     489,       AR04,          1,          3,          3,2,20050902,       0000,     13.535,    -60.309,       2000,  1993.8,   3.7165,  34.9771,2,-999.0000,9, 255.7000,2,  -999.0,9,   0.658,2,   0.335,2,   3.5537
06MT20050813,     489,       AR04,          1,          1,          1,2,20050902,       0000,     13.535,    -60.309,       2000,  1993.8,   3.7165,  34.9771,2,  34.9775,2, 255.7000,2,   254.9,2,-999.000,9,-999.000,9,   3.5537
06MT20050813,     489,       AR04,          1,          2,          2,2,20050902,       0000,     13.535,    -60.309,       2000,  1993.8,   3.7165,  34.9771,2,-999.0000,9, 255.7000,2,  -999.0,9,-999.000,9,-999.000,9,   3.5537
06MT20050813,     490,       AR04,          1,         13,         13,2,20050902,       0000,     13.625,    -60.434,       1850,    11.4,  30.1044,  33.5596,2,-999.0000,9, 197.5000,2,  -999.0,9,-999.000,9,-999.000,9,  30.1016
06MT20050813,     490,       AR04,          1,         14,         14,2,20050902,       0000,     13.625,    -60.434,       1850,    11.5,  30.0919,  33.5569,2,-999.0000,9, 197.5000,2,   195.5,2,   1.483,2,   0.935,2,  30.0891
06MT20050813,     490,       AR04,          1,         12,         12,2,20050902,       0000,     13.625,    -60.434,       1850,   153.6,  20.8452,  36.8573,2,-999.0000,9, 160.5000,2,  -999.0,9,   2.102,2,   1.183,2,  20.8157
06MT20050813,     490,       AR04,          1,         11,         11,2,20050902,       0000,     13.625,    -60.434,       1850,   500.4,   8.4420,  34.8903,2,  34.8483,3, 118.2000,2,   118.5,6,   0.675,2,   0.358,2,   8.3888
06MT20050813,     490,       AR04,          1,         10,         10,2,20050902,       0000,     13.625,    -60.434,       1850,   806.8,   5.5454,  34.6539,2,-999.0000,9, 133.1000,2,  -999.0,9,-999.000,9,-999.000,9,   5.4758
06MT20050813,     490,       AR04,          1,          9,          9,2,20050902,       0000,     13.625,    -60.434,       1850,   807.0,   5.5403,  34.6536,2,-999.0000,9, 133.1000,2,   134.2,2,   0.093,2,   0.049,2,   5.4707
06MT20050813,     490,       AR04,          1,          8,          8,2,20050902,       0000,     13.625,    -60.434,       1850,  1200.3,   5.0457,  34.9906,2,-999.0000,9, 206.5000,2,  -999.0,9,   0.508,2,   0.259,2,   4.9426
06MT20050813,     490,       AR04,          1,          7,          7,2,20050902,       0000,     13.625,    -60.434,       1850,  1202.2,   5.0387,  34.9903,2,-999.0000,9, 207.0000,2,  -999.0,9,-999.000,9,-999.000,9,   4.9355
06MT20050813,     490,       AR04,          1,          6,          6,2,20050902,       0000,     13.625,    -60.434,       1850,  1494.5,   4.1257,  34.9940,2,-999.0000,9, 253.8000,2,  -999.0,9,-999.000,9,-999.000,9,   4.0045
06MT20050813,     490,       AR04,          1,          5,          5,2,20050902,       0000,     13.625,    -60.434,       1850,  1496.4,   4.1226,  34.9941,2,-999.0000,9, 253.9000,2,  -999.0,9,-999.000,9,-999.000,9,   4.0013
06MT20050813,     490,       AR04,          1,          4,          4,2,20050902,       0000,     13.625,    -60.434,       1850,  1498.3,   4.1195,  34.9932,2,-999.0000,9, 253.9000,2,   252.9,2,   1.099,2,   0.531,2,   3.9980
06MT20050813,     490,       AR04,          1,          3,          3,2,20050902,       0000,     13.625,    -60.434,       1850,  1835.6,   3.7016,  34.9717,2,-999.0000,9, 260.5000,2,  -999.0,9,   0.986,2,   0.470,2,   3.5541
06MT20050813,     490,       AR04,          1,          1,          1,2,20050902,       0000,     13.625,    -60.434,       1850,  1836.5,   3.7021,  34.9717,2,  34.9736,2, 260.5000,2,   252.6,3,-999.000,9,-999.000,9,   3.5545
06MT20050813,     490,       AR04,          1,          2,          2,2,20050902,       0000,     13.625,    -60.434,       1850,  1836.4,   3.7020,  34.9716,2,-999.0000,9, 260.5000,2,  -999.0,9,-999.000,9,-999.000,9,   3.5544
06MT20050813,     491,       AR04,          1,         13,         13,2,20050903,       0000,     13.708,    -60.568,       1396,    12.2,  30.0425,  33.5620,2,-999.0000,9, 197.5000,2,  -999.0,9,   1.500,2,   0.930,2,  30.0395
06MT20050813,     491,       AR04,          1,         14,         14,2,20050903,       0000,     13.708,    -60.568,       1396,    12.3,  30.0300,  33.5680,2,-999.0000,9, 197.5000,2,  -999.0,9,-999.000,9,-999.000,9,  30.0270
06MT20050813,     491,       AR04,          1,         12,         12,2,20050903,       0000,     13.708,    -60.568,       1396,   106.7,  25.1160,  36.9503,2,-999.0000,9, 187.1000,2,   181.9,2,   1.872,2,   1.095,2,  25.0926
06MT20050813,     491,       AR04,          1,         11,         11,2,20050903,       0000,     13.708,    -60.568,       1396,   404.0,  10.2164,  35.0984,2,-999.0000,9, 125.1000,2,  -999.0,9,   1.276,2,   0.664,2,  10.1683
06MT20050813,     491,       AR04,          1,          9,          9,2,20050903,       0000,     13.708,    -60.568,       1396,   595.0,   7.0239,  34.6982,2,  34.6827,3, 122.1000,2,   123.0,2,-999.000,9,-999.000,9,   6.9667
06MT20050813,     491,       AR04,          1,         10,         10,2,20050903,       0000,     13.708,    -60.568,       1396,   595.7,   7.0126,  34.6964,2,-999.0000,9, 122.1000,2,  -999.0,9,   0.450,2,   0.236,2,   6.9554
06MT20050813,     491,       AR04,          1,          8,          8,2,20050903,       0000,     13.708,    -60.568,       1396,   896.1,   5.0797,  34.7111,2,-999.0000,9, 146.2000,2,   148.1,2,   0.081,2,   0.044,2,   5.0049
06MT20050813,     491,       AR04,          1,          7,          7,2,20050903,       0000,     13.708,    -60.568,       1396,   898.5,   5.0837,  34.7156,2,-999.0000,9, 146.9000,2,  -999.0,9,-999.000,9,-999.000,9,   5.0086
06MT20050813,     491,       AR04,          1,          5,          5,2,20050903,       0000,     13.708,    -60.568,       1396,  1298.0,   4.4594,  35.0086,2,-999.0000,9, 242.0000,2,  -999.0,9,-999.000,9,-999.000,9,   4.3527
06MT20050813,     491,       AR04,          1,          6,          6,2,20050903,       0000,     13.708,    -60.568,       1396,  1294.4,   4.4704,  35.0087,2,-999.0000,9, 241.5000,2,  -999.0,9,-999.000,9,-999.000,9,   4.3639
06MT20050813,     491,       AR04,          1,          4,          4,2,20050903,       0000,     13.708,    -60.568,       1396,  1299.7,   4.4440,  35.0086,2,-999.0000,9, 242.3000,2,  -999.0,9,   0.928,2,   0.468,2,   4.3373
06MT20050813,     491,       AR04,          1,          3,          3,2,20050903,       0000,     13.708,    -60.568,       1396,  1390.0,   4.3230,  35.0021,2,-999.0000,9, 248.2000,2,  -999.0,9,   1.033,2,   0.503,2,   4.2093
06MT20050813,     491,       AR04,          1,          1,          1,2,20050903,       0000,     13.708,    -60.568,       1396,  1389.3,   4.3233,  35.0021,2,  35.0057,2, 248.2000,2,   244.7,2,-999.000,9,-999.000,9,   4.2096
06MT20050813,     491,       AR04,          1,          2,          2,2,20050903,       0000,     13.708,    -60.568,       1396,  1389.6,   4.3230,  35.0022,2,-999.0000,9, 248.2000,2,  -999.0,9,-999.000,9,-999.000,9,   4.2093
06MT20050813,     492,       AR04,          1,         12,         12,2,20050903,       0000,     13.809,    -60.692,        991,    11.0,  30.1012,  33.8160,2,-999.0000,9, 197.5000,2,  -999.0,9,   1.459,2,   0.907,2,  30.0985
06MT20050813,     492,       AR04,          1,         13,         13,2,20050903,       0000,     13.809,    -60.692,        991,    11.3,  30.0986,  33.8183,2,-999.0000,9, 197.5000,2,  -999.0,9,-999.000,9,-999.000,9,  30.0958
06MT20050813,     492,       AR04,          1,         11,         11,2,20050903,       0000,     13.809,    -60.692,        991,   201.4,  17.5125,  36.3931,2,-999.0000,9, 157.4000,2,   147.4,3,   2.027,2,   1.092,2,  17.4782
06MT20050813,     492,       AR04,          1,         10,         10,2,20050903,       0000,     13.809,    -60.692,        991,   350.0,  11.0143,  35.1941,2,-999.0000,9, 122.2000,2,  -999.0,9,-999.000,9,-999.000,9,  10.9707
06MT20050813,     492,       AR04,          1,          9,          9,2,20050903,       0000,     13.809,    -60.692,        991,   350.4,  11.0028,  35.1937,2,-999.0000,9, 122.2000,2,   125.4,2,   1.321,2,   0.712,2,  10.9592
06MT20050813,     492,       AR04,          1,          8,          8,2,20050903,       0000,     13.809,    -60.692,        991,   550.9,   8.2524,  34.8522,2,  34.7883,3, 120.0000,2,   122.1,2,   0.663,2,   0.344,2,   8.1945
06MT20050813,     492,       AR04,          1,          7,          7,2,20050903,       0000,     13.809,    -60.692,        991,   551.3,   8.2415,  34.8504,2,-999.0000,9, 120.0000,2,  -999.0,9,-999.000,9,-999.000,9,   8.1836
06MT20050813,     492,       AR04,          1,          6,          6,2,20050903,       0000,     13.809,    -60.692,        991,   553.2,   8.1919,  34.8458,2,-999.0000,9, 119.9000,2,  -999.0,9,-999.000,9,-999.000,9,   8.1340
06MT20050813,     492,       AR04,          1,          5,          5,2,20050903,       0000,     13.809,    -60.692,        991,   754.0,   5.9098,  34.6181,2,-999.0000,9, 127.7000,2,  -999.0,9,-999.000,9,-999.000,9,   5.8429
06MT20050813,     492,       AR04,          1,          4,          4,2,20050903,       0000,     13.809,    -60.692,        991,   757.3,   5.8834,  34.6205,2,-999.0000,9, 128.1000,2,  -999.0,9,   0.200,2,   0.103,2,   5.8164
06MT20050813,     492,       AR04,          1,          3,          3,2,20050903,       0000,     13.809,    -60.692,        991,   987.4,   5.1733,  34.8883,2,-999.0000,9, 175.3000,2,  -999.0,9,   0.151,2,   0.078,2,   5.0892
06MT20050813,     492,       AR04,          1,          1,          1,2,20050903,       0000,     13.809,    -60.692,        991,   986.6,   5.1726,  34.8886,2,  34.8858,2, 175.2000,2,   173.8,2,-999.000,9,-999.000,9,   5.0886
06MT20050813,     492,       AR04,          1,          2,          2,2,20050903,       0000,     13.809,    -60.692,        991,   986.9,   5.1727,  34.8884,2,-999.0000,9, 175.2000,2,  -999.0,9,-999.000,9,-999.000,9,   5.0887
06MT20050813,     493,       AR04,          2,          3,          3,2,20050903,       0000,     13.808,    -60.816,        582,    18.4,  29.9588,  33.8088,2,  33.8842,3, 198.0000,2,   210.7,3,-999.000,9,-999.000,9,  29.9543
06MT20050813,     493,       AR04,          2,          2,          2,2,20050903,       0000,     13.808,    -60.816,        582,   249.2,  13.7812,  35.6537,2,-999.0000,9, 130.2000,2,   134.1,2,-999.000,9,-999.000,9,  13.7453
06MT20050813,     493,       AR04,          2,          1,          1,2,20050903,       0000,     13.808,    -60.816,        582,   470.5,   9.0151,  34.9255,2,  34.9264,2, 119.2000,2,   118.6,2,-999.000,9,-999.000,9,   8.9632
06MT20050813,     504,       AR04,          1,         13,         13,2,20050904,       0000,     11.362,    -60.396,       1112,    10.1,  29.6220,  35.0137,2,-999.0000,9, 198.6000,2,   197.8,2,-999.000,9,-999.000,9,  29.6195
06MT20050813,     504,       AR04,          1,         12,         12,2,20050904,       0000,     11.362,    -60.396,       1112,    10.1,  29.6220,  35.0137,2,-999.0000,9, 198.6000,2,  -999.0,9,-999.000,9,-999.000,9,  29.6195
06MT20050813,     504,       AR04,          1,         11,         11,2,20050904,       0000,     11.362,    -60.396,       1112,   203.4,  16.4321,  36.0621,2,-999.0000,9, 127.7000,2,  -999.0,9,-999.000,9,-999.000,9,  16.3990
06MT20050813,     504,       AR04,          1,         10,         10,2,20050904,       0000,     11.362,    -60.396,       1112,   409.9,   9.1122,  34.9171,2,-999.0000,9, 119.3000,2,  -999.0,9,-999.000,9,-999.000,9,   9.0668
06MT20050813,     504,       AR04,          1,          9,          9,2,20050904,       0000,     11.362,    -60.396,       1112,   411.1,   9.1029,  34.9145,2,-999.0000,9, 119.2000,2,   121.2,2,-999.000,9,-999.000,9,   9.0574
06MT20050813,     504,       AR04,          1,          8,          8,2,20050904,       0000,     11.362,    -60.396,       1112,   633.7,   6.5343,  34.6750,2,  34.6521,3, 126.9000,2,   128.0,2,-999.000,9,-999.000,9,   6.4756
06MT20050813,     504,       AR04,          1,          7,          7,2,20050904,       0000,     11.362,    -60.396,       1112,   638.7,   6.5277,  34.6776,2,-999.0000,9, 126.4000,2,  -999.0,9,-999.000,9,-999.000,9,   6.4685
06MT20050813,     504,       AR04,          1,          6,          6,2,20050904,       0000,     11.362,    -60.396,       1112,   650.1,   6.4093,  34.6674,2,-999.0000,9, 126.3000,2,  -999.0,9,-999.000,9,-999.000,9,   6.3496
06MT20050813,     504,       AR04,          1,          5,          5,2,20050904,       0000,     11.362,    -60.396,       1112,   896.2,   5.2463,  34.7231,2,-999.0000,9, 148.0000,2,  -999.0,9,-999.000,9,-999.000,9,   5.1703
06MT20050813,     504,       AR04,          1,          4,          4,2,20050904,       0000,     11.362,    -60.396,       1112,   898.3,   5.2492,  34.7282,2,-999.0000,9, 148.1000,2,  -999.0,9,-999.000,9,-999.000,9,   5.1730
06MT20050813,     504,       AR04,          1,          3,          3,2,20050904,       0000,     11.362,    -60.396,       1112,  1109.4,   5.1377,  34.9330,2,-999.0000,9, 191.6000,2,  -999.0,9,-999.000,9,-999.000,9,   5.0425
06MT20050813,     504,       AR04,          1,          2,          2,2,20050904,       0000,     11.362,    -60.396,       1112,  1110.1,   5.1388,  34.9331,2,-999.0000,9, 191.7000,2,  -999.0,9,-999.000,9,-999.000,9,   5.0435
06MT20050813,     504,       AR04,          1,          1,          1,2,20050904,       0000,     11.362,    -60.396,       1112,  1110.2,   5.1389,  34.9328,2,  34.9295,2, 191.7000,2,   188.4,6,-999.000,9,-999.000,9,   5.0436
06MT20050813,     505,       AR04,          1,          5,          5,2,20050904,       0000,      11.51,    -60.466,        925,    12.6,  29.0189,  34.6923,2,-999.0000,9, 197.0000,2,  -999.0,9,-999.000,9,-999.000,9,  29.0159
06MT20050813,     505,       AR04,          1,          4,          4,2,20050904,       0000,      11.51,    -60.466,        925,    13.2,  29.0004,  34.7324,2,  35.0527,3, 196.2000,2,  -999.0,9,-999.000,9,-999.000,9,  28.9972
06MT20050813,     505,       AR04,          1,          3,          3,2,20050904,       0000,      11.51,    -60.466,        925,   313.1,  12.2526,  35.3832,2,-999.0000,9, 123.6000,2,   125.6,2,-999.000,9,-999.000,9,  12.2108
06MT20050813,     505,       AR04,          1,          2,          2,2,20050904,       0000,      11.51,    -60.466,        925,   702.4,   5.7275,  34.6384,2,-999.0000,9, 132.9000,2,   136.3,2,-999.000,9,-999.000,9,   5.6664
06MT20050813,     505,       AR04,          1,          1,          1,2,20050904,       0000,      11.51,    -60.466,        925,   916.3,   5.2105,  34.7558,2,  34.7543,2, 153.8000,2,   153.0,2,-999.000,9,-999.000,9,   5.1329
06MT20050813,     506,       AR04,          1,          5,          5,2,20050904,       0000,     11.676,    -60.525,       1162,    12.9,  29.4520,  34.8681,2,-999.0000,9, 201.7000,2,   196.9,2,-999.000,9,-999.000,9,  29.4488
06MT20050813,     506,       AR04,          1,          4,          4,2,20050904,       0000,     11.676,    -60.525,       1162,   203.2,  15.3043,  35.9269,2,-999.0000,9, 131.6000,2,   133.2,2,-999.000,9,-999.000,9,  15.2729
06MT20050813,     506,       AR04,          1,          3,          3,2,20050904,       0000,     11.676,    -60.525,       1162,   492.4,   7.7623,  34.8072,2,  34.7926,3, 122.2000,2,   122.1,2,-999.000,9,-999.000,9,   7.7125
06MT20050813,     506,       AR04,          1,          2,          2,2,20050904,       0000,     11.676,    -60.525,       1162,   799.8,   5.0799,  34.6208,2,-999.0000,9, 142.2000,2,   143.1,2,-999.000,9,-999.000,9,   5.0138
06MT20050813,     506,       AR04,          1,          1,          1,2,20050904,       0000,     11.676,    -60.525,       1162,  1146.2,   5.0725,  34.9638,2,  34.9596,2, 202.2000,2,   200.5,6,-999.000,9,-999.000,9,   4.9743