BOTTLE,20120828SIOCCHMYS
EXPOCODE,STNNBR,SECT_ID,CASTNO,SAMPNO,BTLNBR,BTLNBR_FLAG_W,DATE,TIME,LATITUDE,LONGITUDE,DEPTH,CTDPRS,CTDTMP,CTDSAL,CTDSAL_FLAG_W,SALNTY,SALNTY_FLAG_W,CTDOXY,CTDOXY_FLAG_W,OXYGEN,OXYGEN_FLAG_W,CFC-11,CFC-11_FLAG_W,CFC-12,CFC-12_FLAG_W,THETA
,,,,,,,,,,,,DBAR,ITS-90,PSS-78,,PSS-78,,UMOL/KG,,UMOL/KG,,PMOL/KG,,PMOL/KG,,DEG C
06MT20050813,     401,       AR04,          1,         22,         22,2,20050822,       0000,     15.241,    -51.334,       3998,    13.8,  28.9575,  36.1232,2,-999.0000,9, 205.5000,2,   211.7,3,   1.446,6,   0.938,6,  28.9542
06MT20050813,     401,       AR04,          1,         21,         21,2,20050822,       0000,     15.241,    -51.334,       3998,   192.9,  19.6341,  36.7487,2,  36.6877,3, 160.5000,2,  -999.0,9,   2.032,2,   1.209,2,  19.5985
06MT20050813,     401,       AR04,          1,         20,         20,2,20050822,       0000,     15.241,    -51.334,       3998,   389.9,  12.1585,  35.5433,2,-999.0000,9, 120.8000,2,   115.3,3,   1.122,2,   0.594,2,  12.1065
06MT20050813,     401,       AR04,          1,         19,         19,2,20050822,       0000,     15.241,    -51.334,       3998,   710.8,   6.4987,  34.7582,2,-999.0000,9, 127.6000,2,  -999.0,9,   0.145,2,   0.078,2,   6.4326
06MT20050813,     401,       AR04,          1,         18,         18,2,20050822,       0000,     15.241,    -51.334,       3998,  1007.8,   5.4247,  34.8080,2,-999.0000,9, 152.6000,2,  -999.0,9,-999.000,9,-999.000,9,   5.3369
06MT20050813,     401,       AR04,          1,         17,         17,2,20050822,       0000,     15.241,    -51.334,       3998,  1221.1,   5.1697,  34.9377,2,-999.0000,9, 183.9000,2,  -999.0,9,   0.130,2,   0.067,2,   5.0636
06MT20050813,     401,       AR04,          1,         16,         16,2,20050822,       0000,     15.241,    -51.334,       3998,  1316.4,   4.9915,  34.9765,2,-999.0000,9, 200.5000,2,   202.1,2,   0.166,2,   0.088,2,   4.8779
06MT20050813,     401,       AR04,          1,         15,         15,2,20050822,       0000,     15.241,    -51.334,       3998,  1429.1,   4.7736,  34.9966,2,  34.9917,2, 217.0000,2,  -999.0,9,   0.266,2,   0.137,2,   4.6514
06MT20050813,     401,       AR04,          1,         14,         14,2,20050822,       0000,     15.241,    -51.334,       3998,  1522.7,   4.6154,  35.0002,2,-999.0000,9, 223.9000,2,  -999.0,9,   0.290,2,   0.149,2,   4.4860
06MT20050813,     401,       AR04,          1,         13,         13,2,20050822,       0000,     15.241,    -51.334,       3998,  1607.2,   4.3408,  35.0035,2,-999.0000,9, 240.4000,2,  -999.0,9,   0.368,2,   0.188,2,   4.2065
06MT20050813,     401,       AR04,          1,         12,         12,2,20050822,       0000,     15.241,    -51.334,       3998,  1708.5,   4.1480,  34.9959,2,-999.0000,9, 242.0000,2,   235.6,3,   0.311,2,   0.156,2,   4.0065
06MT20050813,     401,       AR04,          1,         11,         11,2,20050822,       0000,     15.241,    -51.334,       3998,  1915.8,   3.7065,  34.9838,2,  34.9783,2, 252.3000,2,  -999.0,9,   0.225,2,   0.116,2,   3.5513
06MT20050813,     401,       AR04,          1,         10,         10,2,20050822,       0000,     15.241,    -51.334,       3998,  2131.2,   3.3879,  34.9698,2,-999.0000,9, 253.3000,2,  -999.0,9,   0.119,2,   0.061,2,   3.2170
06MT20050813,     401,       AR04,          1,          9,          9,2,20050822,       0000,     15.241,    -51.334,       3998,  2324.3,   3.1261,  34.9557,2,-999.0000,9, 254.1000,2,  -999.0,9,   0.076,2,   0.041,2,   2.9410
06MT20050813,     401,       AR04,          1,          8,          8,2,20050822,       0000,     15.241,    -51.334,       3998,  2528.1,   2.9815,  34.9455,2,-999.0000,9, 252.3000,2,   250.1,6,   0.045,2,   0.025,2,   2.7791
06MT20050813,     401,       AR04,          1,          7,          7,2,20050822,       0000,     15.241,    -51.334,       3998,  2739.5,   2.8700,  34.9377,2,-999.0000,9, 251.9000,2,  -999.0,9,   0.032,2,   0.017,2,   2.6487
06MT20050813,     401,       AR04,          1,          6,          6,2,20050822,       0000,     15.241,    -51.334,       3998,  3038.5,   2.7161,  34.9251,2,  34.9197,2, 251.0000,2,  -999.0,9,   0.027,2,   0.014,2,   2.4675
06MT20050813,     401,       AR04,          1,          5,          5,2,20050822,       0000,     15.241,    -51.334,       3998,  3345.4,   2.5825,  34.9152,2,-999.0000,9, 253.8000,2,  -999.0,9,   0.095,2,   0.046,2,   2.3047
06MT20050813,     401,       AR04,          1,          4,          4,2,20050822,       0000,     15.241,    -51.334,       3998,  3650.4,   2.4577,  34.9025,2,-999.0000,9, 253.4000,2,   235.8,4,   0.060,2,   0.033,2,   2.1499
06MT20050813,     401,       AR04,          1,          3,          3,2,20050822,       0000,     15.241,    -51.334,       3998,  3855.6,   2.4178,  34.8973,2,-999.0000,9, 254.1000,2,  -999.0,9,   0.073,2,   0.036,2,   2.0882
06MT20050813,     401,       AR04,          1,          2,          2,2,20050822,       0000,     15.241,    -51.334,       3998,  4021.3,   2.3317,  34.8885,2,-999.0000,9, 254.2000,2,  -999.0,9,   0.071,2,   0.037,2,   1.9857
06MT20050813,     401,       AR04,          1,          1,          1,2,20050822,       0000,     15.241,    -51.334,       3998,  4021.6,   2.3312,  34.8888,2,  34.8817,3, 254.2000,2,   251.5,2,-999.000,9,-999.000,9,   1.9852
06MT20050813,     402,       AR04,          1,         16,         16,2,20050822,       0000,     15.267,    -51.518,       5251,    12.8,  29.0920,  36.1410,2,-999.0000,9, 204.4000,2,   194.6,3,   1.453,2,   0.931,2,  29.0889
06MT20050813,     402,       AR04,          1,         15,         15,2,20050822,       0000,     15.267,    -51.518,       5251,    98.9,  25.7405,  37.0253,2,  37.1326,3, 212.4000,2,   190.6,3,   1.759,2,   1.110,2,  25.7184
06MT20050813,     402,       AR04,          1,         14,         14,2,20050822,       0000,     15.267,    -51.518,       5251,   913.6,   5.5312,  34.7448,2,  34.7578,3, 140.1000,2,  -999.0,9,   0.046,2,   0.021,2,   5.4516
06MT20050813,     402,       AR04,          1,         13,         13,2,20050822,       0000,     15.267,    -51.518,       5251,  1445.1,   4.6745,  34.9936,2,-999.0000,9, 213.3000,2,   231.9,3,   0.208,2,   0.108,2,   4.5519
06MT20050813,     402,       AR04,          1,         12,         12,2,20050822,       0000,     15.267,    -51.518,       5251,  1644.7,   4.2090,  34.9978,2,  34.9972,2, 236.3000,2,  -999.0,9,-999.000,9,-999.000,9,   4.0728
06MT20050813,     402,       AR04,          1,         11,         11,2,20050822,       0000,     15.267,    -51.518,       5251,  2025.6,   3.6082,  34.9793,2,-999.0000,9, 247.6000,2,   250.5,6,   0.131,2,   0.065,2,   3.4440
06MT20050813,     402,       AR04,          1,         10,         10,2,20050822,       0000,     15.267,    -51.518,       5251,  2397.8,   3.1238,  34.9537,2,-999.0000,9, 248.4000,2,  -999.0,9,-999.000,9,-999.000,9,   2.9316
06MT20050813,     402,       AR04,          1,          9,          9,2,20050822,       0000,     15.267,    -51.518,       5251,  2798.1,   2.8180,  34.9335,2,  34.9779,3, 246.7000,2,   253.5,2,   0.027,2,   0.013,2,   2.5918
06MT20050813,     402,       AR04,          1,          8,          8,2,20050822,       0000,     15.267,    -51.518,       5251,  3198.6,   2.6747,  34.9208,2,-999.0000,9, 246.4000,2,   248.5,6,   0.026,2,   0.013,2,   2.4103
06MT20050813,     402,       AR04,          1,          7,          7,2,20050822,       0000,     15.267,    -51.518,       5251,  3518.9,   2.5550,  34.9135,2,-999.0000,9, 253.5000,2,  -999.0,9,   0.173,2,   0.090,2,   2.2591
06MT20050813,     402,       AR04,          1,          6,          6,2,20050822,       0000,     15.267,    -51.518,       5251,  3895.0,   2.3511,  34.8932,2,  34.8864,3, 251.4000,2,  -999.0,9,   0.075,2,   0.043,2,   2.0189
06MT20050813,     402,       AR04,          1,          5,          5,2,20050822,       0000,     15.267,    -51.518,       5251,  4198.7,   2.2158,  34.8831,2,-999.0000,9, 255.0000,2,   256.1,2,   0.150,2,   0.086,2,   1.8527
06MT20050813,     402,       AR04,          1,          4,          4,2,20050822,       0000,     15.267,    -51.518,       5251,  4583.2,   2.0227,  34.8560,2,-999.0000,9, 249.5000,2,  -999.0,9,   0.103,2,   0.058,2,   1.6204
06MT20050813,     402,       AR04,          1,          3,          3,2,20050822,       0000,     15.267,    -51.518,       5251,  4995.8,   1.9154,  34.8378,2,-999.0000,9, 246.0000,2,   244.5,2,   0.090,2,   0.051,2,   1.4664
06MT20050813,     402,       AR04,          1,          2,          2,2,20050822,       0000,     15.267,    -51.518,       5251,  5365.8,   1.9338,  34.8340,2,-999.0000,9, 244.8000,2,  -999.0,9,   0.089,2,   0.051,2,   1.4375
06MT20050813,     402,       AR04,          1,          1,          1,2,20050822,       0000,     15.267,    -51.518,       5251,  5365.8,   1.9340,  34.8343,2,  35.1667,3, 244.8000,2,   246.7,2,-999.000,9,-999.000,9,   1.4377
06MT20050813,     403,       AR04,          1,         18,         18,2,20050823,       0000,     15.284,    -51.699,       5421,   500.0,   9.2157,  35.0865,2,  36.7706,3,  98.8000,2,   215.8,4,   1.610,4,   1.030,4,   9.1596
06MT20050813,     403,       AR04,          1,         17,         17,2,20050823,       0000,     15.284,    -51.699,       5421,  1104.3,   5.2989,  34.8761,2,-999.0000,9, 154.6000,2,  -999.0,9,   0.067,2,   0.034,2,   5.2029
06MT20050813,     403,       AR04,          1,         16,         16,2,20050823,       0000,     15.284,    -51.699,       5421,  1340.0,   4.9177,  34.9776,2,-999.0000,9, 195.3000,2,   202.4,2,   0.159,2,   0.087,2,   4.8026
06MT20050813,     403,       AR04,          1,         15,         15,2,20050823,       0000,     15.284,    -51.699,       5421,  1562.7,   4.4496,  35.0017,2,  35.0057,2, 228.7000,2,  -999.0,9,   0.442,2,   0.222,2,   4.3183
06MT20050813,     403,       AR04,          1,         14,         14,2,20050823,       0000,     15.284,    -51.699,       5421,  1794.1,   3.8672,  34.9871,2,-999.0000,9, 250.6000,2,  -999.0,9,   0.366,2,   0.190,2,   3.7213
06MT20050813,     403,       AR04,          1,         13,         13,2,20050823,       0000,     15.284,    -51.699,       5421,  1951.5,   3.6204,  34.9795,2,-999.0000,9, 250.4000,2,  -999.0,9,   0.180,2,   0.096,2,   3.4631
06MT20050813,     403,       AR04,          1,         12,         12,2,20050823,       0000,     15.284,    -51.699,       5421,  2223.0,   3.2733,  34.9636,2,  34.9598,2, 252.6000,2,  -999.0,9,   0.089,2,   0.048,2,   3.0954
06MT20050813,     403,       AR04,          1,         11,         11,2,20050823,       0000,     15.284,    -51.699,       5421,  2657.1,   2.9386,  34.9424,2,-999.0000,9, 249.5000,2,   248.5,2,   0.062,2,   0.034,2,   2.7242
06MT20050813,     403,       AR04,          1,         10,         10,2,20050823,       0000,     15.284,    -51.699,       5421,  2657.4,   2.9369,  34.9421,2,-999.0000,9, 249.5000,2,  -999.0,9,-999.000,9,-999.000,9,   2.7225
06MT20050813,     403,       AR04,          1,          9,          9,2,20050823,       0000,     15.284,    -51.699,       5421,  3166.5,   2.6846,  34.9224,2,  34.9216,2, 248.0000,2,  -999.0,9,   0.040,2,   0.020,2,   2.4233
06MT20050813,     403,       AR04,          1,          8,          8,2,20050823,       0000,     15.284,    -51.699,       5421,  3453.1,   2.5665,  34.9125,2,-999.0000,9, 250.3000,2,   251.9,2,   0.088,2,   0.044,2,   2.2775
06MT20050813,     403,       AR04,          1,          7,          7,2,20050823,       0000,     15.284,    -51.699,       5421,  3768.2,   2.4355,  34.9010,2,-999.0000,9, 252.7000,2,  -999.0,9,   0.123,2,   0.066,2,   2.1152
06MT20050813,     403,       AR04,          1,          6,          6,2,20050823,       0000,     15.284,    -51.699,       5421,  4061.3,   2.2885,  34.8855,2,-999.0000,9, 251.3000,2,   246.2,3,   0.076,2,   0.040,2,   1.9392
06MT20050813,     403,       AR04,          1,          5,          5,2,20050823,       0000,     15.284,    -51.699,       5421,  4470.5,   2.1199,  34.8686,2,  34.8666,2, 252.9000,2,  -999.0,9,   0.118,2,   0.063,2,   1.7279
06MT20050813,     403,       AR04,          1,          4,          4,2,20050823,       0000,     15.284,    -51.699,       5421,  4882.0,   1.8968,  34.8372,2,-999.0000,9, 245.9000,2,   247.0,2,   0.089,2,   0.051,2,   1.4625
06MT20050813,     403,       AR04,          1,          3,          3,2,20050823,       0000,     15.284,    -51.699,       5421,  5292.4,   1.9212,  34.8336,2,-999.0000,9, 245.3000,2,  -999.0,9,   0.089,2,   0.047,2,   1.4348
06MT20050813,     403,       AR04,          1,          2,          2,2,20050823,       0000,     15.284,    -51.699,       5421,  5527.1,   1.9359,  34.8319,2,-999.0000,9, 244.8000,2,  -999.0,9,   0.089,2,   0.049,2,   1.4187
06MT20050813,     403,       AR04,          1,          1,          1,2,20050823,       0000,     15.284,    -51.699,       5421,  5527.3,   1.9360,  34.8315,2,  34.8306,2, 244.8000,2,   243.6,2,-999.000,9,-999.000,9,   1.4188
06MT20050813,     404,       AR04,          1,         19,         19,2,20050823,       0000,     15.317,    -52.067,       4960,    39.8,  28.9364,  36.1639,2,  36.1470,3, 195.9000,2,   198.2,2,   1.426,2,   0.926,2,  28.9268
06MT20050813,     404,       AR04,          1,         18,         18,2,20050823,       0000,     15.317,    -52.067,       4960,   100.5,  25.8456,  37.0836,2,-999.0000,9, 208.8000,2,  -999.0,9,   1.528,2,   1.058,2,  25.8231
06MT20050813,     404,       AR04,          1,         17,         17,2,20050823,       0000,     15.317,    -52.067,       4960,   808.7,   5.9484,  34.7421,2,-999.0000,9, 125.3000,2,   125.2,2,   0.069,2,   0.040,2,   5.8760
06MT20050813,     404,       AR04,          1,         16,         16,2,20050823,       0000,     15.317,    -52.067,       4960,  1249.0,   5.1776,  34.9562,2,  34.9602,2, 185.9000,2,  -999.0,9,   0.160,2,   0.083,2,   5.0687
06MT20050813,     404,       AR04,          1,         15,         15,2,20050823,       0000,     15.317,    -52.067,       4960,  1392.3,   4.7933,  34.9924,2,-999.0000,9, 210.3000,2,  -999.0,9,   0.204,2,   0.103,2,   4.6745
06MT20050813,     404,       AR04,          1,         14,         14,2,20050823,       0000,     15.317,    -52.067,       4960,  1590.7,   4.3671,  35.0019,2,-999.0000,9, 237.5000,2,   236.3,2,   0.372,2,   0.184,2,   4.2341
06MT20050813,     404,       AR04,          1,         13,         13,2,20050823,       0000,     15.317,    -52.067,       4960,  1736.1,   3.9698,  34.9912,2,  34.9846,3, 253.2000,2,  -999.0,9,   0.500,2,   0.253,2,   3.8280
06MT20050813,     404,       AR04,          1,         12,         12,2,20050823,       0000,     15.317,    -52.067,       4960,  1835.5,   3.8088,  34.9859,2,-999.0000,9, 253.6000,2,  -999.0,9,   0.303,2,   0.157,2,   3.6598
06MT20050813,     404,       AR04,          1,         11,         11,2,20050823,       0000,     15.317,    -52.067,       4960,  2023.2,   3.5056,  34.9741,2,-999.0000,9, 253.1000,2,   250.8,2,   0.147,2,   0.075,2,   3.3432
06MT20050813,     404,       AR04,          1,         10,         10,2,20050823,       0000,     15.317,    -52.067,       4960,  2288.1,   3.2151,  34.9587,2,-999.0000,9, 253.5000,2,  -999.0,9,-999.000,9,-999.000,9,   3.0319
06MT20050813,     404,       AR04,          1,          9,          9,2,20050823,       0000,     15.317,    -52.067,       4960,  2699.6,   2.9117,  34.9395,2,-999.0000,9, 251.2000,2,  -999.0,9,   0.043,2,   0.023,2,   2.6936
06MT20050813,     404,       AR04,          1,          8,          8,2,20050823,       0000,     15.317,    -52.067,       4960,  2998.6,   2.7393,  34.9265,2,-999.0000,9, 250.5000,2,   250.8,2,   0.052,2,   0.027,2,   2.4943
06MT20050813,     404,       AR04,          1,          7,          7,2,20050823,       0000,     15.317,    -52.067,       4960,  3298.4,   2.5999,  34.9168,2,-999.0000,9, 253.9000,2,  -999.0,9,   0.108,2,   0.059,2,   2.3267
06MT20050813,     404,       AR04,          1,          6,          6,2,20050823,       0000,     15.317,    -52.067,       4960,  3598.7,   2.4844,  34.9077,2,-999.0000,9, 257.8000,2,   250.7,3,   0.196,2,   0.101,2,   2.1816
06MT20050813,     404,       AR04,          1,          5,          5,2,20050823,       0000,     15.317,    -52.067,       4960,  3898.9,   2.3716,  34.8998,2,  34.8976,2, 260.7000,2,  -999.0,9,   0.206,2,   0.110,2,   2.0384
06MT20050813,     404,       AR04,          1,          4,          4,2,20050823,       0000,     15.317,    -52.067,       4960,  4293.6,   2.2715,  34.8892,2,-999.0000,9, 261.3000,2,   259.7,2,   0.222,2,   0.113,2,   1.8957
06MT20050813,     404,       AR04,          1,          3,          3,2,20050823,       0000,     15.317,    -52.067,       4960,  4699.8,   2.0332,  34.8564,2,-999.0000,9, 253.4000,2,  -999.0,9,   0.109,2,   0.058,2,   1.6165
06MT20050813,     404,       AR04,          1,          2,          2,2,20050823,       0000,     15.317,    -52.067,       4960,  5048.0,   1.9006,  34.8350,2,-999.0000,9, 247.0000,2,  -999.0,9,   0.094,2,   0.048,2,   1.4457
06MT20050813,     404,       AR04,          1,          1,          1,2,20050823,       0000,     15.317,    -52.067,       4960,  5048.3,   1.9004,  34.8350,2,  34.8347,2, 247.0000,2,   245.1,2,-999.000,9,-999.000,9,   1.4455