BOTTLE,20120828SIOCCHMYS
EXPOCODE,STNNBR,SECT_ID,CASTNO,SAMPNO,BTLNBR,BTLNBR_FLAG_W,DATE,TIME,LATITUDE,LONGITUDE,DEPTH,CTDPRS,CTDTMP,CTDSAL,CTDSAL_FLAG_W,SALNTY,SALNTY_FLAG_W,CTDOXY,CTDOXY_FLAG_W,OXYGEN,OXYGEN_FLAG_W,CFC-11,CFC-11_FLAG_W,CFC-12,CFC-12_FLAG_W,THETA
,,,,,,,,,,,,DBAR,ITS-90,PSS-78,,PSS-78,,UMOL/KG,,UMOL/KG,,PMOL/KG,,PMOL/KG,,DEG C
06MT20050813,     520,       AR04,          1,          8,          8,2,20050905,       0000,     13.513,    -61.006,        351,    11.4,  30.0618,  34.1491,2,  34.1351,3, 199.9000,2,   197.0,6,   1.434,6,   0.917,6,  30.0590
06MT20050813,     520,       AR04,          1,          7,          7,2,20050905,       0000,     13.513,    -61.006,        351,    11.4,  30.0618,  34.1491,2,-999.0000,9, 199.9000,2,  -999.0,9,-999.000,9,-999.000,9,  30.0590
06MT20050813,     520,       AR04,          1,          6,          6,2,20050905,       0000,     13.513,    -61.006,        351,   143.7,  18.4328,  36.5216,2,-999.0000,9, 158.1000,2,  -999.0,9,-999.000,9,-999.000,9,  18.4075
06MT20050813,     520,       AR04,          1,          5,          5,2,20050905,       0000,     13.513,    -61.006,        351,   149.1,  18.3143,  36.4963,2,-999.0000,9, 157.4000,2,  -999.0,9,-999.000,9,-999.000,9,  18.2882
06MT20050813,     520,       AR04,          1,          4,          4,2,20050905,       0000,     13.513,    -61.006,        351,   151.5,  18.3033,  36.4955,2,-999.0000,9, 157.3000,2,   155.4,2,   2.112,2,   1.190,2,  18.2767
06MT20050813,     520,       AR04,          1,          3,          3,2,20050905,       0000,     13.513,    -61.006,        351,   349.8,  11.3294,  35.2873,2,-999.0000,9, 123.3000,2,  -999.0,9,   1.460,2,   0.788,2,  11.2850
06MT20050813,     520,       AR04,          1,          2,          2,2,20050905,       0000,     13.513,    -61.006,        351,   349.7,  11.3299,  35.2957,2,-999.0000,9, 123.3000,2,  -999.0,9,-999.000,9,-999.000,9,  11.2855
06MT20050813,     520,       AR04,          1,          1,          1,2,20050905,       0000,     13.513,    -61.006,        351,   349.5,  11.3534,  35.2919,2,  35.3155,3, 123.4000,2,   126.7,2,-999.000,9,-999.000,9,  11.3090
06MT20050813,     521,       AR04,          1,          8,          8,2,20050905,       0000,     13.551,    -60.981,        333,     8.9,  30.1590,  34.1953,2,-999.0000,9, 200.1000,2,  -999.0,9,   1.465,2,   0.931,2,  30.1568
06MT20050813,     521,       AR04,          1,          7,          7,2,20050905,       0000,     13.551,    -60.981,        333,     8.9,  30.1590,  34.1953,2,-999.0000,9, 200.1000,2,  -999.0,9,-999.000,9,-999.000,9,  30.1568
06MT20050813,     521,       AR04,          1,          6,          6,2,20050905,       0000,     13.551,    -60.981,        333,   191.4,  13.3047,  35.6427,2,-999.0000,9, 136.6000,2,  -999.0,9,-999.000,9,-999.000,9,  13.2778
06MT20050813,     521,       AR04,          1,          5,          5,2,20050905,       0000,     13.551,    -60.981,        333,   191.7,  13.2697,  35.6362,2,-999.0000,9, 136.5000,2,  -999.0,9,-999.000,9,-999.000,9,  13.2428
06MT20050813,     521,       AR04,          1,          4,          4,2,20050905,       0000,     13.551,    -60.981,        333,   193.0,  13.2417,  35.6347,2,-999.0000,9, 136.3000,2,   131.6,2,   1.652,2,   0.886,2,  13.2147
06MT20050813,     521,       AR04,          1,          3,          3,2,20050905,       0000,     13.551,    -60.981,        333,   324.9,  10.0499,  35.0840,2,-999.0000,9, 122.6000,2,  -999.0,9,   1.220,2,   0.648,2,  10.0118
06MT20050813,     521,       AR04,          1,          2,          2,2,20050905,       0000,     13.551,    -60.981,        333,   324.8,  10.0560,  35.0889,2,-999.0000,9, 122.6000,2,  -999.0,9,-999.000,9,-999.000,9,  10.0179
06MT20050813,     521,       AR04,          1,          1,          1,2,20050905,       0000,     13.551,    -60.981,        333,   324.9,  10.0499,  35.0840,2,  35.0850,2, 122.6000,2,   124.4,2,-999.000,9,-999.000,9,  10.0118
06MT20050813,     522,       AR04,          1,          3,          3,2,20050905,       0000,     13.613,    -60.934,        373,    13.0,  30.1383,  34.1581,2,  34.7529,3, 205.4000,2,   198.2,2,-999.000,9,-999.000,9,  30.1351
06MT20050813,     522,       AR04,          1,          2,          2,2,20050905,       0000,     13.613,    -60.934,        373,   104.1,  25.5332,  36.9372,2,-999.0000,9, 186.9000,2,   178.6,3,-999.000,9,-999.000,9,  25.5101
06MT20050813,     522,       AR04,          1,          1,          1,2,20050905,       0000,     13.613,    -60.934,        373,   361.5,   9.4161,  35.0031,2,  35.0033,2, 122.4000,2,   125.3,6,-999.000,9,-999.000,9,   9.3753
06MT20050813,     531,       AR04,          1,          3,          3,2,20050906,       0000,      14.18,    -60.902,        415,    12.7,  29.9894,  34.0354,2,  34.5183,3, 197.2000,2,  -999.0,9,-999.000,9,-999.000,9,  29.9863
06MT20050813,     531,       AR04,          1,          2,          2,2,20050906,       0000,      14.18,    -60.902,        415,   206.3,  17.1869,  36.2329,2,-999.0000,9, 143.7000,2,   148.7,3,-999.000,9,-999.000,9,  17.1523
06MT20050813,     531,       AR04,          1,          1,          1,2,20050906,       0000,      14.18,    -60.902,        415,   421.9,  10.0995,  35.0978,2,  35.0992,2, 120.8000,2,   123.5,2,-999.000,9,-999.000,9,  10.0496
06MT20050813,     532,       AR04,          1,         10,         10,2,20050906,       0000,     14.218,    -60.896,        780,     9.8,  30.0782,  34.0576,2,-999.0000,9, 198.1000,2,  -999.0,9,   1.451,2,   0.935,2,  30.0758
06MT20050813,     532,       AR04,          1,         11,         11,2,20050906,       0000,     14.218,    -60.896,        780,     9.9,  30.0748,  34.0730,2,-999.0000,9, 198.1000,2,   197.8,2,   1.445,2,   0.927,2,  30.0723
06MT20050813,     532,       AR04,          1,          9,          9,2,20050906,       0000,     14.218,    -60.896,        780,   106.4,  25.5773,  36.9374,2,  36.9165,3, 186.9000,2,  -999.0,9,   1.777,2,   1.100,2,  25.5537
06MT20050813,     532,       AR04,          1,          8,          8,2,20050906,       0000,     14.218,    -60.896,        780,   405.0,  11.2918,  35.2621,2,-999.0000,9, 121.8000,2,   124.4,2,   1.372,2,   0.750,2,  11.2404
06MT20050813,     532,       AR04,          1,          7,          7,2,20050906,       0000,     14.218,    -60.896,        780,   411.6,  11.2247,  35.2515,2,-999.0000,9, 121.7000,2,  -999.0,9,-999.000,9,-999.000,9,  11.1726
06MT20050813,     532,       AR04,          1,          6,          6,2,20050906,       0000,     14.218,    -60.896,        780,   416.4,  11.1874,  35.2456,2,-999.0000,9, 121.6000,2,  -999.0,9,-999.000,9,-999.000,9,  11.1348
06MT20050813,     532,       AR04,          1,          5,          5,2,20050906,       0000,     14.218,    -60.896,        780,   596.1,   7.6161,  34.7896,2,-999.0000,9, 122.2000,2,  -999.0,9,-999.000,9,-999.000,9,   7.5561
06MT20050813,     532,       AR04,          1,          4,          4,2,20050906,       0000,     14.218,    -60.896,        780,   598.7,   7.6133,  34.7886,2,-999.0000,9, 122.2000,2,  -999.0,9,   0.600,2,   0.330,2,   7.5530
06MT20050813,     532,       AR04,          1,          3,          3,2,20050906,       0000,     14.218,    -60.896,        780,   772.0,   6.9853,  34.7685,2,-999.0000,9, 127.2000,2,  -999.0,9,   0.354,2,   0.201,2,   6.9103
06MT20050813,     532,       AR04,          1,          1,          1,2,20050906,       0000,     14.218,    -60.896,        780,   774.1,   6.8890,  34.7687,2,  34.7678,2, 128.2000,2,   128.7,2,-999.000,9,-999.000,9,   6.8144
06MT20050813,     532,       AR04,          1,          2,          2,2,20050906,       0000,     14.218,    -60.896,        780,   773.9,   6.9149,  34.7706,2,-999.0000,9, 128.1000,2,  -999.0,9,-999.000,9,-999.000,9,   6.8402
06MT20050813,     533,       AR04,          1,         10,         10,2,20050906,       0000,     14.262,    -60.888,        902,    21.0,  30.1676,  33.9356,2,-999.0000,9, 197.8000,2,  -999.0,9,   1.469,2,   0.934,2,  30.1624
06MT20050813,     533,       AR04,          1,         11,         11,2,20050906,       0000,     14.262,    -60.888,        902,    21.5,  30.1619,  33.9441,2,-999.0000,9, 198.0000,2,  -999.0,9,-999.000,9,-999.000,9,  30.1566
06MT20050813,     533,       AR04,          1,          9,          9,2,20050906,       0000,     14.262,    -60.888,        902,   206.8,  16.8284,  36.1784,2,-999.0000,9, 140.3000,2,   139.2,2,   1.979,2,   1.127,2,  16.7942
06MT20050813,     533,       AR04,          1,          8,          8,2,20050906,       0000,     14.262,    -60.888,        902,   496.2,   8.9724,  34.9374,2,  34.9452,2, 119.7000,2,   122.3,2,   0.910,2,   0.486,2,   8.9177
06MT20050813,     533,       AR04,          1,          7,          7,2,20050906,       0000,     14.262,    -60.888,        902,   496.3,   8.9715,  34.9366,2,-999.0000,9, 119.7000,2,  -999.0,9,-999.000,9,-999.000,9,   8.9168
06MT20050813,     533,       AR04,          1,          6,          6,2,20050906,       0000,     14.262,    -60.888,        902,   496.3,   8.9654,  34.9373,2,-999.0000,9, 119.7000,2,  -999.0,9,-999.000,9,-999.000,9,   8.9107
06MT20050813,     533,       AR04,          1,          5,          5,2,20050906,       0000,     14.262,    -60.888,        902,   701.6,   8.0678,  34.8820,2,-999.0000,9, 120.8000,2,  -999.0,9,-999.000,9,-999.000,9,   7.9943
06MT20050813,     533,       AR04,          1,          4,          4,2,20050906,       0000,     14.262,    -60.888,        902,   701.8,   8.0492,  34.8712,2,-999.0000,9, 120.8000,2,  -999.0,9,   0.557,2,   0.302,2,   7.9757
06MT20050813,     533,       AR04,          1,          3,          3,2,20050906,       0000,     14.262,    -60.888,        902,   904.5,   5.6914,  34.8101,2,-999.0000,9, 150.4000,2,  -999.0,9,   0.146,2,   0.088,2,   5.6115
06MT20050813,     533,       AR04,          1,          1,          1,2,20050906,       0000,     14.262,    -60.888,        902,   904.1,   5.6962,  34.8064,2,  34.8058,2, 150.4000,2,   149.6,2,-999.000,9,-999.000,9,   5.6163
06MT20050813,     533,       AR04,          1,          2,          2,2,20050906,       0000,     14.262,    -60.888,        902,   904.4,   5.6930,  34.8119,2,-999.0000,9, 150.4000,2,  -999.0,9,-999.000,9,-999.000,9,   5.6131
06MT20050813,     534,       AR04,          1,         12,         12,2,20050906,       0000,     14.316,    -60.879,        878,    12.8,  30.1700,  33.8449,2,-999.0000,9, 199.0000,2,   195.5,2,-999.000,9,-999.000,9,  30.1668
06MT20050813,     534,       AR04,          1,         11,         11,2,20050906,       0000,     14.316,    -60.879,        878,    12.8,  30.1685,  33.8446,2,-999.0000,9, 199.0000,2,  -999.0,9,   1.487,2,   0.939,2,  30.1653
06MT20050813,     534,       AR04,          1,         10,         10,2,20050906,       0000,     14.316,    -60.879,        878,   249.3,  15.4921,  35.9699,2,-999.0000,9, 135.6000,2,  -999.0,9,-999.000,9,-999.000,9,  15.4531
06MT20050813,     534,       AR04,          1,          9,          9,2,20050906,       0000,     14.316,    -60.879,        878,   256.1,  15.3520,  35.9468,2,-999.0000,9, 136.0000,2,  -999.0,9,   1.908,2,   1.047,2,  15.3122
06MT20050813,     534,       AR04,          1,          8,          8,2,20050906,       0000,     14.316,    -60.879,        878,   448.5,   9.1192,  34.9660,2,-999.0000,9, 119.7000,2,   122.2,2,   0.970,2,   0.510,2,   9.0694
06MT20050813,     534,       AR04,          1,          7,          7,2,20050906,       0000,     14.316,    -60.879,        878,   452.8,   9.1335,  34.9695,2,-999.0000,9, 119.7000,2,  -999.0,9,-999.000,9,-999.000,9,   9.0831
06MT20050813,     534,       AR04,          1,          5,          5,2,20050906,       0000,     14.316,    -60.879,        878,   657.2,   7.2204,  34.7860,2,-999.0000,9, 124.3000,2,  -999.0,9,-999.000,9,-999.000,9,   7.1559
06MT20050813,     534,       AR04,          1,          6,          6,2,20050906,       0000,     14.316,    -60.879,        878,   657.3,   7.2113,  34.7868,2,-999.0000,9, 124.3000,2,  -999.0,9,-999.000,9,-999.000,9,   7.1469
06MT20050813,     534,       AR04,          1,          4,          4,2,20050906,       0000,     14.316,    -60.879,        878,   657.3,   7.2059,  34.7874,2,  34.7789,2, 124.3000,2,  -999.0,9,   0.463,2,   0.260,2,   7.1415
06MT20050813,     534,       AR04,          1,          3,          3,2,20050906,       0000,     14.316,    -60.879,        878,   846.3,   6.7096,  34.7824,2,-999.0000,9, 130.6000,2,  -999.0,9,   0.308,2,   0.173,2,   6.6287
06MT20050813,     534,       AR04,          1,          2,          2,2,20050906,       0000,     14.316,    -60.879,        878,   846.0,   6.7000,  34.7833,2,-999.0000,9, 130.6000,2,  -999.0,9,-999.000,9,-999.000,9,   6.6192
06MT20050813,     534,       AR04,          1,          1,          1,2,20050906,       0000,     14.316,    -60.879,        878,   846.2,   6.6949,  34.7822,2,  34.7891,2, 130.6000,2,   131.9,2,-999.000,9,-999.000,9,   6.6141
06MT20050813,     535,       AR04,          1,          8,          8,2,20050906,       0000,     14.362,    -60.873,        329,     8.6,  30.2056,  33.8193,2,-999.0000,9, 199.1000,2,  -999.0,9,-999.000,9,-999.000,9,  30.2035
06MT20050813,     535,       AR04,          1,          9,          9,2,20050906,       0000,     14.362,    -60.873,        329,     9.6,  30.2110,  33.8146,2,  33.7904,3, 199.2000,2,   194.3,6,   1.462,6,   0.936,6,  30.2086
06MT20050813,     535,       AR04,          1,          7,          7,2,20050906,       0000,     14.362,    -60.873,        329,     9.6,  30.2110,  33.8146,2,-999.0000,9, 199.2000,2,  -999.0,9,-999.000,9,-999.000,9,  30.2086
06MT20050813,     535,       AR04,          1,          6,          6,2,20050906,       0000,     14.362,    -60.873,        329,   145.5,  22.8152,  36.9542,2,-999.0000,9, 182.5000,2,  -999.0,9,-999.000,9,-999.000,9,  22.7854
06MT20050813,     535,       AR04,          1,          5,          5,2,20050906,       0000,     14.362,    -60.873,        329,   149.9,  22.4419,  36.8862,2,-999.0000,9, 175.1000,2,  -999.0,9,-999.000,9,-999.000,9,  22.4116
06MT20050813,     535,       AR04,          1,          4,          4,2,20050906,       0000,     14.362,    -60.873,        329,   153.1,  22.3270,  36.8717,2,-999.0000,9, 172.5000,2,   166.3,3,   1.950,2,   1.160,2,  22.2961
06MT20050813,     535,       AR04,          1,          3,          3,2,20050906,       0000,     14.362,    -60.873,        329,   332.1,  11.6286,  35.3288,2,-999.0000,9, 124.0000,2,  -999.0,9,   1.489,2,   0.806,2,  11.5858
06MT20050813,     535,       AR04,          1,          1,          1,2,20050906,       0000,     14.362,    -60.873,        329,   331.7,  11.6202,  35.3260,2,  35.3484,3, 124.0000,2,   124.3,2,-999.000,9,-999.000,9,  11.5774
06MT20050813,     535,       AR04,          1,          2,          2,2,20050906,       0000,     14.362,    -60.873,        329,   331.8,  11.6232,  35.3274,2,-999.0000,9, 124.0000,2,  -999.0,9,-999.000,9,-999.000,9,  11.5804
06MT20050813,     544,       AR04,          1,          3,          3,2,20050907,       0000,     14.946,    -61.151,        413,    15.2,  30.1076,  34.4075,2,  34.5436,3, 199.8000,2,   200.9,3,-999.000,9,-999.000,9,  30.1038
06MT20050813,     544,       AR04,          1,          2,          2,2,20050907,       0000,     14.946,    -61.151,        413,   202.2,  17.5077,  36.2685,2,-999.0000,9, 138.9000,2,   133.7,3,-999.000,9,-999.000,9,  17.4733
06MT20050813,     544,       AR04,          1,          1,          1,2,20050907,       0000,     14.946,    -61.151,        413,   422.4,  11.0464,  35.2448,2,  35.2465,2, 123.4000,2,   125.5,2,-999.000,9,-999.000,9,  10.9935
06MT20050813,     545,       AR04,          1,         10,         10,2,20050907,       0000,       15.0,    -61.178,        631,    14.6,  30.0908,  34.3977,2,-999.0000,9, 198.5000,2,  -999.0,9,-999.000,9,-999.000,9,  30.0872
06MT20050813,     545,       AR04,          1,          9,          9,2,20050907,       0000,       15.0,    -61.178,        631,    14.6,  30.0908,  34.3977,2,-999.0000,9, 198.5000,2,   196.0,2,   1.411,6,   0.902,6,  30.0872
06MT20050813,     545,       AR04,          1,          8,          8,2,20050907,       0000,       15.0,    -61.178,        631,   150.4,  21.5519,  37.0122,2,-999.0000,9, 165.0000,2,  -999.0,9,-999.000,9,-999.000,9,  21.5223
06MT20050813,     545,       AR04,          1,          6,          6,2,20050907,       0000,       15.0,    -61.178,        631,   156.1,  21.2208,  36.9664,2,-999.0000,9, 162.8000,2,  -999.0,9,   2.007,2,   1.197,2,  21.1904
06MT20050813,     545,       AR04,          1,          7,          7,2,20050907,       0000,       15.0,    -61.178,        631,   159.2,  21.1334,  36.9540,2,-999.0000,9, 161.6000,2,  -999.0,9,-999.000,9,-999.000,9,  21.1025
06MT20050813,     545,       AR04,          1,          5,          5,2,20050907,       0000,       15.0,    -61.178,        631,   397.4,  10.4352,  35.1309,2,-999.0000,9, 121.5000,2,  -999.0,9,-999.000,9,-999.000,9,  10.3873
06MT20050813,     545,       AR04,          1,          4,          4,2,20050907,       0000,       15.0,    -61.178,        631,   399.1,  10.4279,  35.1301,2,  35.1324,2, 121.2000,2,   122.3,2,   1.256,2,   0.690,2,  10.3798
06MT20050813,     545,       AR04,          1,          3,          3,2,20050907,       0000,       15.0,    -61.178,        631,   597.6,   8.0461,  34.8908,2,-999.0000,9, 123.5000,2,  -999.0,9,-999.000,9,-999.000,9,   7.9839
06MT20050813,     545,       AR04,          1,          2,          2,2,20050907,       0000,       15.0,    -61.178,        631,   598.2,   8.0468,  34.8908,2,-999.0000,9, 123.5000,2,  -999.0,9,-999.000,9,-999.000,9,   7.9846
06MT20050813,     545,       AR04,          1,          1,          1,2,20050907,       0000,       15.0,    -61.178,        631,   598.1,   8.0468,  34.8908,2,  34.8911,2, 123.5000,2,   124.4,6,-999.000,9,-999.000,9,   7.9846