BOTTLE,20120828SIOCCHMYS
EXPOCODE,STNNBR,SECT_ID,CASTNO,SAMPNO,BTLNBR,BTLNBR_FLAG_W,DATE,TIME,LATITUDE,LONGITUDE,DEPTH,CTDPRS,CTDTMP,CTDSAL,CTDSAL_FLAG_W,SALNTY,SALNTY_FLAG_W,CTDOXY,CTDOXY_FLAG_W,OXYGEN,OXYGEN_FLAG_W,CFC-11,CFC-11_FLAG_W,CFC-12,CFC-12_FLAG_W,THETA
,,,,,,,,,,,,DBAR,ITS-90,PSS-78,,PSS-78,,UMOL/KG,,UMOL/KG,,PMOL/KG,,PMOL/KG,,DEG C
06MT20050813,     447,       AR04,          1,          5,          5,2,20050829,       0000,     14.884,    -60.717,        537,    14.3,  29.8842,  34.5568,2,  34.5539,2, 198.7000,2,   208.0,3,-999.000,9,-999.000,9,  29.8807
06MT20050813,     447,       AR04,          1,          4,          4,2,20050829,       0000,     14.884,    -60.717,        537,   249.9,  15.3949,  35.9087,2,-999.0000,9, 130.3000,2,   133.7,2,-999.000,9,-999.000,9,  15.3560
06MT20050813,     447,       AR04,          1,          3,          3,2,20050829,       0000,     14.884,    -60.717,        537,   499.8,   8.5925,  34.9174,2,-999.0000,9, 121.5000,2,   119.6,2,-999.000,9,-999.000,9,   8.5388
06MT20050813,     447,       AR04,          1,          2,          2,2,20050829,       0000,     14.884,    -60.717,        537,   535.2,   8.3404,  34.8753,2,-999.0000,9, 121.4000,2,  -999.0,9,-999.000,9,-999.000,9,   8.2838
06MT20050813,     447,       AR04,          1,          1,          1,2,20050829,       0000,     14.884,    -60.717,        537,   535.3,   8.3388,  34.8760,2,  34.8833,2, 121.4000,2,   122.3,2,-999.000,9,-999.000,9,   8.2822
06MT20050813,     448,       AR04,          1,          6,          6,2,20050830,       0000,     14.733,    -60.717,        527,     6.2,  29.9270,  34.6707,2,-999.0000,9, 197.9000,2,   196.6,2,-999.000,9,-999.000,9,  29.9255
06MT20050813,     448,       AR04,          1,          4,          4,2,20050830,       0000,     14.733,    -60.717,        527,   151.0,  23.0106,  37.0194,2,-999.0000,9, 180.7000,2,  -999.0,9,-999.000,9,-999.000,9,  22.9795
06MT20050813,     448,       AR04,          1,          5,          5,2,20050830,       0000,     14.733,    -60.717,        527,   151.8,  22.9556,  37.0052,2,-999.0000,9, 179.4000,2,   169.8,3,-999.000,9,-999.000,9,  22.9244
06MT20050813,     448,       AR04,          1,          3,          3,2,20050830,       0000,     14.733,    -60.717,        527,   351.1,  12.0766,  35.3686,2,  35.2625,3, 123.7000,2,   121.6,2,-999.000,9,-999.000,9,  12.0301
06MT20050813,     448,       AR04,          1,          2,          2,2,20050830,       0000,     14.733,    -60.717,        527,   525.9,   8.6850,  34.9322,2,-999.0000,9, 121.7000,2,  -999.0,9,-999.000,9,-999.000,9,   8.6280
06MT20050813,     448,       AR04,          1,          1,          1,2,20050830,       0000,     14.733,    -60.717,        527,   525.9,   8.6850,  34.9322,2,  34.9307,2, 121.7000,2,   122.8,2,-999.000,9,-999.000,9,   8.6280
06MT20050813,     449,       AR04,          1,          7,          7,2,20050830,       0000,     14.574,    -60.709,        631,    10.2,  29.8433,  34.6660,2,-999.0000,9, 198.9000,2,  -999.0,9,-999.000,9,-999.000,9,  29.8408
06MT20050813,     449,       AR04,          1,          8,          8,2,20050830,       0000,     14.574,    -60.709,        631,    10.3,  29.8411,  34.6661,2,-999.0000,9, 198.9000,2,   209.3,3,   1.457,2,   0.930,2,  29.8386
06MT20050813,     449,       AR04,          1,          6,          6,2,20050830,       0000,     14.574,    -60.709,        631,   106.7,  25.4834,  37.0267,2,  37.0555,3, 201.6000,2,  -999.0,9,   1.788,2,   1.094,2,  25.4598
06MT20050813,     449,       AR04,          1,          5,          5,2,20050830,       0000,     14.574,    -60.709,        631,   111.1,  25.4108,  37.1028,2,-999.0000,9, 200.9000,2,  -999.0,9,-999.000,9,-999.000,9,  25.3862
06MT20050813,     449,       AR04,          1,          4,          4,2,20050830,       0000,     14.574,    -60.709,        631,   251.8,  15.7189,  35.9934,2,-999.0000,9, 136.4000,2,   132.7,2,   1.909,2,   1.044,2,  15.6792
06MT20050813,     449,       AR04,          1,          3,          3,2,20050830,       0000,     14.574,    -60.709,        631,   600.4,   8.3085,  34.9214,2,-999.0000,9, 123.2000,2,   125.0,2,   0.660,2,   0.344,2,   8.2449
06MT20050813,     449,       AR04,          1,          1,          1,2,20050830,       0000,     14.574,    -60.709,        631,   638.9,   7.7267,  34.8612,2,  34.8658,2, 124.6000,2,   126.2,2,-999.000,9,-999.000,9,   7.6616
06MT20050813,     449,       AR04,          1,          2,          2,2,20050830,       0000,     14.574,    -60.709,        631,   639.0,   7.7243,  34.8647,2,-999.0000,9, 124.6000,2,  -999.0,9,   0.569,2,   0.293,2,   7.6592
06MT20050813,     450,       AR04,          1,          9,          9,2,20050830,       0000,     14.417,    -60.708,       1250,    10.8,  29.8106,  34.7166,2,  34.7838,3, 198.7000,2,   200.9,6,-999.000,9,-999.000,9,  29.8079
06MT20050813,     450,       AR04,          1,          8,          8,2,20050830,       0000,     14.417,    -60.708,       1250,    10.9,  29.8053,  34.7141,2,-999.0000,9, 198.7000,2,  -999.0,9,   1.450,2,   0.912,2,  29.8026
06MT20050813,     450,       AR04,          1,          7,          7,2,20050830,       0000,     14.417,    -60.708,       1250,   308.5,  13.0590,  35.5170,2,-999.0000,9, 129.2000,2,  -999.0,9,   1.667,2,   0.894,3,  13.0161
06MT20050813,     450,       AR04,          1,          6,          6,2,20050830,       0000,     14.417,    -60.708,       1250,   498.6,   8.6335,  34.9298,2,-999.0000,9, 122.6000,2,   124.7,2,   0.778,2,   0.404,2,   8.5798
06MT20050813,     450,       AR04,          1,          5,          5,2,20050830,       0000,     14.417,    -60.708,       1250,   499.1,   8.6137,  34.9275,2,-999.0000,9, 122.6000,2,  -999.0,9,   0.767,2,   0.408,2,   8.5600
06MT20050813,     450,       AR04,          1,          4,          4,2,20050830,       0000,     14.417,    -60.708,       1250,   809.6,   5.8784,  34.7287,2,-999.0000,9, 136.4000,2,   135.6,2,   0.130,2,   0.072,2,   5.8064
06MT20050813,     450,       AR04,          1,          3,          3,2,20050830,       0000,     14.417,    -60.708,       1250,  1017.1,   5.5208,  34.9246,2,-999.0000,9, 174.0000,2,   189.6,3,   0.236,2,   0.123,2,   5.4312
06MT20050813,     450,       AR04,          1,          2,          2,2,20050830,       0000,     14.417,    -60.708,       1250,  1245.1,   4.8040,  35.0044,2,-999.0000,9, 221.8000,2,  -999.0,9,   0.631,2,   0.323,2,   4.6989
06MT20050813,     450,       AR04,          1,          1,          1,2,20050830,       0000,     14.417,    -60.708,       1250,  1245.1,   4.8040,  35.0044,2,  35.0003,2, 221.8000,2,   219.4,3,-999.000,9,-999.000,9,   4.6989
06MT20050813,     451,       AR04,          1,          9,          9,2,20050830,       0000,     14.258,      -60.7,       1435,    18.4,  29.8376,  34.3243,2,-999.0000,9, 205.6000,2,  -999.0,9,   1.436,2,   0.918,2,  29.8331
06MT20050813,     451,       AR04,          1,          8,          8,2,20050830,       0000,     14.258,      -60.7,       1435,   203.1,  17.9971,  36.4065,2,-999.0000,9, 152.6000,2,   140.5,3,   1.772,2,   1.090,2,  17.9619
06MT20050813,     451,       AR04,          1,          7,          7,2,20050830,       0000,     14.258,      -60.7,       1435,   413.1,  10.2162,  35.0949,2,-999.0000,9, 120.6000,2,  -999.0,9,-999.000,9,-999.000,9,  10.1670
06MT20050813,     451,       AR04,          1,          6,          6,2,20050830,       0000,     14.258,      -60.7,       1435,   696.7,   6.2390,  34.6364,2,-999.0000,9, 126.7000,2,   129.7,2,   0.282,4,   0.148,4,   6.1758
06MT20050813,     451,       AR04,          1,          5,          5,2,20050830,       0000,     14.258,      -60.7,       1435,   699.8,   6.1876,  34.6324,2,-999.0000,9, 126.9000,2,  -999.0,9,   0.119,4,   0.138,4,   6.1243
06MT20050813,     451,       AR04,          1,          4,          4,2,20050830,       0000,     14.258,      -60.7,       1435,   895.4,   5.9299,  34.8556,2,  34.8553,2, 146.3000,2,  -999.0,9,   0.118,2,   0.062,2,   5.8492
06MT20050813,     451,       AR04,          1,          3,          3,2,20050830,       0000,     14.258,      -60.7,       1435,  1206.4,   4.7776,  35.0151,2,-999.0000,9, 227.6000,2,   227.0,2,   0.760,2,   0.378,2,   4.6763
06MT20050813,     451,       AR04,          1,          2,          2,2,20050830,       0000,     14.258,      -60.7,       1435,  1427.6,   4.2506,  34.9986,2,-999.0000,9, 249.9000,2,  -999.0,9,   1.075,2,   0.535,2,   4.1342
06MT20050813,     451,       AR04,          1,          1,          1,2,20050830,       0000,     14.258,      -60.7,       1435,  1427.3,   4.2507,  34.9987,2,  34.9964,2, 249.9000,2,   248.3,6,-999.000,9,-999.000,9,   4.1343
06MT20050813,     452,       AR04,          1,         10,         10,2,20050830,       0000,     14.109,    -60.701,       1033,    17.3,  30.0657,  33.6084,2,-999.0000,9, 199.4000,2,  -999.0,9,-999.000,9,-999.000,9,  30.0614
06MT20050813,     452,       AR04,          1,          9,          9,2,20050830,       0000,     14.109,    -60.701,       1033,    18.2,  30.0607,  33.6187,2,-999.0000,9, 199.4000,2,   200.8,2,   1.446,2,   0.924,2,  30.0562
06MT20050813,     452,       AR04,          1,          8,          8,2,20050830,       0000,     14.109,    -60.701,       1033,   102.1,  25.4351,  36.9154,2,-999.0000,9, 182.9000,2,  -999.0,9,   1.755,2,   1.070,2,  25.4125
06MT20050813,     452,       AR04,          1,          7,          7,2,20050830,       0000,     14.109,    -60.701,       1033,   104.4,  25.3390,  36.9258,2,-999.0000,9, 181.5000,2,  -999.0,9,-999.000,9,-999.000,9,  25.3160
06MT20050813,     452,       AR04,          1,          6,          6,2,20050830,       0000,     14.109,    -60.701,       1033,   261.5,  14.4939,  35.8349,2,  35.7912,3, 138.9000,2,  -999.0,9,   1.792,4,   1.007,6,  14.4548
06MT20050813,     452,       AR04,          1,          5,          5,2,20050830,       0000,     14.109,    -60.701,       1033,   264.1,  14.4008,  35.8167,2,-999.0000,9, 138.0000,2,  -999.0,9,   1.685,3,   1.024,2,  14.3615
06MT20050813,     452,       AR04,          1,          4,          4,2,20050830,       0000,     14.109,    -60.701,       1033,   603.8,   7.1775,  34.6922,2,-999.0000,9, 120.8000,2,   123.7,2,   0.515,2,   0.270,2,   7.1188
06MT20050813,     452,       AR04,          1,          3,          3,2,20050830,       0000,     14.109,    -60.701,       1033,   807.1,   5.9450,  34.7348,2,-999.0000,9, 136.8000,2,  -999.0,9,   0.176,2,   0.096,2,   5.8728
06MT20050813,     452,       AR04,          1,          2,          2,2,20050830,       0000,     14.109,    -60.701,       1033,  1021.2,   5.1123,  34.9096,2,-999.0000,9, 179.3000,2,  -999.0,9,   0.112,2,   0.067,2,   5.0255
06MT20050813,     452,       AR04,          1,          1,          1,2,20050830,       0000,     14.109,    -60.701,       1033,  1022.4,   5.0738,  34.9137,2,  34.9124,2, 179.6000,2,   178.7,2,-999.000,9,-999.000,9,   4.9872
06MT20050813,     453,       AR04,          1,          9,          9,2,20050830,       0000,      13.95,      -60.7,        974,    23.5,  30.0934,  33.5884,2,-999.0000,9, 200.7000,2,   200.2,6,-999.000,9,-999.000,9,  30.0876
06MT20050813,     453,       AR04,          1,          8,          8,2,20050830,       0000,      13.95,      -60.7,        974,    23.5,  30.0899,  33.5909,2,-999.0000,9, 200.7000,2,  -999.0,9,   1.470,6,   0.920,6,  30.0841
06MT20050813,     453,       AR04,          1,          7,          7,2,20050830,       0000,      13.95,      -60.7,        974,   155.5,  21.1270,  36.9519,2,  36.9238,3, 163.3000,2,  -999.0,9,   2.015,2,   1.199,2,  21.0968
06MT20050813,     453,       AR04,          1,          6,          6,2,20050830,       0000,      13.95,      -60.7,        974,   304.2,  13.2495,  35.5986,2,-999.0000,9, 131.5000,2,  -999.0,9,   1.699,2,   0.914,2,  13.2067
06MT20050813,     453,       AR04,          1,          5,          5,2,20050830,       0000,      13.95,      -60.7,        974,   306.5,  13.1998,  35.5889,2,-999.0000,9, 131.0000,2,  -999.0,9,-999.000,9,-999.000,9,  13.1568
06MT20050813,     453,       AR04,          1,          4,          4,2,20050830,       0000,      13.95,      -60.7,        974,   505.2,   9.2023,  34.9297,2,-999.0000,9, 119.5000,2,   121.7,2,   1.024,2,   0.555,2,   9.1457
06MT20050813,     453,       AR04,          1,          3,          3,2,20050830,       0000,      13.95,      -60.7,        974,   748.4,   5.7049,  34.6638,2,-999.0000,9, 134.9000,2,   139.2,2,   0.192,2,   0.104,2,   5.6397
06MT20050813,     453,       AR04,          1,          2,          2,2,20050830,       0000,      13.95,      -60.7,        974,   964.7,   5.3129,  34.8581,2,-999.0000,9, 168.0000,2,  -999.0,9,   0.141,2,   0.077,2,   5.2299
06MT20050813,     453,       AR04,          1,          1,          1,2,20050830,       0000,      13.95,      -60.7,        974,   964.6,   5.3130,  34.8579,2,  34.8563,2, 168.0000,2,   167.6,2,-999.000,9,-999.000,9,   5.2300
06MT20050813,     454,       AR04,          1,          8,          8,2,20050830,       0000,     13.818,    -60.691,        986,    10.3,  30.0331,  33.5978,2,-999.0000,9, 199.1000,2,  -999.0,9,   1.451,2,   0.918,2,  30.0306
06MT20050813,     454,       AR04,          1,          9,          9,2,20050830,       0000,     13.818,    -60.691,        986,    11.5,  30.0330,  33.5958,2,-999.0000,9, 199.1000,2,   197.1,2,-999.000,9,-999.000,9,  30.0302
06MT20050813,     454,       AR04,          1,          7,          7,2,20050830,       0000,     13.818,    -60.691,        986,   201.4,  18.1242,  36.4880,2,  36.3372,3, 159.1000,2,  -999.0,9,   2.108,2,   1.182,2,  18.0891
06MT20050813,     454,       AR04,          1,          6,          6,2,20050830,       0000,     13.818,    -60.691,        986,   410.8,  10.8847,  35.2115,2,-999.0000,9, 128.3000,2,  -999.0,9,-999.000,9,-999.000,9,  10.8338
06MT20050813,     454,       AR04,          1,          5,          5,2,20050830,       0000,     13.818,    -60.691,        986,   411.1,  10.8566,  35.2106,2,-999.0000,9, 128.3000,2,   125.9,2,   1.233,2,   0.660,2,  10.8057
06MT20050813,     454,       AR04,          1,          4,          4,2,20050830,       0000,     13.818,    -60.691,        986,   624.6,   6.7009,  34.6870,2,-999.0000,9, 125.0000,2,  -999.0,9,   0.432,2,   0.233,2,   6.6423
06MT20050813,     454,       AR04,          1,          3,          3,2,20050830,       0000,     13.818,    -60.691,        986,   806.9,   5.9939,  34.7451,2,-999.0000,9, 139.6000,2,   139.7,2,   0.218,2,   0.120,2,   5.9214
06MT20050813,     454,       AR04,          1,          1,          1,2,20050830,       0000,     13.818,    -60.691,        986,   977.8,   5.2260,  34.8700,2,  34.8687,2, 170.4000,2,   166.4,2,-999.000,9,-999.000,9,   5.1424
06MT20050813,     454,       AR04,          1,          2,          2,2,20050830,       0000,     13.818,    -60.691,        986,   977.1,   5.2316,  34.8677,2,-999.0000,9, 170.2000,2,  -999.0,9,   0.145,2,   0.080,2,   5.1481
06MT20050813,     455,       AR04,          1,         10,         10,2,20050830,       0000,     13.634,    -60.676,       1247,    11.4,  29.9711,  33.6789,2,-999.0000,9, 199.3000,2,   194.9,3,-999.000,9,-999.000,9,  29.9683
06MT20050813,     455,       AR04,          1,          9,          9,2,20050830,       0000,     13.634,    -60.676,       1247,    11.5,  29.9697,  33.6792,2,-999.0000,9, 199.3000,2,  -999.0,9,   1.464,2,   0.912,2,  29.9669
06MT20050813,     455,       AR04,          1,          8,          8,2,20050830,       0000,     13.634,    -60.676,       1247,   199.7,  17.1568,  36.3372,2,-999.0000,9, 156.6000,2,   155.4,2,   2.145,2,   1.193,2,  17.1233
06MT20050813,     455,       AR04,          1,          7,          7,2,20050830,       0000,     13.634,    -60.676,       1247,   444.4,   9.6554,  35.0184,2,-999.0000,9, 123.5000,2,   124.0,2,   1.162,2,   0.605,2,   9.6043
06MT20050813,     455,       AR04,          1,          6,          6,2,20050830,       0000,     13.634,    -60.676,       1247,   696.9,   6.0944,  34.6084,2,  33.7448,3, 128.1000,2,  -999.0,9,-999.000,9,-999.000,9,   6.0319
06MT20050813,     455,       AR04,          1,          5,          5,2,20050830,       0000,     13.634,    -60.676,       1247,   697.8,   6.0779,  34.6067,2,-999.0000,9, 128.1000,2,  -999.0,9,   0.255,2,   0.133,2,   6.0154
06MT20050813,     455,       AR04,          1,          4,          4,2,20050830,       0000,     13.634,    -60.676,       1247,   897.9,   5.2311,  34.6927,2,-999.0000,9, 142.5000,2,   144.4,2,   0.067,2,   0.034,2,   5.1551
06MT20050813,     455,       AR04,          1,          3,          3,2,20050830,       0000,     13.634,    -60.676,       1247,  1098.3,   5.0329,  34.9310,2,-999.0000,9, 189.8000,2,  -999.0,9,   0.268,2,   0.132,2,   4.9396
06MT20050813,     455,       AR04,          1,          2,          2,2,20050830,       0000,     13.634,    -60.676,       1247,  1236.9,   4.7480,  35.0081,2,-999.0000,9, 227.8000,2,  -999.0,9,   0.634,2,   0.327,2,   4.6442
06MT20050813,     455,       AR04,          1,          1,          1,2,20050830,       0000,     13.634,    -60.676,       1247,  1237.0,   4.7483,  35.0077,2,  35.0049,2, 227.8000,2,   225.4,2,-999.000,9,-999.000,9,   4.6445
06MT20050813,     456,       AR04,          1,         11,         11,2,20050830,       0000,     13.482,    -60.649,       1658,    10.9,  29.9439,  33.7516,2,  33.7483,2, 199.4000,2,   197.0,2,   1.458,2,   0.918,2,  29.9412
06MT20050813,     456,       AR04,          1,         10,         10,2,20050830,       0000,     13.482,    -60.649,       1658,    10.9,  29.9439,  33.7516,2,-999.0000,9, 199.4000,2,  -999.0,9,-999.000,9,-999.000,9,  29.9412
06MT20050813,     456,       AR04,          1,          9,          9,2,20050830,       0000,     13.482,    -60.649,       1658,   301.6,  12.8464,  35.5494,2,-999.0000,9, 135.0000,2,  -999.0,9,-999.000,9,-999.000,9,  12.8049
06MT20050813,     456,       AR04,          1,          8,          8,2,20050830,       0000,     13.482,    -60.649,       1658,   556.7,   7.5488,  34.7356,2,-999.0000,9, 120.5000,2,   121.1,2,   0.573,2,   0.303,2,   7.4932
06MT20050813,     456,       AR04,          1,          5,          5,2,20050830,       0000,     13.482,    -60.649,       1658,  1197.6,   5.0235,  34.9895,2,-999.0000,9, 206.0000,2,  -999.0,9,-999.000,9,-999.000,9,   4.9209
06MT20050813,     456,       AR04,          1,          6,          6,2,20050830,       0000,     13.482,    -60.649,       1658,   852.5,   5.2522,  34.6361,2,-999.0000,9, 138.8000,2,  -999.0,9,-999.000,9,-999.000,9,   5.1803
06MT20050813,     456,       AR04,          1,          7,          7,2,20050830,       0000,     13.482,    -60.649,       1658,   857.0,   5.2398,  34.6395,2,  34.6676,3, 139.0000,2,   141.1,2,   0.111,2,   0.062,2,   5.1675
06MT20050813,     456,       AR04,          1,          4,          4,2,20050830,       0000,     13.482,    -60.649,       1658,  1198.8,   5.0215,  34.9903,2,-999.0000,9, 206.4000,2,  -999.0,9,   0.425,2,   0.221,2,   4.9188
06MT20050813,     456,       AR04,          1,          3,          3,2,20050830,       0000,     13.482,    -60.649,       1658,  1402.2,   4.4332,  35.0108,2,-999.0000,9, 243.8000,2,   243.0,2,   0.884,2,   0.453,2,   4.3171
06MT20050813,     456,       AR04,          1,          2,          2,2,20050830,       0000,     13.482,    -60.649,       1658,  1650.5,   3.9283,  34.9796,2,-999.0000,9, 258.9000,2,  -999.0,9,   1.102,2,   0.547,2,   3.7951
06MT20050813,     456,       AR04,          1,          1,          1,2,20050830,       0000,     13.482,    -60.649,       1658,  1650.3,   3.9217,  34.9806,2,  34.9799,2, 258.9000,2,   260.2,2,-999.000,9,-999.000,9,   3.7886