BOTTLE,20120828SIOCCHMYS
EXPOCODE,STNNBR,SECT_ID,CASTNO,SAMPNO,BTLNBR,BTLNBR_FLAG_W,DATE,TIME,LATITUDE,LONGITUDE,DEPTH,CTDPRS,CTDTMP,CTDSAL,CTDSAL_FLAG_W,SALNTY,SALNTY_FLAG_W,CTDOXY,CTDOXY_FLAG_W,OXYGEN,OXYGEN_FLAG_W,CFC-11,CFC-11_FLAG_W,CFC-12,CFC-12_FLAG_W,THETA
,,,,,,,,,,,,DBAR,ITS-90,PSS-78,,PSS-78,,UMOL/KG,,UMOL/KG,,PMOL/KG,,PMOL/KG,,DEG C
06MT20050813,     480,       AR04,          1,         14,         14,2,20050902,       0000,     12.883,    -59.901,       1706,    23.8,  29.9271,  33.9611,2,-999.0000,9, 201.6000,2,   211.7,3,   1.473,2,   0.920,2,  29.9212
06MT20050813,     480,       AR04,          1,         13,         13,2,20050902,       0000,     12.883,    -59.901,       1706,    23.8,  29.9271,  33.9611,2,-999.0000,9, 201.6000,2,  -999.0,9,-999.000,9,-999.000,9,  29.9212
06MT20050813,     480,       AR04,          1,         12,         12,2,20050902,       0000,     12.883,    -59.901,       1706,   106.3,  25.0878,  37.0360,2,  37.0249,3, 184.8000,2,  -999.0,9,   1.804,2,   1.106,2,  25.0645
06MT20050813,     480,       AR04,          1,         11,         11,2,20050902,       0000,     12.883,    -59.901,       1706,   405.9,   9.3858,  35.0330,2,-999.0000,9, 120.8000,2,   123.8,2,   0.788,2,   0.414,2,   9.3400
06MT20050813,     480,       AR04,          1,         10,         10,2,20050902,       0000,     12.883,    -59.901,       1706,   854.2,   5.2489,  34.7618,2,-999.0000,9, 149.7000,2,  -999.0,9,-999.000,9,-999.000,9,   5.1766
06MT20050813,     480,       AR04,          1,          9,          9,2,20050902,       0000,     12.883,    -59.901,       1706,   855.1,   5.2469,  34.7620,2,-999.0000,9, 149.7000,2,  -999.0,9,   0.067,2,   0.032,2,   5.1746
06MT20050813,     480,       AR04,          1,          8,          8,2,20050902,       0000,     12.883,    -59.901,       1706,  1108.1,   5.2313,  34.9248,2,-999.0000,9, 181.9000,2,   183.4,2,   0.263,2,   0.135,2,   5.1354
06MT20050813,     480,       AR04,          1,          7,          7,2,20050902,       0000,     12.883,    -59.901,       1706,  1111.1,   5.2254,  34.9289,2,-999.0000,9, 182.5000,2,  -999.0,9,-999.000,9,-999.000,9,   5.1293
06MT20050813,     480,       AR04,          1,          6,          6,2,20050902,       0000,     12.883,    -59.901,       1706,  1115.0,   5.2197,  34.9338,2,-999.0000,9, 183.8000,2,  -999.0,9,-999.000,9,-999.000,9,   5.1233
06MT20050813,     480,       AR04,          1,          5,          5,2,20050902,       0000,     12.883,    -59.901,       1706,  1401.3,   4.5215,  35.0106,2,-999.0000,9, 239.2000,2,  -999.0,9,-999.000,9,-999.000,9,   4.4046
06MT20050813,     480,       AR04,          1,          4,          4,2,20050902,       0000,     12.883,    -59.901,       1706,  1401.3,   4.5214,  35.0106,2,-999.0000,9, 239.2000,2,   239.4,2,   0.813,2,   0.393,2,   4.4045
06MT20050813,     480,       AR04,          1,          3,          3,2,20050902,       0000,     12.883,    -59.901,       1706,  1700.0,   3.9704,  34.9880,2,-999.0000,9, 254.0000,2,  -999.0,9,   0.798,2,   0.392,2,   3.8320
06MT20050813,     480,       AR04,          1,          2,          2,2,20050902,       0000,     12.883,    -59.901,       1706,  1699.6,   3.9715,  34.9876,2,-999.0000,9, 254.0000,2,  -999.0,9,-999.000,9,-999.000,9,   3.8331
06MT20050813,     480,       AR04,          1,          1,          1,2,20050902,       0000,     12.883,    -59.901,       1706,  1699.7,   3.9712,  34.9881,2,  34.9876,2, 254.0000,2,   254.0,2,-999.000,9,-999.000,9,   3.8328
06MT20050813,     481,       AR04,          1,         14,         14,2,20050902,       0000,     13.033,    -59.817,       1242,    20.6,  29.9432,  33.8776,2,  33.8664,3, 200.3000,2,   213.5,3,-999.000,9,-999.000,9,  29.9381
06MT20050813,     481,       AR04,          1,         13,         13,2,20050902,       0000,     13.033,    -59.817,       1242,    20.6,  29.9438,  33.8759,2,-999.0000,9, 200.3000,2,  -999.0,9,   1.490,2,   0.931,2,  29.9387
06MT20050813,     481,       AR04,          1,         12,         12,2,20050902,       0000,     13.033,    -59.817,       1242,   149.0,  20.5922,  36.7279,2,-999.0000,9, 144.2000,2,   146.7,2,   2.042,2,   1.164,2,  20.5638
06MT20050813,     481,       AR04,          1,         11,         11,2,20050902,       0000,     13.033,    -59.817,       1242,   302.3,  11.7936,  35.3350,2,-999.0000,9, 123.4000,2,  -999.0,9,   1.518,2,   0.803,2,  11.7543
06MT20050813,     481,       AR04,          1,         10,         10,2,20050902,       0000,     13.033,    -59.817,       1242,   444.6,   9.1083,  34.9459,2,-999.0000,9, 118.7000,2,  -999.0,9,   0.815,2,   0.419,2,   9.0590
06MT20050813,     481,       AR04,          1,          9,          9,2,20050902,       0000,     13.033,    -59.817,       1242,   448.0,   9.0122,  34.9315,2,-999.0000,9, 118.6000,2,   117.6,2,-999.000,9,-999.000,9,   8.9628
06MT20050813,     481,       AR04,          1,          8,          8,2,20050902,       0000,     13.033,    -59.817,       1242,   697.4,   6.0175,  34.6593,2,-999.0000,9, 129.3000,2,  -999.0,9,   0.170,2,   0.090,2,   5.9553
06MT20050813,     481,       AR04,          1,          7,          7,2,20050902,       0000,     13.033,    -59.817,       1242,   699.4,   6.0009,  34.6592,2,-999.0000,9, 129.5000,2,  -999.0,9,-999.000,9,-999.000,9,   5.9386
06MT20050813,     481,       AR04,          1,          6,          6,2,20050902,       0000,     13.033,    -59.817,       1242,   702.7,   5.9928,  34.6611,2,-999.0000,9, 129.8000,2,  -999.0,9,-999.000,9,-999.000,9,   5.9303
06MT20050813,     481,       AR04,          1,          5,          5,2,20050902,       0000,     13.033,    -59.817,       1242,  1048.0,   5.2404,  34.9143,2,-999.0000,9, 178.1000,2,  -999.0,9,-999.000,9,-999.000,9,   5.1501
06MT20050813,     481,       AR04,          1,          4,          4,2,20050902,       0000,     13.033,    -59.817,       1242,  1049.9,   5.2398,  34.9162,2,-999.0000,9, 178.5000,2,  -999.0,9,   0.215,2,   0.110,2,   5.1493
06MT20050813,     481,       AR04,          1,          3,          3,2,20050902,       0000,     13.033,    -59.817,       1242,  1226.9,   4.7906,  35.0078,2,-999.0000,9, 223.7000,2,  -999.0,9,   0.624,2,   0.314,2,   4.6873
06MT20050813,     481,       AR04,          1,          2,          2,2,20050902,       0000,     13.033,    -59.817,       1242,  1226.8,   4.7949,  35.0064,2,-999.0000,9, 223.6000,2,  -999.0,9,-999.000,9,-999.000,9,   4.6916
06MT20050813,     481,       AR04,          1,          1,          1,2,20050902,       0000,     13.033,    -59.817,       1242,  1228.3,   4.7847,  35.0064,2,  35.0072,2, 224.5000,2,   226.0,6,-999.000,9,-999.000,9,   4.6813
06MT20050813,     485,       AR04,          1,         11,         11,2,20050902,       0000,     13.192,      -59.8,       1087,     8.9,  29.8595,  33.3789,2,-999.0000,9, 197.5000,2,   187.1,3,   1.485,2,   0.923,2,  29.8573
06MT20050813,     485,       AR04,          1,         10,         10,2,20050902,       0000,     13.192,      -59.8,       1087,     8.9,  29.8563,  33.3738,2,-999.0000,9, 197.5000,2,  -999.0,9,-999.000,9,-999.000,9,  29.8541
06MT20050813,     485,       AR04,          1,          9,          9,2,20050902,       0000,     13.192,      -59.8,       1087,   303.2,  12.1423,  35.4112,2,-999.0000,9, 121.5000,2,   122.5,2,   1.540,2,   0.805,2,  12.1021
06MT20050813,     485,       AR04,          1,          8,          8,2,20050902,       0000,     13.192,      -59.8,       1087,   595.2,   7.2100,  34.7448,2,  34.7091,3, 119.7000,2,   124.1,3,   0.441,2,   0.233,2,   7.1519
06MT20050813,     485,       AR04,          1,          7,          7,2,20050902,       0000,     13.192,      -59.8,       1087,   597.6,   7.1830,  34.7419,2,-999.0000,9, 120.0000,2,  -999.0,9,-999.000,9,-999.000,9,   7.1248
06MT20050813,     485,       AR04,          1,          6,          6,2,20050902,       0000,     13.192,      -59.8,       1087,   598.5,   7.1546,  34.7376,2,-999.0000,9, 120.2000,2,  -999.0,9,-999.000,9,-999.000,9,   7.0965
06MT20050813,     485,       AR04,          1,          5,          5,2,20050902,       0000,     13.192,      -59.8,       1087,   896.7,   5.2679,  34.7454,2,-999.0000,9, 147.1000,2,  -999.0,9,-999.000,9,-999.000,9,   5.1917
06MT20050813,     485,       AR04,          1,          4,          4,2,20050902,       0000,     13.192,      -59.8,       1087,   898.7,   5.2668,  34.7475,2,-999.0000,9, 147.3000,2,   149.0,2,   0.066,2,   0.033,2,   5.1904
06MT20050813,     485,       AR04,          1,          3,          3,2,20050902,       0000,     13.192,      -59.8,       1087,  1072.5,   5.2190,  34.9301,2,-999.0000,9, 184.4000,2,  -999.0,9,   0.235,6,   0.123,6,   5.1266
06MT20050813,     485,       AR04,          1,          2,          2,2,20050902,       0000,     13.192,      -59.8,       1087,  1072.2,   5.2200,  34.9289,2,-999.0000,9, 184.4000,2,  -999.0,9,-999.000,9,-999.000,9,   5.1276
06MT20050813,     485,       AR04,          1,          1,          1,2,20050902,       0000,     13.192,      -59.8,       1087,  1071.9,   5.2211,  34.9288,2,  34.9266,2, 184.4000,2,   183.4,2,-999.000,9,-999.000,9,   5.1287
06MT20050813,     486,       AR04,          1,         13,         13,2,20050902,       0000,     13.275,    -59.925,       1659,    12.6,  29.9760,  33.5297,2,-999.0000,9, 197.5000,2,   198.3,2,-999.000,9,-999.000,9,  29.9729
06MT20050813,     486,       AR04,          1,         12,         12,2,20050902,       0000,     13.275,    -59.925,       1659,    12.6,  29.9760,  33.5297,2,  33.5440,3, 197.5000,2,  -999.0,9,   1.442,2,   0.915,2,  29.9729
06MT20050813,     486,       AR04,          1,         11,         11,2,20050902,       0000,     13.275,    -59.925,       1659,   388.6,   9.7620,  35.0568,2,-999.0000,9, 119.2000,2,   117.5,6,   1.070,2,   0.558,2,   9.7171
06MT20050813,     486,       AR04,          1,         10,         10,2,20050902,       0000,     13.275,    -59.925,       1659,   690.9,   6.1829,  34.6301,2,-999.0000,9, 127.0000,2,  -999.0,9,-999.000,9,-999.000,9,   6.1205
06MT20050813,     486,       AR04,          1,          9,          9,2,20050902,       0000,     13.275,    -59.925,       1659,   696.7,   6.3238,  34.6578,2,-999.0000,9, 126.1000,2,  -999.0,9,   0.227,2,   0.124,2,   6.2601
06MT20050813,     486,       AR04,          1,          8,          8,2,20050902,       0000,     13.275,    -59.925,       1659,   994.6,   5.2633,  34.8109,2,-999.0000,9, 156.5000,2,  -999.0,9,   0.106,2,   0.060,2,   5.1780
06MT20050813,     486,       AR04,          1,          7,          7,2,20050902,       0000,     13.275,    -59.925,       1659,   996.6,   5.2643,  34.8128,2,-999.0000,9, 156.8000,2,  -999.0,9,-999.000,9,-999.000,9,   5.1788
06MT20050813,     486,       AR04,          1,          6,          6,2,20050902,       0000,     13.275,    -59.925,       1659,   998.4,   5.2663,  34.8164,2,-999.0000,9, 157.1000,2,  -999.0,9,-999.000,9,-999.000,9,   5.1806
06MT20050813,     486,       AR04,          1,          5,          5,2,20050902,       0000,     13.275,    -59.925,       1659,  1397.2,   4.4664,  35.0096,2,-999.0000,9, 241.0000,2,  -999.0,9,-999.000,9,-999.000,9,   4.3505
06MT20050813,     486,       AR04,          1,          4,          4,2,20050902,       0000,     13.275,    -59.925,       1659,  1399.5,   4.4570,  35.0096,2,-999.0000,9, 241.2000,2,   243.6,2,   0.885,2,   0.436,2,   4.3410
06MT20050813,     486,       AR04,          1,          3,          3,2,20050902,       0000,     13.275,    -59.925,       1659,  1650.0,   3.9920,  34.9887,2,-999.0000,9, 254.0000,2,  -999.0,9,   0.800,6,   0.403,6,   3.8580
06MT20050813,     486,       AR04,          1,          2,          2,2,20050902,       0000,     13.275,    -59.925,       1659,  1649.7,   3.9915,  34.9888,2,-999.0000,9, 254.0000,2,  -999.0,9,-999.000,9,-999.000,9,   3.8575
06MT20050813,     486,       AR04,          1,          1,          1,2,20050902,       0000,     13.275,    -59.925,       1659,  1649.9,   3.9919,  34.9888,2,  34.9917,2, 254.0000,2,   250.6,2,-999.000,9,-999.000,9,   3.8579
06MT20050813,     487,       AR04,          1,         14,         14,2,20050902,       0000,     13.358,     -60.05,       1888,    14.0,  30.0179,  33.6621,2,-999.0000,9, 197.8000,2,   195.7,6,   1.484,2,   0.923,2,  30.0144
06MT20050813,     487,       AR04,          1,         13,         13,2,20050902,       0000,     13.358,     -60.05,       1888,    14.0,  30.0150,  33.6619,2,-999.0000,9, 197.8000,2,  -999.0,9,-999.000,9,-999.000,9,  30.0115
06MT20050813,     487,       AR04,          1,         12,         12,2,20050902,       0000,     13.358,     -60.05,       1888,   152.9,  20.4679,  36.7965,2,-999.0000,9, 156.8000,2,   150.5,2,   2.040,2,   1.189,2,  20.4389
06MT20050813,     487,       AR04,          1,         11,         11,2,20050902,       0000,     13.358,     -60.05,       1888,   509.5,   7.7302,  34.7654,2,-999.0000,9, 120.8000,2,  -999.0,9,   0.669,2,   0.341,2,   7.6788
06MT20050813,     487,       AR04,          1,         10,         10,2,20050902,       0000,     13.358,     -60.05,       1888,   802.4,   5.5444,  34.6709,2,-999.0000,9, 135.3000,2,  -999.0,9,-999.000,9,-999.000,9,   5.4751
06MT20050813,     487,       AR04,          1,          9,          9,2,20050902,       0000,     13.358,     -60.05,       1888,   802.6,   5.5433,  34.6718,2,  34.6790,2, 135.3000,2,   136.6,2,   0.092,2,   0.048,2,   5.4740
06MT20050813,     487,       AR04,          1,          8,          8,2,20050902,       0000,     13.358,     -60.05,       1888,  1292.7,   4.8181,  35.0100,2,-999.0000,9, 223.7000,2,  -999.0,9,   0.614,2,   0.315,2,   4.7084
06MT20050813,     487,       AR04,          1,          7,          7,2,20050902,       0000,     13.358,     -60.05,       1888,  1294.6,   4.8148,  35.0099,2,-999.0000,9, 224.0000,2,  -999.0,9,-999.000,9,-999.000,9,   4.7049
06MT20050813,     487,       AR04,          1,          6,          6,2,20050902,       0000,     13.358,     -60.05,       1888,  1300.3,   4.8135,  35.0101,2,-999.0000,9, 225.0000,2,  -999.0,9,-999.000,9,-999.000,9,   4.7031
06MT20050813,     487,       AR04,          1,          5,          5,2,20050902,       0000,     13.358,     -60.05,       1888,  1696.7,   3.9216,  34.9862,2,-999.0000,9, 255.1000,2,  -999.0,9,-999.000,9,-999.000,9,   3.7841
06MT20050813,     487,       AR04,          1,          4,          4,2,20050902,       0000,     13.358,     -60.05,       1888,  1698.7,   3.9210,  34.9858,2,-999.0000,9, 255.1000,2,   255.3,2,   0.755,2,   0.384,2,   3.7833
06MT20050813,     487,       AR04,          1,          3,          3,2,20050902,       0000,     13.358,     -60.05,       1888,  1881.6,   3.8379,  34.9834,2,-999.0000,9, 254.0000,2,  -999.0,9,   0.590,2,   0.304,2,   3.6841
06MT20050813,     487,       AR04,          1,          2,          2,2,20050902,       0000,     13.358,     -60.05,       1888,  1882.1,   3.8374,  34.9836,2,-999.0000,9, 254.0000,2,  -999.0,9,-999.000,9,-999.000,9,   3.6836
06MT20050813,     487,       AR04,          1,          1,          1,2,20050902,       0000,     13.358,     -60.05,       1888,  1882.1,   3.8374,  34.9836,2,  34.9832,2, 254.0000,2,   253.2,2,-999.000,9,-999.000,9,   3.6836
06MT20050813,     488,       AR04,          1,         14,         14,2,20050902,       0000,     13.452,    -60.184,       2088,    20.6,  29.9905,  33.8521,2,  33.6183,3, 200.3000,2,   197.9,2,   1.461,6,   0.915,6,  29.9854
06MT20050813,     488,       AR04,          1,         13,         13,2,20050902,       0000,     13.452,    -60.184,       2088,    20.7,  29.9875,  33.8953,2,-999.0000,9, 200.4000,2,  -999.0,9,-999.000,9,-999.000,9,  29.9824
06MT20050813,     488,       AR04,          1,         12,         12,2,20050902,       0000,     13.452,    -60.184,       2088,   343.4,  10.6758,  35.1607,2,-999.0000,9, 120.7000,2,   123.2,2,   1.230,2,   0.664,2,  10.6339
06MT20050813,     488,       AR04,          1,         11,         11,2,20050902,       0000,     13.452,    -60.184,       2088,   750.6,   5.5948,  34.6559,2,-999.0000,9, 133.5000,2,   138.9,3,   0.100,2,   0.052,2,   5.5300
06MT20050813,     488,       AR04,          1,         10,         10,2,20050902,       0000,     13.452,    -60.184,       2088,  1198.3,   5.0305,  34.9882,2,-999.0000,9, 204.8000,2,  -999.0,9,-999.000,9,-999.000,9,   4.9277
06MT20050813,     488,       AR04,          1,          9,          9,2,20050902,       0000,     13.452,    -60.184,       2088,  1199.2,   5.0275,  34.9890,2,-999.0000,9, 205.0000,2,  -999.0,9,   0.496,2,   0.254,2,   4.9247
06MT20050813,     488,       AR04,          1,          8,          8,2,20050902,       0000,     13.452,    -60.184,       2088,  1495.2,   4.2226,  34.9993,2,-999.0000,9, 250.6000,2,   249.9,2,   0.873,2,   0.442,2,   4.1002
06MT20050813,     488,       AR04,          1,          7,          7,2,20050902,       0000,     13.452,    -60.184,       2088,  1497.0,   4.2143,  34.9987,2,-999.0000,9, 250.6000,2,  -999.0,9,-999.000,9,-999.000,9,   4.0919
06MT20050813,     488,       AR04,          1,          6,          6,2,20050902,       0000,     13.452,    -60.184,       2088,  1500.6,   4.1989,  34.9988,2,-999.0000,9, 250.8000,2,  -999.0,9,-999.000,9,-999.000,9,   4.0763
06MT20050813,     488,       AR04,          1,          5,          5,2,20050902,       0000,     13.452,    -60.184,       2088,  1796.3,   3.8593,  34.9842,2,-999.0000,9, 255.4000,2,  -999.0,9,-999.000,9,-999.000,9,   3.7133
06MT20050813,     488,       AR04,          1,          4,          4,2,20050902,       0000,     13.452,    -60.184,       2088,  1798.1,   3.8577,  34.9844,2,-999.0000,9, 255.3000,2,  -999.0,9,   0.677,2,   0.338,2,   3.7115
06MT20050813,     488,       AR04,          1,          3,          3,2,20050902,       0000,     13.452,    -60.184,       2088,  2086.4,   3.8228,  34.9836,2,-999.0000,9, 251.7000,2,  -999.0,9,   0.482,2,   0.254,2,   3.6494
06MT20050813,     488,       AR04,          1,          2,          2,2,20050902,       0000,     13.452,    -60.184,       2088,  2086.0,   3.8226,  34.9841,2,-999.0000,9, 251.7000,2,  -999.0,9,-999.000,9,-999.000,9,   3.6492
06MT20050813,     488,       AR04,          1,          1,          1,2,20050902,       0000,     13.452,    -60.184,       2088,  2086.0,   3.8226,  34.9841,2,  34.9834,2, 251.7000,2,   251.7,2,-999.000,9,-999.000,9,   3.6492