BOTTLE,20120828SIOCCHMYS
EXPOCODE,STNNBR,SECT_ID,CASTNO,SAMPNO,BTLNBR,BTLNBR_FLAG_W,DATE,TIME,LATITUDE,LONGITUDE,DEPTH,CTDPRS,CTDTMP,CTDSAL,CTDSAL_FLAG_W,SALNTY,SALNTY_FLAG_W,CTDOXY,CTDOXY_FLAG_W,OXYGEN,OXYGEN_FLAG_W,CFC-11,CFC-11_FLAG_W,CFC-12,CFC-12_FLAG_W,THETA
,,,,,,,,,,,,DBAR,ITS-90,PSS-78,,PSS-78,,UMOL/KG,,UMOL/KG,,PMOL/KG,,PMOL/KG,,DEG C
06MT20050813,     475,       AR04,          1,         14,         14,2,20050901,       0000,     12.116,    -60.152,       2010,     8.0,  29.6801,  34.2327,2,-999.0000,9, 195.5000,2,  -999.0,9,   1.487,2,   0.935,2,  29.6781
06MT20050813,     475,       AR04,          1,         15,         15,2,20050901,       0000,     12.116,    -60.152,       2010,    12.0,  29.6868,  34.2310,2,-999.0000,9, 195.8000,2,   197.0,2,-999.000,9,-999.000,9,  29.6839
06MT20050813,     475,       AR04,          1,         13,         13,2,20050901,       0000,     12.116,    -60.152,       2010,   206.4,  15.4967,  36.0205,2,-999.0000,9, 135.6000,2,  -999.0,9,   1.991,2,   1.046,2,  15.4645
06MT20050813,     475,       AR04,          1,         12,         12,2,20050901,       0000,     12.116,    -60.152,       2010,   545.0,   6.3997,  34.6155,2,  34.6010,3, 123.8000,2,   126.3,2,   0.345,2,   0.173,2,   6.3502
06MT20050813,     475,       AR04,          1,         11,         11,2,20050901,       0000,     12.116,    -60.152,       2010,   898.5,   4.9576,  34.6116,2,-999.0000,9, 144.1000,2,   145.1,2,   0.065,2,   0.034,2,   4.8835
06MT20050813,     475,       AR04,          1,         10,         10,2,20050901,       0000,     12.116,    -60.152,       2010,  1196.8,   5.2316,  34.9767,2,-999.0000,9, 195.4000,2,  -999.0,9,-999.000,9,-999.000,9,   5.1272
06MT20050813,     475,       AR04,          1,          9,          9,2,20050901,       0000,     12.116,    -60.152,       2010,  1198.8,   5.2314,  34.9793,2,-999.0000,9, 195.8000,2,  -999.0,9,   0.388,2,   0.195,2,   5.1268
06MT20050813,     475,       AR04,          1,          8,          8,2,20050901,       0000,     12.116,    -60.152,       2010,  1495.5,   4.2249,  34.9997,2,-999.0000,9, 249.4000,2,  -999.0,9,   0.881,2,   0.428,2,   4.1025
06MT20050813,     475,       AR04,          1,          7,          7,2,20050901,       0000,     12.116,    -60.152,       2010,  1500.0,   4.2149,  34.9998,2,-999.0000,9, 249.8000,2,  -999.0,9,-999.000,9,-999.000,9,   4.0922
06MT20050813,     475,       AR04,          1,          6,          6,2,20050901,       0000,     12.116,    -60.152,       2010,  1499.1,   4.2183,  35.0002,2,-999.0000,9, 249.7000,2,  -999.0,9,-999.000,9,-999.000,9,   4.0956
06MT20050813,     475,       AR04,          1,          5,          5,2,20050901,       0000,     12.116,    -60.152,       2010,  1796.6,   3.8639,  34.9845,2,-999.0000,9, 255.1000,2,  -999.0,9,-999.000,9,-999.000,9,   3.7178
06MT20050813,     475,       AR04,          1,          4,          4,2,20050901,       0000,     12.116,    -60.152,       2010,  1798.8,   3.8604,  34.9839,2,-999.0000,9, 255.1000,2,   272.3,3,   0.652,2,   0.322,2,   3.7141
06MT20050813,     475,       AR04,          1,          3,          3,2,20050901,       0000,     12.116,    -60.152,       2010,  2005.6,   3.8162,  34.9845,2,-999.0000,9, 251.3000,2,  -999.0,9,   0.475,2,   0.246,2,   3.6508
06MT20050813,     475,       AR04,          1,          1,          1,2,20050901,       0000,     12.116,    -60.152,       2010,  2005.8,   3.8164,  34.9841,2,  34.9858,2, 251.3000,2,   245.1,3,-999.000,9,-999.000,9,   3.6510
06MT20050813,     475,       AR04,          1,          2,          2,2,20050901,       0000,     12.116,    -60.152,       2010,  2006.1,   3.8165,  34.9843,2,-999.0000,9, 251.3000,2,  -999.0,9,-999.000,9,-999.000,9,   3.6510
06MT20050813,     476,       AR04,          1,         14,         14,2,20050901,       0000,     12.265,    -60.101,       2205,     3.9,  29.7404,  34.2520,2,-999.0000,9, 198.4000,2,  -999.0,9,   1.487,2,   0.930,2,  29.7394
06MT20050813,     476,       AR04,          1,         15,         15,2,20050901,       0000,     12.265,    -60.101,       2205,     5.9,  29.7402,  34.2362,2,-999.0000,9, 198.4000,2,   196.9,2,-999.000,9,-999.000,9,  29.7387
06MT20050813,     476,       AR04,          1,         13,         13,2,20050901,       0000,     12.265,    -60.101,       2205,    72.5,  26.8920,  36.3418,2,  36.9157,3, 180.2000,2,   186.7,3,   1.706,2,   1.051,2,  26.8753
06MT20050813,     476,       AR04,          1,         12,         12,2,20050901,       0000,     12.265,    -60.101,       2205,   459.9,   7.9561,  34.7666,2,-999.0000,9, 120.7000,2,   122.0,2,   0.767,2,   0.392,2,   7.9091
06MT20050813,     476,       AR04,          1,         11,         11,2,20050901,       0000,     12.265,    -60.101,       2205,   848.2,   5.5608,  34.6422,2,  34.6641,3, 133.6000,2,  -999.0,9,   0.094,2,   0.050,2,   5.4872
06MT20050813,     476,       AR04,          1,         10,         10,2,20050901,       0000,     12.265,    -60.101,       2205,  1306.2,   4.8120,  35.0094,2,-999.0000,9, 223.7000,2,  -999.0,9,-999.000,9,-999.000,9,   4.7011
06MT20050813,     476,       AR04,          1,          9,          9,2,20050901,       0000,     12.265,    -60.101,       2205,  1308.8,   4.8064,  35.0098,2,-999.0000,9, 224.3000,2,   226.6,2,   0.648,2,   0.317,2,   4.6953
06MT20050813,     476,       AR04,          1,          8,          8,2,20050901,       0000,     12.265,    -60.101,       2205,  1697.0,   3.9133,  34.9858,2,-999.0000,9, 255.8000,2,   256.4,2,   0.755,2,   0.369,2,   3.7759
06MT20050813,     476,       AR04,          1,          7,          7,2,20050901,       0000,     12.265,    -60.101,       2205,  1699.4,   3.9103,  34.9862,2,-999.0000,9, 255.8000,2,  -999.0,9,-999.000,9,-999.000,9,   3.7727
06MT20050813,     476,       AR04,          1,          6,          6,2,20050901,       0000,     12.265,    -60.101,       2205,  1701.6,   3.9095,  34.9859,2,-999.0000,9, 255.8000,2,  -999.0,9,-999.000,9,-999.000,9,   3.7717
06MT20050813,     476,       AR04,          1,          5,          5,2,20050901,       0000,     12.265,    -60.101,       2205,  1996.9,   3.8230,  34.9847,2,-999.0000,9, 252.8000,2,  -999.0,9,-999.000,9,-999.000,9,   3.6583
06MT20050813,     476,       AR04,          1,          4,          4,2,20050901,       0000,     12.265,    -60.101,       2205,  1998.7,   3.8226,  34.9848,2,-999.0000,9, 252.7000,2,  -999.0,9,   0.475,2,   0.242,2,   3.6578
06MT20050813,     476,       AR04,          1,          3,          3,2,20050901,       0000,     12.265,    -60.101,       2205,  2206.5,   3.8271,  34.9843,2,-999.0000,9, 250.2000,2,  -999.0,9,   0.449,2,   0.234,2,   3.6417
06MT20050813,     476,       AR04,          1,          1,          1,2,20050901,       0000,     12.265,    -60.101,       2205,  2206.3,   3.8269,  34.9845,2,  34.9834,2, 250.2000,2,   250.9,6,-999.000,9,-999.000,9,   3.6416
06MT20050813,     476,       AR04,          1,          2,          2,2,20050901,       0000,     12.265,    -60.101,       2205,  2206.2,   3.8271,  34.9844,2,-999.0000,9, 250.2000,2,  -999.0,9,-999.000,9,-999.000,9,   3.6418
06MT20050813,     477,       AR04,          1,         13,         13,2,20050901,       0000,     12.426,     -60.05,       2301,    11.9,  29.9160,  33.9694,2,-999.0000,9, 199.8000,2,  -999.0,9,   1.500,2,   0.932,2,  29.9131
06MT20050813,     477,       AR04,          1,         14,         14,2,20050901,       0000,     12.426,     -60.05,       2301,    12.1,  29.8991,  33.9681,2,-999.0000,9, 199.8000,2,   190.6,3,-999.000,9,-999.000,9,  29.8961
06MT20050813,     477,       AR04,          1,         12,         12,2,20050901,       0000,     12.426,     -60.05,       2301,   307.5,  11.0138,  35.1948,2,-999.0000,9, 127.6000,2,   126.9,2,   1.514,2,   0.784,2,  10.9756
06MT20050813,     477,       AR04,          1,         11,         11,2,20050901,       0000,     12.426,     -60.05,       2301,   698.8,   6.1238,  34.6346,2,  34.6366,2, 127.8000,2,   129.0,2,   0.246,2,   0.126,2,   6.0610
06MT20050813,     477,       AR04,          1,         10,         10,2,20050901,       0000,     12.426,     -60.05,       2301,  1097.2,   5.2134,  34.8984,2,-999.0000,9, 174.6000,2,  -999.0,9,-999.000,9,-999.000,9,   5.1187
06MT20050813,     477,       AR04,          1,          9,          9,2,20050901,       0000,     12.426,     -60.05,       2301,  1099.1,   5.2103,  34.9006,2,-999.0000,9, 175.0000,2,  -999.0,9,   0.164,2,   0.085,2,   5.1155
06MT20050813,     477,       AR04,          1,          8,          8,2,20050901,       0000,     12.426,     -60.05,       2301,  1503.3,   4.2103,  34.9987,2,-999.0000,9, 250.6000,2,   249.4,2,   0.882,2,   0.433,2,   4.0873
06MT20050813,     477,       AR04,          1,          7,          7,2,20050901,       0000,     12.426,     -60.05,       2301,  1506.6,   4.2058,  34.9986,2,-999.0000,9, 250.6000,2,  -999.0,9,-999.000,9,-999.000,9,   4.0826
06MT20050813,     477,       AR04,          1,          6,          6,2,20050901,       0000,     12.426,     -60.05,       2301,  1506.6,   4.2058,  34.9986,2,-999.0000,9, 250.6000,2,  -999.0,9,-999.000,9,-999.000,9,   4.0826
06MT20050813,     477,       AR04,          1,          5,          5,2,20050901,       0000,     12.426,     -60.05,       2301,  1797.2,   3.8580,  34.9839,2,-999.0000,9, 255.5000,2,  -999.0,9,-999.000,9,-999.000,9,   3.7119
06MT20050813,     477,       AR04,          1,          4,          4,2,20050901,       0000,     12.426,     -60.05,       2301,  1799.1,   3.8573,  34.9842,2,-999.0000,9, 255.5000,2,   254.2,6,   0.641,2,   0.317,2,   3.7111
06MT20050813,     477,       AR04,          1,          3,          3,2,20050901,       0000,     12.426,     -60.05,       2301,  2295.8,   3.8241,  34.9836,2,-999.0000,9, 248.9000,2,  -999.0,9,   0.425,2,   0.218,2,   3.6298
06MT20050813,     477,       AR04,          1,          1,          1,2,20050901,       0000,     12.426,     -60.05,       2301,  2295.8,   3.8239,  34.9838,2,  34.9856,2, 248.9000,2,   249.6,2,-999.000,9,-999.000,9,   3.6296
06MT20050813,     477,       AR04,          1,          2,          2,2,20050901,       0000,     12.426,     -60.05,       2301,  2295.8,   3.8241,  34.9837,2,-999.0000,9, 248.9000,2,  -999.0,9,-999.000,9,-999.000,9,   3.6298
06MT20050813,     478,       AR04,          1,         14,         14,2,20050901,       0000,     12.575,      -60.0,       2100,    11.6,  30.0318,  34.0489,2,  34.0195,3, 199.2000,2,  -999.0,9,-999.000,9,-999.000,9,  30.0289
06MT20050813,     478,       AR04,          1,         13,         13,2,20050901,       0000,     12.575,      -60.0,       2100,    11.6,  30.0357,  34.0503,2,-999.0000,9, 199.2000,2,  -999.0,9,   1.440,2,   0.927,2,  30.0328
06MT20050813,     478,       AR04,          1,         12,         12,2,20050901,       0000,     12.575,      -60.0,       2100,   156.7,  19.2042,  36.5402,2,-999.0000,9, 136.7000,2,   139.8,2,   2.020,2,   1.144,2,  19.1758
06MT20050813,     478,       AR04,          1,         11,         11,2,20050901,       0000,     12.575,      -60.0,       2100,   603.3,   6.9517,  34.7043,2,-999.0000,9, 122.6000,2,   123.1,2,   0.372,2,   0.193,2,   6.8940
06MT20050813,     478,       AR04,          1,          9,          9,2,20050901,       0000,     12.575,      -60.0,       2100,  1203.1,   5.0994,  34.9680,2,-999.0000,9, 196.6000,2,  -999.0,9,   0.333,2,   0.168,2,   4.9956
06MT20050813,     478,       AR04,          1,         10,         10,2,20050901,       0000,     12.575,      -60.0,       2100,  1206.8,   5.0978,  34.9706,2,-999.0000,9, 197.3000,2,  -999.0,9,-999.000,9,-999.000,9,   4.9937
06MT20050813,     478,       AR04,          1,          8,          8,2,20050901,       0000,     12.575,      -60.0,       2100,  1599.8,   4.0374,  34.9909,2,-999.0000,9, 253.3000,2,   252.7,2,-999.000,9,-999.000,9,   3.9075
06MT20050813,     478,       AR04,          1,          7,          7,2,20050901,       0000,     12.575,      -60.0,       2100,  1600.3,   4.0362,  34.9910,2,-999.0000,9, 253.3000,2,  -999.0,9,-999.000,9,-999.000,9,   3.9063
06MT20050813,     478,       AR04,          1,          5,          5,2,20050901,       0000,     12.575,      -60.0,       2100,  1898.4,   3.8318,  34.9842,2,-999.0000,9, 253.8000,2,  -999.0,9,-999.000,9,-999.000,9,   3.6765
06MT20050813,     478,       AR04,          1,          6,          6,2,20050901,       0000,     12.575,      -60.0,       2100,  1604.3,   4.0330,  34.9909,2,-999.0000,9, 253.4000,2,  -999.0,9,   0.822,2,   0.411,2,   3.9027
06MT20050813,     478,       AR04,          1,          4,          4,2,20050901,       0000,     12.575,      -60.0,       2100,  1900.8,   3.8318,  34.9840,2,-999.0000,9, 253.8000,2,  -999.0,9,   0.549,2,   0.275,2,   3.6762
06MT20050813,     478,       AR04,          1,          3,          3,2,20050901,       0000,     12.575,      -60.0,       2100,  2157.2,   3.8147,  34.9838,2,-999.0000,9, 249.8000,2,  -999.0,9,   0.443,2,   0.228,2,   3.6345
06MT20050813,     478,       AR04,          1,          2,          2,2,20050901,       0000,     12.575,      -60.0,       2100,  2157.3,   3.8145,  34.9840,2,-999.0000,9, 249.8000,2,  -999.0,9,-999.000,9,-999.000,9,   3.6342
06MT20050813,     478,       AR04,          1,          1,          1,2,20050901,       0000,     12.575,      -60.0,       2100,  2157.3,   3.8145,  34.9837,2,  34.9852,2, 249.8000,2,   250.5,2,-999.000,9,-999.000,9,   3.6342
06MT20050813,     479,       AR04,          1,         15,         15,2,20050901,       0000,     12.733,     -59.95,       1930,    11.1,  30.0105,  33.9283,2,-999.0000,9, 198.0000,2,   210.2,3,-999.000,9,-999.000,9,  30.0078
06MT20050813,     479,       AR04,          1,         14,         14,2,20050901,       0000,     12.733,     -59.95,       1930,    11.1,  30.0118,  33.9280,2,-999.0000,9, 198.0000,2,  -999.0,9,   1.436,2,   0.900,2,  30.0091
06MT20050813,     479,       AR04,          1,         13,         13,2,20050901,       0000,     12.733,     -59.95,       1930,   256.2,  15.9825,  36.1012,2,-999.0000,9, 130.4000,2,  -999.0,9,   2.049,2,   1.102,2,  15.9416
06MT20050813,     479,       AR04,          1,         12,         12,2,20050901,       0000,     12.733,     -59.95,       1930,   513.1,   7.2673,  34.7474,2,-999.0000,9, 122.2000,2,   131.9,3,   0.516,2,   0.265,2,   7.2173
06MT20050813,     479,       AR04,          1,         11,         11,2,20050901,       0000,     12.733,     -59.95,       1930,   744.2,   5.3956,  34.6530,2,  34.6782,3, 138.0000,2,  -999.0,9,   0.079,2,   0.038,2,   5.3325
06MT20050813,     479,       AR04,          1,         10,         10,2,20050901,       0000,     12.733,     -59.95,       1930,   995.2,   5.1880,  34.8320,2,-999.0000,9, 162.6000,2,  -999.0,9,-999.000,9,-999.000,9,   5.1032
06MT20050813,     479,       AR04,          1,          9,          9,2,20050901,       0000,     12.733,     -59.95,       1930,   995.2,   5.1880,  34.8320,2,-999.0000,9, 162.6000,2,   168.9,3,   0.120,2,   0.063,2,   5.1032
06MT20050813,     479,       AR04,          1,          8,          8,2,20050901,       0000,     12.733,     -59.95,       1930,  1294.9,   4.8785,  35.0068,2,-999.0000,9, 218.1000,2,  -999.0,9,   0.644,2,   0.316,2,   4.7680
06MT20050813,     479,       AR04,          1,          7,          7,2,20050901,       0000,     12.733,     -59.95,       1930,  1297.3,   4.8659,  35.0076,2,-999.0000,9, 218.9000,2,  -999.0,9,-999.000,9,-999.000,9,   4.7553
06MT20050813,     479,       AR04,          1,          6,          6,2,20050901,       0000,     12.733,     -59.95,       1930,  1299.7,   4.8526,  35.0080,2,-999.0000,9, 219.8000,2,  -999.0,9,-999.000,9,-999.000,9,   4.7419
06MT20050813,     479,       AR04,          1,          5,          5,2,20050901,       0000,     12.733,     -59.95,       1930,  1505.0,   4.2292,  35.0002,2,-999.0000,9, 249.2000,2,  -999.0,9,-999.000,9,-999.000,9,   4.1059
06MT20050813,     479,       AR04,          1,          4,          4,2,20050901,       0000,     12.733,     -59.95,       1930,  1508.4,   4.2272,  34.9999,2,-999.0000,9, 249.3000,2,   248.3,2,   0.854,2,   0.427,2,   4.1036
06MT20050813,     479,       AR04,          1,          3,          3,2,20050901,       0000,     12.733,     -59.95,       1930,  1920.0,   3.8508,  34.9844,2,-999.0000,9, 253.5000,2,  -999.0,9,   0.583,2,   0.296,2,   3.6931
06MT20050813,     479,       AR04,          1,          2,          2,2,20050901,       0000,     12.733,     -59.95,       1930,  1920.0,   3.8508,  34.9844,2,-999.0000,9, 253.5000,2,  -999.0,9,-999.000,9,-999.000,9,   3.6931
06MT20050813,     479,       AR04,          1,          1,          1,2,20050901,       0000,     12.733,     -59.95,       1930,  1919.9,   3.8508,  34.9837,2,  34.9838,2, 253.5000,2,   252.7,2,-999.000,9,-999.000,9,   3.6931