BOTTLE,20120828SIOCCHMYS
EXPOCODE,STNNBR,SECT_ID,CASTNO,SAMPNO,BTLNBR,BTLNBR_FLAG_W,DATE,TIME,LATITUDE,LONGITUDE,DEPTH,CTDPRS,CTDTMP,CTDSAL,CTDSAL_FLAG_W,SALNTY,SALNTY_FLAG_W,CTDOXY,CTDOXY_FLAG_W,OXYGEN,OXYGEN_FLAG_W,CFC-11,CFC-11_FLAG_W,CFC-12,CFC-12_FLAG_W,THETA
,,,,,,,,,,,,DBAR,ITS-90,PSS-78,,PSS-78,,UMOL/KG,,UMOL/KG,,PMOL/KG,,PMOL/KG,,DEG C
06MT20050813,     437,       AR04,          1,         10,         10,2,20050829,       0000,     16.292,     -60.75,       1100,    13.3,  29.6889,  34.9820,2,-999.0000,9, 198.5000,2,  -999.0,9,-999.000,9,-999.000,9,  29.6856
06MT20050813,     437,       AR04,          1,          9,          9,2,20050829,       0000,     16.292,     -60.75,       1100,    13.6,  29.6868,  34.9818,2,-999.0000,9, 198.5000,2,   198.8,2,   1.439,2,   0.895,4,  29.6835
06MT20050813,     437,       AR04,          1,          8,          8,2,20050829,       0000,     16.292,     -60.75,       1100,   152.6,  23.0467,  36.7648,2,  36.7736,3, 164.4000,2,  -999.0,9,   1.861,2,   1.081,2,  23.0152
06MT20050813,     437,       AR04,          1,          7,          7,2,20050829,       0000,     16.292,     -60.75,       1100,   351.7,  14.3221,  35.9130,2,-999.0000,9, 142.8000,2,  -999.0,9,   1.440,4,   0.570,4,  14.2698
06MT20050813,     437,       AR04,          1,          6,          6,2,20050829,       0000,     16.292,     -60.75,       1100,   552.6,   9.3257,  35.0493,2,-999.0000,9, 122.3000,2,  -999.0,9,-999.000,9,-999.000,9,   9.2631
06MT20050813,     437,       AR04,          1,          5,          5,2,20050829,       0000,     16.292,     -60.75,       1100,   667.0,   8.0583,  34.9290,2,-999.0000,9, 123.0000,2,   122.2,2,   0.435,3,   0.222,3,   7.9885
06MT20050813,     437,       AR04,          1,          4,          4,2,20050829,       0000,     16.292,     -60.75,       1100,   669.4,   8.0590,  34.9320,2,-999.0000,9, 123.2000,2,  -999.0,9,-999.000,9,-999.000,9,   7.9890
06MT20050813,     437,       AR04,          1,          3,          3,2,20050829,       0000,     16.292,     -60.75,       1100,   785.6,   6.4700,  34.7716,2,-999.0000,9, 130.0000,2,  -999.0,9,   0.177,4,   0.061,4,   6.3967
06MT20050813,     437,       AR04,          1,          2,          2,2,20050829,       0000,     16.292,     -60.75,       1100,   785.6,   6.4700,  34.7716,2,-999.0000,9, 130.0000,2,  -999.0,9,-999.000,9,-999.000,9,   6.3967
06MT20050813,     437,       AR04,          1,          1,          1,2,20050829,       0000,     16.292,     -60.75,       1100,   785.8,   6.4699,  34.7714,2,  34.7720,2, 130.0000,2,   140.0,3,-999.000,9,-999.000,9,   6.3966
06MT20050813,     438,       AR04,          1,          8,          8,2,20050829,       0000,     16.291,    -60.817,        549,     7.6,  29.7269,  35.0715,2,-999.0000,9, 198.3000,2,  -999.0,9,   1.388,2,   0.886,2,  29.7250
06MT20050813,     438,       AR04,          1,          7,          7,2,20050829,       0000,     16.291,    -60.817,        549,    10.8,  29.7058,  35.0743,2,-999.0000,9, 198.6000,2,   202.9,2,-999.000,9,-999.000,9,  29.7031
06MT20050813,     438,       AR04,          1,          6,          6,2,20050829,       0000,     16.291,    -60.817,        549,   105.6,  25.8162,  36.5871,2,  36.6308,3, 179.5000,2,   178.3,2,   1.738,2,   1.049,2,  25.7926
06MT20050813,     438,       AR04,          1,          5,          5,2,20050829,       0000,     16.291,    -60.817,        549,   105.7,  25.7798,  36.5922,2,-999.0000,9, 179.4000,2,  -999.0,9,-999.000,9,-999.000,9,  25.7562
06MT20050813,     438,       AR04,          1,          4,          4,2,20050829,       0000,     16.291,    -60.817,        549,   252.3,  16.0607,  36.0018,2,-999.0000,9, 130.0000,2,  -999.0,9,   2.159,2,   1.068,2,  16.0203
06MT20050813,     438,       AR04,          1,          3,          3,2,20050829,       0000,     16.291,    -60.817,        549,   403.9,  11.1375,  35.2617,2,-999.0000,9, 127.8000,2,   126.7,2,   1.519,2,   0.778,2,  11.0867
06MT20050813,     438,       AR04,          1,          2,          2,2,20050829,       0000,     16.291,    -60.817,        549,   542.3,   9.4294,  35.0120,2,-999.0000,9, 121.5000,2,  -999.0,9,   1.030,2,   0.518,2,   9.3676
06MT20050813,     438,       AR04,          1,          1,          1,2,20050829,       0000,     16.291,    -60.817,        549,   542.6,   9.4301,  35.0118,2,  35.0141,2, 121.5000,2,   123.1,2,-999.000,9,-999.000,9,   9.3682
06MT20050813,     439,       AR04,          1,          7,          7,2,20050829,       0000,     16.133,     -60.75,       1019,   106.8,  24.9142,  36.6119,2,  36.6322,3, 168.1000,2,   169.0,2,-999.000,9,-999.000,9,  24.8910
06MT20050813,     439,       AR04,          1,          6,          6,2,20050829,       0000,     16.133,     -60.75,       1019,   301.1,  16.0056,  36.1645,2,  36.0959,3, 153.8000,2,  -999.0,9,-999.000,9,-999.000,9,  15.9574
06MT20050813,     439,       AR04,          1,          5,          5,2,20050829,       0000,     16.133,     -60.75,       1019,   305.9,  15.7917,  36.1202,2,-999.0000,9, 151.9000,2,  -999.0,9,-999.000,9,-999.000,9,  15.7431
06MT20050813,     439,       AR04,          1,          4,          4,2,20050829,       0000,     16.133,     -60.75,       1019,   495.8,  10.5188,  35.2301,2,-999.0000,9, 126.0000,2,   126.5,2,-999.000,9,-999.000,9,  10.4584
06MT20050813,     439,       AR04,          1,          3,          3,2,20050829,       0000,     16.133,     -60.75,       1019,   698.9,   7.4903,  34.8241,2,-999.0000,9, 123.1000,2,   127.0,2,-999.000,9,-999.000,9,   7.4201
06MT20050813,     439,       AR04,          1,          2,          2,2,20050829,       0000,     16.133,     -60.75,       1019,   898.4,   5.7304,  34.9286,2,-999.0000,9, 167.8000,2,   174.2,3,-999.000,9,-999.000,9,   5.6506
06MT20050813,     439,       AR04,          1,          1,          1,2,20050829,       0000,     16.133,     -60.75,       1019,  1057.8,   5.2690,  35.0043,2,  35.0021,2, 205.8000,2,   211.4,3,-999.000,9,-999.000,9,   5.1774
06MT20050813,     440,       AR04,          1,          7,          7,2,20050829,       0000,     15.976,    -60.743,        995,     9.5,  29.5908,  35.1465,2,-999.0000,9, 198.3000,2,   199.3,2,-999.000,9,-999.000,9,  29.5885
06MT20050813,     440,       AR04,          1,          6,          6,2,20050829,       0000,     15.976,    -60.743,        995,   187.0,  22.4322,  37.1159,2,  37.0150,3, 172.4000,2,   165.1,3,-999.000,9,-999.000,9,  22.3943
06MT20050813,     440,       AR04,          1,          3,          3,2,20050829,       0000,     15.976,    -60.743,        995,   601.4,   8.8752,  34.9711,2,-999.0000,9, 121.9000,2,   123.5,2,-999.000,9,-999.000,9,   8.8089
06MT20050813,     440,       AR04,          1,          4,          4,2,20050829,       0000,     15.976,    -60.743,        995,   405.9,  11.9306,  35.3595,2,-999.0000,9, 125.0000,2,   123.4,2,-999.000,9,-999.000,9,  11.8772
06MT20050813,     440,       AR04,          1,          5,          5,2,20050829,       0000,     15.976,    -60.743,        995,   407.4,  11.9165,  35.3589,2,-999.0000,9, 125.0000,2,  -999.0,9,-999.000,9,-999.000,9,  11.8629
06MT20050813,     440,       AR04,          1,          2,          2,2,20050829,       0000,     15.976,    -60.743,        995,   798.6,   5.9669,  34.7226,2,-999.0000,9, 130.8000,2,   132.4,2,-999.000,9,-999.000,9,   5.8954
06MT20050813,     440,       AR04,          1,          1,          1,2,20050829,       0000,     15.976,    -60.743,        995,   990.9,   5.7510,  34.8995,2,  34.8969,2, 163.1000,2,   164.3,2,-999.000,9,-999.000,9,   5.6623
06MT20050813,     441,       AR04,          1,         10,         10,2,20050829,       0000,     15.816,    -60.743,       1652,    14.0,  29.6695,  35.0982,2,-999.0000,9, 198.7000,2,  -999.0,9,-999.000,9,-999.000,9,  29.6661
06MT20050813,     441,       AR04,          1,          9,          9,2,20050829,       0000,     15.816,    -60.743,       1652,    14.0,  29.6695,  35.0982,2,-999.0000,9, 198.7000,2,  -999.0,9,-999.000,9,-999.000,9,  29.6661
06MT20050813,     441,       AR04,          1,          8,          8,2,20050829,       0000,     15.816,    -60.743,       1652,   185.0,  22.3254,  37.1029,2,  36.9554,3, 171.6000,2,   159.8,3,   1.951,2,   1.152,2,  22.2880
06MT20050813,     441,       AR04,          1,          7,          7,2,20050829,       0000,     15.816,    -60.743,       1652,   503.7,   9.8840,  35.0985,2,-999.0000,9, 122.8000,2,   120.9,2,   1.058,2,   0.566,2,   9.8250
06MT20050813,     441,       AR04,          1,          6,          6,2,20050829,       0000,     15.816,    -60.743,       1652,   895.0,   5.9749,  34.8485,2,-999.0000,9, 144.1000,2,   147.8,2,   0.127,2,   0.066,2,   5.8939
06MT20050813,     441,       AR04,          1,          5,          5,2,20050829,       0000,     15.816,    -60.743,       1652,  1210.7,   4.7812,  35.0196,2,-999.0000,9, 229.2000,2,  -999.0,9,   0.848,2,   0.420,2,   4.6795
06MT20050813,     441,       AR04,          1,          4,          4,2,20050829,       0000,     15.816,    -60.743,       1652,  1214.0,   4.7625,  35.0187,2,  35.0161,2, 229.9000,2,  -999.0,9,   0.864,2,   0.428,2,   4.6607
06MT20050813,     441,       AR04,          1,          3,          3,2,20050829,       0000,     15.816,    -60.743,       1652,  1405.3,   4.2852,  35.0027,2,-999.0000,9, 249.7000,2,   250.3,6,   1.180,2,   0.581,2,   4.1704
06MT20050813,     441,       AR04,          1,          2,          2,2,20050829,       0000,     15.816,    -60.743,       1652,  1649.5,   3.8855,  34.9796,2,-999.0000,9, 258.6000,2,  -999.0,9,   1.118,2,   0.546,2,   3.7529
06MT20050813,     441,       AR04,          1,          1,          1,2,20050829,       0000,     15.816,    -60.743,       1652,  1649.5,   3.8857,  34.9792,2,  34.9783,2, 258.6000,2,   259.1,2,-999.000,9,-999.000,9,   3.7531
06MT20050813,     442,       AR04,          1,         11,         11,2,20050829,       0000,      15.66,    -60.733,       2227,    19.5,  29.6073,  35.2188,2,-999.0000,9, 200.8000,2,  -999.0,9,   1.434,2,   0.913,2,  29.6025
06MT20050813,     442,       AR04,          1,         10,         10,2,20050829,       0000,      15.66,    -60.733,       2227,    20.8,  29.6010,  35.2907,2,  35.1076,3, 201.1000,2,   200.1,2,-999.000,9,-999.000,9,  29.5959
06MT20050813,     442,       AR04,          1,          9,          9,2,20050829,       0000,      15.66,    -60.733,       2227,    99.1,  24.4971,  36.6442,2,-999.0000,9, 170.2000,2,  -999.0,9,-999.000,9,-999.000,9,  24.4758
06MT20050813,     442,       AR04,          1,          8,          8,2,20050829,       0000,      15.66,    -60.733,       2227,   302.4,  14.5476,  35.8023,2,-999.0000,9, 140.0000,2,   130.1,3,   1.778,2,   0.971,2,  14.5023
06MT20050813,     442,       AR04,          1,          7,          7,2,20050829,       0000,      15.66,    -60.733,       2227,  1099.6,   5.2868,  35.0146,2,-999.0000,9, 203.7000,2,  -999.0,9,   0.506,2,   0.255,2,   5.1911
06MT20050813,     442,       AR04,          1,          6,          6,2,20050829,       0000,      15.66,    -60.733,       2227,  1498.7,   4.2103,  34.9966,2,-999.0000,9, 251.0000,2,  -999.0,9,   0.499,4,   0.252,4,   4.0878
06MT20050813,     442,       AR04,          1,          5,          5,2,20050829,       0000,      15.66,    -60.733,       2227,  1697.7,   3.8189,  34.9753,2,-999.0000,9, 260.5000,2,  -999.0,9,-999.000,9,-999.000,9,   3.6827
06MT20050813,     442,       AR04,          1,          4,          4,2,20050829,       0000,      15.66,    -60.733,       2227,  1699.7,   3.8189,  34.9752,2,  34.9769,2, 260.5000,2,  -999.0,9,   1.098,2,   0.530,2,   3.6825
06MT20050813,     442,       AR04,          1,          3,          3,2,20050829,       0000,      15.66,    -60.733,       2227,  1998.1,   3.5992,  34.9675,2,-999.0000,9, 260.9000,2,   262.2,2,   0.899,2,   0.452,2,   3.4378
06MT20050813,     442,       AR04,          1,          2,          2,2,20050829,       0000,      15.66,    -60.733,       2227,  2225.3,   3.4737,  34.9639,2,-999.0000,9, 260.0000,2,  -999.0,9,   0.750,2,   0.372,2,   3.2923
06MT20050813,     442,       AR04,          1,          1,          1,2,20050829,       0000,      15.66,    -60.733,       2227,  2226.0,   3.4739,  34.9640,2,  34.9663,2, 260.0000,2,   261.4,2,-999.000,9,-999.000,9,   3.2924
06MT20050813,     443,       AR04,          1,          8,          8,2,20050829,       0000,     15.508,    -60.735,       2519,    12.8,  29.7750,  35.2095,2,-999.0000,9, 198.5000,2,   197.4,6,-999.000,9,-999.000,9,  29.7718
06MT20050813,     443,       AR04,          1,          7,          7,2,20050829,       0000,     15.508,    -60.735,       2519,   178.8,  21.7493,  37.0427,2,  36.8030,3, 168.2000,2,   163.1,3,-999.000,9,-999.000,9,  21.7139
06MT20050813,     443,       AR04,          1,          6,          6,2,20050829,       0000,     15.508,    -60.735,       2519,   507.1,   9.8426,  35.0965,2,-999.0000,9, 122.4000,2,   124.2,2,-999.000,9,-999.000,9,   9.7833
06MT20050813,     443,       AR04,          1,          5,          5,2,20050829,       0000,     15.508,    -60.735,       2519,   901.6,   5.8752,  34.8675,2,-999.0000,9, 150.7000,2,   143.1,3,-999.000,9,-999.000,9,   5.7942
06MT20050813,     443,       AR04,          1,          4,          4,2,20050829,       0000,     15.508,    -60.735,       2519,  1389.1,   4.3292,  35.0036,2,  35.0019,2, 248.3000,2,   247.1,2,-999.000,9,-999.000,9,   4.2155
06MT20050813,     443,       AR04,          1,          3,          3,2,20050829,       0000,     15.508,    -60.735,       2519,  1798.2,   3.7706,  34.9732,2,-999.0000,9, 260.6000,2,   259.9,2,-999.000,9,-999.000,9,   3.6256
06MT20050813,     443,       AR04,          1,          2,          2,2,20050829,       0000,     15.508,    -60.735,       2519,  2198.2,   3.5031,  34.9662,2,-999.0000,9, 260.3000,2,  -999.0,9,-999.000,9,-999.000,9,   3.3239
06MT20050813,     443,       AR04,          1,          1,          1,2,20050829,       0000,     15.508,    -60.735,       2519,  2520.0,   3.1813,  34.9539,2,  34.9541,2, 259.5000,2,   263.6,2,-999.000,9,-999.000,9,   2.9760
06MT20050813,     444,       AR04,          1,          8,          8,2,20050829,       0000,     15.349,    -60.726,       2012,    13.3,  29.7435,  35.2517,2,-999.0000,9, 201.4000,2,  -999.0,9,-999.000,9,-999.000,9,  29.7402
06MT20050813,     444,       AR04,          1,          9,          9,2,20050829,       0000,     15.349,    -60.726,       2012,    13.4,  29.7422,  35.2515,2,-999.0000,9, 201.4000,2,  -999.0,9,-999.000,9,-999.000,9,  29.7389
06MT20050813,     444,       AR04,          1,          7,          7,2,20050829,       0000,     15.349,    -60.726,       2012,   305.2,  14.1104,  35.6816,2,-999.0000,9, 128.8000,2,   131.5,2,-999.000,9,-999.000,9,  14.0656
06MT20050813,     444,       AR04,          1,          6,          6,2,20050829,       0000,     15.349,    -60.726,       2012,   707.2,   6.9420,  34.8041,2,  34.8003,3, 126.7000,2,   127.8,2,-999.000,9,-999.000,9,   6.8738
06MT20050813,     444,       AR04,          1,          5,          5,2,20050829,       0000,     15.349,    -60.726,       2012,  1198.3,   4.8252,  35.0155,2,  35.0177,2, 225.6000,2,   229.1,2,-999.000,9,-999.000,9,   4.7242
06MT20050813,     444,       AR04,          1,          4,          4,2,20050829,       0000,     15.349,    -60.726,       2012,  1601.5,   3.9200,  34.9829,2,-999.0000,9, 258.0000,2,   258.5,2,-999.000,9,-999.000,9,   3.7914
06MT20050813,     444,       AR04,          1,          3,          3,2,20050829,       0000,     15.349,    -60.726,       2012,  1898.0,   3.6554,  34.9689,2,-999.0000,9, 261.2000,2,   254.0,3,-999.000,9,-999.000,9,   3.5027
06MT20050813,     444,       AR04,          1,          1,          1,2,20050829,       0000,     15.349,    -60.726,       2012,  2013.4,   3.6228,  34.9681,2,  34.9702,2, 260.8000,2,  -999.0,9,-999.000,9,-999.000,9,   3.4596
06MT20050813,     444,       AR04,          1,          2,          2,2,20050829,       0000,     15.349,    -60.726,       2012,  2013.4,   3.6228,  34.9679,2,-999.0000,9, 260.8000,2,   261.4,2,-999.000,9,-999.000,9,   3.4596
06MT20050813,     445,       AR04,          1,          7,          7,2,20050829,       0000,     15.198,    -60.726,       1770,    17.6,  29.7660,  34.7352,2,  34.5739,3, 200.2000,2,  -999.0,9,-999.000,9,-999.000,9,  29.7617
06MT20050813,     445,       AR04,          1,          8,          8,2,20050829,       0000,     15.198,    -60.726,       1770,    17.9,  29.7628,  34.7504,2,-999.0000,9, 200.2000,2,   197.6,2,-999.000,9,-999.000,9,  29.7584
06MT20050813,     445,       AR04,          1,          6,          6,2,20050829,       0000,     15.198,    -60.726,       1770,   255.3,  15.0964,  35.8645,2,-999.0000,9, 132.1000,2,   131.1,6,-999.000,9,-999.000,9,  15.0572
06MT20050813,     445,       AR04,          1,          5,          5,2,20050829,       0000,     15.198,    -60.726,       1770,   616.1,   7.9408,  34.8912,2,-999.0000,9, 123.9000,2,   125.1,2,-999.000,9,-999.000,9,   7.8771
06MT20050813,     445,       AR04,          1,          4,          4,2,20050829,       0000,     15.198,    -60.726,       1770,  1105.6,   4.9814,  34.9841,2,-999.0000,9, 197.6000,2,   210.7,3,-999.000,9,-999.000,9,   4.8877
06MT20050813,     445,       AR04,          1,          3,          3,2,20050829,       0000,     15.198,    -60.726,       1770,  1502.0,   4.0853,  34.9911,2,-999.0000,9, 254.7000,2,   254.7,2,-999.000,9,-999.000,9,   3.9639
06MT20050813,     445,       AR04,          1,          1,          1,2,20050829,       0000,     15.198,    -60.726,       1770,  1775.5,   3.7093,  34.9710,2,  34.9716,2, 261.3000,2,  -999.0,9,-999.000,9,-999.000,9,   3.5673
06MT20050813,     445,       AR04,          1,          2,          2,2,20050829,       0000,     15.198,    -60.726,       1770,  1775.7,   3.7091,  34.9709,2,-999.0000,9, 261.3000,2,   253.5,3,-999.000,9,-999.000,9,   3.5671
06MT20050813,     446,       AR04,          1,          7,          7,2,20050829,       0000,     15.041,    -60.726,        917,    10.4,  29.8621,  34.5952,2,-999.0000,9, 198.5000,2,  -999.0,9,-999.000,9,-999.000,9,  29.8595
06MT20050813,     446,       AR04,          1,          6,          6,2,20050829,       0000,     15.041,    -60.726,        917,    12.3,  29.8682,  34.6210,2,-999.0000,9, 198.7000,2,  -999.0,9,-999.000,9,-999.000,9,  29.8652
06MT20050813,     446,       AR04,          1,          5,          5,2,20050829,       0000,     15.041,    -60.726,        917,   101.0,  25.2399,  37.0826,2,  37.0787,2, 204.4000,2,   185.8,3,-999.000,9,-999.000,9,  25.2177
06MT20050813,     446,       AR04,          1,          4,          4,2,20050829,       0000,     15.041,    -60.726,        917,   405.5,  10.4593,  35.1257,2,-999.0000,9, 120.1000,2,   119.8,2,-999.000,9,-999.000,9,  10.4103
06MT20050813,     446,       AR04,          1,          3,          3,2,20050829,       0000,     15.041,    -60.726,        917,   799.0,   6.3484,  34.8014,2,-999.0000,9, 135.1000,2,   133.9,2,-999.000,9,-999.000,9,   6.2744
06MT20050813,     446,       AR04,          1,          2,          2,2,20050829,       0000,     15.041,    -60.726,        917,   926.6,   5.5964,  34.9074,2,  34.9067,2, 168.5000,2,   167.4,6,-999.000,9,-999.000,9,   5.5149
06MT20050813,     446,       AR04,          1,          1,          1,2,20050829,       0000,     15.041,    -60.726,        917,   926.3,   5.5777,  34.9105,2,-999.0000,9, 168.5000,2,  -999.0,9,-999.000,9,-999.000,9,   5.4963