BOTTLE,20120828SIOCCHMYS
EXPOCODE,STNNBR,SECT_ID,CASTNO,SAMPNO,BTLNBR,BTLNBR_FLAG_W,DATE,TIME,LATITUDE,LONGITUDE,DEPTH,CTDPRS,CTDTMP,CTDSAL,CTDSAL_FLAG_W,SALNTY,SALNTY_FLAG_W,CTDOXY,CTDOXY_FLAG_W,OXYGEN,OXYGEN_FLAG_W,CFC-11,CFC-11_FLAG_W,CFC-12,CFC-12_FLAG_W,THETA
,,,,,,,,,,,,DBAR,ITS-90,PSS-78,,PSS-78,,UMOL/KG,,UMOL/KG,,PMOL/KG,,PMOL/KG,,DEG C
06MT20050813,     605,       AR04,          1,         22,         22,2,20050913,       0000,     19.057,    -64.334,       3832,    17.9,  29.9971,  35.9544,2,-999.0000,9, 194.1000,2,   198.9,3,   1.447,2,   0.908,2,  29.9927
06MT20050813,     605,       AR04,          1,         21,         21,2,20050913,       0000,     19.057,    -64.334,       3832,   593.6,  10.4755,  35.3323,2,  35.3117,3, 129.3000,2,  -999.0,9,   0.972,2,   0.518,2,  10.4029
06MT20050813,     605,       AR04,          1,         20,         20,2,20050913,       0000,     19.057,    -64.334,       3832,   983.1,   5.9302,  35.0027,2,-999.0000,9, 183.2000,2,  -999.0,9,   0.463,2,   0.247,2,   5.8407
06MT20050813,     605,       AR04,          1,         19,         19,2,20050913,       0000,     19.057,    -64.334,       3832,  1234.4,   4.8769,  35.0223,2,-999.0000,9, 230.7000,2,  -999.0,9,   0.949,2,   0.483,2,   4.7721
06MT20050813,     605,       AR04,          1,         18,         18,2,20050913,       0000,     19.057,    -64.334,       3832,  1464.8,   4.3899,  35.0069,2,-999.0000,9, 249.3000,2,  -999.0,9,   1.182,2,   0.582,2,   4.2685
06MT20050813,     605,       AR04,          1,         17,         17,2,20050913,       0000,     19.057,    -64.334,       3832,  1564.3,   4.2081,  34.9961,2,-999.0000,9, 254.4000,2,   250.9,2,-999.000,9,-999.000,9,   4.0795
06MT20050813,     605,       AR04,          1,         16,         16,2,20050913,       0000,     19.057,    -64.334,       3832,  1664.0,   4.0495,  34.9872,2,-999.0000,9, 257.8000,2,  -999.0,9,   1.195,2,   0.590,2,   3.9135
06MT20050813,     605,       AR04,          1,         15,         15,2,20050913,       0000,     19.057,    -64.334,       3832,  1849.6,   3.7140,  34.9672,2,-999.0000,9, 262.9000,2,  -999.0,9,   1.071,2,   0.533,2,   3.5650
06MT20050813,     605,       AR04,          1,         14,         14,2,20050913,       0000,     19.057,    -64.334,       3832,  2055.2,   3.5133,  34.9657,2,-999.0000,9, 262.0000,2,  -999.0,9,   0.793,2,   0.400,2,   3.3477
06MT20050813,     605,       AR04,          1,         13,         13,2,20050913,       0000,     19.057,    -64.334,       3832,  2312.9,   3.2990,  34.9600,2,  34.9653,2, 260.9000,2,  -999.0,9,   0.601,2,   0.306,2,   3.1120
06MT20050813,     605,       AR04,          1,         12,         12,2,20050913,       0000,     19.057,    -64.334,       3832,  2508.6,   3.1440,  34.9521,2,-999.0000,9, 260.8000,2,  -999.0,9,-999.000,9,-999.000,9,   2.9405
06MT20050813,     605,       AR04,          1,         11,         11,2,20050913,       0000,     19.057,    -64.334,       3832,  2698.3,   3.0111,  34.9449,2,-999.0000,9, 260.8000,2,  -999.0,9,   0.483,2,   0.248,2,   2.7911
06MT20050813,     605,       AR04,          1,         10,         10,2,20050913,       0000,     19.057,    -64.334,       3832,  2897.9,   2.8544,  34.9348,2,-999.0000,9, 261.9000,2,  -999.0,9,-999.000,9,-999.000,9,   2.6173
06MT20050813,     605,       AR04,          1,          9,          9,2,20050913,       0000,     19.057,    -64.334,       3832,  3097.2,   2.7160,  34.9262,2,-999.0000,9, 263.3000,2,   262.3,2,   0.558,2,   0.282,2,   2.4613
06MT20050813,     605,       AR04,          1,          8,          8,2,20050913,       0000,     19.057,    -64.334,       3832,  3398.8,   2.5027,  34.9123,2,  34.9136,2, 264.9000,2,  -999.0,9,   0.621,2,   0.311,2,   2.2211
06MT20050813,     605,       AR04,          1,          7,          7,2,20050913,       0000,     19.057,    -64.334,       3832,  3500.9,   2.4598,  34.9093,2,-999.0000,9, 265.1000,2,  -999.0,9,-999.000,9,-999.000,9,   2.1682
06MT20050813,     605,       AR04,          1,          6,          6,2,20050913,       0000,     19.057,    -64.334,       3832,  3501.0,   2.4600,  34.9089,2,-999.0000,9, 265.1000,2,  -999.0,9,-999.000,9,-999.000,9,   2.1684
06MT20050813,     605,       AR04,          1,          5,          5,2,20050913,       0000,     19.057,    -64.334,       3832,  3597.2,   2.4281,  34.9064,2,-999.0000,9, 265.1000,2,  -999.0,9,-999.000,9,-999.000,9,   2.1269
06MT20050813,     605,       AR04,          1,          4,          4,2,20050913,       0000,     19.057,    -64.334,       3832,  3599.1,   2.4284,  34.9060,2,-999.0000,9, 265.1000,2,  -999.0,9,   0.660,2,   0.330,2,   2.1270
06MT20050813,     605,       AR04,          1,          3,          3,2,20050913,       0000,     19.057,    -64.334,       3832,  3869.6,   2.3707,  34.9004,2,-999.0000,9, 264.7000,2,  -999.0,9,-999.000,9,-999.000,9,   2.0408
06MT20050813,     605,       AR04,          1,          2,          2,2,20050913,       0000,     19.057,    -64.334,       3832,  3869.6,   2.3707,  34.9004,2,-999.0000,9, 264.7000,2,  -999.0,9,   0.644,2,   0.341,2,   2.0408
06MT20050813,     605,       AR04,          1,          1,          1,2,20050913,       0000,     19.057,    -64.334,       3832,  3869.6,   2.3705,  34.9011,2,  34.8992,2, 264.7000,2,   267.0,2,-999.000,9,-999.000,9,   2.0406
06MT20050813,     606,       AR04,          1,         22,         22,2,20050913,       0000,     19.149,    -64.326,       4851,    24.3,  30.1189,  36.0134,2,-999.0000,9, 194.8000,2,  -999.0,9,   1.461,2,   0.925,2,  30.1128
06MT20050813,     606,       AR04,          1,         21,         21,2,20050913,       0000,     19.149,    -64.326,       4851,   404.8,  15.3870,  36.0902,2,-999.0000,9, 165.0000,2,  -999.0,9,   2.109,2,   1.128,2,  15.3237
06MT20050813,     606,       AR04,          1,         20,         20,2,20050913,       0000,     19.149,    -64.326,       4851,   797.9,   7.8349,  35.0474,2,-999.0000,9, 134.7000,2,   134.2,2,   0.354,2,   0.198,2,   7.7519
06MT20050813,     606,       AR04,          1,         19,         19,2,20050913,       0000,     19.149,    -64.326,       4851,  1217.5,   4.9333,  35.0239,2,-999.0000,9, 228.6000,2,  -999.0,9,   0.962,2,   0.482,2,   4.8295
06MT20050813,     606,       AR04,          1,         18,         18,2,20050913,       0000,     19.149,    -64.326,       4851,  1389.1,   4.5000,  35.0120,2,  35.0098,2, 245.2000,2,  -999.0,9,   1.183,2,   0.580,2,   4.3845
06MT20050813,     606,       AR04,          1,         17,         17,2,20050913,       0000,     19.149,    -64.326,       4851,  1576.6,   4.1617,  34.9971,2,-999.0000,9, 256.8000,2,  -999.0,9,-999.000,9,-999.000,9,   4.0325
06MT20050813,     606,       AR04,          1,         16,         16,2,20050913,       0000,     19.149,    -64.326,       4851,  1648.9,   4.0131,  34.9863,2,-999.0000,9, 259.3000,2,  -999.0,9,   1.288,2,   0.627,2,   3.8789
06MT20050813,     606,       AR04,          1,         15,         15,2,20050913,       0000,     19.149,    -64.326,       4851,  1750.5,   3.8397,  34.9764,2,-999.0000,9, 261.7000,2,  -999.0,9,   1.162,2,   0.580,2,   3.6983
06MT20050813,     606,       AR04,          1,         14,         14,2,20050913,       0000,     19.149,    -64.326,       4851,  1939.2,   3.5879,  34.9694,2,-999.0000,9, 262.4000,2,  -999.0,9,   0.899,2,   0.445,2,   3.4322
06MT20050813,     606,       AR04,          1,         13,         13,2,20050913,       0000,     19.149,    -64.326,       4851,  2135.7,   3.3651,  34.9623,2,-999.0000,9, 261.8000,2,   257.4,2,-999.000,9,-999.000,9,   3.1941
06MT20050813,     606,       AR04,          1,         12,         12,2,20050913,       0000,     19.149,    -64.326,       4851,  2298.8,   3.2326,  34.9566,2,-999.0000,9, 261.6000,2,  -999.0,9,   0.541,2,   0.281,2,   3.0481
06MT20050813,     606,       AR04,          1,         11,         11,2,20050913,       0000,     19.149,    -64.326,       4851,  2588.6,   3.0281,  34.9458,2,-999.0000,9, 261.2000,2,  -999.0,9,   0.503,2,   0.256,2,   2.8188
06MT20050813,     606,       AR04,          1,         10,         10,2,20050913,       0000,     19.149,    -64.326,       4851,  2902.1,   2.8251,  34.9336,2,  34.9342,2, 262.0000,2,  -999.0,9,   0.516,2,   0.266,2,   2.5882
06MT20050813,     606,       AR04,          1,          9,          9,2,20050913,       0000,     19.149,    -64.326,       4851,  3099.1,   2.7362,  34.9275,2,-999.0000,9, 262.8000,2,  -999.0,9,   0.562,2,   0.283,2,   2.4808
06MT20050813,     606,       AR04,          1,          8,          8,2,20050913,       0000,     19.149,    -64.326,       4851,  3298.7,   2.5869,  34.9181,2,-999.0000,9, 264.3000,2,  -999.0,9,   0.632,2,   0.314,2,   2.3139
06MT20050813,     606,       AR04,          1,          7,          7,2,20050913,       0000,     19.149,    -64.326,       4851,  3500.9,   2.4694,  34.9099,2,  34.9391,3, 265.3000,2,  -999.0,9,   0.721,2,   0.372,2,   2.1776
06MT20050813,     606,       AR04,          1,          6,          6,2,20050913,       0000,     19.149,    -64.326,       4851,  3698.3,   2.3821,  34.9033,2,-999.0000,9, 265.3000,2,   263.4,2,   0.685,2,   0.345,2,   2.0710
06MT20050813,     606,       AR04,          1,          5,          5,2,20050913,       0000,     19.149,    -64.326,       4851,  3897.6,   2.3274,  34.8984,2,-999.0000,9, 264.4000,2,  -999.0,9,-999.000,9,-999.000,9,   1.9955
06MT20050813,     606,       AR04,          1,          4,          4,2,20050913,       0000,     19.149,    -64.326,       4851,  4001.2,   2.3157,  34.8973,2,-999.0000,9, 264.3000,2,  -999.0,9,   0.608,2,   0.310,2,   1.9724
06MT20050813,     606,       AR04,          1,          3,          3,2,20050913,       0000,     19.149,    -64.326,       4851,  4297.7,   2.3036,  34.8935,2,-999.0000,9, 263.0000,2,  -999.0,9,   0.538,2,   0.278,2,   1.9263
06MT20050813,     606,       AR04,          1,          2,          2,2,20050913,       0000,     19.149,    -64.326,       4851,  4950.3,   2.2989,  34.8854,2,-999.0000,9, 259.3000,2,  -999.0,9,   0.414,2,   0.217,2,   1.8425
06MT20050813,     606,       AR04,          1,          1,          1,2,20050913,       0000,     19.149,    -64.326,       4851,  4950.3,   2.2989,  34.8854,2,  34.8845,2, 259.3000,2,  -999.0,9,-999.000,9,-999.000,9,   1.8425
06MT20050813,     607,       AR04,          1,         22,         22,2,20050913,       0000,     19.233,    -64.317,       5256,    17.2,  30.0447,  36.0274,2,-999.0000,9, 192.2000,2,   186.6,3,   1.434,2,   0.911,2,  30.0404
06MT20050813,     607,       AR04,          1,         21,         21,2,20050913,       0000,     19.233,    -64.317,       5256,   482.5,  13.4689,  35.7644,2,-999.0000,9, 141.2000,2,  -999.0,9,   1.698,2,   0.907,2,  13.3998
06MT20050813,     607,       AR04,          1,         20,         20,2,20050913,       0000,     19.233,    -64.317,       5256,  1104.7,   5.6682,  35.0578,2,  35.0574,2, 208.3000,2,  -999.0,9,   0.889,2,   0.456,2,   5.5688
06MT20050813,     607,       AR04,          1,         19,         19,2,20050913,       0000,     19.233,    -64.317,       5256,  1325.6,   4.6977,  35.0309,2,-999.0000,9, 245.0000,2,  -999.0,9,   1.322,2,   0.642,2,   4.5860
06MT20050813,     607,       AR04,          1,         18,         18,2,20050913,       0000,     19.233,    -64.317,       5256,  1457.8,   4.2768,  35.0029,2,-999.0000,9, 254.8000,2,  -999.0,9,-999.000,9,-999.000,9,   4.1573
06MT20050813,     607,       AR04,          1,         17,         17,2,20050913,       0000,     19.233,    -64.317,       5256,  1597.8,   3.9569,  34.9798,2,-999.0000,9, 260.9000,2,  -999.0,9,   1.353,2,   0.660,2,   3.8282
06MT20050813,     607,       AR04,          1,         16,         16,2,20050913,       0000,     19.233,    -64.317,       5256,  1711.8,   3.8070,  34.9730,2,-999.0000,9, 261.7000,2,  -999.0,9,   1.253,2,   0.606,2,   3.6696
06MT20050813,     607,       AR04,          1,         15,         15,2,20050913,       0000,     19.233,    -64.317,       5256,  1804.6,   3.7150,  34.9720,2,-999.0000,9, 262.3000,2,  -999.0,9,   1.054,2,   0.537,2,   3.5702
06MT20050813,     607,       AR04,          1,         14,         14,2,20050913,       0000,     19.233,    -64.317,       5256,  1998.7,   3.4928,  34.9640,2,-999.0000,9, 262.4000,2,  -999.0,9,   0.818,2,   0.411,2,   3.3329
06MT20050813,     607,       AR04,          1,         13,         13,2,20050913,       0000,     19.233,    -64.317,       5256,  2180.8,   3.2920,  34.9601,2,-999.0000,9, 261.0000,2,  -999.0,9,   0.608,2,   0.318,2,   3.1179
06MT20050813,     607,       AR04,          1,         12,         12,2,20050913,       0000,     19.233,    -64.317,       5256,  2497.7,   3.0945,  34.9495,2,-999.0000,9, 261.1000,2,  -999.0,9,-999.000,9,-999.000,9,   2.8930
06MT20050813,     607,       AR04,          1,         11,         11,2,20050913,       0000,     19.233,    -64.317,       5256,  2810.6,   2.8776,  34.9372,2,-999.0000,9, 261.5000,2,   261.3,2,   0.517,2,   0.265,2,   2.6490
06MT20050813,     607,       AR04,          1,         10,         10,2,20050913,       0000,     19.233,    -64.317,       5256,  2998.4,   2.7319,  34.9276,2,-999.0000,9, 262.7000,2,  -999.0,9,-999.000,9,-999.000,9,   2.4871
06MT20050813,     607,       AR04,          1,          9,          9,2,20050913,       0000,     19.233,    -64.317,       5256,  3198.2,   2.5990,  34.9189,2,  34.9216,2, 263.8000,2,  -999.0,9,   0.618,2,   0.316,2,   2.3364
06MT20050813,     607,       AR04,          1,          8,          8,2,20050913,       0000,     19.233,    -64.317,       5256,  3397.9,   2.4926,  34.9111,2,-999.0000,9, 264.8000,2,  -999.0,9,   0.637,2,   0.332,2,   2.2113
06MT20050813,     607,       AR04,          1,          7,          7,2,20050913,       0000,     19.233,    -64.317,       5256,  3598.9,   2.4018,  34.9053,2,-999.0000,9, 265.2000,2,   260.0,3,   0.724,2,   0.372,2,   2.1011
06MT20050813,     607,       AR04,          1,          6,          6,2,20050913,       0000,     19.233,    -64.317,       5256,  3888.5,   2.3207,  34.8976,2,-999.0000,9, 264.5000,2,  -999.0,9,   0.660,2,   0.334,2,   1.9900
06MT20050813,     607,       AR04,          1,          5,          5,2,20050913,       0000,     19.233,    -64.317,       5256,  4098.4,   2.2897,  34.8938,2,  34.9104,3, 263.3000,2,  -999.0,9,   0.613,2,   0.311,2,   1.9360
06MT20050813,     607,       AR04,          1,          4,          4,2,20050913,       0000,     19.233,    -64.317,       5256,  4397.4,   2.2804,  34.8899,2,-999.0000,9, 261.8000,2,   261.1,2,   0.520,2,   0.269,2,   1.8921
06MT20050813,     607,       AR04,          1,          3,          3,2,20050913,       0000,     19.233,    -64.317,       5256,  4798.0,   2.2652,  34.8838,2,-999.0000,9, 259.2000,2,  -999.0,9,   0.408,2,   0.215,2,   1.8288
06MT20050813,     607,       AR04,          1,          2,          2,2,20050913,       0000,     19.233,    -64.317,       5256,  5378.2,   2.1491,  34.8610,2,-999.0000,9, 250.5000,2,  -999.0,9,   0.172,2,   0.103,2,   1.6434
06MT20050813,     607,       AR04,          1,          1,          1,2,20050913,       0000,     19.233,    -64.317,       5256,  5377.8,   2.1495,  34.8612,2,  34.8607,2, 250.5000,2,   250.8,2,-999.000,9,-999.000,9,   1.6438