BOTTLE,20120828SIOCCHMYS
EXPOCODE,STNNBR,SECT_ID,CASTNO,SAMPNO,BTLNBR,BTLNBR_FLAG_W,DATE,TIME,LATITUDE,LONGITUDE,DEPTH,CTDPRS,CTDTMP,CTDSAL,CTDSAL_FLAG_W,SALNTY,SALNTY_FLAG_W,CTDOXY,CTDOXY_FLAG_W,OXYGEN,OXYGEN_FLAG_W,CFC-11,CFC-11_FLAG_W,CFC-12,CFC-12_FLAG_W,THETA
,,,,,,,,,,,,DBAR,ITS-90,PSS-78,,PSS-78,,UMOL/KG,,UMOL/KG,,PMOL/KG,,PMOL/KG,,DEG C
06MT20050813,     420,       AR04,          1,         22,         22,2,20050826,       0000,     15.899,    -57.009,       5184,    27.1,  29.6008,  34.9299,2,  33.9298,3, 203.4000,2,   201.6,2,-999.000,9,-999.000,9,  29.5941
06MT20050813,     420,       AR04,          1,         21,         21,2,20050826,       0000,     15.899,    -57.009,       5184,    27.1,  29.6008,  34.9299,2,-999.0000,9, 203.4000,2,  -999.0,9,   1.431,2,   0.925,2,  29.5941
06MT20050813,     420,       AR04,          1,         20,         20,2,20050826,       0000,     15.899,    -57.009,       5184,   501.0,   9.0016,  34.8977,2,  34.8906,3, 114.6000,2,   114.8,2,-999.000,9,-999.000,9,   8.9463
06MT20050813,     420,       AR04,          1,         19,         19,2,20050826,       0000,     15.899,    -57.009,       5184,  1401.9,   5.0840,  35.0209,2,-999.0000,9, 215.3000,2,  -999.0,9,   0.550,2,   0.274,2,   4.9611
06MT20050813,     420,       AR04,          1,         18,         18,2,20050826,       0000,     15.899,    -57.009,       5184,  1509.9,   4.7770,  35.0263,2,-999.0000,9, 230.8000,2,  -999.0,9,-999.000,9,-999.000,9,   4.6470
06MT20050813,     420,       AR04,          1,         17,         17,2,20050826,       0000,     15.899,    -57.009,       5184,  1612.3,   4.4198,  35.0101,2,-999.0000,9, 245.9000,2,  -999.0,9,   1.004,2,   0.496,2,   4.2841
06MT20050813,     420,       AR04,          1,         16,         16,2,20050826,       0000,     15.899,    -57.009,       5184,  1720.8,   4.1796,  34.9976,2,  34.9972,2, 252.5000,2,   254.0,2,-999.000,9,-999.000,9,   4.0365
06MT20050813,     420,       AR04,          1,         15,         15,2,20050826,       0000,     15.899,    -57.009,       5184,  1812.5,   3.9533,  34.9870,2,-999.0000,9, 255.8000,2,  -999.0,9,   0.780,2,   0.395,2,   3.8045
06MT20050813,     420,       AR04,          1,         14,         14,2,20050826,       0000,     15.899,    -57.009,       5184,  1907.0,   3.7699,  34.9755,2,-999.0000,9, 259.2000,2,  -999.0,9,-999.000,9,-999.000,9,   3.6147
06MT20050813,     420,       AR04,          1,         13,         13,2,20050826,       0000,     15.899,    -57.009,       5184,  2107.5,   3.4859,  34.9688,2,-999.0000,9, 260.1000,2,  -999.0,9,   0.589,2,   0.302,2,   3.3157
06MT20050813,     420,       AR04,          1,         12,         12,2,20050826,       0000,     15.899,    -57.009,       5184,  2313.4,   3.2890,  34.9634,2,-999.0000,9, 258.6000,2,   259.8,2,-999.000,9,-999.000,9,   3.1021
06MT20050813,     420,       AR04,          1,         11,         11,2,20050826,       0000,     15.899,    -57.009,       5184,  3299.8,   2.5852,  34.9177,2,  34.9199,2, 256.9000,2,   258.4,2,-999.000,9,-999.000,9,   2.3121
06MT20050813,     420,       AR04,          1,         10,         10,2,20050826,       0000,     15.899,    -57.009,       5184,  3502.7,   2.4945,  34.9104,2,-999.0000,9, 256.6000,2,  -999.0,9,-999.000,9,-999.000,9,   2.2019
06MT20050813,     420,       AR04,          1,          9,          9,2,20050826,       0000,     15.899,    -57.009,       5184,  3504.3,   2.4929,  34.9103,2,-999.0000,9, 256.7000,2,  -999.0,9,   0.183,2,   0.096,2,   2.2001
06MT20050813,     420,       AR04,          1,          8,          8,2,20050826,       0000,     15.899,    -57.009,       5184,  3804.4,   2.3529,  34.8977,2,-999.0000,9, 255.6000,2,   256.7,2,-999.000,9,-999.000,9,   2.0308
06MT20050813,     420,       AR04,          1,          7,          7,2,20050826,       0000,     15.899,    -57.009,       5184,  3997.8,   2.3061,  34.8952,2,-999.0000,9, 260.3000,2,  -999.0,9,   0.248,2,   0.132,2,   1.9635
06MT20050813,     420,       AR04,          1,          6,          6,2,20050826,       0000,     15.899,    -57.009,       5184,  4198.6,   2.2767,  34.8921,2,-999.0000,9, 261.4000,2,   261.5,2,-999.000,9,-999.000,9,   1.9118
06MT20050813,     420,       AR04,          1,          5,          5,2,20050826,       0000,     15.899,    -57.009,       5184,  4399.5,   2.2317,  34.8849,2,-999.0000,9, 259.5000,2,  -999.0,9,   0.193,2,   0.105,2,   1.8446
06MT20050813,     420,       AR04,          1,          4,          4,2,20050826,       0000,     15.899,    -57.009,       5184,  4799.2,   2.0898,  34.8620,2,  34.8593,2, 253.0000,2,  -999.0,9,   0.108,2,   0.062,2,   1.6592
06MT20050813,     420,       AR04,          1,          3,          3,2,20050826,       0000,     15.899,    -57.009,       5184,  4999.8,   2.0451,  34.8535,2,-999.0000,9, 251.0000,2,   267.1,4,-999.000,9,-999.000,9,   1.5912
06MT20050813,     420,       AR04,          1,          2,          2,2,20050826,       0000,     15.899,    -57.009,       5184,  5271.8,   1.8882,  34.8312,2,-999.0000,9, 245.2000,2,  -999.0,9,-999.000,9,-999.000,9,   1.4056
06MT20050813,     420,       AR04,          1,          1,          1,2,20050826,       0000,     15.899,    -57.009,       5184,  5272.1,   1.8878,  34.8307,2,  34.8316,2, 245.2000,2,   237.2,3,   0.080,2,   0.043,2,   1.4051
06MT20050813,     421,       AR04,          1,         11,         11,2,20050826,       0000,     15.942,    -57.367,       5286,    17.0,  29.9076,  33.9830,2,-999.0000,9, 199.9000,2,  -999.0,9,-999.000,9,-999.000,9,  29.9034
06MT20050813,     421,       AR04,          1,         10,         10,2,20050826,       0000,     15.942,    -57.367,       5286,    17.1,  29.9110,  34.0076,2,-999.0000,9, 199.9000,2,   199.3,2,-999.000,9,-999.000,9,  29.9068
06MT20050813,     421,       AR04,          1,          9,          9,2,20050826,       0000,     15.942,    -57.367,       5286,   101.9,  25.8000,  37.0785,2,-999.0000,9, 208.1000,2,  -999.0,9,-999.000,9,-999.000,9,  25.7772
06MT20050813,     421,       AR04,          1,          8,          8,2,20050826,       0000,     15.942,    -57.367,       5286,   392.6,  12.5826,  35.5603,2,-999.0000,9, 129.6000,2,   122.2,3,-999.000,9,-999.000,9,  12.5291
06MT20050813,     421,       AR04,          1,          7,          7,2,20050826,       0000,     15.942,    -57.367,       5286,   823.3,   6.4141,  34.7503,2,-999.0000,9, 127.6000,2,   128.1,2,-999.000,9,-999.000,9,   6.3374
06MT20050813,     421,       AR04,          1,          6,          6,2,20050826,       0000,     15.942,    -57.367,       5286,  1812.9,   3.9734,  34.9964,2,-999.0000,9, 250.3000,2,   250.8,2,-999.000,9,-999.000,9,   3.8243
06MT20050813,     421,       AR04,          1,          5,          5,2,20050826,       0000,     15.942,    -57.367,       5286,  2416.2,   3.1786,  34.9609,2,  34.9582,2, 253.9000,2,   255.7,2,-999.000,9,-999.000,9,   2.9836
06MT20050813,     421,       AR04,          1,          4,          4,2,20050826,       0000,     15.942,    -57.367,       5286,  3011.1,   2.6994,  34.9272,2,-999.0000,9, 261.8000,2,   263.3,2,-999.000,9,-999.000,9,   2.4540
06MT20050813,     421,       AR04,          1,          3,          3,2,20050826,       0000,     15.942,    -57.367,       5286,  4000.3,   2.3006,  34.8962,2,  34.8976,2, 262.5000,2,   261.6,2,-999.000,9,-999.000,9,   1.9578
06MT20050813,     421,       AR04,          1,          2,          2,2,20050826,       0000,     15.942,    -57.367,       5286,  4799.0,   2.1060,  34.8648,2,-999.0000,9, 253.6000,2,   253.2,2,-999.000,9,-999.000,9,   1.6748
06MT20050813,     421,       AR04,          1,          1,          1,2,20050826,       0000,     15.942,    -57.367,       5286,  5401.8,   1.8741,  34.8272,2,  34.8243,2, 243.9000,2,   242.7,2,-999.000,9,-999.000,9,   1.3754
06MT20050813,     423,       AR04,          1,         22,         22,2,20050826,       0000,     15.985,    -57.717,       5379,    13.7,  29.7318,  33.2234,2,  33.7382,3, 200.9000,2,   197.5,2,   1.419,2,   0.914,2,  29.7284
06MT20050813,     423,       AR04,          1,         21,         21,2,20050826,       0000,     15.985,    -57.717,       5379,   197.6,  19.2589,  36.7081,2,  36.5168,3, 160.5000,2,   159.5,2,   2.111,2,   1.217,2,  19.2230
06MT20050813,     423,       AR04,          1,         20,         20,2,20050826,       0000,     15.985,    -57.717,       5379,   490.6,  10.9450,  35.3440,2,-999.0000,9, 124.4000,2,   123.8,2,   1.066,2,   0.564,2,  10.8836
06MT20050813,     423,       AR04,          1,         19,         19,2,20050826,       0000,     15.985,    -57.717,       5379,   911.8,   5.6591,  34.7168,2,-999.0000,9, 136.8000,2,  -999.0,9,   0.090,2,   0.050,2,   5.5788
06MT20050813,     423,       AR04,          1,         18,         18,2,20050826,       0000,     15.985,    -57.717,       5379,  1197.5,   5.3821,  34.9917,2,-999.0000,9, 193.4000,2,  -999.0,9,   0.401,2,   0.208,2,   5.2763
06MT20050813,     423,       AR04,          1,         17,         17,2,20050826,       0000,     15.985,    -57.717,       5379,  1408.0,   4.7669,  35.0145,2,-999.0000,9, 224.3000,2,  -999.0,9,   0.424,2,   0.213,2,   4.6468
06MT20050813,     423,       AR04,          1,         16,         16,2,20050826,       0000,     15.985,    -57.717,       5379,  1560.7,   4.4004,  35.0110,2,  35.0068,2, 246.9000,2,  -999.0,9,   0.950,2,   0.464,2,   4.2698
06MT20050813,     423,       AR04,          1,         15,         15,2,20050826,       0000,     15.985,    -57.717,       5379,  1697.0,   4.0158,  34.9894,2,-999.0000,9, 256.1000,2,   260.8,2,-999.000,9,-999.000,9,   3.8771
06MT20050813,     423,       AR04,          1,         14,         14,2,20050826,       0000,     15.985,    -57.717,       5379,  1848.8,   3.7908,  34.9804,2,-999.0000,9, 258.9000,2,  -999.0,9,   0.765,2,   0.380,2,   3.6408
06MT20050813,     423,       AR04,          1,         13,         13,2,20050826,       0000,     15.985,    -57.717,       5379,  1999.9,   3.5934,  34.9701,2,-999.0000,9, 260.9000,2,  -999.0,9,   0.752,2,   0.380,2,   3.4319
06MT20050813,     423,       AR04,          1,         12,         12,2,20050826,       0000,     15.985,    -57.717,       5379,  2137.5,   3.4596,  34.9705,2,-999.0000,9, 258.9000,2,   252.3,3,   0.445,2,   0.226,2,   3.2869
06MT20050813,     423,       AR04,          1,         11,         11,2,20050826,       0000,     15.985,    -57.717,       5379,  2399.3,   3.2158,  34.9599,2,-999.0000,9, 258.3000,2,  -999.0,9,   0.283,2,   0.145,2,   3.0218
06MT20050813,     423,       AR04,          1,         10,         10,2,20050826,       0000,     15.985,    -57.717,       5379,  2696.6,   2.9678,  34.9454,2,-999.0000,9, 258.2000,2,   258.3,2,   0.240,2,   0.120,2,   2.7489
06MT20050813,     423,       AR04,          1,          9,          9,2,20050826,       0000,     15.985,    -57.717,       5379,  3099.3,   2.7147,  34.9278,2,  34.9283,2, 257.4000,2,  -999.0,9,   0.214,2,   0.108,2,   2.4598
06MT20050813,     423,       AR04,          1,          8,          8,2,20050826,       0000,     15.985,    -57.717,       5379,  3400.3,   2.5414,  34.9147,2,-999.0000,9, 257.6000,2,   259.0,2,   0.238,2,   0.120,2,   2.2587
06MT20050813,     423,       AR04,          1,          7,          7,2,20050826,       0000,     15.985,    -57.717,       5379,  3799.1,   2.3812,  34.9025,2,-999.0000,9, 261.0000,2,  -999.0,9,   0.289,2,   0.150,2,   2.0589
06MT20050813,     423,       AR04,          1,          6,          6,2,20050826,       0000,     15.985,    -57.717,       5379,  4100.3,   2.3088,  34.8965,2,-999.0000,9, 263.3000,2,   260.7,6,   0.336,2,   0.174,2,   1.9543
06MT20050813,     423,       AR04,          1,          5,          5,2,20050826,       0000,     15.985,    -57.717,       5379,  4298.9,   2.2776,  34.8921,2,  34.8929,2, 262.2000,2,  -999.0,9,   0.294,2,   0.157,2,   1.9010
06MT20050813,     423,       AR04,          1,          4,          4,2,20050826,       0000,     15.985,    -57.717,       5379,  4699.2,   2.1855,  34.8756,2,-999.0000,9, 257.3000,2,  -999.0,9,   0.190,2,   0.104,2,   1.7639
06MT20050813,     423,       AR04,          1,          3,          3,2,20050826,       0000,     15.985,    -57.717,       5379,  5098.7,   1.9502,  34.8421,2,-999.0000,9, 248.4000,2,   246.4,2,   0.078,2,   0.048,2,   1.4872
06MT20050813,     423,       AR04,          1,          2,          2,2,20050826,       0000,     15.985,    -57.717,       5379,  5514.2,   1.8892,  34.8272,2,-999.0000,9, 243.7000,2,  -999.0,9,   0.084,2,   0.052,2,   1.3754
06MT20050813,     423,       AR04,          1,          1,          1,2,20050826,       0000,     15.985,    -57.717,       5379,  5514.5,   1.8892,  34.8273,2,  34.8245,2, 243.7000,2,   241.9,2,-999.000,9,-999.000,9,   1.3754
06MT20050813,     424,       AR04,          1,         22,         22,2,20050826,       0000,     16.025,    -58.076,       5364,    13.3,  29.9000,  33.2438,2,-999.0000,9, 199.5000,2,   204.4,2,-999.000,9,-999.000,9,  29.8967
06MT20050813,     424,       AR04,          1,         21,         21,2,20050826,       0000,     16.025,    -58.076,       5364,    13.3,  29.9000,  33.2438,2,-999.0000,9, 199.5000,2,  -999.0,9,   1.409,2,   0.918,2,  29.8967
06MT20050813,     424,       AR04,          1,         20,         20,2,20050826,       0000,     16.025,    -58.076,       5364,   415.2,  11.1174,  35.2770,2,-999.0000,9, 127.7000,2,   131.4,2,   1.405,2,   0.734,2,  11.0652
06MT20050813,     424,       AR04,          1,         19,         19,2,20050826,       0000,     16.025,    -58.076,       5364,   805.0,   5.9983,  34.7046,2,  34.6979,3, 131.5000,2,   131.8,2,   0.154,2,   0.082,2,   5.9260
06MT20050813,     424,       AR04,          1,         18,         18,2,20050826,       0000,     16.025,    -58.076,       5364,  1087.4,   5.4530,  34.9095,2,-999.0000,9, 170.2000,2,  -999.0,9,   0.158,2,   0.083,2,   5.3573
06MT20050813,     424,       AR04,          1,         17,         17,2,20050826,       0000,     16.025,    -58.076,       5364,  1429.1,   4.5965,  35.0178,2,-999.0000,9, 235.3000,2,   236.0,2,   0.685,2,   0.341,2,   4.4762
06MT20050813,     424,       AR04,          1,         16,         16,2,20050826,       0000,     16.025,    -58.076,       5364,  1598.6,   4.2066,  35.0004,2,-999.0000,9, 251.7000,2,  -999.0,9,   0.836,2,   0.405,2,   4.0748
06MT20050813,     424,       AR04,          1,         15,         15,2,20050826,       0000,     16.025,    -58.076,       5364,  1746.9,   3.9287,  34.9864,2,  34.9872,2, 256.3000,2,  -999.0,9,   0.729,2,   0.361,2,   3.7864
06MT20050813,     424,       AR04,          1,         14,         14,2,20050826,       0000,     16.025,    -58.076,       5364,  1901.1,   3.7386,  34.9785,2,-999.0000,9, 258.5000,2,  -999.0,9,   0.662,2,   0.326,2,   3.5844
06MT20050813,     424,       AR04,          1,         13,         13,2,20050826,       0000,     16.025,    -58.076,       5364,  2051.8,   3.5836,  34.9742,2,-999.0000,9, 259.0000,2,   252.5,3,   0.542,2,   0.270,2,   3.4173
06MT20050813,     424,       AR04,          1,         12,         12,2,20050826,       0000,     16.025,    -58.076,       5364,  2268.1,   3.3463,  34.9652,2,-999.0000,9, 258.9000,2,  -999.0,9,   0.411,2,   0.205,2,   3.1629
06MT20050813,     424,       AR04,          1,         11,         11,2,20050826,       0000,     16.025,    -58.076,       5364,  2596.7,   3.0281,  34.9488,2,  34.9484,2, 259.0000,2,  -999.0,9,   0.354,2,   0.177,2,   2.8180
06MT20050813,     424,       AR04,          1,         10,         10,2,20050826,       0000,     16.025,    -58.076,       5364,  2899.1,   2.8115,  34.9347,2,-999.0000,9, 259.7000,2,   260.9,2,-999.000,9,-999.000,9,   2.5752
06MT20050813,     424,       AR04,          1,          9,          9,2,20050826,       0000,     16.025,    -58.076,       5364,  3197.8,   2.6166,  34.9217,2,-999.0000,9, 258.8000,2,  -999.0,9,   0.279,2,   0.137,2,   2.3536
06MT20050813,     424,       AR04,          1,          8,          8,2,20050826,       0000,     16.025,    -58.076,       5364,  3599.0,   2.4046,  34.9065,2,-999.0000,9, 263.5000,2,   263.1,2,   0.398,3,   0.178,3,   2.1038
06MT20050813,     424,       AR04,          1,          7,          7,2,20050826,       0000,     16.025,    -58.076,       5364,  3897.5,   2.3200,  34.8995,2,-999.0000,9, 264.9000,2,  -999.0,9,   0.472,2,   0.234,2,   1.9883
06MT20050813,     424,       AR04,          1,          6,          6,2,20050826,       0000,     16.025,    -58.076,       5364,  4199.3,   2.2882,  34.8944,2,  34.8955,2, 264.0000,2,  -999.0,9,   0.399,2,   0.202,2,   1.9229
06MT20050813,     424,       AR04,          1,          5,          5,2,20050826,       0000,     16.025,    -58.076,       5364,  4398.4,   2.2723,  34.8909,2,-999.0000,9, 263.1000,2,   263.6,2,   0.406,2,   0.208,2,   1.8841
06MT20050813,     424,       AR04,          1,          4,          4,2,20050826,       0000,     16.025,    -58.076,       5364,  4599.8,   2.2469,  34.8853,2,-999.0000,9, 261.2000,2,  -999.0,9,   0.338,2,   0.176,2,   1.8354
06MT20050813,     424,       AR04,          1,          3,          3,2,20050826,       0000,     16.025,    -58.076,       5364,  4898.1,   2.1806,  34.8737,2,-999.0000,9, 256.9000,2,  -999.0,9,-999.000,9,-999.000,9,   1.7347
06MT20050813,     424,       AR04,          1,          2,          2,2,20050826,       0000,     16.025,    -58.076,       5364,  5478.2,   1.9114,  34.8306,2,-999.0000,9, 244.5000,2,  -999.0,9,   0.089,2,   0.051,2,   1.4014
06MT20050813,     424,       AR04,          1,          1,          1,2,20050826,       0000,     16.025,    -58.076,       5364,  5478.7,   1.9113,  34.8312,2,  34.8306,2, 244.5000,2,   245.1,2,-999.000,9,-999.000,9,   1.4013