BOTTLE,20120828SIOCCHMYS
EXPOCODE,STNNBR,SECT_ID,CASTNO,SAMPNO,BTLNBR,BTLNBR_FLAG_W,DATE,TIME,LATITUDE,LONGITUDE,DEPTH,CTDPRS,CTDTMP,CTDSAL,CTDSAL_FLAG_W,SALNTY,SALNTY_FLAG_W,CTDOXY,CTDOXY_FLAG_W,OXYGEN,OXYGEN_FLAG_W,CFC-11,CFC-11_FLAG_W,CFC-12,CFC-12_FLAG_W,THETA
,,,,,,,,,,,,DBAR,ITS-90,PSS-78,,PSS-78,,UMOL/KG,,UMOL/KG,,PMOL/KG,,PMOL/KG,,DEG C
06MT20050813,     425,       AR04,          1,         22,         22,2,20050827,       0000,     16.067,    -58.426,       5590,    16.3,  29.8818,  34.7865,2,-999.0000,9, 200.1000,2,   203.8,2,   1.468,2,   0.927,2,  29.8778
06MT20050813,     425,       AR04,          1,         21,         21,2,20050827,       0000,     16.067,    -58.426,       5590,    16.3,  29.8818,  34.7865,2,-999.0000,9, 200.1000,2,  -999.0,9,-999.000,9,-999.000,9,  29.8778
06MT20050813,     425,       AR04,          1,         20,         20,2,20050827,       0000,     16.067,    -58.426,       5590,   697.6,   7.5368,  34.8861,2,  34.8725,3, 124.4000,2,   125.3,2,-999.000,9,-999.000,9,   7.4664
06MT20050813,     425,       AR04,          1,         19,         19,2,20050827,       0000,     16.067,    -58.426,       5590,   999.9,   5.5062,  34.8302,2,-999.0000,9, 152.8000,2,  -999.0,9,   0.101,2,   0.052,2,   5.4185
06MT20050813,     425,       AR04,          1,         18,         18,2,20050827,       0000,     16.067,    -58.426,       5590,  1299.8,   5.1396,  35.0105,2,-999.0000,9, 209.7000,2,  -999.0,9,   0.482,2,   0.234,2,   5.0261
06MT20050813,     425,       AR04,          1,         17,         17,2,20050827,       0000,     16.067,    -58.426,       5590,  1498.1,   4.5815,  35.0209,2,  35.0214,2, 240.3000,2,  -999.0,9,-999.000,9,-999.000,9,   4.4548
06MT20050813,     425,       AR04,          1,         16,         16,2,20050827,       0000,     16.067,    -58.426,       5590,  1606.4,   4.2853,  35.0042,2,-999.0000,9, 248.5000,2,   247.6,2,   0.819,2,   0.407,2,   4.1518
06MT20050813,     425,       AR04,          1,         15,         15,2,20050827,       0000,     16.067,    -58.426,       5590,  1707.1,   4.0338,  34.9895,2,-999.0000,9, 255.4000,2,  -999.0,9,   0.859,2,   0.424,2,   3.8939
06MT20050813,     425,       AR04,          1,         14,         14,2,20050827,       0000,     16.067,    -58.426,       5590,  1860.4,   3.8290,  34.9785,2,-999.0000,9, 259.1000,2,  -999.0,9,   0.851,2,   0.414,2,   3.6774
06MT20050813,     425,       AR04,          1,         13,         13,2,20050827,       0000,     16.067,    -58.426,       5590,  2109.4,   3.5663,  34.9743,2,-999.0000,9, 258.0000,2,  -999.0,9,   0.647,2,   0.323,2,   3.3947
06MT20050813,     425,       AR04,          1,         12,         12,2,20050827,       0000,     16.067,    -58.426,       5590,  2299.5,   3.3540,  34.9677,2,-999.0000,9, 257.1000,2,   257.1,2,-999.000,9,-999.000,9,   3.1673
06MT20050813,     425,       AR04,          1,         11,         11,2,20050827,       0000,     16.067,    -58.426,       5590,  2506.0,   3.1225,  34.9561,2,-999.0000,9, 257.7000,2,  -999.0,9,   0.286,2,   0.142,2,   2.9196
06MT20050813,     425,       AR04,          1,         10,         10,2,20050827,       0000,     16.067,    -58.426,       5590,  3007.5,   2.7044,  34.9279,2,  34.9313,2, 262.2000,2,  -999.0,9,   0.460,3,   0.215,3,   2.4592
06MT20050813,     425,       AR04,          1,          9,          9,2,20050827,       0000,     16.067,    -58.426,       5590,  3199.1,   2.5816,  34.9190,2,-999.0000,9, 262.6000,2,   262.3,2,   0.409,2,   0.185,2,   2.3193
06MT20050813,     425,       AR04,          1,          8,          8,2,20050827,       0000,     16.067,    -58.426,       5590,  3500.8,   2.4211,  34.9083,2,-999.0000,9, 264.1000,2,  -999.0,9,   0.454,2,   0.222,2,   2.1305
06MT20050813,     425,       AR04,          1,          7,          7,2,20050827,       0000,     16.067,    -58.426,       5590,  3799.5,   2.3281,  34.9003,2,-999.0000,9, 263.8000,2,   277.3,4,   0.433,2,   0.217,2,   2.0072
06MT20050813,     425,       AR04,          1,          6,          6,2,20050827,       0000,     16.067,    -58.426,       5590,  4098.7,   2.2857,  34.8951,2,-999.0000,9, 263.5000,2,  -999.0,9,   0.403,2,   0.200,2,   1.9321
06MT20050813,     425,       AR04,          1,          5,          5,2,20050827,       0000,     16.067,    -58.426,       5590,  4398.1,   2.2650,  34.8900,2,-999.0000,9, 262.5000,2,  -999.0,9,-999.000,9,-999.000,9,   1.8770
06MT20050813,     425,       AR04,          1,          4,          4,2,20050827,       0000,     16.067,    -58.426,       5590,  4797.2,   2.2152,  34.8789,2,  34.8815,2, 258.5000,2,   258.6,2,   0.271,2,   0.146,2,   1.7806
06MT20050813,     425,       AR04,          1,          3,          3,2,20050827,       0000,     16.067,    -58.426,       5590,  5197.3,   2.0780,  34.8565,2,-999.0000,9, 252.0000,2,  -999.0,9,   0.116,2,   0.058,2,   1.5980
06MT20050813,     425,       AR04,          1,          2,          2,2,20050827,       0000,     16.067,    -58.426,       5590,  5712.4,   1.9174,  34.8281,2,-999.0000,9, 242.6000,2,  -999.0,9,   0.076,2,   0.034,2,   1.3765
06MT20050813,     425,       AR04,          1,          1,          1,2,20050827,       0000,     16.067,    -58.426,       5590,  5712.4,   1.9174,  34.8281,2,  34.8323,2, 242.6000,2,   242.2,2,-999.000,9,-999.000,9,   1.3765
06MT20050813,     426,       AR04,          1,         22,         22,2,20050827,       0000,     16.108,    -58.785,       5760,    16.8,  29.6162,  34.2343,2,  34.6187,3, 198.9000,2,   200.2,2,   1.444,2,   0.910,2,  29.6121
06MT20050813,     426,       AR04,          1,         21,         21,2,20050827,       0000,     16.108,    -58.785,       5760,    16.8,  29.6162,  34.2343,2,-999.0000,9, 198.9000,2,  -999.0,9,-999.000,9,-999.000,9,  29.6121
06MT20050813,     426,       AR04,          1,         20,         20,2,20050827,       0000,     16.108,    -58.785,       5760,   393.2,  12.9171,  35.6522,2,-999.0000,9, 135.4000,2,   134.9,2,-999.000,9,-999.000,9,  12.8625
06MT20050813,     426,       AR04,          1,         19,         19,2,20050827,       0000,     16.108,    -58.785,       5760,   895.4,   5.9537,  34.7944,2,-999.0000,9, 138.2000,2,   139.0,2,   0.104,2,   0.056,2,   5.8729
06MT20050813,     426,       AR04,          1,         18,         18,2,20050827,       0000,     16.108,    -58.785,       5760,  1268.3,   5.1825,  34.9779,2,-999.0000,9, 195.8000,2,  -999.0,9,-999.000,9,-999.000,9,   5.0717
06MT20050813,     426,       AR04,          1,         17,         17,2,20050827,       0000,     16.108,    -58.785,       5760,  1563.9,   4.4838,  35.0140,2,-999.0000,9, 242.5000,2,  -999.0,9,   0.863,2,   0.410,2,   4.3519
06MT20050813,     426,       AR04,          1,         16,         16,2,20050827,       0000,     16.108,    -58.785,       5760,  1648.1,   4.2048,  34.9994,2,-999.0000,9, 252.3000,2,  -999.0,9,-999.000,9,-999.000,9,   4.0683
06MT20050813,     426,       AR04,          1,         15,         15,2,20050827,       0000,     16.108,    -58.785,       5760,  1756.0,   4.0110,  34.9885,2,-999.0000,9, 256.4000,2,  -999.0,9,   0.959,2,   0.471,2,   3.8668
06MT20050813,     426,       AR04,          1,         14,         14,2,20050827,       0000,     16.108,    -58.785,       5760,  1864.6,   3.8454,  34.9815,2,  34.9828,2, 258.7000,2,   251.4,3,   0.863,2,   0.424,2,   3.6931
06MT20050813,     426,       AR04,          1,         13,         13,2,20050827,       0000,     16.108,    -58.785,       5760,  1954.1,   3.7184,  34.9759,2,-999.0000,9, 259.4000,2,  -999.0,9,-999.000,9,-999.000,9,   3.5594
06MT20050813,     426,       AR04,          1,         12,         12,2,20050827,       0000,     16.108,    -58.785,       5760,  2148.8,   3.4592,  34.9700,2,-999.0000,9, 259.2000,2,   259.7,2,   0.525,2,   0.260,2,   3.2855
06MT20050813,     426,       AR04,          1,         11,         11,2,20050827,       0000,     16.108,    -58.785,       5760,  2406.6,   3.1721,  34.9579,2,-999.0000,9, 258.2000,2,  -999.0,9,   0.316,2,   0.154,2,   2.9781
06MT20050813,     426,       AR04,          1,         10,         10,2,20050827,       0000,     16.108,    -58.785,       5760,  2896.0,   2.7284,  34.9303,2,-999.0000,9, 258.9000,2,   260.0,2,-999.000,9,-999.000,9,   2.4942
06MT20050813,     426,       AR04,          1,          9,          9,2,20050827,       0000,     16.108,    -58.785,       5760,  3298.7,   2.5235,  34.9154,2,  34.9171,2, 261.0000,2,  -999.0,9,   0.343,2,   0.167,2,   2.2520
06MT20050813,     426,       AR04,          1,          8,          8,2,20050827,       0000,     16.108,    -58.785,       5760,  3698.8,   2.3490,  34.9014,2,-999.0000,9, 261.0000,2,  -999.0,9,   0.341,2,   0.164,2,   2.0387
06MT20050813,     426,       AR04,          1,          7,          7,2,20050827,       0000,     16.108,    -58.785,       5760,  3998.4,   2.2895,  34.8949,2,-999.0000,9, 261.1000,2,   263.0,2,   0.266,2,   0.132,2,   1.9473
06MT20050813,     426,       AR04,          1,          6,          6,2,20050827,       0000,     16.108,    -58.785,       5760,  4299.2,   2.2551,  34.8905,2,  34.8941,2, 261.9000,2,  -999.0,9,   0.343,2,   0.170,2,   1.8791
06MT20050813,     426,       AR04,          1,          5,          5,2,20050827,       0000,     16.108,    -58.785,       5760,  4698.4,   2.1863,  34.8767,2,-999.0000,9, 257.5000,2,  -999.0,9,   0.201,2,   0.106,2,   1.7648
06MT20050813,     426,       AR04,          1,          4,          4,2,20050827,       0000,     16.108,    -58.785,       5760,  4898.2,   2.1138,  34.8659,2,-999.0000,9, 254.1000,2,   252.4,2,-999.000,9,-999.000,9,   1.6701
06MT20050813,     426,       AR04,          1,          3,          3,2,20050827,       0000,     16.108,    -58.785,       5760,  5298.9,   1.9879,  34.8441,2,-999.0000,9, 247.7000,2,  -999.0,9,   0.087,2,   0.047,2,   1.4982
06MT20050813,     426,       AR04,          1,          2,          2,2,20050827,       0000,     16.108,    -58.785,       5760,  5894.0,   1.9488,  34.8282,2,-999.0000,9, 241.8000,2,  -999.0,9,   0.074,2,   0.037,2,   1.3825
06MT20050813,     426,       AR04,          1,          1,          1,2,20050827,       0000,     16.108,    -58.785,       5760,  5893.5,   1.9486,  34.8285,2,  34.8390,3, 241.8000,2,   242.6,2,-999.000,9,-999.000,9,   1.3824
06MT20050813,     427,       AR04,          1,         22,         22,2,20050827,       0000,      16.15,    -59.142,       5328,    14.2,  29.6821,  34.6706,2,-999.0000,9, 199.1000,2,   196.3,2,   1.419,6,   0.898,6,  29.6786
06MT20050813,     427,       AR04,          1,         21,         21,2,20050827,       0000,      16.15,    -59.142,       5328,    14.2,  29.6833,  34.6710,2,-999.0000,9, 199.1000,2,  -999.0,9,-999.000,9,-999.000,9,  29.6798
06MT20050813,     427,       AR04,          1,         20,         20,2,20050827,       0000,      16.15,    -59.142,       5328,   206.6,  19.1515,  36.6900,2,  36.6556,3, 170.9000,2,   174.0,2,   2.154,2,   1.244,2,  19.1141
06MT20050813,     427,       AR04,          1,         19,         19,2,20050827,       0000,      16.15,    -59.142,       5328,   797.9,   6.1955,  34.7512,2,-999.0000,9, 130.7000,2,  -999.0,9,-999.000,9,-999.000,9,   6.1226
06MT20050813,     427,       AR04,          1,         18,         18,2,20050827,       0000,      16.15,    -59.142,       5328,  1196.3,   5.5017,  34.9648,2,-999.0000,9, 182.2000,2,  -999.0,9,-999.000,9,-999.000,9,   5.3950
06MT20050813,     427,       AR04,          1,         17,         17,2,20050827,       0000,      16.15,    -59.142,       5328,  1449.9,   4.8668,  35.0316,2,  35.0348,2, 231.2000,2,  -999.0,9,   0.819,2,   0.404,2,   4.7415
06MT20050813,     427,       AR04,          1,         16,         16,2,20050827,       0000,      16.15,    -59.142,       5328,  1545.7,   4.5278,  35.0208,2,-999.0000,9, 244.1000,2,  -999.0,9,   0.903,2,   0.441,2,   4.3972
06MT20050813,     427,       AR04,          1,         15,         15,2,20050827,       0000,      16.15,    -59.142,       5328,  1638.3,   4.2222,  35.0016,2,-999.0000,9, 252.4000,2,  -999.0,9,   0.996,2,   0.482,2,   4.0864
06MT20050813,     427,       AR04,          1,         14,         14,2,20050827,       0000,      16.15,    -59.142,       5328,  1681.0,   4.1080,  34.9979,2,-999.0000,9, 254.3000,2,   254.9,6,-999.000,9,-999.000,9,   3.9696
06MT20050813,     427,       AR04,          1,         13,         13,2,20050827,       0000,      16.15,    -59.142,       5328,  1770.3,   3.9002,  34.9793,2,-999.0000,9, 259.3000,2,  -999.0,9,   1.058,2,   0.510,2,   3.7561
06MT20050813,     427,       AR04,          1,         12,         12,2,20050827,       0000,      16.15,    -59.142,       5328,  1976.0,   3.6143,  34.9749,2,-999.0000,9, 259.4000,2,  -999.0,9,   0.666,2,   0.325,2,   3.4547
06MT20050813,     427,       AR04,          1,         11,         11,2,20050827,       0000,      16.15,    -59.142,       5328,  2176.8,   3.3821,  34.9680,2,-999.0000,9, 258.7000,2,   265.1,3,   0.440,2,   0.220,2,   3.2069
06MT20050813,     427,       AR04,          1,         10,         10,2,20050827,       0000,      16.15,    -59.142,       5328,  2487.9,   3.0501,  34.9507,2,  34.9527,2, 258.9000,2,  -999.0,9,   0.370,2,   0.182,2,   2.8504
06MT20050813,     427,       AR04,          1,          9,          9,2,20050827,       0000,      16.15,    -59.142,       5328,  2786.7,   2.8089,  34.9355,2,-999.0000,9, 259.6000,2,  -999.0,9,   0.364,2,   0.184,2,   2.5841
06MT20050813,     427,       AR04,          1,          8,          8,2,20050827,       0000,      16.15,    -59.142,       5328,  3198.2,   2.5825,  34.9198,2,-999.0000,9, 258.9000,2,   260.1,2,   0.282,2,   0.137,2,   2.3202
06MT20050813,     427,       AR04,          1,          7,          7,2,20050827,       0000,      16.15,    -59.142,       5328,  3603.0,   2.3699,  34.9052,2,  34.9295,3, 262.9000,2,  -999.0,9,   0.429,2,   0.216,2,   2.0695
06MT20050813,     427,       AR04,          1,          6,          6,2,20050827,       0000,      16.15,    -59.142,       5328,  3897.1,   2.2982,  34.8976,2,-999.0000,9, 262.6000,2,   263.4,2,   0.370,2,   0.186,2,   1.9672
06MT20050813,     427,       AR04,          1,          5,          5,2,20050827,       0000,      16.15,    -59.142,       5328,  4198.1,   2.2737,  34.8938,2,-999.0000,9, 262.7000,2,  -999.0,9,   0.353,2,   0.176,2,   1.9090
06MT20050813,     427,       AR04,          1,          4,          4,2,20050827,       0000,      16.15,    -59.142,       5328,  4499.3,   2.2197,  34.8845,2,-999.0000,9, 260.0000,2,   259.4,2,   0.290,2,   0.151,2,   1.8211
06MT20050813,     427,       AR04,          1,          3,          3,2,20050827,       0000,      16.15,    -59.142,       5328,  4897.9,   2.0908,  34.8629,2,-999.0000,9, 253.2000,2,  -999.0,9,   0.151,2,   0.085,2,   1.6479
06MT20050813,     427,       AR04,          1,          2,          2,2,20050827,       0000,      16.15,    -59.142,       5328,  5452.5,   2.0053,  34.8440,2,-999.0000,9, 246.8000,2,  -999.0,9,   0.079,2,   0.048,2,   1.4952
06MT20050813,     427,       AR04,          1,          1,          1,2,20050827,       0000,      16.15,    -59.142,       5328,  5452.9,   2.0054,  34.8440,2,  34.8553,3, 246.8000,2,   247.4,2,-999.000,9,-999.000,9,   1.4952