BOTTLE,20120828SIOCCHMYS
EXPOCODE,STNNBR,SECT_ID,CASTNO,SAMPNO,BTLNBR,BTLNBR_FLAG_W,DATE,TIME,LATITUDE,LONGITUDE,DEPTH,CTDPRS,CTDTMP,CTDSAL,CTDSAL_FLAG_W,SALNTY,SALNTY_FLAG_W,CTDOXY,CTDOXY_FLAG_W,OXYGEN,OXYGEN_FLAG_W,CFC-11,CFC-11_FLAG_W,CFC-12,CFC-12_FLAG_W,THETA
,,,,,,,,,,,,DBAR,ITS-90,PSS-78,,PSS-78,,UMOL/KG,,UMOL/KG,,PMOL/KG,,PMOL/KG,,DEG C
06MT20050813,     614,       AR04,          1,         22,         22,2,20050915,       0000,     21.541,    -64.175,       5574,    18.1,  29.8773,  36.7800,2,-999.0000,9, 193.2000,2,   197.2,2,   1.409,2,   0.907,2,  29.8728
06MT20050813,     614,       AR04,          1,         21,         21,2,20050915,       0000,     21.541,    -64.175,       5574,   287.8,  18.3005,  36.5550,2,-999.0000,9, 197.1000,2,  -999.0,9,-999.000,9,-999.000,9,  18.2499
06MT20050813,     614,       AR04,          1,         20,         20,2,20050915,       0000,     21.541,    -64.175,       5574,   794.0,   8.2292,  35.0854,2,  35.0033,3, 129.9000,2,   131.2,2,   0.349,2,   0.196,2,   8.1443
06MT20050813,     614,       AR04,          1,         19,         19,2,20050915,       0000,     21.541,    -64.175,       5574,  1247.5,   4.9434,  35.0417,2,-999.0000,9, 233.3000,2,  -999.0,9,   1.011,2,   0.515,2,   4.8367
06MT20050813,     614,       AR04,          1,         18,         18,2,20050915,       0000,     21.541,    -64.175,       5574,  1420.3,   4.3685,  35.0157,2,-999.0000,9, 250.8000,2,  -999.0,9,-999.000,9,-999.000,9,   4.2514
06MT20050813,     614,       AR04,          1,         17,         17,2,20050915,       0000,     21.541,    -64.175,       5574,  1420.5,   4.3654,  35.0151,2,-999.0000,9, 250.9000,2,  -999.0,9,   1.147,2,   0.575,2,   4.2484
06MT20050813,     614,       AR04,          1,         16,         16,2,20050915,       0000,     21.541,    -64.175,       5574,  1581.2,   4.0901,  35.0006,2,-999.0000,9, 254.4000,2,   238.3,3,   0.765,2,   0.399,2,   3.9613
06MT20050813,     614,       AR04,          1,         15,         15,2,20050915,       0000,     21.541,    -64.175,       5574,  1741.9,   3.8357,  34.9867,2,-999.0000,9, 257.5000,2,  -999.0,9,   0.717,2,   0.371,2,   3.6951
06MT20050813,     614,       AR04,          1,         14,         14,2,20050915,       0000,     21.541,    -64.175,       5574,  1948.1,   3.5685,  34.9742,2,-999.0000,9, 259.5000,2,  -999.0,9,   0.719,3,   0.360,2,   3.4123
06MT20050813,     614,       AR04,          1,         13,         13,2,20050915,       0000,     21.541,    -64.175,       5574,  2128.3,   3.3543,  34.9653,2,-999.0000,9, 259.4000,2,  -999.0,9,   0.573,2,   0.301,2,   3.1842
06MT20050813,     614,       AR04,          1,         12,         12,2,20050915,       0000,     21.541,    -64.175,       5574,  2381.1,   3.1353,  34.9570,2,  34.9872,3, 257.3000,2,  -999.0,9,   0.314,2,   0.165,2,   2.9445
06MT20050813,     614,       AR04,          1,         11,         11,2,20050915,       0000,     21.541,    -64.175,       5574,  2568.0,   2.9309,  34.9438,2,-999.0000,9, 258.0000,2,   260.2,3,-999.000,9,-999.000,9,   2.7255
06MT20050813,     614,       AR04,          1,         10,         10,2,20050915,       0000,     21.541,    -64.175,       5574,  2780.1,   2.7723,  34.9328,2,-999.0000,9, 259.8000,2,  -999.0,9,   0.425,2,   0.216,2,   2.5489
06MT20050813,     614,       AR04,          1,          9,          9,2,20050915,       0000,     21.541,    -64.175,       5574,  3097.7,   2.6075,  34.9216,2,-999.0000,9, 261.2000,2,  -999.0,9,   0.458,2,   0.230,2,   2.3552
06MT20050813,     614,       AR04,          1,          8,          8,2,20050915,       0000,     21.541,    -64.175,       5574,  3389.1,   2.4494,  34.9104,2,-999.0000,9, 262.5000,2,  -999.0,9,   0.491,2,   0.251,2,   2.1701
06MT20050813,     614,       AR04,          1,          7,          7,2,20050915,       0000,     21.541,    -64.175,       5574,  3690.5,   2.3463,  34.9019,2,-999.0000,9, 263.2000,2,   254.0,3,   0.551,2,   0.292,2,   2.0370
06MT20050813,     614,       AR04,          1,          6,          6,2,20050915,       0000,     21.541,    -64.175,       5574,  3999.8,   2.2993,  34.8965,2,  34.8896,2, 262.4000,2,  -999.0,9,   0.504,2,   0.260,2,   1.9567
06MT20050813,     614,       AR04,          1,          5,          5,2,20050915,       0000,     21.541,    -64.175,       5574,  4298.6,   2.2805,  34.8920,2,-999.0000,9, 261.3000,2,  -999.0,9,   0.513,2,   0.269,2,   1.9038
06MT20050813,     614,       AR04,          1,          4,          4,2,20050915,       0000,     21.541,    -64.175,       5574,  4597.4,   2.2699,  34.8876,2,-999.0000,9, 259.6000,2,   262.5,2,   0.430,2,   0.225,2,   1.8579
06MT20050813,     614,       AR04,          1,          3,          3,2,20050915,       0000,     21.541,    -64.175,       5574,  5198.5,   2.1737,  34.8674,2,-999.0000,9, 252.1000,2,  -999.0,9,   0.185,2,   0.108,2,   1.6902
06MT20050813,     614,       AR04,          1,          2,          2,2,20050915,       0000,     21.541,    -64.175,       5574,  5710.2,   1.9971,  34.8369,2,-999.0000,9, 242.2000,2,  -999.0,9,   0.070,2,   0.042,2,   1.4535
06MT20050813,     614,       AR04,          1,          1,          1,2,20050915,       0000,     21.541,    -64.175,       5574,  5711.0,   1.9969,  34.8375,2,  34.8351,2, 242.2000,2,   245.2,2,-999.000,9,-999.000,9,   1.4532
06MT20050813,     615,       AR04,          1,         22,         22,2,20050915,       0000,     21.875,    -64.168,       5741,    14.6,  29.7746,  36.7601,2,-999.0000,9, 192.2000,2,   194.3,2,   1.447,2,   0.921,2,  29.7710
06MT20050813,     615,       AR04,          1,         21,         21,2,20050915,       0000,     21.875,    -64.168,       5741,   493.5,  15.4517,  36.1000,2,-999.0000,9, 175.1000,2,   175.9,2,   2.120,2,   1.195,2,  15.3741
06MT20050813,     615,       AR04,          1,         20,         20,2,20050915,       0000,     21.875,    -64.168,       5741,   982.3,   6.3120,  35.0558,2,-999.0000,9, 182.3000,2,  -999.0,9,   0.563,2,   0.296,2,   6.2197
06MT20050813,     615,       AR04,          1,         19,         19,2,20050915,       0000,     21.875,    -64.168,       5741,  1398.0,   4.4185,  35.0226,2,-999.0000,9, 249.0000,2,  -999.0,9,   0.849,2,   0.425,2,   4.3030
06MT20050813,     615,       AR04,          1,         18,         18,2,20050915,       0000,     21.875,    -64.168,       5741,  1547.1,   4.0128,  34.9879,2,-999.0000,9, 258.3000,2,  -999.0,9,-999.000,9,-999.000,9,   3.8881
06MT20050813,     615,       AR04,          1,         17,         17,2,20050915,       0000,     21.875,    -64.168,       5741,  1547.8,   4.0068,  34.9875,2,-999.0000,9, 258.3000,2,   252.2,3,   1.097,2,   0.553,2,   3.8821
06MT20050813,     615,       AR04,          1,         16,         16,2,20050915,       0000,     21.875,    -64.168,       5741,  1606.4,   3.9376,  34.9862,2,-999.0000,9, 259.1000,2,  -999.0,9,-999.000,9,-999.000,9,   3.8083
06MT20050813,     615,       AR04,          1,         15,         15,2,20050915,       0000,     21.875,    -64.168,       5741,  1700.1,   3.8153,  34.9817,2,  34.9795,2, 259.8000,2,  -999.0,9,   0.880,2,   0.443,2,   3.6789
06MT20050813,     615,       AR04,          1,         14,         14,2,20050915,       0000,     21.875,    -64.168,       5741,  1808.5,   3.7054,  34.9815,2,-999.0000,9, 258.7000,2,  -999.0,9,-999.000,9,-999.000,9,   3.5603
06MT20050813,     615,       AR04,          1,         13,         13,2,20050915,       0000,     21.875,    -64.168,       5741,  1898.8,   3.6083,  34.9807,2,-999.0000,9, 257.6000,2,  -999.0,9,   0.676,2,   0.362,2,   3.4561
06MT20050813,     615,       AR04,          1,         12,         12,2,20050915,       0000,     21.875,    -64.168,       5741,  2169.6,   3.2876,  34.9652,2,-999.0000,9, 258.3000,2,   258.4,2,   0.419,2,   0.219,2,   3.1146
06MT20050813,     615,       AR04,          1,         11,         11,2,20050915,       0000,     21.875,    -64.168,       5741,  2698.6,   2.8380,  34.9378,2,-999.0000,9, 258.3000,2,  -999.0,9,   0.355,2,   0.182,2,   2.6214
06MT20050813,     615,       AR04,          1,         10,         10,2,20050915,       0000,     21.875,    -64.168,       5741,  2996.6,   2.6443,  34.9241,2,-999.0000,9, 260.3000,2,   261.9,2,   0.423,2,   0.223,2,   2.4016
06MT20050813,     615,       AR04,          1,          9,          9,2,20050915,       0000,     21.875,    -64.168,       5741,  3299.8,   2.4940,  34.9135,2,  34.9146,2, 261.2000,2,  -999.0,9,   0.421,2,   0.218,2,   2.2231
06MT20050813,     615,       AR04,          1,          8,          8,2,20050915,       0000,     21.875,    -64.168,       5741,  3584.1,   2.3748,  34.9041,2,-999.0000,9, 263.0000,2,  -999.0,9,   0.552,2,   0.283,2,   2.0764
06MT20050813,     615,       AR04,          1,          7,          7,2,20050915,       0000,     21.875,    -64.168,       5741,  3898.5,   2.3128,  34.8986,2,-999.0000,9, 262.4000,2,   259.1,2,   0.522,2,   0.268,2,   1.9812
06MT20050813,     615,       AR04,          1,          6,          6,2,20050915,       0000,     21.875,    -64.168,       5741,  4197.7,   2.2811,  34.8937,2,  34.8935,2, 261.3000,2,  -999.0,9,   0.430,2,   0.230,2,   1.9162
06MT20050813,     615,       AR04,          1,          5,          5,2,20050915,       0000,     21.875,    -64.168,       5741,  4498.8,   2.2715,  34.8893,2,  34.9327,3, 259.8000,2,  -999.0,9,   0.434,2,   0.233,2,   1.8713
06MT20050813,     615,       AR04,          1,          4,          4,2,20050915,       0000,     21.875,    -64.168,       5741,  4800.1,   2.2521,  34.8829,2,-999.0000,9, 257.3000,2,   258.2,2,   0.307,2,   0.168,2,   1.8159
06MT20050813,     615,       AR04,          1,          3,          3,2,20050915,       0000,     21.875,    -64.168,       5741,  5399.3,   2.0408,  34.8484,2,-999.0000,9, 245.8000,2,  -999.0,9,   0.105,2,   0.066,2,   1.5363
06MT20050813,     615,       AR04,          1,          2,          2,2,20050915,       0000,     21.875,    -64.168,       5741,  5803.9,   2.0425,  34.8411,2,-999.0000,9, 242.8000,2,  -999.0,9,   0.066,2,   0.044,2,   1.4846
06MT20050813,     615,       AR04,          1,          1,          1,2,20050915,       0000,     21.875,    -64.168,       5741,  5803.9,   2.0424,  34.8411,2,  34.8420,2, 242.8000,2,   245.5,2,-999.000,9,-999.000,9,   1.4845
06MT20050813,     616,       AR04,          1,         22,         22,2,20050915,       0000,     22.282,    -64.151,       5791,    15.7,  29.6877,  36.6963,2,-999.0000,9, 192.3000,2,   244.2,4,   1.479,2,   0.930,2,  29.6838
06MT20050813,     616,       AR04,          1,         21,         21,2,20050915,       0000,     22.282,    -64.151,       5791,   611.3,  12.6186,  35.6675,2,-999.0000,9, 155.0000,2,   166.4,3,   1.581,2,   0.837,2,  12.5343
06MT20050813,     616,       AR04,          1,         20,         20,2,20050915,       0000,     22.282,    -64.151,       5791,  1110.5,   5.5427,  35.0707,2,  35.0673,2, 216.4000,2,  -999.0,9,   0.864,2,   0.443,2,   5.4438
06MT20050813,     616,       AR04,          1,         19,         19,2,20050915,       0000,     22.282,    -64.151,       5791,  1350.3,   4.5253,  35.0271,2,-999.0000,9, 246.7000,2,  -999.0,9,   0.899,2,   0.457,2,   4.4131
06MT20050813,     616,       AR04,          1,         18,         18,2,20050915,       0000,     22.282,    -64.151,       5791,  1513.7,   4.1702,  35.0077,2,-999.0000,9, 254.2000,2,  -999.0,9,-999.000,9,-999.000,9,   4.0467
06MT20050813,     616,       AR04,          1,         17,         17,2,20050915,       0000,     22.282,    -64.151,       5791,  1513.7,   4.1689,  35.0074,2,-999.0000,9, 254.2000,2,  -999.0,9,   0.920,2,   0.465,2,   4.0454
06MT20050813,     616,       AR04,          1,         16,         16,2,20050915,       0000,     22.282,    -64.151,       5791,  1608.7,   4.0065,  34.9969,2,-999.0000,9, 256.4000,2,  -999.0,9,   0.839,2,   0.423,2,   3.8761
06MT20050813,     616,       AR04,          1,         15,         15,2,20050915,       0000,     22.282,    -64.151,       5791,  1798.0,   3.6988,  34.9772,2,-999.0000,9, 259.3000,2,   258.4,2,   0.728,6,   0.373,6,   3.5548
06MT20050813,     616,       AR04,          1,         14,         14,2,20050915,       0000,     22.282,    -64.151,       5791,  1906.0,   3.6558,  34.9866,2,-999.0000,9, 256.9000,2,  -999.0,9,-999.000,9,-999.000,9,   3.5022
06MT20050813,     616,       AR04,          1,         13,         13,2,20050915,       0000,     22.282,    -64.151,       5791,  2007.9,   3.5004,  34.9748,2,-999.0000,9, 258.4000,2,  -999.0,9,   0.564,2,   0.288,2,   3.3395
06MT20050813,     616,       AR04,          1,         12,         12,2,20050915,       0000,     22.282,    -64.151,       5791,  2297.4,   3.2159,  34.9632,2,  34.9639,2, 256.1000,2,  -999.0,9,   0.283,2,   0.147,2,   3.0318
06MT20050813,     616,       AR04,          1,         11,         11,2,20050915,       0000,     22.282,    -64.151,       5791,  2603.7,   2.9513,  34.9472,2,-999.0000,9, 255.7000,2,   258.8,2,   0.283,2,   0.153,2,   2.7420
06MT20050813,     616,       AR04,          1,         10,         10,2,20050915,       0000,     22.282,    -64.151,       5791,  2924.4,   2.7047,  34.9276,2,-999.0000,9, 259.6000,2,  -999.0,9,-999.000,9,-999.000,9,   2.4681
06MT20050813,     616,       AR04,          1,          9,          9,2,20050915,       0000,     22.282,    -64.151,       5791,  3197.8,   2.5431,  34.9169,2,-999.0000,9, 261.4000,2,  -999.0,9,   0.437,2,   0.237,2,   2.2818
06MT20050813,     616,       AR04,          1,          8,          8,2,20050915,       0000,     22.282,    -64.151,       5791,  3498.4,   2.4093,  34.9071,2,-999.0000,9, 262.7000,2,   264.7,6,   0.482,2,   0.254,2,   2.1193
06MT20050813,     616,       AR04,          1,          7,          7,2,20050915,       0000,     22.282,    -64.151,       5791,  3797.3,   2.3290,  34.9001,2,-999.0000,9, 262.6000,2,  -999.0,9,   0.496,2,   0.262,2,   2.0083
06MT20050813,     616,       AR04,          1,          6,          6,2,20050915,       0000,     22.282,    -64.151,       5791,  4103.4,   2.2938,  34.8950,2,-999.0000,9, 262.0000,2,   263.4,2,   0.495,2,   0.256,2,   1.9394
06MT20050813,     616,       AR04,          1,          5,          5,2,20050915,       0000,     22.282,    -64.151,       5791,  4399.1,   2.2829,  34.8908,2,  34.8974,2, 260.6000,2,  -999.0,9,-999.000,9,-999.000,9,   1.8942
06MT20050813,     616,       AR04,          1,          4,          4,2,20050915,       0000,     22.282,    -64.151,       5791,  4897.5,   2.2496,  34.8805,2,-999.0000,9, 256.6000,2,   258.3,2,   0.284,2,   0.160,2,   1.8014
06MT20050813,     616,       AR04,          1,          3,          3,2,20050915,       0000,     22.282,    -64.151,       5791,  5298.1,   2.1005,  34.8569,2,-999.0000,9, 248.6000,2,  -999.0,9,   0.105,2,   0.067,2,   1.6069
06MT20050813,     616,       AR04,          1,          2,          2,2,20050915,       0000,     22.282,    -64.151,       5791,  5813.7,   2.0447,  34.8406,2,-999.0000,9, 242.7000,2,  -999.0,9,   0.063,2,   0.045,2,   1.4854
06MT20050813,     616,       AR04,          1,          1,          1,2,20050915,       0000,     22.282,    -64.151,       5791,  5813.6,   2.0443,  34.8407,2,  34.8400,2, 242.7000,2,   245.7,2,-999.000,9,-999.000,9,   1.4851