BOTTLE,20120828SIOCCHMYS
EXPOCODE,STNNBR,SECT_ID,CASTNO,SAMPNO,BTLNBR,BTLNBR_FLAG_W,DATE,TIME,LATITUDE,LONGITUDE,DEPTH,CTDPRS,CTDTMP,CTDSAL,CTDSAL_FLAG_W,SALNTY,SALNTY_FLAG_W,CTDOXY,CTDOXY_FLAG_W,OXYGEN,OXYGEN_FLAG_W,CFC-11,CFC-11_FLAG_W,CFC-12,CFC-12_FLAG_W,THETA
,,,,,,,,,,,,DBAR,ITS-90,PSS-78,,PSS-78,,UMOL/KG,,UMOL/KG,,PMOL/KG,,PMOL/KG,,DEG C
06MT20050813,     507,       AR04,          1,         13,         13,2,20050904,       0000,     11.842,    -60.584,       1663,    14.4,  29.6220,  34.7468,2,-999.0000,9, 200.7000,2,   194.5,2,-999.000,9,-999.000,9,  29.6185
06MT20050813,     507,       AR04,          1,         12,         12,2,20050904,       0000,     11.842,    -60.584,       1663,   245.1,  13.4057,  35.5751,2,-999.0000,9, 127.7000,2,   128.1,2,-999.000,9,-999.000,9,  13.3710
06MT20050813,     507,       AR04,          1,         11,         11,2,20050904,       0000,     11.842,    -60.584,       1663,   600.3,   6.7401,  34.7322,2,-999.0000,9, 120.7000,2,   115.8,2,-999.000,9,-999.000,9,   6.6836
06MT20050813,     507,       AR04,          1,         10,         10,2,20050904,       0000,     11.842,    -60.584,       1663,   897.3,   4.9138,  34.6361,2,-999.0000,9, 147.4000,2,  -999.0,9,-999.000,9,-999.000,9,   4.8401
06MT20050813,     507,       AR04,          1,          9,          9,2,20050904,       0000,     11.842,    -60.584,       1663,   898.9,   4.9185,  34.6378,2,  34.6542,3, 147.5000,2,   142.8,2,-999.000,9,-999.000,9,   4.8446
06MT20050813,     507,       AR04,          1,          8,          8,2,20050904,       0000,     11.842,    -60.584,       1663,  1196.3,   4.9979,  34.9865,2,-999.0000,9, 208.4000,2,   214.7,3,-999.000,9,-999.000,9,   4.8956
06MT20050813,     507,       AR04,          1,          7,          7,2,20050904,       0000,     11.842,    -60.584,       1663,  1200.3,   4.9839,  34.9884,2,-999.0000,9, 210.2000,2,  -999.0,9,-999.000,9,-999.000,9,   4.8814
06MT20050813,     507,       AR04,          1,          6,          6,2,20050904,       0000,     11.842,    -60.584,       1663,  1200.8,   4.9799,  34.9886,2,-999.0000,9, 210.4000,2,  -999.0,9,-999.000,9,-999.000,9,   4.8774
06MT20050813,     507,       AR04,          1,          5,          5,2,20050904,       0000,     11.842,    -60.584,       1663,  1496.9,   4.1134,  34.9955,2,-999.0000,9, 255.0000,2,  -999.0,9,-999.000,9,-999.000,9,   3.9921
06MT20050813,     507,       AR04,          1,          4,          4,2,20050904,       0000,     11.842,    -60.584,       1663,  1498.7,   4.1120,  34.9948,2,-999.0000,9, 255.1000,2,   251.2,2,-999.000,9,-999.000,9,   3.9906
06MT20050813,     507,       AR04,          1,          3,          3,2,20050904,       0000,     11.842,    -60.584,       1663,  1651.6,   3.9510,  34.9872,2,-999.0000,9, 257.4000,2,  -999.0,9,-999.000,9,-999.000,9,   3.8174
06MT20050813,     507,       AR04,          1,          2,          2,2,20050904,       0000,     11.842,    -60.584,       1663,  1651.7,   3.9510,  34.9874,2,-999.0000,9, 257.4000,2,  -999.0,9,-999.000,9,-999.000,9,   3.8173
06MT20050813,     507,       AR04,          1,          1,          1,2,20050904,       0000,     11.842,    -60.584,       1663,  1651.6,   3.9510,  34.9872,2,  34.9856,2, 257.4000,2,   253.3,2,-999.000,9,-999.000,9,   3.8174
06MT20050813,     508,       AR04,          1,         15,         15,2,20050904,       0000,     12.008,    -60.651,       2300,    13.2,  29.8342,  34.9260,2,-999.0000,9, 195.7000,2,  -999.0,9,-999.000,9,-999.000,9,  29.8309
06MT20050813,     508,       AR04,          1,         14,         14,2,20050904,       0000,     12.008,    -60.651,       2300,    13.4,  29.8314,  34.9293,2,-999.0000,9, 195.5000,2,   206.3,3,   1.450,6,   0.930,6,  29.8281
06MT20050813,     508,       AR04,          1,         13,         13,2,20050904,       0000,     12.008,    -60.651,       2300,   163.1,  17.4527,  36.2979,2,-999.0000,9, 133.6000,2,  -999.0,9,   2.014,2,   1.152,2,  17.4251
06MT20050813,     508,       AR04,          1,         12,         12,2,20050904,       0000,     12.008,    -60.651,       2300,   681.5,   5.7120,  34.6604,2,  34.6505,3, 133.7000,2,   130.3,2,   0.118,2,   0.066,2,   5.6529
06MT20050813,     508,       AR04,          1,         11,         11,2,20050904,       0000,     12.008,    -60.651,       2300,  1002.1,   5.2007,  34.8947,2,-999.0000,9, 177.9000,2,  -999.0,9,   0.211,6,   0.118,6,   5.1150
06MT20050813,     508,       AR04,          1,         10,         10,2,20050904,       0000,     12.008,    -60.651,       2300,  1297.5,   4.7641,  35.0140,2,-999.0000,9, 232.5000,2,  -999.0,9,-999.000,9,-999.000,9,   4.6545
06MT20050813,     508,       AR04,          1,          9,          9,2,20050904,       0000,     12.008,    -60.651,       2300,  1299.7,   4.7625,  35.0144,2,-999.0000,9, 232.6000,2,   231.4,2,   0.764,2,   0.386,2,   4.6527
06MT20050813,     508,       AR04,          1,          8,          8,2,20050904,       0000,     12.008,    -60.651,       2300,  1599.6,   4.0165,  34.9883,2,-999.0000,9, 258.1000,2,  -999.0,9,-999.000,9,-999.000,9,   3.8869
06MT20050813,     508,       AR04,          1,          7,          7,2,20050904,       0000,     12.008,    -60.651,       2300,  1601.6,   4.0151,  34.9886,2,-999.0000,9, 258.2000,2,   254.4,6,-999.000,9,-999.000,9,   3.8853
06MT20050813,     508,       AR04,          1,          6,          6,2,20050904,       0000,     12.008,    -60.651,       2300,  1603.2,   4.0148,  34.9882,2,-999.0000,9, 258.3000,2,  -999.0,9,   0.962,2,   0.475,2,   3.8849
06MT20050813,     508,       AR04,          1,          5,          5,2,20050904,       0000,     12.008,    -60.651,       2300,  1897.8,   3.8206,  34.9816,2,-999.0000,9, 257.9000,2,  -999.0,9,-999.000,9,-999.000,9,   3.6655
06MT20050813,     508,       AR04,          1,          4,          4,2,20050904,       0000,     12.008,    -60.651,       2300,  1899.3,   3.8189,  34.9816,2,-999.0000,9, 257.9000,2,   247.8,3,   0.664,2,   0.340,2,   3.6637
06MT20050813,     508,       AR04,          1,          3,          3,2,20050904,       0000,     12.008,    -60.651,       2300,  2287.5,   3.8161,  34.9833,2,-999.0000,9, 251.5000,2,  -999.0,9,   0.458,2,   0.246,2,   3.6228
06MT20050813,     508,       AR04,          1,          2,          2,2,20050904,       0000,     12.008,    -60.651,       2300,  2287.5,   3.8161,  34.9833,2,-999.0000,9, 251.5000,2,  -999.0,9,-999.000,9,-999.000,9,   3.6228
06MT20050813,     508,       AR04,          1,          1,          1,2,20050904,       0000,     12.008,    -60.651,       2300,  2287.4,   3.8158,  34.9833,2,  34.9842,2, 251.5000,2,   243.6,3,-999.000,9,-999.000,9,   3.6225
06MT20050813,     509,       AR04,          1,         15,         15,2,20050904,       0000,     12.175,    -60.709,       2300,    10.9,  29.8650,  34.5739,2,  34.7732,3, 199.3000,2,  -999.0,9,-999.000,9,-999.000,9,  29.8623
06MT20050813,     509,       AR04,          1,         14,         14,2,20050904,       0000,     12.175,    -60.709,       2300,    11.3,  29.8275,  34.6312,2,-999.0000,9, 199.2000,2,  -999.0,9,   1.452,2,   0.930,2,  29.8247
06MT20050813,     509,       AR04,          1,         13,         13,2,20050904,       0000,     12.175,    -60.709,       2300,   208.0,  15.1836,  35.9258,2,-999.0000,9, 135.8000,2,  -999.0,9,   1.883,2,   1.043,2,  15.1516
06MT20050813,     509,       AR04,          1,         12,         12,2,20050904,       0000,     12.175,    -60.709,       2300,   496.4,   7.6737,  34.7499,2,-999.0000,9, 121.7000,2,   122.3,2,   0.689,2,   0.366,2,   7.6239
06MT20050813,     509,       AR04,          1,         11,         11,2,20050904,       0000,     12.175,    -60.709,       2300,   789.1,   5.4303,  34.6878,2,-999.0000,9, 139.3000,2,   142.2,3,   0.083,2,   0.045,2,   5.3629
06MT20050813,     509,       AR04,          1,         10,         10,2,20050904,       0000,     12.175,    -60.709,       2300,   791.0,   5.4223,  34.6902,2,-999.0000,9, 139.4000,2,  -999.0,9,-999.000,9,-999.000,9,   5.3548
06MT20050813,     509,       AR04,          1,          9,          9,2,20050904,       0000,     12.175,    -60.709,       2300,  1098.5,   5.1935,  34.9383,2,-999.0000,9, 186.9000,2,  -999.0,9,   0.228,2,   0.121,2,   5.0988
06MT20050813,     509,       AR04,          1,          8,          8,2,20050904,       0000,     12.175,    -60.709,       2300,  1495.6,   4.3110,  35.0039,2,-999.0000,9, 250.1000,2,  -999.0,9,-999.000,9,-999.000,9,   4.1876
06MT20050813,     509,       AR04,          1,          7,          7,2,20050904,       0000,     12.175,    -60.709,       2300,  1505.8,   4.3077,  35.0032,2,-999.0000,9, 250.8000,2,   246.6,2,-999.000,9,-999.000,9,   4.1834
06MT20050813,     509,       AR04,          1,          6,          6,2,20050904,       0000,     12.175,    -60.709,       2300,  1510.5,   4.2967,  35.0028,2,-999.0000,9, 250.9000,2,  -999.0,9,   0.827,2,   0.411,2,   4.1721
06MT20050813,     509,       AR04,          1,          5,          5,2,20050904,       0000,     12.175,    -60.709,       2300,  1701.9,   3.9293,  34.9850,2,-999.0000,9, 258.8000,2,  -999.0,9,-999.000,9,-999.000,9,   3.7912
06MT20050813,     509,       AR04,          1,          4,          4,2,20050904,       0000,     12.175,    -60.709,       2300,  1705.0,   3.9256,  34.9854,2,-999.0000,9, 258.9000,2,  -999.0,9,   0.866,2,   0.438,2,   3.7873
06MT20050813,     509,       AR04,          1,          3,          3,2,20050904,       0000,     12.175,    -60.709,       2300,  2252.8,   3.8124,  34.9829,2,-999.0000,9, 251.8000,2,  -999.0,9,   0.464,2,   0.250,2,   3.6227
06MT20050813,     509,       AR04,          1,          2,          2,2,20050904,       0000,     12.175,    -60.709,       2300,  2253.1,   3.8124,  34.9831,2,-999.0000,9, 251.8000,2,  -999.0,9,-999.000,9,-999.000,9,   3.6226
06MT20050813,     509,       AR04,          1,          1,          1,2,20050904,       0000,     12.175,    -60.709,       2300,  2252.8,   3.8124,  34.9828,2,  34.9838,2, 251.8000,2,   250.5,2,-999.000,9,-999.000,9,   3.6227
06MT20050813,     510,       AR04,          1,         13,         13,2,20050905,       0000,     12.339,    -60.768,       2311,    14.7,  29.8766,  34.6128,2,-999.0000,9, 203.0000,2,  -999.0,9,-999.000,9,-999.000,9,  29.8730
06MT20050813,     510,       AR04,          1,         14,         14,2,20050905,       0000,     12.339,    -60.768,       2311,    14.8,  29.8714,  34.6150,2,-999.0000,9, 203.0000,2,   205.7,2,   1.450,2,   0.928,2,  29.8677
06MT20050813,     510,       AR04,          1,         12,         12,2,20050905,       0000,     12.339,    -60.768,       2311,   304.5,  12.2054,  35.4130,2,-999.0000,9, 127.8000,2,  -999.0,9,   1.593,2,   0.862,2,  12.1649
06MT20050813,     510,       AR04,          1,         11,         11,2,20050905,       0000,     12.339,    -60.768,       2311,   598.2,   6.2692,  34.6417,2,-999.0000,9, 128.0000,2,  -999.0,9,   0.273,2,   0.148,2,   6.2152
06MT20050813,     510,       AR04,          1,         10,         10,2,20050905,       0000,     12.339,    -60.768,       2311,   899.3,   5.1867,  34.7765,2,-999.0000,9, 154.6000,2,  -999.0,9,-999.000,9,-999.000,9,   5.1107
06MT20050813,     510,       AR04,          1,          9,          9,2,20050905,       0000,     12.339,    -60.768,       2311,   899.3,   5.1867,  34.7765,2,  34.7855,2, 154.6000,2,   154.2,6,   0.067,2,   0.037,2,   5.1107
06MT20050813,     510,       AR04,          1,          8,          8,2,20050905,       0000,     12.339,    -60.768,       2311,  1397.5,   4.5296,  35.0117,2,-999.0000,9, 242.6000,2,  -999.0,9,-999.000,9,-999.000,9,   4.4130
06MT20050813,     510,       AR04,          1,          7,          7,2,20050905,       0000,     12.339,    -60.768,       2311,  1399.2,   4.5238,  35.0116,2,-999.0000,9, 242.8000,2,  -999.0,9,-999.000,9,-999.000,9,   4.4071
06MT20050813,     510,       AR04,          1,          6,          6,2,20050905,       0000,     12.339,    -60.768,       2311,  1402.7,   4.5184,  35.0113,2,-999.0000,9, 243.1000,2,  -999.0,9,   0.843,2,   0.427,2,   4.4014
06MT20050813,     510,       AR04,          1,          5,          5,2,20050905,       0000,     12.339,    -60.768,       2311,  1796.7,   3.8581,  34.9843,2,-999.0000,9, 258.2000,2,  -999.0,9,-999.000,9,-999.000,9,   3.7121
06MT20050813,     510,       AR04,          1,          4,          4,2,20050905,       0000,     12.339,    -60.768,       2311,  1798.7,   3.8585,  34.9836,2,-999.0000,9, 258.1000,2,   254.0,2,   0.658,2,   0.338,2,   3.7123
06MT20050813,     510,       AR04,          1,          3,          3,2,20050905,       0000,     12.339,    -60.768,       2311,  2308.5,   3.8162,  34.9824,2,-999.0000,9, 252.6000,2,  -999.0,9,   0.487,2,   0.257,2,   3.6208
06MT20050813,     510,       AR04,          1,          1,          1,2,20050905,       0000,     12.339,    -60.768,       2311,  2308.5,   3.8161,  34.9825,2,  34.9826,2, 252.6000,2,   251.4,2,-999.000,9,-999.000,9,   3.6207
06MT20050813,     510,       AR04,          1,          2,          2,2,20050905,       0000,     12.339,    -60.768,       2311,  2308.8,   3.8162,  34.9824,2,-999.0000,9, 252.6000,2,  -999.0,9,-999.000,9,-999.000,9,   3.6208
06MT20050813,     511,       AR04,          1,         13,         13,2,20050905,       0000,     12.509,    -60.834,       2110,    10.8,  30.0146,  33.9626,2,-999.0000,9, 201.1000,2,  -999.0,9,-999.000,9,-999.000,9,  30.0119
06MT20050813,     511,       AR04,          1,         14,         14,2,20050905,       0000,     12.509,    -60.834,       2110,    15.0,  30.0133,  33.9563,2,-999.0000,9, 201.4000,2,  -999.0,9,   1.474,2,   0.935,2,  30.0096
06MT20050813,     511,       AR04,          1,         12,         12,2,20050905,       0000,     12.509,    -60.834,       2110,   159.6,  17.5829,  36.2476,2,-999.0000,9, 133.6000,2,   136.8,3,   1.948,2,   1.122,2,  17.5557
06MT20050813,     511,       AR04,          1,         11,         11,2,20050905,       0000,     12.509,    -60.834,       2110,   504.1,   7.9681,  34.7876,2,  34.7787,2, 118.8000,2,   121.3,2,   0.705,2,   0.368,2,   7.9163
06MT20050813,     511,       AR04,          1,         10,         10,2,20050905,       0000,     12.509,    -60.834,       2110,   796.5,   5.4170,  34.6952,2,-999.0000,9, 140.0000,2,  -999.0,9,-999.000,9,-999.000,9,   5.3490
06MT20050813,     511,       AR04,          1,          9,          9,2,20050905,       0000,     12.509,    -60.834,       2110,   798.1,   5.4156,  34.6963,2,-999.0000,9, 140.2000,2,  -999.0,9,   0.070,6,   0.038,6,   5.3475
06MT20050813,     511,       AR04,          1,          8,          8,2,20050905,       0000,     12.509,    -60.834,       2110,  1296.3,   4.7395,  35.0099,2,-999.0000,9, 229.4000,2,  -999.0,9,   0.597,2,   0.300,2,   4.6302
06MT20050813,     511,       AR04,          1,          7,          7,2,20050905,       0000,     12.509,    -60.834,       2110,  1298.3,   4.7347,  35.0092,2,-999.0000,9, 229.9000,2,  -999.0,9,-999.000,9,-999.000,9,   4.6253
06MT20050813,     511,       AR04,          1,          6,          6,2,20050905,       0000,     12.509,    -60.834,       2110,  1300.1,   4.7255,  35.0094,2,-999.0000,9, 230.4000,2,  -999.0,9,-999.000,9,-999.000,9,   4.6160
06MT20050813,     511,       AR04,          1,          5,          5,2,20050905,       0000,     12.509,    -60.834,       2110,  1695.7,   3.9261,  34.9856,2,-999.0000,9, 258.4000,2,  -999.0,9,-999.000,9,-999.000,9,   3.7887
06MT20050813,     511,       AR04,          1,          4,          4,2,20050905,       0000,     12.509,    -60.834,       2110,  1698.0,   3.9237,  34.9853,2,-999.0000,9, 258.4000,2,   261.1,3,   0.774,2,   0.390,2,   3.7861
06MT20050813,     511,       AR04,          1,          3,          3,2,20050905,       0000,     12.509,    -60.834,       2110,  2108.7,   3.8280,  34.9823,2,-999.0000,9, 255.0000,2,  -999.0,9,   0.546,2,   0.282,2,   3.6523
06MT20050813,     511,       AR04,          1,          1,          1,2,20050905,       0000,     12.509,    -60.834,       2110,  2108.6,   3.8282,  34.9824,2,  34.9848,2, 255.0000,2,   253.4,2,-999.000,9,-999.000,9,   3.6525
06MT20050813,     511,       AR04,          1,          2,          2,2,20050905,       0000,     12.509,    -60.834,       2110,  2108.6,   3.8283,  34.9822,2,-999.0000,9, 255.0000,2,  -999.0,9,-999.000,9,-999.000,9,   3.6526
06MT20050813,     512,       AR04,          1,         14,         14,2,20050905,       0000,     12.667,    -60.891,       1548,    17.8,  30.0190,  34.0191,2,-999.0000,9, 200.6000,2,   197.8,6,-999.000,9,-999.000,9,  30.0146
06MT20050813,     512,       AR04,          1,         13,         13,2,20050905,       0000,     12.667,    -60.891,       1548,    18.1,  30.0173,  34.0217,2,-999.0000,9, 200.6000,2,  -999.0,9,   1.438,2,   0.913,2,  30.0128
06MT20050813,     512,       AR04,          1,         12,         12,2,20050905,       0000,     12.667,    -60.891,       1548,   399.4,   9.8212,  35.0711,2,-999.0000,9, 118.2000,2,   118.7,2,   1.059,2,   0.560,2,   9.7748
06MT20050813,     512,       AR04,          1,         11,         11,2,20050905,       0000,     12.667,    -60.891,       1548,   702.2,   6.2006,  34.6474,2,  34.6423,2, 127.1000,2,   128.9,2,   0.216,2,   0.118,2,   6.1370
06MT20050813,     512,       AR04,          1,         10,         10,2,20050905,       0000,     12.667,    -60.891,       1548,   997.3,   5.2014,  34.8239,2,-999.0000,9, 161.2000,2,  -999.0,9,-999.000,9,-999.000,9,   5.1163
06MT20050813,     512,       AR04,          1,          9,          9,2,20050905,       0000,     12.667,    -60.891,       1548,   999.7,   5.2024,  34.8321,2,-999.0000,9, 161.8000,2,  -999.0,9,   0.135,2,   0.070,2,   5.1170
06MT20050813,     512,       AR04,          1,          8,          8,2,20050905,       0000,     12.667,    -60.891,       1548,  1195.4,   5.0147,  34.9896,2,-999.0000,9, 210.9000,2,  -999.0,9,   0.487,2,   0.246,2,   4.9124
06MT20050813,     512,       AR04,          1,          7,          7,2,20050905,       0000,     12.667,    -60.891,       1548,  1203.6,   5.0084,  34.9957,2,-999.0000,9, 212.4000,2,  -999.0,9,-999.000,9,-999.000,9,   4.9053
06MT20050813,     512,       AR04,          1,          6,          6,2,20050905,       0000,     12.667,    -60.891,       1548,  1206.4,   4.9994,  34.9956,2,-999.0000,9, 213.1000,2,  -999.0,9,-999.000,9,-999.000,9,   4.8961
06MT20050813,     512,       AR04,          1,          5,          5,2,20050905,       0000,     12.667,    -60.891,       1548,  1398.8,   4.3127,  35.0020,2,-999.0000,9, 249.0000,2,  -999.0,9,-999.000,9,-999.000,9,   4.1983
06MT20050813,     512,       AR04,          1,          4,          4,2,20050905,       0000,     12.667,    -60.891,       1548,  1401.3,   4.3075,  35.0018,2,-999.0000,9, 249.4000,2,  -999.0,9,   0.926,2,   0.459,2,   4.1929
06MT20050813,     512,       AR04,          1,          3,          3,2,20050905,       0000,     12.667,    -60.891,       1548,  1543.1,   4.0311,  34.9886,2,-999.0000,9, 257.8000,2,  -999.0,9,   0.959,2,   0.474,2,   3.9065
06MT20050813,     512,       AR04,          1,          2,          2,2,20050905,       0000,     12.667,    -60.891,       1548,  1543.2,   4.0309,  34.9884,2,-999.0000,9, 257.8000,2,  -999.0,9,-999.000,9,-999.000,9,   3.9063
06MT20050813,     512,       AR04,          1,          1,          1,2,20050905,       0000,     12.667,    -60.891,       1548,  1543.3,   4.0309,  34.9882,2,  34.9885,2, 257.8000,2,   253.7,2,-999.000,9,-999.000,9,   3.9063