BOTTLE,20120828SIOCCHMYS
EXPOCODE,STNNBR,SECT_ID,CASTNO,SAMPNO,BTLNBR,BTLNBR_FLAG_W,DATE,TIME,LATITUDE,LONGITUDE,DEPTH,CTDPRS,CTDTMP,CTDSAL,CTDSAL_FLAG_W,SALNTY,SALNTY_FLAG_W,CTDOXY,CTDOXY_FLAG_W,OXYGEN,OXYGEN_FLAG_W,CFC-11,CFC-11_FLAG_W,CFC-12,CFC-12_FLAG_W,THETA
,,,,,,,,,,,,DBAR,ITS-90,PSS-78,,PSS-78,,UMOL/KG,,UMOL/KG,,PMOL/KG,,PMOL/KG,,DEG C
06MT20050813,     513,       AR04,          1,         18,         18,2,20050905,       0000,     12.833,     -60.95,       1300,   102.4,  25.2355,  37.0447,2,-999.0000,9, 179.7000,2,  -999.0,9,-999.000,9,-999.000,9,  25.2130
06MT20050813,     513,       AR04,          1,         17,         17,2,20050905,       0000,     12.833,     -60.95,       1300,   105.1,  24.8754,  37.0065,2,  36.8954,3, 177.8000,2,  -999.0,9,-999.000,9,-999.000,9,  24.8525
06MT20050813,     513,       AR04,          1,         16,         16,2,20050905,       0000,     12.833,     -60.95,       1300,   107.9,  24.6034,  37.0749,2,-999.0000,9, 175.9000,2,  -999.0,9,   1.805,6,   1.104,6,  24.5801
06MT20050813,     513,       AR04,          1,         15,         15,2,20050905,       0000,     12.833,     -60.95,       1300,   250.3,  12.6043,  35.4912,2,-999.0000,9, 129.0000,2,  -999.0,9,   1.653,2,   0.891,2,  12.5703
06MT20050813,     513,       AR04,          1,         14,         14,2,20050905,       0000,     12.833,     -60.95,       1300,   251.5,  12.5228,  35.4764,2,  35.4324,3, 128.5000,2,  -999.0,9,-999.000,9,-999.000,9,  12.4888
06MT20050813,     513,       AR04,          1,         13,         13,2,20050905,       0000,     12.833,     -60.95,       1300,   254.1,  12.3939,  35.4532,2,-999.0000,9, 127.5000,2,  -999.0,9,-999.000,9,-999.000,9,  12.3598
06MT20050813,     513,       AR04,          1,         10,         10,2,20050905,       0000,     12.833,     -60.95,       1300,   458.1,   8.7735,  34.9079,2,-999.0000,9, 121.5000,2,  -999.0,9,-999.000,9,-999.000,9,   8.7238
06MT20050813,     513,       AR04,          1,         12,         12,2,20050905,       0000,     12.833,     -60.95,       1300,   458.3,   8.7641,  34.9087,2,-999.0000,9, 121.5000,2,   118.5,6,-999.000,9,-999.000,9,   8.7144
06MT20050813,     513,       AR04,          1,         11,         11,2,20050905,       0000,     12.833,     -60.95,       1300,   458.3,   8.7641,  34.9087,2,  34.8841,3, 121.5000,2,  -999.0,9,   0.893,2,   0.467,2,   8.7144
06MT20050813,     513,       AR04,          1,          9,          9,2,20050905,       0000,     12.833,     -60.95,       1300,   648.3,   7.0329,  34.7509,2,-999.0000,9, 118.3000,2,  -999.0,9,   0.340,2,   0.184,2,   6.9703
06MT20050813,     513,       AR04,          1,          7,          7,2,20050905,       0000,     12.833,     -60.95,       1300,   649.0,   7.0152,  34.7499,2,  34.6774,3, 118.5000,2,  -999.0,9,-999.000,9,-999.000,9,   6.9526
06MT20050813,     513,       AR04,          1,          8,          8,2,20050905,       0000,     12.833,     -60.95,       1300,   648.6,   7.0292,  34.7514,2,-999.0000,9, 118.4000,2,  -999.0,9,-999.000,9,-999.000,9,   6.9666
06MT20050813,     513,       AR04,          1,          6,          6,2,20050905,       0000,     12.833,     -60.95,       1300,   897.0,   5.1052,  34.6797,2,  34.7030,3, 144.1000,2,  -999.0,9,-999.000,9,-999.000,9,   5.0302
06MT20050813,     513,       AR04,          1,          5,          5,2,20050905,       0000,     12.833,     -60.95,       1300,   899.1,   5.1083,  34.6853,2,-999.0000,9, 144.3000,2,  -999.0,9,-999.000,9,-999.000,9,   5.0330
06MT20050813,     513,       AR04,          1,          4,          4,2,20050905,       0000,     12.833,     -60.95,       1300,   901.3,   5.1097,  34.6882,2,-999.0000,9, 144.6000,2,  -999.0,9,   0.062,2,   0.035,2,   5.0342
06MT20050813,     513,       AR04,          1,          3,          3,2,20050905,       0000,     12.833,     -60.95,       1300,  1229.6,   4.7112,  34.9994,2,-999.0000,9, 229.4000,2,  -999.0,9,   0.666,2,   0.338,2,   4.6084
06MT20050813,     513,       AR04,          1,          2,          2,2,20050905,       0000,     12.833,     -60.95,       1300,  1229.6,   4.7112,  34.9994,2,-999.0000,9, 229.4000,2,  -999.0,9,-999.000,9,-999.000,9,   4.6084
06MT20050813,     513,       AR04,          1,          1,          1,2,20050905,       0000,     12.833,     -60.95,       1300,  1229.6,   4.7112,  34.9994,2,  34.9986,2, 229.4000,2,  -999.0,9,-999.000,9,-999.000,9,   4.6084
06MT20050813,     514,       AR04,          1,         12,         12,2,20050905,       0000,       13.0,    -61.017,        600,     9.6,  30.0770,  34.2678,2,-999.0000,9, 199.2000,2,   197.7,6,-999.000,9,-999.000,9,  30.0746
06MT20050813,     514,       AR04,          1,         11,         11,2,20050905,       0000,       13.0,    -61.017,        600,    10.3,  30.0748,  34.2778,2,-999.0000,9, 199.3000,2,  -999.0,9,   1.394,2,   0.888,2,  30.0722
06MT20050813,     514,       AR04,          1,          9,          9,2,20050905,       0000,       13.0,    -61.017,        600,   163.5,  18.4008,  36.4999,2,  36.4223,3, 154.7000,2,  -999.0,9,   2.103,2,   1.203,2,  18.3720
06MT20050813,     514,       AR04,          1,         10,         10,2,20050905,       0000,       13.0,    -61.017,        600,   164.2,  18.3368,  36.4900,2,-999.0000,9, 154.9000,2,  -999.0,9,-999.000,9,-999.000,9,  18.3080
06MT20050813,     514,       AR04,          1,          8,          8,2,20050905,       0000,       13.0,    -61.017,        600,   343.1,  11.2850,  35.2664,2,-999.0000,9, 123.4000,2,   125.8,3,   1.425,2,   0.759,2,  11.2416
06MT20050813,     514,       AR04,          1,          7,          7,2,20050905,       0000,       13.0,    -61.017,        600,   343.4,  11.2539,  35.2610,2,-999.0000,9, 123.4000,2,  -999.0,9,-999.000,9,-999.000,9,  11.2105
06MT20050813,     514,       AR04,          1,          6,          6,2,20050905,       0000,       13.0,    -61.017,        600,   348.0,  11.1508,  35.2456,2,-999.0000,9, 123.5000,2,  -999.0,9,-999.000,9,-999.000,9,  11.1071
06MT20050813,     514,       AR04,          1,          5,          5,2,20050905,       0000,       13.0,    -61.017,        600,   590.3,   8.4339,  34.8364,2,-999.0000,9, 118.8000,2,  -999.0,9,-999.000,9,-999.000,9,   8.3709
06MT20050813,     514,       AR04,          1,          3,          3,2,20050905,       0000,       13.0,    -61.017,        600,   592.4,   8.3935,  34.8324,2,-999.0000,9, 118.8000,2,  -999.0,9,   0.892,6,   0.471,6,   8.3304
06MT20050813,     514,       AR04,          1,          4,          4,2,20050905,       0000,       13.0,    -61.017,        600,   591.1,   8.4129,  34.8359,2,-999.0000,9, 118.8000,2,  -999.0,9,   0.884,2,   0.467,2,   8.3499
06MT20050813,     514,       AR04,          1,          2,          2,2,20050905,       0000,       13.0,    -61.017,        600,   591.1,   8.4129,  34.8359,2,-999.0000,9, 118.8000,2,  -999.0,9,-999.000,9,-999.000,9,   8.3499
06MT20050813,     514,       AR04,          1,          1,          1,2,20050905,       0000,       13.0,    -61.017,        600,   590.4,   8.4311,  34.8371,2,  34.8404,2, 118.8000,2,   117.5,2,-999.000,9,-999.000,9,   8.3681
06MT20050813,     515,       AR04,          1,         21,         21,2,20050905,       0000,     13.166,    -61.067,        437,     4.9,  29.9904,  34.3603,2,-999.0000,9, 199.7000,2,  -999.0,9,-999.000,9,-999.000,9,  29.9892
06MT20050813,     515,       AR04,          1,         20,         20,2,20050905,       0000,     13.166,    -61.067,        437,     4.9,  29.9904,  34.3603,2,-999.0000,9, 199.7000,2,  -999.0,9,-999.000,9,-999.000,9,  29.9892
06MT20050813,     515,       AR04,          1,         19,         19,2,20050905,       0000,     13.166,    -61.067,        437,     4.9,  29.9904,  34.3603,2,-999.0000,9, 199.7000,2,  -999.0,9,-999.000,9,-999.000,9,  29.9892
06MT20050813,     515,       AR04,          1,         18,         18,2,20050905,       0000,     13.166,    -61.067,        437,     4.9,  29.9904,  34.3603,2,-999.0000,9, 199.7000,2,  -999.0,9,-999.000,9,-999.000,9,  29.9892
06MT20050813,     515,       AR04,          1,         17,         17,2,20050905,       0000,     13.166,    -61.067,        437,     4.9,  29.9904,  34.3603,2,-999.0000,9, 199.7000,2,  -999.0,9,-999.000,9,-999.000,9,  29.9892
06MT20050813,     515,       AR04,          1,         16,         16,2,20050905,       0000,     13.166,    -61.067,        437,     4.9,  29.9904,  34.3603,2,-999.0000,9, 199.7000,2,  -999.0,9,-999.000,9,-999.000,9,  29.9892
06MT20050813,     515,       AR04,          1,         15,         15,2,20050905,       0000,     13.166,    -61.067,        437,     4.9,  29.9904,  34.3603,2,-999.0000,9, 199.7000,2,  -999.0,9,-999.000,9,-999.000,9,  29.9892
06MT20050813,     515,       AR04,          1,         14,         14,2,20050905,       0000,     13.166,    -61.067,        437,     4.9,  29.9904,  34.3603,2,-999.0000,9, 199.7000,2,  -999.0,9,-999.000,9,-999.000,9,  29.9892
06MT20050813,     515,       AR04,          1,         13,         13,2,20050905,       0000,     13.166,    -61.067,        437,     4.9,  29.9904,  34.3603,2,-999.0000,9, 199.7000,2,  -999.0,9,-999.000,9,-999.000,9,  29.9892
06MT20050813,     515,       AR04,          1,         12,         12,2,20050905,       0000,     13.166,    -61.067,        437,     4.9,  29.9904,  34.3603,2,-999.0000,9, 199.7000,2,  -999.0,9,-999.000,9,-999.000,9,  29.9892
06MT20050813,     515,       AR04,          1,         11,         11,2,20050905,       0000,     13.166,    -61.067,        437,     4.9,  29.9904,  34.3603,2,-999.0000,9, 199.7000,2,  -999.0,9,-999.000,9,-999.000,9,  29.9892
06MT20050813,     515,       AR04,          1,         10,         10,2,20050905,       0000,     13.166,    -61.067,        437,     4.9,  29.9904,  34.3603,2,-999.0000,9, 199.7000,2,  -999.0,9,-999.000,9,-999.000,9,  29.9892
06MT20050813,     515,       AR04,          1,          9,          9,2,20050905,       0000,     13.166,    -61.067,        437,     4.9,  29.9904,  34.3603,2,-999.0000,9, 199.7000,2,  -999.0,9,-999.000,9,-999.000,9,  29.9892
06MT20050813,     515,       AR04,          1,          8,          8,2,20050905,       0000,     13.166,    -61.067,        437,     4.9,  29.9904,  34.3603,2,-999.0000,9, 199.7000,2,  -999.0,9,-999.000,9,-999.000,9,  29.9892
06MT20050813,     515,       AR04,          1,          7,          7,2,20050905,       0000,     13.166,    -61.067,        437,     4.9,  29.9904,  34.3603,2,-999.0000,9, 199.7000,2,  -999.0,9,-999.000,9,-999.000,9,  29.9892
06MT20050813,     515,       AR04,          1,          6,          6,2,20050905,       0000,     13.166,    -61.067,        437,     4.9,  29.9904,  34.3603,2,-999.0000,9, 199.7000,2,  -999.0,9,-999.000,9,-999.000,9,  29.9892
06MT20050813,     515,       AR04,          1,          5,          5,2,20050905,       0000,     13.166,    -61.067,        437,     4.9,  29.9904,  34.3603,2,-999.0000,9, 199.7000,2,  -999.0,9,-999.000,9,-999.000,9,  29.9892
06MT20050813,     515,       AR04,          1,          4,          4,2,20050905,       0000,     13.166,    -61.067,        437,     4.9,  29.9904,  34.3603,2,-999.0000,9, 199.7000,2,  -999.0,9,-999.000,9,-999.000,9,  29.9892
06MT20050813,     515,       AR04,          1,          3,          3,2,20050905,       0000,     13.166,    -61.067,        437,     4.9,  29.9904,  34.3603,2,-999.0000,9, 199.7000,2,   201.4,2,-999.000,9,-999.000,9,  29.9892
06MT20050813,     515,       AR04,          1,          2,          2,2,20050905,       0000,     13.166,    -61.067,        437,   201.2,  16.5497,  36.2104,2,-999.0000,9, 143.4000,2,  -999.0,9,-999.000,9,-999.000,9,  16.5168
06MT20050813,     515,       AR04,          1,          1,          1,2,20050905,       0000,     13.166,    -61.067,        437,   440.8,   9.6061,  35.0104,2,  35.0080,2, 120.8000,2,   124.5,3,-999.000,9,-999.000,9,   9.5556
06MT20050813,     517,       AR04,          1,          8,          8,2,20050905,       0000,      13.39,    -61.093,        483,    10.2,  29.9445,  34.2892,2,  34.3242,3, 199.9000,2,   199.9,2,   1.472,6,   0.935,6,  29.9420
06MT20050813,     517,       AR04,          1,          7,          7,2,20050905,       0000,      13.39,    -61.093,        483,    10.3,  29.9448,  34.2885,2,-999.0000,9, 200.0000,2,  -999.0,9,-999.000,9,-999.000,9,  29.9423
06MT20050813,     517,       AR04,          1,          6,          6,2,20050905,       0000,      13.39,    -61.093,        483,   209.1,  16.6971,  36.2375,2,-999.0000,9, 144.9000,2,  -999.0,9,-999.000,9,-999.000,9,  16.6627
06MT20050813,     517,       AR04,          1,          5,          5,2,20050905,       0000,      13.39,    -61.093,        483,   209.7,  16.6890,  36.2364,2,-999.0000,9, 144.8000,2,  -999.0,9,-999.000,9,-999.000,9,  16.6545
06MT20050813,     517,       AR04,          1,          4,          4,2,20050905,       0000,      13.39,    -61.093,        483,   213.6,  16.6401,  36.2308,2,-999.0000,9, 144.2000,2,   141.0,2,   2.017,2,   1.138,2,  16.6050
06MT20050813,     517,       AR04,          1,          3,          3,2,20050905,       0000,      13.39,    -61.093,        483,   500.7,   7.5705,  34.7798,2,-999.0000,9, 126.1000,2,  -999.0,9,   0.650,2,   0.347,2,   7.5206
06MT20050813,     517,       AR04,          1,          2,          2,2,20050905,       0000,      13.39,    -61.093,        483,   500.7,   7.5705,  34.7798,2,-999.0000,9, 126.1000,2,  -999.0,9,-999.000,9,-999.000,9,   7.5206
06MT20050813,     517,       AR04,          1,          1,          1,2,20050905,       0000,      13.39,    -61.093,        483,   500.6,   7.5671,  34.7810,2,  34.7820,2, 126.1000,2,   125.6,2,-999.000,9,-999.000,9,   7.5172
06MT20050813,     518,       AR04,          1,         11,         11,2,20050905,       0000,     13.419,    -61.074,       1005,     8.7,  30.0237,  34.2616,2,-999.0000,9, 200.5000,2,   197.8,2,   1.481,2,   0.937,2,  30.0215
06MT20050813,     518,       AR04,          1,         10,         10,2,20050905,       0000,     13.419,    -61.074,       1005,   133.4,  19.4827,  36.6784,2,-999.0000,9, 157.9000,2,  -999.0,9,   2.128,2,   1.227,2,  19.4583
06MT20050813,     518,       AR04,          1,          9,          9,2,20050905,       0000,     13.419,    -61.074,       1005,   315.5,  11.7952,  35.3545,2,-999.0000,9, 126.4000,2,  -999.0,9,   1.485,2,   0.788,2,  11.7541
06MT20050813,     518,       AR04,          1,          8,          8,2,20050905,       0000,     13.419,    -61.074,       1005,   510.7,   7.8978,  34.7717,2,  34.7360,3, 121.1000,2,   123.2,2,   0.639,2,   0.340,2,   7.8456
06MT20050813,     518,       AR04,          1,          7,          7,2,20050905,       0000,     13.419,    -61.074,       1005,   525.2,   7.7634,  34.7910,2,-999.0000,9, 122.1000,2,  -999.0,9,-999.000,9,-999.000,9,   7.7102
06MT20050813,     518,       AR04,          1,          6,          6,2,20050905,       0000,     13.419,    -61.074,       1005,   525.2,   7.7634,  34.7910,2,-999.0000,9, 122.1000,2,  -999.0,9,-999.000,9,-999.000,9,   7.7102
06MT20050813,     518,       AR04,          1,          5,          5,2,20050905,       0000,     13.419,    -61.074,       1005,   821.6,   5.7120,  34.7766,2,-999.0000,9, 151.7000,2,  -999.0,9,-999.000,9,-999.000,9,   5.6398
06MT20050813,     518,       AR04,          1,          4,          4,2,20050905,       0000,     13.419,    -61.074,       1005,   828.2,   5.7062,  34.7770,2,-999.0000,9, 152.6000,2,   155.4,2,   0.185,2,   0.101,2,   5.6334
06MT20050813,     518,       AR04,          1,          3,          3,2,20050905,       0000,     13.419,    -61.074,       1005,  1001.4,   5.2352,  34.8533,2,-999.0000,9, 169.8000,2,  -999.0,9,   0.139,2,   0.078,2,   5.1494
06MT20050813,     518,       AR04,          1,          2,          2,2,20050905,       0000,     13.419,    -61.074,       1005,  1001.4,   5.2352,  34.8533,2,-999.0000,9, 169.8000,2,  -999.0,9,-999.000,9,-999.000,9,   5.1494
06MT20050813,     518,       AR04,          1,          1,          1,2,20050905,       0000,     13.419,    -61.074,       1005,  1001.4,   5.2352,  34.8533,2,  34.8426,3, 169.8000,2,   167.4,6,-999.000,9,-999.000,9,   5.1494
06MT20050813,     519,       AR04,          1,         10,         10,2,20050905,       0000,     13.467,    -61.039,        869,    15.7,  30.0311,  34.1720,2,-999.0000,9, 200.5000,2,  -999.0,9,-999.000,9,-999.000,9,  30.0272
06MT20050813,     519,       AR04,          1,         11,         11,2,20050905,       0000,     13.467,    -61.039,        869,    16.1,  30.0297,  34.1718,2,-999.0000,9, 200.5000,2,  -999.0,9,   1.463,2,   0.924,2,  30.0257
06MT20050813,     519,       AR04,          1,          9,          9,2,20050905,       0000,     13.467,    -61.039,        869,   100.2,  25.9638,  37.0300,2,-999.0000,9, 189.5000,2,   165.5,3,   1.937,2,   1.154,2,  25.9413
06MT20050813,     519,       AR04,          1,          8,          8,2,20050905,       0000,     13.467,    -61.039,        869,   397.5,   9.1962,  34.9736,2,-999.0000,9, 119.8000,2,   119.8,2,   0.992,2,   0.520,2,   9.1519
06MT20050813,     519,       AR04,          1,          7,          7,2,20050905,       0000,     13.467,    -61.039,        869,   399.3,   9.1741,  34.9701,2,-999.0000,9, 119.5000,2,  -999.0,9,-999.000,9,-999.000,9,   9.1297
06MT20050813,     519,       AR04,          1,          6,          6,2,20050905,       0000,     13.467,    -61.039,        869,   400.7,   9.1471,  34.9659,2,-999.0000,9, 119.4000,2,  -999.0,9,-999.000,9,-999.000,9,   9.1026
06MT20050813,     519,       AR04,          1,          5,          5,2,20050905,       0000,     13.467,    -61.039,        869,   597.2,   7.2691,  34.7430,2,-999.0000,9, 123.0000,2,  -999.0,9,-999.000,9,-999.000,9,   7.2106
06MT20050813,     519,       AR04,          1,          4,          4,2,20050905,       0000,     13.467,    -61.039,        869,   599.3,   7.2600,  34.7393,2,  34.7388,2, 123.0000,2,  -999.0,9,   0.521,2,   0.275,2,   7.2013
06MT20050813,     519,       AR04,          1,          3,          3,2,20050905,       0000,     13.467,    -61.039,        869,   858.4,   5.1084,  34.8625,2,-999.0000,9, 175.2000,2,  -999.0,9,   0.120,2,   0.066,2,   5.0365
06MT20050813,     519,       AR04,          1,          1,          1,2,20050905,       0000,     13.467,    -61.039,        869,   858.3,   5.1083,  34.8629,2,  34.8632,2, 175.2000,2,   174.9,2,-999.000,9,-999.000,9,   5.0365
06MT20050813,     519,       AR04,          1,          2,          2,2,20050905,       0000,     13.467,    -61.039,        869,   858.1,   5.1082,  34.8628,2,-999.0000,9, 175.2000,2,  -999.0,9,-999.000,9,-999.000,9,   5.0364