BOTTLE,20120828SIOCCHMYS
EXPOCODE,STNNBR,SECT_ID,CASTNO,SAMPNO,BTLNBR,BTLNBR_FLAG_W,DATE,TIME,LATITUDE,LONGITUDE,DEPTH,CTDPRS,CTDTMP,CTDSAL,CTDSAL_FLAG_W,SALNTY,SALNTY_FLAG_W,CTDOXY,CTDOXY_FLAG_W,OXYGEN,OXYGEN_FLAG_W,CFC-11,CFC-11_FLAG_W,CFC-12,CFC-12_FLAG_W,THETA
,,,,,,,,,,,,DBAR,ITS-90,PSS-78,,PSS-78,,UMOL/KG,,UMOL/KG,,PMOL/KG,,PMOL/KG,,DEG C
06MT20050813,     555,       AR04,          1,          9,          9,2,20050908,       0000,       15.8,    -61.498,        470,    11.3,  29.9803,  35.1730,2,-999.0000,9, 199.4000,2,  -999.0,9,   1.448,2,   0.932,2,  29.9775
06MT20050813,     555,       AR04,          1,          8,          8,2,20050908,       0000,       15.8,    -61.498,        470,   201.3,  20.0629,  36.8154,2,  36.7042,3, 162.7000,2,  -999.0,9,-999.000,9,-999.000,9,  20.0252
06MT20050813,     555,       AR04,          1,          7,          7,2,20050908,       0000,       15.8,    -61.498,        470,   201.5,  19.9975,  36.8086,2,-999.0000,9, 162.6000,2,  -999.0,9,-999.000,9,-999.000,9,  19.9599
06MT20050813,     555,       AR04,          1,          6,          6,2,20050908,       0000,       15.8,    -61.498,        470,   203.0,  19.8433,  36.7851,2,-999.0000,9, 162.4000,2,  -999.0,9,   1.690,2,   0.973,2,  19.8056
06MT20050813,     555,       AR04,          1,          5,          5,2,20050908,       0000,       15.8,    -61.498,        470,   307.6,  15.3218,  35.9777,2,-999.0000,9, 146.1000,2,  -999.0,9,-999.000,9,-999.000,9,  15.2740
06MT20050813,     555,       AR04,          1,          4,          4,2,20050908,       0000,       15.8,    -61.498,        470,   307.9,  15.2719,  35.9697,2,-999.0000,9, 146.0000,2,   140.2,3,   1.886,2,   1.047,2,  15.2242
06MT20050813,     555,       AR04,          1,          3,          3,2,20050908,       0000,       15.8,    -61.498,        470,   469.7,  10.1385,  35.1189,2,-999.0000,9, 121.0000,2,  -999.0,9,   1.178,2,   0.629,2,  10.0827
06MT20050813,     555,       AR04,          1,          2,          2,2,20050908,       0000,       15.8,    -61.498,        470,   470.0,  10.1372,  35.1192,2,-999.0000,9, 121.0000,2,  -999.0,9,-999.000,9,-999.000,9,  10.0814
06MT20050813,     555,       AR04,          1,          1,          1,2,20050908,       0000,       15.8,    -61.498,        470,   470.0,  10.1374,  35.1191,2,  35.1250,2, 121.0000,2,   123.2,2,-999.000,9,-999.000,9,  10.0815
06MT20050813,     556,       AR04,          1,          3,          3,2,20050908,       0000,     15.955,    -61.557,        513,    12.3,  30.0421,  34.9791,2,  34.9848,2, 199.0000,2,  -999.0,9,-999.000,9,-999.000,9,  30.0390
06MT20050813,     556,       AR04,          1,          2,          2,2,20050908,       0000,     15.955,    -61.557,        513,   102.0,  25.0748,  36.7392,2,-999.0000,9, 178.9000,2,   184.5,3,-999.000,9,-999.000,9,  25.0525
06MT20050813,     556,       AR04,          1,          1,          1,2,20050908,       0000,     15.955,    -61.557,        513,   251.9,  16.5986,  36.2439,2,  36.2481,2, 153.0000,2,   152.7,2,-999.000,9,-999.000,9,  16.5573
06MT20050813,     562,       AR04,          1,         14,         14,2,20050908,       0000,     16.284,    -60.585,       3165,    10.9,  30.0815,  35.0193,2,-999.0000,9, 196.8000,2,  -999.0,9,-999.000,9,-999.000,9,  30.0788
06MT20050813,     562,       AR04,          1,          8,          8,2,20050908,       0000,     16.284,    -60.585,       3165,  1447.7,   4.2496,  34.9980,2,  34.9950,2, 254.4000,2,  -999.0,9,   0.701,4,   0.553,2,   4.1313
06MT20050813,     562,       AR04,          1,          3,          3,2,20050908,       0000,     16.284,    -60.585,       3165,  1720.4,   3.6974,  34.9708,2,-999.0000,9, 263.6000,2,  -999.0,9,   0.676,4,   0.526,2,   3.5606
06MT20050813,     562,       AR04,          1,          2,          2,2,20050908,       0000,     16.284,    -60.585,       3165,  2005.8,   3.5503,  34.9662,2,-999.0000,9, 263.7000,2,   253.5,3,-999.000,9,-999.000,9,   3.3889
06MT20050813,     562,       AR04,          1,          7,          7,2,20050908,       0000,     16.284,    -60.585,       3165,  1447.6,   4.2498,  34.9986,2,-999.0000,9, 254.4000,2,  -999.0,9,-999.000,9,-999.000,9,   4.1315
06MT20050813,     562,       AR04,          1,         11,         11,2,20050908,       0000,     16.284,    -60.585,       3165,   998.9,   5.5837,  34.9398,2,-999.0000,9, 200.4000,2,  -999.0,9,   0.254,4,   0.201,2,   5.4954
06MT20050813,     562,       AR04,          1,          3,          3,2,20050908,       0000,     16.284,    -60.585,       3165,   818.0,   6.2799,  34.7926,2,  34.7993,2, 131.7000,2,   134.2,2,-999.000,9,-999.000,9,   6.2045
06MT20050813,     562,       AR04,          1,         17,         17,2,20050908,       0000,     16.284,    -60.585,       3165,  1306.8,   4.5126,  35.0100,2,-999.0000,9, 243.1000,2,  -999.0,9,-999.000,9,-999.000,9,   4.4046
06MT20050813,     562,       AR04,          1,          9,          9,2,20050908,       0000,     16.284,    -60.585,       3165,  1262.0,   4.6977,  35.0105,2,-999.0000,9, 240.0000,2,  -999.0,9,   0.548,4,   0.424,2,   4.5920
06MT20050813,     562,       AR04,          1,          2,          2,2,20050908,       0000,     16.284,    -60.585,       3165,  1720.3,   3.6967,  34.9708,2,-999.0000,9, 263.6000,2,  -999.0,9,-999.000,9,-999.000,9,   3.5600
06MT20050813,     562,       AR04,          1,         16,         16,2,20050908,       0000,     16.284,    -60.585,       3165,  1400.8,   4.2815,  35.0009,2,-999.0000,9, 252.8000,2,  -999.0,9,   0.753,4,   0.561,2,   4.1672
06MT20050813,     562,       AR04,          1,          5,          5,2,20050908,       0000,     16.284,    -60.585,       3165,  1597.3,   3.9568,  34.9834,2,-999.0000,9, 261.2000,2,  -999.0,9,-999.000,9,-999.000,9,   3.8281
06MT20050813,     562,       AR04,          1,         10,         10,2,20050908,       0000,     16.284,    -60.585,       3165,  1261.7,   4.7078,  35.0103,2,-999.0000,9, 239.9000,2,  -999.0,9,-999.000,9,-999.000,9,   4.6020
06MT20050813,     562,       AR04,          1,         15,         15,2,20050908,       0000,     16.284,    -60.585,       3165,  1499.2,   4.0981,  34.9897,2,-999.0000,9, 258.1000,2,  -999.0,9,   0.811,4,   0.592,2,   3.9768
06MT20050813,     562,       AR04,          1,          6,          6,2,20050908,       0000,     16.284,    -60.585,       3165,  1596.7,   3.9644,  34.9834,2,-999.0000,9, 261.2000,2,  -999.0,9,-999.000,9,-999.000,9,   3.8357
06MT20050813,     562,       AR04,          1,         12,         12,2,20050908,       0000,     16.284,    -60.585,       3165,   601.0,   8.9321,  34.9752,2,-999.0000,9, 120.5000,2,   122.9,2,   0.433,4,   0.360,2,   8.8656
06MT20050813,     562,       AR04,          1,         18,         18,2,20050908,       0000,     16.284,    -60.585,       3165,  1089.0,   5.0438,  35.0225,2,-999.0000,9, 222.7000,2,  -999.0,9,   0.470,4,   0.370,2,   4.9511
06MT20050813,     562,       AR04,          1,          4,          4,2,20050908,       0000,     16.284,    -60.585,       3165,    15.4,  30.0417,  35.1564,2,-999.0000,9, 197.1000,2,   194.8,2,-999.000,9,-999.000,9,  30.0379
06MT20050813,     562,       AR04,          1,          1,          1,2,20050908,       0000,     16.284,    -60.585,       3165,  1720.2,   3.6965,  34.9710,2,  34.9691,2, 263.6000,2,   259.7,2,-999.000,9,-999.000,9,   3.5598
06MT20050813,     562,       AR04,          1,          2,          2,2,20050908,       0000,     16.284,    -60.585,       3165,  3161.9,   2.7530,  34.9287,2,-999.0000,9, 263.4000,2,  -999.0,9,-999.000,9,-999.000,9,   2.4906
06MT20050813,     562,       AR04,          1,          3,          3,2,20050908,       0000,     16.284,    -60.585,       3165,  3161.4,   2.7586,  34.9287,2,-999.0000,9, 263.3000,2,  -999.0,9,   0.327,4,   0.253,2,   2.4962
06MT20050813,     562,       AR04,          1,          4,          4,2,20050908,       0000,     16.284,    -60.585,       3165,  2898.6,   2.8908,  34.9375,2,-999.0000,9, 262.7000,2,  -999.0,9,   0.318,4,   0.234,2,   2.6529
06MT20050813,     562,       AR04,          1,          5,          5,2,20050908,       0000,     16.284,    -60.585,       3165,  2896.6,   2.8905,  34.9379,2,-999.0000,9, 262.7000,2,  -999.0,9,-999.000,9,-999.000,9,   2.6528
06MT20050813,     562,       AR04,          1,          6,          6,2,20050908,       0000,     16.284,    -60.585,       3165,  2894.4,   2.8918,  34.9376,2,-999.0000,9, 262.6000,2,  -999.0,9,-999.000,9,-999.000,9,   2.6543
06MT20050813,     562,       AR04,          1,          7,          7,2,20050908,       0000,     16.284,    -60.585,       3165,  2698.1,   3.0295,  34.9455,2,-999.0000,9, 262.6000,2,  -999.0,9,-999.000,9,-999.000,9,   2.8092
06MT20050813,     562,       AR04,          1,          8,          8,2,20050908,       0000,     16.284,    -60.585,       3165,  2696.3,   3.0294,  34.9458,2,-999.0000,9, 262.6000,2,  -999.0,9,   0.307,4,   0.236,2,   2.8093
06MT20050813,     562,       AR04,          1,          9,          9,2,20050908,       0000,     16.284,    -60.585,       3165,  2498.1,   3.1689,  34.9535,2,-999.0000,9, 262.1000,2,   260.0,2,   0.323,4,   0.248,2,   2.9660
06MT20050813,     562,       AR04,          1,         10,         10,2,20050908,       0000,     16.284,    -60.585,       3165,  2495.9,   3.1689,  34.9539,2,-999.0000,9, 262.1000,2,  -999.0,9,-999.000,9,-999.000,9,   2.9662
06MT20050813,     562,       AR04,          1,         11,         11,2,20050908,       0000,     16.284,    -60.585,       3165,  2206.5,   3.3380,  34.9614,2,  34.9600,2, 262.9000,2,  -999.0,9,   0.400,4,   0.302,2,   3.1607
06MT20050813,     562,       AR04,          1,         12,         12,2,20050908,       0000,     16.284,    -60.585,       3165,  1998.4,   3.5201,  34.9667,2,-999.0000,9, 263.7000,2,  -999.0,9,   0.523,4,   0.389,2,   3.3598
06MT20050813,     562,       AR04,          1,         13,         13,2,20050908,       0000,     16.284,    -60.585,       3165,  1787.9,   3.7134,  34.9716,2,-999.0000,9, 264.4000,2,  -999.0,9,   0.668,4,   0.501,2,   3.5702
06MT20050813,     562,       AR04,          1,         14,         14,2,20050908,       0000,     16.284,    -60.585,       3165,  1642.0,   3.8813,  34.9781,2,-999.0000,9, 262.6000,2,  -999.0,9,   0.793,4,   0.587,2,   3.7494
06MT20050813,     562,       AR04,          1,          1,          1,2,20050908,       0000,     16.284,    -60.585,       3165,  3162.2,   2.7527,  34.9282,2,  34.9346,2, 263.4000,2,   256.0,3,-999.000,9,-999.000,9,   2.4903
06MT20050813,     562,       AR04,          1,          1,          1,2,20050908,       0000,     16.284,    -60.585,       3165,  2533.0,   3.1461,  34.9527,2,  34.9506,2, 262.0000,2,   259.5,6,-999.000,9,-999.000,9,   2.9401
06MT20050813,     562,       AR04,          1,         13,         13,2,20050908,       0000,     16.284,    -60.585,       3165,    10.9,  30.0815,  35.0193,2,-999.0000,9, 196.8000,2,  -999.0,9,   0.973,4,   0.918,2,  30.0788
06MT20050813,     562,       AR04,          1,          4,          4,2,20050908,       0000,     16.284,    -60.585,       3165,  1600.1,   3.9560,  34.9832,2,-999.0000,9, 261.3000,2,   194.3,3,   0.781,4,   0.585,2,   3.8271
06MT20050813,     563,       AR04,          1,         21,         21,2,20050909,       0000,     16.275,    -60.535,       4305,     6.0,  30.0392,  34.7786,2,-999.0000,9, 196.1000,2,  -999.0,9,   1.008,4,   0.920,2,  30.0377
06MT20050813,     563,       AR04,          1,          2,          2,2,20050909,       0000,     16.275,    -60.535,       4305,  4404.6,   2.3335,  34.8941,2,-999.0000,9, 264.3000,2,  -999.0,9,-999.000,9,-999.000,9,   1.9427
06MT20050813,     563,       AR04,          1,         19,         19,2,20050909,       0000,     16.275,    -60.535,       4305,   798.1,   6.7408,  34.8092,2,-999.0000,9, 125.6000,2,   130.2,3,   0.186,4,   0.148,2,   6.6646
06MT20050813,     563,       AR04,          1,          8,          8,2,20050909,       0000,     16.275,    -60.535,       4305,    14.5,  30.0430,  35.1404,2,-999.0000,9, 197.4000,2,   197.8,2,-999.000,9,-999.000,9,  30.0394
06MT20050813,     563,       AR04,          1,          7,          7,2,20050909,       0000,     16.275,    -60.535,       4305,   702.1,   7.9526,  34.8799,2,  34.8555,3, 121.9000,2,   124.4,2,-999.000,9,-999.000,9,   7.8796
06MT20050813,     563,       AR04,          1,         20,         20,2,20050909,       0000,     16.275,    -60.535,       4305,   406.7,  12.9041,  35.6202,2,-999.0000,9, 119.3000,2,  -999.0,9,   1.027,4,   0.834,2,  12.8477
06MT20050813,     563,       AR04,          1,          6,          6,2,20050909,       0000,     16.275,    -60.535,       4305,  1477.2,   4.1451,  34.9930,2,-999.0000,9, 256.2000,2,   252.6,2,-999.000,9,-999.000,9,   4.0253
06MT20050813,     563,       AR04,          1,          4,          4,2,20050909,       0000,     16.275,    -60.535,       4305,  3205.3,   2.6885,  34.9254,2,  34.9224,2, 264.2000,2,   264.8,2,-999.000,9,-999.000,9,   2.4231
06MT20050813,     563,       AR04,          1,          5,          5,2,20050909,       0000,     16.275,    -60.535,       4305,  2198.6,   3.3487,  34.9622,2,-999.0000,9, 262.7000,2,   261.7,2,-999.000,9,-999.000,9,   3.1720
06MT20050813,     563,       AR04,          1,          3,          3,2,20050909,       0000,     16.275,    -60.535,       4305,  4404.1,   2.3363,  34.8945,2,-999.0000,9, 264.3000,2,  -999.0,9,-999.000,9,-999.000,9,   1.9455
06MT20050813,     563,       AR04,          1,          1,          1,2,20050909,       0000,     16.275,    -60.535,       4305,  4404.0,   2.3362,  34.8951,2,  34.9472,3, 264.3000,2,   264.0,2,-999.000,9,-999.000,9,   1.9454
06MT20050813,     563,       AR04,          1,         22,         22,2,20050909,       0000,     16.275,    -60.535,       4305,     4.3,  30.0348,  34.7976,2,-999.0000,9, 196.0000,2,  -999.0,9,-999.000,9,-999.000,9,  30.0337
06MT20050813,     564,       AR04,          1,         22,         22,2,20050909,       0000,     16.267,    -60.435,       4771,    12.8,  29.9891,  34.0531,2,-999.0000,9, 197.5000,2,  -999.0,9,   1.467,6,   0.929,6,  29.9859
06MT20050813,     564,       AR04,          1,         21,         21,2,20050909,       0000,     16.267,    -60.435,       4771,   199.1,  19.3641,  36.7042,2,-999.0000,9, 172.9000,2,   173.8,2,   2.161,2,   1.285,2,  19.3277
06MT20050813,     564,       AR04,          1,         20,         20,2,20050909,       0000,     16.267,    -60.435,       4771,   503.5,  10.3862,  35.2157,2,-999.0000,9, 122.1000,2,  -999.0,9,   1.108,2,   0.595,2,  10.3253
06MT20050813,     564,       AR04,          1,         19,         19,2,20050909,       0000,     16.267,    -60.435,       4771,   900.8,   6.3060,  34.7902,2,-999.0000,9, 133.1000,2,  -999.0,9,   0.192,2,   0.100,2,   6.2223
06MT20050813,     564,       AR04,          1,         18,         18,2,20050909,       0000,     16.267,    -60.435,       4771,  1199.0,   4.8751,  35.0119,2,-999.0000,9, 225.2000,2,  -999.0,9,   0.722,2,   0.364,2,   4.7736
06MT20050813,     564,       AR04,          1,         17,         17,2,20050909,       0000,     16.267,    -60.435,       4771,  1385.5,   4.3063,  35.0051,2,  35.0037,2, 252.5000,2,  -999.0,9,   1.233,2,   0.607,2,   4.1931
06MT20050813,     564,       AR04,          1,         16,         16,2,20050909,       0000,     16.267,    -60.435,       4771,  1546.5,   3.9896,  34.9852,2,-999.0000,9, 261.0000,2,  -999.0,9,   1.154,2,   0.575,2,   3.8652
06MT20050813,     564,       AR04,          1,         15,         15,2,20050909,       0000,     16.267,    -60.435,       4771,  1698.9,   3.7706,  34.9726,2,-999.0000,9, 263.7000,2,  -999.0,9,   1.095,2,   0.541,2,   3.6349
06MT20050813,     564,       AR04,          1,         14,         14,2,20050909,       0000,     16.267,    -60.435,       4771,  1906.1,   3.5697,  34.9683,2,-999.0000,9, 263.7000,2,  -999.0,9,   0.875,2,   0.422,2,   3.4174
06MT20050813,     564,       AR04,          1,         13,         13,2,20050909,       0000,     16.267,    -60.435,       4771,  2114.3,   3.4381,  34.9642,2,-999.0000,9, 262.9000,2,  -999.0,9,   0.734,2,   0.378,2,   3.2680
06MT20050813,     564,       AR04,          1,         12,         12,2,20050909,       0000,     16.267,    -60.435,       4771,  2298.6,   3.2731,  34.9593,2,-999.0000,9, 262.1000,2,  -999.0,9,   0.380,4,   0.277,2,   3.0879
06MT20050813,     564,       AR04,          1,         11,         11,2,20050909,       0000,     16.267,    -60.435,       4771,  2615.8,   3.1174,  34.9513,2,  34.9484,2, 261.3000,2,  -999.0,9,   0.322,4,   0.231,2,   2.9037
06MT20050813,     564,       AR04,          1,         10,         10,2,20050909,       0000,     16.267,    -60.435,       4771,  3016.9,   2.7808,  34.9307,2,-999.0000,9, 263.2000,2,  -999.0,9,   0.364,4,   0.263,2,   2.5330
06MT20050813,     564,       AR04,          1,          9,          9,2,20050909,       0000,     16.267,    -60.435,       4771,  3302.4,   2.5868,  34.9183,2,-999.0000,9, 264.7000,2,  -999.0,9,   0.394,4,   0.287,2,   2.3134
06MT20050813,     564,       AR04,          1,          8,          8,2,20050909,       0000,     16.267,    -60.435,       4771,  3594.9,   2.4741,  34.9106,2,-999.0000,9, 265.6000,2,  -999.0,9,   0.386,4,   0.280,2,   2.1719
06MT20050813,     564,       AR04,          1,          7,          7,2,20050909,       0000,     16.267,    -60.435,       4771,  3798.5,   2.3970,  34.9042,2,-999.0000,9, 265.7000,2,  -999.0,9,   0.378,4,   0.298,2,   2.0743
06MT20050813,     564,       AR04,          1,          6,          6,2,20050909,       0000,     16.267,    -60.435,       4771,  4001.0,   2.3432,  34.8991,2,-999.0000,9, 265.3000,2,  -999.0,9,   0.351,4,   0.273,2,   1.9991
06MT20050813,     564,       AR04,          1,          5,          5,2,20050909,       0000,     16.267,    -60.435,       4771,  4199.7,   2.3096,  34.8949,2,-999.0000,9, 264.6000,2,  -999.0,9,   0.372,4,   0.277,2,   1.9436
06MT20050813,     564,       AR04,          1,          4,          4,2,20050909,       0000,     16.267,    -60.435,       4771,  4399.0,   2.2898,  34.8914,2,  34.8884,2, 263.6000,2,   262.3,2,   0.325,4,   0.252,2,   1.9010
06MT20050813,     564,       AR04,          1,          3,          3,2,20050909,       0000,     16.267,    -60.435,       4771,  4400.4,   2.2899,  34.8917,2,-999.0000,9, 263.6000,2,  -999.0,9,-999.000,9,-999.000,9,   1.9009
06MT20050813,     564,       AR04,          1,          2,          2,2,20050909,       0000,     16.267,    -60.435,       4771,  4846.7,   2.2876,  34.8856,2,-999.0000,9, 260.9000,2,  -999.0,9,   0.284,4,   0.217,2,   1.8445
06MT20050813,     564,       AR04,          1,          1,          1,2,20050909,       0000,     16.267,    -60.435,       4771,  4847.6,   2.2883,  34.8856,2,  34.8839,2, 260.9000,2,   315.3,4,-999.000,9,-999.000,9,   1.8451