BOTTLE,20120828SIOCCHMYS
EXPOCODE,STNNBR,SECT_ID,CASTNO,SAMPNO,BTLNBR,BTLNBR_FLAG_W,DATE,TIME,LATITUDE,LONGITUDE,DEPTH,CTDPRS,CTDTMP,CTDSAL,CTDSAL_FLAG_W,SALNTY,SALNTY_FLAG_W,CTDOXY,CTDOXY_FLAG_W,OXYGEN,OXYGEN_FLAG_W,CFC-11,CFC-11_FLAG_W,CFC-12,CFC-12_FLAG_W,THETA
,,,,,,,,,,,,DBAR,ITS-90,PSS-78,,PSS-78,,UMOL/KG,,UMOL/KG,,PMOL/KG,,PMOL/KG,,DEG C
06MT20050813,     596,       AR04,          1,          5,          5,2,20050912,       0000,     18.574,    -64.066,       1921,    29.7,  30.0521,  35.9064,2,-999.0000,9, 192.6000,2,   201.0,3,-999.000,9,-999.000,9,  30.0447
06MT20050813,     596,       AR04,          1,          4,          4,2,20050912,       0000,     18.574,    -64.066,       1921,   506.9,  12.5438,  35.6243,2,-999.0000,9, 137.4000,2,   140.3,2,-999.000,9,-999.000,9,  12.4745
06MT20050813,     596,       AR04,          1,          3,          3,2,20050912,       0000,     18.574,    -64.066,       1921,   904.5,   6.4890,  34.9570,2,  34.9571,2, 148.3000,2,   151.1,2,-999.000,9,-999.000,9,   6.4035
06MT20050813,     596,       AR04,          1,          2,          2,2,20050912,       0000,     18.574,    -64.066,       1921,  1583.6,   4.0850,  34.9898,2,  34.9909,2, 257.9000,2,   255.8,2,-999.000,9,-999.000,9,   3.9560
06MT20050813,     596,       AR04,          1,          1,          1,2,20050912,       0000,     18.574,    -64.066,       1921,  1936.2,   3.6817,  34.9697,2,  34.9689,2, 262.2000,2,   261.2,2,-999.000,9,-999.000,9,   3.5250
06MT20050813,     597,       AR04,          1,         16,         16,2,20050912,       0000,     18.591,    -64.109,       1168,    11.0,  29.9960,  35.8947,2,-999.0000,9, 193.6000,2,  -999.0,9,   1.482,2,   0.931,2,  29.9933
06MT20050813,     597,       AR04,          1,         17,         17,2,20050912,       0000,     18.591,    -64.109,       1168,    11.4,  29.9959,  35.8947,2,-999.0000,9, 193.6000,2,  -999.0,9,-999.000,9,-999.000,9,  29.9931
06MT20050813,     597,       AR04,          1,         15,         15,2,20050912,       0000,     18.591,    -64.109,       1168,   155.3,  21.6621,  36.9188,2,-999.0000,9, 189.3000,2,  -999.0,9,   1.483,2,   0.926,2,  21.6314
06MT20050813,     597,       AR04,          1,         14,         14,2,20050912,       0000,     18.591,    -64.109,       1168,   401.4,  15.8917,  36.1673,2,-999.0000,9, 165.6000,2,  -999.0,9,   2.115,2,   1.150,2,  15.8275
06MT20050813,     597,       AR04,          1,         13,         13,2,20050912,       0000,     18.591,    -64.109,       1168,   648.7,  10.0959,  35.2862,2,-999.0000,9, 128.9000,2,  -999.0,9,   0.881,2,   0.461,2,  10.0182
06MT20050813,     597,       AR04,          1,         12,         12,2,20050912,       0000,     18.591,    -64.109,       1168,   857.5,   7.0889,  34.9670,2,-999.0000,9, 135.8000,2,  -999.0,9,   0.209,2,   0.114,2,   7.0042
06MT20050813,     597,       AR04,          1,         11,         11,2,20050912,       0000,     18.591,    -64.109,       1168,  1107.4,   5.4433,  35.0163,2,-999.0000,9, 204.7000,2,  -999.0,9,   0.650,2,   0.334,2,   5.3456
06MT20050813,     597,       AR04,          1,         10,         10,2,20050912,       0000,     18.591,    -64.109,       1168,  1167.0,   5.0031,  35.0211,2,-999.0000,9, 224.4000,2,  -999.0,9,-999.000,9,-999.000,9,   4.9035
06MT20050813,     597,       AR04,          1,          9,          9,2,20050912,       0000,     18.591,    -64.109,       1168,  1167.0,   5.0031,  35.0211,2,-999.0000,9, 224.4000,2,  -999.0,9,-999.000,9,-999.000,9,   4.9035
06MT20050813,     597,       AR04,          1,          8,          8,2,20050912,       0000,     18.591,    -64.109,       1168,  1167.0,   5.0031,  35.0211,2,-999.0000,9, 224.4000,2,  -999.0,9,-999.000,9,-999.000,9,   4.9035
06MT20050813,     597,       AR04,          1,          7,          7,2,20050912,       0000,     18.591,    -64.109,       1168,  1167.0,   5.0031,  35.0211,2,-999.0000,9, 224.4000,2,  -999.0,9,-999.000,9,-999.000,9,   4.9035
06MT20050813,     597,       AR04,          1,          6,          6,2,20050912,       0000,     18.591,    -64.109,       1168,  1167.0,   5.0031,  35.0211,2,-999.0000,9, 224.4000,2,  -999.0,9,-999.000,9,-999.000,9,   4.9035
06MT20050813,     597,       AR04,          1,          5,          5,2,20050912,       0000,     18.591,    -64.109,       1168,  1167.0,   5.0031,  35.0211,2,-999.0000,9, 224.4000,2,  -999.0,9,-999.000,9,-999.000,9,   4.9035
06MT20050813,     597,       AR04,          1,          4,          4,2,20050912,       0000,     18.591,    -64.109,       1168,  1167.0,   5.0031,  35.0211,2,-999.0000,9, 224.4000,2,  -999.0,9,   0.850,2,   0.421,2,   4.9035
06MT20050813,     597,       AR04,          1,          3,          3,2,20050912,       0000,     18.591,    -64.109,       1168,  1167.0,   5.0031,  35.0211,2,-999.0000,9, 224.4000,2,  -999.0,9,-999.000,9,-999.000,9,   4.9035
06MT20050813,     597,       AR04,          1,          1,          1,2,20050912,       0000,     18.591,    -64.109,       1168,  1167.0,   5.0031,  35.0211,2,-999.0000,9, 224.4000,2,  -999.0,9,-999.000,9,-999.000,9,   4.9035
06MT20050813,     597,       AR04,          1,          2,          2,2,20050912,       0000,     18.591,    -64.109,       1168,  1167.0,   5.0031,  35.0211,2,-999.0000,9, 224.4000,2,  -999.0,9,-999.000,9,-999.000,9,   4.9035
06MT20050813,     598,       AR04,          1,          3,          3,2,20050912,       0000,     18.608,    -64.134,        416,    11.1,  29.9720,  35.9039,2,  35.8937,3, 193.6000,2,   194.2,2,-999.000,9,-999.000,9,  29.9692
06MT20050813,     598,       AR04,          1,          2,          2,2,20050912,       0000,     18.608,    -64.134,        416,   105.2,  23.8223,  37.0049,2,-999.0000,9, 205.1000,2,   208.1,2,-999.000,9,-999.000,9,  23.8001
06MT20050813,     598,       AR04,          1,          1,          1,2,20050912,       0000,     18.608,    -64.134,        416,   415.0,  16.0508,  36.1934,2,  36.1974,2, 167.5000,2,   167.7,2,-999.000,9,-999.000,9,  15.9840
06MT20050813,     601,       AR04,          1,          3,          3,2,20050912,       0000,     18.792,    -64.334,        622,     7.8,  30.4068,  35.9637,2,  36.0358,3, 192.6000,2,   190.6,6,-999.000,9,-999.000,9,  30.4048
06MT20050813,     601,       AR04,          1,          2,          2,2,20050912,       0000,     18.792,    -64.334,        622,   204.4,  19.8684,  36.7339,2,-999.0000,9, 187.3000,2,   185.8,2,-999.000,9,-999.000,9,  19.8304
06MT20050813,     601,       AR04,          1,          1,          1,2,20050912,       0000,     18.792,    -64.334,        622,   611.3,  10.0318,  35.2727,2,  35.2731,2, 128.3000,2,   134.3,3,-999.000,9,-999.000,9,   9.9590
06MT20050813,     602,       AR04,          1,         12,         12,2,20050912,       0000,     18.833,    -64.334,       1312,     7.1,  30.1162,  35.9205,2,-999.0000,9, 194.0000,2,  -999.0,9,   1.448,2,   0.913,2,  30.1144
06MT20050813,     602,       AR04,          1,         13,         13,2,20050912,       0000,     18.833,    -64.334,       1312,     7.3,  30.0852,  35.9235,2,-999.0000,9, 194.0000,2,  -999.0,9,-999.000,9,-999.000,9,  30.0834
06MT20050813,     602,       AR04,          1,         11,         11,2,20050912,       0000,     18.833,    -64.334,       1312,   399.2,  16.1072,  36.1984,2,-999.0000,9, 166.4000,2,  -999.0,9,   2.225,2,   1.200,2,  16.0428
06MT20050813,     602,       AR04,          1,         10,         10,2,20050912,       0000,     18.833,    -64.334,       1312,   401.2,  16.0765,  36.1929,2,-999.0000,9, 165.3000,2,  -999.0,9,-999.000,9,-999.000,9,  16.0119
06MT20050813,     602,       AR04,          1,          9,          9,2,20050912,       0000,     18.833,    -64.334,       1312,   606.2,  11.1962,  35.4299,2,  35.3738,3, 130.9000,2,   133.7,2,-999.000,9,-999.000,9,  11.1189
06MT20050813,     602,       AR04,          1,          8,          8,2,20050912,       0000,     18.833,    -64.334,       1312,   607.1,  11.1482,  35.4225,2,-999.0000,9, 130.9000,2,  -999.0,9,   1.156,2,   0.590,2,  11.0709
06MT20050813,     602,       AR04,          1,          7,          7,2,20050912,       0000,     18.833,    -64.334,       1312,   607.1,  11.1455,  35.4223,2,-999.0000,9, 130.9000,2,  -999.0,9,-999.000,9,-999.000,9,  11.0683
06MT20050813,     602,       AR04,          1,          6,          6,2,20050912,       0000,     18.833,    -64.334,       1312,   812.5,   7.7715,  35.0369,2,-999.0000,9, 133.9000,2,  -999.0,9,-999.000,9,-999.000,9,   7.6873
06MT20050813,     602,       AR04,          1,          5,          5,2,20050912,       0000,     18.833,    -64.334,       1312,   813.8,   7.7087,  35.0290,2,-999.0000,9, 134.1000,2,  -999.0,9,-999.000,9,-999.000,9,   7.6248
06MT20050813,     602,       AR04,          1,          4,          4,2,20050912,       0000,     18.833,    -64.334,       1312,   815.4,   7.7040,  35.0283,2,-999.0000,9, 134.3000,2,  -999.0,9,   0.342,2,   0.191,2,   7.6199
06MT20050813,     602,       AR04,          1,          3,          3,2,20050912,       0000,     18.833,    -64.334,       1312,  1303.1,   4.6922,  35.0271,2,-999.0000,9, 243.0000,2,  -999.0,9,   1.208,2,   0.586,2,   4.5827
06MT20050813,     602,       AR04,          1,          1,          1,2,20050912,       0000,     18.833,    -64.334,       1312,  1303.1,   4.6922,  35.0271,2,  35.0238,2, 243.0000,2,   238.5,2,-999.000,9,-999.000,9,   4.5827
06MT20050813,     602,       AR04,          1,          2,          2,2,20050912,       0000,     18.833,    -64.334,       1312,  1303.1,   4.6922,  35.0271,2,-999.0000,9, 243.0000,2,  -999.0,9,-999.000,9,-999.000,9,   4.5827
06MT20050813,     603,       AR04,          1,         15,         15,2,20050912,       0000,     18.883,    -64.334,       1858,    12.5,  30.0664,  35.9011,2,-999.0000,9, 194.0000,2,   192.3,2,-999.000,9,-999.000,9,  30.0633
06MT20050813,     603,       AR04,          1,         14,         14,2,20050912,       0000,     18.883,    -64.334,       1858,    12.8,  30.0612,  35.9005,2,-999.0000,9, 194.0000,2,  -999.0,9,   1.444,2,   0.910,2,  30.0580
06MT20050813,     603,       AR04,          1,         13,         13,2,20050912,       0000,     18.883,    -64.334,       1858,   706.3,   8.7323,  35.1233,2,  35.1175,2, 129.4000,2,  -999.0,9,   0.530,2,   0.290,2,   8.6546
06MT20050813,     603,       AR04,          1,         12,         12,2,20050912,       0000,     18.883,    -64.334,       1858,  1111.8,   5.4008,  35.0133,2,-999.0000,9, 205.6000,2,  -999.0,9,   0.721,2,   0.366,2,   5.3030
06MT20050813,     603,       AR04,          1,         11,         11,2,20050912,       0000,     18.883,    -64.334,       1858,  1396.2,   4.4024,  35.0110,2,-999.0000,9, 250.9000,2,  -999.0,9,   1.274,2,   0.628,2,   4.2872
06MT20050813,     603,       AR04,          1,         10,         10,2,20050912,       0000,     18.883,    -64.334,       1858,  1398.0,   4.4024,  35.0106,2,-999.0000,9, 251.1000,2,  -999.0,9,-999.000,9,-999.000,9,   4.2871
06MT20050813,     603,       AR04,          1,          9,          9,2,20050912,       0000,     18.883,    -64.334,       1858,  1603.2,   3.9266,  34.9811,2,-999.0000,9, 260.7000,2,   258.2,2,-999.000,9,-999.000,9,   3.7977
06MT20050813,     603,       AR04,          1,          8,          8,2,20050912,       0000,     18.883,    -64.334,       1858,  1605.4,   3.9258,  34.9811,2,-999.0000,9, 260.7000,2,  -999.0,9,   1.228,2,   0.599,2,   3.7968
06MT20050813,     603,       AR04,          1,          7,          7,2,20050912,       0000,     18.883,    -64.334,       1858,  1605.8,   3.9249,  34.9808,2,-999.0000,9, 260.7000,2,  -999.0,9,-999.000,9,-999.000,9,   3.7958
06MT20050813,     603,       AR04,          1,          6,          6,2,20050912,       0000,     18.883,    -64.334,       1858,  1800.1,   3.7005,  34.9706,2,-999.0000,9, 262.8000,2,  -999.0,9,-999.000,9,-999.000,9,   3.5563
06MT20050813,     603,       AR04,          1,          5,          5,2,20050912,       0000,     18.883,    -64.334,       1858,  1801.3,   3.6977,  34.9702,2,-999.0000,9, 262.8000,2,  -999.0,9,-999.000,9,-999.000,9,   3.5534
06MT20050813,     603,       AR04,          1,          4,          4,2,20050912,       0000,     18.883,    -64.334,       1858,  1803.2,   3.6927,  34.9694,2,-999.0000,9, 262.8000,2,  -999.0,9,   1.082,2,   0.532,2,   3.5483
06MT20050813,     603,       AR04,          1,          3,          3,2,20050912,       0000,     18.883,    -64.334,       1858,  1858.3,   3.6817,  34.9691,2,-999.0000,9, 262.5000,2,  -999.0,9,-999.000,9,-999.000,9,   3.5323
06MT20050813,     603,       AR04,          1,          2,          2,2,20050912,       0000,     18.883,    -64.334,       1858,  1858.9,   3.6818,  34.9691,2,-999.0000,9, 262.5000,2,  -999.0,9,   1.073,2,   0.527,2,   3.5324
06MT20050813,     603,       AR04,          1,          1,          1,2,20050912,       0000,     18.883,    -64.334,       1858,  1859.3,   3.6818,  34.9692,2,  34.9722,2, 262.5000,2,   260.2,6,-999.000,9,-999.000,9,   3.5323
06MT20050813,     604,       AR04,          1,         20,         20,2,20050912,       0000,     18.973,    -64.334,       2926,    15.1,  30.0343,  35.9092,2,-999.0000,9, 193.9000,2,  -999.0,9,   1.448,2,   0.915,2,  30.0305
06MT20050813,     604,       AR04,          1,         22,         22,2,20050912,       0000,     18.973,    -64.334,       2926,    15.7,  30.0160,  35.9071,2,-999.0000,9, 193.9000,2,  -999.0,9,-999.000,9,-999.000,9,  30.0121
06MT20050813,     604,       AR04,          1,         21,         21,2,20050912,       0000,     18.973,    -64.334,       2926,    15.9,  30.0125,  35.9083,2,-999.0000,9, 193.9000,2,  -999.0,9,-999.000,9,-999.000,9,  30.0085
06MT20050813,     604,       AR04,          1,         19,         19,2,20050912,       0000,     18.973,    -64.334,       2926,   904.3,   6.6997,  34.9680,2,-999.0000,9, 148.9000,2,   161.8,3,-999.000,9,-999.000,9,   6.6127
06MT20050813,     604,       AR04,          1,         18,         18,2,20050912,       0000,     18.973,    -64.334,       2926,   995.7,   5.9920,  35.0013,2,-999.0000,9, 178.8000,2,  -999.0,9,   0.446,2,   0.235,2,   5.9008
06MT20050813,     604,       AR04,          1,         17,         17,2,20050912,       0000,     18.973,    -64.334,       2926,  1347.6,   4.5085,  35.0136,2,-999.0000,9, 245.6000,2,  -999.0,9,-999.000,9,-999.000,9,   4.3967
06MT20050813,     604,       AR04,          1,         16,         16,2,20050912,       0000,     18.973,    -64.334,       2926,  1398.3,   4.4118,  35.0084,2,-999.0000,9, 248.8000,2,  -999.0,9,   1.190,2,   0.589,2,   4.2963
06MT20050813,     604,       AR04,          1,         15,         15,2,20050912,       0000,     18.973,    -64.334,       2926,  1497.6,   4.2346,  34.9991,2,  34.9964,2, 253.9000,2,  -999.0,9,   1.226,2,   0.613,2,   4.1119
06MT20050813,     604,       AR04,          1,         14,         14,2,20050912,       0000,     18.973,    -64.334,       2926,  1597.9,   4.0636,  34.9884,2,-999.0000,9, 257.8000,2,  -999.0,9,   1.212,2,   0.603,2,   3.9336
06MT20050813,     604,       AR04,          1,         13,         13,2,20050912,       0000,     18.973,    -64.334,       2926,  1698.0,   3.8932,  34.9792,2,-999.0000,9, 260.8000,2,  -999.0,9,-999.000,9,-999.000,9,   3.7560
06MT20050813,     604,       AR04,          1,         12,         12,2,20050912,       0000,     18.973,    -64.334,       2926,  1815.8,   3.7560,  34.9720,2,-999.0000,9, 262.4000,2,  -999.0,9,-999.000,9,-999.000,9,   3.6096
06MT20050813,     604,       AR04,          1,         11,         11,2,20050912,       0000,     18.973,    -64.334,       2926,  1914.0,   3.6579,  34.9671,2,-999.0000,9, 263.2000,2,  -999.0,9,   1.010,2,   0.497,2,   3.5036
06MT20050813,     604,       AR04,          1,         10,         10,2,20050912,       0000,     18.973,    -64.334,       2926,  2112.5,   3.4983,  34.9656,2,-999.0000,9, 261.9000,2,  -999.0,9,-999.000,9,-999.000,9,   3.3275
06MT20050813,     604,       AR04,          1,          9,          9,2,20050912,       0000,     18.973,    -64.334,       2926,  2217.2,   3.4345,  34.9638,2,-999.0000,9, 261.5000,2,  -999.0,9,   0.695,2,   0.349,2,   3.2546
06MT20050813,     604,       AR04,          1,          8,          8,2,20050912,       0000,     18.973,    -64.334,       2926,  2501.5,   3.1964,  34.9547,2,-999.0000,9, 260.4000,2,   261.8,2,-999.000,9,-999.000,9,   2.9926
06MT20050813,     604,       AR04,          1,          7,          7,2,20050912,       0000,     18.973,    -64.334,       2926,  2502.6,   3.1951,  34.9547,2,-999.0000,9, 260.4000,2,  -999.0,9,-999.000,9,-999.000,9,   2.9912
06MT20050813,     604,       AR04,          1,          6,          6,2,20050912,       0000,     18.973,    -64.334,       2926,  2598.3,   3.1388,  34.9514,2,-999.0000,9, 260.4000,2,  -999.0,9,   0.512,2,   0.252,2,   2.9264
06MT20050813,     604,       AR04,          1,          5,          5,2,20050912,       0000,     18.973,    -64.334,       2926,  2797.9,   3.0147,  34.9444,2,-999.0000,9, 260.6000,2,  -999.0,9,-999.000,9,-999.000,9,   2.7845
06MT20050813,     604,       AR04,          1,          4,          4,2,20050912,       0000,     18.973,    -64.334,       2926,  2798.9,   3.0148,  34.9445,2,-999.0000,9, 260.6000,2,  -999.0,9,   0.498,2,   0.243,2,   2.7845
06MT20050813,     604,       AR04,          1,          1,          1,2,20050912,       0000,     18.973,    -64.334,       2926,  2942.1,   2.8028,  34.9319,2,  34.9307,2, 262.0000,2,   264.2,2,-999.000,9,-999.000,9,   2.5623
06MT20050813,     604,       AR04,          1,          3,          3,2,20050912,       0000,     18.973,    -64.334,       2926,  2941.7,   2.8017,  34.9322,2,-999.0000,9, 262.0000,2,  -999.0,9,-999.000,9,-999.000,9,   2.5612
06MT20050813,     604,       AR04,          1,          2,          2,2,20050912,       0000,     18.973,    -64.334,       2926,  2941.9,   2.8014,  34.9324,2,-999.0000,9, 262.0000,2,  -999.0,9,   0.540,2,   0.267,2,   2.5609