BOTTLE,20120828SIOCCHMYS
EXPOCODE,STNNBR,SECT_ID,CASTNO,SAMPNO,BTLNBR,BTLNBR_FLAG_W,DATE,TIME,LATITUDE,LONGITUDE,DEPTH,CTDPRS,CTDTMP,CTDSAL,CTDSAL_FLAG_W,SALNTY,SALNTY_FLAG_W,CTDOXY,CTDOXY_FLAG_W,OXYGEN,OXYGEN_FLAG_W,CFC-11,CFC-11_FLAG_W,CFC-12,CFC-12_FLAG_W,THETA
,,,,,,,,,,,,DBAR,ITS-90,PSS-78,,PSS-78,,UMOL/KG,,UMOL/KG,,PMOL/KG,,PMOL/KG,,DEG C
06MT20050813,     463,       AR04,          1,         15,         15,2,20050831,       0000,     12.416,    -60.534,       2437,    11.3,  29.8045,  34.1381,2,-999.0000,9, 198.6000,2,   198.2,2,-999.000,9,-999.000,9,  29.8017
06MT20050813,     463,       AR04,          1,         14,         14,2,20050831,       0000,     12.416,    -60.534,       2437,    13.4,  29.8113,  34.1414,2,-999.0000,9, 198.6000,2,  -999.0,9,   1.450,2,   0.911,2,  29.8080
06MT20050813,     463,       AR04,          1,         13,         13,2,20050831,       0000,     12.416,    -60.534,       2437,   191.4,  15.7840,  35.9618,2,-999.0000,9, 109.7000,2,   129.0,3,   2.014,2,   1.046,2,  15.7538
06MT20050813,     463,       AR04,          1,         12,         12,2,20050831,       0000,     12.416,    -60.534,       2437,   598.6,   6.6924,  34.6961,2,  34.7205,3, 123.5000,2,  -999.0,9,   0.380,2,   0.198,2,   6.6364
06MT20050813,     463,       AR04,          1,         11,         11,2,20050831,       0000,     12.416,    -60.534,       2437,  1148.5,   5.2033,  34.9432,2,-999.0000,9, 187.0000,2,  -999.0,9,   0.289,2,   0.144,2,   5.1038
06MT20050813,     463,       AR04,          1,         10,         10,2,20050831,       0000,     12.416,    -60.534,       2437,  1403.5,   4.6393,  35.0144,2,-999.0000,9, 235.0000,2,  -999.0,9,-999.000,9,-999.000,9,   4.5210
06MT20050813,     463,       AR04,          1,          9,          9,2,20050831,       0000,     12.416,    -60.534,       2437,  1404.3,   4.6350,  35.0142,2,-999.0000,9, 235.1000,2,  -999.0,9,   0.791,2,   0.391,2,   4.5166
06MT20050813,     463,       AR04,          1,          8,          8,2,20050831,       0000,     12.416,    -60.534,       2437,  1604.6,   4.0892,  34.9937,2,-999.0000,9, 253.0000,2,  -999.0,9,   0.873,2,   0.429,2,   3.9582
06MT20050813,     463,       AR04,          1,          7,          7,2,20050831,       0000,     12.416,    -60.534,       2437,  1800.2,   3.8692,  34.9827,2,-999.0000,9, 256.5000,2,  -999.0,9,   0.723,2,   0.368,2,   3.7227
06MT20050813,     463,       AR04,          1,          6,          6,2,20050831,       0000,     12.416,    -60.534,       2437,  1801.0,   3.8681,  34.9826,2,-999.0000,9, 256.5000,2,  -999.0,9,-999.000,9,-999.000,9,   3.7215
06MT20050813,     463,       AR04,          1,          5,          5,2,20050831,       0000,     12.416,    -60.534,       2437,  1997.7,   3.8221,  34.9843,2,-999.0000,9, 252.9000,2,  -999.0,9,-999.000,9,-999.000,9,   3.6574
06MT20050813,     463,       AR04,          1,          4,          4,2,20050831,       0000,     12.416,    -60.534,       2437,  2000.1,   3.8217,  34.9847,2,-999.0000,9, 252.9000,2,  -999.0,9,   0.487,2,   0.251,2,   3.6567
06MT20050813,     463,       AR04,          1,          3,          3,2,20050831,       0000,     12.416,    -60.534,       2437,  2199.3,   3.8210,  34.9848,2,-999.0000,9, 250.2000,2,  -999.0,9,   0.431,2,   0.224,2,   3.6365
06MT20050813,     463,       AR04,          1,          2,          2,2,20050831,       0000,     12.416,    -60.534,       2437,  2438.9,   3.8131,  34.9815,2,-999.0000,9, 249.3000,2,  -999.0,9,   0.504,2,   0.261,2,   3.6045
06MT20050813,     463,       AR04,          1,          1,          1,2,20050831,       0000,     12.416,    -60.534,       2437,  2439.2,   3.8131,  34.9813,2,  34.9826,2, 249.3000,2,   252.4,2,-999.000,9,-999.000,9,   3.6044
06MT20050813,     464,       AR04,          1,         12,         12,2,20050831,       0000,     12.267,     -60.51,       2383,    20.4,  29.8223,  34.4672,2,-999.0000,9, 200.4000,2,  -999.0,9,-999.000,9,-999.000,9,  29.8173
06MT20050813,     464,       AR04,          1,          2,          2,2,20050831,       0000,     12.267,     -60.51,       2383,  2380.8,   3.7933,  34.9805,2,-999.0000,9, 250.2000,2,  -999.0,9,-999.000,9,-999.000,9,   3.5910
06MT20050813,     464,       AR04,          1,         10,         10,2,20050831,       0000,     12.267,     -60.51,       2383,   800.3,   5.3001,  34.6333,2,-999.0000,9, 139.7000,2,   136.6,6,-999.000,9,-999.000,9,   5.2326
06MT20050813,     464,       AR04,          1,          9,          9,2,20050831,       0000,     12.267,     -60.51,       2383,  1612.3,   4.0784,  34.9928,2,-999.0000,9, 253.1000,2,   253.2,2,-999.000,9,-999.000,9,   3.9468
06MT20050813,     464,       AR04,          1,          8,          8,2,20050831,       0000,     12.267,     -60.51,       2383,  1998.0,   3.8185,  34.9839,2,-999.0000,9, 252.9000,2,   257.5,2,-999.000,9,-999.000,9,   3.6538
06MT20050813,     464,       AR04,          1,          6,          6,2,20050831,       0000,     12.267,     -60.51,       2383,  2381.2,   3.7935,  34.9803,2,-999.0000,9, 250.2000,2,  -999.0,9,-999.000,9,-999.000,9,   3.5911
06MT20050813,     464,       AR04,          1,          7,          7,2,20050831,       0000,     12.267,     -60.51,       2383,  2380.9,   3.7933,  34.9805,2,-999.0000,9, 250.2000,2,   245.2,3,-999.000,9,-999.000,9,   3.5909
06MT20050813,     464,       AR04,          1,          5,          5,2,20050831,       0000,     12.267,     -60.51,       2383,  2381.1,   3.7933,  34.9803,2,-999.0000,9, 250.2000,2,  -999.0,9,-999.000,9,-999.000,9,   3.5909
06MT20050813,     464,       AR04,          1,          4,          4,2,20050831,       0000,     12.267,     -60.51,       2383,  2381.4,   3.7932,  34.9804,2,-999.0000,9, 250.2000,2,  -999.0,9,-999.000,9,-999.000,9,   3.5908
06MT20050813,     464,       AR04,          1,          3,          3,2,20050831,       0000,     12.267,     -60.51,       2383,  2380.9,   3.7933,  34.9804,2,-999.0000,9, 250.2000,2,  -999.0,9,-999.000,9,-999.000,9,   3.5909
06MT20050813,     464,       AR04,          1,         11,         11,2,20050831,       0000,     12.267,     -60.51,       2383,   397.8,   9.4917,  34.9578,2,-999.0000,9, 121.7000,2,   120.2,2,-999.000,9,-999.000,9,   9.4466
06MT20050813,     464,       AR04,          1,          1,          1,2,20050831,       0000,     12.267,     -60.51,       2383,  2381.0,   3.7933,  34.9804,2,-999.0000,9, 250.2000,2,  -999.0,9,-999.000,9,-999.000,9,   3.5909
06MT20050813,     465,       AR04,          1,         14,         14,2,20050831,       0000,     12.109,    -60.493,       2402,    12.2,  29.8846,  34.1251,2,  34.2081,3, 199.9000,2,   197.8,2,-999.000,9,-999.000,9,  29.8816
06MT20050813,     465,       AR04,          1,         13,         13,2,20050831,       0000,     12.109,    -60.493,       2402,    12.2,  29.8842,  34.1247,2,-999.0000,9, 199.9000,2,  -999.0,9,   1.472,2,   0.926,2,  29.8812
06MT20050813,     465,       AR04,          1,         12,         12,2,20050831,       0000,     12.109,    -60.493,       2402,   509.1,   7.5021,  34.7344,2,-999.0000,9, 121.2000,2,   123.5,2,   0.661,2,   0.337,2,   7.4516
06MT20050813,     465,       AR04,          1,         11,         11,2,20050831,       0000,     12.109,    -60.493,       2402,   900.1,   5.2484,  34.7508,2,-999.0000,9, 148.8000,2,   151.7,2,   0.076,2,   0.035,2,   5.1720
06MT20050813,     465,       AR04,          1,         10,         10,2,20050831,       0000,     12.109,    -60.493,       2402,  1259.1,   5.0536,  34.9974,2,-999.0000,9, 208.7000,2,  -999.0,9,   0.467,2,   0.230,2,   4.9448
06MT20050813,     465,       AR04,          1,          9,          9,2,20050831,       0000,     12.109,    -60.493,       2402,  1501.2,   4.3018,  35.0033,2,  35.0027,2, 247.1000,2,   246.9,2,   0.908,2,   0.438,2,   4.1780
06MT20050813,     465,       AR04,          1,          8,          8,2,20050831,       0000,     12.109,    -60.493,       2402,  1699.8,   3.9450,  34.9875,2,-999.0000,9, 255.2000,2,   253.8,2,   0.771,2,   0.379,2,   3.8069
06MT20050813,     465,       AR04,          1,          7,          7,2,20050831,       0000,     12.109,    -60.493,       2402,  1701.2,   3.9422,  34.9870,2,-999.0000,9, 255.2000,2,  -999.0,9,-999.000,9,-999.000,9,   3.8040
06MT20050813,     465,       AR04,          1,          6,          6,2,20050831,       0000,     12.109,    -60.493,       2402,  1701.4,   3.9416,  34.9870,2,-999.0000,9, 255.2000,2,  -999.0,9,-999.000,9,-999.000,9,   3.8034
06MT20050813,     465,       AR04,          1,          5,          5,2,20050831,       0000,     12.109,    -60.493,       2402,  1897.1,   3.8428,  34.9836,2,-999.0000,9, 254.7000,2,  -999.0,9,-999.000,9,-999.000,9,   3.6874
06MT20050813,     465,       AR04,          1,          4,          4,2,20050831,       0000,     12.109,    -60.493,       2402,  1898.8,   3.8421,  34.9837,2,-999.0000,9, 254.7000,2,  -999.0,9,   0.592,2,   0.301,2,   3.6866
06MT20050813,     465,       AR04,          1,          3,          3,2,20050831,       0000,     12.109,    -60.493,       2402,  2097.5,   3.8234,  34.9847,2,-999.0000,9, 252.1000,2,  -999.0,9,   0.462,2,   0.236,2,   3.6489
06MT20050813,     465,       AR04,          1,          2,          2,2,20050831,       0000,     12.109,    -60.493,       2402,  2399.9,   3.8165,  34.9825,2,-999.0000,9, 249.1000,2,  -999.0,9,   0.482,2,   0.246,2,   3.6118
06MT20050813,     465,       AR04,          1,          1,          1,2,20050831,       0000,     12.109,    -60.493,       2402,  2399.3,   3.8165,  34.9822,2,  34.9822,2, 249.1000,2,   250.7,2,-999.000,9,-999.000,9,   3.6119
06MT20050813,     466,       AR04,          1,          8,          8,2,20050831,       0000,     11.958,    -60.477,       2029,     9.1,  29.9110,  34.3384,2,-999.0000,9, 199.4000,2,  -999.0,9,-999.000,9,-999.000,9,  29.9088
06MT20050813,     466,       AR04,          1,          7,          7,2,20050831,       0000,     11.958,    -60.477,       2029,   254.9,  13.4813,  35.5845,2,-999.0000,9, 126.4000,2,  -999.0,9,-999.000,9,-999.000,9,  13.4451
06MT20050813,     466,       AR04,          1,          6,          6,2,20050831,       0000,     11.958,    -60.477,       2029,   255.4,  13.4453,  35.5795,2,-999.0000,9, 126.4000,2,  -999.0,9,-999.000,9,-999.000,9,  13.4091
06MT20050813,     466,       AR04,          1,          4,          4,2,20050831,       0000,     11.958,    -60.477,       2029,   713.6,   5.5289,  34.6294,2,  34.6153,3, 134.1000,2,  -999.0,9,-999.000,9,-999.000,9,   5.4679
06MT20050813,     466,       AR04,          1,          5,          5,2,20050831,       0000,     11.958,    -60.477,       2029,   714.5,   5.5262,  34.6288,2,-999.0000,9, 134.2000,2,  -999.0,9,-999.000,9,-999.000,9,   5.4651
06MT20050813,     466,       AR04,          1,          3,          3,2,20050831,       0000,     11.958,    -60.477,       2029,  1212.0,   5.0519,  34.9960,2,-999.0000,9, 208.4000,2,  -999.0,9,-999.000,9,-999.000,9,   4.9476
06MT20050813,     466,       AR04,          1,          2,          2,2,20050831,       0000,     11.958,    -60.477,       2029,  1598.5,   4.0578,  34.9921,2,-999.0000,9, 253.3000,2,  -999.0,9,-999.000,9,-999.000,9,   3.9278
06MT20050813,     466,       AR04,          1,          1,          1,2,20050831,       0000,     11.958,    -60.477,       2029,  2027.5,   3.8164,  34.9832,2,  34.9834,2, 251.9000,2,  -999.0,9,-999.000,9,-999.000,9,   3.6489
06MT20050813,     467,       AR04,          1,         14,         14,2,20050831,       0000,     11.808,    -60.459,       1477,    11.6,  29.5309,  34.7240,2,  34.8550,3, 200.8000,2,   198.7,2,-999.000,9,-999.000,9,  29.5281
06MT20050813,     467,       AR04,          1,         13,         13,2,20050831,       0000,     11.808,    -60.459,       1477,    11.8,  29.5119,  34.7571,2,-999.0000,9, 200.8000,2,  -999.0,9,   1.487,2,   0.931,2,  29.5090
06MT20050813,     467,       AR04,          1,         12,         12,2,20050831,       0000,     11.808,    -60.459,       1477,   156.0,  17.3901,  36.2656,2,-999.0000,9, 135.8000,2,  -999.0,9,   2.023,2,   1.108,2,  17.3637
06MT20050813,     467,       AR04,          1,         11,         11,2,20050831,       0000,     11.808,    -60.459,       1477,   608.4,   6.8786,  34.7057,2,-999.0000,9, 122.9000,2,   122.7,6,   0.358,2,   0.187,2,   6.8207
06MT20050813,     467,       AR04,          1,         10,         10,2,20050831,       0000,     11.808,    -60.459,       1477,   608.8,   6.8705,  34.7046,2,-999.0000,9, 123.0000,2,  -999.0,9,-999.000,9,-999.000,9,   6.8126
06MT20050813,     467,       AR04,          1,          9,          9,2,20050831,       0000,     11.808,    -60.459,       1477,   798.5,   5.3727,  34.6201,2,-999.0000,9, 136.5000,2,   134.9,2,   0.108,2,   0.057,2,   5.3049
06MT20050813,     467,       AR04,          1,          8,          8,2,20050831,       0000,     11.808,    -60.459,       1477,  1096.7,   5.1937,  34.9306,2,-999.0000,9, 185.2000,2,  -999.0,9,   0.273,2,   0.140,2,   5.0992
06MT20050813,     467,       AR04,          1,          7,          7,2,20050831,       0000,     11.808,    -60.459,       1477,  1100.3,   5.1911,  34.9331,2,-999.0000,9, 185.8000,2,  -999.0,9,-999.000,9,-999.000,9,   5.0963
06MT20050813,     467,       AR04,          1,          6,          6,2,20050831,       0000,     11.808,    -60.459,       1477,  1101.9,   5.1884,  34.9356,2,-999.0000,9, 186.2000,2,  -999.0,9,-999.000,9,-999.000,9,   5.0934
06MT20050813,     467,       AR04,          1,          5,          5,2,20050831,       0000,     11.808,    -60.459,       1477,  1297.9,   4.6413,  35.0125,2,-999.0000,9, 232.9000,2,  -999.0,9,-999.000,9,-999.000,9,   4.5328
06MT20050813,     467,       AR04,          1,          4,          4,2,20050831,       0000,     11.808,    -60.459,       1477,  1299.8,   4.6354,  35.0118,2,  35.0106,2, 233.4000,2,   234.1,2,   0.788,2,   0.387,2,   4.5268
06MT20050813,     467,       AR04,          1,          3,          3,2,20050831,       0000,     11.808,    -60.459,       1477,  1465.0,   4.1718,  34.9969,2,-999.0000,9, 251.0000,2,  -999.0,9,   0.886,2,   0.434,2,   4.0528
06MT20050813,     467,       AR04,          1,          2,          2,2,20050831,       0000,     11.808,    -60.459,       1477,  1465.2,   4.1715,  34.9972,2,-999.0000,9, 251.0000,2,  -999.0,9,-999.000,9,-999.000,9,   4.0525
06MT20050813,     467,       AR04,          1,          1,          1,2,20050831,       0000,     11.808,    -60.459,       1477,  1465.0,   4.1718,  34.9969,2,  34.9986,2, 251.0000,2,   248.0,3,-999.000,9,-999.000,9,   4.0528
06MT20050813,     468,       AR04,          1,         14,         14,2,20050831,       0000,     11.658,    -60.433,       1214,     9.3,  30.0155,  34.4049,2,-999.0000,9, 197.7000,2,  -999.0,9,-999.000,9,-999.000,9,  30.0132
06MT20050813,     468,       AR04,          1,         13,         13,2,20050831,       0000,     11.658,    -60.433,       1214,     9.3,  30.0155,  34.4049,2,-999.0000,9, 197.7000,2,   204.3,3,   1.461,2,   0.923,2,  30.0132
06MT20050813,     468,       AR04,          1,         12,         12,2,20050831,       0000,     11.658,    -60.433,       1214,   250.9,  14.1783,  35.7364,2,-999.0000,9, 126.7000,2,   123.2,2,   1.886,2,   1.006,2,  14.1414
06MT20050813,     468,       AR04,          1,         11,         11,2,20050831,       0000,     11.658,    -60.433,       1214,   411.1,   9.4940,  35.0161,2,-999.0000,9, 118.4000,2,   122.1,2,   0.962,2,   0.507,2,   9.4473
06MT20050813,     468,       AR04,          1,         10,         10,2,20050831,       0000,     11.658,    -60.433,       1214,   413.4,   9.4336,  35.0070,2,-999.0000,9, 118.4000,2,  -999.0,9,-999.000,9,-999.000,9,   9.3868
06MT20050813,     468,       AR04,          1,          9,          9,2,20050831,       0000,     11.658,    -60.433,       1214,   419.7,   9.3772,  34.9958,2,-999.0000,9, 118.3000,2,  -999.0,9,-999.000,9,-999.000,9,   9.3298
06MT20050813,     468,       AR04,          1,          8,          8,2,20050831,       0000,     11.658,    -60.433,       1214,   702.0,   5.6668,  34.6330,2,  34.6444,3, 132.4000,2,   134.8,2,   0.133,2,   0.064,2,   5.6061
06MT20050813,     468,       AR04,          1,          7,          7,2,20050831,       0000,     11.658,    -60.433,       1214,   704.0,   5.6391,  34.6329,2,-999.0000,9, 132.7000,2,  -999.0,9,-999.000,9,-999.000,9,   5.5784
06MT20050813,     468,       AR04,          1,          6,          6,2,20050831,       0000,     11.658,    -60.433,       1214,   707.0,   5.6203,  34.6327,2,-999.0000,9, 133.3000,2,  -999.0,9,-999.000,9,-999.000,9,   5.5594
06MT20050813,     468,       AR04,          1,          5,          5,2,20050831,       0000,     11.658,    -60.433,       1214,   998.1,   5.1779,  34.8714,2,-999.0000,9, 170.5000,2,  -999.0,9,-999.000,9,-999.000,9,   5.0928
06MT20050813,     468,       AR04,          1,          4,          4,2,20050831,       0000,     11.658,    -60.433,       1214,  1000.2,   5.1785,  34.8723,2,-999.0000,9, 171.8000,2,  -999.0,9,   0.218,2,   0.107,2,   5.0932
06MT20050813,     468,       AR04,          1,          3,          3,2,20050831,       0000,     11.658,    -60.433,       1214,  1200.7,   4.8586,  35.0068,2,-999.0000,9, 220.0000,2,  -999.0,9,   0.606,2,   0.300,2,   4.7571
06MT20050813,     468,       AR04,          1,          2,          2,2,20050831,       0000,     11.658,    -60.433,       1214,  1198.5,   4.8620,  35.0060,2,-999.0000,9, 219.2000,2,  -999.0,9,-999.000,9,-999.000,9,   4.7607
06MT20050813,     468,       AR04,          1,          1,          1,2,20050831,       0000,     11.658,    -60.433,       1214,  1200.7,   4.8586,  35.0068,2,  35.0045,2, 220.0000,2,   218.6,2,-999.000,9,-999.000,9,   4.7571