BOTTLE,20120828SIOCCHMYS
EXPOCODE,STNNBR,SECT_ID,CASTNO,SAMPNO,BTLNBR,BTLNBR_FLAG_W,DATE,TIME,LATITUDE,LONGITUDE,DEPTH,CTDPRS,CTDTMP,CTDSAL,CTDSAL_FLAG_W,SALNTY,SALNTY_FLAG_W,CTDOXY,CTDOXY_FLAG_W,OXYGEN,OXYGEN_FLAG_W,CFC-11,CFC-11_FLAG_W,CFC-12,CFC-12_FLAG_W,THETA
,,,,,,,,,,,,DBAR,ITS-90,PSS-78,,PSS-78,,UMOL/KG,,UMOL/KG,,PMOL/KG,,PMOL/KG,,DEG C
06MT20050813,     409,       AR04,          1,         22,         22,2,20050824,       0000,     15.525,    -53.834,       5475,     3.3,  29.0448,  36.2829,2,-999.0000,9, 201.2000,2,   196.8,2,   1.446,2,   0.939,2,  29.0440
06MT20050813,     409,       AR04,          1,         21,         21,2,20050824,       0000,     15.525,    -53.834,       5475,     3.8,  29.0474,  36.2769,2,  36.2095,3, 201.2000,2,  -999.0,9,-999.000,9,-999.000,9,  29.0465
06MT20050813,     409,       AR04,          1,         20,         20,2,20050824,       0000,     15.525,    -53.834,       5475,   711.1,   6.8025,  34.7732,2,-999.0000,9, 114.2000,2,   113.6,2,-999.000,9,-999.000,9,   6.7347
06MT20050813,     409,       AR04,          1,         19,         19,2,20050824,       0000,     15.525,    -53.834,       5475,  1099.4,   5.3661,  34.8456,2,-999.0000,9, 155.6000,2,  -999.0,9,   0.054,2,   0.026,2,   5.2701
06MT20050813,     409,       AR04,          1,         18,         18,2,20050824,       0000,     15.525,    -53.834,       5475,  1512.6,   4.6236,  35.0066,2,-999.0000,9, 228.0000,2,   227.9,2,-999.000,9,-999.000,9,   4.4951
06MT20050813,     409,       AR04,          1,         17,         17,2,20050824,       0000,     15.525,    -53.834,       5475,  1601.4,   4.4091,  35.0085,2,-999.0000,9, 242.8000,2,  -999.0,9,   0.604,2,   0.298,2,   4.2746
06MT20050813,     409,       AR04,          1,         16,         16,2,20050824,       0000,     15.525,    -53.834,       5475,  1709.2,   4.1329,  34.9976,2,-999.0000,9, 252.4000,2,   250.5,6,-999.000,9,-999.000,9,   3.9915
06MT20050813,     409,       AR04,          1,         15,         15,2,20050824,       0000,     15.525,    -53.834,       5475,  1860.7,   3.8664,  34.9868,2,-999.0000,9, 256.6000,2,  -999.0,9,   0.538,2,   0.268,2,   3.7142
06MT20050813,     409,       AR04,          1,         14,         14,2,20050824,       0000,     15.525,    -53.834,       5475,  1904.9,   3.7984,  34.9848,2,  34.9822,2, 257.9000,2,  -999.0,9,-999.000,9,-999.000,9,   3.6429
06MT20050813,     409,       AR04,          1,         13,         13,2,20050824,       0000,     15.525,    -53.834,       5475,  2125.5,   3.4824,  34.9731,2,-999.0000,9, 259.5000,2,   255.8,3,   0.369,2,   0.185,2,   3.3105
06MT20050813,     409,       AR04,          1,         12,         12,2,20050824,       0000,     15.525,    -53.834,       5475,  2497.9,   3.0832,  34.9513,2,  34.9216,3, 260.0000,2,  -999.0,9,-999.000,9,-999.000,9,   2.8819
06MT20050813,     409,       AR04,          1,         11,         11,2,20050824,       0000,     15.525,    -53.834,       5475,  2806.3,   2.8688,  34.9383,2,-999.0000,9, 256.2000,2,  -999.0,9,   0.210,2,   0.105,2,   2.6408
06MT20050813,     409,       AR04,          1,         10,         10,2,20050824,       0000,     15.525,    -53.834,       5475,  3401.4,   2.6043,  34.9169,2,-999.0000,9, 252.6000,2,  -999.0,9,-999.000,9,-999.000,9,   2.3199
06MT20050813,     409,       AR04,          1,          9,          9,2,20050824,       0000,     15.525,    -53.834,       5475,  3401.7,   2.6042,  34.9172,2,  34.9210,2, 252.6000,2,  -999.0,9,   0.129,2,   0.065,2,   2.3198
06MT20050813,     409,       AR04,          1,          8,          8,2,20050824,       0000,     15.525,    -53.834,       5475,  3705.1,   2.4837,  34.9064,2,-999.0000,9, 254.3000,2,   258.8,2,-999.000,9,-999.000,9,   2.1691
06MT20050813,     409,       AR04,          1,          7,          7,2,20050824,       0000,     15.525,    -53.834,       5475,  4002.6,   2.3618,  34.8955,2,-999.0000,9, 254.8000,2,  -999.0,9,   0.167,2,   0.085,2,   2.0171
06MT20050813,     409,       AR04,          1,          6,          6,2,20050824,       0000,     15.525,    -53.834,       5475,  4198.4,   2.2916,  34.8868,2,-999.0000,9, 252.9000,2,   254.5,2,-999.000,9,-999.000,9,   1.9263
06MT20050813,     409,       AR04,          1,          5,          5,2,20050824,       0000,     15.525,    -53.834,       5475,  4398.9,   2.2180,  34.8778,2,  34.8632,3, 252.7000,2,  -999.0,9,   0.073,2,   0.045,2,   1.8315
06MT20050813,     409,       AR04,          1,          4,          4,2,20050824,       0000,     15.525,    -53.834,       5475,  4797.7,   2.0620,  34.8585,2,-999.0000,9, 250.9000,2,   251.2,2,   0.105,2,   0.058,2,   1.6325
06MT20050813,     409,       AR04,          1,          3,          3,2,20050824,       0000,     15.525,    -53.834,       5475,  5198.4,   1.8993,  34.8338,2,-999.0000,9, 245.8000,2,  -999.0,9,   0.090,2,   0.047,2,   1.4256
06MT20050813,     409,       AR04,          1,          2,          2,2,20050824,       0000,     15.525,    -53.834,       5475,  5580.7,   1.9218,  34.8300,2,-999.0000,9, 245.3000,2,  -999.0,9,   0.084,2,   0.045,2,   1.3981
06MT20050813,     409,       AR04,          1,          1,          1,2,20050824,       0000,     15.525,    -53.834,       5475,  5581.1,   1.9217,  34.8299,2,  34.8264,2, 245.3000,2,   243.6,2,-999.000,9,-999.000,9,   1.3980
06MT20050813,     410,       AR04,          1,         22,         22,2,20050824,       0000,     15.566,    -54.183,       5452,    31.0,  29.4111,  34.7002,2,-999.0000,9, 201.3000,2,   201.2,2,   1.470,6,   0.945,6,  29.4035
06MT20050813,     410,       AR04,          1,         21,         21,2,20050824,       0000,     15.566,    -54.183,       5452,   185.0,  18.7623,  36.6300,2,  36.4096,3, 160.4000,2,   152.4,3,   2.065,2,   1.199,2,  18.7293
06MT20050813,     410,       AR04,          1,         20,         20,2,20050824,       0000,     15.566,    -54.183,       5452,   791.8,   6.1686,  34.7284,2,-999.0000,9, 120.5000,2,   120.7,2,   0.076,2,   0.046,2,   6.0965
06MT20050813,     410,       AR04,          1,         19,         19,2,20050824,       0000,     15.566,    -54.183,       5452,  1246.9,   5.1851,  34.9448,2,-999.0000,9, 181.5000,2,  -999.0,9,   0.106,2,   0.054,2,   5.0764
06MT20050813,     410,       AR04,          1,         18,         18,2,20050824,       0000,     15.566,    -54.183,       5452,  1501.1,   4.5680,  35.0043,2,-999.0000,9, 227.8000,2,  -999.0,9,   0.333,2,   0.169,2,   4.4412
06MT20050813,     410,       AR04,          1,         17,         17,2,20050824,       0000,     15.566,    -54.183,       5452,  1722.1,   4.0879,  34.9952,2,  34.9964,2, 252.7000,2,  -999.0,9,   0.591,2,   0.301,2,   3.9459
06MT20050813,     410,       AR04,          1,         16,         16,2,20050824,       0000,     15.566,    -54.183,       5452,  1818.9,   3.8868,  34.9879,2,-999.0000,9, 256.1000,2,   256.8,2,   0.499,2,   0.252,2,   3.7383
06MT20050813,     410,       AR04,          1,         15,         15,2,20050824,       0000,     15.566,    -54.183,       5452,  1916.5,   3.7133,  34.9831,2,-999.0000,9, 256.8000,2,  -999.0,9,   0.424,2,   0.220,2,   3.5579
06MT20050813,     410,       AR04,          1,         14,         14,2,20050824,       0000,     15.566,    -54.183,       5452,  2082.5,   3.5033,  34.9750,2,-999.0000,9, 257.8000,2,  -999.0,9,   0.294,2,   0.148,2,   3.3352
06MT20050813,     410,       AR04,          1,         13,         13,2,20050824,       0000,     15.566,    -54.183,       5452,  2221.6,   3.3242,  34.9662,2,-999.0000,9, 256.1000,2,   252.6,2,   0.177,2,   0.095,2,   3.1456
06MT20050813,     410,       AR04,          1,         12,         12,2,20050824,       0000,     15.566,    -54.183,       5452,  2515.8,   3.0671,  34.9511,2,-999.0000,9, 256.7000,2,  -999.0,9,   0.116,2,   0.063,2,   2.8643
06MT20050813,     410,       AR04,          1,         10,         10,2,20050824,       0000,     15.566,    -54.183,       5452,  2917.3,   2.8123,  34.9334,2,-999.0000,9, 255.1000,2,  -999.0,9,-999.000,9,-999.000,9,   2.5741
06MT20050813,     410,       AR04,          1,         11,         11,2,20050824,       0000,     15.566,    -54.183,       5452,  2922.2,   2.8126,  34.9337,2,  34.9246,3, 255.1000,2,  -999.0,9,   0.086,2,   0.048,2,   2.5739
06MT20050813,     410,       AR04,          1,          9,          9,2,20050824,       0000,     15.566,    -54.183,       5452,  3343.3,   2.6451,  34.9195,2,-999.0000,9, 255.3000,2,   253.8,2,   0.082,2,   0.044,2,   2.3660
06MT20050813,     410,       AR04,          1,          8,          8,2,20050824,       0000,     15.566,    -54.183,       5452,  3625.4,   2.5456,  34.9119,2,-999.0000,9, 258.3000,2,  -999.0,9,   0.187,2,   0.096,2,   2.2382
06MT20050813,     410,       AR04,          1,          7,          7,2,20050824,       0000,     15.566,    -54.183,       5452,  3956.4,   2.4339,  34.9035,2,  34.9116,3, 263.0000,2,   255.3,3,   0.215,2,   0.114,2,   2.0924
06MT20050813,     410,       AR04,          1,          6,          6,2,20050824,       0000,     15.566,    -54.183,       5452,  4265.6,   2.3528,  34.8973,2,-999.0000,9, 265.2000,2,  -999.0,9,   0.278,2,   0.142,2,   1.9778
06MT20050813,     410,       AR04,          1,          5,          5,2,20050824,       0000,     15.566,    -54.183,       5452,  4571.9,   2.2308,  34.8781,2,-999.0000,9, 258.5000,2,  -999.0,9,-999.000,9,-999.000,9,   1.8232
06MT20050813,     410,       AR04,          1,          4,          4,2,20050824,       0000,     15.566,    -54.183,       5452,  4984.9,   2.0141,  34.8503,2,  34.8477,2, 253.6000,2,  -999.0,9,   0.098,2,   0.051,2,   1.5631
06MT20050813,     410,       AR04,          1,          3,          3,2,20050824,       0000,     15.566,    -54.183,       5452,  5397.1,   1.9099,  34.8319,2,-999.0000,9, 248.1000,2,   230.1,4,   0.091,2,   0.049,2,   1.4105
06MT20050813,     410,       AR04,          1,          2,          2,2,20050824,       0000,     15.566,    -54.183,       5452,  5564.9,   1.9201,  34.8299,2,-999.0000,9, 247.0000,2,  -999.0,9,   0.088,2,   0.046,2,   1.3985
06MT20050813,     410,       AR04,          1,          1,          1,2,20050824,       0000,     15.566,    -54.183,       5452,  5565.5,   1.9203,  34.8302,2,  34.8243,2, 247.0000,2,   243.5,2,-999.000,9,-999.000,9,   1.3987
06MT20050813,     412,       AR04,          1,         22,         22,2,20050824,       0000,     15.608,    -54.531,       5496,    29.4,  29.5062,  34.7369,2,  34.6855,3, 198.8000,2,   194.9,2,   1.432,2,   0.916,2,  29.4990
06MT20050813,     412,       AR04,          1,         21,         21,2,20050824,       0000,     15.608,    -54.531,       5496,   587.4,   7.9042,  34.9184,2,-999.0000,9, 124.0000,2,   124.0,2,-999.000,9,-999.000,9,   7.8437
06MT20050813,     412,       AR04,          1,         20,         20,2,20050824,       0000,     15.608,    -54.531,       5496,   997.5,   5.4128,  34.7949,2,-999.0000,9, 151.4000,2,  -999.0,9,   0.034,2,   0.019,2,   5.3261
06MT20050813,     412,       AR04,          1,         19,         19,2,20050824,       0000,     15.608,    -54.531,       5496,  1349.1,   4.9040,  35.0054,2,  35.0070,2, 216.3000,2,  -999.0,9,   0.443,2,   0.227,2,   4.7881
06MT20050813,     412,       AR04,          1,         18,         18,2,20050824,       0000,     15.608,    -54.531,       5496,  1600.0,   4.2795,  35.0034,2,-999.0000,9, 245.2000,2,   245.9,2,   0.612,2,   0.307,2,   4.1467
06MT20050813,     412,       AR04,          1,         17,         17,2,20050824,       0000,     15.608,    -54.531,       5496,  1757.3,   3.9613,  34.9901,2,-999.0000,9, 256.0000,2,  -999.0,9,   0.626,2,   0.308,2,   3.8176
06MT20050813,     412,       AR04,          1,         16,         16,2,20050824,       0000,     15.608,    -54.531,       5496,  1950.7,   3.6410,  34.9816,2,-999.0000,9, 256.5000,2,  -999.0,9,   0.324,2,   0.165,2,   3.4834
06MT20050813,     412,       AR04,          1,         15,         15,2,20050824,       0000,     15.608,    -54.531,       5496,  2157.7,   3.3799,  34.9701,2,-999.0000,9, 258.1000,2,   258.0,2,   0.266,2,   0.136,2,   3.2066
06MT20050813,     412,       AR04,          1,         14,         14,2,20050824,       0000,     15.608,    -54.531,       5496,  2390.6,   3.1121,  34.9540,2,  34.9569,2, 259.8000,2,  -999.0,9,   0.279,2,   0.138,2,   2.9208
06MT20050813,     412,       AR04,          1,         13,         13,2,20050824,       0000,     15.608,    -54.531,       5496,  2698.4,   2.9073,  34.9410,2,-999.0000,9, 256.1000,2,  -999.0,9,   0.168,2,   0.084,2,   2.6894
06MT20050813,     412,       AR04,          1,         12,         12,2,20050824,       0000,     15.608,    -54.531,       5496,  3200.1,   2.6736,  34.9233,2,-999.0000,9, 256.3000,2,  -999.0,9,   0.132,2,   0.067,2,   2.4090
06MT20050813,     412,       AR04,          1,         11,         11,2,20050824,       0000,     15.608,    -54.531,       5496,  3498.7,   2.5562,  34.9138,2,-999.0000,9, 258.3000,2,   274.6,4,-999.000,9,-999.000,9,   2.2625
06MT20050813,     412,       AR04,          1,         10,         10,2,20050824,       0000,     15.608,    -54.531,       5496,  3698.8,   2.4847,  34.9076,2,-999.0000,9, 259.3000,2,  -999.0,9,-999.000,9,-999.000,9,   2.1708
06MT20050813,     412,       AR04,          1,          9,          9,2,20050824,       0000,     15.608,    -54.531,       5496,  3700.9,   2.4845,  34.9080,2,  34.9104,2, 259.3000,2,  -999.0,9,   0.172,2,   0.089,2,   2.1704
06MT20050813,     412,       AR04,          1,          8,          8,2,20050824,       0000,     15.608,    -54.531,       5496,  3898.1,   2.4186,  34.9023,2,-999.0000,9, 261.3000,2,   259.2,2,-999.000,9,-999.000,9,   2.0841
06MT20050813,     412,       AR04,          1,          7,          7,2,20050824,       0000,     15.608,    -54.531,       5496,  4001.9,   2.3817,  34.8999,2,-999.0000,9, 262.1000,2,  -999.0,9,   0.203,2,   0.101,2,   2.0365
06MT20050813,     412,       AR04,          1,          6,          6,2,20050824,       0000,     15.608,    -54.531,       5496,  4299.4,   2.3076,  34.8919,2,-999.0000,9, 262.3000,2,   259.3,6,   0.187,2,   0.099,2,   1.9300
06MT20050813,     412,       AR04,          1,          5,          5,2,20050824,       0000,     15.608,    -54.531,       5496,  4698.3,   2.2005,  34.8767,2,-999.0000,9, 259.8000,2,  -999.0,9,   0.156,2,   0.082,2,   1.7785
06MT20050813,     412,       AR04,          1,          4,          4,2,20050824,       0000,     15.608,    -54.531,       5496,  5005.8,   2.0603,  34.8563,2,  35.0106,3, 254.2000,2,   222.8,4,-999.000,9,-999.000,9,   1.6051
06MT20050813,     412,       AR04,          1,          3,          3,2,20050824,       0000,     15.608,    -54.531,       5496,  5200.6,   1.9409,  34.8393,2,-999.0000,9, 250.0000,2,  -999.0,9,   0.087,2,   0.048,2,   1.4654
06MT20050813,     412,       AR04,          1,          2,          2,2,20050824,       0000,     15.608,    -54.531,       5496,  5602.8,   1.8841,  34.8250,2,-999.0000,9, 244.9000,2,  -999.0,9,   0.084,2,   0.045,2,   1.3589
06MT20050813,     412,       AR04,          1,          1,          1,2,20050824,       0000,     15.608,    -54.531,       5496,  5602.6,   1.8841,  34.8252,2,  34.8259,2, 244.9000,2,   243.0,2,-999.000,9,-999.000,9,   1.3590