BOTTLE,20120828SIOCCHMYS
EXPOCODE,STNNBR,SECT_ID,CASTNO,SAMPNO,BTLNBR,BTLNBR_FLAG_W,DATE,TIME,LATITUDE,LONGITUDE,DEPTH,CTDPRS,CTDTMP,CTDSAL,CTDSAL_FLAG_W,SALNTY,SALNTY_FLAG_W,CTDOXY,CTDOXY_FLAG_W,OXYGEN,OXYGEN_FLAG_W,CFC-11,CFC-11_FLAG_W,CFC-12,CFC-12_FLAG_W,THETA
,,,,,,,,,,,,DBAR,ITS-90,PSS-78,,PSS-78,,UMOL/KG,,UMOL/KG,,PMOL/KG,,PMOL/KG,,DEG C
06MT20050813,     608,       AR04,          1,         22,         22,2,20050913,       0000,     19.399,      -64.3,       5390,    11.6,  30.0263,  36.0528,2,-999.0000,9, 192.4000,2,   196.3,2,   1.440,2,   0.917,2,  30.0234
06MT20050813,     608,       AR04,          1,         21,         21,2,20050913,       0000,     19.399,      -64.3,       5390,   606.2,  11.2803,  35.4522,2,  35.4414,3, 132.4000,2,   137.6,3,-999.000,9,-999.000,9,  11.2026
06MT20050813,     608,       AR04,          1,         20,         20,2,20050913,       0000,     19.399,      -64.3,       5390,  1003.8,   6.1402,  34.9892,2,-999.0000,9, 167.8000,2,  -999.0,9,-999.000,9,-999.000,9,   6.0471
06MT20050813,     608,       AR04,          1,         19,         19,2,20050913,       0000,     19.399,      -64.3,       5390,  1377.3,   4.5541,  35.0233,2,-999.0000,9, 247.7000,2,  -999.0,9,-999.000,9,-999.000,9,   4.4391
06MT20050813,     608,       AR04,          1,         18,         18,2,20050913,       0000,     19.399,      -64.3,       5390,  1473.9,   4.2657,  35.0027,2,-999.0000,9, 255.1000,2,  -999.0,9,-999.000,9,-999.000,9,   4.1448
06MT20050813,     608,       AR04,          1,         17,         17,2,20050913,       0000,     19.399,      -64.3,       5390,  1560.9,   4.0570,  34.9890,2,-999.0000,9, 259.2000,2,  -999.0,9,   1.299,2,   0.648,2,   3.9305
06MT20050813,     608,       AR04,          1,         16,         16,2,20050913,       0000,     19.399,      -64.3,       5390,  1643.3,   3.9028,  34.9768,2,-999.0000,9, 261.8000,2,  -999.0,9,   1.262,2,   0.644,2,   3.7705
06MT20050813,     608,       AR04,          1,         15,         15,2,20050913,       0000,     19.399,      -64.3,       5390,  1750.7,   3.7585,  34.9695,2,-999.0000,9, 263.1000,2,   260.1,2,   1.230,2,   0.600,2,   3.6181
06MT20050813,     608,       AR04,          1,         14,         14,2,20050913,       0000,     19.399,      -64.3,       5390,  1897.0,   3.5782,  34.9659,2,  34.9643,2, 263.1000,2,  -999.0,9,   0.971,2,   0.486,2,   3.4267
06MT20050813,     608,       AR04,          1,         13,         13,2,20050913,       0000,     19.399,      -64.3,       5390,  2136.8,   3.3659,  34.9634,2,-999.0000,9, 261.1000,2,  -999.0,9,-999.000,9,-999.000,9,   3.1948
06MT20050813,     608,       AR04,          1,         12,         12,2,20050913,       0000,     19.399,      -64.3,       5390,  2298.8,   3.2162,  34.9572,2,-999.0000,9, 260.6000,2,  -999.0,9,-999.000,9,-999.000,9,   3.0320
06MT20050813,     608,       AR04,          1,         11,         11,2,20050913,       0000,     19.399,      -64.3,       5390,  2487.1,   3.0682,  34.9511,2,-999.0000,9, 259.5000,2,   254.0,3,-999.000,9,-999.000,9,   2.8682
06MT20050813,     608,       AR04,          1,         10,         10,2,20050913,       0000,     19.399,      -64.3,       5390,  2785.5,   2.7849,  34.9321,2,-999.0000,9, 261.9000,2,  -999.0,9,-999.000,9,-999.000,9,   2.5607
06MT20050813,     608,       AR04,          1,          9,          9,2,20050913,       0000,     19.399,      -64.3,       5390,  3198.1,   2.5033,  34.9141,2,-999.0000,9, 263.9000,2,   263.6,2,   0.578,2,   0.291,2,   2.2429
06MT20050813,     608,       AR04,          1,          8,          8,2,20050913,       0000,     19.399,      -64.3,       5390,  3505.6,   2.3710,  34.9040,2,  34.9083,3, 265.1000,2,  -999.0,9,   0.632,2,   0.315,2,   2.0812
06MT20050813,     608,       AR04,          1,          7,          7,2,20050913,       0000,     19.399,      -64.3,       5390,  3798.9,   2.3121,  34.8979,2,-999.0000,9, 264.4000,2,   259.2,3,   0.710,2,   0.370,2,   1.9917
06MT20050813,     608,       AR04,          1,          6,          6,2,20050913,       0000,     19.399,      -64.3,       5390,  3998.5,   2.3045,  34.8963,2,-999.0000,9, 263.6000,2,  -999.0,9,-999.000,9,-999.000,9,   1.9618
06MT20050813,     608,       AR04,          1,          5,          5,2,20050913,       0000,     19.399,      -64.3,       5390,  4197.3,   2.3045,  34.8945,2,-999.0000,9, 263.1000,2,  -999.0,9,-999.000,9,-999.000,9,   1.9389
06MT20050813,     608,       AR04,          1,          4,          4,2,20050913,       0000,     19.399,      -64.3,       5390,  4502.2,   2.2901,  34.8908,2,  34.8884,2, 261.5000,2,   245.1,4,-999.000,9,-999.000,9,   1.8890
06MT20050813,     608,       AR04,          1,          3,          3,2,20050913,       0000,     19.399,      -64.3,       5390,  4999.5,   2.2148,  34.8756,2,-999.0000,9, 255.6000,2,  -999.0,9,-999.000,9,-999.000,9,   1.7551
06MT20050813,     608,       AR04,          1,          2,          2,2,20050913,       0000,     19.399,      -64.3,       5390,  5577.9,   2.0019,  34.8399,2,-999.0000,9, 244.1000,2,  -999.0,9,-999.000,9,-999.000,9,   1.4756
06MT20050813,     608,       AR04,          1,          1,          1,2,20050913,       0000,     19.399,      -64.3,       5390,  5578.3,   2.0019,  34.8401,2,  34.8388,2, 244.1000,2,   245.6,2,-999.000,9,-999.000,9,   1.4755
06MT20050813,     609,       AR04,          1,         22,         22,2,20050913,       0000,     19.691,    -64.284,       6938,     8.1,  30.1868,  35.8228,2,-999.0000,9, 192.2000,2,   191.9,2,-999.000,9,-999.000,9,  30.1848
06MT20050813,     609,       AR04,          1,         21,         21,2,20050913,       0000,     19.691,    -64.284,       6938,   815.2,   7.7180,  35.0014,2,-999.0000,9, 128.3000,2,   134.0,3,   0.301,2,   0.169,2,   7.6339
06MT20050813,     609,       AR04,          1,         20,         20,2,20050913,       0000,     19.691,    -64.284,       6938,  1200.5,   5.4302,  35.0225,2,-999.0000,9, 205.9000,2,  -999.0,9,   0.773,2,   0.404,2,   5.3236
06MT20050813,     609,       AR04,          1,         19,         19,2,20050913,       0000,     19.691,    -64.284,       6938,  1448.6,   3.9346,  34.9824,2,  34.9791,2, 260.8000,2,  -999.0,9,   1.146,2,   0.593,2,   3.8197
06MT20050813,     609,       AR04,          1,         18,         18,2,20050913,       0000,     19.691,    -64.284,       6938,  1498.9,   3.8641,  34.9782,2,-999.0000,9, 261.6000,2,  -999.0,9,-999.000,9,-999.000,9,   3.7455
06MT20050813,     609,       AR04,          1,         17,         17,2,20050913,       0000,     19.691,    -64.284,       6938,  1608.9,   3.7612,  34.9734,2,-999.0000,9, 262.8000,2,  -999.0,9,   1.074,2,   0.553,2,   3.6338
06MT20050813,     609,       AR04,          1,         16,         16,2,20050913,       0000,     19.691,    -64.284,       6938,  1698.1,   3.6914,  34.9722,2,-999.0000,9, 262.2000,2,  -999.0,9,-999.000,9,-999.000,9,   3.5568
06MT20050813,     609,       AR04,          1,         15,         15,2,20050913,       0000,     19.691,    -64.284,       6938,  1798.5,   3.6199,  34.9733,2,-999.0000,9, 260.9000,2,  -999.0,9,   0.759,2,   0.386,2,   3.4769
06MT20050813,     609,       AR04,          1,         14,         14,2,20050913,       0000,     19.691,    -64.284,       6938,  1949.6,   3.4712,  34.9675,2,-999.0000,9, 260.7000,2,  -999.0,9,   0.652,2,   0.325,2,   3.3162
06MT20050813,     609,       AR04,          1,         13,         13,2,20050913,       0000,     19.691,    -64.284,       6938,  2138.1,   3.3320,  34.9673,2,-999.0000,9, 258.4000,2,  -999.0,9,   0.449,2,   0.232,2,   3.1613
06MT20050813,     609,       AR04,          1,         12,         12,2,20050913,       0000,     19.691,    -64.284,       6938,  2490.6,   2.9781,  34.9461,2,  34.9482,2, 260.0000,2,  -999.0,9,   0.387,2,   0.197,2,   2.7794
06MT20050813,     609,       AR04,          1,         11,         11,2,20050913,       0000,     19.691,    -64.284,       6938,  2898.3,   2.6498,  34.9242,2,-999.0000,9, 262.7000,2,  -999.0,9,   0.531,2,   0.270,2,   2.4170
06MT20050813,     609,       AR04,          1,         10,         10,2,20050913,       0000,     19.691,    -64.284,       6938,  3105.7,   2.5243,  34.9164,2,-999.0000,9, 264.0000,2,  -999.0,9,-999.000,9,-999.000,9,   2.2730
06MT20050813,     609,       AR04,          1,          9,          9,2,20050913,       0000,     19.691,    -64.284,       6938,  3305.6,   2.4135,  34.9087,2,-999.0000,9, 264.7000,2,   258.1,3,   0.625,2,   0.318,2,   2.1439
06MT20050813,     609,       AR04,          1,          8,          8,2,20050913,       0000,     19.691,    -64.284,       6938,  3599.1,   2.3296,  34.9013,2,  34.9035,2, 263.9000,2,  -999.0,9,   0.611,2,   0.307,2,   2.0307
06MT20050813,     609,       AR04,          1,          7,          7,2,20050913,       0000,     19.691,    -64.284,       6938,  3899.0,   2.2900,  34.8965,2,-999.0000,9, 263.3000,2,   261.6,2,   0.570,2,   0.294,2,   1.9590
06MT20050813,     609,       AR04,          1,          6,          6,2,20050913,       0000,     19.691,    -64.284,       6938,  4199.2,   2.2766,  34.8929,2,-999.0000,9, 261.9000,2,  -999.0,9,   0.448,2,   0.236,2,   1.9116
06MT20050813,     609,       AR04,          1,          5,          5,2,20050913,       0000,     19.691,    -64.284,       6938,  4599.6,   2.2577,  34.8865,2,-999.0000,9, 259.4000,2,  -999.0,9,   0.536,2,   0.290,2,   1.8458
06MT20050813,     609,       AR04,          1,          4,          4,2,20050913,       0000,     19.691,    -64.284,       6938,  4998.9,   2.1986,  34.8738,2,  34.8731,2, 254.9000,2,   254.0,2,   0.241,2,   0.136,2,   1.7395
06MT20050813,     609,       AR04,          1,          3,          3,2,20050913,       0000,     19.691,    -64.284,       6938,  5399.7,   2.0155,  34.8455,2,-999.0000,9, 246.0000,2,  -999.0,9,   0.101,2,   0.062,2,   1.5118
06MT20050813,     609,       AR04,          1,          2,          2,2,20050913,       0000,     19.691,    -64.284,       6938,  5811.1,   1.9804,  34.8342,2,-999.0000,9, 241.1000,2,  -999.0,9,   0.069,2,   0.043,2,   1.4240
06MT20050813,     609,       AR04,          1,          1,          1,2,20050913,       0000,     19.691,    -64.284,       6938,  5811.1,   1.9803,  34.8344,2,  34.8341,2, 241.1000,2,   243.6,2,-999.000,9,-999.000,9,   1.4239
06MT20050813,     610,       AR04,          1,         22,         22,2,20050914,       0000,     20.065,    -64.259,       5998,    24.9,  30.0683,  35.7091,2,-999.0000,9, 197.6000,2,   199.4,3,   1.437,2,   0.913,2,  30.0621
06MT20050813,     610,       AR04,          1,         21,         21,2,20050914,       0000,     20.065,    -64.259,       5998,   609.3,  11.0912,  35.4422,2,  35.3703,3, 139.3000,2,   137.4,2,   1.020,2,   0.551,2,  11.0139
06MT20050813,     610,       AR04,          1,         20,         20,2,20050914,       0000,     20.065,    -64.259,       5998,   992.3,   6.0907,  34.9589,2,-999.0000,9, 162.5000,2,  -999.0,9,   0.317,2,   0.170,2,   5.9992
06MT20050813,     610,       AR04,          1,         19,         19,2,20050914,       0000,     20.065,    -64.259,       5998,  1314.8,   4.7842,  35.0341,2,-999.0000,9, 238.0000,2,  -999.0,9,   0.993,2,   0.523,2,   4.6727
06MT20050813,     610,       AR04,          1,         18,         18,2,20050914,       0000,     20.065,    -64.259,       5998,  1520.6,   4.1737,  34.9975,2,-999.0000,9, 255.5000,2,  -999.0,9,   1.170,2,   0.579,2,   4.0495
06MT20050813,     610,       AR04,          1,         17,         17,2,20050914,       0000,     20.065,    -64.259,       5998,  1526.1,   4.1646,  34.9973,2,-999.0000,9, 255.9000,2,  -999.0,9,-999.000,9,-999.000,9,   4.0400
06MT20050813,     610,       AR04,          1,         16,         16,2,20050914,       0000,     20.065,    -64.259,       5998,  1608.1,   3.9939,  34.9875,2,-999.0000,9, 259.1000,2,   257.7,2,-999.000,9,-999.000,9,   3.8638
06MT20050813,     610,       AR04,          1,         15,         15,2,20050914,       0000,     20.065,    -64.259,       5998,  1698.3,   3.8768,  34.9815,2,-999.0000,9, 259.9000,2,  -999.0,9,   1.071,2,   0.526,2,   3.7398
06MT20050813,     610,       AR04,          1,         14,         14,2,20050914,       0000,     20.065,    -64.259,       5998,  1847.8,   3.7080,  34.9756,2,-999.0000,9, 261.5000,2,  -999.0,9,   0.847,2,   0.430,2,   3.5592
06MT20050813,     610,       AR04,          1,         13,         13,2,20050914,       0000,     20.065,    -64.259,       5998,  1947.6,   3.5819,  34.9736,2,-999.0000,9, 259.9000,2,  -999.0,9,-999.000,9,-999.000,9,   3.4255
06MT20050813,     610,       AR04,          1,         12,         12,2,20050914,       0000,     20.065,    -64.259,       5998,  2094.9,   3.4355,  34.9727,2,-999.0000,9, 258.5000,2,  -999.0,9,   0.439,2,   0.224,2,   3.2673
06MT20050813,     610,       AR04,          1,         11,         11,2,20050914,       0000,     20.065,    -64.259,       5998,  2395.9,   3.1231,  34.9562,2,-999.0000,9, 258.3000,2,   259.6,2,   0.339,2,   0.179,2,   2.9311
06MT20050813,     610,       AR04,          1,         10,         10,2,20050914,       0000,     20.065,    -64.259,       5998,  2789.7,   2.7414,  34.9308,2,  34.9325,2, 261.0000,2,  -999.0,9,   0.398,2,   0.204,2,   2.5177
06MT20050813,     610,       AR04,          1,          9,          9,2,20050914,       0000,     20.065,    -64.259,       5998,  3197.9,   2.4870,  34.9141,2,-999.0000,9, 263.5000,2,  -999.0,9,   0.500,2,   0.254,2,   2.2270
06MT20050813,     610,       AR04,          1,          8,          8,2,20050914,       0000,     20.065,    -64.259,       5998,  3500.1,   2.3578,  34.9044,2,-999.0000,9, 264.1000,2,  -999.0,9,   0.556,2,   0.282,2,   2.0689
06MT20050813,     610,       AR04,          1,          7,          7,2,20050914,       0000,     20.065,    -64.259,       5998,  3798.4,   2.2984,  34.8981,2,-999.0000,9, 263.6000,2,   254.0,3,   0.558,2,   0.297,2,   1.9784
06MT20050813,     610,       AR04,          1,          6,          6,2,20050914,       0000,     20.065,    -64.259,       5998,  4097.3,   2.2727,  34.8930,2,-999.0000,9, 262.3000,2,  -999.0,9,   0.495,2,   0.269,2,   1.9196
06MT20050813,     610,       AR04,          1,          5,          5,2,20050914,       0000,     20.065,    -64.259,       5998,  4397.3,   2.2585,  34.8889,2,  34.9344,3, 260.6000,2,  -999.0,9,   0.459,2,   0.250,2,   1.8708
06MT20050813,     610,       AR04,          1,          4,          4,2,20050914,       0000,     20.065,    -64.259,       5998,  4797.9,   2.2088,  34.8783,2,-999.0000,9, 256.5000,2,   256.6,2,   0.267,2,   0.149,2,   1.7743
06MT20050813,     610,       AR04,          1,          3,          3,2,20050914,       0000,     20.065,    -64.259,       5998,  5198.4,   2.0215,  34.8494,2,-999.0000,9, 247.5000,2,  -999.0,9,   0.112,2,   0.067,2,   1.5434
06MT20050813,     610,       AR04,          1,          2,          2,2,20050914,       0000,     20.065,    -64.259,       5998,  5813.3,   1.9950,  34.8352,2,-999.0000,9, 242.0000,2,  -999.0,9,   0.072,2,   0.048,2,   1.4377
06MT20050813,     610,       AR04,          1,          1,          1,2,20050914,       0000,     20.065,    -64.259,       5998,  5814.1,   1.9949,  34.8353,2,  34.8337,2, 242.0000,2,   240.4,2,-999.000,9,-999.000,9,   1.4375