BOTTLE,20120828SIOCCHMYS
EXPOCODE,STNNBR,SECT_ID,CASTNO,SAMPNO,BTLNBR,BTLNBR_FLAG_W,DATE,TIME,LATITUDE,LONGITUDE,DEPTH,CTDPRS,CTDTMP,CTDSAL,CTDSAL_FLAG_W,SALNTY,SALNTY_FLAG_W,CTDOXY,CTDOXY_FLAG_W,OXYGEN,OXYGEN_FLAG_W,CFC-11,CFC-11_FLAG_W,CFC-12,CFC-12_FLAG_W,THETA
,,,,,,,,,,,,DBAR,ITS-90,PSS-78,,PSS-78,,UMOL/KG,,UMOL/KG,,PMOL/KG,,PMOL/KG,,DEG C
06MT20050813,     611,       AR04,          1,         22,         22,2,20050914,       0000,     20.434,    -64.242,       4960,    25.4,  30.0473,  35.7752,2,  35.6794,3, 195.8000,2,   197.3,6,   1.356,4,   0.926,2,  30.0410
06MT20050813,     611,       AR04,          1,         21,         21,2,20050914,       0000,     20.434,    -64.242,       4960,   207.6,  19.9603,  36.7596,2,-999.0000,9, 177.6000,2,  -999.0,9,   2.286,2,   1.309,2,  19.9216
06MT20050813,     611,       AR04,          1,         20,         20,2,20050914,       0000,     20.434,    -64.242,       4960,   897.3,   7.1268,  35.0154,2,-999.0000,9, 144.4000,2,   163.5,3,   0.246,2,   0.139,2,   7.0376
06MT20050813,     611,       AR04,          1,         19,         19,2,20050914,       0000,     20.434,    -64.242,       4960,  1357.1,   4.7038,  35.0330,2,-999.0000,9, 240.1000,2,  -999.0,9,   0.793,2,   0.410,2,   4.5891
06MT20050813,     611,       AR04,          1,         18,         18,2,20050914,       0000,     20.434,    -64.242,       4960,  1358.4,   4.6946,  35.0332,2,-999.0000,9, 240.2000,2,  -999.0,9,-999.000,9,-999.000,9,   4.5799
06MT20050813,     611,       AR04,          1,         17,         17,2,20050914,       0000,     20.434,    -64.242,       4960,  1447.9,   4.4161,  35.0175,2,-999.0000,9, 247.6000,2,  -999.0,9,-999.000,9,-999.000,9,   4.2960
06MT20050813,     611,       AR04,          1,         16,         16,2,20050914,       0000,     20.434,    -64.242,       4960,  1564.2,   4.0857,  34.9955,2,-999.0000,9, 256.1000,2,  -999.0,9,   0.932,2,   0.471,2,   3.9585
06MT20050813,     611,       AR04,          1,         15,         15,2,20050914,       0000,     20.434,    -64.242,       4960,  1650.7,   3.9603,  34.9902,2,  34.9870,2, 257.5000,2,  -999.0,9,   0.833,2,   0.429,2,   3.8266
06MT20050813,     611,       AR04,          1,         14,         14,2,20050914,       0000,     20.434,    -64.242,       4960,  1773.4,   3.7927,  34.9822,2,-999.0000,9, 259.0000,2,  -999.0,9,   0.820,2,   0.423,2,   3.6497
06MT20050813,     611,       AR04,          1,         13,         13,2,20050914,       0000,     20.434,    -64.242,       4960,  1891.8,   3.6131,  34.9771,2,-999.0000,9, 259.6000,2,  -999.0,9,   0.658,2,   0.343,2,   3.4615
06MT20050813,     611,       AR04,          1,         12,         12,2,20050914,       0000,     20.434,    -64.242,       4960,  2048.4,   3.4602,  34.9725,2,-999.0000,9, 258.3000,2,   257.7,2,   0.480,2,   0.248,2,   3.2961
06MT20050813,     611,       AR04,          1,         11,         11,2,20050914,       0000,     20.434,    -64.242,       4960,  2297.8,   3.1918,  34.9605,2,-999.0000,9, 258.4000,2,  -999.0,9,   0.356,2,   0.186,2,   3.0081
06MT20050813,     611,       AR04,          1,         10,         10,2,20050914,       0000,     20.434,    -64.242,       4960,  2490.9,   3.0115,  34.9511,2,-999.0000,9, 257.3000,2,  -999.0,9,-999.000,9,-999.000,9,   2.8122
06MT20050813,     611,       AR04,          1,          9,          9,2,20050914,       0000,     20.434,    -64.242,       4960,  2698.7,   2.8279,  34.9397,2,-999.0000,9, 255.9000,2,   258.1,2,   0.203,2,   0.114,2,   2.6115
06MT20050813,     611,       AR04,          1,          8,          8,2,20050914,       0000,     20.434,    -64.242,       4960,  3097.7,   2.5227,  34.9168,2,-999.0000,9, 262.7000,2,  -999.0,9,   0.479,2,   0.253,2,   2.2723
06MT20050813,     611,       AR04,          1,          7,          7,2,20050914,       0000,     20.434,    -64.242,       4960,  3400.9,   2.3773,  34.9063,2,  34.9319,3, 263.9000,2,  -999.0,9,   0.575,2,   0.296,2,   2.0985
06MT20050813,     611,       AR04,          1,          6,          6,2,20050914,       0000,     20.434,    -64.242,       4960,  3699.1,   2.3050,  34.8994,2,-999.0000,9, 263.5000,2,   264.4,2,   0.591,2,   0.306,2,   1.9958
06MT20050813,     611,       AR04,          1,          5,          5,2,20050914,       0000,     20.434,    -64.242,       4960,  3997.8,   2.2754,  34.8950,2,-999.0000,9, 262.4000,2,  -999.0,9,   0.585,2,   0.309,2,   1.9336
06MT20050813,     611,       AR04,          1,          4,          4,2,20050914,       0000,     20.434,    -64.242,       4960,  4299.4,   2.2625,  34.8909,2,-999.0000,9, 260.9000,2,   262.4,2,   0.468,2,   0.250,2,   1.8863
06MT20050813,     611,       AR04,          1,          3,          3,2,20050914,       0000,     20.434,    -64.242,       4960,  4699.1,   2.2360,  34.8829,2,-999.0000,9, 257.6000,2,  -999.0,9,   0.352,2,   0.193,2,   1.8127
06MT20050813,     611,       AR04,          1,          2,          2,2,20050914,       0000,     20.434,    -64.242,       4960,  5055.4,   1.9993,  34.8484,2,-999.0000,9, 246.6000,2,  -999.0,9,   0.088,2,   0.064,2,   1.5400
06MT20050813,     611,       AR04,          1,          1,          1,2,20050914,       0000,     20.434,    -64.242,       4960,  5056.2,   1.9993,  34.8484,2,  34.8447,2, 246.6000,2,   241.5,3,-999.000,9,-999.000,9,   1.5399
06MT20050813,     612,       AR04,          1,         22,         22,2,20050914,       0000,     20.808,    -64.218,       5146,    18.2,  30.0529,  35.6572,2,-999.0000,9, 194.0000,2,   194.9,2,   1.433,2,   0.921,2,  30.0484
06MT20050813,     612,       AR04,          1,         21,         21,2,20050914,       0000,     20.808,    -64.218,       5146,   412.9,  16.6014,  36.2917,2,  36.2233,3, 181.0000,2,  -999.0,9,   2.271,2,   1.251,2,  16.5334
06MT20050813,     612,       AR04,          1,         20,         20,2,20050914,       0000,     20.808,    -64.218,       5146,  1002.5,   6.4029,  35.0293,2,-999.0000,9, 171.3000,2,  -999.0,9,   0.335,2,   0.179,2,   6.3079
06MT20050813,     612,       AR04,          1,         19,         19,2,20050914,       0000,     20.808,    -64.218,       5146,  1197.6,   5.2833,  35.0564,2,-999.0000,9, 220.9000,2,  -999.0,9,   0.759,2,   0.389,2,   5.1782
06MT20050813,     612,       AR04,          1,         18,         18,2,20050914,       0000,     20.808,    -64.218,       5146,  1397.7,   4.5046,  35.0210,2,-999.0000,9, 247.5000,2,  -999.0,9,-999.000,9,-999.000,9,   4.3882
06MT20050813,     612,       AR04,          1,         17,         17,2,20050914,       0000,     20.808,    -64.218,       5146,  1399.3,   4.4946,  35.0210,2,-999.0000,9, 247.8000,2,  -999.0,9,   1.173,2,   0.579,2,   4.3781
06MT20050813,     612,       AR04,          1,         16,         16,2,20050914,       0000,     20.808,    -64.218,       5146,  1604.3,   4.0178,  34.9916,2,-999.0000,9, 257.6000,2,   256.5,2,   0.987,2,   0.509,2,   3.8877
06MT20050813,     612,       AR04,          1,         15,         15,2,20050914,       0000,     20.808,    -64.218,       5146,  1798.3,   3.7392,  34.9782,2,-999.0000,9, 260.0000,2,  -999.0,9,   0.765,2,   0.393,2,   3.5946
06MT20050813,     612,       AR04,          1,         14,         14,2,20050914,       0000,     20.808,    -64.218,       5146,  1998.0,   3.5306,  34.9758,2,  34.9744,2, 258.0000,2,  -999.0,9,   0.458,2,   0.238,2,   3.3702
06MT20050813,     612,       AR04,          1,         13,         13,2,20050914,       0000,     20.808,    -64.218,       5146,  2196.9,   3.3192,  34.9677,2,-999.0000,9, 256.7000,2,   255.3,2,-999.000,9,-999.000,9,   3.1431
06MT20050813,     612,       AR04,          1,         12,         12,2,20050914,       0000,     20.808,    -64.218,       5146,  2397.7,   3.1034,  34.9546,2,-999.0000,9, 258.0000,2,  -999.0,9,   0.316,2,   0.165,2,   2.9115
06MT20050813,     612,       AR04,          1,         11,         11,2,20050914,       0000,     20.808,    -64.218,       5146,  2595.8,   2.9152,  34.9425,2,-999.0000,9, 258.6000,2,  -999.0,9,   0.338,2,   0.174,2,   2.7074
06MT20050813,     612,       AR04,          1,         10,         10,2,20050914,       0000,     20.808,    -64.218,       5146,  2798.4,   2.7676,  34.9328,2,-999.0000,9, 259.8000,2,  -999.0,9,-999.000,9,-999.000,9,   2.5424
06MT20050813,     612,       AR04,          1,          9,          9,2,20050914,       0000,     20.808,    -64.218,       5146,  2993.0,   2.6299,  34.9233,2,  34.9250,2, 261.6000,2,  -999.0,9,   0.444,2,   0.231,2,   2.3879
06MT20050813,     612,       AR04,          1,          8,          8,2,20050914,       0000,     20.808,    -64.218,       5146,  3298.1,   2.4338,  34.9096,2,-999.0000,9, 263.1000,2,   264.1,2,   0.502,2,   0.255,2,   2.1645
06MT20050813,     612,       AR04,          1,          7,          7,2,20050914,       0000,     20.808,    -64.218,       5146,  3597.4,   2.3417,  34.9026,2,-999.0000,9, 263.7000,2,  -999.0,9,   0.586,2,   0.294,2,   2.0427
06MT20050813,     612,       AR04,          1,          6,          6,2,20050914,       0000,     20.808,    -64.218,       5146,  3898.4,   2.2943,  34.8969,2,-999.0000,9, 262.9000,2,   264.8,2,   0.516,2,   0.265,2,   1.9632
06MT20050813,     612,       AR04,          1,          5,          5,2,20050914,       0000,     20.808,    -64.218,       5146,  4198.3,   2.2784,  34.8926,2,  34.9010,3, 261.6000,2,  -999.0,9,   0.503,2,   0.260,2,   1.9135
06MT20050813,     612,       AR04,          1,          4,          4,2,20050914,       0000,     20.808,    -64.218,       5146,  4501.1,   2.2630,  34.8878,2,-999.0000,9, 259.7000,2,   260.9,2,   0.410,2,   0.213,2,   1.8628
06MT20050813,     612,       AR04,          1,          3,          3,2,20050914,       0000,     20.808,    -64.218,       5146,  4897.2,   2.2259,  34.8779,2,-999.0000,9, 256.3000,2,  -999.0,9,   0.303,2,   0.168,2,   1.7786
06MT20050813,     612,       AR04,          1,          2,          2,2,20050914,       0000,     20.808,    -64.218,       5146,  5250.4,   2.0047,  34.8454,2,-999.0000,9, 245.7000,2,  -999.0,9,   0.094,2,   0.063,2,   1.5206
06MT20050813,     612,       AR04,          1,          1,          1,2,20050914,       0000,     20.808,    -64.218,       5146,  5249.5,   2.0049,  34.8460,2,  34.8471,2, 245.7000,2,   247.0,2,-999.000,9,-999.000,9,   1.5209
06MT20050813,     613,       AR04,          1,         22,         22,2,20050914,       0000,     21.177,     -64.19,       5339,    11.6,  30.1747,  35.9250,2,-999.0000,9, 191.7000,2,   190.5,2,   1.399,2,   0.895,2,  30.1718
06MT20050813,     613,       AR04,          1,         21,         21,2,20050914,       0000,     21.177,     -64.19,       5339,   601.8,  12.2592,  35.6042,2,-999.0000,9, 139.7000,2,   137.3,2,   1.193,2,   0.664,2,  12.1778
06MT20050813,     613,       AR04,          1,         20,         20,2,20050914,       0000,     21.177,     -64.19,       5339,  1088.1,   5.9611,  35.0195,2,-999.0000,9, 181.3000,2,  -999.0,9,   0.514,2,   0.264,2,   5.8610
06MT20050813,     613,       AR04,          1,         19,         19,2,20050914,       0000,     21.177,     -64.19,       5339,  1299.3,   4.9180,  35.0455,2,-999.0000,9, 234.5000,2,  -999.0,9,   0.820,2,   0.422,2,   4.8066
06MT20050813,     613,       AR04,          1,         18,         18,2,20050914,       0000,     21.177,     -64.19,       5339,  1391.7,   4.6154,  35.0339,2,-999.0000,9, 243.7000,2,  -999.0,9,-999.000,9,-999.000,9,   4.4984
06MT20050813,     613,       AR04,          1,         17,         17,2,20050914,       0000,     21.177,     -64.19,       5339,  1493.5,   4.2918,  35.0145,2,  35.0143,2, 251.8000,2,  -999.0,9,   0.832,2,   0.425,2,   4.1688
06MT20050813,     613,       AR04,          1,         16,         16,2,20050914,       0000,     21.177,     -64.19,       5339,  1649.8,   3.9221,  34.9838,2,-999.0000,9, 259.4000,2,  -999.0,9,   0.996,2,   0.504,2,   3.7890
06MT20050813,     613,       AR04,          1,         15,         15,2,20050914,       0000,     21.177,     -64.19,       5339,  1834.2,   3.6565,  34.9705,2,-999.0000,9, 262.1000,2,   260.3,2,   0.945,2,   0.467,2,   3.5097
06MT20050813,     613,       AR04,          1,         14,         14,2,20050914,       0000,     21.177,     -64.19,       5339,  1940.9,   3.5636,  34.9719,2,-999.0000,9, 260.7000,2,  -999.0,9,-999.000,9,-999.000,9,   3.4081
06MT20050813,     613,       AR04,          1,         13,         13,2,20050914,       0000,     21.177,     -64.19,       5339,  2088.9,   3.4242,  34.9714,2,-999.0000,9, 258.6000,2,  -999.0,9,   0.531,2,   0.274,2,   3.2568
06MT20050813,     613,       AR04,          1,         12,         12,2,20050914,       0000,     21.177,     -64.19,       5339,  2489.5,   3.0167,  34.9494,2,-999.0000,9, 257.4000,2,   258.5,2,   0.313,2,   0.162,2,   2.8174
06MT20050813,     613,       AR04,          1,         11,         11,2,20050914,       0000,     21.177,     -64.19,       5339,  2682.9,   2.8450,  34.9386,2,-999.0000,9, 258.9000,2,  -999.0,9,-999.000,9,-999.000,9,   2.6299
06MT20050813,     613,       AR04,          1,         10,         10,2,20050914,       0000,     21.177,     -64.19,       5339,  2892.6,   2.6969,  34.9279,2,-999.0000,9, 260.9000,2,  -999.0,9,   0.428,2,   0.214,2,   2.4637
06MT20050813,     613,       AR04,          1,          9,          9,2,20050914,       0000,     21.177,     -64.19,       5339,  3199.8,   2.5280,  34.9164,2,  34.9171,2, 262.0000,2,  -999.0,9,   0.462,2,   0.238,2,   2.2668
06MT20050813,     613,       AR04,          1,          8,          8,2,20050914,       0000,     21.177,     -64.19,       5339,  3499.5,   2.3934,  34.9066,2,-999.0000,9, 263.2000,2,  -999.0,9,   0.492,2,   0.252,2,   2.1037
06MT20050813,     613,       AR04,          1,          7,          7,2,20050914,       0000,     21.177,     -64.19,       5339,  3799.8,   2.3226,  34.8998,2,-999.0000,9, 263.3000,2,  -999.0,9,   0.564,2,   0.289,2,   2.0018
06MT20050813,     613,       AR04,          1,          6,          6,2,20050914,       0000,     21.177,     -64.19,       5339,  4099.2,   2.2898,  34.8952,2,-999.0000,9, 262.2000,2,   263.3,2,   0.489,2,   0.259,2,   1.9360
06MT20050813,     613,       AR04,          1,          5,          5,2,20050914,       0000,     21.177,     -64.19,       5339,  4398.3,   2.2808,  34.8911,2,-999.0000,9, 260.9000,2,  -999.0,9,   0.447,2,   0.243,2,   1.8923
06MT20050813,     613,       AR04,          1,          4,          4,2,20050914,       0000,     21.177,     -64.19,       5339,  4698.1,   2.2675,  34.8859,2,  34.8862,2, 258.9000,2,   259.2,2,   0.365,2,   0.200,2,   1.8433
06MT20050813,     613,       AR04,          1,          3,          3,2,20050914,       0000,     21.177,     -64.19,       5339,  4998.7,   2.2092,  34.8755,2,-999.0000,9, 254.8000,2,  -999.0,9,   0.273,2,   0.150,2,   1.7497
06MT20050813,     613,       AR04,          1,          2,          2,2,20050914,       0000,     21.177,     -64.19,       5339,  5455.6,   1.9873,  34.8402,2,-999.0000,9, 243.4000,2,  -999.0,9,   0.078,2,   0.052,2,   1.4775
06MT20050813,     613,       AR04,          1,          1,          1,2,20050914,       0000,     21.177,     -64.19,       5339,  5456.2,   1.9867,  34.8406,2,  34.8380,2, 243.3000,2,   244.9,2,-999.000,9,-999.000,9,   1.4768