BOTTLE,20120828SIOCCHMYS
# Reordered surface to bottom pressure
#BOTTLE,20120828PRINUNIVRMK
# 8/24/2012 Initialized README file  
# Data source: SUM and SEA file from CCHDO 8/23/2012 
# SHIP: Meteor 
# Cruise: MT66_1 
# Region: Off Brazil; AR04 
# EXPOCODE: 06MT20050813 
# DATES: 8/13 - 9/19/2005 
# Chief Scientist:M. Rhein 
# 173 stations with 24 place Rosette 
# Hydro: Who - M.RheinR.Steinfeldt; Status - final 
# 	Notes: 	 
# O2: Who - M.Rhein;R.Steinfeldt; Status - final 
# 	Notes: bottle data only (so far) 
# CFC: Who - M.Rhein;K.Bulsiewicz; Status - final 
# 	Notes: Reported on SIO98 scale 
# 	Accuracy better than 1% for 11 and 12 
# References: 
# Steinfeldt, R., M. Rhein, and M. Walter (2007), NADW transformation at the western boundary between 66W/20N and 60W/10N, Deep-Sea Res., 54, 835-855, doi:10.1016/j.dsr.2007.03.004. 
EXPOCODE,STNNBR,SECT_ID,CASTNO,SAMPNO,BTLNBR,BTLNBR_FLAG_W,DATE,TIME,LATITUDE,LONGITUDE,DEPTH,CTDPRS,CTDTMP,CTDSAL,CTDSAL_FLAG_W,SALNTY,SALNTY_FLAG_W,CTDOXY,CTDOXY_FLAG_W,OXYGEN,OXYGEN_FLAG_W,CFC-11,CFC-11_FLAG_W,CFC-12,CFC-12_FLAG_W,THETA
,,,,,,,,,,,,DBAR,ITS-90,PSS-78,,PSS-78,,UMOL/KG,,UMOL/KG,,PMOL/KG,,PMOL/KG,,DEG C
06MT20050813,     398,       AR04,          1,         19,         19,2,20050817,       0000,     23.613,    -28.992,       5601,    12.7,  25.4110,  37.5762,2,  37.5622,3, 210.2000,2,   215.2,2,-999.000,9,-999.000,9,  25.4082
06MT20050813,     398,       AR04,          1,         22,         22,2,20050817,       0000,     23.613,    -28.992,       5601,    12.9,  25.4220,  37.5793,2,-999.0000,9, 210.2000,2,  -999.0,9,-999.000,9,-999.000,9,  25.4191
06MT20050813,     398,       AR04,          1,         21,         21,2,20050817,       0000,     23.613,    -28.992,       5601,    13.1,  25.4241,  37.5783,2,  37.5726,2, 210.2000,2,   208.0,6,-999.000,9,-999.000,9,  25.4212
06MT20050813,     398,       AR04,          1,         20,         20,2,20050817,       0000,     23.613,    -28.992,       5601,    13.1,  25.4241,  37.5783,2,  37.5347,3, 210.2000,2,   216.6,6,-999.000,9,-999.000,9,  25.4212
06MT20050813,     398,       AR04,          1,         18,         18,2,20050817,       0000,     23.613,    -28.992,       5601,   110.1,  21.2335,  37.2033,2,-999.0000,9, 219.0000,2,   221.1,2,-999.000,9,-999.000,9,  21.2120
06MT20050813,     398,       AR04,          1,         17,         17,2,20050817,       0000,     23.613,    -28.992,       5601,   207.7,  18.9666,  36.8019,2,  36.6296,3, 204.3000,2,  -999.0,9,-999.000,9,-999.000,9,  18.9292
06MT20050813,     398,       AR04,          1,         16,         16,2,20050817,       0000,     23.613,    -28.992,       5601,   295.1,  16.3432,  36.2599,2,  36.2322,3, 190.3000,2,  -999.0,9,-999.000,9,-999.000,9,  16.2952
06MT20050813,     398,       AR04,          1,         15,         15,2,20050817,       0000,     23.613,    -28.992,       5601,   402.7,  14.3222,  35.9411,2,  35.9265,3, 188.2000,2,   186.4,2,-999.000,9,-999.000,9,  14.2622
06MT20050813,     398,       AR04,          1,         14,         14,2,20050817,       0000,     23.613,    -28.992,       5601,   496.5,  12.6464,  35.7112,2,  35.6818,3, 163.3000,2,   162.5,2,-999.000,9,-999.000,9,  12.5781
06MT20050813,     398,       AR04,          1,         13,         13,2,20050817,       0000,     23.613,    -28.992,       5601,   603.1,  11.0435,  35.5182,2,-999.0000,9, 153.4000,2,  -999.0,9,-999.000,9,-999.000,9,  10.9671
06MT20050813,     398,       AR04,          1,         12,         12,2,20050817,       0000,     23.613,    -28.992,       5601,   706.4,   9.6213,  35.3586,2,  35.3389,3, 143.0000,2,   144.9,2,-999.000,9,-999.000,9,   9.5388
06MT20050813,     398,       AR04,          1,         11,         11,2,20050817,       0000,     23.613,    -28.992,       5601,   800.8,   8.4140,  35.2327,2,  35.2270,3, 142.1000,2,  -999.0,9,-999.000,9,-999.000,9,   8.3271
06MT20050813,     398,       AR04,          1,         10,         10,2,20050817,       0000,     23.613,    -28.992,       5601,   999.0,   6.5448,  35.0830,2,  35.0643,3, 161.4000,2,   161.2,2,-999.000,9,-999.000,9,   6.4491
06MT20050813,     398,       AR04,          1,          9,          9,2,20050817,       0000,     23.613,    -28.992,       5601,  1215.4,   5.7386,  35.0865,2,  35.1291,3, 185.0000,2,   184.6,2,-999.000,9,-999.000,9,   5.6276
06MT20050813,     398,       AR04,          1,          8,          8,2,20050817,       0000,     23.613,    -28.992,       5601,  1411.5,   5.2933,  35.1137,2,  35.1167,2, 204.5000,2,  -999.0,9,-999.000,9,-999.000,9,   5.1671
06MT20050813,     398,       AR04,          1,          7,          7,2,20050817,       0000,     23.613,    -28.992,       5601,  1618.9,   4.6576,  35.0852,2,-999.0000,9, 218.0000,2,  -999.0,9,-999.000,9,-999.000,9,   4.5182
06MT20050813,     398,       AR04,          1,          6,          6,2,20050817,       0000,     23.613,    -28.992,       5601,  1818.0,   4.2571,  35.0670,2,-999.0000,9, 226.9000,2,   226.3,2,-999.000,9,-999.000,9,   4.1034
06MT20050813,     398,       AR04,          1,          5,          5,2,20050817,       0000,     23.613,    -28.992,       5601,  2022.6,   3.8374,  35.0333,2,  35.0305,2, 231.7000,2,  -999.0,9,-999.000,9,-999.000,9,   3.6699
06MT20050813,     398,       AR04,          1,          1,          1,2,20050817,       0000,     23.613,    -28.992,       5601,  2022.7,   3.8427,  35.0339,2,-999.0000,9, 231.7000,2,   230.1,2,-999.000,9,-999.000,9,   3.6751
06MT20050813,     398,       AR04,          1,          4,          4,2,20050817,       0000,     23.613,    -28.992,       5601,  2022.3,   3.8373,  35.0328,2,  35.0295,2, 231.7000,2,   230.8,6,-999.000,9,-999.000,9,   3.6698
06MT20050813,     398,       AR04,          1,          3,          3,2,20050817,       0000,     23.613,    -28.992,       5601,  2022.1,   3.8377,  35.0332,2,-999.0000,9, 231.7000,2,  -999.0,9,-999.000,9,-999.000,9,   3.6702
06MT20050813,     398,       AR04,          1,          2,          2,2,20050817,       0000,     23.613,    -28.992,       5601,  2022.5,   3.8373,  35.0334,2,-999.0000,9, 231.7000,2,  -999.0,9,-999.000,9,-999.000,9,   3.6698
06MT20050813,     399,       AR04,          2,          5,          5,2,20050820,       0000,      18.46,    -42.897,       4748,  2532.8,   3.1490,  34.9577,2,-999.0000,9, 244.9000,2,   244.5,2,   0.000,2,   0.002,2,   2.9430
06MT20050813,     399,       AR04,          2,          2,          2,2,20050820,       0000,      18.46,    -42.897,       4748,  2532.5,   3.1493,  34.9580,2,-999.0000,9, 244.9000,2,   247.9,3,   0.031,2,   0.052,2,   2.9433
06MT20050813,     399,       AR04,          2,          7,          7,2,20050820,       0000,      18.46,    -42.897,       4748,  2532.2,   3.1490,  34.9582,2,-999.0000,9, 244.9000,2,   245.1,6,   0.009,2,  -0.002,2,   2.9430
06MT20050813,     399,       AR04,          2,         15,         15,2,20050820,       0000,      18.46,    -42.897,       4748,  2532.2,   3.1493,  34.9579,2,-999.0000,9, 244.9000,2,   245.4,6,   0.000,2,  -0.003,2,   2.9433
06MT20050813,     399,       AR04,          2,          3,          3,2,20050820,       0000,      18.46,    -42.897,       4748,  2531.8,   3.1490,  34.9579,2,-999.0000,9, 244.9000,2,   245.3,2,   0.002,2,   0.006,2,   2.9431
06MT20050813,     399,       AR04,          2,          6,          6,2,20050820,       0000,      18.46,    -42.897,       4748,  2532.2,   3.1493,  34.9579,2,-999.0000,9, 244.9000,2,   245.0,6,   0.000,2,   0.001,2,   2.9433
06MT20050813,     399,       AR04,          2,         11,         11,2,20050820,       0000,      18.46,    -42.897,       4748,  2532.1,   3.1491,  34.9579,2,-999.0000,9, 244.9000,2,   244.4,2,   0.000,2,   0.000,2,   2.9431
06MT20050813,     399,       AR04,          2,          8,          8,2,20050820,       0000,      18.46,    -42.897,       4748,  2532.5,   3.1493,  34.9580,2,-999.0000,9, 244.9000,2,   244.7,2,   0.000,2,   0.002,2,   2.9433
06MT20050813,     399,       AR04,          2,          9,          9,2,20050820,       0000,      18.46,    -42.897,       4748,  2532.8,   3.1491,  34.9579,2,-999.0000,9, 244.9000,2,  -999.0,9,   0.029,2,   0.015,2,   2.9431
06MT20050813,     399,       AR04,          2,         14,         14,2,20050820,       0000,      18.46,    -42.897,       4748,  2532.6,   3.1490,  34.9579,2,-999.0000,9, 244.9000,2,   245.3,2,  -0.003,2,  -0.001,2,   2.9430
06MT20050813,     399,       AR04,          2,         10,         10,2,20050820,       0000,      18.46,    -42.897,       4748,  2532.4,   3.1493,  34.9581,2,-999.0000,9, 244.9000,2,  -999.0,9,   0.000,2,   0.000,2,   2.9433
06MT20050813,     399,       AR04,          2,         13,         13,2,20050820,       0000,      18.46,    -42.897,       4748,  2532.6,   3.1491,  34.9580,2,-999.0000,9, 244.9000,2,  -999.0,9,-999.000,9,-999.000,9,   2.9431
06MT20050813,     399,       AR04,          2,         12,         12,2,20050820,       0000,      18.46,    -42.897,       4748,  2532.9,   3.1490,  34.9577,2,-999.0000,9, 244.9000,2,  -999.0,9,  -0.004,2,  -0.002,2,   2.9430
06MT20050813,     399,       AR04,          2,          1,          1,2,20050820,       0000,      18.46,    -42.897,       4748,  2532.5,   3.1493,  34.9580,2,-999.0000,9, 244.9000,2,   245.0,2,-999.000,9,-999.000,9,   2.9433
06MT20050813,     399,       AR04,          2,          4,          4,2,20050820,       0000,      18.46,    -42.897,       4748,  2532.6,   3.1491,  34.9580,2,-999.0000,9, 244.9000,2,   245.3,6,   0.000,2,   0.002,2,   2.9431
06MT20050813,     399,       AR04,          2,         16,         16,2,20050820,       0000,      18.46,    -42.897,       4748,  2533.0,   3.1490,  34.9579,2,-999.0000,9, 244.9000,2,   244.6,2,   0.000,2,   0.000,2,   2.9429
06MT20050813,     399,       AR04,          2,         17,         17,2,20050820,       0000,      18.46,    -42.897,       4748,  2532.8,   3.1490,  34.9577,2,-999.0000,9, 244.9000,2,  -999.0,9,   1.711,4,   1.094,4,   2.9430
06MT20050813,     399,       AR04,          2,         18,         18,2,20050820,       0000,      18.46,    -42.897,       4748,  2532.9,   3.1488,  34.9579,2,-999.0000,9, 244.9000,2,  -999.0,9,   1.715,4,   1.104,4,   2.9428
06MT20050813,     399,       AR04,          2,         19,         19,2,20050820,       0000,      18.46,    -42.897,       4748,  2532.0,   3.1493,  34.9578,2,-999.0000,9, 244.9000,2,  -999.0,9,   0.030,2,   0.050,2,   2.9433
06MT20050813,     399,       AR04,          2,         20,         20,2,20050820,       0000,      18.46,    -42.897,       4748,  2533.3,   3.1483,  34.9577,2,-999.0000,9, 244.9000,2,   245.0,6,   0.001,2,   0.000,2,   2.9422
06MT20050813,     399,       AR04,          2,         21,         21,2,20050820,       0000,      18.46,    -42.897,       4748,  2532.9,   3.1488,  34.9583,2,  34.9588,2, 244.9000,2,  -999.0,9,  -0.002,2,  -0.001,2,   2.9428
06MT20050813,     399,       AR04,          2,         22,         22,2,20050820,       0000,      18.46,    -42.897,       4748,  2532.9,   3.1490,  34.9577,2,  34.9565,2, 244.9000,2,  -999.0,9,   0.001,2,  -0.001,2,   2.9430
06MT20050813,     400,       AR04,          1,         20,         20,2,20050821,       0000,     16.763,    -47.377,       4081,    13.5,  28.3859,  36.5203,2,-999.0000,9, 204.2000,2,   203.5,2,   1.525,2,   0.952,2,  28.3827
06MT20050813,     400,       AR04,          1,         22,         22,2,20050821,       0000,     16.763,    -47.377,       4081,    13.6,  28.3856,  36.5203,2,  36.5119,3, 204.2000,2,   176.3,4,-999.000,9,-999.000,9,  28.3824
06MT20050813,     400,       AR04,          1,         21,         21,2,20050821,       0000,     16.763,    -47.377,       4081,    13.6,  28.3854,  36.5203,2,-999.0000,9, 204.2000,2,   199.0,2,-999.000,9,-999.000,9,  28.3822
06MT20050813,     400,       AR04,          1,          4,          4,2,20050821,       0000,     16.763,    -47.377,       4081,  2500.9,   2.9421,  34.9435,2,-999.0000,9, 249.8000,2,   250.1,2,   0.027,2,   0.013,2,   2.7431
06MT20050813,     400,       AR04,          1,         15,         15,2,20050821,       0000,     16.763,    -47.377,       4081,  2500.8,   2.9423,  34.9430,2,-999.0000,9, 249.8000,2,  -999.0,9,  -0.011,2,  -0.007,2,   2.7433
06MT20050813,     400,       AR04,          1,         12,         12,2,20050821,       0000,     16.763,    -47.377,       4081,  2500.8,   2.9423,  34.9431,2,-999.0000,9, 249.8000,2,  -999.0,9,   0.033,2,   0.012,2,   2.7433
06MT20050813,     400,       AR04,          1,          7,          7,2,20050821,       0000,     16.763,    -47.377,       4081,  2501.5,   2.9432,  34.9432,2,-999.0000,9, 249.8000,2,   250.4,2,   0.030,2,   0.014,2,   2.7441
06MT20050813,     400,       AR04,          1,          8,          8,2,20050821,       0000,     16.763,    -47.377,       4081,  2500.8,   2.9423,  34.9430,2,-999.0000,9, 249.8000,2,  -999.0,9,   0.028,2,   0.018,2,   2.7433
06MT20050813,     400,       AR04,          1,          9,          9,2,20050821,       0000,     16.763,    -47.377,       4081,  2500.9,   2.9421,  34.9435,2,-999.0000,9, 249.8000,2,  -999.0,9,   0.064,2,   0.032,2,   2.7431
06MT20050813,     400,       AR04,          1,         10,         10,2,20050821,       0000,     16.763,    -47.377,       4081,  2501.9,   2.9426,  34.9433,2,-999.0000,9, 249.8000,2,  -999.0,9,   0.027,2,   0.014,2,   2.7435
06MT20050813,     400,       AR04,          1,         18,         18,2,20050821,       0000,     16.763,    -47.377,       4081,  2501.0,   2.9423,  34.9431,2,  34.9462,2, 249.8000,2,   251.7,2,   0.029,2,   0.012,2,   2.7433
06MT20050813,     400,       AR04,          1,         11,         11,2,20050821,       0000,     16.763,    -47.377,       4081,  2501.1,   2.9425,  34.9427,2,-999.0000,9, 249.8000,2,  -999.0,9,   0.025,2,   0.014,2,   2.7435
06MT20050813,     400,       AR04,          1,         13,         13,2,20050821,       0000,     16.763,    -47.377,       4081,  2501.4,   2.9425,  34.9429,2,-999.0000,9, 249.8000,2,  -999.0,9,   0.049,2,   0.024,2,   2.7434
06MT20050813,     400,       AR04,          1,         14,         14,2,20050821,       0000,     16.763,    -47.377,       4081,  2501.7,   2.9426,  34.9431,2,-999.0000,9, 249.8000,2,  -999.0,9,-999.000,9,-999.000,9,   2.7435
06MT20050813,     400,       AR04,          1,          5,          5,2,20050821,       0000,     16.763,    -47.377,       4081,  2501.5,   2.9434,  34.9429,2,-999.0000,9, 249.8000,2,   250.2,2,-999.000,9,-999.000,9,   2.7443
06MT20050813,     400,       AR04,          1,         16,         16,2,20050821,       0000,     16.763,    -47.377,       4081,  2500.9,   2.9421,  34.9435,2,-999.0000,9, 249.8000,2,  -999.0,9,-999.000,9,-999.000,9,   2.7431
06MT20050813,     400,       AR04,          1,         17,         17,2,20050821,       0000,     16.763,    -47.377,       4081,  2501.9,   2.9428,  34.9428,2,  34.9456,2, 249.8000,2,   249.3,2,   0.027,2,   0.016,2,   2.7437
06MT20050813,     400,       AR04,          1,          6,          6,2,20050821,       0000,     16.763,    -47.377,       4081,  2501.4,   2.9425,  34.9431,2,-999.0000,9, 249.8000,2,   249.5,2,   0.026,2,   0.016,2,   2.7434
06MT20050813,     400,       AR04,          1,         19,         19,2,20050821,       0000,     16.763,    -47.377,       4081,  2500.5,   2.9431,  34.9430,2,-999.0000,9, 249.8000,2,   243.9,3,-999.000,9,-999.000,9,   2.7441
06MT20050813,     400,       AR04,          1,          1,          1,2,20050821,       0000,     16.763,    -47.377,       4081,  2501.2,   2.9425,  34.9429,2,  34.9413,2, 249.8000,2,  -999.0,9,-999.000,9,-999.000,9,   2.7435
06MT20050813,     400,       AR04,          1,          3,          3,2,20050821,       0000,     16.763,    -47.377,       4081,  2501.4,   2.9425,  34.9429,2,-999.0000,9, 249.8000,2,   249.5,2,   0.030,2,   0.016,2,   2.7434
06MT20050813,     400,       AR04,          1,          2,          2,2,20050821,       0000,     16.763,    -47.377,       4081,  2501.5,   2.9429,  34.9432,2,-999.0000,9, 249.8000,2,   248.8,2,   0.005,2,   0.001,2,   2.7438