BOTTLE,20120828SIOCCHMYS
EXPOCODE,STNNBR,SECT_ID,CASTNO,SAMPNO,BTLNBR,BTLNBR_FLAG_W,DATE,TIME,LATITUDE,LONGITUDE,DEPTH,CTDPRS,CTDTMP,CTDSAL,CTDSAL_FLAG_W,SALNTY,SALNTY_FLAG_W,CTDOXY,CTDOXY_FLAG_W,OXYGEN,OXYGEN_FLAG_W,CFC-11,CFC-11_FLAG_W,CFC-12,CFC-12_FLAG_W,THETA
,,,,,,,,,,,,DBAR,ITS-90,PSS-78,,PSS-78,,UMOL/KG,,UMOL/KG,,PMOL/KG,,PMOL/KG,,DEG C
06MT20050813,     428,       AR04,          1,         21,         21,2,20050827,       0000,     16.191,    -59.501,       4995,    13.3,  29.6692,  34.7903,2,-999.0000,9, 199.4000,2,  -999.0,9,   1.464,2,   0.930,2,  29.6659
06MT20050813,     428,       AR04,          1,         22,         22,2,20050827,       0000,     16.191,    -59.501,       4995,    13.7,  29.6650,  34.7897,2,-999.0000,9, 199.4000,2,  -999.0,9,-999.000,9,-999.000,9,  29.6616
06MT20050813,     428,       AR04,          1,         20,         20,2,20050827,       0000,     16.191,    -59.501,       4995,   614.5,   7.7860,  34.8480,2,  34.8245,3, 123.9000,2,   133.0,3,   0.531,2,   0.278,2,   7.7232
06MT20050813,     428,       AR04,          1,         19,         19,2,20050827,       0000,     16.191,    -59.501,       4995,  1096.5,   5.4804,  34.8548,2,-999.0000,9, 157.7000,2,  -999.0,9,   0.105,2,   0.055,2,   5.3837
06MT20050813,     428,       AR04,          1,         18,         18,2,20050827,       0000,     16.191,    -59.501,       4995,  1408.0,   4.9663,  35.0329,2,-999.0000,9, 225.3000,2,  -999.0,9,   0.781,2,   0.386,2,   4.8440
06MT20050813,     428,       AR04,          1,         17,         17,2,20050827,       0000,     16.191,    -59.501,       4995,  1618.7,   4.2981,  35.0058,2,-999.0000,9, 250.2000,2,  -999.0,9,-999.000,9,-999.000,9,   4.1633
06MT20050813,     428,       AR04,          1,         16,         16,2,20050827,       0000,     16.191,    -59.501,       4995,  1664.4,   4.1519,  34.9958,2,-999.0000,9, 253.9000,2,  -999.0,9,   1.131,2,   0.554,2,   4.0145
06MT20050813,     428,       AR04,          1,         15,         15,2,20050827,       0000,     16.191,    -59.501,       4995,  1759.9,   3.9622,  34.9844,2,  34.9834,2, 257.9000,2,  -999.0,9,   1.095,2,   0.535,2,   3.8183
06MT20050813,     428,       AR04,          1,         14,         14,2,20050827,       0000,     16.191,    -59.501,       4995,  1808.0,   3.9175,  34.9873,2,-999.0000,9, 256.6000,2,   256.2,2,-999.000,9,-999.000,9,   3.7696
06MT20050813,     428,       AR04,          1,         13,         13,2,20050827,       0000,     16.191,    -59.501,       4995,  1906.3,   3.7404,  34.9769,2,-999.0000,9, 259.4000,2,  -999.0,9,   0.852,2,   0.426,2,   3.5856
06MT20050813,     428,       AR04,          1,         12,         12,2,20050827,       0000,     16.191,    -59.501,       4995,  2090.9,   3.5087,  34.9751,2,-999.0000,9, 257.3000,2,  -999.0,9,   0.472,2,   0.228,2,   3.3397
06MT20050813,     428,       AR04,          1,         11,         11,2,20050827,       0000,     16.191,    -59.501,       4995,  2287.5,   3.2560,  34.9635,2,-999.0000,9, 257.7000,2,  -999.0,9,   0.342,2,   0.172,2,   3.0722
06MT20050813,     428,       AR04,          1,         10,         10,2,20050827,       0000,     16.191,    -59.501,       4995,  2485.5,   3.0185,  34.9490,2,-999.0000,9, 258.4000,2,   253.4,3,-999.000,9,-999.000,9,   2.8196
06MT20050813,     428,       AR04,          1,          9,          9,2,20050827,       0000,     16.191,    -59.501,       4995,  2694.8,   2.8525,  34.9390,2,  34.9413,2, 258.1000,2,  -999.0,9,   0.250,2,   0.124,2,   2.6360
06MT20050813,     428,       AR04,          1,          8,          8,2,20050827,       0000,     16.191,    -59.501,       4995,  3198.3,   2.5450,  34.9171,2,-999.0000,9, 260.5000,2,   261.8,2,-999.000,9,-999.000,9,   2.2836
06MT20050813,     428,       AR04,          1,          7,          7,2,20050827,       0000,     16.191,    -59.501,       4995,  3397.9,   2.4323,  34.9099,2,-999.0000,9, 264.1000,2,  -999.0,9,-999.000,9,-999.000,9,   2.1525
06MT20050813,     428,       AR04,          1,          6,          6,2,20050827,       0000,     16.191,    -59.501,       4995,  3697.9,   2.3343,  34.9014,2,-999.0000,9, 265.1000,2,   267.9,2,   0.591,2,   0.290,2,   2.0245
06MT20050813,     428,       AR04,          1,          5,          5,2,20050827,       0000,     16.191,    -59.501,       4995,  3998.0,   2.2821,  34.8959,2,-999.0000,9, 263.7000,2,  -999.0,9,   0.477,2,   0.228,2,   1.9401
06MT20050813,     428,       AR04,          1,          4,          4,2,20050827,       0000,     16.191,    -59.501,       4995,  4297.7,   2.2464,  34.8900,2,-999.0000,9, 261.7000,2,   263.9,2,   0.337,2,   0.166,2,   1.8709
06MT20050813,     428,       AR04,          1,          3,          3,2,20050827,       0000,     16.191,    -59.501,       4995,  4595.8,   2.1921,  34.8795,2,-999.0000,9, 258.1000,2,  -999.0,9,   0.260,2,   0.133,2,   1.7828
06MT20050813,     428,       AR04,          1,          1,          1,2,20050827,       0000,     16.191,    -59.501,       4995,  5081.0,   2.1160,  34.8624,2,  34.8707,3, 252.7000,2,   251.9,2,-999.000,9,-999.000,9,   1.6494
06MT20050813,     428,       AR04,          1,          2,          2,2,20050827,       0000,     16.191,    -59.501,       4995,  5081.3,   2.1162,  34.8626,2,-999.0000,9, 252.6000,2,  -999.0,9,   0.159,2,   0.081,2,   1.6496
06MT20050813,     429,       AR04,          1,         22,         22,2,20050828,       0000,     16.216,    -59.859,       5031,    24.0,  29.5608,  35.0420,2,-999.0000,9, 206.2000,2,   201.9,3,   1.459,2,   0.928,2,  29.5549
06MT20050813,     429,       AR04,          1,         21,         21,2,20050828,       0000,     16.216,    -59.859,       5031,   408.7,  12.1617,  35.4976,2,-999.0000,9, 122.2000,2,  -999.0,9,   1.368,2,   0.729,2,  12.1072
06MT20050813,     429,       AR04,          1,         20,         20,2,20050828,       0000,     16.216,    -59.859,       5031,   889.8,   5.8980,  34.7261,2,-999.0000,9, 131.3000,2,  -999.0,9,   0.099,2,   0.054,2,   5.8182
06MT20050813,     429,       AR04,          1,         19,         19,2,20050828,       0000,     16.216,    -59.859,       5031,  1339.8,   5.1740,  35.0352,2,  35.0381,2, 217.8000,2,  -999.0,9,   0.670,2,   0.340,2,   5.0562
06MT20050813,     429,       AR04,          1,         18,         18,2,20050828,       0000,     16.216,    -59.859,       5031,  1540.6,   4.3853,  35.0113,2,-999.0000,9, 248.1000,2,  -999.0,9,   0.977,2,   0.490,2,   4.2568
06MT20050813,     429,       AR04,          1,         17,         17,2,20050828,       0000,     16.216,    -59.859,       5031,  1590.7,   4.2634,  35.0036,2,-999.0000,9, 250.9000,2,   252.5,2,-999.000,9,-999.000,9,   4.1316
06MT20050813,     429,       AR04,          1,         16,         16,2,20050828,       0000,     16.216,    -59.859,       5031,  1697.6,   4.0253,  34.9880,2,-999.0000,9, 256.7000,2,  -999.0,9,   1.044,2,   0.523,2,   3.8864
06MT20050813,     429,       AR04,          1,         15,         15,2,20050828,       0000,     16.216,    -59.859,       5031,  1749.8,   3.9241,  34.9825,2,-999.0000,9, 258.0000,2,  -999.0,9,-999.000,9,-999.000,9,   3.7816
06MT20050813,     429,       AR04,          1,         14,         14,2,20050828,       0000,     16.216,    -59.859,       5031,  1806.5,   3.8005,  34.9749,2,-999.0000,9, 260.4000,2,  -999.0,9,   0.939,2,   0.474,2,   3.6544
06MT20050813,     429,       AR04,          1,         13,         13,2,20050828,       0000,     16.216,    -59.859,       5031,  1961.9,   3.6723,  34.9816,2,-999.0000,9, 257.2000,2,  -999.0,9,-999.000,9,-999.000,9,   3.5132
06MT20050813,     429,       AR04,          1,         12,         12,2,20050828,       0000,     16.216,    -59.859,       5031,  2055.8,   3.5327,  34.9734,2,-999.0000,9, 257.9000,2,  -999.0,9,   0.544,2,   0.272,2,   3.3667
06MT20050813,     429,       AR04,          1,         11,         11,2,20050828,       0000,     16.216,    -59.859,       5031,  2200.6,   3.3749,  34.9690,2,-999.0000,9, 257.1000,2,   259.7,2,   0.348,2,   0.175,2,   3.1975
06MT20050813,     429,       AR04,          1,         10,         10,2,20050828,       0000,     16.216,    -59.859,       5031,  2390.1,   3.1502,  34.9571,2,-999.0000,9, 257.4000,2,  -999.0,9,-999.000,9,-999.000,9,   2.9582
06MT20050813,     429,       AR04,          1,          9,          9,2,20050828,       0000,     16.216,    -59.859,       5031,  2797.8,   2.8279,  34.9377,2,-999.0000,9, 256.0000,2,  -999.0,9,-999.000,9,-999.000,9,   2.6016
06MT20050813,     429,       AR04,          1,          8,          8,2,20050828,       0000,     16.216,    -59.859,       5031,  3110.3,   2.6336,  34.9237,2,-999.0000,9, 257.3000,2,  -999.0,9,   0.262,2,   0.129,2,   2.3794
06MT20050813,     429,       AR04,          1,          7,          7,2,20050828,       0000,     16.216,    -59.859,       5031,  3498.7,   2.4278,  34.9065,2,-999.0000,9, 257.9000,2,  -999.0,9,   0.258,2,   0.128,2,   2.1373
06MT20050813,     429,       AR04,          1,          6,          6,2,20050828,       0000,     16.216,    -59.859,       5031,  3797.9,   2.3293,  34.9001,2,-999.0000,9, 264.0000,2,   265.9,2,   0.527,2,   0.266,2,   2.0085
06MT20050813,     429,       AR04,          1,          5,          5,2,20050828,       0000,     16.216,    -59.859,       5031,  4097.3,   2.2786,  34.8950,2,  34.8994,2, 262.7000,2,  -999.0,9,   0.402,2,   0.206,2,   1.9253
06MT20050813,     429,       AR04,          1,          4,          4,2,20050828,       0000,     16.216,    -59.859,       5031,  4397.7,   2.2428,  34.8881,2,-999.0000,9, 260.8000,2,  -999.0,9,   0.271,2,   0.142,2,   1.8556
06MT20050813,     429,       AR04,          1,          3,          3,2,20050828,       0000,     16.216,    -59.859,       5031,  4694.1,   2.1656,  34.8745,2,-999.0000,9, 256.3000,2,  -999.0,9,   0.195,2,   0.109,2,   1.7453
06MT20050813,     429,       AR04,          1,          2,          2,2,20050828,       0000,     16.216,    -59.859,       5031,  5107.9,   2.1084,  34.8609,2,-999.0000,9, 251.9000,2,  -999.0,9,   0.144,2,   0.081,2,   1.6387
06MT20050813,     429,       AR04,          1,          1,          1,2,20050828,       0000,     16.216,    -59.859,       5031,  5107.3,   2.1084,  34.8613,2,  34.8622,2, 251.9000,2,   257.9,3,-999.000,9,-999.000,9,   1.6388
06MT20050813,     430,       AR04,          1,         11,         11,2,20050828,       0000,     16.217,    -60.141,       4844,    22.6,  29.5443,  35.0186,2,  35.0122,2, 199.6000,2,  -999.0,9,-999.000,9,-999.000,9,  29.5388
06MT20050813,     430,       AR04,          1,         10,         10,2,20050828,       0000,     16.217,    -60.141,       4844,    22.6,  29.5443,  35.0186,2,-999.0000,9, 199.6000,2,  -999.0,9,-999.000,9,-999.000,9,  29.5388
06MT20050813,     430,       AR04,          1,          9,          9,2,20050828,       0000,     16.217,    -60.141,       4844,   517.8,   9.8794,  35.1359,2,  35.0874,3, 121.9000,2,   122.3,2,-999.000,9,-999.000,9,   9.8187
06MT20050813,     430,       AR04,          1,          8,          8,2,20050828,       0000,     16.217,    -60.141,       4844,  1506.4,   4.3760,  35.0102,2,-999.0000,9, 247.0000,2,   247.2,2,-999.000,9,-999.000,9,   4.2508
06MT20050813,     430,       AR04,          1,          7,          7,2,20050828,       0000,     16.217,    -60.141,       4844,  1998.9,   3.5766,  34.9672,2,-999.0000,9, 261.3000,2,   261.8,2,-999.000,9,-999.000,9,   3.4154
06MT20050813,     430,       AR04,          1,          6,          6,2,20050828,       0000,     16.217,    -60.141,       4844,  2480.8,   3.1352,  34.9538,2,  34.9557,2, 260.3000,2,   260.4,2,-999.000,9,-999.000,9,   2.9346
06MT20050813,     430,       AR04,          1,          5,          5,2,20050828,       0000,     16.217,    -60.141,       4844,  2971.5,   2.6676,  34.9255,2,-999.0000,9, 262.6000,2,  -999.0,9,-999.000,9,-999.000,9,   2.4270
06MT20050813,     430,       AR04,          1,          4,          4,2,20050828,       0000,     16.217,    -60.141,       4844,  3498.4,   2.4442,  34.9092,2,  34.9122,2, 264.7000,2,   265.1,2,-999.000,9,-999.000,9,   2.1533
06MT20050813,     430,       AR04,          1,          3,          3,2,20050828,       0000,     16.217,    -60.141,       4844,  3998.8,   2.3095,  34.8972,2,-999.0000,9, 264.3000,2,   265.2,2,-999.000,9,-999.000,9,   1.9666
06MT20050813,     430,       AR04,          1,          2,          2,2,20050828,       0000,     16.217,    -60.141,       4844,  4500.3,   2.2560,  34.8874,2,-999.0000,9, 260.8000,2,   261.0,2,-999.000,9,-999.000,9,   1.8562
06MT20050813,     430,       AR04,          1,          1,          1,2,20050828,       0000,     16.217,    -60.141,       4844,  4920.8,   2.1828,  34.8729,2,  34.8764,2, 255.4000,2,   252.1,2,-999.000,9,-999.000,9,   1.7340
06MT20050813,     431,       AR04,          1,         22,         22,2,20050828,       0000,      16.24,    -60.316,       4460,    16.3,  29.5506,  35.0810,2,-999.0000,9, 198.8000,2,   194.9,2,   1.445,2,   0.916,2,  29.5466
06MT20050813,     431,       AR04,          1,         21,         21,2,20050828,       0000,      16.24,    -60.316,       4460,   103.1,  24.9294,  36.7249,2,-999.0000,9, 176.5000,2,  -999.0,9,   1.821,2,   1.090,2,  24.9069
06MT20050813,     431,       AR04,          1,         20,         20,2,20050828,       0000,      16.24,    -60.316,       4460,   499.2,   9.8219,  35.1356,2,-999.0000,9, 126.5000,2,  -999.0,9,   1.064,2,   0.547,2,   9.7636
06MT20050813,     431,       AR04,          1,         19,         19,2,20050828,       0000,      16.24,    -60.316,       4460,   796.5,   6.2157,  34.7305,2,-999.0000,9, 129.8000,2,  -999.0,9,   0.174,2,   0.093,2,   6.1429
06MT20050813,     431,       AR04,          1,         18,         18,2,20050828,       0000,      16.24,    -60.316,       4460,  1099.0,   5.4390,  34.9429,2,-999.0000,9, 177.3000,2,  -999.0,9,   0.208,2,   0.106,2,   5.3422
06MT20050813,     431,       AR04,          1,         17,         17,2,20050828,       0000,      16.24,    -60.316,       4460,  1303.3,   4.7641,  35.0338,2,-999.0000,9, 236.5000,2,  -999.0,9,   0.965,2,   0.478,2,   4.6539
06MT20050813,     431,       AR04,          1,         16,         16,2,20050828,       0000,      16.24,    -60.316,       4460,  1509.0,   4.2157,  34.9982,2,-999.0000,9, 253.1000,2,  -999.0,9,   1.229,2,   0.599,2,   4.0921
06MT20050813,     431,       AR04,          1,         15,         15,2,20050828,       0000,      16.24,    -60.316,       4460,  1673.9,   3.9173,  34.9813,2,-999.0000,9, 259.1000,2,  -999.0,9,   1.176,2,   0.571,2,   3.7820
06MT20050813,     431,       AR04,          1,         14,         14,2,20050828,       0000,      16.24,    -60.316,       4460,  1808.5,   3.7485,  34.9714,2,-999.0000,9, 261.0000,2,  -999.0,9,   1.092,6,   0.532,6,   3.6029
06MT20050813,     431,       AR04,          1,         13,         13,2,20050828,       0000,      16.24,    -60.316,       4460,  1944.2,   3.6121,  34.9682,2,-999.0000,9, 261.3000,2,  -999.0,9,   0.957,2,   0.463,2,   3.4556
06MT20050813,     431,       AR04,          1,         12,         12,2,20050828,       0000,      16.24,    -60.316,       4460,  2148.1,   3.5180,  34.9650,2,-999.0000,9, 260.8000,2,  -999.0,9,   0.794,2,   0.397,2,   3.3434
06MT20050813,     431,       AR04,          1,         11,         11,2,20050828,       0000,      16.24,    -60.316,       4460,  2316.9,   3.3650,  34.9622,2,-999.0000,9, 260.1000,2,   261.3,2,   0.615,2,   0.305,2,   3.1765
06MT20050813,     431,       AR04,          1,         10,         10,2,20050828,       0000,      16.24,    -60.316,       4460,  2597.4,   3.1288,  34.9522,2,-999.0000,9, 260.0000,2,  -999.0,9,   0.490,2,   0.245,2,   2.9167
06MT20050813,     431,       AR04,          1,          9,          9,2,20050828,       0000,      16.24,    -60.316,       4460,  2910.0,   2.8840,  34.9384,2,-999.0000,9, 260.8000,2,  -999.0,9,   0.471,2,   0.236,2,   2.6450
06MT20050813,     431,       AR04,          1,          8,          8,2,20050828,       0000,      16.24,    -60.316,       4460,  3348.4,   2.5258,  34.9150,2,  34.9175,2, 263.7000,2,   265.0,2,   0.560,2,   0.277,2,   2.2490
06MT20050813,     431,       AR04,          1,          7,          7,2,20050828,       0000,      16.24,    -60.316,       4460,  3699.0,   2.3527,  34.9024,2,-999.0000,9, 264.6000,2,  -999.0,9,   0.609,2,   0.300,2,   2.0422
06MT20050813,     431,       AR04,          1,          6,          6,2,20050828,       0000,      16.24,    -60.316,       4460,  3996.6,   2.3276,  34.8988,2,-999.0000,9, 264.3000,2,  -999.0,9,   0.581,2,   0.290,2,   1.9845
06MT20050813,     431,       AR04,          1,          5,          5,2,20050828,       0000,      16.24,    -60.316,       4460,  4000.0,   2.3273,  34.8984,2,-999.0000,9, 264.3000,2,  -999.0,9,-999.000,9,-999.000,9,   1.9838
06MT20050813,     431,       AR04,          1,          4,          4,2,20050828,       0000,      16.24,    -60.316,       4460,  4297.8,   2.2911,  34.8933,2,-999.0000,9, 263.1000,2,  -999.0,9,   0.503,2,   0.254,2,   1.9142
06MT20050813,     431,       AR04,          1,          3,          3,2,20050828,       0000,      16.24,    -60.316,       4460,  4497.8,   2.2486,  34.8874,2,-999.0000,9, 260.5000,2,  -999.0,9,   0.408,2,   0.208,2,   1.8493
06MT20050813,     431,       AR04,          1,          2,          2,2,20050828,       0000,      16.24,    -60.316,       4460,  4521.6,   2.2344,  34.8851,2,-999.0000,9, 260.0000,2,  -999.0,9,   0.378,2,   0.193,2,   1.8327
06MT20050813,     431,       AR04,          1,          1,          1,2,20050828,       0000,      16.24,    -60.316,       4460,  4522.7,   2.2309,  34.8849,2,  34.8854,2, 260.0000,2,   260.0,2,-999.000,9,-999.000,9,   1.8292