BOTTLE,20120828SIOCCHMYS
EXPOCODE,STNNBR,SECT_ID,CASTNO,SAMPNO,BTLNBR,BTLNBR_FLAG_W,DATE,TIME,LATITUDE,LONGITUDE,DEPTH,CTDPRS,CTDTMP,CTDSAL,CTDSAL_FLAG_W,SALNTY,SALNTY_FLAG_W,CTDOXY,CTDOXY_FLAG_W,OXYGEN,OXYGEN_FLAG_W,CFC-11,CFC-11_FLAG_W,CFC-12,CFC-12_FLAG_W,THETA
,,,,,,,,,,,,DBAR,ITS-90,PSS-78,,PSS-78,,UMOL/KG,,UMOL/KG,,PMOL/KG,,PMOL/KG,,DEG C
06MT20050813,     469,       AR04,          1,         16,         16,2,20050901,       0000,       11.5,    -60.418,       1113,     7.5,  30.2179,  32.6253,2,-999.0000,9, 202.5000,2,  -999.0,9,-999.000,9,-999.000,9,  30.2160
06MT20050813,     469,       AR04,          1,         21,         21,2,20050901,       0000,       11.5,    -60.418,       1113,     7.6,  30.1955,  32.6988,2,-999.0000,9, 202.5000,2,  -999.0,9,-999.000,9,-999.000,9,  30.1936
06MT20050813,     469,       AR04,          1,         19,         19,2,20050901,       0000,       11.5,    -60.418,       1113,     7.6,  30.2002,  32.6812,2,-999.0000,9, 202.5000,2,  -999.0,9,-999.000,9,-999.000,9,  30.1983
06MT20050813,     469,       AR04,          1,         13,         13,2,20050901,       0000,       11.5,    -60.418,       1113,     7.6,  30.1955,  32.6988,2,-999.0000,9, 202.5000,2,  -999.0,9,-999.000,9,-999.000,9,  30.1936
06MT20050813,     469,       AR04,          1,          5,          5,2,20050901,       0000,       11.5,    -60.418,       1113,   898.0,   5.2503,  34.7298,2,-999.0000,9, 146.4000,2,  -999.0,9,-999.000,9,-999.000,9,   5.1741
06MT20050813,     469,       AR04,          1,          6,          6,2,20050901,       0000,       11.5,    -60.418,       1113,   898.0,   5.2495,  34.7295,2,-999.0000,9, 146.4000,2,  -999.0,9,-999.000,9,-999.000,9,   5.1733
06MT20050813,     469,       AR04,          1,         22,         22,2,20050901,       0000,       11.5,    -60.418,       1113,     7.7,  30.1916,  32.7110,2,-999.0000,9, 202.4000,2,  -999.0,9,-999.000,9,-999.000,9,  30.1897
06MT20050813,     469,       AR04,          1,         20,         20,2,20050901,       0000,       11.5,    -60.418,       1113,     7.7,  30.1916,  32.7110,2,-999.0000,9, 202.4000,2,  -999.0,9,-999.000,9,-999.000,9,  30.1897
06MT20050813,     469,       AR04,          1,         15,         15,2,20050901,       0000,       11.5,    -60.418,       1113,     7.7,  30.1898,  32.7215,2,-999.0000,9, 202.4000,2,  -999.0,9,-999.000,9,-999.000,9,  30.1879
06MT20050813,     469,       AR04,          1,         18,         18,2,20050901,       0000,       11.5,    -60.418,       1113,     7.8,  30.1833,  32.7312,2,-999.0000,9, 202.3000,2,  -999.0,9,-999.000,9,-999.000,9,  30.1814
06MT20050813,     469,       AR04,          1,         11,         11,2,20050901,       0000,       11.5,    -60.418,       1113,     7.6,  30.1955,  32.6988,2,-999.0000,9, 202.5000,2,  -999.0,9,   1.473,2,   0.926,2,  30.1936
06MT20050813,     469,       AR04,          1,         12,         12,2,20050901,       0000,       11.5,    -60.418,       1113,     7.6,  30.1955,  32.6988,2,-999.0000,9, 202.5000,2,  -999.0,9,-999.000,9,-999.000,9,  30.1936
06MT20050813,     469,       AR04,          1,          4,          4,2,20050901,       0000,       11.5,    -60.418,       1113,   899.1,   5.2538,  34.7330,2,-999.0000,9, 146.7000,2,  -999.0,9,   0.071,2,   0.038,2,   5.1775
06MT20050813,     469,       AR04,          1,         14,         14,2,20050901,       0000,       11.5,    -60.418,       1113,     8.0,  30.1649,  32.8015,2,-999.0000,9, 202.1000,2,  -999.0,9,-999.000,9,-999.000,9,  30.1629
06MT20050813,     469,       AR04,          1,          9,          9,2,20050901,       0000,       11.5,    -60.418,       1113,   295.9,  12.4391,  35.4235,2,-999.0000,9, 124.9000,2,  -999.0,9,   1.517,2,   0.791,2,  12.3992
06MT20050813,     469,       AR04,          1,          1,          1,2,20050901,       0000,       11.5,    -60.418,       1113,  1096.9,   5.1412,  34.9315,2,  34.9305,2, 189.5000,2,   187.1,2,-999.000,9,-999.000,9,   5.0471
06MT20050813,     469,       AR04,          1,         17,         17,2,20050901,       0000,       11.5,    -60.418,       1113,     7.8,  30.1833,  32.7312,2,-999.0000,9, 202.3000,2,  -999.0,9,-999.000,9,-999.000,9,  30.1814
06MT20050813,     469,       AR04,          1,         10,         10,2,20050901,       0000,       11.5,    -60.418,       1113,    15.7,  29.5284,  34.8770,2,-999.0000,9, 198.9000,2,  -999.0,9,-999.000,9,-999.000,9,  29.5246
06MT20050813,     469,       AR04,          1,          3,          3,2,20050901,       0000,       11.5,    -60.418,       1113,  1097.2,   5.1423,  34.9306,2,-999.0000,9, 189.5000,2,  -999.0,9,   0.295,2,   0.148,2,   5.0482
06MT20050813,     469,       AR04,          1,          8,          8,2,20050901,       0000,       11.5,    -60.418,       1113,   498.1,   7.3805,  34.7271,2,-999.0000,9, 122.4000,2,  -999.0,9,   0.540,2,   0.279,2,   7.3316
06MT20050813,     469,       AR04,          1,          2,          2,2,20050901,       0000,       11.5,    -60.418,       1113,  1097.1,   5.1409,  34.9320,2,-999.0000,9, 189.5000,2,  -999.0,9,-999.000,9,-999.000,9,   5.0468
06MT20050813,     469,       AR04,          1,          7,          7,2,20050901,       0000,       11.5,    -60.418,       1113,   895.6,   5.2385,  34.7256,2,  34.7441,3, 145.9000,2,   148.5,2,-999.000,9,-999.000,9,   5.1626
06MT20050813,     470,       AR04,          1,         11,         11,2,20050901,       0000,     11.384,     -60.41,       1191,    11.3,  29.8176,  34.4880,2,-999.0000,9, 204.0000,2,   201.6,2,   1.488,2,   0.925,2,  29.8148
06MT20050813,     470,       AR04,          1,         10,         10,2,20050901,       0000,     11.384,     -60.41,       1191,    13.0,  29.7616,  34.5662,2,-999.0000,9, 203.3000,2,  -999.0,9,-999.000,9,-999.000,9,  29.7584
06MT20050813,     470,       AR04,          1,          9,          9,2,20050901,       0000,     11.384,     -60.41,       1191,   101.9,  20.2123,  36.5631,2,-999.0000,9, 119.4000,2,  -999.0,9,   1.971,2,   1.132,2,  20.1932
06MT20050813,     470,       AR04,          1,          8,          8,2,20050901,       0000,     11.384,     -60.41,       1191,   397.7,   9.1054,  34.9091,2,-999.0000,9, 118.8000,2,   120.6,2,   1.026,2,   0.536,2,   9.0614
06MT20050813,     470,       AR04,          1,          7,          7,2,20050901,       0000,     11.384,     -60.41,       1191,   793.0,   5.2940,  34.6718,2,-999.0000,9, 141.5000,2,  -999.0,9,-999.000,9,-999.000,9,   5.2271
06MT20050813,     470,       AR04,          1,          6,          6,2,20050901,       0000,     11.384,     -60.41,       1191,   794.9,   5.2940,  34.6718,2,-999.0000,9, 141.5000,2,  -999.0,9,-999.000,9,-999.000,9,   5.2269
06MT20050813,     470,       AR04,          1,          5,          5,2,20050901,       0000,     11.384,     -60.41,       1191,   796.6,   5.2940,  34.6721,2,-999.0000,9, 141.5000,2,  -999.0,9,-999.000,9,-999.000,9,   5.2268
06MT20050813,     470,       AR04,          1,          4,          4,2,20050901,       0000,     11.384,     -60.41,       1191,   798.5,   5.2938,  34.6720,2,  34.6733,2, 141.6000,2,   140.9,2,   0.084,2,   0.046,2,   5.2264
06MT20050813,     470,       AR04,          1,          3,          3,2,20050901,       0000,     11.384,     -60.41,       1191,  1181.0,   5.0009,  34.9777,2,-999.0000,9, 208.8000,2,  -999.0,9,   0.472,2,   0.230,2,   4.9001
06MT20050813,     470,       AR04,          1,          2,          2,2,20050901,       0000,     11.384,     -60.41,       1191,  1181.0,   5.0009,  34.9777,2,-999.0000,9, 208.8000,2,  -999.0,9,-999.000,9,-999.000,9,   4.9001
06MT20050813,     470,       AR04,          1,          1,          1,2,20050901,       0000,     11.384,     -60.41,       1191,  1181.0,   5.0009,  34.9777,2,  34.9769,2, 208.8000,2,   203.3,3,-999.000,9,-999.000,9,   4.9001
06MT20050813,     471,       AR04,          1,          4,          4,2,20050901,       0000,     11.502,    -60.351,       1415,   300.4,  11.8021,  35.3489,2,  35.3099,3, 123.6000,2,   121.9,2,-999.000,9,-999.000,9,  11.7630
06MT20050813,     471,       AR04,          1,          3,          3,2,20050901,       0000,     11.502,    -60.351,       1415,   708.0,   5.9850,  34.6796,2,-999.0000,9, 125.0000,2,   128.4,2,-999.000,9,-999.000,9,   5.9220
06MT20050813,     471,       AR04,          1,          2,          2,2,20050901,       0000,     11.502,    -60.351,       1415,  1198.2,   4.8907,  35.0023,2,-999.0000,9, 219.3000,2,   218.9,2,-999.000,9,-999.000,9,   4.7892
06MT20050813,     471,       AR04,          1,          1,          1,2,20050901,       0000,     11.502,    -60.351,       1415,  1400.8,   4.3367,  35.0033,2,  35.0049,2, 245.6000,2,   249.4,2,-999.000,9,-999.000,9,   4.2218
06MT20050813,     472,       AR04,          1,         14,         14,2,20050901,       0000,     11.658,    -60.301,       1457,    14.5,  29.8736,  34.7341,2,  34.7348,2, 192.6000,2,   199.2,2,-999.000,9,-999.000,9,  29.8700
06MT20050813,     472,       AR04,          1,         13,         13,2,20050901,       0000,     11.658,    -60.301,       1457,    14.5,  29.8736,  34.7341,2,-999.0000,9, 192.6000,2,  -999.0,9,   1.434,2,   0.903,2,  29.8700
06MT20050813,     472,       AR04,          1,         12,         12,2,20050901,       0000,     11.658,    -60.301,       1457,   242.5,  13.7095,  35.7347,2,-999.0000,9, 122.0000,2,  -999.0,9,   1.694,2,   0.902,2,  13.6747
06MT20050813,     472,       AR04,          1,         11,         11,2,20050901,       0000,     11.658,    -60.301,       1457,   620.7,   6.7504,  34.7582,2,-999.0000,9, 113.6000,2,   120.9,3,   0.175,2,   0.090,2,   6.6919
06MT20050813,     472,       AR04,          1,         10,         10,2,20050901,       0000,     11.658,    -60.301,       1457,   897.2,   4.8921,  34.6232,2,-999.0000,9, 145.6000,2,  -999.0,9,-999.000,9,-999.000,9,   4.8186
06MT20050813,     472,       AR04,          1,          9,          9,2,20050901,       0000,     11.658,    -60.301,       1457,   898.3,   4.8913,  34.6233,2,-999.0000,9, 145.7000,2,  -999.0,9,   0.055,2,   0.029,2,   4.8177
06MT20050813,     472,       AR04,          1,          8,          8,2,20050901,       0000,     11.658,    -60.301,       1457,  1106.0,   5.1610,  34.9160,2,-999.0000,9, 182.6000,2,  -999.0,9,   0.312,2,   0.159,2,   5.0659
06MT20050813,     472,       AR04,          1,          7,          7,2,20050901,       0000,     11.658,    -60.301,       1457,  1107.9,   5.1613,  34.9175,2,-999.0000,9, 183.2000,2,  -999.0,9,-999.000,9,-999.000,9,   5.0660
06MT20050813,     472,       AR04,          1,          6,          6,2,20050901,       0000,     11.658,    -60.301,       1457,  1298.3,   4.6515,  35.0123,2,-999.0000,9, 233.4000,2,  -999.0,9,-999.000,9,-999.000,9,   4.5429
06MT20050813,     472,       AR04,          1,          5,          5,2,20050901,       0000,     11.658,    -60.301,       1457,  1300.5,   4.6478,  35.0123,2,-999.0000,9, 233.8000,2,  -999.0,9,-999.000,9,-999.000,9,   4.5390
06MT20050813,     472,       AR04,          1,          4,          4,2,20050901,       0000,     11.658,    -60.301,       1457,  1301.3,   4.6456,  35.0123,2,-999.0000,9, 233.9000,2,   232.8,2,   0.783,2,   0.385,2,   4.5368
06MT20050813,     472,       AR04,          1,          3,          3,2,20050901,       0000,     11.658,    -60.301,       1457,  1403.7,   4.3085,  35.0029,2,-999.0000,9, 247.2000,2,  -999.0,9,   0.871,2,   0.430,2,   4.1936
06MT20050813,     472,       AR04,          1,          2,          2,2,20050901,       0000,     11.658,    -60.301,       1457,  1404.2,   4.3076,  35.0026,2,-999.0000,9, 247.2000,2,  -999.0,9,-999.000,9,-999.000,9,   4.1927
06MT20050813,     472,       AR04,          1,          1,          1,2,20050901,       0000,     11.658,    -60.301,       1457,  1403.9,   4.3074,  35.0032,2,  35.0019,2, 247.2000,2,  -999.0,9,-999.000,9,-999.000,9,   4.1925
06MT20050813,     473,       AR04,          1,         13,         13,2,20050901,       0000,     11.808,    -60.251,       1596,    13.7,  29.7678,  34.3305,2,-999.0000,9, 195.9000,2,  -999.0,9,-999.000,9,-999.000,9,  29.7644
06MT20050813,     473,       AR04,          1,         14,         14,2,20050901,       0000,     11.808,    -60.251,       1596,    13.8,  29.7591,  34.3602,2,-999.0000,9, 195.9000,2,   194.1,6,   1.493,2,   0.931,2,  29.7557
06MT20050813,     473,       AR04,          1,         12,         12,2,20050901,       0000,     11.808,    -60.251,       1596,   301.9,  11.7221,  35.3688,2,-999.0000,9, 121.9000,2,   120.5,2,   1.455,2,   0.752,2,  11.6830
06MT20050813,     473,       AR04,          1,         11,         11,2,20050901,       0000,     11.808,    -60.251,       1596,   698.8,   5.3154,  34.5689,2,  34.5696,2, 136.4000,2,  -999.0,9,   0.130,2,   0.066,2,   5.2569
06MT20050813,     473,       AR04,          1,         10,         10,2,20050901,       0000,     11.808,    -60.251,       1596,   997.6,   4.9310,  34.6860,2,-999.0000,9, 149.9000,2,  -999.0,9,-999.000,9,-999.000,9,   4.8481
06MT20050813,     473,       AR04,          1,          9,          9,2,20050901,       0000,     11.808,    -60.251,       1596,   999.4,   4.9332,  34.6878,2,-999.0000,9, 150.0000,2,  -999.0,9,   0.048,2,   0.022,2,   4.8501
06MT20050813,     473,       AR04,          1,          8,          8,2,20050901,       0000,     11.808,    -60.251,       1596,  1205.0,   4.9970,  34.9817,2,-999.0000,9, 207.3000,2,   208.9,2,   0.443,2,   0.218,2,   4.8939
06MT20050813,     473,       AR04,          1,          7,          7,2,20050901,       0000,     11.808,    -60.251,       1596,  1207.5,   4.9811,  34.9834,2,-999.0000,9, 207.9000,2,  -999.0,9,-999.000,9,-999.000,9,   4.8779
06MT20050813,     473,       AR04,          1,          6,          6,2,20050901,       0000,     11.808,    -60.251,       1596,  1480.6,   4.1922,  34.9980,2,-999.0000,9, 251.4000,2,  -999.0,9,-999.000,9,-999.000,9,   4.0715
06MT20050813,     473,       AR04,          1,          5,          5,2,20050901,       0000,     11.808,    -60.251,       1596,  1482.1,   4.1926,  34.9978,2,-999.0000,9, 251.4000,2,  -999.0,9,-999.000,9,-999.000,9,   4.0718
06MT20050813,     473,       AR04,          1,          4,          4,2,20050901,       0000,     11.808,    -60.251,       1596,  1487.9,   4.1846,  34.9980,2,-999.0000,9, 251.5000,2,  -999.0,9,   0.921,2,   0.452,2,   4.0633
06MT20050813,     473,       AR04,          1,          3,          3,2,20050901,       0000,     11.808,    -60.251,       1596,  1585.7,   4.0801,  34.9926,2,-999.0000,9, 252.8000,2,  -999.0,9,   0.841,2,   0.418,2,   3.9510
06MT20050813,     473,       AR04,          1,          1,          1,2,20050901,       0000,     11.808,    -60.251,       1596,  1586.2,   4.0799,  34.9927,2,  34.9931,2, 252.8000,2,   250.9,2,-999.000,9,-999.000,9,   3.9508
06MT20050813,     473,       AR04,          1,          2,          2,2,20050901,       0000,     11.808,    -60.251,       1596,  1586.2,   4.0799,  34.9926,2,-999.0000,9, 252.8000,2,  -999.0,9,-999.000,9,-999.000,9,   3.9508
06MT20050813,     474,       AR04,          1,         14,         14,2,20050901,       0000,     11.966,    -60.201,       1823,    10.0,  29.7238,  34.1383,2,-999.0000,9, 195.6000,2,   198.1,2,-999.000,9,-999.000,9,  29.7213
06MT20050813,     474,       AR04,          1,         13,         13,2,20050901,       0000,     11.966,    -60.201,       1823,    10.9,  29.7187,  34.1339,2,-999.0000,9, 195.9000,2,  -999.0,9,   1.479,2,   0.904,2,  29.7160
06MT20050813,     474,       AR04,          1,         12,         12,2,20050901,       0000,     11.966,    -60.201,       1823,   403.2,   9.1345,  34.9997,2,-999.0000,9, 117.7000,2,   119.7,2,   0.898,2,   0.461,2,   9.0898
06MT20050813,     474,       AR04,          1,         11,         11,2,20050901,       0000,     11.966,    -60.201,       1823,   802.3,   5.0858,  34.5735,2,  34.5741,2, 140.2000,2,   140.2,2,   0.096,2,   0.050,2,   5.0195
06MT20050813,     474,       AR04,          1,         10,         10,2,20050901,       0000,     11.966,    -60.201,       1823,   802.8,   5.0815,  34.5734,2,-999.0000,9, 140.2000,2,  -999.0,9,-999.000,9,-999.000,9,   5.0152
06MT20050813,     474,       AR04,          1,          9,          9,2,20050901,       0000,     11.966,    -60.201,       1823,  1099.1,   5.2306,  34.8676,2,-999.0000,9, 168.9000,2,  -999.0,9,   0.147,2,   0.074,2,   5.1357
06MT20050813,     474,       AR04,          1,          8,          8,2,20050901,       0000,     11.966,    -60.201,       1823,  1403.5,   4.4704,  35.0108,2,-999.0000,9, 241.8000,2,  -999.0,9,   0.883,2,   0.429,2,   4.3538
06MT20050813,     474,       AR04,          1,          7,          7,2,20050901,       0000,     11.966,    -60.201,       1823,  1403.6,   4.4693,  35.0104,2,-999.0000,9, 241.8000,2,  -999.0,9,-999.000,9,-999.000,9,   4.3527
06MT20050813,     474,       AR04,          1,          6,          6,2,20050901,       0000,     11.966,    -60.201,       1823,  1405.9,   4.4610,  35.0095,2,-999.0000,9, 242.1000,2,  -999.0,9,-999.000,9,-999.000,9,   4.3443
06MT20050813,     474,       AR04,          1,          5,          5,2,20050901,       0000,     11.966,    -60.201,       1823,  1598.7,   4.0624,  34.9926,2,-999.0000,9, 253.2000,2,  -999.0,9,-999.000,9,-999.000,9,   3.9323
06MT20050813,     474,       AR04,          1,          4,          4,2,20050901,       0000,     11.966,    -60.201,       1823,  1599.7,   4.0610,  34.9924,2,-999.0000,9, 253.2000,2,   254.7,6,   0.853,2,   0.416,2,   3.9308
06MT20050813,     474,       AR04,          1,          3,          3,2,20050901,       0000,     11.966,    -60.201,       1823,  1817.3,   3.8549,  34.9845,2,-999.0000,9, 253.9000,2,  -999.0,9,   0.638,6,   0.318,6,   3.7070
06MT20050813,     474,       AR04,          1,          2,          2,2,20050901,       0000,     11.966,    -60.201,       1823,  1817.0,   3.8551,  34.9846,2,-999.0000,9, 253.9000,2,  -999.0,9,-999.000,9,-999.000,9,   3.7072
06MT20050813,     474,       AR04,          1,          1,          1,2,20050901,       0000,     11.966,    -60.201,       1823,  1817.3,   3.8549,  34.9843,2,  34.9852,2, 253.9000,2,   254.5,2,-999.000,9,-999.000,9,   3.7070