BOTTLE,20120828SIOCCHMYS
EXPOCODE,STNNBR,SECT_ID,CASTNO,SAMPNO,BTLNBR,BTLNBR_FLAG_W,DATE,TIME,LATITUDE,LONGITUDE,DEPTH,CTDPRS,CTDTMP,CTDSAL,CTDSAL_FLAG_W,SALNTY,SALNTY_FLAG_W,CTDOXY,CTDOXY_FLAG_W,OXYGEN,OXYGEN_FLAG_W,CFC-11,CFC-11_FLAG_W,CFC-12,CFC-12_FLAG_W,THETA
,,,,,,,,,,,,DBAR,ITS-90,PSS-78,,PSS-78,,UMOL/KG,,UMOL/KG,,PMOL/KG,,PMOL/KG,,DEG C
06MT20050813,     546,       AR04,          1,         11,         11,2,20050907,       0000,     15.057,    -61.207,       1460,    10.7,  30.0807,  34.3539,2,-999.0000,9, 198.0000,2,  -999.0,9,   1.458,2,   0.936,2,  30.0780
06MT20050813,     546,       AR04,          1,         12,         12,2,20050907,       0000,     15.057,    -61.207,       1460,    13.4,  30.0996,  34.3983,2,-999.0000,9, 199.3000,2,  -999.0,9,-999.000,9,-999.000,9,  30.0963
06MT20050813,     546,       AR04,          1,         10,         10,2,20050907,       0000,     15.057,    -61.207,       1460,   248.8,  15.5903,  35.9723,2,-999.0000,9, 136.7000,2,  -999.0,9,-999.000,9,-999.000,9,  15.5513
06MT20050813,     546,       AR04,          1,          9,          9,2,20050907,       0000,     15.057,    -61.207,       1460,   252.5,  15.3563,  35.9228,2,-999.0000,9, 135.9000,2,  -999.0,9,   1.848,6,   1.032,6,  15.3171
06MT20050813,     546,       AR04,          1,          8,          8,2,20050907,       0000,     15.057,    -61.207,       1460,   508.0,   9.2985,  35.0267,2,-999.0000,9, 121.1000,2,   125.4,3,-999.000,9,-999.000,9,   9.2412
06MT20050813,     546,       AR04,          1,          7,          7,2,20050907,       0000,     15.057,    -61.207,       1460,   511.7,   9.2735,  35.0264,2,-999.0000,9, 121.1000,2,  -999.0,9,-999.000,9,-999.000,9,   9.2158
06MT20050813,     546,       AR04,          1,          6,          6,2,20050907,       0000,     15.057,    -61.207,       1460,   513.2,   9.1841,  35.0072,2,-999.0000,9, 121.0000,2,  -999.0,9,   0.945,2,   0.503,2,   9.1266
06MT20050813,     546,       AR04,          1,          5,          5,2,20050907,       0000,     15.057,    -61.207,       1460,   897.3,   5.7873,  34.8314,2,-999.0000,9, 149.0000,2,  -999.0,9,-999.000,9,-999.000,9,   5.7074
06MT20050813,     546,       AR04,          1,          4,          4,2,20050907,       0000,     15.057,    -61.207,       1460,   899.8,   5.7821,  34.8313,2,  34.8316,2, 149.6000,2,   150.4,2,   0.130,2,   0.070,2,   5.7020
06MT20050813,     546,       AR04,          1,          3,          3,2,20050907,       0000,     15.057,    -61.207,       1460,  1434.5,   4.2733,  34.9623,2,-999.0000,9, 203.0000,2,  -999.0,9,   0.035,3,   0.027,3,   4.1561
06MT20050813,     546,       AR04,          1,          1,          1,2,20050907,       0000,     15.057,    -61.207,       1460,  1434.9,   4.2730,  34.9624,2,  34.9634,2, 203.0000,2,   187.9,3,-999.000,9,-999.000,9,   4.1557
06MT20050813,     546,       AR04,          1,          2,          2,2,20050907,       0000,     15.057,    -61.207,       1460,  1434.6,   4.2736,  34.9622,2,-999.0000,9, 203.0000,2,  -999.0,9,-999.000,9,-999.000,9,   4.1564
06MT20050813,     547,       AR04,          1,         13,         13,2,20050907,       0000,     15.099,    -61.229,       2057,     5.7,  30.1658,  34.3626,2,-999.0000,9, 196.7000,2,   195.4,2,-999.000,9,-999.000,9,  30.1644
06MT20050813,     547,       AR04,          1,         12,         12,2,20050907,       0000,     15.099,    -61.229,       2057,    15.8,  30.1590,  34.5825,2,-999.0000,9, 199.7000,2,  -999.0,9,   1.489,2,   0.931,2,  30.1551
06MT20050813,     547,       AR04,          1,         11,         11,2,20050907,       0000,     15.099,    -61.229,       2057,   405.8,  11.9089,  35.3873,2,-999.0000,9, 124.9000,2,  -999.0,9,-999.000,9,-999.000,9,  11.8555
06MT20050813,     547,       AR04,          1,         10,         10,2,20050907,       0000,     15.099,    -61.229,       2057,   406.2,  11.8196,  35.3781,2,-999.0000,9, 125.0000,2,  -999.0,9,   1.454,2,   0.785,2,  11.7665
06MT20050813,     547,       AR04,          1,          9,          9,2,20050907,       0000,     15.099,    -61.229,       2057,   771.4,   6.4197,  34.7563,2,-999.0000,9, 129.3000,2,  -999.0,9,   0.211,2,   0.113,2,   6.3481
06MT20050813,     547,       AR04,          1,          8,          8,2,20050907,       0000,     15.099,    -61.229,       2057,  1082.3,   4.7434,  34.9380,2,  34.9421,2, 190.8000,2,  -999.0,9,-999.000,9,-999.000,9,   4.6539
06MT20050813,     547,       AR04,          1,          7,          7,2,20050907,       0000,     15.099,    -61.229,       2057,  1082.9,   4.7397,  34.9388,2,-999.0000,9, 190.8000,2,  -999.0,9,-999.000,9,-999.000,9,   4.6502
06MT20050813,     547,       AR04,          1,          6,          6,2,20050907,       0000,     15.099,    -61.229,       2057,  1086.5,   4.7341,  34.9390,2,-999.0000,9, 191.1000,2,  -999.0,9,   0.047,2,   0.027,2,   4.6443
06MT20050813,     547,       AR04,          1,          5,          5,2,20050907,       0000,     15.099,    -61.229,       2057,  1595.7,   4.2169,  34.9662,2,-999.0000,9, 204.1000,2,  -999.0,9,-999.000,9,-999.000,9,   4.0853
06MT20050813,     547,       AR04,          1,          4,          4,2,20050907,       0000,     15.099,    -61.229,       2057,  1597.7,   4.2144,  34.9667,2,-999.0000,9, 204.1000,2,   203.0,2,   0.026,3,   0.021,3,   4.0826
06MT20050813,     547,       AR04,          1,          3,          3,2,20050907,       0000,     15.099,    -61.229,       2057,  2064.4,   4.1485,  34.9713,2,-999.0000,9, 204.3000,2,  -999.0,9,   0.025,3,   0.029,3,   3.9724
06MT20050813,     547,       AR04,          1,          2,          2,2,20050907,       0000,     15.099,    -61.229,       2057,  2064.3,   4.1488,  34.9709,2,-999.0000,9, 204.3000,2,  -999.0,9,-999.000,9,-999.000,9,   3.9727
06MT20050813,     547,       AR04,          1,          1,          1,2,20050907,       0000,     15.099,    -61.229,       2057,  2064.1,   4.1487,  34.9708,2,  34.9742,2, 204.3000,2,   203.2,2,-999.000,9,-999.000,9,   3.9726
06MT20050813,     548,       AR04,          1,         10,         10,2,20050907,       0000,     15.151,    -61.254,       1464,     9.6,  30.0311,  34.3282,2,-999.0000,9, 196.8000,2,  -999.0,9,-999.000,9,-999.000,9,  30.0287
06MT20050813,     548,       AR04,          1,         11,         11,2,20050907,       0000,     15.151,    -61.254,       1464,    10.2,  30.0344,  34.3317,2,-999.0000,9, 196.9000,2,  -999.0,9,   1.478,2,   0.932,2,  30.0319
06MT20050813,     548,       AR04,          1,          9,          9,2,20050907,       0000,     15.151,    -61.254,       1464,   297.6,  13.8964,  35.6797,2,-999.0000,9, 130.4000,2,   129.6,2,   1.780,2,   0.965,2,  13.8532
06MT20050813,     548,       AR04,          1,          4,          4,2,20050907,       0000,     15.151,    -61.254,       1464,   998.7,   5.3846,  34.8514,2,-999.0000,9, 161.7000,2,  -999.0,9,   0.107,2,   0.059,2,   5.2979
06MT20050813,     548,       AR04,          1,          8,          8,2,20050907,       0000,     15.151,    -61.254,       1464,   697.9,   7.1380,  34.8085,2,  34.8201,3, 124.9000,2,   124.5,2,-999.000,9,-999.000,9,   7.0697
06MT20050813,     548,       AR04,          1,          6,          6,2,20050907,       0000,     15.151,    -61.254,       1464,   697.8,   7.1243,  34.8090,2,-999.0000,9, 124.9000,2,  -999.0,9,   0.344,2,   0.188,2,   7.0561
06MT20050813,     548,       AR04,          1,          7,          7,2,20050907,       0000,     15.151,    -61.254,       1464,   698.0,   7.1454,  34.8134,2,-999.0000,9, 124.9000,2,  -999.0,9,-999.000,9,-999.000,9,   7.0771
06MT20050813,     548,       AR04,          1,          5,          5,2,20050907,       0000,     15.151,    -61.254,       1464,   995.3,   5.3834,  34.8516,2,-999.0000,9, 160.8000,2,  -999.0,9,-999.000,9,-999.000,9,   5.2971
06MT20050813,     548,       AR04,          1,          3,          3,2,20050907,       0000,     15.151,    -61.254,       1464,  1461.4,   4.2392,  34.9639,2,-999.0000,9, 203.7000,2,  -999.0,9,   0.030,3,   0.023,3,   4.1199
06MT20050813,     548,       AR04,          1,          1,          1,2,20050907,       0000,     15.151,    -61.254,       1464,  1465.9,   4.2377,  34.9644,2,  34.9651,2, 203.8000,2,   200.1,2,-999.000,9,-999.000,9,   4.1180
06MT20050813,     548,       AR04,          1,          2,          2,2,20050907,       0000,     15.151,    -61.254,       1464,  1463.8,   4.2417,  34.9644,2,-999.0000,9, 203.7000,2,  -999.0,9,-999.000,9,-999.000,9,   4.1221
06MT20050813,     549,       AR04,          1,         11,         11,2,20050907,       0000,     15.186,    -61.279,        856,    11.9,  29.9320,  34.8993,2,  34.9033,2, 199.3000,2,   202.6,6,   1.523,2,   0.949,2,  29.9291
06MT20050813,     549,       AR04,          1,         10,         10,2,20050907,       0000,     15.186,    -61.279,        856,    11.9,  29.9320,  34.8993,2,-999.0000,9, 199.3000,2,  -999.0,9,-999.000,9,-999.000,9,  29.9291
06MT20050813,     549,       AR04,          1,          9,          9,2,20050907,       0000,     15.186,    -61.279,        856,   152.6,  22.4333,  36.8981,2,-999.0000,9, 157.3000,2,  -999.0,9,   2.038,2,   1.206,2,  22.4024
06MT20050813,     549,       AR04,          1,          8,          8,2,20050907,       0000,     15.186,    -61.279,        856,   351.6,  13.4294,  35.6025,2,-999.0000,9, 127.6000,2,   121.7,3,-999.000,9,-999.000,9,  13.3794
06MT20050813,     549,       AR04,          1,          7,          7,2,20050907,       0000,     15.186,    -61.279,        856,   351.9,  13.4132,  35.5976,2,-999.0000,9, 127.6000,2,  -999.0,9,-999.000,9,-999.000,9,  13.3632
06MT20050813,     549,       AR04,          1,          6,          6,2,20050907,       0000,     15.186,    -61.279,        856,   351.9,  13.4100,  35.5958,2,-999.0000,9, 127.6000,2,  -999.0,9,   1.755,2,   0.948,2,  13.3600
06MT20050813,     549,       AR04,          1,          5,          5,2,20050907,       0000,     15.186,    -61.279,        856,   552.0,   9.1866,  35.0540,2,-999.0000,9, 122.5000,2,  -999.0,9,-999.000,9,-999.000,9,   9.1246
06MT20050813,     549,       AR04,          1,          4,          4,2,20050907,       0000,     15.186,    -61.279,        856,   552.2,   9.1704,  35.0480,2,-999.0000,9, 122.5000,2,   120.3,2,   0.833,2,   0.445,2,   9.1084
06MT20050813,     549,       AR04,          1,          3,          3,2,20050907,       0000,     15.186,    -61.279,        856,   846.2,   6.4833,  34.8082,2,-999.0000,9, 134.5000,2,  -999.0,9,   0.216,2,   0.121,2,   6.4038
06MT20050813,     549,       AR04,          1,          2,          2,2,20050907,       0000,     15.186,    -61.279,        856,   846.2,   6.4833,  34.8082,2,-999.0000,9, 134.5000,2,  -999.0,9,-999.000,9,-999.000,9,   6.4038
06MT20050813,     549,       AR04,          1,          1,          1,2,20050907,       0000,     15.186,    -61.279,        856,   846.2,   6.4833,  34.8082,2,  34.8038,2, 134.5000,2,   131.4,2,-999.000,9,-999.000,9,   6.4038
06MT20050813,     551,       AR04,          1,          5,          5,2,20050907,       0000,     14.999,    -61.383,       2369,    12.4,  30.0395,  34.3319,2,  34.8054,3, 198.7000,2,  -999.0,9,-999.000,9,-999.000,9,  30.0364
06MT20050813,     551,       AR04,          1,          4,          4,2,20050907,       0000,     14.999,    -61.383,       2369,  1145.7,   4.6068,  34.9466,2,  34.9468,2, 195.3000,2,  -999.0,9,-999.000,9,-999.000,9,   4.5127
06MT20050813,     551,       AR04,          1,          3,          3,2,20050907,       0000,     14.999,    -61.383,       2369,  1603.6,   4.2282,  34.9659,2,  34.9708,2, 204.1000,2,  -999.0,9,-999.000,9,-999.000,9,   4.0957
06MT20050813,     551,       AR04,          1,          2,          2,2,20050907,       0000,     14.999,    -61.383,       2369,  2001.2,   4.1517,  34.9705,2,  34.9722,2, 205.8000,2,  -999.0,9,-999.000,9,-999.000,9,   3.9818
06MT20050813,     551,       AR04,          1,          1,          1,2,20050907,       0000,     14.999,    -61.383,       2369,  2341.1,   4.1603,  34.9722,2,  34.9726,2, 203.5000,2,  -999.0,9,-999.000,9,-999.000,9,   3.9558
06MT20050813,     552,       AR04,          1,          9,          9,2,20050907,       0000,     15.689,    -61.474,        788,     9.4,  30.0858,  35.0540,2,  35.2329,3, 200.8000,2,   214.3,3,   1.486,2,   0.953,2,  30.0835
06MT20050813,     552,       AR04,          1,          8,          8,2,20050907,       0000,     15.689,    -61.474,        788,   100.7,  25.6429,  36.9468,2,-999.0000,9, 195.1000,2,  -999.0,9,   1.780,2,   1.102,2,  25.6205
06MT20050813,     552,       AR04,          1,          7,          7,2,20050907,       0000,     15.689,    -61.474,        788,   104.6,  25.5858,  36.9539,2,-999.0000,9, 194.9000,2,  -999.0,9,-999.000,9,-999.000,9,  25.5626
06MT20050813,     552,       AR04,          1,          6,          6,2,20050907,       0000,     15.689,    -61.474,        788,   107.1,  25.5758,  36.9669,2,-999.0000,9, 194.7000,2,  -999.0,9,-999.000,9,-999.000,9,  25.5520
06MT20050813,     552,       AR04,          1,          5,          5,2,20050907,       0000,     15.689,    -61.474,        788,   299.9,  14.8379,  35.9042,2,-999.0000,9, 149.0000,2,  -999.0,9,-999.000,9,-999.000,9,  14.7923
06MT20050813,     552,       AR04,          1,          4,          4,2,20050907,       0000,     15.689,    -61.474,        788,   300.6,  14.7058,  35.8798,2,-999.0000,9, 148.2000,2,  -999.0,9,   1.890,2,   1.027,2,  14.6604
06MT20050813,     552,       AR04,          1,          3,          3,2,20050907,       0000,     15.689,    -61.474,        788,   872.5,   5.7115,  34.8456,2,-999.0000,9, 157.1000,2,  -999.0,9,-999.000,9,-999.000,9,   5.6344
06MT20050813,     552,       AR04,          1,          2,          2,2,20050907,       0000,     15.689,    -61.474,        788,   872.6,   5.7122,  34.8461,2,-999.0000,9, 157.1000,2,  -999.0,9,   0.158,2,   0.090,2,   5.6351
06MT20050813,     552,       AR04,          1,          1,          1,2,20050907,       0000,     15.689,    -61.474,        788,   872.4,   5.7151,  34.8509,2,  34.8475,2, 157.0000,2,   155.4,2,-999.000,9,-999.000,9,   5.6380
06MT20050813,     553,       AR04,          1,         12,         12,2,20050908,       0000,     15.701,    -61.457,       1084,    10.0,  30.1001,  34.9991,2,-999.0000,9, 198.9000,2,  -999.0,9,   1.462,2,   0.936,2,  30.0976
06MT20050813,     553,       AR04,          1,         11,         11,2,20050908,       0000,     15.701,    -61.457,       1084,   207.5,  20.1826,  36.7858,2,-999.0000,9, 161.5000,2,  -999.0,9,   2.098,2,   1.235,2,  20.1436
06MT20050813,     553,       AR04,          1,         10,         10,2,20050908,       0000,     15.701,    -61.457,       1084,   396.6,  11.5295,  35.2811,2,-999.0000,9, 122.6000,2,  -999.0,9,-999.000,9,-999.000,9,  11.4785
06MT20050813,     553,       AR04,          1,          9,          9,2,20050908,       0000,     15.701,    -61.457,       1084,   397.2,  11.4381,  35.2695,2,-999.0000,9, 122.6000,2,   128.2,3,   1.439,2,   0.781,2,  11.3873
06MT20050813,     553,       AR04,          1,          8,          8,2,20050908,       0000,     15.701,    -61.457,       1084,   597.8,   8.2132,  34.9168,2,  34.8951,3, 122.9000,2,  -999.0,9,-999.000,9,-999.000,9,   8.1503
06MT20050813,     553,       AR04,          1,          6,          6,2,20050908,       0000,     15.701,    -61.457,       1084,   603.6,   8.1111,  34.9159,2,-999.0000,9, 123.3000,2,  -999.0,9,   0.556,2,   0.317,2,   8.0480
06MT20050813,     553,       AR04,          1,          7,          7,2,20050908,       0000,     15.701,    -61.457,       1084,   603.7,   8.1090,  34.9157,2,-999.0000,9, 123.3000,2,  -999.0,9,-999.000,9,-999.000,9,   8.0459
06MT20050813,     553,       AR04,          1,          5,          5,2,20050908,       0000,     15.701,    -61.457,       1084,   801.3,   6.4676,  34.8382,2,-999.0000,9, 140.4000,2,  -999.0,9,-999.000,9,-999.000,9,   6.3927
06MT20050813,     553,       AR04,          1,          4,          4,2,20050908,       0000,     15.701,    -61.457,       1084,   801.5,   6.4661,  34.8380,2,-999.0000,9, 140.5000,2,   142.2,2,   0.240,2,   0.139,2,   6.3911
06MT20050813,     553,       AR04,          1,          3,          3,2,20050908,       0000,     15.701,    -61.457,       1084,  1079.8,   4.5438,  34.9457,2,-999.0000,9, 196.2000,2,  -999.0,9,   0.045,2,   0.027,2,   4.4562
06MT20050813,     553,       AR04,          1,          2,          2,2,20050908,       0000,     15.701,    -61.457,       1084,  1079.9,   4.5434,  34.9458,2,-999.0000,9, 196.2000,2,  -999.0,9,-999.000,9,-999.000,9,   4.4558
06MT20050813,     553,       AR04,          1,          1,          1,2,20050908,       0000,     15.701,    -61.457,       1084,  1079.7,   4.5435,  34.9454,2,  34.9427,2, 196.2000,2,   193.0,6,-999.000,9,-999.000,9,   4.4559
06MT20050813,     554,       AR04,          1,         11,         11,2,20050908,       0000,     15.746,    -61.474,        707,    10.2,  30.1357,  34.9025,2,-999.0000,9, 198.5000,2,   215.6,3,   1.448,6,   0.921,6,  30.1332
06MT20050813,     554,       AR04,          1,         10,         10,2,20050908,       0000,     15.746,    -61.474,        707,    10.2,  30.1357,  34.9025,2,-999.0000,9, 198.5000,2,  -999.0,9,-999.000,9,-999.000,9,  30.1332
06MT20050813,     554,       AR04,          1,          9,          9,2,20050908,       0000,     15.746,    -61.474,        707,   157.7,  22.8933,  37.0493,2,-999.0000,9, 174.5000,2,  -999.0,9,   1.966,2,   1.175,2,  22.8609
06MT20050813,     554,       AR04,          1,          8,          8,2,20050908,       0000,     15.746,    -61.474,        707,   356.7,  12.1191,  35.3736,2,  35.3334,3, 124.8000,2,  -999.0,9,-999.000,9,-999.000,9,  12.0718
06MT20050813,     554,       AR04,          1,          7,          7,2,20050908,       0000,     15.746,    -61.474,        707,   357.3,  12.0832,  35.3714,2,-999.0000,9, 124.8000,2,  -999.0,9,-999.000,9,-999.000,9,  12.0359
06MT20050813,     554,       AR04,          1,          6,          6,2,20050908,       0000,     15.746,    -61.474,        707,   357.4,  12.0764,  35.3680,2,-999.0000,9, 124.8000,2,  -999.0,9,   1.543,2,   0.841,2,  12.0291
06MT20050813,     554,       AR04,          1,          5,          5,2,20050908,       0000,     15.746,    -61.474,        707,   524.5,   9.2168,  35.0182,2,-999.0000,9, 121.5000,2,  -999.0,9,-999.000,9,-999.000,9,   9.1579
06MT20050813,     554,       AR04,          1,          4,          4,2,20050908,       0000,     15.746,    -61.474,        707,   548.5,   9.2193,  35.0170,2,-999.0000,9, 121.3000,2,   124.0,2,   0.865,2,   0.484,2,   9.1576
06MT20050813,     554,       AR04,          1,          3,          3,2,20050908,       0000,     15.746,    -61.474,        707,   635.6,   7.9449,  34.8882,2,-999.0000,9, 123.5000,2,  -999.0,9,   0.567,2,   0.328,2,   7.8791
06MT20050813,     554,       AR04,          1,          2,          2,2,20050908,       0000,     15.746,    -61.474,        707,   636.0,   7.9461,  34.8859,2,-999.0000,9, 123.5000,2,  -999.0,9,-999.000,9,-999.000,9,   7.8803
06MT20050813,     554,       AR04,          1,          1,          1,2,20050908,       0000,     15.746,    -61.474,        707,   636.0,   7.9461,  34.8859,2,  34.8878,2, 123.5000,2,   123.0,2,-999.000,9,-999.000,9,   7.8803