BOTTLE,20120828SIOCCHMYS
EXPOCODE,STNNBR,SECT_ID,CASTNO,SAMPNO,BTLNBR,BTLNBR_FLAG_W,DATE,TIME,LATITUDE,LONGITUDE,DEPTH,CTDPRS,CTDTMP,CTDSAL,CTDSAL_FLAG_W,SALNTY,SALNTY_FLAG_W,CTDOXY,CTDOXY_FLAG_W,OXYGEN,OXYGEN_FLAG_W,CFC-11,CFC-11_FLAG_W,CFC-12,CFC-12_FLAG_W,THETA
,,,,,,,,,,,,DBAR,ITS-90,PSS-78,,PSS-78,,UMOL/KG,,UMOL/KG,,PMOL/KG,,PMOL/KG,,DEG C
06MT20050813,     457,       AR04,          1,         11,         11,2,20050830,       0000,     13.333,    -60.634,       1899,    14.4,  29.9678,  33.7528,2,-999.0000,9, 200.9000,2,   196.0,3,   1.445,2,   0.895,2,  29.9642
06MT20050813,     457,       AR04,          1,         12,         12,2,20050830,       0000,     13.333,    -60.634,       1899,    15.1,  29.9663,  33.7517,2,-999.0000,9, 200.8000,2,   190.9,3,-999.000,9,-999.000,9,  29.9626
06MT20050813,     457,       AR04,          1,         10,         10,2,20050830,       0000,     13.333,    -60.634,       1899,   208.4,  17.1978,  36.3332,2,-999.0000,9, 151.0000,2,  -999.0,9,   2.112,2,   1.164,2,  17.1628
06MT20050813,     457,       AR04,          1,          9,          9,2,20050830,       0000,     13.333,    -60.634,       1899,   608.1,   7.0100,  34.6998,2,-999.0000,9, 122.7000,2,   119.8,2,   0.406,2,   0.218,2,   6.9516
06MT20050813,     457,       AR04,          1,          8,          8,2,20050830,       0000,     13.333,    -60.634,       1899,   998.4,   5.1859,  34.8069,2,-999.0000,9, 159.4000,2,  -999.0,9,   0.090,2,   0.052,2,   5.1008
06MT20050813,     457,       AR04,          1,          7,          7,2,20050830,       0000,     13.333,    -60.634,       1899,  1296.9,   4.8404,  35.0116,2,-999.0000,9, 223.0000,2,   224.8,2,   0.639,2,   0.322,2,   4.7301
06MT20050813,     457,       AR04,          1,          5,          5,2,20050830,       0000,     13.333,    -60.634,       1899,  1300.3,   4.8400,  35.0116,2,-999.0000,9, 223.6000,2,  -999.0,9,-999.000,9,-999.000,9,   4.7294
06MT20050813,     457,       AR04,          1,          6,          6,2,20050830,       0000,     13.333,    -60.634,       1899,  1305.1,   4.8365,  35.0122,2,  35.0143,2, 224.6000,2,  -999.0,9,-999.000,9,-999.000,9,   4.7254
06MT20050813,     457,       AR04,          1,          4,          4,2,20050830,       0000,     13.333,    -60.634,       1899,  1508.8,   4.2368,  35.0003,2,-999.0000,9, 251.3000,2,  -999.0,9,   1.051,2,   0.514,2,   4.1130
06MT20050813,     457,       AR04,          1,          3,          3,2,20050830,       0000,     13.333,    -60.634,       1899,  1703.8,   3.8288,  34.9779,2,-999.0000,9, 259.7000,2,   257.8,2,   1.011,2,   0.507,2,   3.6919
06MT20050813,     457,       AR04,          1,          1,          1,2,20050830,       0000,     13.333,    -60.634,       1899,  1890.8,   3.7408,  34.9736,2,  34.9736,2, 260.1000,2,   258.4,2,-999.000,9,-999.000,9,   3.5875
06MT20050813,     457,       AR04,          1,          2,          2,2,20050830,       0000,     13.333,    -60.634,       1899,  1890.8,   3.7408,  34.9736,2,-999.0000,9, 260.1000,2,  -999.0,9,   0.955,2,   0.475,2,   3.5875
06MT20050813,     458,       AR04,          1,         13,         13,2,20050830,       0000,     13.183,    -60.617,       2106,    14.1,  30.0774,  33.6764,2,  33.6683,3, 200.3000,2,   194.4,3,-999.000,9,-999.000,9,  30.0739
06MT20050813,     458,       AR04,          1,         12,         12,2,20050830,       0000,     13.183,    -60.617,       2106,    14.1,  30.0774,  33.6764,2,-999.0000,9, 200.3000,2,  -999.0,9,   1.449,6,   0.911,6,  30.0739
06MT20050813,     458,       AR04,          1,         11,         11,2,20050830,       0000,     13.183,    -60.617,       2106,   308.7,  11.8199,  35.3590,2,-999.0000,9, 116.8000,2,   117.3,2,   1.400,2,   0.744,2,  11.7797
06MT20050813,     458,       AR04,          1,         10,         10,2,20050830,       0000,     13.183,    -60.617,       2106,   309.4,  11.7908,  35.3529,2,-999.0000,9, 116.6000,2,  -999.0,9,-999.000,9,-999.000,9,  11.7506
06MT20050813,     458,       AR04,          1,          9,          9,2,20050830,       0000,     13.183,    -60.617,       2106,   705.6,   6.3204,  34.6804,2,-999.0000,9, 124.0000,2,   125.3,2,-999.000,9,-999.000,9,   6.2558
06MT20050813,     458,       AR04,          1,          8,          8,2,20050830,       0000,     13.183,    -60.617,       2106,  1100.5,   5.1627,  34.9317,2,-999.0000,9, 186.7000,2,  -999.0,9,   0.289,2,   0.146,2,   5.0681
06MT20050813,     458,       AR04,          1,          7,          7,2,20050830,       0000,     13.183,    -60.617,       2106,  1402.1,   4.3845,  35.0078,2,-999.0000,9, 245.3000,2,  -999.0,9,   0.898,2,   0.440,2,   4.2690
06MT20050813,     458,       AR04,          1,          6,          6,2,20050830,       0000,     13.183,    -60.617,       2106,  1405.1,   4.3805,  35.0071,2,-999.0000,9, 245.6000,2,  -999.0,9,-999.000,9,-999.000,9,   4.2647
06MT20050813,     458,       AR04,          1,          5,          5,2,20050830,       0000,     13.183,    -60.617,       2106,  1597.9,   4.0733,  34.9923,2,-999.0000,9, 253.9000,2,  -999.0,9,-999.000,9,-999.000,9,   3.9431
06MT20050813,     458,       AR04,          1,          4,          4,2,20050830,       0000,     13.183,    -60.617,       2106,  1599.1,   4.0720,  34.9921,2,-999.0000,9, 253.9000,2,   257.5,2,   0.896,2,   0.444,2,   3.9418
06MT20050813,     458,       AR04,          1,          3,          3,2,20050830,       0000,     13.183,    -60.617,       2106,  1802.0,   3.8007,  34.9756,2,-999.0000,9, 260.1000,2,   257.8,2,   1.045,2,   0.513,2,   3.6550
06MT20050813,     458,       AR04,          1,          2,          2,2,20050830,       0000,     13.183,    -60.617,       2106,  2100.3,   3.7425,  34.9732,2,-999.0000,9, 258.8000,2,  -999.0,9,   0.925,2,   0.458,2,   3.5690
06MT20050813,     458,       AR04,          1,          1,          1,2,20050830,       0000,     13.183,    -60.617,       2106,  2100.4,   3.7425,  34.9733,2,  34.9710,2, 258.8000,2,   258.2,6,-999.000,9,-999.000,9,   3.5690
06MT20050813,     459,       AR04,          1,         14,         14,2,20050830,       0000,     13.025,    -60.601,       2241,    11.5,  29.9869,  33.7685,2,-999.0000,9, 199.7000,2,   200.7,2,-999.000,9,-999.000,9,  29.9841
06MT20050813,     459,       AR04,          1,         15,         15,2,20050830,       0000,     13.025,    -60.601,       2241,    11.7,  29.9497,  33.7782,2,-999.0000,9, 199.7000,2,  -999.0,9,   1.456,6,   0.935,6,  29.9468
06MT20050813,     459,       AR04,          1,         13,         13,2,20050830,       0000,     13.025,    -60.601,       2241,   199.7,  17.2742,  36.3166,2,-999.0000,9, 153.5000,2,  -999.0,9,   2.108,2,   1.196,2,  17.2406
06MT20050813,     459,       AR04,          1,         12,         12,2,20050830,       0000,     13.025,    -60.601,       2241,   611.2,   6.8634,  34.7128,2,-999.0000,9, 121.9000,2,   124.3,2,   0.366,2,   0.197,2,   6.8053
06MT20050813,     459,       AR04,          1,         11,         11,2,20050830,       0000,     13.025,    -60.601,       2241,   896.3,   5.2451,  34.7206,2,  34.7643,3, 144.1000,2,  -999.0,9,   0.064,2,   0.037,2,   5.1691
06MT20050813,     459,       AR04,          1,         10,         10,2,20050830,       0000,     13.025,    -60.601,       2241,   898.7,   5.2459,  34.7226,2,-999.0000,9, 144.4000,2,  -999.0,9,-999.000,9,-999.000,9,   5.1697
06MT20050813,     459,       AR04,          1,          9,          9,2,20050830,       0000,     13.025,    -60.601,       2241,  1300.8,   4.7517,  35.0119,2,-999.0000,9, 229.2000,2,  -999.0,9,   0.682,2,   0.341,2,   4.6419
06MT20050813,     459,       AR04,          1,          8,          8,2,20050830,       0000,     13.025,    -60.601,       2241,  1508.4,   4.1716,  34.9977,2,-999.0000,9, 251.8000,2,  -999.0,9,   0.924,2,   0.460,2,   4.0486
06MT20050813,     459,       AR04,          1,          7,          7,2,20050830,       0000,     13.025,    -60.601,       2241,  1697.0,   3.9136,  34.9831,2,-999.0000,9, 257.5000,2,   275.0,4,   0.966,2,   0.488,2,   3.7762
06MT20050813,     459,       AR04,          1,          6,          6,2,20050830,       0000,     13.025,    -60.601,       2241,  1699.6,   3.9098,  34.9837,2,-999.0000,9, 257.7000,2,  -999.0,9,-999.000,9,-999.000,9,   3.7722
06MT20050813,     459,       AR04,          1,          5,          5,2,20050830,       0000,     13.025,    -60.601,       2241,  1896.7,   3.8236,  34.9839,2,-999.0000,9, 254.1000,2,  -999.0,9,-999.000,9,-999.000,9,   3.6686
06MT20050813,     459,       AR04,          1,          4,          4,2,20050830,       0000,     13.025,    -60.601,       2241,  1898.4,   3.8236,  34.9838,2,-999.0000,9, 254.1000,2,   238.9,4,   0.554,2,   0.295,2,   3.6684
06MT20050813,     459,       AR04,          1,          3,          3,2,20050830,       0000,     13.025,    -60.601,       2241,  2098.2,   3.8145,  34.9845,2,-999.0000,9, 251.4000,2,  -999.0,9,   0.451,2,   0.239,2,   3.6401
06MT20050813,     459,       AR04,          1,          1,          1,2,20050830,       0000,     13.025,    -60.601,       2241,  2242.3,   3.8003,  34.9822,2,  34.9838,2, 249.4000,2,   252.1,2,-999.000,9,-999.000,9,   3.6118
06MT20050813,     459,       AR04,          1,          2,          2,2,20050830,       0000,     13.025,    -60.601,       2241,  2241.9,   3.8002,  34.9821,2,-999.0000,9, 249.4000,2,  -999.0,9,   0.482,2,   0.254,2,   3.6118
06MT20050813,     460,       AR04,          1,         15,         15,2,20050831,       0000,     12.878,    -60.585,       2360,    19.4,  29.9549,  33.8017,2,-999.0000,9, 199.2000,2,   212.9,3,-999.000,9,-999.000,9,  29.9501
06MT20050813,     460,       AR04,          1,         14,         14,2,20050831,       0000,     12.878,    -60.585,       2360,    19.4,  29.9549,  33.8017,2,-999.0000,9, 199.2000,2,  -999.0,9,   1.452,2,   0.918,2,  29.9501
06MT20050813,     460,       AR04,          1,         13,         13,2,20050831,       0000,     12.878,    -60.585,       2360,   149.8,  20.9329,  36.7966,2,  36.6548,3, 159.6000,2,  -999.0,9,   2.006,2,   1.167,2,  20.9040
06MT20050813,     460,       AR04,          1,         12,         12,2,20050831,       0000,     12.878,    -60.585,       2360,   497.5,   7.9169,  34.8139,2,-999.0000,9, 120.1000,2,  -999.0,9,   0.652,2,   0.345,2,   7.8660
06MT20050813,     460,       AR04,          1,         11,         11,2,20050831,       0000,     12.878,    -60.585,       2360,   794.0,   5.8247,  34.6985,2,-999.0000,9, 131.7000,2,   133.8,2,   0.105,2,   0.058,2,   5.7545
06MT20050813,     460,       AR04,          1,         10,         10,2,20050831,       0000,     12.878,    -60.585,       2360,  1205.7,   5.0046,  34.9937,2,-999.0000,9, 209.6000,2,  -999.0,9,-999.000,9,-999.000,9,   4.9014
06MT20050813,     460,       AR04,          1,          9,          9,2,20050831,       0000,     12.878,    -60.585,       2360,  1206.7,   5.0013,  34.9944,2,  34.9883,2, 209.7000,2,  -999.0,9,   0.411,2,   0.211,2,   4.8980
06MT20050813,     460,       AR04,          1,          8,          8,2,20050831,       0000,     12.878,    -60.585,       2360,  1455.1,   4.3828,  35.0072,2,-999.0000,9, 244.7000,2,  -999.0,9,   0.876,2,   0.442,2,   4.2624
06MT20050813,     460,       AR04,          1,          7,          7,2,20050831,       0000,     12.878,    -60.585,       2360,  1747.0,   3.9205,  34.9862,2,-999.0000,9, 255.4000,2,  -999.0,9,   0.747,2,   0.381,2,   3.7783
06MT20050813,     460,       AR04,          1,          6,          6,2,20050831,       0000,     12.878,    -60.585,       2360,  1748.7,   3.9205,  34.9859,2,-999.0000,9, 255.4000,2,  -999.0,9,-999.000,9,-999.000,9,   3.7782
06MT20050813,     460,       AR04,          1,          5,          5,2,20050831,       0000,     12.878,    -60.585,       2360,  1996.4,   3.8199,  34.9839,2,-999.0000,9, 253.0000,2,  -999.0,9,-999.000,9,-999.000,9,   3.6553
06MT20050813,     460,       AR04,          1,          4,          4,2,20050831,       0000,     12.878,    -60.585,       2360,  1998.6,   3.8201,  34.9836,2,-999.0000,9, 253.0000,2,   252.8,2,   0.506,2,   0.260,2,   3.6553
06MT20050813,     460,       AR04,          1,          3,          3,2,20050831,       0000,     12.878,    -60.585,       2360,  2198.3,   3.8201,  34.9847,2,-999.0000,9, 250.2000,2,  -999.0,9,   0.408,2,   0.219,2,   3.6357
06MT20050813,     460,       AR04,          1,          2,          2,2,20050831,       0000,     12.878,    -60.585,       2360,  2362.2,   3.8180,  34.9826,2,-999.0000,9, 249.0000,2,  -999.0,9,   0.453,2,   0.244,2,   3.6171
06MT20050813,     460,       AR04,          1,          1,          1,2,20050831,       0000,     12.878,    -60.585,       2360,  2361.9,   3.8179,  34.9825,2,  34.9854,2, 249.0000,2,   248.5,2,-999.000,9,-999.000,9,   3.6170
06MT20050813,     461,       AR04,          1,         15,         15,2,20050831,       0000,     12.726,    -60.568,       2461,    16.8,  30.0016,  33.7602,2,  33.7440,3, 199.6000,2,   195.9,2,-999.000,9,-999.000,9,  29.9974
06MT20050813,     461,       AR04,          1,         14,         14,2,20050831,       0000,     12.726,    -60.568,       2461,    16.8,  30.0016,  33.7602,2,-999.0000,9, 199.6000,2,  -999.0,9,   1.456,2,   0.921,2,  29.9974
06MT20050813,     461,       AR04,          1,         13,         13,2,20050831,       0000,     12.726,    -60.568,       2461,   305.6,  12.0149,  35.4109,2,-999.0000,9, 121.9000,2,   121.2,2,   1.479,2,   0.802,2,  11.9746
06MT20050813,     461,       AR04,          1,         12,         12,2,20050831,       0000,     12.726,    -60.568,       2461,   698.4,   6.1675,  34.6702,2,-999.0000,9, 126.0000,2,  -999.0,9,   0.224,2,   0.124,2,   6.1044
06MT20050813,     461,       AR04,          1,         11,         11,2,20050831,       0000,     12.726,    -60.568,       2461,  1098.2,   5.2519,  34.9301,2,-999.0000,9, 181.1000,2,  -999.0,9,   0.216,2,   0.115,2,   5.1568
06MT20050813,     461,       AR04,          1,         10,         10,2,20050831,       0000,     12.726,    -60.568,       2461,  1397.1,   4.5339,  35.0120,2,-999.0000,9, 239.3000,2,  -999.0,9,-999.000,9,-999.000,9,   4.4173
06MT20050813,     461,       AR04,          1,          9,          9,2,20050831,       0000,     12.726,    -60.568,       2461,  1398.9,   4.5339,  35.0111,2,-999.0000,9, 239.5000,2,  -999.0,9,   0.814,2,   0.410,2,   4.4171
06MT20050813,     461,       AR04,          1,          8,          8,2,20050831,       0000,     12.726,    -60.568,       2461,  1651.8,   4.0201,  34.9899,2,-999.0000,9, 254.4000,2,   253.5,2,   0.834,2,   0.413,2,   3.8856
06MT20050813,     461,       AR04,          1,          7,          7,2,20050831,       0000,     12.726,    -60.568,       2461,  1846.2,   3.8359,  34.9837,2,  34.9923,3, 255.0000,2,  -999.0,9,-999.000,9,-999.000,9,   3.6855
06MT20050813,     461,       AR04,          1,          6,          6,2,20050831,       0000,     12.726,    -60.568,       2461,  1848.8,   3.8354,  34.9838,2,-999.0000,9, 255.0000,2,  -999.0,9,   0.585,2,   0.298,2,   3.6848
06MT20050813,     461,       AR04,          1,          5,          5,2,20050831,       0000,     12.726,    -60.568,       2461,  2047.6,   3.8242,  34.9844,2,-999.0000,9, 252.8000,2,  -999.0,9,-999.000,9,-999.000,9,   3.6546
06MT20050813,     461,       AR04,          1,          4,          4,2,20050831,       0000,     12.726,    -60.568,       2461,  2050.0,   3.8244,  34.9841,2,-999.0000,9, 252.8000,2,   253.0,2,   0.466,2,   0.245,2,   3.6545
06MT20050813,     461,       AR04,          1,          3,          3,2,20050831,       0000,     12.726,    -60.568,       2461,  2247.4,   3.8263,  34.9850,2,-999.0000,9, 250.2000,2,  -999.0,9,   0.421,2,   0.221,2,   3.6369
06MT20050813,     461,       AR04,          1,          2,          2,2,20050831,       0000,     12.726,    -60.568,       2461,  2460.1,   3.8194,  34.9818,2,-999.0000,9, 249.4000,2,  -999.0,9,   0.493,2,   0.260,2,   3.6085
06MT20050813,     461,       AR04,          1,          1,          1,2,20050831,       0000,     12.726,    -60.568,       2461,  2459.7,   3.8193,  34.9824,2,  34.9793,2, 249.4000,2,   250.0,6,-999.000,9,-999.000,9,   3.6084
06MT20050813,     462,       AR04,          1,         15,         15,2,20050831,       0000,     12.568,    -60.551,       2460,    18.7,  30.0006,  33.8270,2,-999.0000,9, 200.5000,2,  -999.0,9,-999.000,9,-999.000,9,  29.9960
06MT20050813,     462,       AR04,          1,         14,         14,2,20050831,       0000,     12.568,    -60.551,       2460,    18.9,  29.9925,  33.8302,2,-999.0000,9, 200.6000,2,  -999.0,9,   1.449,2,   0.925,2,  29.9878
06MT20050813,     462,       AR04,          1,         13,         13,2,20050831,       0000,     12.568,    -60.551,       2460,   449.7,   8.9769,  34.9592,2,  34.9368,3, 116.0000,2,   122.7,3,   0.867,2,   0.461,2,   8.9274
06MT20050813,     462,       AR04,          1,         12,         12,2,20050831,       0000,     12.568,    -60.551,       2460,   949.4,   5.4077,  34.7758,2,-999.0000,9, 148.5000,2,  -999.0,9,   0.078,2,   0.045,2,   5.3256
06MT20050813,     462,       AR04,          1,         11,         11,2,20050831,       0000,     12.568,    -60.551,       2460,  1245.1,   4.8745,  35.0100,2,-999.0000,9, 221.1000,2,  -999.0,9,   0.578,2,   0.298,2,   4.7687
06MT20050813,     462,       AR04,          1,         10,         10,2,20050831,       0000,     12.568,    -60.551,       2460,  1552.7,   4.1774,  34.9973,2,-999.0000,9, 251.6000,2,  -999.0,9,-999.000,9,-999.000,9,   4.0502
06MT20050813,     462,       AR04,          1,          9,          9,2,20050831,       0000,     12.568,    -60.551,       2460,  1555.2,   4.1737,  34.9976,2,-999.0000,9, 251.7000,2,   244.9,3,   0.904,2,   0.451,2,   4.0463
06MT20050813,     462,       AR04,          1,          8,          8,2,20050831,       0000,     12.568,    -60.551,       2460,  1706.5,   3.9283,  34.9860,2,  34.9868,2, 255.4000,2,  -999.0,9,   0.755,2,   0.377,2,   3.7898
06MT20050813,     462,       AR04,          1,          7,          7,2,20050831,       0000,     12.568,    -60.551,       2460,  1898.2,   3.8400,  34.9840,2,-999.0000,9, 254.3000,2,   247.9,3,-999.000,9,-999.000,9,   3.6846
06MT20050813,     462,       AR04,          1,          6,          6,2,20050831,       0000,     12.568,    -60.551,       2460,  1899.7,   3.8392,  34.9840,2,-999.0000,9, 254.2000,2,  -999.0,9,   0.577,2,   0.296,2,   3.6836
06MT20050813,     462,       AR04,          1,          5,          5,2,20050831,       0000,     12.568,    -60.551,       2460,  2096.3,   3.8261,  34.9842,2,-999.0000,9, 252.3000,2,  -999.0,9,-999.000,9,-999.000,9,   3.6517
06MT20050813,     462,       AR04,          1,          4,          4,2,20050831,       0000,     12.568,    -60.551,       2460,  2099.8,   3.8263,  34.9845,2,-999.0000,9, 252.2000,2,  -999.0,9,   0.461,2,   0.240,2,   3.6515
06MT20050813,     462,       AR04,          1,          3,          3,2,20050831,       0000,     12.568,    -60.551,       2460,  2298.3,   3.8293,  34.9843,2,-999.0000,9, 250.1000,2,  -999.0,9,   0.428,2,   0.227,2,   3.6347
06MT20050813,     462,       AR04,          1,          2,          2,2,20050831,       0000,     12.568,    -60.551,       2460,  2461.7,   3.8158,  34.9813,2,-999.0000,9, 249.3000,2,  -999.0,9,   0.506,2,   0.265,2,   3.6048
06MT20050813,     462,       AR04,          1,          1,          1,2,20050831,       0000,     12.568,    -60.551,       2460,  2461.5,   3.8159,  34.9812,2,  34.9795,2, 249.3000,2,   250.4,2,-999.000,9,-999.000,9,   3.6049