BOTTLE,20120828SIOCCHMYS
EXPOCODE,STNNBR,SECT_ID,CASTNO,SAMPNO,BTLNBR,BTLNBR_FLAG_W,DATE,TIME,LATITUDE,LONGITUDE,DEPTH,CTDPRS,CTDTMP,CTDSAL,CTDSAL_FLAG_W,SALNTY,SALNTY_FLAG_W,CTDOXY,CTDOXY_FLAG_W,OXYGEN,OXYGEN_FLAG_W,CFC-11,CFC-11_FLAG_W,CFC-12,CFC-12_FLAG_W,THETA
,,,,,,,,,,,,DBAR,ITS-90,PSS-78,,PSS-78,,UMOL/KG,,UMOL/KG,,PMOL/KG,,PMOL/KG,,DEG C
06MT20050813,     587,       AR04,          1,          3,          3,2,20050911,       0000,     18.383,    -63.625,       1136,   201.9,  20.0743,  36.7702,2,  36.7212,3, 172.5000,2,   175.8,2,-999.000,9,-999.000,9,  20.0365
06MT20050813,     587,       AR04,          1,          2,          2,2,20050911,       0000,     18.383,    -63.625,       1136,   696.7,   8.6038,  35.0652,2,-999.0000,9, 125.7000,2,   131.6,3,-999.000,9,-999.000,9,   8.5279
06MT20050813,     587,       AR04,          1,          1,          1,2,20050911,       0000,     18.383,    -63.625,       1136,  1132.9,   4.9817,  35.0171,2,  35.0000,3, 223.0000,2,   218.9,2,-999.000,9,-999.000,9,   4.8854
06MT20050813,     588,       AR04,          1,          3,          3,2,20050911,       0000,     18.409,    -63.683,        863,    11.3,  29.9773,  35.3953,2,  35.4963,3, 194.2000,2,   192.4,6,-999.000,9,-999.000,9,  29.9745
06MT20050813,     588,       AR04,          1,          2,          2,2,20050911,       0000,     18.409,    -63.683,        863,   303.1,  17.6558,  36.4638,2,-999.0000,9, 185.5000,2,   172.0,3,-999.000,9,-999.000,9,  17.6038
06MT20050813,     588,       AR04,          1,          1,          1,2,20050911,       0000,     18.409,    -63.683,        863,   861.2,   6.7440,  34.9746,2,  34.9732,2, 151.0000,2,   151.0,2,-999.000,9,-999.000,9,   6.6611
06MT20050813,     589,       AR04,          1,         20,         20,2,20050911,       0000,     18.434,    -63.743,        709,    11.6,  29.9506,  35.5891,2,-999.0000,9, 194.0000,2,  -999.0,9,-999.000,9,-999.000,9,  29.9477
06MT20050813,     589,       AR04,          1,          2,          2,2,20050911,       0000,     18.434,    -63.743,        709,   405.5,  15.1443,  36.0511,2,  36.0259,3, 163.6000,2,   161.8,2,-999.000,9,-999.000,9,  15.0816
06MT20050813,     589,       AR04,          1,          3,          3,2,20050911,       0000,     18.434,    -63.743,        709,    11.9,  29.9485,  35.5927,2,-999.0000,9, 194.0000,2,  -999.0,9,-999.000,9,-999.000,9,  29.9455
06MT20050813,     589,       AR04,          1,          4,          4,2,20050911,       0000,     18.434,    -63.743,        709,    11.8,  29.9497,  35.5901,2,-999.0000,9, 194.0000,2,  -999.0,9,-999.000,9,-999.000,9,  29.9468
06MT20050813,     589,       AR04,          1,          5,          5,2,20050911,       0000,     18.434,    -63.743,        709,    11.6,  29.9509,  35.5888,2,-999.0000,9, 194.0000,2,  -999.0,9,-999.000,9,-999.000,9,  29.9480
06MT20050813,     589,       AR04,          1,          6,          6,2,20050911,       0000,     18.434,    -63.743,        709,    11.6,  29.9506,  35.5891,2,-999.0000,9, 194.0000,2,  -999.0,9,-999.000,9,-999.000,9,  29.9477
06MT20050813,     589,       AR04,          1,          7,          7,2,20050911,       0000,     18.434,    -63.743,        709,    11.8,  29.9503,  35.5891,2,-999.0000,9, 194.0000,2,  -999.0,9,-999.000,9,-999.000,9,  29.9474
06MT20050813,     589,       AR04,          1,          8,          8,2,20050911,       0000,     18.434,    -63.743,        709,    12.1,  29.9474,  35.5951,2,-999.0000,9, 194.0000,2,  -999.0,9,-999.000,9,-999.000,9,  29.9444
06MT20050813,     589,       AR04,          1,         18,         18,2,20050911,       0000,     18.434,    -63.743,        709,    11.9,  29.9485,  35.5927,2,-999.0000,9, 194.0000,2,  -999.0,9,-999.000,9,-999.000,9,  29.9455
06MT20050813,     589,       AR04,          1,         17,         17,2,20050911,       0000,     18.434,    -63.743,        709,    11.9,  29.9485,  35.5927,2,-999.0000,9, 194.0000,2,  -999.0,9,-999.000,9,-999.000,9,  29.9455
06MT20050813,     589,       AR04,          1,         12,         12,2,20050911,       0000,     18.434,    -63.743,        709,    11.9,  29.9482,  35.5935,2,-999.0000,9, 194.0000,2,  -999.0,9,-999.000,9,-999.000,9,  29.9452
06MT20050813,     589,       AR04,          1,          9,          9,2,20050911,       0000,     18.434,    -63.743,        709,    11.9,  29.9485,  35.5927,2,-999.0000,9, 194.0000,2,  -999.0,9,-999.000,9,-999.000,9,  29.9455
06MT20050813,     589,       AR04,          1,         13,         13,2,20050911,       0000,     18.434,    -63.743,        709,    11.8,  29.9492,  35.5916,2,-999.0000,9, 194.0000,2,  -999.0,9,-999.000,9,-999.000,9,  29.9463
06MT20050813,     589,       AR04,          1,         14,         14,2,20050911,       0000,     18.434,    -63.743,        709,    11.8,  29.9492,  35.5916,2,-999.0000,9, 194.0000,2,  -999.0,9,-999.000,9,-999.000,9,  29.9463
06MT20050813,     589,       AR04,          1,         15,         15,2,20050911,       0000,     18.434,    -63.743,        709,    12.2,  29.9468,  35.5953,2,-999.0000,9, 194.0000,2,  -999.0,9,-999.000,9,-999.000,9,  29.9438
06MT20050813,     589,       AR04,          1,         16,         16,2,20050911,       0000,     18.434,    -63.743,        709,    12.3,  29.9447,  35.5987,2,-999.0000,9, 194.0000,2,  -999.0,9,-999.000,9,-999.000,9,  29.9416
06MT20050813,     589,       AR04,          1,         10,         10,2,20050911,       0000,     18.434,    -63.743,        709,    12.2,  29.9454,  35.5977,2,-999.0000,9, 194.0000,2,  -999.0,9,-999.000,9,-999.000,9,  29.9424
06MT20050813,     589,       AR04,          1,         11,         11,2,20050911,       0000,     18.434,    -63.743,        709,    12.1,  29.9474,  35.5951,2,-999.0000,9, 194.0000,2,  -999.0,9,-999.000,9,-999.000,9,  29.9444
06MT20050813,     589,       AR04,          1,         19,         19,2,20050911,       0000,     18.434,    -63.743,        709,    11.8,  29.9497,  35.5901,2,-999.0000,9, 194.0000,2,  -999.0,9,-999.000,9,-999.000,9,  29.9468
06MT20050813,     589,       AR04,          1,          1,          1,2,20050911,       0000,     18.434,    -63.743,        709,   622.0,   9.6466,  35.2221,2,  35.2242,2, 128.2000,2,   131.2,2,-999.000,9,-999.000,9,   9.5742
06MT20050813,     589,       AR04,          1,         21,         21,2,20050911,       0000,     18.434,    -63.743,        709,    12.2,  29.9468,  35.5953,2,-999.0000,9, 194.0000,2,  -999.0,9,-999.000,9,-999.000,9,  29.9438
06MT20050813,     589,       AR04,          1,         22,         22,2,20050911,       0000,     18.434,    -63.743,        709,    12.1,  29.9474,  35.5951,2,-999.0000,9, 194.0000,2,  -999.0,9,-999.000,9,-999.000,9,  29.9444
06MT20050813,     590,       AR04,          1,          4,          4,2,20050911,       0000,     18.457,    -63.799,        995,     9.8,  29.9590,  35.6775,2,-999.0000,9, 194.2000,2,   196.9,2,-999.000,9,-999.000,9,  29.9566
06MT20050813,     590,       AR04,          1,          3,          3,2,20050911,       0000,     18.457,    -63.799,        995,   104.9,  24.2873,  37.0055,2,-999.0000,9, 220.8000,2,   205.3,3,-999.000,9,-999.000,9,  24.2648
06MT20050813,     590,       AR04,          1,          2,          2,2,20050911,       0000,     18.457,    -63.799,        995,   799.6,   7.1324,  34.9789,2,  34.9728,3, 136.6000,2,   143.4,3,-999.000,9,-999.000,9,   7.0535
06MT20050813,     590,       AR04,          1,          1,          1,2,20050911,       0000,     18.457,    -63.799,        995,  1403.3,   4.5376,  35.0019,2,  35.0007,2, 234.3000,2,   230.4,2,-999.000,9,-999.000,9,   4.4204
06MT20050813,     591,       AR04,          1,          3,          3,2,20050911,       0000,     18.483,    -63.859,       1436,   609.0,  10.4462,  35.3321,2,  35.3086,3, 130.1000,2,   239.9,4,-999.000,9,-999.000,9,  10.3718
06MT20050813,     591,       AR04,          1,          2,          2,2,20050911,       0000,     18.483,    -63.859,       1436,   998.5,   5.6055,  35.0195,2,-999.0000,9, 197.7000,2,   133.0,4,-999.000,9,-999.000,9,   5.5169
06MT20050813,     591,       AR04,          1,          1,          1,2,20050911,       0000,     18.483,    -63.859,       1436,  1433.5,   4.3148,  34.9987,2,  34.9982,2, 248.0000,2,   247.4,2,-999.000,9,-999.000,9,   4.1971
06MT20050813,     592,       AR04,          1,         14,         14,2,20050911,       0000,     18.507,    -63.917,       1559,    12.3,  30.1808,  35.9123,2,-999.0000,9, 193.7000,2,   198.6,6,-999.000,9,-999.000,9,  30.1777
06MT20050813,     592,       AR04,          1,         13,         13,2,20050911,       0000,     18.507,    -63.917,       1559,    12.3,  30.1808,  35.9123,2,-999.0000,9, 193.7000,2,  -999.0,9,   1.497,2,   0.925,2,  30.1777
06MT20050813,     592,       AR04,          1,         12,         12,2,20050911,       0000,     18.507,    -63.917,       1559,   208.8,  19.8063,  36.7272,2,-999.0000,9, 183.8000,2,  -999.0,9,   2.166,2,   1.260,2,  19.7676
06MT20050813,     592,       AR04,          1,         11,         11,2,20050911,       0000,     18.507,    -63.917,       1559,   503.7,  12.6319,  35.6402,2,-999.0000,9, 138.1000,2,  -999.0,9,   1.553,2,   0.792,2,  12.5627
06MT20050813,     592,       AR04,          1,         10,         10,2,20050911,       0000,     18.507,    -63.917,       1559,   782.4,   7.4483,  34.9999,2,-999.0000,9, 134.0000,2,  -999.0,9,-999.000,9,-999.000,9,   7.3693
06MT20050813,     592,       AR04,          1,          9,          9,2,20050911,       0000,     18.507,    -63.917,       1559,   783.5,   7.4332,  34.9984,2,  34.9834,3, 134.0000,2,   137.2,2,   0.246,2,   0.132,2,   7.3542
06MT20050813,     592,       AR04,          1,          8,          8,2,20050911,       0000,     18.507,    -63.917,       1559,   999.7,   5.7089,  35.0029,2,-999.0000,9, 190.2000,2,  -999.0,9,   0.457,2,   0.230,2,   5.6195
06MT20050813,     592,       AR04,          1,          7,          7,2,20050911,       0000,     18.507,    -63.917,       1559,  1008.6,   5.6853,  35.0042,2,-999.0000,9, 191.5000,2,  -999.0,9,-999.000,9,-999.000,9,   5.5952
06MT20050813,     592,       AR04,          1,          6,          6,2,20050911,       0000,     18.507,    -63.917,       1559,  1010.0,   5.6734,  35.0044,2,-999.0000,9, 191.7000,2,  -999.0,9,-999.000,9,-999.000,9,   5.5832
06MT20050813,     592,       AR04,          1,          5,          5,2,20050911,       0000,     18.507,    -63.917,       1559,  1200.0,   4.5481,  34.9594,2,-999.0000,9, 200.7000,2,  -999.0,9,-999.000,9,-999.000,9,   4.4496
06MT20050813,     592,       AR04,          1,          4,          4,2,20050911,       0000,     18.507,    -63.917,       1559,  1201.1,   4.5452,  34.9593,2,-999.0000,9, 200.9000,2,  -999.0,9,   0.111,2,   0.058,2,   4.4466
06MT20050813,     592,       AR04,          1,          3,          3,2,20050911,       0000,     18.507,    -63.917,       1559,  1577.4,   4.3647,  34.9996,2,-999.0000,9, 244.9000,2,  -999.0,9,-999.000,9,-999.000,9,   4.2330
06MT20050813,     592,       AR04,          1,          2,          2,2,20050911,       0000,     18.507,    -63.917,       1559,  1577.8,   4.3642,  34.9995,2,-999.0000,9, 244.9000,2,  -999.0,9,   1.065,2,   0.520,2,   4.2325
06MT20050813,     592,       AR04,          1,          1,          1,2,20050911,       0000,     18.507,    -63.917,       1559,  1577.4,   4.3647,  34.9996,2,  35.0001,2, 244.9000,2,   241.3,2,-999.000,9,-999.000,9,   4.2330
06MT20050813,     593,       AR04,          1,         16,         16,2,20050911,       0000,     18.532,    -63.975,       2191,    20.5,  30.0746,  35.9267,2,-999.0000,9, 193.8000,2,  -999.0,9,   1.488,2,   0.932,2,  30.0695
06MT20050813,     593,       AR04,          1,         17,         17,2,20050911,       0000,     18.532,    -63.975,       2191,    20.9,  30.0726,  35.9265,2,-999.0000,9, 193.8000,2,  -999.0,9,-999.000,9,-999.000,9,  30.0674
06MT20050813,     593,       AR04,          1,         15,         15,2,20050911,       0000,     18.532,    -63.975,       2191,   415.8,  15.2388,  36.0578,2,-999.0000,9, 159.0000,2,  -999.0,9,   2.101,2,   1.112,2,  15.1742
06MT20050813,     593,       AR04,          1,         14,         14,2,20050911,       0000,     18.532,    -63.975,       2191,   711.7,   8.8826,  35.1453,2,-999.0000,9, 128.9000,2,  -999.0,9,   0.534,2,   0.281,2,   8.8034
06MT20050813,     593,       AR04,          1,         13,         13,2,20050911,       0000,     18.532,    -63.975,       2191,   899.0,   6.5377,  34.9556,2,-999.0000,9, 149.3000,2,  -999.0,9,   0.241,2,   0.134,2,   6.4524
06MT20050813,     593,       AR04,          1,         12,         12,2,20050911,       0000,     18.532,    -63.975,       2191,  1098.7,   4.7866,  34.9558,2,-999.0000,9, 196.5000,2,  -999.0,9,   0.183,2,   0.097,2,   4.6952
06MT20050813,     593,       AR04,          1,         11,         11,2,20050911,       0000,     18.532,    -63.975,       2191,  1297.8,   4.4355,  34.9682,2,-999.0000,9, 207.3000,2,  -999.0,9,   0.197,2,   0.104,2,   4.3291
06MT20050813,     593,       AR04,          1,         10,         10,2,20050911,       0000,     18.532,    -63.975,       2191,  1494.3,   4.2887,  35.0021,2,-999.0000,9, 251.5000,2,  -999.0,9,-999.000,9,-999.000,9,   4.1657
06MT20050813,     593,       AR04,          1,          9,          9,2,20050911,       0000,     18.532,    -63.975,       2191,  1495.0,   4.2872,  35.0018,2,-999.0000,9, 251.6000,2,  -999.0,9,   1.251,2,   0.606,2,   4.1641
06MT20050813,     593,       AR04,          1,          8,          8,2,20050911,       0000,     18.532,    -63.975,       2191,  1696.1,   3.8252,  34.9756,2,-999.0000,9, 261.9000,2,  -999.0,9,   1.193,2,   0.576,2,   3.6890
06MT20050813,     593,       AR04,          1,          7,          7,2,20050911,       0000,     18.532,    -63.975,       2191,  1697.1,   3.8221,  34.9758,2,-999.0000,9, 261.9000,2,  -999.0,9,-999.000,9,-999.000,9,   3.6859
06MT20050813,     593,       AR04,          1,          6,          6,2,20050911,       0000,     18.532,    -63.975,       2191,  1701.5,   3.8153,  34.9755,2,-999.0000,9, 261.9000,2,  -999.0,9,-999.000,9,-999.000,9,   3.6788
06MT20050813,     593,       AR04,          1,          5,          5,2,20050911,       0000,     18.532,    -63.975,       2191,  1897.2,   3.5572,  34.9662,2,-999.0000,9, 262.9000,2,  -999.0,9,-999.000,9,-999.000,9,   3.4059
06MT20050813,     593,       AR04,          1,          4,          4,2,20050911,       0000,     18.532,    -63.975,       2191,  1899.1,   3.5578,  34.9667,2,-999.0000,9, 262.9000,2,  -999.0,9,   0.906,2,   0.443,2,   3.4063
06MT20050813,     593,       AR04,          1,          3,          3,2,20050911,       0000,     18.532,    -63.975,       2191,  2197.0,   3.2375,  34.9565,2,-999.0000,9, 261.7000,2,  -999.0,9,   0.614,2,   0.305,2,   3.0627
06MT20050813,     593,       AR04,          1,          1,          1,2,20050911,       0000,     18.532,    -63.975,       2191,  2197.4,   3.2374,  34.9563,2,-999.0000,9, 261.7000,2,  -999.0,9,-999.000,9,-999.000,9,   3.0626
06MT20050813,     593,       AR04,          1,          2,          2,2,20050911,       0000,     18.532,    -63.975,       2191,  2196.8,   3.2375,  34.9564,2,-999.0000,9, 261.7000,2,  -999.0,9,-999.000,9,-999.000,9,   3.0628
06MT20050813,     594,       AR04,          1,          4,          4,2,20050912,       0000,     18.548,      -64.0,       2072,    13.0,  30.0887,  35.9098,2,  35.9036,3, 193.0000,2,   199.5,3,-999.000,9,-999.000,9,  30.0855
06MT20050813,     594,       AR04,          1,          3,          3,2,20050912,       0000,     18.548,      -64.0,       2072,   599.4,  10.9070,  35.3892,2,-999.0000,9, 130.9000,2,   136.3,3,-999.000,9,-999.000,9,  10.8318
06MT20050813,     594,       AR04,          1,          2,          2,2,20050912,       0000,     18.548,      -64.0,       2072,  1398.7,   4.4204,  34.9953,2,  35.0033,2, 233.0000,2,   242.5,3,-999.000,9,-999.000,9,   4.3048
06MT20050813,     594,       AR04,          1,          1,          1,2,20050912,       0000,     18.548,      -64.0,       2072,  2095.1,   3.5201,  34.9639,2,  34.9639,2, 262.1000,2,   261.9,2,-999.000,9,-999.000,9,   3.3506
06MT20050813,     595,       AR04,          1,         14,         14,2,20050912,       0000,     18.567,    -64.035,       1458,    24.1,  30.0698,  35.8968,2,-999.0000,9, 193.7000,2,  -999.0,9,-999.000,9,-999.000,9,  30.0638
06MT20050813,     595,       AR04,          1,         13,         13,2,20050912,       0000,     18.567,    -64.035,       1458,    24.5,  30.0682,  35.8979,2,-999.0000,9, 193.7000,2,  -999.0,9,   1.444,2,   0.911,2,  30.0621
06MT20050813,     595,       AR04,          1,         12,         12,2,20050912,       0000,     18.567,    -64.035,       1458,   302.0,  17.6927,  36.4672,2,-999.0000,9, 186.9000,2,  -999.0,9,   2.288,2,   1.288,2,  17.6408
06MT20050813,     595,       AR04,          1,         11,         11,2,20050912,       0000,     18.567,    -64.035,       1458,   600.5,  10.7893,  35.3784,2,-999.0000,9, 131.0000,2,  -999.0,9,   0.974,2,   0.508,2,  10.7145
06MT20050813,     595,       AR04,          1,         10,         10,2,20050912,       0000,     18.567,    -64.035,       1458,   793.2,   7.6357,  35.0180,2,-999.0000,9, 132.1000,2,  -999.0,9,-999.000,9,-999.000,9,   7.5544
06MT20050813,     595,       AR04,          1,          9,          9,2,20050912,       0000,     18.567,    -64.035,       1458,   795.4,   7.6031,  35.0155,2,-999.0000,9, 132.3000,2,  -999.0,9,   0.257,2,   0.139,2,   7.5218
06MT20050813,     595,       AR04,          1,          8,          8,2,20050912,       0000,     18.567,    -64.035,       1458,   997.8,   5.8247,  34.9952,2,-999.0000,9, 180.3000,2,  -999.0,9,-999.000,9,-999.000,9,   5.7346
06MT20050813,     595,       AR04,          1,          7,          7,2,20050912,       0000,     18.567,    -64.035,       1458,  1002.1,   5.7644,  34.9994,2,-999.0000,9, 182.8000,2,  -999.0,9,   0.457,2,   0.232,2,   5.6743
06MT20050813,     595,       AR04,          1,          6,          6,2,20050912,       0000,     18.567,    -64.035,       1458,  1175.2,   4.6107,  34.9687,2,-999.0000,9, 205.6000,2,  -999.0,9,-999.000,9,-999.000,9,   4.5139
06MT20050813,     595,       AR04,          1,          5,          5,2,20050912,       0000,     18.567,    -64.035,       1458,  1219.0,   4.6161,  34.9855,2,-999.0000,9, 211.8000,2,  -999.0,9,-999.000,9,-999.000,9,   4.5152
06MT20050813,     595,       AR04,          1,          4,          4,2,20050912,       0000,     18.567,    -64.035,       1458,  1219.4,   4.6189,  34.9858,2,-999.0000,9, 211.8000,2,  -999.0,9,   0.497,2,   0.256,2,   4.5179
06MT20050813,     595,       AR04,          1,          3,          3,2,20050912,       0000,     18.567,    -64.035,       1458,  1505.3,   4.3559,  35.0016,2,-999.0000,9, 248.6000,2,  -999.0,9,   1.159,2,   0.570,2,   4.2311
06MT20050813,     595,       AR04,          1,          2,          2,2,20050912,       0000,     18.567,    -64.035,       1458,  1504.9,   4.3565,  35.0017,2,-999.0000,9, 248.6000,2,  -999.0,9,-999.000,9,-999.000,9,   4.2317
06MT20050813,     595,       AR04,          1,          1,          1,2,20050912,       0000,     18.567,    -64.035,       1458,  1504.8,   4.3561,  35.0018,2,-999.0000,9, 248.6000,2,  -999.0,9,-999.000,9,-999.000,9,   4.2313