BOTTLE,20120828SIOCCHMYS
EXPOCODE,STNNBR,SECT_ID,CASTNO,SAMPNO,BTLNBR,BTLNBR_FLAG_W,DATE,TIME,LATITUDE,LONGITUDE,DEPTH,CTDPRS,CTDTMP,CTDSAL,CTDSAL_FLAG_W,SALNTY,SALNTY_FLAG_W,CTDOXY,CTDOXY_FLAG_W,OXYGEN,OXYGEN_FLAG_W,CFC-11,CFC-11_FLAG_W,CFC-12,CFC-12_FLAG_W,THETA
,,,,,,,,,,,,DBAR,ITS-90,PSS-78,,PSS-78,,UMOL/KG,,UMOL/KG,,PMOL/KG,,PMOL/KG,,DEG C
06MT20050813,     565,       AR04,          1,          9,          9,2,20050909,       0000,     16.242,    -60.317,       4459,    15.6,  30.0633,  33.8413,2,-999.0000,9, 199.3000,2,  -999.0,9,-999.000,9,-999.000,9,  30.0594
06MT20050813,     565,       AR04,          1,          8,          8,2,20050909,       0000,     16.242,    -60.317,       4459,    15.6,  30.0633,  33.8413,2,-999.0000,9, 199.3000,2,   195.8,2,-999.000,9,-999.000,9,  30.0594
06MT20050813,     565,       AR04,          1,         10,         10,2,20050909,       0000,     16.242,    -60.317,       4459,    15.7,  30.0683,  33.8513,2,-999.0000,9, 199.3000,2,  -999.0,9,-999.000,9,-999.000,9,  30.0644
06MT20050813,     565,       AR04,          1,         11,         11,2,20050909,       0000,     16.242,    -60.317,       4459,    15.9,  30.0869,  33.8833,2,-999.0000,9, 199.4000,2,  -999.0,9,-999.000,9,-999.000,9,  30.0830
06MT20050813,     565,       AR04,          1,          7,          7,2,20050909,       0000,     16.242,    -60.317,       4459,   706.7,   7.5397,  34.8678,2,-999.0000,9, 123.6000,2,   129.3,3,-999.000,9,-999.000,9,   7.4684
06MT20050813,     565,       AR04,          1,          6,          6,2,20050909,       0000,     16.242,    -60.317,       4459,  1599.0,   3.9092,  34.9797,2,  34.9779,2, 261.7000,2,   275.9,3,-999.000,9,-999.000,9,   3.7810
06MT20050813,     565,       AR04,          1,          5,          5,2,20050909,       0000,     16.242,    -60.317,       4459,  1998.8,   3.5322,  34.9660,2,-999.0000,9, 263.1000,2,   254.3,3,-999.000,9,-999.000,9,   3.3717
06MT20050813,     565,       AR04,          1,          2,          2,2,20050909,       0000,     16.242,    -60.317,       4459,  3497.5,   2.4713,  34.9101,2,  34.9114,2, 265.6000,2,   264.5,2,-999.000,9,-999.000,9,   2.1798
06MT20050813,     565,       AR04,          1,          1,          1,2,20050909,       0000,     16.242,    -60.317,       4459,  4520.8,   2.2473,  34.8853,2,  34.8847,2, 261.0000,2,   259.5,2,-999.000,9,-999.000,9,   1.8453
06MT20050813,     565,       AR04,          1,          3,          3,2,20050909,       0000,     16.242,    -60.317,       4459,  2717.1,   2.9846,  34.9436,2,-999.0000,9, 262.0000,2,  -999.0,9,-999.000,9,-999.000,9,   2.7633
06MT20050813,     565,       AR04,          1,          4,          4,2,20050909,       0000,     16.242,    -60.317,       4459,  2716.7,   2.9857,  34.9437,2,  34.9419,2, 262.0000,2,   260.5,2,-999.000,9,-999.000,9,   2.7644
06MT20050813,     567,       AR04,          1,          9,          9,2,20050910,       0000,     16.549,    -61.508,        458,    10.6,  29.8333,  35.3040,2,  35.3021,2, 195.4000,2,  -999.0,9,-999.000,9,-999.000,9,  29.8307
06MT20050813,     567,       AR04,          1,          7,          7,2,20050910,       0000,     16.549,    -61.508,        458,   158.3,  23.4740,  37.0466,2,-999.0000,9, 191.0000,2,  -999.0,9,   1.884,6,   1.145,6,  23.4409
06MT20050813,     567,       AR04,          1,          6,          6,2,20050910,       0000,     16.549,    -61.508,        458,   158.3,  23.4797,  37.0485,2,-999.0000,9, 191.0000,2,  -999.0,9,-999.000,9,-999.000,9,  23.4466
06MT20050813,     567,       AR04,          1,          8,          8,2,20050910,       0000,     16.549,    -61.508,        458,   158.4,  23.4509,  37.0476,2,-999.0000,9, 190.9000,2,  -999.0,9,-999.000,9,-999.000,9,  23.4178
06MT20050813,     567,       AR04,          1,          5,          5,2,20050910,       0000,     16.549,    -61.508,        458,   298.6,  14.5199,  35.8338,2,-999.0000,9, 135.5000,2,  -999.0,9,-999.000,9,-999.000,9,  14.4752
06MT20050813,     567,       AR04,          1,          3,          3,2,20050910,       0000,     16.549,    -61.508,        458,   455.9,  11.1845,  35.3372,2,-999.0000,9, 124.6000,2,  -999.0,9,   1.290,6,   0.700,6,  11.1268
06MT20050813,     567,       AR04,          1,          2,          2,2,20050910,       0000,     16.549,    -61.508,        458,   456.1,  11.1916,  35.3372,2,-999.0000,9, 124.6000,2,  -999.0,9,-999.000,9,-999.000,9,  11.1339
06MT20050813,     567,       AR04,          1,          4,          4,2,20050910,       0000,     16.549,    -61.508,        458,   299.7,  14.4342,  35.8194,2,-999.0000,9, 135.1000,2,   135.9,2,   1.824,2,   1.009,2,  14.3895
06MT20050813,     567,       AR04,          1,          1,          1,2,20050910,       0000,     16.549,    -61.508,        458,   456.1,  11.1902,  35.3384,2,  35.3322,2, 124.6000,2,   126.0,6,-999.000,9,-999.000,9,  11.1325
06MT20050813,     569,       AR04,          1,          3,          3,2,20050910,       0000,     16.608,    -61.534,        433,    11.8,  29.8999,  35.4337,2,-999.0000,9, 195.1000,2,   194.3,2,-999.000,9,-999.000,9,  29.8970
06MT20050813,     569,       AR04,          1,          2,          2,2,20050910,       0000,     16.608,    -61.534,        433,   202.4,  19.9204,  36.7769,2,  36.6514,3, 157.0000,2,   144.0,3,-999.000,9,-999.000,9,  19.8827
06MT20050813,     569,       AR04,          1,          1,          1,2,20050910,       0000,     16.608,    -61.534,        433,   432.7,  12.7835,  35.5542,2,  35.5499,2, 129.3000,2,   132.9,2,-999.000,9,-999.000,9,  12.7238
06MT20050813,     570,       AR04,          1,          7,          7,2,20050910,       0000,     16.666,    -61.559,        417,    10.4,  29.9037,  35.4883,2,-999.0000,9, 195.9000,2,  -999.0,9,-999.000,9,-999.000,9,  29.9011
06MT20050813,     570,       AR04,          1,          8,          8,2,20050910,       0000,     16.666,    -61.559,        417,    10.6,  29.9030,  35.4875,2,-999.0000,9, 196.0000,2,  -999.0,9,   1.463,2,   0.932,2,  29.9004
06MT20050813,     570,       AR04,          1,          6,          6,2,20050910,       0000,     16.666,    -61.559,        417,   250.4,  17.1208,  36.3638,2,-999.0000,9, 163.4000,2,  -999.0,9,   2.167,6,   1.237,6,  17.0788
06MT20050813,     570,       AR04,          1,          5,          5,2,20050910,       0000,     16.666,    -61.559,        417,   256.7,  16.9423,  36.3322,2,-999.0000,9, 162.6000,2,  -999.0,9,-999.000,9,-999.000,9,  16.8996
06MT20050813,     570,       AR04,          1,          4,          4,2,20050910,       0000,     16.666,    -61.559,        417,   256.8,  16.9405,  36.3316,2,  36.2708,3, 162.6000,2,   160.4,2,   2.168,6,   1.244,6,  16.8978
06MT20050813,     570,       AR04,          1,          3,          3,2,20050910,       0000,     16.666,    -61.559,        417,   409.1,  12.6649,  35.5463,2,-999.0000,9, 129.4000,2,  -999.0,9,   1.668,2,   0.926,2,  12.6088
06MT20050813,     570,       AR04,          1,          1,          1,2,20050910,       0000,     16.666,    -61.559,        417,   413.0,  12.5150,  35.5189,2,  35.5464,3, 129.2000,2,   132.6,2,-999.000,9,-999.000,9,  12.4588
06MT20050813,     570,       AR04,          1,          2,          2,2,20050910,       0000,     16.666,    -61.559,        417,   409.1,  12.6667,  35.5468,2,-999.0000,9, 129.4000,2,  -999.0,9,-999.000,9,-999.000,9,  12.6106
06MT20050813,     571,       AR04,          1,         11,         11,2,20050910,       0000,     16.722,    -61.584,        190,     9.9,  29.8942,  35.4738,2,-999.0000,9, 194.8000,2,   203.6,3,   1.474,2,   0.928,2,  29.8917
06MT20050813,     571,       AR04,          1,         10,         10,2,20050910,       0000,     16.722,    -61.584,        190,    15.7,  29.8921,  35.4620,2,-999.0000,9, 194.6000,2,  -999.0,9,-999.000,9,-999.000,9,  29.8882
06MT20050813,     571,       AR04,          1,          9,          9,2,20050910,       0000,     16.722,    -61.584,        190,   207.2,  19.0703,  36.5109,2,-999.0000,9, 144.3000,2,  -999.0,9,   2.106,2,   1.195,2,  19.0329
06MT20050813,     571,       AR04,          1,          8,          8,2,20050910,       0000,     16.722,    -61.584,        190,   398.5,  13.0109,  35.6488,2,-999.0000,9, 128.2000,2,  -999.0,9,-999.000,9,-999.000,9,  12.9553
06MT20050813,     571,       AR04,          1,          5,          5,2,20050910,       0000,     16.722,    -61.584,        190,   600.3,   8.3110,  34.9106,2,-999.0000,9, 120.0000,2,  -999.0,9,-999.000,9,-999.000,9,   8.2474
06MT20050813,     571,       AR04,          1,          6,          6,2,20050910,       0000,     16.722,    -61.584,        190,   398.5,  13.0109,  35.6488,2,-999.0000,9, 128.2000,2,  -999.0,9,   1.620,2,   0.845,2,  12.9553
06MT20050813,     571,       AR04,          1,          7,          7,2,20050910,       0000,     16.722,    -61.584,        190,   399.1,  12.9749,  35.6429,2,-999.0000,9, 128.1000,2,  -999.0,9,-999.000,9,-999.000,9,  12.9193
06MT20050813,     571,       AR04,          1,          4,          4,2,20050910,       0000,     16.722,    -61.584,        190,   604.6,   8.3223,  34.9167,2,  34.9291,3, 120.0000,2,   119.7,2,   0.703,2,   0.354,2,   8.2581
06MT20050813,     571,       AR04,          1,          3,          3,2,20050910,       0000,     16.722,    -61.584,        190,   675.1,   7.4652,  34.8636,2,-999.0000,9, 123.6000,2,  -999.0,9,-999.000,9,-999.000,9,   7.3976
06MT20050813,     571,       AR04,          1,          2,          2,2,20050910,       0000,     16.722,    -61.584,        190,   675.2,   7.4610,  34.8617,2,-999.0000,9, 123.6000,2,  -999.0,9,   0.459,2,   0.250,2,   7.3934
06MT20050813,     571,       AR04,          1,          1,          1,2,20050910,       0000,     16.722,    -61.584,        190,   676.2,   7.4573,  34.8607,2,  34.8561,2, 123.6000,2,   126.5,2,-999.000,9,-999.000,9,   7.3896
06MT20050813,     572,       AR04,          1,         11,         11,2,20050910,       0000,     16.782,    -61.609,        853,     9.9,  29.8792,  35.3690,2,-999.0000,9, 194.5000,2,  -999.0,9,   1.479,2,   0.931,2,  29.8768
06MT20050813,     572,       AR04,          1,         10,         10,2,20050910,       0000,     16.782,    -61.609,        853,    10.2,  29.8783,  35.3687,2,-999.0000,9, 194.5000,2,  -999.0,9,-999.000,9,-999.000,9,  29.8758
06MT20050813,     572,       AR04,          1,          9,          9,2,20050910,       0000,     16.782,    -61.609,        853,   151.4,  23.1135,  37.0199,2,-999.0000,9, 177.8000,2,  -999.0,9,   2.039,2,   1.182,2,  23.0822
06MT20050813,     572,       AR04,          1,          8,          8,2,20050910,       0000,     16.782,    -61.609,        853,   359.1,  14.1928,  35.8533,2,  35.8255,3, 134.5000,2,   137.0,2,   1.944,2,   1.038,2,  14.1397
06MT20050813,     572,       AR04,          1,          7,          7,2,20050910,       0000,     16.782,    -61.609,        853,   359.5,  14.1855,  35.8527,2,-999.0000,9, 134.4000,2,  -999.0,9,-999.000,9,-999.000,9,  14.1324
06MT20050813,     572,       AR04,          1,          6,          6,2,20050910,       0000,     16.782,    -61.609,        853,   549.1,   9.1124,  34.9704,2,-999.0000,9, 119.1000,2,  -999.0,9,-999.000,9,-999.000,9,   9.0511
06MT20050813,     572,       AR04,          1,          5,          5,2,20050910,       0000,     16.782,    -61.609,        853,   549.2,   9.1055,  34.9685,2,-999.0000,9, 119.1000,2,  -999.0,9,-999.000,9,-999.000,9,   9.0442
06MT20050813,     572,       AR04,          1,          4,          4,2,20050910,       0000,     16.782,    -61.609,        853,   549.5,   9.0588,  34.9623,2,-999.0000,9, 119.1000,2,  -999.0,9,   0.969,2,   0.502,2,   8.9977
06MT20050813,     572,       AR04,          1,          3,          3,2,20050910,       0000,     16.782,    -61.609,        853,   849.9,   6.4027,  34.8380,2,-999.0000,9, 135.3000,2,  -999.0,9,   0.193,2,   0.103,2,   6.3233
06MT20050813,     572,       AR04,          1,          2,          2,2,20050910,       0000,     16.782,    -61.609,        853,   849.8,   6.4086,  34.8365,2,-999.0000,9, 135.3000,2,  -999.0,9,-999.000,9,-999.000,9,   6.3292
06MT20050813,     572,       AR04,          1,          1,          1,2,20050910,       0000,     16.782,    -61.609,        853,   851.0,   6.3934,  34.8371,2,  34.8337,2, 135.3000,2,   139.0,6,-999.000,9,-999.000,9,   6.3140
06MT20050813,     573,       AR04,          1,          3,          3,2,20050910,       0000,      16.84,    -61.635,        427,     7.0,  29.9469,  35.3297,2,  35.2792,3, 195.5000,2,   198.4,2,-999.000,9,-999.000,9,  29.9452
06MT20050813,     573,       AR04,          1,          2,          2,2,20050910,       0000,      16.84,    -61.635,        427,   204.8,  20.3175,  36.7159,2,-999.0000,9, 152.4000,2,   147.9,3,-999.000,9,-999.000,9,  20.2788
06MT20050813,     573,       AR04,          1,          1,          1,2,20050910,       0000,      16.84,    -61.635,        427,   424.2,  11.7540,  35.4213,2,  35.4986,3, 128.7000,2,   128.4,6,-999.000,9,-999.000,9,  11.6986
06MT20050813,     574,       AR04,          1,         10,         10,2,20050910,       0000,     16.899,    -61.659,        478,    11.6,  29.9377,  35.2643,2,-999.0000,9, 196.3000,2,  -999.0,9,-999.000,9,-999.000,9,  29.9348
06MT20050813,     574,       AR04,          1,          9,          9,2,20050910,       0000,     16.899,    -61.659,        478,    11.6,  29.9377,  35.2643,2,-999.0000,9, 196.3000,2,  -999.0,9,-999.000,9,-999.000,9,  29.9348
06MT20050813,     574,       AR04,          1,          8,          8,2,20050910,       0000,     16.899,    -61.659,        478,   104.0,  25.2767,  36.8072,2,  36.8099,2, 185.0000,2,  -999.0,9,-999.000,9,-999.000,9,  25.2538
06MT20050813,     574,       AR04,          1,          7,          7,2,20050910,       0000,     16.899,    -61.659,        478,   105.1,  25.2583,  36.8158,2,-999.0000,9, 185.0000,2,  -999.0,9,-999.000,9,-999.000,9,  25.2352
06MT20050813,     574,       AR04,          1,          6,          6,2,20050910,       0000,     16.899,    -61.659,        478,   305.3,  15.9457,  36.1000,2,-999.0000,9, 147.4000,2,  -999.0,9,-999.000,9,-999.000,9,  15.8969
06MT20050813,     574,       AR04,          1,          5,          5,2,20050910,       0000,     16.899,    -61.659,        478,   305.9,  15.8969,  36.0933,2,-999.0000,9, 147.3000,2,  -999.0,9,-999.000,9,-999.000,9,  15.8481
06MT20050813,     574,       AR04,          1,          4,          4,2,20050910,       0000,     16.899,    -61.659,        478,   309.7,  15.7332,  36.0586,2,-999.0000,9, 146.4000,2,   140.7,3,-999.000,9,-999.000,9,  15.6842
06MT20050813,     574,       AR04,          1,          3,          3,2,20050910,       0000,     16.899,    -61.659,        478,   468.5,  11.1147,  35.3208,2,-999.0000,9, 123.6000,2,  -999.0,9,-999.000,9,-999.000,9,  11.0556
06MT20050813,     574,       AR04,          1,          2,          2,2,20050910,       0000,     16.899,    -61.659,        478,   467.4,  11.1247,  35.3178,2,-999.0000,9, 123.7000,2,  -999.0,9,-999.000,9,-999.000,9,  11.0657
06MT20050813,     574,       AR04,          1,          1,          1,2,20050910,       0000,     16.899,    -61.659,        478,   467.4,  11.1247,  35.3178,2,  35.3206,2, 123.7000,2,   125.0,2,-999.000,9,-999.000,9,  11.0657
06MT20050813,     575,       AR04,          1,          3,          3,2,20050910,       0000,     16.915,     -61.65,        418,     9.9,  29.9454,  35.2522,2,  35.2638,3, 195.1000,2,   193.1,6,-999.000,9,-999.000,9,  29.9429
06MT20050813,     575,       AR04,          1,          2,          2,2,20050910,       0000,     16.915,     -61.65,        418,   154.5,  22.2454,  36.8566,2,-999.0000,9, 168.7000,2,   164.2,2,-999.000,9,-999.000,9,  22.2143
06MT20050813,     575,       AR04,          1,          1,          1,2,20050910,       0000,     16.915,     -61.65,        418,   414.3,  12.1164,  35.4710,2,  35.4860,3, 127.4000,2,   129.9,2,-999.000,9,-999.000,9,  12.0613
06MT20050813,     582,       AR04,          1,          3,          3,2,20050911,       0000,      18.25,    -63.351,        438,    10.7,  30.2268,  34.9577,2,  34.9557,3, 194.1000,2,   196.1,2,-999.000,9,-999.000,9,  30.2241
06MT20050813,     582,       AR04,          1,          2,          2,2,20050911,       0000,      18.25,    -63.351,        438,   100.2,  25.3779,  36.8343,2,-999.0000,9, 189.6000,2,   197.1,3,-999.000,9,-999.000,9,  25.3558
06MT20050813,     582,       AR04,          1,          1,          1,2,20050911,       0000,      18.25,    -63.351,        438,   435.9,  14.1542,  35.8624,2,  35.8731,3, 144.8000,2,   150.2,3,-999.000,9,-999.000,9,  14.0897
06MT20050813,     583,       AR04,          1,          3,          3,2,20050911,       0000,     18.267,    -63.392,        852,    19.3,  30.2030,  34.7934,2,-999.0000,9, 194.6000,2,   187.3,3,-999.000,9,-999.000,9,  30.1982
06MT20050813,     583,       AR04,          1,          2,          2,2,20050911,       0000,     18.267,    -63.392,        852,   299.3,  17.5159,  36.4389,2,  36.3174,3, 180.2000,2,   166.4,3,-999.000,9,-999.000,9,  17.4648
06MT20050813,     583,       AR04,          1,          1,          1,2,20050911,       0000,     18.267,    -63.392,        852,   850.1,   6.7050,  34.9399,2,  34.9370,2, 146.6000,2,   146.5,6,-999.000,9,-999.000,9,   6.6236
06MT20050813,     584,       AR04,          1,          4,          4,2,20050911,       0000,     18.309,    -63.451,        901,    13.9,  30.1168,  34.7869,2,-999.0000,9, 194.3000,2,   191.4,6,-999.000,9,-999.000,9,  30.1133
06MT20050813,     584,       AR04,          1,          3,          3,2,20050911,       0000,     18.309,    -63.451,        901,   145.7,  24.0294,  36.9890,2,  36.9981,2, 198.5000,2,  -999.0,9,-999.000,9,-999.000,9,  23.9984
06MT20050813,     584,       AR04,          1,          2,          2,2,20050911,       0000,     18.309,    -63.451,        901,   410.2,  15.5854,  36.1144,2,-999.0000,9, 161.2000,2,   152.6,3,-999.000,9,-999.000,9,  15.5207
06MT20050813,     584,       AR04,          1,          1,          1,2,20050911,       0000,     18.309,    -63.451,        901,   896.7,   6.2342,  34.9342,2,  34.9277,2, 155.4000,2,   154.1,2,-999.000,9,-999.000,9,   6.1512
06MT20050813,     585,       AR04,          1,          3,          3,2,20050911,       0000,     18.335,    -63.508,       1001,   302.4,  17.5336,  36.4357,2,  36.3863,3, 181.6000,2,   174.6,3,-999.000,9,-999.000,9,  17.4820
06MT20050813,     585,       AR04,          1,          2,          2,2,20050911,       0000,     18.335,    -63.508,       1001,   604.5,   9.5771,  35.2039,2,-999.0000,9, 127.0000,2,   129.1,2,-999.000,9,-999.000,9,   9.5072
06MT20050813,     585,       AR04,          1,          1,          1,2,20050911,       0000,     18.335,    -63.508,       1001,   994.1,   5.5426,  34.9839,2,  34.9793,2, 189.6000,2,   186.8,2,-999.000,9,-999.000,9,   5.4550
06MT20050813,     586,       AR04,          1,          4,          4,2,20050911,       0000,     18.359,    -63.567,       1064,    32.1,  30.0486,  35.9479,2,-999.0000,9, 196.8000,2,   194.9,2,-999.000,9,-999.000,9,  30.0406
06MT20050813,     586,       AR04,          1,          3,          3,2,20050911,       0000,     18.359,    -63.567,       1064,   499.7,  12.2054,  35.5863,2,-999.0000,9, 139.9000,2,   137.5,2,-999.000,9,-999.000,9,  12.1383
06MT20050813,     586,       AR04,          1,          2,          2,2,20050911,       0000,     18.359,    -63.567,       1064,   799.9,   7.2768,  34.9795,2,  34.9716,3, 137.0000,2,   144.3,3,-999.000,9,-999.000,9,   7.1970
06MT20050813,     586,       AR04,          1,          1,          1,2,20050911,       0000,     18.359,    -63.567,       1064,  1060.8,   5.2946,  34.9852,2,  34.9824,2, 197.3000,2,   193.1,2,-999.000,9,-999.000,9,   5.2026