BOTTLE,20090923WHPSIOMYS
EXPOCODE,SECT_ID,STNNBR,CASTNO,SAMPNO,BTLNBR,BTLNBR_FLAG_W,DATE,TIME,LATITUDE,LONGITUDE,DEPTH,CTDRAW,CTDPRS,CTDTMP,CTDSAL,CTDSAL_FLAG_W,SALNTY,SALNTY_FLAG_W,CTDOXY,CTDOXY_FLAG_W,THETA,OXYGEN,OXYGEN_FLAG_W,SILCAT,SILCAT_FLAG_W,NO2+NO3,NO2+NO3_FLAG_W,PHSPHT,PHSPHT_FLAG_W,REVPRS,REVTMP
,,,,,,,,,,,,,DBAR,ITS-90,PSS-78,,PSS-78,,UMOL/KG,,ITS-90,UMOL/KG,,UMOL/KG,,UMOL/KG,,UMOL/KG,,DBAR,DEG C
     33KI144_1,  PRS2,     2,  8,      8,     29,2,20030117,1455, 22.7490,-157.9992, 4721,      5,      3.9,  23.6765,  35.3393,2,  35.3370,2,    205.6,1, 23.6757,   -999.0,9,  -999.00,9,  -999.00,9,  -999.00,9,  -999.0,-999.000
     33KI144_1,  PRS2,     2,  8,      7,     28,2,20030117,1455, 22.7490,-157.9992, 4721,    523,    524.3,   7.1876,  34.0401,2,  34.0407,2,    124.6,1,  7.1373,   -999.0,9,  -999.00,9,  -999.00,9,  -999.00,9,  -999.0,-999.000
     33KI144_1,  PRS2,     2,  8,      1,     33,2,20030117,1455, 22.7490,-157.9992, 4721,   1021,   1021.2,   4.0859,  34.4696,2,  34.4693,2,     38.2,1,  4.0079,   -999.0,9,  -999.00,9,  -999.00,9,  -999.00,9,  -999.0,-999.000
     33KI144_1,  PRS2,     2,  8,      2,     34,2,20030117,1455, 22.7490,-157.9992, 4721,   1022,   1021.7,   4.0856,  34.4694,2,  34.4732,2,     38.2,1,  4.0076,   -999.0,9,  -999.00,9,  -999.00,9,  -999.00,9,  -999.0,-999.000
     33KI144_1,  PRS2,     2,  8,      3,     35,2,20030117,1455, 22.7490,-157.9992, 4721,   1022,   1022.0,   4.0853,  34.4693,2,  34.4691,2,     38.2,1,  4.0072,   -999.0,9,  -999.00,9,  -999.00,9,  -999.00,9,  -999.0,-999.000
     33KI144_1,  PRS2,     2,  8,      5,     38,2,20030117,1455, 22.7490,-157.9992, 4721,   1025,   1022.4,   4.0845,  34.4696,2,  34.4689,2,     38.2,1,  4.0063,   -999.0,9,  -999.00,9,  -999.00,9,  -999.00,9,  -999.0,-999.000
     33KI144_1,  PRS2,     2,  8,      6,      7,2,20030117,1455, 22.7490,-157.9992, 4721,   1025,   1022.7,   4.0820,  34.4699,2,  34.4687,2,     38.1,1,  4.0039,   -999.0,9,  -999.00,9,  -999.00,9,  -999.00,9,  -999.0,-999.000
     33KI144_1,  PRS2,     2,  8,      4,     36,2,20030117,1455, 22.7490,-157.9992, 4721,   1023,   1022.7,   4.0847,  34.4697,2,  34.4673,2,     38.2,1,  4.0065,   -999.0,9,  -999.00,9,  -999.00,9,  -999.00,9,  -999.0,-999.000
     33KI144_1,  PRS2,     2,  9,     14,     40,2,20030117,1759, 22.7363,-157.9882, 4725,      5,      4.4,  23.6929,  35.3428,2,  35.3425,2,    205.6,1, 23.6919,   -999.0,9,  -999.00,9,  -999.00,9,  -999.00,9,  -999.0,-999.000
     33KI144_1,  PRS2,     2,  9,     13,     13,3,20030117,1759, 22.7363,-157.9882, 4725,     25,     25.8,  23.6992,  35.3422,2,-999.0000,5,    205.5,1, 23.6938,   -999.0,9,  -999.00,9,  -999.00,9,  -999.00,9,  -999.0,-999.000
     33KI144_1,  PRS2,     2,  9,     12,     12,2,20030117,1759, 22.7363,-157.9882, 4725,     44,     44.3,  23.7051,  35.3432,2,  35.3427,2,    205.5,1, 23.6958,   -999.0,9,  -999.00,9,  -999.00,9,  -999.00,9,  -999.0,-999.000
     33KI144_1,  PRS2,     2,  9,     11,     39,2,20030117,1759, 22.7363,-157.9882, 4725,     60,     59.7,  23.7077,  35.3431,2,  35.3453,2,    205.5,1, 23.6953,   -999.0,9,  -999.00,9,  -999.00,9,  -999.00,9,  -999.0,-999.000
     33KI144_1,  PRS2,     2,  9,     10,     32,3,20030117,1759, 22.7363,-157.9882, 4725,     76,     75.6,  23.7094,  35.3424,2,  35.3399,2,    205.5,1, 23.6936,   -999.0,9,  -999.00,9,  -999.00,9,  -999.00,9,  -999.0,-999.000
     33KI144_1,  PRS2,     2,  9,      9,      3,2,20030117,1759, 22.7363,-157.9882, 4725,     84,     84.6,  23.7098,  35.3418,2,  35.3415,2,    205.5,1, 23.6921,   -999.0,9,  -999.00,9,  -999.00,9,  -999.00,9,  -999.0,-999.000
     33KI144_1,  PRS2,     2,  9,      8,     29,2,20030117,1759, 22.7363,-157.9882, 4725,    100,     98.3,  23.7084,  35.3420,2,  35.3397,2,    205.5,1, 23.6879,   -999.0,9,  -999.00,9,  -999.00,9,  -999.00,9,  -999.0,-999.000
     33KI144_1,  PRS2,     2,  9,      7,     28,2,20030117,1759, 22.7363,-157.9882, 4725,    115,    114.0,  23.4106,  35.3389,2,  35.3397,2,    205.3,1, 23.3870,   -999.0,9,  -999.00,9,  -999.00,9,  -999.00,9,  -999.0,-999.000
     33KI144_1,  PRS2,     2,  9,      6,      7,2,20030117,1759, 22.7363,-157.9882, 4725,    124,    123.9,  22.2437,  35.2988,2,  35.2982,2,    202.6,1, 22.2190,   -999.0,9,  -999.00,9,  -999.00,9,  -999.00,9,  -999.0,-999.000
     33KI144_1,  PRS2,     2,  9,      5,     38,2,20030117,1759, 22.7363,-157.9882, 4725,    149,    148.2,  20.8710,  35.2493,2,  35.2522,2,    196.0,1, 20.8427,   -999.0,9,  -999.00,9,  -999.00,9,  -999.00,9,  -999.0,-999.000
     33KI144_1,  PRS2,     2,  9,      4,     36,3,20030117,1759, 22.7363,-157.9882, 4725,    176,    173.9,  19.8944,  35.1493,2,  35.1581,2,    195.5,1, 19.8624,   -999.0,9,  -999.00,9,  -999.00,9,  -999.00,9,  -999.0,-999.000
     33KI144_1,  PRS2,     2,  9,      3,     35,2,20030117,1759, 22.7363,-157.9882, 4725,    201,    199.2,  18.5193,  34.9625,2,  34.9612,2,    200.0,1, 18.4844,   -999.0,9,  -999.00,9,  -999.00,9,  -999.00,9,  -999.0,-999.000
     33KI144_1,  PRS2,     2,  9,      2,     34,2,20030117,1759, 22.7363,-157.9882, 4725,    751,    750.7,   4.8579,  34.2969,2,  34.2958,2,     24.2,1,  4.7977,   -999.0,9,  -999.00,9,  -999.00,9,  -999.00,9,  -999.0,-999.000
     33KI144_1,  PRS2,     2,  9,      1,     33,2,20030117,1759, 22.7363,-157.9882, 4725,   1018,   1017.7,   3.9715,  34.4746,2,  34.4746,2,     40.5,1,  3.8946,   -999.0,9,  -999.00,9,  -999.00,9,  -999.00,9,  -999.0,-999.000
     33KI144_1,  PRS2,     2, 10,     10,     32,2,20030117,2056, 22.6828,-157.9872, 4725,      4,      4.6,  23.6731,  35.3421,2,  35.3403,2,    206.7,1, 23.6721,   -999.0,9,  -999.00,9,  -999.00,9,  -999.00,9,  -999.0,-999.000
     33KI144_1,  PRS2,     2, 10,      9,      3,2,20030117,2056, 22.6828,-157.9872, 4725,     27,     25.0,  23.6721,  35.3413,2,  35.3405,2,    206.7,1, 23.6668,   -999.0,9,  -999.00,9,  -999.00,9,  -999.00,9,  -999.0,-999.000
     33KI144_1,  PRS2,     2, 10,      8,     29,2,20030117,2056, 22.6828,-157.9872, 4725,     46,     45.6,  23.6777,  35.3413,2,  35.3390,2,    206.8,1, 23.6682,   -999.0,9,  -999.00,9,  -999.00,9,  -999.00,9,  -999.0,-999.000
     33KI144_1,  PRS2,     2, 10,      7,     28,2,20030117,2056, 22.6828,-157.9872, 4725,     76,     75.2,  23.6580,  35.3404,2,  35.3394,2,    206.8,1, 23.6423,   -999.0,9,  -999.00,9,  -999.00,9,  -999.00,9,  -999.0,-999.000
     33KI144_1,  PRS2,     2, 10,      6,      7,2,20030117,2056, 22.6828,-157.9872, 4725,    102,    101.4,  23.3381,  35.3178,2,  35.3366,4,    206.4,1, 23.3172,   -999.0,9,  -999.00,9,  -999.00,9,  -999.00,9,  -999.0,-999.000
     33KI144_1,  PRS2,     2, 10,      5,     38,2,20030117,2056, 22.6828,-157.9872, 4725,    126,    125.0,  21.2948,  35.2743,2,  35.2773,2,    198.4,1, 21.2706,   -999.0,9,  -999.00,9,  -999.00,9,  -999.00,9,  -999.0,-999.000
     33KI144_1,  PRS2,     2, 10,      4,     36,2,20030117,2056, 22.6828,-157.9872, 4725,    147,    146.6,  20.4160,  35.2017,2,  35.2008,2,    196.8,1, 20.3885,   -999.0,9,  -999.00,9,  -999.00,9,  -999.00,9,  -999.0,-999.000
     33KI144_1,  PRS2,     2, 10,      3,     35,3,20030117,2056, 22.6828,-157.9872, 4725,    172,    171.9,  19.2711,  35.0529,2,  35.0815,3,    200.7,1, 19.2401,   -999.0,9,  -999.00,9,  -999.00,9,  -999.00,9,  -999.0,-999.000
     33KI144_1,  PRS2,     2, 10,      2,     34,2,20030117,2056, 22.6828,-157.9872, 4725,    526,    525.6,   6.8008,  34.0436,2,  34.0439,2,    110.7,1,  6.7520,   -999.0,9,  -999.00,9,  -999.00,9,  -999.00,9,  -999.0,-999.000
     33KI144_1,  PRS2,     2, 10,      1,     33,2,20030117,2056, 22.6828,-157.9872, 4725,   1022,   1022.3,   3.9426,  34.4771,2,  34.4787,2,     40.7,1,  3.8656,   -999.0,9,  -999.00,9,  -999.00,9,  -999.00,9,  -999.0,-999.000
     33KI144_1,  PRS2,     2, 11,     11,     39,2,20030118,0029, 22.6640,-158.0088, 4734,      4,      3.0,  23.6821,  35.3414,2,  35.3530,3,    205.8,1, 23.6815,   -999.0,9,  -999.00,9,  -999.00,9,  -999.00,9,  -999.0,-999.000
     33KI144_1,  PRS2,     2, 11,     10,     32,2,20030118,0029, 22.6640,-158.0088, 4734,     23,     25.0,  23.6817,  35.3410,2,  35.3395,2,    206.2,1, 23.6765,   -999.0,9,  -999.00,9,  -999.00,9,  -999.00,9,  -999.0,-999.000
     33KI144_1,  PRS2,     2, 11,      9,      3,2,20030118,0029, 22.6640,-158.0088, 4734,     46,     44.0,  23.6824,  35.3408,2,  35.3539,3,    206.5,1, 23.6733,   -999.0,9,  -999.00,9,  -999.00,9,  -999.00,9,  -999.0,-999.000
     33KI144_1,  PRS2,     2, 11,      8,     29,2,20030118,0029, 22.6640,-158.0088, 4734,     76,     74.7,  23.6590,  35.3403,2,  35.3431,2,    206.9,1, 23.6434,   -999.0,9,  -999.00,9,  -999.00,9,  -999.00,9,  -999.0,-999.000
     33KI144_1,  PRS2,     2, 11,      7,     28,3,20030118,0029, 22.6640,-158.0088, 4734,    101,    100.2,  23.6417,  35.3374,2,-999.0000,5,    206.7,1, 23.6208,   -999.0,9,  -999.00,9,  -999.00,9,  -999.00,9,  -999.0,-999.000
     33KI144_1,  PRS2,     2, 11,      6,      7,2,20030118,0029, 22.6640,-158.0088, 4734,    125,    124.5,  22.8521,  35.3143,2,  35.3161,2,    203.3,1, 22.8267,   -999.0,9,  -999.00,9,  -999.00,9,  -999.00,9,  -999.0,-999.000
     33KI144_1,  PRS2,     2, 11,      5,     38,2,20030118,0029, 22.6640,-158.0088, 4734,    149,    149.0,  21.0500,  35.2570,2,  35.2623,2,    197.0,1, 21.0214,   -999.0,9,  -999.00,9,  -999.00,9,  -999.00,9,  -999.0,-999.000
     33KI144_1,  PRS2,     2, 11,      4,     36,2,20030118,0029, 22.6640,-158.0088, 4734,    253,    251.8,  15.3132,  34.5272,2,  34.5307,2,    210.3,1, 15.2746,   -999.0,9,  -999.00,9,  -999.00,9,  -999.00,9,  -999.0,-999.000
     33KI144_1,  PRS2,     2, 11,      3,     35,2,20030118,0029, 22.6640,-158.0088, 4734,    350,    349.4,  11.2281,  34.2310,2,  34.2366,2,    208.1,1, 11.1845,   -999.0,9,  -999.00,9,  -999.00,9,  -999.00,9,  -999.0,-999.000
     33KI144_1,  PRS2,     2, 11,      2,     34,2,20030118,0029, 22.6640,-158.0088, 4734,    750,    750.2,   4.8485,  34.2963,2,  34.2946,2,     24.0,1,  4.7884,   -999.0,9,  -999.00,9,  -999.00,9,  -999.00,9,  -999.0,-999.000
     33KI144_1,  PRS2,     2, 11,      1,     33,2,20030118,0029, 22.6640,-158.0088, 4734,   1020,   1019.6,   3.8864,  34.4838,2,  34.4830,2,     42.9,1,  3.8100,   -999.0,9,  -999.00,9,  -999.00,9,  -999.00,9,  -999.0,-999.000
     33KI144_1,  PRS2,     2, 12,      4,     36,2,20030118,0221, 22.6797,-158.0013, 4729,      5,      4.8,  23.6880,  35.3411,2,  35.3464,2,    205.7,1, 23.6870,   -999.0,9,  -999.00,9,  -999.00,9,  -999.00,9,  -999.0,-999.000
     33KI144_1,  PRS2,     2, 12,      3,     35,2,20030118,0221, 22.6797,-158.0013, 4729,    361,    359.5,  11.1532,  34.2263,2,  34.2260,2,    208.3,1, 11.1086,   -999.0,9,  -999.00,9,  -999.00,9,  -999.00,9,  -999.0,-999.000
     33KI144_1,  PRS2,     2, 12,      2,     34,2,20030118,0221, 22.6797,-158.0013, 4729,    529,    527.7,   7.1917,  34.0434,2,  34.0425,2,    127.5,1,  7.1411,   -999.0,9,  -999.00,9,  -999.00,9,  -999.00,9,  -999.0,-999.000
     33KI144_1,  PRS2,     2, 12,      1,     33,2,20030118,0221, 22.6797,-158.0013, 4729,   1021,   1020.4,   3.9413,  34.4780,2,  34.4815,2,     40.9,1,  3.8645,   -999.0,9,  -999.00,9,  -999.00,9,  -999.00,9,  -999.0,-999.000
     33KI144_1,  PRS2,     2, 13,     22,     22,2,20030118,0549, 22.7527,-157.9958, 4722,      6,      5.4,  23.6961,  35.3554,2,  35.3533,2,    207.0,1, 23.6950,   -999.0,9,  -999.00,9,  -999.00,9,  -999.00,9,  -999.0,-999.000
     33KI144_1,  PRS2,     2, 13,     23,     30,2,20030118,0549, 22.7527,-157.9958, 4722,      6,      5.5,  23.6930,  35.3556,2,  35.3612,2,    206.9,1, 23.6918,   -999.0,9,  -999.00,9,  -999.00,9,  -999.00,9,  -999.0,-999.000
     33KI144_1,  PRS2,     2, 13,     21,     21,2,20030118,0549, 22.7527,-157.9958, 4722,     25,     24.7,  23.7078,  35.3551,2,  35.3555,2,    207.1,1, 23.7026,   -999.0,9,  -999.00,9,  -999.00,9,  -999.00,9,  -999.0,-999.000
     33KI144_1,  PRS2,     2, 13,     20,     20,2,20030118,0549, 22.7527,-157.9958, 4722,     26,     24.7,  23.7079,  35.3550,2,  35.3687,3,    207.1,1, 23.7028,   -999.0,9,  -999.00,9,  -999.00,9,  -999.00,9,  -999.0,-999.000
     33KI144_1,  PRS2,     2, 13,     18,     18,2,20030118,0549, 22.7527,-157.9958, 4722,     44,     44.0,  23.7075,  35.3549,2,  35.3526,2,    207.0,1, 23.6983,   -999.0,9,  -999.00,9,  -999.00,9,  -999.00,9,  -999.0,-999.000
     33KI144_1,  PRS2,     2, 13,     19,     19,2,20030118,0549, 22.7527,-157.9958, 4722,     45,     44.1,  23.7079,  35.3548,2,  35.3528,2,    207.1,1, 23.6986,   -999.0,9,  -999.00,9,  -999.00,9,  -999.00,9,  -999.0,-999.000
     33KI144_1,  PRS2,     2, 13,     17,     17,2,20030118,0549, 22.7527,-157.9958, 4722,     61,     60.5,  23.7129,  35.3551,2,  35.3532,2,    206.8,1, 23.7003,   -999.0,9,  -999.00,9,  -999.00,9,  -999.00,9,  -999.0,-999.000
     33KI144_1,  PRS2,     2, 13,     15,     23,2,20030118,0549, 22.7527,-157.9958, 4722,     77,     74.9,  23.7177,  35.3553,2,  35.3949,4,    206.5,1, 23.7020,   -999.0,9,  -999.00,9,  -999.00,9,  -999.00,9,  -999.0,-999.000
     33KI144_1,  PRS2,     2, 13,     16,     16,2,20030118,0549, 22.7527,-157.9958, 4722,     77,     75.3,  23.7183,  35.3551,2,  35.3528,2,    206.7,1, 23.7026,   -999.0,9,  -999.00,9,  -999.00,9,  -999.00,9,  -999.0,-999.000
     33KI144_1,  PRS2,     2, 13,     14,     40,2,20030118,0549, 22.7527,-157.9958, 4722,     85,     83.8,  23.7204,  35.3552,2,  35.3526,2,    206.5,1, 23.7029,   -999.0,9,  -999.00,9,  -999.00,9,  -999.00,9,  -999.0,-999.000
     33KI144_1,  PRS2,     2, 13,     12,     12,3,20030118,0549, 22.7527,-157.9958, 4722,    101,    101.0,  23.7107,  35.3559,2,  35.3551,2,    206.5,1, 23.6896,   -999.0,9,  -999.00,9,  -999.00,9,  -999.00,9,  -999.0,-999.000
     33KI144_1,  PRS2,     2, 13,     13,     13,3,20030118,0549, 22.7527,-157.9958, 4722,    103,    101.4,  23.7163,  35.3556,2,  35.3579,2,    206.5,1, 23.6951,   -999.0,9,  -999.00,9,  -999.00,9,  -999.00,9,  -999.0,-999.000
     33KI144_1,  PRS2,     2, 13,     11,     39,3,20030118,0549, 22.7527,-157.9958, 4722,    117,    114.8,  23.6510,  35.3592,2,  35.3620,2,    206.5,1, 23.6271,   -999.0,9,  -999.00,9,  -999.00,9,  -999.00,9,  -999.0,-999.000
     33KI144_1,  PRS2,     2, 13,     10,     32,3,20030118,0549, 22.7527,-157.9958, 4722,    115,    114.8,  23.6621,  35.3569,2,  35.3593,2,    206.2,1, 23.6381,   -999.0,9,  -999.00,9,  -999.00,9,  -999.00,9,  -999.0,-999.000
     33KI144_1,  PRS2,     2, 13,      9,      3,2,20030118,0549, 22.7527,-157.9958, 4722,    122,    123.1,  22.5550,  35.3270,2,  35.3466,3,    201.1,1, 22.5302,   -999.0,9,  -999.00,9,  -999.00,9,  -999.00,9,  -999.0,-999.000
     33KI144_1,  PRS2,     2, 13,      8,     29,2,20030118,0549, 22.7527,-157.9958, 4722,    123,    123.5,  22.5550,  35.3268,2,  35.3392,2,    200.6,1, 22.5301,   -999.0,9,  -999.00,9,  -999.00,9,  -999.00,9,  -999.0,-999.000
     33KI144_1,  PRS2,     2, 13,      7,     28,2,20030118,0549, 22.7527,-157.9958, 4722,    137,    136.6,  21.7268,  35.2885,2,  35.2956,2,    201.2,1, 21.7000,   -999.0,9,  -999.00,9,  -999.00,9,  -999.00,9,  -999.0,-999.000
     33KI144_1,  PRS2,     2, 13,      5,     38,2,20030118,0549, 22.7527,-157.9958, 4722,    152,    150.9,  21.0677,  35.2646,2,  35.2643,2,    195.5,1, 21.0387,   -999.0,9,  -999.00,9,  -999.00,9,  -999.00,9,  -999.0,-999.000
     33KI144_1,  PRS2,     2, 13,      6,      7,3,20030118,0549, 22.7527,-157.9958, 4722,    153,    151.4,  21.0513,  35.2635,2,  35.2783,2,    195.5,1, 21.0222,   -999.0,9,  -999.00,9,  -999.00,9,  -999.00,9,  -999.0,-999.000
     33KI144_1,  PRS2,     2, 13,      4,     36,2,20030118,0549, 22.7527,-157.9958, 4722,    177,    177.0,  20.3197,  35.2054,2,  35.2199,2,    194.5,1, 20.2866,   -999.0,9,  -999.00,9,  -999.00,9,  -999.00,9,  -999.0,-999.000
     33KI144_1,  PRS2,     2, 13,      3,     35,2,20030118,0549, 22.7527,-157.9958, 4722,    180,    177.3,  20.2844,  35.2007,2,  35.1979,2,    194.4,1, 20.2513,   -999.0,9,  -999.00,9,  -999.00,9,  -999.00,9,  -999.0,-999.000
     33KI144_1,  PRS2,     2, 13,      2,     34,2,20030118,0549, 22.7527,-157.9958, 4722,    495,    494.8,   7.5162,  34.0441,2,  34.0443,2,    137.7,1,  7.4677,   -999.0,9,  -999.00,9,  -999.00,9,  -999.00,9,  -999.0,-999.000
     33KI144_1,  PRS2,     2, 13,      1,     33,2,20030118,0549, 22.7527,-157.9958, 4722,   1022,   1020.1,   3.8985,  34.4823,2,  34.4840,2,     41.7,1,  3.8219,   -999.0,9,  -999.00,9,  -999.00,9,  -999.00,9,  -999.0,-999.000
     33KI144_1,  PRS2,     2, 14,      9,      3,2,20030118,0853, 22.7512,-158.0060, 4724,      6,      5.1,  23.6556,  35.3550,2,  35.3642,2,    206.4,2, 23.6545,    208.5,3,  -999.00,9,  -999.00,9,  -999.00,9,  -999.0,-999.000
     33KI144_1,  PRS2,     2, 14,      8,     29,2,20030118,0853, 22.7512,-158.0060, 4724,    120,    119.6,  21.8128,  35.2942,2,  35.2924,2,    199.0,2, 21.7892,    202.7,3,  -999.00,9,  -999.00,9,  -999.00,9,  -999.0,-999.000
     33KI144_1,  PRS2,     2, 14,      7,     28,2,20030118,0853, 22.7512,-158.0060, 4724,    359,    358.6,  10.9482,  34.2056,2,  34.2083,2,    207.5,2, 10.9042,    204.2,3,  -999.00,9,  -999.00,9,  -999.00,9,  -999.0,-999.000
     33KI144_1,  PRS2,     2, 14,      6,      7,2,20030118,0853, 22.7512,-158.0060, 4724,    518,    518.1,   7.0085,  34.0434,2,  34.0429,2,    120.8,2,  6.9596,    122.3,3,  -999.00,9,  -999.00,9,  -999.00,9,  -999.0,-999.000
     33KI144_1,  PRS2,     2, 14,      5,     38,2,20030118,0853, 22.7512,-158.0060, 4724,    753,    752.3,   4.8340,  34.3009,2,  34.2999,2,     23.8,2,  4.7739,     30.6,3,  -999.00,9,  -999.00,9,  -999.00,9,  -999.0,-999.000
     33KI144_1,  PRS2,     2, 14,      4,     36,2,20030118,0853, 22.7512,-158.0060, 4724,   2001,   1999.6,   2.1262,  34.6218,2,  34.6209,2,     88.6,2,  1.9879,     91.7,3,  -999.00,9,  -999.00,9,  -999.00,9,  -999.0,-999.000
     33KI144_1,  PRS2,     2, 14,      3,     35,2,20030118,0853, 22.7512,-158.0060, 4724,   3002,   3000.7,   1.5620,  34.6692,2,  34.6679,2,    122.7,2,  1.3438,    125.2,3,  -999.00,9,  -999.00,9,  -999.00,9,  -999.0,-999.000
     33KI144_1,  PRS2,     2, 14,      2,     34,2,20030118,0853, 22.7512,-158.0060, 4724,   4004,   4002.4,   1.4606,  34.6859,2,  34.6851,2,    148.3,2,  1.1425,    146.3,3,  -999.00,9,  -999.00,9,  -999.00,9,  -999.0,-999.000
     33KI144_1,  PRS2,     2, 14,      1,     33,2,20030118,0853, 22.7512,-158.0060, 4724,   4795,   4794.9,   1.5195,  34.6891,2,  34.6891,2,    154.7,2,  1.1093,    150.2,3,  -999.00,9,  -999.00,9,  -999.00,9,  -999.0,-999.000