BOTTLE,20090923WHPSIOMYS
EXPOCODE,SECT_ID,STNNBR,CASTNO,SAMPNO,BTLNBR,BTLNBR_FLAG_W,DATE,TIME,LATITUDE,LONGITUDE,DEPTH,CTDRAW,CTDPRS,CTDTMP,CTDSAL,CTDSAL_FLAG_W,SALNTY,SALNTY_FLAG_W,CTDOXY,CTDOXY_FLAG_W,THETA,OXYGEN,OXYGEN_FLAG_W,SILCAT,SILCAT_FLAG_W,NO2+NO3,NO2+NO3_FLAG_W,PHSPHT,PHSPHT_FLAG_W,REVPRS,REVTMP
,,,,,,,,,,,,,DBAR,ITS-90,PSS-78,,PSS-78,,UMOL/KG,,ITS-90,UMOL/KG,,UMOL/KG,,UMOL/KG,,UMOL/KG,,DBAR,DEG C
     33KI144_1,  PRS2,     2,  3,     14,     40,2,20030116,2356, 22.7580,-158.0072, 4723,      5,      4.4,  23.7073,  35.3422,2,  35.3437,2,    205.9,1, 23.7064,   -999.0,9,  -999.00,9,  -999.00,9,  -999.00,9,  -999.0,-999.000
     33KI144_1,  PRS2,     2,  3,     13,     13,2,20030116,2356, 22.7580,-158.0072, 4723,     24,     23.2,  23.7106,  35.3424,2,  35.3405,2,    206.7,1, 23.7057,   -999.0,9,  -999.00,9,  -999.00,9,  -999.00,9,  -999.0,-999.000
     33KI144_1,  PRS2,     2,  3,     12,     12,2,20030116,2356, 22.7580,-158.0072, 4723,     46,     44.7,  23.6926,  35.3405,2,  35.3384,2,    206.6,1, 23.6833,   -999.0,9,  -999.00,9,  -999.00,9,  -999.00,9,  -999.0,-999.000
     33KI144_1,  PRS2,     2,  3,     11,     39,2,20030116,2356, 22.7580,-158.0072, 4723,     77,     75.8,  23.6926,  35.3402,2,  35.3386,2,    206.5,1, 23.6768,   -999.0,9,  -999.00,9,  -999.00,9,  -999.00,9,  -999.0,-999.000
     33KI144_1,  PRS2,     2,  3,     10,     32,2,20030116,2356, 22.7580,-158.0072, 4723,    100,     99.4,  23.6909,  35.3398,2,  35.3382,2,    206.9,1, 23.6702,   -999.0,9,  -999.00,9,  -999.00,9,  -999.00,9,  -999.0,-999.000
     33KI144_1,  PRS2,     2,  3,      9,      3,2,20030116,2356, 22.7580,-158.0072, 4723,    128,    125.4,  22.9174,  35.3249,2,  35.3275,2,    205.4,1, 22.8919,   -999.0,9,  -999.00,9,  -999.00,9,  -999.00,9,  -999.0,-999.000
     33KI144_1,  PRS2,     2,  3,      8,     29,2,20030116,2356, 22.7580,-158.0072, 4723,    149,    150.4,  21.6351,  35.2865,2,  35.2922,2,    201.6,1, 21.6056,   -999.0,9,  -999.00,9,  -999.00,9,  -999.00,9,  -999.0,-999.000
     33KI144_1,  PRS2,     2,  3,      7,     28,2,20030116,2356, 22.7580,-158.0072, 4723,    175,    174.9,  19.9173,  35.1479,2,  35.1790,3,    195.8,1, 19.8850,   -999.0,9,  -999.00,9,  -999.00,9,  -999.00,9,  -999.0,-999.000
     33KI144_1,  PRS2,     2,  3,      6,      7,2,20030116,2356, 22.7580,-158.0072, 4723,    200,    199.3,  18.4975,  34.9573,2,  34.9567,2,    198.8,1, 18.4626,   -999.0,9,  -999.00,9,  -999.00,9,  -999.00,9,  -999.0,-999.000
     33KI144_1,  PRS2,     2,  3,      5,     38,2,20030116,2356, 22.7580,-158.0072, 4723,    255,    251.5,  15.1285,  34.5168,2,  34.5139,2,    203.7,1, 15.0902,   -999.0,9,  -999.00,9,  -999.00,9,  -999.00,9,  -999.0,-999.000
     33KI144_1,  PRS2,     2,  3,      4,     36,2,20030116,2356, 22.7580,-158.0072, 4723,    351,    349.5,  11.2354,  34.2296,2,  34.2291,2,    208.5,1, 11.1918,   -999.0,9,  -999.00,9,  -999.00,9,  -999.00,9,  -999.0,-999.000
     33KI144_1,  PRS2,     2,  3,      3,     35,2,20030116,2356, 22.7580,-158.0072, 4723,    350,    349.6,  11.2299,  34.2290,2,  34.2295,2,    208.5,1, 11.1863,   -999.0,9,  -999.00,9,  -999.00,9,  -999.00,9,  -999.0,-999.000
     33KI144_1,  PRS2,     2,  3,      2,     34,2,20030116,2356, 22.7580,-158.0072, 4723,    501,    500.0,   7.5688,  34.0456,2,  34.0454,2,    142.2,1,  7.5195,   -999.0,9,  -999.00,9,  -999.00,9,  -999.00,9,  -999.0,-999.000
     33KI144_1,  PRS2,     2,  3,      1,     33,2,20030116,2356, 22.7580,-158.0072, 4723,   1022,   1021.0,   3.9534,  34.4813,2,  34.4816,2,     40.9,1,  3.8764,   -999.0,9,  -999.00,9,  -999.00,9,  -999.00,9,  -999.0,-999.000
     33KI144_1,  PRS2,     2,  4,     15,     23,2,20030117,0249, 22.7488,-157.9997, 4722,      5,      4.4,  23.6843,  35.3408,2,  35.3390,2,    206.2,1, 23.6834,   -999.0,9,  -999.00,9,  -999.00,9,  -999.00,9,  -999.0,-999.000
     33KI144_1,  PRS2,     2,  4,     14,     40,3,20030117,0249, 22.7488,-157.9997, 4722,     24,     25.0,  23.6886,  35.3408,2,  35.3435,2,    206.2,1, 23.6834,   -999.0,9,  -999.00,9,  -999.00,9,  -999.00,9,  -999.0,-999.000
     33KI144_1,  PRS2,     2,  4,     13,     13,2,20030117,0249, 22.7488,-157.9997, 4722,     44,     43.3,  23.6908,  35.3407,2,  35.3699,4,    206.2,1, 23.6818,   -999.0,9,  -999.00,9,  -999.00,9,  -999.00,9,  -999.0,-999.000
     33KI144_1,  PRS2,     2,  4,     12,     12,2,20030117,0249, 22.7488,-157.9997, 4722,     74,     73.7,  23.6878,  35.3404,2,  35.3399,2,    207.0,1, 23.6725,   -999.0,9,  -999.00,9,  -999.00,9,  -999.00,9,  -999.0,-999.000
     33KI144_1,  PRS2,     2,  4,     11,     39,2,20030117,0249, 22.7488,-157.9997, 4722,    102,    101.0,  23.6587,  35.3393,2,  35.3380,2,    206.0,1, 23.6376,   -999.0,9,  -999.00,9,  -999.00,9,  -999.00,9,  -999.0,-999.000
     33KI144_1,  PRS2,     2,  4,     10,     32,2,20030117,0249, 22.7488,-157.9997, 4722,    127,    125.6,  21.6417,  35.2873,2,  35.2924,2,    197.4,1, 21.6172,   -999.0,9,  -999.00,9,  -999.00,9,  -999.00,9,  -999.0,-999.000
     33KI144_1,  PRS2,     2,  4,      8,     29,2,20030117,0249, 22.7488,-157.9997, 4722,    152,    147.9,  20.7722,  35.2365,2,  35.2290,2,    195.1,1, 20.7441,   -999.0,9,  -999.00,9,  -999.00,9,  -999.00,9,  -999.0,-999.000
     33KI144_1,  PRS2,     2,  4,      9,      3,2,20030117,0249, 22.7488,-157.9997, 4722,    149,    148.8,  20.7585,  35.2321,2,  35.2383,2,    194.9,1, 20.7302,   -999.0,9,  -999.00,9,  -999.00,9,  -999.00,9,  -999.0,-999.000
     33KI144_1,  PRS2,     2,  4,      7,     28,2,20030117,0249, 22.7488,-157.9997, 4722,    176,    174.2,  19.3304,  35.0670,2,  35.0657,2,    202.5,1, 19.2990,   -999.0,9,  -999.00,9,  -999.00,9,  -999.00,9,  -999.0,-999.000
     33KI144_1,  PRS2,     2,  4,      6,      7,2,20030117,0249, 22.7488,-157.9997, 4722,    200,    199.5,  18.1113,  34.9057,2,  34.9022,2,    196.3,1, 18.0770,   -999.0,9,  -999.00,9,  -999.00,9,  -999.00,9,  -999.0,-999.000
     33KI144_1,  PRS2,     2,  4,      5,     38,2,20030117,0249, 22.7488,-157.9997, 4722,    251,    249.4,  14.7801,  34.4764,2,  34.4773,2,    208.1,1, 14.7428,   -999.0,9,  -999.00,9,  -999.00,9,  -999.00,9,  -999.0,-999.000
     33KI144_1,  PRS2,     2,  4,      4,     36,2,20030117,0249, 22.7488,-157.9997, 4722,    351,    350.2,  11.3881,  34.2295,2,  34.2315,2,    208.1,1, 11.3440,   -999.0,9,  -999.00,9,  -999.00,9,  -999.00,9,  -999.0,-999.000
     33KI144_1,  PRS2,     2,  4,      3,     35,2,20030117,0249, 22.7488,-157.9997, 4722,    352,    350.2,  11.3881,  34.2295,2,  34.2305,2,    208.1,1, 11.3440,   -999.0,9,  -999.00,9,  -999.00,9,  -999.00,9,  -999.0,-999.000
     33KI144_1,  PRS2,     2,  4,      2,     34,2,20030117,0249, 22.7488,-157.9997, 4722,    521,    518.8,   7.1310,  34.0423,2,  34.0439,2,    125.8,1,  7.0815,   -999.0,9,  -999.00,9,  -999.00,9,  -999.00,9,  -999.0,-999.000
     33KI144_1,  PRS2,     2,  4,      1,     33,2,20030117,0249, 22.7488,-157.9997, 4722,   1023,   1022.3,   3.9212,  34.4774,2,  34.4818,2,     41.1,1,  3.8443,   -999.0,9,  -999.00,9,  -999.00,9,  -999.00,9,  -999.0,-999.000
     33KI144_1,  PRS2,     2,  5,     14,     40,2,20030117,0557, 22.7483,-157.9983, 4723,      5,      4.2,  23.6862,  35.3425,2,  35.3419,2,    206.9,1, 23.6853,   -999.0,9,  -999.00,9,  -999.00,9,  -999.00,9,  -999.0,-999.000
     33KI144_1,  PRS2,     2,  5,     13,     13,3,20030117,0557, 22.7483,-157.9983, 4723,     14,     13.6,  23.6840,  35.3424,2,  35.3409,2,    206.7,1, 23.6811,   -999.0,9,  -999.00,9,  -999.00,9,  -999.00,9,  -999.0,-999.000
     33KI144_1,  PRS2,     2,  5,     12,     12,2,20030117,0557, 22.7483,-157.9983, 4723,     23,     23.7,  23.6851,  35.3425,2,  35.3405,2,    206.7,1, 23.6802,   -999.0,9,  -999.00,9,  -999.00,9,  -999.00,9,  -999.0,-999.000
     33KI144_1,  PRS2,     2,  5,     11,     39,2,20030117,0557, 22.7483,-157.9983, 4723,     36,     36.0,  23.6891,  35.3424,2,  35.3407,2,    206.6,1, 23.6816,   -999.0,9,  -999.00,9,  -999.00,9,  -999.00,9,  -999.0,-999.000
     33KI144_1,  PRS2,     2,  5,     10,     32,4,20030117,0557, 22.7483,-157.9983, 4723,     37,     36.0,  23.6890,  35.3424,2,-999.0000,5,    206.4,1, 23.6815,   -999.0,9,  -999.00,9,  -999.00,9,  -999.00,9,  -999.0,-999.000
     33KI144_1,  PRS2,     2,  5,      9,      3,2,20030117,0557, 22.7483,-157.9983, 4723,     46,     45.9,  23.6910,  35.3421,2,  35.3421,2,    206.4,1, 23.6814,   -999.0,9,  -999.00,9,  -999.00,9,  -999.00,9,  -999.0,-999.000
     33KI144_1,  PRS2,     2,  5,      8,     29,2,20030117,0557, 22.7483,-157.9983, 4723,     62,     59.7,  23.6954,  35.3423,2,  35.3451,2,    206.4,1, 23.6829,   -999.0,9,  -999.00,9,  -999.00,9,  -999.00,9,  -999.0,-999.000
     33KI144_1,  PRS2,     2,  5,      7,     28,2,20030117,0557, 22.7483,-157.9983, 4723,     73,     72.9,  23.6950,  35.3418,2,  35.3478,2,    206.5,1, 23.6798,   -999.0,9,  -999.00,9,  -999.00,9,  -999.00,9,  -999.0,-999.000
     33KI144_1,  PRS2,     2,  5,      6,      7,3,20030117,0557, 22.7483,-157.9983, 4723,    102,    101.1,  23.5367,  35.3336,2,  35.3319,2,    206.1,1, 23.5157,   -999.0,9,  -999.00,9,  -999.00,9,  -999.00,9,  -999.0,-999.000
     33KI144_1,  PRS2,     2,  5,      5,     38,2,20030117,0557, 22.7483,-157.9983, 4723,    125,    123.7,  21.5048,  35.2810,2,  35.2816,2,    198.5,1, 21.4807,   -999.0,9,  -999.00,9,  -999.00,9,  -999.00,9,  -999.0,-999.000
     33KI144_1,  PRS2,     2,  5,      4,     36,2,20030117,0557, 22.7483,-157.9983, 4723,    152,    150.0,  20.3055,  35.1930,2,  35.1892,2,    198.2,1, 20.2775,   -999.0,9,  -999.00,9,  -999.00,9,  -999.00,9,  -999.0,-999.000
     33KI144_1,  PRS2,     2,  5,      3,     35,2,20030117,0557, 22.7483,-157.9983, 4723,    175,    176.5,  19.2009,  35.0361,2,  35.0348,2,    202.6,1, 19.1692,   -999.0,9,  -999.00,9,  -999.00,9,  -999.00,9,  -999.0,-999.000
     33KI144_1,  PRS2,     2,  5,      2,     34,2,20030117,0557, 22.7483,-157.9983, 4723,    541,    540.9,   6.6607,  34.0429,2,  34.0429,2,    108.8,1,  6.6110,   -999.0,9,  -999.00,9,  -999.00,9,  -999.00,9,  -999.0,-999.000
     33KI144_1,  PRS2,     2,  5,      1,     33,2,20030117,0557, 22.7483,-157.9983, 4723,   1021,   1019.8,   3.8738,  34.4866,2,  34.4871,2,     42.9,1,  3.7975,   -999.0,9,  -999.00,9,  -999.00,9,  -999.00,9,  -999.0,-999.000
     33KI144_1,  PRS2,     2,  6,     19,     19,2,20030117,0854, 22.7520,-157.9998, 4722,      5,      4.2,  23.6867,  35.3411,2,  35.3425,2,    206.5,2, 23.6858,   -999.0,5,  -999.00,9,  -999.00,9,  -999.00,9,  -999.0,-999.000
     33KI144_1,  PRS2,     2,  6,     18,     18,2,20030117,0854, 22.7520,-157.9998, 4722,      5,      4.2,  23.6741,  35.3416,2,  35.3472,2,    206.9,2, 23.6732,    210.9,3,  -999.00,9,  -999.00,9,  -999.00,9,  -999.0,-999.000
     33KI144_1,  PRS2,     2,  6,     17,     17,2,20030117,0854, 22.7520,-157.9998, 4722,     15,     13.9,  23.6941,  35.3410,2,  35.3411,2,    206.9,2, 23.6912,   -999.0,5,  -999.00,9,  -999.00,9,  -999.00,9,  -999.0,-999.000
     33KI144_1,  PRS2,     2,  6,     15,     23,2,20030117,0854, 22.7520,-157.9998, 4722,     25,     24.9,  23.6942,  35.3410,2,  35.3435,2,    206.9,2, 23.6890,    209.0,3,  -999.00,9,  -999.00,9,  -999.00,9,  -999.0,-999.000
     33KI144_1,  PRS2,     2,  6,     16,     16,2,20030117,0854, 22.7520,-157.9998, 4722,     25,     25.1,  23.6951,  35.3408,2,  35.3431,2,    206.9,2, 23.6899,   -999.0,5,  -999.00,9,  -999.00,9,  -999.00,9,  -999.0,-999.000
     33KI144_1,  PRS2,     2,  6,     14,     40,2,20030117,0854, 22.7520,-157.9998, 4722,     35,     33.4,  23.6958,  35.3409,2,  35.3394,2,    206.7,2, 23.6888,   -999.0,5,  -999.00,9,  -999.00,9,  -999.00,9,  -999.0,-999.000
     33KI144_1,  PRS2,     2,  6,     13,     13,3,20030117,0854, 22.7520,-157.9998, 4722,     46,     45.1,  23.6947,  35.3409,2,-999.0000,5,    206.6,2, 23.6853,    204.4,3,  -999.00,9,  -999.00,9,  -999.00,9,  -999.0,-999.000
     33KI144_1,  PRS2,     2,  6,     12,     12,2,20030117,0854, 22.7520,-157.9998, 4722,     58,     58.2,  23.6999,  35.3408,2,  35.3563,4,    206.4,3, 23.6878,   -999.0,5,  -999.00,9,  -999.00,9,  -999.00,9,  -999.0,-999.000
     33KI144_1,  PRS2,     2,  6,     11,     39,2,20030117,0854, 22.7520,-157.9998, 4722,     75,     74.6,  23.7026,  35.3407,2,  35.3399,2,    206.2,2, 23.6870,    198.4,3,  -999.00,9,  -999.00,9,  -999.00,9,  -999.0,-999.000
     33KI144_1,  PRS2,     2,  6,     10,     32,2,20030117,0854, 22.7520,-157.9998, 4722,     84,     84.5,  23.7013,  35.3404,2,  35.3392,2,    206.1,2, 23.6837,    206.1,3,  -999.00,9,  -999.00,9,  -999.00,9,  -999.0,-999.000
     33KI144_1,  PRS2,     2,  6,      9,      3,2,20030117,0854, 22.7520,-157.9998, 4722,    100,     99.3,  23.6952,  35.3396,2,  35.3399,2,    206.0,2, 23.6745,    207.5,3,  -999.00,9,  -999.00,9,  -999.00,9,  -999.0,-999.000
     33KI144_1,  PRS2,     2,  6,      8,     29,2,20030117,0854, 22.7520,-157.9998, 4722,    116,    115.1,  22.7514,  35.3112,2,  35.3208,2,    205.9,2, 22.7281,    206.0,3,  -999.00,9,  -999.00,9,  -999.00,9,  -999.0,-999.000
     33KI144_1,  PRS2,     2,  6,      7,     28,2,20030117,0854, 22.7520,-157.9998, 4722,    123,    124.9,  21.8510,  35.2926,2,  35.2905,2,    199.8,2, 21.8264,    203.7,3,  -999.00,9,  -999.00,9,  -999.00,9,  -999.0,-999.000
     33KI144_1,  PRS2,     2,  6,      6,      7,2,20030117,0854, 22.7520,-157.9998, 4722,    150,    148.8,  21.0337,  35.2459,2,  35.2503,2,    198.8,2, 21.0051,    196.1,3,  -999.00,9,  -999.00,9,  -999.00,9,  -999.0,-999.000
     33KI144_1,  PRS2,     2,  6,      5,     38,2,20030117,0854, 22.7520,-157.9998, 4722,    164,    164.9,  20.1984,  35.1835,2,  35.1890,2,    196.6,2, 20.1677,    188.1,3,  -999.00,9,  -999.00,9,  -999.00,9,  -999.0,-999.000
     33KI144_1,  PRS2,     2,  6,      4,     36,2,20030117,0854, 22.7520,-157.9998, 4722,    174,    174.3,  19.8441,  35.1401,2,  35.1276,2,    197.6,2, 19.8120,    194.9,3,  -999.00,9,  -999.00,9,  -999.00,9,  -999.0,-999.000
     33KI144_1,  PRS2,     2,  6,      3,     35,2,20030117,0854, 22.7520,-157.9998, 4722,    199,    200.2,  18.5122,  34.9509,2,  34.9809,4,    201.7,3, 18.4771,    198.4,3,  -999.00,9,  -999.00,9,  -999.00,9,  -999.0,-999.000
     33KI144_1,  PRS2,     2,  6,      2,     34,2,20030117,0854, 22.7520,-157.9998, 4722,    499,    499.2,   6.9162,  34.0423,2,  34.0419,2,    112.3,2,  6.8695,   -999.0,5,  -999.00,9,  -999.00,9,  -999.00,9,  -999.0,-999.000
     33KI144_1,  PRS2,     2,  6,      1,     33,2,20030117,0854, 22.7520,-157.9998, 4722,   1018,   1017.3,   3.9372,  34.4746,2,  34.4791,2,     41.0,2,  3.8606,   -999.0,5,  -999.00,9,  -999.00,9,  -999.00,9,  -999.0,-999.000
     33KI144_1,  PRS2,     2,  7,     21,     21,3,20030117,1201, 22.7283,-157.9940, 4721,      5,      4.0,  23.6750,  35.3409,2,  35.3459,2,    206.2,1, 23.6742,   -999.0,9,  -999.00,9,  -999.00,9,  -999.00,9,  -999.0,-999.000
     33KI144_1,  PRS2,     2,  7,     22,     22,2,20030117,1201, 22.7283,-157.9940, 4721,      5,      4.1,  23.6664,  35.3414,2,  35.3409,2,    206.2,1, 23.6655,   -999.0,9,  -999.00,9,  -999.00,9,  -999.00,9,  -999.0,-999.000
     33KI144_1,  PRS2,     2,  7,     20,     20,2,20030117,1201, 22.7283,-157.9940, 4721,      5,      4.1,  23.6772,  35.3410,2,  35.3445,2,    206.1,1, 23.6764,   -999.0,9,  -999.00,9,  -999.00,9,  -999.00,9,  -999.0,-999.000
     33KI144_1,  PRS2,     2,  7,     19,     19,2,20030117,1201, 22.7283,-157.9940, 4721,     25,     24.4,  23.6832,  35.3412,2,  35.3401,2,    206.1,1, 23.6781,   -999.0,9,  -999.00,9,  -999.00,9,  -999.00,9,  -999.0,-999.000
     33KI144_1,  PRS2,     2,  7,     18,     18,2,20030117,1201, 22.7283,-157.9940, 4721,     25,     24.4,  23.6832,  35.3411,2,  35.3399,2,    206.1,1, 23.6781,   -999.0,9,  -999.00,9,  -999.00,9,  -999.00,9,  -999.0,-999.000
     33KI144_1,  PRS2,     2,  7,     17,     17,2,20030117,1201, 22.7283,-157.9940, 4721,     25,     24.4,  23.6830,  35.3412,2,  35.3397,2,    206.1,1, 23.6779,   -999.0,9,  -999.00,9,  -999.00,9,  -999.00,9,  -999.0,-999.000
     33KI144_1,  PRS2,     2,  7,     16,     16,2,20030117,1201, 22.7283,-157.9940, 4721,     45,     45.0,  23.6844,  35.3410,2,  35.3397,2,    206.0,1, 23.6750,   -999.0,9,  -999.00,9,  -999.00,9,  -999.00,9,  -999.0,-999.000
     33KI144_1,  PRS2,     2,  7,     14,     40,2,20030117,1201, 22.7283,-157.9940, 4721,     46,     45.0,  23.6852,  35.3413,2,  35.3403,2,    206.0,1, 23.6759,   -999.0,9,  -999.00,9,  -999.00,9,  -999.00,9,  -999.0,-999.000
     33KI144_1,  PRS2,     2,  7,     15,     23,2,20030117,1201, 22.7283,-157.9940, 4721,     45,     45.1,  23.6845,  35.3410,2,  35.3399,2,    206.0,1, 23.6751,   -999.0,9,  -999.00,9,  -999.00,9,  -999.00,9,  -999.0,-999.000
     33KI144_1,  PRS2,     2,  7,     11,     39,2,20030117,1201, 22.7283,-157.9940, 4721,     76,     74.4,  23.6899,  35.3413,2,  35.3449,2,    206.1,1, 23.6744,   -999.0,9,  -999.00,9,  -999.00,9,  -999.00,9,  -999.0,-999.000
     33KI144_1,  PRS2,     2,  7,     12,     12,2,20030117,1201, 22.7283,-157.9940, 4721,     76,     74.5,  23.6900,  35.3413,2,  35.3403,2,    206.0,1, 23.6744,   -999.0,9,  -999.00,9,  -999.00,9,  -999.00,9,  -999.0,-999.000
     33KI144_1,  PRS2,     2,  7,     13,     13,2,20030117,1201, 22.7283,-157.9940, 4721,     74,     75.1,  23.6898,  35.3410,2,  35.3403,2,    206.0,1, 23.6741,   -999.0,9,  -999.00,9,  -999.00,9,  -999.00,9,  -999.0,-999.000
     33KI144_1,  PRS2,     2,  7,      8,     29,2,20030117,1201, 22.7283,-157.9940, 4721,    101,     99.7,  23.6898,  35.3412,2,  35.3397,2,    205.9,1, 23.6690,   -999.0,9,  -999.00,9,  -999.00,9,  -999.00,9,  -999.0,-999.000
     33KI144_1,  PRS2,     2,  7,      9,      3,2,20030117,1201, 22.7283,-157.9940, 4721,    100,    100.1,  23.6915,  35.3411,2,  35.3403,2,    206.0,1, 23.6706,   -999.0,9,  -999.00,9,  -999.00,9,  -999.00,9,  -999.0,-999.000
     33KI144_1,  PRS2,     2,  7,     10,     32,2,20030117,1201, 22.7283,-157.9940, 4721,     99,    100.4,  23.6927,  35.3412,2,  35.3533,3,    206.1,1, 23.6718,   -999.0,9,  -999.00,9,  -999.00,9,  -999.00,9,  -999.0,-999.000
     33KI144_1,  PRS2,     2,  7,      5,     38,2,20030117,1201, 22.7283,-157.9940, 4721,    126,    124.8,  22.1931,  35.3006,2,  35.3007,2,    204.3,1, 22.1682,   -999.0,9,  -999.00,9,  -999.00,9,  -999.00,9,  -999.0,-999.000
     33KI144_1,  PRS2,     2,  7,      6,      7,2,20030117,1201, 22.7283,-157.9940, 4721,    126,    125.5,  22.1698,  35.2984,2,  35.2991,2,    204.1,1, 22.1448,   -999.0,9,  -999.00,9,  -999.00,9,  -999.00,9,  -999.0,-999.000
     33KI144_1,  PRS2,     2,  7,      7,     28,2,20030117,1201, 22.7283,-157.9940, 4721,    126,    125.8,  22.1275,  35.2985,2,  35.2984,2,    203.9,1, 22.1025,   -999.0,9,  -999.00,9,  -999.00,9,  -999.00,9,  -999.0,-999.000
     33KI144_1,  PRS2,     2,  7,      4,     36,2,20030117,1201, 22.7283,-157.9940, 4721,    151,    150.3,  21.2626,  35.2692,2,  35.2702,2,    198.5,1, 21.2335,   -999.0,9,  -999.00,9,  -999.00,9,  -999.00,9,  -999.0,-999.000
     33KI144_1,  PRS2,     2,  7,      3,     35,2,20030117,1201, 22.7283,-157.9940, 4721,    176,    175.2,  20.0828,  35.1708,2,  35.1792,2,    197.5,1, 20.0503,   -999.0,9,  -999.00,9,  -999.00,9,  -999.00,9,  -999.0,-999.000
     33KI144_1,  PRS2,     2,  7,      2,     34,2,20030117,1201, 22.7283,-157.9940, 4721,    518,    517.2,   7.0923,  34.0417,2,  34.0413,2,    125.8,1,  7.0432,   -999.0,9,  -999.00,9,  -999.00,9,  -999.00,9,  -999.0,-999.000
     33KI144_1,  PRS2,     2,  7,      1,     33,2,20030117,1201, 22.7283,-157.9940, 4721,   1028,   1027.7,   3.9685,  34.4720,2,  34.4714,2,     40.0,1,  3.8908,   -999.0,9,  -999.00,9,  -999.00,9,  -999.00,9,  -999.0,-999.000