BOTTLE,20090923WHPSIOMYS
#code : jjward hyd_to_exchange.pl 
#original files copied from HTML directory: 20090923
#original HYD file: 33KI144_1_hy.txt   Wed Sep 23 17:53:48 2009
#original SUM file: ../33KI144_1su.txt   Wed Sep 23 17:53:46 2009
EXPOCODE,SECT_ID,STNNBR,CASTNO,SAMPNO,BTLNBR,BTLNBR_FLAG_W,DATE,TIME,LATITUDE,LONGITUDE,DEPTH,CTDRAW,CTDPRS,CTDTMP,CTDSAL,CTDSAL_FLAG_W,SALNTY,SALNTY_FLAG_W,CTDOXY,CTDOXY_FLAG_W,THETA,OXYGEN,OXYGEN_FLAG_W,SILCAT,SILCAT_FLAG_W,NO2+NO3,NO2+NO3_FLAG_W,PHSPHT,PHSPHT_FLAG_W,REVPRS,REVTMP
,,,,,,,,,,,,,DBAR,ITS-90,PSS-78,,PSS-78,,UMOL/KG,,ITS-90,UMOL/KG,,UMOL/KG,,UMOL/KG,,UMOL/KG,,DBAR,DEG C
     33KI144_1,  PRS2,     1,  1,     24,     31,2,20030116,0127, 21.3405,-158.2742, 1491,      4,      2.6,  25.0167,  35.1648,2,  35.1646,2,    203.4,2, 25.0161,    208.3,3,  -999.00,9,  -999.00,9,  -999.00,9,  -999.0,-999.000
     33KI144_1,  PRS2,     1,  1,     23,     30,2,20030116,0127, 21.3405,-158.2742, 1491,      3,      2.8,  25.0180,  35.1644,2,  35.1630,2,    203.4,2, 25.0174,    208.1,3,  -999.00,9,  -999.00,9,  -999.00,9,  -999.0,-999.000
     33KI144_1,  PRS2,     1,  1,     22,     22,3,20030116,0127, 21.3405,-158.2742, 1491,     23,     24.1,  25.0393,  35.1639,2,  35.1622,2,    203.4,2, 25.0341,    206.6,3,  -999.00,9,  -999.00,9,  -999.00,9,  -999.0,-999.000
     33KI144_1,  PRS2,     1,  1,     21,     21,2,20030116,0127, 21.3405,-158.2742, 1491,     44,     43.5,  25.0030,  35.1719,2,  35.1731,2,    203.4,2, 24.9935,    207.9,3,  -999.00,9,  -999.00,9,  -999.00,9,  -999.0,-999.000
     33KI144_1,  PRS2,     1,  1,     20,     20,2,20030116,0127, 21.3405,-158.2742, 1491,     61,     59.4,  24.8855,  35.2066,2,  35.2056,2,    203.8,2, 24.8727,    207.9,3,  -999.00,9,  -999.00,9,  -999.00,9,  -999.0,-999.000
     33KI144_1,  PRS2,     1,  1,     19,     19,2,20030116,0127, 21.3405,-158.2742, 1491,     75,     73.6,  24.6831,  35.2528,2,  35.2475,2,    204.9,2, 24.6673,    209.1,3,  -999.00,9,  -999.00,9,  -999.00,9,  -999.0,-999.000
     33KI144_1,  PRS2,     1,  1,     18,     18,2,20030116,0127, 21.3405,-158.2742, 1491,     99,     98.5,  23.5682,  35.2442,2,  35.2432,2,    204.8,2, 23.5477,    206.7,3,  -999.00,9,  -999.00,9,  -999.00,9,  -999.0,-999.000
     33KI144_1,  PRS2,     1,  1,     17,     17,3,20030116,0127, 21.3405,-158.2742, 1491,    116,    115.3,  22.2806,  35.2462,2,-999.0000,5,    200.1,2, 22.2575,    201.3,3,  -999.00,9,  -999.00,9,  -999.00,9,  -999.0,-999.000
     33KI144_1,  PRS2,     1,  1,     16,     16,2,20030116,0127, 21.3405,-158.2742, 1491,    124,    124.0,  21.5637,  35.2316,2,  35.2314,2,    195.7,2, 21.5395,    196.9,3,  -999.00,9,  -999.00,9,  -999.00,9,  -999.0,-999.000
     33KI144_1,  PRS2,     1,  1,     15,     23,2,20030116,0127, 21.3405,-158.2742, 1491,    150,    148.8,  20.4060,  35.1678,2,  35.1666,2,    193.1,2, 20.3781,    193.8,3,  -999.00,9,  -999.00,9,  -999.00,9,  -999.0,-999.000
     33KI144_1,  PRS2,     1,  1,     14,     40,2,20030116,0127, 21.3405,-158.2742, 1491,    175,    174.4,  19.5547,  35.0995,2,  35.1185,2,    193.5,2, 19.5229,    195.8,3,  -999.00,9,  -999.00,9,  -999.00,9,  -999.0,-999.000
     33KI144_1,  PRS2,     1,  1,     13,     13,3,20030116,0127, 21.3405,-158.2742, 1491,    198,    198.1,  18.5120,  34.9633,2,  34.9868,3,    193.8,3, 18.4773,    193.7,3,  -999.00,9,  -999.00,9,  -999.00,9,  -999.0,-999.000
     33KI144_1,  PRS2,     1,  1,     12,     12,2,20030116,0127, 21.3405,-158.2742, 1491,    225,    223.8,  17.0882,  34.7689,2,  34.7760,2,    189.2,2, 17.0511,    190.5,3,  -999.00,9,  -999.00,9,  -999.00,9,  -999.0,-999.000
     33KI144_1,  PRS2,     1,  1,     11,     39,2,20030116,0127, 21.3405,-158.2742, 1491,    253,    250.8,  15.3926,  34.5604,2,  34.5688,2,    190.1,2, 15.3540,    190.7,3,  -999.00,9,  -999.00,9,  -999.00,9,  -999.0,-999.000
     33KI144_1,  PRS2,     1,  1,     10,     32,2,20030116,0127, 21.3405,-158.2742, 1491,    300,    299.5,  12.0331,  34.2412,2,  34.2438,2,    192.9,2, 11.9941,    192.8,3,  -999.00,9,  -999.00,9,  -999.00,9,  -999.0,-999.000
     33KI144_1,  PRS2,     1,  1,      9,      3,2,20030116,0127, 21.3405,-158.2742, 1491,    349,    347.5,  10.6839,  34.1676,2,  34.1672,2,    187.9,2, 10.6420,    190.3,3,  -999.00,9,  -999.00,9,  -999.00,9,  -999.0,-999.000
     33KI144_1,  PRS2,     1,  1,      8,     29,2,20030116,0127, 21.3405,-158.2742, 1491,    401,    400.0,   9.6435,  34.1309,2,  34.1299,2,    172.7,2,  9.5981,    173.4,3,  -999.00,9,  -999.00,9,  -999.00,9,  -999.0,-999.000
     33KI144_1,  PRS2,     1,  1,      7,     28,2,20030116,0127, 21.3405,-158.2742, 1491,    501,    500.4,   7.1614,  34.1276,2,  34.1268,2,     97.4,2,  7.1135,     97.6,3,  -999.00,9,  -999.00,9,  -999.00,9,  -999.0,-999.000
     33KI144_1,  PRS2,     1,  1,      6,      7,2,20030116,0127, 21.3405,-158.2742, 1491,    600,    598.7,   6.0178,  34.2274,2,  34.2266,2,     46.9,2,  5.9652,     51.2,3,  -999.00,9,  -999.00,9,  -999.00,9,  -999.0,-999.000
     33KI144_1,  PRS2,     1,  1,      5,     38,2,20030116,0127, 21.3405,-158.2742, 1491,    700,    699.7,   5.2141,  34.3277,2,  34.3262,2,     33.1,2,  5.1564,     37.1,3,  -999.00,9,  -999.00,9,  -999.00,9,  -999.0,-999.000
     33KI144_1,  PRS2,     1,  1,      4,     36,2,20030116,0127, 21.3405,-158.2742, 1491,    749,    747.4,   4.8530,  34.3556,2,  34.3543,2,     28.7,2,  4.7932,     34.2,3,  -999.00,9,  -999.00,9,  -999.00,9,  -999.0,-999.000
     33KI144_1,  PRS2,     1,  1,      3,     35,2,20030116,0127, 21.3405,-158.2742, 1491,    799,    799.5,   4.7666,  34.4111,2,  34.4092,2,     33.6,2,  4.7027,     39.6,3,  -999.00,9,  -999.00,9,  -999.00,9,  -999.0,-999.000
     33KI144_1,  PRS2,     1,  1,      2,     34,2,20030116,0127, 21.3405,-158.2742, 1491,    899,    899.6,   4.4153,  34.4629,2,  34.4616,2,     39.7,2,  4.3451,     46.7,3,  -999.00,9,  -999.00,9,  -999.00,9,  -999.0,-999.000
     33KI144_1,  PRS2,     1,  1,      1,     33,2,20030116,0127, 21.3405,-158.2742, 1491,   1020,   1019.8,   4.0600,  34.5019,2,  34.5019,2,     45.4,2,  3.9822,     49.6,3,  -999.00,9,  -999.00,9,  -999.00,9,  -999.0,-999.000
     33KI144_1,  PRS2,     2,  1,     24,     31,2,20030116,1529, 22.7463,-158.0085, 4755,      5,      4.1,  23.6948,  35.3409,2,  35.3399,2,    218.2,2, 23.6939,    206.1,3,     1.02,2,     0.03,2,     0.02,2,  -999.0,-999.000
     33KI144_1,  PRS2,     2,  1,     23,     30,2,20030116,1529, 22.7463,-158.0085, 4755,    499,    499.0,   7.5908,  34.0482,2,  34.0492,2,    142.2,2,  7.5416,    138.5,3,    40.17,2,    26.75,2,     1.89,2,  -999.0,-999.000
     33KI144_1,  PRS2,     2,  1,     22,     22,2,20030116,1529, 22.7463,-158.0085, 4755,    751,    749.8,   4.8894,  34.2882,2,  34.2864,2,     29.0,2,  4.8292,     29.7,3,    64.63,4,    41.48,2,     3.05,2,  -999.0,-999.000
     33KI144_1,  PRS2,     2,  1,     21,     21,2,20030116,1529, 22.7463,-158.0085, 4755,   1001,   1000.0,   4.0277,  34.4652,2,  34.4654,2,     42.9,2,  3.9519,     41.2,3,    64.22,4,    41.67,2,     3.04,2,  -999.0,-999.000
     33KI144_1,  PRS2,     2,  1,     20,     20,2,20030116,1529, 22.7463,-158.0085, 4755,   1205,   1204.5,   3.4226,  34.5216,2,  34.5227,2,     55.7,2,  3.3349,     54.1,3,   122.21,2,    41.51,2,     2.98,2,  -999.0,-999.000
     33KI144_1,  PRS2,     2,  1,     19,     19,2,20030116,1529, 22.7463,-158.0085, 4755,   1401,   1398.2,   3.0357,  34.5570,2,  34.5604,3,     63.8,3,  2.9360,     62.3,3,   130.54,2,    41.42,2,     2.94,2,  -999.0,-999.000
     33KI144_1,  PRS2,     2,  1,     18,     18,2,20030116,1529, 22.7463,-158.0085, 4755,   1605,   1603.2,   2.6949,  34.5826,2,  34.5818,2,     73.3,2,  2.5821,     72.8,3,   137.74,2,    40.63,2,     2.90,2,  -999.0,-999.000
     33KI144_1,  PRS2,     2,  1,     17,     17,2,20030116,1529, 22.7463,-158.0085, 4755,   1804,   1803.9,   2.4127,  34.6017,2,  34.6005,2,     82.5,2,  2.2868,     81.5,3,   143.85,2,    40.89,3,     2.82,2,  -999.0,-999.000
     33KI144_1,  PRS2,     2,  1,     16,     16,2,20030116,1529, 22.7463,-158.0085, 4755,   1994,   1996.8,   2.1843,  34.6174,2,  34.6178,2,     90.3,2,  2.0453,     88.7,3,   147.76,2,    40.38,3,     2.80,2,  -999.0,-999.000
     33KI144_1,  PRS2,     2,  1,     15,     23,2,20030116,1529, 22.7463,-158.0085, 4755,   2198,   2197.5,   2.0062,  34.6306,2,  34.6303,2,     97.3,2,  1.8528,     97.4,3,   153.02,2,    39.72,2,     2.74,2,  -999.0,-999.000
     33KI144_1,  PRS2,     2,  1,     14,     40,2,20030116,1529, 22.7463,-158.0085, 4755,   2396,   2396.3,   1.8326,  34.6432,2,  34.6411,2,    105.4,2,  1.6647,    104.2,3,   154.79,2,    39.63,3,     2.72,2,  -999.0,-999.000
     33KI144_1,  PRS2,     2,  1,     13,     13,2,20030116,1529, 22.7463,-158.0085, 4755,   2595,   2592.7,   1.7153,  34.6529,2,  34.6527,2,    111.5,2,  1.5320,    111.7,3,   160.00,2,    39.06,3,     2.68,2,  -999.0,-999.000
     33KI144_1,  PRS2,     2,  1,     12,     12,2,20030116,1529, 22.7463,-158.0085, 4755,   2796,   2794.2,   1.6300,  34.6614,2,  34.6624,2,    118.2,2,  1.4299,    118.5,3,   160.43,2,    38.76,3,     2.68,2,  -999.0,-999.000
     33KI144_1,  PRS2,     2,  1,     11,     39,2,20030116,1529, 22.7463,-158.0085, 4755,   2996,   2994.2,   1.5635,  34.6685,2,  34.6698,2,    124.9,2,  1.3459,    124.5,3,   157.03,2,    38.32,3,     2.61,2,  -999.0,-999.000
     33KI144_1,  PRS2,     2,  1,     10,     32,2,20030116,1529, 22.7463,-158.0085, 4755,   3196,   3195.4,   1.5274,  34.6733,2,  34.6734,2,    129.6,2,  1.2912,    126.3,3,   157.72,2,    38.72,3,     2.56,2,  -999.0,-999.000
     33KI144_1,  PRS2,     2,  1,      9,      3,2,20030116,1529, 22.7463,-158.0085, 4755,   3403,   3400.3,   1.4905,  34.6779,2,  34.6779,2,    136.0,2,  1.2347,    135.3,3,   156.23,2,    37.37,3,     2.56,2,  -999.0,-999.000
     33KI144_1,  PRS2,     2,  1,      8,     29,2,20030116,1529, 22.7463,-158.0085, 4755,   3600,   3598.0,   1.4682,  34.6813,2,  34.6820,2,    141.2,2,  1.1928,    142.0,3,   153.09,2,    37.00,3,     2.54,2,  -999.0,-999.000
     33KI144_1,  PRS2,     2,  1,      7,     28,2,20030116,1529, 22.7463,-158.0085, 4755,   3797,   3797.4,   1.4599,  34.6838,2,  34.6873,3,    145.3,3,  1.1639,    145.4,3,   151.57,2,    36.93,3,     2.52,2,  -999.0,-999.000
     33KI144_1,  PRS2,     2,  1,      6,      7,2,20030116,1529, 22.7463,-158.0085, 4755,   4002,   3999.9,   1.4600,  34.6857,2,  34.6867,2,    148.4,2,  1.1423,    146.7,3,   149.94,2,    36.52,3,     2.49,2,  -999.0,-999.000
     33KI144_1,  PRS2,     2,  1,      5,     38,2,20030116,1529, 22.7463,-158.0085, 4755,   4199,   4198.3,   1.4685,  34.6869,2,  34.6885,2,    150.7,2,  1.1287,    148.7,3,   150.32,2,    36.47,3,     2.42,3,  -999.0,-999.000
     33KI144_1,  PRS2,     2,  1,      4,     36,2,20030116,1529, 22.7463,-158.0085, 4755,   4400,   4399.4,   1.4813,  34.6878,2,  34.6901,2,    152.6,2,  1.1185,    154.0,3,   148.61,2,    36.17,3,     2.46,2,  -999.0,-999.000
     33KI144_1,  PRS2,     2,  1,      3,     35,2,20030116,1529, 22.7463,-158.0085, 4755,   4500,   4499.3,   1.4891,  34.6882,2,  34.6897,2,    153.2,2,  1.1145,    152.3,3,   148.11,2,    36.06,3,     2.46,2,  -999.0,-999.000
     33KI144_1,  PRS2,     2,  1,      2,     34,2,20030116,1529, 22.7463,-158.0085, 4755,   4601,   4601.2,   1.4972,  34.6886,2,  34.6897,2,    154.0,2,  1.1106,    154.0,3,   147.33,2,    36.08,3,     2.43,3,  -999.0,-999.000
     33KI144_1,  PRS2,     2,  1,      1,     33,2,20030116,1529, 22.7463,-158.0085, 4755,   4799,   4799.2,   1.5202,  34.6887,2,  34.6905,2,    154.4,2,  1.1095,    153.2,3,   147.27,2,    35.92,3,     2.41,3,  -999.0,-999.000
     33KI144_1,  PRS2,     2,  2,     24,     31,2,20030116,2105, 22.7465,-158.0007, 4733,      6,      4.9,  23.6874,  35.3418,2,  35.3403,2,    205.6,2, 23.6864,    204.2,3,     1.04,2,     0.03,2,     0.02,2,  -999.0,-999.000
     33KI144_1,  PRS2,     2,  2,     23,     30,2,20030116,2105, 22.7465,-158.0007, 4733,     39,     38.1,  23.6816,  35.3407,2,  35.3397,2,    205.9,2, 23.6736,    205.5,3,     1.03,2,     0.04,2,     0.02,2,  -999.0,-999.000
     33KI144_1,  PRS2,     2,  2,     22,     22,2,20030116,2105, 22.7465,-158.0007, 4733,     72,     71.1,  23.6865,  35.3408,2,  35.3401,2,    206.0,2, 23.6716,    204.5,3,     1.03,2,     0.08,2,     0.02,2,  -999.0,-999.000
     33KI144_1,  PRS2,     2,  2,     21,     21,2,20030116,2105, 22.7465,-158.0007, 4733,    106,    105.0,  23.6765,  35.3411,2,  35.3403,2,    206.2,2, 23.6546,    204.7,3,     1.02,2,     0.14,2,     0.02,2,  -999.0,-999.000
     33KI144_1,  PRS2,     2,  2,     20,     20,2,20030116,2105, 22.7465,-158.0007, 4733,    141,    138.3,  22.4707,  35.3862,2,  35.3839,2,    208.3,2, 22.4429,    207.1,3,     1.33,2,     0.21,2,     0.05,2,  -999.0,-999.000
     33KI144_1,  PRS2,     2,  2,     19,     19,2,20030116,2105, 22.7465,-158.0007, 4733,    183,    180.9,  19.4853,  35.0661,2,  35.0756,2,    199.9,2, 19.4525,    197.9,3,     2.72,2,     1.66,2,     0.13,2,  -999.0,-999.000
     33KI144_1,  PRS2,     2,  2,     18,     18,2,20030116,2105, 22.7465,-158.0007, 4733,    241,    239.9,  15.8421,  34.5924,2,  34.5916,2,    211.8,2, 15.8045,    203.1,3,     4.32,2,     4.34,2,     0.39,2,  -999.0,-999.000
     33KI144_1,  PRS2,     2,  2,     17,     17,2,20030116,2105, 22.7465,-158.0007, 4733,    276,    274.4,  13.7969,  34.3802,2,  34.3800,2,    199.1,2, 13.7578,    196.7,3,     7.21,2,     7.95,2,     0.63,2,  -999.0,-999.000
     33KI144_1,  PRS2,     2,  2,     16,     16,2,20030116,2105, 22.7465,-158.0007, 4733,    312,    310.5,  12.2034,  34.2758,2,  34.2776,2,    207.8,2, 12.1626,    203.6,3,    10.33,2,    10.72,2,     0.76,2,  -999.0,-999.000
     33KI144_1,  PRS2,     2,  2,     15,     23,2,20030116,2105, 22.7465,-158.0007, 4733,    363,    361.5,  10.7043,  34.1863,2,  34.1875,2,    205.5,2, 10.6606,    200.9,3,    14.65,2,    13.94,2,     1.02,2,  -999.0,-999.000
     33KI144_1,  PRS2,     2,  2,     14,     40,2,20030116,2105, 22.7465,-158.0007, 4733,    404,    403.4,   9.4452,  34.1177,2,  34.1178,2,    182.7,2,  9.4000,    179.2,3,    22.53,2,    18.70,2,     1.36,2,  -999.0,-999.000
     33KI144_1,  PRS2,     2,  2,     13,     13,3,20030116,2105, 22.7465,-158.0007, 4733,    452,    450.8,   8.1622,  34.0639,2,  34.1101,4,    157.3,3,  8.1159,    158.5,3,    31.61,2,    22.75,2,     1.62,2,  -999.0,-999.000
     33KI144_1,  PRS2,     2,  2,     12,     12,2,20030116,2105, 22.7465,-158.0007, 4733,    501,    500.4,   7.4137,  34.0444,2,  34.0445,2,    134.2,2,  7.3650,    134.6,3,    41.63,2,    27.18,2,     1.95,2,  -999.0,-999.000
     33KI144_1,  PRS2,     2,  2,     11,     39,2,20030116,2105, 22.7465,-158.0007, 4733,    550,    551.0,   6.7373,  34.0415,2,  34.0423,2,    111.2,2,  6.6862,    111.8,3,    50.36,2,    30.54,2,     2.19,2,  -999.0,-999.000
     33KI144_1,  PRS2,     2,  2,     10,     32,2,20030116,2105, 22.7465,-158.0007, 4733,    592,    590.7,   5.8870,  34.0687,2,  34.0680,2,     70.4,2,  5.8360,     75.4,3,    63.84,2,    35.65,2,     1.82,4,  -999.0,-999.000
     33KI144_1,  PRS2,     2,  2,      9,      3,2,20030116,2105, 22.7465,-158.0007, 4733,    627,    625.5,   5.4263,  34.1178,2,  34.1172,2,     49.4,2,  5.3742,     54.0,3,    62.67,4,    38.31,2,     2.77,2,  -999.0,-999.000
     33KI144_1,  PRS2,     2,  2,      8,     29,2,20030116,2105, 22.7465,-158.0007, 4733,    664,    661.8,   5.2613,  34.1426,2,  34.1474,2,     45.8,2,  5.2069,     48.2,3,    63.88,4,    38.91,2,     2.83,2,  -999.0,-999.000
     33KI144_1,  PRS2,     2,  2,      7,     28,2,20030116,2105, 22.7465,-158.0007, 4733,    701,    700.5,   5.0942,  34.2201,2,  34.2207,2,     29.5,2,  5.0372,     34.1,3,    67.71,4,    40.44,2,     2.99,2,  -999.0,-999.000
     33KI144_1,  PRS2,     2,  2,      6,      7,2,20030116,2105, 22.7465,-158.0007, 4733,    762,    763.4,   4.7785,  34.3151,2,  34.3146,2,     23.9,2,  4.7177,     29.0,3,    87.72,4,    41.57,2,     2.28,4,  -999.0,-999.000
     33KI144_1,  PRS2,     2,  2,      5,     38,2,20030116,2105, 22.7465,-158.0007, 4733,    815,    815.3,   4.6029,  34.3706,2,  34.3700,2,     25.9,2,  4.5387,     31.2,3,    68.94,4,    33.04,4,     2.52,4,  -999.0,-999.000
     33KI144_1,  PRS2,     2,  2,      4,     36,2,20030116,2105, 22.7465,-158.0007, 4733,    867,    865.9,   4.4650,  34.4043,2,  34.4027,2,     28.2,2,  4.3974,     34.0,3,    96.55,4,    41.93,2,     3.09,2,  -999.0,-999.000
     33KI144_1,  PRS2,     2,  2,      3,     35,2,20030116,2105, 22.7465,-158.0007, 4733,    932,    929.6,   4.2699,  34.4489,2,  34.4467,2,     34.0,2,  4.1982,     39.9,3,    93.24,4,    41.92,2,     3.06,2,  -999.0,-999.000
     33KI144_1,  PRS2,     2,  2,      2,     34,2,20030116,2105, 22.7465,-158.0007, 4733,    992,    990.4,   4.0587,  34.4721,2,  34.4716,2,     38.6,2,  3.9834,     43.2,3,    57.83,4,    41.84,2,     3.04,2,  -999.0,-999.000
     33KI144_1,  PRS2,     2,  2,      1,     33,2,20030116,2105, 22.7465,-158.0007, 4733,   1018,   1019.0,   3.9017,  34.4810,2,  34.4816,2,     41.6,2,  3.8253,     46.1,3,    73.20,4,    41.90,2,     3.01,2,  -999.0,-999.000