BOTTLE,20090923WHPSIOMYS
EXPOCODE,SECT_ID,STNNBR,CASTNO,SAMPNO,BTLNBR,BTLNBR_FLAG_W,DATE,TIME,LATITUDE,LONGITUDE,DEPTH,CTDRAW,CTDPRS,CTDTMP,CTDSAL,CTDSAL_FLAG_W,SALNTY,SALNTY_FLAG_W,CTDOXY,CTDOXY_FLAG_W,THETA,OXYGEN,OXYGEN_FLAG_W,SILCAT,SILCAT_FLAG_W,NO2+NO3,NO2+NO3_FLAG_W,PHSPHT,PHSPHT_FLAG_W,REVPRS,REVTMP
,,,,,,,,,,,,,DBAR,ITS-90,PSS-78,,PSS-78,,UMOL/KG,,ITS-90,UMOL/KG,,UMOL/KG,,UMOL/KG,,UMOL/KG,,DBAR,DEG C
     33KI144_1,  PRS2,     6,  1,     13,     13,3,20030119,0533, 21.8482,-158.3632, 2480,      5,      4.2,  23.4488,  35.3819,2,  35.3809,2,    208.0,1, 23.4479,   -999.0,9,  -999.00,9,  -999.00,9,  -999.00,9,  -999.0,-999.000
     33KI144_1,  PRS2,     6,  1,     12,     12,2,20030119,0533, 21.8482,-158.3632, 2480,     27,     25.8,  23.4501,  35.3824,2,  35.3790,2,    208.0,1, 23.4448,   -999.0,9,  -999.00,9,  -999.00,9,  -999.00,9,  -999.0,-999.000
     33KI144_1,  PRS2,     6,  1,     11,     39,2,20030119,0533, 21.8482,-158.3632, 2480,     45,     44.6,  23.4603,  35.3828,2,  35.3819,2,    208.0,1, 23.4511,   -999.0,9,  -999.00,9,  -999.00,9,  -999.00,9,  -999.0,-999.000
     33KI144_1,  PRS2,     6,  1,     10,     32,2,20030119,0533, 21.8482,-158.3632, 2480,     75,     74.8,  23.4106,  35.3846,2,  35.3827,2,    208.6,1, 23.3951,   -999.0,9,  -999.00,9,  -999.00,9,  -999.00,9,  -999.0,-999.000
     33KI144_1,  PRS2,     6,  1,      9,      3,2,20030119,0533, 21.8482,-158.3632, 2480,    102,    100.2,  22.7505,  35.3595,2,  35.3567,2,    208.3,1, 22.7302,   -999.0,9,  -999.00,9,  -999.00,9,  -999.00,9,  -999.0,-999.000
     33KI144_1,  PRS2,     6,  1,      8,     29,2,20030119,0533, 21.8482,-158.3632, 2480,    127,    126.1,  21.8207,  35.2881,2,  35.2867,2,    205.4,1, 21.7958,   -999.0,9,  -999.00,9,  -999.00,9,  -999.00,9,  -999.0,-999.000
     33KI144_1,  PRS2,     6,  1,      7,     28,2,20030119,0533, 21.8482,-158.3632, 2480,    152,    152.4,  21.3314,  35.2578,2,  35.2568,2,    201.5,1, 21.3019,   -999.0,9,  -999.00,9,  -999.00,9,  -999.00,9,  -999.0,-999.000
     33KI144_1,  PRS2,     6,  1,      6,      7,2,20030119,0533, 21.8482,-158.3632, 2480,    178,    178.4,  19.8687,  35.1309,2,  35.1307,2,    203.7,1, 19.8359,   -999.0,9,  -999.00,9,  -999.00,9,  -999.00,9,  -999.0,-999.000
     33KI144_1,  PRS2,     6,  1,      5,     38,2,20030119,0533, 21.8482,-158.3632, 2480,    503,    503.3,   7.4695,  34.1219,2,  34.1201,2,    101.4,1,  7.4202,   -999.0,9,  -999.00,9,  -999.00,9,  -999.00,9,  -999.0,-999.000
     33KI144_1,  PRS2,     6,  1,      4,     36,3,20030119,0533, 21.8482,-158.3632, 2480,   1004,   1002.9,   4.2099,  34.4713,2,  34.5404,4,     37.4,1,  4.1325,   -999.0,9,  -999.00,9,  -999.00,9,  -999.00,9,  -999.0,-999.000
     33KI144_1,  PRS2,     6,  1,      3,     35,2,20030119,0533, 21.8482,-158.3632, 2480,   1501,   1501.1,   2.8066,  34.5785,2,  34.5783,2,     65.6,1,  2.7009,   -999.0,9,  -999.00,9,  -999.00,9,  -999.00,9,  -999.0,-999.000
     33KI144_1,  PRS2,     6,  1,      2,     34,2,20030119,0533, 21.8482,-158.3632, 2480,   1997,   1996.4,   2.1074,  34.6228,2,  34.6229,2,     88.2,1,  1.9696,   -999.0,9,  -999.00,9,  -999.00,9,  -999.00,9,  -999.0,-999.000
     33KI144_1,  PRS2,     6,  1,      1,     33,2,20030119,0533, 21.8482,-158.3632, 2480,   2469,   2468.5,   1.7482,  34.6513,2,  34.6508,2,    108.9,1,  1.5754,   -999.0,9,  -999.00,9,  -999.00,9,  -999.00,9,  -999.0,-999.000