BOTTLE,20141031SIOCCHAMB
EXPOCODE,SECT_ID,STNNBR,CASTNO,SAMPNO,BTLNBR,BTLNBR_FLAG_W,DATE,TIME,LATITUDE,LONGITUDE,DEPTH,CTDPRS,CTDTMP,CTDSAL,CTDSAL_FLAG_W,SALNTY,SALNTY_FLAG_W,CTDOXY,CTDOXY_FLAG_W,OXYGEN,OXYGEN_FLAG_W,SILCAT,SILCAT_FLAG_W,PHSPHT,PHSPHT_FLAG_W,REVPRS,CTDRAW,THETA,NO2+NO3,NO2+NO3_FLAG_W,REVTMP
,,,,,,,,,,,METERS,DBAR,ITS-90,PSS-78,,PSS-78,,UMOL/KG,,UMOL/KG,,UMOL/KG,,UMOL/KG,,DBAR,DBAR,ITS-90,UMOL/KG,,DEG C
33KI20100405,       PRS2,       2,          3,         24,       8024,2,20100406,       1530,  22.748167,-158.0001667,       4722,     4.6,  23.2024,  35.2699,2,  35.2718,2,    215.8,2,   215.6,2,    1.12,2,    0.10,2,  -999.0,       5,    23.2014,    0.03,2,     -999.0
33KI20100405,       PRS2,       2,          3,         23,       8023,2,20100406,       1530,  22.748167,-158.0001667,       4722,   499.8,   7.3753,  34.0447,2,  34.0445,2,    118.3,2,   117.6,2,   44.29,2,    2.07,2,  -999.0,     500,     7.3268,   29.12,2,     -999.0
33KI20100405,       PRS2,       2,          3,         22,       8022,2,20100406,       1530,  22.748167,-158.0001667,       4722,   751.1,   5.0610,  34.3495,2,  34.3525,2,     31.6,2,  -999.0,5,   88.57,2,    2.98,2,  -999.0,     751,     4.9996,   40.78,2,     -999.0
33KI20100405,       PRS2,       2,          3,         21,       8021,2,20100406,       1530,  22.748167,-158.0001667,       4722,   997.0,   4.1067,  34.4858,2,  34.4853,2,     45.1,2,    43.1,2,  107.26,2,    3.02,2,  -999.0,     998,     4.0305,   41.71,2,     -999.0
33KI20100405,       PRS2,       2,          3,         20,       8020,2,20100406,       1530,  22.748167,-158.0001667,       4722,  1200.3,   3.5535,  34.5258,2,  34.5252,2,     52.9,2,    53.4,2,  118.91,2,    2.97,2,  -999.0,    1200,     3.4650,   41.50,2,     -999.0
33KI20100405,       PRS2,       2,          3,         19,       8019,2,20100406,       1530,  22.748167,-158.0001667,       4722,  1399.8,   3.1106,  34.5491,2,  34.5485,2,     62.4,2,    63.5,2,  128.74,3,    2.94,2,  -999.0,    1399,     3.0099,   41.06,2,     -999.0
33KI20100405,       PRS2,       2,          3,         18,       8018,2,20100406,       1530,  22.748167,-158.0001667,       4722,  1600.7,   2.7377,  34.5761,2,-999.0000,5,     71.3,2,  -999.0,5, -999.00,5, -999.00,5,  -999.0,    1600,     2.6246, -999.00,5,     -999.0
33KI20100405,       PRS2,       2,          3,         17,       8017,2,20100406,       1530,  22.748167,-158.0001667,       4722,  1797.4,   2.4368,  34.5984,2,  34.5986,2,     78.8,2,    79.1,2,  143.41,2,    2.88,2,  -999.0,    1796,     2.3112,   40.62,2,     -999.0
33KI20100405,       PRS2,       2,          3,         16,       8016,2,20100406,       1530,  22.748167,-158.0001667,       4722,  2000.2,   2.1760,  34.6156,2,  34.6153,2,     88.9,2,    88.8,2,  149.05,2,    2.82,2,  -999.0,    2001,     2.0369,   39.88,2,     -999.0
33KI20100405,       PRS2,       2,          3,         15,       8015,2,20100406,       1530,  22.748167,-158.0001667,       4722,  2200.7,   1.9433,  34.6327,2,  34.6319,2,     98.3,2,    98.3,2,  153.76,2,    2.77,2,  -999.0,    2201,     1.7907,   39.38,2,     -999.0
33KI20100405,       PRS2,       2,          3,         14,       8014,2,20100406,       1530,  22.748167,-158.0001667,       4722,  2401.0,   1.7949,  34.6437,2,  34.6427,2,    103.7,2,   105.2,2,  156.82,2,    2.73,2,  -999.0,    2400,     1.6273,   38.97,2,     -999.0
33KI20100405,       PRS2,       2,          3,         13,       8025,2,20100406,       1530,  22.748167,-158.0001667,       4722,  2599.6,   1.6664,  34.6549,2,  34.6547,2,    113.5,2,   113.3,2,  158.93,2,    2.70,2,  -999.0,    2599,     1.4834,   38.45,2,     -999.0
33KI20100405,       PRS2,       2,          3,         12,       8012,2,20100406,       1530,  22.748167,-158.0001667,       4722,  2799.0,   1.5944,  34.6629,2,  34.6635,2,    121.3,2,   121.4,2,  160.43,2,    2.66,2,  -999.0,    2799,     1.3945,   37.94,2,     -999.0
33KI20100405,       PRS2,       2,          3,         11,       8011,2,20100406,       1530,  22.748167,-158.0001667,       4722,  3000.0,   1.5406,  34.6688,2,  34.6684,2,    127.1,2,   127.3,2,  157.93,2,    2.62,2,  -999.0,    3000,     1.3230,   37.52,2,     -999.0
33KI20100405,       PRS2,       2,          3,         10,       8010,2,20100406,       1530,  22.748167,-158.0001667,       4722,  3199.7,   1.5018,  34.6739,2,  34.6737,2,    132.7,2,   133.3,2,  156.65,2,    2.59,2,  -999.0,    3199,     1.2657,   37.35,2,     -999.0
33KI20100405,       PRS2,       2,          3,          9,       8009,2,20100406,       1530,  22.748167,-158.0001667,       4722,  3398.3,   1.4733,  34.6781,2,  34.6775,2,    137.9,2,   137.7,2,  156.16,2,    2.56,2,  -999.0,    3399,     1.2182,   36.81,2,     -999.0
33KI20100405,       PRS2,       2,          3,          8,       8008,2,20100406,       1530,  22.748167,-158.0001667,       4722,  3599.8,   1.4632,  34.6808,2,  34.6804,2,    141.6,2,   140.9,2,  154.83,2,    2.54,2,  -999.0,    3600,     1.1877,   36.59,2,     -999.0
33KI20100405,       PRS2,       2,          3,          7,       8026,2,20100406,       1530,  22.748167,-158.0001667,       4722,  3798.1,   1.4539,  34.6835,2,  34.6830,2,    146.2,2,   145.9,2,  153.18,2,    2.51,2,  -999.0,    3799,     1.1580,   36.20,2,     -999.0
33KI20100405,       PRS2,       2,          3,          6,       8006,2,20100406,       1530,  22.748167,-158.0001667,       4722,  3999.6,   1.4596,  34.6849,2,  34.6847,2,    148.5,2,   147.8,2,  152.30,2,    2.50,2,  -999.0,    3999,     1.1418,   36.11,2,     -999.0
33KI20100405,       PRS2,       2,          3,          5,       8005,2,20100406,       1530,  22.748167,-158.0001667,       4722,  4200.1,   1.4684,  34.6860,2,  34.6853,2,    150.4,2,   150.2,2,  151.16,2,    2.48,2,  -999.0,    4201,     1.1284,   35.96,2,     -999.0
33KI20100405,       PRS2,       2,          3,          4,       8004,2,20100406,       1530,  22.748167,-158.0001667,       4722,  4398.7,   1.4778,  34.6871,2,  34.6869,2,    152.4,2,   151.5,2,  150.10,2,    2.48,2,  -999.0,    4398,     1.1151,   35.85,2,     -999.0
33KI20100405,       PRS2,       2,          3,          3,       8003,2,20100406,       1530,  22.748167,-158.0001667,       4722,  4498.4,   1.4842,  34.6875,2,  34.6875,2,    153.2,2,   153.0,2,  149.46,2,    2.47,2,  -999.0,    4498,     1.1099,   35.77,2,     -999.0
33KI20100405,       PRS2,       2,          3,          2,       8002,2,20100406,       1530,  22.748167,-158.0001667,       4722,  4599.1,   1.4913,  34.6879,2,  34.6881,2,    153.9,2,   153.8,2,  149.40,2,    2.47,2,  -999.0,    4600,     1.1051,   35.74,2,     -999.0
33KI20100405,       PRS2,       2,          3,          1,       8001,2,20100406,       1530,  22.748167,-158.0001667,       4722,  4807.7,   1.5044,  34.6890,2,  34.6898,2,    155.6,2,   156.4,2,  147.30,2,    2.46,2,  -999.0,    4808,     1.0932,   35.52,2,     -999.0
33KI20100405,       PRS2,       2,          4,         24,       8024,2,20100406,       2059,  22.749833,-158.0010000,       4720,     9.1,  23.3016,  35.2711,2,  35.2706,2,    215.5,2,   215.4,2,    1.08,2,    0.10,2,  -999.0,       9,    23.2998,    0.05,2,     -999.0
33KI20100405,       PRS2,       2,          4,         23,       8023,2,20100406,       2059,  22.749833,-158.0010000,       4720,    50.3,  23.2125,  35.2705,2,  35.2706,2,    215.7,2,   216.3,2,    1.24,2,    0.10,2,  -999.0,      50,    23.2022,    0.05,2,     -999.0
33KI20100405,       PRS2,       2,          4,         22,       8022,2,20100406,       2059,  22.749833,-158.0010000,       4720,   100.8,  22.9468,  35.3373,2,  35.3372,2,    215.7,2,   214.6,2,    1.12,2,    0.07,2,  -999.0,     101,    22.9262,    0.07,2,     -999.0
33KI20100405,       PRS2,       2,          4,         21,       8021,2,20100406,       2059,  22.749833,-158.0010000,       4720,   120.4,  22.7902,  35.3353,2,  35.3354,2,    213.1,2,   213.7,2,    1.25,2,    0.07,2,  -999.0,     120,    22.7657,    0.05,2,     -999.0
33KI20100405,       PRS2,       2,          4,         20,       8020,2,20100406,       2059,  22.749833,-158.0010000,       4720,   136.0,  22.4886,  35.3292,2,  35.3263,2,    211.0,2,   210.0,2,    1.24,2,    0.09,2,  -999.0,     136,    22.4612,    0.17,2,     -999.0
33KI20100405,       PRS2,       2,          4,         19,       8019,2,20100406,       2059,  22.749833,-158.0010000,       4720,   199.3,  20.1160,  35.2089,2,  35.2085,2,    202.7,2,   203.2,2,    1.74,2,    0.16,2,  -999.0,     199,    20.0790,    1.35,2,     -999.0
33KI20100405,       PRS2,       2,          4,         18,       8018,2,20100406,       2059,  22.749833,-158.0010000,       4720,   220.8,  19.6046,  35.1678,2,  35.1656,2,    202.2,2,   202.0,2,    2.26,2,    0.18,2,  -999.0,     221,    19.5642,    1.78,2,     -999.0
33KI20100405,       PRS2,       2,          4,         17,       8017,2,20100406,       2059,  22.749833,-158.0010000,       4720,   239.8,  18.9625,  35.0636,2,  35.0323,3,    199.5,3,   199.7,2,    2.53,2,    0.23,2,  -999.0,     240,    18.9197,    2.49,2,     -999.0
33KI20100405,       PRS2,       2,          4,         16,       8016,2,20100406,       2059,  22.749833,-158.0010000,       4720,   280.7,  16.1095,  34.6103,2,  34.5975,2,    192.3,2,   191.0,2,    6.60,3,    0.46,2,  -999.0,     281,    16.0649,    5.79,2,     -999.0
33KI20100405,       PRS2,       2,          4,         15,       8015,2,20100406,       2059,  22.749833,-158.0010000,       4720,   320.1,  12.9729,  34.2475,2,  34.2387,2,    190.8,2,   189.8,2,    9.63,2,    0.80,2,  -999.0,     321,    12.9291,   10.88,2,     -999.0
33KI20100405,       PRS2,       2,          4,         14,       8014,2,20100406,       2059,  22.749833,-158.0010000,       4720,   341.3,  11.9665,  34.1884,2,  34.1901,2,    191.3,2,   193.8,2,   11.79,2,    0.90,2,  -999.0,     341,    11.9222,   12.54,2,     -999.0
33KI20100405,       PRS2,       2,          4,         13,       8025,2,20100406,       2059,  22.749833,-158.0010000,       4720,   360.1,  11.3636,  34.1709,2,  34.1703,2,    203.5,2,   200.6,2,   13.22,2,    0.94,2,  -999.0,     360,    11.3184,   13.27,2,     -999.0
33KI20100405,       PRS2,       2,          4,         12,       8012,2,20100406,       2059,  22.749833,-158.0010000,       4720,   385.0,  10.4636,  34.1083,2,  34.1109,2,    193.7,2,   194.3,2,   16.78,2,    1.11,2,  -999.0,     385,    10.4177,   15.75,2,     -999.0
33KI20100405,       PRS2,       2,          4,         11,       8011,2,20100406,       2059,  22.749833,-158.0010000,       4720,   443.7,   8.5897,  34.0567,2,  34.0566,2,    156.5,2,   157.5,2,   30.68,2,    1.64,2,  -999.0,     445,     8.5428,   23.06,2,     -999.0
33KI20100405,       PRS2,       2,          4,         10,       8010,2,20100406,       2059,  22.749833,-158.0010000,       4720,   497.8,   7.1464,  34.0424,2,  34.0437,2,    110.7,2,  -999.0,5,   46.86,2,    2.16,2,  -999.0,     498,     7.0989,   30.38,2,     -999.0
33KI20100405,       PRS2,       2,          4,          9,       8009,2,20100406,       2059,  22.749833,-158.0010000,       4720,   525.8,   6.3335,  34.0518,2,  34.0523,2,     83.1,2,    83.2,2,   58.47,2,    2.46,2,  -999.0,     526,     6.2865,   34.20,2,     -999.0
33KI20100405,       PRS2,       2,          4,          8,       8008,2,20100406,       2059,  22.749833,-158.0010000,       4720,   555.3,   6.0454,  34.0960,2,  34.0948,2,     70.6,2,    69.5,2,   64.98,2,    2.61,2,  -999.0,     555,     5.9969,   35.81,2,     -999.0
33KI20100405,       PRS2,       2,          4,          7,       8026,2,20100406,       2059,  22.749833,-158.0010000,       4720,   604.6,   5.9004,  34.1951,2,  34.1956,2,     44.2,2,    43.2,2,   71.25,2,    2.80,2,  -999.0,     604,     5.8479,   38.00,2,     -999.0
33KI20100405,       PRS2,       2,          4,          6,       8006,2,20100406,       2059,  22.749833,-158.0010000,       4720,   666.7,   5.4022,  34.2493,2,  34.2495,2,     39.3,2,    39.3,2,   81.09,2,    2.89,2,  -999.0,     666,     5.3465,   39.69,2,     -999.0
33KI20100405,       PRS2,       2,          4,          5,       8005,2,20100406,       2059,  22.749833,-158.0010000,       4720,   690.2,   5.4360,  34.3066,2,  34.3056,2,     32.0,2,    31.1,2,   81.84,2,    2.95,2,  -999.0,     690,     5.3779,   40.26,2,     -999.0
33KI20100405,       PRS2,       2,          4,          4,       8004,2,20100406,       2059,  22.749833,-158.0010000,       4720,   730.5,   5.0576,  34.3311,2,  34.3297,2,     32.0,2,  -999.0,5,   88.65,2,    2.98,2,  -999.0,     731,     4.9980,   40.83,2,     -999.0
33KI20100405,       PRS2,       2,          4,          3,       8003,2,20100406,       2059,  22.749833,-158.0010000,       4720,   823.2,   4.6435,  34.4079,2,  34.4073,2,     34.5,2,  -999.0,5,   96.90,2,    2.90,3,  -999.0,     823,     4.5784,   37.81,3,     -999.0
33KI20100405,       PRS2,       2,          4,          2,       8002,2,20100406,       2059,  22.749833,-158.0010000,       4720,   899.9,   4.4291,  34.4598,2,  34.4669,3,     37.5,3,    38.6,2,  101.42,2,    3.04,2,  -999.0,     900,     4.3588,   42.19,2,     -999.0
33KI20100405,       PRS2,       2,          4,          1,       8001,2,20100406,       2059,  22.749833,-158.0010000,       4720,  1016.1,   3.9461,  34.4922,2,  34.4924,2,     48.7,2,    49.1,2,  109.97,2,    2.98,2,  -999.0,    1017,     3.8695,   41.53,2,     -999.0
33KI20100405,       PRS2,       2,          5,         16,       8016,2,20100407,       0004,  22.748833,-157.9996667,       4727,     5.0,  23.4346,  35.2707,2,  35.2710,2,    215.3,1,  -999.0,9, -999.00,9, -999.00,9,  -999.0,       5,    23.4335, -999.00,9,     -999.0
33KI20100405,       PRS2,       2,          5,         15,       8015,2,20100407,       0004,  22.748833,-157.9996667,       4727,    24.8,  23.2351,  35.2688,2,  35.2690,2,    216.4,1,  -999.0,9, -999.00,9, -999.00,9,  -999.0,      25,    23.2300, -999.00,9,     -999.0
33KI20100405,       PRS2,       2,          5,         14,       8014,2,20100407,       0004,  22.748833,-157.9996667,       4727,    45.4,  23.2254,  35.2691,2,-999.0000,5,    216.1,1,  -999.0,9, -999.00,9, -999.00,9,  -999.0,      45,    23.2161, -999.00,9,     -999.0
33KI20100405,       PRS2,       2,          5,         13,       8025,2,20100407,       0004,  22.748833,-157.9996667,       4727,    45.5,  23.2261,  35.2691,2,  35.2700,2,    216.1,1,  -999.0,9, -999.00,9, -999.00,9,  -999.0,      45,    23.2167, -999.00,9,     -999.0
33KI20100405,       PRS2,       2,          5,         12,       8012,2,20100407,       0004,  22.748833,-157.9996667,       4727,    75.5,  23.0409,  35.3282,2,  35.3291,2,    216.0,1,  -999.0,9, -999.00,9, -999.00,9,  -999.0,      75,    23.0255, -999.00,9,     -999.0
33KI20100405,       PRS2,       2,          5,         11,       8011,2,20100407,       0004,  22.748833,-157.9996667,       4727,   101.7,  22.9352,  35.3371,2,-999.0000,5,    215.6,1,  -999.0,9, -999.00,9, -999.00,9,  -999.0,     101,    22.9145, -999.00,9,     -999.0
33KI20100405,       PRS2,       2,          5,         10,       8010,2,20100407,       0004,  22.748833,-157.9996667,       4727,   101.5,  22.9351,  35.3372,2,  35.3388,2,    215.6,1,  -999.0,9, -999.00,9, -999.00,9,  -999.0,     102,    22.9144, -999.00,9,     -999.0
33KI20100405,       PRS2,       2,          5,          9,       8009,2,20100407,       0004,  22.748833,-157.9996667,       4727,   125.1,  22.2767,  35.3209,2,  35.3224,2,    209.4,1,  -999.0,9, -999.00,9, -999.00,9,  -999.0,     124,    22.2517, -999.00,9,     -999.0
33KI20100405,       PRS2,       2,          5,          8,       8008,2,20100407,       0004,  22.748833,-157.9996667,       4727,   149.1,  20.8831,  35.2623,2,  35.2629,2,    204.7,1,  -999.0,9, -999.00,9, -999.00,9,  -999.0,     149,    20.8546, -999.00,9,     -999.0
33KI20100405,       PRS2,       2,          5,          7,       8026,2,20100407,       0004,  22.748833,-157.9996667,       4727,   175.3,  20.1266,  35.2199,2,  35.2188,2,    203.1,1,  -999.0,9, -999.00,9, -999.00,9,  -999.0,     175,    20.0940, -999.00,9,     -999.0
33KI20100405,       PRS2,       2,          5,          6,       8006,2,20100407,       0004,  22.748833,-157.9996667,       4727,   200.5,  19.3422,  35.1311,2,  35.1291,2,    201.5,1,  -999.0,9, -999.00,9, -999.00,9,  -999.0,     200,    19.3059, -999.00,9,     -999.0
33KI20100405,       PRS2,       2,          5,          5,       8005,2,20100407,       0004,  22.748833,-157.9996667,       4727,   248.5,  16.5819,  34.6813,2,  34.6844,2,    195.8,1,  -999.0,9, -999.00,9, -999.00,9,  -999.0,     248,    16.5416, -999.00,9,     -999.0
33KI20100405,       PRS2,       2,          5,          4,       8004,2,20100407,       0004,  22.748833,-157.9996667,       4727,   351.8,  11.3813,  34.1709,2,  34.1736,2,    203.8,1,  -999.0,9, -999.00,9, -999.00,9,  -999.0,     352,    11.3371, -999.00,9,     -999.0
33KI20100405,       PRS2,       2,          5,          3,       8003,2,20100407,       0004,  22.748833,-157.9996667,       4727,   351.4,  11.3977,  34.1720,2,  34.1730,2,    203.9,1,  -999.0,9, -999.00,9, -999.00,9,  -999.0,     351,    11.3535, -999.00,9,     -999.0
33KI20100405,       PRS2,       2,          5,          2,       8002,2,20100407,       0004,  22.748833,-157.9996667,       4727,   520.1,   7.0239,  34.0426,2,  34.0427,2,    106.4,1,  -999.0,9, -999.00,9, -999.00,9,  -999.0,     520,     6.9747, -999.00,9,     -999.0
33KI20100405,       PRS2,       2,          5,          1,       8001,2,20100407,       0004,  22.748833,-157.9996667,       4727,  1020.5,   3.9773,  34.4779,2,  34.4765,2,     47.5,1,  -999.0,9, -999.00,9, -999.00,9,  -999.0,    1020,     3.9002, -999.00,9,     -999.0