BOTTLE,20141031SIOCCHAMB
EXPOCODE,SECT_ID,STNNBR,CASTNO,SAMPNO,BTLNBR,BTLNBR_FLAG_W,DATE,TIME,LATITUDE,LONGITUDE,DEPTH,CTDPRS,CTDTMP,CTDSAL,CTDSAL_FLAG_W,SALNTY,SALNTY_FLAG_W,CTDOXY,CTDOXY_FLAG_W,OXYGEN,OXYGEN_FLAG_W,SILCAT,SILCAT_FLAG_W,PHSPHT,PHSPHT_FLAG_W,REVPRS,CTDRAW,THETA,NO2+NO3,NO2+NO3_FLAG_W,REVTMP
,,,,,,,,,,,METERS,DBAR,ITS-90,PSS-78,,PSS-78,,UMOL/KG,,UMOL/KG,,UMOL/KG,,UMOL/KG,,DBAR,DBAR,ITS-90,UMOL/KG,,DEG C
33KI20100405,       PRS2,       2,         15,         22,       8022,2,20100408,       0600,  22.750167,-158.0000000,       4722,     5.3,  23.3760,  35.2592,2,-999.0000,5,    215.2,1,  -999.0,9, -999.00,9, -999.00,9,  -999.0,       5,    23.3749, -999.00,9,     -999.0
33KI20100405,       PRS2,       2,         15,         21,       8021,2,20100408,       0600,  22.750167,-158.0000000,       4722,     5.4,  23.3760,  35.2592,2,  35.2589,2,    215.3,1,  -999.0,9, -999.00,9, -999.00,9,  -999.0,       5,    23.3749, -999.00,9,     -999.0
33KI20100405,       PRS2,       2,         15,         20,       8020,2,20100408,       0600,  22.750167,-158.0000000,       4722,    24.4,  23.3802,  35.2592,2,-999.0000,5,    215.4,1,  -999.0,9, -999.00,9, -999.00,9,  -999.0,      24,    23.3752, -999.00,9,     -999.0
33KI20100405,       PRS2,       2,         15,         19,       8019,2,20100408,       0600,  22.750167,-158.0000000,       4722,    24.5,  23.3822,  35.2592,2,  35.2593,2,    215.4,1,  -999.0,9, -999.00,9, -999.00,9,  -999.0,      24,    23.3771, -999.00,9,     -999.0
33KI20100405,       PRS2,       2,         15,         18,       8018,2,20100408,       0600,  22.750167,-158.0000000,       4722,    45.4,  23.2799,  35.2601,2,-999.0000,5,    216.0,1,  -999.0,9, -999.00,9, -999.00,9,  -999.0,      45,    23.2705, -999.00,9,     -999.0
33KI20100405,       PRS2,       2,         15,         17,       8017,2,20100408,       0600,  22.750167,-158.0000000,       4722,    45.4,  23.2802,  35.2600,2,  35.2591,2,    215.9,1,  -999.0,9, -999.00,9, -999.00,9,  -999.0,      45,    23.2708, -999.00,9,     -999.0
33KI20100405,       PRS2,       2,         15,         16,       8016,2,20100408,       0600,  22.750167,-158.0000000,       4722,    59.4,  23.2363,  35.2653,2,  35.2662,2,    216.1,1,  -999.0,9, -999.00,9, -999.00,9,  -999.0,      60,    23.2241, -999.00,9,     -999.0
33KI20100405,       PRS2,       2,         15,         15,       8015,2,20100408,       0600,  22.750167,-158.0000000,       4722,    74.9,  22.9882,  35.3205,2,-999.0000,5,    217.0,1,  -999.0,9, -999.00,9, -999.00,9,  -999.0,      75,    22.9729, -999.00,9,     -999.0
33KI20100405,       PRS2,       2,         15,         14,       8014,2,20100408,       0600,  22.750167,-158.0000000,       4722,    74.9,  23.0044,  35.3173,2,  35.3129,2,    217.0,1,  -999.0,9, -999.00,9, -999.00,9,  -999.0,      75,    22.9891, -999.00,9,     -999.0
33KI20100405,       PRS2,       2,         15,         13,       8025,2,20100408,       0600,  22.750167,-158.0000000,       4722,    83.9,  22.8181,  35.3430,2,  35.3427,2,    217.2,1,  -999.0,9, -999.00,9, -999.00,9,  -999.0,      85,    22.8011, -999.00,9,     -999.0
33KI20100405,       PRS2,       2,         15,         12,       8012,2,20100408,       0600,  22.750167,-158.0000000,       4722,    99.2,  22.5254,  35.3683,2,-999.0000,5,    217.0,1,  -999.0,9, -999.00,9, -999.00,9,  -999.0,      99,    22.5055, -999.00,9,     -999.0
33KI20100405,       PRS2,       2,         15,         11,       8011,2,20100408,       0600,  22.750167,-158.0000000,       4722,    99.1,  22.5260,  35.3682,2,  35.3681,2,    216.9,1,  -999.0,9, -999.00,9, -999.00,9,  -999.0,      99,    22.5061, -999.00,9,     -999.0
33KI20100405,       PRS2,       2,         15,         10,       8010,2,20100408,       0600,  22.750167,-158.0000000,       4722,   115.3,  22.2828,  35.3749,2,  35.3849,2,    215.4,1,  -999.0,9, -999.00,9, -999.00,9,  -999.0,     114,    22.2598, -999.00,9,     -999.0
33KI20100405,       PRS2,       2,         15,          9,       8009,2,20100408,       0600,  22.750167,-158.0000000,       4722,   126.0,  21.8831,  35.3396,2,-999.0000,5,    213.0,1,  -999.0,9, -999.00,9, -999.00,9,  -999.0,     126,    21.8583, -999.00,9,     -999.0
33KI20100405,       PRS2,       2,         15,          8,       8008,2,20100408,       0600,  22.750167,-158.0000000,       4722,   126.1,  21.8822,  35.3391,2,  35.3380,2,    212.4,1,  -999.0,9, -999.00,9, -999.00,9,  -999.0,     127,    21.8574, -999.00,9,     -999.0
33KI20100405,       PRS2,       2,         15,          7,       8026,2,20100408,       0600,  22.750167,-158.0000000,       4722,   135.1,  21.4517,  35.3266,2,  35.3307,2,    207.9,1,  -999.0,9, -999.00,9, -999.00,9,  -999.0,     135,    21.4255, -999.00,9,     -999.0
33KI20100405,       PRS2,       2,         15,          6,       8006,2,20100408,       0600,  22.750167,-158.0000000,       4722,   151.2,  21.2183,  35.4438,2,-999.0000,5,    214.5,1,  -999.0,9, -999.00,9, -999.00,9,  -999.0,     151,    21.1891, -999.00,9,     -999.0
33KI20100405,       PRS2,       2,         15,          5,       8005,2,20100408,       0600,  22.750167,-158.0000000,       4722,   151.2,  21.2194,  35.4435,2,-999.0000,5,    214.8,1,  -999.0,9, -999.00,9, -999.00,9,  -999.0,     151,    21.1902, -999.00,9,     -999.0
33KI20100405,       PRS2,       2,         15,          4,       8004,2,20100408,       0600,  22.750167,-158.0000000,       4722,   176.8,  20.6604,  35.3505,2,  35.4456,4,    208.5,1,  -999.0,9, -999.00,9, -999.00,9,  -999.0,     176,    20.6269, -999.00,9,     -999.0
33KI20100405,       PRS2,       2,         15,          3,       8003,2,20100408,       0600,  22.750167,-158.0000000,       4722,   176.5,  20.6605,  35.3505,2,  35.3526,2,    208.6,1,  -999.0,9, -999.00,9, -999.00,9,  -999.0,     177,    20.6271, -999.00,9,     -999.0
33KI20100405,       PRS2,       2,         15,          2,       8002,2,20100408,       0600,  22.750167,-158.0000000,       4722,   451.4,   8.1883,  34.0531,2,  34.0541,2,    143.3,1,  -999.0,9, -999.00,9, -999.00,9,  -999.0,     452,     8.1419, -999.00,9,     -999.0
33KI20100405,       PRS2,       2,         15,          1,       8001,2,20100408,       0600,  22.750167,-158.0000000,       4722,  1023.0,   4.0110,  34.4950,2,  34.4944,2,     44.3,1,  -999.0,9, -999.00,9, -999.00,9,  -999.0,    1023,     3.9334, -999.00,9,     -999.0
33KI20100405,       PRS2,       2,         16,         16,       8016,2,20100408,       0907,  22.748833,-158.0028333,       4722,     5.5,  23.3213,  35.2610,2,  35.2611,2,    215.2,2,   216.0,2, -999.00,9, -999.00,9,  -999.0,       5,    23.3201, -999.00,9,     -999.0
33KI20100405,       PRS2,       2,         16,         15,       8015,2,20100408,       0907,  22.748833,-158.0028333,       4722,    25.5,  23.3225,  35.2610,2,  35.2613,2,    215.0,2,  -999.0,5, -999.00,9, -999.00,9,  -999.0,      26,    23.3173, -999.00,9,     -999.0
33KI20100405,       PRS2,       2,         16,         14,       8014,2,20100408,       0907,  22.748833,-158.0028333,       4722,    77.2,  23.2513,  35.2717,2,  35.2735,2,    215.7,2,   215.4,2, -999.00,9, -999.00,9,  -999.0,      77,    23.2354, -999.00,9,     -999.0
33KI20100405,       PRS2,       2,         16,         13,       8025,2,20100408,       0907,  22.748833,-158.0028333,       4722,   140.7,  22.2433,  35.3852,2,  35.3878,2,    215.6,2,  -999.0,5, -999.00,9, -999.00,9,  -999.0,     141,    22.2152, -999.00,9,     -999.0
33KI20100405,       PRS2,       2,         16,         12,       8012,2,20100408,       0907,  22.748833,-158.0028333,       4722,   500.7,   7.3699,  34.0480,2,  34.0488,2,    120.4,2,   116.4,2, -999.00,9, -999.00,9,  -999.0,     501,     7.3214, -999.00,9,     -999.0
33KI20100405,       PRS2,       2,         16,         11,       8011,2,20100408,       0907,  22.748833,-158.0028333,       4722,   751.2,   5.1312,  34.3816,2,  34.3798,2,     31.9,2,    31.0,2, -999.00,9, -999.00,9,  -999.0,     751,     5.0694, -999.00,9,     -999.0
33KI20100405,       PRS2,       2,         16,         10,       8010,2,20100408,       0907,  22.748833,-158.0028333,       4722,  1000.7,   4.1002,  34.4893,2,-999.0000,5,     42.7,2,  -999.0,5, -999.00,9, -999.00,9,  -999.0,    1000,     4.0237, -999.00,9,     -999.0
33KI20100405,       PRS2,       2,         16,          9,       8009,2,20100408,       0907,  22.748833,-158.0028333,       4722,  1998.5,   2.2049,  34.6142,2,-999.0000,5,     87.6,2,  -999.0,5, -999.00,9, -999.00,9,  -999.0,    1998,     2.0656, -999.00,9,     -999.0
33KI20100405,       PRS2,       2,         16,          8,       8008,2,20100408,       0907,  22.748833,-158.0028333,       4722,  1998.8,   2.2047,  34.6143,2,  34.6136,2,     87.6,2,    87.6,2, -999.00,9, -999.00,9,  -999.0,    1998,     2.0653, -999.00,9,     -999.0
33KI20100405,       PRS2,       2,         16,          7,       8026,2,20100408,       0907,  22.748833,-158.0028333,       4722,  2998.9,   1.5449,  34.6684,2,-999.0000,5,    126.6,2,  -999.0,5, -999.00,9, -999.00,9,  -999.0,    2999,     1.3273, -999.00,9,     -999.0
33KI20100405,       PRS2,       2,         16,          6,       8006,2,20100408,       0907,  22.748833,-158.0028333,       4722,  2998.8,   1.5447,  34.6685,2,  34.6681,2,    126.5,2,   126.5,2, -999.00,9, -999.00,9,  -999.0,    2999,     1.3270, -999.00,9,     -999.0
33KI20100405,       PRS2,       2,         16,          5,       8005,2,20100408,       0907,  22.748833,-158.0028333,       4722,  4000.7,   1.4557,  34.6851,2,-999.0000,5,    148.6,2,  -999.0,5, -999.00,9, -999.00,9,  -999.0,    4002,     1.1380, -999.00,9,     -999.0
33KI20100405,       PRS2,       2,         16,          4,       8004,2,20100408,       0907,  22.748833,-158.0028333,       4722,  3999.9,   1.4557,  34.6850,2,  34.6832,2,    148.6,2,   148.8,2, -999.00,9, -999.00,9,  -999.0,    4001,     1.1380, -999.00,9,     -999.0
33KI20100405,       PRS2,       2,         16,          3,       8003,2,20100408,       0907,  22.748833,-158.0028333,       4722,  4750.4,   1.4995,  34.6889,2,  34.6899,2,    155.4,2,  -999.0,5, -999.00,9, -999.00,9,  -999.0,    4751,     1.0953, -999.00,9,     -999.0
33KI20100405,       PRS2,       2,         16,          2,       8002,2,20100408,       0907,  22.748833,-158.0028333,       4722,  4803.5,   1.5048,  34.6889,2,  34.6851,3,    155.4,3,  -999.0,5, -999.00,9, -999.00,9,  -999.0,    4804,     1.0940, -999.00,9,     -999.0
33KI20100405,       PRS2,       2,         16,          1,       8001,2,20100408,       0907,  22.748833,-158.0028333,       4722,  4804.0,   1.5049,  34.6890,2,  34.6893,2,    155.4,2,   156.1,2, -999.00,9, -999.00,9,  -999.0,    4804,     1.0941, -999.00,9,     -999.0
33KI20100405,       PRS2,       2,         17,         24,       8024,2,20100408,       2335,  22.705833,-157.9655000,       4722,     5.0,  23.4836,  35.2659,2,-999.0000,9,    215.1,1,  -999.0,9, -999.00,9, -999.00,9,  -999.0,       5,    23.4825, -999.00,9,     -999.0
33KI20100405,       PRS2,       2,         17,         23,       8023,2,20100408,       2335,  22.705833,-157.9655000,       4722,     5.0,  23.4834,  35.2660,2,-999.0000,9,    215.1,1,  -999.0,9, -999.00,9, -999.00,9,  -999.0,       5,    23.4823, -999.00,9,     -999.0
33KI20100405,       PRS2,       2,         17,         22,       8022,2,20100408,       2335,  22.705833,-157.9655000,       4722,     5.0,  23.4697,  35.2656,2,-999.0000,9,    215.2,1,  -999.0,9, -999.00,9, -999.00,9,  -999.0,       5,    23.4687, -999.00,9,     -999.0
33KI20100405,       PRS2,       2,         17,         21,       8021,2,20100408,       2335,  22.705833,-157.9655000,       4722,     5.0,  23.4641,  35.2657,2,-999.0000,9,    215.3,1,  -999.0,9, -999.00,9, -999.00,9,  -999.0,       5,    23.4630, -999.00,9,     -999.0
33KI20100405,       PRS2,       2,         17,         20,       8020,2,20100408,       2335,  22.705833,-157.9655000,       4722,     5.0,  23.4579,  35.2654,2,-999.0000,9,    215.3,1,  -999.0,9, -999.00,9, -999.00,9,  -999.0,       5,    23.4568, -999.00,9,     -999.0
33KI20100405,       PRS2,       2,         17,         19,       8019,2,20100408,       2335,  22.705833,-157.9655000,       4722,     5.0,  23.4578,  35.2652,2,-999.0000,9,    215.3,1,  -999.0,9, -999.00,9, -999.00,9,  -999.0,       5,    23.4568, -999.00,9,     -999.0
33KI20100405,       PRS2,       2,         17,         18,       8018,2,20100408,       2335,  22.705833,-157.9655000,       4722,     5.0,  23.4579,  35.2653,2,-999.0000,9,    215.3,1,  -999.0,9, -999.00,9, -999.00,9,  -999.0,       5,    23.4568, -999.00,9,     -999.0
33KI20100405,       PRS2,       2,         17,         17,       8017,2,20100408,       2335,  22.705833,-157.9655000,       4722,     4.9,  23.4579,  35.2654,2,-999.0000,9,    215.2,1,  -999.0,9, -999.00,9, -999.00,9,  -999.0,       5,    23.4569, -999.00,9,     -999.0
33KI20100405,       PRS2,       2,         17,         16,       8016,2,20100408,       2335,  22.705833,-157.9655000,       4722,     5.0,  23.4593,  35.2652,2,-999.0000,9,    215.2,1,  -999.0,9, -999.00,9, -999.00,9,  -999.0,       5,    23.4583, -999.00,9,     -999.0
33KI20100405,       PRS2,       2,         17,         15,       8015,2,20100408,       2335,  22.705833,-157.9655000,       4722,     4.9,  23.4609,  35.2652,2,-999.0000,9,    215.3,1,  -999.0,9, -999.00,9, -999.00,9,  -999.0,       5,    23.4599, -999.00,9,     -999.0
33KI20100405,       PRS2,       2,         17,         14,       8014,2,20100408,       2335,  22.705833,-157.9655000,       4722,     4.9,  23.4615,  35.2655,2,-999.0000,9,    215.2,1,  -999.0,9, -999.00,9, -999.00,9,  -999.0,       5,    23.4604, -999.00,9,     -999.0
33KI20100405,       PRS2,       2,         17,         13,       8025,2,20100408,       2335,  22.705833,-157.9655000,       4722,     5.1,  23.4621,  35.2654,2,-999.0000,9,    215.1,1,  -999.0,9, -999.00,9, -999.00,9,  -999.0,       5,    23.4611, -999.00,9,     -999.0
33KI20100405,       PRS2,       2,         17,         12,       8012,2,20100408,       2335,  22.705833,-157.9655000,       4722,     5.0,  23.4678,  35.2656,2,-999.0000,9,    215.0,1,  -999.0,9, -999.00,9, -999.00,9,  -999.0,       5,    23.4668, -999.00,9,     -999.0
33KI20100405,       PRS2,       2,         17,         11,       8011,2,20100408,       2335,  22.705833,-157.9655000,       4722,     5.0,  23.4725,  35.2656,2,-999.0000,9,    214.9,1,  -999.0,9, -999.00,9, -999.00,9,  -999.0,       5,    23.4714, -999.00,9,     -999.0
33KI20100405,       PRS2,       2,         17,         10,       8010,2,20100408,       2335,  22.705833,-157.9655000,       4722,     5.0,  23.4723,  35.2657,2,-999.0000,9,    214.8,1,  -999.0,9, -999.00,9, -999.00,9,  -999.0,       5,    23.4713, -999.00,9,     -999.0
33KI20100405,       PRS2,       2,         17,          9,       8009,2,20100408,       2335,  22.705833,-157.9655000,       4722,     4.9,  23.4573,  35.2647,2,-999.0000,9,    214.6,1,  -999.0,9, -999.00,9, -999.00,9,  -999.0,       5,    23.4562, -999.00,9,     -999.0
33KI20100405,       PRS2,       2,         17,          8,       8008,2,20100408,       2335,  22.705833,-157.9655000,       4722,     4.9,  23.4530,  35.2648,2,-999.0000,9,    214.6,1,  -999.0,9, -999.00,9, -999.00,9,  -999.0,       4,    23.4520, -999.00,9,     -999.0
33KI20100405,       PRS2,       2,         17,          7,       8026,2,20100408,       2335,  22.705833,-157.9655000,       4722,     5.0,  23.4520,  35.2647,2,-999.0000,9,    214.6,1,  -999.0,9, -999.00,9, -999.00,9,  -999.0,       5,    23.4510, -999.00,9,     -999.0
33KI20100405,       PRS2,       2,         17,          6,       8006,2,20100408,       2335,  22.705833,-157.9655000,       4722,     5.0,  23.4521,  35.2651,2,-999.0000,9,    214.7,1,  -999.0,9, -999.00,9, -999.00,9,  -999.0,       5,    23.4511, -999.00,9,     -999.0
33KI20100405,       PRS2,       2,         17,          5,       8005,2,20100408,       2335,  22.705833,-157.9655000,       4722,    24.8,  23.3509,  35.2624,2,-999.0000,9,    215.2,1,  -999.0,9, -999.00,9, -999.00,9,  -999.0,      25,    23.3458, -999.00,9,     -999.0
33KI20100405,       PRS2,       2,         17,          4,       8004,2,20100408,       2335,  22.705833,-157.9655000,       4722,    24.6,  23.3503,  35.2623,2,-999.0000,9,    215.2,1,  -999.0,9, -999.00,9, -999.00,9,  -999.0,      25,    23.3452, -999.00,9,     -999.0
33KI20100405,       PRS2,       2,         17,          3,       8003,2,20100408,       2335,  22.705833,-157.9655000,       4722,    75.1,  23.2676,  35.2613,2,-999.0000,9,    215.6,1,  -999.0,9, -999.00,9, -999.00,9,  -999.0,      76,    23.2521, -999.00,9,     -999.0
33KI20100405,       PRS2,       2,         17,          2,       8002,2,20100408,       2335,  22.705833,-157.9655000,       4722,    75.3,  23.2682,  35.2610,2,-999.0000,9,    215.6,1,  -999.0,9, -999.00,9, -999.00,9,  -999.0,      75,    23.2527, -999.00,9,     -999.0
33KI20100405,       PRS2,       2,         17,          1,       8001,2,20100408,       2335,  22.705833,-157.9655000,       4722,    75.3,  23.2681,  35.2610,2,-999.0000,9,    215.6,1,  -999.0,9, -999.00,9, -999.00,9,  -999.0,      75,    23.2526, -999.00,9,     -999.0