BOTTLE,20141031SIOCCHAMB
EXPOCODE,SECT_ID,STNNBR,CASTNO,SAMPNO,BTLNBR,BTLNBR_FLAG_W,DATE,TIME,LATITUDE,LONGITUDE,DEPTH,CTDPRS,CTDTMP,CTDSAL,CTDSAL_FLAG_W,SALNTY,SALNTY_FLAG_W,CTDOXY,CTDOXY_FLAG_W,OXYGEN,OXYGEN_FLAG_W,SILCAT,SILCAT_FLAG_W,PHSPHT,PHSPHT_FLAG_W,REVPRS,CTDRAW,THETA,NO2+NO3,NO2+NO3_FLAG_W,REVTMP
,,,,,,,,,,,METERS,DBAR,ITS-90,PSS-78,,PSS-78,,UMOL/KG,,UMOL/KG,,UMOL/KG,,UMOL/KG,,DBAR,DBAR,ITS-90,UMOL/KG,,DEG C
33KI20100405,       PRS2,       1,          1,         24,       8024,2,20100405,       2222,  21.344167,-158.2738333,       1480,     5.0,  24.2212,  35.1813,2,  35.1803,2,    213.3,2,   213.4,2, -999.00,9, -999.00,9,  -999.0,       5,    24.2202, -999.00,9,     -999.0
33KI20100405,       PRS2,       1,          1,         23,       8023,2,20100405,       2222,  21.344167,-158.2738333,       1480,     5.0,  24.2242,  35.1810,2,  35.1792,2,    213.2,2,   213.5,2, -999.00,9, -999.00,9,  -999.0,       5,    24.2231, -999.00,9,     -999.0
33KI20100405,       PRS2,       1,          1,         22,       8022,2,20100405,       2222,  21.344167,-158.2738333,       1480,    24.8,  24.0740,  35.1742,2,  35.1735,2,    213.2,2,   213.6,2, -999.00,9, -999.00,9,  -999.0,      25,    24.0687, -999.00,9,     -999.0
33KI20100405,       PRS2,       1,          1,         21,       8021,2,20100405,       2222,  21.344167,-158.2738333,       1480,    44.1,  24.0304,  35.1731,2,  35.1723,2,    213.8,2,   212.9,2, -999.00,9, -999.00,9,  -999.0,      44,    24.0211, -999.00,9,     -999.0
33KI20100405,       PRS2,       1,          1,         20,       8020,2,20100405,       2222,  21.344167,-158.2738333,       1480,    59.1,  24.0129,  35.1728,2,  35.1725,2,    213.6,2,   213.7,2, -999.00,9, -999.00,9,  -999.0,      59,    24.0004, -999.00,9,     -999.0
33KI20100405,       PRS2,       1,          1,         19,       8019,2,20100405,       2222,  21.344167,-158.2738333,       1480,    75.2,  24.0084,  35.1734,2,  35.1748,2,    213.9,2,   212.8,2, -999.00,9, -999.00,9,  -999.0,      74,    23.9925, -999.00,9,     -999.0
33KI20100405,       PRS2,       1,          1,         18,       8018,2,20100405,       2222,  21.344167,-158.2738333,       1480,   101.2,  23.7230,  35.3281,2,  35.3114,3,    215.0,3,   214.3,2, -999.00,9, -999.00,9,  -999.0,     100,    23.7018, -999.00,9,     -999.0
33KI20100405,       PRS2,       1,          1,         17,       8017,2,20100405,       2222,  21.344167,-158.2738333,       1480,   115.7,  23.2380,  35.3891,2,  35.3904,2,    214.5,2,   214.2,2, -999.00,9, -999.00,9,  -999.0,     116,    23.2142, -999.00,9,     -999.0
33KI20100405,       PRS2,       1,          1,         16,       8016,2,20100405,       2222,  21.344167,-158.2738333,       1480,   123.7,  22.8719,  35.4318,2,  35.4304,2,    218.7,2,   218.7,2, -999.00,9, -999.00,9,  -999.0,     125,    22.8467, -999.00,9,     -999.0
33KI20100405,       PRS2,       1,          1,         15,       8015,2,20100405,       2222,  21.344167,-158.2738333,       1480,   149.8,  22.0997,  35.4106,2,  35.4101,2,    213.0,2,   213.0,2, -999.00,9, -999.00,9,  -999.0,     150,    22.0700, -999.00,9,     -999.0
33KI20100405,       PRS2,       1,          1,         14,       8014,2,20100405,       2222,  21.344167,-158.2738333,       1480,   174.7,  19.7081,  35.1318,2,  35.1232,2,    193.2,2,   195.3,2, -999.00,9, -999.00,9,  -999.0,     175,    19.6762, -999.00,9,     -999.0
33KI20100405,       PRS2,       1,          1,         13,       8025,2,20100405,       2222,  21.344167,-158.2738333,       1480,   199.9,  17.8959,  34.8807,2,  34.8865,2,    195.2,2,   195.6,2, -999.00,9, -999.00,9,  -999.0,     200,    17.8618, -999.00,9,     -999.0
33KI20100405,       PRS2,       1,          1,         12,       8012,2,20100405,       2222,  21.344167,-158.2738333,       1480,   224.5,  16.6354,  34.7008,2,  34.6981,2,    193.2,2,   193.8,2, -999.00,9, -999.00,9,  -999.0,     225,    16.5990, -999.00,9,     -999.0
33KI20100405,       PRS2,       1,          1,         11,       8011,2,20100405,       2222,  21.344167,-158.2738333,       1480,   249.9,  15.3500,  34.5375,2,  34.5364,2,    191.6,2,   192.2,2, -999.00,9, -999.00,9,  -999.0,     250,    15.3117, -999.00,9,     -999.0
33KI20100405,       PRS2,       1,          1,         10,       8010,2,20100405,       2222,  21.344167,-158.2738333,       1480,   300.0,  12.2742,  34.2662,2,  34.2587,2,    186.3,2,  -999.0,5, -999.00,9, -999.00,9,  -999.0,     300,    12.2346, -999.00,9,     -999.0
33KI20100405,       PRS2,       1,          1,          9,       8009,2,20100405,       2222,  21.344167,-158.2738333,       1480,   351.5,  10.7054,  34.1715,2,  34.1726,2,    178.0,2,   177.6,2, -999.00,9, -999.00,9,  -999.0,     351,    10.6629, -999.00,9,     -999.0
33KI20100405,       PRS2,       1,          1,          8,       8008,2,20100405,       2222,  21.344167,-158.2738333,       1480,   402.3,   9.0186,  34.1277,2,  34.1295,2,    149.5,2,   148.1,2, -999.00,9, -999.00,9,  -999.0,     401,     8.9749, -999.00,9,     -999.0
33KI20100405,       PRS2,       1,          1,          7,       8026,2,20100405,       2222,  21.344167,-158.2738333,       1480,   499.8,   6.6034,  34.1333,2,  34.1325,2,     77.5,2,  -999.0,5, -999.00,9, -999.00,9,  -999.0,     500,     6.5578, -999.00,9,     -999.0
33KI20100405,       PRS2,       1,          1,          6,       8006,2,20100405,       2222,  21.344167,-158.2738333,       1480,   598.9,   5.6951,  34.2256,2,  34.2266,2,     45.0,2,    45.3,2, -999.00,9, -999.00,9,  -999.0,     600,     5.6440, -999.00,9,     -999.0
33KI20100405,       PRS2,       1,          1,          5,       8005,2,20100405,       2222,  21.344167,-158.2738333,       1480,   699.7,   5.1421,  34.3163,2,  34.3156,2,     38.6,2,    39.3,2, -999.00,9, -999.00,9,  -999.0,     700,     5.0848, -999.00,9,     -999.0
33KI20100405,       PRS2,       1,          1,          4,       8004,2,20100405,       2222,  21.344167,-158.2738333,       1480,   750.6,   4.8759,  34.3660,2,  34.3662,2,     38.4,2,    37.8,2, -999.00,9, -999.00,9,  -999.0,     751,     4.8156, -999.00,9,     -999.0
33KI20100405,       PRS2,       1,          1,          3,       8003,2,20100405,       2222,  21.344167,-158.2738333,       1480,   901.1,   4.4455,  34.4563,2,  34.4559,2,     43.0,2,    42.4,2, -999.00,9, -999.00,9,  -999.0,     901,     4.3750, -999.00,9,     -999.0
33KI20100405,       PRS2,       1,          1,          2,       8002,2,20100405,       2222,  21.344167,-158.2738333,       1480,   900.8,   4.4467,  34.4561,2,  34.4559,2,     43.0,2,    43.3,2, -999.00,9, -999.00,9,  -999.0,     901,     4.3761, -999.00,9,     -999.0
33KI20100405,       PRS2,       1,          1,          1,       8001,2,20100405,       2222,  21.344167,-158.2738333,       1480,  1019.7,   4.0881,  34.4970,2,  34.4970,2,     47.3,2,    47.6,2, -999.00,9, -999.00,9,  -999.0,    1019,     4.0101, -999.00,9,     -999.0
33KI20100405,       PRS2,       2,          1,         15,       8015,2,20100406,       1214,  22.742000,-158.0020000,       4722,    25.1,  23.2224,  35.2711,2,-999.0000,9,    215.1,1,  -999.0,9, -999.00,9, -999.00,9,  -999.0,      24,    23.2172, -999.00,9,     -999.0
33KI20100405,       PRS2,       2,          1,         14,       8014,2,20100406,       1214,  22.742000,-158.0020000,       4722,    25.2,  23.2221,  35.2710,2,-999.0000,9,    215.2,1,  -999.0,9, -999.00,9, -999.00,9,  -999.0,      25,    23.2169, -999.00,9,     -999.0
33KI20100405,       PRS2,       2,          1,         13,       8025,2,20100406,       1214,  22.742000,-158.0020000,       4722,    25.3,  23.2219,  35.2711,2,-999.0000,9,    215.2,1,  -999.0,9, -999.00,9, -999.00,9,  -999.0,      25,    23.2167, -999.00,9,     -999.0
33KI20100405,       PRS2,       2,          1,         12,       8012,2,20100406,       1214,  22.742000,-158.0020000,       4722,    25.2,  23.2218,  35.2711,2,-999.0000,9,    215.2,1,  -999.0,9, -999.00,9, -999.00,9,  -999.0,      25,    23.2166, -999.00,9,     -999.0
33KI20100405,       PRS2,       2,          1,         11,       8011,2,20100406,       1214,  22.742000,-158.0020000,       4722,    25.2,  23.2216,  35.2711,2,-999.0000,9,    215.3,1,  -999.0,9, -999.00,9, -999.00,9,  -999.0,      25,    23.2164, -999.00,9,     -999.0
33KI20100405,       PRS2,       2,          1,         10,       8010,2,20100406,       1214,  22.742000,-158.0020000,       4722,    45.1,  23.2234,  35.2737,2,-999.0000,9,    215.6,1,  -999.0,9, -999.00,9, -999.00,9,  -999.0,      45,    23.2141, -999.00,9,     -999.0
33KI20100405,       PRS2,       2,          1,          9,       8009,2,20100406,       1214,  22.742000,-158.0020000,       4722,    45.2,  23.2233,  35.2738,2,-999.0000,9,    215.6,1,  -999.0,9, -999.00,9, -999.00,9,  -999.0,      45,    23.2140, -999.00,9,     -999.0
33KI20100405,       PRS2,       2,          1,          8,       8008,2,20100406,       1214,  22.742000,-158.0020000,       4722,    45.5,  23.2232,  35.2739,2,-999.0000,9,    215.6,1,  -999.0,9, -999.00,9, -999.00,9,  -999.0,      45,    23.2139, -999.00,9,     -999.0
33KI20100405,       PRS2,       2,          1,          7,       8026,2,20100406,       1214,  22.742000,-158.0020000,       4722,    45.7,  23.2232,  35.2741,2,-999.0000,9,    215.6,1,  -999.0,9, -999.00,9, -999.00,9,  -999.0,      46,    23.2138, -999.00,9,     -999.0
33KI20100405,       PRS2,       2,          1,          6,       8006,2,20100406,       1214,  22.742000,-158.0020000,       4722,    45.4,  23.2234,  35.2743,2,-999.0000,9,    215.6,1,  -999.0,9, -999.00,9, -999.00,9,  -999.0,      47,    23.2141, -999.00,9,     -999.0
33KI20100405,       PRS2,       2,          1,          5,       8005,2,20100406,       1214,  22.742000,-158.0020000,       4722,    74.7,  22.9745,  35.3362,2,-999.0000,9,    216.2,1,  -999.0,9, -999.00,9, -999.00,9,  -999.0,      76,    22.9593, -999.00,9,     -999.0
33KI20100405,       PRS2,       2,          1,          4,       8004,2,20100406,       1214,  22.742000,-158.0020000,       4722,    74.7,  22.9742,  35.3361,2,-999.0000,9,    216.3,1,  -999.0,9, -999.00,9, -999.00,9,  -999.0,      75,    22.9589, -999.00,9,     -999.0
33KI20100405,       PRS2,       2,          1,          3,       8003,2,20100406,       1214,  22.742000,-158.0020000,       4722,    74.7,  22.9743,  35.3361,2,-999.0000,9,    216.4,1,  -999.0,9, -999.00,9, -999.00,9,  -999.0,      74,    22.9590, -999.00,9,     -999.0
33KI20100405,       PRS2,       2,          1,          2,       8002,2,20100406,       1214,  22.742000,-158.0020000,       4722,    74.6,  22.9749,  35.3361,2,-999.0000,9,    216.5,1,  -999.0,9, -999.00,9, -999.00,9,  -999.0,      75,    22.9596, -999.00,9,     -999.0
33KI20100405,       PRS2,       2,          1,          1,       8001,2,20100406,       1214,  22.742000,-158.0020000,       4722,    74.8,  22.9760,  35.3359,2,-999.0000,9,    216.4,1,  -999.0,9, -999.00,9, -999.00,9,  -999.0,      75,    22.9607, -999.00,9,     -999.0
33KI20100405,       PRS2,       2,          2,         20,       8020,2,20100406,       1315,  22.740000,-157.9991667,       4720,     4.7,  23.2086,  35.2721,2,  35.2708,2,    216.1,1,  -999.0,9, -999.00,9, -999.00,9,  -999.0,       5,    23.2076, -999.00,9,     -999.0
33KI20100405,       PRS2,       2,          2,         19,       8019,2,20100406,       1315,  22.740000,-157.9991667,       4720,     4.7,  23.2084,  35.2721,2,  35.2704,2,    216.2,1,  -999.0,9, -999.00,9, -999.00,9,  -999.0,       5,    23.2074, -999.00,9,     -999.0
33KI20100405,       PRS2,       2,          2,         18,       8018,2,20100406,       1315,  22.740000,-157.9991667,       4720,     4.7,  23.2080,  35.2721,2,-999.0000,5,    216.2,1,  -999.0,9, -999.00,9, -999.00,9,  -999.0,       5,    23.2070, -999.00,9,     -999.0
33KI20100405,       PRS2,       2,          2,         17,       8017,2,20100406,       1315,  22.740000,-157.9991667,       4720,    25.3,  23.2140,  35.2719,2,  35.2708,2,    216.2,1,  -999.0,9, -999.00,9, -999.00,9,  -999.0,      26,    23.2088, -999.00,9,     -999.0
33KI20100405,       PRS2,       2,          2,         16,       8016,2,20100406,       1315,  22.740000,-157.9991667,       4720,    25.3,  23.2146,  35.2720,2,  35.2710,2,    216.2,1,  -999.0,9, -999.00,9, -999.00,9,  -999.0,      25,    23.2095, -999.00,9,     -999.0
33KI20100405,       PRS2,       2,          2,         15,       8015,2,20100406,       1315,  22.740000,-157.9991667,       4720,    25.2,  23.2155,  35.2723,2,-999.0000,5,    216.2,1,  -999.0,9, -999.00,9, -999.00,9,  -999.0,      24,    23.2103, -999.00,9,     -999.0
33KI20100405,       PRS2,       2,          2,         14,       8014,2,20100406,       1315,  22.740000,-157.9991667,       4720,    44.1,  23.2186,  35.2738,2,  35.2727,2,    216.2,1,  -999.0,9, -999.00,9, -999.00,9,  -999.0,      44,    23.2095, -999.00,9,     -999.0
33KI20100405,       PRS2,       2,          2,         13,       8025,2,20100406,       1315,  22.740000,-157.9991667,       4720,    44.1,  23.2185,  35.2742,2,  35.2733,2,    216.3,1,  -999.0,9, -999.00,9, -999.00,9,  -999.0,      45,    23.2095, -999.00,9,     -999.0
33KI20100405,       PRS2,       2,          2,         12,       8012,2,20100406,       1315,  22.740000,-157.9991667,       4720,    44.2,  23.2189,  35.2740,2,-999.0000,5,    216.3,1,  -999.0,9, -999.00,9, -999.00,9,  -999.0,      44,    23.2098, -999.00,9,     -999.0
33KI20100405,       PRS2,       2,          2,         11,       8011,2,20100406,       1315,  22.740000,-157.9991667,       4720,    77.5,  23.0043,  35.3343,2,  35.3321,2,    216.7,1,  -999.0,9, -999.00,9, -999.00,9,  -999.0,      78,    22.9885, -999.00,9,     -999.0
33KI20100405,       PRS2,       2,          2,         10,       8010,2,20100406,       1315,  22.740000,-157.9991667,       4720,    77.4,  23.0043,  35.3342,2,  35.3325,2,    216.7,1,  -999.0,9, -999.00,9, -999.00,9,  -999.0,      78,    22.9885, -999.00,9,     -999.0
33KI20100405,       PRS2,       2,          2,          9,       8009,2,20100406,       1315,  22.740000,-157.9991667,       4720,    77.3,  23.0045,  35.3341,2,-999.0000,5,    216.8,1,  -999.0,9, -999.00,9, -999.00,9,  -999.0,      77,    22.9887, -999.00,9,     -999.0
33KI20100405,       PRS2,       2,          2,          8,       8008,2,20100406,       1315,  22.740000,-157.9991667,       4720,    99.1,  22.9144,  35.3390,2,  35.3386,2,    215.1,1,  -999.0,9, -999.00,9, -999.00,9,  -999.0,      99,    22.8942, -999.00,9,     -999.0
33KI20100405,       PRS2,       2,          2,          7,       8026,2,20100406,       1315,  22.740000,-157.9991667,       4720,    98.5,  22.9167,  35.3388,2,  35.3382,2,    214.9,1,  -999.0,9, -999.00,9, -999.00,9,  -999.0,      98,    22.8966, -999.00,9,     -999.0
33KI20100405,       PRS2,       2,          2,          6,       8006,2,20100406,       1315,  22.740000,-157.9991667,       4720,    98.4,  22.9161,  35.3388,2,-999.0000,5,    214.8,1,  -999.0,9, -999.00,9, -999.00,9,  -999.0,      99,    22.8961, -999.00,9,     -999.0
33KI20100405,       PRS2,       2,          2,          5,       8005,2,20100406,       1315,  22.740000,-157.9991667,       4720,   122.8,  22.1306,  35.3126,2,  35.3122,2,    206.7,1,  -999.0,9, -999.00,9, -999.00,9,  -999.0,     123,    22.1062, -999.00,9,     -999.0
33KI20100405,       PRS2,       2,          2,          4,       8004,2,20100406,       1315,  22.740000,-157.9991667,       4720,   123.3,  22.1173,  35.3127,2,  35.3118,2,    206.7,1,  -999.0,9, -999.00,9, -999.00,9,  -999.0,     123,    22.0928, -999.00,9,     -999.0
33KI20100405,       PRS2,       2,          2,          3,       8003,2,20100406,       1315,  22.740000,-157.9991667,       4720,   123.6,  22.1099,  35.3134,2,-999.0000,5,    206.8,1,  -999.0,9, -999.00,9, -999.00,9,  -999.0,     123,    22.0854, -999.00,9,     -999.0
33KI20100405,       PRS2,       2,          2,          2,       8002,2,20100406,       1315,  22.740000,-157.9991667,       4720,   150.0,  20.6950,  35.2472,2,  35.2442,2,    204.6,1,  -999.0,9, -999.00,9, -999.00,9,  -999.0,     150,    20.6666, -999.00,9,     -999.0
33KI20100405,       PRS2,       2,          2,          1,       8001,2,20100406,       1315,  22.740000,-157.9991667,       4720,   174.2,  20.1643,  35.2281,2,  35.2249,2,    202.7,1,  -999.0,9, -999.00,9, -999.00,9,  -999.0,     174,    20.1318, -999.00,9,     -999.0