BOTTLE,20141031SIOCCHAMB
EXPOCODE,SECT_ID,STNNBR,CASTNO,SAMPNO,BTLNBR,BTLNBR_FLAG_W,DATE,TIME,LATITUDE,LONGITUDE,DEPTH,CTDPRS,CTDTMP,CTDSAL,CTDSAL_FLAG_W,SALNTY,SALNTY_FLAG_W,CTDOXY,CTDOXY_FLAG_W,OXYGEN,OXYGEN_FLAG_W,SILCAT,SILCAT_FLAG_W,PHSPHT,PHSPHT_FLAG_W,REVPRS,CTDRAW,THETA,NO2+NO3,NO2+NO3_FLAG_W,REVTMP
,,,,,,,,,,,METERS,DBAR,ITS-90,PSS-78,,PSS-78,,UMOL/KG,,UMOL/KG,,UMOL/KG,,UMOL/KG,,DBAR,DBAR,ITS-90,UMOL/KG,,DEG C
33KI20100405,       PRS2,       2,          6,         14,       8014,2,20100407,       0258,  22.788500,-158.0666667,       4737,     5.6,  23.3558,  35.2542,2,-999.0000,5,    215.9,1,  -999.0,9, -999.00,9, -999.00,9,  -999.0,       6,    23.3546, -999.00,9,     -999.0
33KI20100405,       PRS2,       2,          6,         13,       8025,2,20100407,       0258,  22.788500,-158.0666667,       4737,    23.8,  23.2598,  35.2691,2,-999.0000,5,    215.8,1,  -999.0,9, -999.00,9, -999.00,9,  -999.0,      24,    23.2549, -999.00,9,     -999.0
33KI20100405,       PRS2,       2,          6,         12,       8012,2,20100407,       0258,  22.788500,-158.0666667,       4737,    44.3,  23.2148,  35.2721,2,-999.0000,5,    216.2,1,  -999.0,9, -999.00,9, -999.00,9,  -999.0,      44,    23.2057, -999.00,9,     -999.0
33KI20100405,       PRS2,       2,          6,         11,       8011,2,20100407,       0258,  22.788500,-158.0666667,       4737,    75.6,  22.9726,  35.3352,2,  35.3358,2,    216.7,1,  -999.0,9, -999.00,9, -999.00,9,  -999.0,      76,    22.9572, -999.00,9,     -999.0
33KI20100405,       PRS2,       2,          6,         10,       8010,2,20100407,       0258,  22.788500,-158.0666667,       4737,   101.6,  22.1095,  35.3209,2,  35.3214,2,    208.0,1,  -999.0,9, -999.00,9, -999.00,9,  -999.0,     102,    22.0894, -999.00,9,     -999.0
33KI20100405,       PRS2,       2,          6,          9,       8009,2,20100407,       0258,  22.788500,-158.0666667,       4737,   124.8,  21.1345,  35.2737,2,  35.2729,2,    205.2,1,  -999.0,9, -999.00,9, -999.00,9,  -999.0,     125,    21.1105, -999.00,9,     -999.0
33KI20100405,       PRS2,       2,          6,          8,       8008,2,20100407,       0258,  22.788500,-158.0666667,       4737,   149.4,  20.4925,  35.2591,2,  35.2591,2,    203.5,1,  -999.0,9, -999.00,9, -999.00,9,  -999.0,     149,    20.4644, -999.00,9,     -999.0
33KI20100405,       PRS2,       2,          6,          7,       8026,2,20100407,       0258,  22.788500,-158.0666667,       4737,   174.3,  20.0681,  35.2645,2,  35.2645,2,    209.0,1,  -999.0,9, -999.00,9, -999.00,9,  -999.0,     175,    20.0357, -999.00,9,     -999.0
33KI20100405,       PRS2,       2,          6,          6,       8006,2,20100407,       0258,  22.788500,-158.0666667,       4737,   198.9,  19.2939,  35.1270,2,  35.1287,2,    203.2,1,  -999.0,9, -999.00,9, -999.00,9,  -999.0,     198,    19.2580, -999.00,9,     -999.0
33KI20100405,       PRS2,       2,          6,          5,       8005,2,20100407,       0258,  22.788500,-158.0666667,       4737,   251.4,  16.2908,  34.6305,2,  34.6370,2,    190.5,1,  -999.0,9, -999.00,9, -999.00,9,  -999.0,     251,    16.2506, -999.00,9,     -999.0
33KI20100405,       PRS2,       2,          6,          4,       8004,2,20100407,       0258,  22.788500,-158.0666667,       4737,   351.5,  11.5965,  34.1657,2,  34.1724,2,    203.1,1,  -999.0,9, -999.00,9, -999.00,9,  -999.0,     351,    11.5518, -999.00,9,     -999.0
33KI20100405,       PRS2,       2,          6,          3,       8003,2,20100407,       0258,  22.788500,-158.0666667,       4737,   351.6,  11.5838,  34.1650,2,  34.1699,2,    202.9,1,  -999.0,9, -999.00,9, -999.00,9,  -999.0,     352,    11.5391, -999.00,9,     -999.0
33KI20100405,       PRS2,       2,          6,          2,       8002,2,20100407,       0258,  22.788500,-158.0666667,       4737,   500.9,   6.9711,  34.0464,2,  34.0456,2,    106.2,1,  -999.0,9, -999.00,9, -999.00,9,  -999.0,     501,     6.9240, -999.00,9,     -999.0
33KI20100405,       PRS2,       2,          6,          1,       8001,2,20100407,       0258,  22.788500,-158.0666667,       4737,  1019.0,   4.0703,  34.4690,2,  34.4695,2,     46.0,1,  -999.0,9, -999.00,9, -999.00,9,  -999.0,    1019,     3.9926, -999.00,9,     -999.0
33KI20100405,       PRS2,       2,          7,         23,       8023,2,20100407,       0602,  22.750667,-157.9990000,       4722,     4.9,  23.3639,  35.2707,2,  35.2692,2,    216.2,2,  -999.0,5, -999.00,5, -999.00,5,  -999.0,       5,    23.3629, -999.00,5,     -999.0
33KI20100405,       PRS2,       2,          7,         22,       8022,2,20100407,       0602,  22.750667,-157.9990000,       4722,     4.8,  23.3643,  35.2707,2,  35.2692,2,    216.2,2,   215.8,2,    1.22,2,    0.09,2,  -999.0,       5,    23.3633,    0.03,2,     -999.0
33KI20100405,       PRS2,       2,          7,         21,       8021,2,20100407,       0602,  22.750667,-157.9990000,       4722,    15.2,  23.3616,  35.2706,2,  35.2684,2,    216.2,2,  -999.0,5,    1.98,3,    0.08,2,  -999.0,      15,    23.3585,    0.02,2,     -999.0
33KI20100405,       PRS2,       2,          7,         20,       8020,2,20100407,       0602,  22.750667,-157.9990000,       4722,    25.6,  23.2454,  35.2689,2,  35.2678,2,    216.5,2,  -999.0,5, -999.00,5, -999.00,5,  -999.0,      26,    23.2402, -999.00,5,     -999.0
33KI20100405,       PRS2,       2,          7,         19,       8019,2,20100407,       0602,  22.750667,-157.9990000,       4722,    25.6,  23.2454,  35.2688,2,  35.2674,2,    216.5,2,   215.8,2,    1.10,2,    0.09,2,  -999.0,      25,    23.2401,    0.00,2,     -999.0
33KI20100405,       PRS2,       2,          7,         18,       8018,2,20100407,       0602,  22.750667,-157.9990000,       4722,    35.3,  23.2405,  35.2690,2,  35.2676,2,    216.6,2,  -999.0,5,    1.18,2,    0.08,2,  -999.0,      36,    23.2333,    0.03,2,     -999.0
33KI20100405,       PRS2,       2,          7,         17,       8017,2,20100407,       0602,  22.750667,-157.9990000,       4722,    45.4,  23.2382,  35.2688,2,  35.2672,2,    216.2,2,   216.7,2,    1.24,2,    0.09,2,  -999.0,      45,    23.2289,    0.00,2,     -999.0
33KI20100405,       PRS2,       2,          7,         16,       8016,2,20100407,       0602,  22.750667,-157.9990000,       4722,    59.7,  23.2323,  35.2690,2,  35.2680,2,    216.3,2,  -999.0,5,    1.17,2,    0.09,2,  -999.0,      60,    23.2200,    0.01,2,     -999.0
33KI20100405,       PRS2,       2,          7,         15,       8015,2,20100407,       0602,  22.750667,-157.9990000,       4722,    76.6,  23.1844,  35.2838,2,  35.2834,2,    216.6,2,   216.0,2,    1.20,2,    0.08,2,  -999.0,      76,    23.1687,    0.01,2,     -999.0
33KI20100405,       PRS2,       2,          7,         14,       8014,2,20100407,       0602,  22.750667,-157.9990000,       4722,    85.0,  22.9847,  35.3285,2,  35.3267,2,    217.0,2,   217.2,2, -999.00,5, -999.00,5,  -999.0,      85,    22.9673, -999.00,5,     -999.0
33KI20100405,       PRS2,       2,          7,         13,       8025,2,20100407,       0602,  22.750667,-157.9990000,       4722,    90.3,  22.9022,  35.3185,2,  35.3212,2,    216.5,2,  -999.0,5, -999.00,5, -999.00,5,  -999.0,      90,    22.8838, -999.00,5,     -999.0
33KI20100405,       PRS2,       2,          7,         12,       8012,2,20100407,       0602,  22.750667,-157.9990000,       4722,    99.8,  22.7352,  35.3267,2,  35.3259,2,    211.6,2,   212.5,2,    1.29,2,    0.09,2,  -999.0,     100,    22.7149,    0.06,2,     -999.0
33KI20100405,       PRS2,       2,          7,         11,       8011,2,20100407,       0602,  22.750667,-157.9990000,       4722,   111.1,  22.3157,  35.3233,2,  35.3244,2,    209.6,2,  -999.0,5, -999.00,5, -999.00,5,  -999.0,     111,    22.2935, -999.00,5,     -999.0
33KI20100405,       PRS2,       2,          7,         10,       8010,2,20100407,       0602,  22.750667,-157.9990000,       4722,   115.8,  22.0006,  35.3123,2,  35.3141,2,    206.8,2,   208.7,2, -999.00,5, -999.00,5,  -999.0,     116,    21.9776, -999.00,5,     -999.0
33KI20100405,       PRS2,       2,          7,          9,       8009,2,20100407,       0602,  22.750667,-157.9990000,       4722,   124.6,  21.8103,  35.3038,2,  35.3053,2,    206.8,2,   207.0,2,    1.45,2,    0.10,2,  -999.0,     124,    21.7857,    0.42,2,     -999.0
33KI20100405,       PRS2,       2,          7,          8,       8008,2,20100407,       0602,  22.750667,-157.9990000,       4722,   130.2,  21.5186,  35.2940,2,  35.2936,2,    206.7,2,  -999.0,5, -999.00,5, -999.00,5,  -999.0,     130,    21.4932, -999.00,5,     -999.0
33KI20100405,       PRS2,       2,          7,          7,       8026,2,20100407,       0602,  22.750667,-157.9990000,       4722,   151.1,  20.6868,  35.2638,2,  35.2637,2,    204.0,2,   204.5,2,    1.72,2,    0.14,2,  -999.0,     150,    20.6581,    0.96,2,     -999.0
33KI20100405,       PRS2,       2,          7,          6,       8006,2,20100407,       0602,  22.750667,-157.9990000,       4722,   164.9,  20.1996,  35.2197,2,  35.2203,2,    202.8,2,   202.8,2, -999.00,5, -999.00,5,  -999.0,     165,    20.1689, -999.00,5,     -999.0
33KI20100405,       PRS2,       2,          7,          5,       8005,2,20100407,       0602,  22.750667,-157.9990000,       4722,   175.6,  19.9367,  35.2064,2,  35.2115,2,    202.5,2,   202.0,2,    2.07,2,    0.15,2,  -999.0,     175,    19.9043,    1.43,2,     -999.0
33KI20100405,       PRS2,       2,          7,          4,       8004,2,20100407,       0602,  22.750667,-157.9990000,       4722,   200.1,  19.2702,  35.1171,2,  35.1187,2,    201.5,2,   200.7,2,    2.26,2,    0.18,2,  -999.0,     200,    19.2341,    1.95,2,     -999.0
33KI20100405,       PRS2,       2,          7,          3,       8003,2,20100407,       0602,  22.750667,-157.9990000,       4722,   474.3,   8.0185,  34.0503,2,  34.0519,2,    136.7,2,   137.0,2, -999.00,5, -999.00,5,  -999.0,     474,     7.9703, -999.00,5,     -999.0
33KI20100405,       PRS2,       2,          7,          2,       8002,2,20100407,       0602,  22.750667,-157.9990000,       4722,   749.0,   5.0281,  34.3618,2,  34.3623,2,     31.8,2,    31.5,2, -999.00,5, -999.00,5,  -999.0,     749,     4.9671, -999.00,5,     -999.0
33KI20100405,       PRS2,       2,          7,          1,       8001,2,20100407,       0602,  22.750667,-157.9990000,       4722,  1020.8,   4.0539,  34.4733,2,  34.4726,2,     46.8,2,    46.6,2, -999.00,5, -999.00,5,  -999.0,    1021,     3.9762, -999.00,5,     -999.0
33KI20100405,       PRS2,       2,          8,         24,       8024,2,20100407,       0900,  22.749667,-158.0013333,       4730,     5.7,  23.3367,  35.2671,2,  35.2672,2,    215.9,1,  -999.0,9, -999.00,9, -999.00,9,  -999.0,       6,    23.3355, -999.00,9,     -999.0
33KI20100405,       PRS2,       2,          8,         23,       8023,2,20100407,       0900,  22.749667,-158.0013333,       4730,    24.8,  23.3067,  35.2697,2,  35.2674,2,    215.9,1,  -999.0,9, -999.00,9, -999.00,9,  -999.0,      25,    23.3016, -999.00,9,     -999.0
33KI20100405,       PRS2,       2,          8,         22,       8022,2,20100407,       0900,  22.749667,-158.0013333,       4730,    44.9,  23.2338,  35.2692,2,  35.2690,2,    216.3,1,  -999.0,9, -999.00,9, -999.00,9,  -999.0,      45,    23.2245, -999.00,9,     -999.0
33KI20100405,       PRS2,       2,          8,         21,       8021,2,20100407,       0900,  22.749667,-158.0013333,       4730,    74.4,  23.2256,  35.2694,2,  35.2702,2,    216.0,1,  -999.0,9, -999.00,9, -999.00,9,  -999.0,      75,    23.2103, -999.00,9,     -999.0
33KI20100405,       PRS2,       2,          8,         20,       8020,2,20100407,       0900,  22.749667,-158.0013333,       4730,   100.2,  22.8135,  35.3293,2,  35.3293,2,    212.2,1,  -999.0,9, -999.00,9, -999.00,9,  -999.0,     101,    22.7932, -999.00,9,     -999.0
33KI20100405,       PRS2,       2,          8,         19,       8019,2,20100407,       0900,  22.749667,-158.0013333,       4730,   126.2,  22.1371,  35.3124,2,  35.3151,2,    208.1,1,  -999.0,9, -999.00,9, -999.00,9,  -999.0,     126,    22.1120, -999.00,9,     -999.0
33KI20100405,       PRS2,       2,          8,         18,       8018,2,20100407,       0900,  22.749667,-158.0013333,       4730,   148.1,  21.2182,  35.2672,2,  35.2684,2,    204.1,1,  -999.0,9, -999.00,9, -999.00,9,  -999.0,     147,    21.1896, -999.00,9,     -999.0
33KI20100405,       PRS2,       2,          8,         17,       8017,2,20100407,       0900,  22.749667,-158.0013333,       4730,   174.9,  20.5705,  35.2591,2,  35.2603,2,    203.5,1,  -999.0,9, -999.00,9, -999.00,9,  -999.0,     175,    20.5375, -999.00,9,     -999.0
33KI20100405,       PRS2,       2,          8,         16,       8016,2,20100407,       0900,  22.749667,-158.0013333,       4730,   498.6,   7.0972,  34.0454,2,-999.0000,5,    107.2,1,  -999.0,9, -999.00,9, -999.00,9,  -999.0,     499,     7.0498, -999.00,9,     -999.0
33KI20100405,       PRS2,       2,          8,         15,       8015,2,20100407,       0900,  22.749667,-158.0013333,       4730,   499.1,   7.0908,  34.0449,2,-999.0000,5,    107.1,1,  -999.0,9, -999.00,9, -999.00,9,  -999.0,     498,     7.0435, -999.00,9,     -999.0
33KI20100405,       PRS2,       2,          8,         14,       8014,2,20100407,       0900,  22.749667,-158.0013333,       4730,   499.5,   7.0844,  34.0447,2,-999.0000,5,    106.9,1,  -999.0,9, -999.00,9, -999.00,9,  -999.0,     500,     7.0371, -999.00,9,     -999.0
33KI20100405,       PRS2,       2,          8,         13,       8025,2,20100407,       0900,  22.749667,-158.0013333,       4730,   499.9,   7.0755,  34.0445,2,-999.0000,5,    106.8,1,  -999.0,9, -999.00,9, -999.00,9,  -999.0,     499,     7.0281, -999.00,9,     -999.0
33KI20100405,       PRS2,       2,          8,         12,       8012,2,20100407,       0900,  22.749667,-158.0013333,       4730,   500.4,   7.0721,  34.0446,2,-999.0000,5,    106.7,1,  -999.0,9, -999.00,9, -999.00,9,  -999.0,     500,     7.0246, -999.00,9,     -999.0
33KI20100405,       PRS2,       2,          8,         11,       8011,2,20100407,       0900,  22.749667,-158.0013333,       4730,   500.7,   7.0658,  34.0444,2,  34.0468,2,    106.6,1,  -999.0,9, -999.00,9, -999.00,9,  -999.0,     501,     7.0184, -999.00,9,     -999.0
33KI20100405,       PRS2,       2,          8,         10,       8010,2,20100407,       0900,  22.749667,-158.0013333,       4730,   771.2,   4.9169,  34.3680,2,-999.0000,5,     31.4,1,  -999.0,9, -999.00,9, -999.00,9,  -999.0,     772,     4.8546, -999.00,9,     -999.0
33KI20100405,       PRS2,       2,          8,          9,       8009,2,20100407,       0900,  22.749667,-158.0013333,       4730,   771.0,   4.9164,  34.3681,2,-999.0000,5,     31.3,1,  -999.0,9, -999.00,9, -999.00,9,  -999.0,     771,     4.8541, -999.00,9,     -999.0
33KI20100405,       PRS2,       2,          8,          8,       8008,2,20100407,       0900,  22.749667,-158.0013333,       4730,   771.1,   4.9158,  34.3683,2,-999.0000,5,     31.3,1,  -999.0,9, -999.00,9, -999.00,9,  -999.0,     771,     4.8535, -999.00,9,     -999.0
33KI20100405,       PRS2,       2,          8,          7,       8026,2,20100407,       0900,  22.749667,-158.0013333,       4730,   771.1,   4.9156,  34.3683,2,-999.0000,5,     31.3,1,  -999.0,9, -999.00,9, -999.00,9,  -999.0,     771,     4.8533, -999.00,9,     -999.0
33KI20100405,       PRS2,       2,          8,          6,       8006,2,20100407,       0900,  22.749667,-158.0013333,       4730,   771.0,   4.9155,  34.3683,2,-999.0000,5,     31.3,1,  -999.0,9, -999.00,9, -999.00,9,  -999.0,     771,     4.8533, -999.00,9,     -999.0
33KI20100405,       PRS2,       2,          8,          5,       8005,2,20100407,       0900,  22.749667,-158.0013333,       4730,  1022.2,   4.0558,  34.4764,2,-999.0000,5,     46.6,1,  -999.0,9, -999.00,9, -999.00,9,  -999.0,    1022,     3.9779, -999.00,9,     -999.0
33KI20100405,       PRS2,       2,          8,          4,       8004,2,20100407,       0900,  22.749667,-158.0013333,       4730,  1022.0,   4.0557,  34.4761,2,-999.0000,5,     46.6,1,  -999.0,9, -999.00,9, -999.00,9,  -999.0,    1021,     3.9778, -999.00,9,     -999.0
33KI20100405,       PRS2,       2,          8,          3,       8003,2,20100407,       0900,  22.749667,-158.0013333,       4730,  1021.6,   4.0559,  34.4759,2,-999.0000,5,     46.6,1,  -999.0,9, -999.00,9, -999.00,9,  -999.0,    1022,     3.9780, -999.00,9,     -999.0
33KI20100405,       PRS2,       2,          8,          2,       8002,2,20100407,       0900,  22.749667,-158.0013333,       4730,  1021.4,   4.0558,  34.4757,2,-999.0000,5,     46.6,1,  -999.0,9, -999.00,9, -999.00,9,  -999.0,    1022,     3.9780, -999.00,9,     -999.0
33KI20100405,       PRS2,       2,          8,          1,       8001,2,20100407,       0900,  22.749667,-158.0013333,       4730,  1021.0,   4.0557,  34.4756,2,  34.4736,2,     46.6,1,  -999.0,9, -999.00,9, -999.00,9,  -999.0,    1022,     3.9779, -999.00,9,     -999.0