BOTTLE,20141031SIOCCHAMB
EXPOCODE,SECT_ID,STNNBR,CASTNO,SAMPNO,BTLNBR,BTLNBR_FLAG_W,DATE,TIME,LATITUDE,LONGITUDE,DEPTH,CTDPRS,CTDTMP,CTDSAL,CTDSAL_FLAG_W,SALNTY,SALNTY_FLAG_W,CTDOXY,CTDOXY_FLAG_W,OXYGEN,OXYGEN_FLAG_W,SILCAT,SILCAT_FLAG_W,PHSPHT,PHSPHT_FLAG_W,REVPRS,CTDRAW,THETA,NO2+NO3,NO2+NO3_FLAG_W,REVTMP
,,,,,,,,,,,METERS,DBAR,ITS-90,PSS-78,,PSS-78,,UMOL/KG,,UMOL/KG,,UMOL/KG,,UMOL/KG,,DBAR,DBAR,ITS-90,UMOL/KG,,DEG C
33KI20100405,       PRS2,       6,          1,         13,       8025,2,20100409,       0720,  21.851667,-158.3750000,       2510,     4.4,  24.1699,  35.1509,2,  35.1504,2,    212.5,1,  -999.0,9, -999.00,9, -999.00,9,  -999.0,       4,    24.1690, -999.00,9,     -999.0
33KI20100405,       PRS2,       6,          1,         12,       8012,2,20100409,       0720,  21.851667,-158.3750000,       2510,    25.4,  24.1819,  35.1511,2,  35.1508,2,    212.6,1,  -999.0,9, -999.00,9, -999.00,9,  -999.0,      25,    24.1765, -999.00,9,     -999.0
33KI20100405,       PRS2,       6,          1,         11,       8011,2,20100409,       0720,  21.851667,-158.3750000,       2510,    45.5,  24.0038,  35.1886,2,  35.1920,2,    212.9,1,  -999.0,9, -999.00,9, -999.00,9,  -999.0,      45,    23.9942, -999.00,9,     -999.0
33KI20100405,       PRS2,       6,          1,         10,       8010,2,20100409,       0720,  21.851667,-158.3750000,       2510,    77.5,  23.1457,  35.4016,2,  35.3857,3,    214.4,1,  -999.0,9, -999.00,9, -999.00,9,  -999.0,      78,    23.1298, -999.00,9,     -999.0
33KI20100405,       PRS2,       6,          1,          9,       8009,2,20100409,       0720,  21.851667,-158.3750000,       2510,   102.5,  22.5402,  35.4132,2,  35.4174,2,    216.0,1,  -999.0,9, -999.00,9, -999.00,9,  -999.0,     102,    22.5196, -999.00,9,     -999.0
33KI20100405,       PRS2,       6,          1,          8,       8008,2,20100409,       0720,  21.851667,-158.3750000,       2510,   123.5,  21.5425,  35.3619,2,  35.3628,2,    206.0,1,  -999.0,9, -999.00,9, -999.00,9,  -999.0,     124,    21.5184, -999.00,9,     -999.0
33KI20100405,       PRS2,       6,          1,          7,       8026,2,20100409,       0720,  21.851667,-158.3750000,       2510,   150.3,  20.1923,  35.2007,2,  35.2184,2,    200.0,1,  -999.0,9, -999.00,9, -999.00,9,  -999.0,     150,    20.1643, -999.00,9,     -999.0
33KI20100405,       PRS2,       6,          1,          6,       8006,2,20100409,       0720,  21.851667,-158.3750000,       2510,   175.7,  19.0239,  35.0418,2,  35.0447,2,    194.8,1,  -999.0,9, -999.00,9, -999.00,9,  -999.0,     176,    18.9926, -999.00,9,     -999.0
33KI20100405,       PRS2,       6,          1,          5,       8005,2,20100409,       0720,  21.851667,-158.3750000,       2510,   499.9,   6.9265,  34.1305,2,  34.1305,2,     88.8,1,  -999.0,9, -999.00,9, -999.00,9,  -999.0,     500,     6.8796, -999.00,9,     -999.0
33KI20100405,       PRS2,       6,          1,          4,       8004,2,20100409,       0720,  21.851667,-158.3750000,       2510,  1001.1,   3.8352,  34.4890,2,  34.4875,2,     48.1,1,  -999.0,9, -999.00,9, -999.00,9,  -999.0,    1001,     3.7608, -999.00,9,     -999.0
33KI20100405,       PRS2,       6,          1,          3,       8003,2,20100409,       0720,  21.851667,-158.3750000,       2510,  1500.2,   2.7917,  34.5715,2,  34.5714,2,     70.2,1,  -999.0,9, -999.00,9, -999.00,9,  -999.0,    1500,     2.6863, -999.00,9,     -999.0
33KI20100405,       PRS2,       6,          1,          2,       8002,2,20100409,       0720,  21.851667,-158.3750000,       2510,  2000.6,   2.0315,  34.6253,2,  34.6246,2,     95.3,1,  -999.0,9, -999.00,9, -999.00,9,  -999.0,    2002,     1.8945, -999.00,9,     -999.0
33KI20100405,       PRS2,       6,          1,          1,       8001,2,20100409,       0720,  21.851667,-158.3750000,       2510,  2480.2,   1.7214,  34.6509,2,  34.6502,2,    112.6,1,  -999.0,9, -999.00,9, -999.00,9,  -999.0,    2481,     1.5481, -999.00,9,     -999.0