BOTTLE,20141031SIOCCHAMB
EXPOCODE,SECT_ID,STNNBR,CASTNO,SAMPNO,BTLNBR,BTLNBR_FLAG_W,DATE,TIME,LATITUDE,LONGITUDE,DEPTH,CTDPRS,CTDTMP,CTDSAL,CTDSAL_FLAG_W,SALNTY,SALNTY_FLAG_W,CTDOXY,CTDOXY_FLAG_W,OXYGEN,OXYGEN_FLAG_W,SILCAT,SILCAT_FLAG_W,PHSPHT,PHSPHT_FLAG_W,REVPRS,CTDRAW,THETA,NO2+NO3,NO2+NO3_FLAG_W,REVTMP
,,,,,,,,,,,METERS,DBAR,ITS-90,PSS-78,,PSS-78,,UMOL/KG,,UMOL/KG,,UMOL/KG,,UMOL/KG,,DBAR,DBAR,ITS-90,UMOL/KG,,DEG C
33KI20100405,       PRS2,       2,          9,         14,       8014,2,20100407,       1200,  22.750500,-158.0005000,       4722,     4.5,  23.3116,  35.2671,2,  35.2664,2,    215.5,1,  -999.0,9, -999.00,9, -999.00,9,  -999.0,       5,    23.3107, -999.00,9,     -999.0
33KI20100405,       PRS2,       2,          9,         13,       8025,2,20100407,       1200,  22.750500,-158.0005000,       4722,     4.5,  23.3117,  35.2670,2,  35.2662,2,    215.4,1,  -999.0,9, -999.00,9, -999.00,9,  -999.0,       4,    23.3107, -999.00,9,     -999.0
33KI20100405,       PRS2,       2,          9,         12,       8012,2,20100407,       1200,  22.750500,-158.0005000,       4722,    24.3,  23.2850,  35.2699,2,  35.2700,2,    215.5,1,  -999.0,9, -999.00,9, -999.00,9,  -999.0,      24,    23.2799, -999.00,9,     -999.0
33KI20100405,       PRS2,       2,          9,         11,       8011,2,20100407,       1200,  22.750500,-158.0005000,       4722,    24.4,  23.2876,  35.2696,2,  35.2698,2,    215.5,1,  -999.0,9, -999.00,9, -999.00,9,  -999.0,      24,    23.2826, -999.00,9,     -999.0
33KI20100405,       PRS2,       2,          9,         10,       8010,2,20100407,       1200,  22.750500,-158.0005000,       4722,    45.4,  23.2373,  35.2716,2,  35.2720,2,    215.7,1,  -999.0,9, -999.00,9, -999.00,9,  -999.0,      46,    23.2279, -999.00,9,     -999.0
33KI20100405,       PRS2,       2,          9,          9,       8009,2,20100407,       1200,  22.750500,-158.0005000,       4722,    45.6,  23.2373,  35.2716,2,  35.2718,2,    215.7,1,  -999.0,9, -999.00,9, -999.00,9,  -999.0,      45,    23.2279, -999.00,9,     -999.0
33KI20100405,       PRS2,       2,          9,          8,       8008,2,20100407,       1200,  22.750500,-158.0005000,       4722,    77.6,  23.2315,  35.2713,2,  35.2727,2,    216.0,1,  -999.0,9, -999.00,9, -999.00,9,  -999.0,      77,    23.2156, -999.00,9,     -999.0
33KI20100405,       PRS2,       2,          9,          7,       8026,2,20100407,       1200,  22.750500,-158.0005000,       4722,    77.2,  23.2315,  35.2712,2,  35.2725,2,    216.0,1,  -999.0,9, -999.00,9, -999.00,9,  -999.0,      77,    23.2156, -999.00,9,     -999.0
33KI20100405,       PRS2,       2,          9,          6,       8006,2,20100407,       1200,  22.750500,-158.0005000,       4722,    99.0,  23.0139,  35.3112,2,  35.3133,2,    215.4,1,  -999.0,9, -999.00,9, -999.00,9,  -999.0,      99,    22.9936, -999.00,9,     -999.0
33KI20100405,       PRS2,       2,          9,          5,       8005,2,20100407,       1200,  22.750500,-158.0005000,       4722,    99.2,  23.0133,  35.3110,2,  35.3131,2,    215.4,1,  -999.0,9, -999.00,9, -999.00,9,  -999.0,      99,    22.9930, -999.00,9,     -999.0
33KI20100405,       PRS2,       2,          9,          4,       8004,2,20100407,       1200,  22.750500,-158.0005000,       4722,   127.9,  22.5705,  35.3315,2,  35.3354,2,    212.7,1,  -999.0,9, -999.00,9, -999.00,9,  -999.0,     127,    22.5447, -999.00,9,     -999.0
33KI20100405,       PRS2,       2,          9,          3,       8003,2,20100407,       1200,  22.750500,-158.0005000,       4722,   127.3,  22.5971,  35.3347,2,  35.3327,2,    212.7,1,  -999.0,9, -999.00,9, -999.00,9,  -999.0,     127,    22.5714, -999.00,9,     -999.0
33KI20100405,       PRS2,       2,          9,          2,       8002,2,20100407,       1200,  22.750500,-158.0005000,       4722,   502.0,   7.0990,  34.0454,2,  34.0450,2,    108.1,1,  -999.0,9, -999.00,9, -999.00,9,  -999.0,     502,     7.0513, -999.00,9,     -999.0
33KI20100405,       PRS2,       2,          9,          1,       8001,2,20100407,       1200,  22.750500,-158.0005000,       4722,  1021.9,   4.0104,  34.4789,2,  34.4773,2,     47.1,1,  -999.0,9, -999.00,9, -999.00,9,  -999.0,    1022,     3.9329, -999.00,9,     -999.0
33KI20100405,       PRS2,       2,         10,         18,       8018,2,20100407,       1458,  22.749833,-158.0005000,       4722,   123.5,  22.3445,  35.3765,2,-999.0000,5,    215.3,1,  -999.0,9, -999.00,9, -999.00,9,  -999.0,     123,    22.3197, -999.00,9,     -999.0
33KI20100405,       PRS2,       2,         10,         17,       8017,2,20100407,       1458,  22.749833,-158.0005000,       4722,   123.6,  22.2859,  35.3694,2,-999.0000,5,    215.6,1,  -999.0,9, -999.00,9, -999.00,9,  -999.0,     123,    22.2612, -999.00,9,     -999.0
33KI20100405,       PRS2,       2,         10,         16,       8016,2,20100407,       1458,  22.749833,-158.0005000,       4722,   123.7,  22.2311,  35.3629,2,-999.0000,5,    214.8,1,  -999.0,9, -999.00,9, -999.00,9,  -999.0,     123,    22.2064, -999.00,9,     -999.0
33KI20100405,       PRS2,       2,         10,         15,       8015,2,20100407,       1458,  22.749833,-158.0005000,       4722,   123.8,  22.2238,  35.3612,2,-999.0000,5,    214.3,1,  -999.0,9, -999.00,9, -999.00,9,  -999.0,     124,    22.1991, -999.00,9,     -999.0
33KI20100405,       PRS2,       2,         10,         14,       8014,2,20100407,       1458,  22.749833,-158.0005000,       4722,   123.8,  22.2296,  35.3637,2,-999.0000,5,    213.7,1,  -999.0,9, -999.00,9, -999.00,9,  -999.0,     124,    22.2049, -999.00,9,     -999.0
33KI20100405,       PRS2,       2,         10,         13,       8025,2,20100407,       1458,  22.749833,-158.0005000,       4722,   200.9,  19.2976,  35.1296,2,-999.0000,5,    204.0,1,  -999.0,9, -999.00,9, -999.00,9,  -999.0,     201,    19.2614, -999.00,9,     -999.0
33KI20100405,       PRS2,       2,         10,         12,       8012,2,20100407,       1458,  22.749833,-158.0005000,       4722,   200.9,  19.3067,  35.1308,2,-999.0000,5,    203.9,1,  -999.0,9, -999.00,9, -999.00,9,  -999.0,     201,    19.2704, -999.00,9,     -999.0
33KI20100405,       PRS2,       2,         10,         11,       8011,2,20100407,       1458,  22.749833,-158.0005000,       4722,   200.9,  19.3169,  35.1334,2,-999.0000,5,    203.7,1,  -999.0,9, -999.00,9, -999.00,9,  -999.0,     201,    19.2806, -999.00,9,     -999.0
33KI20100405,       PRS2,       2,         10,         10,       8010,2,20100407,       1458,  22.749833,-158.0005000,       4722,   200.7,  19.3212,  35.1333,2,-999.0000,5,    203.4,1,  -999.0,9, -999.00,9, -999.00,9,  -999.0,     201,    19.2850, -999.00,9,     -999.0
33KI20100405,       PRS2,       2,         10,          9,       8009,2,20100407,       1458,  22.749833,-158.0005000,       4722,   200.4,  19.3300,  35.1341,2,-999.0000,5,    203.2,1,  -999.0,9, -999.00,9, -999.00,9,  -999.0,     201,    19.2938, -999.00,9,     -999.0
33KI20100405,       PRS2,       2,         10,          8,       8008,2,20100407,       1458,  22.749833,-158.0005000,       4722,   500.4,   7.2892,  34.0458,2,  34.0462,2,    114.0,1,  -999.0,9, -999.00,9, -999.00,9,  -999.0,     501,     7.2409, -999.00,9,     -999.0
33KI20100405,       PRS2,       2,         10,          7,       8026,2,20100407,       1458,  22.749833,-158.0005000,       4722,  1021.9,   4.0034,  34.4780,2,  34.4779,2,     47.2,1,  -999.0,9, -999.00,9, -999.00,9,  -999.0,    1022,     3.9259, -999.00,9,     -999.0
33KI20100405,       PRS2,       2,         10,          6,       8006,2,20100407,       1458,  22.749833,-158.0005000,       4722,  1022.0,   4.0035,  34.4780,2,-999.0000,5,     47.2,1,  -999.0,9, -999.00,9, -999.00,9,  -999.0,    1022,     3.9260, -999.00,9,     -999.0
33KI20100405,       PRS2,       2,         10,          5,       8005,2,20100407,       1458,  22.749833,-158.0005000,       4722,  1021.9,   4.0036,  34.4780,2,-999.0000,5,     47.2,1,  -999.0,9, -999.00,9, -999.00,9,  -999.0,    1022,     3.9261, -999.00,9,     -999.0
33KI20100405,       PRS2,       2,         10,          4,       8004,2,20100407,       1458,  22.749833,-158.0005000,       4722,  1021.7,   4.0038,  34.4781,2,-999.0000,5,     47.2,1,  -999.0,9, -999.00,9, -999.00,9,  -999.0,    1022,     3.9263, -999.00,9,     -999.0
33KI20100405,       PRS2,       2,         10,          3,       8003,2,20100407,       1458,  22.749833,-158.0005000,       4722,  1021.5,   4.0045,  34.4782,2,-999.0000,5,     47.2,1,  -999.0,9, -999.00,9, -999.00,9,  -999.0,    1022,     3.9270, -999.00,9,     -999.0
33KI20100405,       PRS2,       2,         10,          2,       8002,2,20100407,       1458,  22.749833,-158.0005000,       4722,  1021.6,   4.0038,  34.4782,2,-999.0000,5,     47.2,1,  -999.0,9, -999.00,9, -999.00,9,  -999.0,    1021,     3.9264, -999.00,9,     -999.0
33KI20100405,       PRS2,       2,         10,          1,       8001,2,20100407,       1458,  22.749833,-158.0005000,       4722,  1021.4,   4.0037,  34.4781,2,-999.0000,5,     47.2,1,  -999.0,9, -999.00,9, -999.00,9,  -999.0,    1022,     3.9263, -999.00,9,     -999.0
33KI20100405,       PRS2,       2,         11,         18,       8018,2,20100407,       1758,  22.749833,-158.0006667,       4722,     4.1,  23.2986,  35.2654,2,-999.0000,5,    215.5,1,  -999.0,9, -999.00,9, -999.00,9,  -999.0,       5,    23.2978, -999.00,9,     -999.0
33KI20100405,       PRS2,       2,         11,         17,       8017,2,20100407,       1758,  22.749833,-158.0006667,       4722,     4.2,  23.2978,  35.2655,2,  35.2647,2,    215.5,1,  -999.0,9, -999.00,9, -999.00,9,  -999.0,       4,    23.2969, -999.00,9,     -999.0
33KI20100405,       PRS2,       2,         11,         16,       8016,2,20100407,       1758,  22.749833,-158.0006667,       4722,    26.3,  23.2784,  35.2675,2,-999.0000,5,    215.7,1,  -999.0,9, -999.00,9, -999.00,9,  -999.0,      26,    23.2730, -999.00,9,     -999.0
33KI20100405,       PRS2,       2,         11,         15,       8015,2,20100407,       1758,  22.749833,-158.0006667,       4722,    26.2,  23.2786,  35.2678,2,  35.2690,2,    215.6,1,  -999.0,9, -999.00,9, -999.00,9,  -999.0,      26,    23.2732, -999.00,9,     -999.0
33KI20100405,       PRS2,       2,         11,         14,       8014,2,20100407,       1758,  22.749833,-158.0006667,       4722,    44.3,  23.2288,  35.2721,2,-999.0000,5,    215.7,1,  -999.0,9, -999.00,9, -999.00,9,  -999.0,      44,    23.2197, -999.00,9,     -999.0
33KI20100405,       PRS2,       2,         11,         13,       8025,2,20100407,       1758,  22.749833,-158.0006667,       4722,    44.3,  23.2292,  35.2719,2,  35.2718,2,    215.7,1,  -999.0,9, -999.00,9, -999.00,9,  -999.0,      44,    23.2201, -999.00,9,     -999.0
33KI20100405,       PRS2,       2,         11,         12,       8012,2,20100407,       1758,  22.749833,-158.0006667,       4722,    75.3,  23.1795,  35.2854,2,-999.0000,5,    215.7,1,  -999.0,9, -999.00,9, -999.00,9,  -999.0,      75,    23.1640, -999.00,9,     -999.0
33KI20100405,       PRS2,       2,         11,         11,       8011,2,20100407,       1758,  22.749833,-158.0006667,       4722,    75.3,  23.1804,  35.2853,2,  35.2854,2,    215.7,1,  -999.0,9, -999.00,9, -999.00,9,  -999.0,      75,    23.1649, -999.00,9,     -999.0
33KI20100405,       PRS2,       2,         11,         10,       8010,2,20100407,       1758,  22.749833,-158.0006667,       4722,   100.7,  22.7049,  35.3571,2,-999.0000,5,    217.5,1,  -999.0,9, -999.00,9, -999.00,9,  -999.0,     101,    22.6845, -999.00,9,     -999.0
33KI20100405,       PRS2,       2,         11,          9,       8009,2,20100407,       1758,  22.749833,-158.0006667,       4722,   100.7,  22.7075,  35.3568,2,  35.3575,2,    217.5,1,  -999.0,9, -999.00,9, -999.00,9,  -999.0,     100,    22.6871, -999.00,9,     -999.0
33KI20100405,       PRS2,       2,         11,          8,       8008,2,20100407,       1758,  22.749833,-158.0006667,       4722,   126.6,  21.6097,  35.3048,2,-999.0000,5,    206.7,1,  -999.0,9, -999.00,9, -999.00,9,  -999.0,     126,    21.5850, -999.00,9,     -999.0
33KI20100405,       PRS2,       2,         11,          7,       8026,2,20100407,       1758,  22.749833,-158.0006667,       4722,   126.3,  21.6438,  35.3099,2,  35.3120,2,    206.6,1,  -999.0,9, -999.00,9, -999.00,9,  -999.0,     127,    21.6191, -999.00,9,     -999.0
33KI20100405,       PRS2,       2,         11,          6,       8006,2,20100407,       1758,  22.749833,-158.0006667,       4722,   151.9,  20.5785,  35.2560,2,-999.0000,5,    203.8,1,  -999.0,9, -999.00,9, -999.00,9,  -999.0,     152,    20.5498, -999.00,9,     -999.0
33KI20100405,       PRS2,       2,         11,          5,       8005,2,20100407,       1758,  22.749833,-158.0006667,       4722,   151.7,  20.5996,  35.2555,2,  35.2582,2,    203.9,1,  -999.0,9, -999.00,9, -999.00,9,  -999.0,     152,    20.5710, -999.00,9,     -999.0
33KI20100405,       PRS2,       2,         11,          4,       8004,2,20100407,       1758,  22.749833,-158.0006667,       4722,   174.2,  19.9604,  35.2434,2,-999.0000,5,    208.1,1,  -999.0,9, -999.00,9, -999.00,9,  -999.0,     174,    19.9282, -999.00,9,     -999.0
33KI20100405,       PRS2,       2,         11,          3,       8003,2,20100407,       1758,  22.749833,-158.0006667,       4722,   174.1,  19.9730,  35.2455,2,  35.2475,2,    208.1,1,  -999.0,9, -999.00,9, -999.00,9,  -999.0,     174,    19.9408, -999.00,9,     -999.0
33KI20100405,       PRS2,       2,         11,          2,       8002,2,20100407,       1758,  22.749833,-158.0006667,       4722,   510.5,   7.2091,  34.0474,2,  34.0484,2,    111.5,1,  -999.0,9, -999.00,9, -999.00,9,  -999.0,     510,     7.1602, -999.00,9,     -999.0
33KI20100405,       PRS2,       2,         11,          1,       8001,2,20100407,       1758,  22.749833,-158.0006667,       4722,  1020.9,   4.0437,  34.4794,2,  34.4813,2,     45.7,1,  -999.0,9, -999.00,9, -999.00,9,  -999.0,    1022,     3.9660, -999.00,9,     -999.0