BOTTLE,20141031SIOCCHAMB
EXPOCODE,SECT_ID,STNNBR,CASTNO,SAMPNO,BTLNBR,BTLNBR_FLAG_W,DATE,TIME,LATITUDE,LONGITUDE,DEPTH,CTDPRS,CTDTMP,CTDSAL,CTDSAL_FLAG_W,SALNTY,SALNTY_FLAG_W,CTDOXY,CTDOXY_FLAG_W,OXYGEN,OXYGEN_FLAG_W,SILCAT,SILCAT_FLAG_W,PHSPHT,PHSPHT_FLAG_W,REVPRS,CTDRAW,THETA,NO2+NO3,NO2+NO3_FLAG_W,REVTMP
,,,,,,,,,,,METERS,DBAR,ITS-90,PSS-78,,PSS-78,,UMOL/KG,,UMOL/KG,,UMOL/KG,,UMOL/KG,,DBAR,DBAR,ITS-90,UMOL/KG,,DEG C
33KI20100405,       PRS2,       2,         12,         24,       8024,2,20100407,       2101,  22.749333,-158.0006667,       4729,     4.6,  23.3663,  35.2576,2,  35.2566,2,    215.4,1,  -999.0,9, -999.00,9, -999.00,9,  -999.0,       5,    23.3654, -999.00,9,     -999.0
33KI20100405,       PRS2,       2,         12,         23,       8023,2,20100407,       2101,  22.749333,-158.0006667,       4729,    45.0,  23.2679,  35.2655,2,  35.2649,2,    216.2,1,  -999.0,9, -999.00,9, -999.00,9,  -999.0,      45,    23.2586, -999.00,9,     -999.0
33KI20100405,       PRS2,       2,         12,         22,       8022,2,20100407,       2101,  22.749333,-158.0006667,       4729,    59.3,  23.2388,  35.2717,2,  35.2710,2,    216.3,1,  -999.0,9, -999.00,9, -999.00,9,  -999.0,      59,    23.2266, -999.00,9,     -999.0
33KI20100405,       PRS2,       2,         12,         21,       8021,2,20100407,       2101,  22.749333,-158.0006667,       4729,    84.6,  23.1105,  35.3003,2,  35.3060,2,    216.6,1,  -999.0,9, -999.00,9, -999.00,9,  -999.0,      84,    23.0931, -999.00,9,     -999.0
33KI20100405,       PRS2,       2,         12,         20,       8020,2,20100407,       2101,  22.749333,-158.0006667,       4729,    99.4,  22.8372,  35.3429,2,  35.3433,2,    217.3,1,  -999.0,9, -999.00,9, -999.00,9,  -999.0,      99,    22.8170, -999.00,9,     -999.0
33KI20100405,       PRS2,       2,         12,         19,       8019,2,20100407,       2101,  22.749333,-158.0006667,       4729,   125.2,  22.2159,  35.3700,2,  35.3589,3,    215.5,1,  -999.0,9, -999.00,9, -999.00,9,  -999.0,     125,    22.1909, -999.00,9,     -999.0
33KI20100405,       PRS2,       2,         12,         18,       8018,2,20100407,       2101,  22.749333,-158.0006667,       4729,   150.7,  21.0291,  35.2849,2,  35.2810,2,    204.6,1,  -999.0,9, -999.00,9, -999.00,9,  -999.0,     151,    21.0002, -999.00,9,     -999.0
33KI20100405,       PRS2,       2,         12,         17,       8017,2,20100407,       2101,  22.749333,-158.0006667,       4729,   171.9,  20.5191,  35.2565,2,  35.2564,2,    203.6,1,  -999.0,9, -999.00,9, -999.00,9,  -999.0,     172,    20.4867, -999.00,9,     -999.0
33KI20100405,       PRS2,       2,         12,         16,       8016,2,20100407,       2101,  22.749333,-158.0006667,       4729,   201.8,  20.0351,  35.2558,2,  35.2588,2,    207.9,1,  -999.0,9, -999.00,9, -999.00,9,  -999.0,     203,    19.9977, -999.00,9,     -999.0
33KI20100405,       PRS2,       2,         12,         15,       8015,2,20100407,       2101,  22.749333,-158.0006667,       4729,   299.7,  15.1745,  34.4778,2,  34.4738,2,    191.4,1,  -999.0,9, -999.00,9, -999.00,9,  -999.0,     299,    15.1288, -999.00,9,     -999.0
33KI20100405,       PRS2,       2,         12,         14,       8014,2,20100407,       2101,  22.749333,-158.0006667,       4729,   400.6,   9.4784,  34.0755,2,  34.0762,2,    181.7,1,  -999.0,9, -999.00,9, -999.00,9,  -999.0,     401,     9.4335, -999.00,9,     -999.0
33KI20100405,       PRS2,       2,         12,         13,       8025,2,20100407,       2101,  22.749333,-158.0006667,       4729,   500.6,   7.1654,  34.0477,2,  34.0478,2,    108.2,1,  -999.0,9, -999.00,9, -999.00,9,  -999.0,     501,     7.1176, -999.00,9,     -999.0
33KI20100405,       PRS2,       2,         12,         12,       8012,2,20100407,       2101,  22.749333,-158.0006667,       4729,   509.7,   6.9889,  34.0480,2,  34.0482,2,    106.2,1,  -999.0,9, -999.00,9, -999.00,9,  -999.0,     510,     6.9409, -999.00,9,     -999.0
33KI20100405,       PRS2,       2,         12,         11,       8011,2,20100407,       2101,  22.749333,-158.0006667,       4729,   598.7,   5.7630,  34.1557,2,  34.1562,2,     50.7,1,  -999.0,9, -999.00,9, -999.00,9,  -999.0,     599,     5.7117, -999.00,9,     -999.0
33KI20100405,       PRS2,       2,         12,         10,       8010,2,20100407,       2101,  22.749333,-158.0006667,       4729,   702.1,   5.3396,  34.3066,2,  34.3062,2,     33.7,1,  -999.0,9, -999.00,9, -999.00,9,  -999.0,     702,     5.2810, -999.00,9,     -999.0
33KI20100405,       PRS2,       2,         12,          9,       8009,2,20100407,       2101,  22.749333,-158.0006667,       4729,   801.1,   4.7672,  34.3856,2,  34.3894,2,     32.9,1,  -999.0,9, -999.00,9, -999.00,9,  -999.0,     801,     4.7032, -999.00,9,     -999.0
33KI20100405,       PRS2,       2,         12,          8,       8008,2,20100407,       2101,  22.749333,-158.0006667,       4729,   901.4,   4.4953,  34.4569,2,  34.4577,2,     36.5,1,  -999.0,9, -999.00,9, -999.00,9,  -999.0,     902,     4.4244, -999.00,9,     -999.0
33KI20100405,       PRS2,       2,         12,          7,       8026,2,20100407,       2101,  22.749333,-158.0006667,       4729,  1018.9,   4.0231,  34.4883,2,  34.4889,2,     44.8,1,  -999.0,9, -999.00,9, -999.00,9,  -999.0,    1019,     3.9457, -999.00,9,     -999.0
33KI20100405,       PRS2,       2,         12,          6,       8006,2,20100407,       2101,  22.749333,-158.0006667,       4729,  1019.1,   4.0223,  34.4881,2,-999.0000,5,     44.8,1,  -999.0,9, -999.00,9, -999.00,9,  -999.0,    1019,     3.9449, -999.00,9,     -999.0
33KI20100405,       PRS2,       2,         12,          5,       8005,2,20100407,       2101,  22.749333,-158.0006667,       4729,  1019.5,   4.0218,  34.4881,2,-999.0000,5,     44.8,1,  -999.0,9, -999.00,9, -999.00,9,  -999.0,    1019,     3.9444, -999.00,9,     -999.0
33KI20100405,       PRS2,       2,         12,          4,       8004,2,20100407,       2101,  22.749333,-158.0006667,       4729,  1019.7,   4.0218,  34.4880,2,-999.0000,5,     44.8,1,  -999.0,9, -999.00,9, -999.00,9,  -999.0,    1020,     3.9444, -999.00,9,     -999.0
33KI20100405,       PRS2,       2,         12,          3,       8003,2,20100407,       2101,  22.749333,-158.0006667,       4729,  1019.9,   4.0227,  34.4881,2,-999.0000,5,     44.8,1,  -999.0,9, -999.00,9, -999.00,9,  -999.0,    1020,     3.9452, -999.00,9,     -999.0
33KI20100405,       PRS2,       2,         12,          2,       8002,2,20100407,       2101,  22.749333,-158.0006667,       4729,  1019.9,   4.0227,  34.4883,2,-999.0000,5,     44.8,1,  -999.0,9, -999.00,9, -999.00,9,  -999.0,    1020,     3.9453, -999.00,9,     -999.0
33KI20100405,       PRS2,       2,         12,          1,       8001,2,20100407,       2101,  22.749333,-158.0006667,       4729,  1020.0,   4.0242,  34.4881,2,-999.0000,5,     44.8,1,  -999.0,9, -999.00,9, -999.00,9,  -999.0,    1020,     3.9467, -999.00,9,     -999.0
33KI20100405,       PRS2,       2,         13,         24,       8024,2,20100408,       0014,  22.753000,-157.9948333,       4727,     5.3,  23.4856,  35.2574,2,  35.2562,2,    215.3,1,  -999.0,9, -999.00,9, -999.00,9,  -999.0,       5,    23.4846, -999.00,9,     -999.0
33KI20100405,       PRS2,       2,         13,         23,       8023,2,20100408,       0014,  22.753000,-157.9948333,       4727,    24.9,  23.3250,  35.2560,2,  35.2556,2,    215.9,1,  -999.0,9, -999.00,9, -999.00,9,  -999.0,      25,    23.3199, -999.00,9,     -999.0
33KI20100405,       PRS2,       2,         13,         22,       8022,2,20100408,       0014,  22.753000,-157.9948333,       4727,    44.9,  23.2952,  35.2574,2,  35.2572,2,    216.0,1,  -999.0,9, -999.00,9, -999.00,9,  -999.0,      45,    23.2859, -999.00,9,     -999.0
33KI20100405,       PRS2,       2,         13,         21,       8021,2,20100408,       0014,  22.753000,-157.9948333,       4727,    75.1,  23.2460,  35.2691,2,  35.2690,2,    216.5,1,  -999.0,9, -999.00,9, -999.00,9,  -999.0,      75,    23.2305, -999.00,9,     -999.0
33KI20100405,       PRS2,       2,         13,         20,       8020,2,20100408,       0014,  22.753000,-157.9948333,       4727,   100.2,  22.8559,  35.3403,2,  35.3388,2,    217.1,1,  -999.0,9, -999.00,9, -999.00,9,  -999.0,     101,    22.8355, -999.00,9,     -999.0
33KI20100405,       PRS2,       2,         13,         19,       8019,2,20100408,       0014,  22.753000,-157.9948333,       4727,   126.3,  22.4662,  35.3731,2,  35.3705,2,    216.6,1,  -999.0,9, -999.00,9, -999.00,9,  -999.0,     126,    22.4408, -999.00,9,     -999.0
33KI20100405,       PRS2,       2,         13,         18,       8018,2,20100408,       0014,  22.753000,-157.9948333,       4727,   152.7,  21.0649,  35.2846,2,  35.2879,2,    203.8,1,  -999.0,9, -999.00,9, -999.00,9,  -999.0,     153,    21.0356, -999.00,9,     -999.0
33KI20100405,       PRS2,       2,         13,         17,       8017,2,20100408,       0014,  22.753000,-157.9948333,       4727,   201.3,  20.2096,  35.2716,2,-999.0000,5,    211.2,1,  -999.0,9, -999.00,9, -999.00,9,  -999.0,     201,    20.1720, -999.00,9,     -999.0
33KI20100405,       PRS2,       2,         13,         16,       8016,2,20100408,       0014,  22.753000,-157.9948333,       4727,   201.2,  20.2057,  35.2692,2,-999.0000,5,    211.0,1,  -999.0,9, -999.00,9, -999.00,9,  -999.0,     201,    20.1681, -999.00,9,     -999.0
33KI20100405,       PRS2,       2,         13,         15,       8015,2,20100408,       0014,  22.753000,-157.9948333,       4727,   251.0,  17.8410,  34.8742,2,  34.8989,3,    199.4,1,  -999.0,9, -999.00,9, -999.00,9,  -999.0,     251,    17.7981, -999.00,9,     -999.0
33KI20100405,       PRS2,       2,         13,         14,       8014,2,20100408,       0014,  22.753000,-157.9948333,       4727,   298.4,  14.5027,  34.3985,2,-999.0000,5,    191.7,1,  -999.0,9, -999.00,9, -999.00,9,  -999.0,     298,    14.4586, -999.00,9,     -999.0
33KI20100405,       PRS2,       2,         13,         13,       8025,2,20100408,       0014,  22.753000,-157.9948333,       4727,   298.6,  14.4903,  34.3987,2,-999.0000,5,    191.6,1,  -999.0,9, -999.00,9, -999.00,9,  -999.0,     299,    14.4462, -999.00,9,     -999.0
33KI20100405,       PRS2,       2,         13,         12,       8012,2,20100408,       0014,  22.753000,-157.9948333,       4727,   357.0,  11.4239,  34.1564,2,  34.1644,2,    183.2,1,  -999.0,9, -999.00,9, -999.00,9,  -999.0,     357,    11.3789, -999.00,9,     -999.0
33KI20100405,       PRS2,       2,         13,         11,       8011,2,20100408,       0014,  22.753000,-157.9948333,       4727,   402.2,   9.6392,  34.0796,2,-999.0000,5,    184.6,1,  -999.0,9, -999.00,9, -999.00,9,  -999.0,     402,     9.5936, -999.00,9,     -999.0
33KI20100405,       PRS2,       2,         13,         10,       8010,2,20100408,       0014,  22.753000,-157.9948333,       4727,   499.4,   7.0981,  34.0454,2,-999.0000,5,    109.0,1,  -999.0,9, -999.00,9, -999.00,9,  -999.0,     499,     7.0507, -999.00,9,     -999.0
33KI20100405,       PRS2,       2,         13,          9,       8009,2,20100408,       0014,  22.753000,-157.9948333,       4727,   499.5,   7.0962,  34.0457,2,  34.0458,2,    108.9,1,  -999.0,9, -999.00,9, -999.00,9,  -999.0,     499,     7.0488, -999.00,9,     -999.0
33KI20100405,       PRS2,       2,         13,          8,       8008,2,20100408,       0014,  22.753000,-157.9948333,       4727,   509.1,   6.7534,  34.0507,2,  34.0545,2,     97.9,1,  -999.0,9, -999.00,9, -999.00,9,  -999.0,     509,     6.7064, -999.00,9,     -999.0
33KI20100405,       PRS2,       2,         13,          7,       8026,2,20100408,       0014,  22.753000,-157.9948333,       4727,   607.5,   5.6925,  34.1851,2,-999.0000,5,     52.8,1,  -999.0,9, -999.00,9, -999.00,9,  -999.0,     608,     5.6407, -999.00,9,     -999.0
33KI20100405,       PRS2,       2,         13,          6,       8006,2,20100408,       0014,  22.753000,-157.9948333,       4727,   697.3,   5.3141,  34.3016,2,-999.0000,5,     32.9,1,  -999.0,9, -999.00,9, -999.00,9,  -999.0,     697,     5.2561, -999.00,9,     -999.0
33KI20100405,       PRS2,       2,         13,          5,       8005,2,20100408,       0014,  22.753000,-157.9948333,       4727,   770.4,   4.9444,  34.3684,2,-999.0000,5,     31.5,1,  -999.0,9, -999.00,9, -999.00,9,  -999.0,     771,     4.8820, -999.00,9,     -999.0
33KI20100405,       PRS2,       2,         13,          4,       8004,2,20100408,       0014,  22.753000,-157.9948333,       4727,   800.9,   4.7864,  34.3924,2,-999.0000,5,     32.9,1,  -999.0,9, -999.00,9, -999.00,9,  -999.0,     801,     4.7223, -999.00,9,     -999.0
33KI20100405,       PRS2,       2,         13,          3,       8003,2,20100408,       0014,  22.753000,-157.9948333,       4727,   898.5,   4.5398,  34.4600,2,-999.0000,5,     36.0,1,  -999.0,9, -999.00,9, -999.00,9,  -999.0,     899,     4.4689, -999.00,9,     -999.0
33KI20100405,       PRS2,       2,         13,          2,       8002,2,20100408,       0014,  22.753000,-157.9948333,       4727,  1020.8,   4.0904,  34.4922,2,-999.0000,5,     42.7,1,  -999.0,9, -999.00,9, -999.00,9,  -999.0,    1021,     4.0123, -999.00,9,     -999.0
33KI20100405,       PRS2,       2,         13,          1,       8001,2,20100408,       0014,  22.753000,-157.9948333,       4727,  1020.6,   4.0902,  34.4924,2,  34.4921,2,     42.7,1,  -999.0,9, -999.00,9, -999.00,9,  -999.0,    1021,     4.0122, -999.00,9,     -999.0
33KI20100405,       PRS2,       2,         14,         22,       8022,2,20100408,       0255,  22.750167,-158.0015000,       4722,     3.9,  23.4196,  35.2595,2,-999.0000,5,    215.8,1,  -999.0,9, -999.00,9, -999.00,9,  -999.0,       4,    23.4188, -999.00,9,     -999.0
33KI20100405,       PRS2,       2,         14,         21,       8021,2,20100408,       0255,  22.750167,-158.0015000,       4722,     4.0,  23.4196,  35.2595,2,  35.2597,2,    215.8,1,  -999.0,9, -999.00,9, -999.00,9,  -999.0,       4,    23.4188, -999.00,9,     -999.0
33KI20100405,       PRS2,       2,         14,         20,       8020,2,20100408,       0255,  22.750167,-158.0015000,       4722,    15.3,  23.4019,  35.2598,2,  35.2586,2,    215.9,1,  -999.0,9, -999.00,9, -999.00,9,  -999.0,      15,    23.3987, -999.00,9,     -999.0
33KI20100405,       PRS2,       2,         14,         19,       8019,2,20100408,       0255,  22.750167,-158.0015000,       4722,    24.6,  23.3060,  35.2598,2,-999.0000,5,    216.0,1,  -999.0,9, -999.00,9, -999.00,9,  -999.0,      24,    23.3009, -999.00,9,     -999.0
33KI20100405,       PRS2,       2,         14,         18,       8018,2,20100408,       0255,  22.750167,-158.0015000,       4722,    24.7,  23.3061,  35.2597,2,  35.2595,2,    216.0,1,  -999.0,9, -999.00,9, -999.00,9,  -999.0,      25,    23.3010, -999.00,9,     -999.0
33KI20100405,       PRS2,       2,         14,         17,       8017,2,20100408,       0255,  22.750167,-158.0015000,       4722,    35.3,  23.2975,  35.2593,2,  35.2589,2,    215.8,1,  -999.0,9, -999.00,9, -999.00,9,  -999.0,      35,    23.2902, -999.00,9,     -999.0
33KI20100405,       PRS2,       2,         14,         16,       8016,2,20100408,       0255,  22.750167,-158.0015000,       4722,    35.2,  23.2984,  35.2592,2,  35.2601,2,    215.8,1,  -999.0,9, -999.00,9, -999.00,9,  -999.0,      35,    23.2912, -999.00,9,     -999.0
33KI20100405,       PRS2,       2,         14,         15,       8015,2,20100408,       0255,  22.750167,-158.0015000,       4722,    44.4,  23.2879,  35.2596,2,-999.0000,5,    216.2,1,  -999.0,9, -999.00,9, -999.00,9,  -999.0,      45,    23.2787, -999.00,9,     -999.0
33KI20100405,       PRS2,       2,         14,         14,       8014,2,20100408,       0255,  22.750167,-158.0015000,       4722,    44.4,  23.2885,  35.2596,2,  35.2601,2,    216.0,1,  -999.0,9, -999.00,9, -999.00,9,  -999.0,      44,    23.2793, -999.00,9,     -999.0
33KI20100405,       PRS2,       2,         14,         13,       8025,2,20100408,       0255,  22.750167,-158.0015000,       4722,    61.3,  23.2564,  35.2637,2,  35.2664,2,    216.4,1,  -999.0,9, -999.00,9, -999.00,9,  -999.0,      61,    23.2438, -999.00,9,     -999.0
33KI20100405,       PRS2,       2,         14,         12,       8012,2,20100408,       0255,  22.750167,-158.0015000,       4722,    75.3,  22.9545,  35.3239,2,-999.0000,5,    217.2,1,  -999.0,9, -999.00,9, -999.00,9,  -999.0,      75,    22.9391, -999.00,9,     -999.0
33KI20100405,       PRS2,       2,         14,         11,       8011,2,20100408,       0255,  22.750167,-158.0015000,       4722,    75.3,  22.9647,  35.3220,2,  35.3159,2,    217.2,1,  -999.0,9, -999.00,9, -999.00,9,  -999.0,      75,    22.9493, -999.00,9,     -999.0
33KI20100405,       PRS2,       2,         14,         10,       8010,2,20100408,       0255,  22.750167,-158.0015000,       4722,   100.8,  22.4893,  35.3715,2,-999.0000,5,    216.7,1,  -999.0,9, -999.00,9, -999.00,9,  -999.0,     101,    22.4690, -999.00,9,     -999.0
33KI20100405,       PRS2,       2,         14,          9,       8009,2,20100408,       0255,  22.750167,-158.0015000,       4722,   100.8,  22.4904,  35.3704,2,  35.3677,2,    216.6,1,  -999.0,9, -999.00,9, -999.00,9,  -999.0,     100,    22.4701, -999.00,9,     -999.0
33KI20100405,       PRS2,       2,         14,          8,       8008,2,20100408,       0255,  22.750167,-158.0015000,       4722,   124.6,  21.2117,  35.2947,2,-999.0000,5,    204.2,1,  -999.0,9, -999.00,9, -999.00,9,  -999.0,     125,    21.1876, -999.00,9,     -999.0
33KI20100405,       PRS2,       2,         14,          7,       8026,2,20100408,       0255,  22.750167,-158.0015000,       4722,   124.5,  21.2141,  35.2949,2,  35.2989,2,    204.1,1,  -999.0,9, -999.00,9, -999.00,9,  -999.0,     125,    21.1901, -999.00,9,     -999.0
33KI20100405,       PRS2,       2,         14,          6,       8006,2,20100408,       0255,  22.750167,-158.0015000,       4722,   149.9,  21.0337,  35.3943,2,-999.0000,5,    212.1,1,  -999.0,9, -999.00,9, -999.00,9,  -999.0,     150,    21.0049, -999.00,9,     -999.0
33KI20100405,       PRS2,       2,         14,          5,       8005,2,20100408,       0255,  22.750167,-158.0015000,       4722,   150.2,  21.0343,  35.3932,2,  35.3898,2,    212.1,1,  -999.0,9, -999.00,9, -999.00,9,  -999.0,     149,    21.0054, -999.00,9,     -999.0
33KI20100405,       PRS2,       2,         14,          4,       8004,2,20100408,       0255,  22.750167,-158.0015000,       4722,   175.8,  20.3404,  35.2974,2,-999.0000,5,    211.0,1,  -999.0,9, -999.00,9, -999.00,9,  -999.0,     176,    20.3074, -999.00,9,     -999.0
33KI20100405,       PRS2,       2,         14,          3,       8003,2,20100408,       0255,  22.750167,-158.0015000,       4722,   175.7,  20.3622,  35.3007,2,  35.3196,2,    211.0,1,  -999.0,9, -999.00,9, -999.00,9,  -999.0,     176,    20.3293, -999.00,9,     -999.0
33KI20100405,       PRS2,       2,         14,          2,       8002,2,20100408,       0255,  22.750167,-158.0015000,       4722,   498.5,   7.1395,  34.0467,2,  34.0539,2,    106.2,1,  -999.0,9, -999.00,9, -999.00,9,  -999.0,     499,     7.0920, -999.00,9,     -999.0
33KI20100405,       PRS2,       2,         14,          1,       8001,2,20100408,       0255,  22.750167,-158.0015000,       4722,  1021.1,   3.9907,  34.4892,2,  34.4901,2,     45.4,1,  -999.0,9, -999.00,9, -999.00,9,  -999.0,    1021,     3.9134, -999.00,9,     -999.0