BOTTLE,20010413WHPSIOKJU
EXPOCODE,SECT_ID,STNNBR,CASTNO,SAMPNO,BTLNBR,BTLNBR_FLAG_W,DATE,TIME,LATITUDE,LONGITUDE,DEPTH,CTDPRS,CTDTMP,CTDSAL,CTDSAL_FLAG_W,SALNTY,SALNTY_FLAG_W,OXYGEN,OXYGEN_FLAG_W,NITRAT,NITRAT_FLAG_W,NITRIT,NITRIT_FLAG_W,PHSPHT,PHSPHT_FLAG_W
,,,,,,,,,,,,DBAR,DEG C,PSS-78,,PSS-78,,UMOL/KG,,UMOL/KG,,UMOL/KG,,UMOL/KG,
    49RY9011_3,  PR03,RY7871,  2,      9,      9,2,19901214,0234, 35.0000, 143.9667, 5760,    176.0,  17.5430,  34.7900,2,  34.7900,2,    210.0,2,     3.20,2,     0.00,2,     0.22,2
    49RY9011_3,  PR03,RY7871,  2,     10,     10,2,19901214,0234, 35.0000, 143.9667, 5760,    200.0,  17.0240,  34.7670,2,  34.7620,2,    206.0,2,     4.20,2,     0.00,2,     0.36,2
    49RY9011_3,  PR03,RY7871,  2,     11,     11,2,19901214,0234, 35.0000, 143.9667, 5760,    251.0,  15.7220,  34.6910,2,  34.6920,2,    198.0,2,     6.80,2,     0.00,2,     0.55,2
    49RY9011_3,  PR03,RY7871,  2,     12,     12,2,19901214,0234, 35.0000, 143.9667, 5760,    301.0,  14.5630,  34.6010,2,  34.6030,2,    184.0,2,     9.90,2,     0.00,2,     0.74,2
    49RY9011_3,  PR03,RY7871,  2,     13,     13,2,19901214,0234, 35.0000, 143.9667, 5760,    402.0,  11.4980,  34.3980,2,  34.3970,2,    168.0,2,    16.30,2,     0.00,2,     1.25,2
    49RY9011_3,  PR03,RY7871,  2,     14,     14,2,19901214,0234, 35.0000, 143.9667, 5760,    506.0,   8.2060,  34.2090,2,  34.2090,2,    151.0,2,    24.00,2,     0.00,2,     1.76,2
    49RY9011_3,  PR03,RY7871,  2,     15,     15,2,19901214,0234, 35.0000, 143.9667, 5760,    605.0,   5.2020,  33.9840,2,  33.9850,2,    142.0,2,    30.20,2,     0.00,2,     2.25,2
    49RY9011_3,  PR03,RY7871,  2,     16,     16,2,19901214,0234, 35.0000, 143.9667, 5760,    705.0,   4.8480,  34.1370,2,  34.1320,2,     94.0,2,    34.80,2,     0.00,2,     2.52,2
    49RY9011_3,  PR03,RY7871,  2,     17,     17,2,19901214,0234, 35.0000, 143.9667, 5760,    805.0,   4.4330,  34.2090,2,  34.2020,2,     73.0,2,    37.30,2,     0.00,2,     2.64,2
    49RY9011_3,  PR03,RY7871,  2,     18,     18,2,19901214,0234, 35.0000, 143.9667, 5760,    906.0,   3.5980,  34.2360,2,  34.2340,2,     55.0,2,    40.10,2,     0.00,2,     2.90,2
    49RY9011_3,  PR03,RY7871,  2,     19,     19,2,19901214,0234, 35.0000, 143.9667, 5760,   1008.0,   3.3300,  34.3050,2,  34.3060,2,     48.0,2,    40.50,2,     0.00,2,     2.90,2
    49RY9011_3,  PR03,RY7871,  2,     20,     20,2,19901214,0234, 35.0000, 143.9667, 5760,   1261.0,   2.8230,  34.4370,2,  34.4380,2,     52.0,2,    41.20,2,     0.00,2,     2.83,2