BOTTLE,20010413WHPSIOKJU
#code : jjward hyd_to_exchange.pl 
#original files copied from HTML directory: 20010413
#original HYD file: pr03_ahy.txt   Fri Apr 13 12:57:38 2001
#original SUM file: pr03_asu.txt   Thu Mar 29 13:27:07 2001
EXPOCODE,SECT_ID,STNNBR,CASTNO,SAMPNO,BTLNBR,BTLNBR_FLAG_W,DATE,TIME,LATITUDE,LONGITUDE,DEPTH,CTDPRS,CTDTMP,CTDSAL,CTDSAL_FLAG_W,SALNTY,SALNTY_FLAG_W,OXYGEN,OXYGEN_FLAG_W,NITRAT,NITRAT_FLAG_W,NITRIT,NITRIT_FLAG_W,PHSPHT,PHSPHT_FLAG_W
,,,,,,,,,,,,DBAR,DEG C,PSS-78,,PSS-78,,UMOL/KG,,UMOL/KG,,UMOL/KG,,UMOL/KG,
    49RY9011_3,  PR03,RY7851,  1,      1,      1,2,19901205,0659, 15.0000, 143.9833, 4397,      0.0,  28.2090,  34.2780,2,  34.2860,2,    206.0,2,     0.00,2,     0.00,2,     0.16,2
    49RY9011_3,  PR03,RY7851,  1,      2,      2,2,19901205,0659, 15.0000, 143.9833, 4397,     11.0,  28.2110,  34.2770,2,  34.2790,2,    204.0,2,     0.00,2,     0.00,2,     0.12,2
    49RY9011_3,  PR03,RY7851,  1,      3,      3,2,19901205,0659, 15.0000, 143.9833, 4397,     26.0,  28.2180,  34.2780,2,  34.2810,2,    202.0,2,     0.00,2,     0.00,2,     0.15,2
    49RY9011_3,  PR03,RY7851,  1,      4,      4,2,19901205,0659, 15.0000, 143.9833, 4397,     50.0,  28.2120,  34.2810,2,  34.2860,2,    200.0,2,     0.10,2,     0.01,2,     0.13,2
    49RY9011_3,  PR03,RY7851,  1,      5,      5,2,19901205,0659, 15.0000, 143.9833, 4397,     75.0,  27.7530,  34.6500,2,  34.6280,2,    209.0,2,     0.00,2,     0.00,2,     0.20,2
    49RY9011_3,  PR03,RY7851,  1,      6,      6,2,19901205,0659, 15.0000, 143.9833, 4397,    100.0,  25.2690,  34.9350,2,  34.9460,2,    198.0,2,     0.00,2,     0.00,2,     0.18,2
    49RY9011_3,  PR03,RY7851,  1,      7,      7,2,19901205,0659, 15.0000, 143.9833, 4397,    127.0,  23.1080,  35.0230,2,  35.0090,2,    183.0,2,     0.50,2,     0.13,2,     0.27,2
    49RY9011_3,  PR03,RY7851,  1,      8,      8,2,19901205,0659, 15.0000, 143.9833, 4397,    153.0,  21.4560,  35.0360,2,  35.0020,2,    175.0,2,     1.60,2,     0.09,2,     0.28,2
    49RY9011_3,  PR03,RY7851,  1,      9,      9,2,19901205,0659, 15.0000, 143.9833, 4397,    176.0,  19.4080,  34.9440,2,  34.9460,2,    169.0,2,     4.30,2,     0.00,2,     0.49,2
    49RY9011_3,  PR03,RY7851,  1,     10,     10,2,19901205,0659, 15.0000, 143.9833, 4397,    202.0,  17.3550,  34.8110,2,  34.8100,2,    175.0,2,     6.10,2,     0.00,2,     0.58,2
    49RY9011_3,  PR03,RY7851,  1,     11,     11,2,19901205,0659, 15.0000, 143.9833, 4397,    251.0,  15.5140,  34.6470,2,  34.6570,2,    172.0,2,     9.00,2,     0.00,2,     0.78,2
    49RY9011_3,  PR03,RY7851,  1,     12,     12,2,19901205,0659, 15.0000, 143.9833, 4397,    298.0,  12.3290,  34.4110,2,  34.4210,2,    158.0,2,    15.80,2,     0.00,2,     1.29,2
    49RY9011_3,  PR03,RY7851,  2,     13,     13,2,19901205,0815, 15.0000, 143.9833, 4397,    403.0,   9.2210,  34.3360,2,  34.3400,2,    106.0,2,    26.40,2,     0.00,2,     2.07,2
    49RY9011_3,  PR03,RY7851,  2,     14,     14,2,19901205,0815, 15.0000, 143.9833, 4397,    503.0,   7.5740,  34.3760,2,  34.3750,2,     78.0,2,    32.80,2,     0.00,2,     2.51,2
    49RY9011_3,  PR03,RY7851,  2,     15,     15,2,19901205,0815, 15.0000, 143.9833, 4397,    604.0,   6.4850,  34.4280,2,  34.4260,2,     69.0,2,    35.80,2,     0.00,2,     2.69,2
    49RY9011_3,  PR03,RY7851,  2,     16,     16,2,19901205,0815, 15.0000, 143.9833, 4397,    706.0,   5.7770,  34.4740,2,  34.4720,2,     79.0,2,    36.30,2,     0.00,2,     2.74,2
    49RY9011_3,  PR03,RY7851,  2,     17,     17,2,19901205,0815, 15.0000, 143.9833, 4397,    806.0,   5.1840,  34.5030,2,  34.5030,2,     83.0,2,    37.30,2,     0.00,2,     2.69,2
    49RY9011_3,  PR03,RY7851,  2,     18,     18,2,19901205,0815, 15.0000, 143.9833, 4397,    906.0,   4.7540,  34.5200,2,  34.5200,2,     84.0,2,    37.90,2,     0.00,2,     2.59,2
    49RY9011_3,  PR03,RY7851,  2,     19,     19,2,19901205,0815, 15.0000, 143.9833, 4397,   1009.0,   4.2990,  34.5340,2,  34.5340,2,     83.0,2,    38.50,2,     0.00,2,     2.73,2
    49RY9011_3,  PR03,RY7851,  2,     20,     20,2,19901205,0815, 15.0000, 143.9833, 4397,   1261.0,   3.5020,  34.5620,2,  34.5630,2,     90.0,2,    38.80,2,     0.00,2,     2.78,2
    49RY9011_3,  PR03,RY7856,  1,      1,      1,2,19901206,1809, 19.9833, 144.0000, 5073,      3.0,  27.3800,  34.4170,2,  34.4280,2,    206.0,2,     0.00,2,     0.00,2,     0.01,2
    49RY9011_3,  PR03,RY7856,  1,      2,      2,2,19901206,1809, 19.9833, 144.0000, 5073,     10.0,  27.3810,  34.4170,2,  34.4210,2,    208.0,2,     0.00,2,     0.00,2,     0.01,2
    49RY9011_3,  PR03,RY7856,  1,      3,      3,2,19901206,1809, 19.9833, 144.0000, 5073,     23.0,  27.3910,  34.4170,2,  34.4240,2,    210.0,2,     0.00,2,     0.01,2,     0.00,2
    49RY9011_3,  PR03,RY7856,  1,      4,      4,2,19901206,1809, 19.9833, 144.0000, 5073,     50.0,  27.3960,  34.4170,2,  34.4200,2,    208.0,2,     0.10,2,     0.00,2,     0.00,2
    49RY9011_3,  PR03,RY7856,  1,      5,      5,2,19901206,1809, 19.9833, 144.0000, 5073,     76.0,  27.3970,  34.4190,2,  34.4280,2,    204.0,2,     0.00,2,     0.00,2,     0.00,2
    49RY9011_3,  PR03,RY7856,  1,      6,      6,2,19901206,1809, 19.9833, 144.0000, 5073,    100.0,  26.1940,  34.7590,2,  34.7550,2,    206.0,2,     0.10,2,     0.00,2,     0.00,2
    49RY9011_3,  PR03,RY7856,  1,      7,      7,2,19901206,1809, 19.9833, 144.0000, 5073,    125.0,  23.5660,  35.0100,2,  35.0070,2,    201.0,2,     0.10,2,     0.03,2,     0.01,2
    49RY9011_3,  PR03,RY7856,  1,      8,      8,2,19901206,1809, 19.9833, 144.0000, 5073,    150.0,  21.3960,  35.0020,2,  34.9990,2,    206.0,2,     0.50,2,     0.13,2,     0.03,2
    49RY9011_3,  PR03,RY7856,  1,      9,      9,2,19901206,1809, 19.9833, 144.0000, 5073,    175.0,  19.7380,  34.9310,2,  34.9400,2,    203.0,2,     1.30,2,     0.03,2,     0.07,2
    49RY9011_3,  PR03,RY7856,  1,     10,     10,2,19901206,1809, 19.9833, 144.0000, 5073,    201.0,  18.2520,  34.8640,2,  34.8690,2,    202.0,2,     2.90,2,     0.00,2,     0.13,2
    49RY9011_3,  PR03,RY7856,  1,     11,     11,2,19901206,1809, 19.9833, 144.0000, 5073,    250.0,  17.0960,  34.7920,2,  34.7950,2,    198.0,2,     4.80,2,     0.00,2,     0.25,2
    49RY9011_3,  PR03,RY7856,  1,     12,     12,2,19901206,1809, 19.9833, 144.0000, 5073,    302.0,  16.0140,  34.7070,2,  34.7140,2,    197.0,2,     6.50,2,     0.00,2,     0.43,2
    49RY9011_3,  PR03,RY7856,  1,     13,     13,2,19901206,1809, 19.9833, 144.0000, 5073,    401.0,  12.6180,  34.4180,2,  34.4310,2,    188.0,2,    12.50,2,     0.00,2,     0.95,2
    49RY9011_3,  PR03,RY7856,  2,     14,     14,2,19901206,2003, 19.9833, 144.0000, 5073,    503.0,   8.9210,  34.1780,2,  34.1780,2,    173.0,2,    20.40,2,     0.00,2,     1.56,2
    49RY9011_3,  PR03,RY7856,  2,     15,     15,2,19901206,2003, 19.9833, 144.0000, 5073,    603.0,   6.8550,  34.1550,2,  34.1530,2,    111.0,2,    30.60,2,     0.00,2,     2.31,2
    49RY9011_3,  PR03,RY7856,  2,     16,     16,2,19901206,2003, 19.9833, 144.0000, 5073,    705.0,   5.5590,  34.2250,2,  34.2180,2,     70.0,2,    36.30,2,     0.00,2,     2.72,2
    49RY9011_3,  PR03,RY7856,  2,     17,     17,2,19901206,2003, 19.9833, 144.0000, 5073,    807.0,   4.7700,  34.3330,2,  34.3280,2,     61.0,2,    38.70,2,     0.00,2,     2.85,2
    49RY9011_3,  PR03,RY7856,  2,     18,     18,2,19901206,2003, 19.9833, 144.0000, 5073,    906.0,   4.3190,  34.4270,2,  34.4170,2,     67.0,2,    38.90,2,     0.00,2,     2.80,2
    49RY9011_3,  PR03,RY7856,  2,     19,     19,2,19901206,2003, 19.9833, 144.0000, 5073,   1009.0,   3.8850,  34.4710,2,  34.4650,2,     71.0,2,    39.00,2,     0.00,2,     2.89,2
    49RY9011_3,  PR03,RY7856,  2,     20,     20,2,19901206,2003, 19.9833, 144.0000, 5073,   1259.0,   3.1320,  34.5260,2,  34.5230,2,     84.0,2,    39.00,2,     0.00,2,     2.88,2
    49RY9011_3,  PR03,RY7856,  2,     21,     21,2,19901206,2003, 19.9833, 144.0000, 5073,   1514.0,   2.5670,  34.5620,2,  34.5500,2,     95.0,2,    38.90,2,     0.00,2,     2.92,2
    49RY9011_3,  PR03,RY7856,  2,     22,     22,2,19901206,2003, 19.9833, 144.0000, 5073,   2023.0,   1.9360,  34.6240,2,  34.6190,2,    122.0,2,    37.90,2,     0.00,2,     2.82,2
    49RY9011_3,  PR03,RY7856,  2,     23,     23,2,19901206,2003, 19.9833, 144.0000, 5073,   2531.0,   1.6990,  34.6550,2,  34.6520,2,    132.0,2,    36.90,2,     0.00,2,     2.74,2
    49RY9011_3,  PR03,RY7856,  2,     24,     24,2,19901206,2003, 19.9833, 144.0000, 5073,   3041.0,   1.6550,  34.6660,2,  34.6600,2,    138.0,2,    36.50,2,     0.00,2,     2.71,2
    49RY9011_3,  PR03,RY7856,  2,     25,     25,2,19901206,2003, 19.9833, 144.0000, 5073,   4064.0,   1.7110,  34.6710,2,  34.6650,3,    143.0,2,    36.60,2,     0.00,2,     2.73,2
    49RY9011_3,  PR03,RY7861,  1,      1,      1,2,19901209,0649, 24.9833, 144.0000, 3514,      4.0,  25.8160,  34.8260,2,  34.8230,2,    218.0,2,     0.00,2,     0.00,2,     0.06,2
    49RY9011_3,  PR03,RY7861,  1,      2,      2,2,19901209,0649, 24.9833, 144.0000, 3514,     10.0,  25.8120,  34.8270,2,  34.8310,2,    219.0,2,     0.10,2,     0.00,2,     0.03,2
    49RY9011_3,  PR03,RY7861,  1,      3,      3,2,19901209,0649, 24.9833, 144.0000, 3514,     25.0,  25.7090,  34.8460,2,  34.8460,2,    222.0,2,     0.10,2,     0.01,2,     0.05,2
    49RY9011_3,  PR03,RY7861,  1,      4,      4,2,19901209,0649, 24.9833, 144.0000, 3514,     50.0,  25.4960,  34.9420,2,  34.9390,2,    219.0,2,     0.20,2,     0.00,2,     0.04,2
    49RY9011_3,  PR03,RY7861,  1,      5,      5,2,19901209,0649, 24.9833, 144.0000, 3514,     74.0,  24.7130,  34.9840,2,  34.9770,2,    219.0,2,     0.10,2,     0.00,2,     0.04,2
    49RY9011_3,  PR03,RY7861,  1,      6,      6,2,19901209,0649, 24.9833, 144.0000, 3514,    100.0,  23.1860,  34.9760,2,  34.9760,2,    221.0,2,     0.10,2,     0.00,2,     0.06,2
    49RY9011_3,  PR03,RY7861,  1,      7,      7,2,19901209,0649, 24.9833, 144.0000, 3514,    126.0,  20.2310,  34.9600,2,  34.9610,2,    216.0,2,     0.30,2,     0.11,2,     0.07,2
    49RY9011_3,  PR03,RY7861,  1,      8,      8,2,19901209,0649, 24.9833, 144.0000, 3514,    150.0,  18.8960,  34.9100,2,  34.9130,2,    204.0,2,     1.70,2,     0.01,2,     0.13,2
    49RY9011_3,  PR03,RY7861,  1,      9,      9,2,19901209,0649, 24.9833, 144.0000, 3514,    176.0,  18.2620,  34.8690,2,  34.8760,2,    203.0,2,     2.30,2,     0.01,2,     0.18,2
    49RY9011_3,  PR03,RY7861,  1,     10,     10,2,19901209,0649, 24.9833, 144.0000, 3514,    201.0,  17.7870,  34.8280,2,  34.8330,2,    205.0,2,     3.10,2,     0.02,2,     0.22,2
    49RY9011_3,  PR03,RY7861,  1,     11,     11,2,19901209,0649, 24.9833, 144.0000, 3514,    251.0,  17.0680,  34.7780,2,  34.7840,2,    209.0,2,     4.00,2,     0.00,2,     0.27,2
    49RY9011_3,  PR03,RY7861,  1,     12,     12,2,19901209,0649, 24.9833, 144.0000, 3514,    302.0,  15.7150,  34.6810,2,  34.6930,2,    199.0,2,     6.80,2,     0.00,2,     0.52,2
    49RY9011_3,  PR03,RY7861,  2,     13,     13,2,19901209,0755, 24.9833, 144.0000, 3514,    403.0,  13.4880,  34.5130,2,  34.5120,2,    195.0,2,    10.70,2,     0.00,2,     0.81,2
    49RY9011_3,  PR03,RY7861,  2,     14,     14,2,19901209,0755, 24.9833, 144.0000, 3514,    503.0,  10.5630,  34.3020,2,  34.3040,2,    184.0,2,    16.40,2,     0.00,2,     1.25,2
    49RY9011_3,  PR03,RY7861,  2,     15,     15,2,19901209,0755, 24.9833, 144.0000, 3514,    605.0,   7.8220,  34.1070,2,  34.1110,2,    168.0,2,    22.90,2,     0.01,2,     1.71,2
    49RY9011_3,  PR03,RY7861,  2,     16,     16,2,19901209,0755, 24.9833, 144.0000, 3514,    705.0,   5.9440,  34.0530,2,  34.0530,2,    129.0,2,    29.50,2,     0.00,2,     2.21,2
    49RY9011_3,  PR03,RY7861,  2,     17,     17,2,19901209,0755, 24.9833, 144.0000, 3514,    807.0,   4.8800,  34.1280,2,  34.1220,2,     82.0,2,    35.60,2,     0.00,2,     2.65,2
    49RY9011_3,  PR03,RY7861,  2,     18,     18,2,19901209,0755, 24.9833, 144.0000, 3514,    907.0,   4.1670,  34.2340,2,  34.2270,2,     55.0,2,    38.60,2,     0.02,2,     2.86,2
    49RY9011_3,  PR03,RY7861,  2,     19,     19,2,19901209,0755, 24.9833, 144.0000, 3514,   1008.0,   3.7050,  34.3280,2,  34.3200,2,     47.0,2,    40.30,2,     0.00,2,     2.94,2
    49RY9011_3,  PR03,RY7861,  2,     20,     20,2,19901209,0755, 24.9833, 144.0000, 3514,   1262.0,   2.8770,  34.4810,2,  34.4930,2,     59.0,2,    39.80,2,     0.00,2,     2.96,2
    49RY9011_3,  PR03,RY7866,  1,      1,      1,2,19901210,1335, 30.0000, 144.0167, 5770,      3.0,  23.4540,  34.7560,2,  34.7620,2,    218.0,2,     0.00,2,     0.00,2,     0.00,2
    49RY9011_3,  PR03,RY7866,  1,      2,      2,2,19901210,1335, 30.0000, 144.0167, 5770,     11.0,  23.4540,  34.7560,2,  34.7530,2,    223.0,2,     0.00,2,     0.00,2,     0.00,2
    49RY9011_3,  PR03,RY7866,  1,      3,      3,2,19901210,1335, 30.0000, 144.0167, 5770,     25.0,  23.4550,  34.7570,2,  34.7540,2,    225.0,2,     0.00,2,     0.00,2,     0.00,2
    49RY9011_3,  PR03,RY7866,  1,      4,      4,2,19901210,1335, 30.0000, 144.0167, 5770,     50.0,  23.4300,  34.7530,2,  34.7500,2,    222.0,2,     0.10,2,     0.00,2,     0.00,2
    49RY9011_3,  PR03,RY7866,  1,      5,      5,2,19901210,1335, 30.0000, 144.0167, 5770,     75.0,  22.8760,  34.7820,2,  34.7510,2,    221.0,2,     0.10,2,     0.00,2,     0.00,2
    49RY9011_3,  PR03,RY7866,  1,      6,      6,2,19901210,1335, 30.0000, 144.0167, 5770,    101.0,  19.9220,  34.8490,2,  34.8370,2,    212.0,2,     1.50,2,     0.05,2,     0.06,2
    49RY9011_3,  PR03,RY7866,  1,      7,      7,2,19901210,1335, 30.0000, 144.0167, 5770,    126.0,  18.9160,  34.8330,2,  34.8270,2,    202.0,2,     2.90,2,     0.00,2,     0.13,2
    49RY9011_3,  PR03,RY7866,  1,      8,      8,2,19901210,1335, 30.0000, 144.0167, 5770,    150.0,  18.3780,  34.8200,2,  34.8130,2,    203.0,2,     3.10,2,     0.00,2,     0.14,2
    49RY9011_3,  PR03,RY7866,  1,      9,      9,2,19901210,1335, 30.0000, 144.0167, 5770,    176.0,  17.9990,  34.8090,2,  34.8020,2,    208.0,2,     3.40,2,     0.01,2,     0.03,2
    49RY9011_3,  PR03,RY7866,  1,     10,     10,2,19901210,1335, 30.0000, 144.0167, 5770,    201.0,  17.6170,  34.7940,2,  34.7920,2,    209.0,2,     3.60,2,     0.01,2,     0.07,2
    49RY9011_3,  PR03,RY7866,  1,     11,     11,2,19901210,1335, 30.0000, 144.0167, 5770,    252.0,  17.0650,  34.7700,2,  34.7720,2,    207.0,2,     4.70,2,     0.02,2,     0.24,2
    49RY9011_3,  PR03,RY7866,  1,     12,     12,2,19901210,1335, 30.0000, 144.0167, 5770,    302.0,  16.5510,  34.7400,2,-999.0000,5,    204.0,2,     5.90,2,     0.00,2,     0.32,2
    49RY9011_3,  PR03,RY7866,  1,     13,     13,2,19901210,1335, 30.0000, 144.0167, 5770,    402.0,  14.4860,  34.5910,2,  34.5910,2,    190.0,2,    10.20,2,     0.00,2,     0.61,2
    49RY9011_3,  PR03,RY7866,  2,     14,     14,2,19901210,1525, 30.0000, 144.0167, 5770,    504.0,  11.6000,  34.3950,2,  34.3920,2,    181.0,2,    15.90,2,     0.00,2,     1.02,2
    49RY9011_3,  PR03,RY7866,  2,     15,     15,2,19901210,1525, 30.0000, 144.0167, 5770,    604.0,   8.7460,  34.2080,2,  34.2010,2,    170.0,2,    22.00,2,     0.00,2,     1.50,2
    49RY9011_3,  PR03,RY7866,  2,     16,     16,2,19901210,1525, 30.0000, 144.0167, 5770,    705.0,   6.4420,  34.0730,2,  34.0730,2,    146.0,2,    28.00,2,     0.00,2,     1.84,2
    49RY9011_3,  PR03,RY7866,  2,     17,     17,2,19901210,1525, 30.0000, 144.0167, 5770,    808.0,   5.2370,  34.0870,2,  34.0860,2,    114.0,2,    33.30,2,     0.00,2,     2.31,2
    49RY9011_3,  PR03,RY7866,  2,     18,     18,2,19901210,1525, 30.0000, 144.0167, 5770,    908.0,   4.5010,  34.1820,2,  34.1740,2,     80.0,2,    37.50,2,     0.00,2,     2.58,2
    49RY9011_3,  PR03,RY7866,  2,     19,     19,2,19901210,1525, 30.0000, 144.0167, 5770,   1009.0,   3.9290,  34.2650,2,  34.2590,2,     48.0,2,    39.60,2,     0.00,2,     2.65,2
    49RY9011_3,  PR03,RY7866,  2,     20,     20,2,19901210,1525, 30.0000, 144.0167, 5770,   1262.0,   3.0190,  34.4080,2,  34.3990,2,     48.0,2,    41.50,2,     0.00,2,     2.87,2
    49RY9011_3,  PR03,RY7866,  2,     21,     21,2,19901210,1525, 30.0000, 144.0167, 5770,   1515.0,   2.5300,  34.4990,2,  34.4900,2,     51.0,2,    41.70,2,     0.00,2,     2.81,2
    49RY9011_3,  PR03,RY7866,  2,     22,     22,2,19901210,1525, 30.0000, 144.0167, 5770,   2022.0,   1.9330,  34.5990,2,  34.5960,2,     83.0,2,    40.30,2,     0.00,2,     2.51,2
    49RY9011_3,  PR03,RY7866,  2,     23,     23,2,19901210,1525, 30.0000, 144.0167, 5770,   2531.0,   1.6790,  34.6460,2,  34.6420,2,    120.0,2,    38.00,2,     0.00,2,     2.59,2
    49RY9011_3,  PR03,RY7866,  2,     24,     24,2,19901210,1525, 30.0000, 144.0167, 5770,   3041.0,   1.5550,  34.6650,2,  34.6200,2,    119.0,2,    37.80,2,     0.00,2,     2.59,2
    49RY9011_3,  PR03,RY7866,  2,     25,     25,2,19901210,1525, 30.0000, 144.0167, 5770,   4066.0,   1.4580,  34.6860,2,  34.6810,2,    154.0,2,    35.90,2,     0.00,2,     2.39,2
    49RY9011_3,  PR03,RY7871,  1,      1,      1,2,19901214,0141, 35.0000, 143.9667, 5760,      2.0,  20.6390,  34.5700,2,  34.5700,2,    235.0,2,     0.00,2,     0.22,2,     0.10,2
    49RY9011_3,  PR03,RY7871,  1,      2,      2,2,19901214,0141, 35.0000, 143.9667, 5760,     10.0,  20.6430,  34.5700,2,  34.5670,2,    242.0,2,     0.00,2,     0.22,2,     0.10,2
    49RY9011_3,  PR03,RY7871,  1,      3,      3,2,19901214,0141, 35.0000, 143.9667, 5760,     26.0,  20.6440,  34.5690,2,  34.5670,2,    248.0,2,     0.00,2,     0.23,2,     0.07,2
    49RY9011_3,  PR03,RY7871,  1,      4,      4,2,19901214,0141, 35.0000, 143.9667, 5760,     49.0,  20.6460,  34.5700,2,  34.5650,2,    241.0,2,     0.00,2,     0.21,2,     0.08,2
    49RY9011_3,  PR03,RY7871,  1,      5,      5,2,19901214,0141, 35.0000, 143.9667, 5760,     75.0,  20.6440,  34.5700,2,  34.5650,2,    232.0,2,     0.00,2,     0.22,2,     0.07,2
    49RY9011_3,  PR03,RY7871,  1,      6,      6,2,19901214,0141, 35.0000, 143.9667, 5760,    100.0,  20.6110,  34.5660,2,  34.5620,2,    227.0,2,     0.10,2,     0.23,2,     0.08,2
    49RY9011_3,  PR03,RY7871,  1,      7,      7,2,19901214,0141, 35.0000, 143.9667, 5760,    126.0,  19.3180,  34.8150,2,  34.8250,2,    202.0,2,     2.40,2,     0.00,2,     0.21,2
    49RY9011_3,  PR03,RY7871,  1,      8,      8,2,19901214,0141, 35.0000, 143.9667, 5760,    150.0,  18.2200,  34.8100,2,  34.8070,2,    206.0,2,     2.60,2,     0.00,2,     0.19,2