BOTTLE,20090923WHPSIOMYS
EXPOCODE,SECT_ID,STNNBR,CASTNO,SAMPNO,BTLNBR,BTLNBR_FLAG_W,DATE,TIME,LATITUDE,LONGITUDE,DEPTH,CTDRAW,CTDPRS,CTDTMP,CTDSAL,CTDSAL_FLAG_W,SALNTY,SALNTY_FLAG_W,CTDOXY,CTDOXY_FLAG_W,THETA,OXYGEN,OXYGEN_FLAG_W,SILCAT,SILCAT_FLAG_W,NO2+NO3,NO2+NO3_FLAG_W,PHSPHT,PHSPHT_FLAG_W,REVPRS,REVTMP
,,,,,,,,,,,,,DBAR,ITS-90,PSS-78,,PSS-78,,UMOL/KG,,ITS-90,UMOL/KG,,UMOL/KG,,UMOL/KG,,UMOL/KG,,DBAR,DEG C
     33KI160_1,  PRS2,     2,  3,     24,     31,2,20040615,1826, 22.7500,-158.0005, 4720,      6,      4.7,  25.7130,  34.7311,2,  34.7317,2,    207.6,2, 25.7120,    207.7,2,     1.70,4,     0.14,2,     0.02,2,  -999.0,-999.000
     33KI160_1,  PRS2,     2,  3,     23,     30,2,20040615,1826, 22.7500,-158.0005, 4720,     64,     62.5,  24.4469,  34.9841,2,  34.9906,2,    215.3,2, 24.4336,    214.9,2,     2.49,4,     0.00,2,     0.09,2,  -999.0,-999.000
     33KI160_1,  PRS2,     2,  3,     22,     22,3,20040615,1826, 22.7500,-158.0005, 4720,    113,    111.4,  23.1688,  35.2659,2,  35.2643,2,    209.6,2, 23.1459,    209.3,2,     3.07,4,     0.02,2,     0.08,2,  -999.0,-999.000
     33KI160_1,  PRS2,     2,  3,     21,     21,3,20040615,1826, 22.7500,-158.0005, 4720,    147,    146.9,  21.5375,  35.3029,2,  35.2954,2,    202.3,2, 21.5088,    206.6,2,     3.92,4,     0.64,2,     0.12,2,  -999.0,-999.000
     33KI160_1,  PRS2,     2,  3,     20,     20,2,20040615,1826, 22.7500,-158.0005, 4720,    206,    205.3,  18.8564,  34.9601,2,  34.9599,2,    189.5,2, 18.8200,    191.6,2,     2.72,2,     3.25,2,     0.33,2,  -999.0,-999.000
     33KI160_1,  PRS2,     2,  3,     19,     19,2,20040615,1826, 22.7500,-158.0005, 4720,    262,    261.1,  15.3639,  34.5130,2,  34.4917,3,    208.9,3, 15.3238,    208.2,2,     8.05,2,     5.40,2,     0.48,2,  -999.0,-999.000
     33KI160_1,  PRS2,     2,  3,     18,     18,2,20040615,1826, 22.7500,-158.0005, 4720,    298,    297.4,  13.0231,  34.2871,2,  34.2880,2,    211.2,2, 12.9823,    210.4,2,     8.78,2,     8.75,2,     0.70,2,  -999.0,-999.000
     33KI160_1,  PRS2,     2,  3,     17,     17,2,20040615,1826, 22.7500,-158.0005, 4720,    334,    332.1,  11.6856,  34.2270,2,  34.2319,2,    208.2,2, 11.6431,    207.2,2,    14.35,2,    12.00,2,     0.93,2,  -999.0,-999.000
     33KI160_1,  PRS2,     2,  3,     16,     16,2,20040615,1826, 22.7500,-158.0005, 4720,    380,    378.9,  10.5079,  34.1786,2,  34.1846,2,    192.1,2, 10.4626,    189.2,2,    19.43,2,    16.27,2,     1.21,2,  -999.0,-999.000
     33KI160_1,  PRS2,     2,  3,     15,    102,2,20040615,1826, 22.7500,-158.0005, 4720,    422,    421.3,   9.0909,  34.1186,2,  34.1187,2,    159.9,2,  9.0448,    162.6,2,    29.09,2,    21.48,2,     1.57,2,  -999.0,-999.000
     33KI160_1,  PRS2,     2,  3,     14,    101,2,20040615,1826, 22.7500,-158.0005, 4720,    459,    458.7,   8.4310,  34.0832,2,  34.0854,2,    155.1,2,  8.3829,    152.9,2,    34.41,2,    23.67,2,     1.72,2,  -999.0,-999.000
     33KI160_1,  PRS2,     2,  3,     13,     42,2,20040615,1826, 22.7500,-158.0005, 4720,    495,    494.5,   7.4750,  34.0679,2,  34.0682,2,    122.9,2,  7.4266,    123.4,2,    38.77,2,    28.17,2,     2.08,2,  -999.0,-999.000
     33KI160_1,  PRS2,     2,  3,     12,     12,2,20040615,1826, 22.7500,-158.0005, 4720,    531,    529.4,   6.8322,  34.0677,2,  34.0680,2,    101.2,2,  6.7828,    101.8,2,    49.50,2,    31.12,2,     2.29,2,  -999.0,-999.000
     33KI160_1,  PRS2,     2,  3,     11,     39,2,20040615,1826, 22.7500,-158.0005, 4720,    581,    580.6,   6.2355,  34.0999,2,  34.0978,2,     75.7,2,  6.1838,     76.1,2,    61.62,2,    34.45,2,     2.56,2,  -999.0,-999.000
     33KI160_1,  PRS2,     2,  3,     10,     32,2,20040615,1826, 22.7500,-158.0005, 4720,    633,    631.9,   5.7107,  34.1456,2,  34.1460,2,     55.9,2,  5.6567,     56.8,2,    72.86,2,    37.10,2,     2.74,2,  -999.0,-999.000
     33KI160_1,  PRS2,     2,  3,      9,      3,2,20040615,1826, 22.7500,-158.0005, 4720,    699,    697.6,   5.2698,  34.2359,2,  34.2358,2,     40.4,2,  5.2121,     38.9,2,    76.25,4,    39.33,2,     2.90,2,  -999.0,-999.000
     33KI160_1,  PRS2,     2,  3,      8,     29,2,20040615,1826, 22.7500,-158.0005, 4720,    737,    737.0,   5.0068,  34.2679,2,  34.2685,2,     35.5,2,  4.9470,     35.2,2,    76.49,4,    40.12,2,     2.95,2,  -999.0,-999.000
     33KI160_1,  PRS2,     2,  3,      7,     28,2,20040615,1826, 22.7500,-158.0005, 4720,    777,    776.8,   4.8617,  34.3054,2,  34.3062,2,     35.0,2,  4.7994,     34.1,2,    74.09,4,    40.57,2,     2.99,2,  -999.0,-999.000
     33KI160_1,  PRS2,     2,  3,      6,     13,2,20040615,1826, 22.7500,-158.0005, 4720,    821,    818.9,   4.6356,  34.3550,2,  34.3545,2,     33.4,2,  4.5709,     33.4,2,    89.55,4,    40.93,2,     3.03,2,  -999.0,-999.000
     33KI160_1,  PRS2,     2,  3,      5,     38,2,20040615,1826, 22.7500,-158.0005, 4720,    861,    859.2,   4.5444,  34.3971,2,  34.3994,2,     36.6,2,  4.4768,     36.1,2,    83.27,4,    40.96,2,     3.02,2,  -999.0,-999.000
     33KI160_1,  PRS2,     2,  3,      4,     36,2,20040615,1826, 22.7500,-158.0005, 4720,    900,    898.7,   4.4078,  34.4265,2,  34.4308,2,     38.6,2,  4.3378,     37.8,2,    84.25,4,    41.23,2,     3.02,2,  -999.0,-999.000
     33KI160_1,  PRS2,     2,  3,      3,     35,2,20040615,1826, 22.7500,-158.0005, 4720,    941,    939.3,   4.2802,  34.4433,2,  34.4426,2,     38.2,2,  4.2076,     38.3,2,    72.66,4,    41.25,2,     3.01,2,  -999.0,-999.000
     33KI160_1,  PRS2,     2,  3,      2,     34,2,20040615,1826, 22.7500,-158.0005, 4720,    979,    978.3,   4.1637,  34.4573,2,  34.4599,2,     42.7,2,  4.0886,     41.9,2,    70.25,4,    41.19,2,     2.99,2,  -999.0,-999.000
     33KI160_1,  PRS2,     2,  3,      1,     33,2,20040615,1826, 22.7500,-158.0005, 4720,   1022,   1021.0,   4.0337,  34.4681,2,  34.4687,2,     43.4,2,  3.9561,     43.0,2,    66.39,4,    41.11,2,     2.98,2,  -999.0,-999.000
     33KI160_1,  PRS2,     2,  4,     14,    101,2,20040615,2057, 22.7487,-158.0015, 4729,      5,      4.3,  25.8764,  34.7340,2,  34.7368,2,    208.1,1, 25.8754,   -999.0,9,  -999.00,9,  -999.00,9,  -999.00,9,  -999.0,-999.000
     33KI160_1,  PRS2,     2,  4,     13,     42,2,20040615,2057, 22.7487,-158.0015, 4729,     25,     23.7,  25.6565,  34.7335,2,  34.7345,2,    208.0,1, 25.6513,   -999.0,9,  -999.00,9,  -999.00,9,  -999.00,9,  -999.0,-999.000
     33KI160_1,  PRS2,     2,  4,     12,     12,3,20040615,2057, 22.7487,-158.0015, 4729,     45,     43.8,  25.5050,  34.7392,2,  34.7394,2,    209.0,1, 25.4954,   -999.0,9,  -999.00,9,  -999.00,9,  -999.00,9,  -999.0,-999.000
     33KI160_1,  PRS2,     2,  4,     11,     39,2,20040615,2057, 22.7487,-158.0015, 4729,     59,     58.7,  24.8703,  34.9215,2,  34.9195,2,    215.8,1, 24.8577,   -999.0,9,  -999.00,9,  -999.00,9,  -999.00,9,  -999.0,-999.000
     33KI160_1,  PRS2,     2,  4,     10,     32,3,20040615,2057, 22.7487,-158.0015, 4729,     75,     74.3,  24.1930,  35.0396,2,  35.0309,2,    214.3,1, 24.1773,   -999.0,9,  -999.00,9,  -999.00,9,  -999.00,9,  -999.0,-999.000
     33KI160_1,  PRS2,     2,  4,      9,      3,2,20040615,2057, 22.7487,-158.0015, 4729,     86,     84.8,  24.0716,  35.0645,2,  35.0659,2,    214.0,1, 24.0537,   -999.0,9,  -999.00,9,  -999.00,9,  -999.00,9,  -999.0,-999.000
     33KI160_1,  PRS2,     2,  4,      8,     29,2,20040615,2057, 22.7487,-158.0015, 4729,    102,    100.0,  23.6949,  35.1346,2,  35.1388,2,    210.6,1, 23.6741,   -999.0,9,  -999.00,9,  -999.00,9,  -999.00,9,  -999.0,-999.000
     33KI160_1,  PRS2,     2,  4,      7,     28,2,20040615,2057, 22.7487,-158.0015, 4729,    116,    114.7,  23.1822,  35.2642,2,  35.2635,2,    210.0,1, 23.1586,   -999.0,9,  -999.00,9,  -999.00,9,  -999.00,9,  -999.0,-999.000
     33KI160_1,  PRS2,     2,  4,      6,     13,2,20040615,2057, 22.7487,-158.0015, 4729,    126,    124.6,  23.0019,  35.2772,2,  35.2783,2,    206.2,1, 22.9764,   -999.0,9,  -999.00,9,  -999.00,9,  -999.00,9,  -999.0,-999.000
     33KI160_1,  PRS2,     2,  4,      5,     38,2,20040615,2057, 22.7487,-158.0015, 4729,    151,    149.6,  21.5705,  35.2526,2,  35.2658,2,    197.0,1, 21.5412,   -999.0,9,  -999.00,9,  -999.00,9,  -999.00,9,  -999.0,-999.000
     33KI160_1,  PRS2,     2,  4,      4,     36,2,20040615,2057, 22.7487,-158.0015, 4729,    176,    174.3,  21.3394,  35.3439,2,  35.3291,2,    214.3,1, 21.3056,   -999.0,9,  -999.00,9,  -999.00,9,  -999.00,9,  -999.0,-999.000
     33KI160_1,  PRS2,     2,  4,      3,     35,2,20040615,2057, 22.7487,-158.0015, 4729,    201,    199.2,  19.4700,  35.0300,2,  35.0311,2,    178.8,1, 19.4338,   -999.0,9,  -999.00,9,  -999.00,9,  -999.00,9,  -999.0,-999.000
     33KI160_1,  PRS2,     2,  4,      2,     34,2,20040615,2057, 22.7487,-158.0015, 4729,    500,    498.8,   7.4619,  34.0677,2,  34.0680,2,    121.7,1,  7.4132,   -999.0,9,  -999.00,9,  -999.00,9,  -999.00,9,  -999.0,-999.000
     33KI160_1,  PRS2,     2,  4,      1,     33,2,20040615,2057, 22.7487,-158.0015, 4729,   1022,   1021.5,   3.9618,  34.4796,2,  34.4791,2,     44.9,1,  3.8847,   -999.0,9,  -999.00,9,  -999.00,9,  -999.00,9,  -999.0,-999.000
     33KI160_1,  PRS2,     2,  5,     14,    101,2,20040615,2356, 22.7492,-158.0017, 4729,      4,      3.7,  25.9236,  34.7351,2,  34.7341,2,    207.8,1, 25.9228,   -999.0,9,  -999.00,9,  -999.00,9,  -999.00,9,  -999.0,-999.000
     33KI160_1,  PRS2,     2,  5,     13,     42,2,20040615,2356, 22.7492,-158.0017, 4729,     25,     23.9,  25.6658,  34.7348,2,  34.7378,2,    208.0,1, 25.6605,   -999.0,9,  -999.00,9,  -999.00,9,  -999.00,9,  -999.0,-999.000
     33KI160_1,  PRS2,     2,  5,     12,     12,3,20040615,2356, 22.7492,-158.0017, 4729,     45,     44.0,  25.5331,  34.7390,2,  34.7427,2,    209.6,1, 25.5234,   -999.0,9,  -999.00,9,  -999.00,9,  -999.00,9,  -999.0,-999.000
     33KI160_1,  PRS2,     2,  5,     11,     39,2,20040615,2356, 22.7492,-158.0017, 4729,     75,     74.7,  24.3340,  35.0084,2,  35.0037,2,    214.8,1, 24.3181,   -999.0,9,  -999.00,9,  -999.00,9,  -999.00,9,  -999.0,-999.000
     33KI160_1,  PRS2,     2,  5,     10,     32,3,20040615,2356, 22.7492,-158.0017, 4729,     99,     98.4,  23.5417,  35.1741,2,  35.1758,2,    208.7,1, 23.5212,   -999.0,9,  -999.00,9,  -999.00,9,  -999.00,9,  -999.0,-999.000
     33KI160_1,  PRS2,     2,  5,      9,      3,2,20040615,2356, 22.7492,-158.0017, 4729,    124,    123.7,  23.0334,  35.2768,2,  35.2997,4,    207.0,1, 23.0081,   -999.0,9,  -999.00,9,  -999.00,9,  -999.00,9,  -999.0,-999.000
     33KI160_1,  PRS2,     2,  5,      8,     29,2,20040615,2356, 22.7492,-158.0017, 4729,    149,    148.5,  22.2676,  35.2908,2,  35.3011,2,    197.5,1, 22.2379,   -999.0,9,  -999.00,9,  -999.00,9,  -999.00,9,  -999.0,-999.000
     33KI160_1,  PRS2,     2,  5,      7,     28,2,20040615,2356, 22.7492,-158.0017, 4729,    172,    171.4,  21.4348,  35.3332,2,  35.3291,2,    208.5,1, 21.4015,   -999.0,9,  -999.00,9,  -999.00,9,  -999.00,9,  -999.0,-999.000
     33KI160_1,  PRS2,     2,  5,      6,     13,2,20040615,2356, 22.7492,-158.0017, 4729,    199,    198.4,  19.9627,  35.1049,2,  35.0943,2,    188.2,1, 19.9260,   -999.0,9,  -999.00,9,  -999.00,9,  -999.00,9,  -999.0,-999.000
     33KI160_1,  PRS2,     2,  5,      5,     38,2,20040615,2356, 22.7492,-158.0017, 4729,    250,    249.2,  17.3791,  34.7769,2,  34.7791,2,    200.1,1, 17.3373,   -999.0,9,  -999.00,9,  -999.00,9,  -999.00,9,  -999.0,-999.000
     33KI160_1,  PRS2,     2,  5,      3,     35,2,20040615,2356, 22.7492,-158.0017, 4729,    349,    348.3,  12.2186,  34.2271,2,  34.2289,2,    211.4,1, 12.1727,   -999.0,9,  -999.00,9,  -999.00,9,  -999.00,9,  -999.0,-999.000
     33KI160_1,  PRS2,     2,  5,      4,     36,2,20040615,2356, 22.7492,-158.0017, 4729,    349,    348.4,  12.3481,  34.2355,2,  34.2377,2,    211.5,1, 12.3019,   -999.0,9,  -999.00,9,  -999.00,9,  -999.00,9,  -999.0,-999.000
     33KI160_1,  PRS2,     2,  5,      2,     34,2,20040615,2356, 22.7492,-158.0017, 4729,    498,    497.7,   8.1141,  34.0991,2,  34.1003,2,    132.4,1,  8.0630,   -999.0,9,  -999.00,9,  -999.00,9,  -999.00,9,  -999.0,-999.000
     33KI160_1,  PRS2,     2,  5,      1,     33,2,20040615,2356, 22.7492,-158.0017, 4729,   1021,   1020.1,   3.9548,  34.4771,2,  34.4695,3,     45.5,1,  3.8779,   -999.0,9,  -999.00,9,  -999.00,9,  -999.00,9,  -999.0,-999.000
     33KI160_1,  PRS2,     2,  6,     14,    101,2,20040616,0252, 22.7478,-157.9977, 4722,      5,      4.1,  25.8649,  34.7336,2,  34.7433,2,    207.4,1, 25.8640,   -999.0,9,  -999.00,9,  -999.00,9,  -999.00,9,  -999.0,-999.000
     33KI160_1,  PRS2,     2,  6,     13,     42,2,20040616,0252, 22.7478,-157.9977, 4722,     25,     24.5,  25.6396,  34.7373,2,  34.7364,2,    208.5,1, 25.6342,   -999.0,9,  -999.00,9,  -999.00,9,  -999.00,9,  -999.0,-999.000
     33KI160_1,  PRS2,     2,  6,     12,     12,2,20040616,0252, 22.7478,-157.9977, 4722,     44,     43.5,  25.5555,  34.7452,2,  34.7508,2,    209.3,1, 25.5460,   -999.0,9,  -999.00,9,  -999.00,9,  -999.00,9,  -999.0,-999.000
     33KI160_1,  PRS2,     2,  6,     11,     39,2,20040616,0252, 22.7478,-157.9977, 4722,     75,     73.7,  24.2084,  35.0345,2,  35.0305,2,    214.1,1, 24.1928,   -999.0,9,  -999.00,9,  -999.00,9,  -999.00,9,  -999.0,-999.000
     33KI160_1,  PRS2,     2,  6,     10,     32,3,20040616,0252, 22.7478,-157.9977, 4722,    100,     99.1,  23.3758,  35.2316,2,  35.2239,2,    210.9,1, 23.3553,   -999.0,9,  -999.00,9,  -999.00,9,  -999.00,9,  -999.0,-999.000
     33KI160_1,  PRS2,     2,  6,      9,      3,2,20040616,0252, 22.7478,-157.9977, 4722,    125,    123.9,  22.9592,  35.2797,2,  35.2792,2,    205.9,1, 22.9339,   -999.0,9,  -999.00,9,  -999.00,9,  -999.00,9,  -999.0,-999.000
     33KI160_1,  PRS2,     2,  6,      8,     29,2,20040616,0252, 22.7478,-157.9977, 4722,    150,    149.2,  22.0914,  35.2850,2,  35.2911,2,    198.1,1, 22.0618,   -999.0,9,  -999.00,9,  -999.00,9,  -999.00,9,  -999.0,-999.000
     33KI160_1,  PRS2,     2,  6,      7,     28,2,20040616,0252, 22.7478,-157.9977, 4722,    175,    174.3,  21.3971,  35.2490,2,  35.2572,2,    196.3,1, 21.3632,   -999.0,9,  -999.00,9,  -999.00,9,  -999.00,9,  -999.0,-999.000
     33KI160_1,  PRS2,     2,  6,      6,     13,2,20040616,0252, 22.7478,-157.9977, 4722,    200,    199.0,  20.2884,  35.1738,2,  35.1640,2,    201.3,1, 20.2512,   -999.0,9,  -999.00,9,  -999.00,9,  -999.00,9,  -999.0,-999.000
     33KI160_1,  PRS2,     2,  6,      5,     38,2,20040616,0252, 22.7478,-157.9977, 4722,    251,    249.9,  17.1081,  34.7376,2,  34.7368,2,    203.1,1, 17.0667,   -999.0,9,  -999.00,9,  -999.00,9,  -999.00,9,  -999.0,-999.000
     33KI160_1,  PRS2,     2,  6,      3,     35,2,20040616,0252, 22.7478,-157.9977, 4722,    351,    349.9,  11.8579,  34.2130,2,  34.2146,2,    211.5,1, 11.8126,   -999.0,9,  -999.00,9,  -999.00,9,  -999.00,9,  -999.0,-999.000
     33KI160_1,  PRS2,     2,  6,      4,     36,2,20040616,0252, 22.7478,-157.9977, 4722,    351,    350.2,  11.8510,  34.2124,2,  34.2130,2,    211.5,1, 11.8058,   -999.0,9,  -999.00,9,  -999.00,9,  -999.00,9,  -999.0,-999.000
     33KI160_1,  PRS2,     2,  6,      2,     34,2,20040616,0252, 22.7478,-157.9977, 4722,    525,    523.4,   7.2288,  34.0666,2,  34.0662,2,    115.7,1,  7.1785,   -999.0,9,  -999.00,9,  -999.00,9,  -999.00,9,  -999.0,-999.000
     33KI160_1,  PRS2,     2,  6,      1,     33,2,20040616,0252, 22.7478,-157.9977, 4722,   1021,   1020.1,   4.0012,  34.4722,2,  34.4742,2,     44.5,1,  3.9239,   -999.0,9,  -999.00,9,  -999.00,9,  -999.00,9,  -999.0,-999.000
     33KI160_1,  PRS2,     2,  7,     14,    101,2,20040616,0552, 22.7488,-158.0008, 4721,      5,      4.3,  25.9522,  34.7401,2,  34.7398,2,    207.0,1, 25.9513,   -999.0,9,  -999.00,9,  -999.00,9,  -999.00,9,  -999.0,-999.000
     33KI160_1,  PRS2,     2,  7,     13,     42,2,20040616,0552, 22.7488,-158.0008, 4721,     15,     14.3,  25.7416,  34.7358,2,  34.7353,2,    207.3,1, 25.7384,   -999.0,9,  -999.00,9,  -999.00,9,  -999.00,9,  -999.0,-999.000
     33KI160_1,  PRS2,     2,  7,     12,     12,2,20040616,0552, 22.7488,-158.0008, 4721,     26,     24.4,  25.6763,  34.7392,2,  34.7378,2,    208.7,1, 25.6709,   -999.0,9,  -999.00,9,  -999.00,9,  -999.00,9,  -999.0,-999.000
     33KI160_1,  PRS2,     2,  7,     11,     39,2,20040616,0552, 22.7488,-158.0008, 4721,     35,     34.3,  25.6248,  34.7403,2,  34.7532,3,    209.0,1, 25.6172,   -999.0,9,  -999.00,9,  -999.00,9,  -999.00,9,  -999.0,-999.000
     33KI160_1,  PRS2,     2,  7,     10,     32,3,20040616,0552, 22.7488,-158.0008, 4721,     35,     34.5,  25.6236,  34.7400,2,  34.7394,2,    209.0,1, 25.6159,   -999.0,9,  -999.00,9,  -999.00,9,  -999.00,9,  -999.0,-999.000
     33KI160_1,  PRS2,     2,  7,      9,      3,2,20040616,0552, 22.7488,-158.0008, 4721,     45,     44.2,  25.5587,  34.7414,2,  34.7390,2,    209.2,1, 25.5490,   -999.0,9,  -999.00,9,  -999.00,9,  -999.00,9,  -999.0,-999.000
     33KI160_1,  PRS2,     2,  7,      8,     29,2,20040616,0552, 22.7488,-158.0008, 4721,     60,     59.4,  25.1390,  34.8386,2,  34.7789,3,    213.3,1, 25.1261,   -999.0,9,  -999.00,9,  -999.00,9,  -999.00,9,  -999.0,-999.000
     33KI160_1,  PRS2,     2,  7,      7,     28,2,20040616,0552, 22.7488,-158.0008, 4721,     75,     74.5,  24.1892,  35.0398,2,  35.0368,2,    213.7,1, 24.1734,   -999.0,9,  -999.00,9,  -999.00,9,  -999.00,9,  -999.0,-999.000
     33KI160_1,  PRS2,     2,  7,      6,     13,2,20040616,0552, 22.7488,-158.0008, 4721,     99,     98.4,  23.4722,  35.2082,2,  35.2030,2,    210.1,1, 23.4518,   -999.0,9,  -999.00,9,  -999.00,9,  -999.00,9,  -999.0,-999.000
     33KI160_1,  PRS2,     2,  7,      5,     38,3,20040616,0552, 22.7488,-158.0008, 4721,    126,    125.3,  22.9367,  35.2835,2,  35.2668,4,    206.4,1, 22.9111,   -999.0,9,  -999.00,9,  -999.00,9,  -999.00,9,  -999.0,-999.000
     33KI160_1,  PRS2,     2,  7,      4,     36,3,20040616,0552, 22.7488,-158.0008, 4721,    151,    149.8,  22.0020,  35.3012,2,  35.2999,2,    202.1,1, 21.9723,   -999.0,9,  -999.00,9,  -999.00,9,  -999.00,9,  -999.0,-999.000
     33KI160_1,  PRS2,     2,  7,      3,     35,2,20040616,0552, 22.7488,-158.0008, 4721,    177,    176.2,  21.5401,  35.3630,2,  35.3530,2,    207.6,1, 21.5057,   -999.0,9,  -999.00,9,  -999.00,9,  -999.00,9,  -999.0,-999.000
     33KI160_1,  PRS2,     2,  7,      2,     34,2,20040616,0552, 22.7488,-158.0008, 4721,    520,    519.4,   7.2053,  34.0669,2,  34.0676,2,    112.9,1,  7.1555,   -999.0,9,  -999.00,9,  -999.00,9,  -999.00,9,  -999.0,-999.000
     33KI160_1,  PRS2,     2,  7,      1,     33,4,20040616,0552, 22.7488,-158.0008, 4721,   1021,   1020.1,   3.9832,  34.4774,2,-999.0000,5,     44.8,1,  3.9061,   -999.0,9,  -999.00,9,  -999.00,9,  -999.00,9,  -999.0,-999.000