BOTTLE,20090923WHPSIOMYS
EXPOCODE,SECT_ID,STNNBR,CASTNO,SAMPNO,BTLNBR,BTLNBR_FLAG_W,DATE,TIME,LATITUDE,LONGITUDE,DEPTH,CTDRAW,CTDPRS,CTDTMP,CTDSAL,CTDSAL_FLAG_W,SALNTY,SALNTY_FLAG_W,CTDOXY,CTDOXY_FLAG_W,THETA,OXYGEN,OXYGEN_FLAG_W,SILCAT,SILCAT_FLAG_W,NO2+NO3,NO2+NO3_FLAG_W,PHSPHT,PHSPHT_FLAG_W,REVPRS,REVTMP
,,,,,,,,,,,,,DBAR,ITS-90,PSS-78,,PSS-78,,UMOL/KG,,ITS-90,UMOL/KG,,UMOL/KG,,UMOL/KG,,UMOL/KG,,DBAR,DEG C
     33KI160_1,  PRS2,     2,  8,     20,     20,2,20040616,0853, 22.7515,-157.9940, 4722,      5,      3.8,  25.8565,  34.7494,2,  34.7488,2,    206.7,2, 25.8557,   -999.0,5,  -999.00,9,  -999.00,9,  -999.00,9,  -999.0,-999.000
     33KI160_1,  PRS2,     2,  8,     19,     19,3,20040616,0853, 22.7515,-157.9940, 4722,      4,      3.8,  25.8547,  34.7492,2,  34.7533,2,    206.7,2, 25.8538,    207.6,2,  -999.00,9,  -999.00,9,  -999.00,9,  -999.0,-999.000
     33KI160_1,  PRS2,     2,  8,     18,     18,3,20040616,0853, 22.7515,-157.9940, 4722,     14,     13.6,  25.8201,  34.7482,2,  34.7476,2,    207.6,2, 25.8171,   -999.0,5,  -999.00,9,  -999.00,9,  -999.00,9,  -999.0,-999.000
     33KI160_1,  PRS2,     2,  8,     17,     17,3,20040616,0853, 22.7515,-157.9940, 4722,     25,     24.0,  25.6266,  34.7434,2,  34.7471,2,    208.1,2, 25.6213,   -999.0,5,  -999.00,9,  -999.00,9,  -999.00,9,  -999.0,-999.000
     33KI160_1,  PRS2,     2,  8,     16,     16,3,20040616,0853, 22.7515,-157.9940, 4722,     25,     24.0,  25.6246,  34.7433,2,  34.7435,2,    208.0,2, 25.6193,    208.2,2,  -999.00,9,  -999.00,9,  -999.00,9,  -999.0,-999.000
     33KI160_1,  PRS2,     2,  8,     15,    102,3,20040616,0853, 22.7515,-157.9940, 4722,     33,     32.9,  25.6025,  34.7426,2,  34.7455,2,    207.9,2, 25.5952,   -999.0,5,  -999.00,9,  -999.00,9,  -999.00,9,  -999.0,-999.000
     33KI160_1,  PRS2,     2,  8,     14,    101,2,20040616,0853, 22.7515,-157.9940, 4722,     45,     44.6,  25.5652,  34.7418,2,  34.7418,2,    208.1,2, 25.5553,    208.5,2,  -999.00,9,  -999.00,9,  -999.00,9,  -999.0,-999.000
     33KI160_1,  PRS2,     2,  8,     13,     42,2,20040616,0853, 22.7515,-157.9940, 4722,     60,     59.4,  24.7188,  34.9502,2,  34.9553,2,    218.1,2, 24.7061,   -999.0,5,  -999.00,9,  -999.00,9,  -999.00,9,  -999.0,-999.000
     33KI160_1,  PRS2,     2,  8,     12,     12,3,20040616,0853, 22.7515,-157.9940, 4722,     75,     74.0,  24.0567,  35.0583,2,  35.0711,2,    213.0,2, 24.0411,    213.2,2,  -999.00,9,  -999.00,9,  -999.00,9,  -999.0,-999.000
     33KI160_1,  PRS2,     2,  8,     11,     39,2,20040616,0853, 22.7515,-157.9940, 4722,     85,     83.6,  23.6995,  35.1308,2,  35.1394,2,    210.0,2, 23.6821,    210.6,2,  -999.00,9,  -999.00,9,  -999.00,9,  -999.0,-999.000
     33KI160_1,  PRS2,     2,  8,     10,     32,3,20040616,0853, 22.7515,-157.9940, 4722,    100,     99.0,  23.3731,  35.2349,2,  35.2643,3,    211.9,3, 23.3527,    210.6,2,  -999.00,9,  -999.00,9,  -999.00,9,  -999.0,-999.000
     33KI160_1,  PRS2,     2,  8,      9,      3,2,20040616,0853, 22.7515,-157.9940, 4722,    115,    114.2,  23.0505,  35.2765,2,  35.2808,2,    207.2,2, 23.0271,    208.0,2,  -999.00,9,  -999.00,9,  -999.00,9,  -999.0,-999.000
     33KI160_1,  PRS2,     2,  8,      8,     29,2,20040616,0853, 22.7515,-157.9940, 4722,    124,    123.0,  22.8058,  35.2885,2,  35.3122,4,    203.5,3, 22.7809,    205.3,2,  -999.00,9,  -999.00,9,  -999.00,9,  -999.0,-999.000
     33KI160_1,  PRS2,     2,  8,      7,     28,2,20040616,0853, 22.7515,-157.9940, 4722,    151,    149.2,  22.3312,  35.2942,2,  35.2936,2,    199.7,2, 22.3013,    201.3,2,  -999.00,9,  -999.00,9,  -999.00,9,  -999.0,-999.000
     33KI160_1,  PRS2,     2,  8,      6,     13,2,20040616,0853, 22.7515,-157.9940, 4722,    164,    163.9,  21.6652,  35.2725,2,  35.2855,2,    196.4,2, 21.6331,    199.3,2,  -999.00,9,  -999.00,9,  -999.00,9,  -999.0,-999.000
     33KI160_1,  PRS2,     2,  8,      5,     38,3,20040616,0853, 22.7515,-157.9940, 4722,    175,    173.7,  21.3215,  35.2906,2,  35.2871,2,    207.1,2, 21.2879,    205.7,2,  -999.00,9,  -999.00,9,  -999.00,9,  -999.0,-999.000
     33KI160_1,  PRS2,     2,  8,      4,     36,2,20040616,0853, 22.7515,-157.9940, 4722,    199,    198.5,  19.3463,  35.0176,2,  35.0177,2,    179.9,2, 19.3104,    190.6,2,  -999.00,9,  -999.00,9,  -999.00,9,  -999.0,-999.000
     33KI160_1,  PRS2,     2,  8,      3,     35,2,20040616,0853, 22.7515,-157.9940, 4722,    520,    519.1,   7.0121,  34.0652,2,  34.0658,2,    107.8,2,  6.9630,    106.5,2,  -999.00,9,  -999.00,9,  -999.00,9,  -999.0,-999.000
     33KI160_1,  PRS2,     2,  8,      2,     34,2,20040616,0853, 22.7515,-157.9940, 4722,    850,    849.2,   4.5919,  34.3905,2,  34.3951,2,     35.8,2,  4.5249,     35.8,2,  -999.00,9,  -999.00,9,  -999.00,9,  -999.0,-999.000
     33KI160_1,  PRS2,     2,  8,      1,     33,2,20040616,0853, 22.7515,-157.9940, 4722,   1023,   1021.5,   3.9615,  34.4789,2,  34.4805,2,     45.0,2,  3.8843,     45.1,2,  -999.00,9,  -999.00,9,  -999.00,9,  -999.0,-999.000
     33KI160_1,  PRS2,     2,  9,     20,     20,3,20040616,1153, 22.7495,-157.9998, 4729,      5,      3.9,  25.6729,  34.7125,2,  34.7127,2,    205.6,1, 25.6720,   -999.0,9,  -999.00,9,  -999.00,9,  -999.00,9,  -999.0,-999.000
     33KI160_1,  PRS2,     2,  9,     22,     22,3,20040616,1153, 22.7495,-157.9998, 4729,      4,      4.0,  25.6821,  34.7125,2,  34.7148,2,    205.9,1, 25.6813,   -999.0,9,  -999.00,9,  -999.00,9,  -999.00,9,  -999.0,-999.000
     33KI160_1,  PRS2,     2,  9,     21,     21,3,20040616,1153, 22.7495,-157.9998, 4729,      5,      4.0,  25.6733,  34.7124,2,  34.7136,2,    205.7,1, 25.6724,   -999.0,9,  -999.00,9,  -999.00,9,  -999.00,9,  -999.0,-999.000
     33KI160_1,  PRS2,     2,  9,     19,     19,3,20040616,1153, 22.7495,-157.9998, 4729,     25,     24.3,  25.6671,  34.7138,2,  34.7134,2,    205.7,1, 25.6617,   -999.0,9,  -999.00,9,  -999.00,9,  -999.00,9,  -999.0,-999.000
     33KI160_1,  PRS2,     2,  9,     18,     18,3,20040616,1153, 22.7495,-157.9998, 4729,     25,     24.3,  25.6669,  34.7139,2,  34.7142,2,    206.0,1, 25.6615,   -999.0,9,  -999.00,9,  -999.00,9,  -999.00,9,  -999.0,-999.000
     33KI160_1,  PRS2,     2,  9,     17,     17,3,20040616,1153, 22.7495,-157.9998, 4729,     25,     24.3,  25.6685,  34.7137,2,  34.7133,2,    206.4,1, 25.6631,   -999.0,9,  -999.00,9,  -999.00,9,  -999.00,9,  -999.0,-999.000
     33KI160_1,  PRS2,     2,  9,     16,     16,3,20040616,1153, 22.7495,-157.9998, 4729,     45,     44.2,  25.2553,  34.8112,2,  34.8041,2,    211.3,1, 25.2457,   -999.0,9,  -999.00,9,  -999.00,9,  -999.00,9,  -999.0,-999.000
     33KI160_1,  PRS2,     2,  9,     14,    101,2,20040616,1153, 22.7495,-157.9998, 4729,     45,     44.2,  25.2120,  34.8142,2,  34.8418,3,    212.6,1, 25.2023,   -999.0,9,  -999.00,9,  -999.00,9,  -999.00,9,  -999.0,-999.000
     33KI160_1,  PRS2,     2,  9,     15,    102,2,20040616,1153, 22.7495,-157.9998, 4729,     45,     44.3,  25.2400,  34.8121,2,  34.8393,3,    211.9,1, 25.2303,   -999.0,9,  -999.00,9,  -999.00,9,  -999.00,9,  -999.0,-999.000
     33KI160_1,  PRS2,     2,  9,     12,     12,3,20040616,1153, 22.7495,-157.9998, 4729,     75,     74.3,  23.8118,  35.1050,2,  35.0949,2,    210.5,1, 23.7962,   -999.0,9,  -999.00,9,  -999.00,9,  -999.00,9,  -999.0,-999.000
     33KI160_1,  PRS2,     2,  9,     11,     39,2,20040616,1153, 22.7495,-157.9998, 4729,     75,     74.3,  23.8120,  35.1048,2,  35.1004,2,    210.4,1, 23.7965,   -999.0,9,  -999.00,9,  -999.00,9,  -999.00,9,  -999.0,-999.000
     33KI160_1,  PRS2,     2,  9,     13,     42,2,20040616,1153, 22.7495,-157.9998, 4729,     75,     74.4,  23.8127,  35.1045,2,  35.1004,2,    210.5,1, 23.7971,   -999.0,9,  -999.00,9,  -999.00,9,  -999.00,9,  -999.0,-999.000
     33KI160_1,  PRS2,     2,  9,     10,     32,2,20040616,1153, 22.7495,-157.9998, 4729,    100,     99.5,  23.1942,  35.2611,2,  35.2532,2,    209.1,1, 23.1737,   -999.0,9,  -999.00,9,  -999.00,9,  -999.00,9,  -999.0,-999.000
     33KI160_1,  PRS2,     2,  9,      9,      3,2,20040616,1153, 22.7495,-157.9998, 4729,    100,     99.5,  23.1956,  35.2609,2,  35.2560,2,    209.0,1, 23.1751,   -999.0,9,  -999.00,9,  -999.00,9,  -999.00,9,  -999.0,-999.000
     33KI160_1,  PRS2,     2,  9,      8,     29,2,20040616,1153, 22.7495,-157.9998, 4729,    100,     99.6,  23.1971,  35.2606,2,  35.2550,2,    209.0,1, 23.1767,   -999.0,9,  -999.00,9,  -999.00,9,  -999.00,9,  -999.0,-999.000
     33KI160_1,  PRS2,     2,  9,      5,     38,3,20040616,1153, 22.7495,-157.9998, 4729,    125,    124.3,  22.7306,  35.2907,2,  35.2656,4,    199.7,1, 22.7054,   -999.0,9,  -999.00,9,  -999.00,9,  -999.00,9,  -999.0,-999.000
     33KI160_1,  PRS2,     2,  9,      7,     28,2,20040616,1153, 22.7495,-157.9998, 4729,    125,    124.4,  22.7349,  35.2903,2,  35.2816,2,    200.0,1, 22.7097,   -999.0,9,  -999.00,9,  -999.00,9,  -999.00,9,  -999.0,-999.000
     33KI160_1,  PRS2,     2,  9,      6,     13,3,20040616,1153, 22.7495,-157.9998, 4729,    125,    124.4,  22.7349,  35.2898,2,  35.2899,2,    199.8,1, 22.7097,   -999.0,9,  -999.00,9,  -999.00,9,  -999.00,9,  -999.0,-999.000
     33KI160_1,  PRS2,     2,  9,      4,     36,3,20040616,1153, 22.7495,-157.9998, 4729,    150,    149.2,  21.9992,  35.3030,2,  35.3021,2,    205.4,1, 21.9697,   -999.0,9,  -999.00,9,  -999.00,9,  -999.00,9,  -999.0,-999.000
     33KI160_1,  PRS2,     2,  9,      3,     35,2,20040616,1153, 22.7495,-157.9998, 4729,    175,    174.8,  21.2608,  35.3285,2,  35.3212,2,    208.4,1, 21.2269,   -999.0,9,  -999.00,9,  -999.00,9,  -999.00,9,  -999.0,-999.000
     33KI160_1,  PRS2,     2,  9,      2,     34,2,20040616,1153, 22.7495,-157.9998, 4729,    540,    539.7,   6.9142,  34.0656,2,  34.0666,2,    103.6,1,  6.8635,   -999.0,9,  -999.00,9,  -999.00,9,  -999.00,9,  -999.0,-999.000
     33KI160_1,  PRS2,     2,  9,      1,     33,2,20040616,1153, 22.7495,-157.9998, 4729,   1020,   1019.5,   3.9782,  34.4702,2,  34.4689,2,     44.2,1,  3.9011,   -999.0,9,  -999.00,9,  -999.00,9,  -999.00,9,  -999.0,-999.000
     33KI160_1,  PRS2,     2, 10,      4,     36,3,20040616,1455, 22.7495,-157.9998, 4727,      5,      4.2,  25.7657,  34.7200,2,  34.7193,2,    208.5,1, 25.7648,   -999.0,9,  -999.00,9,  -999.00,9,  -999.00,9,  -999.0,-999.000
     33KI160_1,  PRS2,     2, 10,      3,     35,2,20040616,1455, 22.7495,-157.9998, 4727,    141,    139.9,  22.2923,  35.2993,2,  35.2962,2,    200.7,1, 22.2644,   -999.0,9,  -999.00,9,  -999.00,9,  -999.00,9,  -999.0,-999.000
     33KI160_1,  PRS2,     2, 10,      2,     34,2,20040616,1455, 22.7495,-157.9998, 4727,    500,    499.8,   8.2327,  34.0761,2,  34.0770,2,    149.0,1,  8.1809,   -999.0,9,  -999.00,9,  -999.00,9,  -999.00,9,  -999.0,-999.000
     33KI160_1,  PRS2,     2, 10,      1,     33,2,20040616,1455, 22.7495,-157.9998, 4727,   1021,   1019.7,   3.9937,  34.4670,2,  34.4667,2,     43.9,1,  3.9165,   -999.0,9,  -999.00,9,  -999.00,9,  -999.00,9,  -999.0,-999.000
     33KI160_1,  PRS2,     2, 11,     10,     32,3,20040616,1759, 22.7400,-158.0195, 4725,      5,      4.1,  25.7745,  34.7275,2,  34.7266,2,    208.0,1, 25.7736,   -999.0,9,  -999.00,9,  -999.00,9,  -999.00,9,  -999.0,-999.000
     33KI160_1,  PRS2,     2, 11,      9,      3,2,20040616,1759, 22.7400,-158.0195, 4725,     25,     24.4,  25.6719,  34.7063,2,  34.7054,2,    207.5,1, 25.6665,   -999.0,9,  -999.00,9,  -999.00,9,  -999.00,9,  -999.0,-999.000
     33KI160_1,  PRS2,     2, 11,      8,     29,2,20040616,1759, 22.7400,-158.0195, 4725,     45,     44.1,  25.1838,  34.8164,2,  34.8216,2,    213.5,1, 25.1742,   -999.0,9,  -999.00,9,  -999.00,9,  -999.00,9,  -999.0,-999.000
     33KI160_1,  PRS2,     2, 11,      7,     28,2,20040616,1759, 22.7400,-158.0195, 4725,     75,     74.0,  24.3333,  35.0196,2,  35.0199,2,    213.9,1, 24.3176,   -999.0,9,  -999.00,9,  -999.00,9,  -999.00,9,  -999.0,-999.000
     33KI160_1,  PRS2,     2, 11,      6,     13,2,20040616,1759, 22.7400,-158.0195, 4725,    100,     99.3,  23.6795,  35.1374,2,  35.1350,2,    209.2,1, 23.6588,   -999.0,9,  -999.00,9,  -999.00,9,  -999.00,9,  -999.0,-999.000
     33KI160_1,  PRS2,     2, 11,      5,     38,3,20040616,1759, 22.7400,-158.0195, 4725,    125,    124.4,  23.1017,  35.2720,2,-999.0000,5,    209.1,1, 23.0762,   -999.0,9,  -999.00,9,  -999.00,9,  -999.00,9,  -999.0,-999.000
     33KI160_1,  PRS2,     2, 11,      4,     36,2,20040616,1759, 22.7400,-158.0195, 4725,    150,    149.2,  22.4603,  35.2929,2,  35.2922,2,    197.9,1, 22.4303,   -999.0,9,  -999.00,9,  -999.00,9,  -999.00,9,  -999.0,-999.000
     33KI160_1,  PRS2,     2, 11,      3,     35,2,20040616,1759, 22.7400,-158.0195, 4725,    177,    176.4,  21.4147,  35.2553,2,  35.2513,2,    194.8,1, 21.3804,   -999.0,9,  -999.00,9,  -999.00,9,  -999.00,9,  -999.0,-999.000
     33KI160_1,  PRS2,     2, 11,      2,     34,2,20040616,1759, 22.7400,-158.0195, 4725,    501,    499.8,   7.4258,  34.0690,2,  34.0697,2,    118.8,1,  7.3770,   -999.0,9,  -999.00,9,  -999.00,9,  -999.00,9,  -999.0,-999.000
     33KI160_1,  PRS2,     2, 11,      1,     33,2,20040616,1759, 22.7400,-158.0195, 4725,   1020,   1019.0,   4.0969,  34.4815,2,  34.4813,2,     41.0,1,  4.0189,   -999.0,9,  -999.00,9,  -999.00,9,  -999.00,9,  -999.0,-999.000
     33KI160_1,  PRS2,     2, 12,      4,     36,2,20040616,2115, 22.7288,-158.0212, 4728,      5,      4.5,  25.9213,  34.7274,2,  34.7260,2,    207.7,1, 25.9203,   -999.0,9,  -999.00,9,  -999.00,9,  -999.00,9,  -999.0,-999.000
     33KI160_1,  PRS2,     2, 12,      3,     35,2,20040616,2115, 22.7288,-158.0212, 4728,    141,    140.0,  22.2025,  35.3054,2,  35.3033,2,    200.6,1, 22.1746,   -999.0,9,  -999.00,9,  -999.00,9,  -999.00,9,  -999.0,-999.000
     33KI160_1,  PRS2,     2, 12,      2,     34,2,20040616,2115, 22.7288,-158.0212, 4728,    501,    500.0,   7.2987,  34.0650,2,  34.0646,2,    117.8,1,  7.2504,   -999.0,9,  -999.00,9,  -999.00,9,  -999.00,9,  -999.0,-999.000
     33KI160_1,  PRS2,     2, 12,      1,     33,2,20040616,2115, 22.7288,-158.0212, 4728,   1021,   1021.0,   4.0026,  34.4936,2,  34.4868,3,     42.9,1,  3.9252,   -999.0,9,  -999.00,9,  -999.00,9,  -999.00,9,  -999.0,-999.000
     33KI160_1,  PRS2,     2, 13,     11,     39,2,20040616,2354, 22.7325,-158.0562, 4740,      4,      3.6,  25.9003,  34.6793,2,  34.6781,2,    208.1,1, 25.8995,   -999.0,9,  -999.00,9,  -999.00,9,  -999.00,9,  -999.0,-999.000
     33KI160_1,  PRS2,     2, 13,     10,     32,3,20040616,2354, 22.7325,-158.0562, 4740,     25,     23.9,  25.6742,  34.7076,2,  34.7068,2,    208.2,1, 25.6690,   -999.0,9,  -999.00,9,  -999.00,9,  -999.00,9,  -999.0,-999.000
     33KI160_1,  PRS2,     2, 13,      9,      3,2,20040616,2354, 22.7325,-158.0562, 4740,     45,     43.2,  25.6230,  34.7109,2,  34.7097,2,    208.5,1, 25.6134,   -999.0,9,  -999.00,9,  -999.00,9,  -999.00,9,  -999.0,-999.000
     33KI160_1,  PRS2,     2, 13,      8,     29,2,20040616,2354, 22.7325,-158.0562, 4740,     75,     73.8,  24.6083,  34.9644,2,  34.9614,2,    216.7,1, 24.5925,   -999.0,9,  -999.00,9,  -999.00,9,  -999.00,9,  -999.0,-999.000
     33KI160_1,  PRS2,     2, 13,      7,     28,2,20040616,2354, 22.7325,-158.0562, 4740,    100,     99.3,  23.7552,  35.1239,2,  35.1325,2,    209.9,1, 23.7345,   -999.0,9,  -999.00,9,  -999.00,9,  -999.00,9,  -999.0,-999.000
     33KI160_1,  PRS2,     2, 13,      6,     13,2,20040616,2354, 22.7325,-158.0562, 4740,    125,    124.0,  23.0841,  35.2735,2,  35.2720,2,    208.2,1, 23.0587,   -999.0,9,  -999.00,9,  -999.00,9,  -999.00,9,  -999.0,-999.000
     33KI160_1,  PRS2,     2, 13,      5,     38,2,20040616,2354, 22.7325,-158.0562, 4740,    150,    149.2,  22.4382,  35.2937,2,  35.2948,2,    200.0,1, 22.4082,   -999.0,9,  -999.00,9,  -999.00,9,  -999.00,9,  -999.0,-999.000
     33KI160_1,  PRS2,     2, 13,      4,     36,2,20040616,2354, 22.7325,-158.0562, 4740,    250,    248.7,  17.5578,  34.8057,2,  34.8066,2,    200.0,1, 17.5158,   -999.0,9,  -999.00,9,  -999.00,9,  -999.00,9,  -999.0,-999.000
     33KI160_1,  PRS2,     2, 13,      3,     35,2,20040616,2354, 22.7325,-158.0562, 4740,    350,    349.0,  12.0200,  34.2364,2,  34.2381,2,    199.4,1, 11.9745,   -999.0,9,  -999.00,9,  -999.00,9,  -999.00,9,  -999.0,-999.000
     33KI160_1,  PRS2,     2, 13,      2,     34,2,20040616,2354, 22.7325,-158.0562, 4740,    501,    499.5,   7.5384,  34.0686,2,  34.0684,2,    121.8,1,  7.4893,   -999.0,9,  -999.00,9,  -999.00,9,  -999.00,9,  -999.0,-999.000
     33KI160_1,  PRS2,     2, 13,      1,     33,2,20040616,2354, 22.7325,-158.0562, 4740,   1022,   1021.1,   4.0285,  34.4795,2,  34.4795,2,     45.4,1,  3.9509,   -999.0,9,  -999.00,9,  -999.00,9,  -999.00,9,  -999.0,-999.000
     33KI160_1,  PRS2,     2, 14,      9,      3,2,20040617,0255, 22.7247,-158.0767, 4742,      5,      4.3,  25.8683,  34.7109,2,-999.0000,5,    208.2,1, 25.8674,   -999.0,9,  -999.00,9,  -999.00,9,  -999.00,9,  -999.0,-999.000
     33KI160_1,  PRS2,     2, 14,      8,     29,2,20040617,0255, 22.7247,-158.0767, 4742,      5,      4.3,  25.8703,  34.7106,2,-999.0000,5,    208.0,1, 25.8694,   -999.0,9,  -999.00,9,  -999.00,9,  -999.00,9,  -999.0,-999.000
     33KI160_1,  PRS2,     2, 14,      7,     28,2,20040617,0255, 22.7247,-158.0767, 4742,      5,      4.3,  25.8693,  34.7110,2,-999.0000,5,    208.0,1, 25.8683,   -999.0,9,  -999.00,9,  -999.00,9,  -999.00,9,  -999.0,-999.000
     33KI160_1,  PRS2,     2, 14,      4,     36,2,20040617,0255, 22.7247,-158.0767, 4742,     45,     44.3,  25.5847,  34.7339,2,  34.7298,2,    209.3,1, 25.5749,   -999.0,9,  -999.00,9,  -999.00,9,  -999.00,9,  -999.0,-999.000
     33KI160_1,  PRS2,     2, 14,      6,     13,2,20040617,0255, 22.7247,-158.0767, 4742,     45,     44.4,  25.5889,  34.7333,2,  34.7304,2,    209.3,1, 25.5791,   -999.0,9,  -999.00,9,  -999.00,9,  -999.00,9,  -999.0,-999.000
     33KI160_1,  PRS2,     2, 14,      5,     38,2,20040617,0255, 22.7247,-158.0767, 4742,     45,     44.4,  25.5886,  34.7336,2,  34.7304,2,    209.3,1, 25.5789,   -999.0,9,  -999.00,9,  -999.00,9,  -999.00,9,  -999.0,-999.000
     33KI160_1,  PRS2,     2, 14,      3,     35,2,20040617,0255, 22.7247,-158.0767, 4742,    519,    518.3,   7.2582,  34.0657,2,  34.0656,2,    112.8,1,  7.2083,   -999.0,9,  -999.00,9,  -999.00,9,  -999.00,9,  -999.0,-999.000
     33KI160_1,  PRS2,     2, 14,      2,     34,2,20040617,0255, 22.7247,-158.0767, 4742,    799,    798.5,   4.8090,  34.3349,2,  34.3407,2,     32.9,1,  4.7450,   -999.0,9,  -999.00,9,  -999.00,9,  -999.00,9,  -999.0,-999.000
     33KI160_1,  PRS2,     2, 14,      1,     33,2,20040617,0255, 22.7247,-158.0767, 4742,   1021,   1019.6,   4.1491,  34.4828,2,  34.4818,2,     40.2,1,  4.0707,   -999.0,9,  -999.00,9,  -999.00,9,  -999.00,9,  -999.0,-999.000