BOTTLE,20090923WHPSIOMYS
#code : jjward hyd_to_exchange.pl 
#original files copied from HTML directory: 20090923
#original HYD file: 33KI160_1_hy.txt   Wed Sep 23 17:56:12 2009
#original SUM file: ../33KI160_1su.txt   Wed Sep 23 17:56:10 2009
EXPOCODE,SECT_ID,STNNBR,CASTNO,SAMPNO,BTLNBR,BTLNBR_FLAG_W,DATE,TIME,LATITUDE,LONGITUDE,DEPTH,CTDRAW,CTDPRS,CTDTMP,CTDSAL,CTDSAL_FLAG_W,SALNTY,SALNTY_FLAG_W,CTDOXY,CTDOXY_FLAG_W,THETA,OXYGEN,OXYGEN_FLAG_W,SILCAT,SILCAT_FLAG_W,NO2+NO3,NO2+NO3_FLAG_W,PHSPHT,PHSPHT_FLAG_W,REVPRS,REVTMP
,,,,,,,,,,,,,DBAR,ITS-90,PSS-78,,PSS-78,,UMOL/KG,,ITS-90,UMOL/KG,,UMOL/KG,,UMOL/KG,,UMOL/KG,,DBAR,DEG C
     33KI160_1,  PRS2,     1,  1,     24,     31,2,20040614,2324, 21.3440,-158.2732, 1502,      5,      4.0,  26.6240,  34.4931,2,  34.5070,3,    204.8,3, 26.6231,    205.2,2,  -999.00,9,  -999.00,9,  -999.00,9,  -999.0,-999.000
     33KI160_1,  PRS2,     1,  1,     23,     30,3,20040614,2324, 21.3440,-158.2732, 1502,      4,      4.1,  26.6253,  34.4931,2,  34.4923,2,    204.8,2, 26.6244,    204.8,2,  -999.00,9,  -999.00,9,  -999.00,9,  -999.0,-999.000
     33KI160_1,  PRS2,     1,  1,     22,     22,3,20040614,2324, 21.3440,-158.2732, 1502,     25,     24.1,  26.5706,  34.4931,2,  34.4930,2,    205.0,2, 26.5652,    205.0,2,  -999.00,9,  -999.00,9,  -999.00,9,  -999.0,-999.000
     33KI160_1,  PRS2,     1,  1,     21,     21,3,20040614,2324, 21.3440,-158.2732, 1502,     44,     43.6,  26.2439,  34.5047,2,  34.5060,2,    207.4,2, 26.2341,    207.1,2,  -999.00,9,  -999.00,9,  -999.00,9,  -999.0,-999.000
     33KI160_1,  PRS2,     1,  1,     20,     20,3,20040614,2324, 21.3440,-158.2732, 1502,     60,     59.1,  25.5486,  34.6707,2,  34.6753,2,    209.0,2, 25.5356,    209.1,2,  -999.00,9,  -999.00,9,  -999.00,9,  -999.0,-999.000
     33KI160_1,  PRS2,     1,  1,     19,     19,3,20040614,2324, 21.3440,-158.2732, 1502,     75,     73.9,  25.4568,  34.7404,2,  34.7416,2,    210.0,2, 25.4406,    210.4,2,  -999.00,9,  -999.00,9,  -999.00,9,  -999.0,-999.000
     33KI160_1,  PRS2,     1,  1,     18,     18,3,20040614,2324, 21.3440,-158.2732, 1502,     99,     99.0,  24.4216,  34.9735,2,-999.0000,5,    212.2,2, 24.4006,    212.2,2,  -999.00,9,  -999.00,9,  -999.00,9,  -999.0,-999.000
     33KI160_1,  PRS2,     1,  1,     17,     17,2,20040614,2324, 21.3440,-158.2732, 1502,    115,    114.1,  23.6058,  35.0514,2,  35.0553,2,    208.1,2, 23.5820,    207.3,2,  -999.00,9,  -999.00,9,  -999.00,9,  -999.0,-999.000
     33KI160_1,  PRS2,     1,  1,     16,     16,2,20040614,2324, 21.3440,-158.2732, 1502,    125,    123.9,  23.3703,  35.1286,2,  35.1380,2,    207.3,2, 23.3447,    207.6,2,  -999.00,9,  -999.00,9,  -999.00,9,  -999.0,-999.000
     33KI160_1,  PRS2,     1,  1,     15,    102,2,20040614,2324, 21.3440,-158.2732, 1502,    149,    149.2,  22.8134,  35.3003,2,  35.3133,2,    211.2,2, 22.7831,    210.7,2,  -999.00,9,  -999.00,9,  -999.00,9,  -999.0,-999.000
     33KI160_1,  PRS2,     1,  1,     14,    101,2,20040614,2324, 21.3440,-158.2732, 1502,    174,    173.9,  21.3355,  35.1884,2,  35.2128,3,    199.4,3, 21.3018,    198.2,2,  -999.00,9,  -999.00,9,  -999.00,9,  -999.0,-999.000
     33KI160_1,  PRS2,     1,  1,     13,     42,2,20040614,2324, 21.3440,-158.2732, 1502,    201,    199.1,  19.2369,  34.9389,2,  34.9390,2,    185.1,2, 19.2011,    186.1,2,  -999.00,9,  -999.00,9,  -999.00,9,  -999.0,-999.000
     33KI160_1,  PRS2,     1,  1,     12,     12,2,20040614,2324, 21.3440,-158.2732, 1502,    224,    223.4,  17.9509,  34.8046,2,  34.7911,2,    182.8,2, 17.9127,    183.9,2,  -999.00,9,  -999.00,9,  -999.00,9,  -999.0,-999.000
     33KI160_1,  PRS2,     1,  1,     11,     39,2,20040614,2324, 21.3440,-158.2732, 1502,    249,    248.4,  17.1521,  34.7302,2,  34.7231,2,    187.5,2, 17.1108,    187.3,2,  -999.00,9,  -999.00,9,  -999.00,9,  -999.0,-999.000
     33KI160_1,  PRS2,     1,  1,     10,     32,2,20040614,2324, 21.3440,-158.2732, 1502,    299,    297.9,  14.0009,  34.4006,2,  34.4004,2,    182.9,2, 13.9579,    183.9,2,  -999.00,9,  -999.00,9,  -999.00,9,  -999.0,-999.000
     33KI160_1,  PRS2,     1,  1,      9,      3,2,20040614,2324, 21.3440,-158.2732, 1502,    350,    349.5,  11.0625,  34.2025,2,  34.2024,2,    176.9,2, 11.0194,    175.8,2,  -999.00,9,  -999.00,9,  -999.00,9,  -999.0,-999.000
     33KI160_1,  PRS2,     1,  1,      8,     29,2,20040614,2324, 21.3440,-158.2732, 1502,    400,    399.5,   9.7054,  34.1676,2,  34.1679,2,    153.9,2,  9.6599,    153.4,2,  -999.00,9,  -999.00,9,  -999.00,9,  -999.0,-999.000
     33KI160_1,  PRS2,     1,  1,      7,     28,2,20040614,2324, 21.3440,-158.2732, 1502,    501,    500.2,   7.7242,  34.1492,2,  34.1485,2,    102.8,2,  7.6742,    103.9,2,  -999.00,9,  -999.00,9,  -999.00,9,  -999.0,-999.000
     33KI160_1,  PRS2,     1,  1,      6,     13,2,20040614,2324, 21.3440,-158.2732, 1502,    599,    598.4,   6.1085,  34.2130,2,  34.2119,2,     53.9,2,  6.0556,     53.0,2,  -999.00,9,  -999.00,9,  -999.00,9,  -999.0,-999.000
     33KI160_1,  PRS2,     1,  1,      5,     38,2,20040614,2324, 21.3440,-158.2732, 1502,    700,    699.7,   5.3601,  34.3082,2,  34.3084,2,     37.9,2,  5.3016,     38.1,2,  -999.00,9,  -999.00,9,  -999.00,9,  -999.0,-999.000
     33KI160_1,  PRS2,     1,  1,      4,     36,2,20040614,2324, 21.3440,-158.2732, 1502,    750,    749.0,   5.1152,  34.3625,2,  34.3623,2,     36.1,2,  5.0537,     35.4,2,  -999.00,9,  -999.00,9,  -999.00,9,  -999.0,-999.000
     33KI160_1,  PRS2,     1,  1,      3,     35,2,20040614,2324, 21.3440,-158.2732, 1502,    801,    800.0,   4.8606,  34.4188,2,  34.1670,4,     37.0,3,  4.7961,    153.6,4,  -999.00,9,  -999.00,9,  -999.00,9,  -999.0,-999.000
     33KI160_1,  PRS2,     1,  1,      2,     34,2,20040614,2324, 21.3440,-158.2732, 1502,    900,    899.3,   4.5039,  34.4672,2,  34.4665,2,     41.0,2,  4.4331,     41.3,2,  -999.00,9,  -999.00,9,  -999.00,9,  -999.0,-999.000
     33KI160_1,  PRS2,     1,  1,      1,     33,2,20040614,2324, 21.3440,-158.2732, 1502,   1023,   1021.8,   4.0768,  34.5064,2,  34.5062,2,     46.5,2,  3.9988,     46.9,2,  -999.00,9,  -999.00,9,  -999.00,9,  -999.0,-999.000
     33KI160_1,  PRS2,     2,  1,     15,    102,2,20040615,0949, 22.7497,-158.0000, 4722,      5,      3.9,  25.6852,  34.7230,2,-999.0000,5,    207.7,1, 25.6843,   -999.0,9,  -999.00,9,  -999.00,9,  -999.00,9,  -999.0,-999.000
     33KI160_1,  PRS2,     2,  1,     14,    101,2,20040615,0949, 22.7497,-158.0000, 4722,      5,      3.9,  25.6850,  34.7230,2,-999.0000,5,    207.6,1, 25.6841,   -999.0,9,  -999.00,9,  -999.00,9,  -999.00,9,  -999.0,-999.000
     33KI160_1,  PRS2,     2,  1,     13,     42,2,20040615,0949, 22.7497,-158.0000, 4722,      4,      3.9,  25.6865,  34.7230,2,  34.7323,2,    207.6,1, 25.6856,   -999.0,9,  -999.00,9,  -999.00,9,  -999.00,9,  -999.0,-999.000
     33KI160_1,  PRS2,     2,  1,     12,     12,3,20040615,0949, 22.7497,-158.0000, 4722,      4,      3.9,  25.6874,  34.7230,2,  34.7260,2,    207.6,1, 25.6866,   -999.0,9,  -999.00,9,  -999.00,9,  -999.00,9,  -999.0,-999.000
     33KI160_1,  PRS2,     2,  1,      6,     13,2,20040615,0949, 22.7497,-158.0000, 4722,     30,     29.3,  25.6644,  34.7282,2,-999.0000,5,    207.8,1, 25.6580,   -999.0,9,  -999.00,9,  -999.00,9,  -999.00,9,  -999.0,-999.000
     33KI160_1,  PRS2,     2,  1,     11,     39,2,20040615,0949, 22.7497,-158.0000, 4722,     30,     29.4,  25.6522,  34.7297,2,-999.0000,5,    208.3,1, 25.6457,   -999.0,9,  -999.00,9,  -999.00,9,  -999.00,9,  -999.0,-999.000
     33KI160_1,  PRS2,     2,  1,     10,     32,3,20040615,0949, 22.7497,-158.0000, 4722,     30,     29.4,  25.6540,  34.7297,2,-999.0000,5,    208.2,1, 25.6476,   -999.0,9,  -999.00,9,  -999.00,9,  -999.00,9,  -999.0,-999.000
     33KI160_1,  PRS2,     2,  1,      9,      3,2,20040615,0949, 22.7497,-158.0000, 4722,     30,     29.4,  25.6598,  34.7285,2,-999.0000,5,    208.0,1, 25.6533,   -999.0,9,  -999.00,9,  -999.00,9,  -999.00,9,  -999.0,-999.000
     33KI160_1,  PRS2,     2,  1,      8,     29,2,20040615,0949, 22.7497,-158.0000, 4722,     30,     29.4,  25.6622,  34.7282,2,-999.0000,5,    207.9,1, 25.6558,   -999.0,9,  -999.00,9,  -999.00,9,  -999.00,9,  -999.0,-999.000
     33KI160_1,  PRS2,     2,  1,      7,     28,2,20040615,0949, 22.7497,-158.0000, 4722,     30,     29.4,  25.6639,  34.7283,2,-999.0000,5,    207.8,1, 25.6574,   -999.0,9,  -999.00,9,  -999.00,9,  -999.00,9,  -999.0,-999.000
     33KI160_1,  PRS2,     2,  1,      5,     38,2,20040615,0949, 22.7497,-158.0000, 4722,     30,     29.4,  25.6672,  34.7275,2,-999.0000,5,    207.8,1, 25.6607,   -999.0,9,  -999.00,9,  -999.00,9,  -999.00,9,  -999.0,-999.000
     33KI160_1,  PRS2,     2,  1,      4,     36,2,20040615,0949, 22.7497,-158.0000, 4722,    520,    519.1,   7.1595,  34.0665,2,  34.0668,2,    111.0,1,  7.1099,   -999.0,9,  -999.00,9,  -999.00,9,  -999.00,9,  -999.0,-999.000
     33KI160_1,  PRS2,     2,  1,      3,     35,2,20040615,0949, 22.7497,-158.0000, 4722,    700,    699.4,   5.1200,  34.2749,2,  34.2754,2,     36.6,1,  5.0629,   -999.0,9,  -999.00,9,  -999.00,9,  -999.00,9,  -999.0,-999.000
     33KI160_1,  PRS2,     2,  1,      2,     34,2,20040615,0949, 22.7497,-158.0000, 4722,    699,    699.5,   5.1189,  34.2746,2,  34.2760,2,     36.7,1,  5.0618,   -999.0,9,  -999.00,9,  -999.00,9,  -999.00,9,  -999.0,-999.000
     33KI160_1,  PRS2,     2,  1,      1,     33,2,20040615,0949, 22.7497,-158.0000, 4722,   1020,   1018.7,   3.9864,  34.4663,2,  34.4687,2,     44.0,1,  3.9093,   -999.0,9,  -999.00,9,  -999.00,9,  -999.00,9,  -999.0,-999.000
     33KI160_1,  PRS2,     2,  2,     24,     31,2,20040615,1240, 22.7350,-157.9605, 4715,      5,      4.4,  25.6560,  34.7226,2,  34.7237,2,    208.4,2, 25.6550,    207.4,2,     1.21,2,     0.08,2,     0.03,2,  -999.0,-999.000
     33KI160_1,  PRS2,     2,  2,     23,     30,2,20040615,1240, 22.7350,-157.9605, 4715,    500,    499.2,   8.0565,  34.1024,2,  34.1027,2,    130.0,2,  8.0055,    130.0,2,     1.50,4,     0.09,4,     0.04,4,  -999.0,-999.000
     33KI160_1,  PRS2,     2,  2,     22,     22,3,20040615,1240, 22.7350,-157.9605, 4715,    750,    749.0,   5.0143,  34.2752,2,  34.2772,2,     37.1,2,  4.9534,     36.3,2,     0.89,4,     0.01,4,     0.02,4,  -999.0,-999.000
     33KI160_1,  PRS2,     2,  2,     21,     21,3,20040615,1240, 22.7350,-157.9605, 4715,   1000,    998.2,   4.0990,  34.4726,2,  34.4732,2,     45.2,2,  4.0228,     44.7,2,     4.53,4,     0.69,4,     2.92,3,  -999.0,-999.000
     33KI160_1,  PRS2,     2,  2,     20,     20,2,20040615,1240, 22.7350,-157.9605, 4715,   1200,   1199.1,   3.5613,  34.5306,2,  34.5319,2,     53.5,2,  3.4728,     50.2,2,   119.22,2,    41.35,2,     3.01,2,  -999.0,-999.000
     33KI160_1,  PRS2,     2,  2,     19,     19,2,20040615,1240, 22.7350,-157.9605, 4715,   1399,   1398.6,   3.1113,  34.5585,2,  34.5590,2,     60.7,2,  3.0107,     60.5,2,   128.06,2,    40.90,2,     2.97,2,  -999.0,-999.000
     33KI160_1,  PRS2,     2,  2,     18,     18,2,20040615,1240, 22.7350,-157.9605, 4715,   1600,   1598.6,   2.6789,  34.5855,2,  34.5853,2,     70.8,2,  2.5667,     70.9,2,   138.91,2,    40.39,2,     2.86,2,  -999.0,-999.000
     33KI160_1,  PRS2,     2,  2,     17,     17,2,20040615,1240, 22.7350,-157.9605, 4715,   1799,   1798.6,   2.3886,  34.6014,2,  34.6016,2,     80.2,2,  2.2635,     80.4,2,   144.77,2,    39.79,2,     2.85,2,  -999.0,-999.000
     33KI160_1,  PRS2,     2,  2,     16,     16,2,20040615,1240, 22.7350,-157.9605, 4715,   2001,   1999.0,   2.1571,  34.6173,2,  34.6176,2,     87.6,2,  2.0184,     87.8,2,   149.23,2,    39.41,2,     2.84,2,  -999.0,-999.000
     33KI160_1,  PRS2,     2,  2,     15,    102,2,20040615,1240, 22.7350,-157.9605, 4715,   2201,   2198.8,   1.9409,  34.6314,2,  34.6309,2,     94.2,2,  1.7885,     94.3,2,   154.68,2,    38.95,2,     2.79,2,  -999.0,-999.000
     33KI160_1,  PRS2,     2,  2,     14,    101,2,20040615,1240, 22.7350,-157.9605, 4715,   2399,   2398.5,   1.7851,  34.6448,2,  34.6457,2,    101.3,2,  1.6179,    101.9,2,   158.32,2,    38.52,2,     2.75,2,  -999.0,-999.000
     33KI160_1,  PRS2,     2,  2,     13,     42,2,20040615,1240, 22.7350,-157.9605, 4715,   2600,   2599.3,   1.6709,  34.6546,2,  34.7262,4,    109.0,3,  1.4879,    180.6,4,    15.39,4,     8.83,4,     0.76,4,  -999.0,-999.000
     33KI160_1,  PRS2,     2,  2,     12,     12,2,20040615,1240, 22.7350,-157.9605, 4715,   2800,   2799.0,   1.5878,  34.6631,2,  34.6637,2,    117.5,2,  1.3880,    117.8,2,   159.36,2,    37.65,2,     2.66,2,  -999.0,-999.000
     33KI160_1,  PRS2,     2,  2,     11,     39,2,20040615,1240, 22.7350,-157.9605, 4715,   3001,   2999.6,   1.5326,  34.6702,2,  34.6702,2,    125.3,2,  1.3151,    125.7,2,   158.77,2,    37.20,2,     2.65,2,  -999.0,-999.000
     33KI160_1,  PRS2,     2,  2,     10,     32,2,20040615,1240, 22.7350,-157.9605, 4715,   3199,   3198.7,   1.4946,  34.6759,2,  34.6757,2,    132.0,2,  1.2587,    132.2,2,   157.10,2,    36.75,2,     2.62,2,  -999.0,-999.000
     33KI160_1,  PRS2,     2,  2,      9,      3,2,20040615,1240, 22.7350,-157.9605, 4715,   3401,   3399.1,   1.4693,  34.6800,2,  34.6793,2,    137.4,2,  1.2142,    137.9,2,   156.34,2,    36.55,2,     2.57,2,  -999.0,-999.000
     33KI160_1,  PRS2,     2,  2,      8,     29,2,20040615,1240, 22.7350,-157.9605, 4715,   3601,   3599.6,   1.4520,  34.6833,2,  34.6836,2,    142.1,2,  1.1769,    142.4,2,   153.65,2,    36.44,2,     2.52,2,  -999.0,-999.000
     33KI160_1,  PRS2,     2,  2,      7,     28,2,20040615,1240, 22.7350,-157.9605, 4715,   3799,   3799.0,   1.4492,  34.6856,2,  34.6857,2,    145.7,2,  1.1533,    145.4,2,   151.71,2,    36.01,2,     2.55,2,  -999.0,-999.000
     33KI160_1,  PRS2,     2,  2,      6,     13,2,20040615,1240, 22.7350,-157.9605, 4715,   4000,   3998.8,   1.4508,  34.6873,2,  34.6871,2,    148.5,2,  1.1334,    148.5,2,   150.62,2,    35.79,2,     2.53,2,  -999.0,-999.000
     33KI160_1,  PRS2,     2,  2,      5,     38,2,20040615,1240, 22.7350,-157.9605, 4715,   4200,   4199.1,   1.4612,  34.6885,2,  34.6883,2,    150.4,2,  1.1215,    150.4,2,   151.21,2,    35.66,2,     2.52,2,  -999.0,-999.000
     33KI160_1,  PRS2,     2,  2,      4,     36,2,20040615,1240, 22.7350,-157.9605, 4715,   4399,   4398.5,   1.4774,  34.6891,2,  34.6893,2,    151.5,2,  1.1147,    151.3,2,   149.31,2,    35.70,2,     2.46,2,  -999.0,-999.000
     33KI160_1,  PRS2,     2,  2,      3,     35,2,20040615,1240, 22.7350,-157.9605, 4715,   4500,   4498.6,   1.4865,  34.6894,2,  34.6893,2,    152.0,2,  1.1121,    151.3,2,   149.60,2,    35.72,2,     2.52,2,  -999.0,-999.000
     33KI160_1,  PRS2,     2,  2,      2,     34,2,20040615,1240, 22.7350,-157.9605, 4715,   4600,   4599.1,   1.4961,  34.6895,2,  34.6897,2,    152.2,2,  1.1098,    152.0,2,   149.35,2,    35.74,2,     2.47,2,  -999.0,-999.000
     33KI160_1,  PRS2,     2,  2,      1,     33,2,20040615,1240, 22.7350,-157.9605, 4715,   4801,   4800.7,   1.5099,  34.6905,2,  34.6906,2,    154.1,2,  1.0993,    154.0,2,   148.24,2,    35.47,2,     2.50,2,  -999.0,-999.000