BOTTLE,20090923WHPSIOMYS
EXPOCODE,SECT_ID,STNNBR,CASTNO,SAMPNO,BTLNBR,BTLNBR_FLAG_W,DATE,TIME,LATITUDE,LONGITUDE,DEPTH,CTDRAW,CTDPRS,CTDTMP,CTDSAL,CTDSAL_FLAG_W,SALNTY,SALNTY_FLAG_W,CTDOXY,CTDOXY_FLAG_W,THETA,OXYGEN,OXYGEN_FLAG_W,SILCAT,SILCAT_FLAG_W,NO2+NO3,NO2+NO3_FLAG_W,PHSPHT,PHSPHT_FLAG_W,REVPRS,REVTMP
,,,,,,,,,,,,,DBAR,ITS-90,PSS-78,,PSS-78,,UMOL/KG,,ITS-90,UMOL/KG,,UMOL/KG,,UMOL/KG,,UMOL/KG,,DBAR,DEG C
     33KI160_1,  PRS2,     2, 15,     22,     22,2,20040617,0557, 22.7507,-157.9992, 4721,      5,      4.5,  25.8757,  34.7322,2,  34.7313,2,    219.1,4, 25.8747,   -999.0,9,  -999.00,9,  -999.00,9,  -999.00,9,  -999.0,-999.000
     33KI160_1,  PRS2,     2, 15,     21,     21,3,20040617,0557, 22.7507,-157.9992, 4721,      5,      4.5,  25.8756,  34.7321,2,  34.7357,2,    213.1,4, 25.8746,   -999.0,9,  -999.00,9,  -999.00,9,  -999.00,9,  -999.0,-999.000
     33KI160_1,  PRS2,     2, 15,     20,     20,3,20040617,0557, 22.7507,-157.9992, 4721,     25,     24.1,  25.7420,  34.7319,2,  34.7337,2,    208.9,1, 25.7367,   -999.0,9,  -999.00,9,  -999.00,9,  -999.00,9,  -999.0,-999.000
     33KI160_1,  PRS2,     2, 15,     19,     19,2,20040617,0557, 22.7507,-157.9992, 4721,     25,     24.1,  25.7432,  34.7317,2,  34.7300,2,    209.0,1, 25.7379,   -999.0,9,  -999.00,9,  -999.00,9,  -999.00,9,  -999.0,-999.000
     33KI160_1,  PRS2,     2, 15,     18,     18,2,20040617,0557, 22.7507,-157.9992, 4721,     44,     43.4,  25.6128,  34.7396,2,  34.7341,2,    210.4,1, 25.6032,   -999.0,9,  -999.00,9,  -999.00,9,  -999.00,9,  -999.0,-999.000
     33KI160_1,  PRS2,     2, 15,     17,     17,3,20040617,0557, 22.7507,-157.9992, 4721,     44,     43.5,  25.5841,  34.7419,2,  34.7449,2,    210.9,1, 25.5745,   -999.0,9,  -999.00,9,  -999.00,9,  -999.00,9,  -999.0,-999.000
     33KI160_1,  PRS2,     2, 15,     16,     16,3,20040617,0557, 22.7507,-157.9992, 4721,     59,     58.8,  24.9482,  34.8786,2,  34.8825,2,    216.5,1, 24.9354,   -999.0,9,  -999.00,9,  -999.00,9,  -999.00,9,  -999.0,-999.000
     33KI160_1,  PRS2,     2, 15,     14,    101,2,20040617,0557, 22.7507,-157.9992, 4721,     74,     72.8,  24.4133,  35.0021,2,  35.0077,2,    215.0,1, 24.3978,   -999.0,9,  -999.00,9,  -999.00,9,  -999.00,9,  -999.0,-999.000
     33KI160_1,  PRS2,     2, 15,     15,    102,2,20040617,0557, 22.7507,-157.9992, 4721,     74,     72.9,  24.4088,  35.0032,2,  35.0043,2,    215.2,1, 24.3933,   -999.0,9,  -999.00,9,  -999.00,9,  -999.00,9,  -999.0,-999.000
     33KI160_1,  PRS2,     2, 15,     13,     42,2,20040617,0557, 22.7507,-157.9992, 4721,     85,     83.9,  24.0223,  35.0956,2,  35.0990,2,    213.2,1, 24.0046,   -999.0,9,  -999.00,9,  -999.00,9,  -999.00,9,  -999.0,-999.000
     33KI160_1,  PRS2,     2, 15,     11,     39,2,20040617,0557, 22.7507,-157.9992, 4721,    100,     98.8,  23.4962,  35.1797,2,  35.1774,2,    209.3,1, 23.4758,   -999.0,9,  -999.00,9,  -999.00,9,  -999.00,9,  -999.0,-999.000
     33KI160_1,  PRS2,     2, 15,     12,     12,3,20040617,0557, 22.7507,-157.9992, 4721,    100,     98.9,  23.5138,  35.1751,2,  35.1744,2,    209.4,1, 23.4933,   -999.0,9,  -999.00,9,  -999.00,9,  -999.00,9,  -999.0,-999.000
     33KI160_1,  PRS2,     2, 15,     10,     32,3,20040617,0557, 22.7507,-157.9992, 4721,    115,    114.2,  23.1329,  35.2518,2,  35.2515,2,    207.0,1, 23.1095,   -999.0,9,  -999.00,9,  -999.00,9,  -999.00,9,  -999.0,-999.000
     33KI160_1,  PRS2,     2, 15,      9,      3,2,20040617,0557, 22.7507,-157.9992, 4721,    124,    123.9,  22.9283,  35.2901,2,  35.2901,2,    208.0,1, 22.9031,   -999.0,9,  -999.00,9,  -999.00,9,  -999.00,9,  -999.0,-999.000
     33KI160_1,  PRS2,     2, 15,      8,     29,2,20040617,0557, 22.7507,-157.9992, 4721,    124,    123.9,  22.9262,  35.2901,2,  35.2899,2,    208.1,1, 22.9009,   -999.0,9,  -999.00,9,  -999.00,9,  -999.00,9,  -999.0,-999.000
     33KI160_1,  PRS2,     2, 15,      7,     28,2,20040617,0557, 22.7507,-157.9992, 4721,    135,    133.7,  22.5370,  35.2986,2,-999.0000,5,    206.1,1, 22.5100,   -999.0,9,  -999.00,9,  -999.00,9,  -999.00,9,  -999.0,-999.000
     33KI160_1,  PRS2,     2, 15,      6,     13,2,20040617,0557, 22.7507,-157.9992, 4721,    150,    148.9,  21.9009,  35.3049,2,-999.0000,5,    204.8,1, 21.8715,   -999.0,9,  -999.00,9,  -999.00,9,  -999.00,9,  -999.0,-999.000
     33KI160_1,  PRS2,     2, 15,      5,     38,3,20040617,0557, 22.7507,-157.9992, 4721,    150,    149.0,  21.8996,  35.3055,2,  35.3045,2,    204.5,1, 21.8702,   -999.0,9,  -999.00,9,  -999.00,9,  -999.00,9,  -999.0,-999.000
     33KI160_1,  PRS2,     2, 15,      4,     36,2,20040617,0557, 22.7507,-157.9992, 4721,    175,    174.6,  20.7781,  35.2032,2,  35.2018,2,    193.3,1, 20.7449,   -999.0,9,  -999.00,9,  -999.00,9,  -999.00,9,  -999.0,-999.000
     33KI160_1,  PRS2,     2, 15,      3,     35,2,20040617,0557, 22.7507,-157.9992, 4721,    175,    174.6,  20.7772,  35.2033,2,  35.2012,2,    193.7,1, 20.7440,   -999.0,9,  -999.00,9,  -999.00,9,  -999.00,9,  -999.0,-999.000
     33KI160_1,  PRS2,     2, 15,      2,     34,2,20040617,0557, 22.7507,-157.9992, 4721,    520,    519.3,   7.2700,  34.0655,2,-999.0000,5,    116.1,1,  7.2199,   -999.0,9,  -999.00,9,  -999.00,9,  -999.00,9,  -999.0,-999.000
     33KI160_1,  PRS2,     2, 15,      1,     33,2,20040617,0557, 22.7507,-157.9992, 4721,   1021,   1020.3,   3.9814,  34.4775,2,  34.4742,2,     45.4,1,  3.9042,   -999.0,9,  -999.00,9,  -999.00,9,  -999.00,9,  -999.0,-999.000
     33KI160_1,  PRS2,     2, 16,     11,     39,2,20040617,0855, 22.7488,-157.9923, 4730,      5,      4.2,  25.7785,  34.7017,2,  34.7003,2,    208.4,2, 25.7776,    208.6,2,  -999.00,9,  -999.00,9,  -999.00,9,  -999.0,-999.000
     33KI160_1,  PRS2,     2, 16,     10,     32,2,20040617,0855, 22.7488,-157.9923, 4730,    250,    249.3,  16.4390,  34.6458,2,  34.6490,2,    209.6,2, 16.3989,   -999.0,5,  -999.00,9,  -999.00,9,  -999.00,9,  -999.0,-999.000
     33KI160_1,  PRS2,     2, 16,      9,      3,2,20040617,0855, 22.7488,-157.9923, 4730,    250,    249.5,  16.4300,  34.6454,2,  34.6498,2,    209.7,2, 16.3898,   -999.0,5,  -999.00,9,  -999.00,9,  -999.00,9,  -999.0,-999.000
     33KI160_1,  PRS2,     2, 16,      8,     29,2,20040617,0855, 22.7488,-157.9923, 4730,    350,    349.7,  11.8340,  34.2095,2,  34.2109,2,    210.8,2, 11.7889,    211.0,2,  -999.00,9,  -999.00,9,  -999.00,9,  -999.0,-999.000
     33KI160_1,  PRS2,     2, 16,      7,     28,2,20040617,0855, 22.7488,-157.9923, 4730,    521,    519.8,   7.2007,  34.0646,2,  34.0680,2,    114.6,2,  7.1509,    112.9,2,  -999.00,9,  -999.00,9,  -999.00,9,  -999.0,-999.000
     33KI160_1,  PRS2,     2, 16,      6,     13,2,20040617,0855, 22.7488,-157.9923, 4730,    820,    819.3,   4.4992,  34.3442,2,  34.3450,2,     32.7,2,  4.4354,     31.3,2,  -999.00,9,  -999.00,9,  -999.00,9,  -999.0,-999.000
     33KI160_1,  PRS2,     2, 16,      5,     38,2,20040617,0855, 22.7488,-157.9923, 4730,   2001,   1999.8,   2.1145,  34.6198,2,  34.6199,2,     88.9,2,  1.9763,     89.8,2,  -999.00,9,  -999.00,9,  -999.00,9,  -999.0,-999.000
     33KI160_1,  PRS2,     2, 16,      4,     36,2,20040617,0855, 22.7488,-157.9923, 4730,   3000,   2999.2,   1.5615,  34.6689,2,  34.6694,2,    123.2,2,  1.3435,    125.1,2,  -999.00,9,  -999.00,9,  -999.00,9,  -999.0,-999.000
     33KI160_1,  PRS2,     2, 16,      3,     35,2,20040617,0855, 22.7488,-157.9923, 4730,   4000,   4000.1,   1.4549,  34.6868,2,  34.6857,2,    148.4,2,  1.1372,   -999.0,5,  -999.00,9,  -999.00,9,  -999.00,9,  -999.0,-999.000
     33KI160_1,  PRS2,     2, 16,      2,     34,2,20040617,0855, 22.7488,-157.9923, 4730,   4001,   4000.1,   1.4548,  34.6867,2,  34.6867,2,    148.4,2,  1.1372,    148.6,2,  -999.00,9,  -999.00,9,  -999.00,9,  -999.0,-999.000
     33KI160_1,  PRS2,     2, 16,      1,     33,2,20040617,0855, 22.7488,-157.9923, 4730,   4800,   4799.4,   1.5091,  34.6902,2,  34.6903,2,    154.1,2,  1.0987,    154.6,2,  -999.00,9,  -999.00,9,  -999.00,9,  -999.0,-999.000
     33KI160_1,  PRS2,     2, 17,      3,     35,2,20040617,1855, 22.7542,-158.0013, 4730,     25,     24.3,  25.6021,  34.7170,2,  34.7162,2,    208.2,1, 25.5968,   -999.0,9,  -999.00,9,  -999.00,9,  -999.00,9,  -999.0,-999.000
     33KI160_1,  PRS2,     2, 17,      2,     34,2,20040617,1855, 22.7542,-158.0013, 4730,    150,    149.4,  22.4181,  35.2991,2,  35.3007,2,    204.3,1, 22.3881,   -999.0,9,  -999.00,9,  -999.00,9,  -999.00,9,  -999.0,-999.000
     33KI160_1,  PRS2,     2, 17,      1,     33,2,20040617,1855, 22.7542,-158.0013, 4730,    210,    209.7,  19.2818,  35.0405,2,  35.0482,2,    201.5,1, 19.2440,   -999.0,9,  -999.00,9,  -999.00,9,  -999.00,9,  -999.0,-999.000
     33KI160_1,  PRS2,     6,  1,     13,     42,2,20040618,0507, 21.8453,-158.3635, 2464,      6,      4.8,  26.1639,  34.4984,2,  34.4987,2,    206.1,1, 26.1629,   -999.0,9,  -999.00,9,  -999.00,9,  -999.00,9,  -999.0,-999.000
     33KI160_1,  PRS2,     6,  1,     12,     12,3,20040618,0507, 21.8453,-158.3635, 2464,     25,     24.6,  26.0533,  34.5650,2,  34.5557,2,    207.6,1, 26.0478,   -999.0,9,  -999.00,9,  -999.00,9,  -999.00,9,  -999.0,-999.000
     33KI160_1,  PRS2,     6,  1,     11,     39,2,20040618,0507, 21.8453,-158.3635, 2464,     45,     43.7,  25.6996,  34.6876,2,  34.6873,2,    209.5,1, 25.6900,   -999.0,9,  -999.00,9,  -999.00,9,  -999.00,9,  -999.0,-999.000
     33KI160_1,  PRS2,     6,  1,     10,     32,3,20040618,0507, 21.8453,-158.3635, 2464,     76,     74.9,  24.9479,  34.8263,2,  34.8212,2,    212.9,1, 24.9317,   -999.0,9,  -999.00,9,  -999.00,9,  -999.00,9,  -999.0,-999.000
     33KI160_1,  PRS2,     6,  1,      9,      3,2,20040618,0507, 21.8453,-158.3635, 2464,    100,     99.9,  24.2943,  34.9983,2,  34.9961,2,    211.9,1, 24.2731,   -999.0,9,  -999.00,9,  -999.00,9,  -999.00,9,  -999.0,-999.000
     33KI160_1,  PRS2,     6,  1,      8,     29,2,20040618,0507, 21.8453,-158.3635, 2464,    125,    124.6,  23.1001,  35.1935,2,  35.1900,2,    205.5,1, 23.0746,   -999.0,9,  -999.00,9,  -999.00,9,  -999.00,9,  -999.0,-999.000
     33KI160_1,  PRS2,     6,  1,      7,     28,2,20040618,0507, 21.8453,-158.3635, 2464,    150,    148.9,  21.9771,  35.2720,2,  35.2698,2,    202.8,1, 21.9477,   -999.0,9,  -999.00,9,  -999.00,9,  -999.00,9,  -999.0,-999.000
     33KI160_1,  PRS2,     6,  1,      6,     13,2,20040618,0507, 21.8453,-158.3635, 2464,    174,    173.6,  20.3628,  35.0730,2,  35.0799,2,    184.9,1, 20.3303,   -999.0,9,  -999.00,9,  -999.00,9,  -999.00,9,  -999.0,-999.000
     33KI160_1,  PRS2,     6,  1,      5,     38,2,20040618,0507, 21.8453,-158.3635, 2464,    501,    499.8,   7.6476,  34.1379,2,  34.1399,2,    108.2,1,  7.5980,   -999.0,9,  -999.00,9,  -999.00,9,  -999.00,9,  -999.0,-999.000
     33KI160_1,  PRS2,     6,  1,      4,     36,2,20040618,0507, 21.8453,-158.3635, 2464,   1000,    999.2,   4.0839,  34.4788,2,  34.4781,2,     46.1,1,  4.0077,   -999.0,9,  -999.00,9,  -999.00,9,  -999.00,9,  -999.0,-999.000
     33KI160_1,  PRS2,     6,  1,      3,     35,2,20040618,0507, 21.8453,-158.3635, 2464,   1500,   1498.7,   2.8172,  34.5753,2,  34.5743,2,     69.0,1,  2.7116,   -999.0,9,  -999.00,9,  -999.00,9,  -999.00,9,  -999.0,-999.000
     33KI160_1,  PRS2,     6,  1,      2,     34,2,20040618,0507, 21.8453,-158.3635, 2464,   2001,   1999.2,   2.1681,  34.6188,2,  34.6176,2,     89.4,1,  2.0292,   -999.0,9,  -999.00,9,  -999.00,9,  -999.00,9,  -999.0,-999.000
     33KI160_1,  PRS2,     6,  1,      1,     33,2,20040618,0507, 21.8453,-158.3635, 2464,   2440,   2439.7,   1.7915,  34.6475,2,  34.6470,2,    106.3,1,  1.6205,   -999.0,9,  -999.00,9,  -999.00,9,  -999.00,9,  -999.0,-999.000