BOTTLE,20081204PRINUNIVRMKPRINUNIVRMK
# 3/12/99 Initialized README file for CGC 90 
# Ship: Malcolm Baldridge 
# Cruise; 3175CG90_1, P15S line 
# Dates: 2/22-4/16/1990 
# EXPOCODE: 32MB19900222 
# Region: SW Pacific on 170W 
# Chief Scientist: D.Wisegarver 
# 64 stations; Sta 2-7 24 bottle Rosette; 12 bottle Rosette for remainder 
# Hydro: Who - NOAA ; Status - final 
# 	Notes:  Data from CCHDO 4/4/07 
# Nuts: Who - L. Moore, D. Atwood ; Status - final 
# 	Notes: only nitrate reported, probably nitrate+nitrite; only reported values between 0-30umol/kg due to standard range. Silicate and phosphate not reported due to poor precision/accuracy 
# 	No oxygen data 
# 	Data from Bullister 3/30/07 
# TCO2: Who - Roberts,Murphy; Status - final 
# 	Notes: NDP-052; data from M.Roberts 7/22/94. 
# 	CRM used (value 2020+/-.009, Keeling; batch 1); +3umol/kg corrrection applied to data based on CRM analysis as suggested by A.Dickson   
# TA: Who - Feely; Status - Not Reported 
# 	Notes: Poor Quality 
# pCO2: Who - Feely; Status - underway sampling only 
# pH: Who - R.Byrne ; Status - no data 
# 	Notes:serious problems with rented spectrophotometer, measurements of no value and not reported (Byrne e-mail 2/1/07) 
# CFC: Who - Wisegarver/Bullister; Status - final 
# 	Notes: CFC data are reported on the SIO98 scale. 
# C-13: Who - Quay; Status - final 
# 	Notes:data from Bullister 3/30/07 
# H-3: Who - Jenkins ; Status - final 
# 	Notes:Data from CCHDO 4/4/07 
# References: 
# Wisegarver, D.P., J.L. Bullister, F.A. Van Woy, F.A. Menzia, R.F. Weiss, A.H. Orsi, and P.K. Salameh, Chlorofluorocarbon measurements in the southwestern Pacific during the CGC-90 Expedition. NOAA Data Report ERL PMEL-57, 98 pp., 1995. 
# Lamb, M.F., R.A. Feely, L. Moore, and D.A. Atwood (1993): Total CO2 and nitrate measurements in the southwest Pacific during austral autumn, 1990. NOAA Data Report ERL PMEL-42, NTIS: PB93-188415, 62 pp. 
EXPOCODE,SECT_ID,STNNBR,CASTNO,SAMPNO,BTLNBR,BTLNBR_FLAG_W,DATE,LATITUDE,LONGITUDE,DEPTH,CTDPRS,CTDTMP,CTDSAL,CTDSAL_FLAG_W,SALNTY,SALNTY_FLAG_W,NITRAT,NITRAT_FLAG_W,CFC-11,CFC-11_FLAG_W,CFC-12,CFC-12_FLAG_W,TCARBN,TCARBN_FLAG_W,TRITUM,TRITER,TRITUM_FLAG_W,HELIUM,HELIER,HELIUM_FLAG_W,DELHE3,DELHER,DELHE3_FLAG_W,NEON,NEONE,NEON_FLAG_W,DELC13,DELC13_FLAG_W
,,,,,,,,,,METERS,DBARS,ITS-90,PSS-78,,PSS-78,,UMOL/KG,,PMOL/KG,,PMOL/KG,,UMOL/KG,,TU,TU,,NMOL/KG,NMOL/KG,,PERCNT,PERCNT,,NMOL/KG,NMOL/KG,,O/OO,
  32MB19900222,  P15S,     0,  1,      2,      2,2,19900223,-14.8867,-170.1417, 4541,   2998.6,   1.7080,  34.6770,2,  34.6730,2,    -9.00,9,   -9.000,9,   -9.000,9,     -9.0,9, -999.000, -999.000,9,-999.0000,-999.0000,9,  -999.00,  -999.00,9, -999.000, -999.000,9,    -9.00,9
  32MB19900222,  P15S,     0,  1,     24,     24,2,19900223,-14.8867,-170.1417, 4541,   3006.1,   1.7060,  34.6780,2,  34.6730,2,    -9.00,9,   -9.000,9,   -9.000,9,     -9.0,9, -999.000, -999.000,9,-999.0000,-999.0000,9,  -999.00,  -999.00,9, -999.000, -999.000,9,    -9.00,9
  32MB19900222,  P15S,     1,  1,    110,     10,2,19900223,-14.9917,-170.0100, 4806,      3.6,  28.2140,-999.0000,9,  35.5310,2,    -9.00,9,   -9.000,9,   -9.000,9,     -9.0,9,    0.981,    0.006,2,   1.7040,   0.0080,2,    -0.97,     0.15,2,    6.491,    0.032,2,    -9.00,9
  32MB19900222,  P15S,     1,  1,    109,      9,2,19900223,-14.9917,-170.0100, 4806,     18.2,  28.1520,-999.0000,9,  35.5310,2,    -9.00,9,   -9.000,9,   -9.000,9,     -9.0,9,    0.876,    0.006,2,   1.6970,   0.0080,2,    -1.55,     0.15,2,    6.497,    0.032,2,    -9.00,9
  32MB19900222,  P15S,     1,  1,    108,      8,2,19900223,-14.9917,-170.0100, 4806,     39.0,  28.0430,  35.5270,2,  35.5220,2,    -9.00,9,   -9.000,9,   -9.000,9,     -9.0,9, -999.000, -999.000,9,-999.0000,-999.0000,9,  -999.00,  -999.00,9, -999.000, -999.000,9,    -9.00,9
  32MB19900222,  P15S,     1,  1,    107,      7,2,19900223,-14.9917,-170.0100, 4806,     58.5,  27.6850,  35.5180,2,  35.5150,2,    -9.00,9,   -9.000,9,   -9.000,9,     -9.0,9, -999.000, -999.000,9,   1.7100,   0.0080,2,    -1.16,     0.15,2,    6.499,    0.032,2,    -9.00,9
  32MB19900222,  P15S,     1,  1,    106,      6,2,19900223,-14.9917,-170.0100, 4806,     78.0,  27.5020,  35.5540,2,  35.5500,2,    -9.00,9,   -9.000,9,   -9.000,9,     -9.0,9, -999.000, -999.000,9,-999.0000,-999.0000,9,  -999.00,  -999.00,9, -999.000, -999.000,9,    -9.00,9
  32MB19900222,  P15S,     1,  1,    105,      5,2,19900223,-14.9917,-170.0100, 4806,     98.1,  26.7710,  35.6140,2,  35.6410,2,    -9.00,9,   -9.000,9,   -9.000,9,     -9.0,9, -999.000, -999.000,9,   1.7410,   0.0090,2,    -1.03,     0.15,2,    6.673,    0.033,2,    -9.00,9
  32MB19900222,  P15S,     1,  1,    104,      4,2,19900223,-14.9917,-170.0100, 4806,    122.3,  24.8700,  35.9170,2,  35.9410,2,    -9.00,9,   -9.000,9,   -9.000,9,     -9.0,9, -999.000, -999.000,9,-999.0000,-999.0000,9,  -999.00,  -999.00,9, -999.000, -999.000,9,    -9.00,9
  32MB19900222,  P15S,     1,  1,    113,      3,2,19900223,-14.9917,-170.0100, 4806,    148.4,  23.8750,  36.0910,2,  36.1050,2,    -9.00,9,   -9.000,9,   -9.000,9,     -9.0,9, -999.000, -999.000,9,-999.0000,-999.0000,9,  -999.00,  -999.00,9, -999.000, -999.000,9,    -9.00,9
  32MB19900222,  P15S,     1,  1,    102,      2,2,19900223,-14.9917,-170.0100, 4806,    173.0,  22.6670,  35.8930,2,  35.8880,2,    -9.00,9,   -9.000,9,   -9.000,9,     -9.0,9, -999.000, -999.000,9,-999.0000,-999.0000,9,  -999.00,  -999.00,9, -999.000, -999.000,9,    -9.00,9
  32MB19900222,  P15S,     1,  1,    101,      1,2,19900223,-14.9917,-170.0100, 4806,    197.0,  21.9860,  35.9840,2,  35.9820,2,    -9.00,9,   -9.000,9,   -9.000,9,     -9.0,9, -999.000, -999.000,9,   1.7470,   0.0090,2,    -0.12,     0.15,2,    6.814,    0.033,2,    -9.00,9
  32MB19900222,  P15S,     2,  1,    222,     22,2,19900224,-15.0017,-170.0050, 4817,      3.0,  28.1970,  35.5270,2,  35.5250,2,    -9.00,9,    2.154,4,    2.539,4,     -9.0,9, -999.000, -999.000,9,-999.0000,-999.0000,9,  -999.00,  -999.00,9, -999.000, -999.000,9,    -9.00,9
  32MB19900222,  P15S,     2,  1,    219,     21,2,19900224,-15.0017,-170.0050, 4817,     47.7,  27.7150,  35.5130,2,  35.5210,2,     0.39,2,    1.753,4,    0.952,4,     -9.0,9, -999.000, -999.000,9,-999.0000,-999.0000,9,  -999.00,  -999.00,9, -999.000, -999.000,9,    -9.00,9
  32MB19900222,  P15S,     2,  1,    218,     20,2,19900224,-15.0017,-170.0050, 4817,     97.6,  26.6070,  35.6240,2,  35.6700,2,     0.39,2,    2.004,4,    1.053,4,     -9.0,9, -999.000, -999.000,9,-999.0000,-999.0000,9,  -999.00,  -999.00,9, -999.000, -999.000,9,    -9.00,9
  32MB19900222,  P15S,     2,  1,    223,     19,2,19900224,-15.0017,-170.0050, 4817,    147.3,  23.7100,  36.0750,2,  36.0770,2,     2.51,2,    1.745,4,    1.020,4,   2065.8,3, -999.000, -999.000,9,-999.0000,-999.0000,9,  -999.00,  -999.00,9, -999.000, -999.000,9,    -9.00,9
  32MB19900222,  P15S,     2,  1,    220,     18,2,19900224,-15.0017,-170.0050, 4817,    197.0,  21.4180,  35.8590,2,  35.8620,2,     3.56,2,    1.564,4,    0.904,4,   2060.1,3,    0.554,    0.005,2,   1.7330,   0.0080,2,     0.29,     0.15,2,    6.798,    0.033,2,    -9.00,9
  32MB19900222,  P15S,     2,  1,    217,     17,2,19900224,-15.0017,-170.0050, 4817,    246.8,  19.2560,  35.6280,2,  35.6200,2,     5.87,2,    1.664,4,    0.843,4,     -9.0,9, -999.000, -999.000,9,-999.0000,-999.0000,9,  -999.00,  -999.00,9, -999.000, -999.000,9,    -9.00,9
  32MB19900222,  P15S,     2,  1,    216,     16,2,19900224,-15.0017,-170.0050, 4817,    296.6,  16.6500,  35.2850,2,  35.2860,2,     9.70,2,    1.184,4,    0.731,4,   2093.1,3, -999.000, -999.000,9,   1.7800,   0.0090,2,     1.57,     0.15,2,    7.099,    0.035,2,    -9.00,9
  32MB19900222,  P15S,     2,  1,    229,     15,2,19900224,-15.0017,-170.0050, 4817,    346.3,  14.1350,  35.0580,2,  35.0460,2,    -9.00,9,   -9.000,9,   -9.000,9,     -9.0,9,    0.326,    0.004,2,   1.7690,   0.0090,2,     1.79,     0.15,2,    7.155,    0.035,2,    -9.00,9
  32MB19900222,  P15S,     2,  1,    214,     14,2,19900224,-15.0017,-170.0050, 4817,    395.9,  10.7900,  34.6890,2,  34.7160,2,    20.91,2,    0.568,4,    0.398,4,   2140.7,3,    0.241,    0.004,2,   1.8230,   0.0090,2,     2.57,     0.15,2,    7.366,    0.036,2,    -9.00,9
  32MB19900222,  P15S,     2,  1,    203,     13,2,19900224,-15.0017,-170.0050, 4817,    495.2,   7.6680,  34.4960,2,  34.5220,2,    29.39,2,    0.285,4,    0.153,4,   2178.5,2,    0.059,    0.003,2,   1.8180,   0.0090,2,     4.09,     0.15,2,    7.527,    0.037,2,    -9.00,9
  32MB19900222,  P15S,     2,  1,    212,     12,2,19900224,-15.0017,-170.0050, 4817,    595.1,   6.2330,  34.4450,2,  34.4440,2,    -9.00,9,   -9.000,9,   -9.000,9,     -9.0,9,    0.022,    0.002,2,   1.8590,   0.0090,2,     7.15,     0.15,2,    7.645,    0.037,2,    -9.00,9
  32MB19900222,  P15S,     2,  1,    221,     11,2,19900224,-15.0017,-170.0050, 4817,    696.2,   5.3580,  34.4490,2,  34.4530,2,    -9.00,9,   -9.000,9,   -9.000,9,     -9.0,9, -999.000, -999.000,9,   1.8520,   0.0090,2,    11.91,     0.15,2,    7.708,    0.038,2,    -9.00,9
  32MB19900222,  P15S,     2,  1,    210,     10,2,19900224,-15.0017,-170.0050, 4817,    794.5,   4.8110,  34.4800,2,  34.4820,2,    -9.00,9,   -9.000,9,   -9.000,9,     -9.0,9,    0.014,    0.002,2,   1.8980,   0.0090,2,    13.77,     0.15,2,    7.822,    0.038,2,    -9.00,9
  32MB19900222,  P15S,     2,  1,    209,      9,2,19900224,-15.0017,-170.0050, 4817,    995.0,   4.0690,  34.5100,2,  34.5100,2,    -9.00,9,   -9.000,9,   -9.000,9,     -9.0,9,    0.012,    0.002,2,   1.8880,   0.0090,2,    18.76,     0.15,2,    7.825,    0.038,2,    -9.00,9
  32MB19900222,  P15S,     2,  1,    208,      8,2,19900224,-15.0017,-170.0050, 4817,   1243.5,   3.3010,  34.5550,2,  34.5540,2,    -9.00,9,   -9.000,9,   -9.000,9,     -9.0,9, -999.000, -999.000,9,-999.0000,-999.0000,9,  -999.00,  -999.00,9, -999.000, -999.000,9,    -9.00,9
  32MB19900222,  P15S,     2,  1,    207,      7,2,19900224,-15.0017,-170.0050, 4817,   1494.3,   2.7760,  34.5900,2,  34.5910,2,    -9.00,9,   -9.000,9,   -9.000,9,     -9.0,9,    0.013,    0.002,2,-999.0000,-999.0000,1,  -999.00,  -999.00,1, -999.000, -999.000,9,    -9.00,9
  32MB19900222,  P15S,     2,  1,    206,      6,2,19900224,-15.0017,-170.0050, 4817,   1742.7,   2.4170,  34.6160,2,  34.6140,2,    -9.00,9,   -9.000,9,   -9.000,9,     -9.0,9, -999.000, -999.000,9,-999.0000,-999.0000,9,  -999.00,  -999.00,9, -999.000, -999.000,9,    -9.00,9
  32MB19900222,  P15S,     2,  1,    205,      5,2,19900224,-15.0017,-170.0050, 4817,   1993.0,   2.1470,  34.6400,2,  34.6370,2,    -9.00,9,   -9.000,9,   -9.000,9,     -9.0,9, -999.000, -999.000,9,-999.0000,-999.0000,9,  -999.00,  -999.00,9, -999.000, -999.000,9,    -9.00,9
  32MB19900222,  P15S,     2,  1,    204,      4,2,19900224,-15.0017,-170.0050, 4817,   2492.6,   1.8900,  34.6590,2,  34.6610,2,    -9.00,9,   -9.000,9,   -9.000,9,     -9.0,9, -999.000, -999.000,9,-999.0000,-999.0000,9,  -999.00,  -999.00,9, -999.000, -999.000,9,    -9.00,9
  32MB19900222,  P15S,     2,  1,    213,      3,2,19900224,-15.0017,-170.0050, 4817,   2991.0,   1.7030,  34.6750,2,  34.6730,2,    -9.00,9,   -9.000,9,   -9.000,9,     -9.0,9, -999.000, -999.000,9,-999.0000,-999.0000,9,  -999.00,  -999.00,9, -999.000, -999.000,9,    -9.00,9
  32MB19900222,  P15S,     2,  1,    202,      2,2,19900224,-15.0017,-170.0050, 4817,   3492.4,   1.5220,  34.6870,2,  34.6860,2,    -9.00,9,   -9.000,9,   -9.000,9,     -9.0,9, -999.000, -999.000,9,-999.0000,-999.0000,9,  -999.00,  -999.00,9, -999.000, -999.000,9,    -9.00,9
  32MB19900222,  P15S,     2,  1,    201,      1,2,19900224,-15.0017,-170.0050, 4817,   3990.6,   1.3120,  34.7180,2,  34.7100,2,    -9.00,9,   -9.000,9,   -9.000,9,     -9.0,9, -999.000, -999.000,9,-999.0000,-999.0000,9,  -999.00,  -999.00,9, -999.000, -999.000,9,    -9.00,9
  32MB19900222,  P15S,     2,  1,    224,     24,2,19900224,-15.0017,-170.0050, 4817,   4493.5,   1.0500,  34.7160,2,  34.7120,2,    -9.00,9,    0.047,4,    0.045,4,     -9.0,9, -999.000, -999.000,9,-999.0000,-999.0000,9,  -999.00,  -999.00,9, -999.000, -999.000,9,    -9.00,9
  32MB19900222,  P15S,     3,  1,    324,     24,2,19900224,-16.4717,-169.9933, 5073,      3.3,  28.1320,  35.4720,2,  35.4690,2,    -9.00,9,    1.678,4,    0.809,4,   1960.1,2, -999.000, -999.000,9,-999.0000,-999.0000,9,  -999.00,  -999.00,9, -999.000, -999.000,9,     1.67,2
  32MB19900222,  P15S,     3,  1,    315,     23,2,19900224,-16.4717,-169.9933, 5073,     18.7,  27.3020,  35.4530,2,  35.4510,2,    -9.00,9,   -9.000,9,   -9.000,9,     -9.0,9, -999.000, -999.000,9,-999.0000,-999.0000,9,  -999.00,  -999.00,9, -999.000, -999.000,9,    -9.00,9
  32MB19900222,  P15S,     3,  1,    322,     22,2,19900224,-16.4717,-169.9933, 5073,     38.4,  27.1350,  35.4510,2,  35.4530,2,     0.39,2,    1.705,4,    0.860,4,   1966.1,2, -999.000, -999.000,9,-999.0000,-999.0000,9,  -999.00,  -999.00,9, -999.000, -999.000,9,     1.69,2
  32MB19900222,  P15S,     3,  1,    319,     21,2,19900224,-16.4717,-169.9933, 5073,     58.4,  26.6290,  35.4220,2,  35.4220,2,     0.39,2,    2.070,4,    0.929,4,   1963.7,2, -999.000, -999.000,9,-999.0000,-999.0000,9,  -999.00,  -999.00,9, -999.000, -999.000,9,    -9.00,9
  32MB19900222,  P15S,     3,  1,    318,     20,2,19900224,-16.4717,-169.9933, 5073,     78.5,  26.5380,  35.4220,2,  35.4220,2,     0.39,2,    1.989,4,    0.823,4,   1957.4,2, -999.000, -999.000,9,-999.0000,-999.0000,9,  -999.00,  -999.00,9, -999.000, -999.000,9,     1.64,2
  32MB19900222,  P15S,     3,  1,    323,     19,2,19900224,-16.4717,-169.9933, 5073,     98.3,  26.2910,  35.4620,2,  35.4550,2,     0.39,2,    1.670,4,    0.785,4,   1960.7,3, -999.000, -999.000,9,-999.0000,-999.0000,9,  -999.00,  -999.00,9, -999.000, -999.000,9,     1.67,2
  32MB19900222,  P15S,     3,  1,    320,     18,2,19900224,-16.4717,-169.9933, 5073,    122.7,  25.6700,  35.4900,2,  35.4980,2,     0.39,2,    1.654,4,    0.825,4,   1969.5,2, -999.000, -999.000,9,-999.0000,-999.0000,9,  -999.00,  -999.00,9, -999.000, -999.000,9,    -9.00,9
  32MB19900222,  P15S,     3,  1,    317,     17,2,19900224,-16.4717,-169.9933, 5073,    148.3,  24.0760,-999.0000,9,  35.6350,2,     0.39,2,    2.144,4,    0.806,4,   1994.7,3, -999.000, -999.000,9,-999.0000,-999.0000,9,  -999.00,  -999.00,9, -999.000, -999.000,9,     1.49,2
  32MB19900222,  P15S,     3,  1,    316,     16,2,19900224,-16.4717,-169.9933, 5073,    172.5,  22.6410,  35.8520,2,  35.8990,2,     1.72,2,    2.432,4,    0.763,4,   2050.6,2, -999.000, -999.000,9,-999.0000,-999.0000,9,  -999.00,  -999.00,9, -999.000, -999.000,9,    -9.00,9
  32MB19900222,  P15S,     3,  1,    329,     15,2,19900224,-16.4717,-169.9933, 5073,    198.1,  21.6330,  35.8300,2,  35.8310,2,     2.42,2,    1.647,4,    0.815,4,   2059.3,2, -999.000, -999.000,9,-999.0000,-999.0000,9,  -999.00,  -999.00,9, -999.000, -999.000,9,     1.27,2
  32MB19900222,  P15S,     3,  1,    314,     14,2,19900224,-16.4717,-169.9933, 5073,    248.6,  18.4420,-999.0000,9,  35.5190,2,     4.28,2,    1.535,4,    0.721,4,   2068.3,3, -999.000, -999.000,9,-999.0000,-999.0000,9,  -999.00,  -999.00,9, -999.000, -999.000,9,     1.20,2
  32MB19900222,  P15S,     3,  1,    303,     13,2,19900224,-16.4717,-169.9933, 5073,    298.3,  15.8490,  35.2270,2,  35.1880,2,     7.41,2,    1.288,4,    0.575,4,   2081.3,2, -999.000, -999.000,9,-999.0000,-999.0000,9,  -999.00,  -999.00,9, -999.000, -999.000,9,     1.29,2
  32MB19900222,  P15S,     3,  1,    312,     12,2,19900224,-16.4717,-169.9933, 5073,    346.9,  13.1230,  34.9920,2,  34.9410,2,    12.70,2,    0.999,4,    0.537,4,   2104.4,3, -999.000, -999.000,9,-999.0000,-999.0000,9,  -999.00,  -999.00,9, -999.000, -999.000,9,    -9.00,9
  32MB19900222,  P15S,     3,  1,    321,     11,2,19900224,-16.4717,-169.9933, 5073,    396.0,  11.2230,  34.7910,2,  34.7860,2,    15.65,2,    0.871,4,    0.373,4,   2119.1,2, -999.000, -999.000,9,-999.0000,-999.0000,9,  -999.00,  -999.00,9, -999.000, -999.000,9,     1.25,2
  32MB19900222,  P15S,     3,  1,    310,     10,2,19900224,-16.4717,-169.9933, 5073,    496.7,   7.9270,  34.4910,2,  34.4730,2,    25.32,2,    0.304,4,    0.210,4,   2160.6,2, -999.000, -999.000,9,-999.0000,-999.0000,9,  -999.00,  -999.00,9, -999.000, -999.000,9,     1.09,2
  32MB19900222,  P15S,     3,  1,    309,      9,2,19900224,-16.4717,-169.9933, 5073,    595.3,   6.1460,  34.3820,2,  34.3800,2,    -9.00,9,   -9.000,9,   -9.000,9,     -9.0,9, -999.000, -999.000,9,-999.0000,-999.0000,9,  -999.00,  -999.00,9, -999.000, -999.000,9,    -9.00,9
  32MB19900222,  P15S,     3,  1,    308,      8,2,19900224,-16.4717,-169.9933, 5073,    696.1,   5.5590,  34.4260,2,  34.4330,2,    -9.00,9,    0.019,4,    0.031,4,   2198.8,2, -999.000, -999.000,9,-999.0000,-999.0000,9,  -999.00,  -999.00,9, -999.000, -999.000,9,     0.82,2
  32MB19900222,  P15S,     3,  1,    307,      7,2,19900224,-16.4717,-169.9933, 5073,    795.8,   4.7560,  34.4330,2,  34.4320,2,    -9.00,9,    0.012,4,   -0.026,4,   2218.4,2, -999.000, -999.000,9,-999.0000,-999.0000,9,  -999.00,  -999.00,9, -999.000, -999.000,9,     0.77,2
  32MB19900222,  P15S,     3,  1,    328,      6,2,19900224,-16.4717,-169.9933, 5073,    895.0,   4.2230,  34.4780,2,  34.4810,2,    -9.00,9,    0.034,4,   -0.017,4,     -9.0,9, -999.000, -999.000,9,-999.0000,-999.0000,9,  -999.00,  -999.00,9, -999.000, -999.000,9,    -9.00,9
  32MB19900222,  P15S,     3,  1,    305,      5,2,19900224,-16.4717,-169.9933, 5073,    993.7,   4.0020,  34.5110,2,  34.5150,2,    -9.00,9,   -0.004,4,    0.018,4,   2261.1,2, -999.000, -999.000,9,-999.0000,-999.0000,9,  -999.00,  -999.00,9, -999.000, -999.000,9,    -9.00,9
  32MB19900222,  P15S,     3,  1,    304,      4,2,19900224,-16.4717,-169.9933, 5073,   1243.3,   3.2950,  34.5470,2,  34.5550,2,    -9.00,9,    0.084,4,    0.002,4,   2275.9,2, -999.000, -999.000,9,-999.0000,-999.0000,9,  -999.00,  -999.00,9, -999.000, -999.000,9,     0.42,2
  32MB19900222,  P15S,     3,  1,    313,      3,2,19900224,-16.4717,-169.9933, 5073,   1491.5,   2.7970,  34.5760,2,  34.5790,2,    -9.00,9,    0.348,4,    0.015,4,   2285.0,2, -999.000, -999.000,9,-999.0000,-999.0000,9,  -999.00,  -999.00,9, -999.000, -999.000,9,     0.35,2
  32MB19900222,  P15S,     3,  1,    302,      2,2,19900224,-16.4717,-169.9933, 5073,   1742.8,   2.4640,  34.6100,2,  34.6110,2,    -9.00,9,    0.134,4,   -0.005,4,   2297.2,2, -999.000, -999.000,9,-999.0000,-999.0000,9,  -999.00,  -999.00,9, -999.000, -999.000,9,    -9.00,9
  32MB19900222,  P15S,     3,  1,    301,      1,2,19900224,-16.4717,-169.9933, 5073,   1992.8,   2.2530,  34.6180,2,  34.6320,2,    -9.00,9,    0.056,4,   -0.017,4,   2297.1,2, -999.000, -999.000,9,-999.0000,-999.0000,9,  -999.00,  -999.00,9, -999.000, -999.000,9,     0.31,2