BOTTLE,20081204PRINUNIVRMKPRINUNIVRMK
EXPOCODE,SECT_ID,STNNBR,CASTNO,SAMPNO,BTLNBR,BTLNBR_FLAG_W,DATE,LATITUDE,LONGITUDE,DEPTH,CTDPRS,CTDTMP,CTDSAL,CTDSAL_FLAG_W,SALNTY,SALNTY_FLAG_W,NITRAT,NITRAT_FLAG_W,CFC-11,CFC-11_FLAG_W,CFC-12,CFC-12_FLAG_W,TCARBN,TCARBN_FLAG_W,TRITUM,TRITER,TRITUM_FLAG_W,HELIUM,HELIER,HELIUM_FLAG_W,DELHE3,DELHER,DELHE3_FLAG_W,NEON,NEONE,NEON_FLAG_W,DELC13,DELC13_FLAG_W
,,,,,,,,,,METERS,DBARS,ITS-90,PSS-78,,PSS-78,,UMOL/KG,,PMOL/KG,,PMOL/KG,,UMOL/KG,,TU,TU,,NMOL/KG,NMOL/KG,,PERCNT,PERCNT,,NMOL/KG,NMOL/KG,,O/OO,
  32MB19900222,  P15S,    55,  1,    242,     12,2,19900406,-10.0900,-169.9917, 5161,      5.9,  28.6950,  34.7840,2,  34.7620,2,     0.39,2,    1.557,2,    0.822,2,   1920.2,2,    1.215,    0.006,2,   1.6980,   0.0080,2,    -1.39,     0.15,2,    6.291,    0.031,2,     1.74,2
  32MB19900222,  P15S,    55,  1,    241,     11,2,19900406,-10.0900,-169.9917, 5161,     38.7,  28.6220,  34.9500,2,  34.9460,2,     0.39,2,    1.623,2,    0.840,2,   1934.6,2,    1.194,    0.006,2,   1.7020,   0.0080,2,    -1.05,     0.15,2,    6.369,    0.031,2,     1.74,2
  32MB19900222,  P15S,    55,  1,    252,     10,2,19900406,-10.0900,-169.9917, 5161,     97.7,  28.0830,  35.4310,2,  35.4340,2,     0.39,2,    1.632,2,    0.831,2,   1961.0,2,    1.142,    0.006,2,   1.7440,   0.0090,2,     0.30,     0.15,2,   15.057,    0.074,4,     1.76,2
  32MB19900222,  P15S,    55,  1,    251,      9,2,19900406,-10.0900,-169.9917, 5161,    197.5,  21.8090,  35.9410,2,  35.9370,2,     7.71,2,    1.514,2,    0.777,2,   2096.6,2,    0.840,    0.005,2,-999.0000,-999.0000,1,  -999.00,  -999.00,1, -999.000, -999.000,9,     1.30,2
  32MB19900222,  P15S,    55,  1,    250,      8,2,19900406,-10.0900,-169.9917, 5161,    294.4,  13.6960,  34.7810,2,  34.9630,4,    18.33,2,    0.719,4,    0.385,4,   2153.0,2,    0.344,    0.003,2,   1.7690,   0.0090,2,     2.21,     0.15,2,    6.671,    0.033,2,     0.90,2
  32MB19900222,  P15S,    55,  1,    249,      7,2,19900406,-10.0900,-169.9917, 5161,    396.7,   8.7190,  34.6300,2,  34.6260,2,    29.32,2,    0.072,2,    0.037,2,   2205.0,2,    0.071,    0.002,2,-999.0000,-999.0000,1,  -999.00,  -999.00,1, -999.000, -999.000,9,     0.70,2
  32MB19900222,  P15S,    55,  1,    248,      6,2,19900406,-10.0900,-169.9917, 5161,    494.4,   7.2740,  34.5620,2,  34.5620,2,    -9.00,9,    0.048,2,    0.029,2,   2220.8,2,    0.034,    0.001,2,   1.8220,   0.0090,2,     6.75,     0.15,2,    7.400,    0.036,2,     0.66,2
  32MB19900222,  P15S,    55,  1,    247,      5,2,19900406,-10.0900,-169.9917, 5161,    595.1,   6.3300,  34.5300,2,  34.5290,2,    -9.00,9,    0.014,6,    0.011,6,   2232.6,2,    0.014,    0.001,2,   1.8370,   0.0090,2,     8.77,     0.15,2,    7.542,    0.037,2,     0.55,2
  32MB19900222,  P15S,    55,  1,    246,      4,2,19900406,-10.0900,-169.9917, 5161,    792.9,   5.1080,  34.5200,2,  34.5180,2,    -9.00,9,    0.003,2,    0.003,2,   2256.5,2,    0.004,    0.001,2,   1.8580,   0.0090,2,    13.67,     0.15,2,    7.664,    0.038,2,     0.40,2
  32MB19900222,  P15S,    55,  1,    245,      3,2,19900406,-10.0900,-169.9917, 5161,    992.7,   4.4280,  34.5280,2,  34.5300,2,    -9.00,9,   -0.002,2,    0.000,2,   2268.6,2, -999.000, -999.000,1,   1.8660,   0.0090,2,    17.07,     0.15,2,    7.741,    0.038,2,     0.43,2
  32MB19900222,  P15S,    55,  1,    253,      2,2,19900406,-10.0900,-169.9917, 5161,   1244.8,   3.5520,  34.5610,2,  34.5620,2,    -9.00,9,   -0.002,2,    0.002,2,   2285.8,2,    0.005,    0.001,2,   1.9080,   0.0090,2,    22.18,     0.15,2,    7.935,    0.039,2,     0.39,2
  32MB19900222,  P15S,    55,  1,    243,      1,2,19900406,-10.0900,-169.9917, 5161,   1496.0,   2.8660,  34.6020,2,  34.5950,2,    -9.00,9,    0.000,2,    0.001,2,   2296.3,2,    0.006,    0.001,2,-999.0000,-999.0000,1,  -999.00,  -999.00,1, -999.000, -999.000,9,     0.27,2
  32MB19900222,  P15S,    55,  2,    353,     12,2,19900406,-10.0900,-169.9917, 5161,   1994.8,   2.1590,  34.6400,2,  34.6410,2,    -9.00,9,   -0.001,6,    0.001,6,   2313.8,2, -999.000, -999.000,9,-999.0000,-999.0000,9,  -999.00,  -999.00,9, -999.000, -999.000,9,     0.19,2
  32MB19900222,  P15S,    55,  2,    343,     11,2,19900406,-10.0900,-169.9917, 5161,   2494.9,   1.8290,  34.6660,2,  34.6660,2,    -9.00,9,   -0.004,2,   -0.002,2,   2317.5,2, -999.000, -999.000,9,-999.0000,-999.0000,9,  -999.00,  -999.00,9, -999.000, -999.000,9,     0.15,2
  32MB19900222,  P15S,    55,  2,    342,     10,2,19900406,-10.0900,-169.9917, 5161,   2982.6,   1.6510,  34.6800,2,  34.6790,2,    -9.00,9,    0.002,6,    0.002,6,   2325.7,2, -999.000, -999.000,9,-999.0000,-999.0000,9,  -999.00,  -999.00,9, -999.000, -999.000,9,     0.17,2
  32MB19900222,  P15S,    55,  2,    341,      9,2,19900406,-10.0900,-169.9917, 5161,   3396.6,   1.5700,  34.6860,2,  34.6840,2,    -9.00,9,    0.005,2,    0.001,2,   2312.7,2, -999.000, -999.000,9,-999.0000,-999.0000,9,  -999.00,  -999.00,9, -999.000, -999.000,9,    -9.00,9
  32MB19900222,  P15S,    55,  2,    351,      7,2,19900406,-10.0900,-169.9917, 5161,   3796.1,   1.4860,  34.6910,2,  34.6910,2,    -9.00,9,    0.047,4,    0.000,2,   2307.8,2, -999.000, -999.000,9,-999.0000,-999.0000,9,  -999.00,  -999.00,9, -999.000, -999.000,9,    -9.00,9
  32MB19900222,  P15S,    55,  2,    350,      6,2,19900406,-10.0900,-169.9917, 5161,   4197.6,   1.2270,  34.7110,2,  34.7110,2,    -9.00,9,    0.045,4,    0.000,2,   2270.0,2, -999.000, -999.000,9,-999.0000,-999.0000,9,  -999.00,  -999.00,9, -999.000, -999.000,9,     0.42,2
  32MB19900222,  P15S,    55,  2,    349,      5,2,19900406,-10.0900,-169.9917, 5161,   4598.2,   1.0510,  34.7120,2,  34.7120,2,    -9.00,9,    0.011,2,    0.005,2,   2260.8,2, -999.000, -999.000,9,-999.0000,-999.0000,9,  -999.00,  -999.00,9, -999.000, -999.000,9,    -9.00,9
  32MB19900222,  P15S,    55,  2,    348,      4,2,19900406,-10.0900,-169.9917, 5161,   4798.3,   1.0500,  34.7130,2,  34.7120,2,    -9.00,9,    0.003,2,    0.002,2,   2261.0,2, -999.000, -999.000,9,-999.0000,-999.0000,9,  -999.00,  -999.00,9, -999.000, -999.000,9,    -9.00,9
  32MB19900222,  P15S,    55,  2,    347,      3,2,19900406,-10.0900,-169.9917, 5161,   5157.6,   1.0880,  34.7110,2,  34.7100,2,    -9.00,9,    0.004,2,    0.001,2,   2260.2,2, -999.000, -999.000,9,-999.0000,-999.0000,9,  -999.00,  -999.00,9, -999.000, -999.000,9,    -9.00,9
  32MB19900222,  P15S,    55,  2,    346,      2,2,19900406,-10.0900,-169.9917, 5161,   5226.1,   1.0970,  34.7140,2,  34.7110,2,    -9.00,9,    0.003,6,    0.000,6,   2262.8,2, -999.000, -999.000,9,-999.0000,-999.0000,9,  -999.00,  -999.00,9, -999.000, -999.000,9,    -9.00,9
  32MB19900222,  P15S,    55,  2,    345,      1,2,19900406,-10.0900,-169.9917, 5161,   5230.0,   1.0970,  34.7130,2,  34.7110,2,    -9.00,9,    0.011,2,    0.000,2,     -9.0,9, -999.000, -999.000,9,-999.0000,-999.0000,9,  -999.00,  -999.00,9, -999.000, -999.000,9,     0.42,2
  32MB19900222,  P15S,    56,  1,    453,     12,2,19900406,-10.0883,-170.2483, 5929,   1993.3,   2.1620,  34.6440,2,  34.6410,2,    -9.00,9,    0.003,2,    0.001,2,   2318.7,2, -999.000, -999.000,9,-999.0000,-999.0000,9,  -999.00,  -999.00,9, -999.000, -999.000,9,    -9.00,9
  32MB19900222,  P15S,    56,  1,    443,     11,2,19900406,-10.0883,-170.2483, 5929,   2494.3,   1.8290,  34.6670,2,  34.6650,2,    -9.00,9,   -0.003,2,    0.000,2,   2320.9,2, -999.000, -999.000,9,-999.0000,-999.0000,9,  -999.00,  -999.00,9, -999.000, -999.000,9,    -9.00,9
  32MB19900222,  P15S,    56,  1,    442,     10,2,19900406,-10.0883,-170.2483, 5929,   2994.8,   1.6580,  34.6820,2,  34.6790,2,    -9.00,9,    0.000,2,    0.003,2,   2317.8,2, -999.000, -999.000,9,-999.0000,-999.0000,9,  -999.00,  -999.00,9, -999.000, -999.000,9,    -9.00,9
  32MB19900222,  P15S,    56,  1,    441,      9,2,19900406,-10.0883,-170.2483, 5929,   3394.9,   1.5590,  34.6840,2,  34.6850,2,    -9.00,9,    0.005,6,    0.001,2,   2310.0,2, -999.000, -999.000,9,-999.0000,-999.0000,9,  -999.00,  -999.00,9, -999.000, -999.000,9,    -9.00,9
  32MB19900222,  P15S,    56,  1,    451,      7,2,19900406,-10.0883,-170.2483, 5929,   3795.6,   1.4520,  34.6950,2,  34.6930,2,    -9.00,9,    0.000,2,    0.003,2,   2299.3,2, -999.000, -999.000,9,-999.0000,-999.0000,9,  -999.00,  -999.00,9, -999.000, -999.000,9,    -9.00,9
  32MB19900222,  P15S,    56,  1,    450,      6,2,19900406,-10.0883,-170.2483, 5929,   4196.2,   1.1380,  34.7120,2,  34.7120,2,    -9.00,9,    0.000,2,    0.005,2,   2262.1,2, -999.000, -999.000,9,-999.0000,-999.0000,9,  -999.00,  -999.00,9, -999.000, -999.000,9,    -9.00,9
  32MB19900222,  P15S,    56,  1,    449,      5,2,19900406,-10.0883,-170.2483, 5929,   4597.9,   1.0750,  34.7120,2,  34.7120,2,    -9.00,9,    0.000,2,    0.000,2,   2260.6,2, -999.000, -999.000,9,-999.0000,-999.0000,9,  -999.00,  -999.00,9, -999.000, -999.000,9,    -9.00,9
  32MB19900222,  P15S,    56,  1,    448,      4,2,19900406,-10.0883,-170.2483, 5929,   4798.6,   1.0640,  34.7120,2,  34.7120,2,    -9.00,9,    0.004,2,    0.009,2,   2259.9,2, -999.000, -999.000,9,-999.0000,-999.0000,9,  -999.00,  -999.00,9, -999.000, -999.000,9,    -9.00,9
  32MB19900222,  P15S,    56,  1,    447,      3,2,19900406,-10.0883,-170.2483, 5929,   5042.8,   1.0850,  34.7190,2,  34.7110,2,    -9.00,9,    0.000,2,    0.006,2,   2261.7,2, -999.000, -999.000,9,-999.0000,-999.0000,9,  -999.00,  -999.00,9, -999.000, -999.000,9,    -9.00,9
  32MB19900222,  P15S,    56,  1,    446,      2,2,19900406,-10.0883,-170.2483, 5929,   5107.1,   1.0930,  34.7120,2,  34.7120,2,    -9.00,9,    0.006,2,    0.000,2,   2262.0,2, -999.000, -999.000,9,-999.0000,-999.0000,9,  -999.00,  -999.00,9, -999.000, -999.000,9,    -9.00,9
  32MB19900222,  P15S,    56,  1,    445,      1,2,19900406,-10.0883,-170.2483, 5929,   5111.4,   1.0940,  34.7130,2,  34.7120,2,    -9.00,9,   -0.001,6,    0.000,6,     -9.0,9, -999.000, -999.000,9,-999.0000,-999.0000,9,  -999.00,  -999.00,9, -999.000, -999.000,9,    -9.00,9
  32MB19900222,  P15S,    57,  1,    553,     12,2,19900407, -9.4917,-170.2133, 4515,   1489.6,   2.8940,  34.5960,2,  34.6000,2,    -9.00,9,   -9.000,9,   -9.000,9,     -9.0,9, -999.000, -999.000,9,-999.0000,-999.0000,9,  -999.00,  -999.00,9, -999.000, -999.000,9,    -9.00,9
  32MB19900222,  P15S,    57,  1,    542,     10,2,19900407, -9.4917,-170.2133, 4515,   1490.1,   2.8890,-999.0000,9,  34.6000,2,    -9.00,9,   -9.000,9,   -9.000,9,     -9.0,9, -999.000, -999.000,9,-999.0000,-999.0000,9,  -999.00,  -999.00,9, -999.000, -999.000,9,    -9.00,9
  32MB19900222,  P15S,    57,  1,    543,     11,2,19900407, -9.4917,-170.2133, 4515,   1491.3,   2.8820,  34.5960,2,  34.6010,2,    -9.00,9,   -9.000,9,   -9.000,9,     -9.0,9, -999.000, -999.000,9,-999.0000,-999.0000,9,  -999.00,  -999.00,9, -999.000, -999.000,9,    -9.00,9
  32MB19900222,  P15S,    57,  1,    549,      5,2,19900407, -9.4917,-170.2133, 4515,   1491.5,   2.8900,  34.5980,2,  34.6000,2,    -9.00,9,   -9.000,9,   -9.000,9,     -9.0,9, -999.000, -999.000,9,-999.0000,-999.0000,9,  -999.00,  -999.00,9, -999.000, -999.000,9,    -9.00,9
  32MB19900222,  P15S,    57,  1,    550,      6,2,19900407, -9.4917,-170.2133, 4515,   1491.5,   2.8880,  34.5970,2,  34.6000,2,    -9.00,9,   -9.000,9,   -9.000,9,     -9.0,9, -999.000, -999.000,9,-999.0000,-999.0000,9,  -999.00,  -999.00,9, -999.000, -999.000,9,    -9.00,9
  32MB19900222,  P15S,    57,  1,    552,      8,2,19900407, -9.4917,-170.2133, 4515,   1491.8,   2.8830,  34.5940,2,  34.6020,2,    -9.00,9,   -9.000,9,   -9.000,9,     -9.0,9, -999.000, -999.000,9,-999.0000,-999.0000,9,  -999.00,  -999.00,9, -999.000, -999.000,9,    -9.00,9
  32MB19900222,  P15S,    57,  1,    541,      9,2,19900407, -9.4917,-170.2133, 4515,   1491.9,   2.8850,  34.5940,2,  34.5980,2,    -9.00,9,   -9.000,9,   -9.000,9,     -9.0,9, -999.000, -999.000,9,-999.0000,-999.0000,9,  -999.00,  -999.00,9, -999.000, -999.000,9,    -9.00,9
  32MB19900222,  P15S,    57,  1,    546,      2,2,19900407, -9.4917,-170.2133, 4515,   1492.2,   2.8860,  34.5960,2,  34.6010,2,    -9.00,9,   -9.000,9,   -9.000,9,     -9.0,9, -999.000, -999.000,9,-999.0000,-999.0000,9,  -999.00,  -999.00,9, -999.000, -999.000,9,    -9.00,9
  32MB19900222,  P15S,    57,  1,    548,      4,2,19900407, -9.4917,-170.2133, 4515,   1492.3,   2.8850,  34.5910,2,  34.6010,2,    -9.00,9,   -9.000,9,   -9.000,9,     -9.0,9, -999.000, -999.000,9,-999.0000,-999.0000,9,  -999.00,  -999.00,9, -999.000, -999.000,9,    -9.00,9
  32MB19900222,  P15S,    57,  1,    551,      7,2,19900407, -9.4917,-170.2133, 4515,   1492.3,   2.8820,  34.5950,2,  34.6010,2,    -9.00,9,   -9.000,9,   -9.000,9,     -9.0,9, -999.000, -999.000,9,-999.0000,-999.0000,9,  -999.00,  -999.00,9, -999.000, -999.000,9,    -9.00,9
  32MB19900222,  P15S,    57,  1,    547,      3,2,19900407, -9.4917,-170.2133, 4515,   1492.8,   2.8830,  34.5960,2,  34.6010,2,    -9.00,9,   -9.000,9,   -9.000,9,     -9.0,9, -999.000, -999.000,9,-999.0000,-999.0000,9,  -999.00,  -999.00,9, -999.000, -999.000,9,    -9.00,9
  32MB19900222,  P15S,    57,  1,    545,      1,2,19900407, -9.4917,-170.2133, 4515,   1493.1,   2.8840,  34.6150,2,  34.6050,2,    -9.00,9,   -9.000,9,   -9.000,9,     -9.0,9, -999.000, -999.000,9,-999.0000,-999.0000,9,  -999.00,  -999.00,9, -999.000, -999.000,9,    -9.00,9
  32MB19900222,  P15S,    58,  1,    653,     12,2,19900407, -5.0017,-170.0133, 5413,      5.2,  29.0470,  35.5310,2,  35.5300,2,    -9.00,9,   -9.000,9,   -9.000,9,     -9.0,9,    1.104,    0.005,2,   1.6960,   0.0080,2,    -1.12,     0.15,2,    6.307,    0.031,2,    -9.00,9
  32MB19900222,  P15S,    58,  1,    643,     11,2,19900407, -5.0017,-170.0133, 5413,     17.6,  29.0060,  35.5340,2,  35.5340,2,     0.61,2,    1.547,2,    0.791,3,   1973.2,2,    1.141,    0.006,2,   1.6900,   0.0080,2,    -1.20,     0.15,2,    6.272,    0.031,2,    -9.00,9
  32MB19900222,  P15S,    58,  1,    642,     10,2,19900407, -5.0017,-170.0133, 5413,     36.2,  28.9910,  35.5360,2,  35.5350,2,     0.66,2,    1.580,2,    0.836,2,   1972.5,2,    1.128,    0.005,2,   1.6900,   0.0080,6,    -1.21,     0.15,6,    6.289,    0.031,6,    -9.00,9
  32MB19900222,  P15S,    58,  1,    641,      9,2,19900407, -5.0017,-170.0133, 5413,     68.1,  28.8550,  35.5470,2,  35.5430,2,     1.27,2,    1.614,2,    0.845,2,   1979.2,2, -999.000, -999.000,9,-999.0000,-999.0000,9,  -999.00,  -999.00,9, -999.000, -999.000,9,    -9.00,9
  32MB19900222,  P15S,    58,  1,    652,      8,2,19900407, -5.0017,-170.0133, 5413,     98.7,  28.3050,  35.6960,2,  35.6960,2,     2.47,2,    1.556,2,    0.822,2,   2004.8,2,    1.155,    0.005,2,   1.6890,   0.0080,6,    -1.36,     0.15,6,    6.239,    0.030,6,    -9.00,9
  32MB19900222,  P15S,    58,  1,    651,      7,2,19900407, -5.0017,-170.0133, 5413,    122.8,  28.1870,  35.7150,2,  35.7040,2,     2.67,2,    1.591,2,    0.870,2,     -9.0,9, -999.000, -999.000,9,-999.0000,-999.0000,9,  -999.00,  -999.00,9, -999.000, -999.000,9,    -9.00,9
  32MB19900222,  P15S,    58,  1,    650,      6,2,19900407, -5.0017,-170.0133, 5413,    147.2,  27.0720,  35.8010,2,  35.8110,2,     5.47,2,    1.570,2,    0.821,2,   2036.8,2, -999.000, -999.000,9,-999.0000,-999.0000,9,  -999.00,  -999.00,9, -999.000, -999.000,9,    -9.00,9
  32MB19900222,  P15S,    58,  1,    649,      5,2,19900407, -5.0017,-170.0133, 5413,    198.3,  20.6280,  35.8420,2,  35.8400,2,    10.00,2,    1.465,2,    0.790,2,   2118.2,2,    0.737,    0.004,2,   1.7330,   0.0080,6,     0.35,     0.15,6,    6.658,    0.033,6,    -9.00,9
  32MB19900222,  P15S,    58,  1,    648,      4,2,19900407, -5.0017,-170.0133, 5413,    248.0,  14.0570,  35.0980,2,  35.0900,2,    22.15,2,    0.686,2,    0.355,2,   2186.7,2, -999.000, -999.000,9,-999.0000,-999.0000,9,  -999.00,  -999.00,9, -999.000, -999.000,9,    -9.00,9
  32MB19900222,  P15S,    58,  1,    647,      3,2,19900407, -5.0017,-170.0133, 5413,    295.9,  11.5810,  34.8610,2,  34.8660,2,    27.63,2,    0.252,2,    0.130,2,   2212.9,2,    0.220,    0.002,2,-999.0000,-999.0000,9,  -999.00,  -999.00,9, -999.000, -999.000,9,    -9.00,9
  32MB19900222,  P15S,    58,  1,    646,      2,2,19900407, -5.0017,-170.0133, 5413,    347.0,  10.2420,  34.7640,2,  34.7640,2,    -9.00,9,    0.127,2,    0.049,2,     -9.0,9, -999.000, -999.000,9,-999.0000,-999.0000,9,  -999.00,  -999.00,9, -999.000, -999.000,9,    -9.00,9
  32MB19900222,  P15S,    58,  1,    645,      1,2,19900407, -5.0017,-170.0133, 5413,    397.0,   9.4100,  34.7100,2,  34.7110,2,    -9.00,9,    0.066,2,    0.031,2,   2230.1,2,    0.087,    0.002,2,   1.8100,   0.0090,6,     5.15,     0.15,6,    7.344,    0.036,6,    -9.00,9
  32MB19900222,  P15S,    58,  2,    753,     12,2,19900407, -5.0017,-170.0133, 5413,    445.9,   8.6440,  34.6660,2,  34.6630,2,    -9.00,9,    0.028,2,    0.015,2,     -9.0,9, -999.000, -999.000,1,-999.0000,-999.0000,1,  -999.00,  -999.00,1, -999.000, -999.000,9,    -9.00,9
  32MB19900222,  P15S,    58,  2,    743,     11,2,19900407, -5.0017,-170.0133, 5413,    494.0,   8.3050,  34.6480,2,  34.6460,2,    -9.00,9,    0.027,2,    0.006,2,   2250.7,2,    0.044,    0.002,2,   1.8030,   0.0090,6,     6.09,     0.15,6,    7.192,    0.035,6,    -9.00,9
  32MB19900222,  P15S,    58,  2,    742,     10,2,19900407, -5.0017,-170.0133, 5413,    595.1,   7.4730,  34.6040,2,  34.6030,2,    -9.00,9,    0.068,4,    0.020,3,   2251.6,2,    0.024,    0.002,2,   1.8240,   0.0090,6,     7.71,     0.15,6,    7.477,    0.036,6,    -9.00,9
  32MB19900222,  P15S,    58,  2,    741,      9,2,19900407, -5.0017,-170.0133, 5413,    694.5,   6.4980,  34.5620,2,  34.5590,2,    -9.00,9,    0.009,2,    0.002,2,   2252.8,2,    0.051,    0.002,2,   1.8340,   0.0090,2,     9.69,     0.15,2,    7.521,    0.037,2,    -9.00,9
  32MB19900222,  P15S,    58,  2,    752,      8,2,19900407, -5.0017,-170.0133, 5413,    795.0,   5.8550,  34.5420,2,  34.5410,2,    -9.00,9,    0.038,4,    0.016,3,   2256.7,2,    0.103,    0.002,2,   1.8440,   0.0090,6,    11.80,     0.15,6,    7.438,    0.036,6,    -9.00,9
  32MB19900222,  P15S,    58,  2,    751,      7,2,19900407, -5.0017,-170.0133, 5413,    895.7,   5.2260,  34.5370,2,  34.5360,2,    -9.00,9,    0.029,4,    0.008,2,   2263.1,2,    0.014,    0.001,2,   1.8580,   0.0090,2,    13.99,     0.15,2,    7.385,    0.036,2,    -9.00,9
  32MB19900222,  P15S,    58,  2,    750,      6,2,19900407, -5.0017,-170.0133, 5413,    992.1,   4.7080,-999.0000,9,  34.5410,2,    -9.00,9,    0.008,2,    0.001,2,   2274.3,2,    0.008,    0.001,2,   1.8690,   0.0090,2,    16.53,     0.15,2,    7.723,    0.038,2,    -9.00,9
  32MB19900222,  P15S,    58,  2,    749,      5,2,19900407, -5.0017,-170.0133, 5413,   1094.0,   4.2080,  34.5560,2,  34.5520,2,    -9.00,9,    0.001,2,    0.006,2,     -9.0,9, -999.000, -999.000,1,-999.0000,-999.0000,1,  -999.00,  -999.00,1, -999.000, -999.000,9,    -9.00,9
  32MB19900222,  P15S,    58,  2,    748,      4,2,19900407, -5.0017,-170.0133, 5413,   1240.7,   3.6160,  34.5760,2,  34.5730,2,    -9.00,9,   -0.001,2,    0.002,2,   2300.6,2,    0.024,    0.001,2,   1.9000,   0.0090,2,    22.12,     0.15,2,    7.749,    0.038,2,    -9.00,9
  32MB19900222,  P15S,    58,  2,    747,      3,2,19900407, -5.0017,-170.0133, 5413,   1493.7,   2.9240,  34.6120,2,  34.6040,2,    -9.00,9,    0.000,2,    0.000,2,   2312.5,2,    0.008,    0.001,2,-999.0000,-999.0000,1,  -999.00,  -999.00,1, -999.000, -999.000,9,    -9.00,9
  32MB19900222,  P15S,    58,  2,    746,      2,2,19900407, -5.0017,-170.0133, 5413,   1743.4,   2.4960,  34.6320,2,  34.6280,2,    -9.00,9,    0.017,4,    0.008,4,   2324.0,2, -999.000, -999.000,1,-999.0000,-999.0000,1,  -999.00,  -999.00,1, -999.000, -999.000,9,    -9.00,9
  32MB19900222,  P15S,    58,  2,    745,      1,2,19900407, -5.0017,-170.0133, 5413,   1994.2,   2.2060,  34.6470,2,  34.6470,2,    -9.00,9,    0.009,2,    0.000,2,   2329.9,2, -999.000, -999.000,1,-999.0000,-999.0000,1,  -999.00,  -999.00,1, -999.000, -999.000,9,    -9.00,9