BOTTLE,20081204PRINUNIVRMKPRINUNIVRMK
EXPOCODE,SECT_ID,STNNBR,CASTNO,SAMPNO,BTLNBR,BTLNBR_FLAG_W,DATE,LATITUDE,LONGITUDE,DEPTH,CTDPRS,CTDTMP,CTDSAL,CTDSAL_FLAG_W,SALNTY,SALNTY_FLAG_W,NITRAT,NITRAT_FLAG_W,CFC-11,CFC-11_FLAG_W,CFC-12,CFC-12_FLAG_W,TCARBN,TCARBN_FLAG_W,TRITUM,TRITER,TRITUM_FLAG_W,HELIUM,HELIER,HELIUM_FLAG_W,DELHE3,DELHER,DELHE3_FLAG_W,NEON,NEONE,NEON_FLAG_W,DELC13,DELC13_FLAG_W
,,,,,,,,,,METERS,DBARS,ITS-90,PSS-78,,PSS-78,,UMOL/KG,,PMOL/KG,,PMOL/KG,,UMOL/KG,,TU,TU,,NMOL/KG,NMOL/KG,,PERCNT,PERCNT,,NMOL/KG,NMOL/KG,,O/OO,
  32MB19900222,  P15S,    68,  1,    952,     12,2,19900412,  5.0017,-170.0100, 7161,      5.6,  28.3640,  34.9980,2,  34.9990,2,     1.04,2,    1.712,2,    1.966,4,   1949.0,2, -999.000, -999.000,9,   1.6990,   0.0080,2,    -1.27,     0.15,2,    6.416,    0.031,2,     1.65,2
  32MB19900222,  P15S,    68,  1,    951,     11,2,19900412,  5.0017,-170.0100, 7161,     18.5,  28.3730,  35.0020,2,  35.0010,2,     0.98,2,    1.581,2,    0.845,2,   1956.7,2,    1.416,    0.007,2,   1.7000,   0.0080,2,    -1.24,     0.15,2,    6.360,    0.031,2,    -9.00,9
  32MB19900222,  P15S,    68,  1,    950,     10,2,19900412,  5.0017,-170.0100, 7161,     39.6,  28.4410,  35.0480,2,  35.0490,2,     1.22,2,    1.572,2,    0.853,2,   1962.7,2,    1.368,    0.007,2,   1.7010,   0.0080,2,    -1.51,     0.15,2,    6.436,    0.032,2,    -9.00,9
  32MB19900222,  P15S,    68,  1,    949,      9,2,19900412,  5.0017,-170.0100, 7161,     66.3,  28.4410,  35.1160,2,  35.1140,2,     1.52,2,    1.559,2,    0.871,2,   1968.1,2, -999.000, -999.000,9,-999.0000,-999.0000,9,  -999.00,  -999.00,9, -999.000, -999.000,9,    -9.00,9
  32MB19900222,  P15S,    68,  1,    948,      8,2,19900412,  5.0017,-170.0100, 7161,     97.4,  28.0450,  35.1550,2,  35.1510,2,     3.05,2,    1.539,2,    0.824,2,   1985.1,2,    1.393,    0.007,2,   1.7030,   0.0080,2,    -1.08,     0.15,2,    6.406,    0.031,2,    -9.00,9
  32MB19900222,  P15S,    68,  1,    947,      7,2,19900412,  5.0017,-170.0100, 7161,    122.2,  26.3270,  35.0950,2,  35.0930,2,     6.58,2,    1.499,2,    0.824,2,   2008.0,2, -999.000, -999.000,9,-999.0000,-999.0000,9,  -999.00,  -999.00,9, -999.000, -999.000,9,    -9.00,9
  32MB19900222,  P15S,    68,  1,    946,      6,2,19900412,  5.0017,-170.0100, 7161,    146.0,  23.1770,  34.9550,2,  34.9560,2,     8.83,2,    1.484,2,    0.780,2,   2031.0,2, -999.000, -999.000,9,-999.0000,-999.0000,9,  -999.00,  -999.00,9, -999.000, -999.000,9,    -9.00,9
  32MB19900222,  P15S,    68,  1,    945,      5,2,19900412,  5.0017,-170.0100, 7161,    196.6,  14.4420,  34.6130,2,  34.5950,2,    18.64,2,    1.158,2,    0.597,2,   2127.9,2,    1.860,    0.008,3,   1.7770,   0.0090,2,     8.79,     0.15,2,    7.069,    0.035,2,    -9.00,9
  32MB19900222,  P15S,    68,  1,    953,      4,2,19900412,  5.0017,-170.0100, 7161,    295.9,   9.9850,  34.6610,2,  34.6680,2,    -9.00,9,    0.160,2,    0.101,2,   2225.9,2,    0.166,    0.002,2,   1.7970,   0.0090,2,     7.75,     0.15,2,    7.222,    0.035,2,    -9.00,9
  32MB19900222,  P15S,    68,  1,    943,      3,2,19900412,  5.0017,-170.0100, 7161,    496.6,   7.9780,-999.0000,9,  34.6110,2,    -9.00,9,    0.018,2,    0.003,2,   2266.0,2,    0.028,    0.001,2,-999.0000,-999.0000,9,  -999.00,  -999.00,9, -999.000, -999.000,9,    -9.00,9
  32MB19900222,  P15S,    68,  1,    942,      2,2,19900412,  5.0017,-170.0100, 7161,    695.1,   6.2080,  34.5530,2,  34.5580,2,    -9.00,9,    0.009,2,    0.005,2,   2295.0,3,    0.015,    0.002,2,   1.8470,   0.0090,2,    11.81,     0.15,2,    7.538,    0.037,2,    -9.00,9
  32MB19900222,  P15S,    68,  1,    941,      1,2,19900412,  5.0017,-170.0100, 7161,    996.9,   4.4930,  34.5640,2,  34.5680,2,    -9.00,9,    0.000,2,    0.006,2,   2313.1,2,    0.011,    0.002,2,   1.8830,   0.0090,2,    18.45,     0.15,2,    7.663,    0.038,2,    -9.00,9
  32MB19900222,  P15S,    69,  1,     43,      3,2,19900412,  5.2283,-169.8733, 5496,   1238.4,   3.5370,  34.5900,2,  34.5960,2,    -9.00,9,   -9.000,9,   -9.000,9,     -9.0,9, -999.000, -999.000,9,-999.0000,-999.0000,9,  -999.00,  -999.00,9, -999.000, -999.000,9,    -9.00,9
  32MB19900222,  P15S,    69,  1,     42,      2,2,19900412,  5.2283,-169.8733, 5496,   1240.0,   3.5340,-999.0000,9,  34.5970,2,    -9.00,9,   -9.000,9,   -9.000,9,     -9.0,9, -999.000, -999.000,9,-999.0000,-999.0000,9,  -999.00,  -999.00,9, -999.000, -999.000,9,    -9.00,9
  32MB19900222,  P15S,    69,  1,     53,      4,2,19900412,  5.2283,-169.8733, 5496,   1240.1,   3.5340,  34.5890,2,  34.5970,2,    -9.00,9,   -9.000,9,   -9.000,9,     -9.0,9, -999.000, -999.000,9,-999.0000,-999.0000,9,  -999.00,  -999.00,9, -999.000, -999.000,9,    -9.00,9
  32MB19900222,  P15S,    69,  1,     47,      7,2,19900412,  5.2283,-169.8733, 5496,   1240.7,   3.5330,  34.5920,2,  34.5950,2,    -9.00,9,   -9.000,9,   -9.000,9,     -9.0,9, -999.000, -999.000,9,-999.0000,-999.0000,9,  -999.00,  -999.00,9, -999.000, -999.000,9,    -9.00,9
  32MB19900222,  P15S,    69,  1,     45,      5,2,19900412,  5.2283,-169.8733, 5496,   1241.8,   3.5310,  34.5890,2,  34.5970,2,    -9.00,9,   -9.000,9,   -9.000,9,     -9.0,9, -999.000, -999.000,9,-999.0000,-999.0000,9,  -999.00,  -999.00,9, -999.000, -999.000,9,    -9.00,9
  32MB19900222,  P15S,    69,  1,     41,      1,2,19900412,  5.2283,-169.8733, 5496,   1242.3,   3.5310,  34.5900,2,  34.5950,2,    -9.00,9,   -9.000,9,   -9.000,9,     -9.0,9, -999.000, -999.000,9,-999.0000,-999.0000,9,  -999.00,  -999.00,9, -999.000, -999.000,9,    -9.00,9
  32MB19900222,  P15S,    69,  1,     46,      6,2,19900412,  5.2283,-169.8733, 5496,   1242.6,   3.5310,  34.5900,2,  34.5960,2,    -9.00,9,   -9.000,9,   -9.000,9,     -9.0,9, -999.000, -999.000,9,-999.0000,-999.0000,9,  -999.00,  -999.00,9, -999.000, -999.000,9,    -9.00,9
  32MB19900222,  P15S,    69,  1,     48,      8,2,19900412,  5.2283,-169.8733, 5496,   1243.5,   3.5300,  34.5930,2,  34.5970,2,    -9.00,9,   -9.000,9,   -9.000,9,     -9.0,9, -999.000, -999.000,9,-999.0000,-999.0000,9,  -999.00,  -999.00,9, -999.000, -999.000,9,    -9.00,9
  32MB19900222,  P15S,    69,  1,     49,      9,2,19900412,  5.2283,-169.8733, 5496,   1244.8,   3.5300,  34.5900,2,  34.5950,2,    -9.00,9,   -9.000,9,   -9.000,9,     -9.0,9, -999.000, -999.000,9,-999.0000,-999.0000,9,  -999.00,  -999.00,9, -999.000, -999.000,9,    -9.00,9
  32MB19900222,  P15S,    69,  1,     50,     10,2,19900412,  5.2283,-169.8733, 5496,   1245.7,   3.5280,  34.5900,2,  34.5950,2,    -9.00,9,   -9.000,9,   -9.000,9,     -9.0,9, -999.000, -999.000,9,-999.0000,-999.0000,9,  -999.00,  -999.00,9, -999.000, -999.000,9,    -9.00,9
  32MB19900222,  P15S,    69,  1,     51,     11,2,19900412,  5.2283,-169.8733, 5496,   1247.1,   3.5210,  34.5890,2,  34.5950,2,    -9.00,9,   -9.000,9,   -9.000,9,     -9.0,9, -999.000, -999.000,9,-999.0000,-999.0000,9,  -999.00,  -999.00,9, -999.000, -999.000,9,    -9.00,9
  32MB19900222,  P15S,    69,  1,     52,     12,2,19900412,  5.2283,-169.8733, 5496,   1247.4,   3.5250,  34.5920,2,  34.5980,2,    -9.00,9,   -9.000,9,   -9.000,9,     -9.0,9, -999.000, -999.000,9,-999.0000,-999.0000,9,  -999.00,  -999.00,9, -999.000, -999.000,9,    -9.00,9