BOTTLE,20081204PRINUNIVRMKPRINUNIVRMK
EXPOCODE,SECT_ID,STNNBR,CASTNO,SAMPNO,BTLNBR,BTLNBR_FLAG_W,DATE,LATITUDE,LONGITUDE,DEPTH,CTDPRS,CTDTMP,CTDSAL,CTDSAL_FLAG_W,SALNTY,SALNTY_FLAG_W,NITRAT,NITRAT_FLAG_W,CFC-11,CFC-11_FLAG_W,CFC-12,CFC-12_FLAG_W,TCARBN,TCARBN_FLAG_W,TRITUM,TRITER,TRITUM_FLAG_W,HELIUM,HELIER,HELIUM_FLAG_W,DELHE3,DELHER,DELHE3_FLAG_W,NEON,NEONE,NEON_FLAG_W,DELC13,DELC13_FLAG_W
,,,,,,,,,,METERS,DBARS,ITS-90,PSS-78,,PSS-78,,UMOL/KG,,PMOL/KG,,PMOL/KG,,UMOL/KG,,TU,TU,,NMOL/KG,NMOL/KG,,PERCNT,PERCNT,,NMOL/KG,NMOL/KG,,O/OO,
  32MB19900222,  P15S,    27,  2,    947,     12,2,19900308,-51.9933,-169.9867, 4981,   1443.9,   2.7110,  34.5090,2,  34.5100,2,    -9.00,9,    0.283,2,    0.128,2,   2241.2,2, -999.000, -999.000,9,-999.0000,-999.0000,9,  -999.00,  -999.00,9, -999.000, -999.000,9,     0.52,2
  32MB19900222,  P15S,    27,  2,    946,     11,2,19900308,-51.9933,-169.9867, 4981,   1992.8,   2.2910,  34.6760,2,  34.6710,2,    -9.00,9,    0.069,6,    0.024,3,   2251.3,2, -999.000, -999.000,9,-999.0000,-999.0000,9,  -999.00,  -999.00,9, -999.000, -999.000,9,     0.44,2
  32MB19900222,  P15S,    27,  2,    945,     10,2,19900308,-51.9933,-169.9867, 4981,   2496.2,   2.0090,  34.7350,2,  34.7330,2,    -9.00,9,    0.026,2,    0.012,2,   2246.1,3, -999.000, -999.000,9,-999.0000,-999.0000,9,  -999.00,  -999.00,9, -999.000, -999.000,9,     0.47,2
  32MB19900222,  P15S,    27,  2,    944,      9,2,19900308,-51.9933,-169.9867, 4981,   2995.1,   1.6470,  34.7420,2,  34.7390,2,    -9.00,9,    0.007,2,    0.001,2,   2248.4,2, -999.000, -999.000,9,-999.0000,-999.0000,9,  -999.00,  -999.00,9, -999.000, -999.000,9,     0.44,2
  32MB19900222,  P15S,    27,  2,    943,      8,2,19900308,-51.9933,-169.9867, 4981,   3495.4,   1.3070,  34.7270,2,  34.7300,2,    -9.00,9,    0.001,2,    0.001,2,   2253.0,2, -999.000, -999.000,9,-999.0000,-999.0000,9,  -999.00,  -999.00,9, -999.000, -999.000,9,     0.46,2
  32MB19900222,  P15S,    27,  2,    942,      7,2,19900308,-51.9933,-169.9867, 4981,   3995.7,   1.0470,  34.7160,2,  34.7170,2,    -9.00,9,    0.008,2,    0.002,2,   2254.4,2, -999.000, -999.000,9,-999.0000,-999.0000,9,  -999.00,  -999.00,9, -999.000, -999.000,9,     0.46,2
  32MB19900222,  P15S,    27,  2,    941,      6,2,19900308,-51.9933,-169.9867, 4981,   4496.3,   0.9230,  34.7080,2,  34.7090,2,    -9.00,9,    0.028,2,    0.010,2,   2255.7,2, -999.000, -999.000,9,-999.0000,-999.0000,9,  -999.00,  -999.00,9, -999.000, -999.000,9,     0.48,2
  32MB19900222,  P15S,    27,  2,    951,      4,2,19900308,-51.9933,-169.9867, 4981,   4802.8,   0.9200,  34.7080,2,  34.7070,2,    -9.00,9,    0.031,2,    0.011,2,   2257.0,2, -999.000, -999.000,9,-999.0000,-999.0000,9,  -999.00,  -999.00,9, -999.000, -999.000,9,     0.45,2
  32MB19900222,  P15S,    27,  2,    950,      3,2,19900308,-51.9933,-169.9867, 4981,   5000.3,   0.9340,  34.7140,2,  34.7080,2,    -9.00,9,    0.030,2,    0.012,2,   2256.0,2, -999.000, -999.000,9,-999.0000,-999.0000,9,  -999.00,  -999.00,9, -999.000, -999.000,9,     0.39,2
  32MB19900222,  P15S,    27,  2,    949,      2,2,19900308,-51.9933,-169.9867, 4981,   5062.0,   0.9380,  34.7080,2,  34.7080,2,    -9.00,9,    0.030,2,    0.018,2,   2257.7,2, -999.000, -999.000,9,-999.0000,-999.0000,9,  -999.00,  -999.00,9, -999.000, -999.000,9,    -9.00,9
  32MB19900222,  P15S,    27,  2,    948,      1,2,19900308,-51.9933,-169.9867, 4981,   5128.4,   0.9410,  34.7080,2,  34.7070,2,    -9.00,9,    0.035,6,    0.018,6,   2256.3,2, -999.000, -999.000,9,-999.0000,-999.0000,9,  -999.00,  -999.00,9, -999.000, -999.000,9,     0.46,2
  32MB19900222,  P15S,    28,  1,     47,     12,2,19900310,-56.7017,-170.0567, 4883,      5.5,   5.5260,  33.9540,2,  33.9570,2,    -9.00,9,   -9.000,9,   -9.000,9,     -9.0,9,    0.170,    0.003,2,   1.7980,   0.0090,2,    -1.69,     0.15,2,    7.788,    0.038,2,    -9.00,9
  32MB19900222,  P15S,    28,  1,     46,     11,2,19900310,-56.7017,-170.0567, 4883,     17.5,   5.4730,  33.9540,2,  33.9540,2,    22.05,2,    4.527,6,    2.113,6,   2102.3,2,    0.159,    0.003,2,   1.7970,   0.0090,2,    -1.44,     0.15,2,    7.797,    0.038,2,     1.68,2
  32MB19900222,  P15S,    28,  1,     45,     10,2,19900310,-56.7017,-170.0567, 4883,     47.5,   5.4080,  33.9570,2,  33.9550,2,    22.05,2,    4.618,2,    2.158,2,   2103.7,2,    0.155,    0.003,2,-999.0000,-999.0000,9,  -999.00,  -999.00,9, -999.000, -999.000,9,     1.76,2
  32MB19900222,  P15S,    28,  1,     44,      9,2,19900310,-56.7017,-170.0567, 4883,     96.1,   5.4120,  33.9570,2,  33.9570,2,    22.14,2,    4.426,2,    2.121,2,   2103.5,2,    0.189,    0.003,2,   1.7930,   0.0090,2,    -1.56,     0.15,2,    7.794,    0.038,2,     1.74,2
  32MB19900222,  P15S,    28,  1,     43,      8,2,19900310,-56.7017,-170.0567, 4883,    146.1,   4.6720,  34.0790,2,  34.0830,2,    24.06,2,    4.177,2,    2.041,2,   2123.0,2, -999.000, -999.000,9,-999.0000,-999.0000,9,  -999.00,  -999.00,9, -999.000, -999.000,9,     1.55,2
  32MB19900222,  P15S,    28,  1,     42,      7,2,19900310,-56.7017,-170.0567, 4883,    197.6,   4.2890,  34.0900,2,  34.0860,2,    25.55,2,    3.962,2,    1.917,2,   2132.7,2,    0.207,    0.004,2,   1.8120,   0.0090,2,    -0.85,     0.15,2,    7.880,    0.039,2,     1.40,2
  32MB19900222,  P15S,    28,  1,     41,      6,2,19900310,-56.7017,-170.0567, 4883,    295.9,   4.1190,  34.1620,2,  34.1620,2,    27.39,2,    3.032,2,    1.493,2,   2150.6,2,    0.149,    0.003,2,   1.8120,   0.0090,2,     0.12,     0.15,2,    7.886,    0.039,2,     1.25,2
  32MB19900222,  P15S,    28,  1,     52,      5,2,19900310,-56.7017,-170.0567, 4883,    396.5,   3.6300,  34.1990,2,  34.2010,2,    29.66,2,    2.429,2,    1.180,2,   2167.3,2,    0.102,    0.003,2,   1.8230,   0.0090,2,     0.95,     0.15,2,    7.924,    0.039,2,     1.13,2
  32MB19900222,  P15S,    28,  1,     51,      4,2,19900310,-56.7017,-170.0567, 4883,    495.7,   2.9250,  34.2180,2,  34.2170,2,    -9.00,9,    2.248,2,    1.103,2,   2181.5,2,    0.099,    0.003,2,   1.8380,   0.0090,2,     1.73,     0.15,2,    7.996,    0.039,2,     1.03,2
  32MB19900222,  P15S,    28,  1,     50,      3,2,19900310,-56.7017,-170.0567, 4883,    586.9,   2.9690,  34.3020,2,  34.3040,2,    -9.00,9,    1.367,2,    0.654,2,   2200.7,2,    0.056,    0.003,2,   1.8510,   0.0090,2,     3.34,     0.15,2,    8.030,    0.039,2,     0.88,2
  32MB19900222,  P15S,    28,  1,     49,      2,2,19900310,-56.7017,-170.0567, 4883,    794.4,   2.6680,  34.4380,2,  34.4350,2,    -9.00,9,    0.590,2,    0.299,2,   2229.7,2,    0.045,    0.002,2,-999.0000,-999.0000,9,  -999.00,  -999.00,9, -999.000, -999.000,9,     0.62,2
  32MB19900222,  P15S,    28,  1,     48,      1,2,19900310,-56.7017,-170.0567, 4883,    994.0,   2.4190,  34.5350,2,  34.5390,2,    -9.00,9,    0.359,6,    0.180,6,   2242.9,2,    0.031,    0.002,2,   1.8630,   0.0090,2,     8.00,     0.15,2,    8.052,    0.039,2,     0.49,2
  32MB19900222,  P15S,    28,  2,    147,     12,2,19900310,-56.7017,-170.0567, 4883,   1494.0,   2.2000,  34.6950,2,  34.6920,2,    -9.00,9,    0.068,2,    0.012,3,   2245.2,2,    0.018,    0.002,2,   1.8830,   0.0090,2,     9.97,     0.15,2,    8.073,    0.040,2,     0.96,3
  32MB19900222,  P15S,    28,  2,    146,     11,2,19900310,-56.7017,-170.0567, 4883,   1734.2,   2.0790,  34.7220,2,  34.7220,2,    -9.00,9,    0.044,2,    0.018,2,   2246.2,2,    0.016,    0.003,2,-999.0000,-999.0000,1,  -999.00,  -999.00,1, -999.000, -999.000,9,    -9.00,9
  32MB19900222,  P15S,    28,  2,    145,     10,2,19900310,-56.7017,-170.0567, 4883,   1994.8,   1.9150,  34.7410,2,  34.7380,2,    -9.00,9,    0.025,2,    0.004,2,   2245.9,2, -999.000, -999.000,1,-999.0000,-999.0000,1,  -999.00,  -999.00,1, -999.000, -999.000,9,     0.50,2
  32MB19900222,  P15S,    28,  2,    144,      9,2,19900310,-56.7017,-170.0567, 4883,   2495.8,   1.5490,  34.7440,2,  34.7400,2,    -9.00,9,    0.012,2,   -0.001,2,   2248.3,2, -999.000, -999.000,1,-999.0000,-999.0000,1,  -999.00,  -999.00,1, -999.000, -999.000,9,     0.47,2
  32MB19900222,  P15S,    28,  2,    143,      8,2,19900310,-56.7017,-170.0567, 4883,   2994.8,   1.2130,  34.7320,2,  34.7270,2,    -9.00,9,    0.013,6,    0.004,6,   2252.7,2, -999.000, -999.000,1,-999.0000,-999.0000,1,  -999.00,  -999.00,1, -999.000, -999.000,9,     0.47,2
  32MB19900222,  P15S,    28,  2,    142,      7,2,19900310,-56.7017,-170.0567, 4883,   3495.4,   0.9860,  34.7200,2,  34.7180,2,    -9.00,9,    0.007,2,    0.014,3,   2252.8,2, -999.000, -999.000,1,-999.0000,-999.0000,1,  -999.00,  -999.00,1, -999.000, -999.000,9,    -9.00,9
  32MB19900222,  P15S,    28,  2,    141,      6,2,19900310,-56.7017,-170.0567, 4883,   3991.2,   0.8650,  34.7180,2,  34.7100,2,    -9.00,9,    0.019,2,    0.019,3,   2254.8,2, -999.000, -999.000,1,-999.0000,-999.0000,1,  -999.00,  -999.00,1, -999.000, -999.000,9,     0.46,2
  32MB19900222,  P15S,    28,  2,    151,      4,2,19900310,-56.7017,-170.0567, 4883,   4497.8,   0.8680,  34.7100,2,  34.7090,2,    -9.00,9,    0.028,2,    0.005,2,   2255.7,2, -999.000, -999.000,1,-999.0000,-999.0000,1,  -999.00,  -999.00,1, -999.000, -999.000,9,    -9.00,9
  32MB19900222,  P15S,    28,  2,    150,      3,2,19900310,-56.7017,-170.0567, 4883,   4594.9,   0.8740,  34.7180,2,  34.7080,2,    -9.00,9,    0.025,2,    0.013,2,   2256.4,2, -999.000, -999.000,1,-999.0000,-999.0000,1,  -999.00,  -999.00,1, -999.000, -999.000,9,    -9.00,9
  32MB19900222,  P15S,    28,  2,    149,      2,2,19900310,-56.7017,-170.0567, 4883,   4697.1,   0.8730,  34.7120,2,  34.7070,2,    -9.00,9,    0.032,2,    0.017,2,   2256.2,2, -999.000, -999.000,1,-999.0000,-999.0000,1,  -999.00,  -999.00,1, -999.000, -999.000,9,     0.48,2
  32MB19900222,  P15S,    28,  2,    148,      1,2,19900310,-56.7017,-170.0567, 4883,   4767.2,   0.8780,  34.7570,2,  34.7080,2,    -9.00,9,    0.039,6,    0.016,2,   2255.3,2, -999.000, -999.000,1,-999.0000,-999.0000,1,  -999.00,  -999.00,1, -999.000, -999.000,9,     0.87,2
  32MB19900222,  P15S,    29,  1,    247,     12,2,19900311,-60.0117,-169.9550, 4139,     17.5,   3.7880,  34.0020,2,  33.9280,2,    -9.00,9,   -9.000,9,   -9.000,9,     -9.0,9,    0.174,    0.003,2,   1.7720,   0.0090,2,    -1.24,     0.15,2,    7.672,    0.038,2,    -9.00,9
  32MB19900222,  P15S,    29,  1,    246,     11,2,19900311,-60.0117,-169.9550, 4139,     47.5,   3.7620,-999.0000,9,  33.9300,2,    -9.00,9,    4.984,6,    2.255,6,   2121.2,2,    0.173,    0.003,2,   1.7700,   0.0090,2,    -1.41,     0.15,2,    7.711,    0.038,2,     1.64,2
  32MB19900222,  P15S,    29,  1,    245,     10,2,19900311,-60.0117,-169.9550, 4139,     98.3,   3.6220,  33.9350,2,  33.9380,2,    21.61,2,    4.853,2,    2.241,2,   2121.0,2,    0.193,    0.003,2,   1.7730,   0.0090,2,    -1.43,     0.15,2,    7.713,    0.038,2,     1.52,2
  32MB19900222,  P15S,    29,  1,    244,      9,2,19900311,-60.0117,-169.9550, 4139,    146.9,   2.4800,  34.0090,2,  34.0090,2,    20.21,2,    4.546,2,    2.157,2,   2147.5,2, -999.000, -999.000,9,   1.7830,   0.0090,2,    -1.02,     0.15,2,    7.789,    0.038,2,     1.33,2
  32MB19900222,  P15S,    29,  1,    243,      8,2,19900311,-60.0117,-169.9550, 4139,    196.4,   2.1870,  34.0440,2,  34.0320,2,    28.79,2,    4.581,2,    2.178,2,   2152.7,2, -999.000, -999.000,9,-999.0000,-999.0000,9,  -999.00,  -999.00,9, -999.000, -999.000,9,     1.27,2
  32MB19900222,  P15S,    29,  1,    242,      7,2,19900311,-60.0117,-169.9550, 4139,    294.6,   1.9670,  34.1100,2,  34.1060,2,    -9.00,9,    3.868,2,    1.772,2,   2170.5,2,    0.121,    0.002,2,-999.0000,-999.0000,9,  -999.00,  -999.00,9, -999.000, -999.000,9,    -9.00,9
  32MB19900222,  P15S,    29,  1,    241,      6,2,19900311,-60.0117,-169.9550, 4139,    396.4,   2.2270,  34.2390,2,  34.2390,2,    -9.00,9,    2.419,2,    1.116,2,   2196.3,2,    0.133,    0.003,2,   1.8500,   0.0090,2,     2.29,     0.15,2,    8.077,    0.040,2,     0.90,2
  32MB19900222,  P15S,    29,  1,    252,      5,2,19900311,-60.0117,-169.9550, 4139,    494.6,   2.2130,  34.3420,2,  34.3480,2,    -9.00,9,    1.487,2,    0.702,2,   2217.7,2, -999.000, -999.000,9,   1.8410,   0.0090,2,     4.76,     0.15,2,    8.012,    0.039,2,     0.84,2
  32MB19900222,  P15S,    29,  1,    250,      3,2,19900311,-60.0117,-169.9550, 4139,    594.4,   2.3740,  34.4410,2,  34.4540,2,    -9.00,9,    0.802,2,    0.369,2,   2233.5,2, -999.000, -999.000,9,   1.8520,   0.0090,2,     6.65,     0.15,2,    8.007,    0.039,2,     0.17,3
  32MB19900222,  P15S,    29,  1,    251,      4,2,19900311,-60.0117,-169.9550, 4139,    594.4,   2.3740,  34.4430,2,  34.4540,2,    -9.00,9,    0.818,2,    0.354,2,   2232.1,2,    0.051,    0.002,2,   1.8550,   0.0090,2,     6.57,     0.15,2,    8.016,    0.039,2,     0.50,2
  32MB19900222,  P15S,    29,  1,    249,      2,2,19900311,-60.0117,-169.9550, 4139,    791.8,   2.3490,  34.5860,2,  34.5600,2,    -9.00,9,    0.342,2,    0.155,2,   2243.5,2,    0.033,    0.002,2,   1.8720,   0.0090,2,     8.46,     0.15,2,    8.024,    0.039,2,     0.44,2
  32MB19900222,  P15S,    29,  1,    248,      1,2,19900311,-60.0117,-169.9550, 4139,    998.4,   2.2960,  34.6450,2,  34.6430,2,    -9.00,9,    0.135,6,    0.060,6,   2246.8,2,    0.024,    0.002,2,   1.8770,   0.0090,2,     9.46,     0.15,2,    8.042,    0.039,2,    -9.00,9
  32MB19900222,  P15S,    29,  2,    347,     12,2,19900311,-60.0117,-169.9550, 4139,   1240.8,   2.1700,  34.6920,2,  34.6920,2,    -9.00,9,    0.087,2,    0.054,2,   2245.4,2, -999.000, -999.000,9,-999.0000,-999.0000,9,  -999.00,  -999.00,9, -999.000, -999.000,9,    -9.00,9
  32MB19900222,  P15S,    29,  2,    346,     11,2,19900311,-60.0117,-169.9550, 4139,   1494.7,   2.0400,  34.7210,2,  34.7210,2,    -9.00,9,    0.064,2,    0.025,2,   2245.2,2, -999.000, -999.000,9,-999.0000,-999.0000,9,  -999.00,  -999.00,9, -999.000, -999.000,9,    -9.00,9
  32MB19900222,  P15S,    29,  2,    345,     10,2,19900311,-60.0117,-169.9550, 4139,   1741.8,   1.8670,  34.7330,2,  34.7390,2,    -9.00,9,    0.026,2,    0.012,2,   2245.1,2, -999.000, -999.000,9,-999.0000,-999.0000,9,  -999.00,  -999.00,9, -999.000, -999.000,9,    -9.00,9
  32MB19900222,  P15S,    29,  2,    344,      9,2,19900311,-60.0117,-169.9550, 4139,   1993.2,   1.6880,  34.7520,2,  34.7420,2,    -9.00,9,   -9.000,9,   -9.000,9,     -9.0,9, -999.000, -999.000,9,-999.0000,-999.0000,9,  -999.00,  -999.00,9, -999.000, -999.000,9,    -9.00,9
  32MB19900222,  P15S,    29,  2,    343,      8,2,19900311,-60.0117,-169.9550, 4139,   2489.5,   1.3390,-999.0000,9,  34.7330,2,    -9.00,9,   -9.000,9,   -9.000,9,     -9.0,9, -999.000, -999.000,9,-999.0000,-999.0000,9,  -999.00,  -999.00,9, -999.000, -999.000,9,    -9.00,9
  32MB19900222,  P15S,    29,  2,    342,      7,2,19900311,-60.0117,-169.9550, 4139,   2994.2,   1.0660,  34.7240,2,  34.7200,2,    -9.00,9,    0.007,2,    0.010,2,   2253.9,2, -999.000, -999.000,9,-999.0000,-999.0000,9,  -999.00,  -999.00,9, -999.000, -999.000,9,     0.41,2
  32MB19900222,  P15S,    29,  2,    341,      6,2,19900311,-60.0117,-169.9550, 4139,   3394.2,   0.9070,  34.7140,2,  34.7140,2,    -9.00,9,   -9.000,9,   -9.000,9,     -9.0,9, -999.000, -999.000,9,-999.0000,-999.0000,9,  -999.00,  -999.00,9, -999.000, -999.000,9,    -9.00,9
  32MB19900222,  P15S,    29,  2,    351,      4,2,19900311,-60.0117,-169.9550, 4139,   3696.9,   0.8300,  34.7180,2,  34.7100,2,    -9.00,9,    0.008,2,    0.008,2,   2255.9,2, -999.000, -999.000,9,-999.0000,-999.0000,9,  -999.00,  -999.00,9, -999.000, -999.000,9,    -9.00,9
  32MB19900222,  P15S,    29,  2,    350,      3,2,19900311,-60.0117,-169.9550, 4139,   3997.1,   0.8300,  34.7090,2,  34.7090,2,    -9.00,9,   -9.000,9,   -9.000,9,     -9.0,9, -999.000, -999.000,9,-999.0000,-999.0000,9,  -999.00,  -999.00,9, -999.000, -999.000,9,    -9.00,9
  32MB19900222,  P15S,    29,  2,    349,      2,2,19900311,-60.0117,-169.9550, 4139,   4097.6,   0.8360,  34.7100,2,  34.7080,2,    -9.00,9,   -9.000,9,   -9.000,9,     -9.0,9, -999.000, -999.000,9,-999.0000,-999.0000,9,  -999.00,  -999.00,9, -999.000, -999.000,9,    -9.00,9
  32MB19900222,  P15S,    29,  2,    348,      1,2,19900311,-60.0117,-169.9550, 4139,   4174.2,   0.8400,  34.7120,2,  34.7080,2,    -9.00,9,    0.015,6,    0.002,2,   2256.6,2, -999.000, -999.000,9,-999.0000,-999.0000,9,  -999.00,  -999.00,9, -999.000, -999.000,9,     0.39,2
  32MB19900222,  P15S,    30,  1,    447,     12,2,19900312,-55.9917,-174.2367, 5011,     29.3,   6.9910,  33.4070,2,  34.0580,4,    18.92,2,    4.079,2,    1.996,2,   2090.1,2,    0.330,    0.004,2,   1.7590,   0.0090,2,    -1.52,     0.15,2,    7.480,    0.037,2,     1.90,2
  32MB19900222,  P15S,    30,  1,    446,     11,2,19900312,-55.9917,-174.2367, 5011,     47.6,   6.9930,  34.0620,2,  34.0580,2,    -9.00,9,    4.048,2,    2.006,2,     -9.0,9, -999.000, -999.000,9,-999.0000,-999.0000,9,  -999.00,  -999.00,9, -999.000, -999.000,9,    -9.00,9
  32MB19900222,  P15S,    30,  1,    445,     10,2,19900312,-55.9917,-174.2367, 5011,     98.7,   6.9540,  34.0640,2,  34.0650,2,    19.59,2,    4.002,2,    1.976,2,   2090.9,2,    0.340,    0.004,2,   1.7640,   0.0090,2,    -1.26,     0.15,2,    7.529,    0.037,2,    -9.00,9
  32MB19900222,  P15S,    30,  1,    444,      9,2,19900312,-55.9917,-174.2367, 5011,    147.9,   6.4790,  34.2220,2,  34.2250,2,    21.30,2,    3.739,2,    1.897,2,   2111.8,2,    0.360,    0.004,2,   1.7860,   0.0090,2,    -0.04,     0.15,2,    7.557,    0.037,2,    -9.00,9
  32MB19900222,  P15S,    30,  1,    443,      8,2,19900312,-55.9917,-174.2367, 5011,    197.3,   5.9500,  34.1960,2,  34.1950,2,    22.48,2,    3.628,2,    1.798,2,   2117.5,2, -999.000, -999.000,9,-999.0000,-999.0000,9,  -999.00,  -999.00,9, -999.000, -999.000,9,    -9.00,9
  32MB19900222,  P15S,    30,  1,    442,      7,2,19900312,-55.9917,-174.2367, 5011,    297.4,   5.2550,  34.1590,2,  34.1610,2,    23.74,2,    3.606,2,    1.810,2,   2125.7,2,    0.301,    0.004,2,   1.7440,   0.0090,3,    -1.34,     0.15,2,    7.674,    0.038,2,    -9.00,9
  32MB19900222,  P15S,    30,  1,    441,      6,2,19900312,-55.9917,-174.2367, 5011,    396.6,   5.0740,  34.2580,2,  34.2560,2,    27.08,2,    2.318,2,    1.142,2,   2151.8,2,    0.195,    0.004,2,   1.7870,   0.0090,2,     0.77,     0.15,2,    7.499,    0.037,2,    -9.00,9
  32MB19900222,  P15S,    30,  1,    451,      4,2,19900312,-55.9917,-174.2367, 5011,    494.8,   4.4570,  34.2740,2,  34.2740,2,    29.16,2,    1.848,2,    0.879,2,   2169.0,2,    0.164,    0.003,2,   1.7880,   0.0090,2,     4.23,     0.15,3,    0.068,    0.000,4,    -9.00,9
  32MB19900222,  P15S,    30,  1,    452,      5,2,19900312,-55.9917,-174.2367, 5011,    494.8,   4.4570,  34.2750,2,  34.2740,2,    29.08,2,    1.796,2,    0.872,2,   2168.6,2,    0.176,    0.003,2,-999.0000,-999.0000,9,  -999.00,  -999.00,9, -999.000, -999.000,9,    -9.00,9
  32MB19900222,  P15S,    30,  1,    450,      3,2,19900312,-55.9917,-174.2367, 5011,    595.4,   3.8990,  34.2810,2,  34.2830,2,    -9.00,9,   -9.000,9,   -9.000,9,     -9.0,9,    0.114,    0.003,2,-999.0000,-999.0000,9,  -999.00,  -999.00,9, -999.000, -999.000,9,    -9.00,9
  32MB19900222,  P15S,    30,  1,    449,      2,2,19900312,-55.9917,-174.2367, 5011,    799.2,   2.9930,  34.3440,2,  34.3440,2,    -9.00,9,    1.073,2,    0.490,2,   2208.9,2,    0.083,    0.003,2,   1.9040,   0.0090,3,     3.57,     0.15,2,   -0.065,    0.000,4,    -9.00,9
  32MB19900222,  P15S,    30,  1,    448,      1,2,19900312,-55.9917,-174.2367, 5011,    994.9,   2.6950,  34.4570,2,  34.4580,2,    -9.00,9,    0.497,2,    0.222,2,   2232.3,2,    0.051,    0.003,2,-999.0000,-999.0000,9,  -999.00,  -999.00,9, -999.000, -999.000,9,    -9.00,9