BOTTLE,20081204PRINUNIVRMKPRINUNIVRMK
EXPOCODE,SECT_ID,STNNBR,CASTNO,SAMPNO,BTLNBR,BTLNBR_FLAG_W,DATE,LATITUDE,LONGITUDE,DEPTH,CTDPRS,CTDTMP,CTDSAL,CTDSAL_FLAG_W,SALNTY,SALNTY_FLAG_W,NITRAT,NITRAT_FLAG_W,CFC-11,CFC-11_FLAG_W,CFC-12,CFC-12_FLAG_W,TCARBN,TCARBN_FLAG_W,TRITUM,TRITER,TRITUM_FLAG_W,HELIUM,HELIER,HELIUM_FLAG_W,DELHE3,DELHER,DELHE3_FLAG_W,NEON,NEONE,NEON_FLAG_W,DELC13,DELC13_FLAG_W
,,,,,,,,,,METERS,DBARS,ITS-90,PSS-78,,PSS-78,,UMOL/KG,,PMOL/KG,,PMOL/KG,,UMOL/KG,,TU,TU,,NMOL/KG,NMOL/KG,,PERCNT,PERCNT,,NMOL/KG,NMOL/KG,,O/OO,
  32MB19900222,  P15S,    35,  1,    146,     11,2,19900316,-49.8483,-179.8783, 4030,   1995.3,   2.0850,  34.7230,2,  34.7190,2,    -9.00,9,    0.047,2,    0.025,2,   2244.9,2, -999.000, -999.000,1,-999.0000,-999.0000,1,  -999.00,  -999.00,1, -999.000, -999.000,9,    -9.00,9
  32MB19900222,  P15S,    35,  1,    145,     10,2,19900316,-49.8483,-179.8783, 4030,   2393.5,   1.8150,  34.7420,2,  34.7380,2,    -9.00,9,    0.022,2,    0.016,2,   2245.8,2, -999.000, -999.000,1,-999.0000,-999.0000,1,  -999.00,  -999.00,1, -999.000, -999.000,9,    -9.00,9
  32MB19900222,  P15S,    35,  1,    153,      9,2,19900316,-49.8483,-179.8783, 4030,   2692.0,   1.6260,  34.7430,2,  34.7370,2,    -9.00,9,    0.019,2,    0.016,2,     -9.0,9, -999.000, -999.000,1,-999.0000,-999.0000,1,  -999.00,  -999.00,1, -999.000, -999.000,9,    -9.00,9
  32MB19900222,  P15S,    35,  1,    143,      8,2,19900316,-49.8483,-179.8783, 4030,   2996.3,   1.4370,  34.7360,2,  34.7300,2,    -9.00,9,    0.014,2,    0.018,2,   2250.6,2, -999.000, -999.000,1,-999.0000,-999.0000,1,  -999.00,  -999.00,1, -999.000, -999.000,9,    -9.00,9
  32MB19900222,  P15S,    35,  1,    142,      7,2,19900316,-49.8483,-179.8783, 4030,   3191.5,   1.3400,  34.7350,2,  34.7270,2,    -9.00,9,    0.019,2,    0.015,2,   2253.1,2, -999.000, -999.000,1,-999.0000,-999.0000,1,  -999.00,  -999.00,1, -999.000, -999.000,9,    -9.00,9
  32MB19900222,  P15S,    35,  1,    141,      6,2,19900316,-49.8483,-179.8783, 4030,   3395.0,   1.2170,  34.7300,2,  34.7220,2,    -9.00,9,    0.018,2,    0.021,2,   2256.4,2, -999.000, -999.000,1,-999.0000,-999.0000,1,  -999.00,  -999.00,1, -999.000, -999.000,9,    -9.00,9
  32MB19900222,  P15S,    35,  1,    152,      5,2,19900316,-49.8483,-179.8783, 4030,   3596.7,   1.1520,  34.7240,2,  34.7210,2,    -9.00,9,    0.026,2,    0.020,2,   2257.2,2, -999.000, -999.000,1,-999.0000,-999.0000,1,  -999.00,  -999.00,1, -999.000, -999.000,9,    -9.00,9
  32MB19900222,  P15S,    35,  1,    151,      4,2,19900316,-49.8483,-179.8783, 4030,   3795.7,   1.0880,  34.7200,2,  34.7170,2,    -9.00,9,    0.030,2,    0.030,2,   2258.2,2, -999.000, -999.000,1,-999.0000,-999.0000,1,  -999.00,  -999.00,1, -999.000, -999.000,9,    -9.00,9
  32MB19900222,  P15S,    35,  1,    150,      3,2,19900316,-49.8483,-179.8783, 4030,   3977.0,   1.0690,  34.7220,2,  34.7140,2,    -9.00,9,    0.035,2,    0.029,2,   2255.9,2, -999.000, -999.000,1,-999.0000,-999.0000,1,  -999.00,  -999.00,1, -999.000, -999.000,9,    -9.00,9
  32MB19900222,  P15S,    35,  1,    149,      2,2,19900316,-49.8483,-179.8783, 4030,   4052.4,   1.0420,  34.7200,2,  34.7130,2,    -9.00,9,    0.038,2,    0.031,2,   2258.5,2, -999.000, -999.000,1,-999.0000,-999.0000,1,  -999.00,  -999.00,1, -999.000, -999.000,9,    -9.00,9
  32MB19900222,  P15S,    35,  1,    148,      1,2,19900316,-49.8483,-179.8783, 4030,   4053.0,   1.0470,  34.7190,2,  34.7130,2,    -9.00,9,   -9.000,9,   -9.000,9,     -9.0,9, -999.000, -999.000,1,-999.0000,-999.0000,1,  -999.00,  -999.00,1, -999.000, -999.000,9,    -9.00,9
  32MB19900222,  P15S,    36,  1,    246,     11,2,19900318,-50.4833,-179.3567, 4458,   1994.3,   2.0600,  34.7270,2,  34.7230,2,    -9.00,9,    0.035,2,    0.020,2,     -9.0,9, -999.000, -999.000,1,-999.0000,-999.0000,1,  -999.00,  -999.00,1, -999.000, -999.000,9,    -9.00,9
  32MB19900222,  P15S,    36,  1,    245,     10,2,19900318,-50.4833,-179.3567, 4458,   2393.6,   1.7730,  34.7380,2,  34.7400,2,    -9.00,9,    0.019,2,    0.004,2,     -9.0,9, -999.000, -999.000,1,-999.0000,-999.0000,1,  -999.00,  -999.00,1, -999.000, -999.000,9,    -9.00,9
  32MB19900222,  P15S,    36,  1,    253,      9,2,19900318,-50.4833,-179.3567, 4458,   2794.5,   1.4640,  34.7340,2,  34.7350,2,    -9.00,9,    0.021,2,    0.012,2,     -9.0,9, -999.000, -999.000,1,-999.0000,-999.0000,1,  -999.00,  -999.00,1, -999.000, -999.000,9,    -9.00,9
  32MB19900222,  P15S,    36,  1,    243,      8,2,19900318,-50.4833,-179.3567, 4458,   3093.0,   1.2510,  34.7280,2,  34.7280,2,    -9.00,9,    0.011,6,    0.007,6,     -9.0,9, -999.000, -999.000,1,-999.0000,-999.0000,1,  -999.00,  -999.00,1, -999.000, -999.000,9,    -9.00,9
  32MB19900222,  P15S,    36,  1,    242,      7,2,19900318,-50.4833,-179.3567, 4458,   3395.9,   1.0830,  34.7190,2,  34.7210,2,    -9.00,9,    0.022,2,    0.014,2,     -9.0,9, -999.000, -999.000,1,-999.0000,-999.0000,1,  -999.00,  -999.00,1, -999.000, -999.000,9,    -9.00,9
  32MB19900222,  P15S,    36,  1,    241,      6,2,19900318,-50.4833,-179.3567, 4458,   3697.6,   0.9580,  34.7130,2,  34.7130,2,    -9.00,9,    0.025,2,    0.017,2,     -9.0,9, -999.000, -999.000,1,-999.0000,-999.0000,1,  -999.00,  -999.00,1, -999.000, -999.000,9,    -9.00,9
  32MB19900222,  P15S,    36,  1,    252,      5,2,19900318,-50.4833,-179.3567, 4458,   3996.2,   0.8600,  34.7080,2,  34.7070,2,    -9.00,9,    0.041,2,    0.008,2,     -9.0,9, -999.000, -999.000,1,-999.0000,-999.0000,1,  -999.00,  -999.00,1, -999.000, -999.000,9,    -9.00,9
  32MB19900222,  P15S,    36,  1,    251,      4,2,19900318,-50.4833,-179.3567, 4458,   4198.0,   0.8320,  34.7100,2,  34.7070,2,    -9.00,9,    0.049,2,    0.012,2,     -9.0,9, -999.000, -999.000,1,-999.0000,-999.0000,1,  -999.00,  -999.00,1, -999.000, -999.000,9,    -9.00,9
  32MB19900222,  P15S,    36,  1,    250,      3,2,19900318,-50.4833,-179.3567, 4458,   4297.8,   0.8260,  34.7070,2,  34.7050,2,    -9.00,9,    0.049,2,    0.034,2,     -9.0,9, -999.000, -999.000,1,-999.0000,-999.0000,1,  -999.00,  -999.00,1, -999.000, -999.000,9,    -9.00,9
  32MB19900222,  P15S,    36,  1,    249,      2,2,19900318,-50.4833,-179.3567, 4458,   4458.3,   0.8150,  34.7060,2,  34.7050,2,    -9.00,9,    0.066,6,    0.035,6,     -9.0,9, -999.000, -999.000,1,-999.0000,-999.0000,1,  -999.00,  -999.00,1, -999.000, -999.000,9,    -9.00,9
  32MB19900222,  P15S,    36,  1,    248,      1,2,19900318,-50.4833,-179.3567, 4458,   4528.2,   0.8160,  34.7120,2,  34.7040,2,    -9.00,9,    0.069,6,    0.037,6,     -9.0,9, -999.000, -999.000,1,-999.0000,-999.0000,1,  -999.00,  -999.00,1, -999.000, -999.000,9,    -9.00,9
  32MB19900222,  P15S,    38,  1,    552,     12,2,19900328,-34.6483,-178.6367, 6556,   2990.8,   1.8190,  34.7060,2,  34.7020,2,    -9.00,9,    0.000,2,    0.001,2,     -9.0,9, -999.000, -999.000,9,-999.0000,-999.0000,9,  -999.00,  -999.00,9, -999.000, -999.000,9,    -9.00,9
  32MB19900222,  P15S,    38,  1,    551,     11,2,19900328,-34.6483,-178.6367, 6556,   2991.9,   1.8170,  34.7050,2,  34.7020,2,    -9.00,9,    0.000,2,    0.001,2,     -9.0,9, -999.000, -999.000,9,-999.0000,-999.0000,9,  -999.00,  -999.00,9, -999.000, -999.000,9,    -9.00,9
  32MB19900222,  P15S,    38,  1,    549,      9,2,19900328,-34.6483,-178.6367, 6556,   2992.1,   1.8160,  34.7020,2,  34.7030,2,    -9.00,9,    0.001,2,    0.001,2,     -9.0,9, -999.000, -999.000,9,-999.0000,-999.0000,9,  -999.00,  -999.00,9, -999.000, -999.000,9,    -9.00,9
  32MB19900222,  P15S,    38,  1,    547,      7,2,19900328,-34.6483,-178.6367, 6556,   2992.3,   1.8140,  34.7030,2,  34.7040,2,    -9.00,9,    0.018,4,    0.008,4,     -9.0,9, -999.000, -999.000,9,-999.0000,-999.0000,9,  -999.00,  -999.00,9, -999.000, -999.000,9,    -9.00,9
  32MB19900222,  P15S,    38,  1,    548,      8,2,19900328,-34.6483,-178.6367, 6556,   2992.3,   1.8150,  34.7030,2,  34.7040,2,    -9.00,9,    0.000,2,    0.001,2,     -9.0,9, -999.000, -999.000,9,-999.0000,-999.0000,9,  -999.00,  -999.00,9, -999.000, -999.000,9,    -9.00,9
  32MB19900222,  P15S,    38,  1,    550,     10,2,19900328,-34.6483,-178.6367, 6556,   2992.3,   1.8160,  34.7020,2,  34.7040,2,    -9.00,9,    0.000,2,    0.004,2,     -9.0,9, -999.000, -999.000,9,-999.0000,-999.0000,9,  -999.00,  -999.00,9, -999.000, -999.000,9,    -9.00,9
  32MB19900222,  P15S,    38,  1,    546,      6,2,19900328,-34.6483,-178.6367, 6556,   2992.5,   1.8130,  34.7030,2,  34.7020,2,    -9.00,9,    0.000,2,   -0.009,2,     -9.0,9, -999.000, -999.000,9,-999.0000,-999.0000,9,  -999.00,  -999.00,9, -999.000, -999.000,9,    -9.00,9
  32MB19900222,  P15S,    38,  1,    553,      4,2,19900328,-34.6483,-178.6367, 6556,   2993.3,   1.8110,  34.7130,2,  34.7030,2,    -9.00,9,    0.000,2,   -0.003,2,     -9.0,9, -999.000, -999.000,9,-999.0000,-999.0000,9,  -999.00,  -999.00,9, -999.000, -999.000,9,    -9.00,9
  32MB19900222,  P15S,    38,  1,    542,      2,2,19900328,-34.6483,-178.6367, 6556,   2993.5,   1.8090,  34.7070,2,  34.7030,2,    -9.00,9,    0.007,2,   -0.003,2,     -9.0,9, -999.000, -999.000,9,-999.0000,-999.0000,9,  -999.00,  -999.00,9, -999.000, -999.000,9,    -9.00,9
  32MB19900222,  P15S,    38,  1,    543,      3,2,19900328,-34.6483,-178.6367, 6556,   2993.8,   1.8090,  34.7060,2,  34.7040,2,    -9.00,9,    0.002,2,   -0.003,2,     -9.0,9, -999.000, -999.000,9,-999.0000,-999.0000,9,  -999.00,  -999.00,9, -999.000, -999.000,9,    -9.00,9
  32MB19900222,  P15S,    38,  1,    545,      5,2,19900328,-34.6483,-178.6367, 6556,   2994.3,   1.8090,  34.7030,2,  34.7030,2,    -9.00,9,    0.001,2,   -0.003,2,     -9.0,9, -999.000, -999.000,9,-999.0000,-999.0000,9,  -999.00,  -999.00,9, -999.000, -999.000,9,    -9.00,9
  32MB19900222,  P15S,    38,  1,    541,      1,2,19900328,-34.6483,-178.6367, 6556,   2994.6,   1.8100,  34.7120,2,  34.7020,2,    -9.00,9,    0.001,6,   -0.002,6,     -9.0,9, -999.000, -999.000,9,-999.0000,-999.0000,9,  -999.00,  -999.00,9, -999.000, -999.000,9,    -9.00,9
  32MB19900222,  P15S,    39,  1,    651,     11,2,19900328,-32.4967,-178.3133, 4994,   1993.7,   2.3830,  34.6200,2,  34.6190,2,    -9.00,9,    0.002,2,    0.000,2,   2293.3,2, -999.000, -999.000,9,-999.0000,-999.0000,9,  -999.00,  -999.00,9, -999.000, -999.000,9,    -9.00,9
  32MB19900222,  P15S,    39,  1,    650,     10,2,19900328,-32.4967,-178.3133, 4994,   2494.1,   2.0570,  34.6540,2,  34.6500,2,    -9.00,9,    0.013,3,    0.008,2,   2305.3,2, -999.000, -999.000,9,-999.0000,-999.0000,9,  -999.00,  -999.00,9, -999.000, -999.000,9,    -9.00,9
  32MB19900222,  P15S,    39,  1,    649,      9,2,19900328,-32.4967,-178.3133, 4994,   2893.2,   1.8000,  34.6900,2,  34.6860,2,    -9.00,9,    0.003,2,    0.005,2,   2292.0,2, -999.000, -999.000,9,-999.0000,-999.0000,9,  -999.00,  -999.00,9, -999.000, -999.000,9,    -9.00,9
  32MB19900222,  P15S,    39,  1,    648,      8,2,19900328,-32.4967,-178.3133, 4994,   3295.9,   1.5660,  34.7240,2,  34.7210,2,    -9.00,9,    0.000,2,    0.000,2,   2262.5,2, -999.000, -999.000,9,-999.0000,-999.0000,9,  -999.00,  -999.00,9, -999.000, -999.000,9,    -9.00,9
  32MB19900222,  P15S,    39,  1,    647,      7,2,19900328,-32.4967,-178.3133, 4994,   3695.6,   1.2760,  34.7250,2,  34.7230,2,    -9.00,9,    0.021,3,    0.010,2,   2257.0,2, -999.000, -999.000,9,-999.0000,-999.0000,9,  -999.00,  -999.00,9, -999.000, -999.000,9,    -9.00,9
  32MB19900222,  P15S,    39,  1,    646,      6,2,19900328,-32.4967,-178.3133, 4994,   3993.8,   1.1020,  34.7170,2,  34.7160,2,    -9.00,9,    0.008,2,   -0.002,2,   2257.7,2, -999.000, -999.000,9,-999.0000,-999.0000,9,  -999.00,  -999.00,9, -999.000, -999.000,9,    -9.00,9
  32MB19900222,  P15S,    39,  1,    645,      5,2,19900328,-32.4967,-178.3133, 4994,   4298.7,   1.0130,  34.7130,2,  34.7110,2,    -9.00,9,    0.011,2,    0.007,2,   2259.4,2, -999.000, -999.000,9,-999.0000,-999.0000,9,  -999.00,  -999.00,9, -999.000, -999.000,9,    -9.00,9
  32MB19900222,  P15S,    39,  1,    653,      4,2,19900328,-32.4967,-178.3133, 4994,   4598.2,   0.9980,  34.7110,2,  34.7100,2,    -9.00,9,    0.013,2,    0.004,2,   2258.0,2, -999.000, -999.000,9,-999.0000,-999.0000,9,  -999.00,  -999.00,9, -999.000, -999.000,9,    -9.00,9
  32MB19900222,  P15S,    39,  1,    643,      3,2,19900328,-32.4967,-178.3133, 4994,   4797.7,   1.0100,  34.7130,2,  34.7090,2,    -9.00,9,    0.018,2,    0.015,2,   2258.3,2, -999.000, -999.000,9,-999.0000,-999.0000,9,  -999.00,  -999.00,9, -999.000, -999.000,9,    -9.00,9
  32MB19900222,  P15S,    39,  1,    642,      2,2,19900328,-32.4967,-178.3133, 4994,   4991.1,   1.0230,  34.7170,2,  34.7100,2,    -9.00,9,    0.015,2,    0.008,2,   2258.6,2, -999.000, -999.000,9,-999.0000,-999.0000,9,  -999.00,  -999.00,9, -999.000, -999.000,9,    -9.00,9
  32MB19900222,  P15S,    39,  1,    641,      1,2,19900328,-32.4967,-178.3133, 4994,   5061.2,   1.0270,  34.7110,2,  34.7100,2,    -9.00,9,    0.017,6,    0.010,6,   2258.9,2, -999.000, -999.000,9,-999.0000,-999.0000,9,  -999.00,  -999.00,9, -999.000, -999.000,9,    -9.00,9
  32MB19900222,  P15S,    40,  1,    751,     11,2,19900329,-32.5100,-178.5233, -999,   1994.0,   2.3510,  34.6240,2,  34.6230,2,    -9.00,9,    0.003,2,   -0.004,2,     -9.0,9, -999.000, -999.000,1,-999.0000,-999.0000,1,  -999.00,  -999.00,1, -999.000, -999.000,9,    -9.00,9
  32MB19900222,  P15S,    40,  1,    750,     10,2,19900329,-32.5100,-178.5233, -999,   2244.0,   2.2000,  34.6400,2,  34.6380,2,    -9.00,9,    0.004,2,   -0.002,2,     -9.0,9, -999.000, -999.000,1,-999.0000,-999.0000,1,  -999.00,  -999.00,1, -999.000, -999.000,9,    -9.00,9
  32MB19900222,  P15S,    40,  1,    749,      9,2,19900329,-32.5100,-178.5233, -999,   2494.3,   2.0270,  34.6570,2,  34.6540,2,    -9.00,9,    0.001,2,    0.005,2,     -9.0,9, -999.000, -999.000,1,-999.0000,-999.0000,1,  -999.00,  -999.00,1, -999.000, -999.000,9,    -9.00,9
  32MB19900222,  P15S,    40,  1,    748,      8,2,19900329,-32.5100,-178.5233, -999,   2744.9,   1.8880,  34.6710,2,  34.6700,2,    -9.00,9,   -0.002,2,    0.001,2,     -9.0,9, -999.000, -999.000,1,-999.0000,-999.0000,1,  -999.00,  -999.00,1, -999.000, -999.000,9,    -9.00,9
  32MB19900222,  P15S,    40,  1,    747,      7,2,19900329,-32.5100,-178.5233, -999,   2994.3,   1.7770,  34.7010,2,  34.7000,2,    -9.00,9,    0.001,2,    0.008,2,     -9.0,9, -999.000, -999.000,1,-999.0000,-999.0000,1,  -999.00,  -999.00,1, -999.000, -999.000,9,    -9.00,9
  32MB19900222,  P15S,    40,  1,    746,      6,2,19900329,-32.5100,-178.5233, -999,   3195.7,   1.6640,-999.0000,9,  34.5020,2,    -9.00,9,    0.000,2,    0.004,2,     -9.0,9, -999.000, -999.000,1,-999.0000,-999.0000,1,  -999.00,  -999.00,1, -999.000, -999.000,9,    -9.00,9
  32MB19900222,  P15S,    40,  1,    745,      5,2,19900329,-32.5100,-178.5233, -999,   3395.8,   1.4780,  34.7260,2,  34.7290,2,    -9.00,9,    0.002,2,   -0.002,2,     -9.0,9, -999.000, -999.000,1,-999.0000,-999.0000,1,  -999.00,  -999.00,1, -999.000, -999.000,9,    -9.00,9
  32MB19900222,  P15S,    40,  1,    753,      4,2,19900329,-32.5100,-178.5233, -999,   3595.6,   1.3110,  34.7260,2,  34.7260,2,    -9.00,9,    0.006,2,    0.001,2,     -9.0,9, -999.000, -999.000,1,-999.0000,-999.0000,1,  -999.00,  -999.00,1, -999.000, -999.000,9,    -9.00,9
  32MB19900222,  P15S,    40,  1,    743,      3,2,19900329,-32.5100,-178.5233, -999,   3796.7,   1.1960,  34.7220,2,  34.7230,2,    -9.00,9,    0.009,2,    0.001,2,     -9.0,9, -999.000, -999.000,1,-999.0000,-999.0000,1,  -999.00,  -999.00,1, -999.000, -999.000,9,    -9.00,9
  32MB19900222,  P15S,    40,  1,    742,      2,2,19900329,-32.5100,-178.5233, -999,   4126.3,   1.1110,  34.7170,2,  34.7180,2,    -9.00,9,    0.011,2,    0.000,2,     -9.0,9, -999.000, -999.000,1,-999.0000,-999.0000,1,  -999.00,  -999.00,1, -999.000, -999.000,9,    -9.00,9
  32MB19900222,  P15S,    40,  1,    741,      1,2,19900329,-32.5100,-178.5233, -999,   4212.4,   1.1170,  34.7170,2,  34.7180,2,    -9.00,9,    0.008,2,    0.002,6,     -9.0,9, -999.000, -999.000,1,-999.0000,-999.0000,1,  -999.00,  -999.00,1, -999.000, -999.000,9,    -9.00,9
  32MB19900222,  P15S,    41,  1,    852,     12,2,19900329,-32.4967,-178.7433, 3080,      5.8,  22.0380,  35.6160,2,  35.6170,2,     0.39,2,    1.957,2,    0.967,3,   2016.5,2, -999.000, -999.000,9,-999.0000,-999.0000,9,  -999.00,  -999.00,9, -999.000, -999.000,9,    -9.00,9
  32MB19900222,  P15S,    41,  1,    851,     11,2,19900329,-32.4967,-178.7433, 3080,     18.0,  22.0360,  35.6160,2,  35.6160,2,     0.39,2,    2.010,2,    1.022,2,   2016.9,2, -999.000, -999.000,9,-999.0000,-999.0000,9,  -999.00,  -999.00,9, -999.000, -999.000,9,    -9.00,9
  32MB19900222,  P15S,    41,  1,    850,     10,2,19900329,-32.4967,-178.7433, 3080,     37.4,  21.9820,  35.6140,2,  35.6150,2,     0.39,2,    2.026,2,    1.036,2,   2016.7,2, -999.000, -999.000,9,-999.0000,-999.0000,9,  -999.00,  -999.00,9, -999.000, -999.000,9,    -9.00,9
  32MB19900222,  P15S,    41,  1,    849,      9,2,19900329,-32.4967,-178.7433, 3080,     67.4,  18.9570,  35.4450,2,  35.4520,2,     0.39,2,    2.352,2,    1.211,2,   2015.3,2, -999.000, -999.000,9,-999.0000,-999.0000,9,  -999.00,  -999.00,9, -999.000, -999.000,9,    -9.00,9
  32MB19900222,  P15S,    41,  1,    848,      8,2,19900329,-32.4967,-178.7433, 3080,     98.1,  16.6180,  35.4310,2,  35.4540,2,     0.39,2,    2.479,2,    1.280,2,   2037.1,2, -999.000, -999.000,9,-999.0000,-999.0000,9,  -999.00,  -999.00,9, -999.000, -999.000,9,    -9.00,9
  32MB19900222,  P15S,    41,  1,    847,      7,2,19900329,-32.4967,-178.7433, 3080,    146.5,  14.4010,  35.3360,2,  35.3410,2,     4.99,2,    2.392,2,    1.250,2,   2077.5,2, -999.000, -999.000,9,-999.0000,-999.0000,9,  -999.00,  -999.00,9, -999.000, -999.000,9,    -9.00,9
  32MB19900222,  P15S,    41,  1,    846,      6,2,19900329,-32.4967,-178.7433, 3080,    196.0,  13.3350,  35.2140,2,  35.2080,2,     9.28,2,    2.075,2,    1.062,2,   2093.5,2, -999.000, -999.000,9,-999.0000,-999.0000,9,  -999.00,  -999.00,9, -999.000, -999.000,9,    -9.00,9
  32MB19900222,  P15S,    41,  1,    845,      5,2,19900329,-32.4967,-178.7433, 3080,    296.1,  11.6320,  34.9920,2,  34.9980,2,    13.58,2,    1.839,2,    0.945,2,   2110.4,2, -999.000, -999.000,9,-999.0000,-999.0000,9,  -999.00,  -999.00,9, -999.000, -999.000,9,    -9.00,9
  32MB19900222,  P15S,    41,  1,    853,      4,2,19900329,-32.4967,-178.7433, 3080,    396.3,  10.1430,  34.7890,2,  34.7900,2,    17.50,2,    1.427,2,    0.725,2,   2124.7,2, -999.000, -999.000,9,-999.0000,-999.0000,9,  -999.00,  -999.00,9, -999.000, -999.000,9,    -9.00,9
  32MB19900222,  P15S,    41,  1,    843,      3,2,19900329,-32.4967,-178.7433, 3080,    594.8,   7.9310,  34.5580,2,  34.5530,2,    22.18,2,    0.846,2,    0.432,2,   2138.7,2, -999.000, -999.000,9,-999.0000,-999.0000,9,  -999.00,  -999.00,9, -999.000, -999.000,9,    -9.00,9
  32MB19900222,  P15S,    41,  1,    842,      2,2,19900329,-32.4967,-178.7433, 3080,    794.3,   6.3440,  34.4190,2,  34.4170,2,    25.98,2,    0.304,2,    0.160,2,   2154.9,2, -999.000, -999.000,9,-999.0000,-999.0000,9,  -999.00,  -999.00,9, -999.000, -999.000,9,    -9.00,9
  32MB19900222,  P15S,    41,  1,    841,      1,2,19900329,-32.4967,-178.7433, 3080,    993.4,   5.1070,  34.3930,2,  34.3980,2,    -9.00,9,    0.081,6,    0.047,6,   2218.8,2, -999.000, -999.000,9,-999.0000,-999.0000,9,  -999.00,  -999.00,9, -999.000, -999.000,9,    -9.00,9