BOTTLE,20081204PRINUNIVRMKPRINUNIVRMK
EXPOCODE,SECT_ID,STNNBR,CASTNO,SAMPNO,BTLNBR,BTLNBR_FLAG_W,DATE,LATITUDE,LONGITUDE,DEPTH,CTDPRS,CTDTMP,CTDSAL,CTDSAL_FLAG_W,SALNTY,SALNTY_FLAG_W,NITRAT,NITRAT_FLAG_W,CFC-11,CFC-11_FLAG_W,CFC-12,CFC-12_FLAG_W,TCARBN,TCARBN_FLAG_W,TRITUM,TRITER,TRITUM_FLAG_W,HELIUM,HELIER,HELIUM_FLAG_W,DELHE3,DELHER,DELHE3_FLAG_W,NEON,NEONE,NEON_FLAG_W,DELC13,DELC13_FLAG_W
,,,,,,,,,,METERS,DBARS,ITS-90,PSS-78,,PSS-78,,UMOL/KG,,PMOL/KG,,PMOL/KG,,UMOL/KG,,TU,TU,,NMOL/KG,NMOL/KG,,PERCNT,PERCNT,,NMOL/KG,NMOL/KG,,O/OO,
  32MB19900222,  P15S,     4,  1,    415,     23,2,19900224,-18.0033,-170.0067, 4929,      3.0,  27.5820,  35.4100,2,  35.4120,2,    -9.00,9,    1.682,4,    1.533,4,     -9.0,9,    1.171,    0.007,2,   1.7150,   0.0080,2,    -0.72,     0.15,2,    6.523,    0.032,2,    -9.00,9
  32MB19900222,  P15S,     4,  1,    422,     22,2,19900224,-18.0033,-170.0067, 4929,     19.2,  26.9910,  35.4280,2,  35.4290,2,     0.39,2,    1.781,4,    0.934,4,     -9.0,9, -999.000, -999.000,9,-999.0000,-999.0000,9,  -999.00,  -999.00,9, -999.000, -999.000,9,    -9.00,9
  32MB19900222,  P15S,     4,  1,    419,     21,2,19900224,-18.0033,-170.0067, 4929,     38.7,  26.5090,  35.4410,2,  35.4740,2,     0.39,2,    1.685,4,    0.910,4,     -9.0,9,    1.072,    0.006,2,-999.0000,-999.0000,9,  -999.00,  -999.00,9, -999.000, -999.000,9,    -9.00,9
  32MB19900222,  P15S,     4,  1,    418,     20,2,19900224,-18.0033,-170.0067, 4929,     57.9,  26.1410,  35.4060,2,  35.4320,2,     0.39,2,    1.753,4,    0.883,4,     -9.0,9, -999.000, -999.000,9,-999.0000,-999.0000,9,  -999.00,  -999.00,9, -999.000, -999.000,9,    -9.00,9
  32MB19900222,  P15S,     4,  1,    420,     18,2,19900224,-18.0033,-170.0067, 4929,     98.9,  25.5050,  35.4740,2,  35.4870,2,     0.39,2,    1.690,4,    0.898,4,     -9.0,9, -999.000, -999.000,9,-999.0000,-999.0000,9,  -999.00,  -999.00,9, -999.000, -999.000,9,    -9.00,9
  32MB19900222,  P15S,     4,  1,    417,     17,2,19900224,-18.0033,-170.0067, 4929,    121.2,  24.7860,  35.6990,2,  35.5940,2,     0.39,2,    1.976,4,    0.861,4,     -9.0,9, -999.000, -999.000,9,-999.0000,-999.0000,9,  -999.00,  -999.00,9, -999.000, -999.000,9,    -9.00,9
  32MB19900222,  P15S,     4,  1,    416,     16,2,19900224,-18.0033,-170.0067, 4929,    147.6,  22.6970,  35.6260,2,  35.6200,2,     0.58,2,    2.468,4,    0.970,4,     -9.0,9, -999.000, -999.000,9,-999.0000,-999.0000,9,  -999.00,  -999.00,9, -999.000, -999.000,9,    -9.00,9
  32MB19900222,  P15S,     4,  1,    429,     15,2,19900224,-18.0033,-170.0067, 4929,    173.4,  21.9970,  35.7340,2,  35.7440,2,     1.15,2,    0.602,4,    0.245,4,     -9.0,9,    1.064,    0.006,2,   1.7390,   0.0090,2,    -0.63,     0.15,2,    6.804,    0.033,2,    -9.00,9
  32MB19900222,  P15S,     4,  1,    414,     14,2,19900224,-18.0033,-170.0067, 4929,    198.1,  21.1420,  35.7070,2,  35.7440,2,     1.86,2,    2.067,4,    0.866,4,     -9.0,9, -999.000, -999.000,9,-999.0000,-999.0000,9,  -999.00,  -999.00,9, -999.000, -999.000,9,    -9.00,9
  32MB19900222,  P15S,     4,  1,    403,     13,2,19900224,-18.0033,-170.0067, 4929,    246.8,  19.0470,-999.0000,9,  35.6010,2,     4.40,2,    1.671,4,    0.800,4,     -9.0,9,    0.694,    0.005,2,   1.8170,   0.0090,3,     0.95,     0.15,2,    6.941,    0.034,2,    -9.00,9
  32MB19900222,  P15S,     4,  1,    412,     12,2,19900224,-18.0033,-170.0067, 4929,    297.1,  16.8240,  35.3540,2,  35.3420,2,     6.77,2,    1.652,4,    0.687,4,     -9.0,9, -999.000, -999.000,9,-999.0000,-999.0000,9,  -999.00,  -999.00,9, -999.000, -999.000,9,    -9.00,9
  32MB19900222,  P15S,     4,  1,    421,     11,2,19900224,-18.0033,-170.0067, 4929,    347.0,  14.3520,  35.1160,2,  35.1200,2,     9.58,2,    1.521,4,    0.680,4,     -9.0,9,    0.458,    0.005,2,   1.7710,   0.0090,2,     1.45,     0.15,2,    7.148,    0.035,2,    -9.00,9
  32MB19900222,  P15S,     4,  1,    410,     10,2,19900224,-18.0033,-170.0067, 4929,    395.6,  11.9540,  34.8330,2,  34.8170,2,    14.88,2,    0.862,4,    0.503,4,     -9.0,9,    0.273,    0.004,2,   1.7800,   0.0090,2,     1.49,     0.15,2,    7.290,    0.036,2,    -9.00,9
  32MB19900222,  P15S,     4,  1,    409,      9,2,19900224,-18.0033,-170.0067, 4929,    495.6,   8.3860,  34.5240,2,  34.5200,2,    -9.00,9,   -9.000,9,   -9.000,9,     -9.0,9,    0.111,    0.003,2,   1.8120,   0.0090,2,     1.50,     0.15,2,    7.506,    0.037,2,    -9.00,9
  32MB19900222,  P15S,     4,  1,    408,      8,2,19900224,-18.0033,-170.0067, 4929,    596.6,   6.8010,  34.3930,2,  34.3960,2,    25.39,2,    0.459,4,    0.196,4,     -9.0,9,    0.081,    0.003,2,   1.8070,   0.0090,2,     1.13,     0.15,2,    7.570,    0.037,2,    -9.00,9
  32MB19900222,  P15S,     4,  1,    407,      7,2,19900224,-18.0033,-170.0067, 4929,    796.0,   4.9910,  34.3940,2,  34.3940,2,    -9.00,9,    0.197,4,   -0.014,4,     -9.0,9,    0.018,    0.002,2,   1.8500,   0.0090,2,     6.83,     0.15,2,    7.755,    0.038,2,    -9.00,9
  32MB19900222,  P15S,     4,  1,    428,      6,2,19900224,-18.0033,-170.0067, 4929,    895.6,   4.3690,  34.4390,2,  34.4400,2,    -9.00,9,    0.003,4,   -0.021,4,     -9.0,9,    0.013,    0.002,2,   1.8610,   0.0090,2,    10.75,     0.15,2,    7.785,    0.038,2,    -9.00,9
  32MB19900222,  P15S,     4,  1,    405,      5,2,19900224,-18.0033,-170.0067, 4929,    993.9,   3.8000,  34.4690,2,  34.4720,2,    -9.00,9,    0.009,4,    0.025,4,     -9.0,9,    0.007,    0.002,2,   1.8710,   0.0090,2,    13.57,     0.15,2,    7.823,    0.038,2,    -9.00,9
  32MB19900222,  P15S,     4,  1,    404,      4,2,19900224,-18.0033,-170.0067, 4929,   1243.0,   2.9770,  34.5400,2,  34.5410,2,    -9.00,9,    0.019,4,   -0.003,4,     -9.0,9,    0.020,    0.002,2,   1.8970,   0.0090,2,    19.29,     0.15,2,    7.895,    0.039,2,    -9.00,9
  32MB19900222,  P15S,     4,  1,    413,      3,2,19900224,-18.0033,-170.0067, 4929,   1495.8,   2.6140,  34.5970,2,  34.5930,2,    -9.00,9,    0.011,4,   -0.012,4,     -9.0,9,   -0.003,    0.002,2,   1.9230,   0.0090,2,    27.14,     0.15,2,    7.944,    0.039,2,    -9.00,9
  32MB19900222,  P15S,     4,  1,    402,      2,2,19900224,-18.0033,-170.0067, 4929,   1743.0,   2.3960,  34.6170,2,  34.6150,2,    -9.00,9,    0.095,4,   -0.020,4,     -9.0,9, -999.000, -999.000,9,-999.0000,-999.0000,9,  -999.00,  -999.00,9, -999.000, -999.000,9,    -9.00,9
  32MB19900222,  P15S,     4,  1,    401,      1,2,19900224,-18.0033,-170.0067, 4929,   1994.2,   2.2050,  34.6360,2,  34.6350,2,    -9.00,9,    0.064,4,   -0.022,4,     -9.0,9, -999.000, -999.000,9,-999.0000,-999.0000,9,  -999.00,  -999.00,9, -999.000, -999.000,9,    -9.00,9
  32MB19900222,  P15S,     5,  1,    522,     22,2,19900225,-20.0033,-169.9933, 5320,      2.8,  27.0350,  35.4290,2,  35.4270,2,     0.39,2,    1.644,4,    1.101,4,   1953.6,2, -999.000, -999.000,9,-999.0000,-999.0000,9,  -999.00,  -999.00,9, -999.000, -999.000,9,    -9.00,9
  32MB19900222,  P15S,     5,  1,    519,     21,2,19900225,-20.0033,-169.9933, 5320,     18.2,  27.0150,-999.0000,9,  35.4280,2,     0.39,2,    1.744,4,    0.916,4,   1959.7,2, -999.000, -999.000,9,-999.0000,-999.0000,9,  -999.00,  -999.00,9, -999.000, -999.000,9,     1.62,2
  32MB19900222,  P15S,     5,  1,    523,     19,2,19900225,-20.0033,-169.9933, 5320,     28.4,  26.8350,  35.4240,2,  35.4360,2,     0.39,2,    1.633,4,    0.870,4,   1962.8,2, -999.000, -999.000,9,-999.0000,-999.0000,9,  -999.00,  -999.00,9, -999.000, -999.000,9,    -9.00,9
  32MB19900222,  P15S,     5,  1,    520,     18,2,19900225,-20.0033,-169.9933, 5320,     38.3,  26.6290,  35.4360,2,  35.4390,2,    -9.00,9,   -9.000,9,   -9.000,9,     -9.0,9, -999.000, -999.000,9,-999.0000,-999.0000,9,  -999.00,  -999.00,9, -999.000, -999.000,9,    -9.00,9
  32MB19900222,  P15S,     5,  1,    517,     17,2,19900225,-20.0033,-169.9933, 5320,     57.9,  26.3520,-999.0000,9,  35.4450,2,     0.39,2,    1.647,4,    0.873,4,   1966.4,3, -999.000, -999.000,9,-999.0000,-999.0000,9,  -999.00,  -999.00,9, -999.000, -999.000,9,    -9.00,9
  32MB19900222,  P15S,     5,  1,    516,     16,2,19900225,-20.0033,-169.9933, 5320,     77.5,  25.6940,  35.4470,2,  35.4440,2,    -9.00,9,   -9.000,9,   -9.000,9,     -9.0,9, -999.000, -999.000,9,-999.0000,-999.0000,9,  -999.00,  -999.00,9, -999.000, -999.000,9,    -9.00,9
  32MB19900222,  P15S,     5,  1,    529,     15,2,19900225,-20.0033,-169.9933, 5320,     97.7,  25.5210,  35.4880,2,  35.4860,2,     0.39,2,    1.756,4,    0.890,4,     -9.0,9, -999.000, -999.000,9,-999.0000,-999.0000,9,  -999.00,  -999.00,9, -999.000, -999.000,9,    -9.00,9
  32MB19900222,  P15S,     5,  1,    514,     14,2,19900225,-20.0033,-169.9933, 5320,    122.5,  24.6800,  35.6430,2,  35.6340,2,    -9.00,9,   -9.000,9,   -9.000,9,     -9.0,9, -999.000, -999.000,9,-999.0000,-999.0000,9,  -999.00,  -999.00,9, -999.000, -999.000,9,    -9.00,9
  32MB19900222,  P15S,     5,  1,    503,     13,2,19900225,-20.0033,-169.9933, 5320,    147.8,  23.0080,  35.8050,2,  35.7920,2,     0.39,2,    1.793,4,    0.874,4,     -9.0,9, -999.000, -999.000,9,-999.0000,-999.0000,9,  -999.00,  -999.00,9, -999.000, -999.000,9,    -9.00,9
  32MB19900222,  P15S,     5,  3,    716,     16,2,19900225,-20.0033,-169.9933, 5320,      2.8,  27.1850,  35.4340,2,  35.4350,2,    -9.00,9,   -9.000,9,   -9.000,9,     -9.0,9, -999.000, -999.000,9,-999.0000,-999.0000,9,  -999.00,  -999.00,9, -999.000, -999.000,9,    -9.00,9
  32MB19900222,  P15S,     5,  3,    729,     15,2,19900225,-20.0033,-169.9933, 5320,    246.1,  19.5640,  35.6610,2,  35.7250,2,     2.02,2,    1.812,4,    0.935,4,   2048.2,2, -999.000, -999.000,9,-999.0000,-999.0000,9,  -999.00,  -999.00,9, -999.000, -999.000,9,    -9.00,9
  32MB19900222,  P15S,     5,  3,    703,     13,2,19900225,-20.0033,-169.9933, 5320,    297.7,  17.4890,  35.4750,2,  35.4630,2,     4.57,2,    1.680,4,    0.954,4,   2060.1,2, -999.000, -999.000,9,-999.0000,-999.0000,9,  -999.00,  -999.00,9, -999.000, -999.000,9,    -9.00,9
  32MB19900222,  P15S,     5,  3,    714,     14,2,19900225,-20.0033,-169.9933, 5320,    297.7,  17.4890,  35.4720,2,  35.4630,2,     0.39,3,    1.824,4,    0.849,4,   2059.8,2, -999.000, -999.000,9,-999.0000,-999.0000,9,  -999.00,  -999.00,9, -999.000, -999.000,9,    -9.00,9
  32MB19900222,  P15S,     5,  3,    712,     12,2,19900225,-20.0033,-169.9933, 5320,    695.2,   5.9540,  34.3350,2,  34.3640,2,    24.31,2,    0.476,4,    0.321,4,     -9.0,9, -999.000, -999.000,9,-999.0000,-999.0000,9,  -999.00,  -999.00,9, -999.000, -999.000,9,    -9.00,9
  32MB19900222,  P15S,     5,  3,    721,     11,2,19900225,-20.0033,-169.9933, 5320,    795.2,   5.2760,  34.3660,2,  34.3710,2,    27.47,2,    0.154,4,    0.251,4,   2165.3,3, -999.000, -999.000,9,-999.0000,-999.0000,9,  -999.00,  -999.00,9, -999.000, -999.000,9,    -9.00,9
  32MB19900222,  P15S,     5,  3,    710,     10,2,19900225,-20.0033,-169.9933, 5320,    896.4,   4.7060,-999.0000,9,  34.4060,2,    -9.00,9,    0.038,4,    0.164,4,   2186.5,3, -999.000, -999.000,9,-999.0000,-999.0000,9,  -999.00,  -999.00,9, -999.000, -999.000,9,    -9.00,9
  32MB19900222,  P15S,     5,  3,    709,      9,2,19900225,-20.0033,-169.9933, 5320,    994.9,   4.1900,  34.4020,2,  34.4430,2,    -9.00,9,    0.008,4,    0.167,4,   2208.2,3, -999.000, -999.000,9,-999.0000,-999.0000,9,  -999.00,  -999.00,9, -999.000, -999.000,9,    -9.00,9
  32MB19900222,  P15S,     5,  3,    708,      8,2,19900225,-20.0033,-169.9933, 5320,   1094.9,   3.6630,  34.4040,2,  34.4690,2,    -9.00,9,    0.018,4,    0.091,4,   2208.8,3, -999.000, -999.000,9,-999.0000,-999.0000,9,  -999.00,  -999.00,9, -999.000, -999.000,9,    -9.00,9
  32MB19900222,  P15S,     5,  3,    707,      7,2,19900225,-20.0033,-169.9933, 5320,   1243.3,   3.0720,  34.5290,2,  34.5240,2,    -9.00,9,   -0.001,4,    0.015,4,   2254.9,3, -999.000, -999.000,9,-999.0000,-999.0000,9,  -999.00,  -999.00,9, -999.000, -999.000,9,    -9.00,9
  32MB19900222,  P15S,     5,  3,    728,      6,2,19900225,-20.0033,-169.9933, 5320,   1494.4,   2.6410,  34.5890,2,  34.5910,2,    -9.00,9,    0.007,4,    0.161,4,   2282.8,2, -999.000, -999.000,9,-999.0000,-999.0000,9,  -999.00,  -999.00,9, -999.000, -999.000,9,    -9.00,9
  32MB19900222,  P15S,     5,  3,    705,      5,2,19900225,-20.0033,-169.9933, 5320,   1742.6,   2.4090,  34.6140,2,  34.6160,2,    -9.00,9,   -0.002,4,   -0.035,4,   2293.0,2, -999.000, -999.000,9,-999.0000,-999.0000,9,  -999.00,  -999.00,9, -999.000, -999.000,9,    -9.00,9
  32MB19900222,  P15S,     5,  3,    704,      4,2,19900225,-20.0033,-169.9933, 5320,   1995.0,   2.2190,  34.6320,2,  34.6340,2,    -9.00,9,   -0.002,4,    0.070,4,   2299.9,2, -999.000, -999.000,9,-999.0000,-999.0000,9,  -999.00,  -999.00,9, -999.000, -999.000,9,    -9.00,9
  32MB19900222,  P15S,     5,  3,    713,      3,2,19900225,-20.0033,-169.9933, 5320,   2992.4,   1.7740,  34.6700,2,  34.6740,2,    -9.00,9,    0.007,4,   -0.015,4,   2312.9,2, -999.000, -999.000,9,-999.0000,-999.0000,9,  -999.00,  -999.00,9, -999.000, -999.000,9,    -9.00,9
  32MB19900222,  P15S,     5,  3,    702,      2,2,19900225,-20.0033,-169.9933, 5320,   3491.3,   1.5670,  34.6860,2,  34.6890,2,    -9.00,9,    0.003,4,    0.031,4,   2301.9,2, -999.000, -999.000,9,-999.0000,-999.0000,9,  -999.00,  -999.00,9, -999.000, -999.000,9,    -9.00,9
  32MB19900222,  P15S,     5,  3,    701,      1,2,19900225,-20.0033,-169.9933, 5320,   3993.4,   1.2740,-999.0000,9,  34.7220,2,    -9.00,9,   -0.005,4,    0.078,4,   2259.0,3, -999.000, -999.000,9,-999.0000,-999.0000,9,  -999.00,  -999.00,9, -999.000, -999.000,9,    -9.00,9
  32MB19900222,  P15S,     5,  3,    724,     24,2,19900225,-20.0033,-169.9933, 5320,   4495.8,   1.0510,  34.7120,2,  34.7150,2,    -9.00,9,   -0.005,4,    0.087,4,   2268.8,3, -999.000, -999.000,9,-999.0000,-999.0000,9,  -999.00,  -999.00,9, -999.000, -999.000,9,     0.42,2
  32MB19900222,  P15S,     6,  1,    871,      1,2,19900226,-21.1517,-170.0283, 5433,   2493.1,   1.9490,  34.6580,2,  34.6580,2,    -9.00,9,    0.002,4,    0.026,4,     -9.0,9, -999.000, -999.000,9,-999.0000,-999.0000,9,  -999.00,  -999.00,9, -999.000, -999.000,9,    -9.00,9
  32MB19900222,  P15S,     6,  1,    821,     11,2,19900226,-21.1517,-170.0283, 5433,   2493.8,   1.9480,  34.6560,2,  34.6580,2,    -9.00,9,    0.065,4,    0.068,4,     -9.0,9, -999.000, -999.000,9,-999.0000,-999.0000,9,  -999.00,  -999.00,9, -999.000, -999.000,9,    -9.00,9