BOTTLE,20081204PRINUNIVRMKPRINUNIVRMK
EXPOCODE,SECT_ID,STNNBR,CASTNO,SAMPNO,BTLNBR,BTLNBR_FLAG_W,DATE,LATITUDE,LONGITUDE,DEPTH,CTDPRS,CTDTMP,CTDSAL,CTDSAL_FLAG_W,SALNTY,SALNTY_FLAG_W,NITRAT,NITRAT_FLAG_W,CFC-11,CFC-11_FLAG_W,CFC-12,CFC-12_FLAG_W,TCARBN,TCARBN_FLAG_W,TRITUM,TRITER,TRITUM_FLAG_W,HELIUM,HELIER,HELIUM_FLAG_W,DELHE3,DELHER,DELHE3_FLAG_W,NEON,NEONE,NEON_FLAG_W,DELC13,DELC13_FLAG_W
,,,,,,,,,,METERS,DBARS,ITS-90,PSS-78,,PSS-78,,UMOL/KG,,PMOL/KG,,PMOL/KG,,UMOL/KG,,TU,TU,,NMOL/KG,NMOL/KG,,PERCNT,PERCNT,,NMOL/KG,NMOL/KG,,O/OO,
  32MB19900222,  P15S,    30,  2,    546,     11,2,19900312,-55.9917,-174.2367, 5011,   1244.8,   2.4460,  34.5630,2,  34.5590,2,    -9.00,9,    0.272,2,    0.132,2,   2243.9,2,    0.027,    0.002,2,-999.0000,-999.0000,9,  -999.00,  -999.00,9, -999.000, -999.000,9,    -9.00,9
  32MB19900222,  P15S,    30,  2,    545,     10,2,19900312,-55.9917,-174.2367, 5011,   1497.0,   2.2980,  34.6510,2,  34.6480,2,    -9.00,9,    0.136,2,    0.065,2,   2246.0,2,    0.027,    0.002,2,-999.0000,-999.0000,9,  -999.00,  -999.00,9, -999.000, -999.000,9,    -9.00,9
  32MB19900222,  P15S,    30,  2,    544,      9,2,19900312,-55.9917,-174.2367, 5011,   1745.1,   2.1750,  34.7030,2,  34.7010,2,    -9.00,9,   -9.000,9,   -9.000,9,     -9.0,9, -999.000, -999.000,1,-999.0000,-999.0000,1,  -999.00,  -999.00,1, -999.000, -999.000,9,    -9.00,9
  32MB19900222,  P15S,    30,  2,    543,      8,2,19900312,-55.9917,-174.2367, 5011,   1993.8,   2.0360,  34.7280,2,  34.7240,2,    -9.00,9,    0.036,2,    0.012,2,   2245.7,2, -999.000, -999.000,1,-999.0000,-999.0000,1,  -999.00,  -999.00,1, -999.000, -999.000,9,    -9.00,9
  32MB19900222,  P15S,    30,  2,    542,      7,2,19900312,-55.9917,-174.2367, 5011,   2492.4,   1.6790,  34.7430,2,  34.7390,2,    -9.00,9,    0.013,2,    0.006,2,   2247.7,2, -999.000, -999.000,1,-999.0000,-999.0000,1,  -999.00,  -999.00,1, -999.000, -999.000,9,    -9.00,9
  32MB19900222,  P15S,    30,  2,    541,      6,2,19900312,-55.9917,-174.2367, 5011,   2994.9,   1.3280,  34.7320,2,  34.7300,2,    -9.00,9,    0.004,2,    0.002,2,   2252.0,2, -999.000, -999.000,1,-999.0000,-999.0000,1,  -999.00,  -999.00,1, -999.000, -999.000,9,    -9.00,9
  32MB19900222,  P15S,    30,  2,    552,      5,2,19900312,-55.9917,-174.2367, 5011,   3493.8,   1.0640,  34.7190,2,  34.7180,2,    -9.00,9,    0.008,2,    0.012,2,   2254.1,2, -999.000, -999.000,1,-999.0000,-999.0000,1,  -999.00,  -999.00,1, -999.000, -999.000,9,    -9.00,9
  32MB19900222,  P15S,    30,  2,    551,      4,2,19900312,-55.9917,-174.2367, 5011,   3995.2,   0.9140,  34.7120,2,  34.7090,2,    -9.00,9,    0.024,2,    0.009,2,   2254.2,2, -999.000, -999.000,1,-999.0000,-999.0000,1,  -999.00,  -999.00,1, -999.000, -999.000,9,    -9.00,9
  32MB19900222,  P15S,    30,  2,    550,      3,2,19900312,-55.9917,-174.2367, 5011,   4502.3,   0.8700,  34.7170,2,  34.7050,2,    -9.00,9,    0.027,2,    0.005,2,   2255.9,2, -999.000, -999.000,1,-999.0000,-999.0000,1,  -999.00,  -999.00,1, -999.000, -999.000,9,    -9.00,9
  32MB19900222,  P15S,    30,  2,    549,      2,2,19900312,-55.9917,-174.2367, 5011,   4956.2,   0.8820,  34.7060,2,  34.7030,2,    -9.00,9,    0.050,2,    0.039,3,   2256.0,2, -999.000, -999.000,1,-999.0000,-999.0000,1,  -999.00,  -999.00,1, -999.000, -999.000,9,    -9.00,9
  32MB19900222,  P15S,    30,  2,    548,      1,2,19900312,-55.9917,-174.2367, 5011,   5028.3,   0.8850,  34.7080,2,  34.7030,2,    -9.00,9,    0.057,6,    0.014,2,   2256.5,2, -999.000, -999.000,1,-999.0000,-999.0000,1,  -999.00,  -999.00,1, -999.000, -999.000,9,    -9.00,9
  32MB19900222,  P15S,    31,  1,    646,     11,2,19900313,-53.9483,-176.1583, 5289,   1497.2,   2.5460,  34.5380,2,  34.5370,2,    -9.00,9,    0.301,2,    0.134,2,   2241.4,2,    0.023,    0.002,2,   1.8570,   0.0090,2,     8.44,     0.15,2,    8.015,    0.039,2,    -9.00,9
  32MB19900222,  P15S,    31,  1,    645,     10,2,19900313,-53.9483,-176.1583, 5289,   1747.1,   2.3910,  34.6280,2,  34.6270,2,    28.10,3,    0.138,2,    0.060,2,   2246.9,2,    0.035,    0.002,2,-999.0000,-999.0000,1,  -999.00,  -999.00,1, -999.000, -999.000,9,    -9.00,9
  32MB19900222,  P15S,    31,  1,    653,      9,2,19900313,-53.9483,-176.1583, 5289,   1992.8,   2.2550,  34.6860,2,  34.6870,2,    -9.00,9,    0.069,2,    0.022,2,   2246.3,2, -999.000, -999.000,1,-999.0000,-999.0000,1,  -999.00,  -999.00,1, -999.000, -999.000,9,    -9.00,9
  32MB19900222,  P15S,    31,  1,    643,      8,2,19900313,-53.9483,-176.1583, 5289,   2496.9,   1.9920,  34.7440,2,  34.7340,2,    -9.00,9,    0.023,2,    0.013,2,   2244.9,2, -999.000, -999.000,1,-999.0000,-999.0000,1,  -999.00,  -999.00,1, -999.000, -999.000,9,    -9.00,9
  32MB19900222,  P15S,    31,  1,    642,      7,2,19900313,-53.9483,-176.1583, 5289,   2992.9,   1.6070,  34.7410,2,  34.7370,2,    -9.00,9,    0.013,2,    0.012,2,   2250.2,2, -999.000, -999.000,1,-999.0000,-999.0000,1,  -999.00,  -999.00,1, -999.000, -999.000,9,    -9.00,9
  32MB19900222,  P15S,    31,  1,    641,      6,2,19900313,-53.9483,-176.1583, 5289,   3497.0,   1.2580,  34.7340,2,  34.7260,2,    -9.00,9,    0.005,2,    0.002,2,   2253.1,2, -999.000, -999.000,1,-999.0000,-999.0000,1,  -999.00,  -999.00,1, -999.000, -999.000,9,    -9.00,9
  32MB19900222,  P15S,    31,  1,    652,      5,2,19900313,-53.9483,-176.1583, 5289,   3997.5,   1.0830,  34.7180,2,  34.7180,2,    -9.00,9,    0.013,2,    0.002,2,   2254.7,2, -999.000, -999.000,1,-999.0000,-999.0000,1,  -999.00,  -999.00,1, -999.000, -999.000,9,    -9.00,9
  32MB19900222,  P15S,    31,  1,    651,      4,2,19900313,-53.9483,-176.1583, 5289,   4500.5,   0.9360,  34.7110,2,  34.7090,2,    -9.00,9,    0.023,6,    0.009,6,   2254.7,2, -999.000, -999.000,1,-999.0000,-999.0000,1,  -999.00,  -999.00,1, -999.000, -999.000,9,    -9.00,9
  32MB19900222,  P15S,    31,  1,    650,      3,2,19900313,-53.9483,-176.1583, 5289,   4798.8,   0.9140,  34.7090,2,  34.7070,2,    -9.00,9,    0.031,2,    0.010,2,   2254.3,2, -999.000, -999.000,1,-999.0000,-999.0000,1,  -999.00,  -999.00,1, -999.000, -999.000,9,    -9.00,9
  32MB19900222,  P15S,    31,  1,    649,      2,2,19900313,-53.9483,-176.1583, 5289,   4949.5,   0.9080,  34.7080,2,  34.7080,2,    -9.00,9,    0.035,2,    0.030,3,   2256.5,2, -999.000, -999.000,1,-999.0000,-999.0000,1,  -999.00,  -999.00,1, -999.000, -999.000,9,    -9.00,9
  32MB19900222,  P15S,    31,  1,    648,      1,2,19900313,-53.9483,-176.1583, 5289,   5026.6,   0.9030,  34.7080,2,  34.7050,2,    -9.00,9,    0.047,6,    0.014,6,   2254.8,2, -999.000, -999.000,1,-999.0000,-999.0000,1,  -999.00,  -999.00,1, -999.000, -999.000,9,    -9.00,9
  32MB19900222,  P15S,    31,  2,    747,     12,2,19900313,-53.9483,-176.1583, 5289,     29.2,   9.1010,  34.2110,2,  34.2060,2,    10.02,2,    3.597,2,    1.808,2,   2075.0,2,    0.220,    0.004,2,   1.7850,   0.0090,2,    -0.73,     0.15,2,    7.539,    0.037,2,     1.90,2
  32MB19900222,  P15S,    31,  2,    746,     11,2,19900313,-53.9483,-176.1583, 5289,     46.3,   8.9150,  34.1960,2,  34.1930,2,    10.02,2,    3.675,2,    1.872,2,     -9.0,9, -999.000, -999.000,9,-999.0000,-999.0000,9,  -999.00,  -999.00,9, -999.000, -999.000,9,    -9.00,9
  32MB19900222,  P15S,    31,  2,    745,     10,2,19900313,-53.9483,-176.1583, 5289,     97.0,   8.7030,  34.1910,2,  34.1860,2,    10.61,2,    3.655,2,    1.844,2,   2078.5,2,    0.253,    0.004,2,   1.7800,   0.0090,2,    -0.65,     0.15,2,    7.549,    0.037,2,    -9.00,9
  32MB19900222,  P15S,    31,  2,    753,      9,2,19900313,-53.9483,-176.1583, 5289,    196.9,   7.6090,  34.3760,2,  34.3680,2,    13.36,2,    3.432,2,    1.759,2,   2106.2,2,    0.257,    0.004,2,   1.7950,   0.0090,2,    -0.37,     0.15,2,    7.641,    0.037,2,    -9.00,9
  32MB19900222,  P15S,    31,  2,    743,      8,2,19900313,-53.9483,-176.1583, 5289,    299.8,   6.8370,  34.3140,2,  34.3100,2,    17.46,2,    3.354,2,    1.718,2,   2115.6,2,    0.220,    0.004,2,   1.8000,   0.0090,2,    -0.45,     0.15,2,    7.695,    0.038,2,    -9.00,9
  32MB19900222,  P15S,    31,  2,    741,      6,2,19900313,-53.9483,-176.1583, 5289,    398.8,   6.2600,  34.2790,2,  34.2720,2,    17.71,2,    3.180,2,    1.554,2,   2122.8,2,    0.264,    0.004,2,   1.8200,   0.0090,2,    -0.57,     0.15,2,    7.798,    0.038,2,    -9.00,9
  32MB19900222,  P15S,    31,  2,    742,      7,2,19900313,-53.9483,-176.1583, 5289,    398.8,   6.2600,  34.2780,2,  34.2720,2,    22.30,2,    3.171,2,    1.632,2,   2121.6,2,    0.252,    0.003,2,   1.8000,   0.0090,2,    -0.56,     0.15,2,    7.730,    0.038,2,    -9.00,9
  32MB19900222,  P15S,    31,  2,    752,      5,2,19900313,-53.9483,-176.1583, 5289,    498.2,   5.8140,  34.2790,2,  34.2780,2,    26.06,2,    2.580,2,    1.263,2,   2135.9,2,    0.150,    0.003,2,   1.8150,   0.0090,2,     0.02,     0.15,2,    7.785,    0.038,2,    -9.00,9
  32MB19900222,  P15S,    31,  2,    751,      4,2,19900313,-53.9483,-176.1583, 5289,    598.3,   5.3210,  34.3010,2,  34.3040,2,    20.30,2,    2.041,2,    0.997,2,   2154.0,2,    0.117,    0.003,2,   1.8180,   0.0090,2,     1.17,     0.15,2,    7.815,    0.038,2,    -9.00,9
  32MB19900222,  P15S,    31,  2,    750,      3,2,19900313,-53.9483,-176.1583, 5289,    797.9,   4.2410,  34.3140,2,  34.3160,2,    23.39,2,    1.284,2,    0.615,2,   2181.4,2,    0.117,    0.003,2,   1.8320,   0.0090,2,     2.73,     0.15,2,    7.911,    0.039,2,    -9.00,9
  32MB19900222,  P15S,    31,  2,    749,      2,2,19900313,-53.9483,-176.1583, 5289,    994.5,   3.2900,  34.3340,2,  34.3370,2,    -9.00,9,    1.014,2,    0.460,2,   2201.6,2,    0.049,    0.002,2,   1.8460,   0.0090,2,     4.13,     0.15,2,    7.986,    0.039,2,    -9.00,9
  32MB19900222,  P15S,    31,  2,    748,      1,2,19900313,-53.9483,-176.1583, 5289,   1240.9,   2.7210,  34.4460,2,  34.4490,2,    -9.00,9,    0.586,2,    0.280,2,   2229.1,2,    0.023,    0.002,2,   1.8630,   0.0090,2,     6.67,     0.15,2,    8.041,    0.039,2,    -9.00,9
  32MB19900222,  P15S,    32,  1,    847,     12,2,19900315,-50.5050,-179.3950, 4448,      5.6,  10.2090,  34.1880,2,  34.1860,2,    13.37,2,    3.583,2,    2.701,4,   2064.7,2,    0.270,    0.004,2,   1.7930,   0.0090,2,    -2.34,     0.15,2,    7.400,    0.036,2,     1.95,2
  32MB19900222,  P15S,    32,  1,    846,     11,2,19900315,-50.5050,-179.3950, 4448,     47.5,  10.1950,  34.1930,2,  34.1850,2,    15.04,2,    3.517,2,    1.750,2,   2064.8,2,    0.206,    0.003,2,   1.7760,   0.0090,2,    -2.52,     0.15,2,    7.345,    0.036,2,    -9.00,9
  32MB19900222,  P15S,    32,  1,    845,     10,2,19900315,-50.5050,-179.3950, 4448,     97.3,   7.2970,  34.1980,2,  34.1950,2,    20.21,2,    3.973,2,    1.941,2,   2100.1,2, -999.000, -999.000,9,   1.7880,   0.0090,2,    -2.60,     0.15,2,    7.512,    0.037,2,    -9.00,9
  32MB19900222,  P15S,    32,  1,    853,      9,2,19900315,-50.5050,-179.3950, 4448,    196.4,   6.2120,  34.2280,2,  34.2230,2,    19.38,2,    3.691,2,    1.817,2,   2116.0,2,    0.158,    0.003,2,   1.7950,   0.0090,2,    -0.84,     0.15,2,    7.511,    0.037,2,    -9.00,9
  32MB19900222,  P15S,    32,  1,    843,      8,2,19900315,-50.5050,-179.3950, 4448,    296.0,   5.6780,  34.2210,2,  34.2200,2,    24.22,2,    3.265,2,    1.586,2,   2128.5,2,    0.071,    0.003,3,   1.8030,   0.0090,2,    -0.10,     0.15,2,    7.488,    0.037,2,    -9.00,9
  32MB19900222,  P15S,    32,  1,    842,      7,2,19900315,-50.5050,-179.3950, 4448,    395.5,   5.2240,-999.0000,9,  34.2580,2,    26.73,2,    2.425,2,    1.182,2,   2149.2,2,    0.164,    0.003,2,   1.8090,   0.0090,2,     0.70,     0.15,2,    7.533,    0.037,2,    -9.00,9
  32MB19900222,  P15S,    32,  1,    841,      6,2,19900315,-50.5050,-179.3950, 4448,    593.7,   4.0170,  34.2980,2,  34.2930,2,    -9.00,9,    1.429,2,    0.679,2,   2180.6,2,    0.045,    0.002,2,   1.8390,   0.0090,2,     3.41,     0.15,2,    7.780,    0.038,2,    -9.00,9
  32MB19900222,  P15S,    32,  1,    852,      5,2,19900315,-50.5050,-179.3950, 4448,    791.9,   3.1140,  34.3650,2,  34.3630,2,    27.81,2,    0.861,2,    0.414,2,   2217.3,2,    0.073,    0.003,2,   1.8370,   0.0090,2,     5.11,     0.15,2,    7.842,    0.038,2,    -9.00,9
  32MB19900222,  P15S,    32,  1,    851,      4,2,19900315,-50.5050,-179.3950, 4448,    992.4,   2.7060,  34.4660,2,  34.4660,2,    -9.00,9,    0.462,2,    0.226,2,   2232.2,2,    0.043,    0.003,2,   1.8660,   0.0090,2,     7.75,     0.15,2,    8.022,    0.039,2,    -9.00,9
  32MB19900222,  P15S,    32,  1,    850,      3,2,19900315,-50.5050,-179.3950, 4448,   1240.2,   2.4560,  34.5790,2,  34.5750,2,    -9.00,9,    0.204,2,    0.121,2,   2246.0,2,    0.023,    0.003,2,   1.8780,   0.0090,2,     9.15,     0.15,2,    8.073,    0.040,2,    -9.00,9
  32MB19900222,  P15S,    32,  1,    849,      2,2,19900315,-50.5050,-179.3950, 4448,   1492.5,   2.3120,  34.6560,2,  34.6550,2,    -9.00,9,    0.098,2,    0.039,2,   2247.7,2,    0.019,    0.002,2,   1.8940,   0.0090,2,    10.79,     0.15,2,    8.076,    0.040,2,    -9.00,9
  32MB19900222,  P15S,    32,  1,    848,      1,2,19900315,-50.5050,-179.3950, 4448,   1746.2,   2.1790,  34.7020,2,  34.7020,2,    -9.00,9,    0.052,2,    0.022,2,   2247.2,2, -999.000, -999.000,9,-999.0000,-999.0000,9,  -999.00,  -999.00,9, -999.000, -999.000,9,    -9.00,9
  32MB19900222,  P15S,    33,  1,    946,     11,2,19900315,-49.4983, 179.7450, 2012,      5.0,   8.8050,  34.1450,2,  34.1350,2,    17.06,2,    3.875,2,    1.898,2,   2087.3,2,    0.325,    0.004,2,   1.7830,   0.0090,2,    -0.80,     0.15,2,    7.377,    0.036,2,     1.94,2
  32MB19900222,  P15S,    33,  1,    945,     10,2,19900315,-49.4983, 179.7450, 2012,     46.9,   8.6910,  34.1500,2,  34.1290,2,    20.92,2,    3.837,2,    1.848,2,   2084.2,2,    0.264,    0.004,2,   1.6640,   0.0080,3,    -0.91,     0.15,2,    6.900,    0.034,3,    -9.00,9
  32MB19900222,  P15S,    33,  1,    953,      9,2,19900315,-49.4983, 179.7450, 2012,     98.7,   8.2170,  34.2690,2,  34.2510,2,    16.27,2,    3.581,2,    1.761,2,   2101.2,2,    0.305,    0.004,2,   1.7860,   0.0090,2,    -0.81,     0.15,2,    7.441,    0.036,2,    -9.00,9
  32MB19900222,  P15S,    33,  1,    943,      8,2,19900315,-49.4983, 179.7450, 2012,    199.3,   8.2350,  34.4920,2,  34.4800,2,    18.98,2,    3.217,2,    1.629,2,   2112.6,2,    0.420,    0.004,2,   1.7800,   0.0090,2,    -1.91,     0.15,2,    7.415,    0.036,2,    -9.00,9
  32MB19900222,  P15S,    33,  1,    942,      7,2,19900315,-49.4983, 179.7450, 2012,    395.7,   6.9860,  34.3900,2,  34.3800,2,    22.31,2,    2.416,2,    1.184,2,   2138.2,2,    0.251,    0.004,2,   1.7960,   0.0090,2,    -0.82,     0.15,2,    7.533,    0.037,2,    -9.00,9
  32MB19900222,  P15S,    33,  1,    941,      6,2,19900315,-49.4983, 179.7450, 2012,    597.4,   5.4350,  34.3410,2,  34.3320,2,    27.64,2,    1.677,2,    0.823,2,   2168.5,2,    0.001,    0.002,3,   1.7880,   0.0090,2,     0.65,     0.15,2,    7.493,    0.037,2,    -9.00,9
  32MB19900222,  P15S,    33,  1,    952,      5,2,19900315,-49.4983, 179.7450, 2012,    795.3,   3.9650,  34.3250,2,  34.3160,2,    -9.00,9,    1.255,2,    0.607,2,   2193.9,2,    0.101,    0.003,2,-999.0000,-999.0000,9,  -999.00,  -999.00,9, -999.000, -999.000,9,    -9.00,9
  32MB19900222,  P15S,    33,  1,    951,      4,2,19900315,-49.4983, 179.7450, 2012,    994.6,   3.0730,  34.3860,2,  34.3790,2,    -9.00,9,    0.814,6,    0.388,6,   2220.7,2,    0.040,    0.003,2,   1.8370,   0.0090,2,     5.39,     0.15,2,    7.759,    0.038,2,    -9.00,9
  32MB19900222,  P15S,    33,  1,    950,      3,2,19900315,-49.4983, 179.7450, 2012,   1386.8,   2.5170,  34.5610,2,  34.5520,2,    -9.00,9,    0.271,6,    0.133,6,   2248.5,2,    0.016,    0.002,2,   1.8650,   0.0090,2,     8.10,     0.15,2,    7.856,    0.038,2,    -9.00,9
  32MB19900222,  P15S,    33,  1,    949,      2,2,19900315,-49.4983, 179.7450, 2012,   1894.6,   2.3090,  34.6750,2,  34.6680,2,    -9.00,9,    0.107,2,    0.055,2,   2254.3,2,    0.009,    0.002,2,   1.8670,   0.0090,2,     9.29,     0.15,2,    7.887,    0.039,2,    -9.00,9
  32MB19900222,  P15S,    33,  1,    948,      1,2,19900315,-49.4983, 179.7450, 2012,   1980.5,   2.2860,  34.6810,2,  34.6750,2,    -9.00,9,    0.098,6,    0.054,6,   2253.6,2,    0.023,    0.002,2,   1.8700,   0.0090,2,     9.43,     0.15,2,    7.883,    0.039,2,    -9.00,9
  32MB19900222,  P15S,    34,  1,     46,     11,2,19900316,-49.7250,-179.9983, 3111,   1993.8,   2.0900,  34.7230,2,  34.7210,2,    -9.00,9,    0.050,2,    0.028,2,   2247.2,2, -999.000, -999.000,1,-999.0000,-999.0000,1,  -999.00,  -999.00,1, -999.000, -999.000,9,    -9.00,9
  32MB19900222,  P15S,    34,  1,     45,     10,2,19900316,-49.7250,-179.9983, 3111,   2191.1,   1.9420,  34.7540,2,  34.7340,2,    -9.00,9,    0.035,2,    0.011,2,   2246.3,2, -999.000, -999.000,1,-999.0000,-999.0000,1,  -999.00,  -999.00,1, -999.000, -999.000,9,    -9.00,9
  32MB19900222,  P15S,    34,  1,     53,      9,2,19900316,-49.7250,-179.9983, 3111,   2293.1,   1.8920,  34.7420,2,  34.7350,2,    -9.00,9,    0.028,2,    0.008,2,   2245.8,2, -999.000, -999.000,1,-999.0000,-999.0000,1,  -999.00,  -999.00,1, -999.000, -999.000,9,    -9.00,9
  32MB19900222,  P15S,    34,  1,     43,      8,2,19900316,-49.7250,-179.9983, 3111,   2397.2,   1.7910,  34.7440,2,  34.7360,2,    -9.00,9,    0.024,2,    0.018,2,   2248.2,2, -999.000, -999.000,1,-999.0000,-999.0000,1,  -999.00,  -999.00,1, -999.000, -999.000,9,    -9.00,9
  32MB19900222,  P15S,    34,  1,     42,      7,2,19900316,-49.7250,-179.9983, 3111,   2498.5,   1.7520,  34.7440,2,  34.7380,2,    -9.00,9,    0.021,2,    0.019,2,   2248.3,2, -999.000, -999.000,1,-999.0000,-999.0000,1,  -999.00,  -999.00,1, -999.000, -999.000,9,    -9.00,9
  32MB19900222,  P15S,    34,  1,     41,      6,2,19900316,-49.7250,-179.9983, 3111,   2593.5,   1.6780,  34.7440,2,  34.7390,2,    -9.00,9,    0.021,2,    0.022,2,   2249.2,2, -999.000, -999.000,1,-999.0000,-999.0000,1,  -999.00,  -999.00,1, -999.000, -999.000,9,    -9.00,9
  32MB19900222,  P15S,    34,  1,     52,      5,2,19900316,-49.7250,-179.9983, 3111,   2693.4,   1.6640,  34.7440,2,  34.7370,2,    -9.00,9,    0.022,2,    0.027,2,   2250.3,2, -999.000, -999.000,1,-999.0000,-999.0000,1,  -999.00,  -999.00,1, -999.000, -999.000,9,    -9.00,9
  32MB19900222,  P15S,    34,  1,     51,      4,2,19900316,-49.7250,-179.9983, 3111,   2793.2,   1.6540,  34.7480,2,  34.7370,2,    -9.00,9,    0.018,2,    0.023,2,   2250.2,2, -999.000, -999.000,1,-999.0000,-999.0000,1,  -999.00,  -999.00,1, -999.000, -999.000,9,    -9.00,9
  32MB19900222,  P15S,    34,  1,     50,      3,2,19900316,-49.7250,-179.9983, 3111,   2993.6,   1.6420,  34.7480,2,  34.7370,2,    -9.00,9,    0.018,2,    0.020,2,   2252.1,2, -999.000, -999.000,1,-999.0000,-999.0000,1,  -999.00,  -999.00,1, -999.000, -999.000,9,    -9.00,9
  32MB19900222,  P15S,    34,  1,     49,      2,2,19900316,-49.7250,-179.9983, 3111,   3080.4,   1.6350,  34.7430,2,  34.7360,2,    -9.00,9,    0.022,2,    0.011,2,   2250.0,2, -999.000, -999.000,1,-999.0000,-999.0000,1,  -999.00,  -999.00,1, -999.000, -999.000,9,    -9.00,9
  32MB19900222,  P15S,    34,  1,     48,      1,2,19900316,-49.7250,-179.9983, 3111,   3082.7,   1.6350,  34.7440,2,  34.7360,2,    -9.00,9,    0.019,2,    0.010,2,     -9.0,9, -999.000, -999.000,9,-999.0000,-999.0000,9,  -999.00,  -999.00,9, -999.000, -999.000,9,    -9.00,9