BOTTLE,20081204PRINUNIVRMKPRINUNIVRMK
EXPOCODE,SECT_ID,STNNBR,CASTNO,SAMPNO,BTLNBR,BTLNBR_FLAG_W,DATE,LATITUDE,LONGITUDE,DEPTH,CTDPRS,CTDTMP,CTDSAL,CTDSAL_FLAG_W,SALNTY,SALNTY_FLAG_W,NITRAT,NITRAT_FLAG_W,CFC-11,CFC-11_FLAG_W,CFC-12,CFC-12_FLAG_W,TCARBN,TCARBN_FLAG_W,TRITUM,TRITER,TRITUM_FLAG_W,HELIUM,HELIER,HELIUM_FLAG_W,DELHE3,DELHER,DELHE3_FLAG_W,NEON,NEONE,NEON_FLAG_W,DELC13,DELC13_FLAG_W
,,,,,,,,,,METERS,DBARS,ITS-90,PSS-78,,PSS-78,,UMOL/KG,,PMOL/KG,,PMOL/KG,,UMOL/KG,,TU,TU,,NMOL/KG,NMOL/KG,,PERCNT,PERCNT,,NMOL/KG,NMOL/KG,,O/OO,
  32MB19900222,  P15S,    49,  1,    147,     12,2,19900402,-22.4967,-170.0067, 5468,      5.0,  25.5640,-999.0000,9,  35.1990,2,     0.39,2,    1.709,2,    0.909,2,   1942.6,2, -999.000, -999.000,9,-999.0000,-999.0000,9,  -999.00,  -999.00,9, -999.000, -999.000,9,    -9.00,9
  32MB19900222,  P15S,    49,  1,    146,     11,2,19900402,-22.4967,-170.0067, 5468,     18.8,  25.5640,  35.1980,2,  35.1990,2,     0.39,2,    1.710,2,    0.895,2,   1941.5,2, -999.000, -999.000,9,-999.0000,-999.0000,9,  -999.00,  -999.00,9, -999.000, -999.000,9,    -9.00,9
  32MB19900222,  P15S,    49,  1,    145,     10,2,19900402,-22.4967,-170.0067, 5468,     38.0,  25.5540,  35.1980,2,  35.1970,2,     0.39,2,    1.668,2,    0.902,2,   1941.2,2, -999.000, -999.000,9,-999.0000,-999.0000,9,  -999.00,  -999.00,9, -999.000, -999.000,9,    -9.00,9
  32MB19900222,  P15S,    49,  1,    153,      9,2,19900402,-22.4967,-170.0067, 5468,     69.4,  25.1430,  35.2060,2,  35.2350,2,     0.39,2,    1.720,2,    0.916,2,   1943.7,2, -999.000, -999.000,9,-999.0000,-999.0000,9,  -999.00,  -999.00,9, -999.000, -999.000,9,    -9.00,9
  32MB19900222,  P15S,    49,  1,    143,      8,2,19900402,-22.4967,-170.0067, 5468,     97.5,  21.8770,  35.5080,2,  35.5240,2,     0.39,2,    1.785,2,    0.960,2,   1998.3,2, -999.000, -999.000,9,-999.0000,-999.0000,9,  -999.00,  -999.00,9, -999.000, -999.000,9,    -9.00,9
  32MB19900222,  P15S,    49,  1,    142,      7,2,19900402,-22.4967,-170.0067, 5468,    119.8,  21.2270,  35.6090,2,  35.6120,2,     1.68,3,    1.733,6,    0.956,6,   2024.8,2, -999.000, -999.000,9,-999.0000,-999.0000,9,  -999.00,  -999.00,9, -999.000, -999.000,9,    -9.00,9
  32MB19900222,  P15S,    49,  1,    141,      6,2,19900402,-22.4967,-170.0067, 5468,    145.2,  20.4510,  35.6590,2,  35.6600,2,     2.29,3,    1.700,2,    0.943,2,   2032.8,2, -999.000, -999.000,9,-999.0000,-999.0000,9,  -999.00,  -999.00,9, -999.000, -999.000,9,    -9.00,9
  32MB19900222,  P15S,    49,  1,    152,      5,2,19900402,-22.4967,-170.0067, 5468,    195.6,  18.9950,  35.6160,2,  35.6110,2,     3.70,3,    1.612,2,    0.880,2,   2049.7,2, -999.000, -999.000,9,-999.0000,-999.0000,9,  -999.00,  -999.00,9, -999.000, -999.000,9,    -9.00,9
  32MB19900222,  P15S,    49,  1,    151,      4,2,19900402,-22.4967,-170.0067, 5468,    246.9,  17.5530,  35.5280,2,  35.5230,2,     4.90,3,    1.613,2,    0.855,2,   2058.2,2, -999.000, -999.000,9,-999.0000,-999.0000,9,  -999.00,  -999.00,9, -999.000, -999.000,9,    -9.00,9
  32MB19900222,  P15S,    49,  1,    150,      3,2,19900402,-22.4967,-170.0067, 5468,    295.6,  16.4200,  35.4770,2,  35.4740,2,     4.50,3,    1.694,2,    0.912,2,   2065.2,2, -999.000, -999.000,9,-999.0000,-999.0000,9,  -999.00,  -999.00,9, -999.000, -999.000,9,    -9.00,9
  32MB19900222,  P15S,    49,  1,    149,      2,2,19900402,-22.4967,-170.0067, 5468,    394.2,  13.1650,  35.1190,2,  35.1210,2,    12.11,3,    1.416,2,    0.758,2,   2097.6,2, -999.000, -999.000,9,-999.0000,-999.0000,9,  -999.00,  -999.00,9, -999.000, -999.000,9,    -9.00,9
  32MB19900222,  P15S,    49,  1,    148,      1,2,19900402,-22.4967,-170.0067, 5468,    495.0,  10.1990,  34.7650,2,  34.7630,2,    17.83,3,    1.076,2,    0.545,2,   2128.3,2, -999.000, -999.000,9,-999.0000,-999.0000,9,  -999.00,  -999.00,9, -999.000, -999.000,9,    -9.00,9
  32MB19900222,  P15S,    49,  2,    253,     12,2,19900402,-22.4967,-170.0067, 5468,    596.2,   7.6070,  34.4550,2,  34.4600,2,    22.74,3,    0.506,2,    0.271,2,   2138.0,2, -999.000, -999.000,9,-999.0000,-999.0000,9,  -999.00,  -999.00,9, -999.000, -999.000,9,    -9.00,9
  32MB19900222,  P15S,    49,  2,    243,     11,2,19900402,-22.4967,-170.0067, 5468,    694.5,   6.4250,  34.3680,2,  34.3690,2,    25.50,3,    0.267,2,    0.153,2,   2147.3,2, -999.000, -999.000,9,-999.0000,-999.0000,9,  -999.00,  -999.00,9, -999.000, -999.000,9,    -9.00,9
  32MB19900222,  P15S,    49,  2,    242,     10,2,19900402,-22.4967,-170.0067, 5468,    794.3,   5.6640,  34.3440,2,  34.3440,2,    27.72,3,    0.095,2,    0.060,2,   2165.9,2, -999.000, -999.000,9,-999.0000,-999.0000,9,  -999.00,  -999.00,9, -999.000, -999.000,9,    -9.00,9
  32MB19900222,  P15S,    49,  2,    241,      9,2,19900402,-22.4967,-170.0067, 5468,    992.6,   4.3160,  34.3920,2,  34.3930,2,    -9.00,9,    0.006,2,    0.002,2,   2208.0,2, -999.000, -999.000,9,-999.0000,-999.0000,9,  -999.00,  -999.00,9, -999.000, -999.000,9,    -9.00,9
  32MB19900222,  P15S,    49,  2,    252,      8,2,19900402,-22.4967,-170.0067, 5468,   1243.2,   3.2380,  34.5000,2,  34.5000,2,    -9.00,9,    0.000,2,    0.000,2,   2248.0,2, -999.000, -999.000,9,-999.0000,-999.0000,9,  -999.00,  -999.00,9, -999.000, -999.000,9,    -9.00,9
  32MB19900222,  P15S,    49,  2,    251,      7,2,19900402,-22.4967,-170.0067, 5468,   1493.7,   2.6980,  34.5760,2,  34.5780,2,    -9.00,9,    0.003,2,    0.000,2,   2279.8,2, -999.000, -999.000,9,-999.0000,-999.0000,9,  -999.00,  -999.00,9, -999.000, -999.000,9,    -9.00,9
  32MB19900222,  P15S,    49,  2,    250,      6,2,19900402,-22.4967,-170.0067, 5468,   1741.5,   2.4570,  34.6120,2,  34.6090,2,    -9.00,9,    0.000,2,    0.005,2,   2289.1,2, -999.000, -999.000,9,-999.0000,-999.0000,9,  -999.00,  -999.00,9, -999.000, -999.000,9,    -9.00,9
  32MB19900222,  P15S,    49,  2,    249,      5,2,19900402,-22.4967,-170.0067, 5468,   1993.4,   2.2590,-999.0000,9,  34.6290,2,    -9.00,9,    0.009,2,    0.007,2,   2296.5,2, -999.000, -999.000,9,-999.0000,-999.0000,9,  -999.00,  -999.00,9, -999.000, -999.000,9,    -9.00,9
  32MB19900222,  P15S,    49,  2,    248,      4,2,19900402,-22.4967,-170.0067, 5468,   2241.6,   2.1000,  34.6420,2,  34.6450,2,    -9.00,9,    0.001,2,    0.000,2,   2301.8,2, -999.000, -999.000,9,-999.0000,-999.0000,9,  -999.00,  -999.00,9, -999.000, -999.000,9,    -9.00,9
  32MB19900222,  P15S,    49,  2,    247,      3,2,19900402,-22.4967,-170.0067, 5468,   2494.7,   1.9510,  34.6570,2,  34.6580,2,    -9.00,9,   -0.003,6,    0.004,6,   2307.2,2, -999.000, -999.000,9,-999.0000,-999.0000,9,  -999.00,  -999.00,9, -999.000, -999.000,9,    -9.00,9
  32MB19900222,  P15S,    49,  2,    246,      2,2,19900402,-22.4967,-170.0067, 5468,   2743.8,   1.8410,  34.6610,2,  34.6680,2,    -9.00,9,   -0.002,2,    0.005,2,   2309.6,2, -999.000, -999.000,9,-999.0000,-999.0000,9,  -999.00,  -999.00,9, -999.000, -999.000,9,    -9.00,9
  32MB19900222,  P15S,    49,  2,    245,      1,2,19900402,-22.4967,-170.0067, 5468,   2993.0,   1.7520,  34.6740,2,  34.6740,2,    -9.00,9,    0.000,2,    0.001,2,   2323.2,3, -999.000, -999.000,9,-999.0000,-999.0000,9,  -999.00,  -999.00,9, -999.000, -999.000,9,    -9.00,9
  32MB19900222,  P15S,    50,  1,    352,     12,2,19900403,-20.0067,-170.0067, 5320,      6.1,  27.1760,  35.5790,2,  35.5750,2,     0.39,2,    1.626,2,    0.978,4,   1962.3,2, -999.000, -999.000,9,-999.0000,-999.0000,9,  -999.00,  -999.00,9, -999.000, -999.000,9,    -9.00,9
  32MB19900222,  P15S,    50,  1,    351,     11,2,19900403,-20.0067,-170.0067, 5320,     17.6,  27.1790,  35.5740,2,  35.5730,2,     0.39,2,    1.623,2,    0.795,3,   1961.5,2, -999.000, -999.000,9,-999.0000,-999.0000,9,  -999.00,  -999.00,9, -999.000, -999.000,9,    -9.00,9
  32MB19900222,  P15S,    50,  1,    350,     10,2,19900403,-20.0067,-170.0067, 5320,     37.7,  27.1860,  35.5760,2,  35.5740,2,     0.39,2,    1.633,2,    0.855,2,   1962.0,2, -999.000, -999.000,9,-999.0000,-999.0000,9,  -999.00,  -999.00,9, -999.000, -999.000,9,    -9.00,9
  32MB19900222,  P15S,    50,  1,    349,      9,2,19900403,-20.0067,-170.0067, 5320,     67.3,  27.1790,  35.5760,2,  35.5760,2,     0.39,2,    1.562,2,    0.876,2,   1961.0,2, -999.000, -999.000,9,-999.0000,-999.0000,9,  -999.00,  -999.00,9, -999.000, -999.000,9,    -9.00,9
  32MB19900222,  P15S,    50,  1,    348,      8,2,19900403,-20.0067,-170.0067, 5320,     96.5,  25.5100,  35.7390,2,  35.7220,2,     0.39,2,    1.702,2,    0.878,2,   1979.7,2, -999.000, -999.000,9,-999.0000,-999.0000,9,  -999.00,  -999.00,9, -999.000, -999.000,9,    -9.00,9
  32MB19900222,  P15S,    50,  1,    347,      7,2,19900403,-20.0067,-170.0067, 5320,    121.7,  23.9390,  35.7420,2,  35.7480,2,     0.39,2,    1.729,2,    0.914,2,   2003.1,2, -999.000, -999.000,9,-999.0000,-999.0000,9,  -999.00,  -999.00,9, -999.000, -999.000,9,    -9.00,9
  32MB19900222,  P15S,    50,  1,    346,      6,2,19900403,-20.0067,-170.0067, 5320,    148.4,  22.6510,  35.7180,2,  35.7070,2,     0.39,2,    1.749,2,    0.924,2,   2013.3,2, -999.000, -999.000,9,-999.0000,-999.0000,9,  -999.00,  -999.00,9, -999.000, -999.000,9,    -9.00,9
  32MB19900222,  P15S,    50,  1,    345,      5,2,19900403,-20.0067,-170.0067, 5320,    196.1,  21.0320,  35.7640,2,  35.7680,2,     2.08,2,    1.663,2,    0.876,2,   2042.6,2, -999.000, -999.000,9,-999.0000,-999.0000,9,  -999.00,  -999.00,9, -999.000, -999.000,9,    -9.00,9
  32MB19900222,  P15S,    50,  1,    353,      4,2,19900403,-20.0067,-170.0067, 5320,    246.8,  19.3780,  35.6410,2,  35.6360,2,     3.70,2,    1.605,2,    0.833,2,   2052.2,2, -999.000, -999.000,9,-999.0000,-999.0000,9,  -999.00,  -999.00,9, -999.000, -999.000,9,    -9.00,9
  32MB19900222,  P15S,    50,  1,    343,      3,2,19900403,-20.0067,-170.0067, 5320,    296.4,  17.5230,  35.4860,2,  35.4860,2,     4.64,2,    1.586,2,    0.805,2,   2060.9,2, -999.000, -999.000,9,-999.0000,-999.0000,9,  -999.00,  -999.00,9, -999.000, -999.000,9,    -9.00,9
  32MB19900222,  P15S,    50,  1,    342,      2,2,19900403,-20.0067,-170.0067, 5320,    345.8,  16.0880,  35.3620,2,  35.3550,2,     6.18,2,    1.522,2,    0.785,2,   2070.9,2, -999.000, -999.000,9,-999.0000,-999.0000,9,  -999.00,  -999.00,9, -999.000, -999.000,9,    -9.00,9
  32MB19900222,  P15S,    50,  1,    341,      1,2,19900403,-20.0067,-170.0067, 5320,    396.2,  14.2990,  35.1490,2,  35.1500,2,     9.95,2,    1.358,6,    0.680,6,   2086.9,2, -999.000, -999.000,9,-999.0000,-999.0000,9,  -999.00,  -999.00,9, -999.000, -999.000,9,    -9.00,9
  32MB19900222,  P15S,    50,  2,    452,     12,2,19900403,-20.0067,-170.0067, 5320,    494.9,   9.5260,  34.6280,2,  34.6380,2,    19.84,3,    0.667,2,    0.347,2,   2134.1,2, -999.000, -999.000,9,-999.0000,-999.0000,9,  -999.00,  -999.00,9, -999.000, -999.000,9,    -9.00,9
  32MB19900222,  P15S,    50,  2,    451,     11,2,19900403,-20.0067,-170.0067, 5320,    594.0,   6.9360,  34.3990,2,  34.3980,2,    -9.00,9,   -9.000,9,   -9.000,9,     -9.0,9, -999.000, -999.000,9,-999.0000,-999.0000,9,  -999.00,  -999.00,9, -999.000, -999.000,9,    -9.00,9
  32MB19900222,  P15S,    50,  2,    450,     10,2,19900403,-20.0067,-170.0067, 5320,    695.1,   5.8780,  34.3550,2,  34.3560,2,    -9.00,9,    0.107,2,    0.062,2,   2171.2,2, -999.000, -999.000,9,-999.0000,-999.0000,9,  -999.00,  -999.00,9, -999.000, -999.000,9,    -9.00,9
  32MB19900222,  P15S,    50,  2,    449,      9,2,19900403,-20.0067,-170.0067, 5320,    794.6,   5.1950,  34.3630,2,  34.3670,2,    -9.00,9,    0.040,2,    0.027,2,   2191.0,2, -999.000, -999.000,9,-999.0000,-999.0000,9,  -999.00,  -999.00,9, -999.000, -999.000,9,    -9.00,9
  32MB19900222,  P15S,    50,  2,    448,      8,2,19900403,-20.0067,-170.0067, 5320,    893.8,   4.6560,  34.4120,2,  34.4140,2,    -9.00,9,    0.005,2,    0.000,2,     -9.0,9, -999.000, -999.000,9,-999.0000,-999.0000,9,  -999.00,  -999.00,9, -999.000, -999.000,9,    -9.00,9
  32MB19900222,  P15S,    50,  2,    447,      7,2,19900403,-20.0067,-170.0067, 5320,    994.4,   4.1010,  34.4450,2,  34.4480,2,    -9.00,9,    0.000,2,    0.003,2,   2230.8,2, -999.000, -999.000,9,-999.0000,-999.0000,9,  -999.00,  -999.00,9, -999.000, -999.000,9,    -9.00,9
  32MB19900222,  P15S,    50,  2,    446,      6,2,19900403,-20.0067,-170.0067, 5320,   1094.1,   3.5770,  34.4790,2,  34.4820,2,    -9.00,9,   -0.002,2,    0.001,2,     -9.0,9, -999.000, -999.000,9,-999.0000,-999.0000,9,  -999.00,  -999.00,9, -999.000, -999.000,9,    -9.00,9
  32MB19900222,  P15S,    50,  2,    445,      5,2,19900403,-20.0067,-170.0067, 5320,   1246.2,   2.9900,  34.5250,2,  34.5280,2,    -9.00,9,   -0.001,2,    0.002,2,   2260.4,2, -999.000, -999.000,9,-999.0000,-999.0000,9,  -999.00,  -999.00,9, -999.000, -999.000,9,    -9.00,9
  32MB19900222,  P15S,    50,  2,    453,      4,2,19900403,-20.0067,-170.0067, 5320,   1492.6,   2.5920,  34.5930,2,  34.5960,2,    -9.00,9,    0.009,2,    0.001,2,   2285.4,2, -999.000, -999.000,9,-999.0000,-999.0000,9,  -999.00,  -999.00,9, -999.000, -999.000,9,    -9.00,9
  32MB19900222,  P15S,    50,  2,    443,      3,2,19900403,-20.0067,-170.0067, 5320,   1744.5,   2.3980,  34.6160,2,  34.6180,2,    -9.00,9,   -0.001,2,    0.005,2,   2294.0,2, -999.000, -999.000,1,-999.0000,-999.0000,1,  -999.00,  -999.00,1, -999.000, -999.000,9,    -9.00,9
  32MB19900222,  P15S,    50,  2,    442,      2,2,19900403,-20.0067,-170.0067, 5320,   1996.4,   2.2240,  34.6390,2,  34.6350,2,    -9.00,9,   -0.003,2,   -0.002,2,   2300.4,2, -999.000, -999.000,1,-999.0000,-999.0000,1,  -999.00,  -999.00,1, -999.000, -999.000,9,    -9.00,9
  32MB19900222,  P15S,    50,  2,    441,      1,2,19900403,-20.0067,-170.0067, 5320,   2243.7,   2.0650,  34.6460,2,  34.6510,2,    -9.00,9,    0.009,6,    0.000,2,     -9.0,9, -999.000, -999.000,1,-999.0000,-999.0000,1,  -999.00,  -999.00,1, -999.000, -999.000,9,    -9.00,9
  32MB19900222,  P15S,    50,  3,    551,     11,2,19900403,-20.0067,-170.0067, 5320,   2494.3,   1.9270,  34.6570,2,  34.6580,2,    -9.00,9,    0.005,2,    0.004,6,   2311.9,2, -999.000, -999.000,1,-999.0000,-999.0000,1,  -999.00,  -999.00,1, -999.000, -999.000,9,    -9.00,9
  32MB19900222,  P15S,    50,  3,    550,     10,2,19900403,-20.0067,-170.0067, 5320,   2744.4,   1.8170,  34.6650,2,  34.6680,2,    -9.00,9,    0.010,2,    0.000,2,     -9.0,9, -999.000, -999.000,1,-999.0000,-999.0000,1,  -999.00,  -999.00,1, -999.000, -999.000,9,    -9.00,9
  32MB19900222,  P15S,    50,  3,    549,      9,2,19900403,-20.0067,-170.0067, 5320,   2993.9,   1.7140,  34.6710,2,  34.6760,2,    -9.00,9,    0.005,2,   -0.003,2,   2312.8,2, -999.000, -999.000,1,-999.0000,-999.0000,1,  -999.00,  -999.00,1, -999.000, -999.000,9,    -9.00,9
  32MB19900222,  P15S,    50,  3,    548,      8,2,19900403,-20.0067,-170.0067, 5320,   3395.0,   1.5540,  34.6880,2,  34.6920,2,    -9.00,9,    0.014,4,    0.030,4,     -9.0,9, -999.000, -999.000,1,-999.0000,-999.0000,1,  -999.00,  -999.00,1, -999.000, -999.000,9,    -9.00,9
  32MB19900222,  P15S,    50,  3,    547,      7,2,19900403,-20.0067,-170.0067, 5320,   3598.7,   1.4480,  34.7070,2,  34.7100,2,    -9.00,9,    0.005,2,    0.001,2,   2315.0,3, -999.000, -999.000,1,-999.0000,-999.0000,1,  -999.00,  -999.00,1, -999.000, -999.000,9,    -9.00,9
  32MB19900222,  P15S,    50,  3,    546,      6,2,19900403,-20.0067,-170.0067, 5320,   3802.2,   1.3280,-999.0000,9,  34.7200,2,    -9.00,9,    0.004,2,    0.000,2,     -9.0,9, -999.000, -999.000,1,-999.0000,-999.0000,1,  -999.00,  -999.00,1, -999.000, -999.000,9,    -9.00,9
  32MB19900222,  P15S,    50,  3,    545,      5,2,19900403,-20.0067,-170.0067, 5320,   3996.1,   1.2160,  34.7150,2,  34.7190,2,    -9.00,9,    0.007,2,    0.003,6,   2254.9,2, -999.000, -999.000,1,-999.0000,-999.0000,1,  -999.00,  -999.00,1, -999.000, -999.000,9,    -9.00,9
  32MB19900222,  P15S,    50,  3,    553,      4,2,19900403,-20.0067,-170.0067, 5320,   4496.9,   1.0360,  34.7210,2,  34.7130,2,    -9.00,9,    0.003,2,    0.000,2,   2253.8,2, -999.000, -999.000,1,-999.0000,-999.0000,1,  -999.00,  -999.00,1, -999.000, -999.000,9,    -9.00,9
  32MB19900222,  P15S,    50,  3,    543,      3,2,19900403,-20.0067,-170.0067, 5320,   4898.1,   1.0240,  34.7030,2,  34.7120,2,    -9.00,9,    0.003,2,    0.001,2,   2254.0,2, -999.000, -999.000,1,-999.0000,-999.0000,1,  -999.00,  -999.00,1, -999.000, -999.000,9,    -9.00,9
  32MB19900222,  P15S,    50,  3,    542,      2,2,19900403,-20.0067,-170.0067, 5320,   5198.3,   1.0510,  34.7050,2,  34.7100,2,    -9.00,9,    0.004,2,    0.004,2,     -9.0,9, -999.000, -999.000,1,-999.0000,-999.0000,1,  -999.00,  -999.00,1, -999.000, -999.000,9,    -9.00,9
  32MB19900222,  P15S,    50,  3,    541,      1,2,19900403,-20.0067,-170.0067, 5320,   5470.2,   1.0790,  34.7150,2,  34.7110,2,    -9.00,9,    0.004,6,    0.002,6,   2258.7,2, -999.000, -999.000,1,-999.0000,-999.0000,1,  -999.00,  -999.00,1, -999.000, -999.000,9,    -9.00,9