BOTTLE,20081204PRINUNIVRMKPRINUNIVRMK
EXPOCODE,SECT_ID,STNNBR,CASTNO,SAMPNO,BTLNBR,BTLNBR_FLAG_W,DATE,LATITUDE,LONGITUDE,DEPTH,CTDPRS,CTDTMP,CTDSAL,CTDSAL_FLAG_W,SALNTY,SALNTY_FLAG_W,NITRAT,NITRAT_FLAG_W,CFC-11,CFC-11_FLAG_W,CFC-12,CFC-12_FLAG_W,TCARBN,TCARBN_FLAG_W,TRITUM,TRITER,TRITUM_FLAG_W,HELIUM,HELIER,HELIUM_FLAG_W,DELHE3,DELHER,DELHE3_FLAG_W,NEON,NEONE,NEON_FLAG_W,DELC13,DELC13_FLAG_W
,,,,,,,,,,METERS,DBARS,ITS-90,PSS-78,,PSS-78,,UMOL/KG,,PMOL/KG,,PMOL/KG,,UMOL/KG,,TU,TU,,NMOL/KG,NMOL/KG,,PERCNT,PERCNT,,NMOL/KG,NMOL/KG,,O/OO,
  32MB19900222,  P15S,    41,  2,    951,     11,2,19900329,-32.4967,-178.7433, 3080,   1244.3,   3.6360,  34.4460,2,  34.4480,2,    -9.00,9,    0.008,2,    0.006,2,   2226.3,2, -999.000, -999.000,9,-999.0000,-999.0000,9,  -999.00,  -999.00,9, -999.000, -999.000,9,    -9.00,9
  32MB19900222,  P15S,    41,  2,    950,     10,2,19900329,-32.4967,-178.7433, 3080,   1493.9,   2.9160,  34.5420,2,  34.5400,2,    -9.00,9,    0.000,2,    0.001,2,   2258.7,2, -999.000, -999.000,9,-999.0000,-999.0000,9,  -999.00,  -999.00,9, -999.000, -999.000,9,    -9.00,9
  32MB19900222,  P15S,    41,  2,    949,      9,2,19900329,-32.4967,-178.7433, 3080,   1743.8,   2.5430,  34.6000,2,  34.6010,2,    -9.00,9,    0.001,2,    0.011,2,   2282.7,2, -999.000, -999.000,9,-999.0000,-999.0000,9,  -999.00,  -999.00,9, -999.000, -999.000,9,    -9.00,9
  32MB19900222,  P15S,    41,  2,    948,      8,2,19900329,-32.4967,-178.7433, 3080,   1992.1,   2.3580,  34.6260,2,  34.6260,2,    -9.00,9,    0.000,2,    0.003,2,   2291.6,2, -999.000, -999.000,9,-999.0000,-999.0000,9,  -999.00,  -999.00,9, -999.000, -999.000,9,    -9.00,9
  32MB19900222,  P15S,    41,  2,    947,      7,2,19900329,-32.4967,-178.7433, 3080,   2193.8,   2.2150,  34.6370,2,  34.6380,2,    -9.00,9,   -0.004,2,   -0.003,2,   2298.6,2, -999.000, -999.000,9,-999.0000,-999.0000,9,  -999.00,  -999.00,9, -999.000, -999.000,9,    -9.00,9
  32MB19900222,  P15S,    41,  2,    946,      6,2,19900329,-32.4967,-178.7433, 3080,   2393.9,   2.0570,  34.6560,2,  34.6530,2,    -9.00,9,   -0.001,2,    0.002,2,   2305.0,2, -999.000, -999.000,9,-999.0000,-999.0000,9,  -999.00,  -999.00,9, -999.000, -999.000,9,    -9.00,9
  32MB19900222,  P15S,    41,  2,    945,      5,2,19900329,-32.4967,-178.7433, 3080,   2494.1,   1.9780,  34.6620,2,  34.6610,2,    -9.00,9,   -9.000,9,   -9.000,9,     -9.0,9, -999.000, -999.000,9,-999.0000,-999.0000,9,  -999.00,  -999.00,9, -999.000, -999.000,9,    -9.00,9
  32MB19900222,  P15S,    41,  2,    953,      4,2,19900329,-32.4967,-178.7433, 3080,   2594.5,   1.8780,  34.6780,2,  34.6760,2,    -9.00,9,    0.000,2,    0.005,2,   2296.9,2, -999.000, -999.000,9,-999.0000,-999.0000,9,  -999.00,  -999.00,9, -999.000, -999.000,9,    -9.00,9
  32MB19900222,  P15S,    41,  2,    943,      3,2,19900329,-32.4967,-178.7433, 3080,   2793.8,   1.7090,  34.7130,2,  34.7130,2,    -9.00,9,    0.000,2,    0.001,2,   2269.2,2, -999.000, -999.000,9,-999.0000,-999.0000,9,  -999.00,  -999.00,9, -999.000, -999.000,9,    -9.00,9
  32MB19900222,  P15S,    41,  2,    942,      2,2,19900329,-32.4967,-178.7433, 3080,   2906.7,   1.6320,  34.7200,2,  34.7200,2,    -9.00,9,   -0.001,2,    0.002,2,   2263.9,2, -999.000, -999.000,9,-999.0000,-999.0000,9,  -999.00,  -999.00,9, -999.000, -999.000,9,    -9.00,9
  32MB19900222,  P15S,    41,  2,    941,      1,2,19900329,-32.4967,-178.7433, 3080,   2967.5,   1.5820,  34.7240,2,  34.7260,2,    -9.00,9,    0.001,6,   -0.002,6,   2259.3,2, -999.000, -999.000,9,-999.0000,-999.0000,9,  -999.00,  -999.00,9, -999.000, -999.000,9,    -9.00,9
  32MB19900222,  P15S,    42,  1,     52,     12,2,19900329,-32.4833,-178.5017, 4211,      6.0,  21.9660,  35.6150,2,  35.6140,2,     0.39,2,    2.016,2,    0.950,3,     -9.0,9,    0.685,    0.004,2,   1.7300,   0.0080,2,    -1.09,     0.15,2,    6.659,    0.033,2,    -9.00,9
  32MB19900222,  P15S,    42,  1,     51,     11,2,19900329,-32.4833,-178.5017, 4211,     47.7,  21.9240,  35.6080,2,  35.6140,2,     0.39,2,    2.040,2,    0.998,3,     -9.0,9,    0.900,    0.005,2,   1.7280,   0.0080,2,    -1.05,     0.15,2,    6.660,    0.033,2,    -9.00,9
  32MB19900222,  P15S,    42,  1,     50,     10,2,19900329,-32.4833,-178.5017, 4211,     96.8,  15.6090,  35.4140,2,  35.4110,2,     0.39,2,    2.482,3,    1.351,2,     -9.0,9,    0.754,    0.004,2,   1.7540,   0.0090,2,    -1.04,     0.15,2,    7.003,    0.034,2,    -9.00,9
  32MB19900222,  P15S,    42,  1,     49,      9,2,19900329,-32.4833,-178.5017, 4211,    146.7,  14.2070,  35.3180,2,  35.3180,2,     6.07,2,    2.404,2,    1.246,2,     -9.0,9,    0.700,    0.004,2,   1.7690,   0.0090,2,    -0.40,     0.15,2,    6.962,    0.034,2,    -9.00,9
  32MB19900222,  P15S,    42,  1,     48,      8,2,19900329,-32.4833,-178.5017, 4211,    196.5,  13.3330,  35.1980,2,  35.2070,2,     7.00,2,    2.291,2,    1.166,2,     -9.0,9,    0.450,    0.003,2,   1.7730,   0.0090,2,    -0.19,     0.15,2,    6.870,    0.034,2,    -9.00,9
  32MB19900222,  P15S,    42,  1,     47,      7,2,19900329,-32.4833,-178.5017, 4211,    295.1,  11.4160,  34.9600,2,  34.9550,2,    13.92,2,    1.721,2,    0.847,2,     -9.0,9,    0.420,    0.003,2,   1.7830,   0.0090,2,     0.69,     0.15,2,    7.071,    0.035,2,    -9.00,9
  32MB19900222,  P15S,    42,  1,     46,      6,2,19900329,-32.4833,-178.5017, 4211,    396.1,   9.8830,-999.0000,9,  34.7300,2,    14.59,2,    1.523,2,    0.742,2,     -9.0,9,    0.283,    0.002,2,   1.7840,   0.0090,2,     1.38,     0.15,2,    7.163,    0.035,2,    -9.00,9
  32MB19900222,  P15S,    42,  1,     45,      5,2,19900329,-32.4833,-178.5017, 4211,    595.9,   7.5700,  34.5020,2,  34.5010,2,    21.59,2,    0.719,2,    0.357,2,     -9.0,9,    0.190,    0.002,2,   1.7880,   0.0090,2,     1.97,     0.15,2,    7.104,    0.035,2,    -9.00,9
  32MB19900222,  P15S,    42,  1,     53,      4,2,19900329,-32.4833,-178.5017, 4211,    793.2,   6.1130,  34.4020,2,  34.4010,2,    25.07,2,    0.227,2,    0.118,2,     -9.0,9,    0.067,    0.001,2,   1.8100,   0.0090,2,     2.68,     0.15,2,    7.434,    0.036,2,    -9.00,9
  32MB19900222,  P15S,    42,  1,     43,      3,2,19900329,-32.4833,-178.5017, 4211,    995.2,   4.8800,  34.3870,2,  34.3830,2,    29.33,2,    0.052,2,    0.032,2,     -9.0,9,    0.043,    0.001,2,-999.0000,-999.0000,9,  -999.00,  -999.00,9, -999.000, -999.000,9,    -9.00,9
  32MB19900222,  P15S,    42,  1,     42,      2,2,19900329,-32.4833,-178.5017, 4211,   1245.1,   3.6500,  34.4450,2,  34.4490,2,    28.06,3,    0.003,2,    0.014,2,     -9.0,9,    0.010,    0.001,2,-999.0000,-999.0000,9,  -999.00,  -999.00,9, -999.000, -999.000,9,    -9.00,9
  32MB19900222,  P15S,    42,  1,     41,      1,2,19900329,-32.4833,-178.5017, 4211,   1493.3,   2.9140,  34.5400,2,  34.5450,2,    -9.00,9,    0.000,2,    0.002,2,     -9.0,9,    0.007,    0.001,2,-999.0000,-999.0000,1,  -999.00,  -999.00,1, -999.000, -999.000,9,    -9.00,9
  32MB19900222,  P15S,    43,  1,    152,     12,2,19900329,-32.4933,-178.2967, 5004,      4.1,  21.9510,  35.6170,2,  35.6120,2,     0.39,2,    2.023,2,    1.031,2,     -9.0,9, -999.000, -999.000,9,-999.0000,-999.0000,9,  -999.00,  -999.00,9, -999.000, -999.000,9,    -9.00,9
  32MB19900222,  P15S,    43,  1,    151,     11,2,19900329,-32.4933,-178.2967, 5004,     48.3,  21.9550,-999.0000,9,  35.6160,2,     0.39,2,    1.998,2,    0.968,3,     -9.0,9, -999.000, -999.000,9,-999.0000,-999.0000,9,  -999.00,  -999.00,9, -999.000, -999.000,9,    -9.00,9
  32MB19900222,  P15S,    43,  1,    150,     10,2,19900329,-32.4933,-178.2967, 5004,     97.9,  16.0250,  35.4760,2,  35.4690,2,     2.67,2,    2.280,2,    1.180,2,     -9.0,9, -999.000, -999.000,9,-999.0000,-999.0000,9,  -999.00,  -999.00,9, -999.000, -999.000,9,    -9.00,9
  32MB19900222,  P15S,    43,  1,    149,      9,2,19900329,-32.4933,-178.2967, 5004,    146.9,  14.6240,  35.3550,2,  35.3560,2,     8.32,2,    2.137,2,    1.103,2,     -9.0,9, -999.000, -999.000,9,-999.0000,-999.0000,9,  -999.00,  -999.00,9, -999.000, -999.000,9,    -9.00,9
  32MB19900222,  P15S,    43,  1,    148,      8,2,19900329,-32.4933,-178.2967, 5004,    197.4,  13.4900,  35.2230,2,  35.2190,2,    12.32,2,    2.027,2,    1.034,2,     -9.0,9, -999.000, -999.000,9,-999.0000,-999.0000,9,  -999.00,  -999.00,9, -999.000, -999.000,9,    -9.00,9
  32MB19900222,  P15S,    43,  1,    147,      7,2,19900329,-32.4933,-178.2967, 5004,    297.3,  11.6910,  34.9900,2,  34.9900,2,    17.12,2,    1.714,2,    0.787,2,     -9.0,9, -999.000, -999.000,9,-999.0000,-999.0000,9,  -999.00,  -999.00,9, -999.000, -999.000,9,    -9.00,9
  32MB19900222,  P15S,    43,  1,    146,      6,2,19900329,-32.4933,-178.2967, 5004,    394.7,  10.3660,  34.8240,2,  34.8140,2,    20.12,2,    1.451,2,    0.687,2,     -9.0,9, -999.000, -999.000,9,-999.0000,-999.0000,9,  -999.00,  -999.00,9, -999.000, -999.000,9,    -9.00,9
  32MB19900222,  P15S,    43,  1,    145,      5,2,19900329,-32.4933,-178.2967, 5004,    590.8,   8.0500,  34.5670,2,  34.5610,2,    24.47,2,    0.895,2,    0.452,2,     -9.0,9, -999.000, -999.000,9,-999.0000,-999.0000,9,  -999.00,  -999.00,9, -999.000, -999.000,9,    -9.00,9
  32MB19900222,  P15S,    43,  1,    153,      4,2,19900329,-32.4933,-178.2967, 5004,    793.4,   6.5260,  34.4350,2,  34.4340,2,    28.53,2,    0.357,2,    0.185,2,     -9.0,9, -999.000, -999.000,9,-999.0000,-999.0000,9,  -999.00,  -999.00,9, -999.000, -999.000,9,    -9.00,9
  32MB19900222,  P15S,    43,  1,    143,      3,2,19900329,-32.4933,-178.2967, 5004,    994.9,   5.3870,  34.4100,2,  34.4080,2,    -9.00,9,    0.120,2,    0.063,2,     -9.0,9, -999.000, -999.000,9,-999.0000,-999.0000,9,  -999.00,  -999.00,9, -999.000, -999.000,9,    -9.00,9
  32MB19900222,  P15S,    43,  1,    142,      2,2,19900329,-32.4933,-178.2967, 5004,   1245.6,   3.7980,  34.4340,2,  34.4350,2,    -9.00,9,    0.006,2,    0.010,2,     -9.0,9, -999.000, -999.000,9,-999.0000,-999.0000,9,  -999.00,  -999.00,9, -999.000, -999.000,9,    -9.00,9
  32MB19900222,  P15S,    43,  1,    141,      1,2,19900329,-32.4933,-178.2967, 5004,   1494.0,   2.9660,  34.5350,2,  34.5360,2,    -9.00,9,    0.002,2,    0.006,2,     -9.0,9, -999.000, -999.000,9,-999.0000,-999.0000,9,  -999.00,  -999.00,9, -999.000, -999.000,9,    -9.00,9
  32MB19900222,  P15S,    44,  1,    252,     12,2,19900329,-32.4917,-178.0033, 5722,      6.4,  21.7280,  35.5940,2,  35.5930,2,     0.39,2,    2.005,2,    1.032,2,   2018.5,2, -999.000, -999.000,9,-999.0000,-999.0000,9,  -999.00,  -999.00,9, -999.000, -999.000,9,    -9.00,9
  32MB19900222,  P15S,    44,  1,    251,     11,2,19900329,-32.4917,-178.0033, 5722,     46.8,  21.7180,  35.5930,2,  35.5960,2,     0.39,2,    2.017,2,    1.042,2,   2018.9,2, -999.000, -999.000,9,-999.0000,-999.0000,9,  -999.00,  -999.00,9, -999.000, -999.000,9,    -9.00,9
  32MB19900222,  P15S,    44,  1,    250,     10,2,19900329,-32.4917,-178.0033, 5722,     98.1,  15.7140,  35.4440,2,  35.4450,2,     3.80,2,    2.197,2,    1.154,2,   2065.9,2, -999.000, -999.000,9,-999.0000,-999.0000,9,  -999.00,  -999.00,9, -999.000, -999.000,9,    -9.00,9
  32MB19900222,  P15S,    44,  1,    249,      9,2,19900329,-32.4917,-178.0033, 5722,    148.7,  14.3520,  35.3280,2,  35.3250,2,     6.86,2,    2.126,2,    1.098,2,   2082.8,2, -999.000, -999.000,9,-999.0000,-999.0000,9,  -999.00,  -999.00,9, -999.000, -999.000,9,    -9.00,9
  32MB19900222,  P15S,    44,  1,    248,      8,2,19900329,-32.4917,-178.0033, 5722,    197.0,  13.5610,  35.2360,2,  35.2340,2,     9.26,2,    2.078,2,    1.140,2,   2091.8,2, -999.000, -999.000,9,-999.0000,-999.0000,9,  -999.00,  -999.00,9, -999.000, -999.000,9,    -9.00,9
  32MB19900222,  P15S,    44,  1,    247,      7,2,19900329,-32.4917,-178.0033, 5722,    297.0,  11.8690,  35.0260,2,  35.0160,2,    12.20,2,    1.724,2,    0.899,2,   2106.3,2, -999.000, -999.000,9,-999.0000,-999.0000,9,  -999.00,  -999.00,9, -999.000, -999.000,9,    -9.00,9
  32MB19900222,  P15S,    44,  1,    246,      6,2,19900329,-32.4917,-178.0033, 5722,    397.1,  10.7200,  34.8650,2,  34.8660,2,    16.72,2,    1.558,2,    0.776,2,   2115.6,2, -999.000, -999.000,9,-999.0000,-999.0000,9,  -999.00,  -999.00,9, -999.000, -999.000,9,    -9.00,9
  32MB19900222,  P15S,    44,  1,    245,      5,2,19900329,-32.4917,-178.0033, 5722,    596.1,   8.2200,  34.5770,2,  34.5770,2,    21.06,2,    0.961,6,    0.468,6,   2132.8,2, -999.000, -999.000,9,-999.0000,-999.0000,9,  -999.00,  -999.00,9, -999.000, -999.000,9,    -9.00,9
  32MB19900222,  P15S,    44,  1,    253,      4,2,19900329,-32.4917,-178.0033, 5722,    794.9,   6.9000,  34.4670,2,  34.4650,2,    25.52,2,    0.475,2,    0.238,2,   2146.6,2, -999.000, -999.000,9,-999.0000,-999.0000,9,  -999.00,  -999.00,9, -999.000, -999.000,9,    -9.00,9
  32MB19900222,  P15S,    44,  1,    243,      3,2,19900329,-32.4917,-178.0033, 5722,    993.5,   5.4410,  34.3940,2,  34.3880,2,    26.06,3,    0.119,2,    0.062,2,   2171.2,2, -999.000, -999.000,9,-999.0000,-999.0000,9,  -999.00,  -999.00,9, -999.000, -999.000,9,    -9.00,9
  32MB19900222,  P15S,    44,  1,    242,      2,2,19900329,-32.4917,-178.0033, 5722,   1244.0,   3.9290,  34.4190,2,  34.4270,2,    -9.00,9,    0.010,2,    0.022,3,   2206.9,2, -999.000, -999.000,9,-999.0000,-999.0000,9,  -999.00,  -999.00,9, -999.000, -999.000,9,    -9.00,9
  32MB19900222,  P15S,    44,  1,    241,      1,2,19900329,-32.4917,-178.0033, 5722,   1494.7,   3.0420,  34.5190,2,  34.5260,2,    -9.00,9,    0.003,2,    0.006,2,   2245.7,2, -999.000, -999.000,9,-999.0000,-999.0000,9,  -999.00,  -999.00,9, -999.000, -999.000,9,    -9.00,9
  32MB19900222,  P15S,    44,  2,    351,     11,2,19900329,-32.4917,-178.0033, 5722,   1993.4,   2.4140,-999.0000,9,  34.6150,2,    -9.00,9,   -9.000,9,   -9.000,9,     -9.0,9, -999.000, -999.000,9,-999.0000,-999.0000,9,  -999.00,  -999.00,9, -999.000, -999.000,9,    -9.00,9
  32MB19900222,  P15S,    44,  2,    350,     10,2,19900329,-32.4917,-178.0033, 5722,   2493.8,   2.1050,-999.0000,9,  34.6490,2,    -9.00,9,    0.003,6,    0.000,6,   2295.1,2, -999.000, -999.000,9,-999.0000,-999.0000,9,  -999.00,  -999.00,9, -999.000, -999.000,9,    -9.00,9
  32MB19900222,  P15S,    44,  2,    349,      9,2,19900329,-32.4917,-178.0033, 5722,   2993.9,   1.7480,  34.7070,2,  34.7060,2,    -9.00,9,    0.003,2,   -0.002,2,   2267.9,2, -999.000, -999.000,9,-999.0000,-999.0000,9,  -999.00,  -999.00,9, -999.000, -999.000,9,    -9.00,9
  32MB19900222,  P15S,    44,  2,    348,      8,2,19900329,-32.4917,-178.0033, 5722,   3495.5,   1.4180,  34.7260,2,  34.7260,2,    -9.00,9,    0.007,2,   -0.003,2,     -9.0,9, -999.000, -999.000,9,-999.0000,-999.0000,9,  -999.00,  -999.00,9, -999.000, -999.000,9,    -9.00,9
  32MB19900222,  P15S,    44,  2,    347,      7,2,19900329,-32.4917,-178.0033, 5722,   3996.2,   1.1210,  34.7240,2,  34.7180,2,    -9.00,9,    0.011,2,    0.013,2,     -9.0,9, -999.000, -999.000,9,-999.0000,-999.0000,9,  -999.00,  -999.00,9, -999.000, -999.000,9,    -9.00,9
  32MB19900222,  P15S,    44,  2,    346,      6,2,19900329,-32.4917,-178.0033, 5722,   4403.2,   1.0280,-999.0000,9,  34.7140,2,    -9.00,9,    0.013,2,    0.011,2,     -9.0,9, -999.000, -999.000,9,-999.0000,-999.0000,9,  -999.00,  -999.00,9, -999.000, -999.000,9,    -9.00,9
  32MB19900222,  P15S,    44,  2,    345,      5,2,19900329,-32.4917,-178.0033, 5722,   4797.5,   1.0150,  34.7140,2,  34.7100,2,    -9.00,9,    0.019,2,    0.005,2,     -9.0,9, -999.000, -999.000,9,-999.0000,-999.0000,9,  -999.00,  -999.00,9, -999.000, -999.000,9,    -9.00,9
  32MB19900222,  P15S,    44,  2,    353,      4,2,19900329,-32.4917,-178.0033, 5722,   5198.0,   1.0350,  34.7090,2,  34.7090,2,    -9.00,9,    0.021,2,    0.011,2,     -9.0,9, -999.000, -999.000,9,-999.0000,-999.0000,9,  -999.00,  -999.00,9, -999.000, -999.000,9,    -9.00,9
  32MB19900222,  P15S,    44,  2,    343,      3,2,19900329,-32.4917,-178.0033, 5722,   5497.8,   1.0620,  34.7070,2,  34.7080,2,    -9.00,9,    0.018,2,    0.012,2,     -9.0,9, -999.000, -999.000,9,-999.0000,-999.0000,9,  -999.00,  -999.00,9, -999.000, -999.000,9,    -9.00,9
  32MB19900222,  P15S,    44,  2,    342,      2,2,19900329,-32.4917,-178.0033, 5722,   5903.2,   1.1030,  34.7080,2,  34.7070,2,    -9.00,9,    0.019,2,    0.012,2,     -9.0,9, -999.000, -999.000,9,-999.0000,-999.0000,9,  -999.00,  -999.00,9, -999.000, -999.000,9,    -9.00,9
  32MB19900222,  P15S,    44,  2,    341,      1,2,19900329,-32.4917,-178.0033, 5722,   5972.7,   1.1120,  34.7090,2,  34.7070,2,    -9.00,9,    0.016,6,    0.008,6,     -9.0,9, -999.000, -999.000,9,-999.0000,-999.0000,9,  -999.00,  -999.00,9, -999.000, -999.000,9,    -9.00,9
  32MB19900222,  P15S,    45,  1,    452,     12,2,19900330,-32.4833,-175.4833, 5574,      5.2,  21.9580,  35.6670,2,  35.6610,2,     0.39,2,    1.999,2,    0.983,3,   2022.9,2,    0.871,    0.006,2,   1.7280,   0.0080,2,    -1.21,     0.15,2,    6.548,    0.032,2,    -9.00,9
  32MB19900222,  P15S,    45,  1,    451,     11,2,19900330,-32.4833,-175.4833, 5574,     49.1,  21.9150,  35.6610,2,  35.6610,2,     0.39,2,    2.031,2,    1.006,3,   2022.9,2, -999.000, -999.000,1,   1.7310,   0.0080,2,    -1.40,     0.15,2,    6.555,    0.032,2,    -9.00,9
  32MB19900222,  P15S,    45,  1,    450,     10,2,19900330,-32.4833,-175.4833, 5574,     97.6,  16.2690,  35.4900,2,  35.4940,2,     0.39,2,    2.365,2,    1.205,2,   2053.2,2,    0.814,    0.006,2,   1.7530,   0.0090,2,    -0.74,     0.15,2,    6.874,    0.034,2,    -9.00,9
  32MB19900222,  P15S,    45,  1,    449,      9,2,19900330,-32.4833,-175.4833, 5574,    146.3,  15.1880,  35.4310,2,  35.4240,2,     5.39,2,    2.271,2,    1.176,2,   2073.2,2,    0.747,    0.005,2,   1.7570,   0.0090,2,    -0.73,     0.15,2,    7.039,    0.034,2,    -9.00,9
  32MB19900222,  P15S,    45,  1,    448,      8,2,19900330,-32.4833,-175.4833, 5574,    196.1,  13.9230,  35.2780,2,  35.2700,2,     8.19,2,    2.209,2,    1.137,2,   2086.3,2,    0.661,    0.005,2,   1.7570,   0.0090,2,    -0.36,     0.15,2,    7.109,    0.035,2,    -9.00,9
  32MB19900222,  P15S,    45,  1,    447,      7,2,19900330,-32.4833,-175.4833, 5574,    294.5,  12.0090,  35.0140,2,  35.0100,2,    12.71,2,    2.057,2,    1.037,2,   2106.3,2,    0.505,    0.005,2,   1.7650,   0.0090,2,     0.11,     0.15,2,    7.185,    0.035,2,    -9.00,9
  32MB19900222,  P15S,    45,  1,    446,      6,2,19900330,-32.4833,-175.4833, 5574,    395.7,  10.4160,  34.8030,2,  34.8030,2,    17.89,2,    1.384,6,    0.687,6,   2121.5,2,    0.402,    0.004,2,   1.7900,   0.0090,2,     1.02,     0.15,2,    7.221,    0.035,2,    -9.00,9
  32MB19900222,  P15S,    45,  1,    445,      5,2,19900330,-32.4833,-175.4833, 5574,    594.8,   7.6420,  34.4900,2,  34.4870,2,    23.02,2,    0.983,2,    0.499,2,   2126.7,2,    0.262,    0.004,2,   1.7970,   0.0090,2,     1.10,     0.15,2,    7.331,    0.036,2,    -9.00,9
  32MB19900222,  P15S,    45,  1,    453,      4,2,19900330,-32.4833,-175.4833, 5574,    794.9,   6.3920,  34.3880,2,  34.3860,2,    26.74,2,    0.321,2,    0.170,2,   2142.7,2,    0.114,    0.003,2,   1.8080,   0.0090,2,     1.46,     0.15,2,    7.411,    0.036,2,    -9.00,9
  32MB19900222,  P15S,    45,  1,    443,      3,2,19900330,-32.4833,-175.4833, 5574,    995.0,   5.1500,  34.3900,2,  34.3820,2,    -9.00,9,    0.070,2,    0.038,2,   2177.8,2,    0.034,    0.002,2,   1.8260,   0.0090,2,     3.96,     0.15,2,    7.493,    0.037,2,    -9.00,9
  32MB19900222,  P15S,    45,  1,    442,      2,2,19900330,-32.4833,-175.4833, 5574,   1243.5,   3.7270,  34.4340,2,  34.4350,2,    -9.00,9,    0.003,2,    0.008,2,   2217.7,2,    0.015,    0.002,2,   1.8550,   0.0090,2,     8.61,     0.15,2,    7.624,    0.037,2,    -9.00,9
  32MB19900222,  P15S,    45,  1,    441,      1,2,19900330,-32.4833,-175.4833, 5574,   1494.2,   2.9770,-999.0000,9,  34.5340,2,    -9.00,9,    0.000,2,    0.006,2,   2252.9,2,    0.006,    0.002,2,-999.0000,-999.0000,1,  -999.00,  -999.00,1, -999.000, -999.000,9,    -9.00,9