BOTTLE,20081204PRINUNIVRMKPRINUNIVRMK
EXPOCODE,SECT_ID,STNNBR,CASTNO,SAMPNO,BTLNBR,BTLNBR_FLAG_W,DATE,LATITUDE,LONGITUDE,DEPTH,CTDPRS,CTDTMP,CTDSAL,CTDSAL_FLAG_W,SALNTY,SALNTY_FLAG_W,NITRAT,NITRAT_FLAG_W,CFC-11,CFC-11_FLAG_W,CFC-12,CFC-12_FLAG_W,TCARBN,TCARBN_FLAG_W,TRITUM,TRITER,TRITUM_FLAG_W,HELIUM,HELIER,HELIUM_FLAG_W,DELHE3,DELHER,DELHE3_FLAG_W,NEON,NEONE,NEON_FLAG_W,DELC13,DELC13_FLAG_W
,,,,,,,,,,METERS,DBARS,ITS-90,PSS-78,,PSS-78,,UMOL/KG,,PMOL/KG,,PMOL/KG,,UMOL/KG,,TU,TU,,NMOL/KG,NMOL/KG,,PERCNT,PERCNT,,NMOL/KG,NMOL/KG,,O/OO,
  32MB19900222,  P15S,    14,  1,    552,     12,2,19900303,-37.5100,-170.0183, 5149,      4.0,  19.6220,  35.1910,2,  35.1940,2,     0.39,2,    2.350,2,    1.408,3,   2032.5,2,    0.718,    0.005,2,   1.8660,   0.0090,3,    -0.87,     0.15,2,    7.118,    0.035,2,     1.86,2
  32MB19900222,  P15S,    14,  1,    551,     11,2,19900303,-37.5100,-170.0183, 5149,     17.1,  19.5630,  35.2060,2,  35.2000,2,    -9.00,9,   -9.000,9,   -9.000,9,     -9.0,9,    0.720,    0.005,2,   1.7510,   0.0090,2,    -1.27,     0.15,2,    6.802,    0.033,2,    -9.00,9
  32MB19900222,  P15S,    14,  1,    550,     10,2,19900303,-37.5100,-170.0183, 5149,     37.1,  19.4860,  35.2530,2,  35.2550,2,     0.39,2,    2.226,2,    1.171,2,   2026.6,2,    0.706,    0.005,2,   1.7380,   0.0090,2,    -1.40,     0.15,2,    6.833,    0.033,2,     1.90,2
  32MB19900222,  P15S,    14,  1,    549,      9,2,19900303,-37.5100,-170.0183, 5149,     68.2,  16.8330,  35.2010,2,  35.1850,2,     0.39,2,    2.627,2,    1.263,2,   2024.6,2, -999.000, -999.000,9,-999.0000,-999.0000,9,  -999.00,  -999.00,9, -999.000, -999.000,9,     1.95,2
  32MB19900222,  P15S,    14,  1,    548,      8,2,19900303,-37.5100,-170.0183, 5149,     97.2,  13.4450,  34.9300,2,  34.9370,2,     0.39,2,    3.048,2,    1.476,2,   2043.2,2,    0.647,    0.005,2,   1.7840,   0.0090,2,    -1.16,     0.15,2,    7.199,    0.035,2,     1.89,2
  32MB19900222,  P15S,    14,  1,    547,      7,2,19900303,-37.5100,-170.0183, 5149,    120.7,  12.4790,  34.8700,2,  34.8750,2,     3.46,2,    2.995,2,    1.498,2,     -9.0,9, -999.000, -999.000,9,-999.0000,-999.0000,9,  -999.00,  -999.00,9, -999.000, -999.000,9,    -9.00,9
  32MB19900222,  P15S,    14,  1,    546,      6,2,19900303,-37.5100,-170.0183, 5149,    146.0,  12.0800,  34.8470,2,  34.8700,2,     5.65,2,    2.900,2,    1.446,2,   2073.0,2, -999.000, -999.000,9,-999.0000,-999.0000,9,  -999.00,  -999.00,9, -999.000, -999.000,9,     1.66,2
  32MB19900222,  P15S,    14,  1,    545,      5,2,19900303,-37.5100,-170.0183, 5149,    197.7,  11.3530,-999.0000,9,  34.8550,2,     9.39,2,    2.933,2,    1.416,2,   2087.6,2,    0.459,    0.004,2,   2.0110,   0.0100,3,    -0.92,     0.15,2,    7.999,    0.039,3,     1.49,2
  32MB19900222,  P15S,    14,  1,    544,      4,2,19900303,-37.5100,-170.0183, 5149,    245.5,  10.5850,  34.7900,2,  34.7930,2,    13.14,2,    2.631,2,    1.310,2,   2105.2,2, -999.000, -999.000,9,-999.0000,-999.0000,9,  -999.00,  -999.00,9, -999.000, -999.000,9,     1.38,2
  32MB19900222,  P15S,    14,  1,    543,      3,2,19900303,-37.5100,-170.0183, 5149,    295.3,   9.6460,  34.6800,2,  34.6850,2,    16.32,2,    2.262,3,    1.020,4,   2114.2,2,    0.476,    0.004,2,   1.7860,   0.0090,2,    -0.17,     0.15,2,    7.313,    0.036,2,    -9.00,9
  32MB19900222,  P15S,    14,  1,    542,      2,2,19900303,-37.5100,-170.0183, 5149,    348.1,   9.0700,  34.6270,2,  34.6240,2,    18.16,2,    2.212,6,    1.084,6,     -9.0,9, -999.000, -999.000,9,-999.0000,-999.0000,9,  -999.00,  -999.00,9, -999.000, -999.000,9,    -9.00,9
  32MB19900222,  P15S,    14,  1,    541,      1,2,19900303,-37.5100,-170.0183, 5149,    396.0,   8.5210,  34.5560,2,  34.5590,2,    18.30,2,    2.537,2,    1.262,2,   2117.8,2,    0.447,    0.005,2,   1.7940,   0.0090,2,    -0.31,     0.15,2,    7.372,    0.036,2,     1.35,2
  32MB19900222,  P15S,    14,  2,    652,     12,2,19900303,-37.5100,-170.0183, 5149,    495.2,   8.0450,-999.0000,9,  34.5290,2,    -9.00,9,   -9.000,9,   -9.000,9,     -9.0,9,    0.306,    0.004,2,   1.7950,   0.0090,2,     0.58,     0.15,2,    7.414,    0.036,2,    -9.00,9
  32MB19900222,  P15S,    14,  2,    651,     11,2,19900303,-37.5100,-170.0183, 5149,    595.9,   7.5030,  34.4780,2,  34.4850,2,    22.11,2,    1.237,2,    0.610,2,   2133.4,2,    0.281,    0.004,2,   1.7950,   0.0090,2,     0.90,     0.15,2,    7.423,    0.036,2,     1.34,2
  32MB19900222,  P15S,    14,  2,    650,     10,2,19900303,-37.5100,-170.0183, 5149,    696.6,   7.0360,  34.4450,2,  34.4490,2,    23.63,2,    0.812,2,    0.401,2,   2140.2,2,    0.168,    0.003,2,   1.7980,   0.0090,2,     1.13,     0.15,2,    7.452,    0.037,2,    -9.00,9
  32MB19900222,  P15S,    14,  2,    649,      9,2,19900303,-37.5100,-170.0183, 5149,    796.1,   6.3390,  34.3840,2,  34.3840,2,    25.81,2,    0.524,6,    0.266,6,   2145.5,2,    0.143,    0.003,2,   1.8060,   0.0090,2,     1.10,     0.15,2,    7.523,    0.037,2,     1.25,2
  32MB19900222,  P15S,    14,  2,    648,      8,2,19900303,-37.5100,-170.0183, 5149,    896.4,   5.8330,  34.3770,2,  34.3780,2,    27.03,2,    0.319,2,    0.153,2,   2161.6,2,    0.094,    0.003,2,   1.8300,   0.0090,2,     2.07,     0.15,2,    7.640,    0.037,2,    -9.00,9
  32MB19900222,  P15S,    14,  2,    647,      7,2,19900303,-37.5100,-170.0183, 5149,    997.6,   5.2420,  34.3720,2,  34.3730,2,    29.08,2,    0.176,2,    0.074,3,   2176.1,2,    0.055,    0.002,2,   1.8220,   0.0090,2,     3.02,     0.15,2,    7.635,    0.037,2,     1.03,2
  32MB19900222,  P15S,    14,  2,    646,      6,2,19900303,-37.5100,-170.0183, 5149,   1095.4,   4.7900,  34.3870,2,  34.3900,2,    -9.00,9,    0.097,2,    0.035,2,     -9.0,9, -999.000, -999.000,9,-999.0000,-999.0000,9,  -999.00,  -999.00,9, -999.000, -999.000,9,    -9.00,9
  32MB19900222,  P15S,    14,  2,    645,      5,2,19900303,-37.5100,-170.0183, 5149,   1243.4,   4.1500,  34.4290,2,  34.4320,2,    -9.00,9,    0.034,6,    0.009,2,   2212.3,2,    0.026,    0.002,2,   1.8420,   0.0090,2,     7.45,     0.15,2,    7.701,    0.038,2,     0.79,2
  32MB19900222,  P15S,    14,  2,    644,      4,2,19900303,-37.5100,-170.0183, 5149,   1487.8,   3.2570,  34.5090,2,  34.5110,2,    -9.00,9,    0.039,2,    0.010,2,   2245.8,2,    0.000,    0.002,2,   1.8750,   0.0090,2,    12.36,     0.15,2,    7.819,    0.038,2,     0.50,2
  32MB19900222,  P15S,    14,  2,    643,      3,2,19900303,-37.5100,-170.0183, 5149,   1734.9,   2.7130,  34.5730,2,  34.5820,2,    -9.00,9,   -0.007,2,    0.003,2,   2266.8,2, -999.000, -999.000,9,-999.0000,-999.0000,9,  -999.00,  -999.00,9, -999.000, -999.000,9,    -9.00,9
  32MB19900222,  P15S,    14,  2,    642,      2,2,19900303,-37.5100,-170.0183, 5149,   1989.0,   2.4780,  34.6080,2,  34.6120,2,    -9.00,9,    0.006,6,    0.004,6,   2280.5,2, -999.000, -999.000,9,-999.0000,-999.0000,9,  -999.00,  -999.00,9, -999.000, -999.000,9,     0.30,2
  32MB19900222,  P15S,    14,  2,    641,      1,2,19900303,-37.5100,-170.0183, 5149,   2498.3,   2.1630,  34.6430,2,  34.6500,2,    -9.00,9,    0.011,6,    0.001,6,   2295.1,2, -999.000, -999.000,9,-999.0000,-999.0000,9,  -999.00,  -999.00,9, -999.000, -999.000,9,     0.21,2
  32MB19900222,  P15S,    15,  1,    752,     12,2,19900304,-40.0000,-170.0033, 4626,      2.8,  17.4040,  34.9660,2,  34.9660,2,     0.39,2,    2.553,2,    1.300,2,   2029.0,2,    0.501,    0.005,2,-999.0000,-999.0000,9,  -999.00,  -999.00,9, -999.000, -999.000,9,     2.05,2
  32MB19900222,  P15S,    15,  1,    751,     11,2,19900304,-40.0000,-170.0033, 4626,     18.8,  16.8400,  34.9830,2,  34.9850,2,    -9.00,9,   -9.000,9,   -9.000,9,     -9.0,9,    0.510,    0.005,2,   1.7620,   0.0090,2,    -1.69,     0.15,2,    6.967,    0.034,2,    -9.00,9
  32MB19900222,  P15S,    15,  1,    750,     10,2,19900304,-40.0000,-170.0033, 4626,     38.4,  16.7060,-999.0000,9,  34.9600,2,     0.39,2,    2.608,2,    1.304,2,   2025.8,2, -999.000, -999.000,9,   1.7490,   0.0090,2,    -1.69,     0.15,2,    6.924,    0.034,2,    -9.00,9
  32MB19900222,  P15S,    15,  1,    749,      9,2,19900304,-40.0000,-170.0033, 4626,     66.2,  14.0770,  35.1750,2,  35.1680,2,     2.61,2,    2.696,2,    1.336,2,   2056.5,2, -999.000, -999.000,9,-999.0000,-999.0000,9,  -999.00,  -999.00,9, -999.000, -999.000,9,    -9.00,9
  32MB19900222,  P15S,    15,  1,    748,      8,2,19900304,-40.0000,-170.0033, 4626,     98.1,  13.3900,  35.2370,2,  35.2380,2,     7.53,2,    2.652,2,    1.302,2,   2079.0,2,    0.522,    0.005,2,   1.7750,   0.0090,2,    -1.21,     0.15,2,    7.088,    0.035,2,    -9.00,9
  32MB19900222,  P15S,    15,  1,    747,      7,2,19900304,-40.0000,-170.0033, 4626,    122.2,  12.9740,  35.1710,2,  35.1660,2,     8.12,2,    2.767,2,    1.294,2,     -9.0,9, -999.000, -999.000,9,-999.0000,-999.0000,9,  -999.00,  -999.00,9, -999.000, -999.000,9,    -9.00,9
  32MB19900222,  P15S,    15,  1,    746,      6,2,19900304,-40.0000,-170.0033, 4626,    146.6,  12.3780,  35.0540,2,  35.0550,2,     6.74,2,    2.970,2,    1.396,2,   2077.0,2, -999.000, -999.000,9,-999.0000,-999.0000,9,  -999.00,  -999.00,9, -999.000, -999.000,9,    -9.00,9
  32MB19900222,  P15S,    15,  1,    745,      5,2,19900304,-40.0000,-170.0033, 4626,    196.5,  11.9560,  34.9970,2,  35.0040,2,     8.55,2,    2.901,2,    1.337,2,   2085.6,2,    0.610,    0.005,2,   1.7860,   0.0090,2,    -1.27,     0.15,2,    7.200,    0.035,2,    -9.00,9
  32MB19900222,  P15S,    15,  1,    744,      4,2,19900304,-40.0000,-170.0033, 4626,    246.5,  11.1160,  34.8770,2,  34.8790,2,    12.75,2,    2.523,2,    1.258,2,   2099.7,2, -999.000, -999.000,9,-999.0000,-999.0000,9,  -999.00,  -999.00,9, -999.000, -999.000,9,    -9.00,9
  32MB19900222,  P15S,    15,  1,    743,      3,2,19900304,-40.0000,-170.0033, 4626,    296.1,  10.1280,  34.7530,2,  34.7480,2,    14.64,2,    2.648,2,    1.266,2,   2107.2,2,    0.486,    0.005,2,   1.7990,   0.0090,2,    -0.61,     0.15,2,    7.296,    0.036,2,    -9.00,9
  32MB19900222,  P15S,    15,  1,    742,      2,2,19900304,-40.0000,-170.0033, 4626,    346.2,   9.4100,  34.6660,2,  34.6600,2,    16.68,2,    2.454,6,    1.214,6,     -9.0,9, -999.000, -999.000,9,-999.0000,-999.0000,9,  -999.00,  -999.00,9, -999.000, -999.000,9,    -9.00,9
  32MB19900222,  P15S,    15,  1,    741,      1,2,19900304,-40.0000,-170.0033, 4626,    393.1,   8.8320,  34.5860,2,  34.5850,2,    16.45,2,    2.854,6,    1.384,6,   2112.8,2,    0.435,    0.005,2,   1.7720,   0.0090,2,    -0.73,     0.15,2,    7.279,    0.036,2,    -9.00,9
  32MB19900222,  P15S,    15,  2,    847,     12,2,19900304,-40.0000,-170.0033, 4626,    496.0,   8.1110,  34.5150,2,  34.5130,2,    18.70,2,    2.442,2,    1.184,2,   2123.4,2,    0.248,    0.004,2,-999.0000,-999.0000,9,  -999.00,  -999.00,9, -999.000, -999.000,9,    -9.00,9
  32MB19900222,  P15S,    15,  2,    846,     11,2,19900304,-40.0000,-170.0033, 4626,    595.3,   7.6660,  34.4790,2,  34.4790,2,    20.80,2,    1.989,2,    0.925,2,   2127.5,2,    0.298,    0.004,2,   1.7990,   0.0090,2,     0.38,     0.15,2,    7.500,    0.037,2,    -9.00,9
  32MB19900222,  P15S,    15,  2,    845,     10,2,19900304,-40.0000,-170.0033, 4626,    694.2,   7.2570,  34.4450,2,  34.4450,2,    22.98,2,    1.465,2,    0.693,2,   2131.5,2,    0.252,    0.004,2,   1.8020,   0.0090,2,     0.48,     0.15,2,    7.538,    0.037,2,    -9.00,9
  32MB19900222,  P15S,    15,  2,    844,      9,2,19900304,-40.0000,-170.0033, 4626,    795.6,   6.8250,  34.4120,2,  34.4130,2,    23.92,2,    0.992,2,    0.490,2,   2138.9,2,    0.138,    0.003,2,   1.7960,   0.0090,2,     0.83,     0.15,2,    7.525,    0.037,2,    -9.00,9
  32MB19900222,  P15S,    15,  2,    843,      8,2,19900304,-40.0000,-170.0033, 4626,    894.5,   6.2790,  34.3910,2,  34.3890,2,    25.81,2,    0.652,2,    0.297,2,     -9.0,9,    0.069,    0.003,2,-999.0000,-999.0000,9,  -999.00,  -999.00,9, -999.000, -999.000,9,    -9.00,9
  32MB19900222,  P15S,    15,  2,    842,      7,2,19900304,-40.0000,-170.0033, 4626,    993.2,   5.8060,  34.3900,2,  34.3920,2,    27.91,2,    0.378,6,    0.175,6,   2166.9,2,    0.023,    0.002,2,   1.8160,   0.0090,2,     2.51,     0.15,2,    7.618,    0.037,2,    -9.00,9
  32MB19900222,  P15S,    15,  2,    841,      6,2,19900304,-40.0000,-170.0033, 4626,   1093.2,   5.1660,  34.3890,2,  34.3870,2,    -9.00,9,    0.291,2,    0.133,2,   2238.0,2, -999.000, -999.000,9,-999.0000,-999.0000,9,  -999.00,  -999.00,9, -999.000, -999.000,9,    -9.00,9
  32MB19900222,  P15S,    15,  2,    852,      5,2,19900304,-40.0000,-170.0033, 4626,   1243.4,   4.3610,  34.3970,2,  34.4030,2,    -9.00,9,    0.129,2,    0.047,2,     -9.0,9,    0.024,    0.002,2,-999.0000,-999.0000,9,  -999.00,  -999.00,9, -999.000, -999.000,9,    -9.00,9
  32MB19900222,  P15S,    15,  2,    851,      4,2,19900304,-40.0000,-170.0033, 4626,   1492.5,   3.5170,  34.4940,2,  34.4920,2,    -9.00,9,    0.024,2,    0.000,3,     -9.0,9,    0.013,    0.003,2,-999.0000,-999.0000,9,  -999.00,  -999.00,9, -999.000, -999.000,9,    -9.00,9
  32MB19900222,  P15S,    15,  2,    850,      3,2,19900304,-40.0000,-170.0033, 4626,   1744.7,   2.8960,  34.5740,2,  34.5760,2,    -9.00,9,   -9.000,9,   -9.000,9,     -9.0,9, -999.000, -999.000,9,-999.0000,-999.0000,9,  -999.00,  -999.00,9, -999.000, -999.000,9,    -9.00,9
  32MB19900222,  P15S,    15,  2,    849,      2,2,19900304,-40.0000,-170.0033, 4626,   1993.7,   2.5040,  34.6160,2,  34.6180,2,    -9.00,9,    0.006,2,    0.001,2,   2285.0,2, -999.000, -999.000,1,-999.0000,-999.0000,1,  -999.00,  -999.00,1, -999.000, -999.000,9,    -9.00,9
  32MB19900222,  P15S,    15,  2,    848,      1,2,19900304,-40.0000,-170.0033, 4626,   2294.7,   2.2110,  34.6460,2,  34.6490,2,    -9.00,9,    0.040,4,    0.001,6,     -9.0,9, -999.000, -999.000,1,-999.0000,-999.0000,1,  -999.00,  -999.00,1, -999.000, -999.000,9,    -9.00,9
  32MB19900222,  P15S,    15,  3,    946,     11,2,19900304,-40.0000,-170.0033, 4626,   2694.3,   1.9030,  34.6960,2,  34.6990,2,    -9.00,9,   -0.002,2,    0.000,2,   2278.4,2, -999.000, -999.000,1,-999.0000,-999.0000,1,  -999.00,  -999.00,1, -999.000, -999.000,9,    -9.00,9
  32MB19900222,  P15S,    15,  3,    947,     12,2,19900304,-40.0000,-170.0033, 4626,   2694.8,   1.9020,  34.6950,2,  34.7000,2,    -9.00,9,   -9.000,9,   -9.000,9,     -9.0,9, -999.000, -999.000,9,-999.0000,-999.0000,9,  -999.00,  -999.00,9, -999.000, -999.000,9,    -9.00,9
  32MB19900222,  P15S,    15,  3,    945,     10,2,19900304,-40.0000,-170.0033, 4626,   3097.2,   1.6540,  34.7280,2,  34.7300,2,    -9.00,9,   -0.005,2,    0.003,2,   2257.3,2, -999.000, -999.000,1,-999.0000,-999.0000,1,  -999.00,  -999.00,1, -999.000, -999.000,9,    -9.00,9
  32MB19900222,  P15S,    15,  3,    944,      9,2,19900304,-40.0000,-170.0033, 4626,   3394.6,   1.4260,  34.7350,2,  34.7300,2,    -9.00,9,   -0.002,2,    0.001,2,   2254.9,2, -999.000, -999.000,1,-999.0000,-999.0000,1,  -999.00,  -999.00,1, -999.000, -999.000,9,    -9.00,9
  32MB19900222,  P15S,    15,  3,    943,      8,2,19900304,-40.0000,-170.0033, 4626,   3685.6,   1.2240,  34.7100,2,  34.7300,2,    -9.00,9,    0.003,2,    0.001,2,   2255.9,2, -999.000, -999.000,1,-999.0000,-999.0000,1,  -999.00,  -999.00,1, -999.000, -999.000,9,    -9.00,9
  32MB19900222,  P15S,    15,  3,    942,      7,2,19900304,-40.0000,-170.0033, 4626,   3894.6,   1.1010,  34.7170,2,  34.7190,2,    -9.00,9,    0.006,2,    0.001,2,   2256.2,2, -999.000, -999.000,1,-999.0000,-999.0000,1,  -999.00,  -999.00,1, -999.000, -999.000,9,    -9.00,9
  32MB19900222,  P15S,    15,  3,    941,      6,2,19900304,-40.0000,-170.0033, 4626,   4097.1,   1.0130,  34.7150,2,  34.7150,2,    -9.00,9,    0.010,2,    0.004,2,   2257.6,2, -999.000, -999.000,1,-999.0000,-999.0000,1,  -999.00,  -999.00,1, -999.000, -999.000,9,    -9.00,9
  32MB19900222,  P15S,    15,  3,    951,      4,2,19900304,-40.0000,-170.0033, 4626,   4300.4,   0.9520,  34.7100,2,  34.7120,2,    -9.00,9,    0.013,2,    0.005,2,   2257.7,2, -999.000, -999.000,1,-999.0000,-999.0000,1,  -999.00,  -999.00,1, -999.000, -999.000,9,    -9.00,9
  32MB19900222,  P15S,    15,  3,    950,      3,2,19900304,-40.0000,-170.0033, 4626,   4396.9,   0.9380,  34.7110,2,  34.7120,2,    -9.00,9,    0.014,2,    0.005,2,   2258.6,2, -999.000, -999.000,1,-999.0000,-999.0000,1,  -999.00,  -999.00,1, -999.000, -999.000,9,    -9.00,9
  32MB19900222,  P15S,    15,  3,    949,      2,2,19900304,-40.0000,-170.0033, 4626,   4598.3,   0.9170,  34.7080,2,  34.7090,2,    -9.00,9,    0.020,6,    0.004,6,   2259.7,2, -999.000, -999.000,9,-999.0000,-999.0000,9,  -999.00,  -999.00,9, -999.000, -999.000,9,    -9.00,9
  32MB19900222,  P15S,    15,  3,    948,      1,2,19900304,-40.0000,-170.0033, 4626,   4675.6,   0.9150,  34.7130,2,  34.7080,2,    -9.00,9,    0.023,6,    0.004,6,   2260.4,2, -999.000, -999.000,9,-999.0000,-999.0000,9,  -999.00,  -999.00,9, -999.000, -999.000,9,    -9.00,9