BOTTLE,20081204PRINUNIVRMKPRINUNIVRMK
EXPOCODE,SECT_ID,STNNBR,CASTNO,SAMPNO,BTLNBR,BTLNBR_FLAG_W,DATE,LATITUDE,LONGITUDE,DEPTH,CTDPRS,CTDTMP,CTDSAL,CTDSAL_FLAG_W,SALNTY,SALNTY_FLAG_W,NITRAT,NITRAT_FLAG_W,CFC-11,CFC-11_FLAG_W,CFC-12,CFC-12_FLAG_W,TCARBN,TCARBN_FLAG_W,TRITUM,TRITER,TRITUM_FLAG_W,HELIUM,HELIER,HELIUM_FLAG_W,DELHE3,DELHER,DELHE3_FLAG_W,NEON,NEONE,NEON_FLAG_W,DELC13,DELC13_FLAG_W
,,,,,,,,,,METERS,DBARS,ITS-90,PSS-78,,PSS-78,,UMOL/KG,,PMOL/KG,,PMOL/KG,,UMOL/KG,,TU,TU,,NMOL/KG,NMOL/KG,,PERCNT,PERCNT,,NMOL/KG,NMOL/KG,,O/OO,
  32MB19900222,  P15S,    58,  3,    853,     12,2,19900407, -5.0017,-170.0133, 5413,   2243.1,   2.0740,  34.6530,2,  34.6530,2,    -9.00,9,    0.004,6,    0.000,6,     -9.0,9, -999.000, -999.000,9,-999.0000,-999.0000,9,  -999.00,  -999.00,9, -999.000, -999.000,9,    -9.00,9
  32MB19900222,  P15S,    58,  3,    843,     11,2,19900407, -5.0017,-170.0133, 5413,   2543.8,   1.8960,  34.6640,2,  34.6620,2,    -9.00,9,    0.002,6,   -0.001,6,   2326.8,2, -999.000, -999.000,9,-999.0000,-999.0000,9,  -999.00,  -999.00,9, -999.000, -999.000,9,    -9.00,9
  32MB19900222,  P15S,    58,  3,    842,     10,2,19900407, -5.0017,-170.0133, 5413,   2739.7,   1.8050,  34.6780,2,  34.6670,2,    -9.00,9,    0.002,6,    0.002,6,     -9.0,9, -999.000, -999.000,9,-999.0000,-999.0000,9,  -999.00,  -999.00,9, -999.000, -999.000,9,    -9.00,9
  32MB19900222,  P15S,    58,  3,    841,      9,2,19900407, -5.0017,-170.0133, 5413,   2993.3,   1.6830,  34.6770,2,  34.6760,2,    -9.00,9,    0.009,6,    0.004,6,   2319.6,2, -999.000, -999.000,9,-999.0000,-999.0000,9,  -999.00,  -999.00,9, -999.000, -999.000,9,    -9.00,9
  32MB19900222,  P15S,    58,  3,    851,      7,2,19900407, -5.0017,-170.0133, 5413,   3394.8,   1.5550,  34.6850,2,  34.6840,2,    -9.00,9,    0.001,2,    0.000,2,   2317.9,2, -999.000, -999.000,9,-999.0000,-999.0000,9,  -999.00,  -999.00,9, -999.000, -999.000,9,    -9.00,9
  32MB19900222,  P15S,    58,  3,    850,      6,2,19900407, -5.0017,-170.0133, 5413,   3798.5,   1.4670,  34.6920,2,  34.6900,2,    -9.00,9,    0.004,2,   -0.009,2,   2312.9,2, -999.000, -999.000,9,-999.0000,-999.0000,9,  -999.00,  -999.00,9, -999.000, -999.000,9,    -9.00,9
  32MB19900222,  P15S,    58,  3,    849,      5,2,19900407, -5.0017,-170.0133, 5413,   4196.6,   1.3690,  34.7010,2,  34.6970,2,    -9.00,9,    0.006,2,    0.019,4,   2301.2,2, -999.000, -999.000,9,-999.0000,-999.0000,9,  -999.00,  -999.00,9, -999.000, -999.000,9,    -9.00,9
  32MB19900222,  P15S,    58,  3,    848,      4,2,19900407, -5.0017,-170.0133, 5413,   4397.4,   1.3230,  34.7030,2,  34.7000,2,    -9.00,9,    0.012,3,    0.000,2,     -9.0,9, -999.000, -999.000,9,-999.0000,-999.0000,9,  -999.00,  -999.00,9, -999.000, -999.000,9,    -9.00,9
  32MB19900222,  P15S,    58,  3,    847,      3,2,19900407, -5.0017,-170.0133, 5413,   4595.0,   1.2560,  34.7080,2,  34.7040,2,    -9.00,9,    0.006,2,    0.000,2,   2277.8,2, -999.000, -999.000,9,-999.0000,-999.0000,9,  -999.00,  -999.00,9, -999.000, -999.000,9,    -9.00,9
  32MB19900222,  P15S,    58,  3,    846,      2,2,19900407, -5.0017,-170.0133, 5413,   4992.6,   1.1980,  34.7120,2,  34.7090,2,    -9.00,9,    0.001,2,    0.003,2,   2268.3,2, -999.000, -999.000,9,-999.0000,-999.0000,9,  -999.00,  -999.00,9, -999.000, -999.000,9,    -9.00,9
  32MB19900222,  P15S,    58,  3,    845,      1,2,19900407, -5.0017,-170.0133, 5413,   5480.8,   1.2460,  34.7110,2,  34.7080,2,    -9.00,9,    0.001,2,    0.007,2,   2265.0,2, -999.000, -999.000,9,-999.0000,-999.0000,9,  -999.00,  -999.00,9, -999.000, -999.000,9,    -9.00,9
  32MB19900222,  P15S,    59,  1,    948,     12,2,19900408, -2.0050,-170.0067, 5214,      6.4,  28.3310,  35.3660,2,  35.3620,2,     3.02,2,    1.648,2,    0.922,2,   1997.5,2,    1.269,    0.007,2,   1.6960,   0.0080,2,    -1.32,     0.15,2,    6.162,    0.030,2,     1.59,2
  32MB19900222,  P15S,    59,  1,    947,     11,2,19900408, -2.0050,-170.0067, 5214,     17.1,  28.3350,  35.3670,2,  35.3630,2,     3.24,2,    1.606,2,    0.878,2,   1997.6,2,    1.182,    0.007,2,   1.6970,   0.0080,2,    -1.23,     0.15,2,    6.246,    0.031,2,    -9.00,9
  32MB19900222,  P15S,    59,  1,    946,     10,2,19900408, -2.0050,-170.0067, 5214,     36.2,  28.3100,  35.3660,2,  35.3630,2,     3.47,2,    1.584,2,    0.793,2,   1996.2,2,    1.159,    0.007,2,   1.6930,   0.0080,2,    -1.25,     0.15,2,    6.384,    0.031,2,    -9.00,9
  32MB19900222,  P15S,    59,  1,    945,      9,2,19900408, -2.0050,-170.0067, 5214,     67.5,  27.9320,  35.4940,2,  35.4900,2,     3.69,2,    1.625,2,    0.835,2,   2006.5,2, -999.000, -999.000,9,-999.0000,-999.0000,9,  -999.00,  -999.00,9, -999.000, -999.000,9,    -9.00,9
  32MB19900222,  P15S,    59,  1,    953,      8,2,19900408, -2.0050,-170.0067, 5214,     96.1,  27.4580,  35.5760,2,  35.5740,2,     4.51,2,    1.615,2,    0.839,2,   2021.7,2,    1.228,    0.007,2,   1.6920,   0.0080,2,    -1.39,     0.15,2,    6.409,    0.031,2,    -9.00,9
  32MB19900222,  P15S,    59,  1,    943,      7,2,19900408, -2.0050,-170.0067, 5214,    124.3,  26.9670,  35.5920,2,  35.5900,2,     5.58,2,    1.627,2,    0.861,2,   2032.2,2, -999.000, -999.000,9,-999.0000,-999.0000,9,  -999.00,  -999.00,9, -999.000, -999.000,9,    -9.00,9
  32MB19900222,  P15S,    59,  1,    942,      6,2,19900408, -2.0050,-170.0067, 5214,    146.4,  24.4550,  35.7810,2,  35.8030,2,     6.86,2,    1.607,2,    0.848,2,   2075.4,2, -999.000, -999.000,9,-999.0000,-999.0000,9,  -999.00,  -999.00,9, -999.000, -999.000,9,    -9.00,9
  32MB19900222,  P15S,    59,  1,    941,      5,2,19900408, -2.0050,-170.0067, 5214,    198.4,  16.5960,  35.3380,2,  35.3300,2,    17.63,2,    0.958,2,    0.484,2,   2157.7,2,    0.582,    0.005,2,   1.7550,   0.0090,2,     2.03,     0.15,2,    6.941,    0.034,2,    -9.00,9
  32MB19900222,  P15S,    59,  1,    952,      4,2,19900408, -2.0050,-170.0067, 5214,    297.4,  10.6430,-999.0000,9,  34.7690,2,    -9.00,9,   -9.000,9,   -9.000,9,     -9.0,9, -999.000, -999.000,9,-999.0000,-999.0000,9,  -999.00,  -999.00,9, -999.000, -999.000,9,    -9.00,9
  32MB19900222,  P15S,    59,  1,    951,      3,2,19900408, -2.0050,-170.0067, 5214,    494.1,   8.4340,-999.0000,9,  34.6930,2,    -9.00,9,    0.093,2,    0.038,2,   2245.6,2,    0.069,    0.002,2,   1.8250,   0.0090,2,     6.31,     0.15,2,    7.433,    0.036,2,    -9.00,9
  32MB19900222,  P15S,    59,  1,    950,      2,2,19900408, -2.0050,-170.0067, 5214,    694.8,   6.1410,  34.5580,2,  34.5590,2,    -9.00,9,    0.052,2,    0.001,3,   2270.5,2,    0.023,    0.002,2,-999.0000,-999.0000,9,  -999.00,  -999.00,9, -999.000, -999.000,9,    -9.00,9
  32MB19900222,  P15S,    59,  1,    949,      1,2,19900408, -2.0050,-170.0067, 5214,    994.2,   4.4210,  34.5600,2,  34.5590,2,    -9.00,9,    0.027,2,    0.020,2,   2292.6,2,    0.016,    0.002,2,   1.8880,   0.0090,2,    18.29,     0.15,2,    7.466,    0.037,2,    -9.00,9
  32MB19900222,  P15S,    60,  1,     48,     12,2,19900409, -0.9950,-170.0200, 5435,      5.8,  28.2120,  35.3670,2,  35.3670,2,     2.41,2,    1.605,2,    0.869,2,   1999.6,2,    1.271,    0.006,2,   1.7000,   0.0080,2,    -1.22,     0.15,2,    6.253,    0.031,2,     1.54,2
  32MB19900222,  P15S,    60,  1,     47,     11,2,19900409, -0.9950,-170.0200, 5435,     19.5,  28.1030,  35.3640,2,  35.3620,2,     3.84,2,    1.695,2,    0.858,2,   2000.2,2,    1.292,    0.006,2,   1.6980,   0.0080,2,    -1.13,     0.15,2,    6.353,    0.031,2,    -9.00,9
  32MB19900222,  P15S,    60,  1,     46,     10,2,19900409, -0.9950,-170.0200, 5435,     39.8,  28.0810,  35.3650,2,  35.3640,2,     3.24,2,    1.652,2,    0.860,2,   2000.7,2,    1.299,    0.006,2,   1.6940,   0.0080,2,    -1.23,     0.15,2,    6.321,    0.031,2,    -9.00,9
  32MB19900222,  P15S,    60,  1,     45,      9,2,19900409, -0.9950,-170.0200, 5435,     68.0,  28.0580,  35.3700,2,  35.3680,2,     3.31,2,    1.663,2,    0.855,2,   2003.6,2, -999.000, -999.000,9,-999.0000,-999.0000,9,  -999.00,  -999.00,9, -999.000, -999.000,9,    -9.00,9
  32MB19900222,  P15S,    60,  1,     53,      8,2,19900409, -0.9950,-170.0200, 5435,     98.5,  27.6320,  35.4650,2,  35.4600,2,     4.14,2,    1.619,2,    0.882,2,   2016.3,2,    1.242,    0.006,2,   1.6890,   0.0080,2,    -1.35,     0.15,2,    6.342,    0.031,2,    -9.00,9
  32MB19900222,  P15S,    60,  1,     43,      7,2,19900409, -0.9950,-170.0200, 5435,    121.5,  26.7310,  35.5710,2,  35.5810,2,     6.78,2,    1.701,2,    0.875,2,   2037.7,2, -999.000, -999.000,9,-999.0000,-999.0000,9,  -999.00,  -999.00,9, -999.000, -999.000,9,    -9.00,9
  32MB19900222,  P15S,    60,  1,     42,      6,2,19900409, -0.9950,-170.0200, 5435,    147.7,  21.1660,  35.4700,2,  35.4860,2,    11.30,2,    1.324,2,    0.719,2,   2094.8,2, -999.000, -999.000,9,-999.0000,-999.0000,9,  -999.00,  -999.00,9, -999.000, -999.000,9,    -9.00,9
  32MB19900222,  P15S,    60,  1,     41,      5,2,19900409, -0.9950,-170.0200, 5435,    196.2,  15.6550,  35.1670,2,  35.1700,2,    14.70,2,    1.012,2,    0.516,2,   2125.6,2,    0.662,    0.004,2,   1.7610,   0.0090,2,     3.14,     0.15,2,    6.935,    0.034,2,    -9.00,9
  32MB19900222,  P15S,    60,  1,     52,      4,2,19900409, -0.9950,-170.0200, 5435,    296.5,  11.2680,  34.8070,2,  34.8170,2,    26.53,2,    0.344,6,    0.162,2,   2203.9,2,    0.368,    0.003,2,   1.7950,   0.0090,2,     5.72,     0.15,2,    7.298,    0.036,2,    -9.00,9
  32MB19900222,  P15S,    60,  1,     51,      3,2,19900409, -0.9950,-170.0200, 5435,    498.2,   8.1740,  34.6270,2,  34.6340,2,    -9.00,9,    0.086,2,    0.043,2,   2234.0,2,    0.078,    0.002,2,   1.8140,   0.0090,2,     7.06,     0.15,2,    7.321,    0.036,2,    -9.00,9
  32MB19900222,  P15S,    60,  1,     50,      2,2,19900409, -0.9950,-170.0200, 5435,    694.1,   6.0780,  34.5570,2,  34.5620,2,    -9.00,9,    0.050,2,    0.001,3,   2268.6,2,    0.011,    0.001,2,   1.8460,   0.0090,2,    12.04,     0.15,2,    7.465,    0.037,2,    -9.00,9
  32MB19900222,  P15S,    60,  1,     49,      1,2,19900409, -0.9950,-170.0200, 5435,    994.4,   4.6080,  34.5560,2,  34.5600,2,    -9.00,9,    0.002,2,    0.005,2,   2291.6,2,    0.009,    0.001,2,   1.8790,   0.0090,2,    17.98,     0.15,2,    7.538,    0.037,2,    -9.00,9
  32MB19900222,  P15S,    61,  1,    152,     12,2,19900409, -0.4983,-170.0067, 5698,      6.7,  28.2080,  35.3860,2,  35.3900,2,     3.09,2,    1.595,2,    0.794,3,   2001.1,2, -999.000, -999.000,9,-999.0000,-999.0000,9,  -999.00,  -999.00,9, -999.000, -999.000,9,     1.61,2
  32MB19900222,  P15S,    61,  1,    151,     11,2,19900409, -0.4983,-170.0067, 5698,     18.0,  28.1270,  35.3840,2,  35.3970,2,     3.55,2,    1.579,2,    0.796,3,   1999.6,2, -999.000, -999.000,9,-999.0000,-999.0000,9,  -999.00,  -999.00,9, -999.000, -999.000,9,    -9.00,9
  32MB19900222,  P15S,    61,  1,    150,     10,2,19900409, -0.4983,-170.0067, 5698,     38.6,  28.0820,  35.3820,2,  35.3850,2,     3.31,2,    1.591,2,    0.817,3,   2001.3,2, -999.000, -999.000,9,-999.0000,-999.0000,9,  -999.00,  -999.00,9, -999.000, -999.000,9,    -9.00,9
  32MB19900222,  P15S,    61,  1,    149,      9,2,19900409, -0.4983,-170.0067, 5698,     67.6,  28.0480,  35.3800,2,  35.3840,2,     3.23,2,    1.651,2,    0.866,2,   2002.4,2, -999.000, -999.000,9,-999.0000,-999.0000,9,  -999.00,  -999.00,9, -999.000, -999.000,9,    -9.00,9
  32MB19900222,  P15S,    61,  1,    148,      8,2,19900409, -0.4983,-170.0067, 5698,     97.7,  27.5520,  35.4980,2,  35.5220,2,     4.14,2,    1.586,2,    0.844,2,   2018.6,2, -999.000, -999.000,9,-999.0000,-999.0000,9,  -999.00,  -999.00,9, -999.000, -999.000,9,    -9.00,9
  32MB19900222,  P15S,    61,  1,    147,      7,2,19900409, -0.4983,-170.0067, 5698,    121.7,  26.1820,  35.5720,2,  35.5610,2,     7.16,2,    1.551,2,    0.836,2,   2044.5,2, -999.000, -999.000,9,-999.0000,-999.0000,9,  -999.00,  -999.00,9, -999.000, -999.000,9,    -9.00,9
  32MB19900222,  P15S,    61,  1,    146,      6,2,19900409, -0.4983,-170.0067, 5698,    147.2,  21.5180,  35.3620,2,  35.3070,2,    10.40,2,    1.349,2,    0.701,2,   2081.5,2, -999.000, -999.000,9,-999.0000,-999.0000,9,  -999.00,  -999.00,9, -999.000, -999.000,9,    -9.00,9
  32MB19900222,  P15S,    61,  1,    145,      5,2,19900409, -0.4983,-170.0067, 5698,    196.5,  14.9780,  35.0520,2,  35.0480,2,    15.30,2,    0.912,2,    0.473,2,   2125.8,2, -999.000, -999.000,9,-999.0000,-999.0000,9,  -999.00,  -999.00,9, -999.000, -999.000,9,    -9.00,9
  32MB19900222,  P15S,    61,  1,    153,      4,2,19900409, -0.4983,-170.0067, 5698,    246.8,  12.4320,  34.9140,2,  34.9070,2,    19.90,2,    0.590,2,    0.292,2,   2157.7,2, -999.000, -999.000,9,-999.0000,-999.0000,9,  -999.00,  -999.00,9, -999.000, -999.000,9,    -9.00,9
  32MB19900222,  P15S,    61,  1,    143,      3,2,19900409, -0.4983,-170.0067, 5698,    345.9,  10.3890,-999.0000,9,  34.7620,2,    -9.00,9,    0.186,2,    0.116,2,   2227.9,2, -999.000, -999.000,9,-999.0000,-999.0000,9,  -999.00,  -999.00,9, -999.000, -999.000,9,    -9.00,9
  32MB19900222,  P15S,    61,  1,    142,      2,2,19900409, -0.4983,-170.0067, 5698,    497.1,   8.3770,  34.6410,2,  34.6510,2,    -9.00,9,    0.042,2,    0.022,2,   2253.3,2, -999.000, -999.000,9,-999.0000,-999.0000,9,  -999.00,  -999.00,9, -999.000, -999.000,9,    -9.00,9
  32MB19900222,  P15S,    61,  1,    141,      1,2,19900409, -0.4983,-170.0067, 5698,    994.0,   4.4070,  34.5620,2,  34.5710,2,    -9.00,9,    0.016,2,    0.006,2,   2295.1,2, -999.000, -999.000,9,-999.0000,-999.0000,9,  -999.00,  -999.00,9, -999.000, -999.000,9,    -9.00,9
  32MB19900222,  P15S,    62,  1,    252,     12,2,19900409,  0.0000,-170.0200, 5342,    446.3,   8.4450,  34.6430,2,  34.6500,2,    -9.00,9,    0.049,2,    0.014,2,     -9.0,9, -999.000, -999.000,9,-999.0000,-999.0000,9,  -999.00,  -999.00,9, -999.000, -999.000,9,     0.24,2
  32MB19900222,  P15S,    62,  1,    251,     11,2,19900409,  0.0000,-170.0200, 5342,    495.1,   8.2050,  34.6330,2,  34.6380,2,    -9.00,9,    0.083,4,    0.015,4,   2252.7,2,    0.029,    0.001,2,   1.8140,   0.0090,2,     7.30,     0.15,2,    7.387,    0.036,2,     0.24,2
  32MB19900222,  P15S,    62,  1,    250,     10,2,19900409,  0.0000,-170.0200, 5342,    596.1,   6.6840,  34.5710,2,  34.5770,2,    -9.00,9,    0.022,2,    0.020,2,   2261.2,2,    0.017,    0.001,2,   1.7610,   0.0090,3,     8.58,     0.15,2,    7.315,    0.036,2,     0.25,2
  32MB19900222,  P15S,    62,  1,    249,      9,2,19900409,  0.0000,-170.0200, 5342,    695.5,   5.9330,-999.0000,9,  34.5600,2,    -9.00,9,    0.015,2,    0.013,2,   2266.5,2,    0.012,    0.001,2,-999.0000,-999.0000,9,  -999.00,  -999.00,9, -999.000, -999.000,9,    -9.00,9
  32MB19900222,  P15S,    62,  1,    248,      8,2,19900409,  0.0000,-170.0200, 5342,    795.9,   5.4640,-999.0000,9,  34.5320,2,    -9.00,9,    0.012,3,   -0.009,2,   2269.6,2,    0.012,    0.001,2,   1.8570,   0.0090,2,    14.19,     0.15,2,    7.597,    0.037,2,     0.28,2
  32MB19900222,  P15S,    62,  1,    247,      7,2,19900409,  0.0000,-170.0200, 5342,    894.2,   4.9980,  34.5500,2,  34.5540,2,    -9.00,9,    0.002,2,    0.003,2,   2279.5,2,    0.007,    0.001,2,   1.8740,   0.0090,2,    15.91,     0.15,2,    7.633,    0.037,2,    -9.00,9
  32MB19900222,  P15S,    62,  1,    246,      6,2,19900409,  0.0000,-170.0200, 5342,    993.3,   4.4200,  34.5590,2,  34.5640,2,    -9.00,9,    0.019,3,    0.000,2,   2293.1,2,    0.009,    0.001,2,   1.8870,   0.0090,6,    18.35,     0.15,6,    7.633,    0.037,6,     0.18,2
  32MB19900222,  P15S,    62,  1,    245,      5,2,19900409,  0.0000,-170.0200, 5342,   1093.4,   4.0080,  34.5690,2,  34.5760,2,    -9.00,9,    0.000,2,   -0.002,2,     -9.0,9, -999.000, -999.000,9,-999.0000,-999.0000,9,  -999.00,  -999.00,9, -999.000, -999.000,9,    -9.00,9
  32MB19900222,  P15S,    62,  1,    253,      4,2,19900409,  0.0000,-170.0200, 5342,   1243.0,   3.4890,  34.5880,2,  34.5950,2,    -9.00,9,   -0.004,2,    0.010,2,   2320.8,2,    0.010,    0.003,2,   1.9070,   0.0090,2,    23.03,     0.15,2,    7.823,    0.038,2,    -9.00,9
  32MB19900222,  P15S,    62,  1,    243,      3,2,19900409,  0.0000,-170.0200, 5342,   1494.0,   2.9270,  34.6100,2,  34.6170,2,    -9.00,9,    0.000,2,    0.002,2,   2328.0,2,    0.006,    0.001,2,-999.0000,-999.0000,1,  -999.00,  -999.00,1, -999.000, -999.000,9,    -9.00,9
  32MB19900222,  P15S,    62,  1,    242,      2,2,19900409,  0.0000,-170.0200, 5342,   1745.4,   2.4880,  34.6300,2,  34.6390,2,    -9.00,9,    0.001,2,    0.000,2,   2337.2,2, -999.000, -999.000,1,-999.0000,-999.0000,1,  -999.00,  -999.00,1, -999.000, -999.000,9,    -9.00,9
  32MB19900222,  P15S,    62,  1,    241,      1,2,19900409,  0.0000,-170.0200, 5342,   1992.6,   2.1930,  34.6460,2,  34.6560,2,    -9.00,9,    0.013,3,    0.000,2,   2342.3,2, -999.000, -999.000,1,-999.0000,-999.0000,1,  -999.00,  -999.00,1, -999.000, -999.000,9,    -9.00,9