BOTTLE,20081204PRINUNIVRMKPRINUNIVRMK
EXPOCODE,SECT_ID,STNNBR,CASTNO,SAMPNO,BTLNBR,BTLNBR_FLAG_W,DATE,LATITUDE,LONGITUDE,DEPTH,CTDPRS,CTDTMP,CTDSAL,CTDSAL_FLAG_W,SALNTY,SALNTY_FLAG_W,NITRAT,NITRAT_FLAG_W,CFC-11,CFC-11_FLAG_W,CFC-12,CFC-12_FLAG_W,TCARBN,TCARBN_FLAG_W,TRITUM,TRITER,TRITUM_FLAG_W,HELIUM,HELIER,HELIUM_FLAG_W,DELHE3,DELHER,DELHE3_FLAG_W,NEON,NEONE,NEON_FLAG_W,DELC13,DELC13_FLAG_W
,,,,,,,,,,METERS,DBARS,ITS-90,PSS-78,,PSS-78,,UMOL/KG,,PMOL/KG,,PMOL/KG,,UMOL/KG,,TU,TU,,NMOL/KG,NMOL/KG,,PERCNT,PERCNT,,NMOL/KG,NMOL/KG,,O/OO,
  32MB19900222,  P15S,     7,  1,    915,     23,2,19900226,-21.9917,-169.9967, 4839,      2.9,  26.0240,  35.1460,2,  35.1470,2,    -9.00,9,   -9.000,9,   -9.000,9,     -9.0,9,    1.053,    0.006,2,   1.7130,   0.0080,2,    -0.32,     0.15,2,    6.579,    0.032,2,    -9.00,9
  32MB19900222,  P15S,     7,  1,    922,     22,2,19900226,-21.9917,-169.9967, 4839,     18.6,  26.0170,-999.0000,9,  35.1430,2,    -9.00,9,   -9.000,9,   -9.000,9,     -9.0,9, -999.000, -999.000,9,-999.0000,-999.0000,9,  -999.00,  -999.00,9, -999.000, -999.000,9,    -9.00,9
  32MB19900222,  P15S,     7,  1,    919,     21,2,19900226,-21.9917,-169.9967, 4839,     39.2,  25.9120,  35.1240,2,  35.1250,2,     0.39,2,    1.717,4,    1.008,4,   1940.5,2,    1.191,    0.007,2,-999.0000,-999.0000,9,  -999.00,  -999.00,9, -999.000, -999.000,9,    -9.00,9
  32MB19900222,  P15S,     7,  1,    918,     20,2,19900226,-21.9917,-169.9967, 4839,     58.3,  23.6320,  35.2900,2,  35.2910,2,     0.39,2,    1.967,4,    1.038,4,   1958.8,3,    1.077,    0.006,2,   1.7280,   0.0080,2,    -0.95,     0.15,2,    6.756,    0.033,2,    -9.00,9
  32MB19900222,  P15S,     7,  1,    923,     19,2,19900226,-21.9917,-169.9967, 4839,     98.5,  22.1280,  35.4680,2,  35.4750,2,     0.39,2,    1.897,4,    1.061,4,   1990.9,3, -999.000, -999.000,9,-999.0000,-999.0000,9,  -999.00,  -999.00,9, -999.000, -999.000,9,    -9.00,9
  32MB19900222,  P15S,     7,  1,    920,     18,2,19900226,-21.9917,-169.9967, 4839,    122.6,  21.4250,  35.5800,2,  35.5750,2,     0.65,2,    1.830,4,    1.015,4,   2013.8,3, -999.000, -999.000,9,-999.0000,-999.0000,9,  -999.00,  -999.00,9, -999.000, -999.000,9,    -9.00,9
  32MB19900222,  P15S,     7,  1,    974,     17,2,19900226,-21.9917,-169.9967, 4839,    148.1,  20.5000,  35.5800,2,  35.5880,2,     0.65,2,    2.007,4,    1.052,4,   2015.2,3, -999.000, -999.000,9,-999.0000,-999.0000,9,  -999.00,  -999.00,9, -999.000, -999.000,9,    -9.00,9
  32MB19900222,  P15S,     7,  1,    916,     16,2,19900226,-21.9917,-169.9967, 4839,    172.5,  20.1290,  35.6800,2,  35.6790,2,     2.74,2,    1.724,4,    1.013,4,   2044.6,3,    0.980,    0.006,2,   1.7390,   0.0090,2,    -0.15,     0.15,2,    6.868,    0.034,2,    -9.00,9
  32MB19900222,  P15S,     7,  1,    929,     15,2,19900226,-21.9917,-169.9967, 4839,    198.3,  19.5750,  35.6400,2,  35.6540,2,     2.80,2,    1.848,4,    0.968,4,   2048.6,2, -999.000, -999.000,9,-999.0000,-999.0000,9,  -999.00,  -999.00,9, -999.000, -999.000,9,    -9.00,9
  32MB19900222,  P15S,     7,  1,    914,     14,2,19900226,-21.9917,-169.9967, 4839,    247.5,  18.4310,  35.6230,2,  35.6200,2,     3.32,2,    1.901,4,    1.177,4,   2050.4,3,    0.941,    0.006,2,   1.7490,   0.0090,2,    -0.26,     0.15,2,    6.965,    0.034,2,    -9.00,9
  32MB19900222,  P15S,     7,  1,    903,     13,2,19900226,-21.9917,-169.9967, 4839,    297.7,  17.0960,  35.5410,2,  35.5470,2,     5.02,2,    1.770,4,    0.980,4,   2066.9,2, -999.000, -999.000,9,-999.0000,-999.0000,9,  -999.00,  -999.00,9, -999.000, -999.000,9,    -9.00,9
  32MB19900222,  P15S,     7,  1,    912,     12,2,19900226,-21.9917,-169.9967, 4839,    347.2,  15.7990,  35.4330,2,  35.4400,2,     6.98,2,    1.717,4,    0.938,4,   2078.2,2,    0.730,    0.005,2,-999.0000,-999.0000,9,  -999.00,  -999.00,9, -999.000, -999.000,9,    -9.00,9
  32MB19900222,  P15S,     7,  1,    921,     11,2,19900226,-21.9917,-169.9967, 4839,    397.0,  14.3510,  35.2680,2,  35.2660,2,    -9.00,9,   -9.000,9,   -9.000,9,     -9.0,9, -999.000, -999.000,9,-999.0000,-999.0000,9,  -999.00,  -999.00,9, -999.000, -999.000,9,    -9.00,9
  32MB19900222,  P15S,     7,  1,    910,     10,2,19900226,-21.9917,-169.9967, 4839,    447.8,  12.6020,-999.0000,9,  35.0230,2,    12.47,2,    1.282,4,    0.738,4,   2107.7,2,    0.441,    0.004,2,-999.0000,-999.0000,9,  -999.00,  -999.00,9, -999.000, -999.000,9,    -9.00,9
  32MB19900222,  P15S,     7,  1,    973,      9,2,19900226,-21.9917,-169.9967, 4839,    496.1,  11.0760,  34.8350,2,  34.8430,2,    15.74,2,    1.096,4,    0.568,4,   2121.0,3,    0.385,    0.004,2,-999.0000,-999.0000,9,  -999.00,  -999.00,9, -999.000, -999.000,9,    -9.00,9
  32MB19900222,  P15S,     7,  1,    908,      8,2,19900226,-21.9917,-169.9967, 4839,    595.8,   8.1890,  34.5150,2,  34.5120,2,    22.52,2,    0.627,4,    0.383,4,   2140.2,2,    0.224,    0.004,2,   1.7970,   0.0090,2,    -0.97,     0.15,2,    7.467,    0.037,2,    -9.00,9
  32MB19900222,  P15S,     7,  1,    907,      7,2,19900226,-21.9917,-169.9967, 4839,    796.0,   5.6750,  34.3470,2,  34.3440,2,    29.12,2,    0.089,4,    0.097,4,   2169.4,2, -999.000, -999.000,9,-999.0000,-999.0000,9,  -999.00,  -999.00,9, -999.000, -999.000,9,    -9.00,9
  32MB19900222,  P15S,     7,  1,    928,      6,2,19900226,-21.9917,-169.9967, 4839,    895.6,   5.0860,  34.3690,2,  34.3720,2,    -9.00,9,    0.175,4,    0.455,4,   2194.2,2,    0.020,    0.002,2,   1.8340,   0.0090,2,     2.75,     0.15,2,    7.722,    0.038,2,    -9.00,9
  32MB19900222,  P15S,     7,  1,    972,      5,2,19900226,-21.9917,-169.9967, 4839,    994.8,   4.5660,  34.3860,2,  34.3910,2,    -9.00,9,    0.009,4,    0.053,4,   2210.6,2,    0.011,    0.002,2,   1.8340,   0.0090,2,     6.60,     0.15,2,    7.548,    0.037,2,    -9.00,9
  32MB19900222,  P15S,     7,  1,    904,      4,2,19900226,-21.9917,-169.9967, 4839,   1242.9,   3.2600,  34.4940,2,  34.4980,2,    -9.00,9,    0.016,4,    0.036,4,   2255.0,3,    0.014,    0.002,2,-999.0000,-999.0000,9,  -999.00,  -999.00,9, -999.000, -999.000,9,    -9.00,9
  32MB19900222,  P15S,     7,  1,    961,      3,2,19900226,-21.9917,-169.9967, 4839,   1496.1,   2.6240,  34.5780,2,  34.5810,2,    -9.00,9,    0.062,4,    0.058,4,     -9.0,9, -999.000, -999.000,9,-999.0000,-999.0000,9,  -999.00,  -999.00,9, -999.000, -999.000,9,    -9.00,9
  32MB19900222,  P15S,     7,  1,    902,      2,2,19900226,-21.9917,-169.9967, 4839,   1742.7,   2.3920,  34.6210,2,  34.6190,2,    -9.00,9,    0.010,4,    0.021,4,   2298.0,3,    0.010,    0.002,2,-999.0000,-999.0000,9,  -999.00,  -999.00,9, -999.000, -999.000,9,    -9.00,9
  32MB19900222,  P15S,     7,  1,    971,      1,2,19900226,-21.9917,-169.9967, 4839,   1997.5,   2.2160,  34.6330,2,  34.6370,2,    -9.00,9,    0.001,4,    0.021,4,   2307.7,3, -999.000, -999.000,9,-999.0000,-999.0000,9,  -999.00,  -999.00,9, -999.000, -999.000,9,    -9.00,9
  32MB19900222,  P15S,     9,  1,    116,     10,2,19900227,-24.9983,-170.0233, 5753,   2494.0,   1.9550,  34.6550,2,  34.6610,2,    -9.00,9,    0.030,4,    0.003,2,     -9.0,9, -999.000, -999.000,9,-999.0000,-999.0000,9,  -999.00,  -999.00,9, -999.000, -999.000,9,    -9.00,9
  32MB19900222,  P15S,     9,  1,    104,      3,2,19900227,-24.9983,-170.0233, 5753,   2494.5,   1.9550,  34.6560,2,  34.6590,2,    -9.00,9,    0.016,4,   -0.001,2,     -9.0,9, -999.000, -999.000,9,-999.0000,-999.0000,9,  -999.00,  -999.00,9, -999.000, -999.000,9,    -9.00,9
  32MB19900222,  P15S,     9,  2,    252,     12,2,19900227,-24.9983,-170.0233, 5753,      6.2,  24.6520,-999.0000,9,  35.3440,2,     0.39,2,    1.879,2,    0.906,3,   1963.1,2, -999.000, -999.000,9,-999.0000,-999.0000,9,  -999.00,  -999.00,9, -999.000, -999.000,9,     1.57,2
  32MB19900222,  P15S,     9,  2,    251,     11,2,19900227,-24.9983,-170.0233, 5753,     19.1,  24.6540,  35.3460,2,  35.3420,2,     0.39,2,    1.803,2,    0.908,3,   1964.1,2, -999.000, -999.000,9,-999.0000,-999.0000,9,  -999.00,  -999.00,9, -999.000, -999.000,9,     1.62,2
  32MB19900222,  P15S,     9,  2,    250,     10,2,19900227,-24.9983,-170.0233, 5753,     27.1,  24.6460,-999.0000,9,  35.3430,2,    -9.00,9,   -9.000,9,   -9.000,9,     -9.0,9, -999.000, -999.000,9,-999.0000,-999.0000,9,  -999.00,  -999.00,9, -999.000, -999.000,9,    -9.00,9
  32MB19900222,  P15S,     9,  2,    249,      9,2,19900227,-24.9983,-170.0233, 5753,     58.8,  23.4390,  35.3720,2,  35.3550,2,     0.39,2,    1.881,2,    0.985,2,   1970.2,2, -999.000, -999.000,9,-999.0000,-999.0000,9,  -999.00,  -999.00,9, -999.000, -999.000,9,     1.60,2
  32MB19900222,  P15S,     9,  2,    248,      8,2,19900227,-24.9983,-170.0233, 5753,     99.0,  20.4280,  35.6110,2,  35.6060,2,     0.39,2,    1.793,3,    0.936,3,   2014.0,3, -999.000, -999.000,9,-999.0000,-999.0000,9,  -999.00,  -999.00,9, -999.000, -999.000,9,     1.46,2
  32MB19900222,  P15S,     9,  2,    247,      7,2,19900227,-24.9983,-170.0233, 5753,    139.8,  19.3720,  35.6410,2,  35.6480,2,     1.97,2,    2.312,4,    0.989,2,   2034.9,2, -999.000, -999.000,9,-999.0000,-999.0000,9,  -999.00,  -999.00,9, -999.000, -999.000,9,    -9.00,9
  32MB19900222,  P15S,     9,  2,    246,      6,2,19900227,-24.9983,-170.0233, 5753,    170.8,  18.5980,  35.6280,2,  35.6260,2,     2.95,2,    1.791,2,    0.920,2,   2046.2,3, -999.000, -999.000,9,-999.0000,-999.0000,9,  -999.00,  -999.00,9, -999.000, -999.000,9,     1.30,2
  32MB19900222,  P15S,     9,  2,    245,      5,2,19900227,-24.9983,-170.0233, 5753,    201.3,  17.6200,  35.5460,2,  35.5510,2,     4.59,2,    1.706,2,    0.876,2,   2060.9,2, -999.000, -999.000,9,-999.0000,-999.0000,9,  -999.00,  -999.00,9, -999.000, -999.000,9,     1.26,2
  32MB19900222,  P15S,     9,  2,    244,      4,2,19900227,-24.9983,-170.0233, 5753,    298.9,  15.2480,-999.0000,9,  35.3700,2,     7.36,2,    1.731,2,    0.828,2,   2080.5,2, -999.000, -999.000,9,-999.0000,-999.0000,9,  -999.00,  -999.00,9, -999.000, -999.000,9,     1.26,2
  32MB19900222,  P15S,     9,  2,    243,      3,2,19900227,-24.9983,-170.0233, 5753,    398.0,  12.1220,-999.0000,9,  34.9650,2,    13.46,2,    1.562,2,    0.614,3,   2108.5,2, -999.000, -999.000,9,-999.0000,-999.0000,9,  -999.00,  -999.00,9, -999.000, -999.000,9,     1.27,2
  32MB19900222,  P15S,     9,  2,    242,      2,2,19900227,-24.9983,-170.0233, 5753,    499.3,   9.3150,  34.6480,2,  34.6460,2,    18.65,2,    0.862,2,    0.549,4,   2126.5,2, -999.000, -999.000,9,-999.0000,-999.0000,9,  -999.00,  -999.00,9, -999.000, -999.000,9,     1.25,2
  32MB19900222,  P15S,     9,  2,    241,      1,2,19900227,-24.9983,-170.0233, 5753,    599.9,   7.3930,  34.4510,2,  34.4490,2,    22.63,2,    0.649,2,    0.333,2,   2135.7,2, -999.000, -999.000,9,-999.0000,-999.0000,9,  -999.00,  -999.00,9, -999.000, -999.000,9,     1.23,2
  32MB19900222,  P15S,     9,  3,    352,     12,2,19900227,-24.9983,-170.0233, 5753,    694.8,   6.5860,-999.0000,9,  34.3800,2,    -9.00,9,    0.402,2,    0.185,2,   2136.9,2,    0.106,    0.001,2,   1.8000,   0.0090,2,    -0.67,     0.15,2,    7.560,    0.037,2,    -9.00,9
  32MB19900222,  P15S,     9,  3,    351,     11,2,19900227,-24.9983,-170.0233, 5753,    795.9,   5.8090,  34.3450,2,  34.3490,2,    28.24,3,    0.146,2,    0.045,4,   2166.0,3,    0.050,    0.001,2,   1.8300,   0.0090,2,     2.01,     0.15,2,    7.720,    0.038,2,     1.35,2
  32MB19900222,  P15S,     9,  3,    350,     10,2,19900227,-24.9983,-170.0233, 5753,    995.2,   4.4940,  34.3570,2,  34.3610,2,    -9.00,9,    0.013,4,    0.000,2,   2198.1,3,    0.011,    0.001,2,   1.8430,   0.0090,2,     4.81,     0.15,2,    7.815,    0.038,2,     1.15,2
  32MB19900222,  P15S,     9,  3,    349,      9,2,19900227,-24.9983,-170.0233, 5753,   1243.4,   3.3790,  34.4660,2,  34.4650,2,    -9.00,9,    0.038,4,   -0.005,2,   2240.6,2,    0.006,    0.001,2,   1.8700,   0.0090,2,    11.40,     0.15,2,    7.868,    0.039,2,     0.92,2
  32MB19900222,  P15S,     9,  3,    348,      8,2,19900227,-24.9983,-170.0233, 5753,   1492.2,   2.6820,  34.5620,2,  34.5600,2,    -9.00,9,   -0.006,2,   -0.003,2,   2273.8,3,    0.004,    0.001,2,   1.9080,   0.0090,2,    18.19,     0.15,2,    7.956,    0.039,2,     0.61,2
  32MB19900222,  P15S,     9,  3,    347,      7,2,19900227,-24.9983,-170.0233, 5753,   1994.7,   2.2010,  34.6340,2,  34.6330,2,    -9.00,9,   -0.006,2,   -0.005,2,   2305.8,2,    0.006,    0.001,2,-999.0000,-999.0000,1,  -999.00,  -999.00,1, -999.000, -999.000,9,     0.41,2
  32MB19900222,  P15S,     9,  3,    346,      6,2,19900227,-24.9983,-170.0233, 5753,   2493.0,   1.9390,  34.6540,2,  34.6590,2,    -9.00,9,   -9.000,9,   -9.000,9,     -9.0,9, -999.000, -999.000,9,-999.0000,-999.0000,9,  -999.00,  -999.00,9, -999.000, -999.000,9,    -9.00,9
  32MB19900222,  P15S,     9,  3,    345,      5,2,19900227,-24.9983,-170.0233, 5753,   2996.3,   1.7340,  34.6730,2,  34.6740,2,    -9.00,9,    0.003,2,   -0.006,2,   2318.9,2, -999.000, -999.000,9,-999.0000,-999.0000,9,  -999.00,  -999.00,9, -999.000, -999.000,9,     0.17,2
  32MB19900222,  P15S,     9,  3,    344,      4,2,19900227,-24.9983,-170.0233, 5753,   3493.9,   1.5640,  34.7020,2,  34.7020,2,    -9.00,9,    0.018,4,   -0.003,2,   2290.6,2, -999.000, -999.000,9,-999.0000,-999.0000,9,  -999.00,  -999.00,9, -999.000, -999.000,9,    -9.00,9
  32MB19900222,  P15S,     9,  3,    343,      3,2,19900227,-24.9983,-170.0233, 5753,   3997.5,   1.3040,  34.7240,2,  34.7230,2,    -9.00,9,   -0.002,2,   -0.006,2,   2263.5,2, -999.000, -999.000,9,-999.0000,-999.0000,9,  -999.00,  -999.00,9, -999.000, -999.000,9,     0.19,2
  32MB19900222,  P15S,     9,  3,    342,      2,2,19900227,-24.9983,-170.0233, 5753,   4495.9,   1.0870,  34.7150,2,  34.7160,2,    -9.00,9,    0.090,4,    0.000,2,   2263.8,2, -999.000, -999.000,9,-999.0000,-999.0000,9,  -999.00,  -999.00,9, -999.000, -999.000,9,     0.46,2
  32MB19900222,  P15S,     9,  3,    341,      1,2,19900227,-24.9983,-170.0233, 5753,   5053.6,   1.0420,  34.7130,2,  34.7120,2,    -9.00,9,    0.009,4,   -0.003,2,   2264.1,2, -999.000, -999.000,9,-999.0000,-999.0000,9,  -999.00,  -999.00,9, -999.000, -999.000,9,     1.29,2
  32MB19900222,  P15S,    10,  1,    452,     12,2,19900228,-27.5033,-170.0050, 5223,    147.5,  17.7030,  35.6020,2,  35.5980,2,     2.82,2,    1.938,2,    1.011,2,   2054.8,2, -999.000, -999.000,9,-999.0000,-999.0000,9,  -999.00,  -999.00,9, -999.000, -999.000,9,     1.23,2
  32MB19900222,  P15S,    10,  1,    449,      9,2,19900228,-27.5033,-170.0050, 5223,    171.7,  17.0610,  35.5540,2,  35.5510,2,    -9.00,9,   -9.000,9,   -9.000,9,     -9.0,9, -999.000, -999.000,9,-999.0000,-999.0000,9,  -999.00,  -999.00,9, -999.000, -999.000,9,    -9.00,9
  32MB19900222,  P15S,    10,  1,    450,     10,2,19900228,-27.5033,-170.0050, 5223,    171.7,  17.0610,  35.5540,2,  35.5510,2,     3.87,2,    1.954,2,    0.996,2,   2062.5,2, -999.000, -999.000,9,-999.0000,-999.0000,9,  -999.00,  -999.00,9, -999.000, -999.000,9,    -9.00,9
  32MB19900222,  P15S,    10,  1,    451,     11,2,19900228,-27.5033,-170.0050, 5223,    171.7,  17.0610,  35.5530,2,  35.5510,2,    -9.00,9,   -9.000,9,   -9.000,9,     -9.0,9, -999.000, -999.000,9,-999.0000,-999.0000,9,  -999.00,  -999.00,9, -999.000, -999.000,9,    -9.00,9
  32MB19900222,  P15S,    10,  1,    448,      8,2,19900228,-27.5033,-170.0050, 5223,    195.8,  16.3800,  35.4770,2,  35.4760,2,     5.12,2,    1.762,2,    0.902,2,   2071.9,2, -999.000, -999.000,9,-999.0000,-999.0000,9,  -999.00,  -999.00,9, -999.000, -999.000,9,    -9.00,9
  32MB19900222,  P15S,    10,  1,    446,      6,2,19900228,-27.5033,-170.0050, 5223,    246.3,  15.4850,  35.4150,2,  35.4140,2,     6.23,2,    1.871,2,    0.937,2,   2079.9,2, -999.000, -999.000,9,-999.0000,-999.0000,9,  -999.00,  -999.00,9, -999.000, -999.000,9,    -9.00,9
  32MB19900222,  P15S,    10,  1,    447,      7,2,19900228,-27.5033,-170.0050, 5223,    246.3,  15.4850,  35.4140,2,  35.4140,2,     6.23,2,    1.867,2,    0.938,2,   2081.0,2, -999.000, -999.000,9,-999.0000,-999.0000,9,  -999.00,  -999.00,9, -999.000, -999.000,9,    -9.00,9
  32MB19900222,  P15S,    10,  1,    442,      2,2,19900228,-27.5033,-170.0050, 5223,    296.9,  14.0970,  35.2630,2,  35.2520,2,     8.60,2,    2.009,3,    0.922,2,   2091.5,2, -999.000, -999.000,9,-999.0000,-999.0000,9,  -999.00,  -999.00,9, -999.000, -999.000,9,    -9.00,9
  32MB19900222,  P15S,    10,  1,    443,      3,2,19900228,-27.5033,-170.0050, 5223,    296.9,  14.0970,  35.2630,2,  35.2520,2,     8.54,2,    2.004,3,    0.906,2,   2091.6,2, -999.000, -999.000,9,-999.0000,-999.0000,9,  -999.00,  -999.00,9, -999.000, -999.000,9,    -9.00,9
  32MB19900222,  P15S,    10,  1,    444,      4,2,19900228,-27.5033,-170.0050, 5223,    296.9,  14.0970,  35.2620,2,  35.2520,2,     8.47,2,    1.736,2,    0.857,2,   2092.4,2, -999.000, -999.000,9,-999.0000,-999.0000,9,  -999.00,  -999.00,9, -999.000, -999.000,9,    -9.00,9
  32MB19900222,  P15S,    10,  1,    445,      5,2,19900228,-27.5033,-170.0050, 5223,    296.9,  14.0970,  35.2610,2,  35.2520,2,     8.67,2,    1.808,6,    0.919,6,   2091.1,2, -999.000, -999.000,9,-999.0000,-999.0000,9,  -999.00,  -999.00,9, -999.000, -999.000,9,    -9.00,9
  32MB19900222,  P15S,    10,  1,    441,      1,2,19900228,-27.5033,-170.0050, 5223,    348.0,  12.4920,  35.0460,2,  35.0470,2,    11.69,2,    1.525,6,    0.777,6,   2104.7,2, -999.000, -999.000,9,-999.0000,-999.0000,9,  -999.00,  -999.00,9, -999.000, -999.000,9,    -9.00,9