BOTTLE,20081204PRINUNIVRMKPRINUNIVRMK
EXPOCODE,SECT_ID,STNNBR,CASTNO,SAMPNO,BTLNBR,BTLNBR_FLAG_W,DATE,LATITUDE,LONGITUDE,DEPTH,CTDPRS,CTDTMP,CTDSAL,CTDSAL_FLAG_W,SALNTY,SALNTY_FLAG_W,NITRAT,NITRAT_FLAG_W,CFC-11,CFC-11_FLAG_W,CFC-12,CFC-12_FLAG_W,TCARBN,TCARBN_FLAG_W,TRITUM,TRITER,TRITUM_FLAG_W,HELIUM,HELIER,HELIUM_FLAG_W,DELHE3,DELHER,DELHE3_FLAG_W,NEON,NEONE,NEON_FLAG_W,DELC13,DELC13_FLAG_W
,,,,,,,,,,METERS,DBARS,ITS-90,PSS-78,,PSS-78,,UMOL/KG,,PMOL/KG,,PMOL/KG,,UMOL/KG,,TU,TU,,NMOL/KG,NMOL/KG,,PERCNT,PERCNT,,NMOL/KG,NMOL/KG,,O/OO,
  32MB19900222,  P15S,    62,  2,    352,     12,2,19900409,  0.0000,-170.0200, 5342,      4.8,  28.0280,  35.3910,2,  35.3930,2,     3.62,2,    1.576,2,    0.810,3,   2006.3,2, -999.000, -999.000,9,-999.0000,-999.0000,9,  -999.00,  -999.00,9, -999.000, -999.000,9,     1.55,2
  32MB19900222,  P15S,    62,  2,    351,     11,2,19900409,  0.0000,-170.0200, 5342,     18.5,  28.0300,  35.3960,2,  35.3920,2,     3.77,2,    1.627,2,    0.813,3,   2004.4,2,    0.820,    0.004,2,-999.0000,-999.0000,9,  -999.00,  -999.00,9, -999.000, -999.000,9,     1.43,2
  32MB19900222,  P15S,    62,  2,    350,     10,2,19900409,  0.0000,-170.0200, 5342,     37.5,  27.9800,  35.3910,2,  35.3900,2,     3.84,2,    1.583,2,    0.682,3,   2004.4,2,    0.848,    0.004,2,-999.0000,-999.0000,9,  -999.00,  -999.00,9, -999.000, -999.000,9,     1.45,2
  32MB19900222,  P15S,    62,  2,    349,      9,2,19900409,  0.0000,-170.0200, 5342,     67.3,  27.9490,  35.3900,2,  35.3880,2,    -9.00,9,   -9.000,9,   -9.000,9,     -9.0,9, -999.000, -999.000,9,-999.0000,-999.0000,9,  -999.00,  -999.00,9, -999.000, -999.000,9,    -9.00,9
  32MB19900222,  P15S,    62,  2,    348,      8,2,19900409,  0.0000,-170.0200, 5342,     97.7,  27.7120,  35.4080,2,  35.4260,2,     3.92,2,    1.640,2,    0.898,2,   2011.0,2, -999.000, -999.000,9,-999.0000,-999.0000,9,  -999.00,  -999.00,9, -999.000, -999.000,9,     1.45,2
  32MB19900222,  P15S,    62,  2,    347,      7,2,19900409,  0.0000,-170.0200, 5342,    120.6,  27.1950,  35.5500,2,  35.5580,2,     6.03,2,    1.568,2,    0.847,2,   2027.7,2, -999.000, -999.000,9,-999.0000,-999.0000,9,  -999.00,  -999.00,9, -999.000, -999.000,9,     1.39,2
  32MB19900222,  P15S,    62,  2,    346,      6,2,19900409,  0.0000,-170.0200, 5342,    147.9,  21.0480,  35.2660,2,  35.3150,2,    10.17,2,    1.337,2,    0.720,2,   2078.3,2, -999.000, -999.000,9,-999.0000,-999.0000,9,  -999.00,  -999.00,9, -999.000, -999.000,9,     0.93,2
  32MB19900222,  P15S,    62,  2,    345,      5,2,19900409,  0.0000,-170.0200, 5342,    195.7,  15.5720,  35.1200,2,  35.1350,2,    13.72,2,    0.980,2,    0.515,2,   2118.7,2,    0.669,    0.004,2,   1.7540,   0.0090,2,     3.73,     0.15,2,    6.965,    0.034,2,     0.83,2
  32MB19900222,  P15S,    62,  2,    353,      4,2,19900409,  0.0000,-170.0200, 5342,    247.3,  12.9950,  34.8880,2,  34.8910,2,    18.92,2,    0.706,2,    0.358,2,   2148.3,2, -999.000, -999.000,9,-999.0000,-999.0000,9,  -999.00,  -999.00,9, -999.000, -999.000,9,     0.76,2
  32MB19900222,  P15S,    62,  2,    343,      3,2,19900409,  0.0000,-170.0200, 5342,    297.1,  11.7470,  34.8360,2,  34.8470,2,    23.67,2,    0.424,2,    0.217,2,   2186.2,2,    0.356,    0.003,2,-999.0000,-999.0000,9,  -999.00,  -999.00,9, -999.000, -999.000,9,     0.41,2
  32MB19900222,  P15S,    62,  2,    342,      2,2,19900409,  0.0000,-170.0200, 5342,    346.3,  10.2760,  34.7450,2,  34.7480,2,    28.95,2,    0.145,2,    0.076,2,   2230.8,2, -999.000, -999.000,9,-999.0000,-999.0000,9,  -999.00,  -999.00,9, -999.000, -999.000,9,     0.27,2
  32MB19900222,  P15S,    62,  2,    341,      1,2,19900409,  0.0000,-170.0200, 5342,    394.8,   9.9060,  34.7250,2,  34.7360,2,    -9.00,9,    0.142,2,    0.066,2,   2229.7,2,    0.097,    0.002,2,-999.0000,-999.0000,9,  -999.00,  -999.00,9, -999.000, -999.000,9,     0.24,2
  32MB19900222,  P15S,    64,  1,    551,     11,2,19900411,  0.0000,-170.0033, -999,   2244.0,   1.9700,  34.6560,2,  34.6570,2,    -9.00,9,    0.003,2,   -0.003,2,     -9.0,9, -999.000, -999.000,1,-999.0000,-999.0000,1,  -999.00,  -999.00,1, -999.000, -999.000,9,    -9.00,9
  32MB19900222,  P15S,    64,  1,    550,     10,2,19900411,  0.0000,-170.0033, -999,   2492.5,   1.8750,  34.6660,2,  34.6650,2,    -9.00,9,    0.025,4,    0.000,2,   2338.7,2, -999.000, -999.000,1,-999.0000,-999.0000,1,  -999.00,  -999.00,1, -999.000, -999.000,9,    -9.00,9
  32MB19900222,  P15S,    64,  1,    549,      9,2,19900411,  0.0000,-170.0033, -999,   2745.3,   1.7360,  34.6690,2,  34.6700,2,    -9.00,9,    0.026,4,    0.003,2,     -9.0,9, -999.000, -999.000,1,-999.0000,-999.0000,1,  -999.00,  -999.00,1, -999.000, -999.000,9,    -9.00,9
  32MB19900222,  P15S,    64,  1,    548,      8,2,19900411,  0.0000,-170.0033, -999,   2996.5,   1.6330,  34.6770,2,  34.6770,2,    -9.00,9,    0.001,2,   -0.002,2,   2330.1,2, -999.000, -999.000,1,-999.0000,-999.0000,1,  -999.00,  -999.00,1, -999.000, -999.000,9,    -9.00,9
  32MB19900222,  P15S,    64,  1,    547,      7,2,19900411,  0.0000,-170.0033, -999,   3495.5,   1.5370,  34.6830,2,  34.6840,2,    -9.00,9,    0.001,2,   -0.002,2,   2323.0,2, -999.000, -999.000,1,-999.0000,-999.0000,1,  -999.00,  -999.00,1, -999.000, -999.000,9,    -9.00,9
  32MB19900222,  P15S,    64,  1,    546,      6,2,19900411,  0.0000,-170.0033, -999,   3999.7,   1.3980,  34.6940,2,  34.6960,2,    -9.00,9,    0.025,4,    0.005,2,   2308.8,2, -999.000, -999.000,1,-999.0000,-999.0000,1,  -999.00,  -999.00,1, -999.000, -999.000,9,    -9.00,9
  32MB19900222,  P15S,    64,  1,    545,      5,2,19900411,  0.0000,-170.0033, -999,   4297.6,   1.3280,  34.6980,2,  34.6990,2,    -9.00,9,    0.005,2,    0.001,2,     -9.0,9, -999.000, -999.000,1,-999.0000,-999.0000,1,  -999.00,  -999.00,1, -999.000, -999.000,9,    -9.00,9
  32MB19900222,  P15S,    64,  1,    553,      4,2,19900411,  0.0000,-170.0033, -999,   4599.6,   1.2560,  34.7050,2,  34.7050,2,    -9.00,9,   -0.002,2,    0.000,2,   2285.5,2, -999.000, -999.000,1,-999.0000,-999.0000,1,  -999.00,  -999.00,1, -999.000, -999.000,9,    -9.00,9
  32MB19900222,  P15S,    64,  1,    543,      3,2,19900411,  0.0000,-170.0033, -999,   4899.0,   1.2450,  34.7060,2,  34.7070,2,    -9.00,9,    0.002,2,   -0.002,2,     -9.0,9, -999.000, -999.000,1,-999.0000,-999.0000,1,  -999.00,  -999.00,1, -999.000, -999.000,9,    -9.00,9
  32MB19900222,  P15S,    64,  1,    542,      2,2,19900411,  0.0000,-170.0033, -999,   5198.9,   1.2690,  34.7050,2,  34.7090,2,    -9.00,9,    0.016,3,    0.005,2,   2278.8,2, -999.000, -999.000,1,-999.0000,-999.0000,1,  -999.00,  -999.00,1, -999.000, -999.000,9,    -9.00,9
  32MB19900222,  P15S,    64,  1,    541,      1,2,19900411,  0.0000,-170.0033, -999,   5579.1,   1.3160,  34.7100,2,  34.7070,2,    -9.00,9,    0.003,2,    0.003,2,   2277.8,2, -999.000, -999.000,1,-999.0000,-999.0000,1,  -999.00,  -999.00,1, -999.000, -999.000,9,    -9.00,9
  32MB19900222,  P15S,    65,  1,    647,     12,2,19900411,  0.5000,-170.0050, 5285,      5.3,  28.0190,  35.3790,2,  35.3810,2,     4.01,2,    1.618,2,    0.873,2,   2012.8,2, -999.000, -999.000,9,-999.0000,-999.0000,9,  -999.00,  -999.00,9, -999.000, -999.000,9,    -9.00,9
  32MB19900222,  P15S,    65,  1,    646,     11,2,19900411,  0.5000,-170.0050, 5285,     16.1,  28.0050,  35.3800,2,  35.3810,2,     4.08,2,    1.623,2,    0.864,2,   2001.7,2, -999.000, -999.000,9,-999.0000,-999.0000,9,  -999.00,  -999.00,9, -999.000, -999.000,9,    -9.00,9
  32MB19900222,  P15S,    65,  1,    645,     10,2,19900411,  0.5000,-170.0050, 5285,     38.3,  27.9830,  35.3780,2,  35.3780,2,     3.60,2,    1.604,2,    0.803,3,   2004.4,2, -999.000, -999.000,9,-999.0000,-999.0000,9,  -999.00,  -999.00,9, -999.000, -999.000,9,    -9.00,9
  32MB19900222,  P15S,    65,  1,    653,      9,2,19900411,  0.5000,-170.0050, 5285,     67.0,  27.8710,  35.3820,2,  35.3830,2,     4.33,2,    1.588,2,    0.837,2,   2006.7,2, -999.000, -999.000,9,-999.0000,-999.0000,9,  -999.00,  -999.00,9, -999.000, -999.000,9,    -9.00,9
  32MB19900222,  P15S,    65,  1,    643,      8,2,19900411,  0.5000,-170.0050, 5285,     97.0,  27.7410,  35.4600,2,  35.4840,2,     4.63,2,    1.607,2,    0.826,3,   2014.0,2, -999.000, -999.000,9,-999.0000,-999.0000,9,  -999.00,  -999.00,9, -999.000, -999.000,9,    -9.00,9
  32MB19900222,  P15S,    65,  1,    642,      7,2,19900411,  0.5000,-170.0050, 5285,    122.1,  26.8250,  35.3700,2,  35.3720,2,     6.27,2,    1.518,2,    0.832,2,   2029.4,2, -999.000, -999.000,9,-999.0000,-999.0000,9,  -999.00,  -999.00,9, -999.000, -999.000,9,    -9.00,9
  32MB19900222,  P15S,    65,  1,    641,      6,2,19900411,  0.5000,-170.0050, 5285,    149.2,  25.0950,  35.4090,2,  35.4410,2,     8.53,2,    1.506,2,    0.820,2,   2045.8,2, -999.000, -999.000,9,-999.0000,-999.0000,9,  -999.00,  -999.00,9, -999.000, -999.000,9,    -9.00,9
  32MB19900222,  P15S,    65,  1,    652,      5,2,19900411,  0.5000,-170.0050, 5285,    196.6,  15.0880,  35.0200,2,  34.9850,2,    15.47,2,    1.054,2,    0.541,2,   2118.3,2, -999.000, -999.000,9,-999.0000,-999.0000,9,  -999.00,  -999.00,9, -999.000, -999.000,9,    -9.00,9
  32MB19900222,  P15S,    65,  1,    651,      4,2,19900411,  0.5000,-170.0050, 5285,    245.7,  12.8310,  34.8560,2,  34.8600,2,    19.73,2,    0.685,2,    0.350,2,   2146.2,2, -999.000, -999.000,9,-999.0000,-999.0000,9,  -999.00,  -999.00,9, -999.000, -999.000,9,    -9.00,9
  32MB19900222,  P15S,    65,  1,    650,      3,2,19900411,  0.5000,-170.0050, 5285,    348.1,  10.7420,  34.7670,2,  34.7680,2,    29.19,2,    0.255,2,    0.105,3,   2214.6,2, -999.000, -999.000,9,-999.0000,-999.0000,9,  -999.00,  -999.00,9, -999.000, -999.000,9,    -9.00,9
  32MB19900222,  P15S,    65,  1,    649,      2,2,19900411,  0.5000,-170.0050, 5285,    496.7,   8.1620,  34.6290,2,  34.6320,2,    -9.00,9,    0.026,2,    0.012,2,   2252.9,2, -999.000, -999.000,9,-999.0000,-999.0000,9,  -999.00,  -999.00,9, -999.000, -999.000,9,    -9.00,9
  32MB19900222,  P15S,    65,  1,    648,      1,2,19900411,  0.5000,-170.0050, 5285,    994.5,   4.3840,  34.5570,2,  34.5640,2,    -9.00,9,    0.084,4,    0.002,2,   2292.5,2, -999.000, -999.000,9,-999.0000,-999.0000,9,  -999.00,  -999.00,9, -999.000, -999.000,9,    -9.00,9
  32MB19900222,  P15S,    66,  1,    752,     12,2,19900411,  1.0017,-170.0050, 5316,      5.9,  28.0570,  35.3240,2,  35.3280,2,     3.77,2,    1.615,2,    0.811,3,   2004.2,2,    1.312,    0.006,2,   1.6940,   0.0080,2,    -1.29,     0.15,2,    6.359,    0.031,2,     1.44,2
  32MB19900222,  P15S,    66,  1,    751,     11,2,19900411,  1.0017,-170.0050, 5316,     16.7,  28.0040,  35.3350,2,  35.3340,2,     4.20,2,    1.592,2,    0.830,2,   2004.9,2,    1.313,    0.006,2,   1.6920,   0.0080,2,    -1.28,     0.15,2,    6.370,    0.031,2,    -9.00,9
  32MB19900222,  P15S,    66,  1,    750,     10,2,19900411,  1.0017,-170.0050, 5316,     37.8,  27.9730,  35.3380,2,  35.3390,2,     4.01,2,    1.584,2,    0.806,3,   2002.8,2,    1.344,    0.006,2,   1.6930,   0.0080,2,    -1.25,     0.15,2,    6.440,    0.032,2,    -9.00,9
  32MB19900222,  P15S,    66,  1,    749,      9,2,19900411,  1.0017,-170.0050, 5316,     68.1,  27.8190,  35.3370,2,  35.3380,2,     4.99,2,    1.569,2,    0.842,2,   2010.3,2, -999.000, -999.000,9,-999.0000,-999.0000,9,  -999.00,  -999.00,9, -999.000, -999.000,9,    -9.00,9
  32MB19900222,  P15S,    66,  1,    748,      8,2,19900411,  1.0017,-170.0050, 5316,     98.2,  27.2930,  35.3800,2,  35.3770,2,     6.21,2,    1.572,2,    0.837,2,   2024.8,2,    1.278,    0.006,2,   1.7080,   0.0080,2,    -0.91,     0.15,2,    6.394,    0.031,2,    -9.00,9
  32MB19900222,  P15S,    66,  1,    747,      7,2,19900411,  1.0017,-170.0050, 5316,    122.4,  26.8250,  35.3560,2,  35.3590,2,     6.88,2,    1.551,2,    0.829,2,   2029.7,2, -999.000, -999.000,9,-999.0000,-999.0000,9,  -999.00,  -999.00,9, -999.000, -999.000,9,    -9.00,9
  32MB19900222,  P15S,    66,  1,    746,      6,2,19900411,  1.0017,-170.0050, 5316,    148.4,  21.7020,  35.0880,2,  34.7730,4,    10.12,2,    1.428,2,    0.713,2,   2060.1,2, -999.000, -999.000,9,-999.0000,-999.0000,9,  -999.00,  -999.00,9, -999.000, -999.000,9,    -9.00,9
  32MB19900222,  P15S,    66,  1,    745,      5,2,19900411,  1.0017,-170.0050, 5316,    196.7,  13.7220,  34.8060,2,  34.8090,2,    18.28,2,    0.893,2,    0.453,2,   2134.6,2,    1.117,    0.005,2,   1.7830,   0.0090,2,     7.06,     0.15,2,    7.088,    0.035,2,    -9.00,9
  32MB19900222,  P15S,    66,  1,    753,      4,2,19900411,  1.0017,-170.0050, 5316,    296.9,  11.6920,  34.8340,2,  34.8260,2,    25.40,2,    0.393,2,    0.222,2,   2188.2,2,    0.340,    0.003,2,-999.0000,-999.0000,9,  -999.00,  -999.00,9, -999.000, -999.000,9,    -9.00,9
  32MB19900222,  P15S,    66,  1,    743,      3,2,19900411,  1.0017,-170.0050, 5316,    494.8,   8.7380,  34.6570,2,  34.6580,2,    -9.00,9,    0.073,2,    0.032,2,   2246.4,2,    0.091,    0.002,2,   1.8160,   0.0090,2,     6.88,     0.15,2,    7.349,    0.036,2,    -9.00,9
  32MB19900222,  P15S,    66,  1,    742,      2,2,19900411,  1.0017,-170.0050, 5316,    695.2,   6.2710,-999.0000,9,  34.5600,2,    -9.00,9,    0.020,2,    0.016,2,   2262.7,2,    0.018,    0.001,2,   1.8460,   0.0090,2,    11.73,     0.15,2,    7.471,    0.037,2,    -9.00,9
  32MB19900222,  P15S,    66,  1,    741,      1,2,19900411,  1.0017,-170.0050, 5316,    994.2,   4.5720,  34.5570,2,  34.5610,2,    -9.00,9,    0.092,4,    0.008,2,   2292.0,2,    0.012,    0.001,2,-999.0000,-999.0000,9,  -999.00,  -999.00,9, -999.000, -999.000,9,    -9.00,9
  32MB19900222,  P15S,    67,  1,    852,     12,2,19900412,  2.0050,-170.0150, 5357,      6.3,  28.4240,  35.3060,2,  35.3090,2,     3.35,2,    1.658,2,    0.852,2,   2000.4,2,    1.355,    0.007,2,   1.6950,   0.0080,2,    -1.17,     0.15,2,    6.355,    0.031,2,     1.49,2
  32MB19900222,  P15S,    67,  1,    851,     11,2,19900412,  2.0050,-170.0150, 5357,     18.5,  28.0990,  35.3000,2,  35.3020,2,     3.96,2,    1.644,2,    0.819,2,   1994.9,2, -999.000, -999.000,9,   1.7030,   0.0080,2,    -1.09,     0.15,2,    6.400,    0.031,2,    -9.00,9
  32MB19900222,  P15S,    67,  1,    850,     10,2,19900412,  2.0050,-170.0150, 5357,     37.8,  27.9640,  35.3020,2,  35.3000,2,     4.08,2,    1.586,2,    0.837,2,   1998.1,2,    1.385,    0.007,2,   1.7300,   0.0080,2,    -0.79,     0.15,2,    6.489,    0.032,2,    -9.00,9
  32MB19900222,  P15S,    67,  1,    849,      9,2,19900412,  2.0050,-170.0150, 5357,     68.6,  27.9410,  35.2990,2,  35.2980,2,     4.20,2,    1.617,2,    0.870,2,   2001.6,2, -999.000, -999.000,9,-999.0000,-999.0000,9,  -999.00,  -999.00,9, -999.000, -999.000,9,    -9.00,9
  32MB19900222,  P15S,    67,  1,    848,      8,2,19900412,  2.0050,-170.0150, 5357,     96.0,  27.6330,  35.2820,2,  35.2840,2,     4.88,2,    1.591,2,    0.853,2,   2009.0,2,    1.389,    0.007,2,   1.6950,   0.0080,2,    -1.18,     0.15,2,    6.327,    0.031,2,    -9.00,9
  32MB19900222,  P15S,    67,  1,    847,      7,2,19900412,  2.0050,-170.0150, 5357,    120.3,  27.1950,  35.2020,2,  35.2050,2,     5.42,2,    1.573,2,    0.836,2,   2011.1,2, -999.000, -999.000,9,-999.0000,-999.0000,9,  -999.00,  -999.00,9, -999.000, -999.000,9,    -9.00,9
  32MB19900222,  P15S,    67,  1,    846,      6,2,19900412,  2.0050,-170.0150, 5357,    147.8,  24.2790,  35.0540,2,  35.0550,2,     9.08,2,    1.511,2,    0.790,2,   2043.6,2, -999.000, -999.000,9,-999.0000,-999.0000,9,  -999.00,  -999.00,9, -999.000, -999.000,9,    -9.00,9
  32MB19900222,  P15S,    67,  1,    845,      5,2,19900412,  2.0050,-170.0150, 5357,    194.5,  12.9890,  34.6680,2,  34.6710,2,    20.77,2,    0.787,2,    0.411,2,   2145.1,2,    1.259,    0.007,2,   1.7910,   0.0090,2,     8.83,     0.15,2,    7.131,    0.035,2,    -9.00,9
  32MB19900222,  P15S,    67,  1,    853,      4,2,19900412,  2.0050,-170.0150, 5357,    296.9,  11.0950,  34.7740,2,  34.7780,2,    25.89,2,    0.309,2,    0.170,2,   2193.2,2, -999.000, -999.000,9,   1.7930,   0.0090,2,     6.28,     0.15,2,    7.242,    0.035,2,    -9.00,9
  32MB19900222,  P15S,    67,  1,    843,      3,2,19900412,  2.0050,-170.0150, 5357,    495.3,   8.9860,  34.6520,2,  34.6610,2,    -9.00,9,    0.117,2,    0.066,2,   2219.7,2,    0.180,    0.002,2,   1.8140,   0.0090,2,     6.86,     0.15,2,    7.375,    0.036,2,    -9.00,9
  32MB19900222,  P15S,    67,  1,    842,      2,2,19900412,  2.0050,-170.0150, 5357,    697.3,   6.2750,  34.5570,2,  34.5640,2,    -9.00,9,    0.008,2,    0.010,2,   2274.4,2,    0.001,    0.002,2,   1.8490,   0.0090,2,    11.67,     0.15,2,    7.561,    0.037,2,    -9.00,9
  32MB19900222,  P15S,    67,  1,    841,      1,2,19900412,  2.0050,-170.0150, 5357,    994.1,   4.3790,  34.5600,2,  34.5670,2,    -9.00,9,    0.027,4,    0.015,2,   2301.3,2,    0.009,    0.001,2,   1.8880,   0.0090,2,    18.66,     0.15,2,    7.732,    0.038,2,    -9.00,9