BOTTLE,20081204PRINUNIVRMKPRINUNIVRMK
EXPOCODE,SECT_ID,STNNBR,CASTNO,SAMPNO,BTLNBR,BTLNBR_FLAG_W,DATE,LATITUDE,LONGITUDE,DEPTH,CTDPRS,CTDTMP,CTDSAL,CTDSAL_FLAG_W,SALNTY,SALNTY_FLAG_W,NITRAT,NITRAT_FLAG_W,CFC-11,CFC-11_FLAG_W,CFC-12,CFC-12_FLAG_W,TCARBN,TCARBN_FLAG_W,TRITUM,TRITER,TRITUM_FLAG_W,HELIUM,HELIER,HELIUM_FLAG_W,DELHE3,DELHER,DELHE3_FLAG_W,NEON,NEONE,NEON_FLAG_W,DELC13,DELC13_FLAG_W
,,,,,,,,,,METERS,DBARS,ITS-90,PSS-78,,PSS-78,,UMOL/KG,,PMOL/KG,,PMOL/KG,,UMOL/KG,,TU,TU,,NMOL/KG,NMOL/KG,,PERCNT,PERCNT,,NMOL/KG,NMOL/KG,,O/OO,
  32MB19900222,  P15S,    51,  1,    647,     12,2,19900404,-17.4917,-170.0050, 4848,      5.2,  27.5660,  35.5790,2,  35.5790,2,     0.39,2,    1.601,2,    0.930,4,   1961.0,2, -999.000, -999.000,9,-999.0000,-999.0000,9,  -999.00,  -999.00,9, -999.000, -999.000,9,    -9.00,9
  32MB19900222,  P15S,    51,  1,    646,     11,2,19900404,-17.4917,-170.0050, 4848,     17.9,  27.5650,  35.5790,2,  35.5800,2,     0.39,2,    1.633,2,    0.822,2,   1962.7,2, -999.000, -999.000,9,-999.0000,-999.0000,9,  -999.00,  -999.00,9, -999.000, -999.000,9,    -9.00,9
  32MB19900222,  P15S,    51,  1,    645,     10,2,19900404,-17.4917,-170.0050, 4848,     38.5,  27.5720,  35.5780,2,  35.5790,2,     0.39,2,    1.572,2,    0.745,3,   1961.0,2, -999.000, -999.000,9,-999.0000,-999.0000,9,  -999.00,  -999.00,9, -999.000, -999.000,9,    -9.00,9
  32MB19900222,  P15S,    51,  1,    653,      9,2,19900404,-17.4917,-170.0050, 4848,     65.7,  27.1270,  35.6370,2,  35.6700,2,     0.39,2,    1.648,2,    0.744,3,   1963.8,2, -999.000, -999.000,9,-999.0000,-999.0000,9,  -999.00,  -999.00,9, -999.000, -999.000,9,    -9.00,9
  32MB19900222,  P15S,    51,  1,    643,      8,2,19900404,-17.4917,-170.0050, 4848,     98.7,  24.6560,  35.6720,2,  35.6510,2,     0.39,2,    1.773,2,    0.908,2,   1984.1,2, -999.000, -999.000,9,-999.0000,-999.0000,9,  -999.00,  -999.00,9, -999.000, -999.000,9,    -9.00,9
  32MB19900222,  P15S,    51,  1,    642,      7,2,19900404,-17.4917,-170.0050, 4848,    147.4,  22.4290,  35.8750,2,  35.8630,2,     0.74,2,    1.739,2,    0.947,2,   2038.5,2, -999.000, -999.000,9,-999.0000,-999.0000,9,  -999.00,  -999.00,9, -999.000, -999.000,9,    -9.00,9
  32MB19900222,  P15S,    51,  1,    641,      6,2,19900404,-17.4917,-170.0050, 4848,    196.6,  20.8600,  35.8270,2,  35.8170,2,     2.49,2,    1.696,2,    0.891,2,   2059.0,2, -999.000, -999.000,9,-999.0000,-999.0000,9,  -999.00,  -999.00,9, -999.000, -999.000,9,    -9.00,9
  32MB19900222,  P15S,    51,  1,    652,      5,2,19900404,-17.4917,-170.0050, 4848,    245.0,  19.4580,  35.6530,2,  35.6530,2,     2.69,2,    1.680,2,    0.820,2,   2056.3,2, -999.000, -999.000,9,-999.0000,-999.0000,9,  -999.00,  -999.00,9, -999.000, -999.000,9,    -9.00,9
  32MB19900222,  P15S,    51,  1,    651,      4,2,19900404,-17.4917,-170.0050, 4848,    345.5,  14.6070,  35.0770,2,  35.0830,2,     9.48,2,    1.146,2,    0.641,2,   2094.2,2, -999.000, -999.000,9,-999.0000,-999.0000,9,  -999.00,  -999.00,9, -999.000, -999.000,9,    -9.00,9
  32MB19900222,  P15S,    51,  1,    650,      3,2,19900404,-17.4917,-170.0050, 4848,    395.3,  11.9820,  34.8100,2,  34.8180,2,    14.05,2,    0.848,6,    0.426,6,   2117.1,2, -999.000, -999.000,9,-999.0000,-999.0000,9,  -999.00,  -999.00,9, -999.000, -999.000,9,    -9.00,9
  32MB19900222,  P15S,    51,  1,    649,      2,2,19900404,-17.4917,-170.0050, 4848,    494.8,   8.0560,  34.4730,2,  34.4800,2,    22.74,2,    0.344,2,    0.186,2,   2158.5,2, -999.000, -999.000,9,-999.0000,-999.0000,9,  -999.00,  -999.00,9, -999.000, -999.000,9,    -9.00,9
  32MB19900222,  P15S,    51,  1,    648,      1,2,19900404,-17.4917,-170.0050, 4848,    595.3,   6.3340,  34.3680,2,  34.3730,2,    24.49,2,    0.210,2,    0.113,2,   2159.8,2, -999.000, -999.000,9,-999.0000,-999.0000,9,  -999.00,  -999.00,9, -999.000, -999.000,9,    -9.00,9
  32MB19900222,  P15S,    52,  1,    752,     12,2,19900404,-15.0033,-170.0100, 4686,      4.4,  28.4910,  35.1550,2,  35.1800,2,     0.39,2,    1.608,2,    0.847,2,   1937.8,2, -999.000, -999.000,9,-999.0000,-999.0000,9,  -999.00,  -999.00,9, -999.000, -999.000,9,     1.34,2
  32MB19900222,  P15S,    52,  1,    751,     11,2,19900404,-15.0033,-170.0100, 4686,     18.8,  28.6220,  35.4100,2,  35.4120,2,     0.39,2,    1.567,2,    0.803,2,   1953.3,2, -999.000, -999.000,9,-999.0000,-999.0000,9,  -999.00,  -999.00,9, -999.000, -999.000,9,    -9.00,9
  32MB19900222,  P15S,    52,  1,    750,     10,2,19900404,-15.0033,-170.0100, 4686,     35.7,  28.5450,  35.4110,2,  35.4190,2,     0.39,2,    1.599,2,    0.848,2,   1952.3,2, -999.000, -999.000,9,-999.0000,-999.0000,9,  -999.00,  -999.00,9, -999.000, -999.000,9,    -9.00,9
  32MB19900222,  P15S,    52,  1,    749,      9,2,19900404,-15.0033,-170.0100, 4686,     67.8,  27.9680,  35.5680,2,  35.5500,2,     0.39,2,    1.587,2,    0.869,2,   1956.8,2, -999.000, -999.000,9,-999.0000,-999.0000,9,  -999.00,  -999.00,9, -999.000, -999.000,9,    -9.00,9
  32MB19900222,  P15S,    52,  1,    748,      8,2,19900404,-15.0033,-170.0100, 4686,     98.4,  27.1120,  35.9500,2,  35.9600,2,     0.39,2,    1.587,2,    0.839,2,   1987.1,2, -999.000, -999.000,9,-999.0000,-999.0000,9,  -999.00,  -999.00,9, -999.000, -999.000,9,    -9.00,9
  32MB19900222,  P15S,    52,  1,    747,      7,2,19900404,-15.0033,-170.0100, 4686,    121.9,  26.3600,  36.0370,2,  36.0450,2,     0.39,2,    1.613,2,    0.810,2,     -9.0,9, -999.000, -999.000,9,-999.0000,-999.0000,9,  -999.00,  -999.00,9, -999.000, -999.000,9,    -9.00,9
  32MB19900222,  P15S,    52,  1,    746,      6,2,19900404,-15.0033,-170.0100, 4686,    147.1,  25.0770,  36.2030,2,  36.2110,2,     0.39,2,    1.668,2,    0.829,2,   2046.1,2, -999.000, -999.000,9,-999.0000,-999.0000,9,  -999.00,  -999.00,9, -999.000, -999.000,9,    -9.00,9
  32MB19900222,  P15S,    52,  1,    745,      5,2,19900404,-15.0033,-170.0100, 4686,    197.3,  22.7910,  36.1330,2,  36.1570,2,     3.75,2,    1.615,2,    0.873,2,   2073.7,2, -999.000, -999.000,9,-999.0000,-999.0000,9,  -999.00,  -999.00,9, -999.000, -999.000,9,    -9.00,9
  32MB19900222,  P15S,    52,  1,    753,      4,2,19900404,-15.0033,-170.0100, 4686,    246.7,  19.8870,  35.7450,2,  35.7480,2,     5.70,2,    1.507,2,    0.814,2,   2085.0,2, -999.000, -999.000,9,-999.0000,-999.0000,9,  -999.00,  -999.00,9, -999.000, -999.000,9,    -9.00,9
  32MB19900222,  P15S,    52,  1,    743,      3,2,19900404,-15.0033,-170.0100, 4686,    296.5,  16.2860,  35.2520,2,  35.2600,2,    10.89,2,    1.209,2,    0.612,2,   2107.8,2, -999.000, -999.000,9,-999.0000,-999.0000,9,  -999.00,  -999.00,9, -999.000, -999.000,9,    -9.00,9
  32MB19900222,  P15S,    52,  1,    742,      2,2,19900404,-15.0033,-170.0100, 4686,    346.3,  13.0230,  34.8780,2,  34.8690,2,    16.10,2,    0.727,2,    0.388,2,     -9.0,9, -999.000, -999.000,9,-999.0000,-999.0000,9,  -999.00,  -999.00,9, -999.000, -999.000,9,    -9.00,9
  32MB19900222,  P15S,    52,  1,    741,      1,2,19900404,-15.0033,-170.0100, 4686,    394.1,  10.2930,  34.6490,2,  34.6570,2,    23.68,2,    0.365,2,    0.187,2,   2169.8,2, -999.000, -999.000,9,-999.0000,-999.0000,9,  -999.00,  -999.00,9, -999.000, -999.000,9,    -9.00,9
  32MB19900222,  P15S,    52,  2,    852,     12,2,19900404,-15.0033,-170.0100, 4686,    444.5,   8.7680,  34.5610,2,  34.5560,2,    27.14,2,    0.177,6,    0.088,6,     -9.0,9, -999.000, -999.000,9,-999.0000,-999.0000,9,  -999.00,  -999.00,9, -999.000, -999.000,9,    -9.00,9
  32MB19900222,  P15S,    52,  2,    851,     11,2,19900404,-15.0033,-170.0100, 4686,    496.3,   7.8100,  34.5190,2,  34.5190,2,    28.16,2,    0.113,2,    0.061,2,   2182.5,2, -999.000, -999.000,9,-999.0000,-999.0000,9,  -999.00,  -999.00,9, -999.000, -999.000,9,    -9.00,9
  32MB19900222,  P15S,    52,  2,    850,     10,2,19900404,-15.0033,-170.0100, 4686,    595.3,   6.1770,  34.4640,2,  34.4620,2,    -9.00,9,    0.046,2,    0.029,2,   2198.0,2, -999.000, -999.000,9,-999.0000,-999.0000,9,  -999.00,  -999.00,9, -999.000, -999.000,9,    -9.00,9
  32MB19900222,  P15S,    52,  2,    849,      9,2,19900404,-15.0033,-170.0100, 4686,    694.0,   5.4530,  34.4760,2,  34.4730,2,    -9.00,9,    0.021,2,    0.031,3,   2214.8,2, -999.000, -999.000,9,-999.0000,-999.0000,9,  -999.00,  -999.00,9, -999.000, -999.000,9,    -9.00,9
  32MB19900222,  P15S,    52,  2,    848,      8,2,19900404,-15.0033,-170.0100, 4686,    793.5,   4.8820,  34.4770,2,  34.4790,2,    -9.00,9,    0.009,2,    0.009,2,   2229.8,2, -999.000, -999.000,9,-999.0000,-999.0000,9,  -999.00,  -999.00,9, -999.000, -999.000,9,    -9.00,9
  32MB19900222,  P15S,    52,  2,    847,      7,2,19900404,-15.0033,-170.0100, 4686,    892.2,   4.4930,  34.4960,2,  34.4930,2,    -9.00,9,    0.004,2,    0.001,2,   2240.9,2, -999.000, -999.000,9,-999.0000,-999.0000,9,  -999.00,  -999.00,9, -999.000, -999.000,9,    -9.00,9
  32MB19900222,  P15S,    52,  2,    846,      6,2,19900404,-15.0033,-170.0100, 4686,    992.5,   4.1640,  34.5080,2,  34.5090,2,    -9.00,9,    0.001,2,    0.003,2,   2248.8,2, -999.000, -999.000,9,-999.0000,-999.0000,9,  -999.00,  -999.00,9, -999.000, -999.000,9,    -9.00,9
  32MB19900222,  P15S,    52,  2,    845,      5,2,19900404,-15.0033,-170.0100, 4686,   1093.2,   3.8500,  34.5240,2,  34.5250,2,    -9.00,9,    0.000,2,    0.004,2,     -9.0,9, -999.000, -999.000,9,-999.0000,-999.0000,9,  -999.00,  -999.00,9, -999.000, -999.000,9,    -9.00,9
  32MB19900222,  P15S,    52,  2,    853,      4,2,19900404,-15.0033,-170.0100, 4686,   1242.7,   3.3140,-999.0000,9,  34.5590,2,    -9.00,9,    0.000,2,    0.002,2,   2276.4,2, -999.000, -999.000,9,-999.0000,-999.0000,9,  -999.00,  -999.00,9, -999.000, -999.000,9,    -9.00,9
  32MB19900222,  P15S,    52,  2,    843,      3,2,19900404,-15.0033,-170.0100, 4686,   1492.2,   2.8080,  34.5870,2,  34.5890,2,    -9.00,9,   -0.003,2,   -0.002,2,   2284.9,2, -999.000, -999.000,9,-999.0000,-999.0000,9,  -999.00,  -999.00,9, -999.000, -999.000,9,    -9.00,9
  32MB19900222,  P15S,    52,  2,    842,      2,2,19900404,-15.0033,-170.0100, 4686,   1749.9,   2.4560,  34.6120,2,  34.6160,2,    -9.00,9,    0.054,4,    0.009,2,   2293.1,2, -999.000, -999.000,9,-999.0000,-999.0000,9,  -999.00,  -999.00,9, -999.000, -999.000,9,    -9.00,9
  32MB19900222,  P15S,    52,  2,    841,      1,2,19900404,-15.0033,-170.0100, 4686,   1992.6,   2.1700,  34.6330,2,  34.6410,2,    -9.00,9,    0.007,2,    0.002,2,   2299.3,2, -999.000, -999.000,9,-999.0000,-999.0000,9,  -999.00,  -999.00,9, -999.000, -999.000,9,    -9.00,9
  32MB19900222,  P15S,    52,  3,    951,     11,2,19900404,-15.0033,-170.0100, 4686,   2244.8,   2.0020,  34.6530,2,  34.6520,2,    -9.00,9,    0.007,2,    0.007,2,     -9.0,9, -999.000, -999.000,1,-999.0000,-999.0000,1,  -999.00,  -999.00,1, -999.000, -999.000,9,    -9.00,9
  32MB19900222,  P15S,    52,  3,    950,     10,2,19900404,-15.0033,-170.0100, 4686,   2492.5,   1.8920,  34.6640,2,  34.6630,2,    -9.00,9,    0.006,2,    0.003,2,   2311.2,2, -999.000, -999.000,1,-999.0000,-999.0000,1,  -999.00,  -999.00,1, -999.000, -999.000,9,    -9.00,9
  32MB19900222,  P15S,    52,  3,    949,      9,2,19900404,-15.0033,-170.0100, 4686,   2743.6,   1.7900,  34.6720,2,  34.6720,2,    -9.00,9,    0.014,3,    0.004,2,     -9.0,9, -999.000, -999.000,1,-999.0000,-999.0000,1,  -999.00,  -999.00,1, -999.000, -999.000,9,    -9.00,9
  32MB19900222,  P15S,    52,  3,    948,      8,2,19900404,-15.0033,-170.0100, 4686,   2995.1,   1.7160,  34.6780,2,  34.6760,2,    -9.00,9,    0.028,4,    0.003,2,   2311.7,2, -999.000, -999.000,9,-999.0000,-999.0000,9,  -999.00,  -999.00,9, -999.000, -999.000,9,    -9.00,9
  32MB19900222,  P15S,    52,  3,    947,      7,2,19900404,-15.0033,-170.0100, 4686,   3394.4,   1.5920,  34.6870,2,  34.6850,2,    -9.00,9,    0.005,6,    0.009,6,   2303.3,2, -999.000, -999.000,1,-999.0000,-999.0000,1,  -999.00,  -999.00,1, -999.000, -999.000,9,    -9.00,9
  32MB19900222,  P15S,    52,  3,    946,      6,2,19900404,-15.0033,-170.0100, 4686,   3802.5,   1.4220,  34.7020,2,  34.7010,2,    -9.00,9,    0.002,2,    0.001,2,     -9.0,9, -999.000, -999.000,1,-999.0000,-999.0000,1,  -999.00,  -999.00,1, -999.000, -999.000,9,    -9.00,9
  32MB19900222,  P15S,    52,  3,    945,      5,2,19900404,-15.0033,-170.0100, 4686,   3998.5,   1.2880,  34.7120,2,  34.7120,2,    -9.00,9,    0.007,2,    0.003,2,   2270.4,2, -999.000, -999.000,1,-999.0000,-999.0000,1,  -999.00,  -999.00,1, -999.000, -999.000,9,    -9.00,9
  32MB19900222,  P15S,    52,  3,    953,      4,2,19900404,-15.0033,-170.0100, 4686,   4197.3,   1.1690,  34.7140,2,  34.7150,2,    -9.00,9,    0.000,2,   -0.001,2,     -9.0,9, -999.000, -999.000,1,-999.0000,-999.0000,1,  -999.00,  -999.00,1, -999.000, -999.000,9,    -9.00,9
  32MB19900222,  P15S,    52,  3,    943,      3,2,19900404,-15.0033,-170.0100, 4686,   4498.8,   1.0590,  34.7160,2,  34.7140,2,    -9.00,9,    0.005,2,    0.006,2,   2259.0,2, -999.000, -999.000,1,-999.0000,-999.0000,1,  -999.00,  -999.00,1, -999.000, -999.000,9,    -9.00,9
  32MB19900222,  P15S,    52,  3,    942,      2,2,19900404,-15.0033,-170.0100, 4686,   4697.2,   1.0440,  34.7170,2,  34.7130,2,    -9.00,9,    0.007,2,    0.003,2,     -9.0,9, -999.000, -999.000,1,-999.0000,-999.0000,1,  -999.00,  -999.00,1, -999.000, -999.000,9,    -9.00,9
  32MB19900222,  P15S,    52,  3,    941,      1,2,19900404,-15.0033,-170.0100, 4686,   4873.2,   1.0430,  34.7100,2,  34.7120,2,    -9.00,9,    0.002,6,    0.000,6,   2260.4,2, -999.000, -999.000,1,-999.0000,-999.0000,1,  -999.00,  -999.00,1, -999.000, -999.000,9,    -9.00,9
  32MB19900222,  P15S,    53,  1,     50,     11,2,19900405,-11.4400,-169.6083, 5216,   1242.8,   3.5920,-999.0000,9,  34.5570,2,    -9.00,9,   -9.000,9,   -9.000,9,     -9.0,9, -999.000, -999.000,9,-999.0000,-999.0000,9,  -999.00,  -999.00,9, -999.000, -999.000,9,    -9.00,9
  32MB19900222,  P15S,    53,  1,     49,     10,2,19900405,-11.4400,-169.6083, 5216,   1243.2,   3.5910,  34.5560,2,  34.5580,2,    -9.00,9,   -9.000,9,   -9.000,9,     -9.0,9, -999.000, -999.000,9,-999.0000,-999.0000,9,  -999.00,  -999.00,9, -999.000, -999.000,9,    -9.00,9
  32MB19900222,  P15S,    53,  1,     51,     12,2,19900405,-11.4400,-169.6083, 5216,   1243.3,   3.5910,-999.0000,9,  34.5580,2,    -9.00,9,   -9.000,9,   -9.000,9,     -9.0,9, -999.000, -999.000,9,-999.0000,-999.0000,9,  -999.00,  -999.00,9, -999.000, -999.000,9,    -9.00,9
  32MB19900222,  P15S,    53,  1,     47,      8,2,19900405,-11.4400,-169.6083, 5216,   1243.7,   3.5910,  34.5550,2,  34.5580,2,    -9.00,9,   -9.000,9,   -9.000,9,     -9.0,9, -999.000, -999.000,9,-999.0000,-999.0000,9,  -999.00,  -999.00,9, -999.000, -999.000,9,    -9.00,9
  32MB19900222,  P15S,    53,  1,     48,      9,2,19900405,-11.4400,-169.6083, 5216,   1243.8,   3.5920,-999.0000,9,  34.5550,2,    -9.00,9,   -9.000,9,   -9.000,9,     -9.0,9, -999.000, -999.000,9,-999.0000,-999.0000,9,  -999.00,  -999.00,9, -999.000, -999.000,9,    -9.00,9
  32MB19900222,  P15S,    53,  1,     45,      6,2,19900405,-11.4400,-169.6083, 5216,   1243.9,   3.5910,  34.5560,2,  34.5560,2,    -9.00,9,   -9.000,9,   -9.000,9,     -9.0,9, -999.000, -999.000,9,-999.0000,-999.0000,9,  -999.00,  -999.00,9, -999.000, -999.000,9,    -9.00,9
  32MB19900222,  P15S,    53,  1,     41,      2,2,19900405,-11.4400,-169.6083, 5216,   1244.4,   3.5900,  34.5560,2,  34.5570,2,    -9.00,9,   -9.000,9,   -9.000,9,     -9.0,9, -999.000, -999.000,9,-999.0000,-999.0000,9,  -999.00,  -999.00,9, -999.000, -999.000,9,    -9.00,9
  32MB19900222,  P15S,    53,  1,     42,      3,2,19900405,-11.4400,-169.6083, 5216,   1244.4,   3.5910,-999.0000,9,  34.5560,2,    -9.00,9,   -9.000,9,   -9.000,9,     -9.0,9, -999.000, -999.000,9,-999.0000,-999.0000,9,  -999.00,  -999.00,9, -999.000, -999.000,9,    -9.00,9
  32MB19900222,  P15S,    53,  1,     46,      7,2,19900405,-11.4400,-169.6083, 5216,   1244.5,   3.5900,-999.0000,9,  34.5580,2,    -9.00,9,   -9.000,9,   -9.000,9,     -9.0,9, -999.000, -999.000,9,-999.0000,-999.0000,9,  -999.00,  -999.00,9, -999.000, -999.000,9,    -9.00,9
  32MB19900222,  P15S,    53,  1,     43,      4,2,19900405,-11.4400,-169.6083, 5216,   1244.6,   3.5910,  34.5550,2,  34.5560,2,    -9.00,9,   -9.000,9,   -9.000,9,     -9.0,9, -999.000, -999.000,9,-999.0000,-999.0000,9,  -999.00,  -999.00,9, -999.000, -999.000,9,    -9.00,9
  32MB19900222,  P15S,    53,  1,     52,      1,2,19900405,-11.4400,-169.6083, 5216,   1244.8,   3.5900,-999.0000,9,  34.5570,2,    -9.00,9,   -9.000,9,   -9.000,9,     -9.0,9, -999.000, -999.000,9,-999.0000,-999.0000,9,  -999.00,  -999.00,9, -999.000, -999.000,9,    -9.00,9
  32MB19900222,  P15S,    53,  1,     53,      5,2,19900405,-11.4400,-169.6083, 5216,   1244.9,   3.5900,-999.0000,9,  34.5570,2,    -9.00,9,   -9.000,9,   -9.000,9,     -9.0,9, -999.000, -999.000,9,-999.0000,-999.0000,9,  -999.00,  -999.00,9, -999.000, -999.000,9,    -9.00,9
  32MB19900222,  P15S,    54,  1,    142,     12,2,19900406,-10.1017,-169.5033, 5249,   1993.8,   2.1510,  34.6450,2,  34.6410,2,    -9.00,9,   -0.002,2,    0.000,2,     -9.0,9, -999.000, -999.000,9,-999.0000,-999.0000,9,  -999.00,  -999.00,9, -999.000, -999.000,9,    -9.00,9
  32MB19900222,  P15S,    54,  1,    141,     11,2,19900406,-10.1017,-169.5033, 5249,   2493.7,   1.8480,  34.6690,2,  34.6660,2,    -9.00,9,    0.013,3,    0.004,2,     -9.0,9, -999.000, -999.000,9,-999.0000,-999.0000,9,  -999.00,  -999.00,9, -999.000, -999.000,9,    -9.00,9
  32MB19900222,  P15S,    54,  1,    151,      9,2,19900406,-10.1017,-169.5033, 5249,   2994.4,   1.6360,  34.6820,2,  34.6790,2,    -9.00,9,    0.005,6,    0.001,6,     -9.0,9, -999.000, -999.000,9,-999.0000,-999.0000,9,  -999.00,  -999.00,9, -999.000, -999.000,9,    -9.00,9
  32MB19900222,  P15S,    54,  1,    150,      8,2,19900406,-10.1017,-169.5033, 5249,   3395.4,   1.5640,  34.6860,2,  34.6840,2,    -9.00,9,    0.000,2,   -0.001,2,     -9.0,9, -999.000, -999.000,9,-999.0000,-999.0000,9,  -999.00,  -999.00,9, -999.000, -999.000,9,    -9.00,9
  32MB19900222,  P15S,    54,  1,    149,      7,2,19900406,-10.1017,-169.5033, 5249,   3795.6,   1.4720,  34.6920,2,  34.6910,2,    -9.00,9,    0.009,2,    0.000,2,     -9.0,9, -999.000, -999.000,9,-999.0000,-999.0000,9,  -999.00,  -999.00,9, -999.000, -999.000,9,    -9.00,9
  32MB19900222,  P15S,    54,  1,    148,      6,2,19900406,-10.1017,-169.5033, 5249,   4196.1,   1.2980,  34.7070,2,  34.7050,2,    -9.00,9,    0.027,4,    0.003,2,     -9.0,9, -999.000, -999.000,9,-999.0000,-999.0000,9,  -999.00,  -999.00,9, -999.000, -999.000,9,    -9.00,9
  32MB19900222,  P15S,    54,  1,    147,      5,2,19900406,-10.1017,-169.5033, 5249,   4597.8,   1.0800,  34.7120,2,  34.7110,2,    -9.00,9,    0.002,2,    0.006,2,     -9.0,9, -999.000, -999.000,9,-999.0000,-999.0000,9,  -999.00,  -999.00,9, -999.000, -999.000,9,    -9.00,9
  32MB19900222,  P15S,    54,  1,    146,      4,2,19900406,-10.1017,-169.5033, 5249,   4794.3,   1.0660,  34.7110,2,  34.7120,2,    -9.00,9,    0.003,2,   -0.001,2,     -9.0,9, -999.000, -999.000,9,-999.0000,-999.0000,9,  -999.00,  -999.00,9, -999.000, -999.000,9,    -9.00,9
  32MB19900222,  P15S,    54,  1,    145,      3,2,19900406,-10.1017,-169.5033, 5249,   4999.1,   1.0820,  34.7200,2,  34.7110,2,    -9.00,9,    0.006,2,    0.005,2,     -9.0,9, -999.000, -999.000,9,-999.0000,-999.0000,9,  -999.00,  -999.00,9, -999.000, -999.000,9,    -9.00,9
  32MB19900222,  P15S,    54,  1,    153,      2,2,19900406,-10.1017,-169.5033, 5249,   5301.0,   1.1130,  34.7120,2,  34.7110,2,    -9.00,9,    0.039,4,    0.001,2,     -9.0,9, -999.000, -999.000,9,-999.0000,-999.0000,9,  -999.00,  -999.00,9, -999.000, -999.000,9,    -9.00,9
  32MB19900222,  P15S,    54,  1,    143,      1,2,19900406,-10.1017,-169.5033, 5249,   5301.7,   1.1130,  34.7120,2,  34.7120,2,    -9.00,9,    0.007,6,    0.004,6,     -9.0,9, -999.000, -999.000,9,-999.0000,-999.0000,9,  -999.00,  -999.00,9, -999.000, -999.000,9,    -9.00,9