BOTTLE,20081204PRINUNIVRMKPRINUNIVRMK
EXPOCODE,SECT_ID,STNNBR,CASTNO,SAMPNO,BTLNBR,BTLNBR_FLAG_W,DATE,LATITUDE,LONGITUDE,DEPTH,CTDPRS,CTDTMP,CTDSAL,CTDSAL_FLAG_W,SALNTY,SALNTY_FLAG_W,NITRAT,NITRAT_FLAG_W,CFC-11,CFC-11_FLAG_W,CFC-12,CFC-12_FLAG_W,TCARBN,TCARBN_FLAG_W,TRITUM,TRITER,TRITUM_FLAG_W,HELIUM,HELIER,HELIUM_FLAG_W,DELHE3,DELHER,DELHE3_FLAG_W,NEON,NEONE,NEON_FLAG_W,DELC13,DELC13_FLAG_W
,,,,,,,,,,METERS,DBARS,ITS-90,PSS-78,,PSS-78,,UMOL/KG,,PMOL/KG,,PMOL/KG,,UMOL/KG,,TU,TU,,NMOL/KG,NMOL/KG,,PERCNT,PERCNT,,NMOL/KG,NMOL/KG,,O/OO,
  32MB19900222,  P15S,    25,  1,    347,     12,2,19900307,-48.0050,-169.9917, 5307,      2.7,  13.7290,  34.7520,2,  34.7460,2,     2.29,2,    2.928,6,    1.504,6,   2040.2,2, -999.000, -999.000,9,-999.0000,-999.0000,9,  -999.00,  -999.00,9, -999.000, -999.000,9,     2.10,2
  32MB19900222,  P15S,    25,  1,    346,     11,2,19900307,-48.0050,-169.9917, 5307,     27.3,  13.6580,-999.0000,9,  34.7460,2,    -9.00,9,   -9.000,9,   -9.000,9,     -9.0,9, -999.000, -999.000,9,-999.0000,-999.0000,9,  -999.00,  -999.00,9, -999.000, -999.000,9,    -9.00,9
  32MB19900222,  P15S,    25,  1,    345,     10,2,19900307,-48.0050,-169.9917, 5307,     46.9,  13.5400,  34.7400,2,  34.7400,2,     3.02,2,    2.988,2,    1.492,2,   2044.7,2, -999.000, -999.000,9,-999.0000,-999.0000,9,  -999.00,  -999.00,9, -999.000, -999.000,9,    -9.00,9
  32MB19900222,  P15S,    25,  1,    344,      9,2,19900307,-48.0050,-169.9917, 5307,     97.1,  12.4030,  35.0420,2,  35.0550,2,     8.03,2,    2.814,2,    1.463,2,   2081.5,2, -999.000, -999.000,9,-999.0000,-999.0000,9,  -999.00,  -999.00,9, -999.000, -999.000,9,    -9.00,9
  32MB19900222,  P15S,    25,  1,    343,      8,2,19900307,-48.0050,-169.9917, 5307,    146.3,  11.5570,  34.9130,2,  34.9200,2,     9.58,2,    2.783,2,    1.489,2,   2088.3,2, -999.000, -999.000,9,-999.0000,-999.0000,9,  -999.00,  -999.00,9, -999.000, -999.000,9,    -9.00,9
  32MB19900222,  P15S,    25,  1,    342,      7,2,19900307,-48.0050,-169.9917, 5307,    196.0,  10.5910,  34.7850,2,  34.7880,2,    -9.00,9,   -9.000,9,   -9.000,9,     -9.0,9, -999.000, -999.000,9,-999.0000,-999.0000,9,  -999.00,  -999.00,9, -999.000, -999.000,9,    -9.00,9
  32MB19900222,  P15S,    25,  1,    341,      6,2,19900307,-48.0050,-169.9917, 5307,    295.7,   9.1530,  34.6030,2,  34.5750,2,    14.38,2,    2.972,2,    1.517,2,   2103.2,2, -999.000, -999.000,9,-999.0000,-999.0000,9,  -999.00,  -999.00,9, -999.000, -999.000,9,    -9.00,9
  32MB19900222,  P15S,    25,  1,    352,      5,2,19900307,-48.0050,-169.9917, 5307,    394.9,   7.8520,  34.4080,2,  34.4060,2,    18.43,2,    3.353,2,    1.611,2,   2103.0,2, -999.000, -999.000,9,-999.0000,-999.0000,9,  -999.00,  -999.00,9, -999.000, -999.000,9,    -9.00,9
  32MB19900222,  P15S,    25,  1,    351,      4,2,19900307,-48.0050,-169.9917, 5307,    494.3,   7.7020,  34.4200,2,  34.4140,2,    19.02,2,    3.282,2,    1.562,2,   2112.0,2, -999.000, -999.000,9,-999.0000,-999.0000,9,  -999.00,  -999.00,9, -999.000, -999.000,9,    -9.00,9
  32MB19900222,  P15S,    25,  1,    350,      3,2,19900307,-48.0050,-169.9917, 5307,    594.8,   7.2620,  34.4090,2,  34.4020,2,    21.75,2,    2.956,2,    1.422,2,   2122.7,2, -999.000, -999.000,9,-999.0000,-999.0000,9,  -999.00,  -999.00,9, -999.000, -999.000,9,    -9.00,9
  32MB19900222,  P15S,    25,  1,    349,      2,2,19900307,-48.0050,-169.9917, 5307,    794.8,   6.7360,  34.3830,2,  34.3820,2,    23.74,2,    2.564,2,    1.219,2,   2135.1,2, -999.000, -999.000,9,-999.0000,-999.0000,9,  -999.00,  -999.00,9, -999.000, -999.000,9,    -9.00,9
  32MB19900222,  P15S,    25,  1,    348,      1,2,19900307,-48.0050,-169.9917, 5307,    994.9,   5.9680,  34.3780,2,  34.3820,2,    27.65,2,    1.358,2,    0.627,2,   2157.5,2, -999.000, -999.000,9,-999.0000,-999.0000,9,  -999.00,  -999.00,9, -999.000, -999.000,9,    -9.00,9
  32MB19900222,  P15S,    25,  2,    447,     12,2,19900307,-48.0050,-169.9917, 5307,   1497.6,   3.2870,  34.4100,2,  34.4090,2,    -9.00,9,    0.567,2,    0.273,2,   2216.9,2, -999.000, -999.000,9,-999.0000,-999.0000,9,  -999.00,  -999.00,9, -999.000, -999.000,9,    -9.00,9
  32MB19900222,  P15S,    25,  2,    446,     11,2,19900307,-48.0050,-169.9917, 5307,   2002.7,   2.4950,  34.5970,2,  34.5980,2,    -9.00,9,    0.142,2,    0.054,3,   2248.1,2, -999.000, -999.000,9,-999.0000,-999.0000,9,  -999.00,  -999.00,9, -999.000, -999.000,9,    -9.00,9
  32MB19900222,  P15S,    25,  2,    445,     10,2,19900307,-48.0050,-169.9917, 5307,   2495.5,   2.1600,  34.7210,2,  34.7100,2,    -9.00,9,    0.032,2,    0.005,2,   2246.3,2, -999.000, -999.000,9,-999.0000,-999.0000,9,  -999.00,  -999.00,9, -999.000, -999.000,9,    -9.00,9
  32MB19900222,  P15S,    25,  2,    444,      9,2,19900307,-48.0050,-169.9917, 5307,   2997.8,   1.8510,  34.7430,2,  34.7370,2,    -9.00,9,    0.022,6,    0.003,6,   2245.4,3, -999.000, -999.000,9,-999.0000,-999.0000,9,  -999.00,  -999.00,9, -999.000, -999.000,9,    -9.00,9
  32MB19900222,  P15S,    25,  2,    443,      8,2,19900307,-48.0050,-169.9917, 5307,   3496.6,   1.4570,  34.7320,2,  34.7330,2,    -9.00,9,    0.008,2,    0.011,2,   2249.5,2, -999.000, -999.000,9,-999.0000,-999.0000,9,  -999.00,  -999.00,9, -999.000, -999.000,9,    -9.00,9
  32MB19900222,  P15S,    25,  2,    442,      7,2,19900307,-48.0050,-169.9917, 5307,   3991.8,   1.1450,  34.7270,2,  34.7210,2,    -9.00,9,    0.016,2,    0.012,2,   2252.1,2, -999.000, -999.000,9,-999.0000,-999.0000,9,  -999.00,  -999.00,9, -999.000, -999.000,9,    -9.00,9
  32MB19900222,  P15S,    25,  2,    441,      6,2,19900307,-48.0050,-169.9917, 5307,   4500.6,   0.9610,  34.7100,2,  34.7110,2,    -9.00,9,    0.020,2,    0.003,2,   2253.1,2, -999.000, -999.000,9,-999.0000,-999.0000,9,  -999.00,  -999.00,9, -999.000, -999.000,9,    -9.00,9
  32MB19900222,  P15S,    25,  2,    451,      4,2,19900307,-48.0050,-169.9917, 5307,   4801.4,   0.9420,  34.7090,2,  34.7080,2,    -9.00,9,    0.023,6,    0.003,6,   2253.4,2, -999.000, -999.000,9,-999.0000,-999.0000,9,  -999.00,  -999.00,9, -999.000, -999.000,9,    -9.00,9
  32MB19900222,  P15S,    25,  2,    450,      3,2,19900307,-48.0050,-169.9917, 5307,   5000.6,   0.9410,  34.7070,2,  34.7070,2,    -9.00,9,    0.027,2,    0.006,2,   2255.5,2, -999.000, -999.000,9,-999.0000,-999.0000,9,  -999.00,  -999.00,9, -999.000, -999.000,9,    -9.00,9
  32MB19900222,  P15S,    25,  2,    449,      2,2,19900307,-48.0050,-169.9917, 5307,   5099.1,   0.9460,  34.7070,2,  34.7060,2,    -9.00,9,    0.029,2,    0.010,2,   2254.9,2, -999.000, -999.000,9,-999.0000,-999.0000,9,  -999.00,  -999.00,9, -999.000, -999.000,9,    -9.00,9
  32MB19900222,  P15S,    25,  2,    448,      1,2,19900307,-48.0050,-169.9917, 5307,   5204.0,   0.9530,  34.7070,2,  34.6690,2,    -9.00,9,    0.036,6,    0.005,3,   2254.6,2, -999.000, -999.000,9,-999.0000,-999.0000,9,  -999.00,  -999.00,9, -999.000, -999.000,9,    -9.00,9
  32MB19900222,  P15S,    26,  1,    547,     12,2,19900308,-50.0033,-169.9967, 5340,      6.8,  12.5650,  34.5000,2,  34.5010,2,     6.32,2,    3.176,2,    1.646,2,     -9.0,9,    0.528,    0.005,2,   1.7710,   0.0090,2,    -1.57,     0.15,2,    7.407,    0.036,2,    -9.00,9
  32MB19900222,  P15S,    26,  1,    546,     11,2,19900308,-50.0033,-169.9967, 5340,     20.1,  12.4590,  34.4910,2,  34.4930,2,     6.62,2,    3.069,2,    1.530,2,   2047.3,2,    0.528,    0.005,2,   1.7710,   0.0090,2,    -1.51,     0.15,2,    7.395,    0.036,2,    -9.00,9
  32MB19900222,  P15S,    26,  1,    545,     10,2,19900308,-50.0033,-169.9967, 5340,     39.0,  12.1860,  34.4510,2,  34.4540,2,     7.42,2,    3.183,2,    1.542,2,   2050.2,2,    0.487,    0.005,2,   1.7710,   0.0090,2,    -1.53,     0.15,2,    7.408,    0.036,2,    -9.00,9
  32MB19900222,  P15S,    26,  1,    544,      9,2,19900308,-50.0033,-169.9967, 5340,     69.2,  10.0240,  34.3590,2,  34.3630,2,    12.37,2,    3.460,2,    1.742,2,   2052.9,2, -999.000, -999.000,9,-999.0000,-999.0000,9,  -999.00,  -999.00,9, -999.000, -999.000,9,    -9.00,9
  32MB19900222,  P15S,    26,  1,    543,      8,2,19900308,-50.0033,-169.9967, 5340,     96.3,   8.7120,  34.4440,2,  34.4380,2,    16.58,2,    3.389,2,    1.723,2,   2100.3,2,    0.374,    0.003,2,   1.8160,   0.0090,2,    -1.31,     0.15,2,    7.689,    0.038,2,    -9.00,9
  32MB19900222,  P15S,    26,  1,    542,      7,2,19900308,-50.0033,-169.9967, 5340,    122.5,   8.1120,  34.4020,2,  34.3890,2,    17.53,2,    3.552,2,    1.739,2,     -9.0,9, -999.000, -999.000,9,-999.0000,-999.0000,9,  -999.00,  -999.00,9, -999.000, -999.000,9,    -9.00,9
  32MB19900222,  P15S,    26,  1,    541,      6,2,19900308,-50.0033,-169.9967, 5340,    147.4,   7.8040,  34.3620,2,  34.3630,2,    17.61,2,    3.539,2,    1.769,2,   2104.5,2, -999.000, -999.000,9,-999.0000,-999.0000,9,  -999.00,  -999.00,9, -999.000, -999.000,9,    -9.00,9
  32MB19900222,  P15S,    26,  1,    552,      5,2,19900308,-50.0033,-169.9967, 5340,    198.7,   7.8420,  34.4000,2,  34.4030,2,    17.82,2,    3.535,2,    1.767,2,   2104.4,2,    0.424,    0.003,2,   1.7920,   0.0090,2,    -1.23,     0.15,2,    7.655,    0.038,2,    -9.00,9
  32MB19900222,  P15S,    26,  1,    551,      4,2,19900308,-50.0033,-169.9967, 5340,    248.1,   7.7150,  34.3960,2,  34.3960,2,    18.25,2,    3.471,2,    1.720,2,   2105.6,2, -999.000, -999.000,9,-999.0000,-999.0000,9,  -999.00,  -999.00,9, -999.000, -999.000,9,    -9.00,9
  32MB19900222,  P15S,    26,  1,    550,      3,2,19900308,-50.0033,-169.9967, 5340,    297.0,   7.6810,  34.4010,2,  34.4020,2,    18.91,2,    3.272,2,    1.651,2,   2109.1,2,    0.364,    0.003,2,   1.8010,   0.0090,2,    -0.96,     0.15,2,    7.692,    0.038,2,    -9.00,9
  32MB19900222,  P15S,    26,  1,    549,      2,2,19900308,-50.0033,-169.9967, 5340,    346.5,   7.3980,  34.3840,2,  34.3890,2,    20.22,2,    3.099,2,    1.566,2,     -9.0,9, -999.000, -999.000,9,-999.0000,-999.0000,9,  -999.00,  -999.00,9, -999.000, -999.000,9,    -9.00,9
  32MB19900222,  P15S,    26,  1,    548,      1,2,19900308,-50.0033,-169.9967, 5340,    399.2,   7.1100,  34.3660,2,  34.3690,2,    20.95,2,    3.114,2,    1.550,2,   2118.2,2,    0.155,    0.001,3,   1.7990,   0.0090,2,    -0.75,     0.15,2,    7.712,    0.038,2,    -9.00,9
  32MB19900222,  P15S,    26,  2,    647,     12,2,19900308,-50.0033,-169.9967, 5340,    495.3,   6.8890,  34.3880,2,  34.3740,2,    26.04,2,    1.289,2,    0.618,2,   2159.2,2,    0.181,    0.003,2,   1.8150,   0.0090,2,     1.78,     0.15,2,    7.789,    0.038,2,    -9.00,9
  32MB19900222,  P15S,    26,  2,    646,     11,2,19900308,-50.0033,-169.9967, 5340,    594.6,   6.4930,  34.3820,2,  34.3820,2,    26.47,2,    1.271,2,    0.600,2,   2159.5,2,    0.164,    0.003,2,   1.8160,   0.0090,2,     1.97,     0.15,2,    7.806,    0.038,2,    -9.00,9
  32MB19900222,  P15S,    26,  2,    645,     10,2,19900308,-50.0033,-169.9967, 5340,    694.5,   5.8940,  34.3690,2,  34.3790,2,    28.08,2,    1.057,2,    0.521,2,     -9.0,9,    0.126,    0.003,2,-999.0000,-999.0000,9,  -999.00,  -999.00,9, -999.000, -999.000,9,    -9.00,9
  32MB19900222,  P15S,    26,  2,    644,      9,2,19900308,-50.0033,-169.9967, 5340,    794.5,   5.3400,  34.3680,2,  34.3670,2,    28.22,2,    1.053,2,    0.502,2,   2171.0,2,    0.134,    0.003,2,   1.8310,   0.0090,2,     2.36,     0.15,2,    7.799,    0.038,2,    -9.00,9
  32MB19900222,  P15S,    26,  2,    643,      8,2,19900308,-50.0033,-169.9967, 5340,    893.2,   4.5750,  34.3420,2,  34.3420,2,    -9.00,9,    1.075,2,    0.503,2,     -9.0,9,    0.119,    0.003,2,   1.8260,   0.0090,2,     3.32,     0.15,2,    7.838,    0.038,2,    -9.00,9
  32MB19900222,  P15S,    26,  2,    642,      7,2,19900308,-50.0033,-169.9967, 5340,    992.5,   4.1000,  34.3600,2,  34.3590,2,    -9.00,9,    0.848,2,    0.404,2,   2197.8,2,    0.092,    0.003,2,   1.8320,   0.0090,2,     4.69,     0.15,2,    7.870,    0.039,2,    -9.00,9
  32MB19900222,  P15S,    26,  2,    641,      6,2,19900308,-50.0033,-169.9967, 5340,   1093.6,   3.6270,  34.3760,2,  34.3660,2,    -9.00,9,    0.785,2,    0.375,2,     -9.0,9, -999.000, -999.000,9,-999.0000,-999.0000,9,  -999.00,  -999.00,9, -999.000, -999.000,9,    -9.00,9
  32MB19900222,  P15S,    26,  2,    652,      5,2,19900308,-50.0033,-169.9967, 5340,   1242.8,   3.1390,  34.4140,2,  34.4140,2,    -9.00,9,    0.550,2,    0.253,2,     -9.0,9,    0.060,    0.002,2,   1.8480,   0.0090,2,     6.61,     0.15,2,    7.984,    0.039,2,    -9.00,9
  32MB19900222,  P15S,    26,  2,    651,      4,2,19900308,-50.0033,-169.9967, 5340,   1493.3,   2.7480,  34.5110,2,  34.5140,2,    -9.00,9,    0.281,2,    0.125,2,   2245.5,2,    0.034,    0.002,2,   1.8640,   0.0090,2,     9.41,     0.15,2,    8.024,    0.039,2,    -9.00,9
  32MB19900222,  P15S,    26,  2,    650,      3,2,19900308,-50.0033,-169.9967, 5340,   1743.0,   2.5430,  34.5940,2,  34.5970,2,    -9.00,9,    0.092,2,    0.042,2,     -9.0,9, -999.000, -999.000,9,-999.0000,-999.0000,9,  -999.00,  -999.00,9, -999.000, -999.000,9,    -9.00,9
  32MB19900222,  P15S,    26,  2,    649,      2,2,19900308,-50.0033,-169.9967, 5340,   1994.3,   2.3230,  34.6570,2,  34.6600,2,    -9.00,9,    0.081,2,    0.033,2,   2252.4,2, -999.000, -999.000,1,-999.0000,-999.0000,1,  -999.00,  -999.00,1, -999.000, -999.000,9,    -9.00,9
  32MB19900222,  P15S,    26,  2,    648,      1,2,19900308,-50.0033,-169.9967, 5340,   2394.9,   2.1150,  34.7180,2,  34.7220,2,    -9.00,9,    0.034,2,    0.015,2,   2247.5,2, -999.000, -999.000,1,-999.0000,-999.0000,1,  -999.00,  -999.00,1, -999.000, -999.000,9,    -9.00,9
  32MB19900222,  P15S,    26,  3,    747,     12,2,19900308,-50.0033,-169.9967, 5340,   2794.8,   1.8400,  34.7400,2,  34.7390,2,    -9.00,9,    0.011,2,    0.000,2,   2249.3,2, -999.000, -999.000,1,-999.0000,-999.0000,1,  -999.00,  -999.00,1, -999.000, -999.000,9,    -9.00,9
  32MB19900222,  P15S,    26,  3,    746,     11,2,19900308,-50.0033,-169.9967, 5340,   3087.6,   1.6100,  34.7400,2,  34.7390,2,    -9.00,9,    0.004,2,    0.003,2,   2251.5,2, -999.000, -999.000,1,-999.0000,-999.0000,1,  -999.00,  -999.00,1, -999.000, -999.000,9,    -9.00,9
  32MB19900222,  P15S,    26,  3,    745,     10,2,19900308,-50.0033,-169.9967, 5340,   3394.8,   1.3730,  34.7310,2,  34.7310,2,    -9.00,9,    0.006,2,    0.003,2,   2253.8,2, -999.000, -999.000,1,-999.0000,-999.0000,1,  -999.00,  -999.00,1, -999.000, -999.000,9,    -9.00,9
  32MB19900222,  P15S,    26,  3,    744,      9,2,19900308,-50.0033,-169.9967, 5340,   3702.7,   1.2020,  34.7240,2,  34.7200,2,    -9.00,9,    0.011,2,    0.002,2,   2254.8,2, -999.000, -999.000,1,-999.0000,-999.0000,1,  -999.00,  -999.00,1, -999.000, -999.000,9,    -9.00,9
  32MB19900222,  P15S,    26,  3,    743,      8,2,19900308,-50.0033,-169.9967, 5340,   3994.9,   1.0700,  34.7170,2,  34.7180,2,    -9.00,9,    0.008,2,    0.003,2,   2254.9,2, -999.000, -999.000,1,-999.0000,-999.0000,1,  -999.00,  -999.00,1, -999.000, -999.000,9,    -9.00,9
  32MB19900222,  P15S,    26,  3,    742,      7,2,19900308,-50.0033,-169.9967, 5340,   4296.9,   0.9670,  34.7180,2,  34.7120,2,    -9.00,9,    0.012,2,    0.008,2,   2257.1,2, -999.000, -999.000,1,-999.0000,-999.0000,1,  -999.00,  -999.00,1, -999.000, -999.000,9,    -9.00,9
  32MB19900222,  P15S,    26,  3,    741,      6,2,19900308,-50.0033,-169.9967, 5340,   4596.4,   0.9320,  34.7090,2,  34.7090,2,    -9.00,9,    0.015,2,    0.011,2,   2257.8,2, -999.000, -999.000,1,-999.0000,-999.0000,1,  -999.00,  -999.00,1, -999.000, -999.000,9,    -9.00,9
  32MB19900222,  P15S,    26,  3,    751,      4,2,19900308,-50.0033,-169.9967, 5340,   4798.3,   0.9320,  34.7110,2,  34.7090,2,    -9.00,9,    0.016,2,    0.007,2,     -9.0,9, -999.000, -999.000,9,-999.0000,-999.0000,9,  -999.00,  -999.00,9, -999.000, -999.000,9,    -9.00,9
  32MB19900222,  P15S,    26,  3,    750,      3,2,19900308,-50.0033,-169.9967, 5340,   5128.1,   0.9510,  34.7070,2,  34.7070,2,    -9.00,9,    0.028,2,    0.015,2,   2258.1,2, -999.000, -999.000,1,-999.0000,-999.0000,1,  -999.00,  -999.00,1, -999.000, -999.000,9,    -9.00,9
  32MB19900222,  P15S,    26,  3,    749,      2,2,19900308,-50.0033,-169.9967, 5340,   5227.1,   0.9610,  34.7090,2,  34.7070,2,    -9.00,9,    0.025,2,    0.015,2,     -9.0,9, -999.000, -999.000,9,-999.0000,-999.0000,9,  -999.00,  -999.00,9, -999.000, -999.000,9,    -9.00,9
  32MB19900222,  P15S,    26,  3,    748,      1,2,19900308,-50.0033,-169.9967, 5340,   5302.9,   0.9690,  34.7080,2,  34.7070,2,    -9.00,9,    0.025,6,    0.014,6,   2260.2,2, -999.000, -999.000,1,-999.0000,-999.0000,1,  -999.00,  -999.00,1, -999.000, -999.000,9,    -9.00,9
  32MB19900222,  P15S,    27,  1,    847,     12,2,19900308,-51.9933,-169.9867, 4981,      6.7,   9.4300,  34.2380,2,  34.2380,2,    13.45,2,    3.596,2,    5.355,4,   2071.9,2, -999.000, -999.000,9,-999.0000,-999.0000,9,  -999.00,  -999.00,9, -999.000, -999.000,9,     2.01,2
  32MB19900222,  P15S,    27,  1,    846,     11,2,19900308,-51.9933,-169.9867, 4981,     19.0,   9.4040,  34.2370,2,  34.2390,2,    13.75,2,    3.704,2,    1.709,3,   2072.2,2, -999.000, -999.000,9,-999.0000,-999.0000,9,  -999.00,  -999.00,9, -999.000, -999.000,9,     1.93,2
  32MB19900222,  P15S,    27,  1,    845,     10,2,19900308,-51.9933,-169.9867, 4981,     47.5,   9.3660,  34.2410,2,  34.2350,2,    13.89,2,    3.661,2,    1.767,2,   2073.0,2, -999.000, -999.000,9,-999.0000,-999.0000,9,  -999.00,  -999.00,9, -999.000, -999.000,9,    -9.00,9
  32MB19900222,  P15S,    27,  1,    844,      9,2,19900308,-51.9933,-169.9867, 4981,     97.3,   8.8860,  34.2160,2,  34.2240,2,    14.99,2,    3.696,2,    1.788,2,   2077.6,2, -999.000, -999.000,9,-999.0000,-999.0000,9,  -999.00,  -999.00,9, -999.000, -999.000,9,     1.84,2
  32MB19900222,  P15S,    27,  1,    843,      8,2,19900308,-51.9933,-169.9867, 4981,    148.7,   7.7240,  34.3500,2,  34.3600,2,    18.69,2,    3.722,2,    1.797,2,   2105.2,2, -999.000, -999.000,9,-999.0000,-999.0000,9,  -999.00,  -999.00,9, -999.000, -999.000,9,     1.55,2
  32MB19900222,  P15S,    27,  1,    842,      7,2,19900308,-51.9933,-169.9867, 4981,    199.1,   7.4650,  34.3480,2,  34.3480,2,    19.20,2,    3.590,6,    1.785,6,   2106.4,2, -999.000, -999.000,9,-999.0000,-999.0000,9,  -999.00,  -999.00,9, -999.000, -999.000,9,     1.51,2
  32MB19900222,  P15S,    27,  1,    841,      6,2,19900308,-51.9933,-169.9867, 4981,    297.9,   7.1460,  34.3460,2,  34.3430,2,    19.86,2,    3.383,2,    1.674,2,   2112.5,2, -999.000, -999.000,9,-999.0000,-999.0000,9,  -999.00,  -999.00,9, -999.000, -999.000,9,     1.51,2
  32MB19900222,  P15S,    27,  1,    852,      5,2,19900308,-51.9933,-169.9867, 4981,    396.5,   6.8930,  34.3530,2,  34.3540,2,    21.68,2,    3.061,2,    1.493,2,   2120.7,2, -999.000, -999.000,9,-999.0000,-999.0000,9,  -999.00,  -999.00,9, -999.000, -999.000,9,     1.49,2
  32MB19900222,  P15S,    27,  1,    851,      4,2,19900308,-51.9933,-169.9867, 4981,    496.8,   6.3990,  34.3310,2,  34.3330,2,    23.86,2,    2.684,2,    1.299,2,   2133.2,2, -999.000, -999.000,9,-999.0000,-999.0000,9,  -999.00,  -999.00,9, -999.000, -999.000,9,     1.35,2
  32MB19900222,  P15S,    27,  1,    850,      3,2,19900308,-51.9933,-169.9867, 4981,    593.9,   5.9170,-999.0000,9,  34.3270,2,    -9.00,9,   -9.000,9,   -9.000,9,     -9.0,9, -999.000, -999.000,9,-999.0000,-999.0000,9,  -999.00,  -999.00,9, -999.000, -999.000,9,    -9.00,9
  32MB19900222,  P15S,    27,  1,    849,      2,2,19900308,-51.9933,-169.9867, 4981,    796.0,   4.7680,  34.3200,2,  34.3230,2,    -9.00,9,    1.453,2,    0.667,2,   2172.9,2, -999.000, -999.000,9,-999.0000,-999.0000,9,  -999.00,  -999.00,9, -999.000, -999.000,9,     0.92,2
  32MB19900222,  P15S,    27,  1,    848,      1,2,19900308,-51.9933,-169.9867, 4981,    996.2,   3.5760,  34.3380,2,  34.3370,2,    -9.00,9,    1.048,2,    0.477,2,   2198.7,2, -999.000, -999.000,9,-999.0000,-999.0000,9,  -999.00,  -999.00,9, -999.000, -999.000,9,     0.52,2