BOTTLE,20081204PRINUNIVRMKPRINUNIVRMK
EXPOCODE,SECT_ID,STNNBR,CASTNO,SAMPNO,BTLNBR,BTLNBR_FLAG_W,DATE,LATITUDE,LONGITUDE,DEPTH,CTDPRS,CTDTMP,CTDSAL,CTDSAL_FLAG_W,SALNTY,SALNTY_FLAG_W,NITRAT,NITRAT_FLAG_W,CFC-11,CFC-11_FLAG_W,CFC-12,CFC-12_FLAG_W,TCARBN,TCARBN_FLAG_W,TRITUM,TRITER,TRITUM_FLAG_W,HELIUM,HELIER,HELIUM_FLAG_W,DELHE3,DELHER,DELHE3_FLAG_W,NEON,NEONE,NEON_FLAG_W,DELC13,DELC13_FLAG_W
,,,,,,,,,,METERS,DBARS,ITS-90,PSS-78,,PSS-78,,UMOL/KG,,PMOL/KG,,PMOL/KG,,UMOL/KG,,TU,TU,,NMOL/KG,NMOL/KG,,PERCNT,PERCNT,,NMOL/KG,NMOL/KG,,O/OO,
  32MB19900222,  P15S,    20,  1,    647,     12,2,19900305,-43.5017,-170.8533, 2904,     28.5,  14.7970,-999.0000,9,  34.6840,2,    -9.00,9,   -9.000,9,   -9.000,9,     -9.0,9, -999.000, -999.000,9,-999.0000,-999.0000,9,  -999.00,  -999.00,9, -999.000, -999.000,9,    -9.00,9
  32MB19900222,  P15S,    20,  1,    646,     11,2,19900305,-43.5017,-170.8533, 2904,   1797.1,   2.6740,  34.5510,2,  34.5540,2,    -9.00,9,    0.185,2,    0.059,3,     -9.0,9, -999.000, -999.000,9,-999.0000,-999.0000,9,  -999.00,  -999.00,9, -999.000, -999.000,9,    -9.00,9
  32MB19900222,  P15S,    20,  1,    645,     10,2,19900305,-43.5017,-170.8533, 2904,   1996.3,   2.4520,  34.6150,2,  34.6180,2,    -9.00,9,    0.107,2,    0.024,3,     -9.0,9, -999.000, -999.000,9,-999.0000,-999.0000,9,  -999.00,  -999.00,9, -999.000, -999.000,9,    -9.00,9
  32MB19900222,  P15S,    20,  1,    644,      9,2,19900305,-43.5017,-170.8533, 2904,   2197.1,   2.2620,  34.6600,2,  34.6660,2,    -9.00,9,    0.037,2,    0.018,2,     -9.0,9, -999.000, -999.000,9,-999.0000,-999.0000,9,  -999.00,  -999.00,9, -999.000, -999.000,9,    -9.00,9
  32MB19900222,  P15S,    20,  1,    643,      8,2,19900305,-43.5017,-170.8533, 2904,   2393.3,   2.1320,  34.7000,2,  34.7070,2,    -9.00,9,    0.032,2,    0.004,2,     -9.0,9, -999.000, -999.000,9,-999.0000,-999.0000,9,  -999.00,  -999.00,9, -999.000, -999.000,9,    -9.00,9
  32MB19900222,  P15S,    20,  1,    642,      7,2,19900305,-43.5017,-170.8533, 2904,   2496.6,   2.0740,  34.7130,2,  34.7170,2,    -9.00,9,    0.034,2,    0.014,2,     -9.0,9, -999.000, -999.000,9,-999.0000,-999.0000,9,  -999.00,  -999.00,9, -999.000, -999.000,9,    -9.00,9
  32MB19900222,  P15S,    20,  1,    641,      6,2,19900305,-43.5017,-170.8533, 2904,   2595.2,   2.0220,  34.7290,2,  34.7280,2,    -9.00,9,    0.027,2,    0.014,2,     -9.0,9, -999.000, -999.000,9,-999.0000,-999.0000,9,  -999.00,  -999.00,9, -999.000, -999.000,9,    -9.00,9
  32MB19900222,  P15S,    20,  1,    651,      4,2,19900305,-43.5017,-170.8533, 2904,   2698.5,   1.8900,  34.7240,2,  34.7280,2,    -9.00,9,    0.021,2,    0.000,2,     -9.0,9, -999.000, -999.000,9,-999.0000,-999.0000,9,  -999.00,  -999.00,9, -999.000, -999.000,9,    -9.00,9
  32MB19900222,  P15S,    20,  1,    650,      3,2,19900305,-43.5017,-170.8533, 2904,   2801.4,   1.7540,  34.7360,2,  34.7390,2,    -9.00,9,    0.019,2,    0.005,2,     -9.0,9, -999.000, -999.000,9,-999.0000,-999.0000,9,  -999.00,  -999.00,9, -999.000, -999.000,9,    -9.00,9
  32MB19900222,  P15S,    20,  1,    649,      2,2,19900305,-43.5017,-170.8533, 2904,   2859.6,   1.6960,  34.7330,2,  34.7380,2,    -9.00,9,    0.016,2,    0.002,2,     -9.0,9, -999.000, -999.000,9,-999.0000,-999.0000,9,  -999.00,  -999.00,9, -999.000, -999.000,9,    -9.00,9
  32MB19900222,  P15S,    20,  1,    648,      1,2,19900305,-43.5017,-170.8533, 2904,   2917.6,   1.6820,  34.7390,2,  34.7400,2,    -9.00,9,    0.009,2,    0.001,2,     -9.0,9, -999.000, -999.000,9,-999.0000,-999.0000,9,  -999.00,  -999.00,9, -999.000, -999.000,9,    -9.00,9
  32MB19900222,  P15S,    21,  1,    747,     12,2,19900306,-43.9850,-170.6933, 4473,   2794.0,   1.9260,  34.7340,2,  34.7330,2,    -9.00,9,    0.013,2,    0.003,2,   2249.5,2, -999.000, -999.000,9,-999.0000,-999.0000,9,  -999.00,  -999.00,9, -999.000, -999.000,9,    -9.00,9
  32MB19900222,  P15S,    21,  1,    746,     11,2,19900306,-43.9850,-170.6933, 4473,   2994.4,   1.7860,  34.7350,2,  34.7380,2,    -9.00,9,    0.008,2,    0.004,2,   2248.9,2, -999.000, -999.000,9,-999.0000,-999.0000,9,  -999.00,  -999.00,9, -999.000, -999.000,9,    -9.00,9
  32MB19900222,  P15S,    21,  1,    745,     10,2,19900306,-43.9850,-170.6933, 4473,   3195.3,   1.5840,  34.7340,2,  34.7370,2,    -9.00,9,    0.014,2,    0.004,2,   2251.8,2, -999.000, -999.000,9,-999.0000,-999.0000,9,  -999.00,  -999.00,9, -999.000, -999.000,9,    -9.00,9
  32MB19900222,  P15S,    21,  1,    744,      9,2,19900306,-43.9850,-170.6933, 4473,   3393.3,   1.4210,  34.7300,2,  34.7340,2,    -9.00,9,    0.005,2,    0.008,2,   2248.6,2, -999.000, -999.000,9,-999.0000,-999.0000,9,  -999.00,  -999.00,9, -999.000, -999.000,9,    -9.00,9
  32MB19900222,  P15S,    21,  1,    743,      8,2,19900306,-43.9850,-170.6933, 4473,   3594.6,   1.2620,  34.7260,2,  34.7280,2,    -9.00,9,    0.011,2,    0.001,2,   2252.9,2, -999.000, -999.000,9,-999.0000,-999.0000,9,  -999.00,  -999.00,9, -999.000, -999.000,9,    -9.00,9
  32MB19900222,  P15S,    21,  1,    742,      7,2,19900306,-43.9850,-170.6933, 4473,   3796.8,   1.1270,  34.7200,2,  34.7220,2,    -9.00,9,    0.017,2,    0.005,2,   2254.6,2, -999.000, -999.000,9,-999.0000,-999.0000,9,  -999.00,  -999.00,9, -999.000, -999.000,9,    -9.00,9
  32MB19900222,  P15S,    21,  1,    741,      6,2,19900306,-43.9850,-170.6933, 4473,   3994.9,   1.0110,  34.7140,2,  34.7180,2,    -9.00,9,    0.024,2,    0.005,2,   2255.8,2, -999.000, -999.000,9,-999.0000,-999.0000,9,  -999.00,  -999.00,9, -999.000, -999.000,9,    -9.00,9
  32MB19900222,  P15S,    21,  1,    751,      4,2,19900306,-43.9850,-170.6933, 4473,   4197.2,   0.9570,-999.0000,9,  34.7140,2,    -9.00,9,    0.030,2,    0.008,2,   2255.4,2, -999.000, -999.000,9,-999.0000,-999.0000,9,  -999.00,  -999.00,9, -999.000, -999.000,9,    -9.00,9
  32MB19900222,  P15S,    21,  1,    750,      3,2,19900306,-43.9850,-170.6933, 4473,   4396.0,   0.9190,  34.7150,2,  34.7110,2,    -9.00,9,    0.031,2,    0.010,2,   2258.0,2, -999.000, -999.000,9,-999.0000,-999.0000,9,  -999.00,  -999.00,9, -999.000, -999.000,9,    -9.00,9
  32MB19900222,  P15S,    21,  1,    749,      2,2,19900306,-43.9850,-170.6933, 4473,   4498.3,   0.9140,  34.7090,2,  34.7110,2,    -9.00,9,    0.033,6,    0.012,6,   2257.1,2, -999.000, -999.000,9,-999.0000,-999.0000,9,  -999.00,  -999.00,9, -999.000, -999.000,9,    -9.00,9
  32MB19900222,  P15S,    21,  1,    748,      1,2,19900306,-43.9850,-170.6933, 4473,   4645.8,   0.9060,  34.7080,2,  34.7090,2,    -9.00,9,    0.037,6,    0.012,6,   2257.2,2, -999.000, -999.000,9,-999.0000,-999.0000,9,  -999.00,  -999.00,9, -999.000, -999.000,9,    -9.00,9
  32MB19900222,  P15S,    22,  1,    847,     12,2,19900306,-44.3700,-170.3283, 5108,   2994.2,   1.7560,  34.7370,2,  34.7410,2,    -9.00,9,    0.008,2,    0.001,2,     -9.0,9, -999.000, -999.000,1,-999.0000,-999.0000,1,  -999.00,  -999.00,1, -999.000, -999.000,9,    -9.00,9
  32MB19900222,  P15S,    22,  1,    846,     11,2,19900306,-44.3700,-170.3283, 5108,   3294.9,   1.5090,  34.7370,2,  34.7370,2,    -9.00,9,    0.004,2,    0.007,2,     -9.0,9, -999.000, -999.000,1,-999.0000,-999.0000,1,  -999.00,  -999.00,1, -999.000, -999.000,9,    -9.00,9
  32MB19900222,  P15S,    22,  1,    845,     10,2,19900306,-44.3700,-170.3283, 5108,   3595.7,   1.3230,  34.7280,2,  34.7290,2,    -9.00,9,    0.002,2,    0.001,2,     -9.0,9, -999.000, -999.000,1,-999.0000,-999.0000,1,  -999.00,  -999.00,1, -999.000, -999.000,9,    -9.00,9
  32MB19900222,  P15S,    22,  1,    844,      9,2,19900306,-44.3700,-170.3283, 5108,   3893.3,   1.1270,  34.7190,2,  34.7220,2,    -9.00,9,    0.006,2,    0.001,2,     -9.0,9, -999.000, -999.000,1,-999.0000,-999.0000,1,  -999.00,  -999.00,1, -999.000, -999.000,9,    -9.00,9
  32MB19900222,  P15S,    22,  1,    843,      8,2,19900306,-44.3700,-170.3283, 5108,   4198.5,   0.9920,  34.7110,2,  34.7150,2,    -9.00,9,    0.014,2,    0.011,2,     -9.0,9, -999.000, -999.000,1,-999.0000,-999.0000,1,  -999.00,  -999.00,1, -999.000, -999.000,9,    -9.00,9
  32MB19900222,  P15S,    22,  1,    842,      7,2,19900306,-44.3700,-170.3283, 5108,   4499.8,   0.9400,  34.7110,2,  34.7120,2,    -9.00,9,    0.017,2,    0.008,2,     -9.0,9, -999.000, -999.000,1,-999.0000,-999.0000,1,  -999.00,  -999.00,1, -999.000, -999.000,9,    -9.00,9
  32MB19900222,  P15S,    22,  1,    841,      6,2,19900306,-44.3700,-170.3283, 5108,   4696.9,   0.9300,  34.7060,2,  34.7100,2,    -9.00,9,    0.032,3,    0.007,2,     -9.0,9, -999.000, -999.000,1,-999.0000,-999.0000,1,  -999.00,  -999.00,1, -999.000, -999.000,9,    -9.00,9
  32MB19900222,  P15S,    22,  1,    851,      4,2,19900306,-44.3700,-170.3283, 5108,   4897.1,   0.9330,  34.7120,2,  34.7090,2,    -9.00,9,    0.022,2,    0.007,2,     -9.0,9, -999.000, -999.000,1,-999.0000,-999.0000,1,  -999.00,  -999.00,1, -999.000, -999.000,9,    -9.00,9
  32MB19900222,  P15S,    22,  1,    850,      3,2,19900306,-44.3700,-170.3283, 5108,   4998.0,   0.9370,  34.7050,2,  34.7080,2,    -9.00,9,    0.029,2,    0.011,2,     -9.0,9, -999.000, -999.000,1,-999.0000,-999.0000,1,  -999.00,  -999.00,1, -999.000, -999.000,9,    -9.00,9
  32MB19900222,  P15S,    22,  1,    849,      2,2,19900306,-44.3700,-170.3283, 5108,   5098.9,   0.9450,  34.7030,2,  34.7080,2,    -9.00,9,    0.030,6,    0.007,6,     -9.0,9, -999.000, -999.000,1,-999.0000,-999.0000,1,  -999.00,  -999.00,1, -999.000, -999.000,9,    -9.00,9
  32MB19900222,  P15S,    22,  1,    848,      1,2,19900306,-44.3700,-170.3283, 5108,   5183.7,   0.9520,  34.7030,2,  34.7090,2,    -9.00,9,    0.032,6,    0.014,6,     -9.0,9, -999.000, -999.000,1,-999.0000,-999.0000,1,  -999.00,  -999.00,1, -999.000, -999.000,9,    -9.00,9
  32MB19900222,  P15S,    23,  1,    947,     12,2,19900306,-45.9767,-170.0117, 5225,      4.3,  14.6900,  34.7040,2,  34.7070,2,     1.41,2,    2.928,2,    1.721,4,   2031.1,2,    0.599,    0.005,2,   1.7680,   0.0090,2,    -1.23,     0.15,2,    7.300,    0.036,2,     2.14,2
  32MB19900222,  P15S,    23,  1,    946,     11,2,19900306,-45.9767,-170.0117, 5225,     19.8,  14.6840,-999.0000,9,  34.7060,2,     1.41,2,    2.968,2,    1.367,3,   2030.5,2, -999.000, -999.000,9,-999.0000,-999.0000,9,  -999.00,  -999.00,9, -999.000, -999.000,9,     2.29,2
  32MB19900222,  P15S,    23,  1,    945,     10,2,19900306,-45.9767,-170.0117, 5225,     29.9,  14.4230,-999.0000,9,  34.7160,2,    -9.00,9,   -9.000,9,   -9.000,9,     -9.0,9, -999.000, -999.000,9,-999.0000,-999.0000,9,  -999.00,  -999.00,9, -999.000, -999.000,9,    -9.00,9
  32MB19900222,  P15S,    23,  1,    944,      9,2,19900306,-45.9767,-170.0117, 5225,     38.4,  14.3770,  34.7170,2,  34.7180,2,     1.61,2,    2.969,2,    1.362,3,   2035.3,2, -999.000, -999.000,9,   1.7590,   0.0090,2,    -1.35,     0.15,2,    7.280,    0.036,2,     2.07,2
  32MB19900222,  P15S,    23,  1,    943,      8,2,19900306,-45.9767,-170.0117, 5225,     70.0,  13.9340,  34.7120,2,  34.7260,2,     2.53,2,    2.830,2,    1.371,2,   2042.4,2, -999.000, -999.000,9,-999.0000,-999.0000,9,  -999.00,  -999.00,9, -999.000, -999.000,9,     1.98,2
  32MB19900222,  P15S,    23,  1,    942,      7,2,19900306,-45.9767,-170.0117, 5225,     97.9,  11.6470,  34.8540,2,  34.8470,2,     4.64,2,    3.110,2,    1.551,2,   2080.5,2,    0.607,    0.007,2,   1.7780,   0.0090,2,    -1.58,     0.15,2,    7.437,    0.036,2,     1.44,2
  32MB19900222,  P15S,    23,  1,    941,      6,2,19900306,-45.9767,-170.0117, 5225,    123.3,  11.2230,  34.8520,2,  34.8540,2,     9.21,2,    3.078,6,    1.531,6,     -9.0,9, -999.000, -999.000,9,-999.0000,-999.0000,9,  -999.00,  -999.00,9, -999.000, -999.000,9,    -9.00,9
  32MB19900222,  P15S,    23,  1,    952,      5,2,19900306,-45.9767,-170.0117, 5225,    148.3,  10.8080,  34.7950,2,  34.7970,2,     9.91,2,    2.975,2,    1.457,2,   2086.0,2, -999.000, -999.000,9,-999.0000,-999.0000,9,  -999.00,  -999.00,9, -999.000, -999.000,9,    -9.00,9
  32MB19900222,  P15S,    23,  1,    951,      4,2,19900306,-45.9767,-170.0117, 5225,    198.0,  10.0370,  34.6920,2,  34.6940,2,    12.66,2,    2.975,2,    1.513,2,   2095.9,2,    0.512,    0.005,2,   1.7860,   0.0090,2,    -1.24,     0.15,2,    7.545,    0.037,2,    -9.00,9
  32MB19900222,  P15S,    23,  1,    950,      3,2,19900306,-45.9767,-170.0117, 5225,    248.2,   9.4090,  34.6330,2,  34.6340,2,    13.15,2,    3.206,2,    1.592,2,   2097.4,2, -999.000, -999.000,9,-999.0000,-999.0000,9,  -999.00,  -999.00,9, -999.000, -999.000,9,    -9.00,9
  32MB19900222,  P15S,    23,  1,    949,      2,2,19900306,-45.9767,-170.0117, 5225,    299.2,   9.0370,  34.6090,2,  34.6160,2,    15.82,2,    2.888,6,    1.396,6,   2110.0,2,    0.480,    0.004,2,   1.8260,   0.0090,2,    -0.83,     0.15,2,    7.741,    0.038,2,    -9.00,9
  32MB19900222,  P15S,    23,  1,    948,      1,2,19900306,-45.9767,-170.0117, 5225,    348.6,   8.7070,  34.5780,2,  34.5820,2,    16.80,2,    2.757,2,    1.333,2,   2114.5,2, -999.000, -999.000,9,-999.0000,-999.0000,9,  -999.00,  -999.00,9, -999.000, -999.000,9,    -9.00,9
  32MB19900222,  P15S,    23,  2,     47,     12,2,19900306,-45.9767,-170.0117, 5225,    398.2,   8.2440,  34.5220,2,  34.5190,2,    17.22,2,    2.656,2,    1.288,2,   2113.2,2,    0.336,    0.003,2,   1.7900,   0.0090,2,    -0.72,     0.15,2,    7.625,    0.037,2,     1.41,2
  32MB19900222,  P15S,    23,  2,     46,     11,2,19900306,-45.9767,-170.0117, 5225,    447.2,   8.0030,  34.4940,2,  34.4950,2,    18.42,2,    2.664,2,    1.336,2,     -9.0,9, -999.000, -999.000,9,-999.0000,-999.0000,9,  -999.00,  -999.00,9, -999.000, -999.000,9,    -9.00,9
  32MB19900222,  P15S,    23,  2,     45,     10,2,19900306,-45.9767,-170.0117, 5225,    497.2,   7.7850,  34.4760,2,  34.4790,2,    19.54,2,    2.577,2,    1.258,2,   2118.1,2,    0.345,    0.003,2,   1.7980,   0.0090,2,    -0.37,     0.15,2,    7.660,    0.038,2,     1.37,2
  32MB19900222,  P15S,    23,  2,     44,      9,2,19900306,-45.9767,-170.0117, 5225,    597.9,   7.4450,  34.4440,2,  34.4450,2,    21.66,2,    2.369,2,    1.162,2,   2123.0,2,    0.275,    0.002,2,   1.7950,   0.0090,2,    -0.16,     0.15,2,    7.674,    0.038,2,     1.38,2
  32MB19900222,  P15S,    23,  2,     43,      8,2,19900306,-45.9767,-170.0117, 5225,    695.8,   7.1680,  34.4240,2,  34.4260,2,    22.63,2,    1.986,2,    0.983,2,   2124.6,2,    0.274,    0.003,2,   1.8010,   0.0090,2,     0.18,     0.15,2,    7.699,    0.038,2,    -9.00,9
  32MB19900222,  P15S,    23,  2,     42,      7,2,19900306,-45.9767,-170.0117, 5225,    794.5,   6.7640,  34.4040,2,  34.4010,2,    24.41,2,    1.576,2,    0.704,2,   2134.3,2,    0.185,    0.002,2,   1.7990,   0.0090,2,     0.73,     0.15,2,    7.713,    0.038,2,     1.31,2
  32MB19900222,  P15S,    23,  2,     41,      6,2,19900306,-45.9767,-170.0117, 5225,    893.3,   6.2880,  34.3750,2,  34.3780,2,    25.98,2,    1.263,2,    0.606,2,     -9.0,9,    0.162,    0.002,2,   1.8090,   0.0090,2,     1.28,     0.15,2,    7.747,    0.038,2,    -9.00,9
  32MB19900222,  P15S,    23,  2,     52,      5,2,19900306,-45.9767,-170.0117, 5225,    994.2,   5.7160,  34.3560,2,  34.3610,2,    27.99,2,    1.071,2,    0.537,2,   2156.6,2, -999.000, -999.000,9,   1.8140,   0.0090,2,     2.25,     0.15,2,    7.777,    0.038,2,     1.52,2
  32MB19900222,  P15S,    23,  2,     51,      4,2,19900306,-45.9767,-170.0117, 5225,   1094.7,   5.1530,  34.3830,2,  34.3580,2,    -9.00,9,    0.880,2,    0.402,2,     -9.0,9, -999.000, -999.000,9,-999.0000,-999.0000,9,  -999.00,  -999.00,9, -999.000, -999.000,9,     1.48,2
  32MB19900222,  P15S,    23,  2,     50,      3,2,19900306,-45.9767,-170.0117, 5225,   1243.4,   4.3310,  34.3620,2,  34.3680,2,    -9.00,9,    0.530,6,    0.245,2,   2190.6,2,    0.046,    0.001,2,   1.8310,   0.0090,2,     4.90,     0.15,2,    7.912,    0.039,2,     1.52,2
  32MB19900222,  P15S,    23,  2,     49,      2,2,19900306,-45.9767,-170.0117, 5225,   1494.9,   3.4480,  34.4370,2,  34.4440,2,    -9.00,9,    0.228,2,    0.097,2,   2222.7,2,    0.043,    0.003,2,   1.8750,   0.0090,2,     8.31,     0.15,2,    8.052,    0.039,2,     1.41,2
  32MB19900222,  P15S,    23,  2,     48,      1,2,19900306,-45.9767,-170.0117, 5225,   1744.9,   2.8960,  34.5140,2,  34.5250,2,    -9.00,9,    0.157,6,    0.043,3,     -9.0,9, -999.000, -999.000,9,-999.0000,-999.0000,9,  -999.00,  -999.00,9, -999.000, -999.000,9,    -9.00,9
  32MB19900222,  P15S,    23,  3,    147,     12,2,19900306,-45.9767,-170.0117, 5225,   1995.5,   2.5760,  34.5910,2,  34.5900,2,    -9.00,9,    0.075,2,    0.023,2,   2259.7,2, -999.000, -999.000,1,-999.0000,-999.0000,1,  -999.00,  -999.00,1, -999.000, -999.000,9,     0.56,2
  32MB19900222,  P15S,    23,  3,    146,     11,2,19900306,-45.9767,-170.0117, 5225,   2496.2,   2.1890,  34.6860,2,  34.6880,2,    -9.00,9,    0.025,2,    0.003,2,   2261.2,2, -999.000, -999.000,1,-999.0000,-999.0000,1,  -999.00,  -999.00,1, -999.000, -999.000,9,     0.41,2
  32MB19900222,  P15S,    23,  3,    145,     10,2,19900306,-45.9767,-170.0117, 5225,   2993.0,   1.8870,  34.7300,2,  34.7380,2,    -9.00,9,    0.017,2,    0.001,2,   2244.1,3, -999.000, -999.000,1,-999.0000,-999.0000,1,  -999.00,  -999.00,1, -999.000, -999.000,9,     0.48,2
  32MB19900222,  P15S,    23,  3,    144,      9,2,19900306,-45.9767,-170.0117, 5225,   3495.9,   1.4970,  34.7280,2,  34.7340,2,    -9.00,9,    0.018,2,    0.001,2,   2249.8,2, -999.000, -999.000,1,-999.0000,-999.0000,1,  -999.00,  -999.00,1, -999.000, -999.000,9,    -9.00,9
  32MB19900222,  P15S,    23,  3,    143,      8,2,19900306,-45.9767,-170.0117, 5225,   3998.6,   1.1650,  34.7180,2,  34.7210,2,    -9.00,9,    0.020,2,    0.001,2,   2252.0,2, -999.000, -999.000,1,-999.0000,-999.0000,1,  -999.00,  -999.00,1, -999.000, -999.000,9,     0.44,2
  32MB19900222,  P15S,    23,  3,    142,      7,2,19900306,-45.9767,-170.0117, 5225,   4400.2,   0.9870,  34.7100,2,  34.7110,2,    -9.00,9,    0.029,2,    0.003,2,   2252.2,2, -999.000, -999.000,1,-999.0000,-999.0000,1,  -999.00,  -999.00,1, -999.000, -999.000,9,    -9.00,9
  32MB19900222,  P15S,    23,  3,    141,      6,2,19900306,-45.9767,-170.0117, 5225,   4800.3,   0.9460,  34.7060,2,  34.7080,2,    -9.00,9,    0.049,3,    0.005,2,   2255.1,2, -999.000, -999.000,1,-999.0000,-999.0000,1,  -999.00,  -999.00,1, -999.000, -999.000,9,    -9.00,9
  32MB19900222,  P15S,    23,  3,    151,      4,2,19900306,-45.9767,-170.0117, 5225,   5000.9,   0.9470,  34.7050,2,  34.7070,2,    -9.00,9,    0.028,2,    0.011,2,   2253.7,2, -999.000, -999.000,1,-999.0000,-999.0000,1,  -999.00,  -999.00,1, -999.000, -999.000,9,     0.45,2
  32MB19900222,  P15S,    23,  3,    150,      3,2,19900306,-45.9767,-170.0117, 5225,   5100.7,   0.9480,  34.7050,2,  34.7070,2,    -9.00,9,    0.032,2,    0.008,2,   2255.0,2, -999.000, -999.000,1,-999.0000,-999.0000,1,  -999.00,  -999.00,1, -999.000, -999.000,9,     0.81,2
  32MB19900222,  P15S,    23,  3,    149,      2,2,19900306,-45.9767,-170.0117, 5225,   5199.5,   0.9490,  34.6980,2,  34.7070,2,    -9.00,9,    0.037,2,    0.011,2,   2255.5,2, -999.000, -999.000,1,-999.0000,-999.0000,1,  -999.00,  -999.00,1, -999.000, -999.000,9,     0.68,2
  32MB19900222,  P15S,    23,  3,    148,      1,2,19900306,-45.9767,-170.0117, 5225,   5272.9,   0.9550,  34.7060,2,  34.7070,2,    -9.00,9,    0.039,6,    0.011,6,   2255.6,2, -999.000, -999.000,1,-999.0000,-999.0000,1,  -999.00,  -999.00,1, -999.000, -999.000,9,     0.45,2
  32MB19900222,  P15S,    24,  1,    249,      2,2,19900307,-47.0067,-170.0133, 5252,   2992.9,   1.8750,  34.7360,2,  34.7400,2,    -9.00,9,    0.012,6,    0.003,6,     -9.0,9, -999.000, -999.000,9,-999.0000,-999.0000,9,  -999.00,  -999.00,9, -999.000, -999.000,9,    -9.00,9
  32MB19900222,  P15S,    24,  1,    248,      1,2,19900307,-47.0067,-170.0133, 5252,   2994.6,   1.8760,  34.7350,2,  34.7390,2,    -9.00,9,    0.020,6,    0.003,6,     -9.0,9, -999.000, -999.000,9,-999.0000,-999.0000,9,  -999.00,  -999.00,9, -999.000, -999.000,9,    -9.00,9