BOTTLE,20081204PRINUNIVRMKPRINUNIVRMK
EXPOCODE,SECT_ID,STNNBR,CASTNO,SAMPNO,BTLNBR,BTLNBR_FLAG_W,DATE,LATITUDE,LONGITUDE,DEPTH,CTDPRS,CTDTMP,CTDSAL,CTDSAL_FLAG_W,SALNTY,SALNTY_FLAG_W,NITRAT,NITRAT_FLAG_W,CFC-11,CFC-11_FLAG_W,CFC-12,CFC-12_FLAG_W,TCARBN,TCARBN_FLAG_W,TRITUM,TRITER,TRITUM_FLAG_W,HELIUM,HELIER,HELIUM_FLAG_W,DELHE3,DELHER,DELHE3_FLAG_W,NEON,NEONE,NEON_FLAG_W,DELC13,DELC13_FLAG_W
,,,,,,,,,,METERS,DBARS,ITS-90,PSS-78,,PSS-78,,UMOL/KG,,PMOL/KG,,PMOL/KG,,UMOL/KG,,TU,TU,,NMOL/KG,NMOL/KG,,PERCNT,PERCNT,,NMOL/KG,NMOL/KG,,O/OO,
  32MB19900222,  P15S,    12,  2,     52,     12,2,19900301,-32.5167,-169.9983, 5588,    397.3,   9.5420,  34.6920,2,  34.6910,2,    16.24,2,    1.679,2,    0.813,2,   2125.6,2,    0.405,    0.004,2,-999.0000,-999.0000,9,  -999.00,  -999.00,9, -999.000, -999.000,9,    -9.00,9
  32MB19900222,  P15S,    12,  2,     51,     11,2,19900301,-32.5167,-169.9983, 5588,    446.1,   8.8210,  34.6130,2,  34.6090,2,    18.07,2,    1.494,2,    0.740,2,     -9.0,9, -999.000, -999.000,9,-999.0000,-999.0000,9,  -999.00,  -999.00,9, -999.000, -999.000,9,    -9.00,9
  32MB19900222,  P15S,    12,  2,     50,     10,2,19900301,-32.5167,-169.9983, 5588,    498.1,   8.1710,  34.5440,2,  34.5350,2,    19.15,2,    1.286,2,    0.626,2,   2129.2,2,    0.322,    0.004,2,   1.7970,   0.0090,2,     0.60,     0.15,2,    7.491,    0.037,2,    -9.00,9
  32MB19900222,  P15S,    12,  2,     49,      9,2,19900301,-32.5167,-169.9983, 5588,    547.6,   7.7840,  34.5030,2,  34.4980,2,    20.92,2,    1.205,2,    0.594,2,   2133.9,2, -999.000, -999.000,9,-999.0000,-999.0000,9,  -999.00,  -999.00,9, -999.000, -999.000,9,    -9.00,9
  32MB19900222,  P15S,    12,  2,     48,      8,2,19900301,-32.5167,-169.9983, 5588,    595.7,   7.4780,  34.4720,2,  34.4700,2,    21.63,2,    1.006,2,    0.490,2,   2141.3,2,    0.262,    0.004,2,   1.7940,   0.0090,2,     0.41,     0.15,2,    7.538,    0.037,2,    -9.00,9
  32MB19900222,  P15S,    12,  2,     47,      7,2,19900301,-32.5167,-169.9983, 5588,    697.8,   6.8700,  34.4200,2,  34.4190,2,    23.58,2,    0.672,2,    0.334,2,   2146.7,2,    0.192,    0.003,2,   1.8120,   0.0090,2,     1.03,     0.15,2,    7.563,    0.037,2,    -9.00,9
  32MB19900222,  P15S,    12,  2,     46,      6,2,19900301,-32.5167,-169.9983, 5588,    795.6,   6.2920,  34.3720,2,  34.3730,2,    27.10,2,    0.365,2,    0.176,2,   2161.5,2,    0.117,    0.003,2,   1.8030,   0.0090,2,     0.81,     0.15,2,    7.572,    0.037,2,    -9.00,9
  32MB19900222,  P15S,    12,  2,     45,      5,2,19900301,-32.5167,-169.9983, 5588,    894.8,   5.7730,  34.3580,2,  34.3570,2,    -9.00,9,   -9.000,9,   -9.000,9,     -9.0,9,    0.072,    0.003,2,-999.0000,-999.0000,9,  -999.00,  -999.00,9, -999.000, -999.000,9,    -9.00,9
  32MB19900222,  P15S,    12,  2,     44,      4,2,19900301,-32.5167,-169.9983, 5588,    996.1,   5.1070,  34.3520,2,  34.3500,2,    29.18,2,    0.112,2,    0.054,2,     -9.0,9,    0.036,    0.002,2,   1.8080,   0.0090,2,     2.52,     0.15,2,    7.543,    0.037,2,    -9.00,9
  32MB19900222,  P15S,    12,  2,     43,      3,2,19900301,-32.5167,-169.9983, 5588,   1094.1,   4.5680,  34.3560,2,  34.3570,2,    -9.00,9,    0.025,2,    0.005,2,     -9.0,9, -999.000, -999.000,9,-999.0000,-999.0000,9,  -999.00,  -999.00,9, -999.000, -999.000,9,    -9.00,9
  32MB19900222,  P15S,    12,  2,     42,      2,2,19900301,-32.5167,-169.9983, 5588,   1244.0,   3.7660,  34.4050,2,  34.4050,2,    -9.00,9,    0.028,3,    0.003,2,   2217.6,2,    0.013,    0.002,2,   1.8520,   0.0090,2,     6.33,     0.15,2,    7.742,    0.038,2,    -9.00,9
  32MB19900222,  P15S,    12,  2,     41,      1,2,19900301,-32.5167,-169.9983, 5588,   1497.4,   2.9270,  34.5210,2,  34.5220,2,    -9.00,9,    0.029,3,    0.002,6,   2255.3,3,    0.010,    0.002,2,   1.8700,   0.0090,2,    12.70,     0.15,2,    7.778,    0.038,2,    -9.00,9
  32MB19900222,  P15S,    12,  3,    152,     12,2,19900301,-32.5167,-169.9983, 5588,   1741.6,   2.5760,  34.5870,2,  34.5880,2,    -9.00,9,    0.009,4,    0.000,2,   2280.0,3, -999.000, -999.000,9,-999.0000,-999.0000,9,  -999.00,  -999.00,9, -999.000, -999.000,9,    -9.00,9
  32MB19900222,  P15S,    12,  3,    151,     11,2,19900301,-32.5167,-169.9983, 5588,   1742.7,   2.5750,  34.5870,2,  34.5890,2,    -9.00,9,   -0.007,2,   -0.001,2,     -9.0,9, -999.000, -999.000,9,-999.0000,-999.0000,9,  -999.00,  -999.00,9, -999.000, -999.000,9,    -9.00,9
  32MB19900222,  P15S,    12,  3,    150,     10,2,19900301,-32.5167,-169.9983, 5588,   1992.6,   2.3390,  34.6210,2,  34.6220,2,    -9.00,9,   -0.003,2,    0.000,2,   2297.1,3, -999.000, -999.000,9,-999.0000,-999.0000,9,  -999.00,  -999.00,9, -999.000, -999.000,9,    -9.00,9
  32MB19900222,  P15S,    12,  3,    149,      9,2,19900301,-32.5167,-169.9983, 5588,   2293.5,   2.1400,  34.6420,2,  34.6420,2,    -9.00,9,   -0.005,2,    0.000,2,     -9.0,9, -999.000, -999.000,9,-999.0000,-999.0000,9,  -999.00,  -999.00,9, -999.000, -999.000,9,    -9.00,9
  32MB19900222,  P15S,    12,  3,    148,      8,2,19900301,-32.5167,-169.9983, 5588,   2592.4,   1.9790,  34.6600,2,  34.6570,2,    -9.00,9,   -0.004,2,    0.000,2,   2316.7,3, -999.000, -999.000,9,-999.0000,-999.0000,9,  -999.00,  -999.00,9, -999.000, -999.000,9,    -9.00,9
  32MB19900222,  P15S,    12,  3,    147,      7,2,19900301,-32.5167,-169.9983, 5588,   2895.3,   1.8420,  34.6700,2,  34.6720,2,    -9.00,9,   -0.008,2,    0.000,2,   2314.6,3, -999.000, -999.000,9,-999.0000,-999.0000,9,  -999.00,  -999.00,9, -999.000, -999.000,9,    -9.00,9
  32MB19900222,  P15S,    12,  3,    146,      6,2,19900301,-32.5167,-169.9983, 5588,   3191.0,   1.7250,  34.6910,2,  34.6920,2,    -9.00,9,    0.000,2,    0.000,6,     -9.0,9, -999.000, -999.000,9,-999.0000,-999.0000,9,  -999.00,  -999.00,9, -999.000, -999.000,9,    -9.00,9
  32MB19900222,  P15S,    12,  3,    145,      5,2,19900301,-32.5167,-169.9983, 5588,   3495.5,   1.5950,  34.7150,2,  34.7140,2,    -9.00,9,   -0.009,2,    0.000,2,   2277.1,2, -999.000, -999.000,9,-999.0000,-999.0000,9,  -999.00,  -999.00,9, -999.000, -999.000,9,    -9.00,9
  32MB19900222,  P15S,    12,  3,    144,      4,2,19900301,-32.5167,-169.9983, 5588,   3996.7,   1.2670,  34.7230,2,  34.7210,2,    -9.00,9,    0.001,2,    0.000,6,   2264.0,3, -999.000, -999.000,9,-999.0000,-999.0000,9,  -999.00,  -999.00,9, -999.000, -999.000,9,    -9.00,9
  32MB19900222,  P15S,    12,  3,    143,      3,2,19900301,-32.5167,-169.9983, 5588,   4497.4,   1.0230,  34.7130,2,  34.7120,2,    -9.00,9,    0.011,6,    0.003,6,   2265.0,3, -999.000, -999.000,9,-999.0000,-999.0000,9,  -999.00,  -999.00,9, -999.000, -999.000,9,    -9.00,9
  32MB19900222,  P15S,    12,  3,    142,      2,2,19900301,-32.5167,-169.9983, 5588,   4997.9,   1.0120,  34.7110,2,  34.7100,2,    -9.00,9,    0.003,2,    0.001,6,   2265.8,3, -999.000, -999.000,9,-999.0000,-999.0000,9,  -999.00,  -999.00,9, -999.000, -999.000,9,    -9.00,9
  32MB19900222,  P15S,    12,  3,    141,      1,2,19900301,-32.5167,-169.9983, 5588,   5297.7,   1.0370,  34.7090,2,  34.7090,2,    -9.00,9,    0.004,2,    0.001,6,   2265.1,3, -999.000, -999.000,9,-999.0000,-999.0000,9,  -999.00,  -999.00,9, -999.000, -999.000,9,    -9.00,9
  32MB19900222,  P15S,    13,  1,    252,     12,2,19900302,-35.0333,-170.0550, 5172,      4.4,  20.7410,  35.3510,2,  35.3540,2,     0.39,2,    2.122,2,    5.195,4,   2028.4,2,    0.792,    0.006,2,   1.7410,   0.0090,2,    -1.28,     0.15,2,    6.815,    0.033,2,     1.78,2
  32MB19900222,  P15S,    13,  1,    251,     11,2,19900302,-35.0333,-170.0550, 5172,     19.0,  20.7390,  35.3550,2,  35.3570,2,     0.39,2,    2.175,2,    1.103,2,   2028.3,2,    0.840,    0.006,2,   1.7340,   0.0080,2,    -1.35,     0.15,2,    6.724,    0.033,2,    -9.00,9
  32MB19900222,  P15S,    13,  1,    250,     10,2,19900302,-35.0333,-170.0550, 5172,     38.6,  20.6970,  35.3780,2,  35.3800,2,     0.39,2,    2.108,2,    1.081,2,   2029.0,2,    0.837,    0.006,2,   1.7450,   0.0090,2,    -1.74,     0.15,2,    6.780,    0.033,2,    -9.00,9
  32MB19900222,  P15S,    13,  1,    249,      9,2,19900302,-35.0333,-170.0550, 5172,     68.5,  17.9080,  35.3840,2,  35.3870,2,     0.39,2,    2.487,6,    1.254,6,   2027.2,2, -999.000, -999.000,9,-999.0000,-999.0000,9,  -999.00,  -999.00,9, -999.000, -999.000,9,    -9.00,9
  32MB19900222,  P15S,    13,  1,    248,      8,2,19900302,-35.0333,-170.0550, 5172,     98.1,  15.4850,  35.3820,2,  35.3860,2,     0.39,2,    2.506,2,    1.350,2,   2047.0,2,    0.757,    0.005,2,-999.0000,-999.0000,9,  -999.00,  -999.00,9, -999.000, -999.000,9,    -9.00,9
  32MB19900222,  P15S,    13,  1,    247,      7,2,19900302,-35.0333,-170.0550, 5172,    119.8,  14.8080,  35.3250,2,  35.3230,2,     0.39,2,    2.664,2,    1.272,2,     -9.0,9, -999.000, -999.000,9,-999.0000,-999.0000,9,  -999.00,  -999.00,9, -999.000, -999.000,9,    -9.00,9
  32MB19900222,  P15S,    13,  1,    246,      6,2,19900302,-35.0333,-170.0550, 5172,    148.0,  14.0200,  35.2410,2,  35.2380,2,     4.38,2,    2.536,2,    1.219,2,   2070.7,2, -999.000, -999.000,9,-999.0000,-999.0000,9,  -999.00,  -999.00,9, -999.000, -999.000,9,    -9.00,9
  32MB19900222,  P15S,    13,  1,    245,      5,2,19900302,-35.0333,-170.0550, 5172,    173.9,  13.0270,  35.1060,2,  35.0930,2,     6.71,2,    2.499,2,    1.207,2,     -9.0,9, -999.000, -999.000,9,-999.0000,-999.0000,9,  -999.00,  -999.00,9, -999.000, -999.000,9,    -9.00,9
  32MB19900222,  P15S,    13,  1,    244,      4,2,19900302,-35.0333,-170.0550, 5172,    197.8,  12.4840,  35.0410,2,  35.0420,2,    -9.00,9,   -9.000,9,   -9.000,9,     -9.0,9,    0.601,    0.005,2,-999.0000,-999.0000,9,  -999.00,  -999.00,9, -999.000, -999.000,9,    -9.00,9
  32MB19900222,  P15S,    13,  1,    243,      3,2,19900302,-35.0333,-170.0550, 5172,    247.5,  11.5050,  34.9190,2,  34.9260,2,    10.46,2,    2.679,2,    1.316,2,   2095.8,2, -999.000, -999.000,9,-999.0000,-999.0000,9,  -999.00,  -999.00,9, -999.000, -999.000,9,    -9.00,9
  32MB19900222,  P15S,    13,  1,    242,      2,2,19900302,-35.0333,-170.0550, 5172,    299.3,  10.5110,  34.7970,2,  34.8000,2,    13.99,2,    2.346,6,    1.179,6,   2109.1,2,    0.463,    0.004,2,-999.0000,-999.0000,9,  -999.00,  -999.00,9, -999.000, -999.000,9,    -9.00,9
  32MB19900222,  P15S,    13,  1,    241,      1,2,19900302,-35.0333,-170.0550, 5172,    348.0,   9.4710,  34.6600,2,  34.6660,2,    16.92,2,    2.315,6,    1.122,6,     -9.0,9, -999.000, -999.000,9,-999.0000,-999.0000,9,  -999.00,  -999.00,9, -999.000, -999.000,9,    -9.00,9
  32MB19900222,  P15S,    13,  2,    352,     12,2,19900302,-35.0333,-170.0550, 5172,     28.7,  20.6630,-999.0000,9,  35.3820,2,    -9.00,9,   -9.000,9,   -9.000,9,     -9.0,9, -999.000, -999.000,9,-999.0000,-999.0000,9,  -999.00,  -999.00,9, -999.000, -999.000,9,    -9.00,9
  32MB19900222,  P15S,    13,  2,    351,     11,2,19900302,-35.0333,-170.0550, 5172,    396.7,   8.7880,  34.5970,2,  34.5990,2,    18.30,2,    1.910,2,    0.920,2,   2122.8,2,    0.394,    0.004,2,   1.8030,   0.0090,2,     0.58,     0.15,2,    7.459,    0.037,2,    -9.00,9
  32MB19900222,  P15S,    13,  2,    350,     10,2,19900302,-35.0333,-170.0550, 5172,    446.4,   8.3180,  34.5500,2,  34.5500,2,    20.35,2,    1.747,2,    0.841,2,     -9.0,9, -999.000, -999.000,9,-999.0000,-999.0000,9,  -999.00,  -999.00,9, -999.000, -999.000,9,    -9.00,9
  32MB19900222,  P15S,    13,  2,    349,      9,2,19900302,-35.0333,-170.0550, 5172,    496.5,   7.8790,  34.5090,2,  34.5110,2,    21.27,2,    1.445,2,    0.737,2,   2128.8,2,    0.331,    0.004,2,   1.8030,   0.0090,2,     0.81,     0.15,2,    7.499,    0.037,2,    -9.00,9
  32MB19900222,  P15S,    13,  2,    348,      8,2,19900302,-35.0333,-170.0550, 5172,    595.7,   7.3250,  34.4520,2,  34.4550,2,    22.26,2,    1.076,2,    0.560,2,   2131.0,2,    0.281,    0.004,2,   1.7960,   0.0090,2,     0.79,     0.15,2,    7.497,    0.037,2,    -9.00,9
  32MB19900222,  P15S,    13,  2,    347,      7,2,19900302,-35.0333,-170.0550, 5172,    695.3,   6.7930,  34.4060,2,  34.4060,2,    23.95,2,    0.727,2,    0.353,2,   2135.6,2,    0.193,    0.003,2,   1.8010,   0.0090,2,     0.83,     0.15,2,    7.528,    0.037,2,    -9.00,9
  32MB19900222,  P15S,    13,  2,    346,      6,2,19900302,-35.0333,-170.0550, 5172,    797.4,   6.3530,  34.3760,2,  34.3760,2,    25.72,2,    0.470,2,    0.221,2,   2143.8,2,    0.144,    0.003,2,   1.8080,   0.0090,2,     1.23,     0.15,2,    7.574,    0.037,2,    -9.00,9
  32MB19900222,  P15S,    13,  2,    345,      5,2,19900302,-35.0333,-170.0550, 5172,    892.9,   5.7620,  34.3580,2,  34.3600,2,    27.78,2,    0.277,2,    0.135,2,   2157.4,2,    0.088,    0.003,2,   1.8170,   0.0090,2,     1.89,     0.15,2,    7.604,    0.037,2,    -9.00,9
  32MB19900222,  P15S,    13,  2,    344,      4,2,19900302,-35.0333,-170.0550, 5172,    995.9,   5.0990,  34.3580,2,  34.3620,2,    -9.00,9,    0.155,2,    0.082,2,   2173.9,2,    0.060,    0.002,2,   1.8170,   0.0090,2,     3.39,     0.15,2,    7.637,    0.037,2,    -9.00,9
  32MB19900222,  P15S,    13,  2,    343,      3,2,19900302,-35.0333,-170.0550, 5172,   1095.2,   4.4680,  34.3630,2,  34.3630,2,    -9.00,9,   -9.000,9,   -9.000,9,     -9.0,9, -999.000, -999.000,9,-999.0000,-999.0000,9,  -999.00,  -999.00,9, -999.000, -999.000,9,    -9.00,9
  32MB19900222,  P15S,    13,  2,    342,      2,2,19900302,-35.0333,-170.0550, 5172,   1244.2,   3.7590,  34.3970,2,  34.4020,2,    -9.00,9,    0.014,2,    0.006,2,   2210.5,2,    0.018,    0.002,2,-999.0000,-999.0000,9,  -999.00,  -999.00,9, -999.000, -999.000,9,    -9.00,9
  32MB19900222,  P15S,    13,  2,    341,      1,2,19900302,-35.0333,-170.0550, 5172,   1496.1,   3.0000,  34.5070,2,  34.5080,2,    -9.00,9,    0.021,2,   -0.002,3,   2244.3,2,    0.010,    0.002,2,   1.8760,   0.0090,2,    11.57,     0.15,2,    7.851,    0.038,2,    -9.00,9
  32MB19900222,  P15S,    13,  3,    451,     11,2,19900302,-35.0333,-170.0550, 5172,   1741.9,   2.5870,  34.5850,2,  34.5880,2,    -9.00,9,    0.000,6,    0.000,6,   2273.2,2, -999.000, -999.000,9,-999.0000,-999.0000,9,  -999.00,  -999.00,9, -999.000, -999.000,9,    -9.00,9
  32MB19900222,  P15S,    13,  3,    450,     10,2,19900302,-35.0333,-170.0550, 5172,   1993.8,   2.3620,  34.6220,2,  34.6230,2,    -9.00,9,   -0.001,2,    0.001,2,   2288.5,2, -999.000, -999.000,1,-999.0000,-999.0000,1,  -999.00,  -999.00,1, -999.000, -999.000,9,    -9.00,9
  32MB19900222,  P15S,    13,  3,    449,      9,2,19900302,-35.0333,-170.0550, 5172,   2294.4,   2.1660,  34.6400,2,  34.6420,2,    -9.00,9,   -0.008,2,    0.000,2,     -9.0,9, -999.000, -999.000,1,-999.0000,-999.0000,1,  -999.00,  -999.00,1, -999.000, -999.000,9,    -9.00,9
  32MB19900222,  P15S,    13,  3,    448,      8,2,19900302,-35.0333,-170.0550, 5172,   2596.6,   1.9980,-999.0000,9,  34.6570,2,    -9.00,9,   -0.011,2,    0.000,2,   2306.5,2, -999.000, -999.000,1,-999.0000,-999.0000,1,  -999.00,  -999.00,1, -999.000, -999.000,9,    -9.00,9
  32MB19900222,  P15S,    13,  3,    447,      7,2,19900302,-35.0333,-170.0550, 5172,   2894.6,   1.8640,  34.6670,2,  34.6690,2,    -9.00,9,    0.017,3,   -0.001,2,   2308.7,2, -999.000, -999.000,1,-999.0000,-999.0000,1,  -999.00,  -999.00,1, -999.000, -999.000,9,    -9.00,9
  32MB19900222,  P15S,    13,  3,    446,      6,2,19900302,-35.0333,-170.0550, 5172,   3198.6,   1.7460,-999.0000,9,  34.6830,2,    -9.00,9,   -9.000,9,   -9.000,9,     -9.0,9, -999.000, -999.000,9,-999.0000,-999.0000,9,  -999.00,  -999.00,9, -999.000, -999.000,9,    -9.00,9
  32MB19900222,  P15S,    13,  3,    445,      5,2,19900302,-35.0333,-170.0550, 5172,   3498.3,   1.6460,  34.7080,2,  34.7100,2,    -9.00,9,   -0.009,2,   -0.001,2,   2276.8,2, -999.000, -999.000,1,-999.0000,-999.0000,1,  -999.00,  -999.00,1, -999.000, -999.000,9,    -9.00,9
  32MB19900222,  P15S,    13,  3,    444,      4,2,19900302,-35.0333,-170.0550, 5172,   3999.2,   1.3470,  34.7270,2,  34.7240,2,    -9.00,9,    0.000,2,   -0.001,2,   2257.5,2, -999.000, -999.000,1,-999.0000,-999.0000,1,  -999.00,  -999.00,1, -999.000, -999.000,9,    -9.00,9
  32MB19900222,  P15S,    13,  3,    443,      3,2,19900302,-35.0333,-170.0550, 5172,   4499.6,   1.0560,  34.7140,2,  34.7150,2,    -9.00,9,    0.000,2,    0.000,2,   2258.8,2, -999.000, -999.000,1,-999.0000,-999.0000,1,  -999.00,  -999.00,1, -999.000, -999.000,9,    -9.00,9
  32MB19900222,  P15S,    13,  3,    442,      2,2,19900302,-35.0333,-170.0550, 5172,   4998.9,   1.0080,  34.7100,2,  34.7110,2,    -9.00,9,    0.013,6,    0.001,6,   2257.7,2, -999.000, -999.000,1,-999.0000,-999.0000,1,  -999.00,  -999.00,1, -999.000, -999.000,9,    -9.00,9
  32MB19900222,  P15S,    13,  3,    441,      1,2,19900302,-35.0333,-170.0550, 5172,   5276.4,   1.0310,  34.7100,2,  34.7110,2,    -9.00,9,    0.014,6,    0.001,6,   2259.3,2, -999.000, -999.000,1,-999.0000,-999.0000,1,  -999.00,  -999.00,1, -999.000, -999.000,9,    -9.00,9