BOTTLE,20081204PRINUNIVRMKPRINUNIVRMK
EXPOCODE,SECT_ID,STNNBR,CASTNO,SAMPNO,BTLNBR,BTLNBR_FLAG_W,DATE,LATITUDE,LONGITUDE,DEPTH,CTDPRS,CTDTMP,CTDSAL,CTDSAL_FLAG_W,SALNTY,SALNTY_FLAG_W,NITRAT,NITRAT_FLAG_W,CFC-11,CFC-11_FLAG_W,CFC-12,CFC-12_FLAG_W,TCARBN,TCARBN_FLAG_W,TRITUM,TRITER,TRITUM_FLAG_W,HELIUM,HELIER,HELIUM_FLAG_W,DELHE3,DELHER,DELHE3_FLAG_W,NEON,NEONE,NEON_FLAG_W,DELC13,DELC13_FLAG_W
,,,,,,,,,,METERS,DBARS,ITS-90,PSS-78,,PSS-78,,UMOL/KG,,PMOL/KG,,PMOL/KG,,UMOL/KG,,TU,TU,,NMOL/KG,NMOL/KG,,PERCNT,PERCNT,,NMOL/KG,NMOL/KG,,O/OO,
  32MB19900222,  P15S,    45,  2,    547,     12,2,19900330,-32.4833,-175.4833, 5574,   1994.0,   2.4140,  34.6150,2,  34.6130,2,    -9.00,9,   -0.002,2,    0.002,2,   2287.2,2, -999.000, -999.000,9,-999.0000,-999.0000,9,  -999.00,  -999.00,9, -999.000, -999.000,9,    -9.00,9
  32MB19900222,  P15S,    45,  2,    546,     11,2,19900330,-32.4833,-175.4833, 5574,   2501.3,   2.1030,  34.6480,2,  34.6470,2,    -9.00,9,    0.005,2,    0.002,2,   2296.6,2, -999.000, -999.000,9,-999.0000,-999.0000,9,  -999.00,  -999.00,9, -999.000, -999.000,9,    -9.00,9
  32MB19900222,  P15S,    45,  2,    545,     10,2,19900330,-32.4833,-175.4833, 5574,   2994.2,   1.8240,  34.6850,2,  34.6830,2,    -9.00,9,   -0.002,2,    0.005,2,   2292.1,2, -999.000, -999.000,9,-999.0000,-999.0000,9,  -999.00,  -999.00,9, -999.000, -999.000,9,    -9.00,9
  32MB19900222,  P15S,    45,  2,    553,      9,2,19900330,-32.4833,-175.4833, 5574,   3496.1,   1.5200,  34.7280,2,  34.7230,2,    -9.00,9,    0.001,2,    0.004,2,   2256.9,2, -999.000, -999.000,9,-999.0000,-999.0000,9,  -999.00,  -999.00,9, -999.000, -999.000,9,    -9.00,9
  32MB19900222,  P15S,    45,  2,    543,      8,2,19900330,-32.4833,-175.4833, 5574,   3995.8,   1.1320,  34.7190,2,  34.7160,2,    -9.00,9,    0.000,2,    0.008,2,   2255.0,2, -999.000, -999.000,9,-999.0000,-999.0000,9,  -999.00,  -999.00,9, -999.000, -999.000,9,    -9.00,9
  32MB19900222,  P15S,    45,  2,    542,      7,2,19900330,-32.4833,-175.4833, 5574,   4395.5,   1.0690,  34.7150,2,  34.7130,2,    -9.00,9,    0.004,2,    0.004,2,   2254.4,2, -999.000, -999.000,9,-999.0000,-999.0000,9,  -999.00,  -999.00,9, -999.000, -999.000,9,    -9.00,9
  32MB19900222,  P15S,    45,  2,    541,      6,2,19900330,-32.4833,-175.4833, 5574,   4799.0,   1.0290,  34.7140,2,  34.7100,2,    -9.00,9,    0.003,2,    0.000,2,   2257.6,2, -999.000, -999.000,9,-999.0000,-999.0000,9,  -999.00,  -999.00,9, -999.000, -999.000,9,    -9.00,9
  32MB19900222,  P15S,    45,  2,    551,      4,2,19900330,-32.4833,-175.4833, 5574,   4995.8,   1.0310,  34.7140,2,  34.7080,2,    -9.00,9,    0.006,2,    0.001,2,   2256.8,2, -999.000, -999.000,9,-999.0000,-999.0000,9,  -999.00,  -999.00,9, -999.000, -999.000,9,    -9.00,9
  32MB19900222,  P15S,    45,  2,    550,      3,2,19900330,-32.4833,-175.4833, 5574,   5197.1,   1.0430,  34.7140,2,  34.7080,2,    -9.00,9,    0.006,2,    0.008,2,   2257.3,2, -999.000, -999.000,9,-999.0000,-999.0000,9,  -999.00,  -999.00,9, -999.000, -999.000,9,    -9.00,9
  32MB19900222,  P15S,    45,  2,    549,      2,2,19900330,-32.4833,-175.4833, 5574,   5453.6,   1.0580,  34.7110,2,  34.7080,2,    -9.00,9,    0.004,2,    0.002,2,   2257.6,2, -999.000, -999.000,9,-999.0000,-999.0000,9,  -999.00,  -999.00,9, -999.000, -999.000,9,    -9.00,9
  32MB19900222,  P15S,    45,  2,    548,      1,2,19900330,-32.4833,-175.4833, 5574,   5524.1,   1.0670,  34.7180,2,  34.7070,2,    -9.00,9,    0.004,2,    0.015,3,   2258.1,2, -999.000, -999.000,9,-999.0000,-999.0000,9,  -999.00,  -999.00,9, -999.000, -999.000,9,    -9.00,9
  32MB19900222,  P15S,    46,  1,    647,     12,2,19900331,-32.4800,-171.4783, 5182,   1993.2,   2.3420,  34.6210,2,  34.6210,2,    -9.00,9,    0.004,2,   -0.003,2,   2289.6,2, -999.000, -999.000,9,-999.0000,-999.0000,9,  -999.00,  -999.00,9, -999.000, -999.000,9,    -9.00,9
  32MB19900222,  P15S,    46,  1,    646,     11,2,19900331,-32.4800,-171.4783, 5182,   2505.7,   2.0120,  34.6560,2,  34.6540,2,    -9.00,9,    0.001,2,    0.003,2,   2304.6,2, -999.000, -999.000,9,-999.0000,-999.0000,9,  -999.00,  -999.00,9, -999.000, -999.000,9,    -9.00,9
  32MB19900222,  P15S,    46,  1,    645,     10,2,19900331,-32.4800,-171.4783, 5182,   2993.5,   1.8190,  34.6760,2,  34.6750,2,    -9.00,9,   -0.001,6,    0.001,6,   2302.9,2, -999.000, -999.000,9,-999.0000,-999.0000,9,  -999.00,  -999.00,9, -999.000, -999.000,9,    -9.00,9
  32MB19900222,  P15S,    46,  1,    653,      9,2,19900331,-32.4800,-171.4783, 5182,   3295.3,   1.6850,  34.7070,2,  34.7000,2,    -9.00,9,   -0.002,2,    0.000,2,   2283.1,2, -999.000, -999.000,9,-999.0000,-999.0000,9,  -999.00,  -999.00,9, -999.000, -999.000,9,    -9.00,9
  32MB19900222,  P15S,    46,  1,    643,      8,2,19900331,-32.4800,-171.4783, 5182,   3595.4,   1.5320,  34.7210,2,  34.7190,2,    -9.00,9,    0.000,2,   -0.002,2,   2261.7,2, -999.000, -999.000,9,-999.0000,-999.0000,9,  -999.00,  -999.00,9, -999.000, -999.000,9,    -9.00,9
  32MB19900222,  P15S,    46,  1,    642,      7,2,19900331,-32.4800,-171.4783, 5182,   3903.5,   1.3030,  34.7230,2,  34.7210,2,    -9.00,9,    0.004,2,    0.004,2,   2255.9,2, -999.000, -999.000,9,-999.0000,-999.0000,9,  -999.00,  -999.00,9, -999.000, -999.000,9,    -9.00,9
  32MB19900222,  P15S,    46,  1,    641,      6,2,19900331,-32.4800,-171.4783, 5182,   4196.3,   1.1390,  34.7200,2,  34.7190,2,    -9.00,9,    0.000,2,    0.001,2,   2256.4,2, -999.000, -999.000,9,-999.0000,-999.0000,9,  -999.00,  -999.00,9, -999.000, -999.000,9,    -9.00,9
  32MB19900222,  P15S,    46,  1,    651,      4,2,19900331,-32.4800,-171.4783, 5182,   4497.4,   1.0390,  34.7140,2,  34.7140,2,    -9.00,9,    0.005,2,    0.003,2,   2257.4,2, -999.000, -999.000,9,-999.0000,-999.0000,9,  -999.00,  -999.00,9, -999.000, -999.000,9,    -9.00,9
  32MB19900222,  P15S,    46,  1,    650,      3,2,19900331,-32.4800,-171.4783, 5182,   4798.1,   1.0040,  34.7110,2,  34.7120,2,    -9.00,9,    0.011,2,    0.007,2,   2257.7,2, -999.000, -999.000,9,-999.0000,-999.0000,9,  -999.00,  -999.00,9, -999.000, -999.000,9,    -9.00,9
  32MB19900222,  P15S,    46,  1,    649,      2,2,19900331,-32.4800,-171.4783, 5182,   5157.8,   1.0180,  34.7110,2,  34.7090,2,    -9.00,9,    0.013,2,    0.007,2,   2258.3,2, -999.000, -999.000,9,-999.0000,-999.0000,9,  -999.00,  -999.00,9, -999.000, -999.000,9,    -9.00,9
  32MB19900222,  P15S,    46,  1,    648,      1,2,19900331,-32.4800,-171.4783, 5182,   5230.7,   1.0230,  34.7110,2,  34.7090,2,    -9.00,9,    0.032,6,    0.011,6,   2259.6,2, -999.000, -999.000,9,-999.0000,-999.0000,9,  -999.00,  -999.00,9, -999.000, -999.000,9,    -9.00,9
  32MB19900222,  P15S,    47,  1,    751,     11,2,19900401,-30.0000,-170.0067, 5414,    495.6,   8.6390,  34.5780,2,  34.5780,2,    -9.00,9,   -9.000,9,   -9.000,9,     -9.0,9, -999.000, -999.000,9,-999.0000,-999.0000,9,  -999.00,  -999.00,9, -999.000, -999.000,9,    -9.00,9
  32MB19900222,  P15S,    47,  1,    750,     10,2,19900401,-30.0000,-170.0067, 5414,    594.2,   7.5320,-999.0000,9,  34.4700,2,    23.12,2,    0.762,2,    0.360,2,   2131.5,2, -999.000, -999.000,9,-999.0000,-999.0000,9,  -999.00,  -999.00,9, -999.000, -999.000,9,    -9.00,9
  32MB19900222,  P15S,    47,  1,    749,      9,2,19900401,-30.0000,-170.0067, 5414,    795.8,   6.1100,  34.3600,2,  34.3560,2,    26.73,2,    0.248,2,    0.127,2,   2145.2,2, -999.000, -999.000,9,-999.0000,-999.0000,9,  -999.00,  -999.00,9, -999.000, -999.000,9,    -9.00,9
  32MB19900222,  P15S,    47,  1,    748,      8,2,19900401,-30.0000,-170.0067, 5414,    994.2,   4.9180,  34.3470,2,  34.3460,2,    -9.00,9,    0.065,2,    0.029,2,   2144.7,2, -999.000, -999.000,9,-999.0000,-999.0000,9,  -999.00,  -999.00,9, -999.000, -999.000,9,    -9.00,9
  32MB19900222,  P15S,    47,  1,    747,      7,2,19900401,-30.0000,-170.0067, 5414,   1242.9,   3.6520,  34.4150,2,  34.4150,2,    -9.00,9,    0.005,2,    0.006,2,   2216.3,2, -999.000, -999.000,9,-999.0000,-999.0000,9,  -999.00,  -999.00,9, -999.000, -999.000,9,    -9.00,9
  32MB19900222,  P15S,    47,  1,    746,      6,2,19900401,-30.0000,-170.0067, 5414,   1492.7,   2.8680,  34.5250,2,  34.5230,2,    -9.00,9,    0.003,6,    0.000,6,   2251.1,2, -999.000, -999.000,9,-999.0000,-999.0000,9,  -999.00,  -999.00,9, -999.000, -999.000,9,    -9.00,9
  32MB19900222,  P15S,    47,  1,    745,      5,2,19900401,-30.0000,-170.0067, 5414,   3494.3,   1.6150,  34.7080,2,  34.7050,2,    -9.00,9,   -0.001,2,    0.001,2,   2277.6,2, -999.000, -999.000,9,-999.0000,-999.0000,9,  -999.00,  -999.00,9, -999.000, -999.000,9,    -9.00,9
  32MB19900222,  P15S,    47,  1,    753,      4,2,19900401,-30.0000,-170.0067, 5414,   3993.5,   1.3140,  34.7240,2,  34.7200,2,    -9.00,9,    0.000,2,    0.000,2,   2255.6,2, -999.000, -999.000,9,-999.0000,-999.0000,9,  -999.00,  -999.00,9, -999.000, -999.000,9,    -9.00,9
  32MB19900222,  P15S,    47,  1,    743,      3,2,19900401,-30.0000,-170.0067, 5414,   4497.3,   1.0570,  34.7130,2,  34.7130,2,    -9.00,9,    0.009,3,    0.002,2,   2254.9,2, -999.000, -999.000,9,-999.0000,-999.0000,9,  -999.00,  -999.00,9, -999.000, -999.000,9,    -9.00,9
  32MB19900222,  P15S,    47,  1,    742,      2,2,19900401,-30.0000,-170.0067, 5414,   4996.4,   1.0210,  34.7140,2,  34.7090,2,    -9.00,9,    0.001,6,    0.003,6,   2257.3,2, -999.000, -999.000,9,-999.0000,-999.0000,9,  -999.00,  -999.00,9, -999.000, -999.000,9,    -9.00,9
  32MB19900222,  P15S,    47,  1,    741,      1,2,19900401,-30.0000,-170.0067, 5414,   5501.8,   1.0690,  34.7150,2,  34.7080,2,    -9.00,9,    0.005,6,    0.001,6,   2257.6,2, -999.000, -999.000,9,-999.0000,-999.0000,9,  -999.00,  -999.00,9, -999.000, -999.000,9,    -9.00,9
  32MB19900222,  P15S,    48,  1,    852,     12,2,19900402,-24.9767,-170.0217, 5689,      6.7,  25.0100,  35.3530,2,  35.3520,2,     0.39,2,    1.745,2,    0.879,3,   1964.9,2, -999.000, -999.000,9,-999.0000,-999.0000,9,  -999.00,  -999.00,9, -999.000, -999.000,9,    -9.00,9
  32MB19900222,  P15S,    48,  1,    851,     11,2,19900402,-24.9767,-170.0217, 5689,     17.2,  24.9990,  35.3510,2,  35.3510,2,     0.39,2,    1.767,2,    0.863,3,   1964.1,2, -999.000, -999.000,9,-999.0000,-999.0000,9,  -999.00,  -999.00,9, -999.000, -999.000,9,    -9.00,9
  32MB19900222,  P15S,    48,  1,    850,     10,2,19900402,-24.9767,-170.0217, 5689,     37.5,  24.9440,  35.3550,2,  35.3530,2,     0.39,2,    1.756,2,    0.941,2,   1963.7,2, -999.000, -999.000,9,-999.0000,-999.0000,9,  -999.00,  -999.00,9, -999.000, -999.000,9,    -9.00,9
  32MB19900222,  P15S,    48,  1,    849,      9,2,19900402,-24.9767,-170.0217, 5689,     67.0,  24.3040,  35.3830,2,  35.3910,2,     0.39,2,    1.812,2,    0.959,2,     -9.0,9, -999.000, -999.000,9,-999.0000,-999.0000,9,  -999.00,  -999.00,9, -999.000, -999.000,9,    -9.00,9
  32MB19900222,  P15S,    48,  1,    848,      8,2,19900402,-24.9767,-170.0217, 5689,     97.5,  20.7660,  35.5940,2,  35.5950,2,     0.39,2,    1.884,2,    0.984,2,   2007.2,2, -999.000, -999.000,9,-999.0000,-999.0000,9,  -999.00,  -999.00,9, -999.000, -999.000,9,    -9.00,9
  32MB19900222,  P15S,    48,  1,    847,      7,2,19900402,-24.9767,-170.0217, 5689,    121.5,  19.7590,  35.6190,2,  35.6200,2,     0.39,2,    1.937,2,    1.020,2,     -9.0,9, -999.000, -999.000,9,-999.0000,-999.0000,9,  -999.00,  -999.00,9, -999.000, -999.000,9,    -9.00,9
  32MB19900222,  P15S,    48,  1,    846,      6,2,19900402,-24.9767,-170.0217, 5689,    148.6,  19.1320,  35.6380,2,  35.6390,2,     1.80,2,    1.819,2,    0.973,2,   2040.6,2, -999.000, -999.000,9,-999.0000,-999.0000,9,  -999.00,  -999.00,9, -999.000, -999.000,9,    -9.00,9
  32MB19900222,  P15S,    48,  1,    845,      5,2,19900402,-24.9767,-170.0217, 5689,    196.2,  17.9380,  35.5920,2,  35.5910,2,     3.80,2,    1.738,2,    0.904,2,   2056.9,2, -999.000, -999.000,9,-999.0000,-999.0000,9,  -999.00,  -999.00,9, -999.000, -999.000,9,    -9.00,9
  32MB19900222,  P15S,    48,  1,    853,      4,2,19900402,-24.9767,-170.0217, 5689,    246.3,  16.7300,  35.5020,2,  35.5050,2,     5.33,2,    1.753,2,    0.899,2,   2066.7,2, -999.000, -999.000,9,-999.0000,-999.0000,9,  -999.00,  -999.00,9, -999.000, -999.000,9,    -9.00,9
  32MB19900222,  P15S,    48,  1,    843,      3,2,19900402,-24.9767,-170.0217, 5689,    294.9,  15.4970,  35.3750,2,  35.3790,2,     7.13,2,    1.632,2,    0.851,2,   2077.5,2, -999.000, -999.000,9,-999.0000,-999.0000,9,  -999.00,  -999.00,9, -999.000, -999.000,9,    -9.00,9
  32MB19900222,  P15S,    48,  1,    842,      2,2,19900402,-24.9767,-170.0217, 5689,    344.4,  14.1060,  35.2300,2,  35.2340,2,     9.79,2,    1.577,2,    0.830,2,     -9.0,9, -999.000, -999.000,9,-999.0000,-999.0000,9,  -999.00,  -999.00,9, -999.000, -999.000,9,    -9.00,9
  32MB19900222,  P15S,    48,  1,    841,      1,2,19900402,-24.9767,-170.0217, 5689,    396.3,  12.2450,  34.9860,2,  34.9870,2,    13.46,2,    1.266,6,    0.649,6,   2106.4,2, -999.000, -999.000,9,-999.0000,-999.0000,9,  -999.00,  -999.00,9, -999.000, -999.000,9,    -9.00,9
  32MB19900222,  P15S,    48,  2,    952,     12,2,19900402,-24.9767,-170.0217, 5689,    494.3,   9.2570,  34.6270,2,  34.6240,2,    19.20,2,    0.845,2,    0.433,2,   2125.8,2, -999.000, -999.000,9,-999.0000,-999.0000,9,  -999.00,  -999.00,9, -999.000, -999.000,9,    -9.00,9
  32MB19900222,  P15S,    48,  2,    951,     11,2,19900402,-24.9767,-170.0217, 5689,    594.2,   7.5830,  34.4640,2,  34.4590,2,    22.53,2,    0.563,2,    0.299,2,   2136.1,2, -999.000, -999.000,1,-999.0000,-999.0000,1,  -999.00,  -999.00,1, -999.000, -999.000,9,    -9.00,9
  32MB19900222,  P15S,    48,  2,    950,     10,2,19900402,-24.9767,-170.0217, 5689,    693.0,   6.5280,  34.3760,2,  34.3740,2,    24.86,2,    0.313,2,    0.182,2,   2144.9,2, -999.000, -999.000,1,-999.0000,-999.0000,1,  -999.00,  -999.00,1, -999.000, -999.000,9,    -9.00,9
  32MB19900222,  P15S,    48,  2,    949,      9,2,19900402,-24.9767,-170.0217, 5689,    795.4,   5.8090,  34.3420,2,  34.3380,2,    26.99,2,    0.142,2,    0.084,2,   2199.3,2, -999.000, -999.000,1,-999.0000,-999.0000,1,  -999.00,  -999.00,1, -999.000, -999.000,9,    -9.00,9
  32MB19900222,  P15S,    48,  2,    948,      8,2,19900402,-24.9767,-170.0217, 5689,    894.4,   5.2310,  34.3420,2,  34.3350,2,    28.86,2,    0.063,2,    0.039,2,     -9.0,9, -999.000, -999.000,1,-999.0000,-999.0000,1,  -999.00,  -999.00,1, -999.000, -999.000,9,    -9.00,9
  32MB19900222,  P15S,    48,  2,    947,      7,2,19900402,-24.9767,-170.0217, 5689,    994.0,   4.6190,  34.3700,2,  34.3700,2,    -9.00,9,    0.012,2,    0.006,2,   2237.1,2, -999.000, -999.000,1,-999.0000,-999.0000,1,  -999.00,  -999.00,1, -999.000, -999.000,9,    -9.00,9
  32MB19900222,  P15S,    48,  2,    946,      6,2,19900402,-24.9767,-170.0217, 5689,   1094.2,   4.0510,  34.4020,2,  34.4020,2,    -9.00,9,    0.007,2,    0.004,2,     -9.0,9, -999.000, -999.000,1,-999.0000,-999.0000,1,  -999.00,  -999.00,1, -999.000, -999.000,9,    -9.00,9
  32MB19900222,  P15S,    48,  2,    945,      5,2,19900402,-24.9767,-170.0217, 5689,   1242.1,   3.4070,  34.4680,2,  34.4590,2,    -9.00,9,    0.016,3,    0.001,2,   2237.2,2, -999.000, -999.000,1,   1.8650,   0.0090,2,    11.37,     0.15,2,    7.590,    0.037,2,    -9.00,9
  32MB19900222,  P15S,    48,  2,    953,      4,2,19900402,-24.9767,-170.0217, 5689,   1491.7,   2.7390,  34.5580,2,  34.5560,2,    -9.00,9,   -0.002,2,    0.004,2,   2262.2,2, -999.000, -999.000,1,   1.8980,   0.0090,2,    19.12,     0.15,2,    7.619,    0.037,2,    -9.00,9
  32MB19900222,  P15S,    48,  2,    943,      3,2,19900402,-24.9767,-170.0217, 5689,   1741.6,   2.4200,  34.6100,2,  34.6110,2,    -9.00,9,   -0.001,2,    0.001,2,     -9.0,9, -999.000, -999.000,1,   1.9300,   0.0090,2,    27.99,     0.15,2,    7.909,    0.039,2,    -9.00,9
  32MB19900222,  P15S,    48,  2,    942,      2,2,19900402,-24.9767,-170.0217, 5689,   1979.8,   2.2410,  34.6300,2,  34.6310,2,    -9.00,9,    0.001,2,    0.028,4,   2306.8,2, -999.000, -999.000,1,-999.0000,-999.0000,1,  -999.00,  -999.00,1, -999.000, -999.000,9,    -9.00,9
  32MB19900222,  P15S,    48,  2,    941,      1,2,19900402,-24.9767,-170.0217, 5689,   2246.8,   2.0660,  34.6480,2,  34.6480,2,    -9.00,9,    0.013,2,    0.005,6,     -9.0,9, -999.000, -999.000,1,   1.9550,   0.0100,2,    29.06,     0.15,2,    7.701,    0.038,2,    -9.00,9
  32MB19900222,  P15S,    48,  3,     51,     11,2,19900402,-24.9767,-170.0217, 5689,   2493.8,   1.9890,  34.6510,2,  34.6520,2,    -9.00,9,    0.011,3,   -0.003,2,   2315.4,2, -999.000, -999.000,9,-999.0000,-999.0000,9,  -999.00,  -999.00,9, -999.000, -999.000,9,    -9.00,9
  32MB19900222,  P15S,    48,  3,     50,     10,2,19900402,-24.9767,-170.0217, 5689,   2743.4,   1.8670,  34.6710,2,  34.6620,2,    -9.00,9,    0.060,4,   -0.002,2,     -9.0,9, -999.000, -999.000,9,-999.0000,-999.0000,9,  -999.00,  -999.00,9, -999.000, -999.000,9,    -9.00,9
  32MB19900222,  P15S,    48,  3,     49,      9,2,19900402,-24.9767,-170.0217, 5689,   2996.6,   1.7670,  34.6800,2,  34.6700,2,    -9.00,9,   -0.002,2,   -0.009,2,   2319.3,3, -999.000, -999.000,9,-999.0000,-999.0000,9,  -999.00,  -999.00,9, -999.000, -999.000,9,    -9.00,9
  32MB19900222,  P15S,    48,  3,     48,      8,2,19900402,-24.9767,-170.0217, 5689,   3245.8,   1.6590,  34.6800,2,  34.6800,2,    -9.00,9,    0.007,2,    0.000,2,     -9.0,9, -999.000, -999.000,9,-999.0000,-999.0000,9,  -999.00,  -999.00,9, -999.000, -999.000,9,    -9.00,9
  32MB19900222,  P15S,    48,  3,     47,      7,2,19900402,-24.9767,-170.0217, 5689,   3498.2,   1.5320,  34.7040,2,  34.7040,2,    -9.00,9,    0.000,4,   -0.001,2,   2287.5,2, -999.000, -999.000,9,-999.0000,-999.0000,9,  -999.00,  -999.00,9, -999.000, -999.000,9,    -9.00,9
  32MB19900222,  P15S,    48,  3,     46,      6,2,19900402,-24.9767,-170.0217, 5689,   3747.9,   1.4320,  34.7200,2,  34.7190,2,    -9.00,9,   -0.001,2,   -0.001,2,     -9.0,9, -999.000, -999.000,9,-999.0000,-999.0000,9,  -999.00,  -999.00,9, -999.000, -999.000,9,    -9.00,9
  32MB19900222,  P15S,    48,  3,     45,      5,2,19900402,-24.9767,-170.0217, 5689,   3998.7,   1.2800,  34.7200,2,  34.7200,2,    -9.00,9,    0.001,2,   -0.001,2,   2262.7,3, -999.000, -999.000,9,-999.0000,-999.0000,9,  -999.00,  -999.00,9, -999.000, -999.000,9,    -9.00,9
  32MB19900222,  P15S,    48,  3,     53,      4,2,19900402,-24.9767,-170.0217, 5689,   4495.6,   1.0960,  34.7150,2,  34.7140,2,    -9.00,9,    0.009,2,   -0.003,2,   2263.4,3, -999.000, -999.000,9,-999.0000,-999.0000,9,  -999.00,  -999.00,9, -999.000, -999.000,9,    -9.00,9
  32MB19900222,  P15S,    48,  3,     43,      3,2,19900402,-24.9767,-170.0217, 5689,   4998.2,   1.0420,  34.7110,2,  34.7090,2,    -9.00,9,    0.004,2,   -0.001,2,   2264.4,3, -999.000, -999.000,9,-999.0000,-999.0000,9,  -999.00,  -999.00,9, -999.000, -999.000,9,    -9.00,9
  32MB19900222,  P15S,    48,  3,     42,      2,2,19900402,-24.9767,-170.0217, 5689,   5496.7,   1.0810,  34.7100,2,  34.7090,2,    -9.00,9,    0.009,2,    0.001,2,   2264.2,3, -999.000, -999.000,9,-999.0000,-999.0000,9,  -999.00,  -999.00,9, -999.000, -999.000,9,    -9.00,9
  32MB19900222,  P15S,    48,  3,     41,      1,2,19900402,-24.9767,-170.0217, 5689,   5802.5,   1.1160,  34.7100,2,  34.7090,2,    -9.00,9,    0.004,6,    0.000,6,   2264.1,3, -999.000, -999.000,9,-999.0000,-999.0000,9,  -999.00,  -999.00,9, -999.000, -999.000,9,    -9.00,9