BOTTLE,20081204PRINUNIVRMKPRINUNIVRMK
EXPOCODE,SECT_ID,STNNBR,CASTNO,SAMPNO,BTLNBR,BTLNBR_FLAG_W,DATE,LATITUDE,LONGITUDE,DEPTH,CTDPRS,CTDTMP,CTDSAL,CTDSAL_FLAG_W,SALNTY,SALNTY_FLAG_W,NITRAT,NITRAT_FLAG_W,CFC-11,CFC-11_FLAG_W,CFC-12,CFC-12_FLAG_W,TCARBN,TCARBN_FLAG_W,TRITUM,TRITER,TRITUM_FLAG_W,HELIUM,HELIER,HELIUM_FLAG_W,DELHE3,DELHER,DELHE3_FLAG_W,NEON,NEONE,NEON_FLAG_W,DELC13,DELC13_FLAG_W
,,,,,,,,,,METERS,DBARS,ITS-90,PSS-78,,PSS-78,,UMOL/KG,,PMOL/KG,,PMOL/KG,,UMOL/KG,,TU,TU,,NMOL/KG,NMOL/KG,,PERCNT,PERCNT,,NMOL/KG,NMOL/KG,,O/OO,
  32MB19900222,  P15S,    10,  2,    552,     12,2,19900228,-27.5033,-170.0050, 5223,    495.6,   8.8570,  34.6120,2,  34.6120,2,    -9.00,9,    1.115,2,    0.562,2,   2127.1,2, -999.000, -999.000,9,-999.0000,-999.0000,9,  -999.00,  -999.00,9, -999.000, -999.000,9,    -9.00,9
  32MB19900222,  P15S,    10,  2,    550,     10,2,19900228,-27.5033,-170.0050, 5223,    594.9,   7.5670,  34.4690,2,  34.4710,2,    21.40,2,    0.800,6,    0.407,6,   2130.5,2, -999.000, -999.000,9,-999.0000,-999.0000,9,  -999.00,  -999.00,9, -999.000, -999.000,9,    -9.00,9
  32MB19900222,  P15S,    10,  2,    551,     11,2,19900228,-27.5033,-170.0050, 5223,    594.9,   7.5670,  34.4720,2,  34.4710,2,    21.95,2,    0.798,2,    0.397,2,   2130.5,2, -999.000, -999.000,9,-999.0000,-999.0000,9,  -999.00,  -999.00,9, -999.000, -999.000,9,    -9.00,9
  32MB19900222,  P15S,    10,  2,    549,      9,2,19900228,-27.5033,-170.0050, 5223,    694.4,   6.6800,  34.3900,2,  34.3890,2,    23.93,2,    0.498,2,    0.262,2,   2135.4,2, -999.000, -999.000,9,-999.0000,-999.0000,9,  -999.00,  -999.00,9, -999.000, -999.000,9,    -9.00,9
  32MB19900222,  P15S,    10,  2,    548,      8,2,19900228,-27.5033,-170.0050, 5223,    794.4,   6.0200,  34.3500,2,  34.3490,2,    26.11,2,    0.222,6,    0.112,6,   2146.5,2, -999.000, -999.000,9,-999.0000,-999.0000,9,  -999.00,  -999.00,9, -999.000, -999.000,9,    -9.00,9
  32MB19900222,  P15S,    10,  2,    547,      7,2,19900228,-27.5033,-170.0050, 5223,    891.4,   5.3780,  34.3320,2,  34.3340,2,    28.65,2,    0.091,2,    0.056,2,   2162.5,2, -999.000, -999.000,9,-999.0000,-999.0000,9,  -999.00,  -999.00,9, -999.000, -999.000,9,    -9.00,9
  32MB19900222,  P15S,    10,  2,    546,      6,2,19900228,-27.5033,-170.0050, 5223,    994.1,   4.8880,  34.3490,2,  34.3480,2,    -9.00,9,    0.037,2,    0.012,2,   2181.5,2, -999.000, -999.000,9,-999.0000,-999.0000,9,  -999.00,  -999.00,9, -999.000, -999.000,9,    -9.00,9
  32MB19900222,  P15S,    10,  2,    545,      5,2,19900228,-27.5033,-170.0050, 5223,   1243.5,   3.4840,  34.4420,2,  34.4450,2,    -9.00,9,    0.000,2,   -0.001,2,   2227.3,2, -999.000, -999.000,9,-999.0000,-999.0000,9,  -999.00,  -999.00,9, -999.000, -999.000,9,    -9.00,9
  32MB19900222,  P15S,    10,  2,    544,      4,2,19900228,-27.5033,-170.0050, 5223,   1493.3,   2.8260,  34.5420,2,  34.5430,2,    -9.00,9,   -0.006,2,   -0.001,2,   2259.6,2, -999.000, -999.000,9,-999.0000,-999.0000,9,  -999.00,  -999.00,9, -999.000, -999.000,9,    -9.00,9
  32MB19900222,  P15S,    10,  2,    543,      3,2,19900228,-27.5033,-170.0050, 5223,   1742.8,   2.4820,  34.6020,2,  34.6040,2,    -9.00,9,    0.020,4,   -0.004,2,   2284.0,2, -999.000, -999.000,9,-999.0000,-999.0000,9,  -999.00,  -999.00,9, -999.000, -999.000,9,    -9.00,9
  32MB19900222,  P15S,    10,  2,    542,      2,2,19900228,-27.5033,-170.0050, 5223,   1993.0,   2.2870,  34.6280,2,  34.6280,2,    -9.00,9,    0.052,4,    0.096,4,   2295.5,3, -999.000, -999.000,9,-999.0000,-999.0000,9,  -999.00,  -999.00,9, -999.000, -999.000,9,    -9.00,9
  32MB19900222,  P15S,    10,  2,    541,      1,2,19900228,-27.5033,-170.0050, 5223,   2493.6,   2.0040,  34.6540,2,  34.6560,2,    -9.00,9,   -0.002,2,   -0.001,2,   2307.4,3, -999.000, -999.000,9,-999.0000,-999.0000,9,  -999.00,  -999.00,9, -999.000, -999.000,9,    -9.00,9
  32MB19900222,  P15S,    11,  1,    652,     12,2,19900228,-30.0050,-170.0133, 5417,      3.5,  23.7270,  35.5580,2,  35.5560,2,     0.39,2,    1.901,2,    3.201,4,   1996.0,2,    1.135,    0.006,2,   1.6890,   0.0080,2,    -2.39,     0.15,2,    6.460,    0.032,2,     1.58,2
  32MB19900222,  P15S,    11,  1,    651,     11,2,19900228,-30.0050,-170.0133, 5417,     20.5,  23.7040,-999.0000,9,  35.5570,2,    -9.00,9,   -9.000,9,   -9.000,9,     -9.0,9,    0.984,    0.006,2,   1.7150,   0.0080,2,    -2.03,     0.15,2,    6.602,    0.032,2,    -9.00,9
  32MB19900222,  P15S,    11,  1,    650,     10,2,19900228,-30.0050,-170.0133, 5417,     29.5,  23.6860,  35.5660,2,  35.5580,2,    -9.00,9,   -9.000,9,   -9.000,9,     -9.0,9, -999.000, -999.000,9,-999.0000,-999.0000,9,  -999.00,  -999.00,9, -999.000, -999.000,9,    -9.00,9
  32MB19900222,  P15S,    11,  1,    649,      9,2,19900228,-30.0050,-170.0133, 5417,     38.6,  23.6370,  35.5730,2,  35.5720,2,     0.39,2,    1.872,2,    0.973,2,   1997.5,2,    1.089,    0.006,2,   1.7280,   0.0080,2,    -1.19,     0.15,2,    6.575,    0.032,2,    -9.00,9
  32MB19900222,  P15S,    11,  1,    648,      8,2,19900228,-30.0050,-170.0133, 5417,     69.0,  20.3100,  35.5990,2,  35.6070,2,    -9.00,9,   -9.000,9,   -9.000,9,     -9.0,9, -999.000, -999.000,9,-999.0000,-999.0000,9,  -999.00,  -999.00,9, -999.000, -999.000,9,    -9.00,9
  32MB19900222,  P15S,    11,  1,    647,      7,2,19900228,-30.0050,-170.0133, 5417,     97.9,  18.5390,  35.6070,2,  35.6110,2,     0.39,2,    2.251,2,    1.099,2,   2026.2,2,    0.874,    0.005,2,   1.7500,   0.0090,2,    -2.67,     0.15,2,    6.971,    0.034,2,    -9.00,9
  32MB19900222,  P15S,    11,  1,    646,      6,2,19900228,-30.0050,-170.0133, 5417,    122.4,  17.0530,  35.5740,2,  35.5780,2,    -9.00,9,   -9.000,9,   -9.000,9,     -9.0,9, -999.000, -999.000,9,-999.0000,-999.0000,9,  -999.00,  -999.00,9, -999.000, -999.000,9,    -9.00,9
  32MB19900222,  P15S,    11,  1,    645,      5,2,19900228,-30.0050,-170.0133, 5417,    147.9,  16.2910,  35.5110,2,  35.5120,2,     4.92,2,    2.049,2,    0.980,2,   2072.3,2, -999.000, -999.000,9,-999.0000,-999.0000,9,  -999.00,  -999.00,9, -999.000, -999.000,9,    -9.00,9
  32MB19900222,  P15S,    11,  1,    644,      4,2,19900228,-30.0050,-170.0133, 5417,    172.7,  15.6460,  35.4480,2,  35.4410,2,     6.23,2,    1.884,2,    0.945,2,     -9.0,9, -999.000, -999.000,9,-999.0000,-999.0000,9,  -999.00,  -999.00,9, -999.000, -999.000,9,    -9.00,9
  32MB19900222,  P15S,    11,  1,    643,      3,2,19900228,-30.0050,-170.0133, 5417,    195.8,  15.1820,  35.3990,2,  35.3970,2,     6.76,2,    1.977,2,    0.951,2,   2083.8,2,    0.708,    0.004,2,   1.7680,   0.0090,2,     0.21,     0.15,2,    7.098,    0.035,2,    -9.00,9
  32MB19900222,  P15S,    11,  1,    642,      2,2,19900228,-30.0050,-170.0133, 5417,    248.6,  14.0970,  35.2730,2,  35.2660,2,     8.60,2,    1.889,2,    0.934,2,   2094.4,2, -999.000, -999.000,9,-999.0000,-999.0000,9,  -999.00,  -999.00,9, -999.000, -999.000,9,    -9.00,9
  32MB19900222,  P15S,    11,  1,    641,      1,2,19900228,-30.0050,-170.0133, 5417,    300.8,  12.7840,  35.0940,2,  35.0990,2,    11.49,2,    1.647,6,    0.803,6,   2106.3,2,    0.531,    0.004,2,   1.7540,   0.0090,2,    -0.79,     0.15,2,    7.110,    0.035,2,    -9.00,9
  32MB19900222,  P15S,    11,  2,    752,     12,2,19900228,-30.0050,-170.0133, 5417,    345.7,  11.6300,  34.9310,2,  34.9260,2,    13.40,2,    1.233,2,    0.618,2,     -9.0,9, -999.000, -999.000,9,-999.0000,-999.0000,9,  -999.00,  -999.00,9, -999.000, -999.000,9,    -9.00,9
  32MB19900222,  P15S,    11,  2,    751,     11,2,19900228,-30.0050,-170.0133, 5417,    394.7,  10.6990,  34.8280,2,  34.8260,2,    14.82,2,    1.197,2,    0.583,2,   2125.8,2,    0.422,    0.004,2,   1.7870,   0.0090,2,     1.03,     0.15,2,    7.304,    0.036,2,    -9.00,9
  32MB19900222,  P15S,    11,  2,    750,     10,2,19900228,-30.0050,-170.0133, 5417,    445.4,   9.9510,  34.7360,2,  34.7360,2,    16.92,2,    1.110,2,    0.552,2,     -9.0,9, -999.000, -999.000,9,-999.0000,-999.0000,9,  -999.00,  -999.00,9, -999.000, -999.000,9,    -9.00,9
  32MB19900222,  P15S,    11,  2,    749,      9,2,19900228,-30.0050,-170.0133, 5417,    495.7,   8.8440,  34.6030,2,  34.6020,2,    18.89,2,    0.823,3,    0.346,4,   2135.1,2,    0.279,    0.004,2,   1.7960,   0.0090,2,     0.88,     0.15,2,    7.419,    0.036,2,    -9.00,9
  32MB19900222,  P15S,    11,  2,    748,      8,2,19900228,-30.0050,-170.0133, 5417,    591.9,   7.4030,  34.4600,2,  34.4580,2,    22.36,2,    0.579,2,    0.283,2,   2141.7,2,    0.189,    0.003,2,   1.8010,   0.0090,2,     0.74,     0.15,2,    7.532,    0.037,2,    -9.00,9
  32MB19900222,  P15S,    11,  2,    747,      7,2,19900228,-30.0050,-170.0133, 5417,    694.4,   6.6620,  34.3970,2,  34.3890,2,    24.08,2,    0.357,2,    0.161,2,   2146.3,2,    0.131,    0.003,2,   1.8140,   0.0090,2,     1.33,     0.15,2,    7.594,    0.037,2,    -9.00,9
  32MB19900222,  P15S,    11,  2,    746,      6,2,19900228,-30.0050,-170.0133, 5417,    793.6,   5.9760,-999.0000,9,  34.3510,2,    26.46,2,    0.160,6,    0.078,6,   2156.9,2,    0.065,    0.002,2,-999.0000,-999.0000,9,  -999.00,  -999.00,9, -999.000, -999.000,9,    -9.00,9
  32MB19900222,  P15S,    11,  2,    745,      5,2,19900228,-30.0050,-170.0133, 5417,    894.3,   5.3290,  34.3390,2,  34.3400,2,    28.68,2,    0.060,2,    0.003,3,   2181.5,2, -999.000, -999.000,9,   1.8210,   0.0090,2,     1.92,     0.15,2,    7.729,    0.038,2,    -9.00,9
  32MB19900222,  P15S,    11,  2,    744,      4,2,19900228,-30.0050,-170.0133, 5417,    993.6,   4.7070,  34.3560,2,  34.3570,2,    -9.00,9,    0.032,2,    0.007,2,   2194.0,2,    0.026,    0.002,2,-999.0000,-999.0000,9,  -999.00,  -999.00,9, -999.000, -999.000,9,    -9.00,9
  32MB19900222,  P15S,    11,  2,    743,      3,2,19900228,-30.0050,-170.0133, 5417,   1094.5,   4.1420,  34.3810,2,  34.3820,2,    -9.00,9,   -9.000,9,   -9.000,9,     -9.0,9, -999.000, -999.000,9,-999.0000,-999.0000,9,  -999.00,  -999.00,9, -999.000, -999.000,9,    -9.00,9
  32MB19900222,  P15S,    11,  2,    742,      2,2,19900228,-30.0050,-170.0133, 5417,   1243.5,   3.4830,  34.4640,2,  34.4430,2,    -9.00,9,    0.036,4,    0.035,4,   2235.0,2,    0.011,    0.002,2,   1.8720,   0.0090,2,     8.57,     0.15,2,    7.904,    0.039,2,    -9.00,9
  32MB19900222,  P15S,    11,  2,    741,      1,2,19900228,-30.0050,-170.0133, 5417,   1505.7,   2.8030,  34.5400,2,  34.5430,2,    -9.00,9,    0.023,3,   -0.007,3,   2266.2,2,    0.013,    0.002,2,   1.8850,   0.0090,2,    13.19,     0.15,2,    7.869,    0.039,2,    -9.00,9
  32MB19900222,  P15S,    11,  3,    851,     11,2,19900228,-30.0050,-170.0133, 5417,   1742.9,   2.4500,  34.5970,2,  34.6020,2,    -9.00,9,   -0.008,2,   -0.002,2,   2279.3,2, -999.000, -999.000,9,-999.0000,-999.0000,9,  -999.00,  -999.00,9, -999.000, -999.000,9,    -9.00,9
  32MB19900222,  P15S,    11,  3,    850,     10,2,19900228,-30.0050,-170.0133, 5417,   1992.7,   2.2460,  34.6330,2,  34.6300,2,    -9.00,9,   -0.002,2,   -0.004,2,   2291.9,2, -999.000, -999.000,1,-999.0000,-999.0000,1,  -999.00,  -999.00,1, -999.000, -999.000,9,    -9.00,9
  32MB19900222,  P15S,    11,  3,    849,      9,2,19900228,-30.0050,-170.0133, 5417,   2293.7,   2.0770,  34.6480,2,  34.6500,2,    -9.00,9,    0.000,2,   -0.001,2,     -9.0,9, -999.000, -999.000,1,-999.0000,-999.0000,1,  -999.00,  -999.00,1, -999.000, -999.000,9,    -9.00,9
  32MB19900222,  P15S,    11,  3,    848,      8,2,19900228,-30.0050,-170.0133, 5417,   2593.5,   1.9420,  34.6600,2,  34.6590,2,    -9.00,9,    0.013,4,   -0.004,2,   2307.4,2, -999.000, -999.000,1,-999.0000,-999.0000,1,  -999.00,  -999.00,1, -999.000, -999.000,9,    -9.00,9
  32MB19900222,  P15S,    11,  3,    847,      7,2,19900228,-30.0050,-170.0133, 5417,   2895.0,   1.8320,  34.6690,2,  34.6690,2,    -9.00,9,    0.010,4,   -0.003,2,   2308.3,2, -999.000, -999.000,1,-999.0000,-999.0000,1,  -999.00,  -999.00,1, -999.000, -999.000,9,    -9.00,9
  32MB19900222,  P15S,    11,  3,    846,      6,2,19900228,-30.0050,-170.0133, 5417,   3191.3,   1.7150,  34.6750,2,  34.6850,2,    -9.00,9,    0.007,4,    0.000,2,     -9.0,9, -999.000, -999.000,1,-999.0000,-999.0000,1,  -999.00,  -999.00,1, -999.000, -999.000,9,    -9.00,9
  32MB19900222,  P15S,    11,  3,    845,      5,2,19900228,-30.0050,-170.0133, 5417,   3495.3,   1.6050,  34.7130,2,  34.7120,2,    -9.00,9,    0.000,2,   -0.005,2,   2270.8,3, -999.000, -999.000,1,-999.0000,-999.0000,1,  -999.00,  -999.00,1, -999.000, -999.000,9,    -9.00,9
  32MB19900222,  P15S,    11,  3,    844,      4,2,19900228,-30.0050,-170.0133, 5417,   3995.6,   1.2620,  34.7240,2,  34.7230,2,    -9.00,9,    0.002,2,   -0.001,2,   2253.1,3, -999.000, -999.000,1,-999.0000,-999.0000,1,  -999.00,  -999.00,1, -999.000, -999.000,9,    -9.00,9
  32MB19900222,  P15S,    11,  3,    843,      3,2,19900228,-30.0050,-170.0133, 5417,   4496.1,   1.0570,  34.7150,2,  34.7160,2,    -9.00,9,    0.000,2,    0.021,4,   2255.7,2, -999.000, -999.000,1,-999.0000,-999.0000,1,  -999.00,  -999.00,1, -999.000, -999.000,9,    -9.00,9
  32MB19900222,  P15S,    11,  3,    842,      2,2,19900228,-30.0050,-170.0133, 5417,   4993.3,   1.0190,  34.7120,2,  34.7120,2,    -9.00,9,    0.056,4,   -0.001,2,   2255.9,2, -999.000, -999.000,1,-999.0000,-999.0000,1,  -999.00,  -999.00,1, -999.000, -999.000,9,    -9.00,9
  32MB19900222,  P15S,    11,  3,    841,      1,2,19900228,-30.0050,-170.0133, 5417,   5176.6,   1.0320,  34.7190,2,  34.7110,2,    -9.00,9,    0.009,6,    0.001,6,   2257.5,2, -999.000, -999.000,1,-999.0000,-999.0000,1,  -999.00,  -999.00,1, -999.000, -999.000,9,    -9.00,9
  32MB19900222,  P15S,    12,  1,    952,     12,2,19900301,-32.5167,-169.9983, 5588,      4.2,  22.0790,  35.6770,2,  35.6730,2,     0.39,2,    2.022,2,    1.174,4,   2022.0,2,    0.953,    0.006,2,   1.8470,   0.0090,3,    -1.47,     0.15,2,    7.073,    0.035,2,     1.52,2
  32MB19900222,  P15S,    12,  1,    951,     11,2,19900301,-32.5167,-169.9983, 5588,     18.9,  22.0830,  35.6770,2,  35.6730,2,     0.39,2,    2.083,2,    1.145,2,   2021.0,2,    0.964,    0.006,2,   1.7320,   0.0080,2,    -1.31,     0.15,2,    6.749,    0.033,2,    -9.00,9
  32MB19900222,  P15S,    12,  1,    950,     10,2,19900301,-32.5167,-169.9983, 5588,     37.7,  22.0860,-999.0000,9,  35.6760,2,    -9.00,9,   -9.000,9,   -9.000,9,     -9.0,9, -999.000, -999.000,9,-999.0000,-999.0000,9,  -999.00,  -999.00,9, -999.000, -999.000,9,    -9.00,9
  32MB19900222,  P15S,    12,  1,    949,      9,2,19900301,-32.5167,-169.9983, 5588,     69.3,  18.9660,  35.4880,2,  35.4910,2,     0.39,2,    2.400,2,    1.194,2,   2007.3,2,    0.895,    0.006,2,   1.7510,   0.0090,2,    -1.42,     0.15,2,    6.965,    0.034,2,    -9.00,9
  32MB19900222,  P15S,    12,  1,    948,      8,2,19900301,-32.5167,-169.9983, 5588,     97.9,  16.9680,  35.4860,2,  35.4960,2,     0.39,2,    2.497,2,    1.214,2,   2031.5,2,    0.800,    0.006,2,   1.7680,   0.0090,2,    -1.25,     0.15,2,    7.043,    0.035,2,    -9.00,9
  32MB19900222,  P15S,    12,  1,    947,      7,2,19900301,-32.5167,-169.9983, 5588,    122.9,  15.8620,  35.4180,2,  35.4120,2,     0.39,2,    2.510,2,    1.270,2,     -9.0,9, -999.000, -999.000,9,-999.0000,-999.0000,9,  -999.00,  -999.00,9, -999.000, -999.000,9,    -9.00,9
  32MB19900222,  P15S,    12,  1,    946,      6,2,19900301,-32.5167,-169.9983, 5588,    148.5,  15.2810,  35.3830,2,  35.3810,2,     0.81,2,    2.506,2,    1.251,2,   2060.7,2, -999.000, -999.000,9,-999.0000,-999.0000,9,  -999.00,  -999.00,9, -999.000, -999.000,9,    -9.00,9
  32MB19900222,  P15S,    12,  1,    945,      5,2,19900301,-32.5167,-169.9983, 5588,    170.3,  14.7420,  35.3160,2,  35.3210,2,     2.84,2,    2.583,2,    1.271,2,     -9.0,9, -999.000, -999.000,9,-999.0000,-999.0000,9,  -999.00,  -999.00,9, -999.000, -999.000,9,    -9.00,9
  32MB19900222,  P15S,    12,  1,    944,      4,2,19900301,-32.5167,-169.9983, 5588,    197.4,  13.9490,  35.2300,2,  35.2310,2,     5.55,2,    2.472,2,    1.252,2,   2081.6,2,    0.659,    0.005,2,   1.7630,   0.0090,2,    -0.98,     0.15,2,    7.129,    0.035,2,    -9.00,9
  32MB19900222,  P15S,    12,  1,    943,      3,2,19900301,-32.5167,-169.9983, 5588,    247.7,  12.6000,  35.0820,2,  35.0800,2,     8.73,2,    2.472,2,    1.217,2,   2095.9,2, -999.000, -999.000,9,-999.0000,-999.0000,9,  -999.00,  -999.00,9, -999.000, -999.000,9,    -9.00,9
  32MB19900222,  P15S,    12,  1,    942,      2,2,19900301,-32.5167,-169.9983, 5588,    297.7,  11.3490,  34.9130,2,  34.9150,2,    12.11,2,    2.059,6,    1.036,6,   2109.8,2,    0.524,    0.005,2,   1.7860,   0.0090,2,     0.00,     0.15,2,    7.316,    0.036,2,    -9.00,9
  32MB19900222,  P15S,    12,  1,    941,      1,2,19900301,-32.5167,-169.9983, 5588,    347.5,  10.3430,  34.7880,2,  34.7870,2,    14.75,2,    1.835,2,    0.928,2,     -9.0,9, -999.000, -999.000,9,-999.0000,-999.0000,9,  -999.00,  -999.00,9, -999.000, -999.000,9,    -9.00,9