BOTTLE,20081204PRINUNIVRMKPRINUNIVRMK
EXPOCODE,SECT_ID,STNNBR,CASTNO,SAMPNO,BTLNBR,BTLNBR_FLAG_W,DATE,LATITUDE,LONGITUDE,DEPTH,CTDPRS,CTDTMP,CTDSAL,CTDSAL_FLAG_W,SALNTY,SALNTY_FLAG_W,NITRAT,NITRAT_FLAG_W,CFC-11,CFC-11_FLAG_W,CFC-12,CFC-12_FLAG_W,TCARBN,TCARBN_FLAG_W,TRITUM,TRITER,TRITUM_FLAG_W,HELIUM,HELIER,HELIUM_FLAG_W,DELHE3,DELHER,DELHE3_FLAG_W,NEON,NEONE,NEON_FLAG_W,DELC13,DELC13_FLAG_W
,,,,,,,,,,METERS,DBARS,ITS-90,PSS-78,,PSS-78,,UMOL/KG,,PMOL/KG,,PMOL/KG,,UMOL/KG,,TU,TU,,NMOL/KG,NMOL/KG,,PERCNT,PERCNT,,NMOL/KG,NMOL/KG,,O/OO,
  32MB19900222,  P15S,    16,  1,     47,     12,2,19900304,-40.9967,-170.4800, 4248,      4.5,  17.5740,  35.0780,2,  35.0820,2,     0.39,2,    2.464,2,    2.038,4,     -9.0,9, -999.000, -999.000,9,-999.0000,-999.0000,9,  -999.00,  -999.00,9, -999.000, -999.000,9,    -9.00,9
  32MB19900222,  P15S,    16,  1,     46,     11,2,19900304,-40.9967,-170.4800, 4248,     29.1,  17.0770,-999.0000,2,  35.0970,2,    -9.00,9,   -9.000,9,   -9.000,9,     -9.0,9, -999.000, -999.000,9,-999.0000,-999.0000,9,  -999.00,  -999.00,9, -999.000, -999.000,9,    -9.00,9
  32MB19900222,  P15S,    16,  1,     45,     10,2,19900304,-40.9967,-170.4800, 4248,     98.1,  12.9950,  35.0870,2,  35.0910,2,     5.43,2,    2.909,2,    1.445,2,     -9.0,9, -999.000, -999.000,9,-999.0000,-999.0000,9,  -999.00,  -999.00,9, -999.000, -999.000,9,    -9.00,9
  32MB19900222,  P15S,    16,  1,     44,      9,2,19900304,-40.9967,-170.4800, 4248,    197.6,  12.2390,  35.0400,2,  35.0370,2,     6.52,2,    2.979,2,    1.453,2,     -9.0,9, -999.000, -999.000,9,-999.0000,-999.0000,9,  -999.00,  -999.00,9, -999.000, -999.000,9,    -9.00,9
  32MB19900222,  P15S,    16,  1,     43,      8,2,19900304,-40.9967,-170.4800, 4248,    395.9,   9.1830,  34.6370,2,  34.6390,2,    17.04,2,    2.391,2,    1.145,2,     -9.0,9, -999.000, -999.000,9,-999.0000,-999.0000,9,  -999.00,  -999.00,9, -999.000, -999.000,9,    -9.00,9
  32MB19900222,  P15S,    16,  1,     42,      7,2,19900304,-40.9967,-170.4800, 4248,    595.4,   7.8850,  34.5060,2,  34.5070,2,    21.16,2,    1.740,2,    0.864,2,     -9.0,9, -999.000, -999.000,9,-999.0000,-999.0000,9,  -999.00,  -999.00,9, -999.000, -999.000,9,    -9.00,9
  32MB19900222,  P15S,    16,  1,     41,      6,2,19900304,-40.9967,-170.4800, 4248,    795.4,   7.0950,  34.4430,2,  34.4470,2,    23.84,2,    1.050,2,    0.535,2,     -9.0,9, -999.000, -999.000,9,-999.0000,-999.0000,9,  -999.00,  -999.00,9, -999.000, -999.000,9,    -9.00,9
  32MB19900222,  P15S,    16,  1,     52,      5,2,19900304,-40.9967,-170.4800, 4248,    996.3,   6.0010,  34.4040,2,  34.4060,2,    27.91,2,    0.378,6,    0.179,6,     -9.0,9, -999.000, -999.000,9,-999.0000,-999.0000,9,  -999.00,  -999.00,9, -999.000, -999.000,9,    -9.00,9
  32MB19900222,  P15S,    16,  1,     51,      4,2,19900304,-40.9967,-170.4800, 4248,   1244.2,   4.6290,  34.4240,2,  34.4280,2,    -9.00,9,    0.091,2,    0.039,2,     -9.0,9, -999.000, -999.000,9,-999.0000,-999.0000,9,  -999.00,  -999.00,9, -999.000, -999.000,9,    -9.00,9
  32MB19900222,  P15S,    16,  1,     50,      3,2,19900304,-40.9967,-170.4800, 4248,   1494.3,   3.5770,  34.4280,2,  34.5010,2,    -9.00,9,    0.021,6,    0.003,6,     -9.0,9, -999.000, -999.000,9,-999.0000,-999.0000,9,  -999.00,  -999.00,9, -999.000, -999.000,9,    -9.00,9
  32MB19900222,  P15S,    16,  1,     49,      2,2,19900304,-40.9967,-170.4800, 4248,   1743.1,   2.9300,  34.5740,2,  34.5750,2,    -9.00,9,    0.001,2,    0.001,2,     -9.0,9, -999.000, -999.000,9,-999.0000,-999.0000,9,  -999.00,  -999.00,9, -999.000, -999.000,9,    -9.00,9
  32MB19900222,  P15S,    16,  1,     48,      1,2,19900304,-40.9967,-170.4800, 4248,   1997.9,   2.5310,  34.6150,2,  34.6190,2,    -9.00,9,   -0.003,6,    0.001,6,     -9.0,9, -999.000, -999.000,9,-999.0000,-999.0000,9,  -999.00,  -999.00,9, -999.000, -999.000,9,    -9.00,9
  32MB19900222,  P15S,    16,  2,    146,     11,2,19900304,-40.9967,-170.4800, 4248,   2195.8,   2.3100,  34.6720,2,  34.6380,2,    -9.00,9,   -0.007,6,    0.002,6,     -9.0,9, -999.000, -999.000,9,-999.0000,-999.0000,9,  -999.00,  -999.00,9, -999.000, -999.000,9,    -9.00,9
  32MB19900222,  P15S,    16,  2,    145,     10,2,19900304,-40.9967,-170.4800, 4248,   2595.3,   2.0180,  34.6850,2,  34.6810,2,    -9.00,9,   -0.007,2,    0.000,2,     -9.0,9, -999.000, -999.000,9,-999.0000,-999.0000,9,  -999.00,  -999.00,9, -999.000, -999.000,9,    -9.00,9
  32MB19900222,  P15S,    16,  2,    144,      9,2,19900304,-40.9967,-170.4800, 4248,   2991.7,   1.7920,  34.7280,2,  34.7300,2,    -9.00,9,    0.000,2,    0.000,2,     -9.0,9, -999.000, -999.000,9,-999.0000,-999.0000,9,  -999.00,  -999.00,9, -999.000, -999.000,9,    -9.00,9
  32MB19900222,  P15S,    16,  2,    143,      8,2,19900304,-40.9967,-170.4800, 4248,   3195.8,   1.6130,  34.7310,2,  34.7360,2,    -9.00,9,    0.001,6,    0.001,6,     -9.0,9, -999.000, -999.000,9,-999.0000,-999.0000,9,  -999.00,  -999.00,9, -999.000, -999.000,9,    -9.00,9
  32MB19900222,  P15S,    16,  2,    142,      7,2,19900304,-40.9967,-170.4800, 4248,   3396.1,   1.4430,  34.7250,2,  34.7330,2,    -9.00,9,    0.006,2,    0.008,2,     -9.0,9, -999.000, -999.000,9,-999.0000,-999.0000,9,  -999.00,  -999.00,9, -999.000, -999.000,9,    -9.00,9
  32MB19900222,  P15S,    16,  2,    141,      6,2,19900304,-40.9967,-170.4800, 4248,   3595.0,   1.2740,  34.7260,2,  34.7280,2,    -9.00,9,    0.001,2,    0.000,2,     -9.0,9, -999.000, -999.000,9,-999.0000,-999.0000,9,  -999.00,  -999.00,9, -999.000, -999.000,9,    -9.00,9
  32MB19900222,  P15S,    16,  2,    152,      5,2,19900304,-40.9967,-170.4800, 4248,   3797.7,   1.1250,-999.0000,9,  34.7230,2,    -9.00,9,    0.016,3,    0.003,3,     -9.0,9, -999.000, -999.000,9,-999.0000,-999.0000,9,  -999.00,  -999.00,9, -999.000, -999.000,9,    -9.00,9
  32MB19900222,  P15S,    16,  2,    151,      4,2,19900304,-40.9967,-170.4800, 4248,   3997.9,   1.0190,-999.0000,9,  34.7180,2,    -9.00,9,    0.029,6,    0.004,2,     -9.0,9, -999.000, -999.000,9,-999.0000,-999.0000,9,  -999.00,  -999.00,9, -999.000, -999.000,9,    -9.00,9
  32MB19900222,  P15S,    16,  2,    150,      3,2,19900304,-40.9967,-170.4800, 4248,   4137.9,   0.9830,  34.7110,2,  34.7150,2,    -9.00,9,    0.015,2,    0.003,2,     -9.0,9, -999.000, -999.000,9,-999.0000,-999.0000,9,  -999.00,  -999.00,9, -999.000, -999.000,9,    -9.00,9
  32MB19900222,  P15S,    16,  2,    149,      2,2,19900304,-40.9967,-170.4800, 4248,   4238.0,   0.9460,  34.7030,2,  34.7140,2,    -9.00,9,    0.023,6,    0.012,6,     -9.0,9, -999.000, -999.000,9,-999.0000,-999.0000,9,  -999.00,  -999.00,9, -999.000, -999.000,9,    -9.00,9
  32MB19900222,  P15S,    16,  2,    148,      1,2,19900304,-40.9967,-170.4800, 4248,   4343.3,   0.9070,  34.7270,2,  34.7120,2,    -9.00,9,    0.017,6,    0.003,6,     -9.0,9, -999.000, -999.000,9,-999.0000,-999.0000,9,  -999.00,  -999.00,9, -999.000, -999.000,9,    -9.00,9
  32MB19900222,  P15S,    17,  1,    247,     12,2,19900305,-41.4900,-170.7233, 3984,   1993.2,   2.5500,  34.6120,2,  34.6180,2,    -9.00,9,   -0.002,2,    0.003,2,   2280.6,2, -999.000, -999.000,1,-999.0000,-999.0000,1,  -999.00,  -999.00,1, -999.000, -999.000,9,    -9.00,9
  32MB19900222,  P15S,    17,  1,    246,     11,2,19900305,-41.4900,-170.7233, 3984,   2191.4,   2.3100,  34.6360,2,  34.6390,2,    -9.00,9,   -0.004,2,    0.000,2,   2284.6,2, -999.000, -999.000,1,-999.0000,-999.0000,1,  -999.00,  -999.00,1, -999.000, -999.000,9,    -9.00,9
  32MB19900222,  P15S,    17,  1,    245,     10,2,19900305,-41.4900,-170.7233, 3984,   2392.8,   2.1270,  34.6580,2,  34.6620,2,    -9.00,9,    0.002,2,    0.001,2,   2287.8,2, -999.000, -999.000,1,-999.0000,-999.0000,1,  -999.00,  -999.00,1, -999.000, -999.000,9,    -9.00,9
  32MB19900222,  P15S,    17,  1,    244,      9,2,19900305,-41.4900,-170.7233, 3984,   2590.8,   1.9770,  34.6810,2,  34.6890,2,    -9.00,9,   -0.001,2,    0.003,2,   2278.4,2, -999.000, -999.000,1,-999.0000,-999.0000,1,  -999.00,  -999.00,1, -999.000, -999.000,9,    -9.00,9
  32MB19900222,  P15S,    17,  1,    243,      8,2,19900305,-41.4900,-170.7233, 3984,   2794.7,   1.8520,  34.7090,2,  34.7120,2,    -9.00,9,   -0.004,2,    0.001,2,   2269.1,2, -999.000, -999.000,1,-999.0000,-999.0000,1,  -999.00,  -999.00,1, -999.000, -999.000,9,    -9.00,9
  32MB19900222,  P15S,    17,  1,    242,      7,2,19900305,-41.4900,-170.7233, 3984,   2996.7,   1.7330,  34.7240,2,  34.7290,2,    -9.00,9,    0.013,4,    0.000,2,   2257.1,2, -999.000, -999.000,1,-999.0000,-999.0000,1,  -999.00,  -999.00,1, -999.000, -999.000,9,    -9.00,9
  32MB19900222,  P15S,    17,  1,    241,      6,2,19900305,-41.4900,-170.7233, 3984,   3096.2,   1.6650,  34.7280,2,  34.7340,2,    -9.00,9,   -0.001,2,    0.001,2,   2255.1,2, -999.000, -999.000,1,-999.0000,-999.0000,1,  -999.00,  -999.00,1, -999.000, -999.000,9,    -9.00,9
  32MB19900222,  P15S,    17,  1,    251,      4,2,19900305,-41.4900,-170.7233, 3984,   3196.9,   1.5260,  34.7300,2,  34.7360,2,    -9.00,9,   -0.002,2,    0.001,2,     -9.0,9, -999.000, -999.000,1,-999.0000,-999.0000,1,  -999.00,  -999.00,1, -999.000, -999.000,9,    -9.00,9
  32MB19900222,  P15S,    17,  1,    250,      3,2,19900305,-41.4900,-170.7233, 3984,   3299.4,   1.4110,  34.7530,2,  34.7330,2,    -9.00,9,    0.000,6,    0.001,6,   2255.3,2, -999.000, -999.000,1,-999.0000,-999.0000,1,  -999.00,  -999.00,1, -999.000, -999.000,9,    -9.00,9
  32MB19900222,  P15S,    17,  1,    249,      2,2,19900305,-41.4900,-170.7233, 3984,   3344.1,   1.3820,  34.7240,2,  34.7330,2,    -9.00,9,    0.000,2,    0.001,2,   2254.4,2, -999.000, -999.000,1,-999.0000,-999.0000,1,  -999.00,  -999.00,1, -999.000, -999.000,9,    -9.00,9
  32MB19900222,  P15S,    17,  1,    248,      1,2,19900305,-41.4900,-170.7233, 3984,   3400.3,   1.3300,  34.7360,2,  34.7310,2,    -9.00,9,   -0.002,6,    0.002,6,   2253.3,2, -999.000, -999.000,1,-999.0000,-999.0000,1,  -999.00,  -999.00,1, -999.000, -999.000,9,    -9.00,9
  32MB19900222,  P15S,    18,  1,    346,     11,2,19900305,-41.9817,-170.9833, 2974,   1992.8,   2.5310,  34.6160,2,  34.6200,2,    -9.00,9,   -0.004,2,    0.001,2,     -9.0,9, -999.000, -999.000,9,-999.0000,-999.0000,9,  -999.00,  -999.00,9, -999.000, -999.000,9,    -9.00,9
  32MB19900222,  P15S,    18,  1,    347,     12,2,19900305,-41.9817,-170.9833, 2974,   1993.1,   2.5310,-999.0000,9,  34.6200,2,    -9.00,9,    0.000,2,    0.000,2,     -9.0,9, -999.000, -999.000,9,-999.0000,-999.0000,9,  -999.00,  -999.00,9, -999.000, -999.000,9,    -9.00,9
  32MB19900222,  P15S,    18,  1,    345,     10,2,19900305,-41.9817,-170.9833, 2974,   2193.3,   2.2730,  34.6390,2,  34.6440,2,    -9.00,9,   -9.000,9,   -9.000,9,     -9.0,9, -999.000, -999.000,9,-999.0000,-999.0000,9,  -999.00,  -999.00,9, -999.000, -999.000,9,    -9.00,9
  32MB19900222,  P15S,    18,  1,    344,      9,2,19900305,-41.9817,-170.9833, 2974,   2400.1,   2.0290,  34.6720,2,  34.6780,2,    -9.00,9,    0.002,2,    0.001,2,     -9.0,9, -999.000, -999.000,9,-999.0000,-999.0000,9,  -999.00,  -999.00,9, -999.000, -999.000,9,    -9.00,9
  32MB19900222,  P15S,    18,  1,    343,      8,2,19900305,-41.9817,-170.9833, 2974,   2493.3,   1.9240,  34.6970,2,  34.6930,2,    -9.00,9,   -0.009,2,    0.000,2,     -9.0,9, -999.000, -999.000,9,-999.0000,-999.0000,9,  -999.00,  -999.00,9, -999.000, -999.000,9,    -9.00,9
  32MB19900222,  P15S,    18,  1,    342,      7,2,19900305,-41.9817,-170.9833, 2974,   2592.8,   1.8600,  34.7060,2,  34.7120,2,    -9.00,9,   -0.004,2,    0.000,2,     -9.0,9, -999.000, -999.000,9,-999.0000,-999.0000,9,  -999.00,  -999.00,9, -999.000, -999.000,9,    -9.00,9
  32MB19900222,  P15S,    18,  1,    341,      6,2,19900305,-41.9817,-170.9833, 2974,   2694.3,   1.7880,  34.7180,2,  34.7230,2,    -9.00,9,    0.003,2,    0.000,2,     -9.0,9, -999.000, -999.000,9,-999.0000,-999.0000,9,  -999.00,  -999.00,9, -999.000, -999.000,9,    -9.00,9
  32MB19900222,  P15S,    18,  1,    351,      4,2,19900305,-41.9817,-170.9833, 2974,   2793.9,   1.6900,  34.7270,2,  34.7320,2,    -9.00,9,   -0.002,2,    0.000,2,     -9.0,9, -999.000, -999.000,9,-999.0000,-999.0000,9,  -999.00,  -999.00,9, -999.000, -999.000,9,    -9.00,9
  32MB19900222,  P15S,    18,  1,    350,      3,2,19900305,-41.9817,-170.9833, 2974,   2893.9,   1.5860,  34.7340,2,  34.7360,2,    -9.00,9,    0.000,2,    0.001,2,     -9.0,9, -999.000, -999.000,9,-999.0000,-999.0000,9,  -999.00,  -999.00,9, -999.000, -999.000,9,    -9.00,9
  32MB19900222,  P15S,    18,  1,    349,      2,2,19900305,-41.9817,-170.9833, 2974,   2894.3,   1.5860,  34.7300,2,  34.7350,2,    -9.00,9,   -0.005,2,    0.000,2,     -9.0,9, -999.000, -999.000,9,-999.0000,-999.0000,9,  -999.00,  -999.00,9, -999.000, -999.000,9,    -9.00,9
  32MB19900222,  P15S,    18,  1,    348,      1,2,19900305,-41.9817,-170.9833, 2974,   2972.7,   1.5110,  34.7300,2,  34.7350,2,    -9.00,9,   -0.004,6,    0.000,6,     -9.0,9, -999.000, -999.000,9,-999.0000,-999.0000,9,  -999.00,  -999.00,9, -999.000, -999.000,9,    -9.00,9
  32MB19900222,  P15S,    19,  1,    447,     12,2,19900305,-42.4917,-171.2033, 1826,      3.1,  17.7850,  35.1140,2,  35.1160,2,     0.39,2,    2.552,2,    1.935,4,   2017.3,2,    0.543,    0.005,2,   1.5740,   0.0080,3,     0.61,     0.15,2,    5.558,    0.027,3,    -9.00,9
  32MB19900222,  P15S,    19,  1,    446,     11,2,19900305,-42.4917,-171.2033, 1826,     36.0,  17.3260,  35.1400,2,  35.1410,2,     0.39,2,    2.450,2,    1.205,3,   2019.3,2,    0.707,    0.005,2,   1.7530,   0.0090,2,    -1.35,     0.15,2,    6.973,    0.034,2,    -9.00,9
  32MB19900222,  P15S,    19,  1,    445,     10,2,19900305,-42.4917,-171.2033, 1826,     67.8,  14.8970,  35.3510,2,  35.3530,2,     3.60,2,    2.521,2,    1.245,2,   2059.8,2, -999.000, -999.000,9,-999.0000,-999.0000,9,  -999.00,  -999.00,9, -999.000, -999.000,9,    -9.00,9
  32MB19900222,  P15S,    19,  1,    444,      9,2,19900305,-42.4917,-171.2033, 1826,     96.4,  14.0640,-999.0000,9,  35.2850,2,    -9.00,9,   -9.000,9,   -9.000,9,     -9.0,9, -999.000, -999.000,9,-999.0000,-999.0000,9,  -999.00,  -999.00,9, -999.000, -999.000,9,    -9.00,9
  32MB19900222,  P15S,    19,  1,    443,      8,2,19900305,-42.4917,-171.2033, 1826,    121.4,  13.7690,-999.0000,9,  35.2540,2,     7.07,2,    2.416,6,    1.247,6,     -9.0,9,    0.608,    0.005,2,   1.7730,   0.0090,2,    -0.76,     0.15,2,    7.150,    0.035,2,    -9.00,9
  32MB19900222,  P15S,    19,  1,    442,      7,2,19900305,-42.4917,-171.2033, 1826,    146.6,  13.4780,  35.2530,2,  35.2580,2,     7.36,2,    2.525,2,    1.309,2,   2068.6,2, -999.000, -999.000,9,-999.0000,-999.0000,9,  -999.00,  -999.00,9, -999.000, -999.000,9,    -9.00,9
  32MB19900222,  P15S,    19,  1,    441,      6,2,19900305,-42.4917,-171.2033, 1826,    196.8,  12.9230,  35.1660,2,  35.1570,2,     7.64,2,    2.505,2,    1.281,2,     -9.0,9,    0.346,    0.004,2,   1.7810,   0.0090,2,    -0.52,     0.15,2,    7.206,    0.035,2,    -9.00,9
  32MB19900222,  P15S,    19,  1,    452,      5,2,19900305,-42.4917,-171.2033, 1826,    245.7,  12.0800,  35.0200,2,  35.0030,2,    10.25,2,    2.399,2,    1.218,2,     -9.0,9, -999.000, -999.000,9,-999.0000,-999.0000,9,  -999.00,  -999.00,9, -999.000, -999.000,9,    -9.00,9
  32MB19900222,  P15S,    19,  1,    451,      4,2,19900305,-42.4917,-171.2033, 1826,    295.2,  11.4130,  34.9180,2,  34.9230,2,    12.30,2,    2.334,2,    1.169,2,     -9.0,9,    0.549,    0.005,2,   1.7860,   0.0090,2,    -0.18,     0.15,2,    7.316,    0.036,2,    -9.00,9
  32MB19900222,  P15S,    19,  1,    450,      3,2,19900305,-42.4917,-171.2033, 1826,    345.3,  10.7630,  34.8370,2,  34.8400,2,    14.29,2,    2.136,2,    1.097,2,   2103.6,2, -999.000, -999.000,9,-999.0000,-999.0000,9,  -999.00,  -999.00,9, -999.000, -999.000,9,    -9.00,9
  32MB19900222,  P15S,    19,  1,    449,      2,2,19900305,-42.4917,-171.2033, 1826,    396.6,  10.1700,  34.7780,2,  34.7840,2,    16.34,2,    1.798,2,    0.941,2,   2109.3,2,    0.417,    0.004,2,   1.7820,   0.0090,2,     0.56,     0.15,2,    7.342,    0.036,2,    -9.00,9
  32MB19900222,  P15S,    19,  1,    448,      1,2,19900305,-42.4917,-171.2033, 1826,    496.9,   9.3070,  34.6880,2,  34.6930,2,    18.53,2,    1.559,2,    0.770,2,   2117.5,2,    0.374,    0.004,2,   1.8080,   0.0090,2,     1.14,     0.15,2,    7.442,    0.036,2,    -9.00,9
  32MB19900222,  P15S,    19,  2,    547,     12,2,19900305,-42.4917,-171.2033, 1826,     29.8,  17.3840,-999.0000,9,  35.1330,2,    -9.00,9,   -9.000,9,   -9.000,9,     -9.0,9, -999.000, -999.000,9,-999.0000,-999.0000,9,  -999.00,  -999.00,9, -999.000, -999.000,9,    -9.00,9
  32MB19900222,  P15S,    19,  2,    546,     11,2,19900305,-42.4917,-171.2033, 1826,     98.9,  14.2330,  35.3000,2,  35.3040,2,     5.52,2,    2.430,2,    1.220,6,   2065.7,2,    0.735,    0.006,2,   1.7600,   0.0090,2,    -1.04,     0.15,2,    7.297,    0.036,2,    -9.00,9
  32MB19900222,  P15S,    19,  2,    545,     10,2,19900305,-42.4917,-171.2033, 1826,    594.5,   8.4710,  34.6100,2,  34.6090,2,    19.17,2,    1.246,2,    0.569,2,   2128.7,2,    0.305,    0.004,2,   1.7970,   0.0090,2,     1.28,     0.15,2,    7.601,    0.037,2,    -9.00,9
  32MB19900222,  P15S,    19,  2,    544,      9,2,19900305,-42.4917,-171.2033, 1826,    697.7,   7.9100,  34.5540,2,  34.5570,2,    21.81,2,    0.945,2,    0.478,2,   2139.1,2,    0.194,    0.003,2,   1.8070,   0.0090,2,     1.64,     0.15,2,    7.675,    0.038,2,    -9.00,9
  32MB19900222,  P15S,    19,  2,    543,      8,2,19900305,-42.4917,-171.2033, 1826,    793.5,   7.2510,  34.5040,2,  34.5040,2,    24.02,2,    0.616,2,    0.287,2,   2143.5,2,    0.203,    0.004,2,   1.8030,   0.0090,2,     2.21,     0.15,2,    7.663,    0.038,2,    -9.00,9
  32MB19900222,  P15S,    19,  2,    542,      7,2,19900305,-42.4917,-171.2033, 1826,    895.3,   6.6790,  34.4740,2,  34.4740,2,    25.64,2,    0.423,6,    0.193,6,   2157.3,2,    0.138,    0.003,2,-999.0000,-999.0000,9,  -999.00,  -999.00,9, -999.000, -999.000,9,    -9.00,9
  32MB19900222,  P15S,    19,  2,    541,      6,2,19900305,-42.4917,-171.2033, 1826,    995.0,   6.1690,  34.4640,2,  34.4660,2,    26.97,2,    0.277,2,    0.128,2,   2162.5,2,    0.153,    0.005,2,   1.8300,   0.0090,2,     4.03,     0.15,2,    7.623,    0.037,2,    -9.00,9
  32MB19900222,  P15S,    19,  2,    551,      4,2,19900305,-42.4917,-171.2033, 1826,   1097.9,   5.5040,  34.4580,2,  34.4450,2,    28.60,2,    0.154,2,    0.064,3,     -9.0,9,    0.038,    0.003,2,   1.8400,   0.0090,2,     6.02,     0.15,2,    7.685,    0.038,2,    -9.00,9
  32MB19900222,  P15S,    19,  2,    550,      3,2,19900305,-42.4917,-171.2033, 1826,   1243.5,   4.7500,  34.4710,2,  34.4830,2,    -9.00,9,    0.073,6,    0.021,6,   2198.8,2,    0.035,    0.002,2,   1.8720,   0.0090,2,     8.39,     0.15,2,    7.798,    0.038,2,    -9.00,9
  32MB19900222,  P15S,    19,  2,    549,      2,2,19900305,-42.4917,-171.2033, 1826,   1495.3,   3.7460,  34.5900,2,  34.5280,2,    -9.00,9,   -9.000,9,   -9.000,9,     -9.0,9,    0.023,    0.002,2,   1.8710,   0.0090,2,    12.92,     0.15,2,    7.789,    0.038,2,    -9.00,9
  32MB19900222,  P15S,    19,  2,    548,      1,2,19900305,-42.4917,-171.2033, 1826,   1836.9,   2.6990,  34.6220,2,  34.6080,2,    -9.00,9,    0.000,6,   -0.001,6,   2269.5,2,    0.002,    0.002,2,   1.9250,   0.0090,2,    18.49,     0.15,2,    7.937,    0.039,2,    -9.00,9