BOTTLE,20020809WHPSIObren
EXPOCODE,SECT_ID,STNNBR,CASTNO,SAMPNO,BTLNBR,BTLNBR_FLAG_W,DATE,TIME,LATITUDE,LONGITUDE,DEPTH,CTDPRS,CTDTMP,CTDSAL,CTDSAL_FLAG_W,SALNTY,SALNTY_FLAG_W,CTDOXY,CTDOXY_FLAG_W,OXYGEN,OXYGEN_FLAG_W,SILCAT,SILCAT_FLAG_W,NO2+NO3,NO2+NO3_FLAG_W,PHSPHT,PHSPHT_FLAG_W,CTDRAW,REVTMP,REVPRS,THETA
,,,,,,,,,,,,DBAR,ITS-90,PSS-78,,PSS-78,,UMOL/KG,,UMOL/KG,,UMOL/KG,,UMOL/KG,,UMOL/KG,,,DEG C,DBAR,ITS-90
     32MW073_1,  PRS2,     2,  9,     12,     12,2,19960626,1511, 22.7562,-158.0078, 4710,      4.5,  26.3163,  34.4891,2,  34.4908,2,    204.4,1,   -999.0,9,  -999.00,9,  -999.00,9,  -999.00,9,      5,-999.000,  -999.0, 26.3153
     32MW073_1,  PRS2,     2,  9,     11,     11,2,19960626,1511, 22.7562,-158.0078, 4710,     24.4,  26.3181,  34.4887,2,  34.4914,2,    205.6,1,   -999.0,9,  -999.00,9,  -999.00,9,  -999.00,9,     25,-999.000,  -999.0, 26.3126
     32MW073_1,  PRS2,     2,  9,     10,     32,2,19960626,1511, 22.7562,-158.0078, 4710,     50.2,  24.7719,  34.8490,2,  34.8480,2,    213.4,1,   -999.0,9,  -999.00,9,  -999.00,9,  -999.00,9,     50,-999.000,  -999.0, 24.7611
     32MW073_1,  PRS2,     2,  9,      9,      3,2,19960626,1511, 22.7562,-158.0078, 4710,     74.1,  23.2289,  35.0572,2,  35.0557,2,    220.4,1,   -999.0,9,  -999.00,9,  -999.00,9,  -999.00,9,     74,-999.000,  -999.0, 23.2137
     32MW073_1,  PRS2,     2,  9,      8,     29,2,19960626,1511, 22.7562,-158.0078, 4710,    100.3,  22.2929,  35.1046,2,  35.1038,2,    219.9,1,   -999.0,9,  -999.00,9,  -999.00,9,  -999.00,9,    101,-999.000,  -999.0, 22.2729
     32MW073_1,  PRS2,     2,  9,      7,     28,2,19960626,1511, 22.7562,-158.0078, 4710,    123.4,  21.8851,  35.1146,2,  35.1141,2,    217.9,1,   -999.0,9,  -999.00,9,  -999.00,9,  -999.00,9,    124,-999.000,  -999.0, 21.8608
     32MW073_1,  PRS2,     2,  9,      6,      7,2,19960626,1511, 22.7562,-158.0078, 4710,    148.7,  21.3596,  35.1151,2,  35.1154,2,    213.9,1,   -999.0,9,  -999.00,9,  -999.00,9,  -999.00,9,    149,-999.000,  -999.0, 21.3308
     32MW073_1,  PRS2,     2,  9,      5,     38,2,19960626,1511, 22.7562,-158.0078, 4710,    173.9,  20.7347,  35.1257,2,  35.1259,2,    207.3,1,   -999.0,9,  -999.00,9,  -999.00,9,  -999.00,9,    175,-999.000,  -999.0, 20.7017
     32MW073_1,  PRS2,     2,  9,      4,     36,2,19960626,1511, 22.7562,-158.0078, 4710,    250.1,  17.3491,  34.8305,2,  34.8329,2,    200.8,1,   -999.0,9,  -999.00,9,  -999.00,9,  -999.00,9,    250,-999.000,  -999.0, 17.3072
     32MW073_1,  PRS2,     2,  9,      3,     35,2,19960626,1511, 22.7562,-158.0078, 4710,    489.8,   7.9571,  34.0706,2,  34.0685,2,    148.8,1,   -999.0,9,  -999.00,9,  -999.00,9,  -999.00,9,    489,-999.000,  -999.0,  7.9075
     32MW073_1,  PRS2,     2,  9,      2,     34,2,19960626,1511, 22.7562,-158.0078, 4710,    750.2,   5.0606,  34.3224,2,  34.3218,2,     26.5,1,   -999.0,9,  -999.00,9,  -999.00,9,  -999.00,9,    751,-999.000,  -999.0,  4.9993
     32MW073_1,  PRS2,     2,  9,      1,     33,2,19960626,1511, 22.7562,-158.0078, 4710,   1020.6,   4.2588,  34.4797,2,  34.4800,2,     36.7,1,   -999.0,9,  -999.00,9,  -999.00,9,  -999.00,9,   1021,-999.000,  -999.0,  4.1794
     32MW073_1,  PRS2,     2, 10,     12,     12,2,19960626,1800, 22.7793,-158.0198, 4710,      4.0,  26.2659,  34.4706,2,  34.4714,2,    206.3,1,   -999.0,9,  -999.00,9,  -999.00,9,  -999.00,9,      4,-999.000,  -999.0, 26.2650
     32MW073_1,  PRS2,     2, 10,     11,     11,2,19960626,1800, 22.7793,-158.0198, 4710,      9.4,  26.2616,  34.4697,2,  34.4515,4,    206.3,1,   -999.0,9,  -999.00,9,  -999.00,9,  -999.00,9,     10,-999.000,  -999.0, 26.2595
     32MW073_1,  PRS2,     2, 10,     10,     32,2,19960626,1800, 22.7793,-158.0198, 4710,     24.6,  26.2637,  34.4683,2,  34.4704,2,    206.4,1,   -999.0,9,  -999.00,9,  -999.00,9,  -999.00,9,     25,-999.000,  -999.0, 26.2582
     32MW073_1,  PRS2,     2, 10,      9,      3,2,19960626,1800, 22.7793,-158.0198, 4710,     50.3,  25.2153,  34.7473,2,  34.7427,2,    214.7,1,   -999.0,9,  -999.00,9,  -999.00,9,  -999.00,9,     50,-999.000,  -999.0, 25.2044
     32MW073_1,  PRS2,     2, 10,      8,     29,2,19960626,1800, 22.7793,-158.0198, 4710,     74.3,  23.9019,  35.0184,2,  35.0154,2,    221.5,1,   -999.0,9,  -999.00,9,  -999.00,9,  -999.00,9,     75,-999.000,  -999.0, 23.8863
     32MW073_1,  PRS2,     2, 10,      7,     28,2,19960626,1800, 22.7793,-158.0198, 4710,    100.2,  22.3609,  35.1012,2,  35.1025,2,    220.1,1,   -999.0,9,  -999.00,9,  -999.00,9,  -999.00,9,    101,-999.000,  -999.0, 22.3409
     32MW073_1,  PRS2,     2, 10,      6,      7,2,19960626,1800, 22.7793,-158.0198, 4710,    150.1,  21.3069,  35.1147,2,  35.1158,2,    212.7,1,   -999.0,9,  -999.00,9,  -999.00,9,  -999.00,9,    150,-999.000,  -999.0, 21.2779
     32MW073_1,  PRS2,     2, 10,      5,     38,2,19960626,1800, 22.7793,-158.0198, 4710,    199.5,  19.8443,  35.0789,2,  35.0808,2,    205.0,1,   -999.0,9,  -999.00,9,  -999.00,9,  -999.00,9,    200,-999.000,  -999.0, 19.8076
     32MW073_1,  PRS2,     2, 10,      4,     36,2,19960626,1800, 22.7793,-158.0198, 4710,    249.3,  17.0529,  34.7925,2,  34.8036,2,    197.7,1,   -999.0,9,  -999.00,9,  -999.00,9,  -999.00,9,    249,-999.000,  -999.0, 17.0117
     32MW073_1,  PRS2,     2, 10,      3,     35,2,19960626,1800, 22.7793,-158.0198, 4710,    300.3,  14.6367,  34.5218,2,  34.5262,2,    201.3,1,   -999.0,9,  -999.00,9,  -999.00,9,  -999.00,9,    300,-999.000,  -999.0, 14.5920
     32MW073_1,  PRS2,     2, 10,      2,     34,2,19960626,1800, 22.7793,-158.0198, 4710,    455.5,   8.3010,  34.0738,2,  34.0744,2,    161.5,1,   -999.0,9,  -999.00,9,  -999.00,9,  -999.00,9,    456,-999.000,  -999.0,  8.2538
     32MW073_1,  PRS2,     2, 10,      1,     33,2,19960626,1800, 22.7793,-158.0198, 4710,   1019.7,   4.2172,  34.4825,2,  34.4848,2,     36.8,1,   -999.0,9,  -999.00,9,  -999.00,9,  -999.00,9,   1020,-999.000,  -999.0,  4.1382
     32MW073_1,  PRS2,     2, 11,     12,     12,2,19960626,2058, 22.7920,-158.0450, 4720,     24.8,  26.3198,  34.4865,2,  34.4889,2,    204.8,1,   -999.0,9,  -999.00,9,  -999.00,9,  -999.00,9,     25,-999.000,  -999.0, 26.3142
     32MW073_1,  PRS2,     2, 11,     11,     11,2,19960626,2058, 22.7920,-158.0450, 4720,     44.9,  26.3013,  34.4787,2,  34.4810,2,    204.8,1,   -999.0,9,  -999.00,9,  -999.00,9,  -999.00,9,     45,-999.000,  -999.0, 26.2912
     32MW073_1,  PRS2,     2, 11,     10,     32,2,19960626,2058, 22.7920,-158.0450, 4720,     74.9,  24.5553,  34.8501,2,  34.8744,3,    216.3,1,   -999.0,9,  -999.00,9,  -999.00,9,  -999.00,9,     75,-999.000,  -999.0, 24.5393
     32MW073_1,  PRS2,     2, 11,      9,      3,2,19960626,2058, 22.7920,-158.0450, 4720,     99.6,  22.7232,  35.0844,2,  35.0841,2,    222.1,1,   -999.0,9,  -999.00,9,  -999.00,9,  -999.00,9,    100,-999.000,  -999.0, 22.7030
     32MW073_1,  PRS2,     2, 11,      8,     29,2,19960626,2058, 22.7920,-158.0450, 4720,    125.1,  21.9770,  35.1131,2,  35.1132,2,    217.4,1,   -999.0,9,  -999.00,9,  -999.00,9,  -999.00,9,    126,-999.000,  -999.0, 21.9523
     32MW073_1,  PRS2,     2, 11,      7,     28,2,19960626,2058, 22.7920,-158.0450, 4720,    139.3,  21.6830,  35.1177,2,  35.1185,2,    214.9,1,   -999.0,9,  -999.00,9,  -999.00,9,  -999.00,9,    140,-999.000,  -999.0, 21.6557
     32MW073_1,  PRS2,     2, 11,      6,      7,2,19960626,2058, 22.7920,-158.0450, 4720,    149.5,  21.5335,  35.1167,2,  35.1192,2,    214.3,1,   -999.0,9,  -999.00,9,  -999.00,9,  -999.00,9,    149,-999.000,  -999.0, 21.5044
     32MW073_1,  PRS2,     2, 11,      5,     38,2,19960626,2058, 22.7920,-158.0450, 4720,    174.7,  20.8759,  35.1237,2,  35.1257,2,    206.7,1,   -999.0,9,  -999.00,9,  -999.00,9,  -999.00,9,    175,-999.000,  -999.0, 20.8426
     32MW073_1,  PRS2,     2, 11,      4,     36,2,19960626,2058, 22.7920,-158.0450, 4720,    249.6,  17.7598,  34.8777,2,  34.8782,2,    196.8,1,   -999.0,9,  -999.00,9,  -999.00,9,  -999.00,9,    250,-999.000,  -999.0, 17.7173
     32MW073_1,  PRS2,     2, 11,      3,     35,2,19960626,2058, 22.7920,-158.0450, 4720,    480.5,   8.3314,  34.0782,2,  34.0771,2,    165.2,1,   -999.0,9,  -999.00,9,  -999.00,9,  -999.00,9,    481,-999.000,  -999.0,  8.2813
     32MW073_1,  PRS2,     2, 11,      2,     34,2,19960626,2058, 22.7920,-158.0450, 4720,    750.6,   5.0906,  34.3132,2,  34.3135,2,     26.4,1,   -999.0,9,  -999.00,9,  -999.00,9,  -999.00,9,    751,-999.000,  -999.0,  5.0291
     32MW073_1,  PRS2,     2, 11,      1,     33,2,19960626,2058, 22.7920,-158.0450, 4720,   1019.5,   4.2436,  34.4806,2,  34.4830,2,     36.7,1,   -999.0,9,  -999.00,9,  -999.00,9,  -999.00,9,   1019,-999.000,  -999.0,  4.1644
     32MW073_1,  PRS2,     2, 12,     14,     14,2,19960626,2358, 22.8150,-158.0452, 4720,      4.5,  26.5695,  34.4804,2,  34.4811,2,    206.0,1,   -999.0,9,  -999.00,9,  -999.00,9,  -999.00,9,      5,-999.000,  -999.0, 26.5684
     32MW073_1,  PRS2,     2, 12,     13,     13,2,19960626,2358, 22.8150,-158.0452, 4720,     14.5,  26.2909,  34.4594,2,  34.4601,2,    204.4,1,   -999.0,9,  -999.00,9,  -999.00,9,  -999.00,9,     14,-999.000,  -999.0, 26.2876
     32MW073_1,  PRS2,     2, 12,     11,     11,2,19960626,2358, 22.8150,-158.0452, 4720,     24.6,  26.2717,  34.4565,2,  34.4580,2,    204.6,1,   -999.0,9,  -999.00,9,  -999.00,9,  -999.00,9,     25,-999.000,  -999.0, 26.2662
     32MW073_1,  PRS2,     2, 12,     10,     32,2,19960626,2358, 22.8150,-158.0452, 4720,     24.6,  26.2718,  34.4564,2,  34.4580,2,    204.5,1,   -999.0,9,  -999.00,9,  -999.00,9,  -999.00,9,     25,-999.000,  -999.0, 26.2663
     32MW073_1,  PRS2,     2, 12,     12,     12,2,19960626,2358, 22.8150,-158.0452, 4720,     24.7,  26.2715,  34.4565,2,  34.4577,2,    204.5,1,   -999.0,9,  -999.00,9,  -999.00,9,  -999.00,9,     26,-999.000,  -999.0, 26.2660
     32MW073_1,  PRS2,     2, 12,      9,      3,2,19960626,2358, 22.8150,-158.0452, 4720,     44.0,  26.2575,  34.4572,2,  34.4600,2,    205.3,1,   -999.0,9,  -999.00,9,  -999.00,9,  -999.00,9,     45,-999.000,  -999.0, 26.2476
     32MW073_1,  PRS2,     2, 12,      8,     29,2,19960626,2358, 22.8150,-158.0452, 4720,     64.4,  24.6801,  34.8172,2,  34.8200,2,    214.4,1,   -999.0,9,  -999.00,9,  -999.00,9,  -999.00,9,     64,-999.000,  -999.0, 24.6662
     32MW073_1,  PRS2,     2, 12,      7,     28,2,19960626,2358, 22.8150,-158.0452, 4720,     84.7,  23.2669,  35.0705,2,  35.0708,2,    223.0,1,   -999.0,9,  -999.00,9,  -999.00,9,  -999.00,9,     85,-999.000,  -999.0, 23.2494
     32MW073_1,  PRS2,     2, 12,      6,      7,2,19960626,2358, 22.8150,-158.0452, 4720,    104.7,  22.2332,  35.1014,2,  35.1015,2,    216.3,1,   -999.0,9,  -999.00,9,  -999.00,9,  -999.00,9,    105,-999.000,  -999.0, 22.2124
     32MW073_1,  PRS2,     2, 12,      5,     38,2,19960626,2358, 22.8150,-158.0452, 4720,    124.8,  21.8716,  35.1160,2,  35.1158,2,    216.7,1,   -999.0,9,  -999.00,9,  -999.00,9,  -999.00,9,    125,-999.000,  -999.0, 21.8471
     32MW073_1,  PRS2,     2, 12,      4,     36,2,19960626,2358, 22.8150,-158.0452, 4720,    149.8,  21.3500,  35.1152,2,  35.1161,2,    211.9,1,   -999.0,9,  -999.00,9,  -999.00,9,  -999.00,9,    149,-999.000,  -999.0, 21.3210
     32MW073_1,  PRS2,     2, 12,      3,     35,2,19960626,2358, 22.8150,-158.0452, 4720,    175.6,  20.8015,  35.1235,2,  35.1235,2,    207.3,1,   -999.0,9,  -999.00,9,  -999.00,9,  -999.00,9,    176,-999.000,  -999.0, 20.7681
     32MW073_1,  PRS2,     2, 12,      2,     34,2,19960626,2358, 22.8150,-158.0452, 4720,    520.8,   7.7490,  34.0795,2,  34.0804,2,    130.4,1,   -999.0,9,  -999.00,9,  -999.00,9,  -999.00,9,    521,-999.000,  -999.0,  7.6968
     32MW073_1,  PRS2,     2, 12,      1,     33,2,19960626,2358, 22.8150,-158.0452, 4720,   1019.9,   4.2429,  34.4810,2,  34.4827,2,     37.2,1,   -999.0,9,  -999.00,9,  -999.00,9,  -999.00,9,   1020,-999.000,  -999.0,  4.1637
     32MW073_1,  PRS2,     2, 13,     24,     31,2,19960627,0300, 22.8102,-158.0415, 4725,      1.5,  26.5562,  34.5288,2,  34.5293,2,    204.5,1,   -999.0,9,  -999.00,9,  -999.00,9,  -999.00,9,      2,-999.000,  -999.0, 26.5559
     32MW073_1,  PRS2,     2, 13,     23,     30,2,19960627,0300, 22.8102,-158.0415, 4725,      4.3,  26.5582,  34.5282,2,  34.5278,2,    204.4,1,   -999.0,9,  -999.00,9,  -999.00,9,  -999.00,9,      5,-999.000,  -999.0, 26.5573
     32MW073_1,  PRS2,     2, 13,     22,     22,2,19960627,0300, 22.8102,-158.0415, 4725,      9.7,  26.5598,  34.5286,2,  34.5260,2,    204.4,1,   -999.0,9,  -999.00,9,  -999.00,9,  -999.00,9,     10,-999.000,  -999.0, 26.5576
     32MW073_1,  PRS2,     2, 13,     21,     21,2,19960627,0300, 22.8102,-158.0415, 4725,     14.3,  26.4742,  34.5196,2,  34.5184,2,    204.3,1,   -999.0,9,  -999.00,9,  -999.00,9,  -999.00,9,     15,-999.000,  -999.0, 26.4710
     32MW073_1,  PRS2,     2, 13,     20,     20,2,19960627,0300, 22.8102,-158.0415, 4725,     19.3,  26.3534,  34.5030,2,  34.5047,2,    204.7,1,   -999.0,9,  -999.00,9,  -999.00,9,  -999.00,9,     19,-999.000,  -999.0, 26.3490
     32MW073_1,  PRS2,     2, 13,     19,     19,2,19960627,0300, 22.8102,-158.0415, 4725,     24.0,  26.3440,  34.5016,2,  34.5286,4,    205.0,1,   -999.0,9,  -999.00,9,  -999.00,9,  -999.00,9,     24,-999.000,  -999.0, 26.3386
     32MW073_1,  PRS2,     2, 13,     18,     18,2,19960627,0300, 22.8102,-158.0415, 4725,     29.5,  26.3438,  34.5040,2,  34.5043,2,    205.0,1,   -999.0,9,  -999.00,9,  -999.00,9,  -999.00,9,     30,-999.000,  -999.0, 26.3372
     32MW073_1,  PRS2,     2, 13,     17,     17,2,19960627,0300, 22.8102,-158.0415, 4725,     33.8,  26.3438,  34.5044,2,  34.5043,2,    205.1,1,   -999.0,9,  -999.00,9,  -999.00,9,  -999.00,9,     35,-999.000,  -999.0, 26.3362
     32MW073_1,  PRS2,     2, 13,     16,     16,2,19960627,0300, 22.8102,-158.0415, 4725,     38.3,  26.3506,  34.5084,2,  34.5085,2,    205.2,1,   -999.0,9,  -999.00,9,  -999.00,9,  -999.00,9,     38,-999.000,  -999.0, 26.3420
     32MW073_1,  PRS2,     2, 13,     15,     15,2,19960627,0300, 22.8102,-158.0415, 4725,     43.9,  26.3412,  34.5068,2,  34.5087,2,    205.2,1,   -999.0,9,  -999.00,9,  -999.00,9,  -999.00,9,     44,-999.000,  -999.0, 26.3314
     32MW073_1,  PRS2,     2, 13,     14,     14,2,19960627,0300, 22.8102,-158.0415, 4725,     49.2,  26.3188,  34.5208,2,  34.5281,2,    205.2,1,   -999.0,9,  -999.00,9,  -999.00,9,  -999.00,9,     50,-999.000,  -999.0, 26.3077
     32MW073_1,  PRS2,     2, 13,     13,     13,2,19960627,0300, 22.8102,-158.0415, 4725,     53.1,  25.6046,  34.7060,2,  34.7423,3,    207.9,1,   -999.0,9,  -999.00,9,  -999.00,9,  -999.00,9,     53,-999.000,  -999.0, 25.5929
     32MW073_1,  PRS2,     2, 13,     12,     12,2,19960627,0300, 22.8102,-158.0415, 4725,     64.7,  24.6446,  34.8726,2,  34.8737,2,    216.3,1,   -999.0,9,  -999.00,9,  -999.00,9,  -999.00,9,     66,-999.000,  -999.0, 24.6307
     32MW073_1,  PRS2,     2, 13,     11,     11,2,19960627,0300, 22.8102,-158.0415, 4725,     74.2,  24.3194,  35.0005,2,  34.8141,4,    219.5,1,   -999.0,9,  -999.00,9,  -999.00,9,  -999.00,9,     75,-999.000,  -999.0, 24.3036
     32MW073_1,  PRS2,     2, 13,     10,     32,2,19960627,0300, 22.8102,-158.0415, 4725,     84.0,  23.4219,  35.0615,2,  35.0590,2,    222.9,1,   -999.0,9,  -999.00,9,  -999.00,9,  -999.00,9,     84,-999.000,  -999.0, 23.4045
     32MW073_1,  PRS2,     2, 13,      9,      3,2,19960627,0300, 22.8102,-158.0415, 4725,     93.5,  22.9125,  35.0787,2,  35.0784,2,    220.5,1,   -999.0,9,  -999.00,9,  -999.00,9,  -999.00,9,     93,-999.000,  -999.0, 22.8935
     32MW073_1,  PRS2,     2, 13,      8,     29,2,19960627,0300, 22.8102,-158.0415, 4725,    103.9,  22.3401,  35.0967,2,  35.0950,2,    217.8,1,   -999.0,9,  -999.00,9,  -999.00,9,  -999.00,9,    104,-999.000,  -999.0, 22.3194
     32MW073_1,  PRS2,     2, 13,      7,     28,2,19960627,0300, 22.8102,-158.0415, 4725,    114.0,  22.0704,  35.1103,2,  35.1105,2,    219.6,1,   -999.0,9,  -999.00,9,  -999.00,9,  -999.00,9,    114,-999.000,  -999.0, 22.0478
     32MW073_1,  PRS2,     2, 13,      6,      7,2,19960627,0300, 22.8102,-158.0415, 4725,    124.8,  21.7572,  35.1169,2,  35.1168,2,    215.6,1,   -999.0,9,  -999.00,9,  -999.00,9,  -999.00,9,    126,-999.000,  -999.0, 21.7327
     32MW073_1,  PRS2,     2, 13,      5,     38,2,19960627,0300, 22.8102,-158.0415, 4725,    150.0,  21.1242,  35.1132,2,  35.1143,2,    209.6,1,   -999.0,9,  -999.00,9,  -999.00,9,  -999.00,9,    150,-999.000,  -999.0, 21.0953
     32MW073_1,  PRS2,     2, 13,      4,     36,2,19960627,0300, 22.8102,-158.0415, 4725,    174.0,  20.6194,  35.1236,2,  35.1253,2,    206.1,1,   -999.0,9,  -999.00,9,  -999.00,9,  -999.00,9,    174,-999.000,  -999.0, 20.5865
     32MW073_1,  PRS2,     2, 13,      3,     35,2,19960627,0300, 22.8102,-158.0415, 4725,    250.4,  17.5392,  34.8486,2,  34.8586,2,    201.2,1,   -999.0,9,  -999.00,9,  -999.00,9,  -999.00,9,    251,-999.000,  -999.0, 17.4969
     32MW073_1,  PRS2,     2, 13,      2,     34,2,19960627,0300, 22.8102,-158.0415, 4725,    520.1,   7.7239,  34.0721,2,  34.0726,2,    133.7,1,   -999.0,9,  -999.00,9,  -999.00,9,  -999.00,9,    520,-999.000,  -999.0,  7.6720
     32MW073_1,  PRS2,     2, 13,      1,     33,2,19960627,0300, 22.8102,-158.0415, 4725,   1023.9,   4.1963,  34.4848,2,  34.4869,2,     37.5,1,   -999.0,9,  -999.00,9,  -999.00,9,  -999.00,9,   1024,-999.000,  -999.0,  4.1171
     32MW073_1,  PRS2,     2, 14,      6,      7,2,19960627,0559, 22.7700,-158.0137, 4720,      4.3,  26.4373,  34.5135,2,  34.5178,2,    204.9,1,   -999.0,9,  -999.00,9,  -999.00,9,  -999.00,9,      4,-999.000,  -999.0, 26.4364
     32MW073_1,  PRS2,     2, 14,      5,     38,2,19960627,0559, 22.7700,-158.0137, 4720,    249.8,  16.5402,  34.7327,2,  34.7347,2,    199.0,1,   -999.0,9,  -999.00,9,  -999.00,9,  -999.00,9,    250,-999.000,  -999.0, 16.4998
     32MW073_1,  PRS2,     2, 14,      4,     36,2,19960627,0559, 22.7700,-158.0137, 4720,    401.0,  10.3558,  34.1686,2,  34.1690,2,    194.4,1,   -999.0,9,  -999.00,9,  -999.00,9,  -999.00,9,    402,-999.000,  -999.0, 10.3082
     32MW073_1,  PRS2,     2, 14,      3,     35,2,19960627,0559, 22.7700,-158.0137, 4720,    490.6,   8.2030,  34.0696,2,  34.0692,2,    162.3,1,   -999.0,9,  -999.00,9,  -999.00,9,  -999.00,9,    491,-999.000,  -999.0,  8.1523
     32MW073_1,  PRS2,     2, 14,      2,     34,2,19960627,0559, 22.7700,-158.0137, 4720,    701.9,   5.4848,  34.2929,2,  34.2908,2,     30.5,1,   -999.0,9,  -999.00,9,  -999.00,9,  -999.00,9,    701,-999.000,  -999.0,  5.4254
     32MW073_1,  PRS2,     2, 14,      1,     33,2,19960627,0559, 22.7700,-158.0137, 4720,   1018.7,   4.1607,  34.4867,2,  34.4887,2,     38.4,1,   -999.0,9,  -999.00,9,  -999.00,9,  -999.00,9,   1018,-999.000,  -999.0,  4.0822