BOTTLE,20020809WHPSIObren
EXPOCODE,SECT_ID,STNNBR,CASTNO,SAMPNO,BTLNBR,BTLNBR_FLAG_W,DATE,TIME,LATITUDE,LONGITUDE,DEPTH,CTDPRS,CTDTMP,CTDSAL,CTDSAL_FLAG_W,SALNTY,SALNTY_FLAG_W,CTDOXY,CTDOXY_FLAG_W,OXYGEN,OXYGEN_FLAG_W,SILCAT,SILCAT_FLAG_W,NO2+NO3,NO2+NO3_FLAG_W,PHSPHT,PHSPHT_FLAG_W,CTDRAW,REVTMP,REVPRS,THETA
,,,,,,,,,,,,DBAR,ITS-90,PSS-78,,PSS-78,,UMOL/KG,,UMOL/KG,,UMOL/KG,,UMOL/KG,,UMOL/KG,,,DEG C,DBAR,ITS-90
     32MW073_1,  PRS2,     2, 15,     12,     12,2,19960627,0859, 22.7645,-157.9995, 4720,      4.7,  26.3767,  34.5164,2,  34.5162,2,    204.9,2,    207.1,2,  -999.00,9,  -999.00,9,  -999.00,9,      5,-999.000,  -999.0, 26.3756
     32MW073_1,  PRS2,     2, 15,     11,     11,2,19960627,0859, 22.7645,-157.9995, 4720,     25.0,  26.3676,  34.5192,2,  34.5185,2,    204.8,2,   -999.0,5,  -999.00,9,  -999.00,9,  -999.00,9,     26,-999.000,  -999.0, 26.3620
     32MW073_1,  PRS2,     2, 15,     10,     32,2,19960627,0859, 22.7645,-157.9995, 4720,     44.5,  26.2520,  34.5309,2,  34.5278,2,    205.2,2,   -999.0,5,  -999.00,9,  -999.00,9,  -999.00,9,     44,-999.000,  -999.0, 26.2420
     32MW073_1,  PRS2,     2, 15,      9,      3,2,19960627,0859, 22.7645,-157.9995, 4720,     74.6,  23.8880,  35.0388,2,  35.0393,2,    224.0,2,    224.7,2,  -999.00,9,  -999.00,9,  -999.00,9,     75,-999.000,  -999.0, 23.8724
     32MW073_1,  PRS2,     2, 15,      8,     29,2,19960627,0859, 22.7645,-157.9995, 4720,     99.6,  22.5868,  35.0932,2,  35.0918,2,    222.0,2,   -999.0,5,  -999.00,9,  -999.00,9,  -999.00,9,    100,-999.000,  -999.0, 22.5667
     32MW073_1,  PRS2,     2, 15,      7,     28,2,19960627,0859, 22.7645,-157.9995, 4720,    124.7,  21.8814,  35.1080,2,  35.1075,2,    213.3,2,   -999.0,5,  -999.00,9,  -999.00,9,  -999.00,9,    125,-999.000,  -999.0, 21.8568
     32MW073_1,  PRS2,     2, 15,      6,      7,2,19960627,0859, 22.7645,-157.9995, 4720,    150.1,  21.2746,  35.1142,2,  35.1097,2,    210.8,2,   -999.0,5,  -999.00,9,  -999.00,9,  -999.00,9,    150,-999.000,  -999.0, 21.2456
     32MW073_1,  PRS2,     2, 15,      5,     38,2,19960627,0859, 22.7645,-157.9995, 4720,    174.9,  20.5954,  35.1157,2,  35.1147,2,    204.7,2,   -999.0,5,  -999.00,9,  -999.00,9,  -999.00,9,    176,-999.000,  -999.0, 20.5623
     32MW073_1,  PRS2,     2, 15,      4,     36,2,19960627,0859, 22.7645,-157.9995, 4720,    250.4,  17.3879,  34.8322,2,  34.8310,2,    198.3,2,   -999.0,5,  -999.00,9,  -999.00,9,  -999.00,9,    251,-999.000,  -999.0, 17.3459
     32MW073_1,  PRS2,     2, 15,      3,     35,2,19960627,0859, 22.7645,-157.9995, 4720,    501.0,   8.3148,  34.0719,2,  34.0701,2,    164.6,2,   -999.0,5,  -999.00,9,  -999.00,9,  -999.00,9,    501,-999.000,  -999.0,  8.2626
     32MW073_1,  PRS2,     2, 15,      2,     34,2,19960627,0859, 22.7645,-157.9995, 4720,    700.0,   5.5817,  34.2724,2,  34.2718,2,     32.7,2,     32.3,2,  -999.00,9,  -999.00,9,  -999.00,9,    700,-999.000,  -999.0,  5.5221
     32MW073_1,  PRS2,     2, 15,      1,     33,2,19960627,0859, 22.7645,-157.9995, 4720,   1020.2,   4.2576,  34.4798,2,  34.4816,2,     36.8,2,     38.3,2,  -999.00,9,  -999.00,9,  -999.00,9,   1020,-999.000,  -999.0,  4.1783
     32MW073_1,  PRS2,     3,  1,     24,     31,2,19960627,1415, 23.4182,-157.9948, 4500,      6.0,  26.2467,  34.5722,2,  34.5736,2,    205.4,2,    204.7,2,  -999.00,9,  -999.00,9,  -999.00,9,      6,-999.000,  -999.0, 26.2454
     32MW073_1,  PRS2,     3,  1,     23,     30,2,19960627,1415, 23.4182,-157.9948, 4500,     25.9,  26.2515,  34.5729,2,  34.5729,2,    205.4,2,   -999.0,5,  -999.00,9,  -999.00,9,  -999.00,9,     26,-999.000,  -999.0, 26.2457
     32MW073_1,  PRS2,     3,  1,     22,     22,2,19960627,1415, 23.4182,-157.9948, 4500,     45.2,  25.4704,  34.8123,2,  34.8084,2,    206.1,2,   -999.0,5,  -999.00,9,  -999.00,9,  -999.00,9,     45,-999.000,  -999.0, 25.4604
     32MW073_1,  PRS2,     3,  1,     21,     21,2,19960627,1415, 23.4182,-157.9948, 4500,     61.0,  23.5118,  34.9619,2,  34.9490,2,    218.4,2,   -999.0,5,  -999.00,9,  -999.00,9,  -999.00,9,     61,-999.000,  -999.0, 23.4992
     32MW073_1,  PRS2,     3,  1,     20,     20,2,19960627,1415, 23.4182,-157.9948, 4500,     75.2,  23.3588,  35.0637,2,  35.0547,2,    220.6,2,   -999.0,5,  -999.00,9,  -999.00,9,  -999.00,9,     75,-999.000,  -999.0, 23.3433
     32MW073_1,  PRS2,     3,  1,     19,     19,2,19960627,1415, 23.4182,-157.9948, 4500,     95.6,  22.4564,  35.1255,2,  35.1199,2,    215.0,2,   -999.0,5,  -999.00,9,  -999.00,9,  -999.00,9,     96,-999.000,  -999.0, 22.4372
     32MW073_1,  PRS2,     3,  1,     18,     18,2,19960627,1415, 23.4182,-157.9948, 4500,    105.6,  21.8467,  35.1231,2,  35.1217,2,    213.2,2,   -999.0,5,  -999.00,9,  -999.00,9,  -999.00,9,    106,-999.000,  -999.0, 21.8260
     32MW073_1,  PRS2,     3,  1,     17,     17,2,19960627,1415, 23.4182,-157.9948, 4500,    115.5,  21.2732,  35.1286,2,  35.1282,2,    210.0,2,    209.1,2,  -999.00,9,  -999.00,9,  -999.00,9,    115,-999.000,  -999.0, 21.2509
     32MW073_1,  PRS2,     3,  1,     16,     16,2,19960627,1415, 23.4182,-157.9948, 4500,    125.4,  21.0431,  35.1295,2,  35.1293,2,    209.4,2,   -999.0,5,  -999.00,9,  -999.00,9,  -999.00,9,    125,-999.000,  -999.0, 21.0190
     32MW073_1,  PRS2,     3,  1,     15,     15,2,19960627,1415, 23.4182,-157.9948, 4500,    151.3,  20.1750,  35.1087,2,  35.1085,2,    204.2,2,   -999.0,5,  -999.00,9,  -999.00,9,  -999.00,9,    151,-999.000,  -999.0, 20.1468
     32MW073_1,  PRS2,     3,  1,     14,     14,2,19960627,1415, 23.4182,-157.9948, 4500,    175.4,  19.3647,  35.0654,2,  35.0652,2,    206.8,2,   -999.0,5,  -999.00,9,  -999.00,9,  -999.00,9,    176,-999.000,  -999.0, 19.3330
     32MW073_1,  PRS2,     3,  1,     13,     13,2,19960627,1415, 23.4182,-157.9948, 4500,    200.5,  18.3624,  34.9914,2,  34.9088,4,    213.0,3,   -999.0,5,  -999.00,9,  -999.00,9,  -999.00,9,    200,-999.000,  -999.0, 18.3275
     32MW073_1,  PRS2,     3,  1,     12,     12,2,19960627,1415, 23.4182,-157.9948, 4500,    545.6,   7.0679,  34.0314,2,  34.0310,2,    140.7,2,   -999.0,5,  -999.00,9,  -999.00,9,  -999.00,9,    545,-999.000,  -999.0,  7.0161
     32MW073_1,  PRS2,     3,  1,     11,     11,4,19960627,1415, 23.4182,-157.9948, 4500,    811.1,   4.6505,  34.2954,2,-999.0000,5,     30.8,2,   -999.0,5,  -999.00,9,  -999.00,9,  -999.00,9,    812,-999.000,  -999.0,  4.5865
     32MW073_1,  PRS2,     3,  1,     10,     32,2,19960627,1415, 23.4182,-157.9948, 4500,   1000.3,   3.9089,  34.4371,2,  34.4379,2,     38.1,2,   -999.0,5,  -999.00,9,  -999.00,9,  -999.00,9,   1000,-999.000,  -999.0,  3.8340
     32MW073_1,  PRS2,     3,  1,      9,      3,2,19960627,1415, 23.4182,-157.9948, 4500,   2000.8,   2.1207,  34.6179,2,  34.6183,2,     85.8,2,     87.0,2,  -999.00,9,  -999.00,9,  -999.00,9,   1999,-999.000,  -999.0,  1.9824
     32MW073_1,  PRS2,     3,  1,      8,     29,2,19960627,1415, 23.4182,-157.9948, 4500,   3000.2,   1.5587,  34.6673,2,  34.6673,2,    121.6,2,    122.4,2,  -999.00,9,  -999.00,9,  -999.00,9,   2999,-999.000,  -999.0,  1.3407
     32MW073_1,  PRS2,     3,  1,      7,     28,2,19960627,1415, 23.4182,-157.9948, 4500,   4001.0,   1.4558,  34.6852,2,  34.6849,2,    145.5,2,   -999.0,5,  -999.00,9,  -999.00,9,  -999.00,9,   4001,-999.000,  -999.0,  1.1380
     32MW073_1,  PRS2,     3,  1,      2,     34,2,19960627,1415, 23.4182,-157.9948, 4500,   4500.7,   1.4922,  34.6872,2,  34.6858,2,    149.8,2,   -999.0,5,  -999.00,9,  -999.00,9,  -999.00,9,   4500,-999.000,  -999.0,  1.1174
     32MW073_1,  PRS2,     3,  1,      6,      7,2,19960627,1415, 23.4182,-157.9948, 4500,   4500.9,   1.4922,  34.6873,2,  34.6873,2,    149.5,2,   -999.0,5,  -999.00,9,  -999.00,9,  -999.00,9,   4501,-999.000,  -999.0,  1.1174
     32MW073_1,  PRS2,     3,  1,      5,     38,2,19960627,1415, 23.4182,-157.9948, 4500,   4500.9,   1.4922,  34.6873,2,  34.6877,2,    149.5,2,   -999.0,5,  -999.00,9,  -999.00,9,  -999.00,9,   4499,-999.000,  -999.0,  1.1174
     32MW073_1,  PRS2,     3,  1,      3,     35,2,19960627,1415, 23.4182,-157.9948, 4500,   4501.1,   1.4921,  34.6873,2,  34.6875,2,    149.8,2,   -999.0,5,  -999.00,9,  -999.00,9,  -999.00,9,   4500,-999.000,  -999.0,  1.1172
     32MW073_1,  PRS2,     3,  1,      4,     36,2,19960627,1415, 23.4182,-157.9948, 4500,   4501.2,   1.4922,  34.6872,2,  34.6863,2,    149.5,2,   -999.0,5,  -999.00,9,  -999.00,9,  -999.00,9,   4501,-999.000,  -999.0,  1.1173
     32MW073_1,  PRS2,     3,  1,      1,     33,2,19960627,1415, 23.4182,-157.9948, 4500,   4576.6,   1.4996,  34.6873,2,  34.6873,2,    149.0,2,    150.6,2,  -999.00,9,  -999.00,9,  -999.00,9,   4576,-999.000,  -999.0,  1.1158