BOTTLE,20020809WHPSIObren
EXPOCODE,SECT_ID,STNNBR,CASTNO,SAMPNO,BTLNBR,BTLNBR_FLAG_W,DATE,TIME,LATITUDE,LONGITUDE,DEPTH,CTDPRS,CTDTMP,CTDSAL,CTDSAL_FLAG_W,SALNTY,SALNTY_FLAG_W,CTDOXY,CTDOXY_FLAG_W,OXYGEN,OXYGEN_FLAG_W,SILCAT,SILCAT_FLAG_W,NO2+NO3,NO2+NO3_FLAG_W,PHSPHT,PHSPHT_FLAG_W,CTDRAW,REVTMP,REVPRS,THETA
,,,,,,,,,,,,DBAR,ITS-90,PSS-78,,PSS-78,,UMOL/KG,,UMOL/KG,,UMOL/KG,,UMOL/KG,,UMOL/KG,,,DEG C,DBAR,ITS-90
     32MW073_1,  PRS2,     2,  4,     14,     14,2,19960625,2359, 22.7510,-157.9988, 4725,      4.5,  26.3662,  34.4626,2,  34.4625,2,    205.7,1,   -999.0,9,  -999.00,9,  -999.00,9,  -999.00,9,      5,-999.000,  -999.0, 26.3652
     32MW073_1,  PRS2,     2,  4,     13,     13,2,19960625,2359, 22.7510,-157.9988, 4725,     24.4,  26.2989,  34.4494,2,  34.4548,2,    205.6,1,   -999.0,9,  -999.00,9,  -999.00,9,  -999.00,9,     25,-999.000,  -999.0, 26.2934
     32MW073_1,  PRS2,     2,  4,     12,     12,2,19960625,2359, 22.7510,-157.9988, 4725,     44.3,  26.2683,  34.4519,2,  34.4518,2,    206.2,1,   -999.0,9,  -999.00,9,  -999.00,9,  -999.00,9,     46,-999.000,  -999.0, 26.2584
     32MW073_1,  PRS2,     2,  4,     11,     11,2,19960625,2359, 22.7510,-157.9988, 4725,     74.4,  24.4904,  35.0126,2,  35.0134,2,    221.8,1,   -999.0,9,  -999.00,9,  -999.00,9,  -999.00,9,     75,-999.000,  -999.0, 24.4745
     32MW073_1,  PRS2,     2,  4,     10,     32,2,19960625,2359, 22.7510,-157.9988, 4725,     99.0,  22.4413,  35.1030,2,  35.1032,2,    223.0,1,   -999.0,9,  -999.00,9,  -999.00,9,  -999.00,9,    100,-999.000,  -999.0, 22.4214
     32MW073_1,  PRS2,     2,  4,      9,      3,2,19960625,2359, 22.7510,-157.9988, 4725,    124.8,  21.8755,  35.1128,2,  35.1115,2,    214.9,1,   -999.0,9,  -999.00,9,  -999.00,9,  -999.00,9,    125,-999.000,  -999.0, 21.8509
     32MW073_1,  PRS2,     2,  4,      8,     29,2,19960625,2359, 22.7510,-157.9988, 4725,    138.9,  21.6130,  35.1161,2,  35.1170,2,    216.2,1,   -999.0,9,  -999.00,9,  -999.00,9,  -999.00,9,    139,-999.000,  -999.0, 21.5859
     32MW073_1,  PRS2,     2,  4,      7,     28,2,19960625,2359, 22.7510,-157.9988, 4725,    149.5,  21.4849,  35.1147,2,  35.1161,2,    215.3,1,   -999.0,9,  -999.00,9,  -999.00,9,  -999.00,9,    150,-999.000,  -999.0, 21.4558
     32MW073_1,  PRS2,     2,  4,      6,      7,2,19960625,2359, 22.7510,-157.9988, 4725,    159.7,  21.1727,  35.1185,2,  35.1169,2,    210.2,1,   -999.0,9,  -999.00,9,  -999.00,9,  -999.00,9,    160,-999.000,  -999.0, 21.1419
     32MW073_1,  PRS2,     2,  4,      5,     38,2,19960625,2359, 22.7510,-157.9988, 4725,    175.2,  20.8158,  35.1144,2,  35.1138,2,    208.9,1,   -999.0,9,  -999.00,9,  -999.00,9,  -999.00,9,    175,-999.000,  -999.0, 20.7825
     32MW073_1,  PRS2,     2,  4,      4,     36,2,19960625,2359, 22.7510,-157.9988, 4725,    250.6,  18.0444,  34.9092,2,  34.9119,2,    197.5,1,   -999.0,9,  -999.00,9,  -999.00,9,  -999.00,9,    251,-999.000,  -999.0, 18.0013
     32MW073_1,  PRS2,     2,  4,      3,     35,2,19960625,2359, 22.7510,-157.9988, 4725,    486.1,   7.9684,  34.0938,2,  34.0947,2,    147.9,1,   -999.0,9,  -999.00,9,  -999.00,9,  -999.00,9,    486,-999.000,  -999.0,  7.9191
     32MW073_1,  PRS2,     2,  4,      2,     34,2,19960625,2359, 22.7510,-157.9988, 4725,    751.0,   5.1576,  34.3057,2,  34.3040,2,     27.7,1,   -999.0,9,  -999.00,9,  -999.00,9,  -999.00,9,    752,-999.000,  -999.0,  5.0957
     32MW073_1,  PRS2,     2,  4,      1,     33,2,19960625,2359, 22.7510,-157.9988, 4725,   1020.4,   4.2366,  34.4815,2,  34.4801,2,     37.0,1,   -999.0,9,  -999.00,9,  -999.00,9,  -999.00,9,   1021,-999.000,  -999.0,  4.1574
     32MW073_1,  PRS2,     2,  5,     18,     18,2,19960626,0259, 22.7732,-157.9827, 4705,      4.5,  26.4128,  34.4919,2,  34.4932,2,    205.5,2,    204.9,2,  -999.00,5,  -999.00,5,  -999.00,5,      5,-999.000,  -999.0, 26.4117
     32MW073_1,  PRS2,     2,  5,     17,     17,2,19960626,0259, 22.7732,-157.9827, 4705,    101.6,  22.3538,  35.1059,2,  35.1056,2,    222.0,2,    223.0,2,  -999.00,5,  -999.00,5,  -999.00,5,    102,-999.000,  -999.0, 22.3334
     32MW073_1,  PRS2,     2,  5,     16,     16,2,19960626,0259, 22.7732,-157.9827, 4705,    152.0,  21.1956,  35.1141,2,  35.1127,2,    211.7,2,    211.7,2,  -999.00,5,  -999.00,5,  -999.00,5,    153,-999.000,  -999.0, 21.1664
     32MW073_1,  PRS2,     2,  5,     15,     15,2,19960626,0259, 22.7732,-157.9827, 4705,    210.0,  19.3215,  35.0324,2,  35.0348,2,    199.1,2,    203.3,2,     2.30,2,     1.52,2,     0.18,2,    210,-999.000,  -999.0, 19.2836
     32MW073_1,  PRS2,     2,  5,     14,     14,2,19960626,0259, 22.7732,-157.9827, 4705,    225.0,  18.4699,  34.9532,2,  34.9627,2,    197.6,2,    200.4,2,     2.82,2,     2.21,2,     0.22,2,    225,-999.000,  -999.0, 18.4305
     32MW073_1,  PRS2,     2,  5,     13,     13,2,19960626,0259, 22.7732,-157.9827, 4705,    234.8,  17.9797,  34.8995,2,  34.9028,2,    198.0,2,    199.9,2,     3.21,2,     2.69,2,     0.25,2,    236,-999.000,  -999.0, 17.9394
     32MW073_1,  PRS2,     2,  5,     12,     12,2,19960626,0259, 22.7732,-157.9827, 4705,    250.2,  17.0403,  34.7888,2,  34.8007,2,    197.8,2,    200.1,2,     4.54,2,     3.55,2,     0.31,2,    250,-999.000,  -999.0, 16.9989
     32MW073_1,  PRS2,     2,  5,     11,     11,2,19960626,0259, 22.7732,-157.9827, 4705,    275.2,  15.7098,  34.6429,2,  34.6444,2,    200.1,2,    200.7,2,     5.44,2,     5.38,2,     0.44,2,    276,-999.000,  -999.0, 15.6668
     32MW073_1,  PRS2,     2,  5,     10,     32,2,19960626,0259, 22.7732,-157.9827, 4705,    300.5,  14.1585,  34.4753,2,  34.4747,2,    200.1,2,    202.3,2,     7.19,2,     7.36,2,     0.56,2,    301,-999.000,  -999.0, 14.1148
     32MW073_1,  PRS2,     2,  5,      9,      3,2,19960626,0259, 22.7732,-157.9827, 4705,    326.5,  13.0872,  34.3711,2,  34.3725,2,    199.4,2,    198.8,2,     9.24,2,     9.59,2,     0.71,2,    327,-999.000,  -999.0, 13.0421
     32MW073_1,  PRS2,     2,  5,      8,     29,2,19960626,0259, 22.7732,-157.9827, 4705,    351.4,  11.9125,  34.2671,2,  34.2662,2,    197.6,2,    197.6,2,    11.96,2,    11.96,2,     0.86,2,    351,-999.000,  -999.0, 11.8670
     32MW073_1,  PRS2,     2,  5,      7,     28,2,19960626,0259, 22.7732,-157.9827, 4705,    401.4,  10.2305,  34.1699,2,  34.1694,2,    196.7,2,    193.6,2,    18.33,2,    15.99,2,     1.13,2,    403,-999.000,  -999.0, 10.1832
     32MW073_1,  PRS2,     2,  5,      6,      7,2,19960626,0259, 22.7732,-157.9827, 4705,    500.1,   8.0082,  34.0787,2,  34.0787,2,    143.4,2,    141.5,2,    35.61,2,    25.05,2,     1.78,2,    501,-999.000,  -999.0,  7.9572
     32MW073_1,  PRS2,     2,  5,      5,     38,2,19960626,0259, 22.7732,-157.9827, 4705,    601.5,   6.4873,  34.1646,2,  34.1761,4,     61.5,3,     60.8,2,    59.01,2,    33.82,2,     2.46,2,    602,-999.000,  -999.0,  6.4325
     32MW073_1,  PRS2,     2,  5,      4,     36,2,19960626,0259, 22.7732,-157.9827, 4705,    700.0,   5.5711,  34.2739,2,  34.2726,2,     32.3,2,     31.2,2,    77.67,2,    39.10,2,     2.84,2,    700,-999.000,  -999.0,  5.5115
     32MW073_1,  PRS2,     2,  5,      3,     35,2,19960626,0259, 22.7732,-157.9827, 4705,    799.8,   5.0675,  34.3903,2,  34.3872,2,     26.1,2,     25.1,2,    88.12,2,    41.03,2,     2.98,2,    799,-999.000,  -999.0,  5.0017
     32MW073_1,  PRS2,     2,  5,      2,     34,2,19960626,0259, 22.7732,-157.9827, 4705,    899.4,   4.7297,  34.4477,2,  34.4494,2,     28.9,2,     28.2,2,    94.08,2,    41.62,2,     3.00,2,    900,-999.000,  -999.0,  4.6573
     32MW073_1,  PRS2,     2,  5,      1,     33,2,19960626,0259, 22.7732,-157.9827, 4705,   1027.3,   4.2831,  34.4781,2,  34.4779,2,     36.4,2,     35.9,2,   102.67,2,    41.78,2,     3.01,2,   1027,-999.000,  -999.0,  4.2030
     32MW073_1,  PRS2,     2,  6,     23,     30,2,19960626,0558, 22.7497,-158.0003, 4725,      4.0,  26.2954,  34.4555,2,  34.4699,3,    205.4,3,    204.8,2,     1.72,2,     0.02,2,     0.13,2,      5,-999.000,  -999.0, 26.2945
     32MW073_1,  PRS2,     2,  6,     22,     22,2,19960626,0558, 22.7497,-158.0003, 4725,      4.0,  26.2958,  34.4550,2,  34.4533,2,    205.4,2,   -999.0,5,  -999.00,5,  -999.00,5,  -999.00,5,      5,-999.000,  -999.0, 26.2949
     32MW073_1,  PRS2,     2,  6,     21,     21,2,19960626,0558, 22.7497,-158.0003, 4725,     14.7,  26.3059,  34.4550,2,  34.4531,2,    205.4,2,    206.2,2,     1.70,2,     0.02,2,     0.13,2,     15,-999.000,  -999.0, 26.3026
     32MW073_1,  PRS2,     2,  6,     19,     19,2,19960626,0558, 22.7497,-158.0003, 4725,     24.6,  26.3006,  34.4516,2,  34.4515,2,    205.3,2,    220.5,4,     1.64,2,     0.00,2,     0.14,2,     25,-999.000,  -999.0, 26.2951
     32MW073_1,  PRS2,     2,  6,     20,     20,2,19960626,0558, 22.7497,-158.0003, 4725,     24.7,  26.3003,  34.4514,2,  34.4526,2,    205.4,2,   -999.0,5,  -999.00,5,  -999.00,5,  -999.00,5,     25,-999.000,  -999.0, 26.2948
     32MW073_1,  PRS2,     2,  6,     18,     18,2,19960626,0558, 22.7497,-158.0003, 4725,     35.2,  26.2318,  34.4380,2,  34.4405,2,    205.7,2,    205.2,2,     1.49,2,     0.00,2,     0.13,2,     36,-999.000,  -999.0, 26.2239
     32MW073_1,  PRS2,     2,  6,     17,     17,2,19960626,0558, 22.7497,-158.0003, 4725,     45.0,  25.0081,  34.7980,2,  34.7837,2,    214.1,2,    216.6,2,     1.51,2,     0.00,2,     0.10,2,     46,-999.000,  -999.0, 24.9983
     32MW073_1,  PRS2,     2,  6,     16,     16,2,19960626,0558, 22.7497,-158.0003, 4725,     59.3,  23.8177,  35.0625,2,  35.0567,2,    222.5,2,    224.3,2,     1.36,2,     0.00,2,     0.06,2,     60,-999.000,  -999.0, 23.8053
     32MW073_1,  PRS2,     2,  6,     15,     15,2,19960626,0558, 22.7497,-158.0003, 4725,     74.4,  23.0191,  35.0747,2,  35.0732,2,    221.5,2,    223.7,2,     1.40,2,     0.01,2,     0.06,2,     75,-999.000,  -999.0, 23.0039
     32MW073_1,  PRS2,     2,  6,     14,     14,2,19960626,0558, 22.7497,-158.0003, 4725,     84.5,  22.3690,  35.1044,2,  35.1040,2,    218.2,2,    222.2,2,     1.57,2,     0.01,2,     0.05,2,     84,-999.000,  -999.0, 22.3520
     32MW073_1,  PRS2,     2,  6,     13,     13,2,19960626,0558, 22.7497,-158.0003, 4725,     94.9,  22.1460,  35.1096,2,  35.1082,2,    222.0,2,    220.1,2,     1.82,2,     0.00,2,     0.06,2,     95,-999.000,  -999.0, 22.1271
     32MW073_1,  PRS2,     2,  6,     12,     12,2,19960626,0558, 22.7497,-158.0003, 4725,    104.7,  21.7536,  35.1190,2,  35.1179,2,    214.8,2,    216.5,2,     2.01,2,     0.03,2,     0.07,2,    105,-999.000,  -999.0, 21.7331
     32MW073_1,  PRS2,     2,  6,     11,     11,2,19960626,0558, 22.7497,-158.0003, 4725,    114.5,  21.5076,  35.1182,2,  35.1120,2,    213.4,2,    215.0,2,     1.95,2,     0.03,2,     0.07,2,    115,-999.000,  -999.0, 21.4854
     32MW073_1,  PRS2,     2,  6,     10,     32,2,19960626,0558, 22.7497,-158.0003, 4725,    124.1,  21.3478,  35.1165,2,  35.1155,2,    212.1,2,    211.2,2,     1.57,2,     0.08,2,     0.08,2,    125,-999.000,  -999.0, 21.3238
     32MW073_1,  PRS2,     2,  6,      9,      3,2,19960626,0558, 22.7497,-158.0003, 4725,    134.0,  21.1607,  35.1149,2,  35.1139,2,    210.3,2,    210.8,2,     1.55,2,     0.18,2,     0.09,2,    134,-999.000,  -999.0, 21.1350
     32MW073_1,  PRS2,     2,  6,      8,     29,2,19960626,0558, 22.7497,-158.0003, 4725,    150.0,  20.8950,  35.1154,2,  35.1142,2,    209.7,2,    208.3,2,     1.61,2,     0.37,2,     0.11,2,    151,-999.000,  -999.0, 20.8664
     32MW073_1,  PRS2,     2,  6,      7,     28,2,19960626,0558, 22.7497,-158.0003, 4725,    159.0,  20.7985,  35.1159,2,  35.1158,2,    207.8,2,    207.4,2,     1.65,2,     0.50,2,     0.11,2,    159,-999.000,  -999.0, 20.7683
     32MW073_1,  PRS2,     2,  6,      6,      7,2,19960626,0558, 22.7497,-158.0003, 4725,    174.6,  20.5862,  35.1262,2,  35.1264,2,    209.6,2,    207.6,2,     1.68,2,     0.63,2,     0.11,2,    175,-999.000,  -999.0, 20.5533
     32MW073_1,  PRS2,     2,  6,      5,     38,2,19960626,0558, 22.7497,-158.0003, 4725,    184.6,  20.3891,  35.1274,2,  35.1234,2,    209.8,2,    208.3,2,     1.94,2,     0.64,2,     0.11,2,    185,-999.000,  -999.0, 20.3545
     32MW073_1,  PRS2,     2,  6,      4,     36,2,19960626,0558, 22.7497,-158.0003, 4725,    200.9,  19.7293,  35.0659,2,  35.0672,2,    203.1,2,    203.5,2,     2.30,2,     1.24,2,     0.16,2,    201,-999.000,  -999.0, 19.6924
     32MW073_1,  PRS2,     2,  6,      3,     35,2,19960626,0558, 22.7497,-158.0003, 4725,    506.0,   7.9328,  34.0848,2,  34.0833,2,    135.6,2,    136.3,2,  -999.00,5,  -999.00,5,  -999.00,5,    506,-999.000,  -999.0,  7.8815
     32MW073_1,  PRS2,     2,  6,      2,     34,2,19960626,0558, 22.7497,-158.0003, 4725,    750.3,   5.0170,  34.3299,2,  34.3305,2,     26.6,2,     26.5,2,  -999.00,5,  -999.00,5,  -999.00,5,    751,-999.000,  -999.0,  4.9559
     32MW073_1,  PRS2,     2,  6,      1,     33,2,19960626,0558, 22.7497,-158.0003, 4725,   1019.6,   4.2291,  34.4820,2,  34.4843,2,     36.7,2,     36.5,2,  -999.00,5,  -999.00,5,  -999.00,5,   1019,-999.000,  -999.0,  4.1500
     32MW073_1,  PRS2,     2,  7,      6,      7,2,19960626,0856, 22.7455,-157.9982, 4725,      5.4,  26.2743,  34.4551,2,  34.4561,2,    205.8,1,   -999.0,9,  -999.00,9,  -999.00,9,  -999.00,9,      6,-999.000,  -999.0, 26.2731
     32MW073_1,  PRS2,     2,  7,      5,     38,2,19960626,0856, 22.7455,-157.9982, 4725,     79.1,  23.7845,  35.0308,2,  35.0308,2,    223.1,1,   -999.0,9,  -999.00,9,  -999.00,9,  -999.00,9,     80,-999.000,  -999.0, 23.7680
     32MW073_1,  PRS2,     2,  7,      4,     36,2,19960626,0856, 22.7455,-157.9982, 4725,    160.5,  21.2440,  35.1138,2,  35.1134,2,    210.5,1,   -999.0,9,  -999.00,9,  -999.00,9,  -999.00,9,    160,-999.000,  -999.0, 21.2130
     32MW073_1,  PRS2,     2,  7,      3,     35,2,19960626,0856, 22.7455,-157.9982, 4725,    515.9,   8.1524,  34.0698,2,  34.0674,2,    156.3,1,   -999.0,9,  -999.00,9,  -999.00,9,  -999.00,9,    516,-999.000,  -999.0,  8.0993
     32MW073_1,  PRS2,     2,  7,      2,     34,2,19960626,0856, 22.7455,-157.9982, 4725,    750.3,   5.2505,  34.3261,2,  34.3247,2,     29.3,1,   -999.0,9,  -999.00,9,  -999.00,9,  -999.00,9,    751,-999.000,  -999.0,  5.1882
     32MW073_1,  PRS2,     2,  7,      1,     33,2,19960626,0856, 22.7455,-157.9982, 4725,   1020.4,   4.3212,  34.4759,2,  34.4754,2,     36.0,1,   -999.0,9,  -999.00,9,  -999.00,9,  -999.00,9,   1020,-999.000,  -999.0,  4.2413
     32MW073_1,  PRS2,     2,  8,     24,     31,2,19960626,1200, 22.7742,-157.9810, 4705,      1.7,  26.2448,  34.4574,2,  34.4553,2,    205.7,1,   -999.0,9,  -999.00,9,  -999.00,9,  -999.00,9,      1,-999.000,  -999.0, 26.2445
     32MW073_1,  PRS2,     2,  8,     23,     30,2,19960626,1200, 22.7742,-157.9810, 4705,      3.9,  26.2464,  34.4572,2,  34.4554,2,    205.7,1,   -999.0,9,  -999.00,9,  -999.00,9,  -999.00,9,      4,-999.000,  -999.0, 26.2456
     32MW073_1,  PRS2,     2,  8,     22,     22,2,19960626,1200, 22.7742,-157.9810, 4705,      8.7,  26.2567,  34.4565,2,  34.4540,2,    205.7,1,   -999.0,9,  -999.00,9,  -999.00,9,  -999.00,9,      9,-999.000,  -999.0, 26.2548
     32MW073_1,  PRS2,     2,  8,     21,     21,2,19960626,1200, 22.7742,-157.9810, 4705,     14.3,  26.2534,  34.4563,2,  34.4536,2,    205.7,1,   -999.0,9,  -999.00,9,  -999.00,9,  -999.00,9,     15,-999.000,  -999.0, 26.2502
     32MW073_1,  PRS2,     2,  8,     20,     20,2,19960626,1200, 22.7742,-157.9810, 4705,     19.0,  26.2579,  34.4559,2,  34.4540,2,    205.7,1,   -999.0,9,  -999.00,9,  -999.00,9,  -999.00,9,     19,-999.000,  -999.0, 26.2537
     32MW073_1,  PRS2,     2,  8,     19,     19,2,19960626,1200, 22.7742,-157.9810, 4705,     23.4,  26.2604,  34.4557,2,  34.4563,2,    205.7,1,   -999.0,9,  -999.00,9,  -999.00,9,  -999.00,9,     24,-999.000,  -999.0, 26.2551
     32MW073_1,  PRS2,     2,  8,     18,     18,2,19960626,1200, 22.7742,-157.9810, 4705,     29.6,  26.2553,  34.4555,2,  34.4544,2,    205.7,1,   -999.0,9,  -999.00,9,  -999.00,9,  -999.00,9,     30,-999.000,  -999.0, 26.2486
     32MW073_1,  PRS2,     2,  8,     17,     17,2,19960626,1200, 22.7742,-157.9810, 4705,     34.3,  26.2577,  34.4551,2,  34.4538,2,    205.7,1,   -999.0,9,  -999.00,9,  -999.00,9,  -999.00,9,     34,-999.000,  -999.0, 26.2500
     32MW073_1,  PRS2,     2,  8,     16,     16,2,19960626,1200, 22.7742,-157.9810, 4705,     40.2,  25.9401,  34.5396,2,  34.4871,4,    206.4,1,   -999.0,9,  -999.00,9,  -999.00,9,  -999.00,9,     41,-999.000,  -999.0, 25.9312
     32MW073_1,  PRS2,     2,  8,     15,     15,2,19960626,1200, 22.7742,-157.9810, 4705,     44.7,  25.5340,  34.6365,2,  34.6286,2,    205.0,1,   -999.0,9,  -999.00,9,  -999.00,9,  -999.00,9,     45,-999.000,  -999.0, 25.5242
     32MW073_1,  PRS2,     2,  8,     14,     14,2,19960626,1200, 22.7742,-157.9810, 4705,     48.5,  25.2223,  34.7223,2,  34.7105,2,    214.2,1,   -999.0,9,  -999.00,9,  -999.00,9,  -999.00,9,     48,-999.000,  -999.0, 25.2118
     32MW073_1,  PRS2,     2,  8,     13,     13,2,19960626,1200, 22.7742,-157.9810, 4705,     53.8,  25.0773,  34.7444,2,  34.7480,2,    211.6,1,   -999.0,9,  -999.00,9,  -999.00,9,  -999.00,9,     54,-999.000,  -999.0, 25.0656
     32MW073_1,  PRS2,     2,  8,     12,     12,2,19960626,1200, 22.7742,-157.9810, 4705,     63.6,  24.6423,  34.8111,2,  34.8096,2,    216.2,1,   -999.0,9,  -999.00,9,  -999.00,9,  -999.00,9,     64,-999.000,  -999.0, 24.6287
     32MW073_1,  PRS2,     2,  8,     11,     11,2,19960626,1200, 22.7742,-157.9810, 4705,     72.9,  24.3602,  34.9893,2,  34.9849,2,    221.2,1,   -999.0,9,  -999.00,9,  -999.00,9,  -999.00,9,     73,-999.000,  -999.0, 24.3447
     32MW073_1,  PRS2,     2,  8,     10,     32,2,19960626,1200, 22.7742,-157.9810, 4705,     83.8,  23.4351,  35.0547,2,  35.0542,2,    222.1,1,   -999.0,9,  -999.00,9,  -999.00,9,  -999.00,9,     84,-999.000,  -999.0, 23.4177
     32MW073_1,  PRS2,     2,  8,      9,      3,2,19960626,1200, 22.7742,-157.9810, 4705,     93.5,  23.1526,  35.0656,2,  35.0648,2,    222.9,1,   -999.0,9,  -999.00,9,  -999.00,9,  -999.00,9,     94,-999.000,  -999.0, 23.1335
     32MW073_1,  PRS2,     2,  8,      8,     29,2,19960626,1200, 22.7742,-157.9810, 4705,    103.5,  22.6633,  35.0924,2,  35.0897,2,    222.1,1,   -999.0,9,  -999.00,9,  -999.00,9,  -999.00,9,    103,-999.000,  -999.0, 22.6424
     32MW073_1,  PRS2,     2,  8,      7,     28,2,19960626,1200, 22.7742,-157.9810, 4705,    113.3,  22.2808,  35.1056,2,  35.1034,2,    221.4,1,   -999.0,9,  -999.00,9,  -999.00,9,  -999.00,9,    113,-999.000,  -999.0, 22.2582
     32MW073_1,  PRS2,     2,  8,      6,      7,2,19960626,1200, 22.7742,-157.9810, 4705,    122.0,  22.1127,  35.1094,2,  35.1089,2,    219.8,1,   -999.0,9,  -999.00,9,  -999.00,9,  -999.00,9,    123,-999.000,  -999.0, 22.0884
     32MW073_1,  PRS2,     2,  8,      5,     38,2,19960626,1200, 22.7742,-157.9810, 4705,    149.7,  21.5309,  35.1171,2,  35.1205,2,    214.5,1,   -999.0,9,  -999.00,9,  -999.00,9,  -999.00,9,    150,-999.000,  -999.0, 21.5017
     32MW073_1,  PRS2,     2,  8,      4,     36,2,19960626,1200, 22.7742,-157.9810, 4705,    173.3,  20.8920,  35.1128,2,  35.1128,2,    208.1,1,   -999.0,9,  -999.00,9,  -999.00,9,  -999.00,9,    173,-999.000,  -999.0, 20.8590
     32MW073_1,  PRS2,     2,  8,      3,     35,2,19960626,1200, 22.7742,-157.9810, 4705,    248.9,  18.1002,  34.9146,2,  34.9169,2,    197.7,1,   -999.0,9,  -999.00,9,  -999.00,9,  -999.00,9,    249,-999.000,  -999.0, 18.0573
     32MW073_1,  PRS2,     2,  8,      2,     34,2,19960626,1200, 22.7742,-157.9810, 4705,    519.5,   7.8190,  34.0812,2,  34.0826,2,    134.2,1,   -999.0,9,  -999.00,9,  -999.00,9,  -999.00,9,    521,-999.000,  -999.0,  7.7668
     32MW073_1,  PRS2,     2,  8,      1,     33,2,19960626,1200, 22.7742,-157.9810, 4705,   1021.1,   4.3602,  34.4713,2,  34.4726,2,     34.7,1,   -999.0,9,  -999.00,9,  -999.00,9,  -999.00,9,   1021,-999.000,  -999.0,  4.2800