BOTTLE,20020809WHPSIObren
#code : jjward hyd_to_exchange.pl 
#original files copied from HTML directory: 20020809
#original HYD file: /whpo/11/HOTS/BOTTLE/hot73/hot73.sea   Fri Aug  9 09:51:36 2002
#original SUM file: /whpo/11/HOTS/BOTTLE/hot73/hot73.sum   Fri Aug  9 13:30:41 2002
EXPOCODE,SECT_ID,STNNBR,CASTNO,SAMPNO,BTLNBR,BTLNBR_FLAG_W,DATE,TIME,LATITUDE,LONGITUDE,DEPTH,CTDPRS,CTDTMP,CTDSAL,CTDSAL_FLAG_W,SALNTY,SALNTY_FLAG_W,CTDOXY,CTDOXY_FLAG_W,OXYGEN,OXYGEN_FLAG_W,SILCAT,SILCAT_FLAG_W,NO2+NO3,NO2+NO3_FLAG_W,PHSPHT,PHSPHT_FLAG_W,CTDRAW,REVTMP,REVPRS,THETA
,,,,,,,,,,,,DBAR,ITS-90,PSS-78,,PSS-78,,UMOL/KG,,UMOL/KG,,UMOL/KG,,UMOL/KG,,UMOL/KG,,,DEG C,DBAR,ITS-90
     32MW073_1,  PRS2,     1,  1,     21,     21,2,19960624,2311, 21.3428,-158.2720, 1575,      4.1,  27.0676,  34.5169,2,  34.5190,2,    203.2,2,   -999.0,5,  -999.00,5,  -999.00,5,  -999.00,5,      4,-999.000,  -999.0, 27.0667
     32MW073_1,  PRS2,     1,  1,     20,     20,2,19960624,2311, 21.3428,-158.2720, 1575,      4.1,  27.0768,  34.5173,2,-999.0000,5,    203.2,2,   -999.0,5,  -999.00,5,  -999.00,5,  -999.00,5,      4,-999.000,  -999.0, 27.0758
     32MW073_1,  PRS2,     1,  1,     19,     19,2,19960624,2311, 21.3428,-158.2720, 1575,      4.1,  27.0774,  34.5180,2,  34.5177,2,    203.5,2,    203.8,2,     1.48,2,     0.00,2,     0.11,2,      4,-999.000,  -999.0, 27.0765
     32MW073_1,  PRS2,     1,  1,     18,     18,2,19960624,2311, 21.3428,-158.2720, 1575,     25.2,  26.5860,  34.5566,2,  34.5576,2,    202.5,2,    204.7,2,     1.29,2,     0.00,2,     0.11,2,     26,-999.000,  -999.0, 26.5803
     32MW073_1,  PRS2,     1,  1,     17,     17,2,19960624,2311, 21.3428,-158.2720, 1575,     44.8,  26.5158,  34.5568,2,  34.5583,2,    202.8,2,    213.3,4,     1.24,2,     0.02,2,     0.11,2,     45,-999.000,  -999.0, 26.5056
     32MW073_1,  PRS2,     1,  1,     16,     16,2,19960624,2311, 21.3428,-158.2720, 1575,     59.6,  25.2893,  34.7298,2,  34.7013,3,    214.3,3,    216.3,2,     1.65,2,     0.02,2,     0.09,2,     60,-999.000,  -999.0, 25.2762
     32MW073_1,  PRS2,     1,  1,     15,     15,2,19960624,2311, 21.3428,-158.2720, 1575,     75.4,  23.6093,  34.9555,2,  34.9528,2,    216.2,2,    213.0,2,     1.45,2,     0.03,2,     0.09,2,     76,-999.000,  -999.0, 23.5936
     32MW073_1,  PRS2,     1,  1,     14,     14,2,19960624,2311, 21.3428,-158.2720, 1575,     94.7,  22.6338,  34.9959,2,  34.9952,2,    213.2,2,    212.4,2,     1.67,2,     0.02,2,     0.11,2,     95,-999.000,  -999.0, 22.6147
     32MW073_1,  PRS2,     1,  1,     13,     13,2,19960624,2311, 21.3428,-158.2720, 1575,    104.7,  22.3447,  35.0132,2,  35.0125,2,    210.4,2,    208.2,2,     1.53,2,     0.01,2,     0.11,2,    105,-999.000,  -999.0, 22.3237
     32MW073_1,  PRS2,     1,  1,     12,     12,2,19960624,2311, 21.3428,-158.2720, 1575,    114.8,  21.9138,  35.0180,2,  35.0195,2,    208.2,2,    202.9,2,     1.84,2,     0.04,2,     0.16,2,    115,-999.000,  -999.0, 21.8912
     32MW073_1,  PRS2,     1,  1,     11,     11,2,19960624,2311, 21.3428,-158.2720, 1575,    125.7,  21.3401,  35.0274,2,  35.0266,2,    203.3,2,    202.9,2,  -999.00,5,  -999.00,5,  -999.00,5,    126,-999.000,  -999.0, 21.3158
     32MW073_1,  PRS2,     1,  1,     10,     32,4,19960624,2311, 21.3428,-158.2720, 1575,    150.6,  20.3573,  35.0571,2,-999.0000,5,    191.8,2,   -999.0,5,  -999.00,5,  -999.00,5,  -999.00,5,    151,-999.000,  -999.0, 20.3291
     32MW073_1,  PRS2,     1,  1,      9,      3,2,19960624,2311, 21.3428,-158.2720, 1575,    175.2,  18.7956,  34.9624,2,  34.9618,2,    184.5,2,    185.7,2,     3.67,2,     3.44,2,     0.33,2,    176,-999.000,  -999.0, 18.7646
     32MW073_1,  PRS2,     1,  1,      8,     29,2,19960624,2311, 21.3428,-158.2720, 1575,    200.1,  17.5596,  34.8360,2,  34.8386,2,    186.8,2,    186.8,2,     5.06,2,     4.43,2,     0.40,2,    200,-999.000,  -999.0, 17.5259
     32MW073_1,  PRS2,     1,  1,      7,     28,2,19960624,2311, 21.3428,-158.2720, 1575,    224.4,  16.3125,  34.6900,2,  34.6932,2,    187.5,2,    186.9,2,     5.69,2,     5.70,2,     0.49,2,    225,-999.000,  -999.0, 16.2765
     32MW073_1,  PRS2,     1,  1,      6,      7,4,19960624,2311, 21.3428,-158.2720, 1575,    249.4,  14.6696,  34.5072,2,-999.0000,5,    182.0,2,   -999.0,5,  -999.00,5,  -999.00,5,  -999.00,5,    250,-999.000,  -999.0, 14.6325
     32MW073_1,  PRS2,     1,  1,      5,     38,2,19960624,2311, 21.3428,-158.2720, 1575,    300.2,  11.8375,  34.2579,2,  34.2573,2,    162.4,2,    166.0,2,    17.90,2,    14.79,2,     1.11,2,    300,-999.000,  -999.0, 11.7988
     32MW073_1,  PRS2,     1,  1,      4,     36,2,19960624,2311, 21.3428,-158.2720, 1575,    400.5,   8.3410,  34.1840,2,  34.1832,2,    101.7,2,     99.9,2,    40.53,2,    27.70,2,     2.05,2,    401,-999.000,  -999.0,  8.2994
     32MW073_1,  PRS2,     1,  1,      3,     35,2,19960624,2311, 21.3428,-158.2720, 1575,    500.7,   7.1227,  34.1827,2,  34.1800,2,     78.8,2,     77.7,2,    54.50,2,    32.29,2,     2.36,2,    501,-999.000,  -999.0,  7.0750
     32MW073_1,  PRS2,     1,  1,      2,     34,2,19960624,2311, 21.3428,-158.2720, 1575,    750.0,   5.2267,  34.3757,2,  34.3763,2,     36.9,2,     37.7,2,    85.35,2,    40.69,2,     2.96,2,    751,-999.000,  -999.0,  5.1645
     32MW073_1,  PRS2,     1,  1,      1,     33,2,19960624,2311, 21.3428,-158.2720, 1575,   1019.0,   4.1245,  34.4966,2,  34.4974,2,     42.7,2,     42.8,2,   105.61,2,    41.58,2,     3.00,2,   1019,-999.000,  -999.0,  4.0463
     32MW073_1,  PRS2,     2,  1,     24,     31,2,19960625,1226, 22.7520,-158.0007, 4725,      4.6,  26.2127,  34.4161,2,  34.4197,2,    206.6,2,    205.3,2,     1.86,2,     0.00,2,     0.09,2,      5,-999.000,  -999.0, 26.2117
     32MW073_1,  PRS2,     2,  1,     23,     30,2,19960625,1226, 22.7520,-158.0007, 4725,    184.0,  20.2859,  35.1086,2,  35.1069,2,    209.9,2,    207.2,2,     2.36,2,     0.75,2,     0.12,2,    184,-999.000,  -999.0, 20.2515
     32MW073_1,  PRS2,     2,  1,     22,     22,2,19960625,1226, 22.7520,-158.0007, 4725,    527.0,   7.4488,  34.0985,2,  34.0970,2,    112.5,2,    107.0,2,    44.28,2,    28.48,2,     2.02,2,    527,-999.000,  -999.0,  7.3972
     32MW073_1,  PRS2,     2,  1,     21,     21,2,19960625,1226, 22.7520,-158.0007, 4725,    750.2,   5.1171,  34.3444,2,  34.3440,2,     26.1,2,     24.5,2,  -999.00,5,  -999.00,5,  -999.00,5,    750,-999.000,  -999.0,  5.0554
     32MW073_1,  PRS2,     2,  1,     20,     20,2,19960625,1226, 22.7520,-158.0007, 4725,   1002.2,   4.2309,  34.4832,2,  34.4823,2,     37.1,2,     36.0,2,   103.69,2,    41.71,2,     2.96,3,   1002,-999.000,  -999.0,  4.1533
     32MW073_1,  PRS2,     2,  1,     19,     19,2,19960625,1226, 22.7520,-158.0007, 4725,   1403.5,   3.1391,  34.5575,2,  34.5577,2,     56.2,2,     56.8,2,   127.03,2,    41.15,2,     2.91,2,   1404,-999.000,  -999.0,  3.0378
     32MW073_1,  PRS2,     2,  1,     18,     18,2,19960625,1226, 22.7520,-158.0007, 4725,   1601.8,   2.7828,  34.5788,2,  34.5771,2,     66.5,2,     66.2,2,   135.29,2,    40.78,2,     2.89,2,   1602,-999.000,  -999.0,  2.6690
     32MW073_1,  PRS2,     2,  1,     17,     17,2,19960625,1226, 22.7520,-158.0007, 4725,   1800.9,   2.4139,  34.5984,2,  34.5993,2,     75.7,2,     78.0,2,   142.87,2,    40.31,2,     2.83,2,   1802,-999.000,  -999.0,  2.2882
     32MW073_1,  PRS2,     2,  1,     16,     16,2,19960625,1226, 22.7520,-158.0007, 4725,   2000.9,   2.1265,  34.6150,2,  34.6150,2,     82.8,2,     83.8,2,   151.05,2,    39.95,2,     2.80,2,   2000,-999.000,  -999.0,  1.9881
     32MW073_1,  PRS2,     2,  1,     15,     15,2,19960625,1226, 22.7520,-158.0007, 4725,   2200.5,   1.9139,  34.6304,2,  34.6300,2,     91.2,2,     91.2,2,   156.52,2,    39.44,2,     2.76,2,   2199,-999.000,  -999.0,  1.7618
     32MW073_1,  PRS2,     2,  1,     14,     14,2,19960625,1226, 22.7520,-158.0007, 4725,   2401.6,   1.7593,  34.6442,2,  34.6440,2,     99.5,2,     99.9,2,   159.42,2,    38.89,2,     2.72,2,   2402,-999.000,  -999.0,  1.5923
     32MW073_1,  PRS2,     2,  1,     13,     13,2,19960625,1226, 22.7520,-158.0007, 4725,   2601.0,   1.6554,  34.6546,2,  34.6535,2,    108.7,2,    108.8,2,   160.13,2,    38.43,2,     2.67,2,   2601,-999.000,  -999.0,  1.4725
     32MW073_1,  PRS2,     2,  1,     12,     12,2,19960625,1226, 22.7520,-158.0007, 4725,   2800.0,   1.5815,  34.6629,2,  34.6636,2,    116.3,2,    117.3,2,   159.13,2,    38.02,2,     2.64,2,   2799,-999.000,  -999.0,  1.3818
     32MW073_1,  PRS2,     2,  1,     11,     11,2,19960625,1226, 22.7520,-158.0007, 4725,   2999.7,   1.5364,  34.6702,2,  34.6697,2,    124.1,2,    124.4,2,   158.59,2,    37.54,2,     2.60,2,   2999,-999.000,  -999.0,  1.3189
     32MW073_1,  PRS2,     2,  1,     10,     32,2,19960625,1226, 22.7520,-158.0007, 4725,   3199.2,   1.4956,  34.6754,2,  34.6753,2,    130.5,2,    130.8,2,   156.39,2,    37.17,2,     2.57,2,   3199,-999.000,  -999.0,  1.2597
     32MW073_1,  PRS2,     2,  1,      9,      3,2,19960625,1226, 22.7520,-158.0007, 4725,   3400.1,   1.4682,  34.6791,2,  34.6799,2,    136.3,2,    136.9,2,   154.26,2,    36.66,2,     2.54,2,   3400,-999.000,  -999.0,  1.2130
     32MW073_1,  PRS2,     2,  1,      8,     29,2,19960625,1226, 22.7520,-158.0007, 4725,   3598.9,   1.4555,  34.6817,2,  34.6814,2,    141.0,2,    141.2,2,   152.66,2,    36.45,2,     2.52,2,   3599,-999.000,  -999.0,  1.1803
     32MW073_1,  PRS2,     2,  1,      7,     28,2,19960625,1226, 22.7520,-158.0007, 4725,   3798.3,   1.4488,  34.6842,2,  34.6841,2,    145.0,2,    144.9,2,   150.89,2,    36.06,2,     2.49,2,   3798,-999.000,  -999.0,  1.1530
     32MW073_1,  PRS2,     2,  1,      6,      7,2,19960625,1226, 22.7520,-158.0007, 4725,   4000.6,   1.4512,  34.6860,2,  34.6856,2,    147.8,2,    147.9,2,   149.43,2,    35.91,2,     2.48,2,   3999,-999.000,  -999.0,  1.1336
     32MW073_1,  PRS2,     2,  1,      5,     38,2,19960625,1226, 22.7520,-158.0007, 4725,   4201.6,   1.4597,  34.6873,2,  34.6862,2,    150.5,2,    149.8,2,   148.50,2,    35.69,3,     2.47,2,   4201,-999.000,  -999.0,  1.1197
     32MW073_1,  PRS2,     2,  1,      4,     36,2,19960625,1226, 22.7520,-158.0007, 4725,   4401.0,   1.4756,  34.6879,2,  34.6875,2,    151.6,2,    150.7,2,   147.66,2,    35.77,2,     2.46,2,   4400,-999.000,  -999.0,  1.1127
     32MW073_1,  PRS2,     2,  1,      3,     35,2,19960625,1226, 22.7520,-158.0007, 4725,   4499.0,   1.4846,  34.6882,2,  34.6897,2,    151.5,2,    151.2,2,   147.58,2,    35.74,2,     2.46,2,   4498,-999.000,  -999.0,  1.1103
     32MW073_1,  PRS2,     2,  1,      2,     34,2,19960625,1226, 22.7520,-158.0007, 4725,   4598.8,   1.4950,  34.6883,2,  34.6884,2,    151.7,2,    151.5,2,   147.32,2,    35.68,2,     2.46,2,   4598,-999.000,  -999.0,  1.1087
     32MW073_1,  PRS2,     2,  1,      1,     33,2,19960625,1226, 22.7520,-158.0007, 4725,   4801.0,   1.5174,  34.6885,2,  34.6905,2,    152.4,2,    152.5,2,   146.78,2,    35.69,2,     2.46,2,   4801,-999.000,  -999.0,  1.1065
     32MW073_1,  PRS2,     2,  2,     24,     31,2,19960625,1758, 22.7498,-157.9987, 4725,      5.0,  26.3005,  34.4695,2,  34.4701,2,    206.0,2,    204.6,2,     1.62,2,    -0.00,2,     0.13,2,      5,-999.000,  -999.0, 26.2994
     32MW073_1,  PRS2,     2,  2,     23,     30,2,19960625,1758, 22.7498,-157.9987, 4725,     48.5,  26.2867,  34.4695,2,  34.4778,2,    205.3,2,    205.1,2,     1.60,2,    -0.00,2,     0.13,2,     48,-999.000,  -999.0, 26.2758
     32MW073_1,  PRS2,     2,  2,     22,     22,2,19960625,1758, 22.7498,-157.9987, 4725,     60.3,  24.4949,  34.9298,2,  34.9064,2,    219.0,2,    218.6,2,     1.63,2,     0.01,2,     0.08,2,     60,-999.000,  -999.0, 24.4820
     32MW073_1,  PRS2,     2,  2,     21,     21,2,19960625,1758, 22.7498,-157.9987, 4725,     80.4,  23.1068,  35.0717,2,  35.0720,2,    223.7,2,    224.5,2,     1.59,2,     0.02,2,     0.05,2,     80,-999.000,  -999.0, 23.0903
     32MW073_1,  PRS2,     2,  2,     20,     20,2,19960625,1758, 22.7498,-157.9987, 4725,     90.1,  22.8387,  35.0922,2,  35.0908,2,    226.3,2,    225.4,2,     1.57,2,     0.01,2,     0.05,2,     90,-999.000,  -999.0, 22.8204
     32MW073_1,  PRS2,     2,  2,     19,     19,2,19960625,1758, 22.7498,-157.9987, 4725,    131.1,  21.6279,  35.1154,2,  35.1135,2,    214.5,2,    214.9,2,     1.69,2,     0.01,2,     0.07,2,    131,-999.000,  -999.0, 21.6023
     32MW073_1,  PRS2,     2,  2,     18,     18,2,19960625,1758, 22.7498,-157.9987, 4725,    159.9,  20.8124,  35.1142,2,  35.1149,2,    208.1,2,    208.3,2,     1.88,2,     0.46,2,     0.10,2,    160,-999.000,  -999.0, 20.7820
     32MW073_1,  PRS2,     2,  2,     17,     17,2,19960625,1758, 22.7498,-157.9987, 4725,    203.8,  19.5552,  35.0624,2,  35.0625,2,    201.4,2,    201.3,2,     2.56,2,     1.49,2,     0.20,2,    204,-999.000,  -999.0, 19.5181
     32MW073_1,  PRS2,     2,  2,     16,     16,2,19960625,1758, 22.7498,-157.9987, 4725,    263.0,  16.4701,  34.7284,2,  34.7337,2,    197.9,2,    198.6,2,     4.64,2,     4.22,2,     0.35,2,    264,-999.000,  -999.0, 16.4276
     32MW073_1,  PRS2,     2,  2,     15,     15,2,19960625,1758, 22.7498,-157.9987, 4725,    299.0,  14.3560,  34.4879,2,  34.4882,2,    200.4,2,    198.9,2,     7.18,2,     7.35,2,     0.56,2,    299,-999.000,  -999.0, 14.3121
     32MW073_1,  PRS2,     2,  2,     14,     14,2,19960625,1758, 22.7498,-157.9987, 4725,    338.8,  12.5455,  34.3406,2,  34.3425,2,    202.0,2,    201.7,2,    10.76,2,    10.61,2,     0.75,2,    339,-999.000,  -999.0, 12.5000
     32MW073_1,  PRS2,     2,  2,     13,     13,2,19960625,1758, 22.7498,-157.9987, 4725,    391.3,  10.6640,  34.1964,2,  34.1972,2,    199.2,2,    196.6,2,    16.51,2,    14.79,2,     1.04,2,    392,-999.000,  -999.0, 10.6168
     32MW073_1,  PRS2,     2,  2,     12,     12,2,19960625,1758, 22.7498,-157.9987, 4725,    429.8,   9.1426,  34.1051,2,  34.1092,2,    182.9,2,    181.8,2,    23.93,2,    19.12,2,     1.34,2,    430,-999.000,  -999.0,  9.0953
     32MW073_1,  PRS2,     2,  2,     11,     11,2,19960625,1758, 22.7498,-157.9987, 4725,    488.0,   7.7267,  34.0772,2,  34.0778,2,    124.9,2,    131.4,2,    39.03,2,    26.49,2,     1.88,2,    487,-999.000,  -999.0,  7.6780
     32MW073_1,  PRS2,     2,  2,     10,     32,2,19960625,1758, 22.7498,-157.9987, 4725,    492.4,   7.7108,  34.0816,2,  34.0819,2,    124.6,2,    129.2,2,    39.64,2,    26.94,2,     1.92,2,    493,-999.000,  -999.0,  7.6618
     32MW073_1,  PRS2,     2,  2,      9,      3,2,19960625,1758, 22.7498,-157.9987, 4725,    544.2,   7.2074,  34.1677,2,  34.1806,2,     66.1,2,     73.0,2,    49.99,2,    32.01,3,     2.36,3,    544,-999.000,  -999.0,  7.1550
     32MW073_1,  PRS2,     2,  2,      8,     29,2,19960625,1758, 22.7498,-157.9987, 4725,    599.4,   6.4445,  34.1703,2,  34.1700,2,     58.7,2,     57.7,2,    61.63,2,    35.28,2,     2.57,2,    601,-999.000,  -999.0,  6.3900
     32MW073_1,  PRS2,     2,  2,      7,     28,2,19960625,1758, 22.7498,-157.9987, 4725,    641.7,   5.9100,  34.2152,2,  34.2148,2,     41.5,2,     41.1,2,    71.26,2,    37.79,2,     2.75,2,    641,-999.000,  -999.0,  5.8540
     32MW073_1,  PRS2,     2,  2,      6,      7,2,19960625,1758, 22.7498,-157.9987, 4725,    687.6,   5.5121,  34.2841,2,  34.2840,2,     30.6,2,     30.2,2,    79.74,2,    39.56,2,     2.88,2,    687,-999.000,  -999.0,  5.4539
     32MW073_1,  PRS2,     2,  2,      5,     38,2,19960625,1758, 22.7498,-157.9987, 4725,    764.6,   4.9835,  34.3422,2,  34.3414,2,     26.2,2,     25.8,2,    90.00,2,    41.03,2,     2.97,2,    765,-999.000,  -999.0,  4.9214
     32MW073_1,  PRS2,     2,  2,      4,     36,2,19960625,1758, 22.7498,-157.9987, 4725,    800.2,   5.0302,  34.3975,2,  34.3977,2,     26.2,2,     25.7,2,    89.95,2,    41.39,2,     3.00,2,    801,-999.000,  -999.0,  4.9646
     32MW073_1,  PRS2,     2,  2,      3,     35,2,19960625,1758, 22.7498,-157.9987, 4725,    875.9,   4.7609,  34.4440,2,  34.4451,2,     27.9,2,     28.2,2,    94.52,2,    41.77,2,     3.02,2,    876,-999.000,  -999.0,  4.6905
     32MW073_1,  PRS2,     2,  2,      2,     34,2,19960625,1758, 22.7498,-157.9987, 4725,    950.1,   4.4505,  34.4694,2,  34.4699,2,     33.2,2,     33.6,2,    99.98,2,    42.13,3,     3.01,2,    950,-999.000,  -999.0,  4.3757
     32MW073_1,  PRS2,     2,  2,      1,     33,2,19960625,1758, 22.7498,-157.9987, 4725,   1020.3,   4.1423,  34.4863,2,  34.4867,2,     39.7,2,     39.2,2,   106.33,2,    41.87,2,     3.01,2,   1021,-999.000,  -999.0,  4.0638
     32MW073_1,  PRS2,     2,  3,     14,     14,2,19960625,2057, 22.7963,-157.9898, 4690,      4.7,  26.2671,  34.4172,2,  34.4157,2,    205.0,1,   -999.0,9,  -999.00,9,  -999.00,9,  -999.00,9,      5,-999.000,  -999.0, 26.2661
     32MW073_1,  PRS2,     2,  3,     13,     13,2,19960625,2057, 22.7963,-157.9898, 4690,     25.4,  26.2279,  34.4198,2,  34.4191,2,    207.4,1,   -999.0,9,  -999.00,9,  -999.00,9,  -999.00,9,     25,-999.000,  -999.0, 26.2223
     32MW073_1,  PRS2,     2,  3,     12,     12,2,19960625,2057, 22.7963,-157.9898, 4690,     44.9,  26.2204,  34.4229,2,  34.4238,2,    206.5,1,   -999.0,9,  -999.00,9,  -999.00,9,  -999.00,9,     45,-999.000,  -999.0, 26.2103
     32MW073_1,  PRS2,     2,  3,     11,     11,2,19960625,2057, 22.7963,-157.9898, 4690,     74.5,  24.0752,  35.0364,2,  35.0407,2,    220.5,1,   -999.0,9,  -999.00,9,  -999.00,9,  -999.00,9,     75,-999.000,  -999.0, 24.0595
     32MW073_1,  PRS2,     2,  3,     10,     32,2,19960625,2057, 22.7963,-157.9898, 4690,     99.3,  22.7401,  35.0967,2,  35.0941,2,    225.5,1,   -999.0,9,  -999.00,9,  -999.00,9,  -999.00,9,    100,-999.000,  -999.0, 22.7200
     32MW073_1,  PRS2,     2,  3,      9,      3,2,19960625,2057, 22.7963,-157.9898, 4690,    124.7,  22.1055,  35.1148,2,  35.1150,2,    222.3,1,   -999.0,9,  -999.00,9,  -999.00,9,  -999.00,9,    125,-999.000,  -999.0, 22.0808
     32MW073_1,  PRS2,     2,  3,      8,     29,2,19960625,2057, 22.7963,-157.9898, 4690,    140.2,  21.7270,  35.1193,2,  35.1187,2,    217.3,1,   -999.0,9,  -999.00,9,  -999.00,9,  -999.00,9,    141,-999.000,  -999.0, 21.6995
     32MW073_1,  PRS2,     2,  3,      7,     28,2,19960625,2057, 22.7963,-157.9898, 4690,    149.3,  21.4560,  35.1166,2,  35.1164,2,    214.7,1,   -999.0,9,  -999.00,9,  -999.00,9,  -999.00,9,    150,-999.000,  -999.0, 21.4270
     32MW073_1,  PRS2,     2,  3,      6,      7,2,19960625,2057, 22.7963,-157.9898, 4690,    160.5,  21.1979,  35.1190,2,  35.1171,2,    212.1,1,   -999.0,9,  -999.00,9,  -999.00,9,  -999.00,9,    162,-999.000,  -999.0, 21.1669
     32MW073_1,  PRS2,     2,  3,      5,     38,2,19960625,2057, 22.7963,-157.9898, 4690,    176.2,  20.6934,  35.1112,2,  35.1128,2,    207.8,1,   -999.0,9,  -999.00,9,  -999.00,9,  -999.00,9,    176,-999.000,  -999.0, 20.6600
     32MW073_1,  PRS2,     2,  3,      4,     36,2,19960625,2057, 22.7963,-157.9898, 4690,    250.4,  18.0885,  34.9164,2,  34.9170,2,    197.4,1,   -999.0,9,  -999.00,9,  -999.00,9,  -999.00,9,    251,-999.000,  -999.0, 18.0453
     32MW073_1,  PRS2,     2,  3,      3,     35,2,19960625,2057, 22.7963,-157.9898, 4690,    485.4,   8.1927,  34.0831,2,  34.0814,2,    150.8,1,   -999.0,9,  -999.00,9,  -999.00,9,  -999.00,9,    485,-999.000,  -999.0,  8.1426
     32MW073_1,  PRS2,     2,  3,      2,     34,3,19960625,2057, 22.7963,-157.9898, 4690,    751.1,   5.1243,  34.3004,2,  34.2991,2,     27.0,1,   -999.0,9,  -999.00,9,  -999.00,9,  -999.00,9,    752,-999.000,  -999.0,  5.0626
     32MW073_1,  PRS2,     2,  3,      1,     33,2,19960625,2057, 22.7963,-157.9898, 4690,   1019.6,   4.2141,  34.4831,2,  34.4822,2,     37.4,1,   -999.0,9,  -999.00,9,  -999.00,9,  -999.00,9,   1020,-999.000,  -999.0,  4.1351