BOTTLE,20020809WHPSIObren
EXPOCODE,SECT_ID,STNNBR,CASTNO,SAMPNO,BTLNBR,BTLNBR_FLAG_W,DATE,TIME,LATITUDE,LONGITUDE,DEPTH,CTDPRS,CTDTMP,CTDSAL,CTDSAL_FLAG_W,SALNTY,SALNTY_FLAG_W,CTDOXY,CTDOXY_FLAG_W,OXYGEN,OXYGEN_FLAG_W,SILCAT,SILCAT_FLAG_W,NO2+NO3,NO2+NO3_FLAG_W,PHSPHT,PHSPHT_FLAG_W,CTDRAW,REVTMP,REVPRS,THETA
,,,,,,,,,,,,DBAR,ITS-90,PSS-78,,PSS-78,,UMOL/KG,,UMOL/KG,,UMOL/KG,,UMOL/KG,,UMOL/KG,,,DEG C,DBAR,ITS-90
     33KI116_1,  PRS2,     2,  8,     15,     23,2,20000621,0955, 22.7478,-158.0028, 4723,      4.8,  25.5340,  35.1875,2,  35.1878,2,    211.4,1,   -999.0,9,  -999.00,9,  -999.00,9,  -999.00,9,      5,-999.000,  -999.0, 25.5330
     33KI116_1,  PRS2,     2,  8,     14,     14,2,20000621,0955, 22.7478,-158.0028, 4723,     14.8,  25.4248,  35.1878,2,  35.1868,2,    212.3,1,   -999.0,9,  -999.00,9,  -999.00,9,  -999.00,9,     15,-999.000,  -999.0, 25.4216
     33KI116_1,  PRS2,     2,  8,     13,     13,3,20000621,0955, 22.7478,-158.0028, 4723,     24.8,  25.2569,  35.1875,2,  35.2008,3,    213.7,1,   -999.0,9,  -999.00,9,  -999.00,9,  -999.00,9,     26,-999.000,  -999.0, 25.2515
     33KI116_1,  PRS2,     2,  8,     10,     32,2,20000621,0955, 22.7478,-158.0028, 4723,     36.4,  25.2161,  35.1868,2,  35.1868,2,    213.8,1,   -999.0,9,  -999.00,9,  -999.00,9,  -999.00,9,     37,-999.000,  -999.0, 25.2082
     33KI116_1,  PRS2,     2,  8,     12,     12,2,20000621,0955, 22.7478,-158.0028, 4723,     36.7,  25.2145,  35.1867,2,  35.1870,2,    213.6,1,   -999.0,9,  -999.00,9,  -999.00,9,  -999.00,9,     38,-999.000,  -999.0, 25.2065
     33KI116_1,  PRS2,     2,  8,     11,     11,2,20000621,0955, 22.7478,-158.0028, 4723,     36.8,  25.2146,  35.1864,2,  35.1872,2,    213.7,1,   -999.0,9,  -999.00,9,  -999.00,9,  -999.00,9,     37,-999.000,  -999.0, 25.2066
     33KI116_1,  PRS2,     2,  8,      9,      3,2,20000621,0955, 22.7478,-158.0028, 4723,     46.1,  23.8668,  35.2114,2,  35.2040,2,    224.0,1,   -999.0,9,  -999.00,9,  -999.00,9,  -999.00,9,     46,-999.000,  -999.0, 23.8572
     33KI116_1,  PRS2,     2,  8,      8,     29,2,20000621,0955, 22.7478,-158.0028, 4723,     61.0,  23.2402,  35.3483,2,  35.3368,2,    221.6,1,   -999.0,9,  -999.00,9,  -999.00,9,  -999.00,9,     62,-999.000,  -999.0, 23.2277
     33KI116_1,  PRS2,     2,  8,      7,     28,2,20000621,0955, 22.7478,-158.0028, 4723,     75.4,  22.8767,  35.3702,2,  35.3715,2,    220.0,1,   -999.0,9,  -999.00,9,  -999.00,9,  -999.00,9,     76,-999.000,  -999.0, 22.8613
     33KI116_1,  PRS2,     2,  8,      6,      7,2,20000621,0955, 22.7478,-158.0028, 4723,     99.3,  22.2048,  35.4014,2,  35.4005,2,    213.2,1,   -999.0,9,  -999.00,9,  -999.00,9,  -999.00,9,    100,-999.000,  -999.0, 22.1850
     33KI116_1,  PRS2,     2,  8,      5,     38,2,20000621,0955, 22.7478,-158.0028, 4723,    127.9,  21.5461,  35.3756,2,  35.3782,2,    209.1,1,   -999.0,9,  -999.00,9,  -999.00,9,  -999.00,9,    128,-999.000,  -999.0, 21.5212
     33KI116_1,  PRS2,     2,  8,      4,     36,3,20000621,0955, 22.7478,-158.0028, 4723,    156.1,  20.3884,  35.2098,2,  35.2438,3,    197.6,1,   -999.0,9,  -999.00,9,  -999.00,9,  -999.00,9,    157,-999.000,  -999.0, 20.3591
     33KI116_1,  PRS2,     2,  8,      3,     35,2,20000621,0955, 22.7478,-158.0028, 4723,    498.0,   7.3364,  34.0548,2,  34.0623,2,    119.7,1,   -999.0,9,  -999.00,9,  -999.00,9,  -999.00,9,    498,-999.000,  -999.0,  7.2882
     33KI116_1,  PRS2,     2,  8,      2,     34,2,20000621,0955, 22.7478,-158.0028, 4723,    751.8,   5.0623,  34.3181,2,  34.3380,4,     35.5,1,   -999.0,9,  -999.00,9,  -999.00,9,  -999.00,9,    752,-999.000,  -999.0,  5.0009
     33KI116_1,  PRS2,     2,  8,      1,     33,2,20000621,0955, 22.7478,-158.0028, 4723,   1020.2,   3.9437,  34.4751,2,  34.4754,2,     41.1,1,   -999.0,9,  -999.00,9,  -999.00,9,  -999.00,9,   1021,-999.000,  -999.0,  3.8669
     33KI116_1,  PRS2,     2,  9,     17,     17,2,20000621,1303, 22.7270,-157.9658, 4725,      5.0,  25.4445,  35.1866,2,  35.1894,2,    208.8,1,   -999.0,9,  -999.00,9,  -999.00,9,  -999.00,9,      5,-999.000,  -999.0, 25.4434
     33KI116_1,  PRS2,     2,  9,     18,     18,2,20000621,1303, 22.7270,-157.9658, 4725,      5.1,  25.4477,  35.1862,2,-999.0000,5,    208.9,1,   -999.0,9,  -999.00,9,  -999.00,9,  -999.00,9,      5,-999.000,  -999.0, 25.4466
     33KI116_1,  PRS2,     2,  9,     16,     16,2,20000621,1303, 22.7270,-157.9658, 4725,     24.6,  24.8450,  35.2126,2,-999.0000,5,    216.3,1,   -999.0,9,  -999.00,9,  -999.00,9,  -999.00,9,     25,-999.000,  -999.0, 24.8397
     33KI116_1,  PRS2,     2,  9,     15,     23,2,20000621,1303, 22.7270,-157.9658, 4725,     24.6,  24.8354,  35.2127,2,  35.2150,2,    216.9,1,   -999.0,9,  -999.00,9,  -999.00,9,  -999.00,9,     25,-999.000,  -999.0, 24.8301
     33KI116_1,  PRS2,     2,  9,     14,     14,2,20000621,1303, 22.7270,-157.9658, 4725,     45.4,  23.5634,  35.2762,2,-999.0000,5,    221.7,1,   -999.0,9,  -999.00,9,  -999.00,9,  -999.00,9,     46,-999.000,  -999.0, 23.5540
     33KI116_1,  PRS2,     2,  9,     13,     13,2,20000621,1303, 22.7270,-157.9658, 4725,     45.4,  23.5658,  35.2765,2,  35.2755,2,    221.7,1,   -999.0,9,  -999.00,9,  -999.00,9,  -999.00,9,     46,-999.000,  -999.0, 23.5564
     33KI116_1,  PRS2,     2,  9,     12,     12,2,20000621,1303, 22.7270,-157.9658, 4725,     75.6,  22.8224,  35.3606,2,-999.0000,5,    220.2,1,   -999.0,9,  -999.00,9,  -999.00,9,  -999.00,9,     76,-999.000,  -999.0, 22.8071
     33KI116_1,  PRS2,     2,  9,     11,     11,3,20000621,1303, 22.7270,-157.9658, 4725,     75.6,  22.8192,  35.3605,2,  35.4129,4,    220.2,1,   -999.0,9,  -999.00,9,  -999.00,9,  -999.00,9,     76,-999.000,  -999.0, 22.8039
     33KI116_1,  PRS2,     2,  9,     10,     32,2,20000621,1303, 22.7270,-157.9658, 4725,     99.4,  22.3168,  35.3984,2,-999.0000,5,    215.3,1,   -999.0,9,  -999.00,9,  -999.00,9,  -999.00,9,    100,-999.000,  -999.0, 22.2969
     33KI116_1,  PRS2,     2,  9,      9,      3,3,20000621,1303, 22.7270,-157.9658, 4725,     99.7,  22.3147,  35.3985,2,  35.4454,4,    215.1,1,   -999.0,9,  -999.00,9,  -999.00,9,  -999.00,9,    100,-999.000,  -999.0, 22.2948
     33KI116_1,  PRS2,     2,  9,      8,     29,2,20000621,1303, 22.7270,-157.9658, 4725,    124.8,  21.6303,  35.3815,2,-999.0000,5,    210.5,1,   -999.0,9,  -999.00,9,  -999.00,9,  -999.00,9,    125,-999.000,  -999.0, 21.6059
     33KI116_1,  PRS2,     2,  9,      7,     28,3,20000621,1303, 22.7270,-157.9658, 4725,    124.9,  21.6280,  35.3814,2,  35.3811,2,    210.4,1,   -999.0,9,  -999.00,9,  -999.00,9,  -999.00,9,    125,-999.000,  -999.0, 21.6035
     33KI116_1,  PRS2,     2,  9,      5,     38,3,20000621,1303, 22.7270,-157.9658, 4725,    149.8,  20.7345,  35.2706,2,  35.2741,2,    202.6,1,   -999.0,9,  -999.00,9,  -999.00,9,  -999.00,9,    150,-999.000,  -999.0, 20.7061
     33KI116_1,  PRS2,     2,  9,      6,      7,2,20000621,1303, 22.7270,-157.9658, 4725,    149.9,  20.7315,  35.2690,2,-999.0000,5,    202.9,1,   -999.0,9,  -999.00,9,  -999.00,9,  -999.00,9,    150,-999.000,  -999.0, 20.7031
     33KI116_1,  PRS2,     2,  9,      4,     36,2,20000621,1303, 22.7270,-157.9658, 4725,    174.5,  19.1749,  35.0743,2,-999.0000,5,    197.9,1,   -999.0,9,  -999.00,9,  -999.00,9,  -999.00,9,    174,-999.000,  -999.0, 19.1436
     33KI116_1,  PRS2,     2,  9,      3,     35,3,20000621,1303, 22.7270,-157.9658, 4725,    174.5,  19.1671,  35.0727,2,  35.0689,2,    198.0,1,   -999.0,9,  -999.00,9,  -999.00,9,  -999.00,9,    175,-999.000,  -999.0, 19.1357
     33KI116_1,  PRS2,     2,  9,      2,     34,2,20000621,1303, 22.7270,-157.9658, 4725,    499.0,   7.3097,  34.0542,2,  34.0633,2,    118.5,1,   -999.0,9,  -999.00,9,  -999.00,9,  -999.00,9,    499,-999.000,  -999.0,  7.2615
     33KI116_1,  PRS2,     2,  9,      1,     33,2,20000621,1303, 22.7270,-157.9658, 4725,   1022.3,   3.9859,  34.4877,2,  34.4871,2,     43.3,1,   -999.0,9,  -999.00,9,  -999.00,9,  -999.00,9,   1023,-999.000,  -999.0,  3.9086
     33KI116_1,  PRS2,     2, 10,      3,     35,2,20000621,1755, 22.7647,-157.9752, 4725,      4.7,  25.4313,  35.1958,2,-999.0000,9,    210.7,1,   -999.0,9,  -999.00,9,  -999.00,9,  -999.00,9,      5,-999.000,  -999.0, 25.4302
     33KI116_1,  PRS2,     2, 10,      2,     34,2,20000621,1755, 22.7647,-157.9752, 4725,    100.5,  22.3657,  35.4119,2,-999.0000,9,    214.2,1,   -999.0,9,  -999.00,9,  -999.00,9,  -999.00,9,    101,-999.000,  -999.0, 22.3456
     33KI116_1,  PRS2,     2, 10,      1,     33,2,20000621,1755, 22.7647,-157.9752, 4725,    199.9,  18.8302,  35.0134,2,-999.0000,9,    196.2,1,   -999.0,9,  -999.00,9,  -999.00,9,  -999.00,9,    200,-999.000,  -999.0, 18.7948
     33KI116_1,  PRS2,     2, 11,      4,     36,2,20000621,1855, 22.7572,-157.9953, 4714,     75.2,  23.0805,  35.4319,2,  35.4306,2,    220.3,1,   -999.0,9,  -999.00,9,  -999.00,9,  -999.00,9,     75,-999.000,  -999.0, 23.0651
     33KI116_1,  PRS2,     2, 11,      3,     35,2,20000621,1855, 22.7572,-157.9953, 4714,    176.9,  20.0427,  35.1679,2,  35.1746,2,    196.8,1,   -999.0,9,  -999.00,9,  -999.00,9,  -999.00,9,    177,-999.000,  -999.0, 20.0099
     33KI116_1,  PRS2,     2, 11,      2,     34,2,20000621,1855, 22.7572,-157.9953, 4714,    500.2,   7.1987,  34.0652,2,  34.0701,2,    117.2,1,   -999.0,9,  -999.00,9,  -999.00,9,  -999.00,9,    501,-999.000,  -999.0,  7.1508
     33KI116_1,  PRS2,     2, 11,      1,     33,2,20000621,1855, 22.7572,-157.9953, 4714,   1019.9,   3.9181,  34.4776,2,  34.4765,2,     41.3,1,   -999.0,9,  -999.00,9,  -999.00,9,  -999.00,9,   1021,-999.000,  -999.0,  3.8415
     33KI116_1,  PRS2,     2, 12,     12,     12,2,20000621,2155, 22.7743,-157.9860, 4707,      5.0,  25.6131,  35.1971,2,  35.1977,2,    209.8,1,   -999.0,9,  -999.00,9,  -999.00,9,  -999.00,9,      5,-999.000,  -999.0, 25.6120
     33KI116_1,  PRS2,     2, 12,     11,     11,3,20000621,2155, 22.7743,-157.9860, 4707,     24.8,  25.2974,  35.1898,2,  35.1898,2,    214.2,1,   -999.0,9,  -999.00,9,  -999.00,9,  -999.00,9,     25,-999.000,  -999.0, 25.2920
     33KI116_1,  PRS2,     2, 12,     10,     32,2,20000621,2155, 22.7743,-157.9860, 4707,     44.1,  24.6162,  35.2129,2,  35.2121,2,    221.2,1,   -999.0,9,  -999.00,9,  -999.00,9,  -999.00,9,     44,-999.000,  -999.0, 24.6067
     33KI116_1,  PRS2,     2, 12,      9,      3,2,20000621,2155, 22.7743,-157.9860, 4707,     74.7,  23.0693,  35.4426,2,  35.4433,2,    221.9,1,   -999.0,9,  -999.00,9,  -999.00,9,  -999.00,9,     75,-999.000,  -999.0, 23.0540
     33KI116_1,  PRS2,     2, 12,      8,     29,3,20000621,2155, 22.7743,-157.9860, 4707,     98.9,  22.4737,  35.4204,2,  35.4216,2,    214.8,1,   -999.0,9,  -999.00,9,  -999.00,9,  -999.00,9,     99,-999.000,  -999.0, 22.4539
     33KI116_1,  PRS2,     2, 12,      7,     28,2,20000621,2155, 22.7743,-157.9860, 4707,    125.1,  21.7797,  35.3685,2,  35.3681,2,    210.6,1,   -999.0,9,  -999.00,9,  -999.00,9,  -999.00,9,    126,-999.000,  -999.0, 21.7551
     33KI116_1,  PRS2,     2, 12,      6,      7,3,20000621,2155, 22.7743,-157.9860, 4707,    150.9,  20.8958,  35.2722,2,  35.2733,2,    202.4,1,   -999.0,9,  -999.00,9,  -999.00,9,  -999.00,9,    151,-999.000,  -999.0, 20.8670
     33KI116_1,  PRS2,     2, 12,      5,     38,2,20000621,2155, 22.7743,-157.9860, 4707,    176.0,  20.0869,  35.1711,2,  35.1790,2,    196.5,1,   -999.0,9,  -999.00,9,  -999.00,9,  -999.00,9,    176,-999.000,  -999.0, 20.0542
     33KI116_1,  PRS2,     2, 12,      4,     36,2,20000621,2155, 22.7743,-157.9860, 4707,    253.3,  15.9929,  34.6482,2,  34.6559,2,    199.0,1,   -999.0,9,  -999.00,9,  -999.00,9,  -999.00,9,    254,-999.000,  -999.0, 15.9529
     33KI116_1,  PRS2,     2, 12,      3,     35,2,20000621,2155, 22.7743,-157.9860, 4707,    499.7,   7.0968,  34.0701,2,  34.0707,2,    107.8,1,   -999.0,9,  -999.00,9,  -999.00,9,  -999.00,9,    500,-999.000,  -999.0,  7.0493
     33KI116_1,  PRS2,     2, 12,      2,     34,2,20000621,2155, 22.7743,-157.9860, 4707,    749.5,   5.0300,  34.3088,2,  34.3140,2,     33.5,1,   -999.0,9,  -999.00,9,  -999.00,9,  -999.00,9,    750,-999.000,  -999.0,  4.9690
     33KI116_1,  PRS2,     2, 12,      1,     33,3,20000621,2155, 22.7743,-157.9860, 4707,   1020.4,   3.9587,  34.4711,2,  34.4724,2,     39.9,1,   -999.0,9,  -999.00,9,  -999.00,9,  -999.00,9,   1021,-999.000,  -999.0,  3.8817
     33KI116_1,  PRS2,     2, 13,      8,     29,2,20000622,0055, 22.7677,-158.0170, 4717,      5.0,  25.7259,  35.1928,2,  35.1926,2,    208.0,1,   -999.0,9,  -999.00,9,  -999.00,9,  -999.00,9,      5,-999.000,  -999.0, 25.7248
     33KI116_1,  PRS2,     2, 13,      7,     28,3,20000622,0055, 22.7677,-158.0170, 4717,     24.7,  25.2798,  35.1872,2,  35.1863,2,    216.2,1,   -999.0,9,  -999.00,9,  -999.00,9,  -999.00,9,     25,-999.000,  -999.0, 25.2744
     33KI116_1,  PRS2,     2, 13,      6,      7,2,20000622,0055, 22.7677,-158.0170, 4717,     44.3,  23.7925,  35.2360,2,  35.2448,2,    223.7,1,   -999.0,9,  -999.00,9,  -999.00,9,  -999.00,9,     75,-999.000,  -999.0, 23.7832
     33KI116_1,  PRS2,     2, 13,      5,     38,3,20000622,0055, 22.7677,-158.0170, 4717,     74.4,  22.7208,  35.3921,2,  35.3867,2,    218.6,1,   -999.0,9,  -999.00,9,  -999.00,9,  -999.00,9,     75,-999.000,  -999.0, 22.7057
     33KI116_1,  PRS2,     2, 13,      4,     36,3,20000622,0055, 22.7677,-158.0170, 4717,    100.1,  22.1036,  35.3976,2,  35.3953,2,    213.0,1,   -999.0,9,  -999.00,9,  -999.00,9,  -999.00,9,    101,-999.000,  -999.0, 22.0837
     33KI116_1,  PRS2,     2, 13,      3,     35,3,20000622,0055, 22.7677,-158.0170, 4717,    125.6,  20.9478,  35.2795,2,  35.2909,2,    202.1,1,   -999.0,9,  -999.00,9,  -999.00,9,  -999.00,9,    126,-999.000,  -999.0, 20.9238
     33KI116_1,  PRS2,     2, 13,      2,     34,2,20000622,0055, 22.7677,-158.0170, 4717,    497.2,   7.5269,  34.0604,2,  34.0623,2,    127.6,1,   -999.0,9,  -999.00,9,  -999.00,9,  -999.00,9,    498,-999.000,  -999.0,  7.4780
     33KI116_1,  PRS2,     2, 13,      1,     33,2,20000622,0055, 22.7677,-158.0170, 4717,   1019.9,   4.0650,  34.4727,2,  34.4716,2,     39.3,1,   -999.0,9,  -999.00,9,  -999.00,9,  -999.00,9,   1020,-999.000,  -999.0,  3.9872
     33KI116_1,  PRS2,     2, 14,     15,     23,2,20000622,0401, 22.7757,-158.0135, 4714,      5.1,  25.7332,  35.1918,2,  35.1920,2,    210.6,1,   -999.0,9,  -999.00,9,  -999.00,9,  -999.00,9,      6,-999.000,  -999.0, 25.7320
     33KI116_1,  PRS2,     2, 14,     14,     14,3,20000622,0401, 22.7757,-158.0135, 4714,     24.6,  25.3645,  35.1909,2,  35.1906,2,    213.9,1,   -999.0,9,  -999.00,9,  -999.00,9,  -999.00,9,     25,-999.000,  -999.0, 25.3591
     33KI116_1,  PRS2,     2, 14,     13,     13,2,20000622,0401, 22.7757,-158.0135, 4714,     49.8,  23.9250,  35.2423,2,  35.2493,2,    223.9,1,   -999.0,9,  -999.00,9,  -999.00,9,  -999.00,9,     50,-999.000,  -999.0, 23.9145
     33KI116_1,  PRS2,     2, 14,     12,     12,3,20000622,0401, 22.7757,-158.0135, 4714,     74.6,  23.2845,  35.3863,2,  35.4356,4,    221.0,1,   -999.0,9,  -999.00,9,  -999.00,9,  -999.00,9,     75,-999.000,  -999.0, 23.2691
     33KI116_1,  PRS2,     2, 14,     11,     11,3,20000622,0401, 22.7757,-158.0135, 4714,    100.0,  22.6895,  35.4415,2,  35.4415,2,    216.0,1,   -999.0,9,  -999.00,9,  -999.00,9,  -999.00,9,    100,-999.000,  -999.0, 22.6692
     33KI116_1,  PRS2,     2, 14,     10,     32,3,20000622,0401, 22.7757,-158.0135, 4714,    123.7,  22.2740,  35.4207,2,  35.4665,4,    214.7,1,   -999.0,9,  -999.00,9,  -999.00,9,  -999.00,9,    124,-999.000,  -999.0, 22.2493
     33KI116_1,  PRS2,     2, 14,      9,      3,3,20000622,0401, 22.7757,-158.0135, 4714,    149.9,  21.3907,  35.3266,2,  35.3204,2,    203.7,1,   -999.0,9,  -999.00,9,  -999.00,9,  -999.00,9,    151,-999.000,  -999.0, 21.3616
     33KI116_1,  PRS2,     2, 14,      8,     29,3,20000622,0401, 22.7757,-158.0135, 4714,    174.6,  20.3096,  35.2032,2,  35.1995,2,    198.3,1,   -999.0,9,  -999.00,9,  -999.00,9,  -999.00,9,    175,-999.000,  -999.0, 20.2769
     33KI116_1,  PRS2,     2, 14,      7,     28,2,20000622,0401, 22.7757,-158.0135, 4714,    199.8,  19.1753,  35.0637,2,  35.0673,2,    194.4,1,   -999.0,9,  -999.00,9,  -999.00,9,  -999.00,9,    200,-999.000,  -999.0, 19.1394
     33KI116_1,  PRS2,     2, 14,      6,      7,2,20000622,0401, 22.7757,-158.0135, 4714,    250.3,  15.8162,  34.6218,2,  34.6238,2,    197.0,1,   -999.0,9,  -999.00,9,  -999.00,9,  -999.00,9,    251,-999.000,  -999.0, 15.7769
     33KI116_1,  PRS2,     2, 14,      5,     38,3,20000622,0401, 22.7757,-158.0135, 4714,    351.8,  11.2969,  34.2081,2,  34.2640,4,    199.4,1,   -999.0,9,  -999.00,9,  -999.00,9,  -999.00,9,    352,-999.000,  -999.0, 11.2529
     33KI116_1,  PRS2,     2, 14,      4,     36,3,20000622,0401, 22.7757,-158.0135, 4714,    500.7,   7.5393,  34.0622,2,  34.0615,2,    124.4,1,   -999.0,9,  -999.00,9,  -999.00,9,  -999.00,9,    501,-999.000,  -999.0,  7.4901
     33KI116_1,  PRS2,     2, 14,      3,     35,3,20000622,0401, 22.7757,-158.0135, 4714,    726.9,   5.2316,  34.2966,2,  34.2944,2,     38.2,1,   -999.0,9,  -999.00,9,  -999.00,9,  -999.00,9,    727,-999.000,  -999.0,  5.1714
     33KI116_1,  PRS2,     2, 14,      2,     34,2,20000622,0401, 22.7757,-158.0135, 4714,    852.5,   4.5445,  34.4011,2,  34.4004,2,     33.7,1,   -999.0,9,  -999.00,9,  -999.00,9,  -999.00,9,    853,-999.000,  -999.0,  4.4775
     33KI116_1,  PRS2,     2, 14,      1,     33,2,20000622,0401, 22.7757,-158.0135, 4714,   1018.6,   3.9623,  34.4750,2,  34.4754,2,     40.5,1,   -999.0,9,  -999.00,9,  -999.00,9,  -999.00,9,   1019,-999.000,  -999.0,  3.8854
     33KI116_1,  PRS2,     2, 15,     10,     32,3,20000622,0655, 22.7755,-158.0030, 4712,      4.1,  25.6250,  35.1845,2,  35.1933,2,    207.1,1,   -999.0,9,  -999.00,9,  -999.00,9,  -999.00,9,      5,-999.000,  -999.0, 25.6241
     33KI116_1,  PRS2,     2, 15,      9,      3,2,20000622,0655, 22.7755,-158.0030, 4712,     24.5,  25.4095,  35.1878,2,  35.1886,2,    212.5,1,   -999.0,9,  -999.00,9,  -999.00,9,  -999.00,9,     25,-999.000,  -999.0, 25.4041
     33KI116_1,  PRS2,     2, 15,      8,     29,2,20000622,0655, 22.7755,-158.0030, 4712,     35.0,  25.2536,  35.1884,2,  35.1892,2,    215.3,1,   -999.0,9,  -999.00,9,  -999.00,9,  -999.00,9,     36,-999.000,  -999.0, 25.2460
     33KI116_1,  PRS2,     2, 15,      7,     28,2,20000622,0655, 22.7755,-158.0030, 4712,     74.7,  23.1907,  35.3958,2,  35.3953,2,    220.8,1,   -999.0,9,  -999.00,9,  -999.00,9,  -999.00,9,     76,-999.000,  -999.0, 23.1753
     33KI116_1,  PRS2,     2, 15,      6,      7,2,20000622,0655, 22.7755,-158.0030, 4712,     99.7,  22.5301,  35.4148,2,  35.4182,2,    216.3,1,   -999.0,9,  -999.00,9,  -999.00,9,  -999.00,9,    100,-999.000,  -999.0, 22.5100
     33KI116_1,  PRS2,     2, 15,      5,     38,2,20000622,0655, 22.7755,-158.0030, 4712,    125.2,  22.0523,  35.3975,2,  35.3453,4,    213.5,1,   -999.0,9,  -999.00,9,  -999.00,9,  -999.00,9,    126,-999.000,  -999.0, 22.0274
     33KI116_1,  PRS2,     2, 15,      4,     36,2,20000622,0655, 22.7755,-158.0030, 4712,    150.5,  21.0428,  35.2900,2,  35.2936,2,    201.0,1,   -999.0,9,  -999.00,9,  -999.00,9,  -999.00,9,    151,-999.000,  -999.0, 21.0140
     33KI116_1,  PRS2,     2, 15,      3,     35,2,20000622,0655, 22.7755,-158.0030, 4712,    176.5,  19.9503,  35.1507,2,  35.1569,2,    195.3,1,   -999.0,9,  -999.00,9,  -999.00,9,  -999.00,9,    178,-999.000,  -999.0, 19.9177
     33KI116_1,  PRS2,     2, 15,      2,     34,2,20000622,0655, 22.7755,-158.0030, 4712,    500.2,   7.3756,  34.0511,2,  34.0503,2,    123.3,1,   -999.0,9,  -999.00,9,  -999.00,9,  -999.00,9,    501,-999.000,  -999.0,  7.3270
     33KI116_1,  PRS2,     2, 15,      1,     33,2,20000622,0655, 22.7755,-158.0030, 4712,   1020.6,   3.8955,  34.4830,2,  34.4838,2,     42.2,1,   -999.0,9,  -999.00,9,  -999.00,9,  -999.00,9,   1021,-999.000,  -999.0,  3.8190