BOTTLE,20020809WHPSIObren
#code : jjward hyd_to_exchange.pl 
#original files copied from HTML directory: 20020809
#original HYD file: /whpo/11/HOTS/BOTTLE/hot116/hot116.sea   Fri Aug  9 09:51:27 2002
#original SUM file: /whpo/11/HOTS/BOTTLE/hot116/hot116.sum   Fri Aug  9 13:30:31 2002
EXPOCODE,SECT_ID,STNNBR,CASTNO,SAMPNO,BTLNBR,BTLNBR_FLAG_W,DATE,TIME,LATITUDE,LONGITUDE,DEPTH,CTDPRS,CTDTMP,CTDSAL,CTDSAL_FLAG_W,SALNTY,SALNTY_FLAG_W,CTDOXY,CTDOXY_FLAG_W,OXYGEN,OXYGEN_FLAG_W,SILCAT,SILCAT_FLAG_W,NO2+NO3,NO2+NO3_FLAG_W,PHSPHT,PHSPHT_FLAG_W,CTDRAW,REVTMP,REVPRS,THETA
,,,,,,,,,,,,DBAR,ITS-90,PSS-78,,PSS-78,,UMOL/KG,,UMOL/KG,,UMOL/KG,,UMOL/KG,,UMOL/KG,,,DEG C,DBAR,ITS-90
     33KI116_1,  PRS2,     1,  1,     24,     31,2,20000619,2328, 21.3417,-158.2717, 1484,      4.4,  26.2493,  34.8770,2,  34.8804,2,    206.4,2,    206.9,2,  -999.00,5,  -999.00,5,  -999.00,5,      5,-999.000,  -999.0, 26.2483
     33KI116_1,  PRS2,     1,  1,     23,     30,2,20000619,2328, 21.3417,-158.2717, 1484,      4.4,  26.2376,  34.8779,2,  34.8812,2,    206.5,2,    206.7,2,     1.33,2,     0.01,2,     0.15,2,      5,-999.000,  -999.0, 26.2366
     33KI116_1,  PRS2,     1,  1,     22,     22,2,20000619,2328, 21.3417,-158.2717, 1484,     24.0,  25.6427,  34.8645,2,  34.8741,2,    207.7,2,    207.7,2,     1.08,2,     0.01,2,     0.14,2,     24,-999.000,  -999.0, 25.6374
     33KI116_1,  PRS2,     1,  1,     21,     21,3,20000619,2328, 21.3417,-158.2717, 1484,     44.3,  24.4801,  34.8807,2,-999.0000,5,    216.1,2,    214.8,2,     1.26,2,    -0.01,2,     0.18,3,     45,-999.000,  -999.0, 24.4706
     33KI116_1,  PRS2,     1,  1,     20,     20,2,20000619,2328, 21.3417,-158.2717, 1484,     60.5,  24.0130,  35.2313,2,  35.2192,2,    217.6,2,    218.4,2,     2.30,3,    -0.01,2,     0.11,2,     61,-999.000,  -999.0, 24.0003
     33KI116_1,  PRS2,     1,  1,     19,     19,2,20000619,2328, 21.3417,-158.2717, 1484,     74.3,  23.1314,  35.2167,2,  35.2154,2,    218.2,2,    219.0,2,     1.35,2,     0.01,2,     0.11,2,     75,-999.000,  -999.0, 23.1162
     33KI116_1,  PRS2,     1,  1,     18,     18,2,20000619,2328, 21.3417,-158.2717, 1484,     93.6,  22.6105,  35.2617,2,  35.2560,2,    214.1,2,    212.7,2,     1.42,2,     0.00,2,     0.13,2,     94,-999.000,  -999.0, 22.5916
     33KI116_1,  PRS2,     1,  1,     17,     17,2,20000619,2328, 21.3417,-158.2717, 1484,    103.8,  21.9102,  35.2665,2,  35.2769,2,    208.3,2,    207.1,2,     1.53,2,     0.13,2,     0.16,2,    104,-999.000,  -999.0, 21.8897
     33KI116_1,  PRS2,     1,  1,     16,     16,2,20000619,2328, 21.3417,-158.2717, 1484,    114.1,  21.3792,  35.2346,2,  35.2402,2,    200.1,2,    201.5,2,     1.78,2,     0.71,2,     0.17,2,    115,-999.000,  -999.0, 21.3571
     33KI116_1,  PRS2,     1,  1,     15,     23,2,20000619,2328, 21.3417,-158.2717, 1484,    124.4,  20.8337,  35.1834,2,  35.1849,2,    197.4,2,    197.4,2,     2.05,2,     1.28,2,     0.22,2,    125,-999.000,  -999.0, 20.8100
     33KI116_1,  PRS2,     1,  1,     14,     14,2,20000619,2328, 21.3417,-158.2717, 1484,    149.9,  19.4446,  35.0751,2,  35.0695,2,    194.5,2,    194.2,2,     2.71,2,     2.45,2,     0.28,2,    150,-999.000,  -999.0, 19.4174
     33KI116_1,  PRS2,     1,  1,     13,     13,2,20000619,2328, 21.3417,-158.2717, 1484,    175.2,  18.5014,  34.9608,2,  34.9620,2,    189.2,2,    193.4,2,     3.25,2,     3.18,2,     0.30,2,    176,-999.000,  -999.0, 18.4707
     33KI116_1,  PRS2,     1,  1,     12,     12,2,20000619,2328, 21.3417,-158.2717, 1484,    199.5,  16.8866,  34.7616,2,  34.7594,2,    195.1,2,    197.6,2,     4.33,2,     4.32,2,     0.38,2,    200,-999.000,  -999.0, 16.8538
     33KI116_1,  PRS2,     1,  1,     11,     11,2,20000619,2328, 21.3417,-158.2717, 1484,    224.1,  16.0712,  34.6572,2,  34.6600,2,    194.7,2,    194.9,2,     5.13,2,     5.20,2,     0.51,2,    224,-999.000,  -999.0, 16.0357
     33KI116_1,  PRS2,     1,  1,     10,     32,2,20000619,2328, 21.3417,-158.2717, 1484,    249.2,  14.9469,  34.5218,2,  34.5313,2,    194.1,2,    192.7,2,     6.70,2,     6.92,2,     0.61,2,    249,-999.000,  -999.0, 14.9094
     33KI116_1,  PRS2,     1,  1,      9,      3,2,20000619,2328, 21.3417,-158.2717, 1484,    274.2,  13.5000,  34.3683,2,  34.3698,2,    189.2,2,    186.8,2,  -999.00,5,  -999.00,5,  -999.00,5,    275,-999.000,  -999.0, 13.4615
     33KI116_1,  PRS2,     1,  1,      8,     29,4,20000619,2328, 21.3417,-158.2717, 1484,    300.0,  12.3209,  34.2716,2,-999.0000,5,    182.5,2,   -999.0,5,  -999.00,5,  -999.00,5,  -999.00,5,    301,-999.000,  -999.0, 12.2812
     33KI116_1,  PRS2,     1,  1,      7,     28,2,20000619,2328, 21.3417,-158.2717, 1484,    399.9,   8.7087,  34.0994,2,  34.1003,2,    145.7,2,    146.5,2,    31.45,2,    23.05,2,     1.70,2,    400,-999.000,  -999.0,  8.6661
     33KI116_1,  PRS2,     1,  1,      6,      7,2,20000619,2328, 21.3417,-158.2717, 1484,    499.5,   6.8081,  34.1310,2,  34.1354,2,     83.9,2,     86.5,2,    55.35,2,    32.10,2,     2.38,2,    500,-999.000,  -999.0,  6.7617
     33KI116_1,  PRS2,     1,  1,      5,     38,2,20000619,2328, 21.3417,-158.2717, 1484,    599.3,   5.8021,  34.2300,2,  34.2285,2,     43.8,2,     41.7,2,  -999.00,5,  -999.00,5,  -999.00,5,    600,-999.000,  -999.0,  5.7505
     33KI116_1,  PRS2,     1,  1,      4,     36,2,20000619,2328, 21.3417,-158.2717, 1484,    699.3,   5.1441,  34.3577,2,  34.3566,2,     33.9,2,     34.1,2,    88.16,2,    40.44,2,     2.99,2,    700,-999.000,  -999.0,  5.0868
     33KI116_1,  PRS2,     1,  1,      3,     35,2,20000619,2328, 21.3417,-158.2717, 1484,    800.9,   4.7763,  34.4147,2,  34.4147,2,     36.1,2,     36.0,2,  -999.00,5,  -999.00,5,  -999.00,5,    802,-999.000,  -999.0,  4.7122
     33KI116_1,  PRS2,     1,  1,      2,     34,4,20000619,2328, 21.3417,-158.2717, 1484,    899.9,   4.4714,  34.4668,2,-999.0000,5,     39.7,2,   -999.0,5,  -999.00,5,  -999.00,5,  -999.00,5,    900,-999.000,  -999.0,  4.4008
     33KI116_1,  PRS2,     1,  1,      1,     33,2,20000619,2328, 21.3417,-158.2717, 1484,   1020.8,   4.0330,  34.5026,2,  34.5050,2,     45.9,2,     45.9,2,   109.65,2,    41.53,2,     3.06,2,   1021,-999.000,  -999.0,  3.9553
     33KI116_1,  PRS2,     2,  1,      2,     34,2,20000620,1256, 22.7508,-158.0007, 4724,     76.2,  22.7190,  35.3903,2,  35.3817,2,    217.8,1,   -999.0,9,  -999.00,9,  -999.00,9,  -999.00,9,     77,-999.000,  -999.0, 22.7036
     33KI116_1,  PRS2,     2,  1,      3,     35,3,20000620,1256, 22.7508,-158.0007, 4724,     76.6,  22.7082,  35.3890,2,  35.3898,2,    217.9,1,   -999.0,9,  -999.00,9,  -999.00,9,  -999.00,9,     77,-999.000,  -999.0, 22.6927
     33KI116_1,  PRS2,     2,  1,      4,     36,3,20000620,1256, 22.7508,-158.0007, 4724,     76.8,  22.7066,  35.3890,2,  35.3884,2,    218.0,1,   -999.0,9,  -999.00,9,  -999.00,9,  -999.00,9,     77,-999.000,  -999.0, 22.6910
     33KI116_1,  PRS2,     2,  1,      5,     38,2,20000620,1256, 22.7508,-158.0007, 4724,     77.1,  22.7026,  35.3892,2,  35.3884,2,    218.0,1,   -999.0,9,  -999.00,9,  -999.00,9,  -999.00,9,     77,-999.000,  -999.0, 22.6870
     33KI116_1,  PRS2,     2,  1,      6,      7,2,20000620,1256, 22.7508,-158.0007, 4724,     77.3,  22.6999,  35.3894,2,  35.3886,2,    218.1,1,   -999.0,9,  -999.00,9,  -999.00,9,  -999.00,9,     78,-999.000,  -999.0, 22.6843
     33KI116_1,  PRS2,     2,  1,      7,     28,2,20000620,1256, 22.7508,-158.0007, 4724,     77.4,  22.6984,  35.3893,2,  35.3884,2,    218.2,1,   -999.0,9,  -999.00,9,  -999.00,9,  -999.00,9,     78,-999.000,  -999.0, 22.6827
     33KI116_1,  PRS2,     2,  1,      1,     33,3,20000620,1256, 22.7508,-158.0007, 4724,    175.3,  18.7917,  35.0201,2,  35.0386,2,    196.4,1,   -999.0,9,  -999.00,9,  -999.00,9,  -999.00,9,    175,-999.000,  -999.0, 18.7607
     33KI116_1,  PRS2,     2,  2,     24,     31,2,20000620,1355, 22.7490,-157.9973, 4724,      5.1,  25.2656,  35.1917,2,  35.1957,2,    211.2,2,    211.6,2,     1.14,2,     0.00,2,     0.07,2,      5,-999.000,  -999.0, 25.2645
     33KI116_1,  PRS2,     2,  2,     23,     30,2,20000620,1355, 22.7490,-157.9973, 4724,    501.4,   7.4159,  34.0667,2,  34.0680,2,    120.0,2,    119.5,2,    42.60,2,    27.94,2,     2.05,2,    502,-999.000,  -999.0,  7.3671
     33KI116_1,  PRS2,     2,  2,     22,     22,2,20000620,1355, 22.7490,-157.9973, 4724,    801.3,   4.6617,  34.3352,2,  34.3319,2,     32.2,2,     28.4,3,    96.86,2,    40.95,2,     3.01,2,    802,-999.000,  -999.0,  4.5984
     33KI116_1,  PRS2,     2,  2,     21,     21,2,20000620,1355, 22.7490,-157.9973, 4724,   1000.3,   3.9562,  34.4623,2,  34.4620,2,     38.5,2,     37.8,2,   112.00,2,    41.71,2,     3.04,2,   1001,-999.000,  -999.0,  3.8809
     33KI116_1,  PRS2,     2,  2,     20,     20,3,20000620,1355, 22.7490,-157.9973, 4724,   1201.2,   3.4508,  34.5279,2,  34.5272,2,     50.7,2,     51.1,2,   122.18,2,    41.36,2,     3.01,2,   1202,-999.000,  -999.0,  3.3631
     33KI116_1,  PRS2,     2,  2,     19,     19,3,20000620,1355, 22.7490,-157.9973, 4724,   1400.6,   2.9936,  34.5585,2,  34.5582,2,     60.6,2,     60.9,2,   131.56,2,    41.00,2,     2.96,2,   1401,-999.000,  -999.0,  2.8941
     33KI116_1,  PRS2,     2,  2,     18,     18,2,20000620,1355, 22.7490,-157.9973, 4724,   1599.7,   2.6505,  34.5824,2,  34.5814,2,     70.9,2,     71.4,2,   139.54,2,    40.42,2,     2.91,2,   1600,-999.000,  -999.0,  2.5385
     33KI116_1,  PRS2,     2,  2,     17,     17,2,20000620,1355, 22.7490,-157.9973, 4724,   1801.3,   2.3460,  34.6015,2,  34.6014,2,     77.7,2,     77.9,2,   147.23,2,    40.13,2,     2.90,2,   1801,-999.000,  -999.0,  2.2213
     33KI116_1,  PRS2,     2,  2,     16,     16,2,20000620,1355, 22.7490,-157.9973, 4724,   2000.4,   2.1123,  34.6165,2,  34.6162,2,     85.6,2,     86.1,2,   152.64,2,    39.71,2,     2.85,2,   2001,-999.000,  -999.0,  1.9742
     33KI116_1,  PRS2,     2,  2,     15,     23,2,20000620,1355, 22.7490,-157.9973, 4724,   2199.8,   1.9334,  34.6296,2,  34.6301,2,     92.2,2,     92.5,2,   157.51,2,    39.20,2,     2.81,2,   2200,-999.000,  -999.0,  1.7811
     33KI116_1,  PRS2,     2,  2,     14,     14,2,20000620,1355, 22.7490,-157.9973, 4724,   2400.1,   1.8165,  34.6409,2,  34.6449,3,    100.2,3,    100.6,2,   159.53,2,    38.86,2,     2.76,2,   2400,-999.000,  -999.0,  1.6486
     33KI116_1,  PRS2,     2,  2,     13,     13,2,20000620,1355, 22.7490,-157.9973, 4724,   2599.3,   1.7139,  34.6511,2,  34.6590,4,    107.2,3,    108.1,2,   159.64,2,    38.41,2,     2.72,2,   2601,-999.000,  -999.0,  1.5300
     33KI116_1,  PRS2,     2,  2,     12,     12,2,20000620,1355, 22.7490,-157.9973, 4724,   2799.5,   1.6462,  34.6584,2,  34.6588,2,    113.4,2,    115.1,2,   161.21,2,    38.05,2,     2.70,2,   2800,-999.000,  -999.0,  1.4453
     33KI116_1,  PRS2,     2,  2,     11,     11,2,20000620,1355, 22.7490,-157.9973, 4724,   2999.1,   1.5735,  34.6655,2,  34.6653,2,    120.3,2,    121.3,2,   160.93,2,    36.85,3,     2.60,3,   3000,-999.000,  -999.0,  1.3552
     33KI116_1,  PRS2,     2,  2,     10,     32,2,20000620,1355, 22.7490,-157.9973, 4724,   3199.2,   1.5287,  34.6711,2,  34.6712,2,    127.8,2,    127.9,2,   158.05,2,    37.10,2,     2.62,2,   3200,-999.000,  -999.0,  1.2921
     33KI116_1,  PRS2,     2,  2,      9,      3,2,20000620,1355, 22.7490,-157.9973, 4724,   3399.3,   1.4928,  34.6761,2,  34.6796,3,    134.1,3,    134.8,2,   157.48,2,    36.89,2,     2.60,2,   3400,-999.000,  -999.0,  1.2371
     33KI116_1,  PRS2,     2,  2,      8,     29,2,20000620,1355, 22.7490,-157.9973, 4724,   3599.4,   1.4719,  34.6795,2,  34.6798,2,    139.0,2,    139.6,2,   156.12,2,    36.31,2,     2.56,2,   3599,-999.000,  -999.0,  1.1963
     33KI116_1,  PRS2,     2,  2,      7,     28,2,20000620,1355, 22.7490,-157.9973, 4724,   3799.1,   1.4621,  34.6822,2,  34.6824,2,    143.5,2,    143.8,2,   154.14,2,    36.23,2,     2.54,2,   3800,-999.000,  -999.0,  1.1658
     33KI116_1,  PRS2,     2,  2,      6,      7,2,20000620,1355, 22.7490,-157.9973, 4724,   3999.1,   1.4584,  34.6843,2,  34.6859,2,    147.1,2,    147.1,2,   152.79,2,    35.98,2,     2.52,2,   3999,-999.000,  -999.0,  1.1408
     33KI116_1,  PRS2,     2,  2,      5,     38,2,20000620,1355, 22.7490,-157.9973, 4724,   4199.0,   1.4662,  34.6856,2,  34.6855,2,    149.4,2,    149.1,2,   151.12,2,    35.72,2,     2.50,2,   4199,-999.000,  -999.0,  1.1264
     33KI116_1,  PRS2,     2,  2,      4,     36,2,20000620,1355, 22.7490,-157.9973, 4724,   4398.5,   1.4772,  34.6866,2,  34.6867,2,    151.4,2,    151.0,2,   150.51,2,    35.58,2,     2.49,2,   4399,-999.000,  -999.0,  1.1146
     33KI116_1,  PRS2,     2,  2,      3,     35,2,20000620,1355, 22.7490,-157.9973, 4724,   4499.0,   1.4858,  34.6869,2,  34.6877,2,    152.2,2,    151.5,2,   149.77,2,    35.64,2,     2.49,2,   4499,-999.000,  -999.0,  1.1114
     33KI116_1,  PRS2,     2,  2,      2,     34,2,20000620,1355, 22.7490,-157.9973, 4724,   4599.4,   1.4953,  34.6872,2,  34.6877,2,    152.7,2,    151.8,2,   150.00,2,    35.59,2,     2.49,2,   4600,-999.000,  -999.0,  1.1089
     33KI116_1,  PRS2,     2,  2,      1,     33,2,20000620,1355, 22.7490,-157.9973, 4724,   4804.5,   1.5140,  34.6877,2,  34.6889,2,    153.7,2,    153.0,2,   149.66,2,    35.41,2,     2.46,2,   4804,-999.000,  -999.0,  1.1029
     33KI116_1,  PRS2,     2,  3,     24,     31,2,20000620,1858, 22.7537,-157.9985, 4725,      4.7,  25.3600,  35.1937,2,  35.1945,2,    210.3,2,    212.3,2,     1.03,2,     0.00,2,     0.09,2,      5,-999.000,  -999.0, 25.3590
     33KI116_1,  PRS2,     2,  3,     23,     30,2,20000620,1858, 22.7537,-157.9985, 4725,     51.3,  23.5867,  35.4146,2,  35.4141,2,    220.5,2,    221.7,2,     1.50,2,     0.01,2,     0.04,2,     52,-999.000,  -999.0, 23.5760
     33KI116_1,  PRS2,     2,  3,     22,     22,2,20000620,1858, 22.7537,-157.9985, 4725,     74.4,  22.9587,  35.4195,2,  35.4188,2,    218.4,2,    220.1,2,     1.50,2,     0.00,2,     0.05,2,     75,-999.000,  -999.0, 22.9435
     33KI116_1,  PRS2,     2,  3,     21,     21,3,20000620,1858, 22.7537,-157.9985, 4725,    123.6,  22.1228,  35.3988,2,  35.3963,2,    212.4,2,    216.2,2,     1.63,2,     0.01,2,     0.06,2,    124,-999.000,  -999.0, 22.0982
     33KI116_1,  PRS2,     2,  3,     20,     20,2,20000620,1858, 22.7537,-157.9985, 4725,    175.4,  20.4693,  35.2218,2,  35.2257,2,    196.3,2,    196.6,2,     2.21,2,     1.49,2,     0.19,2,    176,-999.000,  -999.0, 20.4362
     33KI116_1,  PRS2,     2,  3,     19,     19,2,20000620,1858, 22.7537,-157.9985, 4725,    194.7,  19.4167,  35.0882,2,  35.0949,2,    194.4,2,    194.2,2,     2.67,2,     2.31,2,     0.23,2,    195,-999.000,  -999.0, 19.3814
     33KI116_1,  PRS2,     2,  3,     18,     18,2,20000620,1858, 22.7537,-157.9985, 4725,    245.3,  16.2021,  34.6710,2,  34.6844,2,    199.8,2,    195.6,2,     5.00,2,     4.85,2,     0.41,2,    246,-999.000,  -999.0, 16.1629
     33KI116_1,  PRS2,     2,  3,     17,     17,2,20000620,1858, 22.7537,-157.9985, 4725,    285.6,  13.8949,  34.4020,2,  34.4283,3,    197.4,3,    197.8,2,     7.28,2,     7.51,2,     0.64,2,    286,-999.000,  -999.0, 13.8539
     33KI116_1,  PRS2,     2,  3,     16,     16,2,20000620,1858, 22.7537,-157.9985, 4725,    324.6,  11.7801,  34.2363,2,  34.2399,2,    199.7,2,    200.7,2,    11.81,2,    11.69,2,     0.84,2,    325,-999.000,  -999.0, 11.7383
     33KI116_1,  PRS2,     2,  3,     15,     23,2,20000620,1858, 22.7537,-157.9985, 4725,    364.8,  10.4259,  34.1608,2,  34.1597,2,    193.7,2,    194.9,2,    17.30,2,    15.31,2,     1.09,2,    365,-999.000,  -999.0, 10.3825
     33KI116_1,  PRS2,     2,  3,     14,     14,2,20000620,1858, 22.7537,-157.9985, 4725,    424.2,   8.8852,  34.0778,2,  34.0774,2,    182.7,2,    182.0,2,    26.05,2,    19.90,2,     1.40,2,    425,-999.000,  -999.0,  8.8394
     33KI116_1,  PRS2,     2,  3,     13,     13,2,20000620,1858, 22.7537,-157.9985, 4725,    484.1,   7.3883,  34.0662,2,  34.0654,2,    119.5,2,    118.6,2,    43.52,2,    28.25,2,     2.10,2,    485,-999.000,  -999.0,  7.3413
     33KI116_1,  PRS2,     2,  3,     12,     12,2,20000620,1858, 22.7537,-157.9985, 4725,    536.6,   6.6412,  34.0852,2,  34.0850,2,     91.1,2,     86.6,2,    55.31,2,    32.51,2,     2.39,2,    537,-999.000,  -999.0,  6.5919
     33KI116_1,  PRS2,     2,  3,     11,     11,2,20000620,1858, 22.7537,-157.9985, 4725,    586.4,   6.1299,  34.1150,2,  34.1117,2,     75.0,2,     71.2,2,    64.57,2,    35.00,2,     2.59,2,    587,-999.000,  -999.0,  6.0781
     33KI116_1,  PRS2,     2,  3,     10,     32,2,20000620,1858, 22.7537,-157.9985, 4725,    619.2,   5.8006,  34.1853,2,  34.1844,2,     59.4,2,     56.0,2,    73.00,2,    36.87,2,     2.78,2,    620,-999.000,  -999.0,  5.7472
     33KI116_1,  PRS2,     2,  3,      9,      3,2,20000620,1858, 22.7537,-157.9985, 4725,    658.4,   5.5143,  34.2221,2,  34.2262,2,     46.4,2,     44.7,2,    78.73,2,    38.42,2,     2.88,2,    659,-999.000,  -999.0,  5.4588
     33KI116_1,  PRS2,     2,  3,      8,     29,2,20000620,1858, 22.7537,-157.9985, 4725,    693.3,   5.3207,  34.2320,2,  34.2311,2,     41.4,2,     40.2,2,    82.65,2,    39.21,2,     2.94,2,    694,-999.000,  -999.0,  5.2630
     33KI116_1,  PRS2,     2,  3,      7,     28,2,20000620,1858, 22.7537,-157.9985, 4725,    729.5,   5.0334,  34.2688,2,  34.2691,2,     35.8,2,     33.2,2,    89.09,2,    40.35,2,     3.02,2,    730,-999.000,  -999.0,  4.9742
     33KI116_1,  PRS2,     2,  3,      6,      7,2,20000620,1858, 22.7537,-157.9985, 4725,    764.0,   4.9053,  34.3245,2,  34.3280,2,     33.1,2,     33.1,2,    91.60,2,    40.21,2,     3.02,2,    765,-999.000,  -999.0,  4.8437
     33KI116_1,  PRS2,     2,  3,      5,     38,2,20000620,1858, 22.7537,-157.9985, 4725,    799.3,   4.6823,  34.3517,2,  34.3476,2,     30.6,2,     30.5,2,    97.39,2,    41.16,2,     3.08,2,    800,-999.000,  -999.0,  4.6190
     33KI116_1,  PRS2,     2,  3,      4,     36,2,20000620,1858, 22.7537,-157.9985, 4725,    848.8,   4.3531,  34.3748,2,  34.3753,2,     28.6,2,     56.2,4,   104.54,2,    41.77,2,     3.05,2,    849,-999.000,  -999.0,  4.2877
     33KI116_1,  PRS2,     2,  3,      3,     35,2,20000620,1858, 22.7537,-157.9985, 4725,    899.1,   4.1696,  34.3992,2,  34.3984,2,     29.7,2,     29.8,2,   108.70,2,    41.92,2,     3.07,2,    900,-999.000,  -999.0,  4.1012
     33KI116_1,  PRS2,     2,  3,      2,     34,2,20000620,1858, 22.7537,-157.9985, 4725,    959.8,   4.0724,  34.4480,2,  34.4648,4,     36.3,3,     36.7,2,   107.31,2,    40.75,3,     3.03,2,    961,-999.000,  -999.0,  3.9996
     33KI116_1,  PRS2,     2,  3,      1,     33,2,20000620,1858, 22.7537,-157.9985, 4725,   1019.6,   3.9774,  34.4680,2,  34.4681,2,     38.9,2,     38.9,2,   111.84,2,    41.58,2,     3.08,2,   1021,-999.000,  -999.0,  3.9003