BOTTLE,20020809WHPSIObren
EXPOCODE,SECT_ID,STNNBR,CASTNO,SAMPNO,BTLNBR,BTLNBR_FLAG_W,DATE,TIME,LATITUDE,LONGITUDE,DEPTH,CTDPRS,CTDTMP,CTDSAL,CTDSAL_FLAG_W,SALNTY,SALNTY_FLAG_W,CTDOXY,CTDOXY_FLAG_W,OXYGEN,OXYGEN_FLAG_W,SILCAT,SILCAT_FLAG_W,NO2+NO3,NO2+NO3_FLAG_W,PHSPHT,PHSPHT_FLAG_W,CTDRAW,REVTMP,REVPRS,THETA
,,,,,,,,,,,,DBAR,ITS-90,PSS-78,,PSS-78,,UMOL/KG,,UMOL/KG,,UMOL/KG,,UMOL/KG,,UMOL/KG,,,DEG C,DBAR,ITS-90
     33KI116_1,  PRS2,     2,  4,     24,     31,2,20000620,2155, 22.7493,-158.0005, 4728,      3.9,  25.6043,  35.1939,2,  35.1926,2,    210.6,1,   -999.0,9,  -999.00,9,  -999.00,9,  -999.00,9,      5,-999.000,  -999.0, 25.6035
     33KI116_1,  PRS2,     2,  4,     23,     30,3,20000620,2155, 22.7493,-158.0005, 4728,      4.0,  25.5744,  35.1941,2,  35.1926,2,    210.5,1,   -999.0,9,  -999.00,9,  -999.00,9,  -999.00,9,      5,-999.000,  -999.0, 25.5736
     33KI116_1,  PRS2,     2,  4,     22,     22,2,20000620,2155, 22.7493,-158.0005, 4728,     14.4,  25.2916,  35.1892,2,  35.1876,2,    211.8,1,   -999.0,9,  -999.00,9,  -999.00,9,  -999.00,9,     15,-999.000,  -999.0, 25.2884
     33KI116_1,  PRS2,     2,  4,     21,     21,3,20000620,2155, 22.7493,-158.0005, 4728,     24.1,  25.2109,  35.1879,2,  35.2002,3,    212.7,1,   -999.0,9,  -999.00,9,  -999.00,9,  -999.00,9,     25,-999.000,  -999.0, 25.2056
     33KI116_1,  PRS2,     2,  4,     20,     20,3,20000620,2155, 22.7493,-158.0005, 4728,     29.6,  25.0599,  35.1882,2,  35.1898,2,    213.4,1,   -999.0,9,  -999.00,9,  -999.00,9,  -999.00,9,     30,-999.000,  -999.0, 25.0534
     33KI116_1,  PRS2,     2,  4,     19,     19,3,20000620,2155, 22.7493,-158.0005, 4728,     34.5,  24.3377,  35.2162,2,  35.2323,3,    221.5,1,   -999.0,9,  -999.00,9,  -999.00,9,  -999.00,9,     35,-999.000,  -999.0, 24.3303
     33KI116_1,  PRS2,     2,  4,     18,     18,2,20000620,2155, 22.7493,-158.0005, 4728,     34.5,  24.3280,  35.2170,2,  35.2229,2,    221.8,1,   -999.0,9,  -999.00,9,  -999.00,9,  -999.00,9,     35,-999.000,  -999.0, 24.3207
     33KI116_1,  PRS2,     2,  4,     17,     17,2,20000620,2155, 22.7493,-158.0005, 4728,     34.5,  24.3168,  35.2181,2,  35.2209,2,    222.1,1,   -999.0,9,  -999.00,9,  -999.00,9,  -999.00,9,     35,-999.000,  -999.0, 24.3094
     33KI116_1,  PRS2,     2,  4,     16,     16,2,20000620,2155, 22.7493,-158.0005, 4728,     44.0,  23.3557,  35.2955,2,  35.2978,2,    221.2,1,   -999.0,9,  -999.00,9,  -999.00,9,  -999.00,9,     45,-999.000,  -999.0, 23.3466
     33KI116_1,  PRS2,     2,  4,     15,     23,2,20000620,2155, 22.7493,-158.0005, 4728,     44.1,  23.3560,  35.2957,2,  35.2968,2,    221.2,1,   -999.0,9,  -999.00,9,  -999.00,9,  -999.00,9,     45,-999.000,  -999.0, 23.3469
     33KI116_1,  PRS2,     2,  4,     14,     14,2,20000620,2155, 22.7493,-158.0005, 4728,     58.6,  23.0674,  35.3927,2,  35.3912,2,    219.9,1,   -999.0,9,  -999.00,9,  -999.00,9,  -999.00,9,     60,-999.000,  -999.0, 23.0554
     33KI116_1,  PRS2,     2,  4,     13,     13,2,20000620,2155, 22.7493,-158.0005, 4728,     74.0,  22.6856,  35.4170,2,  35.4267,2,    217.9,1,   -999.0,9,  -999.00,9,  -999.00,9,  -999.00,9,     75,-999.000,  -999.0, 22.6706
     33KI116_1,  PRS2,     2,  4,     12,     12,3,20000620,2155, 22.7493,-158.0005, 4728,     74.2,  22.6882,  35.4184,2,  35.4105,2,    217.9,1,   -999.0,9,  -999.00,9,  -999.00,9,  -999.00,9,     75,-999.000,  -999.0, 22.6732
     33KI116_1,  PRS2,     2,  4,     11,     11,2,20000620,2155, 22.7493,-158.0005, 4728,     99.4,  22.2078,  35.4005,2,  35.3985,2,    214.2,1,   -999.0,9,  -999.00,9,  -999.00,9,  -999.00,9,    100,-999.000,  -999.0, 22.1879
     33KI116_1,  PRS2,     2,  4,     10,     32,2,20000620,2155, 22.7493,-158.0005, 4728,     99.5,  22.2078,  35.4006,2,  35.3977,2,    214.2,1,   -999.0,9,  -999.00,9,  -999.00,9,  -999.00,9,    100,-999.000,  -999.0, 22.1879
     33KI116_1,  PRS2,     2,  4,      9,      3,2,20000620,2155, 22.7493,-158.0005, 4728,    123.6,  21.6926,  35.3802,2,  35.3798,2,    210.0,1,   -999.0,9,  -999.00,9,  -999.00,9,  -999.00,9,    124,-999.000,  -999.0, 21.6684
     33KI116_1,  PRS2,     2,  4,      8,     29,2,20000620,2155, 22.7493,-158.0005, 4728,    123.6,  21.6809,  35.3817,2,  35.3788,2,    209.6,1,   -999.0,9,  -999.00,9,  -999.00,9,  -999.00,9,    124,-999.000,  -999.0, 21.6566
     33KI116_1,  PRS2,     2,  4,      7,     28,2,20000620,2155, 22.7493,-158.0005, 4728,    149.1,  20.8869,  35.2856,2,  35.2865,2,    200.4,1,   -999.0,9,  -999.00,9,  -999.00,9,  -999.00,9,    150,-999.000,  -999.0, 20.8584
     33KI116_1,  PRS2,     2,  4,      6,      7,3,20000620,2155, 22.7493,-158.0005, 4728,    149.2,  20.8731,  35.2862,2,  35.2881,2,    200.2,1,   -999.0,9,  -999.00,9,  -999.00,9,  -999.00,9,    150,-999.000,  -999.0, 20.8446
     33KI116_1,  PRS2,     2,  4,      5,     38,3,20000620,2155, 22.7493,-158.0005, 4728,    174.2,  19.6620,  35.1153,2,  35.1201,2,    194.8,1,   -999.0,9,  -999.00,9,  -999.00,9,  -999.00,9,    175,-999.000,  -999.0, 19.6302
     33KI116_1,  PRS2,     2,  4,      4,     36,2,20000620,2155, 22.7493,-158.0005, 4728,    249.5,  16.0588,  34.6517,2,  34.6525,2,    196.4,1,   -999.0,9,  -999.00,9,  -999.00,9,  -999.00,9,    250,-999.000,  -999.0, 16.0192
     33KI116_1,  PRS2,     2,  4,      3,     35,2,20000620,2155, 22.7493,-158.0005, 4728,    498.4,   7.1243,  34.0687,2,  34.0691,2,    109.4,1,   -999.0,9,  -999.00,9,  -999.00,9,  -999.00,9,    499,-999.000,  -999.0,  7.0769
     33KI116_1,  PRS2,     2,  4,      2,     34,2,20000620,2155, 22.7493,-158.0005, 4728,    748.7,   4.9438,  34.3129,2,  34.3205,3,     33.4,1,   -999.0,9,  -999.00,9,  -999.00,9,  -999.00,9,    749,-999.000,  -999.0,  4.8833
     33KI116_1,  PRS2,     2,  4,      1,     33,2,20000620,2155, 22.7493,-158.0005, 4728,   1020.1,   4.0047,  34.4638,2,  34.4630,2,     38.7,1,   -999.0,9,  -999.00,9,  -999.00,9,  -999.00,9,   1021,-999.000,  -999.0,  3.9274
     33KI116_1,  PRS2,     2,  5,     16,     16,2,20000621,0053, 22.7497,-158.0057, 4724,      4.9,  25.7709,  35.1895,2,  35.1892,2,    209.0,1,   -999.0,9,  -999.00,9,  -999.00,9,  -999.00,9,      5,-999.000,  -999.0, 25.7698
     33KI116_1,  PRS2,     2,  5,     15,     23,2,20000621,0053, 22.7497,-158.0057, 4724,     24.6,  25.2594,  35.1881,2,  35.1878,2,    213.4,1,   -999.0,9,  -999.00,9,  -999.00,9,  -999.00,9,     25,-999.000,  -999.0, 25.2541
     33KI116_1,  PRS2,     2,  5,     14,     14,2,20000621,0053, 22.7497,-158.0057, 4724,     45.0,  24.7892,  35.1920,2,  35.1906,2,    217.2,1,   -999.0,9,  -999.00,9,  -999.00,9,  -999.00,9,     45,-999.000,  -999.0, 24.7795
     33KI116_1,  PRS2,     2,  5,     10,     32,2,20000621,0053, 22.7497,-158.0057, 4724,     74.9,  22.7584,  35.3981,2,  35.3945,2,    218.7,1,   -999.0,9,  -999.00,9,  -999.00,9,  -999.00,9,     76,-999.000,  -999.0, 22.7432
     33KI116_1,  PRS2,     2,  5,     11,     11,3,20000621,0053, 22.7497,-158.0057, 4724,     75.0,  22.7618,  35.3973,2,  35.3938,2,    218.7,1,   -999.0,9,  -999.00,9,  -999.00,9,  -999.00,9,     75,-999.000,  -999.0, 22.7466
     33KI116_1,  PRS2,     2,  5,     12,     12,2,20000621,0053, 22.7497,-158.0057, 4724,     75.1,  22.7619,  35.3977,2,  35.3951,2,    218.7,1,   -999.0,9,  -999.00,9,  -999.00,9,  -999.00,9,     75,-999.000,  -999.0, 22.7467
     33KI116_1,  PRS2,     2,  5,     13,     13,3,20000621,0053, 22.7497,-158.0057, 4724,     75.2,  22.7597,  35.3975,2,  35.3938,2,    218.7,1,   -999.0,9,  -999.00,9,  -999.00,9,  -999.00,9,     75,-999.000,  -999.0, 22.7444
     33KI116_1,  PRS2,     2,  5,      9,      3,3,20000621,0053, 22.7497,-158.0057, 4724,    100.2,  22.2478,  35.3967,2,  35.3957,2,    214.2,1,   -999.0,9,  -999.00,9,  -999.00,9,  -999.00,9,    101,-999.000,  -999.0, 22.2278
     33KI116_1,  PRS2,     2,  5,      8,     29,3,20000621,0053, 22.7497,-158.0057, 4724,    125.4,  21.6770,  35.3736,2,  35.3748,2,    209.3,1,   -999.0,9,  -999.00,9,  -999.00,9,  -999.00,9,    126,-999.000,  -999.0, 21.6524
     33KI116_1,  PRS2,     2,  5,      7,     28,2,20000621,0053, 22.7497,-158.0057, 4724,    150.6,  20.4374,  35.2191,2,  35.2207,2,    197.5,1,   -999.0,9,  -999.00,9,  -999.00,9,  -999.00,9,    151,-999.000,  -999.0, 20.4091
     33KI116_1,  PRS2,     2,  5,      5,     38,2,20000621,0053, 22.7497,-158.0057, 4724,    175.3,  19.3274,  35.0736,2,  35.0791,2,    195.9,1,   -999.0,9,  -999.00,9,  -999.00,9,  -999.00,9,    176,-999.000,  -999.0, 19.2958
     33KI116_1,  PRS2,     2,  5,      6,      7,2,20000621,0053, 22.7497,-158.0057, 4724,    175.7,  19.3171,  35.0727,2,  35.0764,2,    195.8,1,   -999.0,9,  -999.00,9,  -999.00,9,  -999.00,9,    176,-999.000,  -999.0, 19.2854
     33KI116_1,  PRS2,     2,  5,      4,     36,3,20000621,0053, 22.7497,-158.0057, 4724,    250.9,  14.2460,  34.4408,2,  34.4489,2,    197.8,1,   -999.0,9,  -999.00,9,  -999.00,9,  -999.00,9,    251,-999.000,  -999.0, 14.2094
     33KI116_1,  PRS2,     2,  5,      3,     35,3,20000621,0053, 22.7497,-158.0057, 4724,    498.5,   7.6095,  34.0653,2,  34.0695,2,    124.7,1,   -999.0,9,  -999.00,9,  -999.00,9,  -999.00,9,    499,-999.000,  -999.0,  7.5602
     33KI116_1,  PRS2,     2,  5,      2,     34,2,20000621,0053, 22.7497,-158.0057, 4724,    748.4,   5.0680,  34.2820,2,  34.2878,2,     35.1,1,   -999.0,9,  -999.00,9,  -999.00,9,  -999.00,9,    749,-999.000,  -999.0,  5.0069
     33KI116_1,  PRS2,     2,  5,      1,     33,2,20000621,0053, 22.7497,-158.0057, 4724,   1019.9,   3.9758,  34.4696,2,  34.4687,2,     39.4,1,   -999.0,9,  -999.00,9,  -999.00,9,  -999.00,9,   1020,-999.000,  -999.0,  3.8988
     33KI116_1,  PRS2,     2,  6,     17,     17,2,20000621,0355, 22.7545,-157.9922, 4727,      4.6,  25.6680,  35.1882,2,  35.1933,2,    210.1,2,   -999.0,5,  -999.00,5,  -999.00,5,  -999.00,5,      5,-999.000,  -999.0, 25.6669
     33KI116_1,  PRS2,     2,  6,     16,     16,2,20000621,0355, 22.7545,-157.9922, 4727,     76.6,  23.1595,  35.3900,2,  35.3985,2,    221.0,2,   -999.0,5,  -999.00,5,  -999.00,5,  -999.00,5,     77,-999.000,  -999.0, 23.1438
     33KI116_1,  PRS2,     2,  6,     15,     23,2,20000621,0355, 22.7545,-157.9922, 4727,    210.4,  18.6615,  34.9906,2,  34.9929,2,    195.6,2,    190.3,3,     2.91,2,     2.88,2,     0.31,2,    211,-999.000,  -999.0, 18.6244
     33KI116_1,  PRS2,     2,  6,     14,     14,2,20000621,0355, 22.7545,-157.9922, 4727,    226.4,  17.3495,  34.8225,2,  34.8237,2,    197.2,2,    195.5,2,     3.73,2,     3.83,2,     0.37,2,    227,-999.000,  -999.0, 17.3116
     33KI116_1,  PRS2,     2,  6,     13,     13,2,20000621,0355, 22.7545,-157.9922, 4727,    237.1,  16.6838,  34.7339,2,  34.7404,2,    196.9,2,    195.5,2,     4.92,3,     4.40,2,     0.40,2,    238,-999.000,  -999.0, 16.6452
     33KI116_1,  PRS2,     2,  6,     12,     12,2,20000621,0355, 22.7545,-157.9922, 4727,    251.6,  15.8564,  34.6289,2,  34.6331,2,    197.0,2,    196.2,2,     5.00,2,     5.21,2,     0.43,2,    252,-999.000,  -999.0, 15.8169
     33KI116_1,  PRS2,     2,  6,     11,     11,2,20000621,0355, 22.7545,-157.9922, 4727,    274.9,  14.4178,  34.4591,2,  34.4571,2,    197.4,2,    196.7,2,     6.80,2,     6.99,2,     0.56,2,    275,-999.000,  -999.0, 14.3773
     33KI116_1,  PRS2,     2,  6,     10,     32,2,20000621,0355, 22.7545,-157.9922, 4727,    298.6,  13.4893,  34.3751,2,  34.3800,2,    200.9,2,    199.2,2,     8.14,2,     8.47,2,     0.64,2,    300,-999.000,  -999.0, 13.4473
     33KI116_1,  PRS2,     2,  6,      9,      3,2,20000621,0355, 22.7545,-157.9922, 4727,    324.1,  12.7661,  34.3079,2,  34.3064,2,    200.3,2,    201.0,2,     9.61,2,     9.73,2,     0.72,2,    324,-999.000,  -999.0, 12.7221
     33KI116_1,  PRS2,     2,  6,      8,     29,2,20000621,0355, 22.7545,-157.9922, 4727,    349.8,  11.7365,  34.2370,2,  34.2348,2,    201.5,2,    201.5,2,    11.97,2,    11.83,2,     0.86,2,    350,-999.000,  -999.0, 11.6916
     33KI116_1,  PRS2,     2,  6,      7,     28,2,20000621,0355, 22.7545,-157.9922, 4727,    400.2,   9.5078,  34.1108,2,  34.1087,2,    184.9,2,    185.6,2,    22.40,2,    18.19,2,     1.33,2,    401,-999.000,  -999.0,  9.4628
     33KI116_1,  PRS2,     2,  6,      6,      7,2,20000621,0355, 22.7545,-157.9922, 4727,    499.5,   7.4739,  34.0657,2,  34.0654,2,    121.4,2,    121.6,2,    42.43,2,    27.96,2,     2.05,2,    500,-999.000,  -999.0,  7.4250
     33KI116_1,  PRS2,     2,  6,      5,     38,2,20000621,0355, 22.7545,-157.9922, 4727,    599.6,   6.0744,  34.1395,2,  34.1391,2,     67.3,2,     68.2,2,    66.61,2,    35.35,2,     2.59,2,    601,-999.000,  -999.0,  6.0216
     33KI116_1,  PRS2,     2,  6,      4,     36,2,20000621,0355, 22.7545,-157.9922, 4727,    699.2,   5.3403,  34.2544,2,  34.2526,2,     40.6,2,     40.1,2,    82.69,2,    39.12,2,     2.88,2,    699,-999.000,  -999.0,  5.2820
     33KI116_1,  PRS2,     2,  6,      3,     35,2,20000621,0355, 22.7545,-157.9922, 4727,    800.0,   4.7668,  34.3556,2,  34.3562,2,     32.6,2,     32.3,2,    94.83,2,    41.02,2,     2.99,2,    801,-999.000,  -999.0,  4.7029
     33KI116_1,  PRS2,     2,  6,      2,     34,2,20000621,0355, 22.7545,-157.9922, 4727,    899.2,   4.2378,  34.4055,2,  34.4071,2,     30.9,2,     32.7,2,   107.12,2,    41.86,2,     3.06,2,    900,-999.000,  -999.0,  4.1689
     33KI116_1,  PRS2,     2,  6,      1,     33,2,20000621,0355, 22.7545,-157.9922, 4727,   1019.9,   3.9321,  34.4760,2,  34.4840,3,     41.1,3,     41.6,2,   112.55,2,    41.79,2,     3.02,2,   1020,-999.000,  -999.0,  3.8554
     33KI116_1,  PRS2,     2,  7,     22,     22,2,20000621,0655, 22.7530,-157.9965, 4722,      4.6,  25.5473,  35.1887,2,  35.1880,2,    211.2,2,    205.1,3,     1.93,3,     0.00,2,     0.08,2,      5,-999.000,  -999.0, 25.5463
     33KI116_1,  PRS2,     2,  7,     23,     30,2,20000621,0655, 22.7530,-157.9965, 4722,      4.7,  25.5587,  35.1889,2,  35.1898,2,    211.2,2,   -999.0,5,  -999.00,5,  -999.00,5,  -999.00,5,      5,-999.000,  -999.0, 25.5576
     33KI116_1,  PRS2,     2,  7,     21,     21,2,20000621,0655, 22.7530,-157.9965, 4722,     14.4,  25.5044,  35.1881,2,  35.1874,2,    211.4,2,    212.9,2,     0.89,2,     0.00,2,     0.08,2,     15,-999.000,  -999.0, 25.5012
     33KI116_1,  PRS2,     2,  7,     20,     20,2,20000621,0655, 22.7530,-157.9965, 4722,     24.7,  25.3180,  35.1893,2,  35.1971,2,    213.0,2,   -999.0,5,  -999.00,5,  -999.00,5,  -999.00,5,     25,-999.000,  -999.0, 25.3126
     33KI116_1,  PRS2,     2,  7,     19,     19,3,20000621,0655, 22.7530,-157.9965, 4722,     24.7,  25.3090,  35.1890,2,  35.1882,2,    213.1,2,    209.8,2,     0.82,2,     0.02,2,     0.07,2,     25,-999.000,  -999.0, 25.3036
     33KI116_1,  PRS2,     2,  7,     18,     18,3,20000621,0655, 22.7530,-157.9965, 4722,     34.3,  25.2536,  35.1887,2,  35.1878,2,    214.2,2,    214.2,2,     0.94,2,     0.00,2,     0.07,2,     35,-999.000,  -999.0, 25.2461
     33KI116_1,  PRS2,     2,  7,     17,     17,2,20000621,0655, 22.7530,-157.9965, 4722,     44.4,  24.8601,  35.1894,2,  35.1953,2,    215.6,2,    214.9,2,     0.89,2,     0.00,2,     0.10,2,     45,-999.000,  -999.0, 24.8505
     33KI116_1,  PRS2,     2,  7,     16,     16,2,20000621,0655, 22.7530,-157.9965, 4722,     59.7,  23.5452,  35.2574,2,  35.2556,2,    224.1,2,    222.7,2,  -999.00,5,  -999.00,5,  -999.00,5,     60,-999.000,  -999.0, 23.5328
     33KI116_1,  PRS2,     2,  7,     15,     23,2,20000621,0655, 22.7530,-157.9965, 4722,     74.8,  23.2649,  35.3860,2,  35.3729,3,    221.3,3,    221.2,2,     1.43,2,     0.01,2,     0.04,2,     75,-999.000,  -999.0, 23.2495
     33KI116_1,  PRS2,     2,  7,     14,     14,2,20000621,0655, 22.7530,-157.9965, 4722,     84.8,  22.8296,  35.3722,2,  35.3876,4,    219.7,3,    219.1,2,     1.45,2,     0.00,2,     0.05,2,     85,-999.000,  -999.0, 22.8124
     33KI116_1,  PRS2,     2,  7,     13,     13,2,20000621,0655, 22.7530,-157.9965, 4722,     94.4,  22.6837,  35.3768,2,  35.3758,2,    218.0,2,    218.5,2,     1.54,2,     0.01,2,     0.09,2,     94,-999.000,  -999.0, 22.6646
     33KI116_1,  PRS2,     2,  7,     12,     12,2,20000621,0655, 22.7530,-157.9965, 4722,    104.1,  22.4720,  35.3900,2,  35.3861,2,    217.0,2,    216.5,2,     1.48,2,     0.01,2,     0.06,2,    105,-999.000,  -999.0, 22.4511
     33KI116_1,  PRS2,     2,  7,     11,     11,2,20000621,0655, 22.7530,-157.9965, 4722,    115.0,  22.2770,  35.4012,2,  35.3973,2,    214.4,2,    214.8,2,     1.60,2,     0.01,2,     0.05,2,    115,-999.000,  -999.0, 22.2541
     33KI116_1,  PRS2,     2,  7,     10,     32,2,20000621,0655, 22.7530,-157.9965, 4722,    124.9,  22.1167,  35.4026,2,  35.4237,4,    213.5,3,    213.2,2,     1.57,2,    -0.01,2,     0.05,2,    125,-999.000,  -999.0, 22.0919
     33KI116_1,  PRS2,     2,  7,      9,      3,3,20000621,0655, 22.7530,-157.9965, 4722,    134.4,  21.8812,  35.3832,2,  35.3813,2,    211.3,2,    210.1,2,     1.62,2,     0.02,2,     0.06,2,    135,-999.000,  -999.0, 21.8547
     33KI116_1,  PRS2,     2,  7,      8,     29,2,20000621,0655, 22.7530,-157.9965, 4722,    149.8,  21.3279,  35.3454,2,  35.3543,2,    205.6,2,    205.0,2,     1.86,2,     0.47,2,     0.13,2,    150,-999.000,  -999.0, 21.2989
     33KI116_1,  PRS2,     2,  7,      7,     28,2,20000621,0655, 22.7530,-157.9965, 4722,    159.0,  21.0421,  35.2997,2,  35.2991,2,    202.9,2,    203.1,2,  -999.00,5,  -999.00,5,  -999.00,5,    160,-999.000,  -999.0, 21.0116
     33KI116_1,  PRS2,     2,  7,      6,      7,3,20000621,0655, 22.7530,-157.9965, 4722,    174.5,  20.5518,  35.2294,2,  35.2375,2,    198.4,2,    198.2,2,     2.90,3,     1.31,2,     0.21,2,    175,-999.000,  -999.0, 20.5189
     33KI116_1,  PRS2,     2,  7,      5,     38,2,20000621,0655, 22.7530,-157.9965, 4722,    185.7,  19.8677,  35.1458,2,  35.1492,2,    196.4,2,    196.3,2,  -999.00,5,  -999.00,5,  -999.00,5,    186,-999.000,  -999.0, 19.8335
     33KI116_1,  PRS2,     2,  7,      4,     36,2,20000621,0655, 22.7530,-157.9965, 4722,    202.0,  19.2031,  35.0718,2,  35.0738,2,    196.8,2,    196.6,2,     2.91,2,     2.32,2,     0.28,2,    202,-999.000,  -999.0, 19.1668
     33KI116_1,  PRS2,     2,  7,      3,     35,2,20000621,0655, 22.7530,-157.9965, 4722,    500.1,   7.2713,  34.0604,2,  34.0613,2,    119.3,2,    118.9,2,  -999.00,5,  -999.00,5,  -999.00,5,    501,-999.000,  -999.0,  7.2232
     33KI116_1,  PRS2,     2,  7,      2,     34,2,20000621,0655, 22.7530,-157.9965, 4722,    750.1,   5.1834,  34.3038,2,  34.3188,4,     34.0,3,     43.8,4,  -999.00,5,  -999.00,5,  -999.00,5,    750,-999.000,  -999.0,  5.1214
     33KI116_1,  PRS2,     2,  7,      1,     33,2,20000621,0655, 22.7530,-157.9965, 4722,   1020.7,   3.9361,  34.4803,2,  34.4803,2,     41.5,2,     41.7,2,  -999.00,5,  -999.00,5,  -999.00,5,   1021,-999.000,  -999.0,  3.8593