BOTTLE,20020809WHPSIObren
EXPOCODE,SECT_ID,STNNBR,CASTNO,SAMPNO,BTLNBR,BTLNBR_FLAG_W,DATE,TIME,LATITUDE,LONGITUDE,DEPTH,CTDPRS,CTDTMP,CTDSAL,CTDSAL_FLAG_W,SALNTY,SALNTY_FLAG_W,CTDOXY,CTDOXY_FLAG_W,OXYGEN,OXYGEN_FLAG_W,SILCAT,SILCAT_FLAG_W,NO2+NO3,NO2+NO3_FLAG_W,PHSPHT,PHSPHT_FLAG_W,CTDRAW,REVTMP,REVPRS,THETA
,,,,,,,,,,,,DBAR,ITS-90,PSS-78,,PSS-78,,UMOL/KG,,UMOL/KG,,UMOL/KG,,UMOL/KG,,UMOL/KG,,,DEG C,DBAR,ITS-90
     33KI116_1,  PRS2,     2, 16,     14,     14,3,20000622,0958, 22.7513,-158.0012, 4722,      4.7,  25.4815,  35.1796,2,  35.1815,2,    211.5,2,    212.0,2,  -999.00,9,  -999.00,9,  -999.00,9,      5,-999.000,  -999.0, 25.4805
     33KI116_1,  PRS2,     2, 16,     13,     13,2,20000622,0958, 22.7513,-158.0012, 4722,     84.0,  22.5497,  35.3867,2,  35.3896,2,    218.1,2,    216.9,2,  -999.00,9,  -999.00,9,  -999.00,9,     85,-999.000,  -999.0, 22.5328
     33KI116_1,  PRS2,     2, 16,     12,     12,2,20000622,0958, 22.7513,-158.0012, 4722,    500.2,   7.2348,  34.0563,2,  34.0541,2,    117.2,2,    118.4,2,  -999.00,9,  -999.00,9,  -999.00,9,    501,-999.000,  -999.0,  7.1868
     33KI116_1,  PRS2,     2, 16,     11,     11,2,20000622,0958, 22.7513,-158.0012, 4722,    750.3,   5.1064,  34.3311,2,  34.3303,2,     31.5,2,     29.6,2,  -999.00,9,  -999.00,9,  -999.00,9,    751,-999.000,  -999.0,  5.0448
     33KI116_1,  PRS2,     2, 16,     10,     32,2,20000622,0958, 22.7513,-158.0012, 4722,    998.0,   4.1008,  34.4702,2,  34.4691,2,     41.1,2,     38.7,2,  -999.00,9,  -999.00,9,  -999.00,9,    998,-999.000,  -999.0,  4.0246
     33KI116_1,  PRS2,     2, 16,      9,      3,2,20000622,0958, 22.7513,-158.0012, 4722,   2002.1,   2.1109,  34.6156,2,  34.6158,2,     84.7,2,     85.7,2,  -999.00,9,  -999.00,9,  -999.00,9,   2002,-999.000,  -999.0,  1.9727
     33KI116_1,  PRS2,     2, 16,      8,     29,2,20000622,0958, 22.7513,-158.0012, 4722,   2997.5,   1.5511,  34.6657,2,  34.6663,2,    122.4,2,    122.8,2,  -999.00,9,  -999.00,9,  -999.00,9,   2998,-999.000,  -999.0,  1.3335
     33KI116_1,  PRS2,     2, 16,      3,     35,3,20000622,0958, 22.7513,-158.0012, 4722,   3502.0,   1.4686,  34.6780,2,  34.6769,2,    138.5,2,   -999.0,5,  -999.00,9,  -999.00,9,  -999.00,9,   3503,-999.000,  -999.0,  1.2030
     33KI116_1,  PRS2,     2, 16,      4,     36,2,20000622,0958, 22.7513,-158.0012, 4722,   3503.5,   1.4685,  34.6781,2,  34.6789,2,    138.6,2,   -999.0,5,  -999.00,9,  -999.00,9,  -999.00,9,   3504,-999.000,  -999.0,  1.2028
     33KI116_1,  PRS2,     2, 16,      5,     38,2,20000622,0958, 22.7513,-158.0012, 4722,   3504.9,   1.4684,  34.6781,2,  34.6814,2,    138.6,2,   -999.0,5,  -999.00,9,  -999.00,9,  -999.00,9,   3505,-999.000,  -999.0,  1.2026
     33KI116_1,  PRS2,     2, 16,      6,      7,2,20000622,0958, 22.7513,-158.0012, 4722,   3506.3,   1.4681,  34.6781,2,  34.6816,3,    138.6,3,   -999.0,5,  -999.00,9,  -999.00,9,  -999.00,9,   3507,-999.000,  -999.0,  1.2021
     33KI116_1,  PRS2,     2, 16,      7,     28,2,20000622,0958, 22.7513,-158.0012, 4722,   3507.6,   1.4678,  34.6782,2,  34.6812,2,    138.5,2,   -999.0,5,  -999.00,9,  -999.00,9,  -999.00,9,   3508,-999.000,  -999.0,  1.2018
     33KI116_1,  PRS2,     2, 16,      2,     34,2,20000622,0958, 22.7513,-158.0012, 4722,   3998.1,   1.4554,  34.6837,2,  34.6853,2,    147.6,2,    147.6,2,  -999.00,9,  -999.00,9,  -999.00,9,   3998,-999.000,  -999.0,  1.1380
     33KI116_1,  PRS2,     2, 16,      1,     33,2,20000622,0958, 22.7513,-158.0012, 4722,   4803.8,   1.5165,  34.6866,2,  34.6883,2,    153.1,2,    153.2,2,  -999.00,9,  -999.00,9,  -999.00,9,   4804,-999.000,  -999.0,  1.1053