BOTTLE,20141031SIOCCHAMB
EXPOCODE,SECT_ID,STNNBR,CASTNO,SAMPNO,BTLNBR,BTLNBR_FLAG_W,DATE,TIME,LATITUDE,LONGITUDE,DEPTH,CTDPRS,CTDTMP,CTDSAL,CTDSAL_FLAG_W,SALNTY,SALNTY_FLAG_W,CTDOXY,CTDOXY_FLAG_W,OXYGEN,OXYGEN_FLAG_W,SILCAT,SILCAT_FLAG_W,PHSPHT,PHSPHT_FLAG_W,REVPRS,CTDRAW,THETA,NO2+NO3,NO2+NO3_FLAG_W,REVTMP
,,,,,,,,,,,METERS,DBAR,ITS-90,PSS-78,,PSS-78,,UMOL/KG,,UMOL/KG,,UMOL/KG,,UMOL/KG,,DBAR,DBAR,ITS-90,UMOL/KG,,DEG C
33KB20110829,       PRS2,       2,         10,         24,       8024,2,20110831,       1808,  22.671167,-157.9900000,       4745,     4.0,  25.8302,  35.2553,2,-999.0000,5,    207.1,1,  -999.0,9, -999.00,9, -999.00,9,  -999.0,       4,    25.8293, -999.00,9,     -999.0
33KB20110829,       PRS2,       2,         10,         23,       8023,2,20110831,       1808,  22.671167,-157.9900000,       4745,     4.3,  25.8294,  35.2554,2,  35.2538,2,    207.0,1,  -999.0,9, -999.00,9, -999.00,9,  -999.0,       4,    25.8285, -999.00,9,     -999.0
33KB20110829,       PRS2,       2,         10,         22,       8022,2,20110831,       1808,  22.671167,-157.9900000,       4745,     4.6,  25.8306,  35.2555,2,-999.0000,5,    206.9,1,  -999.0,9, -999.00,9, -999.00,9,  -999.0,       5,    25.8296, -999.00,9,     -999.0
33KB20110829,       PRS2,       2,         10,         21,       8021,2,20110831,       1808,  22.671167,-157.9900000,       4745,     4.8,  25.8299,  35.2553,2,-999.0000,5,    206.8,1,  -999.0,9, -999.00,9, -999.00,9,  -999.0,       4,    25.8288, -999.00,9,     -999.0
33KB20110829,       PRS2,       2,         10,         20,       8020,2,20110831,       1808,  22.671167,-157.9900000,       4745,    24.4,  25.8166,  35.2541,2,-999.0000,5,    207.1,1,  -999.0,9, -999.00,9, -999.00,9,  -999.0,      24,    25.8112, -999.00,9,     -999.0
33KB20110829,       PRS2,       2,         10,         19,       8019,2,20110831,       1808,  22.671167,-157.9900000,       4745,    45.0,  25.7776,  35.2608,2,-999.0000,5,    207.0,1,  -999.0,9, -999.00,9, -999.00,9,  -999.0,      45,    25.7676, -999.00,9,     -999.0
33KB20110829,       PRS2,       2,         10,         18,       8018,2,20110831,       1808,  22.671167,-157.9900000,       4745,    74.2,  24.4613,  35.3324,2,-999.0000,5,    220.9,1,  -999.0,9, -999.00,9, -999.00,9,  -999.0,      74,    24.4454, -999.00,9,     -999.0
33KB20110829,       PRS2,       2,         10,         17,       8017,2,20110831,       1808,  22.671167,-157.9900000,       4745,    99.6,  22.7491,  35.3442,2,-999.0000,5,    220.6,1,  -999.0,9, -999.00,9, -999.00,9,  -999.0,      99,    22.7289, -999.00,9,     -999.0
33KB20110829,       PRS2,       2,         10,         16,       8016,2,20110831,       1808,  22.671167,-157.9900000,       4745,   125.1,  21.6182,  35.2569,2,-999.0000,5,    202.1,1,  -999.0,9, -999.00,9, -999.00,9,  -999.0,     125,    21.5937, -999.00,9,     -999.0
33KB20110829,       PRS2,       2,         10,         15,       8015,2,20110831,       1808,  22.671167,-157.9900000,       4745,   149.5,  20.4245,  35.1498,2,-999.0000,5,    193.6,1,  -999.0,9, -999.00,9, -999.00,9,  -999.0,     149,    20.3964, -999.00,9,     -999.0
33KB20110829,       PRS2,       2,         10,         14,       8014,2,20110831,       1808,  22.671167,-157.9900000,       4745,   175.0,  19.3558,  35.0661,2,-999.0000,5,    197.5,1,  -999.0,9, -999.00,9, -999.00,9,  -999.0,     175,    19.3241, -999.00,9,     -999.0
33KB20110829,       PRS2,       2,         10,         13,       8025,2,20110831,       1808,  22.671167,-157.9900000,       4745,   199.7,  18.5139,  34.9482,2,-999.0000,5,    198.9,1,  -999.0,9, -999.00,9, -999.00,9,  -999.0,     199,    18.4789, -999.00,9,     -999.0
33KB20110829,       PRS2,       2,         10,         12,       8012,2,20110831,       1808,  22.671167,-157.9900000,       4745,   499.3,   7.3088,  34.0399,2,-999.0000,5,    118.6,1,  -999.0,9, -999.00,9, -999.00,9,  -999.0,     499,     7.2606, -999.00,9,     -999.0
33KB20110829,       PRS2,       2,         10,         11,       8011,2,20110831,       1808,  22.671167,-157.9900000,       4745,   499.3,   7.3110,  34.0404,2,-999.0000,5,    117.2,1,  -999.0,9, -999.00,9, -999.00,9,  -999.0,     499,     7.2628, -999.00,9,     -999.0
33KB20110829,       PRS2,       2,         10,         10,       8010,2,20110831,       1808,  22.671167,-157.9900000,       4745,   499.3,   7.3100,  34.0405,2,-999.0000,5,    115.8,1,  -999.0,9, -999.00,9, -999.00,9,  -999.0,     499,     7.2618, -999.00,9,     -999.0
33KB20110829,       PRS2,       2,         10,          9,       8009,2,20110831,       1808,  22.671167,-157.9900000,       4745,   499.4,   7.3084,  34.0400,2,-999.0000,5,    114.5,1,  -999.0,9, -999.00,9, -999.00,9,  -999.0,     499,     7.2602, -999.00,9,     -999.0
33KB20110829,       PRS2,       2,         10,          8,       8008,2,20110831,       1808,  22.671167,-157.9900000,       4745,   499.5,   7.3057,  34.0395,2,-999.0000,5,    113.2,1,  -999.0,9, -999.00,9, -999.00,9,  -999.0,     499,     7.2575, -999.00,9,     -999.0
33KB20110829,       PRS2,       2,         10,          7,       8026,2,20110831,       1808,  22.671167,-157.9900000,       4745,   499.8,   7.3111,  34.0404,2,  34.0403,2,    112.1,1,  -999.0,9, -999.00,9, -999.00,9,  -999.0,     500,     7.2628, -999.00,9,     -999.0
33KB20110829,       PRS2,       2,         10,          6,       8006,2,20110831,       1808,  22.671167,-157.9900000,       4745,   769.4,   4.7826,  34.3037,2,-999.0000,5,     29.4,1,  -999.0,9, -999.00,9, -999.00,9,  -999.0,     769,     4.7213, -999.00,9,     -999.0
33KB20110829,       PRS2,       2,         10,          5,       8005,2,20110831,       1808,  22.671167,-157.9900000,       4745,   769.3,   4.7826,  34.3037,2,-999.0000,5,     29.4,1,  -999.0,9, -999.00,9, -999.00,9,  -999.0,     769,     4.7213, -999.00,9,     -999.0
33KB20110829,       PRS2,       2,         10,          4,       8004,2,20110831,       1808,  22.671167,-157.9900000,       4745,   769.1,   4.7824,  34.3038,2,-999.0000,5,     29.4,1,  -999.0,9, -999.00,9, -999.00,9,  -999.0,     769,     4.7212, -999.00,9,     -999.0
33KB20110829,       PRS2,       2,         10,          3,       8003,2,20110831,       1808,  22.671167,-157.9900000,       4745,   769.2,   4.7825,  34.3039,2,-999.0000,5,     29.4,1,  -999.0,9, -999.00,9, -999.00,9,  -999.0,     769,     4.7212, -999.00,9,     -999.0
33KB20110829,       PRS2,       2,         10,          2,       8002,2,20110831,       1808,  22.671167,-157.9900000,       4745,   769.4,   4.7827,  34.3044,2,-999.0000,5,     29.4,1,  -999.0,9, -999.00,9, -999.00,9,  -999.0,     769,     4.7214, -999.00,9,     -999.0
33KB20110829,       PRS2,       2,         10,          1,       8001,2,20110831,       1808,  22.671167,-157.9900000,       4745,  1019.3,   3.9402,  34.4926,2,  34.4944,2,     47.8,1,  -999.0,9, -999.00,9, -999.00,9,  -999.0,    1019,     3.8634, -999.00,9,     -999.0
33KB20110829,       PRS2,       2,         11,         22,       8022,2,20110831,       2054,  22.687500,-157.9911667,       4747,     5.3,  25.9615,  35.2473,2,-999.0000,5,    207.5,1,  -999.0,9, -999.00,9, -999.00,9,  -999.0,       5,    25.9604, -999.00,9,     -999.0
33KB20110829,       PRS2,       2,         11,         21,       8021,2,20110831,       2054,  22.687500,-157.9911667,       4747,     5.1,  25.9608,  35.2474,2,  35.2463,2,    207.5,1,  -999.0,9, -999.00,9, -999.00,9,  -999.0,       5,    25.9597, -999.00,9,     -999.0
33KB20110829,       PRS2,       2,         11,         20,       8020,2,20110831,       2054,  22.687500,-157.9911667,       4747,    25.1,  25.8404,  35.2507,2,-999.0000,5,    207.4,1,  -999.0,9, -999.00,9, -999.00,9,  -999.0,      25,    25.8348, -999.00,9,     -999.0
33KB20110829,       PRS2,       2,         11,         19,       8019,2,20110831,       2054,  22.687500,-157.9911667,       4747,    25.1,  25.8400,  35.2510,2,  35.2513,2,    207.7,1,  -999.0,9, -999.00,9, -999.00,9,  -999.0,      25,    25.8344, -999.00,9,     -999.0
33KB20110829,       PRS2,       2,         11,         18,       8018,2,20110831,       2054,  22.687500,-157.9911667,       4747,    44.6,  25.6502,  35.2890,2,  35.2885,2,    211.7,1,  -999.0,9, -999.00,9, -999.00,9,  -999.0,      44,    25.6403, -999.00,9,     -999.0
33KB20110829,       PRS2,       2,         11,         17,       8017,2,20110831,       2054,  22.687500,-157.9911667,       4747,    74.3,  24.1250,  35.3314,2,-999.0000,5,    219.7,1,  -999.0,9, -999.00,9, -999.00,9,  -999.0,      74,    24.1093, -999.00,9,     -999.0
33KB20110829,       PRS2,       2,         11,         16,       8016,2,20110831,       2054,  22.687500,-157.9911667,       4747,    74.7,  24.1218,  35.3317,2,  35.3358,2,    220.0,1,  -999.0,9, -999.00,9, -999.00,9,  -999.0,      74,    24.1060, -999.00,9,     -999.0
33KB20110829,       PRS2,       2,         11,         15,       8015,2,20110831,       2054,  22.687500,-157.9911667,       4747,   100.2,  22.3522,  35.3203,2,  35.3145,2,    209.9,1,  -999.0,9, -999.00,9, -999.00,9,  -999.0,     100,    22.3321, -999.00,9,     -999.0
33KB20110829,       PRS2,       2,         11,         14,       8014,2,20110831,       2054,  22.687500,-157.9911667,       4747,   124.3,  20.8849,  35.2422,2,-999.0000,5,    199.7,1,  -999.0,9, -999.00,9, -999.00,9,  -999.0,     124,    20.8612, -999.00,9,     -999.0
33KB20110829,       PRS2,       2,         11,         13,       8025,2,20110831,       2054,  22.687500,-157.9911667,       4747,   124.5,  20.8499,  35.2368,2,  35.2205,3,    199.1,1,  -999.0,9, -999.00,9, -999.00,9,  -999.0,     124,    20.8262, -999.00,9,     -999.0
33KB20110829,       PRS2,       2,         11,         12,       8012,2,20110831,       2054,  22.687500,-157.9911667,       4747,   149.8,  19.5174,  35.0863,2,  35.0793,2,    196.3,1,  -999.0,9, -999.00,9, -999.00,9,  -999.0,     150,    19.4902, -999.00,9,     -999.0
33KB20110829,       PRS2,       2,         11,         11,       8011,2,20110831,       2054,  22.687500,-157.9911667,       4747,   175.2,  18.4102,  34.9371,2,  34.9264,2,    198.5,1,  -999.0,9, -999.00,9, -999.00,9,  -999.0,     175,    18.3796, -999.00,9,     -999.0
33KB20110829,       PRS2,       2,         11,         10,       8010,2,20110831,       2054,  22.687500,-157.9911667,       4747,   199.7,  16.7860,  34.7076,2,-999.0000,5,    198.1,1,  -999.0,9, -999.00,9, -999.00,9,  -999.0,     199,    16.7534, -999.00,9,     -999.0
33KB20110829,       PRS2,       2,         11,          9,       8009,2,20110831,       2054,  22.687500,-157.9911667,       4747,   199.8,  16.7803,  34.7062,2,  34.6885,2,    198.0,1,  -999.0,9, -999.00,9, -999.00,9,  -999.0,     200,    16.7477, -999.00,9,     -999.0
33KB20110829,       PRS2,       2,         11,          8,       8008,2,20110831,       2054,  22.687500,-157.9911667,       4747,   249.8,  13.8056,  34.3260,2,  34.3197,2,    190.2,1,  -999.0,9, -999.00,9, -999.00,9,  -999.0,     249,    13.7700, -999.00,9,     -999.0
33KB20110829,       PRS2,       2,         11,          7,       8026,2,20110831,       2054,  22.687500,-157.9911667,       4747,   349.4,  10.6847,  34.1463,2,  34.1442,2,    197.6,1,  -999.0,9, -999.00,9, -999.00,9,  -999.0,     349,    10.6426, -999.00,9,     -999.0
33KB20110829,       PRS2,       2,         11,          6,       8006,2,20110831,       2054,  22.687500,-157.9911667,       4747,   349.7,  10.6833,  34.1463,2,  34.1436,2,    197.7,1,  -999.0,9, -999.00,9, -999.00,9,  -999.0,     349,    10.6411, -999.00,9,     -999.0
33KB20110829,       PRS2,       2,         11,          5,       8005,2,20110831,       2054,  22.687500,-157.9911667,       4747,   349.9,  10.6740,  34.1459,2,-999.0000,5,    197.7,1,  -999.0,9, -999.00,9, -999.00,9,  -999.0,     350,    10.6318, -999.00,9,     -999.0
33KB20110829,       PRS2,       2,         11,          4,       8004,2,20110831,       2054,  22.687500,-157.9911667,       4747,   473.8,   7.2408,  34.0275,2,-999.0000,5,    115.7,1,  -999.0,9, -999.00,9, -999.00,9,  -999.0,     473,     7.1954, -999.00,9,     -999.0
33KB20110829,       PRS2,       2,         11,          3,       8003,2,20110831,       2054,  22.687500,-157.9911667,       4747,   474.2,   7.2418,  34.0264,2,-999.0000,5,    114.9,1,  -999.0,9, -999.00,9, -999.00,9,  -999.0,     474,     7.1964, -999.00,9,     -999.0
33KB20110829,       PRS2,       2,         11,          2,       8002,2,20110831,       2054,  22.687500,-157.9911667,       4747,  1018.6,   3.8643,  34.4955,2,-999.0000,5,     48.3,1,  -999.0,9, -999.00,9, -999.00,9,  -999.0,    1018,     3.7882, -999.00,9,     -999.0
33KB20110829,       PRS2,       2,         11,          1,       8001,2,20110831,       2054,  22.687500,-157.9911667,       4747,  1018.8,   3.8622,  34.4958,2,  34.4956,2,     48.2,1,  -999.0,9, -999.00,9, -999.00,9,  -999.0,    1019,     3.7861, -999.00,9,     -999.0
33KB20110829,       PRS2,       2,         12,         24,       8024,2,20110901,       0002,  22.687000,-157.9885000,       4745,     6.2,  26.0444,  35.2102,2,-999.0000,5,    206.6,1,  -999.0,9, -999.00,9, -999.00,9,  -999.0,       6,    26.0430, -999.00,9,     -999.0
33KB20110829,       PRS2,       2,         12,         23,       8023,2,20110901,       0002,  22.687000,-157.9885000,       4745,     6.0,  26.0539,  35.2101,2,-999.0000,5,    206.6,1,  -999.0,9, -999.00,9, -999.00,9,  -999.0,       6,    26.0525, -999.00,9,     -999.0
33KB20110829,       PRS2,       2,         12,         22,       8022,2,20110901,       0002,  22.687000,-157.9885000,       4745,     6.1,  26.0564,  35.2100,2,-999.0000,5,    206.6,1,  -999.0,9, -999.00,9, -999.00,9,  -999.0,       6,    26.0551, -999.00,9,     -999.0
33KB20110829,       PRS2,       2,         12,         21,       8021,2,20110901,       0002,  22.687000,-157.9885000,       4745,     6.1,  26.0573,  35.2099,2,  35.2091,2,    206.5,1,  -999.0,9, -999.00,9, -999.00,9,  -999.0,       7,    26.0559, -999.00,9,     -999.0
33KB20110829,       PRS2,       2,         12,         20,       8020,2,20110901,       0002,  22.687000,-157.9885000,       4745,    24.6,  25.8753,  35.2274,2,-999.0000,5,    207.1,1,  -999.0,9, -999.00,9, -999.00,9,  -999.0,      24,    25.8698, -999.00,9,     -999.0
33KB20110829,       PRS2,       2,         12,         19,       8019,2,20110901,       0002,  22.687000,-157.9885000,       4745,    24.6,  25.8751,  35.2273,2,  35.2316,2,    207.1,1,  -999.0,9, -999.00,9, -999.00,9,  -999.0,      24,    25.8696, -999.00,9,     -999.0
33KB20110829,       PRS2,       2,         12,         18,       8018,2,20110901,       0002,  22.687000,-157.9885000,       4745,    43.9,  25.6070,  35.2980,2,-999.0000,5,    209.9,1,  -999.0,9, -999.00,9, -999.00,9,  -999.0,      44,    25.5973, -999.00,9,     -999.0
33KB20110829,       PRS2,       2,         12,         17,       8017,2,20110901,       0002,  22.687000,-157.9885000,       4745,    44.3,  25.6071,  35.2978,2,  35.3553,4,    209.9,1,  -999.0,9, -999.00,9, -999.00,9,  -999.0,      44,    25.5973, -999.00,9,     -999.0
33KB20110829,       PRS2,       2,         12,         16,       8016,2,20110901,       0002,  22.687000,-157.9885000,       4745,    74.6,  23.6450,  35.3500,2,-999.0000,5,    218.9,1,  -999.0,9, -999.00,9, -999.00,9,  -999.0,      74,    23.6295, -999.00,9,     -999.0
33KB20110829,       PRS2,       2,         12,         15,       8015,2,20110901,       0002,  22.687000,-157.9885000,       4745,    74.7,  23.6261,  35.3478,2,  35.3488,2,    218.7,1,  -999.0,9, -999.00,9, -999.00,9,  -999.0,      74,    23.6105, -999.00,9,     -999.0
33KB20110829,       PRS2,       2,         12,         14,       8014,2,20110901,       0002,  22.687000,-157.9885000,       4745,    99.6,  21.8968,  35.2801,2,-999.0000,5,    203.7,1,  -999.0,9, -999.00,9, -999.00,9,  -999.0,      99,    21.8772, -999.00,9,     -999.0
33KB20110829,       PRS2,       2,         12,         13,       8025,2,20110901,       0002,  22.687000,-157.9885000,       4745,    99.7,  21.8958,  35.2798,2,  35.2818,2,    203.3,1,  -999.0,9, -999.00,9, -999.00,9,  -999.0,      99,    21.8761, -999.00,9,     -999.0
33KB20110829,       PRS2,       2,         12,         12,       8012,2,20110901,       0002,  22.687000,-157.9885000,       4745,   124.0,  21.0967,  35.2860,2,-999.0000,5,    202.6,1,  -999.0,9, -999.00,9, -999.00,9,  -999.0,     124,    21.0729, -999.00,9,     -999.0
33KB20110829,       PRS2,       2,         12,         11,       8011,2,20110901,       0002,  22.687000,-157.9885000,       4745,   124.1,  21.0937,  35.2857,2,  35.2688,3,    202.4,1,  -999.0,9, -999.00,9, -999.00,9,  -999.0,     124,    21.0699, -999.00,9,     -999.0
33KB20110829,       PRS2,       2,         12,         10,       8010,2,20110901,       0002,  22.687000,-157.9885000,       4745,   148.6,  19.7307,  35.1218,2,-999.0000,5,    196.0,1,  -999.0,9, -999.00,9, -999.00,9,  -999.0,     148,    19.7034, -999.00,9,     -999.0
33KB20110829,       PRS2,       2,         12,          9,       8009,2,20110901,       0002,  22.687000,-157.9885000,       4745,   148.9,  19.7293,  35.1215,2,  35.1191,2,    196.0,1,  -999.0,9, -999.00,9, -999.00,9,  -999.0,     149,    19.7020, -999.00,9,     -999.0
33KB20110829,       PRS2,       2,         12,          8,       8008,2,20110901,       0002,  22.687000,-157.9885000,       4745,   173.7,  18.8255,  34.9937,2,-999.0000,5,    198.0,1,  -999.0,9, -999.00,9, -999.00,9,  -999.0,     174,    18.7947, -999.00,9,     -999.0
33KB20110829,       PRS2,       2,         12,          7,       8026,2,20110901,       0002,  22.687000,-157.9885000,       4745,   174.0,  18.8220,  34.9929,2,  34.9843,2,    198.0,1,  -999.0,9, -999.00,9, -999.00,9,  -999.0,     174,    18.7912, -999.00,9,     -999.0
33KB20110829,       PRS2,       2,         12,          6,       8006,2,20110901,       0002,  22.687000,-157.9885000,       4745,   199.7,  17.7367,  34.8462,2,  34.8377,2,    198.2,1,  -999.0,9, -999.00,9, -999.00,9,  -999.0,     199,    17.7028, -999.00,9,     -999.0
33KB20110829,       PRS2,       2,         12,          5,       8005,2,20110901,       0002,  22.687000,-157.9885000,       4745,   249.5,  14.4694,  34.3998,2,  34.3947,2,    195.3,1,  -999.0,9, -999.00,9, -999.00,9,  -999.0,     249,    14.4326, -999.00,9,     -999.0
33KB20110829,       PRS2,       2,         12,          4,       8004,2,20110901,       0002,  22.687000,-157.9885000,       4745,   349.3,  10.8929,  34.1574,2,  34.1534,2,    196.4,1,  -999.0,9, -999.00,9, -999.00,9,  -999.0,     349,    10.8502, -999.00,9,     -999.0
33KB20110829,       PRS2,       2,         12,          3,       8003,2,20110901,       0002,  22.687000,-157.9885000,       4745,   349.3,  10.8817,  34.1571,2,  34.1532,2,    196.3,1,  -999.0,9, -999.00,9, -999.00,9,  -999.0,     349,    10.8390, -999.00,9,     -999.0
33KB20110829,       PRS2,       2,         12,          2,       8002,2,20110901,       0002,  22.687000,-157.9885000,       4745,   499.9,   7.1705,  34.0309,2,  34.0329,2,    113.1,1,  -999.0,9, -999.00,9, -999.00,9,  -999.0,     500,     7.1228, -999.00,9,     -999.0
33KB20110829,       PRS2,       2,         12,          1,       8001,2,20110901,       0002,  22.687000,-157.9885000,       4745,  1019.6,   3.8974,  34.4942,2,  34.4938,2,     47.9,1,  -999.0,9, -999.00,9, -999.00,9,  -999.0,    1020,     3.8209, -999.00,9,     -999.0