BOTTLE,20141031SIOCCHAMB
EXPOCODE,SECT_ID,STNNBR,CASTNO,SAMPNO,BTLNBR,BTLNBR_FLAG_W,DATE,TIME,LATITUDE,LONGITUDE,DEPTH,CTDPRS,CTDTMP,CTDSAL,CTDSAL_FLAG_W,SALNTY,SALNTY_FLAG_W,CTDOXY,CTDOXY_FLAG_W,OXYGEN,OXYGEN_FLAG_W,SILCAT,SILCAT_FLAG_W,PHSPHT,PHSPHT_FLAG_W,REVPRS,CTDRAW,THETA,NO2+NO3,NO2+NO3_FLAG_W,REVTMP
,,,,,,,,,,,METERS,DBAR,ITS-90,PSS-78,,PSS-78,,UMOL/KG,,UMOL/KG,,UMOL/KG,,UMOL/KG,,DBAR,DBAR,ITS-90,UMOL/KG,,DEG C
33KB20110829,       PRS2,       2,          7,         24,       8024,2,20110831,       0847,  22.743833,-157.9958333,       4740,     5.5,  25.8983,  35.2666,2,-999.0000,5,    208.0,1,  -999.0,9, -999.00,9, -999.00,9,  -999.0,       5,    25.8970, -999.00,9,     -999.0
33KB20110829,       PRS2,       2,          7,         23,       8023,2,20110831,       0847,  22.743833,-157.9958333,       4740,     5.4,  25.8990,  35.2666,2,-999.0000,5,    208.1,1,  -999.0,9, -999.00,9, -999.00,9,  -999.0,       6,    25.8978, -999.00,9,     -999.0
33KB20110829,       PRS2,       2,          7,         22,       8022,2,20110831,       0847,  22.743833,-157.9958333,       4740,     5.5,  25.8993,  35.2665,2,-999.0000,5,    208.2,1,  -999.0,9, -999.00,9, -999.00,9,  -999.0,       5,    25.8981, -999.00,9,     -999.0
33KB20110829,       PRS2,       2,          7,         21,       8021,2,20110831,       0847,  22.743833,-157.9958333,       4740,     5.4,  25.8999,  35.2665,2,-999.0000,5,    208.3,1,  -999.0,9, -999.00,9, -999.00,9,  -999.0,       6,    25.8987, -999.00,9,     -999.0
33KB20110829,       PRS2,       2,          7,         20,       8020,2,20110831,       0847,  22.743833,-157.9958333,       4740,     5.4,  25.9002,  35.2666,2,-999.0000,5,    208.4,1,  -999.0,9, -999.00,9, -999.00,9,  -999.0,       5,    25.8990, -999.00,9,     -999.0
33KB20110829,       PRS2,       2,          7,         19,       8019,2,20110831,       0847,  22.743833,-157.9958333,       4740,     5.3,  25.9002,  35.2666,2,-999.0000,5,    208.4,1,  -999.0,9, -999.00,9, -999.00,9,  -999.0,       5,    25.8990, -999.00,9,     -999.0
33KB20110829,       PRS2,       2,          7,         18,       8018,2,20110831,       0847,  22.743833,-157.9958333,       4740,     5.4,  25.9004,  35.2665,2,  35.2656,2,    208.5,1,  -999.0,9, -999.00,9, -999.00,9,  -999.0,       5,    25.8992, -999.00,9,     -999.0
33KB20110829,       PRS2,       2,          7,         17,       8017,2,20110831,       0847,  22.743833,-157.9958333,       4740,    23.3,  25.8557,  35.2677,2,-999.0000,5,    208.5,1,  -999.0,9, -999.00,9, -999.00,9,  -999.0,      23,    25.8505, -999.00,9,     -999.0
33KB20110829,       PRS2,       2,          7,         16,       8016,2,20110831,       0847,  22.743833,-157.9958333,       4740,    23.4,  25.8575,  35.2688,2,-999.0000,5,    208.2,1,  -999.0,9, -999.00,9, -999.00,9,  -999.0,      23,    25.8523, -999.00,9,     -999.0
33KB20110829,       PRS2,       2,          7,         15,       8015,2,20110831,       0847,  22.743833,-157.9958333,       4740,    23.7,  25.8572,  35.2684,2,-999.0000,5,    208.0,1,  -999.0,9, -999.00,9, -999.00,9,  -999.0,      24,    25.8520, -999.00,9,     -999.0
33KB20110829,       PRS2,       2,          7,         14,       8014,2,20110831,       0847,  22.743833,-157.9958333,       4740,    23.8,  25.8572,  35.2690,2,-999.0000,5,    208.0,1,  -999.0,9, -999.00,9, -999.00,9,  -999.0,      24,    25.8519, -999.00,9,     -999.0
33KB20110829,       PRS2,       2,          7,         13,       8025,2,20110831,       0847,  22.743833,-157.9958333,       4740,    23.9,  25.8538,  35.2696,2,  35.2696,2,    207.9,1,  -999.0,9, -999.00,9, -999.00,9,  -999.0,      23,    25.8485, -999.00,9,     -999.0
33KB20110829,       PRS2,       2,          7,         12,       8012,2,20110831,       0847,  22.743833,-157.9958333,       4740,    44.2,  25.7145,  35.2655,2,-999.0000,5,    209.8,1,  -999.0,9, -999.00,9, -999.00,9,  -999.0,      44,    25.7048, -999.00,9,     -999.0
33KB20110829,       PRS2,       2,          7,         11,       8011,2,20110831,       0847,  22.743833,-157.9958333,       4740,    44.2,  25.7129,  35.2658,2,-999.0000,5,    210.2,1,  -999.0,9, -999.00,9, -999.00,9,  -999.0,      44,    25.7031, -999.00,9,     -999.0
33KB20110829,       PRS2,       2,          7,         10,       8010,2,20110831,       0847,  22.743833,-157.9958333,       4740,    44.3,  25.7109,  35.2663,2,-999.0000,5,    210.4,1,  -999.0,9, -999.00,9, -999.00,9,  -999.0,      44,    25.7011, -999.00,9,     -999.0
33KB20110829,       PRS2,       2,          7,          9,       8009,2,20110831,       0847,  22.743833,-157.9958333,       4740,    44.3,  25.7091,  35.2669,2,-999.0000,5,    210.6,1,  -999.0,9, -999.00,9, -999.00,9,  -999.0,      44,    25.6993, -999.00,9,     -999.0
33KB20110829,       PRS2,       2,          7,          8,       8008,2,20110831,       0847,  22.743833,-157.9958333,       4740,    44.4,  25.7079,  35.2669,2,  35.2733,2,    210.8,1,  -999.0,9, -999.00,9, -999.00,9,  -999.0,      44,    25.6981, -999.00,9,     -999.0
33KB20110829,       PRS2,       2,          7,          7,       8026,2,20110831,       0847,  22.743833,-157.9958333,       4740,    74.4,  23.8345,  35.3457,2,  35.3437,2,    223.0,1,  -999.0,9, -999.00,9, -999.00,9,  -999.0,      74,    23.8189, -999.00,9,     -999.0
33KB20110829,       PRS2,       2,          7,          6,       8006,2,20110831,       0847,  22.743833,-157.9958333,       4740,    99.4,  22.3189,  35.3331,2,  35.3293,2,    211.8,1,  -999.0,9, -999.00,9, -999.00,9,  -999.0,      99,    22.2990, -999.00,9,     -999.0
33KB20110829,       PRS2,       2,          7,          5,       8005,2,20110831,       0847,  22.743833,-157.9958333,       4740,   124.4,  21.2978,  35.2155,2,  35.2162,2,    193.9,1,  -999.0,9, -999.00,9, -999.00,9,  -999.0,     124,    21.2737, -999.00,9,     -999.0
33KB20110829,       PRS2,       2,          7,          4,       8004,2,20110831,       0847,  22.743833,-157.9958333,       4740,   149.4,  20.4300,  35.1754,2,  35.1841,2,    195.5,1,  -999.0,9, -999.00,9, -999.00,9,  -999.0,     149,    20.4019, -999.00,9,     -999.0
33KB20110829,       PRS2,       2,          7,          3,       8003,2,20110831,       0847,  22.743833,-157.9958333,       4740,   173.9,  19.1551,  35.0390,2,  35.0254,2,    194.2,1,  -999.0,9, -999.00,9, -999.00,9,  -999.0,     174,    19.1240, -999.00,9,     -999.0
33KB20110829,       PRS2,       2,          7,          2,       8002,2,20110831,       0847,  22.743833,-157.9958333,       4740,   499.7,   6.9394,  34.0258,2,  34.0282,2,    111.0,1,  -999.0,9, -999.00,9, -999.00,9,  -999.0,     499,     6.8926, -999.00,9,     -999.0
33KB20110829,       PRS2,       2,          7,          1,       8001,2,20110831,       0847,  22.743833,-157.9958333,       4740,  1020.1,   3.7908,  34.4903,2,  34.4930,2,     47.5,1,  -999.0,9, -999.00,9, -999.00,9,  -999.0,    1020,     3.7152, -999.00,9,     -999.0
33KB20110829,       PRS2,       2,          8,         22,       8022,2,20110831,       1209,  22.742167,-157.9790000,       4742,     5.7,  25.8826,  35.2391,2,  35.2396,2,    208.2,1,  -999.0,9, -999.00,9, -999.00,9,  -999.0,       6,    25.8813, -999.00,9,     -999.0
33KB20110829,       PRS2,       2,          8,         21,       8021,2,20110831,       1209,  22.742167,-157.9790000,       4742,     5.7,  25.8804,  35.2390,2,  35.2396,2,    208.2,1,  -999.0,9, -999.00,9, -999.00,9,  -999.0,       6,    25.8791, -999.00,9,     -999.0
33KB20110829,       PRS2,       2,          8,         20,       8020,2,20110831,       1209,  22.742167,-157.9790000,       4742,     5.6,  25.8798,  35.2390,2,  35.2404,2,    208.1,1,  -999.0,9, -999.00,9, -999.00,9,  -999.0,       6,    25.8786, -999.00,9,     -999.0
33KB20110829,       PRS2,       2,          8,         19,       8019,2,20110831,       1209,  22.742167,-157.9790000,       4742,    25.9,  25.8298,  35.2482,2,  35.2572,2,    208.0,1,  -999.0,9, -999.00,9, -999.00,9,  -999.0,      25,    25.8240, -999.00,9,     -999.0
33KB20110829,       PRS2,       2,          8,         18,       8018,2,20110831,       1209,  22.742167,-157.9790000,       4742,    25.7,  25.8261,  35.2507,2,  35.2586,2,    207.8,1,  -999.0,9, -999.00,9, -999.00,9,  -999.0,      25,    25.8203, -999.00,9,     -999.0
33KB20110829,       PRS2,       2,          8,         17,       8017,2,20110831,       1209,  22.742167,-157.9790000,       4742,    25.7,  25.8464,  35.2451,2,  35.2582,2,    207.6,1,  -999.0,9, -999.00,9, -999.00,9,  -999.0,      25,    25.8407, -999.00,9,     -999.0
33KB20110829,       PRS2,       2,          8,         16,       8016,2,20110831,       1209,  22.742167,-157.9790000,       4742,    45.9,  25.4920,  35.2892,2,  35.2905,2,    210.4,1,  -999.0,9, -999.00,9, -999.00,9,  -999.0,      46,    25.4819, -999.00,9,     -999.0
33KB20110829,       PRS2,       2,          8,         15,       8015,2,20110831,       1209,  22.742167,-157.9790000,       4742,    45.8,  25.4930,  35.2894,2,  35.2905,2,    210.5,1,  -999.0,9, -999.00,9, -999.00,9,  -999.0,      46,    25.4829, -999.00,9,     -999.0
33KB20110829,       PRS2,       2,          8,         14,       8014,2,20110831,       1209,  22.742167,-157.9790000,       4742,    45.6,  25.4942,  35.2895,2,  35.2917,2,    210.7,1,  -999.0,9, -999.00,9, -999.00,9,  -999.0,      46,    25.4842, -999.00,9,     -999.0
33KB20110829,       PRS2,       2,          8,         13,       8025,2,20110831,       1209,  22.742167,-157.9790000,       4742,    74.3,  23.6351,  35.3328,2,  35.3459,3,    220.3,1,  -999.0,9, -999.00,9, -999.00,9,  -999.0,      74,    23.6196, -999.00,9,     -999.0
33KB20110829,       PRS2,       2,          8,         12,       8012,2,20110831,       1209,  22.742167,-157.9790000,       4742,    74.6,  23.6245,  35.3357,2,  35.3463,2,    219.9,1,  -999.0,9, -999.00,9, -999.00,9,  -999.0,      74,    23.6089, -999.00,9,     -999.0
33KB20110829,       PRS2,       2,          8,         11,       8011,2,20110831,       1209,  22.742167,-157.9790000,       4742,    74.8,  23.6160,  35.3365,2,  35.3504,3,    219.4,1,  -999.0,9, -999.00,9, -999.00,9,  -999.0,      74,    23.6004, -999.00,9,     -999.0
33KB20110829,       PRS2,       2,          8,         10,       8010,2,20110831,       1209,  22.742167,-157.9790000,       4742,    99.2,  22.5868,  35.3801,2,  35.3539,3,    212.6,1,  -999.0,9, -999.00,9, -999.00,9,  -999.0,      99,    22.5668, -999.00,9,     -999.0
33KB20110829,       PRS2,       2,          8,          9,       8009,2,20110831,       1209,  22.742167,-157.9790000,       4742,    99.4,  22.5517,  35.3743,2,  35.3453,3,    212.6,1,  -999.0,9, -999.00,9, -999.00,9,  -999.0,      99,    22.5317, -999.00,9,     -999.0
33KB20110829,       PRS2,       2,          8,          8,       8008,2,20110831,       1209,  22.742167,-157.9790000,       4742,    99.7,  22.4938,  35.3686,2,  35.3368,3,    212.5,1,  -999.0,9, -999.00,9, -999.00,9,  -999.0,     100,    22.4737, -999.00,9,     -999.0
33KB20110829,       PRS2,       2,          8,          7,       8026,2,20110831,       1209,  22.742167,-157.9790000,       4742,   124.2,  21.4419,  35.3340,2,  35.3248,2,    203.8,1,  -999.0,9, -999.00,9, -999.00,9,  -999.0,     124,    21.4178, -999.00,9,     -999.0
33KB20110829,       PRS2,       2,          8,          6,       8006,2,20110831,       1209,  22.742167,-157.9790000,       4742,   124.5,  21.4341,  35.3326,2,  35.3218,2,    203.3,1,  -999.0,9, -999.00,9, -999.00,9,  -999.0,     124,    21.4099, -999.00,9,     -999.0
33KB20110829,       PRS2,       2,          8,          5,       8005,2,20110831,       1209,  22.742167,-157.9790000,       4742,   124.9,  21.4297,  35.3328,2,  35.3181,3,    202.8,1,  -999.0,9, -999.00,9, -999.00,9,  -999.0,     125,    21.4054, -999.00,9,     -999.0
33KB20110829,       PRS2,       2,          8,          4,       8004,2,20110831,       1209,  22.742167,-157.9790000,       4742,   149.6,  19.9834,  35.1491,2,  35.1447,2,    196.0,1,  -999.0,9, -999.00,9, -999.00,9,  -999.0,     149,    19.9557, -999.00,9,     -999.0
33KB20110829,       PRS2,       2,          8,          3,       8003,2,20110831,       1209,  22.742167,-157.9790000,       4742,   173.7,  19.0226,  35.0215,2,  35.0055,2,    197.1,1,  -999.0,9, -999.00,9, -999.00,9,  -999.0,     174,    18.9916, -999.00,9,     -999.0
33KB20110829,       PRS2,       2,          8,          2,       8002,2,20110831,       1209,  22.742167,-157.9790000,       4742,   525.2,   6.6893,  34.0265,2,  34.0307,2,     99.4,1,  -999.0,9, -999.00,9, -999.00,9,  -999.0,     525,     6.6409, -999.00,9,     -999.0
33KB20110829,       PRS2,       2,          8,          1,       8001,2,20110831,       1209,  22.742167,-157.9790000,       4742,  1019.7,   3.9177,  34.4889,2,  34.4895,2,     47.2,1,  -999.0,9, -999.00,9, -999.00,9,  -999.0,    1019,     3.8410, -999.00,9,     -999.0
33KB20110829,       PRS2,       2,          9,         19,       8019,2,20110831,       1521,  22.726000,-157.9703333,       4746,     5.5,  25.8632,  35.2242,2,  35.2229,2,    207.2,1,  -999.0,9, -999.00,9, -999.00,9,  -999.0,       5,    25.8620, -999.00,9,     -999.0
33KB20110829,       PRS2,       2,          9,         18,       8018,2,20110831,       1521,  22.726000,-157.9703333,       4746,     5.5,  25.8642,  35.2241,2,-999.0000,5,    206.9,1,  -999.0,9, -999.00,9, -999.00,9,  -999.0,       5,    25.8630, -999.00,9,     -999.0
33KB20110829,       PRS2,       2,          9,         17,       8017,2,20110831,       1521,  22.726000,-157.9703333,       4746,     5.5,  25.8643,  35.2240,2,-999.0000,5,    206.7,1,  -999.0,9, -999.00,9, -999.00,9,  -999.0,       5,    25.8631, -999.00,9,     -999.0
33KB20110829,       PRS2,       2,          9,         16,       8016,2,20110831,       1521,  22.726000,-157.9703333,       4746,     5.5,  25.8644,  35.2239,2,-999.0000,5,    206.7,1,  -999.0,9, -999.00,9, -999.00,9,  -999.0,       5,    25.8631, -999.00,9,     -999.0
33KB20110829,       PRS2,       2,          9,         15,       8015,2,20110831,       1521,  22.726000,-157.9703333,       4746,     5.3,  25.8643,  35.2238,2,-999.0000,5,    206.9,1,  -999.0,9, -999.00,9, -999.00,9,  -999.0,       5,    25.8631, -999.00,9,     -999.0
33KB20110829,       PRS2,       2,          9,         14,       8014,2,20110831,       1521,  22.726000,-157.9703333,       4746,     5.4,  25.8639,  35.2239,2,-999.0000,5,    207.1,1,  -999.0,9, -999.00,9, -999.00,9,  -999.0,       5,    25.8627, -999.00,9,     -999.0
33KB20110829,       PRS2,       2,          9,         13,       8025,2,20110831,       1521,  22.726000,-157.9703333,       4746,     5.4,  25.8625,  35.2238,2,-999.0000,5,    207.0,1,  -999.0,9, -999.00,9, -999.00,9,  -999.0,       5,    25.8613, -999.00,9,     -999.0
33KB20110829,       PRS2,       2,          9,         12,       8012,2,20110831,       1521,  22.726000,-157.9703333,       4746,     5.4,  25.8623,  35.2238,2,-999.0000,5,    207.1,1,  -999.0,9, -999.00,9, -999.00,9,  -999.0,       6,    25.8611, -999.00,9,     -999.0
33KB20110829,       PRS2,       2,          9,         11,       8011,2,20110831,       1521,  22.726000,-157.9703333,       4746,     5.2,  25.8616,  35.2236,2,-999.0000,5,    207.2,1,  -999.0,9, -999.00,9, -999.00,9,  -999.0,       5,    25.8605, -999.00,9,     -999.0
33KB20110829,       PRS2,       2,          9,         10,       8010,2,20110831,       1521,  22.726000,-157.9703333,       4746,    24.5,  25.8719,  35.2228,2,-999.0000,5,    207.2,1,  -999.0,9, -999.00,9, -999.00,9,  -999.0,      24,    25.8665, -999.00,9,     -999.0
33KB20110829,       PRS2,       2,          9,          9,       8009,2,20110831,       1521,  22.726000,-157.9703333,       4746,    24.7,  25.8717,  35.2228,2,-999.0000,5,    207.2,1,  -999.0,9, -999.00,9, -999.00,9,  -999.0,      24,    25.8662, -999.00,9,     -999.0
33KB20110829,       PRS2,       2,          9,          8,       8008,2,20110831,       1521,  22.726000,-157.9703333,       4746,    44.9,  25.5897,  35.1877,2,-999.0000,5,    209.5,1,  -999.0,9, -999.00,9, -999.00,9,  -999.0,      45,    25.5798, -999.00,9,     -999.0
33KB20110829,       PRS2,       2,          9,          7,       8026,2,20110831,       1521,  22.726000,-157.9703333,       4746,    74.8,  24.3483,  35.2900,2,-999.0000,5,    221.3,1,  -999.0,9, -999.00,9, -999.00,9,  -999.0,      75,    24.3323, -999.00,9,     -999.0
33KB20110829,       PRS2,       2,          9,          6,       8006,2,20110831,       1521,  22.726000,-157.9703333,       4746,    99.3,  23.4651,  35.3685,2,-999.0000,5,    219.4,1,  -999.0,9, -999.00,9, -999.00,9,  -999.0,      99,    23.4445, -999.00,9,     -999.0
33KB20110829,       PRS2,       2,          9,          5,       8005,2,20110831,       1521,  22.726000,-157.9703333,       4746,   124.6,  22.3655,  35.3770,2,-999.0000,5,    213.3,1,  -999.0,9, -999.00,9, -999.00,9,  -999.0,     124,    22.3405, -999.00,9,     -999.0
33KB20110829,       PRS2,       2,          9,          4,       8004,2,20110831,       1521,  22.726000,-157.9703333,       4746,   149.5,  21.3714,  35.3211,2,-999.0000,5,    206.0,1,  -999.0,9, -999.00,9, -999.00,9,  -999.0,     149,    21.3424, -999.00,9,     -999.0
33KB20110829,       PRS2,       2,          9,          3,       8003,2,20110831,       1521,  22.726000,-157.9703333,       4746,   173.9,  20.3079,  35.1941,2,-999.0000,5,    200.1,1,  -999.0,9, -999.00,9, -999.00,9,  -999.0,     174,    20.2754, -999.00,9,     -999.0
33KB20110829,       PRS2,       2,          9,          2,       8002,2,20110831,       1521,  22.726000,-157.9703333,       4746,   525.5,   6.8361,  34.0244,2,  34.0282,2,    105.6,1,  -999.0,9, -999.00,9, -999.00,9,  -999.0,     525,     6.7871, -999.00,9,     -999.0
33KB20110829,       PRS2,       2,          9,          1,       8001,2,20110831,       1521,  22.726000,-157.9703333,       4746,  1020.0,   3.8689,  34.4921,2,  34.4930,2,     47.6,1,  -999.0,9, -999.00,9, -999.00,9,  -999.0,    1020,     3.7927, -999.00,9,     -999.0