BOTTLE,20141031SIOCCHAMB
EXPOCODE,SECT_ID,STNNBR,CASTNO,SAMPNO,BTLNBR,BTLNBR_FLAG_W,DATE,TIME,LATITUDE,LONGITUDE,DEPTH,CTDPRS,CTDTMP,CTDSAL,CTDSAL_FLAG_W,SALNTY,SALNTY_FLAG_W,CTDOXY,CTDOXY_FLAG_W,OXYGEN,OXYGEN_FLAG_W,SILCAT,SILCAT_FLAG_W,PHSPHT,PHSPHT_FLAG_W,REVPRS,CTDRAW,THETA,NO2+NO3,NO2+NO3_FLAG_W,REVTMP
,,,,,,,,,,,METERS,DBAR,ITS-90,PSS-78,,PSS-78,,UMOL/KG,,UMOL/KG,,UMOL/KG,,UMOL/KG,,DBAR,DBAR,ITS-90,UMOL/KG,,DEG C
33KB20110829,       PRS2,       2,         13,         24,       8024,2,20110901,       0304,  22.773667,-158.0813333,       4759,    75.0,  24.8304,  35.3137,2,-999.0000,5,    217.7,1,  -999.0,9, -999.00,9, -999.00,9,  -999.0,      74,    24.8142, -999.00,9,     -999.0
33KB20110829,       PRS2,       2,         13,         23,       8023,2,20110901,       0304,  22.773667,-158.0813333,       4759,    74.9,  24.8309,  35.3136,2,-999.0000,5,    218.0,1,  -999.0,9, -999.00,9, -999.00,9,  -999.0,      75,    24.8147, -999.00,9,     -999.0
33KB20110829,       PRS2,       2,         13,         22,       8022,2,20110901,       0304,  22.773667,-158.0813333,       4759,    74.9,  24.8310,  35.3138,2,-999.0000,5,    218.2,1,  -999.0,9, -999.00,9, -999.00,9,  -999.0,      75,    24.8148, -999.00,9,     -999.0
33KB20110829,       PRS2,       2,         13,         21,       8021,2,20110901,       0304,  22.773667,-158.0813333,       4759,    74.9,  24.8288,  35.3139,2,-999.0000,5,    218.3,1,  -999.0,9, -999.00,9, -999.00,9,  -999.0,      75,    24.8127, -999.00,9,     -999.0
33KB20110829,       PRS2,       2,         13,         20,       8020,2,20110901,       0304,  22.773667,-158.0813333,       4759,    74.9,  24.8309,  35.3138,2,-999.0000,5,    218.3,1,  -999.0,9, -999.00,9, -999.00,9,  -999.0,      74,    24.8147, -999.00,9,     -999.0
33KB20110829,       PRS2,       2,         13,         19,       8019,2,20110901,       0304,  22.773667,-158.0813333,       4759,    74.8,  24.8339,  35.3136,2,-999.0000,5,    218.4,1,  -999.0,9, -999.00,9, -999.00,9,  -999.0,      75,    24.8178, -999.00,9,     -999.0
33KB20110829,       PRS2,       2,         13,         18,       8018,2,20110901,       0304,  22.773667,-158.0813333,       4759,    74.7,  24.8351,  35.3132,2,-999.0000,5,    218.6,1,  -999.0,9, -999.00,9, -999.00,9,  -999.0,      74,    24.8189, -999.00,9,     -999.0
33KB20110829,       PRS2,       2,         13,         17,       8017,2,20110901,       0304,  22.773667,-158.0813333,       4759,    74.7,  24.8349,  35.3132,2,-999.0000,5,    218.8,1,  -999.0,9, -999.00,9, -999.00,9,  -999.0,      74,    24.8188, -999.00,9,     -999.0
33KB20110829,       PRS2,       2,         13,         16,       8016,2,20110901,       0304,  22.773667,-158.0813333,       4759,    74.7,  24.8352,  35.3131,2,-999.0000,5,    219.0,1,  -999.0,9, -999.00,9, -999.00,9,  -999.0,      74,    24.8190, -999.00,9,     -999.0
33KB20110829,       PRS2,       2,         13,         15,       8015,2,20110901,       0304,  22.773667,-158.0813333,       4759,    74.6,  24.8352,  35.3132,2,-999.0000,5,    219.1,1,  -999.0,9, -999.00,9, -999.00,9,  -999.0,      75,    24.8191, -999.00,9,     -999.0
33KB20110829,       PRS2,       2,         13,         14,       8014,2,20110901,       0304,  22.773667,-158.0813333,       4759,    74.6,  24.8352,  35.3132,2,-999.0000,5,    219.3,1,  -999.0,9, -999.00,9, -999.00,9,  -999.0,      74,    24.8191, -999.00,9,     -999.0
33KB20110829,       PRS2,       2,         13,         13,       8025,2,20110901,       0304,  22.773667,-158.0813333,       4759,    74.6,  24.8357,  35.3131,2,-999.0000,5,    219.5,1,  -999.0,9, -999.00,9, -999.00,9,  -999.0,      74,    24.8195, -999.00,9,     -999.0
33KB20110829,       PRS2,       2,         13,         12,       8012,2,20110901,       0304,  22.773667,-158.0813333,       4759,    74.6,  24.8362,  35.3128,2,-999.0000,5,    219.8,1,  -999.0,9, -999.00,9, -999.00,9,  -999.0,      74,    24.8201, -999.00,9,     -999.0
33KB20110829,       PRS2,       2,         13,         11,       8011,2,20110901,       0304,  22.773667,-158.0813333,       4759,    74.5,  24.8358,  35.3127,2,-999.0000,5,    220.2,1,  -999.0,9, -999.00,9, -999.00,9,  -999.0,      74,    24.8197, -999.00,9,     -999.0
33KB20110829,       PRS2,       2,         13,         10,       8010,2,20110901,       0304,  22.773667,-158.0813333,       4759,    74.5,  24.8315,  35.3128,2,-999.0000,5,    220.6,1,  -999.0,9, -999.00,9, -999.00,9,  -999.0,      74,    24.8154, -999.00,9,     -999.0
33KB20110829,       PRS2,       2,         13,          9,       8009,2,20110901,       0304,  22.773667,-158.0813333,       4759,    74.6,  24.8288,  35.3129,2,-999.0000,5,    221.1,1,  -999.0,9, -999.00,9, -999.00,9,  -999.0,      74,    24.8127, -999.00,9,     -999.0
33KB20110829,       PRS2,       2,         13,          8,       8008,2,20110901,       0304,  22.773667,-158.0813333,       4759,    74.6,  24.8250,  35.3129,2,-999.0000,5,    221.5,1,  -999.0,9, -999.00,9, -999.00,9,  -999.0,      74,    24.8089, -999.00,9,     -999.0
33KB20110829,       PRS2,       2,         13,          7,       8026,2,20110901,       0304,  22.773667,-158.0813333,       4759,    74.6,  24.8204,  35.3127,2,-999.0000,5,    221.7,1,  -999.0,9, -999.00,9, -999.00,9,  -999.0,      74,    24.8043, -999.00,9,     -999.0
33KB20110829,       PRS2,       2,         13,          6,       8006,2,20110901,       0304,  22.773667,-158.0813333,       4759,    74.8,  24.8197,  35.3127,2,-999.0000,5,    221.6,1,  -999.0,9, -999.00,9, -999.00,9,  -999.0,      74,    24.8036, -999.00,9,     -999.0
33KB20110829,       PRS2,       2,         13,          5,       8005,2,20110901,       0304,  22.773667,-158.0813333,       4759,    74.8,  24.8177,  35.3125,2,-999.0000,5,    221.4,1,  -999.0,9, -999.00,9, -999.00,9,  -999.0,      75,    24.8016, -999.00,9,     -999.0
33KB20110829,       PRS2,       2,         13,          4,       8004,2,20110901,       0304,  22.773667,-158.0813333,       4759,    74.9,  24.8163,  35.3126,2,-999.0000,5,    221.2,1,  -999.0,9, -999.00,9, -999.00,9,  -999.0,      75,    24.8002, -999.00,9,     -999.0
33KB20110829,       PRS2,       2,         13,          3,       8003,2,20110901,       0304,  22.773667,-158.0813333,       4759,    75.0,  24.8133,  35.3124,2,-999.0000,5,    221.2,1,  -999.0,9, -999.00,9, -999.00,9,  -999.0,      75,    24.7972, -999.00,9,     -999.0
33KB20110829,       PRS2,       2,         13,          2,       8002,2,20110901,       0304,  22.773667,-158.0813333,       4759,   550.2,   6.4115,  34.0192,2,  34.0186,2,    108.1,1,  -999.0,9, -999.00,9, -999.00,9,  -999.0,     550,     6.3619, -999.00,9,     -999.0
33KB20110829,       PRS2,       2,         13,          1,       8001,2,20110901,       0304,  22.773667,-158.0813333,       4759,  1019.5,   3.9329,  34.4764,2,  34.4734,2,     45.2,1,  -999.0,9, -999.00,9, -999.00,9,  -999.0,    1019,     3.8562, -999.00,9,     -999.0
33KB20110829,       PRS2,       2,         14,         24,       8024,2,20110901,       0543,  22.750000,-158.0003333,       4744,     5.9,  25.9341,  35.2096,2,  35.2087,2,    206.8,2,   206.5,2,    1.61,3,    0.09,2,  -999.0,       6,    25.9328,    0.01,2,     -999.0
33KB20110829,       PRS2,       2,         14,         23,       8023,2,20110901,       0543,  22.750000,-158.0003333,       4744,    46.6,  25.7185,  35.2061,2,  35.2034,2,    210.1,2,   210.5,2,    0.98,2,    0.08,2,  -999.0,      46,    25.7082,    0.02,2,     -999.0
33KB20110829,       PRS2,       2,         14,         22,       8022,2,20110901,       0543,  22.750000,-158.0003333,       4744,    78.4,  24.0591,  35.3334,2,  35.3374,2,    219.4,2,   219.1,2,    1.11,2,    0.08,2,  -999.0,      78,    24.0425,    0.02,2,     -999.0
33KB20110829,       PRS2,       2,         14,         21,       8021,2,20110901,       0543,  22.750000,-158.0003333,       4744,    83.6,  23.9916,  35.3422,2,  35.3433,2,    219.3,2,   218.8,2,    5.11,3,    0.08,2,  -999.0,      83,    23.9740,    0.03,2,     -999.0
33KB20110829,       PRS2,       2,         14,         20,       8020,2,20110901,       0543,  22.750000,-158.0003333,       4744,   111.6,  22.2487,  35.3565,2,  35.3561,2,    212.2,2,   211.7,2,    1.17,2,    0.11,2,  -999.0,     111,    22.2264,    0.04,2,     -999.0
33KB20110829,       PRS2,       2,         14,         19,       8019,2,20110901,       0543,  22.750000,-158.0003333,       4744,   119.7,  22.0085,  35.3469,2,  35.3447,2,    207.6,2,   211.1,2,    1.28,2,    0.09,2,  -999.0,     120,    21.9848,    0.03,2,     -999.0
33KB20110829,       PRS2,       2,         14,         18,       8018,2,20110901,       0543,  22.750000,-158.0003333,       4744,   191.7,  18.8403,  34.9809,2,  34.9870,2,    194.2,2,   194.5,2,    2.43,2,    0.17,2,  -999.0,     192,    18.8063,    0.08,4,     -999.0
33KB20110829,       PRS2,       2,         14,         17,       8017,2,20110901,       0543,  22.750000,-158.0003333,       4744,   259.9,  15.6018,  34.5390,2,  34.5237,2,    189.8,2,   194.4,2,    5.30,2,    0.38,2,  -999.0,     260,    15.5614,    2.58,4,     -999.0
33KB20110829,       PRS2,       2,         14,         16,       8016,2,20110901,       0543,  22.750000,-158.0003333,       4744,   328.8,  11.9989,  34.2442,2,  34.2395,2,    201.7,2,   202.5,2,   11.85,2,    0.87,2,  -999.0,     329,    11.9561,   11.73,2,     -999.0
33KB20110829,       PRS2,       2,         14,         15,       8015,2,20110901,       0543,  22.750000,-158.0003333,       4744,   375.1,  10.1149,  34.1266,2,  34.1221,2,    190.5,2,   187.6,2,   19.63,2,    1.25,2,  -999.0,     375,    10.0711,   16.92,2,     -999.0
33KB20110829,       PRS2,       2,         14,         14,       8014,2,20110901,       0543,  22.750000,-158.0003333,       4744,   424.8,   8.6119,  34.0573,2,  34.0560,2,    161.6,2,   164.4,2,   32.20,2,    1.65,2,  -999.0,     425,     8.5669,   21.96,2,     -999.0
33KB20110829,       PRS2,       2,         14,         13,       8025,2,20110901,       0543,  22.750000,-158.0003333,       4744,   470.6,   7.8779,  34.0335,2,  34.0366,2,    140.1,2,   140.1,2,   38.04,2,    2.07,3,  -999.0,     470,     7.8305,   25.84,2,     -999.0
33KB20110829,       PRS2,       2,         14,         12,       8012,2,20110901,       0543,  22.750000,-158.0003333,       4744,   514.7,   7.2269,  34.0266,2,  34.0300,2,    120.3,2,   121.6,2,   45.10,2,    2.26,3,  -999.0,     515,     7.1775,   28.75,2,     -999.0
33KB20110829,       PRS2,       2,         14,         11,       8011,2,20110901,       0543,  22.750000,-158.0003333,       4744,   529.7,   6.9284,  34.0249,2,  34.0256,2,    109.5,2,   110.8,2,   49.20,2,    2.54,3,  -999.0,     530,     6.8787,   30.06,2,     -999.0
33KB20110829,       PRS2,       2,         14,         10,       8010,2,20110901,       0543,  22.750000,-158.0003333,       4744,   554.0,   6.6645,  34.0400,2,  34.0382,2,     93.9,2,    97.7,2,   53.82,2,    2.68,3,  -999.0,     554,     6.6135,   32.00,2,     -999.0
33KB20110829,       PRS2,       2,         14,          9,       8009,2,20110901,       0543,  22.750000,-158.0003333,       4744,   595.6,   6.1823,  34.0812,2,  34.0831,2,     69.9,2,    73.0,2,   63.23,2,    2.76,3,  -999.0,     595,     6.1294,   34.72,2,     -999.0
33KB20110829,       PRS2,       2,         14,          8,       8008,2,20110901,       0543,  22.750000,-158.0003333,       4744,   633.5,   5.4077,  34.0784,2,  34.0809,2,     59.8,2,    60.2,2,   74.61,2,    2.84,2,  -999.0,     633,     5.3550,   37.64,2,     -999.0
33KB20110829,       PRS2,       2,         14,          7,       8026,2,20110901,       0543,  22.750000,-158.0003333,       4744,   699.5,   4.8883,  34.1558,2,  34.1552,2,     38.9,2,    38.2,2,   87.80,2,    2.90,2,  -999.0,     700,     4.8325,   39.69,3,     -999.0
33KB20110829,       PRS2,       2,         14,          6,       8006,2,20110901,       0543,  22.750000,-158.0003333,       4744,   761.3,   4.4730,  34.2493,2,  34.2519,2,     26.2,2,    24.9,2,   99.82,2,    2.97,2,  -999.0,     761,     4.4143,   41.40,2,     -999.0
33KB20110829,       PRS2,       2,         14,          5,       8005,2,20110901,       0543,  22.750000,-158.0003333,       4744,   799.5,   4.3249,  34.3086,2,  34.3121,2,     26.3,2,    24.1,2,  103.35,2,    2.96,2,  -999.0,     799,     4.2638,   41.57,2,     -999.0
33KB20110829,       PRS2,       2,         14,          4,       8004,2,20110901,       0543,  22.750000,-158.0003333,       4744,   833.0,   4.3384,  34.3760,2,  34.3784,2,     29.2,2,    29.7,2,  103.08,2,    2.97,2,  -999.0,     833,     4.2745,   41.61,2,     -999.0
33KB20110829,       PRS2,       2,         14,          3,       8003,2,20110901,       0543,  22.750000,-158.0003333,       4744,   911.2,   4.2189,  34.4293,2,  34.4296,2,     37.0,2,    37.3,2,  105.64,2,    2.96,2,  -999.0,     911,     4.1491,   41.09,2,     -999.0
33KB20110829,       PRS2,       2,         14,          2,       8002,2,20110901,       0543,  22.750000,-158.0003333,       4744,   989.5,   3.9916,  34.4699,2,  34.4687,2,     43.8,2,    43.7,2,  110.21,2,    2.97,2,  -999.0,     989,     3.9169,   41.37,2,     -999.0
33KB20110829,       PRS2,       2,         14,          1,       8001,2,20110901,       0543,  22.750000,-158.0003333,       4744,  1019.8,   3.8638,  34.4814,2,  34.4799,2,     46.1,2,    45.2,2,  111.97,2,    2.98,2,  -999.0,    1020,     3.7876,   40.85,3,     -999.0
33KB20110829,       PRS2,       2,         15,         24,       8024,2,20110901,       0932,  22.750500,-158.0010000,       4743,     6.2,  25.9081,  35.2218,2,  35.2223,2,    206.7,2,   205.9,2,    0.91,2,    0.05,2,  -999.0,       7,    25.9068,    0.01,2,     -999.0
33KB20110829,       PRS2,       2,         15,         23,       8023,2,20110901,       0932,  22.750500,-158.0010000,       4743,   500.3,   7.3096,  34.0286,2,  34.0282,2,    122.0,2,   120.9,2,   44.50,2,    2.04,2,  -999.0,     500,     7.2613,   28.73,2,     -999.0
33KB20110829,       PRS2,       2,         15,         22,       8022,2,20110901,       0932,  22.750500,-158.0010000,       4743,   751.0,   4.5000,  34.2915,2,  34.2905,2,     24.7,2,    25.0,2,   98.70,2,    3.03,2,  -999.0,     751,     4.4419,   41.62,2,     -999.0
33KB20110829,       PRS2,       2,         15,         21,       8021,2,20110901,       0932,  22.750500,-158.0010000,       4743,  1001.6,   3.9053,  34.4737,2,  34.4728,2,     44.0,2,    43.7,2,  110.80,2,    2.99,2,  -999.0,    1002,     3.8303,   41.22,2,     -999.0
33KB20110829,       PRS2,       2,         15,         20,       8020,2,20110901,       0932,  22.750500,-158.0010000,       4743,  1201.4,   3.4876,  34.5255,2,  34.5252,2,     54.7,2,    54.6,2,  119.06,2,    2.96,2,  -999.0,    1201,     3.3995,   41.05,2,     -999.0
33KB20110829,       PRS2,       2,         15,         19,       8019,2,20110901,       0932,  22.750500,-158.0010000,       4743,  1400.5,   3.0533,  34.5592,2,  34.5590,2,     64.1,2,    64.0,2,  128.16,2,    2.93,2,  -999.0,    1400,     2.9532,   40.74,2,     -999.0
33KB20110829,       PRS2,       2,         15,         18,       8018,2,20110901,       0932,  22.750500,-158.0010000,       4743,  1600.6,   2.6362,  34.5843,2,  34.5836,2,     74.0,2,    74.7,2,  137.36,2,    2.88,2,  -999.0,    1601,     2.5243,   40.08,2,     -999.0
33KB20110829,       PRS2,       2,         15,         17,       8017,2,20110901,       0932,  22.750500,-158.0010000,       4743,  1800.5,   2.3560,  34.6024,2,  34.6024,2,     81.6,2,    82.2,2,  143.41,2,    2.84,2,  -999.0,    1800,     2.2312,   39.80,2,     -999.0
33KB20110829,       PRS2,       2,         15,         16,       8016,2,20110901,       0932,  22.750500,-158.0010000,       4743,  2001.1,   2.1002,  34.6193,2,  34.6189,2,     85.9,2,    87.9,2,  150.17,2,    2.81,2,  -999.0,    2001,     1.9621,   39.52,2,     -999.0
33KB20110829,       PRS2,       2,         15,         15,       8015,2,20110901,       0932,  22.750500,-158.0010000,       4743,  2200.4,   1.9255,  34.6348,2,  34.6341,2,     97.0,2,    96.0,2,  152.99,2,    2.77,2,  -999.0,    2200,     1.7732,   38.97,2,     -999.0
33KB20110829,       PRS2,       2,         15,         14,       8014,2,20110901,       0932,  22.750500,-158.0010000,       4743,  2401.3,   1.7700,  34.6440,2,  34.6437,2,    100.5,2,   101.3,2,  158.95,2,    2.74,2,  -999.0,    2401,     1.6028,   38.74,2,     -999.0
33KB20110829,       PRS2,       2,         15,         13,       8025,2,20110901,       0932,  22.750500,-158.0010000,       4743,  2601.9,   1.6782,  34.6540,2,  34.6537,2,    109.1,2,   109.8,2,  158.51,2,    2.70,2,  -999.0,    2602,     1.4947,   38.13,2,     -999.0
33KB20110829,       PRS2,       2,         15,         12,       8012,2,20110901,       0932,  22.750500,-158.0010000,       4743,  2800.0,   1.6000,  34.6631,2,  34.6627,2,    118.0,2,   118.6,2,  158.18,2,    2.63,2,  -999.0,    2800,     1.3999,   37.61,2,     -999.0
33KB20110829,       PRS2,       2,         15,         11,       8011,2,20110901,       0932,  22.750500,-158.0010000,       4743,  2999.8,   1.5519,  34.6688,2,  34.6682,2,    124.1,2,   124.4,2,  157.44,2,    2.61,2,  -999.0,    3000,     1.3340,   37.21,2,     -999.0
33KB20110829,       PRS2,       2,         15,         10,       8010,2,20110901,       0932,  22.750500,-158.0010000,       4743,  3199.8,   1.5127,  34.6743,2,  34.6737,2,    129.9,2,   130.1,2,  156.58,2,    2.57,2,  -999.0,    3201,     1.2763,   36.87,2,     -999.0
33KB20110829,       PRS2,       2,         15,          9,       8009,2,20110901,       0932,  22.750500,-158.0010000,       4743,  3401.0,   1.4797,  34.6788,2,  34.6783,2,    135.7,2,   135.8,2,  156.05,2,    2.54,2,  -999.0,    3402,     1.2241,   36.53,2,     -999.0
33KB20110829,       PRS2,       2,         15,          8,       8008,2,20110901,       0932,  22.750500,-158.0010000,       4743,  3599.4,   1.4581,  34.6823,2,  34.6814,2,    141.2,2,   141.3,2,  153.48,2,    2.52,2,  -999.0,    3599,     1.1828,   36.27,2,     -999.0
33KB20110829,       PRS2,       2,         15,          7,       8026,2,20110901,       0932,  22.750500,-158.0010000,       4743,  3800.4,   1.4521,  34.6847,2,  34.6840,2,    145.3,2,   144.9,2,  151.78,2,    2.49,2,  -999.0,    3798,     1.1560,   35.89,2,     -999.0
33KB20110829,       PRS2,       2,         15,          6,       8006,2,20110901,       0932,  22.750500,-158.0010000,       4743,  3999.6,   1.4544,  34.6864,2,  34.6855,2,    148.3,2,   147.6,2,  150.27,2,    2.49,2,  -999.0,    4001,     1.1368,   35.78,2,     -999.0
33KB20110829,       PRS2,       2,         15,          5,       8005,2,20110901,       0932,  22.750500,-158.0010000,       4743,  4200.6,   1.4652,  34.6875,2,  34.6869,2,    150.5,2,   149.2,2,  149.50,2,    2.46,2,  -999.0,    4200,     1.1252,   35.66,2,     -999.0
33KB20110829,       PRS2,       2,         15,          4,       8004,2,20110901,       0932,  22.750500,-158.0010000,       4743,  4401.0,   1.4793,  34.6879,2,  34.6877,2,    151.4,2,   150.5,2,  149.95,2,    2.45,2,  -999.0,    4401,     1.1163,   35.62,2,     -999.0
33KB20110829,       PRS2,       2,         15,          3,       8003,2,20110901,       0932,  22.750500,-158.0010000,       4743,  4500.1,   1.4880,  34.6882,2,  34.6881,2,    151.1,2,   151.6,2,  148.97,2,    2.46,2,  -999.0,    4500,     1.1134,   35.75,2,     -999.0
33KB20110829,       PRS2,       2,         15,          2,       8002,2,20110901,       0932,  22.750500,-158.0010000,       4743,  4600.7,   1.4978,  34.6883,2,  34.6883,2,    151.5,2,   151.5,2,  148.66,2,    2.45,2,  -999.0,    4601,     1.1112,   35.62,2,     -999.0
33KB20110829,       PRS2,       2,         15,          1,       8001,2,20110901,       0932,  22.750500,-158.0010000,       4743,  4803.1,   1.5200,  34.6884,2,  34.6891,2,    151.5,2,   152.7,2,  148.07,2,    2.46,2,  -999.0,    4803,     1.1088,   35.63,2,     -999.0