BOTTLE,20141031SIOCCHAMB
EXPOCODE,SECT_ID,STNNBR,CASTNO,SAMPNO,BTLNBR,BTLNBR_FLAG_W,DATE,TIME,LATITUDE,LONGITUDE,DEPTH,CTDPRS,CTDTMP,CTDSAL,CTDSAL_FLAG_W,SALNTY,SALNTY_FLAG_W,CTDOXY,CTDOXY_FLAG_W,OXYGEN,OXYGEN_FLAG_W,SILCAT,SILCAT_FLAG_W,PHSPHT,PHSPHT_FLAG_W,REVPRS,CTDRAW,THETA,NO2+NO3,NO2+NO3_FLAG_W,REVTMP
,,,,,,,,,,,METERS,DBAR,ITS-90,PSS-78,,PSS-78,,UMOL/KG,,UMOL/KG,,UMOL/KG,,UMOL/KG,,DBAR,DBAR,ITS-90,UMOL/KG,,DEG C
33KB20110829,       PRS2,       2,          1,         24,       8024,2,20110830,       1551,  22.667833,-157.9996667,       4752,     4.5,  25.8039,  35.2503,2,-999.0000,9,    208.8,2,  -999.0,5, -999.00,9, -999.00,9,  -999.0,       5,    25.8029, -999.00,9,     -999.0
33KB20110829,       PRS2,       2,          1,         23,       8023,2,20110830,       1551,  22.667833,-157.9996667,       4752,     4.7,  25.8040,  35.2504,2,-999.0000,9,    208.4,2,  -999.0,5, -999.00,9, -999.00,9,  -999.0,       5,    25.8030, -999.00,9,     -999.0
33KB20110829,       PRS2,       2,          1,         22,       8022,2,20110830,       1551,  22.667833,-157.9996667,       4752,     4.8,  25.8024,  35.2505,2,-999.0000,9,    208.2,2,  -999.0,5, -999.00,9, -999.00,9,  -999.0,       5,    25.8013, -999.00,9,     -999.0
33KB20110829,       PRS2,       2,          1,         21,       8021,2,20110830,       1551,  22.667833,-157.9996667,       4752,     4.8,  25.8032,  35.2504,2,-999.0000,9,    208.0,2,  -999.0,5, -999.00,9, -999.00,9,  -999.0,       4,    25.8021, -999.00,9,     -999.0
33KB20110829,       PRS2,       2,          1,         20,       8020,2,20110830,       1551,  22.667833,-157.9996667,       4752,     4.8,  25.8040,  35.2505,2,-999.0000,9,    207.7,2,  -999.0,5, -999.00,9, -999.00,9,  -999.0,       5,    25.8030, -999.00,9,     -999.0
33KB20110829,       PRS2,       2,          1,         19,       8019,2,20110830,       1551,  22.667833,-157.9996667,       4752,     4.7,  25.8043,  35.2505,2,-999.0000,9,    207.6,2,  -999.0,5, -999.00,9, -999.00,9,  -999.0,       4,    25.8032, -999.00,9,     -999.0
33KB20110829,       PRS2,       2,          1,         18,       8018,2,20110830,       1551,  22.667833,-157.9996667,       4752,     4.6,  25.8050,  35.2505,2,-999.0000,9,    207.6,2,  -999.0,5, -999.00,9, -999.00,9,  -999.0,       5,    25.8040, -999.00,9,     -999.0
33KB20110829,       PRS2,       2,          1,         17,       8017,2,20110830,       1551,  22.667833,-157.9996667,       4752,    25.7,  25.8126,  35.2500,2,-999.0000,9,    207.6,2,  -999.0,5, -999.00,9, -999.00,9,  -999.0,      25,    25.8069, -999.00,9,     -999.0
33KB20110829,       PRS2,       2,          1,         16,       8016,2,20110830,       1551,  22.667833,-157.9996667,       4752,    25.7,  25.8138,  35.2497,2,-999.0000,9,    207.6,2,  -999.0,5, -999.00,9, -999.00,9,  -999.0,      25,    25.8081, -999.00,9,     -999.0
33KB20110829,       PRS2,       2,          1,         15,       8015,2,20110830,       1551,  22.667833,-157.9996667,       4752,    25.6,  25.8166,  35.2497,2,-999.0000,9,    207.6,2,  -999.0,5, -999.00,9, -999.00,9,  -999.0,      25,    25.8109, -999.00,9,     -999.0
33KB20110829,       PRS2,       2,          1,         14,       8014,2,20110830,       1551,  22.667833,-157.9996667,       4752,    25.5,  25.8169,  35.2495,2,-999.0000,9,    207.7,2,  -999.0,5, -999.00,9, -999.00,9,  -999.0,      25,    25.8113, -999.00,9,     -999.0
33KB20110829,       PRS2,       2,          1,         13,       8025,2,20110830,       1551,  22.667833,-157.9996667,       4752,    25.5,  25.8166,  35.2495,2,-999.0000,9,    207.8,2,  -999.0,5, -999.00,9, -999.00,9,  -999.0,      25,    25.8109, -999.00,9,     -999.0
33KB20110829,       PRS2,       2,          1,         12,       8012,2,20110830,       1551,  22.667833,-157.9996667,       4752,    25.4,  25.8161,  35.2494,2,-999.0000,9,    208.1,2,  -999.0,5, -999.00,9, -999.00,9,  -999.0,      25,    25.8105, -999.00,9,     -999.0
33KB20110829,       PRS2,       2,          1,         11,       8011,2,20110830,       1551,  22.667833,-157.9996667,       4752,    44.5,  25.5252,  35.2554,2,-999.0000,9,    212.6,2,  -999.0,5, -999.00,9, -999.00,9,  -999.0,      44,    25.5154, -999.00,9,     -999.0
33KB20110829,       PRS2,       2,          1,         10,       8010,2,20110830,       1551,  22.667833,-157.9996667,       4752,    44.4,  25.5289,  35.2550,2,-999.0000,9,    212.8,2,  -999.0,5, -999.00,9, -999.00,9,  -999.0,      44,    25.5192, -999.00,9,     -999.0
33KB20110829,       PRS2,       2,          1,          9,       8009,2,20110830,       1551,  22.667833,-157.9996667,       4752,    44.3,  25.5278,  35.2548,2,-999.0000,9,    212.9,2,  -999.0,5, -999.00,9, -999.00,9,  -999.0,      44,    25.5181, -999.00,9,     -999.0
33KB20110829,       PRS2,       2,          1,          8,       8008,2,20110830,       1551,  22.667833,-157.9996667,       4752,    44.3,  25.5233,  35.2550,2,-999.0000,9,    213.0,2,  -999.0,5, -999.00,9, -999.00,9,  -999.0,      44,    25.5135, -999.00,9,     -999.0
33KB20110829,       PRS2,       2,          1,          7,       8026,2,20110830,       1551,  22.667833,-157.9996667,       4752,    44.3,  25.5138,  35.2534,2,-999.0000,9,    213.2,2,  -999.0,5, -999.00,9, -999.00,9,  -999.0,      44,    25.5040, -999.00,9,     -999.0
33KB20110829,       PRS2,       2,          1,          6,       8006,2,20110830,       1551,  22.667833,-157.9996667,       4752,    73.4,  23.6993,  35.3418,2,-999.0000,9,    225.0,2,  -999.0,5, -999.00,9, -999.00,9,  -999.0,      73,    23.6840, -999.00,9,     -999.0
33KB20110829,       PRS2,       2,          1,          5,       8005,2,20110830,       1551,  22.667833,-157.9996667,       4752,    73.3,  23.7077,  35.3421,2,-999.0000,9,    225.0,2,  -999.0,5, -999.00,9, -999.00,9,  -999.0,      73,    23.6923, -999.00,9,     -999.0
33KB20110829,       PRS2,       2,          1,          4,       8004,2,20110830,       1551,  22.667833,-157.9996667,       4752,    73.2,  23.7309,  35.3445,2,-999.0000,9,    224.9,2,  -999.0,5, -999.00,9, -999.00,9,  -999.0,      73,    23.7156, -999.00,9,     -999.0
33KB20110829,       PRS2,       2,          1,          3,       8003,2,20110830,       1551,  22.667833,-157.9996667,       4752,    73.4,  23.7387,  35.3428,2,-999.0000,9,    224.7,2,  -999.0,5, -999.00,9, -999.00,9,  -999.0,      73,    23.7233, -999.00,9,     -999.0
33KB20110829,       PRS2,       2,          1,          2,       8002,2,20110830,       1551,  22.667833,-157.9996667,       4752,    73.9,  23.7258,  35.3415,2,-999.0000,9,    224.4,2,  -999.0,5, -999.00,9, -999.00,9,  -999.0,      74,    23.7103, -999.00,9,     -999.0
33KB20110829,       PRS2,       2,          1,          1,       8001,2,20110830,       1551,  22.667833,-157.9996667,       4752,    23.2,  25.8141,  35.2529,2,-999.0000,9,    224.3,2,   206.5,4, -999.00,9, -999.00,9,  -999.0,      24,    25.8089, -999.00,9,     -999.0
33KB20110829,       PRS2,       2,          2,         24,       8024,2,20110830,       1750,  22.751000,-158.0003333,       4742,     5.5,  25.7961,  35.2492,2,-999.0000,5,    208.0,1,  -999.0,9, -999.00,9, -999.00,9,  -999.0,       5,    25.7949, -999.00,9,     -999.0
33KB20110829,       PRS2,       2,          2,         23,       8023,2,20110830,       1750,  22.751000,-158.0003333,       4742,     5.2,  25.7964,  35.2492,2,-999.0000,5,    207.9,1,  -999.0,9, -999.00,9, -999.00,9,  -999.0,       6,    25.7952, -999.00,9,     -999.0
33KB20110829,       PRS2,       2,          2,         22,       8022,2,20110830,       1750,  22.751000,-158.0003333,       4742,     4.8,  25.7963,  35.2492,2,  35.2475,2,    207.8,1,  -999.0,9, -999.00,9, -999.00,9,  -999.0,       6,    25.7952, -999.00,9,     -999.0
33KB20110829,       PRS2,       2,          2,         21,       8021,2,20110830,       1750,  22.751000,-158.0003333,       4742,    23.8,  25.7900,  35.2480,2,-999.0000,5,    207.6,1,  -999.0,9, -999.00,9, -999.00,9,  -999.0,      23,    25.7848, -999.00,9,     -999.0
33KB20110829,       PRS2,       2,          2,         20,       8020,2,20110830,       1750,  22.751000,-158.0003333,       4742,    24.1,  25.7901,  35.2479,2,-999.0000,5,    207.5,1,  -999.0,9, -999.00,9, -999.00,9,  -999.0,      24,    25.7848, -999.00,9,     -999.0
33KB20110829,       PRS2,       2,          2,         19,       8019,2,20110830,       1750,  22.751000,-158.0003333,       4742,    24.2,  25.7901,  35.2479,2,-999.0000,5,    207.4,1,  -999.0,9, -999.00,9, -999.00,9,  -999.0,      24,    25.7847, -999.00,9,     -999.0
33KB20110829,       PRS2,       2,          2,         18,       8018,2,20110830,       1750,  22.751000,-158.0003333,       4742,    24.6,  25.7898,  35.2476,2,-999.0000,5,    207.3,1,  -999.0,9, -999.00,9, -999.00,9,  -999.0,      24,    25.7843, -999.00,9,     -999.0
33KB20110829,       PRS2,       2,          2,         17,       8017,2,20110830,       1750,  22.751000,-158.0003333,       4742,    24.9,  25.7871,  35.2478,2,  35.2469,2,    207.3,1,  -999.0,9, -999.00,9, -999.00,9,  -999.0,      24,    25.7816, -999.00,9,     -999.0
33KB20110829,       PRS2,       2,          2,         16,       8016,2,20110830,       1750,  22.751000,-158.0003333,       4742,    44.3,  25.7469,  35.2458,2,-999.0000,5,    208.0,1,  -999.0,9, -999.00,9, -999.00,9,  -999.0,      44,    25.7371, -999.00,9,     -999.0
33KB20110829,       PRS2,       2,          2,         15,       8015,2,20110830,       1750,  22.751000,-158.0003333,       4742,    44.4,  25.7639,  35.2469,2,-999.0000,5,    208.0,1,  -999.0,9, -999.00,9, -999.00,9,  -999.0,      44,    25.7540, -999.00,9,     -999.0
33KB20110829,       PRS2,       2,          2,         14,       8014,2,20110830,       1750,  22.751000,-158.0003333,       4742,    44.5,  25.7681,  35.2468,2,-999.0000,5,    208.1,1,  -999.0,9, -999.00,9, -999.00,9,  -999.0,      44,    25.7582, -999.00,9,     -999.0
33KB20110829,       PRS2,       2,          2,         13,       8025,2,20110830,       1750,  22.751000,-158.0003333,       4742,    44.8,  25.7658,  35.2467,2,  35.2475,2,    208.4,1,  -999.0,9, -999.00,9, -999.00,9,  -999.0,      45,    25.7559, -999.00,9,     -999.0
33KB20110829,       PRS2,       2,          2,         12,       8012,2,20110830,       1750,  22.751000,-158.0003333,       4742,    74.4,  24.3101,  35.3387,2,-999.0000,5,    221.9,1,  -999.0,9, -999.00,9, -999.00,9,  -999.0,      74,    24.2943, -999.00,9,     -999.0
33KB20110829,       PRS2,       2,          2,         11,       8011,2,20110830,       1750,  22.751000,-158.0003333,       4742,    74.5,  24.3306,  35.3380,2,  35.3401,2,    222.0,1,  -999.0,9, -999.00,9, -999.00,9,  -999.0,      74,    24.3148, -999.00,9,     -999.0
33KB20110829,       PRS2,       2,          2,         10,       8010,2,20110830,       1750,  22.751000,-158.0003333,       4742,    99.6,  22.9955,  35.3354,2,-999.0000,5,    221.3,1,  -999.0,9, -999.00,9, -999.00,9,  -999.0,      99,    22.9751, -999.00,9,     -999.0
33KB20110829,       PRS2,       2,          2,          9,       8009,2,20110830,       1750,  22.751000,-158.0003333,       4742,   100.0,  22.9886,  35.3352,2,  35.3364,2,    221.0,1,  -999.0,9, -999.00,9, -999.00,9,  -999.0,     100,    22.9682, -999.00,9,     -999.0
33KB20110829,       PRS2,       2,          2,          8,       8008,2,20110830,       1750,  22.751000,-158.0003333,       4742,   123.8,  21.7922,  35.2780,2,-999.0000,5,    202.5,1,  -999.0,9, -999.00,9, -999.00,9,  -999.0,     124,    21.7679, -999.00,9,     -999.0
33KB20110829,       PRS2,       2,          2,          7,       8026,2,20110830,       1750,  22.751000,-158.0003333,       4742,   124.1,  21.7788,  35.2770,2,  35.2710,2,    202.4,1,  -999.0,9, -999.00,9, -999.00,9,  -999.0,     124,    21.7544, -999.00,9,     -999.0
33KB20110829,       PRS2,       2,          2,          6,       8006,2,20110830,       1750,  22.751000,-158.0003333,       4742,   149.2,  20.7753,  35.2134,2,-999.0000,5,    210.9,1,  -999.0,9, -999.00,9, -999.00,9,  -999.0,     149,    20.7470, -999.00,9,     -999.0
33KB20110829,       PRS2,       2,          2,          5,       8005,2,20110830,       1750,  22.751000,-158.0003333,       4742,   149.7,  20.7370,  35.2040,2,  35.1951,2,    210.1,1,  -999.0,9, -999.00,9, -999.00,9,  -999.0,     149,    20.7086, -999.00,9,     -999.0
33KB20110829,       PRS2,       2,          2,          4,       8004,2,20110830,       1750,  22.751000,-158.0003333,       4742,   174.3,  19.0337,  35.0208,2,-999.0000,5,    195.8,1,  -999.0,9, -999.00,9, -999.00,9,  -999.0,     174,    19.0025, -999.00,9,     -999.0
33KB20110829,       PRS2,       2,          2,          3,       8003,2,20110830,       1750,  22.751000,-158.0003333,       4742,   174.4,  19.0238,  35.0198,2,  35.0205,2,    195.8,1,  -999.0,9, -999.00,9, -999.00,9,  -999.0,     174,    18.9927, -999.00,9,     -999.0
33KB20110829,       PRS2,       2,          2,          2,       8002,2,20110830,       1750,  22.751000,-158.0003333,       4742,   508.8,   7.3224,  34.0320,2,  34.0345,2,    120.8,1,  -999.0,9, -999.00,9, -999.00,9,  -999.0,     509,     7.2732, -999.00,9,     -999.0
33KB20110829,       PRS2,       2,          2,          1,       8001,2,20110830,       1750,  22.751000,-158.0003333,       4742,  1019.1,   3.9390,  34.4934,2,  34.4928,2,     47.9,1,  -999.0,9, -999.00,9, -999.00,9,  -999.0,    1019,     3.8623, -999.00,9,     -999.0
33KB20110829,       PRS2,       2,          3,         19,       8019,2,20110830,       2111,  22.740833,-157.9823333,       4743,    25.3,  25.8052,  35.2571,2,  35.2572,2,    207.4,1,  -999.0,9, -999.00,9, -999.00,9,  -999.0,      24,    25.7996, -999.00,9,     -999.0
33KB20110829,       PRS2,       2,          3,         18,       8018,2,20110830,       2111,  22.740833,-157.9823333,       4743,   101.3,  22.3832,  35.3394,2,-999.0000,5,    215.1,1,  -999.0,9, -999.00,9, -999.00,9,  -999.0,     101,    22.3629, -999.00,9,     -999.0
33KB20110829,       PRS2,       2,          3,         17,       8017,2,20110830,       2111,  22.740833,-157.9823333,       4743,   125.2,  20.9326,  35.2373,2,-999.0000,5,    199.3,1,  -999.0,9, -999.00,9, -999.00,9,  -999.0,     125,    20.9087, -999.00,9,     -999.0
33KB20110829,       PRS2,       2,          3,         16,       8016,2,20110830,       2111,  22.740833,-157.9823333,       4743,   125.1,  20.9323,  35.2362,2,-999.0000,5,    199.4,1,  -999.0,9, -999.00,9, -999.00,9,  -999.0,     125,    20.9084, -999.00,9,     -999.0
33KB20110829,       PRS2,       2,          3,         15,       8015,2,20110830,       2111,  22.740833,-157.9823333,       4743,   125.2,  20.9320,  35.2362,2,-999.0000,5,    199.6,1,  -999.0,9, -999.00,9, -999.00,9,  -999.0,     124,    20.9081, -999.00,9,     -999.0
33KB20110829,       PRS2,       2,          3,         14,       8014,2,20110830,       2111,  22.740833,-157.9823333,       4743,   125.0,  20.9278,  35.2337,2,-999.0000,5,    199.8,1,  -999.0,9, -999.00,9, -999.00,9,  -999.0,     125,    20.9039, -999.00,9,     -999.0
33KB20110829,       PRS2,       2,          3,         13,       8025,2,20110830,       2111,  22.740833,-157.9823333,       4743,   124.9,  20.9282,  35.2340,2,-999.0000,5,    199.9,1,  -999.0,9, -999.00,9, -999.00,9,  -999.0,     125,    20.9043, -999.00,9,     -999.0
33KB20110829,       PRS2,       2,          3,         12,       8012,2,20110830,       2111,  22.740833,-157.9823333,       4743,   199.7,  17.3436,  34.7916,2,-999.0000,5,    199.6,1,  -999.0,9, -999.00,9, -999.00,9,  -999.0,     200,    17.3103, -999.00,9,     -999.0
33KB20110829,       PRS2,       2,          3,         11,       8011,2,20110830,       2111,  22.740833,-157.9823333,       4743,   199.7,  17.3472,  34.7929,2,-999.0000,5,    199.7,1,  -999.0,9, -999.00,9, -999.00,9,  -999.0,     200,    17.3138, -999.00,9,     -999.0
33KB20110829,       PRS2,       2,          3,         10,       8010,2,20110830,       2111,  22.740833,-157.9823333,       4743,   199.8,  17.3444,  34.7926,2,-999.0000,5,    199.9,1,  -999.0,9, -999.00,9, -999.00,9,  -999.0,     198,    17.3110, -999.00,9,     -999.0
33KB20110829,       PRS2,       2,          3,          9,       8009,2,20110830,       2111,  22.740833,-157.9823333,       4743,   199.8,  17.3365,  34.7907,2,-999.0000,5,    200.3,1,  -999.0,9, -999.00,9, -999.00,9,  -999.0,     199,    17.3032, -999.00,9,     -999.0
33KB20110829,       PRS2,       2,          3,          8,       8008,2,20110830,       2111,  22.740833,-157.9823333,       4743,   199.8,  17.3374,  34.7909,2,-999.0000,5,    200.6,1,  -999.0,9, -999.00,9, -999.00,9,  -999.0,     200,    17.3040, -999.00,9,     -999.0
33KB20110829,       PRS2,       2,          3,          7,       8026,2,20110830,       2111,  22.740833,-157.9823333,       4743,   484.0,   7.3854,  34.0281,2,  34.0307,2,    124.2,1,  -999.0,9, -999.00,9, -999.00,9,  -999.0,     484,     7.3384, -999.00,9,     -999.0
33KB20110829,       PRS2,       2,          3,          6,       8006,2,20110830,       2111,  22.740833,-157.9823333,       4743,  1020.0,   3.8636,  34.4914,2,-999.0000,5,     48.2,1,  -999.0,9, -999.00,9, -999.00,9,  -999.0,    1020,     3.7874, -999.00,9,     -999.0
33KB20110829,       PRS2,       2,          3,          5,       8005,2,20110830,       2111,  22.740833,-157.9823333,       4743,  1019.8,   3.8654,  34.4915,2,-999.0000,5,     48.2,1,  -999.0,9, -999.00,9, -999.00,9,  -999.0,    1020,     3.7892, -999.00,9,     -999.0
33KB20110829,       PRS2,       2,          3,          4,       8004,2,20110830,       2111,  22.740833,-157.9823333,       4743,  1019.6,   3.8687,  34.4910,2,-999.0000,5,     48.1,1,  -999.0,9, -999.00,9, -999.00,9,  -999.0,    1020,     3.7925, -999.00,9,     -999.0
33KB20110829,       PRS2,       2,          3,          3,       8003,2,20110830,       2111,  22.740833,-157.9823333,       4743,  1019.6,   3.8704,  34.4920,2,-999.0000,5,     48.1,1,  -999.0,9, -999.00,9, -999.00,9,  -999.0,    1020,     3.7941, -999.00,9,     -999.0
33KB20110829,       PRS2,       2,          3,          2,       8002,2,20110830,       2111,  22.740833,-157.9823333,       4743,  1019.3,   3.8723,  34.4926,2,-999.0000,5,     47.8,1,  -999.0,9, -999.00,9, -999.00,9,  -999.0,    1019,     3.7960, -999.00,9,     -999.0
33KB20110829,       PRS2,       2,          3,          1,       8001,2,20110830,       2111,  22.740833,-157.9823333,       4743,  1019.3,   3.8727,  34.4924,2,  34.4944,2,     47.8,1,  -999.0,9, -999.00,9, -999.00,9,  -999.0,    1019,     3.7964, -999.00,9,     -999.0