BOTTLE,20141031SIOCCHAMB
EXPOCODE,SECT_ID,STNNBR,CASTNO,SAMPNO,BTLNBR,BTLNBR_FLAG_W,DATE,TIME,LATITUDE,LONGITUDE,DEPTH,CTDPRS,CTDTMP,CTDSAL,CTDSAL_FLAG_W,SALNTY,SALNTY_FLAG_W,CTDOXY,CTDOXY_FLAG_W,OXYGEN,OXYGEN_FLAG_W,SILCAT,SILCAT_FLAG_W,PHSPHT,PHSPHT_FLAG_W,REVPRS,CTDRAW,THETA,NO2+NO3,NO2+NO3_FLAG_W,REVTMP
,,,,,,,,,,,METERS,DBAR,ITS-90,PSS-78,,PSS-78,,UMOL/KG,,UMOL/KG,,UMOL/KG,,UMOL/KG,,DBAR,DBAR,ITS-90,UMOL/KG,,DEG C
33KB20110829,       PRS2,       2,          4,         24,       8024,2,20110830,       2353,  22.710167,-157.9256667,       4742,     5.5,  26.0667,  35.2360,2,  35.2365,2,    208.3,2,  -999.0,5, -999.00,5, -999.00,5,  -999.0,       5,    26.0655, -999.00,5,     -999.0
33KB20110829,       PRS2,       2,          4,         23,       8023,2,20110830,       2353,  22.710167,-157.9256667,       4742,     5.7,  26.0682,  35.2361,2,  35.2361,2,    208.3,2,   209.1,2,    0.89,2,    0.02,2,  -999.0,       5,    26.0669,    0.04,2,     -999.0
33KB20110829,       PRS2,       2,          4,         22,       8022,2,20110830,       2353,  22.710167,-157.9256667,       4742,    15.2,  25.9469,  35.2364,2,  35.2357,2,    207.9,2,  -999.0,5,    0.88,2,    0.03,2,  -999.0,      15,    25.9435,    0.05,2,     -999.0
33KB20110829,       PRS2,       2,          4,         21,       8021,2,20110830,       2353,  22.710167,-157.9256667,       4742,    24.3,  25.8645,  35.2380,2,-999.0000,5,    207.1,2,  -999.0,5, -999.00,5, -999.00,5,  -999.0,      24,    25.8591, -999.00,5,     -999.0
33KB20110829,       PRS2,       2,          4,         20,       8020,2,20110830,       2353,  22.710167,-157.9256667,       4742,    24.5,  25.8642,  35.2381,2,  35.2385,2,    207.2,2,  -999.0,5, -999.00,5, -999.00,5,  -999.0,      24,    25.8588, -999.00,5,     -999.0
33KB20110829,       PRS2,       2,          4,         19,       8019,2,20110830,       2353,  22.710167,-157.9256667,       4742,    24.6,  25.8639,  35.2381,2,  35.2442,2,    207.1,2,   207.7,2,    0.89,2,    0.02,2,  -999.0,      24,    25.8584,    0.04,2,     -999.0
33KB20110829,       PRS2,       2,          4,         18,       8018,2,20110830,       2353,  22.710167,-157.9256667,       4742,    34.6,  25.8106,  35.2534,2,-999.0000,5,    209.2,2,  -999.0,5,    0.85,2,    0.02,2,  -999.0,      34,    25.8029,    0.04,2,     -999.0
33KB20110829,       PRS2,       2,          4,         17,       8017,2,20110830,       2353,  22.710167,-157.9256667,       4742,    44.6,  25.5298,  35.2905,2,  35.2901,2,    210.1,2,   210.8,2,    0.94,2,    0.02,2,  -999.0,      44,    25.5200,    0.04,2,     -999.0
33KB20110829,       PRS2,       2,          4,         16,       8016,2,20110830,       2353,  22.710167,-157.9256667,       4742,    60.0,  24.9635,  35.2959,2,-999.0000,5,    216.5,2,  -999.0,5,    2.20,3,    0.03,2,  -999.0,      60,    24.9505,    0.04,2,     -999.0
33KB20110829,       PRS2,       2,          4,         15,       8015,2,20110830,       2353,  22.710167,-157.9256667,       4742,    74.9,  23.6800,  35.3718,2,  35.3654,2,    221.4,2,   221.4,2,    1.13,2,    0.03,2,  -999.0,      75,    23.6643,    0.04,2,     -999.0
33KB20110829,       PRS2,       2,          4,         14,       8014,2,20110830,       2353,  22.710167,-157.9256667,       4742,    84.8,  23.1268,  35.3458,2,  35.3535,2,    219.4,2,   218.6,2, -999.00,5, -999.00,5,  -999.0,      85,    23.1094, -999.00,5,     -999.0
33KB20110829,       PRS2,       2,          4,         13,       8025,2,20110830,       2353,  22.710167,-157.9256667,       4742,    90.2,  22.7685,  35.3780,2,-999.0000,5,    215.8,2,  -999.0,5, -999.00,5, -999.00,5,  -999.0,      90,    22.7502, -999.00,5,     -999.0
33KB20110829,       PRS2,       2,          4,         12,       8012,2,20110830,       2353,  22.710167,-157.9256667,       4742,    99.8,  22.1634,  35.3213,2,  35.3033,3,    209.6,3,   210.5,2,    1.42,2,    0.10,2,  -999.0,     100,    22.1436,    0.15,2,     -999.0
33KB20110829,       PRS2,       2,          4,         11,       8011,2,20110830,       2353,  22.710167,-157.9256667,       4742,   109.9,  21.7905,  35.3256,2,-999.0000,5,    202.6,2,  -999.0,5, -999.00,5, -999.00,5,  -999.0,     110,    21.7689, -999.00,5,     -999.0
33KB20110829,       PRS2,       2,          4,         10,       8010,2,20110830,       2353,  22.710167,-157.9256667,       4742,   114.6,  21.7389,  35.3631,2,  35.3589,2,    205.4,2,   207.9,2, -999.00,5, -999.00,5,  -999.0,     114,    21.7164, -999.00,5,     -999.0
33KB20110829,       PRS2,       2,          4,          9,       8009,2,20110830,       2353,  22.710167,-157.9256667,       4742,   124.7,  21.3566,  35.3268,2,  35.3224,2,    204.9,2,   204.3,2,    1.47,2,    0.10,2,  -999.0,     124,    21.3325,    0.45,2,     -999.0
33KB20110829,       PRS2,       2,          4,          8,       8008,2,20110830,       2353,  22.710167,-157.9256667,       4742,   129.5,  21.1597,  35.3063,2,-999.0000,5,    198.7,2,  -999.0,5, -999.00,5, -999.00,5,  -999.0,     129,    21.1348, -999.00,5,     -999.0
33KB20110829,       PRS2,       2,          4,          7,       8026,2,20110830,       2353,  22.710167,-157.9256667,       4742,   149.4,  20.0292,  35.1588,2,  35.1496,2,    199.1,2,   198.1,2,    1.94,2,    0.16,2,  -999.0,     149,    20.0015,    1.39,2,     -999.0
33KB20110829,       PRS2,       2,          4,          6,       8006,2,20110830,       2353,  22.710167,-157.9256667,       4742,   164.8,  19.4649,  35.0817,2,  35.0604,3,    197.0,3,   197.1,2, -999.00,5, -999.00,5,  -999.0,     165,    19.4350, -999.00,5,     -999.0
33KB20110829,       PRS2,       2,          4,          5,       8005,2,20110830,       2353,  22.710167,-157.9256667,       4742,   173.7,  19.0502,  35.0248,2,  35.0071,2,    197.1,2,   197.2,2,    2.49,2,    0.22,2,  -999.0,     174,    19.0192,    2.40,2,     -999.0
33KB20110829,       PRS2,       2,          4,          4,       8004,2,20110830,       2353,  22.710167,-157.9256667,       4742,   200.7,  17.6361,  34.8331,2,  34.8086,4,    199.7,3,   199.3,2,    3.47,2,    0.29,2,  -999.0,     200,    17.6022,    3.53,2,     -999.0
33KB20110829,       PRS2,       2,          4,          3,       8003,2,20110830,       2353,  22.710167,-157.9256667,       4742,   484.9,   7.3844,  34.0271,2,  34.0278,2,    126.3,2,   125.7,2, -999.00,5, -999.00,5,  -999.0,     485,     7.3374, -999.00,5,     -999.0
33KB20110829,       PRS2,       2,          4,          2,       8002,2,20110830,       2353,  22.710167,-157.9256667,       4742,   749.1,   4.6609,  34.2752,2,  34.2768,2,     27.4,2,    27.3,2, -999.00,5, -999.00,5,  -999.0,     749,     4.6021, -999.00,5,     -999.0
33KB20110829,       PRS2,       2,          4,          1,       8001,2,20110830,       2353,  22.710167,-157.9256667,       4742,  1018.5,   3.9485,  34.4937,2,  34.4946,2,     48.4,2,    48.1,2, -999.00,5, -999.00,5,  -999.0,    1018,     3.8717, -999.00,5,     -999.0
33KB20110829,       PRS2,       2,          5,         23,       8023,2,20110831,       0256,  22.750000,-158.0000000,       4743,     6.0,  26.0177,  35.2789,2,  35.2790,2,    207.7,1,  -999.0,9, -999.00,9, -999.00,9,  -999.0,       5,    26.0164, -999.00,9,     -999.0
33KB20110829,       PRS2,       2,          5,         22,       8022,2,20110831,       0256,  22.750000,-158.0000000,       4743,    25.4,  25.8637,  35.2796,2,  35.2808,2,    208.0,1,  -999.0,9, -999.00,9, -999.00,9,  -999.0,      25,    25.8581, -999.00,9,     -999.0
33KB20110829,       PRS2,       2,          5,         21,       8021,2,20110831,       0256,  22.750000,-158.0000000,       4743,    45.1,  25.8340,  35.2772,2,  35.2857,2,    207.5,1,  -999.0,9, -999.00,9, -999.00,9,  -999.0,      45,    25.8240, -999.00,9,     -999.0
33KB20110829,       PRS2,       2,          5,         20,       8020,2,20110831,       0256,  22.750000,-158.0000000,       4743,    74.6,  24.6291,  35.3213,2,  35.3238,2,    221.4,1,  -999.0,9, -999.00,9, -999.00,9,  -999.0,      74,    24.6131, -999.00,9,     -999.0
33KB20110829,       PRS2,       2,          5,         19,       8019,2,20110831,       0256,  22.750000,-158.0000000,       4743,    99.8,  23.1095,  35.3507,2,  35.3482,2,    219.2,1,  -999.0,9, -999.00,9, -999.00,9,  -999.0,      99,    23.0890, -999.00,9,     -999.0
33KB20110829,       PRS2,       2,          5,         18,       8018,2,20110831,       0256,  22.750000,-158.0000000,       4743,   124.4,  21.9900,  35.2946,2,  35.2895,2,    207.7,1,  -999.0,9, -999.00,9, -999.00,9,  -999.0,     124,    21.9654, -999.00,9,     -999.0
33KB20110829,       PRS2,       2,          5,         17,       8017,2,20110831,       0256,  22.750000,-158.0000000,       4743,   149.6,  21.2147,  35.2111,2,  35.2000,2,    200.4,1,  -999.0,9, -999.00,9, -999.00,9,  -999.0,     149,    21.1858, -999.00,9,     -999.0
33KB20110829,       PRS2,       2,          5,         16,       8016,2,20110831,       0256,  22.750000,-158.0000000,       4743,   199.7,  19.1214,  35.0347,2,-999.0000,5,    196.3,1,  -999.0,9, -999.00,9, -999.00,9,  -999.0,     199,    19.0856, -999.00,9,     -999.0
33KB20110829,       PRS2,       2,          5,         15,       8015,2,20110831,       0256,  22.750000,-158.0000000,       4743,   199.8,  19.1200,  35.0349,2,  35.0303,2,    196.1,1,  -999.0,9, -999.00,9, -999.00,9,  -999.0,     200,    19.0842, -999.00,9,     -999.0
33KB20110829,       PRS2,       2,          5,         14,       8014,2,20110831,       0256,  22.750000,-158.0000000,       4743,   249.4,  16.2436,  34.6232,2,  34.6160,2,    196.9,1,  -999.0,9, -999.00,9, -999.00,9,  -999.0,     249,    16.2038, -999.00,9,     -999.0
33KB20110829,       PRS2,       2,          5,         13,       8025,2,20110831,       0256,  22.750000,-158.0000000,       4743,   299.3,  13.9606,  34.3747,2,-999.0000,5,    206.5,1,  -999.0,9, -999.00,9, -999.00,9,  -999.0,     299,    13.9176, -999.00,9,     -999.0
33KB20110829,       PRS2,       2,          5,         12,       8012,2,20110831,       0256,  22.750000,-158.0000000,       4743,   299.5,  13.9593,  34.3749,2,  34.3711,2,    206.5,1,  -999.0,9, -999.00,9, -999.00,9,  -999.0,     299,    13.9162, -999.00,9,     -999.0
33KB20110829,       PRS2,       2,          5,         11,       8011,2,20110831,       0256,  22.750000,-158.0000000,       4743,   349.5,  11.6614,  34.2034,2,  34.1989,2,    200.5,1,  -999.0,9, -999.00,9, -999.00,9,  -999.0,     349,    11.6167, -999.00,9,     -999.0
33KB20110829,       PRS2,       2,          5,         10,       8010,2,20110831,       0256,  22.750000,-158.0000000,       4743,   399.7,  10.1918,  34.1287,2,  34.1301,2,    190.7,1,  -999.0,9, -999.00,9, -999.00,9,  -999.0,     399,    10.1449, -999.00,9,     -999.0
33KB20110829,       PRS2,       2,          5,          9,       8009,2,20110831,       0256,  22.750000,-158.0000000,       4743,   484.9,   7.8684,  34.0366,2,  34.0358,2,    139.8,1,  -999.0,9, -999.00,9, -999.00,9,  -999.0,     485,     7.8196, -999.00,9,     -999.0
33KB20110829,       PRS2,       2,          5,          8,       8008,2,20110831,       0256,  22.750000,-158.0000000,       4743,   500.1,   7.4684,  34.0295,2,-999.0000,5,    120.0,1,  -999.0,9, -999.00,9, -999.00,9,  -999.0,     500,     7.4195, -999.00,9,     -999.0
33KB20110829,       PRS2,       2,          5,          7,       8026,2,20110831,       0256,  22.750000,-158.0000000,       4743,   500.2,   7.4466,  34.0290,2,-999.0000,5,    119.5,1,  -999.0,9, -999.00,9, -999.00,9,  -999.0,     500,     7.3978, -999.00,9,     -999.0
33KB20110829,       PRS2,       2,          5,          6,       8006,2,20110831,       0256,  22.750000,-158.0000000,       4743,   599.8,   5.4365,  34.0704,2,  34.0719,2,     60.6,1,  -999.0,9, -999.00,9, -999.00,9,  -999.0,     599,     5.3867, -999.00,9,     -999.0
33KB20110829,       PRS2,       2,          5,          5,       8005,2,20110831,       0256,  22.750000,-158.0000000,       4743,   700.0,   4.9506,  34.2405,2,  34.2411,2,     32.8,1,  -999.0,9, -999.00,9, -999.00,9,  -999.0,     700,     4.8944, -999.00,9,     -999.0
33KB20110829,       PRS2,       2,          5,          4,       8004,2,20110831,       0256,  22.750000,-158.0000000,       4743,   769.9,   4.6748,  34.3361,2,-999.0000,5,     29.9,1,  -999.0,9, -999.00,9, -999.00,9,  -999.0,     770,     4.6140, -999.00,9,     -999.0
33KB20110829,       PRS2,       2,          5,          3,       8003,2,20110831,       0256,  22.750000,-158.0000000,       4743,   799.6,   4.5017,  34.3666,2,  34.3670,2,     31.6,1,  -999.0,9, -999.00,9, -999.00,9,  -999.0,     799,     4.4394, -999.00,9,     -999.0
33KB20110829,       PRS2,       2,          5,          2,       8002,2,20110831,       0256,  22.750000,-158.0000000,       4743,   899.7,   4.2745,  34.4515,2,  34.4522,2,     42.3,1,  -999.0,9, -999.00,9, -999.00,9,  -999.0,     900,     4.2053, -999.00,9,     -999.0
33KB20110829,       PRS2,       2,          5,          1,       8001,2,20110831,       0256,  22.750000,-158.0000000,       4743,  1020.1,   3.8732,  34.4945,2,-999.0000,5,     47.9,1,  -999.0,9, -999.00,9, -999.00,9,  -999.0,    1020,     3.7968, -999.00,9,     -999.0
33KB20110829,       PRS2,       2,          6,         23,       8023,2,20110831,       0552,  22.732333,-157.9918333,       4742,     6.0,  25.9545,  35.2696,2,-999.0000,5,    207.8,1,  -999.0,9, -999.00,9, -999.00,9,  -999.0,       6,    25.9532, -999.00,9,     -999.0
33KB20110829,       PRS2,       2,          6,         22,       8022,2,20110831,       0552,  22.732333,-157.9918333,       4742,     6.0,  25.9540,  35.2699,2,  35.2708,2,    207.7,1,  -999.0,9, -999.00,9, -999.00,9,  -999.0,       5,    25.9526, -999.00,9,     -999.0
33KB20110829,       PRS2,       2,          6,         21,       8021,2,20110831,       0552,  22.732333,-157.9918333,       4742,    24.2,  25.9554,  35.2676,2,-999.0000,5,    207.5,1,  -999.0,9, -999.00,9, -999.00,9,  -999.0,      24,    25.9500, -999.00,9,     -999.0
33KB20110829,       PRS2,       2,          6,         20,       8020,2,20110831,       0552,  22.732333,-157.9918333,       4742,    24.1,  25.9537,  35.2675,2,-999.0000,5,    207.2,1,  -999.0,9, -999.00,9, -999.00,9,  -999.0,      24,    25.9483, -999.00,9,     -999.0
33KB20110829,       PRS2,       2,          6,         19,       8019,2,20110831,       0552,  22.732333,-157.9918333,       4742,    24.2,  25.9513,  35.2671,2,  35.2660,2,    206.9,1,  -999.0,9, -999.00,9, -999.00,9,  -999.0,      24,    25.9460, -999.00,9,     -999.0
33KB20110829,       PRS2,       2,          6,         18,       8018,2,20110831,       0552,  22.732333,-157.9918333,       4742,    44.4,  25.8380,  35.2695,2,-999.0000,5,    207.7,1,  -999.0,9, -999.00,9, -999.00,9,  -999.0,      44,    25.8281, -999.00,9,     -999.0
33KB20110829,       PRS2,       2,          6,         17,       8017,2,20110831,       0552,  22.732333,-157.9918333,       4742,    44.5,  25.8384,  35.2700,2,  35.2696,2,    208.3,1,  -999.0,9, -999.00,9, -999.00,9,  -999.0,      44,    25.8285, -999.00,9,     -999.0
33KB20110829,       PRS2,       2,          6,         16,       8016,2,20110831,       0552,  22.732333,-157.9918333,       4742,    59.6,  25.4585,  35.2453,2,  35.2542,2,    210.8,1,  -999.0,9, -999.00,9, -999.00,9,  -999.0,      59,    25.4454, -999.00,9,     -999.0
33KB20110829,       PRS2,       2,          6,         15,       8015,2,20110831,       0552,  22.732333,-157.9918333,       4742,    74.7,  24.8383,  35.3157,2,-999.0000,5,    217.2,1,  -999.0,9, -999.00,9, -999.00,9,  -999.0,      74,    24.8222, -999.00,9,     -999.0
33KB20110829,       PRS2,       2,          6,         14,       8014,2,20110831,       0552,  22.732333,-157.9918333,       4742,    74.8,  24.8212,  35.3160,2,  35.3226,2,    217.6,1,  -999.0,9, -999.00,9, -999.00,9,  -999.0,      75,    24.8050, -999.00,9,     -999.0
33KB20110829,       PRS2,       2,          6,         13,       8025,2,20110831,       0552,  22.732333,-157.9918333,       4742,    84.4,  23.7388,  35.3471,2,  35.3441,2,    223.1,1,  -999.0,9, -999.00,9, -999.00,9,  -999.0,      84,    23.7212, -999.00,9,     -999.0
33KB20110829,       PRS2,       2,          6,         12,       8012,2,20110831,       0552,  22.732333,-157.9918333,       4742,    99.5,  22.6046,  35.3253,2,-999.0000,5,    215.5,1,  -999.0,9, -999.00,9, -999.00,9,  -999.0,      99,    22.5845, -999.00,9,     -999.0
33KB20110829,       PRS2,       2,          6,         11,       8011,2,20110831,       0552,  22.732333,-157.9918333,       4742,    99.7,  22.6038,  35.3253,2,  35.3261,2,    215.4,1,  -999.0,9, -999.00,9, -999.00,9,  -999.0,      99,    22.5837, -999.00,9,     -999.0
33KB20110829,       PRS2,       2,          6,         10,       8010,2,20110831,       0552,  22.732333,-157.9918333,       4742,   114.5,  21.7078,  35.2790,2,  35.2639,3,    201.1,1,  -999.0,9, -999.00,9, -999.00,9,  -999.0,     114,    21.6854, -999.00,9,     -999.0
33KB20110829,       PRS2,       2,          6,          9,       8009,2,20110831,       0552,  22.732333,-157.9918333,       4742,   123.7,  21.3215,  35.2298,2,-999.0000,5,    199.8,1,  -999.0,9, -999.00,9, -999.00,9,  -999.0,     123,    21.2975, -999.00,9,     -999.0
33KB20110829,       PRS2,       2,          6,          8,       8008,2,20110831,       0552,  22.732333,-157.9918333,       4742,   123.8,  21.3133,  35.2292,2,  35.2243,2,    199.8,1,  -999.0,9, -999.00,9, -999.00,9,  -999.0,     124,    21.2894, -999.00,9,     -999.0
33KB20110829,       PRS2,       2,          6,          7,       8026,2,20110831,       0552,  22.732333,-157.9918333,       4742,   134.5,  21.0330,  35.1994,2,  35.1961,2,    199.0,1,  -999.0,9, -999.00,9, -999.00,9,  -999.0,     134,    21.0072, -999.00,9,     -999.0
33KB20110829,       PRS2,       2,          6,          6,       8006,2,20110831,       0552,  22.732333,-157.9918333,       4742,   149.6,  20.5892,  35.1682,2,-999.0000,5,    195.8,1,  -999.0,9, -999.00,9, -999.00,9,  -999.0,     149,    20.5610, -999.00,9,     -999.0
33KB20110829,       PRS2,       2,          6,          5,       8005,2,20110831,       0552,  22.732333,-157.9918333,       4742,   149.7,  20.5831,  35.1684,2,  35.1764,2,    195.8,1,  -999.0,9, -999.00,9, -999.00,9,  -999.0,     150,    20.5548, -999.00,9,     -999.0
33KB20110829,       PRS2,       2,          6,          4,       8004,2,20110831,       0552,  22.732333,-157.9918333,       4742,   174.5,  19.5570,  35.0887,2,-999.0000,5,    195.6,1,  -999.0,9, -999.00,9, -999.00,9,  -999.0,     174,    19.5253, -999.00,9,     -999.0
33KB20110829,       PRS2,       2,          6,          3,       8003,2,20110831,       0552,  22.732333,-157.9918333,       4742,   174.6,  19.5567,  35.0885,2,  35.0547,3,    195.1,1,  -999.0,9, -999.00,9, -999.00,9,  -999.0,     174,    19.5249, -999.00,9,     -999.0
33KB20110829,       PRS2,       2,          6,          2,       8002,2,20110831,       0552,  22.732333,-157.9918333,       4742,   494.2,   7.2259,  34.0258,2,  34.0290,2,    117.4,1,  -999.0,9, -999.00,9, -999.00,9,  -999.0,     494,     7.1785, -999.00,9,     -999.0
33KB20110829,       PRS2,       2,          6,          1,       8001,2,20110831,       0552,  22.732333,-157.9918333,       4742,  1020.0,   3.9846,  34.4851,2,  34.4877,2,     46.4,1,  -999.0,9, -999.00,9, -999.00,9,  -999.0,    1020,     3.9074, -999.00,9,     -999.0