BOTTLE,20141031SIOCCHAMB
EXPOCODE,SECT_ID,STNNBR,CASTNO,SAMPNO,BTLNBR,BTLNBR_FLAG_W,DATE,TIME,LATITUDE,LONGITUDE,DEPTH,CTDPRS,CTDTMP,CTDSAL,CTDSAL_FLAG_W,SALNTY,SALNTY_FLAG_W,CTDOXY,CTDOXY_FLAG_W,OXYGEN,OXYGEN_FLAG_W,SILCAT,SILCAT_FLAG_W,PHSPHT,PHSPHT_FLAG_W,REVPRS,CTDRAW,THETA,NO2+NO3,NO2+NO3_FLAG_W,REVTMP
,,,,,,,,,,,METERS,DBAR,ITS-90,PSS-78,,PSS-78,,UMOL/KG,,UMOL/KG,,UMOL/KG,,UMOL/KG,,DBAR,DBAR,ITS-90,UMOL/KG,,DEG C
33KI20100607,       PRS2,       2,         10,         20,       8020,2,20100609,       1159,  22.748833,-158.0018333,       4722,     5.4,  24.5761,  35.4725,2,  35.4734,2,    213.2,1,  -999.0,9, -999.00,9, -999.00,9,  -999.0,       6,    24.5750, -999.00,9,     -999.0
33KI20100607,       PRS2,       2,         10,         19,       8019,2,20100609,       1159,  22.748833,-158.0018333,       4722,     5.4,  24.5756,  35.4710,2,-999.0000,5,    213.2,1,  -999.0,9, -999.00,9, -999.00,9,  -999.0,       5,    24.5744, -999.00,9,     -999.0
33KI20100607,       PRS2,       2,         10,         18,       8018,2,20100609,       1159,  22.748833,-158.0018333,       4722,     5.3,  24.5753,  35.4712,2,-999.0000,5,    213.2,1,  -999.0,9, -999.00,9, -999.00,9,  -999.0,       4,    24.5741, -999.00,9,     -999.0
33KI20100607,       PRS2,       2,         10,         17,       8017,2,20100609,       1159,  22.748833,-158.0018333,       4722,    24.2,  24.5714,  35.4745,2,-999.0000,5,    213.0,1,  -999.0,9, -999.00,9, -999.00,9,  -999.0,      24,    24.5662, -999.00,9,     -999.0
33KI20100607,       PRS2,       2,         10,         16,       8016,2,20100609,       1159,  22.748833,-158.0018333,       4722,    24.1,  24.5754,  35.4723,2,-999.0000,5,    213.0,1,  -999.0,9, -999.00,9, -999.00,9,  -999.0,      25,    24.5702, -999.00,9,     -999.0
33KI20100607,       PRS2,       2,         10,         15,       8015,2,20100609,       1159,  22.748833,-158.0018333,       4722,    24.4,  24.5748,  35.4725,2,-999.0000,5,    213.1,1,  -999.0,9, -999.00,9, -999.00,9,  -999.0,      25,    24.5696, -999.00,9,     -999.0
33KI20100607,       PRS2,       2,         10,         14,       8014,2,20100609,       1159,  22.748833,-158.0018333,       4722,    44.2,  22.7774,  35.4445,2,-999.0000,5,    224.6,1,  -999.0,9, -999.00,9, -999.00,9,  -999.0,      43,    22.7685, -999.00,9,     -999.0
33KI20100607,       PRS2,       2,         10,         13,       8025,2,20100609,       1159,  22.748833,-158.0018333,       4722,    44.2,  22.7970,  35.4442,2,-999.0000,5,    224.7,1,  -999.0,9, -999.00,9, -999.00,9,  -999.0,      44,    22.7880, -999.00,9,     -999.0
33KI20100607,       PRS2,       2,         10,         12,       8012,2,20100609,       1159,  22.748833,-158.0018333,       4722,    44.4,  22.8186,  35.4471,2,-999.0000,5,    224.8,1,  -999.0,9, -999.00,9, -999.00,9,  -999.0,      45,    22.8096, -999.00,9,     -999.0
33KI20100607,       PRS2,       2,         10,         11,       8011,2,20100609,       1159,  22.748833,-158.0018333,       4722,    74.7,  21.3847,  35.4448,2,-999.0000,5,    227.6,1,  -999.0,9, -999.00,9, -999.00,9,  -999.0,      74,    21.3702, -999.00,9,     -999.0
33KI20100607,       PRS2,       2,         10,         10,       8010,2,20100609,       1159,  22.748833,-158.0018333,       4722,    74.7,  21.3918,  35.4450,2,-999.0000,5,    227.6,1,  -999.0,9, -999.00,9, -999.00,9,  -999.0,      74,    21.3773, -999.00,9,     -999.0
33KI20100607,       PRS2,       2,         10,          9,       8009,2,20100609,       1159,  22.748833,-158.0018333,       4722,    74.6,  21.3993,  35.4448,2,-999.0000,5,    227.5,1,  -999.0,9, -999.00,9, -999.00,9,  -999.0,      75,    21.3848, -999.00,9,     -999.0
33KI20100607,       PRS2,       2,         10,          8,       8008,2,20100609,       1159,  22.748833,-158.0018333,       4722,   101.4,  20.6101,  35.3669,2,-999.0000,5,    225.6,1,  -999.0,9, -999.00,9, -999.00,9,  -999.0,     101,    20.5909, -999.00,9,     -999.0
33KI20100607,       PRS2,       2,         10,          7,       8026,2,20100609,       1159,  22.748833,-158.0018333,       4722,   101.2,  20.6374,  35.3724,2,-999.0000,5,    225.6,1,  -999.0,9, -999.00,9, -999.00,9,  -999.0,     101,    20.6183, -999.00,9,     -999.0
33KI20100607,       PRS2,       2,         10,          6,       8006,2,20100609,       1159,  22.748833,-158.0018333,       4722,   100.9,  20.6815,  35.3813,2,-999.0000,5,    225.5,1,  -999.0,9, -999.00,9, -999.00,9,  -999.0,     102,    20.6624, -999.00,9,     -999.0
33KI20100607,       PRS2,       2,         10,          5,       8005,2,20100609,       1159,  22.748833,-158.0018333,       4722,   124.5,  19.7108,  35.2507,2,-999.0000,5,    229.2,1,  -999.0,9, -999.00,9, -999.00,9,  -999.0,     124,    19.6880, -999.00,9,     -999.0
33KI20100607,       PRS2,       2,         10,          4,       8004,2,20100609,       1159,  22.748833,-158.0018333,       4722,   124.3,  19.7117,  35.2508,2,-999.0000,5,    229.4,1,  -999.0,9, -999.00,9, -999.00,9,  -999.0,     124,    19.6890, -999.00,9,     -999.0
33KI20100607,       PRS2,       2,         10,          3,       8003,2,20100609,       1159,  22.748833,-158.0018333,       4722,   124.3,  19.7116,  35.2528,2,-999.0000,5,    230.5,1,  -999.0,9, -999.00,9, -999.00,9,  -999.0,     123,    19.6889, -999.00,9,     -999.0
33KI20100607,       PRS2,       2,         10,          2,       8002,2,20100609,       1159,  22.748833,-158.0018333,       4722,   522.4,   6.8235,  34.0921,2,  34.0889,2,     91.5,1,  -999.0,9, -999.00,9, -999.00,9,  -999.0,     522,     6.7749, -999.00,9,     -999.0
33KI20100607,       PRS2,       2,         10,          1,       8001,2,20100609,       1159,  22.748833,-158.0018333,       4722,  1022.1,   4.0640,  34.4784,2,  34.4771,2,     45.7,1,  -999.0,9, -999.00,9, -999.00,9,  -999.0,    1023,     3.9861, -999.00,9,     -999.0
33KI20100607,       PRS2,       2,         11,         24,       8024,2,20100609,       1453,  22.749333,-158.0021667,       4722,   122.0,  20.2449,  35.3193,2,-999.0000,5,    223.8,1,  -999.0,9, -999.00,9, -999.00,9,  -999.0,     122,    20.2221, -999.00,9,     -999.0
33KI20100607,       PRS2,       2,         11,         23,       8023,2,20100609,       1453,  22.749333,-158.0021667,       4722,   122.0,  20.2159,  35.3158,2,-999.0000,5,    224.4,1,  -999.0,9, -999.00,9, -999.00,9,  -999.0,     123,    20.1932, -999.00,9,     -999.0
33KI20100607,       PRS2,       2,         11,         22,       8022,2,20100609,       1453,  22.749333,-158.0021667,       4722,   122.3,  20.1762,  35.3086,2,-999.0000,5,    224.9,1,  -999.0,9, -999.00,9, -999.00,9,  -999.0,     122,    20.1535, -999.00,9,     -999.0
33KI20100607,       PRS2,       2,         11,         21,       8021,2,20100609,       1453,  22.749333,-158.0021667,       4722,   122.4,  20.1591,  35.3047,2,  35.2988,2,    225.3,1,  -999.0,9, -999.00,9, -999.00,9,  -999.0,     123,    20.1364, -999.00,9,     -999.0
33KI20100607,       PRS2,       2,         11,         20,       8020,2,20100609,       1453,  22.749333,-158.0021667,       4722,   123.0,  20.1418,  35.3013,2,-999.0000,5,    225.7,1,  -999.0,9, -999.00,9, -999.00,9,  -999.0,     123,    20.1189, -999.00,9,     -999.0
33KI20100607,       PRS2,       2,         11,         19,       8019,2,20100609,       1453,  22.749333,-158.0021667,       4722,   204.8,  17.5367,  34.8646,2,-999.0000,5,    209.6,1,  -999.0,9, -999.00,9, -999.00,9,  -999.0,     205,    17.5022, -999.00,9,     -999.0
33KI20100607,       PRS2,       2,         11,         18,       8018,2,20100609,       1453,  22.749333,-158.0021667,       4722,   204.8,  17.5378,  34.8636,2,-999.0000,5,    209.4,1,  -999.0,9, -999.00,9, -999.00,9,  -999.0,     205,    17.5033, -999.00,9,     -999.0
33KI20100607,       PRS2,       2,         11,         17,       8017,2,20100609,       1453,  22.749333,-158.0021667,       4722,   204.3,  17.5390,  34.8637,2,-999.0000,5,    209.2,1,  -999.0,9, -999.00,9, -999.00,9,  -999.0,     204,    17.5046, -999.00,9,     -999.0
33KI20100607,       PRS2,       2,         11,         16,       8016,2,20100609,       1453,  22.749333,-158.0021667,       4722,   203.9,  17.5544,  34.8670,2,-999.0000,5,    209.0,1,  -999.0,9, -999.00,9, -999.00,9,  -999.0,     204,    17.5200, -999.00,9,     -999.0
33KI20100607,       PRS2,       2,         11,         15,       8015,2,20100609,       1453,  22.749333,-158.0021667,       4722,   203.5,  17.5743,  34.8705,2,-999.0000,5,    208.9,1,  -999.0,9, -999.00,9, -999.00,9,  -999.0,     204,    17.5399, -999.00,9,     -999.0
33KI20100607,       PRS2,       2,         11,         14,       8014,2,20100609,       1453,  22.749333,-158.0021667,       4722,   511.3,   6.9823,  34.0881,2,  34.0799,3,     97.1,1,  -999.0,9, -999.00,9, -999.00,9,  -999.0,     511,     6.9342, -999.00,9,     -999.0
33KI20100607,       PRS2,       2,         11,         13,       8025,2,20100609,       1453,  22.749333,-158.0021667,       4722,  1028.8,   3.9384,  34.4907,2,-999.0000,5,     48.3,1,  -999.0,9, -999.00,9, -999.00,9,  -999.0,    1028,     3.8609, -999.00,9,     -999.0
33KI20100607,       PRS2,       2,         11,         12,       8012,2,20100609,       1453,  22.749333,-158.0021667,       4722,  1028.9,   3.9406,  34.4916,2,-999.0000,5,     48.3,1,  -999.0,9, -999.00,9, -999.00,9,  -999.0,    1029,     3.8630, -999.00,9,     -999.0
33KI20100607,       PRS2,       2,         11,         11,       8011,2,20100609,       1453,  22.749333,-158.0021667,       4722,  1028.7,   3.9400,  34.4917,2,-999.0000,5,     48.3,1,  -999.0,9, -999.00,9, -999.00,9,  -999.0,    1028,     3.8625, -999.00,9,     -999.0
33KI20100607,       PRS2,       2,         11,         10,       8010,2,20100609,       1453,  22.749333,-158.0021667,       4722,  1028.5,   3.9391,  34.4911,2,-999.0000,5,     48.3,1,  -999.0,9, -999.00,9, -999.00,9,  -999.0,    1028,     3.8615, -999.00,9,     -999.0
33KI20100607,       PRS2,       2,         11,          9,       8009,2,20100609,       1453,  22.749333,-158.0021667,       4722,  1028.4,   3.9401,  34.4914,2,-999.0000,5,     48.3,1,  -999.0,9, -999.00,9, -999.00,9,  -999.0,    1029,     3.8626, -999.00,9,     -999.0
33KI20100607,       PRS2,       2,         11,          8,       8008,2,20100609,       1453,  22.749333,-158.0021667,       4722,  1028.2,   3.9402,  34.4914,2,-999.0000,5,     48.3,1,  -999.0,9, -999.00,9, -999.00,9,  -999.0,    1027,     3.8626, -999.00,9,     -999.0
33KI20100607,       PRS2,       2,         11,          7,       8026,2,20100609,       1453,  22.749333,-158.0021667,       4722,  1027.6,   3.9405,  34.4914,2,-999.0000,5,     48.3,1,  -999.0,9, -999.00,9, -999.00,9,  -999.0,    1027,     3.8630, -999.00,9,     -999.0
33KI20100607,       PRS2,       2,         11,          6,       8006,2,20100609,       1453,  22.749333,-158.0021667,       4722,  1027.9,   3.9414,  34.4914,2,-999.0000,5,     48.3,1,  -999.0,9, -999.00,9, -999.00,9,  -999.0,    1028,     3.8639, -999.00,9,     -999.0
33KI20100607,       PRS2,       2,         11,          5,       8005,2,20100609,       1453,  22.749333,-158.0021667,       4722,  1027.9,   3.9415,  34.4914,2,-999.0000,5,     48.3,1,  -999.0,9, -999.00,9, -999.00,9,  -999.0,    1028,     3.8640, -999.00,9,     -999.0
33KI20100607,       PRS2,       2,         11,          4,       8004,2,20100609,       1453,  22.749333,-158.0021667,       4722,  1027.2,   3.9415,  34.4916,2,-999.0000,5,     48.2,1,  -999.0,9, -999.00,9, -999.00,9,  -999.0,    1027,     3.8640, -999.00,9,     -999.0
33KI20100607,       PRS2,       2,         11,          3,       8003,2,20100609,       1453,  22.749333,-158.0021667,       4722,  1026.7,   3.9424,  34.4918,2,-999.0000,5,     48.2,1,  -999.0,9, -999.00,9, -999.00,9,  -999.0,    1027,     3.8650, -999.00,9,     -999.0
33KI20100607,       PRS2,       2,         11,          2,       8002,2,20100609,       1453,  22.749333,-158.0021667,       4722,  1026.6,   3.9437,  34.4920,2,-999.0000,5,     48.2,1,  -999.0,9, -999.00,9, -999.00,9,  -999.0,    1027,     3.8663, -999.00,9,     -999.0
33KI20100607,       PRS2,       2,         11,          1,       8001,2,20100609,       1453,  22.749333,-158.0021667,       4722,  1025.7,   3.9445,  34.4921,2,  34.4923,2,     48.2,1,  -999.0,9, -999.00,9, -999.00,9,  -999.0,    1026,     3.8671, -999.00,9,     -999.0
33KI20100607,       PRS2,       2,         12,         19,       8019,2,20100609,       1758,  22.748167,-158.0045000,       4723,     4.2,  24.5029,  35.4586,2,-999.0000,5,    212.4,1,  -999.0,9, -999.00,9, -999.00,9,  -999.0,       5,    24.5020, -999.00,9,     -999.0
33KI20100607,       PRS2,       2,         12,         18,       8018,2,20100609,       1758,  22.748167,-158.0045000,       4723,     4.2,  24.5033,  35.4590,2,  35.4594,2,    212.5,1,  -999.0,9, -999.00,9, -999.00,9,  -999.0,       4,    24.5025, -999.00,9,     -999.0
33KI20100607,       PRS2,       2,         12,         17,       8017,2,20100609,       1758,  22.748167,-158.0045000,       4723,    24.9,  24.5006,  35.4588,2,-999.0000,5,    212.6,1,  -999.0,9, -999.00,9, -999.00,9,  -999.0,      26,    24.4952, -999.00,9,     -999.0
33KI20100607,       PRS2,       2,         12,         16,       8016,2,20100609,       1758,  22.748167,-158.0045000,       4723,    25.1,  24.5009,  35.4584,2,  35.4594,2,    212.7,1,  -999.0,9, -999.00,9, -999.00,9,  -999.0,      26,    24.4955, -999.00,9,     -999.0
33KI20100607,       PRS2,       2,         12,         15,       8015,2,20100609,       1758,  22.748167,-158.0045000,       4723,    44.2,  24.4753,  35.4667,2,-999.0000,5,    213.5,1,  -999.0,9, -999.00,9, -999.00,9,  -999.0,      44,    24.4658, -999.00,9,     -999.0
33KI20100607,       PRS2,       2,         12,         14,       8014,2,20100609,       1758,  22.748167,-158.0045000,       4723,    44.0,  24.4616,  35.4713,2,  35.4740,2,    213.5,1,  -999.0,9, -999.00,9, -999.00,9,  -999.0,      44,    24.4522, -999.00,9,     -999.0
33KI20100607,       PRS2,       2,         12,         13,       8025,2,20100609,       1758,  22.748167,-158.0045000,       4723,    74.4,  21.3931,  35.4363,2,-999.0000,5,    224.4,1,  -999.0,9, -999.00,9, -999.00,9,  -999.0,      75,    21.3786, -999.00,9,     -999.0
33KI20100607,       PRS2,       2,         12,         12,       8012,2,20100609,       1758,  22.748167,-158.0045000,       4723,    74.4,  21.3908,  35.4360,2,  35.4367,2,    224.4,1,  -999.0,9, -999.00,9, -999.00,9,  -999.0,      74,    21.3764, -999.00,9,     -999.0
33KI20100607,       PRS2,       2,         12,         11,       8011,2,20100609,       1758,  22.748167,-158.0045000,       4723,   100.3,  20.9128,  35.4243,2,-999.0000,5,    224.8,1,  -999.0,9, -999.00,9, -999.00,9,  -999.0,     101,    20.8937, -999.00,9,     -999.0
33KI20100607,       PRS2,       2,         12,         10,       8010,2,20100609,       1758,  22.748167,-158.0045000,       4723,   100.3,  20.9123,  35.4244,2,  35.4257,2,    224.8,1,  -999.0,9, -999.00,9, -999.00,9,  -999.0,     101,    20.8931, -999.00,9,     -999.0
33KI20100607,       PRS2,       2,         12,          9,       8009,2,20100609,       1758,  22.748167,-158.0045000,       4723,   126.9,  19.8119,  35.2573,2,-999.0000,5,    225.1,1,  -999.0,9, -999.00,9, -999.00,9,  -999.0,     127,    19.7885, -999.00,9,     -999.0
33KI20100607,       PRS2,       2,         12,          8,       8008,2,20100609,       1758,  22.748167,-158.0045000,       4723,   126.3,  19.9246,  35.2717,2,  35.2926,4,    225.3,1,  -999.0,9, -999.00,9, -999.00,9,  -999.0,     126,    19.9013, -999.00,9,     -999.0
33KI20100607,       PRS2,       2,         12,          7,       8026,2,20100609,       1758,  22.748167,-158.0045000,       4723,   149.8,  19.0770,  35.1490,2,-999.0000,5,    220.1,1,  -999.0,9, -999.00,9, -999.00,9,  -999.0,     150,    19.0502, -999.00,9,     -999.0
33KI20100607,       PRS2,       2,         12,          6,       8006,2,20100609,       1758,  22.748167,-158.0045000,       4723,   150.0,  19.0769,  35.1490,2,  35.1534,2,    220.5,1,  -999.0,9, -999.00,9, -999.00,9,  -999.0,     150,    19.0500, -999.00,9,     -999.0
33KI20100607,       PRS2,       2,         12,          5,       8005,2,20100609,       1758,  22.748167,-158.0045000,       4723,   176.0,  18.2836,  35.0205,2,-999.0000,5,    220.4,1,  -999.0,9, -999.00,9, -999.00,9,  -999.0,     176,    18.2530, -999.00,9,     -999.0
33KI20100607,       PRS2,       2,         12,          4,       8004,2,20100609,       1758,  22.748167,-158.0045000,       4723,   175.8,  18.2865,  35.0215,2,  35.0211,2,    220.6,1,  -999.0,9, -999.00,9, -999.00,9,  -999.0,     176,    18.2559, -999.00,9,     -999.0
33KI20100607,       PRS2,       2,         12,          3,       8003,2,20100609,       1758,  22.748167,-158.0045000,       4723,   202.2,  17.1234,  34.7896,2,-999.0000,5,    206.7,1,  -999.0,9, -999.00,9, -999.00,9,  -999.0,     202,    17.0900, -999.00,9,     -999.0
33KI20100607,       PRS2,       2,         12,          2,       8002,2,20100609,       1758,  22.748167,-158.0045000,       4723,   419.3,   8.8240,  34.0927,2,  34.0921,2,    150.2,1,  -999.0,9, -999.00,9, -999.00,9,  -999.0,     419,     8.7790, -999.00,9,     -999.0
33KI20100607,       PRS2,       2,         12,          1,       8001,2,20100609,       1758,  22.748167,-158.0045000,       4723,  1018.0,   3.9513,  34.4942,2,  34.4924,2,     48.0,1,  -999.0,9, -999.00,9, -999.00,9,  -999.0,    1019,     3.8745, -999.00,9,     -999.0