BOTTLE,20141031SIOCCHAMB
EXPOCODE,SECT_ID,STNNBR,CASTNO,SAMPNO,BTLNBR,BTLNBR_FLAG_W,DATE,TIME,LATITUDE,LONGITUDE,DEPTH,CTDPRS,CTDTMP,CTDSAL,CTDSAL_FLAG_W,SALNTY,SALNTY_FLAG_W,CTDOXY,CTDOXY_FLAG_W,OXYGEN,OXYGEN_FLAG_W,SILCAT,SILCAT_FLAG_W,PHSPHT,PHSPHT_FLAG_W,REVPRS,CTDRAW,THETA,NO2+NO3,NO2+NO3_FLAG_W,REVTMP
,,,,,,,,,,,METERS,DBAR,ITS-90,PSS-78,,PSS-78,,UMOL/KG,,UMOL/KG,,UMOL/KG,,UMOL/KG,,DBAR,DBAR,ITS-90,UMOL/KG,,DEG C
33KI20100607,       PRS2,       2,          1,         19,       8019,2,20100608,       1014,  22.750000,-158.0283333,       4727,     4.4,  24.6782,  35.4691,2,-999.0000,9,    210.8,1,  -999.0,9, -999.00,9, -999.00,9,  -999.0,       4,    24.6773, -999.00,9,     -999.0
33KI20100607,       PRS2,       2,          1,         18,       8018,2,20100608,       1014,  22.750000,-158.0283333,       4727,     4.4,  24.6791,  35.4688,2,-999.0000,9,    210.8,1,  -999.0,9, -999.00,9, -999.00,9,  -999.0,       5,    24.6782, -999.00,9,     -999.0
33KI20100607,       PRS2,       2,          1,         17,       8017,2,20100608,       1014,  22.750000,-158.0283333,       4727,     4.4,  24.6858,  35.4688,2,-999.0000,9,    210.8,1,  -999.0,9, -999.00,9, -999.00,9,  -999.0,       5,    24.6849, -999.00,9,     -999.0
33KI20100607,       PRS2,       2,          1,         16,       8016,2,20100608,       1014,  22.750000,-158.0283333,       4727,     4.5,  24.6834,  35.4689,2,-999.0000,9,    210.8,1,  -999.0,9, -999.00,9, -999.00,9,  -999.0,       5,    24.6825, -999.00,9,     -999.0
33KI20100607,       PRS2,       2,          1,         15,       8015,2,20100608,       1014,  22.750000,-158.0283333,       4727,     4.5,  24.6830,  35.4693,2,-999.0000,9,    210.9,1,  -999.0,9, -999.00,9, -999.00,9,  -999.0,       4,    24.6820, -999.00,9,     -999.0
33KI20100607,       PRS2,       2,          1,         14,       8014,2,20100608,       1014,  22.750000,-158.0283333,       4727,     4.3,  24.6811,  35.4692,2,-999.0000,9,    210.9,1,  -999.0,9, -999.00,9, -999.00,9,  -999.0,       4,    24.6802, -999.00,9,     -999.0
33KI20100607,       PRS2,       2,          1,         13,       8025,2,20100608,       1014,  22.750000,-158.0283333,       4727,     4.3,  24.6823,  35.4695,2,-999.0000,9,    211.0,1,  -999.0,9, -999.00,9, -999.00,9,  -999.0,       3,    24.6813, -999.00,9,     -999.0
33KI20100607,       PRS2,       2,          1,         12,       8012,2,20100608,       1014,  22.750000,-158.0283333,       4727,     4.5,  24.6856,  35.4698,2,-999.0000,9,    211.1,1,  -999.0,9, -999.00,9, -999.00,9,  -999.0,       4,    24.6847, -999.00,9,     -999.0
33KI20100607,       PRS2,       2,          1,         11,       8011,2,20100608,       1014,  22.750000,-158.0283333,       4727,     4.5,  24.6830,  35.4704,2,-999.0000,9,    211.2,1,  -999.0,9, -999.00,9, -999.00,9,  -999.0,       4,    24.6820, -999.00,9,     -999.0
33KI20100607,       PRS2,       2,          1,         10,       8010,2,20100608,       1014,  22.750000,-158.0283333,       4727,     4.4,  24.6796,  35.4695,2,-999.0000,9,    211.4,1,  -999.0,9, -999.00,9, -999.00,9,  -999.0,       4,    24.6786, -999.00,9,     -999.0
33KI20100607,       PRS2,       2,          1,          9,       8009,2,20100608,       1014,  22.750000,-158.0283333,       4727,     4.4,  24.6791,  35.4690,2,-999.0000,9,    211.4,1,  -999.0,9, -999.00,9, -999.00,9,  -999.0,       5,    24.6781, -999.00,9,     -999.0
33KI20100607,       PRS2,       2,          1,          8,       8008,2,20100608,       1014,  22.750000,-158.0283333,       4727,     4.5,  24.6790,  35.4689,2,-999.0000,9,    211.5,1,  -999.0,9, -999.00,9, -999.00,9,  -999.0,       3,    24.6780, -999.00,9,     -999.0
33KI20100607,       PRS2,       2,          1,          7,       8026,2,20100608,       1014,  22.750000,-158.0283333,       4727,     4.6,  24.6770,  35.4695,2,-999.0000,9,    211.6,1,  -999.0,9, -999.00,9, -999.00,9,  -999.0,       5,    24.6760, -999.00,9,     -999.0
33KI20100607,       PRS2,       2,          1,          6,       8006,2,20100608,       1014,  22.750000,-158.0283333,       4727,     4.5,  24.6758,  35.4692,2,-999.0000,9,    211.7,1,  -999.0,9, -999.00,9, -999.00,9,  -999.0,       4,    24.6748, -999.00,9,     -999.0
33KI20100607,       PRS2,       2,          1,          5,       8005,2,20100608,       1014,  22.750000,-158.0283333,       4727,     4.4,  24.6804,  35.4698,2,-999.0000,9,    211.7,1,  -999.0,9, -999.00,9, -999.00,9,  -999.0,       4,    24.6794, -999.00,9,     -999.0
33KI20100607,       PRS2,       2,          1,          4,       8004,2,20100608,       1014,  22.750000,-158.0283333,       4727,     4.5,  24.6827,  35.4698,2,-999.0000,9,    211.7,1,  -999.0,9, -999.00,9, -999.00,9,  -999.0,       5,    24.6817, -999.00,9,     -999.0
33KI20100607,       PRS2,       2,          1,          3,       8003,2,20100608,       1014,  22.750000,-158.0283333,       4727,     4.6,  24.6861,  35.4697,2,-999.0000,9,    211.8,1,  -999.0,9, -999.00,9, -999.00,9,  -999.0,       4,    24.6851, -999.00,9,     -999.0
33KI20100607,       PRS2,       2,          1,          2,       8002,2,20100608,       1014,  22.750000,-158.0283333,       4727,     4.5,  24.6866,  35.4694,2,-999.0000,9,    211.8,1,  -999.0,9, -999.00,9, -999.00,9,  -999.0,       5,    24.6856, -999.00,9,     -999.0
33KI20100607,       PRS2,       2,          1,          1,       8001,2,20100608,       1014,  22.750000,-158.0283333,       4727,     4.5,  24.6808,  35.4695,2,-999.0000,9,    211.8,1,  -999.0,9, -999.00,9, -999.00,9,  -999.0,       5,    24.6798, -999.00,9,     -999.0
33KI20100607,       PRS2,       2,          2,         22,       8022,2,20100608,       1115,  22.756500,-158.0096667,       4723,     5.5,  24.6150,  35.4833,2,  35.4829,2,    212.6,1,  -999.0,9, -999.00,9, -999.00,9,  -999.0,       5,    24.6139, -999.00,9,     -999.0
33KI20100607,       PRS2,       2,          2,         21,       8021,2,20100608,       1115,  22.756500,-158.0096667,       4723,     5.5,  24.6145,  35.4833,2,  35.4823,2,    212.6,1,  -999.0,9, -999.00,9, -999.00,9,  -999.0,       5,    24.6133, -999.00,9,     -999.0
33KI20100607,       PRS2,       2,          2,         20,       8020,2,20100608,       1115,  22.756500,-158.0096667,       4723,     5.4,  24.6139,  35.4836,2,  35.4827,2,    212.6,1,  -999.0,9, -999.00,9, -999.00,9,  -999.0,       5,    24.6127, -999.00,9,     -999.0
33KI20100607,       PRS2,       2,          2,         19,       8019,2,20100608,       1115,  22.756500,-158.0096667,       4723,    25.1,  24.5483,  35.4877,2,  35.4888,2,    213.0,1,  -999.0,9, -999.00,9, -999.00,9,  -999.0,      26,    24.5429, -999.00,9,     -999.0
33KI20100607,       PRS2,       2,          2,         18,       8018,2,20100608,       1115,  22.756500,-158.0096667,       4723,    25.1,  24.5302,  35.4886,2,  35.4884,2,    213.0,1,  -999.0,9, -999.00,9, -999.00,9,  -999.0,      25,    24.5248, -999.00,9,     -999.0
33KI20100607,       PRS2,       2,          2,         17,       8017,2,20100608,       1115,  22.756500,-158.0096667,       4723,    25.0,  24.5060,  35.4895,2,  35.4888,2,    213.1,1,  -999.0,9, -999.00,9, -999.00,9,  -999.0,      25,    24.5007, -999.00,9,     -999.0
33KI20100607,       PRS2,       2,          2,         16,       8016,2,20100608,       1115,  22.756500,-158.0096667,       4723,    44.7,  23.7834,  35.4846,2,  35.4833,2,    217.3,1,  -999.0,9, -999.00,9, -999.00,9,  -999.0,      45,    23.7740, -999.00,9,     -999.0
33KI20100607,       PRS2,       2,          2,         15,       8015,2,20100608,       1115,  22.756500,-158.0096667,       4723,    44.6,  23.7725,  35.4848,2,  35.4833,2,    217.5,1,  -999.0,9, -999.00,9, -999.00,9,  -999.0,      44,    23.7631, -999.00,9,     -999.0
33KI20100607,       PRS2,       2,          2,         14,       8014,2,20100608,       1115,  22.756500,-158.0096667,       4723,    44.6,  23.7645,  35.4846,2,  35.4847,2,    217.7,1,  -999.0,9, -999.00,9, -999.00,9,  -999.0,      45,    23.7551, -999.00,9,     -999.0
33KI20100607,       PRS2,       2,          2,         13,       8025,2,20100608,       1115,  22.756500,-158.0096667,       4723,    75.5,  21.3857,  35.4550,2,  35.4517,2,    226.7,1,  -999.0,9, -999.00,9, -999.00,9,  -999.0,      76,    21.3710, -999.00,9,     -999.0
33KI20100607,       PRS2,       2,          2,         12,       8012,2,20100608,       1115,  22.756500,-158.0096667,       4723,    75.5,  21.3839,  35.4555,2,  35.4509,2,    226.7,1,  -999.0,9, -999.00,9, -999.00,9,  -999.0,      75,    21.3692, -999.00,9,     -999.0
33KI20100607,       PRS2,       2,          2,         11,       8011,2,20100608,       1115,  22.756500,-158.0096667,       4723,    75.4,  21.3798,  35.4560,2,  35.4507,2,    226.7,1,  -999.0,9, -999.00,9, -999.00,9,  -999.0,      75,    21.3651, -999.00,9,     -999.0
33KI20100607,       PRS2,       2,          2,         10,       8010,2,20100608,       1115,  22.756500,-158.0096667,       4723,   100.1,  20.2091,  35.3182,2,  35.3200,2,    223.6,1,  -999.0,9, -999.00,9, -999.00,9,  -999.0,     100,    20.1904, -999.00,9,     -999.0
33KI20100607,       PRS2,       2,          2,          9,       8009,2,20100608,       1115,  22.756500,-158.0096667,       4723,   100.1,  20.2071,  35.3179,2,  35.3189,2,    223.7,1,  -999.0,9, -999.00,9, -999.00,9,  -999.0,     100,    20.1885, -999.00,9,     -999.0
33KI20100607,       PRS2,       2,          2,          8,       8008,2,20100608,       1115,  22.756500,-158.0096667,       4723,   100.1,  20.2066,  35.3178,2,  35.3183,2,    223.6,1,  -999.0,9, -999.00,9, -999.00,9,  -999.0,     100,    20.1879, -999.00,9,     -999.0
33KI20100607,       PRS2,       2,          2,          7,       8026,2,20100608,       1115,  22.756500,-158.0096667,       4723,   127.4,  19.6496,  35.2391,2,  35.2398,2,    216.2,1,  -999.0,9, -999.00,9, -999.00,9,  -999.0,     127,    19.6263, -999.00,9,     -999.0
33KI20100607,       PRS2,       2,          2,          6,       8006,2,20100608,       1115,  22.756500,-158.0096667,       4723,   127.3,  19.6500,  35.2392,2,  35.2394,2,    215.8,1,  -999.0,9, -999.00,9, -999.00,9,  -999.0,     127,    19.6267, -999.00,9,     -999.0
33KI20100607,       PRS2,       2,          2,          5,       8005,2,20100608,       1115,  22.756500,-158.0096667,       4723,   127.1,  19.6477,  35.2387,2,  35.2404,2,    215.4,1,  -999.0,9, -999.00,9, -999.00,9,  -999.0,     127,    19.6245, -999.00,9,     -999.0
33KI20100607,       PRS2,       2,          2,          4,       8004,2,20100608,       1115,  22.756500,-158.0096667,       4723,   147.8,  19.3883,  35.2037,2,  35.1998,2,    211.4,1,  -999.0,9, -999.00,9, -999.00,9,  -999.0,     148,    19.3616, -999.00,9,     -999.0
33KI20100607,       PRS2,       2,          2,          3,       8003,2,20100608,       1115,  22.756500,-158.0096667,       4723,   180.0,  18.5673,  35.0591,2,  35.0632,2,    214.0,1,  -999.0,9, -999.00,9, -999.00,9,  -999.0,     180,    18.5357, -999.00,9,     -999.0
33KI20100607,       PRS2,       2,          2,          2,       8002,2,20100608,       1115,  22.756500,-158.0096667,       4723,   482.6,   7.5297,  34.0803,2,  34.0831,2,    112.2,1,  -999.0,9, -999.00,9, -999.00,9,  -999.0,     482,     7.4823, -999.00,9,     -999.0
33KI20100607,       PRS2,       2,          2,          1,       8001,2,20100608,       1115,  22.756500,-158.0096667,       4723,  1018.2,   4.0453,  34.4716,2,  34.4718,2,     45.6,1,  -999.0,9, -999.00,9, -999.00,9,  -999.0,    1018,     3.9678, -999.00,9,     -999.0
33KI20100607,       PRS2,       2,          3,         15,       8015,2,20100608,       1332,  22.752833,-158.0368333,       4750,    25.0,  24.5111,  35.4868,2,-999.0000,9,    213.0,1,  -999.0,9, -999.00,9, -999.00,9,  -999.0,      25,    24.5057, -999.00,9,     -999.0
33KI20100607,       PRS2,       2,          3,         14,       8014,2,20100608,       1332,  22.752833,-158.0368333,       4750,    25.0,  24.5110,  35.4867,2,-999.0000,9,    212.9,1,  -999.0,9, -999.00,9, -999.00,9,  -999.0,      25,    24.5056, -999.00,9,     -999.0
33KI20100607,       PRS2,       2,          3,         13,       8025,2,20100608,       1332,  22.752833,-158.0368333,       4750,    25.0,  24.5101,  35.4865,2,-999.0000,9,    212.8,1,  -999.0,9, -999.00,9, -999.00,9,  -999.0,      25,    24.5048, -999.00,9,     -999.0
33KI20100607,       PRS2,       2,          3,         12,       8012,2,20100608,       1332,  22.752833,-158.0368333,       4750,    25.0,  24.5079,  35.4863,2,-999.0000,9,    212.8,1,  -999.0,9, -999.00,9, -999.00,9,  -999.0,      25,    24.5025, -999.00,9,     -999.0
33KI20100607,       PRS2,       2,          3,         11,       8011,2,20100608,       1332,  22.752833,-158.0368333,       4750,    25.1,  24.5076,  35.4863,2,-999.0000,9,    212.8,1,  -999.0,9, -999.00,9, -999.00,9,  -999.0,      25,    24.5022, -999.00,9,     -999.0
33KI20100607,       PRS2,       2,          3,         10,       8010,2,20100608,       1332,  22.752833,-158.0368333,       4750,    46.6,  24.3427,  35.4759,2,-999.0000,9,    214.6,1,  -999.0,9, -999.00,9, -999.00,9,  -999.0,      47,    24.3327, -999.00,9,     -999.0
33KI20100607,       PRS2,       2,          3,          9,       8009,2,20100608,       1332,  22.752833,-158.0368333,       4750,    46.7,  24.3428,  35.4758,2,-999.0000,9,    214.6,1,  -999.0,9, -999.00,9, -999.00,9,  -999.0,      47,    24.3329, -999.00,9,     -999.0
33KI20100607,       PRS2,       2,          3,          8,       8008,2,20100608,       1332,  22.752833,-158.0368333,       4750,    46.7,  24.3422,  35.4757,2,-999.0000,9,    214.6,1,  -999.0,9, -999.00,9, -999.00,9,  -999.0,      47,    24.3322, -999.00,9,     -999.0
33KI20100607,       PRS2,       2,          3,          7,       8026,2,20100608,       1332,  22.752833,-158.0368333,       4750,    46.7,  24.3421,  35.4757,2,-999.0000,9,    214.7,1,  -999.0,9, -999.00,9, -999.00,9,  -999.0,      47,    24.3322, -999.00,9,     -999.0
33KI20100607,       PRS2,       2,          3,          6,       8006,2,20100608,       1332,  22.752833,-158.0368333,       4750,    46.7,  24.3428,  35.4756,2,-999.0000,9,    214.8,1,  -999.0,9, -999.00,9, -999.00,9,  -999.0,      47,    24.3329, -999.00,9,     -999.0
33KI20100607,       PRS2,       2,          3,          5,       8005,2,20100608,       1332,  22.752833,-158.0368333,       4750,    78.4,  22.0816,  35.4540,2,-999.0000,9,    227.7,1,  -999.0,9, -999.00,9, -999.00,9,  -999.0,      78,    22.0660, -999.00,9,     -999.0
33KI20100607,       PRS2,       2,          3,          4,       8004,2,20100608,       1332,  22.752833,-158.0368333,       4750,    77.5,  22.1549,  35.4547,2,-999.0000,9,    227.7,1,  -999.0,9, -999.00,9, -999.00,9,  -999.0,      77,    22.1395, -999.00,9,     -999.0
33KI20100607,       PRS2,       2,          3,          3,       8003,2,20100608,       1332,  22.752833,-158.0368333,       4750,    76.7,  22.2445,  35.4546,2,-999.0000,9,    227.6,1,  -999.0,9, -999.00,9, -999.00,9,  -999.0,      77,    22.2292, -999.00,9,     -999.0
33KI20100607,       PRS2,       2,          3,          2,       8002,2,20100608,       1332,  22.752833,-158.0368333,       4750,    76.4,  22.2649,  35.4543,2,-999.0000,9,    227.6,1,  -999.0,9, -999.00,9, -999.00,9,  -999.0,      76,    22.2496, -999.00,9,     -999.0
33KI20100607,       PRS2,       2,          3,          1,       8001,2,20100608,       1332,  22.752833,-158.0368333,       4750,    76.2,  22.2730,  35.4541,2,-999.0000,9,    227.5,1,  -999.0,9, -999.00,9, -999.00,9,  -999.0,      77,    22.2578, -999.00,9,     -999.0