BOTTLE,20141031SIOCCHAMB
EXPOCODE,SECT_ID,STNNBR,CASTNO,SAMPNO,BTLNBR,BTLNBR_FLAG_W,DATE,TIME,LATITUDE,LONGITUDE,DEPTH,CTDPRS,CTDTMP,CTDSAL,CTDSAL_FLAG_W,SALNTY,SALNTY_FLAG_W,CTDOXY,CTDOXY_FLAG_W,OXYGEN,OXYGEN_FLAG_W,SILCAT,SILCAT_FLAG_W,PHSPHT,PHSPHT_FLAG_W,REVPRS,CTDRAW,THETA,NO2+NO3,NO2+NO3_FLAG_W,REVTMP
,,,,,,,,,,,METERS,DBAR,ITS-90,PSS-78,,PSS-78,,UMOL/KG,,UMOL/KG,,UMOL/KG,,UMOL/KG,,DBAR,DBAR,ITS-90,UMOL/KG,,DEG C
33KI20100607,       PRS2,       2,         13,         24,       8024,2,20100609,       2056,  22.748500,-157.9961667,       4722,     4.2,  24.5757,  35.4710,2,  35.4691,2,    213.3,1,  -999.0,9, -999.00,9, -999.00,9,  -999.0,       4,    24.5748, -999.00,9,     -999.0
33KI20100607,       PRS2,       2,         13,         23,       8023,2,20100609,       2056,  22.748500,-157.9961667,       4722,    24.9,  24.5718,  35.4696,2,-999.0000,5,    213.3,1,  -999.0,9, -999.00,9, -999.00,9,  -999.0,      26,    24.5665, -999.00,9,     -999.0
33KI20100607,       PRS2,       2,         13,         22,       8022,2,20100609,       2056,  22.748500,-157.9961667,       4722,    25.2,  24.5729,  35.4689,2,-999.0000,5,    213.1,1,  -999.0,9, -999.00,9, -999.00,9,  -999.0,      27,    24.5675, -999.00,9,     -999.0
33KI20100607,       PRS2,       2,         13,         21,       8021,2,20100609,       2056,  22.748500,-157.9961667,       4722,    25.1,  24.5713,  35.4695,2,-999.0000,5,    212.9,1,  -999.0,9, -999.00,9, -999.00,9,  -999.0,      25,    24.5659, -999.00,9,     -999.0
33KI20100607,       PRS2,       2,         13,         20,       8020,2,20100609,       2056,  22.748500,-157.9961667,       4722,    24.9,  24.5666,  35.4688,2,-999.0000,5,    212.9,1,  -999.0,9, -999.00,9, -999.00,9,  -999.0,      24,    24.5613, -999.00,9,     -999.0
33KI20100607,       PRS2,       2,         13,         19,       8019,2,20100609,       2056,  22.748500,-157.9961667,       4722,    25.1,  24.5584,  35.4679,2,-999.0000,5,    212.9,1,  -999.0,9, -999.00,9, -999.00,9,  -999.0,      25,    24.5530, -999.00,9,     -999.0
33KI20100607,       PRS2,       2,         13,         18,       8018,2,20100609,       2056,  22.748500,-157.9961667,       4722,    24.9,  24.5577,  35.4683,2,-999.0000,5,    212.9,1,  -999.0,9, -999.00,9, -999.00,9,  -999.0,      25,    24.5523, -999.00,9,     -999.0
33KI20100607,       PRS2,       2,         13,         17,       8017,2,20100609,       2056,  22.748500,-157.9961667,       4722,    25.0,  24.5606,  35.4675,2,-999.0000,5,    212.9,1,  -999.0,9, -999.00,9, -999.00,9,  -999.0,      25,    24.5552, -999.00,9,     -999.0
33KI20100607,       PRS2,       2,         13,         16,       8016,2,20100609,       2056,  22.748500,-157.9961667,       4722,    25.2,  24.5604,  35.4675,2,-999.0000,5,    212.9,1,  -999.0,9, -999.00,9, -999.00,9,  -999.0,      26,    24.5550, -999.00,9,     -999.0
33KI20100607,       PRS2,       2,         13,         15,       8015,2,20100609,       2056,  22.748500,-157.9961667,       4722,    25.5,  24.5578,  35.4675,2,-999.0000,5,    212.9,1,  -999.0,9, -999.00,9, -999.00,9,  -999.0,      25,    24.5523, -999.00,9,     -999.0
33KI20100607,       PRS2,       2,         13,         14,       8014,2,20100609,       2056,  22.748500,-157.9961667,       4722,    45.5,  23.7498,  35.4651,2,  35.4651,2,    218.8,1,  -999.0,9, -999.00,9, -999.00,9,  -999.0,      45,    23.7403, -999.00,9,     -999.0
33KI20100607,       PRS2,       2,         13,         13,       8025,2,20100609,       2056,  22.748500,-157.9961667,       4722,    58.6,  22.1698,  35.4503,2,  35.4490,2,    227.5,1,  -999.0,9, -999.00,9, -999.00,9,  -999.0,      59,    22.1582, -999.00,9,     -999.0
33KI20100607,       PRS2,       2,         13,         12,       8012,2,20100609,       2056,  22.748500,-157.9961667,       4722,    74.9,  21.2969,  35.4713,2,-999.0000,5,    226.2,1,  -999.0,9, -999.00,9, -999.00,9,  -999.0,      75,    21.2824, -999.00,9,     -999.0
33KI20100607,       PRS2,       2,         13,         11,       8011,2,20100609,       2056,  22.748500,-157.9961667,       4722,    84.5,  21.1987,  35.4853,2,  35.4841,2,    224.7,1,  -999.0,9, -999.00,9, -999.00,9,  -999.0,      85,    21.1824, -999.00,9,     -999.0
33KI20100607,       PRS2,       2,         13,         10,       8010,2,20100609,       2056,  22.748500,-157.9961667,       4722,    99.7,  20.9968,  35.4551,2,-999.0000,5,    223.1,1,  -999.0,9, -999.00,9, -999.00,9,  -999.0,     100,    20.9777, -999.00,9,     -999.0
33KI20100607,       PRS2,       2,         13,          9,       8009,2,20100609,       2056,  22.748500,-157.9961667,       4722,    99.8,  20.9757,  35.4526,2,-999.0000,5,    222.9,1,  -999.0,9, -999.00,9, -999.00,9,  -999.0,     101,    20.9566, -999.00,9,     -999.0
33KI20100607,       PRS2,       2,         13,          8,       8008,2,20100609,       2056,  22.748500,-157.9961667,       4722,    99.6,  20.9629,  35.4494,2,-999.0000,5,    222.8,1,  -999.0,9, -999.00,9, -999.00,9,  -999.0,      99,    20.9438, -999.00,9,     -999.0
33KI20100607,       PRS2,       2,         13,          7,       8026,2,20100609,       2056,  22.748500,-157.9961667,       4722,    99.8,  20.9582,  35.4494,2,  35.4580,2,    222.7,1,  -999.0,9, -999.00,9, -999.00,9,  -999.0,     100,    20.9391, -999.00,9,     -999.0
33KI20100607,       PRS2,       2,         13,          6,       8006,2,20100609,       2056,  22.748500,-157.9961667,       4722,   125.9,  20.0190,  35.2964,2,-999.0000,5,    219.4,1,  -999.0,9, -999.00,9, -999.00,9,  -999.0,     126,    19.9957, -999.00,9,     -999.0
33KI20100607,       PRS2,       2,         13,          5,       8005,2,20100609,       2056,  22.748500,-157.9961667,       4722,   125.9,  20.0197,  35.2962,2,  35.2881,2,    219.6,1,  -999.0,9, -999.00,9, -999.00,9,  -999.0,     126,    19.9964, -999.00,9,     -999.0
33KI20100607,       PRS2,       2,         13,          4,       8004,2,20100609,       2056,  22.748500,-157.9961667,       4722,   150.0,  18.8365,  35.1110,2,  35.1041,2,    217.2,1,  -999.0,9, -999.00,9, -999.00,9,  -999.0,     150,    18.8099, -999.00,9,     -999.0
33KI20100607,       PRS2,       2,         13,          3,       8003,2,20100609,       2056,  22.748500,-157.9961667,       4722,   175.1,  17.8191,  34.9292,2,  34.9183,2,    220.3,1,  -999.0,9, -999.00,9, -999.00,9,  -999.0,     175,    17.7893, -999.00,9,     -999.0
33KI20100607,       PRS2,       2,         13,          2,       8002,2,20100609,       2056,  22.748500,-157.9961667,       4722,   489.6,   7.2042,  34.0751,2,  34.0786,2,    107.3,1,  -999.0,9, -999.00,9, -999.00,9,  -999.0,     489,     7.1573, -999.00,9,     -999.0
33KI20100607,       PRS2,       2,         13,          1,       8001,2,20100609,       2056,  22.748500,-157.9961667,       4722,  1021.2,   3.9393,  34.4959,2,  34.4960,2,     48.3,1,  -999.0,9, -999.00,9, -999.00,9,  -999.0,    1022,     3.8624, -999.00,9,     -999.0
33KI20100607,       PRS2,       2,         14,         24,       8024,2,20100610,       0000,  22.748333,-158.0006667,       4729,     5.6,  24.7099,  35.4928,2,  35.4933,2,    213.1,1,  -999.0,9, -999.00,9, -999.00,9,  -999.0,       5,    24.7087, -999.00,9,     -999.0
33KI20100607,       PRS2,       2,         14,         23,       8023,2,20100610,       0000,  22.748333,-158.0006667,       4729,    25.2,  24.7040,  35.4923,2,  35.4924,2,    213.1,1,  -999.0,9, -999.00,9, -999.00,9,  -999.0,      25,    24.6986, -999.00,9,     -999.0
33KI20100607,       PRS2,       2,         14,         22,       8022,2,20100610,       0000,  22.748333,-158.0006667,       4729,    45.7,  23.9615,  35.4789,2,  35.4857,2,    217.8,1,  -999.0,9, -999.00,9, -999.00,9,  -999.0,      45,    23.9518, -999.00,9,     -999.0
33KI20100607,       PRS2,       2,         14,         21,       8021,2,20100610,       0000,  22.748333,-158.0006667,       4729,    75.7,  21.5178,  35.4429,2,  35.4433,2,    226.6,1,  -999.0,9, -999.00,9, -999.00,9,  -999.0,      75,    21.5030, -999.00,9,     -999.0
33KI20100607,       PRS2,       2,         14,         20,       8020,2,20100610,       0000,  22.748333,-158.0006667,       4729,   101.2,  20.9178,  35.4370,2,  35.4431,2,    222.3,1,  -999.0,9, -999.00,9, -999.00,9,  -999.0,     101,    20.8985, -999.00,9,     -999.0
33KI20100607,       PRS2,       2,         14,         19,       8019,2,20100610,       0000,  22.748333,-158.0006667,       4729,   127.1,  19.9433,  35.2888,2,  35.2921,2,    219.2,1,  -999.0,9, -999.00,9, -999.00,9,  -999.0,     127,    19.9198, -999.00,9,     -999.0
33KI20100607,       PRS2,       2,         14,         18,       8018,2,20100610,       0000,  22.748333,-158.0006667,       4729,   151.8,  19.1098,  35.1604,2,  35.1670,2,    223.6,1,  -999.0,9, -999.00,9, -999.00,9,  -999.0,     151,    19.0827, -999.00,9,     -999.0
33KI20100607,       PRS2,       2,         14,         17,       8017,2,20100610,       0000,  22.748333,-158.0006667,       4729,   204.3,  17.1323,  34.7896,2,-999.0000,5,    219.4,1,  -999.0,9, -999.00,9, -999.00,9,  -999.0,     204,    17.0984, -999.00,9,     -999.0
33KI20100607,       PRS2,       2,         14,         16,       8016,2,20100610,       0000,  22.748333,-158.0006667,       4729,   203.1,  17.2302,  34.8080,2,-999.0000,5,    219.2,1,  -999.0,9, -999.00,9, -999.00,9,  -999.0,     203,    17.1964, -999.00,9,     -999.0
33KI20100607,       PRS2,       2,         14,         15,       8015,2,20100610,       0000,  22.748333,-158.0006667,       4729,   245.1,  15.8297,  34.5989,2,  34.6001,2,    201.5,1,  -999.0,9, -999.00,9, -999.00,9,  -999.0,     246,    15.7913, -999.00,9,     -999.0
33KI20100607,       PRS2,       2,         14,         14,       8014,2,20100610,       0000,  22.748333,-158.0006667,       4729,   303.7,  13.0774,  34.3233,2,-999.0000,5,    203.3,1,  -999.0,9, -999.00,9, -999.00,9,  -999.0,     303,    13.0356, -999.00,9,     -999.0
33KI20100607,       PRS2,       2,         14,         13,       8025,2,20100610,       0000,  22.748333,-158.0006667,       4729,   302.5,  13.1363,  34.3281,2,-999.0000,5,    203.4,1,  -999.0,9, -999.00,9, -999.00,9,  -999.0,     303,    13.0945, -999.00,9,     -999.0
33KI20100607,       PRS2,       2,         14,         12,       8012,2,20100610,       0000,  22.748333,-158.0006667,       4729,   350.6,  11.4148,  34.2264,2,  34.2297,2,    206.4,1,  -999.0,9, -999.00,9, -999.00,9,  -999.0,     350,    11.3706, -999.00,9,     -999.0
33KI20100607,       PRS2,       2,         14,         11,       8011,2,20100610,       0000,  22.748333,-158.0006667,       4729,   401.4,   9.5230,  34.0930,2,-999.0000,5,    174.9,1,  -999.0,9, -999.00,9, -999.00,9,  -999.0,     402,     9.4779, -999.00,9,     -999.0
33KI20100607,       PRS2,       2,         14,         10,       8010,2,20100610,       0000,  22.748333,-158.0006667,       4729,   492.9,   7.4813,  34.0730,2,  34.0740,2,    118.6,1,  -999.0,9, -999.00,9, -999.00,9,  -999.0,     494,     7.4330, -999.00,9,     -999.0
33KI20100607,       PRS2,       2,         14,          9,       8009,2,20100610,       0000,  22.748333,-158.0006667,       4729,   499.9,   7.3782,  34.0738,2,-999.0000,5,    114.3,1,  -999.0,9, -999.00,9, -999.00,9,  -999.0,     500,     7.3296, -999.00,9,     -999.0
33KI20100607,       PRS2,       2,         14,          8,       8008,2,20100610,       0000,  22.748333,-158.0006667,       4729,   499.5,   7.3837,  34.0742,2,-999.0000,5,    114.1,1,  -999.0,9, -999.00,9, -999.00,9,  -999.0,     499,     7.3352, -999.00,9,     -999.0
33KI20100607,       PRS2,       2,         14,          7,       8026,2,20100610,       0000,  22.748333,-158.0006667,       4729,   600.7,   5.8103,  34.1889,2,-999.0000,5,     52.1,1,  -999.0,9, -999.00,9, -999.00,9,  -999.0,     601,     5.7585, -999.00,9,     -999.0
33KI20100607,       PRS2,       2,         14,          6,       8006,2,20100610,       0000,  22.748333,-158.0006667,       4729,   702.2,   5.3195,  34.2655,2,-999.0000,5,     39.2,1,  -999.0,9, -999.00,9, -999.00,9,  -999.0,     703,     5.2610, -999.00,9,     -999.0
33KI20100607,       PRS2,       2,         14,          5,       8005,2,20100610,       0000,  22.748333,-158.0006667,       4729,   769.2,   4.9168,  34.3299,2,-999.0000,5,     35.3,1,  -999.0,9, -999.00,9, -999.00,9,  -999.0,     769,     4.8547, -999.00,9,     -999.0
33KI20100607,       PRS2,       2,         14,          4,       8004,2,20100610,       0000,  22.748333,-158.0006667,       4729,   801.3,   4.8682,  34.3736,2,-999.0000,5,     34.3,1,  -999.0,9, -999.00,9, -999.00,9,  -999.0,     801,     4.8035, -999.00,9,     -999.0
33KI20100607,       PRS2,       2,         14,          3,       8003,2,20100610,       0000,  22.748333,-158.0006667,       4729,   898.6,   4.4415,  34.4318,2,-999.0000,5,     39.6,1,  -999.0,9, -999.00,9, -999.00,9,  -999.0,     900,     4.3713, -999.00,9,     -999.0
33KI20100607,       PRS2,       2,         14,          2,       8002,2,20100610,       0000,  22.748333,-158.0006667,       4729,  1016.5,   4.0048,  34.4883,2,-999.0000,5,     47.1,1,  -999.0,9, -999.00,9, -999.00,9,  -999.0,    1017,     3.9278, -999.00,9,     -999.0
33KI20100607,       PRS2,       2,         14,          1,       8001,2,20100610,       0000,  22.748333,-158.0006667,       4729,  1016.5,   4.0056,  34.4884,2,  34.4889,2,     47.1,1,  -999.0,9, -999.00,9, -999.00,9,  -999.0,    1017,     3.9285, -999.00,9,     -999.0
33KI20100607,       PRS2,       2,         15,         22,       8022,2,20100610,       0257,  22.751833,-158.0015000,       4722,     4.9,  24.5948,  35.4536,2,-999.0000,5,    213.4,1,  -999.0,9, -999.00,9, -999.00,9,  -999.0,       5,    24.5938, -999.00,9,     -999.0
33KI20100607,       PRS2,       2,         15,         21,       8021,2,20100610,       0257,  22.751833,-158.0015000,       4722,     4.7,  24.5956,  35.4536,2,  35.4519,2,    213.5,1,  -999.0,9, -999.00,9, -999.00,9,  -999.0,       5,    24.5946, -999.00,9,     -999.0
33KI20100607,       PRS2,       2,         15,         20,       8020,2,20100610,       0257,  22.751833,-158.0015000,       4722,    15.6,  24.5993,  35.4534,2,  35.4521,2,    213.5,1,  -999.0,9, -999.00,9, -999.00,9,  -999.0,      16,    24.5959, -999.00,9,     -999.0
33KI20100607,       PRS2,       2,         15,         19,       8019,2,20100610,       0257,  22.751833,-158.0015000,       4722,    24.9,  24.6004,  35.4532,2,  35.4527,2,    213.5,1,  -999.0,9, -999.00,9, -999.00,9,  -999.0,      25,    24.5950, -999.00,9,     -999.0
33KI20100607,       PRS2,       2,         15,         18,       8018,2,20100610,       0257,  22.751833,-158.0015000,       4722,    24.9,  24.6015,  35.4532,2,-999.0000,5,    213.5,1,  -999.0,9, -999.00,9, -999.00,9,  -999.0,      25,    24.5961, -999.00,9,     -999.0
33KI20100607,       PRS2,       2,         15,         17,       8017,2,20100610,       0257,  22.751833,-158.0015000,       4722,    34.0,  24.5994,  35.4554,2,  35.4563,2,    213.7,1,  -999.0,9, -999.00,9, -999.00,9,  -999.0,      34,    24.5921, -999.00,9,     -999.0
33KI20100607,       PRS2,       2,         15,         16,       8016,2,20100610,       0257,  22.751833,-158.0015000,       4722,    33.9,  24.6009,  35.4549,2,  35.4567,2,    213.7,1,  -999.0,9, -999.00,9, -999.00,9,  -999.0,      34,    24.5936, -999.00,9,     -999.0
33KI20100607,       PRS2,       2,         15,         15,       8015,2,20100610,       0257,  22.751833,-158.0015000,       4722,    44.6,  24.1977,  35.4832,2,-999.0000,5,    216.0,1,  -999.0,9, -999.00,9, -999.00,9,  -999.0,      45,    24.1883, -999.00,9,     -999.0
33KI20100607,       PRS2,       2,         15,         14,       8014,2,20100610,       0257,  22.751833,-158.0015000,       4722,    44.7,  24.2129,  35.4834,2,  35.4831,2,    216.2,1,  -999.0,9, -999.00,9, -999.00,9,  -999.0,      45,    24.2034, -999.00,9,     -999.0
33KI20100607,       PRS2,       2,         15,         13,       8025,2,20100610,       0257,  22.751833,-158.0015000,       4722,    59.8,  22.9406,  35.4407,2,  35.4411,2,    225.2,1,  -999.0,9, -999.00,9, -999.00,9,  -999.0,      60,    22.9284, -999.00,9,     -999.0
33KI20100607,       PRS2,       2,         15,         12,       8012,2,20100610,       0257,  22.751833,-158.0015000,       4722,    75.6,  21.9578,  35.4465,2,-999.0000,5,    229.2,1,  -999.0,9, -999.00,9, -999.00,9,  -999.0,      76,    21.9428, -999.00,9,     -999.0
33KI20100607,       PRS2,       2,         15,         11,       8011,2,20100610,       0257,  22.751833,-158.0015000,       4722,    75.6,  21.9719,  35.4475,2,  35.4486,2,    229.2,1,  -999.0,9, -999.00,9, -999.00,9,  -999.0,      75,    21.9569, -999.00,9,     -999.0
33KI20100607,       PRS2,       2,         15,         10,       8010,2,20100610,       0257,  22.751833,-158.0015000,       4722,    99.0,  21.1665,  35.4648,2,-999.0000,5,    225.4,1,  -999.0,9, -999.00,9, -999.00,9,  -999.0,      99,    21.1475, -999.00,9,     -999.0
33KI20100607,       PRS2,       2,         15,          9,       8009,2,20100610,       0257,  22.751833,-158.0015000,       4722,    99.3,  21.1605,  35.4642,2,  35.4647,2,    225.4,1,  -999.0,9, -999.00,9, -999.00,9,  -999.0,     100,    21.1414, -999.00,9,     -999.0
33KI20100607,       PRS2,       2,         15,          8,       8008,2,20100610,       0257,  22.751833,-158.0015000,       4722,   125.4,  20.4962,  35.3684,2,-999.0000,5,    220.9,1,  -999.0,9, -999.00,9, -999.00,9,  -999.0,     125,    20.4726, -999.00,9,     -999.0
33KI20100607,       PRS2,       2,         15,          7,       8026,2,20100610,       0257,  22.751833,-158.0015000,       4722,   125.2,  20.4993,  35.3691,2,  35.3699,2,    220.9,1,  -999.0,9, -999.00,9, -999.00,9,  -999.0,     125,    20.4757, -999.00,9,     -999.0
33KI20100607,       PRS2,       2,         15,          6,       8006,2,20100610,       0257,  22.751833,-158.0015000,       4722,   149.3,  19.5323,  35.2129,2,-999.0000,5,    214.3,1,  -999.0,9, -999.00,9, -999.00,9,  -999.0,     149,    19.5051, -999.00,9,     -999.0
33KI20100607,       PRS2,       2,         15,          5,       8005,2,20100610,       0257,  22.751833,-158.0015000,       4722,   149.6,  19.5045,  35.2082,2,  35.2186,2,    213.3,1,  -999.0,9, -999.00,9, -999.00,9,  -999.0,     150,    19.4773, -999.00,9,     -999.0
33KI20100607,       PRS2,       2,         15,          4,       8004,2,20100610,       0257,  22.751833,-158.0015000,       4722,   181.4,  18.4004,  35.0521,2,-999.0000,5,    222.6,1,  -999.0,9, -999.00,9, -999.00,9,  -999.0,     182,    18.3687, -999.00,9,     -999.0
33KI20100607,       PRS2,       2,         15,          3,       8003,2,20100610,       0257,  22.751833,-158.0015000,       4722,   181.3,  18.3937,  35.0523,2,  35.0602,2,    222.6,1,  -999.0,9, -999.00,9, -999.00,9,  -999.0,     181,    18.3621, -999.00,9,     -999.0
33KI20100607,       PRS2,       2,         15,          2,       8002,2,20100610,       0257,  22.751833,-158.0015000,       4722,   477.8,   7.4682,  34.0704,2,  34.0699,2,    119.1,1,  -999.0,9, -999.00,9, -999.00,9,  -999.0,     478,     7.4216, -999.00,9,     -999.0
33KI20100607,       PRS2,       2,         15,          1,       8001,2,20100610,       0257,  22.751833,-158.0015000,       4722,  1022.6,   3.9970,  34.4892,2,  34.4866,2,     47.3,1,  -999.0,9, -999.00,9, -999.00,9,  -999.0,    1023,     3.9195, -999.00,9,     -999.0