BOTTLE,20141031SIOCCHAMB
EXPOCODE,SECT_ID,STNNBR,CASTNO,SAMPNO,BTLNBR,BTLNBR_FLAG_W,DATE,TIME,LATITUDE,LONGITUDE,DEPTH,CTDPRS,CTDTMP,CTDSAL,CTDSAL_FLAG_W,SALNTY,SALNTY_FLAG_W,CTDOXY,CTDOXY_FLAG_W,OXYGEN,OXYGEN_FLAG_W,SILCAT,SILCAT_FLAG_W,PHSPHT,PHSPHT_FLAG_W,REVPRS,CTDRAW,THETA,NO2+NO3,NO2+NO3_FLAG_W,REVTMP
,,,,,,,,,,,METERS,DBAR,ITS-90,PSS-78,,PSS-78,,UMOL/KG,,UMOL/KG,,UMOL/KG,,UMOL/KG,,DBAR,DBAR,ITS-90,UMOL/KG,,DEG C
33KI20100607,       PRS2,       2,          4,         24,       8024,2,20100608,       1512,  22.749500,-158.0000000,       4723,     4.9,  24.5361,  35.4870,2,  35.4903,2,    212.5,2,   213.0,2,    1.20,2,    0.05,2,  -999.0,       4,    24.5351,    0.03,2,     -999.0
33KI20100607,       PRS2,       2,          4,         23,       8023,2,20100608,       1512,  22.749500,-158.0000000,       4723,   498.4,   7.0911,  34.0740,2,  34.0747,2,    102.9,2,   104.4,2,   49.38,2,    2.18,2,  -999.0,     499,     7.0437,   30.43,2,     -999.0
33KI20100607,       PRS2,       2,          4,         22,       8022,2,20100608,       1512,  22.749500,-158.0000000,       4723,   750.6,   4.7940,  34.3147,2,  34.3144,2,     35.4,2,    34.7,2,   93.84,2,    2.95,2,  -999.0,     751,     4.7343,   40.55,2,     -999.0
33KI20100607,       PRS2,       2,          4,         21,       8021,2,20100608,       1512,  22.749500,-158.0000000,       4723,  1005.0,   3.8936,  34.4737,2,  34.4734,2,     46.5,2,    46.1,2,  112.26,2,    2.97,2,  -999.0,    1005,     3.8184,   41.12,2,     -999.0
33KI20100607,       PRS2,       2,          4,         20,       8020,2,20100608,       1512,  22.749500,-158.0000000,       4723,  1197.0,   3.4758,  34.5197,2,  34.5206,2,     55.0,2,    55.6,2,  121.10,2,    2.95,2,  -999.0,    1197,     3.3883,   40.98,2,     -999.0
33KI20100607,       PRS2,       2,          4,         19,       8019,2,20100608,       1512,  22.749500,-158.0000000,       4723,  1396.1,   3.0326,  34.5577,2,  34.5587,2,     63.7,2,    63.3,2,  130.90,2,    2.94,2,  -999.0,    1396,     2.9331,   41.06,2,     -999.0
33KI20100607,       PRS2,       2,          4,         18,       8018,2,20100608,       1512,  22.749500,-158.0000000,       4723,  1599.6,   2.6499,  34.5838,2,  34.5847,2,     72.5,2,    73.0,2,  139.28,2,    2.90,2,  -999.0,    1600,     2.5380,   40.60,2,     -999.0
33KI20100607,       PRS2,       2,          4,         17,       8017,2,20100608,       1512,  22.749500,-158.0000000,       4723,  1801.0,   2.3570,  34.6040,2,  34.6044,2,     81.4,2,    81.7,2,  145.95,2,    2.83,2,  -999.0,    1801,     2.2321,   39.98,2,     -999.0
33KI20100607,       PRS2,       2,          4,         16,       8016,2,20100608,       1512,  22.749500,-158.0000000,       4723,  2000.1,   2.1410,  34.6180,2,  34.6185,2,     89.3,2,    90.3,2,  150.52,2,    2.80,2,  -999.0,    2000,     2.0025,   39.52,2,     -999.0
33KI20100607,       PRS2,       2,          4,         15,       8015,2,20100608,       1512,  22.749500,-158.0000000,       4723,  2202.0,   1.9413,  34.6313,2,  34.6310,2,     96.9,2,    96.7,2,  155.51,2,    2.76,2,  -999.0,    2202,     1.7886,   39.31,2,     -999.0
33KI20100607,       PRS2,       2,          4,         14,       8014,2,20100608,       1512,  22.749500,-158.0000000,       4723,  2401.2,   1.7803,  34.6436,2,  34.6436,2,    103.5,2,   104.2,2,  159.70,2,    2.73,2,  -999.0,    2401,     1.6130,   38.83,2,     -999.0
33KI20100607,       PRS2,       2,          4,         13,       8025,2,20100608,       1512,  22.749500,-158.0000000,       4723,  2600.2,   1.6736,  34.6532,2,  34.6532,2,    110.9,2,   110.5,2,  160.16,2,    2.69,2,  -999.0,    2600,     1.4904,   38.29,2,     -999.0
33KI20100607,       PRS2,       2,          4,         12,       8012,2,20100608,       1512,  22.749500,-158.0000000,       4723,  2799.3,   1.6023,  34.6613,2,  34.6620,2,    117.5,2,   118.8,2,  159.35,2,    2.65,2,  -999.0,    2799,     1.4023,   37.94,2,     -999.0
33KI20100607,       PRS2,       2,          4,         11,       8011,2,20100608,       1512,  22.749500,-158.0000000,       4723,  2998.4,   1.5413,  34.6682,2,  34.6690,2,    125.7,2,   125.9,2,  160.07,2,    2.61,2,  -999.0,    2998,     1.3238,   37.37,2,     -999.0
33KI20100607,       PRS2,       2,          4,         10,       8010,2,20100608,       1512,  22.749500,-158.0000000,       4723,  3196.8,   1.5058,  34.6738,2,  34.6744,2,    132.0,2,   132.7,2,  156.91,2,    2.57,2,  -999.0,    3197,     1.2699,   37.04,2,     -999.0
33KI20100607,       PRS2,       2,          4,          9,       8009,2,20100608,       1512,  22.749500,-158.0000000,       4723,  3399.7,   1.4737,  34.6783,2,  34.6777,2,    137.9,2,   137.6,2,  156.09,2,    2.56,2,  -999.0,    3400,     1.2184,   36.70,2,     -999.0
33KI20100607,       PRS2,       2,          4,          8,       8008,2,20100608,       1512,  22.749500,-158.0000000,       4723,  3599.8,   1.4590,  34.6814,2,  34.6816,2,    142.4,2,   142.7,2,  155.21,2,    2.52,2,  -999.0,    3600,     1.1837,   36.30,2,     -999.0
33KI20100607,       PRS2,       2,          4,          7,       8026,2,20100608,       1512,  22.749500,-158.0000000,       4723,  3799.8,   1.4518,  34.6839,2,  34.6840,2,    146.4,2,   146.2,2,  153.23,2,    2.50,2,  -999.0,    3800,     1.1557,   36.10,2,     -999.0
33KI20100607,       PRS2,       2,          4,          6,       8006,2,20100608,       1512,  22.749500,-158.0000000,       4723,  4000.4,   1.4558,  34.6854,2,  34.6857,2,    149.2,2,   149.0,2,  151.60,2,    2.49,2,  -999.0,    4000,     1.1381,   35.83,2,     -999.0
33KI20100607,       PRS2,       2,          4,          5,       8005,2,20100608,       1512,  22.749500,-158.0000000,       4723,  4197.2,   1.4627,  34.6868,2,  34.6869,2,    151.5,2,   150.9,2,  150.65,2,    2.48,2,  -999.0,    4197,     1.1231,   35.78,2,     -999.0
33KI20100607,       PRS2,       2,          4,          4,       8004,2,20100608,       1512,  22.749500,-158.0000000,       4723,  4399.8,   1.4761,  34.6877,2,  34.6867,2,    153.3,2,   153.4,2,  149.94,2,    2.47,2,  -999.0,    4400,     1.1133,   35.54,2,     -999.0
33KI20100607,       PRS2,       2,          4,          3,       8003,2,20100608,       1512,  22.749500,-158.0000000,       4723,  4499.5,   1.4855,  34.6879,2,  34.6885,2,    153.7,2,   153.7,2,  149.26,2,    2.46,2,  -999.0,    4500,     1.1111,   35.54,2,     -999.0
33KI20100607,       PRS2,       2,          4,          2,       8002,2,20100608,       1512,  22.749500,-158.0000000,       4723,  4598.3,   1.4931,  34.6883,2,  34.6889,2,    154.4,2,   154.6,2,  149.68,2,    2.46,2,  -999.0,    4599,     1.1069,   35.50,2,     -999.0
33KI20100607,       PRS2,       2,          4,          1,       8001,2,20100608,       1512,  22.749500,-158.0000000,       4723,  4808.5,   1.5080,  34.6892,2,  34.6900,2,    156.2,2,   156.1,2,  148.44,2,    2.46,2,  -999.0,    4808,     1.0965,   35.32,2,     -999.0
33KI20100607,       PRS2,       2,          5,         24,       8024,2,20100608,       2058,  22.750333,-158.0011667,       4724,     5.9,  24.6090,  35.4874,2,-999.0000,5,    212.6,2,   214.3,2,    1.16,2,    0.04,2,  -999.0,       5,    24.6077,    0.02,2,     -999.0
33KI20100607,       PRS2,       2,          5,         23,       8023,2,20100608,       2058,  22.750333,-158.0011667,       4724,    37.0,  24.0894,  35.4800,2,  35.4789,2,    216.4,2,   217.5,2,    1.20,2,    0.03,2,  -999.0,      37,    24.0815,    0.02,2,     -999.0
33KI20100607,       PRS2,       2,          5,         22,       8022,2,20100608,       2058,  22.750333,-158.0011667,       4724,    65.8,  22.4711,  35.4553,2,  35.4555,2,    226.2,2,   227.1,2,    1.31,2,    0.02,2,  -999.0,      66,    22.4579,    0.02,2,     -999.0
33KI20100607,       PRS2,       2,          5,         21,       8021,2,20100608,       2058,  22.750333,-158.0011667,       4724,    69.9,  22.3024,  35.4531,2,  35.4519,2,    227.0,2,   227.5,2,    1.30,2,    0.01,2,  -999.0,      70,    22.2885,    0.03,2,     -999.0
33KI20100607,       PRS2,       2,          5,         20,       8020,2,20100608,       2058,  22.750333,-158.0011667,       4724,   106.6,  20.2233,  35.2982,2,  35.2984,2,    220.8,2,   218.7,2,    1.72,2,    0.04,2,  -999.0,     107,    20.2034,    0.03,2,     -999.0
33KI20100607,       PRS2,       2,          5,         19,       8019,2,20100608,       2058,  22.750333,-158.0011667,       4724,   119.6,  20.0009,  35.2689,2,  35.2625,2,    216.6,2,   216.7,2,    1.79,2,    0.06,2,  -999.0,     119,    19.9787,    0.26,2,     -999.0
33KI20100607,       PRS2,       2,          5,         18,       8018,2,20100608,       2058,  22.750333,-158.0011667,       4724,   222.3,  15.9019,  34.5927,2,  34.5985,2,    210.6,2,   214.5,2,    4.48,2,    0.29,2,  -999.0,     222,    15.8670,    3.73,2,     -999.0
33KI20100607,       PRS2,       2,          5,         17,       8017,2,20100608,       2058,  22.750333,-158.0011667,       4724,   277.1,  13.1198,  34.3166,2,  34.3199,2,    200.8,2,   200.7,2,    9.11,2,    0.69,2,  -999.0,     277,    13.0816,    9.67,2,     -999.0
33KI20100607,       PRS2,       2,          5,         16,       8016,2,20100608,       2058,  22.750333,-158.0011667,       4724,   301.3,  12.1706,  34.2737,2,  34.2695,2,    206.0,2,   206.6,2,   11.27,2,    0.80,2,  -999.0,     301,    12.1310,   11.23,2,     -999.0
33KI20100607,       PRS2,       2,          5,         15,       8015,2,20100608,       2058,  22.750333,-158.0011667,       4724,   350.9,  10.4968,  34.1173,2,  34.1179,2,    188.5,2,   188.4,2,   17.41,2,    1.15,2,  -999.0,     350,    10.4550,   15.93,2,     -999.0
33KI20100607,       PRS2,       2,          5,         14,       8014,2,20100608,       2058,  22.750333,-158.0011667,       4724,   389.5,   9.5282,  34.0888,2,  34.0893,2,    174.5,2,   173.3,2,   23.38,2,    1.39,2,  -999.0,     388,     9.4845,   19.32,2,     -999.0
33KI20100607,       PRS2,       2,          5,         13,       8025,2,20100608,       2058,  22.750333,-158.0011667,       4724,   416.3,   9.0214,  34.0909,2,  34.0911,2,    156.9,2,   154.4,2,   29.67,2,    1.61,2,  -999.0,     416,     8.9761,   22.18,2,     -999.0
33KI20100607,       PRS2,       2,          5,         12,       8012,2,20100608,       2058,  22.750333,-158.0011667,       4724,   476.3,   7.6919,  34.0830,2,  34.0856,2,    116.7,2,   117.1,2,   42.19,2,    2.04,2,  -999.0,     476,     7.6446,   28.14,2,     -999.0
33KI20100607,       PRS2,       2,          5,         11,       8011,2,20100608,       2058,  22.750333,-158.0011667,       4724,   487.1,   7.4247,  34.0772,2,  34.0772,2,    113.7,2,   112.3,2,   45.32,2,    2.10,2,  -999.0,     486,     7.3772,   29.04,2,     -999.0
33KI20100607,       PRS2,       2,          5,         10,       8010,2,20100608,       2058,  22.750333,-158.0011667,       4724,   505.6,   6.9241,  34.0757,2,  34.0748,2,     99.2,2,   100.4,2,   51.69,2,    2.26,2,  -999.0,     506,     6.8767,   31.22,2,     -999.0
33KI20100607,       PRS2,       2,          5,          9,       8009,2,20100608,       2058,  22.750333,-158.0011667,       4724,   555.8,   6.4115,  34.1312,2,  34.1281,2,     64.8,2,    68.1,2,   61.48,2,    2.55,2,  -999.0,     555,     6.3613,   34.79,2,     -999.0
33KI20100607,       PRS2,       2,          5,          8,       8008,2,20100608,       2058,  22.750333,-158.0011667,       4724,   594.2,   5.9636,  34.1699,2,  34.1695,2,     56.2,2,    53.8,2,   69.65,2,    2.70,2,  -999.0,     594,     5.9118,   36.79,2,     -999.0
33KI20100607,       PRS2,       2,          5,          7,       8026,2,20100608,       2058,  22.750333,-158.0011667,       4724,   650.4,   5.6611,  34.2254,2,  34.2258,2,     44.1,2,    43.1,2,   75.99,2,    2.82,2,  -999.0,     650,     5.6056,   38.28,2,     -999.0
33KI20100607,       PRS2,       2,          5,          6,       8006,2,20100608,       2058,  22.750333,-158.0011667,       4724,   693.2,   5.3600,  34.2625,2,  34.2623,2,     40.0,2,    38.6,2,   74.68,3,    2.59,3,  -999.0,     694,     5.3022,   35.35,3,     -999.0
33KI20100607,       PRS2,       2,          5,          5,       8005,2,20100608,       2058,  22.750333,-158.0011667,       4724,   755.1,   4.8970,  34.3221,2,  34.3229,2,     34.8,2,    34.6,2,   91.75,2,    2.95,2,  -999.0,     756,     4.8363,   40.56,2,     -999.0
33KI20100607,       PRS2,       2,          5,          4,       8004,2,20100608,       2058,  22.750333,-158.0011667,       4724,   836.6,   4.6350,  34.4136,2,  34.4155,2,     36.8,2,    35.8,2,   96.91,2,    2.99,2,  -999.0,     836,     4.5687,   41.06,2,     -999.0
33KI20100607,       PRS2,       2,          5,          3,       8003,2,20100608,       2058,  22.750333,-158.0011667,       4724,   899.5,   4.3328,  34.4244,2,  34.4320,3,     39.5,3,    40.2,2,  103.13,2,    2.97,2,  -999.0,     900,     4.2632,   41.06,2,     -999.0
33KI20100607,       PRS2,       2,          5,          2,       8002,2,20100608,       2058,  22.750333,-158.0011667,       4724,   981.5,   4.0282,  34.4697,2,  34.4693,2,     45.0,2,    45.7,2,  108.99,2,    2.97,2,  -999.0,     981,     3.9540,   41.24,2,     -999.0
33KI20100607,       PRS2,       2,          5,          1,       8001,2,20100608,       2058,  22.750333,-158.0011667,       4724,  1019.4,   3.9405,  34.4812,2,  34.4813,2,     47.0,2,    47.1,2,  110.92,2,    2.98,2,  -999.0,    1019,     3.8637,   41.33,2,     -999.0
33KI20100607,       PRS2,       2,          6,         18,       8018,2,20100608,       2358,  22.748833,-158.0001667,       4723,     5.6,  24.6673,  35.4919,2,  35.4910,2,    212.9,1,  -999.0,9, -999.00,9, -999.00,9,  -999.0,       6,    24.6661, -999.00,9,     -999.0
33KI20100607,       PRS2,       2,          6,         17,       8017,2,20100608,       2358,  22.748833,-158.0001667,       4723,    24.4,  24.6072,  35.4913,2,-999.0000,5,    213.2,1,  -999.0,9, -999.00,9, -999.00,9,  -999.0,      24,    24.6020, -999.00,9,     -999.0
33KI20100607,       PRS2,       2,          6,         16,       8016,2,20100608,       2358,  22.748833,-158.0001667,       4723,    24.4,  24.6019,  35.4914,2,  35.4910,2,    213.2,1,  -999.0,9, -999.00,9, -999.00,9,  -999.0,      24,    24.5966, -999.00,9,     -999.0
33KI20100607,       PRS2,       2,          6,         15,       8015,2,20100608,       2358,  22.748833,-158.0001667,       4723,    45.6,  23.8479,  35.4659,2,  35.4671,2,    218.4,1,  -999.0,9, -999.00,9, -999.00,9,  -999.0,      46,    23.8383, -999.00,9,     -999.0
33KI20100607,       PRS2,       2,          6,         14,       8014,2,20100608,       2358,  22.748833,-158.0001667,       4723,    49.1,  23.3797,  35.4473,2,-999.0000,5,    221.8,1,  -999.0,9, -999.00,9, -999.00,9,  -999.0,      49,    23.3696, -999.00,9,     -999.0
33KI20100607,       PRS2,       2,          6,         13,       8025,2,20100608,       2358,  22.748833,-158.0001667,       4723,    76.2,  21.6643,  35.4282,2,-999.0000,5,    228.4,1,  -999.0,9, -999.00,9, -999.00,9,  -999.0,      76,    21.6494, -999.00,9,     -999.0
33KI20100607,       PRS2,       2,          6,         12,       8012,2,20100608,       2358,  22.748833,-158.0001667,       4723,    75.8,  21.6943,  35.4276,2,  35.4344,2,    228.3,1,  -999.0,9, -999.00,9, -999.00,9,  -999.0,      76,    21.6794, -999.00,9,     -999.0
33KI20100607,       PRS2,       2,          6,         11,       8011,2,20100608,       2358,  22.748833,-158.0001667,       4723,   102.3,  20.4777,  35.3299,2,-999.0000,5,    223.5,1,  -999.0,9, -999.00,9, -999.00,9,  -999.0,     102,    20.4585, -999.00,9,     -999.0
33KI20100607,       PRS2,       2,          6,         10,       8010,2,20100608,       2358,  22.748833,-158.0001667,       4723,   101.7,  20.4835,  35.3303,2,  35.3299,2,    223.4,1,  -999.0,9, -999.00,9, -999.00,9,  -999.0,     101,    20.4644, -999.00,9,     -999.0
33KI20100607,       PRS2,       2,          6,          9,       8009,2,20100608,       2358,  22.748833,-158.0001667,       4723,   123.8,  19.6836,  35.2191,2,  35.2243,2,    214.9,1,  -999.0,9, -999.00,9, -999.00,9,  -999.0,     124,    19.6610, -999.00,9,     -999.0
33KI20100607,       PRS2,       2,          6,          8,       8008,2,20100608,       2358,  22.748833,-158.0001667,       4723,   149.2,  19.2345,  35.1777,2,  35.1778,2,    213.5,1,  -999.0,9, -999.00,9, -999.00,9,  -999.0,     149,    19.2076, -999.00,9,     -999.0
33KI20100607,       PRS2,       2,          6,          7,       8026,2,20100608,       2358,  22.748833,-158.0001667,       4723,   178.0,  18.6245,  35.0873,2,  35.0980,2,    219.2,1,  -999.0,9, -999.00,9, -999.00,9,  -999.0,     177,    18.5932, -999.00,9,     -999.0
33KI20100607,       PRS2,       2,          6,          6,       8006,2,20100608,       2358,  22.748833,-158.0001667,       4723,   201.2,  17.6318,  34.8924,2,  34.9036,2,    218.3,1,  -999.0,9, -999.00,9, -999.00,9,  -999.0,     202,    17.5977, -999.00,9,     -999.0
33KI20100607,       PRS2,       2,          6,          5,       8005,2,20100608,       2358,  22.748833,-158.0001667,       4723,   252.9,  14.9438,  34.4813,2,  34.4834,2,    200.1,1,  -999.0,9, -999.00,9, -999.00,9,  -999.0,     253,    14.9057, -999.00,9,     -999.0
33KI20100607,       PRS2,       2,          6,          4,       8004,2,20100608,       2358,  22.748833,-158.0001667,       4723,   353.8,  10.8287,  34.1426,2,  34.1568,2,    197.0,1,  -999.0,9, -999.00,9, -999.00,9,  -999.0,     354,    10.7857, -999.00,9,     -999.0
33KI20100607,       PRS2,       2,          6,          3,       8003,2,20100608,       2358,  22.748833,-158.0001667,       4723,   352.6,  10.8866,  34.1499,2,  34.1575,2,    196.4,1,  -999.0,9, -999.00,9, -999.00,9,  -999.0,     352,    10.8435, -999.00,9,     -999.0
33KI20100607,       PRS2,       2,          6,          2,       8002,2,20100608,       2358,  22.748833,-158.0001667,       4723,   513.2,   7.2633,  34.0757,2,  34.0758,2,    110.8,1,  -999.0,9, -999.00,9, -999.00,9,  -999.0,     513,     7.2138, -999.00,9,     -999.0
33KI20100607,       PRS2,       2,          6,          1,       8001,2,20100608,       2358,  22.748833,-158.0001667,       4723,  1015.9,   3.9267,  34.4828,2,  34.4820,2,     47.3,1,  -999.0,9, -999.00,9, -999.00,9,  -999.0,    1016,     3.8504, -999.00,9,     -999.0