BOTTLE,20141031SIOCCHAMB
EXPOCODE,SECT_ID,STNNBR,CASTNO,SAMPNO,BTLNBR,BTLNBR_FLAG_W,DATE,TIME,LATITUDE,LONGITUDE,DEPTH,CTDPRS,CTDTMP,CTDSAL,CTDSAL_FLAG_W,SALNTY,SALNTY_FLAG_W,CTDOXY,CTDOXY_FLAG_W,OXYGEN,OXYGEN_FLAG_W,SILCAT,SILCAT_FLAG_W,PHSPHT,PHSPHT_FLAG_W,REVPRS,CTDRAW,THETA,NO2+NO3,NO2+NO3_FLAG_W,REVTMP
,,,,,,,,,,,METERS,DBAR,ITS-90,PSS-78,,PSS-78,,UMOL/KG,,UMOL/KG,,UMOL/KG,,UMOL/KG,,DBAR,DBAR,ITS-90,UMOL/KG,,DEG C
33KI20100607,       PRS2,       6,          1,         13,       8025,2,20100611,       0835,  21.850833,-158.3718333,       2471,     4.7,  25.3369,  35.0653,2,  35.0646,2,    209.3,1,  -999.0,9, -999.00,9, -999.00,9,  -999.0,       5,    25.3359, -999.00,9,     -999.0
33KI20100607,       PRS2,       6,          1,         12,       8012,2,20100611,       0835,  21.850833,-158.3718333,       2471,    25.1,  25.3437,  35.0648,2,  35.0638,2,    209.3,1,  -999.0,9, -999.00,9, -999.00,9,  -999.0,      25,    25.3382, -999.00,9,     -999.0
33KI20100607,       PRS2,       6,          1,         11,       8011,2,20100611,       0835,  21.850833,-158.3718333,       2471,    44.5,  25.1373,  35.0635,2,  35.0813,3,    210.1,1,  -999.0,9, -999.00,9, -999.00,9,  -999.0,      44,    25.1276, -999.00,9,     -999.0
33KI20100607,       PRS2,       6,          1,         10,       8010,2,20100611,       0835,  21.850833,-158.3718333,       2471,    73.9,  23.5778,  35.2213,2,  35.2229,2,    214.0,1,  -999.0,9, -999.00,9, -999.00,9,  -999.0,      74,    23.5625, -999.00,9,     -999.0
33KI20100607,       PRS2,       6,          1,          9,       8009,2,20100611,       0835,  21.850833,-158.3718333,       2471,   100.2,  22.8572,  35.2908,2,  35.2934,2,    213.0,1,  -999.0,9, -999.00,9, -999.00,9,  -999.0,     100,    22.8368, -999.00,9,     -999.0
33KI20100607,       PRS2,       6,          1,          8,       8008,2,20100611,       0835,  21.850833,-158.3718333,       2471,   124.5,  21.0483,  35.2540,2,  35.2554,2,    205.5,1,  -999.0,9, -999.00,9, -999.00,9,  -999.0,     125,    21.0244, -999.00,9,     -999.0
33KI20100607,       PRS2,       6,          1,          7,       8026,2,20100611,       0835,  21.850833,-158.3718333,       2471,   151.5,  19.8251,  35.0815,2,  35.0915,2,    197.0,1,  -999.0,9, -999.00,9, -999.00,9,  -999.0,     150,    19.7973, -999.00,9,     -999.0
33KI20100607,       PRS2,       6,          1,          6,       8006,2,20100611,       0835,  21.850833,-158.3718333,       2471,   173.6,  18.9700,  34.9960,2,  34.9982,2,    195.2,1,  -999.0,9, -999.00,9, -999.00,9,  -999.0,     174,    18.9391, -999.00,9,     -999.0
33KI20100607,       PRS2,       6,          1,          5,       8005,2,20100611,       0835,  21.850833,-158.3718333,       2471,   499.3,   6.7584,  34.1234,2,  34.1244,2,     88.4,1,  -999.0,9, -999.00,9, -999.00,9,  -999.0,     501,     6.7122, -999.00,9,     -999.0
33KI20100607,       PRS2,       6,          1,          4,       8004,2,20100611,       0835,  21.850833,-158.3718333,       2471,   997.6,   4.0207,  34.4864,2,  34.4846,2,     45.8,1,  -999.0,9, -999.00,9, -999.00,9,  -999.0,     997,     3.9451, -999.00,9,     -999.0
33KI20100607,       PRS2,       6,          1,          3,       8003,2,20100611,       0835,  21.850833,-158.3718333,       2471,  1500.9,   2.8091,  34.5728,2,  34.5732,2,     69.7,1,  -999.0,9, -999.00,9, -999.00,9,  -999.0,    1500,     2.7034, -999.00,9,     -999.0
33KI20100607,       PRS2,       6,          1,          2,       8002,2,20100611,       0835,  21.850833,-158.3718333,       2471,  1999.1,   2.1344,  34.6185,2,  34.6187,2,     90.8,1,  -999.0,9, -999.00,9, -999.00,9,  -999.0,    1999,     1.9961, -999.00,9,     -999.0
33KI20100607,       PRS2,       6,          1,          1,       8001,2,20100611,       0835,  21.850833,-158.3718333,       2471,  2471.6,   1.7511,  34.6479,2,  34.6488,2,    109.0,1,  -999.0,9, -999.00,9, -999.00,9,  -999.0,    2472,     1.5780, -999.00,9,     -999.0
33KI20100607,       PRS2,      52,          1,         24,       8024,2,20100610,       2120,  22.663667,-157.9211667,       4738,    24.1,  24.6625,  35.4450,2,-999.0000,9,    212.0,1,  -999.0,9, -999.00,9, -999.00,9,  -999.0,      26,    24.6573, -999.00,9,     -999.0
33KI20100607,       PRS2,      52,          1,         23,       8023,2,20100610,       2120,  22.663667,-157.9211667,       4738,    24.7,  24.6612,  35.4451,2,-999.0000,9,    212.1,1,  -999.0,9, -999.00,9, -999.00,9,  -999.0,      26,    24.6559, -999.00,9,     -999.0
33KI20100607,       PRS2,      52,          1,         22,       8022,2,20100610,       2120,  22.663667,-157.9211667,       4738,    25.0,  24.6603,  35.4452,2,-999.0000,9,    212.1,1,  -999.0,9, -999.00,9, -999.00,9,  -999.0,      25,    24.6549, -999.00,9,     -999.0
33KI20100607,       PRS2,      52,          1,         21,       8021,2,20100610,       2120,  22.663667,-157.9211667,       4738,    25.0,  24.6601,  35.4452,2,-999.0000,9,    212.1,1,  -999.0,9, -999.00,9, -999.00,9,  -999.0,      26,    24.6547, -999.00,9,     -999.0
33KI20100607,       PRS2,      52,          1,         20,       8020,2,20100610,       2120,  22.663667,-157.9211667,       4738,    24.9,  24.6617,  35.4449,2,-999.0000,9,    212.1,1,  -999.0,9, -999.00,9, -999.00,9,  -999.0,      24,    24.6563, -999.00,9,     -999.0
33KI20100607,       PRS2,      52,          1,         19,       8019,2,20100610,       2120,  22.663667,-157.9211667,       4738,    24.7,  24.6620,  35.4450,2,-999.0000,9,    212.1,1,  -999.0,9, -999.00,9, -999.00,9,  -999.0,      24,    24.6567, -999.00,9,     -999.0
33KI20100607,       PRS2,      52,          1,         18,       8018,2,20100610,       2120,  22.663667,-157.9211667,       4738,    24.7,  24.6621,  35.4450,2,-999.0000,9,    212.2,1,  -999.0,9, -999.00,9, -999.00,9,  -999.0,      24,    24.6568, -999.00,9,     -999.0
33KI20100607,       PRS2,      52,          1,         17,       8017,2,20100610,       2120,  22.663667,-157.9211667,       4738,    24.9,  24.6614,  35.4449,2,-999.0000,9,    212.2,1,  -999.0,9, -999.00,9, -999.00,9,  -999.0,      26,    24.6561, -999.00,9,     -999.0
33KI20100607,       PRS2,      52,          1,         16,       8016,2,20100610,       2120,  22.663667,-157.9211667,       4738,    24.9,  24.6618,  35.4447,2,-999.0000,9,    212.2,1,  -999.0,9, -999.00,9, -999.00,9,  -999.0,      25,    24.6564, -999.00,9,     -999.0
33KI20100607,       PRS2,      52,          1,         15,       8015,2,20100610,       2120,  22.663667,-157.9211667,       4738,    25.0,  24.6612,  35.4448,2,-999.0000,9,    212.2,1,  -999.0,9, -999.00,9, -999.00,9,  -999.0,      24,    24.6558, -999.00,9,     -999.0
33KI20100607,       PRS2,      52,          1,         14,       8014,2,20100610,       2120,  22.663667,-157.9211667,       4738,    25.0,  24.6607,  35.4448,2,-999.0000,9,    212.2,1,  -999.0,9, -999.00,9, -999.00,9,  -999.0,      25,    24.6553, -999.00,9,     -999.0
33KI20100607,       PRS2,      52,          1,         13,       8025,2,20100610,       2120,  22.663667,-157.9211667,       4738,    25.2,  24.6599,  35.4449,2,-999.0000,9,    212.2,1,  -999.0,9, -999.00,9, -999.00,9,  -999.0,      24,    24.6545, -999.00,9,     -999.0
33KI20100607,       PRS2,      52,          1,         12,       8012,2,20100610,       2120,  22.663667,-157.9211667,       4738,    25.3,  24.6592,  35.4449,2,-999.0000,9,    212.2,1,  -999.0,9, -999.00,9, -999.00,9,  -999.0,      25,    24.6538, -999.00,9,     -999.0
33KI20100607,       PRS2,      52,          1,         11,       8011,2,20100610,       2120,  22.663667,-157.9211667,       4738,    25.5,  24.6593,  35.4446,2,-999.0000,9,    212.2,1,  -999.0,9, -999.00,9, -999.00,9,  -999.0,      26,    24.6539, -999.00,9,     -999.0
33KI20100607,       PRS2,      52,          1,         10,       8010,2,20100610,       2120,  22.663667,-157.9211667,       4738,    25.4,  24.6596,  35.4446,2,-999.0000,9,    212.2,1,  -999.0,9, -999.00,9, -999.00,9,  -999.0,      26,    24.6541, -999.00,9,     -999.0
33KI20100607,       PRS2,      52,          1,          9,       8009,2,20100610,       2120,  22.663667,-157.9211667,       4738,    25.4,  24.6591,  35.4446,2,-999.0000,9,    212.2,1,  -999.0,9, -999.00,9, -999.00,9,  -999.0,      25,    24.6537, -999.00,9,     -999.0
33KI20100607,       PRS2,      52,          1,          8,       8008,2,20100610,       2120,  22.663667,-157.9211667,       4738,    25.3,  24.6587,  35.4445,2,-999.0000,9,    212.2,1,  -999.0,9, -999.00,9, -999.00,9,  -999.0,      25,    24.6532, -999.00,9,     -999.0
33KI20100607,       PRS2,      52,          1,          7,       8026,2,20100610,       2120,  22.663667,-157.9211667,       4738,    25.3,  24.6582,  35.4447,2,-999.0000,9,    212.2,1,  -999.0,9, -999.00,9, -999.00,9,  -999.0,      25,    24.6528, -999.00,9,     -999.0
33KI20100607,       PRS2,      52,          1,          6,       8006,2,20100610,       2120,  22.663667,-157.9211667,       4738,    25.5,  24.6577,  35.4447,2,-999.0000,9,    212.2,1,  -999.0,9, -999.00,9, -999.00,9,  -999.0,      26,    24.6522, -999.00,9,     -999.0
33KI20100607,       PRS2,      52,          1,          5,       8005,2,20100610,       2120,  22.663667,-157.9211667,       4738,    25.2,  24.6578,  35.4447,2,-999.0000,9,    212.2,1,  -999.0,9, -999.00,9, -999.00,9,  -999.0,      26,    24.6524, -999.00,9,     -999.0
33KI20100607,       PRS2,      52,          1,          4,       8004,2,20100610,       2120,  22.663667,-157.9211667,       4738,    25.3,  24.6579,  35.4447,2,-999.0000,9,    212.2,1,  -999.0,9, -999.00,9, -999.00,9,  -999.0,      25,    24.6524, -999.00,9,     -999.0
33KI20100607,       PRS2,      52,          1,          3,       8003,2,20100610,       2120,  22.663667,-157.9211667,       4738,    25.2,  24.6578,  35.4446,2,-999.0000,9,    212.2,1,  -999.0,9, -999.00,9, -999.00,9,  -999.0,      25,    24.6524, -999.00,9,     -999.0
33KI20100607,       PRS2,      52,          1,          2,       8002,2,20100610,       2120,  22.663667,-157.9211667,       4738,    25.2,  24.6579,  35.4444,2,-999.0000,9,    212.2,1,  -999.0,9, -999.00,9, -999.00,9,  -999.0,      25,    24.6525, -999.00,9,     -999.0
33KI20100607,       PRS2,      52,          1,          1,       8001,2,20100610,       2120,  22.663667,-157.9211667,       4738,    25.2,  24.6581,  35.4442,2,-999.0000,9,    212.2,1,  -999.0,9, -999.00,9, -999.00,9,  -999.0,      25,    24.6527, -999.00,9,     -999.0