BOTTLE,20141031SIOCCHAMB
EXPOCODE,SECT_ID,STNNBR,CASTNO,SAMPNO,BTLNBR,BTLNBR_FLAG_W,DATE,TIME,LATITUDE,LONGITUDE,DEPTH,CTDPRS,CTDTMP,CTDSAL,CTDSAL_FLAG_W,SALNTY,SALNTY_FLAG_W,CTDOXY,CTDOXY_FLAG_W,OXYGEN,OXYGEN_FLAG_W,SILCAT,SILCAT_FLAG_W,PHSPHT,PHSPHT_FLAG_W,REVPRS,CTDRAW,THETA,NO2+NO3,NO2+NO3_FLAG_W,REVTMP
,,,,,,,,,,,METERS,DBAR,ITS-90,PSS-78,,PSS-78,,UMOL/KG,,UMOL/KG,,UMOL/KG,,UMOL/KG,,DBAR,DBAR,ITS-90,UMOL/KG,,DEG C
33KI20100607,       PRS2,       2,          7,         14,       8014,2,20100609,       0256,  22.747333,-157.9226667,       4698,     4.8,  24.9107,  35.3973,2,  35.3995,2,    211.5,1,  -999.0,9, -999.00,9, -999.00,9,  -999.0,       4,    24.9096, -999.00,9,     -999.0
33KI20100607,       PRS2,       2,          7,         13,       8025,2,20100609,       0256,  22.747333,-157.9226667,       4698,    25.2,  24.6248,  35.4899,2,  35.4900,2,    213.2,1,  -999.0,9, -999.00,9, -999.00,9,  -999.0,      25,    24.6194, -999.00,9,     -999.0
33KI20100607,       PRS2,       2,          7,         12,       8012,2,20100609,       0256,  22.747333,-157.9226667,       4698,    44.8,  24.0098,  35.4725,2,  35.4722,2,    217.5,1,  -999.0,9, -999.00,9, -999.00,9,  -999.0,      45,    24.0003, -999.00,9,     -999.0
33KI20100607,       PRS2,       2,          7,         11,       8011,2,20100609,       0256,  22.747333,-157.9226667,       4698,    76.1,  22.0015,  35.4447,2,  35.4470,2,    227.7,1,  -999.0,9, -999.00,9, -999.00,9,  -999.0,      76,    21.9864, -999.00,9,     -999.0
33KI20100607,       PRS2,       2,          7,         10,       8010,2,20100609,       0256,  22.747333,-157.9226667,       4698,   102.7,  20.7191,  35.3457,2,  35.3500,2,    225.7,1,  -999.0,9, -999.00,9, -999.00,9,  -999.0,     102,    20.6996, -999.00,9,     -999.0
33KI20100607,       PRS2,       2,          7,          9,       8009,2,20100609,       0256,  22.747333,-157.9226667,       4698,   124.5,  19.8735,  35.2453,2,  35.2454,2,    212.5,1,  -999.0,9, -999.00,9, -999.00,9,  -999.0,     125,    19.8506, -999.00,9,     -999.0
33KI20100607,       PRS2,       2,          7,          8,       8008,2,20100609,       0256,  22.747333,-157.9226667,       4698,   148.2,  19.1826,  35.1602,2,  35.1620,2,    213.3,1,  -999.0,9, -999.00,9, -999.00,9,  -999.0,     148,    19.1560, -999.00,9,     -999.0
33KI20100607,       PRS2,       2,          7,          7,       8026,2,20100609,       0256,  22.747333,-157.9226667,       4698,   178.5,  18.0938,  34.9801,2,  35.0037,3,    221.3,1,  -999.0,9, -999.00,9, -999.00,9,  -999.0,     179,    18.0631, -999.00,9,     -999.0
33KI20100607,       PRS2,       2,          7,          6,       8006,2,20100609,       0256,  22.747333,-157.9226667,       4698,   202.6,  16.8386,  34.7429,2,  34.7636,3,    209.7,1,  -999.0,9, -999.00,9, -999.00,9,  -999.0,     202,    16.8054, -999.00,9,     -999.0
33KI20100607,       PRS2,       2,          7,          5,       8005,2,20100609,       0256,  22.747333,-157.9226667,       4698,   256.7,  14.0293,  34.3998,2,  34.4129,2,    200.8,1,  -999.0,9, -999.00,9, -999.00,9,  -999.0,     257,    13.9923, -999.00,9,     -999.0
33KI20100607,       PRS2,       2,          7,          4,       8004,2,20100609,       0256,  22.747333,-157.9226667,       4698,   349.5,  10.7729,  34.1635,2,  34.1770,2,    200.9,1,  -999.0,9, -999.00,9, -999.00,9,  -999.0,     349,    10.7305, -999.00,9,     -999.0
33KI20100607,       PRS2,       2,          7,          3,       8003,2,20100609,       0256,  22.747333,-157.9226667,       4698,   349.0,  10.8212,  34.1686,2,  34.1795,2,    200.5,1,  -999.0,9, -999.00,9, -999.00,9,  -999.0,     350,    10.7788, -999.00,9,     -999.0
33KI20100607,       PRS2,       2,          7,          2,       8002,2,20100609,       0256,  22.747333,-157.9226667,       4698,   507.5,   6.8961,  34.0724,2,  34.0725,2,    103.4,1,  -999.0,9, -999.00,9, -999.00,9,  -999.0,     508,     6.8487, -999.00,9,     -999.0
33KI20100607,       PRS2,       2,          7,          1,       8001,2,20100609,       0256,  22.747333,-157.9226667,       4698,  1016.8,   3.9389,  34.4741,2,  34.4756,2,     46.3,1,  -999.0,9, -999.00,9, -999.00,9,  -999.0,    1017,     3.8624, -999.00,9,     -999.0
33KI20100607,       PRS2,       2,          8,         23,       8023,2,20100609,       0602,  22.746000,-157.9213333,       4700,     5.6,  24.8321,  35.4097,2,  35.4044,2,    213.7,2,  -999.0,5, -999.00,5, -999.00,5,  -999.0,       5,    24.8309, -999.00,5,     -999.0
33KI20100607,       PRS2,       2,          8,         22,       8022,2,20100609,       0602,  22.746000,-157.9213333,       4700,     5.6,  24.8410,  35.4059,2,  35.4036,2,    213.7,2,   211.9,2,    1.12,2,    0.06,2,  -999.0,       6,    24.8398,    0.04,2,     -999.0
33KI20100607,       PRS2,       2,          8,         21,       8021,2,20100609,       0602,  22.746000,-157.9213333,       4700,    15.3,  24.6648,  35.4503,2,  35.4519,2,    213.6,2,  -999.0,5,    1.12,2,    0.05,2,  -999.0,      16,    24.6615,    0.04,2,     -999.0
33KI20100607,       PRS2,       2,          8,         20,       8020,2,20100609,       0602,  22.746000,-157.9213333,       4700,    25.0,  24.6173,  35.4602,2,  35.4665,2,    213.5,2,  -999.0,5, -999.00,5, -999.00,5,  -999.0,      25,    24.6120, -999.00,5,     -999.0
33KI20100607,       PRS2,       2,          8,         19,       8019,2,20100609,       0602,  22.746000,-157.9213333,       4700,    25.0,  24.5928,  35.4656,2,  35.4689,2,    213.4,2,   214.1,2,    1.16,2,    0.04,2,  -999.0,      25,    24.5875,    0.02,2,     -999.0
33KI20100607,       PRS2,       2,          8,         18,       8018,2,20100609,       0602,  22.746000,-157.9213333,       4700,    36.0,  24.5719,  35.4716,2,  35.4738,2,    213.3,2,  -999.0,5,    1.15,2,    0.05,2,  -999.0,      36,    24.5642,    0.03,2,     -999.0
33KI20100607,       PRS2,       2,          8,         17,       8017,2,20100609,       0602,  22.746000,-157.9213333,       4700,    45.7,  24.1071,  35.4754,2,  35.4766,2,    216.7,2,   216.3,2,    1.17,2,    0.04,2,  -999.0,      46,    24.0975,    0.03,2,     -999.0
33KI20100607,       PRS2,       2,          8,         16,       8016,2,20100609,       0602,  22.746000,-157.9213333,       4700,    61.5,  22.5633,  35.4546,2,  35.4523,2,    226.1,2,  -999.0,5,    1.28,2,    0.03,2,  -999.0,      61,    22.5509,    0.03,2,     -999.0
33KI20100607,       PRS2,       2,          8,         15,       8015,2,20100609,       0602,  22.746000,-157.9213333,       4700,    74.1,  21.4302,  35.4040,2,  35.4036,2,    228.3,2,   229.6,2,    1.50,2,    0.02,2,  -999.0,      74,    21.4158,    0.03,2,     -999.0
33KI20100607,       PRS2,       2,          8,         14,       8014,2,20100609,       0602,  22.746000,-157.9213333,       4700,    86.9,  21.0861,  35.3933,2,  35.3951,2,    224.5,2,   224.0,2, -999.00,5, -999.00,5,  -999.0,      87,    21.0694, -999.00,5,     -999.0
33KI20100607,       PRS2,       2,          8,         13,       8025,2,20100609,       0602,  22.746000,-157.9213333,       4700,    90.2,  21.0658,  35.3933,2,  35.3924,2,    223.6,2,  -999.0,5, -999.00,5, -999.00,5,  -999.0,      90,    21.0485, -999.00,5,     -999.0
33KI20100607,       PRS2,       2,          8,         12,       8012,2,20100609,       0602,  22.746000,-157.9213333,       4700,    98.2,  20.8118,  35.3654,2,  35.3608,2,    224.5,2,   222.5,2,    1.57,2,    0.03,2,  -999.0,      99,    20.7931,    0.05,2,     -999.0
33KI20100607,       PRS2,       2,          8,         11,       8011,2,20100609,       0602,  22.746000,-157.9213333,       4700,   111.1,  20.3446,  35.3116,2,  35.3088,2,    218.4,2,  -999.0,5, -999.00,5, -999.00,5,  -999.0,     111,    20.3238, -999.00,5,     -999.0
33KI20100607,       PRS2,       2,          8,         10,       8010,2,20100609,       0602,  22.746000,-157.9213333,       4700,   113.3,  20.1401,  35.2874,2,  35.2783,2,    217.6,2,   215.8,2, -999.00,5, -999.00,5,  -999.0,     113,    20.1190, -999.00,5,     -999.0
33KI20100607,       PRS2,       2,          8,          9,       8009,2,20100609,       0602,  22.746000,-157.9213333,       4700,   124.8,  19.6083,  35.2090,2,  35.2067,2,    210.0,2,   212.3,2,    2.03,2,    0.11,2,  -999.0,     125,    19.5856,    0.90,2,     -999.0
33KI20100607,       PRS2,       2,          8,          8,       8008,2,20100609,       0602,  22.746000,-157.9213333,       4700,   131.9,  19.4300,  35.2005,2,  35.1947,2,    211.7,2,  -999.0,5, -999.00,5, -999.00,5,  -999.0,     132,    19.4061, -999.00,5,     -999.0
33KI20100607,       PRS2,       2,          8,          7,       8026,2,20100609,       0602,  22.746000,-157.9213333,       4700,   146.6,  19.2001,  35.1834,2,  35.1827,2,    217.9,2,   217.7,2,    2.17,2,    0.09,2,  -999.0,     147,    19.1737,    0.83,2,     -999.0
33KI20100607,       PRS2,       2,          8,          6,       8006,2,20100609,       0602,  22.746000,-157.9213333,       4700,   165.4,  18.2554,  35.0097,2,  35.0173,2,    217.8,2,   218.8,2, -999.00,5, -999.00,5,  -999.0,     165,    18.2267, -999.00,5,     -999.0
33KI20100607,       PRS2,       2,          8,          5,       8005,2,20100609,       0602,  22.746000,-157.9213333,       4700,   175.8,  17.4710,  34.8612,2,  34.8721,2,    216.9,2,   215.3,2,    3.18,2,    0.19,2,  -999.0,     176,    17.4415,    2.13,2,     -999.0
33KI20100607,       PRS2,       2,          8,          4,       8004,2,20100609,       0602,  22.746000,-157.9213333,       4700,   206.8,  16.0935,  34.6225,2,  34.6352,2,    211.6,2,   212.6,2,    4.35,2,    0.30,2,  -999.0,     207,    16.0608,    3.71,2,     -999.0
33KI20100607,       PRS2,       2,          8,          3,       8003,2,20100609,       0602,  22.746000,-157.9213333,       4700,   506.2,   6.9335,  34.0726,2,  34.0731,2,    103.8,2,   102.6,2, -999.00,5, -999.00,5,  -999.0,     506,     6.8860, -999.00,5,     -999.0
33KI20100607,       PRS2,       2,          8,          2,       8002,2,20100609,       0602,  22.746000,-157.9213333,       4700,   720.3,   5.1167,  34.3526,2,  34.3543,2,     33.1,2,    33.2,2, -999.00,5, -999.00,5,  -999.0,     720,     5.0577, -999.00,5,     -999.0
33KI20100607,       PRS2,       2,          8,          1,       8001,2,20100609,       0602,  22.746000,-157.9213333,       4700,  1023.3,   3.8602,  34.4759,2,  34.4769,2,     46.9,2,    47.1,2, -999.00,5, -999.00,5,  -999.0,    1023,     3.7838, -999.00,5,     -999.0
33KI20100607,       PRS2,       2,          9,         24,       8024,2,20100609,       0902,  22.748500,-157.9978333,       4722,     5.4,  24.6173,  35.4880,2,  35.4876,2,    213.3,1,  -999.0,9, -999.00,9, -999.00,9,  -999.0,       6,    24.6161, -999.00,9,     -999.0
33KI20100607,       PRS2,       2,          9,         23,       8023,2,20100609,       0902,  22.748500,-157.9978333,       4722,    24.7,  24.6170,  35.4860,2,  35.4864,2,    213.3,1,  -999.0,9, -999.00,9, -999.00,9,  -999.0,      24,    24.6117, -999.00,9,     -999.0
33KI20100607,       PRS2,       2,          9,         22,       8022,2,20100609,       0902,  22.748500,-157.9978333,       4722,    44.2,  23.2512,  35.4586,2,  35.4590,2,    221.7,1,  -999.0,9, -999.00,9, -999.00,9,  -999.0,      44,    23.2421, -999.00,9,     -999.0
33KI20100607,       PRS2,       2,          9,         21,       8021,2,20100609,       0902,  22.748500,-157.9978333,       4722,    75.3,  21.6159,  35.4397,2,  35.4407,2,    228.7,1,  -999.0,9, -999.00,9, -999.00,9,  -999.0,      76,    21.6012, -999.00,9,     -999.0
33KI20100607,       PRS2,       2,          9,         20,       8020,2,20100609,       0902,  22.748500,-157.9978333,       4722,    99.6,  20.9914,  35.4086,2,  35.4212,3,    226.5,1,  -999.0,9, -999.00,9, -999.00,9,  -999.0,     100,    20.9723, -999.00,9,     -999.0
33KI20100607,       PRS2,       2,          9,         19,       8019,2,20100609,       0902,  22.748500,-157.9978333,       4722,   124.9,  19.8468,  35.2778,2,  35.2802,2,    230.0,1,  -999.0,9, -999.00,9, -999.00,9,  -999.0,     125,    19.8238, -999.00,9,     -999.0
33KI20100607,       PRS2,       2,          9,         18,       8018,2,20100609,       0902,  22.748500,-157.9978333,       4722,   149.5,  19.1412,  35.1766,2,  35.1748,2,    223.6,1,  -999.0,9, -999.00,9, -999.00,9,  -999.0,     150,    19.1144, -999.00,9,     -999.0
33KI20100607,       PRS2,       2,          9,         17,       8017,2,20100609,       0902,  22.748500,-157.9978333,       4722,   175.2,  18.4161,  35.0494,2,  35.0516,2,    222.4,1,  -999.0,9, -999.00,9, -999.00,9,  -999.0,     175,    18.3856, -999.00,9,     -999.0
33KI20100607,       PRS2,       2,          9,         16,       8016,2,20100609,       0902,  22.748500,-157.9978333,       4722,   495.7,   7.5769,  34.0963,2,-999.0000,5,    109.0,1,  -999.0,9, -999.00,9, -999.00,9,  -999.0,     496,     7.5280, -999.00,9,     -999.0
33KI20100607,       PRS2,       2,          9,         15,       8015,2,20100609,       0902,  22.748500,-157.9978333,       4722,   495.8,   7.5560,  34.0957,2,-999.0000,5,    108.2,1,  -999.0,9, -999.00,9, -999.00,9,  -999.0,     496,     7.5072, -999.00,9,     -999.0
33KI20100607,       PRS2,       2,          9,         14,       8014,2,20100609,       0902,  22.748500,-157.9978333,       4722,   496.2,   7.5291,  34.0951,2,-999.0000,5,    107.9,1,  -999.0,9, -999.00,9, -999.00,9,  -999.0,     496,     7.4804, -999.00,9,     -999.0
33KI20100607,       PRS2,       2,          9,         13,       8025,2,20100609,       0902,  22.748500,-157.9978333,       4722,   496.4,   7.5044,  34.0944,2,-999.0000,5,    107.2,1,  -999.0,9, -999.00,9, -999.00,9,  -999.0,     496,     7.4557, -999.00,9,     -999.0
33KI20100607,       PRS2,       2,          9,         12,       8012,2,20100609,       0902,  22.748500,-157.9978333,       4722,   496.9,   7.4859,  34.0928,2,-999.0000,5,    106.9,1,  -999.0,9, -999.00,9, -999.00,9,  -999.0,     497,     7.4373, -999.00,9,     -999.0
33KI20100607,       PRS2,       2,          9,         11,       8011,2,20100609,       0902,  22.748500,-157.9978333,       4722,   518.2,   7.0785,  34.0857,2,-999.0000,5,     99.3,1,  -999.0,9, -999.00,9, -999.00,9,  -999.0,     518,     7.0293, -999.00,9,     -999.0
33KI20100607,       PRS2,       2,          9,         10,       8010,2,20100609,       0902,  22.748500,-157.9978333,       4722,   769.0,   4.7789,  34.3397,2,-999.0000,5,     34.1,1,  -999.0,9, -999.00,9, -999.00,9,  -999.0,     770,     4.7177, -999.00,9,     -999.0
33KI20100607,       PRS2,       2,          9,          9,       8009,2,20100609,       0902,  22.748500,-157.9978333,       4722,   769.6,   4.7795,  34.3398,2,-999.0000,5,     34.1,1,  -999.0,9, -999.00,9, -999.00,9,  -999.0,     769,     4.7182, -999.00,9,     -999.0
33KI20100607,       PRS2,       2,          9,          8,       8008,2,20100609,       0902,  22.748500,-157.9978333,       4722,   769.9,   4.7790,  34.3399,2,-999.0000,5,     34.2,1,  -999.0,9, -999.00,9, -999.00,9,  -999.0,     770,     4.7177, -999.00,9,     -999.0
33KI20100607,       PRS2,       2,          9,          7,       8026,2,20100609,       0902,  22.748500,-157.9978333,       4722,   770.3,   4.7780,  34.3401,2,-999.0000,5,     34.1,1,  -999.0,9, -999.00,9, -999.00,9,  -999.0,     771,     4.7166, -999.00,9,     -999.0
33KI20100607,       PRS2,       2,          9,          6,       8006,2,20100609,       0902,  22.748500,-157.9978333,       4722,   770.4,   4.7779,  34.3402,2,-999.0000,5,     34.2,1,  -999.0,9, -999.00,9, -999.00,9,  -999.0,     770,     4.7165, -999.00,9,     -999.0
33KI20100607,       PRS2,       2,          9,          5,       8005,2,20100609,       0902,  22.748500,-157.9978333,       4722,  1019.3,   3.9956,  34.4797,2,-999.0000,5,     45.9,1,  -999.0,9, -999.00,9, -999.00,9,  -999.0,    1020,     3.9185, -999.00,9,     -999.0
33KI20100607,       PRS2,       2,          9,          4,       8004,2,20100609,       0902,  22.748500,-157.9978333,       4722,  1019.4,   3.9963,  34.4797,2,-999.0000,5,     46.0,1,  -999.0,9, -999.00,9, -999.00,9,  -999.0,    1020,     3.9191, -999.00,9,     -999.0
33KI20100607,       PRS2,       2,          9,          3,       8003,2,20100609,       0902,  22.748500,-157.9978333,       4722,  1019.5,   3.9978,  34.4801,2,-999.0000,5,     46.1,1,  -999.0,9, -999.00,9, -999.00,9,  -999.0,    1020,     3.9206, -999.00,9,     -999.0
33KI20100607,       PRS2,       2,          9,          2,       8002,2,20100609,       0902,  22.748500,-157.9978333,       4722,  1019.7,   3.9991,  34.4808,2,-999.0000,5,     46.7,1,  -999.0,9, -999.00,9, -999.00,9,  -999.0,    1020,     3.9219, -999.00,9,     -999.0
33KI20100607,       PRS2,       2,          9,          1,       8001,2,20100609,       0902,  22.748500,-157.9978333,       4722,  1019.8,   4.0004,  34.4808,2,  34.4805,2,     46.7,1,  -999.0,9, -999.00,9, -999.00,9,  -999.0,    1019,     3.9231, -999.00,9,     -999.0