BOTTLE,20141031SIOCCHAMB
EXPOCODE,SECT_ID,STNNBR,CASTNO,SAMPNO,BTLNBR,BTLNBR_FLAG_W,DATE,TIME,LATITUDE,LONGITUDE,DEPTH,CTDPRS,CTDTMP,CTDSAL,CTDSAL_FLAG_W,SALNTY,SALNTY_FLAG_W,CTDOXY,CTDOXY_FLAG_W,OXYGEN,OXYGEN_FLAG_W,SILCAT,SILCAT_FLAG_W,PHSPHT,PHSPHT_FLAG_W,REVPRS,CTDRAW,THETA,NO2+NO3,NO2+NO3_FLAG_W,REVTMP
,,,,,,,,,,,METERS,DBAR,ITS-90,PSS-78,,PSS-78,,UMOL/KG,,UMOL/KG,,UMOL/KG,,UMOL/KG,,DBAR,DBAR,ITS-90,UMOL/KG,,DEG C
33KI20100607,       PRS2,       2,         16,         22,       8022,2,20100610,       0601,  22.748667,-157.9973333,       4723,     4.9,  24.5766,  35.4535,2,-999.0000,5,    213.5,1,  -999.0,9, -999.00,9, -999.00,9,  -999.0,       4,    24.5756, -999.00,9,     -999.0
33KI20100607,       PRS2,       2,         16,         21,       8021,2,20100610,       0601,  22.748667,-157.9973333,       4723,     4.9,  24.5768,  35.4535,2,  35.4535,2,    213.6,1,  -999.0,9, -999.00,9, -999.00,9,  -999.0,       5,    24.5757, -999.00,9,     -999.0
33KI20100607,       PRS2,       2,         16,         20,       8020,2,20100610,       0601,  22.748667,-157.9973333,       4723,    23.7,  24.5762,  35.4525,2,-999.0000,5,    213.6,1,  -999.0,9, -999.00,9, -999.00,9,  -999.0,      24,    24.5711, -999.00,9,     -999.0
33KI20100607,       PRS2,       2,         16,         19,       8019,2,20100610,       0601,  22.748667,-157.9973333,       4723,    23.8,  24.5772,  35.4523,2,  35.4529,2,    213.6,1,  -999.0,9, -999.00,9, -999.00,9,  -999.0,      24,    24.5721, -999.00,9,     -999.0
33KI20100607,       PRS2,       2,         16,         18,       8018,2,20100610,       0601,  22.748667,-157.9973333,       4723,    45.3,  23.9178,  35.4837,2,-999.0000,5,    218.3,1,  -999.0,9, -999.00,9, -999.00,9,  -999.0,      45,    23.9082, -999.00,9,     -999.0
33KI20100607,       PRS2,       2,         16,         17,       8017,2,20100610,       0601,  22.748667,-157.9973333,       4723,    45.4,  23.9173,  35.4833,2,-999.0000,5,    218.3,1,  -999.0,9, -999.00,9, -999.00,9,  -999.0,      45,    23.9078, -999.00,9,     -999.0
33KI20100607,       PRS2,       2,         16,         16,       8016,2,20100610,       0601,  22.748667,-157.9973333,       4723,    59.7,  22.2033,  35.4481,2,  35.4573,2,    227.9,1,  -999.0,9, -999.00,9, -999.00,9,  -999.0,      60,    22.1914, -999.00,9,     -999.0
33KI20100607,       PRS2,       2,         16,         15,       8015,2,20100610,       0601,  22.748667,-157.9973333,       4723,    75.1,  21.3530,  35.4438,2,-999.0000,5,    226.7,1,  -999.0,9, -999.00,9, -999.00,9,  -999.0,      76,    21.3384, -999.00,9,     -999.0
33KI20100607,       PRS2,       2,         16,         14,       8014,2,20100610,       0601,  22.748667,-157.9973333,       4723,    75.3,  21.3530,  35.4439,2,  35.4429,2,    226.6,1,  -999.0,9, -999.00,9, -999.00,9,  -999.0,      76,    21.3384, -999.00,9,     -999.0
33KI20100607,       PRS2,       2,         16,         13,       8025,2,20100610,       0601,  22.748667,-157.9973333,       4723,    84.9,  21.0516,  35.4557,2,  35.4476,2,    223.4,1,  -999.0,9, -999.00,9, -999.00,9,  -999.0,      84,    21.0354, -999.00,9,     -999.0
33KI20100607,       PRS2,       2,         16,         12,       8012,2,20100610,       0601,  22.748667,-157.9973333,       4723,   100.8,  20.6904,  35.4006,2,-999.0000,5,    221.5,1,  -999.0,9, -999.00,9, -999.00,9,  -999.0,     101,    20.6713, -999.00,9,     -999.0
33KI20100607,       PRS2,       2,         16,         11,       8011,2,20100610,       0601,  22.748667,-157.9973333,       4723,   100.9,  20.6871,  35.3991,2,  35.4085,2,    221.5,1,  -999.0,9, -999.00,9, -999.00,9,  -999.0,     101,    20.6679, -999.00,9,     -999.0
33KI20100607,       PRS2,       2,         16,         10,       8010,2,20100610,       0601,  22.748667,-157.9973333,       4723,   113.5,  20.0154,  35.2947,2,  35.3013,2,    218.8,1,  -999.0,9, -999.00,9, -999.00,9,  -999.0,     112,    19.9944, -999.00,9,     -999.0
33KI20100607,       PRS2,       2,         16,          9,       8009,2,20100610,       0601,  22.748667,-157.9973333,       4723,   126.1,  19.6505,  35.2360,2,-999.0000,5,    215.9,1,  -999.0,9, -999.00,9, -999.00,9,  -999.0,     126,    19.6275, -999.00,9,     -999.0
33KI20100607,       PRS2,       2,         16,          8,       8008,2,20100610,       0601,  22.748667,-157.9973333,       4723,   126.0,  19.6560,  35.2371,2,  35.2394,2,    215.7,1,  -999.0,9, -999.00,9, -999.00,9,  -999.0,     126,    19.6330, -999.00,9,     -999.0
33KI20100607,       PRS2,       2,         16,          7,       8026,2,20100610,       0601,  22.748667,-157.9973333,       4723,   134.6,  19.2245,  35.1592,2,  35.1612,2,    210.4,1,  -999.0,9, -999.00,9, -999.00,9,  -999.0,     136,    19.2003, -999.00,9,     -999.0
33KI20100607,       PRS2,       2,         16,          6,       8006,2,20100610,       0601,  22.748667,-157.9973333,       4723,   151.1,  18.7777,  35.1032,2,-999.0000,5,    219.2,1,  -999.0,9, -999.00,9, -999.00,9,  -999.0,     151,    18.7510, -999.00,9,     -999.0
33KI20100607,       PRS2,       2,         16,          5,       8005,2,20100610,       0601,  22.748667,-157.9973333,       4723,   151.0,  18.7784,  35.1022,2,  35.1061,2,    219.4,1,  -999.0,9, -999.00,9, -999.00,9,  -999.0,     150,    18.7517, -999.00,9,     -999.0
33KI20100607,       PRS2,       2,         16,          4,       8004,2,20100610,       0601,  22.748667,-157.9973333,       4723,   175.4,  17.8295,  34.9325,2,-999.0000,5,    222.1,1,  -999.0,9, -999.00,9, -999.00,9,  -999.0,     175,    17.7996, -999.00,9,     -999.0
33KI20100607,       PRS2,       2,         16,          3,       8003,2,20100610,       0601,  22.748667,-157.9973333,       4723,   175.4,  17.8331,  34.9323,2,  34.9362,2,    221.8,1,  -999.0,9, -999.00,9, -999.00,9,  -999.0,     176,    17.8032, -999.00,9,     -999.0
33KI20100607,       PRS2,       2,         16,          2,       8002,2,20100610,       0601,  22.748667,-157.9973333,       4723,   491.0,   7.4241,  34.0782,2,  34.0791,2,    114.7,1,  -999.0,9, -999.00,9, -999.00,9,  -999.0,     491,     7.3763, -999.00,9,     -999.0
33KI20100607,       PRS2,       2,         16,          1,       8001,2,20100610,       0601,  22.748667,-157.9973333,       4723,  1020.3,   3.9828,  34.4916,2,  34.4917,2,     47.6,1,  -999.0,9, -999.00,9, -999.00,9,  -999.0,    1021,     3.9056, -999.00,9,     -999.0
33KI20100607,       PRS2,       2,         17,         24,       8024,2,20100610,       0900,  22.753167,-158.0018333,       4730,     4.8,  24.6789,  35.5149,2,  35.5154,2,    213.3,2,   212.8,2, -999.00,9, -999.00,9,  -999.0,       4,    24.6779, -999.00,9,     -999.0
33KI20100607,       PRS2,       2,         17,         23,       8023,2,20100610,       0900,  22.753167,-158.0018333,       4730,    24.8,  24.3265,  35.4950,2,-999.0000,5,    214.3,2,  -999.0,5, -999.00,9, -999.00,9,  -999.0,      25,    24.3212, -999.00,9,     -999.0
33KI20100607,       PRS2,       2,         17,         22,       8022,2,20100610,       0900,  22.753167,-158.0018333,       4730,    24.8,  24.5308,  35.5116,2,-999.0000,5,    214.6,2,  -999.0,5, -999.00,9, -999.00,9,  -999.0,      25,    24.5254, -999.00,9,     -999.0
33KI20100607,       PRS2,       2,         17,         21,       8021,2,20100610,       0900,  22.753167,-158.0018333,       4730,    75.0,  21.0723,  35.4248,2,  35.4271,2,    226.0,2,   226.1,2, -999.00,9, -999.00,9,  -999.0,      76,    21.0579, -999.00,9,     -999.0
33KI20100607,       PRS2,       2,         17,         20,       8020,2,20100610,       0900,  22.753167,-158.0018333,       4730,   460.7,   8.2701,  34.0833,2,  34.0860,2,    146.6,2,   136.8,3, -999.00,9, -999.00,9,  -999.0,     460,     8.2224, -999.00,9,     -999.0
33KI20100607,       PRS2,       2,         17,         19,       8019,2,20100610,       0900,  22.753167,-158.0018333,       4730,   799.6,   4.8731,  34.3784,2,  34.3759,2,     33.5,2,    33.2,2, -999.00,9, -999.00,9,  -999.0,     799,     4.8086, -999.00,9,     -999.0
33KI20100607,       PRS2,       2,         17,         18,       8018,2,20100610,       0900,  22.753167,-158.0018333,       4730,  1000.4,   4.0609,  34.4654,2,-999.0000,5,     44.8,2,  -999.0,5, -999.00,9, -999.00,9,  -999.0,    1000,     3.9848, -999.00,9,     -999.0
33KI20100607,       PRS2,       2,         17,         17,       8017,2,20100610,       0900,  22.753167,-158.0018333,       4730,  1999.7,   2.1262,  34.6192,2,  34.6203,2,     89.7,2,  -999.0,5, -999.00,9, -999.00,9,  -999.0,    2000,     1.9879, -999.00,9,     -999.0
33KI20100607,       PRS2,       2,         17,         16,       8016,2,20100610,       0900,  22.753167,-158.0018333,       4730,  1999.4,   2.1265,  34.6192,2,  34.6211,2,     89.7,2,  -999.0,5, -999.00,9, -999.00,9,  -999.0,    1999,     1.9882, -999.00,9,     -999.0
33KI20100607,       PRS2,       2,         17,         15,       8015,2,20100610,       0900,  22.753167,-158.0018333,       4730,  1999.4,   2.1267,  34.6190,2,-999.0000,5,     89.7,2,  -999.0,5, -999.00,9, -999.00,9,  -999.0,    2000,     1.9885, -999.00,9,     -999.0
33KI20100607,       PRS2,       2,         17,         14,       8014,2,20100610,       0900,  22.753167,-158.0018333,       4730,  1999.3,   2.1267,  34.6191,2,  34.6203,2,     89.8,2,    90.2,2, -999.00,9, -999.00,9,  -999.0,    2000,     1.9885, -999.00,9,     -999.0
33KI20100607,       PRS2,       2,         17,         13,       8025,2,20100610,       0900,  22.753167,-158.0018333,       4730,  3001.6,   1.5509,  34.6677,2,  34.6692,2,    124.8,2,  -999.0,5, -999.00,9, -999.00,9,  -999.0,    3001,     1.3329, -999.00,9,     -999.0
33KI20100607,       PRS2,       2,         17,         12,       8012,2,20100610,       0900,  22.753167,-158.0018333,       4730,  3001.5,   1.5501,  34.6677,2,  34.6696,2,    124.8,2,  -999.0,5, -999.00,9, -999.00,9,  -999.0,    3002,     1.3321, -999.00,9,     -999.0
33KI20100607,       PRS2,       2,         17,         11,       8011,2,20100610,       0900,  22.753167,-158.0018333,       4730,  3001.5,   1.5499,  34.6675,2,-999.0000,5,    124.8,2,  -999.0,5, -999.00,9, -999.00,9,  -999.0,    3003,     1.3319, -999.00,9,     -999.0
33KI20100607,       PRS2,       2,         17,         10,       8010,2,20100610,       0900,  22.753167,-158.0018333,       4730,  3001.2,   1.5498,  34.6675,2,  34.6679,2,    124.8,2,   124.6,2, -999.00,9, -999.00,9,  -999.0,    3000,     1.3318, -999.00,9,     -999.0
33KI20100607,       PRS2,       2,         17,          9,       8009,2,20100610,       0900,  22.753167,-158.0018333,       4730,  4002.3,   1.4549,  34.6858,2,  34.6867,2,    149.5,2,  -999.0,5, -999.00,9, -999.00,9,  -999.0,    4002,     1.1370, -999.00,9,     -999.0
33KI20100607,       PRS2,       2,         17,          8,       8008,2,20100610,       0900,  22.753167,-158.0018333,       4730,  4001.9,   1.4549,  34.6858,2,  34.6871,2,    149.6,2,  -999.0,5, -999.00,9, -999.00,9,  -999.0,    4002,     1.1371, -999.00,9,     -999.0
33KI20100607,       PRS2,       2,         17,          7,       8026,2,20100610,       0900,  22.753167,-158.0018333,       4730,  4001.5,   1.4549,  34.6858,2,-999.0000,5,    149.6,2,  -999.0,5, -999.00,9, -999.00,9,  -999.0,    4002,     1.1371, -999.00,9,     -999.0
33KI20100607,       PRS2,       2,         17,          6,       8006,2,20100610,       0900,  22.753167,-158.0018333,       4730,  4001.3,   1.4550,  34.6857,2,  34.6903,4,    149.6,3,   149.2,2, -999.00,9, -999.00,9,  -999.0,    4001,     1.1372, -999.00,9,     -999.0
33KI20100607,       PRS2,       2,         17,          5,       8005,2,20100610,       0900,  22.753167,-158.0018333,       4730,  4748.1,   1.5014,  34.6894,2,-999.0000,5,    155.6,2,  -999.0,5, -999.00,9, -999.00,9,  -999.0,    4749,     1.0974, -999.00,9,     -999.0
33KI20100607,       PRS2,       2,         17,          4,       8004,2,20100610,       0900,  22.753167,-158.0018333,       4730,  4804.6,   1.5080,  34.6894,2,  34.6912,2,    155.6,2,  -999.0,5, -999.00,9, -999.00,9,  -999.0,    4805,     1.0970, -999.00,9,     -999.0
33KI20100607,       PRS2,       2,         17,          3,       8003,2,20100610,       0900,  22.753167,-158.0018333,       4730,  4804.5,   1.5081,  34.6894,2,  34.6910,2,    155.6,2,  -999.0,5, -999.00,9, -999.00,9,  -999.0,    4805,     1.0971, -999.00,9,     -999.0
33KI20100607,       PRS2,       2,         17,          2,       8002,2,20100610,       0900,  22.753167,-158.0018333,       4730,  4804.9,   1.5080,  34.6894,2,-999.0000,5,    155.6,2,  -999.0,5, -999.00,9, -999.00,9,  -999.0,    4806,     1.0970, -999.00,9,     -999.0
33KI20100607,       PRS2,       2,         17,          1,       8001,2,20100610,       0900,  22.753167,-158.0018333,       4730,  4804.8,   1.5081,  34.6893,2,  34.6903,2,    155.6,2,   155.4,2, -999.00,9, -999.00,9,  -999.0,    4806,     1.0971, -999.00,9,     -999.0
33KI20100607,       PRS2,       2,         18,         24,       8024,2,20100611,       0035,  22.690333,-157.9486667,       4523,     4.8,  24.7862,  35.4522,2,  35.4547,2,    211.9,1,  -999.0,9, -999.00,9, -999.00,9,  -999.0,       5,    24.7852, -999.00,9,     -999.0
33KI20100607,       PRS2,       2,         18,         23,       8023,2,20100611,       0035,  22.690333,-157.9486667,       4523,    23.9,  24.6254,  35.4752,2,  35.5176,4,    212.6,1,  -999.0,9, -999.00,9, -999.00,9,  -999.0,      24,    24.6203, -999.00,9,     -999.0
33KI20100607,       PRS2,       2,         18,         22,       8022,2,20100611,       0035,  22.690333,-157.9486667,       4523,    99.3,  21.2013,  35.4261,2,  35.4227,2,    225.3,1,  -999.0,9, -999.00,9, -999.00,9,  -999.0,      99,    21.1821, -999.00,9,     -999.0
33KI20100607,       PRS2,       2,         18,         21,       8021,2,20100611,       0035,  22.690333,-157.9486667,       4523,   200.1,  17.7546,  34.9183,2,  34.9248,2,    220.3,1,  -999.0,9, -999.00,9, -999.00,9,  -999.0,     199,    17.7206, -999.00,9,     -999.0
33KI20100607,       PRS2,       2,         18,         20,       8020,2,20100611,       0035,  22.690333,-157.9486667,       4523,   300.1,  12.8595,  34.3100,2,  34.3082,2,    203.9,1,  -999.0,9, -999.00,9, -999.00,9,  -999.0,     301,    12.8186, -999.00,9,     -999.0
33KI20100607,       PRS2,       2,         18,         19,       8019,2,20100611,       0035,  22.690333,-157.9486667,       4523,   399.6,  10.2754,  34.1623,2,  34.1595,2,    202.5,1,  -999.0,9, -999.00,9, -999.00,9,  -999.0,     399,    10.2283, -999.00,9,     -999.0
33KI20100607,       PRS2,       2,         18,         18,       8018,2,20100611,       0035,  22.690333,-157.9486667,       4523,   499.8,   7.5334,  34.0786,2,  34.0758,2,    116.2,1,  -999.0,9, -999.00,9, -999.00,9,  -999.0,     500,     7.4843, -999.00,9,     -999.0
33KI20100607,       PRS2,       2,         18,         17,       8017,2,20100611,       0035,  22.690333,-157.9486667,       4523,   450.2,   8.7597,  34.0919,2,  34.0897,2,    116.2,1,  -999.0,9, -999.00,9, -999.00,9,  -999.0,     451,     8.7115, -999.00,9,     -999.0
33KI20100607,       PRS2,       2,         18,         16,       8016,2,20100611,       0035,  22.690333,-157.9486667,       4523,   399.3,  10.2821,  34.1653,2,  34.1726,2,    116.2,1,  -999.0,9, -999.00,9, -999.00,9,  -999.0,     400,    10.2349, -999.00,9,     -999.0
33KI20100607,       PRS2,       2,         18,         15,       8015,2,20100611,       0035,  22.690333,-157.9486667,       4523,   350.2,  11.5865,  34.2391,2,  34.2452,2,    116.2,1,  -999.0,9, -999.00,9, -999.00,9,  -999.0,     350,    11.5419, -999.00,9,     -999.0
33KI20100607,       PRS2,       2,         18,         14,       8014,2,20100611,       0035,  22.690333,-157.9486667,       4523,   300.3,  12.8729,  34.3113,2,  34.3280,3,    116.2,1,  -999.0,9, -999.00,9, -999.00,9,  -999.0,     299,    12.8319, -999.00,9,     -999.0
33KI20100607,       PRS2,       2,         18,         13,       8025,2,20100611,       0035,  22.690333,-157.9486667,       4523,   250.1,  15.8989,  34.6057,2,  34.6115,2,    116.2,1,  -999.0,9, -999.00,9, -999.00,9,  -999.0,     250,    15.8596, -999.00,9,     -999.0
33KI20100607,       PRS2,       2,         18,         12,       8012,2,20100611,       0035,  22.690333,-157.9486667,       4523,   199.0,  17.7435,  34.9174,2,  34.9268,2,    116.2,1,  -999.0,9, -999.00,9, -999.00,9,  -999.0,     199,    17.7097, -999.00,9,     -999.0
33KI20100607,       PRS2,       2,         18,         11,       8011,2,20100611,       0035,  22.690333,-157.9486667,       4523,   249.6,  15.8272,  34.5992,2,  34.6038,2,    116.1,1,  -999.0,9, -999.00,9, -999.00,9,  -999.0,     250,    15.7881, -999.00,9,     -999.0
33KI20100607,       PRS2,       2,         18,         10,       8010,2,20100611,       0035,  22.690333,-157.9486667,       4523,   297.0,  13.0207,  34.3229,2,  34.3272,2,    116.1,1,  -999.0,9, -999.00,9, -999.00,9,  -999.0,     297,    12.9799, -999.00,9,     -999.0
33KI20100607,       PRS2,       2,         18,          9,       8009,2,20100611,       0035,  22.690333,-157.9486667,       4523,   349.1,  11.5244,  34.2349,2,  34.2362,2,    116.1,1,  -999.0,9, -999.00,9, -999.00,9,  -999.0,     349,    11.4801, -999.00,9,     -999.0
33KI20100607,       PRS2,       2,         18,          8,       8008,2,20100611,       0035,  22.690333,-157.9486667,       4523,   398.7,  10.0755,  34.1462,2,  34.1472,2,    116.1,1,  -999.0,9, -999.00,9, -999.00,9,  -999.0,     398,    10.0290, -999.00,9,     -999.0
33KI20100607,       PRS2,       2,         18,          7,       8026,2,20100611,       0035,  22.690333,-157.9486667,       4523,   449.6,   8.6917,  34.0916,2,  34.0905,2,    116.1,1,  -999.0,9, -999.00,9, -999.00,9,  -999.0,     449,     8.6438, -999.00,9,     -999.0
33KI20100607,       PRS2,       2,         18,          6,       8006,2,20100611,       0035,  22.690333,-157.9486667,       4523,   499.2,   7.5388,  34.0789,2,  34.0764,2,    116.1,1,  -999.0,9, -999.00,9, -999.00,9,  -999.0,     499,     7.4897, -999.00,9,     -999.0
33KI20100607,       PRS2,       2,         18,          5,       8005,2,20100611,       0035,  22.690333,-157.9486667,       4523,   400.8,   9.9625,  34.1367,2,  34.1470,2,    116.1,1,  -999.0,9, -999.00,9, -999.00,9,  -999.0,     402,     9.9162, -999.00,9,     -999.0
33KI20100607,       PRS2,       2,         18,          4,       8004,2,20100611,       0035,  22.690333,-157.9486667,       4523,   300.6,  12.7886,  34.3107,2,  34.3140,2,    116.1,1,  -999.0,9, -999.00,9, -999.00,9,  -999.0,     302,    12.7478, -999.00,9,     -999.0
33KI20100607,       PRS2,       2,         18,          3,       8003,2,20100611,       0035,  22.690333,-157.9486667,       4523,   200.3,  17.4897,  34.8682,2,  34.8947,3,    116.1,1,  -999.0,9, -999.00,9, -999.00,9,  -999.0,     200,    17.4560, -999.00,9,     -999.0
33KI20100607,       PRS2,       2,         18,          2,       8002,2,20100611,       0035,  22.690333,-157.9486667,       4523,   100.9,  20.9334,  35.4220,2,  35.4196,2,    116.1,1,  -999.0,9, -999.00,9, -999.00,9,  -999.0,     101,    20.9141, -999.00,9,     -999.0
33KI20100607,       PRS2,       2,         18,          1,       8001,2,20100611,       0035,  22.690333,-157.9486667,       4523,     5.0,  24.8000,  35.4431,2,  35.4401,2,    116.1,1,  -999.0,9, -999.00,9, -999.00,9,  -999.0,       5,    24.7990, -999.00,9,     -999.0