BOTTLE,20141031SIOCCHAMB
EXPOCODE,SECT_ID,STNNBR,CASTNO,SAMPNO,BTLNBR,BTLNBR_FLAG_W,DATE,TIME,LATITUDE,LONGITUDE,DEPTH,CTDPRS,CTDTMP,CTDSAL,CTDSAL_FLAG_W,SALNTY,SALNTY_FLAG_W,CTDOXY,CTDOXY_FLAG_W,OXYGEN,OXYGEN_FLAG_W,SILCAT,SILCAT_FLAG_W,PHSPHT,PHSPHT_FLAG_W,REVPRS,CTDRAW,THETA,NO2+NO3,NO2+NO3_FLAG_W,REVTMP
,,,,,,,,,,,METERS,DBAR,ITS-90,PSS-78,,PSS-78,,UMOL/KG,,UMOL/KG,,UMOL/KG,,UMOL/KG,,DBAR,DBAR,ITS-90,UMOL/KG,,DEG C
325020101120,       PRS2,       2,         10,         24,       8024,2,20101122,       1008,  22.750000,-157.9998333,       4726,     5.1,  25.0593,  35.2137,2,  35.2156,2,    207.1,2,   208.2,2,    1.07,2,    0.08,2,  -999.0,       5,    25.0582,    0.02,2,     -999.0
325020101120,       PRS2,       2,         10,         23,       8023,2,20101122,       1008,  22.750000,-157.9998333,       4726,   499.9,   7.5473,  34.1024,2,  34.1015,2,    103.0,2,   101.1,2,   45.56,2,    2.15,2,  -999.0,     500,     7.4981,   29.64,2,     -999.0
325020101120,       PRS2,       2,         10,         22,       8022,2,20101122,       1008,  22.750000,-157.9998333,       4726,   749.6,   4.6714,  34.2192,2,  34.2197,2,     24.7,2,    24.5,2,   94.30,2,    3.01,2,  -999.0,     750,     4.6125,   41.40,2,     -999.0
325020101120,       PRS2,       2,         10,         21,       8021,2,20101122,       1008,  22.750000,-157.9998333,       4726,   999.8,   3.8913,  34.4541,2,  34.4540,2,     39.6,2,    39.5,2,  112.13,2,    3.00,2,  -999.0,    1000,     3.8166,   41.64,2,     -999.0
325020101120,       PRS2,       2,         10,         20,       8020,2,20101122,       1008,  22.750000,-157.9998333,       4726,  1200.0,   3.4369,  34.5233,2,  34.5227,2,     54.3,2,    54.5,2,  121.59,2,    2.95,2,  -999.0,    1200,     3.3495,   41.13,2,     -999.0
325020101120,       PRS2,       2,         10,         19,       8019,2,20101122,       1008,  22.750000,-157.9998333,       4726,  1399.9,   3.0507,  34.5579,2,  34.5576,2,     62.5,2,    62.9,2,  129.11,2,    2.92,2,  -999.0,    1401,     2.9506,   40.94,2,     -999.0
325020101120,       PRS2,       2,         10,         18,       8018,2,20101122,       1008,  22.750000,-157.9998333,       4726,  1599.9,   2.7057,  34.5816,2,  34.5810,2,     71.0,2,    71.5,2,  136.69,2,    2.87,2,  -999.0,    1599,     2.5930,   40.61,2,     -999.0
325020101120,       PRS2,       2,         10,         17,       8017,2,20101122,       1008,  22.750000,-157.9998333,       4726,  1799.0,   2.3885,  34.6032,2,  34.6026,2,     79.6,2,    80.4,2,  143.46,2,    2.83,2,  -999.0,    1799,     2.2633,   40.01,2,     -999.0
325020101120,       PRS2,       2,         10,         16,       8016,2,20101122,       1008,  22.750000,-157.9998333,       4726,  2000.4,   2.1303,  34.6195,2,  34.6191,2,     88.6,2,    89.3,2,  149.71,2,    2.79,2,  -999.0,    2000,     1.9918,   39.52,2,     -999.0
325020101120,       PRS2,       2,         10,         15,       8015,2,20101122,       1008,  22.750000,-157.9998333,       4726,  2199.2,   1.9432,  34.6325,2,  34.6329,2,     95.2,2,    96.2,2,  153.78,2,    2.75,2,  -999.0,    2200,     1.7908,   39.22,2,     -999.0
325020101120,       PRS2,       2,         10,         14,       8014,2,20101122,       1008,  22.750000,-157.9998333,       4726,  2400.4,   1.8166,  34.6430,2,  34.6429,2,    102.8,2,   103.2,2,  156.07,2,    2.72,2,  -999.0,    2401,     1.6487,   38.76,2,     -999.0
325020101120,       PRS2,       2,         10,         13,       8025,2,20101122,       1008,  22.750000,-157.9998333,       4726,  2599.5,   1.6878,  34.6541,2,  34.6539,2,    109.9,2,   111.1,2,  159.02,2,    2.68,2,  -999.0,    2599,     1.5044,   38.42,2,     -999.0
325020101120,       PRS2,       2,         10,         12,       8012,2,20101122,       1008,  22.750000,-157.9998333,       4726,  2800.8,   1.6189,  34.6630,2,  34.6625,2,    119.1,2,   119.7,2,  156.99,2,    2.63,2,  -999.0,    2800,     1.4184,   37.81,2,     -999.0
325020101120,       PRS2,       2,         10,         11,       8011,2,20101122,       1008,  22.750000,-157.9998333,       4726,  3000.5,   1.5584,  34.6688,2,  34.6681,2,    124.3,2,   124.9,2,  158.47,2,    2.61,2,  -999.0,    3000,     1.3403,   37.51,2,     -999.0
325020101120,       PRS2,       2,         10,         10,       8010,2,20101122,       1008,  22.750000,-157.9998333,       4726,  3199.4,   1.5222,  34.6736,2,  34.6728,2,    128.9,2,   129.3,2,  158.21,2,    2.59,2,  -999.0,    3200,     1.2856,   37.38,2,     -999.0
325020101120,       PRS2,       2,         10,          9,       8009,2,20101122,       1008,  22.750000,-157.9998333,       4726,  3400.2,   1.4936,  34.6778,2,  34.6769,2,    134.4,2,   134.8,2,  157.35,2,    2.56,2,  -999.0,    3400,     1.2378,   36.99,2,     -999.0
325020101120,       PRS2,       2,         10,          8,       8008,2,20101122,       1008,  22.750000,-157.9998333,       4726,  3599.1,   1.4657,  34.6819,2,  34.6814,2,    140.4,2,   140.2,2,  155.53,2,    2.52,2,  -999.0,    3599,     1.1903,   36.40,2,     -999.0
325020101120,       PRS2,       2,         10,          7,       8026,2,20101122,       1008,  22.750000,-157.9998333,       4726,  3799.1,   1.4616,  34.6842,2,  34.6834,2,    143.9,2,   143.2,2,  154.76,2,    2.50,2,  -999.0,    3800,     1.1653,   36.12,2,     -999.0
325020101120,       PRS2,       2,         10,          6,       8006,2,20101122,       1008,  22.750000,-157.9998333,       4726,  4000.0,   1.4561,  34.6867,2,  34.6857,2,    147.9,2,   147.3,2,  151.56,2,    2.48,2,  -999.0,    4001,     1.1384,   35.78,2,     -999.0
325020101120,       PRS2,       2,         10,          5,       8005,2,20101122,       1008,  22.750000,-157.9998333,       4726,  4199.9,   1.4638,  34.6879,2,  34.6873,2,    150.3,2,   150.1,2,  150.28,2,    2.49,2,  -999.0,    4200,     1.1239,   35.74,2,     -999.0
325020101120,       PRS2,       2,         10,          4,       8004,2,20101122,       1008,  22.750000,-157.9998333,       4726,  4399.3,   1.4799,  34.6886,2,  34.6881,2,    151.4,2,   150.5,2,  149.81,2,    2.46,2,  -999.0,    4400,     1.1171,   35.53,2,     -999.0
325020101120,       PRS2,       2,         10,          3,       8003,2,20101122,       1008,  22.750000,-157.9998333,       4726,  4500.0,   1.4887,  34.6888,2,  34.6883,2,    152.1,2,   151.5,2,  150.03,2,    2.47,2,  -999.0,    4499,     1.1140,   35.72,2,     -999.0
325020101120,       PRS2,       2,         10,          2,       8002,2,20101122,       1008,  22.750000,-157.9998333,       4726,  4599.6,   1.4952,  34.6891,2,  34.6889,2,    152.3,2,   152.4,2,  149.11,2,    2.48,2,  -999.0,    4600,     1.1089,   35.77,2,     -999.0
325020101120,       PRS2,       2,         10,          1,       8001,2,20101122,       1008,  22.750000,-157.9998333,       4726,  4808.1,   1.5010,  34.6907,2,  34.6912,2,    155.0,2,   155.4,2,  146.83,2,    2.54,3,  -999.0,    4808,     1.0898,   35.33,2,     -999.0