BOTTLE,20141031SIOCCHAMB
EXPOCODE,SECT_ID,STNNBR,CASTNO,SAMPNO,BTLNBR,BTLNBR_FLAG_W,DATE,TIME,LATITUDE,LONGITUDE,DEPTH,CTDPRS,CTDTMP,CTDSAL,CTDSAL_FLAG_W,SALNTY,SALNTY_FLAG_W,CTDOXY,CTDOXY_FLAG_W,OXYGEN,OXYGEN_FLAG_W,SILCAT,SILCAT_FLAG_W,PHSPHT,PHSPHT_FLAG_W,REVPRS,CTDRAW,THETA,NO2+NO3,NO2+NO3_FLAG_W,REVTMP
,,,,,,,,,,,METERS,DBAR,ITS-90,PSS-78,,PSS-78,,UMOL/KG,,UMOL/KG,,UMOL/KG,,UMOL/KG,,DBAR,DBAR,ITS-90,UMOL/KG,,DEG C
325020101120,       PRS2,       2,          1,         24,       8024,2,20101121,       0526,  22.749833,-157.9998333,       4720,     5.3,  25.0502,  35.1271,2,  35.1268,2,    207.2,2,   207.4,2, -999.00,5, -999.00,5,  -999.0,       5,    25.0490, -999.00,5,     -999.0
325020101120,       PRS2,       2,          1,         23,       8023,2,20101121,       0526,  22.749833,-157.9998333,       4720,     5.3,  25.0525,  35.1270,2,  35.1256,2,    207.4,2,  -999.0,5, -999.00,5, -999.00,5,  -999.0,       5,    25.0514, -999.00,5,     -999.0
325020101120,       PRS2,       2,          1,         22,       8022,2,20101121,       0526,  22.749833,-157.9998333,       4720,     5.2,  25.0562,  35.1270,2,  35.1258,2,    207.5,2,   207.6,2,    1.20,2,    0.11,2,  -999.0,       5,    25.0551,    0.02,2,     -999.0
325020101120,       PRS2,       2,          1,         21,       8021,2,20101121,       0526,  22.749833,-157.9998333,       4720,    15.0,  25.0519,  35.1253,2,  35.1246,2,    207.4,2,  -999.0,5,    1.12,2,    0.11,2,  -999.0,      15,    25.0486,    0.02,2,     -999.0
325020101120,       PRS2,       2,          1,         20,       8020,2,20101121,       0526,  22.749833,-157.9998333,       4720,    24.8,  25.0458,  35.1469,2,  35.1484,2,    207.4,2,  -999.0,5, -999.00,5, -999.00,5,  -999.0,      25,    25.0404, -999.00,5,     -999.0
325020101120,       PRS2,       2,          1,         19,       8019,2,20101121,       0526,  22.749833,-157.9998333,       4720,    24.8,  25.0459,  35.1456,2,  35.1477,2,    207.4,2,   207.1,2,    1.09,2,    0.11,2,  -999.0,      25,    25.0405,    0.03,2,     -999.0
325020101120,       PRS2,       2,          1,         18,       8018,2,20101121,       0526,  22.749833,-157.9998333,       4720,    35.5,  25.0499,  35.1918,2,  35.2067,3,    207.5,3,  -999.0,5,    1.16,2,    0.10,2,  -999.0,      35,    25.0422,    0.03,2,     -999.0
325020101120,       PRS2,       2,          1,         17,       8017,2,20101121,       0526,  22.749833,-157.9998333,       4720,    44.9,  25.1160,  35.2466,2,  35.2454,2,    207.0,2,   207.2,2,    1.10,2,    0.10,2,  -999.0,      45,    25.1063,    0.04,2,     -999.0
325020101120,       PRS2,       2,          1,         16,       8016,2,20101121,       0526,  22.749833,-157.9998333,       4720,    59.3,  25.0913,  35.2444,2,  35.2428,2,    206.3,2,  -999.0,5,    1.15,2,    0.10,2,  -999.0,      59,    25.0784,    0.04,2,     -999.0
325020101120,       PRS2,       2,          1,         15,       8015,2,20101121,       0526,  22.749833,-157.9998333,       4720,    74.8,  25.0690,  35.2390,2,  35.2375,2,    207.2,2,   207.1,2,    1.11,2,    0.10,2,  -999.0,      75,    25.0527,    0.04,2,     -999.0
325020101120,       PRS2,       2,          1,         14,       8014,2,20101121,       0526,  22.749833,-157.9998333,       4720,    85.7,  24.8340,  35.2276,2,  35.2262,2,    207.9,2,   208.5,2, -999.00,5, -999.00,5,  -999.0,      85,    24.8155, -999.00,5,     -999.0
325020101120,       PRS2,       2,          1,         13,       8025,2,20101121,       0526,  22.749833,-157.9998333,       4720,    90.5,  23.9811,  35.2054,2,  35.2093,2,    214.5,2,  -999.0,5, -999.00,5, -999.00,5,  -999.0,      91,    23.9621, -999.00,5,     -999.0
325020101120,       PRS2,       2,          1,         12,       8012,2,20101121,       0526,  22.749833,-157.9998333,       4720,   100.4,  23.2132,  35.2666,2,  35.2627,2,    205.5,2,   208.2,2,    1.36,2,    0.10,2,  -999.0,     100,    23.1925,    0.26,2,     -999.0
325020101120,       PRS2,       2,          1,         11,       8011,2,20101121,       0526,  22.749833,-157.9998333,       4720,   110.5,  22.3506,  35.2979,2,  35.2964,2,    208.6,2,  -999.0,5, -999.00,5, -999.00,5,  -999.0,     109,    22.3285, -999.00,5,     -999.0
325020101120,       PRS2,       2,          1,         10,       8010,2,20101121,       0526,  22.749833,-157.9998333,       4720,   113.9,  22.2155,  35.3016,2,  35.3009,2,    210.0,2,   209.0,2, -999.00,5, -999.00,5,  -999.0,     114,    22.1928, -999.00,5,     -999.0
325020101120,       PRS2,       2,          1,          9,       8009,2,20101121,       0526,  22.749833,-157.9998333,       4720,   124.7,  21.7393,  35.2898,2,  35.2905,2,    206.9,2,   207.3,2,    1.54,2,    0.10,2,  -999.0,     124,    21.7148,    0.57,2,     -999.0
325020101120,       PRS2,       2,          1,          8,       8008,2,20101121,       0526,  22.749833,-157.9998333,       4720,   129.8,  21.6023,  35.2911,2,  35.2909,2,    207.2,2,  -999.0,5, -999.00,5, -999.00,5,  -999.0,     130,    21.5769, -999.00,5,     -999.0
325020101120,       PRS2,       2,          1,          7,       8026,2,20101121,       0526,  22.749833,-157.9998333,       4720,   150.0,  20.7132,  35.2875,2,  35.2854,2,    203.4,2,   204.1,2,    1.77,2,    0.12,2,  -999.0,     150,    20.6847,    1.05,2,     -999.0
325020101120,       PRS2,       2,          1,          6,       8006,2,20101121,       0526,  22.749833,-157.9998333,       4720,   165.0,  20.2192,  35.2664,2,  35.2479,3,    206.0,3,   204.5,2, -999.00,5, -999.00,5,  -999.0,     165,    20.1884, -999.00,5,     -999.0
325020101120,       PRS2,       2,          1,          5,       8005,2,20101121,       0526,  22.749833,-157.9998333,       4720,   174.7,  19.7074,  35.2055,2,  35.2065,2,    203.0,2,   204.0,2,    2.15,2,    0.13,2,  -999.0,     175,    19.6754,    1.47,2,     -999.0
325020101120,       PRS2,       2,          1,          4,       8004,2,20101121,       0526,  22.749833,-157.9998333,       4720,   200.8,  18.8323,  35.0817,2,  35.0902,2,    205.5,2,   204.9,2,    2.51,2,    0.14,2,  -999.0,     200,    18.7967,    1.86,2,     -999.0
325020101120,       PRS2,       2,          1,          3,       8003,2,20101121,       0526,  22.749833,-157.9998333,       4720,   600.1,   5.6576,  34.0609,2,  34.0635,2,     71.4,2,    68.0,3, -999.00,5, -999.00,5,  -999.0,     600,     5.6068, -999.00,5,     -999.0
325020101120,       PRS2,       2,          1,          2,       8002,2,20101121,       0526,  22.749833,-157.9998333,       4720,   774.5,   4.4780,  34.2780,2,  34.2830,2,     21.4,2,    20.9,2, -999.00,5, -999.00,5,  -999.0,     774,     4.4182, -999.00,5,     -999.0
325020101120,       PRS2,       2,          1,          1,       8001,2,20101121,       0526,  22.749833,-157.9998333,       4720,  1020.1,   3.7806,  34.4783,2,  34.4793,2,     44.8,2,    44.4,2, -999.00,5, -999.00,5,  -999.0,    1020,     3.7051, -999.00,5,     -999.0
325020101120,       PRS2,       2,          2,         24,       8024,2,20101121,       0854,  22.746833,-157.9883333,       4719,     5.0,  25.0432,  35.1526,2,  35.1455,2,    207.5,1,  -999.0,9, -999.00,9, -999.00,9,  -999.0,       5,    25.0421, -999.00,9,     -999.0
325020101120,       PRS2,       2,          2,         23,       8023,2,20101121,       0854,  22.746833,-157.9883333,       4719,    24.8,  25.1018,  35.2164,2,  35.2325,3,    207.1,1,  -999.0,9, -999.00,9, -999.00,9,  -999.0,      25,    25.0964, -999.00,9,     -999.0
325020101120,       PRS2,       2,          2,         22,       8022,2,20101121,       0854,  22.746833,-157.9883333,       4719,    45.3,  25.1032,  35.2442,2,  35.2442,2,    206.7,1,  -999.0,9, -999.00,9, -999.00,9,  -999.0,      45,    25.0933, -999.00,9,     -999.0
325020101120,       PRS2,       2,          2,         21,       8021,2,20101121,       0854,  22.746833,-157.9883333,       4719,    76.4,  25.0664,  35.2365,2,  35.2383,2,    207.5,1,  -999.0,9, -999.00,9, -999.00,9,  -999.0,      75,    25.0498, -999.00,9,     -999.0
325020101120,       PRS2,       2,          2,         20,       8020,2,20101121,       0854,  22.746833,-157.9883333,       4719,    99.8,  23.3386,  35.2304,2,  35.2182,2,    213.4,1,  -999.0,9, -999.00,9, -999.00,9,  -999.0,     100,    23.3180, -999.00,9,     -999.0
325020101120,       PRS2,       2,          2,         19,       8019,2,20101121,       0854,  22.746833,-157.9883333,       4719,   125.4,  22.1335,  35.3006,2,  35.2993,2,    209.1,1,  -999.0,9, -999.00,9, -999.00,9,  -999.0,     125,    22.1085, -999.00,9,     -999.0
325020101120,       PRS2,       2,          2,         18,       8018,2,20101121,       0854,  22.746833,-157.9883333,       4719,   150.5,  20.9070,  35.2808,2,  35.2830,2,    198.2,1,  -999.0,9, -999.00,9, -999.00,9,  -999.0,     149,    20.8782, -999.00,9,     -999.0
325020101120,       PRS2,       2,          2,         17,       8017,2,20101121,       0854,  22.746833,-157.9883333,       4719,   175.7,  20.1165,  35.2520,2,  35.2524,2,    206.4,1,  -999.0,9, -999.00,9, -999.00,9,  -999.0,     175,    20.0838, -999.00,9,     -999.0
325020101120,       PRS2,       2,          2,         16,       8016,2,20101121,       0854,  22.746833,-157.9883333,       4719,   501.0,   7.5252,  34.1008,2,-999.0000,5,    100.5,1,  -999.0,9, -999.00,9, -999.00,9,  -999.0,     501,     7.4759, -999.00,9,     -999.0
325020101120,       PRS2,       2,          2,         15,       8015,2,20101121,       0854,  22.746833,-157.9883333,       4719,   501.0,   7.5260,  34.1009,2,-999.0000,5,    100.2,1,  -999.0,9, -999.00,9, -999.00,9,  -999.0,     501,     7.4767, -999.00,9,     -999.0
325020101120,       PRS2,       2,          2,         14,       8014,2,20101121,       0854,  22.746833,-157.9883333,       4719,   501.0,   7.5259,  34.1008,2,  34.1040,2,     99.9,1,  -999.0,9, -999.00,9, -999.00,9,  -999.0,     501,     7.4766, -999.00,9,     -999.0
325020101120,       PRS2,       2,          2,         13,       8025,2,20101121,       0854,  22.746833,-157.9883333,       4719,   501.1,   7.5261,  34.1008,2,-999.0000,5,     99.7,1,  -999.0,9, -999.00,9, -999.00,9,  -999.0,     500,     7.4768, -999.00,9,     -999.0
325020101120,       PRS2,       2,          2,         12,       8012,2,20101121,       0854,  22.746833,-157.9883333,       4719,   501.2,   7.5264,  34.1013,2,-999.0000,5,     99.5,1,  -999.0,9, -999.00,9, -999.00,9,  -999.0,     501,     7.4772, -999.00,9,     -999.0
325020101120,       PRS2,       2,          2,         11,       8011,2,20101121,       0854,  22.746833,-157.9883333,       4719,   600.4,   5.7831,  34.0829,2,  34.0819,2,     67.0,1,  -999.0,9, -999.00,9, -999.00,9,  -999.0,     602,     5.7316, -999.00,9,     -999.0
325020101120,       PRS2,       2,          2,         10,       8010,2,20101121,       0854,  22.746833,-157.9883333,       4719,   771.2,   4.4801,  34.2777,2,-999.0000,5,     21.8,1,  -999.0,9, -999.00,9, -999.00,9,  -999.0,     771,     4.4205, -999.00,9,     -999.0
325020101120,       PRS2,       2,          2,          9,       8009,2,20101121,       0854,  22.746833,-157.9883333,       4719,   771.1,   4.4757,  34.2794,2,-999.0000,5,     21.7,1,  -999.0,9, -999.00,9, -999.00,9,  -999.0,     772,     4.4161, -999.00,9,     -999.0
325020101120,       PRS2,       2,          2,          8,       8008,2,20101121,       0854,  22.746833,-157.9883333,       4719,   771.5,   4.4699,  34.2805,2,-999.0000,5,     21.6,1,  -999.0,9, -999.00,9, -999.00,9,  -999.0,     770,     4.4104, -999.00,9,     -999.0
325020101120,       PRS2,       2,          2,          7,       8026,2,20101121,       0854,  22.746833,-157.9883333,       4719,   771.0,   4.4655,  34.2824,2,  34.2809,2,     21.5,1,  -999.0,9, -999.00,9, -999.00,9,  -999.0,     771,     4.4060, -999.00,9,     -999.0
325020101120,       PRS2,       2,          2,          6,       8006,2,20101121,       0854,  22.746833,-157.9883333,       4719,   770.8,   4.4624,  34.2836,2,-999.0000,5,     21.5,1,  -999.0,9, -999.00,9, -999.00,9,  -999.0,     772,     4.4030, -999.00,9,     -999.0
325020101120,       PRS2,       2,          2,          5,       8005,2,20101121,       0854,  22.746833,-157.9883333,       4719,  1019.0,   3.8365,  34.4762,2,-999.0000,5,     44.0,1,  -999.0,9, -999.00,9, -999.00,9,  -999.0,    1018,     3.7606, -999.00,9,     -999.0
325020101120,       PRS2,       2,          2,          4,       8004,2,20101121,       0854,  22.746833,-157.9883333,       4719,  1018.7,   3.8373,  34.4764,2,-999.0000,5,     44.1,1,  -999.0,9, -999.00,9, -999.00,9,  -999.0,    1019,     3.7614, -999.00,9,     -999.0
325020101120,       PRS2,       2,          2,          3,       8003,2,20101121,       0854,  22.746833,-157.9883333,       4719,  1019.2,   3.8381,  34.4758,2,-999.0000,5,     44.2,1,  -999.0,9, -999.00,9, -999.00,9,  -999.0,    1018,     3.7622, -999.00,9,     -999.0
325020101120,       PRS2,       2,          2,          2,       8002,2,20101121,       0854,  22.746833,-157.9883333,       4719,  1018.8,   3.8387,  34.4758,2,-999.0000,5,     44.3,1,  -999.0,9, -999.00,9, -999.00,9,  -999.0,    1019,     3.7628, -999.00,9,     -999.0
325020101120,       PRS2,       2,          2,          1,       8001,2,20101121,       0854,  22.746833,-157.9883333,       4719,  1018.3,   3.8387,  34.4759,2,  34.4767,2,     44.3,1,  -999.0,9, -999.00,9, -999.00,9,  -999.0,    1020,     3.7628, -999.00,9,     -999.0
325020101120,       PRS2,       2,          3,         22,       8022,2,20101121,       1152,  22.744500,-157.9771667,       4714,     5.9,  25.0170,  35.1502,2,  35.1494,2,    207.0,1,  -999.0,9, -999.00,9, -999.00,9,  -999.0,       5,    25.0157, -999.00,9,     -999.0
325020101120,       PRS2,       2,          3,         21,       8021,2,20101121,       1152,  22.744500,-157.9771667,       4714,     5.7,  25.0169,  35.1501,2,  35.1484,2,    207.1,1,  -999.0,9, -999.00,9, -999.00,9,  -999.0,       6,    25.0157, -999.00,9,     -999.0
325020101120,       PRS2,       2,          3,         20,       8020,2,20101121,       1152,  22.744500,-157.9771667,       4714,     5.7,  25.0147,  35.1503,2,  35.1492,2,    207.3,1,  -999.0,9, -999.00,9, -999.00,9,  -999.0,       5,    25.0134, -999.00,9,     -999.0
325020101120,       PRS2,       2,          3,         19,       8019,2,20101121,       1152,  22.744500,-157.9771667,       4714,    25.3,  25.0236,  35.1496,2,  35.1512,2,    207.3,1,  -999.0,9, -999.00,9, -999.00,9,  -999.0,      25,    25.0182, -999.00,9,     -999.0
325020101120,       PRS2,       2,          3,         18,       8018,2,20101121,       1152,  22.744500,-157.9771667,       4714,    25.2,  25.0226,  35.1493,2,  35.1532,2,    207.2,1,  -999.0,9, -999.00,9, -999.00,9,  -999.0,      26,    25.0172, -999.00,9,     -999.0
325020101120,       PRS2,       2,          3,         17,       8017,2,20101121,       1152,  22.744500,-157.9771667,       4714,    25.2,  25.0208,  35.1491,2,  35.1516,2,    207.2,1,  -999.0,9, -999.00,9, -999.00,9,  -999.0,      25,    25.0153, -999.00,9,     -999.0
325020101120,       PRS2,       2,          3,         16,       8016,2,20101121,       1152,  22.744500,-157.9771667,       4714,    44.9,  25.1005,  35.2414,2,  35.2414,2,    207.4,1,  -999.0,9, -999.00,9, -999.00,9,  -999.0,      45,    25.0907, -999.00,9,     -999.0
325020101120,       PRS2,       2,          3,         15,       8015,2,20101121,       1152,  22.744500,-157.9771667,       4714,    44.8,  25.1003,  35.2415,2,  35.2408,2,    207.2,1,  -999.0,9, -999.00,9, -999.00,9,  -999.0,      46,    25.0905, -999.00,9,     -999.0
325020101120,       PRS2,       2,          3,         14,       8014,2,20101121,       1152,  22.744500,-157.9771667,       4714,    45.0,  25.1011,  35.2416,2,  35.2410,2,    206.9,1,  -999.0,9, -999.00,9, -999.00,9,  -999.0,      45,    25.0913, -999.00,9,     -999.0
325020101120,       PRS2,       2,          3,         13,       8025,2,20101121,       1152,  22.744500,-157.9771667,       4714,    75.5,  25.0817,  35.2385,2,  35.2389,2,    206.3,1,  -999.0,9, -999.00,9, -999.00,9,  -999.0,      75,    25.0653, -999.00,9,     -999.0
325020101120,       PRS2,       2,          3,         12,       8012,2,20101121,       1152,  22.744500,-157.9771667,       4714,    75.2,  25.0821,  35.2385,2,  35.2389,2,    206.3,1,  -999.0,9, -999.00,9, -999.00,9,  -999.0,      75,    25.0658, -999.00,9,     -999.0
325020101120,       PRS2,       2,          3,         11,       8011,2,20101121,       1152,  22.744500,-157.9771667,       4714,    75.2,  25.0822,  35.2383,2,  35.2410,2,    206.3,1,  -999.0,9, -999.00,9, -999.00,9,  -999.0,      76,    25.0659, -999.00,9,     -999.0
325020101120,       PRS2,       2,          3,         10,       8010,2,20101121,       1152,  22.744500,-157.9771667,       4714,   100.2,  24.5708,  35.2205,2,  35.2207,2,    209.7,1,  -999.0,9, -999.00,9, -999.00,9,  -999.0,     100,    24.5493, -999.00,9,     -999.0
325020101120,       PRS2,       2,          3,          9,       8009,2,20101121,       1152,  22.744500,-157.9771667,       4714,   100.3,  24.5512,  35.2184,2,  35.2188,2,    210.2,1,  -999.0,9, -999.00,9, -999.00,9,  -999.0,     100,    24.5297, -999.00,9,     -999.0
325020101120,       PRS2,       2,          3,          8,       8008,2,20101121,       1152,  22.744500,-157.9771667,       4714,   100.3,  24.5358,  35.2176,2,  35.2180,2,    210.8,1,  -999.0,9, -999.00,9, -999.00,9,  -999.0,     100,    24.5143, -999.00,9,     -999.0
325020101120,       PRS2,       2,          3,          7,       8026,2,20101121,       1152,  22.744500,-157.9771667,       4714,   126.1,  23.1135,  35.2472,2,  35.2582,3,    208.4,1,  -999.0,9, -999.00,9, -999.00,9,  -999.0,     125,    23.0877, -999.00,9,     -999.0
325020101120,       PRS2,       2,          3,          6,       8006,2,20101121,       1152,  22.744500,-157.9771667,       4714,   126.0,  23.1045,  35.2478,2,  35.2611,3,    208.1,1,  -999.0,9, -999.00,9, -999.00,9,  -999.0,     125,    23.0786, -999.00,9,     -999.0
325020101120,       PRS2,       2,          3,          5,       8005,2,20101121,       1152,  22.744500,-157.9771667,       4714,   125.6,  23.0946,  35.2490,2,  35.2680,4,    207.7,1,  -999.0,9, -999.00,9, -999.00,9,  -999.0,     126,    23.0688, -999.00,9,     -999.0
325020101120,       PRS2,       2,          3,          4,       8004,2,20101121,       1152,  22.744500,-157.9771667,       4714,   150.2,  21.0580,  35.2837,2,  35.2810,2,    202.3,1,  -999.0,9, -999.00,9, -999.00,9,  -999.0,     150,    21.0291, -999.00,9,     -999.0
325020101120,       PRS2,       2,          3,          3,       8003,2,20101121,       1152,  22.744500,-157.9771667,       4714,   175.3,  20.2820,  35.2684,2,  35.2649,2,    207.3,1,  -999.0,9, -999.00,9, -999.00,9,  -999.0,     175,    20.2492, -999.00,9,     -999.0
325020101120,       PRS2,       2,          3,          2,       8002,2,20101121,       1152,  22.744500,-157.9771667,       4714,   641.0,   5.4800,  34.0842,2,  34.0846,2,     57.9,1,  -999.0,9, -999.00,9, -999.00,9,  -999.0,     642,     5.4264, -999.00,9,     -999.0
325020101120,       PRS2,       2,          3,          1,       8001,2,20101121,       1152,  22.744500,-157.9771667,       4714,  1020.9,   3.8577,  34.4615,2,  34.4593,2,     40.7,1,  -999.0,9, -999.00,9, -999.00,9,  -999.0,    1020,     3.7815, -999.00,9,     -999.0