BOTTLE,20141031SIOCCHAMB
EXPOCODE,SECT_ID,STNNBR,CASTNO,SAMPNO,BTLNBR,BTLNBR_FLAG_W,DATE,TIME,LATITUDE,LONGITUDE,DEPTH,CTDPRS,CTDTMP,CTDSAL,CTDSAL_FLAG_W,SALNTY,SALNTY_FLAG_W,CTDOXY,CTDOXY_FLAG_W,OXYGEN,OXYGEN_FLAG_W,SILCAT,SILCAT_FLAG_W,PHSPHT,PHSPHT_FLAG_W,REVPRS,CTDRAW,THETA,NO2+NO3,NO2+NO3_FLAG_W,REVTMP
,,,,,,,,,,,METERS,DBAR,ITS-90,PSS-78,,PSS-78,,UMOL/KG,,UMOL/KG,,UMOL/KG,,UMOL/KG,,DBAR,DBAR,ITS-90,UMOL/KG,,DEG C
325020101120,       PRS2,       2,          7,         24,       8024,2,20101122,       0106,  22.776167,-157.9355000,       4691,     4.8,  25.2125,  35.1755,2,  35.1754,2,    207.1,1,  -999.0,9, -999.00,9, -999.00,9,  -999.0,       4,    25.2114, -999.00,9,     -999.0
325020101120,       PRS2,       2,          7,         23,       8023,2,20101122,       0106,  22.776167,-157.9355000,       4691,    24.9,  25.1053,  35.2071,2,  35.2132,2,    206.8,1,  -999.0,9, -999.00,9, -999.00,9,  -999.0,      25,    25.0999, -999.00,9,     -999.0
325020101120,       PRS2,       2,          7,         22,       8022,2,20101122,       0106,  22.776167,-157.9355000,       4691,    24.8,  25.1070,  35.2078,2,  35.2192,2,    206.6,1,  -999.0,9, -999.00,9, -999.00,9,  -999.0,      24,    25.1016, -999.00,9,     -999.0
325020101120,       PRS2,       2,          7,         21,       8021,2,20101122,       0106,  22.776167,-157.9355000,       4691,    43.9,  25.1083,  35.2451,2,  35.2442,2,    208.1,1,  -999.0,9, -999.00,9, -999.00,9,  -999.0,      44,    25.0988, -999.00,9,     -999.0
325020101120,       PRS2,       2,          7,         20,       8020,2,20101122,       0106,  22.776167,-157.9355000,       4691,    74.4,  25.0700,  35.2399,2,  35.2408,2,    207.5,1,  -999.0,9, -999.00,9, -999.00,9,  -999.0,      74,    25.0538, -999.00,9,     -999.0
325020101120,       PRS2,       2,          7,         19,       8019,2,20101122,       0106,  22.776167,-157.9355000,       4691,   100.3,  23.6397,  35.2051,2,  35.1981,2,    216.3,1,  -999.0,9, -999.00,9, -999.00,9,  -999.0,     100,    23.6188, -999.00,9,     -999.0
325020101120,       PRS2,       2,          7,         18,       8018,2,20101122,       0106,  22.776167,-157.9355000,       4691,   124.6,  22.0271,  35.3066,2,  35.1985,4,    209.9,1,  -999.0,9, -999.00,9, -999.00,9,  -999.0,     125,    22.0024, -999.00,9,     -999.0
325020101120,       PRS2,       2,          7,         17,       8017,2,20101122,       0106,  22.776167,-157.9355000,       4691,   124.6,  22.0257,  35.3067,2,  35.3070,2,    209.8,1,  -999.0,9, -999.00,9, -999.00,9,  -999.0,     125,    22.0010, -999.00,9,     -999.0
325020101120,       PRS2,       2,          7,         16,       8016,2,20101122,       0106,  22.776167,-157.9355000,       4691,   150.6,  20.7795,  35.2988,2,  35.2962,2,    202.9,1,  -999.0,9, -999.00,9, -999.00,9,  -999.0,     150,    20.7508, -999.00,9,     -999.0
325020101120,       PRS2,       2,          7,         15,       8015,2,20101122,       0106,  22.776167,-157.9355000,       4691,   150.5,  20.7774,  35.2991,2,  35.2954,2,    203.0,1,  -999.0,9, -999.00,9, -999.00,9,  -999.0,     150,    20.7488, -999.00,9,     -999.0
325020101120,       PRS2,       2,          7,         14,       8014,2,20101122,       0106,  22.776167,-157.9355000,       4691,   174.7,  20.0417,  35.2411,2,  35.2383,2,    201.6,1,  -999.0,9, -999.00,9, -999.00,9,  -999.0,     175,    20.0093, -999.00,9,     -999.0
325020101120,       PRS2,       2,          7,         13,       8025,2,20101122,       0106,  22.776167,-157.9355000,       4691,   175.0,  20.0345,  35.2400,2,  35.2387,2,    201.6,1,  -999.0,9, -999.00,9, -999.00,9,  -999.0,     174,    20.0020, -999.00,9,     -999.0
325020101120,       PRS2,       2,          7,         12,       8012,2,20101122,       0106,  22.776167,-157.9355000,       4691,   200.0,  19.1906,  35.1322,2,  35.1315,2,    204.9,1,  -999.0,9, -999.00,9, -999.00,9,  -999.0,     201,    19.1546, -999.00,9,     -999.0
325020101120,       PRS2,       2,          7,         11,       8011,2,20101122,       0106,  22.776167,-157.9355000,       4691,   200.1,  19.1881,  35.1318,2,  35.1307,2,    204.9,1,  -999.0,9, -999.00,9, -999.00,9,  -999.0,     200,    19.1521, -999.00,9,     -999.0
325020101120,       PRS2,       2,          7,         10,       8010,2,20101122,       0106,  22.776167,-157.9355000,       4691,   200.0,  19.1837,  35.1317,2,-999.0000,5,    205.0,1,  -999.0,9, -999.00,9, -999.00,9,  -999.0,     200,    19.1477, -999.00,9,     -999.0
325020101120,       PRS2,       2,          7,          9,       8009,2,20101122,       0106,  22.776167,-157.9355000,       4691,   250.3,  17.5383,  34.8668,2,  34.8605,2,    209.0,1,  -999.0,9, -999.00,9, -999.00,9,  -999.0,     250,    17.4961, -999.00,9,     -999.0
325020101120,       PRS2,       2,          7,          8,       8008,2,20101122,       0106,  22.776167,-157.9355000,       4691,   250.1,  17.5397,  34.8683,2,  34.8509,2,    208.7,1,  -999.0,9, -999.00,9, -999.00,9,  -999.0,     251,    17.4975, -999.00,9,     -999.0
325020101120,       PRS2,       2,          7,          7,       8026,2,20101122,       0106,  22.776167,-157.9355000,       4691,   300.1,  14.9966,  34.4847,2,-999.0000,5,    189.4,1,  -999.0,9, -999.00,9, -999.00,9,  -999.0,     299,    14.9512, -999.00,9,     -999.0
325020101120,       PRS2,       2,          7,          6,       8006,2,20101122,       0106,  22.776167,-157.9355000,       4691,   349.4,  12.5060,  34.2363,2,  34.2391,2,    186.1,1,  -999.0,9, -999.00,9, -999.00,9,  -999.0,     349,    12.4593, -999.00,9,     -999.0
325020101120,       PRS2,       2,          7,          5,       8005,2,20101122,       0106,  22.776167,-157.9355000,       4691,   349.4,  12.5131,  34.2370,2,  34.2372,2,    185.3,1,  -999.0,9, -999.00,9, -999.00,9,  -999.0,     349,    12.4663, -999.00,9,     -999.0
325020101120,       PRS2,       2,          7,          4,       8004,2,20101122,       0106,  22.776167,-157.9355000,       4691,   349.3,  12.4970,  34.2344,2,  34.2334,2,    184.5,1,  -999.0,9, -999.00,9, -999.00,9,  -999.0,     349,    12.4503, -999.00,9,     -999.0
325020101120,       PRS2,       2,          7,          3,       8003,2,20101122,       0106,  22.776167,-157.9355000,       4691,   349.1,  12.4468,  34.2361,2,  34.2291,2,    182.2,1,  -999.0,9, -999.00,9, -999.00,9,  -999.0,     350,    12.4003, -999.00,9,     -999.0
325020101120,       PRS2,       2,          7,          2,       8002,2,20101122,       0106,  22.776167,-157.9355000,       4691,   590.2,   5.7493,  34.0592,2,  34.0594,2,     70.5,1,  -999.0,9, -999.00,9, -999.00,9,  -999.0,     591,     5.6989, -999.00,9,     -999.0
325020101120,       PRS2,       2,          7,          1,       8001,2,20101122,       0106,  22.776167,-157.9355000,       4691,  1018.9,   3.8807,  34.4559,2,  34.4504,2,     38.8,1,  -999.0,9, -999.00,9, -999.00,9,  -999.0,    1019,     3.8045, -999.00,9,     -999.0
325020101120,       PRS2,       2,          8,         24,       8024,2,20101122,       0439,  22.797833,-158.0105000,       4705,     3.7,  25.0522,  35.1112,2,-999.0000,5,    207.5,1,  -999.0,9, -999.00,9, -999.00,9,  -999.0,       4,    25.0514, -999.00,9,     -999.0
325020101120,       PRS2,       2,          8,         23,       8023,2,20101122,       0439,  22.797833,-158.0105000,       4705,     3.8,  25.0523,  35.1110,2,  35.1246,3,    207.5,1,  -999.0,9, -999.00,9, -999.00,9,  -999.0,       3,    25.0515, -999.00,9,     -999.0
325020101120,       PRS2,       2,          8,         22,       8022,2,20101122,       0439,  22.797833,-158.0105000,       4705,    25.1,  25.1225,  35.2405,2,-999.0000,5,    206.9,1,  -999.0,9, -999.00,9, -999.00,9,  -999.0,      24,    25.1170, -999.00,9,     -999.0
325020101120,       PRS2,       2,          8,         21,       8021,2,20101122,       0439,  22.797833,-158.0105000,       4705,    25.0,  25.1223,  35.2403,2,  35.2400,2,    206.8,1,  -999.0,9, -999.00,9, -999.00,9,  -999.0,      25,    25.1169, -999.00,9,     -999.0
325020101120,       PRS2,       2,          8,         20,       8020,2,20101122,       0439,  22.797833,-158.0105000,       4705,    44.7,  25.0929,  35.2390,2,-999.0000,5,    207.4,1,  -999.0,9, -999.00,9, -999.00,9,  -999.0,      44,    25.0831, -999.00,9,     -999.0
325020101120,       PRS2,       2,          8,         19,       8019,2,20101122,       0439,  22.797833,-158.0105000,       4705,    44.5,  25.0929,  35.2389,2,  35.2375,2,    207.6,1,  -999.0,9, -999.00,9, -999.00,9,  -999.0,      45,    25.0833, -999.00,9,     -999.0
325020101120,       PRS2,       2,          8,         18,       8018,2,20101122,       0439,  22.797833,-158.0105000,       4705,    59.7,  25.1001,  35.2486,2,  35.2459,2,    207.2,1,  -999.0,9, -999.00,9, -999.00,9,  -999.0,      59,    25.0871, -999.00,9,     -999.0
325020101120,       PRS2,       2,          8,         17,       8017,2,20101122,       0439,  22.797833,-158.0105000,       4705,    75.0,  25.0765,  35.2409,2,-999.0000,5,    207.3,1,  -999.0,9, -999.00,9, -999.00,9,  -999.0,      75,    25.0602, -999.00,9,     -999.0
325020101120,       PRS2,       2,          8,         16,       8016,2,20101122,       0439,  22.797833,-158.0105000,       4705,    75.1,  25.0770,  35.2409,2,  35.2404,2,    207.3,1,  -999.0,9, -999.00,9, -999.00,9,  -999.0,      75,    25.0607, -999.00,9,     -999.0
325020101120,       PRS2,       2,          8,         15,       8015,2,20101122,       0439,  22.797833,-158.0105000,       4705,    84.4,  25.0932,  35.2499,2,  35.2487,2,    207.5,1,  -999.0,9, -999.00,9, -999.00,9,  -999.0,      84,    25.0749, -999.00,9,     -999.0
325020101120,       PRS2,       2,          8,         14,       8014,2,20101122,       0439,  22.797833,-158.0105000,       4705,   100.1,  24.3670,  35.1959,2,-999.0000,5,    210.4,1,  -999.0,9, -999.00,9, -999.00,9,  -999.0,     101,    24.3456, -999.00,9,     -999.0
325020101120,       PRS2,       2,          8,         13,       8025,2,20101122,       0439,  22.797833,-158.0105000,       4705,   100.2,  24.3405,  35.1963,2,  35.1993,2,    210.6,1,  -999.0,9, -999.00,9, -999.00,9,  -999.0,     100,    24.3192, -999.00,9,     -999.0
325020101120,       PRS2,       2,          8,         12,       8012,2,20101122,       0439,  22.797833,-158.0105000,       4705,   113.6,  23.1661,  35.2362,2,  35.2347,2,    209.1,1,  -999.0,9, -999.00,9, -999.00,9,  -999.0,     114,    23.1428, -999.00,9,     -999.0
325020101120,       PRS2,       2,          8,         11,       8011,2,20101122,       0439,  22.797833,-158.0105000,       4705,   124.3,  22.9750,  35.2327,2,-999.0000,5,    209.3,1,  -999.0,9, -999.00,9, -999.00,9,  -999.0,     124,    22.9496, -999.00,9,     -999.0
325020101120,       PRS2,       2,          8,         10,       8010,2,20101122,       0439,  22.797833,-158.0105000,       4705,   124.3,  22.9724,  35.2330,2,  35.2398,2,    209.4,1,  -999.0,9, -999.00,9, -999.00,9,  -999.0,     124,    22.9470, -999.00,9,     -999.0
325020101120,       PRS2,       2,          8,          9,       8009,2,20101122,       0439,  22.797833,-158.0105000,       4705,   135.1,  22.3126,  35.2917,2,  35.2867,2,    207.5,1,  -999.0,9, -999.00,9, -999.00,9,  -999.0,     135,    22.2855, -999.00,9,     -999.0
325020101120,       PRS2,       2,          8,          8,       8008,2,20101122,       0439,  22.797833,-158.0105000,       4705,   149.7,  21.9327,  35.3174,2,-999.0000,5,    209.3,1,  -999.0,9, -999.00,9, -999.00,9,  -999.0,     150,    21.9031, -999.00,9,     -999.0
325020101120,       PRS2,       2,          8,          7,       8026,2,20101122,       0439,  22.797833,-158.0105000,       4705,   149.6,  21.9080,  35.3218,2,  35.3153,2,    209.5,1,  -999.0,9, -999.00,9, -999.00,9,  -999.0,     150,    21.8785, -999.00,9,     -999.0
325020101120,       PRS2,       2,          8,          6,       8006,2,20101122,       0439,  22.797833,-158.0105000,       4705,   173.3,  20.9686,  35.3004,2,-999.0000,5,    202.8,1,  -999.0,9, -999.00,9, -999.00,9,  -999.0,     174,    20.9354, -999.00,9,     -999.0
325020101120,       PRS2,       2,          8,          5,       8005,2,20101122,       0439,  22.797833,-158.0105000,       4705,   173.3,  20.9496,  35.2994,2,  35.2993,2,    202.7,1,  -999.0,9, -999.00,9, -999.00,9,  -999.0,     174,    20.9165, -999.00,9,     -999.0
325020101120,       PRS2,       2,          8,          4,       8004,2,20101122,       0439,  22.797833,-158.0105000,       4705,   499.6,   7.2689,  34.0876,2,  34.0907,2,    100.8,1,  -999.0,9, -999.00,9, -999.00,9,  -999.0,     500,     7.2207, -999.00,9,     -999.0
325020101120,       PRS2,       2,          8,          3,       8003,2,20101122,       0439,  22.797833,-158.0105000,       4705,   610.9,   5.5179,  34.0860,2,  34.0854,2,     60.2,1,  -999.0,9, -999.00,9, -999.00,9,  -999.0,     610,     5.4667, -999.00,9,     -999.0
325020101120,       PRS2,       2,          8,          2,       8002,2,20101122,       0439,  22.797833,-158.0105000,       4705,   770.8,   4.4611,  34.2847,2,  34.2874,2,     21.6,1,  -999.0,9, -999.00,9, -999.00,9,  -999.0,     771,     4.4016, -999.00,9,     -999.0
325020101120,       PRS2,       2,          8,          1,       8001,2,20101122,       0439,  22.797833,-158.0105000,       4705,  1020.6,   3.7745,  34.4678,2,  34.4673,2,     41.8,1,  -999.0,9, -999.00,9, -999.00,9,  -999.0,    1021,     3.6990, -999.00,9,     -999.0
325020101120,       PRS2,       2,          9,         24,       8024,2,20101122,       0713,  22.749833,-157.9998333,       4721,     4.9,  25.0833,  35.2046,2,  35.2042,2,    206.7,2,   207.5,2,    0.96,2,    0.08,2,  -999.0,       5,    25.0823,    0.03,2,     -999.0
325020101120,       PRS2,       2,          9,         23,       8023,2,20101122,       0713,  22.749833,-157.9998333,       4721,    54.9,  25.0760,  35.2366,2,  35.2387,2,    208.1,2,   208.1,2,    0.99,2,    0.09,2,  -999.0,      55,    25.0641,    0.03,2,     -999.0
325020101120,       PRS2,       2,          9,         22,       8022,2,20101122,       0713,  22.749833,-157.9998333,       4721,   104.0,  23.3209,  35.2046,2,  35.2065,2,    212.9,2,   212.4,2,    1.04,2,    0.11,2,  -999.0,     104,    23.2994,    0.05,2,     -999.0
325020101120,       PRS2,       2,          9,         21,       8021,2,20101122,       0713,  22.749833,-157.9998333,       4721,   133.0,  21.8351,  35.2932,2,  35.2962,2,    205.0,2,   206.7,2,    1.18,2,    0.10,2,  -999.0,     133,    21.8089,    0.68,2,     -999.0
325020101120,       PRS2,       2,          9,         20,       8020,2,20101122,       0713,  22.749833,-157.9998333,       4721,   174.2,  20.4178,  35.2662,2,  35.2670,2,    200.9,2,   202.8,2,    1.88,2,    0.12,2,  -999.0,     175,    20.3851,    1.22,2,     -999.0
325020101120,       PRS2,       2,          9,         19,       8019,2,20101122,       0713,  22.749833,-157.9998333,       4721,   194.3,  19.8194,  35.2217,2,  35.2125,2,    203.7,2,   204.4,2,    2.14,2,    0.13,2,  -999.0,     194,    19.7836,    1.43,2,     -999.0
325020101120,       PRS2,       2,          9,         18,       8018,2,20101122,       0713,  22.749833,-157.9998333,       4721,   236.0,  18.0538,  34.9544,2,  34.9420,2,    209.4,2,   208.3,2,    3.00,2,    0.18,2,  -999.0,     236,    18.0132,    2.34,2,     -999.0
325020101120,       PRS2,       2,          9,         17,       8017,2,20101122,       0713,  22.749833,-157.9998333,       4721,   275.9,  16.1012,  34.6342,2,  34.6284,2,    203.0,2,   202.6,2,    4.82,2,    0.38,2,  -999.0,     276,    16.0574,    4.77,2,     -999.0
325020101120,       PRS2,       2,          9,         16,       8016,2,20101122,       0713,  22.749833,-157.9998333,       4721,   330.0,  12.8385,  34.2958,2,  34.2993,2,    197.4,2,   197.2,2,   10.47,2,    0.77,2,  -999.0,     330,    12.7936,   10.62,2,     -999.0
325020101120,       PRS2,       2,          9,         15,       8015,2,20101122,       0713,  22.749833,-157.9998333,       4721,   353.4,  12.0334,  34.2310,2,  34.2291,2,    182.2,2,   192.9,3,   12.56,2,    0.92,2,  -999.0,     354,    11.9873,   12.63,2,     -999.0
325020101120,       PRS2,       2,          9,         14,       8014,2,20101122,       0713,  22.749833,-157.9998333,       4721,   390.8,  10.3067,  34.1229,2,  34.1258,2,    159.7,2,   159.7,2,   21.40,2,    1.39,2,  -999.0,     391,    10.2605,   18.68,2,     -999.0
325020101120,       PRS2,       2,          9,         13,       8025,2,20101122,       0713,  22.749833,-157.9998333,       4721,   427.8,   8.5660,  34.1150,2,  34.1154,2,    124.2,2,   127.6,2,   34.23,2,    1.86,2,  -999.0,     429,     8.5208,   25.22,2,     -999.0
325020101120,       PRS2,       2,          9,         12,       8012,2,20101122,       0713,  22.749833,-157.9998333,       4721,   499.8,   7.4558,  34.1016,2,  34.1017,2,     98.9,2,    98.8,2,   46.70,2,    2.21,2,  -999.0,     499,     7.4069,   30.09,2,     -999.0
325020101120,       PRS2,       2,          9,         11,       8011,2,20101122,       0713,  22.749833,-157.9998333,       4721,   537.7,   6.8837,  34.1106,2,  34.1093,2,     80.6,2,    80.9,2,   54.32,2,    2.41,2,  -999.0,     538,     6.8333,   32.68,2,     -999.0
325020101120,       PRS2,       2,          9,         10,       8010,2,20101122,       0713,  22.749833,-157.9998333,       4721,   581.3,   5.9231,  34.0712,2,  34.0707,2,     73.9,2,    72.8,2,   66.00,2,    2.57,2,  -999.0,     582,     5.8727,   35.46,2,     -999.0
325020101120,       PRS2,       2,          9,          9,       8009,2,20101122,       0713,  22.749833,-157.9998333,       4721,   625.1,   5.4116,  34.0812,2,  34.0825,2,     58.0,2,    57.8,2,   75.60,2,    2.74,2,  -999.0,     625,     5.3597,   37.71,2,     -999.0
325020101120,       PRS2,       2,          9,          8,       8008,2,20101122,       0713,  22.749833,-157.9998333,       4721,   638.6,   5.2160,  34.1032,2,  34.1034,2,     50.5,2,    48.7,2,   79.71,2,    2.82,2,  -999.0,     639,     5.1638,   38.83,2,     -999.0
325020101120,       PRS2,       2,          9,          7,       8026,2,20101122,       0713,  22.749833,-157.9998333,       4721,   698.9,   4.8026,  34.1834,2,  34.1854,2,     29.6,2,    28.9,2,   91.27,2,    3.00,2,  -999.0,     700,     4.7473,   41.10,2,     -999.0
325020101120,       PRS2,       2,          9,          6,       8006,2,20101122,       0713,  22.749833,-157.9998333,       4721,   764.4,   4.4983,  34.2719,2,  34.2709,2,     21.4,2,    21.2,2,  100.35,2,    3.08,2,  -999.0,     765,     4.4392,   42.01,2,     -999.0
325020101120,       PRS2,       2,          9,          5,       8005,2,20101122,       0713,  22.749833,-157.9998333,       4721,   806.5,   4.3650,  34.3126,2,  34.3115,2,     21.5,2,    20.9,2,  104.35,2,    3.11,2,  -999.0,     807,     4.3032,   42.30,2,     -999.0
325020101120,       PRS2,       2,          9,          4,       8004,2,20101122,       0713,  22.749833,-157.9998333,       4721,   846.5,   4.2233,  34.3600,2,  34.3607,2,     23.8,2,    26.4,3,  107.77,2,    3.10,2,  -999.0,     847,     4.1590,   42.43,2,     -999.0
325020101120,       PRS2,       2,          9,          3,       8003,2,20101122,       0713,  22.749833,-157.9998333,       4721,   912.9,   4.0481,  34.4163,2,  34.4186,2,     31.4,2,    31.5,2,  111.14,2,    3.06,2,  -999.0,     914,     3.9794,   42.13,2,     -999.0
325020101120,       PRS2,       2,          9,          2,       8002,2,20101122,       0713,  22.749833,-157.9998333,       4721,   977.8,   3.8919,  34.4522,2,  34.4542,2,     38.9,2,    39.3,2,  113.37,2,    3.04,2,  -999.0,     978,     3.8190,   41.89,2,     -999.0
325020101120,       PRS2,       2,          9,          1,       8001,2,20101122,       0713,  22.749833,-157.9998333,       4721,  1020.1,   3.8015,  34.4731,2,  34.4716,2,     43.2,2,    43.0,2,  114.13,2,    3.02,2,  -999.0,    1020,     3.7258,   41.57,2,     -999.0