BOTTLE,20141031SIOCCHAMB
EXPOCODE,SECT_ID,STNNBR,CASTNO,SAMPNO,BTLNBR,BTLNBR_FLAG_W,DATE,TIME,LATITUDE,LONGITUDE,DEPTH,CTDPRS,CTDTMP,CTDSAL,CTDSAL_FLAG_W,SALNTY,SALNTY_FLAG_W,CTDOXY,CTDOXY_FLAG_W,OXYGEN,OXYGEN_FLAG_W,SILCAT,SILCAT_FLAG_W,PHSPHT,PHSPHT_FLAG_W,REVPRS,CTDRAW,THETA,NO2+NO3,NO2+NO3_FLAG_W,REVTMP
,,,,,,,,,,,METERS,DBAR,ITS-90,PSS-78,,PSS-78,,UMOL/KG,,UMOL/KG,,UMOL/KG,,UMOL/KG,,DBAR,DBAR,ITS-90,UMOL/KG,,DEG C
325020101120,       PRS2,       2,          4,         22,       8022,2,20101121,       1535,  22.770333,-158.0158333,       4713,    75.8,  25.1098,  35.2533,2,  35.2534,2,    208.1,1,  -999.0,9, -999.00,9, -999.00,9,  -999.0,      75,    25.0933, -999.00,9,     -999.0
325020101120,       PRS2,       2,          4,         21,       8021,2,20101121,       1535,  22.770333,-158.0158333,       4713,    75.9,  25.1100,  35.2532,2,-999.0000,5,    208.0,1,  -999.0,9, -999.00,9, -999.00,9,  -999.0,      74,    25.0935, -999.00,9,     -999.0
325020101120,       PRS2,       2,          4,         20,       8020,2,20101121,       1535,  22.770333,-158.0158333,       4713,    75.3,  25.1091,  35.2527,2,-999.0000,5,    207.9,1,  -999.0,9, -999.00,9, -999.00,9,  -999.0,      75,    25.0927, -999.00,9,     -999.0
325020101120,       PRS2,       2,          4,         19,       8019,2,20101121,       1535,  22.770333,-158.0158333,       4713,    75.0,  25.1091,  35.2527,2,-999.0000,5,    207.6,1,  -999.0,9, -999.00,9, -999.00,9,  -999.0,      77,    25.0928, -999.00,9,     -999.0
325020101120,       PRS2,       2,          4,         18,       8018,2,20101121,       1535,  22.770333,-158.0158333,       4713,    75.2,  25.1089,  35.2524,2,-999.0000,5,    207.2,1,  -999.0,9, -999.00,9, -999.00,9,  -999.0,      76,    25.0925, -999.00,9,     -999.0
325020101120,       PRS2,       2,          4,         17,       8017,2,20101121,       1535,  22.770333,-158.0158333,       4713,   125.2,  23.5275,  35.1968,2,-999.0000,5,    214.5,1,  -999.0,9, -999.00,9, -999.00,9,  -999.0,     126,    23.5015, -999.00,9,     -999.0
325020101120,       PRS2,       2,          4,         16,       8016,2,20101121,       1535,  22.770333,-158.0158333,       4713,   125.4,  23.5275,  35.1968,2,-999.0000,5,    214.3,1,  -999.0,9, -999.00,9, -999.00,9,  -999.0,     124,    23.5015, -999.00,9,     -999.0
325020101120,       PRS2,       2,          4,         15,       8015,2,20101121,       1535,  22.770333,-158.0158333,       4713,   125.3,  23.5390,  35.1974,2,-999.0000,5,    214.0,1,  -999.0,9, -999.00,9, -999.00,9,  -999.0,     124,    23.5130, -999.00,9,     -999.0
325020101120,       PRS2,       2,          4,         14,       8014,2,20101121,       1535,  22.770333,-158.0158333,       4713,   125.2,  23.5473,  35.1954,2,-999.0000,5,    213.9,1,  -999.0,9, -999.00,9, -999.00,9,  -999.0,     125,    23.5213, -999.00,9,     -999.0
325020101120,       PRS2,       2,          4,         13,       8025,2,20101121,       1535,  22.770333,-158.0158333,       4713,   125.5,  23.5505,  35.1974,2,-999.0000,5,    213.8,1,  -999.0,9, -999.00,9, -999.00,9,  -999.0,     124,    23.5245, -999.00,9,     -999.0
325020101120,       PRS2,       2,          4,         12,       8012,2,20101121,       1535,  22.770333,-158.0158333,       4713,   200.1,  19.8584,  35.2232,2,-999.0000,5,    204.1,1,  -999.0,9, -999.00,9, -999.00,9,  -999.0,     199,    19.8215, -999.00,9,     -999.0
325020101120,       PRS2,       2,          4,         11,       8011,2,20101121,       1535,  22.770333,-158.0158333,       4713,   199.9,  19.8593,  35.2229,2,-999.0000,5,    204.0,1,  -999.0,9, -999.00,9, -999.00,9,  -999.0,     199,    19.8224, -999.00,9,     -999.0
325020101120,       PRS2,       2,          4,         10,       8010,2,20101121,       1535,  22.770333,-158.0158333,       4713,   199.9,  19.8599,  35.2226,2,-999.0000,5,    204.0,1,  -999.0,9, -999.00,9, -999.00,9,  -999.0,     199,    19.8230, -999.00,9,     -999.0
325020101120,       PRS2,       2,          4,          9,       8009,2,20101121,       1535,  22.770333,-158.0158333,       4713,   199.8,  19.8557,  35.2221,2,-999.0000,5,    204.0,1,  -999.0,9, -999.00,9, -999.00,9,  -999.0,     199,    19.8189, -999.00,9,     -999.0
325020101120,       PRS2,       2,          4,          8,       8008,2,20101121,       1535,  22.770333,-158.0158333,       4713,   199.5,  19.8484,  35.2199,2,-999.0000,5,    204.1,1,  -999.0,9, -999.00,9, -999.00,9,  -999.0,     201,    19.8117, -999.00,9,     -999.0
325020101120,       PRS2,       2,          4,          7,       8026,2,20101121,       1535,  22.770333,-158.0158333,       4713,   600.5,   5.7170,  34.0837,2,  34.0844,2,     66.1,1,  -999.0,9, -999.00,9, -999.00,9,  -999.0,     601,     5.6658, -999.00,9,     -999.0
325020101120,       PRS2,       2,          4,          6,       8006,2,20101121,       1535,  22.770333,-158.0158333,       4713,  1020.3,   3.8196,  34.4675,2,  34.4669,2,     42.2,1,  -999.0,9, -999.00,9, -999.00,9,  -999.0,    1020,     3.7437, -999.00,9,     -999.0
325020101120,       PRS2,       2,          4,          5,       8005,2,20101121,       1535,  22.770333,-158.0158333,       4713,  1020.4,   3.8197,  34.4677,2,  34.4673,2,     42.2,1,  -999.0,9, -999.00,9, -999.00,9,  -999.0,    1020,     3.7438, -999.00,9,     -999.0
325020101120,       PRS2,       2,          4,          4,       8004,2,20101121,       1535,  22.770333,-158.0158333,       4713,  1020.1,   3.8197,  34.4677,2,  34.4671,2,     42.2,1,  -999.0,9, -999.00,9, -999.00,9,  -999.0,    1021,     3.7438, -999.00,9,     -999.0
325020101120,       PRS2,       2,          4,          3,       8003,2,20101121,       1535,  22.770333,-158.0158333,       4713,  1020.3,   3.8194,  34.4678,2,  34.4669,2,     42.2,1,  -999.0,9, -999.00,9, -999.00,9,  -999.0,    1020,     3.7435, -999.00,9,     -999.0
325020101120,       PRS2,       2,          4,          2,       8002,2,20101121,       1535,  22.770333,-158.0158333,       4713,  1020.6,   3.8193,  34.4678,2,  34.4667,2,     42.2,1,  -999.0,9, -999.00,9, -999.00,9,  -999.0,    1020,     3.7434, -999.00,9,     -999.0
325020101120,       PRS2,       2,          4,          1,       8001,2,20101121,       1535,  22.770333,-158.0158333,       4713,  1020.2,   3.8195,  34.4679,2,  34.4671,2,     42.2,1,  -999.0,9, -999.00,9, -999.00,9,  -999.0,    1021,     3.7436, -999.00,9,     -999.0
325020101120,       PRS2,       2,          5,         24,       8024,2,20101121,       1829,  22.750000,-157.9998333,       4720,     4.5,  24.9480,  35.0806,2,-999.0000,5,    206.5,1,  -999.0,9, -999.00,9, -999.00,9,  -999.0,       5,    24.9470, -999.00,9,     -999.0
325020101120,       PRS2,       2,          5,         23,       8023,2,20101121,       1829,  22.750000,-157.9998333,       4720,     4.5,  24.9479,  35.0806,2,  35.0795,2,    206.4,1,  -999.0,9, -999.00,9, -999.00,9,  -999.0,       4,    24.9469, -999.00,9,     -999.0
325020101120,       PRS2,       2,          5,         22,       8022,2,20101121,       1829,  22.750000,-157.9998333,       4720,    24.9,  25.1064,  35.2147,2,-999.0000,5,    207.1,1,  -999.0,9, -999.00,9, -999.00,9,  -999.0,      25,    25.1009, -999.00,9,     -999.0
325020101120,       PRS2,       2,          5,         21,       8021,2,20101121,       1829,  22.750000,-157.9998333,       4720,    24.9,  25.1065,  35.2156,2,  35.2247,2,    206.9,1,  -999.0,9, -999.00,9, -999.00,9,  -999.0,      25,    25.1011, -999.00,9,     -999.0
325020101120,       PRS2,       2,          5,         20,       8020,2,20101121,       1829,  22.750000,-157.9998333,       4720,    44.3,  25.0817,  35.2423,2,-999.0000,5,    208.6,1,  -999.0,9, -999.00,9, -999.00,9,  -999.0,      45,    25.0721, -999.00,9,     -999.0
325020101120,       PRS2,       2,          5,         19,       8019,2,20101121,       1829,  22.750000,-157.9998333,       4720,    44.3,  25.0821,  35.2421,2,  35.2416,2,    208.7,1,  -999.0,9, -999.00,9, -999.00,9,  -999.0,      45,    25.0725, -999.00,9,     -999.0
325020101120,       PRS2,       2,          5,         18,       8018,2,20101121,       1829,  22.750000,-157.9998333,       4720,    75.3,  25.0623,  35.2408,2,-999.0000,5,    207.1,1,  -999.0,9, -999.00,9, -999.00,9,  -999.0,      75,    25.0460, -999.00,9,     -999.0
325020101120,       PRS2,       2,          5,         17,       8017,2,20101121,       1829,  22.750000,-157.9998333,       4720,    75.3,  25.0628,  35.2405,2,  35.2406,2,    207.0,1,  -999.0,9, -999.00,9, -999.00,9,  -999.0,      75,    25.0464, -999.00,9,     -999.0
325020101120,       PRS2,       2,          5,         16,       8016,2,20101121,       1829,  22.750000,-157.9998333,       4720,   101.6,  24.0076,  35.1898,2,-999.0000,5,    213.0,1,  -999.0,9, -999.00,9, -999.00,9,  -999.0,     102,    23.9861, -999.00,9,     -999.0
325020101120,       PRS2,       2,          5,         15,       8015,2,20101121,       1829,  22.750000,-157.9998333,       4720,   101.5,  24.0054,  35.1904,2,  35.1920,2,    213.0,1,  -999.0,9, -999.00,9, -999.00,9,  -999.0,     102,    23.9840, -999.00,9,     -999.0
325020101120,       PRS2,       2,          5,         14,       8014,2,20101121,       1829,  22.750000,-157.9998333,       4720,   124.8,  22.3996,  35.2537,2,-999.0000,5,    205.4,1,  -999.0,9, -999.00,9, -999.00,9,  -999.0,     124,    22.3746, -999.00,9,     -999.0
325020101120,       PRS2,       2,          5,         13,       8025,2,20101121,       1829,  22.750000,-157.9998333,       4720,   124.8,  22.3958,  35.2539,2,  35.2544,2,    205.6,1,  -999.0,9, -999.00,9, -999.00,9,  -999.0,     124,    22.3708, -999.00,9,     -999.0
325020101120,       PRS2,       2,          5,         12,       8012,2,20101121,       1829,  22.750000,-157.9998333,       4720,   150.9,  21.1912,  35.2751,2,-999.0000,5,    202.7,1,  -999.0,9, -999.00,9, -999.00,9,  -999.0,     152,    21.1621, -999.00,9,     -999.0
325020101120,       PRS2,       2,          5,         11,       8011,2,20101121,       1829,  22.750000,-157.9998333,       4720,   150.9,  21.1935,  35.2750,2,  35.2755,2,    202.4,1,  -999.0,9, -999.00,9, -999.00,9,  -999.0,     151,    21.1644, -999.00,9,     -999.0
325020101120,       PRS2,       2,          5,         10,       8010,2,20101121,       1829,  22.750000,-157.9998333,       4720,   174.5,  20.2093,  35.2638,2,-999.0000,5,    206.7,1,  -999.0,9, -999.00,9, -999.00,9,  -999.0,     174,    20.1767, -999.00,9,     -999.0
325020101120,       PRS2,       2,          5,          9,       8009,2,20101121,       1829,  22.750000,-157.9998333,       4720,   174.4,  20.2093,  35.2638,2,  35.2635,2,    207.2,1,  -999.0,9, -999.00,9, -999.00,9,  -999.0,     174,    20.1768, -999.00,9,     -999.0
325020101120,       PRS2,       2,          5,          8,       8008,2,20101121,       1829,  22.750000,-157.9998333,       4720,   199.9,  19.4389,  35.1698,2,-999.0000,5,    203.6,1,  -999.0,9, -999.00,9, -999.00,9,  -999.0,     199,    19.4026, -999.00,9,     -999.0
325020101120,       PRS2,       2,          5,          7,       8026,2,20101121,       1829,  22.750000,-157.9998333,       4720,   300.6,  14.0912,  34.3962,2,-999.0000,5,    193.0,1,  -999.0,9, -999.00,9, -999.00,9,  -999.0,     301,    14.0477, -999.00,9,     -999.0
325020101120,       PRS2,       2,          5,          6,       8006,2,20101121,       1829,  22.750000,-157.9998333,       4720,   399.9,  10.0785,  34.1219,2,-999.0000,5,    157.3,1,  -999.0,9, -999.00,9, -999.00,9,  -999.0,     400,    10.0319, -999.00,9,     -999.0
325020101120,       PRS2,       2,          5,          5,       8005,2,20101121,       1829,  22.750000,-157.9998333,       4720,   449.9,   8.8797,  34.1169,2,  34.1185,2,    133.3,1,  -999.0,9, -999.00,9, -999.00,9,  -999.0,     450,     8.8311, -999.00,9,     -999.0
325020101120,       PRS2,       2,          5,          4,       8004,2,20101121,       1829,  22.750000,-157.9998333,       4720,   501.8,   7.6757,  34.1054,2,-999.0000,5,    102.6,1,  -999.0,9, -999.00,9, -999.00,9,  -999.0,     502,     7.6258, -999.00,9,     -999.0
325020101120,       PRS2,       2,          5,          3,       8003,2,20101121,       1829,  22.750000,-157.9998333,       4720,   600.9,   5.5582,  34.0720,2,-999.0000,5,     64.4,1,  -999.0,9, -999.00,9, -999.00,9,  -999.0,     600,     5.5077, -999.00,9,     -999.0
325020101120,       PRS2,       2,          5,          2,       8002,2,20101121,       1829,  22.750000,-157.9998333,       4720,   700.6,   4.8277,  34.1812,2,-999.0000,5,     30.5,1,  -999.0,9, -999.00,9, -999.00,9,  -999.0,     701,     4.7721, -999.00,9,     -999.0
325020101120,       PRS2,       2,          5,          1,       8001,2,20101121,       1829,  22.750000,-157.9998333,       4720,  1020.5,   3.7894,  34.4781,2,  34.4795,2,     44.5,1,  -999.0,9, -999.00,9, -999.00,9,  -999.0,    1019,     3.7137, -999.00,9,     -999.0
325020101120,       PRS2,       2,          6,         24,       8024,2,20101121,       2246,  22.745167,-157.9820000,       4717,     5.5,  25.0696,  35.0932,2,  35.0937,2,    207.8,1,  -999.0,9, -999.00,9, -999.00,9,  -999.0,       5,    25.0684, -999.00,9,     -999.0
325020101120,       PRS2,       2,          6,         23,       8023,2,20101121,       2246,  22.745167,-157.9820000,       4717,    25.0,  25.1250,  35.2261,2,  35.2290,2,    208.6,1,  -999.0,9, -999.00,9, -999.00,9,  -999.0,      25,    25.1195, -999.00,9,     -999.0
325020101120,       PRS2,       2,          6,         22,       8022,2,20101121,       2246,  22.745167,-157.9820000,       4717,    25.0,  25.1251,  35.2265,2,-999.0000,5,    208.7,1,  -999.0,9, -999.00,9, -999.00,9,  -999.0,      25,    25.1197, -999.00,9,     -999.0
325020101120,       PRS2,       2,          6,         21,       8021,2,20101121,       2246,  22.745167,-157.9820000,       4717,    25.0,  25.1253,  35.2271,2,-999.0000,5,    208.6,1,  -999.0,9, -999.00,9, -999.00,9,  -999.0,      25,    25.1199, -999.00,9,     -999.0
325020101120,       PRS2,       2,          6,         20,       8020,2,20101121,       2246,  22.745167,-157.9820000,       4717,    24.9,  25.1256,  35.2278,2,-999.0000,5,    208.5,1,  -999.0,9, -999.00,9, -999.00,9,  -999.0,      25,    25.1202, -999.00,9,     -999.0
325020101120,       PRS2,       2,          6,         19,       8019,2,20101121,       2246,  22.745167,-157.9820000,       4717,    25.0,  25.1257,  35.2286,2,-999.0000,5,    208.4,1,  -999.0,9, -999.00,9, -999.00,9,  -999.0,      25,    25.1203, -999.00,9,     -999.0
325020101120,       PRS2,       2,          6,         18,       8018,2,20101121,       2246,  22.745167,-157.9820000,       4717,    25.0,  25.1257,  35.2286,2,-999.0000,5,    208.3,1,  -999.0,9, -999.00,9, -999.00,9,  -999.0,      25,    25.1203, -999.00,9,     -999.0
325020101120,       PRS2,       2,          6,         17,       8017,2,20101121,       2246,  22.745167,-157.9820000,       4717,    44.9,  25.0898,  35.2414,2,-999.0000,5,    207.1,1,  -999.0,9, -999.00,9, -999.00,9,  -999.0,      45,    25.0800, -999.00,9,     -999.0
325020101120,       PRS2,       2,          6,         16,       8016,2,20101121,       2246,  22.745167,-157.9820000,       4717,    44.9,  25.0900,  35.2414,2,-999.0000,5,    206.9,1,  -999.0,9, -999.00,9, -999.00,9,  -999.0,      45,    25.0803, -999.00,9,     -999.0
325020101120,       PRS2,       2,          6,         15,       8015,2,20101121,       2246,  22.745167,-157.9820000,       4717,    44.9,  25.0901,  35.2414,2,-999.0000,5,    206.8,1,  -999.0,9, -999.00,9, -999.00,9,  -999.0,      45,    25.0803, -999.00,9,     -999.0
325020101120,       PRS2,       2,          6,         14,       8014,2,20101121,       2246,  22.745167,-157.9820000,       4717,    45.0,  25.0898,  35.2413,2,-999.0000,5,    206.7,1,  -999.0,9, -999.00,9, -999.00,9,  -999.0,      44,    25.0801, -999.00,9,     -999.0
325020101120,       PRS2,       2,          6,         13,       8025,2,20101121,       2246,  22.745167,-157.9820000,       4717,    44.8,  25.0896,  35.2415,2,-999.0000,5,    206.9,1,  -999.0,9, -999.00,9, -999.00,9,  -999.0,      45,    25.0798, -999.00,9,     -999.0
325020101120,       PRS2,       2,          6,         12,       8012,2,20101121,       2246,  22.745167,-157.9820000,       4717,    44.7,  25.0898,  35.2413,2,  35.2396,2,    207.2,1,  -999.0,9, -999.00,9, -999.00,9,  -999.0,      45,    25.0800, -999.00,9,     -999.0
325020101120,       PRS2,       2,          6,         11,       8011,2,20101121,       2246,  22.745167,-157.9820000,       4717,    60.4,  25.0758,  35.2424,2,  35.2412,2,    207.7,1,  -999.0,9, -999.00,9, -999.00,9,  -999.0,      61,    25.0627, -999.00,9,     -999.0
325020101120,       PRS2,       2,          6,         10,       8010,2,20101121,       2246,  22.745167,-157.9820000,       4717,    74.9,  25.0671,  35.2418,2,  35.2418,2,    207.5,1,  -999.0,9, -999.00,9, -999.00,9,  -999.0,      74,    25.0508, -999.00,9,     -999.0
325020101120,       PRS2,       2,          6,          9,       8009,2,20101121,       2246,  22.745167,-157.9820000,       4717,    86.2,  25.0624,  35.2408,2,  35.2416,2,    207.1,1,  -999.0,9, -999.00,9, -999.00,9,  -999.0,      86,    25.0437, -999.00,9,     -999.0
325020101120,       PRS2,       2,          6,          8,       8008,2,20101121,       2246,  22.745167,-157.9820000,       4717,   100.8,  24.7383,  35.2202,2,  35.2221,2,    206.8,1,  -999.0,9, -999.00,9, -999.00,9,  -999.0,     101,    24.7166, -999.00,9,     -999.0
325020101120,       PRS2,       2,          6,          7,       8026,2,20101121,       2246,  22.745167,-157.9820000,       4717,   124.7,  22.5828,  35.2419,2,  35.2475,2,    207.6,1,  -999.0,9, -999.00,9, -999.00,9,  -999.0,     125,    22.5576, -999.00,9,     -999.0
325020101120,       PRS2,       2,          6,          6,       8006,2,20101121,       2246,  22.745167,-157.9820000,       4717,   149.4,  21.2259,  35.2745,2,  35.2747,2,    202.9,1,  -999.0,9, -999.00,9, -999.00,9,  -999.0,     150,    21.1970, -999.00,9,     -999.0
325020101120,       PRS2,       2,          6,          5,       8005,2,20101121,       2246,  22.745167,-157.9820000,       4717,   174.9,  20.2049,  35.2626,2,  35.2633,2,    204.1,1,  -999.0,9, -999.00,9, -999.00,9,  -999.0,     175,    20.1723, -999.00,9,     -999.0
325020101120,       PRS2,       2,          6,          4,       8004,2,20101121,       2246,  22.745167,-157.9820000,       4717,   248.9,  17.4957,  34.8585,2,  34.8536,2,    209.2,1,  -999.0,9, -999.00,9, -999.00,9,  -999.0,     249,    17.4538, -999.00,9,     -999.0
325020101120,       PRS2,       2,          6,          3,       8003,2,20101121,       2246,  22.745167,-157.9820000,       4717,   350.5,  12.0271,  34.2124,2,  34.2201,2,    182.9,1,  -999.0,9, -999.00,9, -999.00,9,  -999.0,     351,    11.9814, -999.00,9,     -999.0
325020101120,       PRS2,       2,          6,          2,       8002,2,20101121,       2246,  22.745167,-157.9820000,       4717,   499.8,   7.6195,  34.0949,2,  34.0956,2,    105.5,1,  -999.0,9, -999.00,9, -999.00,9,  -999.0,     501,     7.5700, -999.00,9,     -999.0
325020101120,       PRS2,       2,          6,          1,       8001,2,20101121,       2246,  22.745167,-157.9820000,       4717,  1019.5,   3.8503,  34.4645,2,  34.4616,2,     41.2,1,  -999.0,9, -999.00,9, -999.00,9,  -999.0,    1019,     3.7742, -999.00,9,     -999.0